Workbook
Name G10農家数: OFFSET(#REF!,#REF!,0)
Name G10農家数: OFFSET(#REF!,#REF!,0)
Name G21労働力L: OFFSET(#REF!,#REF!,0)
Name G21労働力L: OFFSET(#REF!,#REF!,0)
Name G22労働力R: OFFSET(#REF!,#REF!,0)
Name G22労働力R: OFFSET(#REF!,#REF!,0)
Name G31後継者L: OFFSET(#REF!,#REF!,0)
Name G31後継者L: OFFSET(#REF!,#REF!,0)
Name G32後継者R: OFFSET(#REF!,#REF!,0)
Name G32後継者R: OFFSET(#REF!,#REF!,0)
Name G33後継者L: OFFSET(#REF!,#REF!,0)
Name G33後継者L: OFFSET(#REF!,#REF!,0)
Name G33後継者R: OFFSET(#REF!,#REF!,0)
Name G33後継者R: OFFSET(#REF!,#REF!,0)
Name G50状態別: OFFSET(#REF!,#REF!,0)
Name G50状態別: OFFSET(#REF!,#REF!,0)
Name G61品目別L: OFFSET(#REF!,#REF!,0)
Name G61品目別L: OFFSET(#REF!,#REF!,0)
Name G62品目別R: OFFSET(#REF!,#REF!,0)
Name G62品目別R: OFFSET(#REF!,#REF!,0)
Name あ: #REF!
Name 旧市2010: OFFSET(#REF!,#REF!-1,0,#REF!+1,1)
Name 旧市2010: OFFSET(#REF!,#REF!-1,0,#REF!+1,1)
Name 旧市2015: OFFSET(#REF!,#REF!-1,0,#REF!+1,1)
Name 旧市2015: OFFSET(#REF!,#REF!-1,0,#REF!+1,1)
Name 集落2010: OFFSET(#REF!,#REF!-1,0,#REF!+1,1)
Name 集落2010: OFFSET(#REF!,#REF!-1,0,#REF!+1,1)
Name 集落2015: OFFSET(#REF!,#REF!-1,0,#REF!+1,1)
Name 集落2015: OFFSET(#REF!,#REF!-1,0,#REF!+1,1)

Sheet kadft
B4: 県 名 | F4: 市町村名 | I4: =""&IF(グラフ用!$G$6<>"NO",グラフ用!G8,グラフ用!$G$10)&" " -> 旧市町村名 | T4: 地域類型区分
B5: 群馬県 | T5: =INDEX(地域類型区分!C2:C512,グラフ用!F3) -> 設定 | W5: =INDEX(地域類型区分!D2:D512,グラフ用!F3) -> されていません
U7: 県計 | W7: との比較
B9: 土地の状況 | W9: 単位：㏊
E11: 総土地面積 | H11: 林野面積 | K11: 耕地面積計（農山村地域調査結果） | W11: 耕作放棄地 面積
N12: 田面積 | Q12: 畑面積 | T12: 樹園地面積
B13: 2010年 | E13: =INDEX('2010'!$D$6:$AV$557,グラフ用!$F$3,1) -> 636316 | H13: =INDEX('2010'!$D$6:$AV$557,グラフ用!$F$3,2) -> 405899 | K13: =INDEX('2010'!$D$6:$AV$557,グラフ用!$F$3,3) -> 74704 | N13: =INDEX('2010'!$D$6:$AV$557,グラフ用!$F$3,4) -> 27891 | Q13: =INDEX('2010'!$D$6:$AV$557,グラフ用!$F$3,5) -> 42930 | T13: =INDEX('2010'!$D$6:$AV$557,グラフ用!$F$3,6) -> 3883 | W13: =INDEX('2010'!$D$6:$AV$557,グラフ用!$F$3,7) -> 13901.39
B14: 2015年 | E14: =INDEX('2015'!$D$6:$AV$557,グラフ用!$F$3,1) -> 636228 | H14: =INDEX('2015'!$D$6:$AV$557,グラフ用!$F$3,2) -> 408064 | K14: =INDEX('2015'!$D$6:$AV$557,グラフ用!$F$3,3) -> 72644 | N14: =INDEX('2015'!$D$6:$AV$557,グラフ用!$F$3,4) -> 27245 | Q14: =INDEX('2015'!$D$6:$AV$557,グラフ用!$F$3,5) -> 41800 | T14: =INDEX('2015'!$D$6:$AV$557,グラフ用!$F$3,6) -> 3599 | W14: =INDEX('2015'!$D$6:$AV$557,グラフ用!$F$3,7) -> 14041.75
B15: 比率(%) | F15: － | H15: ※1 | I15: =IFERROR(ROUND(H14/$E$14*100,1),"nc") -> 64.1 | K15: ※1 | L15: =IFERROR(ROUND(K14/$E$14*100,1),"nc") -> 11.4 | N15: ※2 | O15: =IFERROR(ROUND(N14/$K$14*100,1),"nc") -> 37.5 | Q15: ※2 | R15: =IFERROR(ROUND(Q14/$K$14*100,1),"nc") -> 57.5 | T15: ※2 | U15: =IFERROR(ROUND(T14/$K$14*100,1),"nc") -> 5 | W15: ※3 | X15: =IFERROR(ROUND(W14/グラフ用!B12*100,1),"nc") -> 16.2
B16: 県計 比率(%) | F16: － | H16: ※1 | I16: 64.1 | K16: ※1 | L16: 11.4 | N16: ※2 | O16: 37.5 | Q16: ※2 | R16: 57.5 | T16: ※2 | U16: 5 | W16: ※3 | X16: 16.2
B17: ※1 総土地面積に対する比率 ※2 耕地面積計に対する比率 ※3 耕作放棄地率は耕作放棄地面積と耕地面積の和に対する割合
D18: =IF($U$7="県計",[1]グラフ用シート!C13,IF($U$7="前回",[1]グラフ用シート!E13)) -> 林野率及び耕地率 | K18: =IF($U$7="県計",[1]グラフ用シート!C18,IF($U$7="前回",[1]グラフ用シート!E18)) -> 地目別の耕地面積割合 | Q18: （％） | R18: 64.1 | U18: =IF($U$7="県計",[1]グラフ用シート!F23,IF($U$7="前回",[1]グラフ用シート!D23)) -> 耕作放棄地率 | Y18: =IF(kadft!$U$7="県計",グラフ用!$I$18,IF(kadft!$U$7="前回",グラフ用!$I$16)) -> （％） | Z18: =IF([1]練習!$U$7="県計",$I$18,IF([1]練習!$U$7="前回",$I$16)) -> 64.1
P19: 内円 | Q19: =IF($U$7="県計",グラフ用!J15,IF($U$7="前回",グラフ用!G14)) -> 県 計
A20: =IF(kadft!$U$7="県計",グラフ用!$I$18,IF(kadft!$U$7="前回",グラフ用!$I$16)) -> （％） | B20: =IF([1]練習!$U$7="県計",$I$18,IF([1]練習!$U$7="前回",$I$16)) -> 64.1 | P20: 外円 | Q20: =IF($U$7="県計",グラフ用!G13,IF($U$7="前回",グラフ用!G15)) -> 群馬県
B28: 法制上の指定地域面積 | N28: 単位：㏊ | U28: 森林地域 | W28: =E35 -> 1
E30: 森林地域 | G30: 農業地域 | I30: 市街化 区域 | K30: 市街化 調整区域 | M30: 商業関連地域 | O30: 工業関連地域
Q31: 工業関連地域 | X31: 農業地域
B32: 項目別面積 | E32: =INDEX(指定地域!$C$2:$J$557,グラフ用!$F$3,1) -> 439160.19 | G32: =INDEX(指定地域!$C$2:$J$557,グラフ用!$F$3,2) -> 321194.42 | I32: =INDEX(指定地域!$C$2:$J$557,グラフ用!$F$3,3) -> 25279.64 | K32: =INDEX(指定地域!$C$2:$J$557,グラフ用!$F$3,4) -> 69580.64 | M32: =INDEX(指定地域!$C$2:$J$557,グラフ用!$F$3,5) -> 2822.22 | O32: =INDEX(指定地域!$C$2:$J$557,グラフ用!$F$3,6) -> 9063.52 | R32: =O35 -> 1 | X32: =G35 -> 1
B33: 比率(%) | E33: =ROUND(E32/$E$14*100,1) -> 69 | G33: =ROUND(G32/$E$14*100,1) -> 50.5 | I33: =ROUND(I32/$E$14*100,1) -> 4 | K33: =ROUND(K32/$E$14*100,1) -> 10.9 | M33: =ROUND(M32/$E$14*100,1) -> 0.4 | O33: =ROUND(O32/$E$14*100,1) -> 1.4
B34: 県計 比率(%) | E34: 69 | G34: 50.5 | I34: 4 | K34: 10.9 | M34: 0.4 | O34: 1.4
B35: 特化係数 | E35: =E33/E34 -> 1 | G35: =G33/G34 -> 1 | I35: =I33/I34 -> 1 | K35: =K33/K34 -> 1 | M35: =M33/M34 -> 1 | O35: =O33/O34 -> 1 | Q35: 商業関連地域 | X35: 市街化区域
B36: ※ 商業関連地域は、近隣商業地域と商業地域の合計。 工業関連地域は、準工業地域と工業地域及び工業専用地域の合計。 | R36: =M35 -> 1 | X36: =I35 -> 1
B37: ※ 比率は、総土地面積（2015年）に対する比率である。
B38: ※ 特化係数は、比率／県計比率で算出。1.0を超えるほど特化している。 | T38: 市街化調整区域 | W38: =K35 -> 1
B40: 農業生産関連事業経営体数 | T40: 単位：経営体
E42: 農業経営体 数計 | H42: 生産関連事業を実施している実経営体数 | K42: 事業種類別経営体数
K43: 農産物の加工 | N43: 消費者に直接販売 | Q43: 観光農園 | T43: その他
B45: 2010年 | E45: =INDEX('2010'!$D$6:$AV$557,グラフ用!$F$3,8) -> 32567 | H45: =INDEX('2010'!$D$6:$AV$557,グラフ用!$F$3,9) -> 6563 | K45: =INDEX('2010'!$D$6:$AV$557,グラフ用!$F$3,10) -> 610 | N45: =INDEX('2010'!$D$6:$AV$557,グラフ用!$F$3,11) -> 6205 | Q45: =INDEX('2010'!$D$6:$AV$557,グラフ用!$F$3,12) -> 487 | T45: =INDEX('2010'!$D$6:$AV$557,グラフ用!$F$3,13) -> 223
B46: 2015年 | E46: =INDEX('2015'!$D$6:$AV$557,グラフ用!$F$3,8) -> 26235 | H46: =INDEX('2015'!$D$6:$AV$557,グラフ用!$F$3,9) -> 5186 | K46: =INDEX('2015'!$D$6:$AV$557,グラフ用!$F$3,10) -> 502 | N46: =INDEX('2015'!$D$6:$AV$557,グラフ用!$F$3,11) -> 4968 | Q46: =INDEX('2015'!$D$6:$AV$557,グラフ用!$F$3,12) -> 342 | T46: =INDEX('2015'!$D$6:$AV$557,グラフ用!$F$3,13) -> 151
B47: 比率(%) | E47: － | H47: =IFERROR(ROUND(H46/$E$46*100,1),"nc") -> 19.8 | K47: =IFERROR(ROUND(K46/$E$46*100,1),"nc") -> 1.9 | N47: =IFERROR(ROUND(N46/$E$46*100,1),"nc") -> 18.9 | Q47: =IFERROR(ROUND(Q46/$E$46*100,1),"nc") -> 1.3 | T47: =IFERROR(ROUND(T46/$E$46*100,1),"nc") -> 0.6
B48: 県計 比率(%) | E48: － | H48: 19.8 | K48: 1.9 | N48: 18.9 | Q48: 1.3 | T48: 0.6
B49: ※ 比率は、農業経営体数計に対する比率である。 ※ その他は、貸農園・体験農園、農家民宿、農家レストラン等である。
B50: =IF(kadft!$U$7="県計",グラフ用!$I$18,IF(kadft!$U$7="前回",グラフ用!$I$17)) -> （％） | D50: =IF($U$7="県計",グラフ用!$C$45,IF($U$7="前回",グラフ用!$D$45)) -> 事業実施率 | O50: =IF($U$7="県計",グラフ用!$C$51,IF($U$7="前回",グラフ用!$D$51)) -> 事業種類別実施率
Y57: =IF(kadft!$U$7="県計",グラフ用!$I$18,IF(kadft!$U$7="前回",グラフ用!$I$17)) -> （％）
B58: 農業集落の状況 | V58: 単位：集落
E60: 農業集落数計 | G60: 水田率別農業集落数 | M60: 農家率別農業集落数
G61: 水田集落（70％以上） | I61: 田畑集落 （30～70） | K61: 畑地集落 （30％未満） | M61: 10％未満 | O61: 10～30 | Q61: 30～50 | S61: 50～70 | U61: 70～90 | W61: 90％以上
B63: 2010年 | E63: =INDEX('2010'!$D$6:$AV$557,グラフ用!$F$3,14) -> 2018 | G63: =INDEX('2010'!$D$6:$AV$557,グラフ用!$F$3,15) -> 305 | I63: =INDEX('2010'!$D$6:$AV$557,グラフ用!$F$3,16) -> 759 | K63: =INDEX('2010'!$D$6:$AV$557,グラフ用!$F$3,17) -> 954 | M63: =INDEX('2010'!$D$6:$AV$557,グラフ用!$F$3,18) -> 681 | O63: =INDEX('2010'!$D$6:$AV$557,グラフ用!$F$3,19) -> 728 | Q63: =INDEX('2010'!$D$6:$AV$557,グラフ用!$F$3,20) -> 386 | S63: =INDEX('2010'!$D$6:$AV$557,グラフ用!$F$3,21) -> 184 | U63: =INDEX('2010'!$D$6:$AV$557,グラフ用!$F$3,22) -> 34 | W63: =INDEX('2010'!$D$6:$AV$557,グラフ用!$F$3,23) -> 5
B64: 2015年 | E64: =INDEX('2015'!$D$6:$AV$557,グラフ用!$F$3,14) -> 1964 | G64: =INDEX('2015'!$D$6:$AV$557,グラフ用!$F$3,15) -> 313 | I64: =INDEX('2015'!$D$6:$AV$557,グラフ用!$F$3,16) -> 713 | K64: =INDEX('2015'!$D$6:$AV$557,グラフ用!$F$3,17) -> 938 | M64: =INDEX('2015'!$D$6:$AV$557,グラフ用!$F$3,18) -> 709 | O64: =INDEX('2015'!$D$6:$AV$557,グラフ用!$F$3,19) -> 705 | Q64: =INDEX('2015'!$D$6:$AV$557,グラフ用!$F$3,20) -> 380 | S64: =INDEX('2015'!$D$6:$AV$557,グラフ用!$F$3,21) -> 139 | U64: =INDEX('2015'!$D$6:$AV$557,グラフ用!$F$3,22) -> 25 | W64: =INDEX('2015'!$D$6:$AV$557,グラフ用!$F$3,23) -> 6
B65: 構成比(%) | E65: － | G65: =IFERROR(ROUND(G64/$E$64*100,1),"nc") -> 15.9 | I65: =IFERROR(ROUND(I64/$E$64*100,1),"nc") -> 36.3 | K65: =IFERROR(ROUND(K64/$E$64*100,1),"nc") -> 47.8 | M65: =IFERROR(ROUND(M64/$E$64*100,1),"nc") -> 36.1 | O65: =IFERROR(ROUND(O64/$E$64*100,1),"nc") -> 35.9 | Q65: =IFERROR(ROUND(Q64/$E$64*100,1),"nc") -> 19.3 | S65: =IFERROR(ROUND(S64/$E$64*100,1),"nc") -> 7.1 | U65: =IFERROR(ROUND(U64/$E$64*100,1),"nc") -> 1.3 | W65: =IFERROR(ROUND(W64/$E$64*100,1),"nc") -> 0.3
B66: 県計 構成比(%) | E66: － | G66: 15.9 | I66: 36.3 | K66: 47.8 | M66: 36.1 | O66: 35.9 | Q66: 19.3 | S66: 7.1 | U66: 1.3 | W66: 0.3
C67: =IF($U$7="県計",グラフ用!$D$61,IF($U$7="前回",グラフ用!$F$61)) -> 水田率別農業集落数割合 | D67: =IF($T$58="県計",$G$65,IF($T$58="前回",$G$64)) -> FALSE | E67: =IF($T$58="県計",$G$65,IF($T$58="前回",$G$64)) -> FALSE | F67: =IF($T$58="県計",$G$65,IF($T$58="前回",$G$64)) -> FALSE | G67: =IF($T$58="県計",$G$65,IF($T$58="前回",$G$64)) -> FALSE | H67: =IF($T$58="県計",$G$65,IF($T$58="前回",$G$64)) -> FALSE | I67: =IF($T$58="県計",$G$65,IF($T$58="前回",$G$64)) -> FALSE | J67: =IF($T$58="県計",$G$65,IF($T$58="前回",$G$64)) -> FALSE | K67: =IF($T$58="県計",$G$65,IF($T$58="前回",$G$64)) -> FALSE | L67: =IF(kadft!$U$7="県計",グラフ用!$I$18,IF(kadft!$U$7="前回",グラフ用!$J$16)) -> （％） | O67: =IF($U$7="県計",グラフ用!$D$66,IF($U$7="前回",グラフ用!$F$66)) -> 農家率別農業集落数割合 | P67: =IF($T$58="県計",$G$65,IF($T$58="前回",$G$64)) -> FALSE | Q67: =IF($T$58="県計",$G$65,IF($T$58="前回",$G$64)) -> FALSE | R67: =IF($T$58="県計",$G$65,IF($T$58="前回",$G$64)) -> FALSE | S67: =IF($T$58="県計",$G$65,IF($T$58="前回",$G$64)) -> FALSE | T67: =IF($T$58="県計",$G$65,IF($T$58="前回",$G$64)) -> FALSE | U67: =IF($T$58="県計",$G$65,IF($T$58="前回",$G$64)) -> FALSE | V67: =IF($T$58="県計",$G$65,IF($T$58="前回",$G$64)) -> FALSE | W67: =IF($T$58="県計",$G$65,IF($T$58="前回",$G$64)) -> FALSE
L74: =IF(kadft!$U$7="県計",グラフ用!$I$18,IF(kadft!$U$7="前回",グラフ用!$J$16)) -> （％）
B75: 寄り合いの実施状況 | W75: 単位：集落
E77: 農業生産にかかる事項 | H77: 農道・水路・ため池等の管理 | K77: 集落共有財産・施設の管理 | N77: 環境美化・自然環境の保全 | Q77: 農業集落行事の計画・推進 | T77: 農業集落内の福祉・厚生 | W77: 寄り合いを開催しなかった
B79: 2010年 | E79: =INDEX('2010'!$D$6:$AV$557,グラフ用!$F$3,24) -> 1001 | H79: =INDEX('2010'!$D$6:$AV$557,グラフ用!$F$3,25) -> 1286 | K79: =INDEX('2010'!$D$6:$AV$557,グラフ用!$F$3,26) -> 1109 | N79: =INDEX('2010'!$D$6:$AV$557,グラフ用!$F$3,27) -> 1557 | Q79: =INDEX('2010'!$D$6:$AV$557,グラフ用!$F$3,28) -> 1653 | T79: =INDEX('2010'!$D$6:$AV$557,グラフ用!$F$3,29) -> 1007 | W79: =INDEX('2010'!$D$6:$AV$557,グラフ用!$F$3,30) -> 96
B80: 2015年 | E80: =INDEX('2015'!$D$6:$AV$557,グラフ用!$F$3,24) -> 959 | H80: =INDEX('2015'!$D$6:$AV$557,グラフ用!$F$3,25) -> 1482 | K80: =INDEX('2015'!$D$6:$AV$557,グラフ用!$F$3,26) -> 1185 | N80: =INDEX('2015'!$D$6:$AV$557,グラフ用!$F$3,27) -> 1788 | Q80: =INDEX('2015'!$D$6:$AV$557,グラフ用!$F$3,28) -> 1749 | T80: =INDEX('2015'!$D$6:$AV$557,グラフ用!$F$3,29) -> 1394 | W80: =INDEX('2015'!$D$6:$AV$557,グラフ用!$F$3,30) -> 50
B81: 比率(%) | E81: =IFERROR(ROUND(E80/$E$64*100,1),"nc") -> 48.8 | H81: =IFERROR(ROUND(H80/$E$64*100,1),"nc") -> 75.5 | K81: =IFERROR(ROUND(K80/$E$64*100,1),"nc") -> 60.3 | N81: =IFERROR(ROUND(N80/$E$64*100,1),"nc") -> 91 | Q81: =IFERROR(ROUND(Q80/$E$64*100,1),"nc") -> 89.1 | T81: =IFERROR(ROUND(T80/$E$64*100,1),"nc") -> 71 | W81: =IFERROR(ROUND(W80/$E$64*100,1),"nc") -> 2.5
B82: 県計 比率(%) | E82: 48.8 | H82: 75.5 | K82: 60.3 | N82: 91 | Q82: 89.1 | T82: 71 | W82: 2.5
B83: ※ 比率は、「農業集落の状況」の農業集落数計に対する比率。 | L83: =IF($U$7="県計",グラフ用!$D$83,IF($U$7="前回",グラフ用!$F$83)) -> 寄り合いの実施率 | M83: =IF($T$58="県計",$G$65,IF($T$58="前回",$G$64)) -> FALSE | N83: =IF($T$58="県計",$G$65,IF($T$58="前回",$G$64)) -> FALSE | O83: =IF($T$58="県計",$G$65,IF($T$58="前回",$G$64)) -> FALSE | P83: =IF($T$58="県計",$G$65,IF($T$58="前回",$G$64)) -> FALSE | Q83: =IF($T$58="県計",$G$65,IF($T$58="前回",$G$64)) -> FALSE
Y92: =IF(kadft!$U$7="県計",グラフ用!$I$18,IF(kadft!$U$7="前回",グラフ用!$J$16)) -> （％）
B93: 保全管理の実施状況 | V93: 単位：集落
E95: 農地のある集落 | I95: 森林のある集落 | M95: ため池・湖沼のある集落 | Q95: 河川・水路のある集落 | U95: 農業用用排水路のある集落
G96: 農地の保全をしている | K96: 森林の保全をしている | O96: ため池・湖沼の保全をしている | S96: 河川・水路の保全をしている | W96: 農業用用排水路の保全をしている
B98: 2010年 | E98: =INDEX('2010'!$D$6:$AV$557,グラフ用!$F$3,31) -> 1962 | G98: =INDEX('2010'!$D$6:$AV$557,グラフ用!$F$3,32) -> 468 | I98: =INDEX('2010'!$D$6:$AV$557,グラフ用!$F$3,33) -> 1310 | K98: =INDEX('2010'!$D$6:$AV$557,グラフ用!$F$3,34) -> 174 | M98: =INDEX('2010'!$D$6:$AV$557,グラフ用!$F$3,35) -> 494 | O98: =INDEX('2010'!$D$6:$AV$557,グラフ用!$F$3,36) -> 198 | Q98: =INDEX('2010'!$D$6:$AV$557,グラフ用!$F$3,37) -> 1673 | S98: =INDEX('2010'!$D$6:$AV$557,グラフ用!$F$3,38) -> 550 | U98: =INDEX('2010'!$D$6:$AV$557,グラフ用!$F$3,39) -> 1664 | W98: =INDEX('2010'!$D$6:$AV$557,グラフ用!$F$3,40) -> 1303
B99: 2015年 | E99: =INDEX('2015'!$D$6:$AV$557,グラフ用!$F$3,31) -> 1917 | G99: =INDEX('2015'!$D$6:$AV$557,グラフ用!$F$3,32) -> 499 | I99: =INDEX('2015'!$D$6:$AV$557,グラフ用!$F$3,33) -> 1305 | K99: =INDEX('2015'!$D$6:$AV$557,グラフ用!$F$3,34) -> 223 | M99: =INDEX('2015'!$D$6:$AV$557,グラフ用!$F$3,35) -> 508 | O99: =INDEX('2015'!$D$6:$AV$557,グラフ用!$F$3,36) -> 234 | Q99: =INDEX('2015'!$D$6:$AV$557,グラフ用!$F$3,37) -> 1637 | S99: =INDEX('2015'!$D$6:$AV$557,グラフ用!$F$3,38) -> 689 | U99: =INDEX('2015'!$D$6:$AV$557,グラフ用!$F$3,39) -> 1645 | W99: =INDEX('2015'!$D$6:$AV$557,グラフ用!$F$3,40) -> 1309
B100: 比率(%) | G100: =IFERROR(ROUND(G99/$E$99*100,1),"nc") -> 26 | K100: =IFERROR(ROUND(K99/$I$99*100,1),"nc") -> 17.1 | O100: =IFERROR(ROUND(O99/$M$99*100,1),"nc") -> 46.1 | S100: =IFERROR(ROUND(S99/$Q$99*100,1),"nc") -> 42.1 | W100: =IFERROR(ROUND(W99/$U$99*100,1),"nc") -> 79.6
B101: 県計 比率(%) | G101: 26 | K101: 17.1 | O101: 46.1 | S101: 42.1 | W101: 79.6
A102: =IF(kadft!$U$7="県計",グラフ用!$I$18,IF(kadft!$U$7="前回",グラフ用!$J$16)) -> （％） | G102: =IF($U$7="県計",グラフ用!$C$102,IF($U$7="前回",グラフ用!$F$102)) -> 保全管理の実施率

Sheet グラフ用
B3: 県計 | D3: =IFERROR(MATCH(kadft!F5,地域類型区分!B2:B512,0),"1") -> 1 | E3: =IFERROR(MATCH(kadft!J5,地域類型区分!B2:B512,0)," ") | F3: =""&IF(E3<>" ",E3,D3)&"" -> 1
B4: 前回 | D4: 市町村列 | E4: 旧市町村列 | F4: 優先列
G6: =IF(COUNTIF(元データ!AC6:AC50,kadft!J5),"OK","NO") -> OK | H6: 市町村に対し旧市町村の該当有無
G8: 旧市町村名
C10: 林野面積 | D10: 耕地面積 | G10: 旧市町村を再選択して下さい
B12: =kadft!W14+kadft!K14 -> 86685.75 | C12: 林野率 | D12: 耕地率 | G12: =INDEX(地域類型区分!$B$2:$B$557,F3,1) -> 群馬県
C13: 林野率及び耕地率 | E13: 林野面積及び耕地面積 | G13: =G12 -> 群馬県 | H13: 優先表示地域名
D14: =IF(kadft!$U$7="県計",$C$12,IF(kadft!$U$7="前回",$C$10)) -> 林野率 | E14: =IF(kadft!$U$7="県計",$D$12,IF(kadft!$U$7="前回",$D$10)) -> 耕地率 | G14: 2010年
C15: =IF(kadft!$U$7="県計",$J$15,IF(kadft!$U$7="前回",$G$14)) -> 県 計 | D15: =IF(kadft!$U$7="県計",kadft!$I$16,IF(kadft!$U$7="前回",kadft!$H$13)) -> 64.1 | E15: =IF(kadft!$U$7="県計",kadft!$L$16,IF(kadft!$U$7="前回",kadft!$K$13)) -> 11.4 | G15: 2015年 | J15: 県 計
C16: =IF(kadft!$U$7="県計",$G$13,IF(kadft!$U$7="前回",$G$15)) -> 群馬県 | D16: =IF(kadft!$U$7="県計",kadft!$I$15,IF(kadft!$U$7="前回",kadft!$H$14)) -> 64.1 | E16: =IF(kadft!$U$7="県計",kadft!$L$15,IF(kadft!$U$7="前回",kadft!$K$14)) -> 11.4 | I16: (㏊) | J16: （集落）
I17: (経営体)
C18: 地目別の耕地面積割合 | E18: 地目別の耕地面積割合 | I18: （％）
D19: =kadft!N12 -> 田面積 | E19: =kadft!Q12 -> 畑面積 | F19: =kadft!T12 -> 樹園地面積
C20: =IF(kadft!$U$7="県計",$G$13,IF(kadft!$U$7="前回",$G$15)) -> 群馬県 | D20: =IF(kadft!$U$7="県計",kadft!$O$15,IF(kadft!$U$7="前回",ROUND(kadft!$N$14/kadft!K14*100,1))) -> 37.5 | E20: =IF(kadft!$U$7="県計",kadft!$R$15,IF(kadft!$U$7="前回",ROUND(kadft!$Q$14/kadft!K14*100,1))) -> 57.5 | F20: =IF(kadft!$U$7="県計",kadft!$U$15,IF(kadft!$U$7="前回",ROUND(kadft!$T$14/kadft!K14*100,1))) -> 5
C21: =IF(kadft!$U$7="県計",$J$15,IF(kadft!$U$7="前回",$G$14)) -> 県 計 | D21: =IF(kadft!$U$7="県計",kadft!$O$16,IF(kadft!$U$7="前回",ROUND(kadft!$N$13/kadft!K13*100,1))) -> 37.5 | E21: =IF(kadft!$U$7="県計",kadft!$R$16,IF(kadft!$U$7="前回",ROUND(kadft!$Q$13/kadft!K13*100,1))) -> 57.5 | F21: =IF(kadft!$U$7="県計",kadft!$U$16,IF(kadft!$U$7="前回",ROUND(kadft!$T$13/kadft!K13*100,1))) -> 5 | I21: 単位１
D23: 耕作放棄地面積 | F23: 耕作放棄地率
C24: =IF(kadft!$U$7="県計",$J$15,IF(kadft!$U$7="前回",$G$14)) -> 県 計 | D24: =IF(kadft!$U$7="県計",kadft!$X$16,IF(kadft!$U$7="前回",ROUND(kadft!$W$13,0))) -> 16.2
C25: =IF(kadft!$U$7="県計",$G$13,IF(kadft!$U$7="前回",$G$15)) -> 群馬県 | D25: =IF(kadft!$U$7="県計",kadft!$X$15,IF(kadft!$U$7="前回",ROUND(kadft!$W$14,0))) -> 16.2
G26: IF($U$6="県計",BH17,IF($U$6="前回",BJ17))
D31: =kadft!E30 -> 森林地域 | E31: =kadft!G30 -> 農業地域 | F31: 市街化区域 | G31: 市街化調整区域 | H31: 商業関連地域 | I31: 工業関連地域
C32: =G13 -> 群馬県 | D32: =IF(kadft!E$35=0,0.001,kadft!E$35) -> 1 | E32: =IF(kadft!G$35=0,0.001,kadft!G$35) -> 1 | F32: =IF(kadft!I$35=0,0.001,kadft!I$35) -> 1 | G32: =IF(kadft!K$35=0,0.001,kadft!K$35) -> 1 | H32: =IF(kadft!M$35=0,0.001,kadft!M$35) -> 1 | I32: =IF(kadft!O$35=0,0.001,kadft!O$35) -> 1
C33: =J15 -> 県 計 | D33: 1 | E33: 1 | F33: 1 | G33: 1 | H33: 1 | I33: 1
I41: 単位１
I44: =IF(kadft!$U$7="県計",$I$18,IF(kadft!$U$7="前回",$I$17)) -> （％）
C45: 事業実施率 | D45: 事業実施経営体数
C46: 事業有り | D46: 事業無し
B47: =IF(kadft!$U$7="県計",$J$15,IF(kadft!$U$7="前回",$G$14)) -> 県 計 | C47: =IF(kadft!$U$7="県計",kadft!$H$48,IF(kadft!$U$7="前回",kadft!$H$45)) -> 19.8 | D47: =IF(kadft!$U$7="県計",kadft!$H$48,IF(kadft!$U$7="前回",kadft!$H$45)) -> 19.8
B48: =IF(kadft!$U$7="県計",$G$13,IF(kadft!$U$7="前回",$G$15)) -> 群馬県 | C48: =IF(kadft!$U$7="県計",kadft!$H$47,IF(kadft!$U$7="前回",kadft!$H$46)) -> 19.8 | D48: =E45/kadft!E46 -> 0
C51: 事業種類別実施率 | D51: 事業種類別経営体数
C52: =kadft!T43 -> その他 | D52: =kadft!Q43 -> 観光農園 | E52: =kadft!N43 -> 消費者に直接販売 | F52: =kadft!K43 -> 農産物の加工
B53: =IF(kadft!$U$7="県計",$J$15,IF(kadft!$U$7="前回",$G$14)) -> 県 計 | C53: =IF(kadft!$U$7="県計",kadft!$T$48,IF(kadft!$U$7="前回",kadft!$T$45)) -> 0.6 | D53: =IF(kadft!$U$7="県計",kadft!$Q$48,IF(kadft!$U$7="前回",kadft!$Q$45)) -> 1.3 | E53: =IF(kadft!$U$7="県計",kadft!$N$48,IF(kadft!$U$7="前回",kadft!$N$45)) -> 18.9 | F53: =IF(kadft!$U$7="県計",kadft!$K$48,IF(kadft!$U$7="前回",kadft!$K$45)) -> 1.9
B54: =IF(kadft!$U$7="県計",$G$13,IF(kadft!$U$7="前回",$G$15)) -> 群馬県 | C54: =IF(kadft!$U$7="県計",kadft!$T$47,IF(kadft!$U$7="前回",kadft!$T$46)) -> 0.6 | D54: =IF(kadft!$U$7="県計",kadft!$Q$47,IF(kadft!$U$7="前回",kadft!$Q$46)) -> 1.3 | E54: =IF(kadft!$U$7="県計",kadft!$N$47,IF(kadft!$U$7="前回",kadft!$N$46)) -> 18.9 | F54: =IF(kadft!$U$7="県計",kadft!$K$47,IF(kadft!$U$7="前回",kadft!$K$46)) -> 1.9
D61: 水田率別農業集落数割合 | F61: 水田率別農業集落数
D62: 水田集落 | E62: 田畑集落 | F62: 畑地集落
C63: =IF(kadft!$U$7="県計",$G$13,IF(kadft!$U$7="前回",$G$15)) -> 群馬県 | D63: =IF(kadft!$U$7="県計",kadft!$G$65,IF(kadft!$U$7="前回",kadft!$G$64)) -> 15.9 | E63: =IF(kadft!$U$7="県計",kadft!$I$65,IF(kadft!$U$7="前回",kadft!$I$64)) -> 36.3 | F63: =IF(kadft!$U$7="県計",kadft!$K$65,IF(kadft!$U$7="前回",kadft!$K$64)) -> 47.8
C64: =IF(kadft!$U$7="県計",$J$15,IF(kadft!$U$7="前回",$G$14)) -> 県 計 | D64: =IF(kadft!$U$7="県計",kadft!$G$66,IF(kadft!$U$7="前回",kadft!$G$63)) -> 15.9 | E64: =IF(kadft!$U$7="県計",kadft!$I$66,IF(kadft!$U$7="前回",kadft!$I$63)) -> 36.3 | F64: =IF(kadft!$U$7="県計",kadft!$K$66,IF(kadft!$U$7="前回",kadft!$K$63)) -> 47.8
D66: 農家率別農業集落数割合 | F66: 農家率別農業集落数
D67: １０%未満 | E67: 10～30 | F67: 30～50 | G67: 50～70 | H67: 70～90 | I67: 90%以上
C68: =IF(kadft!$U$7="県計",$J$15,IF(kadft!$U$7="前回",$G$14)) -> 県 計 | D68: =IF(kadft!$U$7="県計",kadft!$M$66,IF(kadft!$U$7="前回",kadft!$M$63)) -> 36.1 | E68: =IF(kadft!$U$7="県計",kadft!$O$66,IF(kadft!$U$7="前回",kadft!$O$63)) -> 35.9 | F68: =IF(kadft!$U$7="県計",kadft!$Q$66,IF(kadft!$U$7="前回",kadft!$Q$63)) -> 19.3 | G68: =IF(kadft!$U$7="県計",kadft!$S$66,IF(kadft!$U$7="前回",kadft!$S$63)) -> 7.1 | H68: =IF(kadft!$U$7="県計",kadft!$U$66,IF(kadft!$U$7="前回",kadft!$U$63)) -> 1.3 | I68: =IF(kadft!$U$7="県計",kadft!$W$66,IF(kadft!$U$7="前回",kadft!$W$63)) -> 0.3
C69: =IF(kadft!$U$7="県計",$G$13,IF(kadft!$U$7="前回",$G$15)) -> 群馬県 | D69: =IF(kadft!$U$7="県計",kadft!$M$65,IF(kadft!$U$7="前回",kadft!$M$64)) -> 36.1 | E69: =IF(kadft!$U$7="県計",kadft!$O$65,IF(kadft!$U$7="前回",kadft!$O$64)) -> 35.9 | F69: =IF(kadft!$U$7="県計",kadft!$Q$65,IF(kadft!$U$7="前回",kadft!$Q$64)) -> 19.3 | G69: =IF(kadft!$U$7="県計",kadft!$S$65,IF(kadft!$U$7="前回",kadft!$S$64)) -> 7.1 | H69: =IF(kadft!$U$7="県計",kadft!$U$65,IF(kadft!$U$7="前回",kadft!$U$64)) -> 1.3 | I69: =IF(kadft!$U$7="県計",kadft!$W$65,IF(kadft!$U$7="前回",kadft!$W$64)) -> 0.3
J71: 単位１
J72: =IF(kadft!$U$7="県計",$I$18,IF(kadft!$U$7="前回",$J$16)) -> （％）
D83: 寄り合いの実施率 | F83: 寄り合いの実施状況
B85: =kadft!W77 -> 寄り合いを開催しなかった | C85: =kadft!T77 -> 農業集落内の福祉・厚生 | D85: =kadft!Q77 -> 農業集落行事の計画・推進 | E85: =kadft!N77 -> 環境美化・自然環境の保全 | F85: =kadft!K77 -> 集落共有財産・施設の管理 | G85: =kadft!H77 -> 農道・水路・ため池等の管理 | H85: =kadft!E77 -> 農業生産にかかる事項
A86: =IF(kadft!$U$7="県計",$J$15,IF(kadft!$U$7="前回",$G$14)) -> 県 計 | B86: =IF(kadft!$U$7="県計",kadft!$W$82,IF(kadft!$U$7="前回",kadft!$W$79)) -> 2.5 | C86: =IF(kadft!$U$7="県計",kadft!$T$82,IF(kadft!$U$7="前回",kadft!$T$79)) -> 71 | D86: =IF(kadft!$U$7="県計",kadft!$Q$82,IF(kadft!$U$7="前回",kadft!$Q$79)) -> 89.1 | E86: =IF(kadft!$U$7="県計",kadft!$N$82,IF(kadft!$U$7="前回",kadft!$N$79)) -> 91 | F86: =IF(kadft!$U$7="県計",kadft!$K$82,IF(kadft!$U$7="前回",kadft!$K$79)) -> 60.3 | G86: =IF(kadft!$U$7="県計",kadft!$H$82,IF(kadft!$U$7="前回",kadft!$H$79)) -> 75.5 | H86: =IF(kadft!$U$7="県計",kadft!$E$82,IF(kadft!$U$7="前回",kadft!$E$79)) -> 48.8
A87: =IF(kadft!$U$7="県計",$G$13,IF(kadft!$U$7="前回",$G$15)) -> 群馬県 | B87: =IF(kadft!$U$7="県計",kadft!$W$81,IF(kadft!$U$7="前回",kadft!$W$80)) -> 2.5 | C87: =IF(kadft!$U$7="県計",kadft!$T$81,IF(kadft!$U$7="前回",kadft!$T$80)) -> 71 | D87: =IF(kadft!$U$7="県計",kadft!$Q$81,IF(kadft!$U$7="前回",kadft!$Q$80)) -> 89.1 | E87: =IF(kadft!$U$7="県計",kadft!$N$81,IF(kadft!$U$7="前回",kadft!$N$80)) -> 91 | F87: =IF(kadft!$U$7="県計",kadft!$K$81,IF(kadft!$U$7="前回",kadft!$K$80)) -> 60.3 | G87: =IF(kadft!$U$7="県計",kadft!$H$81,IF(kadft!$U$7="前回",kadft!$H$80)) -> 75.5 | H87: =IF(kadft!$U$7="県計",kadft!$E$81,IF(kadft!$U$7="前回",kadft!$E$80)) -> 48.8
C102: 保全管理の実施率 | F102: 保全管理の実施状況
C103: 農地の保全 | D103: 森林の保全 | E103: ため池・湖沼の保全 | F103: 河川・水路の保全 | G103: 農業用用排水路の保全
B104: =IF(kadft!$U$7="県計",$J$15,IF(kadft!$U$7="前回",$G$14)) -> 県 計 | C104: =IF(kadft!$U$7="県計",kadft!$G$101,IF(kadft!$U$7="前回",kadft!$G$98)) -> 26 | D104: =IF(kadft!$U$7="県計",kadft!$K$101,IF(kadft!$U$7="前回",kadft!$K$98)) -> 17.1 | E104: =IF(kadft!$U$7="県計",kadft!$O$101,IF(kadft!$U$7="前回",kadft!$O$98)) -> 46.1 | F104: =IF(kadft!$U$7="県計",kadft!$S$101,IF(kadft!$U$7="前回",kadft!$S$98)) -> 42.1 | G104: =IF(kadft!$U$7="県計",kadft!$W$101,IF(kadft!$U$7="前回",kadft!$W$98)) -> 79.6
B105: =IF(kadft!$U$7="県計",$G$13,IF(kadft!$U$7="前回",$G$15)) -> 群馬県 | C105: =IF(kadft!$U$7="県計",kadft!$G$100,IF(kadft!$U$7="前回",kadft!$G$99)) -> 26 | D105: =IF(kadft!$U$7="県計",kadft!$K$100,IF(kadft!$U$7="前回",kadft!$K$99)) -> 17.1 | E105: =IF(kadft!$U$7="県計",kadft!$O$100,IF(kadft!$U$7="前回",kadft!$O$99)) -> 46.1 | F105: =IF(kadft!$U$7="県計",kadft!$S$100,IF(kadft!$U$7="前回",kadft!$S$99)) -> 42.1 | G105: =IF(kadft!$U$7="県計",kadft!$W$100,IF(kadft!$U$7="前回",kadft!$W$99)) -> 79.6

Sheet 2010
A1: 農山村地域調査
A2: １ 総土地面積及び林野面積
D3: 1 | E3: 2 | F3: 3 | G3: 4 | H3: 5 | I3: 6 | J3: 7 | K3: 8 | L3: 9 | M3: 10 | N3: 11 | O3: 12 | P3: 13 | Q3: 14 | R3: 15 | S3: 16 | T3: 17 | U3: 18 | V3: 19 | W3: 20 | X3: 21 | Y3: 22 | Z3: 23 | AA3: 24 | AB3: 25 | AC3: 26 | AD3: 27 | AE3: 28 | AF3: 29 | AG3: 30 | AH3: 31 | AI3: 32 | AJ3: 33 | AK3: 34 | AL3: 35 | AM3: 36 | AN3: 37 | AO3: 38 | AP3: 39 | AQ3: 40 | AR3: 41 | AS3: 42 | AT3: 43 | AU3: 44 | AV3: 45
D4: 総土地面積 | F4: 耕地面積 | K4: 生産関連 | Q4: 水田率 | U4: 農家率 | AA4: 寄り合いの議題_農業生産にかかる事項 | AH4: 保全管理
A5: 新旧市区町村 | D5: 総土地 面 積 | E5: 林野面積 | F5: 耕地面積 | G5: 田面積 | H5: 畑面積 | I5: 樹園地面積 | J5: 耕作 放棄地 面積 | K5: 計 | L5: 農業生産関連事業を行っている実経営体数 | M5: 事業種類別_農産物の加工 | N5: 事業種類別_消費者に直接販売 | O5: 事業種類別_観光農園 | P5: その他 | Q5: 計 | R5: 水田集落 （70％以上） | S5: 田畑集落 （30～70） | T5: 畑地集落 （30％未満） | U5: 10％未満 | V5: 10～30 | W5: 30～50 | X5: 50～70 | Y5: 70～90 | Z5: 90％以上 | AA5: 寄り合いの議題_農業生産にかかる事項 | AB5: 寄り合いの議題_農道・農業用用排水路・ため池の管理 | AC5: 寄り合いの議題_集落共有財産・共用施設の管理 | AD5: 寄り合いの議題_環境美化・自然環境の保全 | AE5: 寄り合いの議題_農業集落行事（祭り・イベント等）の計画・推進 | AF5: 寄り合いの議題_農業集落内の福祉・厚生 | AG5: 寄り合いを開催しなかった | AH5: 農地_ある | AI5: 農地_保全している | AJ5: 森林_ある | AK5: 森林_保全している | AL5: ため池・湖沼_ある | AM5: ため池・湖沼_保全している | AN5: 河川・水路_ある | AO5: 河川・水路_保全している | AP5: 農業用用排水路_ある | AQ5: 農業用用排水路_保全している
A6: 1 | B6: 県計 | C6: 群馬県 | D6: 636316 | E6: 405899 | F6: 74704 | G6: 27891 | H6: 42930 | I6: 3883 | J6: 13901.39 | K6: 32567 | L6: 6563 | M6: 610 | N6: 6205 | O6: 487 | P6: 223 | Q6: 2018 | R6: 305 | S6: 759 | T6: 954 | U6: 681 | V6: 728 | W6: 386 | X6: 184 | Y6: 34 | Z6: 5 | AA6: 1001 | AB6: 1286 | AC6: 1109 | AD6: 1557 | AE6: 1653 | AF6: 1007 | AG6: 96 | AH6: 1962 | AI6: 468 | AJ6: 1310 | AK6: 174 | AL6: 494 | AM6: 198 | AN6: 1673 | AO6: 550 | AP6: 1664 | AQ6: 1303
A7: 2 | B7: 前橋市 | C7: 前橋市 | D7: 31164 | E7: 7527 | F7: 9159 | G7: 3925 | H7: 4913 | I7: 321 | J7: 1210.56 | K7: 4936 | L7: 815 | M7: 48 | N7: 777 | O7: 10 | P7: 21 | Q7: 162 | R7: 21 | S7: 96 | T7: 45 | U7: 61 | V7: 79 | W7: 20 | X7: 2 | Y7: - | Z7: - | AA7: 125 | AB7: 121 | AC7: 112 | AD7: 133 | AE7: 139 | AF7: 121 | AG7: 4 | AH7: 158 | AI7: 83 | AJ7: 63 | AK7: 14 | AL7: 53 | AM7: 39 | AN7: 157 | AO7: 72 | AP7: 153 | AQ7: 118
A8: 3 | C8: 前橋市（旧） | D8: 1209 | E8: - | F8: 2 | G8: 0 | H8: 2 | I8: 0 | J8: x | K8: 39 | L8: 4 | M8: - | N8: 4 | O8: - | P8: - | Q8: 4 | R8: - | S8: - | T8: 4 | U8: 4 | V8: - | W8: - | X8: - | Y8: - | Z8: - | AA8: 0 | AB8: 0 | AC8: 0 | AD8: 0 | AE8: 0 | AF8: 0 | AG8: 2 | AH8: 3 | AI8: 0 | AJ8: 0 | AK8: 0 | AL8: 0 | AM8: 0 | AN8: 4 | AO8: 0 | AP8: 0 | AQ8: 0
A9: 4 | C9: 上川渕村 | D9: 803 | E9: - | F9: 388 | G9: 286 | H9: 101 | I9: 1 | J9: 13.83 | K9: 222 | L9: 34 | M9: 4 | N9: 31 | O9: - | P9: 2 | Q9: 7 | R9: 5 | S9: 2 | T9: - | U9: 2 | V9: 4 | W9: 1 | X9: - | Y9: - | Z9: - | AA9: 7 | AB9: 7 | AC9: 7 | AD9: 7 | AE9: 7 | AF9: 7 | AG9: 0 | AH9: 7 | AI9: 7 | AJ9: 1 | AK9: 0 | AL9: 0 | AM9: 0 | AN9: 7 | AO9: 2 | AP9: 7 | AQ9: 7
A10: 5 | C10: 下川渕村 | D10: 915 | E10: 3 | F10: 419 | G10: 278 | H10: 136 | I10: 5 | J10: 19.88 | K10: 192 | L10: 36 | M10: - | N10: 35 | O10: - | P10: 2 | Q10: 12 | R10: 3 | S10: 9 | T10: - | U10: 4 | V10: 6 | W10: 2 | X10: - | Y10: - | Z10: - | AA10: 12 | AB10: 11 | AC10: 7 | AD10: 12 | AE10: 12 | AF10: 6 | AG10: 0 | AH10: 12 | AI10: 11 | AJ10: 0 | AK10: 0 | AL10: 0 | AM10: 0 | AN10: 10 | AO10: 4 | AP10: 12 | AQ10: 12
A11: 6 | C11: 南橘村 | D11: 1559 | E11: 21 | F11: 230 | G11: 69 | H11: 149 | I11: 12 | J11: 65.47 | K11: 167 | L11: 33 | M11: - | N11: 32 | O11: - | P11: 2 | Q11: 7 | R11: 1 | S11: 4 | T11: 2 | U11: 5 | V11: 2 | W11: - | X11: - | Y11: - | Z11: - | AA11: 7 | AB11: 7 | AC11: 7 | AD11: 7 | AE11: 7 | AF11: 7 | AG11: 0 | AH11: 7 | AI11: 7 | AJ11: 2 | AK11: 0 | AL11: 1 | AM11: 1 | AN11: 7 | AO11: 7 | AP11: 7 | AQ11: 7
A12: 7 | C12: 芳賀村 | D12: 1621 | E12: 184 | F12: 632 | G12: 185 | H12: 402 | I12: 45 | J12: 137.21 | K12: 350 | L12: 51 | M12: 4 | N12: 48 | O12: 2 | P12: - | Q12: 9 | R12: 1 | S12: 4 | T12: 4 | U12: 1 | V12: 6 | W12: 2 | X12: - | Y12: - | Z12: - | AA12: 7 | AB12: 9 | AC12: 9 | AD12: 9 | AE12: 9 | AF12: 9 | AG12: 0 | AH12: 9 | AI12: 4 | AJ12: 6 | AK12: 1 | AL12: 7 | AM12: 6 | AN12: 9 | AO12: 4 | AP12: 9 | AQ12: 7
A13: 8 | C13: 桂萓村 | D13: 1668 | E13: 20 | F13: 579 | G13: 297 | H13: 272 | I13: 10 | J13: 50.88 | K13: 403 | L13: 29 | M13: - | N13: 28 | O13: 1 | P13: 1 | Q13: 13 | R13: 2 | S13: 10 | T13: 1 | U13: 9 | V13: 4 | W13: - | X13: - | Y13: - | Z13: - | AA13: 13 | AB13: 12 | AC13: 12 | AD13: 11 | AE13: 13 | AF13: 11 | AG13: 0 | AH13: 13 | AI13: 12 | AJ13: 3 | AK13: 0 | AL13: 4 | AM13: 3 | AN13: 13 | AO13: 5 | AP13: 13 | AQ13: 13
A14: 9 | C14: 東村（前橋市） | D14: 623 | E14: - | F14: 51 | G14: 34 | H14: 17 | I14: 0 | J14: 22.95 | K14: 70 | L14: 23 | M14: 1 | N14: 23 | O14: - | P14: - | Q14: 4 | R14: 1 | S14: 3 | T14: - | U14: 4 | V14: - | W14: - | X14: - | Y14: - | Z14: - | AA14: 2 | AB14: 3 | AC14: 0 | AD14: 2 | AE14: 4 | AF14: 4 | AG14: 0 | AH14: 4 | AI14: 0 | AJ14: 0 | AK14: 0 | AL14: 0 | AM14: 0 | AN14: 4 | AO14: 1 | AP14: 4 | AQ14: 2
A15: 10 | C15: 元総社村 | D15: 548 | E15: - | F15: 26 | G15: 0 | H15: 26 | I15: 0 | J15: 30.56 | K15: 17 | L15: 1 | M15: - | N15: 1 | O15: - | P15: - | Q15: 5 | R15: - | S15: - | T15: 5 | U15: 5 | V15: - | W15: - | X15: - | Y15: - | Z15: - | AA15: 0 | AB15: 0 | AC15: 0 | AD15: 0 | AE15: 0 | AF15: 0 | AG15: 2 | AH15: 4 | AI15: 0 | AJ15: 0 | AK15: 0 | AL15: 0 | AM15: 0 | AN15: 5 | AO15: 0 | AP15: 5 | AQ15: 0
A16: 11 | C16: 総社町 | D16: 638 | E16: - | F16: 85 | G16: 14 | H16: 68 | I16: 3 | J16: 28.2 | K16: 31 | L16: 2 | M16: - | N16: 2 | O16: - | P16: - | Q16: 6 | R16: - | S16: 1 | T16: 5 | U16: 6 | V16: - | W16: - | X16: - | Y16: - | Z16: - | AA16: 1 | AB16: 0 | AC16: 0 | AD16: 0 | AE16: 0 | AF16: 0 | AG16: 0 | AH16: 5 | AI16: 0 | AJ16: 0 | AK16: 0 | AL16: 0 | AM16: 0 | AN16: 6 | AO16: 0 | AP16: 6 | AQ16: 0
A17: 12 | C17: 清里村 | D17: 391 | E17: - | F17: 213 | G17: 54 | H17: 151 | I17: 8 | J17: 42.66 | K17: 120 | L17: 17 | M17: 2 | N17: 15 | O17: - | P17: - | Q17: 5 | R17: - | S17: 2 | T17: 3 | U17: 2 | V17: 3 | W17: - | X17: - | Y17: - | Z17: - | AA17: 5 | AB17: 1 | AC17: 3 | AD17: 3 | AE17: 5 | AF17: 4 | AG17: 0 | AH17: 5 | AI17: 0 | AJ17: 0 | AK17: 0 | AL17: 0 | AM17: 0 | AN17: 5 | AO17: 0 | AP17: 2 | AQ17: 0
A18: 13 | C18: 新高尾村２－２ | D18: 77 | E18: - | F18: 1 | G18: 0 | H18: 1 | I18: 0 | J18: x | K18: - | L18: - | M18: - | N18: - | O18: - | P18: - | Q18: 1 | R18: - | S18: - | T18: 1 | U18: 1 | V18: - | W18: - | X18: - | Y18: - | Z18: - | AA18: 0 | AB18: 0 | AC18: 0 | AD18: 0 | AE18: 0 | AF18: 0 | AG18: 0 | AH18: 1 | AI18: 0 | AJ18: 0 | AK18: 0 | AL18: 0 | AM18: 0 | AN18: 1 | AO18: 0 | AP18: 1 | AQ18: 0
A19: 14 | C19: 木瀬村 | D19: 1728 | E19: - | F19: 676 | G19: 392 | H19: 230 | I19: 54 | J19: 48.39 | K19: 407 | L19: 98 | M19: 4 | N19: 94 | O19: 2 | P19: 1 | Q19: 13 | R19: 4 | S19: 8 | T19: 1 | U19: 4 | V19: 9 | W19: - | X19: - | Y19: - | Z19: - | AA19: 13 | AB19: 12 | AC19: 11 | AD19: 12 | AE19: 13 | AF19: 10 | AG19: 0 | AH19: 13 | AI19: 12 | AJ19: 0 | AK19: 0 | AL19: 0 | AM19: 0 | AN19: 13 | AO19: 7 | AP19: 13 | AQ19: 12
A20: 15 | C20: 上陽村２－２ | D20: 491 | E20: - | F20: 227 | G20: 156 | H20: 71 | I20: 0 | J20: 5.44 | K20: 59 | L20: 6 | M20: - | N20: 5 | O20: - | P20: 1 | Q20: 6 | R20: 2 | S20: 4 | T20: - | U20: 4 | V20: 2 | W20: - | X20: - | Y20: - | Z20: - | AA20: 6 | AB20: 5 | AC20: 1 | AD20: 6 | AE20: 6 | AF20: 5 | AG20: 0 | AH20: 6 | AI20: 1 | AJ20: 0 | AK20: 0 | AL20: 0 | AM20: 0 | AN20: 5 | AO20: 1 | AP20: 6 | AQ20: 5
A21: 16 | C21: 荒砥村 | D21: 2483 | E21: 26 | F21: 1193 | G21: 557 | H21: 601 | I21: 35 | J21: 123.95 | K21: 702 | L21: 83 | M21: 8 | N21: 78 | O21: 1 | P21: 1 | Q21: 11 | R21: - | S21: 11 | T21: - | U21: 1 | V21: 8 | W21: 2 | X21: - | Y21: - | Z21: - | AA21: 11 | AB21: 10 | AC21: 10 | AD21: 10 | AE21: 11 | AF21: 10 | AG21: 0 | AH21: 11 | AI21: 5 | AJ21: 7 | AK21: 3 | AL21: 10 | AM21: 5 | AN21: 11 | AO21: 7 | AP21: 11 | AQ21: 7
A22: 17 | C22: 大胡町 | D22: 1977 | E22: 175 | F22: 830 | G22: 257 | H22: 541 | I22: 32 | J22: 147.3 | K22: 349 | L22: 80 | M22: 5 | N22: 78 | O22: 2 | P22: - | Q22: 11 | R22: 1 | S22: 4 | T22: 6 | U22: 5 | V22: 6 | W22: - | X22: - | Y22: - | Z22: - | AA22: 10 | AB22: 8 | AC22: 8 | AD22: 10 | AE22: 10 | AF22: 10 | AG22: 0 | AH22: 11 | AI22: 3 | AJ22: 8 | AK22: 2 | AL22: 7 | AM22: 4 | AN22: 9 | AO22: 4 | AP22: 11 | AQ22: 9
A23: 18 | C23: 宮城村 | D23: 4797 | E23: 2578 | F23: 1077 | G23: 456 | H23: 545 | I23: 76 | J23: 140.37 | K23: 545 | L23: 117 | M23: 5 | N23: 113 | O23: 1 | P23: 4 | Q23: 7 | R23: 1 | S23: 6 | T23: - | U23: - | V23: 3 | W23: 4 | X23: - | Y23: - | Z23: - | AA23: 7 | AB23: 5 | AC23: 5 | AD23: 7 | AE23: 6 | AF23: 6 | AG23: 0 | AH23: 7 | AI23: 2 | AJ23: 6 | AK23: 4 | AL23: 6 | AM23: 5 | AN23: 7 | AO23: 6 | AP23: 6 | AQ23: 6
A24: 19 | C24: 粕川村 | D24: 2592 | E24: 629 | F24: 1026 | G24: 422 | H24: 578 | I24: 26 | J24: 123.14 | K24: 487 | L24: 101 | M24: 5 | N24: 98 | O24: - | P24: 3 | Q24: 11 | R24: - | S24: 9 | T24: 2 | U24: - | V24: 7 | W24: 4 | X24: - | Y24: - | Z24: - | AA24: 11 | AB24: 9 | AC24: 8 | AD24: 10 | AE24: 8 | AF24: 6 | AG24: 0 | AH24: 11 | AI24: 2 | AJ24: 9 | AK24: 2 | AL24: 9 | AM24: 7 | AN24: 11 | AO24: 8 | AP24: 11 | AQ24: 8
A25: 20 | C25: 富士見村 | D25: 7044 | E25: 3891 | F25: 1504 | G25: 468 | H25: 1022 | I25: 14 | J25: 202.25 | K25: 776 | L25: 100 | M25: 10 | N25: 92 | O25: 1 | P25: 4 | Q25: 30 | R25: - | S25: 19 | T25: 11 | U25: 4 | V25: 19 | W25: 5 | X25: 2 | Y25: - | Z25: - | AA25: 13 | AB25: 22 | AC25: 24 | AD25: 27 | AE25: 28 | AF25: 26 | AG25: 0 | AH25: 29 | AI25: 17 | AJ25: 21 | AK25: 2 | AL25: 9 | AM25: 8 | AN25: 30 | AO25: 16 | AP25: 29 | AQ25: 23
A26: 21 | B26: 高崎市 | C26: 高崎市 | D26: 45941 | E26: 21188 | F26: 7072 | G26: 3080 | H26: 2879 | I26: 1113 | J26: 1624.89 | K26: 4625 | L26: 958 | M26: 104 | N26: 894 | O26: 41 | P26: 12 | Q26: 227 | R26: 48 | S26: 102 | T26: 77 | U26: 83 | V26: 78 | W26: 33 | X26: 26 | Y26: 6 | Z26: 1 | AA26: 118 | AB26: 148 | AC26: 82 | AD26: 167 | AE26: 146 | AF26: 98 | AG26: 19 | AH26: 221 | AI26: 66 | AJ26: 127 | AK26: 26 | AL26: 44 | AM26: 23 | AN26: 152 | AO26: 55 | AP26: 212 | AQ26: 176
A27: 22 | C27: 高崎市（旧） | D27: 3611 | E27: 626 | F27: 168 | G27: 103 | H27: 62 | I27: 3 | J27: 123.36 | K27: 161 | L27: 27 | M27: - | N27: 26 | O27: - | P27: 1 | Q27: 6 | R27: 2 | S27: 2 | T27: 2 | U27: 6 | V27: - | W27: - | X27: - | Y27: - | Z27: - | AA27: 4 | AB27: 3 | AC27: 1 | AD27: 2 | AE27: 3 | AF27: 3 | AG27: 2 | AH27: 6 | AI27: 2 | AJ27: 3 | AK27: 0 | AL27: 0 | AM27: 0 | AN27: 2 | AO27: 2 | AP27: 6 | AQ27: 4
A28: 23 | C28: 六郷村 | D28: 644 | E28: - | F28: 121 | G28: 97 | H28: 22 | I28: 2 | J28: 20.7 | K28: 104 | L28: 12 | M28: 3 | N28: 11 | O28: - | P28: - | Q28: 4 | R28: 3 | S28: 1 | T28: - | U28: 3 | V28: 1 | W28: - | X28: - | Y28: - | Z28: - | AA28: 1 | AB28: 4 | AC28: 1 | AD28: 4 | AE28: 4 | AF28: 4 | AG28: 0 | AH28: 4 | AI28: 0 | AJ28: 0 | AK28: 0 | AL28: 1 | AM28: 1 | AN28: 1 | AO28: 0 | AP28: 4 | AQ28: 4
A29: 24 | C29: 新高尾村２－１ | D29: 499 | E29: - | F29: 140 | G29: 102 | H29: 35 | I29: 3 | J29: 16.74 | K29: 150 | L29: 24 | M29: 1 | N29: 23 | O29: - | P29: - | Q29: 4 | R29: 3 | S29: 1 | T29: - | U29: 3 | V29: 1 | W29: - | X29: - | Y29: - | Z29: - | AA29: 2 | AB29: 4 | AC29: 1 | AD29: 4 | AE29: 4 | AF29: 4 | AG29: 0 | AH29: 4 | AI29: 0 | AJ29: 0 | AK29: 0 | AL29: 0 | AM29: 0 | AN29: 2 | AO29: 0 | AP29: 4 | AQ29: 4
A30: 25 | C30: 中川村 | D30: 591 | E30: - | F30: 109 | G30: 76 | H30: 32 | I30: 1 | J30: 14.1 | K30: 126 | L30: 17 | M30: - | N30: 17 | O30: - | P30: - | Q30: 4 | R30: 2 | S30: 2 | T30: - | U30: 3 | V30: 1 | W30: - | X30: - | Y30: - | Z30: - | AA30: 2 | AB30: 4 | AC30: 1 | AD30: 4 | AE30: 4 | AF30: 4 | AG30: 0 | AH30: 4 | AI30: 0 | AJ30: 1 | AK30: 0 | AL30: 2 | AM30: 1 | AN30: 0 | AO30: 0 | AP30: 4 | AQ30: 4
A31: 26 | C31: 八幡村（碓氷郡） | D31: 857 | E31: 86 | F31: 179 | G31: 66 | H31: 95 | I31: 18 | J31: 24.89 | K31: 109 | L31: 30 | M31: - | N31: 29 | O31: 1 | P31: 1 | Q31: 9 | R31: 2 | S31: 4 | T31: 3 | U31: 7 | V31: 2 | W31: - | X31: - | Y31: - | Z31: - | AA31: 5 | AB31: 5 | AC31: 5 | AD31: 5 | AE31: 5 | AF31: 3 | AG31: 2 | AH31: 8 | AI31: 4 | AJ31: 4 | AK31: 1 | AL31: 0 | AM31: 0 | AN31: 0 | AO31: 0 | AP31: 9 | AQ31: 7
A32: 27 | C32: 豊岡村 | D32: 384 | E32: - | F32: 40 | G32: 24 | H32: 15 | I32: 1 | J32: 4.42 | K32: 32 | L32: 10 | M32: - | N32: 10 | O32: - | P32: - | Q32: 3 | R32: 2 | S32: 1 | T32: - | U32: 3 | V32: - | W32: - | X32: - | Y32: - | Z32: - | AA32: 1 | AB32: 2 | AC32: 1 | AD32: 1 | AE32: 1 | AF32: 2 | AG32: 1 | AH32: 3 | AI32: 0 | AJ32: 0 | AK32: 0 | AL32: 0 | AM32: 0 | AN32: 0 | AO32: 0 | AP32: 3 | AQ32: 3
A33: 28 | C33: 長野村 | D33: 600 | E33: - | F33: 231 | G33: 184 | H33: 45 | I33: 2 | J33: 23.87 | K33: 177 | L33: 38 | M33: 3 | N33: 35 | O33: - | P33: - | Q33: 8 | R33: 8 | S33: - | T33: - | U33: 3 | V33: 5 | W33: - | X33: - | Y33: - | Z33: - | AA33: 7 | AB33: 5 | AC33: 4 | AD33: 5 | AE33: 4 | AF33: 5 | AG33: 0 | AH33: 8 | AI33: 5 | AJ33: 0 | AK33: 0 | AL33: 2 | AM33: 2 | AN33: 0 | AO33: 0 | AP33: 8 | AQ33: 8
A34: 29 | C34: 大類村 | D34: 667 | E34: - | F34: 251 | G34: 202 | H34: 46 | I34: 3 | J34: 7.68 | K34: 195 | L34: 13 | M34: 2 | N34: 12 | O34: - | P34: - | Q34: 6 | R34: 5 | S34: 1 | T34: - | U34: 1 | V34: 5 | W34: - | X34: - | Y34: - | Z34: - | AA34: 6 | AB34: 3 | AC34: 1 | AD34: 4 | AE34: 2 | AF34: 2 | AG34: 0 | AH34: 6 | AI34: 2 | AJ34: 2 | AK34: 0 | AL34: 0 | AM34: 0 | AN34: 1 | AO34: 1 | AP34: 6 | AQ34: 6
A35: 30 | C35: 八幡村（多野郡） | D35: 971 | E35: 168 | F35: 217 | G35: 133 | H35: 72 | I35: 12 | J35: 32.61 | K35: 195 | L35: 28 | M35: - | N35: 27 | O35: - | P35: 1 | Q35: 4 | R35: 1 | S35: 3 | T35: - | U35: 1 | V35: 2 | W35: 1 | X35: - | Y35: - | Z35: - | AA35: 3 | AB35: 3 | AC35: 2 | AD35: 1 | AE35: 3 | AF35: 2 | AG35: 1 | AH35: 4 | AI35: 0 | AJ35: 2 | AK35: 0 | AL35: 1 | AM35: 1 | AN35: 2 | AO35: 0 | AP35: 4 | AQ35: 4
A36: 31 | C36: 岩鼻村 | D36: 583 | E36: - | F36: 138 | G36: 102 | H36: 36 | I36: 0 | J36: 7.45 | K36: 136 | L36: 12 | M36: 1 | N36: 11 | O36: - | P36: - | Q36: 6 | R36: 3 | S36: 1 | T36: 2 | U36: 3 | V36: 3 | W36: - | X36: - | Y36: - | Z36: - | AA36: 4 | AB36: 2 | AC36: 0 | AD36: 0 | AE36: 0 | AF36: 0 | AG36: 2 | AH36: 6 | AI36: 1 | AJ36: 2 | AK36: 0 | AL36: 0 | AM36: 0 | AN36: 0 | AO36: 0 | AP36: 6 | AQ36: 4
A37: 32 | C37: 倉賀野町 | D37: 432 | E37: - | F37: 28 | G37: 17 | H37: 11 | I37: 0 | J37: 1.23 | K37: 30 | L37: - | M37: - | N37: - | O37: - | P37: - | Q37: 6 | R37: 1 | S37: 4 | T37: 1 | U37: 6 | V37: - | W37: - | X37: - | Y37: - | Z37: - | AA37: 2 | AB37: 3 | AC37: 0 | AD37: 2 | AE37: 3 | AF37: 0 | AG37: 1 | AH37: 5 | AI37: 2 | AJ37: 1 | AK37: 0 | AL37: 1 | AM37: 1 | AN37: 0 | AO37: 0 | AP37: 6 | AQ37: 2
A38: 33 | C38: 京ケ島村 | D38: 665 | E38: - | F38: 232 | G38: 178 | H38: 52 | I38: 2 | J38: 10.66 | K38: 214 | L38: 19 | M38: 1 | N38: 18 | O38: - | P38: - | Q38: 8 | R38: 7 | S38: 1 | T38: - | U38: 4 | V38: 4 | W38: - | X38: - | Y38: - | Z38: - | AA38: 6 | AB38: 5 | AC38: 1 | AD38: 8 | AE38: 8 | AF38: 8 | AG38: 0 | AH38: 8 | AI38: 0 | AJ38: 0 | AK38: 0 | AL38: 0 | AM38: 0 | AN38: 4 | AO38: 1 | AP38: 8 | AQ38: 5
A39: 34 | C39: 滝川村２－１ | D39: 568 | E39: - | F39: 195 | G39: 126 | H39: 56 | I39: 13 | J39: 12.87 | K39: 156 | L39: 12 | M39: 1 | N39: 12 | O39: 1 | P39: - | Q39: 8 | R39: 3 | S39: 5 | T39: - | U39: 1 | V39: 7 | W39: - | X39: - | Y39: - | Z39: - | AA39: 8 | AB39: 5 | AC39: 2 | AD39: 5 | AE39: 4 | AF39: 5 | AG39: 0 | AH39: 8 | AI39: 2 | AJ39: 3 | AK39: 0 | AL39: 0 | AM39: 0 | AN39: 6 | AO39: 1 | AP39: 8 | AQ39: 8
A40: 35 | C40: 倉田村 | D40: 3914 | E40: 2827 | F40: 360 | G40: 116 | H40: 241 | I40: 3 | J40: 93.75 | K40: 162 | L40: 45 | M40: 2 | N40: 44 | O40: - | P40: - | Q40: 11 | R40: - | S40: 6 | T40: 5 | U40: - | V40: 1 | W40: 4 | X40: 3 | Y40: 3 | Z40: - | AA40: 11 | AB40: 11 | AC40: 6 | AD40: 11 | AE40: 4 | AF40: 1 | AG40: 0 | AH40: 11 | AI40: 11 | AJ40: 11 | AK40: 5 | AL40: 0 | AM40: 0 | AN40: 11 | AO40: 11 | AP40: 11 | AQ40: 11
A41: 36 | C41: 烏淵村 | D41: 8800 | E41: 7884 | F41: 247 | G41: 89 | H41: 153 | I41: 5 | J41: 75.87 | K41: 149 | L41: 33 | M41: 1 | N41: 33 | O41: - | P41: - | Q41: 11 | R41: - | S41: 8 | T41: 3 | U41: - | V41: - | W41: 3 | X41: 6 | Y41: 2 | Z41: - | AA41: 10 | AB41: 11 | AC41: 3 | AD41: 11 | AE41: 9 | AF41: 0 | AG41: 0 | AH41: 11 | AI41: 11 | AJ41: 11 | AK41: 6 | AL41: 1 | AM41: 1 | AN41: 11 | AO41: 11 | AP41: 11 | AQ41: 11
A42: 37 | C42: 箕輪町 | D42: 1980 | E42: 879 | F42: 237 | G42: 102 | H42: 77 | I42: 58 | J42: 73.32 | K42: 191 | L42: 38 | M42: 4 | N42: 38 | O42: - | P42: 1 | Q42: 8 | R42: 1 | S42: 3 | T42: 4 | U42: 4 | V42: 2 | W42: - | X42: 1 | Y42: 1 | Z42: - | AA42: 4 | AB42: 5 | AC42: 4 | AD42: 6 | AE42: 7 | AF42: 6 | AG42: 1 | AH42: 8 | AI42: 3 | AJ42: 6 | AK42: 1 | AL42: 2 | AM42: 2 | AN42: 8 | AO42: 2 | AP42: 7 | AQ42: 7
A43: 38 | C43: 車郷村 | D43: 1919 | E43: 1226 | F43: 397 | G43: 100 | H43: 51 | I43: 246 | J43: 67.21 | K43: 261 | L43: 58 | M43: 25 | N43: 40 | O43: 5 | P43: - | Q43: 4 | R43: - | S43: 2 | T43: 2 | U43: - | V43: 2 | W43: 1 | X43: 1 | Y43: - | Z43: - | AA43: 1 | AB43: 3 | AC43: 2 | AD43: 4 | AE43: 4 | AF43: 1 | AG43: 0 | AH43: 4 | AI43: 2 | AJ43: 3 | AK43: 0 | AL43: 1 | AM43: 0 | AN43: 4 | AO43: 1 | AP43: 4 | AQ43: 4
A44: 39 | C44: 相馬村２－２ | D44: 290 | E44: 157 | F44: 117 | G44: 34 | H44: 72 | I44: 11 | J44: 39.24 | K44: 59 | L44: 22 | M44: 1 | N44: 20 | O44: - | P44: 1 | Q44: 3 | R44: - | S44: 2 | T44: 1 | U44: - | V44: 3 | W44: - | X44: - | Y44: - | Z44: - | AA44: 1 | AB44: 1 | AC44: 1 | AD44: 2 | AE44: 0 | AF44: 0 | AG44: 1 | AH44: 3 | AI44: 1 | AJ44: 1 | AK44: 0 | AL44: 3 | AM44: 1 | AN44: 3 | AO44: 1 | AP44: 3 | AQ44: 3
A45: 40 | C45: 上郊村２－２ | D45: 178 | E45: - | F45: 87 | G45: 34 | H45: 43 | I45: 10 | J45: 13.68 | K45: 53 | L45: 7 | M45: 1 | N45: 6 | O45: - | P45: - | Q45: 1 | R45: - | S45: 1 | T45: - | U45: 1 | V45: - | W45: - | X45: - | Y45: - | Z45: - | AA45: 0 | AB45: 0 | AC45: 1 | AD45: 1 | AE45: 1 | AF45: 0 | AG45: 0 | AH45: 1 | AI45: 0 | AJ45: 0 | AK45: 0 | AL45: 0 | AM45: 0 | AN45: 1 | AO45: 0 | AP45: 1 | AQ45: 1
A46: 41 | C46: 金古町 | D46: 614 | E46: - | F46: 210 | G46: 50 | H46: 151 | I46: 9 | J46: 60.77 | K46: 81 | L46: 11 | M46: 3 | N46: 10 | O46: - | P46: - | Q46: 3 | R46: - | S46: 1 | T46: 2 | U46: 3 | V46: - | W46: - | X46: - | Y46: - | Z46: - | AA46: 0 | AB46: 2 | AC46: 3 | AD46: 3 | AE46: 3 | AF46: 3 | AG46: 0 | AH46: 3 | AI46: 0 | AJ46: 0 | AK46: 0 | AL46: 0 | AM46: 0 | AN46: 3 | AO46: 3 | AP46: 3 | AQ46: 3
A47: 42 | C47: 国府村 | D47: 459 | E47: - | F47: 265 | G47: 69 | H47: 186 | I47: 10 | J47: 47.9 | K47: 149 | L47: 23 | M47: 3 | N47: 23 | O47: - | P47: - | Q47: 8 | R47: - | S47: 3 | T47: 5 | U47: - | V47: 8 | W47: - | X47: - | Y47: - | Z47: - | AA47: 0 | AB47: 3 | AC47: 4 | AD47: 8 | AE47: 8 | AF47: 7 | AG47: 0 | AH47: 8 | AI47: 0 | AJ47: 0 | AK47: 0 | AL47: 0 | AM47: 0 | AN47: 6 | AO47: 2 | AP47: 8 | AQ47: 7
A48: 43 | C48: 堤ヶ岡村 | D48: 651 | E48: - | F48: 155 | G48: 88 | H48: 67 | I48: 0 | J48: 38.33 | K48: 86 | L48: 16 | M48: 3 | N48: 14 | O48: - | P48: 1 | Q48: 6 | R48: 2 | S48: 2 | T48: 2 | U48: 6 | V48: - | W48: - | X48: - | Y48: - | Z48: - | AA48: 0 | AB48: 1 | AC48: 4 | AD48: 6 | AE48: 6 | AF48: 4 | AG48: 0 | AH48: 6 | AI48: 0 | AJ48: 0 | AK48: 0 | AL48: 1 | AM48: 0 | AN48: 6 | AO48: 2 | AP48: 6 | AQ48: 5
A49: 44 | C49: 上郊村２－１ | D49: 466 | E49: 3 | F49: 240 | G49: 125 | H49: 98 | I49: 17 | J49: 55.2 | K49: 131 | L49: 20 | M49: - | N49: 19 | O49: - | P49: 1 | Q49: 3 | R49: - | S49: 3 | T49: - | U49: - | V49: 3 | W49: - | X49: - | Y49: - | Z49: - | AA49: 0 | AB49: 0 | AC49: 1 | AD49: 3 | AE49: 3 | AF49: 1 | AG49: 0 | AH49: 3 | AI49: 0 | AJ49: 1 | AK49: 0 | AL49: 0 | AM49: 0 | AN49: 3 | AO49: 2 | AP49: 3 | AQ49: 3
A50: 45 | C50: 新町 | D50: 375 | E50: - | F50: 20 | G50: 5 | H50: 14 | I50: 1 | J50: 13.76 | K50: 30 | L50: 9 | M50: - | N50: 9 | O50: - | P50: - | Q50: 8 | R50: - | S50: 2 | T50: 6 | U50: 8 | V50: - | W50: - | X50: - | Y50: - | Z50: - | AA50: 5 | AB50: 0 | AC50: 7 | AD50: 8 | AE50: 8 | AF50: 7 | AG50: 0 | AH50: 4 | AI50: 0 | AJ50: 0 | AK50: 0 | AL50: 0 | AM50: 0 | AN50: 4 | AO50: 0 | AP50: 0 | AQ50: 0
A51: 46 | C51: 室田町 | D51: 5602 | E51: 3624 | F51: 542 | G51: 190 | H51: 213 | I51: 139 | J51: 168.75 | K51: 302 | L51: 95 | M51: 12 | N51: 87 | O51: 1 | P51: - | Q51: 20 | R51: - | S51: 13 | T51: 7 | U51: 3 | V51: 7 | W51: 6 | X51: 4 | Y51: - | Z51: - | AA51: 18 | AB51: 17 | AC51: 15 | AD51: 17 | AE51: 20 | AF51: 8 | AG51: 0 | AH51: 20 | AI51: 8 | AJ51: 20 | AK51: 5 | AL51: 3 | AM51: 2 | AN51: 20 | AO51: 6 | AP51: 17 | AQ51: 12
A52: 47 | C52: 里見村 | D52: 1783 | E52: 806 | F52: 471 | G52: 105 | H52: 89 | I52: 277 | J52: 41.66 | K52: 285 | L52: 123 | M52: 21 | N52: 113 | O52: 31 | P52: 2 | Q52: 10 | R52: - | S52: 2 | T52: 8 | U52: 2 | V52: 4 | W52: 3 | X52: 1 | Y52: - | Z52: - | AA52: 3 | AB52: 4 | AC52: 5 | AD52: 6 | AE52: 7 | AF52: 5 | AG52: 2 | AH52: 10 | AI52: 5 | AJ52: 10 | AK52: 4 | AL52: 2 | AM52: 1 | AN52: 10 | AO52: 5 | AP52: 9 | AQ52: 5
A53: 48 | C53: 久留馬村 | D53: 2003 | E53: 827 | F53: 498 | G53: 114 | H53: 219 | I53: 165 | J53: 180.48 | K53: 226 | L53: 48 | M53: 4 | N53: 46 | O53: 2 | P53: 1 | Q53: 7 | R53: - | S53: 3 | T53: 4 | U53: 1 | V53: 3 | W53: 3 | X53: - | Y53: - | Z53: - | AA53: 6 | AB53: 1 | AC53: 2 | AD53: 1 | AE53: 4 | AF53: 3 | AG53: 0 | AH53: 7 | AI53: 2 | AJ53: 7 | AK53: 0 | AL53: 1 | AM53: 1 | AN53: 7 | AO53: 1 | AP53: 7 | AQ53: 1
A54: 49 | C54: 吉井町 | D54: 1276 | E54: 122 | F54: 469 | G54: 173 | H54: 255 | I54: 41 | J54: 68.5 | K54: 263 | L54: 63 | M54: 7 | N54: 58 | O54: - | P54: 1 | Q54: 18 | R54: 2 | S54: 8 | T54: 8 | U54: 7 | V54: 5 | W54: 3 | X54: 2 | Y54: - | Z54: 1 | AA54: 6 | AB54: 15 | AC54: 2 | AD54: 9 | AE54: 11 | AF54: 4 | AG54: 2 | AH54: 18 | AI54: 0 | AJ54: 10 | AK54: 0 | AL54: 5 | AM54: 3 | AN54: 10 | AO54: 1 | AP54: 18 | AQ54: 14
A55: 50 | C55: 多胡村 | D55: 1175 | E55: 741 | F55: 131 | G55: 40 | H55: 74 | I55: 17 | J55: 57.01 | K55: 68 | L55: 17 | M55: 1 | N55: 17 | O55: - | P55: - | Q55: 9 | R55: - | S55: 3 | T55: 6 | U55: 1 | V55: 4 | W55: 3 | X55: 1 | Y55: - | Z55: - | AA55: 0 | AB55: 5 | AC55: 0 | AD55: 5 | AE55: 0 | AF55: 0 | AG55: 4 | AH55: 9 | AI55: 0 | AJ55: 9 | AK55: 0 | AL55: 5 | AM55: 1 | AN55: 9 | AO55: 0 | AP55: 7 | AQ55: 5
A56: 51 | C56: 入野村 | D56: 1827 | E56: 739 | F56: 374 | G56: 164 | H56: 188 | I56: 22 | J56: 128.74 | K56: 268 | L56: 62 | M56: - | N56: 62 | O56: - | P56: - | Q56: 14 | R56: 1 | S56: 9 | T56: 4 | U56: 3 | V56: 3 | W56: 3 | X56: 5 | Y56: - | Z56: - | AA56: 0 | AB56: 14 | AC56: 0 | AD56: 14 | AE56: 0 | AF56: 0 | AG56: 0 | AH56: 14 | AI56: 0 | AJ56: 13 | AK56: 1 | AL56: 7 | AM56: 2 | AN56: 11 | AO56: 0 | AP56: 14 | AQ56: 14
A57: 52 | C57: 岩平村 | D57: 1557 | E57: 473 | F57: 203 | G57: 72 | H57: 109 | I57: 22 | J57: 100.14 | K57: 76 | L57: 26 | M57: 4 | N57: 24 | O57: - | P57: 1 | Q57: 7 | R57: - | S57: 5 | T57: 2 | U57: - | V57: 2 | W57: 3 | X57: 2 | Y57: - | Z57: - | AA57: 2 | AB57: 7 | AC57: 2 | AD57: 7 | AE57: 6 | AF57: 6 | AG57: 0 | AH57: 7 | AI57: 5 | AJ57: 7 | AK57: 3 | AL57: 6 | AM57: 3 | AN57: 7 | AO57: 2 | AP57: 7 | AQ57: 7
A58: 53 | B58: 桐生市 | C58: 桐生市 | D58: 27457 | E58: 19653 | F58: 1671 | G58: 519 | H58: 1072 | I58: 80 | J58: 467.11 | K58: 737 | L58: 192 | M58: 7 | N58: 187 | O58: 9 | P58: 9 | Q58: 94 | R58: 3 | S58: 47 | T58: 44 | U58: 56 | V58: 18 | W58: 11 | X58: 8 | Y58: 1 | Z58: - | AA58: 33 | AB58: 51 | AC58: 24 | AD58: 38 | AE58: 47 | AF58: 19 | AG58: 28 | AH58: 91 | AI58: 0 | AJ58: 77 | AK58: 3 | AL58: 15 | AM58: 2 | AN58: 78 | AO58: 14 | AP58: 80 | AQ58: 45
A59: 54 | C59: 桐生市（旧） | D59: 2574 | E59: 732 | F59: 67 | G59: 33 | H59: 28 | I59: 6 | J59: 20.61 | K59: 58 | L59: 15 | M59: - | N59: 15 | O59: 2 | P59: - | Q59: 19 | R59: 1 | S59: 14 | T59: 4 | U59: 19 | V59: - | W59: - | X59: - | Y59: - | Z59: - | AA59: 0 | AB59: 4 | AC59: 0 | AD59: 1 | AE59: 4 | AF59: 0 | AG59: 14 | AH59: 17 | AI59: 0 | AJ59: 8 | AK59: 0 | AL59: 1 | AM59: 0 | AN59: 8 | AO59: 0 | AP59: 17 | AQ59: 1
A60: 55 | C60: 梅田村 | D60: 4433 | E60: 4145 | F60: 52 | G60: 17 | H60: 26 | I60: 9 | J60: 15.61 | K60: 20 | L60: 2 | M60: - | N60: 1 | O60: - | P60: 1 | Q60: 5 | R60: - | S60: 2 | T60: 3 | U60: 3 | V60: 1 | W60: - | X60: 1 | Y60: - | Z60: - | AA60: 0 | AB60: 1 | AC60: 1 | AD60: 1 | AE60: 1 | AF60: 0 | AG60: 4 | AH60: 5 | AI60: 0 | AJ60: 5 | AK60: 1 | AL60: 1 | AM60: 0 | AN60: 5 | AO60: 5 | AP60: 3 | AQ60: 3
A61: 56 | C61: 川内村２－１ | D61: 2632 | E61: 1966 | F61: 89 | G61: 36 | H61: 38 | I61: 15 | J61: 36.64 | K61: 9 | L61: 1 | M61: - | N61: 1 | O61: - | P61: - | Q61: 9 | R61: - | S61: 7 | T61: 2 | U61: 9 | V61: - | W61: - | X61: - | Y61: - | Z61: - | AA61: 6 | AB61: 5 | AC61: 4 | AD61: 9 | AE61: 7 | AF61: 6 | AG61: 0 | AH61: 9 | AI61: 0 | AJ61: 9 | AK61: 0 | AL61: 1 | AM61: 0 | AN61: 9 | AO61: 3 | AP61: 9 | AQ61: 4
A62: 57 | C62: 相生村 | D62: 731 | E62: 11 | F62: 45 | G62: 6 | H62: 33 | I62: 6 | J62: 17.38 | K62: 38 | L62: 17 | M62: - | N62: 17 | O62: - | P62: - | Q62: 4 | R62: - | S62: - | T62: 4 | U62: 4 | V62: - | W62: - | X62: - | Y62: - | Z62: - | AA62: 1 | AB62: 2 | AC62: 0 | AD62: 0 | AE62: 1 | AF62: 0 | AG62: 1 | AH62: 4 | AI62: 0 | AJ62: 3 | AK62: 0 | AL62: 0 | AM62: 0 | AN62: 4 | AO62: 0 | AP62: 4 | AQ62: 2
A63: 58 | C63: 菱村 | D63: 2207 | E63: 1828 | F63: 24 | G63: 8 | H63: 9 | I63: 7 | J63: 16.17 | K63: 10 | L63: 1 | M63: - | N63: 1 | O63: - | P63: - | Q63: 5 | R63: - | S63: 2 | T63: 3 | U63: 5 | V63: - | W63: - | X63: - | Y63: - | Z63: - | AA63: 0 | AB63: 2 | AC63: 0 | AD63: 0 | AE63: 0 | AF63: 0 | AG63: 3 | AH63: 5 | AI63: 0 | AJ63: 5 | AK63: 0 | AL63: 1 | AM63: 0 | AN63: 4 | AO63: 0 | AP63: 4 | AQ63: 0
A64: 59 | C64: 飛駒村２－２ | D64: 1166 | E64: 1077 | F64: 11 | G64: 2 | H64: 6 | I64: 3 | J64: 3.93 | K64: - | L64: - | M64: - | N64: - | O64: - | P64: - | Q64: 7 | R64: - | S64: 1 | T64: 6 | U64: 5 | V64: 1 | W64: 1 | X64: - | Y64: - | Z64: - | AA64: 1 | AB64: 0 | AC64: 1 | AD64: 1 | AE64: 1 | AF64: 0 | AG64: 6 | AH64: 6 | AI64: 0 | AJ64: 7 | AK64: 0 | AL64: 0 | AM64: 0 | AN64: 6 | AO64: 3 | AP64: 0 | AQ64: 0
A65: 60 | C65: 新里村 | D65: 3565 | E65: 1053 | F65: 1096 | G65: 313 | H65: 757 | I65: 26 | J65: 259.8 | K65: 448 | L65: 113 | M65: 3 | N65: 110 | O65: 4 | P65: 4 | Q65: 31 | R65: 1 | S65: 14 | T65: 16 | U65: 10 | V65: 13 | W65: 7 | X65: 1 | Y65: - | Z65: - | AA65: 22 | AB65: 27 | AC65: 12 | AD65: 12 | AE65: 19 | AF65: 5 | AG65: 0 | AH65: 31 | AI65: 0 | AJ65: 26 | AK65: 0 | AL65: 9 | AM65: 2 | AN65: 30 | AO65: 3 | AP65: 29 | AQ65: 25
A66: 61 | C66: 黒保根村 | D66: 10149 | E66: 8841 | F66: 287 | G66: 104 | H66: 175 | I66: 8 | J66: 96.97 | K66: 154 | L66: 43 | M66: 4 | N66: 42 | O66: 3 | P66: 4 | Q66: 14 | R66: 1 | S66: 7 | T66: 6 | U66: 1 | V66: 3 | W66: 3 | X66: 6 | Y66: 1 | Z66: - | AA66: 3 | AB66: 10 | AC66: 6 | AD66: 14 | AE66: 14 | AF66: 8 | AG66: 0 | AH66: 14 | AI66: 0 | AJ66: 14 | AK66: 2 | AL66: 2 | AM66: 0 | AN66: 12 | AO66: 0 | AP66: 14 | AQ66: 10
A67: 62 | B67: 伊勢崎市 | C67: 伊勢崎市 | D67: 13933 | E67: 25 | F67: 4937 | G67: 1813 | H67: 3091 | I67: 33 | J67: 701.92 | K67: 2284 | L67: 239 | M67: 23 | N67: 221 | O67: 5 | P67: 8 | Q67: 127 | R67: 13 | S67: 63 | T67: 51 | U67: 72 | V67: 48 | W67: 7 | X67: - | Y67: - | Z67: - | AA67: 120 | AB67: 87 | AC67: 117 | AD67: 122 | AE67: 122 | AF67: 99 | AG67: 0 | AH67: 127 | AI67: 23 | AJ67: 8 | AK67: 3 | AL67: 17 | AM67: 12 | AN67: 115 | AO67: 57 | AP67: 114 | AQ67: 94
A68: 63 | C68: 伊勢崎市（旧） | D68: 2161 | E68: 3 | F68: 315 | G68: 135 | H68: 176 | I68: 4 | J68: 94.63 | K68: 203 | L68: 24 | M68: 1 | N68: 23 | O68: - | P68: 1 | Q68: 15 | R68: 2 | S68: 10 | T68: 3 | U68: 11 | V68: 4 | W68: - | X68: - | Y68: - | Z68: - | AA68: 15 | AB68: 8 | AC68: 14 | AD68: 15 | AE68: 14 | AF68: 10 | AG68: 0 | AH68: 15 | AI68: 1 | AJ68: 1 | AK68: 0 | AL68: 4 | AM68: 1 | AN68: 14 | AO68: 5 | AP68: 14 | AQ68: 10
A69: 64 | C69: 三郷村 | D69: 883 | E69: 1 | F69: 319 | G69: 174 | H69: 138 | I69: 7 | J69: 49.21 | K69: 159 | L69: 23 | M69: 3 | N69: 23 | O69: 1 | P69: 1 | Q69: 15 | R69: 3 | S69: 10 | T69: 2 | U69: 7 | V69: 7 | W69: 1 | X69: - | Y69: - | Z69: - | AA69: 15 | AB69: 13 | AC69: 15 | AD69: 15 | AE69: 15 | AF69: 7 | AG69: 0 | AH69: 15 | AI69: 0 | AJ69: 1 | AK69: 0 | AL69: 2 | AM69: 2 | AN69: 15 | AO69: 11 | AP69: 15 | AQ69: 14
A70: 65 | C70: 宮郷村 | D70: 1321 | E70: - | F70: 357 | G70: 201 | H70: 147 | I70: 9 | J70: 53.2 | K70: 201 | L70: 51 | M70: 1 | N70: 50 | O70: 1 | P70: 1 | Q70: 5 | R70: - | S70: 5 | T70: - | U70: 2 | V70: 2 | W70: 1 | X70: - | Y70: - | Z70: - | AA70: 5 | AB70: 5 | AC70: 5 | AD70: 5 | AE70: 5 | AF70: 5 | AG70: 0 | AH70: 5 | AI70: 0 | AJ70: 0 | AK70: 0 | AL70: 0 | AM70: 0 | AN70: 5 | AO70: 4 | AP70: 5 | AQ70: 5
A71: 66 | C71: 名和村 | D71: 1211 | E71: - | F71: 433 | G71: 283 | H71: 150 | I71: 0 | J71: 66.61 | K71: 138 | L71: 24 | M71: 4 | N71: 23 | O71: - | P71: - | Q71: 11 | R71: 7 | S71: 2 | T71: 2 | U71: 9 | V71: 2 | W71: - | X71: - | Y71: - | Z71: - | AA71: 11 | AB71: 11 | AC71: 11 | AD71: 10 | AE71: 9 | AF71: 8 | AG71: 0 | AH71: 11 | AI71: 11 | AJ71: 0 | AK71: 0 | AL71: 0 | AM71: 0 | AN71: 10 | AO71: 10 | AP71: 11 | AQ71: 10
A72: 67 | C72: 豊受村 | D72: 946 | E72: - | F72: 244 | G72: 118 | H72: 126 | I72: 0 | J72: 63.45 | K72: 95 | L72: 4 | M72: 1 | N72: 3 | O72: - | P72: - | Q72: 10 | R72: 1 | S72: 7 | T72: 2 | U72: 8 | V72: 2 | W72: - | X72: - | Y72: - | Z72: - | AA72: 8 | AB72: 9 | AC72: 9 | AD72: 9 | AE72: 9 | AF72: 5 | AG72: 0 | AH72: 10 | AI72: 10 | AJ72: 0 | AK72: 0 | AL72: 0 | AM72: 0 | AN72: 7 | AO72: 6 | AP72: 10 | AQ72: 9
A73: 68 | C73: 赤堀町 | D73: 2438 | E73: 20 | F73: 1215 | G73: 290 | H73: 919 | I73: 6 | J73: 146.3 | K73: 468 | L73: 44 | M73: 2 | N73: 41 | O73: 2 | P73: 2 | Q73: 22 | R73: - | S73: 8 | T73: 14 | U73: 13 | V73: 6 | W73: 3 | X73: - | Y73: - | Z73: - | AA73: 22 | AB73: 12 | AC73: 14 | AD73: 19 | AE73: 22 | AF73: 18 | AG73: 0 | AH73: 22 | AI73: 0 | AJ73: 6 | AK73: 3 | AL73: 1 | AM73: 1 | AN73: 16 | AO73: 10 | AP73: 18 | AQ73: 17
A74: 69 | C74: 東村（伊勢崎市） | D74: 1843 | E74: - | F74: 836 | G74: 258 | H74: 572 | I74: 6 | J74: 93.13 | K74: 394 | L74: 43 | M74: 8 | N74: 37 | O74: - | P74: 1 | Q74: 18 | R74: - | S74: 9 | T74: 9 | U74: 11 | V74: 7 | W74: - | X74: - | Y74: - | Z74: - | AA74: 18 | AB74: 13 | AC74: 18 | AD74: 18 | AE74: 17 | AF74: 15 | AG74: 0 | AH74: 18 | AI74: 0 | AJ74: 0 | AK74: 0 | AL74: 6 | AM74: 4 | AN74: 17 | AO74: 3 | AP74: 18 | AQ74: 14
A75: 70 | C75: 境町 | D75: 129 | E75: - | F75: 24 | G75: 2 | H75: 22 | I75: 0 | J75: x | K75: 2 | L75: x | M75: x | N75: x | O75: x | P75: x | Q75: 1 | R75: - | S75: - | T75: 1 | U75: 1 | V75: - | W75: - | X75: - | Y75: - | Z75: - | AA75: 0 | AB75: 0 | AC75: 1 | AD75: 1 | AE75: 1 | AF75: 1 | AG75: 0 | AH75: 1 | AI75: 0 | AJ75: 0 | AK75: 0 | AL75: 0 | AM75: 0 | AN75: 1 | AO75: 0 | AP75: 1 | AQ75: 0
A76: 71 | C76: 采女村 | D76: 1191 | E76: - | F76: 550 | G76: 235 | H76: 315 | I76: 0 | J76: 26.15 | K76: 247 | L76: 8 | M76: - | N76: 7 | O76: - | P76: 1 | Q76: 12 | R76: - | S76: 8 | T76: 4 | U76: 4 | V76: 8 | W76: - | X76: - | Y76: - | Z76: - | AA76: 12 | AB76: 11 | AC76: 12 | AD76: 12 | AE76: 12 | AF76: 12 | AG76: 0 | AH76: 12 | AI76: 0 | AJ76: 0 | AK76: 0 | AL76: 4 | AM76: 4 | AN76: 12 | AO76: 7 | AP76: 11 | AQ76: 10
A77: 72 | C77: 剛志村 | D77: 698 | E77: 1 | F77: 311 | G77: 38 | H77: 272 | I77: 1 | J77: 32.25 | K77: 157 | L77: 5 | M77: - | N77: 5 | O77: 1 | P77: - | Q77: 5 | R77: - | S77: - | T77: 5 | U77: 2 | V77: 3 | W77: - | X77: - | Y77: - | Z77: - | AA77: 3 | AB77: 0 | AC77: 5 | AD77: 5 | AE77: 5 | AF77: 5 | AG77: 0 | AH77: 5 | AI77: 0 | AJ77: 0 | AK77: 0 | AL77: 0 | AM77: 0 | AN77: 5 | AO77: 0 | AP77: 5 | AQ77: 0
A78: 73 | C78: 島村 | D78: 428 | E78: - | F78: 92 | G78: 17 | H78: 75 | I78: 0 | J78: x | K78: 68 | L78: x | M78: x | N78: x | O78: x | P78: x | Q78: 5 | R78: - | S78: 1 | T78: 4 | U78: - | V78: 5 | W78: - | X78: - | Y78: - | Z78: - | AA78: 4 | AB78: 2 | AC78: 5 | AD78: 5 | AE78: 5 | AF78: 5 | AG78: 0 | AH78: 5 | AI78: 0 | AJ78: 0 | AK78: 0 | AL78: 0 | AM78: 0 | AN78: 5 | AO78: 1 | AP78: 2 | AQ78: 2
A79: 74 | C79: 世良田村２－１ | D79: 684 | E79: - | F79: 241 | G79: 62 | H79: 179 | I79: 0 | J79: 33.35 | K79: 152 | L79: 5 | M79: 2 | N79: 2 | O79: - | P79: 1 | Q79: 8 | R79: - | S79: 3 | T79: 5 | U79: 4 | V79: 2 | W79: 2 | X79: - | Y79: - | Z79: - | AA79: 7 | AB79: 3 | AC79: 8 | AD79: 8 | AE79: 8 | AF79: 8 | AG79: 0 | AH79: 8 | AI79: 1 | AJ79: 0 | AK79: 0 | AL79: 0 | AM79: 0 | AN79: 8 | AO79: 0 | AP79: 4 | AQ79: 3
A80: 75 | B80: 太田市 | C80: 太田市 | D80: 17649 | E80: 959 | F80: @ | G80: @ | H80: @ | I80: @ | J80: @ | K80: @ | L80: @ | M80: @ | N80: @ | O80: @ | P80: @ | Q80: @ | R80: @ | S80: @ | T80: @ | U80: @ | V80: @ | W80: @ | X80: @ | Y80: @ | Z80: @ | AA80: @ | AB80: @ | AC80: @ | AD80: @ | AE80: @ | AF80: @ | AG80: @ | AH80: @ | AI80: @ | AJ80: @ | AK80: @ | AL80: @ | AM80: @ | AN80: @ | AO80: @ | AP80: @ | AQ80: @
A81: 76 | C81: 太田市（旧） | D81: 4311 | E81: 310 | F81: 760 | G81: 479 | H81: 276 | I81: 5 | J81: 146.64 | K81: 515 | L81: 88 | M81: 4 | N81: 84 | O81: 2 | P81: 2 | Q81: 31 | R81: 14 | S81: 13 | T81: 4 | U81: 28 | V81: 3 | W81: - | X81: - | Y81: - | Z81: - | AA81: 28 | AB81: 27 | AC81: 9 | AD81: 20 | AE81: 26 | AF81: 21 | AG81: 1 | AH81: 30 | AI81: 0 | AJ81: 8 | AK81: 4 | AL81: 4 | AM81: 2 | AN81: 4 | AO81: 0 | AP81: 29 | AQ81: 27
A82: 77 | C82: 強戸村 | D82: 1318 | E82: 223 | F82: 407 | G82: 253 | H82: 141 | I82: 13 | J82: 75.5 | K82: 254 | L82: 75 | M82: 1 | N82: 75 | O82: - | P82: 1 | Q82: 10 | R82: 7 | S82: 3 | T82: - | U82: 1 | V82: 6 | W82: 2 | X82: 1 | Y82: - | Z82: - | AA82: 3 | AB82: 10 | AC82: 5 | AD82: 9 | AE82: 6 | AF82: 3 | AG82: 0 | AH82: 10 | AI82: 0 | AJ82: 8 | AK82: 0 | AL82: 4 | AM82: 2 | AN82: 9 | AO82: 3 | AP82: 10 | AQ82: 8
A83: 78 | C83: 休泊村 | D83: 848 | E83: 12 | F83: 365 | G83: 304 | H83: 60 | I83: 1 | J83: 26.54 | K83: 155 | L83: 20 | M83: 1 | N83: 19 | O83: - | P83: 1 | Q83: 7 | R83: 6 | S83: - | T83: 1 | U83: 4 | V83: 3 | W83: - | X83: - | Y83: - | Z83: - | AA83: 5 | AB83: 7 | AC83: 1 | AD83: 2 | AE83: 4 | AF83: 0 | AG83: 0 | AH83: 7 | AI83: 0 | AJ83: 0 | AK83: 0 | AL83: 0 | AM83: 0 | AN83: 0 | AO83: 0 | AP83: 7 | AQ83: 7
A84: 79 | C84: 矢場川村２－１ | D84: 301 | E84: - | F84: 66 | G84: 52 | H84: 14 | I84: 0 | J84: 7.34 | K84: 27 | L84: 11 | M84: 1 | N84: 10 | O84: - | P84: - | Q84: 2 | R84: 2 | S84: - | T84: - | U84: 2 | V84: - | W84: - | X84: - | Y84: - | Z84: - | AA84: 1 | AB84: 2 | AC84: 0 | AD84: 1 | AE84: 2 | AF84: 0 | AG84: 0 | AH84: 2 | AI84: 0 | AJ84: 0 | AK84: 0 | AL84: 0 | AM84: 0 | AN84: 0 | AO84: 0 | AP84: 2 | AQ84: 2
A85: 80 | C85: 宝泉村 | D85: 1348 | E85: 5 | F85: 620 | G85: 386 | H85: 227 | I85: 7 | J85: 45.94 | K85: 246 | L85: 31 | M85: - | N85: 31 | O85: - | P85: - | Q85: 15 | R85: 4 | S85: 10 | T85: 1 | U85: 10 | V85: 5 | W85: - | X85: - | Y85: - | Z85: - | AA85: 14 | AB85: 14 | AC85: 15 | AD85: 14 | AE85: 15 | AF85: 2 | AG85: 0 | AH85: 15 | AI85: 0 | AJ85: 0 | AK85: 0 | AL85: 0 | AM85: 0 | AN85: 0 | AO85: 0 | AP85: 15 | AQ85: 14
A86: 81 | C86: 毛里田村 | D86: 1667 | E86: 260 | F86: 428 | G86: 289 | H86: 132 | I86: 7 | J86: 101.04 | K86: 211 | L86: 22 | M86: - | N86: 22 | O86: - | P86: - | Q86: 11 | R86: 4 | S86: 7 | T86: - | U86: 5 | V86: 6 | W86: - | X86: - | Y86: - | Z86: - | AA86: 9 | AB86: 6 | AC86: 1 | AD86: 4 | AE86: 10 | AF86: 0 | AG86: 0 | AH86: 11 | AI86: 0 | AJ86: 9 | AK86: 0 | AL86: 5 | AM86: 0 | AN86: 11 | AO86: 0 | AP86: 11 | AQ86: 6
A87: 82 | C87: 尾島町２－１ | D87: 1198 | E87: - | F87: @ | G87: @ | H87: @ | I87: @ | J87: @ | K87: @ | L87: @ | M87: @ | N87: @ | O87: @ | P87: @ | Q87: 17 | R87: - | S87: - | T87: 17 | U87: 6 | V87: 4 | W87: 7 | X87: - | Y87: - | Z87: - | AA87: @ | AB87: @ | AC87: @ | AD87: @ | AE87: @ | AF87: @ | AG87: @ | AH87: @ | AI87: @ | AJ87: @ | AK87: @ | AL87: @ | AM87: @ | AN87: @ | AO87: @ | AP87: @ | AQ87: @
A88: 83 | C88: 世良田村２－２ | D88: 730 | E88: - | F88: 342 | G88: 99 | H88: 242 | I88: 1 | J88: 40.9 | K88: 148 | L88: 2 | M88: - | N88: 2 | O88: - | P88: - | Q88: 7 | R88: - | S88: 4 | T88: 3 | U88: 2 | V88: 2 | W88: 3 | X88: - | Y88: - | Z88: - | AA88: 4 | AB88: 7 | AC88: 1 | AD88: 1 | AE88: 3 | AF88: 0 | AG88: 0 | AH88: 7 | AI88: 0 | AJ88: 0 | AK88: 0 | AL88: 0 | AM88: 0 | AN88: 6 | AO88: 3 | AP88: 7 | AQ88: 6
A89: 84 | C89: 木崎町 | D89: 737 | E89: - | F89: 288 | G89: 131 | H89: 151 | I89: 6 | J89: 48.05 | K89: 143 | L89: 18 | M89: 4 | N89: 14 | O89: - | P89: 1 | Q89: 10 | R89: 2 | S89: 5 | T89: 3 | U89: 5 | V89: 3 | W89: 2 | X89: - | Y89: - | Z89: - | AA89: 4 | AB89: 8 | AC89: 1 | AD89: 9 | AE89: 7 | AF89: 7 | AG89: 0 | AH89: 10 | AI89: 0 | AJ89: 0 | AK89: 0 | AL89: 1 | AM89: 0 | AN89: 5 | AO89: 0 | AP89: 10 | AQ89: 7
A90: 85 | C90: 生品村 | D90: 1631 | E90: - | F90: 896 | G90: 351 | H90: 530 | I90: 15 | J90: 98.95 | K90: 285 | L90: 34 | M90: 5 | N90: 31 | O90: - | P90: - | Q90: 21 | R90: 8 | S90: 4 | T90: 9 | U90: 7 | V90: 9 | W90: 4 | X90: 1 | Y90: - | Z90: - | AA90: 6 | AB90: 14 | AC90: 7 | AD90: 15 | AE90: 18 | AF90: 4 | AG90: 1 | AH90: 21 | AI90: 0 | AJ90: 3 | AK90: 0 | AL90: 1 | AM90: 0 | AN90: 0 | AO90: 0 | AP90: 20 | AQ90: 15
A91: 86 | C91: 綿打村 | D91: 1457 | E91: - | F91: 767 | G91: 233 | H91: 525 | I91: 9 | J91: 62.04 | K91: 316 | L91: 20 | M91: 4 | N91: 16 | O91: - | P91: - | Q91: 19 | R91: 2 | S91: 8 | T91: 9 | U91: 3 | V91: 12 | W91: 4 | X91: - | Y91: - | Z91: - | AA91: 12 | AB91: 17 | AC91: 0 | AD91: 19 | AE91: 19 | AF91: 19 | AG91: 0 | AH91: 19 | AI91: 0 | AJ91: 0 | AK91: 0 | AL91: 6 | AM91: 0 | AN91: 12 | AO91: 0 | AP91: 17 | AQ91: 11
A92: 87 | C92: 藪塚本町 | D92: 2103 | E92: 149 | F92: 998 | G92: 104 | H92: 866 | I92: 28 | J92: 145.35 | K92: 421 | L92: 56 | M92: 12 | N92: 46 | O92: - | P92: 3 | Q92: 23 | R92: - | S92: 5 | T92: 18 | U92: 15 | V92: 7 | W92: 1 | X92: - | Y92: - | Z92: - | AA92: 2 | AB92: 8 | AC92: 22 | AD92: 23 | AE92: 23 | AF92: 22 | AG92: 0 | AH92: 23 | AI92: 0 | AJ92: 4 | AK92: 0 | AL92: 4 | AM92: 2 | AN92: 0 | AO92: 0 | AP92: 8 | AQ92: 7
A93: 88 | C93: 新会村２－２ | D93: @ | E93: @ | F93: @ | G93: @ | H93: @ | I93: @ | J93: @ | K93: @ | L93: @ | M93: @ | N93: @ | O93: @ | P93: @ | Q93: @ | R93: @ | S93: @ | T93: @ | U93: @ | V93: @ | W93: @ | X93: @ | Y93: @ | Z93: @ | AA93: @ | AB93: @ | AC93: @ | AD93: @ | AE93: @ | AF93: @ | AG93: @ | AH93: @ | AI93: @ | AJ93: @ | AK93: @ | AL93: @ | AM93: @ | AN93: @ | AO93: @ | AP93: @ | AQ93: @
A94: 89 | B94: 沼田市 | C94: 沼田市 | D94: 44337 | E94: 34031 | F94: 3400 | G94: 880 | H94: 2268 | I94: 252 | J94: 562.2 | K94: 1293 | L94: 577 | M94: 44 | N94: 566 | O94: 137 | P94: 15 | Q94: 99 | R94: 6 | S94: 34 | T94: 59 | U94: 26 | V94: 32 | W94: 15 | X94: 23 | Y94: 3 | Z94: - | AA94: 37 | AB94: 53 | AC94: 81 | AD94: 99 | AE94: 99 | AF94: 66 | AG94: 0 | AH94: 98 | AI94: 40 | AJ94: 91 | AK94: 10 | AL94: 21 | AM94: 5 | AN94: 97 | AO94: 36 | AP94: 95 | AQ94: 51
A95: 90 | C95: 沼田町 | D95: 679 | E95: 21 | F95: 75 | G95: 34 | H95: 40 | I95: 1 | J95: 16.04 | K95: 62 | L95: 35 | M95: 1 | N95: 34 | O95: 1 | P95: 1 | Q95: 14 | R95: 2 | S95: 4 | T95: 8 | U95: 14 | V95: - | W95: - | X95: - | Y95: - | Z95: - | AA95: 1 | AB95: 5 | AC95: 14 | AD95: 14 | AE95: 14 | AF95: 14 | AG95: 0 | AH95: 13 | AI95: 0 | AJ95: 6 | AK95: 0 | AL95: 0 | AM95: 0 | AN95: 13 | AO95: 1 | AP95: 12 | AQ95: 6
A96: 91 | C96: 利南村 | D96: 1012 | E96: 15 | F96: 387 | G96: 80 | H96: 252 | I96: 55 | J96: 41.74 | K96: 152 | L96: 68 | M96: 6 | N96: 67 | O96: 27 | P96: 3 | Q96: 9 | R96: - | S96: 2 | T96: 7 | U96: 5 | V96: 4 | W96: - | X96: - | Y96: - | Z96: - | AA96: 5 | AB96: 5 | AC96: 9 | AD96: 9 | AE96: 9 | AF96: 9 | AG96: 0 | AH96: 9 | AI96: 1 | AJ96: 9 | AK96: 0 | AL96: 0 | AM96: 0 | AN96: 9 | AO96: 1 | AP96: 9 | AQ96: 4
A97: 92 | C97: 池田村 | D97: 7191 | E97: 5424 | F97: 507 | G97: 227 | H97: 215 | I97: 65 | J97: 78.89 | K97: 275 | L97: 184 | M97: 10 | N97: 183 | O97: 76 | P97: 4 | Q97: 13 | R97: - | S97: 11 | T97: 2 | U97: 1 | V97: 1 | W97: 2 | X97: 9 | Y97: - | Z97: - | AA97: 13 | AB97: 13 | AC97: 9 | AD97: 13 | AE97: 13 | AF97: 9 | AG97: 0 | AH97: 13 | AI97: 12 | AJ97: 13 | AK97: 4 | AL97: 4 | AM97: 2 | AN97: 13 | AO97: 13 | AP97: 13 | AQ97: 13
A98: 93 | C98: 薄根村 | D98: 1382 | E98: 360 | F98: 462 | G98: 205 | H98: 210 | I98: 47 | J98: 71.49 | K98: 210 | L98: 122 | M98: 5 | N98: 120 | O98: 4 | P98: 1 | Q98: 16 | R98: 4 | S98: 6 | T98: 6 | U98: 2 | V98: 10 | W98: 2 | X98: 2 | Y98: - | Z98: - | AA98: 13 | AB98: 15 | AC98: 7 | AD98: 16 | AE98: 16 | AF98: 10 | AG98: 0 | AH98: 16 | AI98: 8 | AJ98: 16 | AK98: 3 | AL98: 2 | AM98: 2 | AN98: 16 | AO98: 15 | AP98: 16 | AQ98: 15
A99: 94 | C99: 川田村 | D99: 3362 | E99: 2525 | F99: 393 | G99: 82 | H99: 290 | I99: 21 | J99: 127.17 | K99: 166 | L99: 39 | M99: 3 | N99: 39 | O99: - | P99: - | Q99: 22 | R99: - | S99: 7 | T99: 15 | U99: 2 | V99: 8 | W99: 5 | X99: 6 | Y99: 1 | Z99: - | AA99: 0 | AB99: 0 | AC99: 22 | AD99: 22 | AE99: 22 | AF99: 1 | AG99: 0 | AH99: 22 | AI99: 0 | AJ99: 22 | AK99: 0 | AL99: 7 | AM99: 0 | AN99: 21 | AO99: 0 | AP99: 20 | AQ99: 0
A100: 95 | C100: 白沢村 | D100: 2823 | E100: 1574 | F100: 519 | G100: 159 | H100: 329 | I100: 31 | J100: 42.01 | K100: 160 | L100: 68 | M100: 10 | N100: 66 | O100: 18 | P100: 2 | Q100: 7 | R100: - | S100: 3 | T100: 4 | U100: - | V100: 4 | W100: 1 | X100: 2 | Y100: - | Z100: - | AA100: 2 | AB100: 4 | AC100: 5 | AD100: 7 | AE100: 7 | AF100: 6 | AG100: 0 | AH100: 7 | AI100: 1 | AJ100: 7 | AK100: 1 | AL100: 7 | AM100: 1 | AN100: 7 | AO100: 2 | AP100: 7 | AQ100: 7
...

Sheet 2015
A1: 農山村地域調査
A2: １ 総土地面積及び林野面積
D3: 1 | E3: 2 | F3: 3 | G3: 4 | H3: 5 | I3: 6 | J3: 7 | K3: 8 | L3: 9 | M3: 10 | N3: 11 | O3: 12 | P3: 13 | Q3: 14 | R3: 15 | S3: 16 | T3: 17 | U3: 18 | V3: 19 | W3: 20 | X3: 21 | Y3: 22 | Z3: 23 | AA3: 24 | AB3: 25 | AC3: 26 | AD3: 27 | AE3: 28 | AF3: 29 | AG3: 30 | AH3: 31 | AI3: 32 | AJ3: 33 | AK3: 34 | AL3: 35 | AM3: 36 | AN3: 37 | AO3: 38 | AP3: 39 | AQ3: 40 | AR3: 41 | AS3: 42 | AT3: 43 | AU3: 44 | AV3: 45
D4: 総土地面積 | F4: 耕地面積 | K4: 生産関連 | Q4: 水田率 | U4: 農家率 | Y4: 寄り合いの議題_農業生産にかかる事項 | AH4: 保全管理
A5: 新旧市区町村 | D5: 総土地 面 積 | E5: 林野面積 | F5: 耕地面積 | G5: 田面積 | H5: 畑面積 | I5: 樹園地面積 | J5: 耕作 放棄地 面積 | K5: 計 | L5: 農業生産関連事業を行っている実経営体数 | M5: 事業種類別_農産物の加工 | N5: 事業種類別_消費者に直接販売 | O5: 事業種類別_観光農園 | P5: その他 | Q5: 計 | R5: 水田集落 （70％以上） | S5: 田畑集落 （30～70） | T5: 畑地集落 （30％未満） | U5: 10％未満 | V5: 10～30 | W5: 30～50 | X5: 50～70 | Y5: 70～90 | Z5: 90％以上 | AA5: 寄り合いの議題_農業生産にかかる事項 | AB5: 寄り合いの議題_農道・農業用用排水路・ため池の管理 | AC5: 寄り合いの議題_集落共有財産・共用施設の管理 | AD5: 寄り合いの議題_環境美化・自然環境の保全 | AE5: 寄り合いの議題_農業集落行事（祭り・イベント等）の計画・推進 | AF5: 寄り合いの議題_農業集落内の福祉・厚生 | AG5: 寄り合いを開催しなかった | AH5: 農地_ある | AI5: 農地_保全している | AJ5: 森林_ある | AK5: 森林_保全している | AL5: ため池・湖沼_ある | AM5: ため池・湖沼_保全している | AN5: 河川・水路_ある | AO5: 河川・水路_保全している | AP5: 農業用用排水路_ある | AQ5: 農業用用排水路_保全している
A6: 1 | B6: 県計 | C6: 群馬県 | D6: 636228 | E6: 408064 | F6: 72644 | G6: 27245 | H6: 41800 | I6: 3599 | J6: 14041.75 | K6: 26235 | L6: 5186 | M6: 502 | N6: 4968 | O6: 342 | P6: 151 | Q6: 1964 | R6: 313 | S6: 713 | T6: 938 | U6: 709 | V6: 705 | W6: 380 | X6: 139 | Y6: 25 | Z6: 6 | AA6: 959 | AB6: 1482 | AC6: 1185 | AD6: 1788 | AE6: 1749 | AF6: 1394 | AG6: 50 | AH6: 1917 | AI6: 499 | AJ6: 1305 | AK6: 223 | AL6: 508 | AM6: 234 | AN6: 1637 | AO6: 689 | AP6: 1645 | AQ6: 1309
A7: 2 | B7: 前橋市 | C7: 前橋市 | D7: 31159 | E7: 7466 | F7: 9110 | G7: 4040 | H7: 4778 | I7: 292 | J7: 1175.03 | K7: 3862 | L7: 781 | M7: 39 | N7: 762 | O7: 13 | P7: 13 | Q7: 146 | R7: 22 | S7: 95 | T7: 29 | U7: 56 | V7: 74 | W7: 15 | X7: 1 | Y7: - | Z7: - | AA7: 126 | AB7: 133 | AC7: 132 | AD7: 145 | AE7: 142 | AF7: 140 | AG7: 0 | AH7: 145 | AI7: 58 | AJ7: 64 | AK7: 17 | AL7: 55 | AM7: 41 | AN7: 141 | AO7: 85 | AP7: 141 | AQ7: 117
A8: 3 | C8: 前橋市（旧） | D8: 1220 | E8: - | F8: … | G8: … | H8: … | I8: … | J8: x | K8: 30 | L8: 3 | M8: - | N8: 3 | O8: - | P8: - | Q8: - | R8: - | S8: - | T8: - | U8: - | V8: - | W8: - | X8: - | Y8: - | Z8: - | AA8: … | AB8: … | AC8: … | AD8: … | AE8: … | AF8: … | AG8: … | AH8: … | AI8: … | AJ8: … | AK8: … | AL8: … | AM8: … | AN8: … | AO8: … | AP8: … | AQ8: …
A9: 4 | C9: 上川渕村 | D9: 799 | E9: - | F9: 398 | G9: 297 | H9: 101 | I9: 0 | J9: 12.99 | K9: 168 | L9: 35 | M9: 4 | N9: 34 | O9: 1 | P9: - | Q9: 7 | R9: 5 | S9: 2 | T9: - | U9: 3 | V9: 4 | W9: - | X9: - | Y9: - | Z9: - | AA9: 7 | AB9: 7 | AC9: 7 | AD9: 7 | AE9: 7 | AF9: 6 | AG9: 0 | AH9: 7 | AI9: 2 | AJ9: 1 | AK9: 0 | AL9: 0 | AM9: 0 | AN9: 7 | AO9: 1 | AP9: 7 | AQ9: 7
A10: 5 | C10: 下川渕村 | D10: 920 | E10: 3 | F10: 427 | G10: 286 | H10: 136 | I10: 5 | J10: 12.15 | K10: 131 | L10: 25 | M10: 1 | N10: 24 | O10: - | P10: - | Q10: 12 | R10: 3 | S10: 9 | T10: - | U10: 6 | V10: 6 | W10: - | X10: - | Y10: - | Z10: - | AA10: 12 | AB10: 12 | AC10: 12 | AD10: 12 | AE10: 12 | AF10: 12 | AG10: 0 | AH10: 12 | AI10: 6 | AJ10: 0 | AK10: 0 | AL10: 0 | AM10: 0 | AN10: 10 | AO10: 6 | AP10: 12 | AQ10: 10
A11: 6 | C11: 南橘村 | D11: 1547 | E11: 21 | F11: 222 | G11: 70 | H11: 143 | I11: 9 | J11: 65.55 | K11: 124 | L11: 22 | M11: 2 | N11: 22 | O11: 1 | P11: 2 | Q11: 6 | R11: 2 | S11: 3 | T11: 1 | U11: 4 | V11: 2 | W11: - | X11: - | Y11: - | Z11: - | AA11: 6 | AB11: 6 | AC11: 5 | AD11: 6 | AE11: 6 | AF11: 5 | AG11: 0 | AH11: 6 | AI11: 6 | AJ11: 2 | AK11: 1 | AL11: 1 | AM11: 1 | AN11: 6 | AO11: 6 | AP11: 6 | AQ11: 6
A12: 7 | C12: 芳賀村 | D12: 1610 | E12: 182 | F12: 629 | G12: 192 | H12: 394 | I12: 43 | J12: 133.2 | K12: 295 | L12: 49 | M12: 2 | N12: 48 | O12: 1 | P12: - | Q12: 9 | R12: 1 | S12: 4 | T12: 4 | U12: 1 | V12: 6 | W12: 2 | X12: - | Y12: - | Z12: - | AA12: 7 | AB12: 9 | AC12: 9 | AD12: 9 | AE12: 9 | AF12: 8 | AG12: 0 | AH12: 9 | AI12: 2 | AJ12: 6 | AK12: 1 | AL12: 7 | AM12: 4 | AN12: 9 | AO12: 3 | AP12: 9 | AQ12: 7
A13: 8 | C13: 桂萓村 | D13: 1674 | E13: 20 | F13: 585 | G13: 307 | H13: 268 | I13: 10 | J13: 71.41 | K13: 273 | L13: 46 | M13: - | N13: 46 | O13: - | P13: - | Q13: 13 | R13: 3 | S13: 9 | T13: 1 | U13: 10 | V13: 3 | W13: - | X13: - | Y13: - | Z13: - | AA13: 13 | AB13: 13 | AC13: 13 | AD13: 13 | AE13: 13 | AF13: 13 | AG13: 0 | AH13: 13 | AI13: 2 | AJ13: 3 | AK13: 0 | AL13: 4 | AM13: 4 | AN13: 13 | AO13: 10 | AP13: 13 | AQ13: 11
A14: 9 | C14: 東村（前橋市） | D14: 686 | E14: - | F14: 23 | G14: 16 | H14: 7 | I14: - | J14: 19.98 | K14: 46 | L14: 17 | M14: - | N14: 17 | O14: - | P14: - | Q14: 1 | R14: - | S14: 1 | T14: - | U14: 1 | V14: - | W14: - | X14: - | Y14: - | Z14: - | AA14: 1 | AB14: 1 | AC14: 1 | AD14: 1 | AE14: 1 | AF14: 1 | AG14: 0 | AH14: 1 | AI14: 0 | AJ14: 0 | AK14: 0 | AL14: 0 | AM14: 0 | AN14: 1 | AO14: 0 | AP14: 1 | AQ14: 0
A15: 10 | C15: 元総社村 | D15: 473 | E15: - | F15: 24 | G15: 0 | H15: 24 | I15: - | J15: 27.32 | K15: 14 | L15: 1 | M15: - | N15: 1 | O15: - | P15: - | Q15: 1 | R15: - | S15: - | T15: 1 | U15: 1 | V15: - | W15: - | X15: - | Y15: - | Z15: - | AA15: 1 | AB15: 1 | AC15: 0 | AD15: 1 | AE15: 1 | AF15: 1 | AG15: 0 | AH15: 1 | AI15: 0 | AJ15: 0 | AK15: 0 | AL15: 0 | AM15: 0 | AN15: 1 | AO15: 1 | AP15: 1 | AQ15: 1
A16: 11 | C16: 総社町 | D16: 641 | E16: - | F16: 53 | G16: 11 | H16: 42 | I16: - | J16: 25.9 | K16: 26 | L16: 1 | M16: - | N16: 1 | O16: - | P16: - | Q16: 2 | R16: - | S16: 1 | T16: 1 | U16: 2 | V16: - | W16: - | X16: - | Y16: - | Z16: - | AA16: 2 | AB16: 2 | AC16: 2 | AD16: 2 | AE16: 2 | AF16: 2 | AG16: 0 | AH16: 2 | AI16: 0 | AJ16: 0 | AK16: 0 | AL16: 0 | AM16: 0 | AN16: 2 | AO16: 1 | AP16: 2 | AQ16: 1
A17: 12 | C17: 清里村 | D17: 393 | E17: - | F17: 211 | G17: 56 | H17: 147 | I17: 8 | J17: 34.21 | K17: 108 | L17: 18 | M17: 2 | N17: 17 | O17: - | P17: - | Q17: 5 | R17: - | S17: 3 | T17: 2 | U17: 2 | V17: 3 | W17: - | X17: - | Y17: - | Z17: - | AA17: 5 | AB17: 1 | AC17: 3 | AD17: 5 | AE17: 5 | AF17: 5 | AG17: 0 | AH17: 5 | AI17: 1 | AJ17: 0 | AK17: 0 | AL17: 0 | AM17: 0 | AN17: 5 | AO17: 3 | AP17: 2 | AQ17: 0
A18: 13 | C18: 新高尾村２－２ | D18: 78 | E18: - | F18: 1 | G18: - | H18: 1 | I18: - | J18: x | K18: - | L18: - | M18: - | N18: - | O18: - | P18: - | Q18: 1 | R18: - | S18: - | T18: 1 | U18: 1 | V18: - | W18: - | X18: - | Y18: - | Z18: - | AA18: 0 | AB18: 1 | AC18: 1 | AD18: 1 | AE18: 1 | AF18: 1 | AG18: 0 | AH18: 1 | AI18: 0 | AJ18: 0 | AK18: 0 | AL18: 0 | AM18: 0 | AN18: 1 | AO18: 0 | AP18: 1 | AQ18: 0
A19: 14 | C19: 木瀬村 | D19: 1719 | E19: - | F19: 685 | G19: 407 | H19: 226 | I19: 52 | J19: 48.16 | K19: 229 | L19: 84 | M19: 4 | N19: 83 | O19: 2 | P19: 1 | Q19: 13 | R19: 4 | S19: 8 | T19: 1 | U19: 6 | V19: 7 | W19: - | X19: - | Y19: - | Z19: - | AA19: 13 | AB19: 13 | AC19: 13 | AD19: 13 | AE19: 13 | AF19: 13 | AG19: 0 | AH19: 13 | AI19: 7 | AJ19: 0 | AK19: 0 | AL19: 0 | AM19: 0 | AN19: 13 | AO19: 10 | AP19: 13 | AQ19: 13
A20: 15 | C20: 上陽村２－２ | D20: 490 | E20: - | F20: 234 | G20: 163 | H20: 71 | I20: - | J20: 4.61 | K20: 46 | L20: 6 | M20: 1 | N20: 4 | O20: - | P20: 1 | Q20: 6 | R20: 2 | S20: 4 | T20: - | U20: 6 | V20: - | W20: - | X20: - | Y20: - | Z20: - | AA20: 6 | AB20: 6 | AC20: 6 | AD20: 6 | AE20: 6 | AF20: 6 | AG20: 0 | AH20: 6 | AI20: 2 | AJ20: 0 | AK20: 0 | AL20: 0 | AM20: 0 | AN20: 5 | AO20: 2 | AP20: 6 | AQ20: 6
A21: 16 | C21: 荒砥村 | D21: 2489 | E21: 26 | F21: 1189 | G21: 576 | H21: 587 | I21: 26 | J21: 117.89 | K21: 478 | L21: 98 | M21: 3 | N21: 97 | O21: 2 | P21: 2 | Q21: 11 | R21: - | S21: 11 | T21: - | U21: - | V21: 10 | W21: 1 | X21: - | Y21: - | Z21: - | AA21: 11 | AB21: 11 | AC21: 11 | AD21: 11 | AE21: 11 | AF21: 11 | AG21: 0 | AH21: 11 | AI21: 7 | AJ21: 7 | AK21: 3 | AL21: 10 | AM21: 6 | AN21: 11 | AO21: 8 | AP21: 11 | AQ21: 8
A22: 17 | C22: 大胡町 | D22: 1979 | E22: 173 | F22: 825 | G22: 267 | H22: 530 | I22: 28 | J22: 139.5 | K22: 308 | L22: 89 | M22: 4 | N22: 87 | O22: 1 | P22: - | Q22: 11 | R22: 1 | S22: 5 | T22: 5 | U22: 6 | V22: 5 | W22: - | X22: - | Y22: - | Z22: - | AA22: 9 | AB22: 9 | AC22: 9 | AD22: 10 | AE22: 10 | AF22: 10 | AG22: 0 | AH22: 11 | AI22: 4 | AJ22: 8 | AK22: 2 | AL22: 7 | AM22: 5 | AN22: 9 | AO22: 5 | AP22: 11 | AQ22: 9
A23: 18 | C23: 宮城村 | D23: 4816 | E23: 2558 | F23: 1079 | G23: 470 | H23: 534 | I23: 75 | J23: 128.22 | K23: 494 | L23: 91 | M23: 4 | N23: 86 | O23: 1 | P23: 3 | Q23: 7 | R23: 1 | S23: 6 | T23: - | U23: - | V23: 3 | W23: 4 | X23: - | Y23: - | Z23: - | AA23: 6 | AB23: 6 | AC23: 6 | AD23: 7 | AE23: 7 | AF23: 7 | AG23: 0 | AH23: 7 | AI23: 4 | AJ23: 6 | AK23: 2 | AL23: 6 | AM23: 5 | AN23: 7 | AO23: 6 | AP23: 6 | AQ23: 6
A24: 19 | C24: 粕川村 | D24: 2577 | E24: 624 | F24: 1027 | G24: 438 | H24: 566 | I24: 23 | J24: 126.16 | K24: 406 | L24: 75 | M24: 7 | N24: 73 | O24: 3 | P24: 2 | Q24: 11 | R24: - | S24: 9 | T24: 2 | U24: 1 | V24: 8 | W24: 2 | X24: - | Y24: - | Z24: - | AA24: 10 | AB24: 9 | AC24: 9 | AD24: 11 | AE24: 9 | AF24: 9 | AG24: 0 | AH24: 11 | AI24: 2 | AJ24: 9 | AK24: 1 | AL24: 9 | AM24: 8 | AN24: 11 | AO24: 7 | AP24: 11 | AQ24: 7
A25: 20 | C25: 富士見村 | D25: 7048 | E25: 3859 | F25: 1498 | G25: 484 | H25: 1001 | I25: 13 | J25: 199.06 | K25: 686 | L25: 121 | M25: 5 | N25: 119 | O25: 1 | P25: 2 | Q25: 30 | R25: - | S25: 20 | T25: 10 | U25: 6 | V25: 17 | W25: 6 | X25: 1 | Y25: - | Z25: - | AA25: 17 | AB25: 26 | AC25: 25 | AD25: 30 | AE25: 29 | AF25: 30 | AG25: 0 | AH25: 29 | AI25: 13 | AJ25: 22 | AK25: 7 | AL25: 11 | AM25: 8 | AN25: 30 | AO25: 16 | AP25: 29 | AQ25: 25
A26: 21 | B26: 高崎市 | C26: 高崎市 | D26: 45916 | E26: 21364 | F26: 6620 | G26: 2900 | H26: 2665 | I26: 1055 | J26: 1851.44 | K26: 3539 | L26: 706 | M26: 77 | N26: 664 | O26: 22 | P26: 7 | Q26: 215 | R26: 48 | S26: 98 | T26: 69 | U26: 85 | V26: 69 | W26: 33 | X26: 25 | Y26: 3 | Z26: - | AA26: 118 | AB26: 183 | AC26: 83 | AD26: 195 | AE26: 170 | AF26: 158 | AG26: 9 | AH26: 215 | AI26: 72 | AJ26: 126 | AK26: 26 | AL26: 44 | AM26: 27 | AN26: 150 | AO26: 64 | AP26: 204 | AQ26: 174
A27: 22 | C27: 高崎市（旧） | D27: 3607 | E27: 677 | F27: 157 | G27: 97 | H27: 57 | I27: 3 | J27: 127.28 | K27: 113 | L27: 16 | M27: 1 | N27: 15 | O27: - | P27: - | Q27: 6 | R27: 2 | S27: 2 | T27: 2 | U27: 6 | V27: - | W27: - | X27: - | Y27: - | Z27: - | AA27: 5 | AB27: 6 | AC27: 2 | AD27: 6 | AE27: 6 | AF27: 6 | AG27: 0 | AH27: 6 | AI27: 3 | AJ27: 3 | AK27: 1 | AL27: 0 | AM27: 0 | AN27: 3 | AO27: 3 | AP27: 6 | AQ27: 5
A28: 23 | C28: 六郷村 | D28: 652 | E28: - | F28: 112 | G28: 90 | H28: 20 | I28: 2 | J28: 24.44 | K28: 75 | L28: 9 | M28: 1 | N28: 8 | O28: - | P28: - | Q28: 4 | R28: 3 | S28: 1 | T28: - | U28: 4 | V28: - | W28: - | X28: - | Y28: - | Z28: - | AA28: 1 | AB28: 4 | AC28: 1 | AD28: 4 | AE28: 4 | AF28: 4 | AG28: 0 | AH28: 4 | AI28: 0 | AJ28: 0 | AK28: 0 | AL28: 1 | AM28: 1 | AN28: 1 | AO28: 0 | AP28: 4 | AQ28: 4
A29: 24 | C29: 新高尾村２－１ | D29: 498 | E29: - | F29: 130 | G29: 96 | H29: 31 | I29: 3 | J29: 21.41 | K29: 111 | L29: 13 | M29: - | N29: 13 | O29: - | P29: - | Q29: 4 | R29: 3 | S29: 1 | T29: - | U29: 3 | V29: 1 | W29: - | X29: - | Y29: - | Z29: - | AA29: 2 | AB29: 4 | AC29: 1 | AD29: 4 | AE29: 4 | AF29: 4 | AG29: 0 | AH29: 4 | AI29: 0 | AJ29: 0 | AK29: 0 | AL29: 0 | AM29: 0 | AN29: 2 | AO29: 0 | AP29: 4 | AQ29: 4
A30: 25 | C30: 中川村 | D30: 596 | E30: - | F30: 102 | G30: 72 | H30: 29 | I30: 1 | J30: 20.54 | K30: 83 | L30: 13 | M30: - | N30: 13 | O30: - | P30: - | Q30: 4 | R30: 2 | S30: 2 | T30: - | U30: 3 | V30: 1 | W30: - | X30: - | Y30: - | Z30: - | AA30: 2 | AB30: 4 | AC30: 1 | AD30: 4 | AE30: 4 | AF30: 4 | AG30: 0 | AH30: 4 | AI30: 0 | AJ30: 1 | AK30: 0 | AL30: 2 | AM30: 1 | AN30: 1 | AO30: 0 | AP30: 4 | AQ30: 4
A31: 26 | C31: 八幡村（碓氷郡） | D31: 859 | E31: 91 | F31: 167 | G31: 63 | H31: 87 | I31: 17 | J31: 27.11 | K31: 81 | L31: 23 | M31: 2 | N31: 22 | O31: 1 | P31: - | Q31: 8 | R31: 2 | S31: 4 | T31: 2 | U31: 6 | V31: 2 | W31: - | X31: - | Y31: - | Z31: - | AA31: 6 | AB31: 7 | AC31: 4 | AD31: 6 | AE31: 5 | AF31: 5 | AG31: 1 | AH31: 8 | AI31: 4 | AJ31: 4 | AK31: 1 | AL31: 0 | AM31: 0 | AN31: 0 | AO31: 0 | AP31: 8 | AQ31: 6
A32: 27 | C32: 豊岡村 | D32: 374 | E32: - | F32: 38 | G32: 23 | H32: 14 | I32: 1 | J32: 6.84 | K32: 20 | L32: 2 | M32: - | N32: 2 | O32: - | P32: - | Q32: 3 | R32: 2 | S32: 1 | T32: - | U32: 3 | V32: - | W32: - | X32: - | Y32: - | Z32: - | AA32: 2 | AB32: 2 | AC32: 0 | AD32: 2 | AE32: 1 | AF32: 2 | AG32: 1 | AH32: 3 | AI32: 0 | AJ32: 0 | AK32: 0 | AL32: 0 | AM32: 0 | AN32: 0 | AO32: 0 | AP32: 3 | AQ32: 2
A33: 28 | C33: 長野村 | D33: 589 | E33: - | F33: 220 | G33: 174 | H33: 44 | I33: 2 | J33: 40.25 | K33: 116 | L33: 26 | M33: 3 | N33: 25 | O33: - | P33: - | Q33: 8 | R33: 8 | S33: - | T33: - | U33: 6 | V33: 2 | W33: - | X33: - | Y33: - | Z33: - | AA33: 6 | AB33: 8 | AC33: 3 | AD33: 8 | AE33: 6 | AF33: 7 | AG33: 0 | AH33: 8 | AI33: 6 | AJ33: 0 | AK33: 0 | AL33: 2 | AM33: 1 | AN33: 0 | AO33: 0 | AP33: 8 | AQ33: 8
A34: 29 | C34: 大類村 | D34: 669 | E34: - | F34: 235 | G34: 191 | H34: 43 | I34: 1 | J34: 16.18 | K34: 139 | L34: 12 | M34: 3 | N34: 11 | O34: - | P34: - | Q34: 6 | R34: 5 | S34: 1 | T34: - | U34: 1 | V34: 5 | W34: - | X34: - | Y34: - | Z34: - | AA34: 6 | AB34: 6 | AC34: 1 | AD34: 6 | AE34: 3 | AF34: 6 | AG34: 0 | AH34: 6 | AI34: 1 | AJ34: 2 | AK34: 0 | AL34: 0 | AM34: 0 | AN34: 1 | AO34: 1 | AP34: 6 | AQ34: 6
A35: 30 | C35: 八幡村（多野郡） | D35: 976 | E35: 174 | F35: 204 | G35: 125 | H35: 67 | I35: 12 | J35: 36.4 | K35: 151 | L35: 18 | M35: 1 | N35: 17 | O35: - | P35: - | Q35: 4 | R35: 1 | S35: 3 | T35: - | U35: 1 | V35: 3 | W35: - | X35: - | Y35: - | Z35: - | AA35: 3 | AB35: 3 | AC35: 2 | AD35: 3 | AE35: 3 | AF35: 3 | AG35: 1 | AH35: 4 | AI35: 2 | AJ35: 2 | AK35: 0 | AL35: 1 | AM35: 1 | AN35: 2 | AO35: 0 | AP35: 4 | AQ35: 3
A36: 31 | C36: 岩鼻村 | D36: 581 | E36: - | F36: 131 | G36: 97 | H36: 34 | I36: - | J36: 11.85 | K36: 93 | L36: 5 | M36: - | N36: 5 | O36: - | P36: - | Q36: 5 | R36: 3 | S36: 1 | T36: 1 | U36: 3 | V36: 2 | W36: - | X36: - | Y36: - | Z36: - | AA36: 4 | AB36: 2 | AC36: 2 | AD36: 4 | AE36: 3 | AF36: 4 | AG36: 1 | AH36: 5 | AI36: 0 | AJ36: 2 | AK36: 0 | AL36: 0 | AM36: 0 | AN36: 0 | AO36: 0 | AP36: 5 | AQ36: 2
A37: 32 | C37: 倉賀野町 | D37: 426 | E37: - | F37: … | G37: … | H37: … | I37: … | J37: 3.46 | K37: 20 | L37: 4 | M37: 1 | N37: 4 | O37: - | P37: - | Q37: - | R37: - | S37: - | T37: - | U37: - | V37: - | W37: - | X37: - | Y37: - | Z37: - | AA37: … | AB37: … | AC37: … | AD37: … | AE37: … | AF37: … | AG37: … | AH37: … | AI37: … | AJ37: … | AK37: … | AL37: … | AM37: … | AN37: … | AO37: … | AP37: … | AQ37: …
A38: 33 | C38: 京ケ島村 | D38: 665 | E38: - | F38: 218 | G38: 167 | H38: 49 | I38: 2 | J38: 25.25 | K38: 167 | L38: 11 | M38: 1 | N38: 10 | O38: - | P38: - | Q38: 8 | R38: 8 | S38: - | T38: - | U38: 6 | V38: 2 | W38: - | X38: - | Y38: - | Z38: - | AA38: 6 | AB38: 7 | AC38: 4 | AD38: 8 | AE38: 7 | AF38: 7 | AG38: 0 | AH38: 8 | AI38: 2 | AJ38: 0 | AK38: 0 | AL38: 0 | AM38: 0 | AN38: 4 | AO38: 1 | AP38: 8 | AQ38: 6
A39: 34 | C39: 滝川村２－１ | D39: 575 | E39: - | F39: 178 | G39: 120 | H39: 54 | I39: 4 | J39: 16.14 | K39: 122 | L39: 4 | M39: - | N39: 4 | O39: 1 | P39: - | Q39: 8 | R39: 3 | S39: 5 | T39: - | U39: 3 | V39: 5 | W39: - | X39: - | Y39: - | Z39: - | AA39: 7 | AB39: 8 | AC39: 2 | AD39: 7 | AE39: 6 | AF39: 7 | AG39: 0 | AH39: 8 | AI39: 3 | AJ39: 3 | AK39: 0 | AL39: 0 | AM39: 0 | AN39: 6 | AO39: 2 | AP39: 8 | AQ39: 8
A40: 35 | C40: 倉田村 | D40: 3906 | E40: 2850 | F40: 334 | G40: 109 | H40: 223 | I40: 2 | J40: 103.7 | K40: 139 | L40: 38 | M40: 4 | N40: 36 | O40: - | P40: 1 | Q40: 11 | R40: - | S40: 6 | T40: 5 | U40: - | V40: 1 | W40: 5 | X40: 4 | Y40: 1 | Z40: - | AA40: 11 | AB40: 11 | AC40: 6 | AD40: 11 | AE40: 5 | AF40: 3 | AG40: 0 | AH40: 11 | AI40: 11 | AJ40: 11 | AK40: 5 | AL40: 0 | AM40: 0 | AN40: 11 | AO40: 11 | AP40: 11 | AQ40: 11
A41: 36 | C41: 烏淵村 | D41: 8769 | E41: 8011 | F41: 232 | G41: 87 | H41: 141 | I41: 4 | J41: 75.3 | K41: 123 | L41: 24 | M41: 2 | N41: 23 | O41: - | P41: 1 | Q41: 11 | R41: - | S41: 8 | T41: 3 | U41: - | V41: - | W41: 5 | X41: 5 | Y41: 1 | Z41: - | AA41: 10 | AB41: 11 | AC41: 3 | AD41: 11 | AE41: 9 | AF41: 11 | AG41: 0 | AH41: 11 | AI41: 11 | AJ41: 11 | AK41: 5 | AL41: 1 | AM41: 1 | AN41: 11 | AO41: 11 | AP41: 11 | AQ41: 11
A42: 37 | C42: 箕輪町 | D42: 1729 | E42: 830 | F42: 221 | G42: 98 | H42: 73 | I42: 50 | J42: 81.88 | K42: 144 | L42: 29 | M42: 2 | N42: 28 | O42: 1 | P42: - | Q42: 8 | R42: 1 | S42: 3 | T42: 4 | U42: 4 | V42: 2 | W42: - | X42: 1 | Y42: 1 | Z42: - | AA42: 4 | AB42: 8 | AC42: 5 | AD42: 8 | AE42: 8 | AF42: 8 | AG42: 0 | AH42: 8 | AI42: 3 | AJ42: 6 | AK42: 0 | AL42: 2 | AM42: 2 | AN42: 8 | AO42: 2 | AP42: 7 | AQ42: 7
A43: 38 | C43: 車郷村 | D43: 2095 | E43: 1261 | F43: 376 | G43: 93 | H43: 48 | I43: 235 | J43: 91.2 | K43: 212 | L43: 30 | M43: 12 | N43: 24 | O43: 1 | P43: - | Q43: 4 | R43: - | S43: 2 | T43: 2 | U43: - | V43: 2 | W43: 2 | X43: - | Y43: - | Z43: - | AA43: 2 | AB43: 4 | AC43: 3 | AD43: 4 | AE43: 4 | AF43: 4 | AG43: 0 | AH43: 4 | AI43: 1 | AJ43: 3 | AK43: 0 | AL43: 1 | AM43: 0 | AN43: 4 | AO43: 2 | AP43: 4 | AQ43: 4
A44: 39 | C44: 相馬村２－２ | D44: 272 | E44: 156 | F44: 111 | G44: 32 | H44: 68 | I44: 11 | J44: 49.23 | K44: 39 | L44: 11 | M44: - | N44: 11 | O44: - | P44: - | Q44: 3 | R44: - | S44: 2 | T44: 1 | U44: - | V44: 3 | W44: - | X44: - | Y44: - | Z44: - | AA44: 1 | AB44: 2 | AC44: 1 | AD44: 2 | AE44: 2 | AF44: 1 | AG44: 1 | AH44: 3 | AI44: 1 | AJ44: 1 | AK44: 0 | AL44: 3 | AM44: 1 | AN44: 3 | AO44: 1 | AP44: 3 | AQ44: 2
A45: 40 | C45: 上郊村２－２ | D45: 180 | E45: - | F45: 83 | G45: 32 | H45: 41 | I45: 10 | J45: 13.93 | K45: 35 | L45: 5 | M45: - | N45: 5 | O45: - | P45: - | Q45: 1 | R45: - | S45: 1 | T45: - | U45: 1 | V45: - | W45: - | X45: - | Y45: - | Z45: - | AA45: 0 | AB45: 1 | AC45: 1 | AD45: 1 | AE45: 1 | AF45: 0 | AG45: 0 | AH45: 1 | AI45: 0 | AJ45: 0 | AK45: 0 | AL45: 0 | AM45: 0 | AN45: 1 | AO45: 0 | AP45: 1 | AQ45: 1
A46: 41 | C46: 金古町 | D46: 609 | E46: - | F46: 195 | G46: 48 | H46: 138 | I46: 9 | J46: 64.18 | K46: 64 | L46: 9 | M46: 1 | N46: 8 | O46: - | P46: - | Q46: 3 | R46: - | S46: 1 | T46: 2 | U46: 3 | V46: - | W46: - | X46: - | Y46: - | Z46: - | AA46: 0 | AB46: 3 | AC46: 3 | AD46: 3 | AE46: 3 | AF46: 3 | AG46: 0 | AH46: 3 | AI46: 0 | AJ46: 0 | AK46: 0 | AL46: 0 | AM46: 0 | AN46: 3 | AO46: 3 | AP46: 3 | AQ46: 3
A47: 42 | C47: 国府村 | D47: 460 | E47: - | F47: 243 | G47: 67 | H47: 166 | I47: 10 | J47: 47.87 | K47: 123 | L47: 24 | M47: 1 | N47: 22 | O47: - | P47: 3 | Q47: 8 | R47: - | S47: 3 | T47: 5 | U47: - | V47: 8 | W47: - | X47: - | Y47: - | Z47: - | AA47: 0 | AB47: 7 | AC47: 4 | AD47: 8 | AE47: 8 | AF47: 8 | AG47: 0 | AH47: 8 | AI47: 0 | AJ47: 0 | AK47: 0 | AL47: 0 | AM47: 0 | AN47: 6 | AO47: 2 | AP47: 8 | AQ47: 7
A48: 43 | C48: 堤ヶ岡村 | D48: 657 | E48: - | F48: 146 | G48: 83 | H48: 63 | I48: 0 | J48: 42.86 | K48: 57 | L48: 11 | M48: - | N48: 11 | O48: - | P48: - | Q48: 6 | R48: 2 | S48: 2 | T48: 2 | U48: 6 | V48: - | W48: - | X48: - | Y48: - | Z48: - | AA48: 0 | AB48: 5 | AC48: 5 | AD48: 6 | AE48: 6 | AF48: 6 | AG48: 0 | AH48: 6 | AI48: 0 | AJ48: 0 | AK48: 0 | AL48: 1 | AM48: 0 | AN48: 6 | AO48: 2 | AP48: 6 | AQ48: 5
A49: 44 | C49: 上郊村２－１ | D49: 470 | E49: 3 | F49: 220 | G49: 111 | H49: 92 | I49: 17 | J49: 55.83 | K49: 100 | L49: 12 | M49: - | N49: 12 | O49: 1 | P49: - | Q49: 3 | R49: - | S49: 3 | T49: - | U49: - | V49: 3 | W49: - | X49: - | Y49: - | Z49: - | AA49: 0 | AB49: 3 | AC49: 1 | AD49: 3 | AE49: 3 | AF49: 2 | AG49: 0 | AH49: 3 | AI49: 0 | AJ49: 1 | AK49: 0 | AL49: 0 | AM49: 0 | AN49: 3 | AO49: 2 | AP49: 3 | AQ49: 3
A50: 45 | C50: 新町 | D50: 380 | E50: - | F50: 19 | G50: 5 | H50: 13 | I50: 1 | J50: 13.84 | K50: 20 | L50: 7 | M50: 1 | N50: 7 | O50: - | P50: - | Q50: 4 | R50: - | S50: 2 | T50: 2 | U50: 4 | V50: - | W50: - | X50: - | Y50: - | Z50: - | AA50: 2 | AB50: 0 | AC50: 1 | AD50: 2 | AE50: 2 | AF50: 2 | AG50: 2 | AH50: 4 | AI50: 0 | AJ50: 0 | AK50: 0 | AL50: 0 | AM50: 0 | AN50: 1 | AO50: 0 | AP50: 0 | AQ50: 0
A51: 46 | C51: 室田町 | D51: 5637 | E51: 3647 | F51: 519 | G51: 182 | H51: 198 | I51: 139 | J51: 187.8 | K51: 235 | L51: 54 | M51: 9 | N51: 48 | O51: - | P51: - | Q51: 20 | R51: - | S51: 13 | T51: 7 | U51: 4 | V51: 7 | W51: 6 | X51: 3 | Y51: - | Z51: - | AA51: 18 | AB51: 17 | AC51: 15 | AD51: 20 | AE51: 20 | AF51: 15 | AG51: 0 | AH51: 20 | AI51: 11 | AJ51: 20 | AK51: 5 | AL51: 3 | AM51: 2 | AN51: 20 | AO51: 9 | AP51: 17 | AQ51: 13
A52: 47 | C52: 里見村 | D52: 1771 | E52: 810 | F52: 452 | G52: 100 | H52: 84 | I52: 268 | J52: 62.62 | K52: 237 | L52: 103 | M52: 19 | N52: 91 | O52: 17 | P52: 2 | Q52: 10 | R52: - | S52: 2 | T52: 8 | U52: 3 | V52: 3 | W52: 3 | X52: 1 | Y52: - | Z52: - | AA52: 3 | AB52: 5 | AC52: 4 | AD52: 9 | AE52: 9 | AF52: 7 | AG52: 0 | AH52: 10 | AI52: 4 | AJ52: 10 | AK52: 3 | AL52: 2 | AM52: 1 | AN52: 10 | AO52: 4 | AP52: 9 | AQ52: 4
A53: 48 | C53: 久留馬村 | D53: 2085 | E53: 819 | F53: 471 | G53: 105 | H53: 204 | I53: 162 | J53: 182.95 | K53: 187 | L53: 31 | M53: 1 | N53: 30 | O53: - | P53: - | Q53: 7 | R53: - | S53: 3 | T53: 4 | U53: 1 | V53: 4 | W53: 2 | X53: - | Y53: - | Z53: - | AA53: 6 | AB53: 3 | AC53: 2 | AD53: 5 | AE53: 5 | AF53: 5 | AG53: 0 | AH53: 7 | AI53: 2 | AJ53: 7 | AK53: 0 | AL53: 1 | AM53: 1 | AN53: 7 | AO53: 3 | AP53: 7 | AQ53: 3
A54: 49 | C54: 吉井町 | D54: 1268 | E54: 114 | F54: 438 | G54: 167 | H54: 238 | I54: 33 | J54: 96.69 | K54: 184 | L54: 54 | M54: 3 | N54: 53 | O54: - | P54: - | Q54: 18 | R54: 2 | S54: 9 | T54: 7 | U54: 9 | V54: 5 | W54: 1 | X54: 3 | Y54: - | Z54: - | AA54: 6 | AB54: 17 | AC54: 2 | AD54: 14 | AE54: 13 | AF54: 9 | AG54: 0 | AH54: 18 | AI54: 2 | AJ54: 10 | AK54: 1 | AL54: 5 | AM54: 5 | AN54: 10 | AO54: 1 | AP54: 18 | AQ54: 17
A55: 50 | C55: 多胡村 | D55: 1175 | E55: 746 | F55: 124 | G55: 39 | H55: 68 | I55: 17 | J55: 63.62 | K55: 54 | L55: 29 | M55: 3 | N55: 28 | O55: - | P55: - | Q55: 9 | R55: - | S55: 3 | T55: 6 | U55: 2 | V55: 4 | W55: 2 | X55: 1 | Y55: - | Z55: - | AA55: 0 | AB55: 5 | AC55: 1 | AD55: 7 | AE55: 1 | AF55: 1 | AG55: 2 | AH55: 9 | AI55: 0 | AJ55: 9 | AK55: 1 | AL55: 5 | AM55: 2 | AN55: 9 | AO55: 1 | AP55: 7 | AQ55: 5
A56: 51 | C56: 入野村 | D56: 1832 | E56: 701 | F56: 356 | G56: 158 | H56: 177 | I56: 21 | J56: 142.74 | K56: 234 | L56: 61 | M56: 2 | N56: 61 | O56: - | P56: - | Q56: 14 | R56: 1 | S56: 9 | T56: 4 | U56: 3 | V56: 3 | W56: 3 | X56: 5 | Y56: - | Z56: - | AA56: 3 | AB56: 13 | AC56: 1 | AD56: 12 | AE56: 12 | AF56: 8 | AG56: 0 | AH56: 14 | AI56: 0 | AJ56: 13 | AK56: 1 | AL56: 8 | AM56: 4 | AN56: 10 | AO56: 1 | AP56: 14 | AQ56: 13
A57: 52 | C57: 岩平村 | D57: 1554 | E57: 475 | F57: 188 | G57: 69 | H57: 101 | I57: 18 | J57: 98.05 | K57: 61 | L57: 18 | M57: 4 | N57: 17 | O57: - | P57: - | Q57: 7 | R57: - | S57: 5 | T57: 2 | U57: - | V57: 1 | W57: 4 | X57: 2 | Y57: - | Z57: - | AA57: 2 | AB57: 7 | AC57: 2 | AD57: 7 | AE57: 7 | AF57: 6 | AG57: 0 | AH57: 7 | AI57: 5 | AJ57: 7 | AK57: 3 | AL57: 6 | AM57: 4 | AN57: 7 | AO57: 2 | AP57: 7 | AQ57: 7
A58: 53 | B58: 桐生市 | C58: 桐生市 | D58: 27445 | E58: 19635 | F58: 1622 | G58: 502 | H58: 1058 | I58: 62 | J58: 492.97 | K58: 633 | L58: 164 | M58: 12 | N58: 162 | O58: 5 | P58: 4 | Q58: 79 | R58: 5 | S58: 37 | T58: 37 | U58: 43 | V58: 20 | W58: 13 | X58: 2 | Y58: 1 | Z58: - | AA58: 31 | AB58: 51 | AC58: 25 | AD58: 45 | AE58: 41 | AF58: 28 | AG58: 13 | AH58: 78 | AI58: 6 | AJ58: 74 | AK58: 8 | AL58: 16 | AM58: 5 | AN58: 66 | AO58: 21 | AP58: 67 | AQ58: 45
A59: 54 | C59: 桐生市（旧） | D59: 2579 | E59: 732 | F59: 44 | G59: 20 | H59: 18 | I59: 6 | J59: 20.41 | K59: 51 | L59: 15 | M59: - | N59: 15 | O59: 2 | P59: - | Q59: 7 | R59: 1 | S59: 5 | T59: 1 | U59: 7 | V59: - | W59: - | X59: - | Y59: - | Z59: - | AA59: 0 | AB59: 3 | AC59: 0 | AD59: 3 | AE59: 1 | AF59: 1 | AG59: 3 | AH59: 7 | AI59: 0 | AJ59: 7 | AK59: 0 | AL59: 1 | AM59: 1 | AN59: 1 | AO59: 0 | AP59: 7 | AQ59: 3
A60: 55 | C60: 梅田村 | D60: 4423 | E60: 4141 | F60: 49 | G60: 17 | H60: 26 | I60: 6 | J60: 16.37 | K60: 20 | L60: 8 | M60: 1 | N60: 8 | O60: - | P60: - | Q60: 5 | R60: 1 | S60: 1 | T60: 3 | U60: 4 | V60: - | W60: 1 | X60: - | Y60: - | Z60: - | AA60: 0 | AB60: 3 | AC60: 2 | AD60: 3 | AE60: 4 | AF60: 4 | AG60: 1 | AH60: 5 | AI60: 1 | AJ60: 5 | AK60: 2 | AL60: 1 | AM60: 0 | AN60: 5 | AO60: 4 | AP60: 3 | AQ60: 3
A61: 56 | C61: 川内村２－１ | D61: 2608 | E61: 1964 | F61: 83 | G61: 36 | H61: 38 | I61: 9 | J61: 37.93 | K61: 11 | L61: 3 | M61: - | N61: 3 | O61: - | P61: - | Q61: 9 | R61: 1 | S61: 6 | T61: 2 | U61: 9 | V61: - | W61: - | X61: - | Y61: - | Z61: - | AA61: 4 | AB61: 8 | AC61: 2 | AD61: 6 | AE61: 1 | AF61: 2 | AG61: 0 | AH61: 9 | AI61: 1 | AJ61: 9 | AK61: 3 | AL61: 2 | AM61: 1 | AN61: 8 | AO61: 7 | AP61: 9 | AQ61: 8
A62: 57 | C62: 相生村 | D62: 749 | E62: 6 | F62: 5 | G62: 1 | H62: 4 | I62: 0 | J62: 19.44 | K62: 33 | L62: 15 | M62: 1 | N62: 14 | O62: - | P62: - | Q62: 1 | R62: - | S62: - | T62: 1 | U62: 1 | V62: - | W62: - | X62: - | Y62: - | Z62: - | AA62: 0 | AB62: 1 | AC62: 0 | AD62: 0 | AE62: 1 | AF62: 0 | AG62: 0 | AH62: 1 | AI62: 0 | AJ62: 1 | AK62: 0 | AL62: 0 | AM62: 0 | AN62: 1 | AO62: 0 | AP62: 1 | AQ62: 1
A63: 58 | C63: 菱村 | D63: 2206 | E63: 1785 | F63: 23 | G63: 8 | H63: 9 | I63: 6 | J63: 18.86 | K63: 9 | L63: 3 | M63: - | N63: 3 | O63: - | P63: - | Q63: 5 | R63: - | S63: 3 | T63: 2 | U63: 5 | V63: - | W63: - | X63: - | Y63: - | Z63: - | AA63: 0 | AB63: 2 | AC63: 0 | AD63: 3 | AE63: 2 | AF63: 1 | AG63: 1 | AH63: 5 | AI63: 0 | AJ63: 5 | AK63: 0 | AL63: 1 | AM63: 0 | AN63: 4 | AO63: 0 | AP63: 4 | AQ63: 0
A64: 59 | C64: 飛駒村２－２ | D64: 1170 | E64: 1045 | F64: 10 | G64: 2 | H64: 6 | I64: 2 | J64: 4.68 | K64: - | L64: - | M64: - | N64: - | O64: - | P64: - | Q64: 7 | R64: - | S64: 1 | T64: 6 | U64: 5 | V64: 2 | W64: - | X64: - | Y64: - | Z64: - | AA64: 1 | AB64: 0 | AC64: 1 | AD64: 1 | AE64: 1 | AF64: 1 | AG64: 6 | AH64: 6 | AI64: 1 | AJ64: 7 | AK64: 1 | AL64: 0 | AM64: 0 | AN64: 6 | AO64: 0 | AP64: 0 | AQ64: 0
A65: 60 | C65: 新里村 | D65: 3566 | E65: 1056 | F65: 1119 | G65: 314 | H65: 779 | I65: 26 | J65: 275.63 | K65: 381 | L65: 81 | M65: 5 | N65: 80 | O65: 1 | P65: 1 | Q65: 31 | R65: 1 | S65: 14 | T65: 16 | U65: 11 | V65: 13 | W65: 7 | X65: - | Y65: - | Z65: - | AA65: 23 | AB65: 25 | AC65: 14 | AD65: 15 | AE65: 18 | AF65: 9 | AG65: 2 | AH65: 31 | AI65: 1 | AJ65: 26 | AK65: 0 | AL65: 9 | AM65: 3 | AN65: 29 | AO65: 7 | AP65: 29 | AQ65: 21
A66: 61 | C66: 黒保根村 | D66: 10144 | E66: 8906 | F66: 289 | G66: 104 | H66: 178 | I66: 7 | J66: 99.65 | K66: 128 | L66: 39 | M66: 5 | N66: 39 | O66: 2 | P66: 3 | Q66: 14 | R66: 1 | S66: 7 | T66: 6 | U66: 1 | V66: 5 | W66: 5 | X66: 2 | Y66: 1 | Z66: - | AA66: 3 | AB66: 9 | AC66: 6 | AD66: 14 | AE66: 13 | AF66: 10 | AG66: 0 | AH66: 14 | AI66: 2 | AJ66: 14 | AK66: 2 | AL66: 2 | AM66: 0 | AN66: 12 | AO66: 3 | AP66: 14 | AQ66: 9
A67: 62 | B67: 伊勢崎市 | C67: 伊勢崎市 | D67: 13944 | E67: 25 | F67: 4780 | G67: 1800 | H67: 2956 | I67: 24 | J67: 685.26 | K67: 1768 | L67: 201 | M67: 10 | N67: 195 | O67: 4 | P67: - | Q67: 125 | R67: 15 | S67: 61 | T67: 49 | U67: 74 | V67: 47 | W67: 3 | X67: 1 | Y67: - | Z67: - | AA67: 114 | AB67: 108 | AC67: 105 | AD67: 119 | AE67: 112 | AF67: 108 | AG67: 1 | AH67: 125 | AI67: 29 | AJ67: 8 | AK67: 3 | AL67: 17 | AM67: 14 | AN67: 114 | AO67: 63 | AP67: 113 | AQ67: 96
A68: 63 | C68: 伊勢崎市（旧） | D68: 2172 | E68: 3 | F68: 301 | G68: 133 | H68: 164 | I68: 4 | J68: 100.68 | K68: 151 | L68: 20 | M68: - | N68: 20 | O68: - | P68: - | Q68: 13 | R68: 2 | S68: 9 | T68: 2 | U68: 8 | V68: 5 | W68: - | X68: - | Y68: - | Z68: - | AA68: 12 | AB68: 11 | AC68: 12 | AD68: 13 | AE68: 12 | AF68: 11 | AG68: 0 | AH68: 13 | AI68: 4 | AJ68: 1 | AK68: 0 | AL68: 4 | AM68: 3 | AN68: 13 | AO68: 7 | AP68: 13 | AQ68: 10
A69: 64 | C69: 三郷村 | D69: 889 | E69: 1 | F69: 310 | G69: 174 | H69: 134 | I69: 2 | J69: 43.45 | K69: 90 | L69: 8 | M69: 1 | N69: 7 | O69: - | P69: - | Q69: 15 | R69: 4 | S69: 10 | T69: 1 | U69: 7 | V69: 8 | W69: - | X69: - | Y69: - | Z69: - | AA69: 14 | AB69: 15 | AC69: 7 | AD69: 11 | AE69: 6 | AF69: 4 | AG69: 0 | AH69: 15 | AI69: 2 | AJ69: 1 | AK69: 0 | AL69: 2 | AM69: 2 | AN69: 15 | AO69: 12 | AP69: 15 | AQ69: 13
A70: 65 | C70: 宮郷村 | D70: 1315 | E70: - | F70: 345 | G70: 197 | H70: 140 | I70: 8 | J70: 42.65 | K70: 125 | L70: 28 | M70: - | N70: 28 | O70: 2 | P70: - | Q70: 5 | R70: 1 | S70: 4 | T70: - | U70: 3 | V70: 2 | W70: - | X70: - | Y70: - | Z70: - | AA70: 5 | AB70: 5 | AC70: 4 | AD70: 4 | AE70: 4 | AF70: 4 | AG70: 0 | AH70: 5 | AI70: 0 | AJ70: 0 | AK70: 0 | AL70: 0 | AM70: 0 | AN70: 5 | AO70: 4 | AP70: 5 | AQ70: 4
A71: 66 | C71: 名和村 | D71: 1188 | E71: - | F71: 424 | G71: 278 | H71: 146 | I71: - | J71: 54.7 | K71: 102 | L71: 13 | M71: 3 | N71: 11 | O71: 1 | P71: - | Q71: 11 | R71: 7 | S71: 2 | T71: 2 | U71: 9 | V71: 2 | W71: - | X71: - | Y71: - | Z71: - | AA71: 10 | AB71: 11 | AC71: 10 | AD71: 11 | AE71: 11 | AF71: 11 | AG71: 0 | AH71: 11 | AI71: 11 | AJ71: 0 | AK71: 0 | AL71: 0 | AM71: 0 | AN71: 10 | AO71: 8 | AP71: 11 | AQ71: 10
A72: 67 | C72: 豊受村 | D72: 967 | E72: - | F72: 239 | G72: 117 | H72: 122 | I72: - | J72: 57.41 | K72: 76 | L72: 9 | M72: - | N72: 9 | O72: - | P72: - | Q72: 10 | R72: 1 | S72: 7 | T72: 2 | U72: 8 | V72: 2 | W72: - | X72: - | Y72: - | Z72: - | AA72: 8 | AB72: 9 | AC72: 8 | AD72: 10 | AE72: 10 | AF72: 10 | AG72: 0 | AH72: 10 | AI72: 8 | AJ72: 0 | AK72: 0 | AL72: 0 | AM72: 0 | AN72: 7 | AO72: 6 | AP72: 10 | AQ72: 9
A73: 68 | C73: 赤堀町 | D73: 2437 | E73: 20 | F73: 1173 | G73: 290 | H73: 878 | I73: 5 | J73: 154.42 | K73: 367 | L73: 37 | M73: 2 | N73: 37 | O73: - | P73: - | Q73: 22 | R73: - | S73: 8 | T73: 14 | U73: 14 | V73: 6 | W73: 1 | X73: 1 | Y73: - | Z73: - | AA73: 22 | AB73: 19 | AC73: 16 | AD73: 22 | AE73: 22 | AF73: 21 | AG73: 0 | AH73: 22 | AI73: 1 | AJ73: 6 | AK73: 3 | AL73: 1 | AM73: 1 | AN73: 16 | AO73: 13 | AP73: 18 | AQ73: 17
A74: 69 | C74: 東村（伊勢崎市） | D74: 1843 | E74: - | F74: 810 | G74: 258 | H74: 548 | I74: 4 | J74: 89.47 | K74: 329 | L74: 45 | M74: 3 | N74: 43 | O74: - | P74: - | Q74: 18 | R74: - | S74: 9 | T74: 9 | U74: 12 | V74: 6 | W74: - | X74: - | Y74: - | Z74: - | AA74: 18 | AB74: 18 | AC74: 18 | AD74: 18 | AE74: 17 | AF74: 17 | AG74: 0 | AH74: 18 | AI74: 0 | AJ74: 0 | AK74: 0 | AL74: 6 | AM74: 4 | AN74: 17 | AO74: 4 | AP74: 18 | AQ74: 16
A75: 70 | C75: 境町 | D75: 131 | E75: - | F75: 23 | G75: 2 | H75: 21 | I75: - | J75: x | K75: 1 | L75: x | M75: x | N75: x | O75: x | P75: x | Q75: 1 | R75: - | S75: - | T75: 1 | U75: 1 | V75: - | W75: - | X75: - | Y75: - | Z75: - | AA75: 0 | AB75: 0 | AC75: 1 | AD75: 1 | AE75: 1 | AF75: 1 | AG75: 0 | AH75: 1 | AI75: 0 | AJ75: 0 | AK75: 0 | AL75: 0 | AM75: 0 | AN75: 1 | AO75: 0 | AP75: 1 | AQ75: 0
A76: 71 | C76: 采女村 | D76: 1196 | E76: - | F76: 536 | G76: 234 | H76: 302 | I76: - | J76: 27.04 | K76: 211 | L76: 19 | M76: - | N76: 19 | O76: - | P76: - | Q76: 12 | R76: - | S76: 8 | T76: 4 | U76: 5 | V76: 7 | W76: - | X76: - | Y76: - | Z76: - | AA76: 12 | AB76: 11 | AC76: 12 | AD76: 12 | AE76: 12 | AF76: 12 | AG76: 0 | AH76: 12 | AI76: 0 | AJ76: 0 | AK76: 0 | AL76: 4 | AM76: 4 | AN76: 12 | AO76: 6 | AP76: 11 | AQ76: 10
A77: 72 | C77: 剛志村 | D77: 679 | E77: 1 | F77: 299 | G77: 38 | H77: 260 | I77: 1 | J77: 46.36 | K77: 130 | L77: 10 | M77: 1 | N77: 9 | O77: 1 | P77: - | Q77: 5 | R77: - | S77: - | T77: 5 | U77: 2 | V77: 3 | W77: - | X77: - | Y77: - | Z77: - | AA77: 4 | AB77: 3 | AC77: 5 | AD77: 5 | AE77: 5 | AF77: 5 | AG77: 0 | AH77: 5 | AI77: 0 | AJ77: 0 | AK77: 0 | AL77: 0 | AM77: 0 | AN77: 5 | AO77: 3 | AP77: 5 | AQ77: 2
A78: 73 | C78: 島村 | D78: 438 | E78: - | F78: 88 | G78: 17 | H78: 71 | I78: - | J78: x | K78: 55 | L78: x | M78: x | N78: x | O78: x | P78: x | Q78: 5 | R78: - | S78: 1 | T78: 4 | U78: 1 | V78: 4 | W78: - | X78: - | Y78: - | Z78: - | AA78: 3 | AB78: 3 | AC78: 5 | AD78: 5 | AE78: 5 | AF78: 5 | AG78: 0 | AH78: 5 | AI78: 2 | AJ78: 0 | AK78: 0 | AL78: 0 | AM78: 0 | AN78: 5 | AO78: 0 | AP78: 2 | AQ78: 2
A79: 74 | C79: 世良田村２－１ | D79: 689 | E79: - | F79: 232 | G79: 62 | H79: 170 | I79: - | J79: 26.08 | K79: 131 | L79: 8 | M79: - | N79: 8 | O79: - | P79: - | Q79: 8 | R79: - | S79: 3 | T79: 5 | U79: 4 | V79: 2 | W79: 2 | X79: - | Y79: - | Z79: - | AA79: 6 | AB79: 3 | AC79: 7 | AD79: 7 | AE79: 7 | AF79: 7 | AG79: 1 | AH79: 8 | AI79: 1 | AJ79: 0 | AK79: 0 | AL79: 0 | AM79: 0 | AN79: 8 | AO79: 0 | AP79: 4 | AQ79: 3
A80: 75 | B80: 太田市 | C80: 太田市 | D80: 17554 | E80: 956 | F80: 6460 | G80: 2750 | H80: 3642 | I80: 68 | J80: 903.1 | K80: 2358 | L80: 285 | M80: 20 | N80: 272 | O80: 2 | P80: 5 | Q80: 167 | R80: 49 | S80: 55 | T80: 63 | U80: 95 | V80: 56 | W80: 14 | X80: 2 | Y80: - | Z80: - | AA80: 90 | AB80: 132 | AC80: 56 | AD80: 153 | AE80: 148 | AF80: 136 | AG80: 2 | AH80: 166 | AI80: 11 | AJ80: 31 | AK80: 5 | AL80: 27 | AM80: 13 | AN80: 58 | AO80: 21 | AP80: 145 | AQ80: 118
A81: 76 | C81: 太田市（旧） | D81: 4308 | E81: 310 | F81: 768 | G81: 493 | H81: 270 | I81: 5 | J81: 158.97 | K81: 404 | L81: 67 | M81: 2 | N81: 64 | O81: 1 | P81: 1 | Q81: 29 | R81: 14 | S81: 12 | T81: 3 | U81: 28 | V81: 1 | W81: - | X81: - | Y81: - | Z81: - | AA81: 22 | AB81: 26 | AC81: 6 | AD81: 26 | AE81: 29 | AF81: 27 | AG81: 0 | AH81: 28 | AI81: 2 | AJ81: 8 | AK81: 2 | AL81: 4 | AM81: 3 | AN81: 4 | AO81: 2 | AP81: 27 | AQ81: 24
A82: 77 | C82: 強戸村 | D82: 1318 | E82: 223 | F82: 415 | G82: 261 | H82: 141 | I82: 13 | J82: 70.98 | K82: 201 | L82: 31 | M82: 2 | N82: 31 | O82: 1 | P82: 1 | Q82: 10 | R82: 7 | S82: 3 | T82: - | U82: 1 | V82: 6 | W82: 2 | X82: 1 | Y82: - | Z82: - | AA82: 6 | AB82: 10 | AC82: 8 | AD82: 10 | AE82: 9 | AF82: 9 | AG82: 0 | AH82: 10 | AI82: 0 | AJ82: 8 | AK82: 1 | AL82: 4 | AM82: 4 | AN82: 9 | AO82: 8 | AP82: 10 | AQ82: 10
A83: 78 | C83: 休泊村 | D83: 844 | E83: 12 | F83: 378 | G83: 317 | H83: 60 | I83: 1 | J83: 18.9 | K83: 114 | L83: 12 | M83: - | N83: 12 | O83: - | P83: - | Q83: 7 | R83: 6 | S83: - | T83: 1 | U83: 5 | V83: 2 | W83: - | X83: - | Y83: - | Z83: - | AA83: 4 | AB83: 7 | AC83: 0 | AD83: 6 | AE83: 2 | AF83: 4 | AG83: 0 | AH83: 7 | AI83: 0 | AJ83: 0 | AK83: 0 | AL83: 0 | AM83: 0 | AN83: 0 | AO83: 0 | AP83: 7 | AQ83: 6
A84: 79 | C84: 矢場川村２－１ | D84: 294 | E84: - | F84: 34 | G84: 28 | H84: 6 | I84: - | J84: 6.1 | K84: 23 | L84: 8 | M84: 1 | N84: 8 | O84: - | P84: - | Q84: 1 | R84: 1 | S84: - | T84: - | U84: 1 | V84: - | W84: - | X84: - | Y84: - | Z84: - | AA84: 0 | AB84: 1 | AC84: 0 | AD84: 0 | AE84: 1 | AF84: 1 | AG84: 0 | AH84: 1 | AI84: 0 | AJ84: 0 | AK84: 0 | AL84: 0 | AM84: 0 | AN84: 0 | AO84: 0 | AP84: 1 | AQ84: 1
A85: 80 | C85: 宝泉村 | D85: 1357 | E85: 5 | F85: 604 | G85: 382 | H85: 215 | I85: 7 | J85: 55.88 | K85: 196 | L85: 15 | M85: 1 | N85: 15 | O85: - | P85: - | Q85: 14 | R85: 4 | S85: 9 | T85: 1 | U85: 11 | V85: 3 | W85: - | X85: - | Y85: - | Z85: - | AA85: 14 | AB85: 14 | AC85: 14 | AD85: 14 | AE85: 14 | AF85: 14 | AG85: 0 | AH85: 14 | AI85: 0 | AJ85: 0 | AK85: 0 | AL85: 0 | AM85: 0 | AN85: 0 | AO85: 0 | AP85: 14 | AQ85: 14
A86: 81 | C86: 毛里田村 | D86: 1661 | E86: 260 | F86: 415 | G86: 291 | H86: 121 | I86: 3 | J86: 108.56 | K86: 156 | L86: 16 | M86: - | N86: 16 | O86: - | P86: - | Q86: 10 | R86: 5 | S86: 5 | T86: - | U86: 6 | V86: 4 | W86: - | X86: - | Y86: - | Z86: - | AA86: 6 | AB86: 9 | AC86: 0 | AD86: 6 | AE86: 4 | AF86: 5 | AG86: 0 | AH86: 10 | AI86: 0 | AJ86: 8 | AK86: 2 | AL86: 6 | AM86: 0 | AN86: 10 | AO86: 3 | AP86: 10 | AQ86: 9
A87: 82 | C87: 尾島町２－１ | D87: 1113 | E87: - | F87: 542 | G87: 36 | H87: 506 | I87: - | J87: 96.12 | K87: 204 | L87: 38 | M87: 4 | N87: 35 | O87: - | P87: 1 | Q87: 15 | R87: - | S87: - | T87: 15 | U87: 6 | V87: 7 | W87: 2 | X87: - | Y87: - | Z87: - | AA87: 9 | AB87: 11 | AC87: 4 | AD87: 14 | AE87: 12 | AF87: 9 | AG87: 1 | AH87: 15 | AI87: 2 | AJ87: 0 | AK87: 0 | AL87: 0 | AM87: 0 | AN87: 11 | AO87: 5 | AP87: 14 | AQ87: 10
A88: 83 | C88: 世良田村２－２ | D88: 707 | E88: - | F88: 345 | G88: 102 | H88: 242 | I88: 1 | J88: 49.22 | K88: 109 | L88: 3 | M88: - | N88: 3 | O88: - | P88: - | Q88: 7 | R88: - | S88: 4 | T88: 3 | U88: 2 | V88: 4 | W88: 1 | X88: - | Y88: - | Z88: - | AA88: 3 | AB88: 7 | AC88: 1 | AD88: 6 | AE88: 6 | AF88: 4 | AG88: 0 | AH88: 7 | AI88: 3 | AJ88: 0 | AK88: 0 | AL88: 0 | AM88: 0 | AN88: 6 | AO88: 2 | AP88: 7 | AQ88: 5
A89: 84 | C89: 木崎町 | D89: 730 | E89: - | F89: 291 | G89: 134 | H89: 151 | I89: 6 | J89: 55.87 | K89: 113 | L89: 9 | M89: - | N89: 9 | O89: - | P89: - | Q89: 10 | R89: 2 | S89: 5 | T89: 3 | U89: 5 | V89: 3 | W89: 2 | X89: - | Y89: - | Z89: - | AA89: 5 | AB89: 8 | AC89: 1 | AD89: 10 | AE89: 10 | AF89: 9 | AG89: 0 | AH89: 10 | AI89: 2 | AJ89: 0 | AK89: 0 | AL89: 1 | AM89: 0 | AN89: 5 | AO89: 0 | AP89: 10 | AQ89: 7
A90: 85 | C90: 生品村 | D90: 1641 | E90: - | F90: 908 | G90: 360 | H90: 535 | I90: 13 | J90: 96.59 | K90: 221 | L90: 25 | M90: 1 | N90: 25 | O90: - | P90: - | Q90: 21 | R90: 8 | S90: 4 | T90: 9 | U90: 7 | V90: 9 | W90: 4 | X90: 1 | Y90: - | Z90: - | AA90: 7 | AB90: 15 | AC90: 4 | AD90: 20 | AE90: 20 | AF90: 16 | AG90: 0 | AH90: 21 | AI90: 1 | AJ90: 3 | AK90: 0 | AL90: 1 | AM90: 1 | AN90: 0 | AO90: 0 | AP90: 20 | AQ90: 14
A91: 86 | C91: 綿打村 | D91: 1459 | E91: - | F91: 771 | G91: 239 | H91: 525 | I91: 7 | J91: 63.57 | K91: 253 | L91: 17 | M91: 1 | N91: 16 | O91: - | P91: - | Q91: 19 | R91: 2 | S91: 8 | T91: 9 | U91: 4 | V91: 12 | W91: 3 | X91: - | Y91: - | Z91: - | AA91: 11 | AB91: 16 | AC91: 4 | AD91: 19 | AE91: 19 | AF91: 16 | AG91: 0 | AH91: 19 | AI91: 1 | AJ91: 0 | AK91: 0 | AL91: 6 | AM91: 1 | AN91: 12 | AO91: 1 | AP91: 17 | AQ91: 11
A92: 87 | C92: 藪塚本町 | D92: 2083 | E92: 146 | F92: 986 | G92: 107 | H92: 867 | I92: 12 | J92: 122.34 | K92: 364 | L92: 44 | M92: 8 | N92: 38 | O92: - | P92: 2 | Q92: 23 | R92: - | S92: 5 | T92: 18 | U92: 18 | V92: 5 | W92: - | X92: - | Y92: - | Z92: - | AA92: 3 | AB92: 8 | AC92: 14 | AD92: 22 | AE92: 22 | AF92: 22 | AG92: 0 | AH92: 23 | AI92: 0 | AJ92: 4 | AK92: 0 | AL92: 4 | AM92: 4 | AN92: 0 | AO92: 0 | AP92: 8 | AQ92: 7
A93: 88 | C93: 新会村２－２ | D93: 39 | E93: - | F93: 3 | G93: - | H93: 3 | I93: - | J93: - | K93: - | L93: - | M93: - | N93: - | O93: - | P93: - | Q93: 1 | R93: - | S93: - | T93: 1 | U93: 1 | V93: - | W93: - | X93: - | Y93: - | Z93: - | AA93: 0 | AB93: 0 | AC93: 0 | AD93: 0 | AE93: 0 | AF93: 0 | AG93: 1 | AH93: 1 | AI93: 0 | AJ93: 0 | AK93: 0 | AL93: 1 | AM93: 0 | AN93: 1 | AO93: 0 | AP93: 0 | AQ93: 0
A94: 89 | B94: 沼田市 | C94: 沼田市 | D94: 44346 | E94: 34027 | F94: 3296 | G94: 826 | H94: 2220 | I94: 250 | J94: 565.59 | K94: 1133 | L94: 405 | M94: 42 | N94: 390 | O94: 123 | P94: 13 | Q94: 99 | R94: 6 | S94: 33 | T94: 60 | U94: 26 | V94: 32 | W94: 19 | X94: 17 | Y94: 2 | Z94: 3 | AA94: 40 | AB94: 71 | AC94: 82 | AD94: 95 | AE94: 97 | AF94: 75 | AG94: 0 | AH94: 97 | AI94: 50 | AJ94: 91 | AK94: 20 | AL94: 24 | AM94: 13 | AN94: 97 | AO94: 46 | AP94: 96 | AQ94: 65
A95: 90 | C95: 沼田町 | D95: 669 | E95: 21 | F95: 68 | G95: 30 | H95: 37 | I95: 1 | J95: 17.58 | K95: 49 | L95: 14 | M95: 2 | N95: 12 | O95: 1 | P95: 2 | Q95: 14 | R95: 2 | S95: 4 | T95: 8 | U95: 14 | V95: - | W95: - | X95: - | Y95: - | Z95: - | AA95: 1 | AB95: 6 | AC95: 14 | AD95: 14 | AE95: 14 | AF95: 14 | AG95: 0 | AH95: 12 | AI95: 0 | AJ95: 6 | AK95: 0 | AL95: 0 | AM95: 0 | AN95: 13 | AO95: 2 | AP95: 12 | AQ95: 6
A96: 91 | C96: 利南村 | D96: 1054 | E96: 15 | F96: 370 | G96: 74 | H96: 241 | I96: 55 | J96: 41.07 | K96: 129 | L96: 54 | M96: 6 | N96: 54 | O96: 25 | P96: 1 | Q96: 9 | R96: - | S96: 2 | T96: 7 | U96: 5 | V96: 4 | W96: - | X96: - | Y96: - | Z96: - | AA96: 5 | AB96: 6 | AC96: 9 | AD96: 9 | AE96: 9 | AF96: 9 | AG96: 0 | AH96: 9 | AI96: 0 | AJ96: 9 | AK96: 1 | AL96: 0 | AM96: 0 | AN96: 9 | AO96: 3 | AP96: 9 | AQ96: 6
A97: 92 | C97: 池田村 | D97: 7132 | E97: 5423 | F97: 489 | G97: 213 | H97: 211 | I97: 65 | J97: 74.47 | K97: 246 | L97: 126 | M97: 8 | N97: 122 | O97: 70 | P97: 7 | Q97: 13 | R97: - | S97: 11 | T97: 2 | U97: - | V97: 2 | W97: 1 | X97: 8 | Y97: 1 | Z97: 1 | AA97: 13 | AB97: 13 | AC97: 12 | AD97: 13 | AE97: 13 | AF97: 13 | AG97: 0 | AH97: 13 | AI97: 12 | AJ97: 13 | AK97: 8 | AL97: 5 | AM97: 4 | AN97: 13 | AO97: 13 | AP97: 13 | AQ97: 13
A98: 93 | C98: 薄根村 | D98: 1390 | E98: 360 | F98: 448 | G98: 194 | H98: 207 | I98: 47 | J98: 76.21 | K98: 186 | L98: 71 | M98: 7 | N98: 69 | O98: 3 | P98: - | Q98: 16 | R98: 4 | S98: 5 | T98: 7 | U98: 3 | V98: 9 | W98: 2 | X98: 2 | Y98: - | Z98: - | AA98: 12 | AB98: 16 | AC98: 10 | AD98: 15 | AE98: 16 | AF98: 13 | AG98: 0 | AH98: 16 | AI98: 9 | AJ98: 16 | AK98: 4 | AL98: 3 | AM98: 3 | AN98: 16 | AO98: 15 | AP98: 16 | AQ98: 16
A99: 94 | C99: 川田村 | D99: 3377 | E99: 2533 | F99: 388 | G99: 79 | H99: 288 | I99: 21 | J99: 130.88 | K99: 140 | L99: 24 | M99: 3 | N99: 23 | O99: - | P99: - | Q99: 22 | R99: - | S99: 6 | T99: 16 | U99: 2 | V99: 7 | W99: 8 | X99: 4 | Y99: - | Z99: 1 | AA99: 2 | AB99: 10 | AC99: 17 | AD99: 19 | AE99: 21 | AF99: 4 | AG99: 0 | AH99: 22 | AI99: 6 | AJ99: 22 | AK99: 2 | AL99: 7 | AM99: 2 | AN99: 21 | AO99: 3 | AP99: 21 | AQ99: 9
A100: 95 | C100: 白沢村 | D100: 2810 | E100: 1574 | F100: 504 | G100: 150 | H100: 323 | I100: 31 | J100: 44.58 | K100: 143 | L100: 53 | M100: 8 | N100: 50 | O100: 13 | P100: 1 | Q100: 7 | R100: - | S100: 3 | T100: 4 | U100: - | V100: 4 | W100: 3 | X100: - | Y100: - | Z100: - | AA100: 4 | AB100: 7 | AC100: 6 | AD100: 7 | AE100: 7 | AF100: 6 | AG100: 0 | AH100: 7 | AI100: 6 | AJ100: 7 | AK100: 5 | AL100: 7 | AM100: 3 | AN100: 7 | AO100: 6 | AP100: 7 | AQ100: 7
...

Sheet 指定地域
B1: KCITY_NAME | C1: 森林地域_森林地域 | D1: 農業地域_農業地域 | E1: 都市地域_市街化区域 | F1: 都市地域_市街化調整 | G1: 商業関連 | H1: 工業関連
A2: 1 | B2: 群馬県 | C2: 439160.19 | D2: 321194.42 | E2: 25279.64 | F2: 69580.64 | G2: 2822.22 | H2: 9063.52 | J2: 群馬県
A3: 2 | B3: 前橋市 | C3: 8069.17 | D3: 21211.36 | E3: 4605.45 | F3: 10141.25 | G3: 652.14 | H3: 1253.64 | J3: 前橋市
A4: 3 | B4: 前橋市（旧） | C4: 0 | D4: 1.83 | E4: 1149 | F4: 70.51 | G4: 367.31 | H4: 157.98 | J4: 前橋市（旧）
A5: 4 | B5: 上川渕村 | C5: 0 | D5: 623.77 | E5: 143.97 | F5: 655 | G5: 1.17 | H5: 29.23 | J5: 上川渕村
A6: 5 | B6: 下川渕村 | C6: 6.49 | D6: 743.25 | E6: 46.56 | F6: 873.35 | G6: 14.58 | H6: 119.62 | J6: 下川渕村
A7: 6 | B7: 南橘村 | C7: 25.19 | D7: 595.22 | E7: 828.03 | F7: 711.73 | G7: 7.31 | H7: 101.78 | J7: 南橘村
A8: 7 | B8: 芳賀村 | C8: 220.92 | D8: 1473.73 | E8: 96.18 | F8: 1510.42 | G8: 2.35 | H8: 87.59 | J8: 芳賀村
A9: 8 | B9: 桂萓村 | C9: 30.09 | D9: 1474.29 | E9: 157.75 | F9: 1506.92 | G9: 6.57 | H9: 38.56 | J9: 桂萓村
A10: 9 | B10: 東村（前橋市） | C10: 0 | D10: 2.08 | E10: 608.52 | F10: 77.02 | G10: 36.82 | H10: 78.32 | J10: 東村（前橋市）
A11: 10 | B11: 元総社村 | C11: 0 | D11: 3.66 | E11: 403.82 | F11: 69.36 | G11: 95.37 | H11: 46.57 | J11: 元総社村
A12: 11 | B12: 総社町 | C12: 0 | D12: 80.13 | E12: 485.74 | F12: 151.99 | G12: 47.67 | H12: 194.28 | J12: 総社町
A13: 12 | B13: 清里村 | C13: 0 | D13: 392.95 | E13: 0.46 | F13: 385.05 | G13: 0 | H13: 0.12 | J13: 清里村
... A171: 170 | B171: 上野村 | C171: 17849.48 | D171: 4884.69 | E171: 0 | F171: 0 | G171: 0 | H171: 0 | J171: 上野村
A172: 171 | B172: （上野村） | C172: 17849.48 | D172: 4884.69 | E172: 0 | F172: 0 | G172: 0 | H172: 0
A173: 172 | B173: 神流町 | C173: 10836.74 | D173: 8792.13 | E173: 0 | F173: 0 | G173: 0 | H173: 0 | J173: 神流町
A174: 173 | B174: 万場町 | C174: 5792.36 | D174: 5760.02 | E174: 0 | F174: 0 | G174: 0 | H174: 0 | J174: 万場町
A175: 174 | B175: 中里村 | C175: 5044.38 | D175: 3032.11 | E175: 0 | F175: 0 | G175: 0 | H175: 0 | J175: 中里村
A176: 175 | B176: 下仁田町 | C176: 16523.27 | D176: 13448.22 | E176: 0 | F176: 0 | G176: 0 | H176: 0 | J176: 下仁田町
A177: 176 | B177: 下仁田町（旧） | C177: 1704.89 | D177: 1108.64 | E177: 0 | F177: 0 | G177: 0 | H177: 0 | J177: 下仁田町（旧）
A178: 177 | B178: 馬山村 | C178: 979.93 | D178: 1181.6 | E178: 0 | F178: 0 | G178: 0 | H178: 0 | J178: 馬山村
A179: 178 | B179: 小坂村 | C179: 3250.81 | D179: 3473.22 | E179: 0 | F179: 0 | G179: 0 | H179: 0 | J179: 小坂村
A180: 179 | B180: 西牧村 | C180: 8059.2 | D180: 5301.91 | E180: 0 | F180: 0 | G180: 0 | H180: 0 | J180: 西牧村
A181: 180 | B181: 青倉村 | C181: 2528.44 | D181: 2382.84 | E181: 0 | F181: 0 | G181: 0 | H181: 0 | J181: 青倉村
A182: 181 | B182: 南牧村 | C182: 10633.82 | D182: 7966.43 | E182: 0 | F182: 0 | G182: 0 | H182: 0 | J182: 南牧村
A183: 182 | B183: 月形村 | C183: 2552.04 | D183: 2181.68 | E183: 0 | F183: 0 | G183: 0 | H183: 0 | J183: 月形村
A184: 183 | B184: 尾沢村 | C184: 4413.87 | D184: 2140.77 | E184: 0 | F184: 0 | G184: 0 | H184: 0 | J184: 尾沢村
... A197: 196 | B197: 長野原町 | C197: 10367.68 | D197: 10491.57 | E197: 0 | F197: 0 | G197: 0 | H197: 0 | J197: 長野原町
A198: 197 | B198: （長野原町） | C198: 10367.68 | D198: 10491.57 | E198: 0 | F198: 0 | G198: 0 | H198: 0
A199: 198 | B199: 嬬恋村 | C199: 27427.18 | D199: 16338.34 | E199: 0 | F199: 0 | G199: 0 | H199: 0 | J199: 嬬恋村
A200: 199 | B200: （嬬恋村） | C200: 27427.18 | D200: 16338.34 | E200: 0 | F200: 0 | G200: 0 | H200: 0
A201: 200 | B201: 草津町 | C201: 4069.45 | D201: 386.51 | E201: 0 | F201: 0 | G201: 44.68 | H201: 4.87 | J201: 草津町
A202: 201 | B202: （草津町） | C202: 4069.45 | D202: 386.51 | E202: 0 | F202: 0 | G202: 44.68 | H202: 4.87
A203: 202 | B203: 高山村 | C203: 5033.97 | D203: 4623.64 | E203: 0 | F203: 0 | G203: 0 | H203: 0 | J203: 高山村
A204: 203 | B204: （高山村） | C204: 5033.97 | D204: 4623.64 | E204: 0 | F204: 0 | G204: 0 | H204: 0
A205: 204 | B205: 東吾妻町 | C205: 20932.94 | D205: 16097.7 | E205: 0 | F205: 0 | G205: 22.06 | H205: 61.07 | J205: 東吾妻町
A206: 205 | B206: 東村（東吾妻町） | C206: 2689.45 | D206: 2341.9 | E206: 0 | F206: 0 | G206: 0 | H206: 0 | J206: 東村（東吾妻町）
A207: 206 | B207: 原町 | C207: 2181.44 | D207: 1649.64 | E207: 0 | F207: 0 | G207: 22.06 | H207: 61.07 | J207: 原町
A208: 207 | B208: 太田村 | C208: 2362.56 | D208: 2083.74 | E208: 0 | F208: 0 | G208: 0 | H208: 0 | J208: 太田村
A209: 208 | B209: 岩島村 | C209: 4730.06 | D209: 3330.3 | E209: 0 | F209: 0 | G209: 0 | H209: 0 | J209: 岩島村
A210: 209 | B210: 坂上村 | C210: 8969.43 | D210: 6692.12 | E210: 0 | F210: 0 | G210: 0 | H210: 0 | J210: 坂上村
A211: 210 | B211: 片品村 | C211: 36955.13 | D211: 9320.94 | E211: 0 | F211: 0 | G211: 0 | H211: 0 | J211: 片品村
A212: 211 | B212: （片品村） | C212: 36955.13 | D212: 9320.94 | E212: 0 | F212: 0 | G212: 0 | H212: 0
A213: 212 | B213: 川場村 | C213: 7462.18 | D213: 3935.93 | E213: 0 | F213: 0 | G213: 0 | H213: 0 | J213: 川場村
A214: 213 | B214: （川場村） | C214: 7462.18 | D214: 3935.93 | E214: 0 | F214: 0 | G214: 0 | H214: 0
A215: 214 | B215: 昭和村 | C215: 3115.15 | D215: 5250.9 | E215: 0 | F215: 0 | G215: 0 | H215: 0 | J215: 昭和村
A216: 215 | B216: 久呂保村 | C216: 1326.66 | D216: 2390.16 | E216: 0 | F216: 0 | G216: 0 | H216: 0 | J216: 久呂保村
A217: 216 | B217: 糸之瀬村 | C217: 1788.49 | D217: 2860.74 | E217: 0 | F217: 0 | G217: 0 | H217: 0 | J217: 糸之瀬村
A218: 217 | B218: みなかみ町 | C218: 71495.94 | D218: 17226.39 | E218: 0 | F218: 0 | G218: 31.24 | H218: 39.96 | J218: みなかみ町
A219: 218 | B219: 古馬牧村 | C219: 2664.37 | D219: 2511.12 | E219: 0 | F219: 0 | G219: 15.4 | H219: 27.68 | J219: 古馬牧村
A220: 219 | B220: 桃野村 | C220: 2234.76 | D220: 2960.9 | E220: 0 | F220: 0 | G220: 15.84 | H220: 12.28 | J220: 桃野村
A221: 220 | B221: 水上町 | C221: 50546.77 | D221: 6151.93 | E221: 0 | F221: 0 | G221: 0 | H221: 0 | J221: 水上町
A222: 221 | B222: 新治村 | C222: 16050.04 | D222: 5602.44 | E222: 0 | F222: 0 | G222: 0 | H222: 0 | J222: 新治村
A223: 222 | B223: 玉村町 | C223: 41.77 | D223: 2219.33 | E223: 312.8 | F223: 2257.53 | G223: 15.61 | H223: 72.47 | J223: 玉村町
A224: 223 | B224: 玉村町（旧） | C224: 23.6 | D224: 845.24 | E224: 145.78 | F224: 870.29 | G224: 15.61 | H224: 8.26 | J224: 玉村町（旧）
A225: 224 | B225: 芝根村 | C225: 17.16 | D225: 700.38 | E225: 61.23 | F225: 708.97 | G225: 0 | H225: 56.04 | J225: 芝根村
A226: 225 | B226: 上陽村２－１ | C226: 0.22 | D226: 457.76 | E226: 56.96 | F226: 461.81 | G226: 0 | H226: 8.17 | J226: 上陽村２－１
... A246: 245 | B246: 長柄村 | C246: 35.32 | D246: 1333.5 | E246: 126.56 | F246: 1327.35 | G246: 0 | H246: 115.18 | J246: 長柄村
A247: 246
A248: 247
A249: 248
A250: 249
A251: 250
A252: 251
A253: 252
A254: 253
A255: 254
A256: 255
A257: 256
A258: 257
A259: 258

Sheet 地域類型区分
A2: 1 | B2: 群馬県 | C2: 設定 | D2: されていません | E2: 群馬県
A3: 2 | B3: 前橋市 | C3: 都市的地域 | D3: 田畑型 | E3: 前橋市 | F3: 前橋市 | H3: 1 | I3: 2 | J3: 都市的地域 | K3: 田畑型
A4: 3 | B4: 前橋市（旧） | C4: 都市的地域 | D4: 田畑型 | E4: 前橋市（旧） | F4: 前橋市 | G4: 前橋市 | H4: 1 | I4: 2 | J4: 都市的地域 | K4: 田畑型
A5: 4 | B5: 上川渕村 | C5: 都市的地域 | D5: 水田型 | E5: 上川渕村 | F5: 前橋市 | G5: 上川渕村 | H5: 1 | I5: 1 | J5: 都市的地域 | K5: 水田型
A6: 5 | B6: 下川渕村 | C6: 都市的地域 | D6: 田畑型 | E6: 下川渕村 | F6: 前橋市 | G6: 下川渕村 | H6: 1 | I6: 2 | J6: 都市的地域 | K6: 田畑型
A7: 6 | B7: 南橘村 | C7: 都市的地域 | D7: 田畑型 | E7: 南橘村 | F7: 前橋市 | G7: 南橘村 | H7: 1 | I7: 2 | J7: 都市的地域 | K7: 田畑型
A8: 7 | B8: 芳賀村 | C8: 平地農業地域 | D8: 畑地型 | E8: 芳賀村 | F8: 前橋市 | G8: 芳賀村 | H8: 2 | I8: 3 | J8: 平地農業地域 | K8: 畑地型
A9: 8 | B9: 桂萓村 | C9: 都市的地域 | D9: 田畑型 | E9: 桂萓村 | F9: 前橋市 | G9: 桂萓村 | H9: 1 | I9: 2 | J9: 都市的地域 | K9: 田畑型
A10: 9 | B10: 東村（前橋市） | C10: 都市的地域 | D10: 田畑型 | E10: 東村（前橋市） | F10: 前橋市 | G10: 東村 | H10: 1 | I10: 2 | J10: 都市的地域 | K10: 田畑型
A11: 10 | B11: 元総社村 | C11: 都市的地域 | D11: 畑地型 | E11: 元総社村 | F11: 前橋市 | G11: 元総社村 | H11: 1 | I11: 3 | J11: 都市的地域 | K11: 畑地型
A12: 11 | B12: 総社町 | C12: 都市的地域 | D12: 畑地型 | E12: 総社町 | F12: 前橋市 | G12: 総社町 | H12: 1 | I12: 3 | J12: 都市的地域 | K12: 畑地型
A13: 12 | B13: 清里村 | C13: 平地農業地域 | D13: 畑地型 | E13: 清里村 | F13: 前橋市 | G13: 清里村 | H13: 2 | I13: 3 | J13: 平地農業地域 | K13: 畑地型
A14: 13 | B14: 新高尾村２－２ | C14: 都市的地域 | D14: 畑地型 | E14: 新高尾村２－２ | F14: 前橋市 | G14: 新高尾村２－２ | H14: 1 | I14: 3 | J14: 都市的地域 | K14: 畑地型
A15: 14 | B15: 木瀬村 | C15: 都市的地域 | D15: 田畑型 | E15: 木瀬村 | F15: 前橋市 | G15: 木瀬村 | H15: 1 | I15: 2 | J15: 都市的地域 | K15: 田畑型
... A21: 20 | B21: 富士見村 | C21: 中間農業地域 | D21: 田畑型 | E21: 富士見村 | F21: 前橋市 | G21: 富士見村 | H21: 3 | I21: 2 | J21: 中間農業地域 | K21: 田畑型
A22: 21 | B22: 高崎市 | C22: 都市的地域 | D22: 田畑型 | E22: 高崎市 | F22: 高崎市 | H22: 1 | I22: 2 | J22: 都市的地域 | K22: 田畑型
A23: 22 | B23: 高崎市（旧） | C23: 都市的地域 | D23: 田畑型 | E23: 高崎市（旧） | F23: 高崎市 | G23: 高崎市 | H23: 1 | I23: 2 | J23: 都市的地域 | K23: 田畑型
A24: 23 | B24: 六郷村 | C24: 都市的地域 | D24: 田畑型 | E24: 六郷村 | F24: 高崎市 | G24: 六郷村 | H24: 1 | I24: 2 | J24: 都市的地域 | K24: 田畑型
A25: 24 | B25: 新高尾村２－１ | C25: 都市的地域 | D25: 水田型 | E25: 新高尾村２－１ | F25: 高崎市 | G25: 新高尾村２－１ | H25: 1 | I25: 1 | J25: 都市的地域 | K25: 水田型
A26: 25 | B26: 中川村 | C26: 都市的地域 | D26: 田畑型 | E26: 中川村 | F26: 高崎市 | G26: 中川村 | H26: 1 | I26: 2 | J26: 都市的地域 | K26: 田畑型
A27: 26 | B27: 八幡村（碓氷郡） | C27: 都市的地域 | D27: 田畑型 | E27: 八幡村（碓氷郡） | F27: 高崎市 | G27: 八幡村（碓氷郡） | H27: 1 | I27: 2 | J27: 都市的地域 | K27: 田畑型
A28: 27 | B28: 豊岡村 | C28: 都市的地域 | D28: 田畑型 | E28: 豊岡村 | F28: 高崎市 | G28: 豊岡村 | H28: 1 | I28: 2 | J28: 都市的地域 | K28: 田畑型
A29: 28 | B29: 長野村 | C29: 都市的地域 | D29: 水田型 | E29: 長野村 | F29: 高崎市 | G29: 長野村 | H29: 1 | I29: 1 | J29: 都市的地域 | K29: 水田型
A30: 29 | B30: 大類村 | C30: 都市的地域 | D30: 水田型 | E30: 大類村 | F30: 高崎市 | G30: 大類村 | H30: 1 | I30: 1 | J30: 都市的地域 | K30: 水田型
A31: 30 | B31: 八幡村（多野郡） | C31: 都市的地域 | D31: 田畑型 | E31: 八幡村（多野郡） | F31: 高崎市 | G31: 八幡村（多野郡） | H31: 1 | I31: 2 | J31: 都市的地域 | K31: 田畑型
A32: 31 | B32: 岩鼻村 | C32: 都市的地域 | D32: 水田型 | E32: 岩鼻村 | F32: 高崎市 | G32: 岩鼻村 | H32: 1 | I32: 1 | J32: 都市的地域 | K32: 水田型
A33: 32 | B33: 倉賀野町 | C33: 都市的地域 | D33: 田畑型 | E33: 倉賀野町 | F33: 高崎市 | G33: 倉賀野町 | H33: 1 | I33: 2 | J33: 都市的地域 | K33: 田畑型
A34: 33 | B34: 京ケ島村 | C34: 都市的地域 | D34: 水田型 | E34: 京ケ島村 | F34: 高崎市 | G34: 京ケ島村 | H34: 1 | I34: 1 | J34: 都市的地域 | K34: 水田型
... A53: 52 | B53: 岩平村 | C53: 中間農業地域 | D53: 田畑型 | E53: 岩平村 | F53: 高崎市 | G53: 岩平村 | H53: 3 | I53: 2 | J53: 中間農業地域 | K53: 田畑型
A54: 53 | B54: 桐生市 | C54: 都市的地域 | D54: 田畑型 | E54: 桐生市 | F54: 桐生市 | H54: 1 | I54: 2 | J54: 都市的地域 | K54: 田畑型
A55: 54 | B55: 桐生市（旧） | C55: 都市的地域 | D55: 田畑型 | E55: 桐生市（旧） | F55: 桐生市 | G55: 桐生市 | H55: 1 | I55: 2 | J55: 都市的地域 | K55: 田畑型
A56: 55 | B56: 梅田村 | C56: 山間農業地域 | D56: 田畑型 | E56: 梅田村 | F56: 桐生市 | G56: 梅田村 | H56: 4 | I56: 2 | J56: 山間農業地域 | K56: 田畑型
A57: 56 | B57: 川内村２－１ | C57: 中間農業地域 | D57: 畑地型 | E57: 川内村２－１ | F57: 桐生市 | G57: 川内村２－１ | H57: 3 | I57: 3 | J57: 中間農業地域 | K57: 畑地型
A58: 57 | B58: 相生村 | C58: 都市的地域 | D58: 畑地型 | E58: 相生村 | F58: 桐生市 | G58: 相生村 | H58: 1 | I58: 3 | J58: 都市的地域 | K58: 畑地型
A59: 58 | B59: 菱村 | C59: 山間農業地域 | D59: 田畑型 | E59: 菱村 | F59: 桐生市 | G59: 菱村 | H59: 4 | I59: 2 | J59: 山間農業地域 | K59: 田畑型
A60: 59 | B60: 飛駒村２－２ | C60: 山間農業地域 | D60: 畑地型 | E60: 飛駒村２－２ | F60: 桐生市 | G60: 飛駒村２－２ | H60: 4 | I60: 3 | J60: 山間農業地域 | K60: 畑地型
A61: 60 | B61: 新里村 | C61: 平地農業地域 | D61: 畑地型 | E61: 新里村 | F61: 桐生市 | G61: 新里村 | H61: 2 | I61: 3 | J61: 平地農業地域 | K61: 畑地型
A62: 61 | B62: 黒保根村 | C62: 山間農業地域 | D62: 田畑型 | E62: 黒保根村 | F62: 桐生市 | G62: 黒保根村 | H62: 4 | I62: 2 | J62: 山間農業地域 | K62: 田畑型
A63: 62 | B63: 伊勢崎市 | C63: 都市的地域 | D63: 田畑型 | E63: 伊勢崎市 | F63: 伊勢崎市 | H63: 1 | I63: 2 | J63: 都市的地域 | K63: 田畑型
A64: 63 | B64: 伊勢崎市（旧） | C64: 都市的地域 | D64: 田畑型 | E64: 伊勢崎市（旧） | F64: 伊勢崎市 | G64: 伊勢崎市 | H64: 1 | I64: 2 | J64: 都市的地域 | K64: 田畑型
A65: 64 | B65: 三郷村 | C65: 都市的地域 | D65: 田畑型 | E65: 三郷村 | F65: 伊勢崎市 | G65: 三郷村 | H65: 1 | I65: 2 | J65: 都市的地域 | K65: 田畑型
A66: 65 | B66: 宮郷村 | C66: 都市的地域 | D66: 田畑型 | E66: 宮郷村 | F66: 伊勢崎市 | G66: 宮郷村 | H66: 1 | I66: 2 | J66: 都市的地域 | K66: 田畑型
A67: 66 | B67: 名和村 | C67: 都市的地域 | D67: 田畑型 | E67: 名和村 | F67: 伊勢崎市 | G67: 名和村 | H67: 1 | I67: 2 | J67: 都市的地域 | K67: 田畑型
A68: 67 | B68: 豊受村 | C68: 都市的地域 | D68: 田畑型 | E68: 豊受村 | F68: 伊勢崎市 | G68: 豊受村 | H68: 1 | I68: 2 | J68: 都市的地域 | K68: 田畑型
A69: 68 | B69: 赤堀町 | C69: 平地農業地域 | D69: 畑地型 | E69: 赤堀町 | F69: 伊勢崎市 | G69: 赤堀町 | H69: 2 | I69: 3 | J69: 平地農業地域 | K69: 畑地型
A70: 69 | B70: 東村（伊勢崎市） | C70: 都市的地域 | D70: 田畑型 | E70: 東村（伊勢崎市） | F70: 伊勢崎市 | G70: 東村 | H70: 1 | I70: 2 | J70: 都市的地域 | K70: 田畑型
A71: 70 | B71: 境町 | C71: 都市的地域 | D71: 畑地型 | E71: 境町 | F71: 伊勢崎市 | G71: 境町 | H71: 1 | I71: 3 | J71: 都市的地域 | K71: 畑地型
A72: 71 | B72: 采女村 | C72: 平地農業地域 | D72: 田畑型 | E72: 采女村 | F72: 伊勢崎市 | G72: 采女村 | H72: 2 | I72: 2 | J72: 平地農業地域 | K72: 田畑型
A73: 72 | B73: 剛志村 | C73: 都市的地域 | D73: 畑地型 | E73: 剛志村 | F73: 伊勢崎市 | G73: 剛志村 | H73: 1 | I73: 3 | J73: 都市的地域 | K73: 畑地型
A74: 73 | B74: 島村 | C74: 中間農業地域 | D74: 畑地型 | E74: 島村 | F74: 伊勢崎市 | G74: 島村 | H74: 3 | I74: 3 | J74: 中間農業地域 | K74: 畑地型
A75: 74 | B75: 世良田村２－１ | C75: 都市的地域 | D75: 畑地型 | E75: 世良田村２－１ | F75: 伊勢崎市 | G75: 世良田村２－１ | H75: 1 | I75: 3 | J75: 都市的地域 | K75: 畑地型
A76: 75 | B76: 太田市 | C76: 都市的地域 | D76: 田畑型 | E76: 太田市 | F76: 太田市 | H76: 1 | I76: 2 | J76: 都市的地域 | K76: 田畑型
A77: 76 | B77: 太田市（旧） | C77: 都市的地域 | D77: 田畑型 | E77: 太田市（旧） | F77: 太田市 | G77: 太田市 | H77: 1 | I77: 2 | J77: 都市的地域 | K77: 田畑型
A78: 77 | B78: 強戸村 | C78: 都市的地域 | D78: 田畑型 | E78: 強戸村 | F78: 太田市 | G78: 強戸村 | H78: 1 | I78: 2 | J78: 都市的地域 | K78: 田畑型
A79: 78 | B79: 休泊村 | C79: 都市的地域 | D79: 水田型 | E79: 休泊村 | F79: 太田市 | G79: 休泊村 | H79: 1 | I79: 1 | J79: 都市的地域 | K79: 水田型
A80: 79 | B80: 矢場川村２－１ | C80: 平地農業地域 | D80: 水田型 | E80: 矢場川村２－１ | F80: 太田市 | G80: 矢場川村２－１ | H80: 2 | I80: 1 | J80: 平地農業地域 | K80: 水田型
A81: 80 | B81: 宝泉村 | C81: 都市的地域 | D81: 田畑型 | E81: 宝泉村 | F81: 太田市 | G81: 宝泉村 | H81: 1 | I81: 2 | J81: 都市的地域 | K81: 田畑型
A82: 81 | B82: 毛里田村 | C82: 都市的地域 | D82: 田畑型 | E82: 毛里田村 | F82: 太田市 | G82: 毛里田村 | H82: 1 | I82: 2 | J82: 都市的地域 | K82: 田畑型
A83: 82 | B83: 尾島町２－１ | C83: 平地農業地域 | D83: 畑地型 | E83: 尾島町２－１ | F83: 太田市 | G83: 尾島町２－１ | H83: 2 | I83: 3 | J83: 平地農業地域 | K83: 畑地型
A84: 83 | B84: 世良田村２－２ | C84: 平地農業地域 | D84: 田畑型 | E84: 世良田村２－２ | F84: 太田市 | G84: 世良田村２－２ | H84: 2 | I84: 2 | J84: 平地農業地域 | K84: 田畑型
A85: 84 | B85: 木崎町 | C85: 平地農業地域 | D85: 田畑型 | E85: 木崎町 | F85: 太田市 | G85: 木崎町 | H85: 2 | I85: 2 | J85: 平地農業地域 | K85: 田畑型
A86: 85 | B86: 生品村 | C86: 平地農業地域 | D86: 田畑型 | E86: 生品村 | F86: 太田市 | G86: 生品村 | H86: 2 | I86: 2 | J86: 平地農業地域 | K86: 田畑型
A87: 86 | B87: 綿打村 | C87: 平地農業地域 | D87: 畑地型 | E87: 綿打村 | F87: 太田市 | G87: 綿打村 | H87: 2 | I87: 3 | J87: 平地農業地域 | K87: 畑地型
A88: 87 | B88: 藪塚本町 | C88: 平地農業地域 | D88: 畑地型 | E88: 藪塚本町 | F88: 太田市 | G88: 藪塚本町 | H88: 2 | I88: 3 | J88: 平地農業地域 | K88: 畑地型
A89: 88 | B89: 新会村２－２ | C89: 中間農業地域 | D89: 畑地型 | E89: 新会村２－２ | F89: 太田市 | G89: 新会村２－２ | H89: 3 | I89: 3 | J89: 中間農業地域 | K89: 畑地型
A90: 89 | B90: 沼田市 | C90: 中間農業地域 | D90: 畑地型 | E90: 沼田市 | F90: 沼田市 | H90: 3 | I90: 3 | J90: 中間農業地域 | K90: 畑地型
A91: 90 | B91: 沼田町 | C91: 都市的地域 | D91: 田畑型 | E91: 沼田町 | F91: 沼田市 | G91: 沼田町 | H91: 1 | I91: 2 | J91: 都市的地域 | K91: 田畑型
A92: 91 | B92: 利南村 | C92: 都市的地域 | D92: 畑地型 | E92: 利南村 | F92: 沼田市 | G92: 利南村 | H92: 1 | I92: 3 | J92: 都市的地域 | K92: 畑地型
A93: 92 | B93: 池田村 | C93: 中間農業地域 | D93: 田畑型 | E93: 池田村 | F93: 沼田市 | G93: 池田村 | H93: 3 | I93: 2 | J93: 中間農業地域 | K93: 田畑型
A94: 93 | B94: 薄根村 | C94: 平地農業地域 | D94: 田畑型 | E94: 薄根村 | F94: 沼田市 | G94: 薄根村 | H94: 2 | I94: 2 | J94: 平地農業地域 | K94: 田畑型
A95: 94 | B95: 川田村 | C95: 中間農業地域 | D95: 畑地型 | E95: 川田村 | F95: 沼田市 | G95: 川田村 | H95: 3 | I95: 3 | J95: 中間農業地域 | K95: 畑地型
A96: 95 | B96: 白沢村 | C96: 中間農業地域 | D96: 畑地型 | E96: 白沢村 | F96: 沼田市 | G96: 白沢村 | H96: 3 | I96: 3 | J96: 中間農業地域 | K96: 畑地型
A97: 96 | B97: 東村（沼田市） | C97: 山間農業地域 | D97: 畑地型 | E97: 東村（沼田市） | F97: 沼田市 | G97: 東村 | H97: 4 | I97: 3 | J97: 山間農業地域 | K97: 畑地型
A98: 97 | B98: 赤城根村 | C98: 山間農業地域 | D98: 畑地型 | E98: 赤城根村 | F98: 沼田市 | G98: 赤城根村 | H98: 4 | I98: 3 | J98: 山間農業地域 | K98: 畑地型
A99: 98 | B99: 館林市 | C99: 都市的地域 | D99: 水田型 | E99: 館林市 | F99: 館林市 | H99: 1 | I99: 1 | J99: 都市的地域 | K99: 水田型
A100: 99 | B100: 館林町 | C100: 都市的地域 | D100: 田畑型 | E100: 館林町 | F100: 館林市 | G100: 館林町 | H100: 1 | I100: 2 | J100: 都市的地域 | K100: 田畑型
A101: 100 | B101: 郷谷村 | C101: 都市的地域 | D101: 水田型 | E101: 郷谷村 | F101: 館林市 | G101: 郷谷村 | H101: 1 | I101: 1 | J101: 都市的地域 | K101: 水田型
A102: 101 | B102: 大島村 | C102: 平地農業地域 | D102: 水田型 | E102: 大島村 | F102: 館林市 | G102: 大島村 | H102: 2 | I102: 1 | J102: 平地農業地域 | K102: 水田型
A103: 102 | B103: 赤羽村 | C103: 都市的地域 | D103: 水田型 | E103: 赤羽村 | F103: 館林市 | G103: 赤羽村 | H103: 1 | I103: 1 | J103: 都市的地域 | K103: 水田型
A104: 103 | B104: 六郷村 | C104: 都市的地域 | D104: 水田型 | E104: 六郷村 | F104: 館林市 | G104: 六郷村 | H104: 1 | I104: 1 | J104: 都市的地域 | K104: 水田型
A105: 104 | B105: 三野谷村 | C105: 平地農業地域 | D105: 水田型 | E105: 三野谷村 | F105: 館林市 | G105: 三野谷村 | H105: 2 | I105: 1 | J105: 平地農業地域 | K105: 水田型
A106: 105 | B106: 多々良村 | C106: 都市的地域 | D106: 水田型 | E106: 多々良村 | F106: 館林市 | G106: 多々良村 | H106: 1 | I106: 1 | J106: 都市的地域 | K106: 水田型
A107: 106 | B107: 渡瀬村 | C107: 平地農業地域 | D107: 水田型 | E107: 渡瀬村 | F107: 館林市 | G107: 渡瀬村 | H107: 2 | I107: 1 | J107: 平地農業地域 | K107: 水田型
A108: 107 | B108: 渋川市 | C108: 中間農業地域 | D108: 畑地型 | E108: 渋川市 | F108: 渋川市 | H108: 3 | I108: 3 | J108: 中間農業地域 | K108: 畑地型
A109: 108 | B109: 渋川町 | C109: 都市的地域 | D109: 畑地型 | E109: 渋川町 | F109: 渋川市 | G109: 渋川町 | H109: 1 | I109: 3 | J109: 都市的地域 | K109: 畑地型
A110: 109 | B110: 金島村 | C110: 都市的地域 | D110: 畑地型 | E110: 金島村 | F110: 渋川市 | G110: 金島村 | H110: 1 | I110: 3 | J110: 都市的地域 | K110: 畑地型
A111: 110 | B111: 古巻村 | C111: 都市的地域 | D111: 田畑型 | E111: 古巻村 | F111: 渋川市 | G111: 古巻村 | H111: 1 | I111: 2 | J111: 都市的地域 | K111: 田畑型
A112: 111 | B112: 豊秋村 | C112: 都市的地域 | D112: 田畑型 | E112: 豊秋村 | F112: 渋川市 | G112: 豊秋村 | H112: 1 | I112: 2 | J112: 都市的地域 | K112: 田畑型
A113: 112 | B113: 北橘村 | C113: 平地農業地域 | D113: 畑地型 | E113: 北橘村 | F113: 渋川市 | G113: 北橘村 | H113: 2 | I113: 3 | J113: 平地農業地域 | K113: 畑地型
A114: 113 | B114: 敷島村 | C114: 中間農業地域 | D114: 畑地型 | E114: 敷島村 | F114: 渋川市 | G114: 敷島村 | H114: 3 | I114: 3 | J114: 中間農業地域 | K114: 畑地型
A115: 114 | B115: 横野村 | C115: 平地農業地域 | D115: 畑地型 | E115: 横野村 | F115: 渋川市 | G115: 横野村 | H115: 2 | I115: 3 | J115: 平地農業地域 | K115: 畑地型
A116: 115 | B116: 長尾村 | C116: 平地農業地域 | D116: 畑地型 | E116: 長尾村 | F116: 渋川市 | G116: 長尾村 | H116: 2 | I116: 3 | J116: 平地農業地域 | K116: 畑地型
A117: 116 | B117: 白郷井村 | C117: 中間農業地域 | D117: 畑地型 | E117: 白郷井村 | F117: 渋川市 | G117: 白郷井村 | H117: 3 | I117: 3 | J117: 中間農業地域 | K117: 畑地型
A118: 117 | B118: 小野上村 | C118: 中間農業地域 | D118: 畑地型 | E118: 小野上村 | F118: 渋川市 | G118: 小野上村 | H118: 3 | I118: 3 | J118: 中間農業地域 | K118: 畑地型
A119: 118 | B119: 伊香保町 | C119: 山間農業地域 | D119: 畑地型 | E119: 伊香保町 | F119: 渋川市 | G119: 伊香保町 | H119: 4 | I119: 3 | J119: 山間農業地域 | K119: 畑地型
A120: 119 | B120: 藤岡市 | C120: 中間農業地域 | D120: 田畑型 | E120: 藤岡市 | F120: 藤岡市 | H120: 3 | I120: 2 | J120: 中間農業地域 | K120: 田畑型
A121: 120 | B121: 藤岡町 | C121: 都市的地域 | D121: 田畑型 | E121: 藤岡町 | F121: 藤岡市 | G121: 藤岡町 | H121: 1 | I121: 2 | J121: 都市的地域 | K121: 田畑型
A122: 121 | B122: 神流村 | C122: 都市的地域 | D122: 田畑型 | E122: 神流村 | F122: 藤岡市 | G122: 神流村 | H122: 1 | I122: 2 | J122: 都市的地域 | K122: 田畑型
A123: 122 | B123: 小野村 | C123: 都市的地域 | D123: 田畑型 | E123: 小野村 | F123: 藤岡市 | G123: 小野村 | H123: 1 | I123: 2 | J123: 都市的地域 | K123: 田畑型
A124: 123 | B124: 美土里村 | C124: 都市的地域 | D124: 田畑型 | E124: 美土里村 | F124: 藤岡市 | G124: 美土里村 | H124: 1 | I124: 2 | J124: 都市的地域 | K124: 田畑型
...

Sheet 元データ
A1: 注意事項 | C1: ･･･ | D1: 空欄追記:『調査外(湖､無人島等)』 | Z1: 別紙 2 | AB1: 市区町村名 | AC1: 旧市区町村 | AD1: 農業集落
C2: ･･･ | D2: 全角変換:『2-1』⇒『2-1』 | K2: =IF(AB2=0,"",AB2) | S2: =IF(AC2=0,"",AC2) | AA2: 栃木県 | AB2: =kadft!F5 -> 0 | AC2: =kadft!J5 | AD2: =#REF! -> #REF!
K3: 市町村 | Q3: 旧市区町村 | V3: 農業集落
A4: 農業集落 | B4: 県 | C4: 市区町村 | D4: 旧市区町村 | E4: 農業集落 | F4: 県名 | G4: 市町村名 | H4: 旧市町村名 | I4: 農業集落名 | K4: 判定１ | O4: 抽出１ | Q4: 判定2 | S4: 抽出2 | V4: 抽出3 | Z4: 通し | AA4: 都県名 | AB4: 市区町村名 | AC4: 旧区市町村名 | AD4: 農業集落名
A5: ｺｰﾄﾞ | B5: 番号 | C5: 番号 | D5: 番号 | E5: 番号 | K5: 判定 | L5: 市区町村名 | M5: 連番 | N5: 補記 | O5: 抽出 | P5: 名 | Q5: 判定 | R5: 名 | S5: 抽出 | T5: 旧区市町村名 | U5: 連番 | V5: 抽出 | W5: 農業集落名 | X5: 連番 | Z5: №
Z6: 0
A7: 1000000000 | B7: 10 | C7: 0 | D7: 0 | E7: 0 | F7: 群馬県 | G7: 群馬県 | K7: =IF(AND($C7>0,$H7=""),"ﾘｽﾄ１","") | L7: =IF(K7="ﾘｽﾄ１",G7,"") | M7: =IF(K7="","",COUNTIF($K7:K$7,"ﾘｽﾄ１")) | N7: =IF(AND(D7=0,E7>0),"同一区","") | O7: =IF(AND(EXACT($K$2,G7),H7>0),"該当１","") | P7: =IF(O7="該当１",G7,"") | Q7: =IF(O7="該当１","ﾘｽﾄ2","") | R7: =IF(Q7="ﾘｽﾄ2",H7,"") | S7: =IF(AND(Q7="ﾘｽﾄ2",OR(I7=0,AND(N7="同一区",E7=1))),"該当２","") | T7: =IF(S7="該当２",H7,"") | U7: =IF(S7="","",COUNTIF($S$7:S7,"該当２")) | V7: =IF(AND($S$2=H7,E7>0,E7<998),"該当３","") | W7: =IF(V7="該当３",I7,"") | X7: =IF(V7="","",COUNTIF($V7:V$7,"該当３")) | Z7: 1 | AA7: 群馬県 | AB7: 前橋市 | AC7: =IF($Z7>MAX($U$7:$U$3715),"",INDEX($T$7:$T$3715,MATCH($Z7,$U$7:$U$3715,0),MATCH($AC$4,$T$5:$U$5,0))) | AD7: =IF($Z7>MAX($X$7:$X$3715),"",INDEX($W$7:$W$3715,MATCH($Z7,$X$7:$X$3715,0),MATCH($AD$4,$W$5:$X$5,0)))
A8: 1020100000 | B8: 10 | C8: 201 | D8: 0 | E8: 0 | F8: 群馬県 | G8: 前橋市 | K8: =IF(AND($C8>0,$H8=""),"ﾘｽﾄ１","") -> ﾘｽﾄ１ | L8: =IF(K8="ﾘｽﾄ１",G8,"") -> 前橋市 | M8: =IF(K8="","",COUNTIF($K$7:K8,"ﾘｽﾄ１")) -> 1 | N8: =IF(AND(D8=0,E8>0),"同一区","") | O8: =IF(AND(EXACT($K$2,G8),H8>0),"該当１","") | P8: =IF(O8="該当１",G8,"") | Q8: =IF(O8="該当１","ﾘｽﾄ2","") | R8: =IF(Q8="ﾘｽﾄ2",H8,"") | S8: =IF(AND(Q8="ﾘｽﾄ2",OR(I8=0,AND(N8="同一区",E8=1))),"該当２","") | T8: =IF(S8="該当２",H8,"") | U8: =IF(S8="","",COUNTIF($S$7:S8,"該当２")) | V8: =IF(AND($S$2=H8,E8>0,E8<998),"該当３","") | W8: =IF(V8="該当３",I8,"") | X8: =IF(V8="","",COUNTIF($V$7:V8,"該当３")) | Z8: 2 | AB8: 高崎市 | AC8: =IF($Z8>MAX($U$7:$U$3715),"",INDEX($T$7:$T$3715,MATCH($Z8,$U$7:$U$3715,0),MATCH($AC$4,$T$5:$U$5,0))) | AD8: =IF($Z8>MAX($X$7:$X$3715),"",INDEX($W$7:$W$3715,MATCH($Z8,$X$7:$X$3715,0),MATCH($AD$4,$W$5:$X$5,0)))
A9: 1020101000 | B9: 10 | C9: 201 | D9: 1 | E9: 0 | F9: 群馬県 | G9: 前橋市 | H9: 前橋市（旧） | K9: =IF(AND($C9>0,$H9=""),"ﾘｽﾄ１","") | L9: =IF(K9="ﾘｽﾄ１",G9,"") | M9: =IF(K9="","",COUNTIF($K$7:K9,"ﾘｽﾄ１")) | N9: =IF(AND(D9=0,E9>0),"同一区","") | O9: =IF(AND(EXACT($K$2,G9),H9>0),"該当１","") | P9: =IF(O9="該当１",G9,"") | Q9: =IF(O9="該当１","ﾘｽﾄ2","") | R9: =IF(Q9="ﾘｽﾄ2",H9,"") | S9: =IF(AND(Q9="ﾘｽﾄ2",OR(I9=0,AND(N9="同一区",E9=1))),"該当２","") | T9: =IF(S9="該当２",H9,"") | U9: =IF(S9="","",COUNTIF($S$7:S9,"該当２")) | V9: =IF(AND($S$2=H9,E9>0,E9<998),"該当３","") | W9: =IF(V9="該当３",I9,"") | X9: =IF(V9="","",COUNTIF($V$7:V9,"該当３")) | Z9: 3 | AB9: 桐生市 | AC9: =IF($Z9>MAX($U$7:$U$3715),"",INDEX($T$7:$T$3715,MATCH($Z9,$U$7:$U$3715,0),MATCH($AC$4,$T$5:$U$5,0))) | AD9: =IF($Z9>MAX($X$7:$X$3715),"",INDEX($W$7:$W$3715,MATCH($Z9,$X$7:$X$3715,0),MATCH($AD$4,$W$5:$X$5,0)))
A10: 1020101001 | B10: 10 | C10: 201 | D10: 1 | E10: 1 | F10: 群馬県 | G10: 前橋市 | H10: 前橋市 | I10: 岩神町他３町 | K10: =IF(AND($C10>0,$H10=""),"ﾘｽﾄ１","") | L10: =IF(K10="ﾘｽﾄ１",G10,"") | M10: =IF(K10="","",COUNTIF($K$7:K10,"ﾘｽﾄ１")) | N10: =IF(AND(D10=0,E10>0),"同一区","") | O10: =IF(AND(EXACT($K$2,G10),H10>0),"該当１","") | P10: =IF(O10="該当１",G10,"") | Q10: =IF(O10="該当１","ﾘｽﾄ2","") | R10: =IF(Q10="ﾘｽﾄ2",H10,"") | S10: =IF(AND(Q10="ﾘｽﾄ2",OR(I10=0,AND(N10="同一区",E10=1))),"該当２","") | T10: =IF(S10="該当２",H10,"") | U10: =IF(S10="","",COUNTIF($S$7:S10,"該当２")) | V10: =IF(AND($S$2=H10,E10>0,E10<998),"該当３","") | W10: =IF(V10="該当３",I10,"") | X10: =IF(V10="","",COUNTIF($V$7:V10,"該当３")) | Z10: 4 | AB10: 伊勢崎市 | AC10: =IF($Z10>MAX($U$7:$U$3715),"",INDEX($T$7:$T$3715,MATCH($Z10,$U$7:$U$3715,0),MATCH($AC$4,$T$5:$U$5,0))) | AD10: =IF($Z10>MAX($X$7:$X$3715),"",INDEX($W$7:$W$3715,MATCH($Z10,$X$7:$X$3715,0),MATCH($AD$4,$W$5:$X$5,0)))
A11: 1020101002 | B11: 10 | C11: 201 | D11: 1 | E11: 2 | F11: 群馬県 | G11: 前橋市 | H11: 前橋市 | I11: 若宮町他１町 | K11: =IF(AND($C11>0,$H11=""),"ﾘｽﾄ１","") | L11: =IF(K11="ﾘｽﾄ１",G11,"") | M11: =IF(K11="","",COUNTIF($K$7:K11,"ﾘｽﾄ１")) | N11: =IF(AND(D11=0,E11>0),"同一区","") | O11: =IF(AND(EXACT($K$2,G11),H11>0),"該当１","") | P11: =IF(O11="該当１",G11,"") | Q11: =IF(O11="該当１","ﾘｽﾄ2","") | R11: =IF(Q11="ﾘｽﾄ2",H11,"") | S11: =IF(AND(Q11="ﾘｽﾄ2",OR(I11=0,AND(N11="同一区",E11=1))),"該当２","") | T11: =IF(S11="該当２",H11,"") | U11: =IF(S11="","",COUNTIF($S$7:S11,"該当２")) | V11: =IF(AND($S$2=H11,E11>0,E11<998),"該当３","") | W11: =IF(V11="該当３",I11,"") | X11: =IF(V11="","",COUNTIF($V$7:V11,"該当３")) | Z11: 5 | AB11: 太田市 | AC11: =IF($Z11>MAX($U$7:$U$3715),"",INDEX($T$7:$T$3715,MATCH($Z11,$U$7:$U$3715,0),MATCH($AC$4,$T$5:$U$5,0))) | AD11: =IF($Z11>MAX($X$7:$X$3715),"",INDEX($W$7:$W$3715,MATCH($Z11,$X$7:$X$3715,0),MATCH($AD$4,$W$5:$X$5,0)))
A12: 1020101003 | B12: 10 | C12: 201 | D12: 1 | E12: 3 | F12: 群馬県 | G12: 前橋市 | H12: 前橋市 | I12: 日吉町他１町 | K12: =IF(AND($C12>0,$H12=""),"ﾘｽﾄ１","") | L12: =IF(K12="ﾘｽﾄ１",G12,"") | M12: =IF(K12="","",COUNTIF($K$7:K12,"ﾘｽﾄ１")) | N12: =IF(AND(D12=0,E12>0),"同一区","") | O12: =IF(AND(EXACT($K$2,G12),H12>0),"該当１","") | P12: =IF(O12="該当１",G12,"") | Q12: =IF(O12="該当１","ﾘｽﾄ2","") | R12: =IF(Q12="ﾘｽﾄ2",H12,"") | S12: =IF(AND(Q12="ﾘｽﾄ2",OR(I12=0,AND(N12="同一区",E12=1))),"該当２","") | T12: =IF(S12="該当２",H12,"") | U12: =IF(S12="","",COUNTIF($S$7:S12,"該当２")) | V12: =IF(AND($S$2=H12,E12>0,E12<998),"該当３","") | W12: =IF(V12="該当３",I12,"") | X12: =IF(V12="","",COUNTIF($V$7:V12,"該当３")) | Z12: 6 | AB12: 沼田市 | AC12: =IF($Z12>MAX($U$7:$U$3715),"",INDEX($T$7:$T$3715,MATCH($Z12,$U$7:$U$3715,0),MATCH($AC$4,$T$5:$U$5,0))) | AD12: =IF($Z12>MAX($X$7:$X$3715),"",INDEX($W$7:$W$3715,MATCH($Z12,$X$7:$X$3715,0),MATCH($AD$4,$W$5:$X$5,0)))
A13: 1020101004 | B13: 10 | C13: 201 | D13: 1 | E13: 4 | F13: 群馬県 | G13: 前橋市 | H13: 前橋市 | I13: 朝日町他２町 | K13: =IF(AND($C13>0,$H13=""),"ﾘｽﾄ１","") | L13: =IF(K13="ﾘｽﾄ１",G13,"") | M13: =IF(K13="","",COUNTIF($K$7:K13,"ﾘｽﾄ１")) | N13: =IF(AND(D13=0,E13>0),"同一区","") | O13: =IF(AND(EXACT($K$2,G13),H13>0),"該当１","") | P13: =IF(O13="該当１",G13,"") | Q13: =IF(O13="該当１","ﾘｽﾄ2","") | R13: =IF(Q13="ﾘｽﾄ2",H13,"") | S13: =IF(AND(Q13="ﾘｽﾄ2",OR(I13=0,AND(N13="同一区",E13=1))),"該当２","") | T13: =IF(S13="該当２",H13,"") | U13: =IF(S13="","",COUNTIF($S$7:S13,"該当２")) | V13: =IF(AND($S$2=H13,E13>0,E13<998),"該当３","") | W13: =IF(V13="該当３",I13,"") | X13: =IF(V13="","",COUNTIF($V$7:V13,"該当３")) | Z13: 7 | AB13: 館林市 | AC13: =IF($Z13>MAX($U$7:$U$3715),"",INDEX($T$7:$T$3715,MATCH($Z13,$U$7:$U$3715,0),MATCH($AC$4,$T$5:$U$5,0))) | AD13: =IF($Z13>MAX($X$7:$X$3715),"",INDEX($W$7:$W$3715,MATCH($Z13,$X$7:$X$3715,0),MATCH($AD$4,$W$5:$X$5,0)))
A14: 1020101005 | B14: 10 | C14: 201 | D14: 1 | E14: 5 | F14: 群馬県 | G14: 前橋市 | H14: 前橋市 | I14: 文京町他１町 | K14: =IF(AND($C14>0,$H14=""),"ﾘｽﾄ１","") | L14: =IF(K14="ﾘｽﾄ１",G14,"") | M14: =IF(K14="","",COUNTIF($K$7:K14,"ﾘｽﾄ１")) | N14: =IF(AND(D14=0,E14>0),"同一区","") | O14: =IF(AND(EXACT($K$2,G14),H14>0),"該当１","") | P14: =IF(O14="該当１",G14,"") | Q14: =IF(O14="該当１","ﾘｽﾄ2","") | R14: =IF(Q14="ﾘｽﾄ2",H14,"") | S14: =IF(AND(Q14="ﾘｽﾄ2",OR(I14=0,AND(N14="同一区",E14=1))),"該当２","") | T14: =IF(S14="該当２",H14,"") | U14: =IF(S14="","",COUNTIF($S$7:S14,"該当２")) | V14: =IF(AND($S$2=H14,E14>0,E14<998),"該当３","") | W14: =IF(V14="該当３",I14,"") | X14: =IF(V14="","",COUNTIF($V$7:V14,"該当３")) | Z14: 8 | AB14: 渋川市 | AC14: =IF($Z14>MAX($U$7:$U$3715),"",INDEX($T$7:$T$3715,MATCH($Z14,$U$7:$U$3715,0),MATCH($AC$4,$T$5:$U$5,0))) | AD14: =IF($Z14>MAX($X$7:$X$3715),"",INDEX($W$7:$W$3715,MATCH($Z14,$X$7:$X$3715,0),MATCH($AD$4,$W$5:$X$5,0)))
A15: 1020101006 | B15: 10 | C15: 201 | D15: 1 | E15: 6 | F15: 群馬県 | G15: 前橋市 | H15: 前橋市 | I15: 天川町他１町 | K15: =IF(AND($C15>0,$H15=""),"ﾘｽﾄ１","") | L15: =IF(K15="ﾘｽﾄ１",G15,"") | M15: =IF(K15="","",COUNTIF($K$7:K15,"ﾘｽﾄ１")) | N15: =IF(AND(D15=0,E15>0),"同一区","") | O15: =IF(AND(EXACT($K$2,G15),H15>0),"該当１","") | P15: =IF(O15="該当１",G15,"") | Q15: =IF(O15="該当１","ﾘｽﾄ2","") | R15: =IF(Q15="ﾘｽﾄ2",H15,"") | S15: =IF(AND(Q15="ﾘｽﾄ2",OR(I15=0,AND(N15="同一区",E15=1))),"該当２","") | T15: =IF(S15="該当２",H15,"") | U15: =IF(S15="","",COUNTIF($S$7:S15,"該当２")) | V15: =IF(AND($S$2=H15,E15>0,E15<998),"該当３","") | W15: =IF(V15="該当３",I15,"") | X15: =IF(V15="","",COUNTIF($V$7:V15,"該当３")) | Z15: 9 | AB15: 藤岡市 | AC15: =IF($Z15>MAX($U$7:$U$3715),"",INDEX($T$7:$T$3715,MATCH($Z15,$U$7:$U$3715,0),MATCH($AC$4,$T$5:$U$5,0))) | AD15: =IF($Z15>MAX($X$7:$X$3715),"",INDEX($W$7:$W$3715,MATCH($Z15,$X$7:$X$3715,0),MATCH($AD$4,$W$5:$X$5,0)))
A16: 1020101007 | B16: 10 | C16: 201 | D16: 1 | E16: 7 | F16: 群馬県 | G16: 前橋市 | H16: 前橋市 | I16: 文京町他２町 | K16: =IF(AND($C16>0,$H16=""),"ﾘｽﾄ１","") | L16: =IF(K16="ﾘｽﾄ１",G16,"") | M16: =IF(K16="","",COUNTIF($K$7:K16,"ﾘｽﾄ１")) | N16: =IF(AND(D16=0,E16>0),"同一区","") | O16: =IF(AND(EXACT($K$2,G16),H16>0),"該当１","") | P16: =IF(O16="該当１",G16,"") | Q16: =IF(O16="該当１","ﾘｽﾄ2","") | R16: =IF(Q16="ﾘｽﾄ2",H16,"") | S16: =IF(AND(Q16="ﾘｽﾄ2",OR(I16=0,AND(N16="同一区",E16=1))),"該当２","") | T16: =IF(S16="該当２",H16,"") | U16: =IF(S16="","",COUNTIF($S$7:S16,"該当２")) | V16: =IF(AND($S$2=H16,E16>0,E16<998),"該当３","") | W16: =IF(V16="該当３",I16,"") | X16: =IF(V16="","",COUNTIF($V$7:V16,"該当３")) | Z16: 10 | AB16: 富岡市 | AC16: =IF($Z16>MAX($U$7:$U$3715),"",INDEX($T$7:$T$3715,MATCH($Z16,$U$7:$U$3715,0),MATCH($AC$4,$T$5:$U$5,0))) | AD16: =IF($Z16>MAX($X$7:$X$3715),"",INDEX($W$7:$W$3715,MATCH($Z16,$X$7:$X$3715,0),MATCH($AD$4,$W$5:$X$5,0)))
A17: 1020101008 | B17: 10 | C17: 201 | D17: 1 | E17: 8 | F17: 群馬県 | G17: 前橋市 | H17: 前橋市 | I17: 天川原 | K17: =IF(AND($C17>0,$H17=""),"ﾘｽﾄ１","") | L17: =IF(K17="ﾘｽﾄ１",G17,"") | M17: =IF(K17="","",COUNTIF($K$7:K17,"ﾘｽﾄ１")) | N17: =IF(AND(D17=0,E17>0),"同一区","") | O17: =IF(AND(EXACT($K$2,G17),H17>0),"該当１","") | P17: =IF(O17="該当１",G17,"") | Q17: =IF(O17="該当１","ﾘｽﾄ2","") | R17: =IF(Q17="ﾘｽﾄ2",H17,"") | S17: =IF(AND(Q17="ﾘｽﾄ2",OR(I17=0,AND(N17="同一区",E17=1))),"該当２","") | T17: =IF(S17="該当２",H17,"") | U17: =IF(S17="","",COUNTIF($S$7:S17,"該当２")) | V17: =IF(AND($S$2=H17,E17>0,E17<998),"該当３","") | W17: =IF(V17="該当３",I17,"") | X17: =IF(V17="","",COUNTIF($V$7:V17,"該当３")) | Z17: 11 | AB17: 安中市 | AC17: =IF($Z17>MAX($U$7:$U$3715),"",INDEX($T$7:$T$3715,MATCH($Z17,$U$7:$U$3715,0),MATCH($AC$4,$T$5:$U$5,0))) | AD17: =IF($Z17>MAX($X$7:$X$3715),"",INDEX($W$7:$W$3715,MATCH($Z17,$X$7:$X$3715,0),MATCH($AD$4,$W$5:$X$5,0)))
A18: 1020101009 | B18: 10 | C18: 201 | D18: 1 | E18: 9 | F18: 群馬県 | G18: 前橋市 | H18: 前橋市 | I18: 紅雲町他２町 | K18: =IF(AND($C18>0,$H18=""),"ﾘｽﾄ１","") | L18: =IF(K18="ﾘｽﾄ１",G18,"") | M18: =IF(K18="","",COUNTIF($K$7:K18,"ﾘｽﾄ１")) | N18: =IF(AND(D18=0,E18>0),"同一区","") | O18: =IF(AND(EXACT($K$2,G18),H18>0),"該当１","") | P18: =IF(O18="該当１",G18,"") | Q18: =IF(O18="該当１","ﾘｽﾄ2","") | R18: =IF(Q18="ﾘｽﾄ2",H18,"") | S18: =IF(AND(Q18="ﾘｽﾄ2",OR(I18=0,AND(N18="同一区",E18=1))),"該当２","") | T18: =IF(S18="該当２",H18,"") | U18: =IF(S18="","",COUNTIF($S$7:S18,"該当２")) | V18: =IF(AND($S$2=H18,E18>0,E18<998),"該当３","") | W18: =IF(V18="該当３",I18,"") | X18: =IF(V18="","",COUNTIF($V$7:V18,"該当３")) | Z18: 12 | AB18: みどり市 | AC18: =IF($Z18>MAX($U$7:$U$3715),"",INDEX($T$7:$T$3715,MATCH($Z18,$U$7:$U$3715,0),MATCH($AC$4,$T$5:$U$5,0))) | AD18: =IF($Z18>MAX($X$7:$X$3715),"",INDEX($W$7:$W$3715,MATCH($Z18,$X$7:$X$3715,0),MATCH($AD$4,$W$5:$X$5,0)))
A19: 1020101010 | B19: 10 | C19: 201 | D19: 1 | E19: 10 | F19: 群馬県 | G19: 前橋市 | H19: 前橋市 | I19: 六供第一 | K19: =IF(AND($C19>0,$H19=""),"ﾘｽﾄ１","") | L19: =IF(K19="ﾘｽﾄ１",G19,"") | M19: =IF(K19="","",COUNTIF($K$7:K19,"ﾘｽﾄ１")) | N19: =IF(AND(D19=0,E19>0),"同一区","") | O19: =IF(AND(EXACT($K$2,G19),H19>0),"該当１","") | P19: =IF(O19="該当１",G19,"") | Q19: =IF(O19="該当１","ﾘｽﾄ2","") | R19: =IF(Q19="ﾘｽﾄ2",H19,"") | S19: =IF(AND(Q19="ﾘｽﾄ2",OR(I19=0,AND(N19="同一区",E19=1))),"該当２","") | T19: =IF(S19="該当２",H19,"") | U19: =IF(S19="","",COUNTIF($S$7:S19,"該当２")) | V19: =IF(AND($S$2=H19,E19>0,E19<998),"該当３","") | W19: =IF(V19="該当３",I19,"") | X19: =IF(V19="","",COUNTIF($V$7:V19,"該当３")) | Z19: 13 | AB19: 榛東村 | AC19: =IF($Z19>MAX($U$7:$U$3715),"",INDEX($T$7:$T$3715,MATCH($Z19,$U$7:$U$3715,0),MATCH($AC$4,$T$5:$U$5,0))) | AD19: =IF($Z19>MAX($X$7:$X$3715),"",INDEX($W$7:$W$3715,MATCH($Z19,$X$7:$X$3715,0),MATCH($AD$4,$W$5:$X$5,0)))
A20: 1020101011 | B20: 10 | C20: 201 | D20: 1 | E20: 11 | F20: 群馬県 | G20: 前橋市 | H20: 前橋市 | I20: 六供北西 | K20: =IF(AND($C20>0,$H20=""),"ﾘｽﾄ１","") | L20: =IF(K20="ﾘｽﾄ１",G20,"") | M20: =IF(K20="","",COUNTIF($K$7:K20,"ﾘｽﾄ１")) | N20: =IF(AND(D20=0,E20>0),"同一区","") | O20: =IF(AND(EXACT($K$2,G20),H20>0),"該当１","") | P20: =IF(O20="該当１",G20,"") | Q20: =IF(O20="該当１","ﾘｽﾄ2","") | R20: =IF(Q20="ﾘｽﾄ2",H20,"") | S20: =IF(AND(Q20="ﾘｽﾄ2",OR(I20=0,AND(N20="同一区",E20=1))),"該当２","") | T20: =IF(S20="該当２",H20,"") | U20: =IF(S20="","",COUNTIF($S$7:S20,"該当２")) | V20: =IF(AND($S$2=H20,E20>0,E20<998),"該当３","") | W20: =IF(V20="該当３",I20,"") | X20: =IF(V20="","",COUNTIF($V$7:V20,"該当３")) | Z20: 14 | AB20: 吉岡町 | AC20: =IF($Z20>MAX($U$7:$U$3715),"",INDEX($T$7:$T$3715,MATCH($Z20,$U$7:$U$3715,0),MATCH($AC$4,$T$5:$U$5,0))) | AD20: =IF($Z20>MAX($X$7:$X$3715),"",INDEX($W$7:$W$3715,MATCH($Z20,$X$7:$X$3715,0),MATCH($AD$4,$W$5:$X$5,0)))
A21: 1020101012 | B21: 10 | C21: 201 | D21: 1 | E21: 12 | F21: 群馬県 | G21: 前橋市 | H21: 前橋市 | I21: 六供東南 | K21: =IF(AND($C21>0,$H21=""),"ﾘｽﾄ１","") | L21: =IF(K21="ﾘｽﾄ１",G21,"") | M21: =IF(K21="","",COUNTIF($K$7:K21,"ﾘｽﾄ１")) | N21: =IF(AND(D21=0,E21>0),"同一区","") | O21: =IF(AND(EXACT($K$2,G21),H21>0),"該当１","") | P21: =IF(O21="該当１",G21,"") | Q21: =IF(O21="該当１","ﾘｽﾄ2","") | R21: =IF(Q21="ﾘｽﾄ2",H21,"") | S21: =IF(AND(Q21="ﾘｽﾄ2",OR(I21=0,AND(N21="同一区",E21=1))),"該当２","") | T21: =IF(S21="該当２",H21,"") | U21: =IF(S21="","",COUNTIF($S$7:S21,"該当２")) | V21: =IF(AND($S$2=H21,E21>0,E21<998),"該当３","") | W21: =IF(V21="該当３",I21,"") | X21: =IF(V21="","",COUNTIF($V$7:V21,"該当３")) | Z21: 15 | AB21: 上野村 | AC21: =IF($Z21>MAX($U$7:$U$3715),"",INDEX($T$7:$T$3715,MATCH($Z21,$U$7:$U$3715,0),MATCH($AC$4,$T$5:$U$5,0))) | AD21: =IF($Z21>MAX($X$7:$X$3715),"",INDEX($W$7:$W$3715,MATCH($Z21,$X$7:$X$3715,0),MATCH($AD$4,$W$5:$X$5,0)))
... A23: 1020101014 | B23: 10 | C23: 201 | D23: 1 | E23: 14 | F23: 群馬県 | G23: 前橋市 | H23: 前橋市 | I23: 平和町他６町 | K23: =IF(AND($C23>0,$H23=""),"ﾘｽﾄ１","") | L23: =IF(K23="ﾘｽﾄ１",G23,"") | M23: =IF(K23="","",COUNTIF($K$7:K23,"ﾘｽﾄ１")) | N23: =IF(AND(D23=0,E23>0),"同一区","") | O23: =IF(AND(EXACT($K$2,G23),H23>0),"該当１","") | P23: =IF(O23="該当１",G23,"") | Q23: =IF(O23="該当１","ﾘｽﾄ2","") | R23: =IF(Q23="ﾘｽﾄ2",H23,"") | S23: =IF(AND(Q23="ﾘｽﾄ2",OR(I23=0,AND(N23="同一区",E23=1))),"該当２","") | T23: =IF(S23="該当２",H23,"") | U23: =IF(S23="","",COUNTIF($S$7:S23,"該当２")) | V23: =IF(AND($S$2=H23,E23>0,E23<998),"該当３","") | W23: =IF(V23="該当３",I23,"") | X23: =IF(V23="","",COUNTIF($V$7:V23,"該当３")) | Z23: 17 | AB23: 下仁田町 | AC23: =IF($Z23>MAX($U$7:$U$3715),"",INDEX($T$7:$T$3715,MATCH($Z23,$U$7:$U$3715,0),MATCH($AC$4,$T$5:$U$5,0))) | AD23: =IF($Z23>MAX($X$7:$X$3715),"",INDEX($W$7:$W$3715,MATCH($Z23,$X$7:$X$3715,0),MATCH($AD$4,$W$5:$X$5,0)))
A24: 1020102000 | B24: 10 | C24: 201 | D24: 2 | E24: 0 | F24: 群馬県 | G24: 前橋市 | H24: 上川渕村 | K24: =IF(AND($C24>0,$H24=""),"ﾘｽﾄ１","") | L24: =IF(K24="ﾘｽﾄ１",G24,"") | M24: =IF(K24="","",COUNTIF($K$7:K24,"ﾘｽﾄ１")) | N24: =IF(AND(D24=0,E24>0),"同一区","") | O24: =IF(AND(EXACT($K$2,G24),H24>0),"該当１","") | P24: =IF(O24="該当１",G24,"") | Q24: =IF(O24="該当１","ﾘｽﾄ2","") | R24: =IF(Q24="ﾘｽﾄ2",H24,"") | S24: =IF(AND(Q24="ﾘｽﾄ2",OR(I24=0,AND(N24="同一区",E24=1))),"該当２","") | T24: =IF(S24="該当２",H24,"") | U24: =IF(S24="","",COUNTIF($S$7:S24,"該当２")) | V24: =IF(AND($S$2=H24,E24>0,E24<998),"該当３","") | W24: =IF(V24="該当３",I24,"") | X24: =IF(V24="","",COUNTIF($V$7:V24,"該当３")) | Z24: 18 | AB24: 南牧村 | AC24: =IF($Z24>MAX($U$7:$U$3715),"",INDEX($T$7:$T$3715,MATCH($Z24,$U$7:$U$3715,0),MATCH($AC$4,$T$5:$U$5,0))) | AD24: =IF($Z24>MAX($X$7:$X$3715),"",INDEX($W$7:$W$3715,MATCH($Z24,$X$7:$X$3715,0),MATCH($AD$4,$W$5:$X$5,0)))
A25: 1020102001 | B25: 10 | C25: 201 | D25: 2 | E25: 1 | F25: 群馬県 | G25: 前橋市 | H25: 上川渕村 | I25: 上佐鳥 | K25: =IF(AND($C25>0,$H25=""),"ﾘｽﾄ１","") | L25: =IF(K25="ﾘｽﾄ１",G25,"") | M25: =IF(K25="","",COUNTIF($K$7:K25,"ﾘｽﾄ１")) | N25: =IF(AND(D25=0,E25>0),"同一区","") | O25: =IF(AND(EXACT($K$2,G25),H25>0),"該当１","") | P25: =IF(O25="該当１",G25,"") | Q25: =IF(O25="該当１","ﾘｽﾄ2","") | R25: =IF(Q25="ﾘｽﾄ2",H25,"") | S25: =IF(AND(Q25="ﾘｽﾄ2",OR(I25=0,AND(N25="同一区",E25=1))),"該当２","") | T25: =IF(S25="該当２",H25,"") | U25: =IF(S25="","",COUNTIF($S$7:S25,"該当２")) | V25: =IF(AND($S$2=H25,E25>0,E25<998),"該当３","") | W25: =IF(V25="該当３",I25,"") | X25: =IF(V25="","",COUNTIF($V$7:V25,"該当３")) | Z25: 19 | AB25: 甘楽町 | AC25: =IF($Z25>MAX($U$7:$U$3715),"",INDEX($T$7:$T$3715,MATCH($Z25,$U$7:$U$3715,0),MATCH($AC$4,$T$5:$U$5,0))) | AD25: =IF($Z25>MAX($X$7:$X$3715),"",INDEX($W$7:$W$3715,MATCH($Z25,$X$7:$X$3715,0),MATCH($AD$4,$W$5:$X$5,0)))
A26: 1020102002 | B26: 10 | C26: 201 | D26: 2 | E26: 2 | F26: 群馬県 | G26: 前橋市 | H26: 上川渕村 | I26: ぬで島 | K26: =IF(AND($C26>0,$H26=""),"ﾘｽﾄ１","") | L26: =IF(K26="ﾘｽﾄ１",G26,"") | M26: =IF(K26="","",COUNTIF($K$7:K26,"ﾘｽﾄ１")) | N26: =IF(AND(D26=0,E26>0),"同一区","") | O26: =IF(AND(EXACT($K$2,G26),H26>0),"該当１","") | P26: =IF(O26="該当１",G26,"") | Q26: =IF(O26="該当１","ﾘｽﾄ2","") | R26: =IF(Q26="ﾘｽﾄ2",H26,"") | S26: =IF(AND(Q26="ﾘｽﾄ2",OR(I26=0,AND(N26="同一区",E26=1))),"該当２","") | T26: =IF(S26="該当２",H26,"") | U26: =IF(S26="","",COUNTIF($S$7:S26,"該当２")) | V26: =IF(AND($S$2=H26,E26>0,E26<998),"該当３","") | W26: =IF(V26="該当３",I26,"") | X26: =IF(V26="","",COUNTIF($V$7:V26,"該当３")) | Z26: 20 | AB26: 中之条町 | AC26: =IF($Z26>MAX($U$7:$U$3715),"",INDEX($T$7:$T$3715,MATCH($Z26,$U$7:$U$3715,0),MATCH($AC$4,$T$5:$U$5,0))) | AD26: =IF($Z26>MAX($X$7:$X$3715),"",INDEX($W$7:$W$3715,MATCH($Z26,$X$7:$X$3715,0),MATCH($AD$4,$W$5:$X$5,0)))
A27: 1020102003 | B27: 10 | C27: 201 | D27: 2 | E27: 3 | F27: 群馬県 | G27: 前橋市 | H27: 上川渕村 | I27: 上朝倉 | K27: =IF(AND($C27>0,$H27=""),"ﾘｽﾄ１","") | L27: =IF(K27="ﾘｽﾄ１",G27,"") | M27: =IF(K27="","",COUNTIF($K$7:K27,"ﾘｽﾄ１")) | N27: =IF(AND(D27=0,E27>0),"同一区","") | O27: =IF(AND(EXACT($K$2,G27),H27>0),"該当１","") | P27: =IF(O27="該当１",G27,"") | Q27: =IF(O27="該当１","ﾘｽﾄ2","") | R27: =IF(Q27="ﾘｽﾄ2",H27,"") | S27: =IF(AND(Q27="ﾘｽﾄ2",OR(I27=0,AND(N27="同一区",E27=1))),"該当２","") | T27: =IF(S27="該当２",H27,"") | U27: =IF(S27="","",COUNTIF($S$7:S27,"該当２")) | V27: =IF(AND($S$2=H27,E27>0,E27<998),"該当３","") | W27: =IF(V27="該当３",I27,"") | X27: =IF(V27="","",COUNTIF($V$7:V27,"該当３")) | Z27: 21 | AB27: 長野原町 | AC27: =IF($Z27>MAX($U$7:$U$3715),"",INDEX($T$7:$T$3715,MATCH($Z27,$U$7:$U$3715,0),MATCH($AC$4,$T$5:$U$5,0))) | AD27: =IF($Z27>MAX($X$7:$X$3715),"",INDEX($W$7:$W$3715,MATCH($Z27,$X$7:$X$3715,0),MATCH($AD$4,$W$5:$X$5,0)))
A28: 1020102004 | B28: 10 | C28: 201 | D28: 2 | E28: 4 | F28: 群馬県 | G28: 前橋市 | H28: 上川渕村 | I28: 下朝倉 | K28: =IF(AND($C28>0,$H28=""),"ﾘｽﾄ１","") | L28: =IF(K28="ﾘｽﾄ１",G28,"") | M28: =IF(K28="","",COUNTIF($K$7:K28,"ﾘｽﾄ１")) | N28: =IF(AND(D28=0,E28>0),"同一区","") | O28: =IF(AND(EXACT($K$2,G28),H28>0),"該当１","") | P28: =IF(O28="該当１",G28,"") | Q28: =IF(O28="該当１","ﾘｽﾄ2","") | R28: =IF(Q28="ﾘｽﾄ2",H28,"") | S28: =IF(AND(Q28="ﾘｽﾄ2",OR(I28=0,AND(N28="同一区",E28=1))),"該当２","") | T28: =IF(S28="該当２",H28,"") | U28: =IF(S28="","",COUNTIF($S$7:S28,"該当２")) | V28: =IF(AND($S$2=H28,E28>0,E28<998),"該当３","") | W28: =IF(V28="該当３",I28,"") | X28: =IF(V28="","",COUNTIF($V$7:V28,"該当３")) | Z28: 22 | AB28: 嬬恋村 | AC28: =IF($Z28>MAX($U$7:$U$3715),"",INDEX($T$7:$T$3715,MATCH($Z28,$U$7:$U$3715,0),MATCH($AC$4,$T$5:$U$5,0))) | AD28: =IF($Z28>MAX($X$7:$X$3715),"",INDEX($W$7:$W$3715,MATCH($Z28,$X$7:$X$3715,0),MATCH($AD$4,$W$5:$X$5,0)))
A29: 1020102005 | B29: 10 | C29: 201 | D29: 2 | E29: 5 | F29: 群馬県 | G29: 前橋市 | H29: 上川渕村 | I29: 後閑 | K29: =IF(AND($C29>0,$H29=""),"ﾘｽﾄ１","") | L29: =IF(K29="ﾘｽﾄ１",G29,"") | M29: =IF(K29="","",COUNTIF($K$7:K29,"ﾘｽﾄ１")) | N29: =IF(AND(D29=0,E29>0),"同一区","") | O29: =IF(AND(EXACT($K$2,G29),H29>0),"該当１","") | P29: =IF(O29="該当１",G29,"") | Q29: =IF(O29="該当１","ﾘｽﾄ2","") | R29: =IF(Q29="ﾘｽﾄ2",H29,"") | S29: =IF(AND(Q29="ﾘｽﾄ2",OR(I29=0,AND(N29="同一区",E29=1))),"該当２","") | T29: =IF(S29="該当２",H29,"") | U29: =IF(S29="","",COUNTIF($S$7:S29,"該当２")) | V29: =IF(AND($S$2=H29,E29>0,E29<998),"該当３","") | W29: =IF(V29="該当３",I29,"") | X29: =IF(V29="","",COUNTIF($V$7:V29,"該当３")) | Z29: 23 | AB29: 草津町 | AC29: =IF($Z29>MAX($U$7:$U$3715),"",INDEX($T$7:$T$3715,MATCH($Z29,$U$7:$U$3715,0),MATCH($AC$4,$T$5:$U$5,0))) | AD29: =IF($Z29>MAX($X$7:$X$3715),"",INDEX($W$7:$W$3715,MATCH($Z29,$X$7:$X$3715,0),MATCH($AD$4,$W$5:$X$5,0)))
A30: 1020102006 | B30: 10 | C30: 201 | D30: 2 | E30: 6 | F30: 群馬県 | G30: 前橋市 | H30: 上川渕村 | I30: 下佐鳥 | K30: =IF(AND($C30>0,$H30=""),"ﾘｽﾄ１","") | L30: =IF(K30="ﾘｽﾄ１",G30,"") | M30: =IF(K30="","",COUNTIF($K$7:K30,"ﾘｽﾄ１")) | N30: =IF(AND(D30=0,E30>0),"同一区","") | O30: =IF(AND(EXACT($K$2,G30),H30>0),"該当１","") | P30: =IF(O30="該当１",G30,"") | Q30: =IF(O30="該当１","ﾘｽﾄ2","") | R30: =IF(Q30="ﾘｽﾄ2",H30,"") | S30: =IF(AND(Q30="ﾘｽﾄ2",OR(I30=0,AND(N30="同一区",E30=1))),"該当２","") | T30: =IF(S30="該当２",H30,"") | U30: =IF(S30="","",COUNTIF($S$7:S30,"該当２")) | V30: =IF(AND($S$2=H30,E30>0,E30<998),"該当３","") | W30: =IF(V30="該当３",I30,"") | X30: =IF(V30="","",COUNTIF($V$7:V30,"該当３")) | Z30: 24 | AB30: 高山村 | AC30: =IF($Z30>MAX($U$7:$U$3715),"",INDEX($T$7:$T$3715,MATCH($Z30,$U$7:$U$3715,0),MATCH($AC$4,$T$5:$U$5,0))) | AD30: =IF($Z30>MAX($X$7:$X$3715),"",INDEX($W$7:$W$3715,MATCH($Z30,$X$7:$X$3715,0),MATCH($AD$4,$W$5:$X$5,0)))
A31: 1020102007 | B31: 10 | C31: 201 | D31: 2 | E31: 7 | F31: 群馬県 | G31: 前橋市 | H31: 上川渕村 | I31: 宮地 | K31: =IF(AND($C31>0,$H31=""),"ﾘｽﾄ１","") | L31: =IF(K31="ﾘｽﾄ１",G31,"") | M31: =IF(K31="","",COUNTIF($K$7:K31,"ﾘｽﾄ１")) | N31: =IF(AND(D31=0,E31>0),"同一区","") | O31: =IF(AND(EXACT($K$2,G31),H31>0),"該当１","") | P31: =IF(O31="該当１",G31,"") | Q31: =IF(O31="該当１","ﾘｽﾄ2","") | R31: =IF(Q31="ﾘｽﾄ2",H31,"") | S31: =IF(AND(Q31="ﾘｽﾄ2",OR(I31=0,AND(N31="同一区",E31=1))),"該当２","") | T31: =IF(S31="該当２",H31,"") | U31: =IF(S31="","",COUNTIF($S$7:S31,"該当２")) | V31: =IF(AND($S$2=H31,E31>0,E31<998),"該当３","") | W31: =IF(V31="該当３",I31,"") | X31: =IF(V31="","",COUNTIF($V$7:V31,"該当３")) | Z31: 25 | AB31: 東吾妻町 | AC31: =IF($Z31>MAX($U$7:$U$3715),"",INDEX($T$7:$T$3715,MATCH($Z31,$U$7:$U$3715,0),MATCH($AC$4,$T$5:$U$5,0))) | AD31: =IF($Z31>MAX($X$7:$X$3715),"",INDEX($W$7:$W$3715,MATCH($Z31,$X$7:$X$3715,0),MATCH($AD$4,$W$5:$X$5,0)))
A32: 1020103000 | B32: 10 | C32: 201 | D32: 3 | E32: 0 | F32: 群馬県 | G32: 前橋市 | H32: 下川渕村 | K32: =IF(AND($C32>0,$H32=""),"ﾘｽﾄ１","") | L32: =IF(K32="ﾘｽﾄ１",G32,"") | M32: =IF(K32="","",COUNTIF($K$7:K32,"ﾘｽﾄ１")) | N32: =IF(AND(D32=0,E32>0),"同一区","") | O32: =IF(AND(EXACT($K$2,G32),H32>0),"該当１","") | P32: =IF(O32="該当１",G32,"") | Q32: =IF(O32="該当１","ﾘｽﾄ2","") | R32: =IF(Q32="ﾘｽﾄ2",H32,"") | S32: =IF(AND(Q32="ﾘｽﾄ2",OR(I32=0,AND(N32="同一区",E32=1))),"該当２","") | T32: =IF(S32="該当２",H32,"") | U32: =IF(S32="","",COUNTIF($S$7:S32,"該当２")) | V32: =IF(AND($S$2=H32,E32>0,E32<998),"該当３","") | W32: =IF(V32="該当３",I32,"") | X32: =IF(V32="","",COUNTIF($V$7:V32,"該当３")) | Z32: 26 | AB32: 片品村 | AC32: =IF($Z32>MAX($U$7:$U$3715),"",INDEX($T$7:$T$3715,MATCH($Z32,$U$7:$U$3715,0),MATCH($AC$4,$T$5:$U$5,0))) | AD32: =IF($Z32>MAX($X$7:$X$3715),"",INDEX($W$7:$W$3715,MATCH($Z32,$X$7:$X$3715,0),MATCH($AD$4,$W$5:$X$5,0)))
A33: 1020103001 | B33: 10 | C33: 201 | D33: 3 | E33: 1 | F33: 群馬県 | G33: 前橋市 | H33: 下川渕村 | I33: 公田 | K33: =IF(AND($C33>0,$H33=""),"ﾘｽﾄ１","") | L33: =IF(K33="ﾘｽﾄ１",G33,"") | M33: =IF(K33="","",COUNTIF($K$7:K33,"ﾘｽﾄ１")) | N33: =IF(AND(D33=0,E33>0),"同一区","") | O33: =IF(AND(EXACT($K$2,G33),H33>0),"該当１","") | P33: =IF(O33="該当１",G33,"") | Q33: =IF(O33="該当１","ﾘｽﾄ2","") | R33: =IF(Q33="ﾘｽﾄ2",H33,"") | S33: =IF(AND(Q33="ﾘｽﾄ2",OR(I33=0,AND(N33="同一区",E33=1))),"該当２","") | T33: =IF(S33="該当２",H33,"") | U33: =IF(S33="","",COUNTIF($S$7:S33,"該当２")) | V33: =IF(AND($S$2=H33,E33>0,E33<998),"該当３","") | W33: =IF(V33="該当３",I33,"") | X33: =IF(V33="","",COUNTIF($V$7:V33,"該当３")) | Z33: 27 | AB33: 川場村 | AC33: =IF($Z33>MAX($U$7:$U$3715),"",INDEX($T$7:$T$3715,MATCH($Z33,$U$7:$U$3715,0),MATCH($AC$4,$T$5:$U$5,0))) | AD33: =IF($Z33>MAX($X$7:$X$3715),"",INDEX($W$7:$W$3715,MATCH($Z33,$X$7:$X$3715,0),MATCH($AD$4,$W$5:$X$5,0)))
A34: 1020103002 | B34: 10 | C34: 201 | D34: 3 | E34: 2 | F34: 群馬県 | G34: 前橋市 | H34: 下川渕村 | I34: 横手 | K34: =IF(AND($C34>0,$H34=""),"ﾘｽﾄ１","") | L34: =IF(K34="ﾘｽﾄ１",G34,"") | M34: =IF(K34="","",COUNTIF($K$7:K34,"ﾘｽﾄ１")) | N34: =IF(AND(D34=0,E34>0),"同一区","") | O34: =IF(AND(EXACT($K$2,G34),H34>0),"該当１","") | P34: =IF(O34="該当１",G34,"") | Q34: =IF(O34="該当１","ﾘｽﾄ2","") | R34: =IF(Q34="ﾘｽﾄ2",H34,"") | S34: =IF(AND(Q34="ﾘｽﾄ2",OR(I34=0,AND(N34="同一区",E34=1))),"該当２","") | T34: =IF(S34="該当２",H34,"") | U34: =IF(S34="","",COUNTIF($S$7:S34,"該当２")) | V34: =IF(AND($S$2=H34,E34>0,E34<998),"該当３","") | W34: =IF(V34="該当３",I34,"") | X34: =IF(V34="","",COUNTIF($V$7:V34,"該当３")) | Z34: 28 | AB34: 昭和村 | AC34: =IF($Z34>MAX($U$7:$U$3715),"",INDEX($T$7:$T$3715,MATCH($Z34,$U$7:$U$3715,0),MATCH($AC$4,$T$5:$U$5,0))) | AD34: =IF($Z34>MAX($X$7:$X$3715),"",INDEX($W$7:$W$3715,MATCH($Z34,$X$7:$X$3715,0),MATCH($AD$4,$W$5:$X$5,0)))
A35: 1020103003 | B35: 10 | C35: 201 | D35: 3 | E35: 3 | F35: 群馬県 | G35: 前橋市 | H35: 下川渕村 | I35: 竜門 | K35: =IF(AND($C35>0,$H35=""),"ﾘｽﾄ１","") | L35: =IF(K35="ﾘｽﾄ１",G35,"") | M35: =IF(K35="","",COUNTIF($K$7:K35,"ﾘｽﾄ１")) | N35: =IF(AND(D35=0,E35>0),"同一区","") | O35: =IF(AND(EXACT($K$2,G35),H35>0),"該当１","") | P35: =IF(O35="該当１",G35,"") | Q35: =IF(O35="該当１","ﾘｽﾄ2","") | R35: =IF(Q35="ﾘｽﾄ2",H35,"") | S35: =IF(AND(Q35="ﾘｽﾄ2",OR(I35=0,AND(N35="同一区",E35=1))),"該当２","") | T35: =IF(S35="該当２",H35,"") | U35: =IF(S35="","",COUNTIF($S$7:S35,"該当２")) | V35: =IF(AND($S$2=H35,E35>0,E35<998),"該当３","") | W35: =IF(V35="該当３",I35,"") | X35: =IF(V35="","",COUNTIF($V$7:V35,"該当３")) | Z35: 29 | AB35: みなかみ町 | AC35: =IF($Z35>MAX($U$7:$U$3715),"",INDEX($T$7:$T$3715,MATCH($Z35,$U$7:$U$3715,0),MATCH($AC$4,$T$5:$U$5,0))) | AD35: =IF($Z35>MAX($X$7:$X$3715),"",INDEX($W$7:$W$3715,MATCH($Z35,$X$7:$X$3715,0),MATCH($AD$4,$W$5:$X$5,0)))
A36: 1020103004 | B36: 10 | C36: 201 | D36: 3 | E36: 4 | F36: 群馬県 | G36: 前橋市 | H36: 下川渕村 | I36: 阿内宿 | K36: =IF(AND($C36>0,$H36=""),"ﾘｽﾄ１","") | L36: =IF(K36="ﾘｽﾄ１",G36,"") | M36: =IF(K36="","",COUNTIF($K$7:K36,"ﾘｽﾄ１")) | N36: =IF(AND(D36=0,E36>0),"同一区","") | O36: =IF(AND(EXACT($K$2,G36),H36>0),"該当１","") | P36: =IF(O36="該当１",G36,"") | Q36: =IF(O36="該当１","ﾘｽﾄ2","") | R36: =IF(Q36="ﾘｽﾄ2",H36,"") | S36: =IF(AND(Q36="ﾘｽﾄ2",OR(I36=0,AND(N36="同一区",E36=1))),"該当２","") | T36: =IF(S36="該当２",H36,"") | U36: =IF(S36="","",COUNTIF($S$7:S36,"該当２")) | V36: =IF(AND($S$2=H36,E36>0,E36<998),"該当３","") | W36: =IF(V36="該当３",I36,"") | X36: =IF(V36="","",COUNTIF($V$7:V36,"該当３")) | Z36: 30 | AB36: 玉村町 | AC36: =IF($Z36>MAX($U$7:$U$3715),"",INDEX($T$7:$T$3715,MATCH($Z36,$U$7:$U$3715,0),MATCH($AC$4,$T$5:$U$5,0))) | AD36: =IF($Z36>MAX($X$7:$X$3715),"",INDEX($W$7:$W$3715,MATCH($Z36,$X$7:$X$3715,0),MATCH($AD$4,$W$5:$X$5,0)))
A37: 1020103005 | B37: 10 | C37: 201 | D37: 3 | E37: 5 | F37: 群馬県 | G37: 前橋市 | H37: 下川渕村 | I37: 寺家 | K37: =IF(AND($C37>0,$H37=""),"ﾘｽﾄ１","") | L37: =IF(K37="ﾘｽﾄ１",G37,"") | M37: =IF(K37="","",COUNTIF($K$7:K37,"ﾘｽﾄ１")) | N37: =IF(AND(D37=0,E37>0),"同一区","") | O37: =IF(AND(EXACT($K$2,G37),H37>0),"該当１","") | P37: =IF(O37="該当１",G37,"") | Q37: =IF(O37="該当１","ﾘｽﾄ2","") | R37: =IF(Q37="ﾘｽﾄ2",H37,"") | S37: =IF(AND(Q37="ﾘｽﾄ2",OR(I37=0,AND(N37="同一区",E37=1))),"該当２","") | T37: =IF(S37="該当２",H37,"") | U37: =IF(S37="","",COUNTIF($S$7:S37,"該当２")) | V37: =IF(AND($S$2=H37,E37>0,E37<998),"該当３","") | W37: =IF(V37="該当３",I37,"") | X37: =IF(V37="","",COUNTIF($V$7:V37,"該当３")) | Z37: 31 | AB37: 板倉町 | AC37: =IF($Z37>MAX($U$7:$U$3715),"",INDEX($T$7:$T$3715,MATCH($Z37,$U$7:$U$3715,0),MATCH($AC$4,$T$5:$U$5,0))) | AD37: =IF($Z37>MAX($X$7:$X$3715),"",INDEX($W$7:$W$3715,MATCH($Z37,$X$7:$X$3715,0),MATCH($AD$4,$W$5:$X$5,0)))
A38: 1020103006 | B38: 10 | C38: 201 | D38: 3 | E38: 6 | F38: 群馬県 | G38: 前橋市 | H38: 下川渕村 | I38: 矢島 | K38: =IF(AND($C38>0,$H38=""),"ﾘｽﾄ１","") | L38: =IF(K38="ﾘｽﾄ１",G38,"") | M38: =IF(K38="","",COUNTIF($K$7:K38,"ﾘｽﾄ１")) | N38: =IF(AND(D38=0,E38>0),"同一区","") | O38: =IF(AND(EXACT($K$2,G38),H38>0),"該当１","") | P38: =IF(O38="該当１",G38,"") | Q38: =IF(O38="該当１","ﾘｽﾄ2","") | R38: =IF(Q38="ﾘｽﾄ2",H38,"") | S38: =IF(AND(Q38="ﾘｽﾄ2",OR(I38=0,AND(N38="同一区",E38=1))),"該当２","") | T38: =IF(S38="該当２",H38,"") | U38: =IF(S38="","",COUNTIF($S$7:S38,"該当２")) | V38: =IF(AND($S$2=H38,E38>0,E38<998),"該当３","") | W38: =IF(V38="該当３",I38,"") | X38: =IF(V38="","",COUNTIF($V$7:V38,"該当３")) | Z38: 32 | AB38: 明和町 | AC38: =IF($Z38>MAX($U$7:$U$3715),"",INDEX($T$7:$T$3715,MATCH($Z38,$U$7:$U$3715,0),MATCH($AC$4,$T$5:$U$5,0))) | AD38: =IF($Z38>MAX($X$7:$X$3715),"",INDEX($W$7:$W$3715,MATCH($Z38,$X$7:$X$3715,0),MATCH($AD$4,$W$5:$X$5,0)))
A39: 1020103007 | B39: 10 | C39: 201 | D39: 3 | E39: 7 | F39: 群馬県 | G39: 前橋市 | H39: 下川渕村 | I39: 鶴光路 | K39: =IF(AND($C39>0,$H39=""),"ﾘｽﾄ１","") | L39: =IF(K39="ﾘｽﾄ１",G39,"") | M39: =IF(K39="","",COUNTIF($K$7:K39,"ﾘｽﾄ１")) | N39: =IF(AND(D39=0,E39>0),"同一区","") | O39: =IF(AND(EXACT($K$2,G39),H39>0),"該当１","") | P39: =IF(O39="該当１",G39,"") | Q39: =IF(O39="該当１","ﾘｽﾄ2","") | R39: =IF(Q39="ﾘｽﾄ2",H39,"") | S39: =IF(AND(Q39="ﾘｽﾄ2",OR(I39=0,AND(N39="同一区",E39=1))),"該当２","") | T39: =IF(S39="該当２",H39,"") | U39: =IF(S39="","",COUNTIF($S$7:S39,"該当２")) | V39: =IF(AND($S$2=H39,E39>0,E39<998),"該当３","") | W39: =IF(V39="該当３",I39,"") | X39: =IF(V39="","",COUNTIF($V$7:V39,"該当３")) | Z39: 33 | AB39: 千代田町 | AC39: =IF($Z39>MAX($U$7:$U$3715),"",INDEX($T$7:$T$3715,MATCH($Z39,$U$7:$U$3715,0),MATCH($AC$4,$T$5:$U$5,0))) | AD39: =IF($Z39>MAX($X$7:$X$3715),"",INDEX($W$7:$W$3715,MATCH($Z39,$X$7:$X$3715,0),MATCH($AD$4,$W$5:$X$5,0)))
A40: 1020103008 | B40: 10 | C40: 201 | D40: 3 | E40: 8 | F40: 群馬県 | G40: 前橋市 | H40: 下川渕村 | I40: 新堀 | K40: =IF(AND($C40>0,$H40=""),"ﾘｽﾄ１","") | L40: =IF(K40="ﾘｽﾄ１",G40,"") | M40: =IF(K40="","",COUNTIF($K$7:K40,"ﾘｽﾄ１")) | N40: =IF(AND(D40=0,E40>0),"同一区","") | O40: =IF(AND(EXACT($K$2,G40),H40>0),"該当１","") | P40: =IF(O40="該当１",G40,"") | Q40: =IF(O40="該当１","ﾘｽﾄ2","") | R40: =IF(Q40="ﾘｽﾄ2",H40,"") | S40: =IF(AND(Q40="ﾘｽﾄ2",OR(I40=0,AND(N40="同一区",E40=1))),"該当２","") | T40: =IF(S40="該当２",H40,"") | U40: =IF(S40="","",COUNTIF($S$7:S40,"該当２")) | V40: =IF(AND($S$2=H40,E40>0,E40<998),"該当３","") | W40: =IF(V40="該当３",I40,"") | X40: =IF(V40="","",COUNTIF($V$7:V40,"該当３")) | Z40: 34 | AB40: 大泉町 | AC40: =IF($Z40>MAX($U$7:$U$3715),"",INDEX($T$7:$T$3715,MATCH($Z40,$U$7:$U$3715,0),MATCH($AC$4,$T$5:$U$5,0))) | AD40: =IF($Z40>MAX($X$7:$X$3715),"",INDEX($W$7:$W$3715,MATCH($Z40,$X$7:$X$3715,0),MATCH($AD$4,$W$5:$X$5,0)))
A41: 1020103009 | B41: 10 | C41: 201 | D41: 3 | E41: 9 | F41: 群馬県 | G41: 前橋市 | H41: 下川渕村 | I41: 下阿内 | K41: =IF(AND($C41>0,$H41=""),"ﾘｽﾄ１","") | L41: =IF(K41="ﾘｽﾄ１",G41,"") | M41: =IF(K41="","",COUNTIF($K$7:K41,"ﾘｽﾄ１")) | N41: =IF(AND(D41=0,E41>0),"同一区","") | O41: =IF(AND(EXACT($K$2,G41),H41>0),"該当１","") | P41: =IF(O41="該当１",G41,"") | Q41: =IF(O41="該当１","ﾘｽﾄ2","") | R41: =IF(Q41="ﾘｽﾄ2",H41,"") | S41: =IF(AND(Q41="ﾘｽﾄ2",OR(I41=0,AND(N41="同一区",E41=1))),"該当２","") | T41: =IF(S41="該当２",H41,"") | U41: =IF(S41="","",COUNTIF($S$7:S41,"該当２")) | V41: =IF(AND($S$2=H41,E41>0,E41<998),"該当３","") | W41: =IF(V41="該当３",I41,"") | X41: =IF(V41="","",COUNTIF($V$7:V41,"該当３")) | Z41: 35 | AB41: 邑楽町 | AC41: =IF($Z41>MAX($U$7:$U$3715),"",INDEX($T$7:$T$3715,MATCH($Z41,$U$7:$U$3715,0),MATCH($AC$4,$T$5:$U$5,0))) | AD41: =IF($Z41>MAX($X$7:$X$3715),"",INDEX($W$7:$W$3715,MATCH($Z41,$X$7:$X$3715,0),MATCH($AD$4,$W$5:$X$5,0)))
A42: 1020103010 | B42: 10 | C42: 201 | D42: 3 | E42: 10 | F42: 群馬県 | G42: 前橋市 | H42: 下川渕村 | I42: 力丸 | K42: =IF(AND($C42>0,$H42=""),"ﾘｽﾄ１","") | L42: =IF(K42="ﾘｽﾄ１",G42,"") | M42: =IF(K42="","",COUNTIF($K$7:K42,"ﾘｽﾄ１")) | N42: =IF(AND(D42=0,E42>0),"同一区","") | O42: =IF(AND(EXACT($K$2,G42),H42>0),"該当１","") | P42: =IF(O42="該当１",G42,"") | Q42: =IF(O42="該当１","ﾘｽﾄ2","") | R42: =IF(Q42="ﾘｽﾄ2",H42,"") | S42: =IF(AND(Q42="ﾘｽﾄ2",OR(I42=0,AND(N42="同一区",E42=1))),"該当２","") | T42: =IF(S42="該当２",H42,"") | U42: =IF(S42="","",COUNTIF($S$7:S42,"該当２")) | V42: =IF(AND($S$2=H42,E42>0,E42<998),"該当３","") | W42: =IF(V42="該当３",I42,"") | X42: =IF(V42="","",COUNTIF($V$7:V42,"該当３")) | Z42: 36 | AD42: =IF($Z42>MAX($X$7:$X$3715),"",INDEX($W$7:$W$3715,MATCH($Z42,$X$7:$X$3715,0),MATCH($AD$4,$W$5:$X$5,0)))
A43: 1020103011 | B43: 10 | C43: 201 | D43: 3 | E43: 11 | F43: 群馬県 | G43: 前橋市 | H43: 下川渕村 | I43: 徳丸 | K43: =IF(AND($C43>0,$H43=""),"ﾘｽﾄ１","") | L43: =IF(K43="ﾘｽﾄ１",G43,"") | M43: =IF(K43="","",COUNTIF($K$7:K43,"ﾘｽﾄ１")) | N43: =IF(AND(D43=0,E43>0),"同一区","") | O43: =IF(AND(EXACT($K$2,G43),H43>0),"該当１","") | P43: =IF(O43="該当１",G43,"") | Q43: =IF(O43="該当１","ﾘｽﾄ2","") | R43: =IF(Q43="ﾘｽﾄ2",H43,"") | S43: =IF(AND(Q43="ﾘｽﾄ2",OR(I43=0,AND(N43="同一区",E43=1))),"該当２","") | T43: =IF(S43="該当２",H43,"") | U43: =IF(S43="","",COUNTIF($S$7:S43,"該当２")) | V43: =IF(AND($S$2=H43,E43>0,E43<998),"該当３","") | W43: =IF(V43="該当３",I43,"") | X43: =IF(V43="","",COUNTIF($V$7:V43,"該当３")) | Z43: 37 | AD43: =IF($Z43>MAX($X$7:$X$3715),"",INDEX($W$7:$W$3715,MATCH($Z43,$X$7:$X$3715,0),MATCH($AD$4,$W$5:$X$5,0)))
A44: 1020103012 | B44: 10 | C44: 201 | D44: 3 | E44: 12 | F44: 群馬県 | G44: 前橋市 | H44: 下川渕村 | I44: 房丸 | K44: =IF(AND($C44>0,$H44=""),"ﾘｽﾄ１","") | L44: =IF(K44="ﾘｽﾄ１",G44,"") | M44: =IF(K44="","",COUNTIF($K$7:K44,"ﾘｽﾄ１")) | N44: =IF(AND(D44=0,E44>0),"同一区","") | O44: =IF(AND(EXACT($K$2,G44),H44>0),"該当１","") | P44: =IF(O44="該当１",G44,"") | Q44: =IF(O44="該当１","ﾘｽﾄ2","") | R44: =IF(Q44="ﾘｽﾄ2",H44,"") | S44: =IF(AND(Q44="ﾘｽﾄ2",OR(I44=0,AND(N44="同一区",E44=1))),"該当２","") | T44: =IF(S44="該当２",H44,"") | U44: =IF(S44="","",COUNTIF($S$7:S44,"該当２")) | V44: =IF(AND($S$2=H44,E44>0,E44<998),"該当３","") | W44: =IF(V44="該当３",I44,"") | X44: =IF(V44="","",COUNTIF($V$7:V44,"該当３")) | Z44: 38 | AD44: =IF($Z44>MAX($X$7:$X$3715),"",INDEX($W$7:$W$3715,MATCH($Z44,$X$7:$X$3715,0),MATCH($AD$4,$W$5:$X$5,0)))
A45: 1020104000 | B45: 10 | C45: 201 | D45: 4 | E45: 0 | F45: 群馬県 | G45: 前橋市 | H45: 南橘村 | K45: =IF(AND($C45>0,$H45=""),"ﾘｽﾄ１","") | L45: =IF(K45="ﾘｽﾄ１",G45,"") | M45: =IF(K45="","",COUNTIF($K$7:K45,"ﾘｽﾄ１")) | N45: =IF(AND(D45=0,E45>0),"同一区","") | O45: =IF(AND(EXACT($K$2,G45),H45>0),"該当１","") | P45: =IF(O45="該当１",G45,"") | Q45: =IF(O45="該当１","ﾘｽﾄ2","") | R45: =IF(Q45="ﾘｽﾄ2",H45,"") | S45: =IF(AND(Q45="ﾘｽﾄ2",OR(I45=0,AND(N45="同一区",E45=1))),"該当２","") | T45: =IF(S45="該当２",H45,"") | U45: =IF(S45="","",COUNTIF($S$7:S45,"該当２")) | V45: =IF(AND($S$2=H45,E45>0,E45<998),"該当３","") | W45: =IF(V45="該当３",I45,"") | X45: =IF(V45="","",COUNTIF($V$7:V45,"該当３")) | Z45: 39 | AD45: =IF($Z45>MAX($X$7:$X$3715),"",INDEX($W$7:$W$3715,MATCH($Z45,$X$7:$X$3715,0),MATCH($AD$4,$W$5:$X$5,0)))
A46: 1020104001 | B46: 10 | C46: 201 | D46: 4 | E46: 1 | F46: 群馬県 | G46: 前橋市 | H46: 南橘村 | I46: 上細井 | K46: =IF(AND($C46>0,$H46=""),"ﾘｽﾄ１","") | L46: =IF(K46="ﾘｽﾄ１",G46,"") | M46: =IF(K46="","",COUNTIF($K$7:K46,"ﾘｽﾄ１")) | N46: =IF(AND(D46=0,E46>0),"同一区","") | O46: =IF(AND(EXACT($K$2,G46),H46>0),"該当１","") | P46: =IF(O46="該当１",G46,"") | Q46: =IF(O46="該当１","ﾘｽﾄ2","") | R46: =IF(Q46="ﾘｽﾄ2",H46,"") | S46: =IF(AND(Q46="ﾘｽﾄ2",OR(I46=0,AND(N46="同一区",E46=1))),"該当２","") | T46: =IF(S46="該当２",H46,"") | U46: =IF(S46="","",COUNTIF($S$7:S46,"該当２")) | V46: =IF(AND($S$2=H46,E46>0,E46<998),"該当３","") | W46: =IF(V46="該当３",I46,"") | X46: =IF(V46="","",COUNTIF($V$7:V46,"該当３")) | Z46: 40 | AD46: =IF($Z46>MAX($X$7:$X$3715),"",INDEX($W$7:$W$3715,MATCH($Z46,$X$7:$X$3715,0),MATCH($AD$4,$W$5:$X$5,0)))
A47: 1020104002 | B47: 10 | C47: 201 | D47: 4 | E47: 2 | F47: 群馬県 | G47: 前橋市 | H47: 南橘村 | I47: 下細井 | K47: =IF(AND($C47>0,$H47=""),"ﾘｽﾄ１","") | L47: =IF(K47="ﾘｽﾄ１",G47,"") | M47: =IF(K47="","",COUNTIF($K$7:K47,"ﾘｽﾄ１")) | N47: =IF(AND(D47=0,E47>0),"同一区","") | O47: =IF(AND(EXACT($K$2,G47),H47>0),"該当１","") | P47: =IF(O47="該当１",G47,"") | Q47: =IF(O47="該当１","ﾘｽﾄ2","") | R47: =IF(Q47="ﾘｽﾄ2",H47,"") | S47: =IF(AND(Q47="ﾘｽﾄ2",OR(I47=0,AND(N47="同一区",E47=1))),"該当２","") | T47: =IF(S47="該当２",H47,"") | U47: =IF(S47="","",COUNTIF($S$7:S47,"該当２")) | V47: =IF(AND($S$2=H47,E47>0,E47<998),"該当３","") | W47: =IF(V47="該当３",I47,"") | X47: =IF(V47="","",COUNTIF($V$7:V47,"該当３")) | Z47: 41 | AD47: =IF($Z47>MAX($X$7:$X$3715),"",INDEX($W$7:$W$3715,MATCH($Z47,$X$7:$X$3715,0),MATCH($AD$4,$W$5:$X$5,0)))
A48: 1020104003 | B48: 10 | C48: 201 | D48: 4 | E48: 3 | F48: 群馬県 | G48: 前橋市 | H48: 南橘村 | I48: 北代田 | K48: =IF(AND($C48>0,$H48=""),"ﾘｽﾄ１","") | L48: =IF(K48="ﾘｽﾄ１",G48,"") | M48: =IF(K48="","",COUNTIF($K$7:K48,"ﾘｽﾄ１")) | N48: =IF(AND(D48=0,E48>0),"同一区","") | O48: =IF(AND(EXACT($K$2,G48),H48>0),"該当１","") | P48: =IF(O48="該当１",G48,"") | Q48: =IF(O48="該当１","ﾘｽﾄ2","") | R48: =IF(Q48="ﾘｽﾄ2",H48,"") | S48: =IF(AND(Q48="ﾘｽﾄ2",OR(I48=0,AND(N48="同一区",E48=1))),"該当２","") | T48: =IF(S48="該当２",H48,"") | U48: =IF(S48="","",COUNTIF($S$7:S48,"該当２")) | V48: =IF(AND($S$2=H48,E48>0,E48<998),"該当３","") | W48: =IF(V48="該当３",I48,"") | X48: =IF(V48="","",COUNTIF($V$7:V48,"該当３")) | Z48: 42 | AD48: =IF($Z48>MAX($X$7:$X$3715),"",INDEX($W$7:$W$3715,MATCH($Z48,$X$7:$X$3715,0),MATCH($AD$4,$W$5:$X$5,0)))
A49: 1020104004 | B49: 10 | C49: 201 | D49: 4 | E49: 4 | F49: 群馬県 | G49: 前橋市 | H49: 南橘村 | I49: 下小出 | K49: =IF(AND($C49>0,$H49=""),"ﾘｽﾄ１","") | L49: =IF(K49="ﾘｽﾄ１",G49,"") | M49: =IF(K49="","",COUNTIF($K$7:K49,"ﾘｽﾄ１")) | N49: =IF(AND(D49=0,E49>0),"同一区","") | O49: =IF(AND(EXACT($K$2,G49),H49>0),"該当１","") | P49: =IF(O49="該当１",G49,"") | Q49: =IF(O49="該当１","ﾘｽﾄ2","") | R49: =IF(Q49="ﾘｽﾄ2",H49,"") | S49: =IF(AND(Q49="ﾘｽﾄ2",OR(I49=0,AND(N49="同一区",E49=1))),"該当２","") | T49: =IF(S49="該当２",H49,"") | U49: =IF(S49="","",COUNTIF($S$7:S49,"該当２")) | V49: =IF(AND($S$2=H49,E49>0,E49<998),"該当３","") | W49: =IF(V49="該当３",I49,"") | X49: =IF(V49="","",COUNTIF($V$7:V49,"該当３")) | Z49: 43 | AD49: =IF($Z49>MAX($X$7:$X$3715),"",INDEX($W$7:$W$3715,MATCH($Z49,$X$7:$X$3715,0),MATCH($AD$4,$W$5:$X$5,0)))
A50: 1020104005 | B50: 10 | C50: 201 | D50: 4 | E50: 5 | F50: 群馬県 | G50: 前橋市 | H50: 南橘村 | I50: 竜蔵寺 | K50: =IF(AND($C50>0,$H50=""),"ﾘｽﾄ１","") | L50: =IF(K50="ﾘｽﾄ１",G50,"") | M50: =IF(K50="","",COUNTIF($K$7:K50,"ﾘｽﾄ１")) | N50: =IF(AND(D50=0,E50>0),"同一区","") | O50: =IF(AND(EXACT($K$2,G50),H50>0),"該当１","") | P50: =IF(O50="該当１",G50,"") | Q50: =IF(O50="該当１","ﾘｽﾄ2","") | R50: =IF(Q50="ﾘｽﾄ2",H50,"") | S50: =IF(AND(Q50="ﾘｽﾄ2",OR(I50=0,AND(N50="同一区",E50=1))),"該当２","") | T50: =IF(S50="該当２",H50,"") | U50: =IF(S50="","",COUNTIF($S$7:S50,"該当２")) | V50: =IF(AND($S$2=H50,E50>0,E50<998),"該当３","") | W50: =IF(V50="該当３",I50,"") | X50: =IF(V50="","",COUNTIF($V$7:V50,"該当３")) | Z50: 44 | AD50: =IF($Z50>MAX($X$7:$X$3715),"",INDEX($W$7:$W$3715,MATCH($Z50,$X$7:$X$3715,0),MATCH($AD$4,$W$5:$X$5,0)))
A51: 1020104006 | B51: 10 | C51: 201 | D51: 4 | E51: 6 | F51: 群馬県 | G51: 前橋市 | H51: 南橘村 | I51: 青柳 | K51: =IF(AND($C51>0,$H51=""),"ﾘｽﾄ１","") | L51: =IF(K51="ﾘｽﾄ１",G51,"") | M51: =IF(K51="","",COUNTIF($K$7:K51,"ﾘｽﾄ１")) | N51: =IF(AND(D51=0,E51>0),"同一区","") | O51: =IF(AND(EXACT($K$2,G51),H51>0),"該当１","") | P51: =IF(O51="該当１",G51,"") | Q51: =IF(O51="該当１","ﾘｽﾄ2","") | R51: =IF(Q51="ﾘｽﾄ2",H51,"") | S51: =IF(AND(Q51="ﾘｽﾄ2",OR(I51=0,AND(N51="同一区",E51=1))),"該当２","") | T51: =IF(S51="該当２",H51,"") | U51: =IF(S51="","",COUNTIF($S$7:S51,"該当２")) | V51: =IF(AND($S$2=H51,E51>0,E51<998),"該当３","") | W51: =IF(V51="該当３",I51,"") | X51: =IF(V51="","",COUNTIF($V$7:V51,"該当３")) | Z51: 45 | AD51: =IF($Z51>MAX($X$7:$X$3715),"",INDEX($W$7:$W$3715,MATCH($Z51,$X$7:$X$3715,0),MATCH($AD$4,$W$5:$X$5,0)))
A52: 1020104007 | B52: 10 | C52: 201 | D52: 4 | E52: 7 | F52: 群馬県 | G52: 前橋市 | H52: 南橘村 | I52: 日輪寺 | K52: =IF(AND($C52>0,$H52=""),"ﾘｽﾄ１","") | L52: =IF(K52="ﾘｽﾄ１",G52,"") | M52: =IF(K52="","",COUNTIF($K$7:K52,"ﾘｽﾄ１")) | N52: =IF(AND(D52=0,E52>0),"同一区","") | O52: =IF(AND(EXACT($K$2,G52),H52>0),"該当１","") | P52: =IF(O52="該当１",G52,"") | Q52: =IF(O52="該当１","ﾘｽﾄ2","") | R52: =IF(Q52="ﾘｽﾄ2",H52,"") | S52: =IF(AND(Q52="ﾘｽﾄ2",OR(I52=0,AND(N52="同一区",E52=1))),"該当２","") | T52: =IF(S52="該当２",H52,"") | U52: =IF(S52="","",COUNTIF($S$7:S52,"該当２")) | V52: =IF(AND($S$2=H52,E52>0,E52<998),"該当３","") | W52: =IF(V52="該当３",I52,"") | X52: =IF(V52="","",COUNTIF($V$7:V52,"該当３")) | Z52: 46 | AD52: =IF($Z52>MAX($X$7:$X$3715),"",INDEX($W$7:$W$3715,MATCH($Z52,$X$7:$X$3715,0),MATCH($AD$4,$W$5:$X$5,0)))
A53: 1020104008 | B53: 10 | C53: 201 | D53: 4 | E53: 8 | F53: 群馬県 | G53: 前橋市 | H53: 南橘村 | I53: 川端 | K53: =IF(AND($C53>0,$H53=""),"ﾘｽﾄ１","") | L53: =IF(K53="ﾘｽﾄ１",G53,"") | M53: =IF(K53="","",COUNTIF($K$7:K53,"ﾘｽﾄ１")) | N53: =IF(AND(D53=0,E53>0),"同一区","") | O53: =IF(AND(EXACT($K$2,G53),H53>0),"該当１","") | P53: =IF(O53="該当１",G53,"") | Q53: =IF(O53="該当１","ﾘｽﾄ2","") | R53: =IF(Q53="ﾘｽﾄ2",H53,"") | S53: =IF(AND(Q53="ﾘｽﾄ2",OR(I53=0,AND(N53="同一区",E53=1))),"該当２","") | T53: =IF(S53="該当２",H53,"") | U53: =IF(S53="","",COUNTIF($S$7:S53,"該当２")) | V53: =IF(AND($S$2=H53,E53>0,E53<998),"該当３","") | W53: =IF(V53="該当３",I53,"") | X53: =IF(V53="","",COUNTIF($V$7:V53,"該当３")) | Z53: 47 | AD53: =IF($Z53>MAX($X$7:$X$3715),"",INDEX($W$7:$W$3715,MATCH($Z53,$X$7:$X$3715,0),MATCH($AD$4,$W$5:$X$5,0)))
A54: 1020104009 | B54: 10 | C54: 201 | D54: 4 | E54: 9 | F54: 群馬県 | G54: 前橋市 | H54: 南橘村 | I54: 田口 | K54: =IF(AND($C54>0,$H54=""),"ﾘｽﾄ１","") | L54: =IF(K54="ﾘｽﾄ１",G54,"") | M54: =IF(K54="","",COUNTIF($K$7:K54,"ﾘｽﾄ１")) | N54: =IF(AND(D54=0,E54>0),"同一区","") | O54: =IF(AND(EXACT($K$2,G54),H54>0),"該当１","") | P54: =IF(O54="該当１",G54,"") | Q54: =IF(O54="該当１","ﾘｽﾄ2","") | R54: =IF(Q54="ﾘｽﾄ2",H54,"") | S54: =IF(AND(Q54="ﾘｽﾄ2",OR(I54=0,AND(N54="同一区",E54=1))),"該当２","") | T54: =IF(S54="該当２",H54,"") | U54: =IF(S54="","",COUNTIF($S$7:S54,"該当２")) | V54: =IF(AND($S$2=H54,E54>0,E54<998),"該当３","") | W54: =IF(V54="該当３",I54,"") | X54: =IF(V54="","",COUNTIF($V$7:V54,"該当３")) | Z54: 48 | AD54: =IF($Z54>MAX($X$7:$X$3715),"",INDEX($W$7:$W$3715,MATCH($Z54,$X$7:$X$3715,0),MATCH($AD$4,$W$5:$X$5,0)))
A55: 1020104010 | B55: 10 | C55: 201 | D55: 4 | E55: 10 | F55: 群馬県 | G55: 前橋市 | H55: 南橘村 | I55: 関根 | K55: =IF(AND($C55>0,$H55=""),"ﾘｽﾄ１","") | L55: =IF(K55="ﾘｽﾄ１",G55,"") | M55: =IF(K55="","",COUNTIF($K$7:K55,"ﾘｽﾄ１")) | N55: =IF(AND(D55=0,E55>0),"同一区","") | O55: =IF(AND(EXACT($K$2,G55),H55>0),"該当１","") | P55: =IF(O55="該当１",G55,"") | Q55: =IF(O55="該当１","ﾘｽﾄ2","") | R55: =IF(Q55="ﾘｽﾄ2",H55,"") | S55: =IF(AND(Q55="ﾘｽﾄ2",OR(I55=0,AND(N55="同一区",E55=1))),"該当２","") | T55: =IF(S55="該当２",H55,"") | U55: =IF(S55="","",COUNTIF($S$7:S55,"該当２")) | V55: =IF(AND($S$2=H55,E55>0,E55<998),"該当３","") | W55: =IF(V55="該当３",I55,"") | X55: =IF(V55="","",COUNTIF($V$7:V55,"該当３")) | Z55: 49 | AD55: =IF($Z55>MAX($X$7:$X$3715),"",INDEX($W$7:$W$3715,MATCH($Z55,$X$7:$X$3715,0),MATCH($AD$4,$W$5:$X$5,0)))
A56: 1020104011 | B56: 10 | C56: 201 | D56: 4 | E56: 11 | F56: 群馬県 | G56: 前橋市 | H56: 南橘村 | I56: 荒牧 | K56: =IF(AND($C56>0,$H56=""),"ﾘｽﾄ１","") | L56: =IF(K56="ﾘｽﾄ１",G56,"") | M56: =IF(K56="","",COUNTIF($K$7:K56,"ﾘｽﾄ１")) | N56: =IF(AND(D56=0,E56>0),"同一区","") | O56: =IF(AND(EXACT($K$2,G56),H56>0),"該当１","") | P56: =IF(O56="該当１",G56,"") | Q56: =IF(O56="該当１","ﾘｽﾄ2","") | R56: =IF(Q56="ﾘｽﾄ2",H56,"") | S56: =IF(AND(Q56="ﾘｽﾄ2",OR(I56=0,AND(N56="同一区",E56=1))),"該当２","") | T56: =IF(S56="該当２",H56,"") | U56: =IF(S56="","",COUNTIF($S$7:S56,"該当２")) | V56: =IF(AND($S$2=H56,E56>0,E56<998),"該当３","") | W56: =IF(V56="該当３",I56,"") | X56: =IF(V56="","",COUNTIF($V$7:V56,"該当３")) | Z56: 50 | AD56: =IF($Z56>MAX($X$7:$X$3715),"",INDEX($W$7:$W$3715,MATCH($Z56,$X$7:$X$3715,0),MATCH($AD$4,$W$5:$X$5,0)))
A57: 1020104012 | B57: 10 | C57: 201 | D57: 4 | E57: 12 | F57: 群馬県 | G57: 前橋市 | H57: 南橘村 | I57: 上小出 | K57: =IF(AND($C57>0,$H57=""),"ﾘｽﾄ１","") | L57: =IF(K57="ﾘｽﾄ１",G57,"") | M57: =IF(K57="","",COUNTIF($K$7:K57,"ﾘｽﾄ１")) | N57: =IF(AND(D57=0,E57>0),"同一区","") | O57: =IF(AND(EXACT($K$2,G57),H57>0),"該当１","") | P57: =IF(O57="該当１",G57,"") | Q57: =IF(O57="該当１","ﾘｽﾄ2","") | R57: =IF(Q57="ﾘｽﾄ2",H57,"") | S57: =IF(AND(Q57="ﾘｽﾄ2",OR(I57=0,AND(N57="同一区",E57=1))),"該当２","") | T57: =IF(S57="該当２",H57,"") | U57: =IF(S57="","",COUNTIF($S$7:S57,"該当２")) | V57: =IF(AND($S$2=H57,E57>0,E57<998),"該当３","") | W57: =IF(V57="該当３",I57,"") | X57: =IF(V57="","",COUNTIF($V$7:V57,"該当３")) | Z57: 51 | AD57: =IF($Z57>MAX($X$7:$X$3715),"",INDEX($W$7:$W$3715,MATCH($Z57,$X$7:$X$3715,0),MATCH($AD$4,$W$5:$X$5,0)))
A58: 1020104013 | B58: 10 | C58: 201 | D58: 4 | E58: 13 | F58: 群馬県 | G58: 前橋市 | H58: 南橘村 | I58: 川原 | K58: =IF(AND($C58>0,$H58=""),"ﾘｽﾄ１","") | L58: =IF(K58="ﾘｽﾄ１",G58,"") | M58: =IF(K58="","",COUNTIF($K$7:K58,"ﾘｽﾄ１")) | N58: =IF(AND(D58=0,E58>0),"同一区","") | O58: =IF(AND(EXACT($K$2,G58),H58>0),"該当１","") | P58: =IF(O58="該当１",G58,"") | Q58: =IF(O58="該当１","ﾘｽﾄ2","") | R58: =IF(Q58="ﾘｽﾄ2",H58,"") | S58: =IF(AND(Q58="ﾘｽﾄ2",OR(I58=0,AND(N58="同一区",E58=1))),"該当２","") | T58: =IF(S58="該当２",H58,"") | U58: =IF(S58="","",COUNTIF($S$7:S58,"該当２")) | V58: =IF(AND($S$2=H58,E58>0,E58<998),"該当３","") | W58: =IF(V58="該当３",I58,"") | X58: =IF(V58="","",COUNTIF($V$7:V58,"該当３")) | Z58: 52 | AD58: =IF($Z58>MAX($X$7:$X$3715),"",INDEX($W$7:$W$3715,MATCH($Z58,$X$7:$X$3715,0),MATCH($AD$4,$W$5:$X$5,0)))
A59: 1020105000 | B59: 10 | C59: 201 | D59: 5 | E59: 0 | F59: 群馬県 | G59: 前橋市 | H59: 芳賀村 | K59: =IF(AND($C59>0,$H59=""),"ﾘｽﾄ１","") | L59: =IF(K59="ﾘｽﾄ１",G59,"") | M59: =IF(K59="","",COUNTIF($K$7:K59,"ﾘｽﾄ１")) | N59: =IF(AND(D59=0,E59>0),"同一区","") | O59: =IF(AND(EXACT($K$2,G59),H59>0),"該当１","") | P59: =IF(O59="該当１",G59,"") | Q59: =IF(O59="該当１","ﾘｽﾄ2","") | R59: =IF(Q59="ﾘｽﾄ2",H59,"") | S59: =IF(AND(Q59="ﾘｽﾄ2",OR(I59=0,AND(N59="同一区",E59=1))),"該当２","") | T59: =IF(S59="該当２",H59,"") | U59: =IF(S59="","",COUNTIF($S$7:S59,"該当２")) | V59: =IF(AND($S$2=H59,E59>0,E59<998),"該当３","") | W59: =IF(V59="該当３",I59,"") | X59: =IF(V59="","",COUNTIF($V$7:V59,"該当３")) | Z59: 53 | AD59: =IF($Z59>MAX($X$7:$X$3715),"",INDEX($W$7:$W$3715,MATCH($Z59,$X$7:$X$3715,0),MATCH($AD$4,$W$5:$X$5,0)))
A60: 1020105001 | B60: 10 | C60: 201 | D60: 5 | E60: 1 | F60: 群馬県 | G60: 前橋市 | H60: 芳賀村 | I60: 勝沢 | K60: =IF(AND($C60>0,$H60=""),"ﾘｽﾄ１","") | L60: =IF(K60="ﾘｽﾄ１",G60,"") | M60: =IF(K60="","",COUNTIF($K$7:K60,"ﾘｽﾄ１")) | N60: =IF(AND(D60=0,E60>0),"同一区","") | O60: =IF(AND(EXACT($K$2,G60),H60>0),"該当１","") | P60: =IF(O60="該当１",G60,"") | Q60: =IF(O60="該当１","ﾘｽﾄ2","") | R60: =IF(Q60="ﾘｽﾄ2",H60,"") | S60: =IF(AND(Q60="ﾘｽﾄ2",OR(I60=0,AND(N60="同一区",E60=1))),"該当２","") | T60: =IF(S60="該当２",H60,"") | U60: =IF(S60="","",COUNTIF($S$7:S60,"該当２")) | V60: =IF(AND($S$2=H60,E60>0,E60<998),"該当３","") | W60: =IF(V60="該当３",I60,"") | X60: =IF(V60="","",COUNTIF($V$7:V60,"該当３")) | Z60: 54 | AD60: =IF($Z60>MAX($X$7:$X$3715),"",INDEX($W$7:$W$3715,MATCH($Z60,$X$7:$X$3715,0),MATCH($AD$4,$W$5:$X$5,0)))
A61: 1020105002 | B61: 10 | C61: 201 | D61: 5 | E61: 2 | F61: 群馬県 | G61: 前橋市 | H61: 芳賀村 | I61: 小神明 | K61: =IF(AND($C61>0,$H61=""),"ﾘｽﾄ１","") | L61: =IF(K61="ﾘｽﾄ１",G61,"") | M61: =IF(K61="","",COUNTIF($K$7:K61,"ﾘｽﾄ１")) | N61: =IF(AND(D61=0,E61>0),"同一区","") | O61: =IF(AND(EXACT($K$2,G61),H61>0),"該当１","") | P61: =IF(O61="該当１",G61,"") | Q61: =IF(O61="該当１","ﾘｽﾄ2","") | R61: =IF(Q61="ﾘｽﾄ2",H61,"") | S61: =IF(AND(Q61="ﾘｽﾄ2",OR(I61=0,AND(N61="同一区",E61=1))),"該当２","") | T61: =IF(S61="該当２",H61,"") | U61: =IF(S61="","",COUNTIF($S$7:S61,"該当２")) | V61: =IF(AND($S$2=H61,E61>0,E61<998),"該当３","") | W61: =IF(V61="該当３",I61,"") | X61: =IF(V61="","",COUNTIF($V$7:V61,"該当３")) | Z61: 55 | AD61: =IF($Z61>MAX($X$7:$X$3715),"",INDEX($W$7:$W$3715,MATCH($Z61,$X$7:$X$3715,0),MATCH($AD$4,$W$5:$X$5,0)))
A62: 1020105003 | B62: 10 | C62: 201 | D62: 5 | E62: 3 | F62: 群馬県 | G62: 前橋市 | H62: 芳賀村 | I62: 端気 | K62: =IF(AND($C62>0,$H62=""),"ﾘｽﾄ１","") | L62: =IF(K62="ﾘｽﾄ１",G62,"") | M62: =IF(K62="","",COUNTIF($K$7:K62,"ﾘｽﾄ１")) | N62: =IF(AND(D62=0,E62>0),"同一区","") | O62: =IF(AND(EXACT($K$2,G62),H62>0),"該当１","") | P62: =IF(O62="該当１",G62,"") | Q62: =IF(O62="該当１","ﾘｽﾄ2","") | R62: =IF(Q62="ﾘｽﾄ2",H62,"") | S62: =IF(AND(Q62="ﾘｽﾄ2",OR(I62=0,AND(N62="同一区",E62=1))),"該当２","") | T62: =IF(S62="該当２",H62,"") | U62: =IF(S62="","",COUNTIF($S$7:S62,"該当２")) | V62: =IF(AND($S$2=H62,E62>0,E62<998),"該当３","") | W62: =IF(V62="該当３",I62,"") | X62: =IF(V62="","",COUNTIF($V$7:V62,"該当３")) | Z62: 56 | AD62: =IF($Z62>MAX($X$7:$X$3715),"",INDEX($W$7:$W$3715,MATCH($Z62,$X$7:$X$3715,0),MATCH($AD$4,$W$5:$X$5,0)))
A63: 1020105004 | B63: 10 | C63: 201 | D63: 5 | E63: 4 | F63: 群馬県 | G63: 前橋市 | H63: 芳賀村 | I63: 五代 | K63: =IF(AND($C63>0,$H63=""),"ﾘｽﾄ１","") | L63: =IF(K63="ﾘｽﾄ１",G63,"") | M63: =IF(K63="","",COUNTIF($K$7:K63,"ﾘｽﾄ１")) | N63: =IF(AND(D63=0,E63>0),"同一区","") | O63: =IF(AND(EXACT($K$2,G63),H63>0),"該当１","") | P63: =IF(O63="該当１",G63,"") | Q63: =IF(O63="該当１","ﾘｽﾄ2","") | R63: =IF(Q63="ﾘｽﾄ2",H63,"") | S63: =IF(AND(Q63="ﾘｽﾄ2",OR(I63=0,AND(N63="同一区",E63=1))),"該当２","") | T63: =IF(S63="該当２",H63,"") | U63: =IF(S63="","",COUNTIF($S$7:S63,"該当２")) | V63: =IF(AND($S$2=H63,E63>0,E63<998),"該当３","") | W63: =IF(V63="該当３",I63,"") | X63: =IF(V63="","",COUNTIF($V$7:V63,"該当３")) | Z63: 57 | AD63: =IF($Z63>MAX($X$7:$X$3715),"",INDEX($W$7:$W$3715,MATCH($Z63,$X$7:$X$3715,0),MATCH($AD$4,$W$5:$X$5,0)))
A64: 1020105005 | B64: 10 | C64: 201 | D64: 5 | E64: 5 | F64: 群馬県 | G64: 前橋市 | H64: 芳賀村 | I64: 鳥取 | K64: =IF(AND($C64>0,$H64=""),"ﾘｽﾄ１","") | L64: =IF(K64="ﾘｽﾄ１",G64,"") | M64: =IF(K64="","",COUNTIF($K$7:K64,"ﾘｽﾄ１")) | N64: =IF(AND(D64=0,E64>0),"同一区","") | O64: =IF(AND(EXACT($K$2,G64),H64>0),"該当１","") | P64: =IF(O64="該当１",G64,"") | Q64: =IF(O64="該当１","ﾘｽﾄ2","") | R64: =IF(Q64="ﾘｽﾄ2",H64,"") | S64: =IF(AND(Q64="ﾘｽﾄ2",OR(I64=0,AND(N64="同一区",E64=1))),"該当２","") | T64: =IF(S64="該当２",H64,"") | U64: =IF(S64="","",COUNTIF($S$7:S64,"該当２")) | V64: =IF(AND($S$2=H64,E64>0,E64<998),"該当３","") | W64: =IF(V64="該当３",I64,"") | X64: =IF(V64="","",COUNTIF($V$7:V64,"該当３")) | Z64: 58 | AD64: =IF($Z64>MAX($X$7:$X$3715),"",INDEX($W$7:$W$3715,MATCH($Z64,$X$7:$X$3715,0),MATCH($AD$4,$W$5:$X$5,0)))
A65: 1020105006 | B65: 10 | C65: 201 | D65: 5 | E65: 6 | F65: 群馬県 | G65: 前橋市 | H65: 芳賀村 | I65: 小坂子 | K65: =IF(AND($C65>0,$H65=""),"ﾘｽﾄ１","") | L65: =IF(K65="ﾘｽﾄ１",G65,"") | M65: =IF(K65="","",COUNTIF($K$7:K65,"ﾘｽﾄ１")) | N65: =IF(AND(D65=0,E65>0),"同一区","") | O65: =IF(AND(EXACT($K$2,G65),H65>0),"該当１","") | P65: =IF(O65="該当１",G65,"") | Q65: =IF(O65="該当１","ﾘｽﾄ2","") | R65: =IF(Q65="ﾘｽﾄ2",H65,"") | S65: =IF(AND(Q65="ﾘｽﾄ2",OR(I65=0,AND(N65="同一区",E65=1))),"該当２","") | T65: =IF(S65="該当２",H65,"") | U65: =IF(S65="","",COUNTIF($S$7:S65,"該当２")) | V65: =IF(AND($S$2=H65,E65>0,E65<998),"該当３","") | W65: =IF(V65="該当３",I65,"") | X65: =IF(V65="","",COUNTIF($V$7:V65,"該当３")) | Z65: 59 | AD65: =IF($Z65>MAX($X$7:$X$3715),"",INDEX($W$7:$W$3715,MATCH($Z65,$X$7:$X$3715,0),MATCH($AD$4,$W$5:$X$5,0)))
A66: 1020105007 | B66: 10 | C66: 201 | D66: 5 | E66: 7 | F66: 群馬県 | G66: 前橋市 | H66: 芳賀村 | I66: 嶺 | K66: =IF(AND($C66>0,$H66=""),"ﾘｽﾄ１","") | L66: =IF(K66="ﾘｽﾄ１",G66,"") | M66: =IF(K66="","",COUNTIF($K$7:K66,"ﾘｽﾄ１")) | N66: =IF(AND(D66=0,E66>0),"同一区","") | O66: =IF(AND(EXACT($K$2,G66),H66>0),"該当１","") | P66: =IF(O66="該当１",G66,"") | Q66: =IF(O66="該当１","ﾘｽﾄ2","") | R66: =IF(Q66="ﾘｽﾄ2",H66,"") | S66: =IF(AND(Q66="ﾘｽﾄ2",OR(I66=0,AND(N66="同一区",E66=1))),"該当２","") | T66: =IF(S66="該当２",H66,"") | U66: =IF(S66="","",COUNTIF($S$7:S66,"該当２")) | V66: =IF(AND($S$2=H66,E66>0,E66<998),"該当３","") | W66: =IF(V66="該当３",I66,"") | X66: =IF(V66="","",COUNTIF($V$7:V66,"該当３")) | Z66: 60 | AD66: =IF($Z66>MAX($X$7:$X$3715),"",INDEX($W$7:$W$3715,MATCH($Z66,$X$7:$X$3715,0),MATCH($AD$4,$W$5:$X$5,0)))
A67: 1020105008 | B67: 10 | C67: 201 | D67: 5 | E67: 8 | F67: 群馬県 | G67: 前橋市 | H67: 芳賀村 | I67: 金丸 | K67: =IF(AND($C67>0,$H67=""),"ﾘｽﾄ１","") | L67: =IF(K67="ﾘｽﾄ１",G67,"") | M67: =IF(K67="","",COUNTIF($K$7:K67,"ﾘｽﾄ１")) | N67: =IF(AND(D67=0,E67>0),"同一区","") | O67: =IF(AND(EXACT($K$2,G67),H67>0),"該当１","") | P67: =IF(O67="該当１",G67,"") | Q67: =IF(O67="該当１","ﾘｽﾄ2","") | R67: =IF(Q67="ﾘｽﾄ2",H67,"") | S67: =IF(AND(Q67="ﾘｽﾄ2",OR(I67=0,AND(N67="同一区",E67=1))),"該当２","") | T67: =IF(S67="該当２",H67,"") | U67: =IF(S67="","",COUNTIF($S$7:S67,"該当２")) | V67: =IF(AND($S$2=H67,E67>0,E67<998),"該当３","") | W67: =IF(V67="該当３",I67,"") | X67: =IF(V67="","",COUNTIF($V$7:V67,"該当３")) | Z67: 61 | AD67: =IF($Z67>MAX($X$7:$X$3715),"",INDEX($W$7:$W$3715,MATCH($Z67,$X$7:$X$3715,0),MATCH($AD$4,$W$5:$X$5,0)))
A68: 1020105009 | B68: 10 | C68: 201 | D68: 5 | E68: 9 | F68: 群馬県 | G68: 前橋市 | H68: 芳賀村 | I68: 金丸就農 | K68: =IF(AND($C68>0,$H68=""),"ﾘｽﾄ１","") | L68: =IF(K68="ﾘｽﾄ１",G68,"") | M68: =IF(K68="","",COUNTIF($K$7:K68,"ﾘｽﾄ１")) | N68: =IF(AND(D68=0,E68>0),"同一区","") | O68: =IF(AND(EXACT($K$2,G68),H68>0),"該当１","") | P68: =IF(O68="該当１",G68,"") | Q68: =IF(O68="該当１","ﾘｽﾄ2","") | R68: =IF(Q68="ﾘｽﾄ2",H68,"") | S68: =IF(AND(Q68="ﾘｽﾄ2",OR(I68=0,AND(N68="同一区",E68=1))),"該当２","") | T68: =IF(S68="該当２",H68,"") | U68: =IF(S68="","",COUNTIF($S$7:S68,"該当２")) | V68: =IF(AND($S$2=H68,E68>0,E68<998),"該当３","") | W68: =IF(V68="該当３",I68,"") | X68: =IF(V68="","",COUNTIF($V$7:V68,"該当３")) | Z68: 62 | AD68: =IF($Z68>MAX($X$7:$X$3715),"",INDEX($W$7:$W$3715,MATCH($Z68,$X$7:$X$3715,0),MATCH($AD$4,$W$5:$X$5,0)))
A69: 1020106000 | B69: 10 | C69: 201 | D69: 6 | E69: 0 | F69: 群馬県 | G69: 前橋市 | H69: 桂萓村 | K69: =IF(AND($C69>0,$H69=""),"ﾘｽﾄ１","") | L69: =IF(K69="ﾘｽﾄ１",G69,"") | M69: =IF(K69="","",COUNTIF($K$7:K69,"ﾘｽﾄ１")) | N69: =IF(AND(D69=0,E69>0),"同一区","") | O69: =IF(AND(EXACT($K$2,G69),H69>0),"該当１","") | P69: =IF(O69="該当１",G69,"") | Q69: =IF(O69="該当１","ﾘｽﾄ2","") | R69: =IF(Q69="ﾘｽﾄ2",H69,"") | S69: =IF(AND(Q69="ﾘｽﾄ2",OR(I69=0,AND(N69="同一区",E69=1))),"該当２","") | T69: =IF(S69="該当２",H69,"") | U69: =IF(S69="","",COUNTIF($S$7:S69,"該当２")) | V69: =IF(AND($S$2=H69,E69>0,E69<998),"該当３","") | W69: =IF(V69="該当３",I69,"") | X69: =IF(V69="","",COUNTIF($V$7:V69,"該当３")) | Z69: 63 | AD69: =IF($Z69>MAX($X$7:$X$3715),"",INDEX($W$7:$W$3715,MATCH($Z69,$X$7:$X$3715,0),MATCH($AD$4,$W$5:$X$5,0)))
A70: 1020106001 | B70: 10 | C70: 201 | D70: 6 | E70: 1 | F70: 群馬県 | G70: 前橋市 | H70: 桂萓村 | I70: 三俣 | K70: =IF(AND($C70>0,$H70=""),"ﾘｽﾄ１","") | L70: =IF(K70="ﾘｽﾄ１",G70,"") | M70: =IF(K70="","",COUNTIF($K$7:K70,"ﾘｽﾄ１")) | N70: =IF(AND(D70=0,E70>0),"同一区","") | O70: =IF(AND(EXACT($K$2,G70),H70>0),"該当１","") | P70: =IF(O70="該当１",G70,"") | Q70: =IF(O70="該当１","ﾘｽﾄ2","") | R70: =IF(Q70="ﾘｽﾄ2",H70,"") | S70: =IF(AND(Q70="ﾘｽﾄ2",OR(I70=0,AND(N70="同一区",E70=1))),"該当２","") | T70: =IF(S70="該当２",H70,"") | U70: =IF(S70="","",COUNTIF($S$7:S70,"該当２")) | V70: =IF(AND($S$2=H70,E70>0,E70<998),"該当３","") | W70: =IF(V70="該当３",I70,"") | X70: =IF(V70="","",COUNTIF($V$7:V70,"該当３")) | Z70: 64 | AD70: =IF($Z70>MAX($X$7:$X$3715),"",INDEX($W$7:$W$3715,MATCH($Z70,$X$7:$X$3715,0),MATCH($AD$4,$W$5:$X$5,0)))
A71: 1020106002 | B71: 10 | C71: 201 | D71: 6 | E71: 2 | F71: 群馬県 | G71: 前橋市 | H71: 桂萓村 | I71: 幸塚 | K71: =IF(AND($C71>0,$H71=""),"ﾘｽﾄ１","") | L71: =IF(K71="ﾘｽﾄ１",G71,"") | M71: =IF(K71="","",COUNTIF($K$7:K71,"ﾘｽﾄ１")) | N71: =IF(AND(D71=0,E71>0),"同一区","") | O71: =IF(AND(EXACT($K$2,G71),H71>0),"該当１","") | P71: =IF(O71="該当１",G71,"") | Q71: =IF(O71="該当１","ﾘｽﾄ2","") | R71: =IF(Q71="ﾘｽﾄ2",H71,"") | S71: =IF(AND(Q71="ﾘｽﾄ2",OR(I71=0,AND(N71="同一区",E71=1))),"該当２","") | T71: =IF(S71="該当２",H71,"") | U71: =IF(S71="","",COUNTIF($S$7:S71,"該当２")) | V71: =IF(AND($S$2=H71,E71>0,E71<998),"該当３","") | W71: =IF(V71="該当３",I71,"") | X71: =IF(V71="","",COUNTIF($V$7:V71,"該当３")) | Z71: 65 | AD71: =IF($Z71>MAX($X$7:$X$3715),"",INDEX($W$7:$W$3715,MATCH($Z71,$X$7:$X$3715,0),MATCH($AD$4,$W$5:$X$5,0)))
A72: 1020106003 | B72: 10 | C72: 201 | D72: 6 | E72: 3 | F72: 群馬県 | G72: 前橋市 | H72: 桂萓村 | I72: 上沖 | K72: =IF(AND($C72>0,$H72=""),"ﾘｽﾄ１","") | L72: =IF(K72="ﾘｽﾄ１",G72,"") | M72: =IF(K72="","",COUNTIF($K$7:K72,"ﾘｽﾄ１")) | N72: =IF(AND(D72=0,E72>0),"同一区","") | O72: =IF(AND(EXACT($K$2,G72),H72>0),"該当１","") | P72: =IF(O72="該当１",G72,"") | Q72: =IF(O72="該当１","ﾘｽﾄ2","") | R72: =IF(Q72="ﾘｽﾄ2",H72,"") | S72: =IF(AND(Q72="ﾘｽﾄ2",OR(I72=0,AND(N72="同一区",E72=1))),"該当２","") | T72: =IF(S72="該当２",H72,"") | U72: =IF(S72="","",COUNTIF($S$7:S72,"該当２")) | V72: =IF(AND($S$2=H72,E72>0,E72<998),"該当３","") | W72: =IF(V72="該当３",I72,"") | X72: =IF(V72="","",COUNTIF($V$7:V72,"該当３")) | Z72: 66 | AD72: =IF($Z72>MAX($X$7:$X$3715),"",INDEX($W$7:$W$3715,MATCH($Z72,$X$7:$X$3715,0),MATCH($AD$4,$W$5:$X$5,0)))
A73: 1020106004 | B73: 10 | C73: 201 | D73: 6 | E73: 4 | F73: 群馬県 | G73: 前橋市 | H73: 桂萓村 | I73: 下沖 | K73: =IF(AND($C73>0,$H73=""),"ﾘｽﾄ１","") | L73: =IF(K73="ﾘｽﾄ１",G73,"") | M73: =IF(K73="","",COUNTIF($K$7:K73,"ﾘｽﾄ１")) | N73: =IF(AND(D73=0,E73>0),"同一区","") | O73: =IF(AND(EXACT($K$2,G73),H73>0),"該当１","") | P73: =IF(O73="該当１",G73,"") | Q73: =IF(O73="該当１","ﾘｽﾄ2","") | R73: =IF(Q73="ﾘｽﾄ2",H73,"") | S73: =IF(AND(Q73="ﾘｽﾄ2",OR(I73=0,AND(N73="同一区",E73=1))),"該当２","") | T73: =IF(S73="該当２",H73,"") | U73: =IF(S73="","",COUNTIF($S$7:S73,"該当２")) | V73: =IF(AND($S$2=H73,E73>0,E73<998),"該当３","") | W73: =IF(V73="該当３",I73,"") | X73: =IF(V73="","",COUNTIF($V$7:V73,"該当３")) | Z73: 67 | AD73: =IF($Z73>MAX($X$7:$X$3715),"",INDEX($W$7:$W$3715,MATCH($Z73,$X$7:$X$3715,0),MATCH($AD$4,$W$5:$X$5,0)))
A74: 1020106005 | B74: 10 | C74: 201 | D74: 6 | E74: 5 | F74: 群馬県 | G74: 前橋市 | H74: 桂萓村 | I74: 西片貝 | K74: =IF(AND($C74>0,$H74=""),"ﾘｽﾄ１","") | L74: =IF(K74="ﾘｽﾄ１",G74,"") | M74: =IF(K74="","",COUNTIF($K$7:K74,"ﾘｽﾄ１")) | N74: =IF(AND(D74=0,E74>0),"同一区","") | O74: =IF(AND(EXACT($K$2,G74),H74>0),"該当１","") | P74: =IF(O74="該当１",G74,"") | Q74: =IF(O74="該当１","ﾘｽﾄ2","") | R74: =IF(Q74="ﾘｽﾄ2",H74,"") | S74: =IF(AND(Q74="ﾘｽﾄ2",OR(I74=0,AND(N74="同一区",E74=1))),"該当２","") | T74: =IF(S74="該当２",H74,"") | U74: =IF(S74="","",COUNTIF($S$7:S74,"該当２")) | V74: =IF(AND($S$2=H74,E74>0,E74<998),"該当３","") | W74: =IF(V74="該当３",I74,"") | X74: =IF(V74="","",COUNTIF($V$7:V74,"該当３")) | Z74: 68 | AD74: =IF($Z74>MAX($X$7:$X$3715),"",INDEX($W$7:$W$3715,MATCH($Z74,$X$7:$X$3715,0),MATCH($AD$4,$W$5:$X$5,0)))
A75: 1020106006 | B75: 10 | C75: 201 | D75: 6 | E75: 6 | F75: 群馬県 | G75: 前橋市 | H75: 桂萓村 | I75: 東片貝 | K75: =IF(AND($C75>0,$H75=""),"ﾘｽﾄ１","") | L75: =IF(K75="ﾘｽﾄ１",G75,"") | M75: =IF(K75="","",COUNTIF($K$7:K75,"ﾘｽﾄ１")) | N75: =IF(AND(D75=0,E75>0),"同一区","") | O75: =IF(AND(EXACT($K$2,G75),H75>0),"該当１","") | P75: =IF(O75="該当１",G75,"") | Q75: =IF(O75="該当１","ﾘｽﾄ2","") | R75: =IF(Q75="ﾘｽﾄ2",H75,"") | S75: =IF(AND(Q75="ﾘｽﾄ2",OR(I75=0,AND(N75="同一区",E75=1))),"該当２","") | T75: =IF(S75="該当２",H75,"") | U75: =IF(S75="","",COUNTIF($S$7:S75,"該当２")) | V75: =IF(AND($S$2=H75,E75>0,E75<998),"該当３","") | W75: =IF(V75="該当３",I75,"") | X75: =IF(V75="","",COUNTIF($V$7:V75,"該当３")) | Z75: 69 | AD75: =IF($Z75>MAX($X$7:$X$3715),"",INDEX($W$7:$W$3715,MATCH($Z75,$X$7:$X$3715,0),MATCH($AD$4,$W$5:$X$5,0)))
A76: 1020106007 | B76: 10 | C76: 201 | D76: 6 | E76: 7 | F76: 群馬県 | G76: 前橋市 | H76: 桂萓村 | I76: 東片貝東部 | K76: =IF(AND($C76>0,$H76=""),"ﾘｽﾄ１","") | L76: =IF(K76="ﾘｽﾄ１",G76,"") | M76: =IF(K76="","",COUNTIF($K$7:K76,"ﾘｽﾄ１")) | N76: =IF(AND(D76=0,E76>0),"同一区","") | O76: =IF(AND(EXACT($K$2,G76),H76>0),"該当１","") | P76: =IF(O76="該当１",G76,"") | Q76: =IF(O76="該当１","ﾘｽﾄ2","") | R76: =IF(Q76="ﾘｽﾄ2",H76,"") | S76: =IF(AND(Q76="ﾘｽﾄ2",OR(I76=0,AND(N76="同一区",E76=1))),"該当２","") | T76: =IF(S76="該当２",H76,"") | U76: =IF(S76="","",COUNTIF($S$7:S76,"該当２")) | V76: =IF(AND($S$2=H76,E76>0,E76<998),"該当３","") | W76: =IF(V76="該当３",I76,"") | X76: =IF(V76="","",COUNTIF($V$7:V76,"該当３")) | Z76: 70 | AD76: =IF($Z76>MAX($X$7:$X$3715),"",INDEX($W$7:$W$3715,MATCH($Z76,$X$7:$X$3715,0),MATCH($AD$4,$W$5:$X$5,0)))
A77: 1020106008 | B77: 10 | C77: 201 | D77: 6 | E77: 8 | F77: 群馬県 | G77: 前橋市 | H77: 桂萓村 | I77: 上泉 | K77: =IF(AND($C77>0,$H77=""),"ﾘｽﾄ１","") | L77: =IF(K77="ﾘｽﾄ１",G77,"") | M77: =IF(K77="","",COUNTIF($K$7:K77,"ﾘｽﾄ１")) | N77: =IF(AND(D77=0,E77>0),"同一区","") | O77: =IF(AND(EXACT($K$2,G77),H77>0),"該当１","") | P77: =IF(O77="該当１",G77,"") | Q77: =IF(O77="該当１","ﾘｽﾄ2","") | R77: =IF(Q77="ﾘｽﾄ2",H77,"") | S77: =IF(AND(Q77="ﾘｽﾄ2",OR(I77=0,AND(N77="同一区",E77=1))),"該当２","") | T77: =IF(S77="該当２",H77,"") | U77: =IF(S77="","",COUNTIF($S$7:S77,"該当２")) | V77: =IF(AND($S$2=H77,E77>0,E77<998),"該当３","") | W77: =IF(V77="該当３",I77,"") | X77: =IF(V77="","",COUNTIF($V$7:V77,"該当３")) | Z77: 71 | AD77: =IF($Z77>MAX($X$7:$X$3715),"",INDEX($W$7:$W$3715,MATCH($Z77,$X$7:$X$3715,0),MATCH($AD$4,$W$5:$X$5,0)))
A78: 1020106009 | B78: 10 | C78: 201 | D78: 6 | E78: 9 | F78: 群馬県 | G78: 前橋市 | H78: 桂萓村 | I78: 石関 | K78: =IF(AND($C78>0,$H78=""),"ﾘｽﾄ１","") | L78: =IF(K78="ﾘｽﾄ１",G78,"") | M78: =IF(K78="","",COUNTIF($K$7:K78,"ﾘｽﾄ１")) | N78: =IF(AND(D78=0,E78>0),"同一区","") | O78: =IF(AND(EXACT($K$2,G78),H78>0),"該当１","") | P78: =IF(O78="該当１",G78,"") | Q78: =IF(O78="該当１","ﾘｽﾄ2","") | R78: =IF(Q78="ﾘｽﾄ2",H78,"") | S78: =IF(AND(Q78="ﾘｽﾄ2",OR(I78=0,AND(N78="同一区",E78=1))),"該当２","") | T78: =IF(S78="該当２",H78,"") | U78: =IF(S78="","",COUNTIF($S$7:S78,"該当２")) | V78: =IF(AND($S$2=H78,E78>0,E78<998),"該当３","") | W78: =IF(V78="該当３",I78,"") | X78: =IF(V78="","",COUNTIF($V$7:V78,"該当３")) | Z78: 72 | AD78: =IF($Z78>MAX($X$7:$X$3715),"",INDEX($W$7:$W$3715,MATCH($Z78,$X$7:$X$3715,0),MATCH($AD$4,$W$5:$X$5,0)))
A79: 1020106010 | B79: 10 | C79: 201 | D79: 6 | E79: 10 | F79: 群馬県 | G79: 前橋市 | H79: 桂萓村 | I79: 亀泉 | K79: =IF(AND($C79>0,$H79=""),"ﾘｽﾄ１","") | L79: =IF(K79="ﾘｽﾄ１",G79,"") | M79: =IF(K79="","",COUNTIF($K$7:K79,"ﾘｽﾄ１")) | N79: =IF(AND(D79=0,E79>0),"同一区","") | O79: =IF(AND(EXACT($K$2,G79),H79>0),"該当１","") | P79: =IF(O79="該当１",G79,"") | Q79: =IF(O79="該当１","ﾘｽﾄ2","") | R79: =IF(Q79="ﾘｽﾄ2",H79,"") | S79: =IF(AND(Q79="ﾘｽﾄ2",OR(I79=0,AND(N79="同一区",E79=1))),"該当２","") | T79: =IF(S79="該当２",H79,"") | U79: =IF(S79="","",COUNTIF($S$7:S79,"該当２")) | V79: =IF(AND($S$2=H79,E79>0,E79<998),"該当３","") | W79: =IF(V79="該当３",I79,"") | X79: =IF(V79="","",COUNTIF($V$7:V79,"該当３")) | Z79: 73 | AD79: =IF($Z79>MAX($X$7:$X$3715),"",INDEX($W$7:$W$3715,MATCH($Z79,$X$7:$X$3715,0),MATCH($AD$4,$W$5:$X$5,0)))
A80: 1020106011 | B80: 10 | C80: 201 | D80: 6 | E80: 11 | F80: 群馬県 | G80: 前橋市 | H80: 桂萓村 | I80: 荻窪 | K80: =IF(AND($C80>0,$H80=""),"ﾘｽﾄ１","") | L80: =IF(K80="ﾘｽﾄ１",G80,"") | M80: =IF(K80="","",COUNTIF($K$7:K80,"ﾘｽﾄ１")) | N80: =IF(AND(D80=0,E80>0),"同一区","") | O80: =IF(AND(EXACT($K$2,G80),H80>0),"該当１","") | P80: =IF(O80="該当１",G80,"") | Q80: =IF(O80="該当１","ﾘｽﾄ2","") | R80: =IF(Q80="ﾘｽﾄ2",H80,"") | S80: =IF(AND(Q80="ﾘｽﾄ2",OR(I80=0,AND(N80="同一区",E80=1))),"該当２","") | T80: =IF(S80="該当２",H80,"") | U80: =IF(S80="","",COUNTIF($S$7:S80,"該当２")) | V80: =IF(AND($S$2=H80,E80>0,E80<998),"該当３","") | W80: =IF(V80="該当３",I80,"") | X80: =IF(V80="","",COUNTIF($V$7:V80,"該当３")) | Z80: 74 | AD80: =IF($Z80>MAX($X$7:$X$3715),"",INDEX($W$7:$W$3715,MATCH($Z80,$X$7:$X$3715,0),MATCH($AD$4,$W$5:$X$5,0)))
A81: 1020106012 | B81: 10 | C81: 201 | D81: 6 | E81: 12 | F81: 群馬県 | G81: 前橋市 | H81: 桂萓村 | I81: 堀之下 | K81: =IF(AND($C81>0,$H81=""),"ﾘｽﾄ１","") | L81: =IF(K81="ﾘｽﾄ１",G81,"") | M81: =IF(K81="","",COUNTIF($K$7:K81,"ﾘｽﾄ１")) | N81: =IF(AND(D81=0,E81>0),"同一区","") | O81: =IF(AND(EXACT($K$2,G81),H81>0),"該当１","") | P81: =IF(O81="該当１",G81,"") | Q81: =IF(O81="該当１","ﾘｽﾄ2","") | R81: =IF(Q81="ﾘｽﾄ2",H81,"") | S81: =IF(AND(Q81="ﾘｽﾄ2",OR(I81=0,AND(N81="同一区",E81=1))),"該当２","") | T81: =IF(S81="該当２",H81,"") | U81: =IF(S81="","",COUNTIF($S$7:S81,"該当２")) | V81: =IF(AND($S$2=H81,E81>0,E81<998),"該当３","") | W81: =IF(V81="該当３",I81,"") | X81: =IF(V81="","",COUNTIF($V$7:V81,"該当３")) | Z81: 75 | AD81: =IF($Z81>MAX($X$7:$X$3715),"",INDEX($W$7:$W$3715,MATCH($Z81,$X$7:$X$3715,0),MATCH($AD$4,$W$5:$X$5,0)))
... A84: 1020106015 | B84: 10 | C84: 201 | D84: 6 | E84: 15 | F84: 群馬県 | G84: 前橋市 | H84: 桂萓村 | I84: 江木下 | K84: =IF(AND($C84>0,$H84=""),"ﾘｽﾄ１","") | L84: =IF(K84="ﾘｽﾄ１",G84,"") | M84: =IF(K84="","",COUNTIF($K$7:K84,"ﾘｽﾄ１")) | N84: =IF(AND(D84=0,E84>0),"同一区","") | O84: =IF(AND(EXACT($K$2,G84),H84>0),"該当１","") | P84: =IF(O84="該当１",G84,"") | Q84: =IF(O84="該当１","ﾘｽﾄ2","") | R84: =IF(Q84="ﾘｽﾄ2",H84,"") | S84: =IF(AND(Q84="ﾘｽﾄ2",OR(I84=0,AND(N84="同一区",E84=1))),"該当２","") | T84: =IF(S84="該当２",H84,"") | U84: =IF(S84="","",COUNTIF($S$7:S84,"該当２")) | V84: =IF(AND($S$2=H84,E84>0,E84<998),"該当３","") | W84: =IF(V84="該当３",I84,"") | X84: =IF(V84="","",COUNTIF($V$7:V84,"該当３")) | Z84: 78 | AD84: =IF($Z84>MAX($X$7:$X$3715),"",INDEX($W$7:$W$3715,MATCH($Z84,$X$7:$X$3715,0),MATCH($AD$4,$W$5:$X$5,0)))
A85: 1020107000 | B85: 10 | C85: 201 | D85: 7 | E85: 0 | F85: 群馬県 | G85: 前橋市 | H85: 東村（前橋市） | K85: =IF(AND($C85>0,$H85=""),"ﾘｽﾄ１","") | L85: =IF(K85="ﾘｽﾄ１",G85,"") | M85: =IF(K85="","",COUNTIF($K$7:K85,"ﾘｽﾄ１")) | N85: =IF(AND(D85=0,E85>0),"同一区","") | O85: =IF(AND(EXACT($K$2,G85),H85>0),"該当１","") | P85: =IF(O85="該当１",G85,"") | Q85: =IF(O85="該当１","ﾘｽﾄ2","") | R85: =IF(Q85="ﾘｽﾄ2",H85,"") | S85: =IF(AND(Q85="ﾘｽﾄ2",OR(I85=0,AND(N85="同一区",E85=1))),"該当２","") | T85: =IF(S85="該当２",H85,"") | U85: =IF(S85="","",COUNTIF($S$7:S85,"該当２")) | V85: =IF(AND($S$2=H85,E85>0,E85<998),"該当３","") | W85: =IF(V85="該当３",I85,"") | X85: =IF(V85="","",COUNTIF($V$7:V85,"該当３")) | Z85: 79 | AD85: =IF($Z85>MAX($X$7:$X$3715),"",INDEX($W$7:$W$3715,MATCH($Z85,$X$7:$X$3715,0),MATCH($AD$4,$W$5:$X$5,0)))
A86: 1020107001 | B86: 10 | C86: 201 | D86: 7 | E86: 1 | F86: 群馬県 | G86: 前橋市 | H86: 東村（前橋市） | I86: 東箱田 | K86: =IF(AND($C86>0,$H86=""),"ﾘｽﾄ１","") | L86: =IF(K86="ﾘｽﾄ１",G86,"") | M86: =IF(K86="","",COUNTIF($K$7:K86,"ﾘｽﾄ１")) | N86: =IF(AND(D86=0,E86>0),"同一区","") | O86: =IF(AND(EXACT($K$2,G86),H86>0),"該当１","") | P86: =IF(O86="該当１",G86,"") | Q86: =IF(O86="該当１","ﾘｽﾄ2","") | R86: =IF(Q86="ﾘｽﾄ2",H86,"") | S86: =IF(AND(Q86="ﾘｽﾄ2",OR(I86=0,AND(N86="同一区",E86=1))),"該当２","") | T86: =IF(S86="該当２",H86,"") | U86: =IF(S86="","",COUNTIF($S$7:S86,"該当２")) | V86: =IF(AND($S$2=H86,E86>0,E86<998),"該当３","") | W86: =IF(V86="該当３",I86,"") | X86: =IF(V86="","",COUNTIF($V$7:V86,"該当３")) | Z86: 80 | AD86: =IF($Z86>MAX($X$7:$X$3715),"",INDEX($W$7:$W$3715,MATCH($Z86,$X$7:$X$3715,0),MATCH($AD$4,$W$5:$X$5,0)))
A87: 1020107002 | B87: 10 | C87: 201 | D87: 7 | E87: 2 | F87: 群馬県 | G87: 前橋市 | H87: 東村（前橋市） | I87: 西箱田 | K87: =IF(AND($C87>0,$H87=""),"ﾘｽﾄ１","") | L87: =IF(K87="ﾘｽﾄ１",G87,"") | M87: =IF(K87="","",COUNTIF($K$7:K87,"ﾘｽﾄ１")) | N87: =IF(AND(D87=0,E87>0),"同一区","") | O87: =IF(AND(EXACT($K$2,G87),H87>0),"該当１","") | P87: =IF(O87="該当１",G87,"") | Q87: =IF(O87="該当１","ﾘｽﾄ2","") | R87: =IF(Q87="ﾘｽﾄ2",H87,"") | S87: =IF(AND(Q87="ﾘｽﾄ2",OR(I87=0,AND(N87="同一区",E87=1))),"該当２","") | T87: =IF(S87="該当２",H87,"") | U87: =IF(S87="","",COUNTIF($S$7:S87,"該当２")) | V87: =IF(AND($S$2=H87,E87>0,E87<998),"該当３","") | W87: =IF(V87="該当３",I87,"") | X87: =IF(V87="","",COUNTIF($V$7:V87,"該当３")) | Z87: 81 | AD87: =IF($Z87>MAX($X$7:$X$3715),"",INDEX($W$7:$W$3715,MATCH($Z87,$X$7:$X$3715,0),MATCH($AD$4,$W$5:$X$5,0)))
A88: 1020107003 | B88: 10 | C88: 201 | D88: 7 | E88: 3 | F88: 群馬県 | G88: 前橋市 | H88: 東村（前橋市） | I88: 前箱田 | K88: =IF(AND($C88>0,$H88=""),"ﾘｽﾄ１","") | L88: =IF(K88="ﾘｽﾄ１",G88,"") | M88: =IF(K88="","",COUNTIF($K$7:K88,"ﾘｽﾄ１")) | N88: =IF(AND(D88=0,E88>0),"同一区","") | O88: =IF(AND(EXACT($K$2,G88),H88>0),"該当１","") | P88: =IF(O88="該当１",G88,"") | Q88: =IF(O88="該当１","ﾘｽﾄ2","") | R88: =IF(Q88="ﾘｽﾄ2",H88,"") | S88: =IF(AND(Q88="ﾘｽﾄ2",OR(I88=0,AND(N88="同一区",E88=1))),"該当２","") | T88: =IF(S88="該当２",H88,"") | U88: =IF(S88="","",COUNTIF($S$7:S88,"該当２")) | V88: =IF(AND($S$2=H88,E88>0,E88<998),"該当３","") | W88: =IF(V88="該当３",I88,"") | X88: =IF(V88="","",COUNTIF($V$7:V88,"該当３"))
A89: 1020107004 | B89: 10 | C89: 201 | D89: 7 | E89: 4 | F89: 群馬県 | G89: 前橋市 | H89: 東村（前橋市） | I89: 川曲 | K89: =IF(AND($C89>0,$H89=""),"ﾘｽﾄ１","") | L89: =IF(K89="ﾘｽﾄ１",G89,"") | M89: =IF(K89="","",COUNTIF($K$7:K89,"ﾘｽﾄ１")) | N89: =IF(AND(D89=0,E89>0),"同一区","") | O89: =IF(AND(EXACT($K$2,G89),H89>0),"該当１","") | P89: =IF(O89="該当１",G89,"") | Q89: =IF(O89="該当１","ﾘｽﾄ2","") | R89: =IF(Q89="ﾘｽﾄ2",H89,"") | S89: =IF(AND(Q89="ﾘｽﾄ2",OR(I89=0,AND(N89="同一区",E89=1))),"該当２","") | T89: =IF(S89="該当２",H89,"") | U89: =IF(S89="","",COUNTIF($S$7:S89,"該当２")) | V89: =IF(AND($S$2=H89,E89>0,E89<998),"該当３","") | W89: =IF(V89="該当３",I89,"") | X89: =IF(V89="","",COUNTIF($V$7:V89,"該当３"))
A90: 1020107005 | B90: 10 | C90: 201 | D90: 7 | E90: 5 | F90: 群馬県 | G90: 前橋市 | H90: 東村（前橋市） | I90: 稲荷新田 | K90: =IF(AND($C90>0,$H90=""),"ﾘｽﾄ１","") | L90: =IF(K90="ﾘｽﾄ１",G90,"") | M90: =IF(K90="","",COUNTIF($K$7:K90,"ﾘｽﾄ１")) | N90: =IF(AND(D90=0,E90>0),"同一区","") | O90: =IF(AND(EXACT($K$2,G90),H90>0),"該当１","") | P90: =IF(O90="該当１",G90,"") | Q90: =IF(O90="該当１","ﾘｽﾄ2","") | R90: =IF(Q90="ﾘｽﾄ2",H90,"") | S90: =IF(AND(Q90="ﾘｽﾄ2",OR(I90=0,AND(N90="同一区",E90=1))),"該当２","") | T90: =IF(S90="該当２",H90,"") | U90: =IF(S90="","",COUNTIF($S$7:S90,"該当２")) | V90: =IF(AND($S$2=H90,E90>0,E90<998),"該当３","") | W90: =IF(V90="該当３",I90,"") | X90: =IF(V90="","",COUNTIF($V$7:V90,"該当３"))
A91: 1020107006 | B91: 10 | C91: 201 | D91: 7 | E91: 6 | F91: 群馬県 | G91: 前橋市 | H91: 東村（前橋市） | I91: 下新田 | K91: =IF(AND($C91>0,$H91=""),"ﾘｽﾄ１","") | L91: =IF(K91="ﾘｽﾄ１",G91,"") | M91: =IF(K91="","",COUNTIF($K$7:K91,"ﾘｽﾄ１")) | N91: =IF(AND(D91=0,E91>0),"同一区","") | O91: =IF(AND(EXACT($K$2,G91),H91>0),"該当１","") | P91: =IF(O91="該当１",G91,"") | Q91: =IF(O91="該当１","ﾘｽﾄ2","") | R91: =IF(Q91="ﾘｽﾄ2",H91,"") | S91: =IF(AND(Q91="ﾘｽﾄ2",OR(I91=0,AND(N91="同一区",E91=1))),"該当２","") | T91: =IF(S91="該当２",H91,"") | U91: =IF(S91="","",COUNTIF($S$7:S91,"該当２")) | V91: =IF(AND($S$2=H91,E91>0,E91<998),"該当３","") | W91: =IF(V91="該当３",I91,"") | X91: =IF(V91="","",COUNTIF($V$7:V91,"該当３"))
A92: 1020107007 | B92: 10 | C92: 201 | D92: 7 | E92: 7 | F92: 群馬県 | G92: 前橋市 | H92: 東村（前橋市） | I92: 上新田 | K92: =IF(AND($C92>0,$H92=""),"ﾘｽﾄ１","") | L92: =IF(K92="ﾘｽﾄ１",G92,"") | M92: =IF(K92="","",COUNTIF($K$7:K92,"ﾘｽﾄ１")) | N92: =IF(AND(D92=0,E92>0),"同一区","") | O92: =IF(AND(EXACT($K$2,G92),H92>0),"該当１","") | P92: =IF(O92="該当１",G92,"") | Q92: =IF(O92="該当１","ﾘｽﾄ2","") | R92: =IF(Q92="ﾘｽﾄ2",H92,"") | S92: =IF(AND(Q92="ﾘｽﾄ2",OR(I92=0,AND(N92="同一区",E92=1))),"該当２","") | T92: =IF(S92="該当２",H92,"") | U92: =IF(S92="","",COUNTIF($S$7:S92,"該当２")) | V92: =IF(AND($S$2=H92,E92>0,E92<998),"該当３","") | W92: =IF(V92="該当３",I92,"") | X92: =IF(V92="","",COUNTIF($V$7:V92,"該当３"))
A93: 1020107008 | B93: 10 | C93: 201 | D93: 7 | E93: 8 | F93: 群馬県 | G93: 前橋市 | H93: 東村（前橋市） | I93: 小相木 | K93: =IF(AND($C93>0,$H93=""),"ﾘｽﾄ１","") | L93: =IF(K93="ﾘｽﾄ１",G93,"") | M93: =IF(K93="","",COUNTIF($K$7:K93,"ﾘｽﾄ１")) | N93: =IF(AND(D93=0,E93>0),"同一区","") | O93: =IF(AND(EXACT($K$2,G93),H93>0),"該当１","") | P93: =IF(O93="該当１",G93,"") | Q93: =IF(O93="該当１","ﾘｽﾄ2","") | R93: =IF(Q93="ﾘｽﾄ2",H93,"") | S93: =IF(AND(Q93="ﾘｽﾄ2",OR(I93=0,AND(N93="同一区",E93=1))),"該当２","") | T93: =IF(S93="該当２",H93,"") | U93: =IF(S93="","",COUNTIF($S$7:S93,"該当２")) | V93: =IF(AND($S$2=H93,E93>0,E93<998),"該当３","") | W93: =IF(V93="該当３",I93,"") | X93: =IF(V93="","",COUNTIF($V$7:V93,"該当３"))
A94: 1020107009 | B94: 10 | C94: 201 | D94: 7 | E94: 9 | F94: 群馬県 | G94: 前橋市 | H94: 東村（前橋市） | I94: 古市 | K94: =IF(AND($C94>0,$H94=""),"ﾘｽﾄ１","") | L94: =IF(K94="ﾘｽﾄ１",G94,"") | M94: =IF(K94="","",COUNTIF($K$7:K94,"ﾘｽﾄ１")) | N94: =IF(AND(D94=0,E94>0),"同一区","") | O94: =IF(AND(EXACT($K$2,G94),H94>0),"該当１","") | P94: =IF(O94="該当１",G94,"") | Q94: =IF(O94="該当１","ﾘｽﾄ2","") | R94: =IF(Q94="ﾘｽﾄ2",H94,"") | S94: =IF(AND(Q94="ﾘｽﾄ2",OR(I94=0,AND(N94="同一区",E94=1))),"該当２","") | T94: =IF(S94="該当２",H94,"") | U94: =IF(S94="","",COUNTIF($S$7:S94,"該当２")) | V94: =IF(AND($S$2=H94,E94>0,E94<998),"該当３","") | W94: =IF(V94="該当３",I94,"") | X94: =IF(V94="","",COUNTIF($V$7:V94,"該当３"))
A95: 1020107010 | B95: 10 | C95: 201 | D95: 7 | E95: 10 | F95: 群馬県 | G95: 前橋市 | H95: 東村（前橋市） | I95: 江田 | K95: =IF(AND($C95>0,$H95=""),"ﾘｽﾄ１","") | L95: =IF(K95="ﾘｽﾄ１",G95,"") | M95: =IF(K95="","",COUNTIF($K$7:K95,"ﾘｽﾄ１")) | N95: =IF(AND(D95=0,E95>0),"同一区","") | O95: =IF(AND(EXACT($K$2,G95),H95>0),"該当１","") | P95: =IF(O95="該当１",G95,"") | Q95: =IF(O95="該当１","ﾘｽﾄ2","") | R95: =IF(Q95="ﾘｽﾄ2",H95,"") | S95: =IF(AND(Q95="ﾘｽﾄ2",OR(I95=0,AND(N95="同一区",E95=1))),"該当２","") | T95: =IF(S95="該当２",H95,"") | U95: =IF(S95="","",COUNTIF($S$7:S95,"該当２")) | V95: =IF(AND($S$2=H95,E95>0,E95<998),"該当３","") | W95: =IF(V95="該当３",I95,"") | X95: =IF(V95="","",COUNTIF($V$7:V95,"該当３"))
A96: 1020108000 | B96: 10 | C96: 201 | D96: 8 | E96: 0 | F96: 群馬県 | G96: 前橋市 | H96: 元総社村 | K96: =IF(AND($C96>0,$H96=""),"ﾘｽﾄ１","") | L96: =IF(K96="ﾘｽﾄ１",G96,"") | M96: =IF(K96="","",COUNTIF($K$7:K96,"ﾘｽﾄ１")) | N96: =IF(AND(D96=0,E96>0),"同一区","") | O96: =IF(AND(EXACT($K$2,G96),H96>0),"該当１","") | P96: =IF(O96="該当１",G96,"") | Q96: =IF(O96="該当１","ﾘｽﾄ2","") | R96: =IF(Q96="ﾘｽﾄ2",H96,"") | S96: =IF(AND(Q96="ﾘｽﾄ2",OR(I96=0,AND(N96="同一区",E96=1))),"該当２","") | T96: =IF(S96="該当２",H96,"") | U96: =IF(S96="","",COUNTIF($S$7:S96,"該当２")) | V96: =IF(AND($S$2=H96,E96>0,E96<998),"該当３","") | W96: =IF(V96="該当３",I96,"") | X96: =IF(V96="","",COUNTIF($V$7:V96,"該当３"))
A97: 1020108001 | B97: 10 | C97: 201 | D97: 8 | E97: 1 | F97: 群馬県 | G97: 前橋市 | H97: 元総社村 | I97: 元総社第１区 | K97: =IF(AND($C97>0,$H97=""),"ﾘｽﾄ１","") | L97: =IF(K97="ﾘｽﾄ１",G97,"") | M97: =IF(K97="","",COUNTIF($K$7:K97,"ﾘｽﾄ１")) | N97: =IF(AND(D97=0,E97>0),"同一区","") | O97: =IF(AND(EXACT($K$2,G97),H97>0),"該当１","") | P97: =IF(O97="該当１",G97,"") | Q97: =IF(O97="該当１","ﾘｽﾄ2","") | R97: =IF(Q97="ﾘｽﾄ2",H97,"") | S97: =IF(AND(Q97="ﾘｽﾄ2",OR(I97=0,AND(N97="同一区",E97=1))),"該当２","") | T97: =IF(S97="該当２",H97,"") | U97: =IF(S97="","",COUNTIF($S$7:S97,"該当２")) | V97: =IF(AND($S$2=H97,E97>0,E97<998),"該当３","") | W97: =IF(V97="該当３",I97,"") | X97: =IF(V97="","",COUNTIF($V$7:V97,"該当３"))
A98: 1020108002 | B98: 10 | C98: 201 | D98: 8 | E98: 2 | F98: 群馬県 | G98: 前橋市 | H98: 元総社村 | I98: 元総社第２区 | K98: =IF(AND($C98>0,$H98=""),"ﾘｽﾄ１","") | L98: =IF(K98="ﾘｽﾄ１",G98,"") | M98: =IF(K98="","",COUNTIF($K$7:K98,"ﾘｽﾄ１")) | N98: =IF(AND(D98=0,E98>0),"同一区","") | O98: =IF(AND(EXACT($K$2,G98),H98>0),"該当１","") | P98: =IF(O98="該当１",G98,"") | Q98: =IF(O98="該当１","ﾘｽﾄ2","") | R98: =IF(Q98="ﾘｽﾄ2",H98,"") | S98: =IF(AND(Q98="ﾘｽﾄ2",OR(I98=0,AND(N98="同一区",E98=1))),"該当２","") | T98: =IF(S98="該当２",H98,"") | U98: =IF(S98="","",COUNTIF($S$7:S98,"該当２")) | V98: =IF(AND($S$2=H98,E98>0,E98<998),"該当３","") | W98: =IF(V98="該当３",I98,"") | X98: =IF(V98="","",COUNTIF($V$7:V98,"該当３"))
A99: 1020108003 | B99: 10 | C99: 201 | D99: 8 | E99: 3 | F99: 群馬県 | G99: 前橋市 | H99: 元総社村 | I99: 元総社第３区 | K99: =IF(AND($C99>0,$H99=""),"ﾘｽﾄ１","") | L99: =IF(K99="ﾘｽﾄ１",G99,"") | M99: =IF(K99="","",COUNTIF($K$7:K99,"ﾘｽﾄ１")) | N99: =IF(AND(D99=0,E99>0),"同一区","") | O99: =IF(AND(EXACT($K$2,G99),H99>0),"該当１","") | P99: =IF(O99="該当１",G99,"") | Q99: =IF(O99="該当１","ﾘｽﾄ2","") | R99: =IF(Q99="ﾘｽﾄ2",H99,"") | S99: =IF(AND(Q99="ﾘｽﾄ2",OR(I99=0,AND(N99="同一区",E99=1))),"該当２","") | T99: =IF(S99="該当２",H99,"") | U99: =IF(S99="","",COUNTIF($S$7:S99,"該当２")) | V99: =IF(AND($S$2=H99,E99>0,E99<998),"該当３","") | W99: =IF(V99="該当３",I99,"") | X99: =IF(V99="","",COUNTIF($V$7:V99,"該当３"))
A100: 1020108004 | B100: 10 | C100: 201 | D100: 8 | E100: 4 | F100: 群馬県 | G100: 前橋市 | H100: 元総社村 | I100: 元総社第４区 | K100: =IF(AND($C100>0,$H100=""),"ﾘｽﾄ１","") | L100: =IF(K100="ﾘｽﾄ１",G100,"") | M100: =IF(K100="","",COUNTIF($K$7:K100,"ﾘｽﾄ１")) | N100: =IF(AND(D100=0,E100>0),"同一区","") | O100: =IF(AND(EXACT($K$2,G100),H100>0),"該当１","") | P100: =IF(O100="該当１",G100,"") | Q100: =IF(O100="該当１","ﾘｽﾄ2","") | R100: =IF(Q100="ﾘｽﾄ2",H100,"") | S100: =IF(AND(Q100="ﾘｽﾄ2",OR(I100=0,AND(N100="同一区",E100=1))),"該当２","") | T100: =IF(S100="該当２",H100,"") | U100: =IF(S100="","",COUNTIF($S$7:S100,"該当２")) | V100: =IF(AND($S$2=H100,E100>0,E100<998),"該当３","") | W100: =IF(V100="該当３",I100,"") | X100: =IF(V100="","",COUNTIF($V$7:V100,"該当３"))
A101: 1020108005 | B101: 10 | C101: 201 | D101: 8 | E101: 5 | F101: 群馬県 | G101: 前橋市 | H101: 元総社村 | I101: 大友 | K101: =IF(AND($C101>0,$H101=""),"ﾘｽﾄ１","") | L101: =IF(K101="ﾘｽﾄ１",G101,"") | M101: =IF(K101="","",COUNTIF($K$7:K101,"ﾘｽﾄ１")) | N101: =IF(AND(D101=0,E101>0),"同一区","") | O101: =IF(AND(EXACT($K$2,G101),H101>0),"該当１","") | P101: =IF(O101="該当１",G101,"") | Q101: =IF(O101="該当１","ﾘｽﾄ2","") | R101: =IF(Q101="ﾘｽﾄ2",H101,"") | S101: =IF(AND(Q101="ﾘｽﾄ2",OR(I101=0,AND(N101="同一区",E101=1))),"該当２","") | T101: =IF(S101="該当２",H101,"") | U101: =IF(S101="","",COUNTIF($S$7:S101,"該当２")) | V101: =IF(AND($S$2=H101,E101>0,E101<998),"該当３","") | W101: =IF(V101="該当３",I101,"") | X101: =IF(V101="","",COUNTIF($V$7:V101,"該当３"))
A102: 1020108006 | B102: 10 | C102: 201 | D102: 8 | E102: 6 | F102: 群馬県 | G102: 前橋市 | H102: 元総社村 | I102: 大渡 | K102: =IF(AND($C102>0,$H102=""),"ﾘｽﾄ１","") | L102: =IF(K102="ﾘｽﾄ１",G102,"") | M102: =IF(K102="","",COUNTIF($K$7:K102,"ﾘｽﾄ１")) | N102: =IF(AND(D102=0,E102>0),"同一区","") | O102: =IF(AND(EXACT($K$2,G102),H102>0),"該当１","") | P102: =IF(O102="該当１",G102,"") | Q102: =IF(O102="該当１","ﾘｽﾄ2","") | R102: =IF(Q102="ﾘｽﾄ2",H102,"") | S102: =IF(AND(Q102="ﾘｽﾄ2",OR(I102=0,AND(N102="同一区",E102=1))),"該当２","") | T102: =IF(S102="該当２",H102,"") | U102: =IF(S102="","",COUNTIF($S$7:S102,"該当２")) | V102: =IF(AND($S$2=H102,E102>0,E102<998),"該当３","") | W102: =IF(V102="該当３",I102,"") | X102: =IF(V102="","",COUNTIF($V$7:V102,"該当３"))
A103: 1020108007 | B103: 10 | C103: 201 | D103: 8 | E103: 7 | F103: 群馬県 | G103: 前橋市 | H103: 元総社村 | I103: 石倉北部 | K103: =IF(AND($C103>0,$H103=""),"ﾘｽﾄ１","") | L103: =IF(K103="ﾘｽﾄ１",G103,"") | M103: =IF(K103="","",COUNTIF($K$7:K103,"ﾘｽﾄ１")) | N103: =IF(AND(D103=0,E103>0),"同一区","") | O103: =IF(AND(EXACT($K$2,G103),H103>0),"該当１","") | P103: =IF(O103="該当１",G103,"") | Q103: =IF(O103="該当１","ﾘｽﾄ2","") | R103: =IF(Q103="ﾘｽﾄ2",H103,"") | S103: =IF(AND(Q103="ﾘｽﾄ2",OR(I103=0,AND(N103="同一区",E103=1))),"該当２","") | T103: =IF(S103="該当２",H103,"") | U103: =IF(S103="","",COUNTIF($S$7:S103,"該当２")) | V103: =IF(AND($S$2=H103,E103>0,E103<998),"該当３","") | W103: =IF(V103="該当３",I103,"") | X103: =IF(V103="","",COUNTIF($V$7:V103,"該当３"))
...
