Workbook
Name G10農家数: OFFSET(#REF!,#REF!,0)
Name G10農家数: OFFSET(#REF!,#REF!,0)
Name G21労働力L: OFFSET(#REF!,#REF!,0)
Name G21労働力L: OFFSET(#REF!,#REF!,0)
Name G22労働力R: OFFSET(#REF!,#REF!,0)
Name G22労働力R: OFFSET(#REF!,#REF!,0)
Name G31後継者L: OFFSET(#REF!,#REF!,0)
Name G31後継者L: OFFSET(#REF!,#REF!,0)
Name G32後継者R: OFFSET(#REF!,#REF!,0)
Name G32後継者R: OFFSET(#REF!,#REF!,0)
Name G33後継者L: OFFSET(#REF!,#REF!,0)
Name G33後継者L: OFFSET(#REF!,#REF!,0)
Name G33後継者R: OFFSET(#REF!,#REF!,0)
Name G33後継者R: OFFSET(#REF!,#REF!,0)
Name G50状態別: OFFSET(#REF!,#REF!,0)
Name G50状態別: OFFSET(#REF!,#REF!,0)
Name G61品目別L: OFFSET(#REF!,#REF!,0)
Name G61品目別L: OFFSET(#REF!,#REF!,0)
Name G62品目別R: OFFSET(#REF!,#REF!,0)
Name G62品目別R: OFFSET(#REF!,#REF!,0)
Name あ: #REF!
Name 旧市2010: OFFSET(#REF!,#REF!-1,0,#REF!+1,1)
Name 旧市2010: OFFSET(#REF!,#REF!-1,0,#REF!+1,1)
Name 旧市2015: OFFSET(#REF!,#REF!-1,0,#REF!+1,1)
Name 旧市2015: OFFSET(#REF!,#REF!-1,0,#REF!+1,1)
Name 集落2010: OFFSET(#REF!,#REF!-1,0,#REF!+1,1)
Name 集落2010: OFFSET(#REF!,#REF!-1,0,#REF!+1,1)
Name 集落2015: OFFSET(#REF!,#REF!-1,0,#REF!+1,1)
Name 集落2015: OFFSET(#REF!,#REF!-1,0,#REF!+1,1)

Sheet kadft
B4: 県 名 | F4: 市町村名 | I4: =""&IF(グラフ用!$G$6<>"NO",グラフ用!G8,グラフ用!$G$10)&" " -> 旧市町村名 | T4: 地域類型区分
B5: 群馬県 | T5: =INDEX(地域類型区分!C2:C512,グラフ用!F3) -> 設定 | W5: =INDEX(地域類型区分!D2:D512,グラフ用!F3) -> されていません
U7: 県計 | W7: との比較
B9: 土地の状況 | W9: 単位：㏊
E11: 総土地面積 | H11: 林野面積 | K11: 耕地面積計（農山村地域調査結果） | W11: 耕作放棄地 面積
N12: 田面積 | Q12: 畑面積 | T12: 樹園地面積
B13: 2010年 | E13: =INDEX('2010'!$D$6:$AV$557,グラフ用!$F$3,1) -> 636316 | H13: =INDEX('2010'!$D$6:$AV$557,グラフ用!$F$3,2) -> 405899 | K13: =INDEX('2010'!$D$6:$AV$557,グラフ用!$F$3,3) -> 74704 | N13: =INDEX('2010'!$D$6:$AV$557,グラフ用!$F$3,4) -> 27891 | Q13: =INDEX('2010'!$D$6:$AV$557,グラフ用!$F$3,5) -> 42930 | T13: =INDEX('2010'!$D$6:$AV$557,グラフ用!$F$3,6) -> 3883 | W13: =INDEX('2010'!$D$6:$AV$557,グラフ用!$F$3,7) -> 13901.39
B14: 2015年 | E14: =INDEX('2015'!$D$6:$AV$557,グラフ用!$F$3,1) -> 636228 | H14: =INDEX('2015'!$D$6:$AV$557,グラフ用!$F$3,2) -> 408064 | K14: =INDEX('2015'!$D$6:$AV$557,グラフ用!$F$3,3) -> 72644 | N14: =INDEX('2015'!$D$6:$AV$557,グラフ用!$F$3,4) -> 27245 | Q14: =INDEX('2015'!$D$6:$AV$557,グラフ用!$F$3,5) -> 41800 | T14: =INDEX('2015'!$D$6:$AV$557,グラフ用!$F$3,6) -> 3599 | W14: =INDEX('2015'!$D$6:$AV$557,グラフ用!$F$3,7) -> 14041.75
B15: 比率(%) | F15: － | H15: ※1 | I15: =IFERROR(ROUND(H14/$E$14*100,1),"nc") -> 64.1 | K15: ※1 | L15: =IFERROR(ROUND(K14/$E$14*100,1),"nc") -> 11.4 | N15: ※2 | O15: =IFERROR(ROUND(N14/$K$14*100,1),"nc") -> 37.5 | Q15: ※2 | R15: =IFERROR(ROUND(Q14/$K$14*100,1),"nc") -> 57.5 | T15: ※2 | U15: =IFERROR(ROUND(T14/$K$14*100,1),"nc") -> 5 | W15: ※3 | X15: =IFERROR(ROUND(W14/グラフ用!B12*100,1),"nc") -> 16.2
B16: 県計 比率(%) | F16: － | H16: ※1 | I16: 64.1 | K16: ※1 | L16: 11.4 | N16: ※2 | O16: 37.5 | Q16: ※2 | R16: 57.5 | T16: ※2 | U16: 5 | W16: ※3 | X16: 16.2
B17: ※1 総土地面積に対する比率 ※2 耕地面積計に対する比率 ※3 耕作放棄地率は耕作放棄地面積と耕地面積の和に対する割合
D18: =IF($U$7="県計",[1]グラフ用シート!C13,IF($U$7="前回",[1]グラフ用シート!E13)) -> 林野率及び耕地率 | K18: =IF($U$7="県計",[1]グラフ用シート!C18,IF($U$7="前回",[1]グラフ用シート!E18)) -> 地目別の耕地面積割合 | Q18: （％） | R18: 64.1 | U18: =IF($U$7="県計",[1]グラフ用シート!F23,IF($U$7="前回",[1]グラフ用シート!D23)) -> 耕作放棄地率 | Y18: =IF(kadft!$U$7="県計",グラフ用!$I$18,IF(kadft!$U$7="前回",グラフ用!$I$16)) -> （％） | Z18: =IF([1]練習!$U$7="県計",$I$18,IF([1]練習!$U$7="前回",$I$16)) -> 64.1
P19: 内円 | Q19: =IF($U$7="県計",グラフ用!J15,IF($U$7="前回",グラフ用!G14)) -> 県 計
A20: =IF(kadft!$U$7="県計",グラフ用!$I$18,IF(kadft!$U$7="前回",グラフ用!$I$16)) -> （％） | B20: =IF([1]練習!$U$7="県計",$I$18,IF([1]練習!$U$7="前回",$I$16)) -> 64.1 | P20: 外円 | Q20: =IF($U$7="県計",グラフ用!G13,IF($U$7="前回",グラフ用!G15)) -> 群馬県
B28: 法制上の指定地域面積 | N28: 単位：㏊ | U28: 森林地域 | W28: =E35 -> 1
E30: 森林地域 | G30: 農業地域 | I30: 市街化 区域 | K30: 市街化 調整区域 | M30: 商業関連地域 | O30: 工業関連地域
Q31: 工業関連地域 | X31: 農業地域
B32: 項目別面積 | E32: =INDEX(指定地域!$C$2:$J$557,グラフ用!$F$3,1) -> 439160.19 | G32: =INDEX(指定地域!$C$2:$J$557,グラフ用!$F$3,2) -> 321194.42 | I32: =INDEX(指定地域!$C$2:$J$557,グラフ用!$F$3,3) -> 25279.64 | K32: =INDEX(指定地域!$C$2:$J$557,グラフ用!$F$3,4) -> 69580.64 | M32: =INDEX(指定地域!$C$2:$J$557,グラフ用!$F$3,5) -> 2822.22 | O32: =INDEX(指定地域!$C$2:$J$557,グラフ用!$F$3,6) -> 9063.52 | R32: =O35 -> 1 | X32: =G35 -> 1
B33: 比率(%) | E33: =ROUND(E32/$E$14*100,1) -> 69 | G33: =ROUND(G32/$E$14*100,1) -> 50.5 | I33: =ROUND(I32/$E$14*100,1) -> 4 | K33: =ROUND(K32/$E$14*100,1) -> 10.9 | M33: =ROUND(M32/$E$14*100,1) -> 0.4 | O33: =ROUND(O32/$E$14*100,1) -> 1.4
B34: 県計 比率(%) | E34: 69 | G34: 50.5 | I34: 4 | K34: 10.9 | M34: 0.4 | O34: 1.4
B35: 特化係数 | E35: =E33/E34 -> 1 | G35: =G33/G34 -> 1 | I35: =I33/I34 -> 1 | K35: =K33/K34 -> 1 | M35: =M33/M34 -> 1 | O35: =O33/O34 -> 1 | Q35: 商業関連地域 | X35: 市街化区域
B36: ※ 商業関連地域は、近隣商業地域と商業地域の合計。 工業関連地域は、準工業地域と工業地域及び工業専用地域の合計。 | R36: =M35 -> 1 | X36: =I35 -> 1
B37: ※ 比率は、総土地面積（2015年）に対する比率である。
B38: ※ 特化係数は、比率／県計比率で算出。1.0を超えるほど特化している。 | T38: 市街化調整区域 | W38: =K35 -> 1
B40: 農業生産関連事業経営体数 | T40: 単位：経営体
E42: 農業経営体 数計 | H42: 生産関連事業を実施している実経営体数 | K42: 事業種類別経営体数
K43: 農産物の加工 | N43: 消費者に直接販売 | Q43: 観光農園 | T43: その他
B45: 2010年 | E45: =INDEX('2010'!$D$6:$AV$557,グラフ用!$F$3,8) -> 32567 | H45: =INDEX('2010'!$D$6:$AV$557,グラフ用!$F$3,9) -> 6563 | K45: =INDEX('2010'!$D$6:$AV$557,グラフ用!$F$3,10) -> 610 | N45: =INDEX('2010'!$D$6:$AV$557,グラフ用!$F$3,11) -> 6205 | Q45: =INDEX('2010'!$D$6:$AV$557,グラフ用!$F$3,12) -> 487 | T45: =INDEX('2010'!$D$6:$AV$557,グラフ用!$F$3,13) -> 223
B46: 2015年 | E46: =INDEX('2015'!$D$6:$AV$557,グラフ用!$F$3,8) -> 26235 | H46: =INDEX('2015'!$D$6:$AV$557,グラフ用!$F$3,9) -> 5186 | K46: =INDEX('2015'!$D$6:$AV$557,グラフ用!$F$3,10) -> 502 | N46: =INDEX('2015'!$D$6:$AV$557,グラフ用!$F$3,11) -> 4968 | Q46: =INDEX('2015'!$D$6:$AV$557,グラフ用!$F$3,12) -> 342 | T46: =INDEX('2015'!$D$6:$AV$557,グラフ用!$F$3,13) -> 151
B47: 比率(%) | E47: － | H47: =IFERROR(ROUND(H46/$E$46*100,1),"nc") -> 19.8 | K47: =IFERROR(ROUND(K46/$E$46*100,1),"nc") -> 1.9 | N47: =IFERROR(ROUND(N46/$E$46*100,1),"nc") -> 18.9 | Q47: =IFERROR(ROUND(Q46/$E$46*100,1),"nc") -> 1.3 | T47: =IFERROR(ROUND(T46/$E$46*100,1),"nc") -> 0.6
B48: 県計 比率(%) | E48: － | H48: 19.8 | K48: 1.9 | N48: 18.9 | Q48: 1.3 | T48: 0.6
B49: ※ 比率は、農業経営体数計に対する比率である。 ※ その他は、貸農園・体験農園、農家民宿、農家レストラン等である。
B50: =IF(kadft!$U$7="県計",グラフ用!$I$18,IF(kadft!$U$7="前回",グラフ用!$I$17)) -> （％） | D50: =IF($U$7="県計",グラフ用!$C$45,IF($U$7="前回",グラフ用!$D$45)) -> 事業実施率 | O50: =IF($U$7="県計",グラフ用!$C$51,IF($U$7="前回",グラフ用!$D$51)) -> 事業種類別実施率
Y57: =IF(kadft!$U$7="県計",グラフ用!$I$18,IF(kadft!$U$7="前回",グラフ用!$I$17)) -> （％）
B58: 農業集落の状況 | V58: 単位：集落
E60: 農業集落数計 | G60: 水田率別農業集落数 | M60: 農家率別農業集落数
G61: 水田集落（70％以上） | I61: 田畑集落 （30～70） | K61: 畑地集落 （30％未満） | M61: 10％未満 | O61: 10～30 | Q61: 30～50 | S61: 50～70 | U61: 70～90 | W61: 90％以上
B63: 2010年 | E63: =INDEX('2010'!$D$6:$AV$557,グラフ用!$F$3,14) -> 2018 | G63: =INDEX('2010'!$D$6:$AV$557,グラフ用!$F$3,15) -> 305 | I63: =INDEX('2010'!$D$6:$AV$557,グラフ用!$F$3,16) -> 759 | K63: =INDEX('2010'!$D$6:$AV$557,グラフ用!$F$3,17) -> 954 | M63: =INDEX('2010'!$D$6:$AV$557,グラフ用!$F$3,18) -> 681 | O63: =INDEX('2010'!$D$6:$AV$557,グラフ用!$F$3,19) -> 728 | Q63: =INDEX('2010'!$D$6:$AV$557,グラフ用!$F$3,20) -> 386 | S63: =INDEX('2010'!$D$6:$AV$557,グラフ用!$F$3,21) -> 184 | U63: =INDEX('2010'!$D$6:$AV$557,グラフ用!$F$3,22) -> 34 | W63: =INDEX('2010'!$D$6:$AV$557,グラフ用!$F$3,23) -> 5
B64: 2015年 | E64: =INDEX('2015'!$D$6:$AV$557,グラフ用!$F$3,14) -> 1964 | G64: =INDEX('2015'!$D$6:$AV$557,グラフ用!$F$3,15) -> 313 | I64: =INDEX('2015'!$D$6:$AV$557,グラフ用!$F$3,16) -> 713 | K64: =INDEX('2015'!$D$6:$AV$557,グラフ用!$F$3,17) -> 938 | M64: =INDEX('2015'!$D$6:$AV$557,グラフ用!$F$3,18) -> 709 | O64: =INDEX('2015'!$D$6:$AV$557,グラフ用!$F$3,19) -> 705 | Q64: =INDEX('2015'!$D$6:$AV$557,グラフ用!$F$3,20) -> 380 | S64: =INDEX('2015'!$D$6:$AV$557,グラフ用!$F$3,21) -> 139 | U64: =INDEX('2015'!$D$6:$AV$557,グラフ用!$F$3,22) -> 25 | W64: =INDEX('2015'!$D$6:$AV$557,グラフ用!$F$3,23) -> 6
B65: 構成比(%) | E65: － | G65: =IFERROR(ROUND(G64/$E$64*100,1),"nc") -> 15.9 | I65: =IFERROR(ROUND(I64/$E$64*100,1),"nc") -> 36.3 | K65: =IFERROR(ROUND(K64/$E$64*100,1),"nc") -> 47.8 | M65: =IFERROR(ROUND(M64/$E$64*100,1),"nc") -> 36.1 | O65: =IFERROR(ROUND(O64/$E$64*100,1),"nc") -> 35.9 | Q65: =IFERROR(ROUND(Q64/$E$64*100,1),"nc") -> 19.3 | S65: =IFERROR(ROUND(S64/$E$64*100,1),"nc") -> 7.1 | U65: =IFERROR(ROUND(U64/$E$64*100,1),"nc") -> 1.3 | W65: =IFERROR(ROUND(W64/$E$64*100,1),"nc") -> 0.3
...

Sheet グラフ用
B3: 県計 | D3: =IFERROR(MATCH(kadft!F5,地域類型区分!B2:B512,0),"1") -> 1 | E3: =IFERROR(MATCH(kadft!J5,地域類型区分!B2:B512,0)," ") | F3: =""&IF(E3<>" ",E3,D3)&"" -> 1
B4: 前回 | D4: 市町村列 | E4: 旧市町村列 | F4: 優先列
G6: =IF(COUNTIF(元データ!AC6:AC50,kadft!J5),"OK","NO") -> OK | H6: 市町村に対し旧市町村の該当有無
G8: 旧市町村名
C10: 林野面積 | D10: 耕地面積 | G10: 旧市町村を再選択して下さい
B12: =kadft!W14+kadft!K14 -> 86685.75 | C12: 林野率 | D12: 耕地率 | G12: =INDEX(地域類型区分!$B$2:$B$557,F3,1) -> 群馬県
C13: 林野率及び耕地率 | E13: 林野面積及び耕地面積 | G13: =G12 -> 群馬県 | H13: 優先表示地域名
D14: =IF(kadft!$U$7="県計",$C$12,IF(kadft!$U$7="前回",$C$10)) -> 林野率 | E14: =IF(kadft!$U$7="県計",$D$12,IF(kadft!$U$7="前回",$D$10)) -> 耕地率 | G14: 2010年
C15: =IF(kadft!$U$7="県計",$J$15,IF(kadft!$U$7="前回",$G$14)) -> 県 計 | D15: =IF(kadft!$U$7="県計",kadft!$I$16,IF(kadft!$U$7="前回",kadft!$H$13)) -> 64.1 | E15: =IF(kadft!$U$7="県計",kadft!$L$16,IF(kadft!$U$7="前回",kadft!$K$13)) -> 11.4 | G15: 2015年 | J15: 県 計
C16: =IF(kadft!$U$7="県計",$G$13,IF(kadft!$U$7="前回",$G$15)) -> 群馬県 | D16: =IF(kadft!$U$7="県計",kadft!$I$15,IF(kadft!$U$7="前回",kadft!$H$14)) -> 64.1 | E16: =IF(kadft!$U$7="県計",kadft!$L$15,IF(kadft!$U$7="前回",kadft!$K$14)) -> 11.4 | I16: (㏊) | J16: （集落）
I17: (経営体)
C18: 地目別の耕地面積割合 | E18: 地目別の耕地面積割合 | I18: （％）
D19: =kadft!N12 -> 田面積 | E19: =kadft!Q12 -> 畑面積 | F19: =kadft!T12 -> 樹園地面積
C20: =IF(kadft!$U$7="県計",$G$13,IF(kadft!$U$7="前回",$G$15)) -> 群馬県 | D20: =IF(kadft!$U$7="県計",kadft!$O$15,IF(kadft!$U$7="前回",ROUND(kadft!$N$14/kadft!K14*100,1))) -> 37.5 | E20: =IF(kadft!$U$7="県計",kadft!$R$15,IF(kadft!$U$7="前回",ROUND(kadft!$Q$14/kadft!K14*100,1))) -> 57.5 | F20: =IF(kadft!$U$7="県計",kadft!$U$15,IF(kadft!$U$7="前回",ROUND(kadft!$T$14/kadft!K14*100,1))) -> 5
C21: =IF(kadft!$U$7="県計",$J$15,IF(kadft!$U$7="前回",$G$14)) -> 県 計 | D21: =IF(kadft!$U$7="県計",kadft!$O$16,IF(kadft!$U$7="前回",ROUND(kadft!$N$13/kadft!K13*100,1))) -> 37.5 | E21: =IF(kadft!$U$7="県計",kadft!$R$16,IF(kadft!$U$7="前回",ROUND(kadft!$Q$13/kadft!K13*100,1))) -> 57.5 | F21: =IF(kadft!$U$7="県計",kadft!$U$16,IF(kadft!$U$7="前回",ROUND(kadft!$T$13/kadft!K13*100,1))) -> 5 | I21: 単位１
D23: 耕作放棄地面積 | F23: 耕作放棄地率
C24: =IF(kadft!$U$7="県計",$J$15,IF(kadft!$U$7="前回",$G$14)) -> 県 計 | D24: =IF(kadft!$U$7="県計",kadft!$X$16,IF(kadft!$U$7="前回",ROUND(kadft!$W$13,0))) -> 16.2
C25: =IF(kadft!$U$7="県計",$G$13,IF(kadft!$U$7="前回",$G$15)) -> 群馬県 | D25: =IF(kadft!$U$7="県計",kadft!$X$15,IF(kadft!$U$7="前回",ROUND(kadft!$W$14,0))) -> 16.2
G26: IF($U$6="県計",BH17,IF($U$6="前回",BJ17))
D31: =kadft!E30 -> 森林地域 | E31: =kadft!G30 -> 農業地域 | F31: 市街化区域 | G31: 市街化調整区域 | H31: 商業関連地域 | I31: 工業関連地域
C32: =G13 -> 群馬県 | D32: =IF(kadft!E$35=0,0.001,kadft!E$35) -> 1 | E32: =IF(kadft!G$35=0,0.001,kadft!G$35) -> 1 | F32: =IF(kadft!I$35=0,0.001,kadft!I$35) -> 1 | G32: =IF(kadft!K$35=0,0.001,kadft!K$35) -> 1 | H32: =IF(kadft!M$35=0,0.001,kadft!M$35) -> 1 | I32: =IF(kadft!O$35=0,0.001,kadft!O$35) -> 1
C33: =J15 -> 県 計 | D33: 1 | E33: 1 | F33: 1 | G33: 1 | H33: 1 | I33: 1
I41: 単位１
I44: =IF(kadft!$U$7="県計",$I$18,IF(kadft!$U$7="前回",$I$17)) -> （％）
C45: 事業実施率 | D45: 事業実施経営体数
C46: 事業有り | D46: 事業無し
B47: =IF(kadft!$U$7="県計",$J$15,IF(kadft!$U$7="前回",$G$14)) -> 県 計 | C47: =IF(kadft!$U$7="県計",kadft!$H$48,IF(kadft!$U$7="前回",kadft!$H$45)) -> 19.8 | D47: =IF(kadft!$U$7="県計",kadft!$H$48,IF(kadft!$U$7="前回",kadft!$H$45)) -> 19.8
B48: =IF(kadft!$U$7="県計",$G$13,IF(kadft!$U$7="前回",$G$15)) -> 群馬県 | C48: =IF(kadft!$U$7="県計",kadft!$H$47,IF(kadft!$U$7="前回",kadft!$H$46)) -> 19.8 | D48: =E45/kadft!E46 -> 0
C51: 事業種類別実施率 | D51: 事業種類別経営体数
C52: =kadft!T43 -> その他 | D52: =kadft!Q43 -> 観光農園 | E52: =kadft!N43 -> 消費者に直接販売 | F52: =kadft!K43 -> 農産物の加工
B53: =IF(kadft!$U$7="県計",$J$15,IF(kadft!$U$7="前回",$G$14)) -> 県 計 | C53: =IF(kadft!$U$7="県計",kadft!$T$48,IF(kadft!$U$7="前回",kadft!$T$45)) -> 0.6 | D53: =IF(kadft!$U$7="県計",kadft!$Q$48,IF(kadft!$U$7="前回",kadft!$Q$45)) -> 1.3 | E53: =IF(kadft!$U$7="県計",kadft!$N$48,IF(kadft!$U$7="前回",kadft!$N$45)) -> 18.9 | F53: =IF(kadft!$U$7="県計",kadft!$K$48,IF(kadft!$U$7="前回",kadft!$K$45)) -> 1.9
B54: =IF(kadft!$U$7="県計",$G$13,IF(kadft!$U$7="前回",$G$15)) -> 群馬県 | C54: =IF(kadft!$U$7="県計",kadft!$T$47,IF(kadft!$U$7="前回",kadft!$T$46)) -> 0.6 | D54: =IF(kadft!$U$7="県計",kadft!$Q$47,IF(kadft!$U$7="前回",kadft!$Q$46)) -> 1.3 | E54: =IF(kadft!$U$7="県計",kadft!$N$47,IF(kadft!$U$7="前回",kadft!$N$46)) -> 18.9 | F54: =IF(kadft!$U$7="県計",kadft!$K$47,IF(kadft!$U$7="前回",kadft!$K$46)) -> 1.9
D61: 水田率別農業集落数割合 | F61: 水田率別農業集落数
D62: 水田集落 | E62: 田畑集落 | F62: 畑地集落
C63: =IF(kadft!$U$7="県計",$G$13,IF(kadft!$U$7="前回",$G$15)) -> 群馬県 | D63: =IF(kadft!$U$7="県計",kadft!$G$65,IF(kadft!$U$7="前回",kadft!$G$64)) -> 15.9 | E63: =IF(kadft!$U$7="県計",kadft!$I$65,IF(kadft!$U$7="前回",kadft!$I$64)) -> 36.3 | F63: =IF(kadft!$U$7="県計",kadft!$K$65,IF(kadft!$U$7="前回",kadft!$K$64)) -> 47.8
C64: =IF(kadft!$U$7="県計",$J$15,IF(kadft!$U$7="前回",$G$14)) -> 県 計 | D64: =IF(kadft!$U$7="県計",kadft!$G$66,IF(kadft!$U$7="前回",kadft!$G$63)) -> 15.9 | E64: =IF(kadft!$U$7="県計",kadft!$I$66,IF(kadft!$U$7="前回",kadft!$I$63)) -> 36.3 | F64: =IF(kadft!$U$7="県計",kadft!$K$66,IF(kadft!$U$7="前回",kadft!$K$63)) -> 47.8
D66: 農家率別農業集落数割合 | F66: 農家率別農業集落数
D67: １０%未満 | E67: 10～30 | F67: 30～50 | G67: 50～70 | H67: 70～90 | I67: 90%以上
C68: =IF(kadft!$U$7="県計",$J$15,IF(kadft!$U$7="前回",$G$14)) -> 県 計 | D68: =IF(kadft!$U$7="県計",kadft!$M$66,IF(kadft!$U$7="前回",kadft!$M$63)) -> 36.1 | E68: =IF(kadft!$U$7="県計",kadft!$O$66,IF(kadft!$U$7="前回",kadft!$O$63)) -> 35.9 | F68: =IF(kadft!$U$7="県計",kadft!$Q$66,IF(kadft!$U$7="前回",kadft!$Q$63)) -> 19.3 | G68: =IF(kadft!$U$7="県計",kadft!$S$66,IF(kadft!$U$7="前回",kadft!$S$63)) -> 7.1 | H68: =IF(kadft!$U$7="県計",kadft!$U$66,IF(kadft!$U$7="前回",kadft!$U$63)) -> 1.3 | I68: =IF(kadft!$U$7="県計",kadft!$W$66,IF(kadft!$U$7="前回",kadft!$W$63)) -> 0.3
C69: =IF(kadft!$U$7="県計",$G$13,IF(kadft!$U$7="前回",$G$15)) -> 群馬県 | D69: =IF(kadft!$U$7="県計",kadft!$M$65,IF(kadft!$U$7="前回",kadft!$M$64)) -> 36.1 | E69: =IF(kadft!$U$7="県計",kadft!$O$65,IF(kadft!$U$7="前回",kadft!$O$64)) -> 35.9 | F69: =IF(kadft!$U$7="県計",kadft!$Q$65,IF(kadft!$U$7="前回",kadft!$Q$64)) -> 19.3 | G69: =IF(kadft!$U$7="県計",kadft!$S$65,IF(kadft!$U$7="前回",kadft!$S$64)) -> 7.1 | H69: =IF(kadft!$U$7="県計",kadft!$U$65,IF(kadft!$U$7="前回",kadft!$U$64)) -> 1.3 | I69: =IF(kadft!$U$7="県計",kadft!$W$65,IF(kadft!$U$7="前回",kadft!$W$64)) -> 0.3
...

Sheet 2010
A1: 農山村地域調査
A2: １ 総土地面積及び林野面積
D3: 1 | E3: 2 | F3: 3 | G3: 4 | H3: 5 | I3: 6 | J3: 7 | K3: 8 | L3: 9 | M3: 10 | N3: 11 | O3: 12 | P3: 13 | Q3: 14 | R3: 15 | S3: 16 | T3: 17 | U3: 18 | V3: 19 | W3: 20 | X3: 21 | Y3: 22 | Z3: 23 | AA3: 24 | AB3: 25 | AC3: 26 | AD3: 27 | AE3: 28 | AF3: 29 | AG3: 30 | AH3: 31 | AI3: 32 | AJ3: 33 | AK3: 34 | AL3: 35 | AM3: 36 | AN3: 37 | AO3: 38 | AP3: 39 | AQ3: 40 | AR3: 41 | AS3: 42 | AT3: 43 | AU3: 44 | AV3: 45
D4: 総土地面積 | F4: 耕地面積 | K4: 生産関連 | Q4: 水田率 | U4: 農家率 | AA4: 寄り合いの議題_農業生産にかかる事項 | AH4: 保全管理
A5: 新旧市区町村 | D5: 総土地 面 積 | E5: 林野面積 | F5: 耕地面積 | G5: 田面積 | H5: 畑面積 | I5: 樹園地面積 | J5: 耕作 放棄地 面積 | K5: 計 | L5: 農業生産関連事業を行っている実経営体数 | M5: 事業種類別_農産物の加工 | N5: 事業種類別_消費者に直接販売 | O5: 事業種類別_観光農園 | P5: その他 | Q5: 計 | R5: 水田集落 （70％以上） | S5: 田畑集落 （30～70） | T5: 畑地集落 （30％未満） | U5: 10％未満 | V5: 10～30 | W5: 30～50 | X5: 50～70 | Y5: 70～90 | Z5: 90％以上 | AA5: 寄り合いの議題_農業生産にかかる事項 | AB5: 寄り合いの議題_農道・農業用用排水路・ため池の管理 | AC5: 寄り合いの議題_集落共有財産・共用施設の管理 | AD5: 寄り合いの議題_環境美化・自然環境の保全 | AE5: 寄り合いの議題_農業集落行事（祭り・イベント等）の計画・推進 | AF5: 寄り合いの議題_農業集落内の福祉・厚生 | AG5: 寄り合いを開催しなかった | AH5: 農地_ある | AI5: 農地_保全している | AJ5: 森林_ある | AK5: 森林_保全している | AL5: ため池・湖沼_ある | AM5: ため池・湖沼_保全している | AN5: 河川・水路_ある | AO5: 河川・水路_保全している | AP5: 農業用用排水路_ある | AQ5: 農業用用排水路_保全している
A6: 1 | B6: 県計 | C6: 群馬県 | D6: 636316 | E6: 405899 | F6: 74704 | G6: 27891 | H6: 42930 | I6: 3883 | J6: 13901.39 | K6: 32567 | L6: 6563 | M6: 610 | N6: 6205 | O6: 487 | P6: 223 | Q6: 2018 | R6: 305 | S6: 759 | T6: 954 | U6: 681 | V6: 728 | W6: 386 | X6: 184 | Y6: 34 | Z6: 5 | AA6: 1001 | AB6: 1286 | AC6: 1109 | AD6: 1557 | AE6: 1653 | AF6: 1007 | AG6: 96 | AH6: 1962 | AI6: 468 | AJ6: 1310 | AK6: 174 | AL6: 494 | AM6: 198 | AN6: 1673 | AO6: 550 | AP6: 1664 | AQ6: 1303
A7: 2 | B7: 前橋市 | C7: 前橋市 | D7: 31164 | E7: 7527 | F7: 9159 | G7: 3925 | H7: 4913 | I7: 321 | J7: 1210.56 | K7: 4936 | L7: 815 | M7: 48 | N7: 777 | O7: 10 | P7: 21 | Q7: 162 | R7: 21 | S7: 96 | T7: 45 | U7: 61 | V7: 79 | W7: 20 | X7: 2 | Y7: - | Z7: - | AA7: 125 | AB7: 121 | AC7: 112 | AD7: 133 | AE7: 139 | AF7: 121 | AG7: 4 | AH7: 158 | AI7: 83 | AJ7: 63 | AK7: 14 | AL7: 53 | AM7: 39 | AN7: 157 | AO7: 72 | AP7: 153 | AQ7: 118
A8: 3 | C8: 前橋市（旧） | D8: 1209 | E8: - | F8: 2 | G8: 0 | H8: 2 | I8: 0 | J8: x | K8: 39 | L8: 4 | M8: - | N8: 4 | O8: - | P8: - | Q8: 4 | R8: - | S8: - | T8: 4 | U8: 4 | V8: - | W8: - | X8: - | Y8: - | Z8: - | AA8: 0 | AB8: 0 | AC8: 0 | AD8: 0 | AE8: 0 | AF8: 0 | AG8: 2 | AH8: 3 | AI8: 0 | AJ8: 0 | AK8: 0 | AL8: 0 | AM8: 0 | AN8: 4 | AO8: 0 | AP8: 0 | AQ8: 0
A9: 4 | C9: 上川渕村 | D9: 803 | E9: - | F9: 388 | G9: 286 | H9: 101 | I9: 1 | J9: 13.83 | K9: 222 | L9: 34 | M9: 4 | N9: 31 | O9: - | P9: 2 | Q9: 7 | R9: 5 | S9: 2 | T9: - | U9: 2 | V9: 4 | W9: 1 | X9: - | Y9: - | Z9: - | AA9: 7 | AB9: 7 | AC9: 7 | AD9: 7 | AE9: 7 | AF9: 7 | AG9: 0 | AH9: 7 | AI9: 7 | AJ9: 1 | AK9: 0 | AL9: 0 | AM9: 0 | AN9: 7 | AO9: 2 | AP9: 7 | AQ9: 7
A10: 5 | C10: 下川渕村 | D10: 915 | E10: 3 | F10: 419 | G10: 278 | H10: 136 | I10: 5 | J10: 19.88 | K10: 192 | L10: 36 | M10: - | N10: 35 | O10: - | P10: 2 | Q10: 12 | R10: 3 | S10: 9 | T10: - | U10: 4 | V10: 6 | W10: 2 | X10: - | Y10: - | Z10: - | AA10: 12 | AB10: 11 | AC10: 7 | AD10: 12 | AE10: 12 | AF10: 6 | AG10: 0 | AH10: 12 | AI10: 11 | AJ10: 0 | AK10: 0 | AL10: 0 | AM10: 0 | AN10: 10 | AO10: 4 | AP10: 12 | AQ10: 12
A11: 6 | C11: 南橘村 | D11: 1559 | E11: 21 | F11: 230 | G11: 69 | H11: 149 | I11: 12 | J11: 65.47 | K11: 167 | L11: 33 | M11: - | N11: 32 | O11: - | P11: 2 | Q11: 7 | R11: 1 | S11: 4 | T11: 2 | U11: 5 | V11: 2 | W11: - | X11: - | Y11: - | Z11: - | AA11: 7 | AB11: 7 | AC11: 7 | AD11: 7 | AE11: 7 | AF11: 7 | AG11: 0 | AH11: 7 | AI11: 7 | AJ11: 2 | AK11: 0 | AL11: 1 | AM11: 1 | AN11: 7 | AO11: 7 | AP11: 7 | AQ11: 7
A12: 7 | C12: 芳賀村 | D12: 1621 | E12: 184 | F12: 632 | G12: 185 | H12: 402 | I12: 45 | J12: 137.21 | K12: 350 | L12: 51 | M12: 4 | N12: 48 | O12: 2 | P12: - | Q12: 9 | R12: 1 | S12: 4 | T12: 4 | U12: 1 | V12: 6 | W12: 2 | X12: - | Y12: - | Z12: - | AA12: 7 | AB12: 9 | AC12: 9 | AD12: 9 | AE12: 9 | AF12: 9 | AG12: 0 | AH12: 9 | AI12: 4 | AJ12: 6 | AK12: 1 | AL12: 7 | AM12: 6 | AN12: 9 | AO12: 4 | AP12: 9 | AQ12: 7
A13: 8 | C13: 桂萓村 | D13: 1668 | E13: 20 | F13: 579 | G13: 297 | H13: 272 | I13: 10 | J13: 50.88 | K13: 403 | L13: 29 | M13: - | N13: 28 | O13: 1 | P13: 1 | Q13: 13 | R13: 2 | S13: 10 | T13: 1 | U13: 9 | V13: 4 | W13: - | X13: - | Y13: - | Z13: - | AA13: 13 | AB13: 12 | AC13: 12 | AD13: 11 | AE13: 13 | AF13: 11 | AG13: 0 | AH13: 13 | AI13: 12 | AJ13: 3 | AK13: 0 | AL13: 4 | AM13: 3 | AN13: 13 | AO13: 5 | AP13: 13 | AQ13: 13
A14: 9 | C14: 東村（前橋市） | D14: 623 | E14: - | F14: 51 | G14: 34 | H14: 17 | I14: 0 | J14: 22.95 | K14: 70 | L14: 23 | M14: 1 | N14: 23 | O14: - | P14: - | Q14: 4 | R14: 1 | S14: 3 | T14: - | U14: 4 | V14: - | W14: - | X14: - | Y14: - | Z14: - | AA14: 2 | AB14: 3 | AC14: 0 | AD14: 2 | AE14: 4 | AF14: 4 | AG14: 0 | AH14: 4 | AI14: 0 | AJ14: 0 | AK14: 0 | AL14: 0 | AM14: 0 | AN14: 4 | AO14: 1 | AP14: 4 | AQ14: 2
A15: 10 | C15: 元総社村 | D15: 548 | E15: - | F15: 26 | G15: 0 | H15: 26 | I15: 0 | J15: 30.56 | K15: 17 | L15: 1 | M15: - | N15: 1 | O15: - | P15: - | Q15: 5 | R15: - | S15: - | T15: 5 | U15: 5 | V15: - | W15: - | X15: - | Y15: - | Z15: - | AA15: 0 | AB15: 0 | AC15: 0 | AD15: 0 | AE15: 0 | AF15: 0 | AG15: 2 | AH15: 4 | AI15: 0 | AJ15: 0 | AK15: 0 | AL15: 0 | AM15: 0 | AN15: 5 | AO15: 0 | AP15: 5 | AQ15: 0
A16: 11 | C16: 総社町 | D16: 638 | E16: - | F16: 85 | G16: 14 | H16: 68 | I16: 3 | J16: 28.2 | K16: 31 | L16: 2 | M16: - | N16: 2 | O16: - | P16: - | Q16: 6 | R16: - | S16: 1 | T16: 5 | U16: 6 | V16: - | W16: - | X16: - | Y16: - | Z16: - | AA16: 1 | AB16: 0 | AC16: 0 | AD16: 0 | AE16: 0 | AF16: 0 | AG16: 0 | AH16: 5 | AI16: 0 | AJ16: 0 | AK16: 0 | AL16: 0 | AM16: 0 | AN16: 6 | AO16: 0 | AP16: 6 | AQ16: 0
A17: 12 | C17: 清里村 | D17: 391 | E17: - | F17: 213 | G17: 54 | H17: 151 | I17: 8 | J17: 42.66 | K17: 120 | L17: 17 | M17: 2 | N17: 15 | O17: - | P17: - | Q17: 5 | R17: - | S17: 2 | T17: 3 | U17: 2 | V17: 3 | W17: - | X17: - | Y17: - | Z17: - | AA17: 5 | AB17: 1 | AC17: 3 | AD17: 3 | AE17: 5 | AF17: 4 | AG17: 0 | AH17: 5 | AI17: 0 | AJ17: 0 | AK17: 0 | AL17: 0 | AM17: 0 | AN17: 5 | AO17: 0 | AP17: 2 | AQ17: 0
A18: 13 | C18: 新高尾村２－２ | D18: 77 | E18: - | F18: 1 | G18: 0 | H18: 1 | I18: 0 | J18: x | K18: - | L18: - | M18: - | N18: - | O18: - | P18: - | Q18: 1 | R18: - | S18: - | T18: 1 | U18: 1 | V18: - | W18: - | X18: - | Y18: - | Z18: - | AA18: 0 | AB18: 0 | AC18: 0 | AD18: 0 | AE18: 0 | AF18: 0 | AG18: 0 | AH18: 1 | AI18: 0 | AJ18: 0 | AK18: 0 | AL18: 0 | AM18: 0 | AN18: 1 | AO18: 0 | AP18: 1 | AQ18: 0
A19: 14 | C19: 木瀬村 | D19: 1728 | E19: - | F19: 676 | G19: 392 | H19: 230 | I19: 54 | J19: 48.39 | K19: 407 | L19: 98 | M19: 4 | N19: 94 | O19: 2 | P19: 1 | Q19: 13 | R19: 4 | S19: 8 | T19: 1 | U19: 4 | V19: 9 | W19: - | X19: - | Y19: - | Z19: - | AA19: 13 | AB19: 12 | AC19: 11 | AD19: 12 | AE19: 13 | AF19: 10 | AG19: 0 | AH19: 13 | AI19: 12 | AJ19: 0 | AK19: 0 | AL19: 0 | AM19: 0 | AN19: 13 | AO19: 7 | AP19: 13 | AQ19: 12
A20: 15 | C20: 上陽村２－２ | D20: 491 | E20: - | F20: 227 | G20: 156 | H20: 71 | I20: 0 | J20: 5.44 | K20: 59 | L20: 6 | M20: - | N20: 5 | O20: - | P20: 1 | Q20: 6 | R20: 2 | S20: 4 | T20: - | U20: 4 | V20: 2 | W20: - | X20: - | Y20: - | Z20: - | AA20: 6 | AB20: 5 | AC20: 1 | AD20: 6 | AE20: 6 | AF20: 5 | AG20: 0 | AH20: 6 | AI20: 1 | AJ20: 0 | AK20: 0 | AL20: 0 | AM20: 0 | AN20: 5 | AO20: 1 | AP20: 6 | AQ20: 5
A21: 16 | C21: 荒砥村 | D21: 2483 | E21: 26 | F21: 1193 | G21: 557 | H21: 601 | I21: 35 | J21: 123.95 | K21: 702 | L21: 83 | M21: 8 | N21: 78 | O21: 1 | P21: 1 | Q21: 11 | R21: - | S21: 11 | T21: - | U21: 1 | V21: 8 | W21: 2 | X21: - | Y21: - | Z21: - | AA21: 11 | AB21: 10 | AC21: 10 | AD21: 10 | AE21: 11 | AF21: 10 | AG21: 0 | AH21: 11 | AI21: 5 | AJ21: 7 | AK21: 3 | AL21: 10 | AM21: 5 | AN21: 11 | AO21: 7 | AP21: 11 | AQ21: 7
A22: 17 | C22: 大胡町 | D22: 1977 | E22: 175 | F22: 830 | G22: 257 | H22: 541 | I22: 32 | J22: 147.3 | K22: 349 | L22: 80 | M22: 5 | N22: 78 | O22: 2 | P22: - | Q22: 11 | R22: 1 | S22: 4 | T22: 6 | U22: 5 | V22: 6 | W22: - | X22: - | Y22: - | Z22: - | AA22: 10 | AB22: 8 | AC22: 8 | AD22: 10 | AE22: 10 | AF22: 10 | AG22: 0 | AH22: 11 | AI22: 3 | AJ22: 8 | AK22: 2 | AL22: 7 | AM22: 4 | AN22: 9 | AO22: 4 | AP22: 11 | AQ22: 9
A23: 18 | C23: 宮城村 | D23: 4797 | E23: 2578 | F23: 1077 | G23: 456 | H23: 545 | I23: 76 | J23: 140.37 | K23: 545 | L23: 117 | M23: 5 | N23: 113 | O23: 1 | P23: 4 | Q23: 7 | R23: 1 | S23: 6 | T23: - | U23: - | V23: 3 | W23: 4 | X23: - | Y23: - | Z23: - | AA23: 7 | AB23: 5 | AC23: 5 | AD23: 7 | AE23: 6 | AF23: 6 | AG23: 0 | AH23: 7 | AI23: 2 | AJ23: 6 | AK23: 4 | AL23: 6 | AM23: 5 | AN23: 7 | AO23: 6 | AP23: 6 | AQ23: 6
A24: 19 | C24: 粕川村 | D24: 2592 | E24: 629 | F24: 1026 | G24: 422 | H24: 578 | I24: 26 | J24: 123.14 | K24: 487 | L24: 101 | M24: 5 | N24: 98 | O24: - | P24: 3 | Q24: 11 | R24: - | S24: 9 | T24: 2 | U24: - | V24: 7 | W24: 4 | X24: - | Y24: - | Z24: - | AA24: 11 | AB24: 9 | AC24: 8 | AD24: 10 | AE24: 8 | AF24: 6 | AG24: 0 | AH24: 11 | AI24: 2 | AJ24: 9 | AK24: 2 | AL24: 9 | AM24: 7 | AN24: 11 | AO24: 8 | AP24: 11 | AQ24: 8
A25: 20 | C25: 富士見村 | D25: 7044 | E25: 3891 | F25: 1504 | G25: 468 | H25: 1022 | I25: 14 | J25: 202.25 | K25: 776 | L25: 100 | M25: 10 | N25: 92 | O25: 1 | P25: 4 | Q25: 30 | R25: - | S25: 19 | T25: 11 | U25: 4 | V25: 19 | W25: 5 | X25: 2 | Y25: - | Z25: - | AA25: 13 | AB25: 22 | AC25: 24 | AD25: 27 | AE25: 28 | AF25: 26 | AG25: 0 | AH25: 29 | AI25: 17 | AJ25: 21 | AK25: 2 | AL25: 9 | AM25: 8 | AN25: 30 | AO25: 16 | AP25: 29 | AQ25: 23
A26: 21 | B26: 高崎市 | C26: 高崎市 | D26: 45941 | E26: 21188 | F26: 7072 | G26: 3080 | H26: 2879 | I26: 1113 | J26: 1624.89 | K26: 4625 | L26: 958 | M26: 104 | N26: 894 | O26: 41 | P26: 12 | Q26: 227 | R26: 48 | S26: 102 | T26: 77 | U26: 83 | V26: 78 | W26: 33 | X26: 26 | Y26: 6 | Z26: 1 | AA26: 118 | AB26: 148 | AC26: 82 | AD26: 167 | AE26: 146 | AF26: 98 | AG26: 19 | AH26: 221 | AI26: 66 | AJ26: 127 | AK26: 26 | AL26: 44 | AM26: 23 | AN26: 152 | AO26: 55 | AP26: 212 | AQ26: 176
A27: 22 | C27: 高崎市（旧） | D27: 3611 | E27: 626 | F27: 168 | G27: 103 | H27: 62 | I27: 3 | J27: 123.36 | K27: 161 | L27: 27 | M27: - | N27: 26 | O27: - | P27: 1 | Q27: 6 | R27: 2 | S27: 2 | T27: 2 | U27: 6 | V27: - | W27: - | X27: - | Y27: - | Z27: - | AA27: 4 | AB27: 3 | AC27: 1 | AD27: 2 | AE27: 3 | AF27: 3 | AG27: 2 | AH27: 6 | AI27: 2 | AJ27: 3 | AK27: 0 | AL27: 0 | AM27: 0 | AN27: 2 | AO27: 2 | AP27: 6 | AQ27: 4
A28: 23 | C28: 六郷村 | D28: 644 | E28: - | F28: 121 | G28: 97 | H28: 22 | I28: 2 | J28: 20.7 | K28: 104 | L28: 12 | M28: 3 | N28: 11 | O28: - | P28: - | Q28: 4 | R28: 3 | S28: 1 | T28: - | U28: 3 | V28: 1 | W28: - | X28: - | Y28: - | Z28: - | AA28: 1 | AB28: 4 | AC28: 1 | AD28: 4 | AE28: 4 | AF28: 4 | AG28: 0 | AH28: 4 | AI28: 0 | AJ28: 0 | AK28: 0 | AL28: 1 | AM28: 1 | AN28: 1 | AO28: 0 | AP28: 4 | AQ28: 4
A29: 24 | C29: 新高尾村２－１ | D29: 499 | E29: - | F29: 140 | G29: 102 | H29: 35 | I29: 3 | J29: 16.74 | K29: 150 | L29: 24 | M29: 1 | N29: 23 | O29: - | P29: - | Q29: 4 | R29: 3 | S29: 1 | T29: - | U29: 3 | V29: 1 | W29: - | X29: - | Y29: - | Z29: - | AA29: 2 | AB29: 4 | AC29: 1 | AD29: 4 | AE29: 4 | AF29: 4 | AG29: 0 | AH29: 4 | AI29: 0 | AJ29: 0 | AK29: 0 | AL29: 0 | AM29: 0 | AN29: 2 | AO29: 0 | AP29: 4 | AQ29: 4
A30: 25 | C30: 中川村 | D30: 591 | E30: - | F30: 109 | G30: 76 | H30: 32 | I30: 1 | J30: 14.1 | K30: 126 | L30: 17 | M30: - | N30: 17 | O30: - | P30: - | Q30: 4 | R30: 2 | S30: 2 | T30: - | U30: 3 | V30: 1 | W30: - | X30: - | Y30: - | Z30: - | AA30: 2 | AB30: 4 | AC30: 1 | AD30: 4 | AE30: 4 | AF30: 4 | AG30: 0 | AH30: 4 | AI30: 0 | AJ30: 1 | AK30: 0 | AL30: 2 | AM30: 1 | AN30: 0 | AO30: 0 | AP30: 4 | AQ30: 4
A31: 26 | C31: 八幡村（碓氷郡） | D31: 857 | E31: 86 | F31: 179 | G31: 66 | H31: 95 | I31: 18 | J31: 24.89 | K31: 109 | L31: 30 | M31: - | N31: 29 | O31: 1 | P31: 1 | Q31: 9 | R31: 2 | S31: 4 | T31: 3 | U31: 7 | V31: 2 | W31: - | X31: - | Y31: - | Z31: - | AA31: 5 | AB31: 5 | AC31: 5 | AD31: 5 | AE31: 5 | AF31: 3 | AG31: 2 | AH31: 8 | AI31: 4 | AJ31: 4 | AK31: 1 | AL31: 0 | AM31: 0 | AN31: 0 | AO31: 0 | AP31: 9 | AQ31: 7
A32: 27 | C32: 豊岡村 | D32: 384 | E32: - | F32: 40 | G32: 24 | H32: 15 | I32: 1 | J32: 4.42 | K32: 32 | L32: 10 | M32: - | N32: 10 | O32: - | P32: - | Q32: 3 | R32: 2 | S32: 1 | T32: - | U32: 3 | V32: - | W32: - | X32: - | Y32: - | Z32: - | AA32: 1 | AB32: 2 | AC32: 1 | AD32: 1 | AE32: 1 | AF32: 2 | AG32: 1 | AH32: 3 | AI32: 0 | AJ32: 0 | AK32: 0 | AL32: 0 | AM32: 0 | AN32: 0 | AO32: 0 | AP32: 3 | AQ32: 3
A33: 28 | C33: 長野村 | D33: 600 | E33: - | F33: 231 | G33: 184 | H33: 45 | I33: 2 | J33: 23.87 | K33: 177 | L33: 38 | M33: 3 | N33: 35 | O33: - | P33: - | Q33: 8 | R33: 8 | S33: - | T33: - | U33: 3 | V33: 5 | W33: - | X33: - | Y33: - | Z33: - | AA33: 7 | AB33: 5 | AC33: 4 | AD33: 5 | AE33: 4 | AF33: 5 | AG33: 0 | AH33: 8 | AI33: 5 | AJ33: 0 | AK33: 0 | AL33: 2 | AM33: 2 | AN33: 0 | AO33: 0 | AP33: 8 | AQ33: 8
A34: 29 | C34: 大類村 | D34: 667 | E34: - | F34: 251 | G34: 202 | H34: 46 | I34: 3 | J34: 7.68 | K34: 195 | L34: 13 | M34: 2 | N34: 12 | O34: - | P34: - | Q34: 6 | R34: 5 | S34: 1 | T34: - | U34: 1 | V34: 5 | W34: - | X34: - | Y34: - | Z34: - | AA34: 6 | AB34: 3 | AC34: 1 | AD34: 4 | AE34: 2 | AF34: 2 | AG34: 0 | AH34: 6 | AI34: 2 | AJ34: 2 | AK34: 0 | AL34: 0 | AM34: 0 | AN34: 1 | AO34: 1 | AP34: 6 | AQ34: 6
A35: 30 | C35: 八幡村（多野郡） | D35: 971 | E35: 168 | F35: 217 | G35: 133 | H35: 72 | I35: 12 | J35: 32.61 | K35: 195 | L35: 28 | M35: - | N35: 27 | O35: - | P35: 1 | Q35: 4 | R35: 1 | S35: 3 | T35: - | U35: 1 | V35: 2 | W35: 1 | X35: - | Y35: - | Z35: - | AA35: 3 | AB35: 3 | AC35: 2 | AD35: 1 | AE35: 3 | AF35: 2 | AG35: 1 | AH35: 4 | AI35: 0 | AJ35: 2 | AK35: 0 | AL35: 1 | AM35: 1 | AN35: 2 | AO35: 0 | AP35: 4 | AQ35: 4
A36: 31 | C36: 岩鼻村 | D36: 583 | E36: - | F36: 138 | G36: 102 | H36: 36 | I36: 0 | J36: 7.45 | K36: 136 | L36: 12 | M36: 1 | N36: 11 | O36: - | P36: - | Q36: 6 | R36: 3 | S36: 1 | T36: 2 | U36: 3 | V36: 3 | W36: - | X36: - | Y36: - | Z36: - | AA36: 4 | AB36: 2 | AC36: 0 | AD36: 0 | AE36: 0 | AF36: 0 | AG36: 2 | AH36: 6 | AI36: 1 | AJ36: 2 | AK36: 0 | AL36: 0 | AM36: 0 | AN36: 0 | AO36: 0 | AP36: 6 | AQ36: 4
A37: 32 | C37: 倉賀野町 | D37: 432 | E37: - | F37: 28 | G37: 17 | H37: 11 | I37: 0 | J37: 1.23 | K37: 30 | L37: - | M37: - | N37: - | O37: - | P37: - | Q37: 6 | R37: 1 | S37: 4 | T37: 1 | U37: 6 | V37: - | W37: - | X37: - | Y37: - | Z37: - | AA37: 2 | AB37: 3 | AC37: 0 | AD37: 2 | AE37: 3 | AF37: 0 | AG37: 1 | AH37: 5 | AI37: 2 | AJ37: 1 | AK37: 0 | AL37: 1 | AM37: 1 | AN37: 0 | AO37: 0 | AP37: 6 | AQ37: 2
A38: 33 | C38: 京ケ島村 | D38: 665 | E38: - | F38: 232 | G38: 178 | H38: 52 | I38: 2 | J38: 10.66 | K38: 214 | L38: 19 | M38: 1 | N38: 18 | O38: - | P38: - | Q38: 8 | R38: 7 | S38: 1 | T38: - | U38: 4 | V38: 4 | W38: - | X38: - | Y38: - | Z38: - | AA38: 6 | AB38: 5 | AC38: 1 | AD38: 8 | AE38: 8 | AF38: 8 | AG38: 0 | AH38: 8 | AI38: 0 | AJ38: 0 | AK38: 0 | AL38: 0 | AM38: 0 | AN38: 4 | AO38: 1 | AP38: 8 | AQ38: 5
A39: 34 | C39: 滝川村２－１ | D39: 568 | E39: - | F39: 195 | G39: 126 | H39: 56 | I39: 13 | J39: 12.87 | K39: 156 | L39: 12 | M39: 1 | N39: 12 | O39: 1 | P39: - | Q39: 8 | R39: 3 | S39: 5 | T39: - | U39: 1 | V39: 7 | W39: - | X39: - | Y39: - | Z39: - | AA39: 8 | AB39: 5 | AC39: 2 | AD39: 5 | AE39: 4 | AF39: 5 | AG39: 0 | AH39: 8 | AI39: 2 | AJ39: 3 | AK39: 0 | AL39: 0 | AM39: 0 | AN39: 6 | AO39: 1 | AP39: 8 | AQ39: 8
A40: 35 | C40: 倉田村 | D40: 3914 | E40: 2827 | F40: 360 | G40: 116 | H40: 241 | I40: 3 | J40: 93.75 | K40: 162 | L40: 45 | M40: 2 | N40: 44 | O40: - | P40: - | Q40: 11 | R40: - | S40: 6 | T40: 5 | U40: - | V40: 1 | W40: 4 | X40: 3 | Y40: 3 | Z40: - | AA40: 11 | AB40: 11 | AC40: 6 | AD40: 11 | AE40: 4 | AF40: 1 | AG40: 0 | AH40: 11 | AI40: 11 | AJ40: 11 | AK40: 5 | AL40: 0 | AM40: 0 | AN40: 11 | AO40: 11 | AP40: 11 | AQ40: 11
...

Sheet 2015
A1: 農山村地域調査
A2: １ 総土地面積及び林野面積
D3: 1 | E3: 2 | F3: 3 | G3: 4 | H3: 5 | I3: 6 | J3: 7 | K3: 8 | L3: 9 | M3: 10 | N3: 11 | O3: 12 | P3: 13 | Q3: 14 | R3: 15 | S3: 16 | T3: 17 | U3: 18 | V3: 19 | W3: 20 | X3: 21 | Y3: 22 | Z3: 23 | AA3: 24 | AB3: 25 | AC3: 26 | AD3: 27 | AE3: 28 | AF3: 29 | AG3: 30 | AH3: 31 | AI3: 32 | AJ3: 33 | AK3: 34 | AL3: 35 | AM3: 36 | AN3: 37 | AO3: 38 | AP3: 39 | AQ3: 40 | AR3: 41 | AS3: 42 | AT3: 43 | AU3: 44 | AV3: 45
D4: 総土地面積 | F4: 耕地面積 | K4: 生産関連 | Q4: 水田率 | U4: 農家率 | Y4: 寄り合いの議題_農業生産にかかる事項 | AH4: 保全管理
A5: 新旧市区町村 | D5: 総土地 面 積 | E5: 林野面積 | F5: 耕地面積 | G5: 田面積 | H5: 畑面積 | I5: 樹園地面積 | J5: 耕作 放棄地 面積 | K5: 計 | L5: 農業生産関連事業を行っている実経営体数 | M5: 事業種類別_農産物の加工 | N5: 事業種類別_消費者に直接販売 | O5: 事業種類別_観光農園 | P5: その他 | Q5: 計 | R5: 水田集落 （70％以上） | S5: 田畑集落 （30～70） | T5: 畑地集落 （30％未満） | U5: 10％未満 | V5: 10～30 | W5: 30～50 | X5: 50～70 | Y5: 70～90 | Z5: 90％以上 | AA5: 寄り合いの議題_農業生産にかかる事項 | AB5: 寄り合いの議題_農道・農業用用排水路・ため池の管理 | AC5: 寄り合いの議題_集落共有財産・共用施設の管理 | AD5: 寄り合いの議題_環境美化・自然環境の保全 | AE5: 寄り合いの議題_農業集落行事（祭り・イベント等）の計画・推進 | AF5: 寄り合いの議題_農業集落内の福祉・厚生 | AG5: 寄り合いを開催しなかった | AH5: 農地_ある | AI5: 農地_保全している | AJ5: 森林_ある | AK5: 森林_保全している | AL5: ため池・湖沼_ある | AM5: ため池・湖沼_保全している | AN5: 河川・水路_ある | AO5: 河川・水路_保全している | AP5: 農業用用排水路_ある | AQ5: 農業用用排水路_保全している
A6: 1 | B6: 県計 | C6: 群馬県 | D6: 636228 | E6: 408064 | F6: 72644 | G6: 27245 | H6: 41800 | I6: 3599 | J6: 14041.75 | K6: 26235 | L6: 5186 | M6: 502 | N6: 4968 | O6: 342 | P6: 151 | Q6: 1964 | R6: 313 | S6: 713 | T6: 938 | U6: 709 | V6: 705 | W6: 380 | X6: 139 | Y6: 25 | Z6: 6 | AA6: 959 | AB6: 1482 | AC6: 1185 | AD6: 1788 | AE6: 1749 | AF6: 1394 | AG6: 50 | AH6: 1917 | AI6: 499 | AJ6: 1305 | AK6: 223 | AL6: 508 | AM6: 234 | AN6: 1637 | AO6: 689 | AP6: 1645 | AQ6: 1309
A7: 2 | B7: 前橋市 | C7: 前橋市 | D7: 31159 | E7: 7466 | F7: 9110 | G7: 4040 | H7: 4778 | I7: 292 | J7: 1175.03 | K7: 3862 | L7: 781 | M7: 39 | N7: 762 | O7: 13 | P7: 13 | Q7: 146 | R7: 22 | S7: 95 | T7: 29 | U7: 56 | V7: 74 | W7: 15 | X7: 1 | Y7: - | Z7: - | AA7: 126 | AB7: 133 | AC7: 132 | AD7: 145 | AE7: 142 | AF7: 140 | AG7: 0 | AH7: 145 | AI7: 58 | AJ7: 64 | AK7: 17 | AL7: 55 | AM7: 41 | AN7: 141 | AO7: 85 | AP7: 141 | AQ7: 117
A8: 3 | C8: 前橋市（旧） | D8: 1220 | E8: - | F8: … | G8: … | H8: … | I8: … | J8: x | K8: 30 | L8: 3 | M8: - | N8: 3 | O8: - | P8: - | Q8: - | R8: - | S8: - | T8: - | U8: - | V8: - | W8: - | X8: - | Y8: - | Z8: - | AA8: … | AB8: … | AC8: … | AD8: … | AE8: … | AF8: … | AG8: … | AH8: … | AI8: … | AJ8: … | AK8: … | AL8: … | AM8: … | AN8: … | AO8: … | AP8: … | AQ8: …
A9: 4 | C9: 上川渕村 | D9: 799 | E9: - | F9: 398 | G9: 297 | H9: 101 | I9: 0 | J9: 12.99 | K9: 168 | L9: 35 | M9: 4 | N9: 34 | O9: 1 | P9: - | Q9: 7 | R9: 5 | S9: 2 | T9: - | U9: 3 | V9: 4 | W9: - | X9: - | Y9: - | Z9: - | AA9: 7 | AB9: 7 | AC9: 7 | AD9: 7 | AE9: 7 | AF9: 6 | AG9: 0 | AH9: 7 | AI9: 2 | AJ9: 1 | AK9: 0 | AL9: 0 | AM9: 0 | AN9: 7 | AO9: 1 | AP9: 7 | AQ9: 7
A10: 5 | C10: 下川渕村 | D10: 920 | E10: 3 | F10: 427 | G10: 286 | H10: 136 | I10: 5 | J10: 12.15 | K10: 131 | L10: 25 | M10: 1 | N10: 24 | O10: - | P10: - | Q10: 12 | R10: 3 | S10: 9 | T10: - | U10: 6 | V10: 6 | W10: - | X10: - | Y10: - | Z10: - | AA10: 12 | AB10: 12 | AC10: 12 | AD10: 12 | AE10: 12 | AF10: 12 | AG10: 0 | AH10: 12 | AI10: 6 | AJ10: 0 | AK10: 0 | AL10: 0 | AM10: 0 | AN10: 10 | AO10: 6 | AP10: 12 | AQ10: 10
A11: 6 | C11: 南橘村 | D11: 1547 | E11: 21 | F11: 222 | G11: 70 | H11: 143 | I11: 9 | J11: 65.55 | K11: 124 | L11: 22 | M11: 2 | N11: 22 | O11: 1 | P11: 2 | Q11: 6 | R11: 2 | S11: 3 | T11: 1 | U11: 4 | V11: 2 | W11: - | X11: - | Y11: - | Z11: - | AA11: 6 | AB11: 6 | AC11: 5 | AD11: 6 | AE11: 6 | AF11: 5 | AG11: 0 | AH11: 6 | AI11: 6 | AJ11: 2 | AK11: 1 | AL11: 1 | AM11: 1 | AN11: 6 | AO11: 6 | AP11: 6 | AQ11: 6
A12: 7 | C12: 芳賀村 | D12: 1610 | E12: 182 | F12: 629 | G12: 192 | H12: 394 | I12: 43 | J12: 133.2 | K12: 295 | L12: 49 | M12: 2 | N12: 48 | O12: 1 | P12: - | Q12: 9 | R12: 1 | S12: 4 | T12: 4 | U12: 1 | V12: 6 | W12: 2 | X12: - | Y12: - | Z12: - | AA12: 7 | AB12: 9 | AC12: 9 | AD12: 9 | AE12: 9 | AF12: 8 | AG12: 0 | AH12: 9 | AI12: 2 | AJ12: 6 | AK12: 1 | AL12: 7 | AM12: 4 | AN12: 9 | AO12: 3 | AP12: 9 | AQ12: 7
A13: 8 | C13: 桂萓村 | D13: 1674 | E13: 20 | F13: 585 | G13: 307 | H13: 268 | I13: 10 | J13: 71.41 | K13: 273 | L13: 46 | M13: - | N13: 46 | O13: - | P13: - | Q13: 13 | R13: 3 | S13: 9 | T13: 1 | U13: 10 | V13: 3 | W13: - | X13: - | Y13: - | Z13: - | AA13: 13 | AB13: 13 | AC13: 13 | AD13: 13 | AE13: 13 | AF13: 13 | AG13: 0 | AH13: 13 | AI13: 2 | AJ13: 3 | AK13: 0 | AL13: 4 | AM13: 4 | AN13: 13 | AO13: 10 | AP13: 13 | AQ13: 11
A14: 9 | C14: 東村（前橋市） | D14: 686 | E14: - | F14: 23 | G14: 16 | H14: 7 | I14: - | J14: 19.98 | K14: 46 | L14: 17 | M14: - | N14: 17 | O14: - | P14: - | Q14: 1 | R14: - | S14: 1 | T14: - | U14: 1 | V14: - | W14: - | X14: - | Y14: - | Z14: - | AA14: 1 | AB14: 1 | AC14: 1 | AD14: 1 | AE14: 1 | AF14: 1 | AG14: 0 | AH14: 1 | AI14: 0 | AJ14: 0 | AK14: 0 | AL14: 0 | AM14: 0 | AN14: 1 | AO14: 0 | AP14: 1 | AQ14: 0
A15: 10 | C15: 元総社村 | D15: 473 | E15: - | F15: 24 | G15: 0 | H15: 24 | I15: - | J15: 27.32 | K15: 14 | L15: 1 | M15: - | N15: 1 | O15: - | P15: - | Q15: 1 | R15: - | S15: - | T15: 1 | U15: 1 | V15: - | W15: - | X15: - | Y15: - | Z15: - | AA15: 1 | AB15: 1 | AC15: 0 | AD15: 1 | AE15: 1 | AF15: 1 | AG15: 0 | AH15: 1 | AI15: 0 | AJ15: 0 | AK15: 0 | AL15: 0 | AM15: 0 | AN15: 1 | AO15: 1 | AP15: 1 | AQ15: 1
A16: 11 | C16: 総社町 | D16: 641 | E16: - | F16: 53 | G16: 11 | H16: 42 | I16: - | J16: 25.9 | K16: 26 | L16: 1 | M16: - | N16: 1 | O16: - | P16: - | Q16: 2 | R16: - | S16: 1 | T16: 1 | U16: 2 | V16: - | W16: - | X16: - | Y16: - | Z16: - | AA16: 2 | AB16: 2 | AC16: 2 | AD16: 2 | AE16: 2 | AF16: 2 | AG16: 0 | AH16: 2 | AI16: 0 | AJ16: 0 | AK16: 0 | AL16: 0 | AM16: 0 | AN16: 2 | AO16: 1 | AP16: 2 | AQ16: 1
A17: 12 | C17: 清里村 | D17: 393 | E17: - | F17: 211 | G17: 56 | H17: 147 | I17: 8 | J17: 34.21 | K17: 108 | L17: 18 | M17: 2 | N17: 17 | O17: - | P17: - | Q17: 5 | R17: - | S17: 3 | T17: 2 | U17: 2 | V17: 3 | W17: - | X17: - | Y17: - | Z17: - | AA17: 5 | AB17: 1 | AC17: 3 | AD17: 5 | AE17: 5 | AF17: 5 | AG17: 0 | AH17: 5 | AI17: 1 | AJ17: 0 | AK17: 0 | AL17: 0 | AM17: 0 | AN17: 5 | AO17: 3 | AP17: 2 | AQ17: 0
A18: 13 | C18: 新高尾村２－２ | D18: 78 | E18: - | F18: 1 | G18: - | H18: 1 | I18: - | J18: x | K18: - | L18: - | M18: - | N18: - | O18: - | P18: - | Q18: 1 | R18: - | S18: - | T18: 1 | U18: 1 | V18: - | W18: - | X18: - | Y18: - | Z18: - | AA18: 0 | AB18: 1 | AC18: 1 | AD18: 1 | AE18: 1 | AF18: 1 | AG18: 0 | AH18: 1 | AI18: 0 | AJ18: 0 | AK18: 0 | AL18: 0 | AM18: 0 | AN18: 1 | AO18: 0 | AP18: 1 | AQ18: 0
A19: 14 | C19: 木瀬村 | D19: 1719 | E19: - | F19: 685 | G19: 407 | H19: 226 | I19: 52 | J19: 48.16 | K19: 229 | L19: 84 | M19: 4 | N19: 83 | O19: 2 | P19: 1 | Q19: 13 | R19: 4 | S19: 8 | T19: 1 | U19: 6 | V19: 7 | W19: - | X19: - | Y19: - | Z19: - | AA19: 13 | AB19: 13 | AC19: 13 | AD19: 13 | AE19: 13 | AF19: 13 | AG19: 0 | AH19: 13 | AI19: 7 | AJ19: 0 | AK19: 0 | AL19: 0 | AM19: 0 | AN19: 13 | AO19: 10 | AP19: 13 | AQ19: 13
A20: 15 | C20: 上陽村２－２ | D20: 490 | E20: - | F20: 234 | G20: 163 | H20: 71 | I20: - | J20: 4.61 | K20: 46 | L20: 6 | M20: 1 | N20: 4 | O20: - | P20: 1 | Q20: 6 | R20: 2 | S20: 4 | T20: - | U20: 6 | V20: - | W20: - | X20: - | Y20: - | Z20: - | AA20: 6 | AB20: 6 | AC20: 6 | AD20: 6 | AE20: 6 | AF20: 6 | AG20: 0 | AH20: 6 | AI20: 2 | AJ20: 0 | AK20: 0 | AL20: 0 | AM20: 0 | AN20: 5 | AO20: 2 | AP20: 6 | AQ20: 6
A21: 16 | C21: 荒砥村 | D21: 2489 | E21: 26 | F21: 1189 | G21: 576 | H21: 587 | I21: 26 | J21: 117.89 | K21: 478 | L21: 98 | M21: 3 | N21: 97 | O21: 2 | P21: 2 | Q21: 11 | R21: - | S21: 11 | T21: - | U21: - | V21: 10 | W21: 1 | X21: - | Y21: - | Z21: - | AA21: 11 | AB21: 11 | AC21: 11 | AD21: 11 | AE21: 11 | AF21: 11 | AG21: 0 | AH21: 11 | AI21: 7 | AJ21: 7 | AK21: 3 | AL21: 10 | AM21: 6 | AN21: 11 | AO21: 8 | AP21: 11 | AQ21: 8
A22: 17 | C22: 大胡町 | D22: 1979 | E22: 173 | F22: 825 | G22: 267 | H22: 530 | I22: 28 | J22: 139.5 | K22: 308 | L22: 89 | M22: 4 | N22: 87 | O22: 1 | P22: - | Q22: 11 | R22: 1 | S22: 5 | T22: 5 | U22: 6 | V22: 5 | W22: - | X22: - | Y22: - | Z22: - | AA22: 9 | AB22: 9 | AC22: 9 | AD22: 10 | AE22: 10 | AF22: 10 | AG22: 0 | AH22: 11 | AI22: 4 | AJ22: 8 | AK22: 2 | AL22: 7 | AM22: 5 | AN22: 9 | AO22: 5 | AP22: 11 | AQ22: 9
A23: 18 | C23: 宮城村 | D23: 4816 | E23: 2558 | F23: 1079 | G23: 470 | H23: 534 | I23: 75 | J23: 128.22 | K23: 494 | L23: 91 | M23: 4 | N23: 86 | O23: 1 | P23: 3 | Q23: 7 | R23: 1 | S23: 6 | T23: - | U23: - | V23: 3 | W23: 4 | X23: - | Y23: - | Z23: - | AA23: 6 | AB23: 6 | AC23: 6 | AD23: 7 | AE23: 7 | AF23: 7 | AG23: 0 | AH23: 7 | AI23: 4 | AJ23: 6 | AK23: 2 | AL23: 6 | AM23: 5 | AN23: 7 | AO23: 6 | AP23: 6 | AQ23: 6
A24: 19 | C24: 粕川村 | D24: 2577 | E24: 624 | F24: 1027 | G24: 438 | H24: 566 | I24: 23 | J24: 126.16 | K24: 406 | L24: 75 | M24: 7 | N24: 73 | O24: 3 | P24: 2 | Q24: 11 | R24: - | S24: 9 | T24: 2 | U24: 1 | V24: 8 | W24: 2 | X24: - | Y24: - | Z24: - | AA24: 10 | AB24: 9 | AC24: 9 | AD24: 11 | AE24: 9 | AF24: 9 | AG24: 0 | AH24: 11 | AI24: 2 | AJ24: 9 | AK24: 1 | AL24: 9 | AM24: 8 | AN24: 11 | AO24: 7 | AP24: 11 | AQ24: 7
A25: 20 | C25: 富士見村 | D25: 7048 | E25: 3859 | F25: 1498 | G25: 484 | H25: 1001 | I25: 13 | J25: 199.06 | K25: 686 | L25: 121 | M25: 5 | N25: 119 | O25: 1 | P25: 2 | Q25: 30 | R25: - | S25: 20 | T25: 10 | U25: 6 | V25: 17 | W25: 6 | X25: 1 | Y25: - | Z25: - | AA25: 17 | AB25: 26 | AC25: 25 | AD25: 30 | AE25: 29 | AF25: 30 | AG25: 0 | AH25: 29 | AI25: 13 | AJ25: 22 | AK25: 7 | AL25: 11 | AM25: 8 | AN25: 30 | AO25: 16 | AP25: 29 | AQ25: 25
A26: 21 | B26: 高崎市 | C26: 高崎市 | D26: 45916 | E26: 21364 | F26: 6620 | G26: 2900 | H26: 2665 | I26: 1055 | J26: 1851.44 | K26: 3539 | L26: 706 | M26: 77 | N26: 664 | O26: 22 | P26: 7 | Q26: 215 | R26: 48 | S26: 98 | T26: 69 | U26: 85 | V26: 69 | W26: 33 | X26: 25 | Y26: 3 | Z26: - | AA26: 118 | AB26: 183 | AC26: 83 | AD26: 195 | AE26: 170 | AF26: 158 | AG26: 9 | AH26: 215 | AI26: 72 | AJ26: 126 | AK26: 26 | AL26: 44 | AM26: 27 | AN26: 150 | AO26: 64 | AP26: 204 | AQ26: 174
A27: 22 | C27: 高崎市（旧） | D27: 3607 | E27: 677 | F27: 157 | G27: 97 | H27: 57 | I27: 3 | J27: 127.28 | K27: 113 | L27: 16 | M27: 1 | N27: 15 | O27: - | P27: - | Q27: 6 | R27: 2 | S27: 2 | T27: 2 | U27: 6 | V27: - | W27: - | X27: - | Y27: - | Z27: - | AA27: 5 | AB27: 6 | AC27: 2 | AD27: 6 | AE27: 6 | AF27: 6 | AG27: 0 | AH27: 6 | AI27: 3 | AJ27: 3 | AK27: 1 | AL27: 0 | AM27: 0 | AN27: 3 | AO27: 3 | AP27: 6 | AQ27: 5
A28: 23 | C28: 六郷村 | D28: 652 | E28: - | F28: 112 | G28: 90 | H28: 20 | I28: 2 | J28: 24.44 | K28: 75 | L28: 9 | M28: 1 | N28: 8 | O28: - | P28: - | Q28: 4 | R28: 3 | S28: 1 | T28: - | U28: 4 | V28: - | W28: - | X28: - | Y28: - | Z28: - | AA28: 1 | AB28: 4 | AC28: 1 | AD28: 4 | AE28: 4 | AF28: 4 | AG28: 0 | AH28: 4 | AI28: 0 | AJ28: 0 | AK28: 0 | AL28: 1 | AM28: 1 | AN28: 1 | AO28: 0 | AP28: 4 | AQ28: 4
A29: 24 | C29: 新高尾村２－１ | D29: 498 | E29: - | F29: 130 | G29: 96 | H29: 31 | I29: 3 | J29: 21.41 | K29: 111 | L29: 13 | M29: - | N29: 13 | O29: - | P29: - | Q29: 4 | R29: 3 | S29: 1 | T29: - | U29: 3 | V29: 1 | W29: - | X29: - | Y29: - | Z29: - | AA29: 2 | AB29: 4 | AC29: 1 | AD29: 4 | AE29: 4 | AF29: 4 | AG29: 0 | AH29: 4 | AI29: 0 | AJ29: 0 | AK29: 0 | AL29: 0 | AM29: 0 | AN29: 2 | AO29: 0 | AP29: 4 | AQ29: 4
A30: 25 | C30: 中川村 | D30: 596 | E30: - | F30: 102 | G30: 72 | H30: 29 | I30: 1 | J30: 20.54 | K30: 83 | L30: 13 | M30: - | N30: 13 | O30: - | P30: - | Q30: 4 | R30: 2 | S30: 2 | T30: - | U30: 3 | V30: 1 | W30: - | X30: - | Y30: - | Z30: - | AA30: 2 | AB30: 4 | AC30: 1 | AD30: 4 | AE30: 4 | AF30: 4 | AG30: 0 | AH30: 4 | AI30: 0 | AJ30: 1 | AK30: 0 | AL30: 2 | AM30: 1 | AN30: 1 | AO30: 0 | AP30: 4 | AQ30: 4
A31: 26 | C31: 八幡村（碓氷郡） | D31: 859 | E31: 91 | F31: 167 | G31: 63 | H31: 87 | I31: 17 | J31: 27.11 | K31: 81 | L31: 23 | M31: 2 | N31: 22 | O31: 1 | P31: - | Q31: 8 | R31: 2 | S31: 4 | T31: 2 | U31: 6 | V31: 2 | W31: - | X31: - | Y31: - | Z31: - | AA31: 6 | AB31: 7 | AC31: 4 | AD31: 6 | AE31: 5 | AF31: 5 | AG31: 1 | AH31: 8 | AI31: 4 | AJ31: 4 | AK31: 1 | AL31: 0 | AM31: 0 | AN31: 0 | AO31: 0 | AP31: 8 | AQ31: 6
A32: 27 | C32: 豊岡村 | D32: 374 | E32: - | F32: 38 | G32: 23 | H32: 14 | I32: 1 | J32: 6.84 | K32: 20 | L32: 2 | M32: - | N32: 2 | O32: - | P32: - | Q32: 3 | R32: 2 | S32: 1 | T32: - | U32: 3 | V32: - | W32: - | X32: - | Y32: - | Z32: - | AA32: 2 | AB32: 2 | AC32: 0 | AD32: 2 | AE32: 1 | AF32: 2 | AG32: 1 | AH32: 3 | AI32: 0 | AJ32: 0 | AK32: 0 | AL32: 0 | AM32: 0 | AN32: 0 | AO32: 0 | AP32: 3 | AQ32: 2
A33: 28 | C33: 長野村 | D33: 589 | E33: - | F33: 220 | G33: 174 | H33: 44 | I33: 2 | J33: 40.25 | K33: 116 | L33: 26 | M33: 3 | N33: 25 | O33: - | P33: - | Q33: 8 | R33: 8 | S33: - | T33: - | U33: 6 | V33: 2 | W33: - | X33: - | Y33: - | Z33: - | AA33: 6 | AB33: 8 | AC33: 3 | AD33: 8 | AE33: 6 | AF33: 7 | AG33: 0 | AH33: 8 | AI33: 6 | AJ33: 0 | AK33: 0 | AL33: 2 | AM33: 1 | AN33: 0 | AO33: 0 | AP33: 8 | AQ33: 8
A34: 29 | C34: 大類村 | D34: 669 | E34: - | F34: 235 | G34: 191 | H34: 43 | I34: 1 | J34: 16.18 | K34: 139 | L34: 12 | M34: 3 | N34: 11 | O34: - | P34: - | Q34: 6 | R34: 5 | S34: 1 | T34: - | U34: 1 | V34: 5 | W34: - | X34: - | Y34: - | Z34: - | AA34: 6 | AB34: 6 | AC34: 1 | AD34: 6 | AE34: 3 | AF34: 6 | AG34: 0 | AH34: 6 | AI34: 1 | AJ34: 2 | AK34: 0 | AL34: 0 | AM34: 0 | AN34: 1 | AO34: 1 | AP34: 6 | AQ34: 6
A35: 30 | C35: 八幡村（多野郡） | D35: 976 | E35: 174 | F35: 204 | G35: 125 | H35: 67 | I35: 12 | J35: 36.4 | K35: 151 | L35: 18 | M35: 1 | N35: 17 | O35: - | P35: - | Q35: 4 | R35: 1 | S35: 3 | T35: - | U35: 1 | V35: 3 | W35: - | X35: - | Y35: - | Z35: - | AA35: 3 | AB35: 3 | AC35: 2 | AD35: 3 | AE35: 3 | AF35: 3 | AG35: 1 | AH35: 4 | AI35: 2 | AJ35: 2 | AK35: 0 | AL35: 1 | AM35: 1 | AN35: 2 | AO35: 0 | AP35: 4 | AQ35: 3
A36: 31 | C36: 岩鼻村 | D36: 581 | E36: - | F36: 131 | G36: 97 | H36: 34 | I36: - | J36: 11.85 | K36: 93 | L36: 5 | M36: - | N36: 5 | O36: - | P36: - | Q36: 5 | R36: 3 | S36: 1 | T36: 1 | U36: 3 | V36: 2 | W36: - | X36: - | Y36: - | Z36: - | AA36: 4 | AB36: 2 | AC36: 2 | AD36: 4 | AE36: 3 | AF36: 4 | AG36: 1 | AH36: 5 | AI36: 0 | AJ36: 2 | AK36: 0 | AL36: 0 | AM36: 0 | AN36: 0 | AO36: 0 | AP36: 5 | AQ36: 2
A37: 32 | C37: 倉賀野町 | D37: 426 | E37: - | F37: … | G37: … | H37: … | I37: … | J37: 3.46 | K37: 20 | L37: 4 | M37: 1 | N37: 4 | O37: - | P37: - | Q37: - | R37: - | S37: - | T37: - | U37: - | V37: - | W37: - | X37: - | Y37: - | Z37: - | AA37: … | AB37: … | AC37: … | AD37: … | AE37: … | AF37: … | AG37: … | AH37: … | AI37: … | AJ37: … | AK37: … | AL37: … | AM37: … | AN37: … | AO37: … | AP37: … | AQ37: …
A38: 33 | C38: 京ケ島村 | D38: 665 | E38: - | F38: 218 | G38: 167 | H38: 49 | I38: 2 | J38: 25.25 | K38: 167 | L38: 11 | M38: 1 | N38: 10 | O38: - | P38: - | Q38: 8 | R38: 8 | S38: - | T38: - | U38: 6 | V38: 2 | W38: - | X38: - | Y38: - | Z38: - | AA38: 6 | AB38: 7 | AC38: 4 | AD38: 8 | AE38: 7 | AF38: 7 | AG38: 0 | AH38: 8 | AI38: 2 | AJ38: 0 | AK38: 0 | AL38: 0 | AM38: 0 | AN38: 4 | AO38: 1 | AP38: 8 | AQ38: 6
A39: 34 | C39: 滝川村２－１ | D39: 575 | E39: - | F39: 178 | G39: 120 | H39: 54 | I39: 4 | J39: 16.14 | K39: 122 | L39: 4 | M39: - | N39: 4 | O39: 1 | P39: - | Q39: 8 | R39: 3 | S39: 5 | T39: - | U39: 3 | V39: 5 | W39: - | X39: - | Y39: - | Z39: - | AA39: 7 | AB39: 8 | AC39: 2 | AD39: 7 | AE39: 6 | AF39: 7 | AG39: 0 | AH39: 8 | AI39: 3 | AJ39: 3 | AK39: 0 | AL39: 0 | AM39: 0 | AN39: 6 | AO39: 2 | AP39: 8 | AQ39: 8
A40: 35 | C40: 倉田村 | D40: 3906 | E40: 2850 | F40: 334 | G40: 109 | H40: 223 | I40: 2 | J40: 103.7 | K40: 139 | L40: 38 | M40: 4 | N40: 36 | O40: - | P40: 1 | Q40: 11 | R40: - | S40: 6 | T40: 5 | U40: - | V40: 1 | W40: 5 | X40: 4 | Y40: 1 | Z40: - | AA40: 11 | AB40: 11 | AC40: 6 | AD40: 11 | AE40: 5 | AF40: 3 | AG40: 0 | AH40: 11 | AI40: 11 | AJ40: 11 | AK40: 5 | AL40: 0 | AM40: 0 | AN40: 11 | AO40: 11 | AP40: 11 | AQ40: 11
...

Sheet 指定地域
B1: KCITY_NAME | C1: 森林地域_森林地域 | D1: 農業地域_農業地域 | E1: 都市地域_市街化区域 | F1: 都市地域_市街化調整 | G1: 商業関連 | H1: 工業関連
A2: 1 | B2: 群馬県 | C2: 439160.19 | D2: 321194.42 | E2: 25279.64 | F2: 69580.64 | G2: 2822.22 | H2: 9063.52 | J2: 群馬県
A3: 2 | B3: 前橋市 | C3: 8069.17 | D3: 21211.36 | E3: 4605.45 | F3: 10141.25 | G3: 652.14 | H3: 1253.64 | J3: 前橋市
A4: 3 | B4: 前橋市（旧） | C4: 0 | D4: 1.83 | E4: 1149 | F4: 70.51 | G4: 367.31 | H4: 157.98 | J4: 前橋市（旧）
A5: 4 | B5: 上川渕村 | C5: 0 | D5: 623.77 | E5: 143.97 | F5: 655 | G5: 1.17 | H5: 29.23 | J5: 上川渕村
A6: 5 | B6: 下川渕村 | C6: 6.49 | D6: 743.25 | E6: 46.56 | F6: 873.35 | G6: 14.58 | H6: 119.62 | J6: 下川渕村
A7: 6 | B7: 南橘村 | C7: 25.19 | D7: 595.22 | E7: 828.03 | F7: 711.73 | G7: 7.31 | H7: 101.78 | J7: 南橘村
A8: 7 | B8: 芳賀村 | C8: 220.92 | D8: 1473.73 | E8: 96.18 | F8: 1510.42 | G8: 2.35 | H8: 87.59 | J8: 芳賀村
A9: 8 | B9: 桂萓村 | C9: 30.09 | D9: 1474.29 | E9: 157.75 | F9: 1506.92 | G9: 6.57 | H9: 38.56 | J9: 桂萓村
A10: 9 | B10: 東村（前橋市） | C10: 0 | D10: 2.08 | E10: 608.52 | F10: 77.02 | G10: 36.82 | H10: 78.32 | J10: 東村（前橋市）
A11: 10 | B11: 元総社村 | C11: 0 | D11: 3.66 | E11: 403.82 | F11: 69.36 | G11: 95.37 | H11: 46.57 | J11: 元総社村
A12: 11 | B12: 総社町 | C12: 0 | D12: 80.13 | E12: 485.74 | F12: 151.99 | G12: 47.67 | H12: 194.28 | J12: 総社町
A13: 12 | B13: 清里村 | C13: 0 | D13: 392.95 | E13: 0.46 | F13: 385.05 | G13: 0 | H13: 0.12 | J13: 清里村
... A171: 170 | B171: 上野村 | C171: 17849.48 | D171: 4884.69 | E171: 0 | F171: 0 | G171: 0 | H171: 0 | J171: 上野村
A172: 171 | B172: （上野村） | C172: 17849.48 | D172: 4884.69 | E172: 0 | F172: 0 | G172: 0 | H172: 0
A173: 172 | B173: 神流町 | C173: 10836.74 | D173: 8792.13 | E173: 0 | F173: 0 | G173: 0 | H173: 0 | J173: 神流町
A174: 173 | B174: 万場町 | C174: 5792.36 | D174: 5760.02 | E174: 0 | F174: 0 | G174: 0 | H174: 0 | J174: 万場町
A175: 174 | B175: 中里村 | C175: 5044.38 | D175: 3032.11 | E175: 0 | F175: 0 | G175: 0 | H175: 0 | J175: 中里村
A176: 175 | B176: 下仁田町 | C176: 16523.27 | D176: 13448.22 | E176: 0 | F176: 0 | G176: 0 | H176: 0 | J176: 下仁田町
A177: 176 | B177: 下仁田町（旧） | C177: 1704.89 | D177: 1108.64 | E177: 0 | F177: 0 | G177: 0 | H177: 0 | J177: 下仁田町（旧）
A178: 177 | B178: 馬山村 | C178: 979.93 | D178: 1181.6 | E178: 0 | F178: 0 | G178: 0 | H178: 0 | J178: 馬山村
A179: 178 | B179: 小坂村 | C179: 3250.81 | D179: 3473.22 | E179: 0 | F179: 0 | G179: 0 | H179: 0 | J179: 小坂村
A180: 179 | B180: 西牧村 | C180: 8059.2 | D180: 5301.91 | E180: 0 | F180: 0 | G180: 0 | H180: 0 | J180: 西牧村
A181: 180 | B181: 青倉村 | C181: 2528.44 | D181: 2382.84 | E181: 0 | F181: 0 | G181: 0 | H181: 0 | J181: 青倉村
A182: 181 | B182: 南牧村 | C182: 10633.82 | D182: 7966.43 | E182: 0 | F182: 0 | G182: 0 | H182: 0 | J182: 南牧村
A183: 182 | B183: 月形村 | C183: 2552.04 | D183: 2181.68 | E183: 0 | F183: 0 | G183: 0 | H183: 0 | J183: 月形村
A184: 183 | B184: 尾沢村 | C184: 4413.87 | D184: 2140.77 | E184: 0 | F184: 0 | G184: 0 | H184: 0 | J184: 尾沢村
... A197: 196 | B197: 長野原町 | C197: 10367.68 | D197: 10491.57 | E197: 0 | F197: 0 | G197: 0 | H197: 0 | J197: 長野原町
A198: 197 | B198: （長野原町） | C198: 10367.68 | D198: 10491.57 | E198: 0 | F198: 0 | G198: 0 | H198: 0
A199: 198 | B199: 嬬恋村 | C199: 27427.18 | D199: 16338.34 | E199: 0 | F199: 0 | G199: 0 | H199: 0 | J199: 嬬恋村
A200: 199 | B200: （嬬恋村） | C200: 27427.18 | D200: 16338.34 | E200: 0 | F200: 0 | G200: 0 | H200: 0
A201: 200 | B201: 草津町 | C201: 4069.45 | D201: 386.51 | E201: 0 | F201: 0 | G201: 44.68 | H201: 4.87 | J201: 草津町
A202: 201 | B202: （草津町） | C202: 4069.45 | D202: 386.51 | E202: 0 | F202: 0 | G202: 44.68 | H202: 4.87
A203: 202 | B203: 高山村 | C203: 5033.97 | D203: 4623.64 | E203: 0 | F203: 0 | G203: 0 | H203: 0 | J203: 高山村
A204: 203 | B204: （高山村） | C204: 5033.97 | D204: 4623.64 | E204: 0 | F204: 0 | G204: 0 | H204: 0
A205: 204 | B205: 東吾妻町 | C205: 20932.94 | D205: 16097.7 | E205: 0 | F205: 0 | G205: 22.06 | H205: 61.07 | J205: 東吾妻町
A206: 205 | B206: 東村（東吾妻町） | C206: 2689.45 | D206: 2341.9 | E206: 0 | F206: 0 | G206: 0 | H206: 0 | J206: 東村（東吾妻町）
A207: 206 | B207: 原町 | C207: 2181.44 | D207: 1649.64 | E207: 0 | F207: 0 | G207: 22.06 | H207: 61.07 | J207: 原町
A208: 207 | B208: 太田村 | C208: 2362.56 | D208: 2083.74 | E208: 0 | F208: 0 | G208: 0 | H208: 0 | J208: 太田村
A209: 208 | B209: 岩島村 | C209: 4730.06 | D209: 3330.3 | E209: 0 | F209: 0 | G209: 0 | H209: 0 | J209: 岩島村
...

Sheet 地域類型区分
A2: 1 | B2: 群馬県 | C2: 設定 | D2: されていません | E2: 群馬県
A3: 2 | B3: 前橋市 | C3: 都市的地域 | D3: 田畑型 | E3: 前橋市 | F3: 前橋市 | H3: 1 | I3: 2 | J3: 都市的地域 | K3: 田畑型
A4: 3 | B4: 前橋市（旧） | C4: 都市的地域 | D4: 田畑型 | E4: 前橋市（旧） | F4: 前橋市 | G4: 前橋市 | H4: 1 | I4: 2 | J4: 都市的地域 | K4: 田畑型
A5: 4 | B5: 上川渕村 | C5: 都市的地域 | D5: 水田型 | E5: 上川渕村 | F5: 前橋市 | G5: 上川渕村 | H5: 1 | I5: 1 | J5: 都市的地域 | K5: 水田型
A6: 5 | B6: 下川渕村 | C6: 都市的地域 | D6: 田畑型 | E6: 下川渕村 | F6: 前橋市 | G6: 下川渕村 | H6: 1 | I6: 2 | J6: 都市的地域 | K6: 田畑型
A7: 6 | B7: 南橘村 | C7: 都市的地域 | D7: 田畑型 | E7: 南橘村 | F7: 前橋市 | G7: 南橘村 | H7: 1 | I7: 2 | J7: 都市的地域 | K7: 田畑型
A8: 7 | B8: 芳賀村 | C8: 平地農業地域 | D8: 畑地型 | E8: 芳賀村 | F8: 前橋市 | G8: 芳賀村 | H8: 2 | I8: 3 | J8: 平地農業地域 | K8: 畑地型
A9: 8 | B9: 桂萓村 | C9: 都市的地域 | D9: 田畑型 | E9: 桂萓村 | F9: 前橋市 | G9: 桂萓村 | H9: 1 | I9: 2 | J9: 都市的地域 | K9: 田畑型
A10: 9 | B10: 東村（前橋市） | C10: 都市的地域 | D10: 田畑型 | E10: 東村（前橋市） | F10: 前橋市 | G10: 東村 | H10: 1 | I10: 2 | J10: 都市的地域 | K10: 田畑型
A11: 10 | B11: 元総社村 | C11: 都市的地域 | D11: 畑地型 | E11: 元総社村 | F11: 前橋市 | G11: 元総社村 | H11: 1 | I11: 3 | J11: 都市的地域 | K11: 畑地型
A12: 11 | B12: 総社町 | C12: 都市的地域 | D12: 畑地型 | E12: 総社町 | F12: 前橋市 | G12: 総社町 | H12: 1 | I12: 3 | J12: 都市的地域 | K12: 畑地型
A13: 12 | B13: 清里村 | C13: 平地農業地域 | D13: 畑地型 | E13: 清里村 | F13: 前橋市 | G13: 清里村 | H13: 2 | I13: 3 | J13: 平地農業地域 | K13: 畑地型
A14: 13 | B14: 新高尾村２－２ | C14: 都市的地域 | D14: 畑地型 | E14: 新高尾村２－２ | F14: 前橋市 | G14: 新高尾村２－２ | H14: 1 | I14: 3 | J14: 都市的地域 | K14: 畑地型
A15: 14 | B15: 木瀬村 | C15: 都市的地域 | D15: 田畑型 | E15: 木瀬村 | F15: 前橋市 | G15: 木瀬村 | H15: 1 | I15: 2 | J15: 都市的地域 | K15: 田畑型
... A21: 20 | B21: 富士見村 | C21: 中間農業地域 | D21: 田畑型 | E21: 富士見村 | F21: 前橋市 | G21: 富士見村 | H21: 3 | I21: 2 | J21: 中間農業地域 | K21: 田畑型
A22: 21 | B22: 高崎市 | C22: 都市的地域 | D22: 田畑型 | E22: 高崎市 | F22: 高崎市 | H22: 1 | I22: 2 | J22: 都市的地域 | K22: 田畑型
A23: 22 | B23: 高崎市（旧） | C23: 都市的地域 | D23: 田畑型 | E23: 高崎市（旧） | F23: 高崎市 | G23: 高崎市 | H23: 1 | I23: 2 | J23: 都市的地域 | K23: 田畑型
A24: 23 | B24: 六郷村 | C24: 都市的地域 | D24: 田畑型 | E24: 六郷村 | F24: 高崎市 | G24: 六郷村 | H24: 1 | I24: 2 | J24: 都市的地域 | K24: 田畑型
A25: 24 | B25: 新高尾村２－１ | C25: 都市的地域 | D25: 水田型 | E25: 新高尾村２－１ | F25: 高崎市 | G25: 新高尾村２－１ | H25: 1 | I25: 1 | J25: 都市的地域 | K25: 水田型
A26: 25 | B26: 中川村 | C26: 都市的地域 | D26: 田畑型 | E26: 中川村 | F26: 高崎市 | G26: 中川村 | H26: 1 | I26: 2 | J26: 都市的地域 | K26: 田畑型
A27: 26 | B27: 八幡村（碓氷郡） | C27: 都市的地域 | D27: 田畑型 | E27: 八幡村（碓氷郡） | F27: 高崎市 | G27: 八幡村（碓氷郡） | H27: 1 | I27: 2 | J27: 都市的地域 | K27: 田畑型
A28: 27 | B28: 豊岡村 | C28: 都市的地域 | D28: 田畑型 | E28: 豊岡村 | F28: 高崎市 | G28: 豊岡村 | H28: 1 | I28: 2 | J28: 都市的地域 | K28: 田畑型
A29: 28 | B29: 長野村 | C29: 都市的地域 | D29: 水田型 | E29: 長野村 | F29: 高崎市 | G29: 長野村 | H29: 1 | I29: 1 | J29: 都市的地域 | K29: 水田型
A30: 29 | B30: 大類村 | C30: 都市的地域 | D30: 水田型 | E30: 大類村 | F30: 高崎市 | G30: 大類村 | H30: 1 | I30: 1 | J30: 都市的地域 | K30: 水田型
A31: 30 | B31: 八幡村（多野郡） | C31: 都市的地域 | D31: 田畑型 | E31: 八幡村（多野郡） | F31: 高崎市 | G31: 八幡村（多野郡） | H31: 1 | I31: 2 | J31: 都市的地域 | K31: 田畑型
A32: 31 | B32: 岩鼻村 | C32: 都市的地域 | D32: 水田型 | E32: 岩鼻村 | F32: 高崎市 | G32: 岩鼻村 | H32: 1 | I32: 1 | J32: 都市的地域 | K32: 水田型
A33: 32 | B33: 倉賀野町 | C33: 都市的地域 | D33: 田畑型 | E33: 倉賀野町 | F33: 高崎市 | G33: 倉賀野町 | H33: 1 | I33: 2 | J33: 都市的地域 | K33: 田畑型
A34: 33 | B34: 京ケ島村 | C34: 都市的地域 | D34: 水田型 | E34: 京ケ島村 | F34: 高崎市 | G34: 京ケ島村 | H34: 1 | I34: 1 | J34: 都市的地域 | K34: 水田型
... A53: 52 | B53: 岩平村 | C53: 中間農業地域 | D53: 田畑型 | E53: 岩平村 | F53: 高崎市 | G53: 岩平村 | H53: 3 | I53: 2 | J53: 中間農業地域 | K53: 田畑型
A54: 53 | B54: 桐生市 | C54: 都市的地域 | D54: 田畑型 | E54: 桐生市 | F54: 桐生市 | H54: 1 | I54: 2 | J54: 都市的地域 | K54: 田畑型
A55: 54 | B55: 桐生市（旧） | C55: 都市的地域 | D55: 田畑型 | E55: 桐生市（旧） | F55: 桐生市 | G55: 桐生市 | H55: 1 | I55: 2 | J55: 都市的地域 | K55: 田畑型
A56: 55 | B56: 梅田村 | C56: 山間農業地域 | D56: 田畑型 | E56: 梅田村 | F56: 桐生市 | G56: 梅田村 | H56: 4 | I56: 2 | J56: 山間農業地域 | K56: 田畑型
A57: 56 | B57: 川内村２－１ | C57: 中間農業地域 | D57: 畑地型 | E57: 川内村２－１ | F57: 桐生市 | G57: 川内村２－１ | H57: 3 | I57: 3 | J57: 中間農業地域 | K57: 畑地型
A58: 57 | B58: 相生村 | C58: 都市的地域 | D58: 畑地型 | E58: 相生村 | F58: 桐生市 | G58: 相生村 | H58: 1 | I58: 3 | J58: 都市的地域 | K58: 畑地型
A59: 58 | B59: 菱村 | C59: 山間農業地域 | D59: 田畑型 | E59: 菱村 | F59: 桐生市 | G59: 菱村 | H59: 4 | I59: 2 | J59: 山間農業地域 | K59: 田畑型
A60: 59 | B60: 飛駒村２－２ | C60: 山間農業地域 | D60: 畑地型 | E60: 飛駒村２－２ | F60: 桐生市 | G60: 飛駒村２－２ | H60: 4 | I60: 3 | J60: 山間農業地域 | K60: 畑地型
A61: 60 | B61: 新里村 | C61: 平地農業地域 | D61: 畑地型 | E61: 新里村 | F61: 桐生市 | G61: 新里村 | H61: 2 | I61: 3 | J61: 平地農業地域 | K61: 畑地型
A62: 61 | B62: 黒保根村 | C62: 山間農業地域 | D62: 田畑型 | E62: 黒保根村 | F62: 桐生市 | G62: 黒保根村 | H62: 4 | I62: 2 | J62: 山間農業地域 | K62: 田畑型
A63: 62 | B63: 伊勢崎市 | C63: 都市的地域 | D63: 田畑型 | E63: 伊勢崎市 | F63: 伊勢崎市 | H63: 1 | I63: 2 | J63: 都市的地域 | K63: 田畑型
A64: 63 | B64: 伊勢崎市（旧） | C64: 都市的地域 | D64: 田畑型 | E64: 伊勢崎市（旧） | F64: 伊勢崎市 | G64: 伊勢崎市 | H64: 1 | I64: 2 | J64: 都市的地域 | K64: 田畑型
...

Sheet 元データ
A1: 注意事項 | C1: ･･･ | D1: 空欄追記:『調査外(湖､無人島等)』 | Z1: 別紙 2 | AB1: 市区町村名 | AC1: 旧市区町村 | AD1: 農業集落
C2: ･･･ | D2: 全角変換:『2-1』⇒『2-1』 | K2: =IF(AB2=0,"",AB2) | S2: =IF(AC2=0,"",AC2) | AA2: 栃木県 | AB2: =kadft!F5 -> 0 | AC2: =kadft!J5 | AD2: =#REF! -> #REF!
K3: 市町村 | Q3: 旧市区町村 | V3: 農業集落
A4: 農業集落 | B4: 県 | C4: 市区町村 | D4: 旧市区町村 | E4: 農業集落 | F4: 県名 | G4: 市町村名 | H4: 旧市町村名 | I4: 農業集落名 | K4: 判定１ | O4: 抽出１ | Q4: 判定2 | S4: 抽出2 | V4: 抽出3 | Z4: 通し | AA4: 都県名 | AB4: 市区町村名 | AC4: 旧区市町村名 | AD4: 農業集落名
A5: ｺｰﾄﾞ | B5: 番号 | C5: 番号 | D5: 番号 | E5: 番号 | K5: 判定 | L5: 市区町村名 | M5: 連番 | N5: 補記 | O5: 抽出 | P5: 名 | Q5: 判定 | R5: 名 | S5: 抽出 | T5: 旧区市町村名 | U5: 連番 | V5: 抽出 | W5: 農業集落名 | X5: 連番 | Z5: №
Z6: 0
A7: 1000000000 | B7: 10 | C7: 0 | D7: 0 | E7: 0 | F7: 群馬県 | G7: 群馬県 | K7: =IF(AND($C7>0,$H7=""),"ﾘｽﾄ１","") | L7: =IF(K7="ﾘｽﾄ１",G7,"") | M7: =IF(K7="","",COUNTIF($K7:K$7,"ﾘｽﾄ１")) | N7: =IF(AND(D7=0,E7>0),"同一区","") | O7: =IF(AND(EXACT($K$2,G7),H7>0),"該当１","") | P7: =IF(O7="該当１",G7,"") | Q7: =IF(O7="該当１","ﾘｽﾄ2","") | R7: =IF(Q7="ﾘｽﾄ2",H7,"") | S7: =IF(AND(Q7="ﾘｽﾄ2",OR(I7=0,AND(N7="同一区",E7=1))),"該当２","") | T7: =IF(S7="該当２",H7,"") | U7: =IF(S7="","",COUNTIF($S$7:S7,"該当２")) | V7: =IF(AND($S$2=H7,E7>0,E7<998),"該当３","") | W7: =IF(V7="該当３",I7,"") | X7: =IF(V7="","",COUNTIF($V7:V$7,"該当３")) | Z7: 1 | AA7: 群馬県 | AB7: 前橋市 | AC7: =IF($Z7>MAX($U$7:$U$3715),"",INDEX($T$7:$T$3715,MATCH($Z7,$U$7:$U$3715,0),MATCH($AC$4,$T$5:$U$5,0))) | AD7: =IF($Z7>MAX($X$7:$X$3715),"",INDEX($W$7:$W$3715,MATCH($Z7,$X$7:$X$3715,0),MATCH($AD$4,$W$5:$X$5,0)))
A8: 1020100000 | B8: 10 | C8: 201 | D8: 0 | E8: 0 | F8: 群馬県 | G8: 前橋市 | K8: =IF(AND($C8>0,$H8=""),"ﾘｽﾄ１","") -> ﾘｽﾄ１ | L8: =IF(K8="ﾘｽﾄ１",G8,"") -> 前橋市 | M8: =IF(K8="","",COUNTIF($K$7:K8,"ﾘｽﾄ１")) -> 1 | N8: =IF(AND(D8=0,E8>0),"同一区","") | O8: =IF(AND(EXACT($K$2,G8),H8>0),"該当１","") | P8: =IF(O8="該当１",G8,"") | Q8: =IF(O8="該当１","ﾘｽﾄ2","") | R8: =IF(Q8="ﾘｽﾄ2",H8,"") | S8: =IF(AND(Q8="ﾘｽﾄ2",OR(I8=0,AND(N8="同一区",E8=1))),"該当２","") | T8: =IF(S8="該当２",H8,"") | U8: =IF(S8="","",COUNTIF($S$7:S8,"該当２")) | V8: =IF(AND($S$2=H8,E8>0,E8<998),"該当３","") | W8: =IF(V8="該当３",I8,"") | X8: =IF(V8="","",COUNTIF($V$7:V8,"該当３")) | Z8: 2 | AB8: 高崎市 | AC8: =IF($Z8>MAX($U$7:$U$3715),"",INDEX($T$7:$T$3715,MATCH($Z8,$U$7:$U$3715,0),MATCH($AC$4,$T$5:$U$5,0))) | AD8: =IF($Z8>MAX($X$7:$X$3715),"",INDEX($W$7:$W$3715,MATCH($Z8,$X$7:$X$3715,0),MATCH($AD$4,$W$5:$X$5,0)))
A9: 1020101000 | B9: 10 | C9: 201 | D9: 1 | E9: 0 | F9: 群馬県 | G9: 前橋市 | H9: 前橋市（旧） | K9: =IF(AND($C9>0,$H9=""),"ﾘｽﾄ１","") | L9: =IF(K9="ﾘｽﾄ１",G9,"") | M9: =IF(K9="","",COUNTIF($K$7:K9,"ﾘｽﾄ１")) | N9: =IF(AND(D9=0,E9>0),"同一区","") | O9: =IF(AND(EXACT($K$2,G9),H9>0),"該当１","") | P9: =IF(O9="該当１",G9,"") | Q9: =IF(O9="該当１","ﾘｽﾄ2","") | R9: =IF(Q9="ﾘｽﾄ2",H9,"") | S9: =IF(AND(Q9="ﾘｽﾄ2",OR(I9=0,AND(N9="同一区",E9=1))),"該当２","") | T9: =IF(S9="該当２",H9,"") | U9: =IF(S9="","",COUNTIF($S$7:S9,"該当２")) | V9: =IF(AND($S$2=H9,E9>0,E9<998),"該当３","") | W9: =IF(V9="該当３",I9,"") | X9: =IF(V9="","",COUNTIF($V$7:V9,"該当３")) | Z9: 3 | AB9: 桐生市 | AC9: =IF($Z9>MAX($U$7:$U$3715),"",INDEX($T$7:$T$3715,MATCH($Z9,$U$7:$U$3715,0),MATCH($AC$4,$T$5:$U$5,0))) | AD9: =IF($Z9>MAX($X$7:$X$3715),"",INDEX($W$7:$W$3715,MATCH($Z9,$X$7:$X$3715,0),MATCH($AD$4,$W$5:$X$5,0)))
A10: 1020101001 | B10: 10 | C10: 201 | D10: 1 | E10: 1 | F10: 群馬県 | G10: 前橋市 | H10: 前橋市 | I10: 岩神町他３町 | K10: =IF(AND($C10>0,$H10=""),"ﾘｽﾄ１","") | L10: =IF(K10="ﾘｽﾄ１",G10,"") | M10: =IF(K10="","",COUNTIF($K$7:K10,"ﾘｽﾄ１")) | N10: =IF(AND(D10=0,E10>0),"同一区","") | O10: =IF(AND(EXACT($K$2,G10),H10>0),"該当１","") | P10: =IF(O10="該当１",G10,"") | Q10: =IF(O10="該当１","ﾘｽﾄ2","") | R10: =IF(Q10="ﾘｽﾄ2",H10,"") | S10: =IF(AND(Q10="ﾘｽﾄ2",OR(I10=0,AND(N10="同一区",E10=1))),"該当２","") | T10: =IF(S10="該当２",H10,"") | U10: =IF(S10="","",COUNTIF($S$7:S10,"該当２")) | V10: =IF(AND($S$2=H10,E10>0,E10<998),"該当３","") | W10: =IF(V10="該当３",I10,"") | X10: =IF(V10="","",COUNTIF($V$7:V10,"該当３")) | Z10: 4 | AB10: 伊勢崎市 | AC10: =IF($Z10>MAX($U$7:$U$3715),"",INDEX($T$7:$T$3715,MATCH($Z10,$U$7:$U$3715,0),MATCH($AC$4,$T$5:$U$5,0))) | AD10: =IF($Z10>MAX($X$7:$X$3715),"",INDEX($W$7:$W$3715,MATCH($Z10,$X$7:$X$3715,0),MATCH($AD$4,$W$5:$X$5,0)))
A11: 1020101002 | B11: 10 | C11: 201 | D11: 1 | E11: 2 | F11: 群馬県 | G11: 前橋市 | H11: 前橋市 | I11: 若宮町他１町 | K11: =IF(AND($C11>0,$H11=""),"ﾘｽﾄ１","") | L11: =IF(K11="ﾘｽﾄ１",G11,"") | M11: =IF(K11="","",COUNTIF($K$7:K11,"ﾘｽﾄ１")) | N11: =IF(AND(D11=0,E11>0),"同一区","") | O11: =IF(AND(EXACT($K$2,G11),H11>0),"該当１","") | P11: =IF(O11="該当１",G11,"") | Q11: =IF(O11="該当１","ﾘｽﾄ2","") | R11: =IF(Q11="ﾘｽﾄ2",H11,"") | S11: =IF(AND(Q11="ﾘｽﾄ2",OR(I11=0,AND(N11="同一区",E11=1))),"該当２","") | T11: =IF(S11="該当２",H11,"") | U11: =IF(S11="","",COUNTIF($S$7:S11,"該当２")) | V11: =IF(AND($S$2=H11,E11>0,E11<998),"該当３","") | W11: =IF(V11="該当３",I11,"") | X11: =IF(V11="","",COUNTIF($V$7:V11,"該当３")) | Z11: 5 | AB11: 太田市 | AC11: =IF($Z11>MAX($U$7:$U$3715),"",INDEX($T$7:$T$3715,MATCH($Z11,$U$7:$U$3715,0),MATCH($AC$4,$T$5:$U$5,0))) | AD11: =IF($Z11>MAX($X$7:$X$3715),"",INDEX($W$7:$W$3715,MATCH($Z11,$X$7:$X$3715,0),MATCH($AD$4,$W$5:$X$5,0)))
