Workbook
Name G20労働力O: OFFSET(Info!$F$30,Info!$Y$31,0),OFFSET(Info!$J$30,Info!$Y$31,0)
Name G21労働力I: OFFSET(Info!$F$30,Info!$Y$32,0),OFFSET(Info!$J$30,Info!$Y$32,0)
Name G23労働力R: OFFSET(Info!#REF!,Info!$Y$34,0)
Name G24労働力L: OFFSET(Info!#REF!,Info!$Y$32,0)
Name G25労働力R: OFFSET(Info!$H$29,Info!$Y$32,0)
Name G41規模面積L: OFFSET(Info!$H$45:$R$45,Info!$Y$45,0)
Name G42規模面積R: OFFSET(Info!$H$45:$R$45,Info!$Z$45,0)
Name G43規模面積L: OFFSET(Info!$H$46:$R$46,Info!$Y$45,0)
Name G44規模面積R: OFFSET(Info!$H$46:$R$46,Info!$Z$45,0)
Name G50状態別: OFFSET([1]Info!$H$90:$M$90,[1]Info!$AE$89,0)
Name G61品目別L: OFFSET(Info!$G$73:$S$73,Info!$W$75,0)
Name G62品目別R: OFFSET(Info!$G$73:$S$73,Info!$X$75,0)
Name G63品目別L: OFFSET(Info!$G$74:$S$74,Info!$W$75,0)
Name G64品目別R: OFFSET(Info!$G$74:$S$74,Info!$X$75,0)
Name G65金額規模別A: OFFSET(Info!$G$103:$K$103,Info!$Y$101,0)
Name 旧市2010: OFFSET('[1]2010年'!$C$1,[1]Info!$X$3-1,0,[1]Info!$W$3+1,1)
Name 旧市2010: OFFSET('2010年'!$C$1,Info!$X$3-1,0,Info!$W$3+1,1)
Name 旧市2015: OFFSET('[1]2015年'!$C$1,[1]Info!$X$4-1,0,[1]Info!$W$4+1,1)
Name 旧市2015: OFFSET('2015年'!$C$1,Info!$X$4-1,0,Info!$W$4+1,1)

Sheet Info
D1: -1 | E1: 0 | F1: 1 | G1: 2 | H1: 3 | I1: 4 | J1: 5 | K1: 6 | L1: 7 | M1: 8 | N1: 9 | O1: 10 | P1: 11 | Q1: 12 | R1: 13 | S1: 14 | T1: 15 | U1: 16 | V1: 17 | W1: 18 | X1: 19 | Y1: 20 | Z1: 21 | AA1: 22 | AB1: 23
V2: 表示行 | W2: 旧市町村数 | X2: 市町村行 | Y2: check | Z2: 表示名
D3: 県名 | G3: ="市区町村"&IF(AND(G4="",J4<>""),"を選択してください","名") -> 市区町村名 | K3: ="旧市町村"&IF(AND(G4<>"",OR(Y3="",Y4="")),"を選択してください","名") -> 旧市町村名 | V3: =IF(J4="",-1,IFERROR(MATCH(J4,OFFSET(旧市2010,1,0,ROWS(旧市2010),1),0)-1,999))+X3 -> 5 | W3: =COUNTIF('2010年'!B:B,Info!G4)-1 -> -1 | X3: =IF(G4="",6,MATCH(G4,'2010年'!B:B,0)) -> 6 | Y3: =IF(AND(G4="",J4=""),'2010年'!A6,OFFSET('2010年'!$A$1,V3,1)&OFFSET('2010年'!$A$1,V3,2)) -> 山梨県 | Z3: =IF(OR(ISERROR(AB3),ISERROR(AD3)),"表示できません",IF(N4<>"",N4,IF(J4<>"",IF($G$4=$J$4,"（旧）","")&$J$4,IF(G4<>"",G4,D4)))) -> 山梨県
D4: =元データ!AA2 -> 山梨県 | E4: 岡山県 | V4: =IF(J4="",-1,IFERROR(MATCH(J4,OFFSET(旧市2015,1,0,ROWS(旧市2015),1),0)-1,999))+X4 -> 5 | W4: =COUNTIF('2015年'!B:B,Info!G4)-1 -> -1 | X4: =IF(G4="",6,MATCH(G4,'2015年'!B:B,0)) -> 6 | Y4: =IF(AND(G4="",J4=""),'2015年'!A6,OFFSET('2015年'!$A$1,V4,1)&OFFSET('2015年'!$A$1,V4,2)) -> 山梨県 | Z4: =IFERROR(LEFT(Z3,FIND("（",DBCS(Z3),2)+1)&"…）",Z3) -> 山梨県
C6: 農業経営体数
D7: =IFERROR("◎農業経営体数は "&TEXT(F14,"#,###経営体 で ")&X14,"")&IFERROR(X15&"組織経営体は "&X16,"") -> ◎農業経営体数は 17,970経営体 で 3,339経営体（15.7%） 減少したが、組織経営体は 55経営体 （24.0%） 増加
N8: 単位：経営体 | P8: 《農業経営体数》
G9: 組織形態別経営体数 | N9: 認 定 農業者がいる 経営体 | P9: =Z3 -> 山梨県
F10: 合計 | H10: 法人化している | L10: 地方公共団体等 | M10: 法人化していない | P10: （経営体）
G11: 計 | H11: 農事組合法人 | I11: 会社 | J11: 農協等の団体 | K11: その他の法人 | V11: 列番号 | X11: 概要
D12: 2010年 | F12: =OFFSET('2010年'!$A$1,$V$3,$W12+E$1) -> 21309 | G12: =IF(OR(SUM($F12)=1,SUM($F12)=2),"X",OFFSET('2010年'!$A$1,$V$3,$W12+F$1)) -> 232 | H12: =IF(OR(SUM($F12)=1,SUM($F12)=2),"X",OFFSET('2010年'!$A$1,$V$3,$W12+G$1)) -> 28 | I12: =IF(OR(SUM($F12)=1,SUM($F12)=2),"X",OFFSET('2010年'!$A$1,$V$3,$W12+H$1)) -> 97 | J12: =IF(OR(SUM($F12)=1,SUM($F12)=2),"X",OFFSET('2010年'!$A$1,$V$3,$W12+I$1)) -> 92 | K12: =IF(OR(SUM($F12)=1,SUM($F12)=2),"X",OFFSET('2010年'!$A$1,$V$3,$W12+J$1)) -> 15 | L12: =IF(OR(SUM($F12)=1,SUM($F12)=2),"X",OFFSET('2010年'!$A$1,$V$3,$W12+K$1)) -> 2 | M12: =IF(OR(SUM($F12)=1,SUM($F12)=2),"X",OFFSET('2010年'!$A$1,$V$3,$W12+L$1)) -> 21075 | N12: =IF(OR(SUM($F12)=1,SUM($F12)=2),"X",OFFSET('2010年'!$A$1,$V$3,$W12+M$1)) -> 2001 | V12: 2010年 | W12: =CELL("col",'2010年'!E6)-1 -> 4 | X12: =F14/F12-1 -> -0.15669435
E13: うち組織 | F13: =OFFSET('2010年'!$A$1,$V$3,$W13+E$1) -> 229 | G13: =IF(OR(SUM($F13)=1,SUM($F13)=2),"X",OFFSET('2010年'!$A$1,$V$3,$W13+F$1)) -> 211 | H13: =IF(OR(SUM($F13)=1,SUM($F13)=2),"X",OFFSET('2010年'!$A$1,$V$3,$W13+G$1)) -> 24 | I13: =IF(OR(SUM($F13)=1,SUM($F13)=2),"X",OFFSET('2010年'!$A$1,$V$3,$W13+H$1)) -> 80 | J13: =IF(OR(SUM($F13)=1,SUM($F13)=2),"X",OFFSET('2010年'!$A$1,$V$3,$W13+I$1)) -> 92 | K13: =IF(OR(SUM($F13)=1,SUM($F13)=2),"X",OFFSET('2010年'!$A$1,$V$3,$W13+J$1)) -> 15 | L13: =IF(OR(SUM($F13)=1,SUM($F13)=2),"X",OFFSET('2010年'!$A$1,$V$3,$W13+K$1)) -> 2 | M13: =IF(OR(SUM($F13)=1,SUM($F13)=2),"X",OFFSET('2010年'!$A$1,$V$3,$W13+L$1)) -> 16 | N13: =IF(OR(SUM($F13)=1,SUM($F13)=2),"X",OFFSET('2010年'!$A$1,$V$3,$W13+M$1)) -> 54 | V13: 組織 | W13: =CELL("col",'2010年'!N1)-1 -> 13 | X13: =F15/F13-1 -> 0.24017467
D14: 2015年 | F14: =OFFSET('2015年'!$A$1,$V$4,$W14+E$1) -> 17970 | G14: =IF(OR(SUM($F14)=1,SUM($F14)=2),"X",OFFSET('2015年'!$A$1,$V$4,$W14+F$1)) -> 280 | H14: =IF(OR(SUM($F14)=1,SUM($F14)=2),"X",OFFSET('2015年'!$A$1,$V$4,$W14+G$1)) -> 36 | I14: =IF(OR(SUM($F14)=1,SUM($F14)=2),"X",OFFSET('2015年'!$A$1,$V$4,$W14+H$1)) -> 173 | J14: =IF(OR(SUM($F14)=1,SUM($F14)=2),"X",OFFSET('2015年'!$A$1,$V$4,$W14+I$1)) -> 52 | K14: =IF(OR(SUM($F14)=1,SUM($F14)=2),"X",OFFSET('2015年'!$A$1,$V$4,$W14+J$1)) -> 19 | L14: =IF(OR(SUM($F14)=1,SUM($F14)=2),"X",OFFSET('2015年'!$A$1,$V$4,$W14+K$1)) -> 2 | M14: =IF(OR(SUM($F14)=1,SUM($F14)=2),"X",OFFSET('2015年'!$A$1,$V$4,$W14+L$1)) -> 17688 | N14: =IF(OR(SUM($F14)=1,SUM($F14)=2),"X",OFFSET('2015年'!$A$1,$V$4,$W14+M$1)) -> 1910 | V14: 2015年 | W14: =CELL("col",'2015年'!E6)-1 -> 4 | X14: =IF(X12=0,"変化なし",TEXT(ABS(F14-F12),"#,##0")&"経営体（"&TEXT(ABS(X12),"0.0%")&"） "&IF(X12>0,"増加","減少")) -> 3,339経営体（15.7%） 減少
E15: うち組織 | F15: =OFFSET('2015年'!$A$1,$V$4,$W15+E$1) -> 284 | G15: =IF(OR(SUM($F15)=1,SUM($F15)=2),"X",OFFSET('2015年'!$A$1,$V$4,$W15+F$1)) -> 280 | H15: =IF(OR(SUM($F15)=1,SUM($F15)=2),"X",OFFSET('2015年'!$A$1,$V$4,$W15+G$1)) -> 36 | I15: =IF(OR(SUM($F15)=1,SUM($F15)=2),"X",OFFSET('2015年'!$A$1,$V$4,$W15+H$1)) -> 173 | J15: =IF(OR(SUM($F15)=1,SUM($F15)=2),"X",OFFSET('2015年'!$A$1,$V$4,$W15+I$1)) -> 52 | K15: =IF(OR(SUM($F15)=1,SUM($F15)=2),"X",OFFSET('2015年'!$A$1,$V$4,$W15+J$1)) -> 19 | L15: =IF(OR(SUM($F15)=1,SUM($F15)=2),"X",OFFSET('2015年'!$A$1,$V$4,$W15+K$1)) -> 2 | M15: =IF(OR(SUM($F15)=1,SUM($F15)=2),"X",OFFSET('2015年'!$A$1,$V$4,$W15+L$1)) -> 2 | N15: =IF(OR(SUM($F15)=1,SUM($F15)=2),"X",OFFSET('2015年'!$A$1,$V$4,$W15+M$1)) -> 60 | V15: 組織 | W15: =CELL("col",'2015年'!N1)-1 -> 13 | X15: =IF(SIGN(X12)=SIGN(X13),"し、","したが、") -> したが、
D16: 構成比(%) | F16: =IF(OR($F14="X",F14="X"),"X",IF(ROUND(SUM($F14),0)=0,"nc",SUM(F14)/$F14%)) -> 100 | G16: =IF(OR($F14="X",G14="X",SUM($F14)=1,SUM($F14)=2),"X",IF(SUM($F14)=0,"nc",IFERROR(SUM(G14)/$F14%,"-"))) -> 1.5581525 | H16: =IF(OR($F14="X",H14="X",SUM($F14)=1,SUM($F14)=2),"X",IF(SUM($F14)=0,"nc",IFERROR(SUM(H14)/$F14%,"-"))) -> 0.20033389 | I16: =IF(OR($F14="X",I14="X",SUM($F14)=1,SUM($F14)=2),"X",IF(SUM($F14)=0,"nc",IFERROR(SUM(I14)/$F14%,"-"))) -> 0.96271564 | J16: =IF(OR($F14="X",J14="X",SUM($F14)=1,SUM($F14)=2),"X",IF(SUM($F14)=0,"nc",IFERROR(SUM(J14)/$F14%,"-"))) -> 0.28937117 | K16: =IF(OR($F14="X",K14="X",SUM($F14)=1,SUM($F14)=2),"X",IF(SUM($F14)=0,"nc",IFERROR(SUM(K14)/$F14%,"-"))) -> 0.10573178 | L16: =IF(OR($F14="X",L14="X",SUM($F14)=1,SUM($F14)=2),"X",IF(SUM($F14)=0,"nc",IFERROR(SUM(L14)/$F14%,"-"))) -> 0.011129661 | M16: =IF(OR($F14="X",M14="X",SUM($F14)=1,SUM($F14)=2),"X",IF(SUM($F14)=0,"nc",IFERROR(SUM(M14)/$F14%,"-"))) -> 98.430718 | N16: =IF(OR($F14="X",N14="X",SUM($F14)=1,SUM($F14)=2),"X",IF(SUM($F14)=0,"nc",IFERROR(SUM(N14)/$F14%,"-"))) -> 10.628826 | X16: =IF(SUM(F15,-F13)=0,"変化なし",TEXT(ABS(SUM(F15,-F13)),"#,##0")&"経営体 "&IFERROR("（"&TEXT(ABS(X13),"0.0%")&"） ","")&IF(SUM(F15,-F13)>0,"増加","減少")) -> 55経営体 （24.0%） 増加
E17: うち組織 | F17: =IF(OR($F15="X",F15="X"),"X",IF(ROUND(SUM($F15),0)=0,"nc",SUM(F15)/$F15%)) -> 100 | G17: =IF(OR($F15="X",G15="X",SUM($F15)=1,SUM($F15)=2),"X",IF(SUM($F15)=0,"nc",IFERROR(SUM(G15)/$F15%,"-"))) -> 98.591549 | H17: =IF(OR($F15="X",H15="X",SUM($F15)=1,SUM($F15)=2),"X",IF(SUM($F15)=0,"nc",IFERROR(SUM(H15)/$F15%,"-"))) -> 12.676056 | I17: =IF(OR($F15="X",I15="X",SUM($F15)=1,SUM($F15)=2),"X",IF(SUM($F15)=0,"nc",IFERROR(SUM(I15)/$F15%,"-"))) -> 60.915493 | J17: =IF(OR($F15="X",J15="X",SUM($F15)=1,SUM($F15)=2),"X",IF(SUM($F15)=0,"nc",IFERROR(SUM(J15)/$F15%,"-"))) -> 18.309859 | K17: =IF(OR($F15="X",K15="X",SUM($F15)=1,SUM($F15)=2),"X",IF(SUM($F15)=0,"nc",IFERROR(SUM(K15)/$F15%,"-"))) -> 6.6901408 | L17: =IF(OR($F15="X",L15="X",SUM($F15)=1,SUM($F15)=2),"X",IF(SUM($F15)=0,"nc",IFERROR(SUM(L15)/$F15%,"-"))) -> 0.70422535 | M17: =IF(OR($F15="X",M15="X",SUM($F15)=1,SUM($F15)=2),"X",IF(SUM($F15)=0,"nc",IFERROR(SUM(M15)/$F15%,"-"))) -> 0.70422535 | N17: =IF(OR($F15="X",N15="X",SUM($F15)=1,SUM($F15)=2),"X",IF(SUM($F15)=0,"nc",IFERROR(SUM(N15)/$F15%,"-"))) -> 21.126761
E18: 県計 | F18: =IF(OR('2015年'!E6="X",'2015年'!$E$6="X"),"X",IF(SUM('2015年'!$E$6)=0,"nc",IFERROR('2015年'!E6/'2015年'!$E$6%,"-"))) -> 100 | G18: =IF(OR('2015年'!F6="X",'2015年'!$E$6="X",SUM('2015年'!$E$6)=1,SUM('2015年'!$E$6)=2),"X",IF(SUM('2015年'!$E$6)=0,"nc",IFERROR('2015年'!F6/'2015年'!$E$6%,"-"))) -> 1.5581525 | H18: =IF(OR('2015年'!G6="X",'2015年'!$E$6="X",SUM('2015年'!$E$6)=1,SUM('2015年'!$E$6)=2),"X",IF(SUM('2015年'!$E$6)=0,"nc",IFERROR('2015年'!G6/'2015年'!$E$6%,"-"))) -> 0.20033389 | I18: =IF(OR('2015年'!H6="X",'2015年'!$E$6="X",SUM('2015年'!$E$6)=1,SUM('2015年'!$E$6)=2),"X",IF(SUM('2015年'!$E$6)=0,"nc",IFERROR('2015年'!H6/'2015年'!$E$6%,"-"))) -> 0.96271564 | J18: =IF(OR('2015年'!I6="X",'2015年'!$E$6="X",SUM('2015年'!$E$6)=1,SUM('2015年'!$E$6)=2),"X",IF(SUM('2015年'!$E$6)=0,"nc",IFERROR('2015年'!I6/'2015年'!$E$6%,"-"))) -> 0.28937117 | K18: =IF(OR('2015年'!J6="X",'2015年'!$E$6="X",SUM('2015年'!$E$6)=1,SUM('2015年'!$E$6)=2),"X",IF(SUM('2015年'!$E$6)=0,"nc",IFERROR('2015年'!J6/'2015年'!$E$6%,"-"))) -> 0.10573178 | L18: =IF(OR('2015年'!K6="X",'2015年'!$E$6="X",SUM('2015年'!$E$6)=1,SUM('2015年'!$E$6)=2),"X",IF(SUM('2015年'!$E$6)=0,"nc",IFERROR('2015年'!K6/'2015年'!$E$6%,"-"))) -> 0.011129661 | M18: =IF(OR('2015年'!L6="X",'2015年'!$E$6="X",SUM('2015年'!$E$6)=1,SUM('2015年'!$E$6)=2),"X",IF(SUM('2015年'!$E$6)=0,"nc",IFERROR('2015年'!L6/'2015年'!$E$6%,"-"))) -> 98.430718 | N18: =IF(OR('2015年'!M6="X",'2015年'!$E$6="X",SUM('2015年'!$E$6)=1,SUM('2015年'!$E$6)=2),"X",IF(SUM('2015年'!$E$6)=0,"nc",IFERROR('2015年'!M6/'2015年'!$E$6%,"-"))) -> 10.628826
E19: うち組織 | F19: =IF(OR('2015年'!N6="X",'2015年'!$N$6="X"),"X",IF(SUM('2015年'!$N$6)=0,"nc",IFERROR('2015年'!N6/'2015年'!$N$6%,"-"))) -> 100 | G19: =IF(OR('2015年'!O6="X",'2015年'!$N$6="X",SUM('2015年'!$N$6)=1,SUM('2015年'!$N$6)=2),"X",IF(SUM('2015年'!$N$6)=0,"nc",IFERROR('2015年'!O6/'2015年'!$N$6%,"-"))) -> 98.591549 | H19: =IF(OR('2015年'!P6="X",'2015年'!$N$6="X",SUM('2015年'!$N$6)=1,SUM('2015年'!$N$6)=2),"X",IF(SUM('2015年'!$N$6)=0,"nc",IFERROR('2015年'!P6/'2015年'!$N$6%,"-"))) -> 12.676056 | I19: =IF(OR('2015年'!Q6="X",'2015年'!$N$6="X",SUM('2015年'!$N$6)=1,SUM('2015年'!$N$6)=2),"X",IF(SUM('2015年'!$N$6)=0,"nc",IFERROR('2015年'!Q6/'2015年'!$N$6%,"-"))) -> 60.915493 | J19: =IF(OR('2015年'!R6="X",'2015年'!$N$6="X",SUM('2015年'!$N$6)=1,SUM('2015年'!$N$6)=2),"X",IF(SUM('2015年'!$N$6)=0,"nc",IFERROR('2015年'!R6/'2015年'!$N$6%,"-"))) -> 18.309859 | K19: =IF(OR('2015年'!S6="X",'2015年'!$N$6="X",SUM('2015年'!$N$6)=1,SUM('2015年'!$N$6)=2),"X",IF(SUM('2015年'!$N$6)=0,"nc",IFERROR('2015年'!S6/'2015年'!$N$6%,"-"))) -> 6.6901408 | L19: =IF(OR('2015年'!T6="X",'2015年'!$N$6="X",SUM('2015年'!$N$6)=1,SUM('2015年'!$N$6)=2),"X",IF(SUM('2015年'!$N$6)=0,"nc",IFERROR('2015年'!T6/'2015年'!$N$6%,"-"))) -> 0.70422535 | M19: =IF(OR('2015年'!U6="X",'2015年'!$N$6="X",SUM('2015年'!$N$6)=1,SUM('2015年'!$N$6)=2),"X",IF(SUM('2015年'!$N$6)=0,"nc",IFERROR('2015年'!U6/'2015年'!$N$6%,"-"))) -> 0.70422535 | N19: =IF(OR('2015年'!V6="X",'2015年'!$N$6="X",SUM('2015年'!$N$6)=1,SUM('2015年'!$N$6)=2),"X",IF(SUM('2015年'!$N$6)=0,"nc",IFERROR('2015年'!V6/'2015年'!$N$6%,"-"))) -> 21.126761
C22: 農業労働力（雇用者）
D23: =IFERROR("◎ 雇用者ありの経営体数の割合（"&TEXT(F34,"0.0")&"%）は "&IF(AB32=0,"",TEXT(ABS(AB32),"0.0")&"ポイント ")&AB33&AB34&"１経営体当たり雇用者のべ人日（"&TEXT(G34,"0.0")&"人日）は "&IF(AC32=0,"",TEXT(ABS(AC32),"0.0人日 "))&AC33,"") -> ◎ 雇用者ありの経営体数の割合（36.3%）は 6.4ポイント 前回より低下し、１経営体当たり雇用者のべ人日（122.1人日）は 30.8人日 増加
K24: 《雇用者有無別経営体数割合》
F25: 雇用者あり | J25: 雇用者なし
F26: 経営体数 | G26: 雇用者のべ 人日 | H26: うち常雇 | K26: =IF(LEFT(R26,1)="県",D32,Z3) -> 山梨県 | R26: 前回との比較
H27: 経営体数 | I27: 雇用者 のべ人日 | K27: ="外円：" -> 外円： | L27: =Z32 -> 2015年 | O27: 《１経営体当たり雇用者のべ人日》
K28: ="内円：" -> 内円： | L28: =Z31 -> 2010年 | O28: =IF(LEFT(R26,1)="県",D32,Z3) -> 山梨県
F29: （経営体） | G29: （人日） | H29: （経営体） | I29: （人日） | J29: （経営体）
D30: 2010年 | F30: =OFFSET('2010年'!$A$1,$V$3,$W31+E$1) -> 9089 | G30: =OFFSET('2010年'!$A$1,$V$3,$W31+F$1) -> 829475 | H30: =OFFSET('2010年'!$A$1,$V$3,$W31+G$1) -> 357 | I30: =OFFSET('2010年'!$A$1,$V$3,$W31+H$1) -> 228374 | J30: =OFFSET('2010年'!$A$1,$V$3,$W31+I$1) -> 12220 | O30: （人日） | Q30: （人日） | V30: 列番号 | X30: グラフ行番号 | Z30: 凡例 | AA30: 縦棒左 | AB30: 概要
E31: うち組織 | F31: =OFFSET('2010年'!$A$1,$V$3,$W31+J$1) -> 168 | G31: =OFFSET('2010年'!$A$1,$V$3,$W31+K$1) -> 227147 | H31: =OFFSET('2010年'!$A$1,$V$3,$W31+L$1) -> 83 | I31: =OFFSET('2010年'!$A$1,$V$3,$W31+M$1) -> 115182 | J31: =OFFSET('2010年'!$A$1,$V$3,$W31+N$1) -> 61 | V31: 2010年 | W31: =CELL("col",'2010年'!W5)-1 -> 22 | X31: 外円 | Y31: =IF(LEFT(R26,1)="県",4,2) -> 2 | Z31: =IF(LEFT(R26,1)="県",$D$4,$D30) -> 2010年 | AA31: データ | AB31: 経営体 | AC31: 延べ人数
D32: 2015年 | F32: =OFFSET('2015年'!$A$1,$V$4,$W32+E1) -> 6526 | G32: =OFFSET('2015年'!$A$1,$V$4,$W32+F1) -> 796670 | H32: =OFFSET('2015年'!$A$1,$V$4,$W32+G1) -> 623 | I32: =OFFSET('2015年'!$A$1,$V$4,$W32+H1) -> 397198 | J32: =OFFSET('2015年'!$A$1,$V$4,$W32+I1) -> 11444 | V32: 2015年 | W32: =CELL("col",'2015年'!W5)-1 -> 22 | X32: 内円 | Y32: =IF(LEFT(R26,1)="県",6,0) -> 0 | Z32: =IF(LEFT(R26,1)="県",Z3,D32) -> 2015年 | AA32: =IF(LEFT(R26,1)="県",G36,G30/F30) -> 91.261415 | AB32: =ROUND(F34,1)-ROUND(IF(LEFT(R26,1)="県",F36,F30/F12%),1) -> -6.4 | AC32: =IFERROR(ROUND(G34,1)-ROUND(IF(LEFT(R26,1)="県",G36,SUM(G30)/$F30),1),"") -> 30.8
E33: うち組織 | F33: =OFFSET('2015年'!$A$1,$V$4,$W32+J1) -> 238 | G33: =OFFSET('2015年'!$A$1,$V$4,$W32+K1) -> 333277 | H33: =OFFSET('2015年'!$A$1,$V$4,$W32+L1) -> 186 | I33: =OFFSET('2015年'!$A$1,$V$4,$W32+M1) -> 277107 | J33: =OFFSET('2015年'!$A$1,$V$4,$W32+N1) -> 46 | X33: 縦棒左 | Y33: =IF(LEFT(R26,1)="県",3,1) -> 1 | Z33: =IF(LEFT(R26,1)="県",Z4,D32) -> 2015年 | AA33: =IF(LEFT(R26,1)="県",G37,IF(OR(G31="X",F31="X"),"X",IF(F31="-","nc",IF(G31="-","-",G31/F31)))) -> 1352.0655 | AB33: =IF(LEFT(R26,1)="県","県平均","前回") -> 前回 | AC33: =IFERROR(CHOOSE(SIGN(AC32)+2+IF(LEFT(R26,1)="県",3,0),"減少","変化なし","増加","下回る","同じ","上回る"),"") -> 増加
D34: 構成比(%)※ | F34: =IF(OR($F14="X",F32="X"),"X",IF(SUM($F14)=0,"nc",IFERROR(F32/$F14%,"-"))) -> 36.316082 | G34: =IF(OR($F32="X",G32="X"),"X",IF(SUM($F32)=0,"nc",IFERROR(SUM(G32)/$F32,"-"))) -> 122.07631 | H34: =IF(OR(H32="X",$F14="X"),"X",IF(SUM($F14)=0,"nc",IFERROR(H32/$F14%,"-"))) -> 3.4668893 | I34: =IF(OR($H32="X",I32="X"),"X",IF(SUM($H32)=0,"nc",IFERROR(SUM(I32)/$H32,"-"))) -> 637.55698 | J34: =IF(OR(J32="X",F14="X"),"X",IF(SUM(F14)=0,"nc",IFERROR(J32/F14%,"nc"))) -> 63.683918 | X34: 縦棒右 | Y34: =IF(LEFT(R26,1)="県",2,2) -> 2 | AB34: =CHOOSE(SIGN(AB32)+2+IF(LEFT(R26,1)="県",3,0),"より低下し","から変化なし","より上昇し","を下回り","と同率","を上回り")&"、" -> より低下し、
E35: うち組織 | F35: =IF(OR($F15="X",F33="X"),"X",IF(SUM($F15)=0,"nc",IFERROR(F33/$F15%,"-"))) -> 83.802817 | G35: =IF(OR($F33="X",G33="X"),"X",IF(SUM($F33)=0,"nc",IFERROR(SUM(G33)/$F33,"-"))) -> 1400.3235 | H35: =IF(OR(H33="X",$F15="X"),"X",IF(SUM($F15)=0,"nc",IFERROR(H33/$F15%,"-"))) -> 65.492958 | I35: =IF(OR($H33="X",I33="X"),"X",IF(SUM($H33)=0,"nc",IFERROR(SUM(I33)/$H33,"-"))) -> 1489.8226 | J35: =IF(OR(J33="X",F15="X"),"X",IF(SUM(F15)=0,"nc",IFERROR(J33/F15%,"-"))) -> 16.197183
E36: 県計 | F36: =IF(OR('2015年'!W6="X",'2015年'!$E6="X"),"X",IF(SUM('2015年'!$E6)=0,"nc",IFERROR('2015年'!W6/'2015年'!$E6%,"-"))) -> 36.316082 | G36: =IF(OR('2015年'!X6="X",'2015年'!W6="X"),"X",IF(SUM('2015年'!W6)=0,"nc",IFERROR('2015年'!X6/'2015年'!W6,"-"))) -> 122.07631 | H36: =IF(OR('2015年'!Y6="X",'2015年'!$E6="X"),"X",IF(SUM('2015年'!$E6)=0,"nc",IFERROR('2015年'!Y6/'2015年'!$E6%,"-"))) -> 3.4668893 | I36: =IF(OR('2015年'!Z6="X",'2015年'!Y6="X"),"X",IF(SUM('2015年'!Y6)=0,"nc",IFERROR('2015年'!Z6/'2015年'!Y6,"-"))) -> 637.55698 | J36: =IF(OR('2015年'!AA6="X",'2015年'!E6="X"),"X",IF(SUM('2015年'!E6)=0,"nc",IFERROR('2015年'!AA6/'2015年'!E6%,"-"))) -> 63.683918
E37: うち組織 | F37: =IF(OR('2015年'!AB6="X",'2015年'!$N$6="X"),"X",IF(SUM('2015年'!$N$6)=0,"nc",IFERROR('2015年'!AB6/'2015年'!$N$6%,"-"))) -> 83.802817 | G37: =IF(OR('2015年'!AC6="X",'2015年'!AB6="X"),"X",IF(SUM('2015年'!AB6)=0,"nc",IFERROR('2015年'!AC6/'2015年'!AB6,"-"))) -> 1400.3235 | H37: =IF(OR('2015年'!AD6="X",'2015年'!$N$6="X"),"X",IF(SUM('2015年'!$N$6)=0,"nc",IFERROR('2015年'!AD6/'2015年'!$N$6%,"-"))) -> 65.492958 | I37: =IF(OR('2015年'!AE6="X",'2015年'!AD6="X"),"X",IF(SUM('2015年'!AD6)=0,"nc",IFERROR('2015年'!AE6/'2015年'!AD6,"-"))) -> 1489.8226 | J37: =IF(OR('2015年'!AF6="X",'2015年'!$N$6="X"),"X",IF(SUM('2015年'!$N$6)=0,"nc",IFERROR('2015年'!AF6/'2015年'!$N$6%,"-"))) -> 16.197183
D38: ※：構成比欄は、農業経営体数合計に対する割合、なお（ ）は１経営体当たりの人日
C40: 経営体数
D41: =IFERROR("◎ １経営体当たりの経営耕地面積（"&TEXT(G47,"0.00")&"ha）は"&AD46&AD47&AD49,"") -> ◎ １経営体当たりの経営耕地面積（0.82ha）は前回を 0.06ha 上回り、うち組織（6.97ha）は前回を 0.38ha 下回る
S42: ="単位："&IF(RIGHT(C40,2)="面積","ha","経営体") -> 単位：経営体 | X42: ※参照元の面積のデータが「ａ単位」の場合は、数式の除数を100に修正
F43: ="経営耕地"&CHAR(10)&IF(RIGHT(C40,2)="面積","面積計","のある"&CHAR(10)&"経営体計") -> 経営耕地 のある 経営体計 | H43: 0.5ha 未満 | I43: 0.5 ～ 1.0 | J43: 1.0 ～ 2.0 | K43: 2.0 ～ 3.0 | L43: 3.0 ～ 5.0 | M43: 5.0 ～ 10.0 | N43: 10.0～ 20.0 | O43: 20.0～ 30.0 | P43: 30.0～ 50.0 | Q43: 50.0～ 100.0 | R43: 100ha 以上 | S43: ="借入耕地面積"&IF(RIGHT(C40,2)="面積","","(ha)") -> 借入耕地面積(ha)
F44: 経営耕地のある経営体 | G44: ="1経営体当たり 面積"&IF(RIGHT(C40,2)="面積","","(ha)") -> 1経営体当たり 面積(ha) | V44: 列番号 | X44: 除数 | Y44: 縦棒左 | Z44: 縦棒右 | AA44: 凡例 | AB44: 借入耕地面積率 | AD44: 概要
D45: 2010年 | F45: =IFERROR(OFFSET('2010年'!$A$1,$V3,$W45)/X45,OFFSET('2010年'!$A$1,$V3,$W45)) -> 21173 | G45: =IF(OR(OFFSET('2010年'!BI1,$V3,0)="X",OFFSET('2010年'!AG1,$V3,0)="X"),"X",IF(SUM(OFFSET('2010年'!AG1,$V3,0))=0,"nc",IFERROR(ROUND(OFFSET('2010年'!BI1,$V3,0)/100/OFFSET('2010年'!AG1,$V3,0),2),"-"))) -> 0.76 | H45: =IF(COUNTIF(OFFSET('2010年'!$A$1,$V3,$W45+1,1,2),"X")>0,"X",IF(SUM(OFFSET('2010年'!$A$1,$V3,$W45+1,1,2))=0,"-",SUM(OFFSET('2010年'!$A$1,$V3,$W45+1,1,2))/X45)) -> 7690 | I45: =IFERROR(OFFSET('2010年'!$A$1,$V3,$W45+H1)/X45,OFFSET('2010年'!$A$1,$V3,$W45+H1)) -> 9545 | J45: =IF(COUNTIF(OFFSET('2010年'!$A$1,$V3,$W45+I1,1,2),"X")>0,"X",IF(SUM(OFFSET('2010年'!$A$1,$V3,$W45+I1,1,2))=0,"-",SUM(OFFSET('2010年'!$A$1,$V3,$W45+I1,1,2))/X45)) -> 3429 | K45: =IFERROR(OFFSET('2010年'!$A$1,$V3,$W45+K1)/$X$45,OFFSET('2010年'!$A$1,$V3,$W45+K1)) -> 269 | L45: =IFERROR(OFFSET('2010年'!$A$1,$V3,$W45+L1)/$X$45,OFFSET('2010年'!$A$1,$V3,$W45+L1)) -> 126 | M45: =IFERROR(OFFSET('2010年'!$A$1,$V3,$W45+M1)/$X$45,OFFSET('2010年'!$A$1,$V3,$W45+M1)) -> 88 | N45: =IFERROR(OFFSET('2010年'!$A$1,$V3,$W45+N1)/$X$45,OFFSET('2010年'!$A$1,$V3,$W45+N1)) -> 18 | O45: =IFERROR(OFFSET('2010年'!$A$1,$V3,$W45+O1)/$X$45,OFFSET('2010年'!$A$1,$V3,$W45+O1)) -> 4 | P45: =IFERROR(OFFSET('2010年'!$A$1,$V3,$W45+P1)/$X$45,OFFSET('2010年'!$A$1,$V3,$W45+P1)) -> 2 | Q45: =IFERROR(OFFSET('2010年'!$A$1,$V3,$W45+Q1)/$X$45,OFFSET('2010年'!$A$1,$V3,$W45+Q1)) -> 1 | R45: =IFERROR(OFFSET('2010年'!$A$1,$V3,$W45+R1)/$X$45,OFFSET('2010年'!$A$1,$V3,$W45+R1)) -> 1 | S45: =IFERROR(ROUND(OFFSET('2010年'!BW1,$V3,0)/100,0),OFFSET('2010年'!BW1,$V3,0)) -> 3272 | V45: 2010年 | W45: =IF(RIGHT(C40,2)="面積",CELL("col",'2010年'!BI5)-1,CELL("col",'2010年'!AG5)-1) -> 32 | X45: =IF(RIGHT(C40,2)="面積",100,1) -> 1 | Y45: =IF(LEFT(O54,1)="県",6,0) -> 0 | Z45: =IF(LEFT(O54,1)="県",4,2) -> 2 | AA45: =IF(LEFT(O54,1)="県",$D$4,$D45) -> 2010年 | AB45: =IF(LEFT(O54,1)="県",S51,OFFSET('2010年'!BW1,$V3,0)/OFFSET('2010年'!BI1,$V3,0)%) -> 20.444423 | AC45: =100-AB45 -> 79.555577 | AD45: =G47-IF(LEFT(O54,1)="県",G51,G45) -> 0.06
E46: うち組織 | F46: =IFERROR(OFFSET('2010年'!$A$1,$V$3,$W$46)/X45,OFFSET('2010年'!$A$1,$V$3,$W$46)) -> 122 | G46: =IF(OR(OFFSET('2010年'!BX1,$V$4,0)="X",OFFSET('2010年'!AU1,$V$4,0)="X"),"X",IF(SUM(OFFSET('2010年'!AU1,$V$4,0))=0,"nc",IFERROR(ROUND(OFFSET('2010年'!BX1,$V$4,0)/100/OFFSET('2010年'!AU1,$V$4,0),2),"-"))) -> 7.35 | H46: =IF(COUNTIF(OFFSET('2010年'!$A$1,$V3,$W46+1,1,2),"X")>0,"X",IF(SUM(OFFSET('2010年'!$A$1,$V3,$W46+1,1,2))=0,"-",SUM(OFFSET('2010年'!$A$1,$V3,$W46+1,1,2))/X45)) -> 13 | I46: =IFERROR(OFFSET('2010年'!$A$1,$V$3,$W$46+H1)/X45,OFFSET('2010年'!$A$1,$V$3,$W$46+H1)) -> 20 | J46: =IF(COUNTIF(OFFSET('2010年'!$A$1,$V3,$W46+I1,1,2),"X")>0,"X",IF(SUM(OFFSET('2010年'!$A$1,$V3,$W46+I1,1,2))=0,"-",SUM(OFFSET('2010年'!$A$1,$V3,$W46+I1,1,2))/X45)) -> 21 | K46: =IFERROR(OFFSET('2010年'!$A$1,$V$3,$W$46+K1)/$X$45,OFFSET('2010年'!$A$1,$V$3,$W$46+K1)) -> 18 | L46: =IFERROR(OFFSET('2010年'!$A$1,$V$3,$W$46+L1)/$X$45,OFFSET('2010年'!$A$1,$V$3,$W$46+L1)) -> 18 | M46: =IFERROR(OFFSET('2010年'!$A$1,$V$3,$W$46+M1)/$X$45,OFFSET('2010年'!$A$1,$V$3,$W$46+M1)) -> 21 | N46: =IFERROR(OFFSET('2010年'!$A$1,$V$3,$W$46+N1)/$X$45,OFFSET('2010年'!$A$1,$V$3,$W$46+N1)) -> 5 | O46: =IFERROR(OFFSET('2010年'!$A$1,$V$3,$W$46+O1)/$X$45,OFFSET('2010年'!$A$1,$V$3,$W$46+O1)) -> 2 | P46: =IFERROR(OFFSET('2010年'!$A$1,$V$3,$W$46+P1)/$X$45,OFFSET('2010年'!$A$1,$V$3,$W$46+P1)) -> 2 | Q46: =IFERROR(OFFSET('2010年'!$A$1,$V$3,$W$46+Q1)/$X$45,OFFSET('2010年'!$A$1,$V$3,$W$46+Q1)) -> 1 | R46: =IFERROR(OFFSET('2010年'!$A$1,$V$3,$W$46+R1)/$X$45,OFFSET('2010年'!$A$1,$V$3,$W$46+R1)) -> 1 | S46: =IFERROR(ROUND(OFFSET('2010年'!CL1,$V$3,0)/100,0),OFFSET('2010年'!CL1,$V$3,0)) -> 724 | V46: 組織 | W46: =IF(RIGHT(C40,2)="面積",CELL("col",'2010年'!BX5)-1,CELL("col",'2010年'!AU5)-1) -> 46 | AA46: =IF(LEFT(O54,1)="県",Z3,D47) -> 2015年 | AB46: =S49 -> 26.529927 | AC46: =IF(AB46="-",100,IFERROR(100-AB46,AB46)) -> 73.470073 | AD46: =IF(LEFT(O54,1)="県","県平均","前回")&IF(AD45=0,"と同じで、","を "&TEXT(ABS(AD45),"0.00")&"ha "&IF(AD45>0,"上回","下回")) -> 前回を 0.06ha 上回
D47: 2015年 | F47: =IFERROR(OFFSET('2015年'!$A$1,$V$4,$W$47)/X45,OFFSET('2015年'!$A$1,$V$4,$W$47)) -> 17853 | G47: =IF(OR(OFFSET('2015年'!BI1,$V$4,0)="X",OFFSET('2015年'!AG1,$V$4,0)="X"),"X",IF(SUM(OFFSET('2015年'!AG1,$V$4,0))=0,"nc",IFERROR(ROUND(OFFSET('2015年'!BI1,$V$4,0)/100/OFFSET('2015年'!AG1,$V$4,0),2),"-"))) -> 0.82 | H47: =IF(COUNTIF(OFFSET('2015年'!$A$1,$V4,$W47+1,1,2),"X")>0,"X",IF(SUM(OFFSET('2015年'!$A$1,$V4,$W47+1,1,2))=0,"-",SUM(OFFSET('2015年'!$A$1,$V4,$W47+1,1,2))/X45)) -> 6217 | I47: =IFERROR(OFFSET('2015年'!$A$1,$V$4,$W$47+H1)/X45,OFFSET('2015年'!$A$1,$V$4,$W$47+H1)) -> 8010 | J47: =IF(COUNTIF(OFFSET('2015年'!$A$1,$V4,$W47+I1,1,2),"X")>0,"X",IF(SUM(OFFSET('2015年'!$A$1,$V4,$W47+I1,1,2))=0,"-",SUM(OFFSET('2015年'!$A$1,$V4,$W47+I1,1,2))/X45)) -> 3026 | K47: =IFERROR(OFFSET('2015年'!$A$1,$V$4,$W$47+K1)/$X$45,OFFSET('2015年'!$A$1,$V$4,$W$47+K1)) -> 302 | L47: =IFERROR(OFFSET('2015年'!$A$1,$V$4,$W$47+L1)/$X$45,OFFSET('2015年'!$A$1,$V$4,$W$47+L1)) -> 159 | M47: =IFERROR(OFFSET('2015年'!$A$1,$V$4,$W$47+M1)/$X$45,OFFSET('2015年'!$A$1,$V$4,$W$47+M1)) -> 92 | N47: =IFERROR(OFFSET('2015年'!$A$1,$V$4,$W$47+N1)/$X$45,OFFSET('2015年'!$A$1,$V$4,$W$47+N1)) -> 31 | O47: =IFERROR(OFFSET('2015年'!$A$1,$V$4,$W$47+O1)/$X$45,OFFSET('2015年'!$A$1,$V$4,$W$47+O1)) -> 8 | P47: =IFERROR(OFFSET('2015年'!$A$1,$V$4,$W$47+P1)/$X$45,OFFSET('2015年'!$A$1,$V$4,$W$47+P1)) -> 5 | Q47: =IFERROR(OFFSET('2015年'!$A$1,$V$4,$W$47+Q1)/$X$45,OFFSET('2015年'!$A$1,$V$4,$W$47+Q1)) -> 2 | R47: =IFERROR(OFFSET('2015年'!$A$1,$V$4,$W$47+R1)/$X$45,OFFSET('2015年'!$A$1,$V$4,$W$47+R1)) -> 1 | S47: =IFERROR(ROUND(OFFSET('2015年'!BW1,$V$4,0)/100,0),OFFSET('2015年'!BW1,$V$4,0)) -> 3882 | V47: 2015年 | W47: =IF(RIGHT(C40,2)="面積",CELL("col",'2015年'!BI5)-1,CELL("col",'2015年'!AG5)-1) -> 32 | AA47: 右グラフ | AB47: =IF(LEFT(O54,1)="県",S52,IF(OR(OFFSET('2010年'!CL1,$V$3,0)="X",OFFSET('2010年'!BX1,$V$3,0)="X"),"X",IF(SUM(OFFSET('2010年'!BX1,$V$3,0))=0,"-",SUM(OFFSET('2010年'!CL1,$V$3,0))/OFFSET('2010年'!BX1,$V$3,0)%))) -> 80.795411 | AC47: =IF(AB47="-","-",IFERROR(100-AB47,AB47)) -> 19.204589 | AD47: =IF(AD48="","",IF(AD45=0,"","り、")&"うち組織（"&TEXT(G48,"0.00")&"ha）は") -> り、うち組織（6.97ha）は
E48: うち組織 | F48: =IFERROR(OFFSET('2015年'!$A$1,$V$4,$W$48)/X45,OFFSET('2015年'!$A$1,$V$4,$W$48)) -> 206 | G48: =IF(OR(OFFSET('2015年'!BX1,$V$4,0)="X",OFFSET('2015年'!AU1,$V$4,0)="X"),"X",IF(SUM(OFFSET('2015年'!AU1,$V$4,0))=0,"nc",IFERROR(ROUND(OFFSET('2015年'!BX1,$V$4,0)/100/OFFSET('2015年'!AU1,$V$4,0),2),"-"))) -> 6.97 | H48: =IF(COUNTIF(OFFSET('2015年'!$A$1,$V4,$W48+1,1,2),"X")>0,"X",IF(SUM(OFFSET('2015年'!$A$1,$V4,$W48+1,1,2))=0,"-",SUM(OFFSET('2015年'!$A$1,$V4,$W48+1,1,2))/X45)) -> 24 | I48: =IFERROR(OFFSET('2015年'!$A$1,$V$4,$W$48+H1)/X45,OFFSET('2015年'!$A$1,$V$4,$W$48+H1)) -> 30 | J48: =IF(COUNTIF(OFFSET('2015年'!$A$1,$V4,$W48+I1,1,2),"X")>0,"X",IF(SUM(OFFSET('2015年'!$A$1,$V4,$W48+I1,1,2))=0,"-",SUM(OFFSET('2015年'!$A$1,$V4,$W48+I1,1,2))/X45)) -> 38 | K48: =IFERROR(OFFSET('2015年'!$A$1,$V$4,$W$48+K1)/$X$45,OFFSET('2015年'!$A$1,$V$4,$W$48+K1)) -> 30 | L48: =IFERROR(OFFSET('2015年'!$A$1,$V$4,$W$48+L1)/$X$45,OFFSET('2015年'!$A$1,$V$4,$W$48+L1)) -> 28 | M48: =IFERROR(OFFSET('2015年'!$A$1,$V$4,$W$48+M1)/$X$45,OFFSET('2015年'!$A$1,$V$4,$W$48+M1)) -> 29 | N48: =IFERROR(OFFSET('2015年'!$A$1,$V$4,$W$48+N1)/$X$45,OFFSET('2015年'!$A$1,$V$4,$W$48+N1)) -> 15 | O48: =IFERROR(OFFSET('2015年'!$A$1,$V$4,$W$48+O1)/$X$45,OFFSET('2015年'!$A$1,$V$4,$W$48+O1)) -> 4 | P48: =IFERROR(OFFSET('2015年'!$A$1,$V$4,$W$48+P1)/$X$45,OFFSET('2015年'!$A$1,$V$4,$W$48+P1)) -> 5 | Q48: =IFERROR(OFFSET('2015年'!$A$1,$V$4,$W$48+Q1)/$X$45,OFFSET('2015年'!$A$1,$V$4,$W$48+Q1)) -> 2 | R48: =IFERROR(OFFSET('2015年'!$A$1,$V$4,$W$48+R1)/$X$45,OFFSET('2015年'!$A$1,$V$4,$W$48+R1)) -> 1 | S48: =IFERROR(ROUND(OFFSET('2015年'!CL1,$V$4,0)/100,0),OFFSET('2015年'!CL1,$V$4,0)) -> 1296 | V48: 組織 | W48: =IF(RIGHT(C40,2)="面積",CELL("col",'2015年'!BX5)-1,CELL("col",'2015年'!AU1)-1) -> 46 | AA48: =AA45 -> 2010年 | AB48: =S50 -> 90.24499 | AC48: =IF(AB48="-",100,IFERROR(100-AB48,AB48)) -> 9.7550102 | AD48: =IFERROR(G48-IF(LEFT(O54,1)="県",G52,G46),"") -> -0.38
D49: 構成比(%) | F49: =IF(OR(F47="X",$F47="X"),"X",IF(SUM($F47)=0,"nc",IFERROR(F47/$F47%,"-"))) -> 100 | H49: =IF(OR(H47="X",$F47="X"),"X",IF(SUM($F47)=0,"nc",IFERROR(SUM(OFFSET('2015年'!$A$1,$V4,$W47+1,1,2))/OFFSET('2015年'!$A$1,$V$4,$W$47)%,"-"))) -> 34.823279 | I49: =IF(OR(I47="X",$F47="X"),"X",IF(SUM($F47)=0,"nc",IFERROR(OFFSET('2015年'!$A$1,$V$4,$W$47+H1)/OFFSET('2015年'!$A$1,$V$4,$W$47)%,"-"))) -> 44.866409 | J49: =IF(OR(J47="X",$F47="X"),"X",IF(SUM($F47)=0,"nc",IFERROR(SUM(OFFSET('2015年'!$A$1,$V4,$W47+I1,1,2))/OFFSET('2015年'!$A$1,$V$4,$W$47)%,"-"))) -> 16.949532 | K49: =IF(OR(K47="X",$F47="X"),"X",IF(SUM($F47)=0,"nc",IFERROR(OFFSET('2015年'!$A$1,$V$4,$W$47+K1)/OFFSET('2015年'!$A$1,$V$4,$W$47)%,"-"))) -> 1.6915924 | L49: =IF(OR(L47="X",$F47="X"),"X",IF(SUM($F47)=0,"nc",IFERROR(OFFSET('2015年'!$A$1,$V$4,$W$47+L1)/OFFSET('2015年'!$A$1,$V$4,$W$47)%,"-"))) -> 0.89060662 | M49: =IF(OR(M47="X",$F47="X"),"X",IF(SUM($F47)=0,"nc",IFERROR(OFFSET('2015年'!$A$1,$V$4,$W$47+M1)/OFFSET('2015年'!$A$1,$V$4,$W$47)%,"-"))) -> 0.51531955 | N49: =IF(OR(N47="X",$F47="X"),"X",IF(SUM($F47)=0,"nc",IFERROR(OFFSET('2015年'!$A$1,$V$4,$W$47+N1)/OFFSET('2015年'!$A$1,$V$4,$W$47)%,"-"))) -> 0.17364028 | O49: =IF(OR(O47="X",$F47="X"),"X",IF(SUM($F47)=0,"nc",IFERROR(OFFSET('2015年'!$A$1,$V$4,$W$47+O1)/OFFSET('2015年'!$A$1,$V$4,$W$47)%,"-"))) -> 0.044810396 | P49: =IF(OR(P47="X",$F47="X"),"X",IF(SUM($F47)=0,"nc",IFERROR(OFFSET('2015年'!$A$1,$V$4,$W$47+P1)/OFFSET('2015年'!$A$1,$V$4,$W$47)%,"-"))) -> 0.028006498 | Q49: =IF(OR(Q47="X",$F47="X"),"X",IF(SUM($F47)=0,"nc",IFERROR(OFFSET('2015年'!$A$1,$V$4,$W$47+Q1)/OFFSET('2015年'!$A$1,$V$4,$W$47)%,"-"))) -> 0.011202599 | R49: =IF(OR(R47="X",$F47="X"),"X",IF(SUM($F47)=0,"nc",IFERROR(OFFSET('2015年'!$A$1,$V$4,$W$47+R1)/OFFSET('2015年'!$A$1,$V$4,$W$47)%,"-"))) -> 0.0056012995 | S49: =IF(OR(OFFSET('2015年'!BW1,$V$4,0)="X",OFFSET('2015年'!BI1,$V$4,0)="X"),"X",IF(SUM(OFFSET('2015年'!BI1,$V$4,0))=0,"nc",IFERROR(OFFSET('2015年'!BW1,$V$4,0)/OFFSET('2015年'!BI1,$V$4,0)%,"-"))) -> 26.529927 | AA49: =IF(LEFT(O54,1)="県",IFERROR(LEFT(AA46,FIND("（",DBCS(AA46),2)-1)&CHAR(10)&MID(AA46,FIND("（",DBCS(AA46),2),2)&"…",IF(LEN(AA46)>4,LEFT(AA46,ROUNDUP(LEN(AA46)/2,0))&CHAR(10)&RIGHT(AA46,ROUNDDOWN(LEN(AA46)/2,0)),AA46)),AA46) -> 2015年 | AD49: =IFERROR(IF(LEFT(O54,1)="県","県平均","前回")&IF(AD48=0,"と同じ","を "&TEXT(ABS(AD48),"0.00")&"ha "&IF(AD48>0,"上回る","下回る")),IF(AD45=0,"","る")) -> 前回を 0.38ha 下回る
E50: うち組織 | F50: =IF(OR(F48="X",$F48="X"),"X",IF(SUM($F48)=0,"nc",IFERROR(F48/$F48%,"-"))) -> 100 | H50: =IF(OR(H48="X",$F48="X"),"X",IF(SUM($F48)=0,"nc",IF(H48="-","-",SUM(OFFSET('2015年'!$A$1,$V4,$W48+1,1,2))/OFFSET('2015年'!$A$1,$V$4,$W$48)%))) -> 11.650485 | I50: =IF(OR(I48="X",$F48="X"),"X",IF(SUM($F48)=0,"nc",IFERROR(OFFSET('2015年'!$A$1,$V$4,$W$48+H1)/OFFSET('2015年'!$A$1,$V$4,$W$48)%,"-"))) -> 14.563107 | J50: =IF(OR(J48="X",$F48="X"),"X",IF(SUM($F48)=0,"nc",IF(J48="-","-",SUM(OFFSET('2015年'!$A$1,$V4,$W48+I1,1,2))/OFFSET('2015年'!$A$1,$V$4,$W$48)%))) -> 18.446602 | K50: =IF(OR(K48="X",$F48="X"),"X",IF(SUM($F48)=0,"nc",IFERROR(OFFSET('2015年'!$A$1,$V$4,$W$48+K1)/OFFSET('2015年'!$A$1,$V$4,$W$48)%,"-"))) -> 14.563107 | L50: =IF(OR(L48="X",$F48="X"),"X",IF(SUM($F48)=0,"nc",IFERROR(OFFSET('2015年'!$A$1,$V$4,$W$48+L1)/OFFSET('2015年'!$A$1,$V$4,$W$48)%,"-"))) -> 13.592233 | M50: =IF(OR(M48="X",$F48="X"),"X",IF(SUM($F48)=0,"nc",IFERROR(OFFSET('2015年'!$A$1,$V$4,$W$48+M1)/OFFSET('2015年'!$A$1,$V$4,$W$48)%,"-"))) -> 14.07767 | N50: =IF(OR(N48="X",$F48="X"),"X",IF(SUM($F48)=0,"nc",IFERROR(OFFSET('2015年'!$A$1,$V$4,$W$48+N1)/OFFSET('2015年'!$A$1,$V$4,$W$48)%,"-"))) -> 7.2815534 | O50: =IF(OR(O48="X",$F48="X"),"X",IF(SUM($F48)=0,"nc",IFERROR(OFFSET('2015年'!$A$1,$V$4,$W$48+O1)/OFFSET('2015年'!$A$1,$V$4,$W$48)%,"-"))) -> 1.9417476 | P50: =IF(OR(P48="X",$F48="X"),"X",IF(SUM($F48)=0,"nc",IFERROR(OFFSET('2015年'!$A$1,$V$4,$W$48+P1)/OFFSET('2015年'!$A$1,$V$4,$W$48)%,"-"))) -> 2.4271845 | Q50: =IF(OR(Q48="X",$F48="X"),"X",IF(SUM($F48)=0,"nc",IFERROR(OFFSET('2015年'!$A$1,$V$4,$W$48+Q1)/OFFSET('2015年'!$A$1,$V$4,$W$48)%,"-"))) -> 0.97087379 | R50: =IF(OR(R48="X",$F48="X"),"X",IF(SUM($F48)=0,"nc",IFERROR(OFFSET('2015年'!$A$1,$V$4,$W$48+R1)/OFFSET('2015年'!$A$1,$V$4,$W$48)%,"-"))) -> 0.48543689 | S50: =IF(OR(OFFSET('2015年'!CL1,$V$3,0)="X",OFFSET('2015年'!BX1,$V$4,0)="X"),"X",IF(SUM(OFFSET('2015年'!BX1,$V$4,0))=0,"nc",IFERROR(OFFSET('2015年'!CL1,$V$3,0)/OFFSET('2015年'!BX1,$V$4,0)%,"-"))) -> 90.24499
E51: 県計 | F51: =IFERROR(ROUND(OFFSET('2015年'!$A$1,5,$W$47+E1)/OFFSET('2015年'!$A$1,5,$W$47+$E1)*100,1),"nc") -> 100 | G51: =IF(OR('2015年'!BI6="X",'2015年'!AG6="X"),"X",IF(SUM('2015年'!AG6)=0,"nc",IFERROR(ROUND('2015年'!BI6/'2015年'!AG6/100,2),"-"))) -> 0.82 | H51: =IF(OR(COUNTIF(OFFSET('2015年'!$A$1,5,$W$47+1,1,2),"X")>0,OFFSET('2015年'!$A$1,5,$W$47)="X"),"X",IF(SUM(OFFSET('2015年'!$A$1,5,$W$47))=0,"nc",IFERROR(SUM(OFFSET('2015年'!$A$1,5,$W$47+1,1,2))/OFFSET('2015年'!$A$1,5,$W$47)%,"-"))) -> 34.823279 | I51: =IF(OR(OFFSET('2015年'!$A$1,5,$W$47+H1)="X",OFFSET('2015年'!$A$1,5,$W$47)="X"),"X",IF(SUM(OFFSET('2015年'!$A$1,5,$W$47))=0,"nc",IFERROR(OFFSET('2015年'!$A$1,5,$W$47+H1)/OFFSET('2015年'!$A$1,5,$W$47)%,"-"))) -> 44.866409 | J51: =IF(OR(COUNTIF(OFFSET('2015年'!$A$1,5,$W$47+I1,1,2),"X")>0,OFFSET('2015年'!$A$1,5,$W$47)="X"),"X",IF(SUM(OFFSET('2015年'!$A$1,5,$W$47))=0,"nc",IFERROR(SUM(OFFSET('2015年'!$A$1,5,$W$47+I1,1,2))/OFFSET('2015年'!$A$1,5,$W$47)%,"-"))) -> 16.949532 | K51: =IF(OR(OFFSET('2015年'!$A$1,5,$W$47+K1)="X",OFFSET('2015年'!$A$1,5,$W$47)="X"),"X",IF(SUM(OFFSET('2015年'!$A$1,5,$W$47))=0,"nc",IFERROR(OFFSET('2015年'!$A$1,5,$W$47+K1)/OFFSET('2015年'!$A$1,5,$W$47)%,"-"))) -> 1.6915924 | L51: =IF(OR(OFFSET('2015年'!$A$1,5,$W$47+L1)="X",OFFSET('2015年'!$A$1,5,$W$47)="X"),"X",IF(SUM(OFFSET('2015年'!$A$1,5,$W$47))=0,"nc",IFERROR(OFFSET('2015年'!$A$1,5,$W$47+L1)/OFFSET('2015年'!$A$1,5,$W$47)%,"-"))) -> 0.89060662 | M51: =IF(OR(OFFSET('2015年'!$A$1,5,$W$47+M1)="X",OFFSET('2015年'!$A$1,5,$W$47)="X"),"X",IF(SUM(OFFSET('2015年'!$A$1,5,$W$47))=0,"nc",IFERROR(OFFSET('2015年'!$A$1,5,$W$47+M1)/OFFSET('2015年'!$A$1,5,$W$47)%,"-"))) -> 0.51531955 | N51: =IF(OR(OFFSET('2015年'!$A$1,5,$W$47+N1)="X",OFFSET('2015年'!$A$1,5,$W$47)="X"),"X",IF(SUM(OFFSET('2015年'!$A$1,5,$W$47))=0,"nc",IFERROR(OFFSET('2015年'!$A$1,5,$W$47+N1)/OFFSET('2015年'!$A$1,5,$W$47)%,"-"))) -> 0.17364028 | O51: =IF(OR(OFFSET('2015年'!$A$1,5,$W$47+O1)="X",OFFSET('2015年'!$A$1,5,$W$47)="X"),"X",IF(SUM(OFFSET('2015年'!$A$1,5,$W$47))=0,"nc",IFERROR(OFFSET('2015年'!$A$1,5,$W$47+O1)/OFFSET('2015年'!$A$1,5,$W$47)%,"-"))) -> 0.044810396 | P51: =IF(OR(OFFSET('2015年'!$A$1,5,$W$47+P1)="X",OFFSET('2015年'!$A$1,5,$W$47)="X"),"X",IF(SUM(OFFSET('2015年'!$A$1,5,$W$47))=0,"nc",IFERROR(OFFSET('2015年'!$A$1,5,$W$47+P1)/OFFSET('2015年'!$A$1,5,$W$47)%,"-"))) -> 0.028006498 | Q51: =IF(OR(OFFSET('2015年'!$A$1,5,$W$47+Q1)="X",OFFSET('2015年'!$A$1,5,$W$47)="X"),"X",IF(SUM(OFFSET('2015年'!$A$1,5,$W$47))=0,"nc",IFERROR(OFFSET('2015年'!$A$1,5,$W$47+Q1)/OFFSET('2015年'!$A$1,5,$W$47)%,"-"))) -> 0.011202599 | R51: =IF(OR(OFFSET('2015年'!$A$1,5,$W$47+R1)="X",OFFSET('2015年'!$A$1,5,$W$47)="X"),"X",IF(SUM(OFFSET('2015年'!$A$1,5,$W$47))=0,"nc",IFERROR(OFFSET('2015年'!$A$1,5,$W$47+R1)/OFFSET('2015年'!$A$1,5,$W$47)%,"-"))) -> 0.0056012995 | S51: =IFERROR(ROUND('2015年'!BW6/'2015年'!BI6%,1),"nc") -> 26.5
E52: うち組織 | F52: =IFERROR(ROUND(OFFSET('2015年'!$A$1,5,$W$48+E1)/OFFSET('2015年'!$A$1,5,$W$48+$E1)*100,1),"nc") -> 100 | G52: =IF(OR('2015年'!BX6="X",'2015年'!AU6="X"),"X",IF(SUM('2015年'!AU6)=0,"nc",IFERROR(ROUND('2015年'!BX6/'2015年'!AU6/100,2),"-"))) -> 6.97 | H52: =IF(OR(COUNTIF(OFFSET('2015年'!$A$1,5,$W$48+1,1,2),"X")>0,OFFSET('2015年'!$A$1,5,$W$48)="X"),"X",IF(SUM(OFFSET('2015年'!$A$1,5,$W$48))=0,"nc",IFERROR(SUM(OFFSET('2015年'!$A$1,5,$W$48+1,1,2))/OFFSET('2015年'!$A$1,5,$W$48)%,"-"))) -> 11.650485 | I52: =IF(OR(OFFSET('2015年'!$A$1,5,$W$48+H1)="X",OFFSET('2015年'!$A$1,5,$W$48)="X"),"X",IF(SUM(OFFSET('2015年'!$A$1,5,$W$48))=0,"nc",IFERROR(OFFSET('2015年'!$A$1,5,$W$48+H1)/OFFSET('2015年'!$A$1,5,$W$48)%,"-"))) -> 14.563107 | J52: =IF(OR(COUNTIF(OFFSET('2015年'!$A$1,5,$W$48+I1,1,2),"X")>0,OFFSET('2015年'!$A$1,5,$W$48)="X"),"X",IF(SUM(OFFSET('2015年'!$A$1,5,$W$48))=0,"nc",IFERROR(SUM(OFFSET('2015年'!$A$1,5,$W$48+I1,1,2))/OFFSET('2015年'!$A$1,5,$W$48)%,"-"))) -> 18.446602 | K52: =IF(OR(OFFSET('2015年'!$A$1,5,$W$48+K1)="X",OFFSET('2015年'!$A$1,5,$W$48)="X"),"X",IF(SUM(OFFSET('2015年'!$A$1,5,$W$48))=0,"nc",IFERROR(OFFSET('2015年'!$A$1,5,$W$48+K1)/OFFSET('2015年'!$A$1,5,$W$48)%,"-"))) -> 14.563107 | L52: =IF(OR(OFFSET('2015年'!$A$1,5,$W$48+L1)="X",OFFSET('2015年'!$A$1,5,$W$48)="X"),"X",IF(SUM(OFFSET('2015年'!$A$1,5,$W$48))=0,"nc",IFERROR(OFFSET('2015年'!$A$1,5,$W$48+L1)/OFFSET('2015年'!$A$1,5,$W$48)%,"-"))) -> 13.592233 | M52: =IF(OR(OFFSET('2015年'!$A$1,5,$W$48+M1)="X",OFFSET('2015年'!$A$1,5,$W$48)="X"),"X",IF(SUM(OFFSET('2015年'!$A$1,5,$W$48))=0,"nc",IFERROR(OFFSET('2015年'!$A$1,5,$W$48+M1)/OFFSET('2015年'!$A$1,5,$W$48)%,"-"))) -> 14.07767 | N52: =IF(OR(OFFSET('2015年'!$A$1,5,$W$48+N1)="X",OFFSET('2015年'!$A$1,5,$W$48)="X"),"X",IF(SUM(OFFSET('2015年'!$A$1,5,$W$48))=0,"nc",IFERROR(OFFSET('2015年'!$A$1,5,$W$48+N1)/OFFSET('2015年'!$A$1,5,$W$48)%,"-"))) -> 7.2815534 | O52: =IF(OR(OFFSET('2015年'!$A$1,5,$W$48+O1)="X",OFFSET('2015年'!$A$1,5,$W$48)="X"),"X",IF(SUM(OFFSET('2015年'!$A$1,5,$W$48))=0,"nc",IFERROR(OFFSET('2015年'!$A$1,5,$W$48+O1)/OFFSET('2015年'!$A$1,5,$W$48)%,"-"))) -> 1.9417476 | P52: =IF(OR(OFFSET('2015年'!$A$1,5,$W$48+P1)="X",OFFSET('2015年'!$A$1,5,$W$48)="X"),"X",IF(SUM(OFFSET('2015年'!$A$1,5,$W$48))=0,"nc",IFERROR(OFFSET('2015年'!$A$1,5,$W$48+P1)/OFFSET('2015年'!$A$1,5,$W$48)%,"-"))) -> 2.4271845 | Q52: =IF(OR(OFFSET('2015年'!$A$1,5,$W$48+Q1)="X",OFFSET('2015年'!$A$1,5,$W$48)="X"),"X",IF(SUM(OFFSET('2015年'!$A$1,5,$W$48))=0,"nc",IFERROR(OFFSET('2015年'!$A$1,5,$W$48+Q1)/OFFSET('2015年'!$A$1,5,$W$48)%,"-"))) -> 0.97087379 | R52: =IF(OR(OFFSET('2015年'!$A$1,5,$W$48+R1)="X",OFFSET('2015年'!$A$1,5,$W$48)="X"),"X",IF(SUM(OFFSET('2015年'!$A$1,5,$W$48))=0,"nc",IFERROR(OFFSET('2015年'!$A$1,5,$W$48+R1)/OFFSET('2015年'!$A$1,5,$W$48)%,"-"))) -> 0.48543689 | S52: =IFERROR(ROUND('2015年'!CL6/'2015年'!BX6%,1),"nc") -> 90.2
H54: ="《経営耕地面積規模別"&IF(RIGHT(C40,2)="面積","面積","経営体数")&IF(LEFT(O54,1)="県","割合","")&"》 " -> 《経営耕地面積規模別経営体数》 | O54: 前回との比較 | T54: 《経営耕地面積割合》
D55: =IF(LEFT(O54,1)="県","（％）","（ha）") -> （ha） | H55: =IF(LEFT(O54,1)="県","2015年",Z3) -> 山梨県
D67: =IF(LEFT(O54,1)="県","（％）","（ha）") -> （ha）
C69: 農産物販売金額１位の部門別経営体数
D70: =IF(Z78=0,"",IFERROR(" ◎ "&Z75&"（"&TEXT(MAX(G77:S77),"0.0")&"%） が最も多く、次いで"&SUBSTITUTE(Z76&Z77,"」「","」、「")&"の順で、この"&DBCS(COUNTIF(AA74:AM74,"<4"))&"部門で全体の "&TEXT(Z78,"0.0")&"% を占める","")) -> ◎ 「果樹類」（66.3%） が最も多く、次いで「稲作」、「露地野菜」の順で、この３部門で全体の 95.1% を占める
S71: 単位：経営体
F72: 計 | G72: 稲作 | H72: 麦類作 | I72: 雑穀・ いも類・ 豆類 | J72: 工芸 農作物 | K72: 露地 野菜 | L72: 施設 野菜 | M72: 果樹類 | N72: 花き・ 花木 | O72: その他の作物 | P72: 酪農 | Q72: 肉用牛 | R72: 養豚 | S72: 養鶏
D73: 2010年 | F73: =OFFSET('2010年'!$A$1,$V$3,$V74+E1) -> 18974 | G73: =OFFSET('2010年'!$A$1,$V$3,$V74+F1) -> 4229 | H73: =OFFSET('2010年'!$A$1,$V$3,$V74+G1) -> 4 | I73: =OFFSET('2010年'!$A$1,$V$3,$V74+H1) -> 168 | J73: =OFFSET('2010年'!$A$1,$V$3,$V74+I1) -> 99 | K73: =OFFSET('2010年'!$A$1,$V$3,$V74+J1) -> 1260 | L73: =OFFSET('2010年'!$A$1,$V$3,$V74+K1) -> 312 | M73: =OFFSET('2010年'!$A$1,$V$3,$V74+L1) -> 12436 | ... S73: =OFFSET('2010年'!$A$1,$V$3,$V74+R1) -> 35 | V73: 列番号 | W73: offset行数 | Y73: 凡例 | Z73: 上位 | AA73: 稲作 | AB73: 麦類作 | AC73: 雑穀ほか | AD73: 工芸農作物 | AE73: 露地 野菜 | AF73: 施設 野菜 | AG73: 果樹類 | AH73: 花き・ 花木 | AI73: その他の作物 | AJ73: 酪農 | AK73: 肉用牛 | AL73: 養豚 | AM73: 養鶏
E74: うち組織 | F74: =OFFSET('2010年'!$A$1,$V$3,$V77+E1) -> 130 | G74: =OFFSET('2010年'!$A$1,$V$3,$V77+F1) -> 18 | H74: =OFFSET('2010年'!$A$1,$V$3,$V77+G1) -> - | I74: =OFFSET('2010年'!$A$1,$V$3,$V77+H1) -> 14 | J74: =OFFSET('2010年'!$A$1,$V$3,$V77+I1) -> 3 | K74: =OFFSET('2010年'!$A$1,$V$3,$V77+J1) -> 15 | L74: =OFFSET('2010年'!$A$1,$V$3,$V77+K1) -> 7 | M74: =OFFSET('2010年'!$A$1,$V$3,$V77+L1) -> 33 | ... S74: =OFFSET('2010年'!$A$1,$V$3,$V77+R1) -> 10 | V74: =CELL("col",'2010年'!CM6)-1 -> 90 | W74: 縦棒左 | X74: 縦棒右 | Y74: =IF(LEFT(R82,1)="県",D4,D73) -> 2010年 | Z74: ３品目 | AA74: =IFERROR(RANK(G75,$G$75:$S$75,0),99) -> 2 | AB74: =IFERROR(RANK(H75,$G$75:$S$75,0),99) -> 13 | AC74: =IFERROR(RANK(I75,$G$75:$S$75,0),99) -> 6 | AD74: =IFERROR(RANK(J75,$G$75:$S$75,0),99) -> 7 | AE74: =IFERROR(RANK(K75,$G$75:$S$75,0),99) -> 3 | AF74: =IFERROR(RANK(L75,$G$75:$S$75,0),99) -> 4 | AG74: =IFERROR(RANK(M75,$G$75:$S$75,0),99) -> 1 | AH74: =IFERROR(RANK(N75,$G$75:$S$75,0),99) -> 5 | ... AM74: =IFERROR(RANK(S75,$G$75:$S$75,0),99) -> 11
D75: 2015年 | F75: =OFFSET('2015年'!$A$1,$V$4,$V$75+E1) -> 16320 | G75: =OFFSET('2015年'!$A$1,$V$4,$V$75+F1) -> 3576 | H75: =OFFSET('2015年'!$A$1,$V$4,$V$75+G1) -> 10 | I75: =OFFSET('2015年'!$A$1,$V$4,$V$75+H1) -> 128 | J75: =OFFSET('2015年'!$A$1,$V$4,$V$75+I1) -> 66 | K75: =OFFSET('2015年'!$A$1,$V$4,$V$75+J1) -> 1138 | L75: =OFFSET('2015年'!$A$1,$V$4,$V$75+K1) -> 243 | M75: =OFFSET('2015年'!$A$1,$V$4,$V$75+L1) -> 10813 | ... S75: =OFFSET('2015年'!$A$1,$V$4,$V$75+R1) -> 29 | V75: =CELL("col",'2015年'!CM6)-1 -> 90 | W75: =IF(LEFT(R82,1)="県",6,0) -> 0 | X75: =IF(LEFT(R82,1)="県",4,2) -> 2 | Y75: =IF(LEFT(R82,1)="県",Z3,D75) -> 2015年 | Z75: =SUBSTITUTE(AA75&AB75&AC75&AD75&AE75&AF75&AG75&AH75&AI75&AJ75&AK75&AL75&AM75,"」「","」と「") -> 「果樹類」 | AA75: =IF(INT(AA74)=1,"「"&CLEAN(AA73)&"」","") | AB75: =IF(INT(AB74)=1,"「"&CLEAN(AB73)&"」","") | AC75: =IF(INT(AC74)=1,"「"&CLEAN(AC73)&"」","") | AD75: =IF(INT(AD74)=1,"「"&CLEAN(AD73)&"」","") | AE75: =IF(INT(AE74)=1,"「"&CLEAN(AE73)&"」","") | AF75: =IF(INT(AF74)=1,"「"&CLEAN(AF73)&"」","") | AG75: =IF(INT(AG74)=1,"「"&CLEAN(AG73)&"」","") -> 「果樹類」 | AH75: =IF(INT(AH74)=1,"「"&CLEAN(AH73)&"」","") | ... AM75: =IF(INT(AM74)=1,"「"&CLEAN(AM73)&"」","")
E76: うち組織 | F76: =OFFSET('2015年'!$A$1,$V$4,$V$78+E1) -> 232 | G76: =OFFSET('2015年'!$A$1,$V$4,$V$78+F1) -> 28 | H76: =OFFSET('2015年'!$A$1,$V$4,$V$78+G1) -> - | I76: =OFFSET('2015年'!$A$1,$V$4,$V$78+H1) -> 19 | J76: =OFFSET('2015年'!$A$1,$V$4,$V$78+I1) -> 2 | K76: =OFFSET('2015年'!$A$1,$V$4,$V$78+J1) -> 35 | L76: =OFFSET('2015年'!$A$1,$V$4,$V$78+K1) -> 23 | M76: =OFFSET('2015年'!$A$1,$V$4,$V$78+L1) -> 72 | ... S76: =OFFSET('2015年'!$A$1,$V$4,$V$78+R1) -> 10 | V76: 列番号 | Z76: =SUBSTITUTE(AA76&AB76&AC76&AD76&AE76&AF76&AG76&AH76&AI76&AJ76&AK76&AL76&AM76,"」「","」と「") -> 「稲作」 | AA76: =IF(INT(AA74)=2,"「"&CLEAN(AA73)&"」","") -> 「稲作」 | AB76: =IF(INT(AB74)=2,"「"&CLEAN(AB73)&"」","") | AC76: =IF(INT(AC74)=2,"「"&CLEAN(AC73)&"」","") | AD76: =IF(INT(AD74)=2,"「"&CLEAN(AD73)&"」","") | AE76: =IF(INT(AE74)=2,"「"&CLEAN(AE73)&"」","") | AF76: =IF(INT(AF74)=2,"「"&CLEAN(AF73)&"」","") | AG76: =IF(INT(AG74)=2,"「"&CLEAN(AG73)&"」","") | AH76: =IF(INT(AH74)=2,"「"&CLEAN(AH73)&"」","") | ... AM76: =IF(INT(AM74)=2,"「"&CLEAN(AM73)&"」","")
D77: 構成比(%) | F77: =IF(OR(F75="X",$F75="X"),"X",IF(SUM($F75)=0,"nc",IFERROR(F75/$F75%,"-"))) -> 100 | G77: =IF(OR(G75="X",$F75="X"),"X",IF(SUM($F75)=0,"nc",IFERROR(G75/$F75%,"-"))) -> 21.911765 | H77: =IF(OR(H75="X",$F75="X"),"X",IF(SUM($F75)=0,"nc",IFERROR(H75/$F75%,"-"))) -> 0.06127451 | I77: =IF(OR(I75="X",$F75="X"),"X",IF(SUM($F75)=0,"nc",IFERROR(I75/$F75%,"-"))) -> 0.78431373 | J77: =IF(OR(J75="X",$F75="X"),"X",IF(SUM($F75)=0,"nc",IFERROR(J75/$F75%,"-"))) -> 0.40441176 | K77: =IF(OR(K75="X",$F75="X"),"X",IF(SUM($F75)=0,"nc",IFERROR(K75/$F75%,"-"))) -> 6.9730392 | L77: =IF(OR(L75="X",$F75="X"),"X",IF(SUM($F75)=0,"nc",IFERROR(L75/$F75%,"-"))) -> 1.4889706 | M77: =IF(OR(M75="X",$F75="X"),"X",IF(SUM($F75)=0,"nc",IFERROR(M75/$F75%,"-"))) -> 66.256127 | ... S77: =IF(OR(S75="X",$F75="X"),"X",IF(SUM($F75)=0,"nc",IFERROR(S75/$F75%,"-"))) -> 0.17769608 | V77: =CELL("col",'2010年'!DC6)-1 -> 106 | Z77: =SUBSTITUTE(AA77&AB77&AC77&AD77&AE77&AF77&AG77&AH77&AI77&AJ77&AK77&AL77&AM77,"」「","」と「") -> 「露地野菜」 | AA77: =IF(INT(AA74)=3,"「"&CLEAN(AA73)&"」","") | AB77: =IF(INT(AB74)=3,"「"&CLEAN(AB73)&"」","") | AC77: =IF(INT(AC74)=3,"「"&CLEAN(AC73)&"」","") | AD77: =IF(INT(AD74)=3,"「"&CLEAN(AD73)&"」","") | AE77: =IF(INT(AE74)=3,"「"&CLEAN(AE73)&"」","") -> 「露地野菜」 | AF77: =IF(INT(AF74)=3,"「"&CLEAN(AF73)&"」","") | AG77: =IF(INT(AG74)=3,"「"&CLEAN(AG73)&"」","") | AH77: =IF(INT(AH74)=3,"「"&CLEAN(AH73)&"」","") | ... AM77: =IF(INT(AM74)=3,"「"&CLEAN(AM73)&"」","")
E78: うち組織 | F78: =IF(OR(F76="X",$F76="X"),"X",IF(SUM($F76)=0,"nc",IFERROR(F76/$F76%,"nc"))) -> 100 | G78: =IF(OR(G76="X",$F76="X"),"X",IF(SUM($F76)=0,"nc",IFERROR(G76/$F76%,"-"))) -> 12.068966 | H78: =IF(OR(H76="X",$F76="X"),"X",IF(SUM($F76)=0,"nc",IFERROR(H76/$F76%,"-"))) -> - | I78: =IF(OR(I76="X",$F76="X"),"X",IF(SUM($F76)=0,"nc",IFERROR(I76/$F76%,"-"))) -> 8.1896552 | J78: =IF(OR(J76="X",$F76="X"),"X",IF(SUM($F76)=0,"nc",IFERROR(J76/$F76%,"-"))) -> 0.86206897 | K78: =IF(OR(K76="X",$F76="X"),"X",IF(SUM($F76)=0,"nc",IFERROR(K76/$F76%,"-"))) -> 15.086207 | L78: =IF(OR(L76="X",$F76="X"),"X",IF(SUM($F76)=0,"nc",IFERROR(L76/$F76%,"-"))) -> 9.9137931 | M78: =IF(OR(M76="X",$F76="X"),"X",IF(SUM($F76)=0,"nc",IFERROR(M76/$F76%,"-"))) -> 31.034483 | N78: =IF(OR(N76="X",$F76="X"),"X",IF(SUM($F76)=0,"nc",IFERROR(N76/$F76%,"-"))) -> 9.9137931 | ... S78: =IF(OR(S76="X",$F76="X"),"X",IF(SUM($F76)=0,"nc",IFERROR(S76/$F76%,"-"))) -> 4.3103448 | V78: =CELL("col",'2015年'!DC6)-1 -> 106 | Z78: =SUM(AA78:AM78) -> 95.140931 | AA78: =IF(AA74<4,G77,0) -> 21.911765 | AB78: =IF(AB74<4,H77,0) -> 0 | AC78: =IF(AC74<4,I77,0) -> 0 | AD78: =IF(AD74<4,J77,0) -> 0 | AE78: =IF(AE74<4,K77,0) -> 6.9730392 | AF78: =IF(AF74<4,L77,0) -> 0 | AG78: =IF(AG74<4,M77,0) -> 66.256127 | AH78: =IF(AH74<4,N77,0) -> 0 | ... AM78: =IF(AM74<4,S77,0) -> 0
E79: 県計 | F79: =IF(OR('2015年'!CM6="X",'2015年'!$CM$6="X"),"X",IF(SUM('2015年'!$CM$6)=0,"nc",IFERROR('2015年'!CM6/'2015年'!$CM$6%,"-"))) -> 100 | G79: =IF(OR('2015年'!CN6="X",'2015年'!$CM$6="X"),"X",IF(SUM('2015年'!$CM$6)=0,"nc",IFERROR('2015年'!CN6/'2015年'!$CM$6%,"-"))) -> 21.911765 | H79: =IF(OR('2015年'!CO6="X",'2015年'!$CM$6="X"),"X",IF(SUM('2015年'!$CM$6)=0,"nc",IFERROR('2015年'!CO6/'2015年'!$CM$6%,"-"))) -> 0.06127451 | I79: =IF(OR('2015年'!CP6="X",'2015年'!$CM$6="X"),"X",IF(SUM('2015年'!$CM$6)=0,"nc",IFERROR('2015年'!CP6/'2015年'!$CM$6%,"-"))) -> 0.78431373 | J79: =IF(OR('2015年'!CQ6="X",'2015年'!$CM$6="X"),"X",IF(SUM('2015年'!$CM$6)=0,"nc",IFERROR('2015年'!CQ6/'2015年'!$CM$6%,"-"))) -> 0.40441176 | K79: =IF(OR('2015年'!CR6="X",'2015年'!$CM$6="X"),"X",IF(SUM('2015年'!$CM$6)=0,"nc",IFERROR('2015年'!CR6/'2015年'!$CM$6%,"-"))) -> 6.9730392 | L79: =IF(OR('2015年'!CS6="X",'2015年'!$CM$6="X"),"X",IF(SUM('2015年'!$CM$6)=0,"nc",IFERROR('2015年'!CS6/'2015年'!$CM$6%,"-"))) -> 1.4889706 | M79: =IF(OR('2015年'!CT6="X",'2015年'!$CM$6="X"),"X",IF(SUM('2015年'!$CM$6)=0,"nc",IFERROR('2015年'!CT6/'2015年'!$CM$6%,"-"))) -> 66.256127 | ... S79: =IF(OR('2015年'!CZ6="X",'2015年'!$CM$6="X"),"X",IF(SUM('2015年'!$CM$6)=0,"nc",IFERROR('2015年'!CZ6/'2015年'!$CM$6%,"-"))) -> 0.17769608
E80: うち組織 | F80: =IF(OR('2015年'!DC6="X",'2015年'!$DC$6="X"),"X",IF(SUM('2015年'!$DC$6)=0,"nc",IFERROR('2015年'!DC6/'2015年'!$DC$6%,"-"))) -> 100 | G80: =IF(OR('2015年'!DD6="X",'2015年'!$DC$6="X"),"X",IF(SUM('2015年'!$DC$6)=0,"nc",IFERROR('2015年'!DD6/'2015年'!$DC$6%,"-"))) -> 12.068966 | H80: =IF(OR('2015年'!DE6="X",'2015年'!$DC$6="X"),"X",IF(SUM('2015年'!$DC$6)=0,"nc",IFERROR('2015年'!DE6/'2015年'!$DC$6%,"-"))) -> - | I80: =IF(OR('2015年'!DF6="X",'2015年'!$DC$6="X"),"X",IF(SUM('2015年'!$DC$6)=0,"nc",IFERROR('2015年'!DF6/'2015年'!$DC$6%,"-"))) -> 8.1896552 | J80: =IF(OR('2015年'!DG6="X",'2015年'!$DC$6="X"),"X",IF(SUM('2015年'!$DC$6)=0,"nc",IFERROR('2015年'!DG6/'2015年'!$DC$6%,"-"))) -> 0.86206897 | K80: =IF(OR('2015年'!DH6="X",'2015年'!$DC$6="X"),"X",IF(SUM('2015年'!$DC$6)=0,"nc",IFERROR('2015年'!DH6/'2015年'!$DC$6%,"-"))) -> 15.086207 | L80: =IF(OR('2015年'!DI6="X",'2015年'!$DC$6="X"),"X",IF(SUM('2015年'!$DC$6)=0,"nc",IFERROR('2015年'!DI6/'2015年'!$DC$6%,"-"))) -> 9.9137931 | M80: =IF(OR('2015年'!DJ6="X",'2015年'!$DC$6="X"),"X",IF(SUM('2015年'!$DC$6)=0,"nc",IFERROR('2015年'!DJ6/'2015年'!$DC$6%,"-"))) -> 31.034483 | ... S80: =IF(OR('2015年'!DP6="X",'2015年'!$DC$6="X"),"X",IF(SUM('2015年'!$DC$6)=0,"nc",IFERROR('2015年'!DP6/'2015年'!$DC$6%,"-"))) -> 4.3103448
R82: 前回との比較
C92: 農産物販売金額規模別経営体数
D93: =IFERROR("◎販売金額50万円未満は"&TEXT(G99,"#,###経営体で")&W103,"")&IFERROR(W104&"3,000万円以上は"&TEXT(K99,"#,###経営体で")&W105,"") -> ◎販売金額50万円未満は4,525経営体で743経営体(14.1%)減少したが、3,000万円以上は139経営体で3経営体(2.2%)増加
F95: 計 | G95: 50万円未満 | H95: 50～ 300 | I95: 300～1,000 | J95: 1,000～3,000 | K95: 3,000 以上 | R95: 前回との比較
L96: 3,000～ 5,000 | M96: 5,000～ 1億 | N96: 1億以上 | V96: 列番号 | W96: 数 | X96: グラフ行番号 | Z96: 凡例
D97: 2010年 | F97: =OFFSET('2010年'!$A$1,$V$4,$W97+E$1) -> 18974 | G97: =OFFSET('2010年'!$A$1,$V$4,$W97+F$1) -> 5268 | H97: =OFFSET('2010年'!$A$1,$V$4,$W97+G$1) -> 8631 | I97: =OFFSET('2010年'!$A$1,$V$4,$W97+H$1) -> 4283 | J97: =OFFSET('2010年'!$A$1,$V$4,$W97+I$1) -> 656 | K97: =OFFSET('2010年'!$A$1,$V$4,$W97+J$1) -> 136 | L97: =OFFSET('2010年'!$A$1,$V$4,$W97+K$1) -> 74 | M97: =OFFSET('2010年'!$A$1,$V$4,$W97+L$1) -> 37 | N97: =OFFSET('2010年'!$A$1,$V$4,$W97+M$1) -> 25 | P97: =IF(LEFT(R95,1)="県",D99,Z3) -> 山梨県 | Q97: ="外円：" -> 外円： | R97: =Z98 -> 2015年 | V97: 2010 | W97: =CELL("col",'2010年'!GV1)-1 -> 203 | X97: 外円 | Y97: =IF(LEFT(R95,1)="県",4,2) -> 2 | Z97: =IF(LEFT(R95,1)="県",$D$4,$D97) -> 2010年
E98: うち組織 | F98: =OFFSET('2010年'!$A$1,$V$4,$W98+E$1) -> 130 | G98: =OFFSET('2010年'!$A$1,$V$4,$W98+F$1) -> 11 | H98: =OFFSET('2010年'!$A$1,$V$4,$W98+G$1) -> 19 | I98: =OFFSET('2010年'!$A$1,$V$4,$W98+H$1) -> 32 | J98: =OFFSET('2010年'!$A$1,$V$4,$W98+I$1) -> 26 | K98: =OFFSET('2010年'!$A$1,$V$4,$W98+J$1) -> 42 | L98: =OFFSET('2010年'!$A$1,$V$4,$W98+K$1) -> 9 | M98: =OFFSET('2010年'!$A$1,$V$4,$W98+L$1) -> 17 | N98: =OFFSET('2010年'!$A$1,$V$4,$W98+M$1) -> 16 | Q98: ="内円：" -> 内円： | R98: =Z97 -> 2010年 | V98: 組織 | W98: =CELL("col",'2010年'!HE1)-1 -> 212 | X98: 内円 | Y98: =IF(LEFT(R95,1)="県",6,0) -> 0 | Z98: =IF(LEFT(R95,1)="県",Z3,D32) -> 2015年
D99: 2015年 | F99: =OFFSET('2015年'!$A$1,$V$4,$W97+E$1) -> 16320 | G99: =OFFSET('2015年'!$A$1,$V$4,$W97+F$1) -> 4525 | H99: =OFFSET('2015年'!$A$1,$V$4,$W97+G$1) -> 7029 | I99: =OFFSET('2015年'!$A$1,$V$4,$W97+H$1) -> 3975 | J99: =OFFSET('2015年'!$A$1,$V$4,$W97+I$1) -> 652 | K99: =OFFSET('2015年'!$A$1,$V$4,$W97+J$1) -> 139 | L99: =OFFSET('2015年'!$A$1,$V$4,$W97+K$1) -> 70 | M99: =OFFSET('2015年'!$A$1,$V$4,$W97+L$1) -> 40 | N99: =OFFSET('2015年'!$A$1,$V$4,$W97+M$1) -> 29 | V99: 2015 | W99: =CELL("col",'2015年'!GV3)-1 -> 203 | Z99: =IF(LEFT(R95,1)="県",Z4,D32) -> 2015年
E100: うち組織 | F100: =OFFSET('2015年'!$A$1,$V$4,$W98+E$1) -> 232 | G100: =OFFSET('2015年'!$A$1,$V$4,$W98+F$1) -> 14 | H100: =OFFSET('2015年'!$A$1,$V$4,$W98+G$1) -> 43 | I100: =OFFSET('2015年'!$A$1,$V$4,$W98+H$1) -> 54 | J100: =OFFSET('2015年'!$A$1,$V$4,$W98+I$1) -> 56 | K100: =OFFSET('2015年'!$A$1,$V$4,$W98+J$1) -> 65 | L100: =OFFSET('2015年'!$A$1,$V$4,$W98+K$1) -> 24 | M100: =OFFSET('2015年'!$A$1,$V$4,$W98+L$1) -> 20 | N100: =OFFSET('2015年'!$A$1,$V$4,$W98+M$1) -> 21 | V100: 組織 | W100: =CELL("col",'2015年'!HE3)-1 -> 212
D101: 構成比(%) | F101: =IF(OR($F99="X",F99="X"),"X",IF(SUM($F99)=0,"nc",IF(F99="-","-",F99/$F99%))) -> 100 | G101: =IF(OR($F99="X",G99="X"),"X",IF(SUM($F99)=0,"nc",IF(G99="-","-",G99/$F99%))) -> 27.726716 | H101: =IF(OR($F99="X",H99="X"),"X",IF(SUM($F99)=0,"nc",IF(H99="-","-",H99/$F99%))) -> 43.069853 | I101: =IF(OR($F99="X",I99="X"),"X",IF(SUM($F99)=0,"nc",IF(I99="-","-",I99/$F99%))) -> 24.356618 | J101: =IF(OR($F99="X",J99="X"),"X",IF(SUM($F99)=0,"nc",IF(J99="-","-",J99/$F99%))) -> 3.995098 | K101: =IF(OR($F99="X",K99="X"),"X",IF(SUM($F99)=0,"nc",IF(K99="-","-",K99/$F99%))) -> 0.85171569 | L101: =IF(OR($F99="X",L99="X"),"X",IF(SUM($F99)=0,"nc",IF(L99="-","-",L99/$F99%))) -> 0.42892157 | M101: =IF(OR($F99="X",M99="X"),"X",IF(SUM($F99)=0,"nc",IF(M99="-","-",M99/$F99%))) -> 0.24509804 | N101: =IF(OR($F99="X",N99="X"),"X",IF(SUM($F99)=0,"nc",IF(N99="-","-",N99/$F99%))) -> 0.17769608 | V101: 概要 | W101: =G99/G97-1 -> -0.14104024 | Y101: =IF(LEFT(R95,1)="県",0,-6) -> -6
E102: うち組織 | F102: =IF(OR($F100="X",F100="X"),"X",IF(SUM($F100)=0,"nc",IF(F100="-","-",F100/$F100%))) -> 100 | G102: =IF(OR($F100="X",G100="X"),"X",IF(SUM($F100)=0,"nc",IF(G100="-","-",G100/$F100%))) -> 6.0344828 | H102: =IF(OR($F100="X",H100="X"),"X",IF(SUM($F100)=0,"nc",IF(H100="-","-",H100/$F100%))) -> 18.534483 | I102: =IF(OR($F100="X",I100="X"),"X",IF(SUM($F100)=0,"nc",IF(I100="-","-",I100/$F100%))) -> 23.275862 | J102: =IF(OR($F100="X",J100="X"),"X",IF(SUM($F100)=0,"nc",IF(J100="-","-",J100/$F100%))) -> 24.137931 | K102: =IF(OR($F100="X",K100="X"),"X",IF(SUM($F100)=0,"nc",IF(K100="-","-",K100/$F100%))) -> 28.017241 | L102: =IF(OR($F100="X",L100="X"),"X",IF(SUM($F100)=0,"nc",IF(L100="-","-",L100/$F100%))) -> 10.344828 | M102: =IF(OR($F100="X",M100="X"),"X",IF(SUM($F100)=0,"nc",IF(M100="-","-",M100/$F100%))) -> 8.6206897 | N102: =IF(OR($F100="X",N100="X"),"X",IF(SUM($F100)=0,"nc",IF(N100="-","-",N100/$F100%))) -> 9.0517241 | W102: =K99/K97-1 -> 0.022058824
E103: 県計 | F103: =IFERROR(OFFSET('2015年'!$A$1,5,$W97+E$1)/OFFSET('2015年'!$A$1,5,$W97+$E$1)%,"nc") -> 100 | G103: =IFERROR(OFFSET('2015年'!$A$1,5,$W97+F$1)/OFFSET('2015年'!$A$1,5,$W97+$E$1)%,"nc") -> 27.726716 | H103: =IFERROR(OFFSET('2015年'!$A$1,5,$W97+G$1)/OFFSET('2015年'!$A$1,5,$W97+$E$1)%,"nc") -> 43.069853 | I103: =IFERROR(OFFSET('2015年'!$A$1,5,$W97+H$1)/OFFSET('2015年'!$A$1,5,$W97+$E$1)%,"nc") -> 24.356618 | J103: =IFERROR(OFFSET('2015年'!$A$1,5,$W97+I$1)/OFFSET('2015年'!$A$1,5,$W97+$E$1)%,"nc") -> 3.995098 | K103: =IFERROR(OFFSET('2015年'!$A$1,5,$W97+J$1)/OFFSET('2015年'!$A$1,5,$W97+$E$1)%,"nc") -> 0.85171569 | L103: =IFERROR(OFFSET('2015年'!$A$1,5,$W97+K$1)/OFFSET('2015年'!$A$1,5,$W97+$E$1)%,"nc") -> 0.42892157 | M103: =IFERROR(OFFSET('2015年'!$A$1,5,$W97+L$1)/OFFSET('2015年'!$A$1,5,$W97+$E$1)%,"nc") -> 0.24509804 | N103: =IFERROR(OFFSET('2015年'!$A$1,5,$W97+M$1)/OFFSET('2015年'!$A$1,5,$W97+$E$1)%,"nc") -> 0.17769608 | W103: =IF(W101=0,"変化なし",TEXT(ABS(G99-G97),"#,##0")&"経営体("&TEXT(ABS(W101),"0.0%")&")"&IF(W101>0,"増加","減少")) -> 743経営体(14.1%)減少
E104: うち組織 | F104: =IFERROR(OFFSET('2015年'!$A$1,5,$W98+E$1)/OFFSET('2015年'!$A$1,5,$W98+$E$1)%,"nc") -> 100 | G104: =IFERROR(OFFSET('2015年'!$A$1,5,$W98+F$1)/OFFSET('2015年'!$A$1,5,$W98+$E$1)%,"nc") -> 6.0344828 | H104: =IFERROR(OFFSET('2015年'!$A$1,5,$W98+G$1)/OFFSET('2015年'!$A$1,5,$W98+$E$1)%,"nc") -> 18.534483 | I104: =IFERROR(OFFSET('2015年'!$A$1,5,$W98+H$1)/OFFSET('2015年'!$A$1,5,$W98+$E$1)%,"nc") -> 23.275862 | J104: =IFERROR(OFFSET('2015年'!$A$1,5,$W98+I$1)/OFFSET('2015年'!$A$1,5,$W98+$E$1)%,"nc") -> 24.137931 | K104: =IFERROR(OFFSET('2015年'!$A$1,5,$W98+J$1)/OFFSET('2015年'!$A$1,5,$W98+$E$1)%,"nc") -> 28.017241 | L104: =IFERROR(OFFSET('2015年'!$A$1,5,$W98+K$1)/OFFSET('2015年'!$A$1,5,$W98+$E$1)%,"nc") -> 10.344828 | M104: =IFERROR(OFFSET('2015年'!$A$1,5,$W98+L$1)/OFFSET('2015年'!$A$1,5,$W98+$E$1)%,"nc") -> 8.6206897 | N104: =IFERROR(OFFSET('2015年'!$A$1,5,$W98+M$1)/OFFSET('2015年'!$A$1,5,$W98+$E$1)%,"nc") -> 9.0517241 | W104: =IF(SIGN(W101)=SIGN(W102),"し、","したが、") -> したが、
W105: =IF(SUM(K99,-K97)=0,"変化なし",TEXT(ABS(SUM(K99,-K97)),"#,###0")&"経営体"&IFERROR("("&TEXT(ABS(W102),"0.0%")&")","")&IF(SUM(K99-K97)>0,"増加","減少")) -> 3経営体(2.2%)増加
C109: 面積
S110: ="単位："&IF(RIGHT(C109,2)="面積","ha","経営体、ha") -> 単位：ha
F111: 水稲 | G111: 麦類 | I111: 雑穀 | J111: いも類 | L111: 豆類 | N111: 工芸農作物 | O111: 野菜 | Q111: 果樹 | S111: 花き・ 花木
G112: 小麦 | H112: 大麦・裸麦 | J112: ばれいしょ | K112: かんしょ | M112: うち大豆 | O112: 露地 | P112: 施設 | Q112: 露地 | R112: 施設 | V112: 列番号 | X112: 除数
D113: 2010年 | F113: =IFERROR(ROUND(OFFSET('2010年'!$A$1,$V$3,$W$113+E1)/$X$113,0),OFFSET('2010年'!$A$1,$V$3,$W$113+E1)) -> 2831 | G113: =IFERROR(ROUND(OFFSET('2010年'!$A$1,$V$3,$W$113+F1)/$X$113,0),OFFSET('2010年'!$A$1,$V$3,$W$113+F1)) -> 17 | H113: =IFERROR(ROUND(OFFSET('2010年'!$A$1,$V$3,$W$113+G1)/$X$113,0),OFFSET('2010年'!$A$1,$V$3,$W$113+G1)) -> 25 | I113: =IFERROR(ROUND(OFFSET('2010年'!$A$1,$V$3,$W$113+H1)/$X$113,0),OFFSET('2010年'!$A$1,$V$3,$W$113+H1)) -> 160 | J113: =IFERROR(ROUND(OFFSET('2010年'!$A$1,$V$3,$W$113+I1)/$X$113,0),OFFSET('2010年'!$A$1,$V$3,$W$113+I1)) -> 32 | K113: =IFERROR(ROUND(OFFSET('2010年'!$A$1,$V$3,$W$113+J1)/$X$113,0),OFFSET('2010年'!$A$1,$V$3,$W$113+J1)) -> 11 | L113: =IFERROR(ROUND(OFFSET('2010年'!$A$1,$V$3,$W$113+K1)/$X$113,0),OFFSET('2010年'!$A$1,$V$3,$W$113+K1)) -> 105 | M113: =IFERROR(ROUND(OFFSET('2010年'!$A$1,$V$3,$W$113+L1)/$X$113,0),OFFSET('2010年'!$A$1,$V$3,$W$113+L1)) -> 85 | ... S113: =IFERROR(ROUND(OFFSET('2010年'!$A$1,$V$3,$W$113+R1)/$X$113,0),OFFSET('2010年'!$A$1,$V$3,$W$113+R1)) -> 74 | V113: 2010年 | W113: =IF(RIGHT(C109,2)="面積",CELL("col",'2010年'!EG1)-1,CELL("col",'2010年'!DS1)-1) -> 136 | X113: =IF(RIGHT(C109,2)="面積",100,1) -> 100
E114: うち組織 | F114: =IFERROR(ROUND(OFFSET('2010年'!$A$1,$V$3,$W$114+E1)/$X$113,0),OFFSET('2010年'!$A$1,$V$3,$W$114+E1)) -> 112 | G114: =IFERROR(ROUND(OFFSET('2010年'!$A$1,$V$3,$W$114+F1)/$X$113,0),OFFSET('2010年'!$A$1,$V$3,$W$114+F1)) -> 2 | H114: =IFERROR(ROUND(OFFSET('2010年'!$A$1,$V$3,$W$114+G1)/$X$113,0),OFFSET('2010年'!$A$1,$V$3,$W$114+G1)) -> 11 | I114: =IFERROR(ROUND(OFFSET('2010年'!$A$1,$V$3,$W$114+H1)/$X$113,0),OFFSET('2010年'!$A$1,$V$3,$W$114+H1)) -> 55 | J114: =IFERROR(ROUND(OFFSET('2010年'!$A$1,$V$3,$W$114+I1)/$X$113,0),OFFSET('2010年'!$A$1,$V$3,$W$114+I1)) -> 3 | K114: =IFERROR(ROUND(OFFSET('2010年'!$A$1,$V$3,$W$114+J1)/$X$113,0),OFFSET('2010年'!$A$1,$V$3,$W$114+J1)) -> 6 | L114: =IFERROR(ROUND(OFFSET('2010年'!$A$1,$V$3,$W$114+K1)/$X$113,0),OFFSET('2010年'!$A$1,$V$3,$W$114+K1)) -> 40 | M114: =IFERROR(ROUND(OFFSET('2010年'!$A$1,$V$3,$W$114+L1)/$X$113,0),OFFSET('2010年'!$A$1,$V$3,$W$114+L1)) -> 39 | ... S114: =IFERROR(ROUND(OFFSET('2010年'!$A$1,$V$3,$W$114+R1)/$X$113,0),OFFSET('2010年'!$A$1,$V$3,$W$114+R1)) -> 6 | V114: 組織 | W114: =IF(RIGHT(C109,2)="面積",CELL("col",'2010年'!FI1)-1,CELL("col",'2010年'!EU1)-1) -> 164
D115: 2015年 | F115: =IFERROR(ROUND(OFFSET('2015年'!$A$1,$V$4,$W$115+E1)/$X$113,0),OFFSET('2015年'!$A$1,$V$4,$W$115+E1)) -> 2644 | G115: =IFERROR(ROUND(OFFSET('2015年'!$A$1,$V$4,$W$115+F1)/$X$113,0),OFFSET('2015年'!$A$1,$V$4,$W$115+F1)) -> 56 | H115: =IFERROR(ROUND(OFFSET('2015年'!$A$1,$V$4,$W$115+G1)/$X$113,0),OFFSET('2015年'!$A$1,$V$4,$W$115+G1)) -> 31 | I115: =IFERROR(ROUND(OFFSET('2015年'!$A$1,$V$4,$W$115+H1)/$X$113,0),OFFSET('2015年'!$A$1,$V$4,$W$115+H1)) -> 200 | J115: =IFERROR(ROUND(OFFSET('2015年'!$A$1,$V$4,$W$115+I1)/$X$113,0),OFFSET('2015年'!$A$1,$V$4,$W$115+I1)) -> 33 | K115: =IFERROR(ROUND(OFFSET('2015年'!$A$1,$V$4,$W$115+J1)/$X$113,0),OFFSET('2015年'!$A$1,$V$4,$W$115+J1)) -> 4 | L115: =IFERROR(ROUND(OFFSET('2015年'!$A$1,$V$4,$W$115+K1)/$X$113,0),OFFSET('2015年'!$A$1,$V$4,$W$115+K1)) -> 160 | M115: =IFERROR(ROUND(OFFSET('2015年'!$A$1,$V$4,$W$115+L1)/$X$113,0),OFFSET('2015年'!$A$1,$V$4,$W$115+L1)) -> 147 | ... S115: =IFERROR(ROUND(OFFSET('2015年'!$A$1,$V$4,$W$115+R1)/$X$113,0),OFFSET('2015年'!$A$1,$V$4,$W$115+R1)) -> 95 | V115: 2015年 | W115: =IF(RIGHT(C109,2)="面積",CELL("col",'2015年'!EG1)-1,CELL("col",'2015年'!DS1)-1) -> 136
E116: うち組織 | F116: =IFERROR(ROUND(OFFSET('2015年'!$A$1,$V$4,$W$116+E1)/$X$113,0),OFFSET('2015年'!$A$1,$V$4,$W$116+E1)) -> 171 | G116: =IFERROR(ROUND(OFFSET('2015年'!$A$1,$V$4,$W$116+F1)/$X$113,0),OFFSET('2015年'!$A$1,$V$4,$W$116+F1)) -> 33 | H116: =IFERROR(ROUND(OFFSET('2015年'!$A$1,$V$4,$W$116+G1)/$X$113,0),OFFSET('2015年'!$A$1,$V$4,$W$116+G1)) -> 24 | I116: =IFERROR(ROUND(OFFSET('2015年'!$A$1,$V$4,$W$116+H1)/$X$113,0),OFFSET('2015年'!$A$1,$V$4,$W$116+H1)) -> 130 | J116: =IFERROR(ROUND(OFFSET('2015年'!$A$1,$V$4,$W$116+I1)/$X$113,0),OFFSET('2015年'!$A$1,$V$4,$W$116+I1)) -> 6 | K116: =IFERROR(ROUND(OFFSET('2015年'!$A$1,$V$4,$W$116+J1)/$X$113,0),OFFSET('2015年'!$A$1,$V$4,$W$116+J1)) -> 2 | L116: =IFERROR(ROUND(OFFSET('2015年'!$A$1,$V$4,$W$116+K1)/$X$113,0),OFFSET('2015年'!$A$1,$V$4,$W$116+K1)) -> 94 | M116: =IFERROR(ROUND(OFFSET('2015年'!$A$1,$V$4,$W$116+L1)/$X$113,0),OFFSET('2015年'!$A$1,$V$4,$W$116+L1)) -> 93 | ... S116: =IFERROR(ROUND(OFFSET('2015年'!$A$1,$V$4,$W$116+R1)/$X$113,0),OFFSET('2015年'!$A$1,$V$4,$W$116+R1)) -> 13 | V116: 組織 | W116: =IF(RIGHT(C109,2)="面積",CELL("col",'2015年'!FI1)-1,CELL("col",'2015年'!EU1)-1) -> 164
D117: 1経営体当たり面積 | F117: =IF(OR(OFFSET('2015年'!$EG$1,$V$4,E1)="X",OFFSET('2015年'!$DS$1,$V$4,E1)="X"),"X",IF(SUM(OFFSET('2015年'!$DS$1,$V$4,E1))=0,"nc",IF(SUM(OFFSET('2015年'!$EG$1,$V$4,E1))=0,"-",ROUND(OFFSET('2015年'!$EG$1,$V$4,E1)/OFFSET('2015年'!$DS$1,$V$4,E1)/100,2)))) -> 0.5 | G117: =IF(OR(OFFSET('2015年'!$EG$1,$V$4,F1)="X",OFFSET('2015年'!$DS$1,$V$4,F1)="X"),"X",IF(SUM(OFFSET('2015年'!$DS$1,$V$4,F1))=0,"nc",IF(SUM(OFFSET('2015年'!$EG$1,$V$4,F1))=0,"-",ROUND(OFFSET('2015年'!$EG$1,$V$4,F1)/OFFSET('2015年'!$DS$1,$V$4,F1)/100,2)))) -> 0.54 | H117: =IF(OR(OFFSET('2015年'!$EG$1,$V$4,G1)="X",OFFSET('2015年'!$DS$1,$V$4,G1)="X"),"X",IF(SUM(OFFSET('2015年'!$DS$1,$V$4,G1))=0,"nc",IF(SUM(OFFSET('2015年'!$EG$1,$V$4,G1))=0,"-",ROUND(OFFSET('2015年'!$EG$1,$V$4,G1)/OFFSET('2015年'!$DS$1,$V$4,G1)/100,2)))) -> 1.47 | I117: =IF(OR(OFFSET('2015年'!$EG$1,$V$4,H1)="X",OFFSET('2015年'!$DS$1,$V$4,H1)="X"),"X",IF(SUM(OFFSET('2015年'!$DS$1,$V$4,H1))=0,"nc",IF(SUM(OFFSET('2015年'!$EG$1,$V$4,H1))=0,"-",ROUND(OFFSET('2015年'!$EG$1,$V$4,H1)/OFFSET('2015年'!$DS$1,$V$4,H1)/100,2)))) -> 0.8 | J117: =IF(OR(OFFSET('2015年'!$EG$1,$V$4,I1)="X",OFFSET('2015年'!$DS$1,$V$4,I1)="X"),"X",IF(SUM(OFFSET('2015年'!$DS$1,$V$4,I1))=0,"nc",IF(SUM(OFFSET('2015年'!$EG$1,$V$4,I1))=0,"-",ROUND(OFFSET('2015年'!$EG$1,$V$4,I1)/OFFSET('2015年'!$DS$1,$V$4,I1)/100,2)))) -> 0.05 | K117: =IF(OR(OFFSET('2015年'!$EG$1,$V$4,J1)="X",OFFSET('2015年'!$DS$1,$V$4,J1)="X"),"X",IF(SUM(OFFSET('2015年'!$DS$1,$V$4,J1))=0,"nc",IF(SUM(OFFSET('2015年'!$EG$1,$V$4,J1))=0,"-",ROUND(OFFSET('2015年'!$EG$1,$V$4,J1)/OFFSET('2015年'!$DS$1,$V$4,J1)/100,2)))) -> 0.05 | L117: =IF(OR(OFFSET('2015年'!$EG$1,$V$4,K1)="X",OFFSET('2015年'!$DS$1,$V$4,K1)="X"),"X",IF(SUM(OFFSET('2015年'!$DS$1,$V$4,K1))=0,"nc",IF(SUM(OFFSET('2015年'!$EG$1,$V$4,K1))=0,"-",ROUND(OFFSET('2015年'!$EG$1,$V$4,K1)/OFFSET('2015年'!$DS$1,$V$4,K1)/100,2)))) -> 0.32 | M117: =IF(OR(OFFSET('2015年'!$EG$1,$V$4,L1)="X",OFFSET('2015年'!$DS$1,$V$4,L1)="X"),"X",IF(SUM(OFFSET('2015年'!$DS$1,$V$4,L1))=0,"nc",IF(SUM(OFFSET('2015年'!$EG$1,$V$4,L1))=0,"-",ROUND(OFFSET('2015年'!$EG$1,$V$4,L1)/OFFSET('2015年'!$DS$1,$V$4,L1)/100,2)))) -> 0.42 | ... S117: =IF(OR(OFFSET('2015年'!$EG$1,$V$4,R1)="X",OFFSET('2015年'!$DS$1,$V$4,R1)="X"),"X",IF(SUM(OFFSET('2015年'!$DS$1,$V$4,R1))=0,"nc",IF(SUM(OFFSET('2015年'!$EG$1,$V$4,R1))=0,"-",ROUND(OFFSET('2015年'!$EG$1,$V$4,R1)/OFFSET('2015年'!$DS$1,$V$4,R1)/100,2)))) -> 0.31
E118: うち組織 | F118: =IF(OR(OFFSET('2015年'!$FI$1,$V$4,E1)="X",OFFSET('2015年'!$EU$1,$V$4,E1)="X"),"X",IF(SUM(OFFSET('2015年'!$EU$1,$V$4,E1))=0,"nc",IF(SUM(OFFSET('2015年'!$FI$1,$V$4,E1))=0,"-",ROUND(OFFSET('2015年'!$FI$1,$V$4,E1)/OFFSET('2015年'!$EU$1,$V$4,E1)/100,2)))) -> 3.17 | G118: =IF(OR(OFFSET('2015年'!$FI$1,$V$4,F1)="X",OFFSET('2015年'!$EU$1,$V$4,F1)="X"),"X",IF(SUM(OFFSET('2015年'!$EU$1,$V$4,F1))=0,"nc",IF(SUM(OFFSET('2015年'!$FI$1,$V$4,F1))=0,"-",ROUND(OFFSET('2015年'!$FI$1,$V$4,F1)/OFFSET('2015年'!$EU$1,$V$4,F1)/100,2)))) -> 3 | H118: =IF(OR(OFFSET('2015年'!$FI$1,$V$4,G1)="X",OFFSET('2015年'!$EU$1,$V$4,G1)="X"),"X",IF(SUM(OFFSET('2015年'!$EU$1,$V$4,G1))=0,"nc",IF(SUM(OFFSET('2015年'!$FI$1,$V$4,G1))=0,"-",ROUND(OFFSET('2015年'!$FI$1,$V$4,G1)/OFFSET('2015年'!$EU$1,$V$4,G1)/100,2)))) -> 4.08 | I118: =IF(OR(OFFSET('2015年'!$FI$1,$V$4,H1)="X",OFFSET('2015年'!$EU$1,$V$4,H1)="X"),"X",IF(SUM(OFFSET('2015年'!$EU$1,$V$4,H1))=0,"nc",IF(SUM(OFFSET('2015年'!$FI$1,$V$4,H1))=0,"-",ROUND(OFFSET('2015年'!$FI$1,$V$4,H1)/OFFSET('2015年'!$EU$1,$V$4,H1)/100,2)))) -> 10.86 | J118: =IF(OR(OFFSET('2015年'!$FI$1,$V$4,I1)="X",OFFSET('2015年'!$EU$1,$V$4,I1)="X"),"X",IF(SUM(OFFSET('2015年'!$EU$1,$V$4,I1))=0,"nc",IF(SUM(OFFSET('2015年'!$FI$1,$V$4,I1))=0,"-",ROUND(OFFSET('2015年'!$FI$1,$V$4,I1)/OFFSET('2015年'!$EU$1,$V$4,I1)/100,2)))) -> 0.31 | K118: =IF(OR(OFFSET('2015年'!$FI$1,$V$4,J1)="X",OFFSET('2015年'!$EU$1,$V$4,J1)="X"),"X",IF(SUM(OFFSET('2015年'!$EU$1,$V$4,J1))=0,"nc",IF(SUM(OFFSET('2015年'!$FI$1,$V$4,J1))=0,"-",ROUND(OFFSET('2015年'!$FI$1,$V$4,J1)/OFFSET('2015年'!$EU$1,$V$4,J1)/100,2)))) -> 0.26 | L118: =IF(OR(OFFSET('2015年'!$FI$1,$V$4,K1)="X",OFFSET('2015年'!$EU$1,$V$4,K1)="X"),"X",IF(SUM(OFFSET('2015年'!$EU$1,$V$4,K1))=0,"nc",IF(SUM(OFFSET('2015年'!$FI$1,$V$4,K1))=0,"-",ROUND(OFFSET('2015年'!$FI$1,$V$4,K1)/OFFSET('2015年'!$EU$1,$V$4,K1)/100,2)))) -> 3.49 | M118: =IF(OR(OFFSET('2015年'!$FI$1,$V$4,L1)="X",OFFSET('2015年'!$EU$1,$V$4,L1)="X"),"X",IF(SUM(OFFSET('2015年'!$EU$1,$V$4,L1))=0,"nc",IF(SUM(OFFSET('2015年'!$FI$1,$V$4,L1))=0,"-",ROUND(OFFSET('2015年'!$FI$1,$V$4,L1)/OFFSET('2015年'!$EU$1,$V$4,L1)/100,2)))) -> 3.74 | ... S118: =IF(OR(OFFSET('2015年'!$FI$1,$V$4,R1)="X",OFFSET('2015年'!$EU$1,$V$4,R1)="X"),"X",IF(SUM(OFFSET('2015年'!$EU$1,$V$4,R1))=0,"nc",IF(SUM(OFFSET('2015年'!$FI$1,$V$4,R1))=0,"-",ROUND(OFFSET('2015年'!$FI$1,$V$4,R1)/OFFSET('2015年'!$EU$1,$V$4,R1)/100,2)))) -> 0.47
E119: 県計 | F119: =IF(OR(OFFSET('2015年'!$EG$1,5,E1)="X",OFFSET('2015年'!$DS$1,5,E1)="X"),"X",IF(SUM(OFFSET('2015年'!$DS$1,5,E1))=0,"nc",IF(SUM(OFFSET('2015年'!$EG$1,5,E1))=0,"-",ROUND(OFFSET('2015年'!$EG$1,5,E1)/OFFSET('2015年'!$DS$1,5,E1)/100,2)))) -> 0.5 | G119: =IF(OR(OFFSET('2015年'!$EG$1,5,F1)="X",OFFSET('2015年'!$DS$1,5,F1)="X"),"X",IF(SUM(OFFSET('2015年'!$DS$1,5,F1))=0,"nc",IF(SUM(OFFSET('2015年'!$EG$1,5,F1))=0,"-",ROUND(OFFSET('2015年'!$EG$1,5,F1)/OFFSET('2015年'!$DS$1,5,F1)/100,2)))) -> 0.54 | H119: =IF(OR(OFFSET('2015年'!$EG$1,5,G1)="X",OFFSET('2015年'!$DS$1,5,G1)="X"),"X",IF(SUM(OFFSET('2015年'!$DS$1,5,G1))=0,"nc",IF(SUM(OFFSET('2015年'!$EG$1,5,G1))=0,"-",ROUND(OFFSET('2015年'!$EG$1,5,G1)/OFFSET('2015年'!$DS$1,5,G1)/100,2)))) -> 1.47 | I119: =IF(OR(OFFSET('2015年'!$EG$1,5,H1)="X",OFFSET('2015年'!$DS$1,5,H1)="X"),"X",IF(SUM(OFFSET('2015年'!$DS$1,5,H1))=0,"nc",IF(SUM(OFFSET('2015年'!$EG$1,5,H1))=0,"-",ROUND(OFFSET('2015年'!$EG$1,5,H1)/OFFSET('2015年'!$DS$1,5,H1)/100,2)))) -> 0.8 | J119: =IF(OR(OFFSET('2015年'!$EG$1,5,I1)="X",OFFSET('2015年'!$DS$1,5,I1)="X"),"X",IF(SUM(OFFSET('2015年'!$DS$1,5,I1))=0,"nc",IF(SUM(OFFSET('2015年'!$EG$1,5,I1))=0,"-",ROUND(OFFSET('2015年'!$EG$1,5,I1)/OFFSET('2015年'!$DS$1,5,I1)/100,2)))) -> 0.05 | K119: =IF(OR(OFFSET('2015年'!$EG$1,5,J1)="X",OFFSET('2015年'!$DS$1,5,J1)="X"),"X",IF(SUM(OFFSET('2015年'!$DS$1,5,J1))=0,"nc",IF(SUM(OFFSET('2015年'!$EG$1,5,J1))=0,"-",ROUND(OFFSET('2015年'!$EG$1,5,J1)/OFFSET('2015年'!$DS$1,5,J1)/100,2)))) -> 0.05 | L119: =IF(OR(OFFSET('2015年'!$EG$1,5,K1)="X",OFFSET('2015年'!$DS$1,5,K1)="X"),"X",IF(SUM(OFFSET('2015年'!$DS$1,5,K1))=0,"nc",IF(SUM(OFFSET('2015年'!$EG$1,5,K1))=0,"-",ROUND(OFFSET('2015年'!$EG$1,5,K1)/OFFSET('2015年'!$DS$1,5,K1)/100,2)))) -> 0.32 | M119: =IF(OR(OFFSET('2015年'!$EG$1,5,L1)="X",OFFSET('2015年'!$DS$1,5,L1)="X"),"X",IF(SUM(OFFSET('2015年'!$DS$1,5,L1))=0,"nc",IF(SUM(OFFSET('2015年'!$EG$1,5,L1))=0,"-",ROUND(OFFSET('2015年'!$EG$1,5,L1)/OFFSET('2015年'!$DS$1,5,L1)/100,2)))) -> 0.42 | ... S119: =IF(OR(OFFSET('2015年'!$EG$1,5,R1)="X",OFFSET('2015年'!$DS$1,5,R1)="X"),"X",IF(SUM(OFFSET('2015年'!$DS$1,5,R1))=0,"nc",IF(SUM(OFFSET('2015年'!$EG$1,5,R1))=0,"-",ROUND(OFFSET('2015年'!$EG$1,5,R1)/OFFSET('2015年'!$DS$1,5,R1)/100,2)))) -> 0.31
E120: うち組織 | F120: =IF(OR(OFFSET('2015年'!$FI$1,5,E1)="X",OFFSET('2015年'!$EU$1,5,E1)="X"),"X",IF(SUM(OFFSET('2015年'!$EU$1,5,E1))=0,"nc",IF(SUM(OFFSET('2015年'!$FI$1,5,E1))=0,"-",ROUND(OFFSET('2015年'!$FI$1,5,E1)/OFFSET('2015年'!$EU$1,5,E1)/100,2)))) -> 3.17 | G120: =IF(OR(OFFSET('2015年'!$FI$1,5,F1)="X",OFFSET('2015年'!$EU$1,5,F1)="X"),"X",IF(SUM(OFFSET('2015年'!$EU$1,5,F1))=0,"nc",IF(SUM(OFFSET('2015年'!$FI$1,5,F1))=0,"-",ROUND(OFFSET('2015年'!$FI$1,5,F1)/OFFSET('2015年'!$EU$1,5,F1)/100,2)))) -> 3 | H120: =IF(OR(OFFSET('2015年'!$FI$1,5,G1)="X",OFFSET('2015年'!$EU$1,5,G1)="X"),"X",IF(SUM(OFFSET('2015年'!$EU$1,5,G1))=0,"nc",IF(SUM(OFFSET('2015年'!$FI$1,5,G1))=0,"-",ROUND(OFFSET('2015年'!$FI$1,5,G1)/OFFSET('2015年'!$EU$1,5,G1)/100,2)))) -> 4.08 | I120: =IF(OR(OFFSET('2015年'!$FI$1,5,H1)="X",OFFSET('2015年'!$EU$1,5,H1)="X"),"X",IF(SUM(OFFSET('2015年'!$EU$1,5,H1))=0,"nc",IF(SUM(OFFSET('2015年'!$FI$1,5,H1))=0,"-",ROUND(OFFSET('2015年'!$FI$1,5,H1)/OFFSET('2015年'!$EU$1,5,H1)/100,2)))) -> 10.86 | J120: =IF(OR(OFFSET('2015年'!$FI$1,5,I1)="X",OFFSET('2015年'!$EU$1,5,I1)="X"),"X",IF(SUM(OFFSET('2015年'!$EU$1,5,I1))=0,"nc",IF(SUM(OFFSET('2015年'!$FI$1,5,I1))=0,"-",ROUND(OFFSET('2015年'!$FI$1,5,I1)/OFFSET('2015年'!$EU$1,5,I1)/100,2)))) -> 0.31 | K120: =IF(OR(OFFSET('2015年'!$FI$1,5,J1)="X",OFFSET('2015年'!$EU$1,5,J1)="X"),"X",IF(SUM(OFFSET('2015年'!$EU$1,5,J1))=0,"nc",IF(SUM(OFFSET('2015年'!$FI$1,5,J1))=0,"-",ROUND(OFFSET('2015年'!$FI$1,5,J1)/OFFSET('2015年'!$EU$1,5,J1)/100,2)))) -> 0.26 | L120: =IF(OR(OFFSET('2015年'!$FI$1,5,K1)="X",OFFSET('2015年'!$EU$1,5,K1)="X"),"X",IF(SUM(OFFSET('2015年'!$EU$1,5,K1))=0,"nc",IF(SUM(OFFSET('2015年'!$FI$1,5,K1))=0,"-",ROUND(OFFSET('2015年'!$FI$1,5,K1)/OFFSET('2015年'!$EU$1,5,K1)/100,2)))) -> 3.49 | M120: =IF(OR(OFFSET('2015年'!$FI$1,5,L1)="X",OFFSET('2015年'!$EU$1,5,L1)="X"),"X",IF(SUM(OFFSET('2015年'!$EU$1,5,L1))=0,"nc",IF(SUM(OFFSET('2015年'!$FI$1,5,L1))=0,"-",ROUND(OFFSET('2015年'!$FI$1,5,L1)/OFFSET('2015年'!$EU$1,5,L1)/100,2)))) -> 3.74 | ... S120: =IF(OR(OFFSET('2015年'!$FI$1,5,R1)="X",OFFSET('2015年'!$EU$1,5,R1)="X"),"X",IF(SUM(OFFSET('2015年'!$EU$1,5,R1))=0,"nc",IF(SUM(OFFSET('2015年'!$FI$1,5,R1))=0,"-",ROUND(OFFSET('2015年'!$FI$1,5,R1)/OFFSET('2015年'!$EU$1,5,R1)/100,2)))) -> 0.47
C122: 販売目的で作付（栽培）した作物別面積 | V122: 列番号 | W122: offset行数 | Y122: 凡例 | Z122: 上位 | AB122: 稲作 | AC122: 麦類作 | AD122: 雑穀・ いも類・ 豆類 | AE122: 工芸 農作物 | AF122: 露地 野菜 | AG122: 施設 野菜 | AH122: 果樹類 | AI122: 花き・ 花木 | AJ122: その他 の作物 | AK122: 畜産
D123: =IFERROR(" ◎ "&AA125&"（"&TEXT(Z125,"0.0")&"%） が最も多く、次いで"&SUBSTITUTE(AA126&AA127,"」「","」、「")&"の順で、この"&DBCS(COUNTIF(AB123:AK123,"<4"))&"部門で全体の "&TEXT(Z124,"0.0")&"% を占める","") | V123: =CELL("col",'2010年'!CM69)-1 -> 90 | W123: 縦棒左 | X123: 縦棒右 | Y123: =IF(LEFT(R137,1)="県",#REF!,D127) -> 2010年 | Z123: ３品目計 | AA123: 順位 | AB123: =IFERROR(RANK(G129,#REF!,0),99) -> 99 | AC123: =IFERROR(RANK(H129,#REF!,0),99) -> 99 | AD123: =IFERROR(RANK(I129,#REF!,0),99) -> 99 | AE123: =IFERROR(RANK(J129,#REF!,0),99) -> 99 | AF123: =IFERROR(RANK(K129,#REF!,0),99) -> 99 | AG123: =IFERROR(RANK(L129,#REF!,0),99) -> 99 | AH123: =IFERROR(RANK(M129,#REF!,0),99) -> 99 | AI123: =IFERROR(RANK(N129,#REF!,0),99) -> 99 | ... AK123: =IFERROR(RANK(P129,#REF!,0),99) -> 99
P124: 単位：経営体 | V124: =CELL("col",'2015年'!CM69)-1 -> 90 | W124: =IF(LEFT(R137,1)="県",2,-2) -> -2 | X124: =IF(LEFT(R137,1)="県",1,0) -> 0 | Y124: =IF(LEFT(R137,1)="県",#REF!,D129) -> 2015年 | Z124: =SUM(AB124:AK124) -> 0 | AA124: ％ | AB124: =IF(AB123<4,G129/#REF!%,0) -> 0 | AC124: =IF(AC123<4,H129/#REF!%,0) -> 0 | AD124: =IF(AD123<4,I129/#REF!%,0) -> 0 | AE124: =IF(AE123<4,J129/#REF!%,0) -> 0 | AF124: =IF(AF123<4,K129/#REF!%,0) -> 0 | AG124: =IF(AG123<4,L129/#REF!%,0) -> 0 | AH124: =IF(AH123<4,M129/#REF!%,0) -> 0 | AI124: =IF(AI123<4,N129/#REF!%,0) -> 0 | ... AK124: =IF(AK123<4,P129/#REF!%,0) -> 0
F125: 計 | G125: 稲作 | H125: 麦類作 | I125: 雑穀・ いも類・ 豆類 | J125: 工芸農作物 | K125: 野菜類 | M125: 果樹類 | N125: 花き・ 花木 | O125: その他の作物 | P125: 畜産 | Y125: １位 | Z125: =SUMIF(#REF!,1,AB124:AK124) -> #REF! | AA125: =SUBSTITUTE(AB125&AC125&AD125&AE125&AF125&AG125&AH125&AI125&AJ125&AK125,"」「","」と「") | AB125: =IF(AB123=1,"「"&CLEAN(AB122)&"」","") | AC125: =IF(AC123=1,"「"&CLEAN(AC122)&"」","") | AD125: =IF(AD123=1,"「"&CLEAN(AD122)&"」","") | AE125: =IF(AE123=1,"「"&CLEAN(AE122)&"」","") | AF125: =IF(AF123=1,"「"&CLEAN(AF122)&"」","") | AG125: =IF(AG123=1,"「"&CLEAN(AG122)&"」","") | AH125: =IF(AH123=1,"「"&CLEAN(AH122)&"」","") | AI125: =IF(AI123=1,"「"&CLEAN(AI122)&"」","") | ... AK125: =IF(AK123=1,"「"&CLEAN(AK122)&"」","")
K126: 露地 | L126: 施設 | O126: その他の作物 | P126: 畜産 | Y126: ２位 | Z126: =SUMIF(#REF!,2,#REF!) -> #REF! | AA126: =SUBSTITUTE(AB126&AC126&AD126&AE126&AF126&AG126&AH126&AI126&AJ126&AK126,"」「","」と「") | AB126: =IF(AB123=2,"「"&CLEAN(AB122)&"」","") | AC126: =IF(AC123=2,"「"&CLEAN(AC122)&"」","") | AD126: =IF(AD123=2,"「"&CLEAN(AD122)&"」","") | AE126: =IF(AE123=2,"「"&CLEAN(AE122)&"」","") | AF126: =IF(AF123=2,"「"&CLEAN(AF122)&"」","") | AG126: =IF(AG123=2,"「"&CLEAN(AG122)&"」","") | AH126: =IF(AH123=2,"「"&CLEAN(AH122)&"」","") | AI126: =IF(AI123=2,"「"&CLEAN(AI122)&"」","") | ... AK126: =IF(AK123=2,"「"&CLEAN(AK122)&"」","")
D127: 2010年 | F127: =IFERROR(OFFSET('2010年'!$A$1,$V$3,$V123),"nc") -> 18974 | G127: =IFERROR(OFFSET('2010年'!$A$1,$V$3,$V123+F$1),"nc") -> 4229 | H127: =IFERROR(OFFSET('2010年'!$A$1,$V$3,$V123+G$1),"nc") -> 4 | I127: =IFERROR(OFFSET('2010年'!$A$1,$V$3,$V123+H$1),"nc") -> 168 | J127: =IFERROR(OFFSET('2010年'!$A$1,$V$3,$V123+I$1),"nc") -> 99 | K127: =IFERROR(OFFSET('2010年'!$A$1,$V$3,$V123+J$1),"nc") -> 1260 | L127: =IFERROR(OFFSET('2010年'!$A$1,$V$3,$V123+K$1),"nc") -> 312 | M127: =IFERROR(OFFSET('2010年'!$A$1,$V$3,$V123+L$1),"nc") -> 12436 | N127: =IFERROR(OFFSET('2010年'!$A$1,$V$3,$V123+M$1),"nc") -> 211 | O127: =IFERROR(OFFSET('2010年'!$A$1,$V$3,$V123+N$1),"nc") -> 68 | P127: =IFERROR(IF(COUNTIF(OFFSET('2010年'!$A$1,$V$3,$V123+O$1,1,6),"X")>0,"X",SUM(OFFSET('2010年'!$A$1,$V$3,$V123+O$1,1,6))),"nc") -> 187 | Y127: ３位 | Z127: =SUMIF(#REF!,3,#REF!) -> #REF! | AA127: =SUBSTITUTE(AB127&AC127&AD127&AE127&AF127&AG127&AH127&AI127&AJ127&AK127,"」「","」と「") | AB127: =IF(AB123=3,"「"&CLEAN(AB122)&"」","") | AC127: =IF(AC123=3,"「"&CLEAN(AC122)&"」","") | AD127: =IF(AD123=3,"「"&CLEAN(AD122)&"」","") | AE127: =IF(AE123=3,"「"&CLEAN(AE122)&"」","") | AF127: =IF(AF123=3,"「"&CLEAN(AF122)&"」","") | AG127: =IF(AG123=3,"「"&CLEAN(AG122)&"」","") | AH127: =IF(AH123=3,"「"&CLEAN(AH122)&"」","") | AI127: =IF(AI123=3,"「"&CLEAN(AI122)&"」","") | ... AK127: =IF(AK123=3,"「"&CLEAN(AK122)&"」","")
F128: =IFERROR(IF(OR(F127="…",F127="‥",$F127="…",$F127="‥"),"nc",IF(OR(F127="X",$F127="X"),"X",IF(AND(F127="-",VALUE($F127)>0),"-",F127/$F127%))),"nc") -> 100 | G128: =IFERROR(IF(OR(G127="…",G127="‥",$F127="…",$F127="‥"),"nc",IF(OR(G127="X",$F127="X"),"X",IF(AND(G127="-",VALUE($F127)>0),"-",G127/$F127%))),"nc") -> 22.288395 | H128: =IFERROR(IF(OR(H127="…",H127="‥",$F127="…",$F127="‥"),"nc",IF(OR(H127="X",$F127="X"),"X",IF(AND(H127="-",VALUE($F127)>0),"-",H127/$F127%))),"nc") -> 0.02108148 | I128: =IFERROR(IF(OR(I127="…",I127="‥",$F127="…",$F127="‥"),"nc",IF(OR(I127="X",$F127="X"),"X",IF(AND(I127="-",VALUE($F127)>0),"-",I127/$F127%))),"nc") -> 0.88542216 | J128: =IFERROR(IF(OR(J127="…",J127="‥",$F127="…",$F127="‥"),"nc",IF(OR(J127="X",$F127="X"),"X",IF(AND(J127="-",VALUE($F127)>0),"-",J127/$F127%))),"nc") -> 0.52176663 | K128: =IFERROR(IF(OR(K127="…",K127="‥",$F127="…",$F127="‥"),"nc",IF(OR(K127="X",$F127="X"),"X",IF(AND(K127="-",VALUE($F127)>0),"-",K127/$F127%))),"nc") -> 6.6406662 | L128: =IFERROR(IF(OR(L127="…",L127="‥",$F127="…",$F127="‥"),"nc",IF(OR(L127="X",$F127="X"),"X",IF(AND(L127="-",VALUE($F127)>0),"-",L127/$F127%))),"nc") -> 1.6443554 | M128: =IFERROR(IF(OR(M127="…",M127="‥",$F127="…",$F127="‥"),"nc",IF(OR(M127="X",$F127="X"),"X",IF(AND(M127="-",VALUE($F127)>0),"-",M127/$F127%))),"nc") -> 65.542321 | ... P128: =IFERROR(IF(OR(P127="…",P127="‥",$F127="…",$F127="‥"),"nc",IF(OR(P127="X",$F127="X"),"X",IF(AND(P127="-",VALUE($F127)>0),"-",P127/$F127%))),"nc") -> 0.98555919
D129: 2015年 | F129: =IFERROR(OFFSET('2015年'!$A$1,$V$4,V124),"nc") -> 16320 | G129: =IFERROR(OFFSET('2015年'!$A$1,$V$4,$V124+#REF!),"nc") -> nc | H129: =IFERROR(OFFSET('2015年'!$A$1,$V$4,$V124+#REF!),"nc") -> nc | I129: =IFERROR(OFFSET('2015年'!$A$1,$V$4,$V124+#REF!),"nc") -> nc | J129: =IFERROR(OFFSET('2015年'!$A$1,$V$4,$V124+#REF!),"nc") -> nc | K129: =IFERROR(OFFSET('2015年'!$A$1,$V$4,$V124+#REF!),"nc") -> nc | L129: =IFERROR(OFFSET('2015年'!$A$1,$V$4,$V124+#REF!),"nc") -> nc | M129: =IFERROR(OFFSET('2015年'!$A$1,$V$4,$V124+M115),"nc") -> 0 | N129: =IFERROR(OFFSET('2015年'!$A$1,$V$4,$V124+N115),"nc") -> 503 | O129: =IFERROR(OFFSET('2015年'!$A$1,$V$4,$V124+O115),"nc") -> 0 | P129: =IFERROR(SUM(OFFSET('2015年'!$A$1,$V$4,$V124+P115,1,6)),"nc") -> 36759
E130: 構成比(%) | F130: =IFERROR(IF(OR(F129="…",F129="‥",$F129="…",$F129="‥"),"nc",IF(OR(F129="X",$F129="X"),"X",IF(AND(F129="-",VALUE($F129)>0),"-",F129/$F129%))),"nc") -> 100 | G130: =IFERROR(IF(OR(G129="…",G129="‥",$F129="…",$F129="‥"),"nc",IF(OR(G129="X",$F129="X"),"X",IF(AND(G129="-",VALUE($F129)>0),"-",G129/$F129%))),"nc") -> nc | H130: =IFERROR(IF(OR(H129="…",H129="‥",$F129="…",$F129="‥"),"nc",IF(OR(H129="X",$F129="X"),"X",IF(AND(H129="-",VALUE($F129)>0),"-",H129/$F129%))),"nc") -> nc | I130: =IFERROR(IF(OR(I129="…",I129="‥",$F129="…",$F129="‥"),"nc",IF(OR(I129="X",$F129="X"),"X",IF(AND(I129="-",VALUE($F129)>0),"-",I129/$F129%))),"nc") -> nc | J130: =IFERROR(IF(OR(J129="…",J129="‥",$F129="…",$F129="‥"),"nc",IF(OR(J129="X",$F129="X"),"X",IF(AND(J129="-",VALUE($F129)>0),"-",J129/$F129%))),"nc") -> nc | K130: =IFERROR(IF(OR(K129="…",K129="‥",$F129="…",$F129="‥"),"nc",IF(OR(K129="X",$F129="X"),"X",IF(AND(K129="-",VALUE($F129)>0),"-",K129/$F129%))),"nc") -> nc | L130: =IFERROR(IF(OR(L129="…",L129="‥",$F129="…",$F129="‥"),"nc",IF(OR(L129="X",$F129="X"),"X",IF(AND(L129="-",VALUE($F129)>0),"-",L129/$F129%))),"nc") -> nc | M130: =IFERROR(IF(OR(M129="…",M129="‥",$F129="…",$F129="‥"),"nc",IF(OR(M129="X",$F129="X"),"X",IF(AND(M129="-",VALUE($F129)>0),"-",M129/$F129%))),"nc") -> 0 | ... P130: =IFERROR(IF(OR(P129="…",P129="‥",$F129="…",$F129="‥"),"nc",IF(OR(P129="X",$F129="X"),"X",IF(AND(P129="-",VALUE($F129)>0),"-",P129/$F129%))),"nc") -> 225.23897
E131: 県計 構成比(%) | F131: 100 | G131: =IFERROR(IF(OFFSET('2015年'!$A$1,5,$V$75+#REF!)="-","-",OFFSET('2015年'!$A$1,5,$V$75+#REF!)/OFFSET('2015年'!$A$1,5,$V$75)*100),"nc") -> nc | H131: =IFERROR(IF(OFFSET('2015年'!$A$1,5,$V$75+#REF!)="-","-",OFFSET('2015年'!$A$1,5,$V$75+#REF!)/OFFSET('2015年'!$A$1,5,$V$75)*100),"nc") -> nc | I131: =IFERROR(IF(OFFSET('2015年'!$A$1,5,$V$75+#REF!)="-","-",OFFSET('2015年'!$A$1,5,$V$75+#REF!)/OFFSET('2015年'!$A$1,5,$V$75)*100),"nc") -> nc | J131: =IFERROR(IF(OFFSET('2015年'!$A$1,5,$V$75+#REF!)="-","-",OFFSET('2015年'!$A$1,5,$V$75+#REF!)/OFFSET('2015年'!$A$1,5,$V$75)*100),"nc") -> nc | K131: =IFERROR(IF(OFFSET('2015年'!$A$1,5,$V$75+#REF!)="-","-",OFFSET('2015年'!$A$1,5,$V$75+#REF!)/OFFSET('2015年'!$A$1,5,$V$75)*100),"nc") -> nc | L131: =IFERROR(IF(OFFSET('2015年'!$A$1,5,$V$75+#REF!)="-","-",OFFSET('2015年'!$A$1,5,$V$75+#REF!)/OFFSET('2015年'!$A$1,5,$V$75)*100),"nc") -> nc | M131: =IFERROR(IF(OFFSET('2015年'!$A$1,5,$V$75+M115)="-","-",OFFSET('2015年'!$A$1,5,$V$75+M115)/OFFSET('2015年'!$A$1,5,$V$75)*100),"nc") -> 0 | N131: =IFERROR(IF(OFFSET('2015年'!$A$1,5,$V$75+N115)="-","-",OFFSET('2015年'!$A$1,5,$V$75+N115)/OFFSET('2015年'!$A$1,5,$V$75)*100),"nc") -> 3.0821078 | O131: =IFERROR(IF(OFFSET('2015年'!$A$1,5,$V$75+O115)="-","-",OFFSET('2015年'!$A$1,5,$V$75+O115)/OFFSET('2015年'!$A$1,5,$V$75)*100),"nc") -> 0 | P131: =IFERROR(IF(SUM(OFFSET('2015年'!$A$1,5,$V$75+P115,1,6))=0,"-",SUM(OFFSET('2015年'!$A$1,5,$V$75+P115,1,6))/OFFSET('2015年'!$A$1,5,$V$75)*100),"nc") -> 225.23897
D132: うち組織経営体
...

Sheet 2015年
A1: 都道府県名 (支庁名) | B1: 市区町村名 | C1: 旧市区町村名 | E1: （１）組織形態別経営体数（農業経営体） | M1: （１）認定農業者 | N1: （１）組織形態別経営体数（うち組織） | V1: （１）認定農業者 | W1: （３）雇用者（農業経営体） | AB1: （３）雇用者（うち組織） | AG1: （２）経営耕地面積規模別経営体数（農業経営体） | AU1: （２）経営耕地面積規模別経営体数（うち組織経営体） | BI1: （３）経営耕地面積規模別面積（農業経営体） | BX1: （３）経営耕地面積規模別面積（うち組織経営体） | CM1: （４）農産物販売金額１位の部門別経営体数（農業経営体） | DC1: （４）農産物販売金額１位の部門別経営体数（うち組織経営体） | DS1: （１）販売目的で作付け（栽培）した作物の類別作付（栽培）経営体数（農業経営体） | EG1: （２）販売目的で作付け（栽培）した作物の類別作付（栽培）面積（農業経営体） | EU1: （１）販売目的で作付け（栽培）した作物の類別作付（栽培）経営体数（うち組織経営体） | FI1: （２）販売目的で作付け（栽培）した作物の類別作付（栽培）面積（うち組織経営体） | FW1: 農業生産関連事業を行っている実経営体数（農業経営体） | GF1: 農業生産関連事業を行っている実経営体数（組織経営体） | GO1: （１）農作業を受託した経営体の事業部門別経営体数（農業経営体） | GV1: （参考）農産物販売金額規模別経営体数 | HE1: （参考）農産物販売金額規模別経営体数（うち組織） | HO1: 基本指標
F2: 法 人 化 し て い る | M2: のいる農業経営体 | O2: 法 人 化 し て い る | V2: のいる農業経営体 | W2: 雇い入れた | X2: のべ人日 | Y2: （６）常雇 | AA2: 雇用者なし | AB2: 雇い入れた | AC2: のべ人日 | AD2: （６）常雇 | AF2: 雇用者なし | CP2: 雑 穀 ・ | DF2: 雑 穀 ・ | DT2: 麦類 | DV2: 雑穀 | DW2: いも類 | DY2: 豆類 | EA2: 工芸農作物 | EB2: 野菜 | ED2: 果樹 | EF2: 花き・花木 | EH2: 麦類 | EJ2: 雑穀 | EK2: いも類 | EM2: 豆類 | EO2: 工芸農作物 | EP2: 野菜 | ER2: 果樹 | ET2: 花き・花木 | EV2: 麦類 | EX2: 雑穀 | EY2: いも類 | FA2: 豆類 | FC2: 工芸農作物 | FD2: 野菜 | FF2: 果樹 | FH2: 花き・花木 | FJ2: 麦類 | FL2: 雑穀 | FM2: いも類 | FO2: 豆類 | FQ2: 工芸農作物 | FR2: 野菜 | FT2: 果樹 | FV2: 花き・花木 | FW2: 農業生産関連事業を行っている実経営体数 | GF2: 農業生産関連事業を行っている実経営体数 | GO2: 実経営体数 | GQ2: 耕 種 部 門 | GT2: 畜産部門 | GU2: 受託収入 | GV2: 計 | GW2: 50未満 | GX2: 50～300 | GY2: 300～1000 | GZ2: 1000～3000 | HA2: 3000以上 | HB2: 3,000～5,000 | HC2: 5,000～1億 | HD2: １億以上 | HE2: 計 | HF2: 50未満 | HG2: 50～300 | HH2: 300～1000 | HI2: 1000～3000 | HJ2: 3000以上 | HK2: 3,000～5,000 | HL2: 5,000～1億 | HM2: １億以上 | HO2: 都道府県 | HP2: 支庁 | HQ2: 市区町村 | HR2: 旧市区町村 | HS2: 農業集落
E3: 合計 | F3: 計 | G3: 農事組合 法 人 | H3: 会社 | I3: 各種団体 | J3: その他の 法 人 | K3: 地方公共団体・ | L3: 法人化し ていない | M3: （農業経営体） | N3: 合計 | O3: 計 | P3: 農事組合 法 人 | Q3: 会社 | R3: 各種団体 | S3: その他の 法 人 | T3: 地方公共団体・ | U3: 法人化し ていない | V3: （うち組織） | W3: 実経営体数 | Y3: 雇い入れた | Z3: のべ人日 | AB3: 実経営体数 | AD3: 雇い入れた | AE3: のべ人日 | AG3: 計 | AH3: 0.3ha未満 | AI3: 0.3～0.5ha | AJ3: 0.5 ～ 1.0 | AK3: 1.0 ～ 1.5 | AL3: 1.5 ～ 2.0 | AM3: 2.0 ～ 3.0 | AN3: 3.0 ～ 5.0 | AO3: 5.0 ～10.0 | AP3: 10.0～20.0 | AQ3: 20.0～30.0 | AR3: 30.0～50.0 | AS3: 50.0～100.0 | AT3: 100ha以上 | AU3: 計 | AV3: 0.3ha未満 | AW3: 0.3～0.5ha | AX3: 0.5 ～ 1.0 | AY3: 1.0 ～ 1.5 | AZ3: 1.5 ～ 2.0 | BA3: 2.0 ～ 3.0 | BB3: 3.0 ～ 5.0 | BC3: 5.0 ～10.0 | BD3: 10.0～20.0 | BE3: 20.0～30.0 | BF3: 30.0～50.0 | BG3: 50.0～100.0 | BH3: 100ha以上 | BI3: 計 | BJ3: 0.3ha未満 | BK3: 0.3～0.5ha | BL3: 0.5 ～ 1.0 | BM3: 1.0 ～ 1.5 | BN3: 1.5 ～ 2.0 | BO3: 2.0 ～ 3.0 | BP3: 3.0 ～ 5.0 | BQ3: 5.0 ～10.0 | BR3: 10.0～20.0 | BS3: 20.0～30.0 | BT3: 30.0～50.0 | BU3: 50.0～100.0 | BV3: 100ha以上 | BW3: 借入耕地面積 | BX3: 計 | BY3: 0.3ha未満 | BZ3: 0.3～0.5ha | CA3: 0.5 ～ 1.0 | CB3: 1.0 ～ 1.5 | CC3: 1.5 ～ 2.0 | CD3: 2.0 ～ 3.0 | CE3: 3.0 ～ 5.0 | CF3: 5.0 ～10.0 | CG3: 10.0～20.0 | CH3: 20.0～30.0 | CI3: 30.0～50.0 | CJ3: 50.0～100.0 | CK3: 100ha以上 | CL3: 借入耕地面積 | CM3: 計 | CN3: 稲 作 | CO3: 麦 類 作 | CP3: い も 類 | CQ3: 工芸農作物 | CR3: 露地野菜 | CS3: 施設野菜 | CT3: 果 樹 類 | CU3: 花き・花木 | CV3: その他の 作 物 | CW3: 酪 農 | CX3: 肉 用 牛 | CY3: 養 豚 | CZ3: 養 鶏 | DA3: 養 蚕 | DB3: その他の 畜 産 | DC3: 計 | DD3: 稲 作 | DE3: 麦 類 作 | DF3: い も 類 | DG3: 工芸農作物 | DH3: 露地野菜 | DI3: 施設野菜 | DJ3: 果 樹 類 | DK3: 花き・花木 | DL3: その他の 作 物 | DM3: 酪 農 | DN3: 肉 用 牛 | DO3: 養 豚 | DP3: 養 鶏 | DQ3: 養 蚕 | DR3: その他の 畜 産 | DS3: 水稲 | DT3: 小麦 | DU3: 大麦・裸麦 | DW3: ばれいしょ | DX3: かんしょ | DZ3: うち大豆 | EB3: 露地 | EC3: 施設 | ED3: 露地 | EE3: 施設 | EG3: 水稲 | EH3: 小麦 | EI3: 大麦・裸麦 | EK3: ばれいしょ | EL3: かんしょ | EN3: うち大豆 | EP3: 露地 | EQ3: 施設 | ER3: 露地 | ES3: 施設 | EU3: 水稲 | EV3: 小麦 | EW3: 大麦・裸麦 | EY3: ばれいしょ | EZ3: かんしょ | FB3: うち大豆 | FD3: 露地 | FE3: 施設 | FF3: 露地 | FG3: 施設 | FI3: 水稲 | FJ3: 小麦 | FK3: 大麦・裸麦 | FM3: ばれいしょ | FN3: かんしょ | FP3: うち大豆 | FR3: 露地 | FS3: 施設 | FT3: 露地 | FU3: 施設 | FX3: 農 産 物の 加 工 | FY3: 消費者に直接販売 | FZ3: 貸農園・体験農園等 | GA3: 観光農園 | GB3: 農家民宿 | GC3: 農家レストラン | GD3: 海外への 輸 出 | GE3: その他 | GG3: 農 産 物の 加 工 | GH3: 消費者に直接販売 | GI3: 貸農園・体験農園等 | GJ3: 観光農園 | GK3: 農家民宿 | GL3: 農家レストラン | GM3: 海外への 輸 出 | GN3: その他 | GQ3: 実経営体数 | GT3: の作業を | GU3: １００万円
K4: 財産区 | T4: 財産区 | Y4: 経営体数 | AD4: 経営体数 | CP4: ・ 豆 類 | DF4: ・ 豆 類 | GP4: うち組織経営体 | GR4: うち水稲作 | GS4: うち野菜作 | GT4: 受託した | GU4: 以上
GT5: 経営体数
A6: 山梨県 | D6: 000-00 | E6: 17970 | F6: 280 | G6: 36 | H6: 173 | I6: 52 | J6: 19 | K6: 2 | L6: 17688 | M6: 1910 | N6: 284 | O6: 280 | P6: 36 | Q6: 173 | R6: 52 | S6: 19 | T6: 2 | U6: 2 | V6: 60 | W6: 6526 | X6: 796670 | Y6: 623 | Z6: 397198 | AA6: 11444 | AB6: 238 | AC6: 333277 | AD6: 186 | AE6: 277107 | AF6: 46 | AG6: 17853 | AH6: 1460 | AI6: 4757 | AJ6: 8010 | AK6: 2418 | AL6: 608 | AM6: 302 | AN6: 159 | AO6: 92 | AP6: 31 | AQ6: 8 | AR6: 5 | AS6: 2 | AT6: 1 | AU6: 206 | AV6: 11 | AW6: 13 | AX6: 30 | AY6: 25 | AZ6: 13 | BA6: 30 | BB6: 28 | BC6: 29 | BD6: 15 | BE6: 4 | BF6: 5 | BG6: 2 | BH6: 1 | BI6: 1463223 | BJ6: 28624 | BK6: 181601 | BL6: 553010 | BM6: 281982 | BN6: 101241 | BO6: 70339 | BP6: 57693 | BQ6: 61422 | BR6: 40842 | BS6: 17927 | BT6: 19839 | BU6: 14503 | BV6: 34200 | BW6: 388192 | BX6: 143557 | BY6: 227 | BZ6: 468 | CA6: 2170 | CB6: 2942 | CC6: 2229 | CD6: 6909 | CE6: 10247 | CF6: 20748 | CG6: 19688 | CH6: 9387 | CI6: 19839 | CJ6: 14503 | CK6: 34200 | CL6: 129553 | CM6: 16320 | CN6: 3576 | CO6: 10 | CP6: 128 | CQ6: 66 | CR6: 1138 | CS6: 243 | CT6: 10813 | CU6: 161 | CV6: 39 | CW6: 62 | CX6: 30 | CY6: 15 | CZ6: 29 | DA6: 2 | DB6: 8 | DC6: 232 | DD6: 28 | DE6: - | DF6: 19 | DG6: 2 | DH6: 35 | DI6: 23 | DJ6: 72 | DK6: 23 | DL6: 11 | DM6: 2 | DN6: 2 | DO6: 4 | DP6: 10 | DQ6: - | DR6: 1 | DS6: 5256 | DT6: 104 | DU6: 21 | DV6: 251 | DW6: 624 | DX6: 86 | DY6: 503 | DZ6: 347 | EA6: 130 | EB6: 3127 | EC6: 427 | ED6: 11787 | EE6: 559 | EF6: 306 | EG6: 264431 | EH6: 5632 | EI6: 3091 | EJ6: 19998 | EK6: 3271 | EL6: 431 | EM6: 15993 | EN6: 14681 | EO6: 3786 | EP6: 100598 | EQ6: 7823 | ER6: 700219 | ES6: 10576 | ET6: 9511 | EU6: 54 | EV6: 11 | EW6: 6 | EX6: 12 | EY6: 20 | EZ6: 6 | FA6: 27 | FB6: 25 | FC6: 7 | FD6: 71 | FE6: 36 | FF6: 90 | FG6: 15 | FH6: 27 | FI6: 17144 | FJ6: 3295 | FK6: 2445 | FL6: 13027 | FM6: 620 | FN6: 154 | FO6: 9434 | FP6: 9348 | FQ6: 989 | FR6: 16214 | FS6: 1604 | FT6: 22530 | FU6: 620 | FV6: 1269 | FW6: 4083 | FX6: 423 | FY6: 3872 | FZ6: 69 | GA6: 643 | GB6: 12 | GC6: 24 | GD6: 13 | GE6: 30 | GF6: 185 | GG6: 94 | GH6: 147 | GI6: 20 | GJ6: 35 | GK6: 2 | GL6: 11 | GM6: 11 | GN6: 10 | GO6: 639 | GP6: 78 | GQ6: 636 | GR6: 443 | GS6: 25 | GT6: 4 | GU6: 149 | GV6: 16320 | GW6: 4525 | GX6: 7029 | GY6: 3975 | GZ6: 652 | HA6: 139 | HB6: 70 | HC6: 40 | HD6: 29 | HE6: 232 | HF6: 14 | HG6: 43 | HH6: 54 | HI6: 56 | HJ6: 65 | HK6: 24 | HL6: 20 | HM6: 21 | HN6: 1900000000 | HO6: 19 | HP6: 00 | HQ6: 000 | HR6: 00 | HS6: 000
A7: 山梨県 | B7: 甲府市 | D7: 201-00 | E7: 1195 | F7: 11 | G7: - | H7: 9 | I7: 2 | J7: - | K7: - | L7: 1184 | M7: 238 | N7: 11 | O7: 11 | P7: - | Q7: 9 | R7: 2 | S7: - | T7: - | U7: - | V7: 2 | W7: 380 | X7: 42525 | Y7: 48 | Z7: 15227 | AA7: 815 | AB7: 11 | AC7: 12284 | AD7: 5 | AE7: 5300 | AF7: - | AG7: 1190 | AH7: 137 | AI7: 324 | AJ7: 496 | AK7: 169 | AL7: 36 | AM7: 17 | AN7: 8 | AO7: 3 | AP7: - | AQ7: - | AR7: - | AS7: - | AT7: - | AU7: 9 | AV7: - | AW7: 2 | AX7: 2 | AY7: - | AZ7: - | BA7: 1 | BB7: 2 | BC7: 2 | BD7: - | BE7: - | BF7: - | BG7: - | BH7: - | BI7: 83900 | BJ7: 2544 | BK7: 12229 | BL7: 34417 | BM7: 19473 | BN7: 6074 | BO7: 3999 | BP7: 3071 | BQ7: 2093 | BR7: - | BS7: - | BT7: - | BU7: - | BV7: - | BW7: 16092 | BX7: 2894 | BY7: - | BZ7: 67 | CA7: 140 | CB7: - | CC7: - | CD7: 280 | CE7: 830 | CF7: 1577 | CG7: - | CH7: - | CI7: - | CJ7: - | CK7: - | CL7: 2044 | CM7: 1086 | CN7: 120 | CO7: - | CP7: - | CQ7: - | CR7: 234 | CS7: 27 | CT7: 686 | CU7: 10 | CV7: 1 | CW7: - | CX7: 1 | CY7: 3 | CZ7: 1 | DA7: - | DB7: 3 | DC7: 9 | DD7: - | DE7: - | DF7: - | DG7: - | DH7: 2 | DI7: - | DJ7: 6 | DK7: 1 | DL7: - | DM7: - | DN7: - | DO7: - | DP7: - | DQ7: - | DR7: - | DS7: 335 | DT7: 6 | DU7: - | DV7: 4 | DW7: 28 | DX7: 1 | DY7: 19 | DZ7: 12 | EA7: X | EB7: 457 | EC7: X | ED7: 836 | EE7: 8 | EF7: 27 | EG7: 14307 | EH7: 61 | EI7: - | EJ7: 68 | EK7: 109 | EL7: X | EM7: X | EN7: 40 | EO7: X | EP7: X | EQ7: X | ER7: X | ES7: 115 | ET7: 290 | EU7: 1 | EV7: - | EW7: - | EX7: - | EY7: 1 | EZ7: - | FA7: - | FB7: - | FC7: - | FD7: 3 | FE7: X | FF7: X | FG7: 1 | FH7: 1 | FI7: X | FJ7: - | FK7: - | FL7: - | FM7: X | FN7: - | FO7: - | FP7: - | FQ7: - | FR7: X | FS7: X | FT7: X | FU7: X | FV7: X | FW7: 260 | FX7: 23 | FY7: 254 | FZ7: 6 | GA7: 24 | GB7: - | GC7: 2 | GD7: 1 | GE7: 1 | GF7: 7 | GG7: 5 | GH7: 7 | GI7: - | GJ7: 2 | GK7: - | GL7: 1 | GM7: 1 | GN7: - | GO7: 28 | GP7: 3 | GQ7: 28 | GR7: 17 | GS7: 3 | GT7: - | GU7: 4 | GV7: 1086 | GW7: 248 | GX7: 512 | GY7: 278 | GZ7: 44 | HA7: 4 | HB7: 2 | HC7: 1 | HD7: 1 | HE7: 9 | HF7: 1 | HG7: 2 | HH7: - | HI7: 5 | HJ7: 1 | HK7: - | HL7: 1 | HM7: - | HN7: 1920100000 | HO7: 19 | HP7: 00 | HQ7: 201 | HR7: 00 | HS7: 000
A8: 山梨県 | B8: 甲府市 | C8: 甲府市 | D8: 201-01 | E8: 172 | F8: 4 | G8: - | H8: 4 | I8: - | J8: - | K8: - | L8: 168 | M8: 12 | N8: 4 | O8: 4 | P8: - | Q8: 4 | R8: - | S8: - | T8: - | U8: - | V8: 1 | W8: 50 | X8: 8649 | Y8: 7 | Z8: 5178 | AA8: 122 | AB8: 4 | AC8: 5030 | AD8: 2 | AE8: 3640 | AF8: - | AG8: 172 | AH8: 46 | AI8: 67 | AJ8: 43 | AK8: 12 | AL8: - | AM8: 1 | AN8: 1 | AO8: 2 | AP8: - | AQ8: - | AR8: - | AS8: - | AT8: - | AU8: 4 | AV8: - | AW8: 1 | AX8: - | AY8: - | AZ8: - | BA8: 1 | BB8: - | BC8: 2 | BD8: - | BE8: - | BF8: - | BG8: - | BH8: - | BI8: 9712 | BJ8: 848 | BK8: 2494 | BL8: 2840 | BM8: 1353 | BN8: - | BO8: 280 | BP8: 320 | BQ8: 1577 | BR8: - | BS8: - | BT8: - | BU8: - | BV8: - | BW8: 2242 | BX8: 1887 | BY8: - | BZ8: 30 | CA8: - | CB8: - | CC8: - | CD8: 280 | CE8: - | CF8: 1577 | CG8: - | CH8: - | CI8: - | CJ8: - | CK8: - | CL8: 1317 | CM8: 145 | CN8: 26 | CO8: - | CP8: - | CQ8: - | CR8: 12 | CS8: 1 | CT8: 101 | CU8: 3 | CV8: - | CW8: - | CX8: - | CY8: - | CZ8: - | DA8: - | DB8: 2 | DC8: 4 | DD8: - | DE8: - | DF8: - | DG8: - | DH8: 1 | DI8: - | DJ8: 3 | DK8: - | DL8: - | DM8: - | DN8: - | DO8: - | DP8: - | DQ8: - | DR8: - | DS8: 39 | DT8: 1 | DU8: - | DV8: - | DW8: 3 | DX8: - | DY8: 1 | DZ8: - | EA8: - | EB8: 20 | EC8: X | ED8: 116 | EE8: 2 | EF8: 4 | EG8: 1340 | EH8: X | EI8: - | EJ8: - | EK8: 19 | EL8: - | EM8: X | EN8: - | EO8: - | EP8: X | EQ8: X | ER8: X | ES8: X | ET8: 133 | EU8: - | EV8: - | EW8: - | EX8: - | EY8: 1 | EZ8: - | FA8: - | FB8: - | FC8: - | FD8: 1 | FE8: 1 | FF8: 4 | FG8: 1 | FH8: - | FI8: - | FJ8: - | FK8: - | FL8: - | FM8: X | FN8: - | FO8: - | FP8: - | FQ8: - | FR8: X | FS8: X | FT8: X | FU8: X | FV8: - | FW8: 65 | FX8: 6 | FY8: 63 | FZ8: 4 | GA8: 2 | GB8: - | GC8: - | GD8: - | GE8: 1 | GF8: 4 | GG8: 3 | GH8: 4 | GI8: - | GJ8: - | GK8: - | GL8: - | GM8: - | GN8: - | GO8: 5 | GP8: 1 | GQ8: 5 | GR8: 2 | GS8: - | GT8: - | GU8: 1 | GV8: 145 | GW8: 57 | GX8: 63 | GY8: 19 | GZ8: 5 | HA8: 1 | HB8: - | HC8: 1 | HD8: - | HE8: 4 | HF8: - | HG8: - | HH8: - | HI8: 3 | HJ8: 1 | HK8: - | HL8: 1 | HM8: - | HN8: 1920101000 | HO8: 19 | HP8: 00 | HQ8: 201 | HR8: 01 | HS8: 000
A9: 山梨県 | B9: 甲府市 | C9: 山城村 | D9: 201-02 | E9: 68 | F9: 1 | G9: - | H9: 1 | I9: - | J9: - | K9: - | L9: 67 | M9: 16 | N9: 1 | O9: X | P9: X | Q9: X | R9: X | S9: X | T9: X | U9: X | V9: 1 | W9: 23 | X9: 2014 | Y9: 4 | Z9: 830 | AA9: 45 | AB9: X | AC9: X | AD9: X | AE9: X | AF9: X | AG9: 68 | AH9: 3 | AI9: 13 | AJ9: 29 | AK9: 16 | AL9: 1 | AM9: 4 | AN9: 1 | AO9: 1 | AP9: - | AQ9: - | AR9: - | AS9: - | AT9: - | AU9: X | AV9: X | AW9: X | AX9: X | AY9: X | AZ9: X | BA9: X | BB9: X | BC9: X | BD9: X | BE9: X | BF9: X | BG9: X | BH9: X | BI9: 6490 | BJ9: 46 | BK9: 516 | BL9: 2050 | BM9: 1952 | BN9: 180 | BO9: 911 | BP9: 319 | BQ9: 516 | BR9: - | BS9: - | BT9: - | BU9: - | BV9: - | BW9: 1746 | BX9: X | BY9: X | BZ9: X | CA9: X | CB9: X | CC9: X | CD9: X | CE9: X | CF9: X | CG9: X | CH9: X | CI9: X | CJ9: X | CK9: X | CL9: X | CM9: 65 | CN9: 13 | CO9: - | CP9: - | CQ9: - | CR9: 27 | CS9: 9 | CT9: 14 | CU9: 1 | CV9: - | CW9: - | CX9: - | CY9: - | CZ9: 1 | DA9: - | DB9: - | DC9: X | DD9: X | DE9: X | DF9: X | DG9: X | DH9: X | DI9: X | DJ9: X | DK9: X | DL9: X | DM9: X | DN9: X | DO9: X | DP9: X | DQ9: X | DR9: X | DS9: 50 | DT9: - | DU9: - | DV9: - | DW9: 5 | DX9: - | DY9: 3 | DZ9: 2 | EA9: - | EB9: 45 | EC9: 14 | ED9: 27 | EE9: 1 | EF9: 5 | EG9: 2609 | EH9: - | EI9: - | EJ9: - | EK9: 5 | EL9: - | EM9: X | EN9: X | EO9: - | EP9: X | EQ9: X | ER9: X | ES9: X | ET9: 17 | EU9: X | EV9: X | EW9: X | EX9: X | EY9: X | EZ9: X | FA9: X | FB9: X | FC9: X | FD9: X | FE9: X | FF9: X | FG9: X | FH9: X | FI9: X | FJ9: X | FK9: X | FL9: X | FM9: X | FN9: X | FO9: X | FP9: X | FQ9: X | FR9: X | FS9: X | FT9: X | FU9: X | FV9: X | FW9: 23 | FX9: 2 | FY9: 23 | FZ9: - | GA9: 2 | GB9: - | GC9: - | GD9: - | GE9: - | GF9: X | GG9: X | GH9: X | GI9: X | GJ9: X | GK9: X | GL9: X | GM9: X | GN9: X | GO9: 3 | GP9: X | GQ9: 3 | GR9: 3 | GS9: - | GT9: - | GU9: 1 | GV9: 65 | GW9: 16 | GX9: 25 | GY9: 20 | GZ9: 4 | HA9: - | HB9: - | HC9: - | HD9: - | HE9: X | HF9: X | HG9: X | HH9: X | HI9: X | HJ9: X | HK9: X | HL9: X | HM9: X | HN9: 1920102000 | HO9: 19 | HP9: 00 | HQ9: 201 | HR9: 02 | HS9: 000
A10: 山梨県 | B10: 甲府市 | C10: 住吉村 | D10: 201-03 | E10: 60 | F10: - | G10: - | H10: - | I10: - | J10: - | K10: - | L10: 60 | M10: 4 | N10: - | O10: - | P10: - | Q10: - | R10: - | S10: - | T10: - | U10: - | V10: - | W10: 13 | X10: 399 | Y10: 1 | Z10: 15 | AA10: 47 | AB10: - | AC10: - | AD10: - | AE10: - | AF10: - | AG10: 60 | AH10: 2 | AI10: 27 | AJ10: 26 | AK10: 5 | AL10: - | AM10: - | AN10: - | AO10: - | AP10: - | AQ10: - | AR10: - | AS10: - | AT10: - | AU10: - | AV10: - | AW10: - | AX10: - | AY10: - | AZ10: - | BA10: - | BB10: - | BC10: - | BD10: - | BE10: - | BF10: - | BG10: - | BH10: - | BI10: 3456 | BJ10: 35 | BK10: 1003 | BL10: 1864 | BM10: 554 | BN10: - | BO10: - | BP10: - | BQ10: - | BR10: - | BS10: - | BT10: - | BU10: - | BV10: - | BW10: 127 | BX10: - | BY10: - | BZ10: - | CA10: - | CB10: - | CC10: - | CD10: - | CE10: - | CF10: - | CG10: - | CH10: - | CI10: - | CJ10: - | CK10: - | CL10: - | CM10: 49 | CN10: 21 | CO10: - | CP10: - | CQ10: - | CR10: 11 | CS10: 1 | CT10: 14 | CU10: 2 | CV10: - | CW10: - | CX10: - | CY10: - | CZ10: - | DA10: - | DB10: - | DC10: - | DD10: - | DE10: - | DF10: - | DG10: - | DH10: - | DI10: - | DJ10: - | DK10: - | DL10: - | DM10: - | DN10: - | DO10: - | DP10: - | DQ10: - | DR10: - | DS10: 40 | DT10: - | DU10: - | DV10: - | DW10: 3 | DX10: 1 | DY10: 1 | DZ10: 1 | EA10: - | EB10: 23 | EC10: 3 | ED10: 22 | EE10: - | EF10: 6 | EG10: 1433 | EH10: - | EI10: - | EJ10: - | EK10: 5 | EL10: X | EM10: X | EN10: X | EO10: - | EP10: X | EQ10: X | ER10: X | ES10: - | ET10: X | EU10: - | EV10: - | EW10: - | EX10: - | EY10: - | EZ10: - | FA10: - | FB10: - | FC10: - | FD10: - | FE10: - | FF10: - | FG10: - | FH10: - | FI10: - | FJ10: - | FK10: - | FL10: - | FM10: - | FN10: - | FO10: - | FP10: - | FQ10: - | FR10: - | FS10: - | FT10: - | FU10: - | FV10: X | FW10: 11 | FX10: - | FY10: 11 | FZ10: - | GA10: - | GB10: - | GC10: - | GD10: - | GE10: - | GF10: - | GG10: - | GH10: - | GI10: - | GJ10: - | GK10: - | GL10: - | GM10: - | GN10: - | GO10: 2 | GP10: - | GQ10: 2 | GR10: 2 | GS10: - | GT10: - | GU10: - | GV10: 49 | GW10: 27 | GX10: 17 | GY10: 5 | GZ10: - | HA10: - | HB10: - | HC10: - | HD10: - | HE10: - | HF10: - | HG10: - | HH10: - | HI10: - | HJ10: - | HK10: - | HL10: - | HM10: - | HN10: 1920103000 | HO10: 19 | HP10: 00 | HQ10: 201 | HR10: 03 | HS10: 000
A11: 山梨県 | B11: 甲府市 | C11: 朝井村 | D11: 201-04 | E11: 54 | F11: - | G11: - | H11: - | I11: - | J11: - | K11: - | L11: 54 | M11: 11 | N11: - | O11: - | P11: - | Q11: - | R11: - | S11: - | T11: - | U11: - | V11: - | W11: 16 | X11: 1533 | Y11: 5 | Z11: 715 | AA11: 38 | AB11: - | AC11: - | AD11: - | AE11: - | AF11: - | AG11: 54 | AH11: - | AI11: 12 | AJ11: 18 | AK11: 20 | AL11: 1 | AM11: 3 | AN11: - | AO11: - | AP11: - | AQ11: - | AR11: - | AS11: - | AT11: - | AU11: - | AV11: - | AW11: - | AX11: - | AY11: - | AZ11: - | BA11: - | BB11: - | BC11: - | BD11: - | BE11: - | BF11: - | BG11: - | BH11: - | BI11: 4943 | BJ11: - | BK11: 451 | BL11: 1306 | BM11: 2341 | BN11: 180 | BO11: 665 | BP11: - | BQ11: - | BR11: - | BS11: - | BT11: - | BU11: - | BV11: - | BW11: 1036 | BX11: - | BY11: - | BZ11: - | CA11: - | CB11: - | CC11: - | CD11: - | CE11: - | CF11: - | CG11: - | CH11: - | CI11: - | CJ11: - | CK11: - | CL11: - | CM11: 47 | CN11: 14 | CO11: - | CP11: - | CQ11: - | CR11: 19 | CS11: 11 | CT11: 2 | CU11: 1 | CV11: - | CW11: - | CX11: - | CY11: - | CZ11: - | DA11: - | DB11: - | DC11: - | DD11: - | DE11: - | DF11: - | DG11: - | DH11: - | DI11: - | DJ11: - | DK11: - | DL11: - | DM11: - | DN11: - | DO11: - | DP11: - | DQ11: - | DR11: - | DS11: 47 | DT11: 1 | DU11: - | DV11: - | DW11: 1 | DX11: - | DY11: 1 | DZ11: 1 | EA11: - | EB11: 33 | EC11: 15 | ED11: 11 | EE11: - | EF11: 3 | EG11: 2672 | EH11: X | EI11: - | EJ11: - | EK11: X | EL11: - | EM11: X | EN11: X | EO11: - | EP11: X | EQ11: X | ER11: X | ES11: - | ET11: X | EU11: - | EV11: - | EW11: - | EX11: - | EY11: - | EZ11: - | FA11: - | FB11: - | FC11: - | FD11: - | FE11: - | FF11: - | FG11: - | FH11: - | FI11: - | FJ11: - | FK11: - | FL11: - | FM11: - | FN11: - | FO11: - | FP11: - | FQ11: - | FR11: - | FS11: - | FT11: - | FU11: - | FV11: X | FW11: 20 | FX11: 4 | FY11: 20 | FZ11: 1 | GA11: 12 | GB11: - | GC11: - | GD11: - | GE11: - | GF11: - | GG11: - | GH11: - | GI11: - | GJ11: - | GK11: - | GL11: - | GM11: - | GN11: - | GO11: - | GP11: - | GQ11: - | GR11: - | GS11: - | GT11: - | GU11: - | GV11: 47 | GW11: 12 | GX11: 17 | GY11: 12 | GZ11: 6 | HA11: - | HB11: - | HC11: - | HD11: - | HE11: - | HF11: - | HG11: - | HH11: - | HI11: - | HJ11: - | HK11: - | HL11: - | HM11: - | HN11: 1920104000 | HO11: 19 | HP11: 00 | HQ11: 201 | HR11: 04 | HS11: 000
A12: 山梨県 | B12: 甲府市 | C12: 玉諸村 | D12: 201-05 | E12: 138 | F12: - | G12: - | H12: - | I12: - | J12: - | K12: - | L12: 138 | M12: 30 | N12: - | O12: - | P12: - | Q12: - | R12: - | S12: - | T12: - | U12: - | V12: - | W12: 52 | X12: 5380 | Y12: 9 | Z12: 3029 | AA12: 86 | AB12: - | AC12: - | AD12: - | AE12: - | AF12: - | AG12: 138 | AH12: 28 | AI12: 39 | AJ12: 54 | AK12: 14 | AL12: 3 | AM12: - | AN12: - | AO12: - | AP12: - | AQ12: - | AR12: - | AS12: - | AT12: - | AU12: - | AV12: - | AW12: - | AX12: - | AY12: - | AZ12: - | BA12: - | BB12: - | BC12: - | BD12: - | BE12: - | BF12: - | BG12: - | BH12: - | BI12: 7876 | BJ12: 485 | BK12: 1431 | BL12: 3893 | BM12: 1584 | BN12: 483 | BO12: - | BP12: - | BQ12: - | BR12: - | BS12: - | BT12: - | BU12: - | BV12: - | BW12: 748 | BX12: - | BY12: - | BZ12: - | CA12: - | CB12: - | CC12: - | CD12: - | CE12: - | CF12: - | CG12: - | CH12: - | CI12: - | CJ12: - | CK12: - | CL12: - | CM12: 138 | CN12: - | CO12: - | CP12: - | CQ12: - | CR12: 1 | CS12: 1 | CT12: 136 | CU12: - | CV12: - | CW12: - | CX12: - | CY12: - | CZ12: - | DA12: - | DB12: - | DC12: - | DD12: - | DE12: - | DF12: - | DG12: - | DH12: - | DI12: - | DJ12: - | DK12: - | DL12: - | DM12: - | DN12: - | DO12: - | DP12: - | DQ12: - | DR12: - | DS12: - | DT12: - | DU12: - | DV12: - | DW12: - | DX12: - | DY12: - | DZ12: - | EA12: - | EB12: 2 | EC12: 2 | ED12: 138 | EE12: 2 | EF12: 1 | EG12: - | EH12: - | EI12: - | EJ12: - | EK12: - | EL12: - | EM12: - | EN12: - | EO12: - | EP12: X | EQ12: X | ER12: X | ES12: X | ET12: X | EU12: - | EV12: - | EW12: - | EX12: - | EY12: - | EZ12: - | FA12: - | FB12: - | FC12: - | FD12: - | FE12: - | FF12: - | FG12: - | FH12: - | FI12: - | FJ12: - | FK12: - | FL12: - | FM12: - | FN12: - | FO12: - | FP12: - | FQ12: - | FR12: - | FS12: - | FT12: - | FU12: - | FV12: X | FW12: 17 | FX12: 1 | FY12: 17 | FZ12: - | GA12: 1 | GB12: - | GC12: - | GD12: - | GE12: - | GF12: - | GG12: - | GH12: - | GI12: - | GJ12: - | GK12: - | GL12: - | GM12: - | GN12: - | GO12: - | GP12: - | GQ12: - | GR12: - | GS12: - | GT12: - | GU12: - | GV12: 138 | GW12: 19 | GX12: 65 | GY12: 52 | GZ12: 2 | HA12: - | HB12: - | HC12: - | HD12: - | HE12: - | HF12: - | HG12: - | HH12: - | HI12: - | HJ12: - | HK12: - | HL12: - | HM12: - | HN12: 1920105000 | HO12: 19 | HP12: 00 | HQ12: 201 | HR12: 05 | HS12: 000
A13: 山梨県 | B13: 甲府市 | C13: 甲運村 | D13: 201-06 | E13: 184 | F13: 1 | G13: - | H13: 1 | I13: - | J13: - | K13: - | L13: 183 | M13: 43 | N13: 1 | O13: X | P13: X | Q13: X | R13: X | S13: X | T13: X | U13: X | V13: - | W13: 81 | X13: 5891 | Y13: 4 | Z13: 670 | AA13: 103 | AB13: X | AC13: X | AD13: X | AE13: X | AF13: X | AG13: 184 | AH13: 45 | AI13: 38 | AJ13: 71 | AK13: 27 | AL13: 1 | AM13: 1 | AN13: 1 | AO13: - | AP13: - | AQ13: - | AR13: - | AS13: - | AT13: - | AU13: X | AV13: X | AW13: X | AX13: X | AY13: X | AZ13: X | BA13: X | BB13: X | BC13: X | BD13: X | BE13: X | BF13: X | BG13: X | BH13: X | BI13: 11096 | BJ13: 867 | BK13: 1414 | BL13: 5043 | BM13: 3022 | BN13: 160 | BO13: 220 | BP13: 370 | BQ13: - | BR13: - | BS13: - | BT13: - | BU13: - | BV13: - | BW13: 2233 | BX13: X | BY13: X | BZ13: X | CA13: X | CB13: X | CC13: X | CD13: X | CE13: X | CF13: X | CG13: X | CH13: X | CI13: X | CJ13: X | CK13: X | CL13: X | CM13: 180 | CN13: - | CO13: - | CP13: - | CQ13: - | CR13: - | CS13: 1 | CT13: 179 | CU13: - | CV13: - | CW13: - | CX13: - | CY13: - | CZ13: - | DA13: - | DB13: - | DC13: X | DD13: X | DE13: X | DF13: X | DG13: X | DH13: X | DI13: X | DJ13: X | DK13: X | DL13: X | DM13: X | DN13: X | DO13: X | DP13: X | DQ13: X | DR13: X | DS13: - | DT13: - | DU13: - | DV13: - | DW13: 1 | DX13: - | DY13: - | DZ13: - | EA13: - | EB13: 1 | EC13: 2 | ED13: 184 | EE13: 3 | EF13: - | EG13: - | EH13: - | EI13: - | EJ13: - | EK13: X | EL13: - | EM13: - | EN13: - | EO13: - | EP13: X | EQ13: X | ER13: X | ES13: 36 | ET13: - | EU13: X | EV13: X | EW13: X | EX13: X | EY13: X | EZ13: X | FA13: X | FB13: X | FC13: X | FD13: X | FE13: X | FF13: X | FG13: X | FH13: X | FI13: X | FJ13: X | FK13: X | FL13: X | FM13: X | FN13: X | FO13: X | FP13: X | FQ13: X | FR13: X | FS13: X | FT13: X | FU13: X | FV13: X | FW13: 14 | FX13: 2 | FY13: 14 | FZ13: - | GA13: 1 | GB13: - | GC13: 1 | GD13: 1 | GE13: - | GF13: X | GG13: X | GH13: X | GI13: X | GJ13: X | GK13: X | GL13: X | GM13: X | GN13: X | GO13: 6 | GP13: X | GQ13: 6 | GR13: - | GS13: - | GT13: - | GU13: 1 | GV13: 180 | GW13: 25 | GX13: 77 | GY13: 72 | GZ13: 6 | HA13: - | HB13: - | HC13: - | HD13: - | HE13: X | HF13: X | HG13: X | HH13: X | HI13: X | HJ13: X | HK13: X | HL13: X | HM13: X | HN13: 1920106000 | HO13: 19 | HP13: 00 | HQ13: 201 | HR13: 06 | HS13: 000
A14: 山梨県 | B14: 甲府市 | C14: 千代田村 | D14: 201-07 | E14: 39 | F14: - | G14: - | H14: - | I14: - | J14: - | K14: - | L14: 39 | M14: - | N14: - | O14: - | P14: - | Q14: - | R14: - | S14: - | T14: - | U14: - | V14: - | W14: 1 | X14: 21 | Y14: - | Z14: - | AA14: 38 | AB14: - | AC14: - | AD14: - | AE14: - | AF14: - | AG14: 39 | AH14: - | AI14: 14 | AJ14: 25 | AK14: - | AL14: - | AM14: - | AN14: - | AO14: - | AP14: - | AQ14: - | AR14: - | AS14: - | AT14: - | AU14: - | AV14: - | AW14: - | AX14: - | AY14: - | AZ14: - | BA14: - | BB14: - | BC14: - | BD14: - | BE14: - | BF14: - | BG14: - | BH14: - | BI14: 2038 | BJ14: - | BK14: 484 | BL14: 1554 | BM14: - | BN14: - | BO14: - | BP14: - | BQ14: - | BR14: - | BS14: - | BT14: - | BU14: - | BV14: - | BW14: 155 | BX14: - | BY14: - | BZ14: - | CA14: - | CB14: - | CC14: - | CD14: - | CE14: - | CF14: - | CG14: - | CH14: - | CI14: - | CJ14: - | CK14: - | CL14: - | CM14: 17 | CN14: 15 | CO14: - | CP14: - | CQ14: - | CR14: 1 | CS14: - | CT14: 1 | CU14: - | CV14: - | CW14: - | CX14: - | CY14: - | CZ14: - | DA14: - | DB14: - | DC14: - | DD14: - | DE14: - | DF14: - | DG14: - | DH14: - | DI14: - | DJ14: - | DK14: - | DL14: - | DM14: - | DN14: - | DO14: - | DP14: - | DQ14: - | DR14: - | DS14: 20 | DT14: 2 | DU14: - | DV14: 1 | DW14: 4 | DX14: - | DY14: 3 | DZ14: 2 | EA14: - | EB14: 10 | EC14: - | ED14: 6 | EE14: - | EF14: - | EG14: X | EH14: X | EI14: - | EJ14: X | EK14: 18 | EL14: - | EM14: X | EN14: X | EO14: - | EP14: X | EQ14: - | ER14: X | ES14: - | ET14: - | EU14: - | EV14: - | EW14: - | EX14: - | EY14: - | EZ14: - | FA14: - | FB14: - | FC14: - | FD14: - | FE14: - | FF14: - | FG14: - | FH14: - | FI14: - | FJ14: - | FK14: - | FL14: - | FM14: - | FN14: - | FO14: - | FP14: - | FQ14: - | FR14: - | FS14: - | FT14: - | FU14: - | FV14: - | FW14: 5 | FX14: 1 | FY14: 4 | FZ14: - | GA14: 1 | GB14: - | GC14: - | GD14: - | GE14: - | GF14: - | GG14: - | GH14: - | GI14: - | GJ14: - | GK14: - | GL14: - | GM14: - | GN14: - | GO14: 1 | GP14: - | GQ14: 1 | GR14: 1 | GS14: - | GT14: - | GU14: - | GV14: 17 | GW14: 15 | GX14: 2 | GY14: - | GZ14: - | HA14: - | HB14: - | HC14: - | HD14: - | HE14: - | HF14: - | HG14: - | HH14: - | HI14: - | HJ14: - | HK14: - | HL14: - | HM14: - | HN14: 1920107000 | HO14: 19 | HP14: 00 | HQ14: 201 | HR14: 07 | HS14: 000
A15: 山梨県 | B15: 甲府市 | C15: 能泉村 | D15: 201-08 | E15: - | F15: - | G15: - | H15: - | I15: - | J15: - | K15: - | L15: - | M15: - | N15: - | O15: - | P15: - | Q15: - | R15: - | S15: - | T15: - | U15: - | V15: - | W15: - | X15: - | Y15: - | Z15: - | AA15: - | AB15: - | AC15: - | AD15: - | AE15: - | AF15: - | AG15: - | AH15: - | AI15: - | AJ15: - | AK15: - | AL15: - | AM15: - | AN15: - | AO15: - | AP15: - | AQ15: - | AR15: - | AS15: - | AT15: - | AU15: - | AV15: - | AW15: - | AX15: - | AY15: - | AZ15: - | BA15: - | BB15: - | BC15: - | BD15: - | BE15: - | BF15: - | BG15: - | BH15: - | BI15: - | BJ15: - | BK15: - | BL15: - | BM15: - | BN15: - | BO15: - | BP15: - | BQ15: - | BR15: - | BS15: - | BT15: - | BU15: - | BV15: - | BW15: - | BX15: - | BY15: - | BZ15: - | CA15: - | CB15: - | CC15: - | CD15: - | CE15: - | CF15: - | CG15: - | CH15: - | CI15: - | CJ15: - | CK15: - | CL15: - | CM15: - | CN15: - | CO15: - | CP15: - | CQ15: - | CR15: - | CS15: - | CT15: - | CU15: - | CV15: - | CW15: - | CX15: - | CY15: - | CZ15: - | DA15: - | DB15: - | DC15: - | DD15: - | DE15: - | DF15: - | DG15: - | DH15: - | DI15: - | DJ15: - | DK15: - | DL15: - | DM15: - | DN15: - | DO15: - | DP15: - | DQ15: - | DR15: - | DS15: - | DT15: - | DU15: - | DV15: - | DW15: - | DX15: - | DY15: - | DZ15: - | EA15: - | EB15: - | EC15: - | ED15: - | EE15: - | EF15: - | EG15: - | EH15: - | EI15: - | EJ15: - | EK15: - | EL15: - | EM15: - | EN15: - | EO15: - | EP15: - | EQ15: - | ER15: - | ES15: - | ET15: - | EU15: - | EV15: - | EW15: - | EX15: - | EY15: - | EZ15: - | FA15: - | FB15: - | FC15: - | FD15: - | FE15: - | FF15: - | FG15: - | FH15: - | FI15: - | FJ15: - | FK15: - | FL15: - | FM15: - | FN15: - | FO15: - | FP15: - | FQ15: - | FR15: - | FS15: - | FT15: - | FU15: - | FV15: - | FW15: - | FX15: - | FY15: - | FZ15: - | GA15: - | GB15: - | GC15: - | GD15: - | GE15: - | GF15: - | GG15: - | GH15: - | GI15: - | GJ15: - | GK15: - | GL15: - | GM15: - | GN15: - | GO15: - | GP15: - | GQ15: - | GR15: - | GS15: - | GT15: - | GU15: - | GV15: - | GW15: - | GX15: - | GY15: - | GZ15: - | HA15: - | HB15: - | HC15: - | HD15: - | HE15: - | HF15: - | HG15: - | HH15: - | HI15: - | HJ15: - | HK15: - | HL15: - | HM15: - | HN15: 1920108000 | HO15: 19 | HP15: 00 | HQ15: 201 | HR15: 08 | HS15: 000
A16: 山梨県 | B16: 甲府市 | C16: 宮本村 | D16: 201-09 | E16: - | F16: - | G16: - | H16: - | I16: - | J16: - | K16: - | L16: - | M16: - | N16: - | O16: - | P16: - | Q16: - | R16: - | S16: - | T16: - | U16: - | V16: - | W16: - | X16: - | Y16: - | Z16: - | AA16: - | AB16: - | AC16: - | AD16: - | AE16: - | AF16: - | AG16: - | AH16: - | AI16: - | AJ16: - | AK16: - | AL16: - | AM16: - | AN16: - | AO16: - | AP16: - | AQ16: - | AR16: - | AS16: - | AT16: - | AU16: - | AV16: - | AW16: - | AX16: - | AY16: - | AZ16: - | BA16: - | BB16: - | BC16: - | BD16: - | BE16: - | BF16: - | BG16: - | BH16: - | BI16: - | BJ16: - | BK16: - | BL16: - | BM16: - | BN16: - | BO16: - | BP16: - | BQ16: - | BR16: - | BS16: - | BT16: - | BU16: - | BV16: - | BW16: - | BX16: - | BY16: - | BZ16: - | CA16: - | CB16: - | CC16: - | CD16: - | CE16: - | CF16: - | CG16: - | CH16: - | CI16: - | CJ16: - | CK16: - | CL16: - | CM16: - | CN16: - | CO16: - | CP16: - | CQ16: - | CR16: - | CS16: - | CT16: - | CU16: - | CV16: - | CW16: - | CX16: - | CY16: - | CZ16: - | DA16: - | DB16: - | DC16: - | DD16: - | DE16: - | DF16: - | DG16: - | DH16: - | DI16: - | DJ16: - | DK16: - | DL16: - | DM16: - | DN16: - | DO16: - | DP16: - | DQ16: - | DR16: - | DS16: - | DT16: - | DU16: - | DV16: - | DW16: - | DX16: - | DY16: - | DZ16: - | EA16: - | EB16: - | EC16: - | ED16: - | EE16: - | EF16: - | EG16: - | EH16: - | EI16: - | EJ16: - | EK16: - | EL16: - | EM16: - | EN16: - | EO16: - | EP16: - | EQ16: - | ER16: - | ES16: - | ET16: - | EU16: - | EV16: - | EW16: - | EX16: - | EY16: - | EZ16: - | FA16: - | FB16: - | FC16: - | FD16: - | FE16: - | FF16: - | FG16: - | FH16: - | FI16: - | FJ16: - | FK16: - | FL16: - | FM16: - | FN16: - | FO16: - | FP16: - | FQ16: - | FR16: - | FS16: - | FT16: - | FU16: - | FV16: - | FW16: - | FX16: - | FY16: - | FZ16: - | GA16: - | GB16: - | GC16: - | GD16: - | GE16: - | GF16: - | GG16: - | GH16: - | GI16: - | GJ16: - | GK16: - | GL16: - | GM16: - | GN16: - | GO16: - | GP16: - | GQ16: - | GR16: - | GS16: - | GT16: - | GU16: - | GV16: - | GW16: - | GX16: - | GY16: - | GZ16: - | HA16: - | HB16: - | HC16: - | HD16: - | HE16: - | HF16: - | HG16: - | HH16: - | HI16: - | HJ16: - | HK16: - | HL16: - | HM16: - | HN16: 1920109000 | HO16: 19 | HP16: 00 | HQ16: 201 | HR16: 09 | HS16: 000
A17: 山梨県 | B17: 甲府市 | C17: 大鎌田村 | D17: 201-10 | E17: 42 | F17: - | G17: - | H17: - | I17: - | J17: - | K17: - | L17: 42 | M17: 3 | N17: - | O17: - | P17: - | Q17: - | R17: - | S17: - | T17: - | U17: - | V17: - | W17: 10 | X17: 1216 | Y17: 1 | Z17: 300 | AA17: 32 | AB17: - | AC17: - | AD17: - | AE17: - | AF17: - | AG17: 40 | AH17: - | AI17: 20 | AJ17: 15 | AK17: 5 | AL17: - | AM17: - | AN17: - | AO17: - | AP17: - | AQ17: - | AR17: - | AS17: - | AT17: - | AU17: - | AV17: - | AW17: - | AX17: - | AY17: - | AZ17: - | BA17: - | BB17: - | BC17: - | BD17: - | BE17: - | BF17: - | BG17: - | BH17: - | BI17: 2245 | BJ17: - | BK17: 765 | BL17: 919 | BM17: 561 | BN17: - | BO17: - | BP17: - | BQ17: - | BR17: - | BS17: - | BT17: - | BU17: - | BV17: - | BW17: 225 | BX17: - | BY17: - | BZ17: - | CA17: - | CB17: - | CC17: - | CD17: - | CE17: - | CF17: - | CG17: - | CH17: - | CI17: - | CJ17: - | CK17: - | CL17: - | CM17: 34 | CN17: 10 | CO17: - | CP17: - | CQ17: - | CR17: 17 | CS17: 2 | CT17: 2 | CU17: 1 | CV17: - | CW17: - | CX17: - | CY17: 1 | CZ17: - | DA17: - | DB17: 1 | DC17: - | DD17: - | DE17: - | DF17: - | DG17: - | DH17: - | DI17: - | DJ17: - | DK17: - | DL17: - | DM17: - | DN17: - | DO17: - | DP17: - | DQ17: - | DR17: - | DS17: 29 | DT17: - | DU17: - | DV17: 1 | DW17: 1 | DX17: - | DY17: 2 | DZ17: 2 | EA17: - | EB17: 31 | EC17: 3 | ED17: 9 | EE17: - | EF17: 1 | EG17: 1069 | EH17: - | EI17: - | EJ17: X | EK17: X | EL17: - | EM17: X | EN17: X | EO17: - | EP17: X | EQ17: X | ER17: X | ES17: - | ET17: X | EU17: - | EV17: - | EW17: - | EX17: - | EY17: - | EZ17: - | FA17: - | FB17: - | FC17: - | FD17: - | FE17: - | FF17: - | FG17: - | FH17: - | FI17: - | FJ17: - | FK17: - | FL17: - | FM17: - | FN17: - | FO17: - | FP17: - | FQ17: - | FR17: - | FS17: - | FT17: - | FU17: - | FV17: X | FW17: 7 | FX17: - | FY17: 7 | FZ17: - | GA17: - | GB17: - | GC17: - | GD17: - | GE17: - | GF17: - | GG17: - | GH17: - | GI17: - | GJ17: - | GK17: - | GL17: - | GM17: - | GN17: - | GO17: 2 | GP17: - | GQ17: 2 | GR17: 2 | GS17: - | GT17: - | GU17: - | GV17: 34 | GW17: 13 | GX17: 14 | GY17: 3 | GZ17: 3 | HA17: 1 | HB17: - | HC17: - | HD17: 1 | HE17: - | HF17: - | HG17: - | HH17: - | HI17: - | HJ17: - | HK17: - | HL17: - | HM17: - | HN17: 1920110000 | HO17: 19 | HP17: 00 | HQ17: 201 | HR17: 10 | HS17: 000
A18: 山梨県 | B18: 甲府市 | C18: 二川村 | D18: 201-11 | E18: 50 | F18: - | G18: - | H18: - | I18: - | J18: - | K18: - | L18: 50 | M18: 11 | N18: - | O18: - | P18: - | Q18: - | R18: - | S18: - | T18: - | U18: - | V18: - | W18: 16 | X18: 1444 | Y18: 4 | Z18: 780 | AA18: 34 | AB18: - | AC18: - | AD18: - | AE18: - | AF18: - | AG18: 50 | AH18: - | AI18: 16 | AJ18: 15 | AK18: 11 | AL18: 5 | AM18: 2 | AN18: 1 | AO18: - | AP18: - | AQ18: - | AR18: - | AS18: - | AT18: - | AU18: - | AV18: - | AW18: - | AX18: - | AY18: - | AZ18: - | BA18: - | BB18: - | BC18: - | BD18: - | BE18: - | BF18: - | BG18: - | BH18: - | BI18: 4747 | BJ18: - | BK18: 618 | BL18: 981 | BM18: 1383 | BN18: 814 | BO18: 549 | BP18: 402 | BQ18: - | BR18: - | BS18: - | BT18: - | BU18: - | BV18: - | BW18: 1233 | BX18: - | BY18: - | BZ18: - | CA18: - | CB18: - | CC18: - | CD18: - | CE18: - | CF18: - | CG18: - | CH18: - | CI18: - | CJ18: - | CK18: - | CL18: - | CM18: 39 | CN18: 19 | CO18: - | CP18: - | CQ18: - | CR18: 19 | CS18: 1 | CT18: - | CU18: - | CV18: - | CW18: - | CX18: - | CY18: - | CZ18: - | DA18: - | DB18: - | DC18: - | DD18: - | DE18: - | DF18: - | DG18: - | DH18: - | DI18: - | DJ18: - | DK18: - | DL18: - | DM18: - | DN18: - | DO18: - | DP18: - | DQ18: - | DR18: - | DS18: 38 | DT18: - | DU18: - | DV18: - | DW18: 1 | DX18: - | DY18: - | DZ18: - | EA18: - | EB18: 26 | EC18: 2 | ED18: 1 | EE18: - | EF18: 3 | EG18: 2893 | EH18: - | EI18: - | EJ18: - | EK18: X | EL18: - | EM18: - | EN18: - | EO18: - | EP18: X | EQ18: X | ER18: X | ES18: - | ET18: X | EU18: - | EV18: - | EW18: - | EX18: - | EY18: - | EZ18: - | FA18: - | FB18: - | FC18: - | FD18: - | FE18: - | FF18: - | FG18: - | FH18: - | FI18: - | FJ18: - | FK18: - | FL18: - | FM18: - | FN18: - | FO18: - | FP18: - | FQ18: - | FR18: - | FS18: - | FT18: - | FU18: - | FV18: X | FW18: 7 | FX18: 1 | FY18: 5 | FZ18: - | GA18: - | GB18: - | GC18: 1 | GD18: - | GE18: - | GF18: - | GG18: - | GH18: - | GI18: - | GJ18: - | GK18: - | GL18: - | GM18: - | GN18: - | GO18: 5 | GP18: - | GQ18: 5 | GR18: 5 | GS18: - | GT18: - | GU18: - | GV18: 39 | GW18: 15 | GX18: 9 | GY18: 9 | GZ18: 6 | HA18: - | HB18: - | HC18: - | HD18: - | HE18: - | HF18: - | HG18: - | HH18: - | HI18: - | HJ18: - | HK18: - | HL18: - | HM18: - | HN18: 1920111000 | HO18: 19 | HP18: 00 | HQ18: 201 | HR18: 11 | HS18: 000
A19: 山梨県 | B19: 甲府市 | C19: 柏村 | D19: 201-12 | E19: 152 | F19: 2 | G19: - | H19: 1 | I19: 1 | J19: - | K19: - | L19: 150 | M19: 52 | N19: 2 | O19: X | P19: X | Q19: X | R19: X | S19: X | T19: X | U19: X | V19: - | W19: 57 | X19: 3364 | Y19: 4 | Z19: 380 | AA19: 95 | AB19: X | AC19: X | AD19: X | AE19: X | AF19: X | AG19: 151 | AH19: 11 | AI19: 26 | AJ19: 76 | AK19: 27 | AL19: 7 | AM19: 2 | AN19: 2 | AO19: - | AP19: - | AQ19: - | AR19: - | AS19: - | AT19: - | AU19: X | AV19: X | AW19: X | AX19: X | AY19: X | AZ19: X | BA19: X | BB19: X | BC19: X | BD19: X | BE19: X | BF19: X | BG19: X | BH19: X | BI19: 12088 | BJ19: 219 | BK19: 1070 | BL19: 5298 | BM19: 3031 | BN19: 1210 | BO19: 410 | BP19: 850 | BQ19: - | BR19: - | BS19: - | BT19: - | BU19: - | BV19: - | BW19: 2861 | BX19: X | BY19: X | BZ19: X | CA19: X | CB19: X | CC19: X | CD19: X | CE19: X | CF19: X | CG19: X | CH19: X | CI19: X | CJ19: X | CK19: X | CL19: X | CM19: 151 | CN19: 1 | CO19: - | CP19: - | CQ19: - | CR19: 50 | CS19: - | CT19: 98 | CU19: 1 | CV19: - | CW19: - | CX19: 1 | CY19: - | CZ19: - | DA19: - | DB19: - | DC19: X | DD19: X | DE19: X | DF19: X | DG19: X | DH19: X | DI19: X | DJ19: X | DK19: X | DL19: X | DM19: X | DN19: X | DO19: X | DP19: X | DQ19: X | DR19: X | DS19: 28 | DT19: 1 | DU19: - | DV19: 1 | DW19: 1 | DX19: - | DY19: 3 | DZ19: 2 | EA19: - | EB19: 95 | EC19: 7 | ED19: 135 | EE19: - | EF19: 1 | EG19: 777 | EH19: X | EI19: - | EJ19: X | EK19: X | EL19: - | EM19: X | EN19: X | EO19: - | EP19: X | EQ19: X | ER19: X | ES19: - | ET19: X | EU19: X | EV19: X | EW19: X | EX19: X | EY19: X | EZ19: X | FA19: X | FB19: X | FC19: X | FD19: X | FE19: X | FF19: X | FG19: X | FH19: X | FI19: X | FJ19: X | FK19: X | FL19: X | FM19: X | FN19: X | FO19: X | FP19: X | FQ19: X | FR19: X | FS19: X | FT19: X | FU19: X | FV19: X | FW19: 21 | FX19: - | FY19: 21 | FZ19: - | GA19: 1 | GB19: - | GC19: - | GD19: - | GE19: - | GF19: X | GG19: X | GH19: X | GI19: X | GJ19: X | GK19: X | GL19: X | GM19: X | GN19: X | GO19: 2 | GP19: X | GQ19: 2 | GR19: 2 | GS19: 1 | GT19: - | GU19: - | GV19: 151 | GW19: 12 | GX19: 89 | GY19: 43 | GZ19: 6 | HA19: 1 | HB19: 1 | HC19: - | HD19: - | HE19: X | HF19: X | HG19: X | HH19: X | HI19: X | HJ19: X | HK19: X | HL19: X | HM19: X | HN19: 1920112000 | HO19: 19 | HP19: 00 | HQ19: 201 | HR19: 12 | HS19: 000
A20: 山梨県 | B20: 甲府市 | C20: 右左口村 | D20: 201-13 | E20: 232 | F20: 3 | G20: - | H20: 2 | I20: 1 | J20: - | K20: - | L20: 229 | M20: 56 | N20: 3 | O20: 3 | P20: - | Q20: 2 | R20: 1 | S20: - | T20: - | U20: - | V20: - | W20: 61 | X20: 12614 | Y20: 9 | Z20: 3330 | AA20: 171 | AB20: 3 | AC20: 6130 | AD20: 2 | AE20: 1360 | AF20: - | AG20: 230 | AH20: 2 | AI20: 49 | AJ20: 123 | AK20: 32 | AL20: 18 | AM20: 4 | AN20: 2 | AO20: - | AP20: - | AQ20: - | AR20: - | AS20: - | AT20: - | AU20: 2 | AV20: - | AW20: 1 | AX20: - | AY20: - | AZ20: - | BA20: - | BB20: 1 | BC20: - | BD20: - | BE20: - | BF20: - | BG20: - | BH20: - | BI20: 19014 | BJ20: 44 | BK20: 1861 | BL20: 8596 | BM20: 3692 | BN20: 3047 | BO20: 964 | BP20: 810 | BQ20: - | BR20: - | BS20: - | BT20: - | BU20: - | BV20: - | BW20: 3444 | BX20: 497 | BY20: - | BZ20: 37 | CA20: - | CB20: - | CC20: - | CD20: - | CE20: 460 | CF20: - | CG20: - | CH20: - | CI20: - | CJ20: - | CK20: - | CL20: 497 | CM20: 218 | CN20: 1 | CO20: - | CP20: - | CQ20: - | CR20: 74 | CS20: - | CT20: 139 | CU20: 1 | CV20: 1 | CW20: - | CX20: - | CY20: 2 | CZ20: - | DA20: - | DB20: - | DC20: 2 | DD20: - | DE20: - | DF20: - | DG20: - | DH20: 1 | DI20: - | DJ20: 1 | DK20: - | DL20: - | DM20: - | DN20: - | DO20: - | DP20: - | DQ20: - | DR20: - | DS20: 43 | DT20: 1 | DU20: - | DV20: 1 | DW20: 8 | DX20: - | DY20: 4 | DZ20: 1 | EA20: X | EB20: 168 | EC20: 4 | ED20: 185 | EE20: - | EF20: 3 | EG20: 955 | EH20: X | EI20: - | EJ20: X | EK20: 49 | EL20: - | EM20: X | EN20: X | EO20: X | EP20: X | EQ20: X | ER20: X | ES20: - | ET20: X | EU20: - | EV20: - | EW20: - | EX20: - | EY20: - | EZ20: - | FA20: - | FB20: - | FC20: - | FD20: 1 | FE20: X | FF20: X | FG20: - | FH20: - | FI20: - | FJ20: - | FK20: - | FL20: - | FM20: - | FN20: - | FO20: - | FP20: - | FQ20: - | FR20: X | FS20: X | FT20: X | FU20: - | FV20: X | FW20: 67 | FX20: 6 | FY20: 66 | FZ20: 1 | GA20: 4 | GB20: - | GC20: - | GD20: - | GE20: - | GF20: 1 | GG20: - | GH20: 1 | GI20: - | GJ20: 1 | GK20: - | GL20: - | GM20: - | GN20: - | GO20: 2 | GP20: 1 | GQ20: 2 | GR20: - | GS20: 2 | GT20: - | GU20: 1 | GV20: 218 | GW20: 35 | GX20: 133 | GY20: 43 | GZ20: 6 | HA20: 1 | HB20: 1 | HC20: - | HD20: - | HE20: 2 | HF20: 1 | HG20: - | HH20: - | HI20: 1 | HJ20: - | HK20: - | HL20: - | HM20: - | HN20: 1920113000 | HO20: 19 | HP20: 00 | HQ20: 201 | HR20: 13 | HS20: 000
A21: 山梨県 | B21: 甲府市 | C21: 上九一色村2-1 | D21: 201-14 | E21: 4 | F21: - | G21: - | H21: - | I21: - | J21: - | K21: - | L21: 4 | M21: - | N21: - | O21: - | P21: - | Q21: - | R21: - | S21: - | T21: - | U21: - | V21: - | W21: - | X21: - | Y21: - | Z21: - | AA21: 4 | AB21: - | AC21: - | AD21: - | AE21: - | AF21: - | AG21: 4 | AH21: - | AI21: 3 | AJ21: 1 | AK21: - | AL21: - | AM21: - | AN21: - | AO21: - | AP21: - | AQ21: - | AR21: - | AS21: - | AT21: - | AU21: - | AV21: - | AW21: - | AX21: - | AY21: - | AZ21: - | BA21: - | BB21: - | BC21: - | BD21: - | BE21: - | BF21: - | BG21: - | BH21: - | BI21: 195 | BJ21: - | BK21: 122 | BL21: 73 | BM21: - | BN21: - | BO21: - | BP21: - | BQ21: - | BR21: - | BS21: - | BT21: - | BU21: - | BV21: - | BW21: 42 | BX21: - | BY21: - | BZ21: - | CA21: - | CB21: - | CC21: - | CD21: - | CE21: - | CF21: - | CG21: - | CH21: - | CI21: - | CJ21: - | CK21: - | CL21: - | CM21: 3 | CN21: - | CO21: - | CP21: - | CQ21: - | CR21: 3 | CS21: - | CT21: - | CU21: - | CV21: - | CW21: - | CX21: - | CY21: - | CZ21: - | DA21: - | DB21: - | DC21: - | DD21: - | DE21: - | DF21: - | DG21: - | DH21: - | DI21: - | DJ21: - | DK21: - | DL21: - | DM21: - | DN21: - | DO21: - | DP21: - | DQ21: - | DR21: - | DS21: 1 | DT21: - | DU21: - | DV21: - | DW21: - | DX21: - | DY21: 1 | DZ21: 1 | EA21: - | EB21: 3 | EC21: - | ED21: 2 | EE21: - | EF21: - | EG21: X | EH21: - | EI21: - | EJ21: - | EK21: - | EL21: - | EM21: X | EN21: X | EO21: - | EP21: X | EQ21: - | ER21: X | ES21: - | ET21: - | EU21: - | EV21: - | EW21: - | EX21: - | EY21: - | EZ21: - | FA21: - | FB21: - | FC21: - | FD21: - | FE21: - | FF21: - | FG21: - | FH21: - | FI21: - | FJ21: - | FK21: - | FL21: - | FM21: - | FN21: - | FO21: - | FP21: - | FQ21: - | FR21: - | FS21: - | FT21: - | FU21: - | FV21: - | FW21: 3 | FX21: - | FY21: 3 | FZ21: - | GA21: - | GB21: - | GC21: - | GD21: - | GE21: - | GF21: - | GG21: - | GH21: - | GI21: - | GJ21: - | GK21: - | GL21: - | GM21: - | GN21: - | GO21: - | GP21: - | GQ21: - | GR21: - | GS21: - | GT21: - | GU21: - | GV21: 3 | GW21: 2 | GX21: 1 | GY21: - | GZ21: - | HA21: - | HB21: - | HC21: - | HD21: - | HE21: - | HF21: - | HG21: - | HH21: - | HI21: - | HJ21: - | HK21: - | HL21: - | HM21: - | HN21: 1920114000 | HO21: 19 | HP21: 00 | HQ21: 201 | HR21: 14 | HS21: 000
A22: 山梨県 | B22: 富士吉田市 | D22: 202-00 | E22: 115 | F22: 3 | G22: - | H22: 2 | I22: - | J22: 1 | K22: 1 | L22: 111 | M22: 4 | N22: 4 | O22: 3 | P22: - | Q22: 2 | R22: - | S22: 1 | T22: 1 | U22: - | V22: - | W22: 15 | X22: 11715 | Y22: 4 | Z22: 10044 | AA22: 100 | AB22: 3 | AC22: 11115 | AD22: 3 | AE22: 9844 | AF22: 1 | AG22: 110 | AH22: 3 | AI22: 62 | AJ22: 29 | AK22: 8 | AL22: 5 | AM22: 2 | AN22: - | AO22: - | AP22: 1 | AQ22: - | AR22: - | AS22: - | AT22: - | AU22: - | AV22: - | AW22: - | AX22: - | AY22: - | AZ22: - | BA22: - | BB22: - | BC22: - | BD22: - | BE22: - | BF22: - | BG22: - | BH22: - | BI22: 7630 | BJ22: 51 | BK22: 2331 | BL22: 1870 | BM22: 847 | BN22: 870 | BO22: 425 | BP22: - | BQ22: - | BR22: 1236 | BS22: - | BT22: - | BU22: - | BV22: - | BW22: 3156 | BX22: - | BY22: - | BZ22: - | CA22: - | CB22: - | CC22: - | CD22: - | CE22: - | CF22: - | CG22: - | CH22: - | CI22: - | CJ22: - | CK22: - | CL22: - | CM22: 61 | CN22: 38 | CO22: - | CP22: 1 | CQ22: - | CR22: 11 | CS22: 1 | CT22: 1 | CU22: 5 | CV22: 2 | CW22: - | CX22: - | CY22: - | CZ22: 1 | DA22: - | DB22: 1 | DC22: 3 | DD22: - | DE22: - | DF22: - | DG22: - | DH22: - | DI22: - | DJ22: - | DK22: - | DL22: 1 | DM22: - | DN22: - | DO22: - | DP22: 1 | DQ22: - | DR22: 1 | DS22: 50 | DT22: - | DU22: - | DV22: 1 | DW22: 12 | DX22: 1 | DY22: 10 | DZ22: 7 | EA22: - | EB22: 28 | EC22: 6 | ED22: 2 | EE22: - | EF22: 8 | EG22: 2803 | EH22: - | EI22: - | EJ22: X | EK22: 75 | EL22: X | EM22: X | EN22: 785 | EO22: - | EP22: X | EQ22: X | ER22: X | ES22: - | ET22: 88 | EU22: - | EV22: - | EW22: - | EX22: - | EY22: - | EZ22: - | FA22: - | FB22: - | FC22: - | FD22: - | FE22: - | FF22: - | FG22: - | FH22: 1 | FI22: - | FJ22: - | FK22: - | FL22: - | FM22: - | FN22: - | FO22: - | FP22: - | FQ22: - | FR22: - | FS22: - | FT22: - | FU22: - | FV22: X | FW22: 32 | FX22: 1 | FY22: 31 | FZ22: 1 | GA22: 1 | GB22: - | GC22: - | GD22: - | GE22: 1 | GF22: 3 | GG22: - | GH22: 2 | GI22: - | GJ22: - | GK22: - | GL22: - | GM22: - | GN22: 1 | GO22: 8 | GP22: 1 | GQ22: 8 | GR22: 6 | GS22: 2 | GT22: - | GU22: 2 | GV22: 61 | GW22: 28 | GX22: 27 | GY22: 5 | GZ22: - | HA22: 1 | HB22: - | HC22: - | HD22: 1 | HE22: 3 | HF22: - | HG22: 1 | HH22: 1 | HI22: - | HJ22: 1 | HK22: - | HL22: - | HM22: 1 | HN22: 1920200000 | HO22: 19 | HP22: 00 | HQ22: 202 | HR22: 00 | HS22: 000
A23: 山梨県 | B23: 富士吉田市 | C23: 下吉田町 | D23: 202-01 | E23: 27 | F23: 2 | G23: - | H23: 1 | I23: - | J23: 1 | K23: - | L23: 25 | M23: 1 | N23: 2 | O23: X | P23: X | Q23: X | R23: X | S23: X | T23: X | U23: X | V23: - | W23: 5 | X23: 8205 | Y23: 1 | Z23: 8060 | AA23: 22 | AB23: X | AC23: X | AD23: X | AE23: X | AF23: X | AG23: 24 | AH23: 2 | AI23: 16 | AJ23: 2 | AK23: 2 | AL23: 1 | AM23: 1 | AN23: - | AO23: - | AP23: - | AQ23: - | AR23: - | AS23: - | AT23: - | AU23: X | AV23: X | AW23: X | AX23: X | AY23: X | AZ23: X | BA23: X | BB23: X | BC23: X | BD23: X | BE23: X | BF23: X | BG23: X | BH23: X | BI23: 1308 | BJ23: 38 | BK23: 577 | BL23: 106 | BM23: 210 | BN23: 165 | BO23: 212 | BP23: - | BQ23: - | BR23: - | BS23: - | BT23: - | BU23: - | BV23: - | BW23: 464 | BX23: X | BY23: X | BZ23: X | CA23: X | CB23: X | CC23: X | CD23: X | CE23: X | CF23: X | CG23: X | CH23: X | CI23: X | CJ23: X | CK23: X | CL23: X | CM23: 13 | CN23: 8 | CO23: - | CP23: 1 | CQ23: - | CR23: 1 | CS23: - | CT23: - | CU23: 1 | CV23: 1 | CW23: - | CX23: - | CY23: - | CZ23: 1 | DA23: - | DB23: - | DC23: X | DD23: X | DE23: X | DF23: X | DG23: X | DH23: X | DI23: X | DJ23: X | DK23: X | DL23: X | DM23: X | DN23: X | DO23: X | DP23: X | DQ23: X | DR23: X | DS23: 10 | DT23: - | DU23: - | DV23: - | DW23: 3 | DX23: 1 | DY23: 3 | DZ23: 2 | EA23: - | EB23: 7 | EC23: - | ED23: - | EE23: - | EF23: 1 | EG23: X | EH23: - | EI23: - | EJ23: - | EK23: X | EL23: X | EM23: X | EN23: X | EO23: - | EP23: X | EQ23: - | ER23: - | ES23: - | ET23: X | EU23: X | EV23: X | EW23: X | EX23: X | EY23: X | EZ23: X | FA23: X | FB23: X | FC23: X | FD23: X | FE23: X | FF23: X | FG23: X | FH23: X | FI23: X | FJ23: X | FK23: X | FL23: X | FM23: X | FN23: X | FO23: X | FP23: X | FQ23: X | FR23: X | FS23: X | FT23: X | FU23: X | FV23: X | FW23: 6 | FX23: 1 | FY23: 6 | FZ23: - | GA23: - | GB23: - | GC23: - | GD23: - | GE23: - | GF23: X | GG23: X | GH23: X | GI23: X | GJ23: X | GK23: X | GL23: X | GM23: X | GN23: X | GO23: 5 | GP23: X | GQ23: 5 | GR23: 3 | GS23: 2 | GT23: - | GU23: 1 | GV23: 13 | GW23: 4 | GX23: 8 | GY23: - | GZ23: - | HA23: 1 | HB23: - | HC23: - | HD23: 1 | HE23: X | HF23: X | HG23: X | HH23: X | HI23: X | HJ23: X | HK23: X | HL23: X | HM23: X | HN23: 1920201000 | HO23: 19 | HP23: 00 | HQ23: 202 | HR23: 01 | HS23: 000
A24: 山梨県 | B24: 富士吉田市 | C24: 明見町 | D24: 202-02 | E24: 39 | F24: 1 | G24: - | H24: 1 | I24: - | J24: - | K24: - | L24: 38 | M24: 1 | N24: 1 | O24: X | P24: X | Q24: X | R24: X | S24: X | T24: X | U24: X | V24: - | W24: 3 | X24: 771 | Y24: 1 | Z24: 500 | AA24: 36 | AB24: X | AC24: X | AD24: X | AE24: X | AF24: X | AG24: 38 | AH24: - | AI24: 24 | AJ24: 10 | AK24: 2 | AL24: 2 | AM24: - | AN24: - | AO24: - | AP24: - | AQ24: - | AR24: - | AS24: - | AT24: - | AU24: X | AV24: X | AW24: X | AX24: X | AY24: X | AZ24: X | BA24: X | BB24: X | BC24: X | BD24: X | BE24: X | BF24: X | BG24: X | BH24: X | BI24: 2088 | BJ24: - | BK24: 887 | BL24: 610 | BM24: 216 | BN24: 375 | BO24: - | BP24: - | BQ24: - | BR24: - | BS24: - | BT24: - | BU24: - | BV24: - | BW24: 629 | BX24: X | BY24: X | BZ24: X | CA24: X | CB24: X | CC24: X | CD24: X | CE24: X | CF24: X | CG24: X | CH24: X | CI24: X | CJ24: X | CK24: X | CL24: X | CM24: 18 | CN24: 13 | CO24: - | CP24: - | CQ24: - | CR24: 2 | CS24: - | CT24: 1 | CU24: 1 | CV24: - | CW24: - | CX24: - | CY24: - | CZ24: - | DA24: - | DB24: 1 | DC24: X | DD24: X | DE24: X | DF24: X | DG24: X | DH24: X | DI24: X | DJ24: X | DK24: X | DL24: X | DM24: X | DN24: X | DO24: X | DP24: X | DQ24: X | DR24: X | DS24: 16 | DT24: - | DU24: - | DV24: - | DW24: 2 | DX24: - | DY24: 4 | DZ24: 3 | EA24: - | EB24: 6 | EC24: - | ED24: 1 | EE24: - | EF24: 1 | EG24: 547 | EH24: - | EI24: - | EJ24: - | EK24: X | EL24: - | EM24: X | EN24: 150 | EO24: - | EP24: X | EQ24: - | ER24: X | ES24: - | ET24: X | EU24: X | EV24: X | EW24: X | EX24: X | EY24: X | EZ24: X | FA24: X | FB24: X | FC24: X | FD24: X | FE24: X | FF24: X | FG24: X | FH24: X | FI24: X | FJ24: X | FK24: X | FL24: X | FM24: X | FN24: X | FO24: X | FP24: X | FQ24: X | FR24: X | FS24: X | FT24: X | FU24: X | FV24: X | FW24: 10 | FX24: - | FY24: 9 | FZ24: - | GA24: - | GB24: - | GC24: - | GD24: - | GE24: 1 | GF24: X | GG24: X | GH24: X | GI24: X | GJ24: X | GK24: X | GL24: X | GM24: X | GN24: X | GO24: 1 | GP24: X | GQ24: 1 | GR24: 1 | GS24: - | GT24: - | GU24: 1 | GV24: 18 | GW24: 9 | GX24: 7 | GY24: 2 | GZ24: - | HA24: - | HB24: - | HC24: - | HD24: - | HE24: X | HF24: X | HG24: X | HH24: X | HI24: X | HJ24: X | HK24: X | HL24: X | HM24: X | HN24: 1920202000 | HO24: 19 | HP24: 00 | HQ24: 202 | HR24: 02 | HS24: 000
A25: 山梨県 | B25: 富士吉田市 | C25: 富士上吉田町 | D25: 202-03 | E25: 44 | F25: - | G25: - | H25: - | I25: - | J25: - | K25: 1 | L25: 43 | M25: 2 | N25: 1 | O25: X | P25: X | Q25: X | R25: X | S25: X | T25: X | U25: X | V25: - | W25: 7 | X25: 2739 | Y25: 2 | Z25: 1484 | AA25: 37 | AB25: X | AC25: X | AD25: X | AE25: X | AF25: X | AG25: 43 | AH25: 1 | AI25: 19 | AJ25: 15 | AK25: 4 | AL25: 2 | AM25: 1 | AN25: - | AO25: - | AP25: 1 | AQ25: - | AR25: - | AS25: - | AT25: - | AU25: X | AV25: X | AW25: X | AX25: X | AY25: X | AZ25: X | BA25: X | BB25: X | BC25: X | BD25: X | BE25: X | BF25: X | BG25: X | BH25: X | BI25: 4001 | BJ25: 13 | BK25: 749 | BL25: 1039 | BM25: 421 | BN25: 330 | BO25: 213 | BP25: - | BQ25: - | BR25: 1236 | BS25: - | BT25: - | BU25: - | BV25: - | BW25: 1994 | BX25: X | BY25: X | BZ25: X | CA25: X | CB25: X | CC25: X | CD25: X | CE25: X | CF25: X | CG25: X | CH25: X | CI25: X | CJ25: X | CK25: X | CL25: X | CM25: 30 | CN25: 17 | CO25: - | CP25: - | CQ25: - | CR25: 8 | CS25: 1 | CT25: - | CU25: 3 | CV25: 1 | CW25: - | CX25: - | CY25: - | CZ25: - | DA25: - | DB25: - | DC25: X | DD25: X | DE25: X | DF25: X | DG25: X | DH25: X | DI25: X | DJ25: X | DK25: X | DL25: X | DM25: X | DN25: X | DO25: X | DP25: X | DQ25: X | DR25: X | DS25: 23 | DT25: - | DU25: - | DV25: 1 | DW25: 7 | DX25: - | DY25: 3 | DZ25: 2 | EA25: - | EB25: 15 | EC25: 6 | ED25: 1 | EE25: - | EF25: 6 | EG25: 1556 | EH25: - | EI25: - | EJ25: X | EK25: 51 | EL25: - | EM25: X | EN25: X | EO25: - | EP25: X | EQ25: X | ER25: X | ES25: - | ET25: X | EU25: X | EV25: X | EW25: X | EX25: X | EY25: X | EZ25: X | FA25: X | FB25: X | FC25: X | FD25: X | FE25: X | FF25: X | FG25: X | FH25: X | FI25: X | FJ25: X | FK25: X | FL25: X | FM25: X | FN25: X | FO25: X | FP25: X | FQ25: X | FR25: X | FS25: X | FT25: X | FU25: X | FV25: X | FW25: 16 | FX25: - | FY25: 16 | FZ25: 1 | GA25: 1 | GB25: - | GC25: - | GD25: - | GE25: - | GF25: X | GG25: X | GH25: X | GI25: X | GJ25: X | GK25: X | GL25: X | GM25: X | GN25: X | GO25: 2 | GP25: X | GQ25: 2 | GR25: 2 | GS25: - | GT25: - | GU25: - | GV25: 30 | GW25: 15 | GX25: 12 | GY25: 3 | GZ25: - | HA25: - | HB25: - | HC25: - | HD25: - | HE25: X | HF25: X | HG25: X | HH25: X | HI25: X | HJ25: X | HK25: X | HL25: X | HM25: X | HN25: 1920203000 | HO25: 19 | HP25: 00 | HQ25: 202 | HR25: 03 | HS25: 000
A26: 山梨県 | B26: 富士吉田市 | C26: 西桂村2-2 | D26: 202-04 | E26: 5 | F26: - | G26: - | H26: - | I26: - | J26: - | K26: - | L26: 5 | M26: - | N26: - | O26: - | P26: - | Q26: - | R26: - | S26: - | T26: - | U26: - | V26: - | W26: - | X26: - | Y26: - | Z26: - | AA26: 5 | AB26: - | AC26: - | AD26: - | AE26: - | AF26: - | AG26: 5 | AH26: - | AI26: 3 | AJ26: 2 | AK26: - | AL26: - | AM26: - | AN26: - | AO26: - | AP26: - | AQ26: - | AR26: - | AS26: - | AT26: - | AU26: - | AV26: - | AW26: - | AX26: - | AY26: - | AZ26: - | BA26: - | BB26: - | BC26: - | BD26: - | BE26: - | BF26: - | BG26: - | BH26: - | BI26: 233 | BJ26: - | BK26: 118 | BL26: 115 | BM26: - | BN26: - | BO26: - | BP26: - | BQ26: - | BR26: - | BS26: - | BT26: - | BU26: - | BV26: - | BW26: 69 | BX26: - | BY26: - | BZ26: - | CA26: - | CB26: - | CC26: - | CD26: - | CE26: - | CF26: - | CG26: - | CH26: - | CI26: - | CJ26: - | CK26: - | CL26: - | CM26: - | CN26: - | CO26: - | CP26: - | CQ26: - | CR26: - | CS26: - | CT26: - | CU26: - | CV26: - | CW26: - | CX26: - | CY26: - | CZ26: - | DA26: - | DB26: - | DC26: - | DD26: - | DE26: - | DF26: - | DG26: - | DH26: - | DI26: - | DJ26: - | DK26: - | DL26: - | DM26: - | DN26: - | DO26: - | DP26: - | DQ26: - | DR26: - | DS26: 1 | DT26: - | DU26: - | DV26: - | DW26: - | DX26: - | DY26: - | DZ26: - | EA26: - | EB26: - | EC26: - | ED26: - | EE26: - | EF26: - | EG26: X | EH26: - | EI26: - | EJ26: - | EK26: - | EL26: - | EM26: - | EN26: - | EO26: - | EP26: - | EQ26: - | ER26: - | ES26: - | ET26: - | EU26: - | EV26: - | EW26: - | EX26: - | EY26: - | EZ26: - | FA26: - | FB26: - | FC26: - | FD26: - | FE26: - | FF26: - | FG26: - | FH26: - | FI26: - | FJ26: - | FK26: - | FL26: - | FM26: - | FN26: - | FO26: - | FP26: - | FQ26: - | FR26: - | FS26: - | FT26: - | FU26: - | FV26: - | FW26: - | FX26: - | FY26: - | FZ26: - | GA26: - | GB26: - | GC26: - | GD26: - | GE26: - | GF26: - | GG26: - | GH26: - | GI26: - | GJ26: - | GK26: - | GL26: - | GM26: - | GN26: - | GO26: - | GP26: - | GQ26: - | GR26: - | GS26: - | GT26: - | GU26: - | GV26: - | GW26: - | GX26: - | GY26: - | GZ26: - | HA26: - | HB26: - | HC26: - | HD26: - | HE26: - | HF26: - | HG26: - | HH26: - | HI26: - | HJ26: - | HK26: - | HL26: - | HM26: - | HN26: 1920204000 | HO26: 19 | HP26: 00 | HQ26: 202 | HR26: 04 | HS26: 000
A27: 山梨県 | B27: 都留市 | D27: 204-00 | E27: 186 | F27: 6 | G27: 1 | H27: 3 | I27: 1 | J27: 1 | K27: - | L27: 180 | M27: 3 | N27: 6 | O27: 6 | P27: 1 | Q27: 3 | R27: 1 | S27: 1 | T27: - | U27: - | V27: - | W27: 22 | X27: 5997 | Y27: 6 | Z27: 4800 | AA27: 164 | AB27: 4 | AC27: 4410 | AD27: 4 | AE27: 3960 | AF27: 2 | AG27: 182 | AH27: 3 | AI27: 104 | AJ27: 61 | AK27: 7 | AL27: 2 | AM27: 3 | AN27: - | AO27: 2 | AP27: - | AQ27: - | AR27: - | AS27: - | AT27: - | AU27: 4 | AV27: - | AW27: - | AX27: 2 | AY27: - | AZ27: 1 | BA27: 1 | BB27: - | BC27: - | BD27: - | BE27: - | BF27: - | BG27: - | BH27: - | BI27: 11019 | BJ27: 63 | BK27: 3876 | BL27: 3821 | BM27: 871 | BN27: 348 | BO27: 820 | BP27: - | BQ27: 1220 | BR27: - | BS27: - | BT27: - | BU27: - | BV27: - | BW27: 1990 | BX27: 598 | BY27: - | BZ27: - | CA27: 140 | CB27: - | CC27: 188 | CD27: 270 | CE27: - | CF27: - | CG27: - | CH27: - | CI27: - | CJ27: - | CK27: - | CL27: 410 | CM27: 86 | CN27: 59 | CO27: - | CP27: 2 | CQ27: - | CR27: 18 | CS27: 1 | CT27: - | CU27: 3 | CV27: 1 | CW27: - | CX27: - | CY27: 1 | CZ27: - | DA27: - | DB27: 1 | DC27: 4 | DD27: - | DE27: - | DF27: - | DG27: - | DH27: 3 | DI27: 1 | DJ27: - | DK27: - | DL27: - | DM27: - | DN27: - | DO27: - | DP27: - | DQ27: - | DR27: - | DS27: 94 | DT27: 1 | DU27: - | DV27: 1 | DW27: 11 | DX27: - | DY27: 12 | DZ27: 11 | EA27: 1 | EB27: 31 | EC27: 3 | ED27: 2 | EE27: - | EF27: 7 | EG27: 3509 | EH27: X | EI27: - | EJ27: X | EK27: 67 | EL27: - | EM27: X | EN27: 121 | EO27: X | EP27: X | EQ27: X | ER27: X | ES27: - | ET27: X | EU27: - | EV27: - | EW27: - | EX27: - | EY27: 2 | EZ27: - | FA27: 1 | FB27: 1 | FC27: - | FD27: 3 | FE27: 1 | FF27: - | FG27: - | FH27: 1 | FI27: - | FJ27: - | FK27: - | FL27: - | FM27: X | FN27: - | FO27: X | FP27: X | FQ27: - | FR27: X | FS27: X | FT27: - | FU27: - | FV27: X | FW27: 31 | FX27: 4 | FY27: 30 | FZ27: - | GA27: 1 | GB27: - | GC27: - | GD27: - | GE27: 1 | GF27: 3 | GG27: 3 | GH27: 2 | GI27: - | GJ27: 1 | GK27: - | GL27: - | GM27: - | GN27: 1 | GO27: 9 | GP27: 1 | GQ27: 9 | GR27: 9 | GS27: - | GT27: - | GU27: - | GV27: 86 | GW27: 57 | GX27: 18 | GY27: 7 | GZ27: 2 | HA27: 2 | HB27: 1 | HC27: - | HD27: 1 | HE27: 4 | HF27: - | HG27: - | HH27: 3 | HI27: 1 | HJ27: - | HK27: - | HL27: - | HM27: - | HN27: 1920400000 | HO27: 19 | HP27: 00 | HQ27: 204 | HR27: 00 | HS27: 000
A28: 山梨県 | B28: 都留市 | C28: 谷村町 | D28: 204-01 | E28: 63 | F28: 3 | G28: - | H28: 2 | I28: 1 | J28: - | K28: - | L28: 60 | M28: 1 | N28: 3 | O28: 3 | P28: - | Q28: 2 | R28: 1 | S28: - | T28: - | U28: - | V28: - | W28: 8 | X28: 2583 | Y28: 3 | Z28: 2100 | AA28: 55 | AB28: 2 | AC28: 2380 | AD28: 2 | AE28: 1980 | AF28: 1 | AG28: 62 | AH28: 2 | AI28: 30 | AJ28: 24 | AK28: 3 | AL28: 1 | AM28: 2 | AN28: - | AO28: - | AP28: - | AQ28: - | AR28: - | AS28: - | AT28: - | AU28: 2 | AV28: - | AW28: - | AX28: - | AY28: - | AZ28: 1 | BA28: 1 | BB28: - | BC28: - | BD28: - | BE28: - | BF28: - | BG28: - | BH28: - | BI28: 3765 | BJ28: 35 | BK28: 1171 | BL28: 1478 | BM28: 358 | BN28: 188 | BO28: 535 | BP28: - | BQ28: - | BR28: - | BS28: - | BT28: - | BU28: - | BV28: - | BW28: 664 | BX28: 458 | BY28: - | BZ28: - | CA28: - | CB28: - | CC28: 188 | CD28: 270 | CE28: - | CF28: - | CG28: - | CH28: - | CI28: - | CJ28: - | CK28: - | CL28: 270 | CM28: 35 | CN28: 23 | CO28: - | CP28: 1 | CQ28: - | CR28: 8 | CS28: - | CT28: - | CU28: 3 | CV28: - | CW28: - | CX28: - | CY28: - | CZ28: - | DA28: - | DB28: - | DC28: 2 | DD28: - | DE28: - | DF28: - | DG28: - | DH28: 2 | DI28: - | DJ28: - | DK28: - | DL28: - | DM28: - | DN28: - | DO28: - | DP28: - | DQ28: - | DR28: - | DS28: 31 | DT28: - | DU28: - | DV28: 1 | DW28: 6 | DX28: - | DY28: 6 | DZ28: 5 | EA28: - | EB28: 14 | EC28: 1 | ED28: 1 | EE28: - | EF28: 3 | EG28: 1112 | EH28: - | EI28: - | EJ28: X | EK28: 57 | EL28: - | EM28: X | EN28: 50 | EO28: - | EP28: X | EQ28: X | ER28: X | ES28: - | ET28: X | EU28: - | EV28: - | EW28: - | EX28: - | EY28: 2 | EZ28: - | FA28: 1 | FB28: 1 | FC28: - | FD28: 2 | FE28: - | FF28: - | FG28: - | FH28: - | FI28: - | FJ28: - | FK28: - | FL28: - | FM28: X | FN28: - | FO28: X | FP28: X | FQ28: - | FR28: X | FS28: - | FT28: - | FU28: - | FV28: X | FW28: 10 | FX28: 2 | FY28: 10 | FZ28: - | GA28: 1 | GB28: - | GC28: - | GD28: - | GE28: - | GF28: 1 | GG28: 1 | GH28: 1 | GI28: - | GJ28: 1 | GK28: - | GL28: - | GM28: - | GN28: - | GO28: 5 | GP28: 1 | GQ28: 5 | GR28: 5 | GS28: - | GT28: - | GU28: - | GV28: 35 | GW28: 25 | GX28: 5 | GY28: 5 | GZ28: - | HA28: - | HB28: - | HC28: - | HD28: - | HE28: 2 | HF28: - | HG28: - | HH28: 2 | HI28: - | HJ28: - | HK28: - | HL28: - | HM28: - | HN28: 1920401000 | HO28: 19 | HP28: 00 | HQ28: 204 | HR28: 01 | HS28: 000
A29: 山梨県 | B29: 都留市 | C29: 宝村 | D29: 204-02 | E29: 18 | F29: - | G29: - | H29: - | I29: - | J29: - | K29: - | L29: 18 | M29: 1 | N29: - | O29: - | P29: - | Q29: - | R29: - | S29: - | T29: - | U29: - | V29: - | W29: 1 | X29: 210 | Y29: - | Z29: - | AA29: 17 | AB29: - | AC29: - | AD29: - | AE29: - | AF29: - | AG29: 17 | AH29: - | AI29: 12 | AJ29: 4 | AK29: 1 | AL29: - | AM29: - | AN29: - | AO29: - | AP29: - | AQ29: - | AR29: - | AS29: - | AT29: - | AU29: - | AV29: - | AW29: - | AX29: - | AY29: - | AZ29: - | BA29: - | BB29: - | BC29: - | BD29: - | BE29: - | BF29: - | BG29: - | BH29: - | BI29: 814 | BJ29: - | BK29: 453 | BL29: 253 | BM29: 108 | BN29: - | BO29: - | BP29: - | BQ29: - | BR29: - | BS29: - | BT29: - | BU29: - | BV29: - | BW29: 306 | BX29: - | BY29: - | BZ29: - | CA29: - | CB29: - | CC29: - | CD29: - | CE29: - | CF29: - | CG29: - | CH29: - | CI29: - | CJ29: - | CK29: - | CL29: - | CM29: 7 | CN29: 5 | CO29: - | CP29: - | CQ29: - | CR29: 1 | CS29: - | CT29: - | CU29: - | CV29: - | CW29: - | CX29: - | CY29: 1 | CZ29: - | DA29: - | DB29: - | DC29: - | DD29: - | DE29: - | DF29: - | DG29: - | DH29: - | DI29: - | DJ29: - | DK29: - | DL29: - | DM29: - | DN29: - | DO29: - | DP29: - | DQ29: - | DR29: - | DS29: 9 | DT29: - | DU29: - | DV29: - | DW29: 1 | DX29: - | DY29: 1 | DZ29: 1 | EA29: 1 | EB29: 3 | EC29: - | ED29: - | EE29: - | EF29: - | EG29: 362 | EH29: - | EI29: - | EJ29: - | EK29: X | EL29: - | EM29: X | EN29: X | EO29: X | EP29: X | EQ29: - | ER29: - | ES29: - | ET29: - | EU29: - | EV29: - | EW29: - | EX29: - | EY29: - | EZ29: - | FA29: - | FB29: - | FC29: - | FD29: - | FE29: - | FF29: - | FG29: - | FH29: - | FI29: - | FJ29: - | FK29: - | FL29: - | FM29: - | FN29: - | FO29: - | FP29: - | FQ29: - | FR29: - | FS29: - | FT29: - | FU29: - | FV29: - | FW29: 3 | FX29: - | FY29: 3 | FZ29: - | GA29: - | GB29: - | GC29: - | GD29: - | GE29: - | GF29: - | GG29: - | GH29: - | GI29: - | GJ29: - | GK29: - | GL29: - | GM29: - | GN29: - | GO29: 1 | GP29: - | GQ29: 1 | GR29: 1 | GS29: - | GT29: - | GU29: - | GV29: 7 | GW29: 5 | GX29: 1 | GY29: - | GZ29: - | HA29: 1 | HB29: 1 | HC29: - | HD29: - | HE29: - | HF29: - | HG29: - | HH29: - | HI29: - | HJ29: - | HK29: - | HL29: - | HM29: - | HN29: 1920402000 | HO29: 19 | HP29: 00 | HQ29: 204 | HR29: 02 | HS29: 000
A30: 山梨県 | B30: 都留市 | C30: 禾生村 | D30: 204-03 | E30: 40 | F30: - | G30: - | H30: - | I30: - | J30: - | K30: - | L30: 40 | M30: 1 | N30: - | O30: - | P30: - | Q30: - | R30: - | S30: - | T30: - | U30: - | V30: - | W30: 5 | X30: 955 | Y30: 1 | Z30: 720 | AA30: 35 | AB30: - | AC30: - | AD30: - | AE30: - | AF30: - | AG30: 40 | AH30: - | AI30: 24 | AJ30: 12 | AK30: 1 | AL30: - | AM30: 1 | AN30: - | AO30: 2 | AP30: - | AQ30: - | AR30: - | AS30: - | AT30: - | AU30: - | AV30: - | AW30: - | AX30: - | AY30: - | AZ30: - | BA30: - | BB30: - | BC30: - | BD30: - | BE30: - | BF30: - | BG30: - | BH30: - | BI30: 3276 | BJ30: - | BK30: 888 | BL30: 751 | BM30: 132 | BN30: - | BO30: 285 | BP30: - | BQ30: 1220 | BR30: - | BS30: - | BT30: - | BU30: - | BV30: - | BW30: 316 | BX30: - | BY30: - | BZ30: - | CA30: - | CB30: - | CC30: - | CD30: - | CE30: - | CF30: - | CG30: - | CH30: - | CI30: - | CJ30: - | CK30: - | CL30: - | CM30: 16 | CN30: 12 | CO30: - | CP30: - | CQ30: - | CR30: 3 | CS30: - | CT30: - | CU30: - | CV30: 1 | CW30: - | CX30: - | CY30: - | CZ30: - | DA30: - | DB30: - | DC30: - | DD30: - | DE30: - | DF30: - | DG30: - | DH30: - | DI30: - | DJ30: - | DK30: - | DL30: - | DM30: - | DN30: - | DO30: - | DP30: - | DQ30: - | DR30: - | DS30: 23 | DT30: 1 | DU30: - | DV30: - | DW30: - | DX30: - | DY30: 1 | DZ30: 1 | EA30: - | EB30: 4 | EC30: 1 | ED30: - | EE30: - | EF30: 1 | EG30: 1140 | EH30: X | EI30: - | EJ30: - | EK30: - | EL30: - | EM30: X | EN30: X | EO30: - | EP30: X | EQ30: X | ER30: - | ES30: - | ET30: X | EU30: - | EV30: - | EW30: - | EX30: - | EY30: - | EZ30: - | FA30: - | FB30: - | FC30: - | FD30: - | FE30: - | FF30: - | FG30: - | FH30: - | FI30: - | FJ30: - | FK30: - | FL30: - | FM30: - | FN30: - | FO30: - | FP30: - | FQ30: - | FR30: - | FS30: - | FT30: - | FU30: - | FV30: X | FW30: 9 | FX30: - | FY30: 9 | FZ30: - | GA30: - | GB30: - | GC30: - | GD30: - | GE30: - | GF30: - | GG30: - | GH30: - | GI30: - | GJ30: - | GK30: - | GL30: - | GM30: - | GN30: - | GO30: 1 | GP30: - | GQ30: 1 | GR30: 1 | GS30: - | GT30: - | GU30: - | GV30: 16 | GW30: 10 | GX30: 4 | GY30: - | GZ30: 1 | HA30: 1 | HB30: - | HC30: - | HD30: 1 | HE30: - | HF30: - | HG30: - | HH30: - | HI30: - | HJ30: - | HK30: - | HL30: - | HM30: - | HN30: 1920403000 | HO30: 19 | HP30: 00 | HQ30: 204 | HR30: 03 | HS30: 000
A31: 山梨県 | B31: 都留市 | C31: 盛里村 | D31: 204-04 | E31: 28 | F31: 2 | G31: 1 | H31: 1 | I31: - | J31: - | K31: - | L31: 26 | M31: - | N31: 2 | O31: X | P31: X | Q31: X | R31: X | S31: X | T31: X | U31: X | V31: - | W31: 3 | X31: 2110 | Y31: 2 | Z31: 1980 | AA31: 25 | AB31: X | AC31: X | AD31: X | AE31: X | AF31: X | AG31: 27 | AH31: - | AI31: 20 | AJ31: 5 | AK31: 2 | AL31: - | AM31: - | AN31: - | AO31: - | AP31: - | AQ31: - | AR31: - | AS31: - | AT31: - | AU31: X | AV31: X | AW31: X | AX31: X | AY31: X | AZ31: X | BA31: X | BB31: X | BC31: X | BD31: X | BE31: X | BF31: X | BG31: X | BH31: X | BI31: 1317 | BJ31: - | BK31: 728 | BL31: 316 | BM31: 273 | BN31: - | BO31: - | BP31: - | BQ31: - | BR31: - | BS31: - | BT31: - | BU31: - | BV31: - | BW31: 309 | BX31: X | BY31: X | BZ31: X | CA31: X | CB31: X | CC31: X | CD31: X | CE31: X | CF31: X | CG31: X | CH31: X | CI31: X | CJ31: X | CK31: X | CL31: X | CM31: 8 | CN31: 5 | CO31: - | CP31: - | CQ31: - | CR31: 2 | CS31: 1 | CT31: - | CU31: - | CV31: - | CW31: - | CX31: - | CY31: - | CZ31: - | DA31: - | DB31: - | DC31: X | DD31: X | DE31: X | DF31: X | DG31: X | DH31: X | DI31: X | DJ31: X | DK31: X | DL31: X | DM31: X | DN31: X | DO31: X | DP31: X | DQ31: X | DR31: X | DS31: 7 | DT31: - | DU31: - | DV31: - | DW31: - | DX31: - | DY31: 1 | DZ31: 1 | EA31: - | EB31: 2 | EC31: 1 | ED31: - | EE31: - | EF31: 1 | EG31: 141 | EH31: - | EI31: - | EJ31: - | EK31: - | EL31: - | EM31: X | EN31: X | EO31: - | EP31: X | EQ31: X | ER31: - | ES31: - | ET31: X | EU31: X | EV31: X | EW31: X | EX31: X | EY31: X | EZ31: X | FA31: X | FB31: X | FC31: X | FD31: X | FE31: X | FF31: X | FG31: X | FH31: X | FI31: X | FJ31: X | FK31: X | FL31: X | FM31: X | FN31: X | FO31: X | FP31: X | FQ31: X | FR31: X | FS31: X | FT31: X | FU31: X | FV31: X | FW31: 3 | FX31: 1 | FY31: 3 | FZ31: - | GA31: - | GB31: - | GC31: - | GD31: - | GE31: - | GF31: X | GG31: X | GH31: X | GI31: X | GJ31: X | GK31: X | GL31: X | GM31: X | GN31: X | GO31: - | GP31: X | GQ31: - | GR31: - | GS31: - | GT31: - | GU31: - | GV31: 8 | GW31: 4 | GX31: 2 | GY31: 1 | GZ31: 1 | HA31: - | HB31: - | HC31: - | HD31: - | HE31: X | HF31: X | HG31: X | HH31: X | HI31: X | HJ31: X | HK31: X | HL31: X | HM31: X | HN31: 1920404000 | HO31: 19 | HP31: 00 | HQ31: 204 | HR31: 04 | HS31: 000
A32: 山梨県 | B32: 都留市 | C32: 東桂村 | D32: 204-05 | E32: 37 | F32: 1 | G32: - | H32: - | I32: - | J32: 1 | K32: - | L32: 36 | M32: - | N32: 1 | O32: X | P32: X | Q32: X | R32: X | S32: X | T32: X | U32: X | V32: - | W32: 5 | X32: 139 | Y32: - | Z32: - | AA32: 32 | AB32: X | AC32: X | AD32: X | AE32: X | AF32: X | AG32: 36 | AH32: 1 | AI32: 18 | AJ32: 16 | AK32: - | AL32: 1 | AM32: - | AN32: - | AO32: - | AP32: - | AQ32: - | AR32: - | AS32: - | AT32: - | AU32: X | AV32: X | AW32: X | AX32: X | AY32: X | AZ32: X | BA32: X | BB32: X | BC32: X | BD32: X | BE32: X | BF32: X | BG32: X | BH32: X | BI32: 1847 | BJ32: 28 | BK32: 636 | BL32: 1023 | BM32: - | BN32: 160 | BO32: - | BP32: - | BQ32: - | BR32: - | BS32: - | BT32: - | BU32: - | BV32: - | BW32: 395 | BX32: X | BY32: X | BZ32: X | CA32: X | CB32: X | CC32: X | CD32: X | CE32: X | CF32: X | CG32: X | CH32: X | CI32: X | CJ32: X | CK32: X | CL32: X | CM32: 20 | CN32: 14 | CO32: - | CP32: 1 | CQ32: - | CR32: 4 | CS32: - | CT32: - | CU32: - | CV32: - | CW32: - | CX32: - | CY32: - | CZ32: - | DA32: - | DB32: 1 | DC32: X | DD32: X | DE32: X | DF32: X | DG32: X | DH32: X | DI32: X | DJ32: X | DK32: X | DL32: X | DM32: X | DN32: X | DO32: X | DP32: X | DQ32: X | DR32: X | DS32: 24 | DT32: - | DU32: - | DV32: - | DW32: 4 | DX32: - | DY32: 3 | DZ32: 3 | EA32: - | EB32: 8 | EC32: - | ED32: 1 | EE32: - | EF32: 2 | EG32: 754 | EH32: - | EI32: - | EJ32: - | EK32: X | EL32: - | EM32: X | EN32: 14 | EO32: - | EP32: X | EQ32: - | ER32: X | ES32: - | ET32: X | EU32: X | EV32: X | EW32: X | EX32: X | EY32: X | EZ32: X | FA32: X | FB32: X | FC32: X | FD32: X | FE32: X | FF32: X | FG32: X | FH32: X | FI32: X | FJ32: X | FK32: X | FL32: X | FM32: X | FN32: X | FO32: X | FP32: X | FQ32: X | FR32: X | FS32: X | FT32: X | FU32: X | FV32: X | FW32: 6 | FX32: 1 | FY32: 5 | FZ32: - | GA32: - | GB32: - | GC32: - | GD32: - | GE32: 1 | GF32: X | GG32: X | GH32: X | GI32: X | GJ32: X | GK32: X | GL32: X | GM32: X | GN32: X | GO32: 2 | GP32: X | GQ32: 2 | GR32: 2 | GS32: - | GT32: - | GU32: - | GV32: 20 | GW32: 13 | GX32: 6 | GY32: 1 | GZ32: - | HA32: - | HB32: - | HC32: - | HD32: - | HE32: X | HF32: X | HG32: X | HH32: X | HI32: X | HJ32: X | HK32: X | HL32: X | HM32: X | HN32: 1920405000 | HO32: 19 | HP32: 00 | HQ32: 204 | HR32: 05 | HS32: 000
A33: 山梨県 | B33: 山梨市 | D33: 205-00 | E33: 1899 | F33: 16 | G33: 1 | H33: 13 | I33: 1 | J33: 1 | K33: - | L33: 1883 | M33: 216 | N33: 16 | O33: 16 | P33: 1 | Q33: 13 | R33: 1 | S33: 1 | T33: - | U33: - | V33: 5 | W33: 917 | X33: 84106 | Y33: 79 | Z33: 26487 | AA33: 982 | AB33: 14 | AC33: 14939 | AD33: 13 | AE33: 13120 | AF33: 2 | AG33: 1896 | AH33: 289 | AI33: 435 | AJ33: 864 | AK33: 224 | AL33: 52 | AM33: 20 | AN33: 8 | AO33: 3 | AP33: 1 | AQ33: - | AR33: - | AS33: - | AT33: - | AU33: 13 | AV33: - | AW33: 1 | AX33: 2 | AY33: 4 | AZ33: 1 | BA33: 1 | BB33: 1 | BC33: 2 | BD33: 1 | BE33: - | BF33: - | BG33: - | BH33: - | BI33: 126204 | BJ33: 5518 | BK33: 16238 | BL33: 59888 | BM33: 25638 | BN33: 8457 | BO33: 4536 | BP33: 3033 | BQ33: 1866 | BR33: 1030 | BS33: - | BT33: - | BU33: - | BV33: - | BW33: 21815 | BX33: 3661 | BY33: - | BZ33: 30 | CA33: 142 | CB33: 472 | CC33: 185 | CD33: 216 | CE33: 320 | CF33: 1266 | CG33: 1030 | CH33: - | CI33: - | CJ33: - | CK33: - | CL33: 2619 | CM33: 1849 | CN33: - | CO33: - | CP33: 3 | CQ33: 2 | CR33: 13 | CS33: 4 | CT33: 1820 | CU33: 4 | CV33: 2 | CW33: 1 | CX33: - | CY33: - | CZ33: - | DA33: - | DB33: - | DC33: 13 | DD33: - | DE33: - | DF33: - | DG33: - | DH33: - | DI33: 1 | DJ33: 10 | DK33: 1 | DL33: 1 | DM33: - | DN33: - | DO33: - | DP33: - | DQ33: - | DR33: - | DS33: 7 | DT33: 2 | DU33: - | DV33: 1 | DW33: 8 | DX33: 1 | DY33: 9 | DZ33: 4 | EA33: 2 | EB33: 39 | EC33: 12 | ED33: 1833 | EE33: X | EF33: 11 | EG33: 159 | EH33: X | EI33: - | EJ33: X | EK33: 49 | EL33: X | EM33: X | EN33: 24 | EO33: X | EP33: X | EQ33: X | ER33: X | ES33: X | ET33: 310 | EU33: - | EV33: - | EW33: - | EX33: - | EY33: - | EZ33: - | FA33: - | FB33: - | FC33: - | FD33: 1 | FE33: 2 | FF33: 11 | FG33: 3 | FH33: 1 | FI33: - | FJ33: - | FK33: - | FL33: - | FM33: - | FN33: - | FO33: - | FP33: - | FQ33: - | FR33: X | FS33: X | FT33: X | FU33: X | FV33: X | FW33: 408 | FX33: 37 | FY33: 399 | FZ33: 6 | GA33: 58 | GB33: 2 | GC33: 3 | GD33: 3 | GE33: 1 | GF33: 13 | GG33: 8 | GH33: 11 | GI33: 2 | GJ33: 3 | GK33: - | GL33: 3 | GM33: 2 | GN33: - | GO33: 30 | GP33: 5 | GQ33: 30 | GR33: 2 | GS33: 1 | GT33: - | GU33: 8 | GV33: 1849 | GW33: 207 | GX33: 939 | GY33: 619 | GZ33: 74 | HA33: 10 | HB33: 7 | HC33: 2 | HD33: 1 | HE33: 13 | HF33: - | HG33: 2 | HH33: 1 | HI33: 4 | HJ33: 6 | HK33: 3 | HL33: 2 | HM33: 1 | HN33: 1920500000 | HO33: 19 | HP33: 00 | HQ33: 205 | HR33: 00 | HS33: 000
A34: 山梨県 | B34: 山梨市 | C34: 加納岩町 | D34: 205-01 | E34: 161 | F34: 3 | G34: - | H34: 2 | I34: 1 | J34: - | K34: - | L34: 158 | M34: 42 | N34: 3 | O34: 3 | P34: - | Q34: 2 | R34: 1 | S34: - | T34: - | U34: - | V34: 1 | W34: 84 | X34: 5579 | Y34: 9 | Z34: 1143 | AA34: 77 | AB34: 1 | AC34: 490 | AD34: 1 | AE34: 490 | AF34: 2 | AG34: 159 | AH34: 12 | AI34: 24 | AJ34: 74 | AK34: 32 | AL34: 13 | AM34: 4 | AN34: - | AO34: - | AP34: - | AQ34: - | AR34: - | AS34: - | AT34: - | AU34: 1 | AV34: - | AW34: - | AX34: - | AY34: 1 | AZ34: - | BA34: - | BB34: - | BC34: - | BD34: - | BE34: - | BF34: - | BG34: - | BH34: - | BI34: 13273 | BJ34: 214 | BK34: 888 | BL34: 5362 | BM34: 3815 | BN34: 2134 | BO34: 860 | BP34: - | BQ34: - | BR34: - | BS34: - | BT34: - | BU34: - | BV34: - | BW34: 2789 | BX34: 100 | BY34: - | BZ34: - | CA34: - | CB34: 100 | CC34: - | CD34: - | CE34: - | CF34: - | CG34: - | CH34: - | CI34: - | CJ34: - | CK34: - | CL34: - | CM34: 155 | CN34: - | CO34: - | CP34: - | CQ34: - | CR34: - | CS34: - | CT34: 154 | CU34: 1 | CV34: - | CW34: - | CX34: - | CY34: - | CZ34: - | DA34: - | DB34: - | DC34: 1 | DD34: - | DE34: - | DF34: - | DG34: - | DH34: - | DI34: - | DJ34: - | DK34: 1 | DL34: - | DM34: - | DN34: - | DO34: - | DP34: - | DQ34: - | DR34: - | DS34: - | DT34: - | DU34: - | DV34: - | DW34: - | DX34: - | DY34: - | DZ34: - | EA34: - | EB34: 1 | EC34: 2 | ED34: 153 | EE34: X | EF34: 5 | EG34: - | EH34: - | EI34: - | EJ34: - | EK34: - | EL34: - | EM34: - | EN34: - | EO34: - | EP34: X | EQ34: X | ER34: X | ES34: X | ET34: X | EU34: - | EV34: - | EW34: - | EX34: - | EY34: - | EZ34: - | FA34: - | FB34: - | FC34: - | FD34: - | FE34: - | FF34: 1 | FG34: - | FH34: 1 | FI34: - | FJ34: - | FK34: - | FL34: - | FM34: - | FN34: - | FO34: - | FP34: - | FQ34: - | FR34: - | FS34: - | FT34: X | FU34: - | FV34: X | FW34: 31 | FX34: 2 | FY34: 30 | FZ34: - | GA34: 2 | GB34: - | GC34: - | GD34: - | GE34: - | GF34: 1 | GG34: - | GH34: 1 | GI34: - | GJ34: - | GK34: - | GL34: - | GM34: - | GN34: - | GO34: 5 | GP34: 1 | GQ34: 5 | GR34: - | GS34: - | GT34: - | GU34: 2 | GV34: 155 | GW34: 12 | GX34: 51 | GY34: 74 | GZ34: 17 | HA34: 1 | HB34: - | HC34: - | HD34: 1 | HE34: 1 | HF34: - | HG34: - | HH34: - | HI34: - | HJ34: 1 | HK34: - | HL34: - | HM34: 1 | HN34: 1920501000 | HO34: 19 | HP34: 00 | HQ34: 205 | HR34: 01 | HS34: 000
A35: 山梨県 | B35: 山梨市 | C35: 日下部町 | D35: 205-02 | E35: 125 | F35: 2 | G35: - | H35: 2 | I35: - | J35: - | K35: - | L35: 123 | M35: 10 | N35: 2 | O35: X | P35: X | Q35: X | R35: X | S35: X | T35: X | U35: X | V35: 1 | W35: 48 | X35: 3246 | Y35: 5 | Z35: 875 | AA35: 77 | AB35: X | AC35: X | AD35: X | AE35: X | AF35: X | AG35: 125 | AH35: 22 | AI35: 41 | AJ35: 47 | AK35: 11 | AL35: 2 | AM35: 1 | AN35: - | AO35: - | AP35: 1 | AQ35: - | AR35: - | AS35: - | AT35: - | AU35: X | AV35: X | AW35: X | AX35: X | AY35: X | AZ35: X | BA35: X | BB35: X | BC35: X | BD35: X | BE35: X | BF35: X | BG35: X | BH35: X | BI35: 7820 | BJ35: 401 | BK35: 1532 | BL35: 3099 | BM35: 1246 | BN35: 312 | BO35: 200 | BP35: - | BQ35: - | BR35: 1030 | BS35: - | BT35: - | BU35: - | BV35: - | BW35: 2148 | BX35: X | BY35: X | BZ35: X | CA35: X | CB35: X | CC35: X | CD35: X | CE35: X | CF35: X | CG35: X | CH35: X | CI35: X | CJ35: X | CK35: X | CL35: X | CM35: 116 | CN35: - | CO35: - | CP35: - | CQ35: 1 | CR35: - | CS35: - | CT35: 115 | CU35: - | CV35: - | CW35: - | CX35: - | CY35: - | CZ35: - | DA35: - | DB35: - | DC35: X | DD35: X | DE35: X | DF35: X | DG35: X | DH35: X | DI35: X | DJ35: X | DK35: X | DL35: X | DM35: X | DN35: X | DO35: X | DP35: X | DQ35: X | DR35: X | DS35: - | DT35: - | DU35: - | DV35: - | DW35: - | DX35: - | DY35: - | DZ35: - | EA35: 1 | EB35: 1 | EC35: - | ED35: 119 | EE35: 3 | EF35: - | EG35: - | EH35: - | EI35: - | EJ35: - | EK35: - | EL35: - | EM35: - | EN35: - | EO35: X | EP35: X | EQ35: - | ER35: X | ES35: 31 | ET35: - | EU35: X | EV35: X | EW35: X | EX35: X | EY35: X | EZ35: X | FA35: X | FB35: X | FC35: X | FD35: X | FE35: X | FF35: X | FG35: X | FH35: X | FI35: X | FJ35: X | FK35: X | FL35: X | FM35: X | FN35: X | FO35: X | FP35: X | FQ35: X | FR35: X | FS35: X | FT35: X | FU35: X | FV35: X | FW35: 19 | FX35: 4 | FY35: 18 | FZ35: 1 | GA35: 1 | GB35: - | GC35: - | GD35: - | GE35: - | GF35: X | GG35: X | GH35: X | GI35: X | GJ35: X | GK35: X | GL35: X | GM35: X | GN35: X | GO35: 1 | GP35: X | GQ35: 1 | GR35: - | GS35: - | GT35: - | GU35: 1 | GV35: 116 | GW35: 25 | GX35: 64 | GY35: 22 | GZ35: 4 | HA35: 1 | HB35: - | HC35: 1 | HD35: - | HE35: X | HF35: X | HG35: X | HH35: X | HI35: X | HJ35: X | HK35: X | HL35: X | HM35: X | HN35: 1920502000 | HO35: 19 | HP35: 00 | HQ35: 205 | HR35: 02 | HS35: 000
A36: 山梨県 | B36: 山梨市 | C36: 山梨村 | D36: 205-03 | E36: 324 | F36: 3 | G36: - | H36: 2 | I36: - | J36: 1 | K36: - | L36: 321 | M36: 36 | N36: 3 | O36: 3 | P36: - | Q36: 2 | R36: - | S36: 1 | T36: - | U36: - | V36: 2 | W36: 146 | X36: 14445 | Y36: 15 | Z36: 5033 | AA36: 178 | AB36: 3 | AC36: 3900 | AD36: 3 | AE36: 2860 | AF36: - | AG36: 324 | AH36: 59 | AI36: 61 | AJ36: 142 | AK36: 46 | AL36: 8 | AM36: 3 | AN36: 3 | AO36: 2 | AP36: - | AQ36: - | AR36: - | AS36: - | AT36: - | AU36: 3 | AV36: - | AW36: - | AX36: - | AY36: - | AZ36: - | BA36: 1 | BB36: 1 | BC36: 1 | BD36: - | BE36: - | BF36: - | BG36: - | BH36: - | BI36: 23147 | BJ36: 1129 | BK36: 2273 | BL36: 10107 | BM36: 5304 | BN36: 1357 | BO36: 616 | BP36: 1195 | BQ36: 1166 | BR36: - | BS36: - | BT36: - | BU36: - | BV36: - | BW36: 3574 | BX36: 1102 | BY36: - | BZ36: - | CA36: - | CB36: - | CC36: - | CD36: 216 | CE36: 320 | CF36: 566 | CG36: - | CH36: - | CI36: - | CJ36: - | CK36: - | CL36: 590 | CM36: 320 | CN36: - | CO36: - | CP36: - | CQ36: - | CR36: 1 | CS36: 1 | CT36: 317 | CU36: 1 | CV36: - | CW36: - | CX36: - | CY36: - | CZ36: - | DA36: - | DB36: - | DC36: 3 | DD36: - | DE36: - | DF36: - | DG36: - | DH36: - | DI36: - | DJ36: 3 | DK36: - | DL36: - | DM36: - | DN36: - | DO36: - | DP36: - | DQ36: - | DR36: - | DS36: - | DT36: - | DU36: - | DV36: - | DW36: - | DX36: - | DY36: 1 | DZ36: 1 | EA36: - | EB36: 2 | EC36: 3 | ED36: 322 | EE36: 21 | EF36: 1 | EG36: - | EH36: - | EI36: - | EJ36: - | EK36: - | EL36: - | EM36: X | EN36: X | EO36: - | EP36: X | EQ36: X | ER36: X | ES36: X | ET36: X | EU36: - | EV36: - | EW36: - | EX36: - | EY36: - | EZ36: - | FA36: - | FB36: - | FC36: - | FD36: - | FE36: 1 | FF36: 3 | FG36: 2 | FH36: - | FI36: - | FJ36: - | FK36: - | FL36: - | FM36: - | FN36: - | FO36: - | FP36: - | FQ36: - | FR36: - | FS36: X | FT36: X | FU36: X | FV36: X | FW36: 50 | FX36: 4 | FY36: 47 | FZ36: 1 | GA36: 7 | GB36: - | GC36: 1 | GD36: 1 | GE36: 1 | GF36: 3 | GG36: 3 | GH36: 3 | GI36: 1 | GJ36: 2 | GK36: - | GL36: 1 | GM36: - | GN36: - | GO36: 4 | GP36: 2 | GQ36: 4 | GR36: - | GS36: - | GT36: - | GU36: 1 | GV36: 320 | GW36: 45 | GX36: 152 | GY36: 108 | GZ36: 12 | HA36: 3 | HB36: 2 | HC36: 1 | HD36: - | HE36: 3 | HF36: - | HG36: - | HH36: - | HI36: - | HJ36: 3 | HK36: 2 | HL36: 1 | HM36: - | HN36: 1920503000 | HO36: 19 | HP36: 00 | HQ36: 205 | HR36: 03 | HS36: 000
A37: 山梨県 | B37: 山梨市 | C37: 八幡村 | D37: 205-04 | E37: 296 | F37: - | G37: - | H37: - | I37: - | J37: - | K37: - | L37: 296 | M37: 26 | N37: - | O37: - | P37: - | Q37: - | R37: - | S37: - | T37: - | U37: - | V37: - | W37: 134 | X37: 9862 | Y37: 9 | Z37: 2910 | AA37: 162 | AB37: - | AC37: - | AD37: - | AE37: - | AF37: - | AG37: 296 | AH37: 47 | AI37: 74 | AJ37: 141 | AK37: 25 | AL37: 7 | AM37: 1 | AN37: 1 | AO37: - | AP37: - | AQ37: - | AR37: - | AS37: - | AT37: - | AU37: - | AV37: - | AW37: - | AX37: - | AY37: - | AZ37: - | BA37: - | BB37: - | BC37: - | BD37: - | BE37: - | BF37: - | BG37: - | BH37: - | BI37: 17931 | BJ37: 930 | BK37: 2786 | BL37: 9766 | BM37: 2818 | BN37: 1111 | BO37: 220 | BP37: 300 | BQ37: - | BR37: - | BS37: - | BT37: - | BU37: - | BV37: - | BW37: 2512 | BX37: - | BY37: - | BZ37: - | CA37: - | CB37: - | CC37: - | CD37: - | CE37: - | CF37: - | CG37: - | CH37: - | CI37: - | CJ37: - | CK37: - | CL37: - | CM37: 289 | CN37: - | CO37: - | CP37: - | CQ37: - | CR37: 1 | CS37: 2 | CT37: 284 | CU37: 1 | CV37: - | CW37: 1 | CX37: - | CY37: - | CZ37: - | DA37: - | DB37: - | DC37: - | DD37: - | DE37: - | DF37: - | DG37: - | DH37: - | DI37: - | DJ37: - | DK37: - | DL37: - | DM37: - | DN37: - | DO37: - | DP37: - | DQ37: - | DR37: - | DS37: 1 | DT37: - | DU37: - | DV37: - | DW37: 2 | DX37: - | DY37: 1 | DZ37: 1 | EA37: - | EB37: 4 | EC37: 3 | ED37: 288 | EE37: 13 | EF37: 1 | EG37: X | EH37: - | EI37: - | EJ37: - | EK37: X | EL37: - | EM37: X | EN37: X | EO37: - | EP37: X | EQ37: 29 | ER37: X | ES37: X | ET37: X | EU37: - | EV37: - | EW37: - | EX37: - | EY37: - | EZ37: - | FA37: - | FB37: - | FC37: - | FD37: - | FE37: - | FF37: - | FG37: - | FH37: - | FI37: - | FJ37: - | FK37: - | FL37: - | FM37: - | FN37: - | FO37: - | FP37: - | FQ37: - | FR37: - | FS37: - | FT37: - | FU37: - | FV37: X | FW37: 35 | FX37: 3 | FY37: 34 | FZ37: 1 | GA37: 8 | GB37: - | GC37: - | GD37: - | GE37: - | GF37: - | GG37: - | GH37: - | GI37: - | GJ37: - | GK37: - | GL37: - | GM37: - | GN37: - | GO37: 1 | GP37: - | GQ37: 1 | GR37: 1 | GS37: - | GT37: - | GU37: - | GV37: 289 | GW37: 36 | GX37: 156 | GY37: 93 | GZ37: 4 | HA37: - | HB37: - | HC37: - | HD37: - | HE37: - | HF37: - | HG37: - | HH37: - | HI37: - | HJ37: - | HK37: - | HL37: - | HM37: - | HN37: 1920504000 | HO37: 19 | HP37: 00 | HQ37: 205 | HR37: 04 | HS37: 000
A38: 山梨県 | B38: 山梨市 | C38: 岩手村 | D38: 205-05 | E38: 89 | F38: 2 | G38: - | H38: 2 | I38: - | J38: - | K38: - | L38: 87 | M38: 19 | N38: 2 | O38: X | P38: X | Q38: X | R38: X | S38: X | T38: X | U38: X | V38: - | W38: 50 | X38: 6999 | Y38: 4 | Z38: 2070 | AA38: 39 | AB38: X | AC38: X | AD38: X | AE38: X | AF38: X | AG38: 89 | AH38: 9 | AI38: 18 | AJ38: 37 | AK38: 17 | AL38: 4 | AM38: 3 | AN38: - | AO38: 1 | AP38: - | AQ38: - | AR38: - | AS38: - | AT38: - | AU38: X | AV38: X | AW38: X | AX38: X | AY38: X | AZ38: X | BA38: X | BB38: X | BC38: X | BD38: X | BE38: X | BF38: X | BG38: X | BH38: X | BI38: 7550 | BJ38: 173 | BK38: 698 | BL38: 2607 | BM38: 2015 | BN38: 647 | BO38: 710 | BP38: - | BQ38: 700 | BR38: - | BS38: - | BT38: - | BU38: - | BV38: - | BW38: 1619 | BX38: X | BY38: X | BZ38: X | CA38: X | CB38: X | CC38: X | CD38: X | CE38: X | CF38: X | CG38: X | CH38: X | CI38: X | CJ38: X | CK38: X | CL38: X | CM38: 84 | CN38: - | CO38: - | CP38: - | CQ38: - | CR38: - | CS38: - | CT38: 84 | CU38: - | CV38: - | CW38: - | CX38: - | CY38: - | CZ38: - | DA38: - | DB38: - | DC38: X | DD38: X | DE38: X | DF38: X | DG38: X | DH38: X | DI38: X | DJ38: X | DK38: X | DL38: X | DM38: X | DN38: X | DO38: X | DP38: X | DQ38: X | DR38: X | DS38: - | DT38: - | DU38: - | DV38: - | DW38: - | DX38: - | DY38: - | DZ38: - | EA38: - | EB38: 1 | EC38: - | ED38: 84 | EE38: 20 | EF38: - | EG38: - | EH38: - | EI38: - | EJ38: - | EK38: - | EL38: - | EM38: - | EN38: - | EO38: - | EP38: X | EQ38: - | ER38: X | ES38: X | ET38: - | EU38: X | EV38: X | EW38: X | EX38: X | EY38: X | EZ38: X | FA38: X | FB38: X | FC38: X | FD38: X | FE38: X | FF38: X | FG38: X | FH38: X | FI38: X | FJ38: X | FK38: X | FL38: X | FM38: X | FN38: X | FO38: X | FP38: X | FQ38: X | FR38: X | FS38: X | FT38: X | FU38: X | FV38: X | FW38: 23 | FX38: 4 | FY38: 23 | FZ38: - | GA38: 19 | GB38: - | GC38: - | GD38: 1 | GE38: - | GF38: X | GG38: X | GH38: X | GI38: X | GJ38: X | GK38: X | GL38: X | GM38: X | GN38: X | GO38: - | GP38: X | GQ38: - | GR38: - | GS38: - | GT38: - | GU38: - | GV38: 84 | GW38: 12 | GX38: 42 | GY38: 21 | GZ38: 6 | HA38: 3 | HB38: 3 | HC38: - | HD38: - | HE38: X | HF38: X | HG38: X | HH38: X | HI38: X | HJ38: X | HK38: X | HL38: X | HM38: X | HN38: 1920505000 | HO38: 19 | HP38: 00 | HQ38: 205 | HR38: 05 | HS38: 000
A39: 山梨県 | B39: 山梨市 | C39: 後屋敷村 | D39: 205-06 | E39: 149 | F39: 3 | G39: 1 | H39: 2 | I39: - | J39: - | K39: - | L39: 146 | M39: 22 | N39: 3 | O39: 3 | P39: 1 | Q39: 2 | R39: - | S39: - | T39: - | U39: - | V39: 1 | W39: 73 | X39: 5882 | Y39: 10 | Z39: 2542 | AA39: 76 | AB39: 3 | AC39: 1275 | AD39: 2 | AE39: 1050 | AF39: - | AG39: 149 | AH39: 30 | AI39: 34 | AJ39: 64 | AK39: 13 | AL39: 6 | AM39: 1 | AN39: 1 | AO39: - | AP39: - | AQ39: - | AR39: - | AS39: - | AT39: - | AU39: 3 | AV39: - | AW39: - | AX39: 1 | AY39: 1 | AZ39: 1 | BA39: - | BB39: - | BC39: - | BD39: - | BE39: - | BF39: - | BG39: - | BH39: - | BI39: 9469 | BJ39: 557 | BK39: 1217 | BL39: 4591 | BM39: 1514 | BN39: 980 | BO39: 240 | BP39: 370 | BQ39: - | BR39: - | BS39: - | BT39: - | BU39: - | BV39: - | BW39: 1831 | BX39: 387 | BY39: - | BZ39: - | CA39: 72 | CB39: 130 | CC39: 185 | CD39: - | CE39: - | CF39: - | CG39: - | CH39: - | CI39: - | CJ39: - | CK39: - | CL39: 227 | CM39: 146 | CN39: - | CO39: - | CP39: - | CQ39: - | CR39: - | CS39: - | CT39: 145 | CU39: - | CV39: 1 | CW39: - | CX39: - | CY39: - | CZ39: - | DA39: - | DB39: - | DC39: 3 | DD39: - | DE39: - | DF39: - | DG39: - | DH39: - | DI39: - | DJ39: 3 | DK39: - | DL39: - | DM39: - | DN39: - | DO39: - | DP39: - | DQ39: - | DR39: - | DS39: - | DT39: - | DU39: - | DV39: - | DW39: - | DX39: - | DY39: - | DZ39: - | EA39: - | EB39: 1 | EC39: 1 | ED39: 146 | EE39: 2 | EF39: - | EG39: - | EH39: - | EI39: - | EJ39: - | EK39: - | EL39: - | EM39: - | EN39: - | EO39: - | EP39: X | EQ39: X | ER39: X | ES39: X | ET39: - | EU39: - | EV39: - | EW39: - | EX39: - | EY39: - | EZ39: - | FA39: - | FB39: - | FC39: - | FD39: - | FE39: - | FF39: 3 | FG39: - | FH39: - | FI39: - | FJ39: - | FK39: - | FL39: - | FM39: - | FN39: - | FO39: - | FP39: - | FQ39: - | FR39: - | FS39: - | FT39: X | FU39: - | FV39: - | FW39: 22 | FX39: 3 | FY39: 21 | FZ39: - | GA39: - | GB39: - | GC39: 1 | GD39: 1 | GE39: - | GF39: 3 | GG39: 3 | GH39: 2 | GI39: - | GJ39: - | GK39: - | GL39: 1 | GM39: 1 | GN39: - | GO39: 1 | GP39: 1 | GQ39: 1 | GR39: - | GS39: - | GT39: - | GU39: - | GV39: 146 | GW39: 11 | GX39: 76 | GY39: 54 | GZ39: 5 | HA39: - | HB39: - | HC39: - | HD39: - | HE39: 3 | HF39: - | HG39: 1 | HH39: - | HI39: 2 | HJ39: - | HK39: - | HL39: - | HM39: - | HN39: 1920506000 | HO39: 19 | HP39: 00 | HQ39: 205 | HR39: 06 | HS39: 000
A40: 山梨県 | B40: 山梨市 | C40: 日川村 | D40: 205-07 | E40: 197 | F40: - | G40: - | H40: - | I40: - | J40: - | K40: - | L40: 197 | M40: 26 | N40: - | O40: - | P40: - | Q40: - | R40: - | S40: - | T40: - | U40: - | V40: - | W40: 105 | X40: 6235 | Y40: 5 | Z40: 909 | AA40: 92 | AB40: - | AC40: - | AD40: - | AE40: - | AF40: - | AG40: 197 | AH40: 32 | AI40: 36 | AJ40: 100 | AK40: 23 | AL40: 5 | AM40: 1 | AN40: - | AO40: - | AP40: - | AQ40: - | AR40: - | AS40: - | AT40: - | AU40: - | AV40: - | AW40: - | AX40: - | AY40: - | AZ40: - | BA40: - | BB40: - | BC40: - | BD40: - | BE40: - | BF40: - | BG40: - | BH40: - | BI40: 12654 | BJ40: 587 | BK40: 1390 | BL40: 7092 | BM40: 2579 | BN40: 806 | BO40: 200 | BP40: - | BQ40: - | BR40: - | BS40: - | BT40: - | BU40: - | BV40: - | BW40: 1771 | BX40: - | BY40: - | BZ40: - | CA40: - | CB40: - | CC40: - | CD40: - | CE40: - | CF40: - | CG40: - | CH40: - | CI40: - | CJ40: - | CK40: - | CL40: - | CM40: 196 | CN40: - | CO40: - | CP40: - | CQ40: - | CR40: - | CS40: - | CT40: 195 | CU40: 1 | CV40: - | CW40: - | CX40: - | CY40: - | CZ40: - | DA40: - | DB40: - | DC40: - | DD40: - | DE40: - | DF40: - | DG40: - | DH40: - | DI40: - | DJ40: - | DK40: - | DL40: - | DM40: - | DN40: - | DO40: - | DP40: - | DQ40: - | DR40: - | DS40: - | DT40: - | DU40: - | DV40: - | DW40: - | DX40: - | DY40: - | DZ40: - | EA40: - | EB40: 2 | EC40: - | ED40: 193 | EE40: 18 | EF40: 2 | EG40: - | EH40: - | EI40: - | EJ40: - | EK40: - | EL40: - | EM40: - | EN40: - | EO40: - | EP40: X | EQ40: - | ER40: X | ES40: X | ET40: X | EU40: - | EV40: - | EW40: - | EX40: - | EY40: - | EZ40: - | FA40: - | FB40: - | FC40: - | FD40: - | FE40: - | FF40: - | FG40: - | FH40: - | FI40: - | FJ40: - | FK40: - | FL40: - | FM40: - | FN40: - | FO40: - | FP40: - | FQ40: - | FR40: - | FS40: - | FT40: - | FU40: - | FV40: X | FW40: 37 | FX40: 4 | FY40: 37 | FZ40: - | GA40: 4 | GB40: - | GC40: - | GD40: - | GE40: - | GF40: - | GG40: - | GH40: - | GI40: - | GJ40: - | GK40: - | GL40: - | GM40: - | GN40: - | GO40: 5 | GP40: - | GQ40: 5 | GR40: - | GS40: - | GT40: - | GU40: - | GV40: 196 | GW40: 20 | GX40: 95 | GY40: 74 | GZ40: 7 | HA40: - | HB40: - | HC40: - | HD40: - | HE40: - | HF40: - | HG40: - | HH40: - | HI40: - | HJ40: - | HK40: - | HL40: - | HM40: - | HN40: 1920507000 | HO40: 19 | HP40: 00 | HQ40: 205 | HR40: 07 | HS40: 000
A41: 山梨県 | B41: 山梨市 | C41: 諏訪町 | D41: 205-08 | E41: 242 | F41: 1 | G41: - | H41: 1 | I41: - | J41: - | K41: - | L41: 241 | M41: 12 | N41: 1 | O41: X | P41: X | Q41: X | R41: X | S41: X | T41: X | U41: X | V41: - | W41: 120 | X41: 10760 | Y41: 7 | Z41: 4320 | AA41: 122 | AB41: X | AC41: X | AD41: X | AE41: X | AF41: X | AG41: 242 | AH41: 38 | AI41: 76 | AJ41: 107 | AK41: 15 | AL41: - | AM41: 4 | AN41: 2 | AO41: - | AP41: - | AQ41: - | AR41: - | AS41: - | AT41: - | AU41: X | AV41: X | AW41: X | AX41: X | AY41: X | AZ41: X | BA41: X | BB41: X | BC41: X | BD41: X | BE41: X | BF41: X | BG41: X | BH41: X | BI41: 14161 | BJ41: 726 | BK41: 2809 | BL41: 7047 | BM41: 1731 | BN41: - | BO41: 990 | BP41: 858 | BQ41: - | BR41: - | BS41: - | BT41: - | BU41: - | BV41: - | BW41: 1989 | BX41: X | BY41: X | BZ41: X | CA41: X | CB41: X | CC41: X | CD41: X | CE41: X | CF41: X | CG41: X | CH41: X | CI41: X | CJ41: X | CK41: X | CL41: X | CM41: 237 | CN41: - | CO41: - | CP41: - | CQ41: - | CR41: 3 | CS41: - | CT41: 234 | CU41: - | CV41: - | CW41: - | CX41: - | CY41: - | CZ41: - | DA41: - | DB41: - | DC41: X | DD41: X | DE41: X | DF41: X | DG41: X | DH41: X | DI41: X | DJ41: X | DK41: X | DL41: X | DM41: X | DN41: X | DO41: X | DP41: X | DQ41: X | DR41: X | DS41: 3 | DT41: - | DU41: - | DV41: - | DW41: 3 | DX41: - | DY41: 1 | DZ41: - | EA41: - | EB41: 6 | EC41: - | ED41: 235 | EE41: X | EF41: - | EG41: 96 | EH41: - | EI41: - | EJ41: - | EK41: 26 | EL41: - | EM41: X | EN41: - | EO41: - | EP41: X | EQ41: - | ER41: X | ES41: X | ET41: - | EU41: X | EV41: X | EW41: X | EX41: X | EY41: X | EZ41: X | FA41: X | FB41: X | FC41: X | FD41: X | FE41: X | FF41: X | FG41: X | FH41: X | FI41: X | FJ41: X | FK41: X | FL41: X | FM41: X | FN41: X | FO41: X | FP41: X | FQ41: X | FR41: X | FS41: X | FT41: X | FU41: X | FV41: X | FW41: 65 | FX41: 4 | FY41: 64 | FZ41: 1 | GA41: 2 | GB41: - | GC41: 1 | GD41: - | GE41: - | GF41: X | GG41: X | GH41: X | GI41: X | GJ41: X | GK41: X | GL41: X | GM41: X | GN41: X | GO41: 4 | GP41: X | GQ41: 4 | GR41: 1 | GS41: - | GT41: - | GU41: 2 | GV41: 237 | GW41: 20 | GX41: 152 | GY41: 58 | GZ41: 6 | HA41: 1 | HB41: 1 | HC41: - | HD41: - | HE41: X | HF41: X | HG41: X | HH41: X | HI41: X | HJ41: X | HK41: X | HL41: X | HM41: X | HN41: 1920508000 | HO41: 19 | HP41: 00 | HQ41: 205 | HR41: 08 | HS41: 000
A42: 山梨県 | B42: 山梨市 | C42: 中牧村 | D42: 205-09 | E42: 229 | F42: - | G42: - | H42: - | I42: - | J42: - | K42: - | L42: 229 | M42: 19 | N42: - | O42: - | P42: - | Q42: - | R42: - | S42: - | T42: - | U42: - | V42: - | W42: 141 | X42: 15755 | Y42: 10 | Z42: 1945 | AA42: 88 | AB42: - | AC42: - | AD42: - | AE42: - | AF42: - | AG42: 229 | AH42: 24 | AI42: 45 | AJ42: 117 | AK42: 34 | AL42: 6 | AM42: 2 | AN42: 1 | AO42: - | AP42: - | AQ42: - | AR42: - | AS42: - | AT42: - | AU42: - | AV42: - | AW42: - | AX42: - | AY42: - | AZ42: - | BA42: - | BB42: - | BC42: - | BD42: - | BE42: - | BF42: - | BG42: - | BH42: - | BI42: 15700 | BJ42: 535 | BK42: 1684 | BL42: 7935 | BM42: 3776 | BN42: 960 | BO42: 500 | BP42: 310 | BQ42: - | BR42: - | BS42: - | BT42: - | BU42: - | BV42: - | BW42: 2513 | BX42: - | BY42: - | BZ42: - | CA42: - | CB42: - | CC42: - | CD42: - | CE42: - | CF42: - | CG42: - | CH42: - | CI42: - | CJ42: - | CK42: - | CL42: - | CM42: 226 | CN42: - | CO42: - | CP42: - | CQ42: - | CR42: 2 | CS42: - | CT42: 224 | CU42: - | CV42: - | CW42: - | CX42: - | CY42: - | CZ42: - | DA42: - | DB42: - | DC42: - | DD42: - | DE42: - | DF42: - | DG42: - | DH42: - | DI42: - | DJ42: - | DK42: - | DL42: - | DM42: - | DN42: - | DO42: - | DP42: - | DQ42: - | DR42: - | DS42: 2 | DT42: - | DU42: - | DV42: - | DW42: 1 | DX42: - | DY42: 1 | DZ42: - | EA42: - | EB42: 7 | EC42: 1 | ED42: 224 | EE42: 22 | EF42: 1 | EG42: X | EH42: - | EI42: - | EJ42: - | EK42: X | EL42: - | EM42: X | EN42: - | EO42: - | EP42: X | EQ42: X | ER42: X | ES42: 536 | ET42: X | EU42: - | EV42: - | EW42: - | EX42: - | EY42: - | EZ42: - | FA42: - | FB42: - | FC42: - | FD42: - | FE42: - | FF42: - | FG42: - | FH42: - | FI42: - | FJ42: - | FK42: - | FL42: - | FM42: - | FN42: - | FO42: - | FP42: - | FQ42: - | FR42: - | FS42: - | FT42: - | FU42: - | FV42: X | FW42: 101 | FX42: 6 | FY42: 100 | FZ42: 1 | GA42: 13 | GB42: 1 | GC42: - | GD42: - | GE42: - | GF42: - | GG42: - | GH42: - | GI42: - | GJ42: - | GK42: - | GL42: - | GM42: - | GN42: - | GO42: 6 | GP42: - | GQ42: 6 | GR42: - | GS42: - | GT42: - | GU42: 1 | GV42: 226 | GW42: 9 | GX42: 105 | GY42: 100 | GZ42: 12 | HA42: - | HB42: - | HC42: - | HD42: - | HE42: - | HF42: - | HG42: - | HH42: - | HI42: - | HJ42: - | HK42: - | HL42: - | HM42: - | HN42: 1920509000 | HO42: 19 | HP42: 00 | HQ42: 205 | HR42: 09 | HS42: 000
A43: 山梨県 | B43: 山梨市 | C43: 西保村 | D43: 205-10 | E43: 59 | F43: - | G43: - | H43: - | I43: - | J43: - | K43: - | L43: 59 | M43: 4 | N43: - | O43: - | P43: - | Q43: - | R43: - | S43: - | T43: - | U43: - | V43: - | W43: 9 | X43: 556 | Y43: 1 | Z43: 200 | AA43: 50 | AB43: - | AC43: - | AD43: - | AE43: - | AF43: - | AG43: 59 | AH43: 13 | AI43: 18 | AJ43: 23 | AK43: 5 | AL43: - | AM43: - | AN43: - | AO43: - | AP43: - | AQ43: - | AR43: - | AS43: - | AT43: - | AU43: - | AV43: - | AW43: - | AX43: - | AY43: - | AZ43: - | BA43: - | BB43: - | BC43: - | BD43: - | BE43: - | BF43: - | BG43: - | BH43: - | BI43: 2965 | BJ43: 229 | BK43: 667 | BL43: 1534 | BM43: 535 | BN43: - | BO43: - | BP43: - | BQ43: - | BR43: - | BS43: - | BT43: - | BU43: - | BV43: - | BW43: 729 | BX43: - | BY43: - | BZ43: - | CA43: - | CB43: - | CC43: - | CD43: - | CE43: - | CF43: - | CG43: - | CH43: - | CI43: - | CJ43: - | CK43: - | CL43: - | CM43: 55 | CN43: - | CO43: - | CP43: - | CQ43: 1 | CR43: 4 | CS43: - | CT43: 50 | CU43: - | CV43: - | CW43: - | CX43: - | CY43: - | CZ43: - | DA43: - | DB43: - | DC43: - | DD43: - | DE43: - | DF43: - | DG43: - | DH43: - | DI43: - | DJ43: - | DK43: - | DL43: - | DM43: - | DN43: - | DO43: - | DP43: - | DQ43: - | DR43: - | DS43: 1 | DT43: 1 | DU43: - | DV43: 1 | DW43: - | DX43: - | DY43: 1 | DZ43: - | EA43: 1 | EB43: 7 | EC43: 1 | ED43: 50 | EE43: 2 | EF43: 1 | EG43: X | EH43: X | EI43: - | EJ43: X | EK43: - | EL43: - | EM43: X | EN43: - | EO43: X | EP43: X | EQ43: X | ER43: X | ES43: X | ET43: X | EU43: - | EV43: - | EW43: - | EX43: - | EY43: - | EZ43: - | FA43: - | FB43: - | FC43: - | FD43: - | FE43: - | FF43: - | FG43: - | FH43: - | FI43: - | FJ43: - | FK43: - | FL43: - | FM43: - | FN43: - | FO43: - | FP43: - | FQ43: - | FR43: - | FS43: - | FT43: - | FU43: - | FV43: X | FW43: 10 | FX43: 1 | FY43: 10 | FZ43: - | GA43: 1 | GB43: - | GC43: - | GD43: - | GE43: - | GF43: - | GG43: - | GH43: - | GI43: - | GJ43: - | GK43: - | GL43: - | GM43: - | GN43: - | GO43: 2 | GP43: - | GQ43: 2 | GR43: - | GS43: - | GT43: - | GU43: - | GV43: 55 | GW43: 10 | GX43: 33 | GY43: 11 | GZ43: - | HA43: 1 | HB43: 1 | HC43: - | HD43: - | HE43: - | HF43: - | HG43: - | HH43: - | HI43: - | HJ43: - | HK43: - | HL43: - | HM43: - | HN43: 1920510000 | HO43: 19 | HP43: 00 | HQ43: 205 | HR43: 10 | HS43: 000
A44: 山梨県 | B44: 山梨市 | C44: 三富村 | D44: 205-11 | E44: 28 | F44: 2 | G44: - | H44: 2 | I44: - | J44: - | K44: - | L44: 26 | M44: - | N44: 2 | O44: X | P44: X | Q44: X | R44: X | S44: X | T44: X | U44: X | V44: - | W44: 7 | X44: 4787 | Y44: 4 | Z44: 4540 | AA44: 21 | AB44: X | AC44: X | AD44: X | AE44: X | AF44: X | AG44: 27 | AH44: 3 | AI44: 8 | AJ44: 12 | AK44: 3 | AL44: 1 | AM44: - | AN44: - | AO44: - | AP44: - | AQ44: - | AR44: - | AS44: - | AT44: - | AU44: X | AV44: X | AW44: X | AX44: X | AY44: X | AZ44: X | BA44: X | BB44: X | BC44: X | BD44: X | BE44: X | BF44: X | BG44: X | BH44: X | BI44: 1534 | BJ44: 37 | BK44: 294 | BL44: 748 | BM44: 305 | BN44: 150 | BO44: - | BP44: - | BQ44: - | BR44: - | BS44: - | BT44: - | BU44: - | BV44: - | BW44: 340 | BX44: X | BY44: X | BZ44: X | CA44: X | CB44: X | CC44: X | CD44: X | CE44: X | CF44: X | CG44: X | CH44: X | CI44: X | CJ44: X | CK44: X | CL44: X | CM44: 25 | CN44: - | CO44: - | CP44: 3 | CQ44: - | CR44: 2 | CS44: 1 | CT44: 18 | CU44: - | CV44: 1 | CW44: - | CX44: - | CY44: - | CZ44: - | DA44: - | DB44: - | DC44: X | DD44: X | DE44: X | DF44: X | DG44: X | DH44: X | DI44: X | DJ44: X | DK44: X | DL44: X | DM44: X | DN44: X | DO44: X | DP44: X | DQ44: X | DR44: X | DS44: - | DT44: 1 | DU44: - | DV44: - | DW44: 2 | DX44: 1 | DY44: 4 | DZ44: 2 | EA44: - | EB44: 7 | EC44: 1 | ED44: 19 | EE44: 2 | EF44: - | EG44: - | EH44: X | EI44: - | EJ44: - | EK44: X | EL44: X | EM44: X | EN44: X | EO44: - | EP44: X | EQ44: X | ER44: X | ES44: X | ET44: - | EU44: X | EV44: X | EW44: X | EX44: X | EY44: X | EZ44: X | FA44: X | FB44: X | FC44: X | FD44: X | FE44: X | FF44: X | FG44: X | FH44: X | FI44: X | FJ44: X | FK44: X | FL44: X | FM44: X | FN44: X | FO44: X | FP44: X | FQ44: X | FR44: X | FS44: X | FT44: X | FU44: X | FV44: X | FW44: 15 | FX44: 2 | FY44: 15 | FZ44: 1 | GA44: 1 | GB44: 1 | GC44: - | GD44: - | GE44: - | GF44: X | GG44: X | GH44: X | GI44: X | GJ44: X | GK44: X | GL44: X | GM44: X | GN44: X | GO44: 1 | GP44: X | GQ44: 1 | GR44: - | GS44: 1 | GT44: - | GU44: 1 | GV44: 25 | GW44: 7 | GX44: 13 | GY44: 4 | GZ44: 1 | HA44: - | HB44: - | HC44: - | HD44: - | HE44: X | HF44: X | HG44: X | HH44: X | HI44: X | HJ44: X | HK44: X | HL44: X | HM44: X | HN44: 1920511000 | HO44: 19 | HP44: 00 | HQ44: 205 | HR44: 11 | HS44: 000
A45: 山梨県 | B45: 大月市 | D45: 206-00 | E45: 67 | F45: 3 | G45: - | H45: 2 | I45: 1 | J45: - | K45: - | L45: 64 | M45: 2 | N45: 3 | O45: 3 | P45: - | Q45: 2 | R45: 1 | S45: - | T45: - | U45: - | V45: - | W45: 12 | X45: 3775 | Y45: 4 | Z45: 2440 | AA45: 55 | AB45: 2 | AC45: 1690 | AD45: 1 | AE45: 1200 | AF45: 1 | AG45: 67 | AH45: 1 | AI45: 46 | AJ45: 19 | AK45: - | AL45: - | AM45: - | AN45: 1 | AO45: - | AP45: - | AQ45: - | AR45: - | AS45: - | AT45: - | AU45: 3 | AV45: - | AW45: 1 | AX45: 1 | AY45: - | AZ45: - | BA45: - | BB45: 1 | BC45: - | BD45: - | BE45: - | BF45: - | BG45: - | BH45: - | BI45: 3347 | BJ45: 14 | BK45: 1731 | BL45: 1242 | BM45: - | BN45: - | BO45: - | BP45: 360 | BQ45: - | BR45: - | BS45: - | BT45: - | BU45: - | BV45: - | BW45: 747 | BX45: 470 | BY45: - | BZ45: 30 | CA45: 80 | CB45: - | CC45: - | CD45: - | CE45: 360 | CF45: - | CG45: - | CH45: - | CI45: - | CJ45: - | CK45: - | CL45: 430 | CM45: 29 | CN45: 11 | CO45: - | CP45: 7 | CQ45: - | CR45: 6 | CS45: - | CT45: 3 | CU45: 2 | CV45: - | CW45: - | CX45: - | CY45: - | CZ45: - | DA45: - | DB45: - | DC45: 3 | DD45: - | DE45: - | DF45: 1 | DG45: - | DH45: - | DI45: - | DJ45: 2 | DK45: - | DL45: - | DM45: - | DN45: - | DO45: - | DP45: - | DQ45: - | DR45: - | DS45: 20 | DT45: 1 | DU45: - | DV45: 2 | DW45: 6 | DX45: - | DY45: 11 | DZ45: 10 | EA45: 4 | EB45: 11 | EC45: - | ED45: 7 | EE45: - | EF45: 4 | EG45: 440 | EH45: X | EI45: - | EJ45: X | EK45: 21 | EL45: - | EM45: X | EN45: 162 | EO45: X | EP45: X | EQ45: - | ER45: X | ES45: - | ET45: X | EU45: - | EV45: - | EW45: - | EX45: - | EY45: - | EZ45: - | FA45: 1 | FB45: 1 | FC45: - | FD45: - | FE45: - | FF45: 2 | FG45: - | FH45: - | FI45: - | FJ45: - | FK45: - | FL45: - | FM45: - | FN45: - | FO45: X | FP45: X | FQ45: - | FR45: - | FS45: - | FT45: X | FU45: - | FV45: X | FW45: 16 | FX45: 1 | FY45: 16 | FZ45: - | GA45: 1 | GB45: - | GC45: - | GD45: - | GE45: - | GF45: 3 | GG45: 1 | GH45: 3 | GI45: - | GJ45: 1 | GK45: - | GL45: - | GM45: - | GN45: - | GO45: 5 | GP45: 1 | GQ45: 5 | GR45: 4 | GS45: - | GT45: - | GU45: - | GV45: 29 | GW45: 21 | GX45: 5 | GY45: 1 | GZ45: 2 | HA45: - | HB45: - | HC45: - | HD45: - | HE45: 3 | HF45: - | HG45: 2 | HH45: 1 | HI45: - | HJ45: - | HK45: - | HL45: - | HM45: - | HN45: 1920600000 | HO45: 19 | HP45: 00 | HQ45: 206 | HR45: 00 | HS45: 000
A46: 山梨県 | B46: 大月市 | C46: 笹子村 | D46: 206-01 | E46: 4 | F46: 1 | G46: - | H46: 1 | I46: - | J46: - | K46: - | L46: 3 | M46: - | N46: 1 | O46: X | P46: X | Q46: X | R46: X | S46: X | T46: X | U46: X | V46: - | W46: 1 | X46: 1650 | Y46: 1 | Z46: 1200 | AA46: 3 | AB46: X | AC46: X | AD46: X | AE46: X | AF46: X | AG46: 4 | AH46: - | AI46: 3 | AJ46: - | AK46: - | AL46: - | AM46: - | AN46: 1 | AO46: - | AP46: - | AQ46: - | AR46: - | AS46: - | AT46: - | AU46: X | AV46: X | AW46: X | AX46: X | AY46: X | AZ46: X | BA46: X | BB46: X | BC46: X | BD46: X | BE46: X | BF46: X | BG46: X | BH46: X | BI46: 477 | BJ46: - | BK46: 117 | BL46: - | BM46: - | BN46: - | BO46: - | BP46: 360 | BQ46: - | BR46: - | BS46: - | BT46: - | BU46: - | BV46: - | BW46: 350 | BX46: X | BY46: X | BZ46: X | CA46: X | CB46: X | CC46: X | CD46: X | CE46: X | CF46: X | CG46: X | CH46: X | CI46: X | CJ46: X | CK46: X | CL46: X | CM46: 1 | CN46: - | CO46: - | CP46: - | CQ46: - | CR46: - | CS46: - | CT46: 1 | CU46: - | CV46: - | CW46: - | CX46: - | CY46: - | CZ46: - | DA46: - | DB46: - | DC46: X | DD46: X | DE46: X | DF46: X | DG46: X | DH46: X | DI46: X | DJ46: X | DK46: X | DL46: X | DM46: X | DN46: X | DO46: X | DP46: X | DQ46: X | DR46: X | DS46: - | DT46: - | DU46: - | DV46: - | DW46: - | DX46: - | DY46: - | DZ46: - | EA46: - | EB46: - | EC46: - | ED46: 1 | EE46: - | EF46: - | EG46: - | EH46: - | EI46: - | EJ46: - | EK46: - | EL46: - | EM46: - | EN46: - | EO46: - | EP46: - | EQ46: - | ER46: X | ES46: - | ET46: - | EU46: X | EV46: X | EW46: X | EX46: X | EY46: X | EZ46: X | FA46: X | FB46: X | FC46: X | FD46: X | FE46: X | FF46: X | FG46: X | FH46: X | FI46: X | FJ46: X | FK46: X | FL46: X | FM46: X | FN46: X | FO46: X | FP46: X | FQ46: X | FR46: X | FS46: X | FT46: X | FU46: X | FV46: X | FW46: 1 | FX46: 1 | FY46: 1 | FZ46: - | GA46: 1 | GB46: - | GC46: - | GD46: - | GE46: - | GF46: X | GG46: X | GH46: X | GI46: X | GJ46: X | GK46: X | GL46: X | GM46: X | GN46: X | GO46: 1 | GP46: X | GQ46: 1 | GR46: - | GS46: - | GT46: - | GU46: - | GV46: 1 | GW46: - | GX46: - | GY46: 1 | GZ46: - | HA46: - | HB46: - | HC46: - | HD46: - | HE46: X | HF46: X | HG46: X | HH46: X | HI46: X | HJ46: X | HK46: X | HL46: X | HM46: X | HN46: 1920601000 | HO46: 19 | HP46: 00 | HQ46: 206 | HR46: 01 | HS46: 000
A47: 山梨県 | B47: 大月市 | C47: 初狩村 | D47: 206-02 | E47: 12 | F47: - | G47: - | H47: - | I47: - | J47: - | K47: - | L47: 12 | M47: - | N47: - | O47: - | P47: - | Q47: - | R47: - | S47: - | T47: - | U47: - | V47: - | W47: 2 | X47: 57 | Y47: - | Z47: - | AA47: 10 | AB47: - | AC47: - | AD47: - | AE47: - | AF47: - | AG47: 12 | AH47: - | AI47: 10 | AJ47: 2 | AK47: - | AL47: - | AM47: - | AN47: - | AO47: - | AP47: - | AQ47: - | AR47: - | AS47: - | AT47: - | AU47: - | AV47: - | AW47: - | AX47: - | AY47: - | AZ47: - | BA47: - | BB47: - | BC47: - | BD47: - | BE47: - | BF47: - | BG47: - | BH47: - | BI47: 527 | BJ47: - | BK47: 367 | BL47: 160 | BM47: - | BN47: - | BO47: - | BP47: - | BQ47: - | BR47: - | BS47: - | BT47: - | BU47: - | BV47: - | BW47: 122 | BX47: - | BY47: - | BZ47: - | CA47: - | CB47: - | CC47: - | CD47: - | CE47: - | CF47: - | CG47: - | CH47: - | CI47: - | CJ47: - | CK47: - | CL47: - | CM47: 3 | CN47: 3 | CO47: - | CP47: - | CQ47: - | CR47: - | CS47: - | CT47: - | CU47: - | CV47: - | CW47: - | CX47: - | CY47: - | CZ47: - | DA47: - | DB47: - | DC47: - | DD47: - | DE47: - | DF47: - | DG47: - | DH47: - | DI47: - | DJ47: - | DK47: - | DL47: - | DM47: - | DN47: - | DO47: - | DP47: - | DQ47: - | DR47: - | DS47: 5 | DT47: - | DU47: - | DV47: - | DW47: - | DX47: - | DY47: - | DZ47: - | EA47: - | EB47: - | EC47: - | ED47: - | EE47: - | EF47: - | EG47: 187 | EH47: - | EI47: - | EJ47: - | EK47: - | EL47: - | EM47: - | EN47: - | EO47: - | EP47: - | EQ47: - | ER47: - | ES47: - | ET47: - | EU47: - | EV47: - | EW47: - | EX47: - | EY47: - | EZ47: - | FA47: - | FB47: - | FC47: - | FD47: - | FE47: - | FF47: - | FG47: - | FH47: - | FI47: - | FJ47: - | FK47: - | FL47: - | FM47: - | FN47: - | FO47: - | FP47: - | FQ47: - | FR47: - | FS47: - | FT47: - | FU47: - | FV47: - | FW47: - | FX47: - | FY47: - | FZ47: - | GA47: - | GB47: - | GC47: - | GD47: - | GE47: - | GF47: - | GG47: - | GH47: - | GI47: - | GJ47: - | GK47: - | GL47: - | GM47: - | GN47: - | GO47: 2 | GP47: - | GQ47: 2 | GR47: 2 | GS47: - | GT47: - | GU47: - | GV47: 3 | GW47: 3 | GX47: - | GY47: - | GZ47: - | HA47: - | HB47: - | HC47: - | HD47: - | HE47: - | HF47: - | HG47: - | HH47: - | HI47: - | HJ47: - | HK47: - | HL47: - | HM47: - | HN47: 1920602000 | HO47: 19 | HP47: 00 | HQ47: 206 | HR47: 02 | HS47: 000
A48: 山梨県 | B48: 大月市 | C48: 大月町 | D48: 206-03 | E48: 8 | F48: 1 | G48: - | H48: 1 | I48: - | J48: - | K48: - | L48: 7 | M48: - | N48: 1 | O48: X | P48: X | Q48: X | R48: X | S48: X | T48: X | U48: X | V48: - | W48: 1 | X48: 40 | Y48: - | Z48: - | AA48: 7 | AB48: X | AC48: X | AD48: X | AE48: X | AF48: X | AG48: 8 | AH48: - | AI48: 5 | AJ48: 3 | AK48: - | AL48: - | AM48: - | AN48: - | AO48: - | AP48: - | AQ48: - | AR48: - | AS48: - | AT48: - | AU48: X | AV48: X | AW48: X | AX48: X | AY48: X | AZ48: X | BA48: X | BB48: X | BC48: X | BD48: X | BE48: X | BF48: X | BG48: X | BH48: X | BI48: 442 | BJ48: - | BK48: 213 | BL48: 229 | BM48: - | BN48: - | BO48: - | BP48: - | BQ48: - | BR48: - | BS48: - | BT48: - | BU48: - | BV48: - | BW48: 65 | BX48: X | BY48: X | BZ48: X | CA48: X | CB48: X | CC48: X | CD48: X | CE48: X | CF48: X | CG48: X | CH48: X | CI48: X | CJ48: X | CK48: X | CL48: X | CM48: 3 | CN48: 1 | CO48: - | CP48: - | CQ48: - | CR48: 1 | CS48: - | CT48: 1 | CU48: - | CV48: - | CW48: - | CX48: - | CY48: - | CZ48: - | DA48: - | DB48: - | DC48: X | DD48: X | DE48: X | DF48: X | DG48: X | DH48: X | DI48: X | DJ48: X | DK48: X | DL48: X | DM48: X | DN48: X | DO48: X | DP48: X | DQ48: X | DR48: X | DS48: 2 | DT48: - | DU48: - | DV48: - | DW48: - | DX48: - | DY48: - | DZ48: - | EA48: - | EB48: 1 | EC48: - | ED48: 1 | EE48: - | EF48: - | EG48: X | EH48: - | EI48: - | EJ48: - | EK48: - | EL48: - | EM48: - | EN48: - | EO48: - | EP48: X | EQ48: - | ER48: X | ES48: - | ET48: - | EU48: X | EV48: X | EW48: X | EX48: X | EY48: X | EZ48: X | FA48: X | FB48: X | FC48: X | FD48: X | FE48: X | FF48: X | FG48: X | FH48: X | FI48: X | FJ48: X | FK48: X | FL48: X | FM48: X | FN48: X | FO48: X | FP48: X | FQ48: X | FR48: X | FS48: X | FT48: X | FU48: X | FV48: X | FW48: 3 | FX48: - | FY48: 3 | FZ48: - | GA48: - | GB48: - | GC48: - | GD48: - | GE48: - | GF48: X | GG48: X | GH48: X | GI48: X | GJ48: X | GK48: X | GL48: X | GM48: X | GN48: X | GO48: - | GP48: X | GQ48: - | GR48: - | GS48: - | GT48: - | GU48: - | GV48: 3 | GW48: 2 | GX48: 1 | GY48: - | GZ48: - | HA48: - | HB48: - | HC48: - | HD48: - | HE48: X | HF48: X | HG48: X | HH48: X | HI48: X | HJ48: X | HK48: X | HL48: X | HM48: X | HN48: 1920603000 | HO48: 19 | HP48: 00 | HQ48: 206 | HR48: 03 | HS48: 000
A49: 山梨県 | B49: 大月市 | C49: 賑岡村 | D49: 206-04 | E49: 12 | F49: 1 | G49: - | H49: - | I49: 1 | J49: - | K49: - | L49: 11 | M49: 1 | N49: 1 | O49: X | P49: X | Q49: X | R49: X | S49: X | T49: X | U49: X | V49: - | W49: 1 | X49: 1100 | Y49: 1 | Z49: 500 | AA49: 11 | AB49: X | AC49: X | AD49: X | AE49: X | AF49: X | AG49: 12 | AH49: - | AI49: 8 | AJ49: 4 | AK49: - | AL49: - | AM49: - | AN49: - | AO49: - | AP49: - | AQ49: - | AR49: - | AS49: - | AT49: - | AU49: X | AV49: X | AW49: X | AX49: X | AY49: X | AZ49: X | BA49: X | BB49: X | BC49: X | BD49: X | BE49: X | BF49: X | BG49: X | BH49: X | BI49: 533 | BJ49: - | BK49: 293 | BL49: 240 | BM49: - | BN49: - | BO49: - | BP49: - | BQ49: - | BR49: - | BS49: - | BT49: - | BU49: - | BV49: - | BW49: 56 | BX49: X | BY49: X | BZ49: X | CA49: X | CB49: X | CC49: X | CD49: X | CE49: X | CF49: X | CG49: X | CH49: X | CI49: X | CJ49: X | CK49: X | CL49: X | CM49: 3 | CN49: - | CO49: - | CP49: 1 | CQ49: - | CR49: 1 | CS49: - | CT49: - | CU49: 1 | CV49: - | CW49: - | CX49: - | CY49: - | CZ49: - | DA49: - | DB49: - | DC49: X | DD49: X | DE49: X | DF49: X | DG49: X | DH49: X | DI49: X | DJ49: X | DK49: X | DL49: X | DM49: X | DN49: X | DO49: X | DP49: X | DQ49: X | DR49: X | DS49: 1 | DT49: - | DU49: - | DV49: - | DW49: - | DX49: - | DY49: 1 | DZ49: 1 | EA49: - | EB49: 1 | EC49: - | ED49: 1 | EE49: - | EF49: 1 | EG49: X | EH49: - | EI49: - | EJ49: - | EK49: - | EL49: - | EM49: X | EN49: X | EO49: - | EP49: X | EQ49: - | ER49: X | ES49: - | ET49: X | EU49: X | EV49: X | EW49: X | EX49: X | EY49: X | EZ49: X | FA49: X | FB49: X | FC49: X | FD49: X | FE49: X | FF49: X | FG49: X | FH49: X | FI49: X | FJ49: X | FK49: X | FL49: X | FM49: X | FN49: X | FO49: X | FP49: X | FQ49: X | FR49: X | FS49: X | FT49: X | FU49: X | FV49: X | FW49: 1 | FX49: - | FY49: 1 | FZ49: - | GA49: - | GB49: - | GC49: - | GD49: - | GE49: - | GF49: X | GG49: X | GH49: X | GI49: X | GJ49: X | GK49: X | GL49: X | GM49: X | GN49: X | GO49: - | GP49: X | GQ49: - | GR49: - | GS49: - | GT49: - | GU49: - | GV49: 3 | GW49: 1 | GX49: 1 | GY49: - | GZ49: 1 | HA49: - | HB49: - | HC49: - | HD49: - | HE49: X | HF49: X | HG49: X | HH49: X | HI49: X | HJ49: X | HK49: X | HL49: X | HM49: X | HN49: 1920604000 | HO49: 19 | HP49: 00 | HQ49: 206 | HR49: 04 | HS49: 000
A50: 山梨県 | B50: 大月市 | C50: 七保村 | D50: 206-05 | E50: 5 | F50: - | G50: - | H50: - | I50: - | J50: - | K50: - | L50: 5 | M50: 1 | N50: - | O50: - | P50: - | Q50: - | R50: - | S50: - | T50: - | U50: - | V50: - | W50: 1 | X50: 50 | Y50: - | Z50: - | AA50: 4 | AB50: - | AC50: - | AD50: - | AE50: - | AF50: - | AG50: 5 | AH50: 1 | AI50: 3 | AJ50: 1 | AK50: - | AL50: - | AM50: - | AN50: - | AO50: - | AP50: - | AQ50: - | AR50: - | AS50: - | AT50: - | AU50: - | AV50: - | AW50: - | AX50: - | AY50: - | AZ50: - | BA50: - | BB50: - | BC50: - | BD50: - | BE50: - | BF50: - | BG50: - | BH50: - | BI50: 167 | BJ50: 14 | BK50: 103 | BL50: 50 | BM50: - | BN50: - | BO50: - | BP50: - | BQ50: - | BR50: - | BS50: - | BT50: - | BU50: - | BV50: - | BW50: - | BX50: - | BY50: - | BZ50: - | CA50: - | CB50: - | CC50: - | CD50: - | CE50: - | CF50: - | CG50: - | CH50: - | CI50: - | CJ50: - | CK50: - | CL50: - | CM50: 3 | CN50: 1 | CO50: - | CP50: 1 | CQ50: - | CR50: - | CS50: - | CT50: - | CU50: 1 | CV50: - | CW50: - | CX50: - | CY50: - | CZ50: - | DA50: - | DB50: - | DC50: - | DD50: - | DE50: - | DF50: - | DG50: - | DH50: - | DI50: - | DJ50: - | DK50: - | DL50: - | DM50: - | DN50: - | DO50: - | DP50: - | DQ50: - | DR50: - | DS50: 1 | DT50: - | DU50: - | DV50: - | DW50: - | DX50: - | DY50: 1 | DZ50: 1 | EA50: - | EB50: - | EC50: - | ED50: - | EE50: - | EF50: 1 | EG50: X | EH50: - | EI50: - | EJ50: - | EK50: - | EL50: - | EM50: X | EN50: X | EO50: - | EP50: - | EQ50: - | ER50: - | ES50: - | ET50: X | EU50: - | EV50: - | EW50: - | EX50: - | EY50: - | EZ50: - | FA50: - | FB50: - | FC50: - | FD50: - | FE50: - | FF50: - | FG50: - | FH50: - | FI50: - | FJ50: - | FK50: - | FL50: - | FM50: - | FN50: - | FO50: - | FP50: - | FQ50: - | FR50: - | FS50: - | FT50: - | FU50: - | FV50: X | FW50: 1 | FX50: - | FY50: 1 | FZ50: - | GA50: - | GB50: - | GC50: - | GD50: - | GE50: - | GF50: - | GG50: - | GH50: - | GI50: - | GJ50: - | GK50: - | GL50: - | GM50: - | GN50: - | GO50: 1 | GP50: - | GQ50: 1 | GR50: 1 | GS50: - | GT50: - | GU50: - | GV50: 3 | GW50: 2 | GX50: - | GY50: - | GZ50: 1 | HA50: - | HB50: - | HC50: - | HD50: - | HE50: - | HF50: - | HG50: - | HH50: - | HI50: - | HJ50: - | HK50: - | HL50: - | HM50: - | HN50: 1920605000 | HO50: 19 | HP50: 00 | HQ50: 206 | HR50: 05 | HS50: 000
A51: 山梨県 | B51: 大月市 | C51: 猿橋町 | D51: 206-06 | E51: 18 | F51: - | G51: - | H51: - | I51: - | J51: - | K51: - | L51: 18 | M51: - | N51: - | O51: - | P51: - | Q51: - | R51: - | S51: - | T51: - | U51: - | V51: - | W51: 5 | X51: 478 | Y51: 1 | Z51: 340 | AA51: 13 | AB51: - | AC51: - | AD51: - | AE51: - | AF51: - | AG51: 18 | AH51: - | AI51: 11 | AJ51: 7 | AK51: - | AL51: - | AM51: - | AN51: - | AO51: - | AP51: - | AQ51: - | AR51: - | AS51: - | AT51: - | AU51: - | AV51: - | AW51: - | AX51: - | AY51: - | AZ51: - | BA51: - | BB51: - | BC51: - | BD51: - | BE51: - | BF51: - | BG51: - | BH51: - | BI51: 828 | BJ51: - | BK51: 414 | BL51: 414 | BM51: - | BN51: - | BO51: - | BP51: - | BQ51: - | BR51: - | BS51: - | BT51: - | BU51: - | BV51: - | BW51: 114 | BX51: - | BY51: - | BZ51: - | CA51: - | CB51: - | CC51: - | CD51: - | CE51: - | CF51: - | CG51: - | CH51: - | CI51: - | CJ51: - | CK51: - | CL51: - | CM51: 13 | CN51: 5 | CO51: - | CP51: 5 | CQ51: - | CR51: 2 | CS51: - | CT51: 1 | CU51: - | CV51: - | CW51: - | CX51: - | CY51: - | CZ51: - | DA51: - | DB51: - | DC51: - | DD51: - | DE51: - | DF51: - | DG51: - | DH51: - | DI51: - | DJ51: - | DK51: - | DL51: - | DM51: - | DN51: - | DO51: - | DP51: - | DQ51: - | DR51: - | DS51: 9 | DT51: - | DU51: - | DV51: 2 | DW51: 5 | DX51: - | DY51: 7 | DZ51: 6 | EA51: 3 | EB51: 6 | EC51: - | ED51: 2 | EE51: - | EF51: - | EG51: 101 | EH51: - | EI51: - | EJ51: X | EK51: X | EL51: - | EM51: X | EN51: 107 | EO51: X | EP51: X | EQ51: - | ER51: X | ES51: - | ET51: - | EU51: - | EV51: - | EW51: - | EX51: - | EY51: - | EZ51: - | FA51: - | FB51: - | FC51: - | FD51: - | FE51: - | FF51: - | FG51: - | FH51: - | FI51: - | FJ51: - | FK51: - | FL51: - | FM51: - | FN51: - | FO51: - | FP51: - | FQ51: - | FR51: - | FS51: - | FT51: - | FU51: - | FV51: - | FW51: 7 | FX51: - | FY51: 7 | FZ51: - | GA51: - | GB51: - | GC51: - | GD51: - | GE51: - | GF51: - | GG51: - | GH51: - | GI51: - | GJ51: - | GK51: - | GL51: - | GM51: - | GN51: - | GO51: 1 | GP51: - | GQ51: 1 | GR51: 1 | GS51: - | GT51: - | GU51: - | GV51: 13 | GW51: 11 | GX51: 2 | GY51: - | GZ51: - | HA51: - | HB51: - | HC51: - | HD51: - | HE51: - | HF51: - | HG51: - | HH51: - | HI51: - | HJ51: - | HK51: - | HL51: - | HM51: - | HN51: 1920606000 | HO51: 19 | HP51: 00 | HQ51: 206 | HR51: 06 | HS51: 000
A52: 山梨県 | B52: 大月市 | C52: 富浜村 | D52: 206-07 | E52: 5 | F52: - | G52: - | H52: - | I52: - | J52: - | K52: - | L52: 5 | M52: - | N52: - | O52: - | P52: - | Q52: - | R52: - | S52: - | T52: - | U52: - | V52: - | W52: - | X52: - | Y52: - | Z52: - | AA52: 5 | AB52: - | AC52: - | AD52: - | AE52: - | AF52: - | AG52: 5 | AH52: - | AI52: 5 | AJ52: - | AK52: - | AL52: - | AM52: - | AN52: - | AO52: - | AP52: - | AQ52: - | AR52: - | AS52: - | AT52: - | AU52: - | AV52: - | AW52: - | AX52: - | AY52: - | AZ52: - | BA52: - | BB52: - | BC52: - | BD52: - | BE52: - | BF52: - | BG52: - | BH52: - | BI52: 182 | BJ52: - | BK52: 182 | BL52: - | BM52: - | BN52: - | BO52: - | BP52: - | BQ52: - | BR52: - | BS52: - | BT52: - | BU52: - | BV52: - | BW52: - | BX52: - | BY52: - | BZ52: - | CA52: - | CB52: - | CC52: - | CD52: - | CE52: - | CF52: - | CG52: - | CH52: - | CI52: - | CJ52: - | CK52: - | CL52: - | CM52: 1 | CN52: - | CO52: - | CP52: - | CQ52: - | CR52: 1 | CS52: - | CT52: - | CU52: - | CV52: - | CW52: - | CX52: - | CY52: - | CZ52: - | DA52: - | DB52: - | DC52: - | DD52: - | DE52: - | DF52: - | DG52: - | DH52: - | DI52: - | DJ52: - | DK52: - | DL52: - | DM52: - | DN52: - | DO52: - | DP52: - | DQ52: - | DR52: - | DS52: 1 | DT52: 1 | DU52: - | DV52: - | DW52: - | DX52: - | DY52: 1 | DZ52: 1 | EA52: - | EB52: 1 | EC52: - | ED52: 1 | EE52: - | EF52: 1 | EG52: X | EH52: X | EI52: - | EJ52: - | EK52: - | EL52: - | EM52: X | EN52: X | EO52: - | EP52: X | EQ52: - | ER52: X | ES52: - | ET52: X | EU52: - | EV52: - | EW52: - | EX52: - | EY52: - | EZ52: - | FA52: - | FB52: - | FC52: - | FD52: - | FE52: - | FF52: - | FG52: - | FH52: - | FI52: - | FJ52: - | FK52: - | FL52: - | FM52: - | FN52: - | FO52: - | FP52: - | FQ52: - | FR52: - | FS52: - | FT52: - | FU52: - | FV52: X | FW52: 1 | FX52: - | FY52: 1 | FZ52: - | GA52: - | GB52: - | GC52: - | GD52: - | GE52: - | GF52: - | GG52: - | GH52: - | GI52: - | GJ52: - | GK52: - | GL52: - | GM52: - | GN52: - | GO52: - | GP52: - | GQ52: - | GR52: - | GS52: - | GT52: - | GU52: - | GV52: 1 | GW52: 1 | GX52: - | GY52: - | GZ52: - | HA52: - | HB52: - | HC52: - | HD52: - | HE52: - | HF52: - | HG52: - | HH52: - | HI52: - | HJ52: - | HK52: - | HL52: - | HM52: - | HN52: 1920607000 | HO52: 19 | HP52: 00 | HQ52: 206 | HR52: 07 | HS52: 000
A53: 山梨県 | B53: 大月市 | C53: 梁川村 | D53: 206-08 | E53: 3 | F53: - | G53: - | H53: - | I53: - | J53: - | K53: - | L53: 3 | M53: - | N53: - | O53: - | P53: - | Q53: - | R53: - | S53: - | T53: - | U53: - | V53: - | W53: 1 | X53: 400 | Y53: 1 | Z53: 400 | AA53: 2 | AB53: - | AC53: - | AD53: - | AE53: - | AF53: - | AG53: 3 | AH53: - | AI53: 1 | AJ53: 2 | AK53: - | AL53: - | AM53: - | AN53: - | AO53: - | AP53: - | AQ53: - | AR53: - | AS53: - | AT53: - | AU53: - | AV53: - | AW53: - | AX53: - | AY53: - | AZ53: - | BA53: - | BB53: - | BC53: - | BD53: - | BE53: - | BF53: - | BG53: - | BH53: - | BI53: 191 | BJ53: - | BK53: 42 | BL53: 149 | BM53: - | BN53: - | BO53: - | BP53: - | BQ53: - | BR53: - | BS53: - | BT53: - | BU53: - | BV53: - | BW53: 40 | BX53: - | BY53: - | BZ53: - | CA53: - | CB53: - | CC53: - | CD53: - | CE53: - | CF53: - | CG53: - | CH53: - | CI53: - | CJ53: - | CK53: - | CL53: - | CM53: 2 | CN53: 1 | CO53: - | CP53: - | CQ53: - | CR53: 1 | CS53: - | CT53: - | CU53: - | CV53: - | CW53: - | CX53: - | CY53: - | CZ53: - | DA53: - | DB53: - | DC53: - | DD53: - | DE53: - | DF53: - | DG53: - | DH53: - | DI53: - | DJ53: - | DK53: - | DL53: - | DM53: - | DN53: - | DO53: - | DP53: - | DQ53: - | DR53: - | DS53: 1 | DT53: - | DU53: - | DV53: - | DW53: 1 | DX53: - | DY53: 1 | DZ53: 1 | EA53: 1 | EB53: 2 | EC53: - | ED53: 1 | EE53: - | EF53: 1 | EG53: X | EH53: - | EI53: - | EJ53: - | EK53: X | EL53: - | EM53: X | EN53: X | EO53: X | EP53: X | EQ53: - | ER53: X | ES53: - | ET53: X | EU53: - | EV53: - | EW53: - | EX53: - | EY53: - | EZ53: - | FA53: - | FB53: - | FC53: - | FD53: - | FE53: - | FF53: - | FG53: - | FH53: - | FI53: - | FJ53: - | FK53: - | FL53: - | FM53: - | FN53: - | FO53: - | FP53: - | FQ53: - | FR53: - | FS53: - | FT53: - | FU53: - | FV53: X | FW53: 2 | FX53: - | FY53: 2 | FZ53: - | GA53: - | GB53: - | GC53: - | GD53: - | GE53: - | GF53: - | GG53: - | GH53: - | GI53: - | GJ53: - | GK53: - | GL53: - | GM53: - | GN53: - | GO53: - | GP53: - | GQ53: - | GR53: - | GS53: - | GT53: - | GU53: - | GV53: 2 | GW53: 1 | GX53: 1 | GY53: - | GZ53: - | HA53: - | HB53: - | HC53: - | HD53: - | HE53: - | HF53: - | HG53: - | HH53: - | HI53: - | HJ53: - | HK53: - | HL53: - | HM53: - | HN53: 1920608000 | HO53: 19 | HP53: 00 | HQ53: 206 | HR53: 08 | HS53: 000
A54: 山梨県 | B54: 韮崎市 | D54: 207-00 | E54: 1192 | F54: 3 | G54: - | H54: 2 | I54: 1 | J54: - | K54: - | L54: 1189 | M54: 88 | N54: 3 | O54: 3 | P54: - | Q54: 2 | R54: 1 | S54: - | T54: - | U54: - | V54: - | W54: 339 | X54: 19967 | Y54: 17 | Z54: 4658 | AA54: 853 | AB54: 3 | AC54: 2415 | AD54: 3 | AE54: 1701 | AF54: - | AG54: 1191 | AH54: 6 | AI54: 361 | AJ54: 549 | AK54: 169 | AL54: 54 | AM54: 31 | AN54: 15 | AO54: 5 | AP54: 1 | AQ54: - | AR54: - | AS54: - | AT54: - | AU54: 3 | AV54: - | AW54: - | AX54: 1 | AY54: - | AZ54: - | BA54: - | BB54: - | BC54: 1 | BD54: 1 | BE54: - | BF54: - | BG54: - | BH54: - | BI54: 98231 | BJ54: 142 | BK54: 14018 | BL54: 37627 | BM54: 19662 | BN54: 9071 | BO54: 6971 | BP54: 5798 | BQ54: 3679 | BR54: 1263 | BS54: - | BT54: - | BU54: - | BV54: - | BW54: 21223 | BX54: 2280 | BY54: - | BZ54: - | CA54: 95 | CB54: - | CC54: - | CD54: - | CE54: - | CF54: 922 | CG54: 1263 | CH54: - | CI54: - | CJ54: - | CK54: - | CL54: 2198 | CM54: 1061 | CN54: 720 | CO54: - | CP54: 4 | CQ54: - | CR54: 14 | CS54: - | CT54: 313 | CU54: 3 | CV54: - | CW54: - | CX54: 6 | CY54: 1 | CZ54: - | DA54: - | DB54: - | DC54: 3 | DD54: 1 | DE54: - | DF54: 1 | DG54: - | DH54: - | DI54: - | DJ54: 1 | DK54: - | DL54: - | DM54: - | DN54: - | DO54: - | DP54: - | DQ54: - | DR54: - | DS54: 975 | DT54: 5 | DU54: 2 | DV54: 5 | DW54: 47 | DX54: 3 | DY54: 15 | DZ54: 9 | EA54: 5 | EB54: 133 | EC54: 5 | ED54: 408 | EE54: X | EF54: 8 | EG54: 46537 | EH54: 340 | EI54: X | EJ54: X | EK54: 135 | EL54: 96 | EM54: X | EN54: 46 | EO54: X | EP54: X | EQ54: X | ER54: X | ES54: X | ET54: X | EU54: 2 | EV54: 1 | EW54: - | EX54: - | EY54: 1 | EZ54: 1 | FA54: - | FB54: - | FC54: - | FD54: 1 | FE54: - | FF54: 2 | FG54: - | FH54: - | FI54: X | FJ54: X | FK54: - | FL54: - | FM54: X | FN54: X | FO54: - | FP54: - | FQ54: - | FR54: X | FS54: - | FT54: X | FU54: - | FV54: X | FW54: 239 | FX54: 12 | FY54: 236 | FZ54: 1 | GA54: 19 | GB54: - | GC54: - | GD54: - | GE54: - | GF54: 2 | GG54: 2 | GH54: 1 | GI54: - | GJ54: 1 | GK54: - | GL54: - | GM54: - | GN54: - | GO54: 64 | GP54: - | GQ54: 64 | GR54: 62 | GS54: 1 | GT54: - | GU54: 16 | GV54: 1061 | GW54: 568 | GX54: 348 | GY54: 123 | GZ54: 21 | HA54: 1 | HB54: 1 | HC54: - | HD54: - | HE54: 3 | HF54: 1 | HG54: - | HH54: 2 | HI54: - | HJ54: - | HK54: - | HL54: - | HM54: - | HN54: 1920700000 | HO54: 19 | HP54: 00 | HQ54: 207 | HR54: 00 | HS54: 000
A55: 山梨県 | B55: 韮崎市 | C55: 韮崎町 | D55: 207-01 | E55: 104 | F55: 2 | G55: - | H55: 1 | I55: 1 | J55: - | K55: - | L55: 102 | M55: 11 | N55: 2 | O55: X | P55: X | Q55: X | R55: X | S55: X | T55: X | U55: X | V55: - | W55: 39 | X55: 4548 | Y55: 4 | Z55: 2001 | AA55: 65 | AB55: X | AC55: X | AD55: X | AE55: X | AF55: X | AG55: 103 | AH55: 1 | AI55: 24 | AJ55: 44 | AK55: 20 | AL55: 8 | AM55: 2 | AN55: 2 | AO55: 1 | AP55: 1 | AQ55: - | AR55: - | AS55: - | AT55: - | AU55: X | AV55: X | AW55: X | AX55: X | AY55: X | AZ55: X | BA55: X | BB55: X | BC55: X | BD55: X | BE55: X | BF55: X | BG55: X | BH55: X | BI55: 10915 | BJ55: 10 | BK55: 933 | BL55: 2869 | BM55: 2439 | BN55: 1305 | BO55: 450 | BP55: 724 | BQ55: 922 | BR55: 1263 | BS55: - | BT55: - | BU55: - | BV55: - | BW55: 3620 | BX55: X | BY55: X | BZ55: X | CA55: X | CB55: X | CC55: X | CD55: X | CE55: X | CF55: X | CG55: X | CH55: X | CI55: X | CJ55: X | CK55: X | CL55: X | CM55: 97 | CN55: 64 | CO55: - | CP55: - | CQ55: - | CR55: - | CS55: - | CT55: 32 | CU55: - | CV55: - | CW55: - | CX55: - | CY55: 1 | CZ55: - | DA55: - | DB55: - | DC55: X | DD55: X | DE55: X | DF55: X | DG55: X | DH55: X | DI55: X | DJ55: X | DK55: X | DL55: X | DM55: X | DN55: X | DO55: X | DP55: X | DQ55: X | DR55: X | DS55: 82 | DT55: 2 | DU55: - | DV55: - | DW55: 2 | DX55: - | DY55: 1 | DZ55: 1 | EA55: - | EB55: 8 | EC55: - | ED55: 39 | EE55: - | EF55: 1 | EG55: 5651 | EH55: X | EI55: - | EJ55: - | EK55: X | EL55: - | EM55: X | EN55: X | EO55: - | EP55: X | EQ55: - | ER55: X | ES55: - | ET55: X | EU55: X | EV55: X | EW55: X | EX55: X | EY55: X | EZ55: X | FA55: X | FB55: X | FC55: X | FD55: X | FE55: X | FF55: X | FG55: X | FH55: X | FI55: X | FJ55: X | FK55: X | FL55: X | FM55: X | FN55: X | FO55: X | FP55: X | FQ55: X | FR55: X | FS55: X | FT55: X | FU55: X | FV55: X | FW55: 33 | FX55: 4 | FY55: 32 | FZ55: - | GA55: 3 | GB55: - | GC55: - | GD55: - | GE55: - | GF55: X | GG55: X | GH55: X | GI55: X | GJ55: X | GK55: X | GL55: X | GM55: X | GN55: X | GO55: 7 | GP55: X | GQ55: 7 | GR55: 7 | GS55: - | GT55: - | GU55: 1 | GV55: 97 | GW55: 43 | GX55: 25 | GY55: 25 | GZ55: 4 | HA55: - | HB55: - | HC55: - | HD55: - | HE55: X | HF55: X | HG55: X | HH55: X | HI55: X | HJ55: X | HK55: X | HL55: X | HM55: X | HN55: 1920701000 | HO55: 19 | HP55: 00 | HQ55: 207 | HR55: 01 | HS55: 000
A56: 山梨県 | B56: 韮崎市 | C56: 穂坂村 | D56: 207-02 | E56: 219 | F56: 1 | G56: - | H56: 1 | I56: - | J56: - | K56: - | L56: 218 | M56: 32 | N56: 1 | O56: X | P56: X | Q56: X | R56: X | S56: X | T56: X | U56: X | V56: - | W56: 93 | X56: 7129 | Y56: 6 | Z56: 1181 | AA56: 126 | AB56: X | AC56: X | AD56: X | AE56: X | AF56: X | AG56: 219 | AH56: 2 | AI56: 33 | AJ56: 97 | AK56: 53 | AL56: 21 | AM56: 11 | AN56: 2 | AO56: - | AP56: - | AQ56: - | AR56: - | AS56: - | AT56: - | AU56: X | AV56: X | AW56: X | AX56: X | AY56: X | AZ56: X | BA56: X | BB56: X | BC56: X | BD56: X | BE56: X | BF56: X | BG56: X | BH56: X | BI56: 21073 | BJ56: 52 | BK56: 1233 | BL56: 6918 | BM56: 6191 | BN56: 3578 | BO56: 2391 | BP56: 710 | BQ56: - | BR56: - | BS56: - | BT56: - | BU56: - | BV56: - | BW56: 3083 | BX56: X | BY56: X | BZ56: X | CA56: X | CB56: X | CC56: X | CD56: X | CE56: X | CF56: X | CG56: X | CH56: X | CI56: X | CJ56: X | CK56: X | CL56: X | CM56: 203 | CN56: 30 | CO56: - | CP56: 1 | CQ56: - | CR56: 1 | CS56: - | CT56: 167 | CU56: - | CV56: - | CW56: - | CX56: 4 | CY56: - | CZ56: - | DA56: - | DB56: - | DC56: X | DD56: X | DE56: X | DF56: X | DG56: X | DH56: X | DI56: X | DJ56: X | DK56: X | DL56: X | DM56: X | DN56: X | DO56: X | DP56: X | DQ56: X | DR56: X | DS56: 134 | DT56: 1 | DU56: - | DV56: 2 | DW56: 12 | DX56: 2 | DY56: 2 | DZ56: - | EA56: 2 | EB56: 22 | EC56: - | ED56: 176 | EE56: X | EF56: - | EG56: 3754 | EH56: X | EI56: - | EJ56: X | EK56: 32 | EL56: X | EM56: X | EN56: - | EO56: X | EP56: X | EQ56: - | ER56: X | ES56: X | ET56: - | EU56: X | EV56: X | EW56: X | EX56: X | EY56: X | EZ56: X | FA56: X | FB56: X | FC56: X | FD56: X | FE56: X | FF56: X | FG56: X | FH56: X | FI56: X | FJ56: X | FK56: X | FL56: X | FM56: X | FN56: X | FO56: X | FP56: X | FQ56: X | FR56: X | FS56: X | FT56: X | FU56: X | FV56: X | FW56: 59 | FX56: 3 | FY56: 58 | FZ56: 1 | GA56: 16 | GB56: - | GC56: - | GD56: - | GE56: - | GF56: X | GG56: X | GH56: X | GI56: X | GJ56: X | GK56: X | GL56: X | GM56: X | GN56: X | GO56: 7 | GP56: X | GQ56: 7 | GR56: 6 | GS56: - | GT56: - | GU56: 3 | GV56: 203 | GW56: 39 | GX56: 96 | GY56: 57 | GZ56: 10 | HA56: 1 | HB56: 1 | HC56: - | HD56: - | HE56: X | HF56: X | HG56: X | HH56: X | HI56: X | HJ56: X | HK56: X | HL56: X | HM56: X | HN56: 1920702000 | HO56: 19 | HP56: 00 | HQ56: 207 | HR56: 02 | HS56: 000
A57: 山梨県 | B57: 韮崎市 | C57: 藤井村 | D57: 207-03 | E57: 86 | F57: - | G57: - | H57: - | I57: - | J57: - | K57: - | L57: 86 | M57: 2 | N57: - | O57: - | P57: - | Q57: - | R57: - | S57: - | T57: - | U57: - | V57: - | W57: 18 | X57: 495 | Y57: 1 | Z57: 21 | AA57: 68 | AB57: - | AC57: - | AD57: - | AE57: - | AF57: - | AG57: 86 | AH57: - | AI57: 32 | AJ57: 40 | AK57: 10 | AL57: 1 | AM57: - | AN57: 3 | AO57: - | AP57: - | AQ57: - | AR57: - | AS57: - | AT57: - | AU57: - | AV57: - | AW57: - | AX57: - | AY57: - | AZ57: - | BA57: - | BB57: - | BC57: - | BD57: - | BE57: - | BF57: - | BG57: - | BH57: - | BI57: 6477 | BJ57: - | BK57: 1287 | BL57: 2680 | BM57: 1142 | BN57: 150 | BO57: - | BP57: 1218 | BQ57: - | BR57: - | BS57: - | BT57: - | BU57: - | BV57: - | BW57: 1528 | BX57: - | BY57: - | BZ57: - | CA57: - | CB57: - | CC57: - | CD57: - | CE57: - | CF57: - | CG57: - | CH57: - | CI57: - | CJ57: - | CK57: - | CL57: - | CM57: 71 | CN57: 56 | CO57: - | CP57: 1 | CQ57: - | CR57: 7 | CS57: - | CT57: 6 | CU57: - | CV57: - | CW57: - | CX57: 1 | CY57: - | CZ57: - | DA57: - | DB57: - | DC57: - | DD57: - | DE57: - | DF57: - | DG57: - | DH57: - | DI57: - | DJ57: - | DK57: - | DL57: - | DM57: - | DN57: - | DO57: - | DP57: - | DQ57: - | DR57: - | DS57: 72 | DT57: 2 | DU57: 1 | DV57: 1 | DW57: 6 | DX57: 1 | DY57: 3 | DZ57: 1 | EA57: - | EB57: 26 | EC57: 1 | ED57: 18 | EE57: 1 | EF57: - | EG57: 3194 | EH57: X | EI57: X | EJ57: X | EK57: 26 | EL57: X | EM57: X | EN57: X | EO57: - | EP57: X | EQ57: X | ER57: X | ES57: X | ET57: - | EU57: - | EV57: - | EW57: - | EX57: - | EY57: - | EZ57: - | FA57: - | FB57: - | FC57: - | FD57: - | FE57: - | FF57: - | FG57: - | FH57: - | FI57: - | FJ57: - | FK57: - | FL57: - | FM57: - | FN57: - | FO57: - | FP57: - | FQ57: - | FR57: - | FS57: - | FT57: - | FU57: - | FV57: - | FW57: 14 | FX57: - | FY57: 14 | FZ57: - | GA57: - | GB57: - | GC57: - | GD57: - | GE57: - | GF57: - | GG57: - | GH57: - | GI57: - | GJ57: - | GK57: - | GL57: - | GM57: - | GN57: - | GO57: 5 | GP57: - | GQ57: 5 | GR57: 5 | GS57: - | GT57: - | GU57: 2 | GV57: 71 | GW57: 47 | GX57: 20 | GY57: 3 | GZ57: 1 | HA57: - | HB57: - | HC57: - | HD57: - | HE57: - | HF57: - | HG57: - | HH57: - | HI57: - | HJ57: - | HK57: - | HL57: - | HM57: - | HN57: 1920703000 | HO57: 19 | HP57: 00 | HQ57: 207 | HR57: 03 | HS57: 000
