Workbook
Name G20労働力O: OFFSET(Info!$F$30,Info!$Y$31,0),OFFSET(Info!$J$30,Info!$Y$31,0)
Name G21労働力I: OFFSET(Info!$F$30,Info!$Y$32,0),OFFSET(Info!$J$30,Info!$Y$32,0)
Name G23労働力R: OFFSET(Info!#REF!,Info!$Y$34,0)
Name G24労働力L: OFFSET(Info!#REF!,Info!$Y$32,0)
Name G25労働力R: OFFSET(Info!$H$29,Info!$Y$32,0)
Name G41規模面積L: OFFSET(Info!$H$45:$R$45,Info!$Y$45,0)
Name G42規模面積R: OFFSET(Info!$H$45:$R$45,Info!$Z$45,0)
Name G43規模面積L: OFFSET(Info!$H$46:$R$46,Info!$Y$45,0)
Name G44規模面積R: OFFSET(Info!$H$46:$R$46,Info!$Z$45,0)
Name G50状態別: OFFSET([1]Info!$H$90:$M$90,[1]Info!$AE$89,0)
Name G61品目別L: OFFSET(Info!$G$73:$S$73,Info!$W$75,0)
Name G62品目別R: OFFSET(Info!$G$73:$S$73,Info!$X$75,0)
Name G63品目別L: OFFSET(Info!$G$74:$S$74,Info!$W$75,0)
Name G64品目別R: OFFSET(Info!$G$74:$S$74,Info!$X$75,0)
Name G65金額規模別A: OFFSET(Info!$G$103:$K$103,Info!$Y$101,0)
Name 旧市2010: OFFSET('[1]2010年'!$C$1,[1]Info!$X$3-1,0,[1]Info!$W$3+1,1)
Name 旧市2010: OFFSET('2010年'!$C$1,Info!$X$3-1,0,Info!$W$3+1,1)
Name 旧市2015: OFFSET('[1]2015年'!$C$1,[1]Info!$X$4-1,0,[1]Info!$W$4+1,1)
Name 旧市2015: OFFSET('2015年'!$C$1,Info!$X$4-1,0,Info!$W$4+1,1)

Sheet Info
D1: -1 | E1: 0 | F1: 1 | G1: 2 | H1: 3 | I1: 4 | J1: 5 | K1: 6 | L1: 7 | M1: 8 | N1: 9 | O1: 10 | P1: 11 | Q1: 12 | R1: 13 | S1: 14 | T1: 15 | U1: 16 | V1: 17 | W1: 18 | X1: 19 | Y1: 20 | Z1: 21 | AA1: 22 | AB1: 23
V2: 表示行 | W2: 旧市町村数 | X2: 市町村行 | Y2: check | Z2: 表示名
D3: 県名 | G3: ="市区町村"&IF(AND(G4="",J4<>""),"を選択してください","名") -> 市区町村名 | K3: ="旧市町村"&IF(AND(G4<>"",OR(Y3="",Y4="")),"を選択してください","名") -> 旧市町村名 | V3: =IF(J4="",-1,IFERROR(MATCH(J4,OFFSET(旧市2010,1,0,ROWS(旧市2010),1),0)-1,999))+X3 -> 5 | W3: =COUNTIF('2010年'!B:B,Info!G4)-1 -> -1 | X3: =IF(G4="",6,MATCH(G4,'2010年'!B:B,0)) -> 6 | Y3: =IF(AND(G4="",J4=""),'2010年'!A6,OFFSET('2010年'!$A$1,V3,1)&OFFSET('2010年'!$A$1,V3,2)) -> 山梨県 | Z3: =IF(OR(ISERROR(AB3),ISERROR(AD3)),"表示できません",IF(N4<>"",N4,IF(J4<>"",IF($G$4=$J$4,"（旧）","")&$J$4,IF(G4<>"",G4,D4)))) -> 山梨県
D4: =元データ!AA2 -> 山梨県 | E4: 岡山県 | V4: =IF(J4="",-1,IFERROR(MATCH(J4,OFFSET(旧市2015,1,0,ROWS(旧市2015),1),0)-1,999))+X4 -> 5 | W4: =COUNTIF('2015年'!B:B,Info!G4)-1 -> -1 | X4: =IF(G4="",6,MATCH(G4,'2015年'!B:B,0)) -> 6 | Y4: =IF(AND(G4="",J4=""),'2015年'!A6,OFFSET('2015年'!$A$1,V4,1)&OFFSET('2015年'!$A$1,V4,2)) -> 山梨県 | Z4: =IFERROR(LEFT(Z3,FIND("（",DBCS(Z3),2)+1)&"…）",Z3) -> 山梨県
C6: 農業経営体数
D7: =IFERROR("◎農業経営体数は "&TEXT(F14,"#,###経営体 で ")&X14,"")&IFERROR(X15&"組織経営体は "&X16,"") -> ◎農業経営体数は 17,970経営体 で 3,339経営体（15.7%） 減少したが、組織経営体は 55経営体 （24.0%） 増加
N8: 単位：経営体 | P8: 《農業経営体数》
G9: 組織形態別経営体数 | N9: 認 定 農業者がいる 経営体 | P9: =Z3 -> 山梨県
F10: 合計 | H10: 法人化している | L10: 地方公共団体等 | M10: 法人化していない | P10: （経営体）
G11: 計 | H11: 農事組合法人 | I11: 会社 | J11: 農協等の団体 | K11: その他の法人 | V11: 列番号 | X11: 概要
D12: 2010年 | F12: =OFFSET('2010年'!$A$1,$V$3,$W12+E$1) -> 21309 | G12: =IF(OR(SUM($F12)=1,SUM($F12)=2),"X",OFFSET('2010年'!$A$1,$V$3,$W12+F$1)) -> 232 | H12: =IF(OR(SUM($F12)=1,SUM($F12)=2),"X",OFFSET('2010年'!$A$1,$V$3,$W12+G$1)) -> 28 | I12: =IF(OR(SUM($F12)=1,SUM($F12)=2),"X",OFFSET('2010年'!$A$1,$V$3,$W12+H$1)) -> 97 | J12: =IF(OR(SUM($F12)=1,SUM($F12)=2),"X",OFFSET('2010年'!$A$1,$V$3,$W12+I$1)) -> 92 | K12: =IF(OR(SUM($F12)=1,SUM($F12)=2),"X",OFFSET('2010年'!$A$1,$V$3,$W12+J$1)) -> 15 | L12: =IF(OR(SUM($F12)=1,SUM($F12)=2),"X",OFFSET('2010年'!$A$1,$V$3,$W12+K$1)) -> 2 | M12: =IF(OR(SUM($F12)=1,SUM($F12)=2),"X",OFFSET('2010年'!$A$1,$V$3,$W12+L$1)) -> 21075 | N12: =IF(OR(SUM($F12)=1,SUM($F12)=2),"X",OFFSET('2010年'!$A$1,$V$3,$W12+M$1)) -> 2001 | V12: 2010年 | W12: =CELL("col",'2010年'!E6)-1 -> 4 | X12: =F14/F12-1 -> -0.15669435
E13: うち組織 | F13: =OFFSET('2010年'!$A$1,$V$3,$W13+E$1) -> 229 | G13: =IF(OR(SUM($F13)=1,SUM($F13)=2),"X",OFFSET('2010年'!$A$1,$V$3,$W13+F$1)) -> 211 | H13: =IF(OR(SUM($F13)=1,SUM($F13)=2),"X",OFFSET('2010年'!$A$1,$V$3,$W13+G$1)) -> 24 | I13: =IF(OR(SUM($F13)=1,SUM($F13)=2),"X",OFFSET('2010年'!$A$1,$V$3,$W13+H$1)) -> 80 | J13: =IF(OR(SUM($F13)=1,SUM($F13)=2),"X",OFFSET('2010年'!$A$1,$V$3,$W13+I$1)) -> 92 | K13: =IF(OR(SUM($F13)=1,SUM($F13)=2),"X",OFFSET('2010年'!$A$1,$V$3,$W13+J$1)) -> 15 | L13: =IF(OR(SUM($F13)=1,SUM($F13)=2),"X",OFFSET('2010年'!$A$1,$V$3,$W13+K$1)) -> 2 | M13: =IF(OR(SUM($F13)=1,SUM($F13)=2),"X",OFFSET('2010年'!$A$1,$V$3,$W13+L$1)) -> 16 | N13: =IF(OR(SUM($F13)=1,SUM($F13)=2),"X",OFFSET('2010年'!$A$1,$V$3,$W13+M$1)) -> 54 | V13: 組織 | W13: =CELL("col",'2010年'!N1)-1 -> 13 | X13: =F15/F13-1 -> 0.24017467
D14: 2015年 | F14: =OFFSET('2015年'!$A$1,$V$4,$W14+E$1) -> 17970 | G14: =IF(OR(SUM($F14)=1,SUM($F14)=2),"X",OFFSET('2015年'!$A$1,$V$4,$W14+F$1)) -> 280 | H14: =IF(OR(SUM($F14)=1,SUM($F14)=2),"X",OFFSET('2015年'!$A$1,$V$4,$W14+G$1)) -> 36 | I14: =IF(OR(SUM($F14)=1,SUM($F14)=2),"X",OFFSET('2015年'!$A$1,$V$4,$W14+H$1)) -> 173 | J14: =IF(OR(SUM($F14)=1,SUM($F14)=2),"X",OFFSET('2015年'!$A$1,$V$4,$W14+I$1)) -> 52 | K14: =IF(OR(SUM($F14)=1,SUM($F14)=2),"X",OFFSET('2015年'!$A$1,$V$4,$W14+J$1)) -> 19 | L14: =IF(OR(SUM($F14)=1,SUM($F14)=2),"X",OFFSET('2015年'!$A$1,$V$4,$W14+K$1)) -> 2 | M14: =IF(OR(SUM($F14)=1,SUM($F14)=2),"X",OFFSET('2015年'!$A$1,$V$4,$W14+L$1)) -> 17688 | N14: =IF(OR(SUM($F14)=1,SUM($F14)=2),"X",OFFSET('2015年'!$A$1,$V$4,$W14+M$1)) -> 1910 | V14: 2015年 | W14: =CELL("col",'2015年'!E6)-1 -> 4 | X14: =IF(X12=0,"変化なし",TEXT(ABS(F14-F12),"#,##0")&"経営体（"&TEXT(ABS(X12),"0.0%")&"） "&IF(X12>0,"増加","減少")) -> 3,339経営体（15.7%） 減少
E15: うち組織 | F15: =OFFSET('2015年'!$A$1,$V$4,$W15+E$1) -> 284 | G15: =IF(OR(SUM($F15)=1,SUM($F15)=2),"X",OFFSET('2015年'!$A$1,$V$4,$W15+F$1)) -> 280 | H15: =IF(OR(SUM($F15)=1,SUM($F15)=2),"X",OFFSET('2015年'!$A$1,$V$4,$W15+G$1)) -> 36 | I15: =IF(OR(SUM($F15)=1,SUM($F15)=2),"X",OFFSET('2015年'!$A$1,$V$4,$W15+H$1)) -> 173 | J15: =IF(OR(SUM($F15)=1,SUM($F15)=2),"X",OFFSET('2015年'!$A$1,$V$4,$W15+I$1)) -> 52 | K15: =IF(OR(SUM($F15)=1,SUM($F15)=2),"X",OFFSET('2015年'!$A$1,$V$4,$W15+J$1)) -> 19 | L15: =IF(OR(SUM($F15)=1,SUM($F15)=2),"X",OFFSET('2015年'!$A$1,$V$4,$W15+K$1)) -> 2 | M15: =IF(OR(SUM($F15)=1,SUM($F15)=2),"X",OFFSET('2015年'!$A$1,$V$4,$W15+L$1)) -> 2 | N15: =IF(OR(SUM($F15)=1,SUM($F15)=2),"X",OFFSET('2015年'!$A$1,$V$4,$W15+M$1)) -> 60 | V15: 組織 | W15: =CELL("col",'2015年'!N1)-1 -> 13 | X15: =IF(SIGN(X12)=SIGN(X13),"し、","したが、") -> したが、
D16: 構成比(%) | F16: =IF(OR($F14="X",F14="X"),"X",IF(ROUND(SUM($F14),0)=0,"nc",SUM(F14)/$F14%)) -> 100 | G16: =IF(OR($F14="X",G14="X",SUM($F14)=1,SUM($F14)=2),"X",IF(SUM($F14)=0,"nc",IFERROR(SUM(G14)/$F14%,"-"))) -> 1.5581525 | H16: =IF(OR($F14="X",H14="X",SUM($F14)=1,SUM($F14)=2),"X",IF(SUM($F14)=0,"nc",IFERROR(SUM(H14)/$F14%,"-"))) -> 0.20033389 | I16: =IF(OR($F14="X",I14="X",SUM($F14)=1,SUM($F14)=2),"X",IF(SUM($F14)=0,"nc",IFERROR(SUM(I14)/$F14%,"-"))) -> 0.96271564 | J16: =IF(OR($F14="X",J14="X",SUM($F14)=1,SUM($F14)=2),"X",IF(SUM($F14)=0,"nc",IFERROR(SUM(J14)/$F14%,"-"))) -> 0.28937117 | K16: =IF(OR($F14="X",K14="X",SUM($F14)=1,SUM($F14)=2),"X",IF(SUM($F14)=0,"nc",IFERROR(SUM(K14)/$F14%,"-"))) -> 0.10573178 | L16: =IF(OR($F14="X",L14="X",SUM($F14)=1,SUM($F14)=2),"X",IF(SUM($F14)=0,"nc",IFERROR(SUM(L14)/$F14%,"-"))) -> 0.011129661 | M16: =IF(OR($F14="X",M14="X",SUM($F14)=1,SUM($F14)=2),"X",IF(SUM($F14)=0,"nc",IFERROR(SUM(M14)/$F14%,"-"))) -> 98.430718 | N16: =IF(OR($F14="X",N14="X",SUM($F14)=1,SUM($F14)=2),"X",IF(SUM($F14)=0,"nc",IFERROR(SUM(N14)/$F14%,"-"))) -> 10.628826 | X16: =IF(SUM(F15,-F13)=0,"変化なし",TEXT(ABS(SUM(F15,-F13)),"#,##0")&"経営体 "&IFERROR("（"&TEXT(ABS(X13),"0.0%")&"） ","")&IF(SUM(F15,-F13)>0,"増加","減少")) -> 55経営体 （24.0%） 増加
E17: うち組織 | F17: =IF(OR($F15="X",F15="X"),"X",IF(ROUND(SUM($F15),0)=0,"nc",SUM(F15)/$F15%)) -> 100 | G17: =IF(OR($F15="X",G15="X",SUM($F15)=1,SUM($F15)=2),"X",IF(SUM($F15)=0,"nc",IFERROR(SUM(G15)/$F15%,"-"))) -> 98.591549 | H17: =IF(OR($F15="X",H15="X",SUM($F15)=1,SUM($F15)=2),"X",IF(SUM($F15)=0,"nc",IFERROR(SUM(H15)/$F15%,"-"))) -> 12.676056 | I17: =IF(OR($F15="X",I15="X",SUM($F15)=1,SUM($F15)=2),"X",IF(SUM($F15)=0,"nc",IFERROR(SUM(I15)/$F15%,"-"))) -> 60.915493 | J17: =IF(OR($F15="X",J15="X",SUM($F15)=1,SUM($F15)=2),"X",IF(SUM($F15)=0,"nc",IFERROR(SUM(J15)/$F15%,"-"))) -> 18.309859 | K17: =IF(OR($F15="X",K15="X",SUM($F15)=1,SUM($F15)=2),"X",IF(SUM($F15)=0,"nc",IFERROR(SUM(K15)/$F15%,"-"))) -> 6.6901408 | L17: =IF(OR($F15="X",L15="X",SUM($F15)=1,SUM($F15)=2),"X",IF(SUM($F15)=0,"nc",IFERROR(SUM(L15)/$F15%,"-"))) -> 0.70422535 | M17: =IF(OR($F15="X",M15="X",SUM($F15)=1,SUM($F15)=2),"X",IF(SUM($F15)=0,"nc",IFERROR(SUM(M15)/$F15%,"-"))) -> 0.70422535 | N17: =IF(OR($F15="X",N15="X",SUM($F15)=1,SUM($F15)=2),"X",IF(SUM($F15)=0,"nc",IFERROR(SUM(N15)/$F15%,"-"))) -> 21.126761
E18: 県計 | F18: =IF(OR('2015年'!E6="X",'2015年'!$E$6="X"),"X",IF(SUM('2015年'!$E$6)=0,"nc",IFERROR('2015年'!E6/'2015年'!$E$6%,"-"))) -> 100 | G18: =IF(OR('2015年'!F6="X",'2015年'!$E$6="X",SUM('2015年'!$E$6)=1,SUM('2015年'!$E$6)=2),"X",IF(SUM('2015年'!$E$6)=0,"nc",IFERROR('2015年'!F6/'2015年'!$E$6%,"-"))) -> 1.5581525 | H18: =IF(OR('2015年'!G6="X",'2015年'!$E$6="X",SUM('2015年'!$E$6)=1,SUM('2015年'!$E$6)=2),"X",IF(SUM('2015年'!$E$6)=0,"nc",IFERROR('2015年'!G6/'2015年'!$E$6%,"-"))) -> 0.20033389 | I18: =IF(OR('2015年'!H6="X",'2015年'!$E$6="X",SUM('2015年'!$E$6)=1,SUM('2015年'!$E$6)=2),"X",IF(SUM('2015年'!$E$6)=0,"nc",IFERROR('2015年'!H6/'2015年'!$E$6%,"-"))) -> 0.96271564 | J18: =IF(OR('2015年'!I6="X",'2015年'!$E$6="X",SUM('2015年'!$E$6)=1,SUM('2015年'!$E$6)=2),"X",IF(SUM('2015年'!$E$6)=0,"nc",IFERROR('2015年'!I6/'2015年'!$E$6%,"-"))) -> 0.28937117 | K18: =IF(OR('2015年'!J6="X",'2015年'!$E$6="X",SUM('2015年'!$E$6)=1,SUM('2015年'!$E$6)=2),"X",IF(SUM('2015年'!$E$6)=0,"nc",IFERROR('2015年'!J6/'2015年'!$E$6%,"-"))) -> 0.10573178 | L18: =IF(OR('2015年'!K6="X",'2015年'!$E$6="X",SUM('2015年'!$E$6)=1,SUM('2015年'!$E$6)=2),"X",IF(SUM('2015年'!$E$6)=0,"nc",IFERROR('2015年'!K6/'2015年'!$E$6%,"-"))) -> 0.011129661 | M18: =IF(OR('2015年'!L6="X",'2015年'!$E$6="X",SUM('2015年'!$E$6)=1,SUM('2015年'!$E$6)=2),"X",IF(SUM('2015年'!$E$6)=0,"nc",IFERROR('2015年'!L6/'2015年'!$E$6%,"-"))) -> 98.430718 | N18: =IF(OR('2015年'!M6="X",'2015年'!$E$6="X",SUM('2015年'!$E$6)=1,SUM('2015年'!$E$6)=2),"X",IF(SUM('2015年'!$E$6)=0,"nc",IFERROR('2015年'!M6/'2015年'!$E$6%,"-"))) -> 10.628826
E19: うち組織 | F19: =IF(OR('2015年'!N6="X",'2015年'!$N$6="X"),"X",IF(SUM('2015年'!$N$6)=0,"nc",IFERROR('2015年'!N6/'2015年'!$N$6%,"-"))) -> 100 | G19: =IF(OR('2015年'!O6="X",'2015年'!$N$6="X",SUM('2015年'!$N$6)=1,SUM('2015年'!$N$6)=2),"X",IF(SUM('2015年'!$N$6)=0,"nc",IFERROR('2015年'!O6/'2015年'!$N$6%,"-"))) -> 98.591549 | H19: =IF(OR('2015年'!P6="X",'2015年'!$N$6="X",SUM('2015年'!$N$6)=1,SUM('2015年'!$N$6)=2),"X",IF(SUM('2015年'!$N$6)=0,"nc",IFERROR('2015年'!P6/'2015年'!$N$6%,"-"))) -> 12.676056 | I19: =IF(OR('2015年'!Q6="X",'2015年'!$N$6="X",SUM('2015年'!$N$6)=1,SUM('2015年'!$N$6)=2),"X",IF(SUM('2015年'!$N$6)=0,"nc",IFERROR('2015年'!Q6/'2015年'!$N$6%,"-"))) -> 60.915493 | J19: =IF(OR('2015年'!R6="X",'2015年'!$N$6="X",SUM('2015年'!$N$6)=1,SUM('2015年'!$N$6)=2),"X",IF(SUM('2015年'!$N$6)=0,"nc",IFERROR('2015年'!R6/'2015年'!$N$6%,"-"))) -> 18.309859 | K19: =IF(OR('2015年'!S6="X",'2015年'!$N$6="X",SUM('2015年'!$N$6)=1,SUM('2015年'!$N$6)=2),"X",IF(SUM('2015年'!$N$6)=0,"nc",IFERROR('2015年'!S6/'2015年'!$N$6%,"-"))) -> 6.6901408 | L19: =IF(OR('2015年'!T6="X",'2015年'!$N$6="X",SUM('2015年'!$N$6)=1,SUM('2015年'!$N$6)=2),"X",IF(SUM('2015年'!$N$6)=0,"nc",IFERROR('2015年'!T6/'2015年'!$N$6%,"-"))) -> 0.70422535 | M19: =IF(OR('2015年'!U6="X",'2015年'!$N$6="X",SUM('2015年'!$N$6)=1,SUM('2015年'!$N$6)=2),"X",IF(SUM('2015年'!$N$6)=0,"nc",IFERROR('2015年'!U6/'2015年'!$N$6%,"-"))) -> 0.70422535 | N19: =IF(OR('2015年'!V6="X",'2015年'!$N$6="X",SUM('2015年'!$N$6)=1,SUM('2015年'!$N$6)=2),"X",IF(SUM('2015年'!$N$6)=0,"nc",IFERROR('2015年'!V6/'2015年'!$N$6%,"-"))) -> 21.126761
C22: 農業労働力（雇用者）
D23: =IFERROR("◎ 雇用者ありの経営体数の割合（"&TEXT(F34,"0.0")&"%）は "&IF(AB32=0,"",TEXT(ABS(AB32),"0.0")&"ポイント ")&AB33&AB34&"１経営体当たり雇用者のべ人日（"&TEXT(G34,"0.0")&"人日）は "&IF(AC32=0,"",TEXT(ABS(AC32),"0.0人日 "))&AC33,"") -> ◎ 雇用者ありの経営体数の割合（36.3%）は 6.4ポイント 前回より低下し、１経営体当たり雇用者のべ人日（122.1人日）は 30.8人日 増加
K24: 《雇用者有無別経営体数割合》
F25: 雇用者あり | J25: 雇用者なし
F26: 経営体数 | G26: 雇用者のべ 人日 | H26: うち常雇 | K26: =IF(LEFT(R26,1)="県",D32,Z3) -> 山梨県 | R26: 前回との比較
H27: 経営体数 | I27: 雇用者 のべ人日 | K27: ="外円：" -> 外円： | L27: =Z32 -> 2015年 | O27: 《１経営体当たり雇用者のべ人日》
K28: ="内円：" -> 内円： | L28: =Z31 -> 2010年 | O28: =IF(LEFT(R26,1)="県",D32,Z3) -> 山梨県
F29: （経営体） | G29: （人日） | H29: （経営体） | I29: （人日） | J29: （経営体）
D30: 2010年 | F30: =OFFSET('2010年'!$A$1,$V$3,$W31+E$1) -> 9089 | G30: =OFFSET('2010年'!$A$1,$V$3,$W31+F$1) -> 829475 | H30: =OFFSET('2010年'!$A$1,$V$3,$W31+G$1) -> 357 | I30: =OFFSET('2010年'!$A$1,$V$3,$W31+H$1) -> 228374 | J30: =OFFSET('2010年'!$A$1,$V$3,$W31+I$1) -> 12220 | O30: （人日） | Q30: （人日） | V30: 列番号 | X30: グラフ行番号 | Z30: 凡例 | AA30: 縦棒左 | AB30: 概要
E31: うち組織 | F31: =OFFSET('2010年'!$A$1,$V$3,$W31+J$1) -> 168 | G31: =OFFSET('2010年'!$A$1,$V$3,$W31+K$1) -> 227147 | H31: =OFFSET('2010年'!$A$1,$V$3,$W31+L$1) -> 83 | I31: =OFFSET('2010年'!$A$1,$V$3,$W31+M$1) -> 115182 | J31: =OFFSET('2010年'!$A$1,$V$3,$W31+N$1) -> 61 | V31: 2010年 | W31: =CELL("col",'2010年'!W5)-1 -> 22 | X31: 外円 | Y31: =IF(LEFT(R26,1)="県",4,2) -> 2 | Z31: =IF(LEFT(R26,1)="県",$D$4,$D30) -> 2010年 | AA31: データ | AB31: 経営体 | AC31: 延べ人数
D32: 2015年 | F32: =OFFSET('2015年'!$A$1,$V$4,$W32+E1) -> 6526 | G32: =OFFSET('2015年'!$A$1,$V$4,$W32+F1) -> 796670 | H32: =OFFSET('2015年'!$A$1,$V$4,$W32+G1) -> 623 | I32: =OFFSET('2015年'!$A$1,$V$4,$W32+H1) -> 397198 | J32: =OFFSET('2015年'!$A$1,$V$4,$W32+I1) -> 11444 | V32: 2015年 | W32: =CELL("col",'2015年'!W5)-1 -> 22 | X32: 内円 | Y32: =IF(LEFT(R26,1)="県",6,0) -> 0 | Z32: =IF(LEFT(R26,1)="県",Z3,D32) -> 2015年 | AA32: =IF(LEFT(R26,1)="県",G36,G30/F30) -> 91.261415 | AB32: =ROUND(F34,1)-ROUND(IF(LEFT(R26,1)="県",F36,F30/F12%),1) -> -6.4 | AC32: =IFERROR(ROUND(G34,1)-ROUND(IF(LEFT(R26,1)="県",G36,SUM(G30)/$F30),1),"") -> 30.8
E33: うち組織 | F33: =OFFSET('2015年'!$A$1,$V$4,$W32+J1) -> 238 | G33: =OFFSET('2015年'!$A$1,$V$4,$W32+K1) -> 333277 | H33: =OFFSET('2015年'!$A$1,$V$4,$W32+L1) -> 186 | I33: =OFFSET('2015年'!$A$1,$V$4,$W32+M1) -> 277107 | J33: =OFFSET('2015年'!$A$1,$V$4,$W32+N1) -> 46 | X33: 縦棒左 | Y33: =IF(LEFT(R26,1)="県",3,1) -> 1 | Z33: =IF(LEFT(R26,1)="県",Z4,D32) -> 2015年 | AA33: =IF(LEFT(R26,1)="県",G37,IF(OR(G31="X",F31="X"),"X",IF(F31="-","nc",IF(G31="-","-",G31/F31)))) -> 1352.0655 | AB33: =IF(LEFT(R26,1)="県","県平均","前回") -> 前回 | AC33: =IFERROR(CHOOSE(SIGN(AC32)+2+IF(LEFT(R26,1)="県",3,0),"減少","変化なし","増加","下回る","同じ","上回る"),"") -> 増加
D34: 構成比(%)※ | F34: =IF(OR($F14="X",F32="X"),"X",IF(SUM($F14)=0,"nc",IFERROR(F32/$F14%,"-"))) -> 36.316082 | G34: =IF(OR($F32="X",G32="X"),"X",IF(SUM($F32)=0,"nc",IFERROR(SUM(G32)/$F32,"-"))) -> 122.07631 | H34: =IF(OR(H32="X",$F14="X"),"X",IF(SUM($F14)=0,"nc",IFERROR(H32/$F14%,"-"))) -> 3.4668893 | I34: =IF(OR($H32="X",I32="X"),"X",IF(SUM($H32)=0,"nc",IFERROR(SUM(I32)/$H32,"-"))) -> 637.55698 | J34: =IF(OR(J32="X",F14="X"),"X",IF(SUM(F14)=0,"nc",IFERROR(J32/F14%,"nc"))) -> 63.683918 | X34: 縦棒右 | Y34: =IF(LEFT(R26,1)="県",2,2) -> 2 | AB34: =CHOOSE(SIGN(AB32)+2+IF(LEFT(R26,1)="県",3,0),"より低下し","から変化なし","より上昇し","を下回り","と同率","を上回り")&"、" -> より低下し、
E35: うち組織 | F35: =IF(OR($F15="X",F33="X"),"X",IF(SUM($F15)=0,"nc",IFERROR(F33/$F15%,"-"))) -> 83.802817 | G35: =IF(OR($F33="X",G33="X"),"X",IF(SUM($F33)=0,"nc",IFERROR(SUM(G33)/$F33,"-"))) -> 1400.3235 | H35: =IF(OR(H33="X",$F15="X"),"X",IF(SUM($F15)=0,"nc",IFERROR(H33/$F15%,"-"))) -> 65.492958 | I35: =IF(OR($H33="X",I33="X"),"X",IF(SUM($H33)=0,"nc",IFERROR(SUM(I33)/$H33,"-"))) -> 1489.8226 | J35: =IF(OR(J33="X",F15="X"),"X",IF(SUM(F15)=0,"nc",IFERROR(J33/F15%,"-"))) -> 16.197183
E36: 県計 | F36: =IF(OR('2015年'!W6="X",'2015年'!$E6="X"),"X",IF(SUM('2015年'!$E6)=0,"nc",IFERROR('2015年'!W6/'2015年'!$E6%,"-"))) -> 36.316082 | G36: =IF(OR('2015年'!X6="X",'2015年'!W6="X"),"X",IF(SUM('2015年'!W6)=0,"nc",IFERROR('2015年'!X6/'2015年'!W6,"-"))) -> 122.07631 | H36: =IF(OR('2015年'!Y6="X",'2015年'!$E6="X"),"X",IF(SUM('2015年'!$E6)=0,"nc",IFERROR('2015年'!Y6/'2015年'!$E6%,"-"))) -> 3.4668893 | I36: =IF(OR('2015年'!Z6="X",'2015年'!Y6="X"),"X",IF(SUM('2015年'!Y6)=0,"nc",IFERROR('2015年'!Z6/'2015年'!Y6,"-"))) -> 637.55698 | J36: =IF(OR('2015年'!AA6="X",'2015年'!E6="X"),"X",IF(SUM('2015年'!E6)=0,"nc",IFERROR('2015年'!AA6/'2015年'!E6%,"-"))) -> 63.683918
E37: うち組織 | F37: =IF(OR('2015年'!AB6="X",'2015年'!$N$6="X"),"X",IF(SUM('2015年'!$N$6)=0,"nc",IFERROR('2015年'!AB6/'2015年'!$N$6%,"-"))) -> 83.802817 | G37: =IF(OR('2015年'!AC6="X",'2015年'!AB6="X"),"X",IF(SUM('2015年'!AB6)=0,"nc",IFERROR('2015年'!AC6/'2015年'!AB6,"-"))) -> 1400.3235 | H37: =IF(OR('2015年'!AD6="X",'2015年'!$N$6="X"),"X",IF(SUM('2015年'!$N$6)=0,"nc",IFERROR('2015年'!AD6/'2015年'!$N$6%,"-"))) -> 65.492958 | I37: =IF(OR('2015年'!AE6="X",'2015年'!AD6="X"),"X",IF(SUM('2015年'!AD6)=0,"nc",IFERROR('2015年'!AE6/'2015年'!AD6,"-"))) -> 1489.8226 | J37: =IF(OR('2015年'!AF6="X",'2015年'!$N$6="X"),"X",IF(SUM('2015年'!$N$6)=0,"nc",IFERROR('2015年'!AF6/'2015年'!$N$6%,"-"))) -> 16.197183
D38: ※：構成比欄は、農業経営体数合計に対する割合、なお（ ）は１経営体当たりの人日
C40: 経営体数
D41: =IFERROR("◎ １経営体当たりの経営耕地面積（"&TEXT(G47,"0.00")&"ha）は"&AD46&AD47&AD49,"") -> ◎ １経営体当たりの経営耕地面積（0.82ha）は前回を 0.06ha 上回り、うち組織（6.97ha）は前回を 0.38ha 下回る
S42: ="単位："&IF(RIGHT(C40,2)="面積","ha","経営体") -> 単位：経営体 | X42: ※参照元の面積のデータが「ａ単位」の場合は、数式の除数を100に修正
F43: ="経営耕地"&CHAR(10)&IF(RIGHT(C40,2)="面積","面積計","のある"&CHAR(10)&"経営体計") -> 経営耕地 のある 経営体計 | H43: 0.5ha 未満 | I43: 0.5 ～ 1.0 | J43: 1.0 ～ 2.0 | K43: 2.0 ～ 3.0 | L43: 3.0 ～ 5.0 | M43: 5.0 ～ 10.0 | N43: 10.0～ 20.0 | O43: 20.0～ 30.0 | P43: 30.0～ 50.0 | Q43: 50.0～ 100.0 | R43: 100ha 以上 | S43: ="借入耕地面積"&IF(RIGHT(C40,2)="面積","","(ha)") -> 借入耕地面積(ha)
F44: 経営耕地のある経営体 | G44: ="1経営体当たり 面積"&IF(RIGHT(C40,2)="面積","","(ha)") -> 1経営体当たり 面積(ha) | V44: 列番号 | X44: 除数 | Y44: 縦棒左 | Z44: 縦棒右 | AA44: 凡例 | AB44: 借入耕地面積率 | AD44: 概要
...

Sheet 2015年
A1: 都道府県名 (支庁名) | B1: 市区町村名 | C1: 旧市区町村名 | E1: （１）組織形態別経営体数（農業経営体） | M1: （１）認定農業者 | N1: （１）組織形態別経営体数（うち組織） | V1: （１）認定農業者 | W1: （３）雇用者（農業経営体） | AB1: （３）雇用者（うち組織） | AG1: （２）経営耕地面積規模別経営体数（農業経営体） | AU1: （２）経営耕地面積規模別経営体数（うち組織経営体） | BI1: （３）経営耕地面積規模別面積（農業経営体） | BX1: （３）経営耕地面積規模別面積（うち組織経営体） | CM1: （４）農産物販売金額１位の部門別経営体数（農業経営体） | DC1: （４）農産物販売金額１位の部門別経営体数（うち組織経営体） | DS1: （１）販売目的で作付け（栽培）した作物の類別作付（栽培）経営体数（農業経営体） | EG1: （２）販売目的で作付け（栽培）した作物の類別作付（栽培）面積（農業経営体） | EU1: （１）販売目的で作付け（栽培）した作物の類別作付（栽培）経営体数（うち組織経営体） | FI1: （２）販売目的で作付け（栽培）した作物の類別作付（栽培）面積（うち組織経営体） | FW1: 農業生産関連事業を行っている実経営体数（農業経営体） | GF1: 農業生産関連事業を行っている実経営体数（組織経営体） | GO1: （１）農作業を受託した経営体の事業部門別経営体数（農業経営体） | GV1: （参考）農産物販売金額規模別経営体数 | HE1: （参考）農産物販売金額規模別経営体数（うち組織） | HO1: 基本指標
F2: 法 人 化 し て い る | M2: のいる農業経営体 | O2: 法 人 化 し て い る | V2: のいる農業経営体 | W2: 雇い入れた | X2: のべ人日 | Y2: （６）常雇 | AA2: 雇用者なし | AB2: 雇い入れた | AC2: のべ人日 | AD2: （６）常雇 | AF2: 雇用者なし | CP2: 雑 穀 ・ | DF2: 雑 穀 ・ | DT2: 麦類 | DV2: 雑穀 | DW2: いも類 | DY2: 豆類 | EA2: 工芸農作物 | EB2: 野菜 | ED2: 果樹 | EF2: 花き・花木 | EH2: 麦類 | EJ2: 雑穀 | EK2: いも類 | EM2: 豆類 | EO2: 工芸農作物 | EP2: 野菜 | ER2: 果樹 | ET2: 花き・花木 | EV2: 麦類 | EX2: 雑穀 | EY2: いも類 | FA2: 豆類 | FC2: 工芸農作物 | FD2: 野菜 | FF2: 果樹 | FH2: 花き・花木 | FJ2: 麦類 | FL2: 雑穀 | FM2: いも類 | FO2: 豆類 | FQ2: 工芸農作物 | FR2: 野菜 | FT2: 果樹 | FV2: 花き・花木 | FW2: 農業生産関連事業を行っている実経営体数 | GF2: 農業生産関連事業を行っている実経営体数 | GO2: 実経営体数 | GQ2: 耕 種 部 門 | GT2: 畜産部門 | GU2: 受託収入 | GV2: 計 | GW2: 50未満 | GX2: 50～300 | GY2: 300～1000 | GZ2: 1000～3000 | HA2: 3000以上 | HB2: 3,000～5,000 | HC2: 5,000～1億 | HD2: １億以上 | HE2: 計 | HF2: 50未満 | HG2: 50～300 | HH2: 300～1000 | HI2: 1000～3000 | HJ2: 3000以上 | HK2: 3,000～5,000 | HL2: 5,000～1億 | HM2: １億以上 | HO2: 都道府県 | HP2: 支庁 | HQ2: 市区町村 | HR2: 旧市区町村 | HS2: 農業集落
E3: 合計 | F3: 計 | G3: 農事組合 法 人 | H3: 会社 | I3: 各種団体 | J3: その他の 法 人 | K3: 地方公共団体・ | L3: 法人化し ていない | M3: （農業経営体） | N3: 合計 | O3: 計 | P3: 農事組合 法 人 | Q3: 会社 | R3: 各種団体 | S3: その他の 法 人 | T3: 地方公共団体・ | U3: 法人化し ていない | V3: （うち組織） | W3: 実経営体数 | Y3: 雇い入れた | Z3: のべ人日 | AB3: 実経営体数 | AD3: 雇い入れた | AE3: のべ人日 | AG3: 計 | AH3: 0.3ha未満 | AI3: 0.3～0.5ha | AJ3: 0.5 ～ 1.0 | AK3: 1.0 ～ 1.5 | AL3: 1.5 ～ 2.0 | AM3: 2.0 ～ 3.0 | AN3: 3.0 ～ 5.0 | AO3: 5.0 ～10.0 | AP3: 10.0～20.0 | AQ3: 20.0～30.0 | AR3: 30.0～50.0 | AS3: 50.0～100.0 | AT3: 100ha以上 | AU3: 計 | AV3: 0.3ha未満 | AW3: 0.3～0.5ha | AX3: 0.5 ～ 1.0 | AY3: 1.0 ～ 1.5 | AZ3: 1.5 ～ 2.0 | BA3: 2.0 ～ 3.0 | BB3: 3.0 ～ 5.0 | BC3: 5.0 ～10.0 | BD3: 10.0～20.0 | BE3: 20.0～30.0 | BF3: 30.0～50.0 | BG3: 50.0～100.0 | BH3: 100ha以上 | BI3: 計 | BJ3: 0.3ha未満 | BK3: 0.3～0.5ha | BL3: 0.5 ～ 1.0 | BM3: 1.0 ～ 1.5 | BN3: 1.5 ～ 2.0 | BO3: 2.0 ～ 3.0 | BP3: 3.0 ～ 5.0 | BQ3: 5.0 ～10.0 | BR3: 10.0～20.0 | BS3: 20.0～30.0 | BT3: 30.0～50.0 | BU3: 50.0～100.0 | BV3: 100ha以上 | BW3: 借入耕地面積 | BX3: 計 | BY3: 0.3ha未満 | BZ3: 0.3～0.5ha | CA3: 0.5 ～ 1.0 | CB3: 1.0 ～ 1.5 | CC3: 1.5 ～ 2.0 | CD3: 2.0 ～ 3.0 | CE3: 3.0 ～ 5.0 | CF3: 5.0 ～10.0 | CG3: 10.0～20.0 | CH3: 20.0～30.0 | CI3: 30.0～50.0 | CJ3: 50.0～100.0 | CK3: 100ha以上 | CL3: 借入耕地面積 | CM3: 計 | CN3: 稲 作 | CO3: 麦 類 作 | CP3: い も 類 | CQ3: 工芸農作物 | CR3: 露地野菜 | CS3: 施設野菜 | CT3: 果 樹 類 | CU3: 花き・花木 | CV3: その他の 作 物 | CW3: 酪 農 | CX3: 肉 用 牛 | CY3: 養 豚 | CZ3: 養 鶏 | DA3: 養 蚕 | DB3: その他の 畜 産 | DC3: 計 | DD3: 稲 作 | DE3: 麦 類 作 | DF3: い も 類 | DG3: 工芸農作物 | DH3: 露地野菜 | DI3: 施設野菜 | DJ3: 果 樹 類 | DK3: 花き・花木 | DL3: その他の 作 物 | DM3: 酪 農 | DN3: 肉 用 牛 | DO3: 養 豚 | DP3: 養 鶏 | DQ3: 養 蚕 | DR3: その他の 畜 産 | DS3: 水稲 | DT3: 小麦 | DU3: 大麦・裸麦 | DW3: ばれいしょ | DX3: かんしょ | DZ3: うち大豆 | EB3: 露地 | EC3: 施設 | ED3: 露地 | EE3: 施設 | EG3: 水稲 | EH3: 小麦 | EI3: 大麦・裸麦 | EK3: ばれいしょ | EL3: かんしょ | EN3: うち大豆 | EP3: 露地 | EQ3: 施設 | ER3: 露地 | ES3: 施設 | EU3: 水稲 | EV3: 小麦 | EW3: 大麦・裸麦 | EY3: ばれいしょ | EZ3: かんしょ | FB3: うち大豆 | FD3: 露地 | FE3: 施設 | FF3: 露地 | FG3: 施設 | FI3: 水稲 | FJ3: 小麦 | FK3: 大麦・裸麦 | FM3: ばれいしょ | FN3: かんしょ | FP3: うち大豆 | FR3: 露地 | FS3: 施設 | FT3: 露地 | FU3: 施設 | FX3: 農 産 物の 加 工 | FY3: 消費者に直接販売 | FZ3: 貸農園・体験農園等 | GA3: 観光農園 | GB3: 農家民宿 | GC3: 農家レストラン | GD3: 海外への 輸 出 | GE3: その他 | GG3: 農 産 物の 加 工 | GH3: 消費者に直接販売 | GI3: 貸農園・体験農園等 | GJ3: 観光農園 | GK3: 農家民宿 | GL3: 農家レストラン | GM3: 海外への 輸 出 | GN3: その他 | GQ3: 実経営体数 | GT3: の作業を | GU3: １００万円
K4: 財産区 | T4: 財産区 | Y4: 経営体数 | AD4: 経営体数 | CP4: ・ 豆 類 | DF4: ・ 豆 類 | GP4: うち組織経営体 | GR4: うち水稲作 | GS4: うち野菜作 | GT4: 受託した | GU4: 以上
GT5: 経営体数
A6: 山梨県 | D6: 000-00 | E6: 17970 | F6: 280 | G6: 36 | H6: 173 | I6: 52 | J6: 19 | K6: 2 | L6: 17688 | M6: 1910 | N6: 284 | O6: 280 | P6: 36 | Q6: 173 | R6: 52 | S6: 19 | T6: 2 | U6: 2 | V6: 60 | W6: 6526 | X6: 796670 | Y6: 623 | Z6: 397198 | AA6: 11444 | AB6: 238 | AC6: 333277 | AD6: 186 | AE6: 277107 | AF6: 46 | AG6: 17853 | AH6: 1460 | AI6: 4757 | AJ6: 8010 | AK6: 2418 | AL6: 608 | AM6: 302 | AN6: 159 | AO6: 92 | AP6: 31 | AQ6: 8 | AR6: 5 | AS6: 2 | AT6: 1 | AU6: 206 | AV6: 11 | AW6: 13 | AX6: 30 | AY6: 25 | AZ6: 13 | BA6: 30 | BB6: 28 | BC6: 29 | BD6: 15 | BE6: 4 | BF6: 5 | BG6: 2 | BH6: 1 | BI6: 1463223 | BJ6: 28624 | BK6: 181601 | BL6: 553010 | BM6: 281982 | BN6: 101241 | BO6: 70339 | BP6: 57693 | BQ6: 61422 | BR6: 40842 | BS6: 17927 | BT6: 19839 | BU6: 14503 | BV6: 34200 | BW6: 388192 | BX6: 143557 | BY6: 227 | BZ6: 468 | CA6: 2170 | CB6: 2942 | CC6: 2229 | CD6: 6909 | CE6: 10247 | CF6: 20748 | CG6: 19688 | CH6: 9387 | CI6: 19839 | CJ6: 14503 | CK6: 34200 | CL6: 129553 | CM6: 16320 | CN6: 3576 | CO6: 10 | CP6: 128 | CQ6: 66 | CR6: 1138 | CS6: 243 | CT6: 10813 | CU6: 161 | CV6: 39 | CW6: 62 | CX6: 30 | CY6: 15 | CZ6: 29 | DA6: 2 | DB6: 8 | DC6: 232 | DD6: 28 | DE6: - | DF6: 19 | DG6: 2 | DH6: 35 | DI6: 23 | DJ6: 72 | DK6: 23 | DL6: 11 | DM6: 2 | DN6: 2 | DO6: 4 | DP6: 10 | DQ6: - | DR6: 1 | DS6: 5256 | DT6: 104 | DU6: 21 | DV6: 251 | DW6: 624 | DX6: 86 | DY6: 503 | DZ6: 347 | EA6: 130 | EB6: 3127 | EC6: 427 | ED6: 11787 | EE6: 559 | EF6: 306 | EG6: 264431 | EH6: 5632 | EI6: 3091 | EJ6: 19998 | EK6: 3271 | EL6: 431 | EM6: 15993 | EN6: 14681 | EO6: 3786 | EP6: 100598 | EQ6: 7823 | ER6: 700219 | ES6: 10576 | ET6: 9511 | EU6: 54 | EV6: 11 | EW6: 6 | EX6: 12 | EY6: 20 | EZ6: 6 | FA6: 27 | FB6: 25 | FC6: 7 | FD6: 71 | FE6: 36 | FF6: 90 | FG6: 15 | FH6: 27 | FI6: 17144 | FJ6: 3295 | FK6: 2445 | FL6: 13027 | FM6: 620 | FN6: 154 | FO6: 9434 | FP6: 9348 | FQ6: 989 | FR6: 16214 | FS6: 1604 | FT6: 22530 | FU6: 620 | FV6: 1269 | FW6: 4083 | FX6: 423 | FY6: 3872 | FZ6: 69 | GA6: 643 | GB6: 12 | GC6: 24 | GD6: 13 | GE6: 30 | GF6: 185 | GG6: 94 | GH6: 147 | GI6: 20 | GJ6: 35 | GK6: 2 | GL6: 11 | GM6: 11 | GN6: 10 | GO6: 639 | GP6: 78 | GQ6: 636 | GR6: 443 | GS6: 25 | GT6: 4 | GU6: 149 | GV6: 16320 | GW6: 4525 | GX6: 7029 | GY6: 3975 | GZ6: 652 | HA6: 139 | HB6: 70 | HC6: 40 | HD6: 29 | HE6: 232 | HF6: 14 | HG6: 43 | HH6: 54 | HI6: 56 | HJ6: 65 | HK6: 24 | HL6: 20 | HM6: 21 | HN6: 1900000000 | HO6: 19 | HP6: 00 | HQ6: 000 | HR6: 00 | HS6: 000
A7: 山梨県 | B7: 甲府市 | D7: 201-00 | E7: 1195 | F7: 11 | G7: - | H7: 9 | I7: 2 | J7: - | K7: - | L7: 1184 | M7: 238 | N7: 11 | O7: 11 | P7: - | Q7: 9 | R7: 2 | S7: - | T7: - | U7: - | V7: 2 | W7: 380 | X7: 42525 | Y7: 48 | Z7: 15227 | AA7: 815 | AB7: 11 | AC7: 12284 | AD7: 5 | AE7: 5300 | AF7: - | AG7: 1190 | AH7: 137 | AI7: 324 | AJ7: 496 | AK7: 169 | AL7: 36 | AM7: 17 | AN7: 8 | AO7: 3 | AP7: - | AQ7: - | AR7: - | AS7: - | AT7: - | AU7: 9 | AV7: - | AW7: 2 | AX7: 2 | AY7: - | AZ7: - | BA7: 1 | BB7: 2 | BC7: 2 | BD7: - | BE7: - | BF7: - | BG7: - | BH7: - | BI7: 83900 | BJ7: 2544 | BK7: 12229 | BL7: 34417 | BM7: 19473 | BN7: 6074 | BO7: 3999 | BP7: 3071 | BQ7: 2093 | BR7: - | BS7: - | BT7: - | BU7: - | BV7: - | BW7: 16092 | BX7: 2894 | BY7: - | BZ7: 67 | CA7: 140 | CB7: - | CC7: - | CD7: 280 | CE7: 830 | CF7: 1577 | CG7: - | CH7: - | CI7: - | CJ7: - | CK7: - | CL7: 2044 | CM7: 1086 | CN7: 120 | CO7: - | CP7: - | CQ7: - | CR7: 234 | CS7: 27 | CT7: 686 | CU7: 10 | CV7: 1 | CW7: - | CX7: 1 | CY7: 3 | CZ7: 1 | DA7: - | DB7: 3 | DC7: 9 | DD7: - | DE7: - | DF7: - | DG7: - | DH7: 2 | DI7: - | DJ7: 6 | DK7: 1 | DL7: - | DM7: - | DN7: - | DO7: - | DP7: - | DQ7: - | DR7: - | DS7: 335 | DT7: 6 | DU7: - | DV7: 4 | DW7: 28 | DX7: 1 | DY7: 19 | DZ7: 12 | EA7: X | EB7: 457 | EC7: X | ED7: 836 | EE7: 8 | EF7: 27 | EG7: 14307 | EH7: 61 | EI7: - | EJ7: 68 | EK7: 109 | EL7: X | EM7: X | EN7: 40 | EO7: X | EP7: X | EQ7: X | ER7: X | ES7: 115 | ET7: 290 | EU7: 1 | EV7: - | EW7: - | EX7: - | EY7: 1 | EZ7: - | FA7: - | FB7: - | FC7: - | FD7: 3 | FE7: X | FF7: X | FG7: 1 | FH7: 1 | FI7: X | FJ7: - | FK7: - | FL7: - | FM7: X | FN7: - | FO7: - | FP7: - | FQ7: - | FR7: X | FS7: X | FT7: X | FU7: X | FV7: X | FW7: 260 | FX7: 23 | FY7: 254 | FZ7: 6 | GA7: 24 | GB7: - | GC7: 2 | GD7: 1 | GE7: 1 | GF7: 7 | GG7: 5 | GH7: 7 | GI7: - | GJ7: 2 | GK7: - | GL7: 1 | GM7: 1 | GN7: - | GO7: 28 | GP7: 3 | GQ7: 28 | GR7: 17 | GS7: 3 | GT7: - | GU7: 4 | GV7: 1086 | GW7: 248 | GX7: 512 | GY7: 278 | GZ7: 44 | HA7: 4 | HB7: 2 | HC7: 1 | HD7: 1 | HE7: 9 | HF7: 1 | HG7: 2 | HH7: - | HI7: 5 | HJ7: 1 | HK7: - | HL7: 1 | HM7: - | HN7: 1920100000 | HO7: 19 | HP7: 00 | HQ7: 201 | HR7: 00 | HS7: 000
A8: 山梨県 | B8: 甲府市 | C8: 甲府市 | D8: 201-01 | E8: 172 | F8: 4 | G8: - | H8: 4 | I8: - | J8: - | K8: - | L8: 168 | M8: 12 | N8: 4 | O8: 4 | P8: - | Q8: 4 | R8: - | S8: - | T8: - | U8: - | V8: 1 | W8: 50 | X8: 8649 | Y8: 7 | Z8: 5178 | AA8: 122 | AB8: 4 | AC8: 5030 | AD8: 2 | AE8: 3640 | AF8: - | AG8: 172 | AH8: 46 | AI8: 67 | AJ8: 43 | AK8: 12 | AL8: - | AM8: 1 | AN8: 1 | AO8: 2 | AP8: - | AQ8: - | AR8: - | AS8: - | AT8: - | AU8: 4 | AV8: - | AW8: 1 | AX8: - | AY8: - | AZ8: - | BA8: 1 | BB8: - | BC8: 2 | BD8: - | BE8: - | BF8: - | BG8: - | BH8: - | BI8: 9712 | BJ8: 848 | BK8: 2494 | BL8: 2840 | BM8: 1353 | BN8: - | BO8: 280 | BP8: 320 | BQ8: 1577 | BR8: - | BS8: - | BT8: - | BU8: - | BV8: - | BW8: 2242 | BX8: 1887 | BY8: - | BZ8: 30 | CA8: - | CB8: - | CC8: - | CD8: 280 | CE8: - | CF8: 1577 | CG8: - | CH8: - | CI8: - | CJ8: - | CK8: - | CL8: 1317 | CM8: 145 | CN8: 26 | CO8: - | CP8: - | CQ8: - | CR8: 12 | CS8: 1 | CT8: 101 | CU8: 3 | CV8: - | CW8: - | CX8: - | CY8: - | CZ8: - | DA8: - | DB8: 2 | DC8: 4 | DD8: - | DE8: - | DF8: - | DG8: - | DH8: 1 | DI8: - | DJ8: 3 | DK8: - | DL8: - | DM8: - | DN8: - | DO8: - | DP8: - | DQ8: - | DR8: - | DS8: 39 | DT8: 1 | DU8: - | DV8: - | DW8: 3 | DX8: - | DY8: 1 | DZ8: - | EA8: - | EB8: 20 | EC8: X | ED8: 116 | EE8: 2 | EF8: 4 | EG8: 1340 | EH8: X | EI8: - | EJ8: - | EK8: 19 | EL8: - | EM8: X | EN8: - | EO8: - | EP8: X | EQ8: X | ER8: X | ES8: X | ET8: 133 | EU8: - | EV8: - | EW8: - | EX8: - | EY8: 1 | EZ8: - | FA8: - | FB8: - | FC8: - | FD8: 1 | FE8: 1 | FF8: 4 | FG8: 1 | FH8: - | FI8: - | FJ8: - | FK8: - | FL8: - | FM8: X | FN8: - | FO8: - | FP8: - | FQ8: - | FR8: X | FS8: X | FT8: X | FU8: X | FV8: - | FW8: 65 | FX8: 6 | FY8: 63 | FZ8: 4 | GA8: 2 | GB8: - | GC8: - | GD8: - | GE8: 1 | GF8: 4 | GG8: 3 | GH8: 4 | GI8: - | GJ8: - | GK8: - | GL8: - | GM8: - | GN8: - | GO8: 5 | GP8: 1 | GQ8: 5 | GR8: 2 | GS8: - | GT8: - | GU8: 1 | GV8: 145 | GW8: 57 | GX8: 63 | GY8: 19 | GZ8: 5 | HA8: 1 | HB8: - | HC8: 1 | HD8: - | HE8: 4 | HF8: - | HG8: - | HH8: - | HI8: 3 | HJ8: 1 | HK8: - | HL8: 1 | HM8: - | HN8: 1920101000 | HO8: 19 | HP8: 00 | HQ8: 201 | HR8: 01 | HS8: 000
A9: 山梨県 | B9: 甲府市 | C9: 山城村 | D9: 201-02 | E9: 68 | F9: 1 | G9: - | H9: 1 | I9: - | J9: - | K9: - | L9: 67 | M9: 16 | N9: 1 | O9: X | P9: X | Q9: X | R9: X | S9: X | T9: X | U9: X | V9: 1 | W9: 23 | X9: 2014 | Y9: 4 | Z9: 830 | AA9: 45 | AB9: X | AC9: X | AD9: X | AE9: X | AF9: X | AG9: 68 | AH9: 3 | AI9: 13 | AJ9: 29 | AK9: 16 | AL9: 1 | AM9: 4 | AN9: 1 | AO9: 1 | AP9: - | AQ9: - | AR9: - | AS9: - | AT9: - | AU9: X | AV9: X | AW9: X | AX9: X | AY9: X | AZ9: X | BA9: X | BB9: X | BC9: X | BD9: X | BE9: X | BF9: X | BG9: X | BH9: X | BI9: 6490 | BJ9: 46 | BK9: 516 | BL9: 2050 | BM9: 1952 | BN9: 180 | BO9: 911 | BP9: 319 | BQ9: 516 | BR9: - | BS9: - | BT9: - | BU9: - | BV9: - | BW9: 1746 | BX9: X | BY9: X | BZ9: X | CA9: X | CB9: X | CC9: X | CD9: X | CE9: X | CF9: X | CG9: X | CH9: X | CI9: X | CJ9: X | CK9: X | CL9: X | CM9: 65 | CN9: 13 | CO9: - | CP9: - | CQ9: - | CR9: 27 | CS9: 9 | CT9: 14 | CU9: 1 | CV9: - | CW9: - | CX9: - | CY9: - | CZ9: 1 | DA9: - | DB9: - | DC9: X | DD9: X | DE9: X | DF9: X | DG9: X | DH9: X | DI9: X | DJ9: X | DK9: X | DL9: X | DM9: X | DN9: X | DO9: X | DP9: X | DQ9: X | DR9: X | DS9: 50 | DT9: - | DU9: - | DV9: - | DW9: 5 | DX9: - | DY9: 3 | DZ9: 2 | EA9: - | EB9: 45 | EC9: 14 | ED9: 27 | EE9: 1 | EF9: 5 | EG9: 2609 | EH9: - | EI9: - | EJ9: - | EK9: 5 | EL9: - | EM9: X | EN9: X | EO9: - | EP9: X | EQ9: X | ER9: X | ES9: X | ET9: 17 | EU9: X | EV9: X | EW9: X | EX9: X | EY9: X | EZ9: X | FA9: X | FB9: X | FC9: X | FD9: X | FE9: X | FF9: X | FG9: X | FH9: X | FI9: X | FJ9: X | FK9: X | FL9: X | FM9: X | FN9: X | FO9: X | FP9: X | FQ9: X | FR9: X | FS9: X | FT9: X | FU9: X | FV9: X | FW9: 23 | FX9: 2 | FY9: 23 | FZ9: - | GA9: 2 | GB9: - | GC9: - | GD9: - | GE9: - | GF9: X | GG9: X | GH9: X | GI9: X | GJ9: X | GK9: X | GL9: X | GM9: X | GN9: X | GO9: 3 | GP9: X | GQ9: 3 | GR9: 3 | GS9: - | GT9: - | GU9: 1 | GV9: 65 | GW9: 16 | GX9: 25 | GY9: 20 | GZ9: 4 | HA9: - | HB9: - | HC9: - | HD9: - | HE9: X | HF9: X | HG9: X | HH9: X | HI9: X | HJ9: X | HK9: X | HL9: X | HM9: X | HN9: 1920102000 | HO9: 19 | HP9: 00 | HQ9: 201 | HR9: 02 | HS9: 000
A10: 山梨県 | B10: 甲府市 | C10: 住吉村 | D10: 201-03 | E10: 60 | F10: - | G10: - | H10: - | I10: - | J10: - | K10: - | L10: 60 | M10: 4 | N10: - | O10: - | P10: - | Q10: - | R10: - | S10: - | T10: - | U10: - | V10: - | W10: 13 | X10: 399 | Y10: 1 | Z10: 15 | AA10: 47 | AB10: - | AC10: - | AD10: - | AE10: - | AF10: - | AG10: 60 | AH10: 2 | AI10: 27 | AJ10: 26 | AK10: 5 | AL10: - | AM10: - | AN10: - | AO10: - | AP10: - | AQ10: - | AR10: - | AS10: - | AT10: - | AU10: - | AV10: - | AW10: - | AX10: - | AY10: - | AZ10: - | BA10: - | BB10: - | BC10: - | BD10: - | BE10: - | BF10: - | BG10: - | BH10: - | BI10: 3456 | BJ10: 35 | BK10: 1003 | BL10: 1864 | BM10: 554 | BN10: - | BO10: - | BP10: - | BQ10: - | BR10: - | BS10: - | BT10: - | BU10: - | BV10: - | BW10: 127 | BX10: - | BY10: - | BZ10: - | CA10: - | CB10: - | CC10: - | CD10: - | CE10: - | CF10: - | CG10: - | CH10: - | CI10: - | CJ10: - | CK10: - | CL10: - | CM10: 49 | CN10: 21 | CO10: - | CP10: - | CQ10: - | CR10: 11 | CS10: 1 | CT10: 14 | CU10: 2 | CV10: - | CW10: - | CX10: - | CY10: - | CZ10: - | DA10: - | DB10: - | DC10: - | DD10: - | DE10: - | DF10: - | DG10: - | DH10: - | DI10: - | DJ10: - | DK10: - | DL10: - | DM10: - | DN10: - | DO10: - | DP10: - | DQ10: - | DR10: - | DS10: 40 | DT10: - | DU10: - | DV10: - | DW10: 3 | DX10: 1 | DY10: 1 | DZ10: 1 | EA10: - | EB10: 23 | EC10: 3 | ED10: 22 | EE10: - | EF10: 6 | EG10: 1433 | EH10: - | EI10: - | EJ10: - | EK10: 5 | EL10: X | EM10: X | EN10: X | EO10: - | EP10: X | EQ10: X | ER10: X | ES10: - | ET10: X | EU10: - | EV10: - | EW10: - | EX10: - | EY10: - | EZ10: - | FA10: - | FB10: - | FC10: - | FD10: - | FE10: - | FF10: - | FG10: - | FH10: - | FI10: - | FJ10: - | FK10: - | FL10: - | FM10: - | FN10: - | FO10: - | FP10: - | FQ10: - | FR10: - | FS10: - | FT10: - | FU10: - | FV10: X | FW10: 11 | FX10: - | FY10: 11 | FZ10: - | GA10: - | GB10: - | GC10: - | GD10: - | GE10: - | GF10: - | GG10: - | GH10: - | GI10: - | GJ10: - | GK10: - | GL10: - | GM10: - | GN10: - | GO10: 2 | GP10: - | GQ10: 2 | GR10: 2 | GS10: - | GT10: - | GU10: - | GV10: 49 | GW10: 27 | GX10: 17 | GY10: 5 | GZ10: - | HA10: - | HB10: - | HC10: - | HD10: - | HE10: - | HF10: - | HG10: - | HH10: - | HI10: - | HJ10: - | HK10: - | HL10: - | HM10: - | HN10: 1920103000 | HO10: 19 | HP10: 00 | HQ10: 201 | HR10: 03 | HS10: 000
A11: 山梨県 | B11: 甲府市 | C11: 朝井村 | D11: 201-04 | E11: 54 | F11: - | G11: - | H11: - | I11: - | J11: - | K11: - | L11: 54 | M11: 11 | N11: - | O11: - | P11: - | Q11: - | R11: - | S11: - | T11: - | U11: - | V11: - | W11: 16 | X11: 1533 | Y11: 5 | Z11: 715 | AA11: 38 | AB11: - | AC11: - | AD11: - | AE11: - | AF11: - | AG11: 54 | AH11: - | AI11: 12 | AJ11: 18 | AK11: 20 | AL11: 1 | AM11: 3 | AN11: - | AO11: - | AP11: - | AQ11: - | AR11: - | AS11: - | AT11: - | AU11: - | AV11: - | AW11: - | AX11: - | AY11: - | AZ11: - | BA11: - | BB11: - | BC11: - | BD11: - | BE11: - | BF11: - | BG11: - | BH11: - | BI11: 4943 | BJ11: - | BK11: 451 | BL11: 1306 | BM11: 2341 | BN11: 180 | BO11: 665 | BP11: - | BQ11: - | BR11: - | BS11: - | BT11: - | BU11: - | BV11: - | BW11: 1036 | BX11: - | BY11: - | BZ11: - | CA11: - | CB11: - | CC11: - | CD11: - | CE11: - | CF11: - | CG11: - | CH11: - | CI11: - | CJ11: - | CK11: - | CL11: - | CM11: 47 | CN11: 14 | CO11: - | CP11: - | CQ11: - | CR11: 19 | CS11: 11 | CT11: 2 | CU11: 1 | CV11: - | CW11: - | CX11: - | CY11: - | CZ11: - | DA11: - | DB11: - | DC11: - | DD11: - | DE11: - | DF11: - | DG11: - | DH11: - | DI11: - | DJ11: - | DK11: - | DL11: - | DM11: - | DN11: - | DO11: - | DP11: - | DQ11: - | DR11: - | DS11: 47 | DT11: 1 | DU11: - | DV11: - | DW11: 1 | DX11: - | DY11: 1 | DZ11: 1 | EA11: - | EB11: 33 | EC11: 15 | ED11: 11 | EE11: - | EF11: 3 | EG11: 2672 | EH11: X | EI11: - | EJ11: - | EK11: X | EL11: - | EM11: X | EN11: X | EO11: - | EP11: X | EQ11: X | ER11: X | ES11: - | ET11: X | EU11: - | EV11: - | EW11: - | EX11: - | EY11: - | EZ11: - | FA11: - | FB11: - | FC11: - | FD11: - | FE11: - | FF11: - | FG11: - | FH11: - | FI11: - | FJ11: - | FK11: - | FL11: - | FM11: - | FN11: - | FO11: - | FP11: - | FQ11: - | FR11: - | FS11: - | FT11: - | FU11: - | FV11: X | FW11: 20 | FX11: 4 | FY11: 20 | FZ11: 1 | GA11: 12 | GB11: - | GC11: - | GD11: - | GE11: - | GF11: - | GG11: - | GH11: - | GI11: - | GJ11: - | GK11: - | GL11: - | GM11: - | GN11: - | GO11: - | GP11: - | GQ11: - | GR11: - | GS11: - | GT11: - | GU11: - | GV11: 47 | GW11: 12 | GX11: 17 | GY11: 12 | GZ11: 6 | HA11: - | HB11: - | HC11: - | HD11: - | HE11: - | HF11: - | HG11: - | HH11: - | HI11: - | HJ11: - | HK11: - | HL11: - | HM11: - | HN11: 1920104000 | HO11: 19 | HP11: 00 | HQ11: 201 | HR11: 04 | HS11: 000
A12: 山梨県 | B12: 甲府市 | C12: 玉諸村 | D12: 201-05 | E12: 138 | F12: - | G12: - | H12: - | I12: - | J12: - | K12: - | L12: 138 | M12: 30 | N12: - | O12: - | P12: - | Q12: - | R12: - | S12: - | T12: - | U12: - | V12: - | W12: 52 | X12: 5380 | Y12: 9 | Z12: 3029 | AA12: 86 | AB12: - | AC12: - | AD12: - | AE12: - | AF12: - | AG12: 138 | AH12: 28 | AI12: 39 | AJ12: 54 | AK12: 14 | AL12: 3 | AM12: - | AN12: - | AO12: - | AP12: - | AQ12: - | AR12: - | AS12: - | AT12: - | AU12: - | AV12: - | AW12: - | AX12: - | AY12: - | AZ12: - | BA12: - | BB12: - | BC12: - | BD12: - | BE12: - | BF12: - | BG12: - | BH12: - | BI12: 7876 | BJ12: 485 | BK12: 1431 | BL12: 3893 | BM12: 1584 | BN12: 483 | BO12: - | BP12: - | BQ12: - | BR12: - | BS12: - | BT12: - | BU12: - | BV12: - | BW12: 748 | BX12: - | BY12: - | BZ12: - | CA12: - | CB12: - | CC12: - | CD12: - | CE12: - | CF12: - | CG12: - | CH12: - | CI12: - | CJ12: - | CK12: - | CL12: - | CM12: 138 | CN12: - | CO12: - | CP12: - | CQ12: - | CR12: 1 | CS12: 1 | CT12: 136 | CU12: - | CV12: - | CW12: - | CX12: - | CY12: - | CZ12: - | DA12: - | DB12: - | DC12: - | DD12: - | DE12: - | DF12: - | DG12: - | DH12: - | DI12: - | DJ12: - | DK12: - | DL12: - | DM12: - | DN12: - | DO12: - | DP12: - | DQ12: - | DR12: - | DS12: - | DT12: - | DU12: - | DV12: - | DW12: - | DX12: - | DY12: - | DZ12: - | EA12: - | EB12: 2 | EC12: 2 | ED12: 138 | EE12: 2 | EF12: 1 | EG12: - | EH12: - | EI12: - | EJ12: - | EK12: - | EL12: - | EM12: - | EN12: - | EO12: - | EP12: X | EQ12: X | ER12: X | ES12: X | ET12: X | EU12: - | EV12: - | EW12: - | EX12: - | EY12: - | EZ12: - | FA12: - | FB12: - | FC12: - | FD12: - | FE12: - | FF12: - | FG12: - | FH12: - | FI12: - | FJ12: - | FK12: - | FL12: - | FM12: - | FN12: - | FO12: - | FP12: - | FQ12: - | FR12: - | FS12: - | FT12: - | FU12: - | FV12: X | FW12: 17 | FX12: 1 | FY12: 17 | FZ12: - | GA12: 1 | GB12: - | GC12: - | GD12: - | GE12: - | GF12: - | GG12: - | GH12: - | GI12: - | GJ12: - | GK12: - | GL12: - | GM12: - | GN12: - | GO12: - | GP12: - | GQ12: - | GR12: - | GS12: - | GT12: - | GU12: - | GV12: 138 | GW12: 19 | GX12: 65 | GY12: 52 | GZ12: 2 | HA12: - | HB12: - | HC12: - | HD12: - | HE12: - | HF12: - | HG12: - | HH12: - | HI12: - | HJ12: - | HK12: - | HL12: - | HM12: - | HN12: 1920105000 | HO12: 19 | HP12: 00 | HQ12: 201 | HR12: 05 | HS12: 000
A13: 山梨県 | B13: 甲府市 | C13: 甲運村 | D13: 201-06 | E13: 184 | F13: 1 | G13: - | H13: 1 | I13: - | J13: - | K13: - | L13: 183 | M13: 43 | N13: 1 | O13: X | P13: X | Q13: X | R13: X | S13: X | T13: X | U13: X | V13: - | W13: 81 | X13: 5891 | Y13: 4 | Z13: 670 | AA13: 103 | AB13: X | AC13: X | AD13: X | AE13: X | AF13: X | AG13: 184 | AH13: 45 | AI13: 38 | AJ13: 71 | AK13: 27 | AL13: 1 | AM13: 1 | AN13: 1 | AO13: - | AP13: - | AQ13: - | AR13: - | AS13: - | AT13: - | AU13: X | AV13: X | AW13: X | AX13: X | AY13: X | AZ13: X | BA13: X | BB13: X | BC13: X | BD13: X | BE13: X | BF13: X | BG13: X | BH13: X | BI13: 11096 | BJ13: 867 | BK13: 1414 | BL13: 5043 | BM13: 3022 | BN13: 160 | BO13: 220 | BP13: 370 | BQ13: - | BR13: - | BS13: - | BT13: - | BU13: - | BV13: - | BW13: 2233 | BX13: X | BY13: X | BZ13: X | CA13: X | CB13: X | CC13: X | CD13: X | CE13: X | CF13: X | CG13: X | CH13: X | CI13: X | CJ13: X | CK13: X | CL13: X | CM13: 180 | CN13: - | CO13: - | CP13: - | CQ13: - | CR13: - | CS13: 1 | CT13: 179 | CU13: - | CV13: - | CW13: - | CX13: - | CY13: - | CZ13: - | DA13: - | DB13: - | DC13: X | DD13: X | DE13: X | DF13: X | DG13: X | DH13: X | DI13: X | DJ13: X | DK13: X | DL13: X | DM13: X | DN13: X | DO13: X | DP13: X | DQ13: X | DR13: X | DS13: - | DT13: - | DU13: - | DV13: - | DW13: 1 | DX13: - | DY13: - | DZ13: - | EA13: - | EB13: 1 | EC13: 2 | ED13: 184 | EE13: 3 | EF13: - | EG13: - | EH13: - | EI13: - | EJ13: - | EK13: X | EL13: - | EM13: - | EN13: - | EO13: - | EP13: X | EQ13: X | ER13: X | ES13: 36 | ET13: - | EU13: X | EV13: X | EW13: X | EX13: X | EY13: X | EZ13: X | FA13: X | FB13: X | FC13: X | FD13: X | FE13: X | FF13: X | FG13: X | FH13: X | FI13: X | FJ13: X | FK13: X | FL13: X | FM13: X | FN13: X | FO13: X | FP13: X | FQ13: X | FR13: X | FS13: X | FT13: X | FU13: X | FV13: X | FW13: 14 | FX13: 2 | FY13: 14 | FZ13: - | GA13: 1 | GB13: - | GC13: 1 | GD13: 1 | GE13: - | GF13: X | GG13: X | GH13: X | GI13: X | GJ13: X | GK13: X | GL13: X | GM13: X | GN13: X | GO13: 6 | GP13: X | GQ13: 6 | GR13: - | GS13: - | GT13: - | GU13: 1 | GV13: 180 | GW13: 25 | GX13: 77 | GY13: 72 | GZ13: 6 | HA13: - | HB13: - | HC13: - | HD13: - | HE13: X | HF13: X | HG13: X | HH13: X | HI13: X | HJ13: X | HK13: X | HL13: X | HM13: X | HN13: 1920106000 | HO13: 19 | HP13: 00 | HQ13: 201 | HR13: 06 | HS13: 000
A14: 山梨県 | B14: 甲府市 | C14: 千代田村 | D14: 201-07 | E14: 39 | F14: - | G14: - | H14: - | I14: - | J14: - | K14: - | L14: 39 | M14: - | N14: - | O14: - | P14: - | Q14: - | R14: - | S14: - | T14: - | U14: - | V14: - | W14: 1 | X14: 21 | Y14: - | Z14: - | AA14: 38 | AB14: - | AC14: - | AD14: - | AE14: - | AF14: - | AG14: 39 | AH14: - | AI14: 14 | AJ14: 25 | AK14: - | AL14: - | AM14: - | AN14: - | AO14: - | AP14: - | AQ14: - | AR14: - | AS14: - | AT14: - | AU14: - | AV14: - | AW14: - | AX14: - | AY14: - | AZ14: - | BA14: - | BB14: - | BC14: - | BD14: - | BE14: - | BF14: - | BG14: - | BH14: - | BI14: 2038 | BJ14: - | BK14: 484 | BL14: 1554 | BM14: - | BN14: - | BO14: - | BP14: - | BQ14: - | BR14: - | BS14: - | BT14: - | BU14: - | BV14: - | BW14: 155 | BX14: - | BY14: - | BZ14: - | CA14: - | CB14: - | CC14: - | CD14: - | CE14: - | CF14: - | CG14: - | CH14: - | CI14: - | CJ14: - | CK14: - | CL14: - | CM14: 17 | CN14: 15 | CO14: - | CP14: - | CQ14: - | CR14: 1 | CS14: - | CT14: 1 | CU14: - | CV14: - | CW14: - | CX14: - | CY14: - | CZ14: - | DA14: - | DB14: - | DC14: - | DD14: - | DE14: - | DF14: - | DG14: - | DH14: - | DI14: - | DJ14: - | DK14: - | DL14: - | DM14: - | DN14: - | DO14: - | DP14: - | DQ14: - | DR14: - | DS14: 20 | DT14: 2 | DU14: - | DV14: 1 | DW14: 4 | DX14: - | DY14: 3 | DZ14: 2 | EA14: - | EB14: 10 | EC14: - | ED14: 6 | EE14: - | EF14: - | EG14: X | EH14: X | EI14: - | EJ14: X | EK14: 18 | EL14: - | EM14: X | EN14: X | EO14: - | EP14: X | EQ14: - | ER14: X | ES14: - | ET14: - | EU14: - | EV14: - | EW14: - | EX14: - | EY14: - | EZ14: - | FA14: - | FB14: - | FC14: - | FD14: - | FE14: - | FF14: - | FG14: - | FH14: - | FI14: - | FJ14: - | FK14: - | FL14: - | FM14: - | FN14: - | FO14: - | FP14: - | FQ14: - | FR14: - | FS14: - | FT14: - | FU14: - | FV14: - | FW14: 5 | FX14: 1 | FY14: 4 | FZ14: - | GA14: 1 | GB14: - | GC14: - | GD14: - | GE14: - | GF14: - | GG14: - | GH14: - | GI14: - | GJ14: - | GK14: - | GL14: - | GM14: - | GN14: - | GO14: 1 | GP14: - | GQ14: 1 | GR14: 1 | GS14: - | GT14: - | GU14: - | GV14: 17 | GW14: 15 | GX14: 2 | GY14: - | GZ14: - | HA14: - | HB14: - | HC14: - | HD14: - | HE14: - | HF14: - | HG14: - | HH14: - | HI14: - | HJ14: - | HK14: - | HL14: - | HM14: - | HN14: 1920107000 | HO14: 19 | HP14: 00 | HQ14: 201 | HR14: 07 | HS14: 000
A15: 山梨県 | B15: 甲府市 | C15: 能泉村 | D15: 201-08 | E15: - | F15: - | G15: - | H15: - | I15: - | J15: - | K15: - | L15: - | M15: - | N15: - | O15: - | P15: - | Q15: - | R15: - | S15: - | T15: - | U15: - | V15: - | W15: - | X15: - | Y15: - | Z15: - | AA15: - | AB15: - | AC15: - | AD15: - | AE15: - | AF15: - | AG15: - | AH15: - | AI15: - | AJ15: - | AK15: - | AL15: - | AM15: - | AN15: - | AO15: - | AP15: - | AQ15: - | AR15: - | AS15: - | AT15: - | AU15: - | AV15: - | AW15: - | AX15: - | AY15: - | AZ15: - | BA15: - | BB15: - | BC15: - | BD15: - | BE15: - | BF15: - | BG15: - | BH15: - | BI15: - | BJ15: - | BK15: - | BL15: - | BM15: - | BN15: - | BO15: - | BP15: - | BQ15: - | BR15: - | BS15: - | BT15: - | BU15: - | BV15: - | BW15: - | BX15: - | BY15: - | BZ15: - | CA15: - | CB15: - | CC15: - | CD15: - | CE15: - | CF15: - | CG15: - | CH15: - | CI15: - | CJ15: - | CK15: - | CL15: - | CM15: - | CN15: - | CO15: - | CP15: - | CQ15: - | CR15: - | CS15: - | CT15: - | CU15: - | CV15: - | CW15: - | CX15: - | CY15: - | CZ15: - | DA15: - | DB15: - | DC15: - | DD15: - | DE15: - | DF15: - | DG15: - | DH15: - | DI15: - | DJ15: - | DK15: - | DL15: - | DM15: - | DN15: - | DO15: - | DP15: - | DQ15: - | DR15: - | DS15: - | DT15: - | DU15: - | DV15: - | DW15: - | DX15: - | DY15: - | DZ15: - | EA15: - | EB15: - | EC15: - | ED15: - | EE15: - | EF15: - | EG15: - | EH15: - | EI15: - | EJ15: - | EK15: - | EL15: - | EM15: - | EN15: - | EO15: - | EP15: - | EQ15: - | ER15: - | ES15: - | ET15: - | EU15: - | EV15: - | EW15: - | EX15: - | EY15: - | EZ15: - | FA15: - | FB15: - | FC15: - | FD15: - | FE15: - | FF15: - | FG15: - | FH15: - | FI15: - | FJ15: - | FK15: - | FL15: - | FM15: - | FN15: - | FO15: - | FP15: - | FQ15: - | FR15: - | FS15: - | FT15: - | FU15: - | FV15: - | FW15: - | FX15: - | FY15: - | FZ15: - | GA15: - | GB15: - | GC15: - | GD15: - | GE15: - | GF15: - | GG15: - | GH15: - | GI15: - | GJ15: - | GK15: - | GL15: - | GM15: - | GN15: - | GO15: - | GP15: - | GQ15: - | GR15: - | GS15: - | GT15: - | GU15: - | GV15: - | GW15: - | GX15: - | GY15: - | GZ15: - | HA15: - | HB15: - | HC15: - | HD15: - | HE15: - | HF15: - | HG15: - | HH15: - | HI15: - | HJ15: - | HK15: - | HL15: - | HM15: - | HN15: 1920108000 | HO15: 19 | HP15: 00 | HQ15: 201 | HR15: 08 | HS15: 000
A16: 山梨県 | B16: 甲府市 | C16: 宮本村 | D16: 201-09 | E16: - | F16: - | G16: - | H16: - | I16: - | J16: - | K16: - | L16: - | M16: - | N16: - | O16: - | P16: - | Q16: - | R16: - | S16: - | T16: - | U16: - | V16: - | W16: - | X16: - | Y16: - | Z16: - | AA16: - | AB16: - | AC16: - | AD16: - | AE16: - | AF16: - | AG16: - | AH16: - | AI16: - | AJ16: - | AK16: - | AL16: - | AM16: - | AN16: - | AO16: - | AP16: - | AQ16: - | AR16: - | AS16: - | AT16: - | AU16: - | AV16: - | AW16: - | AX16: - | AY16: - | AZ16: - | BA16: - | BB16: - | BC16: - | BD16: - | BE16: - | BF16: - | BG16: - | BH16: - | BI16: - | BJ16: - | BK16: - | BL16: - | BM16: - | BN16: - | BO16: - | BP16: - | BQ16: - | BR16: - | BS16: - | BT16: - | BU16: - | BV16: - | BW16: - | BX16: - | BY16: - | BZ16: - | CA16: - | CB16: - | CC16: - | CD16: - | CE16: - | CF16: - | CG16: - | CH16: - | CI16: - | CJ16: - | CK16: - | CL16: - | CM16: - | CN16: - | CO16: - | CP16: - | CQ16: - | CR16: - | CS16: - | CT16: - | CU16: - | CV16: - | CW16: - | CX16: - | CY16: - | CZ16: - | DA16: - | DB16: - | DC16: - | DD16: - | DE16: - | DF16: - | DG16: - | DH16: - | DI16: - | DJ16: - | DK16: - | DL16: - | DM16: - | DN16: - | DO16: - | DP16: - | DQ16: - | DR16: - | DS16: - | DT16: - | DU16: - | DV16: - | DW16: - | DX16: - | DY16: - | DZ16: - | EA16: - | EB16: - | EC16: - | ED16: - | EE16: - | EF16: - | EG16: - | EH16: - | EI16: - | EJ16: - | EK16: - | EL16: - | EM16: - | EN16: - | EO16: - | EP16: - | EQ16: - | ER16: - | ES16: - | ET16: - | EU16: - | EV16: - | EW16: - | EX16: - | EY16: - | EZ16: - | FA16: - | FB16: - | FC16: - | FD16: - | FE16: - | FF16: - | FG16: - | FH16: - | FI16: - | FJ16: - | FK16: - | FL16: - | FM16: - | FN16: - | FO16: - | FP16: - | FQ16: - | FR16: - | FS16: - | FT16: - | FU16: - | FV16: - | FW16: - | FX16: - | FY16: - | FZ16: - | GA16: - | GB16: - | GC16: - | GD16: - | GE16: - | GF16: - | GG16: - | GH16: - | GI16: - | GJ16: - | GK16: - | GL16: - | GM16: - | GN16: - | GO16: - | GP16: - | GQ16: - | GR16: - | GS16: - | GT16: - | GU16: - | GV16: - | GW16: - | GX16: - | GY16: - | GZ16: - | HA16: - | HB16: - | HC16: - | HD16: - | HE16: - | HF16: - | HG16: - | HH16: - | HI16: - | HJ16: - | HK16: - | HL16: - | HM16: - | HN16: 1920109000 | HO16: 19 | HP16: 00 | HQ16: 201 | HR16: 09 | HS16: 000
A17: 山梨県 | B17: 甲府市 | C17: 大鎌田村 | D17: 201-10 | E17: 42 | F17: - | G17: - | H17: - | I17: - | J17: - | K17: - | L17: 42 | M17: 3 | N17: - | O17: - | P17: - | Q17: - | R17: - | S17: - | T17: - | U17: - | V17: - | W17: 10 | X17: 1216 | Y17: 1 | Z17: 300 | AA17: 32 | AB17: - | AC17: - | AD17: - | AE17: - | AF17: - | AG17: 40 | AH17: - | AI17: 20 | AJ17: 15 | AK17: 5 | AL17: - | AM17: - | AN17: - | AO17: - | AP17: - | AQ17: - | AR17: - | AS17: - | AT17: - | AU17: - | AV17: - | AW17: - | AX17: - | AY17: - | AZ17: - | BA17: - | BB17: - | BC17: - | BD17: - | BE17: - | BF17: - | BG17: - | BH17: - | BI17: 2245 | BJ17: - | BK17: 765 | BL17: 919 | BM17: 561 | BN17: - | BO17: - | BP17: - | BQ17: - | BR17: - | BS17: - | BT17: - | BU17: - | BV17: - | BW17: 225 | BX17: - | BY17: - | BZ17: - | CA17: - | CB17: - | CC17: - | CD17: - | CE17: - | CF17: - | CG17: - | CH17: - | CI17: - | CJ17: - | CK17: - | CL17: - | CM17: 34 | CN17: 10 | CO17: - | CP17: - | CQ17: - | CR17: 17 | CS17: 2 | CT17: 2 | CU17: 1 | CV17: - | CW17: - | CX17: - | CY17: 1 | CZ17: - | DA17: - | DB17: 1 | DC17: - | DD17: - | DE17: - | DF17: - | DG17: - | DH17: - | DI17: - | DJ17: - | DK17: - | DL17: - | DM17: - | DN17: - | DO17: - | DP17: - | DQ17: - | DR17: - | DS17: 29 | DT17: - | DU17: - | DV17: 1 | DW17: 1 | DX17: - | DY17: 2 | DZ17: 2 | EA17: - | EB17: 31 | EC17: 3 | ED17: 9 | EE17: - | EF17: 1 | EG17: 1069 | EH17: - | EI17: - | EJ17: X | EK17: X | EL17: - | EM17: X | EN17: X | EO17: - | EP17: X | EQ17: X | ER17: X | ES17: - | ET17: X | EU17: - | EV17: - | EW17: - | EX17: - | EY17: - | EZ17: - | FA17: - | FB17: - | FC17: - | FD17: - | FE17: - | FF17: - | FG17: - | FH17: - | FI17: - | FJ17: - | FK17: - | FL17: - | FM17: - | FN17: - | FO17: - | FP17: - | FQ17: - | FR17: - | FS17: - | FT17: - | FU17: - | FV17: X | FW17: 7 | FX17: - | FY17: 7 | FZ17: - | GA17: - | GB17: - | GC17: - | GD17: - | GE17: - | GF17: - | GG17: - | GH17: - | GI17: - | GJ17: - | GK17: - | GL17: - | GM17: - | GN17: - | GO17: 2 | GP17: - | GQ17: 2 | GR17: 2 | GS17: - | GT17: - | GU17: - | GV17: 34 | GW17: 13 | GX17: 14 | GY17: 3 | GZ17: 3 | HA17: 1 | HB17: - | HC17: - | HD17: 1 | HE17: - | HF17: - | HG17: - | HH17: - | HI17: - | HJ17: - | HK17: - | HL17: - | HM17: - | HN17: 1920110000 | HO17: 19 | HP17: 00 | HQ17: 201 | HR17: 10 | HS17: 000
A18: 山梨県 | B18: 甲府市 | C18: 二川村 | D18: 201-11 | E18: 50 | F18: - | G18: - | H18: - | I18: - | J18: - | K18: - | L18: 50 | M18: 11 | N18: - | O18: - | P18: - | Q18: - | R18: - | S18: - | T18: - | U18: - | V18: - | W18: 16 | X18: 1444 | Y18: 4 | Z18: 780 | AA18: 34 | AB18: - | AC18: - | AD18: - | AE18: - | AF18: - | AG18: 50 | AH18: - | AI18: 16 | AJ18: 15 | AK18: 11 | AL18: 5 | AM18: 2 | AN18: 1 | AO18: - | AP18: - | AQ18: - | AR18: - | AS18: - | AT18: - | AU18: - | AV18: - | AW18: - | AX18: - | AY18: - | AZ18: - | BA18: - | BB18: - | BC18: - | BD18: - | BE18: - | BF18: - | BG18: - | BH18: - | BI18: 4747 | BJ18: - | BK18: 618 | BL18: 981 | BM18: 1383 | BN18: 814 | BO18: 549 | BP18: 402 | BQ18: - | BR18: - | BS18: - | BT18: - | BU18: - | BV18: - | BW18: 1233 | BX18: - | BY18: - | BZ18: - | CA18: - | CB18: - | CC18: - | CD18: - | CE18: - | CF18: - | CG18: - | CH18: - | CI18: - | CJ18: - | CK18: - | CL18: - | CM18: 39 | CN18: 19 | CO18: - | CP18: - | CQ18: - | CR18: 19 | CS18: 1 | CT18: - | CU18: - | CV18: - | CW18: - | CX18: - | CY18: - | CZ18: - | DA18: - | DB18: - | DC18: - | DD18: - | DE18: - | DF18: - | DG18: - | DH18: - | DI18: - | DJ18: - | DK18: - | DL18: - | DM18: - | DN18: - | DO18: - | DP18: - | DQ18: - | DR18: - | DS18: 38 | DT18: - | DU18: - | DV18: - | DW18: 1 | DX18: - | DY18: - | DZ18: - | EA18: - | EB18: 26 | EC18: 2 | ED18: 1 | EE18: - | EF18: 3 | EG18: 2893 | EH18: - | EI18: - | EJ18: - | EK18: X | EL18: - | EM18: - | EN18: - | EO18: - | EP18: X | EQ18: X | ER18: X | ES18: - | ET18: X | EU18: - | EV18: - | EW18: - | EX18: - | EY18: - | EZ18: - | FA18: - | FB18: - | FC18: - | FD18: - | FE18: - | FF18: - | FG18: - | FH18: - | FI18: - | FJ18: - | FK18: - | FL18: - | FM18: - | FN18: - | FO18: - | FP18: - | FQ18: - | FR18: - | FS18: - | FT18: - | FU18: - | FV18: X | FW18: 7 | FX18: 1 | FY18: 5 | FZ18: - | GA18: - | GB18: - | GC18: 1 | GD18: - | GE18: - | GF18: - | GG18: - | GH18: - | GI18: - | GJ18: - | GK18: - | GL18: - | GM18: - | GN18: - | GO18: 5 | GP18: - | GQ18: 5 | GR18: 5 | GS18: - | GT18: - | GU18: - | GV18: 39 | GW18: 15 | GX18: 9 | GY18: 9 | GZ18: 6 | HA18: - | HB18: - | HC18: - | HD18: - | HE18: - | HF18: - | HG18: - | HH18: - | HI18: - | HJ18: - | HK18: - | HL18: - | HM18: - | HN18: 1920111000 | HO18: 19 | HP18: 00 | HQ18: 201 | HR18: 11 | HS18: 000
A19: 山梨県 | B19: 甲府市 | C19: 柏村 | D19: 201-12 | E19: 152 | F19: 2 | G19: - | H19: 1 | I19: 1 | J19: - | K19: - | L19: 150 | M19: 52 | N19: 2 | O19: X | P19: X | Q19: X | R19: X | S19: X | T19: X | U19: X | V19: - | W19: 57 | X19: 3364 | Y19: 4 | Z19: 380 | AA19: 95 | AB19: X | AC19: X | AD19: X | AE19: X | AF19: X | AG19: 151 | AH19: 11 | AI19: 26 | AJ19: 76 | AK19: 27 | AL19: 7 | AM19: 2 | AN19: 2 | AO19: - | AP19: - | AQ19: - | AR19: - | AS19: - | AT19: - | AU19: X | AV19: X | AW19: X | AX19: X | AY19: X | AZ19: X | BA19: X | BB19: X | BC19: X | BD19: X | BE19: X | BF19: X | BG19: X | BH19: X | BI19: 12088 | BJ19: 219 | BK19: 1070 | BL19: 5298 | BM19: 3031 | BN19: 1210 | BO19: 410 | BP19: 850 | BQ19: - | BR19: - | BS19: - | BT19: - | BU19: - | BV19: - | BW19: 2861 | BX19: X | BY19: X | BZ19: X | CA19: X | CB19: X | CC19: X | CD19: X | CE19: X | CF19: X | CG19: X | CH19: X | CI19: X | CJ19: X | CK19: X | CL19: X | CM19: 151 | CN19: 1 | CO19: - | CP19: - | CQ19: - | CR19: 50 | CS19: - | CT19: 98 | CU19: 1 | CV19: - | CW19: - | CX19: 1 | CY19: - | CZ19: - | DA19: - | DB19: - | DC19: X | DD19: X | DE19: X | DF19: X | DG19: X | DH19: X | DI19: X | DJ19: X | DK19: X | DL19: X | DM19: X | DN19: X | DO19: X | DP19: X | DQ19: X | DR19: X | DS19: 28 | DT19: 1 | DU19: - | DV19: 1 | DW19: 1 | DX19: - | DY19: 3 | DZ19: 2 | EA19: - | EB19: 95 | EC19: 7 | ED19: 135 | EE19: - | EF19: 1 | EG19: 777 | EH19: X | EI19: - | EJ19: X | EK19: X | EL19: - | EM19: X | EN19: X | EO19: - | EP19: X | EQ19: X | ER19: X | ES19: - | ET19: X | EU19: X | EV19: X | EW19: X | EX19: X | EY19: X | EZ19: X | FA19: X | FB19: X | FC19: X | FD19: X | FE19: X | FF19: X | FG19: X | FH19: X | FI19: X | FJ19: X | FK19: X | FL19: X | FM19: X | FN19: X | FO19: X | FP19: X | FQ19: X | FR19: X | FS19: X | FT19: X | FU19: X | FV19: X | FW19: 21 | FX19: - | FY19: 21 | FZ19: - | GA19: 1 | GB19: - | GC19: - | GD19: - | GE19: - | GF19: X | GG19: X | GH19: X | GI19: X | GJ19: X | GK19: X | GL19: X | GM19: X | GN19: X | GO19: 2 | GP19: X | GQ19: 2 | GR19: 2 | GS19: 1 | GT19: - | GU19: - | GV19: 151 | GW19: 12 | GX19: 89 | GY19: 43 | GZ19: 6 | HA19: 1 | HB19: 1 | HC19: - | HD19: - | HE19: X | HF19: X | HG19: X | HH19: X | HI19: X | HJ19: X | HK19: X | HL19: X | HM19: X | HN19: 1920112000 | HO19: 19 | HP19: 00 | HQ19: 201 | HR19: 12 | HS19: 000
A20: 山梨県 | B20: 甲府市 | C20: 右左口村 | D20: 201-13 | E20: 232 | F20: 3 | G20: - | H20: 2 | I20: 1 | J20: - | K20: - | L20: 229 | M20: 56 | N20: 3 | O20: 3 | P20: - | Q20: 2 | R20: 1 | S20: - | T20: - | U20: - | V20: - | W20: 61 | X20: 12614 | Y20: 9 | Z20: 3330 | AA20: 171 | AB20: 3 | AC20: 6130 | AD20: 2 | AE20: 1360 | AF20: - | AG20: 230 | AH20: 2 | AI20: 49 | AJ20: 123 | AK20: 32 | AL20: 18 | AM20: 4 | AN20: 2 | AO20: - | AP20: - | AQ20: - | AR20: - | AS20: - | AT20: - | AU20: 2 | AV20: - | AW20: 1 | AX20: - | AY20: - | AZ20: - | BA20: - | BB20: 1 | BC20: - | BD20: - | BE20: - | BF20: - | BG20: - | BH20: - | BI20: 19014 | BJ20: 44 | BK20: 1861 | BL20: 8596 | BM20: 3692 | BN20: 3047 | BO20: 964 | BP20: 810 | BQ20: - | BR20: - | BS20: - | BT20: - | BU20: - | BV20: - | BW20: 3444 | BX20: 497 | BY20: - | BZ20: 37 | CA20: - | CB20: - | CC20: - | CD20: - | CE20: 460 | CF20: - | CG20: - | CH20: - | CI20: - | CJ20: - | CK20: - | CL20: 497 | CM20: 218 | CN20: 1 | CO20: - | CP20: - | CQ20: - | CR20: 74 | CS20: - | CT20: 139 | CU20: 1 | CV20: 1 | CW20: - | CX20: - | CY20: 2 | CZ20: - | DA20: - | DB20: - | DC20: 2 | DD20: - | DE20: - | DF20: - | DG20: - | DH20: 1 | DI20: - | DJ20: 1 | DK20: - | DL20: - | DM20: - | DN20: - | DO20: - | DP20: - | DQ20: - | DR20: - | DS20: 43 | DT20: 1 | DU20: - | DV20: 1 | DW20: 8 | DX20: - | DY20: 4 | DZ20: 1 | EA20: X | EB20: 168 | EC20: 4 | ED20: 185 | EE20: - | EF20: 3 | EG20: 955 | EH20: X | EI20: - | EJ20: X | EK20: 49 | EL20: - | EM20: X | EN20: X | EO20: X | EP20: X | EQ20: X | ER20: X | ES20: - | ET20: X | EU20: - | EV20: - | EW20: - | EX20: - | EY20: - | EZ20: - | FA20: - | FB20: - | FC20: - | FD20: 1 | FE20: X | FF20: X | FG20: - | FH20: - | FI20: - | FJ20: - | FK20: - | FL20: - | FM20: - | FN20: - | FO20: - | FP20: - | FQ20: - | FR20: X | FS20: X | FT20: X | FU20: - | FV20: X | FW20: 67 | FX20: 6 | FY20: 66 | FZ20: 1 | GA20: 4 | GB20: - | GC20: - | GD20: - | GE20: - | GF20: 1 | GG20: - | GH20: 1 | GI20: - | GJ20: 1 | GK20: - | GL20: - | GM20: - | GN20: - | GO20: 2 | GP20: 1 | GQ20: 2 | GR20: - | GS20: 2 | GT20: - | GU20: 1 | GV20: 218 | GW20: 35 | GX20: 133 | GY20: 43 | GZ20: 6 | HA20: 1 | HB20: 1 | HC20: - | HD20: - | HE20: 2 | HF20: 1 | HG20: - | HH20: - | HI20: 1 | HJ20: - | HK20: - | HL20: - | HM20: - | HN20: 1920113000 | HO20: 19 | HP20: 00 | HQ20: 201 | HR20: 13 | HS20: 000
A21: 山梨県 | B21: 甲府市 | C21: 上九一色村2-1 | D21: 201-14 | E21: 4 | F21: - | G21: - | H21: - | I21: - | J21: - | K21: - | L21: 4 | M21: - | N21: - | O21: - | P21: - | Q21: - | R21: - | S21: - | T21: - | U21: - | V21: - | W21: - | X21: - | Y21: - | Z21: - | AA21: 4 | AB21: - | AC21: - | AD21: - | AE21: - | AF21: - | AG21: 4 | AH21: - | AI21: 3 | AJ21: 1 | AK21: - | AL21: - | AM21: - | AN21: - | AO21: - | AP21: - | AQ21: - | AR21: - | AS21: - | AT21: - | AU21: - | AV21: - | AW21: - | AX21: - | AY21: - | AZ21: - | BA21: - | BB21: - | BC21: - | BD21: - | BE21: - | BF21: - | BG21: - | BH21: - | BI21: 195 | BJ21: - | BK21: 122 | BL21: 73 | BM21: - | BN21: - | BO21: - | BP21: - | BQ21: - | BR21: - | BS21: - | BT21: - | BU21: - | BV21: - | BW21: 42 | BX21: - | BY21: - | BZ21: - | CA21: - | CB21: - | CC21: - | CD21: - | CE21: - | CF21: - | CG21: - | CH21: - | CI21: - | CJ21: - | CK21: - | CL21: - | CM21: 3 | CN21: - | CO21: - | CP21: - | CQ21: - | CR21: 3 | CS21: - | CT21: - | CU21: - | CV21: - | CW21: - | CX21: - | CY21: - | CZ21: - | DA21: - | DB21: - | DC21: - | DD21: - | DE21: - | DF21: - | DG21: - | DH21: - | DI21: - | DJ21: - | DK21: - | DL21: - | DM21: - | DN21: - | DO21: - | DP21: - | DQ21: - | DR21: - | DS21: 1 | DT21: - | DU21: - | DV21: - | DW21: - | DX21: - | DY21: 1 | DZ21: 1 | EA21: - | EB21: 3 | EC21: - | ED21: 2 | EE21: - | EF21: - | EG21: X | EH21: - | EI21: - | EJ21: - | EK21: - | EL21: - | EM21: X | EN21: X | EO21: - | EP21: X | EQ21: - | ER21: X | ES21: - | ET21: - | EU21: - | EV21: - | EW21: - | EX21: - | EY21: - | EZ21: - | FA21: - | FB21: - | FC21: - | FD21: - | FE21: - | FF21: - | FG21: - | FH21: - | FI21: - | FJ21: - | FK21: - | FL21: - | FM21: - | FN21: - | FO21: - | FP21: - | FQ21: - | FR21: - | FS21: - | FT21: - | FU21: - | FV21: - | FW21: 3 | FX21: - | FY21: 3 | FZ21: - | GA21: - | GB21: - | GC21: - | GD21: - | GE21: - | GF21: - | GG21: - | GH21: - | GI21: - | GJ21: - | GK21: - | GL21: - | GM21: - | GN21: - | GO21: - | GP21: - | GQ21: - | GR21: - | GS21: - | GT21: - | GU21: - | GV21: 3 | GW21: 2 | GX21: 1 | GY21: - | GZ21: - | HA21: - | HB21: - | HC21: - | HD21: - | HE21: - | HF21: - | HG21: - | HH21: - | HI21: - | HJ21: - | HK21: - | HL21: - | HM21: - | HN21: 1920114000 | HO21: 19 | HP21: 00 | HQ21: 201 | HR21: 14 | HS21: 000
