{"text_format":"3","workbook":"xlsx","n_sheets":7,"sheets":["kadft","グラフ用","2010","2015","指定地域","地域類型区分","元データ"],"not_rendered":{"charts":10,"external_links":2,"defined_names":38},"read":"whole","date_system":"1900"}

{"sheet":"kadft","index":0,"n_rows":102,"n_cols":26,"rows_kept":102,"merged":[[0,23,0,25],[1,0,1,25],[2,0,2,25],[3,1,3,3],[3,5,3,7],[3,8,3,12],[3,19,3,25],[4,1,4,3],[4,5,4,7],[4,9,4,11],[4,19,4,21],[4,22,4,24],[6,20,6,21],[6,22,6,24],[8,22,8,24],[10,1,11,3],[10,4,11,6],[10,7,11,9],[10,10,10,21],[10,22,11,24],[11,10,11,12],[11,13,11,15],[11,16,11,18],[11,19,11,21],[12,1,12,3],[12,4,12,6],[12,7,12,9],[12,10,12,12],[12,13,12,15],[12,16,12,18],[12,19,12,21],[12,22,12,24],[13,1,13,3],[13,4,13,6],[13,7,13,9],[13,10,13,12],[13,13,13,15],[13,16,13,18],[13,19,13,21],[13,22,13,24],[14,1,14,3],[14,5,14,6],[14,8,14,9],[14,11,14,12],[14,14,14,15],[14,17,14,18],[14,20,14,21],[14,23,14,24],[15,1,15,3],[15,5,15,6],[15,8,15,9],[15,11,15,12],[15,14,15,15],[15,17,15,18],[15,20,15,21],[15,23,15,24],[17,3,17,7],[17,10,17,15],[17,16,17,17],[17,20,17,23],[17,24,17,25],[18,16,18,17],[19,0,19,1],[19,16,19,18],[27,13,27,15],[27,20,28,21],[27,22,28,22],[29,1,30,3],[29,4,30,5],[29,6,30,7],[29,8,30,9],[29,10,30,11],[29,12,30,13],[29,14,30,15],[30,16,30,18],[30,23,30,24],[31,1,31,3],[31,4,31,5],[31,6,31,7],[31,8,31,9],[31,10,31,11],[31,12,31,13],[31,14,31,15],[31,17,31,18],[31,23,31,24],[32,1,32,3],[32,4,32,5],[32,6,32,7],[32,8,32,9],[32,10,32,11],[32,12,32,13],[32,14,32,15],[33,1,33,3],[33,4,33,5],[33,6,33,7],[33,8,33,9],[33,10,33,11],[33,12,33,13],[33,14,33,15],[34,1,34,3],[34,4,34,5],[34,6,34,7],[34,8,34,9],[34,10,34,11],[34,12,34,13],[34,14,34,15],[34,16,34,18],[34,23,34,25],[35,1,35,15],[35,17,35,18],[35,23,35,24],[36,1,36,15],[37,1,37,15],[37,19,37,21],[37,22,37,23],[38,19,38,21],[38,22,38,23],[39,19,39,21],[41,1,43,3],[41,4,43,6],[41,7,43,9],[41,10,41,21],[42,10,43,12],[42,13,43,15],[42,16,43,18],[42,19,43,21],[44,1,44,3],[44,4,44,6],[44,7,44,9],[44,10,44,12],[44,13,44,15],[44,16,44,18],[44,19,44,21],[45,1,45,3],[45,4,45,6],[45,7,45,9],[45,10,45,12],[45,13,45,15],[45,16,45,18],[45,19,45,21],[46,1,46,3],[46,4,46,6],[46,7,46,9],[46,10,46,12],[46,13,46,15],[46,16,46,18],[46,19,46,21],[46,22,47,25],[47,1,47,3],[47,4,47,6],[47,7,47,9],[47,10,47,12],[47,13,47,15],[47,16,47,18],[47,19,47,21],[48,1,48,25],[49,1,49,2],[56,24,56,25],[57,21,57,23],[58,21,58,23],[59,1,61,3],[59,4,61,5],[59,6,59,11],[59,12,59,23],[60,6,61,7],[60,8,61,9],[60,10,61,11],[60,12,61,13],[60,14,61,15],[60,16,61,17],[60,18,61,19],[60,20,61,21],[60,22,61,23],[62,1,62,3],[62,4,62,5],[62,6,62,7],[62,8,62,9],[62,10,62,11],[62,12,62,13],[62,14,62,15],[62,16,62,17],[62,18,62,19],[62,20,62,21],[62,22,62,23],[63,1,63,3],[63,4,63,5],[63,6,63,7],[63,8,63,9],[63,10,63,11],[63,12,63,13],[63,14,63,15],[63,16,63,17],[63,18,63,19],[63,20,63,21],[63,22,63,23],[64,1,64,3],[64,4,64,5],[64,6,64,7],[64,8,64,9],[64,10,64,11],[64,12,64,13],[64,14,64,15],[64,16,64,17],[64,18,64,19],[64,20,64,21],[64,22,64,23],[65,1,65,3],[65,4,65,5],[65,6,65,7],[65,8,65,9],[65,10,65,11],[65,12,65,13],[65,14,65,15],[65,16,65,17],[65,18,65,19],[65,20,65,21],[65,22,65,23],[66,2,66,10],[66,11,66,12],[66,14,66,22],[73,11,73,12],[74,22,74,24],[75,22,75,24],[76,1,77,3],[76,4,77,6],[76,7,77,9],[76,10,77,12],[76,13,77,15],[76,16,77,18],[76,19,77,21],[76,22,77,24],[78,1,78,3],[78,4,78,6],[78,7,78,9],[78,10,78,12],[78,13,78,15],[78,16,78,18],[78,19,78,21],[78,22,78,24],[79,1,79,3],[79,4,79,6],[79,7,79,9],[79,10,79,12],[79,13,79,15],[79,16,79,18],[79,19,79,21],[79,22,79,24],[80,1,80,3],[80,4,80,6],[80,7,80,9],[80,10,80,12],[80,13,80,15],[80,16,80,18],[80,19,80,21],[80,22,80,24],[81,1,81,3],[81,4,81,6],[81,7,81,9],[81,10,81,12],[81,13,81,15],[81,16,81,18],[81,19,81,21],[81,22,81,24],[82,11,82,16],[91,24,91,25],[92,21,92,23],[93,21,93,23],[94,1,96,3],[94,4,96,5],[94,6,94,7],[94,8,96,9],[94,10,94,11],[94,12,96,13],[94,14,94,15],[94,16,96,17],[94,18,94,19],[94,20,96,21],[94,22,94,23],[95,6,96,7],[95,10,96,11],[95,14,96,15],[95,18,96,19],[95,22,96,23],[97,1,97,3],[97,4,97,5],[97,6,97,7],[97,8,97,9],[97,10,97,11],[97,12,97,13],[97,14,97,15],[97,16,97,17],[97,18,97,19],[97,20,97,21],[97,22,97,23],[98,1,98,3],[98,4,98,5],[98,6,98,7],[98,8,98,9],[98,10,98,11],[98,12,98,13],[98,14,98,15],[98,16,98,17],[98,18,98,19],[98,20,98,21],[98,22,98,23],[99,1,99,3],[99,4,99,5],[99,6,99,7],[99,8,99,9],[99,10,99,11],[99,12,99,13],[99,14,99,15],[99,16,99,17],[99,18,99,19],[99,20,99,21],[99,22,99,23],[100,1,100,3],[100,4,100,5],[100,6,100,7],[100,8,100,9],[100,10,100,11],[100,12,100,13],[100,14,100,15],[100,16,100,17],[100,18,100,19],[100,20,100,21],[100,22,100,23],[101,0,101,1],[101,6,101,19],[110,1,111,12]]}
[]
[]
[]
[null,"県　　名",{"$nulls":3},"市町村名",null,null,{"$f":"\"\"&IF(グラフ用!$G$6<>\"NO\",グラフ用!G8,グラフ用!$G$10)&\" \"","v":"旧市町村名 "},{"$nulls":10},"地域類型区分"]
[null,"長野県",{"$nulls":7},"    ",{"$nulls":9},{"$f":"INDEX(地域類型区分!C2:C550,グラフ用!F3)","v":"設定"},null,null,{"$f":"INDEX(地域類型区分!D2:D550,グラフ用!F3)","v":"されていません"}]
[]
[{"$nulls":20},"前回",null,"との比較"]
[]
[null," 土地の状況",{"$nulls":20},"単位：㏊"]
[]
[{"$nulls":4},"総土地面積\n",null,null,"林野面積\n",null,null,"　　耕地面積計（農山村地域調査結果）",{"$nulls":11},"耕作放棄地\n面積"]
[{"$nulls":13},"田面積",null,null,"畑面積",null,null,"樹園地面積"]
[null,"2010年",null,null,{"$f":"INDEX('2010'!$D$6:$AV$550,グラフ用!$F$3,1)","v":{"v":1356223,"d":"1,356,223 "}},null,null,{"$f":"INDEX('2010'!$D$6:$AV$550,グラフ用!$F$3,2)","v":{"v":1022777,"d":"1,022,777 "}},null,null,{"$f":"INDEX('2010'!$D$6:$AV$550,グラフ用!$F$3,3)","v":{"v":110877,"d":"110,877 "}},null,null,{"$f":"INDEX('2010'!$D$6:$AV$550,グラフ用!$F$3,4)","v":{"v":56367,"d":"56,367 "}},null,null,{"$f":"INDEX('2010'!$D$6:$AV$550,グラフ用!$F$3,5)","v":{"v":36605,"d":"36,605 "}},null,null,{"$f":"INDEX('2010'!$D$6:$AV$550,グラフ用!$F$3,6)","v":{"v":17905,"d":"17,905 "}},null,null,{"$f":"INDEX('2010'!$D$6:$AV$550,グラフ用!$F$3,7)","v":{"v":17145.79,"d":"17,146 "}},null,null,"  "]
[null,"2015年",null,null,{"$f":"INDEX('2015'!$D$6:$AV$538,グラフ用!$F$3,1)","v":{"v":1356156,"d":"1,356,156 "}},null,null,{"$f":"INDEX('2015'!$D$6:$AV$538,グラフ用!$F$3,2)","v":{"v":1031536,"d":"1,031,536 "}},null,null,{"$f":"INDEX('2015'!$D$6:$AV$538,グラフ用!$F$3,3)","v":{"v":109842,"d":"109,842 "}},null,null,{"$f":"INDEX('2015'!$D$6:$AV$538,グラフ用!$F$3,4)","v":{"v":54547,"d":"54,547 "}},null,null,{"$f":"INDEX('2015'!$D$6:$AV$538,グラフ用!$F$3,5)","v":{"v":38218,"d":"38,218 "}},null,null,{"$f":"INDEX('2015'!$D$6:$AV$538,グラフ用!$F$3,6)","v":{"v":17077,"d":"17,077 "}},null,null,{"$f":"INDEX('2015'!$D$6:$AV$538,グラフ用!$F$3,7)","v":{"v":16775.87,"d":"16,776 "}}]
[null,"比率(%)",{"$nulls":3},"－",null,"※1",{"$f":"IFERROR(ROUND(H14/$E$14*100,1),\"nc\")","v":76.1},null,"※1",{"$f":"IFERROR(ROUND(K14/$E$14*100,1),\"nc\")","v":8.1},null,"※2",{"$f":"IFERROR(ROUND(N14/$K$14*100,1),\"nc\")","v":49.7},null,"※2",{"$f":"IFERROR(ROUND(Q14/$K$14*100,1),\"nc\")","v":34.8},null,"※2",{"$f":"IFERROR(ROUND(T14/$K$14*100,1),\"nc\")","v":15.5},null,"※3",{"$f":"IFERROR(ROUND(W14/グラフ用!B12*100,1),\"nc\")","v":13.2}]
[null,"県計 比率(%)",{"$nulls":3},"－",null,"※1",76.1,null,"※1",8.1,null,"※2",49.7,null,"※2",34.8,null,"※2",15.5,null,"※3",13.2]
[null,"※1　総土地面積に対する比率　　　※2　耕地面積計に対する比率　　　※3　耕作放棄地率は耕作放棄地面積と耕地面積の和に対する割合 "]
[{"$nulls":3},{"$f":"IF($U$7=\"県計\",[1]グラフ用シート!C13,IF($U$7=\"前回\",[1]グラフ用シート!E13))","v":"林野面積及び耕地面積"},{"$nulls":6},{"$f":"IF($U$7=\"県計\",[1]グラフ用シート!C18,IF($U$7=\"前回\",[1]グラフ用シート!E18))","v":"地目別の耕地面積割合"},{"$nulls":5},"（％）",{"v":76.1,"d":"76 "},null,null,{"$f":"IF($U$7=\"県計\",[1]グラフ用シート!F23,IF($U$7=\"前回\",[1]グラフ用シート!D23))","v":"耕作放棄地面積"},{"$nulls":3},{"$f":"IF(kadft!$U$7=\"県計\",グラフ用!$I$18,IF(kadft!$U$7=\"前回\",グラフ用!$I$16))","v":"(㏊)"},{"$f":"IF([1]練習!$U$7=\"県計\",$I$18,IF([1]練習!$U$7=\"前回\",$I$16))","v":{"v":76.1,"d":"76 "}}]
[{"$nulls":15},"内円",{"$f":"IF($U$7=\"県計\",グラフ用!J15,IF($U$7=\"前回\",グラフ用!G14))","v":"2010年"}]
[{"$f":"IF(kadft!$U$7=\"県計\",グラフ用!$I$18,IF(kadft!$U$7=\"前回\",グラフ用!$I$16))","v":"(㏊)"},{"$f":"IF([1]練習!$U$7=\"県計\",$I$18,IF([1]練習!$U$7=\"前回\",$I$16))","v":{"v":76.1,"d":"76 "}},{"$nulls":13},"外円",{"$f":"IF($U$7=\"県計\",グラフ用!G13,IF($U$7=\"前回\",グラフ用!G15))","v":"2015年"}]
{"$rows_empty":7}
[null,"　法制上の指定地域面積",{"$nulls":11},"単位：㏊",{"$nulls":6},"森林地域",null,{"$f":"E35","v":{"v":1,"d":"(1.0)"}}]
[]
[{"$nulls":4},"森林地域",null,"農業地域",null,"市街化\n区域",null,"市街化\n調整区域",null,"商業関連地域",null,"工業関連地域"]
[{"$nulls":16},"工業関連地域",{"$nulls":6},"農業地域"]
[null,"項目別面積",null,null,{"$f":"INDEX(指定地域!$C$2:$I$550,グラフ用!$F$3,1)","v":{"v":328005.7,"d":"328,006 "}},null,{"$f":"INDEX(指定地域!$C$2:$I$550,グラフ用!$F$3,2)","v":{"v":492501.07,"d":"492,501 "}},null,{"$f":"INDEX(指定地域!$C$2:$I$550,グラフ用!$F$3,3)","v":{"v":12628.96,"d":"12,629 "}},null,{"$f":"INDEX(指定地域!$C$2:$I$550,グラフ用!$F$3,4)","v":{"v":54998.89,"d":"54,999 "}},null,{"$f":"INDEX(指定地域!$C$2:$I$550,グラフ用!$F$3,5)","v":{"v":2343.58,"d":"2,344 "}},null,{"$f":"INDEX(指定地域!$C$2:$I$550,グラフ用!$F$3,6)","v":{"v":7321.13,"d":"7,321 "}},null,null,{"$f":"O35","v":{"v":1,"d":"(1.0)"}},{"$nulls":5},{"$f":"G35","v":{"v":1,"d":"(1.0)"}}]
[null,"比率(%)",null,null,{"$f":"ROUND(E32/$E$14*100,1)","v":24.2},null,{"$f":"ROUND(G32/$E$14*100,1)","v":36.3},null,{"$f":"ROUND(I32/$E$14*100,1)","v":0.9},null,{"$f":"ROUND(K32/$E$14*100,1)","v":4.1},null,{"$f":"ROUND(M32/$E$14*100,1)","v":0.2},null,{"$f":"ROUND(O32/$E$14*100,1)","v":0.5}]
[null,"県計 比率(%)",null,null,24.2,null,36.3,null,0.9,null,4.1,null,0.2,null,0.5]
[null,"特化係数",null,null,{"$f":"E33/E34","v":{"v":1,"d":"1.0"}},null,{"$f":"G33/G34","v":{"v":1,"d":"1.0"}},null,{"$f":"I33/I34","v":{"v":1,"d":"1.0"}},null,{"$f":"K33/K34","v":{"v":1,"d":"1.0"}},null,{"$f":"M33/M34","v":{"v":1,"d":"1.0"}},null,{"$f":"O33/O34","v":{"v":1,"d":"1.0"}},null,"商業関連地域",{"$nulls":6},"市街化区域"]
[null,"※　商業関連地域は、近隣商業地域と商業地域の合計。\n　　 工業関連地域は、準工業地域と工業地域及び工業専用地域の合計。",{"$nulls":15},{"$f":"M35","v":{"v":1,"d":"(1.0)"}},{"$nulls":5},{"$f":"I35","v":{"v":1,"d":"(1.0)"}}]
[null,"※　比率は、総土地面積（2015年）に対する比率である。"]
[null,"※　特化係数は、比率／県計比率で算出。1.0を超えるほど特化している。",{"$nulls":17},"市街化調整区域",null,null,{"$f":"K35","v":{"v":1,"d":"(1.0)"}}]
[]
[null,"　農業生産関連事業経営体数",{"$nulls":17},"単位：経営体"]
[]
[{"$nulls":4},"農業経営体\n数計",null,null,"生産関連事業を実施している実経営体数",null,null,"事業種類別経営体数"]
[{"$nulls":10},"農産物の加工",null,null,"消費者に直接販売",null,null,"観光農園",null,null,"その他"]
[]
[null,"2010年",null,null,{"$f":"INDEX('2010'!$D$6:$AV$550,グラフ用!$F$3,8)","v":{"v":64289,"d":"64,289 "}},null,null,{"$f":"INDEX('2010'!$D$6:$AV$550,グラフ用!$F$3,9)","v":{"v":17375,"d":"17,375 "}},null,null,{"$f":"INDEX('2010'!$D$6:$AV$550,グラフ用!$F$3,10)","v":{"v":3454,"d":"3,454 "}},null,null,{"$f":"INDEX('2010'!$D$6:$AV$550,グラフ用!$F$3,11)","v":{"v":15528,"d":"15,528 "}},null,null,{"$f":"INDEX('2010'!$D$6:$AV$550,グラフ用!$F$3,12)","v":{"v":811,"d":"811 "}},null,null,{"$f":"INDEX('2010'!$D$6:$AV$550,グラフ用!$F$3,13)","v":{"v":930,"d":"930 "}}]
[null,"2015年",null,null,{"$f":"INDEX('2015'!$D$6:$AV$538,グラフ用!$F$3,8)","v":{"v":53808,"d":"53,808 "}},null,null,{"$f":"INDEX('2015'!$D$6:$AV$538,グラフ用!$F$3,9)","v":{"v":12618,"d":"12,618 "}},null,null,{"$f":"INDEX('2015'!$D$6:$AV$538,グラフ用!$F$3,10)","v":{"v":2644,"d":"2,644 "}},null,null,{"$f":"INDEX('2015'!$D$6:$AV$538,グラフ用!$F$3,11)","v":{"v":11044,"d":"11,044 "}},null,null,{"$f":"INDEX('2015'!$D$6:$AV$538,グラフ用!$F$3,12)","v":{"v":592,"d":"592 "}},null,null,{"$f":"INDEX('2015'!$D$6:$AV$538,グラフ用!$F$3,13)","v":{"v":675,"d":"675 "}}]
[null,"比率(%)",null,null,"－",null,null,{"$f":"IFERROR(ROUND(H46/$E$46*100,1),\"nc\")","v":23.5},null,null,{"$f":"IFERROR(ROUND(K46/$E$46*100,1),\"nc\")","v":4.9},null,null,{"$f":"IFERROR(ROUND(N46/$E$46*100,1),\"nc\")","v":20.5},null,null,{"$f":"IFERROR(ROUND(Q46/$E$46*100,1),\"nc\")","v":1.1},null,null,{"$f":"IFERROR(ROUND(T46/$E$46*100,1),\"nc\")","v":1.3}]
[null,"県計 比率(%)",null,null,"－",null,null,23.5,null,null,4.9,null,null,20.5,null,null,1.1,null,null,1.3]
[null,"※　比率は、農業経営体数計に対する比率である。　　　※　その他は、貸農園・体験農園、農家民宿、農家レストラン等である。"]
[null,{"$f":"IF(kadft!$U$7=\"県計\",グラフ用!$I$18,IF(kadft!$U$7=\"前回\",グラフ用!$I$17))","v":"(経営体)"},null,{"$f":"IF($U$7=\"県計\",グラフ用!$C$45,IF($U$7=\"前回\",グラフ用!$D$45))","v":"事業実施経営体数"},{"$nulls":10},{"$f":"IF($U$7=\"県計\",グラフ用!$C$51,IF($U$7=\"前回\",グラフ用!$D$51))","v":"事業種類別経営体数"}]
[]
[]
[]
[]
[]
[]
[{"$nulls":24},{"$f":"IF(kadft!$U$7=\"県計\",グラフ用!$I$18,IF(kadft!$U$7=\"前回\",グラフ用!$I$17))","v":"(経営体)"}]
[null,"　農業集落の状況",{"$nulls":19},"単位：集落"]
[]
[{"$nulls":4},"農業集落数計",null,"水田率別農業集落数",{"$nulls":5},"農家率別農業集落数"]
[{"$nulls":6},"水田集落（70％以上）",null,"田畑集落\n（30～70）",null,"畑地集落\n（30％未満）",null,"10％未満",null,"10～30",null,"30～50",null,"50～70",null,"70～90",null,"90％以上"]
[]
[null,"2010年",null,null,{"$f":"INDEX('2010'!$D$6:$AV$550,グラフ用!$F$3,14)","v":{"v":4736,"d":"4,736 "}},null,{"$f":"INDEX('2010'!$D$6:$AV$550,グラフ用!$F$3,15)","v":{"v":1226,"d":"1,226 "}},null,{"$f":"INDEX('2010'!$D$6:$AV$550,グラフ用!$F$3,16)","v":{"v":2063,"d":"2,063 "}},null,{"$f":"INDEX('2010'!$D$6:$AV$550,グラフ用!$F$3,17)","v":{"v":1447,"d":"1,447 "}},null,{"$f":"INDEX('2010'!$D$6:$AV$550,グラフ用!$F$3,18)","v":{"v":858,"d":"858 "}},null,{"$f":"INDEX('2010'!$D$6:$AV$550,グラフ用!$F$3,19)","v":{"v":1126,"d":"1,126 "}},null,{"$f":"INDEX('2010'!$D$6:$AV$550,グラフ用!$F$3,20)","v":{"v":1109,"d":"1,109 "}},null,{"$f":"INDEX('2010'!$D$6:$AV$550,グラフ用!$F$3,21)","v":{"v":1063,"d":"1,063 "}},null,{"$f":"INDEX('2010'!$D$6:$AV$550,グラフ用!$F$3,22)","v":{"v":471,"d":"471 "}},null,{"$f":"INDEX('2010'!$D$6:$AV$550,グラフ用!$F$3,23)","v":{"v":109,"d":"109 "}}]
[null,"2015年",null,null,{"$f":"INDEX('2015'!$D$6:$AV$538,グラフ用!$F$3,14)","v":{"v":4727,"d":"4,727 "}},null,{"$f":"INDEX('2015'!$D$6:$AV$538,グラフ用!$F$3,15)","v":{"v":1132,"d":"1,132 "}},null,{"$f":"INDEX('2015'!$D$6:$AV$538,グラフ用!$F$3,16)","v":{"v":2019,"d":"2,019 "}},null,{"$f":"INDEX('2015'!$D$6:$AV$538,グラフ用!$F$3,17)","v":{"v":1576,"d":"1,576 "}},null,{"$f":"INDEX('2015'!$D$6:$AV$538,グラフ用!$F$3,18)","v":{"v":996,"d":"996 "}},null,{"$f":"INDEX('2015'!$D$6:$AV$538,グラフ用!$F$3,19)","v":{"v":1279,"d":"1,279 "}},null,{"$f":"INDEX('2015'!$D$6:$AV$538,グラフ用!$F$3,20)","v":{"v":1142,"d":"1,142 "}},null,{"$f":"INDEX('2015'!$D$6:$AV$538,グラフ用!$F$3,21)","v":{"v":966,"d":"966 "}},null,{"$f":"INDEX('2015'!$D$6:$AV$538,グラフ用!$F$3,22)","v":{"v":275,"d":"275 "}},null,{"$f":"INDEX('2015'!$D$6:$AV$538,グラフ用!$F$3,23)","v":{"v":69,"d":"69 "}}]
[null,"構成比(%)",null,null,"－",null,{"$f":"IFERROR(ROUND(G64/$E$64*100,1),\"nc\")","v":23.9},null,{"$f":"IFERROR(ROUND(I64/$E$64*100,1),\"nc\")","v":42.7},null,{"$f":"IFERROR(ROUND(K64/$E$64*100,1),\"nc\")","v":33.3},null,{"$f":"IFERROR(ROUND(M64/$E$64*100,1),\"nc\")","v":21.1},null,{"$f":"IFERROR(ROUND(O64/$E$64*100,1),\"nc\")","v":27.1},null,{"$f":"IFERROR(ROUND(Q64/$E$64*100,1),\"nc\")","v":24.2},null,{"$f":"IFERROR(ROUND(S64/$E$64*100,1),\"nc\")","v":20.4},null,{"$f":"IFERROR(ROUND(U64/$E$64*100,1),\"nc\")","v":5.8},null,{"$f":"IFERROR(ROUND(W64/$E$64*100,1),\"nc\")","v":1.5}]
[null,"県計 構成比(%)",null,null,"－",null,23.9,null,42.7,null,33.3,null,21.1,null,27.1,null,24.2,null,20.4,null,5.8,null,1.5]
[null,null,{"$f":"IF($U$7=\"県計\",グラフ用!$D$61,IF($U$7=\"前回\",グラフ用!$F$61))","v":"水田率別農業集落数"},{"$f":"IF($T$58=\"県計\",$G$65,IF($T$58=\"前回\",$G$64))","v":false},false,false,false,false,false,false,false,{"$f":"IF(kadft!$U$7=\"県計\",グラフ用!$I$18,IF(kadft!$U$7=\"前回\",グラフ用!$J$16))","v":"（集落）"},null,null,{"$f":"IF($U$7=\"県計\",グラフ用!$D$66,IF($U$7=\"前回\",グラフ用!$F$66))","v":"農家率別農業集落数"},{"$f":"IF($T$58=\"県計\",$G$65,IF($T$58=\"前回\",$G$64))","v":false},false,false,false,false,false,false,false]
[]
[]
[]
[]
[]
[]
[{"$nulls":11},{"$f":"IF(kadft!$U$7=\"県計\",グラフ用!$I$18,IF(kadft!$U$7=\"前回\",グラフ用!$J$16))","v":"（集落）"}]
[null,"　寄り合いの実施状況",{"$nulls":20},"単位：集落"]
[]
[{"$nulls":4},"農業生産にかかる事項",null,null,"農道・水路・ため池等の管理",null,null,"集落共有財産・施設の管理",null,null,"環境美化・自然環境の保全",null,null,"農業集落行事の計画・推進",null,null,"農業集落内の福祉・厚生",null,null,"寄り合いを開催しなかった"]
[]
[null,"2010年",null,null,{"$f":"INDEX('2010'!$D$6:$AV$550,グラフ用!$F$3,24)","v":{"v":3044,"d":"3,044 "}},null,null,{"$f":"INDEX('2010'!$D$6:$AV$550,グラフ用!$F$3,25)","v":{"v":3681,"d":"3,681 "}},null,null,{"$f":"INDEX('2010'!$D$6:$AV$550,グラフ用!$F$3,26)","v":{"v":3618,"d":"3,618 "}},null,null,{"$f":"INDEX('2010'!$D$6:$AV$550,グラフ用!$F$3,27)","v":{"v":3923,"d":"3,923 "}},null,null,{"$f":"INDEX('2010'!$D$6:$AV$550,グラフ用!$F$3,28)","v":{"v":4153,"d":"4,153 "}},null,null,{"$f":"INDEX('2010'!$D$6:$AV$550,グラフ用!$F$3,29)","v":{"v":3394,"d":"3,394 "}},null,null,{"$f":"INDEX('2010'!$D$6:$AV$550,グラフ用!$F$3,30)","v":{"v":225,"d":"225 "}}]
[null,"2015年",null,null,{"$f":"INDEX('2015'!$D$6:$AV$538,グラフ用!$F$3,24)","v":{"v":3187,"d":"3,187 "}},null,null,{"$f":"INDEX('2015'!$D$6:$AV$538,グラフ用!$F$3,25)","v":{"v":4198,"d":"4,198 "}},null,null,{"$f":"INDEX('2015'!$D$6:$AV$538,グラフ用!$F$3,26)","v":{"v":3931,"d":"3,931 "}},null,null,{"$f":"INDEX('2015'!$D$6:$AV$538,グラフ用!$F$3,27)","v":{"v":4512,"d":"4,512 "}},null,null,{"$f":"INDEX('2015'!$D$6:$AV$538,グラフ用!$F$3,28)","v":{"v":4484,"d":"4,484 "}},null,null,{"$f":"INDEX('2015'!$D$6:$AV$538,グラフ用!$F$3,29)","v":{"v":4146,"d":"4,146 "}},null,null,{"$f":"INDEX('2015'!$D$6:$AV$538,グラフ用!$F$3,30)","v":{"v":155,"d":"155 "}}]
[null,"比率(%)",null,null,{"$f":"IFERROR(ROUND(E80/$E$64*100,1),\"nc\")","v":67.4},null,null,{"$f":"IFERROR(ROUND(H80/$E$64*100,1),\"nc\")","v":88.8},null,null,{"$f":"IFERROR(ROUND(K80/$E$64*100,1),\"nc\")","v":83.2},null,null,{"$f":"IFERROR(ROUND(N80/$E$64*100,1),\"nc\")","v":95.5},null,null,{"$f":"IFERROR(ROUND(Q80/$E$64*100,1),\"nc\")","v":94.9},null,null,{"$f":"IFERROR(ROUND(T80/$E$64*100,1),\"nc\")","v":87.7},null,null,{"$f":"IFERROR(ROUND(W80/$E$64*100,1),\"nc\")","v":3.3}]
[null,"県計 比率(%)",null,null,67.4,null,null,88.8,null,null,83.2,null,null,95.5,null,null,94.9,null,null,87.7,null,null,3.3]
[null,"※　比率は、「農業集落の状況」の農業集落数計に対する比率。",{"$nulls":9},{"$f":"IF($U$7=\"県計\",グラフ用!$D$83,IF($U$7=\"前回\",グラフ用!$F$83))","v":"　寄り合いの実施状況"},{"$f":"IF($T$58=\"県計\",$G$65,IF($T$58=\"前回\",$G$64))","v":false},false,false,false,false]
{"$rows_empty":8}
[{"$nulls":24},{"$f":"IF(kadft!$U$7=\"県計\",グラフ用!$I$18,IF(kadft!$U$7=\"前回\",グラフ用!$J$16))","v":"（集落）"}]
[null,"　保全管理の実施状況",{"$nulls":19},"単位：集落"]
[]
[{"$nulls":4},"農地のある集落",{"$nulls":3},"森林のある集落",{"$nulls":3},"ため池・湖沼のある集落",{"$nulls":3},"河川・水路のある集落",{"$nulls":3},"農業用用排水路のある集落"]
[{"$nulls":6},"農地の保全をしている",{"$nulls":3},"森林の保全をしている",{"$nulls":3},"ため池・湖沼の保全をしている",{"$nulls":3},"河川・水路の保全をしている",{"$nulls":3},"農業用用排水路の保全をしている"]
[]
[null,"2010年",null,null,{"$f":"INDEX('2010'!$D$6:$AV$550,グラフ用!$F$3,31)","v":{"v":4557,"d":"4,557 "}},null,{"$f":"INDEX('2010'!$D$6:$AV$550,グラフ用!$F$3,32)","v":{"v":1913,"d":"1,913 "}},null,{"$f":"INDEX('2010'!$D$6:$AV$550,グラフ用!$F$3,33)","v":{"v":3716,"d":"3,716 "}},null,{"$f":"INDEX('2010'!$D$6:$AV$550,グラフ用!$F$3,34)","v":{"v":1080,"d":"1,080 "}},null,{"$f":"INDEX('2010'!$D$6:$AV$550,グラフ用!$F$3,35)","v":{"v":1028,"d":"1,028 "}},null,{"$f":"INDEX('2010'!$D$6:$AV$550,グラフ用!$F$3,36)","v":{"v":565,"d":"565 "}},null,{"$f":"INDEX('2010'!$D$6:$AV$550,グラフ用!$F$3,37)","v":{"v":4326,"d":"4,326 "}},null,{"$f":"INDEX('2010'!$D$6:$AV$550,グラフ用!$F$3,38)","v":{"v":2532,"d":"2,532 "}},null,{"$f":"INDEX('2010'!$D$6:$AV$550,グラフ用!$F$3,39)","v":{"v":4385,"d":"4,385 "}},null,{"$f":"INDEX('2010'!$D$6:$AV$550,グラフ用!$F$3,40)","v":{"v":3777,"d":"3,777 "}}]
[null,"2015年",null,null,{"$f":"INDEX('2015'!$D$6:$AV$538,グラフ用!$F$3,31)","v":{"v":4561,"d":"4,561 "}},null,{"$f":"INDEX('2015'!$D$6:$AV$538,グラフ用!$F$3,32)","v":{"v":2176,"d":"2,176 "}},null,{"$f":"INDEX('2015'!$D$6:$AV$538,グラフ用!$F$3,33)","v":{"v":3686,"d":"3,686 "}},null,{"$f":"INDEX('2015'!$D$6:$AV$538,グラフ用!$F$3,34)","v":{"v":1382,"d":"1,382 "}},null,{"$f":"INDEX('2015'!$D$6:$AV$538,グラフ用!$F$3,35)","v":{"v":961,"d":"961 "}},null,{"$f":"INDEX('2015'!$D$6:$AV$538,グラフ用!$F$3,36)","v":{"v":588,"d":"588 "}},null,{"$f":"INDEX('2015'!$D$6:$AV$538,グラフ用!$F$3,37)","v":{"v":4363,"d":"4,363 "}},null,{"$f":"INDEX('2015'!$D$6:$AV$538,グラフ用!$F$3,38)","v":{"v":2882,"d":"2,882 "}},null,{"$f":"INDEX('2015'!$D$6:$AV$538,グラフ用!$F$3,39)","v":{"v":4384,"d":"4,384 "}},null,{"$f":"INDEX('2015'!$D$6:$AV$538,グラフ用!$F$3,40)","v":{"v":3959,"d":"3,959 "}}]
[null,"比率(%)",{"$nulls":4},{"$f":"IFERROR(ROUND(G99/$E$99*100,1),\"nc\")","v":47.7},{"$nulls":3},{"$f":"IFERROR(ROUND(K99/$I$99*100,1),\"nc\")","v":37.5},{"$nulls":3},{"$f":"IFERROR(ROUND(O99/$M$99*100,1),\"nc\")","v":61.2},{"$nulls":3},{"$f":"IFERROR(ROUND(S99/$Q$99*100,1),\"nc\")","v":66.1},{"$nulls":3},{"$f":"IFERROR(ROUND(W99/$U$99*100,1),\"nc\")","v":90.3}]
[null,"県計 比率(%)",{"$nulls":4},47.7,{"$nulls":3},37.5,{"$nulls":3},61.2,{"$nulls":3},66.1,{"$nulls":3},90.3]
[{"$f":"IF(kadft!$U$7=\"県計\",グラフ用!$I$18,IF(kadft!$U$7=\"前回\",グラフ用!$J$16))","v":"（集落）"},{"$nulls":5},{"$f":"IF($U$7=\"県計\",グラフ用!$C$102,IF($U$7=\"前回\",グラフ用!$F$102))","v":"　保全管理の実施状況"}]

{"sheet":"グラフ用","index":1,"n_rows":105,"n_cols":10,"rows_kept":105,"hidden":true,"merged":[[25,6,25,10],[31,8,31,9],[32,8,32,9],[42,11,42,12],[79,1,79,2],[80,1,80,2]]}
[]
[]
[null,"県計",null,{"$f":"IFERROR(MATCH(kadft!F5,地域類型区分!B2:B505,0),\"1\")","v":"1"},{"$f":"IFERROR(MATCH(kadft!J5,地域類型区分!B2:B505,0),\" \")","v":" "},{"$f":"\"\"&IF(E3<>\" \",E3,D3)&\"\"","v":"1"}]
[null,"前回",null,"市町村列","旧市町村列","優先列"]
[]
[{"$nulls":6},{"$f":"IF(COUNTIF(元データ!AC6:AC65,kadft!J5),\"OK\",\"NO\")","v":"OK"},"市町村に対し旧市町村の該当有無"]
[]
[{"$nulls":6},"旧市町村名"]
[]
[null,null,"林野面積","耕地面積",null,null,"旧市町村を再選択して下さい"]
[]
[null,{"$f":"kadft!W14+kadft!K14","v":{"v":126617.87,"d":"126,618 "}},"林野率","耕地率",null,null,{"$f":"INDEX(地域類型区分!$B$2:$B$550,F3,1)","v":"長野県"}]
[null,null,"林野率及び耕地率",null,"林野面積及び耕地面積",null,{"$f":"G12","v":"長野県"},"優先表示地域名"]
[{"$nulls":3},{"$f":"IF(kadft!$U$7=\"県計\",$C$12,IF(kadft!$U$7=\"前回\",$C$10))","v":"林野面積"},{"$f":"IF(kadft!$U$7=\"県計\",$D$12,IF(kadft!$U$7=\"前回\",$D$10))","v":"耕地面積"},null,"2010年"]
[null,null,{"$f":"IF(kadft!$U$7=\"県計\",$J$15,IF(kadft!$U$7=\"前回\",$G$14))","v":"2010年"},{"$f":"IF(kadft!$U$7=\"県計\",kadft!$I$16,IF(kadft!$U$7=\"前回\",kadft!$H$13))","v":1022777},{"$f":"IF(kadft!$U$7=\"県計\",kadft!$L$16,IF(kadft!$U$7=\"前回\",kadft!$K$13))","v":110877},null,"2015年",null,null,"県　　計"]
[null,null,{"$f":"IF(kadft!$U$7=\"県計\",$G$13,IF(kadft!$U$7=\"前回\",$G$15))","v":"2015年"},{"$f":"IF(kadft!$U$7=\"県計\",kadft!$I$15,IF(kadft!$U$7=\"前回\",kadft!$H$14))","v":1031536},{"$f":"IF(kadft!$U$7=\"県計\",kadft!$L$15,IF(kadft!$U$7=\"前回\",kadft!$K$14))","v":109842},{"$nulls":3},"(㏊)","（集落）"]
[{"$nulls":8},"(経営体)"]
[null,null,"地目別の耕地面積割合",null,"地目別の耕地面積割合",{"$nulls":3},"（％）"]
[{"$nulls":3},{"$f":"kadft!N12","v":"田面積"},{"$f":"kadft!Q12","v":"畑面積"},{"$f":"kadft!T12","v":"樹園地面積"}]
[null,null,{"$f":"IF(kadft!$U$7=\"県計\",$G$13,IF(kadft!$U$7=\"前回\",$G$15))","v":"2015年"},{"$f":"IF(kadft!$U$7=\"県計\",kadft!$O$15,IF(kadft!$U$7=\"前回\",ROUND(kadft!$N$14/kadft!K14*100,1)))","v":49.7},{"$f":"IF(kadft!$U$7=\"県計\",kadft!$R$15,IF(kadft!$U$7=\"前回\",ROUND(kadft!$Q$14/kadft!K14*100,1)))","v":34.8},{"$f":"IF(kadft!$U$7=\"県計\",kadft!$U$15,IF(kadft!$U$7=\"前回\",ROUND(kadft!$T$14/kadft!K14*100,1)))","v":15.5}]
[null,null,{"$f":"IF(kadft!$U$7=\"県計\",$J$15,IF(kadft!$U$7=\"前回\",$G$14))","v":"2010年"},{"$f":"IF(kadft!$U$7=\"県計\",kadft!$O$16,IF(kadft!$U$7=\"前回\",ROUND(kadft!$N$13/kadft!K13*100,1)))","v":50.8},{"$f":"IF(kadft!$U$7=\"県計\",kadft!$R$16,IF(kadft!$U$7=\"前回\",ROUND(kadft!$Q$13/kadft!K13*100,1)))","v":33},{"$f":"IF(kadft!$U$7=\"県計\",kadft!$U$16,IF(kadft!$U$7=\"前回\",ROUND(kadft!$T$13/kadft!K13*100,1)))","v":16.1},null,null,"単位１"]
[]
[{"$nulls":3},"耕作放棄地面積",null,"耕作放棄地率"]
[null,null,{"$f":"IF(kadft!$U$7=\"県計\",$J$15,IF(kadft!$U$7=\"前回\",$G$14))","v":"2010年"},{"$f":"IF(kadft!$U$7=\"県計\",kadft!$X$16,IF(kadft!$U$7=\"前回\",ROUND(kadft!$W$13,0)))","v":17146}]
[null,null,{"$f":"IF(kadft!$U$7=\"県計\",$G$13,IF(kadft!$U$7=\"前回\",$G$15))","v":"2015年"},{"$f":"IF(kadft!$U$7=\"県計\",kadft!$X$15,IF(kadft!$U$7=\"前回\",ROUND(kadft!$W$14,0)))","v":16776}]
[{"$nulls":6},"IF($U$6=\"県計\",BH17,IF($U$6=\"前回\",BJ17))"]
[]
[]
[]
[]
[{"$nulls":3},{"$f":"kadft!E30","v":"森林地域"},{"$f":"kadft!G30","v":"農業地域"},"市街化区域","市街化調整区域","商業関連地域","工業関連地域"]
[null,null,{"$f":"G13","v":"長野県"},{"$f":"IF(kadft!E$35=0,0.001,kadft!E$35)","v":{"v":1,"d":"1.0"}},{"$f":"IF(kadft!G$35=0,0.001,kadft!G$35)","v":{"v":1,"d":"1.0"}},{"$f":"IF(kadft!I$35=0,0.001,kadft!I$35)","v":{"v":1,"d":"1.0"}},{"$f":"IF(kadft!K$35=0,0.001,kadft!K$35)","v":{"v":1,"d":"1.0"}},{"$f":"IF(kadft!M$35=0,0.001,kadft!M$35)","v":{"v":1,"d":"1.0"}},{"$f":"IF(kadft!O$35=0,0.001,kadft!O$35)","v":{"v":1,"d":"1.0"}},{"$f":"IF(kadft!K$35=0,0.01,kadft!K$35)","v":{"v":1,"d":"1.0"}}]
[null,null,"県　　計",{"v":1,"d":"1.0"},{"v":1,"d":"1.0"},{"v":1,"d":"1.0"},{"v":1,"d":"1.0"},{"v":1,"d":"1.0"},{"v":1,"d":"1.0"}]
{"$rows_empty":7}
[{"$nulls":8},"単位１"]
[]
[]
[{"$nulls":8},{"$f":"IF(kadft!$U$7=\"県計\",$I$18,IF(kadft!$U$7=\"前回\",$I$17))","v":"(経営体)"}]
[null,null,"事業実施率","事業実施経営体数"]
[null,null,"事業有り","事業無し"]
[null,{"$f":"IF(kadft!$U$7=\"県計\",$J$15,IF(kadft!$U$7=\"前回\",$G$14))","v":"2010年"},{"$f":"IF(kadft!$U$7=\"県計\",kadft!$H$48,IF(kadft!$U$7=\"前回\",kadft!$H$45))","v":17375},{"$f":"IF(kadft!$U$7=\"県計\",kadft!$H$48,IF(kadft!$U$7=\"前回\",kadft!$H$45))","v":17375}]
[null,{"$f":"IF(kadft!$U$7=\"県計\",$G$13,IF(kadft!$U$7=\"前回\",$G$15))","v":"2015年"},{"$f":"IF(kadft!$U$7=\"県計\",kadft!$H$47,IF(kadft!$U$7=\"前回\",kadft!$H$46))","v":12618},{"$f":"E45/kadft!E46","v":0}]
[]
[]
[null,null,"事業種類別実施率","事業種類別経営体数"]
[null,null,{"$f":"kadft!T43","v":"その他"},{"$f":"kadft!Q43","v":"観光農園"},{"$f":"kadft!N43","v":"消費者に直接販売"},{"$f":"kadft!K43","v":"農産物の加工"}]
[null,{"$f":"IF(kadft!$U$7=\"県計\",$J$15,IF(kadft!$U$7=\"前回\",$G$14))","v":"2010年"},{"$f":"IF(kadft!$U$7=\"県計\",kadft!$T$48,IF(kadft!$U$7=\"前回\",kadft!$T$45))","v":930},{"$f":"IF(kadft!$U$7=\"県計\",kadft!$Q$48,IF(kadft!$U$7=\"前回\",kadft!$Q$45))","v":811},{"$f":"IF(kadft!$U$7=\"県計\",kadft!$N$48,IF(kadft!$U$7=\"前回\",kadft!$N$45))","v":15528},{"$f":"IF(kadft!$U$7=\"県計\",kadft!$K$48,IF(kadft!$U$7=\"前回\",kadft!$K$45))","v":3454}]
[null,{"$f":"IF(kadft!$U$7=\"県計\",$G$13,IF(kadft!$U$7=\"前回\",$G$15))","v":"2015年"},{"$f":"IF(kadft!$U$7=\"県計\",kadft!$T$47,IF(kadft!$U$7=\"前回\",kadft!$T$46))","v":675},{"$f":"IF(kadft!$U$7=\"県計\",kadft!$Q$47,IF(kadft!$U$7=\"前回\",kadft!$Q$46))","v":592},{"$f":"IF(kadft!$U$7=\"県計\",kadft!$N$47,IF(kadft!$U$7=\"前回\",kadft!$N$46))","v":11044},{"$f":"IF(kadft!$U$7=\"県計\",kadft!$K$47,IF(kadft!$U$7=\"前回\",kadft!$K$46))","v":2644}]
[]
[]
[]
[]
[]
[]
[{"$nulls":3},"水田率別農業集落数割合",null,"水田率別農業集落数"]
[{"$nulls":3},"水田集落","田畑集落","畑地集落"]
[null,null,{"$f":"IF(kadft!$U$7=\"県計\",$G$13,IF(kadft!$U$7=\"前回\",$G$15))","v":"2015年"},{"$f":"IF(kadft!$U$7=\"県計\",kadft!$G$65,IF(kadft!$U$7=\"前回\",kadft!$G$64))","v":1132},{"$f":"IF(kadft!$U$7=\"県計\",kadft!$I$65,IF(kadft!$U$7=\"前回\",kadft!$I$64))","v":2019},{"$f":"IF(kadft!$U$7=\"県計\",kadft!$K$65,IF(kadft!$U$7=\"前回\",kadft!$K$64))","v":1576}]
[null,null,{"$f":"IF(kadft!$U$7=\"県計\",$J$15,IF(kadft!$U$7=\"前回\",$G$14))","v":"2010年"},{"$f":"IF(kadft!$U$7=\"県計\",kadft!$G$66,IF(kadft!$U$7=\"前回\",kadft!$G$63))","v":1226},{"$f":"IF(kadft!$U$7=\"県計\",kadft!$I$66,IF(kadft!$U$7=\"前回\",kadft!$I$63))","v":2063},{"$f":"IF(kadft!$U$7=\"県計\",kadft!$K$66,IF(kadft!$U$7=\"前回\",kadft!$K$63))","v":1447}]
[]
[{"$nulls":3},"農家率別農業集落数割合",null,"農家率別農業集落数"]
[{"$nulls":3},"１０%未満","10～30","30～50","50～70","70～90","90%以上"]
[null,null,{"$f":"IF(kadft!$U$7=\"県計\",$J$15,IF(kadft!$U$7=\"前回\",$G$14))","v":"2010年"},{"$f":"IF(kadft!$U$7=\"県計\",kadft!$M$66,IF(kadft!$U$7=\"前回\",kadft!$M$63))","v":858},{"$f":"IF(kadft!$U$7=\"県計\",kadft!$O$66,IF(kadft!$U$7=\"前回\",kadft!$O$63))","v":1126},{"$f":"IF(kadft!$U$7=\"県計\",kadft!$Q$66,IF(kadft!$U$7=\"前回\",kadft!$Q$63))","v":1109},{"$f":"IF(kadft!$U$7=\"県計\",kadft!$S$66,IF(kadft!$U$7=\"前回\",kadft!$S$63))","v":1063},{"$f":"IF(kadft!$U$7=\"県計\",kadft!$U$66,IF(kadft!$U$7=\"前回\",kadft!$U$63))","v":471},{"$f":"IF(kadft!$U$7=\"県計\",kadft!$W$66,IF(kadft!$U$7=\"前回\",kadft!$W$63))","v":109}]
[null,null,{"$f":"IF(kadft!$U$7=\"県計\",$G$13,IF(kadft!$U$7=\"前回\",$G$15))","v":"2015年"},{"$f":"IF(kadft!$U$7=\"県計\",kadft!$M$65,IF(kadft!$U$7=\"前回\",kadft!$M$64))","v":996},{"$f":"IF(kadft!$U$7=\"県計\",kadft!$O$65,IF(kadft!$U$7=\"前回\",kadft!$O$64))","v":1279},{"$f":"IF(kadft!$U$7=\"県計\",kadft!$Q$65,IF(kadft!$U$7=\"前回\",kadft!$Q$64))","v":1142},{"$f":"IF(kadft!$U$7=\"県計\",kadft!$S$65,IF(kadft!$U$7=\"前回\",kadft!$S$64))","v":966},{"$f":"IF(kadft!$U$7=\"県計\",kadft!$U$65,IF(kadft!$U$7=\"前回\",kadft!$U$64))","v":275},{"$f":"IF(kadft!$U$7=\"県計\",kadft!$W$65,IF(kadft!$U$7=\"前回\",kadft!$W$64))","v":69}]
[]
[{"$nulls":9},"単位１"]
[{"$nulls":9},{"$f":"IF(kadft!$U$7=\"県計\",$I$18,IF(kadft!$U$7=\"前回\",$J$16))","v":"（集落）"}]
{"$rows_empty":10}
[{"$nulls":3},"　寄り合いの実施率",null,"　寄り合いの実施状況"]
[]
[null,{"$f":"kadft!W77","v":"寄り合いを開催しなかった"},{"$f":"kadft!T77","v":"農業集落内の福祉・厚生"},{"$f":"kadft!Q77","v":"農業集落行事の計画・推進"},{"$f":"kadft!N77","v":"環境美化・自然環境の保全"},{"$f":"kadft!K77","v":"集落共有財産・施設の管理"},{"$f":"kadft!H77","v":"農道・水路・ため池等の管理"},{"$f":"kadft!E77","v":"農業生産にかかる事項"}]
[{"$f":"IF(kadft!$U$7=\"県計\",$J$15,IF(kadft!$U$7=\"前回\",$G$14))","v":"2010年"},{"$f":"IF(kadft!$U$7=\"県計\",kadft!$W$82,IF(kadft!$U$7=\"前回\",kadft!$W$79))","v":225},{"$f":"IF(kadft!$U$7=\"県計\",kadft!$T$82,IF(kadft!$U$7=\"前回\",kadft!$T$79))","v":3394},{"$f":"IF(kadft!$U$7=\"県計\",kadft!$Q$82,IF(kadft!$U$7=\"前回\",kadft!$Q$79))","v":4153},{"$f":"IF(kadft!$U$7=\"県計\",kadft!$N$82,IF(kadft!$U$7=\"前回\",kadft!$N$79))","v":3923},{"$f":"IF(kadft!$U$7=\"県計\",kadft!$K$82,IF(kadft!$U$7=\"前回\",kadft!$K$79))","v":3618},{"$f":"IF(kadft!$U$7=\"県計\",kadft!$H$82,IF(kadft!$U$7=\"前回\",kadft!$H$79))","v":3681},{"$f":"IF(kadft!$U$7=\"県計\",kadft!$E$82,IF(kadft!$U$7=\"前回\",kadft!$E$79))","v":3044}]
[{"$f":"IF(kadft!$U$7=\"県計\",$G$13,IF(kadft!$U$7=\"前回\",$G$15))","v":"2015年"},{"$f":"IF(kadft!$U$7=\"県計\",kadft!$W$81,IF(kadft!$U$7=\"前回\",kadft!$W$80))","v":155},{"$f":"IF(kadft!$U$7=\"県計\",kadft!$T$81,IF(kadft!$U$7=\"前回\",kadft!$T$80))","v":4146},{"$f":"IF(kadft!$U$7=\"県計\",kadft!$Q$81,IF(kadft!$U$7=\"前回\",kadft!$Q$80))","v":4484},{"$f":"IF(kadft!$U$7=\"県計\",kadft!$N$81,IF(kadft!$U$7=\"前回\",kadft!$N$80))","v":4512},{"$f":"IF(kadft!$U$7=\"県計\",kadft!$K$81,IF(kadft!$U$7=\"前回\",kadft!$K$80))","v":3931},{"$f":"IF(kadft!$U$7=\"県計\",kadft!$H$81,IF(kadft!$U$7=\"前回\",kadft!$H$80))","v":4198},{"$f":"IF(kadft!$U$7=\"県計\",kadft!$E$81,IF(kadft!$U$7=\"前回\",kadft!$E$80))","v":3187}]
{"$rows_empty":14}
[null,null,"　保全管理の実施率",null,null,"　保全管理の実施状況"]
[null,null,"農地の保全","森林の保全","ため池・湖沼の保全","河川・水路の保全","農業用用排水路の保全"]
[null,{"$f":"IF(kadft!$U$7=\"県計\",$J$15,IF(kadft!$U$7=\"前回\",$G$14))","v":"2010年"},{"$f":"IF(kadft!$U$7=\"県計\",kadft!$G$101,IF(kadft!$U$7=\"前回\",kadft!$G$98))","v":1913},{"$f":"IF(kadft!$U$7=\"県計\",kadft!$K$101,IF(kadft!$U$7=\"前回\",kadft!$K$98))","v":1080},{"$f":"IF(kadft!$U$7=\"県計\",kadft!$O$101,IF(kadft!$U$7=\"前回\",kadft!$O$98))","v":565},{"$f":"IF(kadft!$U$7=\"県計\",kadft!$S$101,IF(kadft!$U$7=\"前回\",kadft!$S$98))","v":2532},{"$f":"IF(kadft!$U$7=\"県計\",kadft!$W$101,IF(kadft!$U$7=\"前回\",kadft!$W$98))","v":3777}]
[null,{"$f":"IF(kadft!$U$7=\"県計\",$G$13,IF(kadft!$U$7=\"前回\",$G$15))","v":"2015年"},{"$f":"IF(kadft!$U$7=\"県計\",kadft!$G$100,IF(kadft!$U$7=\"前回\",kadft!$G$99))","v":2176},{"$f":"IF(kadft!$U$7=\"県計\",kadft!$K$100,IF(kadft!$U$7=\"前回\",kadft!$K$99))","v":1382},{"$f":"IF(kadft!$U$7=\"県計\",kadft!$O$100,IF(kadft!$U$7=\"前回\",kadft!$O$99))","v":588},{"$f":"IF(kadft!$U$7=\"県計\",kadft!$S$100,IF(kadft!$U$7=\"前回\",kadft!$S$99))","v":2882},{"$f":"IF(kadft!$U$7=\"県計\",kadft!$W$100,IF(kadft!$U$7=\"前回\",kadft!$W$99))","v":3959}]

{"sheet":"2010","index":2,"n_rows":505,"n_cols":48,"rows_kept":505,"hidden":true,"merged":[[3,3,3,4],[3,5,3,8],[3,10,3,15],[3,16,3,19],[3,20,3,25],[3,26,3,32],[3,33,3,42]]}
["農山村地域調査"]
["１　総土地面積及び林野面積"]
[{"$nulls":3},1,2,3,4,5,6,7,8,9,10,11,12,13,14,15,16,17,18,19,20,21,22,23,24,25,26,27,28,29,30,31,32,33,34,35,36,37,38,39,40,41,42,43,44,45]
[{"$nulls":3},"総土地面積",null,"耕地面積",{"$nulls":4},"生産関連",{"$nulls":5},"水田率",{"$nulls":3},"農家率",{"$nulls":5},"寄り合いの議題_農業生産にかかる事項",{"$nulls":6},"保全管理"]
["新旧市区町村",null,null,"総土地\n面　積","林野面積","耕地面積","田面積","畑面積","樹園地面積","耕作\n放棄地\n面積","計","農業生産関連事業を行っている実経営体数","事業種類別_農産物の加工","事業種類別_消費者に直接販売","事業種類別_観光農園","その他","計","水田集落\n（70％以上）","田畑集落\n（30～70）","畑地集落\n（30％未満）","10％未満","10～30","30～50","50～70","70～90","90％以上","寄り合いの議題_農業生産にかかる事項","寄り合いの議題_農道・農業用用排水路・ため池の管理","寄り合いの議題_集落共有財産・共用施設の管理","寄り合いの議題_環境美化・自然環境の保全","寄り合いの議題_農業集落行事（祭り・イベント等）の計画・推進","寄り合いの議題_農業集落内の福祉・厚生","寄り合いを開催しなかった","農地_ある","農地_保全している","森林_ある","森林_保全している","ため池・湖沼_ある","ため池・湖沼_保全している","河川・水路_ある","河川・水路_保全している","農業用用排水路_ある","農業用用排水路_保全している"]
[1,"長野県",null,{"v":1356223,"d":"1,356,223"},{"v":1022777,"d":"1,022,777"},110877,56367,36605,17905,{"v":17145.79,"d":"17146"},{"v":64289,"d":"64,289"},{"v":17375,"d":"17,375"},{"v":3454,"d":"3,454"},{"v":15528,"d":"15,528"},811,930,{"v":4736,"d":"4,736"},{"v":1226,"d":"1,226"},{"v":2063,"d":"2,063"},{"v":1447,"d":"1,447"},858,{"v":1126,"d":"1,126"},{"v":1109,"d":"1,109"},{"v":1063,"d":"1,063"},471,109,{"v":3044,"d":"3,044"},{"v":3681,"d":"3,681"},{"v":3618,"d":"3,618"},{"v":3923,"d":"3,923"},{"v":4153,"d":"4,153"},{"v":3394,"d":"3,394"},225,{"v":4557,"d":"4,557"},{"v":1913,"d":"1,913"},{"v":3716,"d":"3,716"},{"v":1080,"d":"1,080"},{"v":1028,"d":"1,028"},565,{"v":4326,"d":"4,326"},{"v":2532,"d":"2,532"},{"v":4385,"d":"4,385"},{"v":3777,"d":"3,777"}]
[2,"長野市",null,{"v":83485,"d":"83,485"},{"v":51140,"d":"51,140"},8692,2695,3024,2973,{"v":2481.39,"d":"2481"},{"v":6659,"d":"6,659"},{"v":1671,"d":"1,671"},149,{"v":1609,"d":"1,609"},44,72,652,42,319,291,97,98,133,184,110,30,462,511,475,488,566,423,27,647,256,468,108,91,58,529,255,596,560]
[3,null,"長野市（旧）",{"v":3036,"d":"3,036"},382,59,28,13,18,{"v":60.84,"d":"61"},127,48,4,47,"-","-",13,2,4,7,13,"-","-","-","-","-",10,0,0,13,10,0,0,11,0,7,0,0,0,8,1,10,9]
[4,null,"芋井村",{"v":3128,"d":"3,128"},{"v":2033,"d":"2,033"},222,87,84,51,{"v":161.02,"d":"161"},189,48,1,45,"-",2,30,2,18,10,1,1,6,8,10,4,28,30,30,30,30,20,0,30,24,30,1,3,2,29,13,30,30]
[5,null,"浅川村",{"v":2389,"d":"2,389"},{"v":1909,"d":"1,909"},82,19,17,46,{"v":31.87,"d":"32"},122,26,1,26,"-","-",16,"-",4,12,3,7,1,4,1,"-",15,12,15,12,15,9,1,15,6,15,0,2,0,15,0,13,10]
[6,null,"若槻村",{"v":1312,"d":"1,312"},525,148,51,20,77,{"v":44.18,"d":"44"},173,39,7,38,"-",1,9,"-",5,4,5,1,2,"-","-",1,8,8,8,7,8,7,1,9,2,7,0,6,0,7,0,8,8]
[7,null,"古里村",517,7,176,73,11,92,{"v":28.52,"d":"29"},170,37,3,35,"-","-",7,2,4,1,6,1,"-","-","-","-",0,7,7,0,7,0,0,7,0,1,0,3,0,5,0,7,7]
[8,null,"長沼村",690,"-",438,115,18,305,{"v":25.02,"d":"25"},282,136,21,133,17,4,4,"-",1,3,"-","-",3,1,"-","-",2,4,4,0,4,0,0,4,0,0,0,0,0,4,0,4,4]
[9,null,"柳原村（長野市）",400,"-",104,42,22,40,{"v":7.27,"d":"7"},93,28,1,28,"-","-",4,1,2,1,3,"-",1,"-","-","-",1,4,4,0,4,0,0,4,0,0,0,0,0,2,0,4,4]
[10,null,"朝陽村",637,"-",155,55,41,59,{"v":25.01,"d":"25"},144,35,2,33,"-",4,5,2,1,2,3,1,"-",1,"-","-",0,5,5,0,5,0,0,5,0,0,0,0,0,2,0,5,5]
[11,null,"大豆島村",519,"-",129,67,42,20,{"v":19.23,"d":"19"},113,15,"-",15,"-","-",6,2,4,"-",4,2,"-","-","-","-",6,0,0,2,3,0,0,6,0,0,0,0,0,4,0,6,6]
[12,null,"安茂里村",{"v":1445,"d":"1,445"},825,84,15,19,50,{"v":27.12,"d":"27"},56,15,"-",15,"-","-",7,"-",2,5,7,"-","-","-","-","-",5,6,2,3,5,4,1,7,0,5,0,0,0,6,0,6,6]
[13,null,"小田切村",{"v":1849,"d":"1,849"},{"v":1255,"d":"1,255"},81,13,41,27,{"v":101.08,"d":"101"},61,10,"-",10,"-","-",30,"-",7,23,3,"-",4,9,9,5,14,22,21,13,21,24,5,28,4,30,0,1,1,25,1,18,17]
[14,null,"篠ノ井町",656,11,154,20,17,117,{"v":24.74,"d":"25"},179,50,4,48,"-","-",6,"-",1,5,3,"-",2,1,"-","-",6,6,6,6,6,6,0,6,0,2,0,1,1,2,0,6,6]
[15,null,"川柳村",399,128,116,65,14,37,{"v":28.51,"d":"29"},114,28,"-",28,"-","-",5,3,2,"-","-",1,2,2,"-","-",5,5,5,5,5,5,0,5,3,3,0,0,0,3,2,5,5]
[16,null,"塩崎村",832,147,268,99,55,114,{"v":36.75,"d":"37"},254,48,2,47,"-",2,10,1,3,6,1,1,5,3,"-","-",10,10,10,10,10,10,0,10,1,3,0,2,1,10,4,10,10]
[17,null,"東福寺村",426,"-",201,52,58,91,{"v":15.73,"d":"16"},187,27,"-",27,1,1,7,"-",4,3,1,2,2,1,1,"-",0,7,7,7,7,7,0,7,0,0,0,0,0,7,6,7,6]
[18,null,"信里村",{"v":1313,"d":"1,313"},502,284,111,109,64,{"v":98.79,"d":"99"},163,33,3,32,3,1,14,"-",12,2,"-","-",1,7,5,1,14,13,14,14,14,10,0,14,14,14,7,14,14,12,10,14,14]
[19,null,"西寺尾村２－１",203,"-",81,30,32,19,{"v":6.63,"d":"7"},70,11,2,10,"-",1,7,"-",4,3,2,3,"-",2,"-","-",0,7,7,7,7,7,0,7,0,0,0,0,0,7,7,7,7]
[20,null,"共和村",{"v":1009,"d":"1,009"},446,311,48,21,242,{"v":28.65,"d":"29"},279,71,3,67,1,3,13,"-",1,12,2,2,4,5,"-","-",12,6,3,11,11,8,0,13,5,7,0,0,0,12,1,13,13]
[21,null,"川中島村",481,"-",171,87,45,39,{"v":21.17,"d":"21"},136,21,2,21,"-","-",13,"-",12,1,5,6,2,"-","-","-",8,9,9,7,9,7,1,13,0,0,0,0,0,2,0,13,13]
[22,null,"中津村（長野市）",322,"-",84,40,6,38,{"v":10.43,"d":"10"},87,21,1,21,"-","-",6,2,3,1,3,"-",3,"-","-","-",3,4,4,4,4,4,2,6,0,0,0,0,0,0,0,6,6]
[23,null,"御厨村",260,"-",76,39,19,18,{"v":11.92,"d":"12"},87,18,"-",18,"-","-",10,"-",10,"-",2,6,1,1,"-","-",6,6,6,6,5,4,4,10,0,0,0,0,0,0,0,10,10]
[24,null,"信田村",{"v":2239,"d":"2,239"},{"v":1439,"d":"1,439"},303,169,61,73,{"v":73.5,"d":"74"},232,31,1,29,"-",2,17,4,12,1,"-",1,"-",4,10,2,17,17,17,17,16,8,0,17,16,17,4,8,6,14,11,16,16]
[25,null,"更府村",{"v":1291,"d":"1,291"},806,150,57,84,9,{"v":93.68,"d":"94"},67,13,1,12,"-",1,10,"-",7,3,"-",1,"-",5,3,1,10,10,10,10,10,10,0,10,10,10,5,7,6,10,7,10,10]
[26,null,"青木島村",588,"-",64,22,11,31,{"v":12.28,"d":"12"},59,12,"-",12,1,"-",9,"-",5,4,5,2,2,"-","-","-",1,1,5,5,1,2,4,9,0,0,0,0,0,4,0,8,7]
[27,null,"稲里村",414,"-",75,43,15,17,{"v":9.84,"d":"10"},85,16,"-",15,"-",1,18,3,13,2,11,4,2,1,"-","-",5,7,0,2,18,17,0,18,0,0,0,0,0,0,0,18,8]
[28,null,"小島田村",288,"-",121,46,47,28,{"v":11.6,"d":"12"},70,16,"-",16,3,1,10,"-",9,1,"-",4,4,2,"-","-",10,0,0,0,5,0,0,10,0,0,0,0,0,3,0,10,9]
[29,null,"真島村",470,"-",151,43,24,84,{"v":14.3,"d":"14"},190,67,9,65,"-",1,7,"-",4,3,"-",1,4,1,1,"-",7,6,6,4,6,5,0,7,1,0,0,0,0,6,4,7,7]
[30,null,"松代町",155,"-",3,1,1,1,{"v":13.22,"d":"13"},37,11,1,11,"-","-",1,"-",1,"-","-","-",1,"-","-","-",1,1,1,1,1,1,0,1,0,0,0,0,0,0,0,1,1]
[31,null,"東条村",846,478,141,29,44,68,{"v":49.53,"d":"50"},97,13,1,13,"-","-",14,1,3,10,4,3,3,4,"-","-",6,13,13,12,10,3,1,14,0,10,2,1,0,9,2,12,12]
[32,null,"清野村",582,217,221,24,188,9,{"v":23.32,"d":"23"},132,26,"-",24,"-",3,8,"-",3,5,"-",3,"-",2,3,"-",8,7,8,8,8,8,0,8,0,7,0,2,2,2,1,7,7]
[33,null,"豊栄村",{"v":2116,"d":"2,116"},{"v":1807,"d":"1,807"},135,47,55,33,{"v":44.28,"d":"44"},61,12,"-",11,"-",2,6,1,2,3,1,"-",3,2,"-","-",3,6,6,5,6,1,0,6,3,6,0,0,0,6,5,6,6]
[34,null,"寺尾村",{"v":1042,"d":"1,042"},440,304,19,217,68,{"v":46.32,"d":"46"},141,17,1,17,1,"-",5,"-","-",5,"-",2,3,"-","-","-",2,5,5,5,5,5,0,5,0,3,1,3,1,5,2,5,5]
[35,null,"西寺尾村２－２",103,"-",68,3,55,10,{"v":8.36,"d":"8"},48,9,1,8,"-","-",1,"-","-",1,"-","-","-",1,"-","-",0,1,1,1,1,1,0,1,0,0,0,0,0,1,1,1,1]
[36,null,"西条村",{"v":1254,"d":"1,254"},{"v":1021,"d":"1,021"},73,27,29,17,{"v":40.02,"d":"40"},57,12,"-",12,"-","-",8,"-",5,3,"-",3,3,1,1,"-",8,8,8,8,8,7,0,8,2,6,1,0,0,6,5,7,7]
[37,null,"保科村",{"v":3380,"d":"3,380"},{"v":2921,"d":"2,921"},192,32,42,118,{"v":46.01,"d":"46"},146,26,"-",25,"-",1,13,"-",3,10,"-",6,3,4,"-","-",11,4,4,3,9,1,0,13,0,12,5,0,0,13,11,12,11]
[38,null,"川田村",758,177,265,96,55,114,{"v":39.09,"d":"39"},190,17,1,16,1,"-",7,"-",6,1,"-",1,4,2,"-","-",7,6,2,2,7,0,0,7,1,3,0,1,0,7,6,7,7]
[39,null,"綿内村",{"v":1472,"d":"1,472"},746,340,76,56,208,{"v":36.77,"d":"37"},295,52,5,51,"-",4,18,3,5,10,1,7,2,7,1,"-",16,16,16,16,17,15,1,18,1,6,6,1,0,13,11,16,16]
[40,null,"七二会村",{"v":1614,"d":"1,614"},783,156,45,98,13,{"v":203.31,"d":"203"},38,8,1,7,"-",2,28,"-",14,14,1,4,7,10,6,"-",18,14,18,19,27,19,0,28,13,28,0,0,0,27,2,21,20]
[41,null,"神郷村",{"v":1000,"d":"1,000"},315,305,61,40,204,{"v":41.42,"d":"41"},319,170,25,165,11,5,12,1,"-",11,2,4,2,3,"-",1,10,5,1,2,4,3,2,12,0,8,1,3,3,11,2,11,11]
[42,null,"鳥居村",990,330,284,73,47,164,{"v":32.71,"d":"33"},259,100,15,97,4,3,21,"-",12,9,1,"-",7,5,5,3,6,21,10,13,20,12,0,21,0,12,1,1,1,18,2,21,21]
[43,null,"戸隠村",{"v":10316,"d":"10,316"},{"v":7795,"d":"7,795"},380,103,276,1,{"v":87.34,"d":"87"},200,47,4,44,"-",2,26,1,12,13,"-",1,7,10,5,3,26,24,26,26,26,24,0,26,25,25,21,4,4,26,25,26,25]
[44,null,"柵村",{"v":2960,"d":"2,960"},{"v":2244,"d":"2,244"},206,69,133,4,{"v":60.49,"d":"60"},137,22,1,20,"-",1,30,"-",20,10,"-",2,4,11,12,1,25,26,23,27,27,21,2,30,21,30,13,3,3,30,27,30,30]
[45,null,"鬼無里村",{"v":12796,"d":"12,796"},{"v":10982,"d":"10,982"},245,122,123,0,100,134,22,3,18,"-",5,28,1,24,3,"-",2,7,12,5,2,16,21,21,25,24,23,2,28,5,28,21,4,1,28,15,28,27]
[46,null,"大岡村",{"v":3568,"d":"3,568"},{"v":2758,"d":"2,758"},199,111,76,12,{"v":67.56,"d":"68"},109,18,3,16,"-",4,37,8,24,5,"-",5,4,15,12,1,21,34,35,35,33,27,0,37,36,37,1,6,2,37,37,37,36]
[47,null,"牧郷村２－２",{"v":1018,"d":"1,018"},728,66,41,25,0,{"v":14.15,"d":"14"},51,12,2,11,1,1,8,2,5,1,"-","-",3,1,1,3,6,7,8,8,5,2,0,8,8,8,1,2,1,8,7,8,7]
[48,null,"水内村（長野市）",846,456,113,17,65,31,{"v":56.5,"d":"57"},72,26,3,24,"-",1,17,"-",3,14,4,2,4,6,1,"-",16,16,13,15,17,17,0,17,5,17,0,1,1,17,2,14,9]
[49,null,"津和村",{"v":2483,"d":"2,483"},{"v":1713,"d":"1,713"},96,1,79,16,{"v":121.11,"d":"121"},62,26,3,24,"-",1,23,"-","-",23,"-",3,3,8,7,2,23,18,13,23,23,23,0,23,23,23,14,2,0,18,5,11,6]
[50,null,"日原村",751,689,48,17,23,8,{"v":19.78,"d":"20"},36,14,2,14,"-",1,5,"-",3,2,"-",1,2,1,1,"-",5,5,5,5,5,5,0,5,1,5,0,2,1,5,1,5,4]
[51,null,"八坂村２－２",307,260,33,9,23,1,{"v":15.83,"d":"16"},8,3,"-",3,"-",1,1,"-","-",1,"-","-",1,"-","-","-",1,1,1,1,1,1,0,1,1,1,0,1,1,1,1,1,1]
[52,null,"信級村",{"v":1418,"d":"1,418"},{"v":1184,"d":"1,184"},44,12,24,8,{"v":11.56,"d":"12"},22,5,"-",5,"-",2,6,"-",3,3,"-","-",2,4,"-","-",1,5,2,3,4,2,0,6,4,6,0,1,1,6,5,6,6]
[53,null,"牧郷村２－１",{"v":1268,"d":"1,268"},748,173,68,76,29,{"v":46.01,"d":"46"},114,41,4,39,"-",1,14,"-",11,3,"-",1,2,6,5,"-",5,13,8,8,10,6,0,14,9,14,0,3,2,14,5,14,14]
[54,null,"栄村（長野市）",{"v":1520,"d":"1,520"},781,148,24,104,20,{"v":113.47,"d":"113"},80,32,4,31,"-",2,14,"-",4,10,"-",1,4,8,1,"-",11,14,14,14,14,14,0,14,4,14,1,2,2,14,7,11,10]
[55,null,"日里村",{"v":1809,"d":"1,809"},{"v":1152,"d":"1,152"},166,32,124,10,{"v":113.55,"d":"114"},25,10,1,10,"-",5,8,"-",2,6,"-","-",1,3,4,"-",7,8,8,8,8,8,0,8,8,8,2,1,1,8,1,7,7]
[56,"松本市",null,{"v":91935,"d":"91,935"},{"v":69288,"d":"69,288"},"@","@","@","@","@","@","@","@","@","@","@",255,101,96,58,"@","@","@","@","@","@","@","@","@","@","@","@","@","@","@","@","@","@","@","@","@","@","@"]
[57,null,"松本市（旧）",{"v":2132,"d":"2,132"},74,74,52,20,2,{"v":16.31,"d":"16"},137,52,2,52,"-",1,11,3,2,6,11,"-","-","-","-","-",4,2,4,9,8,8,1,7,1,3,1,3,2,11,4,9,2]
[58,null,"島内村",{"v":1516,"d":"1,516"},298,469,449,20,0,{"v":22.94,"d":"23"},295,39,2,38,1,"-",15,12,2,1,4,7,3,1,"-","-",10,10,12,15,15,14,0,15,4,4,1,2,0,15,6,15,4]
[59,null,"中山村",{"v":2143,"d":"2,143"},{"v":1478,"d":"1,478"},212,117,85,10,{"v":58.99,"d":"59"},152,26,2,25,"-",2,6,2,3,1,1,2,2,1,"-","-",6,6,6,6,6,6,0,6,6,6,5,3,2,6,5,6,5]
[60,null,"島立村",620,"-",294,288,4,2,{"v":2.31,"d":"2"},223,38,"-",38,1,1,10,10,"-","-",4,4,2,"-","-","-",8,6,9,10,10,10,0,10,1,0,0,1,0,10,2,10,1]
[61,null,"和田村（松本市）",785,"-",559,487,72,0,{"v":6.03,"d":"6"},277,30,1,29,"-",1,9,9,"-","-","-",3,6,"-","-","-",7,1,0,4,1,0,2,9,0,0,0,0,0,9,9,9,9]
[62,null,"笹賀村",883,8,405,336,28,41,{"v":18.87,"d":"19"},260,44,7,39,"-",2,10,9,1,"-",4,4,1,1,"-","-",10,5,3,5,3,2,0,10,0,0,0,1,0,10,3,10,3]
[63,null,"芳川村",566,"-",153,140,13,0,{"v":9.46,"d":"9"},113,10,2,9,"-",1,5,5,"-","-",5,"-","-","-","-","-",4,4,4,4,4,4,1,5,3,0,0,3,2,5,4,5,4]
[64,null,"寿村",942,101,338,229,59,50,{"v":28.9,"d":"29"},238,43,2,42,5,3,8,4,4,"-",5,3,"-","-","-","-",8,8,8,8,8,8,0,8,8,3,3,5,5,8,8,8,8]
[65,null,"岡田村",{"v":1070,"d":"1,070"},578,205,120,52,33,{"v":36.48,"d":"36"},158,56,"-",56,"-","-",7,2,4,1,2,1,3,1,"-","-",6,7,4,2,7,7,0,7,0,5,2,7,5,7,5,7,5]
[66,null,"入山辺村",{"v":7748,"d":"7,748"},{"v":7302,"d":"7,302"},235,72,83,80,{"v":77.29,"d":"77"},146,52,"-",51,"-",1,22,"-",13,9,1,8,5,6,1,1,20,13,10,19,20,18,0,22,4,21,10,19,0,22,5,22,3]
[67,null,"里山辺村",{"v":1115,"d":"1,115"},611,205,113,21,71,{"v":18.35,"d":"18"},181,64,3,61,4,2,12,1,10,1,5,3,4,"-","-","-",12,5,6,11,11,12,0,12,0,5,2,10,3,12,6,12,1]
[68,null,"今井村",{"v":1157,"d":"1,157"},28,702,253,198,251,{"v":40.93,"d":"41"},329,143,17,143,10,2,14,3,7,4,1,4,5,4,"-","-",13,3,2,9,5,3,1,14,0,3,0,2,0,13,11,14,10]
[69,null,"新村",468,"-",279,266,9,4,{"v":3.38,"d":"3"},222,17,1,17,"-","-",5,5,"-","-","-",3,2,"-","-","-",5,0,0,2,2,0,0,5,0,0,0,0,0,5,5,5,5]
[70,null,"神林村",568,"-",330,303,13,14,{"v":1.65,"d":"2"},234,33,"-",33,"-","-",7,7,"-","-","-",5,2,"-","-","-",7,1,0,5,1,0,0,7,0,0,0,0,0,7,6,7,3]
[71,null,"片丘村２－２",{"v":1144,"d":"1,144"},656,188,74,112,2,{"v":32.78,"d":"33"},79,9,"-",9,"-","-",2,"-",2,"-","-",1,1,"-","-","-",1,1,1,1,1,1,1,2,1,2,1,2,1,2,1,2,1]
[72,null,"本郷村（松本市）",{"v":3692,"d":"3,692"},{"v":2918,"d":"2,918"},228,123,89,16,{"v":58.28,"d":"58"},145,43,1,42,"-",1,8,3,4,1,3,1,2,2,"-","-",6,6,3,1,6,5,2,8,0,8,4,8,5,8,6,8,5]
[73,null,"洗馬村２－２",38,"-",13,0,7,6,"x",2,"x","x","x","x","x",1,"-","-",1,1,"-","-","-","-","-",0,0,0,0,0,0,1,1,0,0,0,1,0,1,0,1,0]
[74,null,"錦部村",{"v":3565,"d":"3,565"},{"v":3224,"d":"3,224"},210,145,56,9,{"v":65.47,"d":"65"},74,21,"-",21,"-","-",6,4,2,"-","-",1,3,1,1,"-",6,6,6,6,6,6,0,6,6,6,6,5,4,6,6,6,6]
[75,null,"会田村",{"v":1251,"d":"1,251"},936,130,51,68,11,{"v":73.9,"d":"74"},38,7,1,7,"-","-",7,"-",5,2,"-",3,1,3,"-","-",7,7,7,7,7,7,0,7,7,7,5,3,3,7,7,7,7]
[76,null,"五常村",{"v":1180,"d":"1,180"},766,35,15,12,8,{"v":36.54,"d":"37"},25,10,"-",10,"-","-",7,"-",4,3,3,1,1,1,1,"-",4,4,4,4,4,4,3,7,5,7,3,2,2,6,5,5,5]
[77,null,"中川村",{"v":3029,"d":"3,029"},{"v":2426,"d":"2,426"},156,64,85,7,{"v":73.3,"d":"73"},58,9,1,9,"-","-",10,"-",8,2,"-","-",2,6,2,"-",10,10,10,10,10,10,0,10,10,10,10,5,5,10,10,10,10]
[78,null,"安曇村",{"v":40318,"d":"40,318"},{"v":34462,"d":"34,462"},34,0,34,0,"x",3,"x","x","x","x","x",8,"-","-",8,6,2,"-","-","-","-",3,1,7,8,8,8,0,7,0,8,5,3,2,8,6,2,0]
[79,null,"奈川村",{"v":11765,"d":"11,765"},{"v":11085,"d":"11,085"},123,46,77,0,{"v":16.67,"d":"17"},88,17,"-",17,"-",2,14,"-",7,7,"-","-",2,10,2,"-",6,11,12,14,12,11,0,14,7,14,13,5,5,14,12,11,10]
[80,null,"梓村",{"v":3594,"d":"3,594"},{"v":2337,"d":"2,337"},834,352,181,301,{"v":22.68,"d":"23"},451,170,50,165,4,4,16,4,6,6,"-",5,3,7,1,"-",16,10,16,16,16,16,0,16,3,14,9,2,1,12,11,16,2]
[81,null,"倭村（松本市）",646,"-",362,341,18,3,{"v":7.61,"d":"8"},233,32,"-",32,"-",1,12,12,"-","-",1,7,3,1,"-","-",12,3,12,12,12,12,0,12,0,0,0,0,0,4,2,12,0]
[82,null,"波田町",{"v":5942,"d":"5,942"},{"v":4252,"d":"4,252"},919,476,311,132,{"v":30.09,"d":"30"},474,126,7,119,11,10,23,6,12,5,8,10,4,1,"-","-",21,20,22,20,21,22,0,22,1,8,1,2,0,11,1,22,12]
[83,"上田市",null,{"v":55200,"d":"55,200"},{"v":39882,"d":"39,882"},5638,3016,1942,680,{"v":1044.87,"d":"1045"},{"v":2865,"d":"2,865"},927,37,899,14,31,238,75,103,60,67,82,54,29,5,1,166,197,186,212,220,202,2,217,82,177,72,53,49,225,148,216,189]
[84,null,"上田市（旧）",{"v":2018,"d":"2,018"},665,138,69,51,18,{"v":61.39,"d":"61"},61,30,1,30,"-",3,35,2,9,24,32,2,1,"-","-","-",10,14,22,31,32,32,0,16,1,11,3,2,2,35,30,16,10]
[85,null,"塩尻村",774,367,89,69,15,5,{"v":13.73,"d":"14"},46,7,"-",6,"-",1,3,3,"-","-","-",3,"-","-","-","-",2,2,2,3,3,3,0,3,0,3,2,0,0,3,3,3,2]
[86,null,"川辺村（上田市）",683,176,149,105,29,15,{"v":14.36,"d":"14"},87,39,1,39,"-","-",6,3,2,1,3,3,"-","-","-","-",6,6,6,6,6,6,0,6,0,5,3,2,2,6,6,6,6]
[87,null,"泉田村２－２",514,334,87,61,17,9,{"v":7.75,"d":"8"},88,30,"-",30,"-",1,8,4,3,1,1,4,1,2,"-","-",8,8,7,7,7,5,0,8,1,5,3,3,3,8,8,8,8]
[88,null,"神川村",507,6,117,91,23,3,{"v":6.5,"d":"7"},83,18,"-",18,"-","-",10,6,2,2,9,1,"-","-","-","-",9,10,7,10,10,10,0,10,3,5,2,0,0,9,5,10,9]
[89,null,"神科村",{"v":1874,"d":"1,874"},833,356,176,39,141,{"v":55.58,"d":"56"},289,169,2,168,1,2,15,3,5,7,7,6,"-",1,1,"-",13,10,11,14,13,12,0,15,4,11,2,0,0,12,8,15,14]
[90,null,"豊里村",503,155,231,134,34,63,{"v":17.13,"d":"17"},143,61,2,58,1,2,9,4,2,3,1,2,5,1,"-","-",8,8,9,9,8,9,0,9,2,6,1,2,2,8,3,9,8]
[91,null,"殿城村",{"v":1113,"d":"1,113"},662,164,83,57,24,{"v":47.26,"d":"47"},53,17,2,17,1,"-",5,2,3,"-","-",3,1,1,"-","-",5,4,3,3,4,5,0,5,3,5,1,2,2,5,0,5,5]
[92,null,"中塩田村",963,185,365,282,60,23,{"v":21.73,"d":"22"},218,80,"-",80,"-","-",9,8,1,"-",1,7,1,"-","-","-",9,9,9,9,9,9,0,9,6,3,3,7,7,9,9,9,9]
[93,null,"別所村",668,515,40,20,15,5,{"v":19.16,"d":"19"},5,2,"-",2,"-","-",4,1,2,1,2,2,"-","-","-","-",0,3,4,4,4,4,0,4,0,4,0,2,1,4,1,4,3]
[94,null,"西塩田村",{"v":2448,"d":"2,448"},{"v":1920,"d":"1,920"},314,175,90,49,{"v":52.02,"d":"52"},187,42,4,39,"-",2,7,2,2,3,"-",3,2,2,"-","-",5,5,5,5,7,6,0,7,3,5,5,7,6,7,6,7,6]
[95,null,"東塩田村",{"v":2280,"d":"2,280"},{"v":1332,"d":"1,332"},571,309,173,89,{"v":102.42,"d":"102"},292,92,9,92,6,2,8,1,3,4,"-",1,7,"-","-","-",7,8,7,8,7,5,0,8,8,8,8,7,7,8,8,8,8]
[96,null,"泉田村２－１",443,201,122,95,20,7,{"v":6.21,"d":"6"},79,13,"-",13,"-","-",4,2,2,"-","-",3,1,"-","-","-",1,4,4,4,4,2,0,4,0,3,2,1,1,2,0,4,4]
[97,null,"室賀村",{"v":2131,"d":"2,131"},{"v":1855,"d":"1,855"},135,76,41,18,{"v":35.35,"d":"35"},59,20,1,19,"-","-",8,1,6,1,"-",1,2,3,2,"-",3,8,8,1,7,5,0,8,3,8,2,4,4,7,7,8,8]
[98,null,"浦里村２－１",754,401,216,138,44,34,{"v":30.4,"d":"30"},103,39,2,36,"-",1,4,1,3,"-","-",3,1,"-","-","-",4,4,4,4,3,4,0,4,4,4,4,2,2,4,4,4,4]
[99,null,"丸子町",{"v":1444,"d":"1,444"},855,122,78,39,5,{"v":47.31,"d":"47"},49,21,2,20,2,"-",12,6,5,1,5,6,1,"-","-","-",11,12,12,12,12,12,0,12,2,9,9,1,1,12,11,12,11]
[100,null,"東内村",{"v":1474,"d":"1,474"},{"v":1212,"d":"1,212"},103,75,24,4,{"v":24.12,"d":"24"},74,15,1,14,"-","-",6,5,1,"-","-",1,3,2,"-","-",2,6,5,6,6,5,0,6,0,6,0,0,0,6,0,6,6]
[101,null,"西内村",{"v":5044,"d":"5,044"},{"v":4745,"d":"4,745"},90,57,30,3,{"v":39.29,"d":"39"},25,4,1,2,"-",1,11,4,7,"-",1,5,2,2,1,"-",2,11,6,6,11,6,0,11,3,11,3,0,0,11,4,11,8]
[102,null,"依田村",{"v":1300,"d":"1,300"},630,268,159,69,40,{"v":72.71,"d":"73"},162,51,2,51,"-","-",8,2,6,"-","-",4,4,"-","-","-",5,8,4,8,8,8,0,8,4,7,0,5,5,8,4,8,8]
[103,null,"長瀬村",355,63,104,73,23,8,{"v":29.72,"d":"30"},50,16,"-",15,"-",1,8,4,4,"-",2,5,1,"-","-","-",4,4,2,8,6,6,0,8,6,3,2,1,1,7,7,8,8]
[104,null,"塩川村",953,273,221,151,63,7,{"v":66.19,"d":"66"},126,38,2,37,"-","-",6,3,3,"-",1,1,2,2,"-","-",6,6,4,5,6,4,0,6,4,6,4,2,1,6,3,6,6]
[105,null,"傍陽村",{"v":7604,"d":"7,604"},{"v":6418,"d":"6,418"},263,93,122,48,{"v":78.94,"d":"79"},91,27,1,26,1,2,14,"-",7,7,2,1,5,6,"-","-",10,12,11,12,10,10,2,12,6,14,7,0,0,13,8,11,11]
[106,null,"本原村",857,624,165,89,46,30,{"v":35.21,"d":"35"},83,31,1,31,1,"-",11,2,9,"-","-",8,"-",2,"-",1,10,8,7,11,11,9,0,11,6,9,0,0,0,8,6,11,10]
[107,null,"長村",{"v":9729,"d":"9,729"},{"v":7859,"d":"7,859"},773,82,681,10,{"v":83.62,"d":"84"},162,30,1,23,1,9,10,"-",7,3,"-",4,4,2,"-","-",9,10,10,9,9,8,0,10,7,10,6,3,2,10,7,10,9]
[108,null,"武石村",{"v":8767,"d":"8,767"},{"v":7596,"d":"7,596"},435,276,137,22,{"v":76.77,"d":"77"},250,35,2,33,"-",4,17,6,9,2,"-",3,10,3,1,"-",17,17,17,17,17,17,0,17,6,16,0,0,0,17,0,17,8]
[109,"岡谷市",null,{"v":8514,"d":"8,514"},{"v":5681,"d":"5,681"},248,89,150,9,{"v":95.03,"d":"95"},118,61,3,61,"-","-",25,"-",15,10,22,2,"-","-",1,"-",20,20,25,25,25,24,0,23,2,18,5,11,5,23,23,19,19]
[110,null,"岡谷市（旧）",{"v":4100,"d":"4,100"},{"v":2949,"d":"2,949"},60,13,43,4,{"v":30.23,"d":"30"},46,20,"-",20,"-","-",12,"-",6,6,11,"-","-","-",1,"-",9,8,12,12,12,12,0,11,0,6,1,5,3,11,11,7,7]
[111,null,"湊村",{"v":1327,"d":"1,327"},663,37,7,29,1,{"v":11.1,"d":"11"},14,10,"-",10,"-","-",3,"-","-",3,3,"-","-","-","-","-",1,2,3,3,3,2,0,2,1,3,1,2,0,2,2,2,2]
[112,null,"川岸村",{"v":1970,"d":"1,970"},{"v":1313,"d":"1,313"},83,30,51,2,{"v":41.62,"d":"42"},20,9,1,9,"-","-",6,"-",5,1,4,2,"-","-","-","-",6,6,6,6,6,6,0,6,0,6,2,2,1,6,6,6,6]
[113,null,"長地村２－１",{"v":1117,"d":"1,117"},756,68,39,27,2,{"v":12.08,"d":"12"},38,22,2,22,"-","-",4,"-",4,"-",4,"-","-","-","-","-",4,4,4,4,4,4,0,4,1,3,1,2,1,4,4,4,4]
[114,"飯田市",null,{"v":65876,"d":"65,876"},{"v":53247,"d":"53,247"},3110,1196,934,980,{"v":665.5,"d":"666"},{"v":2539,"d":"2,539"},{"v":1781,"d":"1,781"},{"v":1246,"d":"1,246"},{"v":1097,"d":"1,097"},78,108,310,13,179,118,61,82,72,53,35,7,123,215,243,291,293,256,8,298,74,245,26,66,27,293,247,293,279]
[115,null,"飯田市（旧）",{"v":9524,"d":"9,524"},{"v":8839,"d":"8,839"},90,26,14,50,{"v":19.34,"d":"19"},136,98,73,68,1,3,20,4,3,13,17,2,"-","-","-",1,1,2,14,17,18,15,2,13,3,15,1,3,0,19,6,11,9]
[116,null,"竜丘村",751,232,216,88,77,51,{"v":47.59,"d":"48"},149,97,54,63,1,13,20,"-",18,2,5,9,4,1,1,"-",1,18,16,20,20,20,0,20,0,19,0,0,0,20,7,20,19]
[117,null,"下久堅村",{"v":1194,"d":"1,194"},474,245,78,99,68,{"v":71.1,"d":"71"},146,108,86,47,3,8,27,"-",20,7,"-",4,9,10,4,"-",8,27,27,27,27,27,0,27,21,27,0,16,9,16,2,27,27]
[118,null,"座光寺村",876,337,208,58,32,118,{"v":22.1,"d":"22"},208,184,158,96,3,4,15,"-",6,9,3,7,4,1,"-","-",4,14,15,15,15,15,0,15,0,2,1,4,1,15,14,12,12]
[119,null,"松尾村",673,42,130,69,45,16,{"v":17.02,"d":"17"},122,71,32,52,"-",1,11,1,9,1,7,4,"-","-","-","-",10,11,11,11,11,11,0,11,0,4,0,0,0,9,9,11,11]
[120,null,"山本村",{"v":2227,"d":"2,227"},{"v":1348,"d":"1,348"},330,164,113,53,{"v":82.65,"d":"83"},253,139,67,100,3,11,26,2,21,3,2,5,7,8,4,"-",26,26,26,26,26,26,0,26,0,21,0,11,9,26,26,26,26]
[121,null,"三穂村",{"v":1237,"d":"1,237"},703,226,100,54,72,{"v":46.01,"d":"46"},168,150,139,50,4,9,13,"-",12,1,"-","-",3,1,8,1,13,13,13,13,13,13,0,13,9,12,0,5,1,13,13,13,13]
[122,null,"伊賀良村",{"v":3482,"d":"3,482"},{"v":2079,"d":"2,079"},462,167,108,187,{"v":57.7,"d":"58"},443,356,310,195,9,20,31,"-",19,12,3,18,7,2,"-",1,18,19,17,21,24,18,3,31,3,23,3,9,4,30,28,31,29]
[123,null,"川路村",626,219,114,46,35,33,{"v":16.33,"d":"16"},53,32,10,28,2,1,7,"-",7,"-","-",4,2,1,"-","-",7,7,7,7,7,7,0,7,1,7,1,4,1,7,7,7,7]
[124,null,"千代村",{"v":5852,"d":"5,852"},{"v":5329,"d":"5,329"},155,49,45,61,{"v":68.94,"d":"69"},93,74,60,43,5,13,28,1,13,14,"-",5,10,9,4,"-",7,14,27,28,28,27,0,28,3,28,11,5,2,28,28,28,26]
[125,null,"竜江村",{"v":1186,"d":"1,186"},621,183,50,47,86,{"v":54.53,"d":"55"},132,108,58,83,37,14,23,"-",9,14,"-",4,10,7,2,"-",4,16,19,22,23,22,0,23,13,23,1,4,0,23,22,23,20]
[126,null,"上久堅村",{"v":1674,"d":"1,674"},{"v":1096,"d":"1,096"},162,67,75,20,{"v":55.2,"d":"55"},94,42,7,37,6,4,14,2,9,3,"-","-",7,4,3,"-",8,10,14,12,14,14,0,14,13,14,4,4,0,14,14,14,11]
[127,null,"鼎町",611,33,134,50,34,50,{"v":13.28,"d":"13"},152,105,78,68,3,"-",9,1,5,3,8,1,"-","-","-","-",5,8,9,9,9,9,0,9,0,5,0,0,0,9,9,9,9]
[128,null,"上郷町",{"v":2643,"d":"2,643"},{"v":1734,"d":"1,734"},299,152,87,60,{"v":19.83,"d":"20"},306,190,111,143,1,5,24,2,15,7,12,10,1,1,"-","-",11,23,24,24,24,24,0,24,1,5,0,0,0,24,24,24,24]
[129,null,"上村",{"v":13256,"d":"13,256"},{"v":11348,"d":"11,348"},40,6,22,12,{"v":36.85,"d":"37"},28,11,1,10,"-",1,11,"-",2,9,"-",2,3,1,4,1,0,0,0,11,11,0,0,11,3,9,0,1,0,11,11,11,11]
[130,null,"木沢村",{"v":11384,"d":"11,384"},{"v":10718,"d":"10,718"},36,7,17,12,{"v":11.94,"d":"12"},13,1,"-","-","-",1,8,"-",3,5,"-",2,2,2,1,1,0,0,1,8,8,0,0,8,1,8,4,0,0,8,8,8,8]
[131,null,"和田村（飯田市）",{"v":2865,"d":"2,865"},{"v":2559,"d":"2,559"},32,9,12,11,{"v":7.94,"d":"8"},19,6,1,6,"-","-",9,"-",4,5,1,4,2,1,"-",1,0,2,2,9,7,3,0,8,1,9,0,0,0,9,9,8,8]
[132,null,"八重河内村",{"v":3871,"d":"3,871"},{"v":3684,"d":"3,684"},29,6,10,13,{"v":9.74,"d":"10"},13,3,"-",3,"-","-",7,"-",3,4,1,"-",1,2,3,"-",0,4,1,6,4,4,1,6,2,7,0,0,0,7,6,6,6]
[133,null,"南和田村",{"v":1944,"d":"1,944"},{"v":1852,"d":"1,852"},19,4,8,7,{"v":7.41,"d":"7"},11,6,1,5,"-","-",7,"-",1,6,2,1,"-",2,1,1,0,1,0,5,4,1,2,4,0,7,0,0,0,5,4,4,3]
[134,"諏訪市",null,{"v":10906,"d":"10,906"},{"v":7336,"d":"7,336"},680,436,224,20,{"v":126.7,"d":"127"},477,114,12,112,2,2,44,12,16,16,31,9,1,"-",3,"-",34,29,41,42,42,40,2,35,12,24,8,13,5,44,15,29,29]
[135,null,"諏訪市（旧）",{"v":6743,"d":"6,743"},{"v":4299,"d":"4,299"},352,194,146,12,{"v":84.47,"d":"84"},266,67,10,66,2,1,31,4,13,14,23,6,1,"-",1,"-",23,18,30,31,31,31,0,24,5,16,6,11,4,31,9,18,18]
[136,null,"中洲村",660,151,136,99,33,4,{"v":12.12,"d":"12"},83,23,1,23,"-","-",5,4,1,"-",5,"-","-","-","-","-",5,5,5,5,5,3,0,5,1,1,1,0,0,5,2,5,5]
[137,null,"湖南村",{"v":3503,"d":"3,503"},{"v":2886,"d":"2,886"},192,143,45,4,{"v":30.11,"d":"30"},128,24,1,23,"-",1,8,4,2,2,3,3,"-","-",2,"-",6,6,6,6,6,6,2,6,6,7,1,2,1,8,4,6,6]
[138,"須坂市",null,{"v":14984,"d":"14,984"},{"v":10040,"d":"10,040"},1906,314,276,1316,{"v":301.79,"d":"302"},{"v":1567,"d":"1,567"},421,31,411,13,9,60,1,15,44,16,8,19,15,2,"-",37,49,46,39,40,37,3,59,8,34,18,4,3,54,42,55,52]
[139,null,"須坂町",{"v":1522,"d":"1,522"},347,404,36,47,321,{"v":43.79,"d":"44"},296,111,8,108,7,3,13,"-",1,12,8,2,2,1,"-","-",11,10,13,11,13,13,0,12,0,7,2,2,2,9,4,11,10]
[140,null,"井上村",824,154,247,76,21,150,{"v":32.97,"d":"33"},339,60,4,58,"-",2,7,"-",2,5,1,1,2,3,"-","-",7,6,7,7,7,7,0,7,0,1,0,0,0,7,7,6,6]
[141,null,"豊洲村",819,7,395,58,15,322,{"v":17.38,"d":"17"},266,96,11,95,5,"-",7,"-",1,6,2,1,3,1,"-","-",7,5,7,7,7,7,0,7,0,3,1,0,0,5,4,5,5]
[142,null,"日野村（須坂市）",441,"-",199,25,6,168,{"v":26.04,"d":"26"},205,58,5,56,1,1,6,"-",1,5,1,1,3,1,"-","-",6,6,6,6,6,6,0,6,0,0,0,0,0,6,6,6,6]
[143,null,"高甫村",{"v":1132,"d":"1,132"},585,305,13,20,272,{"v":25.81,"d":"26"},234,35,1,35,"-","-",4,"-","-",4,1,1,"-",2,"-","-",4,4,4,4,4,4,0,4,0,2,2,0,0,4,4,4,4]
[144,null,"仁礼村",{"v":7937,"d":"7,937"},{"v":6962,"d":"6,962"},227,90,75,62,{"v":111.09,"d":"111"},149,46,2,44,"-",2,14,1,9,4,2,2,5,4,1,"-",1,12,3,3,2,0,1,14,6,12,7,1,1,14,12,14,14]
[145,null,"豊丘村",{"v":2309,"d":"2,309"},{"v":1985,"d":"1,985"},129,16,92,21,{"v":44.71,"d":"45"},78,15,"-",15,"-",1,9,"-",1,8,1,"-",4,3,1,"-",1,6,6,1,1,0,2,9,2,9,6,1,0,9,5,9,7]
[146,"小諸市",null,{"v":9866,"d":"9,866"},{"v":3589,"d":"3,589"},2783,1188,950,645,{"v":671.87,"d":"672"},{"v":1323,"d":"1,323"},216,17,197,18,19,55,6,29,20,17,16,8,12,2,"-",27,45,54,48,51,53,0,52,20,47,8,20,9,55,32,51,45]
[147,null,"小諸町",{"v":1893,"d":"1,893"},710,442,171,124,147,{"v":91.88,"d":"92"},115,30,4,28,5,4,16,4,6,6,11,5,"-","-","-","-",2,10,16,15,14,15,0,13,1,11,0,0,0,16,6,13,10]
[148,null,"大里村",{"v":2875,"d":"2,875"},{"v":1605,"d":"1,605"},421,186,132,103,{"v":138.49,"d":"138"},229,29,1,24,2,4,5,"-",4,1,"-",1,1,2,1,"-",0,5,5,2,5,5,0,5,5,5,3,3,0,5,5,5,5]
[149,null,"北大井村",{"v":1053,"d":"1,053"},189,380,155,174,51,{"v":97.3,"d":"97"},163,11,2,9,2,"-",12,2,4,6,3,4,2,3,"-","-",9,11,12,12,11,12,0,12,7,9,0,2,1,12,8,11,10]
[150,null,"南大井村",882,113,390,183,152,55,{"v":60.44,"d":"60"},189,16,3,14,3,1,4,"-",3,1,2,2,"-","-","-","-",4,4,4,4,4,4,0,4,1,4,1,1,1,4,4,4,4]
[151,null,"三岡村",670,40,439,217,56,166,{"v":36.88,"d":"37"},252,45,3,42,2,2,3,"-",3,"-","-",2,1,"-","-","-",3,3,3,3,3,3,0,3,1,3,0,1,0,3,1,3,3]
[152,null,"川辺村（小諸市）",{"v":1691,"d":"1,691"},779,337,132,170,35,{"v":126.66,"d":"127"},195,53,1,51,2,6,10,"-",6,4,"-",1,3,5,1,"-",8,8,10,9,10,10,0,10,2,10,1,10,4,10,4,10,9]
[153,null,"小沼村２－２",87,5,76,51,21,4,"x",69,"x","x","x","x","x",1,"-",1,"-","-","-","-",1,"-","-",1,1,1,1,1,1,0,1,0,1,0,0,0,1,1,1,1]
[154,null,"滋野村２－２",621,139,246,93,75,78,{"v":99.78,"d":"100"},110,27,3,25,1,1,3,"-",2,1,"-",1,1,1,"-","-",0,3,3,2,3,3,0,3,3,3,3,3,3,3,3,3,3]
[155,null,"小沼村２－１－２",94,9,52,0,46,6,"x",1,"x","x","x","x","x",1,"-","-",1,1,"-","-","-","-","-",0,0,0,0,0,0,0,1,0,1,0,0,0,1,0,1,0]
[156,"伊那市",null,{"v":66781,"d":"66,781"},{"v":52320,"d":"52,320"},5211,3486,1575,150,{"v":452.54,"d":"453"},{"v":1733,"d":"1,733"},403,30,390,30,21,237,120,73,44,47,65,71,42,10,2,199,214,230,230,230,188,7,220,135,197,92,39,17,231,114,224,210]
[157,null,"伊那町",{"v":5725,"d":"5,725"},{"v":3301,"d":"3,301"},1025,683,327,15,{"v":46.33,"d":"46"},374,73,4,71,1,"-",38,14,13,11,25,9,2,2,"-","-",26,32,38,38,38,36,0,33,10,22,5,3,3,37,13,37,29]
[158,null,"西箕輪村２－１",{"v":2374,"d":"2,374"},{"v":1258,"d":"1,258"},652,118,471,63,{"v":117.11,"d":"117"},208,78,13,77,21,11,9,"-",1,8,1,2,5,1,"-","-",9,9,9,9,9,8,0,9,4,9,6,3,2,9,4,9,9]
[159,null,"手良村",{"v":2481,"d":"2,481"},{"v":1911,"d":"1,911"},276,205,57,14,{"v":17.03,"d":"17"},119,29,1,28,2,"-",20,13,7,"-","-",1,8,10,1,"-",20,20,20,20,20,10,0,20,13,16,3,5,3,20,9,20,20]
[160,null,"美篶村",{"v":1355,"d":"1,355"},301,497,443,47,7,{"v":10.06,"d":"10"},237,52,2,51,"-",1,11,11,"-","-","-",7,4,"-","-","-",11,11,11,11,11,4,0,11,5,10,2,1,0,11,4,11,10]
[161,null,"富県村",{"v":3312,"d":"3,312"},{"v":2302,"d":"2,302"},602,484,109,9,{"v":40.4,"d":"40"},159,35,1,34,2,2,25,19,5,1,"-",6,9,6,3,1,25,25,25,25,25,19,0,25,22,22,18,8,7,25,22,25,25]
[162,null,"東春近村",{"v":1672,"d":"1,672"},345,722,603,111,8,{"v":17.14,"d":"17"},182,34,3,33,"-",1,25,21,2,2,"-",10,12,2,1,"-",25,25,25,25,25,22,0,25,11,16,6,1,1,24,13,25,25]
[163,null,"西春近村",{"v":3796,"d":"3,796"},{"v":2690,"d":"2,690"},628,389,230,9,{"v":30.94,"d":"31"},217,37,4,35,2,1,23,9,9,5,"-",10,7,5,1,"-",23,23,23,23,23,23,0,23,20,21,19,1,0,23,19,23,23]
[164,null,"高遠町",{"v":1210,"d":"1,210"},945,29,16,13,0,{"v":17.14,"d":"17"},8,1,"-",1,"-","-",15,3,5,7,6,8,1,"-","-","-",1,7,15,15,15,9,0,11,0,11,0,2,0,13,4,11,7]
[165,null,"長藤村",{"v":2156,"d":"2,156"},{"v":1879,"d":"1,879"},134,76,41,17,{"v":49.49,"d":"49"},24,14,"-",14,"-","-",11,1,10,"-","-",3,4,4,"-","-",11,11,11,11,11,10,0,11,9,11,7,0,0,11,9,11,11]
[166,null,"三義村",{"v":4738,"d":"4,738"},{"v":4358,"d":"4,358"},57,35,22,0,{"v":15.78,"d":"16"},17,6,"-",5,"-",2,14,2,7,5,6,1,3,3,"-",1,7,10,10,10,10,7,4,10,7,14,8,0,0,14,6,10,10]
[167,null,"藤沢村",{"v":4418,"d":"4,418"},{"v":3876,"d":"3,876"},113,87,26,0,{"v":30.42,"d":"30"},13,3,"-",3,"-","-",7,5,2,"-","-",2,2,3,"-","-",7,7,7,7,7,5,0,7,7,7,6,1,1,7,7,7,7]
[168,null,"河南村",{"v":1489,"d":"1,489"},925,259,193,64,2,{"v":25.29,"d":"25"},64,16,1,16,2,"-",6,4,2,"-","-",1,3,2,"-","-",6,6,6,6,6,5,0,6,6,6,5,5,0,6,4,6,6]
[169,null,"伊那里村",{"v":18528,"d":"18,528"},{"v":16396,"d":"16,396"},56,40,16,0,{"v":14.08,"d":"14"},10,6,"-",6,"-","-",15,8,3,4,8,2,3,2,"-","-",11,11,12,12,12,12,3,11,4,14,3,1,0,14,0,11,11]
[170,null,"美和村",{"v":13527,"d":"13,527"},{"v":11833,"d":"11,833"},161,114,41,6,{"v":21.33,"d":"21"},101,19,1,16,"-",3,18,10,7,1,1,3,8,2,4,"-",17,17,18,18,18,18,0,18,17,18,4,8,0,17,0,18,17]
[171,"駒ヶ根市",null,{"v":16592,"d":"16,592"},{"v":11967,"d":"11,967"},1896,1434,386,76,{"v":100.65,"d":"101"},832,253,16,248,11,5,84,62,15,7,25,22,17,14,6,"-",74,82,84,84,84,82,0,79,50,56,7,10,1,82,82,80,80]
[172,null,"赤穂町",{"v":7912,"d":"7,912"},{"v":4825,"d":"4,825"},1220,978,207,35,{"v":38.28,"d":"38"},419,108,7,108,5,1,67,53,8,6,25,21,13,7,1,"-",57,65,67,67,67,65,0,62,34,39,5,5,0,65,65,63,63]
[173,null,"中沢村",{"v":6900,"d":"6,900"},{"v":5928,"d":"5,928"},394,273,103,18,{"v":47.84,"d":"48"},227,61,5,59,1,2,12,7,4,1,"-",1,3,4,4,"-",12,12,12,12,12,12,0,12,11,12,2,2,1,12,12,12,12]
[174,null,"伊那村",{"v":1780,"d":"1,780"},{"v":1214,"d":"1,214"},282,183,76,23,{"v":14.53,"d":"15"},186,84,4,81,5,2,5,2,3,"-","-","-",1,3,1,"-",5,5,5,5,5,5,0,5,5,5,0,3,0,5,5,5,5]
[175,"中野市",null,{"v":11206,"d":"11,206"},{"v":4478,"d":"4,478"},3081,651,916,1514,{"v":469.12,"d":"469"},{"v":2315,"d":"2,315"},711,61,699,48,10,74,4,26,44,12,15,17,18,10,2,53,65,66,62,70,68,3,71,15,54,13,21,7,74,42,74,73]
[176,null,"中野町",769,120,215,56,56,103,{"v":41.05,"d":"41"},199,50,5,49,4,"-",11,"-",4,7,7,4,"-","-","-","-",7,6,6,5,9,7,2,8,0,4,0,0,0,11,3,11,11]
[177,null,"日野村（中野市）",{"v":1061,"d":"1,061"},713,192,31,104,57,{"v":40.73,"d":"41"},159,33,1,33,2,"-",4,"-","-",4,"-","-",2,2,"-","-",4,2,4,3,4,4,0,4,1,4,1,1,1,4,4,4,4]
[178,null,"延徳村",789,290,252,107,123,22,{"v":34.73,"d":"35"},200,37,3,37,3,3,6,"-",5,1,"-",3,1,1,1,"-",6,5,4,2,6,6,0,6,0,4,2,2,2,6,5,6,6]
[179,null,"平野村",741,75,270,56,150,64,{"v":49.05,"d":"49"},211,55,1,54,5,2,7,"-",2,5,4,3,"-","-","-","-",4,7,7,7,7,7,0,7,2,2,1,1,0,7,7,7,7]
[180,null,"高丘村",670,66,310,39,91,180,{"v":29.05,"d":"29"},208,99,12,98,13,2,5,"-","-",5,"-",2,2,1,"-","-",5,5,5,5,5,5,0,5,0,5,0,1,1,5,3,5,5]
[181,null,"長丘村",712,135,302,72,80,150,{"v":55.31,"d":"55"},208,66,3,63,5,1,5,"-",2,3,"-","-",1,2,1,1,3,5,5,5,5,5,0,5,1,5,2,1,1,5,5,5,5]
[182,null,"平岡村（中野市）",708,1,428,12,60,356,{"v":35.93,"d":"36"},362,121,17,118,13,"-",8,"-",1,7,"-",3,4,"-",1,"-",8,8,8,8,8,8,0,8,0,2,0,0,0,8,7,8,8]
[183,null,"科野村",{"v":1013,"d":"1,013"},510,294,29,40,225,{"v":33.89,"d":"34"},217,56,3,56,1,"-",3,"-","-",3,"-","-",1,1,1,"-",3,3,3,3,3,3,0,3,0,3,2,1,0,3,2,3,3]
[184,null,"倭村（中野市）",{"v":1261,"d":"1,261"},750,291,78,129,84,{"v":38.15,"d":"38"},195,55,7,52,1,1,5,"-",2,3,"-","-",1,3,1,"-",5,5,5,5,4,4,0,5,0,5,1,0,0,5,2,5,5]
[185,null,"豊井村",{"v":1424,"d":"1,424"},530,300,68,36,196,{"v":50.05,"d":"50"},186,81,9,81,1,1,8,"-",5,3,"-","-",5,2,1,"-",1,8,8,8,8,8,0,8,4,8,0,3,1,8,3,8,8]
[186,null,"永田村",{"v":2058,"d":"2,058"},{"v":1288,"d":"1,288"},227,103,47,77,{"v":61.18,"d":"61"},170,58,"-",58,"-","-",12,4,5,3,1,"-","-",6,4,1,7,11,11,11,11,11,1,12,7,12,4,11,1,12,1,12,11]
[187,"大町市",null,{"v":56499,"d":"56,499"},{"v":40797,"d":"40,797"},2575,2219,265,91,{"v":167.36,"d":"167"},{"v":1356,"d":"1,356"},274,26,243,4,34,175,108,15,52,53,32,31,38,12,9,107,75,112,121,125,103,33,147,39,128,35,19,11,122,58,129,68]
[188,null,"大町",{"v":2207,"d":"2,207"},{"v":1013,"d":"1,013"},289,240,30,19,{"v":21.55,"d":"22"},210,54,8,49,3,5,25,13,4,8,19,6,"-","-","-","-",16,6,25,23,19,20,0,24,0,6,3,1,0,17,4,17,1]
[189,null,"平村",{"v":35779,"d":"35,779"},{"v":25037,"d":"25,037"},619,553,47,19,{"v":57.92,"d":"58"},314,51,7,37,1,13,28,27,"-",1,2,7,8,10,1,"-",27,24,27,22,28,21,0,28,3,20,8,6,1,28,28,28,15]
[190,null,"常盤村（大町市）",{"v":7043,"d":"7,043"},{"v":5105,"d":"5,105"},1117,1026,52,39,{"v":16.54,"d":"17"},489,110,8,107,"-",4,32,32,"-","-",4,5,8,9,4,2,18,13,14,18,20,13,6,32,16,18,13,4,3,32,18,32,20]
[191,null,"社村",{"v":1455,"d":"1,455"},877,283,261,22,0,{"v":11.01,"d":"11"},182,25,1,25,"-","-",10,10,"-","-","-",3,2,5,"-","-",10,1,8,10,7,9,0,10,0,4,2,0,0,10,2,10,1]
[192,null,"八坂村２－１",{"v":3361,"d":"3,361"},{"v":2823,"d":"2,823"},130,49,71,10,{"v":27.5,"d":"28"},78,18,2,15,"-",2,37,9,6,22,12,4,6,8,3,4,21,18,22,25,25,24,12,26,11,37,0,3,2,22,0,19,15]
[193,null,"広津村３－３",33,25,0,0,0,0,"-","-","-","-","-","-","-",1,"-","-",1,1,"-","-","-","-","-",0,0,0,0,0,0,1,1,0,1,0,0,0,1,0,0,0]
[194,null,"美麻村",{"v":6621,"d":"6,621"},{"v":5917,"d":"5,917"},137,90,43,4,{"v":32.84,"d":"33"},83,16,"-",10,"-",10,42,17,5,20,15,7,7,6,4,3,15,13,16,23,26,16,14,26,9,42,9,5,5,12,6,23,16]
[195,"飯山市",null,{"v":20232,"d":"20,232"},{"v":12005,"d":"12,005"},3508,1932,1538,38,{"v":472.28,"d":"472"},{"v":1599,"d":"1,599"},299,15,265,9,47,117,28,51,38,19,11,22,44,18,3,82,94,100,93,104,78,9,109,55,103,14,41,29,112,75,105,95]
[196,null,"飯山町",{"v":1698,"d":"1,698"},746,147,25,116,6,{"v":41.63,"d":"42"},48,14,"-",13,1,2,16,"-",2,14,11,3,"-",1,1,"-",5,5,13,12,15,10,1,11,0,10,2,3,2,11,3,9,5]
[197,null,"秋津村",{"v":1927,"d":"1,927"},{"v":1330,"d":"1,330"},253,140,110,3,{"v":55.07,"d":"55"},154,18,1,18,1,1,18,4,6,8,6,1,4,5,2,"-",12,12,9,12,11,1,6,16,5,17,0,7,4,18,9,16,11]
[198,null,"柳原村（飯山市）",{"v":3121,"d":"3,121"},{"v":1912,"d":"1,912"},351,187,162,2,{"v":71.64,"d":"72"},164,23,2,20,"-",1,16,2,7,7,1,4,3,5,3,"-",13,14,14,14,13,12,1,16,10,16,1,6,4,16,10,14,13]
[199,null,"外様村",{"v":1283,"d":"1,283"},801,298,214,83,1,{"v":29.81,"d":"30"},107,19,"-",16,"-",3,6,3,2,1,1,"-","-",4,1,"-",5,5,5,5,5,5,1,5,3,6,0,2,1,6,4,5,5]
[200,null,"常盤村（飯山市）",{"v":1163,"d":"1,163"},74,576,302,270,4,{"v":77.08,"d":"77"},278,67,4,66,1,2,12,2,9,1,"-","-",3,7,1,1,10,12,11,9,12,8,0,12,6,9,2,4,3,12,8,12,12]
[201,null,"太田村",{"v":2678,"d":"2,678"},{"v":1749,"d":"1,749"},479,334,145,0,{"v":50.12,"d":"50"},236,53,2,31,5,35,12,5,7,"-","-",1,2,4,4,1,12,12,12,12,12,11,0,12,8,10,2,6,6,12,12,12,12]
[202,null,"岡山村",{"v":5462,"d":"5,462"},{"v":4103,"d":"4,103"},504,192,307,5,{"v":52.1,"d":"52"},139,17,1,17,"-","-",17,7,4,6,"-","-",7,6,3,1,6,15,17,13,16,13,0,17,12,17,2,10,6,17,11,17,17]
[203,null,"瑞穂村２－１",{"v":2050,"d":"2,050"},{"v":1112,"d":"1,112"},423,233,184,6,{"v":52.86,"d":"53"},206,30,2,27,1,2,11,2,8,1,"-","-",2,8,1,"-",10,11,11,8,11,10,0,11,9,11,3,3,3,11,10,11,11]
[204,null,"木島村",850,178,477,305,161,11,{"v":41.97,"d":"42"},267,58,3,57,"-",1,9,3,6,"-","-",2,1,4,2,"-",9,8,8,8,9,8,0,9,2,7,2,0,0,9,8,9,9]
[205,"茅野市",null,{"v":26641,"d":"26,641"},{"v":19317,"d":"19,317"},2548,1472,1052,24,{"v":407.37,"d":"407"},{"v":1324,"d":"1,324"},212,15,198,4,18,63,17,42,4,22,23,14,4,"-","-",56,62,63,63,63,52,0,63,34,53,18,8,3,63,32,63,62]
[206,null,"ちの町",632,219,68,45,17,6,{"v":12.54,"d":"13"},30,18,"-",18,1,"-",6,2,3,1,6,"-","-","-","-","-",1,5,6,6,6,6,0,6,0,3,2,0,0,6,3,6,5]
[207,null,"宮川村",{"v":2040,"d":"2,040"},{"v":1222,"d":"1,222"},275,162,113,0,{"v":59.53,"d":"60"},142,30,"-",30,"-",1,10,4,6,"-",5,3,1,1,"-","-",10,10,10,10,10,10,0,10,5,6,5,2,1,10,10,10,10]
[208,null,"米沢村",{"v":2617,"d":"2,617"},{"v":2218,"d":"2,218"},229,148,77,4,{"v":39.52,"d":"40"},108,48,"-",48,"-",1,4,1,3,"-",1,2,1,"-","-","-",4,4,4,4,4,4,0,4,4,4,3,0,0,4,4,4,4]
[209,null,"豊平村",{"v":7100,"d":"7,100"},{"v":5421,"d":"5,421"},418,185,231,2,{"v":55.16,"d":"55"},213,19,"-",18,1,2,9,"-",8,1,2,4,1,2,"-","-",8,9,9,9,9,9,0,9,6,9,8,1,0,9,7,9,9]
[210,null,"玉川村",{"v":1926,"d":"1,926"},{"v":1061,"d":"1,061"},479,272,205,2,{"v":56.03,"d":"56"},239,30,2,27,1,4,10,4,5,1,4,4,2,"-","-","-",9,10,10,10,10,6,0,10,3,8,0,0,0,10,1,10,10]
[211,null,"泉野村",609,60,295,188,107,0,{"v":30.36,"d":"30"},224,10,2,8,"-","-",4,2,2,"-","-","-",3,1,"-","-",4,4,4,4,4,2,0,4,3,4,0,1,1,4,0,4,4]
[212,null,"金沢村",{"v":1620,"d":"1,620"},{"v":1216,"d":"1,216"},135,61,65,9,{"v":46.06,"d":"46"},69,4,"-",4,"-","-",7,1,5,1,3,2,2,"-","-","-",7,7,7,7,7,4,0,7,2,7,0,0,0,7,0,7,7]
[213,null,"湖東村",926,177,370,215,154,1,{"v":63.58,"d":"64"},165,20,5,18,"-",5,9,1,8,"-","-",5,4,"-","-","-",9,9,9,9,9,8,0,9,7,8,0,1,0,9,6,9,9]
[214,null,"北山村",{"v":9171,"d":"9,171"},{"v":7723,"d":"7,723"},279,196,83,0,{"v":44.59,"d":"45"},134,33,6,27,1,5,4,2,2,"-",1,3,"-","-","-","-",4,4,4,4,4,3,0,4,4,4,0,3,1,4,1,4,4]
[215,"塩尻市",null,{"v":29013,"d":"29,013"},{"v":21819,"d":"21,819"},{"v":3075,"d":"3,075"},{"v":1220,"d":"1,220"},{"v":1173,"d":"1,173"},682,{"v":288.95,"d":"289"},{"v":1815,"d":"1,815"},337,20,321,19,6,52,7,28,17,12,19,13,7,"-",1,19,22,42,45,44,40,6,51,9,48,7,31,9,51,11,51,39]
[216,null,"塩尻町",{"v":3807,"d":"3,807"},{"v":2276,"d":"2,276"},441,220,162,59,{"v":70.62,"d":"71"},353,73,1,71,"-",1,13,2,9,2,2,4,4,2,"-",1,5,5,13,13,13,13,0,13,2,11,0,9,2,13,6,13,11]
[217,null,"筑摩地村",{"v":1520,"d":"1,520"},{"v":1128,"d":"1,128"},177,103,69,5,"x",53,"x","x","x","x","x",5,1,3,1,"-",3,2,"-","-","-",1,2,5,5,5,5,0,5,0,5,0,3,0,5,0,5,4]
[218,null,"広丘村",{"v":1671,"d":"1,671"},33,677,335,129,213,{"v":42.05,"d":"42"},403,84,3,81,"-",2,6,1,4,1,4,2,"-","-","-","-",2,2,6,6,6,6,0,6,0,6,0,1,1,6,0,6,6]
[219,null,"片丘村２－１",{"v":2222,"d":"2,222"},{"v":1423,"d":"1,423"},474,201,267,6,54,313,50,5,49,"-","-",5,"-",4,1,"-",1,1,3,"-","-",2,2,3,3,3,3,2,5,2,5,1,4,2,5,0,5,5]
[220,null,"宗賀村",{"v":3582,"d":"3,582"},{"v":2796,"d":"2,796"},369,151,87,131,{"v":46.04,"d":"46"},205,65,2,63,18,"-",7,2,2,3,1,6,"-","-","-","-",5,5,7,7,6,6,0,7,2,6,2,4,2,7,2,7,6]
[221,null,"洗馬村２－１",{"v":4429,"d":"4,429"},{"v":2895,"d":"2,895"},913,204,444,265,{"v":30.43,"d":"30"},486,54,8,47,1,3,7,"-",5,2,"-",2,3,2,"-","-",4,5,4,5,6,6,1,7,3,6,3,2,2,6,3,7,7]
[222,null,"楢川村",{"v":11782,"d":"11,782"},{"v":11268,"d":"11,268"},24,6,15,3,"x",2,"x","x","x","x","x",9,1,1,7,5,1,3,"-","-","-",0,1,4,6,5,1,3,8,0,9,1,8,0,9,0,8,0]
[223,"佐久市",null,{"v":42399,"d":"42,399"},{"v":26386,"d":"26,386"},{"v":6697,"d":"6,697"},{"v":3942,"d":"3,942"},{"v":1916,"d":"1,916"},839,{"v":1284.52,"d":"1,285"},{"v":4490,"d":"4,490"},822,40,795,17,18,241,88,88,65,25,62,74,49,26,5,103,180,112,155,172,179,15,227,57,175,52,55,24,226,106,222,209]
[224,null,"野沢町",626,"-",302,289,10,3,{"v":9.62,"d":"10"},226,43,1,42,1,2,10,10,"-","-",4,4,2,"-","-","-",0,5,1,3,8,10,0,10,2,0,0,0,0,9,0,10,10]
[225,null,"大沢村",853,414,111,85,21,5,{"v":28.99,"d":"29"},100,15,2,13,1,2,6,4,2,"-","-",1,1,3,1,"-",0,6,6,5,6,5,0,6,4,6,6,4,2,6,6,6,6]
[226,null,"桜井村",201,"-",140,135,5,0,{"v":3.71,"d":"4"},88,21,1,20,"-",1,4,4,"-","-","-",1,2,1,"-","-",0,0,1,1,4,4,0,4,0,1,0,0,0,3,0,4,4]
[227,null,"前山村",{"v":2286,"d":"2,286"},{"v":1967,"d":"1,967"},125,101,20,4,{"v":42.59,"d":"43"},96,26,1,26,"-","-",4,2,1,1,"-",2,2,"-","-","-",0,3,4,0,3,2,0,4,0,4,3,3,1,4,3,4,3]
[228,null,"岸野村",{"v":1692,"d":"1,692"},584,394,281,103,10,{"v":92.44,"d":"92"},312,96,"-",94,"-",2,12,9,1,2,"-",2,3,6,1,"-",0,12,12,7,12,10,0,12,1,9,6,4,4,12,12,12,12]
[229,null,"中込町",505,"-",119,89,4,26,{"v":7.54,"d":"8"},124,22,"-",22,1,2,8,4,3,1,3,3,1,1,"-","-",0,4,0,0,0,7,1,7,0,0,0,0,0,8,0,7,7]
[230,null,"平賀村",{"v":1512,"d":"1,512"},680,395,240,74,81,{"v":44.74,"d":"45"},275,32,"-",32,"-","-",14,8,3,3,"-",8,5,"-",1,"-",4,10,5,4,3,13,1,13,2,9,5,3,3,14,7,13,13]
[231,null,"内山村",{"v":3537,"d":"3,537"},{"v":3100,"d":"3,100"},137,75,46,16,{"v":38.79,"d":"39"},89,12,1,11,"-","-",11,2,5,4,1,2,6,1,1,"-",1,6,0,0,1,6,5,11,0,11,6,0,0,11,8,11,8]
[232,null,"岩村田町",{"v":1069,"d":"1,069"},37,212,119,52,41,{"v":51.49,"d":"51"},201,65,6,62,4,1,13,2,6,5,9,4,"-","-","-","-",10,5,0,2,2,1,2,10,0,5,0,2,0,9,1,9,8]
[233,null,"平根村",{"v":1114,"d":"1,114"},585,184,99,41,44,{"v":48.96,"d":"49"},176,22,"-",22,"-","-",3,"-",3,"-","-","-",3,"-","-","-",3,1,1,2,1,1,0,3,0,3,0,1,0,3,2,3,3]
[234,null,"高瀬村",619,26,320,255,50,15,{"v":31.22,"d":"31"},251,29,1,26,"-",2,7,5,2,"-","-","-",5,2,"-","-",0,2,1,3,7,7,0,7,0,7,0,0,0,7,0,7,7]
[235,null,"中佐都村",646,8,343,239,50,54,{"v":26.64,"d":"27"},316,40,"-",39,"-",1,7,5,2,"-","-",3,3,1,"-","-",0,6,4,7,7,7,0,7,0,4,0,1,1,6,0,7,7]
[236,null,"御代田村２－２",224,19,68,28,39,1,17,68,3,"-",3,"-","-",3,"-",1,2,"-",1,2,"-","-","-",3,2,0,1,1,1,0,3,2,3,0,0,0,3,1,3,3]
[237,null,"三井村",{"v":2308,"d":"2,308"},{"v":1724,"d":"1,724"},255,119,111,25,{"v":65.99,"d":"66"},151,12,2,12,"-","-",6,2,1,3,1,2,1,1,"-",1,5,5,3,5,5,4,1,6,0,6,0,0,0,6,0,6,5]
[238,null,"志賀村",{"v":2070,"d":"2,070"},{"v":1625,"d":"1,625"},112,68,18,26,{"v":67.63,"d":"68"},95,17,"-",16,"-",1,6,1,4,1,1,"-",3,1,1,"-",5,5,2,5,5,5,1,6,0,6,0,2,0,5,3,5,5]
[239,null,"臼田町",609,232,134,68,34,32,{"v":25.39,"d":"25"},84,21,1,20,"-","-",14,5,5,4,4,7,2,"-",1,"-",8,6,2,10,7,6,3,14,3,8,2,1,0,14,7,14,11]
[240,null,"切原村",{"v":2807,"d":"2,807"},{"v":2177,"d":"2,177"},376,153,54,169,{"v":70.98,"d":"71"},205,52,1,52,5,1,7,2,3,2,"-",1,1,4,1,"-",3,7,7,7,7,5,0,7,2,7,1,4,3,7,6,7,7]
[241,null,"田口村",{"v":3923,"d":"3,923"},{"v":3213,"d":"3,213"},293,177,72,44,{"v":55.14,"d":"55"},242,44,2,42,1,"-",13,3,6,4,"-",5,7,1,"-","-",8,12,7,11,7,11,0,12,12,12,10,5,1,13,12,11,11]
[242,null,"青沼村２－１",982,565,165,83,39,43,{"v":33.99,"d":"34"},100,20,1,19,"-","-",15,6,2,7,"-",5,6,2,1,1,14,14,3,6,14,11,1,15,0,11,0,0,0,15,6,13,12]
[243,null,"本牧村２－１",{"v":1134,"d":"1,134"},440,300,128,164,8,{"v":71.17,"d":"71"},136,22,3,20,"-","-",17,2,4,11,2,4,5,3,3,"-",5,8,6,16,13,6,0,9,2,10,0,6,0,13,0,9,8]
[244,null,"布施村",{"v":2097,"d":"2,097"},{"v":1185,"d":"1,185"},473,121,348,4,{"v":106.34,"d":"106"},209,17,2,15,"-","-",14,"-",5,9,"-","-",1,7,5,1,3,14,14,14,12,14,0,14,1,14,5,5,2,14,13,14,14]
[245,null,"春日村",{"v":3999,"d":"3,999"},{"v":3037,"d":"3,037"},337,198,137,2,{"v":99.05,"d":"99"},230,23,4,20,1,2,18,5,11,2,"-","-",2,9,6,1,18,18,9,18,18,18,0,18,18,14,0,4,0,18,8,18,16]
[246,null,"協和村",{"v":5634,"d":"5,634"},{"v":4295,"d":"4,295"},537,261,250,26,{"v":123.66,"d":"124"},260,44,3,44,1,"-",17,4,10,3,"-",3,6,3,4,1,3,17,17,17,17,16,0,17,3,15,8,2,2,14,3,17,17]
[247,null,"南御牧村",{"v":1102,"d":"1,102"},383,388,201,104,83,{"v":66.33,"d":"66"},173,57,6,56,1,1,6,"-",5,1,"-",1,2,3,"-","-",4,6,4,5,6,6,0,6,4,5,0,5,4,6,5,6,6]
[248,null,"中津村（佐久市）",342,18,183,135,39,9,{"v":15.01,"d":"15"},131,18,"-",18,"-","-",3,1,2,"-","-",3,"-","-","-","-",3,3,1,3,3,1,0,3,1,3,0,1,1,3,0,3,3]
[249,null,"五郎兵衛新田村",508,72,294,195,31,68,{"v":40.11,"d":"40"},152,49,2,49,1,"-",3,2,1,"-","-","-",3,"-","-","-",3,3,2,3,3,2,0,3,0,2,0,2,0,3,3,3,3]
[250,"千曲市",null,{"v":11984,"d":"11,984"},{"v":6913,"d":"6,913"},{"v":1661,"d":"1,661"},893,356,412,{"v":276.35,"d":"276"},{"v":1517,"d":"1,517"},299,24,292,16,6,98,17,50,31,28,27,21,18,4,"-",47,64,47,84,84,57,7,95,18,60,10,21,15,93,59,93,73]
[251,null,"屋代町",463,26,102,73,21,8,{"v":11.35,"d":"11"},65,14,1,14,1,"-",7,2,3,2,4,3,"-","-","-","-",2,3,1,2,5,4,2,5,0,3,0,0,0,6,3,7,3]
[252,null,"森村",{"v":1534,"d":"1,534"},{"v":1185,"d":"1,185"},93,45,14,34,{"v":23.2,"d":"23"},181,22,1,22,3,1,4,1,"-",3,1,"-",2,1,"-","-",3,2,3,3,3,3,1,4,0,4,0,1,1,4,1,3,2]
[253,null,"倉科村",913,760,99,41,26,32,{"v":20.15,"d":"20"},78,7,"-",7,"-","-",4,1,1,2,"-","-",4,"-","-","-",4,4,2,4,4,4,0,4,0,4,0,1,1,4,4,4,4]
[254,null,"雨宮県村",633,239,171,92,71,8,{"v":17.44,"d":"17"},152,24,1,23,"-","-",3,"-",2,1,"-",2,"-",1,"-","-",2,3,2,3,3,3,0,3,1,3,0,0,0,3,1,3,3]
[255,null,"埴生町",384,139,56,35,20,1,{"v":11.74,"d":"12"},26,6,"-",6,"-","-",7,2,3,2,6,1,"-","-","-","-",1,4,1,5,6,3,1,7,0,5,0,0,0,6,6,6,6]
[256,null,"杭瀬下村",208,"-",51,34,16,1,{"v":8.41,"d":"8"},20,"-","-","-","-","-",2,1,1,"-",1,1,"-","-","-","-",0,2,1,2,2,1,0,2,0,0,0,0,0,2,2,2,2]
[257,null,"稲荷山町",286,128,25,13,11,1,{"v":4.86,"d":"5"},11,1,"-",1,"-","-",7,1,4,2,5,2,"-","-","-","-",1,4,1,5,5,1,1,7,0,1,0,1,1,7,5,7,4]
[258,null,"桑原村",{"v":1751,"d":"1,751"},{"v":1347,"d":"1,347"},128,59,15,54,{"v":15.34,"d":"15"},158,34,2,34,1,1,8,"-",4,4,1,1,2,3,1,"-",6,6,4,6,4,4,1,8,6,5,4,3,3,8,8,7,7]
[259,null,"八幡村",{"v":1608,"d":"1,608"},845,335,214,34,87,{"v":45.96,"d":"46"},240,35,"-",35,"-","-",12,4,8,"-",1,2,4,4,1,"-",11,11,5,11,11,6,0,12,7,11,4,10,5,12,10,12,12]
[260,null,"五加村２－２",120,"-",37,18,15,4,{"v":4.39,"d":"4"},28,7,"-",7,"-","-",1,"-",1,"-","-",1,"-","-","-","-",1,1,1,1,1,1,0,1,0,0,0,0,0,1,1,1,1]
[261,null,"戸倉町",802,482,72,39,17,16,{"v":12.57,"d":"13"},37,12,"-",12,"-","-",8,"-",7,1,6,2,"-","-","-","-",2,7,6,8,8,8,0,7,0,7,0,0,0,8,4,7,7]
[262,null,"五加村２－１",378,"-",102,58,35,9,{"v":15.09,"d":"15"},96,26,3,26,"-","-",4,"-",4,"-","-",3,1,"-","-","-",2,4,3,4,4,4,0,4,0,0,0,0,0,4,4,4,4]
[263,null,"更級村",{"v":1341,"d":"1,341"},753,182,95,29,58,{"v":49.61,"d":"50"},218,47,5,43,1,2,7,"-",6,1,1,2,1,3,"-","-",5,6,6,6,6,6,1,7,1,6,1,3,3,7,5,6,6]
[264,null,"上山田町",{"v":1383,"d":"1,383"},860,177,55,24,98,{"v":34.37,"d":"34"},154,55,10,54,10,1,17,1,4,12,2,6,5,2,2,"-",6,4,7,17,17,6,0,17,3,10,1,2,1,17,3,17,5]
[265,null,"力石村",180,149,31,22,8,1,{"v":1.87,"d":"2"},53,9,1,8,"-",1,7,4,2,1,"-",1,2,4,"-","-",1,3,4,7,5,3,0,7,0,1,0,0,0,4,2,7,7]
[266,"東御市",null,{"v":11230,"d":"11,230"},{"v":5316,"d":"5,316"},{"v":2492,"d":"2,492"},{"v":1160,"d":"1,160"},{"v":1057,"d":"1,057"},275,{"v":448.77,"d":"449"},{"v":1511,"d":"1,511"},589,40,586,16,9,59,4,45,10,4,12,29,13,1,"-",50,54,44,47,48,40,0,59,43,55,24,29,23,54,47,59,52]
[267,null,"県村",644,10,191,87,86,18,{"v":32.58,"d":"33"},100,40,1,40,1,1,6,"-",6,"-",4,2,"-","-","-","-",6,5,3,4,4,3,0,6,4,4,0,2,2,6,6,6,5]
[268,null,"祢津村",{"v":3619,"d":"3,619"},{"v":2099,"d":"2,099"},462,200,232,30,{"v":134.16,"d":"134"},210,55,8,55,2,"-",10,"-",6,4,"-",2,7,1,"-","-",9,9,8,9,9,9,0,10,8,10,5,6,3,10,8,10,10]
[269,null,"和村",{"v":2373,"d":"2,373"},{"v":1289,"d":"1,289"},547,201,195,151,{"v":76.3,"d":"76"},375,181,15,179,9,5,15,"-",11,4,"-",3,9,3,"-","-",13,13,14,9,12,9,0,15,11,14,6,6,5,15,11,15,11]
[270,null,"滋野村２－１",{"v":2025,"d":"2,025"},{"v":1276,"d":"1,276"},300,126,107,67,{"v":69.06,"d":"69"},263,118,10,118,4,2,8,"-",6,2,"-",3,4,1,"-","-",8,8,7,6,8,6,0,8,6,7,0,2,1,8,7,8,7]
[271,null,"北御牧村",{"v":2569,"d":"2,569"},642,992,546,437,9,{"v":136.67,"d":"137"},563,195,6,194,"-",1,20,4,16,"-","-",2,9,8,1,"-",14,19,12,19,15,13,0,20,14,20,13,13,12,15,15,20,19]
[272,"安曇野市",null,{"v":33182,"d":"33,182"},{"v":19320,"d":"19,320"},{"v":6966,"d":"6,966"},{"v":5480,"d":"5,480"},878,608,{"v":343.8,"d":"344"},{"v":3800,"d":"3,800"},726,72,684,21,34,164,126,15,23,42,70,32,18,2,"-",120,102,86,118,125,95,10,160,72,75,21,12,6,126,59,150,101]
[273,null,"豊科町",790,"-",342,329,13,0,{"v":6.23,"d":"6"},189,38,"-",38,"-","-",13,13,"-","-",8,3,1,1,"-","-",13,10,13,10,13,13,0,13,12,0,0,0,0,13,6,13,13]
[274,null,"高家村",948,18,534,514,20,0,{"v":3.28,"d":"3"},285,48,7,46,2,4,22,22,"-","-",7,3,7,4,1,"-",20,16,14,19,19,14,0,22,12,4,4,1,1,22,12,22,22]
[275,null,"南穂高村",684,5,384,367,16,1,{"v":9.05,"d":"9"},240,38,4,36,"-",2,11,11,"-","-","-",4,7,"-","-","-",11,11,11,11,11,11,0,11,11,0,0,0,0,11,4,11,11]
[276,null,"上川手村２－１",{"v":1489,"d":"1,489"},826,193,172,20,1,{"v":13.3,"d":"13"},140,18,"-",18,"-",1,8,7,1,"-","-",4,1,2,1,"-",8,6,7,7,8,8,0,8,8,7,3,1,0,8,5,8,8]
[277,null,"穂高町",{"v":1009,"d":"1,009"},24,473,438,26,9,{"v":15.23,"d":"15"},277,49,9,44,1,2,22,21,"-",1,8,10,3,1,"-","-",12,11,5,8,8,6,7,22,5,5,3,0,0,10,10,22,10]
[278,null,"西穂高村",{"v":4001,"d":"4,001"},{"v":2644,"d":"2,644"},492,390,91,11,{"v":36.01,"d":"36"},224,39,1,38,"-","-",13,9,1,3,4,5,2,2,"-","-",8,6,8,11,12,6,0,13,5,6,0,3,1,8,2,12,5]
[279,null,"北穂高村",565,2,247,242,5,0,{"v":1.47,"d":"1"},80,20,3,17,"-","-",3,3,"-","-","-",2,1,"-","-","-",2,3,0,1,1,0,0,3,1,0,0,0,0,3,3,3,3]
[280,null,"有明村",{"v":8967,"d":"8,967"},{"v":6941,"d":"6,941"},{"v":1077,"d":"1,077"},922,139,16,{"v":27.18,"d":"27"},485,79,6,74,4,4,11,8,3,"-",2,7,2,"-","-","-",6,4,5,9,11,8,0,11,3,9,1,1,1,8,4,11,4]
[281,null,"明盛村",751,"-",449,433,15,1,{"v":25.08,"d":"25"},323,37,8,34,3,1,5,5,"-","-","-",4,1,"-","-","-",5,4,0,4,2,3,0,5,0,0,0,0,0,5,0,5,0]
[282,null,"小倉村",{"v":2374,"d":"2,374"},{"v":1428,"d":"1,428"},693,46,269,378,{"v":29.21,"d":"29"},250,113,10,111,4,4,4,"-","-",4,"-",1,2,1,"-","-",4,1,0,0,1,1,0,4,0,4,0,0,0,4,0,4,0]
[283,null,"温村",896,5,617,430,95,92,{"v":19.43,"d":"19"},365,88,8,83,5,7,5,3,2,"-","-",4,1,"-","-","-",5,5,0,3,4,4,0,5,0,2,0,0,0,5,0,5,0]
[284,null,"烏川村",{"v":5607,"d":"5,607"},{"v":4428,"d":"4,428"},612,554,51,7,{"v":5.93,"d":"6"},362,73,4,72,1,3,6,6,"-","-","-",5,1,"-","-","-",6,1,0,1,3,5,0,6,0,1,0,0,0,1,0,6,6]
[285,null,"三田村",889,330,369,269,66,34,{"v":8.06,"d":"8"},230,42,5,35,1,4,3,2,1,"-","-",1,1,1,"-","-",3,3,1,1,2,2,0,3,2,1,0,0,0,1,1,3,3]
[286,null,"中川手村",810,396,111,87,9,15,{"v":23.12,"d":"23"},98,13,"-",12,"-",2,10,7,1,2,2,6,"-",2,"-","-",6,9,6,10,7,3,0,9,4,8,1,2,1,9,1,9,6]
[287,null,"東川手村",{"v":1729,"d":"1,729"},{"v":1404,"d":"1,404"},37,29,8,0,{"v":42.87,"d":"43"},19,2,1,2,"-","-",18,3,3,12,11,6,"-",1,"-","-",2,4,9,14,15,4,3,15,2,18,6,0,0,8,3,7,2]
[288,null,"上川手村２－２",333,211,66,56,10,0,{"v":10.86,"d":"11"},44,5,1,4,"-","-",3,2,1,"-","-",2,"-",1,"-","-",3,2,0,2,1,0,0,3,1,3,0,1,0,3,2,3,2]
[289,null,"七貴村２－１",801,313,205,149,21,35,{"v":45.98,"d":"46"},143,15,3,12,"-","-",4,2,2,"-","-",3,1,"-","-","-",4,4,4,4,4,4,0,4,4,4,2,2,2,4,4,4,4]
[290,null,"陸郷村３－１",539,345,65,53,4,8,{"v":21.51,"d":"22"},46,9,2,8,"-","-",3,2,"-",1,"-","-",1,2,"-","-",2,2,3,3,3,3,0,3,2,3,1,1,0,3,2,2,2]
[291,"小海町",null,{"v":11419,"d":"11,419"},{"v":9282,"d":"9,282"},921,209,696,16,{"v":230.03,"d":"230"},265,19,4,16,"-",1,26,2,9,15,3,5,10,6,2,"-",23,25,25,23,24,22,0,26,22,26,25,12,10,26,23,26,24]
[292,null,"小海村",{"v":3975,"d":"3,975"},{"v":3115,"d":"3,115"},417,62,345,10,{"v":114.15,"d":"114"},104,9,2,9,"-","-",11,"-",4,7,1,3,2,4,1,"-",9,10,11,9,10,8,0,11,8,11,10,4,3,11,9,11,9]
[293,null,"穂積村２－２",153,105,25,20,3,2,{"v":10.07,"d":"10"},12,2,"-",1,"-",1,1,1,"-","-","-","-",1,"-","-","-",1,1,1,1,1,1,0,1,1,1,1,0,0,1,1,1,1]
[294,null,"北牧村２－１",{"v":7291,"d":"7,291"},{"v":6062,"d":"6,062"},479,127,348,4,{"v":105.81,"d":"106"},149,8,2,6,"-","-",14,1,5,8,2,2,7,2,1,"-",13,14,13,13,13,13,0,14,13,14,14,8,7,14,13,14,14]
[295,"川上村",null,{"v":20961,"d":"20,961"},{"v":17780,"d":"17,780"},{"v":1701,"d":"1,701"},46,{"v":1655,"d":"1,655"},0,{"v":26.13,"d":"26"},574,20,1,10,"-",9,8,"-","-",8,"-","-",3,5,"-","-",8,8,8,8,8,8,0,8,1,8,3,2,1,8,8,8,8]
[296,null,"（川上村）",{"v":20961,"d":"20,961"},{"v":17780,"d":"17,780"},{"v":1701,"d":"1,701"},46,{"v":1655,"d":"1,655"},0,{"v":26.13,"d":"26"},574,20,1,10,"-",9,8,"-","-",8,"-","-",3,5,"-","-",8,8,8,8,8,8,0,8,1,8,3,2,1,8,8,8,8]
[297,"南牧村",null,{"v":13310,"d":"13,310"},{"v":10528,"d":"10,528"},{"v":1954,"d":"1,954"},112,{"v":1842,"d":"1,842"},0,{"v":43.45,"d":"43"},377,19,3,15,1,7,9,"-",2,7,"-",2,4,2,1,"-",9,9,9,3,9,0,0,9,3,9,8,0,0,9,4,9,9]
[298,null,"（南牧村）",{"v":13310,"d":"13,310"},{"v":10528,"d":"10,528"},{"v":1954,"d":"1,954"},112,{"v":1842,"d":"1,842"},0,{"v":43.45,"d":"43"},377,19,3,15,1,7,9,"-",2,7,"-",2,4,2,1,"-",9,9,9,3,9,0,0,9,3,9,8,0,0,9,4,9,9]
[299,"南相木村",null,{"v":6603,"d":"6,603"},{"v":5787,"d":"5,787"},311,63,248,0,{"v":38.73,"d":"39"},84,2,"-",2,"-","-",10,1,4,5,"-",3,7,"-","-","-",4,10,10,10,10,10,0,10,4,10,0,1,0,10,10,10,10]
[300,null,"（南相木村）",{"v":6603,"d":"6,603"},{"v":5787,"d":"5,787"},311,63,248,0,{"v":38.73,"d":"39"},84,2,"-",2,"-","-",10,1,4,5,"-",3,7,"-","-","-",4,10,10,10,10,10,0,10,4,10,0,1,0,10,10,10,10]
[301,"北相木村",null,{"v":5626,"d":"5,626"},{"v":5140,"d":"5,140"},169,30,139,0,{"v":43.11,"d":"43"},71,4,"-",4,"-","-",9,"-",1,8,"-",4,3,2,"-","-",0,0,9,9,9,0,0,9,4,9,0,1,0,9,1,8,8]
[302,null,"（北相木村）",{"v":5626,"d":"5,626"},{"v":5140,"d":"5,140"},169,30,139,0,{"v":43.11,"d":"43"},71,4,"-",4,"-","-",9,"-",1,8,"-",4,3,2,"-","-",0,0,9,9,9,0,0,9,4,9,0,1,0,9,1,8,8]
[303,"佐久穂町",null,{"v":18813,"d":"18,813"},{"v":15040,"d":"15,040"},{"v":1284,"d":"1,284"},726,488,70,{"v":372.26,"d":"372"},693,112,12,105,4,3,56,22,25,9,4,9,12,20,10,1,33,49,34,38,43,40,1,56,29,53,17,17,10,56,46,55,51]
[304,null,"海瀬村",{"v":2527,"d":"2,527"},{"v":1776,"d":"1,776"},351,220,88,43,{"v":89.14,"d":"89"},203,36,4,32,2,3,15,7,7,1,"-",3,4,6,2,"-",12,15,7,8,13,11,0,15,14,15,8,3,1,15,14,15,15]
[305,null,"栄村（佐久穂町）",{"v":4142,"d":"4,142"},{"v":3401,"d":"3,401"},229,138,86,5,{"v":87.5,"d":"88"},140,27,1,26,"-","-",13,4,6,3,3,1,3,3,2,1,5,10,6,9,9,9,0,13,7,10,0,3,3,13,10,12,12]
[306,null,"大日向村",{"v":5253,"d":"5,253"},{"v":4804,"d":"4,804"},63,43,19,1,{"v":34.79,"d":"35"},52,8,"-",8,2,"-",5,3,2,"-","-","-",2,3,"-","-",3,5,4,3,4,4,0,5,4,5,2,1,0,5,3,5,5]
[307,null,"青沼村２－２",289,225,18,7,9,2,{"v":10.49,"d":"10"},11,3,"-",3,"-","-",3,"-",3,"-",1,1,1,"-","-","-",0,3,0,3,3,3,0,3,0,3,0,1,1,3,2,3,2]
[308,null,"畑八村",{"v":5000,"d":"5,000"},{"v":3782,"d":"3,782"},466,238,211,17,{"v":102.9,"d":"103"},211,28,6,26,"-","-",11,4,3,4,"-",1,2,4,4,"-",10,8,9,8,8,7,1,11,4,11,5,6,4,11,9,11,9]
[309,null,"穂積村２－１",903,600,97,44,51,2,{"v":36.04,"d":"36"},43,9,"-",9,"-","-",6,2,3,1,"-",2,"-",3,1,"-",3,5,5,6,3,4,0,6,0,6,1,2,0,6,6,6,6]
[310,null,"北牧村２－２",699,452,60,36,24,0,{"v":11.4,"d":"11"},33,1,1,1,"-","-",3,2,1,"-","-",1,"-",1,1,"-",0,3,3,1,3,2,0,3,0,3,1,1,1,3,2,3,2]
[311,"軽井沢町",null,{"v":15605,"d":"15,605"},{"v":11795,"d":"11,795"},343,130,211,2,{"v":112.2,"d":"112"},203,18,3,16,5,4,19,1,8,10,13,4,2,"-","-","-",8,7,0,9,3,0,9,15,0,19,0,5,0,15,0,15,13]
[312,null,"軽井沢町（旧）",{"v":14840,"d":"14,840"},{"v":11063,"d":"11,063"},323,122,199,2,{"v":103.42,"d":"103"},182,17,3,15,5,4,18,1,7,10,13,4,1,"-","-","-",7,6,0,8,3,0,9,14,0,18,0,5,0,14,0,14,12]
[313,null,"伍賀村２－２",765,732,20,8,12,0,{"v":8.78,"d":"9"},21,1,"-",1,"-","-",1,"-",1,"-","-","-",1,"-","-","-",1,1,0,1,0,0,0,1,0,1,0,0,0,1,0,1,1]
[314,"御代田町",null,{"v":5878,"d":"5,878"},{"v":3342,"d":"3,342"},751,239,509,3,{"v":180.75,"d":"181"},343,31,"-",31,"-",2,17,"-",12,5,5,9,1,2,"-","-",5,14,17,17,16,16,0,16,7,16,2,5,4,17,3,16,15]
[315,null,"伍賀村２－１",{"v":1772,"d":"1,772"},{"v":1264,"d":"1,264"},225,47,178,0,{"v":42.74,"d":"43"},108,7,"-",7,"-",2,5,"-",3,2,1,1,1,2,"-","-",2,5,5,5,5,5,0,5,4,5,2,1,1,5,2,5,4]
[316,null,"御代田村２－１",932,163,175,81,93,1,{"v":46.21,"d":"46"},78,9,"-",9,"-","-",6,"-",5,1,2,4,"-","-","-","-",3,5,6,6,6,6,0,6,1,6,0,1,0,6,0,6,6]
[317,null,"小沼村２－１－１",{"v":3174,"d":"3,174"},{"v":1915,"d":"1,915"},351,111,238,2,{"v":91.8,"d":"92"},157,15,"-",15,"-","-",6,"-",4,2,2,4,"-","-","-","-",0,4,6,6,5,5,0,5,2,5,0,3,3,6,1,5,5]
[318,"立科町",null,{"v":6682,"d":"6,682"},{"v":3845,"d":"3,845"},{"v":1316,"d":"1,316"},742,424,150,{"v":274.43,"d":"274"},802,240,25,233,2,9,30,10,18,2,"-",4,6,11,7,2,20,30,30,20,30,29,0,30,19,25,10,24,24,30,30,30,30]
[319,null,"芦田村",{"v":4215,"d":"4,215"},{"v":3255,"d":"3,255"},270,201,65,4,{"v":69.53,"d":"70"},199,42,4,38,1,4,8,7,"-",1,"-",2,2,3,"-",1,5,8,8,5,8,7,0,8,6,5,0,5,5,8,8,8,8]
[320,null,"三都和村",842,140,357,206,136,15,{"v":68.4,"d":"68"},214,59,1,59,"-","-",6,1,5,"-","-",1,2,2,1,"-",3,6,6,2,6,6,0,6,4,6,2,5,5,6,6,6,6]
[321,null,"横鳥村",{"v":1113,"d":"1,113"},245,571,240,201,130,{"v":93.67,"d":"94"},299,118,20,115,1,5,14,1,12,1,"-",1,2,5,5,1,10,14,14,11,14,14,0,14,7,12,7,13,13,14,14,14,14]
[322,null,"本牧村２－２",512,205,118,95,22,1,{"v":42.83,"d":"43"},90,21,"-",21,"-","-",2,1,1,"-","-","-","-",1,1,"-",2,2,2,2,2,2,0,2,2,2,1,1,1,2,2,2,2]
[323,"青木村",null,{"v":5709,"d":"5,709"},{"v":4621,"d":"4,621"},447,245,174,28,{"v":115.88,"d":"116"},234,37,4,37,3,1,12,4,7,1,1,1,3,7,"-","-",11,12,12,10,12,8,0,12,12,11,7,1,1,12,11,12,11]
[324,null,"青木村（旧）",{"v":5125,"d":"5,125"},{"v":4198,"d":"4,198"},373,196,159,18,{"v":99.07,"d":"99"},187,25,3,25,2,1,11,4,6,1,1,1,3,6,"-","-",10,11,11,9,11,7,0,11,11,10,6,0,0,11,10,11,10]
[325,null,"浦里村２－２",584,423,74,49,15,10,{"v":16.81,"d":"17"},47,12,1,12,1,"-",1,"-",1,"-","-","-","-",1,"-","-",1,1,1,1,1,1,0,1,1,1,1,1,1,1,1,1,1]
[326,"長和町",null,{"v":18395,"d":"18,395"},{"v":16057,"d":"16,057"},960,497,433,30,{"v":158.37,"d":"158"},277,49,8,46,2,6,45,17,21,7,2,4,23,14,2,"-",20,22,8,14,16,9,22,44,22,42,8,3,1,44,24,44,37]
[327,null,"大門村",{"v":6893,"d":"6,893"},{"v":6097,"d":"6,097"},321,97,218,6,{"v":47.88,"d":"48"},59,9,2,8,1,3,8,1,4,3,"-",2,2,3,1,"-",6,6,6,6,6,5,2,8,5,8,5,0,0,8,3,8,7]
[328,null,"長久保新町",{"v":1363,"d":"1,363"},{"v":1081,"d":"1,081"},141,73,66,2,{"v":12.48,"d":"12"},48,7,1,6,1,2,14,5,7,2,2,1,5,5,1,"-",8,8,1,2,4,1,5,14,9,11,1,1,0,13,12,14,9]
[329,null,"長窪古町",{"v":1358,"d":"1,358"},944,232,147,71,14,{"v":38.94,"d":"39"},62,20,2,20,"-","-",7,2,5,"-","-","-",6,1,"-","-",2,4,1,2,2,3,3,7,3,7,2,1,1,7,6,7,7]
[330,null,"和田村（長和町）",{"v":8781,"d":"8,781"},{"v":7935,"d":"7,935"},266,180,78,8,{"v":59.07,"d":"59"},108,13,3,12,"-",1,16,9,5,2,"-",1,10,5,"-","-",4,4,0,4,4,0,12,15,5,16,0,1,0,16,3,15,14]
[331,"下諏訪町",null,{"v":6690,"d":"6,690"},{"v":5566,"d":"5,566"},57,30,15,12,{"v":36.06,"d":"36"},33,21,2,21,1,"-",15,4,5,6,13,2,"-","-","-","-",10,5,15,15,15,12,0,13,1,10,0,5,0,15,0,11,5]
[332,null,"下諏訪町（旧）",{"v":5681,"d":"5,681"},{"v":4716,"d":"4,716"},44,21,12,11,{"v":34.4,"d":"34"},22,18,2,18,1,"-",13,3,4,6,11,2,"-","-","-","-",8,4,13,13,13,10,0,11,1,9,0,5,0,13,0,9,4]
[333,null,"長地村２－２",{"v":1009,"d":"1,009"},850,13,9,3,1,{"v":1.66,"d":"2"},11,3,"-",3,"-","-",2,1,1,"-",2,"-","-","-","-","-",2,1,2,2,2,2,0,2,0,1,0,0,0,2,0,2,1]
[334,"富士見町",null,{"v":14466,"d":"14,466"},{"v":10114,"d":"10,114"},{"v":1656,"d":"1,656"},937,706,13,{"v":287.91,"d":"288"},708,53,9,46,10,7,32,3,25,4,5,6,10,10,1,"-",30,31,31,31,31,31,1,31,26,32,19,8,5,32,27,31,31]
[335,null,"富士見村",{"v":4170,"d":"4,170"},{"v":3085,"d":"3,085"},445,187,255,3,{"v":128.48,"d":"128"},147,11,1,10,5,1,12,"-",9,3,2,3,4,3,"-","-",11,12,12,12,12,12,0,12,10,12,9,3,2,12,12,12,12]
[336,null,"本郷村（富士見町）",{"v":3450,"d":"3,450"},{"v":2543,"d":"2,543"},587,421,165,1,{"v":51.71,"d":"52"},258,18,5,12,2,6,2,1,1,"-","-","-",1,1,"-","-",2,2,2,2,2,2,0,2,2,2,2,2,2,2,2,2,2]
[337,null,"落合村",{"v":3793,"d":"3,793"},{"v":2634,"d":"2,634"},345,179,160,6,{"v":50.77,"d":"51"},174,16,2,16,1,"-",11,1,9,1,2,2,3,3,1,"-",10,10,10,10,10,10,1,10,10,11,7,1,1,11,9,10,10]
[338,null,"境村",{"v":3053,"d":"3,053"},{"v":1852,"d":"1,852"},279,150,126,3,{"v":56.95,"d":"57"},129,8,1,8,2,"-",7,1,6,"-",1,1,2,3,"-","-",7,7,7,7,7,7,0,7,4,7,1,2,0,7,4,7,7]
[339,"原村",null,{"v":4323,"d":"4,323"},{"v":1971,"d":"1,971"},{"v":1150,"d":"1,150"},567,576,7,{"v":141.49,"d":"141"},549,50,6,44,1,6,11,"-",8,3,"-",3,6,2,"-","-",10,11,11,11,11,11,0,11,6,11,0,6,3,11,11,11,10]
[340,null,"（原村）",{"v":4323,"d":"4,323"},{"v":1971,"d":"1,971"},{"v":1150,"d":"1,150"},567,576,7,{"v":141.49,"d":"141"},549,50,6,44,1,6,11,"-",8,3,"-",3,6,2,"-","-",10,11,11,11,11,11,0,11,6,11,0,6,3,11,11,11,10]
[341,"辰野町",null,{"v":16902,"d":"16,902"},{"v":14354,"d":"14,354"},981,558,391,32,{"v":168.49,"d":"168"},413,86,9,82,2,6,57,10,44,3,6,16,19,15,1,"-",51,57,57,57,57,55,0,57,39,56,29,10,7,57,53,57,57]
[342,null,"辰野町（旧）",{"v":4853,"d":"4,853"},{"v":3550,"d":"3,550"},424,224,170,30,{"v":62.72,"d":"63"},167,58,2,57,2,"-",21,2,16,3,4,8,5,3,1,"-",19,21,21,21,21,19,0,21,11,21,13,2,1,21,19,21,21]
[343,null,"朝日村（辰野町）",{"v":2837,"d":"2,837"},{"v":2332,"d":"2,332"},261,159,102,0,{"v":36.02,"d":"36"},133,10,3,9,"-",2,17,4,13,"-",1,4,4,8,"-","-",17,17,17,17,17,17,0,17,17,16,1,5,5,17,17,17,17]
[344,null,"川島村",{"v":6620,"d":"6,620"},{"v":6168,"d":"6,168"},132,88,43,1,{"v":15.77,"d":"16"},64,8,2,7,"-",3,8,3,5,"-","-","-",6,2,"-","-",8,8,8,8,8,8,0,8,7,8,7,0,0,8,7,8,8]
[345,null,"小野村",{"v":2592,"d":"2,592"},{"v":2304,"d":"2,304"},164,87,76,1,{"v":53.98,"d":"54"},49,10,2,9,"-",1,11,1,10,"-",1,4,4,2,"-","-",7,11,11,11,11,11,0,11,4,11,8,3,1,11,10,11,11]
[346,"箕輪町",null,{"v":8612,"d":"8,612"},{"v":5486,"d":"5,486"},{"v":1533,"d":"1,533"},743,663,127,{"v":151.78,"d":"152"},901,146,10,139,9,1,48,8,28,12,3,15,14,14,2,"-",48,47,48,48,48,45,0,48,32,38,7,11,1,46,23,48,47]
[347,null,"中箕輪町",{"v":3923,"d":"3,923"},{"v":1821,"d":"1,821"},986,492,408,86,{"v":82.85,"d":"83"},582,87,5,85,7,1,20,6,8,6,2,12,4,2,"-","-",20,20,20,20,20,19,0,20,6,15,5,6,1,19,12,20,20]
[348,null,"東箕輪村",{"v":3200,"d":"3,200"},{"v":2676,"d":"2,676"},217,99,98,20,{"v":43.04,"d":"43"},146,35,4,31,"-","-",17,1,11,5,"-",2,7,8,"-","-",17,17,17,17,17,17,0,17,17,12,2,2,0,16,6,17,17]
[349,null,"箕輪村",{"v":1307,"d":"1,307"},945,239,143,83,13,{"v":20.88,"d":"21"},140,20,1,19,2,"-",10,1,9,"-",1,1,3,3,2,"-",10,9,10,10,10,8,0,10,9,10,0,2,0,10,5,10,9]
[350,null,"西箕輪村２－２",182,44,91,9,74,8,{"v":5.01,"d":"5"},33,4,"-",4,"-","-",1,"-","-",1,"-","-","-",1,"-","-",1,1,1,1,1,1,0,1,0,1,0,1,0,1,0,1,1]
[351,"飯島町",null,{"v":8694,"d":"8,694"},{"v":5758,"d":"5,758"},{"v":1190,"d":"1,190"},854,236,100,{"v":68.52,"d":"69"},762,205,12,202,13,1,35,20,14,1,4,9,8,9,5,"-",35,35,35,35,35,34,0,35,35,27,14,6,5,35,34,35,35]
[352,null,"飯島村",{"v":5551,"d":"5,551"},{"v":3215,"d":"3,215"},894,649,181,64,{"v":27.84,"d":"28"},551,148,8,145,9,1,26,14,11,1,3,7,3,8,5,"-",26,26,26,26,26,25,0,26,26,20,9,4,4,26,25,26,26]
[353,null,"七久保村",{"v":3143,"d":"3,143"},{"v":2543,"d":"2,543"},296,205,55,36,{"v":40.68,"d":"41"},211,57,4,57,4,"-",9,6,3,"-",1,2,5,1,"-","-",9,9,9,9,9,9,0,9,9,7,5,2,1,9,9,9,9]
[354,"南箕輪村",null,{"v":4090,"d":"4,090"},{"v":2336,"d":"2,336"},899,556,310,33,{"v":41.01,"d":"41"},299,55,10,49,6,6,31,24,3,4,8,14,9,"-","-","-",26,28,31,31,31,20,0,31,7,26,3,1,0,28,8,31,27]
[355,null,"（南箕輪村）",{"v":4090,"d":"4,090"},{"v":2336,"d":"2,336"},899,556,310,33,{"v":41.01,"d":"41"},299,55,10,49,6,6,31,24,3,4,8,14,9,"-","-","-",26,28,31,31,31,20,0,31,7,26,3,1,0,28,8,31,27]
[356,"中川村",null,{"v":7705,"d":"7,705"},{"v":5769,"d":"5,769"},765,427,177,161,{"v":81.79,"d":"82"},559,213,35,205,24,13,24,2,21,1,"-",3,4,8,9,"-",24,24,24,24,24,24,0,24,24,24,4,10,10,24,19,24,24]
[357,null,"南向村",{"v":6589,"d":"6,589"},{"v":5493,"d":"5,493"},374,211,90,73,{"v":34.48,"d":"34"},311,99,14,96,4,5,13,"-",13,"-","-",1,1,5,6,"-",13,13,13,13,13,13,0,13,13,13,0,8,8,13,8,13,13]
[358,null,"片桐村",{"v":1116,"d":"1,116"},276,391,216,87,88,{"v":47.31,"d":"47"},248,114,21,109,20,8,11,2,8,1,"-",2,3,3,3,"-",11,11,11,11,11,11,0,11,11,11,4,2,2,11,11,11,11]
[359,"宮田村",null,{"v":5452,"d":"5,452"},{"v":3953,"d":"3,953"},499,415,42,42,{"v":6.69,"d":"7"},308,50,10,46,6,5,9,9,"-","-",3,6,"-","-","-","-",9,9,9,9,9,9,0,9,9,7,4,0,0,9,9,9,9]
[360,null,"（宮田村）",{"v":5452,"d":"5,452"},{"v":3953,"d":"3,953"},499,415,42,42,{"v":6.69,"d":"7"},308,50,10,46,6,5,9,9,"-","-",3,6,"-","-","-","-",9,9,9,9,9,9,0,9,9,7,4,0,0,9,9,9,9]
[361,"松川町",null,{"v":7290,"d":"7,290"},{"v":4772,"d":"4,772"},{"v":1104,"d":"1,104"},275,195,634,{"v":162.51,"d":"163"},892,551,84,534,109,44,47,"-",18,29,2,9,14,13,8,1,14,46,47,45,45,41,0,47,9,43,0,9,0,47,0,47,4]
[362,null,"大島村",{"v":2549,"d":"2,549"},{"v":1454,"d":"1,454"},508,130,75,303,{"v":53.98,"d":"54"},452,296,33,293,73,20,25,"-",12,13,2,7,7,5,3,1,7,24,25,24,23,21,0,25,0,21,0,4,0,25,0,25,2]
[363,null,"上片桐村",{"v":1838,"d":"1,838"},{"v":1194,"d":"1,194"},310,62,64,184,{"v":50.76,"d":"51"},247,159,27,157,17,13,10,"-",1,9,"-",1,4,4,1,"-",5,10,10,9,10,9,0,10,4,10,0,2,0,10,0,10,1]
[364,null,"生田村",{"v":2735,"d":"2,735"},{"v":2109,"d":"2,109"},221,80,50,91,{"v":54.74,"d":"55"},142,55,15,43,5,5,10,"-",5,5,"-",1,2,4,3,"-",1,10,10,10,10,9,0,10,5,10,0,3,0,10,0,10,1]
[365,null,"山吹村２－２",168,15,65,3,6,56,{"v":3.03,"d":"3"},51,41,9,41,14,6,2,"-","-",2,"-","-",1,"-",1,"-",1,2,2,2,2,2,0,2,0,2,0,0,0,2,0,2,0]
[366,"高森町",null,{"v":4526,"d":"4,526"},{"v":2534,"d":"2,534"},949,327,215,407,{"v":76.28,"d":"76"},827,650,504,419,21,14,62,2,34,26,6,10,19,23,3,1,53,59,52,62,60,60,0,61,11,27,3,8,3,62,15,61,60]
[367,null,"市田村",{"v":3043,"d":"3,043"},{"v":1780,"d":"1,780"},604,231,157,216,{"v":47.49,"d":"47"},523,417,343,255,14,12,45,2,27,16,6,10,12,16,"-",1,43,43,35,45,43,43,0,44,4,11,0,5,2,45,0,44,43]
[368,null,"山吹村２－１",{"v":1483,"d":"1,483"},754,345,96,58,191,{"v":28.79,"d":"29"},304,233,161,164,7,2,17,"-",7,10,"-","-",7,7,3,"-",10,16,17,17,17,17,0,17,7,16,3,3,1,17,15,17,17]
[369,"阿南町",null,{"v":12335,"d":"12,335"},{"v":10438,"d":"10,438"},536,292,190,54,{"v":144.98,"d":"145"},265,82,4,68,4,19,43,6,35,2,2,8,5,18,6,4,24,30,35,35,41,25,0,43,15,43,6,13,4,43,34,43,34]
[370,null,"大下条村",{"v":2305,"d":"2,305"},{"v":1592,"d":"1,592"},175,74,72,29,{"v":62.78,"d":"63"},54,14,1,10,"-",5,15,1,13,1,2,3,3,4,3,"-",8,12,10,10,15,11,0,15,3,15,2,6,2,15,15,15,15]
[371,null,"旦開村",{"v":2004,"d":"2,004"},{"v":1683,"d":"1,683"},129,91,30,8,{"v":23.87,"d":"24"},102,38,2,35,3,2,8,4,4,"-","-",1,1,3,2,1,6,8,8,8,8,1,0,8,4,8,0,3,0,8,8,8,8]
[372,null,"和合村",{"v":6007,"d":"6,007"},{"v":5723,"d":"5,723"},57,31,24,2,{"v":12.08,"d":"12"},22,5,"-",4,"-",2,8,1,7,"-","-",3,"-",5,"-","-",0,0,8,8,8,8,0,8,0,8,0,0,0,8,0,8,0]
[373,null,"富草村",{"v":2019,"d":"2,019"},{"v":1440,"d":"1,440"},175,96,64,15,{"v":46.25,"d":"46"},87,25,1,19,1,10,12,"-",11,1,"-",1,1,6,1,3,10,10,9,9,10,5,0,12,8,12,4,4,2,12,11,12,11]
[374,"阿智村",null,{"v":21447,"d":"21,447"},{"v":19241,"d":"19,241"},477,271,155,51,{"v":116.4,"d":"116"},338,100,11,94,10,8,55,16,25,14,2,15,16,12,8,2,21,53,46,55,55,49,0,55,4,54,15,4,2,55,54,53,52]
[375,null,"会地村",{"v":1485,"d":"1,485"},{"v":1162,"d":"1,162"},112,74,27,11,{"v":19.18,"d":"19"},81,22,"-",22,"-","-",12,5,7,"-","-",5,5,1,1,"-",3,12,9,12,12,11,0,12,0,12,2,1,1,12,12,12,12]
[376,null,"伍和村",{"v":1817,"d":"1,817"},{"v":1145,"d":"1,145"},230,133,62,35,{"v":43.3,"d":"43"},179,59,10,54,10,8,13,6,6,1,"-","-",3,5,4,1,3,13,13,13,13,13,0,13,0,13,1,3,1,13,13,13,13]
[377,null,"智里村",{"v":8006,"d":"8,006"},{"v":7361,"d":"7,361"},82,53,24,5,{"v":22.68,"d":"23"},47,10,1,9,"-","-",12,5,7,"-","-",2,2,5,2,1,0,12,12,12,12,12,0,12,0,12,5,0,0,12,12,12,12]
[378,null,"浪合村",{"v":5723,"d":"5,723"},{"v":5333,"d":"5,333"},27,9,18,0,{"v":9.34,"d":"9"},23,8,"-",8,"-","-",9,"-",5,4,1,2,5,"-",1,"-",9,9,8,9,9,5,0,9,2,9,6,0,0,9,8,9,8]
[379,null,"清内路村",{"v":4416,"d":"4,416"},{"v":4240,"d":"4,240"},26,2,24,0,{"v":21.9,"d":"22"},8,1,"-",1,"-","-",9,"-","-",9,1,6,1,1,"-","-",6,7,4,9,9,8,0,9,2,8,1,0,0,9,9,7,7]
[380,"平谷村",null,{"v":7740,"d":"7,740"},{"v":7422,"d":"7,422"},20,9,11,0,{"v":3.53,"d":"4"},11,2,"-",2,"-","-",10,"-",6,4,2,7,1,"-","-","-",0,0,0,7,9,9,1,9,2,10,0,0,0,10,10,9,9]
[381,null,"（平谷村）",{"v":7740,"d":"7,740"},{"v":7422,"d":"7,422"},20,9,11,0,{"v":3.53,"d":"4"},11,2,"-",2,"-","-",10,"-",6,4,2,7,1,"-","-","-",0,0,0,7,9,9,1,9,2,10,0,0,0,10,10,9,9]
[382,"根羽村",null,{"v":8995,"d":"8,995"},{"v":8174,"d":"8,174"},141,76,65,0,{"v":54.22,"d":"54"},82,36,1,35,"-",5,17,2,14,1,"-",2,6,6,3,"-",6,16,17,13,17,16,0,17,16,17,1,0,0,17,17,17,17]
[383,null,"（根羽村）",{"v":8995,"d":"8,995"},{"v":8174,"d":"8,174"},141,76,65,0,{"v":54.22,"d":"54"},82,36,1,35,"-",5,17,2,14,1,"-",2,6,6,3,"-",6,16,17,13,17,16,0,17,16,17,1,0,0,17,17,17,17]
[384,"下條村",null,{"v":3766,"d":"3,766"},{"v":2618,"d":"2,618"},436,190,110,136,{"v":83.27,"d":"83"},325,125,23,113,8,20,21,1,17,3,"-",2,5,5,8,1,18,20,19,17,20,11,0,21,18,21,12,3,2,21,21,21,21]
[385,null,"（下條村）",{"v":3766,"d":"3,766"},{"v":2618,"d":"2,618"},436,190,110,136,{"v":83.27,"d":"83"},325,125,23,113,8,20,21,1,17,3,"-",2,5,5,8,1,18,20,19,17,20,11,0,21,18,21,12,3,2,21,21,21,21]
[386,"売木村",null,{"v":4355,"d":"4,355"},{"v":3775,"d":"3,775"},119,96,16,7,{"v":15.63,"d":"16"},82,39,3,37,4,9,5,5,"-","-","-",1,3,1,"-","-",5,5,4,5,5,5,0,5,5,5,0,0,0,5,5,5,5]
[387,null,"（売木村）",{"v":4355,"d":"4,355"},{"v":3775,"d":"3,775"},119,96,16,7,{"v":15.63,"d":"16"},82,39,3,37,4,9,5,5,"-","-","-",1,3,1,"-","-",5,5,4,5,5,5,0,5,5,5,0,0,0,5,5,5,5]
[388,"天龍村",null,{"v":10953,"d":"10,953"},{"v":10237,"d":"10,237"},101,32,31,38,{"v":17.35,"d":"17"},79,21,1,21,1,"-",30,1,9,20,6,7,7,4,3,3,11,25,24,17,19,7,4,26,2,29,1,11,0,29,13,27,24]
[389,null,"平岡村（天龍村）",{"v":5075,"d":"5,075"},{"v":4670,"d":"4,670"},48,11,15,22,{"v":8.59,"d":"9"},46,14,1,14,1,"-",18,"-",6,12,6,6,2,1,2,1,1,14,13,15,8,7,3,14,1,17,0,0,0,17,12,15,12]
[390,null,"神原村",{"v":5878,"d":"5,878"},{"v":5567,"d":"5,567"},53,21,16,16,{"v":8.76,"d":"9"},33,7,"-",7,"-","-",12,1,3,8,"-",1,5,3,1,2,10,11,11,2,11,0,1,12,1,12,1,11,0,12,1,12,12]
[391,"泰阜村",null,{"v":6454,"d":"6,454"},{"v":5595,"d":"5,595"},190,69,101,20,{"v":70.11,"d":"70"},84,26,3,25,1,1,21,"-",13,8,3,2,6,5,5,"-",0,20,20,20,20,20,1,20,16,21,0,5,0,21,0,20,20]
[392,null,"（泰阜村）",{"v":6454,"d":"6,454"},{"v":5595,"d":"5,595"},190,69,101,20,{"v":70.11,"d":"70"},84,26,3,25,1,1,21,"-",13,8,3,2,6,5,5,"-",0,20,20,20,20,20,1,20,16,21,0,5,0,21,0,20,20]
[393,"喬木村",null,{"v":6662,"d":"6,662"},{"v":5254,"d":"5,254"},436,170,136,130,{"v":106.25,"d":"106"},383,148,40,121,21,11,54,"-",42,12,1,14,10,18,10,1,53,54,44,54,54,54,0,54,20,48,25,11,8,54,52,54,54]
[394,null,"（喬木村）",{"v":6662,"d":"6,662"},{"v":5254,"d":"5,254"},436,170,136,130,{"v":106.25,"d":"106"},383,148,40,121,21,11,54,"-",42,12,1,14,10,18,10,1,53,54,44,54,54,54,0,54,20,48,25,11,8,54,52,54,54]
[395,"豊丘村",null,{"v":7685,"d":"7,685"},{"v":6062,"d":"6,062"},575,187,97,291,{"v":122.92,"d":"123"},541,418,360,166,25,20,47,1,21,25,3,10,10,11,9,4,42,45,44,45,45,45,2,46,0,42,0,8,8,46,25,46,45]
[396,null,"神稲村",{"v":5585,"d":"5,585"},{"v":4584,"d":"4,584"},354,108,59,187,{"v":84.22,"d":"84"},329,265,230,101,20,17,28,"-",12,16,2,7,5,7,6,1,26,27,26,27,27,27,1,27,0,26,0,7,7,27,11,27,26]
[397,null,"河野村",{"v":2100,"d":"2,100"},{"v":1478,"d":"1,478"},221,79,38,104,{"v":38.7,"d":"39"},212,153,130,65,5,3,19,1,9,9,1,3,5,4,3,3,16,18,18,18,18,18,1,19,0,16,0,1,1,19,14,19,19]
[398,"大鹿村",null,{"v":24835,"d":"24,835"},{"v":22268,"d":"22,268"},177,61,103,13,{"v":33.92,"d":"34"},98,31,5,29,6,7,24,"-",14,10,1,5,8,5,4,1,9,12,12,22,20,10,2,22,0,16,0,2,1,20,10,21,15]
[399,null,"（大鹿村）",{"v":24835,"d":"24,835"},{"v":22268,"d":"22,268"},177,61,103,13,{"v":33.92,"d":"34"},98,31,5,29,6,7,24,"-",14,10,1,5,8,5,4,1,9,12,12,22,20,10,2,22,0,16,0,2,1,20,10,21,15]
[400,"上松町",null,{"v":16847,"d":"16,847"},{"v":15157,"d":"15,157"},184,97,87,0,{"v":38.51,"d":"39"},129,17,"-",16,1,1,17,"-",14,3,6,6,2,3,"-","-",11,10,9,12,13,8,2,17,12,17,7,3,1,17,8,16,13]
[401,null,"（上松町）",{"v":16847,"d":"16,847"},{"v":15157,"d":"15,157"},184,97,87,0,{"v":38.51,"d":"39"},129,17,"-",16,1,1,17,"-",14,3,6,6,2,3,"-","-",11,10,9,12,13,8,2,17,12,17,7,3,1,17,8,16,13]
[402,"南木曽町",null,{"v":21596,"d":"21,596"},{"v":19206,"d":"19,206"},315,203,93,19,{"v":26.74,"d":"27"},216,65,"-",64,"-",4,35,7,24,4,7,12,3,9,3,1,0,32,1,35,35,22,0,35,34,35,1,7,1,35,5,35,32]
[403,null,"読書村",{"v":11150,"d":"11,150"},{"v":9804,"d":"9,804"},129,87,34,8,{"v":11.23,"d":"11"},98,28,"-",28,"-",2,13,3,10,"-",2,3,2,3,2,1,0,13,0,13,13,8,0,13,13,13,0,4,0,13,0,13,13]
[404,null,"吾妻村",{"v":7695,"d":"7,695"},{"v":6905,"d":"6,905"},75,42,32,1,{"v":12.06,"d":"12"},30,12,"-",11,"-",1,16,3,9,4,5,8,"-",3,"-","-",0,13,0,16,16,9,0,16,15,16,0,1,1,16,4,16,13]
[405,null,"田立村",{"v":2751,"d":"2,751"},{"v":2497,"d":"2,497"},111,74,27,10,{"v":3.45,"d":"3"},88,25,"-",25,"-",1,6,1,5,"-","-",1,1,3,1,"-",0,6,1,6,6,5,0,6,6,6,1,2,0,6,1,6,6]
[406,"木祖村",null,{"v":14046,"d":"14,046"},{"v":12740,"d":"12,740"},241,109,130,2,{"v":75.8,"d":"76"},61,11,1,8,"-",2,19,2,10,7,7,4,3,5,"-","-",2,17,17,19,17,0,0,18,0,18,7,9,2,15,0,19,16]
[407,null,"（木祖村）",{"v":14046,"d":"14,046"},{"v":12740,"d":"12,740"},241,109,130,2,{"v":75.8,"d":"76"},61,11,1,8,"-",2,19,2,10,7,7,4,3,5,"-","-",2,17,17,19,17,0,0,18,0,18,7,9,2,15,0,19,16]
[408,"王滝村",null,{"v":31086,"d":"31,086"},{"v":27557,"d":"27,557"},48,29,19,0,{"v":18.95,"d":"19"},19,3,2,3,"-",2,9,2,3,4,4,2,2,1,"-","-",0,3,7,2,9,0,0,9,3,9,0,1,0,8,0,9,0]
[409,null,"（王滝村）",{"v":31086,"d":"31,086"},{"v":27557,"d":"27,557"},48,29,19,0,{"v":18.95,"d":"19"},19,3,2,3,"-",2,9,2,3,4,4,2,2,1,"-","-",0,3,7,2,9,0,0,9,3,9,0,1,0,8,0,9,0]
[410,"大桑村",null,{"v":23445,"d":"23,445"},{"v":20225,"d":"20,225"},186,105,57,24,{"v":26.02,"d":"26"},154,22,1,22,"-","-",12,"-",11,1,2,6,3,1,"-","-",6,10,5,11,12,6,0,12,5,12,2,2,0,12,0,11,7]
[411,null,"（大桑村）",{"v":23445,"d":"23,445"},{"v":20225,"d":"20,225"},186,105,57,24,{"v":26.02,"d":"26"},154,22,1,22,"-","-",12,"-",11,1,2,6,3,1,"-","-",6,10,5,11,12,6,0,12,5,12,2,2,0,12,0,11,7]
[412,"木曽町",null,{"v":47606,"d":"47,606"},{"v":41851,"d":"41,851"},{"v":1233,"d":"1,233"},534,639,60,{"v":245.57,"d":"246"},407,101,9,97,3,3,73,29,28,16,8,26,15,16,7,1,15,54,48,60,52,13,2,72,31,71,16,17,7,73,11,70,55]
[413,null,"福島町",{"v":4165,"d":"4,165"},{"v":3179,"d":"3,179"},63,47,16,0,{"v":20.27,"d":"20"},41,10,1,9,"-","-",13,6,5,2,4,4,1,1,2,1,7,6,11,12,12,1,1,13,8,12,6,3,1,13,1,12,7]
[414,null,"新開村",{"v":10832,"d":"10,832"},{"v":10228,"d":"10,228"},135,107,28,0,{"v":32.32,"d":"32"},85,24,1,22,"-",1,11,9,2,"-",2,2,4,2,1,"-",5,8,10,11,11,5,0,11,9,11,5,0,0,11,7,11,10]
[415,null,"日義村",{"v":5663,"d":"5,663"},{"v":5018,"d":"5,018"},152,95,54,3,{"v":29.55,"d":"30"},72,16,3,16,"-","-",15,6,6,3,1,10,1,1,2,"-",0,14,14,15,13,1,0,14,0,14,1,2,2,15,0,14,14]
[416,null,"開田村",{"v":14954,"d":"14,954"},{"v":13119,"d":"13,119"},452,175,275,2,88,123,33,2,32,3,2,16,"-",12,4,"-",4,7,4,1,"-",3,10,12,15,16,6,0,16,5,16,2,2,1,16,2,16,9]
[417,null,"三岳村",{"v":11992,"d":"11,992"},{"v":10307,"d":"10,307"},431,110,266,55,{"v":75.43,"d":"75"},86,18,2,18,"-","-",18,8,3,7,1,6,2,8,1,"-",0,16,1,7,0,0,1,18,9,18,2,10,3,18,1,17,15]
[418,"麻績村",null,{"v":3438,"d":"3,438"},{"v":2356,"d":"2,356"},382,208,136,38,{"v":100.32,"d":"100"},257,41,6,37,2,3,33,8,21,4,"-",3,4,11,13,2,31,33,33,33,33,33,0,33,31,33,27,23,19,33,17,33,33]
[419,null,"麻績村（旧）",{"v":2358,"d":"2,358"},{"v":1644,"d":"1,644"},242,130,93,19,{"v":57.27,"d":"57"},174,21,2,18,"-",1,17,5,9,3,"-",3,2,3,7,2,15,17,17,17,17,17,0,17,15,17,13,8,4,17,1,17,17]
[420,null,"日向村",{"v":1080,"d":"1,080"},712,140,78,43,19,{"v":43.05,"d":"43"},83,20,4,19,2,2,16,3,12,1,"-","-",2,8,6,"-",16,16,16,16,16,16,0,16,16,16,14,15,15,16,16,16,16]
[421,"生坂村",null,{"v":3897,"d":"3,897"},{"v":2975,"d":"2,975"},235,108,81,46,{"v":54.93,"d":"55"},139,28,3,27,8,"-",35,4,12,19,7,5,10,4,6,3,23,22,29,31,30,28,4,32,19,35,0,0,0,28,5,21,21]
[422,null,"生坂村（旧）",{"v":2542,"d":"2,542"},{"v":1823,"d":"1,823"},131,68,48,15,{"v":23.2,"d":"23"},88,18,3,17,4,"-",16,2,5,9,5,2,5,1,2,1,12,9,12,12,12,12,4,13,4,16,0,0,0,9,0,9,9]
[423,null,"陸郷村３－２",453,433,57,24,11,22,{"v":13.31,"d":"13"},32,8,"-",8,3,"-",7,2,1,4,1,2,1,"-",3,"-",5,6,6,7,7,7,0,7,5,7,0,0,0,7,3,5,5]
[424,null,"広津村３－１",902,719,47,16,22,9,{"v":18.42,"d":"18"},19,2,"-",2,1,"-",12,"-",6,6,1,1,4,3,1,2,6,7,11,12,11,9,0,12,10,12,0,0,0,12,2,7,7]
[425,"山形村",null,{"v":2494,"d":"2,494"},{"v":1283,"d":"1,283"},804,203,536,65,{"v":34.13,"d":"34"},424,148,6,144,13,3,7,"-",2,5,"-",6,1,"-","-","-",7,7,7,7,7,7,0,7,1,3,0,4,0,7,4,7,7]
[426,null,"（山形村）",{"v":2494,"d":"2,494"},{"v":1283,"d":"1,283"},804,203,536,65,{"v":34.13,"d":"34"},424,148,6,144,13,3,7,"-",2,5,"-",6,1,"-","-","-",7,7,7,7,7,7,0,7,1,3,0,4,0,7,4,7,7]
[427,"朝日村",null,{"v":7063,"d":"7,063"},{"v":6135,"d":"6,135"},562,119,425,18,{"v":36.87,"d":"37"},255,9,1,7,"-",1,22,1,9,12,"-",7,10,5,"-","-",20,15,20,21,20,17,0,22,22,15,2,6,3,22,8,22,22]
[428,null,"（朝日村）",{"v":7063,"d":"7,063"},{"v":6135,"d":"6,135"},562,119,425,18,{"v":36.87,"d":"37"},255,9,1,7,"-",1,22,1,9,12,"-",7,10,5,"-","-",20,15,20,21,20,17,0,22,22,15,2,6,3,22,8,22,22]
[429,"筑北村",null,{"v":9950,"d":"9,950"},{"v":8367,"d":"8,367"},665,355,290,20,{"v":132.79,"d":"133"},447,108,9,104,"-","-",66,14,43,9,4,2,10,27,13,10,44,53,52,53,57,49,7,65,55,65,35,31,24,60,31,61,60]
[430,null,"本城村",{"v":3232,"d":"3,232"},{"v":2661,"d":"2,661"},204,113,84,7,{"v":58.24,"d":"58"},110,16,4,14,"-","-",20,6,12,2,"-",2,3,12,3,"-",8,14,12,14,14,8,4,20,20,19,6,9,8,17,9,19,19]
[431,null,"坂北村",{"v":2977,"d":"2,977"},{"v":2408,"d":"2,408"},231,108,117,6,{"v":39.68,"d":"40"},168,39,"-",39,"-","-",26,5,14,7,4,"-",5,8,3,6,22,19,20,20,23,21,3,25,23,26,14,19,16,23,22,22,21]
[432,null,"坂井村",{"v":3741,"d":"3,741"},{"v":3298,"d":"3,298"},230,134,89,7,{"v":34.87,"d":"35"},169,53,5,51,"-","-",20,3,17,"-","-","-",2,7,7,4,14,20,20,19,20,20,0,20,12,20,15,3,0,20,0,20,20]
[433,"池田町",null,{"v":4018,"d":"4,018"},{"v":2160,"d":"2,160"},879,713,122,44,{"v":76.99,"d":"77"},500,61,7,58,3,4,58,26,7,25,15,17,14,10,1,1,27,24,38,40,46,30,9,58,21,45,7,0,0,22,21,35,22]
[434,null,"池田町（旧）",741,277,246,216,28,2,{"v":11.39,"d":"11"},109,11,1,10,1,"-",11,8,1,2,3,6,1,1,"-","-",7,4,5,6,8,7,1,11,3,3,0,0,0,4,3,10,3]
[435,null,"会染村",{"v":1348,"d":"1,348"},480,501,431,53,17,{"v":45.36,"d":"45"},315,41,4,39,1,3,22,17,5,"-",2,6,10,4,"-","-",18,18,20,18,21,21,0,22,12,17,5,0,0,16,16,22,17]
[436,null,"七貴村２－２",311,142,92,65,5,22,{"v":13.01,"d":"13"},65,6,1,6,"-","-",2,1,1,"-","-",1,1,"-","-","-",2,2,2,2,2,2,0,2,2,2,2,0,0,2,2,2,2]
[437,null,"陸郷村３－３",485,338,16,0,15,1,"x",2,"x","x","x","x","x",6,"-","-",6,3,2,"-",1,"-","-",0,0,5,5,5,0,1,6,2,6,0,0,0,0,0,0,0]
[438,null,"広津村３－２",{"v":1133,"d":"1,133"},924,24,1,21,2,"x",9,"x","x","x","x","x",17,"-","-",17,7,2,2,4,1,1,0,0,6,9,10,0,7,17,2,17,0,0,0,0,0,1,0]
[439,"松川村",null,{"v":4708,"d":"4,708"},{"v":2575,"d":"2,575"},{"v":1166,"d":"1,166"},{"v":1061,"d":"1,061"},62,43,{"v":104.99,"d":"105"},555,166,16,162,8,8,11,11,"-","-",1,3,3,4,"-","-",8,10,8,9,9,6,1,11,9,6,3,1,0,8,7,11,8]
[440,null,"（松川村）",{"v":4708,"d":"4,708"},{"v":2575,"d":"2,575"},{"v":1166,"d":"1,166"},{"v":1061,"d":"1,061"},62,43,{"v":104.99,"d":"105"},555,166,16,162,8,8,11,11,"-","-",1,3,3,4,"-","-",8,10,8,9,9,6,1,11,9,6,3,1,0,8,7,11,8]
[441,"白馬村",null,{"v":18937,"d":"18,937"},{"v":13238,"d":"13,238"},750,662,79,9,{"v":101.33,"d":"101"},374,71,8,41,6,43,26,20,4,2,3,10,8,4,1,"-",2,23,17,0,23,0,2,24,0,26,0,1,1,24,0,24,24]
[442,null,"神城村",{"v":5018,"d":"5,018"},{"v":2798,"d":"2,798"},404,346,52,6,{"v":25.45,"d":"25"},173,33,5,20,3,19,7,6,1,"-","-",2,4,1,"-","-",2,7,7,0,7,0,0,7,0,7,0,0,0,7,0,7,7]
[443,null,"北城村",{"v":13919,"d":"13,919"},{"v":10440,"d":"10,440"},346,316,27,3,{"v":75.88,"d":"76"},201,38,3,21,3,24,19,14,3,2,3,8,4,3,1,"-",0,16,10,0,16,0,2,17,0,19,0,1,1,17,0,17,17]
[444,"小谷村",null,{"v":26791,"d":"26,791"},{"v":23052,"d":"23,052"},437,360,72,5,{"v":137.68,"d":"138"},184,40,7,24,"-",16,49,34,6,9,9,12,11,10,6,1,4,32,40,41,41,1,7,41,26,49,2,3,2,42,2,42,0]
[445,null,"南小谷村",{"v":10153,"d":"10,153"},{"v":7953,"d":"7,953"},273,254,15,4,{"v":68.03,"d":"68"},132,25,5,11,"-",13,19,16,1,2,3,5,2,6,2,1,2,13,16,17,17,1,2,17,12,19,1,1,1,17,1,17,0]
[446,null,"中土村",{"v":8393,"d":"8,393"},{"v":7184,"d":"7,184"},69,59,9,1,{"v":35.87,"d":"36"},38,12,1,11,"-",2,20,12,4,4,4,3,5,4,4,"-",2,14,16,16,16,0,3,16,10,20,1,0,0,17,0,17,0]
[447,null,"北小谷村",{"v":8245,"d":"8,245"},{"v":7915,"d":"7,915"},95,47,48,0,{"v":33.78,"d":"34"},14,3,1,2,"-",1,10,6,1,3,2,4,4,"-","-","-",0,5,8,8,8,0,2,8,4,10,0,2,1,8,1,8,0]
[448,"坂城町",null,{"v":5364,"d":"5,364"},{"v":3582,"d":"3,582"},541,199,67,275,{"v":126.57,"d":"127"},369,97,12,95,2,2,24,3,9,12,5,12,3,3,"-",1,19,16,22,22,23,17,1,24,4,18,5,8,4,24,19,22,20]
[449,null,"坂城町（旧）",{"v":1993,"d":"1,993"},{"v":1374,"d":"1,374"},200,28,32,140,{"v":50.18,"d":"50"},167,52,8,52,1,"-",14,1,2,11,4,6,1,2,"-",1,9,6,12,13,13,9,1,14,3,9,1,4,2,14,11,12,10]
[450,null,"中之条村",594,369,63,20,7,36,{"v":17.02,"d":"17"},21,6,1,5,"-","-",1,"-",1,"-","-",1,"-","-","-","-",1,1,1,1,1,0,0,1,0,1,0,0,0,1,0,1,1]
[451,null,"南条村",{"v":1325,"d":"1,325"},832,131,62,18,51,{"v":37.15,"d":"37"},66,19,"-",18,"-",1,5,1,3,1,1,3,1,"-","-","-",5,5,5,5,5,4,0,5,1,4,3,1,1,5,5,5,5]
[452,null,"村上村",{"v":1452,"d":"1,452"},{"v":1007,"d":"1,007"},147,89,10,48,{"v":22.22,"d":"22"},115,20,3,20,1,1,4,1,3,"-","-",2,1,1,"-","-",4,4,4,3,4,4,0,4,0,4,1,3,1,4,3,4,4]
[453,"小布施町",null,{"v":1907,"d":"1,907"},257,825,162,96,567,{"v":39.39,"d":"39"},730,284,51,275,20,7,19,"-",4,15,2,5,3,9,"-","-",7,11,19,19,19,18,0,19,0,4,1,0,0,13,10,11,11]
[454,null,"小布施村",{"v":1059,"d":"1,059"},9,468,25,48,395,{"v":23.78,"d":"24"},467,193,38,187,16,6,12,"-","-",12,2,3,2,5,"-","-",5,5,12,12,12,11,0,12,0,2,0,0,0,8,7,5,5]
[455,null,"都住村",848,248,357,137,48,172,{"v":15.61,"d":"16"},263,91,13,88,4,1,7,"-",4,3,"-",2,1,4,"-","-",2,6,7,7,7,7,0,7,0,2,1,0,0,5,3,6,6]
[456,"高山村",null,{"v":9850,"d":"9,850"},{"v":8481,"d":"8,481"},634,152,189,293,{"v":119.16,"d":"119"},603,155,15,143,5,4,27,"-",10,17,1,5,5,5,10,1,25,27,26,27,27,27,0,27,27,27,21,3,3,27,24,27,26]
[457,null,"高井村",{"v":6108,"d":"6,108"},{"v":5252,"d":"5,252"},426,88,110,228,{"v":79.2,"d":"79"},397,94,10,86,4,3,11,"-",1,10,"-",4,3,3,1,"-",10,11,11,11,11,11,0,11,11,11,8,1,1,11,9,11,11]
[458,null,"山田村",{"v":3742,"d":"3,742"},{"v":3229,"d":"3,229"},208,64,79,65,{"v":39.96,"d":"40"},206,61,5,57,1,1,16,"-",9,7,1,1,2,2,9,1,15,16,15,16,16,16,0,16,16,16,13,2,2,16,15,16,15]
[459,"山ノ内町",null,{"v":26593,"d":"26,593"},{"v":23824,"d":"23,824"},978,160,134,684,{"v":140.73,"d":"141"},694,235,51,223,20,25,24,1,6,17,6,5,8,5,"-","-",15,20,24,23,24,19,0,22,15,22,17,6,4,23,20,22,21]
[460,null,"平穏村",{"v":17082,"d":"17,082"},{"v":15959,"d":"15,959"},197,32,14,151,{"v":16.8,"d":"17"},159,61,11,58,4,7,7,1,"-",6,5,2,"-","-","-","-",5,4,7,7,7,7,0,5,4,6,5,2,1,6,6,5,4]
[461,null,"穂波村",{"v":3067,"d":"3,067"},{"v":2416,"d":"2,416"},298,32,6,260,{"v":35.48,"d":"35"},251,82,21,79,5,6,5,"-","-",5,1,"-",2,2,"-","-",4,5,5,5,5,5,0,5,5,4,4,2,2,5,4,5,5]
[462,null,"夜間瀬村",{"v":6444,"d":"6,444"},{"v":5449,"d":"5,449"},483,96,114,273,{"v":88.45,"d":"88"},284,92,19,86,11,12,12,"-",6,6,"-",3,6,3,"-","-",6,11,12,11,12,7,0,12,6,12,8,2,1,12,10,12,12]
[463,"木島平村",null,{"v":9931,"d":"9,931"},{"v":8283,"d":"8,283"},873,567,286,20,{"v":71.65,"d":"72"},427,149,13,141,3,22,26,8,17,1,"-",2,5,11,8,"-",24,25,25,26,26,23,0,26,11,26,22,1,0,26,12,26,26]
[464,null,"往郷村",{"v":4739,"d":"4,739"},{"v":4359,"d":"4,359"},319,232,77,10,{"v":25.81,"d":"26"},168,54,2,53,"-",1,13,4,9,"-","-",1,3,6,3,"-",11,13,12,13,13,11,0,13,6,13,10,0,0,13,5,13,13]
[465,null,"穂高村",781,355,244,142,99,3,{"v":20.41,"d":"20"},122,37,4,36,"-",3,6,2,4,"-","-",1,1,1,3,"-",6,5,6,6,6,6,0,6,2,6,6,0,0,6,4,6,6]
[466,null,"上木島村",{"v":4411,"d":"4,411"},{"v":3569,"d":"3,569"},310,193,110,7,{"v":25.43,"d":"25"},137,58,7,52,3,18,7,2,4,1,"-","-",1,4,2,"-",7,7,7,7,7,6,0,7,3,7,6,1,0,7,3,7,7]
[467,"野沢温泉村",null,{"v":5795,"d":"5,795"},{"v":4754,"d":"4,754"},328,228,100,0,{"v":39.68,"d":"40"},235,62,1,52,"-",18,9,4,5,"-","-",1,2,1,5,"-",6,8,9,8,9,8,0,9,9,9,8,2,1,9,9,9,9]
[468,null,"豊郷村",{"v":2636,"d":"2,636"},{"v":2141,"d":"2,141"},155,102,53,0,{"v":17.34,"d":"17"},102,27,1,18,"-",16,2,"-",2,"-","-",1,"-","-",1,"-",1,2,2,1,2,1,0,2,2,2,2,1,0,2,2,2,2]
[469,null,"市川村",{"v":2675,"d":"2,675"},{"v":2204,"d":"2,204"},132,108,24,0,{"v":18.87,"d":"19"},91,18,"-",18,"-","-",5,4,1,"-","-","-",1,1,3,"-",4,5,5,5,5,5,0,5,5,5,5,1,1,5,5,5,5]
[470,null,"瑞穂村２－２",484,409,41,18,23,0,{"v":3.47,"d":"3"},42,17,"-",16,"-",2,2,"-",2,"-","-","-",1,"-",1,"-",1,1,2,2,2,2,0,2,2,2,1,0,0,2,2,2,2]
[471,"信濃町",null,{"v":14927,"d":"14,927"},{"v":10818,"d":"10,818"},{"v":1517,"d":"1,517"},962,528,27,{"v":236.82,"d":"237"},553,125,9,117,6,8,67,27,31,9,6,22,18,19,2,"-",47,63,51,55,65,45,1,67,18,62,15,26,10,63,34,67,60]
[472,null,"柏原村",{"v":3550,"d":"3,550"},{"v":2579,"d":"2,579"},374,232,135,7,{"v":68.63,"d":"69"},146,28,3,27,1,2,19,5,10,4,3,9,5,2,"-","-",16,18,19,18,19,16,0,19,12,16,5,4,2,18,16,19,17]
[473,null,"信濃尻村",{"v":5886,"d":"5,886"},{"v":4625,"d":"4,625"},157,106,46,5,"x",63,17,"-",16,3,3,15,5,7,3,2,5,6,2,"-","-",10,13,11,12,14,6,1,15,1,15,1,7,0,15,2,15,10]
[474,null,"古間村",{"v":1980,"d":"1,980"},{"v":1177,"d":"1,177"},286,181,95,10,{"v":41.79,"d":"42"},152,41,3,38,2,3,17,7,10,"-",1,7,1,7,1,"-",8,17,10,13,16,13,0,17,4,15,5,9,4,15,9,17,17]
[475,null,"富士里村",{"v":3486,"d":"3,486"},{"v":2422,"d":"2,422"},696,440,251,5,{"v":72.91,"d":"73"},189,39,3,36,"-","-",15,9,4,2,"-",1,5,8,1,"-",13,14,10,11,15,10,0,15,0,15,4,5,3,14,6,15,15]
[476,null,"三水村２－２",25,15,4,3,1,0,"x",3,"-","-","-","-","-",1,1,"-","-","-","-",1,"-","-","-",0,1,1,1,1,0,0,1,1,1,0,1,1,1,1,1,1]
[477,"小川村",null,{"v":5807,"d":"5,807"},{"v":4137,"d":"4,137"},297,77,192,28,{"v":140.85,"d":"141"},186,52,12,48,1,3,47,1,18,28,"-",6,14,18,9,"-",33,43,34,29,42,21,0,47,23,47,7,4,2,47,40,43,29]
[478,null,"北小川村",{"v":3740,"d":"3,740"},{"v":2948,"d":"2,948"},122,23,81,18,{"v":42.83,"d":"43"},75,22,8,20,"-",2,17,"-",5,12,"-",1,6,8,2,"-",17,16,17,9,17,6,0,17,6,17,5,2,1,17,14,14,7]
[479,null,"南小川村",{"v":2067,"d":"2,067"},{"v":1189,"d":"1,189"},175,54,111,10,{"v":98.02,"d":"98"},111,30,4,28,1,1,30,1,13,16,"-",5,8,10,7,"-",16,27,17,20,25,15,0,30,17,30,2,2,1,30,26,29,22]
[480,"飯綱町",null,{"v":7531,"d":"7,531"},{"v":4072,"d":"4,072"},{"v":1645,"d":"1,645"},737,291,617,{"v":459.48,"d":"459"},{"v":1122,"d":"1,122"},392,55,375,10,17,48,7,35,6,2,2,9,18,14,3,24,46,41,42,47,37,0,48,40,45,20,13,9,48,24,47,47]
[481,null,"高岡村",{"v":2474,"d":"2,474"},{"v":1715,"d":"1,715"},368,158,140,70,{"v":65.4,"d":"65"},220,83,6,82,2,3,11,1,9,1,"-","-","-",7,3,1,0,11,11,11,10,10,0,11,9,10,4,4,3,11,4,10,10]
[482,null,"中郷村",{"v":1521,"d":"1,521"},601,379,157,48,174,{"v":100.44,"d":"100"},267,92,9,89,2,1,9,1,6,2,2,1,2,3,1,"-",2,8,8,9,9,9,0,9,3,9,2,3,2,9,3,9,9]
[483,null,"三水村",{"v":3536,"d":"3,536"},{"v":1756,"d":"1,756"},898,422,103,373,{"v":293.64,"d":"294"},635,217,40,204,6,13,28,5,20,3,"-",1,7,8,10,2,22,27,22,22,28,18,0,28,28,26,14,6,4,28,17,28,28]
[484,"栄村",null,{"v":27151,"d":"27,151"},{"v":23685,"d":"23,685"},545,341,195,9,{"v":84.19,"d":"84"},312,63,4,58,1,5,31,15,11,5,"-",1,4,12,11,3,13,29,25,24,26,13,2,31,29,31,13,17,14,31,28,31,31]
[485,null,"水内村（栄村）",{"v":2778,"d":"2,778"},{"v":2260,"d":"2,260"},136,123,10,3,{"v":17.43,"d":"17"},88,19,1,18,"-","-",5,5,"-","-","-",1,1,3,"-","-",3,5,5,5,5,5,0,5,5,5,4,3,3,5,5,5,5]
[486,null,"堺村",{"v":24373,"d":"24,373"},{"v":21425,"d":"21,425"},409,218,185,6,{"v":66.76,"d":"67"},224,44,3,40,1,5,26,10,11,5,"-","-",3,9,11,3,10,24,20,19,21,8,2,26,24,26,9,14,11,26,23,26,26]
[487]
[488]
[489]
[490]
[491]
[492]
[493]
[494]
[495]
[496]
[497]
[498]
[499]
[500]

{"sheet":"2015","index":3,"n_rows":505,"n_cols":48,"rows_kept":505,"hidden":true,"merged":[[3,3,3,4],[3,5,3,8],[3,10,3,15],[3,16,3,19],[3,20,3,23],[3,24,3,32],[3,33,3,42],[4,0,4,2]]}
["農山村地域調査"]
["１　総土地面積及び林野面積"]
[{"$nulls":3},1,2,3,4,5,6,7,8,9,10,11,12,13,14,15,16,17,18,19,20,21,22,23,24,25,26,27,28,29,30,31,32,33,34,35,36,37,38,39,40,41,42,43,44,45]
[{"$nulls":3},"総土地面積",null,"耕地面積",{"$nulls":4},"生産関連",{"$nulls":5},"水田率",{"$nulls":3},"農家率",{"$nulls":3},"寄り合いの議題_農業生産にかかる事項",{"$nulls":8},"保全管理"]
["新旧市区町村",null,null,"総土地\n面　積","林野面積","耕地面積","田面積","畑面積","樹園地面積","耕作\n放棄地\n面積","計","農業生産関連事業を行っている実経営体数","事業種類別_農産物の加工","事業種類別_消費者に直接販売","事業種類別_観光農園","その他","計","水田集落\n（70％以上）","田畑集落\n（30～70）","畑地集落\n（30％未満）","10％未満","10～30","30～50","50～70","70～90","90％以上","寄り合いの議題_農業生産にかかる事項","寄り合いの議題_農道・農業用用排水路・ため池の管理","寄り合いの議題_集落共有財産・共用施設の管理","寄り合いの議題_環境美化・自然環境の保全","寄り合いの議題_農業集落行事（祭り・イベント等）の計画・推進","寄り合いの議題_農業集落内の福祉・厚生","寄り合いを開催しなかった","農地_ある","農地_保全している","森林_ある","森林_保全している","ため池・湖沼_ある","ため池・湖沼_保全している","河川・水路_ある","河川・水路_保全している","農業用用排水路_ある","農業用用排水路_保全している"]
[1,"長野県",null,1356156,1031536,109842,54547,38218,17077,16775.87,53808,12618,2644,11044,592,675,4727,1132,2019,1576,996,1279,1142,966,275,69,3187,4198,3931,4512,4484,4146,155,4561,2176,3686,1382,961,588,4363,2882,4384,3959]
[2,"長野市",null,83481,52501,8563,2406,3114,3043,2271.19,5491,1205,111,1151,36,59,647,26,301,320,101,116,161,163,75,31,446,586,489,608,615,573,21,644,235,465,104,89,60,523,237,593,553]
[3,null,"長野市（旧）",3063,378,46,19,11,16,69.2,109,36,6,34,3,"-",10,1,4,5,10,"-","-","-","-","-",10,8,0,10,10,6,0,10,0,7,0,0,0,5,1,9,8]
[4,null,"芋井村",3103,2091,223,82,90,51,91.43,144,33,2,31,1,6,30,2,17,11,1,2,6,9,11,1,30,30,30,30,30,30,0,30,24,30,1,3,2,30,16,30,30]
[5,null,"浅川村",2461,1932,81,18,17,46,32.36,103,20,1,20,"-","-",16,"-",3,13,5,5,1,3,1,1,15,13,14,14,15,15,1,15,6,15,0,2,0,15,0,13,10]
[6,null,"若槻村",1281,518,144,41,24,79,52.49,143,38,5,37,1,2,9,"-",4,5,4,1,2,"-","-",2,8,8,8,7,8,7,1,9,2,7,1,6,1,7,0,8,8]
[7,null,"古里村",514,7,157,65,14,78,30.69,149,30,"-",30,"-","-",7,2,2,3,6,1,"-","-","-","-",0,7,7,7,7,7,0,7,0,1,0,3,0,5,0,7,7]
[8,null,"長沼村",701,"-",414,95,17,302,28.75,259,104,20,98,15,4,4,"-",1,3,"-","-",3,1,"-","-",0,4,4,4,4,4,0,4,0,0,0,0,0,4,0,4,4]
[9,null,"柳原村（長野市）",401,"-",142,50,25,67,7.52,81,20,2,20,"-","-",4,1,1,2,3,"-",1,"-","-","-",1,4,4,4,4,4,0,4,0,0,0,0,0,2,0,4,4]
[10,null,"朝陽村",614,"-",156,50,65,41,26.39,120,31,5,28,"-",1,5,1,2,2,3,1,1,"-","-","-",1,5,5,5,5,5,0,5,0,0,0,0,0,2,0,5,5]
[11,null,"大豆島村",505,"-",113,49,43,21,21.06,100,15,1,14,"-","-",6,1,4,1,5,1,"-","-","-","-",6,6,3,6,6,6,0,6,0,0,0,0,0,4,0,6,6]
[12,null,"安茂里村",1444,828,80,11,19,50,29.1,49,9,1,8,"-","-",7,"-",2,5,7,"-","-","-","-","-",5,7,2,7,7,7,0,7,0,5,0,0,0,6,0,6,6]
[13,null,"小田切村",1850,1317,81,13,41,27,86.29,43,10,"-",9,"-",1,30,"-",7,23,3,3,4,10,3,7,9,22,21,22,27,18,3,28,4,30,0,1,1,25,1,18,17]
[14,null,"篠ノ井町",663,34,155,15,17,123,32.09,152,32,4,31,"-","-",6,"-","-",6,3,"-",2,1,"-","-",6,6,6,6,6,6,0,6,0,2,1,1,1,3,1,6,5]
[15,null,"川柳村",393,82,113,59,15,39,31.54,92,14,"-",14,"-","-",5,2,3,"-","-",1,4,"-","-","-",5,5,5,5,5,5,0,5,3,3,0,0,0,3,2,5,5]
[16,null,"塩崎村",833,190,269,91,57,121,42.37,227,39,3,39,"-",1,10,1,3,6,1,3,4,2,"-","-",10,10,10,10,10,10,0,10,1,2,0,2,1,10,4,10,10]
[17,null,"東福寺村",419,"-",203,45,63,95,15.75,155,14,1,14,"-",1,7,"-",3,4,1,2,2,2,"-","-",0,7,7,7,7,7,0,7,0,0,0,0,0,7,7,7,7]
[18,null,"信里村",1292,490,283,103,114,66,101.27,133,30,1,27,"-",6,14,"-",12,2,"-",1,2,5,6,"-",13,14,14,14,14,12,0,14,14,14,6,14,14,12,10,14,14]
[19,null,"西寺尾村２－１",218,"-",72,22,33,17,4.72,60,12,"-",12,1,"-",7,"-",2,5,3,2,"-",2,"-","-",0,7,7,7,7,7,0,7,0,0,0,0,0,7,7,7,7]
[20,null,"共和村",1048,474,322,46,21,255,28.27,269,34,4,31,1,2,13,"-","-",13,2,2,3,6,"-","-",12,13,3,13,13,12,0,13,5,7,0,0,0,12,1,13,13]
[21,null,"川中島村",462,"-",163,79,45,39,21.63,117,21,1,21,"-","-",13,"-",10,3,6,5,2,"-","-","-",7,13,9,13,13,13,0,13,0,0,0,0,0,2,0,13,13]
[22,null,"中津村（長野市）",311,"-",82,37,6,39,12.44,74,16,1,16,"-","-",6,2,2,2,3,"-",3,"-","-","-",4,4,4,4,4,4,2,6,0,0,0,0,0,0,0,6,6]
[23,null,"御厨村",254,"-",81,38,19,24,12,86,14,"-",14,"-","-",10,1,9,"-",2,5,2,1,"-","-",6,6,6,6,6,4,4,10,0,0,0,0,0,0,0,10,10]
[24,null,"信田村",2208,1502,301,164,62,75,68.86,191,14,2,11,"-",4,17,4,12,1,"-",1,1,6,6,3,17,17,17,17,17,17,0,17,17,17,6,8,7,14,10,16,16]
[25,null,"更府村",1307,746,137,43,85,9,63.84,46,15,"-",15,"-",1,10,"-",7,3,"-",1,1,5,1,2,8,10,9,10,10,10,0,10,10,10,5,7,6,10,7,10,10]
[26,null,"青木島村",573,"-",65,22,11,32,13.34,46,9,1,9,"-","-",9,"-",5,4,6,3,"-","-","-","-",1,4,5,5,5,5,4,9,0,0,0,0,0,4,0,8,5]
[27,null,"稲里村",413,"-",67,36,14,17,11.56,55,10,1,9,"-",1,17,2,13,2,9,5,3,"-","-","-",4,16,0,17,17,17,0,17,0,0,0,0,0,0,0,17,16]
[28,null,"小島田村",272,"-",114,38,48,28,11.57,50,15,2,15,3,"-",10,"-",9,1,"-",4,5,1,"-","-",10,10,0,8,8,9,0,10,0,0,0,0,0,3,0,10,10]
[29,null,"真島村",468,"-",151,40,24,87,19.57,176,45,8,40,"-",3,7,"-",4,3,"-",1,4,2,"-","-",5,7,6,7,6,7,0,7,1,0,0,0,0,5,0,7,7]
[30,null,"松代町",150,"-",3,1,1,1,15.84,26,6,"-",6,"-","-",1,"-",1,"-","-",1,"-","-","-","-",1,1,1,1,1,1,0,1,0,0,0,0,0,0,0,1,1]
[31,null,"東条村",836,475,141,25,44,72,44.35,85,17,"-",16,1,2,14,"-",3,11,5,5,"-",4,"-","-",3,13,13,14,14,13,0,14,0,10,2,1,0,9,6,12,11]
[32,null,"清野村",583,226,223,22,192,9,29.22,117,24,"-",24,"-","-",8,"-",2,6,"-",3,2,1,2,"-",7,8,7,8,8,7,0,8,0,6,0,3,2,3,1,7,7]
[33,null,"豊栄村",2147,1833,138,46,57,35,43.72,47,13,"-",13,"-","-",6,1,2,3,1,"-",4,1,"-","-",3,6,6,6,6,6,0,6,4,6,0,0,0,6,5,6,6]
[34,null,"寺尾村",1064,501,313,18,223,72,50.5,112,15,3,14,"-",3,5,"-","-",5,"-",3,2,"-","-","-",2,5,5,5,5,5,0,5,0,3,2,3,1,5,2,5,4]
[35,null,"西寺尾村２－２",98,"-",70,3,57,10,8.61,41,9,"-",9,"-","-",1,"-","-",1,"-","-",1,"-","-","-",0,1,1,1,1,1,0,1,0,0,0,0,0,1,1,1,1]
[36,null,"西条村",1250,1069,73,27,29,17,44.53,37,4,"-",4,"-","-",8,"-",5,3,"-",4,2,1,1,"-",8,8,8,8,8,7,0,8,2,6,1,0,0,6,5,7,6]
[37,null,"保科村",3384,3035,192,30,42,120,41.35,119,14,2,12,"-",1,13,"-",2,11,"-",7,5,1,"-","-",12,13,6,13,12,13,0,13,0,12,6,0,0,13,11,12,12]
[38,null,"川田村",768,178,271,94,58,119,38.7,163,22,"-",21,1,2,7,"-",6,1,"-",1,4,2,"-","-",7,7,2,7,7,2,0,7,1,3,0,1,0,7,6,7,7]
[39,null,"綿内村",1486,735,333,68,56,209,40.05,234,37,4,36,1,1,18,1,5,12,2,6,4,5,1,"-",17,17,17,17,17,17,1,18,1,6,6,1,0,13,11,16,16]
[40,null,"七二会村",1607,803,151,42,96,13,174.61,20,3,"-",3,"-","-",28,"-",14,14,1,4,9,12,1,1,19,22,23,26,28,28,0,28,11,28,0,0,0,27,2,21,20]
[41,null,"神郷村",999,318,312,59,39,214,40.34,289,107,9,103,7,2,11,1,"-",10,2,4,2,2,1,"-",11,11,5,11,11,11,0,11,0,8,0,3,3,10,2,10,10]
[42,null,"鳥居村",986,332,283,67,47,169,38.11,220,59,8,56,1,2,21,"-",10,11,1,1,9,5,5,"-",6,21,11,21,21,21,0,21,0,12,1,1,1,17,0,21,21]
[43,null,"戸隠村",10375,7973,388,101,286,1,88.5,151,37,2,36,"-",2,26,1,12,13,"-",3,12,6,3,2,25,26,25,26,26,26,0,26,26,25,23,4,4,26,25,26,25]
[44,null,"柵村",2869,2257,207,67,136,4,54.41,78,18,2,16,"-",1,30,"-",19,11,1,4,8,12,5,"-",28,29,28,29,29,29,1,30,25,29,13,2,2,27,22,30,30]
[45,null,"鬼無里村",12797,11426,209,88,121,"-",67.27,96,10,"-",8,"-",3,28,1,19,8,"-",2,10,10,6,"-",19,25,26,26,24,26,2,28,5,28,22,1,1,28,12,28,26]
[46,null,"大岡村",3576,2830,169,83,74,12,49.97,86,20,2,19,"-",4,37,1,30,6,2,4,6,13,9,3,23,34,30,33,34,31,2,37,34,37,1,5,2,36,30,37,34]
[47,null,"牧郷村２－２",1004,767,55,31,24,"-",15.48,46,10,"-",10,"-",1,8,"-",7,1,"-","-",1,2,2,3,7,7,8,8,5,8,0,8,8,8,0,3,1,8,7,8,7]
[48,null,"水内村（長野市）",840,466,113,16,66,31,48.81,49,17,"-",17,"-","-",17,"-",2,15,3,4,7,2,"-",1,15,16,13,16,17,15,0,17,5,17,0,1,1,17,2,14,8]
[49,null,"津和村",2482,1814,93,0,78,15,115.82,30,9,"-",9,"-","-",23,"-","-",23,"-",5,4,8,3,3,9,5,10,23,22,14,0,23,0,23,1,2,0,19,0,11,0]
[50,null,"日原村",753,647,46,15,23,8,27.18,28,7,"-",7,"-","-",5,"-",3,2,"-",1,2,1,1,"-",5,5,5,5,5,5,0,5,1,5,0,2,1,5,1,5,4]
[51,null,"八坂村２－２",309,260,33,7,25,1,10.58,7,3,"-",3,"-","-",1,"-","-",1,"-","-","-",1,"-","-",1,1,1,1,1,1,0,1,1,1,0,1,1,1,1,1,1]
[52,null,"信級村",1416,1209,44,12,24,8,2.79,6,1,1,1,"-","-",6,"-",3,3,"-","-",1,4,"-",1,0,6,2,5,6,1,0,6,3,6,0,2,1,6,5,6,6]
[53,null,"牧郷村２－１",1282,775,171,65,77,29,45.23,95,31,1,31,"-","-",14,"-",11,3,"-",1,3,6,3,1,6,14,8,11,14,9,0,14,9,14,0,3,3,14,6,14,14]
[54,null,"栄村（長野市）",1520,795,151,23,108,20,78.23,66,28,4,26,"-",1,14,"-",4,10,"-",3,5,4,2,"-",11,14,14,14,14,14,0,14,4,14,0,2,2,14,6,11,10]
[55,null,"日里村",1829,1188,166,25,131,10,90.89,14,4,1,4,"-",1,8,"-","-",8,"-","-",2,4,2,"-",8,8,8,8,8,8,0,8,8,8,6,1,1,8,1,7,7]
[56,"松本市",null,97847,74687,7512,4938,1612,962,734.87,3930,827,86,790,18,32,246,105,87,54,64,78,49,48,5,2,216,214,196,240,239,237,6,244,91,134,91,61,42,232,202,234,197]
[57,null,"松本市（旧）",2097,48,76,41,22,13,16.2,109,30,5,27,"-",2,4,2,1,1,4,"-","-","-","-","-",4,3,3,4,4,4,0,4,1,3,1,3,2,4,4,4,3]
[58,null,"島内村",1538,310,501,473,28,"-",23.02,248,29,2,27,1,2,14,11,1,2,4,5,4,1,"-","-",11,12,11,14,14,14,0,14,11,4,2,1,1,14,12,14,11]
[59,null,"中山村",2140,1399,296,166,118,12,60.77,117,32,"-",32,1,1,6,1,4,1,1,2,1,2,"-","-",6,6,6,6,6,6,0,6,5,6,4,2,2,6,6,6,6]
[60,null,"島立村",630,"-",298,286,10,2,3.59,184,24,5,22,"-","-",10,10,"-","-",4,5,"-",1,"-","-",9,10,10,10,10,10,0,10,9,0,0,0,0,10,8,10,8]
[61,null,"和田村（松本市）",783,"-",505,427,78,"-",6.22,230,24,3,22,"-",2,9,8,1,"-","-",4,5,"-","-","-",8,9,6,9,9,9,0,9,0,0,0,0,0,9,9,9,9]
[62,null,"笹賀村",883,6,335,288,20,27,12.35,211,24,"-",22,"-",3,10,9,1,"-",5,3,1,1,"-","-",10,8,8,10,10,10,0,10,0,0,0,0,0,10,10,10,8]
[63,null,"芳川村",572,"-",136,122,14,"-",7.18,77,7,"-",7,"-","-",4,4,"-","-",4,"-","-","-","-","-",4,4,4,4,4,4,0,4,3,0,0,0,0,4,4,4,4]
[64,null,"寿村",949,165,362,254,61,47,29.81,181,37,2,37,1,"-",8,6,2,"-",7,"-",1,"-","-","-",8,8,8,8,8,8,0,8,4,3,3,5,4,8,8,8,8]
[65,null,"岡田村",1058,613,199,123,48,28,30.7,140,33,1,32,1,1,7,2,4,1,2,2,2,1,"-","-",7,7,5,7,7,7,0,7,0,5,3,6,4,7,7,7,7]
[66,null,"入山辺村",7748,7241,246,76,92,78,63.06,132,52,6,50,"-",2,22,"-",11,11,2,8,4,7,"-",1,20,22,12,22,22,22,0,22,1,22,22,3,0,22,22,22,22]
[67,null,"里山辺村",1145,610,204,110,23,71,18.68,167,37,3,35,3,3,12,1,8,3,5,5,2,"-","-","-",12,10,7,12,12,12,0,12,0,5,2,5,2,12,8,12,6]
[68,null,"今井村",1157,26,616,273,157,186,47.21,306,142,29,135,2,2,14,2,8,4,1,3,6,4,"-","-",14,10,1,14,13,13,0,14,0,2,0,0,0,13,13,14,10]
[69,null,"新村",462,"-",275,264,9,2,2.19,198,12,"-",12,"-",1,5,5,"-","-","-",4,1,"-","-","-",5,5,4,5,5,5,0,5,5,0,0,0,0,5,5,5,5]
[70,null,"神林村",559,"-",308,287,12,9,3.96,206,19,3,17,"-",1,7,7,"-","-",1,5,1,"-","-","-",7,7,7,7,7,7,0,7,2,0,0,0,0,7,7,7,7]
[71,null,"片丘村２－２",1155,672,204,98,101,5,20.38,61,9,1,9,1,"-",2,"-",1,1,"-",2,"-","-","-","-",1,1,2,2,2,2,0,2,0,2,1,2,1,2,2,2,1]
[72,null,"本郷村（松本市）",3698,3000,187,123,56,8,50.19,125,38,3,35,"-",1,8,3,5,"-",4,"-",2,1,"-",1,7,7,4,7,7,7,1,8,1,8,3,7,3,8,6,8,6]
[73,null,"洗馬村２－２",39,"-",7,"-",1,6,"x",2,"x","x","x","x","x",1,"-","-",1,1,"-","-","-","-","-",0,0,0,1,1,1,0,1,0,0,0,0,0,1,0,1,0]
[74,null,"錦部村",3546,3264,184,121,56,7,57.97,56,13,"-",13,"-","-",6,2,4,"-","-",1,4,1,"-","-",6,6,6,6,6,6,0,6,6,6,6,5,3,6,6,6,6]
[75,null,"会田村",1262,926,146,83,58,5,66.27,35,8,2,7,"-",1,7,2,5,"-","-",3,1,3,"-","-",7,7,7,7,7,7,0,7,7,7,5,3,3,7,7,7,7]
[76,null,"五常村",1177,921,56,33,16,7,32.15,18,6,"-",6,"-","-",7,1,3,3,3,1,1,1,1,"-",4,4,4,4,4,4,3,7,4,7,2,2,2,6,4,5,4]
[77,null,"中川村",3030,2436,181,89,84,8,74.55,27,3,"-",3,"-","-",10,1,9,"-","-","-",2,6,2,"-",10,10,10,10,10,10,0,10,10,10,10,5,5,10,10,10,10]
[78,null,"安曇村",40273,35346,29,"-",29,"-","x",2,"x","x","x","x","x",8,"-","-",8,6,2,"-","-","-","-",3,3,8,8,8,8,0,7,2,8,6,3,2,8,6,2,1]
[79,null,"奈川村",11763,11114,108,41,67,"-",13.03,67,7,1,6,"-","-",14,"-",6,8,1,"-",3,8,2,"-",8,10,13,13,13,11,1,14,9,14,13,4,4,14,10,11,8]
[80,null,"梓村",3612,2358,786,335,139,312,33.11,400,101,16,98,2,7,16,6,3,7,"-",5,3,8,"-","-",16,14,16,16,16,16,0,16,6,14,6,3,2,16,15,16,11]
[81,null,"倭村（松本市）",636,"-",329,313,15,1,5.63,195,32,1,31,"-","-",12,12,"-","-",2,7,2,1,"-","-",12,12,12,12,12,12,0,12,4,0,0,0,0,12,12,12,12]
[82,null,"波田町",5935,4232,938,512,298,128,29.12,436,108,3,105,6,3,23,10,10,3,7,11,3,2,"-","-",17,19,22,22,22,22,1,22,1,8,2,2,2,11,1,22,17]
[83,"上田市",null,55204,39718,5466,2910,1919,637,962.49,2339,632,37,614,8,21,238,74,106,58,83,79,50,24,2,"-",162,213,207,236,236,230,2,217,89,176,87,52,49,230,177,217,200]
[84,null,"上田市（旧）",2006,657,127,63,49,15,56.66,58,26,1,24,"-",2,35,1,10,24,32,2,1,"-","-","-",9,15,25,35,35,33,0,16,1,11,3,2,2,34,31,16,11]
[85,null,"塩尻村",756,363,84,65,14,5,10.43,35,4,"-",4,"-","-",3,3,"-","-","-",3,"-","-","-","-",3,3,3,3,3,3,0,3,0,3,2,0,0,3,3,3,2]
[86,null,"川辺村（上田市）",690,174,141,97,29,15,15.49,81,16,"-",16,"-","-",6,3,2,1,6,"-","-","-","-","-",6,6,6,6,6,6,0,6,0,5,3,2,2,6,6,6,6]
[87,null,"泉田村２－２",518,332,85,59,17,9,10.21,76,24,"-",24,"-","-",8,4,3,1,1,4,1,2,"-","-",8,8,8,8,8,8,0,8,1,5,3,3,3,8,8,8,8]
[88,null,"神川村",495,6,111,88,20,3,8.18,55,8,"-",8,"-","-",10,6,2,2,10,"-","-","-","-","-",9,9,8,10,10,10,0,10,2,5,2,0,0,10,10,10,9]
[89,null,"神科村",1874,828,339,171,38,130,54.71,253,113,2,113,"-","-",15,3,6,6,8,5,1,1,"-","-",13,15,12,15,15,15,0,15,4,11,2,0,0,12,9,15,14]
[90,null,"豊里村",507,153,218,127,34,57,17.94,128,50,"-",50,"-","-",9,4,2,3,1,5,2,1,"-","-",9,9,9,9,9,9,0,9,4,6,2,2,2,9,8,9,9]
[91,null,"殿城村",1123,659,159,80,57,22,36.8,42,12,2,12,1,1,5,2,3,"-","-",3,2,"-","-","-",5,5,5,5,5,5,0,5,3,4,2,2,2,5,3,5,5]
[92,null,"中塩田村",968,183,353,270,60,23,22.23,169,35,4,34,"-",2,9,8,1,"-",5,3,1,"-","-","-",9,9,9,9,9,9,0,9,8,3,3,7,7,9,9,9,9]
[93,null,"別所村",672,512,39,20,14,5,14.01,3,2,"-",2,"-","-",4,1,2,1,3,1,"-","-","-","-",1,4,4,4,4,4,0,4,0,4,0,2,1,4,2,4,4]
[94,null,"西塩田村",2462,1917,300,166,90,44,49.85,148,24,1,23,"-","-",7,2,2,3,"-",4,3,"-","-","-",6,6,6,7,7,7,0,7,3,5,5,7,6,7,6,7,6]
[95,null,"東塩田村",2305,1326,550,297,172,81,87.7,230,73,6,70,2,1,8,1,4,3,"-",5,3,"-","-","-",8,8,8,8,8,8,0,8,8,8,8,7,7,8,8,8,8]
[96,null,"泉田村２－１",446,199,120,93,20,7,5.86,63,6,"-",6,"-","-",4,2,2,"-","-",3,1,"-","-","-",4,4,4,4,4,4,0,4,2,3,2,1,1,2,2,4,4]
[97,null,"室賀村",2138,1853,135,76,41,18,34.81,44,15,"-",15,"-","-",8,1,6,1,"-",1,3,3,1,"-",3,8,8,8,8,8,0,8,3,8,7,4,4,8,8,8,8]
[98,null,"浦里村２－１",742,400,211,134,44,33,33,87,18,"-",17,"-",1,4,1,3,"-","-",3,1,"-","-","-",4,4,4,4,4,4,0,4,4,4,4,2,2,4,4,4,4]
[99,null,"丸子町",1444,850,120,77,38,5,36.87,38,17,1,16,"-","-",12,6,5,1,8,3,1,"-","-","-",10,12,12,12,12,12,0,12,2,9,9,1,1,12,12,12,11]
[100,null,"東内村",1484,1199,98,74,22,2,17.22,64,11,1,10,"-","-",6,5,1,"-","-",2,1,3,"-","-",2,6,6,6,6,6,0,6,0,6,0,0,0,6,0,6,6]
[101,null,"西内村",5022,4733,88,57,29,2,38.74,24,6,3,6,"-","-",11,4,7,"-",1,4,2,4,"-","-",2,11,6,11,11,11,0,11,3,11,3,0,0,11,4,11,8]
[102,null,"依田村",1286,627,256,152,67,37,71.82,126,40,2,39,"-",1,8,2,6,"-","-",6,2,"-","-","-",5,8,4,8,8,8,0,8,4,7,0,5,5,8,4,8,8]
[103,null,"長瀬村",360,62,103,73,21,9,26.79,44,7,1,7,"-","-",8,4,4,"-",3,4,"-",1,"-","-",4,8,6,8,8,6,0,8,6,3,2,1,1,7,7,8,8]
[104,null,"塩川村",971,270,218,148,63,7,54.28,102,19,2,18,"-","-",6,3,3,"-",2,1,1,2,"-","-",6,6,4,6,6,4,0,6,4,6,4,2,1,6,3,6,6]
[105,null,"傍陽村",7606,6386,261,92,121,48,75.08,70,20,2,20,2,1,14,"-",7,7,2,2,7,3,"-","-",3,12,12,12,12,12,2,12,9,14,10,0,0,14,10,12,12]
[106,null,"本原村",869,619,164,88,46,30,36.41,68,29,4,28,1,1,11,2,9,"-",1,7,2,"-",1,"-",6,10,11,11,11,11,0,11,7,9,0,0,0,10,7,11,10]
[107,null,"長村",9699,7835,767,78,679,10,77.47,140,26,2,23,1,4,10,"-",7,3,"-",4,5,1,"-","-",10,10,10,10,10,10,0,10,7,10,7,2,2,10,8,10,9]
[108,null,"武石村",8761,7575,419,265,134,20,69.93,191,31,3,29,1,7,17,6,9,2,"-",4,10,3,"-","-",17,17,17,17,17,17,0,17,4,16,4,0,0,17,5,17,15]
[109,"岡谷市",null,8510,5778,237,82,147,8,99.98,88,40,4,40,2,3,25,"-",15,10,22,2,"-",1,"-","-",20,20,24,24,24,24,1,23,2,18,5,11,4,23,23,19,19]
[110,null,"岡谷市（旧）",4100,3216,57,13,41,3,28.84,32,15,1,15,"-","-",12,"-",6,6,11,"-","-",1,"-","-",9,8,12,12,12,12,0,11,0,6,1,5,2,11,11,7,7]
[111,null,"湊村",1294,627,37,7,29,1,13.63,5,1,"-",1,"-","-",3,"-","-",3,3,"-","-","-","-","-",1,2,2,2,2,2,1,2,1,3,1,2,0,2,2,2,2]
[112,null,"川岸村",1908,1231,81,28,51,2,48.7,14,6,1,6,"-",2,6,"-",5,1,4,2,"-","-","-","-",6,6,6,6,6,6,0,6,0,6,2,2,1,6,6,6,6]
[113,null,"長地村２－１",1208,704,62,34,26,2,8.81,37,18,2,18,2,1,4,"-",4,"-",4,"-","-","-","-","-",4,4,4,4,4,4,0,4,1,3,1,2,1,4,4,4,4]
[114,"飯田市",null,65866,54465,3046,1054,1122,870,706.06,2122,1395,1080,687,64,56,310,7,171,132,77,95,70,54,10,4,183,280,254,305,305,285,5,298,89,245,57,66,33,293,246,293,271]
[115,null,"飯田市（旧）",9521,9174,79,21,20,38,24.88,110,82,68,40,"-","-",20,3,2,15,18,1,1,"-","-","-",3,12,13,18,18,18,2,13,4,15,3,3,2,19,9,11,11]
[116,null,"竜丘村",776,264,202,76,87,39,51.35,131,70,48,45,1,3,20,"-",16,4,6,10,1,3,"-","-",0,19,17,20,20,19,0,20,0,19,5,0,0,20,16,20,19]
[117,null,"下久堅村",1193,464,231,71,100,60,70.21,121,75,64,19,2,4,27,"-",19,8,"-",6,10,11,"-","-",10,27,27,27,27,27,0,27,21,27,6,16,9,16,3,27,27]
[118,null,"座光寺村",876,345,199,48,46,105,25.23,195,158,141,77,4,3,15,"-",6,9,3,7,4,1,"-","-",10,15,15,15,15,15,0,15,7,2,1,4,3,15,15,12,12]
[119,null,"松尾村",674,39,129,60,55,14,19.44,97,54,32,35,"-",1,11,1,9,1,7,4,"-","-","-","-",10,11,11,11,11,11,0,11,0,4,1,0,0,9,9,11,11]
[120,null,"山本村",2205,1350,330,145,135,50,94.85,187,96,50,61,"-",2,26,"-",23,3,3,7,8,7,1,"-",25,26,26,26,26,26,0,26,0,21,0,11,9,26,26,26,26]
[121,null,"三穂村",1252,701,224,87,77,60,47.2,145,126,120,28,4,2,13,"-",12,1,"-",2,1,7,3,"-",13,13,13,13,13,13,0,13,10,12,1,5,2,13,13,13,13]
[122,null,"伊賀良村",3506,2109,451,146,134,171,73.33,372,290,265,123,12,15,31,"-",16,15,13,13,3,2,"-","-",20,31,23,31,31,31,0,31,3,23,6,9,3,30,27,31,30]
[123,null,"川路村",575,219,114,42,42,30,17.94,42,19,11,13,1,"-",7,"-",6,1,"-",4,2,1,"-","-",6,7,7,7,7,7,0,7,5,7,1,4,2,7,7,7,7]
[124,null,"千代村",5836,5294,155,46,51,58,62.57,81,57,49,24,4,13,28,1,12,15,"-",7,14,6,1,"-",28,28,28,28,28,28,0,28,4,28,14,5,1,28,28,28,28]
[125,null,"竜江村",1226,617,183,45,56,82,54.45,119,87,43,67,28,8,23,"-",8,15,"-",7,9,6,1,"-",13,23,23,23,23,22,0,23,17,23,2,4,1,23,23,23,23]
[126,null,"上久堅村",1647,1107,162,60,83,19,51.76,70,29,12,20,5,1,14,2,9,3,"-",2,7,3,2,"-",14,14,14,14,14,14,0,14,12,14,10,4,1,14,14,14,14]
[127,null,"鼎町",613,33,134,45,46,43,18.1,139,88,70,41,1,"-",9,"-",6,3,8,1,"-","-","-","-",9,9,9,9,9,9,0,9,0,5,2,0,0,9,9,9,9]
[128,null,"上郷町",2639,1756,299,136,107,56,28.33,266,148,105,80,1,3,24,"-",17,7,15,7,2,"-","-","-",22,24,24,24,24,24,0,24,3,5,0,0,0,24,24,24,24]
[129,null,"上村",13276,12071,40,5,25,10,32.77,20,8,1,7,1,1,11,"-",2,9,"-",3,3,2,1,2,0,5,0,11,11,6,0,11,3,9,1,1,0,11,6,11,5]
[130,null,"木沢村",11380,10859,34,5,20,9,10.29,4,1,"-",1,"-","-",8,"-",2,6,"-",5,"-",2,"-",1,0,3,1,8,8,3,0,8,0,8,4,0,0,8,5,8,3]
[131,null,"和田村（飯田市）",2861,2563,32,8,15,9,9.06,6,2,"-",2,"-","-",9,"-",3,6,1,7,"-","-","-",1,0,6,0,9,9,4,0,8,0,9,0,0,0,9,7,8,5]
[132,null,"八重河内村",3871,3679,29,4,14,11,10.52,7,"-","-","-","-","-",7,"-",2,5,1,1,3,1,1,"-",0,5,1,6,6,5,1,6,0,7,0,0,0,7,3,6,3]
[133,null,"南和田村",1939,1821,19,4,9,6,3.78,10,5,1,4,"-","-",7,"-",1,6,2,1,2,2,"-","-",0,2,2,5,5,3,2,4,0,7,0,0,0,5,2,4,1]
[134,"諏訪市",null,10917,7558,651,421,214,16,125.94,407,102,3,98,2,4,44,12,16,16,34,7,"-",3,"-","-",30,29,41,42,42,42,2,35,14,24,8,13,6,44,20,29,29]
[135,null,"諏訪市（旧）",6867,4374,344,191,144,9,84.32,225,60,3,57,2,2,31,4,13,14,25,5,"-",1,"-","-",19,18,30,31,31,31,0,24,7,16,6,11,5,31,14,18,18]
[136,null,"中洲村",626,288,123,94,26,3,10.87,65,22,"-",22,"-","-",5,5,"-","-",5,"-","-","-","-","-",5,5,5,5,5,5,0,5,1,1,1,0,0,5,2,5,5]
[137,null,"湖南村",3424,2896,184,136,44,4,30.75,117,20,"-",19,"-",2,8,3,3,2,4,2,"-",2,"-","-",6,6,6,6,6,6,2,6,6,7,1,2,1,8,4,6,6]
[138,"須坂市",null,14967,10270,1778,272,261,1245,305.07,1426,260,19,249,9,8,61,1,14,46,20,13,13,14,1,"-",47,55,52,53,52,50,0,60,7,34,14,4,4,55,44,55,54]
[139,null,"須坂町",1496,355,377,28,42,307,42.42,274,75,6,72,1,3,14,"-",1,13,9,2,2,1,"-","-",11,10,14,14,14,14,0,13,0,7,1,2,2,9,5,11,10]
[140,null,"井上村",822,157,231,64,20,147,34.72,313,35,1,34,2,"-",7,"-",1,6,2,1,2,2,"-","-",7,6,7,7,7,7,0,7,0,1,0,0,0,7,7,6,6]
[141,null,"豊洲村",787,7,357,48,14,295,23.97,245,55,5,53,6,2,7,"-",1,6,2,2,3,"-","-","-",7,6,7,7,7,7,0,7,0,3,0,0,0,6,5,5,5]
[142,null,"日野村（須坂市）",492,"-",190,26,6,158,25.22,185,35,4,33,"-",2,6,"-",1,5,2,2,1,1,"-","-",6,6,6,6,6,6,0,6,0,0,0,0,0,6,6,6,6]
[143,null,"高甫村",1130,597,287,10,19,258,25.87,217,27,1,26,"-","-",4,"-","-",4,1,1,"-",2,"-","-",4,4,4,4,4,4,0,4,0,2,2,0,0,4,4,4,4]
[144,null,"仁礼村",7929,7119,213,83,71,59,109.51,115,20,"-",20,"-",1,14,1,9,4,2,4,3,4,1,"-",4,14,5,6,5,3,0,14,5,12,7,1,1,14,12,14,14]
[145,null,"豊丘村",2311,2035,123,13,89,21,43.36,77,13,2,11,"-","-",9,"-",1,8,2,1,2,4,"-","-",8,9,9,9,9,9,0,9,2,9,4,1,1,9,5,9,9]
[146,"小諸市",null,9855,3478,2799,1069,1109,621,590.37,1110,165,26,152,13,7,55,6,29,20,17,19,12,6,1,"-",34,47,54,55,55,55,0,52,15,47,13,20,12,55,39,51,46]
[147,null,"小諸町",1905,710,437,150,144,143,82.86,91,26,6,23,6,2,16,4,6,6,10,6,"-","-","-","-",4,10,16,16,16,16,0,13,1,11,1,0,0,16,8,13,10]
[148,null,"大里村",2880,1577,448,194,151,103,124.47,177,32,4,28,1,1,5,"-",4,1,"-",2,1,1,1,"-",3,5,5,5,5,5,0,5,3,5,4,3,0,5,5,5,5]
[149,null,"北大井村",1042,189,428,142,235,51,84.69,129,14,1,14,1,1,12,2,4,6,3,6,2,1,"-","-",9,11,12,12,12,12,0,12,5,9,0,2,1,12,9,11,10]
[150,null,"南大井村",891,89,366,154,162,50,56.01,161,12,3,11,2,"-",4,"-",3,1,2,2,"-","-","-","-",4,4,4,4,4,4,0,4,0,4,1,1,1,4,4,4,4]
[151,null,"三岡村",672,34,433,197,82,154,32.27,221,32,5,31,1,"-",3,"-",3,"-","-",2,1,"-","-","-",3,3,3,3,3,3,0,3,1,3,1,1,0,3,3,3,3]
[152,null,"川辺村（小諸市）",1654,754,336,120,183,33,104.4,187,28,3,28,1,2,10,"-",6,4,1,"-",6,3,"-","-",9,10,10,10,10,10,0,10,3,10,2,10,7,10,6,10,10]
[153,null,"小沼村２－２",92,5,56,29,25,2,"x",53,"x","x","x","x","x",1,"-",1,"-","-","-",1,"-","-","-",1,1,1,1,1,1,0,1,0,1,1,0,0,1,1,1,1]
[154,null,"滋野村２－２",620,111,249,83,87,79,90.07,90,14,3,11,"-","-",3,"-",2,1,"-",1,1,1,"-","-",1,3,3,3,3,3,0,3,2,3,3,3,3,3,3,3,3]
[155,null,"小沼村２－１－２",99,9,46,"-",40,6,"x",1,"x","x","x","x","x",1,"-","-",1,1,"-","-","-","-","-",0,0,0,1,1,1,0,1,0,1,0,0,0,1,0,1,0]
[156,"伊那市",null,66793,52522,5220,3429,1647,144,458.04,1472,300,20,281,10,25,237,114,76,47,56,79,72,26,4,"-",169,214,228,229,226,226,8,220,155,197,121,39,21,231,143,224,212]
[157,null,"伊那町",5798,3313,1025,652,360,13,59.04,321,60,4,54,1,5,38,12,14,12,25,10,2,1,"-","-",25,32,38,38,38,38,0,33,16,22,9,3,3,37,27,37,31]
[158,null,"西箕輪村２－１",2365,1260,652,118,471,63,100.44,158,54,4,53,7,4,9,"-",1,8,2,2,4,1,"-","-",9,9,9,9,9,9,0,9,4,9,8,3,2,9,5,9,9]
[159,null,"手良村",2488,1917,276,200,63,13,18.08,98,13,"-",13,"-",1,20,11,9,"-","-",4,11,4,1,"-",19,20,20,20,20,20,0,20,14,16,6,5,3,20,10,20,20]
[160,null,"美篶村",1348,303,497,443,47,7,26.16,203,24,2,23,"-",1,11,11,"-","-",1,8,2,"-","-","-",11,11,11,11,11,11,0,11,6,10,4,1,1,11,6,11,10]
[161,null,"富県村",3309,2309,602,483,112,7,38.58,129,18,3,16,"-",2,25,20,4,1,1,5,13,6,"-","-",24,25,25,25,25,25,0,25,25,22,19,8,7,25,24,25,25]
[162,null,"東春近村",1676,346,726,604,114,8,16.91,172,32,2,30,"-",2,25,21,2,2,2,17,4,2,"-","-",25,25,25,25,25,25,0,25,14,16,7,1,1,24,15,25,25]
[163,null,"西春近村",3803,2699,633,382,241,10,37.64,171,40,2,39,1,1,23,9,9,5,1,12,9,1,"-","-",22,23,23,23,23,23,0,23,20,21,18,1,0,23,19,23,23]
[164,null,"高遠町",1194,950,29,11,18,"-",17.79,6,1,"-",1,"-","-",15,1,5,9,9,5,1,"-","-","-",1,7,14,15,13,13,0,11,0,11,0,2,0,13,6,11,7]
[165,null,"長藤村",2140,1884,134,74,45,15,49.37,33,14,"-",14,1,1,11,1,10,"-","-",1,8,2,"-","-",11,11,11,11,11,11,0,11,11,11,9,0,0,11,9,11,11]
[166,null,"三義村",4732,4374,57,32,25,"-",12.63,13,7,"-",5,"-",2,14,2,7,5,5,2,4,3,"-","-",5,10,10,10,10,10,4,10,7,14,9,0,0,14,9,10,10]
[167,null,"藤沢村",4406,3890,113,85,28,"-",25.1,11,3,1,2,"-",1,7,4,3,"-","-",5,"-",2,"-","-",6,7,7,7,7,7,0,7,7,7,6,1,1,7,7,7,7]
[168,null,"河南村",1475,928,259,191,66,2,26.78,53,18,"-",16,"-",2,6,4,2,"-","-",1,4,1,"-","-",6,6,6,6,6,6,0,6,6,6,5,5,3,6,6,6,6]
[169,null,"伊那里村",18522,16459,56,40,16,"-",11.28,9,1,"-",1,"-","-",15,8,3,4,9,1,5,"-","-","-",2,11,12,12,11,11,3,11,8,14,5,1,0,14,0,11,11]
[170,null,"美和村",13537,11890,161,114,41,6,18.24,95,15,2,14,"-",3,18,10,7,1,1,6,5,3,3,"-",3,17,17,17,17,17,1,18,17,18,16,8,0,17,0,18,17]
[171,"駒ヶ根市",null,16586,12112,1884,1405,402,77,117.23,760,189,16,182,14,5,84,61,16,7,32,20,20,9,3,"-",76,82,84,84,83,82,0,79,76,56,10,10,1,82,72,80,80]
[172,null,"赤穂町",8057,4883,1212,955,222,35,43.26,400,87,8,84,4,2,67,52,9,6,32,18,13,3,1,"-",59,65,67,67,67,67,0,62,59,39,5,5,0,65,60,63,63]
[173,null,"中沢村",6793,6000,393,270,104,19,53.03,195,32,4,30,2,2,12,7,4,1,"-",2,4,4,2,"-",12,12,12,12,11,10,0,12,12,12,2,2,1,12,8,12,12]
[174,null,"伊那村",1736,1229,279,180,76,23,20.94,165,70,4,68,8,1,5,2,3,"-","-","-",3,2,"-","-",5,5,5,5,5,5,0,5,5,5,3,3,0,5,4,5,5]
[175,"中野市",null,11218,4714,3026,607,895,1524,493.33,2018,459,59,434,30,13,74,4,24,46,14,16,19,15,9,1,53,72,68,72,71,69,2,71,15,54,11,20,7,74,41,74,68]
[176,null,"中野町",768,126,204,50,53,101,36.92,169,33,4,32,2,"-",11,"-",4,7,8,3,"-","-","-","-",7,11,8,11,11,11,0,8,0,4,0,0,0,11,2,11,8]
[177,null,"日野村（中野市）",1064,751,183,28,100,55,39.53,141,23,"-",22,2,1,4,"-","-",4,"-","-",2,2,"-","-",4,4,4,4,4,4,0,4,1,4,1,1,1,4,4,4,4]
[178,null,"延徳村",791,305,237,100,115,22,40.88,168,26,4,25,"-",1,6,"-",3,3,"-",3,1,1,1,"-",6,6,6,6,6,6,0,6,0,4,1,2,1,6,5,6,6]
[179,null,"平野村",742,79,260,52,146,62,62.93,184,41,6,37,4,2,7,"-",2,5,4,3,"-","-","-","-",4,7,7,7,7,7,0,7,2,2,1,1,0,7,7,7,7]
[180,null,"高丘村",673,69,306,37,89,180,41.07,195,80,8,75,6,5,5,"-","-",5,"-",2,3,"-","-","-",5,5,5,5,5,5,0,5,0,5,0,1,1,5,3,5,5]
[181,null,"長丘村",706,142,301,68,80,153,63.05,177,40,3,39,5,1,5,"-",2,3,"-","-",2,1,1,1,3,5,5,5,5,5,0,5,0,5,1,1,1,5,5,5,5]
[182,null,"平岡村（中野市）",724,1,432,12,60,360,33.17,305,67,14,60,10,2,8,"-",1,7,"-",3,4,"-",1,"-",8,8,8,8,8,8,0,8,0,2,0,0,0,8,7,8,8]
[183,null,"科野村",1010,537,296,26,40,230,29.82,198,27,3,26,1,"-",3,"-","-",3,"-","-",2,"-",1,"-",3,3,3,3,3,3,0,3,1,3,2,1,0,3,2,3,3]
[184,null,"倭村（中野市）",1262,790,289,74,129,86,37.1,169,28,3,27,"-","-",5,"-",2,3,"-",1,"-",3,1,"-",5,5,5,5,4,5,0,5,1,5,1,1,0,5,2,5,4]
[185,null,"豊井村",1399,558,296,62,36,198,53.07,165,59,11,56,"-",1,8,"-",4,4,"-","-",5,2,1,"-",2,8,8,8,8,8,0,8,4,8,0,2,1,8,3,8,8]
[186,null,"永田村",2079,1356,222,98,47,77,55.79,147,35,3,35,"-","-",12,4,6,2,2,1,"-",6,3,"-",6,10,9,10,10,7,2,12,6,12,4,10,2,12,1,12,10]
[187,"大町市",null,56515,40673,2587,2229,276,82,179.81,1120,160,9,151,4,18,175,95,21,59,57,42,35,26,12,3,114,115,123,148,146,146,27,150,52,127,35,26,12,125,69,130,93]
[188,null,"大町",2099,1004,369,317,36,16,21.79,178,36,4,34,3,7,25,12,2,11,20,5,"-","-","-","-",15,12,25,25,25,25,0,24,0,6,3,2,0,18,4,18,1]
[189,null,"平村",35846,23725,682,606,53,23,58.68,258,25,2,21,"-",5,28,24,3,1,2,11,10,4,1,"-",27,27,28,28,28,27,0,28,4,21,14,12,4,28,28,28,26]
[190,null,"常盤村（大町市）",7109,5961,1010,926,50,34,22.04,409,69,3,66,1,6,32,32,"-","-",3,10,9,6,4,"-",23,31,12,32,30,32,0,32,30,14,12,1,0,32,31,32,31]
[191,null,"社村",1460,884,290,265,25,"-",16.42,138,16,"-",16,"-","-",10,9,1,"-","-",4,5,1,"-","-",10,7,10,10,10,10,0,10,5,6,2,0,0,10,2,10,6]
[192,null,"八坂村２－１",3367,2965,103,34,63,6,25.98,68,6,"-",6,"-","-",37,8,3,26,15,4,6,7,3,2,23,19,22,25,25,24,12,26,9,37,0,4,3,22,0,19,16]
[193,null,"広津村３－３",27,21,0,"-",0,"-","-","-","-","-","-","-","-",1,"-","-",1,1,"-","-","-","-","-",0,0,0,0,0,0,1,1,0,1,0,0,0,1,0,0,0]
[194,null,"美麻村",6607,6113,133,81,49,3,34.9,69,8,"-",8,"-","-",42,10,12,20,16,8,5,8,4,1,16,19,26,28,28,28,14,29,4,42,4,7,5,14,4,23,13]
[195,"飯山市",null,20243,12470,3415,1855,1523,37,500.59,1220,212,13,183,4,30,117,28,53,36,22,12,23,50,8,2,89,98,102,103,106,97,10,109,61,99,20,42,33,110,72,105,95]
[196,null,"飯山町",1615,775,149,24,119,6,39.66,32,7,"-",7,1,"-",16,"-",2,14,12,2,"-",1,1,"-",5,6,14,13,15,11,1,11,0,9,2,3,1,12,3,9,5]
[197,null,"秋津村",1971,1381,242,129,110,3,42.67,122,12,"-",12,"-",1,18,5,5,8,6,1,5,6,"-","-",12,12,9,12,12,10,6,16,5,17,0,7,4,18,9,16,11]
[198,null,"柳原村（飯山市）",3212,1986,342,179,161,2,70.94,112,13,1,11,"-",1,16,3,6,7,3,2,2,7,1,1,12,14,14,14,13,12,2,16,10,16,1,6,4,16,10,14,13]
[199,null,"外様村",1198,832,274,194,79,1,23.89,57,7,1,7,"-","-",6,2,3,1,1,"-",2,3,"-","-",5,5,5,5,5,5,1,5,4,6,0,2,1,6,5,5,5]
[200,null,"常盤村（飯山市）",1173,76,562,295,263,4,93.75,231,57,6,53,1,2,12,2,9,1,"-",1,4,5,2,"-",11,12,12,12,12,12,0,12,7,9,2,4,4,9,5,12,12]
[201,null,"太田村",2642,1817,477,332,145,"-",57.62,174,41,3,20,2,25,12,6,6,"-","-",1,2,7,1,1,12,12,12,12,12,11,0,12,8,10,2,6,6,12,12,12,12]
[202,null,"岡山村",5474,4263,494,187,302,5,69.64,105,13,1,12,"-","-",17,6,6,5,"-",2,5,7,3,"-",12,17,17,17,17,17,0,17,16,17,7,11,10,17,10,17,17]
[203,null,"瑞穂村２－１",2060,1155,413,224,184,5,52.82,165,25,"-",24,"-",1,11,1,10,"-","-","-",3,8,"-","-",11,11,11,10,11,10,0,11,9,11,4,3,3,11,10,11,11]
[204,null,"木島村",898,185,462,291,160,11,49.6,222,37,1,37,"-","-",9,3,6,"-","-",3,"-",6,"-","-",9,9,8,8,9,9,0,9,2,4,2,0,0,9,8,9,9]
[205,"茅野市",null,26659,19476,2481,1414,1042,25,459.03,1184,189,13,179,2,9,63,15,44,4,18,32,11,2,"-","-",60,62,63,63,63,55,0,63,36,53,20,8,3,63,34,63,62]
[206,null,"ちの町",650,221,65,41,17,7,20.33,31,12,1,11,"-","-",6,1,4,1,6,"-","-","-","-","-",4,5,6,6,6,6,0,6,0,3,2,0,0,6,3,6,5]
[207,null,"宮川村",2057,1232,273,160,113,"-",67.56,132,24,2,23,1,1,10,4,6,"-",5,4,"-",1,"-","-",10,10,10,10,10,10,0,10,5,6,5,2,1,10,10,10,10]
[208,null,"米沢村",2643,2236,221,139,78,4,39.31,105,49,1,46,"-",2,4,"-",4,"-","-",3,1,"-","-","-",4,4,4,4,4,4,0,4,4,4,3,0,0,4,4,4,4]
[209,null,"豊平村",6837,5466,406,177,227,2,61.69,176,14,1,14,"-","-",9,"-",8,1,2,5,1,1,"-","-",8,9,9,9,9,9,0,9,6,9,8,1,0,9,7,9,9]
[210,null,"玉川村",2022,1070,469,262,205,2,71.21,212,30,1,30,"-",1,10,4,5,1,4,5,1,"-","-","-",10,10,10,10,10,8,0,10,3,8,2,0,0,10,1,10,10]
[211,null,"泉野村",654,60,286,183,103,"-",46.78,202,12,2,10,"-",3,4,2,2,"-","-",1,3,"-","-","-",4,4,4,4,4,1,0,4,3,4,0,1,1,4,0,4,4]
[212,null,"金沢村",1587,1226,132,60,63,9,42.9,64,5,2,5,"-","-",7,1,5,1,1,4,2,"-","-","-",7,7,7,7,7,5,0,7,2,7,0,0,0,7,0,7,7]
[213,null,"湖東村",1033,178,360,205,154,1,60.78,147,19,2,18,"-",1,9,1,8,"-","-",6,3,"-","-","-",9,9,9,9,9,9,0,9,9,8,0,1,0,9,8,9,9]
[214,null,"北山村",9176,7787,269,187,82,"-",48.47,115,24,1,22,1,1,4,2,2,"-","-",4,"-","-","-","-",4,4,4,4,4,3,0,4,4,4,0,3,1,4,1,4,4]
[215,"塩尻市",null,28998,21872,3040,1079,1432,529,321.3,1408,215,15,207,14,3,52,6,25,21,14,19,16,3,"-","-",18,43,49,49,49,49,3,51,9,48,25,28,13,50,26,50,38]
[216,null,"塩尻町",3753,2281,443,225,161,57,83.37,280,43,1,42,"-","-",13,3,7,3,2,7,3,1,"-","-",3,10,13,13,13,13,0,13,1,11,6,9,4,12,11,12,9]
[217,null,"筑摩地村",1613,1131,162,85,75,2,"x",39,"x","x","x","x","x",5,1,2,2,"-",3,2,"-","-","-",1,4,5,5,5,5,0,5,1,5,5,4,2,5,3,5,4]
[218,null,"広丘村",1671,33,589,280,158,151,44.33,314,46,4,44,"-",1,6,1,3,2,5,1,"-","-","-","-",2,6,6,6,6,6,0,6,0,6,1,1,1,6,1,6,6]
[219,null,"片丘村２－１",2228,1426,531,196,331,4,64.78,241,41,1,40,"-","-",5,"-",4,1,"-",1,4,"-","-","-",1,5,5,5,5,5,0,5,0,5,3,4,1,5,2,5,5]
[220,null,"宗賀村",3589,2802,371,84,147,140,50.32,165,49,4,48,14,1,7,1,2,4,2,4,1,"-","-","-",5,6,7,7,7,7,0,7,2,6,3,4,3,7,2,7,6]
[221,null,"洗馬村２－１",4397,2902,918,205,538,175,37,367,29,5,26,"-",1,7,"-",5,2,"-",2,3,2,"-","-",6,7,7,7,7,7,0,7,4,6,5,2,2,6,6,7,7]
[222,null,"楢川村",11747,11297,26,4,22,0,"x",2,"x","x","x","x","x",9,"-",2,7,5,1,3,"-","-","-",0,5,6,6,6,6,3,8,1,9,2,4,0,9,1,8,1]
[223,"佐久市",null,42351,26547,6580,3936,1918,726,1322.73,3609,587,21,577,13,12,241,88,91,62,32,72,77,44,12,4,121,216,168,229,227,225,6,227,62,175,68,51,26,226,131,223,212]
[224,null,"野沢町",630,"-",301,289,9,3,10.16,188,34,1,34,1,1,10,10,"-","-",4,6,"-","-","-","-",2,10,2,10,10,10,0,10,2,0,0,0,0,9,0,10,10]
[225,null,"大沢村",793,417,111,85,21,5,30.01,83,5,"-",5,1,"-",6,4,2,"-","-",1,1,3,1,"-",1,6,6,6,6,6,0,6,4,6,6,4,3,6,6,6,6]
[226,null,"桜井村",195,"-",140,135,5,"-",5.86,74,11,"-",11,"-","-",4,4,"-","-","-",1,3,"-","-","-",0,4,2,4,4,4,0,4,1,1,0,0,0,3,1,4,4]
[227,null,"前山村",2276,1979,125,101,20,4,38.95,66,7,1,7,"-","-",4,2,1,1,"-",2,2,"-","-","-",0,3,4,4,3,3,0,4,1,4,3,3,1,4,3,4,3]
[228,null,"岸野村",1748,588,394,281,103,10,96.59,276,49,"-",48,"-",1,12,9,1,2,"-",2,3,6,1,"-",2,12,12,11,12,11,0,12,2,9,6,4,4,12,12,12,12]
[229,null,"中込町",491,"-",118,89,4,25,9.57,111,24,"-",23,"-",1,8,4,3,1,4,2,1,1,"-","-",1,8,0,8,8,8,0,7,0,0,0,0,0,8,4,8,8]
[230,null,"平賀村",1516,684,388,240,76,72,41.82,224,25,"-",24,"-",1,14,8,3,3,1,8,4,1,"-","-",5,13,8,14,13,14,0,13,4,9,6,3,3,14,10,13,13]
[231,null,"内山村",3545,3119,135,74,45,16,38.39,52,5,"-",5,"-","-",11,2,5,4,1,2,6,2,"-","-",2,9,2,5,9,8,2,11,1,11,6,0,0,11,9,11,9]
[232,null,"岩村田町",1075,37,210,119,50,41,50.09,149,22,2,21,3,1,13,2,6,5,11,2,"-","-","-","-",11,8,13,13,13,13,0,10,0,5,0,2,0,9,1,9,8]
[233,null,"平根村",1136,589,174,99,39,36,49.79,145,9,"-",9,"-","-",3,"-",3,"-","-","-",3,"-","-","-",3,3,3,3,3,3,0,3,0,3,0,1,0,3,2,3,3]
[234,null,"高瀬村",627,26,316,254,49,13,43.91,200,19,2,17,"-",2,7,5,2,"-","-","-",7,"-","-","-",0,7,5,7,7,7,0,7,0,7,0,0,0,7,0,7,7]
[235,null,"中佐都村",654,8,335,237,50,48,34.06,264,26,"-",26,"-","-",7,5,2,"-","-",4,3,"-","-","-",0,7,5,7,7,7,0,7,0,4,0,1,1,6,1,7,7]
[236,null,"御代田村２－２",224,19,68,28,39,1,15.08,55,4,"-",4,"-","-",3,"-",1,2,"-",2,1,"-","-","-",3,3,3,3,3,3,0,3,0,3,0,0,0,3,0,3,3]
[237,null,"三井村",2270,1735,242,119,102,21,61.36,126,17,"-",17,"-","-",6,2,1,3,1,3,"-",1,"-",1,5,4,5,5,5,5,1,6,0,6,0,0,0,6,0,6,4]
[238,null,"志賀村",2064,1635,107,68,15,24,63.98,78,5,"-",4,"-",1,6,1,4,1,1,1,2,1,1,"-",5,5,5,5,5,5,1,6,0,6,0,2,0,5,3,5,5]
[239,null,"臼田町",617,233,130,68,34,28,24.84,64,11,"-",11,1,"-",14,5,6,3,5,7,1,1,"-","-",8,12,4,13,11,12,0,14,3,8,2,1,0,14,8,14,11]
[240,null,"切原村",2795,2190,362,153,55,154,73.94,153,45,"-",45,4,"-",7,2,3,2,"-",1,3,3,"-","-",3,7,7,7,7,7,0,7,2,7,2,4,3,7,6,7,7]
[241,null,"田口村",3898,3232,283,176,76,31,57.07,195,43,3,42,1,"-",13,3,7,3,1,7,4,1,"-","-",11,11,11,11,11,11,2,12,11,12,10,2,1,13,11,11,11]
[242,null,"青沼村２－１",1000,568,168,83,55,30,32.86,70,11,"-",11,"-","-",15,6,2,7,"-",6,5,3,"-",1,15,15,15,15,13,15,0,15,0,11,11,0,0,15,15,13,13]
[243,null,"本牧村２－１",1133,443,300,128,164,8,70.08,107,19,"-",19,"-","-",17,2,4,11,3,5,5,4,"-","-",4,9,7,17,17,15,0,9,2,10,0,6,0,13,0,9,8]
[244,null,"布施村",2081,1192,469,121,344,4,125.19,166,24,2,24,"-",1,14,"-",5,9,"-","-",6,6,1,1,5,14,14,14,13,12,0,14,1,14,5,5,2,14,13,14,14]
[245,null,"春日村",3999,3055,335,198,135,2,108,179,15,1,15,"-",1,18,5,11,2,"-",1,6,6,5,"-",18,17,11,18,18,18,0,18,17,14,1,3,0,18,9,18,17]
[246,null,"協和村",5634,4321,534,260,252,22,106.18,205,37,2,37,1,1,17,4,10,3,"-",5,5,3,3,1,5,17,17,17,17,16,0,17,6,15,10,2,2,14,7,17,17]
[247,null,"南御牧村",1109,385,376,201,104,71,79.83,145,53,6,51,"-",1,6,"-",6,"-","-",1,3,2,"-","-",6,6,4,6,6,6,0,6,4,5,0,5,4,6,6,6,6]
[248,null,"中津村（佐久市）",335,19,183,135,39,9,16.82,112,23,"-",23,"-","-",3,1,2,"-","-",3,"-","-","-","-",3,3,1,3,3,3,0,3,1,3,0,1,1,3,1,3,3]
[249,null,"五郎兵衛新田村",506,73,276,195,33,48,38.3,122,44,1,44,1,"-",3,2,1,"-","-","-",3,"-","-","-",3,3,2,3,3,3,0,3,0,2,0,2,1,3,3,3,3]
[250,"千曲市",null,11979,6993,1591,841,349,401,296.26,1234,190,13,182,14,6,98,17,49,32,34,24,23,16,1,"-",51,78,69,94,93,84,4,94,18,53,14,17,15,94,61,93,74]
[251,null,"屋代町",461,21,97,68,21,8,11.3,56,14,"-",14,1,"-",7,2,3,2,5,2,"-","-","-","-",7,5,6,7,7,7,0,5,0,1,0,0,0,6,3,7,3]
[252,null,"森村",1526,1223,90,43,14,33,27.78,138,17,2,16,3,1,4,1,"-",3,1,"-",1,2,"-","-",3,3,3,3,3,3,1,4,0,4,0,1,1,4,3,3,3]
[253,null,"倉科村",926,760,96,39,26,31,21.34,65,8,1,7,1,1,4,1,1,2,"-",1,3,"-","-","-",4,4,4,4,4,4,0,4,0,4,0,1,1,4,4,4,4]
[254,null,"雨宮県村",634,246,163,88,67,8,18.64,116,14,1,14,"-","-",3,"-",2,1,"-",2,"-",1,"-","-",3,3,2,3,3,3,0,3,1,3,0,0,0,3,0,3,3]
[255,null,"埴生町",375,139,55,34,20,1,10.55,26,5,1,4,"-","-",7,2,3,2,7,"-","-","-","-","-",0,6,6,7,7,7,0,7,0,5,0,0,0,7,6,6,6]
[256,null,"杭瀬下村",168,"-",49,32,16,1,8.43,13,1,"-",1,"-","-",2,1,1,"-",2,"-","-","-","-","-",0,2,2,2,2,2,0,2,0,0,0,0,0,2,2,2,2]
[257,null,"稲荷山町",328,91,25,13,11,1,5.2,7,"-","-","-","-","-",7,1,4,2,6,1,"-","-","-","-",2,4,2,6,6,5,1,7,0,1,0,1,1,7,5,7,4]
[258,null,"桑原村",1636,1401,126,57,15,54,24.17,125,20,2,18,"-",1,8,"-",4,4,1,2,2,3,"-","-",6,7,5,7,6,6,1,8,6,5,4,3,3,8,8,7,7]
[259,null,"八幡村",1710,869,317,198,34,85,48.86,211,23,1,22,"-","-",12,4,8,"-",1,2,4,5,"-","-",11,12,9,12,12,12,0,12,6,6,5,6,5,12,11,12,12]
[260,null,"五加村２－２",125,"-",35,17,14,4,5.86,22,4,"-",4,"-","-",1,"-",1,"-","-",1,"-","-","-","-",0,1,1,1,1,1,0,1,0,0,0,0,0,1,1,1,1]
[261,null,"戸倉町",811,471,64,33,17,14,14.81,26,4,"-",4,"-","-",8,"-",6,2,7,1,"-","-","-","-",1,7,6,8,8,8,0,7,0,7,0,0,0,8,4,7,7]
[262,null,"五加村２－１",385,"-",97,54,34,9,13.49,76,16,"-",16,"-","-",4,"-",4,"-","-",4,"-","-","-","-",2,4,4,4,4,4,0,4,0,0,0,0,0,4,4,4,4]
[263,null,"更級村",1329,753,172,89,28,55,51.47,189,19,4,18,"-","-",7,"-",6,1,1,2,3,1,"-","-",6,6,6,6,6,6,1,6,2,6,4,3,3,7,5,6,6]
[264,null,"上山田町",1348,885,174,54,24,96,32.84,126,41,1,41,9,2,17,1,4,12,2,5,8,1,1,"-",6,7,9,17,17,13,0,17,3,10,1,2,1,17,3,17,5]
[265,null,"力石村",217,134,31,22,8,1,1.52,38,4,"-",3,"-",1,7,4,2,1,1,1,2,3,"-","-",0,7,4,7,7,3,0,7,0,1,0,0,0,4,2,7,7]
[266,"東御市",null,11237,5558,2419,1124,1034,261,441.14,1317,360,40,347,7,13,59,4,46,9,4,17,24,13,1,"-",50,58,45,59,58,59,0,59,44,55,25,30,23,54,49,59,55]
[267,null,"県村",638,10,182,81,84,17,35.1,84,31,"-",31,2,"-",6,"-",6,"-",4,2,"-","-","-","-",6,6,4,6,6,6,0,6,4,4,0,2,2,6,6,6,5]
[268,null,"祢津村",3714,2108,450,194,226,30,114.84,180,46,12,40,1,4,10,"-",6,4,"-",4,5,1,"-","-",9,10,8,10,10,10,0,10,8,10,5,6,3,10,8,10,10]
[269,null,"和村",2273,1318,527,195,192,140,80.24,338,112,15,109,3,4,15,"-",11,4,"-",3,7,5,"-","-",13,14,14,15,15,15,0,15,12,14,7,6,5,15,13,15,14]
[270,null,"滋野村２－１",2022,1281,293,123,105,65,74.04,215,76,5,75,1,"-",8,"-",7,1,"-",4,3,1,"-","-",8,8,7,8,8,8,0,8,6,7,0,2,1,8,7,8,7]
[271,null,"北御牧村",2590,841,967,531,427,9,136.92,500,95,8,92,"-",5,20,4,16,"-","-",4,9,6,1,"-",14,20,12,20,19,20,0,20,14,20,13,14,12,15,15,20,19]
[272,"安曇野市",null,33178,19351,6909,5400,965,544,340.69,3192,576,41,555,14,26,169,114,27,28,53,70,29,15,2,"-",130,149,124,165,166,149,3,165,111,66,34,8,5,150,107,154,142]
[273,null,"豊科町",794,"-",352,327,25,"-",6.31,150,26,"-",26,"-",2,18,14,2,2,13,3,1,1,"-","-",17,18,15,18,18,18,0,18,18,0,0,0,0,18,12,18,18]
[274,null,"高家村",937,18,508,484,24,0,3.19,238,33,"-",32,"-",2,22,22,"-","-",8,5,7,2,"-","-",22,22,10,22,22,14,0,22,17,1,1,0,0,22,15,22,22]
[275,null,"南穂高村",724,5,393,373,19,1,6.95,203,25,1,24,"-",1,11,11,"-","-","-",7,4,"-","-","-",11,11,11,11,11,11,0,11,11,0,0,0,0,11,5,11,11]
[276,null,"上川手村２－１",1455,827,179,154,22,3,14.46,129,19,"-",19,"-","-",8,7,1,"-","-",4,1,3,"-","-",8,8,2,8,8,8,0,8,8,7,3,1,0,8,6,8,8]
[277,null,"穂高町",1016,24,451,411,39,1,19.61,232,32,7,28,"-",2,22,16,2,4,9,11,2,"-","-","-",11,20,13,22,22,22,0,22,9,2,2,0,0,21,17,22,18]
[278,null,"西穂高村",4864,2648,595,474,110,11,37.75,189,28,2,27,"-","-",13,9,2,2,5,4,2,2,"-","-",8,12,9,13,13,13,0,13,10,4,2,2,2,8,7,12,11]
[279,null,"北穂高村",566,2,263,255,8,"-",9.37,70,10,1,10,"-","-",3,3,"-","-","-",2,1,"-","-","-",3,3,2,3,3,3,0,3,1,0,0,0,0,3,3,3,3]
[280,null,"有明村",8085,6952,1018,882,116,20,43.13,393,47,3,44,2,2,11,7,4,"-",5,4,2,"-","-","-",11,11,11,11,11,11,0,11,3,9,2,0,0,9,7,11,11]
[281,null,"明盛村",757,"-",468,445,22,1,4.13,260,33,4,32,2,2,5,5,"-","-",1,3,1,"-","-","-",5,5,5,5,5,5,0,5,3,0,0,0,0,5,5,5,5]
[282,null,"小倉村",2377,1430,666,33,267,366,22.41,226,92,10,90,4,4,4,"-","-",4,"-",1,1,2,"-","-",4,4,4,4,4,4,0,4,4,4,1,0,0,4,4,4,4]
[283,null,"温村",889,5,566,391,97,78,18.35,324,69,4,67,4,5,5,2,3,"-","-",4,1,"-","-","-",5,5,5,5,5,5,0,5,4,1,1,0,0,5,4,5,3]
[284,null,"烏川村",5616,4435,585,529,52,4,7.7,300,78,2,76,1,4,6,6,"-","-","-",5,1,"-","-","-",5,6,6,6,6,6,0,6,2,1,1,0,0,6,6,6,6]
[285,null,"三田村",885,331,378,282,66,30,4.95,204,49,1,48,1,1,3,2,1,"-","-",1,1,1,"-","-",3,3,3,3,3,3,0,3,2,1,1,0,0,3,3,3,3]
[286,null,"中川手村",789,397,137,99,34,4,27.41,67,9,1,8,"-",1,10,3,6,1,3,5,"-","-",2,"-",6,9,7,10,10,10,0,9,7,8,3,2,1,9,2,9,9]
[287,null,"東川手村",1728,1406,40,24,16,"-",36.45,16,2,1,2,"-","-",18,1,3,14,9,7,"-",2,"-","-",2,4,11,14,15,6,3,15,3,18,8,0,0,8,3,6,2]
[288,null,"上川手村２－２",338,211,47,39,8,"-",10.96,34,5,"-",5,"-","-",3,2,1,"-","-",2,1,"-","-","-",3,2,3,3,3,3,0,3,3,3,3,0,0,3,2,3,2]
[289,null,"七貴村２－１",812,314,194,139,30,25,50.55,122,16,3,15,"-","-",4,2,2,"-","-",2,2,"-","-","-",4,4,4,4,4,4,0,4,4,4,4,2,2,4,4,4,4]
[290,null,"陸郷村３－１",546,346,69,59,10,"-",17.01,35,3,1,2,"-","-",3,2,"-",1,"-","-",1,2,"-","-",2,2,3,3,3,3,0,3,2,3,2,1,0,3,2,2,2]
[291,"小海町",null,11420,9282,945,204,735,6,252.11,212,20,3,17,"-",1,26,2,9,15,3,9,8,5,1,"-",24,25,25,26,25,26,0,26,24,26,25,7,7,26,25,26,25]
[292,null,"小海村",3982,3115,424,61,360,3,127.07,83,11,2,10,"-","-",11,"-",4,7,1,3,2,4,1,"-",9,10,11,11,11,11,0,11,10,11,10,0,0,11,10,11,10]
[293,null,"穂積村２－２",157,105,24,20,3,1,10.46,9,2,"-",2,"-","-",1,1,"-","-","-","-",1,"-","-","-",1,1,1,1,1,1,0,1,1,1,1,0,0,1,1,1,1]
[294,null,"北牧村２－１",7281,6062,497,123,372,2,114.58,120,7,1,5,"-",1,14,1,5,8,2,6,5,1,"-","-",14,14,13,14,13,14,0,14,13,14,14,7,7,14,14,14,14]
[295,"川上村",null,20961,17751,1855,44,1811,"-",21.59,517,14,1,10,"-",4,8,"-","-",8,"-",1,2,5,"-","-",8,8,8,8,8,8,0,8,2,8,6,2,1,8,8,8,8]
[296,null,"（川上村）",20961,17751,1855,44,1811,"-",21.59,517,14,1,10,"-",4,8,"-","-",8,"-",1,2,5,"-","-",8,8,8,8,8,8,0,8,2,8,6,2,1,8,8,8,8]
[297,"南牧村",null,13309,10380,1942,111,1831,"-",53.8,368,9,3,7,1,2,9,"-",3,6,"-",2,5,1,1,"-",9,9,9,9,9,6,0,9,6,9,9,0,0,9,5,9,9]
[298,null,"（南牧村）",13309,10380,1942,111,1831,"-",53.8,368,9,3,7,1,2,9,"-",3,6,"-",2,5,1,1,"-",9,9,9,9,9,6,0,9,6,9,9,0,0,9,5,9,9]
[299,"南相木村",null,6605,5784,312,44,268,"-",39.1,67,3,"-",3,"-","-",10,"-",4,6,1,2,7,"-","-","-",3,10,10,10,10,10,0,10,3,10,0,1,0,10,10,10,10]
[300,null,"（南相木村）",6605,5784,312,44,268,"-",39.1,67,3,"-",3,"-","-",10,"-",4,6,1,2,7,"-","-","-",3,10,10,10,10,10,0,10,3,10,0,1,0,10,10,10,10]
[301,"北相木村",null,5632,5134,169,30,139,"-",35.61,50,4,"-",4,"-","-",9,"-",1,8,"-",2,5,2,"-","-",0,7,9,9,9,2,0,9,4,9,0,1,0,9,4,8,7]
[302,null,"（北相木村）",5632,5134,169,30,139,"-",35.61,50,4,"-",4,"-","-",9,"-",1,8,"-",2,5,2,"-","-",0,7,9,9,9,2,0,9,4,9,0,1,0,9,4,8,7]
[303,"佐久穂町",null,18815,15028,1281,718,501,62,363.45,576,104,12,101,3,4,56,22,25,9,4,13,11,22,5,1,35,55,49,55,46,43,0,56,28,53,24,17,10,56,50,55,54]
[304,null,"海瀬村",2528,1774,347,216,96,35,73.63,169,30,3,29,1,1,15,7,7,1,"-",4,4,6,1,"-",12,15,13,15,14,13,0,15,12,15,9,3,1,15,14,15,15]
[305,null,"栄村（佐久穂町）",4142,3399,229,136,88,5,80.45,109,21,1,21,"-","-",13,4,6,3,3,2,2,4,1,1,4,12,10,12,11,11,0,13,8,10,4,3,3,13,10,12,12]
[306,null,"大日向村",5226,4802,63,43,19,1,34.38,42,11,1,11,2,"-",5,3,2,"-","-",1,2,2,"-","-",5,5,5,5,3,1,0,5,4,5,2,1,0,5,4,5,5]
[307,null,"青沼村２－２",291,223,18,7,9,2,12.17,8,2,"-",2,"-","-",3,"-",3,"-",1,1,1,"-","-","-",0,3,1,3,3,3,0,3,0,3,2,1,1,3,3,3,3]
[308,null,"畑八村",5023,3780,467,236,214,17,109.35,191,33,6,32,"-",2,11,4,3,4,"-",2,2,4,3,"-",11,11,11,11,9,9,0,11,4,11,5,6,4,11,11,11,11]
[309,null,"穂積村２－１",901,598,97,44,51,2,40.82,34,3,"-",3,"-","-",6,2,3,1,"-",2,"-",4,"-","-",3,6,6,6,3,4,0,6,0,6,1,2,0,6,6,6,6]
[310,null,"北牧村２－２",704,452,60,36,24,"-",12.65,23,4,1,3,"-",1,3,2,1,"-","-",1,"-",2,"-","-",0,3,3,3,3,2,0,3,0,3,1,1,1,3,2,3,2]
[311,"軽井沢町",null,15603,11808,343,116,225,2,147.55,124,27,5,26,8,4,19,1,6,12,13,6,"-","-","-","-",8,10,0,9,0,0,9,15,0,19,0,5,0,15,0,15,9]
[312,null,"軽井沢町（旧）",14850,11076,326,111,213,2,139.21,105,26,5,25,8,4,18,1,6,11,13,5,"-","-","-","-",7,9,0,8,0,0,9,14,0,18,0,5,0,14,0,14,8]
[313,null,"伍賀村２－２",753,732,17,5,12,"-",8.34,19,1,"-",1,"-","-",1,"-","-",1,"-",1,"-","-","-","-",1,1,0,1,0,0,0,1,0,1,0,0,0,1,0,1,1]
[314,"御代田町",null,5879,3335,766,235,528,3,172.58,305,21,3,18,1,2,17,"-",11,6,6,8,1,2,"-","-",7,15,17,17,16,17,0,16,7,16,4,5,4,17,8,16,14]
[315,null,"伍賀村２－１",1772,1261,227,45,182,"-",35.29,96,2,"-",2,"-","-",5,"-",3,2,1,1,1,2,"-","-",2,5,5,5,5,5,0,5,4,5,3,1,1,5,3,5,4]
[316,null,"御代田村２－１",934,163,182,80,101,1,47.31,73,6,1,4,"-",1,6,"-",4,2,2,4,"-","-","-","-",4,5,6,6,6,6,0,6,1,6,1,1,0,6,3,6,5]
[317,null,"小沼村２－１－１",3173,1911,357,110,245,2,89.98,136,13,2,12,1,1,6,"-",4,2,3,3,"-","-","-","-",1,5,6,6,5,6,0,5,2,5,0,3,3,6,2,5,5]
[318,"立科町",null,6687,4037,1328,731,458,139,289.63,679,138,19,132,"-",4,30,9,19,2,"-",6,9,10,4,1,20,30,30,30,30,29,0,30,19,25,10,24,24,30,30,30,30]
[319,null,"芦田村",4226,3418,270,195,71,4,71.4,164,21,3,20,"-",1,8,7,"-",1,"-",2,5,"-",1,"-",5,8,8,8,8,7,0,8,6,5,0,5,5,8,8,8,8]
[320,null,"三都和村",842,147,363,203,146,14,69.35,187,26,3,24,"-",1,6,"-",6,"-","-",2,2,1,1,"-",3,6,6,6,6,6,0,6,4,6,2,5,5,6,6,6,6]
[321,null,"横鳥村",1103,257,577,240,217,120,98.3,259,83,13,80,"-",2,14,1,12,1,"-",2,2,7,2,1,11,14,14,14,14,14,0,14,7,12,7,13,13,14,14,14,14]
[322,null,"本牧村２－２",516,215,118,93,24,1,50.58,69,8,"-",8,"-","-",2,1,1,"-","-","-","-",2,"-","-",1,2,2,2,2,2,0,2,2,2,1,1,1,2,2,2,2]
[323,"青木村",null,5710,4630,456,244,184,28,118.11,167,45,4,43,1,9,12,4,7,1,1,3,3,5,"-","-",12,12,12,12,12,11,0,12,12,11,10,1,1,12,12,12,12]
[324,null,"青木村（旧）",5128,4207,381,196,167,18,99.7,131,35,4,33,1,8,11,4,6,1,1,3,2,5,"-","-",11,11,11,11,11,10,0,11,11,10,9,0,0,11,11,11,11]
[325,null,"浦里村２－２",582,423,75,48,17,10,18.41,36,10,"-",10,"-",1,1,"-",1,"-","-","-",1,"-","-","-",1,1,1,1,1,1,0,1,1,1,1,1,1,1,1,1,1]
[326,"長和町",null,18386,15854,947,503,415,29,131.39,215,44,6,41,3,6,45,19,19,7,3,8,23,11,"-","-",28,41,17,43,43,19,0,44,21,42,9,3,1,44,26,44,37]
[327,null,"大門村",6898,6008,312,99,207,6,40.63,52,6,3,5,2,5,8,1,4,3,"-",1,4,3,"-","-",7,8,6,7,8,5,0,8,5,8,5,0,0,8,4,8,7]
[328,null,"長久保新町",1359,1081,137,73,62,2,12.14,36,3,"-",3,1,"-",14,6,6,2,2,3,5,4,"-","-",13,11,3,13,14,1,0,14,9,11,1,1,0,13,12,14,9]
[329,null,"長窪古町",1359,944,233,151,69,13,27.51,46,15,1,15,"-","-",7,3,4,"-","-",4,3,"-","-","-",7,7,3,7,7,3,0,7,3,7,2,1,1,7,6,7,7]
[330,null,"和田村（長和町）",8770,7821,265,180,77,8,51.11,81,20,2,18,"-",1,16,9,5,2,1,"-",11,4,"-","-",1,15,5,16,14,10,0,15,4,16,1,1,0,16,4,15,14]
[331,"下諏訪町",null,6687,5582,54,27,17,10,31.54,22,14,"-",14,"-","-",15,4,4,7,14,1,"-","-","-","-",6,6,15,15,15,12,0,13,1,10,1,5,0,15,5,11,6]
[332,null,"下諏訪町（旧）",6110,5100,42,19,14,9,29.51,18,13,"-",13,"-","-",13,3,3,7,12,1,"-","-","-","-",5,4,13,13,13,10,0,11,1,9,0,5,0,13,4,9,4]
[333,null,"長地村２－２",577,482,12,8,3,1,2.03,4,1,"-",1,"-","-",2,1,1,"-",2,"-","-","-","-","-",1,2,2,2,2,2,0,2,0,1,1,0,0,2,1,2,2]
[334,"富士見町",null,14476,9981,1650,926,716,8,289.53,608,72,7,69,11,4,32,3,25,4,5,10,14,2,1,"-",30,31,31,31,31,31,1,31,29,32,26,8,7,32,31,31,31]
[335,null,"富士見村",4146,3044,445,182,261,2,121.57,124,18,1,18,4,1,12,"-",9,3,2,5,4,1,"-","-",11,12,12,12,12,12,0,12,12,12,9,3,2,12,12,12,12]
[336,null,"本郷村（富士見町）",3399,2510,581,415,165,1,49.95,228,21,2,19,3,3,2,1,1,"-","-","-",2,"-","-","-",2,2,2,2,2,2,0,2,2,2,2,2,2,2,2,2,2]
[337,null,"落合村",3800,2599,345,179,162,4,56.91,152,20,3,19,1,"-",11,1,9,1,2,3,4,1,1,"-",10,10,10,10,10,10,1,10,10,11,10,1,1,11,10,10,10]
[338,null,"境村",3131,1828,279,150,128,1,61.1,104,13,1,13,3,"-",7,1,6,"-",1,2,4,"-","-","-",7,7,7,7,7,7,0,7,5,7,5,2,2,7,7,7,7]
[339,"原村",null,4326,2004,1142,558,580,4,138.27,508,53,3,52,1,3,11,"-",8,3,"-",5,6,"-","-","-",10,11,11,11,11,11,0,11,6,11,4,6,3,11,11,11,10]
[340,null,"（原村）",4326,2004,1142,558,580,4,138.27,508,53,3,52,1,3,11,"-",8,3,"-",5,6,"-","-","-",10,11,11,11,11,11,0,11,6,11,4,6,3,11,11,11,10]
[341,"辰野町",null,16920,14467,963,545,387,31,147.48,327,61,3,60,1,5,57,10,44,3,13,14,19,11,"-","-",54,57,57,57,57,57,0,57,40,56,38,10,7,57,54,57,57]
[342,null,"辰野町（旧）",4914,3603,410,211,170,29,57.46,132,31,"-",31,1,"-",21,2,16,3,7,6,6,2,"-","-",18,21,21,21,21,21,0,21,11,21,20,2,1,21,19,21,21]
[343,null,"朝日村（辰野町）",2829,2360,261,159,102,"-",29.47,112,17,3,17,"-",2,17,4,13,"-",4,3,6,4,"-","-",17,17,17,17,17,17,0,17,17,16,1,5,5,17,17,17,17]
[344,null,"川島村",6691,6222,132,88,43,1,11.04,48,5,"-",4,"-",3,8,3,5,"-","-",1,4,3,"-","-",8,8,8,8,8,8,0,8,8,8,7,0,0,8,7,8,8]
[345,null,"小野村",2486,2282,160,87,72,1,49.51,35,8,"-",8,"-","-",11,1,10,"-",2,4,3,2,"-","-",11,11,11,11,11,11,0,11,4,11,10,3,1,11,11,11,11]
[346,"箕輪町",null,8591,5540,1522,724,677,121,150.09,739,114,11,105,4,3,48,8,28,12,6,15,15,10,2,"-",48,48,48,48,48,47,0,48,41,38,19,11,3,46,39,48,48]
[347,null,"中箕輪町",3915,1846,978,475,419,84,74.96,465,67,5,65,2,2,20,6,8,6,4,11,4,1,"-","-",20,20,20,20,20,19,0,20,14,15,10,6,2,19,17,20,20]
[348,null,"東箕輪村",3216,2707,215,99,99,17,49.63,120,31,3,27,"-",1,17,1,11,5,1,3,9,4,"-","-",17,17,17,17,17,17,0,17,17,12,7,2,0,16,16,17,17]
[349,null,"箕輪村",1331,963,238,141,85,12,20.84,121,14,2,12,2,"-",10,1,9,"-",1,1,2,4,2,"-",10,10,10,10,10,10,0,10,9,10,1,2,0,10,5,10,10]
[350,null,"西箕輪村２－２",129,24,91,9,74,8,4.66,33,2,1,1,"-","-",1,"-","-",1,"-","-","-",1,"-","-",1,1,1,1,1,1,0,1,1,1,1,1,1,1,1,1,1]
[351,"飯島町",null,8696,5836,1179,837,243,99,60.61,602,147,17,137,3,3,35,20,14,1,3,11,9,11,1,"-",35,35,35,35,35,35,0,35,35,27,17,6,6,35,33,35,35]
[352,null,"飯島村",5391,3162,889,638,187,64,31.58,433,104,14,95,3,3,26,14,11,1,3,8,4,10,1,"-",26,26,26,26,26,26,0,26,26,20,12,4,4,26,24,26,26]
[353,null,"七久保村",3305,2674,290,199,56,35,29.03,169,43,3,42,"-","-",9,6,3,"-","-",3,5,1,"-","-",9,9,9,9,9,9,0,9,9,7,5,2,2,9,9,9,9]
[354,"南箕輪村",null,4099,2327,887,542,314,31,42.84,274,42,6,37,4,7,31,24,3,4,12,16,3,"-","-","-",30,29,31,31,31,31,0,31,7,26,9,1,0,28,10,31,27]
[355,null,"（南箕輪村）",4099,2327,887,542,314,31,42.84,274,42,6,37,4,7,31,24,3,4,12,16,3,"-","-","-",30,29,31,31,31,31,0,31,7,26,9,1,0,28,10,31,27]
[356,"中川村",null,7705,5869,767,423,195,149,95.19,464,164,67,119,18,8,24,2,21,1,"-",4,6,11,3,"-",24,24,24,24,24,24,0,24,24,24,12,10,10,24,24,24,24]
[357,null,"南向村",6595,5588,376,210,99,67,44.17,248,83,47,49,4,1,13,"-",13,"-","-",1,3,7,2,"-",13,13,13,13,13,13,0,13,13,13,4,8,8,13,13,13,13]
[358,null,"片桐村",1110,281,391,213,96,82,51.02,216,81,20,70,14,7,11,2,8,1,"-",3,3,4,1,"-",11,11,11,11,11,11,0,11,11,11,8,2,2,11,11,11,11]
[359,"宮田村",null,5450,3980,498,409,49,40,8.39,102,35,9,34,3,2,9,9,"-","-",3,6,"-","-","-","-",7,9,9,9,9,9,0,9,9,7,5,0,0,9,9,9,9]
[360,null,"（宮田村）",5450,3980,498,409,49,40,8.39,102,35,9,34,3,2,9,9,"-","-",3,6,"-","-","-","-",7,9,9,9,9,9,0,9,9,7,5,0,0,9,9,9,9]
[361,"松川町",null,7279,4747,1056,239,270,547,165.6,808,448,80,434,96,18,47,"-",17,30,4,17,13,9,3,1,17,46,47,47,47,44,0,47,14,43,3,9,2,47,4,47,25]
[362,null,"大島村",2556,1446,465,116,79,270,52.83,419,258,40,253,62,8,25,"-",12,13,2,12,5,3,2,1,10,24,25,25,25,22,0,25,0,21,0,4,0,25,0,25,3]
[363,null,"上片桐村",1831,1188,305,53,93,159,50.94,221,112,21,108,14,5,10,"-","-",10,1,3,4,2,"-","-",4,10,10,10,10,10,0,10,8,10,0,2,1,10,1,10,10]
[364,null,"生田村",2731,2098,221,67,84,70,59,116,39,9,34,4,1,10,"-",5,5,1,1,4,4,"-","-",2,10,10,10,10,10,0,10,5,10,2,3,1,10,3,10,10]
[365,null,"山吹村２－２",161,15,65,3,14,48,2.83,52,39,10,39,16,4,2,"-","-",2,"-",1,"-","-",1,"-",1,2,2,2,2,2,0,2,1,2,1,0,0,2,0,2,2]
[366,"高森町",null,4536,2557,945,286,285,374,79.56,787,566,475,267,19,10,62,"-",29,33,6,19,17,20,"-","-",53,60,52,62,62,62,0,61,18,27,11,8,4,62,62,61,60]
[367,null,"市田村",3120,1773,600,202,201,197,52.22,501,364,317,173,14,8,45,"-",24,21,6,17,11,11,"-","-",43,43,35,45,45,45,0,44,8,11,7,5,2,45,45,44,43]
[368,null,"山吹村２－１",1416,784,345,84,84,177,27.34,286,202,158,94,5,2,17,"-",5,12,"-",2,6,9,"-","-",10,17,17,17,17,17,0,17,10,16,4,3,2,17,17,17,17]
[369,"阿南町",null,12307,10910,509,249,209,51,150.98,230,63,9,55,1,13,43,4,29,10,2,12,12,11,6,"-",23,34,37,43,42,33,0,43,20,43,10,13,6,43,33,43,34]
[370,null,"大下条村",2270,1742,167,67,71,29,63.44,43,12,1,7,"-",5,15,1,11,3,2,4,4,3,2,"-",7,15,11,15,14,13,0,15,7,15,5,6,4,15,14,15,15]
[371,null,"旦開村",1998,1755,124,83,33,8,28.77,98,31,4,31,1,2,8,3,5,"-","-",2,3,2,1,"-",5,8,8,8,8,0,0,8,4,8,0,3,0,8,8,8,8]
[372,null,"和合村",6021,5823,48,12,36,0,11.06,15,4,1,4,"-",2,8,"-",2,6,"-",4,4,"-","-","-",0,0,8,8,8,8,0,8,0,8,0,0,0,8,0,8,0]
[373,null,"富草村",2018,1590,170,87,69,14,47.71,74,16,3,13,"-",4,12,"-",11,1,"-",2,1,6,3,"-",11,11,10,12,12,12,0,12,9,12,5,4,2,12,11,12,11]
[374,"阿智村",null,21443,19214,459,216,195,48,114.11,305,73,8,71,8,7,55,3,34,18,4,19,11,16,5,"-",3,54,52,55,55,55,0,55,4,54,18,4,3,55,55,53,53]
[375,null,"会地村",1490,1160,100,57,32,11,18.23,67,16,1,16,"-","-",12,2,10,"-",1,8,1,1,1,"-",0,12,11,12,12,12,0,12,0,12,7,1,1,12,12,12,12]
[376,null,"伍和村",1829,1143,224,108,82,34,40.12,170,41,3,40,6,3,13,"-",12,1,"-",1,4,6,2,"-",1,13,13,13,13,13,0,13,0,13,2,3,2,13,13,13,13]
[377,null,"智里村",7986,7351,82,43,36,3,26.52,44,10,2,10,1,"-",12,1,10,1,"-",3,2,5,2,"-",0,12,12,12,12,12,0,12,0,12,4,0,0,12,12,12,12]
[378,null,"浪合村",5726,5326,27,6,21,0,9.47,18,5,1,4,1,4,9,"-",2,7,1,4,2,2,"-","-",2,9,9,9,9,9,0,9,2,9,5,0,0,9,9,9,9]
[379,null,"清内路村",4412,4234,26,2,24,0,19.77,6,1,1,1,"-","-",9,"-","-",9,2,3,2,2,"-","-",0,8,7,9,9,9,0,9,2,8,0,0,0,9,9,7,7]
[380,"平谷村",null,7737,7491,21,8,13,"-",7.37,15,8,2,8,"-","-",10,"-",6,4,3,3,4,"-","-","-",0,9,0,9,9,9,1,10,2,10,0,0,0,10,10,9,9]
[381,null,"（平谷村）",7737,7491,21,8,13,"-",7.37,15,8,2,8,"-","-",10,"-",6,4,3,3,4,"-","-","-",0,9,0,9,9,9,1,10,2,10,0,0,0,10,10,9,9]
[382,"根羽村",null,8997,8543,134,55,79,"-",34.74,78,30,1,27,"-",4,17,"-",13,4,"-",2,6,5,4,"-",5,17,17,17,17,1,0,17,16,17,1,0,0,17,17,17,17]
[383,null,"（根羽村）",8997,8543,134,55,79,"-",34.74,78,30,1,27,"-",4,17,"-",13,4,"-",2,6,5,4,"-",5,17,17,17,17,1,0,17,16,17,1,0,0,17,17,17,17]
[384,"下條村",null,3812,2656,423,161,138,124,90.14,304,90,11,83,5,10,21,"-",16,5,1,1,6,12,1,"-",18,21,20,21,21,21,0,21,19,21,16,3,3,21,21,21,21]
[385,null,"（下條村）",3812,2656,423,161,138,124,90.14,304,90,11,83,5,10,21,"-",16,5,1,1,6,12,1,"-",18,21,20,21,21,21,0,21,19,21,16,3,3,21,21,21,21]
[386,"売木村",null,4343,3888,111,69,35,7,17,67,29,2,28,"-",6,5,2,3,"-","-",1,4,"-","-","-",5,5,3,5,5,4,0,5,5,5,0,0,0,5,5,5,5]
[387,null,"（売木村）",4343,3888,111,69,35,7,17,67,29,2,28,"-",6,5,2,3,"-","-",1,4,"-","-","-",5,5,3,5,5,4,0,5,5,5,0,0,0,5,5,5,5]
[388,"天龍村",null,10944,10239,99,25,36,38,17.23,50,10,1,10,1,"-",30,1,4,25,7,7,7,6,"-",3,10,23,20,26,23,7,4,26,2,29,0,11,0,29,11,27,22]
[389,null,"平岡村（天龍村）",5069,4664,46,4,20,22,7.63,32,8,1,8,1,"-",18,"-",1,17,6,5,4,2,"-",1,1,12,9,15,13,7,3,14,1,17,0,0,0,17,10,15,11]
[390,null,"神原村",5875,5575,53,21,16,16,9.6,18,2,"-",2,"-","-",12,1,3,8,1,2,3,4,"-",2,9,11,11,11,10,0,1,12,1,12,0,11,0,12,1,12,11]
[391,"泰阜村",null,6459,5729,199,66,112,21,60.13,75,17,2,14,"-",3,21,"-",11,10,3,3,8,5,2,"-",20,20,20,20,20,20,1,20,16,21,0,5,0,21,0,20,20]
[392,null,"（泰阜村）",6459,5729,199,66,112,21,60.13,75,17,2,14,"-",3,21,"-",11,10,3,3,8,5,2,"-",20,20,20,20,20,20,1,20,16,21,0,5,0,21,0,20,20]
[393,"喬木村",null,6661,5394,472,163,163,146,104.05,327,110,15,102,21,7,54,"-",35,19,3,17,12,16,6,"-",54,54,54,54,54,54,0,54,54,48,48,11,7,54,53,54,54]
[394,null,"（喬木村）",6661,5394,472,163,163,146,104.05,327,110,15,102,21,7,54,"-",35,19,3,17,12,16,6,"-",54,54,54,54,54,54,0,54,54,48,48,11,7,54,53,54,54]
[395,"豊丘村",null,7679,6234,588,180,134,274,117.52,458,114,21,102,14,15,47,1,20,26,2,14,10,14,4,3,45,45,44,45,45,45,2,46,45,42,35,8,8,46,40,46,45]
[396,null,"神稲村",5593,4670,360,104,80,176,83.26,278,67,14,59,11,11,28,"-",12,16,1,9,6,9,3,"-",27,27,26,27,27,27,1,27,27,26,20,7,7,27,27,27,27]
[397,null,"河野村",2086,1564,228,76,54,98,34.26,180,47,7,43,3,4,19,1,8,10,1,5,4,5,1,3,18,18,18,18,18,18,1,19,18,16,15,1,1,19,13,19,18]
[398,"大鹿村",null,24828,22367,206,60,130,16,38.91,95,26,5,25,6,2,24,"-",9,15,2,6,3,10,2,1,19,19,11,23,22,20,1,22,6,16,1,2,1,20,12,21,19]
[399,null,"（大鹿村）",24828,22367,206,60,130,16,38.91,95,26,5,25,6,2,24,"-",9,15,2,6,3,10,2,1,19,19,11,23,22,20,1,22,6,16,1,2,1,20,12,21,19]
[400,"上松町",null,16842,15217,173,93,73,7,32.09,122,11,1,11,1,"-",17,2,13,2,6,6,2,"-",3,"-",17,16,10,17,17,2,0,17,15,17,7,0,0,17,6,16,13]
[401,null,"（上松町）",16842,15217,173,93,73,7,32.09,122,11,1,11,1,"-",17,2,13,2,6,6,2,"-",3,"-",17,16,10,17,17,2,0,17,15,17,7,0,0,17,6,16,13]
[402,"南木曽町",null,21593,19289,292,187,89,16,27.74,182,43,1,40,"-",7,35,10,19,6,11,7,5,8,3,1,8,31,16,35,34,32,0,35,29,35,4,4,0,35,12,35,30]
[403,null,"読書村",11148,9846,122,86,33,3,13.06,83,23,1,23,"-",2,13,5,8,"-",4,1,3,3,1,1,2,13,4,13,13,12,0,13,13,13,1,4,0,13,1,13,13]
[404,null,"吾妻村",7702,6935,68,32,35,1,10.85,24,9,"-",7,"-",4,16,3,7,6,7,6,"-",2,1,"-",6,12,9,16,16,15,0,16,10,16,0,0,0,16,10,16,11]
[405,null,"田立村",2743,2508,102,69,21,12,3.83,75,11,"-",10,"-",1,6,2,4,"-","-","-",2,3,1,"-",0,6,3,6,5,5,0,6,6,6,3,0,0,6,1,6,6]
[406,"木祖村",null,14050,12582,214,93,120,1,69.76,63,11,"-",11,"-","-",19,2,9,8,5,7,3,4,"-","-",10,13,17,19,19,19,0,19,8,18,17,6,4,18,14,19,13]
[407,null,"（木祖村）",14050,12582,214,93,120,1,69.76,63,11,"-",11,"-","-",19,2,9,8,5,7,3,4,"-","-",10,13,17,19,19,19,0,19,8,18,17,6,4,18,14,19,13]
[408,"王滝村",null,31082,27566,43,30,12,1,13.6,14,2,"-",2,"-","-",9,4,2,3,4,3,2,"-","-","-",0,3,7,2,9,0,0,9,3,9,0,1,0,8,0,9,0]
[409,null,"（王滝村）",31082,27566,43,30,12,1,13.6,14,2,"-",2,"-","-",9,4,2,3,4,3,2,"-","-","-",0,3,7,2,9,0,0,9,3,9,0,1,0,8,0,9,0]
[410,"大桑村",null,23447,20329,162,92,65,5,32.84,128,19,"-",19,"-","-",12,1,8,3,3,5,3,1,"-","-",6,11,5,11,12,9,0,12,6,12,2,2,0,12,0,11,7]
[411,null,"（大桑村）",23447,20329,162,92,65,5,32.84,128,19,"-",19,"-","-",12,1,8,3,3,5,3,1,"-","-",6,11,5,11,12,9,0,12,6,12,2,2,0,12,0,11,7]
[412,"木曽町",null,47603,41872,1159,499,645,15,264.41,327,103,8,100,2,3,73,16,40,17,10,28,17,16,2,"-",16,62,62,72,70,50,1,72,39,71,23,14,7,73,16,71,54]
[413,null,"福島町",4180,3181,78,44,34,0,22.73,29,7,"-",7,"-","-",13,4,7,2,5,4,1,2,1,"-",7,9,11,12,12,12,1,13,8,12,9,3,3,13,3,12,9]
[414,null,"新開村",10850,10233,129,92,37,0,39.07,74,26,"-",26,"-",1,11,7,3,1,3,3,3,2,"-","-",5,10,10,11,11,10,0,11,10,11,8,0,0,11,8,11,10]
[415,null,"日義村",5653,5021,149,88,60,1,30.92,65,25,2,24,"-",1,15,4,7,4,1,9,3,1,1,"-",1,14,14,15,15,8,0,14,1,14,2,2,2,15,0,14,13]
[416,null,"開田村",14903,13125,509,180,327,2,88.5,103,29,4,28,2,"-",16,"-",11,5,"-",6,6,4,"-","-",3,13,16,16,16,16,0,16,4,16,0,2,0,16,1,16,7]
[417,null,"三岳村",12017,10312,294,95,187,12,83.19,56,16,2,15,"-",1,18,1,12,5,1,6,4,7,"-","-",0,16,11,18,16,4,0,18,16,18,4,7,2,18,4,18,15]
[418,"麻績村",null,3438,2428,382,218,129,35,98.03,218,34,3,32,"-",4,33,10,20,3,"-",4,4,16,8,1,21,32,32,32,29,30,1,33,18,33,19,23,19,33,16,33,32]
[419,null,"麻績村（旧）",2357,1694,228,138,80,10,59.3,143,16,2,14,"-",2,17,6,10,1,"-",4,2,6,5,"-",6,17,17,17,14,15,0,17,2,17,11,8,5,17,0,17,17]
[420,null,"日向村",1081,734,154,80,49,25,38.73,75,18,1,18,"-",2,16,4,10,2,"-","-",2,10,3,1,15,15,15,15,15,15,1,16,16,16,8,15,14,16,16,16,15]
[421,"生坂村",null,3905,3166,237,98,99,40,48.64,113,31,5,29,4,2,35,1,15,19,10,4,11,6,3,1,20,25,28,29,28,23,6,31,23,35,3,0,0,31,14,20,18]
[422,null,"生坂村（旧）",2560,2089,119,57,50,12,23.38,74,20,4,19,2,1,16,"-",7,9,5,3,5,1,1,1,12,11,12,12,12,12,4,12,8,16,2,0,0,12,4,9,7]
[423,null,"陸郷村３－２",455,358,63,22,19,22,11.99,26,9,1,8,2,1,7,1,2,4,1,1,1,2,2,"-",4,6,6,7,7,4,0,7,5,7,0,0,0,7,6,4,4]
[424,null,"広津村３－１",890,719,55,19,30,6,13.27,13,2,"-",2,"-","-",12,"-",6,6,4,"-",5,3,"-","-",4,8,10,10,9,7,2,12,10,12,1,0,0,12,4,7,7]
[425,"山形村",null,2498,1286,796,193,533,70,46.55,388,106,5,102,13,7,7,"-",2,5,"-",5,2,"-","-","-",7,7,7,7,7,5,0,7,7,3,3,4,4,7,7,7,7]
[426,null,"（山形村）",2498,1286,796,193,533,70,46.55,388,106,5,102,13,7,7,"-",2,5,"-",5,2,"-","-","-",7,7,7,7,7,5,0,7,7,3,3,4,4,7,7,7,7]
[427,"朝日村",null,7062,6136,557,108,435,14,40.74,218,9,"-",8,"-",1,22,"-",12,10,"-",9,13,"-","-","-",22,22,21,22,22,14,0,22,22,15,14,7,6,22,21,22,22]
[428,null,"（朝日村）",7062,6136,557,108,435,14,40.74,218,9,"-",8,"-",1,22,"-",12,10,"-",9,13,"-","-","-",22,22,21,22,22,14,0,22,22,15,14,7,6,22,21,22,22]
[429,"筑北村",null,9947,8405,650,340,297,13,140.45,342,72,3,69,"-",1,66,9,40,17,6,3,14,22,19,2,36,60,60,61,57,59,5,66,34,66,31,24,15,62,31,62,57]
[430,null,"本城村",3227,2673,204,110,91,3,57.58,75,10,1,9,"-","-",20,5,11,4,2,2,4,8,3,1,7,18,19,19,19,17,1,20,10,20,5,9,4,19,13,19,16]
[431,null,"坂北村",2978,2419,217,103,107,7,42.91,131,27,"-",27,"-","-",26,1,18,7,4,1,5,9,6,1,21,22,21,22,22,22,4,26,23,26,7,12,9,23,17,23,21]
[432,null,"坂井村",3742,3313,229,127,99,3,39.96,136,35,2,33,"-",1,20,3,11,6,"-","-",5,5,10,"-",8,20,20,20,16,20,0,20,1,20,19,3,2,20,1,20,20]
[433,"池田町",null,4016,2278,881,706,150,25,56.08,404,62,5,60,2,7,58,24,6,28,18,22,12,5,"-",1,30,30,40,45,45,32,10,58,30,42,9,0,0,24,23,36,24]
[434,null,"池田町（旧）",710,269,219,191,28,0,11.06,91,10,1,10,"-","-",11,6,3,2,3,6,1,1,"-","-",7,6,7,8,8,9,1,11,2,3,1,0,0,4,3,10,3]
[435,null,"会染村",1401,478,503,424,70,9,29.82,250,42,1,40,"-",4,22,17,2,3,1,10,8,3,"-","-",19,20,21,21,21,21,1,22,20,14,6,0,0,18,18,22,19]
[436,null,"七貴村２－２",316,178,116,91,9,16,8.83,58,7,1,7,"-",1,2,1,1,"-","-",2,"-","-","-","-",2,2,2,2,2,2,0,2,2,2,2,0,0,2,2,2,2]
[437,null,"陸郷村３－３",451,349,10,"-",10,0,"x",1,"x","x","x","x","x",6,"-","-",6,4,1,1,"-","-","-",0,0,2,4,5,0,1,6,4,6,0,0,0,0,0,0,0]
[438,null,"広津村３－２",1138,1004,33,0,33,0,"x",4,"x","x","x","x","x",17,"-","-",17,10,3,2,1,"-",1,2,2,8,10,9,0,7,17,2,17,0,0,0,0,0,2,0]
[439,"松川村",null,4707,2647,1158,1053,62,43,115.31,468,125,14,116,8,20,11,11,"-","-",1,5,1,4,"-","-",8,11,8,10,11,10,0,11,11,5,3,0,0,8,8,11,11]
[440,null,"（松川村）",4707,2647,1158,1053,62,43,115.31,468,125,14,116,8,20,11,11,"-","-",1,5,1,4,"-","-",8,11,8,10,11,10,0,11,11,5,3,0,0,8,8,11,11]
[441,"白馬村",null,18936,13259,766,664,96,6,96.2,251,45,5,29,4,30,26,20,3,3,2,11,10,3,"-","-",6,24,23,23,24,14,2,24,3,25,3,3,1,24,11,24,24]
[442,null,"神城村",5030,2798,391,335,52,4,28.77,108,16,1,12,1,11,7,6,1,"-","-",1,6,"-","-","-",4,7,7,7,7,5,0,7,1,7,1,1,0,7,6,7,7]
[443,null,"北城村",13906,10461,375,329,44,2,67.43,143,29,4,17,3,19,19,14,2,3,2,10,4,3,"-","-",2,17,16,16,17,9,2,17,2,18,2,2,1,17,5,17,17]
[444,"小谷村",null,26791,23079,433,354,75,4,106.29,152,25,1,16,"-",14,49,28,12,9,11,13,11,10,3,1,11,37,40,41,40,9,8,44,34,49,3,1,1,43,8,42,26]
[445,null,"南小谷村",10094,7962,276,254,18,4,61.59,115,20,1,11,"-",14,19,15,2,2,3,5,3,6,2,"-",6,15,16,16,16,4,3,18,14,19,2,1,1,17,5,17,9]
[446,null,"中土村",8437,7193,78,60,18,0,20.93,27,3,"-",3,"-","-",20,10,6,4,6,3,7,2,1,1,3,15,16,17,16,3,3,18,13,20,1,0,0,18,3,17,10]
[447,null,"北小谷村",8260,7924,79,40,39,"-",23.77,10,2,"-",2,"-","-",10,3,4,3,2,5,1,2,"-","-",2,7,8,8,8,2,2,8,7,10,0,0,0,8,0,8,7]
[448,"坂城町",null,5364,3701,539,194,67,278,129.97,305,68,11,66,2,2,24,3,10,11,7,12,1,3,"-",1,18,20,23,23,23,21,1,24,0,18,6,7,4,24,19,22,18]
[449,null,"坂城町（旧）",1982,1417,201,28,33,140,49.42,153,31,7,30,1,2,14,1,3,10,6,5,"-",2,"-",1,8,10,13,13,13,13,1,14,0,9,1,4,2,14,11,12,9]
[450,null,"中之条村",625,381,63,19,7,37,16.19,17,5,"-",5,"-","-",1,"-",1,"-","-",1,"-","-","-","-",1,1,1,1,1,1,0,1,0,1,0,0,0,1,0,1,1]
[451,null,"南条村",1320,859,130,60,18,52,39.34,58,16,1,15,"-","-",5,1,3,1,1,4,"-","-","-","-",5,5,5,5,5,4,0,5,0,4,4,1,1,5,5,5,5]
[452,null,"村上村",1437,1044,145,87,9,49,25.02,77,16,3,16,1,"-",4,1,3,"-","-",2,1,1,"-","-",4,4,4,4,4,3,0,4,0,4,1,2,1,4,3,4,3]
[453,"小布施町",null,1912,261,804,159,103,542,43.07,648,213,30,211,16,5,18,"-",4,14,3,3,2,10,"-","-",8,14,16,18,18,17,0,18,0,3,1,0,0,11,9,12,12]
[454,null,"小布施村",1053,8,454,25,55,374,23.64,403,151,21,150,13,3,11,"-","-",11,3,1,1,6,"-","-",5,8,10,11,11,10,0,11,0,2,0,0,0,7,6,6,6]
[455,null,"都住村",859,253,350,134,48,168,19.43,245,62,9,61,3,2,7,"-",4,3,"-",2,1,4,"-","-",3,6,6,7,7,7,0,7,0,1,1,0,0,4,3,6,6]
[456,"高山村",null,9856,8550,637,139,192,306,113.67,523,141,22,129,2,5,27,"-",7,20,1,5,4,9,7,1,26,27,26,27,27,27,0,27,27,27,18,3,2,27,20,27,26]
[457,null,"高井村",6220,5295,435,82,114,239,77.38,346,90,13,82,2,3,11,"-","-",11,"-",4,2,4,1,"-",11,11,11,11,11,11,0,11,11,11,8,1,0,11,8,11,11]
[458,null,"山田村",3636,3255,202,57,78,67,36.29,177,51,9,47,"-",2,16,"-",7,9,1,1,2,5,6,1,15,16,15,16,16,16,0,16,16,16,10,2,2,16,12,16,15]
[459,"山ノ内町",null,26590,23594,1035,163,140,732,130.81,627,160,39,142,12,11,24,1,6,17,7,9,7,1,"-","-",15,21,24,24,24,19,0,22,15,22,17,6,4,23,20,22,21]
[460,null,"平穏村",17109,15737,209,33,14,162,15.19,148,42,9,39,"-",3,7,1,"-",6,5,2,"-","-","-","-",5,4,7,7,7,7,0,5,4,6,5,2,1,6,6,5,4]
[461,null,"穂波村",3068,2404,317,33,6,278,34.09,228,60,13,53,7,4,5,"-","-",5,1,"-",3,1,"-","-",4,5,5,5,5,5,0,5,5,4,4,2,2,5,4,5,5]
[462,null,"夜間瀬村",6413,5453,509,97,120,292,81.53,251,58,17,50,5,4,12,"-",6,6,1,7,4,"-","-","-",6,12,12,12,12,7,0,12,6,12,8,2,1,12,10,12,12]
[463,"木島平村",null,9932,8221,891,556,313,22,71.43,356,96,6,89,3,11,26,10,12,4,"-",3,9,13,1,"-",23,26,26,26,26,26,0,26,11,26,22,1,0,26,12,26,26]
[464,null,"往郷村",4784,4323,318,229,79,10,21.75,144,36,4,32,"-",3,13,7,4,2,"-",2,6,4,1,"-",11,13,13,13,13,13,0,13,6,13,10,0,0,13,5,13,13]
[465,null,"穂高村",767,352,240,139,98,3,22.15,96,21,1,20,"-","-",6,1,5,"-","-",1,1,4,"-","-",6,6,6,6,6,6,0,6,2,6,6,0,0,6,4,6,6]
[466,null,"上木島村",4381,3546,333,188,136,9,27.53,116,39,1,37,3,8,7,2,3,2,"-","-",2,5,"-","-",6,7,7,7,7,7,0,7,3,7,6,1,0,7,3,7,7]
[467,"野沢温泉村",null,5796,4894,340,241,99,0,49.33,187,35,"-",31,"-",5,9,4,5,"-","-",1,1,4,3,"-",1,9,9,9,9,9,0,9,9,9,4,2,2,9,9,9,9]
[468,null,"豊郷村",2636,2223,163,109,54,"-",21.98,88,11,"-",7,"-",5,2,"-",2,"-","-",1,"-",1,"-","-",0,2,2,2,2,2,0,2,2,2,1,1,1,2,2,2,2]
[469,null,"市川村",2725,2295,140,116,24,"-",21.5,65,17,"-",17,"-","-",5,4,1,"-","-","-","-",3,2,"-",1,5,5,5,5,5,0,5,5,5,2,1,1,5,5,5,5]
[470,null,"瑞穂村２－２",435,376,37,16,21,0,5.85,34,7,"-",7,"-","-",2,"-",2,"-","-","-",1,"-",1,"-",0,2,2,2,2,2,0,2,2,2,1,0,0,2,2,2,2]
[471,"信濃町",null,14930,10813,1499,953,521,25,188.91,448,101,6,97,2,8,67,27,31,9,10,20,17,17,2,1,52,64,55,62,66,59,1,67,18,62,8,26,8,63,34,67,60]
[472,null,"柏原村",3476,2557,360,222,131,7,48.78,116,29,2,27,"-",4,19,5,10,4,3,8,5,3,"-","-",18,18,19,19,19,19,0,19,12,16,3,4,1,18,16,19,17]
[473,null,"信濃尻村",5964,4656,156,106,47,3,"x",52,16,3,14,1,2,15,5,7,3,5,4,4,2,"-","-",12,13,12,14,14,13,1,15,1,15,1,7,0,15,2,15,10]
[474,null,"古間村",1955,1209,285,183,92,10,41.6,126,27,1,27,1,1,17,7,10,"-",2,6,2,6,"-",1,9,17,12,15,17,13,0,17,4,15,1,9,3,15,9,17,17]
[475,null,"富士里村",3510,2376,694,439,250,5,62.34,151,29,"-",29,"-",1,15,9,4,2,"-",2,5,6,2,"-",13,15,11,13,15,13,0,15,0,15,3,5,3,14,6,15,15]
[476,null,"三水村２－２",25,15,4,3,1,"-","x",3,"-","-","-","-","-",1,1,"-","-","-","-",1,"-","-","-",0,1,1,1,1,1,0,1,1,1,0,1,1,1,1,1,1]
[477,"小川村",null,5811,4669,353,82,243,28,115.92,122,32,9,32,1,2,47,1,15,31,1,11,10,19,6,"-",35,46,39,46,45,45,0,47,24,47,11,3,2,47,38,43,29]
[478,null,"北小川村",3769,3135,145,24,102,19,29.31,46,14,7,14,1,2,17,"-",4,13,1,2,4,8,2,"-",17,16,17,16,17,17,0,17,6,17,5,1,1,17,14,14,7]
[479,null,"南小川村",2042,1534,208,58,141,9,86.61,76,18,2,18,"-","-",30,1,11,18,"-",9,6,11,4,"-",18,30,22,30,28,28,0,30,18,30,6,2,1,30,24,29,22]
[480,"飯綱町",null,7500,4079,1764,756,329,679,362.46,981,255,30,249,9,13,48,8,29,11,2,4,11,18,13,"-",35,48,46,47,47,45,0,48,41,45,20,15,10,48,21,47,47]
[481,null,"高岡村",2456,1718,400,162,160,78,49.1,195,61,6,60,3,5,11,1,9,1,"-",1,"-",7,3,"-",6,11,11,11,10,10,0,11,10,10,3,6,4,11,3,10,10]
[482,null,"中郷村",1509,603,398,158,57,183,97.67,231,66,6,65,2,3,9,1,4,4,2,1,2,3,1,"-",5,9,8,9,9,9,0,9,3,9,2,4,3,9,3,9,9]
[483,null,"三水村",3535,1758,966,436,112,418,215.69,555,128,18,124,4,5,28,6,16,6,"-",2,9,8,9,"-",24,28,27,27,28,26,0,28,28,26,15,5,3,28,15,28,28]
[484,"栄村",null,27166,23894,645,357,278,10,69.25,249,41,3,40,"-",1,31,15,11,5,"-",4,7,13,5,2,17,29,27,30,28,30,1,31,29,31,1,17,12,31,3,31,27]
[485,null,"水内村（栄村）",2847,2280,142,130,9,3,15.58,72,13,1,13,"-","-",5,5,"-","-","-",1,3,1,"-","-",5,5,5,5,5,5,0,5,5,5,0,4,4,5,0,5,5]
[486,null,"堺村",24319,21614,503,227,269,7,53.67,177,28,2,27,"-",1,26,10,11,5,"-",3,4,12,5,2,12,24,22,25,23,25,1,26,24,26,1,13,8,26,3,26,22]
[487]
[488]
[489]
[490]
[491]
[492]
[493]
[494]
[495]
[496]
[497]
[498]
[499]
[500]

{"sheet":"指定地域","index":4,"n_rows":501,"n_cols":8,"rows_kept":501,"hidden":true}
[null,"KCITY_NAME","森林地域_森林地域","農業地域_農業地域","都市地域_市街化区域","都市地域_市街化調整","商業関連","工業関連"]
[1,"長野県",{"v":328005.7,"d":"328006"},{"v":492501.07,"d":"492501"},{"v":12628.96,"d":"12629"},{"v":54998.89,"d":"54999"},{"v":2343.58,"d":"2344"},{"v":7321.13,"d":"7321"}]
[2,"長野市",{"v":11167.34,"d":"11167"},{"v":45925.8,"d":"45926"},{"v":6186.39,"d":"6186"},{"v":14207.38,"d":"14207"},{"v":443.33,"d":"443"},{"v":1131.1000000000001,"d":"1131"}]
[3,"長野市（旧）",0,{"v":427.1,"d":"427"},{"v":2404.3,"d":"2404"},{"v":571.07,"d":"571"},{"v":363.35,"d":"363"},{"v":494.78000000000003,"d":"495"}]
[4,"芋井村",{"v":108.17,"d":"108"},{"v":2645.88,"d":"2646"},0,{"v":5.52,"d":"6"},0,0]
[5,"浅川村",{"v":2.75,"d":"3"},{"v":1863.35,"d":"1863"},{"v":78.18,"d":"78"},{"v":466.62,"d":"467"},0,0]
[6,"若槻村",{"v":49.86,"d":"50"},{"v":727.36,"d":"727"},{"v":332.8,"d":"333"},{"v":829.49,"d":"829"},0,{"v":18.310000000000002,"d":"18"}]
[7,"古里村",{"v":9.69,"d":"10"},{"v":277.82,"d":"278"},{"v":235.6,"d":"236"},{"v":277.82,"d":"278"},0,{"v":33.06,"d":"33"}]
[8,"長沼村",0,{"v":688.8,"d":"689"},{"v":11.59,"d":"12"},{"v":688.79,"d":"689"},0,{"v":11.93,"d":"12"}]
[9,"柳原村（長野市）",0,{"v":284.25,"d":"284"},{"v":115.94,"d":"116"},{"v":284.25,"d":"284"},0,{"v":33.47,"d":"33"}]
[10,"朝陽村",0,{"v":360.16,"d":"360"},{"v":253.62,"d":"254"},{"v":360.16,"d":"360"},0,{"v":57.480000000000004,"d":"57"}]
[11,"大豆島村",0,{"v":253.5,"d":"254"},{"v":251.45,"d":"251"},{"v":253.5,"d":"254"},0,{"v":102.91000000000001,"d":"103"}]
[12,"安茂里村",0,{"v":427.5,"d":"428"},{"v":394.96,"d":"395"},{"v":840.68,"d":"841"},0,{"v":36.18,"d":"36"}]
[13,"小田切村",{"v":233.64,"d":"234"},{"v":1451.25,"d":"1451"},{"v":0.13,"d":"0"},{"v":4.09,"d":"4"},0,0]
[14,"篠ノ井町",{"v":7.13,"d":"7"},{"v":257.09,"d":"257"},{"v":404.27,"d":"404"},{"v":257.04,"d":"257"},{"v":29.02,"d":"29"},{"v":81.59,"d":"82"}]
[15,"川柳村",{"v":63.18,"d":"63"},{"v":330.07,"d":"330"},{"v":62.94,"d":"63"},{"v":329.93,"d":"330"},0,{"v":3.41,"d":"3"}]
[16,"塩崎村",0,{"v":751.21,"d":"751"},{"v":76.22,"d":"76"},{"v":704.54,"d":"705"},0,{"v":1.68,"d":"2"}]
[17,"東福寺村",0,{"v":378.96,"d":"379"},{"v":39.7,"d":"40"},{"v":378.96,"d":"379"},0,{"v":10.25,"d":"10"}]
[18,"信里村",{"v":144.8,"d":"145"},{"v":1235.64,"d":"1236"},0,{"v":25.87,"d":"26"},0,0]
[19,"西寺尾村２－１",0,{"v":164.69,"d":"165"},{"v":53.34,"d":"53"},{"v":164.69,"d":"165"},0,{"v":0.46,"d":"0"}]
[20,"共和村",0,{"v":653.12,"d":"653"},{"v":37.86,"d":"38"},{"v":885.11,"d":"885"},0,{"v":15.629999999999999,"d":"16"}]
[21,"川中島村",0,{"v":327.05,"d":"327"},125,{"v":336.7,"d":"337"},{"v":1.9,"d":"2"},{"v":0.01,"d":"0"}]
[22,"中津村（長野市）",0,{"v":158.29,"d":"158"},{"v":152.45,"d":"152"},{"v":158.29,"d":"158"},0,{"v":34.06,"d":"34"}]
[23,"御厨村",0,{"v":203.28,"d":"203"},{"v":50.54,"d":"51"},{"v":203.28,"d":"203"},0,{"v":22.98,"d":"23"}]
[24,"信田村",{"v":48.09,"d":"48"},{"v":1622.3,"d":"1622"},0,{"v":12.67,"d":"13"},0,0]
[25,"更府村",{"v":22.85,"d":"23"},{"v":1147.11,"d":"1147"},0,0,0,0]
[26,"青木島村",0,{"v":286.55,"d":"287"},{"v":285.68,"d":"286"},{"v":286.55,"d":"287"},{"v":14.21,"d":"14"},{"v":42.98,"d":"43"}]
[27,"稲里村",0,{"v":195.89,"d":"196"},{"v":217.16,"d":"217"},{"v":195.9,"d":"196"},0,{"v":65.34,"d":"65"}]
[28,"小島田村",0,{"v":271.66,"d":"272"},{"v":0.23,"d":"0"},{"v":271.66,"d":"272"},0,{"v":0.8,"d":"1"}]
[29,"真島村",0,{"v":440.52,"d":"441"},{"v":26.78,"d":"27"},{"v":440.52,"d":"441"},0,{"v":0.36,"d":"0"}]
[30,"松代町",{"v":0.45,"d":"0"},{"v":3.55,"d":"4"},{"v":145.57,"d":"146"},4,{"v":24.67,"d":"25"},{"v":0.62,"d":"1"}]
[31,"東条村",{"v":473.51,"d":"474"},{"v":452.75,"d":"453"},{"v":29.23,"d":"29"},{"v":490.8,"d":"491"},0,0]
[32,"清野村",{"v":232.69,"d":"233"},{"v":363.86,"d":"364"},{"v":5.71,"d":"6"},{"v":455.04,"d":"455"},0,0]
[33,"豊栄村",{"v":1776.5,"d":"1777"},{"v":726.21,"d":"726"},0,{"v":10.66,"d":"11"},0,0]
[34,"寺尾村",{"v":406.69,"d":"407"},{"v":709.93,"d":"710"},{"v":31.78,"d":"32"},{"v":885.94,"d":"886"},0,{"v":4.62,"d":"5"}]
[35,"西寺尾村２－２",0,{"v":84.07,"d":"84"},{"v":13.78,"d":"14"},{"v":84.07,"d":"84"},0,{"v":9.64,"d":"10"}]
[36,"西条村",{"v":1018.58,"d":"1019"},{"v":639.82,"d":"640"},{"v":23.2,"d":"23"},{"v":182.05,"d":"182"},0,0]
[37,"保科村",{"v":2935.87,"d":"2936"},{"v":931.35,"d":"931"},0,{"v":323.7,"d":"324"},0,0]
[38,"川田村",{"v":160.29,"d":"160"},{"v":606.91,"d":"607"},{"v":0.16,"d":"0"},{"v":765.56,"d":"766"},0,0]
[39,"綿内村",{"v":666.99,"d":"667"},{"v":833.2,"d":"833"},{"v":98.94,"d":"99"},{"v":726.8,"d":"727"},{"v":2.65,"d":"3"},0]
[40,"七二会村",{"v":384.22,"d":"384"},{"v":1410.76,"d":"1411"},0,0,0,0]
[41,"神郷村",{"v":380.4,"d":"380"},{"v":851.83,"d":"852"},{"v":120.84,"d":"121"},{"v":619.26,"d":"619"},{"v":5.3,"d":"5"},{"v":9.49,"d":"9"}]
[42,"鳥居村",287,{"v":593.03,"d":"593"},{"v":106.47,"d":"106"},{"v":425.8,"d":"426"},{"v":2.24,"d":"2"},{"v":39.099999999999994,"d":"39"}]
[43,"戸隠村",{"v":18.54,"d":"19"},{"v":1543.16,"d":"1543"},0,0,0,0]
[44,"柵村",{"v":53.95,"d":"54"},{"v":1178.26,"d":"1178"},0,0,0,0]
[45,"鬼無里村",{"v":50.09,"d":"50"},{"v":5782.13,"d":"5782"},0,0,0,0]
[46,"大岡村",{"v":18.59,"d":"19"},{"v":2999.08,"d":"2999"},0,0,0,0]
[47,"牧郷村２－２",{"v":5.93,"d":"6"},{"v":832.74,"d":"833"},0,0,0,0]
[48,"水内村（長野市）",{"v":282.13,"d":"282"},{"v":798.45,"d":"798"},0,0,0,0]
[49,"津和村",{"v":235.29,"d":"235"},{"v":2142.71,"d":"2143"},0,0,0,0]
[50,"日原村",0,{"v":233.17,"d":"233"},0,0,0,0]
[51,"八坂村２－２",0,{"v":104.41,"d":"104"},0,0,0,0]
[52,"信級村",0,{"v":420.65,"d":"421"},0,0,0,0]
[53,"牧郷村２－１",{"v":0.77,"d":"1"},{"v":1227.53,"d":"1228"},0,0,0,0]
[54,"栄村（長野市）",{"v":707.98,"d":"708"},{"v":1507.64,"d":"1508"},0,0,0,0]
[55,"日里村",{"v":380.72,"d":"381"},{"v":1118.17,"d":"1118"},0,0,0,0]
[56,"松本市",{"v":385.4,"d":"385"},{"v":26159.62,"d":"26160"},{"v":3882.6,"d":"3883"},{"v":24504.67,"d":"24505"},{"v":274.89,"d":"275"},{"v":983.88,"d":"984"}]
[57,"松本市（旧）",{"v":39.39,"d":"39"},{"v":218.84,"d":"219"},{"v":1876.27,"d":"1876"},{"v":220.12,"d":"220"},{"v":195.35000000000002,"d":"195"},{"v":461.72,"d":"462"}]
[58,"島内村",{"v":3.42,"d":"3"},{"v":1368.99,"d":"1369"},{"v":168.09,"d":"168"},{"v":1369.86,"d":"1370"},{"v":4.8,"d":"5"},{"v":3.78,"d":"4"}]
[59,"中山村",{"v":106.46,"d":"106"},{"v":1096.46,"d":"1096"},{"v":0.1,"d":"0"},{"v":2138.74,"d":"2139"},0,0]
[60,"島立村",0,{"v":545.26,"d":"545"},{"v":84.33,"d":"84"},{"v":545.27,"d":"545"},{"v":2.64,"d":"3"},{"v":0.04,"d":"0"}]
[61,"和田村（松本市）",0,{"v":700.81,"d":"701"},{"v":80.93,"d":"81"},{"v":698.81,"d":"699"},0,{"v":84.37,"d":"84"}]
[62,"笹賀村",{"v":10.73,"d":"11"},{"v":644.08,"d":"644"},{"v":237.88,"d":"238"},{"v":643.99,"d":"644"},0,{"v":153.20999999999998,"d":"153"}]
[63,"芳川村",0,{"v":150.48,"d":"150"},{"v":415.97,"d":"416"},{"v":154.94,"d":"155"},{"v":12.55,"d":"13"},{"v":142.67000000000002,"d":"143"}]
[64,"寿村",{"v":92.72,"d":"93"},{"v":683.17,"d":"683"},{"v":264.87,"d":"265"},{"v":683.17,"d":"683"},{"v":2.17,"d":"2"},0]
[65,"岡田村",0,{"v":658.48,"d":"658"},{"v":143.82,"d":"144"},{"v":909.78,"d":"910"},0,0]
[66,"入山辺村",{"v":1.02,"d":"1"},{"v":1644.27,"d":"1644"},0,{"v":7693.47,"d":"7693"},0,0]
[67,"里山辺村",0,{"v":478.68,"d":"479"},{"v":168.13,"d":"168"},{"v":976.37,"d":"976"},{"v":17.46,"d":"17"},0]
[68,"今井村",{"v":12.14,"d":"12"},1012,{"v":144.85,"d":"145"},{"v":993.83,"d":"994"},0,{"v":129.42000000000002,"d":"129"}]
[69,"新村",0,{"v":461.89,"d":"462"},0,{"v":461.8,"d":"462"},0,0]
[70,"神林村",0,{"v":539.3,"d":"539"},{"v":19.15,"d":"19"},{"v":539.3,"d":"539"},0,{"v":0.92,"d":"1"}]
[71,"片丘村２－２",{"v":7.97,"d":"8"},{"v":681.96,"d":"682"},{"v":15.03,"d":"15"},{"v":1132.87,"d":"1133"},0,0]
[72,"本郷村（松本市）",{"v":18.44,"d":"18"},{"v":1719.1,"d":"1719"},{"v":261.26,"d":"261"},{"v":3391.61,"d":"3392"},{"v":27.3,"d":"27"},{"v":0.17,"d":"0"}]
[73,"洗馬村２－２",0,{"v":39.06,"d":"39"},{"v":0.33,"d":"0"},{"v":6.24,"d":"6"},0,{"v":0.23,"d":"0"}]
[74,"錦部村",0,{"v":1694.23,"d":"1694"},0,{"v":0.99,"d":"1"},0,0]
[75,"会田村",{"v":25.8,"d":"26"},{"v":1260.48,"d":"1260"},0,0,0,0]
[76,"五常村",{"v":15.05,"d":"15"},{"v":1175.06,"d":"1175"},0,{"v":1.3,"d":"1"},0,0]
[77,"中川村（松本市）",{"v":9.61,"d":"10"},{"v":1730.77,"d":"1731"},0,0,0,0]
[78,"安曇村",{"v":9.88,"d":"10"},{"v":1500.4,"d":"1500"},0,0,0,0]
[79,"奈川村",{"v":21.18,"d":"21"},{"v":2789.91,"d":"2790"},0,0,0,0]
[80,"梓村",0,{"v":1223.8,"d":"1224"},0,{"v":1281.4,"d":"1281"},0,0]
[81,"倭村（松本市）",0,{"v":635.67,"d":"636"},0,{"v":633.92,"d":"634"},0,0]
[82,"波田町",{"v":11.6,"d":"12"},{"v":1506.47,"d":"1506"},{"v":1.58,"d":"2"},{"v":26.92,"d":"27"},{"v":12.62,"d":"13"},{"v":7.340000000000001,"d":"7"}]
[83,"上田市",{"v":19271.56,"d":"19272"},{"v":19497.21,"d":"19497"},0,{"v":1.01,"d":"1"},{"v":198.76999999999998,"d":"199"},{"v":354.94,"d":"355"}]
[84,"上田市（旧）",{"v":625.12,"d":"625"},{"v":322.15,"d":"322"},0,0,{"v":154.34,"d":"154"},{"v":171.51,"d":"172"}]
[85,"塩尻村",{"v":308.9,"d":"309"},{"v":248.27,"d":"248"},0,0,{"v":23.48,"d":"23"},{"v":55.769999999999996,"d":"56"}]
[86,"川辺村（上田市）",{"v":107.48,"d":"107"},{"v":466.82,"d":"467"},0,0,{"v":0.51,"d":"1"},0]
[87,"泉田村２－２",{"v":1.23,"d":"1"},{"v":321.91,"d":"322"},0,0,0,0]
[88,"神川村",{"v":2.39,"d":"2"},{"v":425.26,"d":"425"},0,0,0,{"v":24.52,"d":"25"}]
[89,"神科村",{"v":814.32,"d":"814"},{"v":1131.45,"d":"1131"},0,0,0,{"v":4.69,"d":"5"}]
[90,"豊里村",{"v":103.33,"d":"103"},{"v":452.38,"d":"452"},0,0,0,0]
[91,"殿城村",{"v":689.44,"d":"689"},{"v":764.48,"d":"764"},0,0,0,0]
[92,"中塩田村",{"v":4.36,"d":"4"},{"v":967.02,"d":"967"},0,0,0,0]
[93,"別所村",{"v":6.83,"d":"7"},{"v":226.88,"d":"227"},0,0,0,0]
[94,"西塩田村",{"v":15.93,"d":"16"},{"v":743.3,"d":"743"},0,0,0,0]
[95,"東塩田村",{"v":501.69,"d":"502"},{"v":1236.49,"d":"1236"},0,0,0,0]
[96,"泉田村２－１",{"v":1.11,"d":"1"},{"v":272.7,"d":"273"},0,0,0,0]
[97,"室賀村",0,{"v":379.48,"d":"379"},0,0,0,0]
[98,"浦里村２－１",0,{"v":719.42,"d":"719"},0,0,0,0]
[99,"丸子町",{"v":177.41,"d":"177"},{"v":1195.26,"d":"1195"},0,0,{"v":14.87,"d":"15"},{"v":56.93,"d":"57"}]
[100,"東内村",{"v":1.69,"d":"2"},{"v":368.63,"d":"369"},0,0,0,0]
[101,"西内村",0,{"v":368.56,"d":"369"},0,0,0,0]
[102,"依田村",{"v":448.95,"d":"449"},{"v":1272.9,"d":"1273"},0,0,0,0]
[103,"長瀬村",{"v":48.52,"d":"49"},{"v":278.01,"d":"278"},0,0,{"v":2.46,"d":"2"},{"v":26.03,"d":"26"}]
[104,"塩川村",{"v":261.78,"d":"262"},{"v":936.84,"d":"937"},0,0,{"v":3.11,"d":"3"},{"v":15.48,"d":"15"}]
[105,"傍陽村",6954,{"v":1087.46,"d":"1087"},0,0,0,0]
[106,"本原村",{"v":463.65,"d":"464"},{"v":458.39,"d":"458"},0,0,0,0]
[107,"長村",{"v":7732.6,"d":"7733"},{"v":3440.63,"d":"3441"},0,0,0,0]
[108,"武石村",{"v":0.84,"d":"1"},{"v":1412.5,"d":"1413"},0,{"v":1.01,"d":"1"},0,0]
[109,"岡谷市",{"v":1117.65,"d":"1118"},{"v":122.71,"d":"123"},0,{"v":23.57,"d":"24"},{"v":72.72,"d":"73"},{"v":514.26,"d":"514"}]
[110,"岡谷市（旧）",{"v":8.95,"d":"9"},{"v":95.18,"d":"95"},0,{"v":23.57,"d":"24"},{"v":72.72,"d":"73"},{"v":295.71,"d":"296"}]
[111,"湊村",{"v":618.6,"d":"619"},{"v":17.06,"d":"17"},0,0,0,0]
[112,"川岸村",{"v":490.1,"d":"490"},0,0,0,0,{"v":19.21,"d":"19"}]
[113,"長地村２－１",0,{"v":10.48,"d":"10"},0,0,0,{"v":199.33,"d":"199"}]
[114,"飯田市",{"v":41041.52,"d":"41042"},{"v":16409.29,"d":"16409"},0,0,{"v":194.61,"d":"195"},{"v":391.86,"d":"392"}]
[115,"飯田市（旧）",{"v":10.68,"d":"11"},{"v":128.88,"d":"129"},0,0,{"v":120.96000000000001,"d":"121"},{"v":41.58,"d":"42"}]
[116,"竜丘村",{"v":223.38,"d":"223"},{"v":747.74,"d":"748"},0,0,0,{"v":21.130000000000003,"d":"21"}]
[117,"下久堅村",{"v":468.46,"d":"468"},{"v":1191.77,"d":"1192"},0,0,0,0]
[118,"座光寺村",{"v":53.41,"d":"53"},{"v":610.82,"d":"611"},0,0,0,0]
[119,"松尾村",{"v":52.47,"d":"52"},{"v":343.82,"d":"344"},0,0,{"v":37.78,"d":"38"},{"v":135.87,"d":"136"}]
[120,"山本村",{"v":230.96,"d":"231"},{"v":1446.89,"d":"1447"},0,0,0,0]
[121,"三穂村",{"v":188.33,"d":"188"},{"v":1250.81,"d":"1251"},0,0,0,0]
[122,"伊賀良村",{"v":204.71,"d":"205"},{"v":1248.39,"d":"1248"},0,0,{"v":11.77,"d":"12"},{"v":82.84,"d":"83"}]
[123,"川路村",{"v":223.3,"d":"223"},{"v":525.98,"d":"526"},0,0,{"v":3.77,"d":"4"},{"v":28.38,"d":"28"}]
[124,"千代村",{"v":5120.73,"d":"5121"},{"v":1338.51,"d":"1339"},0,0,0,0]
[125,"竜江村",{"v":628.54,"d":"629"},{"v":1224.8,"d":"1225"},0,0,0,0]
[126,"上久堅村",{"v":1097.31,"d":"1097"},{"v":1041.2,"d":"1041"},0,0,0,0]
[127,"鼎町",{"v":26.52,"d":"27"},{"v":330.61,"d":"331"},0,0,{"v":16.91,"d":"17"},{"v":49.32,"d":"49"}]
[128,"上郷町",{"v":38.65,"d":"39"},{"v":783.27,"d":"783"},0,0,{"v":3.41,"d":"3"},{"v":32.74,"d":"33"}]
[129,"上村",{"v":13051.17,"d":"13051"},{"v":2122.51,"d":"2123"},0,0,0,0]
[130,"木沢村",{"v":11151.59,"d":"11152"},{"v":575.22,"d":"575"},0,0,0,0]
[131,"和田村（飯田市）",{"v":2682.75,"d":"2683"},{"v":857.16,"d":"857"},0,0,0,0]
[132,"八重河内村",{"v":3761.24,"d":"3761"},{"v":315.26,"d":"315"},0,0,0,0]
[133,"南和田村",{"v":1827.31,"d":"1827"},{"v":325.65,"d":"326"},0,0,0,0]
[134,"諏訪市",{"v":3645.85,"d":"3646"},{"v":928.51,"d":"929"},0,0,{"v":64.74000000000001,"d":"65"},{"v":397.46,"d":"397"}]
[135,"諏訪市（旧）",{"v":613.33,"d":"613"},{"v":503.29,"d":"503"},0,0,{"v":64.74000000000001,"d":"65"},{"v":242.54000000000002,"d":"243"}]
[136,"中洲村",{"v":175.87,"d":"176"},{"v":46.91,"d":"47"},0,0,0,{"v":110.57,"d":"111"}]
[137,"湖南村",{"v":2856.65,"d":"2857"},{"v":378.3,"d":"378"},0,0,0,{"v":44.36,"d":"44"}]
[138,"須坂市",{"v":10220.42,"d":"10220"},{"v":4956.44,"d":"4956"},{"v":903.18,"d":"903"},{"v":2827.22,"d":"2827"},{"v":55.87,"d":"56"},{"v":228.54000000000002,"d":"229"}]
[139,"須坂町",{"v":335.79,"d":"336"},{"v":626.34,"d":"626"},{"v":569.62,"d":"570"},{"v":642.79,"d":"643"},{"v":54.01,"d":"54"},{"v":54.84,"d":"55"}]
[140,"井上村",{"v":150.5,"d":"151"},{"v":580.15,"d":"580"},{"v":105.22,"d":"105"},{"v":605.11,"d":"605"},0,{"v":101.8,"d":"102"}]
[141,"豊洲村",{"v":27.93,"d":"28"},{"v":676.93,"d":"677"},{"v":100.19,"d":"100"},{"v":685.76,"d":"686"},0,{"v":32.35,"d":"32"}]
[142,"日野村（須坂市）",0,{"v":399.06,"d":"399"},{"v":92.47,"d":"92"},{"v":399.05,"d":"399"},{"v":1.86,"d":"2"},{"v":11.98,"d":"12"}]
[143,"高甫村",{"v":581.64,"d":"582"},{"v":546.37,"d":"546"},33,{"v":486.29,"d":"486"},0,{"v":27.55,"d":"28"}]
[144,"仁礼村",{"v":7136.36,"d":"7136"},{"v":1265.79,"d":"1266"},0,{"v":7.82,"d":"8"},0,{"v":0.01,"d":"0"}]
[145,"豊丘村（須坂市）",{"v":1988.21,"d":"1988"},{"v":861.79,"d":"862"},{"v":2.68,"d":"3"},{"v":0.38,"d":"0"},0,0]
[146,"小諸市",{"v":4181.08,"d":"4181"},{"v":7385.67,"d":"7386"},0,0,{"v":54.6,"d":"55"},{"v":186.53,"d":"187"}]
[147,"小諸町",{"v":805.88,"d":"806"},{"v":942.76,"d":"943"},0,0,{"v":53.52,"d":"54"},{"v":75.69,"d":"76"}]
[148,"大里村",{"v":1910.37,"d":"1910"},{"v":1620.97,"d":"1621"},0,0,0,{"v":5.11,"d":"5"}]
[149,"北大井村",194,{"v":855.49,"d":"855"},0,0,{"v":1.08,"d":"1"},{"v":53.089999999999996,"d":"53"}]
[150,"南大井村",{"v":198.15,"d":"198"},{"v":857.84,"d":"858"},0,0,0,{"v":35.38,"d":"35"}]
[151,"三岡村",{"v":86.2,"d":"86"},{"v":653.49,"d":"653"},0,0,0,{"v":17.05,"d":"17"}]
[152,"川辺村（小諸市）",{"v":800.94,"d":"801"},{"v":1654.22,"d":"1654"},0,0,0,0]
[153,"小沼村２－２",{"v":6.79,"d":"7"},{"v":91.78,"d":"92"},0,0,0,0]
[154,"滋野村２－２",{"v":156.59,"d":"157"},{"v":615.97,"d":"616"},0,0,0,{"v":0.2,"d":"0"}]
[155,"小沼村２－１－２",{"v":22.17,"d":"22"},{"v":93.16,"d":"93"},0,0,0,0]
[156,"伊那市",{"v":48211.52,"d":"48212"},{"v":11586.77,"d":"11587"},0,0,{"v":65.77,"d":"66"},{"v":110.8,"d":"111"}]
[157,"伊那町",{"v":299.28,"d":"299"},{"v":1944.31,"d":"1944"},0,0,{"v":65.77,"d":"66"},{"v":109.97,"d":"110"}]
[158,"西箕輪村２－１",{"v":49.48,"d":"49"},{"v":1212.6,"d":"1213"},0,0,0,0]
[159,"手良村",{"v":1855.4,"d":"1855"},{"v":666.86,"d":"667"},0,0,0,0]
[160,"美篶村",{"v":325.31,"d":"325"},{"v":1063.92,"d":"1064"},0,0,0,{"v":0.21,"d":"0"}]
[161,"富県村",{"v":2275.69,"d":"2276"},{"v":1175.28,"d":"1175"},0,0,0,0]
[162,"東春近村",{"v":396.25,"d":"396"},{"v":1304.37,"d":"1304"},0,0,0,0]
[163,"西春近村",{"v":105.71,"d":"106"},{"v":1263.37,"d":"1263"},0,0,0,{"v":0.62,"d":"1"}]
[164,"高遠町",{"v":936.38,"d":"936"},{"v":109.52,"d":"110"},0,0,0,0]
[165,"長藤村",{"v":1738.15,"d":"1738"},{"v":392.63,"d":"393"},0,0,0,0]
[166,"三義村",{"v":4221.78,"d":"4222"},{"v":517.21,"d":"517"},0,0,0,0]
[167,"藤沢村",{"v":3944.4,"d":"3944"},{"v":443.52,"d":"444"},0,0,0,0]
[168,"河南村",{"v":950.29,"d":"950"},{"v":462.33,"d":"462"},0,0,0,0]
[169,"伊那里村",{"v":18203.26,"d":"18203"},{"v":346.61,"d":"347"},0,0,0,0]
[170,"美和村",{"v":12910.14,"d":"12910"},{"v":684.23,"d":"684"},0,0,0,0]
[171,"駒ヶ根市",{"v":7304.91,"d":"7305"},{"v":4867.23,"d":"4867"},0,0,{"v":24.33,"d":"24"},{"v":102.96,"d":"103"}]
[172,"赤穂町",{"v":312.94,"d":"313"},{"v":2598.86,"d":"2599"},0,0,{"v":24.33,"d":"24"},{"v":102.96,"d":"103"}]
[173,"中沢村",{"v":5785.56,"d":"5786"},{"v":1677.57,"d":"1678"},0,0,0,0]
[174,"伊那村",{"v":1206.41,"d":"1206"},{"v":590.8,"d":"591"},0,0,0,0]
[175,"中野市",{"v":3505.07,"d":"3505"},{"v":8741.83,"d":"8742"},0,{"v":6.18,"d":"6"},{"v":30.18,"d":"30"},{"v":49.22,"d":"49"}]
[176,"中野町",{"v":129.21,"d":"129"},{"v":350.58,"d":"351"},0,0,{"v":27.67,"d":"28"},{"v":13.299999999999999,"d":"13"}]
[177,"日野村（中野市）",{"v":678.63,"d":"679"},{"v":449.42,"d":"449"},0,0,0,0]
[178,"延徳村",{"v":287.75,"d":"288"},{"v":587.15,"d":"587"},0,{"v":0.16,"d":"0"},0,0]
[179,"平野村",{"v":62.99,"d":"63"},{"v":678.04,"d":"678"},0,{"v":0.08,"d":"0"},{"v":2.51,"d":"3"},{"v":22.39,"d":"22"}]
[180,"高丘村",{"v":91.04,"d":"91"},{"v":672.04,"d":"672"},0,{"v":5.94,"d":"6"},0,0]
[181,"長丘村",{"v":163.42,"d":"163"},{"v":705.81,"d":"706"},0,0,0,0]
[182,"平岡村（中野市）",{"v":5.41,"d":"5"},{"v":710.27,"d":"710"},0,0,0,{"v":13.52,"d":"14"}]
[183,"科野村",{"v":508.42,"d":"508"},{"v":503.98,"d":"504"},0,0,0,0]
[184,"倭村（中野市）",{"v":706.48,"d":"706"},{"v":658.8,"d":"659"},0,0,0,0]
[185,"豊井村",{"v":566.32,"d":"566"},{"v":1395.29,"d":"1395"},0,0,0,0]
[186,"永田村",{"v":305.4,"d":"305"},{"v":2030.45,"d":"2030"},0,0,0,0]
[187,"大町市",{"v":366.9,"d":"367"},{"v":13022.44,"d":"13022"},0,0,{"v":20.14,"d":"20"},{"v":181.73000000000002,"d":"182"}]
[188,"大町",0,{"v":505.7,"d":"506"},0,0,{"v":20.14,"d":"20"},{"v":122.61,"d":"123"}]
[189,"平村",{"v":261.62,"d":"262"},{"v":2837.2,"d":"2837"},0,0,0,{"v":13.05,"d":"13"}]
[190,"常盤村（大町市）",{"v":27.59,"d":"28"},{"v":1985.8,"d":"1986"},0,0,0,0]
[191,"社村",{"v":30.6,"d":"31"},{"v":514.66,"d":"515"},0,0,0,{"v":46.08,"d":"46"}]
[192,"八坂村２－１",{"v":2.3,"d":"2"},{"v":2641.39,"d":"2641"},0,0,0,0]
[193,"広津村３－３",{"v":1.77,"d":"2"},{"v":27.28,"d":"27"},0,0,0,0]
[194,"美麻村",{"v":43.02,"d":"43"},{"v":4510.4,"d":"4510"},0,0,0,0]
[195,"飯山市",{"v":9794.43,"d":"9794"},{"v":17113.39,"d":"17113"},0,0,{"v":28.73,"d":"29"},{"v":43.86,"d":"44"}]
[196,"飯山町",{"v":45.38,"d":"45"},{"v":1351.12,"d":"1351"},0,0,{"v":28.73,"d":"29"},{"v":9.62,"d":"10"}]
[197,"秋津村",{"v":60.9,"d":"61"},{"v":1871.85,"d":"1872"},0,0,0,{"v":9.28,"d":"9"}]
[198,"柳原村（飯山市）",{"v":1520.76,"d":"1521"},{"v":3104.19,"d":"3104"},0,0,0,0]
[199,"外様村",{"v":684.9,"d":"685"},{"v":1196.69,"d":"1197"},0,0,0,0]
[200,"常盤村（飯山市）",{"v":79.8,"d":"80"},{"v":1172.63,"d":"1173"},0,0,0,0]
[201,"太田村",{"v":1654.61,"d":"1655"},{"v":1859.71,"d":"1860"},0,0,0,0]
[202,"岡山村",{"v":4354.61,"d":"4355"},{"v":3841.55,"d":"3842"},0,0,0,0]
[203,"瑞穂村２－１",{"v":1183.42,"d":"1183"},{"v":1876.43,"d":"1876"},0,0,0,0]
[204,"木島村",{"v":210.07,"d":"210"},{"v":839.21,"d":"839"},0,0,0,{"v":24.96,"d":"25"}]
[205,"茅野市",{"v":2865.42,"d":"2865"},{"v":6279.28,"d":"6279"},0,0,{"v":63.010000000000005,"d":"63"},{"v":241.44,"d":"241"}]
[206,"ちの町",{"v":0.18,"d":"0"},{"v":0.02,"d":"0"},0,0,{"v":59.92,"d":"60"},{"v":72.79,"d":"73"}]
[207,"宮川村",{"v":1240.49,"d":"1240"},{"v":339.05,"d":"339"},0,0,{"v":3.08,"d":"3"},{"v":155.04,"d":"155"}]
[208,"米沢村",{"v":4.74,"d":"5"},{"v":467.75,"d":"468"},0,0,0,0]
[209,"豊平村",{"v":213.28,"d":"213"},{"v":1339.18,"d":"1339"},0,0,0,0]
[210,"玉川村",{"v":101.25,"d":"101"},{"v":1253.85,"d":"1254"},0,0,0,{"v":2.07,"d":"2"}]
[211,"泉野村",{"v":37.07,"d":"37"},{"v":629.31,"d":"629"},0,0,0,0]
[212,"金沢村",{"v":1163.92,"d":"1164"},{"v":625.33,"d":"625"},0,0,0,0]
[213,"湖東村",{"v":77.58,"d":"78"},{"v":811.89,"d":"812"},0,0,0,{"v":11.54,"d":"12"}]
[214,"北山村",{"v":26.91,"d":"27"},{"v":812.9,"d":"813"},0,0,0,0]
[215,"塩尻市",{"v":234.26,"d":"234"},{"v":7043.15,"d":"7043"},{"v":975.57,"d":"976"},{"v":8398.15,"d":"8398"},{"v":29.700000000000003,"d":"30"},{"v":328.42,"d":"328"}]
[216,"塩尻町",{"v":52.33,"d":"52"},{"v":1081.95,"d":"1082"},{"v":301.43,"d":"301"},{"v":3388.16,"d":"3388"},{"v":26.39,"d":"26"},{"v":39.82,"d":"40"}]
[217,"筑摩地村",0,{"v":548.76,"d":"549"},0,{"v":22.8,"d":"23"},0,0]
[218,"広丘村",{"v":41.49,"d":"41"},{"v":1045.02,"d":"1045"},{"v":624.49,"d":"624"},{"v":1050.5,"d":"1051"},{"v":3.31,"d":"3"},{"v":267.63,"d":"268"}]
[219,"片丘村２－１",{"v":26.83,"d":"27"},{"v":1034.66,"d":"1035"},0,{"v":2221.05,"d":"2221"},0,0]
[220,"宗賀村",{"v":9.17,"d":"9"},{"v":793.67,"d":"794"},{"v":49.5,"d":"50"},{"v":1660.89,"d":"1661"},0,{"v":20.950000000000003,"d":"21"}]
[221,"洗馬村２－１",{"v":88.56,"d":"89"},{"v":1733.39,"d":"1733"},{"v":0.14,"d":"0"},{"v":54.76,"d":"55"},0,0]
[222,"楢川村",{"v":15.89,"d":"16"},{"v":805.7,"d":"806"},0,0,0,0]
[223,"佐久市",{"v":2235.59,"d":"2236"},{"v":29377.34,"d":"29377"},0,0,{"v":117.12,"d":"117"},{"v":375.06,"d":"375"}]
[224,"野沢町",0,{"v":452.34,"d":"452"},0,0,{"v":11.32,"d":"11"},{"v":12.25,"d":"12"}]
[225,"大沢村",{"v":9.78,"d":"10"},{"v":738.26,"d":"738"},0,0,0,0]
[226,"桜井村",0,{"v":194.49,"d":"194"},0,0,0,0]
[227,"前山村",{"v":6.94,"d":"7"},{"v":989.66,"d":"990"},0,0,0,0]
[228,"岸野村",{"v":10.74,"d":"11"},{"v":1747.48,"d":"1747"},0,0,0,0]
[229,"中込町",{"v":1.51,"d":"2"},{"v":226.56,"d":"227"},0,0,{"v":32.33,"d":"32"},{"v":66.4,"d":"66"}]
[230,"平賀村",{"v":84.55,"d":"85"},{"v":1501.33,"d":"1501"},0,0,{"v":0.04,"d":"0"},{"v":0.7,"d":"1"}]
[231,"内山村",{"v":2.38,"d":"2"},{"v":2460.77,"d":"2461"},0,0,0,0]
[232,"岩村田町",{"v":97.21,"d":"97"},{"v":462.88,"d":"463"},0,0,{"v":54.66,"d":"55"},{"v":203.13000000000002,"d":"203"}]
[233,"平根村",{"v":99.9,"d":"100"},{"v":886.8,"d":"887"},0,0,0,0]
[234,"高瀬村",{"v":44.4,"d":"44"},{"v":618.06,"d":"618"},0,0,0,{"v":6.75,"d":"7"}]
[235,"中佐都村",{"v":33.09,"d":"33"},{"v":625.77,"d":"626"},0,0,0,{"v":18.32,"d":"18"}]
[236,"御代田村２－２",{"v":42.39,"d":"42"},{"v":167.53,"d":"168"},0,0,0,{"v":29.6,"d":"30"}]
[237,"三井村",{"v":35.58,"d":"36"},{"v":1531.98,"d":"1532"},0,0,0,0]
[238,"志賀村",{"v":4.65,"d":"5"},{"v":1767.1,"d":"1767"},0,0,0,0]
[239,"臼田町",{"v":23.43,"d":"23"},{"v":451.4,"d":"451"},0,0,{"v":15.07,"d":"15"},{"v":8.51,"d":"9"}]
[240,"切原村",{"v":37.89,"d":"38"},{"v":1491.03,"d":"1491"},0,0,0,{"v":10.35,"d":"10"}]
[241,"田口村",{"v":9.38,"d":"9"},{"v":916.48,"d":"916"},0,0,{"v":3.71,"d":"4"},{"v":19.05,"d":"19"}]
[242,"青沼村２－１",{"v":4.5,"d":"5"},{"v":427.89,"d":"428"},0,0,0,0]
[243,"本牧村２－１",{"v":418.72,"d":"419"},{"v":1132.2,"d":"1132"},0,0,0,0]
[244,"布施村",{"v":535.39,"d":"535"},{"v":2069.49,"d":"2069"},0,0,0,0]
[245,"春日村",{"v":108.22,"d":"108"},{"v":2235.7,"d":"2236"},0,0,0,0]
[246,"協和村",{"v":327.1,"d":"327"},{"v":4434.53,"d":"4435"},0,0,0,0]
[247,"南御牧村",{"v":248.59,"d":"249"},{"v":1014.5,"d":"1015"},0,0,0,0]
[248,"中津村（佐久市）",{"v":35.13,"d":"35"},{"v":334.99,"d":"335"},0,0,0,0]
[249,"五郎兵衛新田村",{"v":14.12,"d":"14"},{"v":498.11,"d":"498"},0,0,0,0]
[250,"千曲市",{"v":2685.19,"d":"2685"},{"v":4454.25,"d":"4454"},0,{"v":36.67,"d":"37"},{"v":135.71,"d":"136"},{"v":227.37,"d":"227"}]
[251,"屋代町",{"v":25.98,"d":"26"},{"v":93.85,"d":"94"},0,{"v":0.32,"d":"0"},{"v":6.76,"d":"7"},{"v":76.57,"d":"77"}]
[252,"森村",{"v":1123.42,"d":"1123"},{"v":488.66,"d":"489"},0,0,0,0]
[253,"倉科村",{"v":717.83,"d":"718"},{"v":272.82,"d":"273"},0,0,0,0]
[254,"雨宮県村",{"v":213.32,"d":"213"},{"v":418.64,"d":"419"},0,{"v":0.79,"d":"1"},0,{"v":22.66,"d":"23"}]
[255,"埴生町",{"v":132.55,"d":"133"},{"v":31.44,"d":"31"},0,0,{"v":23.310000000000002,"d":"23"},{"v":28.4,"d":"28"}]
[256,"杭瀬下村",0,{"v":2.53,"d":"3"},0,0,{"v":5.13,"d":"5"},{"v":24.18,"d":"24"}]
[257,"稲荷山町",0,{"v":92.42,"d":"92"},0,{"v":27.31,"d":"27"},{"v":9.45,"d":"9"},{"v":7.59,"d":"8"}]
[258,"桑原村",0,{"v":723.7,"d":"724"},0,{"v":8.25,"d":"8"},0,0]
[259,"八幡村",{"v":9.43,"d":"9"},{"v":890.15,"d":"890"},0,0,{"v":3.73,"d":"4"},{"v":7.88,"d":"8"}]
[260,"五加村２－２",0,{"v":67.58,"d":"68"},0,0,0,{"v":0.5,"d":"1"}]
[261,"戸倉町",{"v":442.12,"d":"442"},{"v":0.03,"d":"0"},0,0,{"v":38.82,"d":"39"},{"v":15.85,"d":"16"}]
[262,"五加村２－１",0,{"v":75.26,"d":"75"},0,0,0,{"v":43.73,"d":"44"}]
[263,"更級村",{"v":20.53,"d":"21"},{"v":447.42,"d":"447"},0,0,{"v":1.59,"d":"2"},0]
[264,"上山田町",0,{"v":736.69,"d":"737"},0,0,{"v":46.9,"d":"47"},0]
[265,"力石村",0,{"v":113.05,"d":"113"},0,0,0,0]
[266,"東御市",{"v":5848.19,"d":"5848"},{"v":5918.9,"d":"5919"},0,0,{"v":21.130000000000003,"d":"21"},{"v":186.58,"d":"187"}]
[267,"県村",{"v":3.6,"d":"4"},{"v":204.18,"d":"204"},0,0,{"v":21.130000000000003,"d":"21"},{"v":95.81,"d":"96"}]
[268,"祢津村",{"v":2657.34,"d":"2657"},{"v":1282.22,"d":"1282"},0,0,0,{"v":21.75,"d":"22"}]
[269,"和村",{"v":1182.61,"d":"1183"},{"v":1210.65,"d":"1211"},0,0,0,{"v":7.21,"d":"7"}]
[270,"滋野村２－１",{"v":1373.13,"d":"1373"},{"v":632.02,"d":"632"},0,0,0,{"v":61.8,"d":"62"}]
[271,"北御牧村",{"v":631.51,"d":"632"},{"v":2589.82,"d":"2590"},0,0,0,0]
[272,"安曇野市",{"v":124.98,"d":"125"},{"v":12126.38,"d":"12126"},{"v":506.83,"d":"507"},{"v":3447.07,"d":"3447"},{"v":45.61,"d":"46"},{"v":192.67,"d":"193"}]
[273,"豊科町",0,{"v":465.34,"d":"465"},{"v":310.75,"d":"311"},{"v":482.54,"d":"483"},{"v":21.2,"d":"21"},{"v":67.7,"d":"68"}]
[274,"高家村",0,{"v":849.78,"d":"850"},{"v":87.66,"d":"88"},{"v":849.76,"d":"850"},0,{"v":51.83,"d":"52"}]
[275,"南穂高村",0,{"v":694.38,"d":"694"},{"v":29.02,"d":"29"},{"v":694.09,"d":"694"},0,{"v":10.64,"d":"11"}]
[276,"上川手村２－１",0,{"v":470.08,"d":"470"},{"v":79.36,"d":"79"},{"v":1320.21,"d":"1320"},0,{"v":2.14,"d":"2"}]
[277,"穂高町",0,{"v":744.92,"d":"745"},0,{"v":35.72,"d":"36"},{"v":21.450000000000003,"d":"21"},{"v":60.37,"d":"60"}]
[278,"西穂高村",0,{"v":995.07,"d":"995"},0,{"v":0.09,"d":"0"},{"v":2.97,"d":"3"},0]
[279,"北穂高村",0,{"v":559.29,"d":"559"},0,0,0,0]
[280,"有明村",{"v":7.64,"d":"8"},{"v":1852.18,"d":"1852"},0,0,0,0]
[281,"明盛村",0,{"v":756.56,"d":"757"},0,{"v":41.95,"d":"42"},0,0]
[282,"小倉村",{"v":95.38,"d":"95"},{"v":971.17,"d":"971"},0,{"v":0.76,"d":"1"},0,0]
[283,"温村",{"v":2.39,"d":"2"},{"v":889.51,"d":"890"},0,{"v":0.09,"d":"0"},0,0]
[284,"烏川村",0,{"v":1086.23,"d":"1086"},{"v":0.03,"d":"0"},{"v":20.12,"d":"20"},0,0]
[285,"三田村",0,{"v":570.01,"d":"570"},0,0,0,0]
[286,"中川手村",{"v":2.61,"d":"3"},{"v":301.94,"d":"302"},0,0,0,0]
[287,"東川手村",{"v":4.91,"d":"5"},{"v":94.12,"d":"94"},0,0,0,0]
[288,"上川手村２－２",0,{"v":163.23,"d":"163"},{"v":0.01,"d":"0"},{"v":1.44,"d":"1"},0,0]
[289,"七貴村２－１",{"v":11.32,"d":"11"},{"v":460.14,"d":"460"},0,{"v":0.29,"d":"0"},0,0]
[290,"陸郷村３－１",{"v":0.74,"d":"1"},{"v":202.43,"d":"202"},0,0,0,0]
[291,"小海町",{"v":74.3,"d":"74"},{"v":6405.2,"d":"6405"},0,0,0,0]
[292,"小海村",{"v":23.98,"d":"24"},{"v":2785.13,"d":"2785"},0,0,0,0]
[293,"穂積村２－２",0,{"v":157.21,"d":"157"},0,0,0,0]
[294,"北牧村２－１",{"v":50.32,"d":"50"},{"v":3462.86,"d":"3463"},0,0,0,0]
[295,"川上村",{"v":47.73,"d":"48"},{"v":6489.19,"d":"6489"},0,0,0,0]
[296,"（川上村）",{"v":47.73,"d":"48"},{"v":6489.19,"d":"6489"},0,0,0,0]
[297,"南牧村",{"v":76.12,"d":"76"},{"v":8461.72,"d":"8462"},0,0,0,0]
[298,"（南牧村）",{"v":76.12,"d":"76"},{"v":8461.72,"d":"8462"},0,0,0,0]
[299,"南相木村",0,{"v":2750.66,"d":"2751"},0,0,0,0]
[300,"（南相木村）",0,{"v":2750.66,"d":"2751"},0,0,0,0]
[301,"北相木村",{"v":1.42,"d":"1"},{"v":1554.14,"d":"1554"},0,0,0,0]
[302,"（北相木村）",{"v":1.42,"d":"1"},{"v":1554.14,"d":"1554"},0,0,0,0]
[303,"佐久穂町",{"v":239.57,"d":"240"},{"v":6757.38,"d":"6757"},0,0,0,0]
[304,"海瀬村",{"v":31.2,"d":"31"},{"v":1266.07,"d":"1266"},0,0,0,0]
[305,"栄村（佐久穂町）",{"v":49.11,"d":"49"},{"v":1540.63,"d":"1541"},0,0,0,0]
[306,"大日向村",0,{"v":453.85,"d":"454"},0,0,0,0]
[307,"青沼村２－２",0,{"v":248.8,"d":"249"},0,0,0,0]
[308,"畑八村",{"v":131.4,"d":"131"},{"v":1900.17,"d":"1900"},0,0,0,0]
[309,"穂積村２－１",{"v":24.85,"d":"25"},{"v":898.34,"d":"898"},0,0,0,0]
[310,"北牧村２－２",{"v":3.03,"d":"3"},{"v":449.53,"d":"450"},0,0,0,0]
[311,"軽井沢町",{"v":8557.06,"d":"8557"},{"v":2155.64,"d":"2156"},0,0,{"v":106.34,"d":"106"},0]
[312,"軽井沢町（旧）",{"v":8547.05,"d":"8547"},{"v":1444.99,"d":"1445"},0,0,{"v":106.34,"d":"106"},0]
[313,"伍賀村２－２",{"v":10.01,"d":"10"},{"v":710.65,"d":"711"},0,0,0,0]
[314,"御代田町",{"v":2359.53,"d":"2360"},{"v":2086.43,"d":"2086"},0,0,{"v":5.72,"d":"6"},{"v":68.95,"d":"69"}]
[315,"伍賀村２－１",{"v":7.11,"d":"7"},{"v":676.68,"d":"677"},0,0,0,{"v":3.48,"d":"3"}]
[316,"御代田村２－１",{"v":176.96,"d":"177"},{"v":387.72,"d":"388"},0,0,{"v":5.72,"d":"6"},{"v":42.83,"d":"43"}]
[317,"小沼村２－１－１",{"v":2175.46,"d":"2175"},{"v":1022.02,"d":"1022"},0,0,0,{"v":22.64,"d":"23"}]
[318,"立科町",{"v":371.5,"d":"372"},{"v":3355.85,"d":"3356"},0,0,0,0]
[319,"芦田村",{"v":28.74,"d":"29"},{"v":1097.3,"d":"1097"},0,0,0,0]
[320,"三都和村",{"v":191.48,"d":"191"},841,0,0,0,0]
[321,"横鳥村",{"v":113.52,"d":"114"},{"v":1103.1,"d":"1103"},0,0,0,0]
[322,"本牧村２－２",{"v":37.75,"d":"38"},{"v":314.46,"d":"314"},0,0,0,0]
[323,"青木村",{"v":8.2,"d":"8"},{"v":2624.33,"d":"2624"},0,0,0,0]
[324,"青木村（旧）",{"v":8.2,"d":"8"},{"v":2285.54,"d":"2286"},0,0,0,0]
[325,"浦里村２－２",0,{"v":338.8,"d":"339"},0,0,0,0]
[326,"長和町",{"v":82.39,"d":"82"},{"v":3824.96,"d":"3825"},0,{"v":0.02,"d":"0"},0,0]
[327,"大門村",{"v":4.37,"d":"4"},{"v":705.69,"d":"706"},0,0,0,0]
[328,"長久保新町",0,{"v":957.64,"d":"958"},0,0,0,0]
[329,"長窪古町",{"v":75.48,"d":"75"},{"v":856.43,"d":"856"},0,0,0,0]
[330,"和田村（長和町）",{"v":2.54,"d":"3"},{"v":1305.21,"d":"1305"},0,{"v":0.02,"d":"0"},0,0]
[331,"下諏訪町",{"v":5.1,"d":"5"},{"v":337.88,"d":"338"},0,{"v":9.82,"d":"10"},{"v":48.82000000000001,"d":"49"},{"v":110.87,"d":"111"}]
[332,"下諏訪町（旧）",{"v":0.08,"d":"0"},{"v":337.88,"d":"338"},0,{"v":9.82,"d":"10"},{"v":43.53,"d":"44"},{"v":98.58,"d":"99"}]
[333,"長地村２－２",{"v":5.02,"d":"5"},0,0,0,{"v":5.29,"d":"5"},{"v":12.3,"d":"12"}]
[334,"富士見町",{"v":6141.53,"d":"6142"},{"v":5437.12,"d":"5437"},0,0,{"v":14.82,"d":"15"},{"v":108.73000000000002,"d":"109"}]
[335,"富士見村",{"v":2954.73,"d":"2955"},{"v":1418.39,"d":"1418"},0,0,{"v":9.629999999999999,"d":"10"},{"v":61.85,"d":"62"}]
[336,"本郷村（富士見町）",{"v":57.45,"d":"57"},{"v":1749.59,"d":"1750"},0,0,0,0]
[337,"落合村",{"v":2854.5,"d":"2855"},{"v":1146.42,"d":"1146"},0,0,{"v":1.65,"d":"2"},{"v":39.61,"d":"40"}]
[338,"境村",{"v":274.84,"d":"275"},{"v":1122.71,"d":"1123"},0,0,{"v":3.54,"d":"4"},{"v":7.27,"d":"7"}]
[339,"原村",{"v":187.98,"d":"188"},{"v":2347.17,"d":"2347"},0,0,0,0]
[340,"（原村）",{"v":187.98,"d":"188"},{"v":2347.17,"d":"2347"},0,0,0,0]
[341,"辰野町",{"v":2206.51,"d":"2207"},{"v":2690.43,"d":"2690"},0,0,{"v":20.11,"d":"20"},{"v":92.13999999999999,"d":"92"}]
[342,"辰野町（旧）",{"v":1.27,"d":"1"},{"v":752.85,"d":"753"},0,0,{"v":17.76,"d":"18"},{"v":70.78999999999999,"d":"71"}]
[343,"朝日村（辰野町）",{"v":2067.5,"d":"2068"},{"v":1091.31,"d":"1091"},0,0,{"v":2.35,"d":"2"},{"v":21.35,"d":"21"}]
[344,"川島村",0,{"v":335.11,"d":"335"},0,0,0,0]
[345,"小野村",{"v":137.74,"d":"138"},{"v":511.15,"d":"511"},0,0,0,0]
[346,"箕輪町",{"v":3798.79,"d":"3799"},{"v":3007.98,"d":"3008"},0,0,{"v":18.82,"d":"19"},{"v":124.86999999999999,"d":"125"}]
[347,"中箕輪町",{"v":77.01,"d":"77"},{"v":1867.14,"d":"1867"},0,0,{"v":18.82,"d":"19"},{"v":118.84,"d":"119"}]
[348,"東箕輪村",{"v":2765.94,"d":"2766"},{"v":573.64,"d":"574"},0,0,0,0]
[349,"箕輪村",{"v":938.49,"d":"938"},{"v":437.89,"d":"438"},0,0,0,{"v":6.029999999999999,"d":"6"}]
[350,"西箕輪村２－２",{"v":17.35,"d":"17"},{"v":129.32,"d":"129"},0,0,0,0]
[351,"飯島町",{"v":722.41,"d":"722"},{"v":2669.12,"d":"2669"},0,0,{"v":12.59,"d":"13"},{"v":102.71000000000001,"d":"103"}]
[352,"飯島村",{"v":675.69,"d":"676"},{"v":1975.01,"d":"1975"},0,0,{"v":10.1,"d":"10"},{"v":89.94999999999999,"d":"90"}]
[353,"七久保村",{"v":46.72,"d":"47"},{"v":694.11,"d":"694"},0,0,{"v":2.49,"d":"2"},{"v":12.75,"d":"13"}]
[354,"南箕輪村",{"v":140.89,"d":"141"},{"v":1230.22,"d":"1230"},0,0,{"v":10.35,"d":"10"},{"v":103.83999999999999,"d":"104"}]
[355,"（南箕輪村）",{"v":140.89,"d":"141"},{"v":1230.22,"d":"1230"},0,0,{"v":10.35,"d":"10"},{"v":103.83999999999999,"d":"104"}]
[356,"中川村",{"v":5855.41,"d":"5855"},{"v":4311.16,"d":"4311"},0,0,{"v":12.74,"d":"13"},{"v":16.99,"d":"17"}]
[357,"南向村",{"v":5525.07,"d":"5525"},{"v":3255.82,"d":"3256"},0,0,{"v":5.81,"d":"6"},{"v":3.45,"d":"3"}]
[358,"片桐村",{"v":330.34,"d":"330"},{"v":1055.34,"d":"1055"},0,0,{"v":6.94,"d":"7"},{"v":13.55,"d":"14"}]
[359,"宮田村",{"v":65.27,"d":"65"},{"v":927.35,"d":"927"},0,0,{"v":9.28,"d":"9"},{"v":25.89,"d":"26"}]
[360,"（宮田村）",{"v":65.27,"d":"65"},{"v":927.35,"d":"927"},0,0,{"v":9.28,"d":"9"},{"v":25.89,"d":"26"}]
[361,"松川町",{"v":2314.03,"d":"2314"},{"v":3872.36,"d":"3872"},0,0,{"v":4.07,"d":"4"},{"v":16.62,"d":"17"}]
[362,"大島村",{"v":116.78,"d":"117"},{"v":1165.44,"d":"1165"},0,0,{"v":4.07,"d":"4"},{"v":16.62,"d":"17"}]
[363,"上片桐村",{"v":69.35,"d":"69"},{"v":748.42,"d":"748"},0,0,0,0]
[364,"生田村",{"v":2095.82,"d":"2096"},{"v":1797.39,"d":"1797"},0,0,0,0]
[365,"山吹村２－２",{"v":32.07,"d":"32"},{"v":161.11,"d":"161"},0,0,0,0]
[366,"高森町",{"v":217.07,"d":"217"},{"v":2185.83,"d":"2186"},0,0,{"v":9.34,"d":"9"},{"v":56.620000000000005,"d":"57"}]
[367,"市田村",{"v":120.01,"d":"120"},{"v":1248.41,"d":"1248"},0,0,{"v":9.34,"d":"9"},{"v":49.760000000000005,"d":"50"}]
[368,"山吹村２－１",{"v":97.07,"d":"97"},{"v":937.42,"d":"937"},0,0,0,{"v":6.859999999999999,"d":"7"}]
[369,"阿南町",{"v":137.32,"d":"137"},{"v":6935.54,"d":"6936"},0,0,0,0]
[370,"大下条村",{"v":109.77,"d":"110"},{"v":1955.05,"d":"1955"},0,0,0,0]
[371,"旦開村",0,{"v":1018.99,"d":"1019"},0,0,0,0]
[372,"和合村",0,{"v":2574.03,"d":"2574"},0,0,0,0]
[373,"富草村",{"v":27.55,"d":"28"},{"v":1387.47,"d":"1387"},0,0,0,0]
[374,"阿智村",50,{"v":11581.79,"d":"11582"},0,0,0,0]
[375,"会地村",{"v":9.79,"d":"10"},{"v":1476.62,"d":"1477"},0,0,0,0]
[376,"伍和村",{"v":35.41,"d":"35"},{"v":1818.85,"d":"1819"},0,0,0,0]
[377,"智里村",{"v":4.8,"d":"5"},{"v":3491.82,"d":"3492"},0,0,0,0]
[378,"浪合村",0,{"v":2198.65,"d":"2199"},0,0,0,0]
[379,"清内路村",0,{"v":2595.85,"d":"2596"},0,0,0,0]
[380,"平谷村",0,{"v":670.36,"d":"670"},0,0,0,0]
[381,"（平谷村）",0,{"v":670.36,"d":"670"},0,0,0,0]
[382,"根羽村",0,{"v":3764.96,"d":"3765"},0,0,0,0]
[383,"（根羽村）",0,{"v":3764.96,"d":"3765"},0,0,0,0]
[384,"下條村",{"v":70.32,"d":"70"},{"v":2969.21,"d":"2969"},0,0,0,0]
[385,"（下條村）",{"v":70.32,"d":"70"},{"v":2969.21,"d":"2969"},0,0,0,0]
[386,"売木村",0,{"v":2323.9,"d":"2324"},0,0,0,0]
[387,"（売木村）",0,{"v":2323.9,"d":"2324"},0,0,0,0]
[388,"天龍村",{"v":3979.78,"d":"3980"},{"v":8266.36,"d":"8266"},0,0,0,0]
[389,"平岡村（天龍村）",{"v":3978.06,"d":"3978"},{"v":2399.89,"d":"2400"},0,0,0,0]
[390,"神原村",{"v":1.72,"d":"2"},{"v":5866.47,"d":"5866"},0,0,0,0]
[391,"泰阜村",{"v":5559.17,"d":"5559"},{"v":5522.09,"d":"5522"},0,0,0,0]
[392,"（泰阜村）",{"v":5559.17,"d":"5559"},{"v":5522.09,"d":"5522"},0,0,0,0]
[393,"喬木村",{"v":5417.99,"d":"5418"},{"v":3506.72,"d":"3507"},0,0,0,0]
[394,"（喬木村）",{"v":5417.99,"d":"5418"},{"v":3506.72,"d":"3507"},0,0,0,0]
[395,"豊丘村",{"v":6250.65,"d":"6251"},{"v":3972.1,"d":"3972"},0,0,0,0]
[396,"神稲村",{"v":4647.77,"d":"4648"},{"v":2814.85,"d":"2815"},0,0,0,0]
[397,"河野村",{"v":1602.88,"d":"1603"},{"v":1157.26,"d":"1157"},0,0,0,0]
[398,"大鹿村",{"v":23697.93,"d":"23698"},{"v":4435.81,"d":"4436"},0,0,0,0]
[399,"（大鹿村）",{"v":23697.93,"d":"23698"},{"v":4435.81,"d":"4436"},0,0,0,0]
[400,"上松町",{"v":11.97,"d":"12"},{"v":4669.75,"d":"4670"},0,0,{"v":12.13,"d":"12"},{"v":39.78,"d":"40"}]
[401,"（上松町）",{"v":11.97,"d":"12"},{"v":4669.75,"d":"4670"},0,0,{"v":12.13,"d":"12"},{"v":39.78,"d":"40"}]
[402,"南木曽町",{"v":9.99,"d":"10"},{"v":6702.12,"d":"6702"},0,0,0,0]
[403,"読書村",{"v":9.99,"d":"10"},{"v":3303.81,"d":"3304"},0,0,0,0]
[404,"吾妻村",0,{"v":2281.76,"d":"2282"},0,0,0,0]
[405,"田立村",0,{"v":1116.55,"d":"1117"},0,0,0,0]
[406,"木祖村",{"v":32.66,"d":"33"},{"v":3265.03,"d":"3265"},0,0,0,0]
[407,"（木祖村）",{"v":32.66,"d":"33"},{"v":3265.03,"d":"3265"},0,0,0,0]
[408,"王滝村",{"v":3.77,"d":"4"},{"v":1902.45,"d":"1902"},0,0,0,0]
[409,"（王滝村）",{"v":3.77,"d":"4"},{"v":1902.45,"d":"1902"},0,0,0,0]
[410,"大桑村",{"v":76.05,"d":"76"},{"v":5267.06,"d":"5267"},0,0,0,0]
[411,"（大桑村）",{"v":76.05,"d":"76"},{"v":5267.06,"d":"5267"},0,0,0,0]
[412,"木曽町",{"v":49.82,"d":"50"},{"v":27401.48,"d":"27401"},0,0,{"v":10.239999999999998,"d":"10"},{"v":19.69,"d":"20"}]
[413,"福島町",{"v":8.67,"d":"9"},{"v":2500.23,"d":"2500"},0,0,{"v":10.239999999999998,"d":"10"},{"v":19.69,"d":"20"}]
[414,"新開村",{"v":8.73,"d":"9"},{"v":2966.72,"d":"2967"},0,0,0,0]
[415,"日義村",{"v":16.75,"d":"17"},{"v":3163.24,"d":"3163"},0,0,0,0]
[416,"開田村",6,{"v":9870.38,"d":"9870"},0,0,0,0]
[417,"三岳村",{"v":9.67,"d":"10"},{"v":8900.91,"d":"8901"},0,0,0,0]
[418,"麻績村",{"v":246.37,"d":"246"},{"v":2317.74,"d":"2318"},0,0,0,0]
[419,"麻績村（旧）",{"v":112.95,"d":"113"},{"v":1492.43,"d":"1492"},0,0,0,0]
[420,"日向村",{"v":133.43,"d":"133"},{"v":825.31,"d":"825"},0,0,0,0]
[421,"生坂村",{"v":34.54,"d":"35"},3105,0,0,0,0]
[422,"生坂村（旧）",{"v":21.59,"d":"22"},{"v":1760.22,"d":"1760"},0,0,0,0]
[423,"陸郷村３－２",{"v":7.35,"d":"7"},{"v":454.84,"d":"455"},0,0,0,0]
[424,"広津村３－１",{"v":5.61,"d":"6"},{"v":889.94,"d":"890"},0,0,0,0]
[425,"山形村",0,{"v":1229.68,"d":"1230"},{"v":5.54,"d":"6"},{"v":17.07,"d":"17"},0,0]
[426,"（山形村）",0,{"v":1229.68,"d":"1230"},{"v":5.54,"d":"6"},{"v":17.07,"d":"17"},0,0]
[427,"朝日村",0,{"v":1023.94,"d":"1024"},0,{"v":8.27,"d":"8"},0,0]
[428,"（朝日村）",0,{"v":1023.94,"d":"1024"},0,{"v":8.27,"d":"8"},0,0]
[429,"筑北村",{"v":69.54,"d":"70"},{"v":4344.6,"d":"4345"},0,0,0,0]
[430,"本城村",{"v":32.74,"d":"33"},{"v":1323.69,"d":"1324"},0,0,0,0]
[431,"坂北村",{"v":36.8,"d":"37"},{"v":2365.27,"d":"2365"},0,0,0,0]
[432,"坂井村",0,{"v":655.64,"d":"656"},0,0,0,0]
[433,"池田町",{"v":16.81,"d":"17"},{"v":2760.3,"d":"2760"},0,0,0,0]
[434,"池田町（旧）",{"v":2.56,"d":"3"},{"v":390.34,"d":"390"},0,0,0,0]
[435,"会染村",0,{"v":808.4,"d":"808"},0,0,0,0]
[436,"七貴村２－２",0,{"v":172.33,"d":"172"},0,0,0,0]
[437,"陸郷村３－３",{"v":14.14,"d":"14"},{"v":311.58,"d":"312"},0,0,0,0]
[438,"広津村３－２",{"v":0.11,"d":"0"},{"v":1077.66,"d":"1078"},0,0,0,0]
[439,"松川村",{"v":2.84,"d":"3"},{"v":2414.02,"d":"2414"},0,0,0,0]
[440,"（松川村）",{"v":2.84,"d":"3"},{"v":2414.02,"d":"2414"},0,0,0,0]
[441,"白馬村",{"v":162.48,"d":"162"},{"v":6214.72,"d":"6215"},0,0,0,0]
[442,"神城村",{"v":27.45,"d":"27"},{"v":2063.55,"d":"2064"},0,0,0,0]
[443,"北城村",{"v":135.03,"d":"135"},{"v":4151.17,"d":"4151"},0,0,0,0]
[444,"小谷村",{"v":520.87,"d":"521"},{"v":13328.63,"d":"13329"},0,0,0,0]
[445,"南小谷村",{"v":480.35,"d":"480"},{"v":4960.76,"d":"4961"},0,0,0,0]
[446,"中土村",{"v":34.51,"d":"35"},{"v":3900.14,"d":"3900"},0,0,0,0]
[447,"北小谷村",{"v":6.02,"d":"6"},{"v":4467.73,"d":"4468"},0,0,0,0]
[448,"坂城町",{"v":2562.68,"d":"2563"},{"v":1424.78,"d":"1425"},0,0,{"v":8.92,"d":"9"},{"v":134.94,"d":"135"}]
[449,"坂城町（旧）",{"v":1364.09,"d":"1364"},{"v":822.62,"d":"823"},0,0,{"v":8.92,"d":"9"},{"v":48.34,"d":"48"}]
[450,"中之条村",{"v":373.55,"d":"374"},{"v":72.46,"d":"72"},0,0,0,{"v":32.9,"d":"33"}]
[451,"南条村",{"v":825.03,"d":"825"},{"v":204.08,"d":"204"},0,0,0,{"v":35.58,"d":"36"}]
[452,"村上村",0,{"v":325.62,"d":"326"},0,0,0,{"v":18.119999999999997,"d":"18"}]
[453,"小布施町",{"v":276.07,"d":"276"},{"v":1458.22,"d":"1458"},{"v":168.85,"d":"169"},{"v":1511.78,"d":"1512"},{"v":12.66,"d":"13"},{"v":13.16,"d":"13"}]
[454,"小布施村",{"v":14.64,"d":"15"},{"v":901.63,"d":"902"},{"v":146.45,"d":"146"},{"v":907.19,"d":"907"},{"v":12.66,"d":"13"},{"v":12.46,"d":"12"}]
[455,"都住村",{"v":261.43,"d":"261"},{"v":556.59,"d":"557"},{"v":22.4,"d":"22"},{"v":604.58,"d":"605"},0,{"v":0.7,"d":"1"}]
[456,"高山村",{"v":8206.64,"d":"8207"},{"v":1984.39,"d":"1984"},0,0,0,0]
[457,"高井村",{"v":5319.07,"d":"5319"},{"v":1100.87,"d":"1101"},0,0,0,0]
[458,"山田村",{"v":2887.57,"d":"2888"},{"v":883.53,"d":"884"},0,0,0,0]
[459,"山ノ内町",{"v":23650.14,"d":"23650"},{"v":2563.36,"d":"2563"},0,0,{"v":65.54,"d":"66"},0]
[460,"平穏村",{"v":16006.2,"d":"16006"},{"v":396.55,"d":"397"},0,0,{"v":49.88,"d":"50"},0]
[461,"穂波村",{"v":2450.71,"d":"2451"},{"v":563.79,"d":"564"},0,0,{"v":15.65,"d":"16"},0]
[462,"夜間瀬村",{"v":5193.23,"d":"5193"},{"v":1603.03,"d":"1603"},0,0,0,0]
[463,"木島平村",{"v":8115.48,"d":"8115"},{"v":2123.66,"d":"2124"},0,0,0,0]
[464,"往郷村",{"v":4157.37,"d":"4157"},{"v":665.73,"d":"666"},0,0,0,0]
[465,"穂高村",{"v":317.03,"d":"317"},{"v":449.55,"d":"450"},0,0,0,0]
[466,"上木島村",{"v":3641.08,"d":"3641"},{"v":1008.38,"d":"1008"},0,0,0,0]
[467,"野沢温泉村",{"v":4738.47,"d":"4738"},{"v":1114.99,"d":"1115"},0,0,0,0]
[468,"豊郷村",{"v":2162.27,"d":"2162"},{"v":362.59,"d":"363"},0,0,0,0]
[469,"市川村",{"v":2215.44,"d":"2215"},{"v":669.29,"d":"669"},0,0,0,0]
[470,"瑞穂村２－２",{"v":360.76,"d":"361"},{"v":83.11,"d":"83"},0,0,0,0]
[471,"信濃町",{"v":94.62,"d":"95"},{"v":4953.68,"d":"4954"},0,0,{"v":20.119999999999997,"d":"20"},{"v":56.650000000000006,"d":"57"}]
[472,"柏原村",{"v":30.1,"d":"30"},{"v":1070.94,"d":"1071"},0,0,{"v":11.82,"d":"12"},{"v":12.24,"d":"12"}]
[473,"信濃尻村",0,{"v":1036.51,"d":"1037"},0,0,{"v":3.62,"d":"4"},{"v":5.61,"d":"6"}]
[474,"古間村",0,{"v":1078.09,"d":"1078"},0,0,{"v":4.68,"d":"5"},{"v":34.19,"d":"34"}]
[475,"富士里村",{"v":64.52,"d":"65"},1743,0,0,0,{"v":4.62,"d":"5"}]
[476,"三水村２－２",0,{"v":25.14,"d":"25"},0,0,0,0]
[477,"小川村",{"v":216.54,"d":"217"},{"v":3824.81,"d":"3825"},0,0,0,0]
[478,"北小川村",{"v":22.49,"d":"22"},{"v":1878.71,"d":"1879"},0,0,0,0]
[479,"南小川村",{"v":194.05,"d":"194"},{"v":1946.1,"d":"1946"},0,0,0,0]
[480,"飯綱町",{"v":670.38,"d":"670"},{"v":5820.89,"d":"5821"},0,0,0,0]
[481,"高岡村",{"v":34.9,"d":"35"},{"v":1198.59,"d":"1199"},0,0,0,0]
[482,"中郷村",{"v":276.99,"d":"277"},{"v":1509.09,"d":"1509"},0,0,0,0]
[483,"三水村",{"v":358.49,"d":"358"},{"v":3113.21,"d":"3113"},0,0,0,0]
[484,"栄村",{"v":25393.7,"d":"25394"},{"v":9938.58,"d":"9939"},0,0,0,0]
[485,"水内村（栄村）",{"v":2368.57,"d":"2369"},{"v":2374.11,"d":"2374"},0,0,0,0]
[486,"堺村",{"v":23025.14,"d":"23025"},{"v":7564.47,"d":"7564"},0,0,0,0]
[487]
[488]
[489]
[490]
[491]
[492]
[493]
[494]
[495]
[496]
[497]
[498]
[499]
[500]

{"sheet":"地域類型区分","index":5,"n_rows":501,"n_cols":10,"rows_kept":501,"hidden":true}
[]
[1,"長野県","設定","されていません"]
[2,"長野市","都市的地域","畑地型","長野市",null,1,3,"都市的地域","畑地型"]
[3,"長野市（旧）","都市的地域","畑地型","長野市","長野市",1,3,"都市的地域","畑地型"]
[4,"芋井村","中間農業地域","田畑型","長野市","芋井村",3,2,"中間農業地域","田畑型"]
[5,"浅川村","中間農業地域","畑地型","長野市","浅川村",3,3,"中間農業地域","畑地型"]
[6,"若槻村","都市的地域","畑地型","長野市","若槻村",1,3,"都市的地域","畑地型"]
[7,"古里村","都市的地域","田畑型","長野市","古里村",1,2,"都市的地域","田畑型"]
[8,"長沼村","平地農業地域","畑地型","長野市","長沼村",2,3,"平地農業地域","畑地型"]
[9,"柳原村（長野市）","都市的地域","田畑型","長野市","柳原村",1,2,"都市的地域","田畑型"]
[10,"朝陽村","都市的地域","田畑型","長野市","朝陽村",1,2,"都市的地域","田畑型"]
[11,"大豆島村","都市的地域","田畑型","長野市","大豆島村",1,2,"都市的地域","田畑型"]
[12,"安茂里村","都市的地域","畑地型","長野市","安茂里村",1,3,"都市的地域","畑地型"]
[13,"小田切村","中間農業地域","畑地型","長野市","小田切村",3,3,"中間農業地域","畑地型"]
[14,"篠ノ井町","都市的地域","畑地型","長野市","篠ノ井町",1,3,"都市的地域","畑地型"]
[15,"川柳村","都市的地域","田畑型","長野市","川柳村",1,2,"都市的地域","田畑型"]
[16,"塩崎村","平地農業地域","畑地型","長野市","塩崎村",2,3,"平地農業地域","畑地型"]
[17,"東福寺村","平地農業地域","畑地型","長野市","東福寺村",2,3,"平地農業地域","畑地型"]
[18,"信里村","中間農業地域","田畑型","長野市","信里村",3,2,"中間農業地域","田畑型"]
[19,"西寺尾村２－１","都市的地域","畑地型","長野市","西寺尾村２－１",1,3,"都市的地域","畑地型"]
[20,"共和村","平地農業地域","畑地型","長野市","共和村",2,3,"平地農業地域","畑地型"]
[21,"川中島村","都市的地域","田畑型","長野市","川中島村",1,2,"都市的地域","田畑型"]
[22,"中津村（長野市）","都市的地域","田畑型","長野市","中津村",1,2,"都市的地域","田畑型"]
[23,"御厨村","都市的地域","田畑型","長野市","御厨村",1,2,"都市的地域","田畑型"]
[24,"信田村","中間農業地域","田畑型","長野市","信田村",3,2,"中間農業地域","田畑型"]
[25,"更府村","中間農業地域","田畑型","長野市","更府村",3,2,"中間農業地域","田畑型"]
[26,"青木島村","都市的地域","田畑型","長野市","青木島村",1,2,"都市的地域","田畑型"]
[27,"稲里村","都市的地域","田畑型","長野市","稲里村",1,2,"都市的地域","田畑型"]
[28,"小島田村","都市的地域","田畑型","長野市","小島田村",1,2,"都市的地域","田畑型"]
[29,"真島村","都市的地域","畑地型","長野市","真島村",1,3,"都市的地域","畑地型"]
[30,"松代町","都市的地域","畑地型","長野市","松代町",1,3,"都市的地域","畑地型"]
[31,"東条村","中間農業地域","畑地型","長野市","東条村",3,3,"中間農業地域","畑地型"]
[32,"清野村","平地農業地域","畑地型","長野市","清野村",2,3,"平地農業地域","畑地型"]
[33,"豊栄村","山間農業地域","田畑型","長野市","豊栄村",4,2,"山間農業地域","田畑型"]
[34,"寺尾村","平地農業地域","畑地型","長野市","寺尾村",2,3,"平地農業地域","畑地型"]
[35,"西寺尾村２－２","都市的地域","畑地型","長野市","西寺尾村２－２",1,3,"都市的地域","畑地型"]
[36,"西条村","山間農業地域","田畑型","長野市","西条村",4,2,"山間農業地域","田畑型"]
[37,"保科村","山間農業地域","畑地型","長野市","保科村",4,3,"山間農業地域","畑地型"]
[38,"川田村","平地農業地域","畑地型","長野市","川田村",2,3,"平地農業地域","畑地型"]
[39,"綿内村","平地農業地域","畑地型","長野市","綿内村",2,3,"平地農業地域","畑地型"]
[40,"七二会村","中間農業地域","畑地型","長野市","七二会村",3,3,"中間農業地域","畑地型"]
[41,"神郷村","都市的地域","畑地型","長野市","神郷村",1,3,"都市的地域","畑地型"]
[42,"鳥居村","平地農業地域","畑地型","長野市","鳥居村",2,3,"平地農業地域","畑地型"]
[43,"戸隠村","中間農業地域","田畑型","長野市","戸隠村",3,2,"中間農業地域","田畑型"]
[44,"柵村","中間農業地域","田畑型","長野市","柵村",3,2,"中間農業地域","田畑型"]
[45,"鬼無里村","山間農業地域","田畑型","長野市","鬼無里村",4,2,"山間農業地域","田畑型"]
[46,"大岡村","中間農業地域","田畑型","長野市","大岡村",3,2,"中間農業地域","田畑型"]
[47,"牧郷村２－２","中間農業地域","田畑型","長野市","牧郷村２－２",3,2,"中間農業地域","田畑型"]
[48,"水内村（長野市）","中間農業地域","畑地型","長野市","水内村",3,3,"中間農業地域","畑地型"]
[49,"津和村","中間農業地域","畑地型","長野市","津和村",3,3,"中間農業地域","畑地型"]
[50,"日原村","山間農業地域","田畑型","長野市","日原村",4,2,"山間農業地域","田畑型"]
[51,"八坂村２－２","山間農業地域","田畑型","長野市","八坂村２－２",4,2,"山間農業地域","田畑型"]
[52,"信級村","山間農業地域","田畑型","長野市","信級村",4,2,"山間農業地域","田畑型"]
[53,"牧郷村２－１","中間農業地域","田畑型","長野市","牧郷村２－１",3,2,"中間農業地域","田畑型"]
[54,"栄村（長野市）","中間農業地域","畑地型","長野市","栄村",3,3,"中間農業地域","畑地型"]
[55,"日里村","中間農業地域","田畑型","長野市","日里村",3,2,"中間農業地域","田畑型"]
[56,"松本市","都市的地域","田畑型","松本市",null,1,2,"都市的地域","田畑型"]
[57,"松本市（旧）","都市的地域","田畑型","松本市","松本市",1,2,"都市的地域","田畑型"]
[58,"島内村","都市的地域","水田型","松本市","島内村",1,1,"都市的地域","水田型"]
[59,"中山村","中間農業地域","田畑型","松本市","中山村",3,2,"中間農業地域","田畑型"]
[60,"島立村","都市的地域","水田型","松本市","島立村",1,1,"都市的地域","水田型"]
[61,"和田村（松本市）","平地農業地域","水田型","松本市","和田村",2,1,"平地農業地域","水田型"]
[62,"笹賀村","都市的地域","水田型","松本市","笹賀村",1,1,"都市的地域","水田型"]
[63,"芳川村","都市的地域","水田型","松本市","芳川村",1,1,"都市的地域","水田型"]
[64,"寿村","都市的地域","田畑型","松本市","寿村",1,2,"都市的地域","田畑型"]
[65,"岡田村","都市的地域","田畑型","松本市","岡田村",1,2,"都市的地域","田畑型"]
[66,"入山辺村","山間農業地域","田畑型","松本市","入山辺村",4,2,"山間農業地域","田畑型"]
[67,"里山辺村","都市的地域","田畑型","松本市","里山辺村",1,2,"都市的地域","田畑型"]
[68,"今井村","平地農業地域","田畑型","松本市","今井村",2,2,"平地農業地域","田畑型"]
[69,"新村","平地農業地域","水田型","松本市","新村",2,1,"平地農業地域","水田型"]
[70,"神林村","平地農業地域","水田型","松本市","神林村",2,1,"平地農業地域","水田型"]
[71,"片丘村２－２","中間農業地域","田畑型","松本市","片丘村２－２",3,2,"中間農業地域","田畑型"]
[72,"本郷村（松本市）","山間農業地域","田畑型","松本市","本郷村",4,2,"山間農業地域","田畑型"]
[73,"洗馬村２－２","都市的地域","畑地型","松本市","洗馬村２－２",1,3,"都市的地域","畑地型"]
[74,"錦部村","山間農業地域","田畑型","松本市","錦部村",4,2,"山間農業地域","田畑型"]
[75,"会田村","中間農業地域","田畑型","松本市","会田村",3,2,"中間農業地域","田畑型"]
[76,"五常村","中間農業地域","田畑型","松本市","五常村",3,2,"中間農業地域","田畑型"]
[77,"中川村（松本市）","山間農業地域","田畑型","松本市","中川村",4,2,"山間農業地域","田畑型"]
[78,"安曇村","山間農業地域","畑地型","松本市","安曇村",4,3,"山間農業地域","畑地型"]
[79,"奈川村","山間農業地域","畑地型","松本市","奈川村",4,3,"山間農業地域","畑地型"]
[80,"梓村","平地農業地域","田畑型","松本市","梓村",2,2,"平地農業地域","田畑型"]
[81,"倭村（松本市）","平地農業地域","水田型","松本市","倭村",2,1,"平地農業地域","水田型"]
[82,"波田町","中間農業地域","田畑型","松本市","波田町",3,2,"中間農業地域","田畑型"]
[83,"上田市","都市的地域","田畑型","上田市",null,1,2,"都市的地域","田畑型"]
[84,"上田市（旧）","都市的地域","田畑型","上田市","上田市",1,2,"都市的地域","田畑型"]
[85,"塩尻村","都市的地域","田畑型","上田市","塩尻村",1,2,"都市的地域","田畑型"]
[86,"川辺村（上田市）","都市的地域","田畑型","上田市","川辺村",1,2,"都市的地域","田畑型"]
[87,"泉田村２－２","中間農業地域","田畑型","上田市","泉田村２－２",3,2,"中間農業地域","田畑型"]
[88,"神川村","都市的地域","田畑型","上田市","神川村",1,2,"都市的地域","田畑型"]
[89,"神科村","都市的地域","田畑型","上田市","神科村",1,2,"都市的地域","田畑型"]
[90,"豊里村","平地農業地域","田畑型","上田市","豊里村",2,2,"平地農業地域","田畑型"]
[91,"殿城村","中間農業地域","田畑型","上田市","殿城村",3,2,"中間農業地域","田畑型"]
[92,"中塩田村","平地農業地域","水田型","上田市","中塩田村",2,1,"平地農業地域","水田型"]
[93,"別所村","中間農業地域","田畑型","上田市","別所村",3,2,"中間農業地域","田畑型"]
[94,"西塩田村","中間農業地域","水田型","上田市","西塩田村",3,1,"中間農業地域","水田型"]
[95,"東塩田村","平地農業地域","田畑型","上田市","東塩田村",2,2,"平地農業地域","田畑型"]
[96,"泉田村２－１","平地農業地域","水田型","上田市","泉田村２－１",2,1,"平地農業地域","水田型"]
[97,"室賀村","山間農業地域","田畑型","上田市","室賀村",4,2,"山間農業地域","田畑型"]
[98,"浦里村２－１","平地農業地域","田畑型","上田市","浦里村２－１",2,2,"平地農業地域","田畑型"]
[99,"丸子町","都市的地域","田畑型","上田市","丸子町",1,2,"都市的地域","田畑型"]
[100,"東内村","山間農業地域","田畑型","上田市","東内村",4,2,"山間農業地域","田畑型"]
[101,"西内村","山間農業地域","田畑型","上田市","西内村",4,2,"山間農業地域","田畑型"]
[102,"依田村","中間農業地域","田畑型","上田市","依田村",3,2,"中間農業地域","田畑型"]
[103,"長瀬村","都市的地域","田畑型","上田市","長瀬村",1,2,"都市的地域","田畑型"]
[104,"塩川村","平地農業地域","田畑型","上田市","塩川村",2,2,"平地農業地域","田畑型"]
[105,"傍陽村","山間農業地域","田畑型","上田市","傍陽村",4,2,"山間農業地域","田畑型"]
[106,"本原村","中間農業地域","田畑型","上田市","本原村",3,2,"中間農業地域","田畑型"]
[107,"長村","山間農業地域","畑地型","上田市","長村",4,3,"山間農業地域","畑地型"]
[108,"武石村","山間農業地域","田畑型","上田市","武石村",4,2,"山間農業地域","田畑型"]
[109,"岡谷市","都市的地域","田畑型","岡谷市",null,1,2,"都市的地域","田畑型"]
[110,"岡谷市（旧）","都市的地域","畑地型","岡谷市","岡谷市",1,3,"都市的地域","畑地型"]
[111,"湊村","中間農業地域","畑地型","岡谷市","湊村",3,3,"中間農業地域","畑地型"]
[112,"川岸村","中間農業地域","田畑型","岡谷市","川岸村",3,2,"中間農業地域","田畑型"]
[113,"長地村２－１","都市的地域","田畑型","岡谷市","長地村２－１",1,2,"都市的地域","田畑型"]
[114,"飯田市","都市的地域","田畑型","飯田市",null,1,2,"都市的地域","田畑型"]
[115,"飯田市（旧）","山間農業地域","畑地型","飯田市","飯田市",4,3,"山間農業地域","畑地型"]
[116,"竜丘村","都市的地域","田畑型","飯田市","竜丘村",1,2,"都市的地域","田畑型"]
[117,"下久堅村","平地農業地域","畑地型","飯田市","下久堅村",2,3,"平地農業地域","畑地型"]
[118,"座光寺村","平地農業地域","畑地型","飯田市","座光寺村",2,3,"平地農業地域","畑地型"]
[119,"松尾村","都市的地域","田畑型","飯田市","松尾村",1,2,"都市的地域","田畑型"]
[120,"山本村","中間農業地域","田畑型","飯田市","山本村",3,2,"中間農業地域","田畑型"]
[121,"三穂村","中間農業地域","田畑型","飯田市","三穂村",3,2,"中間農業地域","田畑型"]
[122,"伊賀良村","中間農業地域","田畑型","飯田市","伊賀良村",3,2,"中間農業地域","田畑型"]
[123,"川路村","中間農業地域","田畑型","飯田市","川路村",3,2,"中間農業地域","田畑型"]
[124,"千代村","山間農業地域","畑地型","飯田市","千代村",4,3,"山間農業地域","畑地型"]
[125,"竜江村","中間農業地域","畑地型","飯田市","竜江村",3,3,"中間農業地域","畑地型"]
[126,"上久堅村","中間農業地域","田畑型","飯田市","上久堅村",3,2,"中間農業地域","田畑型"]
[127,"鼎町","都市的地域","田畑型","飯田市","鼎町",1,2,"都市的地域","田畑型"]
[128,"上郷町","都市的地域","田畑型","飯田市","上郷町",1,2,"都市的地域","田畑型"]
[129,"上村","山間農業地域","畑地型","飯田市","上村",4,3,"山間農業地域","畑地型"]
[130,"木沢村","山間農業地域","畑地型","飯田市","木沢村",4,3,"山間農業地域","畑地型"]
[131,"和田村（飯田市）","山間農業地域","畑地型","飯田市","和田村",4,3,"山間農業地域","畑地型"]
[132,"八重河内村","山間農業地域","畑地型","飯田市","八重河内村",4,3,"山間農業地域","畑地型"]
[133,"南和田村","山間農業地域","畑地型","飯田市","南和田村",4,3,"山間農業地域","畑地型"]
[134,"諏訪市","中間農業地域","田畑型","諏訪市",null,3,2,"中間農業地域","田畑型"]
[135,"諏訪市（旧）","中間農業地域","田畑型","諏訪市","諏訪市",3,2,"中間農業地域","田畑型"]
[136,"中洲村","都市的地域","水田型","諏訪市","中洲村",1,1,"都市的地域","水田型"]
[137,"湖南村","山間農業地域","水田型","諏訪市","湖南村",4,1,"山間農業地域","水田型"]
[138,"須坂市","都市的地域","畑地型","須坂市",null,1,3,"都市的地域","畑地型"]
[139,"須坂町","都市的地域","畑地型","須坂市","須坂町",1,3,"都市的地域","畑地型"]
[140,"井上村","平地農業地域","畑地型","須坂市","井上村",2,3,"平地農業地域","畑地型"]
[141,"豊洲村","平地農業地域","畑地型","須坂市","豊洲村",2,3,"平地農業地域","畑地型"]
[142,"日野村（須坂市）","都市的地域","畑地型","須坂市","日野村",1,3,"都市的地域","畑地型"]
[143,"高甫村","平地農業地域","畑地型","須坂市","高甫村",2,3,"平地農業地域","畑地型"]
[144,"仁礼村","山間農業地域","田畑型","須坂市","仁礼村",4,2,"山間農業地域","田畑型"]
[145,"豊丘村（須坂市）","山間農業地域","畑地型","須坂市","豊丘村",4,3,"山間農業地域","畑地型"]
[146,"小諸市","平地農業地域","田畑型","小諸市",null,2,2,"平地農業地域","田畑型"]
[147,"小諸町","都市的地域","田畑型","小諸市","小諸町",1,2,"都市的地域","田畑型"]
[148,"大里村","中間農業地域","田畑型","小諸市","大里村",3,2,"中間農業地域","田畑型"]
[149,"北大井村","平地農業地域","畑地型","小諸市","北大井村",2,3,"平地農業地域","畑地型"]
[150,"南大井村","平地農業地域","田畑型","小諸市","南大井村",2,2,"平地農業地域","田畑型"]
[151,"三岡村","平地農業地域","田畑型","小諸市","三岡村",2,2,"平地農業地域","田畑型"]
[152,"川辺村（小諸市）","平地農業地域","田畑型","小諸市","川辺村",2,2,"平地農業地域","田畑型"]
[153,"小沼村２－２","平地農業地域","田畑型","小諸市","小沼村２－２",2,2,"平地農業地域","田畑型"]
[154,"滋野村２－２","平地農業地域","田畑型","小諸市","滋野村２－２",2,2,"平地農業地域","田畑型"]
[155,"小沼村２－１－２","平地農業地域","畑地型","小諸市","小沼村２－１－２",2,3,"平地農業地域","畑地型"]
[156,"伊那市","中間農業地域","田畑型","伊那市",null,3,2,"中間農業地域","田畑型"]
[157,"伊那町","中間農業地域","田畑型","伊那市","伊那町",3,2,"中間農業地域","田畑型"]
[158,"西箕輪村２－１","中間農業地域","畑地型","伊那市","西箕輪村２－１",3,3,"中間農業地域","畑地型"]
[159,"手良村","中間農業地域","水田型","伊那市","手良村",3,1,"中間農業地域","水田型"]
[160,"美篶村","平地農業地域","水田型","伊那市","美篶村",2,1,"平地農業地域","水田型"]
[161,"富県村","中間農業地域","水田型","伊那市","富県村",3,1,"中間農業地域","水田型"]
[162,"東春近村","平地農業地域","水田型","伊那市","東春近村",2,1,"平地農業地域","水田型"]
[163,"西春近村","中間農業地域","田畑型","伊那市","西春近村",3,2,"中間農業地域","田畑型"]
[164,"高遠町","中間農業地域","田畑型","伊那市","高遠町",3,2,"中間農業地域","田畑型"]
[165,"長藤村","山間農業地域","田畑型","伊那市","長藤村",4,2,"山間農業地域","田畑型"]
[166,"三義村","山間農業地域","田畑型","伊那市","三義村",4,2,"山間農業地域","田畑型"]
[167,"藤沢村","山間農業地域","水田型","伊那市","藤沢村",4,1,"山間農業地域","水田型"]
[168,"河南村","中間農業地域","水田型","伊那市","河南村",3,1,"中間農業地域","水田型"]
[169,"伊那里村","山間農業地域","水田型","伊那市","伊那里村",4,1,"山間農業地域","水田型"]
[170,"美和村","山間農業地域","水田型","伊那市","美和村",4,1,"山間農業地域","水田型"]
[171,"駒ヶ根市","中間農業地域","水田型","駒ヶ根市",null,3,1,"中間農業地域","水田型"]
[172,"赤穂町","中間農業地域","水田型","駒ヶ根市","赤穂町",3,1,"中間農業地域","水田型"]
[173,"中沢村","山間農業地域","田畑型","駒ヶ根市","中沢村",4,2,"山間農業地域","田畑型"]
[174,"伊那村","中間農業地域","田畑型","駒ヶ根市","伊那村",3,2,"中間農業地域","田畑型"]
[175,"中野市","平地農業地域","畑地型","中野市",null,2,3,"平地農業地域","畑地型"]
[176,"中野町","都市的地域","畑地型","中野市","中野町",1,3,"都市的地域","畑地型"]
[177,"日野村（中野市）","中間農業地域","畑地型","中野市","日野村",3,3,"中間農業地域","畑地型"]
[178,"延徳村","平地農業地域","田畑型","中野市","延徳村",2,2,"平地農業地域","田畑型"]
[179,"平野村","都市的地域","畑地型","中野市","平野村",1,3,"都市的地域","畑地型"]
[180,"高丘村","平地農業地域","畑地型","中野市","高丘村",2,3,"平地農業地域","畑地型"]
[181,"長丘村","平地農業地域","畑地型","中野市","長丘村",2,3,"平地農業地域","畑地型"]
[182,"平岡村（中野市）","平地農業地域","畑地型","中野市","平岡村",2,3,"平地農業地域","畑地型"]
[183,"科野村","中間農業地域","畑地型","中野市","科野村",3,3,"中間農業地域","畑地型"]
[184,"倭村（中野市）","中間農業地域","畑地型","中野市","倭村",3,3,"中間農業地域","畑地型"]
[185,"豊井村","中間農業地域","畑地型","中野市","豊井村",3,3,"中間農業地域","畑地型"]
[186,"永田村","中間農業地域","田畑型","中野市","永田村",3,2,"中間農業地域","田畑型"]
[187,"大町市","中間農業地域","水田型","大町市",null,3,1,"中間農業地域","水田型"]
[188,"大町","都市的地域","水田型","大町市","大町",1,1,"都市的地域","水田型"]
[189,"平村","中間農業地域","水田型","大町市","平村",3,1,"中間農業地域","水田型"]
[190,"常盤村（大町市）","中間農業地域","水田型","大町市","常盤村",3,1,"中間農業地域","水田型"]
[191,"社村","中間農業地域","水田型","大町市","社村",3,1,"中間農業地域","水田型"]
[192,"八坂村２－１","山間農業地域","田畑型","大町市","八坂村２－１",4,2,"山間農業地域","田畑型"]
[193,"広津村３－３","中間農業地域","田畑型","大町市","広津村３－３",3,2,"中間農業地域","田畑型"]
[194,"美麻村","山間農業地域","田畑型","大町市","美麻村",4,2,"山間農業地域","田畑型"]
[195,"飯山市","中間農業地域","田畑型","飯山市",null,3,2,"中間農業地域","田畑型"]
[196,"飯山町","中間農業地域","畑地型","飯山市","飯山町",3,3,"中間農業地域","畑地型"]
[197,"秋津村","中間農業地域","田畑型","飯山市","秋津村",3,2,"中間農業地域","田畑型"]
[198,"柳原村（飯山市）","中間農業地域","田畑型","飯山市","柳原村",3,2,"中間農業地域","田畑型"]
[199,"外様村","中間農業地域","田畑型","飯山市","外様村",3,2,"中間農業地域","田畑型"]
[200,"常盤村（飯山市）","平地農業地域","田畑型","飯山市","常盤村",2,2,"平地農業地域","田畑型"]
[201,"太田村","中間農業地域","田畑型","飯山市","太田村",3,2,"中間農業地域","田畑型"]
[202,"岡山村","中間農業地域","田畑型","飯山市","岡山村",3,2,"中間農業地域","田畑型"]
[203,"瑞穂村２－１","中間農業地域","田畑型","飯山市","瑞穂村２－１",3,2,"中間農業地域","田畑型"]
[204,"木島村","平地農業地域","田畑型","飯山市","木島村",2,2,"平地農業地域","田畑型"]
[205,"茅野市","中間農業地域","田畑型","茅野市",null,3,2,"中間農業地域","田畑型"]
[206,"ちの町","都市的地域","田畑型","茅野市","ちの町",1,2,"都市的地域","田畑型"]
[207,"宮川村","都市的地域","田畑型","茅野市","宮川村",1,2,"都市的地域","田畑型"]
[208,"米沢村","山間農業地域","田畑型","茅野市","米沢村",4,2,"山間農業地域","田畑型"]
[209,"豊平村","中間農業地域","田畑型","茅野市","豊平村",3,2,"中間農業地域","田畑型"]
[210,"玉川村","中間農業地域","田畑型","茅野市","玉川村",3,2,"中間農業地域","田畑型"]
[211,"泉野村","平地農業地域","田畑型","茅野市","泉野村",2,2,"平地農業地域","田畑型"]
[212,"金沢村","中間農業地域","田畑型","茅野市","金沢村",3,2,"中間農業地域","田畑型"]
[213,"湖東村","平地農業地域","田畑型","茅野市","湖東村",2,2,"平地農業地域","田畑型"]
[214,"北山村","山間農業地域","水田型","茅野市","北山村",4,1,"山間農業地域","水田型"]
[215,"塩尻市","都市的地域","田畑型","塩尻市",null,1,2,"都市的地域","田畑型"]
[216,"塩尻町","中間農業地域","田畑型","塩尻市","塩尻町",3,2,"中間農業地域","田畑型"]
[217,"筑摩地村","中間農業地域","田畑型","塩尻市","筑摩地村",3,2,"中間農業地域","田畑型"]
[218,"広丘村","都市的地域","田畑型","塩尻市","広丘村",1,2,"都市的地域","田畑型"]
[219,"片丘村２－１","中間農業地域","田畑型","塩尻市","片丘村２－１",3,2,"中間農業地域","田畑型"]
[220,"宗賀村","中間農業地域","畑地型","塩尻市","宗賀村",3,3,"中間農業地域","畑地型"]
[221,"洗馬村２－１","平地農業地域","畑地型","塩尻市","洗馬村２－１",2,3,"平地農業地域","畑地型"]
[222,"楢川村","山間農業地域","畑地型","塩尻市","楢川村",4,3,"山間農業地域","畑地型"]
[223,"佐久市","中間農業地域","田畑型","佐久市",null,3,2,"中間農業地域","田畑型"]
[224,"野沢町","都市的地域","水田型","佐久市","野沢町",1,1,"都市的地域","水田型"]
[225,"大沢村","中間農業地域","水田型","佐久市","大沢村",3,1,"中間農業地域","水田型"]
[226,"桜井村","平地農業地域","水田型","佐久市","桜井村",2,1,"平地農業地域","水田型"]
[227,"前山村","山間農業地域","田畑型","佐久市","前山村",4,2,"山間農業地域","田畑型"]
[228,"岸野村","平地農業地域","田畑型","佐久市","岸野村",2,2,"平地農業地域","田畑型"]
[229,"中込町","都市的地域","水田型","佐久市","中込町",1,1,"都市的地域","水田型"]
[230,"平賀村","平地農業地域","田畑型","佐久市","平賀村",2,2,"平地農業地域","田畑型"]
[231,"内山村","山間農業地域","田畑型","佐久市","内山村",4,2,"山間農業地域","田畑型"]
[232,"岩村田町","都市的地域","田畑型","佐久市","岩村田町",1,2,"都市的地域","田畑型"]
[233,"平根村","中間農業地域","田畑型","佐久市","平根村",3,2,"中間農業地域","田畑型"]
[234,"高瀬村","平地農業地域","水田型","佐久市","高瀬村",2,1,"平地農業地域","水田型"]
[235,"中佐都村","平地農業地域","田畑型","佐久市","中佐都村",2,2,"平地農業地域","田畑型"]
[236,"御代田村２－２","平地農業地域","田畑型","佐久市","御代田村２－２",2,2,"平地農業地域","田畑型"]
[237,"三井村","中間農業地域","田畑型","佐久市","三井村",3,2,"中間農業地域","田畑型"]
[238,"志賀村","中間農業地域","田畑型","佐久市","志賀村",3,2,"中間農業地域","田畑型"]
[239,"臼田町","都市的地域","田畑型","佐久市","臼田町",1,2,"都市的地域","田畑型"]
[240,"切原村","中間農業地域","田畑型","佐久市","切原村",3,2,"中間農業地域","田畑型"]
[241,"田口村","山間農業地域","田畑型","佐久市","田口村",4,2,"山間農業地域","田畑型"]
[242,"青沼村２－１","中間農業地域","田畑型","佐久市","青沼村２－１",3,2,"中間農業地域","田畑型"]
[243,"本牧村２－１","平地農業地域","田畑型","佐久市","本牧村２－１",2,2,"平地農業地域","田畑型"]
[244,"布施村","中間農業地域","畑地型","佐久市","布施村",3,3,"中間農業地域","畑地型"]
[245,"春日村","中間農業地域","水田型","佐久市","春日村",3,1,"中間農業地域","水田型"]
[246,"協和村","中間農業地域","田畑型","佐久市","協和村",3,2,"中間農業地域","田畑型"]
[247,"南御牧村","平地農業地域","田畑型","佐久市","南御牧村",2,2,"平地農業地域","田畑型"]
[248,"中津村（佐久市）","平地農業地域","水田型","佐久市","中津村",2,1,"平地農業地域","水田型"]
[249,"五郎兵衛新田村","平地農業地域","水田型","佐久市","五郎兵衛新田村",2,1,"平地農業地域","水田型"]
[250,"千曲市","都市的地域","田畑型","千曲市",null,1,2,"都市的地域","田畑型"]
[251,"屋代町","都市的地域","田畑型","千曲市","屋代町",1,2,"都市的地域","田畑型"]
[252,"森村","山間農業地域","田畑型","千曲市","森村",4,2,"山間農業地域","田畑型"]
[253,"倉科村","山間農業地域","田畑型","千曲市","倉科村",4,2,"山間農業地域","田畑型"]
[254,"雨宮県村","都市的地域","田畑型","千曲市","雨宮県村",1,2,"都市的地域","田畑型"]
[255,"埴生町","都市的地域","田畑型","千曲市","埴生町",1,2,"都市的地域","田畑型"]
[256,"杭瀬下村","都市的地域","田畑型","千曲市","杭瀬下村",1,2,"都市的地域","田畑型"]
[257,"稲荷山町","都市的地域","田畑型","千曲市","稲荷山町",1,2,"都市的地域","田畑型"]
[258,"桑原村","山間農業地域","田畑型","千曲市","桑原村",4,2,"山間農業地域","田畑型"]
[259,"八幡村","中間農業地域","田畑型","千曲市","八幡村",3,2,"中間農業地域","田畑型"]
[260,"五加村２－２","都市的地域","田畑型","千曲市","五加村２－２",1,2,"都市的地域","田畑型"]
[261,"戸倉町","都市的地域","田畑型","千曲市","戸倉町",1,2,"都市的地域","田畑型"]
[262,"五加村２－１","都市的地域","田畑型","千曲市","五加村２－１",1,2,"都市的地域","田畑型"]
[263,"更級村","中間農業地域","田畑型","千曲市","更級村",3,2,"中間農業地域","田畑型"]
[264,"上山田町","中間農業地域","田畑型","千曲市","上山田町",3,2,"中間農業地域","田畑型"]
[265,"力石村","平地農業地域","水田型","千曲市","力石村",2,1,"平地農業地域","水田型"]
[266,"東御市","平地農業地域","田畑型","東御市",null,2,2,"平地農業地域","田畑型"]
[267,"県村","都市的地域","田畑型","東御市","県村",1,2,"都市的地域","田畑型"]
[268,"祢津村","中間農業地域","田畑型","東御市","祢津村",3,2,"中間農業地域","田畑型"]
[269,"和村","中間農業地域","田畑型","東御市","和村",3,2,"中間農業地域","田畑型"]
[270,"滋野村２－１","中間農業地域","田畑型","東御市","滋野村２－１",3,2,"中間農業地域","田畑型"]
[271,"北御牧村","平地農業地域","田畑型","東御市","北御牧村",2,2,"平地農業地域","田畑型"]
[272,"安曇野市","平地農業地域","水田型","安曇野市",null,2,1,"平地農業地域","水田型"]
[273,"豊科町","都市的地域","水田型","安曇野市","豊科町",1,1,"都市的地域","水田型"]
[274,"高家村","平地農業地域","水田型","安曇野市","高家村",2,1,"平地農業地域","水田型"]
[275,"南穂高村","平地農業地域","水田型","安曇野市","南穂高村",2,1,"平地農業地域","水田型"]
[276,"上川手村２－１","中間農業地域","水田型","安曇野市","上川手村２－１",3,1,"中間農業地域","水田型"]
[277,"穂高町","平地農業地域","水田型","安曇野市","穂高町",2,1,"平地農業地域","水田型"]
[278,"西穂高村","中間農業地域","水田型","安曇野市","西穂高村",3,1,"中間農業地域","水田型"]
[279,"北穂高村","平地農業地域","水田型","安曇野市","北穂高村",2,1,"平地農業地域","水田型"]
[280,"有明村","中間農業地域","水田型","安曇野市","有明村",3,1,"中間農業地域","水田型"]
[281,"明盛村","平地農業地域","水田型","安曇野市","明盛村",2,1,"平地農業地域","水田型"]
[282,"小倉村","平地農業地域","畑地型","安曇野市","小倉村",2,3,"平地農業地域","畑地型"]
[283,"温村","平地農業地域","水田型","安曇野市","温村",2,1,"平地農業地域","水田型"]
[284,"烏川村","中間農業地域","水田型","安曇野市","烏川村",3,1,"中間農業地域","水田型"]
[285,"三田村","平地農業地域","田畑型","安曇野市","三田村",2,2,"平地農業地域","田畑型"]
[286,"中川手村","中間農業地域","水田型","安曇野市","中川手村",3,1,"中間農業地域","水田型"]
[287,"東川手村","山間農業地域","田畑型","安曇野市","東川手村",4,2,"山間農業地域","田畑型"]
[288,"上川手村２－２","中間農業地域","水田型","安曇野市","上川手村２－２",3,1,"中間農業地域","水田型"]
[289,"七貴村２－１","平地農業地域","水田型","安曇野市","七貴村２－１",2,1,"平地農業地域","水田型"]
[290,"陸郷村３－１","中間農業地域","水田型","安曇野市","陸郷村３－１",3,1,"中間農業地域","水田型"]
[291,"小海町","山間農業地域","畑地型","小海町",null,4,3,"山間農業地域","畑地型"]
[292,"小海村","中間農業地域","畑地型","小海町","小海村",3,3,"中間農業地域","畑地型"]
[293,"穂積村２－２","中間農業地域","水田型","小海町","穂積村２－２",3,1,"中間農業地域","水田型"]
[294,"北牧村２－１","山間農業地域","畑地型","小海町","北牧村２－１",4,3,"山間農業地域","畑地型"]
[295,"川上村","山間農業地域","畑地型","川上村",null,4,3,"山間農業地域","畑地型"]
[296,"（川上村）","山間農業地域","畑地型",null,null,4,3,"山間農業地域","畑地型"]
[297,"南牧村","中間農業地域","畑地型","南牧村",null,3,3,"中間農業地域","畑地型"]
[298,"（南牧村）","中間農業地域","畑地型",null,null,3,3,"中間農業地域","畑地型"]
[299,"南相木村","山間農業地域","畑地型","南相木村",null,4,3,"山間農業地域","畑地型"]
[300,"（南相木村）","山間農業地域","畑地型",null,null,4,3,"山間農業地域","畑地型"]
[301,"北相木村","山間農業地域","畑地型","北相木村",null,4,3,"山間農業地域","畑地型"]
[302,"（北相木村）","山間農業地域","畑地型",null,null,4,3,"山間農業地域","畑地型"]
[303,"佐久穂町","中間農業地域","田畑型","佐久穂町",null,3,2,"中間農業地域","田畑型"]
[304,"海瀬村","中間農業地域","田畑型","佐久穂町","海瀬村",3,2,"中間農業地域","田畑型"]
[305,"栄村（佐久穂町）","山間農業地域","田畑型","佐久穂町","栄村",4,2,"山間農業地域","田畑型"]
[306,"大日向村","山間農業地域","田畑型","佐久穂町","大日向村",4,2,"山間農業地域","田畑型"]
[307,"青沼村２－２","中間農業地域","田畑型","佐久穂町","青沼村２－２",3,2,"中間農業地域","田畑型"]
[308,"畑八村","中間農業地域","田畑型","佐久穂町","畑八村",3,2,"中間農業地域","田畑型"]
[309,"穂積村２－１","中間農業地域","田畑型","佐久穂町","穂積村２－１",3,2,"中間農業地域","田畑型"]
[310,"北牧村２－２","中間農業地域","田畑型","佐久穂町","北牧村２－２",3,2,"中間農業地域","田畑型"]
[311,"軽井沢町","中間農業地域","田畑型","軽井沢町",null,3,2,"中間農業地域","田畑型"]
[312,"軽井沢町（旧）","中間農業地域","田畑型","軽井沢町","軽井沢町",3,2,"中間農業地域","田畑型"]
[313,"伍賀村２－２","山間農業地域","畑地型","軽井沢町","伍賀村２－２",4,3,"山間農業地域","畑地型"]
[314,"御代田町","中間農業地域","田畑型","御代田町",null,3,2,"中間農業地域","田畑型"]
[315,"伍賀村２－１","中間農業地域","畑地型","御代田町","伍賀村２－１",3,3,"中間農業地域","畑地型"]
[316,"御代田村２－１","都市的地域","田畑型","御代田町","御代田村２－１",1,2,"都市的地域","田畑型"]
[317,"小沼村２－１－１","中間農業地域","畑地型","御代田町","小沼村２－１－１",3,3,"中間農業地域","畑地型"]
[318,"立科町","中間農業地域","田畑型","立科町",null,3,2,"中間農業地域","田畑型"]
[319,"芦田村","山間農業地域","田畑型","立科町","芦田村",4,2,"山間農業地域","田畑型"]
[320,"三都和村","平地農業地域","田畑型","立科町","三都和村",2,2,"平地農業地域","田畑型"]
[321,"横鳥村","平地農業地域","田畑型","立科町","横鳥村",2,2,"平地農業地域","田畑型"]
[322,"本牧村２－２","中間農業地域","水田型","立科町","本牧村２－２",3,1,"中間農業地域","水田型"]
[323,"青木村","山間農業地域","田畑型","青木村",null,4,2,"山間農業地域","田畑型"]
[324,"青木村（旧）","山間農業地域","田畑型","青木村","青木村",4,2,"山間農業地域","田畑型"]
[325,"浦里村２－２","中間農業地域","田畑型","青木村","浦里村２－２",3,2,"中間農業地域","田畑型"]
[326,"長和町","山間農業地域","田畑型","長和町",null,4,2,"山間農業地域","田畑型"]
[327,"大門村","山間農業地域","田畑型","長和町","大門村",4,2,"山間農業地域","田畑型"]
[328,"長久保新町","中間農業地域","田畑型","長和町","長久保新町",3,2,"中間農業地域","田畑型"]
[329,"長窪古町","中間農業地域","水田型","長和町","長窪古町",3,1,"中間農業地域","水田型"]
[330,"和田村（長和町）","山間農業地域","田畑型","長和町","和田村",4,2,"山間農業地域","田畑型"]
[331,"下諏訪町","山間農業地域","田畑型","下諏訪町",null,4,2,"山間農業地域","田畑型"]
[332,"下諏訪町（旧）","山間農業地域","田畑型","下諏訪町","下諏訪町",4,2,"山間農業地域","田畑型"]
[333,"長地村２－２","都市的地域","田畑型","下諏訪町","長地村２－２",1,2,"都市的地域","田畑型"]
[334,"富士見町","中間農業地域","田畑型","富士見町",null,3,2,"中間農業地域","田畑型"]
[335,"富士見村","中間農業地域","田畑型","富士見町","富士見村",3,2,"中間農業地域","田畑型"]
[336,"本郷村（富士見町）","中間農業地域","田畑型","富士見町","本郷村",3,2,"中間農業地域","田畑型"]
[337,"落合村","中間農業地域","田畑型","富士見町","落合村",3,2,"中間農業地域","田畑型"]
[338,"境村","中間農業地域","田畑型","富士見町","境村",3,2,"中間農業地域","田畑型"]
[339,"原村","平地農業地域","田畑型","原村",null,2,2,"平地農業地域","田畑型"]
[340,"（原村）","平地農業地域","田畑型",null,null,2,2,"平地農業地域","田畑型"]
[341,"辰野町","山間農業地域","田畑型","辰野町",null,4,2,"山間農業地域","田畑型"]
[342,"辰野町（旧）","中間農業地域","田畑型","辰野町","辰野町",3,2,"中間農業地域","田畑型"]
[343,"朝日村（辰野町）","山間農業地域","田畑型","辰野町","朝日村",4,2,"山間農業地域","田畑型"]
[344,"川島村","山間農業地域","水田型","辰野町","川島村",4,1,"山間農業地域","水田型"]
[345,"小野村","山間農業地域","田畑型","辰野町","小野村",4,2,"山間農業地域","田畑型"]
[346,"箕輪町","中間農業地域","田畑型","箕輪町",null,3,2,"中間農業地域","田畑型"]
[347,"中箕輪町","平地農業地域","田畑型","箕輪町","中箕輪町",2,2,"平地農業地域","田畑型"]
[348,"東箕輪村","山間農業地域","田畑型","箕輪町","東箕輪村",4,2,"山間農業地域","田畑型"]
[349,"箕輪村","中間農業地域","田畑型","箕輪町","箕輪村",3,2,"中間農業地域","田畑型"]
[350,"西箕輪村２－２","平地農業地域","畑地型","箕輪町","西箕輪村２－２",2,3,"平地農業地域","畑地型"]
[351,"飯島町","中間農業地域","水田型","飯島町",null,3,1,"中間農業地域","水田型"]
[352,"飯島村","中間農業地域","水田型","飯島町","飯島村",3,1,"中間農業地域","水田型"]
[353,"七久保村","中間農業地域","田畑型","飯島町","七久保村",3,2,"中間農業地域","田畑型"]
[354,"南箕輪村","平地農業地域","田畑型","南箕輪村",null,2,2,"平地農業地域","田畑型"]
[355,"（南箕輪村）","平地農業地域","田畑型",null,null,2,2,"平地農業地域","田畑型"]
[356,"中川村","中間農業地域","田畑型","中川村",null,3,2,"中間農業地域","田畑型"]
[357,"南向村","山間農業地域","田畑型","中川村","南向村",4,2,"山間農業地域","田畑型"]
[358,"片桐村","平地農業地域","田畑型","中川村","片桐村",2,2,"平地農業地域","田畑型"]
[359,"宮田村","中間農業地域","水田型","宮田村",null,3,1,"中間農業地域","水田型"]
[360,"（宮田村）","中間農業地域","水田型",null,null,3,1,"中間農業地域","水田型"]
[361,"松川町","中間農業地域","畑地型","松川町",null,3,3,"中間農業地域","畑地型"]
[362,"大島村","中間農業地域","畑地型","松川町","大島村",3,3,"中間農業地域","畑地型"]
[363,"上片桐村","中間農業地域","畑地型","松川町","上片桐村",3,3,"中間農業地域","畑地型"]
[364,"生田村","中間農業地域","田畑型","松川町","生田村",3,2,"中間農業地域","田畑型"]
[365,"山吹村２－２","平地農業地域","畑地型","松川町","山吹村２－２",2,3,"平地農業地域","畑地型"]
[366,"高森町","中間農業地域","田畑型","高森町",null,3,2,"中間農業地域","田畑型"]
[367,"市田村","中間農業地域","田畑型","高森町","市田村",3,2,"中間農業地域","田畑型"]
[368,"山吹村２－１","中間農業地域","畑地型","高森町","山吹村２－１",3,3,"中間農業地域","畑地型"]
[369,"阿南町","山間農業地域","田畑型","阿南町",null,4,2,"山間農業地域","田畑型"]
[370,"大下条村","中間農業地域","田畑型","阿南町","大下条村",3,2,"中間農業地域","田畑型"]
[371,"旦開村","山間農業地域","田畑型","阿南町","旦開村",4,2,"山間農業地域","田畑型"]
[372,"和合村","山間農業地域","田畑型","阿南町","和合村",4,2,"山間農業地域","田畑型"]
[373,"富草村","中間農業地域","田畑型","阿南町","富草村",3,2,"中間農業地域","田畑型"]
[374,"阿智村","山間農業地域","田畑型","阿智村",null,4,2,"山間農業地域","田畑型"]
[375,"会地村","中間農業地域","田畑型","阿智村","会地村",3,2,"中間農業地域","田畑型"]
[376,"伍和村","中間農業地域","田畑型","阿智村","伍和村",3,2,"中間農業地域","田畑型"]
[377,"智里村","山間農業地域","田畑型","阿智村","智里村",4,2,"山間農業地域","田畑型"]
[378,"浪合村","山間農業地域","畑地型","阿智村","浪合村",4,3,"山間農業地域","畑地型"]
[379,"清内路村","山間農業地域","畑地型","阿智村","清内路村",4,3,"山間農業地域","畑地型"]
[380,"平谷村","山間農業地域","田畑型","平谷村",null,4,2,"山間農業地域","田畑型"]
[381,"（平谷村）","山間農業地域","田畑型",null,null,4,2,"山間農業地域","田畑型"]
[382,"根羽村","山間農業地域","田畑型","根羽村",null,4,2,"山間農業地域","田畑型"]
[383,"（根羽村）","山間農業地域","田畑型",null,null,4,2,"山間農業地域","田畑型"]
[384,"下條村","中間農業地域","田畑型","下條村",null,3,2,"中間農業地域","田畑型"]
[385,"（下條村）","中間農業地域","田畑型",null,null,3,2,"中間農業地域","田畑型"]
[386,"売木村","山間農業地域","田畑型","売木村",null,4,2,"山間農業地域","田畑型"]
[387,"（売木村）","山間農業地域","田畑型",null,null,4,2,"山間農業地域","田畑型"]
[388,"天龍村","山間農業地域","畑地型","天龍村",null,4,3,"山間農業地域","畑地型"]
[389,"平岡村（天龍村）","山間農業地域","畑地型","天龍村","平岡村",4,3,"山間農業地域","畑地型"]
[390,"神原村","山間農業地域","田畑型","天龍村","神原村",4,2,"山間農業地域","田畑型"]
[391,"泰阜村","山間農業地域","田畑型","泰阜村",null,4,2,"山間農業地域","田畑型"]
[392,"（泰阜村）","山間農業地域","田畑型",null,null,4,2,"山間農業地域","田畑型"]
[393,"喬木村","山間農業地域","田畑型","喬木村",null,4,2,"山間農業地域","田畑型"]
[394,"（喬木村）","山間農業地域","田畑型",null,null,4,2,"山間農業地域","田畑型"]
[395,"豊丘村","山間農業地域","田畑型","豊丘村",null,4,2,"山間農業地域","田畑型"]
[396,"神稲村","山間農業地域","畑地型","豊丘村","神稲村",4,3,"山間農業地域","畑地型"]
[397,"河野村","中間農業地域","田畑型","豊丘村","河野村",3,2,"中間農業地域","田畑型"]
[398,"大鹿村","山間農業地域","畑地型","大鹿村",null,4,3,"山間農業地域","畑地型"]
[399,"（大鹿村）","山間農業地域","畑地型","大鹿村",null,4,3,"山間農業地域","畑地型"]
[400,"上松町","山間農業地域","田畑型","上松町",null,4,2,"山間農業地域","田畑型"]
[401,"（上松町）","山間農業地域","田畑型","上松町",null,4,2,"山間農業地域","田畑型"]
[402,"南木曽町","山間農業地域","田畑型","南木曽町",null,4,2,"山間農業地域","田畑型"]
[403,"読書村","山間農業地域","田畑型","南木曽町","読書村",4,2,"山間農業地域","田畑型"]
[404,"吾妻村","山間農業地域","田畑型","南木曽町","吾妻村",4,2,"山間農業地域","田畑型"]
[405,"田立村","山間農業地域","田畑型","南木曽町","田立村",4,2,"山間農業地域","田畑型"]
[406,"木祖村","山間農業地域","田畑型","木祖村",null,4,2,"山間農業地域","田畑型"]
[407,"（木祖村）","山間農業地域","田畑型",null,null,4,2,"山間農業地域","田畑型"]
[408,"王滝村","山間農業地域","水田型","王滝村",null,4,1,"山間農業地域","水田型"]
[409,"（王滝村）","山間農業地域","水田型",null,null,4,1,"山間農業地域","水田型"]
[410,"大桑村","山間農業地域","田畑型","大桑村",null,4,2,"山間農業地域","田畑型"]
[411,"（大桑村）","山間農業地域","田畑型",null,null,4,2,"山間農業地域","田畑型"]
[412,"木曽町","山間農業地域","田畑型","木曽町",null,4,2,"山間農業地域","田畑型"]
[413,"福島町","中間農業地域","田畑型","木曽町","福島町",3,2,"中間農業地域","田畑型"]
[414,"新開村","山間農業地域","田畑型","木曽町","新開村",4,2,"山間農業地域","田畑型"]
[415,"日義村","山間農業地域","田畑型","木曽町","日義村",4,2,"山間農業地域","田畑型"]
[416,"開田村","山間農業地域","田畑型","木曽町","開田村",4,2,"山間農業地域","田畑型"]
[417,"三岳村","山間農業地域","田畑型","木曽町","三岳村",4,2,"山間農業地域","田畑型"]
[418,"麻績村","中間農業地域","田畑型","麻績村",null,3,2,"中間農業地域","田畑型"]
[419,"麻績村（旧）","中間農業地域","田畑型","麻績村","麻績村",3,2,"中間農業地域","田畑型"]
[420,"日向村","中間農業地域","田畑型","麻績村","日向村",3,2,"中間農業地域","田畑型"]
[421,"生坂村","山間農業地域","田畑型","生坂村",null,4,2,"山間農業地域","田畑型"]
[422,"生坂村（旧）","山間農業地域","田畑型","生坂村","生坂村",4,2,"山間農業地域","田畑型"]
[423,"陸郷村３－２","中間農業地域","畑地型","生坂村","陸郷村３－２",3,3,"中間農業地域","畑地型"]
[424,"広津村３－１","山間農業地域","田畑型","生坂村","広津村３－１",4,2,"山間農業地域","田畑型"]
[425,"山形村","平地農業地域","畑地型","山形村",null,2,3,"平地農業地域","畑地型"]
[426,"（山形村）","平地農業地域","畑地型",null,null,2,3,"平地農業地域","畑地型"]
[427,"朝日村","山間農業地域","畑地型","朝日村",null,4,3,"山間農業地域","畑地型"]
[428,"（朝日村）","山間農業地域","畑地型",null,null,4,3,"山間農業地域","畑地型"]
[429,"筑北村","山間農業地域","田畑型","筑北村",null,4,2,"山間農業地域","田畑型"]
[430,"本城村","山間農業地域","田畑型","筑北村","本城村",4,2,"山間農業地域","田畑型"]
[431,"坂北村","山間農業地域","田畑型","筑北村","坂北村",4,2,"山間農業地域","田畑型"]
[432,"坂井村","山間農業地域","田畑型","筑北村","坂井村",4,2,"山間農業地域","田畑型"]
[433,"池田町","中間農業地域","水田型","池田町",null,3,1,"中間農業地域","水田型"]
[434,"池田町（旧）","平地農業地域","水田型","池田町","池田町",2,1,"平地農業地域","水田型"]
[435,"会染村","平地農業地域","水田型","池田町","会染村",2,1,"平地農業地域","水田型"]
[436,"七貴村２－２","中間農業地域","田畑型","池田町","七貴村２－２",3,2,"中間農業地域","田畑型"]
[437,"陸郷村３－３","中間農業地域","畑地型","池田町","陸郷村３－３",3,3,"中間農業地域","畑地型"]
[438,"広津村３－２","山間農業地域","畑地型","池田町","広津村３－２",4,3,"山間農業地域","畑地型"]
[439,"松川村","平地農業地域","水田型","松川村",null,2,1,"平地農業地域","水田型"]
[440,"（松川村）","平地農業地域","水田型","松川村",null,2,1,"平地農業地域","水田型"]
[441,"白馬村","中間農業地域","水田型","白馬村",null,3,1,"中間農業地域","水田型"]
[442,"神城村","中間農業地域","水田型","白馬村","神城村",3,1,"中間農業地域","水田型"]
[443,"北城村","中間農業地域","水田型","白馬村","北城村",3,1,"中間農業地域","水田型"]
[444,"小谷村","山間農業地域","水田型","小谷村",null,4,1,"山間農業地域","水田型"]
[445,"南小谷村","中間農業地域","水田型","小谷村","南小谷村",3,1,"中間農業地域","水田型"]
[446,"中土村","山間農業地域","水田型","小谷村","中土村",4,1,"山間農業地域","水田型"]
[447,"北小谷村","山間農業地域","水田型","小谷村","北小谷村",4,1,"山間農業地域","水田型"]
[448,"坂城町","中間農業地域","田畑型","坂城町",null,3,2,"中間農業地域","田畑型"]
[449,"坂城町（旧）","中間農業地域","畑地型","坂城町","坂城町",3,3,"中間農業地域","畑地型"]
[450,"中之条村","中間農業地域","田畑型","坂城町","中之条村",3,2,"中間農業地域","田畑型"]
[451,"南条村","中間農業地域","田畑型","坂城町","南条村",3,2,"中間農業地域","田畑型"]
[452,"村上村","中間農業地域","田畑型","坂城町","村上村",3,2,"中間農業地域","田畑型"]
[453,"小布施町","平地農業地域","畑地型","小布施町",null,2,3,"平地農業地域","畑地型"]
[454,"小布施村","平地農業地域","畑地型","小布施町","小布施村",2,3,"平地農業地域","畑地型"]
[455,"都住村","平地農業地域","田畑型","小布施町","都住村",2,2,"平地農業地域","田畑型"]
[456,"高山村","山間農業地域","畑地型","高山村",null,4,3,"山間農業地域","畑地型"]
[457,"高井村","山間農業地域","畑地型","高山村","高井村",4,3,"山間農業地域","畑地型"]
[458,"山田村","山間農業地域","田畑型","高山村","山田村",4,2,"山間農業地域","田畑型"]
[459,"山ノ内町","山間農業地域","畑地型","山ノ内町",null,4,3,"山間農業地域","畑地型"]
[460,"平穏村","山間農業地域","畑地型","山ノ内町","平穏村",4,3,"山間農業地域","畑地型"]
[461,"穂波村","中間農業地域","畑地型","山ノ内町","穂波村",3,3,"中間農業地域","畑地型"]
[462,"夜間瀬村","山間農業地域","畑地型","山ノ内町","夜間瀬村",4,3,"山間農業地域","畑地型"]
[463,"木島平村","山間農業地域","田畑型","木島平村",null,4,2,"山間農業地域","田畑型"]
[464,"往郷村","山間農業地域","田畑型","木島平村","往郷村",4,2,"山間農業地域","田畑型"]
[465,"穂高村","平地農業地域","田畑型","木島平村","穂高村",2,2,"平地農業地域","田畑型"]
[466,"上木島村","山間農業地域","田畑型","木島平村","上木島村",4,2,"山間農業地域","田畑型"]
[467,"野沢温泉村","山間農業地域","水田型","野沢温泉村",null,4,1,"山間農業地域","水田型"]
[468,"豊郷村","山間農業地域","水田型","野沢温泉村","豊郷村",4,1,"山間農業地域","水田型"]
[469,"市川村","山間農業地域","水田型","野沢温泉村","市川村",4,1,"山間農業地域","水田型"]
[470,"瑞穂村２－２","山間農業地域","田畑型","野沢温泉村","瑞穂村２－２",4,2,"山間農業地域","田畑型"]
[471,"信濃町","中間農業地域","田畑型","信濃町",null,3,2,"中間農業地域","田畑型"]
[472,"柏原村","中間農業地域","田畑型","信濃町","柏原村",3,2,"中間農業地域","田畑型"]
[473,"信濃尻村","中間農業地域","田畑型","信濃町","信濃尻村",3,2,"中間農業地域","田畑型"]
[474,"古間村","中間農業地域","田畑型","信濃町","古間村",3,2,"中間農業地域","田畑型"]
[475,"富士里村","中間農業地域","田畑型","信濃町","富士里村",3,2,"中間農業地域","田畑型"]
[476,"三水村２－２","中間農業地域","田畑型","信濃町","三水村２－２",3,2,"中間農業地域","田畑型"]
[477,"小川村","山間農業地域","畑地型","小川村",null,4,3,"山間農業地域","畑地型"]
[478,"北小川村","山間農業地域","畑地型","小川村","北小川村",4,3,"山間農業地域","畑地型"]
[479,"南小川村","中間農業地域","畑地型","小川村","南小川村",3,3,"中間農業地域","畑地型"]
[480,"飯綱町","中間農業地域","田畑型","飯綱町",null,3,2,"中間農業地域","田畑型"]
[481,"高岡村","中間農業地域","田畑型","飯綱町","高岡村",3,2,"中間農業地域","田畑型"]
[482,"中郷村","平地農業地域","田畑型","飯綱町","中郷村",2,2,"平地農業地域","田畑型"]
[483,"三水村","平地農業地域","田畑型","飯綱町","三水村",2,2,"平地農業地域","田畑型"]
[484,"栄村","山間農業地域","田畑型","栄村",null,4,2,"山間農業地域","田畑型"]
[485,"水内村（栄村）","山間農業地域","水田型","栄村","水内村",4,1,"山間農業地域","水田型"]
[486,"堺村","山間農業地域","田畑型","栄村","堺村",4,2,"山間農業地域","田畑型"]
[487]
[488]
[489]
[490]
[491]
[492]
[493]
[494]
[495]
[496]
[497]
[498]
[499]
[500]

{"sheet":"元データ","index":6,"n_rows":5500,"n_cols":30,"rows_kept":2250,"cut":true,"hidden":true,"merged":[[0,10,0,11],[0,18,0,19],[0,21,0,22],[1,10,1,11],[1,18,1,19],[1,21,1,22],[2,10,2,15],[2,16,2,20],[2,21,2,23],[3,10,3,13],[3,14,3,15],[3,16,3,17],[3,18,3,20],[3,21,3,23]],"bounds":{"rows_first":1000,"rows_last":250,"rows_between":1000,"halvings":1}}
["注意事項",null,"･･･","空欄追記:『調査外(湖､無人島等)』",{"$nulls":21},"別紙 2",null,"市区町村名","旧市区町村","農業集落"]
[null,null,"･･･","全角変換:『2-1』⇒『2-1』",{"$nulls":6},{"$f":"IF(AB2=0,\"\",AB2)","v":""},{"$nulls":7},{"$f":"IF(AC2=0,\"\",AC2)","v":"    "},{"$nulls":7},"長野県",{"$f":"kadft!F5","v":{"v":0,"d":"0 "}},{"$f":"kadft!J5","v":"    "},{"$f":"#REF!","v":{"$error":"#REF!"}}]
[{"$nulls":10},"市町村",{"$nulls":5},"旧市区町村",{"$nulls":4},"農業集落"]
["農業集落","県","市区町村","旧市区町村","農業集落","県名","市町村名","旧市町村名","農業集落名",null,"判定１",{"$nulls":3},"抽出１",null,"判定2",null,"抽出2",null,null,"抽出3",{"$nulls":3},"通し","都県名","市区町村名","旧区市町村名","農業集落名"]
["ｺｰﾄﾞ","番号","番号","番号","番号",{"$nulls":5},"判定","市区町村名","連番","補記","抽出","名","判定","名","抽出","旧区市町村名","連番","抽出","農業集落名","連番",null,"№"]
[{"$nulls":25},0,null,null,"    "]
[2000000000,20,{"v":0,"d":"000 "},{"v":0,"d":"00 "},{"v":0,"d":"000 "},"長野県",{"$nulls":4},{"$f":"IF(AND($C7>0,$H7=\"\"),\"ﾘｽﾄ１\",\"\")","v":""},{"$f":"IF(K7=\"ﾘｽﾄ１\",G7,\"\")","v":""},{"$f":"IF(K7=\"\",\"\",COUNTIF($K7:K$7,\"ﾘｽﾄ１\"))","v":""},{"$f":"IF(AND(D7=0,E7>0),\"同一区\",\"\")","v":""},{"$f":"IF(AND(EXACT($K$2,G7),H7>0),\"該当１\",\"\")","v":""},{"$f":"IF(O7=\"該当１\",G7,\"\")","v":""},{"$f":"IF(O7=\"該当１\",\"ﾘｽﾄ2\",\"\")","v":""},{"$f":"IF(Q7=\"ﾘｽﾄ2\",H7,\"\")","v":""},{"$f":"IF(AND(Q7=\"ﾘｽﾄ2\",OR(I7=0,AND(N7=\"同一区\",E7=1))),\"該当２\",\"\")","v":""},{"$f":"IF(S7=\"該当２\",H7,\"\")","v":""},{"$f":"IF(S7=\"\",\"\",COUNTIF($S$7:S7,\"該当２\"))","v":""},{"$f":"IF(AND($S$2=H7,E7>0,E7<998),\"該当３\",\"\")","v":""},{"$f":"IF(V7=\"該当３\",I7,\"\")","v":""},{"$f":"IF(V7=\"\",\"\",COUNTIF($V7:V$7,\"該当３\"))","v":""},null,1,{"$f":"AA2","v":"長野県"},"長野市",{"$f":"IF($Z7>MAX($U$7:$U$5356),\"\",INDEX($T$7:$T$5356,MATCH($Z7,$U$7:$U$5356,0),MATCH($AC$4,$T$5:$U$5,0)))","v":""},{"$f":"IF($Z7>MAX($X$7:$X$3715),\"\",INDEX($W$7:$W$3715,MATCH($Z7,$X$7:$X$3715,0),MATCH($AD$4,$W$5:$X$5,0)))","v":""}]
[2020100000,20,{"v":201,"d":"201 "},{"v":0,"d":"00 "},{"v":0,"d":"000 "},"長野県","長野市",{"$nulls":3},"ﾘｽﾄ１","長野市",{"$f":"IF(K8=\"\",\"\",COUNTIF($K$7:K8,\"ﾘｽﾄ１\"))","v":1},"",{"$f":"IF(AND(EXACT($K$2,G8),H8>0),\"該当１\",\"\")","v":""},"","","","","",{"$f":"IF(S8=\"\",\"\",COUNTIF($S$7:S8,\"該当２\"))","v":""},"","",{"$f":"IF(V8=\"\",\"\",COUNTIF($V$7:V8,\"該当３\"))","v":""},null,2,null,"松本市",{"$f":"IF($Z8>MAX($U$7:$U$5356),\"\",INDEX($T$7:$T$5356,MATCH($Z8,$U$7:$U$5356,0),MATCH($AC$4,$T$5:$U$5,0)))","v":""},{"$f":"IF($Z8>MAX($X$7:$X$3715),\"\",INDEX($W$7:$W$3715,MATCH($Z8,$X$7:$X$3715,0),MATCH($AD$4,$W$5:$X$5,0)))","v":""}]
[2020101000,20,{"v":201,"d":"201 "},{"v":1,"d":"01 "},{"v":0,"d":"000 "},"長野県","長野市","長野市（旧）",null,null,"","",{"$f":"IF(K9=\"\",\"\",COUNTIF($K$7:K9,\"ﾘｽﾄ１\"))","v":""},"",{"$f":"IF(AND(EXACT($K$2,G9),H9>0),\"該当１\",\"\")","v":""},"","","","","",{"$f":"IF(S9=\"\",\"\",COUNTIF($S$7:S9,\"該当２\"))","v":""},"","",{"$f":"IF(V9=\"\",\"\",COUNTIF($V$7:V9,\"該当３\"))","v":""},null,3,null,"上田市","",""]
[2020101001,20,{"v":201,"d":"201 "},{"v":1,"d":"01 "},{"v":1,"d":"001 "},"長野県","長野市","長野市（旧）","茂菅",null,"","",{"$f":"IF(K10=\"\",\"\",COUNTIF($K$7:K10,\"ﾘｽﾄ１\"))","v":""},"","","","","","","",{"$f":"IF(S10=\"\",\"\",COUNTIF($S$7:S10,\"該当２\"))","v":""},"","",{"$f":"IF(V10=\"\",\"\",COUNTIF($V$7:V10,\"該当３\"))","v":""},null,4,null,"岡谷市","",""]
[2020101002,20,{"v":201,"d":"201 "},{"v":1,"d":"01 "},{"v":2,"d":"002 "},"長野県","長野市","長野市（旧）","新諏訪",null,"","",{"$f":"IF(K11=\"\",\"\",COUNTIF($K$7:K11,\"ﾘｽﾄ１\"))","v":""},"","","","","","","",{"$f":"IF(S11=\"\",\"\",COUNTIF($S$7:S11,\"該当２\"))","v":""},"","",{"$f":"IF(V11=\"\",\"\",COUNTIF($V$7:V11,\"該当３\"))","v":""},null,5,null,"飯田市","",""]
[2020101003,20,{"v":201,"d":"201 "},{"v":1,"d":"01 "},{"v":3,"d":"003 "},"長野県","長野市","長野市（旧）","西長野",null,"","",{"$f":"IF(K12=\"\",\"\",COUNTIF($K$7:K12,\"ﾘｽﾄ１\"))","v":""},"","","","","","","",{"$f":"IF(S12=\"\",\"\",COUNTIF($S$7:S12,\"該当２\"))","v":""},"","",{"$f":"IF(V12=\"\",\"\",COUNTIF($V$7:V12,\"該当３\"))","v":""},null,6,null,"諏訪市","",""]
[2020101004,20,{"v":201,"d":"201 "},{"v":1,"d":"01 "},{"v":4,"d":"004 "},"長野県","長野市","長野市（旧）","桜枝町外",null,"","",{"$f":"IF(K13=\"\",\"\",COUNTIF($K$7:K13,\"ﾘｽﾄ１\"))","v":""},"","","","","","","",{"$f":"IF(S13=\"\",\"\",COUNTIF($S$7:S13,\"該当２\"))","v":""},"","",{"$f":"IF(V13=\"\",\"\",COUNTIF($V$7:V13,\"該当３\"))","v":""},null,7,null,"須坂市","",""]
[2020101005,20,{"v":201,"d":"201 "},{"v":1,"d":"01 "},{"v":5,"d":"005 "},"長野県","長野市","長野市（旧）","花咲町外",null,"","",{"$f":"IF(K14=\"\",\"\",COUNTIF($K$7:K14,\"ﾘｽﾄ１\"))","v":""},"","","","","","","",{"$f":"IF(S14=\"\",\"\",COUNTIF($S$7:S14,\"該当２\"))","v":""},"","",{"$f":"IF(V14=\"\",\"\",COUNTIF($V$7:V14,\"該当３\"))","v":""},null,8,null,"小諸市","",""]
[2020101006,20,{"v":201,"d":"201 "},{"v":1,"d":"01 "},{"v":6,"d":"006 "},"長野県","長野市","長野市（旧）","往生地",null,"","",{"$f":"IF(K15=\"\",\"\",COUNTIF($K$7:K15,\"ﾘｽﾄ１\"))","v":""},"","","","","","","",{"$f":"IF(S15=\"\",\"\",COUNTIF($S$7:S15,\"該当２\"))","v":""},"","",{"$f":"IF(V15=\"\",\"\",COUNTIF($V$7:V15,\"該当３\"))","v":""},null,9,null,"伊那市","",""]
[2020101007,20,{"v":201,"d":"201 "},{"v":1,"d":"01 "},{"v":7,"d":"007 "},"長野県","長野市","長野市（旧）","横沢町外",null,"","",{"$f":"IF(K16=\"\",\"\",COUNTIF($K$7:K16,\"ﾘｽﾄ１\"))","v":""},"","","","","","","",{"$f":"IF(S16=\"\",\"\",COUNTIF($S$7:S16,\"該当２\"))","v":""},"","",{"$f":"IF(V16=\"\",\"\",COUNTIF($V$7:V16,\"該当３\"))","v":""},null,10,null,"駒ヶ根市","",""]
[2020101008,20,{"v":201,"d":"201 "},{"v":1,"d":"01 "},{"v":8,"d":"008 "},"長野県","長野市","長野市（旧）","箱清水",null,"","",{"$f":"IF(K17=\"\",\"\",COUNTIF($K$7:K17,\"ﾘｽﾄ１\"))","v":""},"","","","","","","",{"$f":"IF(S17=\"\",\"\",COUNTIF($S$7:S17,\"該当２\"))","v":""},"","",{"$f":"IF(V17=\"\",\"\",COUNTIF($V$7:V17,\"該当３\"))","v":""},null,11,null,"中野市","",""]
[2020101009,20,{"v":201,"d":"201 "},{"v":1,"d":"01 "},{"v":9,"d":"009 "},"長野県","長野市","長野市（旧）","元善町外",null,"","",{"$f":"IF(K18=\"\",\"\",COUNTIF($K$7:K18,\"ﾘｽﾄ１\"))","v":""},"","","","","","","",{"$f":"IF(S18=\"\",\"\",COUNTIF($S$7:S18,\"該当２\"))","v":""},"","",{"$f":"IF(V18=\"\",\"\",COUNTIF($V$7:V18,\"該当３\"))","v":""},null,12,null,"大町市","",""]
[2020101010,20,{"v":201,"d":"201 "},{"v":1,"d":"01 "},{"v":10,"d":"010 "},"長野県","長野市","長野市（旧）","三輪田町",null,"","",{"$f":"IF(K19=\"\",\"\",COUNTIF($K$7:K19,\"ﾘｽﾄ１\"))","v":""},"","","","","","","",{"$f":"IF(S19=\"\",\"\",COUNTIF($S$7:S19,\"該当２\"))","v":""},"","",{"$f":"IF(V19=\"\",\"\",COUNTIF($V$7:V19,\"該当３\"))","v":""},null,13,null,"飯山市","",""]
[2020101011,20,{"v":201,"d":"201 "},{"v":1,"d":"01 "},{"v":11,"d":"011 "},"長野県","長野市","長野市（旧）","淀ケ橋",null,"","",{"$f":"IF(K20=\"\",\"\",COUNTIF($K$7:K20,\"ﾘｽﾄ１\"))","v":""},"","","","","","","",{"$f":"IF(S20=\"\",\"\",COUNTIF($S$7:S20,\"該当２\"))","v":""},"","",{"$f":"IF(V20=\"\",\"\",COUNTIF($V$7:V20,\"該当３\"))","v":""},null,14,null,"茅野市","",""]
[2020101012,20,{"v":201,"d":"201 "},{"v":1,"d":"01 "},{"v":12,"d":"012 "},"長野県","長野市","長野市（旧）","上松滝",null,"","",{"$f":"IF(K21=\"\",\"\",COUNTIF($K$7:K21,\"ﾘｽﾄ１\"))","v":""},"","","","","","","",{"$f":"IF(S21=\"\",\"\",COUNTIF($S$7:S21,\"該当２\"))","v":""},"","",{"$f":"IF(V21=\"\",\"\",COUNTIF($V$7:V21,\"該当３\"))","v":""},null,15,null,"塩尻市","",""]
[2020101013,20,{"v":201,"d":"201 "},{"v":1,"d":"01 "},{"v":13,"d":"013 "},"長野県","長野市","長野市（旧）","上松",null,"","",{"$f":"IF(K22=\"\",\"\",COUNTIF($K$7:K22,\"ﾘｽﾄ１\"))","v":""},"","","","","","","",{"$f":"IF(S22=\"\",\"\",COUNTIF($S$7:S22,\"該当２\"))","v":""},"","",{"$f":"IF(V22=\"\",\"\",COUNTIF($V$7:V22,\"該当３\"))","v":""},null,16,null,"佐久市","",""]
[2020101014,20,{"v":201,"d":"201 "},{"v":1,"d":"01 "},{"v":14,"d":"014 "},"長野県","長野市","長野市（旧）","湯谷",null,"","",{"$f":"IF(K23=\"\",\"\",COUNTIF($K$7:K23,\"ﾘｽﾄ１\"))","v":""},"","","","","","","",{"$f":"IF(S23=\"\",\"\",COUNTIF($S$7:S23,\"該当２\"))","v":""},"","",{"$f":"IF(V23=\"\",\"\",COUNTIF($V$7:V23,\"該当３\"))","v":""},null,17,null,"千曲市","",""]
[2020101015,20,{"v":201,"d":"201 "},{"v":1,"d":"01 "},{"v":15,"d":"015 "},"長野県","長野市","長野市（旧）","東後町外",null,"","",{"$f":"IF(K24=\"\",\"\",COUNTIF($K$7:K24,\"ﾘｽﾄ１\"))","v":""},"","","","","","","",{"$f":"IF(S24=\"\",\"\",COUNTIF($S$7:S24,\"該当２\"))","v":""},"","",{"$f":"IF(V24=\"\",\"\",COUNTIF($V$7:V24,\"該当３\"))","v":""},null,18,null,"東御市","",""]
[2020101016,20,{"v":201,"d":"201 "},{"v":1,"d":"01 "},{"v":16,"d":"016 "},"長野県","長野市","長野市（旧）","田町外",null,"","",{"$f":"IF(K25=\"\",\"\",COUNTIF($K$7:K25,\"ﾘｽﾄ１\"))","v":""},"","","","","","","",{"$f":"IF(S25=\"\",\"\",COUNTIF($S$7:S25,\"該当２\"))","v":""},"","",{"$f":"IF(V25=\"\",\"\",COUNTIF($V$7:V25,\"該当３\"))","v":""},null,19,null,"安曇野市","",""]
[2020101017,20,{"v":201,"d":"201 "},{"v":1,"d":"01 "},{"v":17,"d":"017 "},"長野県","長野市","長野市（旧）","上千歳町外",null,"","",{"$f":"IF(K26=\"\",\"\",COUNTIF($K$7:K26,\"ﾘｽﾄ１\"))","v":""},"","","","","","","",{"$f":"IF(S26=\"\",\"\",COUNTIF($S$7:S26,\"該当２\"))","v":""},"","",{"$f":"IF(V26=\"\",\"\",COUNTIF($V$7:V26,\"該当３\"))","v":""},null,20,null,"小海町","",""]
[2020101018,20,{"v":201,"d":"201 "},{"v":1,"d":"01 "},{"v":18,"d":"018 "},"長野県","長野市","長野市（旧）","諏訪町外",null,"","",{"$f":"IF(K27=\"\",\"\",COUNTIF($K$7:K27,\"ﾘｽﾄ１\"))","v":""},"","","","","","","",{"$f":"IF(S27=\"\",\"\",COUNTIF($S$7:S27,\"該当２\"))","v":""},"","",{"$f":"IF(V27=\"\",\"\",COUNTIF($V$7:V27,\"該当３\"))","v":""},null,21,null,"川上村","",""]
[2020101019,20,{"v":201,"d":"201 "},{"v":1,"d":"01 "},{"v":19,"d":"019 "},"長野県","長野市","長野市（旧）","北石堂町外",null,"","",{"$f":"IF(K28=\"\",\"\",COUNTIF($K$7:K28,\"ﾘｽﾄ１\"))","v":""},"","","","","","","",{"$f":"IF(S28=\"\",\"\",COUNTIF($S$7:S28,\"該当２\"))","v":""},"","",{"$f":"IF(V28=\"\",\"\",COUNTIF($V$7:V28,\"該当３\"))","v":""},null,22,null,"南牧村","",""]
[2020101020,20,{"v":201,"d":"201 "},{"v":1,"d":"01 "},{"v":20,"d":"020 "},"長野県","長野市","長野市（旧）","岡田町",null,"","",{"$f":"IF(K29=\"\",\"\",COUNTIF($K$7:K29,\"ﾘｽﾄ１\"))","v":""},"","","","","","","",{"$f":"IF(S29=\"\",\"\",COUNTIF($S$7:S29,\"該当２\"))","v":""},"","",{"$f":"IF(V29=\"\",\"\",COUNTIF($V$7:V29,\"該当３\"))","v":""},null,23,null,"南相木村","",""]
[2020101021,20,{"v":201,"d":"201 "},{"v":1,"d":"01 "},{"v":21,"d":"021 "},"長野県","長野市","長野市（旧）","中御所",null,"","",{"$f":"IF(K30=\"\",\"\",COUNTIF($K$7:K30,\"ﾘｽﾄ１\"))","v":""},"","","","","","","",{"$f":"IF(S30=\"\",\"\",COUNTIF($S$7:S30,\"該当２\"))","v":""},"","",{"$f":"IF(V30=\"\",\"\",COUNTIF($V$7:V30,\"該当３\"))","v":""},null,24,null,"北相木村","",""]
[2020101022,20,{"v":201,"d":"201 "},{"v":1,"d":"01 "},{"v":22,"d":"022 "},"長野県","長野市","長野市（旧）","七瀬中部",null,"","",{"$f":"IF(K31=\"\",\"\",COUNTIF($K$7:K31,\"ﾘｽﾄ１\"))","v":""},"","","","","","","",{"$f":"IF(S31=\"\",\"\",COUNTIF($S$7:S31,\"該当２\"))","v":""},"","",{"$f":"IF(V31=\"\",\"\",COUNTIF($V$7:V31,\"該当３\"))","v":""},null,25,null,"佐久穂町","",""]
[2020101023,20,{"v":201,"d":"201 "},{"v":1,"d":"01 "},{"v":23,"d":"023 "},"長野県","長野市","長野市（旧）","七瀬北部",null,"","",{"$f":"IF(K32=\"\",\"\",COUNTIF($K$7:K32,\"ﾘｽﾄ１\"))","v":""},"","","","","","","",{"$f":"IF(S32=\"\",\"\",COUNTIF($S$7:S32,\"該当２\"))","v":""},"","",{"$f":"IF(V32=\"\",\"\",COUNTIF($V$7:V32,\"該当３\"))","v":""},null,26,null,"軽井沢町","",""]
[2020101024,20,{"v":201,"d":"201 "},{"v":1,"d":"01 "},{"v":24,"d":"024 "},"長野県","長野市","長野市（旧）","七瀬南部",null,"","",{"$f":"IF(K33=\"\",\"\",COUNTIF($K$7:K33,\"ﾘｽﾄ１\"))","v":""},"","","","","","","",{"$f":"IF(S33=\"\",\"\",COUNTIF($S$7:S33,\"該当２\"))","v":""},"","",{"$f":"IF(V33=\"\",\"\",COUNTIF($V$7:V33,\"該当３\"))","v":""},null,27,null,"御代田町","",""]
[2020101025,20,{"v":201,"d":"201 "},{"v":1,"d":"01 "},{"v":25,"d":"025 "},"長野県","長野市","長野市（旧）","栗田北中",null,"","",{"$f":"IF(K34=\"\",\"\",COUNTIF($K$7:K34,\"ﾘｽﾄ１\"))","v":""},"","","","","","","",{"$f":"IF(S34=\"\",\"\",COUNTIF($S$7:S34,\"該当２\"))","v":""},"","",{"$f":"IF(V34=\"\",\"\",COUNTIF($V$7:V34,\"該当３\"))","v":""},null,28,null,"立科町","",""]
[2020101026,20,{"v":201,"d":"201 "},{"v":1,"d":"01 "},{"v":26,"d":"026 "},"長野県","長野市","長野市（旧）","栗田",null,"","",{"$f":"IF(K35=\"\",\"\",COUNTIF($K$7:K35,\"ﾘｽﾄ１\"))","v":""},"","","","","","","",{"$f":"IF(S35=\"\",\"\",COUNTIF($S$7:S35,\"該当２\"))","v":""},"","",{"$f":"IF(V35=\"\",\"\",COUNTIF($V$7:V35,\"該当３\"))","v":""},null,29,null,"青木村","",""]
[2020101027,20,{"v":201,"d":"201 "},{"v":1,"d":"01 "},{"v":27,"d":"027 "},"長野県","長野市","長野市（旧）","北市",null,"","",{"$f":"IF(K36=\"\",\"\",COUNTIF($K$7:K36,\"ﾘｽﾄ１\"))","v":""},"","","","","","","",{"$f":"IF(S36=\"\",\"\",COUNTIF($S$7:S36,\"該当２\"))","v":""},"","",{"$f":"IF(V36=\"\",\"\",COUNTIF($V$7:V36,\"該当３\"))","v":""},null,30,null,"長和町","",""]
[2020101028,20,{"v":201,"d":"201 "},{"v":1,"d":"01 "},{"v":28,"d":"028 "},"長野県","長野市","長野市（旧）","北荒木",null,"","",{"$f":"IF(K37=\"\",\"\",COUNTIF($K$7:K37,\"ﾘｽﾄ１\"))","v":""},"","","","","","","",{"$f":"IF(S37=\"\",\"\",COUNTIF($S$7:S37,\"該当２\"))","v":""},"","",{"$f":"IF(V37=\"\",\"\",COUNTIF($V$7:V37,\"該当３\"))","v":""},null,31,null,"下諏訪町","",""]
[2020101029,20,{"v":201,"d":"201 "},{"v":1,"d":"01 "},{"v":29,"d":"029 "},"長野県","長野市","長野市（旧）","吹上",null,"","",{"$f":"IF(K38=\"\",\"\",COUNTIF($K$7:K38,\"ﾘｽﾄ１\"))","v":""},"","","","","","","",{"$f":"IF(S38=\"\",\"\",COUNTIF($S$7:S38,\"該当２\"))","v":""},"","",{"$f":"IF(V38=\"\",\"\",COUNTIF($V$7:V38,\"該当３\"))","v":""},null,32,null,"富士見町","",""]
[2020101030,20,{"v":201,"d":"201 "},{"v":1,"d":"01 "},{"v":30,"d":"030 "},"長野県","長野市","長野市（旧）","南荒木",null,"","",{"$f":"IF(K39=\"\",\"\",COUNTIF($K$7:K39,\"ﾘｽﾄ１\"))","v":""},"","","","","","","",{"$f":"IF(S39=\"\",\"\",COUNTIF($S$7:S39,\"該当２\"))","v":""},"","",{"$f":"IF(V39=\"\",\"\",COUNTIF($V$7:V39,\"該当３\"))","v":""},null,33,null,"原村","",""]
[2020101031,20,{"v":201,"d":"201 "},{"v":1,"d":"01 "},{"v":31,"d":"031 "},"長野県","長野市","長野市（旧）","南市",null,"","",{"$f":"IF(K40=\"\",\"\",COUNTIF($K$7:K40,\"ﾘｽﾄ１\"))","v":""},"","","","","","","",{"$f":"IF(S40=\"\",\"\",COUNTIF($S$7:S40,\"該当２\"))","v":""},"","",{"$f":"IF(V40=\"\",\"\",COUNTIF($V$7:V40,\"該当３\"))","v":""},null,34,null,"辰野町","",""]
[2020101032,20,{"v":201,"d":"201 "},{"v":1,"d":"01 "},{"v":32,"d":"032 "},"長野県","長野市","長野市（旧）","川合新田",null,"","",{"$f":"IF(K41=\"\",\"\",COUNTIF($K$7:K41,\"ﾘｽﾄ１\"))","v":""},"","","","","","","",{"$f":"IF(S41=\"\",\"\",COUNTIF($S$7:S41,\"該当２\"))","v":""},"","",{"$f":"IF(V41=\"\",\"\",COUNTIF($V$7:V41,\"該当３\"))","v":""},null,35,null,"箕輪町","",""]
[2020101033,20,{"v":201,"d":"201 "},{"v":1,"d":"01 "},{"v":33,"d":"033 "},"長野県","長野市","長野市（旧）","上千田",null,"","",{"$f":"IF(K42=\"\",\"\",COUNTIF($K$7:K42,\"ﾘｽﾄ１\"))","v":""},"","","","","","","",{"$f":"IF(S42=\"\",\"\",COUNTIF($S$7:S42,\"該当２\"))","v":""},"","",{"$f":"IF(V42=\"\",\"\",COUNTIF($V$7:V42,\"該当３\"))","v":""},null,36,null,"飯島町","",""]
[2020101034,20,{"v":201,"d":"201 "},{"v":1,"d":"01 "},{"v":34,"d":"034 "},"長野県","長野市","長野市（旧）","母袋",null,"","",{"$f":"IF(K43=\"\",\"\",COUNTIF($K$7:K43,\"ﾘｽﾄ１\"))","v":""},"","","","","","","",{"$f":"IF(S43=\"\",\"\",COUNTIF($S$7:S43,\"該当２\"))","v":""},"","",{"$f":"IF(V43=\"\",\"\",COUNTIF($V$7:V43,\"該当３\"))","v":""},null,37,null,"南箕輪村","",""]
[2020101035,20,{"v":201,"d":"201 "},{"v":1,"d":"01 "},{"v":35,"d":"035 "},"長野県","長野市","長野市（旧）","中千田",null,"","",{"$f":"IF(K44=\"\",\"\",COUNTIF($K$7:K44,\"ﾘｽﾄ１\"))","v":""},"","","","","","","",{"$f":"IF(S44=\"\",\"\",COUNTIF($S$7:S44,\"該当２\"))","v":""},"","",{"$f":"IF(V44=\"\",\"\",COUNTIF($V$7:V44,\"該当３\"))","v":""},null,38,null,"中川村","",""]
[2020101036,20,{"v":201,"d":"201 "},{"v":1,"d":"01 "},{"v":36,"d":"036 "},"長野県","長野市","長野市（旧）","日詰",null,"","",{"$f":"IF(K45=\"\",\"\",COUNTIF($K$7:K45,\"ﾘｽﾄ１\"))","v":""},"","","","","","","",{"$f":"IF(S45=\"\",\"\",COUNTIF($S$7:S45,\"該当２\"))","v":""},"","",{"$f":"IF(V45=\"\",\"\",COUNTIF($V$7:V45,\"該当３\"))","v":""},null,39,null,"宮田村","",""]
[2020101037,20,{"v":201,"d":"201 "},{"v":1,"d":"01 "},{"v":37,"d":"037 "},"長野県","長野市","長野市（旧）","南俣",null,"","",{"$f":"IF(K46=\"\",\"\",COUNTIF($K$7:K46,\"ﾘｽﾄ１\"))","v":""},"","","","","","","",{"$f":"IF(S46=\"\",\"\",COUNTIF($S$7:S46,\"該当２\"))","v":""},"","",{"$f":"IF(V46=\"\",\"\",COUNTIF($V$7:V46,\"該当３\"))","v":""},null,40,null,"松川町","",""]
[2020101038,20,{"v":201,"d":"201 "},{"v":1,"d":"01 "},{"v":38,"d":"038 "},"長野県","長野市","長野市（旧）","上高田",null,"","",{"$f":"IF(K47=\"\",\"\",COUNTIF($K$7:K47,\"ﾘｽﾄ１\"))","v":""},"","","","","","","",{"$f":"IF(S47=\"\",\"\",COUNTIF($S$7:S47,\"該当２\"))","v":""},"","",{"$f":"IF(V47=\"\",\"\",COUNTIF($V$7:V47,\"該当３\"))","v":""},null,41,null,"高森町","",""]
[2020101039,20,{"v":201,"d":"201 "},{"v":1,"d":"01 "},{"v":39,"d":"039 "},"長野県","長野市","長野市（旧）","川端",null,"","",{"$f":"IF(K48=\"\",\"\",COUNTIF($K$7:K48,\"ﾘｽﾄ１\"))","v":""},"","","","","","","",{"$f":"IF(S48=\"\",\"\",COUNTIF($S$7:S48,\"該当２\"))","v":""},"","",{"$f":"IF(V48=\"\",\"\",COUNTIF($V$7:V48,\"該当３\"))","v":""},null,42,null,"阿南町","",""]
[2020101040,20,{"v":201,"d":"201 "},{"v":1,"d":"01 "},{"v":40,"d":"040 "},"長野県","長野市","長野市（旧）","中村",null,"","",{"$f":"IF(K49=\"\",\"\",COUNTIF($K$7:K49,\"ﾘｽﾄ１\"))","v":""},"","","","","","","",{"$f":"IF(S49=\"\",\"\",COUNTIF($S$7:S49,\"該当２\"))","v":""},"","",{"$f":"IF(V49=\"\",\"\",COUNTIF($V$7:V49,\"該当３\"))","v":""},null,43,null,"阿智村","",""]
[2020101041,20,{"v":201,"d":"201 "},{"v":1,"d":"01 "},{"v":41,"d":"041 "},"長野県","長野市","長野市（旧）","五分一",null,"","",{"$f":"IF(K50=\"\",\"\",COUNTIF($K$7:K50,\"ﾘｽﾄ１\"))","v":""},"","","","","","","",{"$f":"IF(S50=\"\",\"\",COUNTIF($S$7:S50,\"該当２\"))","v":""},"","",{"$f":"IF(V50=\"\",\"\",COUNTIF($V$7:V50,\"該当３\"))","v":""},null,44,null,"平谷村","",""]
[2020101042,20,{"v":201,"d":"201 "},{"v":1,"d":"01 "},{"v":42,"d":"042 "},"長野県","長野市","長野市（旧）","南高田",null,"","",{"$f":"IF(K51=\"\",\"\",COUNTIF($K$7:K51,\"ﾘｽﾄ１\"))","v":""},"","","","","","","",{"$f":"IF(S51=\"\",\"\",COUNTIF($S$7:S51,\"該当２\"))","v":""},"","",{"$f":"IF(V51=\"\",\"\",COUNTIF($V$7:V51,\"該当３\"))","v":""},null,45,null,"根羽村","",""]
[2020101043,20,{"v":201,"d":"201 "},{"v":1,"d":"01 "},{"v":43,"d":"043 "},"長野県","長野市","長野市（旧）","南長池",null,"","",{"$f":"IF(K52=\"\",\"\",COUNTIF($K$7:K52,\"ﾘｽﾄ１\"))","v":""},"","","","","","","",{"$f":"IF(S52=\"\",\"\",COUNTIF($S$7:S52,\"該当２\"))","v":""},"","",{"$f":"IF(V52=\"\",\"\",COUNTIF($V$7:V52,\"該当３\"))","v":""},null,46,null,"下條村","",""]
[2020101044,20,{"v":201,"d":"201 "},{"v":1,"d":"01 "},{"v":44,"d":"044 "},"長野県","長野市","長野市（旧）","若宮",null,"","",{"$f":"IF(K53=\"\",\"\",COUNTIF($K$7:K53,\"ﾘｽﾄ１\"))","v":""},"","","","","","","",{"$f":"IF(S53=\"\",\"\",COUNTIF($S$7:S53,\"該当２\"))","v":""},"","",{"$f":"IF(V53=\"\",\"\",COUNTIF($V$7:V53,\"該当３\"))","v":""},null,47,null,"売木村","",""]
[2020101045,20,{"v":201,"d":"201 "},{"v":1,"d":"01 "},{"v":45,"d":"045 "},"長野県","長野市","長野市（旧）","西尾張部",null,"","",{"$f":"IF(K54=\"\",\"\",COUNTIF($K$7:K54,\"ﾘｽﾄ１\"))","v":""},"","","","","","","",{"$f":"IF(S54=\"\",\"\",COUNTIF($S$7:S54,\"該当２\"))","v":""},"","",{"$f":"IF(V54=\"\",\"\",COUNTIF($V$7:V54,\"該当３\"))","v":""},null,48,null,"天龍村","",""]
[2020101046,20,{"v":201,"d":"201 "},{"v":1,"d":"01 "},{"v":46,"d":"046 "},"長野県","長野市","長野市（旧）","東和田",null,"","",{"$f":"IF(K55=\"\",\"\",COUNTIF($K$7:K55,\"ﾘｽﾄ１\"))","v":""},"","","","","","","",{"$f":"IF(S55=\"\",\"\",COUNTIF($S$7:S55,\"該当２\"))","v":""},"","",{"$f":"IF(V55=\"\",\"\",COUNTIF($V$7:V55,\"該当３\"))","v":""},null,49,null,"泰阜村","",""]
[2020101047,20,{"v":201,"d":"201 "},{"v":1,"d":"01 "},{"v":47,"d":"047 "},"長野県","長野市","長野市（旧）","西和田",null,"","",{"$f":"IF(K56=\"\",\"\",COUNTIF($K$7:K56,\"ﾘｽﾄ１\"))","v":""},"","","","","","","",{"$f":"IF(S56=\"\",\"\",COUNTIF($S$7:S56,\"該当２\"))","v":""},"","",{"$f":"IF(V56=\"\",\"\",COUNTIF($V$7:V56,\"該当３\"))","v":""},null,50,null,"喬木村","",""]
[2020101048,20,{"v":201,"d":"201 "},{"v":1,"d":"01 "},{"v":48,"d":"048 "},"長野県","長野市","長野市（旧）","平林",null,"","",{"$f":"IF(K57=\"\",\"\",COUNTIF($K$7:K57,\"ﾘｽﾄ１\"))","v":""},"","","","","","","",{"$f":"IF(S57=\"\",\"\",COUNTIF($S$7:S57,\"該当２\"))","v":""},"","",{"$f":"IF(V57=\"\",\"\",COUNTIF($V$7:V57,\"該当３\"))","v":""},null,51,null,"豊丘村","",""]
[2020101049,20,{"v":201,"d":"201 "},{"v":1,"d":"01 "},{"v":49,"d":"049 "},"長野県","長野市","長野市（旧）","北条",null,"","",{"$f":"IF(K58=\"\",\"\",COUNTIF($K$7:K58,\"ﾘｽﾄ１\"))","v":""},"","","","","","","",{"$f":"IF(S58=\"\",\"\",COUNTIF($S$7:S58,\"該当２\"))","v":""},"","",{"$f":"IF(V58=\"\",\"\",COUNTIF($V$7:V58,\"該当３\"))","v":""},null,52,null,"大鹿村","",""]
[2020101050,20,{"v":201,"d":"201 "},{"v":1,"d":"01 "},{"v":50,"d":"050 "},"長野県","長野市","長野市（旧）","荒屋",null,"","",{"$f":"IF(K59=\"\",\"\",COUNTIF($K$7:K59,\"ﾘｽﾄ１\"))","v":""},"","","","","","","",{"$f":"IF(S59=\"\",\"\",COUNTIF($S$7:S59,\"該当２\"))","v":""},"","",{"$f":"IF(V59=\"\",\"\",COUNTIF($V$7:V59,\"該当３\"))","v":""},null,53,null,"上松町",{"$f":"IF($Z59>MAX($U$7:$U$5356),\"\",INDEX($T$7:$T$5356,MATCH($Z59,$U$7:$U$5356,0),MATCH($AC$4,$T$5:$U$5,0)))","v":""},""]
[2020101051,20,{"v":201,"d":"201 "},{"v":1,"d":"01 "},{"v":51,"d":"051 "},"長野県","長野市","長野市（旧）","桐原",null,"","",{"$f":"IF(K60=\"\",\"\",COUNTIF($K$7:K60,\"ﾘｽﾄ１\"))","v":""},"","","","","","","",{"$f":"IF(S60=\"\",\"\",COUNTIF($S$7:S60,\"該当２\"))","v":""},"","",{"$f":"IF(V60=\"\",\"\",COUNTIF($V$7:V60,\"該当３\"))","v":""},null,54,null,"南木曽町",{"$f":"IF($Z60>MAX($U$7:$U$5356),\"\",INDEX($T$7:$T$5356,MATCH($Z60,$U$7:$U$5356,0),MATCH($AC$4,$T$5:$U$5,0)))","v":""},""]
[2020101052,20,{"v":201,"d":"201 "},{"v":1,"d":"01 "},{"v":52,"d":"052 "},"長野県","長野市","長野市（旧）","中越",null,"","",{"$f":"IF(K61=\"\",\"\",COUNTIF($K$7:K61,\"ﾘｽﾄ１\"))","v":""},"","","","","","","",{"$f":"IF(S61=\"\",\"\",COUNTIF($S$7:S61,\"該当２\"))","v":""},"","",{"$f":"IF(V61=\"\",\"\",COUNTIF($V$7:V61,\"該当３\"))","v":""},null,55,null,"木祖村","",""]
[2020101053,20,{"v":201,"d":"201 "},{"v":1,"d":"01 "},{"v":53,"d":"053 "},"長野県","長野市","長野市（旧）","鍋屋",null,"","",{"$f":"IF(K62=\"\",\"\",COUNTIF($K$7:K62,\"ﾘｽﾄ１\"))","v":""},"","","","","","","",{"$f":"IF(S62=\"\",\"\",COUNTIF($S$7:S62,\"該当２\"))","v":""},"","",{"$f":"IF(V62=\"\",\"\",COUNTIF($V$7:V62,\"該当３\"))","v":""},null,56,null,"王滝村","",""]
[2020101054,20,{"v":201,"d":"201 "},{"v":1,"d":"01 "},{"v":54,"d":"054 "},"長野県","長野市","長野市（旧）","太田",null,"","",{"$f":"IF(K63=\"\",\"\",COUNTIF($K$7:K63,\"ﾘｽﾄ１\"))","v":""},"","","","","","","",{"$f":"IF(S63=\"\",\"\",COUNTIF($S$7:S63,\"該当２\"))","v":""},"","",{"$f":"IF(V63=\"\",\"\",COUNTIF($V$7:V63,\"該当３\"))","v":""},null,57,null,"大桑村","",""]
[2020101055,20,{"v":201,"d":"201 "},{"v":1,"d":"01 "},{"v":55,"d":"055 "},"長野県","長野市","長野市（旧）","東部",null,"","",{"$f":"IF(K64=\"\",\"\",COUNTIF($K$7:K64,\"ﾘｽﾄ１\"))","v":""},"","","","","","","",{"$f":"IF(S64=\"\",\"\",COUNTIF($S$7:S64,\"該当２\"))","v":""},"","",{"$f":"IF(V64=\"\",\"\",COUNTIF($V$7:V64,\"該当３\"))","v":""},null,58,null,"木曽町","",""]
[2020101056,20,{"v":201,"d":"201 "},{"v":1,"d":"01 "},{"v":56,"d":"056 "},"長野県","長野市","長野市（旧）","西部",null,"","",{"$f":"IF(K65=\"\",\"\",COUNTIF($K$7:K65,\"ﾘｽﾄ１\"))","v":""},"","","","","","","",{"$f":"IF(S65=\"\",\"\",COUNTIF($S$7:S65,\"該当２\"))","v":""},"","",{"$f":"IF(V65=\"\",\"\",COUNTIF($V$7:V65,\"該当３\"))","v":""},null,59,null,"麻績村","",""]
[2020101057,20,{"v":201,"d":"201 "},{"v":1,"d":"01 "},{"v":57,"d":"057 "},"長野県","長野市","長野市（旧）","中部",null,"","",{"$f":"IF(K66=\"\",\"\",COUNTIF($K$7:K66,\"ﾘｽﾄ１\"))","v":""},"","","","","","","",{"$f":"IF(S66=\"\",\"\",COUNTIF($S$7:S66,\"該当２\"))","v":""},"","",{"$f":"IF(V66=\"\",\"\",COUNTIF($V$7:V66,\"該当３\"))","v":""},null,60,null,"生坂村","",""]
[2020101058,20,{"v":201,"d":"201 "},{"v":1,"d":"01 "},{"v":58,"d":"058 "},"長野県","長野市","長野市（旧）","押鐘",null,"","",{"$f":"IF(K67=\"\",\"\",COUNTIF($K$7:K67,\"ﾘｽﾄ１\"))","v":""},"","","","","","","",{"$f":"IF(S67=\"\",\"\",COUNTIF($S$7:S67,\"該当２\"))","v":""},"","",{"$f":"IF(V67=\"\",\"\",COUNTIF($V$7:V67,\"該当３\"))","v":""},null,61,null,"山形村","",""]
[2020101059,20,{"v":201,"d":"201 "},{"v":1,"d":"01 "},{"v":59,"d":"059 "},"長野県","長野市","長野市（旧）","上宇木",null,"","",{"$f":"IF(K68=\"\",\"\",COUNTIF($K$7:K68,\"ﾘｽﾄ１\"))","v":""},"","","","","","","",{"$f":"IF(S68=\"\",\"\",COUNTIF($S$7:S68,\"該当２\"))","v":""},"","",{"$f":"IF(V68=\"\",\"\",COUNTIF($V$7:V68,\"該当３\"))","v":""},null,62,null,"朝日村","",""]
[2020101060,20,{"v":201,"d":"201 "},{"v":1,"d":"01 "},{"v":60,"d":"060 "},"長野県","長野市","長野市（旧）","下宇木",null,"","",{"$f":"IF(K69=\"\",\"\",COUNTIF($K$7:K69,\"ﾘｽﾄ１\"))","v":""},"","","","","","","",{"$f":"IF(S69=\"\",\"\",COUNTIF($S$7:S69,\"該当２\"))","v":""},"","",{"$f":"IF(V69=\"\",\"\",COUNTIF($V$7:V69,\"該当３\"))","v":""},null,63,null,"筑北村","",""]
[2020101061,20,{"v":201,"d":"201 "},{"v":1,"d":"01 "},{"v":61,"d":"061 "},"長野県","長野市","長野市（旧）","相ノ木東",null,"","",{"$f":"IF(K70=\"\",\"\",COUNTIF($K$7:K70,\"ﾘｽﾄ１\"))","v":""},"","","","","","","",{"$f":"IF(S70=\"\",\"\",COUNTIF($S$7:S70,\"該当２\"))","v":""},"","",{"$f":"IF(V70=\"\",\"\",COUNTIF($V$7:V70,\"該当３\"))","v":""},null,64,null,"池田町","",""]
[2020101062,20,{"v":201,"d":"201 "},{"v":1,"d":"01 "},{"v":62,"d":"062 "},"長野県","長野市","長野市（旧）","相ノ木西",null,"","",{"$f":"IF(K71=\"\",\"\",COUNTIF($K$7:K71,\"ﾘｽﾄ１\"))","v":""},"","","","","","","",{"$f":"IF(S71=\"\",\"\",COUNTIF($S$7:S71,\"該当２\"))","v":""},"","",{"$f":"IF(V71=\"\",\"\",COUNTIF($V$7:V71,\"該当３\"))","v":""},null,65,null,"松川村","",""]
[2020101063,20,{"v":201,"d":"201 "},{"v":1,"d":"01 "},{"v":63,"d":"063 "},"長野県","長野市","長野市（旧）","横山",null,"","",{"$f":"IF(K72=\"\",\"\",COUNTIF($K$7:K72,\"ﾘｽﾄ１\"))","v":""},"","",{"$f":"IF(O72=\"該当１\",G72,\"\")","v":""},{"$f":"IF(O72=\"該当１\",\"ﾘｽﾄ2\",\"\")","v":""},{"$f":"IF(Q72=\"ﾘｽﾄ2\",H72,\"\")","v":""},"",{"$f":"IF(S72=\"該当２\",H72,\"\")","v":""},{"$f":"IF(S72=\"\",\"\",COUNTIF($S$7:S72,\"該当２\"))","v":""},{"$f":"IF(AND($S$2=H72,E72>0,E72<998),\"該当３\",\"\")","v":""},{"$f":"IF(V72=\"該当３\",I72,\"\")","v":""},{"$f":"IF(V72=\"\",\"\",COUNTIF($V$7:V72,\"該当３\"))","v":""},null,66,null,"白馬村","",{"$f":"IF($Z72>MAX($X$7:$X$3715),\"\",INDEX($W$7:$W$3715,MATCH($Z72,$X$7:$X$3715,0),MATCH($AD$4,$W$5:$X$5,0)))","v":""}]
[2020101064,20,{"v":201,"d":"201 "},{"v":1,"d":"01 "},{"v":64,"d":"064 "},"長野県","長野市","長野市（旧）","本郷",null,{"$f":"IF(AND($C73>0,$H73=\"\"),\"ﾘｽﾄ１\",\"\")","v":""},{"$f":"IF(K73=\"ﾘｽﾄ１\",G73,\"\")","v":""},{"$f":"IF(K73=\"\",\"\",COUNTIF($K$7:K73,\"ﾘｽﾄ１\"))","v":""},{"$f":"IF(AND(D73=0,E73>0),\"同一区\",\"\")","v":""},{"$f":"IF(AND(EXACT($K$2,G73),H73>0),\"該当１\",\"\")","v":""},"","","",{"$f":"IF(AND(Q73=\"ﾘｽﾄ2\",OR(I73=0,AND(N73=\"同一区\",E73=1))),\"該当２\",\"\")","v":""},"",{"$f":"IF(S73=\"\",\"\",COUNTIF($S$7:S73,\"該当２\"))","v":""},"","",{"$f":"IF(V73=\"\",\"\",COUNTIF($V$7:V73,\"該当３\"))","v":""},null,67,null,"小谷村","",""]
[2020101065,20,{"v":201,"d":"201 "},{"v":1,"d":"01 "},{"v":65,"d":"065 "},"長野県","長野市","長野市（旧）","返目",null,"","",{"$f":"IF(K74=\"\",\"\",COUNTIF($K$7:K74,\"ﾘｽﾄ１\"))","v":""},"","","","","","","",{"$f":"IF(S74=\"\",\"\",COUNTIF($S$7:S74,\"該当２\"))","v":""},"","",{"$f":"IF(V74=\"\",\"\",COUNTIF($V$7:V74,\"該当３\"))","v":""},null,68,null,"坂城町","",""]
[2020102000,20,{"v":201,"d":"201 "},{"v":2,"d":"02 "},{"v":0,"d":"000 "},"長野県","長野市","芋井村",null,null,"","",{"$f":"IF(K75=\"\",\"\",COUNTIF($K$7:K75,\"ﾘｽﾄ１\"))","v":""},"","","","","","","",{"$f":"IF(S75=\"\",\"\",COUNTIF($S$7:S75,\"該当２\"))","v":""},"","",{"$f":"IF(V75=\"\",\"\",COUNTIF($V$7:V75,\"該当３\"))","v":""},null,69,null,"小布施町","",""]
[2020102001,20,{"v":201,"d":"201 "},{"v":2,"d":"02 "},{"v":1,"d":"001 "},"長野県","長野市","芋井村","新安",null,"","",{"$f":"IF(K76=\"\",\"\",COUNTIF($K$7:K76,\"ﾘｽﾄ１\"))","v":""},"","","","","","","",{"$f":"IF(S76=\"\",\"\",COUNTIF($S$7:S76,\"該当２\"))","v":""},"","",{"$f":"IF(V76=\"\",\"\",COUNTIF($V$7:V76,\"該当３\"))","v":""},null,70,null,"高山村",null,""]
[2020102002,20,{"v":201,"d":"201 "},{"v":2,"d":"02 "},{"v":2,"d":"002 "},"長野県","長野市","芋井村","荒安",null,"","",{"$f":"IF(K77=\"\",\"\",COUNTIF($K$7:K77,\"ﾘｽﾄ１\"))","v":""},"","","","","","","",{"$f":"IF(S77=\"\",\"\",COUNTIF($S$7:S77,\"該当２\"))","v":""},"","",{"$f":"IF(V77=\"\",\"\",COUNTIF($V$7:V77,\"該当３\"))","v":""},null,71,null,"山ノ内町",null,""]
[2020102003,20,{"v":201,"d":"201 "},{"v":2,"d":"02 "},{"v":3,"d":"003 "},"長野県","長野市","芋井村","たたら",null,"","",{"$f":"IF(K78=\"\",\"\",COUNTIF($K$7:K78,\"ﾘｽﾄ１\"))","v":""},"","","","","","","",{"$f":"IF(S78=\"\",\"\",COUNTIF($S$7:S78,\"該当２\"))","v":""},"","",{"$f":"IF(V78=\"\",\"\",COUNTIF($V$7:V78,\"該当３\"))","v":""},null,72,null,"木島平村",null,""]
[2020102004,20,{"v":201,"d":"201 "},{"v":2,"d":"02 "},{"v":4,"d":"004 "},"長野県","長野市","芋井村","坂額",null,"","",{"$f":"IF(K79=\"\",\"\",COUNTIF($K$7:K79,\"ﾘｽﾄ１\"))","v":""},"","","","","","","",{"$f":"IF(S79=\"\",\"\",COUNTIF($S$7:S79,\"該当２\"))","v":""},"","",{"$f":"IF(V79=\"\",\"\",COUNTIF($V$7:V79,\"該当３\"))","v":""},null,73,null,"野沢温泉村",null,""]
[2020102005,20,{"v":201,"d":"201 "},{"v":2,"d":"02 "},{"v":5,"d":"005 "},"長野県","長野市","芋井村","泉平",null,"","",{"$f":"IF(K80=\"\",\"\",COUNTIF($K$7:K80,\"ﾘｽﾄ１\"))","v":""},"","","","","","","",{"$f":"IF(S80=\"\",\"\",COUNTIF($S$7:S80,\"該当２\"))","v":""},"","",{"$f":"IF(V80=\"\",\"\",COUNTIF($V$7:V80,\"該当３\"))","v":""},null,74,null,"信濃町",null,""]
[2020102006,20,{"v":201,"d":"201 "},{"v":2,"d":"02 "},{"v":6,"d":"006 "},"長野県","長野市","芋井村","中村",null,"","",{"$f":"IF(K81=\"\",\"\",COUNTIF($K$7:K81,\"ﾘｽﾄ１\"))","v":""},"","","","","","","",{"$f":"IF(S81=\"\",\"\",COUNTIF($S$7:S81,\"該当２\"))","v":""},"","",{"$f":"IF(V81=\"\",\"\",COUNTIF($V$7:V81,\"該当３\"))","v":""},null,75,null,"小川村",null,""]
[2020102007,20,{"v":201,"d":"201 "},{"v":2,"d":"02 "},{"v":7,"d":"007 "},"長野県","長野市","芋井村","坂高木",null,"","",{"$f":"IF(K82=\"\",\"\",COUNTIF($K$7:K82,\"ﾘｽﾄ１\"))","v":""},"","","","","","","",{"$f":"IF(S82=\"\",\"\",COUNTIF($S$7:S82,\"該当２\"))","v":""},"","",{"$f":"IF(V82=\"\",\"\",COUNTIF($V$7:V82,\"該当３\"))","v":""},null,76,null,"飯綱町",null,""]
[2020102008,20,{"v":201,"d":"201 "},{"v":2,"d":"02 "},{"v":8,"d":"008 "},"長野県","長野市","芋井村","松久保",null,"","",{"$f":"IF(K83=\"\",\"\",COUNTIF($K$7:K83,\"ﾘｽﾄ１\"))","v":""},"","","","","","","",{"$f":"IF(S83=\"\",\"\",COUNTIF($S$7:S83,\"該当２\"))","v":""},"","",{"$f":"IF(V83=\"\",\"\",COUNTIF($V$7:V83,\"該当３\"))","v":""},null,77,null,"栄村",null,""]
[2020102009,20,{"v":201,"d":"201 "},{"v":2,"d":"02 "},{"v":9,"d":"009 "},"長野県","長野市","芋井村","池平",null,"","",{"$f":"IF(K84=\"\",\"\",COUNTIF($K$7:K84,\"ﾘｽﾄ１\"))","v":""},"","","","","","","",{"$f":"IF(S84=\"\",\"\",COUNTIF($S$7:S84,\"該当２\"))","v":""},"","",{"$f":"IF(V84=\"\",\"\",COUNTIF($V$7:V84,\"該当３\"))","v":""},null,78,{"$nulls":3},""]
[2020102010,20,{"v":201,"d":"201 "},{"v":2,"d":"02 "},{"v":10,"d":"010 "},"長野県","長野市","芋井村","洞",null,"","",{"$f":"IF(K85=\"\",\"\",COUNTIF($K$7:K85,\"ﾘｽﾄ１\"))","v":""},"","","","","","","",{"$f":"IF(S85=\"\",\"\",COUNTIF($S$7:S85,\"該当２\"))","v":""},"","",{"$f":"IF(V85=\"\",\"\",COUNTIF($V$7:V85,\"該当３\"))","v":""},null,79,{"$nulls":3},""]
[2020102011,20,{"v":201,"d":"201 "},{"v":2,"d":"02 "},{"v":11,"d":"011 "},"長野県","長野市","芋井村","清水",null,"","",{"$f":"IF(K86=\"\",\"\",COUNTIF($K$7:K86,\"ﾘｽﾄ１\"))","v":""},"","","","","","","",{"$f":"IF(S86=\"\",\"\",COUNTIF($S$7:S86,\"該当２\"))","v":""},"","",{"$f":"IF(V86=\"\",\"\",COUNTIF($V$7:V86,\"該当３\"))","v":""},null,80,{"$nulls":3},""]
[2020102012,20,{"v":201,"d":"201 "},{"v":2,"d":"02 "},{"v":12,"d":"012 "},"長野県","長野市","芋井村","岩戸",null,"","",{"$f":"IF(K87=\"\",\"\",COUNTIF($K$7:K87,\"ﾘｽﾄ１\"))","v":""},"","","","","","","",{"$f":"IF(S87=\"\",\"\",COUNTIF($S$7:S87,\"該当２\"))","v":""},"","",{"$f":"IF(V87=\"\",\"\",COUNTIF($V$7:V87,\"該当３\"))","v":""},null,81,{"$nulls":3},""]
[2020102013,20,{"v":201,"d":"201 "},{"v":2,"d":"02 "},{"v":13,"d":"013 "},"長野県","長野市","芋井村","曲戸",null,"","",{"$f":"IF(K88=\"\",\"\",COUNTIF($K$7:K88,\"ﾘｽﾄ１\"))","v":""},"","","","","","","",{"$f":"IF(S88=\"\",\"\",COUNTIF($S$7:S88,\"該当２\"))","v":""},"","",{"$f":"IF(V88=\"\",\"\",COUNTIF($V$7:V88,\"該当３\"))","v":""}]
[2020102014,20,{"v":201,"d":"201 "},{"v":2,"d":"02 "},{"v":14,"d":"014 "},"長野県","長野市","芋井村","沢尻",null,"","",{"$f":"IF(K89=\"\",\"\",COUNTIF($K$7:K89,\"ﾘｽﾄ１\"))","v":""},"","","","","","","",{"$f":"IF(S89=\"\",\"\",COUNTIF($S$7:S89,\"該当２\"))","v":""},"","",{"$f":"IF(V89=\"\",\"\",COUNTIF($V$7:V89,\"該当３\"))","v":""}]
[2020102015,20,{"v":201,"d":"201 "},{"v":2,"d":"02 "},{"v":15,"d":"015 "},"長野県","長野市","芋井村","上野平",null,"","",{"$f":"IF(K90=\"\",\"\",COUNTIF($K$7:K90,\"ﾘｽﾄ１\"))","v":""},"","","","","","","",{"$f":"IF(S90=\"\",\"\",COUNTIF($S$7:S90,\"該当２\"))","v":""},"","",{"$f":"IF(V90=\"\",\"\",COUNTIF($V$7:V90,\"該当３\"))","v":""}]
[2020102016,20,{"v":201,"d":"201 "},{"v":2,"d":"02 "},{"v":16,"d":"016 "},"長野県","長野市","芋井村","上中犬飼",null,"","",{"$f":"IF(K91=\"\",\"\",COUNTIF($K$7:K91,\"ﾘｽﾄ１\"))","v":""},"","","","","","","",{"$f":"IF(S91=\"\",\"\",COUNTIF($S$7:S91,\"該当２\"))","v":""},"","",{"$f":"IF(V91=\"\",\"\",COUNTIF($V$7:V91,\"該当３\"))","v":""}]
[2020102017,20,{"v":201,"d":"201 "},{"v":2,"d":"02 "},{"v":17,"d":"017 "},"長野県","長野市","芋井村","下犬飼",null,"","",{"$f":"IF(K92=\"\",\"\",COUNTIF($K$7:K92,\"ﾘｽﾄ１\"))","v":""},"","","","","","","",{"$f":"IF(S92=\"\",\"\",COUNTIF($S$7:S92,\"該当２\"))","v":""},"","",{"$f":"IF(V92=\"\",\"\",COUNTIF($V$7:V92,\"該当３\"))","v":""}]
[2020102018,20,{"v":201,"d":"201 "},{"v":2,"d":"02 "},{"v":18,"d":"018 "},"長野県","長野市","芋井村","荻久保",null,"","",{"$f":"IF(K93=\"\",\"\",COUNTIF($K$7:K93,\"ﾘｽﾄ１\"))","v":""},"","","","","","","",{"$f":"IF(S93=\"\",\"\",COUNTIF($S$7:S93,\"該当２\"))","v":""},"","",{"$f":"IF(V93=\"\",\"\",COUNTIF($V$7:V93,\"該当３\"))","v":""}]
[2020102019,20,{"v":201,"d":"201 "},{"v":2,"d":"02 "},{"v":19,"d":"019 "},"長野県","長野市","芋井村","影山",null,"","",{"$f":"IF(K94=\"\",\"\",COUNTIF($K$7:K94,\"ﾘｽﾄ１\"))","v":""},"","","","","","","",{"$f":"IF(S94=\"\",\"\",COUNTIF($S$7:S94,\"該当２\"))","v":""},"","",{"$f":"IF(V94=\"\",\"\",COUNTIF($V$7:V94,\"該当３\"))","v":""}]
[2020102020,20,{"v":201,"d":"201 "},{"v":2,"d":"02 "},{"v":20,"d":"020 "},"長野県","長野市","芋井村","沢浦",null,"","",{"$f":"IF(K95=\"\",\"\",COUNTIF($K$7:K95,\"ﾘｽﾄ１\"))","v":""},"","","","","","","",{"$f":"IF(S95=\"\",\"\",COUNTIF($S$7:S95,\"該当２\"))","v":""},"","",{"$f":"IF(V95=\"\",\"\",COUNTIF($V$7:V95,\"該当３\"))","v":""}]
[2020102021,20,{"v":201,"d":"201 "},{"v":2,"d":"02 "},{"v":21,"d":"021 "},"長野県","長野市","芋井村","扇平",null,"","",{"$f":"IF(K96=\"\",\"\",COUNTIF($K$7:K96,\"ﾘｽﾄ１\"))","v":""},"","","","","","","",{"$f":"IF(S96=\"\",\"\",COUNTIF($S$7:S96,\"該当２\"))","v":""},"","",{"$f":"IF(V96=\"\",\"\",COUNTIF($V$7:V96,\"該当３\"))","v":""}]
[2020102022,20,{"v":201,"d":"201 "},{"v":2,"d":"02 "},{"v":22,"d":"022 "},"長野県","長野市","芋井村","百舌原",null,"","",{"$f":"IF(K97=\"\",\"\",COUNTIF($K$7:K97,\"ﾘｽﾄ１\"))","v":""},"","","","","","","",{"$f":"IF(S97=\"\",\"\",COUNTIF($S$7:S97,\"該当２\"))","v":""},"","",{"$f":"IF(V97=\"\",\"\",COUNTIF($V$7:V97,\"該当３\"))","v":""}]
[2020102023,20,{"v":201,"d":"201 "},{"v":2,"d":"02 "},{"v":23,"d":"023 "},"長野県","長野市","芋井村","広瀬",null,"","",{"$f":"IF(K98=\"\",\"\",COUNTIF($K$7:K98,\"ﾘｽﾄ１\"))","v":""},"","","","","","","",{"$f":"IF(S98=\"\",\"\",COUNTIF($S$7:S98,\"該当２\"))","v":""},"","",{"$f":"IF(V98=\"\",\"\",COUNTIF($V$7:V98,\"該当３\"))","v":""}]
[2020102024,20,{"v":201,"d":"201 "},{"v":2,"d":"02 "},{"v":24,"d":"024 "},"長野県","長野市","芋井村","新屋",null,"","",{"$f":"IF(K99=\"\",\"\",COUNTIF($K$7:K99,\"ﾘｽﾄ１\"))","v":""},"","","","","","","",{"$f":"IF(S99=\"\",\"\",COUNTIF($S$7:S99,\"該当２\"))","v":""},"","",{"$f":"IF(V99=\"\",\"\",COUNTIF($V$7:V99,\"該当３\"))","v":""}]
[2020102025,20,{"v":201,"d":"201 "},{"v":2,"d":"02 "},{"v":25,"d":"025 "},"長野県","長野市","芋井村","荒井",null,"","",{"$f":"IF(K100=\"\",\"\",COUNTIF($K$7:K100,\"ﾘｽﾄ１\"))","v":""},"","","","","","","",{"$f":"IF(S100=\"\",\"\",COUNTIF($S$7:S100,\"該当２\"))","v":""},"","",{"$f":"IF(V100=\"\",\"\",COUNTIF($V$7:V100,\"該当３\"))","v":""}]
[2020102026,20,{"v":201,"d":"201 "},{"v":2,"d":"02 "},{"v":26,"d":"026 "},"長野県","長野市","芋井村","平",null,"","",{"$f":"IF(K101=\"\",\"\",COUNTIF($K$7:K101,\"ﾘｽﾄ１\"))","v":""},"","","","","","","",{"$f":"IF(S101=\"\",\"\",COUNTIF($S$7:S101,\"該当２\"))","v":""},"","",{"$f":"IF(V101=\"\",\"\",COUNTIF($V$7:V101,\"該当３\"))","v":""}]
[2020102027,20,{"v":201,"d":"201 "},{"v":2,"d":"02 "},{"v":27,"d":"027 "},"長野県","長野市","芋井村","京田，貉久保",null,"","",{"$f":"IF(K102=\"\",\"\",COUNTIF($K$7:K102,\"ﾘｽﾄ１\"))","v":""},"","","","","","","",{"$f":"IF(S102=\"\",\"\",COUNTIF($S$7:S102,\"該当２\"))","v":""},"","",{"$f":"IF(V102=\"\",\"\",COUNTIF($V$7:V102,\"該当３\"))","v":""}]
[2020102028,20,{"v":201,"d":"201 "},{"v":2,"d":"02 "},{"v":28,"d":"028 "},"長野県","長野市","芋井村","軍足",null,"","",{"$f":"IF(K103=\"\",\"\",COUNTIF($K$7:K103,\"ﾘｽﾄ１\"))","v":""},"","","","","","","",{"$f":"IF(S103=\"\",\"\",COUNTIF($S$7:S103,\"該当２\"))","v":""},"","",{"$f":"IF(V103=\"\",\"\",COUNTIF($V$7:V103,\"該当３\"))","v":""}]
[2020102029,20,{"v":201,"d":"201 "},{"v":2,"d":"02 "},{"v":29,"d":"029 "},"長野県","長野市","芋井村","麓原",null,"","",{"$f":"IF(K104=\"\",\"\",COUNTIF($K$7:K104,\"ﾘｽﾄ１\"))","v":""},"","","","","","","",{"$f":"IF(S104=\"\",\"\",COUNTIF($S$7:S104,\"該当２\"))","v":""},"","",{"$f":"IF(V104=\"\",\"\",COUNTIF($V$7:V104,\"該当３\"))","v":""}]
[2020102030,20,{"v":201,"d":"201 "},{"v":2,"d":"02 "},{"v":30,"d":"030 "},"長野県","長野市","芋井村","栄峯，銚子口",null,"","",{"$f":"IF(K105=\"\",\"\",COUNTIF($K$7:K105,\"ﾘｽﾄ１\"))","v":""},"","","","","","","",{"$f":"IF(S105=\"\",\"\",COUNTIF($S$7:S105,\"該当２\"))","v":""},"","",{"$f":"IF(V105=\"\",\"\",COUNTIF($V$7:V105,\"該当３\"))","v":""}]
[2020103000,20,{"v":201,"d":"201 "},{"v":3,"d":"03 "},{"v":0,"d":"000 "},"長野県","長野市","浅川村",null,null,"","",{"$f":"IF(K106=\"\",\"\",COUNTIF($K$7:K106,\"ﾘｽﾄ１\"))","v":""},"","","","","","","",{"$f":"IF(S106=\"\",\"\",COUNTIF($S$7:S106,\"該当２\"))","v":""},"","",{"$f":"IF(V106=\"\",\"\",COUNTIF($V$7:V106,\"該当３\"))","v":""}]
[2020103001,20,{"v":201,"d":"201 "},{"v":3,"d":"03 "},{"v":1,"d":"001 "},"長野県","長野市","浅川村","東条",null,"","",{"$f":"IF(K107=\"\",\"\",COUNTIF($K$7:K107,\"ﾘｽﾄ１\"))","v":""},"","","","","","","",{"$f":"IF(S107=\"\",\"\",COUNTIF($S$7:S107,\"該当２\"))","v":""},"","",{"$f":"IF(V107=\"\",\"\",COUNTIF($V$7:V107,\"該当３\"))","v":""}]
[2020103002,20,{"v":201,"d":"201 "},{"v":3,"d":"03 "},{"v":2,"d":"002 "},"長野県","長野市","浅川村","伺去",null,"","",{"$f":"IF(K108=\"\",\"\",COUNTIF($K$7:K108,\"ﾘｽﾄ１\"))","v":""},"","","","","","","",{"$f":"IF(S108=\"\",\"\",COUNTIF($S$7:S108,\"該当２\"))","v":""},"","",{"$f":"IF(V108=\"\",\"\",COUNTIF($V$7:V108,\"該当３\"))","v":""}]
[2020103003,20,{"v":201,"d":"201 "},{"v":3,"d":"03 "},{"v":3,"d":"003 "},"長野県","長野市","浅川村","真光寺",null,"","",{"$f":"IF(K109=\"\",\"\",COUNTIF($K$7:K109,\"ﾘｽﾄ１\"))","v":""},"","","","","","","",{"$f":"IF(S109=\"\",\"\",COUNTIF($S$7:S109,\"該当２\"))","v":""},"","",{"$f":"IF(V109=\"\",\"\",COUNTIF($V$7:V109,\"該当３\"))","v":""}]
[2020103004,20,{"v":201,"d":"201 "},{"v":3,"d":"03 "},{"v":4,"d":"004 "},"長野県","長野市","浅川村","一ノ瀬",null,"","",{"$f":"IF(K110=\"\",\"\",COUNTIF($K$7:K110,\"ﾘｽﾄ１\"))","v":""},"","","","","","","",{"$f":"IF(S110=\"\",\"\",COUNTIF($S$7:S110,\"該当２\"))","v":""},"","",{"$f":"IF(V110=\"\",\"\",COUNTIF($V$7:V110,\"該当３\"))","v":""}]
[2020103005,20,{"v":201,"d":"201 "},{"v":3,"d":"03 "},{"v":5,"d":"005 "},"長野県","長野市","浅川村","清水",null,"","",{"$f":"IF(K111=\"\",\"\",COUNTIF($K$7:K111,\"ﾘｽﾄ１\"))","v":""},"","","","","","","",{"$f":"IF(S111=\"\",\"\",COUNTIF($S$7:S111,\"該当２\"))","v":""},"","",{"$f":"IF(V111=\"\",\"\",COUNTIF($V$7:V111,\"該当３\"))","v":""}]
[2020103006,20,{"v":201,"d":"201 "},{"v":3,"d":"03 "},{"v":6,"d":"006 "},"長野県","長野市","浅川村","畑山",null,"","",{"$f":"IF(K112=\"\",\"\",COUNTIF($K$7:K112,\"ﾘｽﾄ１\"))","v":""},"","","","","","","",{"$f":"IF(S112=\"\",\"\",COUNTIF($S$7:S112,\"該当２\"))","v":""},"","",{"$f":"IF(V112=\"\",\"\",COUNTIF($V$7:V112,\"該当３\"))","v":""}]
[2020103007,20,{"v":201,"d":"201 "},{"v":3,"d":"03 "},{"v":7,"d":"007 "},"長野県","長野市","浅川村","門沢",null,"","",{"$f":"IF(K113=\"\",\"\",COUNTIF($K$7:K113,\"ﾘｽﾄ１\"))","v":""},"","","","","","","",{"$f":"IF(S113=\"\",\"\",COUNTIF($S$7:S113,\"該当２\"))","v":""},"","",{"$f":"IF(V113=\"\",\"\",COUNTIF($V$7:V113,\"該当３\"))","v":""}]
[2020103008,20,{"v":201,"d":"201 "},{"v":3,"d":"03 "},{"v":8,"d":"008 "},"長野県","長野市","浅川村","中曽根",null,"","",{"$f":"IF(K114=\"\",\"\",COUNTIF($K$7:K114,\"ﾘｽﾄ１\"))","v":""},"","","","","","","",{"$f":"IF(S114=\"\",\"\",COUNTIF($S$7:S114,\"該当２\"))","v":""},"","",{"$f":"IF(V114=\"\",\"\",COUNTIF($V$7:V114,\"該当３\"))","v":""}]
[2020103009,20,{"v":201,"d":"201 "},{"v":3,"d":"03 "},{"v":9,"d":"009 "},"長野県","長野市","浅川村","本郷",null,"","",{"$f":"IF(K115=\"\",\"\",COUNTIF($K$7:K115,\"ﾘｽﾄ１\"))","v":""},"","","","","","","",{"$f":"IF(S115=\"\",\"\",COUNTIF($S$7:S115,\"該当２\"))","v":""},"","",{"$f":"IF(V115=\"\",\"\",COUNTIF($V$7:V115,\"該当３\"))","v":""}]
[2020103010,20,{"v":201,"d":"201 "},{"v":3,"d":"03 "},{"v":10,"d":"010 "},"長野県","長野市","浅川村","三ツ出",null,"","",{"$f":"IF(K116=\"\",\"\",COUNTIF($K$7:K116,\"ﾘｽﾄ１\"))","v":""},"","","","","","","",{"$f":"IF(S116=\"\",\"\",COUNTIF($S$7:S116,\"該当２\"))","v":""},"","",{"$f":"IF(V116=\"\",\"\",COUNTIF($V$7:V116,\"該当３\"))","v":""}]
[2020103011,20,{"v":201,"d":"201 "},{"v":3,"d":"03 "},{"v":11,"d":"011 "},"長野県","長野市","浅川村","台ケ窪",null,"","",{"$f":"IF(K117=\"\",\"\",COUNTIF($K$7:K117,\"ﾘｽﾄ１\"))","v":""},"","","","","","","",{"$f":"IF(S117=\"\",\"\",COUNTIF($S$7:S117,\"該当２\"))","v":""},"","",{"$f":"IF(V117=\"\",\"\",COUNTIF($V$7:V117,\"該当３\"))","v":""}]
[2020103012,20,{"v":201,"d":"201 "},{"v":3,"d":"03 "},{"v":12,"d":"012 "},"長野県","長野市","浅川村","坂中",null,"","",{"$f":"IF(K118=\"\",\"\",COUNTIF($K$7:K118,\"ﾘｽﾄ１\"))","v":""},"","","","","","","",{"$f":"IF(S118=\"\",\"\",COUNTIF($S$7:S118,\"該当２\"))","v":""},"","",{"$f":"IF(V118=\"\",\"\",COUNTIF($V$7:V118,\"該当３\"))","v":""}]
[2020103013,20,{"v":201,"d":"201 "},{"v":3,"d":"03 "},{"v":13,"d":"013 "},"長野県","長野市","浅川村","西平",null,"","",{"$f":"IF(K119=\"\",\"\",COUNTIF($K$7:K119,\"ﾘｽﾄ１\"))","v":""},"","","","","","","",{"$f":"IF(S119=\"\",\"\",COUNTIF($S$7:S119,\"該当２\"))","v":""},"","",{"$f":"IF(V119=\"\",\"\",COUNTIF($V$7:V119,\"該当３\"))","v":""}]
[2020103014,20,{"v":201,"d":"201 "},{"v":3,"d":"03 "},{"v":14,"d":"014 "},"長野県","長野市","浅川村","福岡",null,"","",{"$f":"IF(K120=\"\",\"\",COUNTIF($K$7:K120,\"ﾘｽﾄ１\"))","v":""},"","","","","","","",{"$f":"IF(S120=\"\",\"\",COUNTIF($S$7:S120,\"該当２\"))","v":""},"","",{"$f":"IF(V120=\"\",\"\",COUNTIF($V$7:V120,\"該当３\"))","v":""}]
[2020103015,20,{"v":201,"d":"201 "},{"v":3,"d":"03 "},{"v":15,"d":"015 "},"長野県","長野市","浅川村","押田",null,"","",{"$f":"IF(K121=\"\",\"\",COUNTIF($K$7:K121,\"ﾘｽﾄ１\"))","v":""},"","","","","","","",{"$f":"IF(S121=\"\",\"\",COUNTIF($S$7:S121,\"該当２\"))","v":""},"","",{"$f":"IF(V121=\"\",\"\",COUNTIF($V$7:V121,\"該当３\"))","v":""}]
[2020103016,20,{"v":201,"d":"201 "},{"v":3,"d":"03 "},{"v":16,"d":"016 "},"長野県","長野市","浅川村","西条",null,"","",{"$f":"IF(K122=\"\",\"\",COUNTIF($K$7:K122,\"ﾘｽﾄ１\"))","v":""},"","","","","","","",{"$f":"IF(S122=\"\",\"\",COUNTIF($S$7:S122,\"該当２\"))","v":""},"","",{"$f":"IF(V122=\"\",\"\",COUNTIF($V$7:V122,\"該当３\"))","v":""}]
[2020104000,20,{"v":201,"d":"201 "},{"v":4,"d":"04 "},{"v":0,"d":"000 "},"長野県","長野市","若槻村",null,null,"","",{"$f":"IF(K123=\"\",\"\",COUNTIF($K$7:K123,\"ﾘｽﾄ１\"))","v":""},"","","","","","","",{"$f":"IF(S123=\"\",\"\",COUNTIF($S$7:S123,\"該当２\"))","v":""},"","",{"$f":"IF(V123=\"\",\"\",COUNTIF($V$7:V123,\"該当３\"))","v":""}]
[2020104001,20,{"v":201,"d":"201 "},{"v":4,"d":"04 "},{"v":1,"d":"001 "},"長野県","長野市","若槻村","檀田",null,"","",{"$f":"IF(K124=\"\",\"\",COUNTIF($K$7:K124,\"ﾘｽﾄ１\"))","v":""},"","","","","","","",{"$f":"IF(S124=\"\",\"\",COUNTIF($S$7:S124,\"該当２\"))","v":""},"","",{"$f":"IF(V124=\"\",\"\",COUNTIF($V$7:V124,\"該当３\"))","v":""}]
[2020104002,20,{"v":201,"d":"201 "},{"v":4,"d":"04 "},{"v":2,"d":"002 "},"長野県","長野市","若槻村","稲田",null,"","",{"$f":"IF(K125=\"\",\"\",COUNTIF($K$7:K125,\"ﾘｽﾄ１\"))","v":""},"","","","","","","",{"$f":"IF(S125=\"\",\"\",COUNTIF($S$7:S125,\"該当２\"))","v":""},"","",{"$f":"IF(V125=\"\",\"\",COUNTIF($V$7:V125,\"該当３\"))","v":""}]
[2020104003,20,{"v":201,"d":"201 "},{"v":4,"d":"04 "},{"v":3,"d":"003 "},"長野県","長野市","若槻村","徳間",null,"","",{"$f":"IF(K126=\"\",\"\",COUNTIF($K$7:K126,\"ﾘｽﾄ１\"))","v":""},"","","","","","","",{"$f":"IF(S126=\"\",\"\",COUNTIF($S$7:S126,\"該当２\"))","v":""},"","",{"$f":"IF(V126=\"\",\"\",COUNTIF($V$7:V126,\"該当３\"))","v":""}]
[2020104004,20,{"v":201,"d":"201 "},{"v":4,"d":"04 "},{"v":4,"d":"004 "},"長野県","長野市","若槻村","若槻東条",null,"","",{"$f":"IF(K127=\"\",\"\",COUNTIF($K$7:K127,\"ﾘｽﾄ１\"))","v":""},"","","","","","","",{"$f":"IF(S127=\"\",\"\",COUNTIF($S$7:S127,\"該当２\"))","v":""},"","",{"$f":"IF(V127=\"\",\"\",COUNTIF($V$7:V127,\"該当３\"))","v":""}]
[2020104005,20,{"v":201,"d":"201 "},{"v":4,"d":"04 "},{"v":5,"d":"005 "},"長野県","長野市","若槻村","上野",null,"","",{"$f":"IF(K128=\"\",\"\",COUNTIF($K$7:K128,\"ﾘｽﾄ１\"))","v":""},"","","","","","","",{"$f":"IF(S128=\"\",\"\",COUNTIF($S$7:S128,\"該当２\"))","v":""},"","",{"$f":"IF(V128=\"\",\"\",COUNTIF($V$7:V128,\"該当３\"))","v":""}]
[2020104006,20,{"v":201,"d":"201 "},{"v":4,"d":"04 "},{"v":6,"d":"006 "},"長野県","長野市","若槻村","田中",null,"","",{"$f":"IF(K129=\"\",\"\",COUNTIF($K$7:K129,\"ﾘｽﾄ１\"))","v":""},"","","","","","","",{"$f":"IF(S129=\"\",\"\",COUNTIF($S$7:S129,\"該当２\"))","v":""},"","",{"$f":"IF(V129=\"\",\"\",COUNTIF($V$7:V129,\"該当３\"))","v":""}]
[2020104007,20,{"v":201,"d":"201 "},{"v":4,"d":"04 "},{"v":7,"d":"007 "},"長野県","長野市","若槻村","田子",null,"","",{"$f":"IF(K130=\"\",\"\",COUNTIF($K$7:K130,\"ﾘｽﾄ１\"))","v":""},"","","","","","","",{"$f":"IF(S130=\"\",\"\",COUNTIF($S$7:S130,\"該当２\"))","v":""},"","",{"$f":"IF(V130=\"\",\"\",COUNTIF($V$7:V130,\"該当３\"))","v":""}]
[2020104008,20,{"v":201,"d":"201 "},{"v":4,"d":"04 "},{"v":8,"d":"008 "},"長野県","長野市","若槻村","吉",null,"","",{"$f":"IF(K131=\"\",\"\",COUNTIF($K$7:K131,\"ﾘｽﾄ１\"))","v":""},"","","","","","","",{"$f":"IF(S131=\"\",\"\",COUNTIF($S$7:S131,\"該当２\"))","v":""},"","",{"$f":"IF(V131=\"\",\"\",COUNTIF($V$7:V131,\"該当３\"))","v":""}]
[2020104009,20,{"v":201,"d":"201 "},{"v":4,"d":"04 "},{"v":9,"d":"009 "},"長野県","長野市","若槻村","山千寺",null,"","",{"$f":"IF(K132=\"\",\"\",COUNTIF($K$7:K132,\"ﾘｽﾄ１\"))","v":""},"","","","","","","",{"$f":"IF(S132=\"\",\"\",COUNTIF($S$7:S132,\"該当２\"))","v":""},"","",{"$f":"IF(V132=\"\",\"\",COUNTIF($V$7:V132,\"該当３\"))","v":""}]
[2020104010,20,{"v":201,"d":"201 "},{"v":4,"d":"04 "},{"v":10,"d":"010 "},"長野県","長野市","若槻村","髻",null,"","",{"$f":"IF(K133=\"\",\"\",COUNTIF($K$7:K133,\"ﾘｽﾄ１\"))","v":""},"","","","","","","",{"$f":"IF(S133=\"\",\"\",COUNTIF($S$7:S133,\"該当２\"))","v":""},"","",{"$f":"IF(V133=\"\",\"\",COUNTIF($V$7:V133,\"該当３\"))","v":""}]
[2020105000,20,{"v":201,"d":"201 "},{"v":5,"d":"05 "},{"v":0,"d":"000 "},"長野県","長野市","古里村",null,null,"","",{"$f":"IF(K134=\"\",\"\",COUNTIF($K$7:K134,\"ﾘｽﾄ１\"))","v":""},"","","","","","","",{"$f":"IF(S134=\"\",\"\",COUNTIF($S$7:S134,\"該当２\"))","v":""},"","",{"$f":"IF(V134=\"\",\"\",COUNTIF($V$7:V134,\"該当３\"))","v":""}]
[2020105001,20,{"v":201,"d":"201 "},{"v":5,"d":"05 "},{"v":1,"d":"001 "},"長野県","長野市","古里村","西富竹",null,"","",{"$f":"IF(K135=\"\",\"\",COUNTIF($K$7:K135,\"ﾘｽﾄ１\"))","v":""},"","","","","","","",{"$f":"IF(S135=\"\",\"\",COUNTIF($S$7:S135,\"該当２\"))","v":""},"","",{"$f":"IF(V135=\"\",\"\",COUNTIF($V$7:V135,\"該当３\"))","v":""}]
[2020105002,20,{"v":201,"d":"201 "},{"v":5,"d":"05 "},{"v":2,"d":"002 "},"長野県","長野市","古里村","東富竹",null,"","",{"$f":"IF(K136=\"\",\"\",COUNTIF($K$7:K136,\"ﾘｽﾄ１\"))","v":""},"","",{"$f":"IF(O136=\"該当１\",G136,\"\")","v":""},{"$f":"IF(O136=\"該当１\",\"ﾘｽﾄ2\",\"\")","v":""},{"$f":"IF(Q136=\"ﾘｽﾄ2\",H136,\"\")","v":""},"",{"$f":"IF(S136=\"該当２\",H136,\"\")","v":""},{"$f":"IF(S136=\"\",\"\",COUNTIF($S$7:S136,\"該当２\"))","v":""},{"$f":"IF(AND($S$2=H136,E136>0,E136<998),\"該当３\",\"\")","v":""},{"$f":"IF(V136=\"該当３\",I136,\"\")","v":""},{"$f":"IF(V136=\"\",\"\",COUNTIF($V$7:V136,\"該当３\"))","v":""}]
[2020105003,20,{"v":201,"d":"201 "},{"v":5,"d":"05 "},{"v":3,"d":"003 "},"長野県","長野市","古里村","荒屋",null,{"$f":"IF(AND($C137>0,$H137=\"\"),\"ﾘｽﾄ１\",\"\")","v":""},{"$f":"IF(K137=\"ﾘｽﾄ１\",G137,\"\")","v":""},{"$f":"IF(K137=\"\",\"\",COUNTIF($K$7:K137,\"ﾘｽﾄ１\"))","v":""},{"$f":"IF(AND(D137=0,E137>0),\"同一区\",\"\")","v":""},{"$f":"IF(AND(EXACT($K$2,G137),H137>0),\"該当１\",\"\")","v":""},"","","",{"$f":"IF(AND(Q137=\"ﾘｽﾄ2\",OR(I137=0,AND(N137=\"同一区\",E137=1))),\"該当２\",\"\")","v":""},"",{"$f":"IF(S137=\"\",\"\",COUNTIF($S$7:S137,\"該当２\"))","v":""},"","",{"$f":"IF(V137=\"\",\"\",COUNTIF($V$7:V137,\"該当３\"))","v":""}]
[2020105004,20,{"v":201,"d":"201 "},{"v":5,"d":"05 "},{"v":4,"d":"004 "},"長野県","長野市","古里村","金箱",null,"","",{"$f":"IF(K138=\"\",\"\",COUNTIF($K$7:K138,\"ﾘｽﾄ１\"))","v":""},"","","","","","","",{"$f":"IF(S138=\"\",\"\",COUNTIF($S$7:S138,\"該当２\"))","v":""},"","",{"$f":"IF(V138=\"\",\"\",COUNTIF($V$7:V138,\"該当３\"))","v":""}]
[2020105005,20,{"v":201,"d":"201 "},{"v":5,"d":"05 "},{"v":5,"d":"005 "},"長野県","長野市","古里村","下駒沢",null,"","",{"$f":"IF(K139=\"\",\"\",COUNTIF($K$7:K139,\"ﾘｽﾄ１\"))","v":""},"","","","","","","",{"$f":"IF(S139=\"\",\"\",COUNTIF($S$7:S139,\"該当２\"))","v":""},"","",{"$f":"IF(V139=\"\",\"\",COUNTIF($V$7:V139,\"該当３\"))","v":""}]
[2020105006,20,{"v":201,"d":"201 "},{"v":5,"d":"05 "},{"v":6,"d":"006 "},"長野県","長野市","古里村","上駒沢",null,"","",{"$f":"IF(K140=\"\",\"\",COUNTIF($K$7:K140,\"ﾘｽﾄ１\"))","v":""},"","","","","","","",{"$f":"IF(S140=\"\",\"\",COUNTIF($S$7:S140,\"該当２\"))","v":""},"","",{"$f":"IF(V140=\"\",\"\",COUNTIF($V$7:V140,\"該当３\"))","v":""}]
[2020105007,20,{"v":201,"d":"201 "},{"v":5,"d":"05 "},{"v":7,"d":"007 "},"長野県","長野市","古里村","三才",null,"","",{"$f":"IF(K141=\"\",\"\",COUNTIF($K$7:K141,\"ﾘｽﾄ１\"))","v":""},"","","","","","","",{"$f":"IF(S141=\"\",\"\",COUNTIF($S$7:S141,\"該当２\"))","v":""},"","",{"$f":"IF(V141=\"\",\"\",COUNTIF($V$7:V141,\"該当３\"))","v":""}]
[2020106000,20,{"v":201,"d":"201 "},{"v":6,"d":"06 "},{"v":0,"d":"000 "},"長野県","長野市","長沼村",null,null,"","",{"$f":"IF(K142=\"\",\"\",COUNTIF($K$7:K142,\"ﾘｽﾄ１\"))","v":""},"","","","","","","",{"$f":"IF(S142=\"\",\"\",COUNTIF($S$7:S142,\"該当２\"))","v":""},"","",{"$f":"IF(V142=\"\",\"\",COUNTIF($V$7:V142,\"該当３\"))","v":""}]
[2020106001,20,{"v":201,"d":"201 "},{"v":6,"d":"06 "},{"v":1,"d":"001 "},"長野県","長野市","長沼村","大町",null,"","",{"$f":"IF(K143=\"\",\"\",COUNTIF($K$7:K143,\"ﾘｽﾄ１\"))","v":""},"","","","","","","",{"$f":"IF(S143=\"\",\"\",COUNTIF($S$7:S143,\"該当２\"))","v":""},"","",{"$f":"IF(V143=\"\",\"\",COUNTIF($V$7:V143,\"該当３\"))","v":""}]
[2020106002,20,{"v":201,"d":"201 "},{"v":6,"d":"06 "},{"v":2,"d":"002 "},"長野県","長野市","長沼村","穂保",null,"","",{"$f":"IF(K144=\"\",\"\",COUNTIF($K$7:K144,\"ﾘｽﾄ１\"))","v":""},"","","","","","","",{"$f":"IF(S144=\"\",\"\",COUNTIF($S$7:S144,\"該当２\"))","v":""},"","",{"$f":"IF(V144=\"\",\"\",COUNTIF($V$7:V144,\"該当３\"))","v":""}]
[2020106003,20,{"v":201,"d":"201 "},{"v":6,"d":"06 "},{"v":3,"d":"003 "},"長野県","長野市","長沼村","津野",null,"","",{"$f":"IF(K145=\"\",\"\",COUNTIF($K$7:K145,\"ﾘｽﾄ１\"))","v":""},"","","","","","","",{"$f":"IF(S145=\"\",\"\",COUNTIF($S$7:S145,\"該当２\"))","v":""},"","",{"$f":"IF(V145=\"\",\"\",COUNTIF($V$7:V145,\"該当３\"))","v":""}]
[2020106004,20,{"v":201,"d":"201 "},{"v":6,"d":"06 "},{"v":4,"d":"004 "},"長野県","長野市","長沼村","赤沼",null,"","",{"$f":"IF(K146=\"\",\"\",COUNTIF($K$7:K146,\"ﾘｽﾄ１\"))","v":""},"","","","","","","",{"$f":"IF(S146=\"\",\"\",COUNTIF($S$7:S146,\"該当２\"))","v":""},"","",{"$f":"IF(V146=\"\",\"\",COUNTIF($V$7:V146,\"該当３\"))","v":""}]
[2020107000,20,{"v":201,"d":"201 "},{"v":7,"d":"07 "},{"v":0,"d":"000 "},"長野県","長野市","柳原村（長野市）",null,null,"","",{"$f":"IF(K147=\"\",\"\",COUNTIF($K$7:K147,\"ﾘｽﾄ１\"))","v":""},"","","","","","","",{"$f":"IF(S147=\"\",\"\",COUNTIF($S$7:S147,\"該当２\"))","v":""},"","",{"$f":"IF(V147=\"\",\"\",COUNTIF($V$7:V147,\"該当３\"))","v":""}]
[2020107001,20,{"v":201,"d":"201 "},{"v":7,"d":"07 "},{"v":1,"d":"001 "},"長野県","長野市","柳原村（長野市）","小島",null,"","",{"$f":"IF(K148=\"\",\"\",COUNTIF($K$7:K148,\"ﾘｽﾄ１\"))","v":""},"","","","","","","",{"$f":"IF(S148=\"\",\"\",COUNTIF($S$7:S148,\"該当２\"))","v":""},"","",{"$f":"IF(V148=\"\",\"\",COUNTIF($V$7:V148,\"該当３\"))","v":""}]
[2020107002,20,{"v":201,"d":"201 "},{"v":7,"d":"07 "},{"v":2,"d":"002 "},"長野県","長野市","柳原村（長野市）","中俣",null,"","",{"$f":"IF(K149=\"\",\"\",COUNTIF($K$7:K149,\"ﾘｽﾄ１\"))","v":""},"","","","","","","",{"$f":"IF(S149=\"\",\"\",COUNTIF($S$7:S149,\"該当２\"))","v":""},"","",{"$f":"IF(V149=\"\",\"\",COUNTIF($V$7:V149,\"該当３\"))","v":""}]
[2020107003,20,{"v":201,"d":"201 "},{"v":7,"d":"07 "},{"v":3,"d":"003 "},"長野県","長野市","柳原村（長野市）","布野",null,"","",{"$f":"IF(K150=\"\",\"\",COUNTIF($K$7:K150,\"ﾘｽﾄ１\"))","v":""},"","","","","","","",{"$f":"IF(S150=\"\",\"\",COUNTIF($S$7:S150,\"該当２\"))","v":""},"","",{"$f":"IF(V150=\"\",\"\",COUNTIF($V$7:V150,\"該当３\"))","v":""}]
[2020107004,20,{"v":201,"d":"201 "},{"v":7,"d":"07 "},{"v":4,"d":"004 "},"長野県","長野市","柳原村（長野市）","村山",null,"","",{"$f":"IF(K151=\"\",\"\",COUNTIF($K$7:K151,\"ﾘｽﾄ１\"))","v":""},"","","","","","","",{"$f":"IF(S151=\"\",\"\",COUNTIF($S$7:S151,\"該当２\"))","v":""},"","",{"$f":"IF(V151=\"\",\"\",COUNTIF($V$7:V151,\"該当３\"))","v":""}]
[2020108000,20,{"v":201,"d":"201 "},{"v":8,"d":"08 "},{"v":0,"d":"000 "},"長野県","長野市","朝陽村",null,null,"","",{"$f":"IF(K152=\"\",\"\",COUNTIF($K$7:K152,\"ﾘｽﾄ１\"))","v":""},"","","","","","","",{"$f":"IF(S152=\"\",\"\",COUNTIF($S$7:S152,\"該当２\"))","v":""},"","",{"$f":"IF(V152=\"\",\"\",COUNTIF($V$7:V152,\"該当３\"))","v":""}]
[2020108001,20,{"v":201,"d":"201 "},{"v":8,"d":"08 "},{"v":1,"d":"001 "},"長野県","長野市","朝陽村","南屋島",null,"","",{"$f":"IF(K153=\"\",\"\",COUNTIF($K$7:K153,\"ﾘｽﾄ１\"))","v":""},"","","","","","","",{"$f":"IF(S153=\"\",\"\",COUNTIF($S$7:S153,\"該当２\"))","v":""},"","",{"$f":"IF(V153=\"\",\"\",COUNTIF($V$7:V153,\"該当３\"))","v":""}]
[2020108002,20,{"v":201,"d":"201 "},{"v":8,"d":"08 "},{"v":2,"d":"002 "},"長野県","長野市","朝陽村","北屋島",null,"","",{"$f":"IF(K154=\"\",\"\",COUNTIF($K$7:K154,\"ﾘｽﾄ１\"))","v":""},"","","","","","","",{"$f":"IF(S154=\"\",\"\",COUNTIF($S$7:S154,\"該当２\"))","v":""},"","",{"$f":"IF(V154=\"\",\"\",COUNTIF($V$7:V154,\"該当３\"))","v":""}]
[2020108003,20,{"v":201,"d":"201 "},{"v":8,"d":"08 "},{"v":3,"d":"003 "},"長野県","長野市","朝陽村","北長池",null,"","",{"$f":"IF(K155=\"\",\"\",COUNTIF($K$7:K155,\"ﾘｽﾄ１\"))","v":""},"","","","","","","",{"$f":"IF(S155=\"\",\"\",COUNTIF($S$7:S155,\"該当２\"))","v":""},"","",{"$f":"IF(V155=\"\",\"\",COUNTIF($V$7:V155,\"該当３\"))","v":""}]
[2020108004,20,{"v":201,"d":"201 "},{"v":8,"d":"08 "},{"v":4,"d":"004 "},"長野県","長野市","朝陽村","北尾張部",null,"","",{"$f":"IF(K156=\"\",\"\",COUNTIF($K$7:K156,\"ﾘｽﾄ１\"))","v":""},"","","","","","","",{"$f":"IF(S156=\"\",\"\",COUNTIF($S$7:S156,\"該当２\"))","v":""},"","",{"$f":"IF(V156=\"\",\"\",COUNTIF($V$7:V156,\"該当３\"))","v":""}]
[2020108005,20,{"v":201,"d":"201 "},{"v":8,"d":"08 "},{"v":5,"d":"005 "},"長野県","長野市","朝陽村","石渡",null,"","",{"$f":"IF(K157=\"\",\"\",COUNTIF($K$7:K157,\"ﾘｽﾄ１\"))","v":""},"","","","","","","",{"$f":"IF(S157=\"\",\"\",COUNTIF($S$7:S157,\"該当２\"))","v":""},"","",{"$f":"IF(V157=\"\",\"\",COUNTIF($V$7:V157,\"該当３\"))","v":""}]
[2020108006,20,{"v":201,"d":"201 "},{"v":8,"d":"08 "},{"v":6,"d":"006 "},"長野県","長野市","朝陽村","南堀",null,"","",{"$f":"IF(K158=\"\",\"\",COUNTIF($K$7:K158,\"ﾘｽﾄ１\"))","v":""},"","","","","","","",{"$f":"IF(S158=\"\",\"\",COUNTIF($S$7:S158,\"該当２\"))","v":""},"","",{"$f":"IF(V158=\"\",\"\",COUNTIF($V$7:V158,\"該当３\"))","v":""}]
[2020108007,20,{"v":201,"d":"201 "},{"v":8,"d":"08 "},{"v":7,"d":"007 "},"長野県","長野市","朝陽村","北堀",null,"","",{"$f":"IF(K159=\"\",\"\",COUNTIF($K$7:K159,\"ﾘｽﾄ１\"))","v":""},"","","","","","","",{"$f":"IF(S159=\"\",\"\",COUNTIF($S$7:S159,\"該当２\"))","v":""},"","",{"$f":"IF(V159=\"\",\"\",COUNTIF($V$7:V159,\"該当３\"))","v":""}]
[2020109000,20,{"v":201,"d":"201 "},{"v":9,"d":"09 "},{"v":0,"d":"000 "},"長野県","長野市","大豆島村",null,null,"","",{"$f":"IF(K160=\"\",\"\",COUNTIF($K$7:K160,\"ﾘｽﾄ１\"))","v":""},"","","","","","","",{"$f":"IF(S160=\"\",\"\",COUNTIF($S$7:S160,\"該当２\"))","v":""},"","",{"$f":"IF(V160=\"\",\"\",COUNTIF($V$7:V160,\"該当３\"))","v":""}]
[2020109001,20,{"v":201,"d":"201 "},{"v":9,"d":"09 "},{"v":1,"d":"001 "},"長野県","長野市","大豆島村","松岡",null,"","",{"$f":"IF(K161=\"\",\"\",COUNTIF($K$7:K161,\"ﾘｽﾄ１\"))","v":""},"","","","","","","",{"$f":"IF(S161=\"\",\"\",COUNTIF($S$7:S161,\"該当２\"))","v":""},"","",{"$f":"IF(V161=\"\",\"\",COUNTIF($V$7:V161,\"該当３\"))","v":""}]
[2020109002,20,{"v":201,"d":"201 "},{"v":9,"d":"09 "},{"v":2,"d":"002 "},"長野県","長野市","大豆島村","上区",null,"","",{"$f":"IF(K162=\"\",\"\",COUNTIF($K$7:K162,\"ﾘｽﾄ１\"))","v":""},"","","","","","","",{"$f":"IF(S162=\"\",\"\",COUNTIF($S$7:S162,\"該当２\"))","v":""},"","",{"$f":"IF(V162=\"\",\"\",COUNTIF($V$7:V162,\"該当３\"))","v":""}]
[2020109003,20,{"v":201,"d":"201 "},{"v":9,"d":"09 "},{"v":3,"d":"003 "},"長野県","長野市","大豆島村","中区",null,"","",{"$f":"IF(K163=\"\",\"\",COUNTIF($K$7:K163,\"ﾘｽﾄ１\"))","v":""},"","","","","","","",{"$f":"IF(S163=\"\",\"\",COUNTIF($S$7:S163,\"該当２\"))","v":""},"","",{"$f":"IF(V163=\"\",\"\",COUNTIF($V$7:V163,\"該当３\"))","v":""}]
[2020109004,20,{"v":201,"d":"201 "},{"v":9,"d":"09 "},{"v":4,"d":"004 "},"長野県","長野市","大豆島村","下区",null,"","",{"$f":"IF(K164=\"\",\"\",COUNTIF($K$7:K164,\"ﾘｽﾄ１\"))","v":""},"","","","","","","",{"$f":"IF(S164=\"\",\"\",COUNTIF($S$7:S164,\"該当２\"))","v":""},"","",{"$f":"IF(V164=\"\",\"\",COUNTIF($V$7:V164,\"該当３\"))","v":""}]
[2020109006,20,{"v":201,"d":"201 "},{"v":9,"d":"09 "},{"v":6,"d":"006 "},"長野県","長野市","大豆島村","西風間",null,"","",{"$f":"IF(K165=\"\",\"\",COUNTIF($K$7:K165,\"ﾘｽﾄ１\"))","v":""},"","","","","","","",{"$f":"IF(S165=\"\",\"\",COUNTIF($S$7:S165,\"該当２\"))","v":""},"","",{"$f":"IF(V165=\"\",\"\",COUNTIF($V$7:V165,\"該当３\"))","v":""}]
[2020109007,20,{"v":201,"d":"201 "},{"v":9,"d":"09 "},{"v":7,"d":"007 "},"長野県","長野市","大豆島村","東風間",null,"","",{"$f":"IF(K166=\"\",\"\",COUNTIF($K$7:K166,\"ﾘｽﾄ１\"))","v":""},"","","","","","","",{"$f":"IF(S166=\"\",\"\",COUNTIF($S$7:S166,\"該当２\"))","v":""},"","",{"$f":"IF(V166=\"\",\"\",COUNTIF($V$7:V166,\"該当３\"))","v":""}]
[2020110000,20,{"v":201,"d":"201 "},{"v":10,"d":"10 "},{"v":0,"d":"000 "},"長野県","長野市","安茂里村",null,null,"","",{"$f":"IF(K167=\"\",\"\",COUNTIF($K$7:K167,\"ﾘｽﾄ１\"))","v":""},"","","","","","","",{"$f":"IF(S167=\"\",\"\",COUNTIF($S$7:S167,\"該当２\"))","v":""},"","",{"$f":"IF(V167=\"\",\"\",COUNTIF($V$7:V167,\"該当３\"))","v":""}]
[2020110001,20,{"v":201,"d":"201 "},{"v":10,"d":"10 "},{"v":1,"d":"001 "},"長野県","長野市","安茂里村","平柴",null,"","",{"$f":"IF(K168=\"\",\"\",COUNTIF($K$7:K168,\"ﾘｽﾄ１\"))","v":""},"","","","","","","",{"$f":"IF(S168=\"\",\"\",COUNTIF($S$7:S168,\"該当２\"))","v":""},"","",{"$f":"IF(V168=\"\",\"\",COUNTIF($V$7:V168,\"該当３\"))","v":""}]
[2020110002,20,{"v":201,"d":"201 "},{"v":10,"d":"10 "},{"v":2,"d":"002 "},"長野県","長野市","安茂里村","小柴見",null,"","",{"$f":"IF(K169=\"\",\"\",COUNTIF($K$7:K169,\"ﾘｽﾄ１\"))","v":""},"","","","","","","",{"$f":"IF(S169=\"\",\"\",COUNTIF($S$7:S169,\"該当２\"))","v":""},"","",{"$f":"IF(V169=\"\",\"\",COUNTIF($V$7:V169,\"該当３\"))","v":""}]
[2020110003,20,{"v":201,"d":"201 "},{"v":10,"d":"10 "},{"v":3,"d":"003 "},"長野県","長野市","安茂里村","差出",null,"","",{"$f":"IF(K170=\"\",\"\",COUNTIF($K$7:K170,\"ﾘｽﾄ１\"))","v":""},"","","","","","","",{"$f":"IF(S170=\"\",\"\",COUNTIF($S$7:S170,\"該当２\"))","v":""},"","",{"$f":"IF(V170=\"\",\"\",COUNTIF($V$7:V170,\"該当３\"))","v":""}]
[2020110004,20,{"v":201,"d":"201 "},{"v":10,"d":"10 "},{"v":4,"d":"004 "},"長野県","長野市","安茂里村","大門",null,"","",{"$f":"IF(K171=\"\",\"\",COUNTIF($K$7:K171,\"ﾘｽﾄ１\"))","v":""},"","","","","","","",{"$f":"IF(S171=\"\",\"\",COUNTIF($S$7:S171,\"該当２\"))","v":""},"","",{"$f":"IF(V171=\"\",\"\",COUNTIF($V$7:V171,\"該当３\"))","v":""}]
[2020110005,20,{"v":201,"d":"201 "},{"v":10,"d":"10 "},{"v":5,"d":"005 "},"長野県","長野市","安茂里村","小路",null,"","",{"$f":"IF(K172=\"\",\"\",COUNTIF($K$7:K172,\"ﾘｽﾄ１\"))","v":""},"","","","","","","",{"$f":"IF(S172=\"\",\"\",COUNTIF($S$7:S172,\"該当２\"))","v":""},"","",{"$f":"IF(V172=\"\",\"\",COUNTIF($V$7:V172,\"該当３\"))","v":""}]
[2020110006,20,{"v":201,"d":"201 "},{"v":10,"d":"10 "},{"v":6,"d":"006 "},"長野県","長野市","安茂里村","西河原",null,"","",{"$f":"IF(K173=\"\",\"\",COUNTIF($K$7:K173,\"ﾘｽﾄ１\"))","v":""},"","","","","","","",{"$f":"IF(S173=\"\",\"\",COUNTIF($S$7:S173,\"該当２\"))","v":""},"","",{"$f":"IF(V173=\"\",\"\",COUNTIF($V$7:V173,\"該当３\"))","v":""}]
[2020110007,20,{"v":201,"d":"201 "},{"v":10,"d":"10 "},{"v":7,"d":"007 "},"長野県","長野市","安茂里村","小市",null,"","",{"$f":"IF(K174=\"\",\"\",COUNTIF($K$7:K174,\"ﾘｽﾄ１\"))","v":""},"","","","","","","",{"$f":"IF(S174=\"\",\"\",COUNTIF($S$7:S174,\"該当２\"))","v":""},"","",{"$f":"IF(V174=\"\",\"\",COUNTIF($V$7:V174,\"該当３\"))","v":""}]
[2020111000,20,{"v":201,"d":"201 "},{"v":11,"d":"11 "},{"v":0,"d":"000 "},"長野県","長野市","小田切村",null,null,"","",{"$f":"IF(K175=\"\",\"\",COUNTIF($K$7:K175,\"ﾘｽﾄ１\"))","v":""},"","","","","","","",{"$f":"IF(S175=\"\",\"\",COUNTIF($S$7:S175,\"該当２\"))","v":""},"","",{"$f":"IF(V175=\"\",\"\",COUNTIF($V$7:V175,\"該当３\"))","v":""}]
[2020111001,20,{"v":201,"d":"201 "},{"v":11,"d":"11 "},{"v":1,"d":"001 "},"長野県","長野市","小田切村","平林",null,"","",{"$f":"IF(K176=\"\",\"\",COUNTIF($K$7:K176,\"ﾘｽﾄ１\"))","v":""},"","","","","","","",{"$f":"IF(S176=\"\",\"\",COUNTIF($S$7:S176,\"該当２\"))","v":""},"","",{"$f":"IF(V176=\"\",\"\",COUNTIF($V$7:V176,\"該当３\"))","v":""}]
[2020111002,20,{"v":201,"d":"201 "},{"v":11,"d":"11 "},{"v":2,"d":"002 "},"長野県","長野市","小田切村","下深沢",null,"","",{"$f":"IF(K177=\"\",\"\",COUNTIF($K$7:K177,\"ﾘｽﾄ１\"))","v":""},"","","","","","","",{"$f":"IF(S177=\"\",\"\",COUNTIF($S$7:S177,\"該当２\"))","v":""},"","",{"$f":"IF(V177=\"\",\"\",COUNTIF($V$7:V177,\"該当３\"))","v":""}]
[2020111003,20,{"v":201,"d":"201 "},{"v":11,"d":"11 "},{"v":3,"d":"003 "},"長野県","長野市","小田切村","平深沢",null,"","",{"$f":"IF(K178=\"\",\"\",COUNTIF($K$7:K178,\"ﾘｽﾄ１\"))","v":""},"","","","","","","",{"$f":"IF(S178=\"\",\"\",COUNTIF($S$7:S178,\"該当２\"))","v":""},"","",{"$f":"IF(V178=\"\",\"\",COUNTIF($V$7:V178,\"該当３\"))","v":""}]
[2020111004,20,{"v":201,"d":"201 "},{"v":11,"d":"11 "},{"v":4,"d":"004 "},"長野県","長野市","小田切村","上深沢",null,"","",{"$f":"IF(K179=\"\",\"\",COUNTIF($K$7:K179,\"ﾘｽﾄ１\"))","v":""},"","","","","","","",{"$f":"IF(S179=\"\",\"\",COUNTIF($S$7:S179,\"該当２\"))","v":""},"","",{"$f":"IF(V179=\"\",\"\",COUNTIF($V$7:V179,\"該当３\"))","v":""}]
[2020111005,20,{"v":201,"d":"201 "},{"v":11,"d":"11 "},{"v":5,"d":"005 "},"長野県","長野市","小田切村","本郷",null,"","",{"$f":"IF(K180=\"\",\"\",COUNTIF($K$7:K180,\"ﾘｽﾄ１\"))","v":""},"","","","","","","",{"$f":"IF(S180=\"\",\"\",COUNTIF($S$7:S180,\"該当２\"))","v":""},"","",{"$f":"IF(V180=\"\",\"\",COUNTIF($V$7:V180,\"該当３\"))","v":""}]
[2020111006,20,{"v":201,"d":"201 "},{"v":11,"d":"11 "},{"v":6,"d":"006 "},"長野県","長野市","小田切村","中組",null,"","",{"$f":"IF(K181=\"\",\"\",COUNTIF($K$7:K181,\"ﾘｽﾄ１\"))","v":""},"","","","","","","",{"$f":"IF(S181=\"\",\"\",COUNTIF($S$7:S181,\"該当２\"))","v":""},"","",{"$f":"IF(V181=\"\",\"\",COUNTIF($V$7:V181,\"該当３\"))","v":""}]
[2020111007,20,{"v":201,"d":"201 "},{"v":11,"d":"11 "},{"v":7,"d":"007 "},"長野県","長野市","小田切村","塩日方",null,"","",{"$f":"IF(K182=\"\",\"\",COUNTIF($K$7:K182,\"ﾘｽﾄ１\"))","v":""},"","","","","","","",{"$f":"IF(S182=\"\",\"\",COUNTIF($S$7:S182,\"該当２\"))","v":""},"","",{"$f":"IF(V182=\"\",\"\",COUNTIF($V$7:V182,\"該当３\"))","v":""}]
[2020111008,20,{"v":201,"d":"201 "},{"v":11,"d":"11 "},{"v":8,"d":"008 "},"長野県","長野市","小田切村","無及平",null,"","",{"$f":"IF(K183=\"\",\"\",COUNTIF($K$7:K183,\"ﾘｽﾄ１\"))","v":""},"","","","","","","",{"$f":"IF(S183=\"\",\"\",COUNTIF($S$7:S183,\"該当２\"))","v":""},"","",{"$f":"IF(V183=\"\",\"\",COUNTIF($V$7:V183,\"該当３\"))","v":""}]
[2020111009,20,{"v":201,"d":"201 "},{"v":11,"d":"11 "},{"v":9,"d":"009 "},"長野県","長野市","小田切村","草崎",null,"","",{"$f":"IF(K184=\"\",\"\",COUNTIF($K$7:K184,\"ﾘｽﾄ１\"))","v":""},"","","","","","","",{"$f":"IF(S184=\"\",\"\",COUNTIF($S$7:S184,\"該当２\"))","v":""},"","",{"$f":"IF(V184=\"\",\"\",COUNTIF($V$7:V184,\"該当３\"))","v":""}]
[2020111010,20,{"v":201,"d":"201 "},{"v":11,"d":"11 "},{"v":10,"d":"010 "},"長野県","長野市","小田切村","榎，新分市",null,"","",{"$f":"IF(K185=\"\",\"\",COUNTIF($K$7:K185,\"ﾘｽﾄ１\"))","v":""},"","","","","","","",{"$f":"IF(S185=\"\",\"\",COUNTIF($S$7:S185,\"該当２\"))","v":""},"","",{"$f":"IF(V185=\"\",\"\",COUNTIF($V$7:V185,\"該当３\"))","v":""}]
[2020111011,20,{"v":201,"d":"201 "},{"v":11,"d":"11 "},{"v":11,"d":"011 "},"長野県","長野市","小田切村","久保北畠",null,"","",{"$f":"IF(K186=\"\",\"\",COUNTIF($K$7:K186,\"ﾘｽﾄ１\"))","v":""},"","","","","","","",{"$f":"IF(S186=\"\",\"\",COUNTIF($S$7:S186,\"該当２\"))","v":""},"","",{"$f":"IF(V186=\"\",\"\",COUNTIF($V$7:V186,\"該当３\"))","v":""}]
[2020111012,20,{"v":201,"d":"201 "},{"v":11,"d":"11 "},{"v":12,"d":"012 "},"長野県","長野市","小田切村","三組",null,"","",{"$f":"IF(K187=\"\",\"\",COUNTIF($K$7:K187,\"ﾘｽﾄ１\"))","v":""},"","","","","","","",{"$f":"IF(S187=\"\",\"\",COUNTIF($S$7:S187,\"該当２\"))","v":""},"","",{"$f":"IF(V187=\"\",\"\",COUNTIF($V$7:V187,\"該当３\"))","v":""}]
[2020111013,20,{"v":201,"d":"201 "},{"v":11,"d":"11 "},{"v":13,"d":"013 "},"長野県","長野市","小田切村","麻庭",null,"","",{"$f":"IF(K188=\"\",\"\",COUNTIF($K$7:K188,\"ﾘｽﾄ１\"))","v":""},"","","","","","","",{"$f":"IF(S188=\"\",\"\",COUNTIF($S$7:S188,\"該当２\"))","v":""},"","",{"$f":"IF(V188=\"\",\"\",COUNTIF($V$7:V188,\"該当３\"))","v":""}]
[2020111014,20,{"v":201,"d":"201 "},{"v":11,"d":"11 "},{"v":14,"d":"014 "},"長野県","長野市","小田切村","山田中",null,"","",{"$f":"IF(K189=\"\",\"\",COUNTIF($K$7:K189,\"ﾘｽﾄ１\"))","v":""},"","","","","","","",{"$f":"IF(S189=\"\",\"\",COUNTIF($S$7:S189,\"該当２\"))","v":""},"","",{"$f":"IF(V189=\"\",\"\",COUNTIF($V$7:V189,\"該当３\"))","v":""}]
[2020111015,20,{"v":201,"d":"201 "},{"v":11,"d":"11 "},{"v":15,"d":"015 "},"長野県","長野市","小田切村","川後",null,"","",{"$f":"IF(K190=\"\",\"\",COUNTIF($K$7:K190,\"ﾘｽﾄ１\"))","v":""},"","","","","","","",{"$f":"IF(S190=\"\",\"\",COUNTIF($S$7:S190,\"該当２\"))","v":""},"","",{"$f":"IF(V190=\"\",\"\",COUNTIF($V$7:V190,\"該当３\"))","v":""}]
[2020111016,20,{"v":201,"d":"201 "},{"v":11,"d":"11 "},{"v":16,"d":"016 "},"長野県","長野市","小田切村","松枇",null,"","",{"$f":"IF(K191=\"\",\"\",COUNTIF($K$7:K191,\"ﾘｽﾄ１\"))","v":""},"","","","","","","",{"$f":"IF(S191=\"\",\"\",COUNTIF($S$7:S191,\"該当２\"))","v":""},"","",{"$f":"IF(V191=\"\",\"\",COUNTIF($V$7:V191,\"該当３\"))","v":""}]
[2020111017,20,{"v":201,"d":"201 "},{"v":11,"d":"11 "},{"v":17,"d":"017 "},"長野県","長野市","小田切村","日影繁",null,"","",{"$f":"IF(K192=\"\",\"\",COUNTIF($K$7:K192,\"ﾘｽﾄ１\"))","v":""},"","","","","","","",{"$f":"IF(S192=\"\",\"\",COUNTIF($S$7:S192,\"該当２\"))","v":""},"","",{"$f":"IF(V192=\"\",\"\",COUNTIF($V$7:V192,\"該当３\"))","v":""}]
[2020111018,20,{"v":201,"d":"201 "},{"v":11,"d":"11 "},{"v":18,"d":"018 "},"長野県","長野市","小田切村","西繁",null,"","",{"$f":"IF(K193=\"\",\"\",COUNTIF($K$7:K193,\"ﾘｽﾄ１\"))","v":""},"","","","","","","",{"$f":"IF(S193=\"\",\"\",COUNTIF($S$7:S193,\"該当２\"))","v":""},"","",{"$f":"IF(V193=\"\",\"\",COUNTIF($V$7:V193,\"該当３\"))","v":""}]
[2020111019,20,{"v":201,"d":"201 "},{"v":11,"d":"11 "},{"v":19,"d":"019 "},"長野県","長野市","小田切村","小野平",null,"","",{"$f":"IF(K194=\"\",\"\",COUNTIF($K$7:K194,\"ﾘｽﾄ１\"))","v":""},"","","","","","","",{"$f":"IF(S194=\"\",\"\",COUNTIF($S$7:S194,\"該当２\"))","v":""},"","",{"$f":"IF(V194=\"\",\"\",COUNTIF($V$7:V194,\"該当３\"))","v":""}]
[2020111020,20,{"v":201,"d":"201 "},{"v":11,"d":"11 "},{"v":20,"d":"020 "},"長野県","長野市","小田切村","東繁",null,"","",{"$f":"IF(K195=\"\",\"\",COUNTIF($K$7:K195,\"ﾘｽﾄ１\"))","v":""},"","","","","","","",{"$f":"IF(S195=\"\",\"\",COUNTIF($S$7:S195,\"該当２\"))","v":""},"","",{"$f":"IF(V195=\"\",\"\",COUNTIF($V$7:V195,\"該当３\"))","v":""}]
[2020111021,20,{"v":201,"d":"201 "},{"v":11,"d":"11 "},{"v":21,"d":"021 "},"長野県","長野市","小田切村","二ツ石",null,"","",{"$f":"IF(K196=\"\",\"\",COUNTIF($K$7:K196,\"ﾘｽﾄ１\"))","v":""},"","","","","","","",{"$f":"IF(S196=\"\",\"\",COUNTIF($S$7:S196,\"該当２\"))","v":""},"","",{"$f":"IF(V196=\"\",\"\",COUNTIF($V$7:V196,\"該当３\"))","v":""}]
[2020111022,20,{"v":201,"d":"201 "},{"v":11,"d":"11 "},{"v":22,"d":"022 "},"長野県","長野市","小田切村","国見",null,"","",{"$f":"IF(K197=\"\",\"\",COUNTIF($K$7:K197,\"ﾘｽﾄ１\"))","v":""},"","","","","","","",{"$f":"IF(S197=\"\",\"\",COUNTIF($S$7:S197,\"該当２\"))","v":""},"","",{"$f":"IF(V197=\"\",\"\",COUNTIF($V$7:V197,\"該当３\"))","v":""}]
[2020111023,20,{"v":201,"d":"201 "},{"v":11,"d":"11 "},{"v":23,"d":"023 "},"長野県","長野市","小田切村","湯山",null,"","",{"$f":"IF(K198=\"\",\"\",COUNTIF($K$7:K198,\"ﾘｽﾄ１\"))","v":""},"","","","","","","",{"$f":"IF(S198=\"\",\"\",COUNTIF($S$7:S198,\"該当２\"))","v":""},"","",{"$f":"IF(V198=\"\",\"\",COUNTIF($V$7:V198,\"該当３\"))","v":""}]
[2020111024,20,{"v":201,"d":"201 "},{"v":11,"d":"11 "},{"v":24,"d":"024 "},"長野県","長野市","小田切村","百瀬",null,"","",{"$f":"IF(K199=\"\",\"\",COUNTIF($K$7:K199,\"ﾘｽﾄ１\"))","v":""},"","","","","","","",{"$f":"IF(S199=\"\",\"\",COUNTIF($S$7:S199,\"該当２\"))","v":""},"","",{"$f":"IF(V199=\"\",\"\",COUNTIF($V$7:V199,\"該当３\"))","v":""}]
[2020111025,20,{"v":201,"d":"201 "},{"v":11,"d":"11 "},{"v":25,"d":"025 "},"長野県","長野市","小田切村","下小鍋",null,"","",{"$f":"IF(K200=\"\",\"\",COUNTIF($K$7:K200,\"ﾘｽﾄ１\"))","v":""},"","",{"$f":"IF(O200=\"該当１\",G200,\"\")","v":""},{"$f":"IF(O200=\"該当１\",\"ﾘｽﾄ2\",\"\")","v":""},{"$f":"IF(Q200=\"ﾘｽﾄ2\",H200,\"\")","v":""},"",{"$f":"IF(S200=\"該当２\",H200,\"\")","v":""},{"$f":"IF(S200=\"\",\"\",COUNTIF($S$7:S200,\"該当２\"))","v":""},{"$f":"IF(AND($S$2=H200,E200>0,E200<998),\"該当３\",\"\")","v":""},{"$f":"IF(V200=\"該当３\",I200,\"\")","v":""},{"$f":"IF(V200=\"\",\"\",COUNTIF($V$7:V200,\"該当３\"))","v":""}]
[2020111026,20,{"v":201,"d":"201 "},{"v":11,"d":"11 "},{"v":26,"d":"026 "},"長野県","長野市","小田切村","日方",null,{"$f":"IF(AND($C201>0,$H201=\"\"),\"ﾘｽﾄ１\",\"\")","v":""},{"$f":"IF(K201=\"ﾘｽﾄ１\",G201,\"\")","v":""},{"$f":"IF(K201=\"\",\"\",COUNTIF($K$7:K201,\"ﾘｽﾄ１\"))","v":""},{"$f":"IF(AND(D201=0,E201>0),\"同一区\",\"\")","v":""},{"$f":"IF(AND(EXACT($K$2,G201),H201>0),\"該当１\",\"\")","v":""},"","","",{"$f":"IF(AND(Q201=\"ﾘｽﾄ2\",OR(I201=0,AND(N201=\"同一区\",E201=1))),\"該当２\",\"\")","v":""},"",{"$f":"IF(S201=\"\",\"\",COUNTIF($S$7:S201,\"該当２\"))","v":""},"","",{"$f":"IF(V201=\"\",\"\",COUNTIF($V$7:V201,\"該当３\"))","v":""}]
[2020111027,20,{"v":201,"d":"201 "},{"v":11,"d":"11 "},{"v":27,"d":"027 "},"長野県","長野市","小田切村","田中",null,"","",{"$f":"IF(K202=\"\",\"\",COUNTIF($K$7:K202,\"ﾘｽﾄ１\"))","v":""},"","","","","","","",{"$f":"IF(S202=\"\",\"\",COUNTIF($S$7:S202,\"該当２\"))","v":""},"","",{"$f":"IF(V202=\"\",\"\",COUNTIF($V$7:V202,\"該当３\"))","v":""}]
[2020111028,20,{"v":201,"d":"201 "},{"v":11,"d":"11 "},{"v":28,"d":"028 "},"長野県","長野市","小田切村","沢ノ入",null,"","",{"$f":"IF(K203=\"\",\"\",COUNTIF($K$7:K203,\"ﾘｽﾄ１\"))","v":""},"","","","","","","",{"$f":"IF(S203=\"\",\"\",COUNTIF($S$7:S203,\"該当２\"))","v":""},"","",{"$f":"IF(V203=\"\",\"\",COUNTIF($V$7:V203,\"該当３\"))","v":""}]
[2020111029,20,{"v":201,"d":"201 "},{"v":11,"d":"11 "},{"v":29,"d":"029 "},"長野県","長野市","小田切村","平石栃ノ木",null,"","",{"$f":"IF(K204=\"\",\"\",COUNTIF($K$7:K204,\"ﾘｽﾄ１\"))","v":""},"","","","","","","",{"$f":"IF(S204=\"\",\"\",COUNTIF($S$7:S204,\"該当２\"))","v":""},"","",{"$f":"IF(V204=\"\",\"\",COUNTIF($V$7:V204,\"該当３\"))","v":""}]
[2020111030,20,{"v":201,"d":"201 "},{"v":11,"d":"11 "},{"v":30,"d":"030 "},"長野県","長野市","小田切村","千木",null,"","",{"$f":"IF(K205=\"\",\"\",COUNTIF($K$7:K205,\"ﾘｽﾄ１\"))","v":""},"","","","","","","",{"$f":"IF(S205=\"\",\"\",COUNTIF($S$7:S205,\"該当２\"))","v":""},"","",{"$f":"IF(V205=\"\",\"\",COUNTIF($V$7:V205,\"該当３\"))","v":""}]
[2020112000,20,{"v":201,"d":"201 "},{"v":12,"d":"12 "},{"v":0,"d":"000 "},"長野県","長野市","篠ノ井町",null,null,"","",{"$f":"IF(K206=\"\",\"\",COUNTIF($K$7:K206,\"ﾘｽﾄ１\"))","v":""},"","","","","","","",{"$f":"IF(S206=\"\",\"\",COUNTIF($S$7:S206,\"該当２\"))","v":""},"","",{"$f":"IF(V206=\"\",\"\",COUNTIF($V$7:V206,\"該当３\"))","v":""}]
[2020112001,20,{"v":201,"d":"201 "},{"v":12,"d":"12 "},{"v":1,"d":"001 "},"長野県","長野市","篠ノ井町","柳沢",null,"","",{"$f":"IF(K207=\"\",\"\",COUNTIF($K$7:K207,\"ﾘｽﾄ１\"))","v":""},"","","","","","","",{"$f":"IF(S207=\"\",\"\",COUNTIF($S$7:S207,\"該当２\"))","v":""},"","",{"$f":"IF(V207=\"\",\"\",COUNTIF($V$7:V207,\"該当３\"))","v":""}]
[2020112002,20,{"v":201,"d":"201 "},{"v":12,"d":"12 "},{"v":2,"d":"002 "},"長野県","長野市","篠ノ井町","瀬原田",null,"","",{"$f":"IF(K208=\"\",\"\",COUNTIF($K$7:K208,\"ﾘｽﾄ１\"))","v":""},"","","","","","","",{"$f":"IF(S208=\"\",\"\",COUNTIF($S$7:S208,\"該当２\"))","v":""},"","",{"$f":"IF(V208=\"\",\"\",COUNTIF($V$7:V208,\"該当３\"))","v":""}]
[2020112003,20,{"v":201,"d":"201 "},{"v":12,"d":"12 "},{"v":3,"d":"003 "},"長野県","長野市","篠ノ井町","五明",null,"","",{"$f":"IF(K209=\"\",\"\",COUNTIF($K$7:K209,\"ﾘｽﾄ１\"))","v":""},"","","","","","","",{"$f":"IF(S209=\"\",\"\",COUNTIF($S$7:S209,\"該当２\"))","v":""},"","",{"$f":"IF(V209=\"\",\"\",COUNTIF($V$7:V209,\"該当３\"))","v":""}]
[2020112004,20,{"v":201,"d":"201 "},{"v":12,"d":"12 "},{"v":4,"d":"004 "},"長野県","長野市","篠ノ井町","西組",null,"","",{"$f":"IF(K210=\"\",\"\",COUNTIF($K$7:K210,\"ﾘｽﾄ１\"))","v":""},"","","","","","","",{"$f":"IF(S210=\"\",\"\",COUNTIF($S$7:S210,\"該当２\"))","v":""},"","",{"$f":"IF(V210=\"\",\"\",COUNTIF($V$7:V210,\"該当３\"))","v":""}]
[2020112005,20,{"v":201,"d":"201 "},{"v":12,"d":"12 "},{"v":5,"d":"005 "},"長野県","長野市","篠ノ井町","内堀",null,"","",{"$f":"IF(K211=\"\",\"\",COUNTIF($K$7:K211,\"ﾘｽﾄ１\"))","v":""},"","","","","","","",{"$f":"IF(S211=\"\",\"\",COUNTIF($S$7:S211,\"該当２\"))","v":""},"","",{"$f":"IF(V211=\"\",\"\",COUNTIF($V$7:V211,\"該当３\"))","v":""}]
[2020112006,20,{"v":201,"d":"201 "},{"v":12,"d":"12 "},{"v":6,"d":"006 "},"長野県","長野市","篠ノ井町","高田",null,"","",{"$f":"IF(K212=\"\",\"\",COUNTIF($K$7:K212,\"ﾘｽﾄ１\"))","v":""},"","","","","","","",{"$f":"IF(S212=\"\",\"\",COUNTIF($S$7:S212,\"該当２\"))","v":""},"","",{"$f":"IF(V212=\"\",\"\",COUNTIF($V$7:V212,\"該当３\"))","v":""}]
[2020112007,20,{"v":201,"d":"201 "},{"v":12,"d":"12 "},{"v":7,"d":"007 "},"長野県","長野市","篠ノ井町","唐臼",null,"","",{"$f":"IF(K213=\"\",\"\",COUNTIF($K$7:K213,\"ﾘｽﾄ１\"))","v":""},"","","","","","","",{"$f":"IF(S213=\"\",\"\",COUNTIF($S$7:S213,\"該当２\"))","v":""},"","",{"$f":"IF(V213=\"\",\"\",COUNTIF($V$7:V213,\"該当３\"))","v":""}]
[2020112008,20,{"v":201,"d":"201 "},{"v":12,"d":"12 "},{"v":8,"d":"008 "},"長野県","長野市","篠ノ井町","芝沢",null,"","",{"$f":"IF(K214=\"\",\"\",COUNTIF($K$7:K214,\"ﾘｽﾄ１\"))","v":""},"","","","","","","",{"$f":"IF(S214=\"\",\"\",COUNTIF($S$7:S214,\"該当２\"))","v":""},"","",{"$f":"IF(V214=\"\",\"\",COUNTIF($V$7:V214,\"該当３\"))","v":""}]
[2020112009,20,{"v":201,"d":"201 "},{"v":12,"d":"12 "},{"v":9,"d":"009 "},"長野県","長野市","篠ノ井町","御幣川",null,"","",{"$f":"IF(K215=\"\",\"\",COUNTIF($K$7:K215,\"ﾘｽﾄ１\"))","v":""},"","","","","","","",{"$f":"IF(S215=\"\",\"\",COUNTIF($S$7:S215,\"該当２\"))","v":""},"","",{"$f":"IF(V215=\"\",\"\",COUNTIF($V$7:V215,\"該当３\"))","v":""}]
[2020112010,20,{"v":201,"d":"201 "},{"v":12,"d":"12 "},{"v":10,"d":"010 "},"長野県","長野市","篠ノ井町","西横田",null,"","",{"$f":"IF(K216=\"\",\"\",COUNTIF($K$7:K216,\"ﾘｽﾄ１\"))","v":""},"","","","","","","",{"$f":"IF(S216=\"\",\"\",COUNTIF($S$7:S216,\"該当２\"))","v":""},"","",{"$f":"IF(V216=\"\",\"\",COUNTIF($V$7:V216,\"該当３\"))","v":""}]
[2020112011,20,{"v":201,"d":"201 "},{"v":12,"d":"12 "},{"v":11,"d":"011 "},"長野県","長野市","篠ノ井町","東横田",null,"","",{"$f":"IF(K217=\"\",\"\",COUNTIF($K$7:K217,\"ﾘｽﾄ１\"))","v":""},"","","","","","","",{"$f":"IF(S217=\"\",\"\",COUNTIF($S$7:S217,\"該当２\"))","v":""},"","",{"$f":"IF(V217=\"\",\"\",COUNTIF($V$7:V217,\"該当３\"))","v":""}]
[2020112012,20,{"v":201,"d":"201 "},{"v":12,"d":"12 "},{"v":12,"d":"012 "},"長野県","長野市","篠ノ井町","会",null,"","",{"$f":"IF(K218=\"\",\"\",COUNTIF($K$7:K218,\"ﾘｽﾄ１\"))","v":""},"","","","","","","",{"$f":"IF(S218=\"\",\"\",COUNTIF($S$7:S218,\"該当２\"))","v":""},"","",{"$f":"IF(V218=\"\",\"\",COUNTIF($V$7:V218,\"該当３\"))","v":""}]
[2020112013,20,{"v":201,"d":"201 "},{"v":12,"d":"12 "},{"v":13,"d":"013 "},"長野県","長野市","篠ノ井町","国道",null,"","",{"$f":"IF(K219=\"\",\"\",COUNTIF($K$7:K219,\"ﾘｽﾄ１\"))","v":""},"","","","","","","",{"$f":"IF(S219=\"\",\"\",COUNTIF($S$7:S219,\"該当２\"))","v":""},"","",{"$f":"IF(V219=\"\",\"\",COUNTIF($V$7:V219,\"該当３\"))","v":""}]
[2020113000,20,{"v":201,"d":"201 "},{"v":13,"d":"13 "},{"v":0,"d":"000 "},"長野県","長野市","川柳村",null,null,"","",{"$f":"IF(K220=\"\",\"\",COUNTIF($K$7:K220,\"ﾘｽﾄ１\"))","v":""},"","","","","","","",{"$f":"IF(S220=\"\",\"\",COUNTIF($S$7:S220,\"該当２\"))","v":""},"","",{"$f":"IF(V220=\"\",\"\",COUNTIF($V$7:V220,\"該当３\"))","v":""}]
[2020113001,20,{"v":201,"d":"201 "},{"v":13,"d":"13 "},{"v":1,"d":"001 "},"長野県","長野市","川柳村","上石川",null,"","",{"$f":"IF(K221=\"\",\"\",COUNTIF($K$7:K221,\"ﾘｽﾄ１\"))","v":""},"","","","","","","",{"$f":"IF(S221=\"\",\"\",COUNTIF($S$7:S221,\"該当２\"))","v":""},"","",{"$f":"IF(V221=\"\",\"\",COUNTIF($V$7:V221,\"該当３\"))","v":""}]
[2020113002,20,{"v":201,"d":"201 "},{"v":13,"d":"13 "},{"v":2,"d":"002 "},"長野県","長野市","川柳村","下石川",null,"","",{"$f":"IF(K222=\"\",\"\",COUNTIF($K$7:K222,\"ﾘｽﾄ１\"))","v":""},"","","","","","","",{"$f":"IF(S222=\"\",\"\",COUNTIF($S$7:S222,\"該当２\"))","v":""},"","",{"$f":"IF(V222=\"\",\"\",COUNTIF($V$7:V222,\"該当３\"))","v":""}]
[2020113003,20,{"v":201,"d":"201 "},{"v":13,"d":"13 "},{"v":3,"d":"003 "},"長野県","長野市","川柳村","方田",null,"","",{"$f":"IF(K223=\"\",\"\",COUNTIF($K$7:K223,\"ﾘｽﾄ１\"))","v":""},"","","","","","","",{"$f":"IF(S223=\"\",\"\",COUNTIF($S$7:S223,\"該当２\"))","v":""},"","",{"$f":"IF(V223=\"\",\"\",COUNTIF($V$7:V223,\"該当３\"))","v":""}]
[2020113004,20,{"v":201,"d":"201 "},{"v":13,"d":"13 "},{"v":4,"d":"004 "},"長野県","長野市","川柳村","中条",null,"","",{"$f":"IF(K224=\"\",\"\",COUNTIF($K$7:K224,\"ﾘｽﾄ１\"))","v":""},"","","","","","","",{"$f":"IF(S224=\"\",\"\",COUNTIF($S$7:S224,\"該当２\"))","v":""},"","",{"$f":"IF(V224=\"\",\"\",COUNTIF($V$7:V224,\"該当３\"))","v":""}]
[2020113005,20,{"v":201,"d":"201 "},{"v":13,"d":"13 "},{"v":5,"d":"005 "},"長野県","長野市","川柳村","昭和",null,"","",{"$f":"IF(K225=\"\",\"\",COUNTIF($K$7:K225,\"ﾘｽﾄ１\"))","v":""},"","","","","","","",{"$f":"IF(S225=\"\",\"\",COUNTIF($S$7:S225,\"該当２\"))","v":""},"","",{"$f":"IF(V225=\"\",\"\",COUNTIF($V$7:V225,\"該当３\"))","v":""}]
[2020113006,20,{"v":201,"d":"201 "},{"v":13,"d":"13 "},{"v":6,"d":"006 "},"長野県","長野市","川柳村","大当",null,"","",{"$f":"IF(K226=\"\",\"\",COUNTIF($K$7:K226,\"ﾘｽﾄ１\"))","v":""},"","","","","","","",{"$f":"IF(S226=\"\",\"\",COUNTIF($S$7:S226,\"該当２\"))","v":""},"","",{"$f":"IF(V226=\"\",\"\",COUNTIF($V$7:V226,\"該当３\"))","v":""}]
[2020113007,20,{"v":201,"d":"201 "},{"v":13,"d":"13 "},{"v":7,"d":"007 "},"長野県","長野市","川柳村","作見",null,"","",{"$f":"IF(K227=\"\",\"\",COUNTIF($K$7:K227,\"ﾘｽﾄ１\"))","v":""},"","","","","","","",{"$f":"IF(S227=\"\",\"\",COUNTIF($S$7:S227,\"該当２\"))","v":""},"","",{"$f":"IF(V227=\"\",\"\",COUNTIF($V$7:V227,\"該当３\"))","v":""}]
[2020114000,20,{"v":201,"d":"201 "},{"v":14,"d":"14 "},{"v":0,"d":"000 "},"長野県","長野市","塩崎村",null,null,"","",{"$f":"IF(K228=\"\",\"\",COUNTIF($K$7:K228,\"ﾘｽﾄ１\"))","v":""},"","","","","","","",{"$f":"IF(S228=\"\",\"\",COUNTIF($S$7:S228,\"該当２\"))","v":""},"","",{"$f":"IF(V228=\"\",\"\",COUNTIF($V$7:V228,\"該当３\"))","v":""}]
[2020114001,20,{"v":201,"d":"201 "},{"v":14,"d":"14 "},{"v":1,"d":"001 "},"長野県","長野市","塩崎村","篠ノ井東",null,"","",{"$f":"IF(K229=\"\",\"\",COUNTIF($K$7:K229,\"ﾘｽﾄ１\"))","v":""},"","","","","","","",{"$f":"IF(S229=\"\",\"\",COUNTIF($S$7:S229,\"該当２\"))","v":""},"","",{"$f":"IF(V229=\"\",\"\",COUNTIF($V$7:V229,\"該当３\"))","v":""}]
[2020114002,20,{"v":201,"d":"201 "},{"v":14,"d":"14 "},{"v":2,"d":"002 "},"長野県","長野市","塩崎村","篠ノ井上",null,"","",{"$f":"IF(K230=\"\",\"\",COUNTIF($K$7:K230,\"ﾘｽﾄ１\"))","v":""},"","","","","","","",{"$f":"IF(S230=\"\",\"\",COUNTIF($S$7:S230,\"該当２\"))","v":""},"","",{"$f":"IF(V230=\"\",\"\",COUNTIF($V$7:V230,\"該当３\"))","v":""}]
[2020114003,20,{"v":201,"d":"201 "},{"v":14,"d":"14 "},{"v":3,"d":"003 "},"長野県","長野市","塩崎村","平久保",null,"","",{"$f":"IF(K231=\"\",\"\",COUNTIF($K$7:K231,\"ﾘｽﾄ１\"))","v":""},"","","","","","","",{"$f":"IF(S231=\"\",\"\",COUNTIF($S$7:S231,\"該当２\"))","v":""},"","",{"$f":"IF(V231=\"\",\"\",COUNTIF($V$7:V231,\"該当３\"))","v":""}]
[2020114004,20,{"v":201,"d":"201 "},{"v":14,"d":"14 "},{"v":4,"d":"004 "},"長野県","長野市","塩崎村","山崎",null,"","",{"$f":"IF(K232=\"\",\"\",COUNTIF($K$7:K232,\"ﾘｽﾄ１\"))","v":""},"","","","","","","",{"$f":"IF(S232=\"\",\"\",COUNTIF($S$7:S232,\"該当２\"))","v":""},"","",{"$f":"IF(V232=\"\",\"\",COUNTIF($V$7:V232,\"該当３\"))","v":""}]
[2020114005,20,{"v":201,"d":"201 "},{"v":14,"d":"14 "},{"v":5,"d":"005 "},"長野県","長野市","塩崎村","角間",null,"","",{"$f":"IF(K233=\"\",\"\",COUNTIF($K$7:K233,\"ﾘｽﾄ１\"))","v":""},"","","","","","","",{"$f":"IF(S233=\"\",\"\",COUNTIF($S$7:S233,\"該当２\"))","v":""},"","",{"$f":"IF(V233=\"\",\"\",COUNTIF($V$7:V233,\"該当３\"))","v":""}]
[2020114006,20,{"v":201,"d":"201 "},{"v":14,"d":"14 "},{"v":6,"d":"006 "},"長野県","長野市","塩崎村","上町",null,"","",{"$f":"IF(K234=\"\",\"\",COUNTIF($K$7:K234,\"ﾘｽﾄ１\"))","v":""},"","","","","","","",{"$f":"IF(S234=\"\",\"\",COUNTIF($S$7:S234,\"該当２\"))","v":""},"","",{"$f":"IF(V234=\"\",\"\",COUNTIF($V$7:V234,\"該当３\"))","v":""}]
[2020114007,20,{"v":201,"d":"201 "},{"v":14,"d":"14 "},{"v":7,"d":"007 "},"長野県","長野市","塩崎村","四之宮",null,"","",{"$f":"IF(K235=\"\",\"\",COUNTIF($K$7:K235,\"ﾘｽﾄ１\"))","v":""},"","","","","","","",{"$f":"IF(S235=\"\",\"\",COUNTIF($S$7:S235,\"該当２\"))","v":""},"","",{"$f":"IF(V235=\"\",\"\",COUNTIF($V$7:V235,\"該当３\"))","v":""}]
[2020114008,20,{"v":201,"d":"201 "},{"v":14,"d":"14 "},{"v":8,"d":"008 "},"長野県","長野市","塩崎村","四野宮",null,"","",{"$f":"IF(K236=\"\",\"\",COUNTIF($K$7:K236,\"ﾘｽﾄ１\"))","v":""},"","","","","","","",{"$f":"IF(S236=\"\",\"\",COUNTIF($S$7:S236,\"該当２\"))","v":""},"","",{"$f":"IF(V236=\"\",\"\",COUNTIF($V$7:V236,\"該当３\"))","v":""}]
[2020114009,20,{"v":201,"d":"201 "},{"v":14,"d":"14 "},{"v":9,"d":"009 "},"長野県","長野市","塩崎村","長谷",null,"","",{"$f":"IF(K237=\"\",\"\",COUNTIF($K$7:K237,\"ﾘｽﾄ１\"))","v":""},"","","","","","","",{"$f":"IF(S237=\"\",\"\",COUNTIF($S$7:S237,\"該当２\"))","v":""},"","",{"$f":"IF(V237=\"\",\"\",COUNTIF($V$7:V237,\"該当３\"))","v":""}]
[2020114010,20,{"v":201,"d":"201 "},{"v":14,"d":"14 "},{"v":10,"d":"010 "},"長野県","長野市","塩崎村","越",null,"","",{"$f":"IF(K238=\"\",\"\",COUNTIF($K$7:K238,\"ﾘｽﾄ１\"))","v":""},"","","","","","","",{"$f":"IF(S238=\"\",\"\",COUNTIF($S$7:S238,\"該当２\"))","v":""},"","",{"$f":"IF(V238=\"\",\"\",COUNTIF($V$7:V238,\"該当３\"))","v":""}]
[2020115000,20,{"v":201,"d":"201 "},{"v":15,"d":"15 "},{"v":0,"d":"000 "},"長野県","長野市","東福寺村",null,null,"","",{"$f":"IF(K239=\"\",\"\",COUNTIF($K$7:K239,\"ﾘｽﾄ１\"))","v":""},"","","","","","","",{"$f":"IF(S239=\"\",\"\",COUNTIF($S$7:S239,\"該当２\"))","v":""},"","",{"$f":"IF(V239=\"\",\"\",COUNTIF($V$7:V239,\"該当３\"))","v":""}]
[2020115001,20,{"v":201,"d":"201 "},{"v":15,"d":"15 "},{"v":1,"d":"001 "},"長野県","長野市","東福寺村","小森西",null,"","",{"$f":"IF(K240=\"\",\"\",COUNTIF($K$7:K240,\"ﾘｽﾄ１\"))","v":""},"","","","","","","",{"$f":"IF(S240=\"\",\"\",COUNTIF($S$7:S240,\"該当２\"))","v":""},"","",{"$f":"IF(V240=\"\",\"\",COUNTIF($V$7:V240,\"該当３\"))","v":""}]
[2020115002,20,{"v":201,"d":"201 "},{"v":15,"d":"15 "},{"v":2,"d":"002 "},"長野県","長野市","東福寺村","小森東",null,"","",{"$f":"IF(K241=\"\",\"\",COUNTIF($K$7:K241,\"ﾘｽﾄ１\"))","v":""},"","","","","","","",{"$f":"IF(S241=\"\",\"\",COUNTIF($S$7:S241,\"該当２\"))","v":""},"","",{"$f":"IF(V241=\"\",\"\",COUNTIF($V$7:V241,\"該当３\"))","v":""}]
[2020115003,20,{"v":201,"d":"201 "},{"v":15,"d":"15 "},{"v":3,"d":"003 "},"長野県","長野市","東福寺村","上組",null,"","",{"$f":"IF(K242=\"\",\"\",COUNTIF($K$7:K242,\"ﾘｽﾄ１\"))","v":""},"","","","","","","",{"$f":"IF(S242=\"\",\"\",COUNTIF($S$7:S242,\"該当２\"))","v":""},"","",{"$f":"IF(V242=\"\",\"\",COUNTIF($V$7:V242,\"該当３\"))","v":""}]
[2020115004,20,{"v":201,"d":"201 "},{"v":15,"d":"15 "},{"v":4,"d":"004 "},"長野県","長野市","東福寺村","中組",null,"","",{"$f":"IF(K243=\"\",\"\",COUNTIF($K$7:K243,\"ﾘｽﾄ１\"))","v":""},"","","","","","","",{"$f":"IF(S243=\"\",\"\",COUNTIF($S$7:S243,\"該当２\"))","v":""},"","",{"$f":"IF(V243=\"\",\"\",COUNTIF($V$7:V243,\"該当３\"))","v":""}]
[2020115005,20,{"v":201,"d":"201 "},{"v":15,"d":"15 "},{"v":5,"d":"005 "},"長野県","長野市","東福寺村","東区",null,"","",{"$f":"IF(K244=\"\",\"\",COUNTIF($K$7:K244,\"ﾘｽﾄ１\"))","v":""},"","","","","","","",{"$f":"IF(S244=\"\",\"\",COUNTIF($S$7:S244,\"該当２\"))","v":""},"","",{"$f":"IF(V244=\"\",\"\",COUNTIF($V$7:V244,\"該当３\"))","v":""}]
[2020115006,20,{"v":201,"d":"201 "},{"v":15,"d":"15 "},{"v":6,"d":"006 "},"長野県","長野市","東福寺村","上庭",null,"","",{"$f":"IF(K245=\"\",\"\",COUNTIF($K$7:K245,\"ﾘｽﾄ１\"))","v":""},"","","","","","","",{"$f":"IF(S245=\"\",\"\",COUNTIF($S$7:S245,\"該当２\"))","v":""},"","",{"$f":"IF(V245=\"\",\"\",COUNTIF($V$7:V245,\"該当３\"))","v":""}]
[2020115007,20,{"v":201,"d":"201 "},{"v":15,"d":"15 "},{"v":7,"d":"007 "},"長野県","長野市","東福寺村","中沢",null,"","",{"$f":"IF(K246=\"\",\"\",COUNTIF($K$7:K246,\"ﾘｽﾄ１\"))","v":""},"","","","","","","",{"$f":"IF(S246=\"\",\"\",COUNTIF($S$7:S246,\"該当２\"))","v":""},"","",{"$f":"IF(V246=\"\",\"\",COUNTIF($V$7:V246,\"該当３\"))","v":""}]
[2020116000,20,{"v":201,"d":"201 "},{"v":16,"d":"16 "},{"v":0,"d":"000 "},"長野県","長野市","信里村",null,null,"","",{"$f":"IF(K247=\"\",\"\",COUNTIF($K$7:K247,\"ﾘｽﾄ１\"))","v":""},"","","","","","","",{"$f":"IF(S247=\"\",\"\",COUNTIF($S$7:S247,\"該当２\"))","v":""},"","",{"$f":"IF(V247=\"\",\"\",COUNTIF($V$7:V247,\"該当３\"))","v":""}]
[2020116001,20,{"v":201,"d":"201 "},{"v":16,"d":"16 "},{"v":1,"d":"001 "},"長野県","長野市","信里村","瀬成，粒良田",null,"","",{"$f":"IF(K248=\"\",\"\",COUNTIF($K$7:K248,\"ﾘｽﾄ１\"))","v":""},"","","","","","","",{"$f":"IF(S248=\"\",\"\",COUNTIF($S$7:S248,\"該当２\"))","v":""},"","",{"$f":"IF(V248=\"\",\"\",COUNTIF($V$7:V248,\"該当３\"))","v":""}]
[2020116002,20,{"v":201,"d":"201 "},{"v":16,"d":"16 "},{"v":2,"d":"002 "},"長野県","長野市","信里村","村山",null,"","",{"$f":"IF(K249=\"\",\"\",COUNTIF($K$7:K249,\"ﾘｽﾄ１\"))","v":""},"","","","","","","",{"$f":"IF(S249=\"\",\"\",COUNTIF($S$7:S249,\"該当２\"))","v":""},"","",{"$f":"IF(V249=\"\",\"\",COUNTIF($V$7:V249,\"該当３\"))","v":""}]
[2020116003,20,{"v":201,"d":"201 "},{"v":16,"d":"16 "},{"v":3,"d":"003 "},"長野県","長野市","信里村","秋古",null,"","",{"$f":"IF(K250=\"\",\"\",COUNTIF($K$7:K250,\"ﾘｽﾄ１\"))","v":""},"","","","","","","",{"$f":"IF(S250=\"\",\"\",COUNTIF($S$7:S250,\"該当２\"))","v":""},"","",{"$f":"IF(V250=\"\",\"\",COUNTIF($V$7:V250,\"該当３\"))","v":""}]
[2020116004,20,{"v":201,"d":"201 "},{"v":16,"d":"16 "},{"v":4,"d":"004 "},"長野県","長野市","信里村","夜交",null,"","",{"$f":"IF(K251=\"\",\"\",COUNTIF($K$7:K251,\"ﾘｽﾄ１\"))","v":""},"","","","","","","",{"$f":"IF(S251=\"\",\"\",COUNTIF($S$7:S251,\"該当２\"))","v":""},"","",{"$f":"IF(V251=\"\",\"\",COUNTIF($V$7:V251,\"該当３\"))","v":""}]
[2020116005,20,{"v":201,"d":"201 "},{"v":16,"d":"16 "},{"v":5,"d":"005 "},"長野県","長野市","信里村","若林",null,"","",{"$f":"IF(K252=\"\",\"\",COUNTIF($K$7:K252,\"ﾘｽﾄ１\"))","v":""},"","","","","","","",{"$f":"IF(S252=\"\",\"\",COUNTIF($S$7:S252,\"該当２\"))","v":""},"","",{"$f":"IF(V252=\"\",\"\",COUNTIF($V$7:V252,\"該当３\"))","v":""}]
[2020116006,20,{"v":201,"d":"201 "},{"v":16,"d":"16 "},{"v":6,"d":"006 "},"長野県","長野市","信里村","遊谷",null,"","",{"$f":"IF(K253=\"\",\"\",COUNTIF($K$7:K253,\"ﾘｽﾄ１\"))","v":""},"","","","","","","",{"$f":"IF(S253=\"\",\"\",COUNTIF($S$7:S253,\"該当２\"))","v":""},"","",{"$f":"IF(V253=\"\",\"\",COUNTIF($V$7:V253,\"該当３\"))","v":""}]
[2020116007,20,{"v":201,"d":"201 "},{"v":16,"d":"16 "},{"v":7,"d":"007 "},"長野県","長野市","信里村","山布施",null,"","",{"$f":"IF(K254=\"\",\"\",COUNTIF($K$7:K254,\"ﾘｽﾄ１\"))","v":""},"","","","","","","",{"$f":"IF(S254=\"\",\"\",COUNTIF($S$7:S254,\"該当２\"))","v":""},"","",{"$f":"IF(V254=\"\",\"\",COUNTIF($V$7:V254,\"該当３\"))","v":""}]
[2020116008,20,{"v":201,"d":"201 "},{"v":16,"d":"16 "},{"v":8,"d":"008 "},"長野県","長野市","信里村","青池",null,"","",{"$f":"IF(K255=\"\",\"\",COUNTIF($K$7:K255,\"ﾘｽﾄ１\"))","v":""},"","","","","","","",{"$f":"IF(S255=\"\",\"\",COUNTIF($S$7:S255,\"該当２\"))","v":""},"","",{"$f":"IF(V255=\"\",\"\",COUNTIF($V$7:V255,\"該当３\"))","v":""}]
[2020116009,20,{"v":201,"d":"201 "},{"v":16,"d":"16 "},{"v":9,"d":"009 "},"長野県","長野市","信里村","有旅第二",null,"","",{"$f":"IF(K256=\"\",\"\",COUNTIF($K$7:K256,\"ﾘｽﾄ１\"))","v":""},"","","","","","","",{"$f":"IF(S256=\"\",\"\",COUNTIF($S$7:S256,\"該当２\"))","v":""},"","",{"$f":"IF(V256=\"\",\"\",COUNTIF($V$7:V256,\"該当３\"))","v":""}]
[2020116010,20,{"v":201,"d":"201 "},{"v":16,"d":"16 "},{"v":10,"d":"010 "},"長野県","長野市","信里村","笹鍋",null,"","",{"$f":"IF(K257=\"\",\"\",COUNTIF($K$7:K257,\"ﾘｽﾄ１\"))","v":""},"","","","","","","",{"$f":"IF(S257=\"\",\"\",COUNTIF($S$7:S257,\"該当２\"))","v":""},"","",{"$f":"IF(V257=\"\",\"\",COUNTIF($V$7:V257,\"該当３\"))","v":""}]
[2020116011,20,{"v":201,"d":"201 "},{"v":16,"d":"16 "},{"v":11,"d":"011 "},"長野県","長野市","信里村","十二",null,"","",{"$f":"IF(K258=\"\",\"\",COUNTIF($K$7:K258,\"ﾘｽﾄ１\"))","v":""},"","","","","","","",{"$f":"IF(S258=\"\",\"\",COUNTIF($S$7:S258,\"該当２\"))","v":""},"","",{"$f":"IF(V258=\"\",\"\",COUNTIF($V$7:V258,\"該当３\"))","v":""}]
[2020116012,20,{"v":201,"d":"201 "},{"v":16,"d":"16 "},{"v":12,"d":"012 "},"長野県","長野市","信里村","上有旅",null,"","",{"$f":"IF(K259=\"\",\"\",COUNTIF($K$7:K259,\"ﾘｽﾄ１\"))","v":""},"","","","","","","",{"$f":"IF(S259=\"\",\"\",COUNTIF($S$7:S259,\"該当２\"))","v":""},"","",{"$f":"IF(V259=\"\",\"\",COUNTIF($V$7:V259,\"該当３\"))","v":""}]
[2020116013,20,{"v":201,"d":"201 "},{"v":16,"d":"16 "},{"v":13,"d":"013 "},"長野県","長野市","信里村","有旅第一",null,"","",{"$f":"IF(K260=\"\",\"\",COUNTIF($K$7:K260,\"ﾘｽﾄ１\"))","v":""},"","","","","","","",{"$f":"IF(S260=\"\",\"\",COUNTIF($S$7:S260,\"該当２\"))","v":""},"","",{"$f":"IF(V260=\"\",\"\",COUNTIF($V$7:V260,\"該当３\"))","v":""}]
[2020116014,20,{"v":201,"d":"201 "},{"v":16,"d":"16 "},{"v":14,"d":"014 "},"長野県","長野市","信里村","犬石",null,"","",{"$f":"IF(K261=\"\",\"\",COUNTIF($K$7:K261,\"ﾘｽﾄ１\"))","v":""},"","","","","","","",{"$f":"IF(S261=\"\",\"\",COUNTIF($S$7:S261,\"該当２\"))","v":""},"","",{"$f":"IF(V261=\"\",\"\",COUNTIF($V$7:V261,\"該当３\"))","v":""}]
[2020117000,20,{"v":201,"d":"201 "},{"v":17,"d":"17 "},{"v":0,"d":"000 "},"長野県","長野市","西寺尾村２－１",null,null,"","",{"$f":"IF(K262=\"\",\"\",COUNTIF($K$7:K262,\"ﾘｽﾄ１\"))","v":""},"","","","","","","",{"$f":"IF(S262=\"\",\"\",COUNTIF($S$7:S262,\"該当２\"))","v":""},"","",{"$f":"IF(V262=\"\",\"\",COUNTIF($V$7:V262,\"該当３\"))","v":""}]
[2020117001,20,{"v":201,"d":"201 "},{"v":17,"d":"17 "},{"v":1,"d":"001 "},"長野県","長野市","西寺尾村２－１","杵淵",null,"","",{"$f":"IF(K263=\"\",\"\",COUNTIF($K$7:K263,\"ﾘｽﾄ１\"))","v":""},"","","","","","","",{"$f":"IF(S263=\"\",\"\",COUNTIF($S$7:S263,\"該当２\"))","v":""},"","",{"$f":"IF(V263=\"\",\"\",COUNTIF($V$7:V263,\"該当３\"))","v":""}]
[2020117002,20,{"v":201,"d":"201 "},{"v":17,"d":"17 "},{"v":2,"d":"002 "},"長野県","長野市","西寺尾村２－１","荒堀",null,"","",{"$f":"IF(K264=\"\",\"\",COUNTIF($K$7:K264,\"ﾘｽﾄ１\"))","v":""},"","",{"$f":"IF(O264=\"該当１\",G264,\"\")","v":""},{"$f":"IF(O264=\"該当１\",\"ﾘｽﾄ2\",\"\")","v":""},{"$f":"IF(Q264=\"ﾘｽﾄ2\",H264,\"\")","v":""},"",{"$f":"IF(S264=\"該当２\",H264,\"\")","v":""},{"$f":"IF(S264=\"\",\"\",COUNTIF($S$7:S264,\"該当２\"))","v":""},{"$f":"IF(AND($S$2=H264,E264>0,E264<998),\"該当３\",\"\")","v":""},{"$f":"IF(V264=\"該当３\",I264,\"\")","v":""},{"$f":"IF(V264=\"\",\"\",COUNTIF($V$7:V264,\"該当３\"))","v":""}]
[2020117003,20,{"v":201,"d":"201 "},{"v":17,"d":"17 "},{"v":3,"d":"003 "},"長野県","長野市","西寺尾村２－１","中村",null,{"$f":"IF(AND($C265>0,$H265=\"\"),\"ﾘｽﾄ１\",\"\")","v":""},{"$f":"IF(K265=\"ﾘｽﾄ１\",G265,\"\")","v":""},{"$f":"IF(K265=\"\",\"\",COUNTIF($K$7:K265,\"ﾘｽﾄ１\"))","v":""},{"$f":"IF(AND(D265=0,E265>0),\"同一区\",\"\")","v":""},{"$f":"IF(AND(EXACT($K$2,G265),H265>0),\"該当１\",\"\")","v":""},"","","",{"$f":"IF(AND(Q265=\"ﾘｽﾄ2\",OR(I265=0,AND(N265=\"同一区\",E265=1))),\"該当２\",\"\")","v":""},"",{"$f":"IF(S265=\"\",\"\",COUNTIF($S$7:S265,\"該当２\"))","v":""},"","",{"$f":"IF(V265=\"\",\"\",COUNTIF($V$7:V265,\"該当３\"))","v":""}]
[2020117004,20,{"v":201,"d":"201 "},{"v":17,"d":"17 "},{"v":4,"d":"004 "},"長野県","長野市","西寺尾村２－１","新田",null,"","",{"$f":"IF(K266=\"\",\"\",COUNTIF($K$7:K266,\"ﾘｽﾄ１\"))","v":""},"","","","","","","",{"$f":"IF(S266=\"\",\"\",COUNTIF($S$7:S266,\"該当２\"))","v":""},"","",{"$f":"IF(V266=\"\",\"\",COUNTIF($V$7:V266,\"該当３\"))","v":""}]
[2020117005,20,{"v":201,"d":"201 "},{"v":17,"d":"17 "},{"v":5,"d":"005 "},"長野県","長野市","西寺尾村２－１","北村",null,"","",{"$f":"IF(K267=\"\",\"\",COUNTIF($K$7:K267,\"ﾘｽﾄ１\"))","v":""},"","","","","","","",{"$f":"IF(S267=\"\",\"\",COUNTIF($S$7:S267,\"該当２\"))","v":""},"","",{"$f":"IF(V267=\"\",\"\",COUNTIF($V$7:V267,\"該当３\"))","v":""}]
[2020117006,20,{"v":201,"d":"201 "},{"v":17,"d":"17 "},{"v":6,"d":"006 "},"長野県","長野市","西寺尾村２－１","岡",null,"","",{"$f":"IF(K268=\"\",\"\",COUNTIF($K$7:K268,\"ﾘｽﾄ１\"))","v":""},"","","","","","","",{"$f":"IF(S268=\"\",\"\",COUNTIF($S$7:S268,\"該当２\"))","v":""},"","",{"$f":"IF(V268=\"\",\"\",COUNTIF($V$7:V268,\"該当３\"))","v":""}]
[2020117007,20,{"v":201,"d":"201 "},{"v":17,"d":"17 "},{"v":7,"d":"007 "},"長野県","長野市","西寺尾村２－１","神明",null,"","",{"$f":"IF(K269=\"\",\"\",COUNTIF($K$7:K269,\"ﾘｽﾄ１\"))","v":""},"","","","","","","",{"$f":"IF(S269=\"\",\"\",COUNTIF($S$7:S269,\"該当２\"))","v":""},"","",{"$f":"IF(V269=\"\",\"\",COUNTIF($V$7:V269,\"該当３\"))","v":""}]
[2020118000,20,{"v":201,"d":"201 "},{"v":18,"d":"18 "},{"v":0,"d":"000 "},"長野県","長野市","共和村",null,null,"","",{"$f":"IF(K270=\"\",\"\",COUNTIF($K$7:K270,\"ﾘｽﾄ１\"))","v":""},"","","","","","","",{"$f":"IF(S270=\"\",\"\",COUNTIF($S$7:S270,\"該当２\"))","v":""},"","",{"$f":"IF(V270=\"\",\"\",COUNTIF($V$7:V270,\"該当３\"))","v":""}]
[2020118001,20,{"v":201,"d":"201 "},{"v":18,"d":"18 "},{"v":1,"d":"001 "},"長野県","長野市","共和村","犀口",null,"","",{"$f":"IF(K271=\"\",\"\",COUNTIF($K$7:K271,\"ﾘｽﾄ１\"))","v":""},"","","","","","","",{"$f":"IF(S271=\"\",\"\",COUNTIF($S$7:S271,\"該当２\"))","v":""},"","",{"$f":"IF(V271=\"\",\"\",COUNTIF($V$7:V271,\"該当３\"))","v":""}]
[2020118002,20,{"v":201,"d":"201 "},{"v":18,"d":"18 "},{"v":2,"d":"002 "},"長野県","長野市","共和村","北組",null,"","",{"$f":"IF(K272=\"\",\"\",COUNTIF($K$7:K272,\"ﾘｽﾄ１\"))","v":""},"","","","","","","",{"$f":"IF(S272=\"\",\"\",COUNTIF($S$7:S272,\"該当２\"))","v":""},"","",{"$f":"IF(V272=\"\",\"\",COUNTIF($V$7:V272,\"該当３\"))","v":""}]
[2020118003,20,{"v":201,"d":"201 "},{"v":18,"d":"18 "},{"v":3,"d":"003 "},"長野県","長野市","共和村","中組",null,"","",{"$f":"IF(K273=\"\",\"\",COUNTIF($K$7:K273,\"ﾘｽﾄ１\"))","v":""},"","","","","","","",{"$f":"IF(S273=\"\",\"\",COUNTIF($S$7:S273,\"該当２\"))","v":""},"","",{"$f":"IF(V273=\"\",\"\",COUNTIF($V$7:V273,\"該当３\"))","v":""}]
[2020118004,20,{"v":201,"d":"201 "},{"v":18,"d":"18 "},{"v":4,"d":"004 "},"長野県","長野市","共和村","南組",null,"","",{"$f":"IF(K274=\"\",\"\",COUNTIF($K$7:K274,\"ﾘｽﾄ１\"))","v":""},"","","","","","","",{"$f":"IF(S274=\"\",\"\",COUNTIF($S$7:S274,\"該当２\"))","v":""},"","",{"$f":"IF(V274=\"\",\"\",COUNTIF($V$7:V274,\"該当３\"))","v":""}]
[2020118005,20,{"v":201,"d":"201 "},{"v":18,"d":"18 "},{"v":5,"d":"005 "},"長野県","長野市","共和村","段ノ原",null,"","",{"$f":"IF(K275=\"\",\"\",COUNTIF($K$7:K275,\"ﾘｽﾄ１\"))","v":""},"","","","","","","",{"$f":"IF(S275=\"\",\"\",COUNTIF($S$7:S275,\"該当２\"))","v":""},"","",{"$f":"IF(V275=\"\",\"\",COUNTIF($V$7:V275,\"該当３\"))","v":""}]
[2020118006,20,{"v":201,"d":"201 "},{"v":18,"d":"18 "},{"v":6,"d":"006 "},"長野県","長野市","共和村","築地",null,"","",{"$f":"IF(K276=\"\",\"\",COUNTIF($K$7:K276,\"ﾘｽﾄ１\"))","v":""},"","","","","","","",{"$f":"IF(S276=\"\",\"\",COUNTIF($S$7:S276,\"該当２\"))","v":""},"","",{"$f":"IF(V276=\"\",\"\",COUNTIF($V$7:V276,\"該当３\"))","v":""}]
[2020118007,20,{"v":201,"d":"201 "},{"v":18,"d":"18 "},{"v":7,"d":"007 "},"長野県","長野市","共和村","大門",null,"","",{"$f":"IF(K277=\"\",\"\",COUNTIF($K$7:K277,\"ﾘｽﾄ１\"))","v":""},"","","","","","","",{"$f":"IF(S277=\"\",\"\",COUNTIF($S$7:S277,\"該当２\"))","v":""},"","",{"$f":"IF(V277=\"\",\"\",COUNTIF($V$7:V277,\"該当３\"))","v":""}]
[2020118008,20,{"v":201,"d":"201 "},{"v":18,"d":"18 "},{"v":8,"d":"008 "},"長野県","長野市","共和村","深町",null,"","",{"$f":"IF(K278=\"\",\"\",COUNTIF($K$7:K278,\"ﾘｽﾄ１\"))","v":""},"","","","","","","",{"$f":"IF(S278=\"\",\"\",COUNTIF($S$7:S278,\"該当２\"))","v":""},"","",{"$f":"IF(V278=\"\",\"\",COUNTIF($V$7:V278,\"該当３\"))","v":""}]
[2020118009,20,{"v":201,"d":"201 "},{"v":18,"d":"18 "},{"v":9,"d":"009 "},"長野県","長野市","共和村","南町",null,"","",{"$f":"IF(K279=\"\",\"\",COUNTIF($K$7:K279,\"ﾘｽﾄ１\"))","v":""},"","","","","","","",{"$f":"IF(S279=\"\",\"\",COUNTIF($S$7:S279,\"該当２\"))","v":""},"","",{"$f":"IF(V279=\"\",\"\",COUNTIF($V$7:V279,\"該当３\"))","v":""}]
[2020118010,20,{"v":201,"d":"201 "},{"v":18,"d":"18 "},{"v":10,"d":"010 "},"長野県","長野市","共和村","中町",null,"","",{"$f":"IF(K280=\"\",\"\",COUNTIF($K$7:K280,\"ﾘｽﾄ１\"))","v":""},"","","","","","","",{"$f":"IF(S280=\"\",\"\",COUNTIF($S$7:S280,\"該当２\"))","v":""},"","",{"$f":"IF(V280=\"\",\"\",COUNTIF($V$7:V280,\"該当３\"))","v":""}]
[2020118011,20,{"v":201,"d":"201 "},{"v":18,"d":"18 "},{"v":11,"d":"011 "},"長野県","長野市","共和村","古町",null,"","",{"$f":"IF(K281=\"\",\"\",COUNTIF($K$7:K281,\"ﾘｽﾄ１\"))","v":""},"","","","","","","",{"$f":"IF(S281=\"\",\"\",COUNTIF($S$7:S281,\"該当２\"))","v":""},"","",{"$f":"IF(V281=\"\",\"\",COUNTIF($V$7:V281,\"該当３\"))","v":""}]
[2020118012,20,{"v":201,"d":"201 "},{"v":18,"d":"18 "},{"v":12,"d":"012 "},"長野県","長野市","共和村","本組",null,"","",{"$f":"IF(K282=\"\",\"\",COUNTIF($K$7:K282,\"ﾘｽﾄ１\"))","v":""},"","","","","","","",{"$f":"IF(S282=\"\",\"\",COUNTIF($S$7:S282,\"該当２\"))","v":""},"","",{"$f":"IF(V282=\"\",\"\",COUNTIF($V$7:V282,\"該当３\"))","v":""}]
[2020118013,20,{"v":201,"d":"201 "},{"v":18,"d":"18 "},{"v":13,"d":"013 "},"長野県","長野市","共和村","新田",null,"","",{"$f":"IF(K283=\"\",\"\",COUNTIF($K$7:K283,\"ﾘｽﾄ１\"))","v":""},"","","","","","","",{"$f":"IF(S283=\"\",\"\",COUNTIF($S$7:S283,\"該当２\"))","v":""},"","",{"$f":"IF(V283=\"\",\"\",COUNTIF($V$7:V283,\"該当３\"))","v":""}]
[2020119000,20,{"v":201,"d":"201 "},{"v":19,"d":"19 "},{"v":0,"d":"000 "},"長野県","長野市","川中島村",null,null,"","",{"$f":"IF(K284=\"\",\"\",COUNTIF($K$7:K284,\"ﾘｽﾄ１\"))","v":""},"","","","","","","",{"$f":"IF(S284=\"\",\"\",COUNTIF($S$7:S284,\"該当２\"))","v":""},"","",{"$f":"IF(V284=\"\",\"\",COUNTIF($V$7:V284,\"該当３\"))","v":""}]
[2020119001,20,{"v":201,"d":"201 "},{"v":19,"d":"19 "},{"v":1,"d":"001 "},"長野県","長野市","川中島村","古森沢",null,"","",{"$f":"IF(K285=\"\",\"\",COUNTIF($K$7:K285,\"ﾘｽﾄ１\"))","v":""},"","","","","","","",{"$f":"IF(S285=\"\",\"\",COUNTIF($S$7:S285,\"該当２\"))","v":""},"","",{"$f":"IF(V285=\"\",\"\",COUNTIF($V$7:V285,\"該当３\"))","v":""}]
[2020119002,20,{"v":201,"d":"201 "},{"v":19,"d":"19 "},{"v":2,"d":"002 "},"長野県","長野市","川中島村","於下",null,"","",{"$f":"IF(K286=\"\",\"\",COUNTIF($K$7:K286,\"ﾘｽﾄ１\"))","v":""},"","","","","","","",{"$f":"IF(S286=\"\",\"\",COUNTIF($S$7:S286,\"該当２\"))","v":""},"","",{"$f":"IF(V286=\"\",\"\",COUNTIF($V$7:V286,\"該当３\"))","v":""}]
[2020119003,20,{"v":201,"d":"201 "},{"v":19,"d":"19 "},{"v":3,"d":"003 "},"長野県","長野市","川中島村","阿弥陀堂",null,"","",{"$f":"IF(K287=\"\",\"\",COUNTIF($K$7:K287,\"ﾘｽﾄ１\"))","v":""},"","","","","","","",{"$f":"IF(S287=\"\",\"\",COUNTIF($S$7:S287,\"該当２\"))","v":""},"","",{"$f":"IF(V287=\"\",\"\",COUNTIF($V$7:V287,\"該当３\"))","v":""}]
[2020119004,20,{"v":201,"d":"201 "},{"v":19,"d":"19 "},{"v":4,"d":"004 "},"長野県","長野市","川中島村","新屋",null,"","",{"$f":"IF(K288=\"\",\"\",COUNTIF($K$7:K288,\"ﾘｽﾄ１\"))","v":""},"","","","","","","",{"$f":"IF(S288=\"\",\"\",COUNTIF($S$7:S288,\"該当２\"))","v":""},"","",{"$f":"IF(V288=\"\",\"\",COUNTIF($V$7:V288,\"該当３\"))","v":""}]
[2020119005,20,{"v":201,"d":"201 "},{"v":19,"d":"19 "},{"v":5,"d":"005 "},"長野県","長野市","川中島村","上村",null,"","",{"$f":"IF(K289=\"\",\"\",COUNTIF($K$7:K289,\"ﾘｽﾄ１\"))","v":""},"","","","","","","",{"$f":"IF(S289=\"\",\"\",COUNTIF($S$7:S289,\"該当２\"))","v":""},"","",{"$f":"IF(V289=\"\",\"\",COUNTIF($V$7:V289,\"該当３\"))","v":""}]
[2020119006,20,{"v":201,"d":"201 "},{"v":19,"d":"19 "},{"v":6,"d":"006 "},"長野県","長野市","川中島村","荒屋",null,"","",{"$f":"IF(K290=\"\",\"\",COUNTIF($K$7:K290,\"ﾘｽﾄ１\"))","v":""},"","","","","","","",{"$f":"IF(S290=\"\",\"\",COUNTIF($S$7:S290,\"該当２\"))","v":""},"","",{"$f":"IF(V290=\"\",\"\",COUNTIF($V$7:V290,\"該当３\"))","v":""}]
[2020119007,20,{"v":201,"d":"201 "},{"v":19,"d":"19 "},{"v":7,"d":"007 "},"長野県","長野市","川中島村","三組",null,"","",{"$f":"IF(K291=\"\",\"\",COUNTIF($K$7:K291,\"ﾘｽﾄ１\"))","v":""},"","","","","","","",{"$f":"IF(S291=\"\",\"\",COUNTIF($S$7:S291,\"該当２\"))","v":""},"","",{"$f":"IF(V291=\"\",\"\",COUNTIF($V$7:V291,\"該当３\"))","v":""}]
[2020119008,20,{"v":201,"d":"201 "},{"v":19,"d":"19 "},{"v":8,"d":"008 "},"長野県","長野市","川中島村","寺町",null,"","",{"$f":"IF(K292=\"\",\"\",COUNTIF($K$7:K292,\"ﾘｽﾄ１\"))","v":""},"","","","","","","",{"$f":"IF(S292=\"\",\"\",COUNTIF($S$7:S292,\"該当２\"))","v":""},"","",{"$f":"IF(V292=\"\",\"\",COUNTIF($V$7:V292,\"該当３\"))","v":""}]
[2020119009,20,{"v":201,"d":"201 "},{"v":19,"d":"19 "},{"v":9,"d":"009 "},"長野県","長野市","川中島村","新田",null,"","",{"$f":"IF(K293=\"\",\"\",COUNTIF($K$7:K293,\"ﾘｽﾄ１\"))","v":""},"","","","","","","",{"$f":"IF(S293=\"\",\"\",COUNTIF($S$7:S293,\"該当２\"))","v":""},"","",{"$f":"IF(V293=\"\",\"\",COUNTIF($V$7:V293,\"該当３\"))","v":""}]
[2020119010,20,{"v":201,"d":"201 "},{"v":19,"d":"19 "},{"v":10,"d":"010 "},"長野県","長野市","川中島村","北河原",null,"","",{"$f":"IF(K294=\"\",\"\",COUNTIF($K$7:K294,\"ﾘｽﾄ１\"))","v":""},"","","","","","","",{"$f":"IF(S294=\"\",\"\",COUNTIF($S$7:S294,\"該当２\"))","v":""},"","",{"$f":"IF(V294=\"\",\"\",COUNTIF($V$7:V294,\"該当３\"))","v":""}]
[2020119011,20,{"v":201,"d":"201 "},{"v":19,"d":"19 "},{"v":11,"d":"011 "},"長野県","長野市","川中島村","本町",null,"","",{"$f":"IF(K295=\"\",\"\",COUNTIF($K$7:K295,\"ﾘｽﾄ１\"))","v":""},"","","","","","","",{"$f":"IF(S295=\"\",\"\",COUNTIF($S$7:S295,\"該当２\"))","v":""},"","",{"$f":"IF(V295=\"\",\"\",COUNTIF($V$7:V295,\"該当３\"))","v":""}]
[2020119012,20,{"v":201,"d":"201 "},{"v":19,"d":"19 "},{"v":12,"d":"012 "},"長野県","長野市","川中島村","中島東",null,"","",{"$f":"IF(K296=\"\",\"\",COUNTIF($K$7:K296,\"ﾘｽﾄ１\"))","v":""},"","","","","","","",{"$f":"IF(S296=\"\",\"\",COUNTIF($S$7:S296,\"該当２\"))","v":""},"","",{"$f":"IF(V296=\"\",\"\",COUNTIF($V$7:V296,\"該当３\"))","v":""}]
[2020119013,20,{"v":201,"d":"201 "},{"v":19,"d":"19 "},{"v":13,"d":"013 "},"長野県","長野市","川中島村","中島西",null,"","",{"$f":"IF(K297=\"\",\"\",COUNTIF($K$7:K297,\"ﾘｽﾄ１\"))","v":""},"","","","","","","",{"$f":"IF(S297=\"\",\"\",COUNTIF($S$7:S297,\"該当２\"))","v":""},"","",{"$f":"IF(V297=\"\",\"\",COUNTIF($V$7:V297,\"該当３\"))","v":""}]
[2020119014,20,{"v":201,"d":"201 "},{"v":19,"d":"19 "},{"v":14,"d":"014 "},"長野県","長野市","川中島村","四ツ屋",null,"","",{"$f":"IF(K298=\"\",\"\",COUNTIF($K$7:K298,\"ﾘｽﾄ１\"))","v":""},"","","","","","","",{"$f":"IF(S298=\"\",\"\",COUNTIF($S$7:S298,\"該当２\"))","v":""},"","",{"$f":"IF(V298=\"\",\"\",COUNTIF($V$7:V298,\"該当３\"))","v":""}]
[2020120000,20,{"v":201,"d":"201 "},{"v":20,"d":"20 "},{"v":0,"d":"000 "},"長野県","長野市","中津村（長野市）",null,null,"","",{"$f":"IF(K299=\"\",\"\",COUNTIF($K$7:K299,\"ﾘｽﾄ１\"))","v":""},"","","","","","","",{"$f":"IF(S299=\"\",\"\",COUNTIF($S$7:S299,\"該当２\"))","v":""},"","",{"$f":"IF(V299=\"\",\"\",COUNTIF($V$7:V299,\"該当３\"))","v":""}]
[2020120001,20,{"v":201,"d":"201 "},{"v":20,"d":"20 "},{"v":1,"d":"001 "},"長野県","長野市","中津村（長野市）","南原",null,"","",{"$f":"IF(K300=\"\",\"\",COUNTIF($K$7:K300,\"ﾘｽﾄ１\"))","v":""},"","","","","","","",{"$f":"IF(S300=\"\",\"\",COUNTIF($S$7:S300,\"該当２\"))","v":""},"","",{"$f":"IF(V300=\"\",\"\",COUNTIF($V$7:V300,\"該当３\"))","v":""}]
[2020120002,20,{"v":201,"d":"201 "},{"v":20,"d":"20 "},{"v":2,"d":"002 "},"長野県","長野市","中津村（長野市）","北原",null,"","",{"$f":"IF(K301=\"\",\"\",COUNTIF($K$7:K301,\"ﾘｽﾄ１\"))","v":""},"","","","","","","",{"$f":"IF(S301=\"\",\"\",COUNTIF($S$7:S301,\"該当２\"))","v":""},"","",{"$f":"IF(V301=\"\",\"\",COUNTIF($V$7:V301,\"該当３\"))","v":""}]
[2020120003,20,{"v":201,"d":"201 "},{"v":20,"d":"20 "},{"v":3,"d":"003 "},"長野県","長野市","中津村（長野市）","荒屋",null,"","",{"$f":"IF(K302=\"\",\"\",COUNTIF($K$7:K302,\"ﾘｽﾄ１\"))","v":""},"","","","","","","",{"$f":"IF(S302=\"\",\"\",COUNTIF($S$7:S302,\"該当２\"))","v":""},"","",{"$f":"IF(V302=\"\",\"\",COUNTIF($V$7:V302,\"該当３\"))","v":""}]
[2020120004,20,{"v":201,"d":"201 "},{"v":20,"d":"20 "},{"v":4,"d":"004 "},"長野県","長野市","中津村（長野市）","三ツ沢",null,"","",{"$f":"IF(K303=\"\",\"\",COUNTIF($K$7:K303,\"ﾘｽﾄ１\"))","v":""},"","","","","","","",{"$f":"IF(S303=\"\",\"\",COUNTIF($S$7:S303,\"該当２\"))","v":""},"","",{"$f":"IF(V303=\"\",\"\",COUNTIF($V$7:V303,\"該当３\"))","v":""}]
[2020120005,20,{"v":201,"d":"201 "},{"v":20,"d":"20 "},{"v":5,"d":"005 "},"長野県","長野市","中津村（長野市）","貝沢",null,"","",{"$f":"IF(K304=\"\",\"\",COUNTIF($K$7:K304,\"ﾘｽﾄ１\"))","v":""},"","","","","","","",{"$f":"IF(S304=\"\",\"\",COUNTIF($S$7:S304,\"該当２\"))","v":""},"","",{"$f":"IF(V304=\"\",\"\",COUNTIF($V$7:V304,\"該当３\"))","v":""}]
[2020120006,20,{"v":201,"d":"201 "},{"v":20,"d":"20 "},{"v":6,"d":"006 "},"長野県","長野市","中津村（長野市）","今井",null,"","",{"$f":"IF(K305=\"\",\"\",COUNTIF($K$7:K305,\"ﾘｽﾄ１\"))","v":""},"","","","","","","",{"$f":"IF(S305=\"\",\"\",COUNTIF($S$7:S305,\"該当２\"))","v":""},"","",{"$f":"IF(V305=\"\",\"\",COUNTIF($V$7:V305,\"該当３\"))","v":""}]
[2020121000,20,{"v":201,"d":"201 "},{"v":21,"d":"21 "},{"v":0,"d":"000 "},"長野県","長野市","御厨村",null,null,"","",{"$f":"IF(K306=\"\",\"\",COUNTIF($K$7:K306,\"ﾘｽﾄ１\"))","v":""},"","","","","","","",{"$f":"IF(S306=\"\",\"\",COUNTIF($S$7:S306,\"該当２\"))","v":""},"","",{"$f":"IF(V306=\"\",\"\",COUNTIF($V$7:V306,\"該当３\"))","v":""}]
[2020121001,20,{"v":201,"d":"201 "},{"v":21,"d":"21 "},{"v":1,"d":"001 "},"長野県","長野市","御厨村","北戸部",null,"","",{"$f":"IF(K307=\"\",\"\",COUNTIF($K$7:K307,\"ﾘｽﾄ１\"))","v":""},"","","","","","","",{"$f":"IF(S307=\"\",\"\",COUNTIF($S$7:S307,\"該当２\"))","v":""},"","",{"$f":"IF(V307=\"\",\"\",COUNTIF($V$7:V307,\"該当３\"))","v":""}]
[2020121002,20,{"v":201,"d":"201 "},{"v":21,"d":"21 "},{"v":2,"d":"002 "},"長野県","長野市","御厨村","上布施",null,"","",{"$f":"IF(K308=\"\",\"\",COUNTIF($K$7:K308,\"ﾘｽﾄ１\"))","v":""},"","","","","","","",{"$f":"IF(S308=\"\",\"\",COUNTIF($S$7:S308,\"該当２\"))","v":""},"","",{"$f":"IF(V308=\"\",\"\",COUNTIF($V$7:V308,\"該当３\"))","v":""}]
[2020121003,20,{"v":201,"d":"201 "},{"v":21,"d":"21 "},{"v":3,"d":"003 "},"長野県","長野市","御厨村","藤牧",null,"","",{"$f":"IF(K309=\"\",\"\",COUNTIF($K$7:K309,\"ﾘｽﾄ１\"))","v":""},"","","","","","","",{"$f":"IF(S309=\"\",\"\",COUNTIF($S$7:S309,\"該当２\"))","v":""},"","",{"$f":"IF(V309=\"\",\"\",COUNTIF($V$7:V309,\"該当３\"))","v":""}]
[2020121004,20,{"v":201,"d":"201 "},{"v":21,"d":"21 "},{"v":4,"d":"004 "},"長野県","長野市","御厨村","棗町",null,"","",{"$f":"IF(K310=\"\",\"\",COUNTIF($K$7:K310,\"ﾘｽﾄ１\"))","v":""},"","","","","","","",{"$f":"IF(S310=\"\",\"\",COUNTIF($S$7:S310,\"該当２\"))","v":""},"","",{"$f":"IF(V310=\"\",\"\",COUNTIF($V$7:V310,\"該当３\"))","v":""}]
[2020121005,20,{"v":201,"d":"201 "},{"v":21,"d":"21 "},{"v":5,"d":"005 "},"長野県","長野市","御厨村","大沢",null,"","",{"$f":"IF(K311=\"\",\"\",COUNTIF($K$7:K311,\"ﾘｽﾄ１\"))","v":""},"","","","","","","",{"$f":"IF(S311=\"\",\"\",COUNTIF($S$7:S311,\"該当２\"))","v":""},"","",{"$f":"IF(V311=\"\",\"\",COUNTIF($V$7:V311,\"該当３\"))","v":""}]
[2020121006,20,{"v":201,"d":"201 "},{"v":21,"d":"21 "},{"v":6,"d":"006 "},"長野県","長野市","御厨村","荒町",null,"","",{"$f":"IF(K312=\"\",\"\",COUNTIF($K$7:K312,\"ﾘｽﾄ１\"))","v":""},"","","","","","","",{"$f":"IF(S312=\"\",\"\",COUNTIF($S$7:S312,\"該当２\"))","v":""},"","",{"$f":"IF(V312=\"\",\"\",COUNTIF($V$7:V312,\"該当３\"))","v":""}]
[2020121007,20,{"v":201,"d":"201 "},{"v":21,"d":"21 "},{"v":7,"d":"007 "},"長野県","長野市","御厨村","本町",null,"","",{"$f":"IF(K313=\"\",\"\",COUNTIF($K$7:K313,\"ﾘｽﾄ１\"))","v":""},"","","","","","","",{"$f":"IF(S313=\"\",\"\",COUNTIF($S$7:S313,\"該当２\"))","v":""},"","",{"$f":"IF(V313=\"\",\"\",COUNTIF($V$7:V313,\"該当３\"))","v":""}]
[2020121008,20,{"v":201,"d":"201 "},{"v":21,"d":"21 "},{"v":8,"d":"008 "},"長野県","長野市","御厨村","南組",null,"","",{"$f":"IF(K314=\"\",\"\",COUNTIF($K$7:K314,\"ﾘｽﾄ１\"))","v":""},"","","","","","","",{"$f":"IF(S314=\"\",\"\",COUNTIF($S$7:S314,\"該当２\"))","v":""},"","",{"$f":"IF(V314=\"\",\"\",COUNTIF($V$7:V314,\"該当３\"))","v":""}]
[2020121009,20,{"v":201,"d":"201 "},{"v":21,"d":"21 "},{"v":9,"d":"009 "},"長野県","長野市","御厨村","平井町",null,"","",{"$f":"IF(K315=\"\",\"\",COUNTIF($K$7:K315,\"ﾘｽﾄ１\"))","v":""},"","","","","","","",{"$f":"IF(S315=\"\",\"\",COUNTIF($S$7:S315,\"該当２\"))","v":""},"","",{"$f":"IF(V315=\"\",\"\",COUNTIF($V$7:V315,\"該当３\"))","v":""}]
[2020121010,20,{"v":201,"d":"201 "},{"v":21,"d":"21 "},{"v":10,"d":"010 "},"長野県","長野市","御厨村","畑中",null,"","",{"$f":"IF(K316=\"\",\"\",COUNTIF($K$7:K316,\"ﾘｽﾄ１\"))","v":""},"","","","","","","",{"$f":"IF(S316=\"\",\"\",COUNTIF($S$7:S316,\"該当２\"))","v":""},"","",{"$f":"IF(V316=\"\",\"\",COUNTIF($V$7:V316,\"該当３\"))","v":""}]
[2020121011,20,{"v":201,"d":"201 "},{"v":21,"d":"21 "},{"v":11,"d":"011 "},"長野県","長野市","御厨村","平井組",null,"","",{"$f":"IF(K317=\"\",\"\",COUNTIF($K$7:K317,\"ﾘｽﾄ１\"))","v":""},"","","","","","","",{"$f":"IF(S317=\"\",\"\",COUNTIF($S$7:S317,\"該当２\"))","v":""},"","",{"$f":"IF(V317=\"\",\"\",COUNTIF($V$7:V317,\"該当３\"))","v":""}]
[2020121012,20,{"v":201,"d":"201 "},{"v":21,"d":"21 "},{"v":12,"d":"012 "},"長野県","長野市","御厨村","下布施",null,"","",{"$f":"IF(K318=\"\",\"\",COUNTIF($K$7:K318,\"ﾘｽﾄ１\"))","v":""},"","","","","","","",{"$f":"IF(S318=\"\",\"\",COUNTIF($S$7:S318,\"該当２\"))","v":""},"","",{"$f":"IF(V318=\"\",\"\",COUNTIF($V$7:V318,\"該当３\"))","v":""}]
[2020122000,20,{"v":201,"d":"201 "},{"v":22,"d":"22 "},{"v":0,"d":"000 "},"長野県","長野市","信田村",null,null,"","",{"$f":"IF(K319=\"\",\"\",COUNTIF($K$7:K319,\"ﾘｽﾄ１\"))","v":""},"","","","","","","",{"$f":"IF(S319=\"\",\"\",COUNTIF($S$7:S319,\"該当２\"))","v":""},"","",{"$f":"IF(V319=\"\",\"\",COUNTIF($V$7:V319,\"該当３\"))","v":""}]
[2020122001,20,{"v":201,"d":"201 "},{"v":22,"d":"22 "},{"v":1,"d":"001 "},"長野県","長野市","信田村","赤田",null,"","",{"$f":"IF(K320=\"\",\"\",COUNTIF($K$7:K320,\"ﾘｽﾄ１\"))","v":""},"","","","","","","",{"$f":"IF(S320=\"\",\"\",COUNTIF($S$7:S320,\"該当２\"))","v":""},"","",{"$f":"IF(V320=\"\",\"\",COUNTIF($V$7:V320,\"該当３\"))","v":""}]
[2020122002,20,{"v":201,"d":"201 "},{"v":22,"d":"22 "},{"v":2,"d":"002 "},"長野県","長野市","信田村","宮ノ下",null,"","",{"$f":"IF(K321=\"\",\"\",COUNTIF($K$7:K321,\"ﾘｽﾄ１\"))","v":""},"","","","","","","",{"$f":"IF(S321=\"\",\"\",COUNTIF($S$7:S321,\"該当２\"))","v":""},"","",{"$f":"IF(V321=\"\",\"\",COUNTIF($V$7:V321,\"該当３\"))","v":""}]
[2020122003,20,{"v":201,"d":"201 "},{"v":22,"d":"22 "},{"v":3,"d":"003 "},"長野県","長野市","信田村","札木",null,"","",{"$f":"IF(K322=\"\",\"\",COUNTIF($K$7:K322,\"ﾘｽﾄ１\"))","v":""},"","","","","","","",{"$f":"IF(S322=\"\",\"\",COUNTIF($S$7:S322,\"該当２\"))","v":""},"","",{"$f":"IF(V322=\"\",\"\",COUNTIF($V$7:V322,\"該当３\"))","v":""}]
[2020122004,20,{"v":201,"d":"201 "},{"v":22,"d":"22 "},{"v":4,"d":"004 "},"長野県","長野市","信田村","一致",null,"","",{"$f":"IF(K323=\"\",\"\",COUNTIF($K$7:K323,\"ﾘｽﾄ１\"))","v":""},"","","","","","","",{"$f":"IF(S323=\"\",\"\",COUNTIF($S$7:S323,\"該当２\"))","v":""},"","",{"$f":"IF(V323=\"\",\"\",COUNTIF($V$7:V323,\"該当３\"))","v":""}]
[2020122005,20,{"v":201,"d":"201 "},{"v":22,"d":"22 "},{"v":5,"d":"005 "},"長野県","長野市","信田村","平林",null,"","",{"$f":"IF(K324=\"\",\"\",COUNTIF($K$7:K324,\"ﾘｽﾄ１\"))","v":""},"","","","","","","",{"$f":"IF(S324=\"\",\"\",COUNTIF($S$7:S324,\"該当２\"))","v":""},"","",{"$f":"IF(V324=\"\",\"\",COUNTIF($V$7:V324,\"該当３\"))","v":""}]
[2020122006,20,{"v":201,"d":"201 "},{"v":22,"d":"22 "},{"v":6,"d":"006 "},"長野県","長野市","信田村","日向",null,"","",{"$f":"IF(K325=\"\",\"\",COUNTIF($K$7:K325,\"ﾘｽﾄ１\"))","v":""},"","","","","","","",{"$f":"IF(S325=\"\",\"\",COUNTIF($S$7:S325,\"該当２\"))","v":""},"","",{"$f":"IF(V325=\"\",\"\",COUNTIF($V$7:V325,\"該当３\"))","v":""}]
[2020122007,20,{"v":201,"d":"201 "},{"v":22,"d":"22 "},{"v":7,"d":"007 "},"長野県","長野市","信田村","中組",null,"","",{"$f":"IF(K326=\"\",\"\",COUNTIF($K$7:K326,\"ﾘｽﾄ１\"))","v":""},"","","","","","","",{"$f":"IF(S326=\"\",\"\",COUNTIF($S$7:S326,\"該当２\"))","v":""},"","",{"$f":"IF(V326=\"\",\"\",COUNTIF($V$7:V326,\"該当３\"))","v":""}]
[2020122008,20,{"v":201,"d":"201 "},{"v":22,"d":"22 "},{"v":8,"d":"008 "},"長野県","長野市","信田村","小日向",null,"","",{"$f":"IF(K327=\"\",\"\",COUNTIF($K$7:K327,\"ﾘｽﾄ１\"))","v":""},"","","","","","","",{"$f":"IF(S327=\"\",\"\",COUNTIF($S$7:S327,\"該当２\"))","v":""},"","",{"$f":"IF(V327=\"\",\"\",COUNTIF($V$7:V327,\"該当３\"))","v":""}]
[2020122009,20,{"v":201,"d":"201 "},{"v":22,"d":"22 "},{"v":9,"d":"009 "},"長野県","長野市","信田村","大森",null,"","",{"$f":"IF(K328=\"\",\"\",COUNTIF($K$7:K328,\"ﾘｽﾄ１\"))","v":""},"","",{"$f":"IF(O328=\"該当１\",G328,\"\")","v":""},{"$f":"IF(O328=\"該当１\",\"ﾘｽﾄ2\",\"\")","v":""},{"$f":"IF(Q328=\"ﾘｽﾄ2\",H328,\"\")","v":""},"",{"$f":"IF(S328=\"該当２\",H328,\"\")","v":""},{"$f":"IF(S328=\"\",\"\",COUNTIF($S$7:S328,\"該当２\"))","v":""},{"$f":"IF(AND($S$2=H328,E328>0,E328<998),\"該当３\",\"\")","v":""},{"$f":"IF(V328=\"該当３\",I328,\"\")","v":""},{"$f":"IF(V328=\"\",\"\",COUNTIF($V$7:V328,\"該当３\"))","v":""}]
[2020122010,20,{"v":201,"d":"201 "},{"v":22,"d":"22 "},{"v":10,"d":"010 "},"長野県","長野市","信田村","境組",null,{"$f":"IF(AND($C329>0,$H329=\"\"),\"ﾘｽﾄ１\",\"\")","v":""},{"$f":"IF(K329=\"ﾘｽﾄ１\",G329,\"\")","v":""},{"$f":"IF(K329=\"\",\"\",COUNTIF($K$7:K329,\"ﾘｽﾄ１\"))","v":""},{"$f":"IF(AND(D329=0,E329>0),\"同一区\",\"\")","v":""},{"$f":"IF(AND(EXACT($K$2,G329),H329>0),\"該当１\",\"\")","v":""},"","","",{"$f":"IF(AND(Q329=\"ﾘｽﾄ2\",OR(I329=0,AND(N329=\"同一区\",E329=1))),\"該当２\",\"\")","v":""},"",{"$f":"IF(S329=\"\",\"\",COUNTIF($S$7:S329,\"該当２\"))","v":""},"","",{"$f":"IF(V329=\"\",\"\",COUNTIF($V$7:V329,\"該当３\"))","v":""}]
[2020122011,20,{"v":201,"d":"201 "},{"v":22,"d":"22 "},{"v":11,"d":"011 "},"長野県","長野市","信田村","原市場",null,"","",{"$f":"IF(K330=\"\",\"\",COUNTIF($K$7:K330,\"ﾘｽﾄ１\"))","v":""},"","","","","","","",{"$f":"IF(S330=\"\",\"\",COUNTIF($S$7:S330,\"該当２\"))","v":""},"","",{"$f":"IF(V330=\"\",\"\",COUNTIF($V$7:V330,\"該当３\"))","v":""}]
[2020122012,20,{"v":201,"d":"201 "},{"v":22,"d":"22 "},{"v":12,"d":"012 "},"長野県","長野市","信田村","浅野",null,"","",{"$f":"IF(K331=\"\",\"\",COUNTIF($K$7:K331,\"ﾘｽﾄ１\"))","v":""},"","","","","","","",{"$f":"IF(S331=\"\",\"\",COUNTIF($S$7:S331,\"該当２\"))","v":""},"","",{"$f":"IF(V331=\"\",\"\",COUNTIF($V$7:V331,\"該当３\"))","v":""}]
[2020122013,20,{"v":201,"d":"201 "},{"v":22,"d":"22 "},{"v":13,"d":"013 "},"長野県","長野市","信田村","氷熊",null,"","",{"$f":"IF(K332=\"\",\"\",COUNTIF($K$7:K332,\"ﾘｽﾄ１\"))","v":""},"","","","","","","",{"$f":"IF(S332=\"\",\"\",COUNTIF($S$7:S332,\"該当２\"))","v":""},"","",{"$f":"IF(V332=\"\",\"\",COUNTIF($V$7:V332,\"該当３\"))","v":""}]
[2020122014,20,{"v":201,"d":"201 "},{"v":22,"d":"22 "},{"v":14,"d":"014 "},"長野県","長野市","信田村","灰原",null,"","",{"$f":"IF(K333=\"\",\"\",COUNTIF($K$7:K333,\"ﾘｽﾄ１\"))","v":""},"","","","","","","",{"$f":"IF(S333=\"\",\"\",COUNTIF($S$7:S333,\"該当２\"))","v":""},"","",{"$f":"IF(V333=\"\",\"\",COUNTIF($V$7:V333,\"該当３\"))","v":""}]
[2020122015,20,{"v":201,"d":"201 "},{"v":22,"d":"22 "},{"v":15,"d":"015 "},"長野県","長野市","信田村","高野",null,"","",{"$f":"IF(K334=\"\",\"\",COUNTIF($K$7:K334,\"ﾘｽﾄ１\"))","v":""},"","","","","","","",{"$f":"IF(S334=\"\",\"\",COUNTIF($S$7:S334,\"該当２\"))","v":""},"","",{"$f":"IF(V334=\"\",\"\",COUNTIF($V$7:V334,\"該当３\"))","v":""}]
[2020122016,20,{"v":201,"d":"201 "},{"v":22,"d":"22 "},{"v":16,"d":"016 "},"長野県","長野市","信田村","軽井沢",null,"","",{"$f":"IF(K335=\"\",\"\",COUNTIF($K$7:K335,\"ﾘｽﾄ１\"))","v":""},"","","","","","","",{"$f":"IF(S335=\"\",\"\",COUNTIF($S$7:S335,\"該当２\"))","v":""},"","",{"$f":"IF(V335=\"\",\"\",COUNTIF($V$7:V335,\"該当３\"))","v":""}]
[2020122017,20,{"v":201,"d":"201 "},{"v":22,"d":"22 "},{"v":17,"d":"017 "},"長野県","長野市","信田村","小田原",null,"","",{"$f":"IF(K336=\"\",\"\",COUNTIF($K$7:K336,\"ﾘｽﾄ１\"))","v":""},"","","","","","","",{"$f":"IF(S336=\"\",\"\",COUNTIF($S$7:S336,\"該当２\"))","v":""},"","",{"$f":"IF(V336=\"\",\"\",COUNTIF($V$7:V336,\"該当３\"))","v":""}]
[2020123000,20,{"v":201,"d":"201 "},{"v":23,"d":"23 "},{"v":0,"d":"000 "},"長野県","長野市","更府村",null,null,"","",{"$f":"IF(K337=\"\",\"\",COUNTIF($K$7:K337,\"ﾘｽﾄ１\"))","v":""},"","","","","","","",{"$f":"IF(S337=\"\",\"\",COUNTIF($S$7:S337,\"該当２\"))","v":""},"","",{"$f":"IF(V337=\"\",\"\",COUNTIF($V$7:V337,\"該当３\"))","v":""}]
[2020123001,20,{"v":201,"d":"201 "},{"v":23,"d":"23 "},{"v":1,"d":"001 "},"長野県","長野市","更府村","安庭",null,"","",{"$f":"IF(K338=\"\",\"\",COUNTIF($K$7:K338,\"ﾘｽﾄ１\"))","v":""},"","","","","","","",{"$f":"IF(S338=\"\",\"\",COUNTIF($S$7:S338,\"該当２\"))","v":""},"","",{"$f":"IF(V338=\"\",\"\",COUNTIF($V$7:V338,\"該当３\"))","v":""}]
[2020123002,20,{"v":201,"d":"201 "},{"v":23,"d":"23 "},{"v":2,"d":"002 "},"長野県","長野市","更府村","古藤",null,"","",{"$f":"IF(K339=\"\",\"\",COUNTIF($K$7:K339,\"ﾘｽﾄ１\"))","v":""},"","","","","","","",{"$f":"IF(S339=\"\",\"\",COUNTIF($S$7:S339,\"該当２\"))","v":""},"","",{"$f":"IF(V339=\"\",\"\",COUNTIF($V$7:V339,\"該当３\"))","v":""}]
[2020123003,20,{"v":201,"d":"201 "},{"v":23,"d":"23 "},{"v":3,"d":"003 "},"長野県","長野市","更府村","下平",null,"","",{"$f":"IF(K340=\"\",\"\",COUNTIF($K$7:K340,\"ﾘｽﾄ１\"))","v":""},"","","","","","","",{"$f":"IF(S340=\"\",\"\",COUNTIF($S$7:S340,\"該当２\"))","v":""},"","",{"$f":"IF(V340=\"\",\"\",COUNTIF($V$7:V340,\"該当３\"))","v":""}]
[2020123004,20,{"v":201,"d":"201 "},{"v":23,"d":"23 "},{"v":4,"d":"004 "},"長野県","長野市","更府村","宮平",null,"","",{"$f":"IF(K341=\"\",\"\",COUNTIF($K$7:K341,\"ﾘｽﾄ１\"))","v":""},"","","","","","","",{"$f":"IF(S341=\"\",\"\",COUNTIF($S$7:S341,\"該当２\"))","v":""},"","",{"$f":"IF(V341=\"\",\"\",COUNTIF($V$7:V341,\"該当３\"))","v":""}]
[2020123005,20,{"v":201,"d":"201 "},{"v":23,"d":"23 "},{"v":5,"d":"005 "},"長野県","長野市","更府村","桜井",null,"","",{"$f":"IF(K342=\"\",\"\",COUNTIF($K$7:K342,\"ﾘｽﾄ１\"))","v":""},"","","","","","","",{"$f":"IF(S342=\"\",\"\",COUNTIF($S$7:S342,\"該当２\"))","v":""},"","",{"$f":"IF(V342=\"\",\"\",COUNTIF($V$7:V342,\"該当３\"))","v":""}]
[2020123006,20,{"v":201,"d":"201 "},{"v":23,"d":"23 "},{"v":6,"d":"006 "},"長野県","長野市","更府村","涌池",null,"","",{"$f":"IF(K343=\"\",\"\",COUNTIF($K$7:K343,\"ﾘｽﾄ１\"))","v":""},"","","","","","","",{"$f":"IF(S343=\"\",\"\",COUNTIF($S$7:S343,\"該当２\"))","v":""},"","",{"$f":"IF(V343=\"\",\"\",COUNTIF($V$7:V343,\"該当３\"))","v":""}]
[2020123007,20,{"v":201,"d":"201 "},{"v":23,"d":"23 "},{"v":7,"d":"007 "},"長野県","長野市","更府村","上尾",null,"","",{"$f":"IF(K344=\"\",\"\",COUNTIF($K$7:K344,\"ﾘｽﾄ１\"))","v":""},"","","","","","","",{"$f":"IF(S344=\"\",\"\",COUNTIF($S$7:S344,\"該当２\"))","v":""},"","",{"$f":"IF(V344=\"\",\"\",COUNTIF($V$7:V344,\"該当３\"))","v":""}]
[2020123008,20,{"v":201,"d":"201 "},{"v":23,"d":"23 "},{"v":8,"d":"008 "},"長野県","長野市","更府村","三水",null,"","",{"$f":"IF(K345=\"\",\"\",COUNTIF($K$7:K345,\"ﾘｽﾄ１\"))","v":""},"","","","","","","",{"$f":"IF(S345=\"\",\"\",COUNTIF($S$7:S345,\"該当２\"))","v":""},"","",{"$f":"IF(V345=\"\",\"\",COUNTIF($V$7:V345,\"該当３\"))","v":""}]
[2020123009,20,{"v":201,"d":"201 "},{"v":23,"d":"23 "},{"v":9,"d":"009 "},"長野県","長野市","更府村","今泉",null,"","",{"$f":"IF(K346=\"\",\"\",COUNTIF($K$7:K346,\"ﾘｽﾄ１\"))","v":""},"","","","","","","",{"$f":"IF(S346=\"\",\"\",COUNTIF($S$7:S346,\"該当２\"))","v":""},"","",{"$f":"IF(V346=\"\",\"\",COUNTIF($V$7:V346,\"該当３\"))","v":""}]
[2020123010,20,{"v":201,"d":"201 "},{"v":23,"d":"23 "},{"v":10,"d":"010 "},"長野県","長野市","更府村","吉原",null,"","",{"$f":"IF(K347=\"\",\"\",COUNTIF($K$7:K347,\"ﾘｽﾄ１\"))","v":""},"","","","","","","",{"$f":"IF(S347=\"\",\"\",COUNTIF($S$7:S347,\"該当２\"))","v":""},"","",{"$f":"IF(V347=\"\",\"\",COUNTIF($V$7:V347,\"該当３\"))","v":""}]
[2020124000,20,{"v":201,"d":"201 "},{"v":24,"d":"24 "},{"v":0,"d":"000 "},"長野県","長野市","青木島村",null,null,"","",{"$f":"IF(K348=\"\",\"\",COUNTIF($K$7:K348,\"ﾘｽﾄ１\"))","v":""},"","","","","","","",{"$f":"IF(S348=\"\",\"\",COUNTIF($S$7:S348,\"該当２\"))","v":""},"","",{"$f":"IF(V348=\"\",\"\",COUNTIF($V$7:V348,\"該当３\"))","v":""}]
[2020124001,20,{"v":201,"d":"201 "},{"v":24,"d":"24 "},{"v":1,"d":"001 "},"長野県","長野市","青木島村","丹波島",null,"","",{"$f":"IF(K349=\"\",\"\",COUNTIF($K$7:K349,\"ﾘｽﾄ１\"))","v":""},"","","","","","","",{"$f":"IF(S349=\"\",\"\",COUNTIF($S$7:S349,\"該当２\"))","v":""},"","",{"$f":"IF(V349=\"\",\"\",COUNTIF($V$7:V349,\"該当３\"))","v":""}]
[2020124002,20,{"v":201,"d":"201 "},{"v":24,"d":"24 "},{"v":2,"d":"002 "},"長野県","長野市","青木島村","鍛治沼",null,"","",{"$f":"IF(K350=\"\",\"\",COUNTIF($K$7:K350,\"ﾘｽﾄ１\"))","v":""},"","","","","","","",{"$f":"IF(S350=\"\",\"\",COUNTIF($S$7:S350,\"該当２\"))","v":""},"","",{"$f":"IF(V350=\"\",\"\",COUNTIF($V$7:V350,\"該当３\"))","v":""}]
[2020124003,20,{"v":201,"d":"201 "},{"v":24,"d":"24 "},{"v":3,"d":"003 "},"長野県","長野市","青木島村","青木島北",null,"","",{"$f":"IF(K351=\"\",\"\",COUNTIF($K$7:K351,\"ﾘｽﾄ１\"))","v":""},"","","","","","","",{"$f":"IF(S351=\"\",\"\",COUNTIF($S$7:S351,\"該当２\"))","v":""},"","",{"$f":"IF(V351=\"\",\"\",COUNTIF($V$7:V351,\"該当３\"))","v":""}]
[2020124004,20,{"v":201,"d":"201 "},{"v":24,"d":"24 "},{"v":4,"d":"004 "},"長野県","長野市","青木島村","青木島",null,"","",{"$f":"IF(K352=\"\",\"\",COUNTIF($K$7:K352,\"ﾘｽﾄ１\"))","v":""},"","","","","","","",{"$f":"IF(S352=\"\",\"\",COUNTIF($S$7:S352,\"該当２\"))","v":""},"","",{"$f":"IF(V352=\"\",\"\",COUNTIF($V$7:V352,\"該当３\"))","v":""}]
[2020124005,20,{"v":201,"d":"201 "},{"v":24,"d":"24 "},{"v":5,"d":"005 "},"長野県","長野市","青木島村","綱島",null,"","",{"$f":"IF(K353=\"\",\"\",COUNTIF($K$7:K353,\"ﾘｽﾄ１\"))","v":""},"","","","","","","",{"$f":"IF(S353=\"\",\"\",COUNTIF($S$7:S353,\"該当２\"))","v":""},"","",{"$f":"IF(V353=\"\",\"\",COUNTIF($V$7:V353,\"該当３\"))","v":""}]
[2020124006,20,{"v":201,"d":"201 "},{"v":24,"d":"24 "},{"v":6,"d":"006 "},"長野県","長野市","青木島村","久新河原",null,"","",{"$f":"IF(K354=\"\",\"\",COUNTIF($K$7:K354,\"ﾘｽﾄ１\"))","v":""},"","","","","","","",{"$f":"IF(S354=\"\",\"\",COUNTIF($S$7:S354,\"該当２\"))","v":""},"","",{"$f":"IF(V354=\"\",\"\",COUNTIF($V$7:V354,\"該当３\"))","v":""}]
[2020124007,20,{"v":201,"d":"201 "},{"v":24,"d":"24 "},{"v":7,"d":"007 "},"長野県","長野市","青木島村","宿",null,"","",{"$f":"IF(K355=\"\",\"\",COUNTIF($K$7:K355,\"ﾘｽﾄ１\"))","v":""},"","","","","","","",{"$f":"IF(S355=\"\",\"\",COUNTIF($S$7:S355,\"該当２\"))","v":""},"","",{"$f":"IF(V355=\"\",\"\",COUNTIF($V$7:V355,\"該当３\"))","v":""}]
[2020124008,20,{"v":201,"d":"201 "},{"v":24,"d":"24 "},{"v":8,"d":"008 "},"長野県","長野市","青木島村","不動寺",null,"","",{"$f":"IF(K356=\"\",\"\",COUNTIF($K$7:K356,\"ﾘｽﾄ１\"))","v":""},"","","","","","","",{"$f":"IF(S356=\"\",\"\",COUNTIF($S$7:S356,\"該当２\"))","v":""},"","",{"$f":"IF(V356=\"\",\"\",COUNTIF($V$7:V356,\"該当３\"))","v":""}]
[2020124009,20,{"v":201,"d":"201 "},{"v":24,"d":"24 "},{"v":9,"d":"009 "},"長野県","長野市","青木島村","南上",null,"","",{"$f":"IF(K357=\"\",\"\",COUNTIF($K$7:K357,\"ﾘｽﾄ１\"))","v":""},"","","","","","","",{"$f":"IF(S357=\"\",\"\",COUNTIF($S$7:S357,\"該当２\"))","v":""},"","",{"$f":"IF(V357=\"\",\"\",COUNTIF($V$7:V357,\"該当３\"))","v":""}]
[2020124010,20,{"v":201,"d":"201 "},{"v":24,"d":"24 "},{"v":10,"d":"010 "},"長野県","長野市","青木島村","新町",null,"","",{"$f":"IF(K358=\"\",\"\",COUNTIF($K$7:K358,\"ﾘｽﾄ１\"))","v":""},"","","","","","","",{"$f":"IF(S358=\"\",\"\",COUNTIF($S$7:S358,\"該当２\"))","v":""},"","",{"$f":"IF(V358=\"\",\"\",COUNTIF($V$7:V358,\"該当３\"))","v":""}]
[2020124011,20,{"v":201,"d":"201 "},{"v":24,"d":"24 "},{"v":11,"d":"011 "},"長野県","長野市","青木島村","北島",null,"","",{"$f":"IF(K359=\"\",\"\",COUNTIF($K$7:K359,\"ﾘｽﾄ１\"))","v":""},"","","","","","","",{"$f":"IF(S359=\"\",\"\",COUNTIF($S$7:S359,\"該当２\"))","v":""},"","",{"$f":"IF(V359=\"\",\"\",COUNTIF($V$7:V359,\"該当３\"))","v":""}]
[2020124012,20,{"v":201,"d":"201 "},{"v":24,"d":"24 "},{"v":12,"d":"012 "},"長野県","長野市","青木島村","大北",null,"","",{"$f":"IF(K360=\"\",\"\",COUNTIF($K$7:K360,\"ﾘｽﾄ１\"))","v":""},"","","","","","","",{"$f":"IF(S360=\"\",\"\",COUNTIF($S$7:S360,\"該当２\"))","v":""},"","",{"$f":"IF(V360=\"\",\"\",COUNTIF($V$7:V360,\"該当３\"))","v":""}]
[2020124013,20,{"v":201,"d":"201 "},{"v":24,"d":"24 "},{"v":13,"d":"013 "},"長野県","長野市","青木島村","四十二石",null,"","",{"$f":"IF(K361=\"\",\"\",COUNTIF($K$7:K361,\"ﾘｽﾄ１\"))","v":""},"","","","","","","",{"$f":"IF(S361=\"\",\"\",COUNTIF($S$7:S361,\"該当２\"))","v":""},"","",{"$f":"IF(V361=\"\",\"\",COUNTIF($V$7:V361,\"該当３\"))","v":""}]
[2020125000,20,{"v":201,"d":"201 "},{"v":25,"d":"25 "},{"v":0,"d":"000 "},"長野県","長野市","稲里村",null,null,"","",{"$f":"IF(K362=\"\",\"\",COUNTIF($K$7:K362,\"ﾘｽﾄ１\"))","v":""},"","","","","","","",{"$f":"IF(S362=\"\",\"\",COUNTIF($S$7:S362,\"該当２\"))","v":""},"","",{"$f":"IF(V362=\"\",\"\",COUNTIF($V$7:V362,\"該当３\"))","v":""}]
[2020125001,20,{"v":201,"d":"201 "},{"v":25,"d":"25 "},{"v":1,"d":"001 "},"長野県","長野市","稲里村","久津町",null,"","",{"$f":"IF(K363=\"\",\"\",COUNTIF($K$7:K363,\"ﾘｽﾄ１\"))","v":""},"","","","","","","",{"$f":"IF(S363=\"\",\"\",COUNTIF($S$7:S363,\"該当２\"))","v":""},"","",{"$f":"IF(V363=\"\",\"\",COUNTIF($V$7:V363,\"該当３\"))","v":""}]
[2020125002,20,{"v":201,"d":"201 "},{"v":25,"d":"25 "},{"v":2,"d":"002 "},"長野県","長野市","稲里村","日進",null,"","",{"$f":"IF(K364=\"\",\"\",COUNTIF($K$7:K364,\"ﾘｽﾄ１\"))","v":""},"","","","","","","",{"$f":"IF(S364=\"\",\"\",COUNTIF($S$7:S364,\"該当２\"))","v":""},"","",{"$f":"IF(V364=\"\",\"\",COUNTIF($V$7:V364,\"該当３\"))","v":""}]
[2020125003,20,{"v":201,"d":"201 "},{"v":25,"d":"25 "},{"v":3,"d":"003 "},"長野県","長野市","稲里村","二ツ屋",null,"","",{"$f":"IF(K365=\"\",\"\",COUNTIF($K$7:K365,\"ﾘｽﾄ１\"))","v":""},"","","","","","","",{"$f":"IF(S365=\"\",\"\",COUNTIF($S$7:S365,\"該当２\"))","v":""},"","",{"$f":"IF(V365=\"\",\"\",COUNTIF($V$7:V365,\"該当３\"))","v":""}]
[2020125004,20,{"v":201,"d":"201 "},{"v":25,"d":"25 "},{"v":4,"d":"004 "},"長野県","長野市","稲里村","中氷東",null,"","",{"$f":"IF(K366=\"\",\"\",COUNTIF($K$7:K366,\"ﾘｽﾄ１\"))","v":""},"","","","","","","",{"$f":"IF(S366=\"\",\"\",COUNTIF($S$7:S366,\"該当２\"))","v":""},"","",{"$f":"IF(V366=\"\",\"\",COUNTIF($V$7:V366,\"該当３\"))","v":""}]
[2020125005,20,{"v":201,"d":"201 "},{"v":25,"d":"25 "},{"v":5,"d":"005 "},"長野県","長野市","稲里村","中氷西",null,"","",{"$f":"IF(K367=\"\",\"\",COUNTIF($K$7:K367,\"ﾘｽﾄ１\"))","v":""},"","","","","","","",{"$f":"IF(S367=\"\",\"\",COUNTIF($S$7:S367,\"該当２\"))","v":""},"","",{"$f":"IF(V367=\"\",\"\",COUNTIF($V$7:V367,\"該当３\"))","v":""}]
[2020125006,20,{"v":201,"d":"201 "},{"v":25,"d":"25 "},{"v":6,"d":"006 "},"長野県","長野市","稲里村","第五",null,"","",{"$f":"IF(K368=\"\",\"\",COUNTIF($K$7:K368,\"ﾘｽﾄ１\"))","v":""},"","","","","","","",{"$f":"IF(S368=\"\",\"\",COUNTIF($S$7:S368,\"該当２\"))","v":""},"","",{"$f":"IF(V368=\"\",\"\",COUNTIF($V$7:V368,\"該当３\"))","v":""}]
[2020125007,20,{"v":201,"d":"201 "},{"v":25,"d":"25 "},{"v":7,"d":"007 "},"長野県","長野市","稲里村","境東",null,"","",{"$f":"IF(K369=\"\",\"\",COUNTIF($K$7:K369,\"ﾘｽﾄ１\"))","v":""},"","","","","","","",{"$f":"IF(S369=\"\",\"\",COUNTIF($S$7:S369,\"該当２\"))","v":""},"","",{"$f":"IF(V369=\"\",\"\",COUNTIF($V$7:V369,\"該当３\"))","v":""}]
[2020125008,20,{"v":201,"d":"201 "},{"v":25,"d":"25 "},{"v":8,"d":"008 "},"長野県","長野市","稲里村","境西",null,"","",{"$f":"IF(K370=\"\",\"\",COUNTIF($K$7:K370,\"ﾘｽﾄ１\"))","v":""},"","","","","","","",{"$f":"IF(S370=\"\",\"\",COUNTIF($S$7:S370,\"該当２\"))","v":""},"","",{"$f":"IF(V370=\"\",\"\",COUNTIF($V$7:V370,\"該当３\"))","v":""}]
[2020125009,20,{"v":201,"d":"201 "},{"v":25,"d":"25 "},{"v":9,"d":"009 "},"長野県","長野市","稲里村","下北",null,"","",{"$f":"IF(K371=\"\",\"\",COUNTIF($K$7:K371,\"ﾘｽﾄ１\"))","v":""},"","","","","","","",{"$f":"IF(S371=\"\",\"\",COUNTIF($S$7:S371,\"該当２\"))","v":""},"","",{"$f":"IF(V371=\"\",\"\",COUNTIF($V$7:V371,\"該当３\"))","v":""}]
[2020125010,20,{"v":201,"d":"201 "},{"v":25,"d":"25 "},{"v":10,"d":"010 "},"長野県","長野市","稲里村","下氷鉋",null,"","",{"$f":"IF(K372=\"\",\"\",COUNTIF($K$7:K372,\"ﾘｽﾄ１\"))","v":""},"","","","","","","",{"$f":"IF(S372=\"\",\"\",COUNTIF($S$7:S372,\"該当２\"))","v":""},"","",{"$f":"IF(V372=\"\",\"\",COUNTIF($V$7:V372,\"該当３\"))","v":""}]
[2020125011,20,{"v":201,"d":"201 "},{"v":25,"d":"25 "},{"v":11,"d":"011 "},"長野県","長野市","稲里村","野池東",null,"","",{"$f":"IF(K373=\"\",\"\",COUNTIF($K$7:K373,\"ﾘｽﾄ１\"))","v":""},"","","","","","","",{"$f":"IF(S373=\"\",\"\",COUNTIF($S$7:S373,\"該当２\"))","v":""},"","",{"$f":"IF(V373=\"\",\"\",COUNTIF($V$7:V373,\"該当３\"))","v":""}]
[2020125012,20,{"v":201,"d":"201 "},{"v":25,"d":"25 "},{"v":12,"d":"012 "},"長野県","長野市","稲里村","野池西",null,"","",{"$f":"IF(K374=\"\",\"\",COUNTIF($K$7:K374,\"ﾘｽﾄ１\"))","v":""},"","","","","","","",{"$f":"IF(S374=\"\",\"\",COUNTIF($S$7:S374,\"該当２\"))","v":""},"","",{"$f":"IF(V374=\"\",\"\",COUNTIF($V$7:V374,\"該当３\"))","v":""}]
[2020125013,20,{"v":201,"d":"201 "},{"v":25,"d":"25 "},{"v":13,"d":"013 "},"長野県","長野市","稲里村","塔之腰",null,"","",{"$f":"IF(K375=\"\",\"\",COUNTIF($K$7:K375,\"ﾘｽﾄ１\"))","v":""},"","","","","","","",{"$f":"IF(S375=\"\",\"\",COUNTIF($S$7:S375,\"該当２\"))","v":""},"","",{"$f":"IF(V375=\"\",\"\",COUNTIF($V$7:V375,\"該当３\"))","v":""}]
[2020125014,20,{"v":201,"d":"201 "},{"v":25,"d":"25 "},{"v":14,"d":"014 "},"長野県","長野市","稲里村","南区",null,"","",{"$f":"IF(K376=\"\",\"\",COUNTIF($K$7:K376,\"ﾘｽﾄ１\"))","v":""},"","","","","","","",{"$f":"IF(S376=\"\",\"\",COUNTIF($S$7:S376,\"該当２\"))","v":""},"","",{"$f":"IF(V376=\"\",\"\",COUNTIF($V$7:V376,\"該当３\"))","v":""}]
[2020125015,20,{"v":201,"d":"201 "},{"v":25,"d":"25 "},{"v":15,"d":"015 "},"長野県","長野市","稲里村","荒屋",null,"","",{"$f":"IF(K377=\"\",\"\",COUNTIF($K$7:K377,\"ﾘｽﾄ１\"))","v":""},"","","","","","","",{"$f":"IF(S377=\"\",\"\",COUNTIF($S$7:S377,\"該当２\"))","v":""},"","",{"$f":"IF(V377=\"\",\"\",COUNTIF($V$7:V377,\"該当３\"))","v":""}]
[2020125016,20,{"v":201,"d":"201 "},{"v":25,"d":"25 "},{"v":16,"d":"016 "},"長野県","長野市","稲里村","藤牧",null,"","",{"$f":"IF(K378=\"\",\"\",COUNTIF($K$7:K378,\"ﾘｽﾄ１\"))","v":""},"","","","","","","",{"$f":"IF(S378=\"\",\"\",COUNTIF($S$7:S378,\"該当２\"))","v":""},"","",{"$f":"IF(V378=\"\",\"\",COUNTIF($V$7:V378,\"該当３\"))","v":""}]
[2020125017,20,{"v":201,"d":"201 "},{"v":25,"d":"25 "},{"v":17,"d":"017 "},"長野県","長野市","稲里村","広田",null,"","",{"$f":"IF(K379=\"\",\"\",COUNTIF($K$7:K379,\"ﾘｽﾄ１\"))","v":""},"","","","","","","",{"$f":"IF(S379=\"\",\"\",COUNTIF($S$7:S379,\"該当２\"))","v":""},"","",{"$f":"IF(V379=\"\",\"\",COUNTIF($V$7:V379,\"該当３\"))","v":""}]
[2020125018,20,{"v":201,"d":"201 "},{"v":25,"d":"25 "},{"v":18,"d":"018 "},"長野県","長野市","稲里村","共益",null,"","",{"$f":"IF(K380=\"\",\"\",COUNTIF($K$7:K380,\"ﾘｽﾄ１\"))","v":""},"","","","","","","",{"$f":"IF(S380=\"\",\"\",COUNTIF($S$7:S380,\"該当２\"))","v":""},"","",{"$f":"IF(V380=\"\",\"\",COUNTIF($V$7:V380,\"該当３\"))","v":""}]
[2020125019,20,{"v":201,"d":"201 "},{"v":25,"d":"25 "},{"v":19,"d":"019 "},"長野県","長野市","稲里村","広徳",null,"","",{"$f":"IF(K381=\"\",\"\",COUNTIF($K$7:K381,\"ﾘｽﾄ１\"))","v":""},"","","","","","","",{"$f":"IF(S381=\"\",\"\",COUNTIF($S$7:S381,\"該当２\"))","v":""},"","",{"$f":"IF(V381=\"\",\"\",COUNTIF($V$7:V381,\"該当３\"))","v":""}]
[2020125020,20,{"v":201,"d":"201 "},{"v":25,"d":"25 "},{"v":20,"d":"020 "},"長野県","長野市","稲里村","広田第一",null,"","",{"$f":"IF(K382=\"\",\"\",COUNTIF($K$7:K382,\"ﾘｽﾄ１\"))","v":""},"","","","","","","",{"$f":"IF(S382=\"\",\"\",COUNTIF($S$7:S382,\"該当２\"))","v":""},"","",{"$f":"IF(V382=\"\",\"\",COUNTIF($V$7:V382,\"該当３\"))","v":""}]
[2020125021,20,{"v":201,"d":"201 "},{"v":25,"d":"25 "},{"v":21,"d":"021 "},"長野県","長野市","稲里村","広田北",null,"","",{"$f":"IF(K383=\"\",\"\",COUNTIF($K$7:K383,\"ﾘｽﾄ１\"))","v":""},"","","","","","","",{"$f":"IF(S383=\"\",\"\",COUNTIF($S$7:S383,\"該当２\"))","v":""},"","",{"$f":"IF(V383=\"\",\"\",COUNTIF($V$7:V383,\"該当３\"))","v":""}]
[2020125022,20,{"v":201,"d":"201 "},{"v":25,"d":"25 "},{"v":22,"d":"022 "},"長野県","長野市","稲里村","広栄",null,"","",{"$f":"IF(K384=\"\",\"\",COUNTIF($K$7:K384,\"ﾘｽﾄ１\"))","v":""},"","","","","","","",{"$f":"IF(S384=\"\",\"\",COUNTIF($S$7:S384,\"該当２\"))","v":""},"","",{"$f":"IF(V384=\"\",\"\",COUNTIF($V$7:V384,\"該当３\"))","v":""}]
[2020125023,20,{"v":201,"d":"201 "},{"v":25,"d":"25 "},{"v":23,"d":"023 "},"長野県","長野市","稲里村","田牧東",null,"","",{"$f":"IF(K385=\"\",\"\",COUNTIF($K$7:K385,\"ﾘｽﾄ１\"))","v":""},"","","","","","","",{"$f":"IF(S385=\"\",\"\",COUNTIF($S$7:S385,\"該当２\"))","v":""},"","",{"$f":"IF(V385=\"\",\"\",COUNTIF($V$7:V385,\"該当３\"))","v":""}]
[2020126000,20,{"v":201,"d":"201 "},{"v":26,"d":"26 "},{"v":0,"d":"000 "},"長野県","長野市","小島田村",null,null,"","",{"$f":"IF(K386=\"\",\"\",COUNTIF($K$7:K386,\"ﾘｽﾄ１\"))","v":""},"","","","","","","",{"$f":"IF(S386=\"\",\"\",COUNTIF($S$7:S386,\"該当２\"))","v":""},"","",{"$f":"IF(V386=\"\",\"\",COUNTIF($V$7:V386,\"該当３\"))","v":""}]
[2020126001,20,{"v":201,"d":"201 "},{"v":26,"d":"26 "},{"v":1,"d":"001 "},"長野県","長野市","小島田村","田中",null,"","",{"$f":"IF(K387=\"\",\"\",COUNTIF($K$7:K387,\"ﾘｽﾄ１\"))","v":""},"","","","","","","",{"$f":"IF(S387=\"\",\"\",COUNTIF($S$7:S387,\"該当２\"))","v":""},"","",{"$f":"IF(V387=\"\",\"\",COUNTIF($V$7:V387,\"該当３\"))","v":""}]
[2020126002,20,{"v":201,"d":"201 "},{"v":26,"d":"26 "},{"v":2,"d":"002 "},"長野県","長野市","小島田村","頤気",null,"","",{"$f":"IF(K388=\"\",\"\",COUNTIF($K$7:K388,\"ﾘｽﾄ１\"))","v":""},"","","","","","","",{"$f":"IF(S388=\"\",\"\",COUNTIF($S$7:S388,\"該当２\"))","v":""},"","",{"$f":"IF(V388=\"\",\"\",COUNTIF($V$7:V388,\"該当３\"))","v":""}]
[2020126003,20,{"v":201,"d":"201 "},{"v":26,"d":"26 "},{"v":3,"d":"003 "},"長野県","長野市","小島田村","北村",null,"","",{"$f":"IF(K389=\"\",\"\",COUNTIF($K$7:K389,\"ﾘｽﾄ１\"))","v":""},"","","","","","","",{"$f":"IF(S389=\"\",\"\",COUNTIF($S$7:S389,\"該当２\"))","v":""},"","",{"$f":"IF(V389=\"\",\"\",COUNTIF($V$7:V389,\"該当３\"))","v":""}]
[2020126004,20,{"v":201,"d":"201 "},{"v":26,"d":"26 "},{"v":4,"d":"004 "},"長野県","長野市","小島田村","野田",null,"","",{"$f":"IF(K390=\"\",\"\",COUNTIF($K$7:K390,\"ﾘｽﾄ１\"))","v":""},"","","","","","","",{"$f":"IF(S390=\"\",\"\",COUNTIF($S$7:S390,\"該当２\"))","v":""},"","",{"$f":"IF(V390=\"\",\"\",COUNTIF($V$7:V390,\"該当３\"))","v":""}]
[2020126005,20,{"v":201,"d":"201 "},{"v":26,"d":"26 "},{"v":5,"d":"005 "},"長野県","長野市","小島田村","紙屋",null,"","",{"$f":"IF(K391=\"\",\"\",COUNTIF($K$7:K391,\"ﾘｽﾄ１\"))","v":""},"","","","","","","",{"$f":"IF(S391=\"\",\"\",COUNTIF($S$7:S391,\"該当２\"))","v":""},"","",{"$f":"IF(V391=\"\",\"\",COUNTIF($V$7:V391,\"該当３\"))","v":""}]
[2020126006,20,{"v":201,"d":"201 "},{"v":26,"d":"26 "},{"v":6,"d":"006 "},"長野県","長野市","小島田村","新城",null,"","",{"$f":"IF(K392=\"\",\"\",COUNTIF($K$7:K392,\"ﾘｽﾄ１\"))","v":""},"","",{"$f":"IF(O392=\"該当１\",G392,\"\")","v":""},{"$f":"IF(O392=\"該当１\",\"ﾘｽﾄ2\",\"\")","v":""},{"$f":"IF(Q392=\"ﾘｽﾄ2\",H392,\"\")","v":""},"",{"$f":"IF(S392=\"該当２\",H392,\"\")","v":""},{"$f":"IF(S392=\"\",\"\",COUNTIF($S$7:S392,\"該当２\"))","v":""},{"$f":"IF(AND($S$2=H392,E392>0,E392<998),\"該当３\",\"\")","v":""},{"$f":"IF(V392=\"該当３\",I392,\"\")","v":""},{"$f":"IF(V392=\"\",\"\",COUNTIF($V$7:V392,\"該当３\"))","v":""}]
[2020126007,20,{"v":201,"d":"201 "},{"v":26,"d":"26 "},{"v":7,"d":"007 "},"長野県","長野市","小島田村","花立",null,{"$f":"IF(AND($C393>0,$H393=\"\"),\"ﾘｽﾄ１\",\"\")","v":""},{"$f":"IF(K393=\"ﾘｽﾄ１\",G393,\"\")","v":""},{"$f":"IF(K393=\"\",\"\",COUNTIF($K$7:K393,\"ﾘｽﾄ１\"))","v":""},{"$f":"IF(AND(D393=0,E393>0),\"同一区\",\"\")","v":""},{"$f":"IF(AND(EXACT($K$2,G393),H393>0),\"該当１\",\"\")","v":""},"","","",{"$f":"IF(AND(Q393=\"ﾘｽﾄ2\",OR(I393=0,AND(N393=\"同一区\",E393=1))),\"該当２\",\"\")","v":""},"",{"$f":"IF(S393=\"\",\"\",COUNTIF($S$7:S393,\"該当２\"))","v":""},"","",{"$f":"IF(V393=\"\",\"\",COUNTIF($V$7:V393,\"該当３\"))","v":""}]
[2020126008,20,{"v":201,"d":"201 "},{"v":26,"d":"26 "},{"v":8,"d":"008 "},"長野県","長野市","小島田村","中村",null,"","",{"$f":"IF(K394=\"\",\"\",COUNTIF($K$7:K394,\"ﾘｽﾄ１\"))","v":""},"","","","","","","",{"$f":"IF(S394=\"\",\"\",COUNTIF($S$7:S394,\"該当２\"))","v":""},"","",{"$f":"IF(V394=\"\",\"\",COUNTIF($V$7:V394,\"該当３\"))","v":""}]
[2020126009,20,{"v":201,"d":"201 "},{"v":26,"d":"26 "},{"v":9,"d":"009 "},"長野県","長野市","小島田村","中組",null,"","",{"$f":"IF(K395=\"\",\"\",COUNTIF($K$7:K395,\"ﾘｽﾄ１\"))","v":""},"","","","","","","",{"$f":"IF(S395=\"\",\"\",COUNTIF($S$7:S395,\"該当２\"))","v":""},"","",{"$f":"IF(V395=\"\",\"\",COUNTIF($V$7:V395,\"該当３\"))","v":""}]
[2020126010,20,{"v":201,"d":"201 "},{"v":26,"d":"26 "},{"v":10,"d":"010 "},"長野県","長野市","小島田村","中沢",null,"","",{"$f":"IF(K396=\"\",\"\",COUNTIF($K$7:K396,\"ﾘｽﾄ１\"))","v":""},"","","","","","","",{"$f":"IF(S396=\"\",\"\",COUNTIF($S$7:S396,\"該当２\"))","v":""},"","",{"$f":"IF(V396=\"\",\"\",COUNTIF($V$7:V396,\"該当３\"))","v":""}]
[2020127000,20,{"v":201,"d":"201 "},{"v":27,"d":"27 "},{"v":0,"d":"000 "},"長野県","長野市","真島村",null,null,"","",{"$f":"IF(K397=\"\",\"\",COUNTIF($K$7:K397,\"ﾘｽﾄ１\"))","v":""},"","","","","","","",{"$f":"IF(S397=\"\",\"\",COUNTIF($S$7:S397,\"該当２\"))","v":""},"","",{"$f":"IF(V397=\"\",\"\",COUNTIF($V$7:V397,\"該当３\"))","v":""}]
[2020127001,20,{"v":201,"d":"201 "},{"v":27,"d":"27 "},{"v":1,"d":"001 "},"長野県","長野市","真島村","梵天",null,"","",{"$f":"IF(K398=\"\",\"\",COUNTIF($K$7:K398,\"ﾘｽﾄ１\"))","v":""},"","","","","","","",{"$f":"IF(S398=\"\",\"\",COUNTIF($S$7:S398,\"該当２\"))","v":""},"","",{"$f":"IF(V398=\"\",\"\",COUNTIF($V$7:V398,\"該当３\"))","v":""}]
[2020127002,20,{"v":201,"d":"201 "},{"v":27,"d":"27 "},{"v":2,"d":"002 "},"長野県","長野市","真島村","本道",null,"","",{"$f":"IF(K399=\"\",\"\",COUNTIF($K$7:K399,\"ﾘｽﾄ１\"))","v":""},"","","","","","","",{"$f":"IF(S399=\"\",\"\",COUNTIF($S$7:S399,\"該当２\"))","v":""},"","",{"$f":"IF(V399=\"\",\"\",COUNTIF($V$7:V399,\"該当３\"))","v":""}]
[2020127003,20,{"v":201,"d":"201 "},{"v":27,"d":"27 "},{"v":3,"d":"003 "},"長野県","長野市","真島村","中真島",null,"","",{"$f":"IF(K400=\"\",\"\",COUNTIF($K$7:K400,\"ﾘｽﾄ１\"))","v":""},"","","","","","","",{"$f":"IF(S400=\"\",\"\",COUNTIF($S$7:S400,\"該当２\"))","v":""},"","",{"$f":"IF(V400=\"\",\"\",COUNTIF($V$7:V400,\"該当３\"))","v":""}]
[2020127004,20,{"v":201,"d":"201 "},{"v":27,"d":"27 "},{"v":4,"d":"004 "},"長野県","長野市","真島村","堀之内",null,"","",{"$f":"IF(K401=\"\",\"\",COUNTIF($K$7:K401,\"ﾘｽﾄ１\"))","v":""},"","","","","","","",{"$f":"IF(S401=\"\",\"\",COUNTIF($S$7:S401,\"該当２\"))","v":""},"","",{"$f":"IF(V401=\"\",\"\",COUNTIF($V$7:V401,\"該当３\"))","v":""}]
[2020127005,20,{"v":201,"d":"201 "},{"v":27,"d":"27 "},{"v":5,"d":"005 "},"長野県","長野市","真島村","北村",null,"","",{"$f":"IF(K402=\"\",\"\",COUNTIF($K$7:K402,\"ﾘｽﾄ１\"))","v":""},"","","","","","","",{"$f":"IF(S402=\"\",\"\",COUNTIF($S$7:S402,\"該当２\"))","v":""},"","",{"$f":"IF(V402=\"\",\"\",COUNTIF($V$7:V402,\"該当３\"))","v":""}]
[2020127006,20,{"v":201,"d":"201 "},{"v":27,"d":"27 "},{"v":6,"d":"006 "},"長野県","長野市","真島村","前淵",null,"","",{"$f":"IF(K403=\"\",\"\",COUNTIF($K$7:K403,\"ﾘｽﾄ１\"))","v":""},"","","","","","","",{"$f":"IF(S403=\"\",\"\",COUNTIF($S$7:S403,\"該当２\"))","v":""},"","",{"$f":"IF(V403=\"\",\"\",COUNTIF($V$7:V403,\"該当３\"))","v":""}]
[2020127007,20,{"v":201,"d":"201 "},{"v":27,"d":"27 "},{"v":7,"d":"007 "},"長野県","長野市","真島村","川合",null,"","",{"$f":"IF(K404=\"\",\"\",COUNTIF($K$7:K404,\"ﾘｽﾄ１\"))","v":""},"","","","","","","",{"$f":"IF(S404=\"\",\"\",COUNTIF($S$7:S404,\"該当２\"))","v":""},"","",{"$f":"IF(V404=\"\",\"\",COUNTIF($V$7:V404,\"該当３\"))","v":""}]
[2020128000,20,{"v":201,"d":"201 "},{"v":28,"d":"28 "},{"v":0,"d":"000 "},"長野県","長野市","松代町",null,null,"","",{"$f":"IF(K405=\"\",\"\",COUNTIF($K$7:K405,\"ﾘｽﾄ１\"))","v":""},"","","","","","","",{"$f":"IF(S405=\"\",\"\",COUNTIF($S$7:S405,\"該当２\"))","v":""},"","",{"$f":"IF(V405=\"\",\"\",COUNTIF($V$7:V405,\"該当３\"))","v":""}]
[2020128001,20,{"v":201,"d":"201 "},{"v":28,"d":"28 "},{"v":1,"d":"001 "},"長野県","長野市","松代町","殿町",null,"","",{"$f":"IF(K406=\"\",\"\",COUNTIF($K$7:K406,\"ﾘｽﾄ１\"))","v":""},"","","","","","","",{"$f":"IF(S406=\"\",\"\",COUNTIF($S$7:S406,\"該当２\"))","v":""},"","",{"$f":"IF(V406=\"\",\"\",COUNTIF($V$7:V406,\"該当３\"))","v":""}]
[2020128002,20,{"v":201,"d":"201 "},{"v":28,"d":"28 "},{"v":2,"d":"002 "},"長野県","長野市","松代町","伊勢町",null,"","",{"$f":"IF(K407=\"\",\"\",COUNTIF($K$7:K407,\"ﾘｽﾄ１\"))","v":""},"","","","","","","",{"$f":"IF(S407=\"\",\"\",COUNTIF($S$7:S407,\"該当２\"))","v":""},"","",{"$f":"IF(V407=\"\",\"\",COUNTIF($V$7:V407,\"該当３\"))","v":""}]
[2020128003,20,{"v":201,"d":"201 "},{"v":28,"d":"28 "},{"v":3,"d":"003 "},"長野県","長野市","松代町","十五区",null,"","",{"$f":"IF(K408=\"\",\"\",COUNTIF($K$7:K408,\"ﾘｽﾄ１\"))","v":""},"","","","","","","",{"$f":"IF(S408=\"\",\"\",COUNTIF($S$7:S408,\"該当２\"))","v":""},"","",{"$f":"IF(V408=\"\",\"\",COUNTIF($V$7:V408,\"該当３\"))","v":""}]
[2020128004,20,{"v":201,"d":"201 "},{"v":28,"d":"28 "},{"v":4,"d":"004 "},"長野県","長野市","松代町","清須馬喰町",null,"","",{"$f":"IF(K409=\"\",\"\",COUNTIF($K$7:K409,\"ﾘｽﾄ１\"))","v":""},"","","","","","","",{"$f":"IF(S409=\"\",\"\",COUNTIF($S$7:S409,\"該当２\"))","v":""},"","",{"$f":"IF(V409=\"\",\"\",COUNTIF($V$7:V409,\"該当３\"))","v":""}]
[2020128005,20,{"v":201,"d":"201 "},{"v":28,"d":"28 "},{"v":5,"d":"005 "},"長野県","長野市","松代町","紙屋紺屋町",null,"","",{"$f":"IF(K410=\"\",\"\",COUNTIF($K$7:K410,\"ﾘｽﾄ１\"))","v":""},"","","","","","","",{"$f":"IF(S410=\"\",\"\",COUNTIF($S$7:S410,\"該当２\"))","v":""},"","",{"$f":"IF(V410=\"\",\"\",COUNTIF($V$7:V410,\"該当３\"))","v":""}]
[2020128006,20,{"v":201,"d":"201 "},{"v":28,"d":"28 "},{"v":6,"d":"006 "},"長野県","長野市","松代町","中町肴町",null,"","",{"$f":"IF(K411=\"\",\"\",COUNTIF($K$7:K411,\"ﾘｽﾄ１\"))","v":""},"","","","","","","",{"$f":"IF(S411=\"\",\"\",COUNTIF($S$7:S411,\"該当２\"))","v":""},"","",{"$f":"IF(V411=\"\",\"\",COUNTIF($V$7:V411,\"該当３\"))","v":""}]
[2020128007,20,{"v":201,"d":"201 "},{"v":28,"d":"28 "},{"v":7,"d":"007 "},"長野県","長野市","松代町","下田荒神町",null,"","",{"$f":"IF(K412=\"\",\"\",COUNTIF($K$7:K412,\"ﾘｽﾄ１\"))","v":""},"","","","","","","",{"$f":"IF(S412=\"\",\"\",COUNTIF($S$7:S412,\"該当２\"))","v":""},"","",{"$f":"IF(V412=\"\",\"\",COUNTIF($V$7:V412,\"該当３\"))","v":""}]
[2020128008,20,{"v":201,"d":"201 "},{"v":28,"d":"28 "},{"v":8,"d":"008 "},"長野県","長野市","松代町","鍛治田町",null,"","",{"$f":"IF(K413=\"\",\"\",COUNTIF($K$7:K413,\"ﾘｽﾄ１\"))","v":""},"","","","","","","",{"$f":"IF(S413=\"\",\"\",COUNTIF($S$7:S413,\"該当２\"))","v":""},"","",{"$f":"IF(V413=\"\",\"\",COUNTIF($V$7:V413,\"該当３\"))","v":""}]
[2020128009,20,{"v":201,"d":"201 "},{"v":28,"d":"28 "},{"v":9,"d":"009 "},"長野県","長野市","松代町","松山御安町",null,"","",{"$f":"IF(K414=\"\",\"\",COUNTIF($K$7:K414,\"ﾘｽﾄ１\"))","v":""},"","","","","","","",{"$f":"IF(S414=\"\",\"\",COUNTIF($S$7:S414,\"該当２\"))","v":""},"","",{"$f":"IF(V414=\"\",\"\",COUNTIF($V$7:V414,\"該当３\"))","v":""}]
[2020128010,20,{"v":201,"d":"201 "},{"v":28,"d":"28 "},{"v":10,"d":"010 "},"長野県","長野市","松代町","柴町，馬場町",null,"","",{"$f":"IF(K415=\"\",\"\",COUNTIF($K$7:K415,\"ﾘｽﾄ１\"))","v":""},"","","","","","","",{"$f":"IF(S415=\"\",\"\",COUNTIF($S$7:S415,\"該当２\"))","v":""},"","",{"$f":"IF(V415=\"\",\"\",COUNTIF($V$7:V415,\"該当３\"))","v":""}]
[2020128011,20,{"v":201,"d":"201 "},{"v":28,"d":"28 "},{"v":11,"d":"011 "},"長野県","長野市","松代町","代官，竹山，有楽町",null,"","",{"$f":"IF(K416=\"\",\"\",COUNTIF($K$7:K416,\"ﾘｽﾄ１\"))","v":""},"","","","","","","",{"$f":"IF(S416=\"\",\"\",COUNTIF($S$7:S416,\"該当２\"))","v":""},"","",{"$f":"IF(V416=\"\",\"\",COUNTIF($V$7:V416,\"該当３\"))","v":""}]
[2020129000,20,{"v":201,"d":"201 "},{"v":29,"d":"29 "},{"v":0,"d":"000 "},"長野県","長野市","東条村",null,null,"","",{"$f":"IF(K417=\"\",\"\",COUNTIF($K$7:K417,\"ﾘｽﾄ１\"))","v":""},"","","","","","","",{"$f":"IF(S417=\"\",\"\",COUNTIF($S$7:S417,\"該当２\"))","v":""},"","",{"$f":"IF(V417=\"\",\"\",COUNTIF($V$7:V417,\"該当３\"))","v":""}]
[2020129001,20,{"v":201,"d":"201 "},{"v":29,"d":"29 "},{"v":1,"d":"001 "},"長野県","長野市","東条村","中川",null,"","",{"$f":"IF(K418=\"\",\"\",COUNTIF($K$7:K418,\"ﾘｽﾄ１\"))","v":""},"","","","","","","",{"$f":"IF(S418=\"\",\"\",COUNTIF($S$7:S418,\"該当２\"))","v":""},"","",{"$f":"IF(V418=\"\",\"\",COUNTIF($V$7:V418,\"該当３\"))","v":""}]
[2020129002,20,{"v":201,"d":"201 "},{"v":29,"d":"29 "},{"v":2,"d":"002 "},"長野県","長野市","東条村","岩沢",null,"","",{"$f":"IF(K419=\"\",\"\",COUNTIF($K$7:K419,\"ﾘｽﾄ１\"))","v":""},"","","","","","","",{"$f":"IF(S419=\"\",\"\",COUNTIF($S$7:S419,\"該当２\"))","v":""},"","",{"$f":"IF(V419=\"\",\"\",COUNTIF($V$7:V419,\"該当３\"))","v":""}]
[2020129003,20,{"v":201,"d":"201 "},{"v":29,"d":"29 "},{"v":3,"d":"003 "},"長野県","長野市","東条村","菅間",null,"","",{"$f":"IF(K420=\"\",\"\",COUNTIF($K$7:K420,\"ﾘｽﾄ１\"))","v":""},"","","","","","","",{"$f":"IF(S420=\"\",\"\",COUNTIF($S$7:S420,\"該当２\"))","v":""},"","",{"$f":"IF(V420=\"\",\"\",COUNTIF($V$7:V420,\"該当３\"))","v":""}]
[2020129004,20,{"v":201,"d":"201 "},{"v":29,"d":"29 "},{"v":4,"d":"004 "},"長野県","長野市","東条村","滝本",null,"","",{"$f":"IF(K421=\"\",\"\",COUNTIF($K$7:K421,\"ﾘｽﾄ１\"))","v":""},"","","","","","","",{"$f":"IF(S421=\"\",\"\",COUNTIF($S$7:S421,\"該当２\"))","v":""},"","",{"$f":"IF(V421=\"\",\"\",COUNTIF($V$7:V421,\"該当３\"))","v":""}]
[2020129005,20,{"v":201,"d":"201 "},{"v":29,"d":"29 "},{"v":5,"d":"005 "},"長野県","長野市","東条村","般若寺",null,"","",{"$f":"IF(K422=\"\",\"\",COUNTIF($K$7:K422,\"ﾘｽﾄ１\"))","v":""},"","","","","","","",{"$f":"IF(S422=\"\",\"\",COUNTIF($S$7:S422,\"該当２\"))","v":""},"","",{"$f":"IF(V422=\"\",\"\",COUNTIF($V$7:V422,\"該当３\"))","v":""}]
[2020129006,20,{"v":201,"d":"201 "},{"v":29,"d":"29 "},{"v":6,"d":"006 "},"長野県","長野市","東条村","瀬関",null,"","",{"$f":"IF(K423=\"\",\"\",COUNTIF($K$7:K423,\"ﾘｽﾄ１\"))","v":""},"","","","","","","",{"$f":"IF(S423=\"\",\"\",COUNTIF($S$7:S423,\"該当２\"))","v":""},"","",{"$f":"IF(V423=\"\",\"\",COUNTIF($V$7:V423,\"該当３\"))","v":""}]
[2020129007,20,{"v":201,"d":"201 "},{"v":29,"d":"29 "},{"v":7,"d":"007 "},"長野県","長野市","東条村","竹原",null,"","",{"$f":"IF(K424=\"\",\"\",COUNTIF($K$7:K424,\"ﾘｽﾄ１\"))","v":""},"","","","","","","",{"$f":"IF(S424=\"\",\"\",COUNTIF($S$7:S424,\"該当２\"))","v":""},"","",{"$f":"IF(V424=\"\",\"\",COUNTIF($V$7:V424,\"該当３\"))","v":""}]
[2020129008,20,{"v":201,"d":"201 "},{"v":29,"d":"29 "},{"v":8,"d":"008 "},"長野県","長野市","東条村","長礼",null,"","",{"$f":"IF(K425=\"\",\"\",COUNTIF($K$7:K425,\"ﾘｽﾄ１\"))","v":""},"","","","","","","",{"$f":"IF(S425=\"\",\"\",COUNTIF($S$7:S425,\"該当２\"))","v":""},"","",{"$f":"IF(V425=\"\",\"\",COUNTIF($V$7:V425,\"該当３\"))","v":""}]
[2020129009,20,{"v":201,"d":"201 "},{"v":29,"d":"29 "},{"v":9,"d":"009 "},"長野県","長野市","東条村","加賀井",null,"","",{"$f":"IF(K426=\"\",\"\",COUNTIF($K$7:K426,\"ﾘｽﾄ１\"))","v":""},"","","","","","","",{"$f":"IF(S426=\"\",\"\",COUNTIF($S$7:S426,\"該当２\"))","v":""},"","",{"$f":"IF(V426=\"\",\"\",COUNTIF($V$7:V426,\"該当３\"))","v":""}]
[2020129010,20,{"v":201,"d":"201 "},{"v":29,"d":"29 "},{"v":10,"d":"010 "},"長野県","長野市","東条村","田中",null,"","",{"$f":"IF(K427=\"\",\"\",COUNTIF($K$7:K427,\"ﾘｽﾄ１\"))","v":""},"","","","","","","",{"$f":"IF(S427=\"\",\"\",COUNTIF($S$7:S427,\"該当２\"))","v":""},"","",{"$f":"IF(V427=\"\",\"\",COUNTIF($V$7:V427,\"該当３\"))","v":""}]
[2020129011,20,{"v":201,"d":"201 "},{"v":29,"d":"29 "},{"v":11,"d":"011 "},"長野県","長野市","東条村","東十人町",null,"","",{"$f":"IF(K428=\"\",\"\",COUNTIF($K$7:K428,\"ﾘｽﾄ１\"))","v":""},"","","","","","","",{"$f":"IF(S428=\"\",\"\",COUNTIF($S$7:S428,\"該当２\"))","v":""},"","",{"$f":"IF(V428=\"\",\"\",COUNTIF($V$7:V428,\"該当３\"))","v":""}]
[2020129012,20,{"v":201,"d":"201 "},{"v":29,"d":"29 "},{"v":12,"d":"012 "},"長野県","長野市","東条村","屋地",null,"","",{"$f":"IF(K429=\"\",\"\",COUNTIF($K$7:K429,\"ﾘｽﾄ１\"))","v":""},"","","","","","","",{"$f":"IF(S429=\"\",\"\",COUNTIF($S$7:S429,\"該当２\"))","v":""},"","",{"$f":"IF(V429=\"\",\"\",COUNTIF($V$7:V429,\"該当３\"))","v":""}]
[2020129013,20,{"v":201,"d":"201 "},{"v":29,"d":"29 "},{"v":13,"d":"013 "},"長野県","長野市","東条村","田町十人町",null,"","",{"$f":"IF(K430=\"\",\"\",COUNTIF($K$7:K430,\"ﾘｽﾄ１\"))","v":""},"","","","","","","",{"$f":"IF(S430=\"\",\"\",COUNTIF($S$7:S430,\"該当２\"))","v":""},"","",{"$f":"IF(V430=\"\",\"\",COUNTIF($V$7:V430,\"該当３\"))","v":""}]
[2020129014,20,{"v":201,"d":"201 "},{"v":29,"d":"29 "},{"v":14,"d":"014 "},"長野県","長野市","東条村","上十人町",null,"","",{"$f":"IF(K431=\"\",\"\",COUNTIF($K$7:K431,\"ﾘｽﾄ１\"))","v":""},"","","","","","","",{"$f":"IF(S431=\"\",\"\",COUNTIF($S$7:S431,\"該当２\"))","v":""},"","",{"$f":"IF(V431=\"\",\"\",COUNTIF($V$7:V431,\"該当３\"))","v":""}]
[2020129015,20,{"v":201,"d":"201 "},{"v":29,"d":"29 "},{"v":15,"d":"015 "},"長野県","長野市","東条村","東荒町",null,"","",{"$f":"IF(K432=\"\",\"\",COUNTIF($K$7:K432,\"ﾘｽﾄ１\"))","v":""},"","","","","","","",{"$f":"IF(S432=\"\",\"\",COUNTIF($S$7:S432,\"該当２\"))","v":""},"","",{"$f":"IF(V432=\"\",\"\",COUNTIF($V$7:V432,\"該当３\"))","v":""}]
[2020129016,20,{"v":201,"d":"201 "},{"v":29,"d":"29 "},{"v":16,"d":"016 "},"長野県","長野市","東条村","馬場",null,"","",{"$f":"IF(K433=\"\",\"\",COUNTIF($K$7:K433,\"ﾘｽﾄ１\"))","v":""},"","","","","","","",{"$f":"IF(S433=\"\",\"\",COUNTIF($S$7:S433,\"該当２\"))","v":""},"","",{"$f":"IF(V433=\"\",\"\",COUNTIF($V$7:V433,\"該当３\"))","v":""}]
[2020129017,20,{"v":201,"d":"201 "},{"v":29,"d":"29 "},{"v":17,"d":"017 "},"長野県","長野市","東条村","荒町",null,"","",{"$f":"IF(K434=\"\",\"\",COUNTIF($K$7:K434,\"ﾘｽﾄ１\"))","v":""},"","","","","","","",{"$f":"IF(S434=\"\",\"\",COUNTIF($S$7:S434,\"該当２\"))","v":""},"","",{"$f":"IF(V434=\"\",\"\",COUNTIF($V$7:V434,\"該当３\"))","v":""}]
[2020129018,20,{"v":201,"d":"201 "},{"v":29,"d":"29 "},{"v":18,"d":"018 "},"長野県","長野市","東条村","上荒町",null,"","",{"$f":"IF(K435=\"\",\"\",COUNTIF($K$7:K435,\"ﾘｽﾄ１\"))","v":""},"","","","","","","",{"$f":"IF(S435=\"\",\"\",COUNTIF($S$7:S435,\"該当２\"))","v":""},"","",{"$f":"IF(V435=\"\",\"\",COUNTIF($V$7:V435,\"該当３\"))","v":""}]
[2020130000,20,{"v":201,"d":"201 "},{"v":30,"d":"30 "},{"v":0,"d":"000 "},"長野県","長野市","清野村",null,null,"","",{"$f":"IF(K436=\"\",\"\",COUNTIF($K$7:K436,\"ﾘｽﾄ１\"))","v":""},"","","","","","","",{"$f":"IF(S436=\"\",\"\",COUNTIF($S$7:S436,\"該当２\"))","v":""},"","",{"$f":"IF(V436=\"\",\"\",COUNTIF($V$7:V436,\"該当３\"))","v":""}]
[2020130001,20,{"v":201,"d":"201 "},{"v":30,"d":"30 "},{"v":1,"d":"001 "},"長野県","長野市","清野村","岩野",null,"","",{"$f":"IF(K437=\"\",\"\",COUNTIF($K$7:K437,\"ﾘｽﾄ１\"))","v":""},"","","","","","","",{"$f":"IF(S437=\"\",\"\",COUNTIF($S$7:S437,\"該当２\"))","v":""},"","",{"$f":"IF(V437=\"\",\"\",COUNTIF($V$7:V437,\"該当３\"))","v":""}]
[2020130002,20,{"v":201,"d":"201 "},{"v":30,"d":"30 "},{"v":2,"d":"002 "},"長野県","長野市","清野村","道島",null,"","",{"$f":"IF(K438=\"\",\"\",COUNTIF($K$7:K438,\"ﾘｽﾄ１\"))","v":""},"","","","","","","",{"$f":"IF(S438=\"\",\"\",COUNTIF($S$7:S438,\"該当２\"))","v":""},"","",{"$f":"IF(V438=\"\",\"\",COUNTIF($V$7:V438,\"該当３\"))","v":""}]
[2020130003,20,{"v":201,"d":"201 "},{"v":30,"d":"30 "},{"v":3,"d":"003 "},"長野県","長野市","清野村","会田，鳥見塚",null,"","",{"$f":"IF(K439=\"\",\"\",COUNTIF($K$7:K439,\"ﾘｽﾄ１\"))","v":""},"","","","","","","",{"$f":"IF(S439=\"\",\"\",COUNTIF($S$7:S439,\"該当２\"))","v":""},"","",{"$f":"IF(V439=\"\",\"\",COUNTIF($V$7:V439,\"該当３\"))","v":""}]
[2020130004,20,{"v":201,"d":"201 "},{"v":30,"d":"30 "},{"v":4,"d":"004 "},"長野県","長野市","清野村","宮村",null,"","",{"$f":"IF(K440=\"\",\"\",COUNTIF($K$7:K440,\"ﾘｽﾄ１\"))","v":""},"","","","","","","",{"$f":"IF(S440=\"\",\"\",COUNTIF($S$7:S440,\"該当２\"))","v":""},"","",{"$f":"IF(V440=\"\",\"\",COUNTIF($V$7:V440,\"該当３\"))","v":""}]
[2020130005,20,{"v":201,"d":"201 "},{"v":30,"d":"30 "},{"v":5,"d":"005 "},"長野県","長野市","清野村","大村",null,"","",{"$f":"IF(K441=\"\",\"\",COUNTIF($K$7:K441,\"ﾘｽﾄ１\"))","v":""},"","","","","","","",{"$f":"IF(S441=\"\",\"\",COUNTIF($S$7:S441,\"該当２\"))","v":""},"","",{"$f":"IF(V441=\"\",\"\",COUNTIF($V$7:V441,\"該当３\"))","v":""}]
[2020130006,20,{"v":201,"d":"201 "},{"v":30,"d":"30 "},{"v":6,"d":"006 "},"長野県","長野市","清野村","五山",null,"","",{"$f":"IF(K442=\"\",\"\",COUNTIF($K$7:K442,\"ﾘｽﾄ１\"))","v":""},"","","","","","","",{"$f":"IF(S442=\"\",\"\",COUNTIF($S$7:S442,\"該当２\"))","v":""},"","",{"$f":"IF(V442=\"\",\"\",COUNTIF($V$7:V442,\"該当３\"))","v":""}]
[2020130007,20,{"v":201,"d":"201 "},{"v":30,"d":"30 "},{"v":7,"d":"007 "},"長野県","長野市","清野村","越",null,"","",{"$f":"IF(K443=\"\",\"\",COUNTIF($K$7:K443,\"ﾘｽﾄ１\"))","v":""},"","","","","","","",{"$f":"IF(S443=\"\",\"\",COUNTIF($S$7:S443,\"該当２\"))","v":""},"","",{"$f":"IF(V443=\"\",\"\",COUNTIF($V$7:V443,\"該当３\"))","v":""}]
[2020130008,20,{"v":201,"d":"201 "},{"v":30,"d":"30 "},{"v":8,"d":"008 "},"長野県","長野市","清野村","新馬喰町",null,"","",{"$f":"IF(K444=\"\",\"\",COUNTIF($K$7:K444,\"ﾘｽﾄ１\"))","v":""},"","","","","","","",{"$f":"IF(S444=\"\",\"\",COUNTIF($S$7:S444,\"該当２\"))","v":""},"","",{"$f":"IF(V444=\"\",\"\",COUNTIF($V$7:V444,\"該当３\"))","v":""}]
[2020131000,20,{"v":201,"d":"201 "},{"v":31,"d":"31 "},{"v":0,"d":"000 "},"長野県","長野市","豊栄村",null,null,"","",{"$f":"IF(K445=\"\",\"\",COUNTIF($K$7:K445,\"ﾘｽﾄ１\"))","v":""},"","","","","","","",{"$f":"IF(S445=\"\",\"\",COUNTIF($S$7:S445,\"該当２\"))","v":""},"","",{"$f":"IF(V445=\"\",\"\",COUNTIF($V$7:V445,\"該当３\"))","v":""}]
[2020131001,20,{"v":201,"d":"201 "},{"v":31,"d":"31 "},{"v":1,"d":"001 "},"長野県","長野市","豊栄村","赤柴",null,"","",{"$f":"IF(K446=\"\",\"\",COUNTIF($K$7:K446,\"ﾘｽﾄ１\"))","v":""},"","","","","","","",{"$f":"IF(S446=\"\",\"\",COUNTIF($S$7:S446,\"該当２\"))","v":""},"","",{"$f":"IF(V446=\"\",\"\",COUNTIF($V$7:V446,\"該当３\"))","v":""}]
[2020131002,20,{"v":201,"d":"201 "},{"v":31,"d":"31 "},{"v":2,"d":"002 "},"長野県","長野市","豊栄村","関屋",null,"","",{"$f":"IF(K447=\"\",\"\",COUNTIF($K$7:K447,\"ﾘｽﾄ１\"))","v":""},"","","","","","","",{"$f":"IF(S447=\"\",\"\",COUNTIF($S$7:S447,\"該当２\"))","v":""},"","",{"$f":"IF(V447=\"\",\"\",COUNTIF($V$7:V447,\"該当３\"))","v":""}]
[2020131003,20,{"v":201,"d":"201 "},{"v":31,"d":"31 "},{"v":3,"d":"003 "},"長野県","長野市","豊栄村","桑根井",null,"","",{"$f":"IF(K448=\"\",\"\",COUNTIF($K$7:K448,\"ﾘｽﾄ１\"))","v":""},"","","","","","","",{"$f":"IF(S448=\"\",\"\",COUNTIF($S$7:S448,\"該当２\"))","v":""},"","",{"$f":"IF(V448=\"\",\"\",COUNTIF($V$7:V448,\"該当３\"))","v":""}]
[2020131004,20,{"v":201,"d":"201 "},{"v":31,"d":"31 "},{"v":4,"d":"004 "},"長野県","長野市","豊栄村","牧内",null,"","",{"$f":"IF(K449=\"\",\"\",COUNTIF($K$7:K449,\"ﾘｽﾄ１\"))","v":""},"","","","","","","",{"$f":"IF(S449=\"\",\"\",COUNTIF($S$7:S449,\"該当２\"))","v":""},"","",{"$f":"IF(V449=\"\",\"\",COUNTIF($V$7:V449,\"該当３\"))","v":""}]
[2020131005,20,{"v":201,"d":"201 "},{"v":31,"d":"31 "},{"v":5,"d":"005 "},"長野県","長野市","豊栄村","平林",null,"","",{"$f":"IF(K450=\"\",\"\",COUNTIF($K$7:K450,\"ﾘｽﾄ１\"))","v":""},"","","","","","","",{"$f":"IF(S450=\"\",\"\",COUNTIF($S$7:S450,\"該当２\"))","v":""},"","",{"$f":"IF(V450=\"\",\"\",COUNTIF($V$7:V450,\"該当３\"))","v":""}]
[2020131006,20,{"v":201,"d":"201 "},{"v":31,"d":"31 "},{"v":6,"d":"006 "},"長野県","長野市","豊栄村","宮崎",null,"","",{"$f":"IF(K451=\"\",\"\",COUNTIF($K$7:K451,\"ﾘｽﾄ１\"))","v":""},"","","","","","","",{"$f":"IF(S451=\"\",\"\",COUNTIF($S$7:S451,\"該当２\"))","v":""},"","",{"$f":"IF(V451=\"\",\"\",COUNTIF($V$7:V451,\"該当３\"))","v":""}]
[2020132000,20,{"v":201,"d":"201 "},{"v":32,"d":"32 "},{"v":0,"d":"000 "},"長野県","長野市","寺尾村",null,null,"","",{"$f":"IF(K452=\"\",\"\",COUNTIF($K$7:K452,\"ﾘｽﾄ１\"))","v":""},"","","","","","","",{"$f":"IF(S452=\"\",\"\",COUNTIF($S$7:S452,\"該当２\"))","v":""},"","",{"$f":"IF(V452=\"\",\"\",COUNTIF($V$7:V452,\"該当３\"))","v":""}]
[2020132001,20,{"v":201,"d":"201 "},{"v":32,"d":"32 "},{"v":1,"d":"001 "},"長野県","長野市","寺尾村","東寺尾",null,"","",{"$f":"IF(K453=\"\",\"\",COUNTIF($K$7:K453,\"ﾘｽﾄ１\"))","v":""},"","","","","","","",{"$f":"IF(S453=\"\",\"\",COUNTIF($S$7:S453,\"該当２\"))","v":""},"","",{"$f":"IF(V453=\"\",\"\",COUNTIF($V$7:V453,\"該当３\"))","v":""}]
[2020132002,20,{"v":201,"d":"201 "},{"v":32,"d":"32 "},{"v":2,"d":"002 "},"長野県","長野市","寺尾村","柴",null,"","",{"$f":"IF(K454=\"\",\"\",COUNTIF($K$7:K454,\"ﾘｽﾄ１\"))","v":""},"","","","","","","",{"$f":"IF(S454=\"\",\"\",COUNTIF($S$7:S454,\"該当２\"))","v":""},"","",{"$f":"IF(V454=\"\",\"\",COUNTIF($V$7:V454,\"該当３\"))","v":""}]
[2020132003,20,{"v":201,"d":"201 "},{"v":32,"d":"32 "},{"v":3,"d":"003 "},"長野県","長野市","寺尾村","小島田",null,"","",{"$f":"IF(K455=\"\",\"\",COUNTIF($K$7:K455,\"ﾘｽﾄ１\"))","v":""},"","","","","","","",{"$f":"IF(S455=\"\",\"\",COUNTIF($S$7:S455,\"該当２\"))","v":""},"","",{"$f":"IF(V455=\"\",\"\",COUNTIF($V$7:V455,\"該当３\"))","v":""}]
[2020132004,20,{"v":201,"d":"201 "},{"v":32,"d":"32 "},{"v":4,"d":"004 "},"長野県","長野市","寺尾村","牧島",null,"","",{"$f":"IF(K456=\"\",\"\",COUNTIF($K$7:K456,\"ﾘｽﾄ１\"))","v":""},"","","","","","","",{"$f":"IF(S456=\"\",\"\",COUNTIF($S$7:S456,\"該当２\"))","v":""},"","",{"$f":"IF(V456=\"\",\"\",COUNTIF($V$7:V456,\"該当３\"))","v":""}]
[2020132005,20,{"v":201,"d":"201 "},{"v":32,"d":"32 "},{"v":5,"d":"005 "},"長野県","長野市","寺尾村","大室",null,"","",{"$f":"IF(K457=\"\",\"\",COUNTIF($K$7:K457,\"ﾘｽﾄ１\"))","v":""},"","",{"$f":"IF(O457=\"該当１\",G457,\"\")","v":""},{"$f":"IF(O457=\"該当１\",\"ﾘｽﾄ2\",\"\")","v":""},{"$f":"IF(Q457=\"ﾘｽﾄ2\",H457,\"\")","v":""},"",{"$f":"IF(S457=\"該当２\",H457,\"\")","v":""},{"$f":"IF(S457=\"\",\"\",COUNTIF($S$7:S457,\"該当２\"))","v":""},{"$f":"IF(AND($S$2=H457,E457>0,E457<998),\"該当３\",\"\")","v":""},{"$f":"IF(V457=\"該当３\",I457,\"\")","v":""},{"$f":"IF(V457=\"\",\"\",COUNTIF($V$7:V457,\"該当３\"))","v":""}]
[2020133000,20,{"v":201,"d":"201 "},{"v":33,"d":"33 "},{"v":0,"d":"000 "},"長野県","長野市","西寺尾村２－２",null,null,{"$f":"IF(AND($C458>0,$H458=\"\"),\"ﾘｽﾄ１\",\"\")","v":""},{"$f":"IF(K458=\"ﾘｽﾄ１\",G458,\"\")","v":""},{"$f":"IF(K458=\"\",\"\",COUNTIF($K$7:K458,\"ﾘｽﾄ１\"))","v":""},{"$f":"IF(AND(D458=0,E458>0),\"同一区\",\"\")","v":""},{"$f":"IF(AND(EXACT($K$2,G458),H458>0),\"該当１\",\"\")","v":""},"","","",{"$f":"IF(AND(Q458=\"ﾘｽﾄ2\",OR(I458=0,AND(N458=\"同一区\",E458=1))),\"該当２\",\"\")","v":""},"",{"$f":"IF(S458=\"\",\"\",COUNTIF($S$7:S458,\"該当２\"))","v":""},"","",{"$f":"IF(V458=\"\",\"\",COUNTIF($V$7:V458,\"該当３\"))","v":""}]
[2020133001,20,{"v":201,"d":"201 "},{"v":33,"d":"33 "},{"v":1,"d":"001 "},"長野県","長野市","西寺尾村２－２","西寺尾",null,"","",{"$f":"IF(K459=\"\",\"\",COUNTIF($K$7:K459,\"ﾘｽﾄ１\"))","v":""},"","","","","","","",{"$f":"IF(S459=\"\",\"\",COUNTIF($S$7:S459,\"該当２\"))","v":""},"","",{"$f":"IF(V459=\"\",\"\",COUNTIF($V$7:V459,\"該当３\"))","v":""}]
[2020134000,20,{"v":201,"d":"201 "},{"v":34,"d":"34 "},{"v":0,"d":"000 "},"長野県","長野市","西条村",null,null,"","",{"$f":"IF(K460=\"\",\"\",COUNTIF($K$7:K460,\"ﾘｽﾄ１\"))","v":""},"","","","","","","",{"$f":"IF(S460=\"\",\"\",COUNTIF($S$7:S460,\"該当２\"))","v":""},"","",{"$f":"IF(V460=\"\",\"\",COUNTIF($V$7:V460,\"該当３\"))","v":""}]
[2020134001,20,{"v":201,"d":"201 "},{"v":34,"d":"34 "},{"v":1,"d":"001 "},"長野県","長野市","西条村","表",null,"","",{"$f":"IF(K461=\"\",\"\",COUNTIF($K$7:K461,\"ﾘｽﾄ１\"))","v":""},"","","","","","","",{"$f":"IF(S461=\"\",\"\",COUNTIF($S$7:S461,\"該当２\"))","v":""},"","",{"$f":"IF(V461=\"\",\"\",COUNTIF($V$7:V461,\"該当３\"))","v":""}]
[2020134002,20,{"v":201,"d":"201 "},{"v":34,"d":"34 "},{"v":2,"d":"002 "},"長野県","長野市","西条村","同心町",null,"","",{"$f":"IF(K462=\"\",\"\",COUNTIF($K$7:K462,\"ﾘｽﾄ１\"))","v":""},"","","","","","","",{"$f":"IF(S462=\"\",\"\",COUNTIF($S$7:S462,\"該当２\"))","v":""},"","",{"$f":"IF(V462=\"\",\"\",COUNTIF($V$7:V462,\"該当３\"))","v":""}]
[2020134003,20,{"v":201,"d":"201 "},{"v":34,"d":"34 "},{"v":3,"d":"003 "},"長野県","長野市","西条村","北",null,"","",{"$f":"IF(K463=\"\",\"\",COUNTIF($K$7:K463,\"ﾘｽﾄ１\"))","v":""},"","","","","","","",{"$f":"IF(S463=\"\",\"\",COUNTIF($S$7:S463,\"該当２\"))","v":""},"","",{"$f":"IF(V463=\"\",\"\",COUNTIF($V$7:V463,\"該当３\"))","v":""}]
[2020134004,20,{"v":201,"d":"201 "},{"v":34,"d":"34 "},{"v":4,"d":"004 "},"長野県","長野市","西条村","市場",null,"","",{"$f":"IF(K464=\"\",\"\",COUNTIF($K$7:K464,\"ﾘｽﾄ１\"))","v":""},"","","","","","","",{"$f":"IF(S464=\"\",\"\",COUNTIF($S$7:S464,\"該当２\"))","v":""},"","",{"$f":"IF(V464=\"\",\"\",COUNTIF($V$7:V464,\"該当３\"))","v":""}]
[2020134005,20,{"v":201,"d":"201 "},{"v":34,"d":"34 "},{"v":5,"d":"005 "},"長野県","長野市","西条村","六鹿",null,"","",{"$f":"IF(K465=\"\",\"\",COUNTIF($K$7:K465,\"ﾘｽﾄ１\"))","v":""},"","","","","","","",{"$f":"IF(S465=\"\",\"\",COUNTIF($S$7:S465,\"該当２\"))","v":""},"","",{"$f":"IF(V465=\"\",\"\",COUNTIF($V$7:V465,\"該当３\"))","v":""}]
[2020134006,20,{"v":201,"d":"201 "},{"v":34,"d":"34 "},{"v":6,"d":"006 "},"長野県","長野市","西条村","稲葉",null,"","",{"$f":"IF(K466=\"\",\"\",COUNTIF($K$7:K466,\"ﾘｽﾄ１\"))","v":""},"","","","","","","",{"$f":"IF(S466=\"\",\"\",COUNTIF($S$7:S466,\"該当２\"))","v":""},"","",{"$f":"IF(V466=\"\",\"\",COUNTIF($V$7:V466,\"該当３\"))","v":""}]
[2020134007,20,{"v":201,"d":"201 "},{"v":34,"d":"34 "},{"v":7,"d":"007 "},"長野県","長野市","西条村","入",null,"","",{"$f":"IF(K467=\"\",\"\",COUNTIF($K$7:K467,\"ﾘｽﾄ１\"))","v":""},"","","","","","","",{"$f":"IF(S467=\"\",\"\",COUNTIF($S$7:S467,\"該当２\"))","v":""},"","",{"$f":"IF(V467=\"\",\"\",COUNTIF($V$7:V467,\"該当３\"))","v":""}]
[2020134008,20,{"v":201,"d":"201 "},{"v":34,"d":"34 "},{"v":8,"d":"008 "},"長野県","長野市","西条村","欠",null,"","",{"$f":"IF(K468=\"\",\"\",COUNTIF($K$7:K468,\"ﾘｽﾄ１\"))","v":""},"","","","","","","",{"$f":"IF(S468=\"\",\"\",COUNTIF($S$7:S468,\"該当２\"))","v":""},"","",{"$f":"IF(V468=\"\",\"\",COUNTIF($V$7:V468,\"該当３\"))","v":""}]
[2020135000,20,{"v":201,"d":"201 "},{"v":35,"d":"35 "},{"v":0,"d":"000 "},"長野県","長野市","保科村",null,null,"","",{"$f":"IF(K469=\"\",\"\",COUNTIF($K$7:K469,\"ﾘｽﾄ１\"))","v":""},"","","","","","","",{"$f":"IF(S469=\"\",\"\",COUNTIF($S$7:S469,\"該当２\"))","v":""},"","",{"$f":"IF(V469=\"\",\"\",COUNTIF($V$7:V469,\"該当３\"))","v":""}]
[2020135001,20,{"v":201,"d":"201 "},{"v":35,"d":"35 "},{"v":1,"d":"001 "},"長野県","長野市","保科村","須釜",null,"","",{"$f":"IF(K470=\"\",\"\",COUNTIF($K$7:K470,\"ﾘｽﾄ１\"))","v":""},"","","","","","","",{"$f":"IF(S470=\"\",\"\",COUNTIF($S$7:S470,\"該当２\"))","v":""},"","",{"$f":"IF(V470=\"\",\"\",COUNTIF($V$7:V470,\"該当３\"))","v":""}]
[2020135002,20,{"v":201,"d":"201 "},{"v":35,"d":"35 "},{"v":2,"d":"002 "},"長野県","長野市","保科村","在家",null,"","",{"$f":"IF(K471=\"\",\"\",COUNTIF($K$7:K471,\"ﾘｽﾄ１\"))","v":""},"","","","","","","",{"$f":"IF(S471=\"\",\"\",COUNTIF($S$7:S471,\"該当２\"))","v":""},"","",{"$f":"IF(V471=\"\",\"\",COUNTIF($V$7:V471,\"該当３\"))","v":""}]
[2020135003,20,{"v":201,"d":"201 "},{"v":35,"d":"35 "},{"v":3,"d":"003 "},"長野県","長野市","保科村","外山",null,"","",{"$f":"IF(K472=\"\",\"\",COUNTIF($K$7:K472,\"ﾘｽﾄ１\"))","v":""},"","","","","","","",{"$f":"IF(S472=\"\",\"\",COUNTIF($S$7:S472,\"該当２\"))","v":""},"","",{"$f":"IF(V472=\"\",\"\",COUNTIF($V$7:V472,\"該当３\"))","v":""}]
[2020135004,20,{"v":201,"d":"201 "},{"v":35,"d":"35 "},{"v":4,"d":"004 "},"長野県","長野市","保科村","高岡",null,"","",{"$f":"IF(K473=\"\",\"\",COUNTIF($K$7:K473,\"ﾘｽﾄ１\"))","v":""},"","","","","","","",{"$f":"IF(S473=\"\",\"\",COUNTIF($S$7:S473,\"該当２\"))","v":""},"","",{"$f":"IF(V473=\"\",\"\",COUNTIF($V$7:V473,\"該当３\"))","v":""}]
[2020135005,20,{"v":201,"d":"201 "},{"v":35,"d":"35 "},{"v":5,"d":"005 "},"長野県","長野市","保科村","五区",null,"","",{"$f":"IF(K474=\"\",\"\",COUNTIF($K$7:K474,\"ﾘｽﾄ１\"))","v":""},"","","","","","","",{"$f":"IF(S474=\"\",\"\",COUNTIF($S$7:S474,\"該当２\"))","v":""},"","",{"$f":"IF(V474=\"\",\"\",COUNTIF($V$7:V474,\"該当３\"))","v":""}]
[2020135006,20,{"v":201,"d":"201 "},{"v":35,"d":"35 "},{"v":6,"d":"006 "},"長野県","長野市","保科村","引沢",null,"","",{"$f":"IF(K475=\"\",\"\",COUNTIF($K$7:K475,\"ﾘｽﾄ１\"))","v":""},"","","","","","","",{"$f":"IF(S475=\"\",\"\",COUNTIF($S$7:S475,\"該当２\"))","v":""},"","",{"$f":"IF(V475=\"\",\"\",COUNTIF($V$7:V475,\"該当３\"))","v":""}]
[2020135007,20,{"v":201,"d":"201 "},{"v":35,"d":"35 "},{"v":7,"d":"007 "},"長野県","長野市","保科村","久保",null,"","",{"$f":"IF(K476=\"\",\"\",COUNTIF($K$7:K476,\"ﾘｽﾄ１\"))","v":""},"","","","","","","",{"$f":"IF(S476=\"\",\"\",COUNTIF($S$7:S476,\"該当２\"))","v":""},"","",{"$f":"IF(V476=\"\",\"\",COUNTIF($V$7:V476,\"該当３\"))","v":""}]
[2020135008,20,{"v":201,"d":"201 "},{"v":35,"d":"35 "},{"v":8,"d":"008 "},"長野県","長野市","保科村","町滝崎",null,"","",{"$f":"IF(K477=\"\",\"\",COUNTIF($K$7:K477,\"ﾘｽﾄ１\"))","v":""},"","","","","","","",{"$f":"IF(S477=\"\",\"\",COUNTIF($S$7:S477,\"該当２\"))","v":""},"","",{"$f":"IF(V477=\"\",\"\",COUNTIF($V$7:V477,\"該当３\"))","v":""}]
[2020135009,20,{"v":201,"d":"201 "},{"v":35,"d":"35 "},{"v":9,"d":"009 "},"長野県","長野市","保科村","矢原",null,"","",{"$f":"IF(K478=\"\",\"\",COUNTIF($K$7:K478,\"ﾘｽﾄ１\"))","v":""},"","","","","","","",{"$f":"IF(S478=\"\",\"\",COUNTIF($S$7:S478,\"該当２\"))","v":""},"","",{"$f":"IF(V478=\"\",\"\",COUNTIF($V$7:V478,\"該当３\"))","v":""}]
[2020135010,20,{"v":201,"d":"201 "},{"v":35,"d":"35 "},{"v":10,"d":"010 "},"長野県","長野市","保科村","赤野田",null,"","",{"$f":"IF(K479=\"\",\"\",COUNTIF($K$7:K479,\"ﾘｽﾄ１\"))","v":""},"","","","","","","",{"$f":"IF(S479=\"\",\"\",COUNTIF($S$7:S479,\"該当２\"))","v":""},"","",{"$f":"IF(V479=\"\",\"\",COUNTIF($V$7:V479,\"該当３\"))","v":""}]
[2020135011,20,{"v":201,"d":"201 "},{"v":35,"d":"35 "},{"v":11,"d":"011 "},"長野県","長野市","保科村","八幡",null,"","",{"$f":"IF(K480=\"\",\"\",COUNTIF($K$7:K480,\"ﾘｽﾄ１\"))","v":""},"","","","","","","",{"$f":"IF(S480=\"\",\"\",COUNTIF($S$7:S480,\"該当２\"))","v":""},"","",{"$f":"IF(V480=\"\",\"\",COUNTIF($V$7:V480,\"該当３\"))","v":""}]
[2020135012,20,{"v":201,"d":"201 "},{"v":35,"d":"35 "},{"v":12,"d":"012 "},"長野県","長野市","保科村","高下",null,"","",{"$f":"IF(K481=\"\",\"\",COUNTIF($K$7:K481,\"ﾘｽﾄ１\"))","v":""},"","","","","","","",{"$f":"IF(S481=\"\",\"\",COUNTIF($S$7:S481,\"該当２\"))","v":""},"","",{"$f":"IF(V481=\"\",\"\",COUNTIF($V$7:V481,\"該当３\"))","v":""}]
[2020135013,20,{"v":201,"d":"201 "},{"v":35,"d":"35 "},{"v":13,"d":"013 "},"長野県","長野市","保科村","上和田",null,"","",{"$f":"IF(K482=\"\",\"\",COUNTIF($K$7:K482,\"ﾘｽﾄ１\"))","v":""},"","","","","","","",{"$f":"IF(S482=\"\",\"\",COUNTIF($S$7:S482,\"該当２\"))","v":""},"","",{"$f":"IF(V482=\"\",\"\",COUNTIF($V$7:V482,\"該当３\"))","v":""}]
[2020136000,20,{"v":201,"d":"201 "},{"v":36,"d":"36 "},{"v":0,"d":"000 "},"長野県","長野市","川田村",null,null,"","",{"$f":"IF(K483=\"\",\"\",COUNTIF($K$7:K483,\"ﾘｽﾄ１\"))","v":""},"","","","","","","",{"$f":"IF(S483=\"\",\"\",COUNTIF($S$7:S483,\"該当２\"))","v":""},"","",{"$f":"IF(V483=\"\",\"\",COUNTIF($V$7:V483,\"該当３\"))","v":""}]
[2020136001,20,{"v":201,"d":"201 "},{"v":36,"d":"36 "},{"v":1,"d":"001 "},"長野県","長野市","川田村","牛島",null,"","",{"$f":"IF(K484=\"\",\"\",COUNTIF($K$7:K484,\"ﾘｽﾄ１\"))","v":""},"","","","","","","",{"$f":"IF(S484=\"\",\"\",COUNTIF($S$7:S484,\"該当２\"))","v":""},"","",{"$f":"IF(V484=\"\",\"\",COUNTIF($V$7:V484,\"該当３\"))","v":""}]
[2020136002,20,{"v":201,"d":"201 "},{"v":36,"d":"36 "},{"v":2,"d":"002 "},"長野県","長野市","川田村","小出",null,"","",{"$f":"IF(K485=\"\",\"\",COUNTIF($K$7:K485,\"ﾘｽﾄ１\"))","v":""},"","","","","","","",{"$f":"IF(S485=\"\",\"\",COUNTIF($S$7:S485,\"該当２\"))","v":""},"","",{"$f":"IF(V485=\"\",\"\",COUNTIF($V$7:V485,\"該当３\"))","v":""}]
[2020136003,20,{"v":201,"d":"201 "},{"v":36,"d":"36 "},{"v":3,"d":"003 "},"長野県","長野市","川田村","大門",null,"","",{"$f":"IF(K486=\"\",\"\",COUNTIF($K$7:K486,\"ﾘｽﾄ１\"))","v":""},"","","","","","","",{"$f":"IF(S486=\"\",\"\",COUNTIF($S$7:S486,\"該当２\"))","v":""},"","",{"$f":"IF(V486=\"\",\"\",COUNTIF($V$7:V486,\"該当３\"))","v":""}]
[2020136004,20,{"v":201,"d":"201 "},{"v":36,"d":"36 "},{"v":4,"d":"004 "},"長野県","長野市","川田村","塚本",null,"","",{"$f":"IF(K487=\"\",\"\",COUNTIF($K$7:K487,\"ﾘｽﾄ１\"))","v":""},"","","","","","","",{"$f":"IF(S487=\"\",\"\",COUNTIF($S$7:S487,\"該当２\"))","v":""},"","",{"$f":"IF(V487=\"\",\"\",COUNTIF($V$7:V487,\"該当３\"))","v":""}]
[2020136005,20,{"v":201,"d":"201 "},{"v":36,"d":"36 "},{"v":5,"d":"005 "},"長野県","長野市","川田村","下和田",null,"","",{"$f":"IF(K488=\"\",\"\",COUNTIF($K$7:K488,\"ﾘｽﾄ１\"))","v":""},"","","","","","","",{"$f":"IF(S488=\"\",\"\",COUNTIF($S$7:S488,\"該当２\"))","v":""},"","",{"$f":"IF(V488=\"\",\"\",COUNTIF($V$7:V488,\"該当３\"))","v":""}]
[2020136006,20,{"v":201,"d":"201 "},{"v":36,"d":"36 "},{"v":6,"d":"006 "},"長野県","長野市","川田村","町川田",null,"","",{"$f":"IF(K489=\"\",\"\",COUNTIF($K$7:K489,\"ﾘｽﾄ１\"))","v":""},"","","","","","","",{"$f":"IF(S489=\"\",\"\",COUNTIF($S$7:S489,\"該当２\"))","v":""},"","",{"$f":"IF(V489=\"\",\"\",COUNTIF($V$7:V489,\"該当３\"))","v":""}]
[2020136007,20,{"v":201,"d":"201 "},{"v":36,"d":"36 "},{"v":7,"d":"007 "},"長野県","長野市","川田村","領家",null,"","",{"$f":"IF(K490=\"\",\"\",COUNTIF($K$7:K490,\"ﾘｽﾄ１\"))","v":""},"","","","","","","",{"$f":"IF(S490=\"\",\"\",COUNTIF($S$7:S490,\"該当２\"))","v":""},"","",{"$f":"IF(V490=\"\",\"\",COUNTIF($V$7:V490,\"該当３\"))","v":""}]
[2020137000,20,{"v":201,"d":"201 "},{"v":37,"d":"37 "},{"v":0,"d":"000 "},"長野県","長野市","綿内村",null,null,"","",{"$f":"IF(K491=\"\",\"\",COUNTIF($K$7:K491,\"ﾘｽﾄ１\"))","v":""},"","","","","","","",{"$f":"IF(S491=\"\",\"\",COUNTIF($S$7:S491,\"該当２\"))","v":""},"","",{"$f":"IF(V491=\"\",\"\",COUNTIF($V$7:V491,\"該当３\"))","v":""}]
[2020137001,20,{"v":201,"d":"201 "},{"v":37,"d":"37 "},{"v":1,"d":"001 "},"長野県","長野市","綿内村","芦ノ町１",null,"","",{"$f":"IF(K492=\"\",\"\",COUNTIF($K$7:K492,\"ﾘｽﾄ１\"))","v":""},"","","","","","","",{"$f":"IF(S492=\"\",\"\",COUNTIF($S$7:S492,\"該当２\"))","v":""},"","",{"$f":"IF(V492=\"\",\"\",COUNTIF($V$7:V492,\"該当３\"))","v":""}]
[2020137002,20,{"v":201,"d":"201 "},{"v":37,"d":"37 "},{"v":2,"d":"002 "},"長野県","長野市","綿内村","芦ノ町２",null,"","",{"$f":"IF(K493=\"\",\"\",COUNTIF($K$7:K493,\"ﾘｽﾄ１\"))","v":""},"","","","","","","",{"$f":"IF(S493=\"\",\"\",COUNTIF($S$7:S493,\"該当２\"))","v":""},"","",{"$f":"IF(V493=\"\",\"\",COUNTIF($V$7:V493,\"該当３\"))","v":""}]
[2020137003,20,{"v":201,"d":"201 "},{"v":37,"d":"37 "},{"v":3,"d":"003 "},"長野県","長野市","綿内村","牛池",null,"","",{"$f":"IF(K494=\"\",\"\",COUNTIF($K$7:K494,\"ﾘｽﾄ１\"))","v":""},"","","","","","","",{"$f":"IF(S494=\"\",\"\",COUNTIF($S$7:S494,\"該当２\"))","v":""},"","",{"$f":"IF(V494=\"\",\"\",COUNTIF($V$7:V494,\"該当３\"))","v":""}]
[2020137004,20,{"v":201,"d":"201 "},{"v":37,"d":"37 "},{"v":4,"d":"004 "},"長野県","長野市","綿内村","町田",null,"","",{"$f":"IF(K495=\"\",\"\",COUNTIF($K$7:K495,\"ﾘｽﾄ１\"))","v":""},"","","","","","","",{"$f":"IF(S495=\"\",\"\",COUNTIF($S$7:S495,\"該当２\"))","v":""},"","",{"$f":"IF(V495=\"\",\"\",COUNTIF($V$7:V495,\"該当３\"))","v":""}]
[2020137005,20,{"v":201,"d":"201 "},{"v":37,"d":"37 "},{"v":5,"d":"005 "},"長野県","長野市","綿内村","大橋１",null,"","",{"$f":"IF(K496=\"\",\"\",COUNTIF($K$7:K496,\"ﾘｽﾄ１\"))","v":""},"","","","","","","",{"$f":"IF(S496=\"\",\"\",COUNTIF($S$7:S496,\"該当２\"))","v":""},"","",{"$f":"IF(V496=\"\",\"\",COUNTIF($V$7:V496,\"該当３\"))","v":""}]
[2020137006,20,{"v":201,"d":"201 "},{"v":37,"d":"37 "},{"v":6,"d":"006 "},"長野県","長野市","綿内村","大橋２",null,"","",{"$f":"IF(K497=\"\",\"\",COUNTIF($K$7:K497,\"ﾘｽﾄ１\"))","v":""},"","","","","","","",{"$f":"IF(S497=\"\",\"\",COUNTIF($S$7:S497,\"該当２\"))","v":""},"","",{"$f":"IF(V497=\"\",\"\",COUNTIF($V$7:V497,\"該当３\"))","v":""}]
[2020137007,20,{"v":201,"d":"201 "},{"v":37,"d":"37 "},{"v":7,"d":"007 "},"長野県","長野市","綿内村","森",null,"","",{"$f":"IF(K498=\"\",\"\",COUNTIF($K$7:K498,\"ﾘｽﾄ１\"))","v":""},"","","","","","","",{"$f":"IF(S498=\"\",\"\",COUNTIF($S$7:S498,\"該当２\"))","v":""},"","",{"$f":"IF(V498=\"\",\"\",COUNTIF($V$7:V498,\"該当３\"))","v":""}]
[2020137008,20,{"v":201,"d":"201 "},{"v":37,"d":"37 "},{"v":8,"d":"008 "},"長野県","長野市","綿内村","温湯",null,"","",{"$f":"IF(K499=\"\",\"\",COUNTIF($K$7:K499,\"ﾘｽﾄ１\"))","v":""},"","","","","","","",{"$f":"IF(S499=\"\",\"\",COUNTIF($S$7:S499,\"該当２\"))","v":""},"","",{"$f":"IF(V499=\"\",\"\",COUNTIF($V$7:V499,\"該当３\"))","v":""}]
[2020137009,20,{"v":201,"d":"201 "},{"v":37,"d":"37 "},{"v":9,"d":"009 "},"長野県","長野市","綿内村","清水",null,"","",{"$f":"IF(K500=\"\",\"\",COUNTIF($K$7:K500,\"ﾘｽﾄ１\"))","v":""},"","","","","","","",{"$f":"IF(S500=\"\",\"\",COUNTIF($S$7:S500,\"該当２\"))","v":""},"","",{"$f":"IF(V500=\"\",\"\",COUNTIF($V$7:V500,\"該当３\"))","v":""}]
[2020137010,20,{"v":201,"d":"201 "},{"v":37,"d":"37 "},{"v":10,"d":"010 "},"長野県","長野市","綿内村","山新田",null,"","",{"$f":"IF(K501=\"\",\"\",COUNTIF($K$7:K501,\"ﾘｽﾄ１\"))","v":""},"","","","","","","",{"$f":"IF(S501=\"\",\"\",COUNTIF($S$7:S501,\"該当２\"))","v":""},"","",{"$f":"IF(V501=\"\",\"\",COUNTIF($V$7:V501,\"該当３\"))","v":""}]
[2020137011,20,{"v":201,"d":"201 "},{"v":37,"d":"37 "},{"v":11,"d":"011 "},"長野県","長野市","綿内村","大柳",null,"","",{"$f":"IF(K502=\"\",\"\",COUNTIF($K$7:K502,\"ﾘｽﾄ１\"))","v":""},"","","","","","","",{"$f":"IF(S502=\"\",\"\",COUNTIF($S$7:S502,\"該当２\"))","v":""},"","",{"$f":"IF(V502=\"\",\"\",COUNTIF($V$7:V502,\"該当３\"))","v":""}]
[2020137012,20,{"v":201,"d":"201 "},{"v":37,"d":"37 "},{"v":12,"d":"012 "},"長野県","長野市","綿内村","菱田",null,"","",{"$f":"IF(K503=\"\",\"\",COUNTIF($K$7:K503,\"ﾘｽﾄ１\"))","v":""},"","","","","","","",{"$f":"IF(S503=\"\",\"\",COUNTIF($S$7:S503,\"該当２\"))","v":""},"","",{"$f":"IF(V503=\"\",\"\",COUNTIF($V$7:V503,\"該当３\"))","v":""}]
[2020137013,20,{"v":201,"d":"201 "},{"v":37,"d":"37 "},{"v":13,"d":"013 "},"長野県","長野市","綿内村","春山",null,"","",{"$f":"IF(K504=\"\",\"\",COUNTIF($K$7:K504,\"ﾘｽﾄ１\"))","v":""},"","","","","","","",{"$f":"IF(S504=\"\",\"\",COUNTIF($S$7:S504,\"該当２\"))","v":""},"","",{"$f":"IF(V504=\"\",\"\",COUNTIF($V$7:V504,\"該当３\"))","v":""}]
[2020137014,20,{"v":201,"d":"201 "},{"v":37,"d":"37 "},{"v":14,"d":"014 "},"長野県","長野市","綿内村","田中",null,"","",{"$f":"IF(K505=\"\",\"\",COUNTIF($K$7:K505,\"ﾘｽﾄ１\"))","v":""},"","","","","","","",{"$f":"IF(S505=\"\",\"\",COUNTIF($S$7:S505,\"該当２\"))","v":""},"","",{"$f":"IF(V505=\"\",\"\",COUNTIF($V$7:V505,\"該当３\"))","v":""}]
[2020137015,20,{"v":201,"d":"201 "},{"v":37,"d":"37 "},{"v":15,"d":"015 "},"長野県","長野市","綿内村","古屋",null,"","",{"$f":"IF(K506=\"\",\"\",COUNTIF($K$7:K506,\"ﾘｽﾄ１\"))","v":""},"","","","","","","",{"$f":"IF(S506=\"\",\"\",COUNTIF($S$7:S506,\"該当２\"))","v":""},"","",{"$f":"IF(V506=\"\",\"\",COUNTIF($V$7:V506,\"該当３\"))","v":""}]
[2020137016,20,{"v":201,"d":"201 "},{"v":37,"d":"37 "},{"v":16,"d":"016 "},"長野県","長野市","綿内村","万年島",null,"","",{"$f":"IF(K507=\"\",\"\",COUNTIF($K$7:K507,\"ﾘｽﾄ１\"))","v":""},"","","","","","","",{"$f":"IF(S507=\"\",\"\",COUNTIF($S$7:S507,\"該当２\"))","v":""},"","",{"$f":"IF(V507=\"\",\"\",COUNTIF($V$7:V507,\"該当３\"))","v":""}]
[2020137017,20,{"v":201,"d":"201 "},{"v":37,"d":"37 "},{"v":17,"d":"017 "},"長野県","長野市","綿内村","浦町",null,"","",{"$f":"IF(K508=\"\",\"\",COUNTIF($K$7:K508,\"ﾘｽﾄ１\"))","v":""},"","","","","","","",{"$f":"IF(S508=\"\",\"\",COUNTIF($S$7:S508,\"該当２\"))","v":""},"","",{"$f":"IF(V508=\"\",\"\",COUNTIF($V$7:V508,\"該当３\"))","v":""}]
[2020137018,20,{"v":201,"d":"201 "},{"v":37,"d":"37 "},{"v":18,"d":"018 "},"長野県","長野市","綿内村","上町",null,"","",{"$f":"IF(K509=\"\",\"\",COUNTIF($K$7:K509,\"ﾘｽﾄ１\"))","v":""},"","","","","","","",{"$f":"IF(S509=\"\",\"\",COUNTIF($S$7:S509,\"該当２\"))","v":""},"","",{"$f":"IF(V509=\"\",\"\",COUNTIF($V$7:V509,\"該当３\"))","v":""}]
[2020137019,20,{"v":201,"d":"201 "},{"v":37,"d":"37 "},{"v":19,"d":"019 "},"長野県","長野市","綿内村","町",null,"","",{"$f":"IF(K510=\"\",\"\",COUNTIF($K$7:K510,\"ﾘｽﾄ１\"))","v":""},"","","","","","","",{"$f":"IF(S510=\"\",\"\",COUNTIF($S$7:S510,\"該当２\"))","v":""},"","",{"$f":"IF(V510=\"\",\"\",COUNTIF($V$7:V510,\"該当３\"))","v":""}]
[2020137020,20,{"v":201,"d":"201 "},{"v":37,"d":"37 "},{"v":20,"d":"020 "},"長野県","長野市","綿内村","岩崎",null,"","",{"$f":"IF(K511=\"\",\"\",COUNTIF($K$7:K511,\"ﾘｽﾄ１\"))","v":""},"","","","","","","",{"$f":"IF(S511=\"\",\"\",COUNTIF($S$7:S511,\"該当２\"))","v":""},"","",{"$f":"IF(V511=\"\",\"\",COUNTIF($V$7:V511,\"該当３\"))","v":""}]
[2020138000,20,{"v":201,"d":"201 "},{"v":38,"d":"38 "},{"v":0,"d":"000 "},"長野県","長野市","七二会村",null,null,"","",{"$f":"IF(K512=\"\",\"\",COUNTIF($K$7:K512,\"ﾘｽﾄ１\"))","v":""},"","","","","","","",{"$f":"IF(S512=\"\",\"\",COUNTIF($S$7:S512,\"該当２\"))","v":""},"","",{"$f":"IF(V512=\"\",\"\",COUNTIF($V$7:V512,\"該当３\"))","v":""}]
[2020138001,20,{"v":201,"d":"201 "},{"v":38,"d":"38 "},{"v":1,"d":"001 "},"長野県","長野市","七二会村","飯森",null,"","",{"$f":"IF(K513=\"\",\"\",COUNTIF($K$7:K513,\"ﾘｽﾄ１\"))","v":""},"","","","","","","",{"$f":"IF(S513=\"\",\"\",COUNTIF($S$7:S513,\"該当２\"))","v":""},"","",{"$f":"IF(V513=\"\",\"\",COUNTIF($V$7:V513,\"該当３\"))","v":""}]
[2020138002,20,{"v":201,"d":"201 "},{"v":38,"d":"38 "},{"v":2,"d":"002 "},"長野県","長野市","七二会村","瀬脇",null,"","",{"$f":"IF(K514=\"\",\"\",COUNTIF($K$7:K514,\"ﾘｽﾄ１\"))","v":""},"","","","","","","",{"$f":"IF(S514=\"\",\"\",COUNTIF($S$7:S514,\"該当２\"))","v":""},"","",{"$f":"IF(V514=\"\",\"\",COUNTIF($V$7:V514,\"該当３\"))","v":""}]
[2020138003,20,{"v":201,"d":"201 "},{"v":38,"d":"38 "},{"v":3,"d":"003 "},"長野県","長野市","七二会村","蓮",null,"","",{"$f":"IF(K515=\"\",\"\",COUNTIF($K$7:K515,\"ﾘｽﾄ１\"))","v":""},"","","","","","","",{"$f":"IF(S515=\"\",\"\",COUNTIF($S$7:S515,\"該当２\"))","v":""},"","",{"$f":"IF(V515=\"\",\"\",COUNTIF($V$7:V515,\"該当３\"))","v":""}]
[2020138004,20,{"v":201,"d":"201 "},{"v":38,"d":"38 "},{"v":4,"d":"004 "},"長野県","長野市","七二会村","矢沢",null,"","",{"$f":"IF(K516=\"\",\"\",COUNTIF($K$7:K516,\"ﾘｽﾄ１\"))","v":""},"","","","","","","",{"$f":"IF(S516=\"\",\"\",COUNTIF($S$7:S516,\"該当２\"))","v":""},"","",{"$f":"IF(V516=\"\",\"\",COUNTIF($V$7:V516,\"該当３\"))","v":""}]
[2020138005,20,{"v":201,"d":"201 "},{"v":38,"d":"38 "},{"v":5,"d":"005 "},"長野県","長野市","七二会村","新屋",null,"","",{"$f":"IF(K517=\"\",\"\",COUNTIF($K$7:K517,\"ﾘｽﾄ１\"))","v":""},"","","","","","","",{"$f":"IF(S517=\"\",\"\",COUNTIF($S$7:S517,\"該当２\"))","v":""},"","",{"$f":"IF(V517=\"\",\"\",COUNTIF($V$7:V517,\"該当３\"))","v":""}]
[2020138006,20,{"v":201,"d":"201 "},{"v":38,"d":"38 "},{"v":6,"d":"006 "},"長野県","長野市","七二会村","赤坂",null,"","",{"$f":"IF(K518=\"\",\"\",COUNTIF($K$7:K518,\"ﾘｽﾄ１\"))","v":""},"","","","","","","",{"$f":"IF(S518=\"\",\"\",COUNTIF($S$7:S518,\"該当２\"))","v":""},"","",{"$f":"IF(V518=\"\",\"\",COUNTIF($V$7:V518,\"該当３\"))","v":""}]
[2020138007,20,{"v":201,"d":"201 "},{"v":38,"d":"38 "},{"v":7,"d":"007 "},"長野県","長野市","七二会村","論地",null,"","",{"$f":"IF(K519=\"\",\"\",COUNTIF($K$7:K519,\"ﾘｽﾄ１\"))","v":""},"","","","","","","",{"$f":"IF(S519=\"\",\"\",COUNTIF($S$7:S519,\"該当２\"))","v":""},"","",{"$f":"IF(V519=\"\",\"\",COUNTIF($V$7:V519,\"該当３\"))","v":""}]
[2020138008,20,{"v":201,"d":"201 "},{"v":38,"d":"38 "},{"v":8,"d":"008 "},"長野県","長野市","七二会村","滝屋",null,"","",{"$f":"IF(K520=\"\",\"\",COUNTIF($K$7:K520,\"ﾘｽﾄ１\"))","v":""},"","","","","","","",{"$f":"IF(S520=\"\",\"\",COUNTIF($S$7:S520,\"該当２\"))","v":""},"","",{"$f":"IF(V520=\"\",\"\",COUNTIF($V$7:V520,\"該当３\"))","v":""}]
[2020138009,20,{"v":201,"d":"201 "},{"v":38,"d":"38 "},{"v":9,"d":"009 "},"長野県","長野市","七二会村","坪根",null,"","",{"$f":"IF(K521=\"\",\"\",COUNTIF($K$7:K521,\"ﾘｽﾄ１\"))","v":""},"","",{"$f":"IF(O521=\"該当１\",G521,\"\")","v":""},{"$f":"IF(O521=\"該当１\",\"ﾘｽﾄ2\",\"\")","v":""},{"$f":"IF(Q521=\"ﾘｽﾄ2\",H521,\"\")","v":""},"",{"$f":"IF(S521=\"該当２\",H521,\"\")","v":""},{"$f":"IF(S521=\"\",\"\",COUNTIF($S$7:S521,\"該当２\"))","v":""},{"$f":"IF(AND($S$2=H521,E521>0,E521<998),\"該当３\",\"\")","v":""},{"$f":"IF(V521=\"該当３\",I521,\"\")","v":""},{"$f":"IF(V521=\"\",\"\",COUNTIF($V$7:V521,\"該当３\"))","v":""}]
[2020138010,20,{"v":201,"d":"201 "},{"v":38,"d":"38 "},{"v":10,"d":"010 "},"長野県","長野市","七二会村","倉並",null,{"$f":"IF(AND($C522>0,$H522=\"\"),\"ﾘｽﾄ１\",\"\")","v":""},{"$f":"IF(K522=\"ﾘｽﾄ１\",G522,\"\")","v":""},{"$f":"IF(K522=\"\",\"\",COUNTIF($K$7:K522,\"ﾘｽﾄ１\"))","v":""},{"$f":"IF(AND(D522=0,E522>0),\"同一区\",\"\")","v":""},{"$f":"IF(AND(EXACT($K$2,G522),H522>0),\"該当１\",\"\")","v":""},"","","",{"$f":"IF(AND(Q522=\"ﾘｽﾄ2\",OR(I522=0,AND(N522=\"同一区\",E522=1))),\"該当２\",\"\")","v":""},"",{"$f":"IF(S522=\"\",\"\",COUNTIF($S$7:S522,\"該当２\"))","v":""},"","",{"$f":"IF(V522=\"\",\"\",COUNTIF($V$7:V522,\"該当３\"))","v":""}]
[2020138011,20,{"v":201,"d":"201 "},{"v":38,"d":"38 "},{"v":11,"d":"011 "},"長野県","長野市","七二会村","五十平",null,"","",{"$f":"IF(K523=\"\",\"\",COUNTIF($K$7:K523,\"ﾘｽﾄ１\"))","v":""},"","","","","","","",{"$f":"IF(S523=\"\",\"\",COUNTIF($S$7:S523,\"該当２\"))","v":""},"","",{"$f":"IF(V523=\"\",\"\",COUNTIF($V$7:V523,\"該当３\"))","v":""}]
[2020138012,20,{"v":201,"d":"201 "},{"v":38,"d":"38 "},{"v":12,"d":"012 "},"長野県","長野市","七二会村","谷原",null,"","",{"$f":"IF(K524=\"\",\"\",COUNTIF($K$7:K524,\"ﾘｽﾄ１\"))","v":""},"","","","","","","",{"$f":"IF(S524=\"\",\"\",COUNTIF($S$7:S524,\"該当２\"))","v":""},"","",{"$f":"IF(V524=\"\",\"\",COUNTIF($V$7:V524,\"該当３\"))","v":""}]
[2020138013,20,{"v":201,"d":"201 "},{"v":38,"d":"38 "},{"v":13,"d":"013 "},"長野県","長野市","七二会村","定谷",null,"","",{"$f":"IF(K525=\"\",\"\",COUNTIF($K$7:K525,\"ﾘｽﾄ１\"))","v":""},"","","","","","","",{"$f":"IF(S525=\"\",\"\",COUNTIF($S$7:S525,\"該当２\"))","v":""},"","",{"$f":"IF(V525=\"\",\"\",COUNTIF($V$7:V525,\"該当３\"))","v":""}]
[2020138014,20,{"v":201,"d":"201 "},{"v":38,"d":"38 "},{"v":14,"d":"014 "},"長野県","長野市","七二会村","古間",null,"","",{"$f":"IF(K526=\"\",\"\",COUNTIF($K$7:K526,\"ﾘｽﾄ１\"))","v":""},"","","","","","","",{"$f":"IF(S526=\"\",\"\",COUNTIF($S$7:S526,\"該当２\"))","v":""},"","",{"$f":"IF(V526=\"\",\"\",COUNTIF($V$7:V526,\"該当３\"))","v":""}]
[2020138015,20,{"v":201,"d":"201 "},{"v":38,"d":"38 "},{"v":15,"d":"015 "},"長野県","長野市","七二会村","狸尾",null,"","",{"$f":"IF(K527=\"\",\"\",COUNTIF($K$7:K527,\"ﾘｽﾄ１\"))","v":""},"","","","","","","",{"$f":"IF(S527=\"\",\"\",COUNTIF($S$7:S527,\"該当２\"))","v":""},"","",{"$f":"IF(V527=\"\",\"\",COUNTIF($V$7:V527,\"該当３\"))","v":""}]
[2020138016,20,{"v":201,"d":"201 "},{"v":38,"d":"38 "},{"v":16,"d":"016 "},"長野県","長野市","七二会村","塩",null,"","",{"$f":"IF(K528=\"\",\"\",COUNTIF($K$7:K528,\"ﾘｽﾄ１\"))","v":""},"","","","","","","",{"$f":"IF(S528=\"\",\"\",COUNTIF($S$7:S528,\"該当２\"))","v":""},"","",{"$f":"IF(V528=\"\",\"\",COUNTIF($V$7:V528,\"該当３\"))","v":""}]
[2020138017,20,{"v":201,"d":"201 "},{"v":38,"d":"38 "},{"v":17,"d":"017 "},"長野県","長野市","七二会村","市場",null,"","",{"$f":"IF(K529=\"\",\"\",COUNTIF($K$7:K529,\"ﾘｽﾄ１\"))","v":""},"","","","","","","",{"$f":"IF(S529=\"\",\"\",COUNTIF($S$7:S529,\"該当２\"))","v":""},"","",{"$f":"IF(V529=\"\",\"\",COUNTIF($V$7:V529,\"該当３\"))","v":""}]
[2020138018,20,{"v":201,"d":"201 "},{"v":38,"d":"38 "},{"v":18,"d":"018 "},"長野県","長野市","七二会村","平出",null,"","",{"$f":"IF(K530=\"\",\"\",COUNTIF($K$7:K530,\"ﾘｽﾄ１\"))","v":""},"","","","","","","",{"$f":"IF(S530=\"\",\"\",COUNTIF($S$7:S530,\"該当２\"))","v":""},"","",{"$f":"IF(V530=\"\",\"\",COUNTIF($V$7:V530,\"該当３\"))","v":""}]
[2020138019,20,{"v":201,"d":"201 "},{"v":38,"d":"38 "},{"v":19,"d":"019 "},"長野県","長野市","七二会村","知足院",null,"","",{"$f":"IF(K531=\"\",\"\",COUNTIF($K$7:K531,\"ﾘｽﾄ１\"))","v":""},"","","","","","","",{"$f":"IF(S531=\"\",\"\",COUNTIF($S$7:S531,\"該当２\"))","v":""},"","",{"$f":"IF(V531=\"\",\"\",COUNTIF($V$7:V531,\"該当３\"))","v":""}]
[2020138020,20,{"v":201,"d":"201 "},{"v":38,"d":"38 "},{"v":20,"d":"020 "},"長野県","長野市","七二会村","大久保",null,"","",{"$f":"IF(K532=\"\",\"\",COUNTIF($K$7:K532,\"ﾘｽﾄ１\"))","v":""},"","","","","","","",{"$f":"IF(S532=\"\",\"\",COUNTIF($S$7:S532,\"該当２\"))","v":""},"","",{"$f":"IF(V532=\"\",\"\",COUNTIF($V$7:V532,\"該当３\"))","v":""}]
[2020138021,20,{"v":201,"d":"201 "},{"v":38,"d":"38 "},{"v":21,"d":"021 "},"長野県","長野市","七二会村","橋詰",null,"","",{"$f":"IF(K533=\"\",\"\",COUNTIF($K$7:K533,\"ﾘｽﾄ１\"))","v":""},"","","","","","","",{"$f":"IF(S533=\"\",\"\",COUNTIF($S$7:S533,\"該当２\"))","v":""},"","",{"$f":"IF(V533=\"\",\"\",COUNTIF($V$7:V533,\"該当３\"))","v":""}]
[2020138022,20,{"v":201,"d":"201 "},{"v":38,"d":"38 "},{"v":22,"d":"022 "},"長野県","長野市","七二会村","岩草",null,"","",{"$f":"IF(K534=\"\",\"\",COUNTIF($K$7:K534,\"ﾘｽﾄ１\"))","v":""},"","","","","","","",{"$f":"IF(S534=\"\",\"\",COUNTIF($S$7:S534,\"該当２\"))","v":""},"","",{"$f":"IF(V534=\"\",\"\",COUNTIF($V$7:V534,\"該当３\"))","v":""}]
[2020138023,20,{"v":201,"d":"201 "},{"v":38,"d":"38 "},{"v":23,"d":"023 "},"長野県","長野市","七二会村","中尾",null,"","",{"$f":"IF(K535=\"\",\"\",COUNTIF($K$7:K535,\"ﾘｽﾄ１\"))","v":""},"","","","","","","",{"$f":"IF(S535=\"\",\"\",COUNTIF($S$7:S535,\"該当２\"))","v":""},"","",{"$f":"IF(V535=\"\",\"\",COUNTIF($V$7:V535,\"該当３\"))","v":""}]
[2020138024,20,{"v":201,"d":"201 "},{"v":38,"d":"38 "},{"v":24,"d":"024 "},"長野県","長野市","七二会村","遠見",null,"","",{"$f":"IF(K536=\"\",\"\",COUNTIF($K$7:K536,\"ﾘｽﾄ１\"))","v":""},"","","","","","","",{"$f":"IF(S536=\"\",\"\",COUNTIF($S$7:S536,\"該当２\"))","v":""},"","",{"$f":"IF(V536=\"\",\"\",COUNTIF($V$7:V536,\"該当３\"))","v":""}]
[2020138025,20,{"v":201,"d":"201 "},{"v":38,"d":"38 "},{"v":25,"d":"025 "},"長野県","長野市","七二会村","上戸倉",null,"","",{"$f":"IF(K537=\"\",\"\",COUNTIF($K$7:K537,\"ﾘｽﾄ１\"))","v":""},"","","","","","","",{"$f":"IF(S537=\"\",\"\",COUNTIF($S$7:S537,\"該当２\"))","v":""},"","",{"$f":"IF(V537=\"\",\"\",COUNTIF($V$7:V537,\"該当３\"))","v":""}]
[2020138026,20,{"v":201,"d":"201 "},{"v":38,"d":"38 "},{"v":26,"d":"026 "},"長野県","長野市","七二会村","小坂組",null,"","",{"$f":"IF(K538=\"\",\"\",COUNTIF($K$7:K538,\"ﾘｽﾄ１\"))","v":""},"","","","","","","",{"$f":"IF(S538=\"\",\"\",COUNTIF($S$7:S538,\"該当２\"))","v":""},"","",{"$f":"IF(V538=\"\",\"\",COUNTIF($V$7:V538,\"該当３\"))","v":""}]
[2020138027,20,{"v":201,"d":"201 "},{"v":38,"d":"38 "},{"v":27,"d":"027 "},"長野県","長野市","七二会村","大安寺",null,"","",{"$f":"IF(K539=\"\",\"\",COUNTIF($K$7:K539,\"ﾘｽﾄ１\"))","v":""},"","","","","","","",{"$f":"IF(S539=\"\",\"\",COUNTIF($S$7:S539,\"該当２\"))","v":""},"","",{"$f":"IF(V539=\"\",\"\",COUNTIF($V$7:V539,\"該当３\"))","v":""}]
[2020138028,20,{"v":201,"d":"201 "},{"v":38,"d":"38 "},{"v":28,"d":"028 "},"長野県","長野市","七二会村","笹平",null,"","",{"$f":"IF(K540=\"\",\"\",COUNTIF($K$7:K540,\"ﾘｽﾄ１\"))","v":""},"","","","","","","",{"$f":"IF(S540=\"\",\"\",COUNTIF($S$7:S540,\"該当２\"))","v":""},"","",{"$f":"IF(V540=\"\",\"\",COUNTIF($V$7:V540,\"該当３\"))","v":""}]
[2020139000,20,{"v":201,"d":"201 "},{"v":39,"d":"39 "},{"v":0,"d":"000 "},"長野県","長野市","神郷村",null,null,"","",{"$f":"IF(K541=\"\",\"\",COUNTIF($K$7:K541,\"ﾘｽﾄ１\"))","v":""},"","","","","","","",{"$f":"IF(S541=\"\",\"\",COUNTIF($S$7:S541,\"該当２\"))","v":""},"","",{"$f":"IF(V541=\"\",\"\",COUNTIF($V$7:V541,\"該当３\"))","v":""}]
[2020139001,20,{"v":201,"d":"201 "},{"v":39,"d":"39 "},{"v":1,"d":"001 "},"長野県","長野市","神郷村","南郷",null,"","",{"$f":"IF(K542=\"\",\"\",COUNTIF($K$7:K542,\"ﾘｽﾄ１\"))","v":""},"","","","","","","",{"$f":"IF(S542=\"\",\"\",COUNTIF($S$7:S542,\"該当２\"))","v":""},"","",{"$f":"IF(V542=\"\",\"\",COUNTIF($V$7:V542,\"該当３\"))","v":""}]
[2020139002,20,{"v":201,"d":"201 "},{"v":39,"d":"39 "},{"v":2,"d":"002 "},"長野県","長野市","神郷村","石",null,"","",{"$f":"IF(K543=\"\",\"\",COUNTIF($K$7:K543,\"ﾘｽﾄ１\"))","v":""},"","","","","","","",{"$f":"IF(S543=\"\",\"\",COUNTIF($S$7:S543,\"該当２\"))","v":""},"","",{"$f":"IF(V543=\"\",\"\",COUNTIF($V$7:V543,\"該当３\"))","v":""}]
[2020139003,20,{"v":201,"d":"201 "},{"v":39,"d":"39 "},{"v":3,"d":"003 "},"長野県","長野市","神郷村","鷲寺",null,"","",{"$f":"IF(K544=\"\",\"\",COUNTIF($K$7:K544,\"ﾘｽﾄ１\"))","v":""},"","","","","","","",{"$f":"IF(S544=\"\",\"\",COUNTIF($S$7:S544,\"該当２\"))","v":""},"","",{"$f":"IF(V544=\"\",\"\",COUNTIF($V$7:V544,\"該当３\"))","v":""}]
[2020139004,20,{"v":201,"d":"201 "},{"v":39,"d":"39 "},{"v":4,"d":"004 "},"長野県","長野市","神郷村","西町",null,"","",{"$f":"IF(K545=\"\",\"\",COUNTIF($K$7:K545,\"ﾘｽﾄ１\"))","v":""},"","","","","","","",{"$f":"IF(S545=\"\",\"\",COUNTIF($S$7:S545,\"該当２\"))","v":""},"","",{"$f":"IF(V545=\"\",\"\",COUNTIF($V$7:V545,\"該当３\"))","v":""}]
[2020139005,20,{"v":201,"d":"201 "},{"v":39,"d":"39 "},{"v":5,"d":"005 "},"長野県","長野市","神郷村","上組",null,"","",{"$f":"IF(K546=\"\",\"\",COUNTIF($K$7:K546,\"ﾘｽﾄ１\"))","v":""},"","","","","","","",{"$f":"IF(S546=\"\",\"\",COUNTIF($S$7:S546,\"該当２\"))","v":""},"","",{"$f":"IF(V546=\"\",\"\",COUNTIF($V$7:V546,\"該当３\"))","v":""}]
[2020139006,20,{"v":201,"d":"201 "},{"v":39,"d":"39 "},{"v":6,"d":"006 "},"長野県","長野市","神郷村","立町",null,"","",{"$f":"IF(K547=\"\",\"\",COUNTIF($K$7:K547,\"ﾘｽﾄ１\"))","v":""},"","","","","","","",{"$f":"IF(S547=\"\",\"\",COUNTIF($S$7:S547,\"該当２\"))","v":""},"","",{"$f":"IF(V547=\"\",\"\",COUNTIF($V$7:V547,\"該当３\"))","v":""}]
[2020139007,20,{"v":201,"d":"201 "},{"v":39,"d":"39 "},{"v":7,"d":"007 "},"長野県","長野市","神郷村","中尾",null,"","",{"$f":"IF(K548=\"\",\"\",COUNTIF($K$7:K548,\"ﾘｽﾄ１\"))","v":""},"","","","","","","",{"$f":"IF(S548=\"\",\"\",COUNTIF($S$7:S548,\"該当２\"))","v":""},"","",{"$f":"IF(V548=\"\",\"\",COUNTIF($V$7:V548,\"該当３\"))","v":""}]
[2020139008,20,{"v":201,"d":"201 "},{"v":39,"d":"39 "},{"v":8,"d":"008 "},"長野県","長野市","神郷村","本町一",null,"","",{"$f":"IF(K549=\"\",\"\",COUNTIF($K$7:K549,\"ﾘｽﾄ１\"))","v":""},"","","","","","","",{"$f":"IF(S549=\"\",\"\",COUNTIF($S$7:S549,\"該当２\"))","v":""},"","",{"$f":"IF(V549=\"\",\"\",COUNTIF($V$7:V549,\"該当３\"))","v":""}]
[2020139009,20,{"v":201,"d":"201 "},{"v":39,"d":"39 "},{"v":9,"d":"009 "},"長野県","長野市","神郷村","本町二",null,"","",{"$f":"IF(K550=\"\",\"\",COUNTIF($K$7:K550,\"ﾘｽﾄ１\"))","v":""},"","","","","","","",{"$f":"IF(S550=\"\",\"\",COUNTIF($S$7:S550,\"該当２\"))","v":""},"","",{"$f":"IF(V550=\"\",\"\",COUNTIF($V$7:V550,\"該当３\"))","v":""}]
[2020139010,20,{"v":201,"d":"201 "},{"v":39,"d":"39 "},{"v":10,"d":"010 "},"長野県","長野市","神郷村","神代町",null,"","",{"$f":"IF(K551=\"\",\"\",COUNTIF($K$7:K551,\"ﾘｽﾄ１\"))","v":""},"","","","","","","",{"$f":"IF(S551=\"\",\"\",COUNTIF($S$7:S551,\"該当２\"))","v":""},"","",{"$f":"IF(V551=\"\",\"\",COUNTIF($V$7:V551,\"該当３\"))","v":""}]
[2020139011,20,{"v":201,"d":"201 "},{"v":39,"d":"39 "},{"v":11,"d":"011 "},"長野県","長野市","神郷村","田中",null,"","",{"$f":"IF(K552=\"\",\"\",COUNTIF($K$7:K552,\"ﾘｽﾄ１\"))","v":""},"","","","","","","",{"$f":"IF(S552=\"\",\"\",COUNTIF($S$7:S552,\"該当２\"))","v":""},"","",{"$f":"IF(V552=\"\",\"\",COUNTIF($V$7:V552,\"該当３\"))","v":""}]
[2020139012,20,{"v":201,"d":"201 "},{"v":39,"d":"39 "},{"v":12,"d":"012 "},"長野県","長野市","神郷村","東町",null,"","",{"$f":"IF(K553=\"\",\"\",COUNTIF($K$7:K553,\"ﾘｽﾄ１\"))","v":""},"","","","","","","",{"$f":"IF(S553=\"\",\"\",COUNTIF($S$7:S553,\"該当２\"))","v":""},"","",{"$f":"IF(V553=\"\",\"\",COUNTIF($V$7:V553,\"該当３\"))","v":""}]
[2020139013,20,{"v":201,"d":"201 "},{"v":39,"d":"39 "},{"v":13,"d":"013 "},"長野県","長野市","神郷村","横町",null,"","",{"$f":"IF(K554=\"\",\"\",COUNTIF($K$7:K554,\"ﾘｽﾄ１\"))","v":""},"","","","","","","",{"$f":"IF(S554=\"\",\"\",COUNTIF($S$7:S554,\"該当２\"))","v":""},"","",{"$f":"IF(V554=\"\",\"\",COUNTIF($V$7:V554,\"該当３\"))","v":""}]
[2020139014,20,{"v":201,"d":"201 "},{"v":39,"d":"39 "},{"v":14,"d":"014 "},"長野県","長野市","神郷村","伊豆毛",null,"","",{"$f":"IF(K555=\"\",\"\",COUNTIF($K$7:K555,\"ﾘｽﾄ１\"))","v":""},"","","","","","","",{"$f":"IF(S555=\"\",\"\",COUNTIF($S$7:S555,\"該当２\"))","v":""},"","",{"$f":"IF(V555=\"\",\"\",COUNTIF($V$7:V555,\"該当３\"))","v":""}]
[2020139015,20,{"v":201,"d":"201 "},{"v":39,"d":"39 "},{"v":15,"d":"015 "},"長野県","長野市","神郷村","小瀬",null,"","",{"$f":"IF(K556=\"\",\"\",COUNTIF($K$7:K556,\"ﾘｽﾄ１\"))","v":""},"","","","","","","",{"$f":"IF(S556=\"\",\"\",COUNTIF($S$7:S556,\"該当２\"))","v":""},"","",{"$f":"IF(V556=\"\",\"\",COUNTIF($V$7:V556,\"該当３\"))","v":""}]
[2020139016,20,{"v":201,"d":"201 "},{"v":39,"d":"39 "},{"v":16,"d":"016 "},"長野県","長野市","神郷村","泉平",null,"","",{"$f":"IF(K557=\"\",\"\",COUNTIF($K$7:K557,\"ﾘｽﾄ１\"))","v":""},"","","","","","","",{"$f":"IF(S557=\"\",\"\",COUNTIF($S$7:S557,\"該当２\"))","v":""},"","",{"$f":"IF(V557=\"\",\"\",COUNTIF($V$7:V557,\"該当３\"))","v":""}]
[2020139017,20,{"v":201,"d":"201 "},{"v":39,"d":"39 "},{"v":17,"d":"017 "},"長野県","長野市","神郷村","上神代",null,"","",{"$f":"IF(K558=\"\",\"\",COUNTIF($K$7:K558,\"ﾘｽﾄ１\"))","v":""},"","","","","","","",{"$f":"IF(S558=\"\",\"\",COUNTIF($S$7:S558,\"該当２\"))","v":""},"","",{"$f":"IF(V558=\"\",\"\",COUNTIF($V$7:V558,\"該当３\"))","v":""}]
[2020140000,20,{"v":201,"d":"201 "},{"v":40,"d":"40 "},{"v":0,"d":"000 "},"長野県","長野市","鳥居村",null,null,"","",{"$f":"IF(K559=\"\",\"\",COUNTIF($K$7:K559,\"ﾘｽﾄ１\"))","v":""},"","","","","","","",{"$f":"IF(S559=\"\",\"\",COUNTIF($S$7:S559,\"該当２\"))","v":""},"","",{"$f":"IF(V559=\"\",\"\",COUNTIF($V$7:V559,\"該当３\"))","v":""}]
[2020140001,20,{"v":201,"d":"201 "},{"v":40,"d":"40 "},{"v":1,"d":"001 "},"長野県","長野市","鳥居村","上浅野",null,"","",{"$f":"IF(K560=\"\",\"\",COUNTIF($K$7:K560,\"ﾘｽﾄ１\"))","v":""},"","","","","","","",{"$f":"IF(S560=\"\",\"\",COUNTIF($S$7:S560,\"該当２\"))","v":""},"","",{"$f":"IF(V560=\"\",\"\",COUNTIF($V$7:V560,\"該当３\"))","v":""}]
[2020140002,20,{"v":201,"d":"201 "},{"v":40,"d":"40 "},{"v":2,"d":"002 "},"長野県","長野市","鳥居村","神田",null,"","",{"$f":"IF(K561=\"\",\"\",COUNTIF($K$7:K561,\"ﾘｽﾄ１\"))","v":""},"","","","","","","",{"$f":"IF(S561=\"\",\"\",COUNTIF($S$7:S561,\"該当２\"))","v":""},"","",{"$f":"IF(V561=\"\",\"\",COUNTIF($V$7:V561,\"該当３\"))","v":""}]
[2020140003,20,{"v":201,"d":"201 "},{"v":40,"d":"40 "},{"v":3,"d":"003 "},"長野県","長野市","鳥居村","西組",null,"","",{"$f":"IF(K562=\"\",\"\",COUNTIF($K$7:K562,\"ﾘｽﾄ１\"))","v":""},"","","","","","","",{"$f":"IF(S562=\"\",\"\",COUNTIF($S$7:S562,\"該当２\"))","v":""},"","",{"$f":"IF(V562=\"\",\"\",COUNTIF($V$7:V562,\"該当３\"))","v":""}]
[2020140004,20,{"v":201,"d":"201 "},{"v":40,"d":"40 "},{"v":4,"d":"004 "},"長野県","長野市","鳥居村","中町",null,"","",{"$f":"IF(K563=\"\",\"\",COUNTIF($K$7:K563,\"ﾘｽﾄ１\"))","v":""},"","","","","","","",{"$f":"IF(S563=\"\",\"\",COUNTIF($S$7:S563,\"該当２\"))","v":""},"","",{"$f":"IF(V563=\"\",\"\",COUNTIF($V$7:V563,\"該当３\"))","v":""}]
[2020140005,20,{"v":201,"d":"201 "},{"v":40,"d":"40 "},{"v":5,"d":"005 "},"長野県","長野市","鳥居村","上町",null,"","",{"$f":"IF(K564=\"\",\"\",COUNTIF($K$7:K564,\"ﾘｽﾄ１\"))","v":""},"","","","","","","",{"$f":"IF(S564=\"\",\"\",COUNTIF($S$7:S564,\"該当２\"))","v":""},"","",{"$f":"IF(V564=\"\",\"\",COUNTIF($V$7:V564,\"該当３\"))","v":""}]
[2020140006,20,{"v":201,"d":"201 "},{"v":40,"d":"40 "},{"v":6,"d":"006 "},"長野県","長野市","鳥居村","古町",null,"","",{"$f":"IF(K565=\"\",\"\",COUNTIF($K$7:K565,\"ﾘｽﾄ１\"))","v":""},"","","","","","","",{"$f":"IF(S565=\"\",\"\",COUNTIF($S$7:S565,\"該当２\"))","v":""},"","",{"$f":"IF(V565=\"\",\"\",COUNTIF($V$7:V565,\"該当３\"))","v":""}]
[2020140007,20,{"v":201,"d":"201 "},{"v":40,"d":"40 "},{"v":7,"d":"007 "},"長野県","長野市","鳥居村","堀組",null,"","",{"$f":"IF(K566=\"\",\"\",COUNTIF($K$7:K566,\"ﾘｽﾄ１\"))","v":""},"","","","","","","",{"$f":"IF(S566=\"\",\"\",COUNTIF($S$7:S566,\"該当２\"))","v":""},"","",{"$f":"IF(V566=\"\",\"\",COUNTIF($V$7:V566,\"該当３\"))","v":""}]
[2020140008,20,{"v":201,"d":"201 "},{"v":40,"d":"40 "},{"v":8,"d":"008 "},"長野県","長野市","鳥居村","中島",null,"","",{"$f":"IF(K567=\"\",\"\",COUNTIF($K$7:K567,\"ﾘｽﾄ１\"))","v":""},"","","","","","","",{"$f":"IF(S567=\"\",\"\",COUNTIF($S$7:S567,\"該当２\"))","v":""},"","",{"$f":"IF(V567=\"\",\"\",COUNTIF($V$7:V567,\"該当３\"))","v":""}]
[2020140009,20,{"v":201,"d":"201 "},{"v":40,"d":"40 "},{"v":9,"d":"009 "},"長野県","長野市","鳥居村","手子塚",null,"","",{"$f":"IF(K568=\"\",\"\",COUNTIF($K$7:K568,\"ﾘｽﾄ１\"))","v":""},"","","","","","","",{"$f":"IF(S568=\"\",\"\",COUNTIF($S$7:S568,\"該当２\"))","v":""},"","",{"$f":"IF(V568=\"\",\"\",COUNTIF($V$7:V568,\"該当３\"))","v":""}]
[2020140010,20,{"v":201,"d":"201 "},{"v":40,"d":"40 "},{"v":10,"d":"010 "},"長野県","長野市","鳥居村","板橋",null,"","",{"$f":"IF(K569=\"\",\"\",COUNTIF($K$7:K569,\"ﾘｽﾄ１\"))","v":""},"","","","","","","",{"$f":"IF(S569=\"\",\"\",COUNTIF($S$7:S569,\"該当２\"))","v":""},"","",{"$f":"IF(V569=\"\",\"\",COUNTIF($V$7:V569,\"該当３\"))","v":""}]
[2020140011,20,{"v":201,"d":"201 "},{"v":40,"d":"40 "},{"v":11,"d":"011 "},"長野県","長野市","鳥居村","二ツ石",null,"","",{"$f":"IF(K570=\"\",\"\",COUNTIF($K$7:K570,\"ﾘｽﾄ１\"))","v":""},"","","","","","","",{"$f":"IF(S570=\"\",\"\",COUNTIF($S$7:S570,\"該当２\"))","v":""},"","",{"$f":"IF(V570=\"\",\"\",COUNTIF($V$7:V570,\"該当３\"))","v":""}]
[2020140012,20,{"v":201,"d":"201 "},{"v":40,"d":"40 "},{"v":12,"d":"012 "},"長野県","長野市","鳥居村","向原",null,"","",{"$f":"IF(K571=\"\",\"\",COUNTIF($K$7:K571,\"ﾘｽﾄ１\"))","v":""},"","","","","","","",{"$f":"IF(S571=\"\",\"\",COUNTIF($S$7:S571,\"該当２\"))","v":""},"","",{"$f":"IF(V571=\"\",\"\",COUNTIF($V$7:V571,\"該当３\"))","v":""}]
[2020140013,20,{"v":201,"d":"201 "},{"v":40,"d":"40 "},{"v":13,"d":"013 "},"長野県","長野市","鳥居村","入組",null,"","",{"$f":"IF(K572=\"\",\"\",COUNTIF($K$7:K572,\"ﾘｽﾄ１\"))","v":""},"","","","","","","",{"$f":"IF(S572=\"\",\"\",COUNTIF($S$7:S572,\"該当２\"))","v":""},"","",{"$f":"IF(V572=\"\",\"\",COUNTIF($V$7:V572,\"該当３\"))","v":""}]
[2020140014,20,{"v":201,"d":"201 "},{"v":40,"d":"40 "},{"v":14,"d":"014 "},"長野県","長野市","鳥居村","小日向",null,"","",{"$f":"IF(K573=\"\",\"\",COUNTIF($K$7:K573,\"ﾘｽﾄ１\"))","v":""},"","","","","","","",{"$f":"IF(S573=\"\",\"\",COUNTIF($S$7:S573,\"該当２\"))","v":""},"","",{"$f":"IF(V573=\"\",\"\",COUNTIF($V$7:V573,\"該当３\"))","v":""}]
[2020140015,20,{"v":201,"d":"201 "},{"v":40,"d":"40 "},{"v":15,"d":"015 "},"長野県","長野市","鳥居村","上堰",null,"","",{"$f":"IF(K574=\"\",\"\",COUNTIF($K$7:K574,\"ﾘｽﾄ１\"))","v":""},"","","","","","","",{"$f":"IF(S574=\"\",\"\",COUNTIF($S$7:S574,\"該当２\"))","v":""},"","",{"$f":"IF(V574=\"\",\"\",COUNTIF($V$7:V574,\"該当３\"))","v":""}]
[2020140016,20,{"v":201,"d":"201 "},{"v":40,"d":"40 "},{"v":16,"d":"016 "},"長野県","長野市","鳥居村","大方",null,"","",{"$f":"IF(K575=\"\",\"\",COUNTIF($K$7:K575,\"ﾘｽﾄ１\"))","v":""},"","","","","","","",{"$f":"IF(S575=\"\",\"\",COUNTIF($S$7:S575,\"該当２\"))","v":""},"","",{"$f":"IF(V575=\"\",\"\",COUNTIF($V$7:V575,\"該当３\"))","v":""}]
[2020140017,20,{"v":201,"d":"201 "},{"v":40,"d":"40 "},{"v":17,"d":"017 "},"長野県","長野市","鳥居村","橋場",null,"","",{"$f":"IF(K576=\"\",\"\",COUNTIF($K$7:K576,\"ﾘｽﾄ１\"))","v":""},"","","","","","","",{"$f":"IF(S576=\"\",\"\",COUNTIF($S$7:S576,\"該当２\"))","v":""},"","",{"$f":"IF(V576=\"\",\"\",COUNTIF($V$7:V576,\"該当３\"))","v":""}]
[2020140018,20,{"v":201,"d":"201 "},{"v":40,"d":"40 "},{"v":18,"d":"018 "},"長野県","長野市","鳥居村","上原",null,"","",{"$f":"IF(K577=\"\",\"\",COUNTIF($K$7:K577,\"ﾘｽﾄ１\"))","v":""},"","","","","","","",{"$f":"IF(S577=\"\",\"\",COUNTIF($S$7:S577,\"該当２\"))","v":""},"","",{"$f":"IF(V577=\"\",\"\",COUNTIF($V$7:V577,\"該当３\"))","v":""}]
[2020140019,20,{"v":201,"d":"201 "},{"v":40,"d":"40 "},{"v":19,"d":"019 "},"長野県","長野市","鳥居村","蟻ケ崎",null,"","",{"$f":"IF(K578=\"\",\"\",COUNTIF($K$7:K578,\"ﾘｽﾄ１\"))","v":""},"","","","","","","",{"$f":"IF(S578=\"\",\"\",COUNTIF($S$7:S578,\"該当２\"))","v":""},"","",{"$f":"IF(V578=\"\",\"\",COUNTIF($V$7:V578,\"該当３\"))","v":""}]
[2020140020,20,{"v":201,"d":"201 "},{"v":40,"d":"40 "},{"v":20,"d":"020 "},"長野県","長野市","鳥居村","城山",null,"","",{"$f":"IF(K579=\"\",\"\",COUNTIF($K$7:K579,\"ﾘｽﾄ１\"))","v":""},"","","","","","","",{"$f":"IF(S579=\"\",\"\",COUNTIF($S$7:S579,\"該当２\"))","v":""},"","",{"$f":"IF(V579=\"\",\"\",COUNTIF($V$7:V579,\"該当３\"))","v":""}]
[2020140021,20,{"v":201,"d":"201 "},{"v":40,"d":"40 "},{"v":21,"d":"021 "},"長野県","長野市","鳥居村","川谷",null,"","",{"$f":"IF(K580=\"\",\"\",COUNTIF($K$7:K580,\"ﾘｽﾄ１\"))","v":""},"","","","","","","",{"$f":"IF(S580=\"\",\"\",COUNTIF($S$7:S580,\"該当２\"))","v":""},"","",{"$f":"IF(V580=\"\",\"\",COUNTIF($V$7:V580,\"該当３\"))","v":""}]
[2020141000,20,{"v":201,"d":"201 "},{"v":41,"d":"41 "},{"v":0,"d":"000 "},"長野県","長野市","戸隠村",null,null,"","",{"$f":"IF(K581=\"\",\"\",COUNTIF($K$7:K581,\"ﾘｽﾄ１\"))","v":""},"","","","","","","",{"$f":"IF(S581=\"\",\"\",COUNTIF($S$7:S581,\"該当２\"))","v":""},"","",{"$f":"IF(V581=\"\",\"\",COUNTIF($V$7:V581,\"該当３\"))","v":""}]
[2020141001,20,{"v":201,"d":"201 "},{"v":41,"d":"41 "},{"v":1,"d":"001 "},"長野県","長野市","戸隠村","原",null,"","",{"$f":"IF(K582=\"\",\"\",COUNTIF($K$7:K582,\"ﾘｽﾄ１\"))","v":""},"","","","","","","",{"$f":"IF(S582=\"\",\"\",COUNTIF($S$7:S582,\"該当２\"))","v":""},"","",{"$f":"IF(V582=\"\",\"\",COUNTIF($V$7:V582,\"該当３\"))","v":""}]
[2020141002,20,{"v":201,"d":"201 "},{"v":41,"d":"41 "},{"v":2,"d":"002 "},"長野県","長野市","戸隠村","尾上",null,"","",{"$f":"IF(K583=\"\",\"\",COUNTIF($K$7:K583,\"ﾘｽﾄ１\"))","v":""},"","","","","","","",{"$f":"IF(S583=\"\",\"\",COUNTIF($S$7:S583,\"該当２\"))","v":""},"","",{"$f":"IF(V583=\"\",\"\",COUNTIF($V$7:V583,\"該当３\"))","v":""}]
[2020141003,20,{"v":201,"d":"201 "},{"v":41,"d":"41 "},{"v":3,"d":"003 "},"長野県","長野市","戸隠村","諸沢",null,"","",{"$f":"IF(K584=\"\",\"\",COUNTIF($K$7:K584,\"ﾘｽﾄ１\"))","v":""},"","","","","","","",{"$f":"IF(S584=\"\",\"\",COUNTIF($S$7:S584,\"該当２\"))","v":""},"","",{"$f":"IF(V584=\"\",\"\",COUNTIF($V$7:V584,\"該当３\"))","v":""}]
[2020141004,20,{"v":201,"d":"201 "},{"v":41,"d":"41 "},{"v":4,"d":"004 "},"長野県","長野市","戸隠村","二条",null,"","",{"$f":"IF(K585=\"\",\"\",COUNTIF($K$7:K585,\"ﾘｽﾄ１\"))","v":""},"","",{"$f":"IF(O585=\"該当１\",G585,\"\")","v":""},{"$f":"IF(O585=\"該当１\",\"ﾘｽﾄ2\",\"\")","v":""},{"$f":"IF(Q585=\"ﾘｽﾄ2\",H585,\"\")","v":""},"",{"$f":"IF(S585=\"該当２\",H585,\"\")","v":""},{"$f":"IF(S585=\"\",\"\",COUNTIF($S$7:S585,\"該当２\"))","v":""},{"$f":"IF(AND($S$2=H585,E585>0,E585<998),\"該当３\",\"\")","v":""},{"$f":"IF(V585=\"該当３\",I585,\"\")","v":""},{"$f":"IF(V585=\"\",\"\",COUNTIF($V$7:V585,\"該当３\"))","v":""}]
[2020141005,20,{"v":201,"d":"201 "},{"v":41,"d":"41 "},{"v":5,"d":"005 "},"長野県","長野市","戸隠村","大中",null,{"$f":"IF(AND($C586>0,$H586=\"\"),\"ﾘｽﾄ１\",\"\")","v":""},{"$f":"IF(K586=\"ﾘｽﾄ１\",G586,\"\")","v":""},{"$f":"IF(K586=\"\",\"\",COUNTIF($K$7:K586,\"ﾘｽﾄ１\"))","v":""},{"$f":"IF(AND(D586=0,E586>0),\"同一区\",\"\")","v":""},{"$f":"IF(AND(EXACT($K$2,G586),H586>0),\"該当１\",\"\")","v":""},"","","",{"$f":"IF(AND(Q586=\"ﾘｽﾄ2\",OR(I586=0,AND(N586=\"同一区\",E586=1))),\"該当２\",\"\")","v":""},"",{"$f":"IF(S586=\"\",\"\",COUNTIF($S$7:S586,\"該当２\"))","v":""},"","",{"$f":"IF(V586=\"\",\"\",COUNTIF($V$7:V586,\"該当３\"))","v":""}]
[2020141006,20,{"v":201,"d":"201 "},{"v":41,"d":"41 "},{"v":6,"d":"006 "},"長野県","長野市","戸隠村","和沢口",null,"","",{"$f":"IF(K587=\"\",\"\",COUNTIF($K$7:K587,\"ﾘｽﾄ１\"))","v":""},"","","","","","","",{"$f":"IF(S587=\"\",\"\",COUNTIF($S$7:S587,\"該当２\"))","v":""},"","",{"$f":"IF(V587=\"\",\"\",COUNTIF($V$7:V587,\"該当３\"))","v":""}]
[2020141007,20,{"v":201,"d":"201 "},{"v":41,"d":"41 "},{"v":7,"d":"007 "},"長野県","長野市","戸隠村","馬場",null,"","",{"$f":"IF(K588=\"\",\"\",COUNTIF($K$7:K588,\"ﾘｽﾄ１\"))","v":""},"","","","","","","",{"$f":"IF(S588=\"\",\"\",COUNTIF($S$7:S588,\"該当２\"))","v":""},"","",{"$f":"IF(V588=\"\",\"\",COUNTIF($V$7:V588,\"該当３\"))","v":""}]
[2020141008,20,{"v":201,"d":"201 "},{"v":41,"d":"41 "},{"v":8,"d":"008 "},"長野県","長野市","戸隠村","和沢",null,"","",{"$f":"IF(K589=\"\",\"\",COUNTIF($K$7:K589,\"ﾘｽﾄ１\"))","v":""},"","","","","","","",{"$f":"IF(S589=\"\",\"\",COUNTIF($S$7:S589,\"該当２\"))","v":""},"","",{"$f":"IF(V589=\"\",\"\",COUNTIF($V$7:V589,\"該当３\"))","v":""}]
[2020141009,20,{"v":201,"d":"201 "},{"v":41,"d":"41 "},{"v":9,"d":"009 "},"長野県","長野市","戸隠村","中村",null,"","",{"$f":"IF(K590=\"\",\"\",COUNTIF($K$7:K590,\"ﾘｽﾄ１\"))","v":""},"","","","","","","",{"$f":"IF(S590=\"\",\"\",COUNTIF($S$7:S590,\"該当２\"))","v":""},"","",{"$f":"IF(V590=\"\",\"\",COUNTIF($V$7:V590,\"該当３\"))","v":""}]
[2020141010,20,{"v":201,"d":"201 "},{"v":41,"d":"41 "},{"v":10,"d":"010 "},"長野県","長野市","戸隠村","銚子口",null,"","",{"$f":"IF(K591=\"\",\"\",COUNTIF($K$7:K591,\"ﾘｽﾄ１\"))","v":""},"","","","","","","",{"$f":"IF(S591=\"\",\"\",COUNTIF($S$7:S591,\"該当２\"))","v":""},"","",{"$f":"IF(V591=\"\",\"\",COUNTIF($V$7:V591,\"該当３\"))","v":""}]
[2020141011,20,{"v":201,"d":"201 "},{"v":41,"d":"41 "},{"v":11,"d":"011 "},"長野県","長野市","戸隠村","横道",null,"","",{"$f":"IF(K592=\"\",\"\",COUNTIF($K$7:K592,\"ﾘｽﾄ１\"))","v":""},"","","","","","","",{"$f":"IF(S592=\"\",\"\",COUNTIF($S$7:S592,\"該当２\"))","v":""},"","",{"$f":"IF(V592=\"\",\"\",COUNTIF($V$7:V592,\"該当３\"))","v":""}]
[2020141012,20,{"v":201,"d":"201 "},{"v":41,"d":"41 "},{"v":12,"d":"012 "},"長野県","長野市","戸隠村","上楡木",null,"","",{"$f":"IF(K593=\"\",\"\",COUNTIF($K$7:K593,\"ﾘｽﾄ１\"))","v":""},"","","","","","","",{"$f":"IF(S593=\"\",\"\",COUNTIF($S$7:S593,\"該当２\"))","v":""},"","",{"$f":"IF(V593=\"\",\"\",COUNTIF($V$7:V593,\"該当３\"))","v":""}]
[2020141015,20,{"v":201,"d":"201 "},{"v":41,"d":"41 "},{"v":15,"d":"015 "},"長野県","長野市","戸隠村","東原",null,"","",{"$f":"IF(K594=\"\",\"\",COUNTIF($K$7:K594,\"ﾘｽﾄ１\"))","v":""},"","","","","","","",{"$f":"IF(S594=\"\",\"\",COUNTIF($S$7:S594,\"該当２\"))","v":""},"","",{"$f":"IF(V594=\"\",\"\",COUNTIF($V$7:V594,\"該当３\"))","v":""}]
[2020141016,20,{"v":201,"d":"201 "},{"v":41,"d":"41 "},{"v":16,"d":"016 "},"長野県","長野市","戸隠村","猿丸",null,"","",{"$f":"IF(K595=\"\",\"\",COUNTIF($K$7:K595,\"ﾘｽﾄ１\"))","v":""},"","","","","","","",{"$f":"IF(S595=\"\",\"\",COUNTIF($S$7:S595,\"該当２\"))","v":""},"","",{"$f":"IF(V595=\"\",\"\",COUNTIF($V$7:V595,\"該当３\"))","v":""}]
[2020141017,20,{"v":201,"d":"201 "},{"v":41,"d":"41 "},{"v":17,"d":"017 "},"長野県","長野市","戸隠村","川下",null,"","",{"$f":"IF(K596=\"\",\"\",COUNTIF($K$7:K596,\"ﾘｽﾄ１\"))","v":""},"","","","","","","",{"$f":"IF(S596=\"\",\"\",COUNTIF($S$7:S596,\"該当２\"))","v":""},"","",{"$f":"IF(V596=\"\",\"\",COUNTIF($V$7:V596,\"該当３\"))","v":""}]
[2020141018,20,{"v":201,"d":"201 "},{"v":41,"d":"41 "},{"v":18,"d":"018 "},"長野県","長野市","戸隠村","日照田",null,"","",{"$f":"IF(K597=\"\",\"\",COUNTIF($K$7:K597,\"ﾘｽﾄ１\"))","v":""},"","","","","","","",{"$f":"IF(S597=\"\",\"\",COUNTIF($S$7:S597,\"該当２\"))","v":""},"","",{"$f":"IF(V597=\"\",\"\",COUNTIF($V$7:V597,\"該当３\"))","v":""}]
[2020141019,20,{"v":201,"d":"201 "},{"v":41,"d":"41 "},{"v":19,"d":"019 "},"長野県","長野市","戸隠村","平沢",null,"","",{"$f":"IF(K598=\"\",\"\",COUNTIF($K$7:K598,\"ﾘｽﾄ１\"))","v":""},"","","","","","","",{"$f":"IF(S598=\"\",\"\",COUNTIF($S$7:S598,\"該当２\"))","v":""},"","",{"$f":"IF(V598=\"\",\"\",COUNTIF($V$7:V598,\"該当３\"))","v":""}]
[2020141020,20,{"v":201,"d":"201 "},{"v":41,"d":"41 "},{"v":20,"d":"020 "},"長野県","長野市","戸隠村","折橋",null,"","",{"$f":"IF(K599=\"\",\"\",COUNTIF($K$7:K599,\"ﾘｽﾄ１\"))","v":""},"","","","","","","",{"$f":"IF(S599=\"\",\"\",COUNTIF($S$7:S599,\"該当２\"))","v":""},"","",{"$f":"IF(V599=\"\",\"\",COUNTIF($V$7:V599,\"該当３\"))","v":""}]
[2020141021,20,{"v":201,"d":"201 "},{"v":41,"d":"41 "},{"v":21,"d":"021 "},"長野県","長野市","戸隠村","下楠川",null,"","",{"$f":"IF(K600=\"\",\"\",COUNTIF($K$7:K600,\"ﾘｽﾄ１\"))","v":""},"","","","","","","",{"$f":"IF(S600=\"\",\"\",COUNTIF($S$7:S600,\"該当２\"))","v":""},"","",{"$f":"IF(V600=\"\",\"\",COUNTIF($V$7:V600,\"該当３\"))","v":""}]
[2020141022,20,{"v":201,"d":"201 "},{"v":41,"d":"41 "},{"v":22,"d":"022 "},"長野県","長野市","戸隠村","宇和原",null,"","",{"$f":"IF(K601=\"\",\"\",COUNTIF($K$7:K601,\"ﾘｽﾄ１\"))","v":""},"","","","","","","",{"$f":"IF(S601=\"\",\"\",COUNTIF($S$7:S601,\"該当２\"))","v":""},"","",{"$f":"IF(V601=\"\",\"\",COUNTIF($V$7:V601,\"該当３\"))","v":""}]
[2020141023,20,{"v":201,"d":"201 "},{"v":41,"d":"41 "},{"v":23,"d":"023 "},"長野県","長野市","戸隠村","奈良尾",null,"","",{"$f":"IF(K602=\"\",\"\",COUNTIF($K$7:K602,\"ﾘｽﾄ１\"))","v":""},"","","","","","","",{"$f":"IF(S602=\"\",\"\",COUNTIF($S$7:S602,\"該当２\"))","v":""},"","",{"$f":"IF(V602=\"\",\"\",COUNTIF($V$7:V602,\"該当３\"))","v":""}]
[2020141024,20,{"v":201,"d":"201 "},{"v":41,"d":"41 "},{"v":24,"d":"024 "},"長野県","長野市","戸隠村","母袋",null,"","",{"$f":"IF(K603=\"\",\"\",COUNTIF($K$7:K603,\"ﾘｽﾄ１\"))","v":""},"","","","","","","",{"$f":"IF(S603=\"\",\"\",COUNTIF($S$7:S603,\"該当２\"))","v":""},"","",{"$f":"IF(V603=\"\",\"\",COUNTIF($V$7:V603,\"該当３\"))","v":""}]
[2020141025,20,{"v":201,"d":"201 "},{"v":41,"d":"41 "},{"v":25,"d":"025 "},"長野県","長野市","戸隠村","上楠川",null,"","",{"$f":"IF(K604=\"\",\"\",COUNTIF($K$7:K604,\"ﾘｽﾄ１\"))","v":""},"","","","","","","",{"$f":"IF(S604=\"\",\"\",COUNTIF($S$7:S604,\"該当２\"))","v":""},"","",{"$f":"IF(V604=\"\",\"\",COUNTIF($V$7:V604,\"該当３\"))","v":""}]
[2020141026,20,{"v":201,"d":"201 "},{"v":41,"d":"41 "},{"v":26,"d":"026 "},"長野県","長野市","戸隠村","宝光社",null,"","",{"$f":"IF(K605=\"\",\"\",COUNTIF($K$7:K605,\"ﾘｽﾄ１\"))","v":""},"","","","","","","",{"$f":"IF(S605=\"\",\"\",COUNTIF($S$7:S605,\"該当２\"))","v":""},"","",{"$f":"IF(V605=\"\",\"\",COUNTIF($V$7:V605,\"該当３\"))","v":""}]
[2020141027,20,{"v":201,"d":"201 "},{"v":41,"d":"41 "},{"v":27,"d":"027 "},"長野県","長野市","戸隠村","中社",null,"","",{"$f":"IF(K606=\"\",\"\",COUNTIF($K$7:K606,\"ﾘｽﾄ１\"))","v":""},"","","","","","","",{"$f":"IF(S606=\"\",\"\",COUNTIF($S$7:S606,\"該当２\"))","v":""},"","",{"$f":"IF(V606=\"\",\"\",COUNTIF($V$7:V606,\"該当３\"))","v":""}]
[2020141028,20,{"v":201,"d":"201 "},{"v":41,"d":"41 "},{"v":28,"d":"028 "},"長野県","長野市","戸隠村","南原",null,"","",{"$f":"IF(K607=\"\",\"\",COUNTIF($K$7:K607,\"ﾘｽﾄ１\"))","v":""},"","","","","","","",{"$f":"IF(S607=\"\",\"\",COUNTIF($S$7:S607,\"該当２\"))","v":""},"","",{"$f":"IF(V607=\"\",\"\",COUNTIF($V$7:V607,\"該当３\"))","v":""}]
[2020142000,20,{"v":201,"d":"201 "},{"v":42,"d":"42 "},{"v":0,"d":"000 "},"長野県","長野市","柵村",null,null,"","",{"$f":"IF(K608=\"\",\"\",COUNTIF($K$7:K608,\"ﾘｽﾄ１\"))","v":""},"","","","","","","",{"$f":"IF(S608=\"\",\"\",COUNTIF($S$7:S608,\"該当２\"))","v":""},"","",{"$f":"IF(V608=\"\",\"\",COUNTIF($V$7:V608,\"該当３\"))","v":""}]
[2020142001,20,{"v":201,"d":"201 "},{"v":42,"d":"42 "},{"v":1,"d":"001 "},"長野県","長野市","柵村","向",null,"","",{"$f":"IF(K609=\"\",\"\",COUNTIF($K$7:K609,\"ﾘｽﾄ１\"))","v":""},"","","","","","","",{"$f":"IF(S609=\"\",\"\",COUNTIF($S$7:S609,\"該当２\"))","v":""},"","",{"$f":"IF(V609=\"\",\"\",COUNTIF($V$7:V609,\"該当３\"))","v":""}]
[2020142002,20,{"v":201,"d":"201 "},{"v":42,"d":"42 "},{"v":2,"d":"002 "},"長野県","長野市","柵村","西之矢",null,"","",{"$f":"IF(K610=\"\",\"\",COUNTIF($K$7:K610,\"ﾘｽﾄ１\"))","v":""},"","","","","","","",{"$f":"IF(S610=\"\",\"\",COUNTIF($S$7:S610,\"該当２\"))","v":""},"","",{"$f":"IF(V610=\"\",\"\",COUNTIF($V$7:V610,\"該当３\"))","v":""}]
[2020142003,20,{"v":201,"d":"201 "},{"v":42,"d":"42 "},{"v":3,"d":"003 "},"長野県","長野市","柵村","市場平",null,"","",{"$f":"IF(K611=\"\",\"\",COUNTIF($K$7:K611,\"ﾘｽﾄ１\"))","v":""},"","","","","","","",{"$f":"IF(S611=\"\",\"\",COUNTIF($S$7:S611,\"該当２\"))","v":""},"","",{"$f":"IF(V611=\"\",\"\",COUNTIF($V$7:V611,\"該当３\"))","v":""}]
[2020142004,20,{"v":201,"d":"201 "},{"v":42,"d":"42 "},{"v":4,"d":"004 "},"長野県","長野市","柵村","番場",null,"","",{"$f":"IF(K612=\"\",\"\",COUNTIF($K$7:K612,\"ﾘｽﾄ１\"))","v":""},"","","","","","","",{"$f":"IF(S612=\"\",\"\",COUNTIF($S$7:S612,\"該当２\"))","v":""},"","",{"$f":"IF(V612=\"\",\"\",COUNTIF($V$7:V612,\"該当３\"))","v":""}]
[2020142005,20,{"v":201,"d":"201 "},{"v":42,"d":"42 "},{"v":5,"d":"005 "},"長野県","長野市","柵村","倉平",null,"","",{"$f":"IF(K613=\"\",\"\",COUNTIF($K$7:K613,\"ﾘｽﾄ１\"))","v":""},"","","","","","","",{"$f":"IF(S613=\"\",\"\",COUNTIF($S$7:S613,\"該当２\"))","v":""},"","",{"$f":"IF(V613=\"\",\"\",COUNTIF($V$7:V613,\"該当３\"))","v":""}]
[2020142006,20,{"v":201,"d":"201 "},{"v":42,"d":"42 "},{"v":6,"d":"006 "},"長野県","長野市","柵村","清水",null,"","",{"$f":"IF(K614=\"\",\"\",COUNTIF($K$7:K614,\"ﾘｽﾄ１\"))","v":""},"","","","","","","",{"$f":"IF(S614=\"\",\"\",COUNTIF($S$7:S614,\"該当２\"))","v":""},"","",{"$f":"IF(V614=\"\",\"\",COUNTIF($V$7:V614,\"該当３\"))","v":""}]
[2020142007,20,{"v":201,"d":"201 "},{"v":42,"d":"42 "},{"v":7,"d":"007 "},"長野県","長野市","柵村","町",null,"","",{"$f":"IF(K615=\"\",\"\",COUNTIF($K$7:K615,\"ﾘｽﾄ１\"))","v":""},"","","","","","","",{"$f":"IF(S615=\"\",\"\",COUNTIF($S$7:S615,\"該当２\"))","v":""},"","",{"$f":"IF(V615=\"\",\"\",COUNTIF($V$7:V615,\"該当３\"))","v":""}]
[2020142008,20,{"v":201,"d":"201 "},{"v":42,"d":"42 "},{"v":8,"d":"008 "},"長野県","長野市","柵村","針立",null,"","",{"$f":"IF(K616=\"\",\"\",COUNTIF($K$7:K616,\"ﾘｽﾄ１\"))","v":""},"","","","","","","",{"$f":"IF(S616=\"\",\"\",COUNTIF($S$7:S616,\"該当２\"))","v":""},"","",{"$f":"IF(V616=\"\",\"\",COUNTIF($V$7:V616,\"該当３\"))","v":""}]
[2020142009,20,{"v":201,"d":"201 "},{"v":42,"d":"42 "},{"v":9,"d":"009 "},"長野県","長野市","柵村","今井",null,"","",{"$f":"IF(K617=\"\",\"\",COUNTIF($K$7:K617,\"ﾘｽﾄ１\"))","v":""},"","","","","","","",{"$f":"IF(S617=\"\",\"\",COUNTIF($S$7:S617,\"該当２\"))","v":""},"","",{"$f":"IF(V617=\"\",\"\",COUNTIF($V$7:V617,\"該当３\"))","v":""}]
[2020142010,20,{"v":201,"d":"201 "},{"v":42,"d":"42 "},{"v":10,"d":"010 "},"長野県","長野市","柵村","福平",null,"","",{"$f":"IF(K618=\"\",\"\",COUNTIF($K$7:K618,\"ﾘｽﾄ１\"))","v":""},"","","","","","","",{"$f":"IF(S618=\"\",\"\",COUNTIF($S$7:S618,\"該当２\"))","v":""},"","",{"$f":"IF(V618=\"\",\"\",COUNTIF($V$7:V618,\"該当３\"))","v":""}]
[2020142011,20,{"v":201,"d":"201 "},{"v":42,"d":"42 "},{"v":11,"d":"011 "},"長野県","長野市","柵村","五十土東",null,"","",{"$f":"IF(K619=\"\",\"\",COUNTIF($K$7:K619,\"ﾘｽﾄ１\"))","v":""},"","","","","","","",{"$f":"IF(S619=\"\",\"\",COUNTIF($S$7:S619,\"該当２\"))","v":""},"","",{"$f":"IF(V619=\"\",\"\",COUNTIF($V$7:V619,\"該当３\"))","v":""}]
[2020142012,20,{"v":201,"d":"201 "},{"v":42,"d":"42 "},{"v":12,"d":"012 "},"長野県","長野市","柵村","笹原",null,"","",{"$f":"IF(K620=\"\",\"\",COUNTIF($K$7:K620,\"ﾘｽﾄ１\"))","v":""},"","","","","","","",{"$f":"IF(S620=\"\",\"\",COUNTIF($S$7:S620,\"該当２\"))","v":""},"","",{"$f":"IF(V620=\"\",\"\",COUNTIF($V$7:V620,\"該当３\"))","v":""}]
[2020142013,20,{"v":201,"d":"201 "},{"v":42,"d":"42 "},{"v":13,"d":"013 "},"長野県","長野市","柵村","宮の前",null,"","",{"$f":"IF(K621=\"\",\"\",COUNTIF($K$7:K621,\"ﾘｽﾄ１\"))","v":""},"","","","","","","",{"$f":"IF(S621=\"\",\"\",COUNTIF($S$7:S621,\"該当２\"))","v":""},"","",{"$f":"IF(V621=\"\",\"\",COUNTIF($V$7:V621,\"該当３\"))","v":""}]
[2020142014,20,{"v":201,"d":"201 "},{"v":42,"d":"42 "},{"v":14,"d":"014 "},"長野県","長野市","柵村","田頭",null,"","",{"$f":"IF(K622=\"\",\"\",COUNTIF($K$7:K622,\"ﾘｽﾄ１\"))","v":""},"","","","","","","",{"$f":"IF(S622=\"\",\"\",COUNTIF($S$7:S622,\"該当２\"))","v":""},"","",{"$f":"IF(V622=\"\",\"\",COUNTIF($V$7:V622,\"該当３\"))","v":""}]
[2020142015,20,{"v":201,"d":"201 "},{"v":42,"d":"42 "},{"v":15,"d":"015 "},"長野県","長野市","柵村","中尾口",null,"","",{"$f":"IF(K623=\"\",\"\",COUNTIF($K$7:K623,\"ﾘｽﾄ１\"))","v":""},"","","","","","","",{"$f":"IF(S623=\"\",\"\",COUNTIF($S$7:S623,\"該当２\"))","v":""},"","",{"$f":"IF(V623=\"\",\"\",COUNTIF($V$7:V623,\"該当３\"))","v":""}]
[2020142016,20,{"v":201,"d":"201 "},{"v":42,"d":"42 "},{"v":16,"d":"016 "},"長野県","長野市","柵村","東組",null,"","",{"$f":"IF(K624=\"\",\"\",COUNTIF($K$7:K624,\"ﾘｽﾄ１\"))","v":""},"","","","","","","",{"$f":"IF(S624=\"\",\"\",COUNTIF($S$7:S624,\"該当２\"))","v":""},"","",{"$f":"IF(V624=\"\",\"\",COUNTIF($V$7:V624,\"該当３\"))","v":""}]
[2020142017,20,{"v":201,"d":"201 "},{"v":42,"d":"42 "},{"v":17,"d":"017 "},"長野県","長野市","柵村","中組",null,"","",{"$f":"IF(K625=\"\",\"\",COUNTIF($K$7:K625,\"ﾘｽﾄ１\"))","v":""},"","","","","","","",{"$f":"IF(S625=\"\",\"\",COUNTIF($S$7:S625,\"該当２\"))","v":""},"","",{"$f":"IF(V625=\"\",\"\",COUNTIF($V$7:V625,\"該当３\"))","v":""}]
[2020142020,20,{"v":201,"d":"201 "},{"v":42,"d":"42 "},{"v":20,"d":"020 "},"長野県","長野市","柵村","西部",null,"","",{"$f":"IF(K626=\"\",\"\",COUNTIF($K$7:K626,\"ﾘｽﾄ１\"))","v":""},"","","","","","","",{"$f":"IF(S626=\"\",\"\",COUNTIF($S$7:S626,\"該当２\"))","v":""},"","",{"$f":"IF(V626=\"\",\"\",COUNTIF($V$7:V626,\"該当３\"))","v":""}]
[2020142021,20,{"v":201,"d":"201 "},{"v":42,"d":"42 "},{"v":21,"d":"021 "},"長野県","長野市","柵村","中部",null,"","",{"$f":"IF(K627=\"\",\"\",COUNTIF($K$7:K627,\"ﾘｽﾄ１\"))","v":""},"","","","","","","",{"$f":"IF(S627=\"\",\"\",COUNTIF($S$7:S627,\"該当２\"))","v":""},"","",{"$f":"IF(V627=\"\",\"\",COUNTIF($V$7:V627,\"該当３\"))","v":""}]
[2020142022,20,{"v":201,"d":"201 "},{"v":42,"d":"42 "},{"v":22,"d":"022 "},"長野県","長野市","柵村","第一",null,"","",{"$f":"IF(K628=\"\",\"\",COUNTIF($K$7:K628,\"ﾘｽﾄ１\"))","v":""},"","","","","","","",{"$f":"IF(S628=\"\",\"\",COUNTIF($S$7:S628,\"該当２\"))","v":""},"","",{"$f":"IF(V628=\"\",\"\",COUNTIF($V$7:V628,\"該当３\"))","v":""}]
[2020142023,20,{"v":201,"d":"201 "},{"v":42,"d":"42 "},{"v":23,"d":"023 "},"長野県","長野市","柵村","宮浦",null,"","",{"$f":"IF(K629=\"\",\"\",COUNTIF($K$7:K629,\"ﾘｽﾄ１\"))","v":""},"","","","","","","",{"$f":"IF(S629=\"\",\"\",COUNTIF($S$7:S629,\"該当２\"))","v":""},"","",{"$f":"IF(V629=\"\",\"\",COUNTIF($V$7:V629,\"該当３\"))","v":""}]
[2020142024,20,{"v":201,"d":"201 "},{"v":42,"d":"42 "},{"v":24,"d":"024 "},"長野県","長野市","柵村","上組",null,"","",{"$f":"IF(K630=\"\",\"\",COUNTIF($K$7:K630,\"ﾘｽﾄ１\"))","v":""},"","","","","","","",{"$f":"IF(S630=\"\",\"\",COUNTIF($S$7:S630,\"該当２\"))","v":""},"","",{"$f":"IF(V630=\"\",\"\",COUNTIF($V$7:V630,\"該当３\"))","v":""}]
[2020142025,20,{"v":201,"d":"201 "},{"v":42,"d":"42 "},{"v":25,"d":"025 "},"長野県","長野市","柵村","渡土",null,"","",{"$f":"IF(K631=\"\",\"\",COUNTIF($K$7:K631,\"ﾘｽﾄ１\"))","v":""},"","","","","","","",{"$f":"IF(S631=\"\",\"\",COUNTIF($S$7:S631,\"該当２\"))","v":""},"","",{"$f":"IF(V631=\"\",\"\",COUNTIF($V$7:V631,\"該当３\"))","v":""}]
[2020142026,20,{"v":201,"d":"201 "},{"v":42,"d":"42 "},{"v":26,"d":"026 "},"長野県","長野市","柵村","平出",null,"","",{"$f":"IF(K632=\"\",\"\",COUNTIF($K$7:K632,\"ﾘｽﾄ１\"))","v":""},"","","","","","","",{"$f":"IF(S632=\"\",\"\",COUNTIF($S$7:S632,\"該当２\"))","v":""},"","",{"$f":"IF(V632=\"\",\"\",COUNTIF($V$7:V632,\"該当３\"))","v":""}]
[2020142027,20,{"v":201,"d":"201 "},{"v":42,"d":"42 "},{"v":27,"d":"027 "},"長野県","長野市","柵村","積沢",null,"","",{"$f":"IF(K633=\"\",\"\",COUNTIF($K$7:K633,\"ﾘｽﾄ１\"))","v":""},"","","","","","","",{"$f":"IF(S633=\"\",\"\",COUNTIF($S$7:S633,\"該当２\"))","v":""},"","",{"$f":"IF(V633=\"\",\"\",COUNTIF($V$7:V633,\"該当３\"))","v":""}]
[2020142028,20,{"v":201,"d":"201 "},{"v":42,"d":"42 "},{"v":28,"d":"028 "},"長野県","長野市","柵村","土合",null,"","",{"$f":"IF(K634=\"\",\"\",COUNTIF($K$7:K634,\"ﾘｽﾄ１\"))","v":""},"","","","","","","",{"$f":"IF(S634=\"\",\"\",COUNTIF($S$7:S634,\"該当２\"))","v":""},"","",{"$f":"IF(V634=\"\",\"\",COUNTIF($V$7:V634,\"該当３\"))","v":""}]
[2020142029,20,{"v":201,"d":"201 "},{"v":42,"d":"42 "},{"v":29,"d":"029 "},"長野県","長野市","柵村","下中組",null,"","",{"$f":"IF(K635=\"\",\"\",COUNTIF($K$7:K635,\"ﾘｽﾄ１\"))","v":""},"","","","","","","",{"$f":"IF(S635=\"\",\"\",COUNTIF($S$7:S635,\"該当２\"))","v":""},"","",{"$f":"IF(V635=\"\",\"\",COUNTIF($V$7:V635,\"該当３\"))","v":""}]
[2020142030,20,{"v":201,"d":"201 "},{"v":42,"d":"42 "},{"v":30,"d":"030 "},"長野県","長野市","柵村","下内",null,"","",{"$f":"IF(K636=\"\",\"\",COUNTIF($K$7:K636,\"ﾘｽﾄ１\"))","v":""},"","","","","","","",{"$f":"IF(S636=\"\",\"\",COUNTIF($S$7:S636,\"該当２\"))","v":""},"","",{"$f":"IF(V636=\"\",\"\",COUNTIF($V$7:V636,\"該当３\"))","v":""}]
[2020142031,20,{"v":201,"d":"201 "},{"v":42,"d":"42 "},{"v":31,"d":"031 "},"長野県","長野市","柵村","坪山",null,"","",{"$f":"IF(K637=\"\",\"\",COUNTIF($K$7:K637,\"ﾘｽﾄ１\"))","v":""},"","","","","","","",{"$f":"IF(S637=\"\",\"\",COUNTIF($S$7:S637,\"該当２\"))","v":""},"","",{"$f":"IF(V637=\"\",\"\",COUNTIF($V$7:V637,\"該当３\"))","v":""}]
[2020142032,20,{"v":201,"d":"201 "},{"v":42,"d":"42 "},{"v":32,"d":"032 "},"長野県","長野市","柵村","西組",null,"","",{"$f":"IF(K638=\"\",\"\",COUNTIF($K$7:K638,\"ﾘｽﾄ１\"))","v":""},"","","","","","","",{"$f":"IF(S638=\"\",\"\",COUNTIF($S$7:S638,\"該当２\"))","v":""},"","",{"$f":"IF(V638=\"\",\"\",COUNTIF($V$7:V638,\"該当３\"))","v":""}]
[2020143000,20,{"v":201,"d":"201 "},{"v":43,"d":"43 "},{"v":0,"d":"000 "},"長野県","長野市","鬼無里村",null,null,"","",{"$f":"IF(K639=\"\",\"\",COUNTIF($K$7:K639,\"ﾘｽﾄ１\"))","v":""},"","","","","","","",{"$f":"IF(S639=\"\",\"\",COUNTIF($S$7:S639,\"該当２\"))","v":""},"","",{"$f":"IF(V639=\"\",\"\",COUNTIF($V$7:V639,\"該当３\"))","v":""}]
[2020143001,20,{"v":201,"d":"201 "},{"v":43,"d":"43 "},{"v":1,"d":"001 "},"長野県","長野市","鬼無里村","大沢",null,"","",{"$f":"IF(K640=\"\",\"\",COUNTIF($K$7:K640,\"ﾘｽﾄ１\"))","v":""},"","","","","","","",{"$f":"IF(S640=\"\",\"\",COUNTIF($S$7:S640,\"該当２\"))","v":""},"","",{"$f":"IF(V640=\"\",\"\",COUNTIF($V$7:V640,\"該当３\"))","v":""}]
[2020143002,20,{"v":201,"d":"201 "},{"v":43,"d":"43 "},{"v":2,"d":"002 "},"長野県","長野市","鬼無里村","山内",null,"","",{"$f":"IF(K641=\"\",\"\",COUNTIF($K$7:K641,\"ﾘｽﾄ１\"))","v":""},"","","","","","","",{"$f":"IF(S641=\"\",\"\",COUNTIF($S$7:S641,\"該当２\"))","v":""},"","",{"$f":"IF(V641=\"\",\"\",COUNTIF($V$7:V641,\"該当３\"))","v":""}]
[2020143003,20,{"v":201,"d":"201 "},{"v":43,"d":"43 "},{"v":3,"d":"003 "},"長野県","長野市","鬼無里村","峯",null,"","",{"$f":"IF(K642=\"\",\"\",COUNTIF($K$7:K642,\"ﾘｽﾄ１\"))","v":""},"","","","","","","",{"$f":"IF(S642=\"\",\"\",COUNTIF($S$7:S642,\"該当２\"))","v":""},"","",{"$f":"IF(V642=\"\",\"\",COUNTIF($V$7:V642,\"該当３\"))","v":""}]
[2020143004,20,{"v":201,"d":"201 "},{"v":43,"d":"43 "},{"v":4,"d":"004 "},"長野県","長野市","鬼無里村","出シ平",null,"","",{"$f":"IF(K643=\"\",\"\",COUNTIF($K$7:K643,\"ﾘｽﾄ１\"))","v":""},"","","","","","","",{"$f":"IF(S643=\"\",\"\",COUNTIF($S$7:S643,\"該当２\"))","v":""},"","",{"$f":"IF(V643=\"\",\"\",COUNTIF($V$7:V643,\"該当３\"))","v":""}]
[2020143005,20,{"v":201,"d":"201 "},{"v":43,"d":"43 "},{"v":5,"d":"005 "},"長野県","長野市","鬼無里村","川西",null,"","",{"$f":"IF(K644=\"\",\"\",COUNTIF($K$7:K644,\"ﾘｽﾄ１\"))","v":""},"","","","","","","",{"$f":"IF(S644=\"\",\"\",COUNTIF($S$7:S644,\"該当２\"))","v":""},"","",{"$f":"IF(V644=\"\",\"\",COUNTIF($V$7:V644,\"該当３\"))","v":""}]
[2020143006,20,{"v":201,"d":"201 "},{"v":43,"d":"43 "},{"v":6,"d":"006 "},"長野県","長野市","鬼無里村","市野瀬木戸",null,"","",{"$f":"IF(K645=\"\",\"\",COUNTIF($K$7:K645,\"ﾘｽﾄ１\"))","v":""},"","","","","","","",{"$f":"IF(S645=\"\",\"\",COUNTIF($S$7:S645,\"該当２\"))","v":""},"","",{"$f":"IF(V645=\"\",\"\",COUNTIF($V$7:V645,\"該当３\"))","v":""}]
[2020143007,20,{"v":201,"d":"201 "},{"v":43,"d":"43 "},{"v":7,"d":"007 "},"長野県","長野市","鬼無里村","屋井府",null,"","",{"$f":"IF(K646=\"\",\"\",COUNTIF($K$7:K646,\"ﾘｽﾄ１\"))","v":""},"","","","","","","",{"$f":"IF(S646=\"\",\"\",COUNTIF($S$7:S646,\"該当２\"))","v":""},"","",{"$f":"IF(V646=\"\",\"\",COUNTIF($V$7:V646,\"該当３\"))","v":""}]
[2020143008,20,{"v":201,"d":"201 "},{"v":43,"d":"43 "},{"v":8,"d":"008 "},"長野県","長野市","鬼無里村","財又",null,"","",{"$f":"IF(K647=\"\",\"\",COUNTIF($K$7:K647,\"ﾘｽﾄ１\"))","v":""},"","","","","","","",{"$f":"IF(S647=\"\",\"\",COUNTIF($S$7:S647,\"該当２\"))","v":""},"","",{"$f":"IF(V647=\"\",\"\",COUNTIF($V$7:V647,\"該当３\"))","v":""}]
[2020143009,20,{"v":201,"d":"201 "},{"v":43,"d":"43 "},{"v":9,"d":"009 "},"長野県","長野市","鬼無里村","高橋",null,"","",{"$f":"IF(K648=\"\",\"\",COUNTIF($K$7:K648,\"ﾘｽﾄ１\"))","v":""},"","","","","","","",{"$f":"IF(S648=\"\",\"\",COUNTIF($S$7:S648,\"該当２\"))","v":""},"","",{"$f":"IF(V648=\"\",\"\",COUNTIF($V$7:V648,\"該当３\"))","v":""}]
[2020143010,20,{"v":201,"d":"201 "},{"v":43,"d":"43 "},{"v":10,"d":"010 "},"長野県","長野市","鬼無里村","岡",null,"","",{"$f":"IF(K649=\"\",\"\",COUNTIF($K$7:K649,\"ﾘｽﾄ１\"))","v":""},"","","","","","","",{"$f":"IF(S649=\"\",\"\",COUNTIF($S$7:S649,\"該当２\"))","v":""},"","",{"$f":"IF(V649=\"\",\"\",COUNTIF($V$7:V649,\"該当３\"))","v":""}]
[2020143011,20,{"v":201,"d":"201 "},{"v":43,"d":"43 "},{"v":11,"d":"011 "},"長野県","長野市","鬼無里村","小鬼無里",null,"","",{"$f":"IF(K650=\"\",\"\",COUNTIF($K$7:K650,\"ﾘｽﾄ１\"))","v":""},"","",{"$f":"IF(O650=\"該当１\",G650,\"\")","v":""},{"$f":"IF(O650=\"該当１\",\"ﾘｽﾄ2\",\"\")","v":""},{"$f":"IF(Q650=\"ﾘｽﾄ2\",H650,\"\")","v":""},"",{"$f":"IF(S650=\"該当２\",H650,\"\")","v":""},{"$f":"IF(S650=\"\",\"\",COUNTIF($S$7:S650,\"該当２\"))","v":""},{"$f":"IF(AND($S$2=H650,E650>0,E650<998),\"該当３\",\"\")","v":""},{"$f":"IF(V650=\"該当３\",I650,\"\")","v":""},{"$f":"IF(V650=\"\",\"\",COUNTIF($V$7:V650,\"該当３\"))","v":""}]
[2020143012,20,{"v":201,"d":"201 "},{"v":43,"d":"43 "},{"v":12,"d":"012 "},"長野県","長野市","鬼無里村","瀬戸親沢",null,{"$f":"IF(AND($C651>0,$H651=\"\"),\"ﾘｽﾄ１\",\"\")","v":""},{"$f":"IF(K651=\"ﾘｽﾄ１\",G651,\"\")","v":""},{"$f":"IF(K651=\"\",\"\",COUNTIF($K$7:K651,\"ﾘｽﾄ１\"))","v":""},{"$f":"IF(AND(D651=0,E651>0),\"同一区\",\"\")","v":""},{"$f":"IF(AND(EXACT($K$2,G651),H651>0),\"該当１\",\"\")","v":""},"","","",{"$f":"IF(AND(Q651=\"ﾘｽﾄ2\",OR(I651=0,AND(N651=\"同一区\",E651=1))),\"該当２\",\"\")","v":""},"",{"$f":"IF(S651=\"\",\"\",COUNTIF($S$7:S651,\"該当２\"))","v":""},"","",{"$f":"IF(V651=\"\",\"\",COUNTIF($V$7:V651,\"該当３\"))","v":""}]
[2020143013,20,{"v":201,"d":"201 "},{"v":43,"d":"43 "},{"v":13,"d":"013 "},"長野県","長野市","鬼無里村","新倉",null,"","",{"$f":"IF(K652=\"\",\"\",COUNTIF($K$7:K652,\"ﾘｽﾄ１\"))","v":""},"","","","","","","",{"$f":"IF(S652=\"\",\"\",COUNTIF($S$7:S652,\"該当２\"))","v":""},"","",{"$f":"IF(V652=\"\",\"\",COUNTIF($V$7:V652,\"該当３\"))","v":""}]
[2020143014,20,{"v":201,"d":"201 "},{"v":43,"d":"43 "},{"v":14,"d":"014 "},"長野県","長野市","鬼無里村","上新倉",null,"","",{"$f":"IF(K653=\"\",\"\",COUNTIF($K$7:K653,\"ﾘｽﾄ１\"))","v":""},"","","","","","","",{"$f":"IF(S653=\"\",\"\",COUNTIF($S$7:S653,\"該当２\"))","v":""},"","",{"$f":"IF(V653=\"\",\"\",COUNTIF($V$7:V653,\"該当３\"))","v":""}]
[2020143015,20,{"v":201,"d":"201 "},{"v":43,"d":"43 "},{"v":15,"d":"015 "},"長野県","長野市","鬼無里村","町",null,"","",{"$f":"IF(K654=\"\",\"\",COUNTIF($K$7:K654,\"ﾘｽﾄ１\"))","v":""},"","","","","","","",{"$f":"IF(S654=\"\",\"\",COUNTIF($S$7:S654,\"該当２\"))","v":""},"","",{"$f":"IF(V654=\"\",\"\",COUNTIF($V$7:V654,\"該当３\"))","v":""}]
[2020143016,20,{"v":201,"d":"201 "},{"v":43,"d":"43 "},{"v":16,"d":"016 "},"長野県","長野市","鬼無里村","松原",null,"","",{"$f":"IF(K655=\"\",\"\",COUNTIF($K$7:K655,\"ﾘｽﾄ１\"))","v":""},"","","","","","","",{"$f":"IF(S655=\"\",\"\",COUNTIF($S$7:S655,\"該当２\"))","v":""},"","",{"$f":"IF(V655=\"\",\"\",COUNTIF($V$7:V655,\"該当３\"))","v":""}]
[2020143017,20,{"v":201,"d":"201 "},{"v":43,"d":"43 "},{"v":17,"d":"017 "},"長野県","長野市","鬼無里村","東京",null,"","",{"$f":"IF(K656=\"\",\"\",COUNTIF($K$7:K656,\"ﾘｽﾄ１\"))","v":""},"","","","","","","",{"$f":"IF(S656=\"\",\"\",COUNTIF($S$7:S656,\"該当２\"))","v":""},"","",{"$f":"IF(V656=\"\",\"\",COUNTIF($V$7:V656,\"該当３\"))","v":""}]
[2020143018,20,{"v":201,"d":"201 "},{"v":43,"d":"43 "},{"v":18,"d":"018 "},"長野県","長野市","鬼無里村","上平",null,"","",{"$f":"IF(K657=\"\",\"\",COUNTIF($K$7:K657,\"ﾘｽﾄ１\"))","v":""},"","","","","","","",{"$f":"IF(S657=\"\",\"\",COUNTIF($S$7:S657,\"該当２\"))","v":""},"","",{"$f":"IF(V657=\"\",\"\",COUNTIF($V$7:V657,\"該当３\"))","v":""}]
[2020143019,20,{"v":201,"d":"201 "},{"v":43,"d":"43 "},{"v":19,"d":"019 "},"長野県","長野市","鬼無里村","中区",null,"","",{"$f":"IF(K658=\"\",\"\",COUNTIF($K$7:K658,\"ﾘｽﾄ１\"))","v":""},"","","","","","","",{"$f":"IF(S658=\"\",\"\",COUNTIF($S$7:S658,\"該当２\"))","v":""},"","",{"$f":"IF(V658=\"\",\"\",COUNTIF($V$7:V658,\"該当３\"))","v":""}]
[2020143020,20,{"v":201,"d":"201 "},{"v":43,"d":"43 "},{"v":20,"d":"020 "},"長野県","長野市","鬼無里村","積善",null,"","",{"$f":"IF(K659=\"\",\"\",COUNTIF($K$7:K659,\"ﾘｽﾄ１\"))","v":""},"","","","","","","",{"$f":"IF(S659=\"\",\"\",COUNTIF($S$7:S659,\"該当２\"))","v":""},"","",{"$f":"IF(V659=\"\",\"\",COUNTIF($V$7:V659,\"該当３\"))","v":""}]
[2020143021,20,{"v":201,"d":"201 "},{"v":43,"d":"43 "},{"v":21,"d":"021 "},"長野県","長野市","鬼無里村","共栄",null,"","",{"$f":"IF(K660=\"\",\"\",COUNTIF($K$7:K660,\"ﾘｽﾄ１\"))","v":""},"","","","","","","",{"$f":"IF(S660=\"\",\"\",COUNTIF($S$7:S660,\"該当２\"))","v":""},"","",{"$f":"IF(V660=\"\",\"\",COUNTIF($V$7:V660,\"該当３\"))","v":""}]
[2020143022,20,{"v":201,"d":"201 "},{"v":43,"d":"43 "},{"v":22,"d":"022 "},"長野県","長野市","鬼無里村","裾花一",null,"","",{"$f":"IF(K661=\"\",\"\",COUNTIF($K$7:K661,\"ﾘｽﾄ１\"))","v":""},"","","","","","","",{"$f":"IF(S661=\"\",\"\",COUNTIF($S$7:S661,\"該当２\"))","v":""},"","",{"$f":"IF(V661=\"\",\"\",COUNTIF($V$7:V661,\"該当３\"))","v":""}]
[2020143023,20,{"v":201,"d":"201 "},{"v":43,"d":"43 "},{"v":23,"d":"023 "},"長野県","長野市","鬼無里村","裾花二",null,"","",{"$f":"IF(K662=\"\",\"\",COUNTIF($K$7:K662,\"ﾘｽﾄ１\"))","v":""},"","","","","","","",{"$f":"IF(S662=\"\",\"\",COUNTIF($S$7:S662,\"該当２\"))","v":""},"","",{"$f":"IF(V662=\"\",\"\",COUNTIF($V$7:V662,\"該当３\"))","v":""}]
[2020143024,20,{"v":201,"d":"201 "},{"v":43,"d":"43 "},{"v":24,"d":"024 "},"長野県","長野市","鬼無里村","西京",null,"","",{"$f":"IF(K663=\"\",\"\",COUNTIF($K$7:K663,\"ﾘｽﾄ１\"))","v":""},"","","","","","","",{"$f":"IF(S663=\"\",\"\",COUNTIF($S$7:S663,\"該当２\"))","v":""},"","",{"$f":"IF(V663=\"\",\"\",COUNTIF($V$7:V663,\"該当３\"))","v":""}]
[2020143025,20,{"v":201,"d":"201 "},{"v":43,"d":"43 "},{"v":25,"d":"025 "},"長野県","長野市","鬼無里村","峰南",null,"","",{"$f":"IF(K664=\"\",\"\",COUNTIF($K$7:K664,\"ﾘｽﾄ１\"))","v":""},"","","","","","","",{"$f":"IF(S664=\"\",\"\",COUNTIF($S$7:S664,\"該当２\"))","v":""},"","",{"$f":"IF(V664=\"\",\"\",COUNTIF($V$7:V664,\"該当３\"))","v":""}]
[2020143026,20,{"v":201,"d":"201 "},{"v":43,"d":"43 "},{"v":26,"d":"026 "},"長野県","長野市","鬼無里村","府根合",null,"","",{"$f":"IF(K665=\"\",\"\",COUNTIF($K$7:K665,\"ﾘｽﾄ１\"))","v":""},"","","","","","","",{"$f":"IF(S665=\"\",\"\",COUNTIF($S$7:S665,\"該当２\"))","v":""},"","",{"$f":"IF(V665=\"\",\"\",COUNTIF($V$7:V665,\"該当３\"))","v":""}]
[2020143027,20,{"v":201,"d":"201 "},{"v":43,"d":"43 "},{"v":27,"d":"027 "},"長野県","長野市","鬼無里村","田之頭",null,"","",{"$f":"IF(K666=\"\",\"\",COUNTIF($K$7:K666,\"ﾘｽﾄ１\"))","v":""},"","","","","","","",{"$f":"IF(S666=\"\",\"\",COUNTIF($S$7:S666,\"該当２\"))","v":""},"","",{"$f":"IF(V666=\"\",\"\",COUNTIF($V$7:V666,\"該当３\"))","v":""}]
[2020143028,20,{"v":201,"d":"201 "},{"v":43,"d":"43 "},{"v":28,"d":"028 "},"長野県","長野市","鬼無里村","押一",null,"","",{"$f":"IF(K667=\"\",\"\",COUNTIF($K$7:K667,\"ﾘｽﾄ１\"))","v":""},"","","","","","","",{"$f":"IF(S667=\"\",\"\",COUNTIF($S$7:S667,\"該当２\"))","v":""},"","",{"$f":"IF(V667=\"\",\"\",COUNTIF($V$7:V667,\"該当３\"))","v":""}]
[2020144000,20,{"v":201,"d":"201 "},{"v":44,"d":"44 "},{"v":0,"d":"000 "},"長野県","長野市","大岡村",null,null,"","",{"$f":"IF(K668=\"\",\"\",COUNTIF($K$7:K668,\"ﾘｽﾄ１\"))","v":""},"","","","","","","",{"$f":"IF(S668=\"\",\"\",COUNTIF($S$7:S668,\"該当２\"))","v":""},"","",{"$f":"IF(V668=\"\",\"\",COUNTIF($V$7:V668,\"該当３\"))","v":""}]
[2020144001,20,{"v":201,"d":"201 "},{"v":44,"d":"44 "},{"v":1,"d":"001 "},"長野県","長野市","大岡村","新田，外花見",null,"","",{"$f":"IF(K669=\"\",\"\",COUNTIF($K$7:K669,\"ﾘｽﾄ１\"))","v":""},"","","","","","","",{"$f":"IF(S669=\"\",\"\",COUNTIF($S$7:S669,\"該当２\"))","v":""},"","",{"$f":"IF(V669=\"\",\"\",COUNTIF($V$7:V669,\"該当３\"))","v":""}]
[2020144002,20,{"v":201,"d":"201 "},{"v":44,"d":"44 "},{"v":2,"d":"002 "},"長野県","長野市","大岡村","内花見",null,"","",{"$f":"IF(K670=\"\",\"\",COUNTIF($K$7:K670,\"ﾘｽﾄ１\"))","v":""},"","","","","","","",{"$f":"IF(S670=\"\",\"\",COUNTIF($S$7:S670,\"該当２\"))","v":""},"","",{"$f":"IF(V670=\"\",\"\",COUNTIF($V$7:V670,\"該当３\"))","v":""}]
[2020144003,20,{"v":201,"d":"201 "},{"v":44,"d":"44 "},{"v":3,"d":"003 "},"長野県","長野市","大岡村","慶師",null,"","",{"$f":"IF(K671=\"\",\"\",COUNTIF($K$7:K671,\"ﾘｽﾄ１\"))","v":""},"","","","","","","",{"$f":"IF(S671=\"\",\"\",COUNTIF($S$7:S671,\"該当２\"))","v":""},"","",{"$f":"IF(V671=\"\",\"\",COUNTIF($V$7:V671,\"該当３\"))","v":""}]
[2020144004,20,{"v":201,"d":"201 "},{"v":44,"d":"44 "},{"v":4,"d":"004 "},"長野県","長野市","大岡村","北三ケ村",null,"","",{"$f":"IF(K672=\"\",\"\",COUNTIF($K$7:K672,\"ﾘｽﾄ１\"))","v":""},"","","","","","","",{"$f":"IF(S672=\"\",\"\",COUNTIF($S$7:S672,\"該当２\"))","v":""},"","",{"$f":"IF(V672=\"\",\"\",COUNTIF($V$7:V672,\"該当３\"))","v":""}]
[2020144005,20,{"v":201,"d":"201 "},{"v":44,"d":"44 "},{"v":5,"d":"005 "},"長野県","長野市","大岡村","上栗尾，高市場",null,"","",{"$f":"IF(K673=\"\",\"\",COUNTIF($K$7:K673,\"ﾘｽﾄ１\"))","v":""},"","","","","","","",{"$f":"IF(S673=\"\",\"\",COUNTIF($S$7:S673,\"該当２\"))","v":""},"","",{"$f":"IF(V673=\"\",\"\",COUNTIF($V$7:V673,\"該当３\"))","v":""}]
[2020144006,20,{"v":201,"d":"201 "},{"v":44,"d":"44 "},{"v":6,"d":"006 "},"長野県","長野市","大岡村","下栗尾",null,"","",{"$f":"IF(K674=\"\",\"\",COUNTIF($K$7:K674,\"ﾘｽﾄ１\"))","v":""},"","","","","","","",{"$f":"IF(S674=\"\",\"\",COUNTIF($S$7:S674,\"該当２\"))","v":""},"","",{"$f":"IF(V674=\"\",\"\",COUNTIF($V$7:V674,\"該当３\"))","v":""}]
[2020144007,20,{"v":201,"d":"201 "},{"v":44,"d":"44 "},{"v":7,"d":"007 "},"長野県","長野市","大岡村","棚原",null,"","",{"$f":"IF(K675=\"\",\"\",COUNTIF($K$7:K675,\"ﾘｽﾄ１\"))","v":""},"","","","","","","",{"$f":"IF(S675=\"\",\"\",COUNTIF($S$7:S675,\"該当２\"))","v":""},"","",{"$f":"IF(V675=\"\",\"\",COUNTIF($V$7:V675,\"該当３\"))","v":""}]
[2020144008,20,{"v":201,"d":"201 "},{"v":44,"d":"44 "},{"v":8,"d":"008 "},"長野県","長野市","大岡村","北小松尾",null,"","",{"$f":"IF(K676=\"\",\"\",COUNTIF($K$7:K676,\"ﾘｽﾄ１\"))","v":""},"","","","","","","",{"$f":"IF(S676=\"\",\"\",COUNTIF($S$7:S676,\"該当２\"))","v":""},"","",{"$f":"IF(V676=\"\",\"\",COUNTIF($V$7:V676,\"該当３\"))","v":""}]
[2020144009,20,{"v":201,"d":"201 "},{"v":44,"d":"44 "},{"v":9,"d":"009 "},"長野県","長野市","大岡村","川口南",null,"","",{"$f":"IF(K677=\"\",\"\",COUNTIF($K$7:K677,\"ﾘｽﾄ１\"))","v":""},"","","","","","","",{"$f":"IF(S677=\"\",\"\",COUNTIF($S$7:S677,\"該当２\"))","v":""},"","",{"$f":"IF(V677=\"\",\"\",COUNTIF($V$7:V677,\"該当３\"))","v":""}]
[2020144010,20,{"v":201,"d":"201 "},{"v":44,"d":"44 "},{"v":10,"d":"010 "},"長野県","長野市","大岡村","川口北",null,"","",{"$f":"IF(K678=\"\",\"\",COUNTIF($K$7:K678,\"ﾘｽﾄ１\"))","v":""},"","","","","","","",{"$f":"IF(S678=\"\",\"\",COUNTIF($S$7:S678,\"該当２\"))","v":""},"","",{"$f":"IF(V678=\"\",\"\",COUNTIF($V$7:V678,\"該当３\"))","v":""}]
[2020144011,20,{"v":201,"d":"201 "},{"v":44,"d":"44 "},{"v":11,"d":"011 "},"長野県","長野市","大岡村","日合",null,"","",{"$f":"IF(K679=\"\",\"\",COUNTIF($K$7:K679,\"ﾘｽﾄ１\"))","v":""},"","","","","","","",{"$f":"IF(S679=\"\",\"\",COUNTIF($S$7:S679,\"該当２\"))","v":""},"","",{"$f":"IF(V679=\"\",\"\",COUNTIF($V$7:V679,\"該当３\"))","v":""}]
[2020144012,20,{"v":201,"d":"201 "},{"v":44,"d":"44 "},{"v":12,"d":"012 "},"長野県","長野市","大岡村","安賀",null,"","",{"$f":"IF(K680=\"\",\"\",COUNTIF($K$7:K680,\"ﾘｽﾄ１\"))","v":""},"","","","","","","",{"$f":"IF(S680=\"\",\"\",COUNTIF($S$7:S680,\"該当２\"))","v":""},"","",{"$f":"IF(V680=\"\",\"\",COUNTIF($V$7:V680,\"該当３\"))","v":""}]
[2020144013,20,{"v":201,"d":"201 "},{"v":44,"d":"44 "},{"v":13,"d":"013 "},"長野県","長野市","大岡村","梨木",null,"","",{"$f":"IF(K681=\"\",\"\",COUNTIF($K$7:K681,\"ﾘｽﾄ１\"))","v":""},"","","","","","","",{"$f":"IF(S681=\"\",\"\",COUNTIF($S$7:S681,\"該当２\"))","v":""},"","",{"$f":"IF(V681=\"\",\"\",COUNTIF($V$7:V681,\"該当３\"))","v":""}]
[2020144014,20,{"v":201,"d":"201 "},{"v":44,"d":"44 "},{"v":14,"d":"014 "},"長野県","長野市","大岡村","大田和，梶平",null,"","",{"$f":"IF(K682=\"\",\"\",COUNTIF($K$7:K682,\"ﾘｽﾄ１\"))","v":""},"","","","","","","",{"$f":"IF(S682=\"\",\"\",COUNTIF($S$7:S682,\"該当２\"))","v":""},"","",{"$f":"IF(V682=\"\",\"\",COUNTIF($V$7:V682,\"該当３\"))","v":""}]
[2020144015,20,{"v":201,"d":"201 "},{"v":44,"d":"44 "},{"v":15,"d":"015 "},"長野県","長野市","大岡村","和平",null,"","",{"$f":"IF(K683=\"\",\"\",COUNTIF($K$7:K683,\"ﾘｽﾄ１\"))","v":""},"","","","","","","",{"$f":"IF(S683=\"\",\"\",COUNTIF($S$7:S683,\"該当２\"))","v":""},"","",{"$f":"IF(V683=\"\",\"\",COUNTIF($V$7:V683,\"該当３\"))","v":""}]
[2020144016,20,{"v":201,"d":"201 "},{"v":44,"d":"44 "},{"v":16,"d":"016 "},"長野県","長野市","大岡村","仏風，椚木，萱苅場",null,"","",{"$f":"IF(K684=\"\",\"\",COUNTIF($K$7:K684,\"ﾘｽﾄ１\"))","v":""},"","","","","","","",{"$f":"IF(S684=\"\",\"\",COUNTIF($S$7:S684,\"該当２\"))","v":""},"","",{"$f":"IF(V684=\"\",\"\",COUNTIF($V$7:V684,\"該当３\"))","v":""}]
[2020144017,20,{"v":201,"d":"201 "},{"v":44,"d":"44 "},{"v":17,"d":"017 "},"長野県","長野市","大岡村","女蔵里",null,"","",{"$f":"IF(K685=\"\",\"\",COUNTIF($K$7:K685,\"ﾘｽﾄ１\"))","v":""},"","","","","","","",{"$f":"IF(S685=\"\",\"\",COUNTIF($S$7:S685,\"該当２\"))","v":""},"","",{"$f":"IF(V685=\"\",\"\",COUNTIF($V$7:V685,\"該当３\"))","v":""}]
[2020144018,20,{"v":201,"d":"201 "},{"v":44,"d":"44 "},{"v":18,"d":"018 "},"長野県","長野市","大岡村","宮平",null,"","",{"$f":"IF(K686=\"\",\"\",COUNTIF($K$7:K686,\"ﾘｽﾄ１\"))","v":""},"","","","","","","",{"$f":"IF(S686=\"\",\"\",COUNTIF($S$7:S686,\"該当２\"))","v":""},"","",{"$f":"IF(V686=\"\",\"\",COUNTIF($V$7:V686,\"該当３\"))","v":""}]
[2020144019,20,{"v":201,"d":"201 "},{"v":44,"d":"44 "},{"v":19,"d":"019 "},"長野県","長野市","大岡村","樺内",null,"","",{"$f":"IF(K687=\"\",\"\",COUNTIF($K$7:K687,\"ﾘｽﾄ１\"))","v":""},"","","","","","","",{"$f":"IF(S687=\"\",\"\",COUNTIF($S$7:S687,\"該当２\"))","v":""},"","",{"$f":"IF(V687=\"\",\"\",COUNTIF($V$7:V687,\"該当３\"))","v":""}]
[2020144020,20,{"v":201,"d":"201 "},{"v":44,"d":"44 "},{"v":20,"d":"020 "},"長野県","長野市","大岡村","中挾",null,"","",{"$f":"IF(K688=\"\",\"\",COUNTIF($K$7:K688,\"ﾘｽﾄ１\"))","v":""},"","","","","","","",{"$f":"IF(S688=\"\",\"\",COUNTIF($S$7:S688,\"該当２\"))","v":""},"","",{"$f":"IF(V688=\"\",\"\",COUNTIF($V$7:V688,\"該当３\"))","v":""}]
[2020144021,20,{"v":201,"d":"201 "},{"v":44,"d":"44 "},{"v":21,"d":"021 "},"長野県","長野市","大岡村","石津",null,"","",{"$f":"IF(K689=\"\",\"\",COUNTIF($K$7:K689,\"ﾘｽﾄ１\"))","v":""},"","","","","","","",{"$f":"IF(S689=\"\",\"\",COUNTIF($S$7:S689,\"該当２\"))","v":""},"","",{"$f":"IF(V689=\"\",\"\",COUNTIF($V$7:V689,\"該当３\"))","v":""}]
[2020144022,20,{"v":201,"d":"201 "},{"v":44,"d":"44 "},{"v":22,"d":"022 "},"長野県","長野市","大岡村","門増",null,"","",{"$f":"IF(K690=\"\",\"\",COUNTIF($K$7:K690,\"ﾘｽﾄ１\"))","v":""},"","","","","","","",{"$f":"IF(S690=\"\",\"\",COUNTIF($S$7:S690,\"該当２\"))","v":""},"","",{"$f":"IF(V690=\"\",\"\",COUNTIF($V$7:V690,\"該当３\"))","v":""}]
[2020144023,20,{"v":201,"d":"201 "},{"v":44,"d":"44 "},{"v":23,"d":"023 "},"長野県","長野市","大岡村","町田",null,"","",{"$f":"IF(K691=\"\",\"\",COUNTIF($K$7:K691,\"ﾘｽﾄ１\"))","v":""},"","","","","","","",{"$f":"IF(S691=\"\",\"\",COUNTIF($S$7:S691,\"該当２\"))","v":""},"","",{"$f":"IF(V691=\"\",\"\",COUNTIF($V$7:V691,\"該当３\"))","v":""}]
[2020144024,20,{"v":201,"d":"201 "},{"v":44,"d":"44 "},{"v":24,"d":"024 "},"長野県","長野市","大岡村","下大岡",null,"","",{"$f":"IF(K692=\"\",\"\",COUNTIF($K$7:K692,\"ﾘｽﾄ１\"))","v":""},"","","","","","","",{"$f":"IF(S692=\"\",\"\",COUNTIF($S$7:S692,\"該当２\"))","v":""},"","",{"$f":"IF(V692=\"\",\"\",COUNTIF($V$7:V692,\"該当３\"))","v":""}]
[2020144025,20,{"v":201,"d":"201 "},{"v":44,"d":"44 "},{"v":25,"d":"025 "},"長野県","長野市","大岡村","根越．花尾",null,"","",{"$f":"IF(K693=\"\",\"\",COUNTIF($K$7:K693,\"ﾘｽﾄ１\"))","v":""},"","","","","","","",{"$f":"IF(S693=\"\",\"\",COUNTIF($S$7:S693,\"該当２\"))","v":""},"","",{"$f":"IF(V693=\"\",\"\",COUNTIF($V$7:V693,\"該当３\"))","v":""}]
[2020144026,20,{"v":201,"d":"201 "},{"v":44,"d":"44 "},{"v":26,"d":"026 "},"長野県","長野市","大岡村","日向，長瀬",null,"","",{"$f":"IF(K694=\"\",\"\",COUNTIF($K$7:K694,\"ﾘｽﾄ１\"))","v":""},"","","","","","","",{"$f":"IF(S694=\"\",\"\",COUNTIF($S$7:S694,\"該当２\"))","v":""},"","",{"$f":"IF(V694=\"\",\"\",COUNTIF($V$7:V694,\"該当３\"))","v":""}]
[2020144027,20,{"v":201,"d":"201 "},{"v":44,"d":"44 "},{"v":27,"d":"027 "},"長野県","長野市","大岡村","平",null,"","",{"$f":"IF(K695=\"\",\"\",COUNTIF($K$7:K695,\"ﾘｽﾄ１\"))","v":""},"","","","","","","",{"$f":"IF(S695=\"\",\"\",COUNTIF($S$7:S695,\"該当２\"))","v":""},"","",{"$f":"IF(V695=\"\",\"\",COUNTIF($V$7:V695,\"該当３\"))","v":""}]
[2020144028,20,{"v":201,"d":"201 "},{"v":44,"d":"44 "},{"v":28,"d":"028 "},"長野県","長野市","大岡村","代．柿挾",null,"","",{"$f":"IF(K696=\"\",\"\",COUNTIF($K$7:K696,\"ﾘｽﾄ１\"))","v":""},"","","","","","","",{"$f":"IF(S696=\"\",\"\",COUNTIF($S$7:S696,\"該当２\"))","v":""},"","",{"$f":"IF(V696=\"\",\"\",COUNTIF($V$7:V696,\"該当３\"))","v":""}]
[2020144029,20,{"v":201,"d":"201 "},{"v":44,"d":"44 "},{"v":29,"d":"029 "},"長野県","長野市","大岡村","芦ノ尻",null,"","",{"$f":"IF(K697=\"\",\"\",COUNTIF($K$7:K697,\"ﾘｽﾄ１\"))","v":""},"","","","","","","",{"$f":"IF(S697=\"\",\"\",COUNTIF($S$7:S697,\"該当２\"))","v":""},"","",{"$f":"IF(V697=\"\",\"\",COUNTIF($V$7:V697,\"該当３\"))","v":""}]
[2020144030,20,{"v":201,"d":"201 "},{"v":44,"d":"44 "},{"v":30,"d":"030 "},"長野県","長野市","大岡村","長岩，佃見",null,"","",{"$f":"IF(K698=\"\",\"\",COUNTIF($K$7:K698,\"ﾘｽﾄ１\"))","v":""},"","","","","","","",{"$f":"IF(S698=\"\",\"\",COUNTIF($S$7:S698,\"該当２\"))","v":""},"","",{"$f":"IF(V698=\"\",\"\",COUNTIF($V$7:V698,\"該当３\"))","v":""}]
[2020144031,20,{"v":201,"d":"201 "},{"v":44,"d":"44 "},{"v":31,"d":"031 "},"長野県","長野市","大岡村","笹久",null,"","",{"$f":"IF(K699=\"\",\"\",COUNTIF($K$7:K699,\"ﾘｽﾄ１\"))","v":""},"","","","","","","",{"$f":"IF(S699=\"\",\"\",COUNTIF($S$7:S699,\"該当２\"))","v":""},"","",{"$f":"IF(V699=\"\",\"\",COUNTIF($V$7:V699,\"該当３\"))","v":""}]
[2020144032,20,{"v":201,"d":"201 "},{"v":44,"d":"44 "},{"v":32,"d":"032 "},"長野県","長野市","大岡村","白井沢",null,"","",{"$f":"IF(K700=\"\",\"\",COUNTIF($K$7:K700,\"ﾘｽﾄ１\"))","v":""},"","","","","","","",{"$f":"IF(S700=\"\",\"\",COUNTIF($S$7:S700,\"該当２\"))","v":""},"","",{"$f":"IF(V700=\"\",\"\",COUNTIF($V$7:V700,\"該当３\"))","v":""}]
[2020144033,20,{"v":201,"d":"201 "},{"v":44,"d":"44 "},{"v":33,"d":"033 "},"長野県","長野市","大岡村","桐沢",null,"","",{"$f":"IF(K701=\"\",\"\",COUNTIF($K$7:K701,\"ﾘｽﾄ１\"))","v":""},"","","","","","","",{"$f":"IF(S701=\"\",\"\",COUNTIF($S$7:S701,\"該当２\"))","v":""},"","",{"$f":"IF(V701=\"\",\"\",COUNTIF($V$7:V701,\"該当３\"))","v":""}]
[2020144034,20,{"v":201,"d":"201 "},{"v":44,"d":"44 "},{"v":34,"d":"034 "},"長野県","長野市","大岡村","南小松尾",null,"","",{"$f":"IF(K702=\"\",\"\",COUNTIF($K$7:K702,\"ﾘｽﾄ１\"))","v":""},"","","","","","","",{"$f":"IF(S702=\"\",\"\",COUNTIF($S$7:S702,\"該当２\"))","v":""},"","",{"$f":"IF(V702=\"\",\"\",COUNTIF($V$7:V702,\"該当３\"))","v":""}]
[2020144035,20,{"v":201,"d":"201 "},{"v":44,"d":"44 "},{"v":35,"d":"035 "},"長野県","長野市","大岡村","泥平，市後沢",null,"","",{"$f":"IF(K703=\"\",\"\",COUNTIF($K$7:K703,\"ﾘｽﾄ１\"))","v":""},"","","","","","","",{"$f":"IF(S703=\"\",\"\",COUNTIF($S$7:S703,\"該当２\"))","v":""},"","",{"$f":"IF(V703=\"\",\"\",COUNTIF($V$7:V703,\"該当３\"))","v":""}]
[2020144036,20,{"v":201,"d":"201 "},{"v":44,"d":"44 "},{"v":36,"d":"036 "},"長野県","長野市","大岡村","聖開拓",null,"","",{"$f":"IF(K704=\"\",\"\",COUNTIF($K$7:K704,\"ﾘｽﾄ１\"))","v":""},"","","","","","","",{"$f":"IF(S704=\"\",\"\",COUNTIF($S$7:S704,\"該当２\"))","v":""},"","",{"$f":"IF(V704=\"\",\"\",COUNTIF($V$7:V704,\"該当３\"))","v":""}]
[2020144037,20,{"v":201,"d":"201 "},{"v":44,"d":"44 "},{"v":37,"d":"037 "},"長野県","長野市","大岡村","越中川",null,"","",{"$f":"IF(K705=\"\",\"\",COUNTIF($K$7:K705,\"ﾘｽﾄ１\"))","v":""},"","","","","","","",{"$f":"IF(S705=\"\",\"\",COUNTIF($S$7:S705,\"該当２\"))","v":""},"","",{"$f":"IF(V705=\"\",\"\",COUNTIF($V$7:V705,\"該当３\"))","v":""}]
[2020145000,20,{"v":201,"d":"201 "},{"v":45,"d":"45 "},{"v":0,"d":"000 "},"長野県","長野市","牧郷村２－２",null,null,"","",{"$f":"IF(K706=\"\",\"\",COUNTIF($K$7:K706,\"ﾘｽﾄ１\"))","v":""},"","","","","","","",{"$f":"IF(S706=\"\",\"\",COUNTIF($S$7:S706,\"該当２\"))","v":""},"","",{"$f":"IF(V706=\"\",\"\",COUNTIF($V$7:V706,\"該当３\"))","v":""}]
[2020145001,20,{"v":201,"d":"201 "},{"v":45,"d":"45 "},{"v":1,"d":"001 "},"長野県","長野市","牧郷村２－２","池田",null,"","",{"$f":"IF(K707=\"\",\"\",COUNTIF($K$7:K707,\"ﾘｽﾄ１\"))","v":""},"","","","","","","",{"$f":"IF(S707=\"\",\"\",COUNTIF($S$7:S707,\"該当２\"))","v":""},"","",{"$f":"IF(V707=\"\",\"\",COUNTIF($V$7:V707,\"該当３\"))","v":""}]
[2020145002,20,{"v":201,"d":"201 "},{"v":45,"d":"45 "},{"v":2,"d":"002 "},"長野県","長野市","牧郷村２－２","日方",null,"","",{"$f":"IF(K708=\"\",\"\",COUNTIF($K$7:K708,\"ﾘｽﾄ１\"))","v":""},"","","","","","","",{"$f":"IF(S708=\"\",\"\",COUNTIF($S$7:S708,\"該当２\"))","v":""},"","",{"$f":"IF(V708=\"\",\"\",COUNTIF($V$7:V708,\"該当３\"))","v":""}]
[2020145003,20,{"v":201,"d":"201 "},{"v":45,"d":"45 "},{"v":3,"d":"003 "},"長野県","長野市","牧郷村２－２","上中山",null,"","",{"$f":"IF(K709=\"\",\"\",COUNTIF($K$7:K709,\"ﾘｽﾄ１\"))","v":""},"","","","","","","",{"$f":"IF(S709=\"\",\"\",COUNTIF($S$7:S709,\"該当２\"))","v":""},"","",{"$f":"IF(V709=\"\",\"\",COUNTIF($V$7:V709,\"該当３\"))","v":""}]
[2020145004,20,{"v":201,"d":"201 "},{"v":45,"d":"45 "},{"v":4,"d":"004 "},"長野県","長野市","牧郷村２－２","聖沢",null,"","",{"$f":"IF(K710=\"\",\"\",COUNTIF($K$7:K710,\"ﾘｽﾄ１\"))","v":""},"","","","","","","",{"$f":"IF(S710=\"\",\"\",COUNTIF($S$7:S710,\"該当２\"))","v":""},"","",{"$f":"IF(V710=\"\",\"\",COUNTIF($V$7:V710,\"該当３\"))","v":""}]
[2020145005,20,{"v":201,"d":"201 "},{"v":45,"d":"45 "},{"v":5,"d":"005 "},"長野県","長野市","牧郷村２－２","中牧．新田",null,"","",{"$f":"IF(K711=\"\",\"\",COUNTIF($K$7:K711,\"ﾘｽﾄ１\"))","v":""},"","","","","","","",{"$f":"IF(S711=\"\",\"\",COUNTIF($S$7:S711,\"該当２\"))","v":""},"","",{"$f":"IF(V711=\"\",\"\",COUNTIF($V$7:V711,\"該当３\"))","v":""}]
[2020145006,20,{"v":201,"d":"201 "},{"v":45,"d":"45 "},{"v":6,"d":"006 "},"長野県","長野市","牧郷村２－２","古矢場",null,"","",{"$f":"IF(K712=\"\",\"\",COUNTIF($K$7:K712,\"ﾘｽﾄ１\"))","v":""},"","","","","","","",{"$f":"IF(S712=\"\",\"\",COUNTIF($S$7:S712,\"該当２\"))","v":""},"","",{"$f":"IF(V712=\"\",\"\",COUNTIF($V$7:V712,\"該当３\"))","v":""}]
[2020145007,20,{"v":201,"d":"201 "},{"v":45,"d":"45 "},{"v":7,"d":"007 "},"長野県","長野市","牧郷村２－２","曙",null,"","",{"$f":"IF(K713=\"\",\"\",COUNTIF($K$7:K713,\"ﾘｽﾄ１\"))","v":""},"","","","","","","",{"$f":"IF(S713=\"\",\"\",COUNTIF($S$7:S713,\"該当２\"))","v":""},"","",{"$f":"IF(V713=\"\",\"\",COUNTIF($V$7:V713,\"該当３\"))","v":""}]
[2020145008,20,{"v":201,"d":"201 "},{"v":45,"d":"45 "},{"v":8,"d":"008 "},"長野県","長野市","牧郷村２－２","米田和",null,"","",{"$f":"IF(K714=\"\",\"\",COUNTIF($K$7:K714,\"ﾘｽﾄ１\"))","v":""},"","",{"$f":"IF(O714=\"該当１\",G714,\"\")","v":""},{"$f":"IF(O714=\"該当１\",\"ﾘｽﾄ2\",\"\")","v":""},{"$f":"IF(Q714=\"ﾘｽﾄ2\",H714,\"\")","v":""},"",{"$f":"IF(S714=\"該当２\",H714,\"\")","v":""},{"$f":"IF(S714=\"\",\"\",COUNTIF($S$7:S714,\"該当２\"))","v":""},{"$f":"IF(AND($S$2=H714,E714>0,E714<998),\"該当３\",\"\")","v":""},{"$f":"IF(V714=\"該当３\",I714,\"\")","v":""},{"$f":"IF(V714=\"\",\"\",COUNTIF($V$7:V714,\"該当３\"))","v":""}]
[2020146000,20,{"v":201,"d":"201 "},{"v":46,"d":"46 "},{"v":0,"d":"000 "},"長野県","長野市","水内村（長野市）",null,null,{"$f":"IF(AND($C715>0,$H715=\"\"),\"ﾘｽﾄ１\",\"\")","v":""},{"$f":"IF(K715=\"ﾘｽﾄ１\",G715,\"\")","v":""},{"$f":"IF(K715=\"\",\"\",COUNTIF($K$7:K715,\"ﾘｽﾄ１\"))","v":""},{"$f":"IF(AND(D715=0,E715>0),\"同一区\",\"\")","v":""},{"$f":"IF(AND(EXACT($K$2,G715),H715>0),\"該当１\",\"\")","v":""},"","","",{"$f":"IF(AND(Q715=\"ﾘｽﾄ2\",OR(I715=0,AND(N715=\"同一区\",E715=1))),\"該当２\",\"\")","v":""},"",{"$f":"IF(S715=\"\",\"\",COUNTIF($S$7:S715,\"該当２\"))","v":""},"","",{"$f":"IF(V715=\"\",\"\",COUNTIF($V$7:V715,\"該当３\"))","v":""}]
[2020146001,20,{"v":201,"d":"201 "},{"v":46,"d":"46 "},{"v":1,"d":"001 "},"長野県","長野市","水内村（長野市）","里穂刈",null,"","",{"$f":"IF(K716=\"\",\"\",COUNTIF($K$7:K716,\"ﾘｽﾄ１\"))","v":""},"","","","","","","",{"$f":"IF(S716=\"\",\"\",COUNTIF($S$7:S716,\"該当２\"))","v":""},"","",{"$f":"IF(V716=\"\",\"\",COUNTIF($V$7:V716,\"該当３\"))","v":""}]
[2020146007,20,{"v":201,"d":"201 "},{"v":46,"d":"46 "},{"v":7,"d":"007 "},"長野県","長野市","水内村（長野市）","境町",null,"","",{"$f":"IF(K717=\"\",\"\",COUNTIF($K$7:K717,\"ﾘｽﾄ１\"))","v":""},"","","","","","","",{"$f":"IF(S717=\"\",\"\",COUNTIF($S$7:S717,\"該当２\"))","v":""},"","",{"$f":"IF(V717=\"\",\"\",COUNTIF($V$7:V717,\"該当３\"))","v":""}]
[2020146008,20,{"v":201,"d":"201 "},{"v":46,"d":"46 "},{"v":8,"d":"008 "},"長野県","長野市","水内村（長野市）","千原田",null,"","",{"$f":"IF(K718=\"\",\"\",COUNTIF($K$7:K718,\"ﾘｽﾄ１\"))","v":""},"","","","","","","",{"$f":"IF(S718=\"\",\"\",COUNTIF($S$7:S718,\"該当２\"))","v":""},"","",{"$f":"IF(V718=\"\",\"\",COUNTIF($V$7:V718,\"該当３\"))","v":""}]
[2020146009,20,{"v":201,"d":"201 "},{"v":46,"d":"46 "},{"v":9,"d":"009 "},"長野県","長野市","水内村（長野市）","本町",null,"","",{"$f":"IF(K719=\"\",\"\",COUNTIF($K$7:K719,\"ﾘｽﾄ１\"))","v":""},"","","","","","","",{"$f":"IF(S719=\"\",\"\",COUNTIF($S$7:S719,\"該当２\"))","v":""},"","",{"$f":"IF(V719=\"\",\"\",COUNTIF($V$7:V719,\"該当３\"))","v":""}]
[2020146010,20,{"v":201,"d":"201 "},{"v":46,"d":"46 "},{"v":10,"d":"010 "},"長野県","長野市","水内村（長野市）","久保",null,"","",{"$f":"IF(K720=\"\",\"\",COUNTIF($K$7:K720,\"ﾘｽﾄ１\"))","v":""},"","","","","","","",{"$f":"IF(S720=\"\",\"\",COUNTIF($S$7:S720,\"該当２\"))","v":""},"","",{"$f":"IF(V720=\"\",\"\",COUNTIF($V$7:V720,\"該当３\"))","v":""}]
[2020146011,20,{"v":201,"d":"201 "},{"v":46,"d":"46 "},{"v":11,"d":"011 "},"長野県","長野市","水内村（長野市）","矢ノ尻",null,"","",{"$f":"IF(K721=\"\",\"\",COUNTIF($K$7:K721,\"ﾘｽﾄ１\"))","v":""},"","","","","","","",{"$f":"IF(S721=\"\",\"\",COUNTIF($S$7:S721,\"該当２\"))","v":""},"","",{"$f":"IF(V721=\"\",\"\",COUNTIF($V$7:V721,\"該当３\"))","v":""}]
[2020146012,20,{"v":201,"d":"201 "},{"v":46,"d":"46 "},{"v":12,"d":"012 "},"長野県","長野市","水内村（長野市）","寺尾",null,"","",{"$f":"IF(K722=\"\",\"\",COUNTIF($K$7:K722,\"ﾘｽﾄ１\"))","v":""},"","","","","","","",{"$f":"IF(S722=\"\",\"\",COUNTIF($S$7:S722,\"該当２\"))","v":""},"","",{"$f":"IF(V722=\"\",\"\",COUNTIF($V$7:V722,\"該当３\"))","v":""}]
[2020146013,20,{"v":201,"d":"201 "},{"v":46,"d":"46 "},{"v":13,"d":"013 "},"長野県","長野市","水内村（長野市）","穴平",null,"","",{"$f":"IF(K723=\"\",\"\",COUNTIF($K$7:K723,\"ﾘｽﾄ１\"))","v":""},"","","","","","","",{"$f":"IF(S723=\"\",\"\",COUNTIF($S$7:S723,\"該当２\"))","v":""},"","",{"$f":"IF(V723=\"\",\"\",COUNTIF($V$7:V723,\"該当３\"))","v":""}]
[2020146014,20,{"v":201,"d":"201 "},{"v":46,"d":"46 "},{"v":14,"d":"014 "},"長野県","長野市","水内村（長野市）","二丁田",null,"","",{"$f":"IF(K724=\"\",\"\",COUNTIF($K$7:K724,\"ﾘｽﾄ１\"))","v":""},"","","","","","","",{"$f":"IF(S724=\"\",\"\",COUNTIF($S$7:S724,\"該当２\"))","v":""},"","",{"$f":"IF(V724=\"\",\"\",COUNTIF($V$7:V724,\"該当３\"))","v":""}]
[2020146015,20,{"v":201,"d":"201 "},{"v":46,"d":"46 "},{"v":15,"d":"015 "},"長野県","長野市","水内村（長野市）","花倉",null,"","",{"$f":"IF(K725=\"\",\"\",COUNTIF($K$7:K725,\"ﾘｽﾄ１\"))","v":""},"","","","","","","",{"$f":"IF(S725=\"\",\"\",COUNTIF($S$7:S725,\"該当２\"))","v":""},"","",{"$f":"IF(V725=\"\",\"\",COUNTIF($V$7:V725,\"該当３\"))","v":""}]
[2020146016,20,{"v":201,"d":"201 "},{"v":46,"d":"46 "},{"v":16,"d":"016 "},"長野県","長野市","水内村（長野市）","平",null,"","",{"$f":"IF(K726=\"\",\"\",COUNTIF($K$7:K726,\"ﾘｽﾄ１\"))","v":""},"","","","","","","",{"$f":"IF(S726=\"\",\"\",COUNTIF($S$7:S726,\"該当２\"))","v":""},"","",{"$f":"IF(V726=\"\",\"\",COUNTIF($V$7:V726,\"該当３\"))","v":""}]
[2020146017,20,{"v":201,"d":"201 "},{"v":46,"d":"46 "},{"v":17,"d":"017 "},"長野県","長野市","水内村（長野市）","追沢",null,"","",{"$f":"IF(K727=\"\",\"\",COUNTIF($K$7:K727,\"ﾘｽﾄ１\"))","v":""},"","","","","","","",{"$f":"IF(S727=\"\",\"\",COUNTIF($S$7:S727,\"該当２\"))","v":""},"","",{"$f":"IF(V727=\"\",\"\",COUNTIF($V$7:V727,\"該当３\"))","v":""}]
[2020146018,20,{"v":201,"d":"201 "},{"v":46,"d":"46 "},{"v":18,"d":"018 "},"長野県","長野市","水内村（長野市）","安用",null,"","",{"$f":"IF(K728=\"\",\"\",COUNTIF($K$7:K728,\"ﾘｽﾄ１\"))","v":""},"","","","","","","",{"$f":"IF(S728=\"\",\"\",COUNTIF($S$7:S728,\"該当２\"))","v":""},"","",{"$f":"IF(V728=\"\",\"\",COUNTIF($V$7:V728,\"該当３\"))","v":""}]
[2020146019,20,{"v":201,"d":"201 "},{"v":46,"d":"46 "},{"v":19,"d":"019 "},"長野県","長野市","水内村（長野市）","風越",null,"","",{"$f":"IF(K729=\"\",\"\",COUNTIF($K$7:K729,\"ﾘｽﾄ１\"))","v":""},"","","","","","","",{"$f":"IF(S729=\"\",\"\",COUNTIF($S$7:S729,\"該当２\"))","v":""},"","",{"$f":"IF(V729=\"\",\"\",COUNTIF($V$7:V729,\"該当３\"))","v":""}]
[2020146020,20,{"v":201,"d":"201 "},{"v":46,"d":"46 "},{"v":20,"d":"020 "},"長野県","長野市","水内村（長野市）","橋場",null,"","",{"$f":"IF(K730=\"\",\"\",COUNTIF($K$7:K730,\"ﾘｽﾄ１\"))","v":""},"","","","","","","",{"$f":"IF(S730=\"\",\"\",COUNTIF($S$7:S730,\"該当２\"))","v":""},"","",{"$f":"IF(V730=\"\",\"\",COUNTIF($V$7:V730,\"該当３\"))","v":""}]
[2020146021,20,{"v":201,"d":"201 "},{"v":46,"d":"46 "},{"v":21,"d":"021 "},"長野県","長野市","水内村（長野市）","新町第一",null,"","",{"$f":"IF(K731=\"\",\"\",COUNTIF($K$7:K731,\"ﾘｽﾄ１\"))","v":""},"","","","","","","",{"$f":"IF(S731=\"\",\"\",COUNTIF($S$7:S731,\"該当２\"))","v":""},"","",{"$f":"IF(V731=\"\",\"\",COUNTIF($V$7:V731,\"該当３\"))","v":""}]
[2020146022,20,{"v":201,"d":"201 "},{"v":46,"d":"46 "},{"v":22,"d":"022 "},"長野県","長野市","水内村（長野市）","新町第二",null,"","",{"$f":"IF(K732=\"\",\"\",COUNTIF($K$7:K732,\"ﾘｽﾄ１\"))","v":""},"","","","","","","",{"$f":"IF(S732=\"\",\"\",COUNTIF($S$7:S732,\"該当２\"))","v":""},"","",{"$f":"IF(V732=\"\",\"\",COUNTIF($V$7:V732,\"該当３\"))","v":""}]
[2020147000,20,{"v":201,"d":"201 "},{"v":47,"d":"47 "},{"v":0,"d":"000 "},"長野県","長野市","津和村",null,null,"","",{"$f":"IF(K733=\"\",\"\",COUNTIF($K$7:K733,\"ﾘｽﾄ１\"))","v":""},"","","","","","","",{"$f":"IF(S733=\"\",\"\",COUNTIF($S$7:S733,\"該当２\"))","v":""},"","",{"$f":"IF(V733=\"\",\"\",COUNTIF($V$7:V733,\"該当３\"))","v":""}]
[2020147001,20,{"v":201,"d":"201 "},{"v":47,"d":"47 "},{"v":1,"d":"001 "},"長野県","長野市","津和村","峰組",null,"","",{"$f":"IF(K734=\"\",\"\",COUNTIF($K$7:K734,\"ﾘｽﾄ１\"))","v":""},"","","","","","","",{"$f":"IF(S734=\"\",\"\",COUNTIF($S$7:S734,\"該当２\"))","v":""},"","",{"$f":"IF(V734=\"\",\"\",COUNTIF($V$7:V734,\"該当３\"))","v":""}]
[2020147002,20,{"v":201,"d":"201 "},{"v":47,"d":"47 "},{"v":2,"d":"002 "},"長野県","長野市","津和村","枌の木",null,"","",{"$f":"IF(K735=\"\",\"\",COUNTIF($K$7:K735,\"ﾘｽﾄ１\"))","v":""},"","","","","","","",{"$f":"IF(S735=\"\",\"\",COUNTIF($S$7:S735,\"該当２\"))","v":""},"","",{"$f":"IF(V735=\"\",\"\",COUNTIF($V$7:V735,\"該当３\"))","v":""}]
[2020147003,20,{"v":201,"d":"201 "},{"v":47,"d":"47 "},{"v":3,"d":"003 "},"長野県","長野市","津和村","赤柴",null,"","",{"$f":"IF(K736=\"\",\"\",COUNTIF($K$7:K736,\"ﾘｽﾄ１\"))","v":""},"","","","","","","",{"$f":"IF(S736=\"\",\"\",COUNTIF($S$7:S736,\"該当２\"))","v":""},"","",{"$f":"IF(V736=\"\",\"\",COUNTIF($V$7:V736,\"該当３\"))","v":""}]
[2020147004,20,{"v":201,"d":"201 "},{"v":47,"d":"47 "},{"v":4,"d":"004 "},"長野県","長野市","津和村","大河",null,"","",{"$f":"IF(K737=\"\",\"\",COUNTIF($K$7:K737,\"ﾘｽﾄ１\"))","v":""},"","","","","","","",{"$f":"IF(S737=\"\",\"\",COUNTIF($S$7:S737,\"該当２\"))","v":""},"","",{"$f":"IF(V737=\"\",\"\",COUNTIF($V$7:V737,\"該当３\"))","v":""}]
[2020147005,20,{"v":201,"d":"201 "},{"v":47,"d":"47 "},{"v":5,"d":"005 "},"長野県","長野市","津和村","西日時",null,"","",{"$f":"IF(K738=\"\",\"\",COUNTIF($K$7:K738,\"ﾘｽﾄ１\"))","v":""},"","","","","","","",{"$f":"IF(S738=\"\",\"\",COUNTIF($S$7:S738,\"該当２\"))","v":""},"","",{"$f":"IF(V738=\"\",\"\",COUNTIF($V$7:V738,\"該当３\"))","v":""}]
[2020147006,20,{"v":201,"d":"201 "},{"v":47,"d":"47 "},{"v":6,"d":"006 "},"長野県","長野市","津和村","下川，西平",null,"","",{"$f":"IF(K739=\"\",\"\",COUNTIF($K$7:K739,\"ﾘｽﾄ１\"))","v":""},"","","","","","","",{"$f":"IF(S739=\"\",\"\",COUNTIF($S$7:S739,\"該当２\"))","v":""},"","",{"$f":"IF(V739=\"\",\"\",COUNTIF($V$7:V739,\"該当３\"))","v":""}]
[2020147007,20,{"v":201,"d":"201 "},{"v":47,"d":"47 "},{"v":7,"d":"007 "},"長野県","長野市","津和村","太田笠子",null,"","",{"$f":"IF(K740=\"\",\"\",COUNTIF($K$7:K740,\"ﾘｽﾄ１\"))","v":""},"","","","","","","",{"$f":"IF(S740=\"\",\"\",COUNTIF($S$7:S740,\"該当２\"))","v":""},"","",{"$f":"IF(V740=\"\",\"\",COUNTIF($V$7:V740,\"該当３\"))","v":""}]
[2020147008,20,{"v":201,"d":"201 "},{"v":47,"d":"47 "},{"v":8,"d":"008 "},"長野県","長野市","津和村","旭",null,"","",{"$f":"IF(K741=\"\",\"\",COUNTIF($K$7:K741,\"ﾘｽﾄ１\"))","v":""},"","","","","","","",{"$f":"IF(S741=\"\",\"\",COUNTIF($S$7:S741,\"該当２\"))","v":""},"","",{"$f":"IF(V741=\"\",\"\",COUNTIF($V$7:V741,\"該当３\"))","v":""}]
[2020147009,20,{"v":201,"d":"201 "},{"v":47,"d":"47 "},{"v":9,"d":"009 "},"長野県","長野市","津和村","本村",null,"","",{"$f":"IF(K742=\"\",\"\",COUNTIF($K$7:K742,\"ﾘｽﾄ１\"))","v":""},"","","","","","","",{"$f":"IF(S742=\"\",\"\",COUNTIF($S$7:S742,\"該当２\"))","v":""},"","",{"$f":"IF(V742=\"\",\"\",COUNTIF($V$7:V742,\"該当３\"))","v":""}]
[2020147010,20,{"v":201,"d":"201 "},{"v":47,"d":"47 "},{"v":10,"d":"010 "},"長野県","長野市","津和村","津和中央",null,"","",{"$f":"IF(K743=\"\",\"\",COUNTIF($K$7:K743,\"ﾘｽﾄ１\"))","v":""},"","","","","","","",{"$f":"IF(S743=\"\",\"\",COUNTIF($S$7:S743,\"該当２\"))","v":""},"","",{"$f":"IF(V743=\"\",\"\",COUNTIF($V$7:V743,\"該当３\"))","v":""}]
[2020147011,20,{"v":201,"d":"201 "},{"v":47,"d":"47 "},{"v":11,"d":"011 "},"長野県","長野市","津和村","山秋",null,"","",{"$f":"IF(K744=\"\",\"\",COUNTIF($K$7:K744,\"ﾘｽﾄ１\"))","v":""},"","","","","","","",{"$f":"IF(S744=\"\",\"\",COUNTIF($S$7:S744,\"該当２\"))","v":""},"","",{"$f":"IF(V744=\"\",\"\",COUNTIF($V$7:V744,\"該当３\"))","v":""}]
[2020147012,20,{"v":201,"d":"201 "},{"v":47,"d":"47 "},{"v":12,"d":"012 "},"長野県","長野市","津和村","中福",null,"","",{"$f":"IF(K745=\"\",\"\",COUNTIF($K$7:K745,\"ﾘｽﾄ１\"))","v":""},"","","","","","","",{"$f":"IF(S745=\"\",\"\",COUNTIF($S$7:S745,\"該当２\"))","v":""},"","",{"$f":"IF(V745=\"\",\"\",COUNTIF($V$7:V745,\"該当３\"))","v":""}]
[2020147013,20,{"v":201,"d":"201 "},{"v":47,"d":"47 "},{"v":13,"d":"013 "},"長野県","長野市","津和村","栃久保",null,"","",{"$f":"IF(K746=\"\",\"\",COUNTIF($K$7:K746,\"ﾘｽﾄ１\"))","v":""},"","","","","","","",{"$f":"IF(S746=\"\",\"\",COUNTIF($S$7:S746,\"該当２\"))","v":""},"","",{"$f":"IF(V746=\"\",\"\",COUNTIF($V$7:V746,\"該当３\"))","v":""}]
[2020147014,20,{"v":201,"d":"201 "},{"v":47,"d":"47 "},{"v":14,"d":"014 "},"長野県","長野市","津和村","中尾",null,"","",{"$f":"IF(K747=\"\",\"\",COUNTIF($K$7:K747,\"ﾘｽﾄ１\"))","v":""},"","","","","","","",{"$f":"IF(S747=\"\",\"\",COUNTIF($S$7:S747,\"該当２\"))","v":""},"","",{"$f":"IF(V747=\"\",\"\",COUNTIF($V$7:V747,\"該当３\"))","v":""}]
[2020147015,20,{"v":201,"d":"201 "},{"v":47,"d":"47 "},{"v":15,"d":"015 "},"長野県","長野市","津和村","菅沼",null,"","",{"$f":"IF(K748=\"\",\"\",COUNTIF($K$7:K748,\"ﾘｽﾄ１\"))","v":""},"","","","","","","",{"$f":"IF(S748=\"\",\"\",COUNTIF($S$7:S748,\"該当２\"))","v":""},"","",{"$f":"IF(V748=\"\",\"\",COUNTIF($V$7:V748,\"該当３\"))","v":""}]
[2020147016,20,{"v":201,"d":"201 "},{"v":47,"d":"47 "},{"v":16,"d":"016 "},"長野県","長野市","津和村","細尾",null,"","",{"$f":"IF(K749=\"\",\"\",COUNTIF($K$7:K749,\"ﾘｽﾄ１\"))","v":""},"","","","","","","",{"$f":"IF(S749=\"\",\"\",COUNTIF($S$7:S749,\"該当２\"))","v":""},"","",{"$f":"IF(V749=\"\",\"\",COUNTIF($V$7:V749,\"該当３\"))","v":""}]
[2020147021,20,{"v":201,"d":"201 "},{"v":47,"d":"47 "},{"v":21,"d":"021 "},"長野県","長野市","津和村","外味藤",null,"","",{"$f":"IF(K750=\"\",\"\",COUNTIF($K$7:K750,\"ﾘｽﾄ１\"))","v":""},"","","","","","","",{"$f":"IF(S750=\"\",\"\",COUNTIF($S$7:S750,\"該当２\"))","v":""},"","",{"$f":"IF(V750=\"\",\"\",COUNTIF($V$7:V750,\"該当３\"))","v":""}]
[2020147022,20,{"v":201,"d":"201 "},{"v":47,"d":"47 "},{"v":22,"d":"022 "},"長野県","長野市","津和村","味藤",null,"","",{"$f":"IF(K751=\"\",\"\",COUNTIF($K$7:K751,\"ﾘｽﾄ１\"))","v":""},"","","","","","","",{"$f":"IF(S751=\"\",\"\",COUNTIF($S$7:S751,\"該当２\"))","v":""},"","",{"$f":"IF(V751=\"\",\"\",COUNTIF($V$7:V751,\"該当３\"))","v":""}]
[2020147023,20,{"v":201,"d":"201 "},{"v":47,"d":"47 "},{"v":23,"d":"023 "},"長野県","長野市","津和村","豊和",null,"","",{"$f":"IF(K752=\"\",\"\",COUNTIF($K$7:K752,\"ﾘｽﾄ１\"))","v":""},"","","","","","","",{"$f":"IF(S752=\"\",\"\",COUNTIF($S$7:S752,\"該当２\"))","v":""},"","",{"$f":"IF(V752=\"\",\"\",COUNTIF($V$7:V752,\"該当３\"))","v":""}]
[2020147024,20,{"v":201,"d":"201 "},{"v":47,"d":"47 "},{"v":24,"d":"024 "},"長野県","長野市","津和村","津南",null,"","",{"$f":"IF(K753=\"\",\"\",COUNTIF($K$7:K753,\"ﾘｽﾄ１\"))","v":""},"","","","","","","",{"$f":"IF(S753=\"\",\"\",COUNTIF($S$7:S753,\"該当２\"))","v":""},"","",{"$f":"IF(V753=\"\",\"\",COUNTIF($V$7:V753,\"該当３\"))","v":""}]
[2020147025,20,{"v":201,"d":"201 "},{"v":47,"d":"47 "},{"v":25,"d":"025 "},"長野県","長野市","津和村","中組",null,"","",{"$f":"IF(K754=\"\",\"\",COUNTIF($K$7:K754,\"ﾘｽﾄ１\"))","v":""},"","","","","","","",{"$f":"IF(S754=\"\",\"\",COUNTIF($S$7:S754,\"該当２\"))","v":""},"","",{"$f":"IF(V754=\"\",\"\",COUNTIF($V$7:V754,\"該当３\"))","v":""}]
[2020147026,20,{"v":201,"d":"201 "},{"v":47,"d":"47 "},{"v":26,"d":"026 "},"長野県","長野市","津和村","萩野，左右礼",null,"","",{"$f":"IF(K755=\"\",\"\",COUNTIF($K$7:K755,\"ﾘｽﾄ１\"))","v":""},"","","","","","","",{"$f":"IF(S755=\"\",\"\",COUNTIF($S$7:S755,\"該当２\"))","v":""},"","",{"$f":"IF(V755=\"\",\"\",COUNTIF($V$7:V755,\"該当３\"))","v":""}]
[2020147027,20,{"v":201,"d":"201 "},{"v":47,"d":"47 "},{"v":27,"d":"027 "},"長野県","長野市","津和村","中塚，宇内坂",null,"","",{"$f":"IF(K756=\"\",\"\",COUNTIF($K$7:K756,\"ﾘｽﾄ１\"))","v":""},"","","","","","","",{"$f":"IF(S756=\"\",\"\",COUNTIF($S$7:S756,\"該当２\"))","v":""},"","",{"$f":"IF(V756=\"\",\"\",COUNTIF($V$7:V756,\"該当３\"))","v":""}]
[2020148000,20,{"v":201,"d":"201 "},{"v":48,"d":"48 "},{"v":0,"d":"000 "},"長野県","長野市","日原村",null,null,"","",{"$f":"IF(K757=\"\",\"\",COUNTIF($K$7:K757,\"ﾘｽﾄ１\"))","v":""},"","","","","","","",{"$f":"IF(S757=\"\",\"\",COUNTIF($S$7:S757,\"該当２\"))","v":""},"","",{"$f":"IF(V757=\"\",\"\",COUNTIF($V$7:V757,\"該当３\"))","v":""}]
[2020148001,20,{"v":201,"d":"201 "},{"v":48,"d":"48 "},{"v":1,"d":"001 "},"長野県","長野市","日原村","大原",null,"","",{"$f":"IF(K758=\"\",\"\",COUNTIF($K$7:K758,\"ﾘｽﾄ１\"))","v":""},"","","","","","","",{"$f":"IF(S758=\"\",\"\",COUNTIF($S$7:S758,\"該当２\"))","v":""},"","",{"$f":"IF(V758=\"\",\"\",COUNTIF($V$7:V758,\"該当３\"))","v":""}]
[2020148002,20,{"v":201,"d":"201 "},{"v":48,"d":"48 "},{"v":2,"d":"002 "},"長野県","長野市","日原村","鹿道",null,"","",{"$f":"IF(K759=\"\",\"\",COUNTIF($K$7:K759,\"ﾘｽﾄ１\"))","v":""},"","","","","","","",{"$f":"IF(S759=\"\",\"\",COUNTIF($S$7:S759,\"該当２\"))","v":""},"","",{"$f":"IF(V759=\"\",\"\",COUNTIF($V$7:V759,\"該当３\"))","v":""}]
[2020148003,20,{"v":201,"d":"201 "},{"v":48,"d":"48 "},{"v":3,"d":"003 "},"長野県","長野市","日原村","日名",null,"","",{"$f":"IF(K760=\"\",\"\",COUNTIF($K$7:K760,\"ﾘｽﾄ１\"))","v":""},"","","","","","","",{"$f":"IF(S760=\"\",\"\",COUNTIF($S$7:S760,\"該当２\"))","v":""},"","",{"$f":"IF(V760=\"\",\"\",COUNTIF($V$7:V760,\"該当３\"))","v":""}]
[2020148004,20,{"v":201,"d":"201 "},{"v":48,"d":"48 "},{"v":4,"d":"004 "},"長野県","長野市","日原村","置原",null,"","",{"$f":"IF(K761=\"\",\"\",COUNTIF($K$7:K761,\"ﾘｽﾄ１\"))","v":""},"","","","","","","",{"$f":"IF(S761=\"\",\"\",COUNTIF($S$7:S761,\"該当２\"))","v":""},"","",{"$f":"IF(V761=\"\",\"\",COUNTIF($V$7:V761,\"該当３\"))","v":""}]
[2020148005,20,{"v":201,"d":"201 "},{"v":48,"d":"48 "},{"v":5,"d":"005 "},"長野県","長野市","日原村","橋木",null,"","",{"$f":"IF(K762=\"\",\"\",COUNTIF($K$7:K762,\"ﾘｽﾄ１\"))","v":""},"","","","","","","",{"$f":"IF(S762=\"\",\"\",COUNTIF($S$7:S762,\"該当２\"))","v":""},"","",{"$f":"IF(V762=\"\",\"\",COUNTIF($V$7:V762,\"該当３\"))","v":""}]
[2020149000,20,{"v":201,"d":"201 "},{"v":49,"d":"49 "},{"v":0,"d":"000 "},"長野県","長野市","八坂村２－２",null,null,"","",{"$f":"IF(K763=\"\",\"\",COUNTIF($K$7:K763,\"ﾘｽﾄ１\"))","v":""},"","","","","","","",{"$f":"IF(S763=\"\",\"\",COUNTIF($S$7:S763,\"該当２\"))","v":""},"","",{"$f":"IF(V763=\"\",\"\",COUNTIF($V$7:V763,\"該当３\"))","v":""}]
[2020149001,20,{"v":201,"d":"201 "},{"v":49,"d":"49 "},{"v":1,"d":"001 "},"長野県","長野市","八坂村２－２","左右",null,"","",{"$f":"IF(K764=\"\",\"\",COUNTIF($K$7:K764,\"ﾘｽﾄ１\"))","v":""},"","","","","","","",{"$f":"IF(S764=\"\",\"\",COUNTIF($S$7:S764,\"該当２\"))","v":""},"","",{"$f":"IF(V764=\"\",\"\",COUNTIF($V$7:V764,\"該当３\"))","v":""}]
[2020150000,20,{"v":201,"d":"201 "},{"v":50,"d":"50 "},{"v":0,"d":"000 "},"長野県","長野市","信級村",null,null,"","",{"$f":"IF(K765=\"\",\"\",COUNTIF($K$7:K765,\"ﾘｽﾄ１\"))","v":""},"","","","","","","",{"$f":"IF(S765=\"\",\"\",COUNTIF($S$7:S765,\"該当２\"))","v":""},"","",{"$f":"IF(V765=\"\",\"\",COUNTIF($V$7:V765,\"該当３\"))","v":""}]
[2020150001,20,{"v":201,"d":"201 "},{"v":50,"d":"50 "},{"v":1,"d":"001 "},"長野県","長野市","信級村","岩下",null,"","",{"$f":"IF(K766=\"\",\"\",COUNTIF($K$7:K766,\"ﾘｽﾄ１\"))","v":""},"","","","","","","",{"$f":"IF(S766=\"\",\"\",COUNTIF($S$7:S766,\"該当２\"))","v":""},"","",{"$f":"IF(V766=\"\",\"\",COUNTIF($V$7:V766,\"該当３\"))","v":""}]
[2020150004,20,{"v":201,"d":"201 "},{"v":50,"d":"50 "},{"v":4,"d":"004 "},"長野県","長野市","信級村","高見",null,"","",{"$f":"IF(K767=\"\",\"\",COUNTIF($K$7:K767,\"ﾘｽﾄ１\"))","v":""},"","","","","","","",{"$f":"IF(S767=\"\",\"\",COUNTIF($S$7:S767,\"該当２\"))","v":""},"","",{"$f":"IF(V767=\"\",\"\",COUNTIF($V$7:V767,\"該当３\"))","v":""}]
[2020150009,20,{"v":201,"d":"201 "},{"v":50,"d":"50 "},{"v":9,"d":"009 "},"長野県","長野市","信級村","川名",null,"","",{"$f":"IF(K768=\"\",\"\",COUNTIF($K$7:K768,\"ﾘｽﾄ１\"))","v":""},"","","","","","","",{"$f":"IF(S768=\"\",\"\",COUNTIF($S$7:S768,\"該当２\"))","v":""},"","",{"$f":"IF(V768=\"\",\"\",COUNTIF($V$7:V768,\"該当３\"))","v":""}]
[2020150010,20,{"v":201,"d":"201 "},{"v":50,"d":"50 "},{"v":10,"d":"010 "},"長野県","長野市","信級村","信級中央",null,"","",{"$f":"IF(K769=\"\",\"\",COUNTIF($K$7:K769,\"ﾘｽﾄ１\"))","v":""},"","","","","","","",{"$f":"IF(S769=\"\",\"\",COUNTIF($S$7:S769,\"該当２\"))","v":""},"","",{"$f":"IF(V769=\"\",\"\",COUNTIF($V$7:V769,\"該当３\"))","v":""}]
[2020150011,20,{"v":201,"d":"201 "},{"v":50,"d":"50 "},{"v":11,"d":"011 "},"長野県","長野市","信級村","岩本",null,"","",{"$f":"IF(K770=\"\",\"\",COUNTIF($K$7:K770,\"ﾘｽﾄ１\"))","v":""},"","","","","","","",{"$f":"IF(S770=\"\",\"\",COUNTIF($S$7:S770,\"該当２\"))","v":""},"","",{"$f":"IF(V770=\"\",\"\",COUNTIF($V$7:V770,\"該当３\"))","v":""}]
[2020150012,20,{"v":201,"d":"201 "},{"v":50,"d":"50 "},{"v":12,"d":"012 "},"長野県","長野市","信級村","柳高",null,"","",{"$f":"IF(K771=\"\",\"\",COUNTIF($K$7:K771,\"ﾘｽﾄ１\"))","v":""},"","","","","","","",{"$f":"IF(S771=\"\",\"\",COUNTIF($S$7:S771,\"該当２\"))","v":""},"","",{"$f":"IF(V771=\"\",\"\",COUNTIF($V$7:V771,\"該当３\"))","v":""}]
[2020151000,20,{"v":201,"d":"201 "},{"v":51,"d":"51 "},{"v":0,"d":"000 "},"長野県","長野市","牧郷村２－１",null,null,"","",{"$f":"IF(K772=\"\",\"\",COUNTIF($K$7:K772,\"ﾘｽﾄ１\"))","v":""},"","","","","","","",{"$f":"IF(S772=\"\",\"\",COUNTIF($S$7:S772,\"該当２\"))","v":""},"","",{"$f":"IF(V772=\"\",\"\",COUNTIF($V$7:V772,\"該当３\"))","v":""}]
[2020151001,20,{"v":201,"d":"201 "},{"v":51,"d":"51 "},{"v":1,"d":"001 "},"長野県","長野市","牧郷村２－１","下市場",null,"","",{"$f":"IF(K773=\"\",\"\",COUNTIF($K$7:K773,\"ﾘｽﾄ１\"))","v":""},"","","","","","","",{"$f":"IF(S773=\"\",\"\",COUNTIF($S$7:S773,\"該当２\"))","v":""},"","",{"$f":"IF(V773=\"\",\"\",COUNTIF($V$7:V773,\"該当３\"))","v":""}]
[2020151002,20,{"v":201,"d":"201 "},{"v":51,"d":"51 "},{"v":2,"d":"002 "},"長野県","長野市","牧郷村２－１","大門",null,"","",{"$f":"IF(K774=\"\",\"\",COUNTIF($K$7:K774,\"ﾘｽﾄ１\"))","v":""},"","","","","","","",{"$f":"IF(S774=\"\",\"\",COUNTIF($S$7:S774,\"該当２\"))","v":""},"","",{"$f":"IF(V774=\"\",\"\",COUNTIF($V$7:V774,\"該当３\"))","v":""}]
[2020151003,20,{"v":201,"d":"201 "},{"v":51,"d":"51 "},{"v":3,"d":"003 "},"長野県","長野市","牧郷村２－１","原",null,"","",{"$f":"IF(K775=\"\",\"\",COUNTIF($K$7:K775,\"ﾘｽﾄ１\"))","v":""},"","","","","","","",{"$f":"IF(S775=\"\",\"\",COUNTIF($S$7:S775,\"該当２\"))","v":""},"","",{"$f":"IF(V775=\"\",\"\",COUNTIF($V$7:V775,\"該当３\"))","v":""}]
[2020151004,20,{"v":201,"d":"201 "},{"v":51,"d":"51 "},{"v":4,"d":"004 "},"長野県","長野市","牧郷村２－１","塩本",null,"","",{"$f":"IF(K776=\"\",\"\",COUNTIF($K$7:K776,\"ﾘｽﾄ１\"))","v":""},"","","","","","","",{"$f":"IF(S776=\"\",\"\",COUNTIF($S$7:S776,\"該当２\"))","v":""},"","",{"$f":"IF(V776=\"\",\"\",COUNTIF($V$7:V776,\"該当３\"))","v":""}]
[2020151005,20,{"v":201,"d":"201 "},{"v":51,"d":"51 "},{"v":5,"d":"005 "},"長野県","長野市","牧郷村２－１","牧野島",null,"","",{"$f":"IF(K777=\"\",\"\",COUNTIF($K$7:K777,\"ﾘｽﾄ１\"))","v":""},"","","","","","","",{"$f":"IF(S777=\"\",\"\",COUNTIF($S$7:S777,\"該当２\"))","v":""},"","",{"$f":"IF(V777=\"\",\"\",COUNTIF($V$7:V777,\"該当３\"))","v":""}]
[2020151006,20,{"v":201,"d":"201 "},{"v":51,"d":"51 "},{"v":6,"d":"006 "},"長野県","長野市","牧郷村２－１","牧田中一",null,"","",{"$f":"IF(K778=\"\",\"\",COUNTIF($K$7:K778,\"ﾘｽﾄ１\"))","v":""},"","",{"$f":"IF(O778=\"該当１\",G778,\"\")","v":""},{"$f":"IF(O778=\"該当１\",\"ﾘｽﾄ2\",\"\")","v":""},{"$f":"IF(Q778=\"ﾘｽﾄ2\",H778,\"\")","v":""},"",{"$f":"IF(S778=\"該当２\",H778,\"\")","v":""},{"$f":"IF(S778=\"\",\"\",COUNTIF($S$7:S778,\"該当２\"))","v":""},{"$f":"IF(AND($S$2=H778,E778>0,E778<998),\"該当３\",\"\")","v":""},{"$f":"IF(V778=\"該当３\",I778,\"\")","v":""},{"$f":"IF(V778=\"\",\"\",COUNTIF($V$7:V778,\"該当３\"))","v":""}]
[2020151007,20,{"v":201,"d":"201 "},{"v":51,"d":"51 "},{"v":7,"d":"007 "},"長野県","長野市","牧郷村２－１","牧田中二",null,{"$f":"IF(AND($C779>0,$H779=\"\"),\"ﾘｽﾄ１\",\"\")","v":""},{"$f":"IF(K779=\"ﾘｽﾄ１\",G779,\"\")","v":""},{"$f":"IF(K779=\"\",\"\",COUNTIF($K$7:K779,\"ﾘｽﾄ１\"))","v":""},{"$f":"IF(AND(D779=0,E779>0),\"同一区\",\"\")","v":""},{"$f":"IF(AND(EXACT($K$2,G779),H779>0),\"該当１\",\"\")","v":""},"","","",{"$f":"IF(AND(Q779=\"ﾘｽﾄ2\",OR(I779=0,AND(N779=\"同一区\",E779=1))),\"該当２\",\"\")","v":""},"",{"$f":"IF(S779=\"\",\"\",COUNTIF($S$7:S779,\"該当２\"))","v":""},"","",{"$f":"IF(V779=\"\",\"\",COUNTIF($V$7:V779,\"該当３\"))","v":""}]
[2020151008,20,{"v":201,"d":"201 "},{"v":51,"d":"51 "},{"v":8,"d":"008 "},"長野県","長野市","牧郷村２－１","中牧",null,"","",{"$f":"IF(K780=\"\",\"\",COUNTIF($K$7:K780,\"ﾘｽﾄ１\"))","v":""},"","","","","","","",{"$f":"IF(S780=\"\",\"\",COUNTIF($S$7:S780,\"該当２\"))","v":""},"","",{"$f":"IF(V780=\"\",\"\",COUNTIF($V$7:V780,\"該当３\"))","v":""}]
[2020151009,20,{"v":201,"d":"201 "},{"v":51,"d":"51 "},{"v":9,"d":"009 "},"長野県","長野市","牧郷村２－１","中原",null,"","",{"$f":"IF(K781=\"\",\"\",COUNTIF($K$7:K781,\"ﾘｽﾄ１\"))","v":""},"","","","","","","",{"$f":"IF(S781=\"\",\"\",COUNTIF($S$7:S781,\"該当２\"))","v":""},"","",{"$f":"IF(V781=\"\",\"\",COUNTIF($V$7:V781,\"該当３\"))","v":""}]
[2020151010,20,{"v":201,"d":"201 "},{"v":51,"d":"51 "},{"v":10,"d":"010 "},"長野県","長野市","牧郷村２－１","大月",null,"","",{"$f":"IF(K782=\"\",\"\",COUNTIF($K$7:K782,\"ﾘｽﾄ１\"))","v":""},"","","","","","","",{"$f":"IF(S782=\"\",\"\",COUNTIF($S$7:S782,\"該当２\"))","v":""},"","",{"$f":"IF(V782=\"\",\"\",COUNTIF($V$7:V782,\"該当３\"))","v":""}]
[2020151011,20,{"v":201,"d":"201 "},{"v":51,"d":"51 "},{"v":11,"d":"011 "},"長野県","長野市","牧郷村２－１","一倉田和",null,"","",{"$f":"IF(K783=\"\",\"\",COUNTIF($K$7:K783,\"ﾘｽﾄ１\"))","v":""},"","","","","","","",{"$f":"IF(S783=\"\",\"\",COUNTIF($S$7:S783,\"該当２\"))","v":""},"","",{"$f":"IF(V783=\"\",\"\",COUNTIF($V$7:V783,\"該当３\"))","v":""}]
[2020151012,20,{"v":201,"d":"201 "},{"v":51,"d":"51 "},{"v":12,"d":"012 "},"長野県","長野市","牧郷村２－１","南牧住平",null,"","",{"$f":"IF(K784=\"\",\"\",COUNTIF($K$7:K784,\"ﾘｽﾄ１\"))","v":""},"","","","","","","",{"$f":"IF(S784=\"\",\"\",COUNTIF($S$7:S784,\"該当２\"))","v":""},"","",{"$f":"IF(V784=\"\",\"\",COUNTIF($V$7:V784,\"該当３\"))","v":""}]
[2020151013,20,{"v":201,"d":"201 "},{"v":51,"d":"51 "},{"v":13,"d":"013 "},"長野県","長野市","牧郷村２－１","下中山",null,"","",{"$f":"IF(K785=\"\",\"\",COUNTIF($K$7:K785,\"ﾘｽﾄ１\"))","v":""},"","","","","","","",{"$f":"IF(S785=\"\",\"\",COUNTIF($S$7:S785,\"該当２\"))","v":""},"","",{"$f":"IF(V785=\"\",\"\",COUNTIF($V$7:V785,\"該当３\"))","v":""}]
[2020151014,20,{"v":201,"d":"201 "},{"v":51,"d":"51 "},{"v":14,"d":"014 "},"長野県","長野市","牧郷村２－１","和田吐唄",null,"","",{"$f":"IF(K786=\"\",\"\",COUNTIF($K$7:K786,\"ﾘｽﾄ１\"))","v":""},"","","","","","","",{"$f":"IF(S786=\"\",\"\",COUNTIF($S$7:S786,\"該当２\"))","v":""},"","",{"$f":"IF(V786=\"\",\"\",COUNTIF($V$7:V786,\"該当３\"))","v":""}]
[2020152000,20,{"v":201,"d":"201 "},{"v":52,"d":"52 "},{"v":0,"d":"000 "},"長野県","長野市","栄村（長野市）",null,null,"","",{"$f":"IF(K787=\"\",\"\",COUNTIF($K$7:K787,\"ﾘｽﾄ１\"))","v":""},"","","","","","","",{"$f":"IF(S787=\"\",\"\",COUNTIF($S$7:S787,\"該当２\"))","v":""},"","",{"$f":"IF(V787=\"\",\"\",COUNTIF($V$7:V787,\"該当３\"))","v":""}]
[2020152001,20,{"v":201,"d":"201 "},{"v":52,"d":"52 "},{"v":1,"d":"001 "},"長野県","長野市","栄村（長野市）","五十里区（旧第１区）",null,"","",{"$f":"IF(K788=\"\",\"\",COUNTIF($K$7:K788,\"ﾘｽﾄ１\"))","v":""},"","","","","","","",{"$f":"IF(S788=\"\",\"\",COUNTIF($S$7:S788,\"該当２\"))","v":""},"","",{"$f":"IF(V788=\"\",\"\",COUNTIF($V$7:V788,\"該当３\"))","v":""}]
[2020152002,20,{"v":201,"d":"201 "},{"v":52,"d":"52 "},{"v":2,"d":"002 "},"長野県","長野市","栄村（長野市）","長井区（旧第２区）",null,"","",{"$f":"IF(K789=\"\",\"\",COUNTIF($K$7:K789,\"ﾘｽﾄ１\"))","v":""},"","","","","","","",{"$f":"IF(S789=\"\",\"\",COUNTIF($S$7:S789,\"該当２\"))","v":""},"","",{"$f":"IF(V789=\"\",\"\",COUNTIF($V$7:V789,\"該当３\"))","v":""}]
[2020152003,20,{"v":201,"d":"201 "},{"v":52,"d":"52 "},{"v":3,"d":"003 "},"長野県","長野市","栄村（長野市）","長井区（旧第３区）",null,"","",{"$f":"IF(K790=\"\",\"\",COUNTIF($K$7:K790,\"ﾘｽﾄ１\"))","v":""},"","","","","","","",{"$f":"IF(S790=\"\",\"\",COUNTIF($S$7:S790,\"該当２\"))","v":""},"","",{"$f":"IF(V790=\"\",\"\",COUNTIF($V$7:V790,\"該当３\"))","v":""}]
[2020152004,20,{"v":201,"d":"201 "},{"v":52,"d":"52 "},{"v":4,"d":"004 "},"長野県","長野市","栄村（長野市）","長井区（旧第４区）",null,"","",{"$f":"IF(K791=\"\",\"\",COUNTIF($K$7:K791,\"ﾘｽﾄ１\"))","v":""},"","","","","","","",{"$f":"IF(S791=\"\",\"\",COUNTIF($S$7:S791,\"該当２\"))","v":""},"","",{"$f":"IF(V791=\"\",\"\",COUNTIF($V$7:V791,\"該当３\"))","v":""}]
[2020152005,20,{"v":201,"d":"201 "},{"v":52,"d":"52 "},{"v":5,"d":"005 "},"長野県","長野市","栄村（長野市）","中条平区（旧第９区）",null,"","",{"$f":"IF(K792=\"\",\"\",COUNTIF($K$7:K792,\"ﾘｽﾄ１\"))","v":""},"","","","","","","",{"$f":"IF(S792=\"\",\"\",COUNTIF($S$7:S792,\"該当２\"))","v":""},"","",{"$f":"IF(V792=\"\",\"\",COUNTIF($V$7:V792,\"該当３\"))","v":""}]
[2020152006,20,{"v":201,"d":"201 "},{"v":52,"d":"52 "},{"v":6,"d":"006 "},"長野県","長野市","栄村（長野市）","中条中央区（旧第１０区）",null,"","",{"$f":"IF(K793=\"\",\"\",COUNTIF($K$7:K793,\"ﾘｽﾄ１\"))","v":""},"","","","","","","",{"$f":"IF(S793=\"\",\"\",COUNTIF($S$7:S793,\"該当２\"))","v":""},"","",{"$f":"IF(V793=\"\",\"\",COUNTIF($V$7:V793,\"該当３\"))","v":""}]
[2020152007,20,{"v":201,"d":"201 "},{"v":52,"d":"52 "},{"v":7,"d":"007 "},"長野県","長野市","栄村（長野市）","中条平区（旧第１１区）",null,"","",{"$f":"IF(K794=\"\",\"\",COUNTIF($K$7:K794,\"ﾘｽﾄ１\"))","v":""},"","","","","","","",{"$f":"IF(S794=\"\",\"\",COUNTIF($S$7:S794,\"該当２\"))","v":""},"","",{"$f":"IF(V794=\"\",\"\",COUNTIF($V$7:V794,\"該当３\"))","v":""}]
[2020152008,20,{"v":201,"d":"201 "},{"v":52,"d":"52 "},{"v":8,"d":"008 "},"長野県","長野市","栄村（長野市）","中条中央区（旧第１２区）",null,"","",{"$f":"IF(K795=\"\",\"\",COUNTIF($K$7:K795,\"ﾘｽﾄ１\"))","v":""},"","","","","","","",{"$f":"IF(S795=\"\",\"\",COUNTIF($S$7:S795,\"該当２\"))","v":""},"","",{"$f":"IF(V795=\"\",\"\",COUNTIF($V$7:V795,\"該当３\"))","v":""}]
[2020152009,20,{"v":201,"d":"201 "},{"v":52,"d":"52 "},{"v":9,"d":"009 "},"長野県","長野市","栄村（長野市）","青木区（旧第１７区）",null,"","",{"$f":"IF(K796=\"\",\"\",COUNTIF($K$7:K796,\"ﾘｽﾄ１\"))","v":""},"","","","","","","",{"$f":"IF(S796=\"\",\"\",COUNTIF($S$7:S796,\"該当２\"))","v":""},"","",{"$f":"IF(V796=\"\",\"\",COUNTIF($V$7:V796,\"該当３\"))","v":""}]
[2020152010,20,{"v":201,"d":"201 "},{"v":52,"d":"52 "},{"v":10,"d":"010 "},"長野県","長野市","栄村（長野市）","青木区（旧第１８区）",null,"","",{"$f":"IF(K797=\"\",\"\",COUNTIF($K$7:K797,\"ﾘｽﾄ１\"))","v":""},"","","","","","","",{"$f":"IF(S797=\"\",\"\",COUNTIF($S$7:S797,\"該当２\"))","v":""},"","",{"$f":"IF(V797=\"\",\"\",COUNTIF($V$7:V797,\"該当３\"))","v":""}]
[2020152011,20,{"v":201,"d":"201 "},{"v":52,"d":"52 "},{"v":11,"d":"011 "},"長野県","長野市","栄村（長野市）","すめらぎ区（旧第１９区）",null,"","",{"$f":"IF(K798=\"\",\"\",COUNTIF($K$7:K798,\"ﾘｽﾄ１\"))","v":""},"","","","","","","",{"$f":"IF(S798=\"\",\"\",COUNTIF($S$7:S798,\"該当２\"))","v":""},"","",{"$f":"IF(V798=\"\",\"\",COUNTIF($V$7:V798,\"該当３\"))","v":""}]
[2020152012,20,{"v":201,"d":"201 "},{"v":52,"d":"52 "},{"v":12,"d":"012 "},"長野県","長野市","栄村（長野市）","すめらぎ区（旧第２０区）",null,"","",{"$f":"IF(K799=\"\",\"\",COUNTIF($K$7:K799,\"ﾘｽﾄ１\"))","v":""},"","","","","","","",{"$f":"IF(S799=\"\",\"\",COUNTIF($S$7:S799,\"該当２\"))","v":""},"","",{"$f":"IF(V799=\"\",\"\",COUNTIF($V$7:V799,\"該当３\"))","v":""}]
[2020152013,20,{"v":201,"d":"201 "},{"v":52,"d":"52 "},{"v":13,"d":"013 "},"長野県","長野市","栄村（長野市）","奈良井区（旧第２１区）",null,"","",{"$f":"IF(K800=\"\",\"\",COUNTIF($K$7:K800,\"ﾘｽﾄ１\"))","v":""},"","","","","","","",{"$f":"IF(S800=\"\",\"\",COUNTIF($S$7:S800,\"該当２\"))","v":""},"","",{"$f":"IF(V800=\"\",\"\",COUNTIF($V$7:V800,\"該当３\"))","v":""}]
[2020152014,20,{"v":201,"d":"201 "},{"v":52,"d":"52 "},{"v":14,"d":"014 "},"長野県","長野市","栄村（長野市）","奈良井区（旧第２２区）",null,"","",{"$f":"IF(K801=\"\",\"\",COUNTIF($K$7:K801,\"ﾘｽﾄ１\"))","v":""},"","","","","","","",{"$f":"IF(S801=\"\",\"\",COUNTIF($S$7:S801,\"該当２\"))","v":""},"","",{"$f":"IF(V801=\"\",\"\",COUNTIF($V$7:V801,\"該当３\"))","v":""}]
[2020153000,20,{"v":201,"d":"201 "},{"v":53,"d":"53 "},{"v":0,"d":"000 "},"長野県","長野市","日里村",null,null,"","",{"$f":"IF(K802=\"\",\"\",COUNTIF($K$7:K802,\"ﾘｽﾄ１\"))","v":""},"","","","","","","",{"$f":"IF(S802=\"\",\"\",COUNTIF($S$7:S802,\"該当２\"))","v":""},"","",{"$f":"IF(V802=\"\",\"\",COUNTIF($V$7:V802,\"該当３\"))","v":""}]
[2020153001,20,{"v":201,"d":"201 "},{"v":53,"d":"53 "},{"v":1,"d":"001 "},"長野県","長野市","日里村","日下野東区（旧第５区）",null,"","",{"$f":"IF(K803=\"\",\"\",COUNTIF($K$7:K803,\"ﾘｽﾄ１\"))","v":""},"","","","","","","",{"$f":"IF(S803=\"\",\"\",COUNTIF($S$7:S803,\"該当２\"))","v":""},"","",{"$f":"IF(V803=\"\",\"\",COUNTIF($V$7:V803,\"該当３\"))","v":""}]
[2020153002,20,{"v":201,"d":"201 "},{"v":53,"d":"53 "},{"v":2,"d":"002 "},"長野県","長野市","日里村","日下野東区（旧第６区）",null,"","",{"$f":"IF(K804=\"\",\"\",COUNTIF($K$7:K804,\"ﾘｽﾄ１\"))","v":""},"","","","","","","",{"$f":"IF(S804=\"\",\"\",COUNTIF($S$7:S804,\"該当２\"))","v":""},"","",{"$f":"IF(V804=\"\",\"\",COUNTIF($V$7:V804,\"該当３\"))","v":""}]
[2020153003,20,{"v":201,"d":"201 "},{"v":53,"d":"53 "},{"v":3,"d":"003 "},"長野県","長野市","日里村","日下野区（旧第７区）",null,"","",{"$f":"IF(K805=\"\",\"\",COUNTIF($K$7:K805,\"ﾘｽﾄ１\"))","v":""},"","","","","","","",{"$f":"IF(S805=\"\",\"\",COUNTIF($S$7:S805,\"該当２\"))","v":""},"","",{"$f":"IF(V805=\"\",\"\",COUNTIF($V$7:V805,\"該当３\"))","v":""}]
[2020153004,20,{"v":201,"d":"201 "},{"v":53,"d":"53 "},{"v":4,"d":"004 "},"長野県","長野市","日里村","日下野区（旧第８区）",null,"","",{"$f":"IF(K806=\"\",\"\",COUNTIF($K$7:K806,\"ﾘｽﾄ１\"))","v":""},"","","","","","","",{"$f":"IF(S806=\"\",\"\",COUNTIF($S$7:S806,\"該当２\"))","v":""},"","",{"$f":"IF(V806=\"\",\"\",COUNTIF($V$7:V806,\"該当３\"))","v":""}]
[2020153005,20,{"v":201,"d":"201 "},{"v":53,"d":"53 "},{"v":5,"d":"005 "},"長野県","長野市","日里村","地京原区（旧第１３区）",null,"","",{"$f":"IF(K807=\"\",\"\",COUNTIF($K$7:K807,\"ﾘｽﾄ１\"))","v":""},"","","","","","","",{"$f":"IF(S807=\"\",\"\",COUNTIF($S$7:S807,\"該当２\"))","v":""},"","",{"$f":"IF(V807=\"\",\"\",COUNTIF($V$7:V807,\"該当３\"))","v":""}]
[2020153006,20,{"v":201,"d":"201 "},{"v":53,"d":"53 "},{"v":6,"d":"006 "},"長野県","長野市","日里村","地京原区（旧第１４区）",null,"","",{"$f":"IF(K808=\"\",\"\",COUNTIF($K$7:K808,\"ﾘｽﾄ１\"))","v":""},"","","","","","","",{"$f":"IF(S808=\"\",\"\",COUNTIF($S$7:S808,\"該当２\"))","v":""},"","",{"$f":"IF(V808=\"\",\"\",COUNTIF($V$7:V808,\"該当３\"))","v":""}]
[2020153007,20,{"v":201,"d":"201 "},{"v":53,"d":"53 "},{"v":7,"d":"007 "},"長野県","長野市","日里村","伊折区（旧第１５区）",null,"","",{"$f":"IF(K809=\"\",\"\",COUNTIF($K$7:K809,\"ﾘｽﾄ１\"))","v":""},"","","","","","","",{"$f":"IF(S809=\"\",\"\",COUNTIF($S$7:S809,\"該当２\"))","v":""},"","",{"$f":"IF(V809=\"\",\"\",COUNTIF($V$7:V809,\"該当３\"))","v":""}]
[2020153008,20,{"v":201,"d":"201 "},{"v":53,"d":"53 "},{"v":8,"d":"008 "},"長野県","長野市","日里村","伊折区（旧第１６区）",null,"","",{"$f":"IF(K810=\"\",\"\",COUNTIF($K$7:K810,\"ﾘｽﾄ１\"))","v":""},"","","","","","","",{"$f":"IF(S810=\"\",\"\",COUNTIF($S$7:S810,\"該当２\"))","v":""},"","",{"$f":"IF(V810=\"\",\"\",COUNTIF($V$7:V810,\"該当３\"))","v":""}]
[2020200000,20,{"v":202,"d":"202 "},{"v":0,"d":"00 "},{"v":0,"d":"000 "},"長野県","松本市",{"$nulls":3},"ﾘｽﾄ１","松本市",{"$f":"IF(K811=\"\",\"\",COUNTIF($K$7:K811,\"ﾘｽﾄ１\"))","v":2},"","","","","","","",{"$f":"IF(S811=\"\",\"\",COUNTIF($S$7:S811,\"該当２\"))","v":""},"","",{"$f":"IF(V811=\"\",\"\",COUNTIF($V$7:V811,\"該当３\"))","v":""}]
[2020201000,20,{"v":202,"d":"202 "},{"v":1,"d":"01 "},{"v":0,"d":"000 "},"長野県","松本市","松本市（旧）",null,null,"","",{"$f":"IF(K812=\"\",\"\",COUNTIF($K$7:K812,\"ﾘｽﾄ１\"))","v":""},"","","","","","","",{"$f":"IF(S812=\"\",\"\",COUNTIF($S$7:S812,\"該当２\"))","v":""},"","",{"$f":"IF(V812=\"\",\"\",COUNTIF($V$7:V812,\"該当３\"))","v":""}]
[2020201001,20,{"v":202,"d":"202 "},{"v":1,"d":"01 "},{"v":1,"d":"001 "},"長野県","松本市","松本市（旧）","放光寺",null,"","",{"$f":"IF(K813=\"\",\"\",COUNTIF($K$7:K813,\"ﾘｽﾄ１\"))","v":""},"","","","","","","",{"$f":"IF(S813=\"\",\"\",COUNTIF($S$7:S813,\"該当２\"))","v":""},"","",{"$f":"IF(V813=\"\",\"\",COUNTIF($V$7:V813,\"該当３\"))","v":""}]
[2020201002,20,{"v":202,"d":"202 "},{"v":1,"d":"01 "},{"v":2,"d":"002 "},"長野県","松本市","松本市（旧）","宮渕本村",null,"","",{"$f":"IF(K814=\"\",\"\",COUNTIF($K$7:K814,\"ﾘｽﾄ１\"))","v":""},"","","","","","","",{"$f":"IF(S814=\"\",\"\",COUNTIF($S$7:S814,\"該当２\"))","v":""},"","",{"$f":"IF(V814=\"\",\"\",COUNTIF($V$7:V814,\"該当３\"))","v":""}]
[2020201003,20,{"v":202,"d":"202 "},{"v":1,"d":"01 "},{"v":3,"d":"003 "},"長野県","松本市","松本市（旧）","渚本村",null,"","",{"$f":"IF(K815=\"\",\"\",COUNTIF($K$7:K815,\"ﾘｽﾄ１\"))","v":""},"","","","","","","",{"$f":"IF(S815=\"\",\"\",COUNTIF($S$7:S815,\"該当２\"))","v":""},"","",{"$f":"IF(V815=\"\",\"\",COUNTIF($V$7:V815,\"該当３\"))","v":""}]
[2020201004,20,{"v":202,"d":"202 "},{"v":1,"d":"01 "},{"v":4,"d":"004 "},"長野県","松本市","松本市（旧）","両島",null,"","",{"$f":"IF(K816=\"\",\"\",COUNTIF($K$7:K816,\"ﾘｽﾄ１\"))","v":""},"","","","","","","",{"$f":"IF(S816=\"\",\"\",COUNTIF($S$7:S816,\"該当２\"))","v":""},"","",{"$f":"IF(V816=\"\",\"\",COUNTIF($V$7:V816,\"該当３\"))","v":""}]
[2020201005,20,{"v":202,"d":"202 "},{"v":1,"d":"01 "},{"v":5,"d":"005 "},"長野県","松本市","松本市（旧）","笹部",null,"","",{"$f":"IF(K817=\"\",\"\",COUNTIF($K$7:K817,\"ﾘｽﾄ１\"))","v":""},"","","","","","","",{"$f":"IF(S817=\"\",\"\",COUNTIF($S$7:S817,\"該当２\"))","v":""},"","",{"$f":"IF(V817=\"\",\"\",COUNTIF($V$7:V817,\"該当３\"))","v":""}]
[2020201006,20,{"v":202,"d":"202 "},{"v":1,"d":"01 "},{"v":6,"d":"006 "},"長野県","松本市","松本市（旧）","征矢野",null,"","",{"$f":"IF(K818=\"\",\"\",COUNTIF($K$7:K818,\"ﾘｽﾄ１\"))","v":""},"","","","","","","",{"$f":"IF(S818=\"\",\"\",COUNTIF($S$7:S818,\"該当２\"))","v":""},"","",{"$f":"IF(V818=\"\",\"\",COUNTIF($V$7:V818,\"該当３\"))","v":""}]
[2020201007,20,{"v":202,"d":"202 "},{"v":1,"d":"01 "},{"v":7,"d":"007 "},"長野県","松本市","松本市（旧）","鎌田",null,"","",{"$f":"IF(K819=\"\",\"\",COUNTIF($K$7:K819,\"ﾘｽﾄ１\"))","v":""},"","","","","","","",{"$f":"IF(S819=\"\",\"\",COUNTIF($S$7:S819,\"該当２\"))","v":""},"","",{"$f":"IF(V819=\"\",\"\",COUNTIF($V$7:V819,\"該当３\"))","v":""}]
[2020201008,20,{"v":202,"d":"202 "},{"v":1,"d":"01 "},{"v":8,"d":"008 "},"長野県","松本市","松本市（旧）","高宮",null,"","",{"$f":"IF(K820=\"\",\"\",COUNTIF($K$7:K820,\"ﾘｽﾄ１\"))","v":""},"","","","","","","",{"$f":"IF(S820=\"\",\"\",COUNTIF($S$7:S820,\"該当２\"))","v":""},"","",{"$f":"IF(V820=\"\",\"\",COUNTIF($V$7:V820,\"該当３\"))","v":""}]
[2020201009,20,{"v":202,"d":"202 "},{"v":1,"d":"01 "},{"v":9,"d":"009 "},"長野県","松本市","松本市（旧）","井川城",null,"","",{"$f":"IF(K821=\"\",\"\",COUNTIF($K$7:K821,\"ﾘｽﾄ１\"))","v":""},"","","","","","","",{"$f":"IF(S821=\"\",\"\",COUNTIF($S$7:S821,\"該当２\"))","v":""},"","",{"$f":"IF(V821=\"\",\"\",COUNTIF($V$7:V821,\"該当３\"))","v":""}]
[2020201010,20,{"v":202,"d":"202 "},{"v":1,"d":"01 "},{"v":10,"d":"010 "},"長野県","松本市","松本市（旧）","並柳",null,"","",{"$f":"IF(K822=\"\",\"\",COUNTIF($K$7:K822,\"ﾘｽﾄ１\"))","v":""},"","","","","","","",{"$f":"IF(S822=\"\",\"\",COUNTIF($S$7:S822,\"該当２\"))","v":""},"","",{"$f":"IF(V822=\"\",\"\",COUNTIF($V$7:V822,\"該当３\"))","v":""}]
[2020201011,20,{"v":202,"d":"202 "},{"v":1,"d":"01 "},{"v":11,"d":"011 "},"長野県","松本市","松本市（旧）","神田",null,"","",{"$f":"IF(K823=\"\",\"\",COUNTIF($K$7:K823,\"ﾘｽﾄ１\"))","v":""},"","","","","","","",{"$f":"IF(S823=\"\",\"\",COUNTIF($S$7:S823,\"該当２\"))","v":""},"","",{"$f":"IF(V823=\"\",\"\",COUNTIF($V$7:V823,\"該当３\"))","v":""}]
[2020201012,20,{"v":202,"d":"202 "},{"v":1,"d":"01 "},{"v":12,"d":"012 "},"長野県","松本市","松本市（旧）","中原",null,"","",{"$f":"IF(K824=\"\",\"\",COUNTIF($K$7:K824,\"ﾘｽﾄ１\"))","v":""},"","","","","","","",{"$f":"IF(S824=\"\",\"\",COUNTIF($S$7:S824,\"該当２\"))","v":""},"","",{"$f":"IF(V824=\"\",\"\",COUNTIF($V$7:V824,\"該当３\"))","v":""}]
[2020201013,20,{"v":202,"d":"202 "},{"v":1,"d":"01 "},{"v":13,"d":"013 "},"長野県","松本市","松本市（旧）","元原",null,"","",{"$f":"IF(K825=\"\",\"\",COUNTIF($K$7:K825,\"ﾘｽﾄ１\"))","v":""},"","","","","","","",{"$f":"IF(S825=\"\",\"\",COUNTIF($S$7:S825,\"該当２\"))","v":""},"","",{"$f":"IF(V825=\"\",\"\",COUNTIF($V$7:V825,\"該当３\"))","v":""}]
[2020201014,20,{"v":202,"d":"202 "},{"v":1,"d":"01 "},{"v":14,"d":"014 "},"長野県","松本市","松本市（旧）","蟻ケ崎西",null,"","",{"$f":"IF(K826=\"\",\"\",COUNTIF($K$7:K826,\"ﾘｽﾄ１\"))","v":""},"","","","","","","",{"$f":"IF(S826=\"\",\"\",COUNTIF($S$7:S826,\"該当２\"))","v":""},"","",{"$f":"IF(V826=\"\",\"\",COUNTIF($V$7:V826,\"該当３\"))","v":""}]
[2020201015,20,{"v":202,"d":"202 "},{"v":1,"d":"01 "},{"v":15,"d":"015 "},"長野県","松本市","松本市（旧）","蟻ヶ崎東",null,"","",{"$f":"IF(K827=\"\",\"\",COUNTIF($K$7:K827,\"ﾘｽﾄ１\"))","v":""},"","","","","","","",{"$f":"IF(S827=\"\",\"\",COUNTIF($S$7:S827,\"該当２\"))","v":""},"","",{"$f":"IF(V827=\"\",\"\",COUNTIF($V$7:V827,\"該当３\"))","v":""}]
[2020201016,20,{"v":202,"d":"202 "},{"v":1,"d":"01 "},{"v":16,"d":"016 "},"長野県","松本市","松本市（旧）","沢村",null,"","",{"$f":"IF(K828=\"\",\"\",COUNTIF($K$7:K828,\"ﾘｽﾄ１\"))","v":""},"","","","","","","",{"$f":"IF(S828=\"\",\"\",COUNTIF($S$7:S828,\"該当２\"))","v":""},"","",{"$f":"IF(V828=\"\",\"\",COUNTIF($V$7:V828,\"該当３\"))","v":""}]
[2020201017,20,{"v":202,"d":"202 "},{"v":1,"d":"01 "},{"v":17,"d":"017 "},"長野県","松本市","松本市（旧）","北深志",null,"","",{"$f":"IF(K829=\"\",\"\",COUNTIF($K$7:K829,\"ﾘｽﾄ１\"))","v":""},"","","","","","","",{"$f":"IF(S829=\"\",\"\",COUNTIF($S$7:S829,\"該当２\"))","v":""},"","",{"$f":"IF(V829=\"\",\"\",COUNTIF($V$7:V829,\"該当３\"))","v":""}]
[2020201018,20,{"v":202,"d":"202 "},{"v":1,"d":"01 "},{"v":18,"d":"018 "},"長野県","松本市","松本市（旧）","北深志東",null,"","",{"$f":"IF(K830=\"\",\"\",COUNTIF($K$7:K830,\"ﾘｽﾄ１\"))","v":""},"","","","","","","",{"$f":"IF(S830=\"\",\"\",COUNTIF($S$7:S830,\"該当２\"))","v":""},"","",{"$f":"IF(V830=\"\",\"\",COUNTIF($V$7:V830,\"該当３\"))","v":""}]
[2020201019,20,{"v":202,"d":"202 "},{"v":1,"d":"01 "},{"v":19,"d":"019 "},"長野県","松本市","松本市（旧）","元町",null,"","",{"$f":"IF(K831=\"\",\"\",COUNTIF($K$7:K831,\"ﾘｽﾄ１\"))","v":""},"","","","","","","",{"$f":"IF(S831=\"\",\"\",COUNTIF($S$7:S831,\"該当２\"))","v":""},"","",{"$f":"IF(V831=\"\",\"\",COUNTIF($V$7:V831,\"該当３\"))","v":""}]
[2020201020,20,{"v":202,"d":"202 "},{"v":1,"d":"01 "},{"v":20,"d":"020 "},"長野県","松本市","松本市（旧）","城西",null,"","",{"$f":"IF(K832=\"\",\"\",COUNTIF($K$7:K832,\"ﾘｽﾄ１\"))","v":""},"","","","","","","",{"$f":"IF(S832=\"\",\"\",COUNTIF($S$7:S832,\"該当２\"))","v":""},"","",{"$f":"IF(V832=\"\",\"\",COUNTIF($V$7:V832,\"該当３\"))","v":""}]
[2020201021,20,{"v":202,"d":"202 "},{"v":1,"d":"01 "},{"v":21,"d":"021 "},"長野県","松本市","松本市（旧）","宮渕",null,"","",{"$f":"IF(K833=\"\",\"\",COUNTIF($K$7:K833,\"ﾘｽﾄ１\"))","v":""},"","","","","","","",{"$f":"IF(S833=\"\",\"\",COUNTIF($S$7:S833,\"該当２\"))","v":""},"","",{"$f":"IF(V833=\"\",\"\",COUNTIF($V$7:V833,\"該当３\"))","v":""}]
[2020201022,20,{"v":202,"d":"202 "},{"v":1,"d":"01 "},{"v":22,"d":"022 "},"長野県","松本市","松本市（旧）","新橋",null,"","",{"$f":"IF(K834=\"\",\"\",COUNTIF($K$7:K834,\"ﾘｽﾄ１\"))","v":""},"","","","","","","",{"$f":"IF(S834=\"\",\"\",COUNTIF($S$7:S834,\"該当２\"))","v":""},"","",{"$f":"IF(V834=\"\",\"\",COUNTIF($V$7:V834,\"該当３\"))","v":""}]
[2020201023,20,{"v":202,"d":"202 "},{"v":1,"d":"01 "},{"v":23,"d":"023 "},"長野県","松本市","松本市（旧）","白板",null,"","",{"$f":"IF(K835=\"\",\"\",COUNTIF($K$7:K835,\"ﾘｽﾄ１\"))","v":""},"","","","","","","",{"$f":"IF(S835=\"\",\"\",COUNTIF($S$7:S835,\"該当２\"))","v":""},"","",{"$f":"IF(V835=\"\",\"\",COUNTIF($V$7:V835,\"該当３\"))","v":""}]
[2020201024,20,{"v":202,"d":"202 "},{"v":1,"d":"01 "},{"v":24,"d":"024 "},"長野県","松本市","松本市（旧）","渚町",null,"","",{"$f":"IF(K836=\"\",\"\",COUNTIF($K$7:K836,\"ﾘｽﾄ１\"))","v":""},"","","","","","","",{"$f":"IF(S836=\"\",\"\",COUNTIF($S$7:S836,\"該当２\"))","v":""},"","",{"$f":"IF(V836=\"\",\"\",COUNTIF($V$7:V836,\"該当３\"))","v":""}]
[2020201025,20,{"v":202,"d":"202 "},{"v":1,"d":"01 "},{"v":25,"d":"025 "},"長野県","松本市","松本市（旧）","渚西",null,"","",{"$f":"IF(K837=\"\",\"\",COUNTIF($K$7:K837,\"ﾘｽﾄ１\"))","v":""},"","","","","","","",{"$f":"IF(S837=\"\",\"\",COUNTIF($S$7:S837,\"該当２\"))","v":""},"","",{"$f":"IF(V837=\"\",\"\",COUNTIF($V$7:V837,\"該当３\"))","v":""}]
[2020201026,20,{"v":202,"d":"202 "},{"v":1,"d":"01 "},{"v":26,"d":"026 "},"長野県","松本市","松本市（旧）","巾上",null,"","",{"$f":"IF(K838=\"\",\"\",COUNTIF($K$7:K838,\"ﾘｽﾄ１\"))","v":""},"","","","","","","",{"$f":"IF(S838=\"\",\"\",COUNTIF($S$7:S838,\"該当２\"))","v":""},"","",{"$f":"IF(V838=\"\",\"\",COUNTIF($V$7:V838,\"該当３\"))","v":""}]
[2020201027,20,{"v":202,"d":"202 "},{"v":1,"d":"01 "},{"v":27,"d":"027 "},"長野県","松本市","松本市（旧）","南深志",null,"","",{"$f":"IF(K839=\"\",\"\",COUNTIF($K$7:K839,\"ﾘｽﾄ１\"))","v":""},"","","","","","","",{"$f":"IF(S839=\"\",\"\",COUNTIF($S$7:S839,\"該当２\"))","v":""},"","",{"$f":"IF(V839=\"\",\"\",COUNTIF($V$7:V839,\"該当３\"))","v":""}]
[2020201028,20,{"v":202,"d":"202 "},{"v":1,"d":"01 "},{"v":28,"d":"028 "},"長野県","松本市","松本市（旧）","清水",null,"","",{"$f":"IF(K840=\"\",\"\",COUNTIF($K$7:K840,\"ﾘｽﾄ１\"))","v":""},"","","","","","","",{"$f":"IF(S840=\"\",\"\",COUNTIF($S$7:S840,\"該当２\"))","v":""},"","",{"$f":"IF(V840=\"\",\"\",COUNTIF($V$7:V840,\"該当３\"))","v":""}]
[2020201029,20,{"v":202,"d":"202 "},{"v":1,"d":"01 "},{"v":29,"d":"029 "},"長野県","松本市","松本市（旧）","四ツ谷県町",null,"","",{"$f":"IF(K841=\"\",\"\",COUNTIF($K$7:K841,\"ﾘｽﾄ１\"))","v":""},"","","","","","","",{"$f":"IF(S841=\"\",\"\",COUNTIF($S$7:S841,\"該当２\"))","v":""},"","",{"$f":"IF(V841=\"\",\"\",COUNTIF($V$7:V841,\"該当３\"))","v":""}]
[2020201030,20,{"v":202,"d":"202 "},{"v":1,"d":"01 "},{"v":30,"d":"030 "},"長野県","松本市","松本市（旧）","筑摩",null,"","",{"$f":"IF(K842=\"\",\"\",COUNTIF($K$7:K842,\"ﾘｽﾄ１\"))","v":""},"","",{"$f":"IF(O842=\"該当１\",G842,\"\")","v":""},{"$f":"IF(O842=\"該当１\",\"ﾘｽﾄ2\",\"\")","v":""},{"$f":"IF(Q842=\"ﾘｽﾄ2\",H842,\"\")","v":""},"",{"$f":"IF(S842=\"該当２\",H842,\"\")","v":""},{"$f":"IF(S842=\"\",\"\",COUNTIF($S$7:S842,\"該当２\"))","v":""},{"$f":"IF(AND($S$2=H842,E842>0,E842<998),\"該当３\",\"\")","v":""},{"$f":"IF(V842=\"該当３\",I842,\"\")","v":""},{"$f":"IF(V842=\"\",\"\",COUNTIF($V$7:V842,\"該当３\"))","v":""}]
[2020201031,20,{"v":202,"d":"202 "},{"v":1,"d":"01 "},{"v":31,"d":"031 "},"長野県","松本市","松本市（旧）","中林",null,{"$f":"IF(AND($C843>0,$H843=\"\"),\"ﾘｽﾄ１\",\"\")","v":""},{"$f":"IF(K843=\"ﾘｽﾄ１\",G843,\"\")","v":""},{"$f":"IF(K843=\"\",\"\",COUNTIF($K$7:K843,\"ﾘｽﾄ１\"))","v":""},{"$f":"IF(AND(D843=0,E843>0),\"同一区\",\"\")","v":""},{"$f":"IF(AND(EXACT($K$2,G843),H843>0),\"該当１\",\"\")","v":""},"","","",{"$f":"IF(AND(Q843=\"ﾘｽﾄ2\",OR(I843=0,AND(N843=\"同一区\",E843=1))),\"該当２\",\"\")","v":""},"",{"$f":"IF(S843=\"\",\"\",COUNTIF($S$7:S843,\"該当２\"))","v":""},"","",{"$f":"IF(V843=\"\",\"\",COUNTIF($V$7:V843,\"該当３\"))","v":""}]
[2020201032,20,{"v":202,"d":"202 "},{"v":1,"d":"01 "},{"v":32,"d":"032 "},"長野県","松本市","松本市（旧）","薄川南",null,"","",{"$f":"IF(K844=\"\",\"\",COUNTIF($K$7:K844,\"ﾘｽﾄ１\"))","v":""},"","","","","","","",{"$f":"IF(S844=\"\",\"\",COUNTIF($S$7:S844,\"該当２\"))","v":""},"","",{"$f":"IF(V844=\"\",\"\",COUNTIF($V$7:V844,\"該当３\"))","v":""}]
[2020201033,20,{"v":202,"d":"202 "},{"v":1,"d":"01 "},{"v":33,"d":"033 "},"長野県","松本市","松本市（旧）","出川",null,"","",{"$f":"IF(K845=\"\",\"\",COUNTIF($K$7:K845,\"ﾘｽﾄ１\"))","v":""},"","","","","","","",{"$f":"IF(S845=\"\",\"\",COUNTIF($S$7:S845,\"該当２\"))","v":""},"","",{"$f":"IF(V845=\"\",\"\",COUNTIF($V$7:V845,\"該当３\"))","v":""}]
[2020201034,20,{"v":202,"d":"202 "},{"v":1,"d":"01 "},{"v":34,"d":"034 "},"長野県","松本市","松本市（旧）","南松本",null,"","",{"$f":"IF(K846=\"\",\"\",COUNTIF($K$7:K846,\"ﾘｽﾄ１\"))","v":""},"","","","","","","",{"$f":"IF(S846=\"\",\"\",COUNTIF($S$7:S846,\"該当２\"))","v":""},"","",{"$f":"IF(V846=\"\",\"\",COUNTIF($V$7:V846,\"該当３\"))","v":""}]
[2020201035,20,{"v":202,"d":"202 "},{"v":1,"d":"01 "},{"v":35,"d":"035 "},"長野県","松本市","松本市（旧）","三才",null,"","",{"$f":"IF(K847=\"\",\"\",COUNTIF($K$7:K847,\"ﾘｽﾄ１\"))","v":""},"","","","","","","",{"$f":"IF(S847=\"\",\"\",COUNTIF($S$7:S847,\"該当２\"))","v":""},"","",{"$f":"IF(V847=\"\",\"\",COUNTIF($V$7:V847,\"該当３\"))","v":""}]
[2020202000,20,{"v":202,"d":"202 "},{"v":2,"d":"02 "},{"v":0,"d":"000 "},"長野県","松本市","島内村",null,null,"","",{"$f":"IF(K848=\"\",\"\",COUNTIF($K$7:K848,\"ﾘｽﾄ１\"))","v":""},"","","","","","","",{"$f":"IF(S848=\"\",\"\",COUNTIF($S$7:S848,\"該当２\"))","v":""},"","",{"$f":"IF(V848=\"\",\"\",COUNTIF($V$7:V848,\"該当３\"))","v":""}]
[2020202001,20,{"v":202,"d":"202 "},{"v":2,"d":"02 "},{"v":1,"d":"001 "},"長野県","松本市","島内村","小宮",null,"","",{"$f":"IF(K849=\"\",\"\",COUNTIF($K$7:K849,\"ﾘｽﾄ１\"))","v":""},"","","","","","","",{"$f":"IF(S849=\"\",\"\",COUNTIF($S$7:S849,\"該当２\"))","v":""},"","",{"$f":"IF(V849=\"\",\"\",COUNTIF($V$7:V849,\"該当３\"))","v":""}]
[2020202002,20,{"v":202,"d":"202 "},{"v":2,"d":"02 "},{"v":2,"d":"002 "},"長野県","松本市","島内村","高松",null,"","",{"$f":"IF(K850=\"\",\"\",COUNTIF($K$7:K850,\"ﾘｽﾄ１\"))","v":""},"","","","","","","",{"$f":"IF(S850=\"\",\"\",COUNTIF($S$7:S850,\"該当２\"))","v":""},"","",{"$f":"IF(V850=\"\",\"\",COUNTIF($V$7:V850,\"該当３\"))","v":""}]
[2020202003,20,{"v":202,"d":"202 "},{"v":2,"d":"02 "},{"v":3,"d":"003 "},"長野県","松本市","島内村","北中",null,"","",{"$f":"IF(K851=\"\",\"\",COUNTIF($K$7:K851,\"ﾘｽﾄ１\"))","v":""},"","","","","","","",{"$f":"IF(S851=\"\",\"\",COUNTIF($S$7:S851,\"該当２\"))","v":""},"","",{"$f":"IF(V851=\"\",\"\",COUNTIF($V$7:V851,\"該当３\"))","v":""}]
[2020202004,20,{"v":202,"d":"202 "},{"v":2,"d":"02 "},{"v":4,"d":"004 "},"長野県","松本市","島内村","南中",null,"","",{"$f":"IF(K852=\"\",\"\",COUNTIF($K$7:K852,\"ﾘｽﾄ１\"))","v":""},"","","","","","","",{"$f":"IF(S852=\"\",\"\",COUNTIF($S$7:S852,\"該当２\"))","v":""},"","",{"$f":"IF(V852=\"\",\"\",COUNTIF($V$7:V852,\"該当３\"))","v":""}]
[2020202005,20,{"v":202,"d":"202 "},{"v":2,"d":"02 "},{"v":5,"d":"005 "},"長野県","松本市","島内村","青島",null,"","",{"$f":"IF(K853=\"\",\"\",COUNTIF($K$7:K853,\"ﾘｽﾄ１\"))","v":""},"","","","","","","",{"$f":"IF(S853=\"\",\"\",COUNTIF($S$7:S853,\"該当２\"))","v":""},"","",{"$f":"IF(V853=\"\",\"\",COUNTIF($V$7:V853,\"該当３\"))","v":""}]
[2020202006,20,{"v":202,"d":"202 "},{"v":2,"d":"02 "},{"v":6,"d":"006 "},"長野県","松本市","島内村","新橋",null,"","",{"$f":"IF(K854=\"\",\"\",COUNTIF($K$7:K854,\"ﾘｽﾄ１\"))","v":""},"","","","","","","",{"$f":"IF(S854=\"\",\"\",COUNTIF($S$7:S854,\"該当２\"))","v":""},"","",{"$f":"IF(V854=\"\",\"\",COUNTIF($V$7:V854,\"該当３\"))","v":""}]
[2020202007,20,{"v":202,"d":"202 "},{"v":2,"d":"02 "},{"v":7,"d":"007 "},"長野県","松本市","島内村","東方",null,"","",{"$f":"IF(K855=\"\",\"\",COUNTIF($K$7:K855,\"ﾘｽﾄ１\"))","v":""},"","","","","","","",{"$f":"IF(S855=\"\",\"\",COUNTIF($S$7:S855,\"該当２\"))","v":""},"","",{"$f":"IF(V855=\"\",\"\",COUNTIF($V$7:V855,\"該当３\"))","v":""}]
[2020202008,20,{"v":202,"d":"202 "},{"v":2,"d":"02 "},{"v":8,"d":"008 "},"長野県","松本市","島内村","町",null,"","",{"$f":"IF(K856=\"\",\"\",COUNTIF($K$7:K856,\"ﾘｽﾄ１\"))","v":""},"","","","","","","",{"$f":"IF(S856=\"\",\"\",COUNTIF($S$7:S856,\"該当２\"))","v":""},"","",{"$f":"IF(V856=\"\",\"\",COUNTIF($V$7:V856,\"該当３\"))","v":""}]
[2020202009,20,{"v":202,"d":"202 "},{"v":2,"d":"02 "},{"v":9,"d":"009 "},"長野県","松本市","島内村","北方",null,"","",{"$f":"IF(K857=\"\",\"\",COUNTIF($K$7:K857,\"ﾘｽﾄ１\"))","v":""},"","","","","","","",{"$f":"IF(S857=\"\",\"\",COUNTIF($S$7:S857,\"該当２\"))","v":""},"","",{"$f":"IF(V857=\"\",\"\",COUNTIF($V$7:V857,\"該当３\"))","v":""}]
[2020202010,20,{"v":202,"d":"202 "},{"v":2,"d":"02 "},{"v":10,"d":"010 "},"長野県","松本市","島内村","上平瀬",null,"","",{"$f":"IF(K858=\"\",\"\",COUNTIF($K$7:K858,\"ﾘｽﾄ１\"))","v":""},"","","","","","","",{"$f":"IF(S858=\"\",\"\",COUNTIF($S$7:S858,\"該当２\"))","v":""},"","",{"$f":"IF(V858=\"\",\"\",COUNTIF($V$7:V858,\"該当３\"))","v":""}]
[2020202011,20,{"v":202,"d":"202 "},{"v":2,"d":"02 "},{"v":11,"d":"011 "},"長野県","松本市","島内村","平瀬川西",null,"","",{"$f":"IF(K859=\"\",\"\",COUNTIF($K$7:K859,\"ﾘｽﾄ１\"))","v":""},"","","","","","","",{"$f":"IF(S859=\"\",\"\",COUNTIF($S$7:S859,\"該当２\"))","v":""},"","",{"$f":"IF(V859=\"\",\"\",COUNTIF($V$7:V859,\"該当３\"))","v":""}]
[2020202012,20,{"v":202,"d":"202 "},{"v":2,"d":"02 "},{"v":12,"d":"012 "},"長野県","松本市","島内村","平瀬川東",null,"","",{"$f":"IF(K860=\"\",\"\",COUNTIF($K$7:K860,\"ﾘｽﾄ１\"))","v":""},"","","","","","","",{"$f":"IF(S860=\"\",\"\",COUNTIF($S$7:S860,\"該当２\"))","v":""},"","",{"$f":"IF(V860=\"\",\"\",COUNTIF($V$7:V860,\"該当３\"))","v":""}]
[2020202013,20,{"v":202,"d":"202 "},{"v":2,"d":"02 "},{"v":13,"d":"013 "},"長野県","松本市","島内村","下田",null,"","",{"$f":"IF(K861=\"\",\"\",COUNTIF($K$7:K861,\"ﾘｽﾄ１\"))","v":""},"","","","","","","",{"$f":"IF(S861=\"\",\"\",COUNTIF($S$7:S861,\"該当２\"))","v":""},"","",{"$f":"IF(V861=\"\",\"\",COUNTIF($V$7:V861,\"該当３\"))","v":""}]
[2020202014,20,{"v":202,"d":"202 "},{"v":2,"d":"02 "},{"v":14,"d":"014 "},"長野県","松本市","島内村","山田",null,"","",{"$f":"IF(K862=\"\",\"\",COUNTIF($K$7:K862,\"ﾘｽﾄ１\"))","v":""},"","","","","","","",{"$f":"IF(S862=\"\",\"\",COUNTIF($S$7:S862,\"該当２\"))","v":""},"","",{"$f":"IF(V862=\"\",\"\",COUNTIF($V$7:V862,\"該当３\"))","v":""}]
[2020202015,20,{"v":202,"d":"202 "},{"v":2,"d":"02 "},{"v":15,"d":"015 "},"長野県","松本市","島内村","犬飼新田",null,"","",{"$f":"IF(K863=\"\",\"\",COUNTIF($K$7:K863,\"ﾘｽﾄ１\"))","v":""},"","","","","","","",{"$f":"IF(S863=\"\",\"\",COUNTIF($S$7:S863,\"該当２\"))","v":""},"","",{"$f":"IF(V863=\"\",\"\",COUNTIF($V$7:V863,\"該当３\"))","v":""}]
[2020203000,20,{"v":202,"d":"202 "},{"v":3,"d":"03 "},{"v":0,"d":"000 "},"長野県","松本市","中山村",null,null,"","",{"$f":"IF(K864=\"\",\"\",COUNTIF($K$7:K864,\"ﾘｽﾄ１\"))","v":""},"","","","","","","",{"$f":"IF(S864=\"\",\"\",COUNTIF($S$7:S864,\"該当２\"))","v":""},"","",{"$f":"IF(V864=\"\",\"\",COUNTIF($V$7:V864,\"該当３\"))","v":""}]
[2020203001,20,{"v":202,"d":"202 "},{"v":3,"d":"03 "},{"v":1,"d":"001 "},"長野県","松本市","中山村","和泉",null,"","",{"$f":"IF(K865=\"\",\"\",COUNTIF($K$7:K865,\"ﾘｽﾄ１\"))","v":""},"","","","","","","",{"$f":"IF(S865=\"\",\"\",COUNTIF($S$7:S865,\"該当２\"))","v":""},"","",{"$f":"IF(V865=\"\",\"\",COUNTIF($V$7:V865,\"該当３\"))","v":""}]
[2020203002,20,{"v":202,"d":"202 "},{"v":3,"d":"03 "},{"v":2,"d":"002 "},"長野県","松本市","中山村","埴原北",null,"","",{"$f":"IF(K866=\"\",\"\",COUNTIF($K$7:K866,\"ﾘｽﾄ１\"))","v":""},"","","","","","","",{"$f":"IF(S866=\"\",\"\",COUNTIF($S$7:S866,\"該当２\"))","v":""},"","",{"$f":"IF(V866=\"\",\"\",COUNTIF($V$7:V866,\"該当３\"))","v":""}]
[2020203003,20,{"v":202,"d":"202 "},{"v":3,"d":"03 "},{"v":3,"d":"003 "},"長野県","松本市","中山村","埴原西",null,"","",{"$f":"IF(K867=\"\",\"\",COUNTIF($K$7:K867,\"ﾘｽﾄ１\"))","v":""},"","","","","","","",{"$f":"IF(S867=\"\",\"\",COUNTIF($S$7:S867,\"該当２\"))","v":""},"","",{"$f":"IF(V867=\"\",\"\",COUNTIF($V$7:V867,\"該当３\"))","v":""}]
[2020203004,20,{"v":202,"d":"202 "},{"v":3,"d":"03 "},{"v":4,"d":"004 "},"長野県","松本市","中山村","埴原東",null,"","",{"$f":"IF(K868=\"\",\"\",COUNTIF($K$7:K868,\"ﾘｽﾄ１\"))","v":""},"","","","","","","",{"$f":"IF(S868=\"\",\"\",COUNTIF($S$7:S868,\"該当２\"))","v":""},"","",{"$f":"IF(V868=\"\",\"\",COUNTIF($V$7:V868,\"該当３\"))","v":""}]
[2020203005,20,{"v":202,"d":"202 "},{"v":3,"d":"03 "},{"v":5,"d":"005 "},"長野県","松本市","中山村","千国古屋敷",null,"","",{"$f":"IF(K869=\"\",\"\",COUNTIF($K$7:K869,\"ﾘｽﾄ１\"))","v":""},"","","","","","","",{"$f":"IF(S869=\"\",\"\",COUNTIF($S$7:S869,\"該当２\"))","v":""},"","",{"$f":"IF(V869=\"\",\"\",COUNTIF($V$7:V869,\"該当３\"))","v":""}]
[2020203006,20,{"v":202,"d":"202 "},{"v":3,"d":"03 "},{"v":6,"d":"006 "},"長野県","松本市","中山村","千国第２",null,"","",{"$f":"IF(K870=\"\",\"\",COUNTIF($K$7:K870,\"ﾘｽﾄ１\"))","v":""},"","","","","","","",{"$f":"IF(S870=\"\",\"\",COUNTIF($S$7:S870,\"該当２\"))","v":""},"","",{"$f":"IF(V870=\"\",\"\",COUNTIF($V$7:V870,\"該当３\"))","v":""}]
[2020204000,20,{"v":202,"d":"202 "},{"v":4,"d":"04 "},{"v":0,"d":"000 "},"長野県","松本市","島立村",null,null,"","",{"$f":"IF(K871=\"\",\"\",COUNTIF($K$7:K871,\"ﾘｽﾄ１\"))","v":""},"","","","","","","",{"$f":"IF(S871=\"\",\"\",COUNTIF($S$7:S871,\"該当２\"))","v":""},"","",{"$f":"IF(V871=\"\",\"\",COUNTIF($V$7:V871,\"該当３\"))","v":""}]
[2020204001,20,{"v":202,"d":"202 "},{"v":4,"d":"04 "},{"v":1,"d":"001 "},"長野県","松本市","島立村","荒井",null,"","",{"$f":"IF(K872=\"\",\"\",COUNTIF($K$7:K872,\"ﾘｽﾄ１\"))","v":""},"","","","","","","",{"$f":"IF(S872=\"\",\"\",COUNTIF($S$7:S872,\"該当２\"))","v":""},"","",{"$f":"IF(V872=\"\",\"\",COUNTIF($V$7:V872,\"該当３\"))","v":""}]
[2020204002,20,{"v":202,"d":"202 "},{"v":4,"d":"04 "},{"v":2,"d":"002 "},"長野県","松本市","島立村","堀米",null,"","",{"$f":"IF(K873=\"\",\"\",COUNTIF($K$7:K873,\"ﾘｽﾄ１\"))","v":""},"","","","","","","",{"$f":"IF(S873=\"\",\"\",COUNTIF($S$7:S873,\"該当２\"))","v":""},"","",{"$f":"IF(V873=\"\",\"\",COUNTIF($V$7:V873,\"該当３\"))","v":""}]
[2020204003,20,{"v":202,"d":"202 "},{"v":4,"d":"04 "},{"v":3,"d":"003 "},"長野県","松本市","島立村","大庭",null,"","",{"$f":"IF(K874=\"\",\"\",COUNTIF($K$7:K874,\"ﾘｽﾄ１\"))","v":""},"","","","","","","",{"$f":"IF(S874=\"\",\"\",COUNTIF($S$7:S874,\"該当２\"))","v":""},"","",{"$f":"IF(V874=\"\",\"\",COUNTIF($V$7:V874,\"該当３\"))","v":""}]
[2020204004,20,{"v":202,"d":"202 "},{"v":4,"d":"04 "},{"v":4,"d":"004 "},"長野県","松本市","島立村","小柴",null,"","",{"$f":"IF(K875=\"\",\"\",COUNTIF($K$7:K875,\"ﾘｽﾄ１\"))","v":""},"","","","","","","",{"$f":"IF(S875=\"\",\"\",COUNTIF($S$7:S875,\"該当２\"))","v":""},"","",{"$f":"IF(V875=\"\",\"\",COUNTIF($V$7:V875,\"該当３\"))","v":""}]
[2020204005,20,{"v":202,"d":"202 "},{"v":4,"d":"04 "},{"v":5,"d":"005 "},"長野県","松本市","島立村","町区",null,"","",{"$f":"IF(K876=\"\",\"\",COUNTIF($K$7:K876,\"ﾘｽﾄ１\"))","v":""},"","","","","","","",{"$f":"IF(S876=\"\",\"\",COUNTIF($S$7:S876,\"該当２\"))","v":""},"","",{"$f":"IF(V876=\"\",\"\",COUNTIF($V$7:V876,\"該当３\"))","v":""}]
[2020204006,20,{"v":202,"d":"202 "},{"v":4,"d":"04 "},{"v":6,"d":"006 "},"長野県","松本市","島立村","永田",null,"","",{"$f":"IF(K877=\"\",\"\",COUNTIF($K$7:K877,\"ﾘｽﾄ１\"))","v":""},"","","","","","","",{"$f":"IF(S877=\"\",\"\",COUNTIF($S$7:S877,\"該当２\"))","v":""},"","",{"$f":"IF(V877=\"\",\"\",COUNTIF($V$7:V877,\"該当３\"))","v":""}]
[2020204007,20,{"v":202,"d":"202 "},{"v":4,"d":"04 "},{"v":7,"d":"007 "},"長野県","松本市","島立村","中村",null,"","",{"$f":"IF(K878=\"\",\"\",COUNTIF($K$7:K878,\"ﾘｽﾄ１\"))","v":""},"","","","","","","",{"$f":"IF(S878=\"\",\"\",COUNTIF($S$7:S878,\"該当２\"))","v":""},"","",{"$f":"IF(V878=\"\",\"\",COUNTIF($V$7:V878,\"該当３\"))","v":""}]
[2020204008,20,{"v":202,"d":"202 "},{"v":4,"d":"04 "},{"v":8,"d":"008 "},"長野県","松本市","島立村","三の宮",null,"","",{"$f":"IF(K879=\"\",\"\",COUNTIF($K$7:K879,\"ﾘｽﾄ１\"))","v":""},"","","","","","","",{"$f":"IF(S879=\"\",\"\",COUNTIF($S$7:S879,\"該当２\"))","v":""},"","",{"$f":"IF(V879=\"\",\"\",COUNTIF($V$7:V879,\"該当３\"))","v":""}]
[2020204009,20,{"v":202,"d":"202 "},{"v":4,"d":"04 "},{"v":9,"d":"009 "},"長野県","松本市","島立村","北栗",null,"","",{"$f":"IF(K880=\"\",\"\",COUNTIF($K$7:K880,\"ﾘｽﾄ１\"))","v":""},"","","","","","","",{"$f":"IF(S880=\"\",\"\",COUNTIF($S$7:S880,\"該当２\"))","v":""},"","",{"$f":"IF(V880=\"\",\"\",COUNTIF($V$7:V880,\"該当３\"))","v":""}]
[2020204010,20,{"v":202,"d":"202 "},{"v":4,"d":"04 "},{"v":10,"d":"010 "},"長野県","松本市","島立村","南栗",null,"","",{"$f":"IF(K881=\"\",\"\",COUNTIF($K$7:K881,\"ﾘｽﾄ１\"))","v":""},"","","","","","","",{"$f":"IF(S881=\"\",\"\",COUNTIF($S$7:S881,\"該当２\"))","v":""},"","",{"$f":"IF(V881=\"\",\"\",COUNTIF($V$7:V881,\"該当３\"))","v":""}]
[2020205000,20,{"v":202,"d":"202 "},{"v":5,"d":"05 "},{"v":0,"d":"000 "},"長野県","松本市","和田村（松本市）",null,null,"","",{"$f":"IF(K882=\"\",\"\",COUNTIF($K$7:K882,\"ﾘｽﾄ１\"))","v":""},"","","","","","","",{"$f":"IF(S882=\"\",\"\",COUNTIF($S$7:S882,\"該当２\"))","v":""},"","",{"$f":"IF(V882=\"\",\"\",COUNTIF($V$7:V882,\"該当３\"))","v":""}]
[2020205001,20,{"v":202,"d":"202 "},{"v":5,"d":"05 "},{"v":1,"d":"001 "},"長野県","松本市","和田村（松本市）","蘇我",null,"","",{"$f":"IF(K883=\"\",\"\",COUNTIF($K$7:K883,\"ﾘｽﾄ１\"))","v":""},"","","","","","","",{"$f":"IF(S883=\"\",\"\",COUNTIF($S$7:S883,\"該当２\"))","v":""},"","",{"$f":"IF(V883=\"\",\"\",COUNTIF($V$7:V883,\"該当３\"))","v":""}]
[2020205002,20,{"v":202,"d":"202 "},{"v":5,"d":"05 "},{"v":2,"d":"002 "},"長野県","松本市","和田村（松本市）","衣外",null,"","",{"$f":"IF(K884=\"\",\"\",COUNTIF($K$7:K884,\"ﾘｽﾄ１\"))","v":""},"","","","","","","",{"$f":"IF(S884=\"\",\"\",COUNTIF($S$7:S884,\"該当２\"))","v":""},"","",{"$f":"IF(V884=\"\",\"\",COUNTIF($V$7:V884,\"該当３\"))","v":""}]
[2020205003,20,{"v":202,"d":"202 "},{"v":5,"d":"05 "},{"v":3,"d":"003 "},"長野県","松本市","和田村（松本市）","殿",null,"","",{"$f":"IF(K885=\"\",\"\",COUNTIF($K$7:K885,\"ﾘｽﾄ１\"))","v":""},"","","","","","","",{"$f":"IF(S885=\"\",\"\",COUNTIF($S$7:S885,\"該当２\"))","v":""},"","",{"$f":"IF(V885=\"\",\"\",COUNTIF($V$7:V885,\"該当３\"))","v":""}]
[2020205004,20,{"v":202,"d":"202 "},{"v":5,"d":"05 "},{"v":4,"d":"004 "},"長野県","松本市","和田村（松本市）","南和田",null,"","",{"$f":"IF(K886=\"\",\"\",COUNTIF($K$7:K886,\"ﾘｽﾄ１\"))","v":""},"","","","","","","",{"$f":"IF(S886=\"\",\"\",COUNTIF($S$7:S886,\"該当２\"))","v":""},"","",{"$f":"IF(V886=\"\",\"\",COUNTIF($V$7:V886,\"該当３\"))","v":""}]
[2020205005,20,{"v":202,"d":"202 "},{"v":5,"d":"05 "},{"v":5,"d":"005 "},"長野県","松本市","和田村（松本市）","太子堂",null,"","",{"$f":"IF(K887=\"\",\"\",COUNTIF($K$7:K887,\"ﾘｽﾄ１\"))","v":""},"","","","","","","",{"$f":"IF(S887=\"\",\"\",COUNTIF($S$7:S887,\"該当２\"))","v":""},"","",{"$f":"IF(V887=\"\",\"\",COUNTIF($V$7:V887,\"該当３\"))","v":""}]
[2020205006,20,{"v":202,"d":"202 "},{"v":5,"d":"05 "},{"v":6,"d":"006 "},"長野県","松本市","和田村（松本市）","中",null,"","",{"$f":"IF(K888=\"\",\"\",COUNTIF($K$7:K888,\"ﾘｽﾄ１\"))","v":""},"","","","","","","",{"$f":"IF(S888=\"\",\"\",COUNTIF($S$7:S888,\"該当２\"))","v":""},"","",{"$f":"IF(V888=\"\",\"\",COUNTIF($V$7:V888,\"該当３\"))","v":""}]
[2020205007,20,{"v":202,"d":"202 "},{"v":5,"d":"05 "},{"v":7,"d":"007 "},"長野県","松本市","和田村（松本市）","町",null,"","",{"$f":"IF(K889=\"\",\"\",COUNTIF($K$7:K889,\"ﾘｽﾄ１\"))","v":""},"","","","","","","",{"$f":"IF(S889=\"\",\"\",COUNTIF($S$7:S889,\"該当２\"))","v":""},"","",{"$f":"IF(V889=\"\",\"\",COUNTIF($V$7:V889,\"該当３\"))","v":""}]
[2020205008,20,{"v":202,"d":"202 "},{"v":5,"d":"05 "},{"v":8,"d":"008 "},"長野県","松本市","和田村（松本市）","下和田",null,"","",{"$f":"IF(K890=\"\",\"\",COUNTIF($K$7:K890,\"ﾘｽﾄ１\"))","v":""},"","","","","","","",{"$f":"IF(S890=\"\",\"\",COUNTIF($S$7:S890,\"該当２\"))","v":""},"","",{"$f":"IF(V890=\"\",\"\",COUNTIF($V$7:V890,\"該当３\"))","v":""}]
[2020205009,20,{"v":202,"d":"202 "},{"v":5,"d":"05 "},{"v":9,"d":"009 "},"長野県","松本市","和田村（松本市）","境",null,"","",{"$f":"IF(K891=\"\",\"\",COUNTIF($K$7:K891,\"ﾘｽﾄ１\"))","v":""},"","","","","","","",{"$f":"IF(S891=\"\",\"\",COUNTIF($S$7:S891,\"該当２\"))","v":""},"","",{"$f":"IF(V891=\"\",\"\",COUNTIF($V$7:V891,\"該当３\"))","v":""}]
[2020206000,20,{"v":202,"d":"202 "},{"v":6,"d":"06 "},{"v":0,"d":"000 "},"長野県","松本市","笹賀村",null,null,"","",{"$f":"IF(K892=\"\",\"\",COUNTIF($K$7:K892,\"ﾘｽﾄ１\"))","v":""},"","","","","","","",{"$f":"IF(S892=\"\",\"\",COUNTIF($S$7:S892,\"該当２\"))","v":""},"","",{"$f":"IF(V892=\"\",\"\",COUNTIF($V$7:V892,\"該当３\"))","v":""}]
[2020206001,20,{"v":202,"d":"202 "},{"v":6,"d":"06 "},{"v":1,"d":"001 "},"長野県","松本市","笹賀村","今",null,"","",{"$f":"IF(K893=\"\",\"\",COUNTIF($K$7:K893,\"ﾘｽﾄ１\"))","v":""},"","","","","","","",{"$f":"IF(S893=\"\",\"\",COUNTIF($S$7:S893,\"該当２\"))","v":""},"","",{"$f":"IF(V893=\"\",\"\",COUNTIF($V$7:V893,\"該当３\"))","v":""}]
[2020206002,20,{"v":202,"d":"202 "},{"v":6,"d":"06 "},{"v":2,"d":"002 "},"長野県","松本市","笹賀村","上小俣",null,"","",{"$f":"IF(K894=\"\",\"\",COUNTIF($K$7:K894,\"ﾘｽﾄ１\"))","v":""},"","","","","","","",{"$f":"IF(S894=\"\",\"\",COUNTIF($S$7:S894,\"該当２\"))","v":""},"","",{"$f":"IF(V894=\"\",\"\",COUNTIF($V$7:V894,\"該当３\"))","v":""}]
[2020206003,20,{"v":202,"d":"202 "},{"v":6,"d":"06 "},{"v":3,"d":"003 "},"長野県","松本市","笹賀村","巾下",null,"","",{"$f":"IF(K895=\"\",\"\",COUNTIF($K$7:K895,\"ﾘｽﾄ１\"))","v":""},"","","","","","","",{"$f":"IF(S895=\"\",\"\",COUNTIF($S$7:S895,\"該当２\"))","v":""},"","",{"$f":"IF(V895=\"\",\"\",COUNTIF($V$7:V895,\"該当３\"))","v":""}]
[2020206004,20,{"v":202,"d":"202 "},{"v":6,"d":"06 "},{"v":4,"d":"004 "},"長野県","松本市","笹賀村","東耕地",null,"","",{"$f":"IF(K896=\"\",\"\",COUNTIF($K$7:K896,\"ﾘｽﾄ１\"))","v":""},"","","","","","","",{"$f":"IF(S896=\"\",\"\",COUNTIF($S$7:S896,\"該当２\"))","v":""},"","",{"$f":"IF(V896=\"\",\"\",COUNTIF($V$7:V896,\"該当３\"))","v":""}]
[2020206005,20,{"v":202,"d":"202 "},{"v":6,"d":"06 "},{"v":5,"d":"005 "},"長野県","松本市","笹賀村","下小俣",null,"","",{"$f":"IF(K897=\"\",\"\",COUNTIF($K$7:K897,\"ﾘｽﾄ１\"))","v":""},"","","","","","","",{"$f":"IF(S897=\"\",\"\",COUNTIF($S$7:S897,\"該当２\"))","v":""},"","",{"$f":"IF(V897=\"\",\"\",COUNTIF($V$7:V897,\"該当３\"))","v":""}]
[2020206006,20,{"v":202,"d":"202 "},{"v":6,"d":"06 "},{"v":6,"d":"006 "},"長野県","松本市","笹賀村","神戸新田",null,"","",{"$f":"IF(K898=\"\",\"\",COUNTIF($K$7:K898,\"ﾘｽﾄ１\"))","v":""},"","","","","","","",{"$f":"IF(S898=\"\",\"\",COUNTIF($S$7:S898,\"該当２\"))","v":""},"","",{"$f":"IF(V898=\"\",\"\",COUNTIF($V$7:V898,\"該当３\"))","v":""}]
[2020206007,20,{"v":202,"d":"202 "},{"v":6,"d":"06 "},{"v":7,"d":"007 "},"長野県","松本市","笹賀村","神戸",null,"","",{"$f":"IF(K899=\"\",\"\",COUNTIF($K$7:K899,\"ﾘｽﾄ１\"))","v":""},"","","","","","","",{"$f":"IF(S899=\"\",\"\",COUNTIF($S$7:S899,\"該当２\"))","v":""},"","",{"$f":"IF(V899=\"\",\"\",COUNTIF($V$7:V899,\"該当３\"))","v":""}]
[2020206008,20,{"v":202,"d":"202 "},{"v":6,"d":"06 "},{"v":8,"d":"008 "},"長野県","松本市","笹賀村","上二子",null,"","",{"$f":"IF(K900=\"\",\"\",COUNTIF($K$7:K900,\"ﾘｽﾄ１\"))","v":""},"","","","","","","",{"$f":"IF(S900=\"\",\"\",COUNTIF($S$7:S900,\"該当２\"))","v":""},"","",{"$f":"IF(V900=\"\",\"\",COUNTIF($V$7:V900,\"該当３\"))","v":""}]
[2020206009,20,{"v":202,"d":"202 "},{"v":6,"d":"06 "},{"v":9,"d":"009 "},"長野県","松本市","笹賀村","中二子",null,"","",{"$f":"IF(K901=\"\",\"\",COUNTIF($K$7:K901,\"ﾘｽﾄ１\"))","v":""},"","","","","","","",{"$f":"IF(S901=\"\",\"\",COUNTIF($S$7:S901,\"該当２\"))","v":""},"","",{"$f":"IF(V901=\"\",\"\",COUNTIF($V$7:V901,\"該当３\"))","v":""}]
[2020206010,20,{"v":202,"d":"202 "},{"v":6,"d":"06 "},{"v":10,"d":"010 "},"長野県","松本市","笹賀村","下二子",null,"","",{"$f":"IF(K902=\"\",\"\",COUNTIF($K$7:K902,\"ﾘｽﾄ１\"))","v":""},"","","","","","","",{"$f":"IF(S902=\"\",\"\",COUNTIF($S$7:S902,\"該当２\"))","v":""},"","",{"$f":"IF(V902=\"\",\"\",COUNTIF($V$7:V902,\"該当３\"))","v":""}]
[2020207000,20,{"v":202,"d":"202 "},{"v":7,"d":"07 "},{"v":0,"d":"000 "},"長野県","松本市","芳川村",null,null,"","",{"$f":"IF(K903=\"\",\"\",COUNTIF($K$7:K903,\"ﾘｽﾄ１\"))","v":""},"","","","","","","",{"$f":"IF(S903=\"\",\"\",COUNTIF($S$7:S903,\"該当２\"))","v":""},"","",{"$f":"IF(V903=\"\",\"\",COUNTIF($V$7:V903,\"該当３\"))","v":""}]
[2020207001,20,{"v":202,"d":"202 "},{"v":7,"d":"07 "},{"v":1,"d":"001 "},"長野県","松本市","芳川村","上町",null,"","",{"$f":"IF(K904=\"\",\"\",COUNTIF($K$7:K904,\"ﾘｽﾄ１\"))","v":""},"","","","","","","",{"$f":"IF(S904=\"\",\"\",COUNTIF($S$7:S904,\"該当２\"))","v":""},"","",{"$f":"IF(V904=\"\",\"\",COUNTIF($V$7:V904,\"該当３\"))","v":""}]
[2020207002,20,{"v":202,"d":"202 "},{"v":7,"d":"07 "},{"v":2,"d":"002 "},"長野県","松本市","芳川村","駅通り",null,"","",{"$f":"IF(K905=\"\",\"\",COUNTIF($K$7:K905,\"ﾘｽﾄ１\"))","v":""},"","","","","","","",{"$f":"IF(S905=\"\",\"\",COUNTIF($S$7:S905,\"該当２\"))","v":""},"","",{"$f":"IF(V905=\"\",\"\",COUNTIF($V$7:V905,\"該当３\"))","v":""}]
[2020207003,20,{"v":202,"d":"202 "},{"v":7,"d":"07 "},{"v":3,"d":"003 "},"長野県","松本市","芳川村","村井",null,"","",{"$f":"IF(K906=\"\",\"\",COUNTIF($K$7:K906,\"ﾘｽﾄ１\"))","v":""},"","",{"$f":"IF(O906=\"該当１\",G906,\"\")","v":""},{"$f":"IF(O906=\"該当１\",\"ﾘｽﾄ2\",\"\")","v":""},{"$f":"IF(Q906=\"ﾘｽﾄ2\",H906,\"\")","v":""},"",{"$f":"IF(S906=\"該当２\",H906,\"\")","v":""},{"$f":"IF(S906=\"\",\"\",COUNTIF($S$7:S906,\"該当２\"))","v":""},{"$f":"IF(AND($S$2=H906,E906>0,E906<998),\"該当３\",\"\")","v":""},{"$f":"IF(V906=\"該当３\",I906,\"\")","v":""},{"$f":"IF(V906=\"\",\"\",COUNTIF($V$7:V906,\"該当３\"))","v":""}]
[2020207004,20,{"v":202,"d":"202 "},{"v":7,"d":"07 "},{"v":4,"d":"004 "},"長野県","松本市","芳川村","小屋",null,{"$f":"IF(AND($C907>0,$H907=\"\"),\"ﾘｽﾄ１\",\"\")","v":""},{"$f":"IF(K907=\"ﾘｽﾄ１\",G907,\"\")","v":""},{"$f":"IF(K907=\"\",\"\",COUNTIF($K$7:K907,\"ﾘｽﾄ１\"))","v":""},{"$f":"IF(AND(D907=0,E907>0),\"同一区\",\"\")","v":""},{"$f":"IF(AND(EXACT($K$2,G907),H907>0),\"該当１\",\"\")","v":""},"","","",{"$f":"IF(AND(Q907=\"ﾘｽﾄ2\",OR(I907=0,AND(N907=\"同一区\",E907=1))),\"該当２\",\"\")","v":""},"",{"$f":"IF(S907=\"\",\"\",COUNTIF($S$7:S907,\"該当２\"))","v":""},"","",{"$f":"IF(V907=\"\",\"\",COUNTIF($V$7:V907,\"該当３\"))","v":""}]
[2020207005,20,{"v":202,"d":"202 "},{"v":7,"d":"07 "},{"v":5,"d":"005 "},"長野県","松本市","芳川村","野溝",null,"","",{"$f":"IF(K908=\"\",\"\",COUNTIF($K$7:K908,\"ﾘｽﾄ１\"))","v":""},"","","","","","","",{"$f":"IF(S908=\"\",\"\",COUNTIF($S$7:S908,\"該当２\"))","v":""},"","",{"$f":"IF(V908=\"\",\"\",COUNTIF($V$7:V908,\"該当３\"))","v":""}]
[2020207006,20,{"v":202,"d":"202 "},{"v":7,"d":"07 "},{"v":6,"d":"006 "},"長野県","松本市","芳川村","平田",null,"","",{"$f":"IF(K909=\"\",\"\",COUNTIF($K$7:K909,\"ﾘｽﾄ１\"))","v":""},"","","","","","","",{"$f":"IF(S909=\"\",\"\",COUNTIF($S$7:S909,\"該当２\"))","v":""},"","",{"$f":"IF(V909=\"\",\"\",COUNTIF($V$7:V909,\"該当３\"))","v":""}]
[2020208000,20,{"v":202,"d":"202 "},{"v":8,"d":"08 "},{"v":0,"d":"000 "},"長野県","松本市","寿村",null,null,"","",{"$f":"IF(K910=\"\",\"\",COUNTIF($K$7:K910,\"ﾘｽﾄ１\"))","v":""},"","","","","","","",{"$f":"IF(S910=\"\",\"\",COUNTIF($S$7:S910,\"該当２\"))","v":""},"","",{"$f":"IF(V910=\"\",\"\",COUNTIF($V$7:V910,\"該当３\"))","v":""}]
[2020208001,20,{"v":202,"d":"202 "},{"v":8,"d":"08 "},{"v":1,"d":"001 "},"長野県","松本市","寿村","竹渕",null,"","",{"$f":"IF(K911=\"\",\"\",COUNTIF($K$7:K911,\"ﾘｽﾄ１\"))","v":""},"","","","","","","",{"$f":"IF(S911=\"\",\"\",COUNTIF($S$7:S911,\"該当２\"))","v":""},"","",{"$f":"IF(V911=\"\",\"\",COUNTIF($V$7:V911,\"該当３\"))","v":""}]
[2020208002,20,{"v":202,"d":"202 "},{"v":8,"d":"08 "},{"v":2,"d":"002 "},"長野県","松本市","寿村","下瀬黒",null,"","",{"$f":"IF(K912=\"\",\"\",COUNTIF($K$7:K912,\"ﾘｽﾄ１\"))","v":""},"","","","","","","",{"$f":"IF(S912=\"\",\"\",COUNTIF($S$7:S912,\"該当２\"))","v":""},"","",{"$f":"IF(V912=\"\",\"\",COUNTIF($V$7:V912,\"該当３\"))","v":""}]
[2020208003,20,{"v":202,"d":"202 "},{"v":8,"d":"08 "},{"v":3,"d":"003 "},"長野県","松本市","寿村","上瀬黒",null,"","",{"$f":"IF(K913=\"\",\"\",COUNTIF($K$7:K913,\"ﾘｽﾄ１\"))","v":""},"","","","","","","",{"$f":"IF(S913=\"\",\"\",COUNTIF($S$7:S913,\"該当２\"))","v":""},"","",{"$f":"IF(V913=\"\",\"\",COUNTIF($V$7:V913,\"該当３\"))","v":""}]
[2020208004,20,{"v":202,"d":"202 "},{"v":8,"d":"08 "},{"v":4,"d":"004 "},"長野県","松本市","寿村","白姫",null,"","",{"$f":"IF(K914=\"\",\"\",COUNTIF($K$7:K914,\"ﾘｽﾄ１\"))","v":""},"","","","","","","",{"$f":"IF(S914=\"\",\"\",COUNTIF($S$7:S914,\"該当２\"))","v":""},"","",{"$f":"IF(V914=\"\",\"\",COUNTIF($V$7:V914,\"該当３\"))","v":""}]
[2020208005,20,{"v":202,"d":"202 "},{"v":8,"d":"08 "},{"v":5,"d":"005 "},"長野県","松本市","寿村","白川",null,"","",{"$f":"IF(K915=\"\",\"\",COUNTIF($K$7:K915,\"ﾘｽﾄ１\"))","v":""},"","","","","","","",{"$f":"IF(S915=\"\",\"\",COUNTIF($S$7:S915,\"該当２\"))","v":""},"","",{"$f":"IF(V915=\"\",\"\",COUNTIF($V$7:V915,\"該当３\"))","v":""}]
[2020208006,20,{"v":202,"d":"202 "},{"v":8,"d":"08 "},{"v":6,"d":"006 "},"長野県","松本市","寿村","百瀬",null,"","",{"$f":"IF(K916=\"\",\"\",COUNTIF($K$7:K916,\"ﾘｽﾄ１\"))","v":""},"","","","","","","",{"$f":"IF(S916=\"\",\"\",COUNTIF($S$7:S916,\"該当２\"))","v":""},"","",{"$f":"IF(V916=\"\",\"\",COUNTIF($V$7:V916,\"該当３\"))","v":""}]
[2020208007,20,{"v":202,"d":"202 "},{"v":8,"d":"08 "},{"v":7,"d":"007 "},"長野県","松本市","寿村","小池",null,"","",{"$f":"IF(K917=\"\",\"\",COUNTIF($K$7:K917,\"ﾘｽﾄ１\"))","v":""},"","","","","","","",{"$f":"IF(S917=\"\",\"\",COUNTIF($S$7:S917,\"該当２\"))","v":""},"","",{"$f":"IF(V917=\"\",\"\",COUNTIF($V$7:V917,\"該当３\"))","v":""}]
[2020208008,20,{"v":202,"d":"202 "},{"v":8,"d":"08 "},{"v":8,"d":"008 "},"長野県","松本市","寿村","赤木",null,"","",{"$f":"IF(K918=\"\",\"\",COUNTIF($K$7:K918,\"ﾘｽﾄ１\"))","v":""},"","","","","","","",{"$f":"IF(S918=\"\",\"\",COUNTIF($S$7:S918,\"該当２\"))","v":""},"","",{"$f":"IF(V918=\"\",\"\",COUNTIF($V$7:V918,\"該当３\"))","v":""}]
[2020209000,20,{"v":202,"d":"202 "},{"v":9,"d":"09 "},{"v":0,"d":"000 "},"長野県","松本市","岡田村",null,null,"","",{"$f":"IF(K919=\"\",\"\",COUNTIF($K$7:K919,\"ﾘｽﾄ１\"))","v":""},"","","","","","","",{"$f":"IF(S919=\"\",\"\",COUNTIF($S$7:S919,\"該当２\"))","v":""},"","",{"$f":"IF(V919=\"\",\"\",COUNTIF($V$7:V919,\"該当３\"))","v":""}]
[2020209001,20,{"v":202,"d":"202 "},{"v":9,"d":"09 "},{"v":1,"d":"001 "},"長野県","松本市","岡田村","伊深東",null,"","",{"$f":"IF(K920=\"\",\"\",COUNTIF($K$7:K920,\"ﾘｽﾄ１\"))","v":""},"","","","","","","",{"$f":"IF(S920=\"\",\"\",COUNTIF($S$7:S920,\"該当２\"))","v":""},"","",{"$f":"IF(V920=\"\",\"\",COUNTIF($V$7:V920,\"該当３\"))","v":""}]
[2020209002,20,{"v":202,"d":"202 "},{"v":9,"d":"09 "},{"v":2,"d":"002 "},"長野県","松本市","岡田村","伊深西",null,"","",{"$f":"IF(K921=\"\",\"\",COUNTIF($K$7:K921,\"ﾘｽﾄ１\"))","v":""},"","","","","","","",{"$f":"IF(S921=\"\",\"\",COUNTIF($S$7:S921,\"該当２\"))","v":""},"","",{"$f":"IF(V921=\"\",\"\",COUNTIF($V$7:V921,\"該当３\"))","v":""}]
[2020209003,20,{"v":202,"d":"202 "},{"v":9,"d":"09 "},{"v":3,"d":"003 "},"長野県","松本市","岡田村","岡田町",null,"","",{"$f":"IF(K922=\"\",\"\",COUNTIF($K$7:K922,\"ﾘｽﾄ１\"))","v":""},"","","","","","","",{"$f":"IF(S922=\"\",\"\",COUNTIF($S$7:S922,\"該当２\"))","v":""},"","",{"$f":"IF(V922=\"\",\"\",COUNTIF($V$7:V922,\"該当３\"))","v":""}]
[2020209004,20,{"v":202,"d":"202 "},{"v":9,"d":"09 "},{"v":4,"d":"004 "},"長野県","松本市","岡田村","東区",null,"","",{"$f":"IF(K923=\"\",\"\",COUNTIF($K$7:K923,\"ﾘｽﾄ１\"))","v":""},"","","","","","","",{"$f":"IF(S923=\"\",\"\",COUNTIF($S$7:S923,\"該当２\"))","v":""},"","",{"$f":"IF(V923=\"\",\"\",COUNTIF($V$7:V923,\"該当３\"))","v":""}]
[2020209005,20,{"v":202,"d":"202 "},{"v":9,"d":"09 "},{"v":5,"d":"005 "},"長野県","松本市","岡田村","塩倉",null,"","",{"$f":"IF(K924=\"\",\"\",COUNTIF($K$7:K924,\"ﾘｽﾄ１\"))","v":""},"","","","","","","",{"$f":"IF(S924=\"\",\"\",COUNTIF($S$7:S924,\"該当２\"))","v":""},"","",{"$f":"IF(V924=\"\",\"\",COUNTIF($V$7:V924,\"該当３\"))","v":""}]
[2020209006,20,{"v":202,"d":"202 "},{"v":9,"d":"09 "},{"v":6,"d":"006 "},"長野県","松本市","岡田村","神沢",null,"","",{"$f":"IF(K925=\"\",\"\",COUNTIF($K$7:K925,\"ﾘｽﾄ１\"))","v":""},"","","","","","","",{"$f":"IF(S925=\"\",\"\",COUNTIF($S$7:S925,\"該当２\"))","v":""},"","",{"$f":"IF(V925=\"\",\"\",COUNTIF($V$7:V925,\"該当３\"))","v":""}]
[2020209007,20,{"v":202,"d":"202 "},{"v":9,"d":"09 "},{"v":7,"d":"007 "},"長野県","松本市","岡田村","松岡",null,"","",{"$f":"IF(K926=\"\",\"\",COUNTIF($K$7:K926,\"ﾘｽﾄ１\"))","v":""},"","","","","","","",{"$f":"IF(S926=\"\",\"\",COUNTIF($S$7:S926,\"該当２\"))","v":""},"","",{"$f":"IF(V926=\"\",\"\",COUNTIF($V$7:V926,\"該当３\"))","v":""}]
[2020210000,20,{"v":202,"d":"202 "},{"v":10,"d":"10 "},{"v":0,"d":"000 "},"長野県","松本市","入山辺村",null,null,"","",{"$f":"IF(K927=\"\",\"\",COUNTIF($K$7:K927,\"ﾘｽﾄ１\"))","v":""},"","","","","","","",{"$f":"IF(S927=\"\",\"\",COUNTIF($S$7:S927,\"該当２\"))","v":""},"","",{"$f":"IF(V927=\"\",\"\",COUNTIF($V$7:V927,\"該当３\"))","v":""}]
[2020210001,20,{"v":202,"d":"202 "},{"v":10,"d":"10 "},{"v":1,"d":"001 "},"長野県","松本市","入山辺村","橋倉",null,"","",{"$f":"IF(K928=\"\",\"\",COUNTIF($K$7:K928,\"ﾘｽﾄ１\"))","v":""},"","","","","","","",{"$f":"IF(S928=\"\",\"\",COUNTIF($S$7:S928,\"該当２\"))","v":""},"","",{"$f":"IF(V928=\"\",\"\",COUNTIF($V$7:V928,\"該当３\"))","v":""}]
[2020210002,20,{"v":202,"d":"202 "},{"v":10,"d":"10 "},{"v":2,"d":"002 "},"長野県","松本市","入山辺村","西桐原",null,"","",{"$f":"IF(K929=\"\",\"\",COUNTIF($K$7:K929,\"ﾘｽﾄ１\"))","v":""},"","","","","","","",{"$f":"IF(S929=\"\",\"\",COUNTIF($S$7:S929,\"該当２\"))","v":""},"","",{"$f":"IF(V929=\"\",\"\",COUNTIF($V$7:V929,\"該当３\"))","v":""}]
[2020210003,20,{"v":202,"d":"202 "},{"v":10,"d":"10 "},{"v":3,"d":"003 "},"長野県","松本市","入山辺村","南方",null,"","",{"$f":"IF(K930=\"\",\"\",COUNTIF($K$7:K930,\"ﾘｽﾄ１\"))","v":""},"","","","","","","",{"$f":"IF(S930=\"\",\"\",COUNTIF($S$7:S930,\"該当２\"))","v":""},"","",{"$f":"IF(V930=\"\",\"\",COUNTIF($V$7:V930,\"該当３\"))","v":""}]
[2020210004,20,{"v":202,"d":"202 "},{"v":10,"d":"10 "},{"v":4,"d":"004 "},"長野県","松本市","入山辺村","東桐原",null,"","",{"$f":"IF(K931=\"\",\"\",COUNTIF($K$7:K931,\"ﾘｽﾄ１\"))","v":""},"","","","","","","",{"$f":"IF(S931=\"\",\"\",COUNTIF($S$7:S931,\"該当２\"))","v":""},"","",{"$f":"IF(V931=\"\",\"\",COUNTIF($V$7:V931,\"該当３\"))","v":""}]
[2020210005,20,{"v":202,"d":"202 "},{"v":10,"d":"10 "},{"v":5,"d":"005 "},"長野県","松本市","入山辺村","舟付",null,"","",{"$f":"IF(K932=\"\",\"\",COUNTIF($K$7:K932,\"ﾘｽﾄ１\"))","v":""},"","","","","","","",{"$f":"IF(S932=\"\",\"\",COUNTIF($S$7:S932,\"該当２\"))","v":""},"","",{"$f":"IF(V932=\"\",\"\",COUNTIF($V$7:V932,\"該当３\"))","v":""}]
[2020210006,20,{"v":202,"d":"202 "},{"v":10,"d":"10 "},{"v":6,"d":"006 "},"長野県","松本市","入山辺村","宮原",null,"","",{"$f":"IF(K933=\"\",\"\",COUNTIF($K$7:K933,\"ﾘｽﾄ１\"))","v":""},"","","","","","","",{"$f":"IF(S933=\"\",\"\",COUNTIF($S$7:S933,\"該当２\"))","v":""},"","",{"$f":"IF(V933=\"\",\"\",COUNTIF($V$7:V933,\"該当３\"))","v":""}]
[2020210007,20,{"v":202,"d":"202 "},{"v":10,"d":"10 "},{"v":7,"d":"007 "},"長野県","松本市","入山辺村","包石",null,"","",{"$f":"IF(K934=\"\",\"\",COUNTIF($K$7:K934,\"ﾘｽﾄ１\"))","v":""},"","","","","","","",{"$f":"IF(S934=\"\",\"\",COUNTIF($S$7:S934,\"該当２\"))","v":""},"","",{"$f":"IF(V934=\"\",\"\",COUNTIF($V$7:V934,\"該当３\"))","v":""}]
[2020210008,20,{"v":202,"d":"202 "},{"v":10,"d":"10 "},{"v":8,"d":"008 "},"長野県","松本市","入山辺村","寺所",null,"","",{"$f":"IF(K935=\"\",\"\",COUNTIF($K$7:K935,\"ﾘｽﾄ１\"))","v":""},"","","","","","","",{"$f":"IF(S935=\"\",\"\",COUNTIF($S$7:S935,\"該当２\"))","v":""},"","",{"$f":"IF(V935=\"\",\"\",COUNTIF($V$7:V935,\"該当３\"))","v":""}]
[2020210009,20,{"v":202,"d":"202 "},{"v":10,"d":"10 "},{"v":9,"d":"009 "},"長野県","松本市","入山辺村","中村",null,"","",{"$f":"IF(K936=\"\",\"\",COUNTIF($K$7:K936,\"ﾘｽﾄ１\"))","v":""},"","","","","","","",{"$f":"IF(S936=\"\",\"\",COUNTIF($S$7:S936,\"該当２\"))","v":""},"","",{"$f":"IF(V936=\"\",\"\",COUNTIF($V$7:V936,\"該当３\"))","v":""}]
[2020210010,20,{"v":202,"d":"202 "},{"v":10,"d":"10 "},{"v":10,"d":"010 "},"長野県","松本市","入山辺村","竹ノ下",null,"","",{"$f":"IF(K937=\"\",\"\",COUNTIF($K$7:K937,\"ﾘｽﾄ１\"))","v":""},"","","","","","","",{"$f":"IF(S937=\"\",\"\",COUNTIF($S$7:S937,\"該当２\"))","v":""},"","",{"$f":"IF(V937=\"\",\"\",COUNTIF($V$7:V937,\"該当３\"))","v":""}]
[2020210011,20,{"v":202,"d":"202 "},{"v":10,"d":"10 "},{"v":11,"d":"011 "},"長野県","松本市","入山辺村","三反田",null,"","",{"$f":"IF(K938=\"\",\"\",COUNTIF($K$7:K938,\"ﾘｽﾄ１\"))","v":""},"","","","","","","",{"$f":"IF(S938=\"\",\"\",COUNTIF($S$7:S938,\"該当２\"))","v":""},"","",{"$f":"IF(V938=\"\",\"\",COUNTIF($V$7:V938,\"該当３\"))","v":""}]
[2020210012,20,{"v":202,"d":"202 "},{"v":10,"d":"10 "},{"v":12,"d":"012 "},"長野県","松本市","入山辺村","千手",null,"","",{"$f":"IF(K939=\"\",\"\",COUNTIF($K$7:K939,\"ﾘｽﾄ１\"))","v":""},"","","","","","","",{"$f":"IF(S939=\"\",\"\",COUNTIF($S$7:S939,\"該当２\"))","v":""},"","",{"$f":"IF(V939=\"\",\"\",COUNTIF($V$7:V939,\"該当３\"))","v":""}]
[2020210013,20,{"v":202,"d":"202 "},{"v":10,"d":"10 "},{"v":13,"d":"013 "},"長野県","松本市","入山辺村","駒越",null,"","",{"$f":"IF(K940=\"\",\"\",COUNTIF($K$7:K940,\"ﾘｽﾄ１\"))","v":""},"","","","","","","",{"$f":"IF(S940=\"\",\"\",COUNTIF($S$7:S940,\"該当２\"))","v":""},"","",{"$f":"IF(V940=\"\",\"\",COUNTIF($V$7:V940,\"該当３\"))","v":""}]
[2020210014,20,{"v":202,"d":"202 "},{"v":10,"d":"10 "},{"v":14,"d":"014 "},"長野県","松本市","入山辺村","上手町",null,"","",{"$f":"IF(K941=\"\",\"\",COUNTIF($K$7:K941,\"ﾘｽﾄ１\"))","v":""},"","","","","","","",{"$f":"IF(S941=\"\",\"\",COUNTIF($S$7:S941,\"該当２\"))","v":""},"","",{"$f":"IF(V941=\"\",\"\",COUNTIF($V$7:V941,\"該当３\"))","v":""}]
[2020210015,20,{"v":202,"d":"202 "},{"v":10,"d":"10 "},{"v":15,"d":"015 "},"長野県","松本市","入山辺村","原",null,"","",{"$f":"IF(K942=\"\",\"\",COUNTIF($K$7:K942,\"ﾘｽﾄ１\"))","v":""},"","","","","","","",{"$f":"IF(S942=\"\",\"\",COUNTIF($S$7:S942,\"該当２\"))","v":""},"","",{"$f":"IF(V942=\"\",\"\",COUNTIF($V$7:V942,\"該当３\"))","v":""}]
[2020210016,20,{"v":202,"d":"202 "},{"v":10,"d":"10 "},{"v":16,"d":"016 "},"長野県","松本市","入山辺村","一ノ海",null,"","",{"$f":"IF(K943=\"\",\"\",COUNTIF($K$7:K943,\"ﾘｽﾄ１\"))","v":""},"","","","","","","",{"$f":"IF(S943=\"\",\"\",COUNTIF($S$7:S943,\"該当２\"))","v":""},"","",{"$f":"IF(V943=\"\",\"\",COUNTIF($V$7:V943,\"該当３\"))","v":""}]
[2020210017,20,{"v":202,"d":"202 "},{"v":10,"d":"10 "},{"v":17,"d":"017 "},"長野県","松本市","入山辺村","奈良尾",null,"","",{"$f":"IF(K944=\"\",\"\",COUNTIF($K$7:K944,\"ﾘｽﾄ１\"))","v":""},"","","","","","","",{"$f":"IF(S944=\"\",\"\",COUNTIF($S$7:S944,\"該当２\"))","v":""},"","",{"$f":"IF(V944=\"\",\"\",COUNTIF($V$7:V944,\"該当３\"))","v":""}]
[2020210018,20,{"v":202,"d":"202 "},{"v":10,"d":"10 "},{"v":18,"d":"018 "},"長野県","松本市","入山辺村","大仏",null,"","",{"$f":"IF(K945=\"\",\"\",COUNTIF($K$7:K945,\"ﾘｽﾄ１\"))","v":""},"","","","","","","",{"$f":"IF(S945=\"\",\"\",COUNTIF($S$7:S945,\"該当２\"))","v":""},"","",{"$f":"IF(V945=\"\",\"\",COUNTIF($V$7:V945,\"該当３\"))","v":""}]
[2020210019,20,{"v":202,"d":"202 "},{"v":10,"d":"10 "},{"v":19,"d":"019 "},"長野県","松本市","入山辺村","厩所",null,"","",{"$f":"IF(K946=\"\",\"\",COUNTIF($K$7:K946,\"ﾘｽﾄ１\"))","v":""},"","","","","","","",{"$f":"IF(S946=\"\",\"\",COUNTIF($S$7:S946,\"該当２\"))","v":""},"","",{"$f":"IF(V946=\"\",\"\",COUNTIF($V$7:V946,\"該当３\"))","v":""}]
[2020210020,20,{"v":202,"d":"202 "},{"v":10,"d":"10 "},{"v":20,"d":"020 "},"長野県","松本市","入山辺村","大和合",null,"","",{"$f":"IF(K947=\"\",\"\",COUNTIF($K$7:K947,\"ﾘｽﾄ１\"))","v":""},"","","","","","","",{"$f":"IF(S947=\"\",\"\",COUNTIF($S$7:S947,\"該当２\"))","v":""},"","",{"$f":"IF(V947=\"\",\"\",COUNTIF($V$7:V947,\"該当３\"))","v":""}]
[2020210021,20,{"v":202,"d":"202 "},{"v":10,"d":"10 "},{"v":21,"d":"021 "},"長野県","松本市","入山辺村","牛立",null,"","",{"$f":"IF(K948=\"\",\"\",COUNTIF($K$7:K948,\"ﾘｽﾄ１\"))","v":""},"","","","","","","",{"$f":"IF(S948=\"\",\"\",COUNTIF($S$7:S948,\"該当２\"))","v":""},"","",{"$f":"IF(V948=\"\",\"\",COUNTIF($V$7:V948,\"該当３\"))","v":""}]
[2020210022,20,{"v":202,"d":"202 "},{"v":10,"d":"10 "},{"v":22,"d":"022 "},"長野県","松本市","入山辺村","三城",null,"","",{"$f":"IF(K949=\"\",\"\",COUNTIF($K$7:K949,\"ﾘｽﾄ１\"))","v":""},"","","","","","","",{"$f":"IF(S949=\"\",\"\",COUNTIF($S$7:S949,\"該当２\"))","v":""},"","",{"$f":"IF(V949=\"\",\"\",COUNTIF($V$7:V949,\"該当３\"))","v":""}]
[2020211000,20,{"v":202,"d":"202 "},{"v":11,"d":"11 "},{"v":0,"d":"000 "},"長野県","松本市","里山辺村",null,null,"","",{"$f":"IF(K950=\"\",\"\",COUNTIF($K$7:K950,\"ﾘｽﾄ１\"))","v":""},"","","","","","","",{"$f":"IF(S950=\"\",\"\",COUNTIF($S$7:S950,\"該当２\"))","v":""},"","",{"$f":"IF(V950=\"\",\"\",COUNTIF($V$7:V950,\"該当３\"))","v":""}]
[2020211001,20,{"v":202,"d":"202 "},{"v":11,"d":"11 "},{"v":1,"d":"001 "},"長野県","松本市","里山辺村","下金井",null,"","",{"$f":"IF(K951=\"\",\"\",COUNTIF($K$7:K951,\"ﾘｽﾄ１\"))","v":""},"","","","","","","",{"$f":"IF(S951=\"\",\"\",COUNTIF($S$7:S951,\"該当２\"))","v":""},"","",{"$f":"IF(V951=\"\",\"\",COUNTIF($V$7:V951,\"該当３\"))","v":""}]
[2020211002,20,{"v":202,"d":"202 "},{"v":11,"d":"11 "},{"v":2,"d":"002 "},"長野県","松本市","里山辺村","新井",null,"","",{"$f":"IF(K952=\"\",\"\",COUNTIF($K$7:K952,\"ﾘｽﾄ１\"))","v":""},"","","","","","","",{"$f":"IF(S952=\"\",\"\",COUNTIF($S$7:S952,\"該当２\"))","v":""},"","",{"$f":"IF(V952=\"\",\"\",COUNTIF($V$7:V952,\"該当３\"))","v":""}]
[2020211003,20,{"v":202,"d":"202 "},{"v":11,"d":"11 "},{"v":3,"d":"003 "},"長野県","松本市","里山辺村","湯ノ原",null,"","",{"$f":"IF(K953=\"\",\"\",COUNTIF($K$7:K953,\"ﾘｽﾄ１\"))","v":""},"","","","","","","",{"$f":"IF(S953=\"\",\"\",COUNTIF($S$7:S953,\"該当２\"))","v":""},"","",{"$f":"IF(V953=\"\",\"\",COUNTIF($V$7:V953,\"該当３\"))","v":""}]
[2020211004,20,{"v":202,"d":"202 "},{"v":11,"d":"11 "},{"v":4,"d":"004 "},"長野県","松本市","里山辺村","藤井",null,"","",{"$f":"IF(K954=\"\",\"\",COUNTIF($K$7:K954,\"ﾘｽﾄ１\"))","v":""},"","","","","","","",{"$f":"IF(S954=\"\",\"\",COUNTIF($S$7:S954,\"該当２\"))","v":""},"","",{"$f":"IF(V954=\"\",\"\",COUNTIF($V$7:V954,\"該当３\"))","v":""}]
[2020211005,20,{"v":202,"d":"202 "},{"v":11,"d":"11 "},{"v":5,"d":"005 "},"長野県","松本市","里山辺村","上金井",null,"","",{"$f":"IF(K955=\"\",\"\",COUNTIF($K$7:K955,\"ﾘｽﾄ１\"))","v":""},"","","","","","","",{"$f":"IF(S955=\"\",\"\",COUNTIF($S$7:S955,\"該当２\"))","v":""},"","",{"$f":"IF(V955=\"\",\"\",COUNTIF($V$7:V955,\"該当３\"))","v":""}]
[2020211006,20,{"v":202,"d":"202 "},{"v":11,"d":"11 "},{"v":6,"d":"006 "},"長野県","松本市","里山辺村","薄町",null,"","",{"$f":"IF(K956=\"\",\"\",COUNTIF($K$7:K956,\"ﾘｽﾄ１\"))","v":""},"","","","","","","",{"$f":"IF(S956=\"\",\"\",COUNTIF($S$7:S956,\"該当２\"))","v":""},"","",{"$f":"IF(V956=\"\",\"\",COUNTIF($V$7:V956,\"該当３\"))","v":""}]
[2020211007,20,{"v":202,"d":"202 "},{"v":11,"d":"11 "},{"v":7,"d":"007 "},"長野県","松本市","里山辺村","兎川寺",null,"","",{"$f":"IF(K957=\"\",\"\",COUNTIF($K$7:K957,\"ﾘｽﾄ１\"))","v":""},"","","","","","","",{"$f":"IF(S957=\"\",\"\",COUNTIF($S$7:S957,\"該当２\"))","v":""},"","",{"$f":"IF(V957=\"\",\"\",COUNTIF($V$7:V957,\"該当３\"))","v":""}]
[2020211008,20,{"v":202,"d":"202 "},{"v":11,"d":"11 "},{"v":8,"d":"008 "},"長野県","松本市","里山辺村","荒町",null,"","",{"$f":"IF(K958=\"\",\"\",COUNTIF($K$7:K958,\"ﾘｽﾄ１\"))","v":""},"","","","","","","",{"$f":"IF(S958=\"\",\"\",COUNTIF($S$7:S958,\"該当２\"))","v":""},"","",{"$f":"IF(V958=\"\",\"\",COUNTIF($V$7:V958,\"該当３\"))","v":""}]
[2020211009,20,{"v":202,"d":"202 "},{"v":11,"d":"11 "},{"v":9,"d":"009 "},"長野県","松本市","里山辺村","西荒町",null,"","",{"$f":"IF(K959=\"\",\"\",COUNTIF($K$7:K959,\"ﾘｽﾄ１\"))","v":""},"","","","","","","",{"$f":"IF(S959=\"\",\"\",COUNTIF($S$7:S959,\"該当２\"))","v":""},"","",{"$f":"IF(V959=\"\",\"\",COUNTIF($V$7:V959,\"該当３\"))","v":""}]
[2020211010,20,{"v":202,"d":"202 "},{"v":11,"d":"11 "},{"v":10,"d":"010 "},"長野県","松本市","里山辺村","北小松",null,"","",{"$f":"IF(K960=\"\",\"\",COUNTIF($K$7:K960,\"ﾘｽﾄ１\"))","v":""},"","","","","","","",{"$f":"IF(S960=\"\",\"\",COUNTIF($S$7:S960,\"該当２\"))","v":""},"","",{"$f":"IF(V960=\"\",\"\",COUNTIF($V$7:V960,\"該当３\"))","v":""}]
[2020211011,20,{"v":202,"d":"202 "},{"v":11,"d":"11 "},{"v":11,"d":"011 "},"長野県","松本市","里山辺村","西小松",null,"","",{"$f":"IF(K961=\"\",\"\",COUNTIF($K$7:K961,\"ﾘｽﾄ１\"))","v":""},"","","","","","","",{"$f":"IF(S961=\"\",\"\",COUNTIF($S$7:S961,\"該当２\"))","v":""},"","",{"$f":"IF(V961=\"\",\"\",COUNTIF($V$7:V961,\"該当３\"))","v":""}]
[2020211012,20,{"v":202,"d":"202 "},{"v":11,"d":"11 "},{"v":12,"d":"012 "},"長野県","松本市","里山辺村","南小松",null,"","",{"$f":"IF(K962=\"\",\"\",COUNTIF($K$7:K962,\"ﾘｽﾄ１\"))","v":""},"","","","","","","",{"$f":"IF(S962=\"\",\"\",COUNTIF($S$7:S962,\"該当２\"))","v":""},"","",{"$f":"IF(V962=\"\",\"\",COUNTIF($V$7:V962,\"該当３\"))","v":""}]
[2020211013,20,{"v":202,"d":"202 "},{"v":11,"d":"11 "},{"v":13,"d":"013 "},"長野県","松本市","里山辺村","林",null,"","",{"$f":"IF(K963=\"\",\"\",COUNTIF($K$7:K963,\"ﾘｽﾄ１\"))","v":""},"","","","","","","",{"$f":"IF(S963=\"\",\"\",COUNTIF($S$7:S963,\"該当２\"))","v":""},"","",{"$f":"IF(V963=\"\",\"\",COUNTIF($V$7:V963,\"該当３\"))","v":""}]
[2020211014,20,{"v":202,"d":"202 "},{"v":11,"d":"11 "},{"v":14,"d":"014 "},"長野県","松本市","里山辺村","大嵩崎",null,"","",{"$f":"IF(K964=\"\",\"\",COUNTIF($K$7:K964,\"ﾘｽﾄ１\"))","v":""},"","","","","","","",{"$f":"IF(S964=\"\",\"\",COUNTIF($S$7:S964,\"該当２\"))","v":""},"","",{"$f":"IF(V964=\"\",\"\",COUNTIF($V$7:V964,\"該当３\"))","v":""}]
[2020212000,20,{"v":202,"d":"202 "},{"v":12,"d":"12 "},{"v":0,"d":"000 "},"長野県","松本市","今井村",null,null,"","",{"$f":"IF(K965=\"\",\"\",COUNTIF($K$7:K965,\"ﾘｽﾄ１\"))","v":""},"","","","","","","",{"$f":"IF(S965=\"\",\"\",COUNTIF($S$7:S965,\"該当２\"))","v":""},"","",{"$f":"IF(V965=\"\",\"\",COUNTIF($V$7:V965,\"該当３\"))","v":""}]
[2020212001,20,{"v":202,"d":"202 "},{"v":12,"d":"12 "},{"v":1,"d":"001 "},"長野県","松本市","今井村","上新田",null,"","",{"$f":"IF(K966=\"\",\"\",COUNTIF($K$7:K966,\"ﾘｽﾄ１\"))","v":""},"","","","","","","",{"$f":"IF(S966=\"\",\"\",COUNTIF($S$7:S966,\"該当２\"))","v":""},"","",{"$f":"IF(V966=\"\",\"\",COUNTIF($V$7:V966,\"該当３\"))","v":""}]
[2020212002,20,{"v":202,"d":"202 "},{"v":12,"d":"12 "},{"v":2,"d":"002 "},"長野県","松本市","今井村","堂村",null,"","",{"$f":"IF(K967=\"\",\"\",COUNTIF($K$7:K967,\"ﾘｽﾄ１\"))","v":""},"","","","","","","",{"$f":"IF(S967=\"\",\"\",COUNTIF($S$7:S967,\"該当２\"))","v":""},"","",{"$f":"IF(V967=\"\",\"\",COUNTIF($V$7:V967,\"該当３\"))","v":""}]
[2020212003,20,{"v":202,"d":"202 "},{"v":12,"d":"12 "},{"v":3,"d":"003 "},"長野県","松本市","今井村","中村",null,"","",{"$f":"IF(K968=\"\",\"\",COUNTIF($K$7:K968,\"ﾘｽﾄ１\"))","v":""},"","","","","","","",{"$f":"IF(S968=\"\",\"\",COUNTIF($S$7:S968,\"該当２\"))","v":""},"","",{"$f":"IF(V968=\"\",\"\",COUNTIF($V$7:V968,\"該当３\"))","v":""}]
[2020212004,20,{"v":202,"d":"202 "},{"v":12,"d":"12 "},{"v":4,"d":"004 "},"長野県","松本市","今井村","中沢",null,"","",{"$f":"IF(K969=\"\",\"\",COUNTIF($K$7:K969,\"ﾘｽﾄ１\"))","v":""},"","","","","","","",{"$f":"IF(S969=\"\",\"\",COUNTIF($S$7:S969,\"該当２\"))","v":""},"","",{"$f":"IF(V969=\"\",\"\",COUNTIF($V$7:V969,\"該当３\"))","v":""}]
[2020212005,20,{"v":202,"d":"202 "},{"v":12,"d":"12 "},{"v":5,"d":"005 "},"長野県","松本市","今井村","下新田",null,"","",{"$f":"IF(K970=\"\",\"\",COUNTIF($K$7:K970,\"ﾘｽﾄ１\"))","v":""},"","",{"$f":"IF(O970=\"該当１\",G970,\"\")","v":""},{"$f":"IF(O970=\"該当１\",\"ﾘｽﾄ2\",\"\")","v":""},{"$f":"IF(Q970=\"ﾘｽﾄ2\",H970,\"\")","v":""},"",{"$f":"IF(S970=\"該当２\",H970,\"\")","v":""},{"$f":"IF(S970=\"\",\"\",COUNTIF($S$7:S970,\"該当２\"))","v":""},{"$f":"IF(AND($S$2=H970,E970>0,E970<998),\"該当３\",\"\")","v":""},{"$f":"IF(V970=\"該当３\",I970,\"\")","v":""},{"$f":"IF(V970=\"\",\"\",COUNTIF($V$7:V970,\"該当３\"))","v":""}]
[2020212006,20,{"v":202,"d":"202 "},{"v":12,"d":"12 "},{"v":6,"d":"006 "},"長野県","松本市","今井村","境新田",null,{"$f":"IF(AND($C971>0,$H971=\"\"),\"ﾘｽﾄ１\",\"\")","v":""},{"$f":"IF(K971=\"ﾘｽﾄ１\",G971,\"\")","v":""},{"$f":"IF(K971=\"\",\"\",COUNTIF($K$7:K971,\"ﾘｽﾄ１\"))","v":""},{"$f":"IF(AND(D971=0,E971>0),\"同一区\",\"\")","v":""},{"$f":"IF(AND(EXACT($K$2,G971),H971>0),\"該当１\",\"\")","v":""},"","","",{"$f":"IF(AND(Q971=\"ﾘｽﾄ2\",OR(I971=0,AND(N971=\"同一区\",E971=1))),\"該当２\",\"\")","v":""},"",{"$f":"IF(S971=\"\",\"\",COUNTIF($S$7:S971,\"該当２\"))","v":""},"","",{"$f":"IF(V971=\"\",\"\",COUNTIF($V$7:V971,\"該当３\"))","v":""}]
[2020212007,20,{"v":202,"d":"202 "},{"v":12,"d":"12 "},{"v":7,"d":"007 "},"長野県","松本市","今井村","東耕地",null,"","",{"$f":"IF(K972=\"\",\"\",COUNTIF($K$7:K972,\"ﾘｽﾄ１\"))","v":""},"","","","","","","",{"$f":"IF(S972=\"\",\"\",COUNTIF($S$7:S972,\"該当２\"))","v":""},"","",{"$f":"IF(V972=\"\",\"\",COUNTIF($V$7:V972,\"該当３\"))","v":""}]
[2020212008,20,{"v":202,"d":"202 "},{"v":12,"d":"12 "},{"v":8,"d":"008 "},"長野県","松本市","今井村","南耕地",null,"","",{"$f":"IF(K973=\"\",\"\",COUNTIF($K$7:K973,\"ﾘｽﾄ１\"))","v":""},"","","","","","","",{"$f":"IF(S973=\"\",\"\",COUNTIF($S$7:S973,\"該当２\"))","v":""},"","",{"$f":"IF(V973=\"\",\"\",COUNTIF($V$7:V973,\"該当３\"))","v":""}]
[2020212009,20,{"v":202,"d":"202 "},{"v":12,"d":"12 "},{"v":9,"d":"009 "},"長野県","松本市","今井村","西耕地",null,"","",{"$f":"IF(K974=\"\",\"\",COUNTIF($K$7:K974,\"ﾘｽﾄ１\"))","v":""},"","","","","","","",{"$f":"IF(S974=\"\",\"\",COUNTIF($S$7:S974,\"該当２\"))","v":""},"","",{"$f":"IF(V974=\"\",\"\",COUNTIF($V$7:V974,\"該当３\"))","v":""}]
[2020212010,20,{"v":202,"d":"202 "},{"v":12,"d":"12 "},{"v":10,"d":"010 "},"長野県","松本市","今井村","北耕地",null,"","",{"$f":"IF(K975=\"\",\"\",COUNTIF($K$7:K975,\"ﾘｽﾄ１\"))","v":""},"","","","","","","",{"$f":"IF(S975=\"\",\"\",COUNTIF($S$7:S975,\"該当２\"))","v":""},"","",{"$f":"IF(V975=\"\",\"\",COUNTIF($V$7:V975,\"該当３\"))","v":""}]
[2020212011,20,{"v":202,"d":"202 "},{"v":12,"d":"12 "},{"v":11,"d":"011 "},"長野県","松本市","今井村","野口",null,"","",{"$f":"IF(K976=\"\",\"\",COUNTIF($K$7:K976,\"ﾘｽﾄ１\"))","v":""},"","","","","","","",{"$f":"IF(S976=\"\",\"\",COUNTIF($S$7:S976,\"該当２\"))","v":""},"","",{"$f":"IF(V976=\"\",\"\",COUNTIF($V$7:V976,\"該当３\"))","v":""}]
[2020212012,20,{"v":202,"d":"202 "},{"v":12,"d":"12 "},{"v":12,"d":"012 "},"長野県","松本市","今井村","古池",null,"","",{"$f":"IF(K977=\"\",\"\",COUNTIF($K$7:K977,\"ﾘｽﾄ１\"))","v":""},"","","","","","","",{"$f":"IF(S977=\"\",\"\",COUNTIF($S$7:S977,\"該当２\"))","v":""},"","",{"$f":"IF(V977=\"\",\"\",COUNTIF($V$7:V977,\"該当３\"))","v":""}]
[2020212013,20,{"v":202,"d":"202 "},{"v":12,"d":"12 "},{"v":13,"d":"013 "},"長野県","松本市","今井村","西原開拓",null,"","",{"$f":"IF(K978=\"\",\"\",COUNTIF($K$7:K978,\"ﾘｽﾄ１\"))","v":""},"","","","","","","",{"$f":"IF(S978=\"\",\"\",COUNTIF($S$7:S978,\"該当２\"))","v":""},"","",{"$f":"IF(V978=\"\",\"\",COUNTIF($V$7:V978,\"該当３\"))","v":""}]
[2020212014,20,{"v":202,"d":"202 "},{"v":12,"d":"12 "},{"v":14,"d":"014 "},"長野県","松本市","今井村","北今井",null,"","",{"$f":"IF(K979=\"\",\"\",COUNTIF($K$7:K979,\"ﾘｽﾄ１\"))","v":""},"","","","","","","",{"$f":"IF(S979=\"\",\"\",COUNTIF($S$7:S979,\"該当２\"))","v":""},"","",{"$f":"IF(V979=\"\",\"\",COUNTIF($V$7:V979,\"該当３\"))","v":""}]
[2020213000,20,{"v":202,"d":"202 "},{"v":13,"d":"13 "},{"v":0,"d":"000 "},"長野県","松本市","新村",null,null,"","",{"$f":"IF(K980=\"\",\"\",COUNTIF($K$7:K980,\"ﾘｽﾄ１\"))","v":""},"","","","","","","",{"$f":"IF(S980=\"\",\"\",COUNTIF($S$7:S980,\"該当２\"))","v":""},"","",{"$f":"IF(V980=\"\",\"\",COUNTIF($V$7:V980,\"該当３\"))","v":""}]
[2020213001,20,{"v":202,"d":"202 "},{"v":13,"d":"13 "},{"v":1,"d":"001 "},"長野県","松本市","新村","東新",null,"","",{"$f":"IF(K981=\"\",\"\",COUNTIF($K$7:K981,\"ﾘｽﾄ１\"))","v":""},"","","","","","","",{"$f":"IF(S981=\"\",\"\",COUNTIF($S$7:S981,\"該当２\"))","v":""},"","",{"$f":"IF(V981=\"\",\"\",COUNTIF($V$7:V981,\"該当３\"))","v":""}]
[2020213002,20,{"v":202,"d":"202 "},{"v":13,"d":"13 "},{"v":2,"d":"002 "},"長野県","松本市","新村","南新",null,"","",{"$f":"IF(K982=\"\",\"\",COUNTIF($K$7:K982,\"ﾘｽﾄ１\"))","v":""},"","","","","","","",{"$f":"IF(S982=\"\",\"\",COUNTIF($S$7:S982,\"該当２\"))","v":""},"","",{"$f":"IF(V982=\"\",\"\",COUNTIF($V$7:V982,\"該当３\"))","v":""}]
[2020213003,20,{"v":202,"d":"202 "},{"v":13,"d":"13 "},{"v":3,"d":"003 "},"長野県","松本市","新村","上新",null,"","",{"$f":"IF(K983=\"\",\"\",COUNTIF($K$7:K983,\"ﾘｽﾄ１\"))","v":""},"","","","","","","",{"$f":"IF(S983=\"\",\"\",COUNTIF($S$7:S983,\"該当２\"))","v":""},"","",{"$f":"IF(V983=\"\",\"\",COUNTIF($V$7:V983,\"該当３\"))","v":""}]
[2020213004,20,{"v":202,"d":"202 "},{"v":13,"d":"13 "},{"v":4,"d":"004 "},"長野県","松本市","新村","北新",null,"","",{"$f":"IF(K984=\"\",\"\",COUNTIF($K$7:K984,\"ﾘｽﾄ１\"))","v":""},"","","","","","","",{"$f":"IF(S984=\"\",\"\",COUNTIF($S$7:S984,\"該当２\"))","v":""},"","",{"$f":"IF(V984=\"\",\"\",COUNTIF($V$7:V984,\"該当３\"))","v":""}]
[2020213005,20,{"v":202,"d":"202 "},{"v":13,"d":"13 "},{"v":5,"d":"005 "},"長野県","松本市","新村","下新",null,"","",{"$f":"IF(K985=\"\",\"\",COUNTIF($K$7:K985,\"ﾘｽﾄ１\"))","v":""},"","","","","","","",{"$f":"IF(S985=\"\",\"\",COUNTIF($S$7:S985,\"該当２\"))","v":""},"","",{"$f":"IF(V985=\"\",\"\",COUNTIF($V$7:V985,\"該当３\"))","v":""}]
[2020214000,20,{"v":202,"d":"202 "},{"v":14,"d":"14 "},{"v":0,"d":"000 "},"長野県","松本市","神林村",null,null,"","",{"$f":"IF(K986=\"\",\"\",COUNTIF($K$7:K986,\"ﾘｽﾄ１\"))","v":""},"","","","","","","",{"$f":"IF(S986=\"\",\"\",COUNTIF($S$7:S986,\"該当２\"))","v":""},"","",{"$f":"IF(V986=\"\",\"\",COUNTIF($V$7:V986,\"該当３\"))","v":""}]
[2020214001,20,{"v":202,"d":"202 "},{"v":14,"d":"14 "},{"v":1,"d":"001 "},"長野県","松本市","神林村","川西",null,"","",{"$f":"IF(K987=\"\",\"\",COUNTIF($K$7:K987,\"ﾘｽﾄ１\"))","v":""},"","","","","","","",{"$f":"IF(S987=\"\",\"\",COUNTIF($S$7:S987,\"該当２\"))","v":""},"","",{"$f":"IF(V987=\"\",\"\",COUNTIF($V$7:V987,\"該当３\"))","v":""}]
[2020214002,20,{"v":202,"d":"202 "},{"v":14,"d":"14 "},{"v":2,"d":"002 "},"長野県","松本市","神林村","川東",null,"","",{"$f":"IF(K988=\"\",\"\",COUNTIF($K$7:K988,\"ﾘｽﾄ１\"))","v":""},"","","","","","","",{"$f":"IF(S988=\"\",\"\",COUNTIF($S$7:S988,\"該当２\"))","v":""},"","",{"$f":"IF(V988=\"\",\"\",COUNTIF($V$7:V988,\"該当３\"))","v":""}]
[2020214003,20,{"v":202,"d":"202 "},{"v":14,"d":"14 "},{"v":3,"d":"003 "},"長野県","松本市","神林村","寺家",null,"","",{"$f":"IF(K989=\"\",\"\",COUNTIF($K$7:K989,\"ﾘｽﾄ１\"))","v":""},"","","","","","","",{"$f":"IF(S989=\"\",\"\",COUNTIF($S$7:S989,\"該当２\"))","v":""},"","",{"$f":"IF(V989=\"\",\"\",COUNTIF($V$7:V989,\"該当３\"))","v":""}]
[2020214004,20,{"v":202,"d":"202 "},{"v":14,"d":"14 "},{"v":4,"d":"004 "},"長野県","松本市","神林村","南荒井",null,"","",{"$f":"IF(K990=\"\",\"\",COUNTIF($K$7:K990,\"ﾘｽﾄ１\"))","v":""},"","","","","","","",{"$f":"IF(S990=\"\",\"\",COUNTIF($S$7:S990,\"該当２\"))","v":""},"","",{"$f":"IF(V990=\"\",\"\",COUNTIF($V$7:V990,\"該当３\"))","v":""}]
[2020214005,20,{"v":202,"d":"202 "},{"v":14,"d":"14 "},{"v":5,"d":"005 "},"長野県","松本市","神林村","町神",null,"","",{"$f":"IF(K991=\"\",\"\",COUNTIF($K$7:K991,\"ﾘｽﾄ１\"))","v":""},"","","","","","","",{"$f":"IF(S991=\"\",\"\",COUNTIF($S$7:S991,\"該当２\"))","v":""},"","",{"$f":"IF(V991=\"\",\"\",COUNTIF($V$7:V991,\"該当３\"))","v":""}]
[2020214006,20,{"v":202,"d":"202 "},{"v":14,"d":"14 "},{"v":6,"d":"006 "},"長野県","松本市","神林村","下神",null,"","",{"$f":"IF(K992=\"\",\"\",COUNTIF($K$7:K992,\"ﾘｽﾄ１\"))","v":""},"","","","","","","",{"$f":"IF(S992=\"\",\"\",COUNTIF($S$7:S992,\"該当２\"))","v":""},"","",{"$f":"IF(V992=\"\",\"\",COUNTIF($V$7:V992,\"該当３\"))","v":""}]
[2020214007,20,{"v":202,"d":"202 "},{"v":14,"d":"14 "},{"v":7,"d":"007 "},"長野県","松本市","神林村","梶海渡",null,"","",{"$f":"IF(K993=\"\",\"\",COUNTIF($K$7:K993,\"ﾘｽﾄ１\"))","v":""},"","","","","","","",{"$f":"IF(S993=\"\",\"\",COUNTIF($S$7:S993,\"該当２\"))","v":""},"","",{"$f":"IF(V993=\"\",\"\",COUNTIF($V$7:V993,\"該当３\"))","v":""}]
[2020215000,20,{"v":202,"d":"202 "},{"v":15,"d":"15 "},{"v":0,"d":"000 "},"長野県","松本市","片丘村２－２",null,null,"","",{"$f":"IF(K994=\"\",\"\",COUNTIF($K$7:K994,\"ﾘｽﾄ１\"))","v":""},"","","","","","","",{"$f":"IF(S994=\"\",\"\",COUNTIF($S$7:S994,\"該当２\"))","v":""},"","",{"$f":"IF(V994=\"\",\"\",COUNTIF($V$7:V994,\"該当３\"))","v":""}]
[2020215001,20,{"v":202,"d":"202 "},{"v":15,"d":"15 "},{"v":1,"d":"001 "},"長野県","松本市","片丘村２－２","内田",null,"","",{"$f":"IF(K995=\"\",\"\",COUNTIF($K$7:K995,\"ﾘｽﾄ１\"))","v":""},"","","","","","","",{"$f":"IF(S995=\"\",\"\",COUNTIF($S$7:S995,\"該当２\"))","v":""},"","",{"$f":"IF(V995=\"\",\"\",COUNTIF($V$7:V995,\"該当３\"))","v":""}]
[2020215002,20,{"v":202,"d":"202 "},{"v":15,"d":"15 "},{"v":2,"d":"002 "},"長野県","松本市","片丘村２－２","牧の内",null,"","",{"$f":"IF(K996=\"\",\"\",COUNTIF($K$7:K996,\"ﾘｽﾄ１\"))","v":""},"","","","","","","",{"$f":"IF(S996=\"\",\"\",COUNTIF($S$7:S996,\"該当２\"))","v":""},"","",{"$f":"IF(V996=\"\",\"\",COUNTIF($V$7:V996,\"該当３\"))","v":""}]
[2020216000,20,{"v":202,"d":"202 "},{"v":16,"d":"16 "},{"v":0,"d":"000 "},"長野県","松本市","本郷村（松本市）",null,null,"","",{"$f":"IF(K997=\"\",\"\",COUNTIF($K$7:K997,\"ﾘｽﾄ１\"))","v":""},"","","","","","","",{"$f":"IF(S997=\"\",\"\",COUNTIF($S$7:S997,\"該当２\"))","v":""},"","",{"$f":"IF(V997=\"\",\"\",COUNTIF($V$7:V997,\"該当３\"))","v":""}]
[2020216001,20,{"v":202,"d":"202 "},{"v":16,"d":"16 "},{"v":1,"d":"001 "},"長野県","松本市","本郷村（松本市）","三才山",null,"","",{"$f":"IF(K998=\"\",\"\",COUNTIF($K$7:K998,\"ﾘｽﾄ１\"))","v":""},"","","","","","","",{"$f":"IF(S998=\"\",\"\",COUNTIF($S$7:S998,\"該当２\"))","v":""},"","",{"$f":"IF(V998=\"\",\"\",COUNTIF($V$7:V998,\"該当３\"))","v":""}]
[2020216002,20,{"v":202,"d":"202 "},{"v":16,"d":"16 "},{"v":2,"d":"002 "},"長野県","松本市","本郷村（松本市）","美鈴湖",null,"","",{"$f":"IF(K999=\"\",\"\",COUNTIF($K$7:K999,\"ﾘｽﾄ１\"))","v":""},"","","","","","","",{"$f":"IF(S999=\"\",\"\",COUNTIF($S$7:S999,\"該当２\"))","v":""},"","",{"$f":"IF(V999=\"\",\"\",COUNTIF($V$7:V999,\"該当３\"))","v":""}]
[2020216003,20,{"v":202,"d":"202 "},{"v":16,"d":"16 "},{"v":3,"d":"003 "},"長野県","松本市","本郷村（松本市）","稲倉",null,"","",{"$f":"IF(K1000=\"\",\"\",COUNTIF($K$7:K1000,\"ﾘｽﾄ１\"))","v":""},"","","","","","","",{"$f":"IF(S1000=\"\",\"\",COUNTIF($S$7:S1000,\"該当２\"))","v":""},"","",{"$f":"IF(V1000=\"\",\"\",COUNTIF($V$7:V1000,\"該当３\"))","v":""}]
[2020216005,20,{"v":202,"d":"202 "},{"v":16,"d":"16 "},{"v":5,"d":"005 "},"長野県","松本市","本郷村（松本市）","原",null,"","",{"$f":"IF(K1002=\"\",\"\",COUNTIF($K$7:K1002,\"ﾘｽﾄ１\"))","v":""},"","","","","","","",{"$f":"IF(S1002=\"\",\"\",COUNTIF($S$7:S1002,\"該当２\"))","v":""},"","",{"$f":"IF(V1002=\"\",\"\",COUNTIF($V$7:V1002,\"該当３\"))","v":""}]
[2020216010,20,{"v":202,"d":"202 "},{"v":16,"d":"16 "},{"v":10,"d":"010 "},"長野県","松本市","本郷村（松本市）","浅間",null,"","",{"$f":"IF(K1007=\"\",\"\",COUNTIF($K$7:K1007,\"ﾘｽﾄ１\"))","v":""},"","","","","","","",{"$f":"IF(S1007=\"\",\"\",COUNTIF($S$7:S1007,\"該当２\"))","v":""},"","",{"$f":"IF(V1007=\"\",\"\",COUNTIF($V$7:V1007,\"該当３\"))","v":""}]
[2020218002,20,{"v":202,"d":"202 "},{"v":18,"d":"18 "},{"v":2,"d":"002 "},"長野県","松本市","錦部村","刈谷原町",null,"","",{"$f":"IF(K1012=\"\",\"\",COUNTIF($K$7:K1012,\"ﾘｽﾄ１\"))","v":""},"","","","","","","",{"$f":"IF(S1012=\"\",\"\",COUNTIF($S$7:S1012,\"該当２\"))","v":""},"","",{"$f":"IF(V1012=\"\",\"\",COUNTIF($V$7:V1012,\"該当３\"))","v":""}]
[2020218005,20,{"v":202,"d":"202 "},{"v":18,"d":"18 "},{"v":5,"d":"005 "},"長野県","松本市","錦部村","殿野入",null,"","",{"$f":"IF(K1015=\"\",\"\",COUNTIF($K$7:K1015,\"ﾘｽﾄ１\"))","v":""},"","","","","","","",{"$f":"IF(S1015=\"\",\"\",COUNTIF($S$7:S1015,\"該当２\"))","v":""},"","",{"$f":"IF(V1015=\"\",\"\",COUNTIF($V$7:V1015,\"該当３\"))","v":""}]
[2020219002,20,{"v":202,"d":"202 "},{"v":19,"d":"19 "},{"v":2,"d":"002 "},"長野県","松本市","会田村","取出",null,"","",{"$f":"IF(K1019=\"\",\"\",COUNTIF($K$7:K1019,\"ﾘｽﾄ１\"))","v":""},"","","","","","","",{"$f":"IF(S1019=\"\",\"\",COUNTIF($S$7:S1019,\"該当２\"))","v":""},"","",{"$f":"IF(V1019=\"\",\"\",COUNTIF($V$7:V1019,\"該当３\"))","v":""}]
[2020219007,20,{"v":202,"d":"202 "},{"v":19,"d":"19 "},{"v":7,"d":"007 "},"長野県","松本市","会田村","新町",null,"","",{"$f":"IF(K1024=\"\",\"\",COUNTIF($K$7:K1024,\"ﾘｽﾄ１\"))","v":""},"","","","","","","",{"$f":"IF(S1024=\"\",\"\",COUNTIF($S$7:S1024,\"該当２\"))","v":""},"","",{"$f":"IF(V1024=\"\",\"\",COUNTIF($V$7:V1024,\"該当３\"))","v":""}]
[2020220004,20,{"v":202,"d":"202 "},{"v":20,"d":"20 "},{"v":4,"d":"004 "},"長野県","松本市","五常村","西宮",null,"","",{"$f":"IF(K1029=\"\",\"\",COUNTIF($K$7:K1029,\"ﾘｽﾄ１\"))","v":""},"","","","","","","",{"$f":"IF(S1029=\"\",\"\",COUNTIF($S$7:S1029,\"該当２\"))","v":""},"","",{"$f":"IF(V1029=\"\",\"\",COUNTIF($V$7:V1029,\"該当３\"))","v":""}]
[2020221000,20,{"v":202,"d":"202 "},{"v":21,"d":"21 "},{"v":0,"d":"000 "},"長野県","松本市","中川村（松本市）",null,null,"","",{"$f":"IF(K1033=\"\",\"\",COUNTIF($K$7:K1033,\"ﾘｽﾄ１\"))","v":""},"","","","","","","",{"$f":"IF(S1033=\"\",\"\",COUNTIF($S$7:S1033,\"該当２\"))","v":""},"","",{"$f":"IF(V1033=\"\",\"\",COUNTIF($V$7:V1033,\"該当３\"))","v":""}]
[2020221003,20,{"v":202,"d":"202 "},{"v":21,"d":"21 "},{"v":3,"d":"003 "},"長野県","松本市","中川村（松本市）","金井",null,"","",{"$f":"IF(K1036=\"\",\"\",COUNTIF($K$7:K1036,\"ﾘｽﾄ１\"))","v":""},"","","","","","","",{"$f":"IF(S1036=\"\",\"\",COUNTIF($S$7:S1036,\"該当２\"))","v":""},"","",{"$f":"IF(V1036=\"\",\"\",COUNTIF($V$7:V1036,\"該当３\"))","v":""}]
[2020221008,20,{"v":202,"d":"202 "},{"v":21,"d":"21 "},{"v":8,"d":"008 "},"長野県","松本市","中川村（松本市）","召田",null,"","",{"$f":"IF(K1041=\"\",\"\",COUNTIF($K$7:K1041,\"ﾘｽﾄ１\"))","v":""},"","","","","","","",{"$f":"IF(S1041=\"\",\"\",COUNTIF($S$7:S1041,\"該当２\"))","v":""},"","",{"$f":"IF(V1041=\"\",\"\",COUNTIF($V$7:V1041,\"該当３\"))","v":""}]
[2020222002,20,{"v":202,"d":"202 "},{"v":22,"d":"22 "},{"v":2,"d":"002 "},"長野県","松本市","安曇村","橋場",null,"","",{"$f":"IF(K1046=\"\",\"\",COUNTIF($K$7:K1046,\"ﾘｽﾄ１\"))","v":""},"","","","","","","",{"$f":"IF(S1046=\"\",\"\",COUNTIF($S$7:S1046,\"該当２\"))","v":""},"","",{"$f":"IF(V1046=\"\",\"\",COUNTIF($V$7:V1046,\"該当３\"))","v":""}]
[2020222003,20,{"v":202,"d":"202 "},{"v":22,"d":"22 "},{"v":3,"d":"003 "},"長野県","松本市","安曇村","島々",null,"","",{"$f":"IF(K1047=\"\",\"\",COUNTIF($K$7:K1047,\"ﾘｽﾄ１\"))","v":""},"","","","","","","",{"$f":"IF(S1047=\"\",\"\",COUNTIF($S$7:S1047,\"該当２\"))","v":""},"","",{"$f":"IF(V1047=\"\",\"\",COUNTIF($V$7:V1047,\"該当３\"))","v":""}]
[2020223000,20,{"v":202,"d":"202 "},{"v":23,"d":"23 "},{"v":0,"d":"000 "},"長野県","松本市","奈川村",null,null,"","",{"$f":"IF(K1053=\"\",\"\",COUNTIF($K$7:K1053,\"ﾘｽﾄ１\"))","v":""},"","","","","","","",{"$f":"IF(S1053=\"\",\"\",COUNTIF($S$7:S1053,\"該当２\"))","v":""},"","",{"$f":"IF(V1053=\"\",\"\",COUNTIF($V$7:V1053,\"該当３\"))","v":""}]
[2020223005,20,{"v":202,"d":"202 "},{"v":23,"d":"23 "},{"v":5,"d":"005 "},"長野県","松本市","奈川村","大平",null,"","",{"$f":"IF(K1058=\"\",\"\",COUNTIF($K$7:K1058,\"ﾘｽﾄ１\"))","v":""},"","","","","","","",{"$f":"IF(S1058=\"\",\"\",COUNTIF($S$7:S1058,\"該当２\"))","v":""},"","",{"$f":"IF(V1058=\"\",\"\",COUNTIF($V$7:V1058,\"該当３\"))","v":""}]
[2020223010,20,{"v":202,"d":"202 "},{"v":23,"d":"23 "},{"v":10,"d":"010 "},"長野県","松本市","奈川村","田ノ萱",null,"","",{"$f":"IF(K1063=\"\",\"\",COUNTIF($K$7:K1063,\"ﾘｽﾄ１\"))","v":""},"","","","","","","",{"$f":"IF(S1063=\"\",\"\",COUNTIF($S$7:S1063,\"該当２\"))","v":""},"","",{"$f":"IF(V1063=\"\",\"\",COUNTIF($V$7:V1063,\"該当３\"))","v":""}]
[2020223012,20,{"v":202,"d":"202 "},{"v":23,"d":"23 "},{"v":12,"d":"012 "},"長野県","松本市","奈川村","寄合渡",null,"","",{"$f":"IF(K1065=\"\",\"\",COUNTIF($K$7:K1065,\"ﾘｽﾄ１\"))","v":""},"","","","","","","",{"$f":"IF(S1065=\"\",\"\",COUNTIF($S$7:S1065,\"該当２\"))","v":""},"","",{"$f":"IF(V1065=\"\",\"\",COUNTIF($V$7:V1065,\"該当３\"))","v":""}]
[2020224002,20,{"v":202,"d":"202 "},{"v":24,"d":"24 "},{"v":2,"d":"002 "},"長野県","松本市","梓村","花見",null,"","",{"$f":"IF(K1070=\"\",\"\",COUNTIF($K$7:K1070,\"ﾘｽﾄ１\"))","v":""},"","","","","","","",{"$f":"IF(S1070=\"\",\"\",COUNTIF($S$7:S1070,\"該当２\"))","v":""},"","",{"$f":"IF(V1070=\"\",\"\",COUNTIF($V$7:V1070,\"該当３\"))","v":""}]
[2020224007,20,{"v":202,"d":"202 "},{"v":24,"d":"24 "},{"v":7,"d":"007 "},"長野県","松本市","梓村","上立田",null,"","",{"$f":"IF(K1075=\"\",\"\",COUNTIF($K$7:K1075,\"ﾘｽﾄ１\"))","v":""},"","","","","","","",{"$f":"IF(S1075=\"\",\"\",COUNTIF($S$7:S1075,\"該当２\"))","v":""},"","",{"$f":"IF(V1075=\"\",\"\",COUNTIF($V$7:V1075,\"該当３\"))","v":""}]
[2020224012,20,{"v":202,"d":"202 "},{"v":24,"d":"24 "},{"v":12,"d":"012 "},"長野県","松本市","梓村","小室",null,"","",{"$f":"IF(K1080=\"\",\"\",COUNTIF($K$7:K1080,\"ﾘｽﾄ１\"))","v":""},"","","","","","","",{"$f":"IF(S1080=\"\",\"\",COUNTIF($S$7:S1080,\"該当２\"))","v":""},"","",{"$f":"IF(V1080=\"\",\"\",COUNTIF($V$7:V1080,\"該当３\"))","v":""}]
[2020224016,20,{"v":202,"d":"202 "},{"v":24,"d":"24 "},{"v":16,"d":"016 "},"長野県","松本市","梓村","大久保",null,"","",{"$f":"IF(K1084=\"\",\"\",COUNTIF($K$7:K1084,\"ﾘｽﾄ１\"))","v":""},"","","","","","","",{"$f":"IF(S1084=\"\",\"\",COUNTIF($S$7:S1084,\"該当２\"))","v":""},"","",{"$f":"IF(V1084=\"\",\"\",COUNTIF($V$7:V1084,\"該当３\"))","v":""}]
[2020225002,20,{"v":202,"d":"202 "},{"v":25,"d":"25 "},{"v":2,"d":"002 "},"長野県","松本市","倭村（松本市）","北大妻２区",null,"","",{"$f":"IF(K1087=\"\",\"\",COUNTIF($K$7:K1087,\"ﾘｽﾄ１\"))","v":""},"","","","","","","",{"$f":"IF(S1087=\"\",\"\",COUNTIF($S$7:S1087,\"該当２\"))","v":""},"","",{"$f":"IF(V1087=\"\",\"\",COUNTIF($V$7:V1087,\"該当３\"))","v":""}]
[2020225007,20,{"v":202,"d":"202 "},{"v":25,"d":"25 "},{"v":7,"d":"007 "},"長野県","松本市","倭村（松本市）","横沢１区",null,"","",{"$f":"IF(K1092=\"\",\"\",COUNTIF($K$7:K1092,\"ﾘｽﾄ１\"))","v":""},"","","","","","","",{"$f":"IF(S1092=\"\",\"\",COUNTIF($S$7:S1092,\"該当２\"))","v":""},"","",{"$f":"IF(V1092=\"\",\"\",COUNTIF($V$7:V1092,\"該当３\"))","v":""}]
[2020225012,20,{"v":202,"d":"202 "},{"v":25,"d":"25 "},{"v":12,"d":"012 "},"長野県","松本市","倭村（松本市）","岩岡２区",null,"","",{"$f":"IF(K1097=\"\",\"\",COUNTIF($K$7:K1097,\"ﾘｽﾄ１\"))","v":""},"","","","","","","",{"$f":"IF(S1097=\"\",\"\",COUNTIF($S$7:S1097,\"該当２\"))","v":""},"","",{"$f":"IF(V1097=\"\",\"\",COUNTIF($V$7:V1097,\"該当３\"))","v":""}]
[2020226004,20,{"v":202,"d":"202 "},{"v":26,"d":"26 "},{"v":4,"d":"004 "},"長野県","松本市","波田町","２区",null,"","",{"$f":"IF(K1102=\"\",\"\",COUNTIF($K$7:K1102,\"ﾘｽﾄ１\"))","v":""},"","","","","","","",{"$f":"IF(S1102=\"\",\"\",COUNTIF($S$7:S1102,\"該当２\"))","v":""},"","",{"$f":"IF(V1102=\"\",\"\",COUNTIF($V$7:V1102,\"該当３\"))","v":""}]
[2020226006,20,{"v":202,"d":"202 "},{"v":26,"d":"26 "},{"v":6,"d":"006 "},"長野県","松本市","波田町","４区",null,"","",{"$f":"IF(K1104=\"\",\"\",COUNTIF($K$7:K1104,\"ﾘｽﾄ１\"))","v":""},"","","","","","","",{"$f":"IF(S1104=\"\",\"\",COUNTIF($S$7:S1104,\"該当２\"))","v":""},"","",{"$f":"IF(V1104=\"\",\"\",COUNTIF($V$7:V1104,\"該当３\"))","v":""}]
[2020226011,20,{"v":202,"d":"202 "},{"v":26,"d":"26 "},{"v":11,"d":"011 "},"長野県","松本市","波田町","７区",null,"","",{"$f":"IF(K1109=\"\",\"\",COUNTIF($K$7:K1109,\"ﾘｽﾄ１\"))","v":""},"","","","","","","",{"$f":"IF(S1109=\"\",\"\",COUNTIF($S$7:S1109,\"該当２\"))","v":""},"","",{"$f":"IF(V1109=\"\",\"\",COUNTIF($V$7:V1109,\"該当３\"))","v":""}]
[2020226016,20,{"v":202,"d":"202 "},{"v":26,"d":"26 "},{"v":16,"d":"016 "},"長野県","松本市","波田町","１２区",null,"","",{"$f":"IF(K1114=\"\",\"\",COUNTIF($K$7:K1114,\"ﾘｽﾄ１\"))","v":""},"","","","","","","",{"$f":"IF(S1114=\"\",\"\",COUNTIF($S$7:S1114,\"該当２\"))","v":""},"","",{"$f":"IF(V1114=\"\",\"\",COUNTIF($V$7:V1114,\"該当３\"))","v":""}]
[2020226018,20,{"v":202,"d":"202 "},{"v":26,"d":"26 "},{"v":18,"d":"018 "},"長野県","松本市","波田町","１４区",null,"","",{"$f":"IF(K1116=\"\",\"\",COUNTIF($K$7:K1116,\"ﾘｽﾄ１\"))","v":""},"","","","","","","",{"$f":"IF(S1116=\"\",\"\",COUNTIF($S$7:S1116,\"該当２\"))","v":""},"","",{"$f":"IF(V1116=\"\",\"\",COUNTIF($V$7:V1116,\"該当３\"))","v":""}]
[2020226023,20,{"v":202,"d":"202 "},{"v":26,"d":"26 "},{"v":23,"d":"023 "},"長野県","松本市","波田町","２２区",null,"","",{"$f":"IF(K1121=\"\",\"\",COUNTIF($K$7:K1121,\"ﾘｽﾄ１\"))","v":""},"","","","","","","",{"$f":"IF(S1121=\"\",\"\",COUNTIF($S$7:S1121,\"該当２\"))","v":""},"","",{"$f":"IF(V1121=\"\",\"\",COUNTIF($V$7:V1121,\"該当３\"))","v":""}]
[2020301003,20,{"v":203,"d":"203 "},{"v":1,"d":"01 "},{"v":3,"d":"003 "},"長野県","上田市","上田市（旧）","新町",null,"","",{"$f":"IF(K1126=\"\",\"\",COUNTIF($K$7:K1126,\"ﾘｽﾄ１\"))","v":""},"","","","","","","",{"$f":"IF(S1126=\"\",\"\",COUNTIF($S$7:S1126,\"該当２\"))","v":""},"","",{"$f":"IF(V1126=\"\",\"\",COUNTIF($V$7:V1126,\"該当３\"))","v":""}]
[2020301008,20,{"v":203,"d":"203 "},{"v":1,"d":"01 "},{"v":8,"d":"008 "},"長野県","上田市","上田市（旧）","中常田",null,"","",{"$f":"IF(K1131=\"\",\"\",COUNTIF($K$7:K1131,\"ﾘｽﾄ１\"))","v":""},"","","","","","","",{"$f":"IF(S1131=\"\",\"\",COUNTIF($S$7:S1131,\"該当２\"))","v":""},"","",{"$f":"IF(V1131=\"\",\"\",COUNTIF($V$7:V1131,\"該当３\"))","v":""}]
[2020301011,20,{"v":203,"d":"203 "},{"v":1,"d":"01 "},{"v":11,"d":"011 "},"長野県","上田市","上田市（旧）","北天神町",null,"","",{"$f":"IF(K1134=\"\",\"\",COUNTIF($K$7:K1134,\"ﾘｽﾄ１\"))","v":""},"","","","","","","",{"$f":"IF(S1134=\"\",\"\",COUNTIF($S$7:S1134,\"該当２\"))","v":""},"","",{"$f":"IF(V1134=\"\",\"\",COUNTIF($V$7:V1134,\"該当３\"))","v":""}]
[2020301015,20,{"v":203,"d":"203 "},{"v":1,"d":"01 "},{"v":15,"d":"015 "},"長野県","上田市","上田市（旧）","鍛治町",null,"","",{"$f":"IF(K1138=\"\",\"\",COUNTIF($K$7:K1138,\"ﾘｽﾄ１\"))","v":""},"","","","","","","",{"$f":"IF(S1138=\"\",\"\",COUNTIF($S$7:S1138,\"該当２\"))","v":""},"","",{"$f":"IF(V1138=\"\",\"\",COUNTIF($V$7:V1138,\"該当３\"))","v":""}]
[2020301020,20,{"v":203,"d":"203 "},{"v":1,"d":"01 "},{"v":20,"d":"020 "},"長野県","上田市","上田市（旧）","下房山",null,"","",{"$f":"IF(K1143=\"\",\"\",COUNTIF($K$7:K1143,\"ﾘｽﾄ１\"))","v":""},"","","","","","","",{"$f":"IF(S1143=\"\",\"\",COUNTIF($S$7:S1143,\"該当２\"))","v":""},"","",{"$f":"IF(V1143=\"\",\"\",COUNTIF($V$7:V1143,\"該当３\"))","v":""}]
[2020301025,20,{"v":203,"d":"203 "},{"v":1,"d":"01 "},{"v":25,"d":"025 "},"長野県","上田市","上田市（旧）","北大手町",null,"","",{"$f":"IF(K1148=\"\",\"\",COUNTIF($K$7:K1148,\"ﾘｽﾄ１\"))","v":""},"","","","","","","",{"$f":"IF(S1148=\"\",\"\",COUNTIF($S$7:S1148,\"該当２\"))","v":""},"","",{"$f":"IF(V1148=\"\",\"\",COUNTIF($V$7:V1148,\"該当３\"))","v":""}]
[2020301030,20,{"v":203,"d":"203 "},{"v":1,"d":"01 "},{"v":30,"d":"030 "},"長野県","上田市","上田市（旧）","中村",null,"","",{"$f":"IF(K1153=\"\",\"\",COUNTIF($K$7:K1153,\"ﾘｽﾄ１\"))","v":""},"","","","","","","",{"$f":"IF(S1153=\"\",\"\",COUNTIF($S$7:S1153,\"該当２\"))","v":""},"","",{"$f":"IF(V1153=\"\",\"\",COUNTIF($V$7:V1153,\"該当３\"))","v":""}]
[2020301032,20,{"v":203,"d":"203 "},{"v":1,"d":"01 "},{"v":32,"d":"032 "},"長野県","上田市","上田市（旧）","須川",null,"","",{"$f":"IF(K1155=\"\",\"\",COUNTIF($K$7:K1155,\"ﾘｽﾄ１\"))","v":""},"","","","","","","",{"$f":"IF(S1155=\"\",\"\",COUNTIF($S$7:S1155,\"該当２\"))","v":""},"","",{"$f":"IF(V1155=\"\",\"\",COUNTIF($V$7:V1155,\"該当３\"))","v":""}]
[2020302001,20,{"v":203,"d":"203 "},{"v":2,"d":"02 "},{"v":1,"d":"001 "},"長野県","上田市","塩尻村","秋和",null,"","",{"$f":"IF(K1160=\"\",\"\",COUNTIF($K$7:K1160,\"ﾘｽﾄ１\"))","v":""},"","","","","","","",{"$f":"IF(S1160=\"\",\"\",COUNTIF($S$7:S1160,\"該当２\"))","v":""},"","",{"$f":"IF(V1160=\"\",\"\",COUNTIF($V$7:V1160,\"該当３\"))","v":""}]
[2020303002,20,{"v":203,"d":"203 "},{"v":3,"d":"03 "},{"v":2,"d":"002 "},"長野県","上田市","川辺村（上田市）","川辺町",null,"","",{"$f":"IF(K1165=\"\",\"\",COUNTIF($K$7:K1165,\"ﾘｽﾄ１\"))","v":""},"","","","","","","",{"$f":"IF(S1165=\"\",\"\",COUNTIF($S$7:S1165,\"該当２\"))","v":""},"","",{"$f":"IF(V1165=\"\",\"\",COUNTIF($V$7:V1165,\"該当３\"))","v":""}]
[2020303003,20,{"v":203,"d":"203 "},{"v":3,"d":"03 "},{"v":3,"d":"003 "},"長野県","上田市","川辺村（上田市）","上田原",null,"","",{"$f":"IF(K1166=\"\",\"\",COUNTIF($K$7:K1166,\"ﾘｽﾄ１\"))","v":""},"","","","","","","",{"$f":"IF(S1166=\"\",\"\",COUNTIF($S$7:S1166,\"該当２\"))","v":""},"","",{"$f":"IF(V1166=\"\",\"\",COUNTIF($V$7:V1166,\"該当３\"))","v":""}]
[2020304002,20,{"v":203,"d":"203 "},{"v":4,"d":"04 "},{"v":2,"d":"002 "},"長野県","上田市","泉田村２－２","宮島",null,"","",{"$f":"IF(K1172=\"\",\"\",COUNTIF($K$7:K1172,\"ﾘｽﾄ１\"))","v":""},"","","","","","","",{"$f":"IF(S1172=\"\",\"\",COUNTIF($S$7:S1172,\"該当２\"))","v":""},"","",{"$f":"IF(V1172=\"\",\"\",COUNTIF($V$7:V1172,\"該当３\"))","v":""}]
[2020304007,20,{"v":203,"d":"203 "},{"v":4,"d":"04 "},{"v":7,"d":"007 "},"長野県","上田市","泉田村２－２","上半過",null,"","",{"$f":"IF(K1177=\"\",\"\",COUNTIF($K$7:K1177,\"ﾘｽﾄ１\"))","v":""},"","","","","","","",{"$f":"IF(S1177=\"\",\"\",COUNTIF($S$7:S1177,\"該当２\"))","v":""},"","",{"$f":"IF(V1177=\"\",\"\",COUNTIF($V$7:V1177,\"該当３\"))","v":""}]
[2020305003,20,{"v":203,"d":"203 "},{"v":5,"d":"05 "},{"v":3,"d":"003 "},"長野県","上田市","神川村","下青木",null,"","",{"$f":"IF(K1182=\"\",\"\",COUNTIF($K$7:K1182,\"ﾘｽﾄ１\"))","v":""},"","","","","","","",{"$f":"IF(S1182=\"\",\"\",COUNTIF($S$7:S1182,\"該当２\"))","v":""},"","",{"$f":"IF(V1182=\"\",\"\",COUNTIF($V$7:V1182,\"該当３\"))","v":""}]
[2020305006,20,{"v":203,"d":"203 "},{"v":5,"d":"05 "},{"v":6,"d":"006 "},"長野県","上田市","神川村","黒坪",null,"","",{"$f":"IF(K1185=\"\",\"\",COUNTIF($K$7:K1185,\"ﾘｽﾄ１\"))","v":""},"","","","","","","",{"$f":"IF(S1185=\"\",\"\",COUNTIF($S$7:S1185,\"該当２\"))","v":""},"","",{"$f":"IF(V1185=\"\",\"\",COUNTIF($V$7:V1185,\"該当３\"))","v":""}]
[2020305010,20,{"v":203,"d":"203 "},{"v":5,"d":"05 "},{"v":10,"d":"010 "},"長野県","上田市","神川村","上堀",null,"","",{"$f":"IF(K1189=\"\",\"\",COUNTIF($K$7:K1189,\"ﾘｽﾄ１\"))","v":""},"","","","","","","",{"$f":"IF(S1189=\"\",\"\",COUNTIF($S$7:S1189,\"該当２\"))","v":""},"","",{"$f":"IF(V1189=\"\",\"\",COUNTIF($V$7:V1189,\"該当３\"))","v":""}]
[2020306004,20,{"v":203,"d":"203 "},{"v":6,"d":"06 "},{"v":4,"d":"004 "},"長野県","上田市","神科村","金剛寺",null,"","",{"$f":"IF(K1194=\"\",\"\",COUNTIF($K$7:K1194,\"ﾘｽﾄ１\"))","v":""},"","","","","","","",{"$f":"IF(S1194=\"\",\"\",COUNTIF($S$7:S1194,\"該当２\"))","v":""},"","",{"$f":"IF(V1194=\"\",\"\",COUNTIF($V$7:V1194,\"該当３\"))","v":""}]
[2020306009,20,{"v":203,"d":"203 "},{"v":6,"d":"06 "},{"v":9,"d":"009 "},"長野県","上田市","神科村","樋の沢",null,"","",{"$f":"IF(K1199=\"\",\"\",COUNTIF($K$7:K1199,\"ﾘｽﾄ１\"))","v":""},"","","","","","","",{"$f":"IF(S1199=\"\",\"\",COUNTIF($S$7:S1199,\"該当２\"))","v":""},"","",{"$f":"IF(V1199=\"\",\"\",COUNTIF($V$7:V1199,\"該当３\"))","v":""}]
[2020306013,20,{"v":203,"d":"203 "},{"v":6,"d":"06 "},{"v":13,"d":"013 "},"長野県","上田市","神科村","野竹",null,"","",{"$f":"IF(K1203=\"\",\"\",COUNTIF($K$7:K1203,\"ﾘｽﾄ１\"))","v":""},"","","","","","","",{"$f":"IF(S1203=\"\",\"\",COUNTIF($S$7:S1203,\"該当２\"))","v":""},"","",{"$f":"IF(V1203=\"\",\"\",COUNTIF($V$7:V1203,\"該当３\"))","v":""}]
[2020307000,20,{"v":203,"d":"203 "},{"v":7,"d":"07 "},{"v":0,"d":"000 "},"長野県","上田市","豊里村",null,null,"","",{"$f":"IF(K1206=\"\",\"\",COUNTIF($K$7:K1206,\"ﾘｽﾄ１\"))","v":""},"","","","","","","",{"$f":"IF(S1206=\"\",\"\",COUNTIF($S$7:S1206,\"該当２\"))","v":""},"","",{"$f":"IF(V1206=\"\",\"\",COUNTIF($V$7:V1206,\"該当３\"))","v":""}]
[2020307005,20,{"v":203,"d":"203 "},{"v":7,"d":"07 "},{"v":5,"d":"005 "},"長野県","上田市","豊里村","小井田",null,"","",{"$f":"IF(K1211=\"\",\"\",COUNTIF($K$7:K1211,\"ﾘｽﾄ１\"))","v":""},"","","","","","","",{"$f":"IF(S1211=\"\",\"\",COUNTIF($S$7:S1211,\"該当２\"))","v":""},"","",{"$f":"IF(V1211=\"\",\"\",COUNTIF($V$7:V1211,\"該当３\"))","v":""}]
[2020308000,20,{"v":203,"d":"203 "},{"v":8,"d":"08 "},{"v":0,"d":"000 "},"長野県","上田市","殿城村",null,null,"","",{"$f":"IF(K1216=\"\",\"\",COUNTIF($K$7:K1216,\"ﾘｽﾄ１\"))","v":""},"","","","","","","",{"$f":"IF(S1216=\"\",\"\",COUNTIF($S$7:S1216,\"該当２\"))","v":""},"","",{"$f":"IF(V1216=\"\",\"\",COUNTIF($V$7:V1216,\"該当３\"))","v":""}]
[2020308001,20,{"v":203,"d":"203 "},{"v":8,"d":"08 "},{"v":1,"d":"001 "},"長野県","上田市","殿城村","漆戸",null,"","",{"$f":"IF(K1217=\"\",\"\",COUNTIF($K$7:K1217,\"ﾘｽﾄ１\"))","v":""},"","","","","","","",{"$f":"IF(S1217=\"\",\"\",COUNTIF($S$7:S1217,\"該当２\"))","v":""},"","",{"$f":"IF(V1217=\"\",\"\",COUNTIF($V$7:V1217,\"該当３\"))","v":""}]
[2020309001,20,{"v":203,"d":"203 "},{"v":9,"d":"09 "},{"v":1,"d":"001 "},"長野県","上田市","中塩田村","下本郷",null,"","",{"$f":"IF(K1223=\"\",\"\",COUNTIF($K$7:K1223,\"ﾘｽﾄ１\"))","v":""},"","","","","","","",{"$f":"IF(S1223=\"\",\"\",COUNTIF($S$7:S1223,\"該当２\"))","v":""},"","",{"$f":"IF(V1223=\"\",\"\",COUNTIF($V$7:V1223,\"該当３\"))","v":""}]
[2020309006,20,{"v":203,"d":"203 "},{"v":9,"d":"09 "},{"v":6,"d":"006 "},"長野県","上田市","中塩田村","下小島",null,"","",{"$f":"IF(K1228=\"\",\"\",COUNTIF($K$7:K1228,\"ﾘｽﾄ１\"))","v":""},"","","","","","","",{"$f":"IF(S1228=\"\",\"\",COUNTIF($S$7:S1228,\"該当２\"))","v":""},"","",{"$f":"IF(V1228=\"\",\"\",COUNTIF($V$7:V1228,\"該当３\"))","v":""}]
[2020310001,20,{"v":203,"d":"203 "},{"v":10,"d":"10 "},{"v":1,"d":"001 "},"長野県","上田市","別所村","上手",null,"","",{"$f":"IF(K1233=\"\",\"\",COUNTIF($K$7:K1233,\"ﾘｽﾄ１\"))","v":""},"","","","","","","",{"$f":"IF(S1233=\"\",\"\",COUNTIF($S$7:S1233,\"該当２\"))","v":""},"","",{"$f":"IF(V1233=\"\",\"\",COUNTIF($V$7:V1233,\"該当３\"))","v":""}]
[2020310005,20,{"v":203,"d":"203 "},{"v":10,"d":"10 "},{"v":5,"d":"005 "},"長野県","上田市","別所村","別所分去",null,"","",{"$f":"IF(K1236=\"\",\"\",COUNTIF($K$7:K1236,\"ﾘｽﾄ１\"))","v":""},"","","","","","","",{"$f":"IF(S1236=\"\",\"\",COUNTIF($S$7:S1236,\"該当２\"))","v":""},"","",{"$f":"IF(V1236=\"\",\"\",COUNTIF($V$7:V1236,\"該当３\"))","v":""}]
[2020311003,20,{"v":203,"d":"203 "},{"v":11,"d":"11 "},{"v":3,"d":"003 "},"長野県","上田市","西塩田村","西前山",null,"","",{"$f":"IF(K1240=\"\",\"\",COUNTIF($K$7:K1240,\"ﾘｽﾄ１\"))","v":""},"","","","","","","",{"$f":"IF(S1240=\"\",\"\",COUNTIF($S$7:S1240,\"該当２\"))","v":""},"","",{"$f":"IF(V1240=\"\",\"\",COUNTIF($V$7:V1240,\"該当３\"))","v":""}]
[2020312000,20,{"v":203,"d":"203 "},{"v":12,"d":"12 "},{"v":0,"d":"000 "},"長野県","上田市","東塩田村",null,null,"","",{"$f":"IF(K1245=\"\",\"\",COUNTIF($K$7:K1245,\"ﾘｽﾄ１\"))","v":""},"","","","","","","",{"$f":"IF(S1245=\"\",\"\",COUNTIF($S$7:S1245,\"該当２\"))","v":""},"","",{"$f":"IF(V1245=\"\",\"\",COUNTIF($V$7:V1245,\"該当３\"))","v":""}]
[2020312005,20,{"v":203,"d":"203 "},{"v":12,"d":"12 "},{"v":5,"d":"005 "},"長野県","上田市","東塩田村","下之郷",null,"","",{"$f":"IF(K1250=\"\",\"\",COUNTIF($K$7:K1250,\"ﾘｽﾄ１\"))","v":""},"","","","","","","",{"$f":"IF(S1250=\"\",\"\",COUNTIF($S$7:S1250,\"該当２\"))","v":""},"","",{"$f":"IF(V1250=\"\",\"\",COUNTIF($V$7:V1250,\"該当３\"))","v":""}]
[2020313000,20,{"v":203,"d":"203 "},{"v":13,"d":"13 "},{"v":0,"d":"000 "},"長野県","上田市","泉田村２－１",null,null,"","",{"$f":"IF(K1254=\"\",\"\",COUNTIF($K$7:K1254,\"ﾘｽﾄ１\"))","v":""},"","","","","","","",{"$f":"IF(S1254=\"\",\"\",COUNTIF($S$7:S1254,\"該当２\"))","v":""},"","",{"$f":"IF(V1254=\"\",\"\",COUNTIF($V$7:V1254,\"該当３\"))","v":""}]
[2020313003,20,{"v":203,"d":"203 "},{"v":13,"d":"13 "},{"v":3,"d":"003 "},"長野県","上田市","泉田村２－１","和合",null,"","",{"$f":"IF(K1257=\"\",\"\",COUNTIF($K$7:K1257,\"ﾘｽﾄ１\"))","v":""},"","","","","","","",{"$f":"IF(S1257=\"\",\"\",COUNTIF($S$7:S1257,\"該当２\"))","v":""},"","",{"$f":"IF(V1257=\"\",\"\",COUNTIF($V$7:V1257,\"該当３\"))","v":""}]
[2020314003,20,{"v":203,"d":"203 "},{"v":14,"d":"14 "},{"v":3,"d":"003 "},"長野県","上田市","室賀村","田中組",null,"","",{"$f":"IF(K1262=\"\",\"\",COUNTIF($K$7:K1262,\"ﾘｽﾄ１\"))","v":""},"","","","","","","",{"$f":"IF(S1262=\"\",\"\",COUNTIF($S$7:S1262,\"該当２\"))","v":""},"","",{"$f":"IF(V1262=\"\",\"\",COUNTIF($V$7:V1262,\"該当３\"))","v":""}]
[2020314008,20,{"v":203,"d":"203 "},{"v":14,"d":"14 "},{"v":8,"d":"008 "},"長野県","上田市","室賀村","入組",null,"","",{"$f":"IF(K1267=\"\",\"\",COUNTIF($K$7:K1267,\"ﾘｽﾄ１\"))","v":""},"","","","","","","",{"$f":"IF(S1267=\"\",\"\",COUNTIF($S$7:S1267,\"該当２\"))","v":""},"","",{"$f":"IF(V1267=\"\",\"\",COUNTIF($V$7:V1267,\"該当３\"))","v":""}]
[2020315000,20,{"v":203,"d":"203 "},{"v":15,"d":"15 "},{"v":0,"d":"000 "},"長野県","上田市","浦里村２－１",null,null,"","",{"$f":"IF(K1268=\"\",\"\",COUNTIF($K$7:K1268,\"ﾘｽﾄ１\"))","v":""},"","","","","","","",{"$f":"IF(S1268=\"\",\"\",COUNTIF($S$7:S1268,\"該当２\"))","v":""},"","",{"$f":"IF(V1268=\"\",\"\",COUNTIF($V$7:V1268,\"該当３\"))","v":""}]
[2020316001,20,{"v":203,"d":"203 "},{"v":16,"d":"16 "},{"v":1,"d":"001 "},"長野県","上田市","丸子町","下丸子",null,"","",{"$f":"IF(K1274=\"\",\"\",COUNTIF($K$7:K1274,\"ﾘｽﾄ１\"))","v":""},"","","","","","","",{"$f":"IF(S1274=\"\",\"\",COUNTIF($S$7:S1274,\"該当２\"))","v":""},"","",{"$f":"IF(V1274=\"\",\"\",COUNTIF($V$7:V1274,\"該当３\"))","v":""}]
[2020316006,20,{"v":203,"d":"203 "},{"v":16,"d":"16 "},{"v":6,"d":"006 "},"長野県","上田市","丸子町","町",null,"","",{"$f":"IF(K1279=\"\",\"\",COUNTIF($K$7:K1279,\"ﾘｽﾄ１\"))","v":""},"","","","","","","",{"$f":"IF(S1279=\"\",\"\",COUNTIF($S$7:S1279,\"該当２\"))","v":""},"","",{"$f":"IF(V1279=\"\",\"\",COUNTIF($V$7:V1279,\"該当３\"))","v":""}]
[2020316011,20,{"v":203,"d":"203 "},{"v":16,"d":"16 "},{"v":11,"d":"011 "},"長野県","上田市","丸子町","海戸",null,"","",{"$f":"IF(K1284=\"\",\"\",COUNTIF($K$7:K1284,\"ﾘｽﾄ１\"))","v":""},"","","","","","","",{"$f":"IF(S1284=\"\",\"\",COUNTIF($S$7:S1284,\"該当２\"))","v":""},"","",{"$f":"IF(V1284=\"\",\"\",COUNTIF($V$7:V1284,\"該当３\"))","v":""}]
[2020317000,20,{"v":203,"d":"203 "},{"v":17,"d":"17 "},{"v":0,"d":"000 "},"長野県","上田市","東内村",null,null,"","",{"$f":"IF(K1286=\"\",\"\",COUNTIF($K$7:K1286,\"ﾘｽﾄ１\"))","v":""},"","","","","","","",{"$f":"IF(S1286=\"\",\"\",COUNTIF($S$7:S1286,\"該当２\"))","v":""},"","",{"$f":"IF(V1286=\"\",\"\",COUNTIF($V$7:V1286,\"該当３\"))","v":""}]
[2020317005,20,{"v":203,"d":"203 "},{"v":17,"d":"17 "},{"v":5,"d":"005 "},"長野県","上田市","東内村","荻窪",null,{"$f":"IF(AND($C1291>0,$H1291=\"\"),\"ﾘｽﾄ１\",\"\")","v":""},{"$f":"IF(K1291=\"ﾘｽﾄ１\",G1291,\"\")","v":""},{"$f":"IF(K1291=\"\",\"\",COUNTIF($K$7:K1291,\"ﾘｽﾄ１\"))","v":""},{"$f":"IF(AND(D1291=0,E1291>0),\"同一区\",\"\")","v":""},{"$f":"IF(AND(EXACT($K$2,G1291),H1291>0),\"該当１\",\"\")","v":""},"","","",{"$f":"IF(AND(Q1291=\"ﾘｽﾄ2\",OR(I1291=0,AND(N1291=\"同一区\",E1291=1))),\"該当２\",\"\")","v":""},"",{"$f":"IF(S1291=\"\",\"\",COUNTIF($S$7:S1291,\"該当２\"))","v":""},"","",{"$f":"IF(V1291=\"\",\"\",COUNTIF($V$7:V1291,\"該当３\"))","v":""}]
[2020318003,20,{"v":203,"d":"203 "},{"v":18,"d":"18 "},{"v":3,"d":"003 "},"長野県","上田市","西内村","戸羽",null,"","",{"$f":"IF(K1296=\"\",\"\",COUNTIF($K$7:K1296,\"ﾘｽﾄ１\"))","v":""},"","","","","","","",{"$f":"IF(S1296=\"\",\"\",COUNTIF($S$7:S1296,\"該当２\"))","v":""},"","",{"$f":"IF(V1296=\"\",\"\",COUNTIF($V$7:V1296,\"該当３\"))","v":""}]
[2020318008,20,{"v":203,"d":"203 "},{"v":18,"d":"18 "},{"v":8,"d":"008 "},"長野県","上田市","西内村","高梨",null,"","",{"$f":"IF(K1301=\"\",\"\",COUNTIF($K$7:K1301,\"ﾘｽﾄ１\"))","v":""},"","","","","","","",{"$f":"IF(S1301=\"\",\"\",COUNTIF($S$7:S1301,\"該当２\"))","v":""},"","",{"$f":"IF(V1301=\"\",\"\",COUNTIF($V$7:V1301,\"該当３\"))","v":""}]
[2020319000,20,{"v":203,"d":"203 "},{"v":19,"d":"19 "},{"v":0,"d":"000 "},"長野県","上田市","依田村",null,null,"","",{"$f":"IF(K1305=\"\",\"\",COUNTIF($K$7:K1305,\"ﾘｽﾄ１\"))","v":""},"","","","","","","",{"$f":"IF(S1305=\"\",\"\",COUNTIF($S$7:S1305,\"該当２\"))","v":""},"","",{"$f":"IF(V1305=\"\",\"\",COUNTIF($V$7:V1305,\"該当３\"))","v":""}]
[2020319003,20,{"v":203,"d":"203 "},{"v":19,"d":"19 "},{"v":3,"d":"003 "},"長野県","上田市","依田村","飯沼",null,"","",{"$f":"IF(K1308=\"\",\"\",COUNTIF($K$7:K1308,\"ﾘｽﾄ１\"))","v":""},"","","","","","","",{"$f":"IF(S1308=\"\",\"\",COUNTIF($S$7:S1308,\"該当２\"))","v":""},"","",{"$f":"IF(V1308=\"\",\"\",COUNTIF($V$7:V1308,\"該当３\"))","v":""}]
[2020319008,20,{"v":203,"d":"203 "},{"v":19,"d":"19 "},{"v":8,"d":"008 "},"長野県","上田市","依田村","上組",null,"","",{"$f":"IF(K1313=\"\",\"\",COUNTIF($K$7:K1313,\"ﾘｽﾄ１\"))","v":""},"","","","","","","",{"$f":"IF(S1313=\"\",\"\",COUNTIF($S$7:S1313,\"該当２\"))","v":""},"","",{"$f":"IF(V1313=\"\",\"\",COUNTIF($V$7:V1313,\"該当３\"))","v":""}]
[2020320004,20,{"v":203,"d":"203 "},{"v":20,"d":"20 "},{"v":4,"d":"004 "},"長野県","上田市","長瀬村","権現",null,"","",{"$f":"IF(K1318=\"\",\"\",COUNTIF($K$7:K1318,\"ﾘｽﾄ１\"))","v":""},"","","","","","","",{"$f":"IF(S1318=\"\",\"\",COUNTIF($S$7:S1318,\"該当２\"))","v":""},"","",{"$f":"IF(V1318=\"\",\"\",COUNTIF($V$7:V1318,\"該当３\"))","v":""}]
[2020321000,20,{"v":203,"d":"203 "},{"v":21,"d":"21 "},{"v":0,"d":"000 "},"長野県","上田市","塩川村",null,null,"","",{"$f":"IF(K1323=\"\",\"\",COUNTIF($K$7:K1323,\"ﾘｽﾄ１\"))","v":""},"","","","","","","",{"$f":"IF(S1323=\"\",\"\",COUNTIF($S$7:S1323,\"該当２\"))","v":""},"","",{"$f":"IF(V1323=\"\",\"\",COUNTIF($V$7:V1323,\"該当３\"))","v":""}]
[2020321002,20,{"v":203,"d":"203 "},{"v":21,"d":"21 "},{"v":2,"d":"002 "},"長野県","上田市","塩川村","狐塚",null,"","",{"$f":"IF(K1325=\"\",\"\",COUNTIF($K$7:K1325,\"ﾘｽﾄ１\"))","v":""},"","","","","","","",{"$f":"IF(S1325=\"\",\"\",COUNTIF($S$7:S1325,\"該当２\"))","v":""},"","",{"$f":"IF(V1325=\"\",\"\",COUNTIF($V$7:V1325,\"該当３\"))","v":""}]
[2020322000,20,{"v":203,"d":"203 "},{"v":22,"d":"22 "},{"v":0,"d":"000 "},"長野県","上田市","傍陽村",null,null,"","",{"$f":"IF(K1330=\"\",\"\",COUNTIF($K$7:K1330,\"ﾘｽﾄ１\"))","v":""},"","","","","","","",{"$f":"IF(S1330=\"\",\"\",COUNTIF($S$7:S1330,\"該当２\"))","v":""},"","",{"$f":"IF(V1330=\"\",\"\",COUNTIF($V$7:V1330,\"該当３\"))","v":""}]
[2020322005,20,{"v":203,"d":"203 "},{"v":22,"d":"22 "},{"v":5,"d":"005 "},"長野県","上田市","傍陽村","中組",null,"","",{"$f":"IF(K1335=\"\",\"\",COUNTIF($K$7:K1335,\"ﾘｽﾄ１\"))","v":""},"","","","","","","",{"$f":"IF(S1335=\"\",\"\",COUNTIF($S$7:S1335,\"該当２\"))","v":""},"","",{"$f":"IF(V1335=\"\",\"\",COUNTIF($V$7:V1335,\"該当３\"))","v":""}]
[2020322007,20,{"v":203,"d":"203 "},{"v":22,"d":"22 "},{"v":7,"d":"007 "},"長野県","上田市","傍陽村","曲尾",null,"","",{"$f":"IF(K1337=\"\",\"\",COUNTIF($K$7:K1337,\"ﾘｽﾄ１\"))","v":""},"","","","","","","",{"$f":"IF(S1337=\"\",\"\",COUNTIF($S$7:S1337,\"該当２\"))","v":""},"","",{"$f":"IF(V1337=\"\",\"\",COUNTIF($V$7:V1337,\"該当３\"))","v":""}]
[2020322012,20,{"v":203,"d":"203 "},{"v":22,"d":"22 "},{"v":12,"d":"012 "},"長野県","上田市","傍陽村","上横道",null,"","",{"$f":"IF(K1342=\"\",\"\",COUNTIF($K$7:K1342,\"ﾘｽﾄ１\"))","v":""},"","","","","","","",{"$f":"IF(S1342=\"\",\"\",COUNTIF($S$7:S1342,\"該当２\"))","v":""},"","",{"$f":"IF(V1342=\"\",\"\",COUNTIF($V$7:V1342,\"該当３\"))","v":""}]
[2020323002,20,{"v":203,"d":"203 "},{"v":23,"d":"23 "},{"v":2,"d":"002 "},"長野県","上田市","本原村","下郷沢",null,"","",{"$f":"IF(K1347=\"\",\"\",COUNTIF($K$7:K1347,\"ﾘｽﾄ１\"))","v":""},"","","","","","","",{"$f":"IF(S1347=\"\",\"\",COUNTIF($S$7:S1347,\"該当２\"))","v":""},"","",{"$f":"IF(V1347=\"\",\"\",COUNTIF($V$7:V1347,\"該当３\"))","v":""}]
[2020323007,20,{"v":203,"d":"203 "},{"v":23,"d":"23 "},{"v":7,"d":"007 "},"長野県","上田市","本原村","荒井",null,"","",{"$f":"IF(K1352=\"\",\"\",COUNTIF($K$7:K1352,\"ﾘｽﾄ１\"))","v":""},"","","","","","","",{"$f":"IF(S1352=\"\",\"\",COUNTIF($S$7:S1352,\"該当２\"))","v":""},"","",{"$f":"IF(V1352=\"\",\"\",COUNTIF($V$7:V1352,\"該当３\"))","v":""}]
[2020323010,20,{"v":203,"d":"203 "},{"v":23,"d":"23 "},{"v":10,"d":"010 "},"長野県","上田市","本原村","大畑",null,{"$f":"IF(AND($C1355>0,$H1355=\"\"),\"ﾘｽﾄ１\",\"\")","v":""},{"$f":"IF(K1355=\"ﾘｽﾄ１\",G1355,\"\")","v":""},{"$f":"IF(K1355=\"\",\"\",COUNTIF($K$7:K1355,\"ﾘｽﾄ１\"))","v":""},{"$f":"IF(AND(D1355=0,E1355>0),\"同一区\",\"\")","v":""},{"$f":"IF(AND(EXACT($K$2,G1355),H1355>0),\"該当１\",\"\")","v":""},"","","",{"$f":"IF(AND(Q1355=\"ﾘｽﾄ2\",OR(I1355=0,AND(N1355=\"同一区\",E1355=1))),\"該当２\",\"\")","v":""},"",{"$f":"IF(S1355=\"\",\"\",COUNTIF($S$7:S1355,\"該当２\"))","v":""},"","",{"$f":"IF(V1355=\"\",\"\",COUNTIF($V$7:V1355,\"該当３\"))","v":""}]
[2020324002,20,{"v":203,"d":"203 "},{"v":24,"d":"24 "},{"v":2,"d":"002 "},"長野県","上田市","長村","渋沢",null,"","",{"$f":"IF(K1359=\"\",\"\",COUNTIF($K$7:K1359,\"ﾘｽﾄ１\"))","v":""},"","","","","","","",{"$f":"IF(S1359=\"\",\"\",COUNTIF($S$7:S1359,\"該当２\"))","v":""},"","",{"$f":"IF(V1359=\"\",\"\",COUNTIF($V$7:V1359,\"該当３\"))","v":""}]
[2020324007,20,{"v":203,"d":"203 "},{"v":24,"d":"24 "},{"v":7,"d":"007 "},"長野県","上田市","長村","十林寺",null,"","",{"$f":"IF(K1364=\"\",\"\",COUNTIF($K$7:K1364,\"ﾘｽﾄ１\"))","v":""},"","","","","","","",{"$f":"IF(S1364=\"\",\"\",COUNTIF($S$7:S1364,\"該当２\"))","v":""},"","",{"$f":"IF(V1364=\"\",\"\",COUNTIF($V$7:V1364,\"該当３\"))","v":""}]
[2020325001,20,{"v":203,"d":"203 "},{"v":25,"d":"25 "},{"v":1,"d":"001 "},"長野県","上田市","武石村","鳥屋",null,"","",{"$f":"IF(K1369=\"\",\"\",COUNTIF($K$7:K1369,\"ﾘｽﾄ１\"))","v":""},"","","","","","","",{"$f":"IF(S1369=\"\",\"\",COUNTIF($S$7:S1369,\"該当２\"))","v":""},"","",{"$f":"IF(V1369=\"\",\"\",COUNTIF($V$7:V1369,\"該当３\"))","v":""}]
[2020325006,20,{"v":203,"d":"203 "},{"v":25,"d":"25 "},{"v":6,"d":"006 "},"長野県","上田市","武石村","余里",null,"","",{"$f":"IF(K1374=\"\",\"\",COUNTIF($K$7:K1374,\"ﾘｽﾄ１\"))","v":""},"","","","","","","",{"$f":"IF(S1374=\"\",\"\",COUNTIF($S$7:S1374,\"該当２\"))","v":""},"","",{"$f":"IF(V1374=\"\",\"\",COUNTIF($V$7:V1374,\"該当３\"))","v":""}]
[2020325008,20,{"v":203,"d":"203 "},{"v":25,"d":"25 "},{"v":8,"d":"008 "},"長野県","上田市","武石村","権現",null,"","",{"$f":"IF(K1376=\"\",\"\",COUNTIF($K$7:K1376,\"ﾘｽﾄ１\"))","v":""},"","","","","","","",{"$f":"IF(S1376=\"\",\"\",COUNTIF($S$7:S1376,\"該当２\"))","v":""},"","",{"$f":"IF(V1376=\"\",\"\",COUNTIF($V$7:V1376,\"該当３\"))","v":""}]
[2020325013,20,{"v":203,"d":"203 "},{"v":25,"d":"25 "},{"v":13,"d":"013 "},"長野県","上田市","武石村","上小寺尾",null,"","",{"$f":"IF(K1381=\"\",\"\",COUNTIF($K$7:K1381,\"ﾘｽﾄ１\"))","v":""},"","","","","","","",{"$f":"IF(S1381=\"\",\"\",COUNTIF($S$7:S1381,\"該当２\"))","v":""},"","",{"$f":"IF(V1381=\"\",\"\",COUNTIF($V$7:V1381,\"該当３\"))","v":""}]
[2020400000,20,{"v":204,"d":"204 "},{"v":0,"d":"00 "},{"v":0,"d":"000 "},"長野県","岡谷市",{"$nulls":3},"ﾘｽﾄ１","岡谷市",{"$f":"IF(K1386=\"\",\"\",COUNTIF($K$7:K1386,\"ﾘｽﾄ１\"))","v":4},"","","","","","","",{"$f":"IF(S1386=\"\",\"\",COUNTIF($S$7:S1386,\"該当２\"))","v":""},"","",{"$f":"IF(V1386=\"\",\"\",COUNTIF($V$7:V1386,\"該当３\"))","v":""}]
[2020401000,20,{"v":204,"d":"204 "},{"v":1,"d":"01 "},{"v":0,"d":"000 "},"長野県","岡谷市","岡谷市（旧）",null,null,"","",{"$f":"IF(K1387=\"\",\"\",COUNTIF($K$7:K1387,\"ﾘｽﾄ１\"))","v":""},"","","","","","","",{"$f":"IF(S1387=\"\",\"\",COUNTIF($S$7:S1387,\"該当２\"))","v":""},"","",{"$f":"IF(V1387=\"\",\"\",COUNTIF($V$7:V1387,\"該当３\"))","v":""}]
[2020401006,20,{"v":204,"d":"204 "},{"v":1,"d":"01 "},{"v":6,"d":"006 "},"長野県","岡谷市","岡谷市（旧）","下浜",null,"","",{"$f":"IF(K1393=\"\",\"\",COUNTIF($K$7:K1393,\"ﾘｽﾄ１\"))","v":""},"","","","","","","",{"$f":"IF(S1393=\"\",\"\",COUNTIF($S$7:S1393,\"該当２\"))","v":""},"","",{"$f":"IF(V1393=\"\",\"\",COUNTIF($V$7:V1393,\"該当３\"))","v":""}]
[2020401011,20,{"v":204,"d":"204 "},{"v":1,"d":"01 "},{"v":11,"d":"011 "},"長野県","岡谷市","岡谷市（旧）","小井川",null,"","",{"$f":"IF(K1398=\"\",\"\",COUNTIF($K$7:K1398,\"ﾘｽﾄ１\"))","v":""},"","","","","","","",{"$f":"IF(S1398=\"\",\"\",COUNTIF($S$7:S1398,\"該当２\"))","v":""},"","",{"$f":"IF(V1398=\"\",\"\",COUNTIF($V$7:V1398,\"該当３\"))","v":""}]
[2020402003,20,{"v":204,"d":"204 "},{"v":2,"d":"02 "},{"v":3,"d":"003 "},"長野県","岡谷市","湊村","花岡",null,"","",{"$f":"IF(K1403=\"\",\"\",COUNTIF($K$7:K1403,\"ﾘｽﾄ１\"))","v":""},"","","","","","","",{"$f":"IF(S1403=\"\",\"\",COUNTIF($S$7:S1403,\"該当２\"))","v":""},"","",{"$f":"IF(V1403=\"\",\"\",COUNTIF($V$7:V1403,\"該当３\"))","v":""}]
[2020403002,20,{"v":204,"d":"204 "},{"v":3,"d":"03 "},{"v":2,"d":"002 "},"長野県","岡谷市","川岸村","丸山，澤，塩坪",null,"","",{"$f":"IF(K1406=\"\",\"\",COUNTIF($K$7:K1406,\"ﾘｽﾄ１\"))","v":""},"","","","","","","",{"$f":"IF(S1406=\"\",\"\",COUNTIF($S$7:S1406,\"該当２\"))","v":""},"","",{"$f":"IF(V1406=\"\",\"\",COUNTIF($V$7:V1406,\"該当３\"))","v":""}]
[2020403006,20,{"v":204,"d":"204 "},{"v":3,"d":"03 "},{"v":6,"d":"006 "},"長野県","岡谷市","川岸村","橋原",null,"","",{"$f":"IF(K1410=\"\",\"\",COUNTIF($K$7:K1410,\"ﾘｽﾄ１\"))","v":""},"","","","","","","",{"$f":"IF(S1410=\"\",\"\",COUNTIF($S$7:S1410,\"該当２\"))","v":""},"","",{"$f":"IF(V1410=\"\",\"\",COUNTIF($V$7:V1410,\"該当３\"))","v":""}]
[2020404004,20,{"v":204,"d":"204 "},{"v":4,"d":"04 "},{"v":4,"d":"004 "},"長野県","岡谷市","長地村２－１","横川",null,"","",{"$f":"IF(K1415=\"\",\"\",COUNTIF($K$7:K1415,\"ﾘｽﾄ１\"))","v":""},"","","","","","","",{"$f":"IF(S1415=\"\",\"\",COUNTIF($S$7:S1415,\"該当２\"))","v":""},"","",{"$f":"IF(V1415=\"\",\"\",COUNTIF($V$7:V1415,\"該当３\"))","v":""}]
[2020501003,20,{"v":205,"d":"205 "},{"v":1,"d":"01 "},{"v":3,"d":"003 "},"長野県","飯田市","飯田市（旧）","羽場中央",null,"","",{"$f":"IF(K1420=\"\",\"\",COUNTIF($K$7:K1420,\"ﾘｽﾄ１\"))","v":""},"","","","","","","",{"$f":"IF(S1420=\"\",\"\",COUNTIF($S$7:S1420,\"該当２\"))","v":""},"","",{"$f":"IF(V1420=\"\",\"\",COUNTIF($V$7:V1420,\"該当３\"))","v":""}]
[2020501007,20,{"v":205,"d":"205 "},{"v":1,"d":"01 "},{"v":7,"d":"007 "},"長野県","飯田市","飯田市（旧）","羽場９，１０区",null,"","",{"$f":"IF(K1424=\"\",\"\",COUNTIF($K$7:K1424,\"ﾘｽﾄ１\"))","v":""},"","","","","","","",{"$f":"IF(S1424=\"\",\"\",COUNTIF($S$7:S1424,\"該当２\"))","v":""},"","",{"$f":"IF(V1424=\"\",\"\",COUNTIF($V$7:V1424,\"該当３\"))","v":""}]
[2020501010,20,{"v":205,"d":"205 "},{"v":1,"d":"01 "},{"v":10,"d":"010 "},"長野県","飯田市","飯田市（旧）","丸山１区",null,"","",{"$f":"IF(K1427=\"\",\"\",COUNTIF($K$7:K1427,\"ﾘｽﾄ１\"))","v":""},"","","","","","","",{"$f":"IF(S1427=\"\",\"\",COUNTIF($S$7:S1427,\"該当２\"))","v":""},"","",{"$f":"IF(V1427=\"\",\"\",COUNTIF($V$7:V1427,\"該当３\"))","v":""}]
[2020501015,20,{"v":205,"d":"205 "},{"v":1,"d":"01 "},{"v":15,"d":"015 "},"長野県","飯田市","飯田市（旧）","高田・羽根垣外",null,"","",{"$f":"IF(K1432=\"\",\"\",COUNTIF($K$7:K1432,\"ﾘｽﾄ１\"))","v":""},"","","","","","","",{"$f":"IF(S1432=\"\",\"\",COUNTIF($S$7:S1432,\"該当２\"))","v":""},"","",{"$f":"IF(V1432=\"\",\"\",COUNTIF($V$7:V1432,\"該当３\"))","v":""}]
[2020501020,20,{"v":205,"d":"205 "},{"v":1,"d":"01 "},{"v":20,"d":"020 "},"長野県","飯田市","飯田市（旧）","吉政",null,"","",{"$f":"IF(K1437=\"\",\"\",COUNTIF($K$7:K1437,\"ﾘｽﾄ１\"))","v":""},"","","","","","","",{"$f":"IF(S1437=\"\",\"\",COUNTIF($S$7:S1437,\"該当２\"))","v":""},"","",{"$f":"IF(V1437=\"\",\"\",COUNTIF($V$7:V1437,\"該当３\"))","v":""}]
[2020502000,20,{"v":205,"d":"205 "},{"v":2,"d":"02 "},{"v":0,"d":"000 "},"長野県","飯田市","竜丘村",null,null,"","",{"$f":"IF(K1438=\"\",\"\",COUNTIF($K$7:K1438,\"ﾘｽﾄ１\"))","v":""},"","","","","","","",{"$f":"IF(S1438=\"\",\"\",COUNTIF($S$7:S1438,\"該当２\"))","v":""},"","",{"$f":"IF(V1438=\"\",\"\",COUNTIF($V$7:V1438,\"該当３\"))","v":""}]
[2020502006,20,{"v":205,"d":"205 "},{"v":2,"d":"02 "},{"v":6,"d":"006 "},"長野県","飯田市","竜丘村","北平",null,"","",{"$f":"IF(K1444=\"\",\"\",COUNTIF($K$7:K1444,\"ﾘｽﾄ１\"))","v":""},"","","","","","","",{"$f":"IF(S1444=\"\",\"\",COUNTIF($S$7:S1444,\"該当２\"))","v":""},"","",{"$f":"IF(V1444=\"\",\"\",COUNTIF($V$7:V1444,\"該当３\"))","v":""}]
[2020502011,20,{"v":205,"d":"205 "},{"v":2,"d":"02 "},{"v":11,"d":"011 "},"長野県","飯田市","竜丘村","小池",null,"","",{"$f":"IF(K1449=\"\",\"\",COUNTIF($K$7:K1449,\"ﾘｽﾄ１\"))","v":""},"","","","","","","",{"$f":"IF(S1449=\"\",\"\",COUNTIF($S$7:S1449,\"該当２\"))","v":""},"","",{"$f":"IF(V1449=\"\",\"\",COUNTIF($V$7:V1449,\"該当３\"))","v":""}]
[2020502016,20,{"v":205,"d":"205 "},{"v":2,"d":"02 "},{"v":16,"d":"016 "},"長野県","飯田市","竜丘村","古瀬",null,"","",{"$f":"IF(K1454=\"\",\"\",COUNTIF($K$7:K1454,\"ﾘｽﾄ１\"))","v":""},"","","","","","","",{"$f":"IF(S1454=\"\",\"\",COUNTIF($S$7:S1454,\"該当２\"))","v":""},"","",{"$f":"IF(V1454=\"\",\"\",COUNTIF($V$7:V1454,\"該当３\"))","v":""}]
[2020502018,20,{"v":205,"d":"205 "},{"v":2,"d":"02 "},{"v":18,"d":"018 "},"長野県","飯田市","竜丘村","上川路中央",null,"","",{"$f":"IF(K1456=\"\",\"\",COUNTIF($K$7:K1456,\"ﾘｽﾄ１\"))","v":""},"","","","","","","",{"$f":"IF(S1456=\"\",\"\",COUNTIF($S$7:S1456,\"該当２\"))","v":""},"","",{"$f":"IF(V1456=\"\",\"\",COUNTIF($V$7:V1456,\"該当３\"))","v":""}]
[2020503002,20,{"v":205,"d":"205 "},{"v":3,"d":"03 "},{"v":2,"d":"002 "},"長野県","飯田市","下久堅村","亀平",null,"","",{"$f":"IF(K1461=\"\",\"\",COUNTIF($K$7:K1461,\"ﾘｽﾄ１\"))","v":""},"","","","","","","",{"$f":"IF(S1461=\"\",\"\",COUNTIF($S$7:S1461,\"該当２\"))","v":""},"","",{"$f":"IF(V1461=\"\",\"\",COUNTIF($V$7:V1461,\"該当３\"))","v":""}]
[2020503007,20,{"v":205,"d":"205 "},{"v":3,"d":"03 "},{"v":7,"d":"007 "},"長野県","飯田市","下久堅村","南原第１",null,"","",{"$f":"IF(K1466=\"\",\"\",COUNTIF($K$7:K1466,\"ﾘｽﾄ１\"))","v":""},"","","","","","","",{"$f":"IF(S1466=\"\",\"\",COUNTIF($S$7:S1466,\"該当２\"))","v":""},"","",{"$f":"IF(V1466=\"\",\"\",COUNTIF($V$7:V1466,\"該当３\"))","v":""}]
[2020503012,20,{"v":205,"d":"205 "},{"v":3,"d":"03 "},{"v":12,"d":"012 "},"長野県","飯田市","下久堅村","小林",null,"","",{"$f":"IF(K1471=\"\",\"\",COUNTIF($K$7:K1471,\"ﾘｽﾄ１\"))","v":""},"","","","","","","",{"$f":"IF(S1471=\"\",\"\",COUNTIF($S$7:S1471,\"該当２\"))","v":""},"","",{"$f":"IF(V1471=\"\",\"\",COUNTIF($V$7:V1471,\"該当３\"))","v":""}]
[2020503016,20,{"v":205,"d":"205 "},{"v":3,"d":"03 "},{"v":16,"d":"016 "},"長野県","飯田市","下久堅村","柿ノ沢南",null,"","",{"$f":"IF(K1475=\"\",\"\",COUNTIF($K$7:K1475,\"ﾘｽﾄ１\"))","v":""},"","","","","","","",{"$f":"IF(S1475=\"\",\"\",COUNTIF($S$7:S1475,\"該当２\"))","v":""},"","",{"$f":"IF(V1475=\"\",\"\",COUNTIF($V$7:V1475,\"該当３\"))","v":""}]
[2020503019,20,{"v":205,"d":"205 "},{"v":3,"d":"03 "},{"v":19,"d":"019 "},"長野県","飯田市","下久堅村","サガ坂",null,"","",{"$f":"IF(K1478=\"\",\"\",COUNTIF($K$7:K1478,\"ﾘｽﾄ１\"))","v":""},"","","","","","","",{"$f":"IF(S1478=\"\",\"\",COUNTIF($S$7:S1478,\"該当２\"))","v":""},"","",{"$f":"IF(V1478=\"\",\"\",COUNTIF($V$7:V1478,\"該当３\"))","v":""}]
[2020503024,20,{"v":205,"d":"205 "},{"v":3,"d":"03 "},{"v":24,"d":"024 "},"長野県","飯田市","下久堅村","長久保",null,{"$f":"IF(AND($C1483>0,$H1483=\"\"),\"ﾘｽﾄ１\",\"\")","v":""},{"$f":"IF(K1483=\"ﾘｽﾄ１\",G1483,\"\")","v":""},{"$f":"IF(K1483=\"\",\"\",COUNTIF($K$7:K1483,\"ﾘｽﾄ１\"))","v":""},{"$f":"IF(AND(D1483=0,E1483>0),\"同一区\",\"\")","v":""},{"$f":"IF(AND(EXACT($K$2,G1483),H1483>0),\"該当１\",\"\")","v":""},"","","",{"$f":"IF(AND(Q1483=\"ﾘｽﾄ2\",OR(I1483=0,AND(N1483=\"同一区\",E1483=1))),\"該当２\",\"\")","v":""},"",{"$f":"IF(S1483=\"\",\"\",COUNTIF($S$7:S1483,\"該当２\"))","v":""},"","",{"$f":"IF(V1483=\"\",\"\",COUNTIF($V$7:V1483,\"該当３\"))","v":""}]
[2020504001,20,{"v":205,"d":"205 "},{"v":4,"d":"04 "},{"v":1,"d":"001 "},"長野県","飯田市","座光寺村","宮の前",null,"","",{"$f":"IF(K1488=\"\",\"\",COUNTIF($K$7:K1488,\"ﾘｽﾄ１\"))","v":""},"","","","","","","",{"$f":"IF(S1488=\"\",\"\",COUNTIF($S$7:S1488,\"該当２\"))","v":""},"","",{"$f":"IF(V1488=\"\",\"\",COUNTIF($V$7:V1488,\"該当３\"))","v":""}]
[2020504006,20,{"v":205,"d":"205 "},{"v":4,"d":"04 "},{"v":6,"d":"006 "},"長野県","飯田市","座光寺村","河原",null,"","",{"$f":"IF(K1493=\"\",\"\",COUNTIF($K$7:K1493,\"ﾘｽﾄ１\"))","v":""},"","","","","","","",{"$f":"IF(S1493=\"\",\"\",COUNTIF($S$7:S1493,\"該当２\"))","v":""},"","",{"$f":"IF(V1493=\"\",\"\",COUNTIF($V$7:V1493,\"該当３\"))","v":""}]
[2020504008,20,{"v":205,"d":"205 "},{"v":4,"d":"04 "},{"v":8,"d":"008 "},"長野県","飯田市","座光寺村","恒川",null,"","",{"$f":"IF(K1495=\"\",\"\",COUNTIF($K$7:K1495,\"ﾘｽﾄ１\"))","v":""},"","","","","","","",{"$f":"IF(S1495=\"\",\"\",COUNTIF($S$7:S1495,\"該当２\"))","v":""},"","",{"$f":"IF(V1495=\"\",\"\",COUNTIF($V$7:V1495,\"該当３\"))","v":""}]
[2020504013,20,{"v":205,"d":"205 "},{"v":4,"d":"04 "},{"v":13,"d":"013 "},"長野県","飯田市","座光寺村","原",null,"","",{"$f":"IF(K1500=\"\",\"\",COUNTIF($K$7:K1500,\"ﾘｽﾄ１\"))","v":""},"","","","","","","",{"$f":"IF(S1500=\"\",\"\",COUNTIF($S$7:S1500,\"該当２\"))","v":""},"","",{"$f":"IF(V1500=\"\",\"\",COUNTIF($V$7:V1500,\"該当３\"))","v":""}]
[2020505002,20,{"v":205,"d":"205 "},{"v":5,"d":"05 "},{"v":2,"d":"002 "},"長野県","飯田市","松尾村","久井",null,"","",{"$f":"IF(K1505=\"\",\"\",COUNTIF($K$7:K1505,\"ﾘｽﾄ１\"))","v":""},"","","","","","","",{"$f":"IF(S1505=\"\",\"\",COUNTIF($S$7:S1505,\"該当２\"))","v":""},"","",{"$f":"IF(V1505=\"\",\"\",COUNTIF($V$7:V1505,\"該当３\"))","v":""}]
[2020505004,20,{"v":205,"d":"205 "},{"v":5,"d":"05 "},{"v":4,"d":"004 "},"長野県","飯田市","松尾村","新井",null,"","",{"$f":"IF(K1507=\"\",\"\",COUNTIF($K$7:K1507,\"ﾘｽﾄ１\"))","v":""},"","","","","","","",{"$f":"IF(S1507=\"\",\"\",COUNTIF($S$7:S1507,\"該当２\"))","v":""},"","",{"$f":"IF(V1507=\"\",\"\",COUNTIF($V$7:V1507,\"該当３\"))","v":""}]
[2020505009,20,{"v":205,"d":"205 "},{"v":5,"d":"05 "},{"v":9,"d":"009 "},"長野県","飯田市","松尾村","八幡",null,"","",{"$f":"IF(K1512=\"\",\"\",COUNTIF($K$7:K1512,\"ﾘｽﾄ１\"))","v":""},"","","","","","","",{"$f":"IF(S1512=\"\",\"\",COUNTIF($S$7:S1512,\"該当２\"))","v":""},"","",{"$f":"IF(V1512=\"\",\"\",COUNTIF($V$7:V1512,\"該当３\"))","v":""}]
[2020506002,20,{"v":205,"d":"205 "},{"v":6,"d":"06 "},{"v":2,"d":"002 "},"長野県","飯田市","山本村","大明神",null,"","",{"$f":"IF(K1517=\"\",\"\",COUNTIF($K$7:K1517,\"ﾘｽﾄ１\"))","v":""},"","","","","","","",{"$f":"IF(S1517=\"\",\"\",COUNTIF($S$7:S1517,\"該当２\"))","v":""},"","",{"$f":"IF(V1517=\"\",\"\",COUNTIF($V$7:V1517,\"該当３\"))","v":""}]
[2020506007,20,{"v":205,"d":"205 "},{"v":6,"d":"06 "},{"v":7,"d":"007 "},"長野県","飯田市","山本村","東二",null,"","",{"$f":"IF(K1522=\"\",\"\",COUNTIF($K$7:K1522,\"ﾘｽﾄ１\"))","v":""},"","","","","","","",{"$f":"IF(S1522=\"\",\"\",COUNTIF($S$7:S1522,\"該当２\"))","v":""},"","",{"$f":"IF(V1522=\"\",\"\",COUNTIF($V$7:V1522,\"該当３\"))","v":""}]
[2020506010,20,{"v":205,"d":"205 "},{"v":6,"d":"06 "},{"v":10,"d":"010 "},"長野県","飯田市","山本村","西平",null,"","",{"$f":"IF(K1525=\"\",\"\",COUNTIF($K$7:K1525,\"ﾘｽﾄ１\"))","v":""},"","","","","","","",{"$f":"IF(S1525=\"\",\"\",COUNTIF($S$7:S1525,\"該当２\"))","v":""},"","",{"$f":"IF(V1525=\"\",\"\",COUNTIF($V$7:V1525,\"該当３\"))","v":""}]
[2020506014,20,{"v":205,"d":"205 "},{"v":6,"d":"06 "},{"v":14,"d":"014 "},"長野県","飯田市","山本村","南二",null,"","",{"$f":"IF(K1529=\"\",\"\",COUNTIF($K$7:K1529,\"ﾘｽﾄ１\"))","v":""},"","","","","","","",{"$f":"IF(S1529=\"\",\"\",COUNTIF($S$7:S1529,\"該当２\"))","v":""},"","",{"$f":"IF(V1529=\"\",\"\",COUNTIF($V$7:V1529,\"該当３\"))","v":""}]
[2020506019,20,{"v":205,"d":"205 "},{"v":6,"d":"06 "},{"v":19,"d":"019 "},"長野県","飯田市","山本村","竹佐沖平",null,"","",{"$f":"IF(K1534=\"\",\"\",COUNTIF($K$7:K1534,\"ﾘｽﾄ１\"))","v":""},"","","","","","","",{"$f":"IF(S1534=\"\",\"\",COUNTIF($S$7:S1534,\"該当２\"))","v":""},"","",{"$f":"IF(V1534=\"\",\"\",COUNTIF($V$7:V1534,\"該当３\"))","v":""}]
[2020506024,20,{"v":205,"d":"205 "},{"v":6,"d":"06 "},{"v":24,"d":"024 "},"長野県","飯田市","山本村","久米西",null,"","",{"$f":"IF(K1539=\"\",\"\",COUNTIF($K$7:K1539,\"ﾘｽﾄ１\"))","v":""},"","","","","","","",{"$f":"IF(S1539=\"\",\"\",COUNTIF($S$7:S1539,\"該当２\"))","v":""},"","",{"$f":"IF(V1539=\"\",\"\",COUNTIF($V$7:V1539,\"該当３\"))","v":""}]
[2020507002,20,{"v":205,"d":"205 "},{"v":7,"d":"07 "},{"v":2,"d":"002 "},"長野県","飯田市","三穂村","第２組合",null,"","",{"$f":"IF(K1544=\"\",\"\",COUNTIF($K$7:K1544,\"ﾘｽﾄ１\"))","v":""},"","","","","","","",{"$f":"IF(S1544=\"\",\"\",COUNTIF($S$7:S1544,\"該当２\"))","v":""},"","",{"$f":"IF(V1544=\"\",\"\",COUNTIF($V$7:V1544,\"該当３\"))","v":""}]
[2020507004,20,{"v":205,"d":"205 "},{"v":7,"d":"07 "},{"v":4,"d":"004 "},"長野県","飯田市","三穂村","第４組合",null,"","",{"$f":"IF(K1546=\"\",\"\",COUNTIF($K$7:K1546,\"ﾘｽﾄ１\"))","v":""},"","",{"$f":"IF(O1546=\"該当１\",G1546,\"\")","v":""},{"$f":"IF(O1546=\"該当１\",\"ﾘｽﾄ2\",\"\")","v":""},{"$f":"IF(Q1546=\"ﾘｽﾄ2\",H1546,\"\")","v":""},"",{"$f":"IF(S1546=\"該当２\",H1546,\"\")","v":""},{"$f":"IF(S1546=\"\",\"\",COUNTIF($S$7:S1546,\"該当２\"))","v":""},{"$f":"IF(AND($S$2=H1546,E1546>0,E1546<998),\"該当３\",\"\")","v":""},{"$f":"IF(V1546=\"該当３\",I1546,\"\")","v":""},{"$f":"IF(V1546=\"\",\"\",COUNTIF($V$7:V1546,\"該当３\"))","v":""}]
[2020507009,20,{"v":205,"d":"205 "},{"v":7,"d":"07 "},{"v":9,"d":"009 "},"長野県","飯田市","三穂村","第９組合",null,"","",{"$f":"IF(K1551=\"\",\"\",COUNTIF($K$7:K1551,\"ﾘｽﾄ１\"))","v":""},"","","","","","","",{"$f":"IF(S1551=\"\",\"\",COUNTIF($S$7:S1551,\"該当２\"))","v":""},"","",{"$f":"IF(V1551=\"\",\"\",COUNTIF($V$7:V1551,\"該当３\"))","v":""}]
[2020508000,20,{"v":205,"d":"205 "},{"v":8,"d":"08 "},{"v":0,"d":"000 "},"長野県","飯田市","伊賀良村",null,null,"","",{"$f":"IF(K1556=\"\",\"\",COUNTIF($K$7:K1556,\"ﾘｽﾄ１\"))","v":""},"","","","","","","",{"$f":"IF(S1556=\"\",\"\",COUNTIF($S$7:S1556,\"該当２\"))","v":""},"","",{"$f":"IF(V1556=\"\",\"\",COUNTIF($V$7:V1556,\"該当３\"))","v":""}]
[2020508002,20,{"v":205,"d":"205 "},{"v":8,"d":"08 "},{"v":2,"d":"002 "},"長野県","飯田市","伊賀良村","上殿岡",null,"","",{"$f":"IF(K1558=\"\",\"\",COUNTIF($K$7:K1558,\"ﾘｽﾄ１\"))","v":""},"","","","","","","",{"$f":"IF(S1558=\"\",\"\",COUNTIF($S$7:S1558,\"該当２\"))","v":""},"","",{"$f":"IF(V1558=\"\",\"\",COUNTIF($V$7:V1558,\"該当３\"))","v":""}]
[2020508007,20,{"v":205,"d":"205 "},{"v":8,"d":"08 "},{"v":7,"d":"007 "},"長野県","飯田市","伊賀良村","北方西の原",null,"","",{"$f":"IF(K1563=\"\",\"\",COUNTIF($K$7:K1563,\"ﾘｽﾄ１\"))","v":""},"","","","","","","",{"$f":"IF(S1563=\"\",\"\",COUNTIF($S$7:S1563,\"該当２\"))","v":""},"","",{"$f":"IF(V1563=\"\",\"\",COUNTIF($V$7:V1563,\"該当３\"))","v":""}]
[2020508012,20,{"v":205,"d":"205 "},{"v":8,"d":"08 "},{"v":12,"d":"012 "},"長野県","飯田市","伊賀良村","北方大原",null,"","",{"$f":"IF(K1568=\"\",\"\",COUNTIF($K$7:K1568,\"ﾘｽﾄ１\"))","v":""},"","","","","","","",{"$f":"IF(S1568=\"\",\"\",COUNTIF($S$7:S1568,\"該当２\"))","v":""},"","",{"$f":"IF(V1568=\"\",\"\",COUNTIF($V$7:V1568,\"該当３\"))","v":""}]
[2020508017,20,{"v":205,"d":"205 "},{"v":8,"d":"08 "},{"v":17,"d":"017 "},"長野県","飯田市","伊賀良村","大瀬木大東",null,"","",{"$f":"IF(K1573=\"\",\"\",COUNTIF($K$7:K1573,\"ﾘｽﾄ１\"))","v":""},"","","","","","","",{"$f":"IF(S1573=\"\",\"\",COUNTIF($S$7:S1573,\"該当２\"))","v":""},"","",{"$f":"IF(V1573=\"\",\"\",COUNTIF($V$7:V1573,\"該当３\"))","v":""}]
[2020508020,20,{"v":205,"d":"205 "},{"v":8,"d":"08 "},{"v":20,"d":"020 "},"長野県","飯田市","伊賀良村","大瀬木滝沢",null,"","",{"$f":"IF(K1576=\"\",\"\",COUNTIF($K$7:K1576,\"ﾘｽﾄ１\"))","v":""},"","","","","","","",{"$f":"IF(S1576=\"\",\"\",COUNTIF($S$7:S1576,\"該当２\"))","v":""},"","",{"$f":"IF(V1576=\"\",\"\",COUNTIF($V$7:V1576,\"該当３\"))","v":""}]
[2020508024,20,{"v":205,"d":"205 "},{"v":8,"d":"08 "},{"v":24,"d":"024 "},"長野県","飯田市","伊賀良村","大瀬木鳥屋同志",null,"","",{"$f":"IF(K1580=\"\",\"\",COUNTIF($K$7:K1580,\"ﾘｽﾄ１\"))","v":""},"","","","","","","",{"$f":"IF(S1580=\"\",\"\",COUNTIF($S$7:S1580,\"該当２\"))","v":""},"","",{"$f":"IF(V1580=\"\",\"\",COUNTIF($V$7:V1580,\"該当３\"))","v":""}]
[2020508029,20,{"v":205,"d":"205 "},{"v":8,"d":"08 "},{"v":29,"d":"029 "},"長野県","飯田市","伊賀良村","中村中川",null,"","",{"$f":"IF(K1585=\"\",\"\",COUNTIF($K$7:K1585,\"ﾘｽﾄ１\"))","v":""},"","","","","","","",{"$f":"IF(S1585=\"\",\"\",COUNTIF($S$7:S1585,\"該当２\"))","v":""},"","",{"$f":"IF(V1585=\"\",\"\",COUNTIF($V$7:V1585,\"該当３\"))","v":""}]
[2020509002,20,{"v":205,"d":"205 "},{"v":9,"d":"09 "},{"v":2,"d":"002 "},"長野県","飯田市","川路村","三区",null,"","",{"$f":"IF(K1590=\"\",\"\",COUNTIF($K$7:K1590,\"ﾘｽﾄ１\"))","v":""},"","","","","","","",{"$f":"IF(S1590=\"\",\"\",COUNTIF($S$7:S1590,\"該当２\"))","v":""},"","",{"$f":"IF(V1590=\"\",\"\",COUNTIF($V$7:V1590,\"該当３\"))","v":""}]
[2020509007,20,{"v":205,"d":"205 "},{"v":9,"d":"09 "},{"v":7,"d":"007 "},"長野県","飯田市","川路村","八区",null,"","",{"$f":"IF(K1595=\"\",\"\",COUNTIF($K$7:K1595,\"ﾘｽﾄ１\"))","v":""},"","","","","","","",{"$f":"IF(S1595=\"\",\"\",COUNTIF($S$7:S1595,\"該当２\"))","v":""},"","",{"$f":"IF(V1595=\"\",\"\",COUNTIF($V$7:V1595,\"該当３\"))","v":""}]
[2020510001,20,{"v":205,"d":"205 "},{"v":10,"d":"10 "},{"v":1,"d":"001 "},"長野県","飯田市","千代村","田力",null,"","",{"$f":"IF(K1597=\"\",\"\",COUNTIF($K$7:K1597,\"ﾘｽﾄ１\"))","v":""},"","","","","","","",{"$f":"IF(S1597=\"\",\"\",COUNTIF($S$7:S1597,\"該当２\"))","v":""},"","",{"$f":"IF(V1597=\"\",\"\",COUNTIF($V$7:V1597,\"該当３\"))","v":""}]
[2020510006,20,{"v":205,"d":"205 "},{"v":10,"d":"10 "},{"v":6,"d":"006 "},"長野県","飯田市","千代村","野池３",null,"","",{"$f":"IF(K1602=\"\",\"\",COUNTIF($K$7:K1602,\"ﾘｽﾄ１\"))","v":""},"","","","","","","",{"$f":"IF(S1602=\"\",\"\",COUNTIF($S$7:S1602,\"該当２\"))","v":""},"","",{"$f":"IF(V1602=\"\",\"\",COUNTIF($V$7:V1602,\"該当３\"))","v":""}]
[2020510011,20,{"v":205,"d":"205 "},{"v":10,"d":"10 "},{"v":11,"d":"011 "},"長野県","飯田市","千代村","法全寺３",null,"","",{"$f":"IF(K1607=\"\",\"\",COUNTIF($K$7:K1607,\"ﾘｽﾄ１\"))","v":""},"","","","","","","",{"$f":"IF(S1607=\"\",\"\",COUNTIF($S$7:S1607,\"該当２\"))","v":""},"","",{"$f":"IF(V1607=\"\",\"\",COUNTIF($V$7:V1607,\"該当３\"))","v":""}]
[2020510012,20,{"v":205,"d":"205 "},{"v":10,"d":"10 "},{"v":12,"d":"012 "},"長野県","飯田市","千代村","法全寺４",null,"","",{"$f":"IF(K1608=\"\",\"\",COUNTIF($K$7:K1608,\"ﾘｽﾄ１\"))","v":""},"","","","","","","",{"$f":"IF(S1608=\"\",\"\",COUNTIF($S$7:S1608,\"該当２\"))","v":""},"","",{"$f":"IF(V1608=\"\",\"\",COUNTIF($V$7:V1608,\"該当３\"))","v":""}]
[2020510018,20,{"v":205,"d":"205 "},{"v":10,"d":"10 "},{"v":18,"d":"018 "},"長野県","飯田市","千代村","大郡四",null,"","",{"$f":"IF(K1614=\"\",\"\",COUNTIF($K$7:K1614,\"ﾘｽﾄ１\"))","v":""},"","","","","","","",{"$f":"IF(S1614=\"\",\"\",COUNTIF($S$7:S1614,\"該当２\"))","v":""},"","",{"$f":"IF(V1614=\"\",\"\",COUNTIF($V$7:V1614,\"該当３\"))","v":""}]
[2020510023,20,{"v":205,"d":"205 "},{"v":10,"d":"10 "},{"v":23,"d":"023 "},"長野県","飯田市","千代村","毛呂窪４",null,"","",{"$f":"IF(K1619=\"\",\"\",COUNTIF($K$7:K1619,\"ﾘｽﾄ１\"))","v":""},"","","","","","","",{"$f":"IF(S1619=\"\",\"\",COUNTIF($S$7:S1619,\"該当２\"))","v":""},"","",{"$f":"IF(V1619=\"\",\"\",COUNTIF($V$7:V1619,\"該当３\"))","v":""}]
[2020510028,20,{"v":205,"d":"205 "},{"v":10,"d":"10 "},{"v":28,"d":"028 "},"長野県","飯田市","千代村","下村３",null,"","",{"$f":"IF(K1624=\"\",\"\",COUNTIF($K$7:K1624,\"ﾘｽﾄ１\"))","v":""},"","","","","","","",{"$f":"IF(S1624=\"\",\"\",COUNTIF($S$7:S1624,\"該当２\"))","v":""},"","",{"$f":"IF(V1624=\"\",\"\",COUNTIF($V$7:V1624,\"該当３\"))","v":""}]
[2020511002,20,{"v":205,"d":"205 "},{"v":11,"d":"11 "},{"v":2,"d":"002 "},"長野県","飯田市","竜江村","船渡",null,"","",{"$f":"IF(K1627=\"\",\"\",COUNTIF($K$7:K1627,\"ﾘｽﾄ１\"))","v":""},"","","","","","","",{"$f":"IF(S1627=\"\",\"\",COUNTIF($S$7:S1627,\"該当２\"))","v":""},"","",{"$f":"IF(V1627=\"\",\"\",COUNTIF($V$7:V1627,\"該当３\"))","v":""}]
[2020511006,20,{"v":205,"d":"205 "},{"v":11,"d":"11 "},{"v":6,"d":"006 "},"長野県","飯田市","竜江村","田中",null,"","",{"$f":"IF(K1631=\"\",\"\",COUNTIF($K$7:K1631,\"ﾘｽﾄ１\"))","v":""},"","","","","","","",{"$f":"IF(S1631=\"\",\"\",COUNTIF($S$7:S1631,\"該当２\"))","v":""},"","",{"$f":"IF(V1631=\"\",\"\",COUNTIF($V$7:V1631,\"該当３\"))","v":""}]
[2020511011,20,{"v":205,"d":"205 "},{"v":11,"d":"11 "},{"v":11,"d":"011 "},"長野県","飯田市","竜江村","太田",null,"","",{"$f":"IF(K1636=\"\",\"\",COUNTIF($K$7:K1636,\"ﾘｽﾄ１\"))","v":""},"","","","","","","",{"$f":"IF(S1636=\"\",\"\",COUNTIF($S$7:S1636,\"該当２\"))","v":""},"","",{"$f":"IF(V1636=\"\",\"\",COUNTIF($V$7:V1636,\"該当３\"))","v":""}]
[2020511016,20,{"v":205,"d":"205 "},{"v":11,"d":"11 "},{"v":16,"d":"016 "},"長野県","飯田市","竜江村","椚平",null,"","",{"$f":"IF(K1641=\"\",\"\",COUNTIF($K$7:K1641,\"ﾘｽﾄ１\"))","v":""},"","","","","","","",{"$f":"IF(S1641=\"\",\"\",COUNTIF($S$7:S1641,\"該当２\"))","v":""},"","",{"$f":"IF(V1641=\"\",\"\",COUNTIF($V$7:V1641,\"該当３\"))","v":""}]
[2020511020,20,{"v":205,"d":"205 "},{"v":11,"d":"11 "},{"v":20,"d":"020 "},"長野県","飯田市","竜江村","宮沢",null,"","",{"$f":"IF(K1645=\"\",\"\",COUNTIF($K$7:K1645,\"ﾘｽﾄ１\"))","v":""},"","","","","","","",{"$f":"IF(S1645=\"\",\"\",COUNTIF($S$7:S1645,\"該当２\"))","v":""},"","",{"$f":"IF(V1645=\"\",\"\",COUNTIF($V$7:V1645,\"該当３\"))","v":""}]
[2020511023,20,{"v":205,"d":"205 "},{"v":11,"d":"11 "},{"v":23,"d":"023 "},"長野県","飯田市","竜江村","尾科",null,"","",{"$f":"IF(K1648=\"\",\"\",COUNTIF($K$7:K1648,\"ﾘｽﾄ１\"))","v":""},"","","","","","","",{"$f":"IF(S1648=\"\",\"\",COUNTIF($S$7:S1648,\"該当２\"))","v":""},"","",{"$f":"IF(V1648=\"\",\"\",COUNTIF($V$7:V1648,\"該当３\"))","v":""}]
[2020512004,20,{"v":205,"d":"205 "},{"v":12,"d":"12 "},{"v":4,"d":"004 "},"長野県","飯田市","上久堅村","越久保",null,"","",{"$f":"IF(K1653=\"\",\"\",COUNTIF($K$7:K1653,\"ﾘｽﾄ１\"))","v":""},"","","","","","","",{"$f":"IF(S1653=\"\",\"\",COUNTIF($S$7:S1653,\"該当２\"))","v":""},"","",{"$f":"IF(V1653=\"\",\"\",COUNTIF($V$7:V1653,\"該当３\"))","v":""}]
[2020512009,20,{"v":205,"d":"205 "},{"v":12,"d":"12 "},{"v":9,"d":"009 "},"長野県","飯田市","上久堅村","森",null,"","",{"$f":"IF(K1658=\"\",\"\",COUNTIF($K$7:K1658,\"ﾘｽﾄ１\"))","v":""},"","","","","","","",{"$f":"IF(S1658=\"\",\"\",COUNTIF($S$7:S1658,\"該当２\"))","v":""},"","",{"$f":"IF(V1658=\"\",\"\",COUNTIF($V$7:V1658,\"該当３\"))","v":""}]
[2020512010,20,{"v":205,"d":"205 "},{"v":12,"d":"12 "},{"v":10,"d":"010 "},"長野県","飯田市","上久堅村","小野子",null,"","",{"$f":"IF(K1659=\"\",\"\",COUNTIF($K$7:K1659,\"ﾘｽﾄ１\"))","v":""},"","","","","","","",{"$f":"IF(S1659=\"\",\"\",COUNTIF($S$7:S1659,\"該当２\"))","v":""},"","",{"$f":"IF(V1659=\"\",\"\",COUNTIF($V$7:V1659,\"該当３\"))","v":""}]
[2020513001,20,{"v":205,"d":"205 "},{"v":13,"d":"13 "},{"v":1,"d":"001 "},"長野県","飯田市","鼎町","下山",null,"","",{"$f":"IF(K1665=\"\",\"\",COUNTIF($K$7:K1665,\"ﾘｽﾄ１\"))","v":""},"","","","","","","",{"$f":"IF(S1665=\"\",\"\",COUNTIF($S$7:S1665,\"該当２\"))","v":""},"","",{"$f":"IF(V1665=\"\",\"\",COUNTIF($V$7:V1665,\"該当３\"))","v":""}]
[2020513006,20,{"v":205,"d":"205 "},{"v":13,"d":"13 "},{"v":6,"d":"006 "},"長野県","飯田市","鼎町","切石",null,"","",{"$f":"IF(K1670=\"\",\"\",COUNTIF($K$7:K1670,\"ﾘｽﾄ１\"))","v":""},"","","","","","","",{"$f":"IF(S1670=\"\",\"\",COUNTIF($S$7:S1670,\"該当２\"))","v":""},"","",{"$f":"IF(V1670=\"\",\"\",COUNTIF($V$7:V1670,\"該当３\"))","v":""}]
[2020514001,20,{"v":205,"d":"205 "},{"v":14,"d":"14 "},{"v":1,"d":"001 "},"長野県","飯田市","上郷町","上黒田東",null,{"$f":"IF(AND($C1675>0,$H1675=\"\"),\"ﾘｽﾄ１\",\"\")","v":""},{"$f":"IF(K1675=\"ﾘｽﾄ１\",G1675,\"\")","v":""},{"$f":"IF(K1675=\"\",\"\",COUNTIF($K$7:K1675,\"ﾘｽﾄ１\"))","v":""},{"$f":"IF(AND(D1675=0,E1675>0),\"同一区\",\"\")","v":""},{"$f":"IF(AND(EXACT($K$2,G1675),H1675>0),\"該当１\",\"\")","v":""},"","","",{"$f":"IF(AND(Q1675=\"ﾘｽﾄ2\",OR(I1675=0,AND(N1675=\"同一区\",E1675=1))),\"該当２\",\"\")","v":""},"",{"$f":"IF(S1675=\"\",\"\",COUNTIF($S$7:S1675,\"該当２\"))","v":""},"","",{"$f":"IF(V1675=\"\",\"\",COUNTIF($V$7:V1675,\"該当３\"))","v":""}]
[2020514003,20,{"v":205,"d":"205 "},{"v":14,"d":"14 "},{"v":3,"d":"003 "},"長野県","飯田市","上郷町","棚田上",null,"","",{"$f":"IF(K1677=\"\",\"\",COUNTIF($K$7:K1677,\"ﾘｽﾄ１\"))","v":""},"","","","","","","",{"$f":"IF(S1677=\"\",\"\",COUNTIF($S$7:S1677,\"該当２\"))","v":""},"","",{"$f":"IF(V1677=\"\",\"\",COUNTIF($V$7:V1677,\"該当３\"))","v":""}]
[2020514008,20,{"v":205,"d":"205 "},{"v":14,"d":"14 "},{"v":8,"d":"008 "},"長野県","飯田市","上郷町","下黒田西",null,"","",{"$f":"IF(K1682=\"\",\"\",COUNTIF($K$7:K1682,\"ﾘｽﾄ１\"))","v":""},"","","","","","","",{"$f":"IF(S1682=\"\",\"\",COUNTIF($S$7:S1682,\"該当２\"))","v":""},"","",{"$f":"IF(V1682=\"\",\"\",COUNTIF($V$7:V1682,\"該当３\"))","v":""}]
[2020514013,20,{"v":205,"d":"205 "},{"v":14,"d":"14 "},{"v":13,"d":"013 "},"長野県","飯田市","上郷町","清水",null,"","",{"$f":"IF(K1687=\"\",\"\",COUNTIF($K$7:K1687,\"ﾘｽﾄ１\"))","v":""},"","","","","","","",{"$f":"IF(S1687=\"\",\"\",COUNTIF($S$7:S1687,\"該当２\"))","v":""},"","",{"$f":"IF(V1687=\"\",\"\",COUNTIF($V$7:V1687,\"該当３\"))","v":""}]
[2020514018,20,{"v":205,"d":"205 "},{"v":14,"d":"14 "},{"v":18,"d":"018 "},"長野県","飯田市","上郷町","飯沼南",null,"","",{"$f":"IF(K1692=\"\",\"\",COUNTIF($K$7:K1692,\"ﾘｽﾄ１\"))","v":""},"","","","","","","",{"$f":"IF(S1692=\"\",\"\",COUNTIF($S$7:S1692,\"該当２\"))","v":""},"","",{"$f":"IF(V1692=\"\",\"\",COUNTIF($V$7:V1692,\"該当３\"))","v":""}]
[2020514022,20,{"v":205,"d":"205 "},{"v":14,"d":"14 "},{"v":22,"d":"022 "},"長野県","飯田市","上郷町","高屋",null,"","",{"$f":"IF(K1696=\"\",\"\",COUNTIF($K$7:K1696,\"ﾘｽﾄ１\"))","v":""},"","","","","","","",{"$f":"IF(S1696=\"\",\"\",COUNTIF($S$7:S1696,\"該当２\"))","v":""},"","",{"$f":"IF(V1696=\"\",\"\",COUNTIF($V$7:V1696,\"該当３\"))","v":""}]
[2020515000,20,{"v":205,"d":"205 "},{"v":15,"d":"15 "},{"v":0,"d":"000 "},"長野県","飯田市","上村",null,null,"","",{"$f":"IF(K1699=\"\",\"\",COUNTIF($K$7:K1699,\"ﾘｽﾄ１\"))","v":""},"","","","","","","",{"$f":"IF(S1699=\"\",\"\",COUNTIF($S$7:S1699,\"該当２\"))","v":""},"","",{"$f":"IF(V1699=\"\",\"\",COUNTIF($V$7:V1699,\"該当３\"))","v":""}]
[2020515005,20,{"v":205,"d":"205 "},{"v":15,"d":"15 "},{"v":5,"d":"005 "},"長野県","飯田市","上村","表町",null,"","",{"$f":"IF(K1704=\"\",\"\",COUNTIF($K$7:K1704,\"ﾘｽﾄ１\"))","v":""},"","","","","","","",{"$f":"IF(S1704=\"\",\"\",COUNTIF($S$7:S1704,\"該当２\"))","v":""},"","",{"$f":"IF(V1704=\"\",\"\",COUNTIF($V$7:V1704,\"該当３\"))","v":""}]
[2020515010,20,{"v":205,"d":"205 "},{"v":15,"d":"15 "},{"v":10,"d":"010 "},"長野県","飯田市","上村","屋敷",null,"","",{"$f":"IF(K1709=\"\",\"\",COUNTIF($K$7:K1709,\"ﾘｽﾄ１\"))","v":""},"","","","","","","",{"$f":"IF(S1709=\"\",\"\",COUNTIF($S$7:S1709,\"該当２\"))","v":""},"","",{"$f":"IF(V1709=\"\",\"\",COUNTIF($V$7:V1709,\"該当３\"))","v":""}]
[2020516003,20,{"v":205,"d":"205 "},{"v":16,"d":"16 "},{"v":3,"d":"003 "},"長野県","飯田市","木沢村","木沢",null,"","",{"$f":"IF(K1714=\"\",\"\",COUNTIF($K$7:K1714,\"ﾘｽﾄ１\"))","v":""},"","","","","","","",{"$f":"IF(S1714=\"\",\"\",COUNTIF($S$7:S1714,\"該当２\"))","v":""},"","",{"$f":"IF(V1714=\"\",\"\",COUNTIF($V$7:V1714,\"該当３\"))","v":""}]
[2020516005,20,{"v":205,"d":"205 "},{"v":16,"d":"16 "},{"v":5,"d":"005 "},"長野県","飯田市","木沢村","須沢",null,"","",{"$f":"IF(K1716=\"\",\"\",COUNTIF($K$7:K1716,\"ﾘｽﾄ１\"))","v":""},"","","","","","","",{"$f":"IF(S1716=\"\",\"\",COUNTIF($S$7:S1716,\"該当２\"))","v":""},"","",{"$f":"IF(V1716=\"\",\"\",COUNTIF($V$7:V1716,\"該当３\"))","v":""}]
[2020517001,20,{"v":205,"d":"205 "},{"v":17,"d":"17 "},{"v":1,"d":"001 "},"長野県","飯田市","和田村（飯田市）","押出",null,"","",{"$f":"IF(K1721=\"\",\"\",COUNTIF($K$7:K1721,\"ﾘｽﾄ１\"))","v":""},"","","","","","","",{"$f":"IF(S1721=\"\",\"\",COUNTIF($S$7:S1721,\"該当２\"))","v":""},"","",{"$f":"IF(V1721=\"\",\"\",COUNTIF($V$7:V1721,\"該当３\"))","v":""}]
[2020517006,20,{"v":205,"d":"205 "},{"v":17,"d":"17 "},{"v":6,"d":"006 "},"長野県","飯田市","和田村（飯田市）","新町",null,"","",{"$f":"IF(K1726=\"\",\"\",COUNTIF($K$7:K1726,\"ﾘｽﾄ１\"))","v":""},"","","","","","","",{"$f":"IF(S1726=\"\",\"\",COUNTIF($S$7:S1726,\"該当２\"))","v":""},"","",{"$f":"IF(V1726=\"\",\"\",COUNTIF($V$7:V1726,\"該当３\"))","v":""}]
[2020517008,20,{"v":205,"d":"205 "},{"v":17,"d":"17 "},{"v":8,"d":"008 "},"長野県","飯田市","和田村（飯田市）","大島",null,"","",{"$f":"IF(K1728=\"\",\"\",COUNTIF($K$7:K1728,\"ﾘｽﾄ１\"))","v":""},"","","","","","","",{"$f":"IF(S1728=\"\",\"\",COUNTIF($S$7:S1728,\"該当２\"))","v":""},"","",{"$f":"IF(V1728=\"\",\"\",COUNTIF($V$7:V1728,\"該当３\"))","v":""}]
[2020518003,20,{"v":205,"d":"205 "},{"v":18,"d":"18 "},{"v":3,"d":"003 "},"長野県","飯田市","八重河内村","梅平",null,"","",{"$f":"IF(K1733=\"\",\"\",COUNTIF($K$7:K1733,\"ﾘｽﾄ１\"))","v":""},"","","","","","","",{"$f":"IF(S1733=\"\",\"\",COUNTIF($S$7:S1733,\"該当２\"))","v":""},"","",{"$f":"IF(V1733=\"\",\"\",COUNTIF($V$7:V1733,\"該当３\"))","v":""}]
[2020519000,20,{"v":205,"d":"205 "},{"v":19,"d":"19 "},{"v":0,"d":"000 "},"長野県","飯田市","南和田村",null,null,"","",{"$f":"IF(K1738=\"\",\"\",COUNTIF($K$7:K1738,\"ﾘｽﾄ１\"))","v":""},"","",{"$f":"IF(O1738=\"該当１\",G1738,\"\")","v":""},{"$f":"IF(O1738=\"該当１\",\"ﾘｽﾄ2\",\"\")","v":""},{"$f":"IF(Q1738=\"ﾘｽﾄ2\",H1738,\"\")","v":""},"",{"$f":"IF(S1738=\"該当２\",H1738,\"\")","v":""},{"$f":"IF(S1738=\"\",\"\",COUNTIF($S$7:S1738,\"該当２\"))","v":""},{"$f":"IF(AND($S$2=H1738,E1738>0,E1738<998),\"該当３\",\"\")","v":""},{"$f":"IF(V1738=\"該当３\",I1738,\"\")","v":""},{"$f":"IF(V1738=\"\",\"\",COUNTIF($V$7:V1738,\"該当３\"))","v":""}]
[2020519005,20,{"v":205,"d":"205 "},{"v":19,"d":"19 "},{"v":5,"d":"005 "},"長野県","飯田市","南和田村","飯島",null,"","",{"$f":"IF(K1743=\"\",\"\",COUNTIF($K$7:K1743,\"ﾘｽﾄ１\"))","v":""},"","","","","","","",{"$f":"IF(S1743=\"\",\"\",COUNTIF($S$7:S1743,\"該当２\"))","v":""},"","",{"$f":"IF(V1743=\"\",\"\",COUNTIF($V$7:V1743,\"該当３\"))","v":""}]
[2020600000,20,{"v":206,"d":"206 "},{"v":0,"d":"00 "},{"v":0,"d":"000 "},"長野県","諏訪市",{"$nulls":3},"ﾘｽﾄ１","諏訪市",{"$f":"IF(K1746=\"\",\"\",COUNTIF($K$7:K1746,\"ﾘｽﾄ１\"))","v":6},"","","","","","","",{"$f":"IF(S1746=\"\",\"\",COUNTIF($S$7:S1746,\"該当２\"))","v":""},"","",{"$f":"IF(V1746=\"\",\"\",COUNTIF($V$7:V1746,\"該当３\"))","v":""}]
[2020601003,20,{"v":206,"d":"206 "},{"v":1,"d":"01 "},{"v":3,"d":"003 "},"長野県","諏訪市","諏訪市（旧）","湯之脇",null,"","",{"$f":"IF(K1750=\"\",\"\",COUNTIF($K$7:K1750,\"ﾘｽﾄ１\"))","v":""},"","","","","","","",{"$f":"IF(S1750=\"\",\"\",COUNTIF($S$7:S1750,\"該当２\"))","v":""},"","",{"$f":"IF(V1750=\"\",\"\",COUNTIF($V$7:V1750,\"該当３\"))","v":""}]
[2020601008,20,{"v":206,"d":"206 "},{"v":1,"d":"01 "},{"v":8,"d":"008 "},"長野県","諏訪市","諏訪市（旧）","渋崎",null,"","",{"$f":"IF(K1755=\"\",\"\",COUNTIF($K$7:K1755,\"ﾘｽﾄ１\"))","v":""},"","","","","","","",{"$f":"IF(S1755=\"\",\"\",COUNTIF($S$7:S1755,\"該当２\"))","v":""},"","",{"$f":"IF(V1755=\"\",\"\",COUNTIF($V$7:V1755,\"該当３\"))","v":""}]
[2020601013,20,{"v":206,"d":"206 "},{"v":1,"d":"01 "},{"v":13,"d":"013 "},"長野県","諏訪市","諏訪市（旧）","湯小路",null,"","",{"$f":"IF(K1760=\"\",\"\",COUNTIF($K$7:K1760,\"ﾘｽﾄ１\"))","v":""},"","","","","","","",{"$f":"IF(S1760=\"\",\"\",COUNTIF($S$7:S1760,\"該当２\"))","v":""},"","",{"$f":"IF(V1760=\"\",\"\",COUNTIF($V$7:V1760,\"該当３\"))","v":""}]
[2020601018,20,{"v":206,"d":"206 "},{"v":1,"d":"01 "},{"v":18,"d":"018 "},"長野県","諏訪市","諏訪市（旧）","北沢",null,"","",{"$f":"IF(K1765=\"\",\"\",COUNTIF($K$7:K1765,\"ﾘｽﾄ１\"))","v":""},"","","","","","","",{"$f":"IF(S1765=\"\",\"\",COUNTIF($S$7:S1765,\"該当２\"))","v":""},"","",{"$f":"IF(V1765=\"\",\"\",COUNTIF($V$7:V1765,\"該当３\"))","v":""}]
[2020601020,20,{"v":206,"d":"206 "},{"v":1,"d":"01 "},{"v":20,"d":"020 "},"長野県","諏訪市","諏訪市（旧）","飯島",null,"","",{"$f":"IF(K1767=\"\",\"\",COUNTIF($K$7:K1767,\"ﾘｽﾄ１\"))","v":""},"","","","","","","",{"$f":"IF(S1767=\"\",\"\",COUNTIF($S$7:S1767,\"該当２\"))","v":""},"","",{"$f":"IF(V1767=\"\",\"\",COUNTIF($V$7:V1767,\"該当３\"))","v":""}]
[2020601025,20,{"v":206,"d":"206 "},{"v":1,"d":"01 "},{"v":25,"d":"025 "},"長野県","諏訪市","諏訪市（旧）","武津",null,"","",{"$f":"IF(K1772=\"\",\"\",COUNTIF($K$7:K1772,\"ﾘｽﾄ１\"))","v":""},"","","","","","","",{"$f":"IF(S1772=\"\",\"\",COUNTIF($S$7:S1772,\"該当２\"))","v":""},"","",{"$f":"IF(V1772=\"\",\"\",COUNTIF($V$7:V1772,\"該当３\"))","v":""}]
[2020601030,20,{"v":206,"d":"206 "},{"v":1,"d":"01 "},{"v":30,"d":"030 "},"長野県","諏訪市","諏訪市（旧）","上野",null,"","",{"$f":"IF(K1777=\"\",\"\",COUNTIF($K$7:K1777,\"ﾘｽﾄ１\"))","v":""},"","","","","","","",{"$f":"IF(S1777=\"\",\"\",COUNTIF($S$7:S1777,\"該当２\"))","v":""},"","",{"$f":"IF(V1777=\"\",\"\",COUNTIF($V$7:V1777,\"該当３\"))","v":""}]
[2020601031,20,{"v":206,"d":"206 "},{"v":1,"d":"01 "},{"v":31,"d":"031 "},"長野県","諏訪市","諏訪市（旧）","覗石",null,"","",{"$f":"IF(K1778=\"\",\"\",COUNTIF($K$7:K1778,\"ﾘｽﾄ１\"))","v":""},"","","","","","","",{"$f":"IF(S1778=\"\",\"\",COUNTIF($S$7:S1778,\"該当２\"))","v":""},"","",{"$f":"IF(V1778=\"\",\"\",COUNTIF($V$7:V1778,\"該当３\"))","v":""}]
[2020602005,20,{"v":206,"d":"206 "},{"v":2,"d":"02 "},{"v":5,"d":"005 "},"長野県","諏訪市","中洲村","福島",null,"","",{"$f":"IF(K1784=\"\",\"\",COUNTIF($K$7:K1784,\"ﾘｽﾄ１\"))","v":""},"","","","","","","",{"$f":"IF(S1784=\"\",\"\",COUNTIF($S$7:S1784,\"該当２\"))","v":""},"","",{"$f":"IF(V1784=\"\",\"\",COUNTIF($V$7:V1784,\"該当３\"))","v":""}]
[2020603004,20,{"v":206,"d":"206 "},{"v":3,"d":"03 "},{"v":4,"d":"004 "},"長野県","諏訪市","湖南村","北真志野",null,"","",{"$f":"IF(K1789=\"\",\"\",COUNTIF($K$7:K1789,\"ﾘｽﾄ１\"))","v":""},"","","","","","","",{"$f":"IF(S1789=\"\",\"\",COUNTIF($S$7:S1789,\"該当２\"))","v":""},"","",{"$f":"IF(V1789=\"\",\"\",COUNTIF($V$7:V1789,\"該当３\"))","v":""}]
[2020700000,20,{"v":207,"d":"207 "},{"v":0,"d":"00 "},{"v":0,"d":"000 "},"長野県","須坂市",{"$nulls":3},"ﾘｽﾄ１","須坂市",{"$f":"IF(K1794=\"\",\"\",COUNTIF($K$7:K1794,\"ﾘｽﾄ１\"))","v":7},"","","","","","","",{"$f":"IF(S1794=\"\",\"\",COUNTIF($S$7:S1794,\"該当２\"))","v":""},"","",{"$f":"IF(V1794=\"\",\"\",COUNTIF($V$7:V1794,\"該当３\"))","v":""}]
[2020701002,20,{"v":207,"d":"207 "},{"v":1,"d":"01 "},{"v":2,"d":"002 "},"長野県","須坂市","須坂町","八幡町",null,"","",{"$f":"IF(K1797=\"\",\"\",COUNTIF($K$7:K1797,\"ﾘｽﾄ１\"))","v":""},"","","","","","","",{"$f":"IF(S1797=\"\",\"\",COUNTIF($S$7:S1797,\"該当２\"))","v":""},"","",{"$f":"IF(V1797=\"\",\"\",COUNTIF($V$7:V1797,\"該当３\"))","v":""}]
[2020701006,20,{"v":207,"d":"207 "},{"v":1,"d":"01 "},{"v":6,"d":"006 "},"長野県","須坂市","須坂町","坂田町",null,"","",{"$f":"IF(K1801=\"\",\"\",COUNTIF($K$7:K1801,\"ﾘｽﾄ１\"))","v":""},"","","","","","","",{"$f":"IF(S1801=\"\",\"\",COUNTIF($S$7:S1801,\"該当２\"))","v":""},"","",{"$f":"IF(V1801=\"\",\"\",COUNTIF($V$7:V1801,\"該当３\"))","v":""}]
[2020701011,20,{"v":207,"d":"207 "},{"v":1,"d":"01 "},{"v":11,"d":"011 "},"長野県","須坂市","須坂町","虫送町",null,"","",{"$f":"IF(K1806=\"\",\"\",COUNTIF($K$7:K1806,\"ﾘｽﾄ１\"))","v":""},"","","","","","","",{"$f":"IF(S1806=\"\",\"\",COUNTIF($S$7:S1806,\"該当２\"))","v":""},"","",{"$f":"IF(V1806=\"\",\"\",COUNTIF($V$7:V1806,\"該当３\"))","v":""}]
[2020701016,20,{"v":207,"d":"207 "},{"v":1,"d":"01 "},{"v":16,"d":"016 "},"長野県","須坂市","須坂町","中町",null,"","",{"$f":"IF(K1811=\"\",\"\",COUNTIF($K$7:K1811,\"ﾘｽﾄ１\"))","v":""},"","","","","","","",{"$f":"IF(S1811=\"\",\"\",COUNTIF($S$7:S1811,\"該当２\"))","v":""},"","",{"$f":"IF(V1811=\"\",\"\",COUNTIF($V$7:V1811,\"該当３\"))","v":""}]
[2020701020,20,{"v":207,"d":"207 "},{"v":1,"d":"01 "},{"v":20,"d":"020 "},"長野県","須坂市","須坂町","南横町",null,"","",{"$f":"IF(K1815=\"\",\"\",COUNTIF($K$7:K1815,\"ﾘｽﾄ１\"))","v":""},"","","","","","","",{"$f":"IF(S1815=\"\",\"\",COUNTIF($S$7:S1815,\"該当２\"))","v":""},"","",{"$f":"IF(V1815=\"\",\"\",COUNTIF($V$7:V1815,\"該当３\"))","v":""}]
[2020701023,20,{"v":207,"d":"207 "},{"v":1,"d":"01 "},{"v":23,"d":"023 "},"長野県","須坂市","須坂町","新町",null,"","",{"$f":"IF(K1818=\"\",\"\",COUNTIF($K$7:K1818,\"ﾘｽﾄ１\"))","v":""},"","","","","","","",{"$f":"IF(S1818=\"\",\"\",COUNTIF($S$7:S1818,\"該当２\"))","v":""},"","",{"$f":"IF(V1818=\"\",\"\",COUNTIF($V$7:V1818,\"該当３\"))","v":""}]
[2020701028,20,{"v":207,"d":"207 "},{"v":1,"d":"01 "},{"v":28,"d":"028 "},"長野県","須坂市","須坂町","北原町",null,"","",{"$f":"IF(K1823=\"\",\"\",COUNTIF($K$7:K1823,\"ﾘｽﾄ１\"))","v":""},"","","","","","","",{"$f":"IF(S1823=\"\",\"\",COUNTIF($S$7:S1823,\"該当２\"))","v":""},"","",{"$f":"IF(V1823=\"\",\"\",COUNTIF($V$7:V1823,\"該当３\"))","v":""}]
[2020702004,20,{"v":207,"d":"207 "},{"v":2,"d":"02 "},{"v":4,"d":"004 "},"長野県","須坂市","井上村","九反田町",null,"","",{"$f":"IF(K1828=\"\",\"\",COUNTIF($K$7:K1828,\"ﾘｽﾄ１\"))","v":""},"","","","","","","",{"$f":"IF(S1828=\"\",\"\",COUNTIF($S$7:S1828,\"該当２\"))","v":""},"","",{"$f":"IF(V1828=\"\",\"\",COUNTIF($V$7:V1828,\"該当３\"))","v":""}]
[2020702005,20,{"v":207,"d":"207 "},{"v":2,"d":"02 "},{"v":5,"d":"005 "},"長野県","須坂市","井上村","幸高町",null,"","",{"$f":"IF(K1829=\"\",\"\",COUNTIF($K$7:K1829,\"ﾘｽﾄ１\"))","v":""},"","","","","","","",{"$f":"IF(S1829=\"\",\"\",COUNTIF($S$7:S1829,\"該当２\"))","v":""},"","",{"$f":"IF(V1829=\"\",\"\",COUNTIF($V$7:V1829,\"該当３\"))","v":""}]
[2020703003,20,{"v":207,"d":"207 "},{"v":3,"d":"03 "},{"v":3,"d":"003 "},"長野県","須坂市","豊洲村","南小河原町",null,"","",{"$f":"IF(K1835=\"\",\"\",COUNTIF($K$7:K1835,\"ﾘｽﾄ１\"))","v":""},"","","","","","","",{"$f":"IF(S1835=\"\",\"\",COUNTIF($S$7:S1835,\"該当２\"))","v":""},"","",{"$f":"IF(V1835=\"\",\"\",COUNTIF($V$7:V1835,\"該当３\"))","v":""}]
[2020704000,20,{"v":207,"d":"207 "},{"v":4,"d":"04 "},{"v":0,"d":"000 "},"長野県","須坂市","日野村（須坂市）",null,null,"","",{"$f":"IF(K1840=\"\",\"\",COUNTIF($K$7:K1840,\"ﾘｽﾄ１\"))","v":""},"","","","","","","",{"$f":"IF(S1840=\"\",\"\",COUNTIF($S$7:S1840,\"該当２\"))","v":""},"","",{"$f":"IF(V1840=\"\",\"\",COUNTIF($V$7:V1840,\"該当３\"))","v":""}]
[2020704005,20,{"v":207,"d":"207 "},{"v":4,"d":"04 "},{"v":5,"d":"005 "},"長野県","須坂市","日野村（須坂市）","五閑町",null,"","",{"$f":"IF(K1845=\"\",\"\",COUNTIF($K$7:K1845,\"ﾘｽﾄ１\"))","v":""},"","","","","","","",{"$f":"IF(S1845=\"\",\"\",COUNTIF($S$7:S1845,\"該当２\"))","v":""},"","",{"$f":"IF(V1845=\"\",\"\",COUNTIF($V$7:V1845,\"該当３\"))","v":""}]
[2020705001,20,{"v":207,"d":"207 "},{"v":5,"d":"05 "},{"v":1,"d":"001 "},"長野県","須坂市","高甫村","下八町",null,"","",{"$f":"IF(K1848=\"\",\"\",COUNTIF($K$7:K1848,\"ﾘｽﾄ１\"))","v":""},"","","","","","","",{"$f":"IF(S1848=\"\",\"\",COUNTIF($S$7:S1848,\"該当２\"))","v":""},"","",{"$f":"IF(V1848=\"\",\"\",COUNTIF($V$7:V1848,\"該当３\"))","v":""}]
[2020706000,20,{"v":207,"d":"207 "},{"v":6,"d":"06 "},{"v":0,"d":"000 "},"長野県","須坂市","仁礼村",null,null,"","",{"$f":"IF(K1852=\"\",\"\",COUNTIF($K$7:K1852,\"ﾘｽﾄ１\"))","v":""},"","","","","","","",{"$f":"IF(S1852=\"\",\"\",COUNTIF($S$7:S1852,\"該当２\"))","v":""},"","",{"$f":"IF(V1852=\"\",\"\",COUNTIF($V$7:V1852,\"該当３\"))","v":""}]
[2020706005,20,{"v":207,"d":"207 "},{"v":6,"d":"06 "},{"v":5,"d":"005 "},"長野県","須坂市","仁礼村","浅間塚",null,"","",{"$f":"IF(K1857=\"\",\"\",COUNTIF($K$7:K1857,\"ﾘｽﾄ１\"))","v":""},"","","","","","","",{"$f":"IF(S1857=\"\",\"\",COUNTIF($S$7:S1857,\"該当２\"))","v":""},"","",{"$f":"IF(V1857=\"\",\"\",COUNTIF($V$7:V1857,\"該当３\"))","v":""}]
[2020706010,20,{"v":207,"d":"207 "},{"v":6,"d":"06 "},{"v":10,"d":"010 "},"長野県","須坂市","仁礼村","関谷",null,"","",{"$f":"IF(K1862=\"\",\"\",COUNTIF($K$7:K1862,\"ﾘｽﾄ１\"))","v":""},"","","","","","","",{"$f":"IF(S1862=\"\",\"\",COUNTIF($S$7:S1862,\"該当２\"))","v":""},"","",{"$f":"IF(V1862=\"\",\"\",COUNTIF($V$7:V1862,\"該当３\"))","v":""}]
[2020706014,20,{"v":207,"d":"207 "},{"v":6,"d":"06 "},{"v":14,"d":"014 "},"長野県","須坂市","仁礼村","塩野町",null,"","",{"$f":"IF(K1866=\"\",\"\",COUNTIF($K$7:K1866,\"ﾘｽﾄ１\"))","v":""},"","",{"$f":"IF(O1866=\"該当１\",G1866,\"\")","v":""},{"$f":"IF(O1866=\"該当１\",\"ﾘｽﾄ2\",\"\")","v":""},{"$f":"IF(Q1866=\"ﾘｽﾄ2\",H1866,\"\")","v":""},"",{"$f":"IF(S1866=\"該当２\",H1866,\"\")","v":""},{"$f":"IF(S1866=\"\",\"\",COUNTIF($S$7:S1866,\"該当２\"))","v":""},{"$f":"IF(AND($S$2=H1866,E1866>0,E1866<998),\"該当３\",\"\")","v":""},{"$f":"IF(V1866=\"該当３\",I1866,\"\")","v":""},{"$f":"IF(V1866=\"\",\"\",COUNTIF($V$7:V1866,\"該当３\"))","v":""}]
[2020707002,20,{"v":207,"d":"207 "},{"v":7,"d":"07 "},{"v":2,"d":"002 "},"長野県","須坂市","豊丘村（須坂市）","明光寺",null,"","",{"$f":"IF(K1869=\"\",\"\",COUNTIF($K$7:K1869,\"ﾘｽﾄ１\"))","v":""},"","","","","","","",{"$f":"IF(S1869=\"\",\"\",COUNTIF($S$7:S1869,\"該当２\"))","v":""},"","",{"$f":"IF(V1869=\"\",\"\",COUNTIF($V$7:V1869,\"該当３\"))","v":""}]
[2020707007,20,{"v":207,"d":"207 "},{"v":7,"d":"07 "},{"v":7,"d":"007 "},"長野県","須坂市","豊丘村（須坂市）","上原",null,"","",{"$f":"IF(K1874=\"\",\"\",COUNTIF($K$7:K1874,\"ﾘｽﾄ１\"))","v":""},"","","","","","","",{"$f":"IF(S1874=\"\",\"\",COUNTIF($S$7:S1874,\"該当２\"))","v":""},"","",{"$f":"IF(V1874=\"\",\"\",COUNTIF($V$7:V1874,\"該当３\"))","v":""}]
[2020801001,20,{"v":208,"d":"208 "},{"v":1,"d":"01 "},{"v":1,"d":"001 "},"長野県","小諸市","小諸町","小原",null,"","",{"$f":"IF(K1879=\"\",\"\",COUNTIF($K$7:K1879,\"ﾘｽﾄ１\"))","v":""},"","","","","","","",{"$f":"IF(S1879=\"\",\"\",COUNTIF($S$7:S1879,\"該当２\"))","v":""},"","",{"$f":"IF(V1879=\"\",\"\",COUNTIF($V$7:V1879,\"該当３\"))","v":""}]
[2020801002,20,{"v":208,"d":"208 "},{"v":1,"d":"01 "},{"v":2,"d":"002 "},"長野県","小諸市","小諸町","東山",null,"","",{"$f":"IF(K1880=\"\",\"\",COUNTIF($K$7:K1880,\"ﾘｽﾄ１\"))","v":""},"","","","","","","",{"$f":"IF(S1880=\"\",\"\",COUNTIF($S$7:S1880,\"該当２\"))","v":""},"","",{"$f":"IF(V1880=\"\",\"\",COUNTIF($V$7:V1880,\"該当３\"))","v":""}]
[2020801008,20,{"v":208,"d":"208 "},{"v":1,"d":"01 "},{"v":8,"d":"008 "},"長野県","小諸市","小諸町","市町．新町",null,"","",{"$f":"IF(K1886=\"\",\"\",COUNTIF($K$7:K1886,\"ﾘｽﾄ１\"))","v":""},"","","","","","","",{"$f":"IF(S1886=\"\",\"\",COUNTIF($S$7:S1886,\"該当２\"))","v":""},"","",{"$f":"IF(V1886=\"\",\"\",COUNTIF($V$7:V1886,\"該当３\"))","v":""}]
[2020801015,20,{"v":208,"d":"208 "},{"v":1,"d":"01 "},{"v":15,"d":"015 "},"長野県","小諸市","小諸町","六供",null,"","",{"$f":"IF(K1891=\"\",\"\",COUNTIF($K$7:K1891,\"ﾘｽﾄ１\"))","v":""},"","","","","","","",{"$f":"IF(S1891=\"\",\"\",COUNTIF($S$7:S1891,\"該当２\"))","v":""},"","",{"$f":"IF(V1891=\"\",\"\",COUNTIF($V$7:V1891,\"該当３\"))","v":""}]
[2020802001,20,{"v":208,"d":"208 "},{"v":2,"d":"02 "},{"v":1,"d":"001 "},"長野県","小諸市","大里村","菱野",null,"","",{"$f":"IF(K1896=\"\",\"\",COUNTIF($K$7:K1896,\"ﾘｽﾄ１\"))","v":""},"","","","","","","",{"$f":"IF(S1896=\"\",\"\",COUNTIF($S$7:S1896,\"該当２\"))","v":""},"","",{"$f":"IF(V1896=\"\",\"\",COUNTIF($V$7:V1896,\"該当３\"))","v":""}]
[2020802003,20,{"v":208,"d":"208 "},{"v":2,"d":"02 "},{"v":3,"d":"003 "},"長野県","小諸市","大里村","諸",null,"","",{"$f":"IF(K1898=\"\",\"\",COUNTIF($K$7:K1898,\"ﾘｽﾄ１\"))","v":""},"","","","","","","",{"$f":"IF(S1898=\"\",\"\",COUNTIF($S$7:S1898,\"該当２\"))","v":""},"","",{"$f":"IF(V1898=\"\",\"\",COUNTIF($V$7:V1898,\"該当３\"))","v":""}]
[2020803002,20,{"v":208,"d":"208 "},{"v":3,"d":"03 "},{"v":2,"d":"002 "},"長野県","小諸市","北大井村","中村",null,"","",{"$f":"IF(K1903=\"\",\"\",COUNTIF($K$7:K1903,\"ﾘｽﾄ１\"))","v":""},"","","","","","","",{"$f":"IF(S1903=\"\",\"\",COUNTIF($S$7:S1903,\"該当２\"))","v":""},"","",{"$f":"IF(V1903=\"\",\"\",COUNTIF($V$7:V1903,\"該当３\"))","v":""}]
[2020803007,20,{"v":208,"d":"208 "},{"v":3,"d":"03 "},{"v":7,"d":"007 "},"長野県","小諸市","北大井村","石峠",null,"","",{"$f":"IF(K1908=\"\",\"\",COUNTIF($K$7:K1908,\"ﾘｽﾄ１\"))","v":""},"","","","","","","",{"$f":"IF(S1908=\"\",\"\",COUNTIF($S$7:S1908,\"該当２\"))","v":""},"","",{"$f":"IF(V1908=\"\",\"\",COUNTIF($V$7:V1908,\"該当３\"))","v":""}]
[2020803015,20,{"v":208,"d":"208 "},{"v":3,"d":"03 "},{"v":15,"d":"015 "},"長野県","小諸市","北大井村","荒堀",null,"","",{"$f":"IF(K1913=\"\",\"\",COUNTIF($K$7:K1913,\"ﾘｽﾄ１\"))","v":""},"","","","","","","",{"$f":"IF(S1913=\"\",\"\",COUNTIF($S$7:S1913,\"該当２\"))","v":""},"","",{"$f":"IF(V1913=\"\",\"\",COUNTIF($V$7:V1913,\"該当３\"))","v":""}]
[2020804003,20,{"v":208,"d":"208 "},{"v":4,"d":"04 "},{"v":3,"d":"003 "},"長野県","小諸市","南大井村","平原",null,"","",{"$f":"IF(K1917=\"\",\"\",COUNTIF($K$7:K1917,\"ﾘｽﾄ１\"))","v":""},"","","","","","","",{"$f":"IF(S1917=\"\",\"\",COUNTIF($S$7:S1917,\"該当２\"))","v":""},"","",{"$f":"IF(V1917=\"\",\"\",COUNTIF($V$7:V1917,\"該当３\"))","v":""}]
[2020805001,20,{"v":208,"d":"208 "},{"v":5,"d":"05 "},{"v":1,"d":"001 "},"長野県","小諸市","三岡村","市",null,"","",{"$f":"IF(K1920=\"\",\"\",COUNTIF($K$7:K1920,\"ﾘｽﾄ１\"))","v":""},"","","","","","","",{"$f":"IF(S1920=\"\",\"\",COUNTIF($S$7:S1920,\"該当２\"))","v":""},"","",{"$f":"IF(V1920=\"\",\"\",COUNTIF($V$7:V1920,\"該当３\"))","v":""}]
[2020806002,20,{"v":208,"d":"208 "},{"v":6,"d":"06 "},{"v":2,"d":"002 "},"長野県","小諸市","川辺村（小諸市）","氷",null,"","",{"$f":"IF(K1925=\"\",\"\",COUNTIF($K$7:K1925,\"ﾘｽﾄ１\"))","v":""},"","","","","","","",{"$f":"IF(S1925=\"\",\"\",COUNTIF($S$7:S1925,\"該当２\"))","v":""},"","",{"$f":"IF(V1925=\"\",\"\",COUNTIF($V$7:V1925,\"該当３\"))","v":""}]
[2020806007,20,{"v":208,"d":"208 "},{"v":6,"d":"06 "},{"v":7,"d":"007 "},"長野県","小諸市","川辺村（小諸市）","大杭",null,"","",{"$f":"IF(K1930=\"\",\"\",COUNTIF($K$7:K1930,\"ﾘｽﾄ１\"))","v":""},"","",{"$f":"IF(O1930=\"該当１\",G1930,\"\")","v":""},{"$f":"IF(O1930=\"該当１\",\"ﾘｽﾄ2\",\"\")","v":""},{"$f":"IF(Q1930=\"ﾘｽﾄ2\",H1930,\"\")","v":""},"",{"$f":"IF(S1930=\"該当２\",H1930,\"\")","v":""},{"$f":"IF(S1930=\"\",\"\",COUNTIF($S$7:S1930,\"該当２\"))","v":""},{"$f":"IF(AND($S$2=H1930,E1930>0,E1930<998),\"該当３\",\"\")","v":""},{"$f":"IF(V1930=\"該当３\",I1930,\"\")","v":""},{"$f":"IF(V1930=\"\",\"\",COUNTIF($V$7:V1930,\"該当３\"))","v":""}]
[2020807001,20,{"v":208,"d":"208 "},{"v":7,"d":"07 "},{"v":1,"d":"001 "},"長野県","小諸市","小沼村２－２","乗瀬",null,"","",{"$f":"IF(K1935=\"\",\"\",COUNTIF($K$7:K1935,\"ﾘｽﾄ１\"))","v":""},"","","","","","","",{"$f":"IF(S1935=\"\",\"\",COUNTIF($S$7:S1935,\"該当２\"))","v":""},"","",{"$f":"IF(V1935=\"\",\"\",COUNTIF($V$7:V1935,\"該当３\"))","v":""}]
[2020808001,20,{"v":208,"d":"208 "},{"v":8,"d":"08 "},{"v":1,"d":"001 "},"長野県","小諸市","滋野村２－２","芝生田",null,"","",{"$f":"IF(K1937=\"\",\"\",COUNTIF($K$7:K1937,\"ﾘｽﾄ１\"))","v":""},"","","","","","","",{"$f":"IF(S1937=\"\",\"\",COUNTIF($S$7:S1937,\"該当２\"))","v":""},"","",{"$f":"IF(V1937=\"\",\"\",COUNTIF($V$7:V1937,\"該当３\"))","v":""}]
[2020900000,20,{"v":209,"d":"209 "},{"v":0,"d":"00 "},{"v":0,"d":"000 "},"長野県","伊那市",{"$nulls":3},"ﾘｽﾄ１","伊那市",{"$f":"IF(K1942=\"\",\"\",COUNTIF($K$7:K1942,\"ﾘｽﾄ１\"))","v":9},"","","","","","","",{"$f":"IF(S1942=\"\",\"\",COUNTIF($S$7:S1942,\"該当２\"))","v":""},"","",{"$f":"IF(V1942=\"\",\"\",COUNTIF($V$7:V1942,\"該当３\"))","v":""}]
[2020901004,20,{"v":209,"d":"209 "},{"v":1,"d":"01 "},{"v":4,"d":"004 "},"長野県","伊那市","伊那町","上ノ原",null,"","",{"$f":"IF(K1947=\"\",\"\",COUNTIF($K$7:K1947,\"ﾘｽﾄ１\"))","v":""},"","","","","","","",{"$f":"IF(S1947=\"\",\"\",COUNTIF($S$7:S1947,\"該当２\"))","v":""},"","",{"$f":"IF(V1947=\"\",\"\",COUNTIF($V$7:V1947,\"該当３\"))","v":""}]
[2020901006,20,{"v":209,"d":"209 "},{"v":1,"d":"01 "},{"v":6,"d":"006 "},"長野県","伊那市","伊那町","御園",null,"","",{"$f":"IF(K1949=\"\",\"\",COUNTIF($K$7:K1949,\"ﾘｽﾄ１\"))","v":""},"","","","","","","",{"$f":"IF(S1949=\"\",\"\",COUNTIF($S$7:S1949,\"該当２\"))","v":""},"","",{"$f":"IF(V1949=\"\",\"\",COUNTIF($V$7:V1949,\"該当３\"))","v":""}]
[2020901011,20,{"v":209,"d":"209 "},{"v":1,"d":"01 "},{"v":11,"d":"011 "},"長野県","伊那市","伊那町","横山",null,"","",{"$f":"IF(K1954=\"\",\"\",COUNTIF($K$7:K1954,\"ﾘｽﾄ１\"))","v":""},"","","","","","","",{"$f":"IF(S1954=\"\",\"\",COUNTIF($S$7:S1954,\"該当２\"))","v":""},"","",{"$f":"IF(V1954=\"\",\"\",COUNTIF($V$7:V1954,\"該当３\"))","v":""}]
[2020901016,20,{"v":209,"d":"209 "},{"v":1,"d":"01 "},{"v":16,"d":"016 "},"長野県","伊那市","伊那町","大坊",null,"","",{"$f":"IF(K1959=\"\",\"\",COUNTIF($K$7:K1959,\"ﾘｽﾄ１\"))","v":""},"","","","","","","",{"$f":"IF(S1959=\"\",\"\",COUNTIF($S$7:S1959,\"該当２\"))","v":""},"","",{"$f":"IF(V1959=\"\",\"\",COUNTIF($V$7:V1959,\"該当３\"))","v":""}]
[2020901021,20,{"v":209,"d":"209 "},{"v":1,"d":"01 "},{"v":21,"d":"021 "},"長野県","伊那市","伊那町","狐島",null,"","",{"$f":"IF(K1964=\"\",\"\",COUNTIF($K$7:K1964,\"ﾘｽﾄ１\"))","v":""},"","","","","","","",{"$f":"IF(S1964=\"\",\"\",COUNTIF($S$7:S1964,\"該当２\"))","v":""},"","",{"$f":"IF(V1964=\"\",\"\",COUNTIF($V$7:V1964,\"該当３\"))","v":""}]
[2020901024,20,{"v":209,"d":"209 "},{"v":1,"d":"01 "},{"v":24,"d":"024 "},"長野県","伊那市","伊那町","山本町",null,"","",{"$f":"IF(K1967=\"\",\"\",COUNTIF($K$7:K1967,\"ﾘｽﾄ１\"))","v":""},"","","","","","","",{"$f":"IF(S1967=\"\",\"\",COUNTIF($S$7:S1967,\"該当２\"))","v":""},"","",{"$f":"IF(V1967=\"\",\"\",COUNTIF($V$7:V1967,\"該当３\"))","v":""}]
[2020901028,20,{"v":209,"d":"209 "},{"v":1,"d":"01 "},{"v":28,"d":"028 "},"長野県","伊那市","伊那町","宮本町",null,"","",{"$f":"IF(K1971=\"\",\"\",COUNTIF($K$7:K1971,\"ﾘｽﾄ１\"))","v":""},"","","","","","","",{"$f":"IF(S1971=\"\",\"\",COUNTIF($S$7:S1971,\"該当２\"))","v":""},"","",{"$f":"IF(V1971=\"\",\"\",COUNTIF($V$7:V1971,\"該当３\"))","v":""}]
[2020901033,20,{"v":209,"d":"209 "},{"v":1,"d":"01 "},{"v":33,"d":"033 "},"長野県","伊那市","伊那町","川北",null,"","",{"$f":"IF(K1976=\"\",\"\",COUNTIF($K$7:K1976,\"ﾘｽﾄ１\"))","v":""},"","","","","","","",{"$f":"IF(S1976=\"\",\"\",COUNTIF($S$7:S1976,\"該当２\"))","v":""},"","",{"$f":"IF(V1976=\"\",\"\",COUNTIF($V$7:V1976,\"該当３\"))","v":""}]
[2020901038,20,{"v":209,"d":"209 "},{"v":1,"d":"01 "},{"v":38,"d":"038 "},"長野県","伊那市","伊那町","秋葉町",null,"","",{"$f":"IF(K1981=\"\",\"\",COUNTIF($K$7:K1981,\"ﾘｽﾄ１\"))","v":""},"","","","","","","",{"$f":"IF(S1981=\"\",\"\",COUNTIF($S$7:S1981,\"該当２\"))","v":""},"","",{"$f":"IF(V1981=\"\",\"\",COUNTIF($V$7:V1981,\"該当３\"))","v":""}]
[2020902004,20,{"v":209,"d":"209 "},{"v":2,"d":"02 "},{"v":4,"d":"004 "},"長野県","伊那市","西箕輪村２－１","梨ノ木",null,"","",{"$f":"IF(K1986=\"\",\"\",COUNTIF($K$7:K1986,\"ﾘｽﾄ１\"))","v":""},"","","","","","","",{"$f":"IF(S1986=\"\",\"\",COUNTIF($S$7:S1986,\"該当２\"))","v":""},"","",{"$f":"IF(V1986=\"\",\"\",COUNTIF($V$7:V1986,\"該当３\"))","v":""}]
[2020902006,20,{"v":209,"d":"209 "},{"v":2,"d":"02 "},{"v":6,"d":"006 "},"長野県","伊那市","西箕輪村２－１","中条",null,"","",{"$f":"IF(K1988=\"\",\"\",COUNTIF($K$7:K1988,\"ﾘｽﾄ１\"))","v":""},"","","","","","","",{"$f":"IF(S1988=\"\",\"\",COUNTIF($S$7:S1988,\"該当２\"))","v":""},"","",{"$f":"IF(V1988=\"\",\"\",COUNTIF($V$7:V1988,\"該当３\"))","v":""}]
[2020903001,20,{"v":209,"d":"209 "},{"v":3,"d":"03 "},{"v":1,"d":"001 "},"長野県","伊那市","手良村","境",null,"","",{"$f":"IF(K1993=\"\",\"\",COUNTIF($K$7:K1993,\"ﾘｽﾄ１\"))","v":""},"","","","","","","",{"$f":"IF(S1993=\"\",\"\",COUNTIF($S$7:S1993,\"該当２\"))","v":""},"","",{"$f":"IF(V1993=\"\",\"\",COUNTIF($V$7:V1993,\"該当３\"))","v":""}]
[2020903006,20,{"v":209,"d":"209 "},{"v":3,"d":"03 "},{"v":6,"d":"006 "},"長野県","伊那市","手良村","田屋久保",null,"","",{"$f":"IF(K1998=\"\",\"\",COUNTIF($K$7:K1998,\"ﾘｽﾄ１\"))","v":""},"","","","","","","",{"$f":"IF(S1998=\"\",\"\",COUNTIF($S$7:S1998,\"該当２\"))","v":""},"","",{"$f":"IF(V1998=\"\",\"\",COUNTIF($V$7:V1998,\"該当３\"))","v":""}]
[2020903007,20,{"v":209,"d":"209 "},{"v":3,"d":"03 "},{"v":7,"d":"007 "},"長野県","伊那市","手良村","出口",null,"","",{"$f":"IF(K1999=\"\",\"\",COUNTIF($K$7:K1999,\"ﾘｽﾄ１\"))","v":""},"","","","","","","",{"$f":"IF(S1999=\"\",\"\",COUNTIF($S$7:S1999,\"該当２\"))","v":""},"","",{"$f":"IF(V1999=\"\",\"\",COUNTIF($V$7:V1999,\"該当３\"))","v":""}]
[2020903013,20,{"v":209,"d":"209 "},{"v":3,"d":"03 "},{"v":13,"d":"013 "},"長野県","伊那市","手良村","原町",null,"","",{"$f":"IF(K2005=\"\",\"\",COUNTIF($K$7:K2005,\"ﾘｽﾄ１\"))","v":""},"","","","","","","",{"$f":"IF(S2005=\"\",\"\",COUNTIF($S$7:S2005,\"該当２\"))","v":""},"","",{"$f":"IF(V2005=\"\",\"\",COUNTIF($V$7:V2005,\"該当３\"))","v":""}]
[2020903018,20,{"v":209,"d":"209 "},{"v":3,"d":"03 "},{"v":18,"d":"018 "},"長野県","伊那市","手良村","中部",null,"","",{"$f":"IF(K2010=\"\",\"\",COUNTIF($K$7:K2010,\"ﾘｽﾄ１\"))","v":""},"","","","","","","",{"$f":"IF(S2010=\"\",\"\",COUNTIF($S$7:S2010,\"該当２\"))","v":""},"","",{"$f":"IF(V2010=\"\",\"\",COUNTIF($V$7:V2010,\"該当３\"))","v":""}]
[2020904002,20,{"v":209,"d":"209 "},{"v":4,"d":"04 "},{"v":2,"d":"002 "},"長野県","伊那市","美篶村","笠原",null,"","",{"$f":"IF(K2015=\"\",\"\",COUNTIF($K$7:K2015,\"ﾘｽﾄ１\"))","v":""},"","","","","","","",{"$f":"IF(S2015=\"\",\"\",COUNTIF($S$7:S2015,\"該当２\"))","v":""},"","",{"$f":"IF(V2015=\"\",\"\",COUNTIF($V$7:V2015,\"該当３\"))","v":""}]
[2020904005,20,{"v":209,"d":"209 "},{"v":4,"d":"04 "},{"v":5,"d":"005 "},"長野県","伊那市","美篶村","末広",null,"","",{"$f":"IF(K2018=\"\",\"\",COUNTIF($K$7:K2018,\"ﾘｽﾄ１\"))","v":""},"","","","","","","",{"$f":"IF(S2018=\"\",\"\",COUNTIF($S$7:S2018,\"該当２\"))","v":""},"","",{"$f":"IF(V2018=\"\",\"\",COUNTIF($V$7:V2018,\"該当３\"))","v":""}]
[2020904009,20,{"v":209,"d":"209 "},{"v":4,"d":"04 "},{"v":9,"d":"009 "},"長野県","伊那市","美篶村","上川手",null,"","",{"$f":"IF(K2022=\"\",\"\",COUNTIF($K$7:K2022,\"ﾘｽﾄ１\"))","v":""},"","","","","","","",{"$f":"IF(S2022=\"\",\"\",COUNTIF($S$7:S2022,\"該当２\"))","v":""},"","",{"$f":"IF(V2022=\"\",\"\",COUNTIF($V$7:V2022,\"該当３\"))","v":""}]
[2020905002,20,{"v":209,"d":"209 "},{"v":5,"d":"05 "},{"v":2,"d":"002 "},"長野県","伊那市","富県村","西の平",null,"","",{"$f":"IF(K2027=\"\",\"\",COUNTIF($K$7:K2027,\"ﾘｽﾄ１\"))","v":""},"","","","","","","",{"$f":"IF(S2027=\"\",\"\",COUNTIF($S$7:S2027,\"該当２\"))","v":""},"","",{"$f":"IF(V2027=\"\",\"\",COUNTIF($V$7:V2027,\"該当３\"))","v":""}]
[2020905007,20,{"v":209,"d":"209 "},{"v":5,"d":"05 "},{"v":7,"d":"007 "},"長野県","伊那市","富県村","奈良尾",null,"","",{"$f":"IF(K2032=\"\",\"\",COUNTIF($K$7:K2032,\"ﾘｽﾄ１\"))","v":""},"","","","","","","",{"$f":"IF(S2032=\"\",\"\",COUNTIF($S$7:S2032,\"該当２\"))","v":""},"","",{"$f":"IF(V2032=\"\",\"\",COUNTIF($V$7:V2032,\"該当３\"))","v":""}]
[2020905011,20,{"v":209,"d":"209 "},{"v":5,"d":"05 "},{"v":11,"d":"011 "},"長野県","伊那市","富県村","川下",null,"","",{"$f":"IF(K2036=\"\",\"\",COUNTIF($K$7:K2036,\"ﾘｽﾄ１\"))","v":""},"","","","","","","",{"$f":"IF(S2036=\"\",\"\",COUNTIF($S$7:S2036,\"該当２\"))","v":""},"","",{"$f":"IF(V2036=\"\",\"\",COUNTIF($V$7:V2036,\"該当３\"))","v":""}]
[2020905014,20,{"v":209,"d":"209 "},{"v":5,"d":"05 "},{"v":14,"d":"014 "},"長野県","伊那市","富県村","原町",null,"","",{"$f":"IF(K2039=\"\",\"\",COUNTIF($K$7:K2039,\"ﾘｽﾄ１\"))","v":""},"","","","","","","",{"$f":"IF(S2039=\"\",\"\",COUNTIF($S$7:S2039,\"該当２\"))","v":""},"","",{"$f":"IF(V2039=\"\",\"\",COUNTIF($V$7:V2039,\"該当３\"))","v":""}]
[2020905019,20,{"v":209,"d":"209 "},{"v":5,"d":"05 "},{"v":19,"d":"019 "},"長野県","伊那市","富県村","羽根",null,"","",{"$f":"IF(K2044=\"\",\"\",COUNTIF($K$7:K2044,\"ﾘｽﾄ１\"))","v":""},"","","","","","","",{"$f":"IF(S2044=\"\",\"\",COUNTIF($S$7:S2044,\"該当２\"))","v":""},"","",{"$f":"IF(V2044=\"\",\"\",COUNTIF($V$7:V2044,\"該当３\"))","v":""}]
[2020905024,20,{"v":209,"d":"209 "},{"v":5,"d":"05 "},{"v":24,"d":"024 "},"長野県","伊那市","富県村","阿原",null,"","",{"$f":"IF(K2049=\"\",\"\",COUNTIF($K$7:K2049,\"ﾘｽﾄ１\"))","v":""},"","","","","","","",{"$f":"IF(S2049=\"\",\"\",COUNTIF($S$7:S2049,\"該当２\"))","v":""},"","",{"$f":"IF(V2049=\"\",\"\",COUNTIF($V$7:V2049,\"該当３\"))","v":""}]
[2020905025,20,{"v":209,"d":"209 "},{"v":5,"d":"05 "},{"v":25,"d":"025 "},"長野県","伊那市","富県村","池",null,"","",{"$f":"IF(K2050=\"\",\"\",COUNTIF($K$7:K2050,\"ﾘｽﾄ１\"))","v":""},"","","","","","","",{"$f":"IF(S2050=\"\",\"\",COUNTIF($S$7:S2050,\"該当２\"))","v":""},"","",{"$f":"IF(V2050=\"\",\"\",COUNTIF($V$7:V2050,\"該当３\"))","v":""}]
[2020906005,20,{"v":209,"d":"209 "},{"v":6,"d":"06 "},{"v":5,"d":"005 "},"長野県","伊那市","東春近村","向田啓明",null,"","",{"$f":"IF(K2056=\"\",\"\",COUNTIF($K$7:K2056,\"ﾘｽﾄ１\"))","v":""},"","","","","","","",{"$f":"IF(S2056=\"\",\"\",COUNTIF($S$7:S2056,\"該当２\"))","v":""},"","",{"$f":"IF(V2056=\"\",\"\",COUNTIF($V$7:V2056,\"該当３\"))","v":""}]
[2020906010,20,{"v":209,"d":"209 "},{"v":6,"d":"06 "},{"v":10,"d":"010 "},"長野県","伊那市","東春近村","渡場下",null,"","",{"$f":"IF(K2061=\"\",\"\",COUNTIF($K$7:K2061,\"ﾘｽﾄ１\"))","v":""},"","","","","","","",{"$f":"IF(S2061=\"\",\"\",COUNTIF($S$7:S2061,\"該当２\"))","v":""},"","",{"$f":"IF(V2061=\"\",\"\",COUNTIF($V$7:V2061,\"該当３\"))","v":""}]
[2020906015,20,{"v":209,"d":"209 "},{"v":6,"d":"06 "},{"v":15,"d":"015 "},"長野県","伊那市","東春近村","古寺",null,"","",{"$f":"IF(K2066=\"\",\"\",COUNTIF($K$7:K2066,\"ﾘｽﾄ１\"))","v":""},"","","","","","","",{"$f":"IF(S2066=\"\",\"\",COUNTIF($S$7:S2066,\"該当２\"))","v":""},"","",{"$f":"IF(V2066=\"\",\"\",COUNTIF($V$7:V2066,\"該当３\"))","v":""}]
[2020906017,20,{"v":209,"d":"209 "},{"v":6,"d":"06 "},{"v":17,"d":"017 "},"長野県","伊那市","東春近村","土蔵",null,"","",{"$f":"IF(K2068=\"\",\"\",COUNTIF($K$7:K2068,\"ﾘｽﾄ１\"))","v":""},"","","","","","","",{"$f":"IF(S2068=\"\",\"\",COUNTIF($S$7:S2068,\"該当２\"))","v":""},"","",{"$f":"IF(V2068=\"\",\"\",COUNTIF($V$7:V2068,\"該当３\"))","v":""}]
[2020906022,20,{"v":209,"d":"209 "},{"v":6,"d":"06 "},{"v":22,"d":"022 "},"長野県","伊那市","東春近村","新田",null,"","",{"$f":"IF(K2073=\"\",\"\",COUNTIF($K$7:K2073,\"ﾘｽﾄ１\"))","v":""},"","","","","","","",{"$f":"IF(S2073=\"\",\"\",COUNTIF($S$7:S2073,\"該当２\"))","v":""},"","",{"$f":"IF(V2073=\"\",\"\",COUNTIF($V$7:V2073,\"該当３\"))","v":""}]
[2020907001,20,{"v":209,"d":"209 "},{"v":7,"d":"07 "},{"v":1,"d":"001 "},"長野県","伊那市","西春近村","上島",null,"","",{"$f":"IF(K2078=\"\",\"\",COUNTIF($K$7:K2078,\"ﾘｽﾄ１\"))","v":""},"","","","","","","",{"$f":"IF(S2078=\"\",\"\",COUNTIF($S$7:S2078,\"該当２\"))","v":""},"","",{"$f":"IF(V2078=\"\",\"\",COUNTIF($V$7:V2078,\"該当３\"))","v":""}]
[2020907006,20,{"v":209,"d":"209 "},{"v":7,"d":"07 "},{"v":6,"d":"006 "},"長野県","伊那市","西春近村","小屋敷",null,"","",{"$f":"IF(K2083=\"\",\"\",COUNTIF($K$7:K2083,\"ﾘｽﾄ１\"))","v":""},"","","","","","","",{"$f":"IF(S2083=\"\",\"\",COUNTIF($S$7:S2083,\"該当２\"))","v":""},"","",{"$f":"IF(V2083=\"\",\"\",COUNTIF($V$7:V2083,\"該当３\"))","v":""}]
[2020907010,20,{"v":209,"d":"209 "},{"v":7,"d":"07 "},{"v":10,"d":"010 "},"長野県","伊那市","西春近村","南小出",null,"","",{"$f":"IF(K2087=\"\",\"\",COUNTIF($K$7:K2087,\"ﾘｽﾄ１\"))","v":""},"","","","","","","",{"$f":"IF(S2087=\"\",\"\",COUNTIF($S$7:S2087,\"該当２\"))","v":""},"","",{"$f":"IF(V2087=\"\",\"\",COUNTIF($V$7:V2087,\"該当３\"))","v":""}]
[2020907013,20,{"v":209,"d":"209 "},{"v":7,"d":"07 "},{"v":13,"d":"013 "},"長野県","伊那市","西春近村","唐木",null,"","",{"$f":"IF(K2090=\"\",\"\",COUNTIF($K$7:K2090,\"ﾘｽﾄ１\"))","v":""},"","","","","","","",{"$f":"IF(S2090=\"\",\"\",COUNTIF($S$7:S2090,\"該当２\"))","v":""},"","",{"$f":"IF(V2090=\"\",\"\",COUNTIF($V$7:V2090,\"該当３\"))","v":""}]
[2020907018,20,{"v":209,"d":"209 "},{"v":7,"d":"07 "},{"v":18,"d":"018 "},"長野県","伊那市","西春近村","下村",null,"","",{"$f":"IF(K2095=\"\",\"\",COUNTIF($K$7:K2095,\"ﾘｽﾄ１\"))","v":""},"","","","","","","",{"$f":"IF(S2095=\"\",\"\",COUNTIF($S$7:S2095,\"該当２\"))","v":""},"","",{"$f":"IF(V2095=\"\",\"\",COUNTIF($V$7:V2095,\"該当３\"))","v":""}]
[2020907023,20,{"v":209,"d":"209 "},{"v":7,"d":"07 "},{"v":23,"d":"023 "},"長野県","伊那市","西春近村","下牧",null,"","",{"$f":"IF(K2100=\"\",\"\",COUNTIF($K$7:K2100,\"ﾘｽﾄ１\"))","v":""},"","","","","","","",{"$f":"IF(S2100=\"\",\"\",COUNTIF($S$7:S2100,\"該当２\"))","v":""},"","",{"$f":"IF(V2100=\"\",\"\",COUNTIF($V$7:V2100,\"該当３\"))","v":""}]
[2020908004,20,{"v":209,"d":"209 "},{"v":8,"d":"08 "},{"v":4,"d":"004 "},"長野県","伊那市","高遠町","五番組",null,"","",{"$f":"IF(K2105=\"\",\"\",COUNTIF($K$7:K2105,\"ﾘｽﾄ１\"))","v":""},"","","","","","","",{"$f":"IF(S2105=\"\",\"\",COUNTIF($S$7:S2105,\"該当２\"))","v":""},"","",{"$f":"IF(V2105=\"\",\"\",COUNTIF($V$7:V2105,\"該当３\"))","v":""}]
[2020908006,20,{"v":209,"d":"209 "},{"v":8,"d":"08 "},{"v":6,"d":"006 "},"長野県","伊那市","高遠町","殿坂",null,"","",{"$f":"IF(K2107=\"\",\"\",COUNTIF($K$7:K2107,\"ﾘｽﾄ１\"))","v":""},"","","","","","","",{"$f":"IF(S2107=\"\",\"\",COUNTIF($S$7:S2107,\"該当２\"))","v":""},"","",{"$f":"IF(V2107=\"\",\"\",COUNTIF($V$7:V2107,\"該当３\"))","v":""}]
[2020908011,20,{"v":209,"d":"209 "},{"v":8,"d":"08 "},{"v":11,"d":"011 "},"長野県","伊那市","高遠町","諸町",null,"","",{"$f":"IF(K2112=\"\",\"\",COUNTIF($K$7:K2112,\"ﾘｽﾄ１\"))","v":""},"","","","","","","",{"$f":"IF(S2112=\"\",\"\",COUNTIF($S$7:S2112,\"該当２\"))","v":""},"","",{"$f":"IF(V2112=\"\",\"\",COUNTIF($V$7:V2112,\"該当３\"))","v":""}]
[2020909000,20,{"v":209,"d":"209 "},{"v":9,"d":"09 "},{"v":0,"d":"000 "},"長野県","伊那市","長藤村",null,null,"","",{"$f":"IF(K2117=\"\",\"\",COUNTIF($K$7:K2117,\"ﾘｽﾄ１\"))","v":""},"","","","","","","",{"$f":"IF(S2117=\"\",\"\",COUNTIF($S$7:S2117,\"該当２\"))","v":""},"","",{"$f":"IF(V2117=\"\",\"\",COUNTIF($V$7:V2117,\"該当３\"))","v":""}]
[2020909002,20,{"v":209,"d":"209 "},{"v":9,"d":"09 "},{"v":2,"d":"002 "},"長野県","伊那市","長藤村","弥勒",null,"","",{"$f":"IF(K2119=\"\",\"\",COUNTIF($K$7:K2119,\"ﾘｽﾄ１\"))","v":""},"","","","","","","",{"$f":"IF(S2119=\"\",\"\",COUNTIF($S$7:S2119,\"該当２\"))","v":""},"","",{"$f":"IF(V2119=\"\",\"\",COUNTIF($V$7:V2119,\"該当３\"))","v":""}]
[2020909007,20,{"v":209,"d":"209 "},{"v":9,"d":"09 "},{"v":7,"d":"007 "},"長野県","伊那市","長藤村","中条",null,"","",{"$f":"IF(K2124=\"\",\"\",COUNTIF($K$7:K2124,\"ﾘｽﾄ１\"))","v":""},"","","","","","","",{"$f":"IF(S2124=\"\",\"\",COUNTIF($S$7:S2124,\"該当２\"))","v":""},"","",{"$f":"IF(V2124=\"\",\"\",COUNTIF($V$7:V2124,\"該当３\"))","v":""}]
[2020910000,20,{"v":209,"d":"209 "},{"v":10,"d":"10 "},{"v":0,"d":"000 "},"長野県","伊那市","三義村",null,null,"","",{"$f":"IF(K2129=\"\",\"\",COUNTIF($K$7:K2129,\"ﾘｽﾄ１\"))","v":""},"","","","","","","",{"$f":"IF(S2129=\"\",\"\",COUNTIF($S$7:S2129,\"該当２\"))","v":""},"","",{"$f":"IF(V2129=\"\",\"\",COUNTIF($V$7:V2129,\"該当３\"))","v":""}]
[2020910005,20,{"v":209,"d":"209 "},{"v":10,"d":"10 "},{"v":5,"d":"005 "},"長野県","伊那市","三義村","久保",null,"","",{"$f":"IF(K2134=\"\",\"\",COUNTIF($K$7:K2134,\"ﾘｽﾄ１\"))","v":""},"","","","","","","",{"$f":"IF(S2134=\"\",\"\",COUNTIF($S$7:S2134,\"該当２\"))","v":""},"","",{"$f":"IF(V2134=\"\",\"\",COUNTIF($V$7:V2134,\"該当３\"))","v":""}]
[2020910008,20,{"v":209,"d":"209 "},{"v":10,"d":"10 "},{"v":8,"d":"008 "},"長野県","伊那市","三義村","両日向",null,"","",{"$f":"IF(K2137=\"\",\"\",COUNTIF($K$7:K2137,\"ﾘｽﾄ１\"))","v":""},"","","","","","","",{"$f":"IF(S2137=\"\",\"\",COUNTIF($S$7:S2137,\"該当２\"))","v":""},"","",{"$f":"IF(V2137=\"\",\"\",COUNTIF($V$7:V2137,\"該当３\"))","v":""}]
[2020910012,20,{"v":209,"d":"209 "},{"v":10,"d":"10 "},{"v":12,"d":"012 "},"長野県","伊那市","三義村","下芝平",null,"","",{"$f":"IF(K2141=\"\",\"\",COUNTIF($K$7:K2141,\"ﾘｽﾄ１\"))","v":""},"","","","","","","",{"$f":"IF(S2141=\"\",\"\",COUNTIF($S$7:S2141,\"該当２\"))","v":""},"","",{"$f":"IF(V2141=\"\",\"\",COUNTIF($V$7:V2141,\"該当３\"))","v":""}]
[2020911002,20,{"v":209,"d":"209 "},{"v":11,"d":"11 "},{"v":2,"d":"002 "},"長野県","伊那市","藤沢村","松倉",null,"","",{"$f":"IF(K2146=\"\",\"\",COUNTIF($K$7:K2146,\"ﾘｽﾄ１\"))","v":""},"","","","","","","",{"$f":"IF(S2146=\"\",\"\",COUNTIF($S$7:S2146,\"該当２\"))","v":""},"","",{"$f":"IF(V2146=\"\",\"\",COUNTIF($V$7:V2146,\"該当３\"))","v":""}]
[2020911007,20,{"v":209,"d":"209 "},{"v":11,"d":"11 "},{"v":7,"d":"007 "},"長野県","伊那市","藤沢村","台",null,"","",{"$f":"IF(K2151=\"\",\"\",COUNTIF($K$7:K2151,\"ﾘｽﾄ１\"))","v":""},"","","","","","","",{"$f":"IF(S2151=\"\",\"\",COUNTIF($S$7:S2151,\"該当２\"))","v":""},"","",{"$f":"IF(V2151=\"\",\"\",COUNTIF($V$7:V2151,\"該当３\"))","v":""}]
[2020912004,20,{"v":209,"d":"209 "},{"v":12,"d":"12 "},{"v":4,"d":"004 "},"長野県","伊那市","河南村","下山田",null,"","",{"$f":"IF(K2156=\"\",\"\",COUNTIF($K$7:K2156,\"ﾘｽﾄ１\"))","v":""},"","","","","","","",{"$f":"IF(S2156=\"\",\"\",COUNTIF($S$7:S2156,\"該当２\"))","v":""},"","",{"$f":"IF(V2156=\"\",\"\",COUNTIF($V$7:V2156,\"該当３\"))","v":""}]
[2020912006,20,{"v":209,"d":"209 "},{"v":12,"d":"12 "},{"v":6,"d":"006 "},"長野県","伊那市","河南村","勝間",null,"","",{"$f":"IF(K2158=\"\",\"\",COUNTIF($K$7:K2158,\"ﾘｽﾄ１\"))","v":""},"","","","","","","",{"$f":"IF(S2158=\"\",\"\",COUNTIF($S$7:S2158,\"該当２\"))","v":""},"","",{"$f":"IF(V2158=\"\",\"\",COUNTIF($V$7:V2158,\"該当３\"))","v":""}]
[2020913004,20,{"v":209,"d":"209 "},{"v":13,"d":"13 "},{"v":4,"d":"004 "},"長野県","伊那市","伊那里村","馬越",null,"","",{"$f":"IF(K2163=\"\",\"\",COUNTIF($K$7:K2163,\"ﾘｽﾄ１\"))","v":""},"","","","","","","",{"$f":"IF(S2163=\"\",\"\",COUNTIF($S$7:S2163,\"該当２\"))","v":""},"","",{"$f":"IF(V2163=\"\",\"\",COUNTIF($V$7:V2163,\"該当３\"))","v":""}]
[2020913009,20,{"v":209,"d":"209 "},{"v":13,"d":"13 "},{"v":9,"d":"009 "},"長野県","伊那市","伊那里村","宇津木",null,"","",{"$f":"IF(K2168=\"\",\"\",COUNTIF($K$7:K2168,\"ﾘｽﾄ１\"))","v":""},"","","","","","","",{"$f":"IF(S2168=\"\",\"\",COUNTIF($S$7:S2168,\"該当２\"))","v":""},"","",{"$f":"IF(V2168=\"\",\"\",COUNTIF($V$7:V2168,\"該当３\"))","v":""}]
[2020913011,20,{"v":209,"d":"209 "},{"v":13,"d":"13 "},{"v":11,"d":"011 "},"長野県","伊那市","伊那里村","中部",null,"","",{"$f":"IF(K2170=\"\",\"\",COUNTIF($K$7:K2170,\"ﾘｽﾄ１\"))","v":""},"","","","","","","",{"$f":"IF(S2170=\"\",\"\",COUNTIF($S$7:S2170,\"該当２\"))","v":""},"","",{"$f":"IF(V2170=\"\",\"\",COUNTIF($V$7:V2170,\"該当３\"))","v":""}]
[2020914000,20,{"v":209,"d":"209 "},{"v":14,"d":"14 "},{"v":0,"d":"000 "},"長野県","伊那市","美和村",null,null,"","",{"$f":"IF(K2175=\"\",\"\",COUNTIF($K$7:K2175,\"ﾘｽﾄ１\"))","v":""},"","","","","","","",{"$f":"IF(S2175=\"\",\"\",COUNTIF($S$7:S2175,\"該当２\"))","v":""},"","",{"$f":"IF(V2175=\"\",\"\",COUNTIF($V$7:V2175,\"該当３\"))","v":""}]
[2020914005,20,{"v":209,"d":"209 "},{"v":14,"d":"14 "},{"v":5,"d":"005 "},"長野県","伊那市","美和村","日向",null,"","",{"$f":"IF(K2180=\"\",\"\",COUNTIF($K$7:K2180,\"ﾘｽﾄ１\"))","v":""},"","","","","","","",{"$f":"IF(S2180=\"\",\"\",COUNTIF($S$7:S2180,\"該当２\"))","v":""},"","",{"$f":"IF(V2180=\"\",\"\",COUNTIF($V$7:V2180,\"該当３\"))","v":""}]
[2020914010,20,{"v":209,"d":"209 "},{"v":14,"d":"14 "},{"v":10,"d":"010 "},"長野県","伊那市","美和村","中山",null,"","",{"$f":"IF(K2185=\"\",\"\",COUNTIF($K$7:K2185,\"ﾘｽﾄ１\"))","v":""},"","","","","","","",{"$f":"IF(S2185=\"\",\"\",COUNTIF($S$7:S2185,\"該当２\"))","v":""},"","",{"$f":"IF(V2185=\"\",\"\",COUNTIF($V$7:V2185,\"該当３\"))","v":""}]
[2020914013,20,{"v":209,"d":"209 "},{"v":14,"d":"14 "},{"v":13,"d":"013 "},"長野県","伊那市","美和村","上城",null,"","",{"$f":"IF(K2188=\"\",\"\",COUNTIF($K$7:K2188,\"ﾘｽﾄ１\"))","v":""},"","","","","","","",{"$f":"IF(S2188=\"\",\"\",COUNTIF($S$7:S2188,\"該当２\"))","v":""},"","",{"$f":"IF(V2188=\"\",\"\",COUNTIF($V$7:V2188,\"該当３\"))","v":""}]
[2020914017,20,{"v":209,"d":"209 "},{"v":14,"d":"14 "},{"v":17,"d":"017 "},"長野県","伊那市","美和村","黒川",null,"","",{"$f":"IF(K2192=\"\",\"\",COUNTIF($K$7:K2192,\"ﾘｽﾄ１\"))","v":""},"","","","","","","",{"$f":"IF(S2192=\"\",\"\",COUNTIF($S$7:S2192,\"該当２\"))","v":""},"","",{"$f":"IF(V2192=\"\",\"\",COUNTIF($V$7:V2192,\"該当３\"))","v":""}]
[2021001002,20,{"v":210,"d":"210 "},{"v":1,"d":"01 "},{"v":2,"d":"002 "},"長野県","駒ヶ根市","赤穂町","南割第２",null,"","",{"$f":"IF(K2197=\"\",\"\",COUNTIF($K$7:K2197,\"ﾘｽﾄ１\"))","v":""},"","","","","","","",{"$f":"IF(S2197=\"\",\"\",COUNTIF($S$7:S2197,\"該当２\"))","v":""},"","",{"$f":"IF(V2197=\"\",\"\",COUNTIF($V$7:V2197,\"該当３\"))","v":""}]
[2021001007,20,{"v":210,"d":"210 "},{"v":1,"d":"01 "},{"v":7,"d":"007 "},"長野県","駒ヶ根市","赤穂町","南方",null,"","",{"$f":"IF(K2202=\"\",\"\",COUNTIF($K$7:K2202,\"ﾘｽﾄ１\"))","v":""},"","","","","","","",{"$f":"IF(S2202=\"\",\"\",COUNTIF($S$7:S2202,\"該当２\"))","v":""},"","",{"$f":"IF(V2202=\"\",\"\",COUNTIF($V$7:V2202,\"該当３\"))","v":""}]
[2021001012,20,{"v":210,"d":"210 "},{"v":1,"d":"01 "},{"v":12,"d":"012 "},"長野県","駒ヶ根市","赤穂町","女体",null,"","",{"$f":"IF(K2207=\"\",\"\",COUNTIF($K$7:K2207,\"ﾘｽﾄ１\"))","v":""},"","","","","","","",{"$f":"IF(S2207=\"\",\"\",COUNTIF($S$7:S2207,\"該当２\"))","v":""},"","",{"$f":"IF(V2207=\"\",\"\",COUNTIF($V$7:V2207,\"該当３\"))","v":""}]
[2021001014,20,{"v":210,"d":"210 "},{"v":1,"d":"01 "},{"v":14,"d":"014 "},"長野県","駒ヶ根市","赤穂町","切石原，菅の台",null,"","",{"$f":"IF(K2209=\"\",\"\",COUNTIF($K$7:K2209,\"ﾘｽﾄ１\"))","v":""},"","","","","","","",{"$f":"IF(S2209=\"\",\"\",COUNTIF($S$7:S2209,\"該当２\"))","v":""},"","",{"$f":"IF(V2209=\"\",\"\",COUNTIF($V$7:V2209,\"該当３\"))","v":""}]
[2021001019,20,{"v":210,"d":"210 "},{"v":1,"d":"01 "},{"v":19,"d":"019 "},"長野県","駒ヶ根市","赤穂町","久保",null,"","",{"$f":"IF(K2214=\"\",\"\",COUNTIF($K$7:K2214,\"ﾘｽﾄ１\"))","v":""},"","","","","","","",{"$f":"IF(S2214=\"\",\"\",COUNTIF($S$7:S2214,\"該当２\"))","v":""},"","",{"$f":"IF(V2214=\"\",\"\",COUNTIF($V$7:V2214,\"該当３\"))","v":""}]
[2021001024,20,{"v":210,"d":"210 "},{"v":1,"d":"01 "},{"v":24,"d":"024 "},"長野県","駒ヶ根市","赤穂町","北部",null,"","",{"$f":"IF(K2219=\"\",\"\",COUNTIF($K$7:K2219,\"ﾘｽﾄ１\"))","v":""},"","","","","","","",{"$f":"IF(S2219=\"\",\"\",COUNTIF($S$7:S2219,\"該当２\"))","v":""},"","",{"$f":"IF(V2219=\"\",\"\",COUNTIF($V$7:V2219,\"該当３\"))","v":""}]
[2021001025,20,{"v":210,"d":"210 "},{"v":1,"d":"01 "},{"v":25,"d":"025 "},"長野県","駒ヶ根市","赤穂町","福岡第１",null,"","",{"$f":"IF(K2220=\"\",\"\",COUNTIF($K$7:K2220,\"ﾘｽﾄ１\"))","v":""},"","","","","","","",{"$f":"IF(S2220=\"\",\"\",COUNTIF($S$7:S2220,\"該当２\"))","v":""},"","",{"$f":"IF(V2220=\"\",\"\",COUNTIF($V$7:V2220,\"該当３\"))","v":""}]
[2021001031,20,{"v":210,"d":"210 "},{"v":1,"d":"01 "},{"v":31,"d":"031 "},"長野県","駒ヶ根市","赤穂町","放下小平",null,"","",{"$f":"IF(K2226=\"\",\"\",COUNTIF($K$7:K2226,\"ﾘｽﾄ１\"))","v":""},"","","","","","","",{"$f":"IF(S2226=\"\",\"\",COUNTIF($S$7:S2226,\"該当２\"))","v":""},"","",{"$f":"IF(V2226=\"\",\"\",COUNTIF($V$7:V2226,\"該当３\"))","v":""}]
[2021001036,20,{"v":210,"d":"210 "},{"v":1,"d":"01 "},{"v":36,"d":"036 "},"長野県","駒ヶ根市","赤穂町","上赤須第３",null,"","",{"$f":"IF(K2231=\"\",\"\",COUNTIF($K$7:K2231,\"ﾘｽﾄ１\"))","v":""},"","","","","","","",{"$f":"IF(S2231=\"\",\"\",COUNTIF($S$7:S2231,\"該当２\"))","v":""},"","",{"$f":"IF(V2231=\"\",\"\",COUNTIF($V$7:V2231,\"該当３\"))","v":""}]
[2021001041,20,{"v":210,"d":"210 "},{"v":1,"d":"01 "},{"v":41,"d":"041 "},"長野県","駒ヶ根市","赤穂町","入口",null,"","",{"$f":"IF(K2236=\"\",\"\",COUNTIF($K$7:K2236,\"ﾘｽﾄ１\"))","v":""},"","","","","","","",{"$f":"IF(S2236=\"\",\"\",COUNTIF($S$7:S2236,\"該当２\"))","v":""},"","",{"$f":"IF(V2236=\"\",\"\",COUNTIF($V$7:V2236,\"該当３\"))","v":""}]
[2021001044,20,{"v":210,"d":"210 "},{"v":1,"d":"01 "},{"v":44,"d":"044 "},"長野県","駒ヶ根市","赤穂町","田沢，相田",null,"","",{"$f":"IF(K2239=\"\",\"\",COUNTIF($K$7:K2239,\"ﾘｽﾄ１\"))","v":""},"","","","","","","",{"$f":"IF(S2239=\"\",\"\",COUNTIF($S$7:S2239,\"該当２\"))","v":""},"","",{"$f":"IF(V2239=\"\",\"\",COUNTIF($V$7:V2239,\"該当３\"))","v":""}]
[2021001048,20,{"v":210,"d":"210 "},{"v":1,"d":"01 "},{"v":48,"d":"048 "},"長野県","駒ヶ根市","赤穂町","上手東",null,"","",{"$f":"IF(K2243=\"\",\"\",COUNTIF($K$7:K2243,\"ﾘｽﾄ１\"))","v":""},"","","","","","","",{"$f":"IF(S2243=\"\",\"\",COUNTIF($S$7:S2243,\"該当２\"))","v":""},"","",{"$f":"IF(V2243=\"\",\"\",COUNTIF($V$7:V2243,\"該当３\"))","v":""}]
[2021001053,20,{"v":210,"d":"210 "},{"v":1,"d":"01 "},{"v":53,"d":"053 "},"長野県","駒ヶ根市","赤穂町","町１区の１",null,"","",{"$f":"IF(K2248=\"\",\"\",COUNTIF($K$7:K2248,\"ﾘｽﾄ１\"))","v":""},"","","","","","","",{"$f":"IF(S2248=\"\",\"\",COUNTIF($S$7:S2248,\"該当２\"))","v":""},"","",{"$f":"IF(V2248=\"\",\"\",COUNTIF($V$7:V2248,\"該当３\"))","v":""}]
[2021001058,20,{"v":210,"d":"210 "},{"v":1,"d":"01 "},{"v":58,"d":"058 "},"長野県","駒ヶ根市","赤穂町","町３区の１",null,"","",{"$f":"IF(K2253=\"\",\"\",COUNTIF($K$7:K2253,\"ﾘｽﾄ１\"))","v":""},"","","","","","","",{"$f":"IF(S2253=\"\",\"\",COUNTIF($S$7:S2253,\"該当２\"))","v":""},"","",{"$f":"IF(V2253=\"\",\"\",COUNTIF($V$7:V2253,\"該当３\"))","v":""}]
[2021001062,20,{"v":210,"d":"210 "},{"v":1,"d":"01 "},{"v":62,"d":"062 "},"長野県","駒ヶ根市","赤穂町","町４区の３",null,"","",{"$f":"IF(K2257=\"\",\"\",COUNTIF($K$7:K2257,\"ﾘｽﾄ１\"))","v":""},"","","","","","","",{"$f":"IF(S2257=\"\",\"\",COUNTIF($S$7:S2257,\"該当２\"))","v":""},"","",{"$f":"IF(V2257=\"\",\"\",COUNTIF($V$7:V2257,\"該当３\"))","v":""}]
[2021001065,20,{"v":210,"d":"210 "},{"v":1,"d":"01 "},{"v":65,"d":"065 "},"長野県","駒ヶ根市","赤穂町","上穂町の３",null,"","",{"$f":"IF(K2260=\"\",\"\",COUNTIF($K$7:K2260,\"ﾘｽﾄ１\"))","v":""},"","","","","","","",{"$f":"IF(S2260=\"\",\"\",COUNTIF($S$7:S2260,\"該当２\"))","v":""},"","",{"$f":"IF(V2260=\"\",\"\",COUNTIF($V$7:V2260,\"該当３\"))","v":""}]
[2021002002,20,{"v":210,"d":"210 "},{"v":2,"d":"02 "},{"v":2,"d":"002 "},"長野県","駒ヶ根市","中沢村","永見山",null,"","",{"$f":"IF(K2265=\"\",\"\",COUNTIF($K$7:K2265,\"ﾘｽﾄ１\"))","v":""},"","","","","","","",{"$f":"IF(S2265=\"\",\"\",COUNTIF($S$7:S2265,\"該当２\"))","v":""},"","",{"$f":"IF(V2265=\"\",\"\",COUNTIF($V$7:V2265,\"該当３\"))","v":""}]
[2021002007,20,{"v":210,"d":"210 "},{"v":2,"d":"02 "},{"v":7,"d":"007 "},"長野県","駒ヶ根市","中沢村","中山",null,"","",{"$f":"IF(K2270=\"\",\"\",COUNTIF($K$7:K2270,\"ﾘｽﾄ１\"))","v":""},"","","","","","","",{"$f":"IF(S2270=\"\",\"\",COUNTIF($S$7:S2270,\"該当２\"))","v":""},"","",{"$f":"IF(V2270=\"\",\"\",COUNTIF($V$7:V2270,\"該当３\"))","v":""}]
[2021002008,20,{"v":210,"d":"210 "},{"v":2,"d":"02 "},{"v":8,"d":"008 "},"長野県","駒ヶ根市","中沢村","大曽倉",null,"","",{"$f":"IF(K2271=\"\",\"\",COUNTIF($K$7:K2271,\"ﾘｽﾄ１\"))","v":""},"","","","","","","",{"$f":"IF(S2271=\"\",\"\",COUNTIF($S$7:S2271,\"該当２\"))","v":""},"","",{"$f":"IF(V2271=\"\",\"\",COUNTIF($V$7:V2271,\"該当３\"))","v":""}]
[2021003001,20,{"v":210,"d":"210 "},{"v":3,"d":"03 "},{"v":1,"d":"001 "},"長野県","駒ヶ根市","伊那村","伊那",null,"","",{"$f":"IF(K2277=\"\",\"\",COUNTIF($K$7:K2277,\"ﾘｽﾄ１\"))","v":""},"","","","","","","",{"$f":"IF(S2277=\"\",\"\",COUNTIF($S$7:S2277,\"該当２\"))","v":""},"","",{"$f":"IF(V2277=\"\",\"\",COUNTIF($V$7:V2277,\"該当３\"))","v":""}]
[2021100000,20,{"v":211,"d":"211 "},{"v":0,"d":"00 "},{"v":0,"d":"000 "},"長野県","中野市",{"$nulls":3},"ﾘｽﾄ１","中野市",{"$f":"IF(K2282=\"\",\"\",COUNTIF($K$7:K2282,\"ﾘｽﾄ１\"))","v":11},"","","","","","","",{"$f":"IF(S2282=\"\",\"\",COUNTIF($S$7:S2282,\"該当２\"))","v":""},"","",{"$f":"IF(V2282=\"\",\"\",COUNTIF($V$7:V2282,\"該当３\"))","v":""}]
[2021101004,20,{"v":211,"d":"211 "},{"v":1,"d":"01 "},{"v":4,"d":"004 "},"長野県","中野市","中野町","普代",null,"","",{"$f":"IF(K2287=\"\",\"\",COUNTIF($K$7:K2287,\"ﾘｽﾄ１\"))","v":""},"","","","","","","",{"$f":"IF(S2287=\"\",\"\",COUNTIF($S$7:S2287,\"該当２\"))","v":""},"","",{"$f":"IF(V2287=\"\",\"\",COUNTIF($V$7:V2287,\"該当３\"))","v":""}]
[2021101006,20,{"v":211,"d":"211 "},{"v":1,"d":"01 "},{"v":6,"d":"006 "},"長野県","中野市","中野町","下小田中",null,"","",{"$f":"IF(K2289=\"\",\"\",COUNTIF($K$7:K2289,\"ﾘｽﾄ１\"))","v":""},"","","","","","","",{"$f":"IF(S2289=\"\",\"\",COUNTIF($S$7:S2289,\"該当２\"))","v":""},"","",{"$f":"IF(V2289=\"\",\"\",COUNTIF($V$7:V2289,\"該当３\"))","v":""}]
[2021101011,20,{"v":211,"d":"211 "},{"v":1,"d":"01 "},{"v":11,"d":"011 "},"長野県","中野市","中野町","松川",null,"","",{"$f":"IF(K2294=\"\",\"\",COUNTIF($K$7:K2294,\"ﾘｽﾄ１\"))","v":""},"","","","","","","",{"$f":"IF(S2294=\"\",\"\",COUNTIF($S$7:S2294,\"該当２\"))","v":""},"","",{"$f":"IF(V2294=\"\",\"\",COUNTIF($V$7:V2294,\"該当３\"))","v":""}]
[2021102004,20,{"v":211,"d":"211 "},{"v":2,"d":"02 "},{"v":4,"d":"004 "},"長野県","中野市","日野村（中野市）","更科",null,"","",{"$f":"IF(K2299=\"\",\"\",COUNTIF($K$7:K2299,\"ﾘｽﾄ１\"))","v":""},"","","","","","","",{"$f":"IF(S2299=\"\",\"\",COUNTIF($S$7:S2299,\"該当２\"))","v":""},"","",{"$f":"IF(V2299=\"\",\"\",COUNTIF($V$7:V2299,\"該当３\"))","v":""}]
[2021103004,20,{"v":211,"d":"211 "},{"v":3,"d":"03 "},{"v":4,"d":"004 "},"長野県","中野市","延徳村","小沼",null,"","",{"$f":"IF(K2304=\"\",\"\",COUNTIF($K$7:K2304,\"ﾘｽﾄ１\"))","v":""},"","","","","","","",{"$f":"IF(S2304=\"\",\"\",COUNTIF($S$7:S2304,\"該当２\"))","v":""},"","",{"$f":"IF(V2304=\"\",\"\",COUNTIF($V$7:V2304,\"該当３\"))","v":""}]
[2021104001,20,{"v":211,"d":"211 "},{"v":4,"d":"04 "},{"v":1,"d":"001 "},"長野県","中野市","平野村","東江部",null,"","",{"$f":"IF(K2308=\"\",\"\",COUNTIF($K$7:K2308,\"ﾘｽﾄ１\"))","v":""},"","","","","","","",{"$f":"IF(S2308=\"\",\"\",COUNTIF($S$7:S2308,\"該当２\"))","v":""},"","",{"$f":"IF(V2308=\"\",\"\",COUNTIF($V$7:V2308,\"該当３\"))","v":""}]
[2021104004,20,{"v":211,"d":"211 "},{"v":4,"d":"04 "},{"v":4,"d":"004 "},"長野県","中野市","平野村","吉田",null,"","",{"$f":"IF(K2311=\"\",\"\",COUNTIF($K$7:K2311,\"ﾘｽﾄ１\"))","v":""},"","","","","","","",{"$f":"IF(S2311=\"\",\"\",COUNTIF($S$7:S2311,\"該当２\"))","v":""},"","",{"$f":"IF(V2311=\"\",\"\",COUNTIF($V$7:V2311,\"該当３\"))","v":""}]
[2021105001,20,{"v":211,"d":"211 "},{"v":5,"d":"05 "},{"v":1,"d":"001 "},"長野県","中野市","高丘村","安源寺",null,"","",{"$f":"IF(K2316=\"\",\"\",COUNTIF($K$7:K2316,\"ﾘｽﾄ１\"))","v":""},"","","","","","","",{"$f":"IF(S2316=\"\",\"\",COUNTIF($S$7:S2316,\"該当２\"))","v":""},"","",{"$f":"IF(V2316=\"\",\"\",COUNTIF($V$7:V2316,\"該当３\"))","v":""}]
[2021106000,20,{"v":211,"d":"211 "},{"v":6,"d":"06 "},{"v":0,"d":"000 "},"長野県","中野市","長丘村",null,null,"","",{"$f":"IF(K2321=\"\",\"\",COUNTIF($K$7:K2321,\"ﾘｽﾄ１\"))","v":""},"","","","","","","",{"$f":"IF(S2321=\"\",\"\",COUNTIF($S$7:S2321,\"該当２\"))","v":""},"","",{"$f":"IF(V2321=\"\",\"\",COUNTIF($V$7:V2321,\"該当３\"))","v":""}]
[2021106005,20,{"v":211,"d":"211 "},{"v":6,"d":"06 "},{"v":5,"d":"005 "},"長野県","中野市","長丘村","大俣",null,"","",{"$f":"IF(K2326=\"\",\"\",COUNTIF($K$7:K2326,\"ﾘｽﾄ１\"))","v":""},"","","","","","","",{"$f":"IF(S2326=\"\",\"\",COUNTIF($S$7:S2326,\"該当２\"))","v":""},"","",{"$f":"IF(V2326=\"\",\"\",COUNTIF($V$7:V2326,\"該当３\"))","v":""}]
[2021107001,20,{"v":211,"d":"211 "},{"v":7,"d":"07 "},{"v":1,"d":"001 "},"長野県","中野市","平岡村（中野市）","新井",null,"","",{"$f":"IF(K2328=\"\",\"\",COUNTIF($K$7:K2328,\"ﾘｽﾄ１\"))","v":""},"","","","","","","",{"$f":"IF(S2328=\"\",\"\",COUNTIF($S$7:S2328,\"該当２\"))","v":""},"","",{"$f":"IF(V2328=\"\",\"\",COUNTIF($V$7:V2328,\"該当３\"))","v":""}]
[2021107006,20,{"v":211,"d":"211 "},{"v":7,"d":"07 "},{"v":6,"d":"006 "},"長野県","中野市","平岡村（中野市）","北間長瀬",null,"","",{"$f":"IF(K2333=\"\",\"\",COUNTIF($K$7:K2333,\"ﾘｽﾄ１\"))","v":""},"","","","","","","",{"$f":"IF(S2333=\"\",\"\",COUNTIF($S$7:S2333,\"該当２\"))","v":""},"","",{"$f":"IF(V2333=\"\",\"\",COUNTIF($V$7:V2333,\"該当３\"))","v":""}]
[2021108002,20,{"v":211,"d":"211 "},{"v":8,"d":"08 "},{"v":2,"d":"002 "},"長野県","中野市","科野村","越",null,"","",{"$f":"IF(K2338=\"\",\"\",COUNTIF($K$7:K2338,\"ﾘｽﾄ１\"))","v":""},"","","","","","","",{"$f":"IF(S2338=\"\",\"\",COUNTIF($S$7:S2338,\"該当２\"))","v":""},"","",{"$f":"IF(V2338=\"\",\"\",COUNTIF($V$7:V2338,\"該当３\"))","v":""}]
[2021109000,20,{"v":211,"d":"211 "},{"v":9,"d":"09 "},{"v":0,"d":"000 "},"長野県","中野市","倭村（中野市）",null,null,"","",{"$f":"IF(K2340=\"\",\"\",COUNTIF($K$7:K2340,\"ﾘｽﾄ１\"))","v":""},"","","","","","","",{"$f":"IF(S2340=\"\",\"\",COUNTIF($S$7:S2340,\"該当２\"))","v":""},"","",{"$f":"IF(V2340=\"\",\"\",COUNTIF($V$7:V2340,\"該当３\"))","v":""}]
[2021109005,20,{"v":211,"d":"211 "},{"v":9,"d":"09 "},{"v":5,"d":"005 "},"長野県","中野市","倭村（中野市）","岩井東",null,"","",{"$f":"IF(K2345=\"\",\"\",COUNTIF($K$7:K2345,\"ﾘｽﾄ１\"))","v":""},"","","","","","","",{"$f":"IF(S2345=\"\",\"\",COUNTIF($S$7:S2345,\"該当２\"))","v":""},"","",{"$f":"IF(V2345=\"\",\"\",COUNTIF($V$7:V2345,\"該当３\"))","v":""}]
[2021110004,20,{"v":211,"d":"211 "},{"v":10,"d":"10 "},{"v":4,"d":"004 "},"長野県","中野市","豊井村","米山",null,"","",{"$f":"IF(K2350=\"\",\"\",COUNTIF($K$7:K2350,\"ﾘｽﾄ１\"))","v":""},"","","","","","","",{"$f":"IF(S2350=\"\",\"\",COUNTIF($S$7:S2350,\"該当２\"))","v":""},"","",{"$f":"IF(V2350=\"\",\"\",COUNTIF($V$7:V2350,\"該当３\"))","v":""}]
[2021111000,20,{"v":211,"d":"211 "},{"v":11,"d":"11 "},{"v":0,"d":"000 "},"長野県","中野市","永田村",null,null,"","",{"$f":"IF(K2355=\"\",\"\",COUNTIF($K$7:K2355,\"ﾘｽﾄ１\"))","v":""},"","","","","","","",{"$f":"IF(S2355=\"\",\"\",COUNTIF($S$7:S2355,\"該当２\"))","v":""},"","",{"$f":"IF(V2355=\"\",\"\",COUNTIF($V$7:V2355,\"該当３\"))","v":""}]
[2021111003,20,{"v":211,"d":"211 "},{"v":11,"d":"11 "},{"v":3,"d":"003 "},"長野県","中野市","永田村","南永江",null,"","",{"$f":"IF(K2358=\"\",\"\",COUNTIF($K$7:K2358,\"ﾘｽﾄ１\"))","v":""},"","","","","","","",{"$f":"IF(S2358=\"\",\"\",COUNTIF($S$7:S2358,\"該当２\"))","v":""},"","",{"$f":"IF(V2358=\"\",\"\",COUNTIF($V$7:V2358,\"該当３\"))","v":""}]
[2021111007,20,{"v":211,"d":"211 "},{"v":11,"d":"11 "},{"v":7,"d":"007 "},"長野県","中野市","永田村","親川",null,"","",{"$f":"IF(K2362=\"\",\"\",COUNTIF($K$7:K2362,\"ﾘｽﾄ１\"))","v":""},"","","","","","","",{"$f":"IF(S2362=\"\",\"\",COUNTIF($S$7:S2362,\"該当２\"))","v":""},"","",{"$f":"IF(V2362=\"\",\"\",COUNTIF($V$7:V2362,\"該当３\"))","v":""}]
[2021111012,20,{"v":211,"d":"211 "},{"v":11,"d":"11 "},{"v":12,"d":"012 "},"長野県","中野市","永田村","深沢",null,"","",{"$f":"IF(K2367=\"\",\"\",COUNTIF($K$7:K2367,\"ﾘｽﾄ１\"))","v":""},"","","","","","","",{"$f":"IF(S2367=\"\",\"\",COUNTIF($S$7:S2367,\"該当２\"))","v":""},"","",{"$f":"IF(V2367=\"\",\"\",COUNTIF($V$7:V2367,\"該当３\"))","v":""}]
[2021201003,20,{"v":212,"d":"212 "},{"v":1,"d":"01 "},{"v":3,"d":"003 "},"長野県","大町市","大町","大原町２",null,"","",{"$f":"IF(K2372=\"\",\"\",COUNTIF($K$7:K2372,\"ﾘｽﾄ１\"))","v":""},"","","","","","","",{"$f":"IF(S2372=\"\",\"\",COUNTIF($S$7:S2372,\"該当２\"))","v":""},"","",{"$f":"IF(V2372=\"\",\"\",COUNTIF($V$7:V2372,\"該当３\"))","v":""}]
[2021201008,20,{"v":212,"d":"212 "},{"v":1,"d":"01 "},{"v":8,"d":"008 "},"長野県","大町市","大町","大黒町１",null,"","",{"$f":"IF(K2377=\"\",\"\",COUNTIF($K$7:K2377,\"ﾘｽﾄ１\"))","v":""},"","","","","","","",{"$f":"IF(S2377=\"\",\"\",COUNTIF($S$7:S2377,\"該当２\"))","v":""},"","",{"$f":"IF(V2377=\"\",\"\",COUNTIF($V$7:V2377,\"該当３\"))","v":""}]
[2021201010,20,{"v":212,"d":"212 "},{"v":1,"d":"01 "},{"v":10,"d":"010 "},"長野県","大町市","大町","相生町",null,{"$f":"IF(AND($C2379>0,$H2379=\"\"),\"ﾘｽﾄ１\",\"\")","v":""},{"$f":"IF(K2379=\"ﾘｽﾄ１\",G2379,\"\")","v":""},{"$f":"IF(K2379=\"\",\"\",COUNTIF($K$7:K2379,\"ﾘｽﾄ１\"))","v":""},{"$f":"IF(AND(D2379=0,E2379>0),\"同一区\",\"\")","v":""},{"$f":"IF(AND(EXACT($K$2,G2379),H2379>0),\"該当１\",\"\")","v":""},"","","",{"$f":"IF(AND(Q2379=\"ﾘｽﾄ2\",OR(I2379=0,AND(N2379=\"同一区\",E2379=1))),\"該当２\",\"\")","v":""},"",{"$f":"IF(S2379=\"\",\"\",COUNTIF($S$7:S2379,\"該当２\"))","v":""},"","",{"$f":"IF(V2379=\"\",\"\",COUNTIF($V$7:V2379,\"該当３\"))","v":""}]
[2021201015,20,{"v":212,"d":"212 "},{"v":1,"d":"01 "},{"v":15,"d":"015 "},"長野県","大町市","大町","神栄町",null,"","",{"$f":"IF(K2384=\"\",\"\",COUNTIF($K$7:K2384,\"ﾘｽﾄ１\"))","v":""},"","","","","","","",{"$f":"IF(S2384=\"\",\"\",COUNTIF($S$7:S2384,\"該当２\"))","v":""},"","",{"$f":"IF(V2384=\"\",\"\",COUNTIF($V$7:V2384,\"該当３\"))","v":""}]
[2021201020,20,{"v":212,"d":"212 "},{"v":1,"d":"01 "},{"v":20,"d":"020 "},"長野県","大町市","大町","南原町",null,"","",{"$f":"IF(K2389=\"\",\"\",COUNTIF($K$7:K2389,\"ﾘｽﾄ１\"))","v":""},"","","","","","","",{"$f":"IF(S2389=\"\",\"\",COUNTIF($S$7:S2389,\"該当２\"))","v":""},"","",{"$f":"IF(V2389=\"\",\"\",COUNTIF($V$7:V2389,\"該当３\"))","v":""}]
[2021201021,20,{"v":212,"d":"212 "},{"v":1,"d":"01 "},{"v":21,"d":"021 "},"長野県","大町市","大町","堀六日町",null,"","",{"$f":"IF(K2390=\"\",\"\",COUNTIF($K$7:K2390,\"ﾘｽﾄ１\"))","v":""},"","","","","","","",{"$f":"IF(S2390=\"\",\"\",COUNTIF($S$7:S2390,\"該当２\"))","v":""},"","",{"$f":"IF(V2390=\"\",\"\",COUNTIF($V$7:V2390,\"該当３\"))","v":""}]
[2021202001,20,{"v":212,"d":"212 "},{"v":2,"d":"02 "},{"v":1,"d":"001 "},"長野県","大町市","平村","加蔵",null,"","",{"$f":"IF(K2396=\"\",\"\",COUNTIF($K$7:K2396,\"ﾘｽﾄ１\"))","v":""},"","","","","","","",{"$f":"IF(S2396=\"\",\"\",COUNTIF($S$7:S2396,\"該当２\"))","v":""},"","",{"$f":"IF(V2396=\"\",\"\",COUNTIF($V$7:V2396,\"該当３\"))","v":""}]
[2021202006,20,{"v":212,"d":"212 "},{"v":2,"d":"02 "},{"v":6,"d":"006 "},"長野県","大町市","平村","崩沢",null,"","",{"$f":"IF(K2401=\"\",\"\",COUNTIF($K$7:K2401,\"ﾘｽﾄ１\"))","v":""},"","","","","","","",{"$f":"IF(S2401=\"\",\"\",COUNTIF($S$7:S2401,\"該当２\"))","v":""},"","",{"$f":"IF(V2401=\"\",\"\",COUNTIF($V$7:V2401,\"該当３\"))","v":""}]
[2021202011,20,{"v":212,"d":"212 "},{"v":2,"d":"02 "},{"v":11,"d":"011 "},"長野県","大町市","平村","木崎",null,"","",{"$f":"IF(K2406=\"\",\"\",COUNTIF($K$7:K2406,\"ﾘｽﾄ１\"))","v":""},"","","","","","","",{"$f":"IF(S2406=\"\",\"\",COUNTIF($S$7:S2406,\"該当２\"))","v":""},"","",{"$f":"IF(V2406=\"\",\"\",COUNTIF($V$7:V2406,\"該当３\"))","v":""}]
[2021202014,20,{"v":212,"d":"212 "},{"v":2,"d":"02 "},{"v":14,"d":"014 "},"長野県","大町市","平村","仁科郷",null,"","",{"$f":"IF(K2409=\"\",\"\",COUNTIF($K$7:K2409,\"ﾘｽﾄ１\"))","v":""},"","","","","","","",{"$f":"IF(S2409=\"\",\"\",COUNTIF($S$7:S2409,\"該当２\"))","v":""},"","",{"$f":"IF(V2409=\"\",\"\",COUNTIF($V$7:V2409,\"該当３\"))","v":""}]
[2021202018,20,{"v":212,"d":"212 "},{"v":2,"d":"02 "},{"v":18,"d":"018 "},"長野県","大町市","平村","中花見",null,"","",{"$f":"IF(K2413=\"\",\"\",COUNTIF($K$7:K2413,\"ﾘｽﾄ１\"))","v":""},"","","","","","","",{"$f":"IF(S2413=\"\",\"\",COUNTIF($S$7:S2413,\"該当２\"))","v":""},"","",{"$f":"IF(V2413=\"\",\"\",COUNTIF($V$7:V2413,\"該当３\"))","v":""}]
[2021202023,20,{"v":212,"d":"212 "},{"v":2,"d":"02 "},{"v":23,"d":"023 "},"長野県","大町市","平村","大出",null,"","",{"$f":"IF(K2418=\"\",\"\",COUNTIF($K$7:K2418,\"ﾘｽﾄ１\"))","v":""},"","","","","","","",{"$f":"IF(S2418=\"\",\"\",COUNTIF($S$7:S2418,\"該当２\"))","v":""},"","",{"$f":"IF(V2418=\"\",\"\",COUNTIF($V$7:V2418,\"該当３\"))","v":""}]
[2021202028,20,{"v":212,"d":"212 "},{"v":2,"d":"02 "},{"v":28,"d":"028 "},"長野県","大町市","平村","野口新屋",null,"","",{"$f":"IF(K2423=\"\",\"\",COUNTIF($K$7:K2423,\"ﾘｽﾄ１\"))","v":""},"","","","","","","",{"$f":"IF(S2423=\"\",\"\",COUNTIF($S$7:S2423,\"該当２\"))","v":""},"","",{"$f":"IF(V2423=\"\",\"\",COUNTIF($V$7:V2423,\"該当３\"))","v":""}]
[2021203002,20,{"v":212,"d":"212 "},{"v":3,"d":"03 "},{"v":2,"d":"002 "},"長野県","大町市","常盤村（大町市）","西山原村",null,"","",{"$f":"IF(K2427=\"\",\"\",COUNTIF($K$7:K2427,\"ﾘｽﾄ１\"))","v":""},"","","","","","","",{"$f":"IF(S2427=\"\",\"\",COUNTIF($S$7:S2427,\"該当２\"))","v":""},"","",{"$f":"IF(V2427=\"\",\"\",COUNTIF($V$7:V2427,\"該当３\"))","v":""}]
[2021203005,20,{"v":212,"d":"212 "},{"v":3,"d":"03 "},{"v":5,"d":"005 "},"長野県","大町市","常盤村（大町市）","沓掛",null,"","",{"$f":"IF(K2430=\"\",\"\",COUNTIF($K$7:K2430,\"ﾘｽﾄ１\"))","v":""},"","","","","","","",{"$f":"IF(S2430=\"\",\"\",COUNTIF($S$7:S2430,\"該当２\"))","v":""},"","",{"$f":"IF(V2430=\"\",\"\",COUNTIF($V$7:V2430,\"該当３\"))","v":""}]
[2021203010,20,{"v":212,"d":"212 "},{"v":3,"d":"03 "},{"v":10,"d":"010 "},"長野県","大町市","常盤村（大町市）","下一東部",null,"","",{"$f":"IF(K2435=\"\",\"\",COUNTIF($K$7:K2435,\"ﾘｽﾄ１\"))","v":""},"","","","","","","",{"$f":"IF(S2435=\"\",\"\",COUNTIF($S$7:S2435,\"該当２\"))","v":""},"","",{"$f":"IF(V2435=\"\",\"\",COUNTIF($V$7:V2435,\"該当３\"))","v":""}]
[2021203015,20,{"v":212,"d":"212 "},{"v":3,"d":"03 "},{"v":15,"d":"015 "},"長野県","大町市","常盤村（大町市）","中村大林",null,"","",{"$f":"IF(K2440=\"\",\"\",COUNTIF($K$7:K2440,\"ﾘｽﾄ１\"))","v":""},"","","","","","","",{"$f":"IF(S2440=\"\",\"\",COUNTIF($S$7:S2440,\"該当２\"))","v":""},"","",{"$f":"IF(V2440=\"\",\"\",COUNTIF($V$7:V2440,\"該当３\"))","v":""}]
[2021203016,20,{"v":212,"d":"212 "},{"v":3,"d":"03 "},{"v":16,"d":"016 "},"長野県","大町市","常盤村（大町市）","西村",null,"","",{"$f":"IF(K2441=\"\",\"\",COUNTIF($K$7:K2441,\"ﾘｽﾄ１\"))","v":""},"","","","","","","",{"$f":"IF(S2441=\"\",\"\",COUNTIF($S$7:S2441,\"該当２\"))","v":""},"","",{"$f":"IF(V2441=\"\",\"\",COUNTIF($V$7:V2441,\"該当３\"))","v":""}]
[2021203022,20,{"v":212,"d":"212 "},{"v":3,"d":"03 "},{"v":22,"d":"022 "},"長野県","大町市","常盤村（大町市）","中部",null,"","",{"$f":"IF(K2447=\"\",\"\",COUNTIF($K$7:K2447,\"ﾘｽﾄ１\"))","v":""},"","","","","","","",{"$f":"IF(S2447=\"\",\"\",COUNTIF($S$7:S2447,\"該当２\"))","v":""},"","",{"$f":"IF(V2447=\"\",\"\",COUNTIF($V$7:V2447,\"該当３\"))","v":""}]
[2021203027,20,{"v":212,"d":"212 "},{"v":3,"d":"03 "},{"v":27,"d":"027 "},"長野県","大町市","常盤村（大町市）","大久保",null,"","",{"$f":"IF(K2452=\"\",\"\",COUNTIF($K$7:K2452,\"ﾘｽﾄ１\"))","v":""},"","","","","","","",{"$f":"IF(S2452=\"\",\"\",COUNTIF($S$7:S2452,\"該当２\"))","v":""},"","",{"$f":"IF(V2452=\"\",\"\",COUNTIF($V$7:V2452,\"該当３\"))","v":""}]
[2021203032,20,{"v":212,"d":"212 "},{"v":3,"d":"03 "},{"v":32,"d":"032 "},"長野県","大町市","常盤村（大町市）","長畑",null,"","",{"$f":"IF(K2457=\"\",\"\",COUNTIF($K$7:K2457,\"ﾘｽﾄ１\"))","v":""},"","","","","","","",{"$f":"IF(S2457=\"\",\"\",COUNTIF($S$7:S2457,\"該当２\"))","v":""},"","",{"$f":"IF(V2457=\"\",\"\",COUNTIF($V$7:V2457,\"該当３\"))","v":""}]
[2021204002,20,{"v":212,"d":"212 "},{"v":4,"d":"04 "},{"v":2,"d":"002 "},"長野県","大町市","社村","中部",null,"","",{"$f":"IF(K2460=\"\",\"\",COUNTIF($K$7:K2460,\"ﾘｽﾄ１\"))","v":""},"","","","","","","",{"$f":"IF(S2460=\"\",\"\",COUNTIF($S$7:S2460,\"該当２\"))","v":""},"","",{"$f":"IF(V2460=\"\",\"\",COUNTIF($V$7:V2460,\"該当３\"))","v":""}]
[2021204006,20,{"v":212,"d":"212 "},{"v":4,"d":"04 "},{"v":6,"d":"006 "},"長野県","大町市","社村","閠田",null,"","",{"$f":"IF(K2464=\"\",\"\",COUNTIF($K$7:K2464,\"ﾘｽﾄ１\"))","v":""},"","","","","","","",{"$f":"IF(S2464=\"\",\"\",COUNTIF($S$7:S2464,\"該当２\"))","v":""},"","",{"$f":"IF(V2464=\"\",\"\",COUNTIF($V$7:V2464,\"該当３\"))","v":""}]
[2021205000,20,{"v":212,"d":"212 "},{"v":5,"d":"05 "},{"v":0,"d":"000 "},"長野県","大町市","八坂村２－１",null,null,"","",{"$f":"IF(K2469=\"\",\"\",COUNTIF($K$7:K2469,\"ﾘｽﾄ１\"))","v":""},"","","","","","","",{"$f":"IF(S2469=\"\",\"\",COUNTIF($S$7:S2469,\"該当２\"))","v":""},"","",{"$f":"IF(V2469=\"\",\"\",COUNTIF($V$7:V2469,\"該当３\"))","v":""}]
[2021205005,20,{"v":212,"d":"212 "},{"v":5,"d":"05 "},{"v":5,"d":"005 "},"長野県","大町市","八坂村２－１","横瀬",null,"","",{"$f":"IF(K2474=\"\",\"\",COUNTIF($K$7:K2474,\"ﾘｽﾄ１\"))","v":""},"","","","","","","",{"$f":"IF(S2474=\"\",\"\",COUNTIF($S$7:S2474,\"該当２\"))","v":""},"","",{"$f":"IF(V2474=\"\",\"\",COUNTIF($V$7:V2474,\"該当３\"))","v":""}]
[2021205009,20,{"v":212,"d":"212 "},{"v":5,"d":"05 "},{"v":9,"d":"009 "},"長野県","大町市","八坂村２－１","作ノ平",null,"","",{"$f":"IF(K2478=\"\",\"\",COUNTIF($K$7:K2478,\"ﾘｽﾄ１\"))","v":""},"","","","","","","",{"$f":"IF(S2478=\"\",\"\",COUNTIF($S$7:S2478,\"該当２\"))","v":""},"","",{"$f":"IF(V2478=\"\",\"\",COUNTIF($V$7:V2478,\"該当３\"))","v":""}]
[2021205012,20,{"v":212,"d":"212 "},{"v":5,"d":"05 "},{"v":12,"d":"012 "},"長野県","大町市","八坂村２－１","矢下",null,"","",{"$f":"IF(K2481=\"\",\"\",COUNTIF($K$7:K2481,\"ﾘｽﾄ１\"))","v":""},"","","","","","","",{"$f":"IF(S2481=\"\",\"\",COUNTIF($S$7:S2481,\"該当２\"))","v":""},"","",{"$f":"IF(V2481=\"\",\"\",COUNTIF($V$7:V2481,\"該当３\"))","v":""}]
[2021205017,20,{"v":212,"d":"212 "},{"v":5,"d":"05 "},{"v":17,"d":"017 "},"長野県","大町市","八坂村２－１","槍平",null,"","",{"$f":"IF(K2486=\"\",\"\",COUNTIF($K$7:K2486,\"ﾘｽﾄ１\"))","v":""},"","","","","","","",{"$f":"IF(S2486=\"\",\"\",COUNTIF($S$7:S2486,\"該当２\"))","v":""},"","",{"$f":"IF(V2486=\"\",\"\",COUNTIF($V$7:V2486,\"該当３\"))","v":""}]
[2021205022,20,{"v":212,"d":"212 "},{"v":5,"d":"05 "},{"v":22,"d":"022 "},"長野県","大町市","八坂村２－１","西大塚",null,"","",{"$f":"IF(K2491=\"\",\"\",COUNTIF($K$7:K2491,\"ﾘｽﾄ１\"))","v":""},"","","","","","","",{"$f":"IF(S2491=\"\",\"\",COUNTIF($S$7:S2491,\"該当２\"))","v":""},"","",{"$f":"IF(V2491=\"\",\"\",COUNTIF($V$7:V2491,\"該当３\"))","v":""}]
[2021205023,20,{"v":212,"d":"212 "},{"v":5,"d":"05 "},{"v":23,"d":"023 "},"長野県","大町市","八坂村２－１","東大塚",null,"","",{"$f":"IF(K2492=\"\",\"\",COUNTIF($K$7:K2492,\"ﾘｽﾄ１\"))","v":""},"","","","","","","",{"$f":"IF(S2492=\"\",\"\",COUNTIF($S$7:S2492,\"該当２\"))","v":""},"","",{"$f":"IF(V2492=\"\",\"\",COUNTIF($V$7:V2492,\"該当３\"))","v":""}]
[2021205029,20,{"v":212,"d":"212 "},{"v":5,"d":"05 "},{"v":29,"d":"029 "},"長野県","大町市","八坂村２－１","池ノ平",null,"","",{"$f":"IF(K2498=\"\",\"\",COUNTIF($K$7:K2498,\"ﾘｽﾄ１\"))","v":""},"","","","","","","",{"$f":"IF(S2498=\"\",\"\",COUNTIF($S$7:S2498,\"該当２\"))","v":""},"","",{"$f":"IF(V2498=\"\",\"\",COUNTIF($V$7:V2498,\"該当３\"))","v":""}]
[2021205034,20,{"v":212,"d":"212 "},{"v":5,"d":"05 "},{"v":34,"d":"034 "},"長野県","大町市","八坂村２－１","栃沢",null,"","",{"$f":"IF(K2503=\"\",\"\",COUNTIF($K$7:K2503,\"ﾘｽﾄ１\"))","v":""},"","","","","","","",{"$f":"IF(S2503=\"\",\"\",COUNTIF($S$7:S2503,\"該当２\"))","v":""},"","",{"$f":"IF(V2503=\"\",\"\",COUNTIF($V$7:V2503,\"該当３\"))","v":""}]
[2021206001,20,{"v":212,"d":"212 "},{"v":6,"d":"06 "},{"v":1,"d":"001 "},"長野県","大町市","広津村３－３","菖蒲",null,"","",{"$f":"IF(K2508=\"\",\"\",COUNTIF($K$7:K2508,\"ﾘｽﾄ１\"))","v":""},"","","","","","","",{"$f":"IF(S2508=\"\",\"\",COUNTIF($S$7:S2508,\"該当２\"))","v":""},"","",{"$f":"IF(V2508=\"\",\"\",COUNTIF($V$7:V2508,\"該当３\"))","v":""}]
[2021207001,20,{"v":212,"d":"212 "},{"v":7,"d":"07 "},{"v":1,"d":"001 "},"長野県","大町市","美麻村","南村",null,"","",{"$f":"IF(K2510=\"\",\"\",COUNTIF($K$7:K2510,\"ﾘｽﾄ１\"))","v":""},"","","","","","","",{"$f":"IF(S2510=\"\",\"\",COUNTIF($S$7:S2510,\"該当２\"))","v":""},"","",{"$f":"IF(V2510=\"\",\"\",COUNTIF($V$7:V2510,\"該当３\"))","v":""}]
[2021207006,20,{"v":212,"d":"212 "},{"v":7,"d":"07 "},{"v":6,"d":"006 "},"長野県","大町市","美麻村","宮村",null,"","",{"$f":"IF(K2515=\"\",\"\",COUNTIF($K$7:K2515,\"ﾘｽﾄ１\"))","v":""},"","","","","","","",{"$f":"IF(S2515=\"\",\"\",COUNTIF($S$7:S2515,\"該当２\"))","v":""},"","",{"$f":"IF(V2515=\"\",\"\",COUNTIF($V$7:V2515,\"該当３\"))","v":""}]
[2021207011,20,{"v":212,"d":"212 "},{"v":7,"d":"07 "},{"v":11,"d":"011 "},"長野県","大町市","美麻村","新行中",null,"","",{"$f":"IF(K2520=\"\",\"\",COUNTIF($K$7:K2520,\"ﾘｽﾄ１\"))","v":""},"","","","","","","",{"$f":"IF(S2520=\"\",\"\",COUNTIF($S$7:S2520,\"該当２\"))","v":""},"","",{"$f":"IF(V2520=\"\",\"\",COUNTIF($V$7:V2520,\"該当３\"))","v":""}]
[2021207016,20,{"v":212,"d":"212 "},{"v":7,"d":"07 "},{"v":16,"d":"016 "},"長野県","大町市","美麻村","矢久",null,"","",{"$f":"IF(K2525=\"\",\"\",COUNTIF($K$7:K2525,\"ﾘｽﾄ１\"))","v":""},"","","","","","","",{"$f":"IF(S2525=\"\",\"\",COUNTIF($S$7:S2525,\"該当２\"))","v":""},"","",{"$f":"IF(V2525=\"\",\"\",COUNTIF($V$7:V2525,\"該当３\"))","v":""}]
[2021207020,20,{"v":212,"d":"212 "},{"v":7,"d":"07 "},{"v":20,"d":"020 "},"長野県","大町市","美麻村","塩ノ川",null,"","",{"$f":"IF(K2529=\"\",\"\",COUNTIF($K$7:K2529,\"ﾘｽﾄ１\"))","v":""},"","","","","","","",{"$f":"IF(S2529=\"\",\"\",COUNTIF($S$7:S2529,\"該当２\"))","v":""},"","",{"$f":"IF(V2529=\"\",\"\",COUNTIF($V$7:V2529,\"該当３\"))","v":""}]
[2021207023,20,{"v":212,"d":"212 "},{"v":7,"d":"07 "},{"v":23,"d":"023 "},"長野県","大町市","美麻村","横手",null,"","",{"$f":"IF(K2532=\"\",\"\",COUNTIF($K$7:K2532,\"ﾘｽﾄ１\"))","v":""},"","","","","","","",{"$f":"IF(S2532=\"\",\"\",COUNTIF($S$7:S2532,\"該当２\"))","v":""},"","",{"$f":"IF(V2532=\"\",\"\",COUNTIF($V$7:V2532,\"該当３\"))","v":""}]
[2021207028,20,{"v":212,"d":"212 "},{"v":7,"d":"07 "},{"v":28,"d":"028 "},"長野県","大町市","美麻村","本村中",null,"","",{"$f":"IF(K2537=\"\",\"\",COUNTIF($K$7:K2537,\"ﾘｽﾄ１\"))","v":""},"","","","","","","",{"$f":"IF(S2537=\"\",\"\",COUNTIF($S$7:S2537,\"該当２\"))","v":""},"","",{"$f":"IF(V2537=\"\",\"\",COUNTIF($V$7:V2537,\"該当３\"))","v":""}]
[2021207033,20,{"v":212,"d":"212 "},{"v":7,"d":"07 "},{"v":33,"d":"033 "},"長野県","大町市","美麻村","長崎",null,"","",{"$f":"IF(K2542=\"\",\"\",COUNTIF($K$7:K2542,\"ﾘｽﾄ１\"))","v":""},"","","","","","","",{"$f":"IF(S2542=\"\",\"\",COUNTIF($S$7:S2542,\"該当２\"))","v":""},"","",{"$f":"IF(V2542=\"\",\"\",COUNTIF($V$7:V2542,\"該当３\"))","v":""}]
[2021207038,20,{"v":212,"d":"212 "},{"v":7,"d":"07 "},{"v":38,"d":"038 "},"長野県","大町市","美麻村","品生",null,"","",{"$f":"IF(K2547=\"\",\"\",COUNTIF($K$7:K2547,\"ﾘｽﾄ１\"))","v":""},"","","","","","","",{"$f":"IF(S2547=\"\",\"\",COUNTIF($S$7:S2547,\"該当２\"))","v":""},"","",{"$f":"IF(V2547=\"\",\"\",COUNTIF($V$7:V2547,\"該当３\"))","v":""}]
[2021207040,20,{"v":212,"d":"212 "},{"v":7,"d":"07 "},{"v":40,"d":"040 "},"長野県","大町市","美麻村","保谷，曲尾",null,"","",{"$f":"IF(K2549=\"\",\"\",COUNTIF($K$7:K2549,\"ﾘｽﾄ１\"))","v":""},"","","","","","","",{"$f":"IF(S2549=\"\",\"\",COUNTIF($S$7:S2549,\"該当２\"))","v":""},"","",{"$f":"IF(V2549=\"\",\"\",COUNTIF($V$7:V2549,\"該当３\"))","v":""}]
[2021301001,20,{"v":213,"d":"213 "},{"v":1,"d":"01 "},{"v":1,"d":"001 "},"長野県","飯山市","飯山町","奈良沢",null,"","",{"$f":"IF(K2554=\"\",\"\",COUNTIF($K$7:K2554,\"ﾘｽﾄ１\"))","v":""},"","","","","","","",{"$f":"IF(S2554=\"\",\"\",COUNTIF($S$7:S2554,\"該当２\"))","v":""},"","",{"$f":"IF(V2554=\"\",\"\",COUNTIF($V$7:V2554,\"該当３\"))","v":""}]
[2021301006,20,{"v":213,"d":"213 "},{"v":1,"d":"01 "},{"v":6,"d":"006 "},"長野県","飯山市","飯山町","堂平",null,"","",{"$f":"IF(K2559=\"\",\"\",COUNTIF($K$7:K2559,\"ﾘｽﾄ１\"))","v":""},"","","","","","","",{"$f":"IF(S2559=\"\",\"\",COUNTIF($S$7:S2559,\"該当２\"))","v":""},"","",{"$f":"IF(V2559=\"\",\"\",COUNTIF($V$7:V2559,\"該当３\"))","v":""}]
[2021301008,20,{"v":213,"d":"213 "},{"v":1,"d":"01 "},{"v":8,"d":"008 "},"長野県","飯山市","飯山町","新町",null,"","",{"$f":"IF(K2561=\"\",\"\",COUNTIF($K$7:K2561,\"ﾘｽﾄ１\"))","v":""},"","","","","","","",{"$f":"IF(S2561=\"\",\"\",COUNTIF($S$7:S2561,\"該当２\"))","v":""},"","",{"$f":"IF(V2561=\"\",\"\",COUNTIF($V$7:V2561,\"該当３\"))","v":""}]
[2021301013,20,{"v":213,"d":"213 "},{"v":1,"d":"01 "},{"v":13,"d":"013 "},"長野県","飯山市","飯山町","田町",null,"","",{"$f":"IF(K2566=\"\",\"\",COUNTIF($K$7:K2566,\"ﾘｽﾄ１\"))","v":""},"","","","","","","",{"$f":"IF(S2566=\"\",\"\",COUNTIF($S$7:S2566,\"該当２\"))","v":""},"","",{"$f":"IF(V2566=\"\",\"\",COUNTIF($V$7:V2566,\"該当３\"))","v":""}]
[2021302001,20,{"v":213,"d":"213 "},{"v":2,"d":"02 "},{"v":1,"d":"001 "},"長野県","飯山市","秋津村","上組",null,{"$f":"IF(AND($C2571>0,$H2571=\"\"),\"ﾘｽﾄ１\",\"\")","v":""},{"$f":"IF(K2571=\"ﾘｽﾄ１\",G2571,\"\")","v":""},{"$f":"IF(K2571=\"\",\"\",COUNTIF($K$7:K2571,\"ﾘｽﾄ１\"))","v":""},{"$f":"IF(AND(D2571=0,E2571>0),\"同一区\",\"\")","v":""},{"$f":"IF(AND(EXACT($K$2,G2571),H2571>0),\"該当１\",\"\")","v":""},"","","",{"$f":"IF(AND(Q2571=\"ﾘｽﾄ2\",OR(I2571=0,AND(N2571=\"同一区\",E2571=1))),\"該当２\",\"\")","v":""},"",{"$f":"IF(S2571=\"\",\"\",COUNTIF($S$7:S2571,\"該当２\"))","v":""},"","",{"$f":"IF(V2571=\"\",\"\",COUNTIF($V$7:V2571,\"該当３\"))","v":""}]
[2021302006,20,{"v":213,"d":"213 "},{"v":2,"d":"02 "},{"v":6,"d":"006 "},"長野県","飯山市","秋津村","新田",null,"","",{"$f":"IF(K2576=\"\",\"\",COUNTIF($K$7:K2576,\"ﾘｽﾄ１\"))","v":""},"","","","","","","",{"$f":"IF(S2576=\"\",\"\",COUNTIF($S$7:S2576,\"該当２\"))","v":""},"","",{"$f":"IF(V2576=\"\",\"\",COUNTIF($V$7:V2576,\"該当３\"))","v":""}]
[2021302009,20,{"v":213,"d":"213 "},{"v":2,"d":"02 "},{"v":9,"d":"009 "},"長野県","飯山市","秋津村","大久保",null,"","",{"$f":"IF(K2579=\"\",\"\",COUNTIF($K$7:K2579,\"ﾘｽﾄ１\"))","v":""},"","","","","","","",{"$f":"IF(S2579=\"\",\"\",COUNTIF($S$7:S2579,\"該当２\"))","v":""},"","",{"$f":"IF(V2579=\"\",\"\",COUNTIF($V$7:V2579,\"該当３\"))","v":""}]
[2021302013,20,{"v":213,"d":"213 "},{"v":2,"d":"02 "},{"v":13,"d":"013 "},"長野県","飯山市","秋津村","南善寺",null,"","",{"$f":"IF(K2583=\"\",\"\",COUNTIF($K$7:K2583,\"ﾘｽﾄ１\"))","v":""},"","","","","","","",{"$f":"IF(S2583=\"\",\"\",COUNTIF($S$7:S2583,\"該当２\"))","v":""},"","",{"$f":"IF(V2583=\"\",\"\",COUNTIF($V$7:V2583,\"該当３\"))","v":""}]
[2021302018,20,{"v":213,"d":"213 "},{"v":2,"d":"02 "},{"v":18,"d":"018 "},"長野県","飯山市","秋津村","堀越",null,"","",{"$f":"IF(K2588=\"\",\"\",COUNTIF($K$7:K2588,\"ﾘｽﾄ１\"))","v":""},"","","","","","","",{"$f":"IF(S2588=\"\",\"\",COUNTIF($S$7:S2588,\"該当２\"))","v":""},"","",{"$f":"IF(V2588=\"\",\"\",COUNTIF($V$7:V2588,\"該当３\"))","v":""}]
[2021303004,20,{"v":213,"d":"213 "},{"v":3,"d":"03 "},{"v":4,"d":"004 "},"長野県","飯山市","柳原村（飯山市）","南条",null,"","",{"$f":"IF(K2593=\"\",\"\",COUNTIF($K$7:K2593,\"ﾘｽﾄ１\"))","v":""},"","","","","","","",{"$f":"IF(S2593=\"\",\"\",COUNTIF($S$7:S2593,\"該当２\"))","v":""},"","",{"$f":"IF(V2593=\"\",\"\",COUNTIF($V$7:V2593,\"該当３\"))","v":""}]
[2021303011,20,{"v":213,"d":"213 "},{"v":3,"d":"03 "},{"v":11,"d":"011 "},"長野県","飯山市","柳原村（飯山市）","大平",null,"","",{"$f":"IF(K2598=\"\",\"\",COUNTIF($K$7:K2598,\"ﾘｽﾄ１\"))","v":""},"","","","","","","",{"$f":"IF(S2598=\"\",\"\",COUNTIF($S$7:S2598,\"該当２\"))","v":""},"","",{"$f":"IF(V2598=\"\",\"\",COUNTIF($V$7:V2598,\"該当３\"))","v":""}]
[2021303013,20,{"v":213,"d":"213 "},{"v":3,"d":"03 "},{"v":13,"d":"013 "},"長野県","飯山市","柳原村（飯山市）","小佐原",null,"","",{"$f":"IF(K2600=\"\",\"\",COUNTIF($K$7:K2600,\"ﾘｽﾄ１\"))","v":""},"","","","","","","",{"$f":"IF(S2600=\"\",\"\",COUNTIF($S$7:S2600,\"該当２\"))","v":""},"","",{"$f":"IF(V2600=\"\",\"\",COUNTIF($V$7:V2600,\"該当３\"))","v":""}]
[2021303018,20,{"v":213,"d":"213 "},{"v":3,"d":"03 "},{"v":18,"d":"018 "},"長野県","飯山市","柳原村（飯山市）","藤ノ木",null,"","",{"$f":"IF(K2605=\"\",\"\",COUNTIF($K$7:K2605,\"ﾘｽﾄ１\"))","v":""},"","","","","","","",{"$f":"IF(S2605=\"\",\"\",COUNTIF($S$7:S2605,\"該当２\"))","v":""},"","",{"$f":"IF(V2605=\"\",\"\",COUNTIF($V$7:V2605,\"該当３\"))","v":""}]
[2021304004,20,{"v":213,"d":"213 "},{"v":4,"d":"04 "},{"v":4,"d":"004 "},"長野県","飯山市","外様村","尾崎",null,"","",{"$f":"IF(K2610=\"\",\"\",COUNTIF($K$7:K2610,\"ﾘｽﾄ１\"))","v":""},"","","","","","","",{"$f":"IF(S2610=\"\",\"\",COUNTIF($S$7:S2610,\"該当２\"))","v":""},"","",{"$f":"IF(V2610=\"\",\"\",COUNTIF($V$7:V2610,\"該当３\"))","v":""}]
[2021304005,20,{"v":213,"d":"213 "},{"v":4,"d":"04 "},{"v":5,"d":"005 "},"長野県","飯山市","外様村","顔戸",null,"","",{"$f":"IF(K2611=\"\",\"\",COUNTIF($K$7:K2611,\"ﾘｽﾄ１\"))","v":""},"","","","","","","",{"$f":"IF(S2611=\"\",\"\",COUNTIF($S$7:S2611,\"該当２\"))","v":""},"","",{"$f":"IF(V2611=\"\",\"\",COUNTIF($V$7:V2611,\"該当３\"))","v":""}]
[2021305004,20,{"v":213,"d":"213 "},{"v":5,"d":"05 "},{"v":4,"d":"004 "},"長野県","飯山市","常盤村（飯山市）","大塚",null,"","",{"$f":"IF(K2617=\"\",\"\",COUNTIF($K$7:K2617,\"ﾘｽﾄ１\"))","v":""},"","","","","","","",{"$f":"IF(S2617=\"\",\"\",COUNTIF($S$7:S2617,\"該当２\"))","v":""},"","",{"$f":"IF(V2617=\"\",\"\",COUNTIF($V$7:V2617,\"該当３\"))","v":""}]
[2021305009,20,{"v":213,"d":"213 "},{"v":5,"d":"05 "},{"v":9,"d":"009 "},"長野県","飯山市","常盤村（飯山市）","小沼",null,"","",{"$f":"IF(K2622=\"\",\"\",COUNTIF($K$7:K2622,\"ﾘｽﾄ１\"))","v":""},"","","","","","","",{"$f":"IF(S2622=\"\",\"\",COUNTIF($S$7:S2622,\"該当２\"))","v":""},"","",{"$f":"IF(V2622=\"\",\"\",COUNTIF($V$7:V2622,\"該当３\"))","v":""}]
[2021306001,20,{"v":213,"d":"213 "},{"v":6,"d":"06 "},{"v":1,"d":"001 "},"長野県","飯山市","太田村","小境",null,"","",{"$f":"IF(K2627=\"\",\"\",COUNTIF($K$7:K2627,\"ﾘｽﾄ１\"))","v":""},"","","","","","","",{"$f":"IF(S2627=\"\",\"\",COUNTIF($S$7:S2627,\"該当２\"))","v":""},"","",{"$f":"IF(V2627=\"\",\"\",COUNTIF($V$7:V2627,\"該当３\"))","v":""}]
[2021306004,20,{"v":213,"d":"213 "},{"v":6,"d":"06 "},{"v":4,"d":"004 "},"長野県","飯山市","太田村","堀之内",null,"","",{"$f":"IF(K2630=\"\",\"\",COUNTIF($K$7:K2630,\"ﾘｽﾄ１\"))","v":""},"","","","","","","",{"$f":"IF(S2630=\"\",\"\",COUNTIF($S$7:S2630,\"該当２\"))","v":""},"","",{"$f":"IF(V2630=\"\",\"\",COUNTIF($V$7:V2630,\"該当３\"))","v":""}]
[2021306008,20,{"v":213,"d":"213 "},{"v":6,"d":"06 "},{"v":8,"d":"008 "},"長野県","飯山市","太田村","蕨野",null,"","",{"$f":"IF(K2634=\"\",\"\",COUNTIF($K$7:K2634,\"ﾘｽﾄ１\"))","v":""},"","",{"$f":"IF(O2634=\"該当１\",G2634,\"\")","v":""},{"$f":"IF(O2634=\"該当１\",\"ﾘｽﾄ2\",\"\")","v":""},{"$f":"IF(Q2634=\"ﾘｽﾄ2\",H2634,\"\")","v":""},"",{"$f":"IF(S2634=\"該当２\",H2634,\"\")","v":""},{"$f":"IF(S2634=\"\",\"\",COUNTIF($S$7:S2634,\"該当２\"))","v":""},{"$f":"IF(AND($S$2=H2634,E2634>0,E2634<998),\"該当３\",\"\")","v":""},{"$f":"IF(V2634=\"該当３\",I2634,\"\")","v":""},{"$f":"IF(V2634=\"\",\"\",COUNTIF($V$7:V2634,\"該当３\"))","v":""}]
[2021307000,20,{"v":213,"d":"213 "},{"v":7,"d":"07 "},{"v":0,"d":"000 "},"長野県","飯山市","岡山村",null,null,"","",{"$f":"IF(K2639=\"\",\"\",COUNTIF($K$7:K2639,\"ﾘｽﾄ１\"))","v":""},"","","","","","","",{"$f":"IF(S2639=\"\",\"\",COUNTIF($S$7:S2639,\"該当２\"))","v":""},"","",{"$f":"IF(V2639=\"\",\"\",COUNTIF($V$7:V2639,\"該当３\"))","v":""}]
[2021307005,20,{"v":213,"d":"213 "},{"v":7,"d":"07 "},{"v":5,"d":"005 "},"長野県","飯山市","岡山村","大久保",null,"","",{"$f":"IF(K2644=\"\",\"\",COUNTIF($K$7:K2644,\"ﾘｽﾄ１\"))","v":""},"","","","","","","",{"$f":"IF(S2644=\"\",\"\",COUNTIF($S$7:S2644,\"該当２\"))","v":""},"","",{"$f":"IF(V2644=\"\",\"\",COUNTIF($V$7:V2644,\"該当３\"))","v":""}]
[2021307009,20,{"v":213,"d":"213 "},{"v":7,"d":"07 "},{"v":9,"d":"009 "},"長野県","飯山市","岡山村","和水",null,"","",{"$f":"IF(K2648=\"\",\"\",COUNTIF($K$7:K2648,\"ﾘｽﾄ１\"))","v":""},"","","","","","","",{"$f":"IF(S2648=\"\",\"\",COUNTIF($S$7:S2648,\"該当２\"))","v":""},"","",{"$f":"IF(V2648=\"\",\"\",COUNTIF($V$7:V2648,\"該当３\"))","v":""}]
[2021307012,20,{"v":213,"d":"213 "},{"v":7,"d":"07 "},{"v":12,"d":"012 "},"長野県","飯山市","岡山村","下田",null,"","",{"$f":"IF(K2651=\"\",\"\",COUNTIF($K$7:K2651,\"ﾘｽﾄ１\"))","v":""},"","","","","","","",{"$f":"IF(S2651=\"\",\"\",COUNTIF($S$7:S2651,\"該当２\"))","v":""},"","",{"$f":"IF(V2651=\"\",\"\",COUNTIF($V$7:V2651,\"該当３\"))","v":""}]
[2021307017,20,{"v":213,"d":"213 "},{"v":7,"d":"07 "},{"v":17,"d":"017 "},"長野県","飯山市","岡山村","西大滝",null,"","",{"$f":"IF(K2656=\"\",\"\",COUNTIF($K$7:K2656,\"ﾘｽﾄ１\"))","v":""},"","","","","","","",{"$f":"IF(S2656=\"\",\"\",COUNTIF($S$7:S2656,\"該当２\"))","v":""},"","",{"$f":"IF(V2656=\"\",\"\",COUNTIF($V$7:V2656,\"該当３\"))","v":""}]
[2021308004,20,{"v":213,"d":"213 "},{"v":8,"d":"08 "},{"v":4,"d":"004 "},"長野県","飯山市","瑞穂村２－１","福島",null,"","",{"$f":"IF(K2661=\"\",\"\",COUNTIF($K$7:K2661,\"ﾘｽﾄ１\"))","v":""},"","","","","","","",{"$f":"IF(S2661=\"\",\"\",COUNTIF($S$7:S2661,\"該当２\"))","v":""},"","",{"$f":"IF(V2661=\"\",\"\",COUNTIF($V$7:V2661,\"該当３\"))","v":""}]
[2021308005,20,{"v":213,"d":"213 "},{"v":8,"d":"08 "},{"v":5,"d":"005 "},"長野県","飯山市","瑞穂村２－１","神戸",null,"","",{"$f":"IF(K2662=\"\",\"\",COUNTIF($K$7:K2662,\"ﾘｽﾄ１\"))","v":""},"","","","","","","",{"$f":"IF(S2662=\"\",\"\",COUNTIF($S$7:S2662,\"該当２\"))","v":""},"","",{"$f":"IF(V2662=\"\",\"\",COUNTIF($V$7:V2662,\"該当３\"))","v":""}]
[2021308011,20,{"v":213,"d":"213 "},{"v":8,"d":"08 "},{"v":11,"d":"011 "},"長野県","飯山市","瑞穂村２－１","北原",null,"","",{"$f":"IF(K2668=\"\",\"\",COUNTIF($K$7:K2668,\"ﾘｽﾄ１\"))","v":""},"","","","","","","",{"$f":"IF(S2668=\"\",\"\",COUNTIF($S$7:S2668,\"該当２\"))","v":""},"","",{"$f":"IF(V2668=\"\",\"\",COUNTIF($V$7:V2668,\"該当３\"))","v":""}]
[2021309004,20,{"v":213,"d":"213 "},{"v":9,"d":"09 "},{"v":4,"d":"004 "},"長野県","飯山市","木島村","安田",null,"","",{"$f":"IF(K2673=\"\",\"\",COUNTIF($K$7:K2673,\"ﾘｽﾄ１\"))","v":""},"","","","","","","",{"$f":"IF(S2673=\"\",\"\",COUNTIF($S$7:S2673,\"該当２\"))","v":""},"","",{"$f":"IF(V2673=\"\",\"\",COUNTIF($V$7:V2673,\"該当３\"))","v":""}]
[2021309009,20,{"v":213,"d":"213 "},{"v":9,"d":"09 "},{"v":9,"d":"009 "},"長野県","飯山市","木島村","天神堂",null,"","",{"$f":"IF(K2678=\"\",\"\",COUNTIF($K$7:K2678,\"ﾘｽﾄ１\"))","v":""},"","","","","","","",{"$f":"IF(S2678=\"\",\"\",COUNTIF($S$7:S2678,\"該当２\"))","v":""},"","",{"$f":"IF(V2678=\"\",\"\",COUNTIF($V$7:V2678,\"該当３\"))","v":""}]
[2021401000,20,{"v":214,"d":"214 "},{"v":1,"d":"01 "},{"v":0,"d":"000 "},"長野県","茅野市","ちの町",null,null,"","",{"$f":"IF(K2680=\"\",\"\",COUNTIF($K$7:K2680,\"ﾘｽﾄ１\"))","v":""},"","","","","","","",{"$f":"IF(S2680=\"\",\"\",COUNTIF($S$7:S2680,\"該当２\"))","v":""},"","",{"$f":"IF(V2680=\"\",\"\",COUNTIF($V$7:V2680,\"該当３\"))","v":""}]
[2021401005,20,{"v":214,"d":"214 "},{"v":1,"d":"01 "},{"v":5,"d":"005 "},"長野県","茅野市","ちの町","茅野町",null,"","",{"$f":"IF(K2685=\"\",\"\",COUNTIF($K$7:K2685,\"ﾘｽﾄ１\"))","v":""},"","","","","","","",{"$f":"IF(S2685=\"\",\"\",COUNTIF($S$7:S2685,\"該当２\"))","v":""},"","",{"$f":"IF(V2685=\"\",\"\",COUNTIF($V$7:V2685,\"該当３\"))","v":""}]
[2021402003,20,{"v":214,"d":"214 "},{"v":2,"d":"02 "},{"v":3,"d":"003 "},"長野県","茅野市","宮川村","坂室",null,"","",{"$f":"IF(K2690=\"\",\"\",COUNTIF($K$7:K2690,\"ﾘｽﾄ１\"))","v":""},"","","","","","","",{"$f":"IF(S2690=\"\",\"\",COUNTIF($S$7:S2690,\"該当２\"))","v":""},"","",{"$f":"IF(V2690=\"\",\"\",COUNTIF($V$7:V2690,\"該当３\"))","v":""}]
[2021402008,20,{"v":214,"d":"214 "},{"v":2,"d":"02 "},{"v":8,"d":"008 "},"長野県","茅野市","宮川村","新井",null,"","",{"$f":"IF(K2695=\"\",\"\",COUNTIF($K$7:K2695,\"ﾘｽﾄ１\"))","v":""},"","","","","","","",{"$f":"IF(S2695=\"\",\"\",COUNTIF($S$7:S2695,\"該当２\"))","v":""},"","",{"$f":"IF(V2695=\"\",\"\",COUNTIF($V$7:V2695,\"該当３\"))","v":""}]
[2021403001,20,{"v":214,"d":"214 "},{"v":3,"d":"03 "},{"v":1,"d":"001 "},"長野県","茅野市","米沢村","埴原田",null,{"$f":"IF(AND($C2699>0,$H2699=\"\"),\"ﾘｽﾄ１\",\"\")","v":""},{"$f":"IF(K2699=\"ﾘｽﾄ１\",G2699,\"\")","v":""},{"$f":"IF(K2699=\"\",\"\",COUNTIF($K$7:K2699,\"ﾘｽﾄ１\"))","v":""},{"$f":"IF(AND(D2699=0,E2699>0),\"同一区\",\"\")","v":""},{"$f":"IF(AND(EXACT($K$2,G2699),H2699>0),\"該当１\",\"\")","v":""},"","","",{"$f":"IF(AND(Q2699=\"ﾘｽﾄ2\",OR(I2699=0,AND(N2699=\"同一区\",E2699=1))),\"該当２\",\"\")","v":""},"",{"$f":"IF(S2699=\"\",\"\",COUNTIF($S$7:S2699,\"該当２\"))","v":""},"","",{"$f":"IF(V2699=\"\",\"\",COUNTIF($V$7:V2699,\"該当３\"))","v":""}]
[2021403004,20,{"v":214,"d":"214 "},{"v":3,"d":"03 "},{"v":4,"d":"004 "},"長野県","茅野市","米沢村","塩沢",null,"","",{"$f":"IF(K2702=\"\",\"\",COUNTIF($K$7:K2702,\"ﾘｽﾄ１\"))","v":""},"","","","","","","",{"$f":"IF(S2702=\"\",\"\",COUNTIF($S$7:S2702,\"該当２\"))","v":""},"","",{"$f":"IF(V2702=\"\",\"\",COUNTIF($V$7:V2702,\"該当３\"))","v":""}]
[2021404004,20,{"v":214,"d":"214 "},{"v":4,"d":"04 "},{"v":4,"d":"004 "},"長野県","茅野市","豊平村","下菅沢",null,"","",{"$f":"IF(K2707=\"\",\"\",COUNTIF($K$7:K2707,\"ﾘｽﾄ１\"))","v":""},"","","","","","","",{"$f":"IF(S2707=\"\",\"\",COUNTIF($S$7:S2707,\"該当２\"))","v":""},"","",{"$f":"IF(V2707=\"\",\"\",COUNTIF($V$7:V2707,\"該当３\"))","v":""}]
[2021404009,20,{"v":214,"d":"214 "},{"v":4,"d":"04 "},{"v":9,"d":"009 "},"長野県","茅野市","豊平村","上場沢",null,"","",{"$f":"IF(K2712=\"\",\"\",COUNTIF($K$7:K2712,\"ﾘｽﾄ１\"))","v":""},"","","","","","","",{"$f":"IF(S2712=\"\",\"\",COUNTIF($S$7:S2712,\"該当２\"))","v":""},"","",{"$f":"IF(V2712=\"\",\"\",COUNTIF($V$7:V2712,\"該当３\"))","v":""}]
[2021405004,20,{"v":214,"d":"214 "},{"v":5,"d":"05 "},{"v":4,"d":"004 "},"長野県","茅野市","玉川村","粟沢",null,"","",{"$f":"IF(K2717=\"\",\"\",COUNTIF($K$7:K2717,\"ﾘｽﾄ１\"))","v":""},"","","","","","","",{"$f":"IF(S2717=\"\",\"\",COUNTIF($S$7:S2717,\"該当２\"))","v":""},"","",{"$f":"IF(V2717=\"\",\"\",COUNTIF($V$7:V2717,\"該当３\"))","v":""}]
[2021405006,20,{"v":214,"d":"214 "},{"v":5,"d":"05 "},{"v":6,"d":"006 "},"長野県","茅野市","玉川村","北久保",null,"","",{"$f":"IF(K2719=\"\",\"\",COUNTIF($K$7:K2719,\"ﾘｽﾄ１\"))","v":""},"","","","","","","",{"$f":"IF(S2719=\"\",\"\",COUNTIF($S$7:S2719,\"該当２\"))","v":""},"","",{"$f":"IF(V2719=\"\",\"\",COUNTIF($V$7:V2719,\"該当３\"))","v":""}]
[2021406000,20,{"v":214,"d":"214 "},{"v":6,"d":"06 "},{"v":0,"d":"000 "},"長野県","茅野市","泉野村",null,null,"","",{"$f":"IF(K2724=\"\",\"\",COUNTIF($K$7:K2724,\"ﾘｽﾄ１\"))","v":""},"","","","","","","",{"$f":"IF(S2724=\"\",\"\",COUNTIF($S$7:S2724,\"該当２\"))","v":""},"","",{"$f":"IF(V2724=\"\",\"\",COUNTIF($V$7:V2724,\"該当３\"))","v":""}]
[2021407000,20,{"v":214,"d":"214 "},{"v":7,"d":"07 "},{"v":0,"d":"000 "},"長野県","茅野市","金沢村",null,null,"","",{"$f":"IF(K2729=\"\",\"\",COUNTIF($K$7:K2729,\"ﾘｽﾄ１\"))","v":""},"","","","","","","",{"$f":"IF(S2729=\"\",\"\",COUNTIF($S$7:S2729,\"該当２\"))","v":""},"","",{"$f":"IF(V2729=\"\",\"\",COUNTIF($V$7:V2729,\"該当３\"))","v":""}]
[2021407002,20,{"v":214,"d":"214 "},{"v":7,"d":"07 "},{"v":2,"d":"002 "},"長野県","茅野市","金沢村","青柳",null,"","",{"$f":"IF(K2731=\"\",\"\",COUNTIF($K$7:K2731,\"ﾘｽﾄ１\"))","v":""},"","","","","","","",{"$f":"IF(S2731=\"\",\"\",COUNTIF($S$7:S2731,\"該当２\"))","v":""},"","",{"$f":"IF(V2731=\"\",\"\",COUNTIF($V$7:V2731,\"該当３\"))","v":""}]
[2021407007,20,{"v":214,"d":"214 "},{"v":7,"d":"07 "},{"v":7,"d":"007 "},"長野県","茅野市","金沢村","木舟",null,"","",{"$f":"IF(K2736=\"\",\"\",COUNTIF($K$7:K2736,\"ﾘｽﾄ１\"))","v":""},"","","","","","","",{"$f":"IF(S2736=\"\",\"\",COUNTIF($S$7:S2736,\"該当２\"))","v":""},"","",{"$f":"IF(V2736=\"\",\"\",COUNTIF($V$7:V2736,\"該当３\"))","v":""}]
[2021408004,20,{"v":214,"d":"214 "},{"v":8,"d":"08 "},{"v":4,"d":"004 "},"長野県","茅野市","湖東村","金山",null,"","",{"$f":"IF(K2741=\"\",\"\",COUNTIF($K$7:K2741,\"ﾘｽﾄ１\"))","v":""},"","","","","","","",{"$f":"IF(S2741=\"\",\"\",COUNTIF($S$7:S2741,\"該当２\"))","v":""},"","",{"$f":"IF(V2741=\"\",\"\",COUNTIF($V$7:V2741,\"該当３\"))","v":""}]
[2021408009,20,{"v":214,"d":"214 "},{"v":8,"d":"08 "},{"v":9,"d":"009 "},"長野県","茅野市","湖東村","白井出",null,"","",{"$f":"IF(K2746=\"\",\"\",COUNTIF($K$7:K2746,\"ﾘｽﾄ１\"))","v":""},"","","","","","","",{"$f":"IF(S2746=\"\",\"\",COUNTIF($S$7:S2746,\"該当２\"))","v":""},"","",{"$f":"IF(V2746=\"\",\"\",COUNTIF($V$7:V2746,\"該当３\"))","v":""}]
[2021409002,20,{"v":214,"d":"214 "},{"v":9,"d":"09 "},{"v":2,"d":"002 "},"長野県","茅野市","北山村","湯川",null,"","",{"$f":"IF(K2749=\"\",\"\",COUNTIF($K$7:K2749,\"ﾘｽﾄ１\"))","v":""},"","","","","","","",{"$f":"IF(S2749=\"\",\"\",COUNTIF($S$7:S2749,\"該当２\"))","v":""},"","",{"$f":"IF(V2749=\"\",\"\",COUNTIF($V$7:V2749,\"該当３\"))","v":""}]
[2021501000,20,{"v":215,"d":"215 "},{"v":1,"d":"01 "},{"v":0,"d":"000 "},"長野県","塩尻市","塩尻町",null,null,"","",{"$f":"IF(K2753=\"\",\"\",COUNTIF($K$7:K2753,\"ﾘｽﾄ１\"))","v":""},"","","","","","","",{"$f":"IF(S2753=\"\",\"\",COUNTIF($S$7:S2753,\"該当２\"))","v":""},"","",{"$f":"IF(V2753=\"\",\"\",COUNTIF($V$7:V2753,\"該当３\"))","v":""}]
[2021501005,20,{"v":215,"d":"215 "},{"v":1,"d":"01 "},{"v":5,"d":"005 "},"長野県","塩尻市","塩尻町","上西条",null,"","",{"$f":"IF(K2758=\"\",\"\",COUNTIF($K$7:K2758,\"ﾘｽﾄ１\"))","v":""},"","","","","","","",{"$f":"IF(S2758=\"\",\"\",COUNTIF($S$7:S2758,\"該当２\"))","v":""},"","",{"$f":"IF(V2758=\"\",\"\",COUNTIF($V$7:V2758,\"該当３\"))","v":""}]
[2021501010,20,{"v":215,"d":"215 "},{"v":1,"d":"01 "},{"v":10,"d":"010 "},"長野県","塩尻市","塩尻町","桟敷",null,{"$f":"IF(AND($C2763>0,$H2763=\"\"),\"ﾘｽﾄ１\",\"\")","v":""},{"$f":"IF(K2763=\"ﾘｽﾄ１\",G2763,\"\")","v":""},{"$f":"IF(K2763=\"\",\"\",COUNTIF($K$7:K2763,\"ﾘｽﾄ１\"))","v":""},{"$f":"IF(AND(D2763=0,E2763>0),\"同一区\",\"\")","v":""},{"$f":"IF(AND(EXACT($K$2,G2763),H2763>0),\"該当１\",\"\")","v":""},"","","",{"$f":"IF(AND(Q2763=\"ﾘｽﾄ2\",OR(I2763=0,AND(N2763=\"同一区\",E2763=1))),\"該当２\",\"\")","v":""},"",{"$f":"IF(S2763=\"\",\"\",COUNTIF($S$7:S2763,\"該当２\"))","v":""},"","",{"$f":"IF(V2763=\"\",\"\",COUNTIF($V$7:V2763,\"該当３\"))","v":""}]
[2021502001,20,{"v":215,"d":"215 "},{"v":2,"d":"02 "},{"v":1,"d":"001 "},"長野県","塩尻市","筑摩地村","古町",null,"","",{"$f":"IF(K2768=\"\",\"\",COUNTIF($K$7:K2768,\"ﾘｽﾄ１\"))","v":""},"","","","","","","",{"$f":"IF(S2768=\"\",\"\",COUNTIF($S$7:S2768,\"該当２\"))","v":""},"","",{"$f":"IF(V2768=\"\",\"\",COUNTIF($V$7:V2768,\"該当３\"))","v":""}]
[2021502003,20,{"v":215,"d":"215 "},{"v":2,"d":"02 "},{"v":3,"d":"003 "},"長野県","塩尻市","筑摩地村","大出",null,"","",{"$f":"IF(K2770=\"\",\"\",COUNTIF($K$7:K2770,\"ﾘｽﾄ１\"))","v":""},"","","","","","","",{"$f":"IF(S2770=\"\",\"\",COUNTIF($S$7:S2770,\"該当２\"))","v":""},"","",{"$f":"IF(V2770=\"\",\"\",COUNTIF($V$7:V2770,\"該当３\"))","v":""}]
[2021503002,20,{"v":215,"d":"215 "},{"v":3,"d":"03 "},{"v":2,"d":"002 "},"長野県","塩尻市","広丘村","堅石",null,"","",{"$f":"IF(K2775=\"\",\"\",COUNTIF($K$7:K2775,\"ﾘｽﾄ１\"))","v":""},"","","","","","","",{"$f":"IF(S2775=\"\",\"\",COUNTIF($S$7:S2775,\"該当２\"))","v":""},"","",{"$f":"IF(V2775=\"\",\"\",COUNTIF($V$7:V2775,\"該当３\"))","v":""}]
[2021504000,20,{"v":215,"d":"215 "},{"v":4,"d":"04 "},{"v":0,"d":"000 "},"長野県","塩尻市","片丘村２－１",null,null,"","",{"$f":"IF(K2780=\"\",\"\",COUNTIF($K$7:K2780,\"ﾘｽﾄ１\"))","v":""},"","","","","","","",{"$f":"IF(S2780=\"\",\"\",COUNTIF($S$7:S2780,\"該当２\"))","v":""},"","",{"$f":"IF(V2780=\"\",\"\",COUNTIF($V$7:V2780,\"該当３\"))","v":""}]
[2021504002,20,{"v":215,"d":"215 "},{"v":4,"d":"04 "},{"v":2,"d":"002 "},"長野県","塩尻市","片丘村２－１","中原",null,"","",{"$f":"IF(K2782=\"\",\"\",COUNTIF($K$7:K2782,\"ﾘｽﾄ１\"))","v":""},"","","","","","","",{"$f":"IF(S2782=\"\",\"\",COUNTIF($S$7:S2782,\"該当２\"))","v":""},"","",{"$f":"IF(V2782=\"\",\"\",COUNTIF($V$7:V2782,\"該当３\"))","v":""}]
[2021505001,20,{"v":215,"d":"215 "},{"v":5,"d":"05 "},{"v":1,"d":"001 "},"長野県","塩尻市","宗賀村","桔梗ケ原",null,"","",{"$f":"IF(K2787=\"\",\"\",COUNTIF($K$7:K2787,\"ﾘｽﾄ１\"))","v":""},"","","","","","","",{"$f":"IF(S2787=\"\",\"\",COUNTIF($S$7:S2787,\"該当２\"))","v":""},"","",{"$f":"IF(V2787=\"\",\"\",COUNTIF($V$7:V2787,\"該当３\"))","v":""}]
[2021505006,20,{"v":215,"d":"215 "},{"v":5,"d":"05 "},{"v":6,"d":"006 "},"長野県","塩尻市","宗賀村","本山",null,"","",{"$f":"IF(K2792=\"\",\"\",COUNTIF($K$7:K2792,\"ﾘｽﾄ１\"))","v":""},"","","","","","","",{"$f":"IF(S2792=\"\",\"\",COUNTIF($S$7:S2792,\"該当２\"))","v":""},"","",{"$f":"IF(V2792=\"\",\"\",COUNTIF($V$7:V2792,\"該当３\"))","v":""}]
[2021506003,20,{"v":215,"d":"215 "},{"v":6,"d":"06 "},{"v":3,"d":"003 "},"長野県","塩尻市","洗馬村２－１","芦ノ田",null,"","",{"$f":"IF(K2797=\"\",\"\",COUNTIF($K$7:K2797,\"ﾘｽﾄ１\"))","v":""},"","","","","","","",{"$f":"IF(S2797=\"\",\"\",COUNTIF($S$7:S2797,\"該当２\"))","v":""},"","",{"$f":"IF(V2797=\"\",\"\",COUNTIF($V$7:V2797,\"該当３\"))","v":""}]
[2021506006,20,{"v":215,"d":"215 "},{"v":6,"d":"06 "},{"v":6,"d":"006 "},"長野県","塩尻市","洗馬村２－１","下小曽部",null,"","",{"$f":"IF(K2800=\"\",\"\",COUNTIF($K$7:K2800,\"ﾘｽﾄ１\"))","v":""},"","","","","","","",{"$f":"IF(S2800=\"\",\"\",COUNTIF($S$7:S2800,\"該当２\"))","v":""},"","",{"$f":"IF(V2800=\"\",\"\",COUNTIF($V$7:V2800,\"該当３\"))","v":""}]
[2021507002,20,{"v":215,"d":"215 "},{"v":7,"d":"07 "},{"v":2,"d":"002 "},"長野県","塩尻市","楢川村","下遠，若神子，中畑",null,"","",{"$f":"IF(K2804=\"\",\"\",COUNTIF($K$7:K2804,\"ﾘｽﾄ１\"))","v":""},"","","","","","","",{"$f":"IF(S2804=\"\",\"\",COUNTIF($S$7:S2804,\"該当２\"))","v":""},"","",{"$f":"IF(V2804=\"\",\"\",COUNTIF($V$7:V2804,\"該当３\"))","v":""}]
[2021507007,20,{"v":215,"d":"215 "},{"v":7,"d":"07 "},{"v":7,"d":"007 "},"長野県","塩尻市","楢川村","栃窪．糠沢",null,"","",{"$f":"IF(K2809=\"\",\"\",COUNTIF($K$7:K2809,\"ﾘｽﾄ１\"))","v":""},"","","","","","","",{"$f":"IF(S2809=\"\",\"\",COUNTIF($S$7:S2809,\"該当２\"))","v":""},"","",{"$f":"IF(V2809=\"\",\"\",COUNTIF($V$7:V2809,\"該当３\"))","v":""}]
[2021701001,20,{"v":217,"d":"217 "},{"v":1,"d":"01 "},{"v":1,"d":"001 "},"長野県","佐久市","野沢町","高柳",null,"","",{"$f":"IF(K2814=\"\",\"\",COUNTIF($K$7:K2814,\"ﾘｽﾄ１\"))","v":""},"","","","","","","",{"$f":"IF(S2814=\"\",\"\",COUNTIF($S$7:S2814,\"該当２\"))","v":""},"","",{"$f":"IF(V2814=\"\",\"\",COUNTIF($V$7:V2814,\"該当３\"))","v":""}]
[2021701006,20,{"v":217,"d":"217 "},{"v":1,"d":"01 "},{"v":6,"d":"006 "},"長野県","佐久市","野沢町","跡部",null,"","",{"$f":"IF(K2819=\"\",\"\",COUNTIF($K$7:K2819,\"ﾘｽﾄ１\"))","v":""},"","","","","","","",{"$f":"IF(S2819=\"\",\"\",COUNTIF($S$7:S2819,\"該当２\"))","v":""},"","",{"$f":"IF(V2819=\"\",\"\",COUNTIF($V$7:V2819,\"該当３\"))","v":""}]
[2021701008,20,{"v":217,"d":"217 "},{"v":1,"d":"01 "},{"v":8,"d":"008 "},"長野県","佐久市","野沢町","田町",null,"","",{"$f":"IF(K2821=\"\",\"\",COUNTIF($K$7:K2821,\"ﾘｽﾄ１\"))","v":""},"","","","","","","",{"$f":"IF(S2821=\"\",\"\",COUNTIF($S$7:S2821,\"該当２\"))","v":""},"","",{"$f":"IF(V2821=\"\",\"\",COUNTIF($V$7:V2821,\"該当３\"))","v":""}]
[2021702002,20,{"v":217,"d":"217 "},{"v":2,"d":"02 "},{"v":2,"d":"002 "},"長野県","佐久市","大沢村","大沢下町",null,"","",{"$f":"IF(K2826=\"\",\"\",COUNTIF($K$7:K2826,\"ﾘｽﾄ１\"))","v":""},"","",{"$f":"IF(O2826=\"該当１\",G2826,\"\")","v":""},{"$f":"IF(O2826=\"該当１\",\"ﾘｽﾄ2\",\"\")","v":""},{"$f":"IF(Q2826=\"ﾘｽﾄ2\",H2826,\"\")","v":""},"",{"$f":"IF(S2826=\"該当２\",H2826,\"\")","v":""},{"$f":"IF(S2826=\"\",\"\",COUNTIF($S$7:S2826,\"該当２\"))","v":""},{"$f":"IF(AND($S$2=H2826,E2826>0,E2826<998),\"該当３\",\"\")","v":""},{"$f":"IF(V2826=\"該当３\",I2826,\"\")","v":""},{"$f":"IF(V2826=\"\",\"\",COUNTIF($V$7:V2826,\"該当３\"))","v":""}]
[2021703000,20,{"v":217,"d":"217 "},{"v":3,"d":"03 "},{"v":0,"d":"000 "},"長野県","佐久市","桜井村",null,null,"","",{"$f":"IF(K2831=\"\",\"\",COUNTIF($K$7:K2831,\"ﾘｽﾄ１\"))","v":""},"","","","","","","",{"$f":"IF(S2831=\"\",\"\",COUNTIF($S$7:S2831,\"該当２\"))","v":""},"","",{"$f":"IF(V2831=\"\",\"\",COUNTIF($V$7:V2831,\"該当３\"))","v":""}]
[2021703001,20,{"v":217,"d":"217 "},{"v":3,"d":"03 "},{"v":1,"d":"001 "},"長野県","佐久市","桜井村","上桜井",null,"","",{"$f":"IF(K2832=\"\",\"\",COUNTIF($K$7:K2832,\"ﾘｽﾄ１\"))","v":""},"","","","","","","",{"$f":"IF(S2832=\"\",\"\",COUNTIF($S$7:S2832,\"該当２\"))","v":""},"","",{"$f":"IF(V2832=\"\",\"\",COUNTIF($V$7:V2832,\"該当３\"))","v":""}]
[2021704002,20,{"v":217,"d":"217 "},{"v":4,"d":"04 "},{"v":2,"d":"002 "},"長野県","佐久市","前山村","前山北中",null,"","",{"$f":"IF(K2838=\"\",\"\",COUNTIF($K$7:K2838,\"ﾘｽﾄ１\"))","v":""},"","","","","","","",{"$f":"IF(S2838=\"\",\"\",COUNTIF($S$7:S2838,\"該当２\"))","v":""},"","",{"$f":"IF(V2838=\"\",\"\",COUNTIF($V$7:V2838,\"該当３\"))","v":""}]
[2021705002,20,{"v":217,"d":"217 "},{"v":5,"d":"05 "},{"v":2,"d":"002 "},"長野県","佐久市","岸野村","下平",null,"","",{"$f":"IF(K2843=\"\",\"\",COUNTIF($K$7:K2843,\"ﾘｽﾄ１\"))","v":""},"","","","","","","",{"$f":"IF(S2843=\"\",\"\",COUNTIF($S$7:S2843,\"該当２\"))","v":""},"","",{"$f":"IF(V2843=\"\",\"\",COUNTIF($V$7:V2843,\"該当３\"))","v":""}]
[2021705007,20,{"v":217,"d":"217 "},{"v":5,"d":"05 "},{"v":7,"d":"007 "},"長野県","佐久市","岸野村","糖尾",null,"","",{"$f":"IF(K2848=\"\",\"\",COUNTIF($K$7:K2848,\"ﾘｽﾄ１\"))","v":""},"","","","","","","",{"$f":"IF(S2848=\"\",\"\",COUNTIF($S$7:S2848,\"該当２\"))","v":""},"","",{"$f":"IF(V2848=\"\",\"\",COUNTIF($V$7:V2848,\"該当３\"))","v":""}]
[2021705010,20,{"v":217,"d":"217 "},{"v":5,"d":"05 "},{"v":10,"d":"010 "},"長野県","佐久市","岸野村","東立科",null,"","",{"$f":"IF(K2851=\"\",\"\",COUNTIF($K$7:K2851,\"ﾘｽﾄ１\"))","v":""},"","","","","","","",{"$f":"IF(S2851=\"\",\"\",COUNTIF($S$7:S2851,\"該当２\"))","v":""},"","",{"$f":"IF(V2851=\"\",\"\",COUNTIF($V$7:V2851,\"該当３\"))","v":""}]
[2021706001,20,{"v":217,"d":"217 "},{"v":6,"d":"06 "},{"v":1,"d":"001 "},"長野県","佐久市","中込町","杉ノ木",null,"","",{"$f":"IF(K2855=\"\",\"\",COUNTIF($K$7:K2855,\"ﾘｽﾄ１\"))","v":""},"","","","","","","",{"$f":"IF(S2855=\"\",\"\",COUNTIF($S$7:S2855,\"該当２\"))","v":""},"","",{"$f":"IF(V2855=\"\",\"\",COUNTIF($V$7:V2855,\"該当３\"))","v":""}]
[2021706006,20,{"v":217,"d":"217 "},{"v":6,"d":"06 "},{"v":6,"d":"006 "},"長野県","佐久市","中込町","佐太夫町",null,"","",{"$f":"IF(K2860=\"\",\"\",COUNTIF($K$7:K2860,\"ﾘｽﾄ１\"))","v":""},"","","","","","","",{"$f":"IF(S2860=\"\",\"\",COUNTIF($S$7:S2860,\"該当２\"))","v":""},"","",{"$f":"IF(V2860=\"\",\"\",COUNTIF($V$7:V2860,\"該当３\"))","v":""}]
[2021707002,20,{"v":217,"d":"217 "},{"v":7,"d":"07 "},{"v":2,"d":"002 "},"長野県","佐久市","平賀村","平賀中宿",null,"","",{"$f":"IF(K2865=\"\",\"\",COUNTIF($K$7:K2865,\"ﾘｽﾄ１\"))","v":""},"","","","","","","",{"$f":"IF(S2865=\"\",\"\",COUNTIF($S$7:S2865,\"該当２\"))","v":""},"","",{"$f":"IF(V2865=\"\",\"\",COUNTIF($V$7:V2865,\"該当３\"))","v":""}]
[2021707006,20,{"v":217,"d":"217 "},{"v":7,"d":"07 "},{"v":6,"d":"006 "},"長野県","佐久市","平賀村","北耕地",null,"","",{"$f":"IF(K2869=\"\",\"\",COUNTIF($K$7:K2869,\"ﾘｽﾄ１\"))","v":""},"","","","","","","",{"$f":"IF(S2869=\"\",\"\",COUNTIF($S$7:S2869,\"該当２\"))","v":""},"","",{"$f":"IF(V2869=\"\",\"\",COUNTIF($V$7:V2869,\"該当３\"))","v":""}]
[2021707009,20,{"v":217,"d":"217 "},{"v":7,"d":"07 "},{"v":9,"d":"009 "},"長野県","佐久市","平賀村","常和南",null,"","",{"$f":"IF(K2872=\"\",\"\",COUNTIF($K$7:K2872,\"ﾘｽﾄ１\"))","v":""},"","","","","","","",{"$f":"IF(S2872=\"\",\"\",COUNTIF($S$7:S2872,\"該当２\"))","v":""},"","",{"$f":"IF(V2872=\"\",\"\",COUNTIF($V$7:V2872,\"該当３\"))","v":""}]
[2021707014,20,{"v":217,"d":"217 "},{"v":7,"d":"07 "},{"v":14,"d":"014 "},"長野県","佐久市","平賀村","西耕地",null,"","",{"$f":"IF(K2877=\"\",\"\",COUNTIF($K$7:K2877,\"ﾘｽﾄ１\"))","v":""},"","","","","","","",{"$f":"IF(S2877=\"\",\"\",COUNTIF($S$7:S2877,\"該当２\"))","v":""},"","",{"$f":"IF(V2877=\"\",\"\",COUNTIF($V$7:V2877,\"該当３\"))","v":""}]
[2021708004,20,{"v":217,"d":"217 "},{"v":8,"d":"08 "},{"v":4,"d":"004 "},"長野県","佐久市","内山村","町上",null,"","",{"$f":"IF(K2882=\"\",\"\",COUNTIF($K$7:K2882,\"ﾘｽﾄ１\"))","v":""},"","","","","","","",{"$f":"IF(S2882=\"\",\"\",COUNTIF($S$7:S2882,\"該当２\"))","v":""},"","",{"$f":"IF(V2882=\"\",\"\",COUNTIF($V$7:V2882,\"該当３\"))","v":""}]
[2021708005,20,{"v":217,"d":"217 "},{"v":8,"d":"08 "},{"v":5,"d":"005 "},"長野県","佐久市","内山村","肬水",null,"","",{"$f":"IF(K2883=\"\",\"\",COUNTIF($K$7:K2883,\"ﾘｽﾄ１\"))","v":""},"","","","","","","",{"$f":"IF(S2883=\"\",\"\",COUNTIF($S$7:S2883,\"該当２\"))","v":""},"","",{"$f":"IF(V2883=\"\",\"\",COUNTIF($V$7:V2883,\"該当３\"))","v":""}]
[2021708011,20,{"v":217,"d":"217 "},{"v":8,"d":"08 "},{"v":11,"d":"011 "},"長野県","佐久市","内山村","舘ケ澤",null,"","",{"$f":"IF(K2889=\"\",\"\",COUNTIF($K$7:K2889,\"ﾘｽﾄ１\"))","v":""},"","","","","","","",{"$f":"IF(S2889=\"\",\"\",COUNTIF($S$7:S2889,\"該当２\"))","v":""},"","",{"$f":"IF(V2889=\"\",\"\",COUNTIF($V$7:V2889,\"該当３\"))","v":""}]
[2021709004,20,{"v":217,"d":"217 "},{"v":9,"d":"09 "},{"v":4,"d":"004 "},"長野県","佐久市","岩村田町","大和町",null,"","",{"$f":"IF(K2894=\"\",\"\",COUNTIF($K$7:K2894,\"ﾘｽﾄ１\"))","v":""},"","","","","","","",{"$f":"IF(S2894=\"\",\"\",COUNTIF($S$7:S2894,\"該当２\"))","v":""},"","",{"$f":"IF(V2894=\"\",\"\",COUNTIF($V$7:V2894,\"該当３\"))","v":""}]
[2021709009,20,{"v":217,"d":"217 "},{"v":9,"d":"09 "},{"v":9,"d":"009 "},"長野県","佐久市","岩村田町","砂田",null,"","",{"$f":"IF(K2899=\"\",\"\",COUNTIF($K$7:K2899,\"ﾘｽﾄ１\"))","v":""},"","","","","","","",{"$f":"IF(S2899=\"\",\"\",COUNTIF($S$7:S2899,\"該当２\"))","v":""},"","",{"$f":"IF(V2899=\"\",\"\",COUNTIF($V$7:V2899,\"該当３\"))","v":""}]
[2021709011,20,{"v":217,"d":"217 "},{"v":9,"d":"09 "},{"v":11,"d":"011 "},"長野県","佐久市","岩村田町","稲荷町",null,"","",{"$f":"IF(K2901=\"\",\"\",COUNTIF($K$7:K2901,\"ﾘｽﾄ１\"))","v":""},"","","","","","","",{"$f":"IF(S2901=\"\",\"\",COUNTIF($S$7:S2901,\"該当２\"))","v":""},"","",{"$f":"IF(V2901=\"\",\"\",COUNTIF($V$7:V2901,\"該当３\"))","v":""}]
[2021710002,20,{"v":217,"d":"217 "},{"v":10,"d":"10 "},{"v":2,"d":"002 "},"長野県","佐久市","平根村","上平尾",null,"","",{"$f":"IF(K2906=\"\",\"\",COUNTIF($K$7:K2906,\"ﾘｽﾄ１\"))","v":""},"","","","","","","",{"$f":"IF(S2906=\"\",\"\",COUNTIF($S$7:S2906,\"該当２\"))","v":""},"","",{"$f":"IF(V2906=\"\",\"\",COUNTIF($V$7:V2906,\"該当３\"))","v":""}]
[2021711003,20,{"v":217,"d":"217 "},{"v":11,"d":"11 "},{"v":3,"d":"003 "},"長野県","佐久市","高瀬村","横和",null,"","",{"$f":"IF(K2911=\"\",\"\",COUNTIF($K$7:K2911,\"ﾘｽﾄ１\"))","v":""},"","","","","","","",{"$f":"IF(S2911=\"\",\"\",COUNTIF($S$7:S2911,\"該当２\"))","v":""},"","",{"$f":"IF(V2911=\"\",\"\",COUNTIF($V$7:V2911,\"該当３\"))","v":""}]
[2021712000,20,{"v":217,"d":"217 "},{"v":12,"d":"12 "},{"v":0,"d":"000 "},"長野県","佐久市","中佐都村",null,null,"","",{"$f":"IF(K2916=\"\",\"\",COUNTIF($K$7:K2916,\"ﾘｽﾄ１\"))","v":""},"","","","","","","",{"$f":"IF(S2916=\"\",\"\",COUNTIF($S$7:S2916,\"該当２\"))","v":""},"","",{"$f":"IF(V2916=\"\",\"\",COUNTIF($V$7:V2916,\"該当３\"))","v":""}]
[2021712004,20,{"v":217,"d":"217 "},{"v":12,"d":"12 "},{"v":4,"d":"004 "},"長野県","佐久市","中佐都村","平塚",null,"","",{"$f":"IF(K2920=\"\",\"\",COUNTIF($K$7:K2920,\"ﾘｽﾄ１\"))","v":""},"","","","","","","",{"$f":"IF(S2920=\"\",\"\",COUNTIF($S$7:S2920,\"該当２\"))","v":""},"","",{"$f":"IF(V2920=\"\",\"\",COUNTIF($V$7:V2920,\"該当３\"))","v":""}]
[2021712007,20,{"v":217,"d":"217 "},{"v":12,"d":"12 "},{"v":7,"d":"007 "},"長野県","佐久市","中佐都村","下塚原",null,"","",{"$f":"IF(K2923=\"\",\"\",COUNTIF($K$7:K2923,\"ﾘｽﾄ１\"))","v":""},"","","","","","","",{"$f":"IF(S2923=\"\",\"\",COUNTIF($S$7:S2923,\"該当２\"))","v":""},"","",{"$f":"IF(V2923=\"\",\"\",COUNTIF($V$7:V2923,\"該当３\"))","v":""}]
[2021714000,20,{"v":217,"d":"217 "},{"v":14,"d":"14 "},{"v":0,"d":"000 "},"長野県","佐久市","三井村",null,null,"","",{"$f":"IF(K2928=\"\",\"\",COUNTIF($K$7:K2928,\"ﾘｽﾄ１\"))","v":""},"","","","","","","",{"$f":"IF(S2928=\"\",\"\",COUNTIF($S$7:S2928,\"該当２\"))","v":""},"","",{"$f":"IF(V2928=\"\",\"\",COUNTIF($V$7:V2928,\"該当３\"))","v":""}]
[2021714005,20,{"v":217,"d":"217 "},{"v":14,"d":"14 "},{"v":5,"d":"005 "},"長野県","佐久市","三井村","伊勢林",null,"","",{"$f":"IF(K2933=\"\",\"\",COUNTIF($K$7:K2933,\"ﾘｽﾄ１\"))","v":""},"","","","","","","",{"$f":"IF(S2933=\"\",\"\",COUNTIF($S$7:S2933,\"該当２\"))","v":""},"","",{"$f":"IF(V2933=\"\",\"\",COUNTIF($V$7:V2933,\"該当３\"))","v":""}]
[2021715003,20,{"v":217,"d":"217 "},{"v":15,"d":"15 "},{"v":3,"d":"003 "},"長野県","佐久市","志賀村","志賀上宿",null,"","",{"$f":"IF(K2938=\"\",\"\",COUNTIF($K$7:K2938,\"ﾘｽﾄ１\"))","v":""},"","","","","","","",{"$f":"IF(S2938=\"\",\"\",COUNTIF($S$7:S2938,\"該当２\"))","v":""},"","",{"$f":"IF(V2938=\"\",\"\",COUNTIF($V$7:V2938,\"該当３\"))","v":""}]
[2021715005,20,{"v":217,"d":"217 "},{"v":15,"d":"15 "},{"v":5,"d":"005 "},"長野県","佐久市","志賀村","志賀下宿",null,"","",{"$f":"IF(K2940=\"\",\"\",COUNTIF($K$7:K2940,\"ﾘｽﾄ１\"))","v":""},"","","","","","","",{"$f":"IF(S2940=\"\",\"\",COUNTIF($S$7:S2940,\"該当２\"))","v":""},"","",{"$f":"IF(V2940=\"\",\"\",COUNTIF($V$7:V2940,\"該当３\"))","v":""}]
[2021716003,20,{"v":217,"d":"217 "},{"v":16,"d":"16 "},{"v":3,"d":"003 "},"長野県","佐久市","臼田町","城山、宮本",null,"","",{"$f":"IF(K2945=\"\",\"\",COUNTIF($K$7:K2945,\"ﾘｽﾄ１\"))","v":""},"","","","","","","",{"$f":"IF(S2945=\"\",\"\",COUNTIF($S$7:S2945,\"該当２\"))","v":""},"","",{"$f":"IF(V2945=\"\",\"\",COUNTIF($V$7:V2945,\"該当３\"))","v":""}]
[2021716008,20,{"v":217,"d":"217 "},{"v":16,"d":"16 "},{"v":8,"d":"008 "},"長野県","佐久市","臼田町","伊勢",null,"","",{"$f":"IF(K2950=\"\",\"\",COUNTIF($K$7:K2950,\"ﾘｽﾄ１\"))","v":""},"","","","","","","",{"$f":"IF(S2950=\"\",\"\",COUNTIF($S$7:S2950,\"該当２\"))","v":""},"","",{"$f":"IF(V2950=\"\",\"\",COUNTIF($V$7:V2950,\"該当３\"))","v":""}]
[2021716010,20,{"v":217,"d":"217 "},{"v":16,"d":"16 "},{"v":10,"d":"010 "},"長野県","佐久市","臼田町","諏訪",null,"","",{"$f":"IF(K2952=\"\",\"\",COUNTIF($K$7:K2952,\"ﾘｽﾄ１\"))","v":""},"","","","","","","",{"$f":"IF(S2952=\"\",\"\",COUNTIF($S$7:S2952,\"該当２\"))","v":""},"","",{"$f":"IF(V2952=\"\",\"\",COUNTIF($V$7:V2952,\"該当３\"))","v":""}]
[2021717000,20,{"v":217,"d":"217 "},{"v":17,"d":"17 "},{"v":0,"d":"000 "},"長野県","佐久市","切原村",null,null,"","",{"$f":"IF(K2957=\"\",\"\",COUNTIF($K$7:K2957,\"ﾘｽﾄ１\"))","v":""},"","","","","","","",{"$f":"IF(S2957=\"\",\"\",COUNTIF($S$7:S2957,\"該当２\"))","v":""},"","",{"$f":"IF(V2957=\"\",\"\",COUNTIF($V$7:V2957,\"該当３\"))","v":""}]
[2021717005,20,{"v":217,"d":"217 "},{"v":17,"d":"17 "},{"v":5,"d":"005 "},"長野県","佐久市","切原村","上小田切",null,"","",{"$f":"IF(K2962=\"\",\"\",COUNTIF($K$7:K2962,\"ﾘｽﾄ１\"))","v":""},"","","","","","","",{"$f":"IF(S2962=\"\",\"\",COUNTIF($S$7:S2962,\"該当２\"))","v":""},"","",{"$f":"IF(V2962=\"\",\"\",COUNTIF($V$7:V2962,\"該当３\"))","v":""}]
[2021718002,20,{"v":217,"d":"217 "},{"v":18,"d":"18 "},{"v":2,"d":"002 "},"長野県","佐久市","田口村","広川原",null,"","",{"$f":"IF(K2967=\"\",\"\",COUNTIF($K$7:K2967,\"ﾘｽﾄ１\"))","v":""},"","","","","","","",{"$f":"IF(S2967=\"\",\"\",COUNTIF($S$7:S2967,\"該当２\"))","v":""},"","",{"$f":"IF(V2967=\"\",\"\",COUNTIF($V$7:V2967,\"該当３\"))","v":""}]
[2021718005,20,{"v":217,"d":"217 "},{"v":18,"d":"18 "},{"v":5,"d":"005 "},"長野県","佐久市","田口村","川原宿",null,"","",{"$f":"IF(K2970=\"\",\"\",COUNTIF($K$7:K2970,\"ﾘｽﾄ１\"))","v":""},"","","","","","","",{"$f":"IF(S2970=\"\",\"\",COUNTIF($S$7:S2970,\"該当２\"))","v":""},"","",{"$f":"IF(V2970=\"\",\"\",COUNTIF($V$7:V2970,\"該当３\"))","v":""}]
[2021718009,20,{"v":217,"d":"217 "},{"v":18,"d":"18 "},{"v":9,"d":"009 "},"長野県","佐久市","田口村","原",null,"","",{"$f":"IF(K2974=\"\",\"\",COUNTIF($K$7:K2974,\"ﾘｽﾄ１\"))","v":""},"","","","","","","",{"$f":"IF(S2974=\"\",\"\",COUNTIF($S$7:S2974,\"該当２\"))","v":""},"","",{"$f":"IF(V2974=\"\",\"\",COUNTIF($V$7:V2974,\"該当３\"))","v":""}]
[2021719000,20,{"v":217,"d":"217 "},{"v":19,"d":"19 "},{"v":0,"d":"000 "},"長野県","佐久市","青沼村２－１",null,null,"","",{"$f":"IF(K2979=\"\",\"\",COUNTIF($K$7:K2979,\"ﾘｽﾄ１\"))","v":""},"","","","","","","",{"$f":"IF(S2979=\"\",\"\",COUNTIF($S$7:S2979,\"該当２\"))","v":""},"","",{"$f":"IF(V2979=\"\",\"\",COUNTIF($V$7:V2979,\"該当３\"))","v":""}]
[2021719005,20,{"v":217,"d":"217 "},{"v":19,"d":"19 "},{"v":5,"d":"005 "},"長野県","佐久市","青沼村２－１","入沢第４",null,"","",{"$f":"IF(K2984=\"\",\"\",COUNTIF($K$7:K2984,\"ﾘｽﾄ１\"))","v":""},"","","","","","","",{"$f":"IF(S2984=\"\",\"\",COUNTIF($S$7:S2984,\"該当２\"))","v":""},"","",{"$f":"IF(V2984=\"\",\"\",COUNTIF($V$7:V2984,\"該当３\"))","v":""}]
[2021719010,20,{"v":217,"d":"217 "},{"v":19,"d":"19 "},{"v":10,"d":"010 "},"長野県","佐久市","青沼村２－１","三条第１",null,"","",{"$f":"IF(K2989=\"\",\"\",COUNTIF($K$7:K2989,\"ﾘｽﾄ１\"))","v":""},"","","","","","","",{"$f":"IF(S2989=\"\",\"\",COUNTIF($S$7:S2989,\"該当２\"))","v":""},"","",{"$f":"IF(V2989=\"\",\"\",COUNTIF($V$7:V2989,\"該当３\"))","v":""}]
[2021719012,20,{"v":217,"d":"217 "},{"v":19,"d":"19 "},{"v":12,"d":"012 "},"長野県","佐久市","青沼村２－１","三条第３",null,"","",{"$f":"IF(K2991=\"\",\"\",COUNTIF($K$7:K2991,\"ﾘｽﾄ１\"))","v":""},"","","","","","","",{"$f":"IF(S2991=\"\",\"\",COUNTIF($S$7:S2991,\"該当２\"))","v":""},"","",{"$f":"IF(V2991=\"\",\"\",COUNTIF($V$7:V2991,\"該当３\"))","v":""}]
[2021720001,20,{"v":217,"d":"217 "},{"v":20,"d":"20 "},{"v":1,"d":"001 "},"長野県","佐久市","本牧村２－１","東町",null,"","",{"$f":"IF(K2996=\"\",\"\",COUNTIF($K$7:K2996,\"ﾘｽﾄ１\"))","v":""},"","","","","","","",{"$f":"IF(S2996=\"\",\"\",COUNTIF($S$7:S2996,\"該当２\"))","v":""},"","",{"$f":"IF(V2996=\"\",\"\",COUNTIF($V$7:V2996,\"該当３\"))","v":""}]
[2021720006,20,{"v":217,"d":"217 "},{"v":20,"d":"20 "},{"v":6,"d":"006 "},"長野県","佐久市","本牧村２－１","吹上",null,"","",{"$f":"IF(K3001=\"\",\"\",COUNTIF($K$7:K3001,\"ﾘｽﾄ１\"))","v":""},"","","","","","","",{"$f":"IF(S3001=\"\",\"\",COUNTIF($S$7:S3001,\"該当２\"))","v":""},"","",{"$f":"IF(V3001=\"\",\"\",COUNTIF($V$7:V3001,\"該当３\"))","v":""}]
[2021720007,20,{"v":217,"d":"217 "},{"v":20,"d":"20 "},{"v":7,"d":"007 "},"長野県","佐久市","本牧村２－１","古宮",null,"","",{"$f":"IF(K3002=\"\",\"\",COUNTIF($K$7:K3002,\"ﾘｽﾄ１\"))","v":""},"","","","","","","",{"$f":"IF(S3002=\"\",\"\",COUNTIF($S$7:S3002,\"該当２\"))","v":""},"","",{"$f":"IF(V3002=\"\",\"\",COUNTIF($V$7:V3002,\"該当３\"))","v":""}]
[2021720013,20,{"v":217,"d":"217 "},{"v":20,"d":"20 "},{"v":13,"d":"013 "},"長野県","佐久市","本牧村２－１","栄町",null,"","",{"$f":"IF(K3008=\"\",\"\",COUNTIF($K$7:K3008,\"ﾘｽﾄ１\"))","v":""},"","","","","","","",{"$f":"IF(S3008=\"\",\"\",COUNTIF($S$7:S3008,\"該当２\"))","v":""},"","",{"$f":"IF(V3008=\"\",\"\",COUNTIF($V$7:V3008,\"該当３\"))","v":""}]
[2021721000,20,{"v":217,"d":"217 "},{"v":21,"d":"21 "},{"v":0,"d":"000 "},"長野県","佐久市","布施村",null,null,"","",{"$f":"IF(K3013=\"\",\"\",COUNTIF($K$7:K3013,\"ﾘｽﾄ１\"))","v":""},"","","","","","","",{"$f":"IF(S3013=\"\",\"\",COUNTIF($S$7:S3013,\"該当２\"))","v":""},"","",{"$f":"IF(V3013=\"\",\"\",COUNTIF($V$7:V3013,\"該当３\"))","v":""}]
[2021721005,20,{"v":217,"d":"217 "},{"v":21,"d":"21 "},{"v":5,"d":"005 "},"長野県","佐久市","布施村","式部",null,"","",{"$f":"IF(K3018=\"\",\"\",COUNTIF($K$7:K3018,\"ﾘｽﾄ１\"))","v":""},"","",{"$f":"IF(O3018=\"該当１\",G3018,\"\")","v":""},{"$f":"IF(O3018=\"該当１\",\"ﾘｽﾄ2\",\"\")","v":""},{"$f":"IF(Q3018=\"ﾘｽﾄ2\",H3018,\"\")","v":""},"",{"$f":"IF(S3018=\"該当２\",H3018,\"\")","v":""},{"$f":"IF(S3018=\"\",\"\",COUNTIF($S$7:S3018,\"該当２\"))","v":""},{"$f":"IF(AND($S$2=H3018,E3018>0,E3018<998),\"該当３\",\"\")","v":""},{"$f":"IF(V3018=\"該当３\",I3018,\"\")","v":""},{"$f":"IF(V3018=\"\",\"\",COUNTIF($V$7:V3018,\"該当３\"))","v":""}]
[2021721008,20,{"v":217,"d":"217 "},{"v":21,"d":"21 "},{"v":8,"d":"008 "},"長野県","佐久市","布施村","雁村",null,"","",{"$f":"IF(K3021=\"\",\"\",COUNTIF($K$7:K3021,\"ﾘｽﾄ１\"))","v":""},"","","","","","","",{"$f":"IF(S3021=\"\",\"\",COUNTIF($S$7:S3021,\"該当２\"))","v":""},"","",{"$f":"IF(V3021=\"\",\"\",COUNTIF($V$7:V3021,\"該当３\"))","v":""}]
[2021721014,20,{"v":217,"d":"217 "},{"v":21,"d":"21 "},{"v":14,"d":"014 "},"長野県","佐久市","布施村","東長者原",null,"","",{"$f":"IF(K3025=\"\",\"\",COUNTIF($K$7:K3025,\"ﾘｽﾄ１\"))","v":""},"","","","","","","",{"$f":"IF(S3025=\"\",\"\",COUNTIF($S$7:S3025,\"該当２\"))","v":""},"","",{"$f":"IF(V3025=\"\",\"\",COUNTIF($V$7:V3025,\"該当３\"))","v":""}]
[2021722002,20,{"v":217,"d":"217 "},{"v":22,"d":"22 "},{"v":2,"d":"002 "},"長野県","佐久市","春日村","高橋",null,"","",{"$f":"IF(K3030=\"\",\"\",COUNTIF($K$7:K3030,\"ﾘｽﾄ１\"))","v":""},"","","","","","","",{"$f":"IF(S3030=\"\",\"\",COUNTIF($S$7:S3030,\"該当２\"))","v":""},"","",{"$f":"IF(V3030=\"\",\"\",COUNTIF($V$7:V3030,\"該当３\"))","v":""}]
[2021722007,20,{"v":217,"d":"217 "},{"v":22,"d":"22 "},{"v":7,"d":"007 "},"長野県","佐久市","春日村","宮之入",null,"","",{"$f":"IF(K3035=\"\",\"\",COUNTIF($K$7:K3035,\"ﾘｽﾄ１\"))","v":""},"","","","","","","",{"$f":"IF(S3035=\"\",\"\",COUNTIF($S$7:S3035,\"該当２\"))","v":""},"","",{"$f":"IF(V3035=\"\",\"\",COUNTIF($V$7:V3035,\"該当３\"))","v":""}]
[2021722011,20,{"v":217,"d":"217 "},{"v":22,"d":"22 "},{"v":11,"d":"011 "},"長野県","佐久市","春日村","岩下",null,"","",{"$f":"IF(K3039=\"\",\"\",COUNTIF($K$7:K3039,\"ﾘｽﾄ１\"))","v":""},"","","","","","","",{"$f":"IF(S3039=\"\",\"\",COUNTIF($S$7:S3039,\"該当２\"))","v":""},"","",{"$f":"IF(V3039=\"\",\"\",COUNTIF($V$7:V3039,\"該当３\"))","v":""}]
[2021722014,20,{"v":217,"d":"217 "},{"v":22,"d":"22 "},{"v":14,"d":"014 "},"長野県","佐久市","春日村","新田",null,"","",{"$f":"IF(K3042=\"\",\"\",COUNTIF($K$7:K3042,\"ﾘｽﾄ１\"))","v":""},"","","","","","","",{"$f":"IF(S3042=\"\",\"\",COUNTIF($S$7:S3042,\"該当２\"))","v":""},"","",{"$f":"IF(V3042=\"\",\"\",COUNTIF($V$7:V3042,\"該当３\"))","v":""}]
[2021723000,20,{"v":217,"d":"217 "},{"v":23,"d":"23 "},{"v":0,"d":"000 "},"長野県","佐久市","協和村",null,null,"","",{"$f":"IF(K3047=\"\",\"\",COUNTIF($K$7:K3047,\"ﾘｽﾄ１\"))","v":""},"","","","","","","",{"$f":"IF(S3047=\"\",\"\",COUNTIF($S$7:S3047,\"該当２\"))","v":""},"","",{"$f":"IF(V3047=\"\",\"\",COUNTIF($V$7:V3047,\"該当３\"))","v":""}]
[2021723005,20,{"v":217,"d":"217 "},{"v":23,"d":"23 "},{"v":5,"d":"005 "},"長野県","佐久市","協和村","高呂",null,"","",{"$f":"IF(K3052=\"\",\"\",COUNTIF($K$7:K3052,\"ﾘｽﾄ１\"))","v":""},"","","","","","","",{"$f":"IF(S3052=\"\",\"\",COUNTIF($S$7:S3052,\"該当２\"))","v":""},"","",{"$f":"IF(V3052=\"\",\"\",COUNTIF($V$7:V3052,\"該当３\"))","v":""}]
[2021723006,20,{"v":217,"d":"217 "},{"v":23,"d":"23 "},{"v":6,"d":"006 "},"長野県","佐久市","協和村","吹上",null,"","",{"$f":"IF(K3053=\"\",\"\",COUNTIF($K$7:K3053,\"ﾘｽﾄ１\"))","v":""},"","","","","","","",{"$f":"IF(S3053=\"\",\"\",COUNTIF($S$7:S3053,\"該当２\"))","v":""},"","",{"$f":"IF(V3053=\"\",\"\",COUNTIF($V$7:V3053,\"該当３\"))","v":""}]
[2021723012,20,{"v":217,"d":"217 "},{"v":23,"d":"23 "},{"v":12,"d":"012 "},"長野県","佐久市","協和村","合の沢",null,"","",{"$f":"IF(K3059=\"\",\"\",COUNTIF($K$7:K3059,\"ﾘｽﾄ１\"))","v":""},"","","","","","","",{"$f":"IF(S3059=\"\",\"\",COUNTIF($S$7:S3059,\"該当２\"))","v":""},"","",{"$f":"IF(V3059=\"\",\"\",COUNTIF($V$7:V3059,\"該当３\"))","v":""}]
[2021723017,20,{"v":217,"d":"217 "},{"v":23,"d":"23 "},{"v":17,"d":"017 "},"長野県","佐久市","協和村","西長者原",null,"","",{"$f":"IF(K3064=\"\",\"\",COUNTIF($K$7:K3064,\"ﾘｽﾄ１\"))","v":""},"","","","","","","",{"$f":"IF(S3064=\"\",\"\",COUNTIF($S$7:S3064,\"該当２\"))","v":""},"","",{"$f":"IF(V3064=\"\",\"\",COUNTIF($V$7:V3064,\"該当３\"))","v":""}]
[2021724004,20,{"v":217,"d":"217 "},{"v":24,"d":"24 "},{"v":4,"d":"004 "},"長野県","佐久市","南御牧村","御牧原",null,"","",{"$f":"IF(K3069=\"\",\"\",COUNTIF($K$7:K3069,\"ﾘｽﾄ１\"))","v":""},"","","","","","","",{"$f":"IF(S3069=\"\",\"\",COUNTIF($S$7:S3069,\"該当２\"))","v":""},"","",{"$f":"IF(V3069=\"\",\"\",COUNTIF($V$7:V3069,\"該当３\"))","v":""}]
[2021725000,20,{"v":217,"d":"217 "},{"v":25,"d":"25 "},{"v":0,"d":"000 "},"長野県","佐久市","中津村（佐久市）",null,null,"","",{"$f":"IF(K3072=\"\",\"\",COUNTIF($K$7:K3072,\"ﾘｽﾄ１\"))","v":""},"","","","","","","",{"$f":"IF(S3072=\"\",\"\",COUNTIF($S$7:S3072,\"該当２\"))","v":""},"","",{"$f":"IF(V3072=\"\",\"\",COUNTIF($V$7:V3072,\"該当３\"))","v":""}]
[2021726000,20,{"v":217,"d":"217 "},{"v":26,"d":"26 "},{"v":0,"d":"000 "},"長野県","佐久市","五郎兵衛新田村",null,null,"","",{"$f":"IF(K3076=\"\",\"\",COUNTIF($K$7:K3076,\"ﾘｽﾄ１\"))","v":""},"","","","","","","",{"$f":"IF(S3076=\"\",\"\",COUNTIF($S$7:S3076,\"該当２\"))","v":""},"","",{"$f":"IF(V3076=\"\",\"\",COUNTIF($V$7:V3076,\"該当３\"))","v":""}]
[2021801000,20,{"v":218,"d":"218 "},{"v":1,"d":"01 "},{"v":0,"d":"000 "},"長野県","千曲市","屋代町",null,null,"","",{"$f":"IF(K3081=\"\",\"\",COUNTIF($K$7:K3081,\"ﾘｽﾄ１\"))","v":""},"","","","","","","",{"$f":"IF(S3081=\"\",\"\",COUNTIF($S$7:S3081,\"該当２\"))","v":""},"","",{"$f":"IF(V3081=\"\",\"\",COUNTIF($V$7:V3081,\"該当３\"))","v":""}]
[2021801005,20,{"v":218,"d":"218 "},{"v":1,"d":"01 "},{"v":5,"d":"005 "},"長野県","千曲市","屋代町","屋代第４区",null,"","",{"$f":"IF(K3086=\"\",\"\",COUNTIF($K$7:K3086,\"ﾘｽﾄ１\"))","v":""},"","","","","","","",{"$f":"IF(S3086=\"\",\"\",COUNTIF($S$7:S3086,\"該当２\"))","v":""},"","",{"$f":"IF(V3086=\"\",\"\",COUNTIF($V$7:V3086,\"該当３\"))","v":""}]
[2021802001,20,{"v":218,"d":"218 "},{"v":2,"d":"02 "},{"v":1,"d":"001 "},"長野県","千曲市","森村","北区",null,"","",{"$f":"IF(K3090=\"\",\"\",COUNTIF($K$7:K3090,\"ﾘｽﾄ１\"))","v":""},"","","","","","","",{"$f":"IF(S3090=\"\",\"\",COUNTIF($S$7:S3090,\"該当２\"))","v":""},"","",{"$f":"IF(V3090=\"\",\"\",COUNTIF($V$7:V3090,\"該当３\"))","v":""}]
[2021802004,20,{"v":218,"d":"218 "},{"v":2,"d":"02 "},{"v":4,"d":"004 "},"長野県","千曲市","森村","沢山",null,"","",{"$f":"IF(K3093=\"\",\"\",COUNTIF($K$7:K3093,\"ﾘｽﾄ１\"))","v":""},"","","","","","","",{"$f":"IF(S3093=\"\",\"\",COUNTIF($S$7:S3093,\"該当２\"))","v":""},"","",{"$f":"IF(V3093=\"\",\"\",COUNTIF($V$7:V3093,\"該当３\"))","v":""}]
[2021803004,20,{"v":218,"d":"218 "},{"v":3,"d":"03 "},{"v":4,"d":"004 "},"長野県","千曲市","倉科村","田端",null,"","",{"$f":"IF(K3098=\"\",\"\",COUNTIF($K$7:K3098,\"ﾘｽﾄ１\"))","v":""},"","","","","","","",{"$f":"IF(S3098=\"\",\"\",COUNTIF($S$7:S3098,\"該当２\"))","v":""},"","",{"$f":"IF(V3098=\"\",\"\",COUNTIF($V$7:V3098,\"該当３\"))","v":""}]
[2021805000,20,{"v":218,"d":"218 "},{"v":5,"d":"05 "},{"v":0,"d":"000 "},"長野県","千曲市","埴生町",null,null,"","",{"$f":"IF(K3103=\"\",\"\",COUNTIF($K$7:K3103,\"ﾘｽﾄ１\"))","v":""},"","","","","","","",{"$f":"IF(S3103=\"\",\"\",COUNTIF($S$7:S3103,\"該当２\"))","v":""},"","",{"$f":"IF(V3103=\"\",\"\",COUNTIF($V$7:V3103,\"該当３\"))","v":""}]
[2021805001,20,{"v":218,"d":"218 "},{"v":5,"d":"05 "},{"v":1,"d":"001 "},"長野県","千曲市","埴生町","寂蒔",null,"","",{"$f":"IF(K3104=\"\",\"\",COUNTIF($K$7:K3104,\"ﾘｽﾄ１\"))","v":""},"","","","","","","",{"$f":"IF(S3104=\"\",\"\",COUNTIF($S$7:S3104,\"該当２\"))","v":""},"","",{"$f":"IF(V3104=\"\",\"\",COUNTIF($V$7:V3104,\"該当３\"))","v":""}]
[2021805007,20,{"v":218,"d":"218 "},{"v":5,"d":"05 "},{"v":7,"d":"007 "},"長野県","千曲市","埴生町","桜枝町",null,"","",{"$f":"IF(K3110=\"\",\"\",COUNTIF($K$7:K3110,\"ﾘｽﾄ１\"))","v":""},"","","","","","","",{"$f":"IF(S3110=\"\",\"\",COUNTIF($S$7:S3110,\"該当２\"))","v":""},"","",{"$f":"IF(V3110=\"\",\"\",COUNTIF($V$7:V3110,\"該当３\"))","v":""}]
[2021807001,20,{"v":218,"d":"218 "},{"v":7,"d":"07 "},{"v":1,"d":"001 "},"長野県","千曲市","稲荷山町","荒町",null,"","",{"$f":"IF(K3115=\"\",\"\",COUNTIF($K$7:K3115,\"ﾘｽﾄ１\"))","v":""},"","","","","","","",{"$f":"IF(S3115=\"\",\"\",COUNTIF($S$7:S3115,\"該当２\"))","v":""},"","",{"$f":"IF(V3115=\"\",\"\",COUNTIF($V$7:V3115,\"該当３\"))","v":""}]
[2021807006,20,{"v":218,"d":"218 "},{"v":7,"d":"07 "},{"v":6,"d":"006 "},"長野県","千曲市","稲荷山町","稲荷山元町",null,"","",{"$f":"IF(K3120=\"\",\"\",COUNTIF($K$7:K3120,\"ﾘｽﾄ１\"))","v":""},"","","","","","","",{"$f":"IF(S3120=\"\",\"\",COUNTIF($S$7:S3120,\"該当２\"))","v":""},"","",{"$f":"IF(V3120=\"\",\"\",COUNTIF($V$7:V3120,\"該当３\"))","v":""}]
[2021808000,20,{"v":218,"d":"218 "},{"v":8,"d":"08 "},{"v":0,"d":"000 "},"長野県","千曲市","桑原村",null,null,"","",{"$f":"IF(K3122=\"\",\"\",COUNTIF($K$7:K3122,\"ﾘｽﾄ１\"))","v":""},"","","","","","","",{"$f":"IF(S3122=\"\",\"\",COUNTIF($S$7:S3122,\"該当２\"))","v":""},"","",{"$f":"IF(V3122=\"\",\"\",COUNTIF($V$7:V3122,\"該当３\"))","v":""}]
[2021808005,20,{"v":218,"d":"218 "},{"v":8,"d":"08 "},{"v":5,"d":"005 "},"長野県","千曲市","桑原村","東区",null,"","",{"$f":"IF(K3127=\"\",\"\",COUNTIF($K$7:K3127,\"ﾘｽﾄ１\"))","v":""},"","","","","","","",{"$f":"IF(S3127=\"\",\"\",COUNTIF($S$7:S3127,\"該当２\"))","v":""},"","",{"$f":"IF(V3127=\"\",\"\",COUNTIF($V$7:V3127,\"該当３\"))","v":""}]
[2021809001,20,{"v":218,"d":"218 "},{"v":9,"d":"09 "},{"v":1,"d":"001 "},"長野県","千曲市","八幡村","代",null,"","",{"$f":"IF(K3132=\"\",\"\",COUNTIF($K$7:K3132,\"ﾘｽﾄ１\"))","v":""},"","","","","","","",{"$f":"IF(S3132=\"\",\"\",COUNTIF($S$7:S3132,\"該当２\"))","v":""},"","",{"$f":"IF(V3132=\"\",\"\",COUNTIF($V$7:V3132,\"該当３\"))","v":""}]
[2021809006,20,{"v":218,"d":"218 "},{"v":9,"d":"09 "},{"v":6,"d":"006 "},"長野県","千曲市","八幡村","郡",null,"","",{"$f":"IF(K3137=\"\",\"\",COUNTIF($K$7:K3137,\"ﾘｽﾄ１\"))","v":""},"","","","","","","",{"$f":"IF(S3137=\"\",\"\",COUNTIF($S$7:S3137,\"該当２\"))","v":""},"","",{"$f":"IF(V3137=\"\",\"\",COUNTIF($V$7:V3137,\"該当３\"))","v":""}]
[2021809010,20,{"v":218,"d":"218 "},{"v":9,"d":"09 "},{"v":10,"d":"010 "},"長野県","千曲市","八幡村","森下",null,"","",{"$f":"IF(K3141=\"\",\"\",COUNTIF($K$7:K3141,\"ﾘｽﾄ１\"))","v":""},"","","","","","","",{"$f":"IF(S3141=\"\",\"\",COUNTIF($S$7:S3141,\"該当２\"))","v":""},"","",{"$f":"IF(V3141=\"\",\"\",COUNTIF($V$7:V3141,\"該当３\"))","v":""}]
[2021810000,20,{"v":218,"d":"218 "},{"v":10,"d":"10 "},{"v":0,"d":"000 "},"長野県","千曲市","五加村２－２",null,null,"","",{"$f":"IF(K3144=\"\",\"\",COUNTIF($K$7:K3144,\"ﾘｽﾄ１\"))","v":""},"","","","","","","",{"$f":"IF(S3144=\"\",\"\",COUNTIF($S$7:S3144,\"該当２\"))","v":""},"","",{"$f":"IF(V3144=\"\",\"\",COUNTIF($V$7:V3144,\"該当３\"))","v":""}]
[2021811003,20,{"v":218,"d":"218 "},{"v":11,"d":"11 "},{"v":3,"d":"003 "},"長野県","千曲市","戸倉町","上町",null,"","",{"$f":"IF(K3149=\"\",\"\",COUNTIF($K$7:K3149,\"ﾘｽﾄ１\"))","v":""},"","","","","","","",{"$f":"IF(S3149=\"\",\"\",COUNTIF($S$7:S3149,\"該当２\"))","v":""},"","",{"$f":"IF(V3149=\"\",\"\",COUNTIF($V$7:V3149,\"該当３\"))","v":""}]
[2021811008,20,{"v":218,"d":"218 "},{"v":11,"d":"11 "},{"v":8,"d":"008 "},"長野県","千曲市","戸倉町","温泉",null,"","",{"$f":"IF(K3154=\"\",\"\",COUNTIF($K$7:K3154,\"ﾘｽﾄ１\"))","v":""},"","","","","","","",{"$f":"IF(S3154=\"\",\"\",COUNTIF($S$7:S3154,\"該当２\"))","v":""},"","",{"$f":"IF(V3154=\"\",\"\",COUNTIF($V$7:V3154,\"該当３\"))","v":""}]
[2021812004,20,{"v":218,"d":"218 "},{"v":12,"d":"12 "},{"v":4,"d":"004 "},"長野県","千曲市","五加村２－１","小船山",null,"","",{"$f":"IF(K3159=\"\",\"\",COUNTIF($K$7:K3159,\"ﾘｽﾄ１\"))","v":""},"","","","","","","",{"$f":"IF(S3159=\"\",\"\",COUNTIF($S$7:S3159,\"該当２\"))","v":""},"","",{"$f":"IF(V3159=\"\",\"\",COUNTIF($V$7:V3159,\"該当３\"))","v":""}]
[2021813001,20,{"v":218,"d":"218 "},{"v":13,"d":"13 "},{"v":1,"d":"001 "},"長野県","千曲市","更級村","八王子",null,"","",{"$f":"IF(K3161=\"\",\"\",COUNTIF($K$7:K3161,\"ﾘｽﾄ１\"))","v":""},"","","","","","","",{"$f":"IF(S3161=\"\",\"\",COUNTIF($S$7:S3161,\"該当２\"))","v":""},"","",{"$f":"IF(V3161=\"\",\"\",COUNTIF($V$7:V3161,\"該当３\"))","v":""}]
[2021813006,20,{"v":218,"d":"218 "},{"v":13,"d":"13 "},{"v":6,"d":"006 "},"長野県","千曲市","更級村","羽尾五区",null,"","",{"$f":"IF(K3166=\"\",\"\",COUNTIF($K$7:K3166,\"ﾘｽﾄ１\"))","v":""},"","","","","","","",{"$f":"IF(S3166=\"\",\"\",COUNTIF($S$7:S3166,\"該当２\"))","v":""},"","",{"$f":"IF(V3166=\"\",\"\",COUNTIF($V$7:V3166,\"該当３\"))","v":""}]
[2021814003,20,{"v":218,"d":"218 "},{"v":14,"d":"14 "},{"v":3,"d":"003 "},"長野県","千曲市","上山田町","住吉",null,"","",{"$f":"IF(K3171=\"\",\"\",COUNTIF($K$7:K3171,\"ﾘｽﾄ１\"))","v":""},"","","","","","","",{"$f":"IF(S3171=\"\",\"\",COUNTIF($S$7:S3171,\"該当２\"))","v":""},"","",{"$f":"IF(V3171=\"\",\"\",COUNTIF($V$7:V3171,\"該当３\"))","v":""}]
[2021814005,20,{"v":218,"d":"218 "},{"v":14,"d":"14 "},{"v":5,"d":"005 "},"長野県","千曲市","上山田町","川西",null,"","",{"$f":"IF(K3173=\"\",\"\",COUNTIF($K$7:K3173,\"ﾘｽﾄ１\"))","v":""},"","","","","","","",{"$f":"IF(S3173=\"\",\"\",COUNTIF($S$7:S3173,\"該当２\"))","v":""},"","",{"$f":"IF(V3173=\"\",\"\",COUNTIF($V$7:V3173,\"該当３\"))","v":""}]
[2021814010,20,{"v":218,"d":"218 "},{"v":14,"d":"14 "},{"v":10,"d":"010 "},"長野県","千曲市","上山田町","下久保",null,"","",{"$f":"IF(K3178=\"\",\"\",COUNTIF($K$7:K3178,\"ﾘｽﾄ１\"))","v":""},"","","","","","","",{"$f":"IF(S3178=\"\",\"\",COUNTIF($S$7:S3178,\"該当２\"))","v":""},"","",{"$f":"IF(V3178=\"\",\"\",COUNTIF($V$7:V3178,\"該当３\"))","v":""}]
[2021814015,20,{"v":218,"d":"218 "},{"v":14,"d":"14 "},{"v":15,"d":"015 "},"長野県","千曲市","上山田町","大門",null,"","",{"$f":"IF(K3183=\"\",\"\",COUNTIF($K$7:K3183,\"ﾘｽﾄ１\"))","v":""},"","","","","","","",{"$f":"IF(S3183=\"\",\"\",COUNTIF($S$7:S3183,\"該当２\"))","v":""},"","",{"$f":"IF(V3183=\"\",\"\",COUNTIF($V$7:V3183,\"該当３\"))","v":""}]
[2021815002,20,{"v":218,"d":"218 "},{"v":15,"d":"15 "},{"v":2,"d":"002 "},"長野県","千曲市","力石村","力石２組",null,"","",{"$f":"IF(K3188=\"\",\"\",COUNTIF($K$7:K3188,\"ﾘｽﾄ１\"))","v":""},"","","","","","","",{"$f":"IF(S3188=\"\",\"\",COUNTIF($S$7:S3188,\"該当２\"))","v":""},"","",{"$f":"IF(V3188=\"\",\"\",COUNTIF($V$7:V3188,\"該当３\"))","v":""}]
[2021815005,20,{"v":218,"d":"218 "},{"v":15,"d":"15 "},{"v":5,"d":"005 "},"長野県","千曲市","力石村","力石５組",null,"","",{"$f":"IF(K3191=\"\",\"\",COUNTIF($K$7:K3191,\"ﾘｽﾄ１\"))","v":""},"","","","","","","",{"$f":"IF(S3191=\"\",\"\",COUNTIF($S$7:S3191,\"該当２\"))","v":""},"","",{"$f":"IF(V3191=\"\",\"\",COUNTIF($V$7:V3191,\"該当３\"))","v":""}]
[2021901000,20,{"v":219,"d":"219 "},{"v":1,"d":"01 "},{"v":0,"d":"000 "},"長野県","東御市","県村",null,null,"","",{"$f":"IF(K3195=\"\",\"\",COUNTIF($K$7:K3195,\"ﾘｽﾄ１\"))","v":""},"","","","","","","",{"$f":"IF(S3195=\"\",\"\",COUNTIF($S$7:S3195,\"該当２\"))","v":""},"","",{"$f":"IF(V3195=\"\",\"\",COUNTIF($V$7:V3195,\"該当３\"))","v":""}]
[2021901005,20,{"v":219,"d":"219 "},{"v":1,"d":"01 "},{"v":5,"d":"005 "},"長野県","東御市","県村","本海野",null,"","",{"$f":"IF(K3200=\"\",\"\",COUNTIF($K$7:K3200,\"ﾘｽﾄ１\"))","v":""},"","","","","","","",{"$f":"IF(S3200=\"\",\"\",COUNTIF($S$7:S3200,\"該当２\"))","v":""},"","",{"$f":"IF(V3200=\"\",\"\",COUNTIF($V$7:V3200,\"該当３\"))","v":""}]
[2021902003,20,{"v":219,"d":"219 "},{"v":2,"d":"02 "},{"v":3,"d":"003 "},"長野県","東御市","祢津村","奈良原",null,"","",{"$f":"IF(K3205=\"\",\"\",COUNTIF($K$7:K3205,\"ﾘｽﾄ１\"))","v":""},"","","","","","","",{"$f":"IF(S3205=\"\",\"\",COUNTIF($S$7:S3205,\"該当２\"))","v":""},"","",{"$f":"IF(V3205=\"\",\"\",COUNTIF($V$7:V3205,\"該当３\"))","v":""}]
[2021902008,20,{"v":219,"d":"219 "},{"v":2,"d":"02 "},{"v":8,"d":"008 "},"長野県","東御市","祢津村","西宮",null,"","",{"$f":"IF(K3210=\"\",\"\",COUNTIF($K$7:K3210,\"ﾘｽﾄ１\"))","v":""},"","",{"$f":"IF(O3210=\"該当１\",G3210,\"\")","v":""},{"$f":"IF(O3210=\"該当１\",\"ﾘｽﾄ2\",\"\")","v":""},{"$f":"IF(Q3210=\"ﾘｽﾄ2\",H3210,\"\")","v":""},"",{"$f":"IF(S3210=\"該当２\",H3210,\"\")","v":""},{"$f":"IF(S3210=\"\",\"\",COUNTIF($S$7:S3210,\"該当２\"))","v":""},{"$f":"IF(AND($S$2=H3210,E3210>0,E3210<998),\"該当３\",\"\")","v":""},{"$f":"IF(V3210=\"該当３\",I3210,\"\")","v":""},{"$f":"IF(V3210=\"\",\"\",COUNTIF($V$7:V3210,\"該当３\"))","v":""}]
[2021902010,20,{"v":219,"d":"219 "},{"v":2,"d":"02 "},{"v":10,"d":"010 "},"長野県","東御市","祢津村","姫子沢",null,"","",{"$f":"IF(K3212=\"\",\"\",COUNTIF($K$7:K3212,\"ﾘｽﾄ１\"))","v":""},"","","","","","","",{"$f":"IF(S3212=\"\",\"\",COUNTIF($S$7:S3212,\"該当２\"))","v":""},"","",{"$f":"IF(V3212=\"\",\"\",COUNTIF($V$7:V3212,\"該当３\"))","v":""}]
[2021903004,20,{"v":219,"d":"219 "},{"v":3,"d":"03 "},{"v":4,"d":"004 "},"長野県","東御市","和村","東上田",null,"","",{"$f":"IF(K3217=\"\",\"\",COUNTIF($K$7:K3217,\"ﾘｽﾄ１\"))","v":""},"","","","","","","",{"$f":"IF(S3217=\"\",\"\",COUNTIF($S$7:S3217,\"該当２\"))","v":""},"","",{"$f":"IF(V3217=\"\",\"\",COUNTIF($V$7:V3217,\"該当３\"))","v":""}]
[2021903009,20,{"v":219,"d":"219 "},{"v":3,"d":"03 "},{"v":9,"d":"009 "},"長野県","東御市","和村","栗林",null,"","",{"$f":"IF(K3222=\"\",\"\",COUNTIF($K$7:K3222,\"ﾘｽﾄ１\"))","v":""},"","","","","","","",{"$f":"IF(S3222=\"\",\"\",COUNTIF($S$7:S3222,\"該当２\"))","v":""},"","",{"$f":"IF(V3222=\"\",\"\",COUNTIF($V$7:V3222,\"該当３\"))","v":""}]
[2021903010,20,{"v":219,"d":"219 "},{"v":3,"d":"03 "},{"v":10,"d":"010 "},"長野県","東御市","和村","海善寺",null,"","",{"$f":"IF(K3223=\"\",\"\",COUNTIF($K$7:K3223,\"ﾘｽﾄ１\"))","v":""},"","","","","","","",{"$f":"IF(S3223=\"\",\"\",COUNTIF($S$7:S3223,\"該当２\"))","v":""},"","",{"$f":"IF(V3223=\"\",\"\",COUNTIF($V$7:V3223,\"該当３\"))","v":""}]
[2021904000,20,{"v":219,"d":"219 "},{"v":4,"d":"04 "},{"v":0,"d":"000 "},"長野県","東御市","滋野村２－１",null,null,"","",{"$f":"IF(K3229=\"\",\"\",COUNTIF($K$7:K3229,\"ﾘｽﾄ１\"))","v":""},"","","","","","","",{"$f":"IF(S3229=\"\",\"\",COUNTIF($S$7:S3229,\"該当２\"))","v":""},"","",{"$f":"IF(V3229=\"\",\"\",COUNTIF($V$7:V3229,\"該当３\"))","v":""}]
[2021904005,20,{"v":219,"d":"219 "},{"v":4,"d":"04 "},{"v":5,"d":"005 "},"長野県","東御市","滋野村２－１","中屋敷",null,"","",{"$f":"IF(K3234=\"\",\"\",COUNTIF($K$7:K3234,\"ﾘｽﾄ１\"))","v":""},"","","","","","","",{"$f":"IF(S3234=\"\",\"\",COUNTIF($S$7:S3234,\"該当２\"))","v":""},"","",{"$f":"IF(V3234=\"\",\"\",COUNTIF($V$7:V3234,\"該当３\"))","v":""}]
[2021905001,20,{"v":219,"d":"219 "},{"v":5,"d":"05 "},{"v":1,"d":"001 "},"長野県","東御市","北御牧村","田楽平",null,"","",{"$f":"IF(K3239=\"\",\"\",COUNTIF($K$7:K3239,\"ﾘｽﾄ１\"))","v":""},"","","","","","","",{"$f":"IF(S3239=\"\",\"\",COUNTIF($S$7:S3239,\"該当２\"))","v":""},"","",{"$f":"IF(V3239=\"\",\"\",COUNTIF($V$7:V3239,\"該当３\"))","v":""}]
[2021905004,20,{"v":219,"d":"219 "},{"v":5,"d":"05 "},{"v":4,"d":"004 "},"長野県","東御市","北御牧村","山崎",null,"","",{"$f":"IF(K3242=\"\",\"\",COUNTIF($K$7:K3242,\"ﾘｽﾄ１\"))","v":""},"","","","","","","",{"$f":"IF(S3242=\"\",\"\",COUNTIF($S$7:S3242,\"該当２\"))","v":""},"","",{"$f":"IF(V3242=\"\",\"\",COUNTIF($V$7:V3242,\"該当３\"))","v":""}]
[2021905008,20,{"v":219,"d":"219 "},{"v":5,"d":"05 "},{"v":8,"d":"008 "},"長野県","東御市","北御牧村","八反田",null,"","",{"$f":"IF(K3246=\"\",\"\",COUNTIF($K$7:K3246,\"ﾘｽﾄ１\"))","v":""},"","","","","","","",{"$f":"IF(S3246=\"\",\"\",COUNTIF($S$7:S3246,\"該当２\"))","v":""},"","",{"$f":"IF(V3246=\"\",\"\",COUNTIF($V$7:V3246,\"該当３\"))","v":""}]
[2021905013,20,{"v":219,"d":"219 "},{"v":5,"d":"05 "},{"v":13,"d":"013 "},"長野県","東御市","北御牧村","御牧原南部",null,"","",{"$f":"IF(K3251=\"\",\"\",COUNTIF($K$7:K3251,\"ﾘｽﾄ１\"))","v":""},"","","","","","","",{"$f":"IF(S3251=\"\",\"\",COUNTIF($S$7:S3251,\"該当２\"))","v":""},"","",{"$f":"IF(V3251=\"\",\"\",COUNTIF($V$7:V3251,\"該当３\"))","v":""}]
[2021905018,20,{"v":219,"d":"219 "},{"v":5,"d":"05 "},{"v":18,"d":"018 "},"長野県","東御市","北御牧村","大日向",null,"","",{"$f":"IF(K3256=\"\",\"\",COUNTIF($K$7:K3256,\"ﾘｽﾄ１\"))","v":""},"","","","","","","",{"$f":"IF(S3256=\"\",\"\",COUNTIF($S$7:S3256,\"該当２\"))","v":""},"","",{"$f":"IF(V3256=\"\",\"\",COUNTIF($V$7:V3256,\"該当３\"))","v":""}]
[2022001000,20,{"v":220,"d":"220 "},{"v":1,"d":"01 "},{"v":0,"d":"000 "},"長野県","安曇野市","豊科町",null,null,"","",{"$f":"IF(K3260=\"\",\"\",COUNTIF($K$7:K3260,\"ﾘｽﾄ１\"))","v":""},"","","","","","","",{"$f":"IF(S3260=\"\",\"\",COUNTIF($S$7:S3260,\"該当２\"))","v":""},"","",{"$f":"IF(V3260=\"\",\"\",COUNTIF($V$7:V3260,\"該当３\"))","v":""}]
[2022001003,20,{"v":220,"d":"220 "},{"v":1,"d":"01 "},{"v":3,"d":"003 "},"長野県","安曇野市","豊科町","下鳥羽，太子村",null,"","",{"$f":"IF(K3263=\"\",\"\",COUNTIF($K$7:K3263,\"ﾘｽﾄ１\"))","v":""},"","","","","","","",{"$f":"IF(S3263=\"\",\"\",COUNTIF($S$7:S3263,\"該当２\"))","v":""},"","",{"$f":"IF(V3263=\"\",\"\",COUNTIF($V$7:V3263,\"該当３\"))","v":""}]
[2022001008,20,{"v":220,"d":"220 "},{"v":1,"d":"01 "},{"v":8,"d":"008 "},"長野県","安曇野市","豊科町","吉野梶海渡",null,"","",{"$f":"IF(K3268=\"\",\"\",COUNTIF($K$7:K3268,\"ﾘｽﾄ１\"))","v":""},"","","","","","","",{"$f":"IF(S3268=\"\",\"\",COUNTIF($S$7:S3268,\"該当２\"))","v":""},"","",{"$f":"IF(V3268=\"\",\"\",COUNTIF($V$7:V3268,\"該当３\"))","v":""}]
[2022001013,20,{"v":220,"d":"220 "},{"v":1,"d":"01 "},{"v":13,"d":"013 "},"長野県","安曇野市","豊科町","成相第６",null,"","",{"$f":"IF(K3273=\"\",\"\",COUNTIF($K$7:K3273,\"ﾘｽﾄ１\"))","v":""},"","","","","","","",{"$f":"IF(S3273=\"\",\"\",COUNTIF($S$7:S3273,\"該当２\"))","v":""},"","",{"$f":"IF(V3273=\"\",\"\",COUNTIF($V$7:V3273,\"該当３\"))","v":""}]
[2022001014,20,{"v":220,"d":"220 "},{"v":1,"d":"01 "},{"v":14,"d":"014 "},"長野県","安曇野市","豊科町","新田第１東",null,"","",{"$f":"IF(K3274=\"\",\"\",COUNTIF($K$7:K3274,\"ﾘｽﾄ１\"))","v":""},"","",{"$f":"IF(O3274=\"該当１\",G3274,\"\")","v":""},{"$f":"IF(O3274=\"該当１\",\"ﾘｽﾄ2\",\"\")","v":""},{"$f":"IF(Q3274=\"ﾘｽﾄ2\",H3274,\"\")","v":""},"",{"$f":"IF(S3274=\"該当２\",H3274,\"\")","v":""},{"$f":"IF(S3274=\"\",\"\",COUNTIF($S$7:S3274,\"該当２\"))","v":""},{"$f":"IF(AND($S$2=H3274,E3274>0,E3274<998),\"該当３\",\"\")","v":""},{"$f":"IF(V3274=\"該当３\",I3274,\"\")","v":""},{"$f":"IF(V3274=\"\",\"\",COUNTIF($V$7:V3274,\"該当３\"))","v":""}]
[2022002001,20,{"v":220,"d":"220 "},{"v":2,"d":"02 "},{"v":1,"d":"001 "},"長野県","安曇野市","高家村","熊倉，柳原",null,"","",{"$f":"IF(K3280=\"\",\"\",COUNTIF($K$7:K3280,\"ﾘｽﾄ１\"))","v":""},"","","","","","","",{"$f":"IF(S3280=\"\",\"\",COUNTIF($S$7:S3280,\"該当２\"))","v":""},"","",{"$f":"IF(V3280=\"\",\"\",COUNTIF($V$7:V3280,\"該当３\"))","v":""}]
[2022002006,20,{"v":220,"d":"220 "},{"v":2,"d":"02 "},{"v":6,"d":"006 "},"長野県","安曇野市","高家村","熊倉，反所",null,"","",{"$f":"IF(K3285=\"\",\"\",COUNTIF($K$7:K3285,\"ﾘｽﾄ１\"))","v":""},"","","","","","","",{"$f":"IF(S3285=\"\",\"\",COUNTIF($S$7:S3285,\"該当２\"))","v":""},"","",{"$f":"IF(V3285=\"\",\"\",COUNTIF($V$7:V3285,\"該当３\"))","v":""}]
[2022002011,20,{"v":220,"d":"220 "},{"v":2,"d":"02 "},{"v":11,"d":"011 "},"長野県","安曇野市","高家村","中曽根，北村一丁田",null,"","",{"$f":"IF(K3290=\"\",\"\",COUNTIF($K$7:K3290,\"ﾘｽﾄ１\"))","v":""},"","","","","","","",{"$f":"IF(S3290=\"\",\"\",COUNTIF($S$7:S3290,\"該当２\"))","v":""},"","",{"$f":"IF(V3290=\"\",\"\",COUNTIF($V$7:V3290,\"該当３\"))","v":""}]
[2022002013,20,{"v":220,"d":"220 "},{"v":2,"d":"02 "},{"v":13,"d":"013 "},"長野県","安曇野市","高家村","下飯田，小海渡",null,"","",{"$f":"IF(K3292=\"\",\"\",COUNTIF($K$7:K3292,\"ﾘｽﾄ１\"))","v":""},"","","","","","","",{"$f":"IF(S3292=\"\",\"\",COUNTIF($S$7:S3292,\"該当２\"))","v":""},"","",{"$f":"IF(V3292=\"\",\"\",COUNTIF($V$7:V3292,\"該当３\"))","v":""}]
[2022002018,20,{"v":220,"d":"220 "},{"v":2,"d":"02 "},{"v":18,"d":"018 "},"長野県","安曇野市","高家村","真々部田中",null,"","",{"$f":"IF(K3297=\"\",\"\",COUNTIF($K$7:K3297,\"ﾘｽﾄ１\"))","v":""},"","","","","","","",{"$f":"IF(S3297=\"\",\"\",COUNTIF($S$7:S3297,\"該当２\"))","v":""},"","",{"$f":"IF(V3297=\"\",\"\",COUNTIF($V$7:V3297,\"該当３\"))","v":""}]
[2022003000,20,{"v":220,"d":"220 "},{"v":3,"d":"03 "},{"v":0,"d":"000 "},"長野県","安曇野市","南穂高村",null,null,"","",{"$f":"IF(K3302=\"\",\"\",COUNTIF($K$7:K3302,\"ﾘｽﾄ１\"))","v":""},"","","","","","","",{"$f":"IF(S3302=\"\",\"\",COUNTIF($S$7:S3302,\"該当２\"))","v":""},"","",{"$f":"IF(V3302=\"\",\"\",COUNTIF($V$7:V3302,\"該当３\"))","v":""}]
[2022003005,20,{"v":220,"d":"220 "},{"v":3,"d":"03 "},{"v":5,"d":"005 "},"長野県","安曇野市","南穂高村","踏入恵光院",null,"","",{"$f":"IF(K3307=\"\",\"\",COUNTIF($K$7:K3307,\"ﾘｽﾄ１\"))","v":""},"","","","","","","",{"$f":"IF(S3307=\"\",\"\",COUNTIF($S$7:S3307,\"該当２\"))","v":""},"","",{"$f":"IF(V3307=\"\",\"\",COUNTIF($V$7:V3307,\"該当３\"))","v":""}]
[2022003009,20,{"v":220,"d":"220 "},{"v":3,"d":"03 "},{"v":9,"d":"009 "},"長野県","安曇野市","南穂高村","細萱町区",null,"","",{"$f":"IF(K3311=\"\",\"\",COUNTIF($K$7:K3311,\"ﾘｽﾄ１\"))","v":""},"","","","","","","",{"$f":"IF(S3311=\"\",\"\",COUNTIF($S$7:S3311,\"該当２\"))","v":""},"","",{"$f":"IF(V3311=\"\",\"\",COUNTIF($V$7:V3311,\"該当３\"))","v":""}]
[2022004000,20,{"v":220,"d":"220 "},{"v":4,"d":"04 "},{"v":0,"d":"000 "},"長野県","安曇野市","上川手村２－１",null,null,"","",{"$f":"IF(K3314=\"\",\"\",COUNTIF($K$7:K3314,\"ﾘｽﾄ１\"))","v":""},"","","","","","","",{"$f":"IF(S3314=\"\",\"\",COUNTIF($S$7:S3314,\"該当２\"))","v":""},"","",{"$f":"IF(V3314=\"\",\"\",COUNTIF($V$7:V3314,\"該当３\"))","v":""}]
[2022004005,20,{"v":220,"d":"220 "},{"v":4,"d":"04 "},{"v":5,"d":"005 "},"長野県","安曇野市","上川手村２－１","大口沢",null,"","",{"$f":"IF(K3319=\"\",\"\",COUNTIF($K$7:K3319,\"ﾘｽﾄ１\"))","v":""},"","","","","","","",{"$f":"IF(S3319=\"\",\"\",COUNTIF($S$7:S3319,\"該当２\"))","v":""},"","",{"$f":"IF(V3319=\"\",\"\",COUNTIF($V$7:V3319,\"該当３\"))","v":""}]
[2022005001,20,{"v":220,"d":"220 "},{"v":5,"d":"05 "},{"v":1,"d":"001 "},"長野県","安曇野市","穂高町","柏矢町",null,"","",{"$f":"IF(K3324=\"\",\"\",COUNTIF($K$7:K3324,\"ﾘｽﾄ１\"))","v":""},"","","","","","","",{"$f":"IF(S3324=\"\",\"\",COUNTIF($S$7:S3324,\"該当２\"))","v":""},"","",{"$f":"IF(V3324=\"\",\"\",COUNTIF($V$7:V3324,\"該当３\"))","v":""}]
[2022005006,20,{"v":220,"d":"220 "},{"v":5,"d":"05 "},{"v":6,"d":"006 "},"長野県","安曇野市","穂高町","矢原三枚橋",null,"","",{"$f":"IF(K3329=\"\",\"\",COUNTIF($K$7:K3329,\"ﾘｽﾄ１\"))","v":""},"","","","","","","",{"$f":"IF(S3329=\"\",\"\",COUNTIF($S$7:S3329,\"該当２\"))","v":""},"","",{"$f":"IF(V3329=\"\",\"\",COUNTIF($V$7:V3329,\"該当３\"))","v":""}]
[2022005008,20,{"v":220,"d":"220 "},{"v":5,"d":"05 "},{"v":8,"d":"008 "},"長野県","安曇野市","穂高町","等々力",null,"","",{"$f":"IF(K3331=\"\",\"\",COUNTIF($K$7:K3331,\"ﾘｽﾄ１\"))","v":""},"","","","","","","",{"$f":"IF(S3331=\"\",\"\",COUNTIF($S$7:S3331,\"該当２\"))","v":""},"","",{"$f":"IF(V3331=\"\",\"\",COUNTIF($V$7:V3331,\"該当３\"))","v":""}]
[2022005013,20,{"v":220,"d":"220 "},{"v":5,"d":"05 "},{"v":13,"d":"013 "},"長野県","安曇野市","穂高町","等々力町常盤町",null,"","",{"$f":"IF(K3336=\"\",\"\",COUNTIF($K$7:K3336,\"ﾘｽﾄ１\"))","v":""},"","","","","","","",{"$f":"IF(S3336=\"\",\"\",COUNTIF($S$7:S3336,\"該当２\"))","v":""},"","",{"$f":"IF(V3336=\"\",\"\",COUNTIF($V$7:V3336,\"該当３\"))","v":""}]
[2022005018,20,{"v":220,"d":"220 "},{"v":5,"d":"05 "},{"v":18,"d":"018 "},"長野県","安曇野市","穂高町","穂高本郷",null,"","",{"$f":"IF(K3341=\"\",\"\",COUNTIF($K$7:K3341,\"ﾘｽﾄ１\"))","v":""},"","","","","","","",{"$f":"IF(S3341=\"\",\"\",COUNTIF($S$7:S3341,\"該当２\"))","v":""},"","",{"$f":"IF(V3341=\"\",\"\",COUNTIF($V$7:V3341,\"該当３\"))","v":""}]
[2022005020,20,{"v":220,"d":"220 "},{"v":5,"d":"05 "},{"v":20,"d":"020 "},"長野県","安曇野市","穂高町","穂高上原",null,"","",{"$f":"IF(K3343=\"\",\"\",COUNTIF($K$7:K3343,\"ﾘｽﾄ１\"))","v":""},"","","","","","","",{"$f":"IF(S3343=\"\",\"\",COUNTIF($S$7:S3343,\"該当２\"))","v":""},"","",{"$f":"IF(V3343=\"\",\"\",COUNTIF($V$7:V3343,\"該当３\"))","v":""}]
[2022006002,20,{"v":220,"d":"220 "},{"v":6,"d":"06 "},{"v":2,"d":"002 "},"長野県","安曇野市","西穂高村","草深",null,"","",{"$f":"IF(K3348=\"\",\"\",COUNTIF($K$7:K3348,\"ﾘｽﾄ１\"))","v":""},"","","","","","","",{"$f":"IF(S3348=\"\",\"\",COUNTIF($S$7:S3348,\"該当２\"))","v":""},"","",{"$f":"IF(V3348=\"\",\"\",COUNTIF($V$7:V3348,\"該当３\"))","v":""}]
[2022006007,20,{"v":220,"d":"220 "},{"v":6,"d":"06 "},{"v":7,"d":"007 "},"長野県","安曇野市","西穂高村","久保田",null,"","",{"$f":"IF(K3353=\"\",\"\",COUNTIF($K$7:K3353,\"ﾘｽﾄ１\"))","v":""},"","","","","","","",{"$f":"IF(S3353=\"\",\"\",COUNTIF($S$7:S3353,\"該当２\"))","v":""},"","",{"$f":"IF(V3353=\"\",\"\",COUNTIF($V$7:V3353,\"該当３\"))","v":""}]
[2022006012,20,{"v":220,"d":"220 "},{"v":6,"d":"06 "},{"v":12,"d":"012 "},"長野県","安曇野市","西穂高村","下柏原",null,"","",{"$f":"IF(K3358=\"\",\"\",COUNTIF($K$7:K3358,\"ﾘｽﾄ１\"))","v":""},"","","","","","","",{"$f":"IF(S3358=\"\",\"\",COUNTIF($S$7:S3358,\"該当２\"))","v":""},"","",{"$f":"IF(V3358=\"\",\"\",COUNTIF($V$7:V3358,\"該当３\"))","v":""}]
[2022007001,20,{"v":220,"d":"220 "},{"v":7,"d":"07 "},{"v":1,"d":"001 "},"長野県","安曇野市","北穂高村","島新田",null,"","",{"$f":"IF(K3361=\"\",\"\",COUNTIF($K$7:K3361,\"ﾘｽﾄ１\"))","v":""},"","","","","","","",{"$f":"IF(S3361=\"\",\"\",COUNTIF($S$7:S3361,\"該当２\"))","v":""},"","",{"$f":"IF(V3361=\"\",\"\",COUNTIF($V$7:V3361,\"該当３\"))","v":""}]
[2022008001,20,{"v":220,"d":"220 "},{"v":8,"d":"08 "},{"v":1,"d":"001 "},"長野県","安曇野市","有明村","橋爪",null,"","",{"$f":"IF(K3365=\"\",\"\",COUNTIF($K$7:K3365,\"ﾘｽﾄ１\"))","v":""},"","","","","","","",{"$f":"IF(S3365=\"\",\"\",COUNTIF($S$7:S3365,\"該当２\"))","v":""},"","",{"$f":"IF(V3365=\"\",\"\",COUNTIF($V$7:V3365,\"該当３\"))","v":""}]
[2022008006,20,{"v":220,"d":"220 "},{"v":8,"d":"08 "},{"v":6,"d":"006 "},"長野県","安曇野市","有明村","小岩岳",null,"","",{"$f":"IF(K3370=\"\",\"\",COUNTIF($K$7:K3370,\"ﾘｽﾄ１\"))","v":""},"","","","","","","",{"$f":"IF(S3370=\"\",\"\",COUNTIF($S$7:S3370,\"該当２\"))","v":""},"","",{"$f":"IF(V3370=\"\",\"\",COUNTIF($V$7:V3370,\"該当３\"))","v":""}]
[2022008011,20,{"v":220,"d":"220 "},{"v":8,"d":"08 "},{"v":11,"d":"011 "},"長野県","安曇野市","有明村","松尾",null,"","",{"$f":"IF(K3375=\"\",\"\",COUNTIF($K$7:K3375,\"ﾘｽﾄ１\"))","v":""},"","","","","","","",{"$f":"IF(S3375=\"\",\"\",COUNTIF($S$7:S3375,\"該当２\"))","v":""},"","",{"$f":"IF(V3375=\"\",\"\",COUNTIF($V$7:V3375,\"該当３\"))","v":""}]
[2022009004,20,{"v":220,"d":"220 "},{"v":9,"d":"09 "},{"v":4,"d":"004 "},"長野県","安曇野市","明盛村","及木",null,"","",{"$f":"IF(K3380=\"\",\"\",COUNTIF($K$7:K3380,\"ﾘｽﾄ１\"))","v":""},"","","","","","","",{"$f":"IF(S3380=\"\",\"\",COUNTIF($S$7:S3380,\"該当２\"))","v":""},"","",{"$f":"IF(V3380=\"\",\"\",COUNTIF($V$7:V3380,\"該当３\"))","v":""}]
[2022010000,20,{"v":220,"d":"220 "},{"v":10,"d":"10 "},{"v":0,"d":"000 "},"長野県","安曇野市","小倉村",null,null,"","",{"$f":"IF(K3382=\"\",\"\",COUNTIF($K$7:K3382,\"ﾘｽﾄ１\"))","v":""},"","","","","","","",{"$f":"IF(S3382=\"\",\"\",COUNTIF($S$7:S3382,\"該当２\"))","v":""},"","",{"$f":"IF(V3382=\"\",\"\",COUNTIF($V$7:V3382,\"該当３\"))","v":""}]
[2022011000,20,{"v":220,"d":"220 "},{"v":11,"d":"11 "},{"v":0,"d":"000 "},"長野県","安曇野市","温村",null,null,"","",{"$f":"IF(K3387=\"\",\"\",COUNTIF($K$7:K3387,\"ﾘｽﾄ１\"))","v":""},"","","","","","","",{"$f":"IF(S3387=\"\",\"\",COUNTIF($S$7:S3387,\"該当２\"))","v":""},"","",{"$f":"IF(V3387=\"\",\"\",COUNTIF($V$7:V3387,\"該当３\"))","v":""}]
[2022011005,20,{"v":220,"d":"220 "},{"v":11,"d":"11 "},{"v":5,"d":"005 "},"長野県","安曇野市","温村","住吉",null,"","",{"$f":"IF(K3392=\"\",\"\",COUNTIF($K$7:K3392,\"ﾘｽﾄ１\"))","v":""},"","","","","","","",{"$f":"IF(S3392=\"\",\"\",COUNTIF($S$7:S3392,\"該当２\"))","v":""},"","",{"$f":"IF(V3392=\"\",\"\",COUNTIF($V$7:V3392,\"該当３\"))","v":""}]
[2022012001,20,{"v":220,"d":"220 "},{"v":12,"d":"12 "},{"v":1,"d":"001 "},"長野県","安曇野市","烏川村","岩原",null,"","",{"$f":"IF(K3394=\"\",\"\",COUNTIF($K$7:K3394,\"ﾘｽﾄ１\"))","v":""},"","","","","","","",{"$f":"IF(S3394=\"\",\"\",COUNTIF($S$7:S3394,\"該当２\"))","v":""},"","",{"$f":"IF(V3394=\"\",\"\",COUNTIF($V$7:V3394,\"該当３\"))","v":""}]
[2022012006,20,{"v":220,"d":"220 "},{"v":12,"d":"12 "},{"v":6,"d":"006 "},"長野県","安曇野市","烏川村","扇町",null,"","",{"$f":"IF(K3399=\"\",\"\",COUNTIF($K$7:K3399,\"ﾘｽﾄ１\"))","v":""},"","","","","","","",{"$f":"IF(S3399=\"\",\"\",COUNTIF($S$7:S3399,\"該当２\"))","v":""},"","",{"$f":"IF(V3399=\"\",\"\",COUNTIF($V$7:V3399,\"該当３\"))","v":""}]
[2022014000,20,{"v":220,"d":"220 "},{"v":14,"d":"14 "},{"v":0,"d":"000 "},"長野県","安曇野市","中川手村",null,null,"","",{"$f":"IF(K3404=\"\",\"\",COUNTIF($K$7:K3404,\"ﾘｽﾄ１\"))","v":""},"","","","","","","",{"$f":"IF(S3404=\"\",\"\",COUNTIF($S$7:S3404,\"該当２\"))","v":""},"","",{"$f":"IF(V3404=\"\",\"\",COUNTIF($V$7:V3404,\"該当３\"))","v":""}]
[2022014005,20,{"v":220,"d":"220 "},{"v":14,"d":"14 "},{"v":5,"d":"005 "},"長野県","安曇野市","中川手村","明科２",null,"","",{"$f":"IF(K3409=\"\",\"\",COUNTIF($K$7:K3409,\"ﾘｽﾄ１\"))","v":""},"","","","","","","",{"$f":"IF(S3409=\"\",\"\",COUNTIF($S$7:S3409,\"該当２\"))","v":""},"","",{"$f":"IF(V3409=\"\",\"\",COUNTIF($V$7:V3409,\"該当３\"))","v":""}]
[2022014008,20,{"v":220,"d":"220 "},{"v":14,"d":"14 "},{"v":8,"d":"008 "},"長野県","安曇野市","中川手村","吐中",null,"","",{"$f":"IF(K3412=\"\",\"\",COUNTIF($K$7:K3412,\"ﾘｽﾄ１\"))","v":""},"","","","","","","",{"$f":"IF(S3412=\"\",\"\",COUNTIF($S$7:S3412,\"該当２\"))","v":""},"","",{"$f":"IF(V3412=\"\",\"\",COUNTIF($V$7:V3412,\"該当３\"))","v":""}]
[2022015001,20,{"v":220,"d":"220 "},{"v":15,"d":"15 "},{"v":1,"d":"001 "},"長野県","安曇野市","東川手村","潮",null,"","",{"$f":"IF(K3416=\"\",\"\",COUNTIF($K$7:K3416,\"ﾘｽﾄ１\"))","v":""},"","","","","","","",{"$f":"IF(S3416=\"\",\"\",COUNTIF($S$7:S3416,\"該当２\"))","v":""},"","",{"$f":"IF(V3416=\"\",\"\",COUNTIF($V$7:V3416,\"該当３\"))","v":""}]
[2022015006,20,{"v":220,"d":"220 "},{"v":15,"d":"15 "},{"v":6,"d":"006 "},"長野県","安曇野市","東川手村","松庄",null,"","",{"$f":"IF(K3421=\"\",\"\",COUNTIF($K$7:K3421,\"ﾘｽﾄ１\"))","v":""},"","","","","","","",{"$f":"IF(S3421=\"\",\"\",COUNTIF($S$7:S3421,\"該当２\"))","v":""},"","",{"$f":"IF(V3421=\"\",\"\",COUNTIF($V$7:V3421,\"該当３\"))","v":""}]
[2022015011,20,{"v":220,"d":"220 "},{"v":15,"d":"15 "},{"v":11,"d":"011 "},"長野県","安曇野市","東川手村","矢下沢",null,"","",{"$f":"IF(K3426=\"\",\"\",COUNTIF($K$7:K3426,\"ﾘｽﾄ１\"))","v":""},"","","","","","","",{"$f":"IF(S3426=\"\",\"\",COUNTIF($S$7:S3426,\"該当２\"))","v":""},"","",{"$f":"IF(V3426=\"\",\"\",COUNTIF($V$7:V3426,\"該当３\"))","v":""}]
[2022015016,20,{"v":220,"d":"220 "},{"v":15,"d":"15 "},{"v":16,"d":"016 "},"長野県","安曇野市","東川手村","木戸",null,"","",{"$f":"IF(K3431=\"\",\"\",COUNTIF($K$7:K3431,\"ﾘｽﾄ１\"))","v":""},"","","","","","","",{"$f":"IF(S3431=\"\",\"\",COUNTIF($S$7:S3431,\"該当２\"))","v":""},"","",{"$f":"IF(V3431=\"\",\"\",COUNTIF($V$7:V3431,\"該当３\"))","v":""}]
[2022015018,20,{"v":220,"d":"220 "},{"v":15,"d":"15 "},{"v":18,"d":"018 "},"長野県","安曇野市","東川手村","明賀",null,"","",{"$f":"IF(K3433=\"\",\"\",COUNTIF($K$7:K3433,\"ﾘｽﾄ１\"))","v":""},"","","","","","","",{"$f":"IF(S3433=\"\",\"\",COUNTIF($S$7:S3433,\"該当２\"))","v":""},"","",{"$f":"IF(V3433=\"\",\"\",COUNTIF($V$7:V3433,\"該当３\"))","v":""}]
[2022017000,20,{"v":220,"d":"220 "},{"v":17,"d":"17 "},{"v":0,"d":"000 "},"長野県","安曇野市","七貴村２－１",null,null,"","",{"$f":"IF(K3438=\"\",\"\",COUNTIF($K$7:K3438,\"ﾘｽﾄ１\"))","v":""},"","","","","","","",{"$f":"IF(S3438=\"\",\"\",COUNTIF($S$7:S3438,\"該当２\"))","v":""},"","",{"$f":"IF(V3438=\"\",\"\",COUNTIF($V$7:V3438,\"該当３\"))","v":""}]
[2022018000,20,{"v":220,"d":"220 "},{"v":18,"d":"18 "},{"v":0,"d":"000 "},"長野県","安曇野市","陸郷村３－１",null,null,"","",{"$f":"IF(K3443=\"\",\"\",COUNTIF($K$7:K3443,\"ﾘｽﾄ１\"))","v":""},"","","","","","","",{"$f":"IF(S3443=\"\",\"\",COUNTIF($S$7:S3443,\"該当２\"))","v":""},"","",{"$f":"IF(V3443=\"\",\"\",COUNTIF($V$7:V3443,\"該当３\"))","v":""}]
[2022018001,20,{"v":220,"d":"220 "},{"v":18,"d":"18 "},{"v":1,"d":"001 "},"長野県","安曇野市","陸郷村３－１","中村",null,"","",{"$f":"IF(K3444=\"\",\"\",COUNTIF($K$7:K3444,\"ﾘｽﾄ１\"))","v":""},"","","","","","","",{"$f":"IF(S3444=\"\",\"\",COUNTIF($S$7:S3444,\"該当２\"))","v":""},"","",{"$f":"IF(V3444=\"\",\"\",COUNTIF($V$7:V3444,\"該当３\"))","v":""}]
[2030301002,20,{"v":303,"d":"303 "},{"v":1,"d":"01 "},{"v":2,"d":"002 "},"長野県","小海町","小海村","箕輪",null,"","",{"$f":"IF(K3450=\"\",\"\",COUNTIF($K$7:K3450,\"ﾘｽﾄ１\"))","v":""},"","","","","","","",{"$f":"IF(S3450=\"\",\"\",COUNTIF($S$7:S3450,\"該当２\"))","v":""},"","",{"$f":"IF(V3450=\"\",\"\",COUNTIF($V$7:V3450,\"該当３\"))","v":""}]
[2030301007,20,{"v":303,"d":"303 "},{"v":1,"d":"01 "},{"v":7,"d":"007 "},"長野県","小海町","小海村","市の沢",null,"","",{"$f":"IF(K3455=\"\",\"\",COUNTIF($K$7:K3455,\"ﾘｽﾄ１\"))","v":""},"","","","","","","",{"$f":"IF(S3455=\"\",\"\",COUNTIF($S$7:S3455,\"該当２\"))","v":""},"","",{"$f":"IF(V3455=\"\",\"\",COUNTIF($V$7:V3455,\"該当３\"))","v":""}]
[2030302000,20,{"v":303,"d":"303 "},{"v":2,"d":"02 "},{"v":0,"d":"000 "},"長野県","小海町","穂積村２－２",null,null,"","",{"$f":"IF(K3460=\"\",\"\",COUNTIF($K$7:K3460,\"ﾘｽﾄ１\"))","v":""},"","","","","","","",{"$f":"IF(S3460=\"\",\"\",COUNTIF($S$7:S3460,\"該当２\"))","v":""},"","",{"$f":"IF(V3460=\"\",\"\",COUNTIF($V$7:V3460,\"該当３\"))","v":""}]
[2030303001,20,{"v":303,"d":"303 "},{"v":3,"d":"03 "},{"v":1,"d":"001 "},"長野県","小海町","北牧村２－１","本間下",null,"","",{"$f":"IF(K3463=\"\",\"\",COUNTIF($K$7:K3463,\"ﾘｽﾄ１\"))","v":""},"","","","","","","",{"$f":"IF(S3463=\"\",\"\",COUNTIF($S$7:S3463,\"該当２\"))","v":""},"","",{"$f":"IF(V3463=\"\",\"\",COUNTIF($V$7:V3463,\"該当３\"))","v":""}]
[2030303005,20,{"v":303,"d":"303 "},{"v":3,"d":"03 "},{"v":5,"d":"005 "},"長野県","小海町","北牧村２－１","溝の原",null,{"$f":"IF(AND($C3467>0,$H3467=\"\"),\"ﾘｽﾄ１\",\"\")","v":""},{"$f":"IF(K3467=\"ﾘｽﾄ１\",G3467,\"\")","v":""},{"$f":"IF(K3467=\"\",\"\",COUNTIF($K$7:K3467,\"ﾘｽﾄ１\"))","v":""},{"$f":"IF(AND(D3467=0,E3467>0),\"同一区\",\"\")","v":""},{"$f":"IF(AND(EXACT($K$2,G3467),H3467>0),\"該当１\",\"\")","v":""},"","","",{"$f":"IF(AND(Q3467=\"ﾘｽﾄ2\",OR(I3467=0,AND(N3467=\"同一区\",E3467=1))),\"該当２\",\"\")","v":""},"",{"$f":"IF(S3467=\"\",\"\",COUNTIF($S$7:S3467,\"該当２\"))","v":""},"","",{"$f":"IF(V3467=\"\",\"\",COUNTIF($V$7:V3467,\"該当３\"))","v":""}]
[2030303010,20,{"v":303,"d":"303 "},{"v":3,"d":"03 "},{"v":10,"d":"010 "},"長野県","小海町","北牧村２－１","八那池",null,"","",{"$f":"IF(K3472=\"\",\"\",COUNTIF($K$7:K3472,\"ﾘｽﾄ１\"))","v":""},"","","","","","","",{"$f":"IF(S3472=\"\",\"\",COUNTIF($S$7:S3472,\"該当２\"))","v":""},"","",{"$f":"IF(V3472=\"\",\"\",COUNTIF($V$7:V3472,\"該当３\"))","v":""}]
[2030400000,20,{"v":304,"d":"304 "},{"v":0,"d":"00 "},{"v":0,"d":"000 "},"長野県","川上村",{"$nulls":3},"ﾘｽﾄ１","川上村",{"$f":"IF(K3477=\"\",\"\",COUNTIF($K$7:K3477,\"ﾘｽﾄ１\"))","v":21},"","","","","","","",{"$f":"IF(S3477=\"\",\"\",COUNTIF($S$7:S3477,\"該当２\"))","v":""},"","",{"$f":"IF(V3477=\"\",\"\",COUNTIF($V$7:V3477,\"該当３\"))","v":""}]
[2030400004,20,{"v":304,"d":"304 "},{"v":0,"d":"00 "},{"v":4,"d":"004 "},"長野県","川上村","（川上村）","大深山",null,"","",{"$f":"IF(K3481=\"\",\"\",COUNTIF($K$7:K3481,\"ﾘｽﾄ１\"))","v":""},"同一区","","","","","","",{"$f":"IF(S3481=\"\",\"\",COUNTIF($S$7:S3481,\"該当２\"))","v":""},"","",{"$f":"IF(V3481=\"\",\"\",COUNTIF($V$7:V3481,\"該当３\"))","v":""}]
[2030400007,20,{"v":304,"d":"304 "},{"v":0,"d":"00 "},{"v":7,"d":"007 "},"長野県","川上村","（川上村）","梓山",null,"","",{"$f":"IF(K3484=\"\",\"\",COUNTIF($K$7:K3484,\"ﾘｽﾄ１\"))","v":""},"同一区","","","","","","",{"$f":"IF(S3484=\"\",\"\",COUNTIF($S$7:S3484,\"該当２\"))","v":""},"","",{"$f":"IF(V3484=\"\",\"\",COUNTIF($V$7:V3484,\"該当３\"))","v":""}]
[2030500003,20,{"v":305,"d":"305 "},{"v":0,"d":"00 "},{"v":3,"d":"003 "},"長野県","南牧村","（南牧村）","海ノ口",null,"","",{"$f":"IF(K3489=\"\",\"\",COUNTIF($K$7:K3489,\"ﾘｽﾄ１\"))","v":""},"同一区","","","","","","",{"$f":"IF(S3489=\"\",\"\",COUNTIF($S$7:S3489,\"該当２\"))","v":""},"","",{"$f":"IF(V3489=\"\",\"\",COUNTIF($V$7:V3489,\"該当３\"))","v":""}]
[2030500008,20,{"v":305,"d":"305 "},{"v":0,"d":"00 "},{"v":8,"d":"008 "},"長野県","南牧村","（南牧村）","野辺山",null,"","",{"$f":"IF(K3494=\"\",\"\",COUNTIF($K$7:K3494,\"ﾘｽﾄ１\"))","v":""},"同一区","","","","","","",{"$f":"IF(S3494=\"\",\"\",COUNTIF($S$7:S3494,\"該当２\"))","v":""},"","",{"$f":"IF(V3494=\"\",\"\",COUNTIF($V$7:V3494,\"該当３\"))","v":""}]
[2030500009,20,{"v":305,"d":"305 "},{"v":0,"d":"00 "},{"v":9,"d":"009 "},"長野県","南牧村","（南牧村）","平沢",null,"","",{"$f":"IF(K3495=\"\",\"\",COUNTIF($K$7:K3495,\"ﾘｽﾄ１\"))","v":""},"同一区","","","","","","",{"$f":"IF(S3495=\"\",\"\",COUNTIF($S$7:S3495,\"該当２\"))","v":""},"","",{"$f":"IF(V3495=\"\",\"\",COUNTIF($V$7:V3495,\"該当３\"))","v":""}]
[2030600005,20,{"v":306,"d":"306 "},{"v":0,"d":"00 "},{"v":5,"d":"005 "},"長野県","南相木村","（南相木村）","加佐",null,"","",{"$f":"IF(K3501=\"\",\"\",COUNTIF($K$7:K3501,\"ﾘｽﾄ１\"))","v":""},"同一区","","","","","","",{"$f":"IF(S3501=\"\",\"\",COUNTIF($S$7:S3501,\"該当２\"))","v":""},"","",{"$f":"IF(V3501=\"\",\"\",COUNTIF($V$7:V3501,\"該当３\"))","v":""}]
[2030600010,20,{"v":306,"d":"306 "},{"v":0,"d":"00 "},{"v":10,"d":"010 "},"長野県","南相木村","（南相木村）","日向",null,"","",{"$f":"IF(K3506=\"\",\"\",COUNTIF($K$7:K3506,\"ﾘｽﾄ１\"))","v":""},"同一区","","","","","","",{"$f":"IF(S3506=\"\",\"\",COUNTIF($S$7:S3506,\"該当２\"))","v":""},"","",{"$f":"IF(V3506=\"\",\"\",COUNTIF($V$7:V3506,\"該当３\"))","v":""}]
[2030700004,20,{"v":307,"d":"307 "},{"v":0,"d":"00 "},{"v":4,"d":"004 "},"長野県","北相木村","（北相木村）","久保",null,"","",{"$f":"IF(K3511=\"\",\"\",COUNTIF($K$7:K3511,\"ﾘｽﾄ１\"))","v":""},"同一区","","","","","","",{"$f":"IF(S3511=\"\",\"\",COUNTIF($S$7:S3511,\"該当２\"))","v":""},"","",{"$f":"IF(V3511=\"\",\"\",COUNTIF($V$7:V3511,\"該当３\"))","v":""}]
[2030700006,20,{"v":307,"d":"307 "},{"v":0,"d":"00 "},{"v":6,"d":"006 "},"長野県","北相木村","（北相木村）","中尾",null,"","",{"$f":"IF(K3513=\"\",\"\",COUNTIF($K$7:K3513,\"ﾘｽﾄ１\"))","v":""},"同一区","","","","","","",{"$f":"IF(S3513=\"\",\"\",COUNTIF($S$7:S3513,\"該当２\"))","v":""},"","",{"$f":"IF(V3513=\"\",\"\",COUNTIF($V$7:V3513,\"該当３\"))","v":""}]
[2030901000,20,{"v":309,"d":"309 "},{"v":1,"d":"01 "},{"v":0,"d":"000 "},"長野県","佐久穂町","海瀬村",null,null,"","",{"$f":"IF(K3518=\"\",\"\",COUNTIF($K$7:K3518,\"ﾘｽﾄ１\"))","v":""},"","","","","","","",{"$f":"IF(S3518=\"\",\"\",COUNTIF($S$7:S3518,\"該当２\"))","v":""},"","",{"$f":"IF(V3518=\"\",\"\",COUNTIF($V$7:V3518,\"該当３\"))","v":""}]
[2030901005,20,{"v":309,"d":"309 "},{"v":1,"d":"01 "},{"v":5,"d":"005 "},"長野県","佐久穂町","海瀬村","川久保３",null,"","",{"$f":"IF(K3523=\"\",\"\",COUNTIF($K$7:K3523,\"ﾘｽﾄ１\"))","v":""},"","","","","","","",{"$f":"IF(S3523=\"\",\"\",COUNTIF($S$7:S3523,\"該当２\"))","v":""},"","",{"$f":"IF(V3523=\"\",\"\",COUNTIF($V$7:V3523,\"該当３\"))","v":""}]
[2030901010,20,{"v":309,"d":"309 "},{"v":1,"d":"01 "},{"v":10,"d":"010 "},"長野県","佐久穂町","海瀬村","畑ケ中３",null,"","",{"$f":"IF(K3528=\"\",\"\",COUNTIF($K$7:K3528,\"ﾘｽﾄ１\"))","v":""},"","","","","","","",{"$f":"IF(S3528=\"\",\"\",COUNTIF($S$7:S3528,\"該当２\"))","v":""},"","",{"$f":"IF(V3528=\"\",\"\",COUNTIF($V$7:V3528,\"該当３\"))","v":""}]
[2030901014,20,{"v":309,"d":"309 "},{"v":1,"d":"01 "},{"v":14,"d":"014 "},"長野県","佐久穂町","海瀬村","赤屋",null,"","",{"$f":"IF(K3532=\"\",\"\",COUNTIF($K$7:K3532,\"ﾘｽﾄ１\"))","v":""},"","","","","","","",{"$f":"IF(S3532=\"\",\"\",COUNTIF($S$7:S3532,\"該当２\"))","v":""},"","",{"$f":"IF(V3532=\"\",\"\",COUNTIF($V$7:V3532,\"該当３\"))","v":""}]
[2030902001,20,{"v":309,"d":"309 "},{"v":2,"d":"02 "},{"v":1,"d":"001 "},"長野県","佐久穂町","栄村（佐久穂町）","柳町",null,"","",{"$f":"IF(K3535=\"\",\"\",COUNTIF($K$7:K3535,\"ﾘｽﾄ１\"))","v":""},"","","","","","","",{"$f":"IF(S3535=\"\",\"\",COUNTIF($S$7:S3535,\"該当２\"))","v":""},"","",{"$f":"IF(V3535=\"\",\"\",COUNTIF($V$7:V3535,\"該当３\"))","v":""}]
[2030902006,20,{"v":309,"d":"309 "},{"v":2,"d":"02 "},{"v":6,"d":"006 "},"長野県","佐久穂町","栄村（佐久穂町）","大張",null,"","",{"$f":"IF(K3540=\"\",\"\",COUNTIF($K$7:K3540,\"ﾘｽﾄ１\"))","v":""},"","","","","","","",{"$f":"IF(S3540=\"\",\"\",COUNTIF($S$7:S3540,\"該当２\"))","v":""},"","",{"$f":"IF(V3540=\"\",\"\",COUNTIF($V$7:V3540,\"該当３\"))","v":""}]
[2030902011,20,{"v":309,"d":"309 "},{"v":2,"d":"02 "},{"v":11,"d":"011 "},"長野県","佐久穂町","栄村（佐久穂町）","久保田・三本木",null,"","",{"$f":"IF(K3545=\"\",\"\",COUNTIF($K$7:K3545,\"ﾘｽﾄ１\"))","v":""},"","","","","","","",{"$f":"IF(S3545=\"\",\"\",COUNTIF($S$7:S3545,\"該当２\"))","v":""},"","",{"$f":"IF(V3545=\"\",\"\",COUNTIF($V$7:V3545,\"該当３\"))","v":""}]
[2030903002,20,{"v":309,"d":"309 "},{"v":3,"d":"03 "},{"v":2,"d":"002 "},"長野県","佐久穂町","大日向村","大日向２",null,"","",{"$f":"IF(K3550=\"\",\"\",COUNTIF($K$7:K3550,\"ﾘｽﾄ１\"))","v":""},"","","","","","","",{"$f":"IF(S3550=\"\",\"\",COUNTIF($S$7:S3550,\"該当２\"))","v":""},"","",{"$f":"IF(V3550=\"\",\"\",COUNTIF($V$7:V3550,\"該当３\"))","v":""}]
[2030903004,20,{"v":309,"d":"309 "},{"v":3,"d":"03 "},{"v":4,"d":"004 "},"長野県","佐久穂町","大日向村","大日向４",null,"","",{"$f":"IF(K3552=\"\",\"\",COUNTIF($K$7:K3552,\"ﾘｽﾄ１\"))","v":""},"","","","","","","",{"$f":"IF(S3552=\"\",\"\",COUNTIF($S$7:S3552,\"該当２\"))","v":""},"","",{"$f":"IF(V3552=\"\",\"\",COUNTIF($V$7:V3552,\"該当３\"))","v":""}]
[2030904003,20,{"v":309,"d":"309 "},{"v":4,"d":"04 "},{"v":3,"d":"003 "},"長野県","佐久穂町","青沼村２－２","曽原",null,"","",{"$f":"IF(K3557=\"\",\"\",COUNTIF($K$7:K3557,\"ﾘｽﾄ１\"))","v":""},"","","","","","","",{"$f":"IF(S3557=\"\",\"\",COUNTIF($S$7:S3557,\"該当２\"))","v":""},"","",{"$f":"IF(V3557=\"\",\"\",COUNTIF($V$7:V3557,\"該当３\"))","v":""}]
[2030905004,20,{"v":309,"d":"309 "},{"v":5,"d":"05 "},{"v":4,"d":"004 "},"長野県","佐久穂町","畑八村","下畑",null,"","",{"$f":"IF(K3562=\"\",\"\",COUNTIF($K$7:K3562,\"ﾘｽﾄ１\"))","v":""},"","","","","","","",{"$f":"IF(S3562=\"\",\"\",COUNTIF($S$7:S3562,\"該当２\"))","v":""},"","",{"$f":"IF(V3562=\"\",\"\",COUNTIF($V$7:V3562,\"該当３\"))","v":""}]
[2030905006,20,{"v":309,"d":"309 "},{"v":5,"d":"05 "},{"v":6,"d":"006 "},"長野県","佐久穂町","畑八村","上野",null,"","",{"$f":"IF(K3564=\"\",\"\",COUNTIF($K$7:K3564,\"ﾘｽﾄ１\"))","v":""},"","","","","","","",{"$f":"IF(S3564=\"\",\"\",COUNTIF($S$7:S3564,\"該当２\"))","v":""},"","",{"$f":"IF(V3564=\"\",\"\",COUNTIF($V$7:V3564,\"該当３\"))","v":""}]
[2030905011,20,{"v":309,"d":"309 "},{"v":5,"d":"05 "},{"v":11,"d":"011 "},"長野県","佐久穂町","畑八村","大石",null,"","",{"$f":"IF(K3569=\"\",\"\",COUNTIF($K$7:K3569,\"ﾘｽﾄ１\"))","v":""},"","","","","","","",{"$f":"IF(S3569=\"\",\"\",COUNTIF($S$7:S3569,\"該当２\"))","v":""},"","",{"$f":"IF(V3569=\"\",\"\",COUNTIF($V$7:V3569,\"該当３\"))","v":""}]
[2030906004,20,{"v":309,"d":"309 "},{"v":6,"d":"06 "},{"v":4,"d":"004 "},"長野県","佐久穂町","穂積村２－１","筆岩",null,"","",{"$f":"IF(K3574=\"\",\"\",COUNTIF($K$7:K3574,\"ﾘｽﾄ１\"))","v":""},"","","","","","","",{"$f":"IF(S3574=\"\",\"\",COUNTIF($S$7:S3574,\"該当２\"))","v":""},"","",{"$f":"IF(V3574=\"\",\"\",COUNTIF($V$7:V3574,\"該当３\"))","v":""}]
[2030907002,20,{"v":309,"d":"309 "},{"v":7,"d":"07 "},{"v":2,"d":"002 "},"長野県","佐久穂町","北牧村２－２","柳沢",null,"","",{"$f":"IF(K3579=\"\",\"\",COUNTIF($K$7:K3579,\"ﾘｽﾄ１\"))","v":""},"","","","","","","",{"$f":"IF(S3579=\"\",\"\",COUNTIF($S$7:S3579,\"該当２\"))","v":""},"","",{"$f":"IF(V3579=\"\",\"\",COUNTIF($V$7:V3579,\"該当３\"))","v":""}]
[2032101000,20,{"v":321,"d":"321 "},{"v":1,"d":"01 "},{"v":0,"d":"000 "},"長野県","軽井沢町","軽井沢町（旧）",null,null,"","",{"$f":"IF(K3582=\"\",\"\",COUNTIF($K$7:K3582,\"ﾘｽﾄ１\"))","v":""},"","","","","","","",{"$f":"IF(S3582=\"\",\"\",COUNTIF($S$7:S3582,\"該当２\"))","v":""},"","",{"$f":"IF(V3582=\"\",\"\",COUNTIF($V$7:V3582,\"該当３\"))","v":""}]
[2032101004,20,{"v":321,"d":"321 "},{"v":1,"d":"01 "},{"v":4,"d":"004 "},"長野県","軽井沢町","軽井沢町（旧）","借宿帰農",null,"","",{"$f":"IF(K3586=\"\",\"\",COUNTIF($K$7:K3586,\"ﾘｽﾄ１\"))","v":""},"","","","","","","",{"$f":"IF(S3586=\"\",\"\",COUNTIF($S$7:S3586,\"該当２\"))","v":""},"","",{"$f":"IF(V3586=\"\",\"\",COUNTIF($V$7:V3586,\"該当３\"))","v":""}]
[2032101009,20,{"v":321,"d":"321 "},{"v":1,"d":"01 "},{"v":9,"d":"009 "},"長野県","軽井沢町","軽井沢町（旧）","塩沢",null,"","",{"$f":"IF(K3591=\"\",\"\",COUNTIF($K$7:K3591,\"ﾘｽﾄ１\"))","v":""},"","","","","","","",{"$f":"IF(S3591=\"\",\"\",COUNTIF($S$7:S3591,\"該当２\"))","v":""},"","",{"$f":"IF(V3591=\"\",\"\",COUNTIF($V$7:V3591,\"該当３\"))","v":""}]
[2032101014,20,{"v":321,"d":"321 "},{"v":1,"d":"01 "},{"v":14,"d":"014 "},"長野県","軽井沢町","軽井沢町（旧）","上発地",null,"","",{"$f":"IF(K3596=\"\",\"\",COUNTIF($K$7:K3596,\"ﾘｽﾄ１\"))","v":""},"","","","","","","",{"$f":"IF(S3596=\"\",\"\",COUNTIF($S$7:S3596,\"該当２\"))","v":""},"","",{"$f":"IF(V3596=\"\",\"\",COUNTIF($V$7:V3596,\"該当３\"))","v":""}]
[2032102000,20,{"v":321,"d":"321 "},{"v":2,"d":"02 "},{"v":0,"d":"000 "},"長野県","軽井沢町","伍賀村２－２",null,null,"","",{"$f":"IF(K3601=\"\",\"\",COUNTIF($K$7:K3601,\"ﾘｽﾄ１\"))","v":""},"","","","","","","",{"$f":"IF(S3601=\"\",\"\",COUNTIF($S$7:S3601,\"該当２\"))","v":""},"","",{"$f":"IF(V3601=\"\",\"\",COUNTIF($V$7:V3601,\"該当３\"))","v":""}]
[2032300000,20,{"v":323,"d":"323 "},{"v":0,"d":"00 "},{"v":0,"d":"000 "},"長野県","御代田町",{"$nulls":3},"ﾘｽﾄ１","御代田町",{"$f":"IF(K3603=\"\",\"\",COUNTIF($K$7:K3603,\"ﾘｽﾄ１\"))","v":27},"","","","","","","",{"$f":"IF(S3603=\"\",\"\",COUNTIF($S$7:S3603,\"該当２\"))","v":""},"","",{"$f":"IF(V3603=\"\",\"\",COUNTIF($V$7:V3603,\"該当３\"))","v":""}]
[2032301004,20,{"v":323,"d":"323 "},{"v":1,"d":"01 "},{"v":4,"d":"004 "},"長野県","御代田町","伍賀村２－１","面替",null,"","",{"$f":"IF(K3608=\"\",\"\",COUNTIF($K$7:K3608,\"ﾘｽﾄ１\"))","v":""},"","","","","","","",{"$f":"IF(S3608=\"\",\"\",COUNTIF($S$7:S3608,\"該当２\"))","v":""},"","",{"$f":"IF(V3608=\"\",\"\",COUNTIF($V$7:V3608,\"該当３\"))","v":""}]
[2032302003,20,{"v":323,"d":"323 "},{"v":2,"d":"02 "},{"v":3,"d":"003 "},"長野県","御代田町","御代田村２－１","西軽井沢",null,"","",{"$f":"IF(K3613=\"\",\"\",COUNTIF($K$7:K3613,\"ﾘｽﾄ１\"))","v":""},"","","","","","","",{"$f":"IF(S3613=\"\",\"\",COUNTIF($S$7:S3613,\"該当２\"))","v":""},"","",{"$f":"IF(V3613=\"\",\"\",COUNTIF($V$7:V3613,\"該当３\"))","v":""}]
[2032302004,20,{"v":323,"d":"323 "},{"v":2,"d":"02 "},{"v":4,"d":"004 "},"長野県","御代田町","御代田村２－１","児玉",null,"","",{"$f":"IF(K3614=\"\",\"\",COUNTIF($K$7:K3614,\"ﾘｽﾄ１\"))","v":""},"","","","","","","",{"$f":"IF(S3614=\"\",\"\",COUNTIF($S$7:S3614,\"該当２\"))","v":""},"","",{"$f":"IF(V3614=\"\",\"\",COUNTIF($V$7:V3614,\"該当３\"))","v":""}]
[2032303003,20,{"v":323,"d":"323 "},{"v":3,"d":"03 "},{"v":3,"d":"003 "},"長野県","御代田町","小沼村２－１－１","旭町",null,"","",{"$f":"IF(K3620=\"\",\"\",COUNTIF($K$7:K3620,\"ﾘｽﾄ１\"))","v":""},"","","","","","","",{"$f":"IF(S3620=\"\",\"\",COUNTIF($S$7:S3620,\"該当２\"))","v":""},"","",{"$f":"IF(V3620=\"\",\"\",COUNTIF($V$7:V3620,\"該当３\"))","v":""}]
[2032401000,20,{"v":324,"d":"324 "},{"v":1,"d":"01 "},{"v":0,"d":"000 "},"長野県","立科町","芦田村",null,null,"","",{"$f":"IF(K3625=\"\",\"\",COUNTIF($K$7:K3625,\"ﾘｽﾄ１\"))","v":""},"","","","","","","",{"$f":"IF(S3625=\"\",\"\",COUNTIF($S$7:S3625,\"該当２\"))","v":""},"","",{"$f":"IF(V3625=\"\",\"\",COUNTIF($V$7:V3625,\"該当３\"))","v":""}]
[2032401005,20,{"v":324,"d":"324 "},{"v":1,"d":"01 "},{"v":5,"d":"005 "},"長野県","立科町","芦田村","野方",null,"","",{"$f":"IF(K3630=\"\",\"\",COUNTIF($K$7:K3630,\"ﾘｽﾄ１\"))","v":""},"","","","","","","",{"$f":"IF(S3630=\"\",\"\",COUNTIF($S$7:S3630,\"該当２\"))","v":""},"","",{"$f":"IF(V3630=\"\",\"\",COUNTIF($V$7:V3630,\"該当３\"))","v":""}]
[2032401008,20,{"v":324,"d":"324 "},{"v":1,"d":"01 "},{"v":8,"d":"008 "},"長野県","立科町","芦田村","日向",null,"","",{"$f":"IF(K3633=\"\",\"\",COUNTIF($K$7:K3633,\"ﾘｽﾄ１\"))","v":""},"","","","","","","",{"$f":"IF(S3633=\"\",\"\",COUNTIF($S$7:S3633,\"該当２\"))","v":""},"","",{"$f":"IF(V3633=\"\",\"\",COUNTIF($V$7:V3633,\"該当３\"))","v":""}]
[2032402003,20,{"v":324,"d":"324 "},{"v":2,"d":"02 "},{"v":3,"d":"003 "},"長野県","立科町","三都和村","藤沢",null,"","",{"$f":"IF(K3637=\"\",\"\",COUNTIF($K$7:K3637,\"ﾘｽﾄ１\"))","v":""},"","","","","","","",{"$f":"IF(S3637=\"\",\"\",COUNTIF($S$7:S3637,\"該当２\"))","v":""},"","",{"$f":"IF(V3637=\"\",\"\",COUNTIF($V$7:V3637,\"該当３\"))","v":""}]
[2032403001,20,{"v":324,"d":"324 "},{"v":3,"d":"03 "},{"v":1,"d":"001 "},"長野県","立科町","横鳥村","虎御前",null,"","",{"$f":"IF(K3642=\"\",\"\",COUNTIF($K$7:K3642,\"ﾘｽﾄ１\"))","v":""},"","","","","","","",{"$f":"IF(S3642=\"\",\"\",COUNTIF($S$7:S3642,\"該当２\"))","v":""},"","",{"$f":"IF(V3642=\"\",\"\",COUNTIF($V$7:V3642,\"該当３\"))","v":""}]
[2032403006,20,{"v":324,"d":"324 "},{"v":3,"d":"03 "},{"v":6,"d":"006 "},"長野県","立科町","横鳥村","蟹窪",null,"","",{"$f":"IF(K3647=\"\",\"\",COUNTIF($K$7:K3647,\"ﾘｽﾄ１\"))","v":""},"","","","","","","",{"$f":"IF(S3647=\"\",\"\",COUNTIF($S$7:S3647,\"該当２\"))","v":""},"","",{"$f":"IF(V3647=\"\",\"\",COUNTIF($V$7:V3647,\"該当３\"))","v":""}]
[2032403010,20,{"v":324,"d":"324 "},{"v":3,"d":"03 "},{"v":10,"d":"010 "},"長野県","立科町","横鳥村","滝神",null,"","",{"$f":"IF(K3651=\"\",\"\",COUNTIF($K$7:K3651,\"ﾘｽﾄ１\"))","v":""},"","","","","","","",{"$f":"IF(S3651=\"\",\"\",COUNTIF($S$7:S3651,\"該当２\"))","v":""},"","",{"$f":"IF(V3651=\"\",\"\",COUNTIF($V$7:V3651,\"該当３\"))","v":""}]
[2032403013,20,{"v":324,"d":"324 "},{"v":3,"d":"03 "},{"v":13,"d":"013 "},"長野県","立科町","横鳥村","山部",null,"","",{"$f":"IF(K3654=\"\",\"\",COUNTIF($K$7:K3654,\"ﾘｽﾄ１\"))","v":""},"","","","","","","",{"$f":"IF(S3654=\"\",\"\",COUNTIF($S$7:S3654,\"該当２\"))","v":""},"","",{"$f":"IF(V3654=\"\",\"\",COUNTIF($V$7:V3654,\"該当３\"))","v":""}]
[2034900000,20,{"v":349,"d":"349 "},{"v":0,"d":"00 "},{"v":0,"d":"000 "},"長野県","青木村",{"$nulls":3},{"$f":"IF(AND($C3659>0,$H3659=\"\"),\"ﾘｽﾄ１\",\"\")","v":"ﾘｽﾄ１"},{"$f":"IF(K3659=\"ﾘｽﾄ１\",G3659,\"\")","v":"青木村"},{"$f":"IF(K3659=\"\",\"\",COUNTIF($K$7:K3659,\"ﾘｽﾄ１\"))","v":29},{"$f":"IF(AND(D3659=0,E3659>0),\"同一区\",\"\")","v":""},{"$f":"IF(AND(EXACT($K$2,G3659),H3659>0),\"該当１\",\"\")","v":""},"","","",{"$f":"IF(AND(Q3659=\"ﾘｽﾄ2\",OR(I3659=0,AND(N3659=\"同一区\",E3659=1))),\"該当２\",\"\")","v":""},"",{"$f":"IF(S3659=\"\",\"\",COUNTIF($S$7:S3659,\"該当２\"))","v":""},"","",{"$f":"IF(V3659=\"\",\"\",COUNTIF($V$7:V3659,\"該当３\"))","v":""}]
[2034901004,20,{"v":349,"d":"349 "},{"v":1,"d":"01 "},{"v":4,"d":"004 "},"長野県","青木村","青木村（旧）","中村",null,"","",{"$f":"IF(K3664=\"\",\"\",COUNTIF($K$7:K3664,\"ﾘｽﾄ１\"))","v":""},"","","","","","","",{"$f":"IF(S3664=\"\",\"\",COUNTIF($S$7:S3664,\"該当２\"))","v":""},"","",{"$f":"IF(V3664=\"\",\"\",COUNTIF($V$7:V3664,\"該当３\"))","v":""}]
[2034901005,20,{"v":349,"d":"349 "},{"v":1,"d":"01 "},{"v":5,"d":"005 "},"長野県","青木村","青木村（旧）","入田沢",null,"","",{"$f":"IF(K3665=\"\",\"\",COUNTIF($K$7:K3665,\"ﾘｽﾄ１\"))","v":""},"","","","","","","",{"$f":"IF(S3665=\"\",\"\",COUNTIF($S$7:S3665,\"該当２\"))","v":""},"","",{"$f":"IF(V3665=\"\",\"\",COUNTIF($V$7:V3665,\"該当３\"))","v":""}]
[2034901011,20,{"v":349,"d":"349 "},{"v":1,"d":"01 "},{"v":11,"d":"011 "},"長野県","青木村","青木村（旧）","沓掛",null,"","",{"$f":"IF(K3671=\"\",\"\",COUNTIF($K$7:K3671,\"ﾘｽﾄ１\"))","v":""},"","","","","","","",{"$f":"IF(S3671=\"\",\"\",COUNTIF($S$7:S3671,\"該当２\"))","v":""},"","",{"$f":"IF(V3671=\"\",\"\",COUNTIF($V$7:V3671,\"該当３\"))","v":""}]
[2035001001,20,{"v":350,"d":"350 "},{"v":1,"d":"01 "},{"v":1,"d":"001 "},"長野県","長和町","大門村","四泊落合",null,"","",{"$f":"IF(K3676=\"\",\"\",COUNTIF($K$7:K3676,\"ﾘｽﾄ１\"))","v":""},"","","","","","","",{"$f":"IF(S3676=\"\",\"\",COUNTIF($S$7:S3676,\"該当２\"))","v":""},"","",{"$f":"IF(V3676=\"\",\"\",COUNTIF($V$7:V3676,\"該当３\"))","v":""}]
[2035001006,20,{"v":350,"d":"350 "},{"v":1,"d":"01 "},{"v":6,"d":"006 "},"長野県","長和町","大門村","入大門",null,"","",{"$f":"IF(K3681=\"\",\"\",COUNTIF($K$7:K3681,\"ﾘｽﾄ１\"))","v":""},"","","","","","","",{"$f":"IF(S3681=\"\",\"\",COUNTIF($S$7:S3681,\"該当２\"))","v":""},"","",{"$f":"IF(V3681=\"\",\"\",COUNTIF($V$7:V3681,\"該当３\"))","v":""}]
[2035002000,20,{"v":350,"d":"350 "},{"v":2,"d":"02 "},{"v":0,"d":"000 "},"長野県","長和町","長久保新町",null,null,"","",{"$f":"IF(K3684=\"\",\"\",COUNTIF($K$7:K3684,\"ﾘｽﾄ１\"))","v":""},"","","","","","","",{"$f":"IF(S3684=\"\",\"\",COUNTIF($S$7:S3684,\"該当２\"))","v":""},"","",{"$f":"IF(V3684=\"\",\"\",COUNTIF($V$7:V3684,\"該当３\"))","v":""}]
[2035002004,20,{"v":350,"d":"350 "},{"v":2,"d":"02 "},{"v":4,"d":"004 "},"長野県","長和町","長久保新町","第４",null,"","",{"$f":"IF(K3688=\"\",\"\",COUNTIF($K$7:K3688,\"ﾘｽﾄ１\"))","v":""},"","","","","","","",{"$f":"IF(S3688=\"\",\"\",COUNTIF($S$7:S3688,\"該当２\"))","v":""},"","",{"$f":"IF(V3688=\"\",\"\",COUNTIF($V$7:V3688,\"該当３\"))","v":""}]
[2035002009,20,{"v":350,"d":"350 "},{"v":2,"d":"02 "},{"v":9,"d":"009 "},"長野県","長和町","長久保新町","第９",null,"","",{"$f":"IF(K3693=\"\",\"\",COUNTIF($K$7:K3693,\"ﾘｽﾄ１\"))","v":""},"","","","","","","",{"$f":"IF(S3693=\"\",\"\",COUNTIF($S$7:S3693,\"該当２\"))","v":""},"","",{"$f":"IF(V3693=\"\",\"\",COUNTIF($V$7:V3693,\"該当３\"))","v":""}]
[2035002014,20,{"v":350,"d":"350 "},{"v":2,"d":"02 "},{"v":14,"d":"014 "},"長野県","長和町","長久保新町","桜清水台",null,"","",{"$f":"IF(K3698=\"\",\"\",COUNTIF($K$7:K3698,\"ﾘｽﾄ１\"))","v":""},"","","","","","","",{"$f":"IF(S3698=\"\",\"\",COUNTIF($S$7:S3698,\"該当２\"))","v":""},"","",{"$f":"IF(V3698=\"\",\"\",COUNTIF($V$7:V3698,\"該当３\"))","v":""}]
[2035003003,20,{"v":350,"d":"350 "},{"v":3,"d":"03 "},{"v":3,"d":"003 "},"長野県","長和町","長窪古町","有坂",null,"","",{"$f":"IF(K3702=\"\",\"\",COUNTIF($K$7:K3702,\"ﾘｽﾄ１\"))","v":""},"","","","","","","",{"$f":"IF(S3702=\"\",\"\",COUNTIF($S$7:S3702,\"該当２\"))","v":""},"","",{"$f":"IF(V3702=\"\",\"\",COUNTIF($V$7:V3702,\"該当３\"))","v":""}]
[2035003006,20,{"v":350,"d":"350 "},{"v":3,"d":"03 "},{"v":6,"d":"006 "},"長野県","長和町","長窪古町","五反田．滝ノ沢",null,"","",{"$f":"IF(K3705=\"\",\"\",COUNTIF($K$7:K3705,\"ﾘｽﾄ１\"))","v":""},"","","","","","","",{"$f":"IF(S3705=\"\",\"\",COUNTIF($S$7:S3705,\"該当２\"))","v":""},"","",{"$f":"IF(V3705=\"\",\"\",COUNTIF($V$7:V3705,\"該当３\"))","v":""}]
[2035004003,20,{"v":350,"d":"350 "},{"v":4,"d":"04 "},{"v":3,"d":"003 "},"長野県","長和町","和田村（長和町）","上組",null,"","",{"$f":"IF(K3710=\"\",\"\",COUNTIF($K$7:K3710,\"ﾘｽﾄ１\"))","v":""},"","","","","","","",{"$f":"IF(S3710=\"\",\"\",COUNTIF($S$7:S3710,\"該当２\"))","v":""},"","",{"$f":"IF(V3710=\"\",\"\",COUNTIF($V$7:V3710,\"該当３\"))","v":""}]
[2035004008,20,{"v":350,"d":"350 "},{"v":4,"d":"04 "},{"v":8,"d":"008 "},"長野県","長和町","和田村（長和町）","久保",null,"","",{"$f":"IF(K3715=\"\",\"\",COUNTIF($K$7:K3715,\"ﾘｽﾄ１\"))","v":""},"","","","","","","",{"$f":"IF(S3715=\"\",\"\",COUNTIF($S$7:S3715,\"該当２\"))","v":""},"","",{"$f":"IF(V3715=\"\",\"\",COUNTIF($V$7:V3715,\"該当３\"))","v":""}]
[2035004009,20,{"v":350,"d":"350 "},{"v":4,"d":"04 "},{"v":9,"d":"009 "},"長野県","長和町","和田村（長和町）","野々入",null,"",{"$f":"IF(K3716=\"ﾘｽﾄ１\",G3716,\"\")","v":""},{"$f":"IF(K3716=\"\",\"\",COUNTIF($K$7:K3716,\"ﾘｽﾄ１\"))","v":""},{"$f":"IF(AND(D3716=0,E3716>0),\"同一区\",\"\")","v":""},{"$f":"IF(AND(EXACT($K$2,G3716),H3716>0),\"該当１\",\"\")","v":""},{"$f":"IF(O3716=\"該当１\",G3716,\"\")","v":""},{"$f":"IF(O3716=\"該当１\",\"ﾘｽﾄ2\",\"\")","v":""},{"$f":"IF(Q3716=\"ﾘｽﾄ2\",H3716,\"\")","v":""},{"$f":"IF(AND(Q3716=\"ﾘｽﾄ2\",OR(I3716=0,AND(N3716=\"同一区\",E3716=1))),\"該当２\",\"\")","v":""},{"$f":"IF(S3716=\"該当２\",H3716,\"\")","v":""},{"$f":"IF(S3716=\"\",\"\",COUNTIF($S$7:S3716,\"該当２\"))","v":""},{"$f":"IF(AND($S$2=H3716,E3716>0,E3716<998),\"該当３\",\"\")","v":""},{"$f":"IF(V3716=\"該当３\",I3716,\"\")","v":""},{"$f":"IF(V3716=\"\",\"\",COUNTIF($V$7:V3716,\"該当３\"))","v":""}]
[2035004015,20,{"v":350,"d":"350 "},{"v":4,"d":"04 "},{"v":15,"d":"015 "},"長野県","長和町","和田村（長和町）","唐沢",null,"","",{"$f":"IF(K3722=\"\",\"\",COUNTIF($K$7:K3722,\"ﾘｽﾄ１\"))","v":""},"","","","","","","",{"$f":"IF(S3722=\"\",\"\",COUNTIF($S$7:S3722,\"該当２\"))","v":""},"","",{"$f":"IF(V3722=\"\",\"\",COUNTIF($V$7:V3722,\"該当３\"))","v":""}]
[2036101002,20,{"v":361,"d":"361 "},{"v":1,"d":"01 "},{"v":2,"d":"002 "},"長野県","下諏訪町","下諏訪町（旧）","萩倉",null,"","",{"$f":"IF(K3727=\"\",\"\",COUNTIF($K$7:K3727,\"ﾘｽﾄ１\"))","v":""},"","","","","","","",{"$f":"IF(S3727=\"\",\"\",COUNTIF($S$7:S3727,\"該当２\"))","v":""},"","",{"$f":"IF(V3727=\"\",\"\",COUNTIF($V$7:V3727,\"該当３\"))","v":""}]
[2036101007,20,{"v":361,"d":"361 "},{"v":1,"d":"01 "},{"v":7,"d":"007 "},"長野県","下諏訪町","下諏訪町（旧）","上友之町",null,"","",{"$f":"IF(K3732=\"\",\"\",COUNTIF($K$7:K3732,\"ﾘｽﾄ１\"))","v":""},"","","","","","","",{"$f":"IF(S3732=\"\",\"\",COUNTIF($S$7:S3732,\"該当２\"))","v":""},"","",{"$f":"IF(V3732=\"\",\"\",COUNTIF($V$7:V3732,\"該当３\"))","v":""}]
[2036101009,20,{"v":361,"d":"361 "},{"v":1,"d":"01 "},{"v":9,"d":"009 "},"長野県","下諏訪町","下諏訪町（旧）","赤砂",null,"","",{"$f":"IF(K3734=\"\",\"\",COUNTIF($K$7:K3734,\"ﾘｽﾄ１\"))","v":""},"","","","","","","",{"$f":"IF(S3734=\"\",\"\",COUNTIF($S$7:S3734,\"該当２\"))","v":""},"","",{"$f":"IF(V3734=\"\",\"\",COUNTIF($V$7:V3734,\"該当３\"))","v":""}]
[2036102000,20,{"v":361,"d":"361 "},{"v":2,"d":"02 "},{"v":0,"d":"000 "},"長野県","下諏訪町","長地村２－２",null,null,"","",{"$f":"IF(K3739=\"\",\"\",COUNTIF($K$7:K3739,\"ﾘｽﾄ１\"))","v":""},"","","","","","","",{"$f":"IF(S3739=\"\",\"\",COUNTIF($S$7:S3739,\"該当２\"))","v":""},"","",{"$f":"IF(V3739=\"\",\"\",COUNTIF($V$7:V3739,\"該当３\"))","v":""}]
[2036201001,20,{"v":362,"d":"362 "},{"v":1,"d":"01 "},{"v":1,"d":"001 "},"長野県","富士見町","富士見村","大平",null,"","",{"$f":"IF(K3744=\"\",\"\",COUNTIF($K$7:K3744,\"ﾘｽﾄ１\"))","v":""},"","","","","","","",{"$f":"IF(S3744=\"\",\"\",COUNTIF($S$7:S3744,\"該当２\"))","v":""},"","",{"$f":"IF(V3744=\"\",\"\",COUNTIF($V$7:V3744,\"該当３\"))","v":""}]
[2036201006,20,{"v":362,"d":"362 "},{"v":1,"d":"01 "},{"v":6,"d":"006 "},"長野県","富士見町","富士見村","花場，休戸",null,"","",{"$f":"IF(K3749=\"\",\"\",COUNTIF($K$7:K3749,\"ﾘｽﾄ１\"))","v":""},"","","","","","","",{"$f":"IF(S3749=\"\",\"\",COUNTIF($S$7:S3749,\"該当２\"))","v":""},"","",{"$f":"IF(V3749=\"\",\"\",COUNTIF($V$7:V3749,\"該当３\"))","v":""}]
[2036201010,20,{"v":362,"d":"362 "},{"v":1,"d":"01 "},{"v":10,"d":"010 "},"長野県","富士見町","富士見村","木の間",null,"","",{"$f":"IF(K3753=\"\",\"\",COUNTIF($K$7:K3753,\"ﾘｽﾄ１\"))","v":""},"","","","","","","",{"$f":"IF(S3753=\"\",\"\",COUNTIF($S$7:S3753,\"該当２\"))","v":""},"","",{"$f":"IF(V3753=\"\",\"\",COUNTIF($V$7:V3753,\"該当３\"))","v":""}]
[2036202000,20,{"v":362,"d":"362 "},{"v":2,"d":"02 "},{"v":0,"d":"000 "},"長野県","富士見町","本郷村（富士見町）",null,null,"","",{"$f":"IF(K3756=\"\",\"\",COUNTIF($K$7:K3756,\"ﾘｽﾄ１\"))","v":""},"","","","","","","",{"$f":"IF(S3756=\"\",\"\",COUNTIF($S$7:S3756,\"該当２\"))","v":""},"","",{"$f":"IF(V3756=\"\",\"\",COUNTIF($V$7:V3756,\"該当３\"))","v":""}]
[2036203002,20,{"v":362,"d":"362 "},{"v":3,"d":"03 "},{"v":2,"d":"002 "},"長野県","富士見町","落合村","富里",null,"","",{"$f":"IF(K3761=\"\",\"\",COUNTIF($K$7:K3761,\"ﾘｽﾄ１\"))","v":""},"","","","","","","",{"$f":"IF(S3761=\"\",\"\",COUNTIF($S$7:S3761,\"該当２\"))","v":""},"","",{"$f":"IF(V3761=\"\",\"\",COUNTIF($V$7:V3761,\"該当３\"))","v":""}]
[2036203007,20,{"v":362,"d":"362 "},{"v":3,"d":"03 "},{"v":7,"d":"007 "},"長野県","富士見町","落合村","平岡",null,"","",{"$f":"IF(K3766=\"\",\"\",COUNTIF($K$7:K3766,\"ﾘｽﾄ１\"))","v":""},"","","","","","","",{"$f":"IF(S3766=\"\",\"\",COUNTIF($S$7:S3766,\"該当２\"))","v":""},"","",{"$f":"IF(V3766=\"\",\"\",COUNTIF($V$7:V3766,\"該当３\"))","v":""}]
[2036204000,20,{"v":362,"d":"362 "},{"v":4,"d":"04 "},{"v":0,"d":"000 "},"長野県","富士見町","境村",null,null,"","",{"$f":"IF(K3771=\"\",\"\",COUNTIF($K$7:K3771,\"ﾘｽﾄ１\"))","v":""},"","","","","","","",{"$f":"IF(S3771=\"\",\"\",COUNTIF($S$7:S3771,\"該当２\"))","v":""},"","",{"$f":"IF(V3771=\"\",\"\",COUNTIF($V$7:V3771,\"該当３\"))","v":""}]
[2036204002,20,{"v":362,"d":"362 "},{"v":4,"d":"04 "},{"v":2,"d":"002 "},"長野県","富士見町","境村","高森",null,"","",{"$f":"IF(K3773=\"\",\"\",COUNTIF($K$7:K3773,\"ﾘｽﾄ１\"))","v":""},"","","","","","","",{"$f":"IF(S3773=\"\",\"\",COUNTIF($S$7:S3773,\"該当２\"))","v":""},"","",{"$f":"IF(V3773=\"\",\"\",COUNTIF($V$7:V3773,\"該当３\"))","v":""}]
[2036204007,20,{"v":362,"d":"362 "},{"v":4,"d":"04 "},{"v":7,"d":"007 "},"長野県","富士見町","境村","葛窪",null,"","",{"$f":"IF(K3778=\"\",\"\",COUNTIF($K$7:K3778,\"ﾘｽﾄ１\"))","v":""},"","","","","","","",{"$f":"IF(S3778=\"\",\"\",COUNTIF($S$7:S3778,\"該当２\"))","v":""},"","",{"$f":"IF(V3778=\"\",\"\",COUNTIF($V$7:V3778,\"該当３\"))","v":""}]
[2036300004,20,{"v":363,"d":"363 "},{"v":0,"d":"00 "},{"v":4,"d":"004 "},"長野県","原村","（原村）","払沢",null,"","",{"$f":"IF(K3783=\"\",\"\",COUNTIF($K$7:K3783,\"ﾘｽﾄ１\"))","v":""},"同一区","","","","","","",{"$f":"IF(S3783=\"\",\"\",COUNTIF($S$7:S3783,\"該当２\"))","v":""},"","",{"$f":"IF(V3783=\"\",\"\",COUNTIF($V$7:V3783,\"該当３\"))","v":""}]
[2036300006,20,{"v":363,"d":"363 "},{"v":0,"d":"00 "},{"v":6,"d":"006 "},"長野県","原村","（原村）","菖蒲沢",null,"","",{"$f":"IF(K3785=\"\",\"\",COUNTIF($K$7:K3785,\"ﾘｽﾄ１\"))","v":""},"同一区","","","","","","",{"$f":"IF(S3785=\"\",\"\",COUNTIF($S$7:S3785,\"該当２\"))","v":""},"","",{"$f":"IF(V3785=\"\",\"\",COUNTIF($V$7:V3785,\"該当３\"))","v":""}]
[2036300011,20,{"v":363,"d":"363 "},{"v":0,"d":"00 "},{"v":11,"d":"011 "},"長野県","原村","（原村）","上里",null,"","",{"$f":"IF(K3790=\"\",\"\",COUNTIF($K$7:K3790,\"ﾘｽﾄ１\"))","v":""},"同一区","","","","","","",{"$f":"IF(S3790=\"\",\"\",COUNTIF($S$7:S3790,\"該当２\"))","v":""},"","",{"$f":"IF(V3790=\"\",\"\",COUNTIF($V$7:V3790,\"該当３\"))","v":""}]
[2038201003,20,{"v":382,"d":"382 "},{"v":1,"d":"01 "},{"v":3,"d":"003 "},"長野県","辰野町","辰野町（旧）","堂村",null,"","",{"$f":"IF(K3795=\"\",\"\",COUNTIF($K$7:K3795,\"ﾘｽﾄ１\"))","v":""},"","","","","","","",{"$f":"IF(S3795=\"\",\"\",COUNTIF($S$7:S3795,\"該当２\"))","v":""},"","",{"$f":"IF(V3795=\"\",\"\",COUNTIF($V$7:V3795,\"該当３\"))","v":""}]
[2038201008,20,{"v":382,"d":"382 "},{"v":1,"d":"01 "},{"v":8,"d":"008 "},"長野県","辰野町","辰野町（旧）","新町",null,"","",{"$f":"IF(K3800=\"\",\"\",COUNTIF($K$7:K3800,\"ﾘｽﾄ１\"))","v":""},"","","","","","","",{"$f":"IF(S3800=\"\",\"\",COUNTIF($S$7:S3800,\"該当２\"))","v":""},"","",{"$f":"IF(V3800=\"\",\"\",COUNTIF($V$7:V3800,\"該当３\"))","v":""}]
[2038201011,20,{"v":382,"d":"382 "},{"v":1,"d":"01 "},{"v":11,"d":"011 "},"長野県","辰野町","辰野町（旧）","羽場",null,"","",{"$f":"IF(K3803=\"\",\"\",COUNTIF($K$7:K3803,\"ﾘｽﾄ１\"))","v":""},"","","","","","","",{"$f":"IF(S3803=\"\",\"\",COUNTIF($S$7:S3803,\"該当２\"))","v":""},"","",{"$f":"IF(V3803=\"\",\"\",COUNTIF($V$7:V3803,\"該当３\"))","v":""}]
[2038201015,20,{"v":382,"d":"382 "},{"v":1,"d":"01 "},{"v":15,"d":"015 "},"長野県","辰野町","辰野町（旧）","上垣外",null,"","",{"$f":"IF(K3807=\"\",\"\",COUNTIF($K$7:K3807,\"ﾘｽﾄ１\"))","v":""},"","","","","","","",{"$f":"IF(S3807=\"\",\"\",COUNTIF($S$7:S3807,\"該当２\"))","v":""},"","",{"$f":"IF(V3807=\"\",\"\",COUNTIF($V$7:V3807,\"該当３\"))","v":""}]
[2038201020,20,{"v":382,"d":"382 "},{"v":1,"d":"01 "},{"v":20,"d":"020 "},"長野県","辰野町","辰野町（旧）","宮所",null,"","",{"$f":"IF(K3812=\"\",\"\",COUNTIF($K$7:K3812,\"ﾘｽﾄ１\"))","v":""},"","","","","","","",{"$f":"IF(S3812=\"\",\"\",COUNTIF($S$7:S3812,\"該当２\"))","v":""},"","",{"$f":"IF(V3812=\"\",\"\",COUNTIF($V$7:V3812,\"該当３\"))","v":""}]
[2038202003,20,{"v":382,"d":"382 "},{"v":2,"d":"02 "},{"v":3,"d":"003 "},"長野県","辰野町","朝日村（辰野町）","上町",null,"","",{"$f":"IF(K3817=\"\",\"\",COUNTIF($K$7:K3817,\"ﾘｽﾄ１\"))","v":""},"","","","","","","",{"$f":"IF(S3817=\"\",\"\",COUNTIF($S$7:S3817,\"該当２\"))","v":""},"","",{"$f":"IF(V3817=\"\",\"\",COUNTIF($V$7:V3817,\"該当３\"))","v":""}]
[2038202008,20,{"v":382,"d":"382 "},{"v":2,"d":"02 "},{"v":8,"d":"008 "},"長野県","辰野町","朝日村（辰野町）","沢底日向",null,"","",{"$f":"IF(K3822=\"\",\"\",COUNTIF($K$7:K3822,\"ﾘｽﾄ１\"))","v":""},"","","","","","","",{"$f":"IF(S3822=\"\",\"\",COUNTIF($S$7:S3822,\"該当２\"))","v":""},"","",{"$f":"IF(V3822=\"\",\"\",COUNTIF($V$7:V3822,\"該当３\"))","v":""}]
[2038202010,20,{"v":382,"d":"382 "},{"v":2,"d":"02 "},{"v":10,"d":"010 "},"長野県","辰野町","朝日村（辰野町）","沢底神主谷",null,"","",{"$f":"IF(K3824=\"\",\"\",COUNTIF($K$7:K3824,\"ﾘｽﾄ１\"))","v":""},"","","","","","","",{"$f":"IF(S3824=\"\",\"\",COUNTIF($S$7:S3824,\"該当２\"))","v":""},"","",{"$f":"IF(V3824=\"\",\"\",COUNTIF($V$7:V3824,\"該当３\"))","v":""}]
[2038202015,20,{"v":382,"d":"382 "},{"v":2,"d":"02 "},{"v":15,"d":"015 "},"長野県","辰野町","朝日村（辰野町）","山際",null,"","",{"$f":"IF(K3829=\"\",\"\",COUNTIF($K$7:K3829,\"ﾘｽﾄ１\"))","v":""},"","","","","","","",{"$f":"IF(S3829=\"\",\"\",COUNTIF($S$7:S3829,\"該当２\"))","v":""},"","",{"$f":"IF(V3829=\"\",\"\",COUNTIF($V$7:V3829,\"該当３\"))","v":""}]
[2038203002,20,{"v":382,"d":"382 "},{"v":3,"d":"03 "},{"v":2,"d":"002 "},"長野県","辰野町","川島村","川上",null,"","",{"$f":"IF(K3834=\"\",\"\",COUNTIF($K$7:K3834,\"ﾘｽﾄ１\"))","v":""},"","","","","","","",{"$f":"IF(S3834=\"\",\"\",COUNTIF($S$7:S3834,\"該当２\"))","v":""},"","",{"$f":"IF(V3834=\"\",\"\",COUNTIF($V$7:V3834,\"該当３\"))","v":""}]
[2038203003,20,{"v":382,"d":"382 "},{"v":3,"d":"03 "},{"v":3,"d":"003 "},"長野県","辰野町","川島村","門前",null,"","",{"$f":"IF(K3835=\"\",\"\",COUNTIF($K$7:K3835,\"ﾘｽﾄ１\"))","v":""},"","","","","","","",{"$f":"IF(S3835=\"\",\"\",COUNTIF($S$7:S3835,\"該当２\"))","v":""},"","",{"$f":"IF(V3835=\"\",\"\",COUNTIF($V$7:V3835,\"該当３\"))","v":""}]
[2038204000,20,{"v":382,"d":"382 "},{"v":4,"d":"04 "},{"v":0,"d":"000 "},"長野県","辰野町","小野村",null,null,"","",{"$f":"IF(K3841=\"\",\"\",COUNTIF($K$7:K3841,\"ﾘｽﾄ１\"))","v":""},"","","","","","","",{"$f":"IF(S3841=\"\",\"\",COUNTIF($S$7:S3841,\"該当２\"))","v":""},"","",{"$f":"IF(V3841=\"\",\"\",COUNTIF($V$7:V3841,\"該当３\"))","v":""}]
[2038204005,20,{"v":382,"d":"382 "},{"v":4,"d":"04 "},{"v":5,"d":"005 "},"長野県","辰野町","小野村","山口",null,"","",{"$f":"IF(K3846=\"\",\"\",COUNTIF($K$7:K3846,\"ﾘｽﾄ１\"))","v":""},"","","","","","","",{"$f":"IF(S3846=\"\",\"\",COUNTIF($S$7:S3846,\"該当２\"))","v":""},"","",{"$f":"IF(V3846=\"\",\"\",COUNTIF($V$7:V3846,\"該当３\"))","v":""}]
[2038204010,20,{"v":382,"d":"382 "},{"v":4,"d":"04 "},{"v":10,"d":"010 "},"長野県","辰野町","小野村","上町",null,{"$f":"IF(AND($C3851>0,$H3851=\"\"),\"ﾘｽﾄ１\",\"\")","v":""},"",{"$f":"IF(K3851=\"\",\"\",COUNTIF($K$7:K3851,\"ﾘｽﾄ１\"))","v":""},"","","","","","","",{"$f":"IF(S3851=\"\",\"\",COUNTIF($S$7:S3851,\"該当２\"))","v":""},"","",{"$f":"IF(V3851=\"\",\"\",COUNTIF($V$7:V3851,\"該当３\"))","v":""}]
[2038301000,20,{"v":383,"d":"383 "},{"v":1,"d":"01 "},{"v":0,"d":"000 "},"長野県","箕輪町","中箕輪町",null,null,"","",{"$f":"IF(K3854=\"\",\"\",COUNTIF($K$7:K3854,\"ﾘｽﾄ１\"))","v":""},"","","","","","","",{"$f":"IF(S3854=\"\",\"\",COUNTIF($S$7:S3854,\"該当２\"))","v":""},"","",{"$f":"IF(V3854=\"\",\"\",COUNTIF($V$7:V3854,\"該当３\"))","v":""}]
[2038301004,20,{"v":383,"d":"383 "},{"v":1,"d":"01 "},{"v":4,"d":"004 "},"長野県","箕輪町","中箕輪町","沢宮通",null,"","",{"$f":"IF(K3858=\"\",\"\",COUNTIF($K$7:K3858,\"ﾘｽﾄ１\"))","v":""},"","","","","","","",{"$f":"IF(S3858=\"\",\"\",COUNTIF($S$7:S3858,\"該当２\"))","v":""},"","",{"$f":"IF(V3858=\"\",\"\",COUNTIF($V$7:V3858,\"該当３\"))","v":""}]
[2038301009,20,{"v":383,"d":"383 "},{"v":1,"d":"01 "},{"v":9,"d":"009 "},"長野県","箕輪町","中箕輪町","大出",null,"","",{"$f":"IF(K3863=\"\",\"\",COUNTIF($K$7:K3863,\"ﾘｽﾄ１\"))","v":""},"","","","","","","",{"$f":"IF(S3863=\"\",\"\",COUNTIF($S$7:S3863,\"該当２\"))","v":""},"","",{"$f":"IF(V3863=\"\",\"\",COUNTIF($V$7:V3863,\"該当３\"))","v":""}]
[2038301014,20,{"v":383,"d":"383 "},{"v":1,"d":"01 "},{"v":14,"d":"014 "},"長野県","箕輪町","中箕輪町","富田",null,"","",{"$f":"IF(K3868=\"\",\"\",COUNTIF($K$7:K3868,\"ﾘｽﾄ１\"))","v":""},"","","","","","","",{"$f":"IF(S3868=\"\",\"\",COUNTIF($S$7:S3868,\"該当２\"))","v":""},"","",{"$f":"IF(V3868=\"\",\"\",COUNTIF($V$7:V3868,\"該当３\"))","v":""}]
[2038301018,20,{"v":383,"d":"383 "},{"v":1,"d":"01 "},{"v":18,"d":"018 "},"長野県","箕輪町","中箕輪町","木下",null,"","",{"$f":"IF(K3872=\"\",\"\",COUNTIF($K$7:K3872,\"ﾘｽﾄ１\"))","v":""},"","","","","","","",{"$f":"IF(S3872=\"\",\"\",COUNTIF($S$7:S3872,\"該当２\"))","v":""},"","",{"$f":"IF(V3872=\"\",\"\",COUNTIF($V$7:V3872,\"該当３\"))","v":""}]
[2038302000,20,{"v":383,"d":"383 "},{"v":2,"d":"02 "},{"v":0,"d":"000 "},"長野県","箕輪町","東箕輪村",null,null,"","",{"$f":"IF(K3875=\"\",\"\",COUNTIF($K$7:K3875,\"ﾘｽﾄ１\"))","v":""},"","","","","","","",{"$f":"IF(S3875=\"\",\"\",COUNTIF($S$7:S3875,\"該当２\"))","v":""},"","",{"$f":"IF(V3875=\"\",\"\",COUNTIF($V$7:V3875,\"該当３\"))","v":""}]
[2038302005,20,{"v":383,"d":"383 "},{"v":2,"d":"02 "},{"v":5,"d":"005 "},"長野県","箕輪町","東箕輪村","長岡真瀬口",null,"","",{"$f":"IF(K3880=\"\",\"\",COUNTIF($K$7:K3880,\"ﾘｽﾄ１\"))","v":""},"","","","","","","",{"$f":"IF(S3880=\"\",\"\",COUNTIF($S$7:S3880,\"該当２\"))","v":""},"","",{"$f":"IF(V3880=\"\",\"\",COUNTIF($V$7:V3880,\"該当３\"))","v":""}]
[2038302010,20,{"v":383,"d":"383 "},{"v":2,"d":"02 "},{"v":10,"d":"010 "},"長野県","箕輪町","東箕輪村","南小河内山本",null,"","",{"$f":"IF(K3885=\"\",\"\",COUNTIF($K$7:K3885,\"ﾘｽﾄ１\"))","v":""},"","","","","","","",{"$f":"IF(S3885=\"\",\"\",COUNTIF($S$7:S3885,\"該当２\"))","v":""},"","",{"$f":"IF(V3885=\"\",\"\",COUNTIF($V$7:V3885,\"該当３\"))","v":""}]
[2038302011,20,{"v":383,"d":"383 "},{"v":2,"d":"02 "},{"v":11,"d":"011 "},"長野県","箕輪町","東箕輪村","南小河内北部",null,"","",{"$f":"IF(K3886=\"\",\"\",COUNTIF($K$7:K3886,\"ﾘｽﾄ１\"))","v":""},"","","","","","","",{"$f":"IF(S3886=\"\",\"\",COUNTIF($S$7:S3886,\"該当２\"))","v":""},"","",{"$f":"IF(V3886=\"\",\"\",COUNTIF($V$7:V3886,\"該当３\"))","v":""}]
[2038302017,20,{"v":383,"d":"383 "},{"v":2,"d":"02 "},{"v":17,"d":"017 "},"長野県","箕輪町","東箕輪村","北小河内宮下",null,"","",{"$f":"IF(K3892=\"\",\"\",COUNTIF($K$7:K3892,\"ﾘｽﾄ１\"))","v":""},"","","","","","","",{"$f":"IF(S3892=\"\",\"\",COUNTIF($S$7:S3892,\"該当２\"))","v":""},"","",{"$f":"IF(V3892=\"\",\"\",COUNTIF($V$7:V3892,\"該当３\"))","v":""}]
[2038303004,20,{"v":383,"d":"383 "},{"v":3,"d":"03 "},{"v":4,"d":"004 "},"長野県","箕輪町","箕輪村","三日町下町南部",null,"","",{"$f":"IF(K3897=\"\",\"\",COUNTIF($K$7:K3897,\"ﾘｽﾄ１\"))","v":""},"","","","","","","",{"$f":"IF(S3897=\"\",\"\",COUNTIF($S$7:S3897,\"該当２\"))","v":""},"","",{"$f":"IF(V3897=\"\",\"\",COUNTIF($V$7:V3897,\"該当３\"))","v":""}]
[2038303009,20,{"v":383,"d":"383 "},{"v":3,"d":"03 "},{"v":9,"d":"009 "},"長野県","箕輪町","箕輪村","福与郷沢",null,"","",{"$f":"IF(K3902=\"\",\"\",COUNTIF($K$7:K3902,\"ﾘｽﾄ１\"))","v":""},"","","","","","","",{"$f":"IF(S3902=\"\",\"\",COUNTIF($S$7:S3902,\"該当２\"))","v":""},"","",{"$f":"IF(V3902=\"\",\"\",COUNTIF($V$7:V3902,\"該当３\"))","v":""}]
[2038304000,20,{"v":383,"d":"383 "},{"v":4,"d":"04 "},{"v":0,"d":"000 "},"長野県","箕輪町","西箕輪村２－２",null,null,"","",{"$f":"IF(K3904=\"\",\"\",COUNTIF($K$7:K3904,\"ﾘｽﾄ１\"))","v":""},"","","","","","","",{"$f":"IF(S3904=\"\",\"\",COUNTIF($S$7:S3904,\"該当２\"))","v":""},"","",{"$f":"IF(V3904=\"\",\"\",COUNTIF($V$7:V3904,\"該当３\"))","v":""}]
[2038401002,20,{"v":384,"d":"384 "},{"v":1,"d":"01 "},{"v":2,"d":"002 "},"長野県","飯島町","飯島村","高尾",null,"","",{"$f":"IF(K3909=\"\",\"\",COUNTIF($K$7:K3909,\"ﾘｽﾄ１\"))","v":""},"","","","","","","",{"$f":"IF(S3909=\"\",\"\",COUNTIF($S$7:S3909,\"該当２\"))","v":""},"","",{"$f":"IF(V3909=\"\",\"\",COUNTIF($V$7:V3909,\"該当３\"))","v":""}]
[2038401007,20,{"v":384,"d":"384 "},{"v":1,"d":"01 "},{"v":7,"d":"007 "},"長野県","飯島町","飯島村","南仲町",null,"","",{"$f":"IF(K3914=\"\",\"\",COUNTIF($K$7:K3914,\"ﾘｽﾄ１\"))","v":""},"","","","","","","",{"$f":"IF(S3914=\"\",\"\",COUNTIF($S$7:S3914,\"該当２\"))","v":""},"","",{"$f":"IF(V3914=\"\",\"\",COUNTIF($V$7:V3914,\"該当３\"))","v":""}]
[2038401012,20,{"v":384,"d":"384 "},{"v":1,"d":"01 "},{"v":12,"d":"012 "},"長野県","飯島町","飯島村","鳥居原",null,"","",{"$f":"IF(K3919=\"\",\"\",COUNTIF($K$7:K3919,\"ﾘｽﾄ１\"))","v":""},"","","","","","","",{"$f":"IF(S3919=\"\",\"\",COUNTIF($S$7:S3919,\"該当２\"))","v":""},"","",{"$f":"IF(V3919=\"\",\"\",COUNTIF($V$7:V3919,\"該当３\"))","v":""}]
[2038401016,20,{"v":384,"d":"384 "},{"v":1,"d":"01 "},{"v":16,"d":"016 "},"長野県","飯島町","飯島村","追引",null,"","",{"$f":"IF(K3923=\"\",\"\",COUNTIF($K$7:K3923,\"ﾘｽﾄ１\"))","v":""},"","","","","","","",{"$f":"IF(S3923=\"\",\"\",COUNTIF($S$7:S3923,\"該当２\"))","v":""},"","",{"$f":"IF(V3923=\"\",\"\",COUNTIF($V$7:V3923,\"該当３\"))","v":""}]
[2038401019,20,{"v":384,"d":"384 "},{"v":1,"d":"01 "},{"v":19,"d":"019 "},"長野県","飯島町","飯島村","中平",null,"","",{"$f":"IF(K3926=\"\",\"\",COUNTIF($K$7:K3926,\"ﾘｽﾄ１\"))","v":""},"","","","","","","",{"$f":"IF(S3926=\"\",\"\",COUNTIF($S$7:S3926,\"該当２\"))","v":""},"","",{"$f":"IF(V3926=\"\",\"\",COUNTIF($V$7:V3926,\"該当３\"))","v":""}]
[2038401024,20,{"v":384,"d":"384 "},{"v":1,"d":"01 "},{"v":24,"d":"024 "},"長野県","飯島町","飯島村","本郷四",null,"","",{"$f":"IF(K3931=\"\",\"\",COUNTIF($K$7:K3931,\"ﾘｽﾄ１\"))","v":""},"","","","","","","",{"$f":"IF(S3931=\"\",\"\",COUNTIF($S$7:S3931,\"該当２\"))","v":""},"","",{"$f":"IF(V3931=\"\",\"\",COUNTIF($V$7:V3931,\"該当３\"))","v":""}]
[2038402002,20,{"v":384,"d":"384 "},{"v":2,"d":"02 "},{"v":2,"d":"002 "},"長野県","飯島町","七久保村","新屋敷",null,"","",{"$f":"IF(K3936=\"\",\"\",COUNTIF($K$7:K3936,\"ﾘｽﾄ１\"))","v":""},"","","","","","","",{"$f":"IF(S3936=\"\",\"\",COUNTIF($S$7:S3936,\"該当２\"))","v":""},"","",{"$f":"IF(V3936=\"\",\"\",COUNTIF($V$7:V3936,\"該当３\"))","v":""}]
[2038402007,20,{"v":384,"d":"384 "},{"v":2,"d":"02 "},{"v":7,"d":"007 "},"長野県","飯島町","七久保村","柏木",null,"","",{"$f":"IF(K3941=\"\",\"\",COUNTIF($K$7:K3941,\"ﾘｽﾄ１\"))","v":""},"","","","","","","",{"$f":"IF(S3941=\"\",\"\",COUNTIF($S$7:S3941,\"該当２\"))","v":""},"","",{"$f":"IF(V3941=\"\",\"\",COUNTIF($V$7:V3941,\"該当３\"))","v":""}]
[2038402009,20,{"v":384,"d":"384 "},{"v":2,"d":"02 "},{"v":9,"d":"009 "},"長野県","飯島町","七久保村","新田",null,"","",{"$f":"IF(K3943=\"\",\"\",COUNTIF($K$7:K3943,\"ﾘｽﾄ１\"))","v":""},"","","","","","","",{"$f":"IF(S3943=\"\",\"\",COUNTIF($S$7:S3943,\"該当２\"))","v":""},"","",{"$f":"IF(V3943=\"\",\"\",COUNTIF($V$7:V3943,\"該当３\"))","v":""}]
[2038500004,20,{"v":385,"d":"385 "},{"v":0,"d":"00 "},{"v":4,"d":"004 "},"長野県","南箕輪村","（南箕輪村）","久保中村",null,"","",{"$f":"IF(K3948=\"\",\"\",COUNTIF($K$7:K3948,\"ﾘｽﾄ１\"))","v":""},"同一区","","","","","","",{"$f":"IF(S3948=\"\",\"\",COUNTIF($S$7:S3948,\"該当２\"))","v":""},"","",{"$f":"IF(V3948=\"\",\"\",COUNTIF($V$7:V3948,\"該当３\"))","v":""}]
[2038500009,20,{"v":385,"d":"385 "},{"v":0,"d":"00 "},{"v":9,"d":"009 "},"長野県","南箕輪村","（南箕輪村）","大泉唐松",null,"","",{"$f":"IF(K3953=\"\",\"\",COUNTIF($K$7:K3953,\"ﾘｽﾄ１\"))","v":""},"同一区","","","","","","",{"$f":"IF(S3953=\"\",\"\",COUNTIF($S$7:S3953,\"該当２\"))","v":""},"","",{"$f":"IF(V3953=\"\",\"\",COUNTIF($V$7:V3953,\"該当３\"))","v":""}]
[2038500011,20,{"v":385,"d":"385 "},{"v":0,"d":"00 "},{"v":11,"d":"011 "},"長野県","南箕輪村","（南箕輪村）","大泉立石",null,"","",{"$f":"IF(K3955=\"\",\"\",COUNTIF($K$7:K3955,\"ﾘｽﾄ１\"))","v":""},"同一区","","","","","","",{"$f":"IF(S3955=\"\",\"\",COUNTIF($S$7:S3955,\"該当２\"))","v":""},"","",{"$f":"IF(V3955=\"\",\"\",COUNTIF($V$7:V3955,\"該当３\"))","v":""}]
[2038500016,20,{"v":385,"d":"385 "},{"v":0,"d":"00 "},{"v":16,"d":"016 "},"長野県","南箕輪村","（南箕輪村）","北殿原",null,"","",{"$f":"IF(K3960=\"\",\"\",COUNTIF($K$7:K3960,\"ﾘｽﾄ１\"))","v":""},"同一区","","","","","","",{"$f":"IF(S3960=\"\",\"\",COUNTIF($S$7:S3960,\"該当２\"))","v":""},"","",{"$f":"IF(V3960=\"\",\"\",COUNTIF($V$7:V3960,\"該当３\"))","v":""}]
[2038500021,20,{"v":385,"d":"385 "},{"v":0,"d":"00 "},{"v":21,"d":"021 "},"長野県","南箕輪村","（南箕輪村）","田畑東村",null,"","",{"$f":"IF(K3965=\"\",\"\",COUNTIF($K$7:K3965,\"ﾘｽﾄ１\"))","v":""},"同一区","","","","","","",{"$f":"IF(S3965=\"\",\"\",COUNTIF($S$7:S3965,\"該当２\"))","v":""},"","",{"$f":"IF(V3965=\"\",\"\",COUNTIF($V$7:V3965,\"該当３\"))","v":""}]
[2038500026,20,{"v":385,"d":"385 "},{"v":0,"d":"00 "},{"v":26,"d":"026 "},"長野県","南箕輪村","（南箕輪村）","神子柴下村",null,"","",{"$f":"IF(K3970=\"\",\"\",COUNTIF($K$7:K3970,\"ﾘｽﾄ１\"))","v":""},"同一区","","","","","","",{"$f":"IF(S3970=\"\",\"\",COUNTIF($S$7:S3970,\"該当２\"))","v":""},"","",{"$f":"IF(V3970=\"\",\"\",COUNTIF($V$7:V3970,\"該当３\"))","v":""}]
[2038500029,20,{"v":385,"d":"385 "},{"v":0,"d":"00 "},{"v":29,"d":"029 "},"長野県","南箕輪村","（南箕輪村）","南原",null,"","",{"$f":"IF(K3973=\"\",\"\",COUNTIF($K$7:K3973,\"ﾘｽﾄ１\"))","v":""},"同一区","","","","","","",{"$f":"IF(S3973=\"\",\"\",COUNTIF($S$7:S3973,\"該当２\"))","v":""},"","",{"$f":"IF(V3973=\"\",\"\",COUNTIF($V$7:V3973,\"該当３\"))","v":""}]
[2038601000,20,{"v":386,"d":"386 "},{"v":1,"d":"01 "},{"v":0,"d":"000 "},"長野県","中川村","南向村",null,null,"","",{"$f":"IF(K3977=\"\",\"\",COUNTIF($K$7:K3977,\"ﾘｽﾄ１\"))","v":""},"","","","","","","",{"$f":"IF(S3977=\"\",\"\",COUNTIF($S$7:S3977,\"該当２\"))","v":""},"","",{"$f":"IF(V3977=\"\",\"\",COUNTIF($V$7:V3977,\"該当３\"))","v":""}]
[2038601005,20,{"v":386,"d":"386 "},{"v":1,"d":"01 "},{"v":5,"d":"005 "},"長野県","中川村","南向村","中組",null,"","",{"$f":"IF(K3982=\"\",\"\",COUNTIF($K$7:K3982,\"ﾘｽﾄ１\"))","v":""},"","","","","","","",{"$f":"IF(S3982=\"\",\"\",COUNTIF($S$7:S3982,\"該当２\"))","v":""},"","",{"$f":"IF(V3982=\"\",\"\",COUNTIF($V$7:V3982,\"該当３\"))","v":""}]
[2038601010,20,{"v":386,"d":"386 "},{"v":1,"d":"01 "},{"v":10,"d":"010 "},"長野県","中川村","南向村","葛北",null,"","",{"$f":"IF(K3987=\"\",\"\",COUNTIF($K$7:K3987,\"ﾘｽﾄ１\"))","v":""},"","","","","","","",{"$f":"IF(S3987=\"\",\"\",COUNTIF($S$7:S3987,\"該当２\"))","v":""},"","",{"$f":"IF(V3987=\"\",\"\",COUNTIF($V$7:V3987,\"該当３\"))","v":""}]
[2038602001,20,{"v":386,"d":"386 "},{"v":2,"d":"02 "},{"v":1,"d":"001 "},"長野県","中川村","片桐村","横前",null,"","",{"$f":"IF(K3992=\"\",\"\",COUNTIF($K$7:K3992,\"ﾘｽﾄ１\"))","v":""},"","","","","","","",{"$f":"IF(S3992=\"\",\"\",COUNTIF($S$7:S3992,\"該当２\"))","v":""},"","",{"$f":"IF(V3992=\"\",\"\",COUNTIF($V$7:V3992,\"該当３\"))","v":""}]
[2038602003,20,{"v":386,"d":"386 "},{"v":2,"d":"02 "},{"v":3,"d":"003 "},"長野県","中川村","片桐村","竹ノ上",null,"","",{"$f":"IF(K3994=\"\",\"\",COUNTIF($K$7:K3994,\"ﾘｽﾄ１\"))","v":""},"","","","","","","",{"$f":"IF(S3994=\"\",\"\",COUNTIF($S$7:S3994,\"該当２\"))","v":""},"","",{"$f":"IF(V3994=\"\",\"\",COUNTIF($V$7:V3994,\"該当３\"))","v":""}]
[2038602008,20,{"v":386,"d":"386 "},{"v":2,"d":"02 "},{"v":8,"d":"008 "},"長野県","中川村","片桐村","田島",null,"","",{"$f":"IF(K3999=\"\",\"\",COUNTIF($K$7:K3999,\"ﾘｽﾄ１\"))","v":""},"","","","","","","",{"$f":"IF(S3999=\"\",\"\",COUNTIF($S$7:S3999,\"該当２\"))","v":""},"","",{"$f":"IF(V3999=\"\",\"\",COUNTIF($V$7:V3999,\"該当３\"))","v":""}]
[2038800001,20,{"v":388,"d":"388 "},{"v":0,"d":"00 "},{"v":1,"d":"001 "},"長野県","宮田村","（宮田村）","町１区",null,"","",{"$f":"IF(K4004=\"\",\"\",COUNTIF($K$7:K4004,\"ﾘｽﾄ１\"))","v":""},"同一区","","","","","","",{"$f":"IF(S4004=\"\",\"\",COUNTIF($S$7:S4004,\"該当２\"))","v":""},"","",{"$f":"IF(V4004=\"\",\"\",COUNTIF($V$7:V4004,\"該当３\"))","v":""}]
[2038800003,20,{"v":388,"d":"388 "},{"v":0,"d":"00 "},{"v":3,"d":"003 "},"長野県","宮田村","（宮田村）","町３区",null,"","",{"$f":"IF(K4006=\"\",\"\",COUNTIF($K$7:K4006,\"ﾘｽﾄ１\"))","v":""},"同一区","","","","","","",{"$f":"IF(S4006=\"\",\"\",COUNTIF($S$7:S4006,\"該当２\"))","v":""},"","",{"$f":"IF(V4006=\"\",\"\",COUNTIF($V$7:V4006,\"該当３\"))","v":""}]
[2038800008,20,{"v":388,"d":"388 "},{"v":0,"d":"00 "},{"v":8,"d":"008 "},"長野県","宮田村","（宮田村）","大久保",null,"","",{"$f":"IF(K4011=\"\",\"\",COUNTIF($K$7:K4011,\"ﾘｽﾄ１\"))","v":""},"同一区","","","","","","",{"$f":"IF(S4011=\"\",\"\",COUNTIF($S$7:S4011,\"該当２\"))","v":""},"","",{"$f":"IF(V4011=\"\",\"\",COUNTIF($V$7:V4011,\"該当３\"))","v":""}]
[2040201002,20,{"v":402,"d":"402 "},{"v":1,"d":"01 "},{"v":2,"d":"002 "},"長野県","松川町","大島村","古町東部",null,"","",{"$f":"IF(K4016=\"\",\"\",COUNTIF($K$7:K4016,\"ﾘｽﾄ１\"))","v":""},"","","","","","","",{"$f":"IF(S4016=\"\",\"\",COUNTIF($S$7:S4016,\"該当２\"))","v":""},"","",{"$f":"IF(V4016=\"\",\"\",COUNTIF($V$7:V4016,\"該当３\"))","v":""}]
[2040201007,20,{"v":402,"d":"402 "},{"v":1,"d":"01 "},{"v":7,"d":"007 "},"長野県","松川町","大島村","新井中央部",null,"","",{"$f":"IF(K4021=\"\",\"\",COUNTIF($K$7:K4021,\"ﾘｽﾄ１\"))","v":""},"","","","","","","",{"$f":"IF(S4021=\"\",\"\",COUNTIF($S$7:S4021,\"該当２\"))","v":""},"","",{"$f":"IF(V4021=\"\",\"\",COUNTIF($V$7:V4021,\"該当３\"))","v":""}]
[2040201010,20,{"v":402,"d":"402 "},{"v":1,"d":"01 "},{"v":10,"d":"010 "},"長野県","松川町","大島村","宮本",null,"","",{"$f":"IF(K4024=\"\",\"\",COUNTIF($K$7:K4024,\"ﾘｽﾄ１\"))","v":""},"","","","","","","",{"$f":"IF(S4024=\"\",\"\",COUNTIF($S$7:S4024,\"該当２\"))","v":""},"","",{"$f":"IF(V4024=\"\",\"\",COUNTIF($V$7:V4024,\"該当３\"))","v":""}]
[2040201014,20,{"v":402,"d":"402 "},{"v":1,"d":"01 "},{"v":14,"d":"014 "},"長野県","松川町","大島村","名子",null,"","",{"$f":"IF(K4028=\"\",\"\",COUNTIF($K$7:K4028,\"ﾘｽﾄ１\"))","v":""},"","","","","","","",{"$f":"IF(S4028=\"\",\"\",COUNTIF($S$7:S4028,\"該当２\"))","v":""},"","",{"$f":"IF(V4028=\"\",\"\",COUNTIF($V$7:V4028,\"該当３\"))","v":""}]
[2040201019,20,{"v":402,"d":"402 "},{"v":1,"d":"01 "},{"v":19,"d":"019 "},"長野県","松川町","大島村","原田",null,"","",{"$f":"IF(K4033=\"\",\"\",COUNTIF($K$7:K4033,\"ﾘｽﾄ１\"))","v":""},"","","","","","","",{"$f":"IF(S4033=\"\",\"\",COUNTIF($S$7:S4033,\"該当２\"))","v":""},"","",{"$f":"IF(V4033=\"\",\"\",COUNTIF($V$7:V4033,\"該当３\"))","v":""}]
[2040201024,20,{"v":402,"d":"402 "},{"v":1,"d":"01 "},{"v":24,"d":"024 "},"長野県","松川町","大島村","桑園",null,"","",{"$f":"IF(K4038=\"\",\"\",COUNTIF($K$7:K4038,\"ﾘｽﾄ１\"))","v":""},"","","","","","","",{"$f":"IF(S4038=\"\",\"\",COUNTIF($S$7:S4038,\"該当２\"))","v":""},"","",{"$f":"IF(V4038=\"\",\"\",COUNTIF($V$7:V4038,\"該当３\"))","v":""}]
[2040202003,20,{"v":402,"d":"402 "},{"v":2,"d":"02 "},{"v":3,"d":"003 "},"長野県","松川町","上片桐村","上町",null,{"$f":"IF(AND($C4043>0,$H4043=\"\"),\"ﾘｽﾄ１\",\"\")","v":""},"",{"$f":"IF(K4043=\"\",\"\",COUNTIF($K$7:K4043,\"ﾘｽﾄ１\"))","v":""},"","","","","","","",{"$f":"IF(S4043=\"\",\"\",COUNTIF($S$7:S4043,\"該当２\"))","v":""},"","",{"$f":"IF(V4043=\"\",\"\",COUNTIF($V$7:V4043,\"該当３\"))","v":""}]
[2040202005,20,{"v":402,"d":"402 "},{"v":2,"d":"02 "},{"v":5,"d":"005 "},"長野県","松川町","上片桐村","中荒町",null,"","",{"$f":"IF(K4045=\"\",\"\",COUNTIF($K$7:K4045,\"ﾘｽﾄ１\"))","v":""},"","","","","","","",{"$f":"IF(S4045=\"\",\"\",COUNTIF($S$7:S4045,\"該当２\"))","v":""},"","",{"$f":"IF(V4045=\"\",\"\",COUNTIF($V$7:V4045,\"該当３\"))","v":""}]
[2040202010,20,{"v":402,"d":"402 "},{"v":2,"d":"02 "},{"v":10,"d":"010 "},"長野県","松川町","上片桐村","鶴部",null,"","",{"$f":"IF(K4050=\"\",\"\",COUNTIF($K$7:K4050,\"ﾘｽﾄ１\"))","v":""},"","","","","","","",{"$f":"IF(S4050=\"\",\"\",COUNTIF($S$7:S4050,\"該当２\"))","v":""},"","",{"$f":"IF(V4050=\"\",\"\",COUNTIF($V$7:V4050,\"該当３\"))","v":""}]
[2040203004,20,{"v":402,"d":"402 "},{"v":3,"d":"03 "},{"v":4,"d":"004 "},"長野県","松川町","生田村","福沢",null,"","",{"$f":"IF(K4055=\"\",\"\",COUNTIF($K$7:K4055,\"ﾘｽﾄ１\"))","v":""},"","","","","","","",{"$f":"IF(S4055=\"\",\"\",COUNTIF($S$7:S4055,\"該当２\"))","v":""},"","",{"$f":"IF(V4055=\"\",\"\",COUNTIF($V$7:V4055,\"該当３\"))","v":""}]
[2040203005,20,{"v":402,"d":"402 "},{"v":3,"d":"03 "},{"v":5,"d":"005 "},"長野県","松川町","生田村","部奈",null,"","",{"$f":"IF(K4056=\"\",\"\",COUNTIF($K$7:K4056,\"ﾘｽﾄ１\"))","v":""},"","","","","","","",{"$f":"IF(S4056=\"\",\"\",COUNTIF($S$7:S4056,\"該当２\"))","v":""},"","",{"$f":"IF(V4056=\"\",\"\",COUNTIF($V$7:V4056,\"該当３\"))","v":""}]
[2040204000,20,{"v":402,"d":"402 "},{"v":4,"d":"04 "},{"v":0,"d":"000 "},"長野県","松川町","山吹村２－２",null,null,"","",{"$f":"IF(K4062=\"\",\"\",COUNTIF($K$7:K4062,\"ﾘｽﾄ１\"))","v":""},"","","","","","","",{"$f":"IF(S4062=\"\",\"\",COUNTIF($S$7:S4062,\"該当２\"))","v":""},"","",{"$f":"IF(V4062=\"\",\"\",COUNTIF($V$7:V4062,\"該当３\"))","v":""}]
[2040301001,20,{"v":403,"d":"403 "},{"v":1,"d":"01 "},{"v":1,"d":"001 "},"長野県","高森町","市田村","日影",null,"","",{"$f":"IF(K4067=\"\",\"\",COUNTIF($K$7:K4067,\"ﾘｽﾄ１\"))","v":""},"","","","","","","",{"$f":"IF(S4067=\"\",\"\",COUNTIF($S$7:S4067,\"該当２\"))","v":""},"","",{"$f":"IF(V4067=\"\",\"\",COUNTIF($V$7:V4067,\"該当３\"))","v":""}]
[2040301006,20,{"v":403,"d":"403 "},{"v":1,"d":"01 "},{"v":6,"d":"006 "},"長野県","高森町","市田村","共中",null,"","",{"$f":"IF(K4072=\"\",\"\",COUNTIF($K$7:K4072,\"ﾘｽﾄ１\"))","v":""},"","","","","","","",{"$f":"IF(S4072=\"\",\"\",COUNTIF($S$7:S4072,\"該当２\"))","v":""},"","",{"$f":"IF(V4072=\"\",\"\",COUNTIF($V$7:V4072,\"該当３\"))","v":""}]
[2040301009,20,{"v":403,"d":"403 "},{"v":1,"d":"01 "},{"v":9,"d":"009 "},"長野県","高森町","市田村","力南",null,"","",{"$f":"IF(K4075=\"\",\"\",COUNTIF($K$7:K4075,\"ﾘｽﾄ１\"))","v":""},"","","","","","","",{"$f":"IF(S4075=\"\",\"\",COUNTIF($S$7:S4075,\"該当２\"))","v":""},"","",{"$f":"IF(V4075=\"\",\"\",COUNTIF($V$7:V4075,\"該当３\"))","v":""}]
[2040301013,20,{"v":403,"d":"403 "},{"v":1,"d":"01 "},{"v":13,"d":"013 "},"長野県","高森町","市田村","中谷",null,"","",{"$f":"IF(K4079=\"\",\"\",COUNTIF($K$7:K4079,\"ﾘｽﾄ１\"))","v":""},"","","","","","","",{"$f":"IF(S4079=\"\",\"\",COUNTIF($S$7:S4079,\"該当２\"))","v":""},"","",{"$f":"IF(V4079=\"\",\"\",COUNTIF($V$7:V4079,\"該当３\"))","v":""}]
[2040301018,20,{"v":403,"d":"403 "},{"v":1,"d":"01 "},{"v":18,"d":"018 "},"長野県","高森町","市田村","吉田２",null,"","",{"$f":"IF(K4084=\"\",\"\",COUNTIF($K$7:K4084,\"ﾘｽﾄ１\"))","v":""},"","","","","","","",{"$f":"IF(S4084=\"\",\"\",COUNTIF($S$7:S4084,\"該当２\"))","v":""},"","",{"$f":"IF(V4084=\"\",\"\",COUNTIF($V$7:V4084,\"該当３\"))","v":""}]
[2040301023,20,{"v":403,"d":"403 "},{"v":1,"d":"01 "},{"v":23,"d":"023 "},"長野県","高森町","市田村","吉田７",null,"","",{"$f":"IF(K4089=\"\",\"\",COUNTIF($K$7:K4089,\"ﾘｽﾄ１\"))","v":""},"","","","","","","",{"$f":"IF(S4089=\"\",\"\",COUNTIF($S$7:S4089,\"該当２\"))","v":""},"","",{"$f":"IF(V4089=\"\",\"\",COUNTIF($V$7:V4089,\"該当３\"))","v":""}]
[2040301027,20,{"v":403,"d":"403 "},{"v":1,"d":"01 "},{"v":27,"d":"027 "},"長野県","高森町","市田村","南栄",null,"","",{"$f":"IF(K4093=\"\",\"\",COUNTIF($K$7:K4093,\"ﾘｽﾄ１\"))","v":""},"","","","","","","",{"$f":"IF(S4093=\"\",\"\",COUNTIF($S$7:S4093,\"該当２\"))","v":""},"","",{"$f":"IF(V4093=\"\",\"\",COUNTIF($V$7:V4093,\"該当３\"))","v":""}]
[2040301030,20,{"v":403,"d":"403 "},{"v":1,"d":"01 "},{"v":30,"d":"030 "},"長野県","高森町","市田村","大東",null,"","",{"$f":"IF(K4096=\"\",\"\",COUNTIF($K$7:K4096,\"ﾘｽﾄ１\"))","v":""},"","","","","","","",{"$f":"IF(S4096=\"\",\"\",COUNTIF($S$7:S4096,\"該当２\"))","v":""},"","",{"$f":"IF(V4096=\"\",\"\",COUNTIF($V$7:V4096,\"該当３\"))","v":""}]
[2040301035,20,{"v":403,"d":"403 "},{"v":1,"d":"01 "},{"v":35,"d":"035 "},"長野県","高森町","市田村","上中",null,"","",{"$f":"IF(K4101=\"\",\"\",COUNTIF($K$7:K4101,\"ﾘｽﾄ１\"))","v":""},"","","","","","","",{"$f":"IF(S4101=\"\",\"\",COUNTIF($S$7:S4101,\"該当２\"))","v":""},"","",{"$f":"IF(V4101=\"\",\"\",COUNTIF($V$7:V4101,\"該当３\"))","v":""}]
[2040301040,20,{"v":403,"d":"403 "},{"v":1,"d":"01 "},{"v":40,"d":"040 "},"長野県","高森町","市田村","宮ノ上",null,"","",{"$f":"IF(K4106=\"\",\"\",COUNTIF($K$7:K4106,\"ﾘｽﾄ１\"))","v":""},"","","","","","","",{"$f":"IF(S4106=\"\",\"\",COUNTIF($S$7:S4106,\"該当２\"))","v":""},"","",{"$f":"IF(V4106=\"\",\"\",COUNTIF($V$7:V4106,\"該当３\"))","v":""}]
[2040301041,20,{"v":403,"d":"403 "},{"v":1,"d":"01 "},{"v":41,"d":"041 "},"長野県","高森町","市田村","上南",null,{"$f":"IF(AND($C4107>0,$H4107=\"\"),\"ﾘｽﾄ１\",\"\")","v":""},"",{"$f":"IF(K4107=\"\",\"\",COUNTIF($K$7:K4107,\"ﾘｽﾄ１\"))","v":""},"","","","","","","",{"$f":"IF(S4107=\"\",\"\",COUNTIF($S$7:S4107,\"該当２\"))","v":""},"","",{"$f":"IF(V4107=\"\",\"\",COUNTIF($V$7:V4107,\"該当３\"))","v":""}]
[2040302001,20,{"v":403,"d":"403 "},{"v":2,"d":"02 "},{"v":1,"d":"001 "},"長野県","高森町","山吹村２－１","田沢",null,"","",{"$f":"IF(K4113=\"\",\"\",COUNTIF($K$7:K4113,\"ﾘｽﾄ１\"))","v":""},"","","","","","","",{"$f":"IF(S4113=\"\",\"\",COUNTIF($S$7:S4113,\"該当２\"))","v":""},"","",{"$f":"IF(V4113=\"\",\"\",COUNTIF($V$7:V4113,\"該当３\"))","v":""}]
[2040302006,20,{"v":403,"d":"403 "},{"v":2,"d":"02 "},{"v":6,"d":"006 "},"長野県","高森町","山吹村２－１","下町",null,"","",{"$f":"IF(K4118=\"\",\"\",COUNTIF($K$7:K4118,\"ﾘｽﾄ１\"))","v":""},"","","","","","","",{"$f":"IF(S4118=\"\",\"\",COUNTIF($S$7:S4118,\"該当２\"))","v":""},"","",{"$f":"IF(V4118=\"\",\"\",COUNTIF($V$7:V4118,\"該当３\"))","v":""}]
[2040302011,20,{"v":403,"d":"403 "},{"v":2,"d":"02 "},{"v":11,"d":"011 "},"長野県","高森町","山吹村２－１","竜口",null,"","",{"$f":"IF(K4123=\"\",\"\",COUNTIF($K$7:K4123,\"ﾘｽﾄ１\"))","v":""},"","","","","","","",{"$f":"IF(S4123=\"\",\"\",COUNTIF($S$7:S4123,\"該当２\"))","v":""},"","",{"$f":"IF(V4123=\"\",\"\",COUNTIF($V$7:V4123,\"該当３\"))","v":""}]
[2040302013,20,{"v":403,"d":"403 "},{"v":2,"d":"02 "},{"v":13,"d":"013 "},"長野県","高森町","山吹村２－１","上平",null,"","",{"$f":"IF(K4125=\"\",\"\",COUNTIF($K$7:K4125,\"ﾘｽﾄ１\"))","v":""},"","","","","","","",{"$f":"IF(S4125=\"\",\"\",COUNTIF($S$7:S4125,\"該当２\"))","v":""},"","",{"$f":"IF(V4125=\"\",\"\",COUNTIF($V$7:V4125,\"該当３\"))","v":""}]
[2040400000,20,{"v":404,"d":"404 "},{"v":0,"d":"00 "},{"v":0,"d":"000 "},"長野県","阿南町",{"$nulls":3},"ﾘｽﾄ１","阿南町",{"$f":"IF(K4130=\"\",\"\",COUNTIF($K$7:K4130,\"ﾘｽﾄ１\"))","v":42},"","","","","","","",{"$f":"IF(S4130=\"\",\"\",COUNTIF($S$7:S4130,\"該当２\"))","v":""},"","",{"$f":"IF(V4130=\"\",\"\",COUNTIF($V$7:V4130,\"該当３\"))","v":""}]
[2040401004,20,{"v":404,"d":"404 "},{"v":1,"d":"01 "},{"v":4,"d":"004 "},"長野県","阿南町","大下条村","三共",null,"","",{"$f":"IF(K4135=\"\",\"\",COUNTIF($K$7:K4135,\"ﾘｽﾄ１\"))","v":""},"","","","","","","",{"$f":"IF(S4135=\"\",\"\",COUNTIF($S$7:S4135,\"該当２\"))","v":""},"","",{"$f":"IF(V4135=\"\",\"\",COUNTIF($V$7:V4135,\"該当３\"))","v":""}]
[2040401009,20,{"v":404,"d":"404 "},{"v":1,"d":"01 "},{"v":9,"d":"009 "},"長野県","阿南町","大下条村","田上",null,"","",{"$f":"IF(K4140=\"\",\"\",COUNTIF($K$7:K4140,\"ﾘｽﾄ１\"))","v":""},"","","","","","","",{"$f":"IF(S4140=\"\",\"\",COUNTIF($S$7:S4140,\"該当２\"))","v":""},"","",{"$f":"IF(V4140=\"\",\"\",COUNTIF($V$7:V4140,\"該当３\"))","v":""}]
[2040401013,20,{"v":404,"d":"404 "},{"v":1,"d":"01 "},{"v":13,"d":"013 "},"長野県","阿南町","大下条村","見名",null,"","",{"$f":"IF(K4144=\"\",\"\",COUNTIF($K$7:K4144,\"ﾘｽﾄ１\"))","v":""},"","","","","","","",{"$f":"IF(S4144=\"\",\"\",COUNTIF($S$7:S4144,\"該当２\"))","v":""},"","",{"$f":"IF(V4144=\"\",\"\",COUNTIF($V$7:V4144,\"該当３\"))","v":""}]
[2040402000,20,{"v":404,"d":"404 "},{"v":2,"d":"02 "},{"v":0,"d":"000 "},"長野県","阿南町","旦開村",null,null,"","",{"$f":"IF(K4147=\"\",\"\",COUNTIF($K$7:K4147,\"ﾘｽﾄ１\"))","v":""},"","","","","","","",{"$f":"IF(S4147=\"\",\"\",COUNTIF($S$7:S4147,\"該当２\"))","v":""},"","",{"$f":"IF(V4147=\"\",\"\",COUNTIF($V$7:V4147,\"該当３\"))","v":""}]
[2040402005,20,{"v":404,"d":"404 "},{"v":2,"d":"02 "},{"v":5,"d":"005 "},"長野県","阿南町","旦開村","砂田",null,"","",{"$f":"IF(K4152=\"\",\"\",COUNTIF($K$7:K4152,\"ﾘｽﾄ１\"))","v":""},"","","","","","","",{"$f":"IF(S4152=\"\",\"\",COUNTIF($S$7:S4152,\"該当２\"))","v":""},"","",{"$f":"IF(V4152=\"\",\"\",COUNTIF($V$7:V4152,\"該当３\"))","v":""}]
[2040403001,20,{"v":404,"d":"404 "},{"v":3,"d":"03 "},{"v":1,"d":"001 "},"長野県","阿南町","和合村","宮沢",null,"","",{"$f":"IF(K4157=\"\",\"\",COUNTIF($K$7:K4157,\"ﾘｽﾄ１\"))","v":""},"","","","","","","",{"$f":"IF(S4157=\"\",\"\",COUNTIF($S$7:S4157,\"該当２\"))","v":""},"","",{"$f":"IF(V4157=\"\",\"\",COUNTIF($V$7:V4157,\"該当３\"))","v":""}]
[2040403006,20,{"v":404,"d":"404 "},{"v":3,"d":"03 "},{"v":6,"d":"006 "},"長野県","阿南町","和合村","日吉",null,"","",{"$f":"IF(K4162=\"\",\"\",COUNTIF($K$7:K4162,\"ﾘｽﾄ１\"))","v":""},"","","","","","","",{"$f":"IF(S4162=\"\",\"\",COUNTIF($S$7:S4162,\"該当２\"))","v":""},"","",{"$f":"IF(V4162=\"\",\"\",COUNTIF($V$7:V4162,\"該当３\"))","v":""}]
[2040403008,20,{"v":404,"d":"404 "},{"v":3,"d":"03 "},{"v":8,"d":"008 "},"長野県","阿南町","和合村","鈴ケ沢",null,"","",{"$f":"IF(K4164=\"\",\"\",COUNTIF($K$7:K4164,\"ﾘｽﾄ１\"))","v":""},"","","","","","","",{"$f":"IF(S4164=\"\",\"\",COUNTIF($S$7:S4164,\"該当２\"))","v":""},"","",{"$f":"IF(V4164=\"\",\"\",COUNTIF($V$7:V4164,\"該当３\"))","v":""}]
[2040404004,20,{"v":404,"d":"404 "},{"v":4,"d":"04 "},{"v":4,"d":"004 "},"長野県","阿南町","富草村","古城",null,"","",{"$f":"IF(K4169=\"\",\"\",COUNTIF($K$7:K4169,\"ﾘｽﾄ１\"))","v":""},"","","","","","","",{"$f":"IF(S4169=\"\",\"\",COUNTIF($S$7:S4169,\"該当２\"))","v":""},"","",{"$f":"IF(V4169=\"\",\"\",COUNTIF($V$7:V4169,\"該当３\"))","v":""}]
[2040404009,20,{"v":404,"d":"404 "},{"v":4,"d":"04 "},{"v":9,"d":"009 "},"長野県","阿南町","富草村","鴨目",null,"","",{"$f":"IF(K4174=\"\",\"\",COUNTIF($K$7:K4174,\"ﾘｽﾄ１\"))","v":""},"","","","","","","",{"$f":"IF(S4174=\"\",\"\",COUNTIF($S$7:S4174,\"該当２\"))","v":""},"","",{"$f":"IF(V4174=\"\",\"\",COUNTIF($V$7:V4174,\"該当３\"))","v":""}]
[2040404011,20,{"v":404,"d":"404 "},{"v":4,"d":"04 "},{"v":11,"d":"011 "},"長野県","阿南町","富草村","下梅田",null,"","",{"$f":"IF(K4176=\"\",\"\",COUNTIF($K$7:K4176,\"ﾘｽﾄ１\"))","v":""},"","","","","","","",{"$f":"IF(S4176=\"\",\"\",COUNTIF($S$7:S4176,\"該当２\"))","v":""},"","",{"$f":"IF(V4176=\"\",\"\",COUNTIF($V$7:V4176,\"該当３\"))","v":""}]
[2040701002,20,{"v":407,"d":"407 "},{"v":1,"d":"01 "},{"v":2,"d":"002 "},"長野県","阿智村","会地村","知久保",null,"","",{"$f":"IF(K4181=\"\",\"\",COUNTIF($K$7:K4181,\"ﾘｽﾄ１\"))","v":""},"","","","","","","",{"$f":"IF(S4181=\"\",\"\",COUNTIF($S$7:S4181,\"該当２\"))","v":""},"","",{"$f":"IF(V4181=\"\",\"\",COUNTIF($V$7:V4181,\"該当３\"))","v":""}]
[2040701007,20,{"v":407,"d":"407 "},{"v":1,"d":"01 "},{"v":7,"d":"007 "},"長野県","阿智村","会地村","砂田",null,"","",{"$f":"IF(K4186=\"\",\"\",COUNTIF($K$7:K4186,\"ﾘｽﾄ１\"))","v":""},"","","","","","","",{"$f":"IF(S4186=\"\",\"\",COUNTIF($S$7:S4186,\"該当２\"))","v":""},"","",{"$f":"IF(V4186=\"\",\"\",COUNTIF($V$7:V4186,\"該当３\"))","v":""}]
[2040701012,20,{"v":407,"d":"407 "},{"v":1,"d":"01 "},{"v":12,"d":"012 "},"長野県","阿智村","会地村","曽山",null,"","",{"$f":"IF(K4191=\"\",\"\",COUNTIF($K$7:K4191,\"ﾘｽﾄ１\"))","v":""},"","","","","","","",{"$f":"IF(S4191=\"\",\"\",COUNTIF($S$7:S4191,\"該当２\"))","v":""},"","",{"$f":"IF(V4191=\"\",\"\",COUNTIF($V$7:V4191,\"該当３\"))","v":""}]
[2040702002,20,{"v":407,"d":"407 "},{"v":2,"d":"02 "},{"v":2,"d":"002 "},"長野県","阿智村","伍和村","下郷",null,"","",{"$f":"IF(K4194=\"\",\"\",COUNTIF($K$7:K4194,\"ﾘｽﾄ１\"))","v":""},"","","","","","","",{"$f":"IF(S4194=\"\",\"\",COUNTIF($S$7:S4194,\"該当２\"))","v":""},"","",{"$f":"IF(V4194=\"\",\"\",COUNTIF($V$7:V4194,\"該当３\"))","v":""}]
[2040702006,20,{"v":407,"d":"407 "},{"v":2,"d":"02 "},{"v":6,"d":"006 "},"長野県","阿智村","伍和村","日の入",null,"","",{"$f":"IF(K4198=\"\",\"\",COUNTIF($K$7:K4198,\"ﾘｽﾄ１\"))","v":""},"","","","","","","",{"$f":"IF(S4198=\"\",\"\",COUNTIF($S$7:S4198,\"該当２\"))","v":""},"","",{"$f":"IF(V4198=\"\",\"\",COUNTIF($V$7:V4198,\"該当３\"))","v":""}]
[2040702011,20,{"v":407,"d":"407 "},{"v":2,"d":"02 "},{"v":11,"d":"011 "},"長野県","阿智村","伍和村","丸山",null,"","",{"$f":"IF(K4203=\"\",\"\",COUNTIF($K$7:K4203,\"ﾘｽﾄ１\"))","v":""},"","","","","","","",{"$f":"IF(S4203=\"\",\"\",COUNTIF($S$7:S4203,\"該当２\"))","v":""},"","",{"$f":"IF(V4203=\"\",\"\",COUNTIF($V$7:V4203,\"該当３\"))","v":""}]
[2040703002,20,{"v":407,"d":"407 "},{"v":3,"d":"03 "},{"v":2,"d":"002 "},"長野県","阿智村","智里村","大野",null,"","",{"$f":"IF(K4208=\"\",\"\",COUNTIF($K$7:K4208,\"ﾘｽﾄ１\"))","v":""},"","","","","","","",{"$f":"IF(S4208=\"\",\"\",COUNTIF($S$7:S4208,\"該当２\"))","v":""},"","",{"$f":"IF(V4208=\"\",\"\",COUNTIF($V$7:V4208,\"該当３\"))","v":""}]
[2040703007,20,{"v":407,"d":"407 "},{"v":3,"d":"03 "},{"v":7,"d":"007 "},"長野県","阿智村","智里村","下平",null,"","",{"$f":"IF(K4213=\"\",\"\",COUNTIF($K$7:K4213,\"ﾘｽﾄ１\"))","v":""},"","","","","","","",{"$f":"IF(S4213=\"\",\"\",COUNTIF($S$7:S4213,\"該当２\"))","v":""},"","",{"$f":"IF(V4213=\"\",\"\",COUNTIF($V$7:V4213,\"該当３\"))","v":""}]
[2040703009,20,{"v":407,"d":"407 "},{"v":3,"d":"03 "},{"v":9,"d":"009 "},"長野県","阿智村","智里村","横川",null,"",{"$f":"IF(K4215=\"ﾘｽﾄ１\",G4215,\"\")","v":""},{"$f":"IF(K4215=\"\",\"\",COUNTIF($K$7:K4215,\"ﾘｽﾄ１\"))","v":""},{"$f":"IF(AND(D4215=0,E4215>0),\"同一区\",\"\")","v":""},{"$f":"IF(AND(EXACT($K$2,G4215),H4215>0),\"該当１\",\"\")","v":""},{"$f":"IF(O4215=\"該当１\",G4215,\"\")","v":""},{"$f":"IF(O4215=\"該当１\",\"ﾘｽﾄ2\",\"\")","v":""},{"$f":"IF(Q4215=\"ﾘｽﾄ2\",H4215,\"\")","v":""},{"$f":"IF(AND(Q4215=\"ﾘｽﾄ2\",OR(I4215=0,AND(N4215=\"同一区\",E4215=1))),\"該当２\",\"\")","v":""},{"$f":"IF(S4215=\"該当２\",H4215,\"\")","v":""},{"$f":"IF(S4215=\"\",\"\",COUNTIF($S$7:S4215,\"該当２\"))","v":""},{"$f":"IF(AND($S$2=H4215,E4215>0,E4215<998),\"該当３\",\"\")","v":""},{"$f":"IF(V4215=\"該当３\",I4215,\"\")","v":""},{"$f":"IF(V4215=\"\",\"\",COUNTIF($V$7:V4215,\"該当３\"))","v":""}]
[2040704001,20,{"v":407,"d":"407 "},{"v":4,"d":"04 "},{"v":1,"d":"001 "},"長野県","阿智村","浪合村","蘭平",null,"","",{"$f":"IF(K4220=\"\",\"\",COUNTIF($K$7:K4220,\"ﾘｽﾄ１\"))","v":""},"","","","","","","",{"$f":"IF(S4220=\"\",\"\",COUNTIF($S$7:S4220,\"該当２\"))","v":""},"","",{"$f":"IF(V4220=\"\",\"\",COUNTIF($V$7:V4220,\"該当３\"))","v":""}]
[2040704006,20,{"v":407,"d":"407 "},{"v":4,"d":"04 "},{"v":6,"d":"006 "},"長野県","阿智村","浪合村","浪合上町",null,"","",{"$f":"IF(K4225=\"\",\"\",COUNTIF($K$7:K4225,\"ﾘｽﾄ１\"))","v":""},"","","","","","","",{"$f":"IF(S4225=\"\",\"\",COUNTIF($S$7:S4225,\"該当２\"))","v":""},"","",{"$f":"IF(V4225=\"\",\"\",COUNTIF($V$7:V4225,\"該当３\"))","v":""}]
[2040704007,20,{"v":407,"d":"407 "},{"v":4,"d":"04 "},{"v":7,"d":"007 "},"長野県","阿智村","浪合村","中下町",null,"","",{"$f":"IF(K4226=\"\",\"\",COUNTIF($K$7:K4226,\"ﾘｽﾄ１\"))","v":""},"","","","","","","",{"$f":"IF(S4226=\"\",\"\",COUNTIF($S$7:S4226,\"該当２\"))","v":""},"","",{"$f":"IF(V4226=\"\",\"\",COUNTIF($V$7:V4226,\"該当３\"))","v":""}]
[2040705003,20,{"v":407,"d":"407 "},{"v":5,"d":"05 "},{"v":3,"d":"003 "},"長野県","阿智村","清内路村","登",null,"","",{"$f":"IF(K4232=\"\",\"\",COUNTIF($K$7:K4232,\"ﾘｽﾄ１\"))","v":""},"","","","","","","",{"$f":"IF(S4232=\"\",\"\",COUNTIF($S$7:S4232,\"該当２\"))","v":""},"","",{"$f":"IF(V4232=\"\",\"\",COUNTIF($V$7:V4232,\"該当３\"))","v":""}]
[2040705008,20,{"v":407,"d":"407 "},{"v":5,"d":"05 "},{"v":8,"d":"008 "},"長野県","阿智村","清内路村","上二区",null,"","",{"$f":"IF(K4237=\"\",\"\",COUNTIF($K$7:K4237,\"ﾘｽﾄ１\"))","v":""},"","","","","","","",{"$f":"IF(S4237=\"\",\"\",COUNTIF($S$7:S4237,\"該当２\"))","v":""},"","",{"$f":"IF(V4237=\"\",\"\",COUNTIF($V$7:V4237,\"該当３\"))","v":""}]
[2040900003,20,{"v":409,"d":"409 "},{"v":0,"d":"00 "},{"v":3,"d":"003 "},"長野県","平谷村","（平谷村）","柳平",null,"","",{"$f":"IF(K4242=\"\",\"\",COUNTIF($K$7:K4242,\"ﾘｽﾄ１\"))","v":""},"同一区","","","","","","",{"$f":"IF(S4242=\"\",\"\",COUNTIF($S$7:S4242,\"該当２\"))","v":""},"","",{"$f":"IF(V4242=\"\",\"\",COUNTIF($V$7:V4242,\"該当３\"))","v":""}]
[2040900006,20,{"v":409,"d":"409 "},{"v":0,"d":"00 "},{"v":6,"d":"006 "},"長野県","平谷村","（平谷村）","旭町",null,"","",{"$f":"IF(K4245=\"\",\"\",COUNTIF($K$7:K4245,\"ﾘｽﾄ１\"))","v":""},"同一区","","","","","","",{"$f":"IF(S4245=\"\",\"\",COUNTIF($S$7:S4245,\"該当２\"))","v":""},"","",{"$f":"IF(V4245=\"\",\"\",COUNTIF($V$7:V4245,\"該当３\"))","v":""}]
[2040900010,20,{"v":409,"d":"409 "},{"v":0,"d":"00 "},{"v":10,"d":"010 "},"長野県","平谷村","（平谷村）","五軒小屋",null,"","",{"$f":"IF(K4249=\"\",\"\",COUNTIF($K$7:K4249,\"ﾘｽﾄ１\"))","v":""},"同一区","","","","","","",{"$f":"IF(S4249=\"\",\"\",COUNTIF($S$7:S4249,\"該当２\"))","v":""},"","",{"$f":"IF(V4249=\"\",\"\",COUNTIF($V$7:V4249,\"該当３\"))","v":""}]
[2041000004,20,{"v":410,"d":"410 "},{"v":0,"d":"00 "},{"v":4,"d":"004 "},"長野県","根羽村","（根羽村）","池の平",null,"","",{"$f":"IF(K4254=\"\",\"\",COUNTIF($K$7:K4254,\"ﾘｽﾄ１\"))","v":""},"同一区","","","","","","",{"$f":"IF(S4254=\"\",\"\",COUNTIF($S$7:S4254,\"該当２\"))","v":""},"","",{"$f":"IF(V4254=\"\",\"\",COUNTIF($V$7:V4254,\"該当３\"))","v":""}]
[2041000009,20,{"v":410,"d":"410 "},{"v":0,"d":"00 "},{"v":9,"d":"009 "},"長野県","根羽村","（根羽村）","向黒地",null,"","",{"$f":"IF(K4259=\"\",\"\",COUNTIF($K$7:K4259,\"ﾘｽﾄ１\"))","v":""},"同一区","","","","","","",{"$f":"IF(S4259=\"\",\"\",COUNTIF($S$7:S4259,\"該当２\"))","v":""},"","",{"$f":"IF(V4259=\"\",\"\",COUNTIF($V$7:V4259,\"該当３\"))","v":""}]
[2041000013,20,{"v":410,"d":"410 "},{"v":0,"d":"00 "},{"v":13,"d":"013 "},"長野県","根羽村","（根羽村）","新井",null,"","",{"$f":"IF(K4263=\"\",\"\",COUNTIF($K$7:K4263,\"ﾘｽﾄ１\"))","v":""},"同一区","","","","","","",{"$f":"IF(S4263=\"\",\"\",COUNTIF($S$7:S4263,\"該当２\"))","v":""},"","",{"$f":"IF(V4263=\"\",\"\",COUNTIF($V$7:V4263,\"該当３\"))","v":""}]
[2041000016,20,{"v":410,"d":"410 "},{"v":0,"d":"00 "},{"v":16,"d":"016 "},"長野県","根羽村","（根羽村）","平",null,"","",{"$f":"IF(K4266=\"\",\"\",COUNTIF($K$7:K4266,\"ﾘｽﾄ１\"))","v":""},"同一区","","","","","","",{"$f":"IF(S4266=\"\",\"\",COUNTIF($S$7:S4266,\"該当２\"))","v":""},"","",{"$f":"IF(V4266=\"\",\"\",COUNTIF($V$7:V4266,\"該当３\"))","v":""}]
[2041100003,20,{"v":411,"d":"411 "},{"v":0,"d":"00 "},{"v":3,"d":"003 "},"長野県","下條村","（下條村）","粒良脇",null,"","",{"$f":"IF(K4271=\"\",\"\",COUNTIF($K$7:K4271,\"ﾘｽﾄ１\"))","v":""},"同一区","","","","","","",{"$f":"IF(S4271=\"\",\"\",COUNTIF($S$7:S4271,\"該当２\"))","v":""},"","",{"$f":"IF(V4271=\"\",\"\",COUNTIF($V$7:V4271,\"該当３\"))","v":""}]
[2041100008,20,{"v":411,"d":"411 "},{"v":0,"d":"00 "},{"v":8,"d":"008 "},"長野県","下條村","（下條村）","西部",null,"","",{"$f":"IF(K4276=\"\",\"\",COUNTIF($K$7:K4276,\"ﾘｽﾄ１\"))","v":""},"同一区","","","","","","",{"$f":"IF(S4276=\"\",\"\",COUNTIF($S$7:S4276,\"該当２\"))","v":""},"","",{"$f":"IF(V4276=\"\",\"\",COUNTIF($V$7:V4276,\"該当３\"))","v":""}]
[2041100009,20,{"v":411,"d":"411 "},{"v":0,"d":"00 "},{"v":9,"d":"009 "},"長野県","下條村","（下條村）","長原",null,"","",{"$f":"IF(K4277=\"\",\"\",COUNTIF($K$7:K4277,\"ﾘｽﾄ１\"))","v":""},"同一区","","","","","","",{"$f":"IF(S4277=\"\",\"\",COUNTIF($S$7:S4277,\"該当２\"))","v":""},"","",{"$f":"IF(V4277=\"\",\"\",COUNTIF($V$7:V4277,\"該当３\"))","v":""}]
[2041100015,20,{"v":411,"d":"411 "},{"v":0,"d":"00 "},{"v":15,"d":"015 "},"長野県","下條村","（下條村）","入野",null,"","",{"$f":"IF(K4283=\"\",\"\",COUNTIF($K$7:K4283,\"ﾘｽﾄ１\"))","v":""},"同一区","","","","","","",{"$f":"IF(S4283=\"\",\"\",COUNTIF($S$7:S4283,\"該当２\"))","v":""},"","",{"$f":"IF(V4283=\"\",\"\",COUNTIF($V$7:V4283,\"該当３\"))","v":""}]
[2041100020,20,{"v":411,"d":"411 "},{"v":0,"d":"00 "},{"v":20,"d":"020 "},"長野県","下條村","（下條村）","菅野",null,"","",{"$f":"IF(K4288=\"\",\"\",COUNTIF($K$7:K4288,\"ﾘｽﾄ１\"))","v":""},"同一区","","","","","","",{"$f":"IF(S4288=\"\",\"\",COUNTIF($S$7:S4288,\"該当２\"))","v":""},"","",{"$f":"IF(V4288=\"\",\"\",COUNTIF($V$7:V4288,\"該当３\"))","v":""}]
[2041200003,20,{"v":412,"d":"412 "},{"v":0,"d":"00 "},{"v":3,"d":"003 "},"長野県","売木村","（売木村）","南部",null,"","",{"$f":"IF(K4293=\"\",\"\",COUNTIF($K$7:K4293,\"ﾘｽﾄ１\"))","v":""},"同一区","","","","","","",{"$f":"IF(S4293=\"\",\"\",COUNTIF($S$7:S4293,\"該当２\"))","v":""},"","",{"$f":"IF(V4293=\"\",\"\",COUNTIF($V$7:V4293,\"該当３\"))","v":""}]
[2041300000,20,{"v":413,"d":"413 "},{"v":0,"d":"00 "},{"v":0,"d":"000 "},"長野県","天龍村",{"$nulls":3},"ﾘｽﾄ１","天龍村",{"$f":"IF(K4296=\"\",\"\",COUNTIF($K$7:K4296,\"ﾘｽﾄ１\"))","v":48},"","","","","","","",{"$f":"IF(S4296=\"\",\"\",COUNTIF($S$7:S4296,\"該当２\"))","v":""},"","",{"$f":"IF(V4296=\"\",\"\",COUNTIF($V$7:V4296,\"該当３\"))","v":""}]
[2041301003,20,{"v":413,"d":"413 "},{"v":1,"d":"01 "},{"v":3,"d":"003 "},"長野県","天龍村","平岡村（天龍村）","西原",null,"","",{"$f":"IF(K4300=\"\",\"\",COUNTIF($K$7:K4300,\"ﾘｽﾄ１\"))","v":""},"","","","","","","",{"$f":"IF(S4300=\"\",\"\",COUNTIF($S$7:S4300,\"該当２\"))","v":""},"","",{"$f":"IF(V4300=\"\",\"\",COUNTIF($V$7:V4300,\"該当３\"))","v":""}]
[2041301008,20,{"v":413,"d":"413 "},{"v":1,"d":"01 "},{"v":8,"d":"008 "},"長野県","天龍村","平岡村（天龍村）","長野町",null,"","",{"$f":"IF(K4305=\"\",\"\",COUNTIF($K$7:K4305,\"ﾘｽﾄ１\"))","v":""},"","","","","","","",{"$f":"IF(S4305=\"\",\"\",COUNTIF($S$7:S4305,\"該当２\"))","v":""},"","",{"$f":"IF(V4305=\"\",\"\",COUNTIF($V$7:V4305,\"該当３\"))","v":""}]
[2041301013,20,{"v":413,"d":"413 "},{"v":1,"d":"01 "},{"v":13,"d":"013 "},"長野県","天龍村","平岡村（天龍村）","中井侍",null,"","",{"$f":"IF(K4310=\"\",\"\",COUNTIF($K$7:K4310,\"ﾘｽﾄ１\"))","v":""},"","","","","","","",{"$f":"IF(S4310=\"\",\"\",COUNTIF($S$7:S4310,\"該当２\"))","v":""},"","",{"$f":"IF(V4310=\"\",\"\",COUNTIF($V$7:V4310,\"該当３\"))","v":""}]
[2041301017,20,{"v":413,"d":"413 "},{"v":1,"d":"01 "},{"v":17,"d":"017 "},"長野県","天龍村","平岡村（天龍村）","長島宇連南",null,"","",{"$f":"IF(K4314=\"\",\"\",COUNTIF($K$7:K4314,\"ﾘｽﾄ１\"))","v":""},"","","","","","","",{"$f":"IF(S4314=\"\",\"\",COUNTIF($S$7:S4314,\"該当２\"))","v":""},"","",{"$f":"IF(V4314=\"\",\"\",COUNTIF($V$7:V4314,\"該当３\"))","v":""}]
[2041302001,20,{"v":413,"d":"413 "},{"v":2,"d":"02 "},{"v":1,"d":"001 "},"長野県","天龍村","神原村","大河内",null,"","",{"$f":"IF(K4317=\"\",\"\",COUNTIF($K$7:K4317,\"ﾘｽﾄ１\"))","v":""},"","","","","","","",{"$f":"IF(S4317=\"\",\"\",COUNTIF($S$7:S4317,\"該当２\"))","v":""},"","",{"$f":"IF(V4317=\"\",\"\",COUNTIF($V$7:V4317,\"該当３\"))","v":""}]
[2041302006,20,{"v":413,"d":"413 "},{"v":2,"d":"02 "},{"v":6,"d":"006 "},"長野県","天龍村","神原村","大久那",null,"","",{"$f":"IF(K4322=\"\",\"\",COUNTIF($K$7:K4322,\"ﾘｽﾄ１\"))","v":""},"","","","","","","",{"$f":"IF(S4322=\"\",\"\",COUNTIF($S$7:S4322,\"該当２\"))","v":""},"","",{"$f":"IF(V4322=\"\",\"\",COUNTIF($V$7:V4322,\"該当３\"))","v":""}]
[2041302011,20,{"v":413,"d":"413 "},{"v":2,"d":"02 "},{"v":11,"d":"011 "},"長野県","天龍村","神原村","倉の平",null,"","",{"$f":"IF(K4327=\"\",\"\",COUNTIF($K$7:K4327,\"ﾘｽﾄ１\"))","v":""},"","","","","","","",{"$f":"IF(S4327=\"\",\"\",COUNTIF($S$7:S4327,\"該当２\"))","v":""},"","",{"$f":"IF(V4327=\"\",\"\",COUNTIF($V$7:V4327,\"該当３\"))","v":""}]
[2041302012,20,{"v":413,"d":"413 "},{"v":2,"d":"02 "},{"v":12,"d":"012 "},"長野県","天龍村","神原村","坂部",null,"","",{"$f":"IF(K4328=\"\",\"\",COUNTIF($K$7:K4328,\"ﾘｽﾄ１\"))","v":""},"","","","","","","",{"$f":"IF(S4328=\"\",\"\",COUNTIF($S$7:S4328,\"該当２\"))","v":""},"","",{"$f":"IF(V4328=\"\",\"\",COUNTIF($V$7:V4328,\"該当３\"))","v":""}]
[2041400005,20,{"v":414,"d":"414 "},{"v":0,"d":"00 "},{"v":5,"d":"005 "},"長野県","泰阜村","（泰阜村）","平島田",null,"","",{"$f":"IF(K4334=\"\",\"\",COUNTIF($K$7:K4334,\"ﾘｽﾄ１\"))","v":""},"同一区","","","","","","",{"$f":"IF(S4334=\"\",\"\",COUNTIF($S$7:S4334,\"該当２\"))","v":""},"","",{"$f":"IF(V4334=\"\",\"\",COUNTIF($V$7:V4334,\"該当３\"))","v":""}]
[2041400010,20,{"v":414,"d":"414 "},{"v":0,"d":"00 "},{"v":10,"d":"010 "},"長野県","泰阜村","（泰阜村）","明島",null,"","",{"$f":"IF(K4339=\"\",\"\",COUNTIF($K$7:K4339,\"ﾘｽﾄ１\"))","v":""},"同一区","","","","","","",{"$f":"IF(S4339=\"\",\"\",COUNTIF($S$7:S4339,\"該当２\"))","v":""},"","",{"$f":"IF(V4339=\"\",\"\",COUNTIF($V$7:V4339,\"該当３\"))","v":""}]
[2041400015,20,{"v":414,"d":"414 "},{"v":0,"d":"00 "},{"v":15,"d":"015 "},"長野県","泰阜村","（泰阜村）","大畑",null,"","",{"$f":"IF(K4344=\"\",\"\",COUNTIF($K$7:K4344,\"ﾘｽﾄ１\"))","v":""},"同一区","","","","","","",{"$f":"IF(S4344=\"\",\"\",COUNTIF($S$7:S4344,\"該当２\"))","v":""},"","",{"$f":"IF(V4344=\"\",\"\",COUNTIF($V$7:V4344,\"該当３\"))","v":""}]
[2041400017,20,{"v":414,"d":"414 "},{"v":0,"d":"00 "},{"v":17,"d":"017 "},"長野県","泰阜村","（泰阜村）","我科",null,"","",{"$f":"IF(K4346=\"\",\"\",COUNTIF($K$7:K4346,\"ﾘｽﾄ１\"))","v":""},"同一区","","","","","","",{"$f":"IF(S4346=\"\",\"\",COUNTIF($S$7:S4346,\"該当２\"))","v":""},"","",{"$f":"IF(V4346=\"\",\"\",COUNTIF($V$7:V4346,\"該当３\"))","v":""}]
[2041500000,20,{"v":415,"d":"415 "},{"v":0,"d":"00 "},{"v":0,"d":"000 "},"長野県","喬木村",{"$nulls":3},"ﾘｽﾄ１","喬木村",{"$f":"IF(K4351=\"\",\"\",COUNTIF($K$7:K4351,\"ﾘｽﾄ１\"))","v":50},"","","","","","","",{"$f":"IF(S4351=\"\",\"\",COUNTIF($S$7:S4351,\"該当２\"))","v":""},"","",{"$f":"IF(V4351=\"\",\"\",COUNTIF($V$7:V4351,\"該当３\"))","v":""}]
[2041500005,20,{"v":415,"d":"415 "},{"v":0,"d":"00 "},{"v":5,"d":"005 "},"長野県","喬木村","（喬木村）","土井場新町",null,"","",{"$f":"IF(K4356=\"\",\"\",COUNTIF($K$7:K4356,\"ﾘｽﾄ１\"))","v":""},"同一区","","","","","","",{"$f":"IF(S4356=\"\",\"\",COUNTIF($S$7:S4356,\"該当２\"))","v":""},"","",{"$f":"IF(V4356=\"\",\"\",COUNTIF($V$7:V4356,\"該当３\"))","v":""}]
[2041500010,20,{"v":415,"d":"415 "},{"v":0,"d":"00 "},{"v":10,"d":"010 "},"長野県","喬木村","（喬木村）","溝杉",null,"","",{"$f":"IF(K4361=\"\",\"\",COUNTIF($K$7:K4361,\"ﾘｽﾄ１\"))","v":""},"同一区","","","","","","",{"$f":"IF(S4361=\"\",\"\",COUNTIF($S$7:S4361,\"該当２\"))","v":""},"","",{"$f":"IF(V4361=\"\",\"\",COUNTIF($V$7:V4361,\"該当３\"))","v":""}]
[2041500014,20,{"v":415,"d":"415 "},{"v":0,"d":"00 "},{"v":14,"d":"014 "},"長野県","喬木村","（喬木村）","両平",null,"","",{"$f":"IF(K4365=\"\",\"\",COUNTIF($K$7:K4365,\"ﾘｽﾄ１\"))","v":""},"同一区","","","","","","",{"$f":"IF(S4365=\"\",\"\",COUNTIF($S$7:S4365,\"該当２\"))","v":""},"","",{"$f":"IF(V4365=\"\",\"\",COUNTIF($V$7:V4365,\"該当３\"))","v":""}]
[2041500017,20,{"v":415,"d":"415 "},{"v":0,"d":"00 "},{"v":17,"d":"017 "},"長野県","喬木村","（喬木村）","川南",null,"","",{"$f":"IF(K4368=\"\",\"\",COUNTIF($K$7:K4368,\"ﾘｽﾄ１\"))","v":""},"同一区","","","","","","",{"$f":"IF(S4368=\"\",\"\",COUNTIF($S$7:S4368,\"該当２\"))","v":""},"","",{"$f":"IF(V4368=\"\",\"\",COUNTIF($V$7:V4368,\"該当３\"))","v":""}]
[2041500022,20,{"v":415,"d":"415 "},{"v":0,"d":"00 "},{"v":22,"d":"022 "},"長野県","喬木村","（喬木村）","南耕地",null,"","",{"$f":"IF(K4373=\"\",\"\",COUNTIF($K$7:K4373,\"ﾘｽﾄ１\"))","v":""},"同一区","","","","","","",{"$f":"IF(S4373=\"\",\"\",COUNTIF($S$7:S4373,\"該当２\"))","v":""},"","",{"$f":"IF(V4373=\"\",\"\",COUNTIF($V$7:V4373,\"該当３\"))","v":""}]
[2041500027,20,{"v":415,"d":"415 "},{"v":0,"d":"00 "},{"v":27,"d":"027 "},"長野県","喬木村","（喬木村）","伊久間５",null,"","",{"$f":"IF(K4378=\"\",\"\",COUNTIF($K$7:K4378,\"ﾘｽﾄ１\"))","v":""},"同一区","","","","","","",{"$f":"IF(S4378=\"\",\"\",COUNTIF($S$7:S4378,\"該当２\"))","v":""},"","",{"$f":"IF(V4378=\"\",\"\",COUNTIF($V$7:V4378,\"該当３\"))","v":""}]
[2041500032,20,{"v":415,"d":"415 "},{"v":0,"d":"00 "},{"v":32,"d":"032 "},"長野県","喬木村","（喬木村）","富田１",null,"","",{"$f":"IF(K4383=\"\",\"\",COUNTIF($K$7:K4383,\"ﾘｽﾄ１\"))","v":""},"同一区","","","","","","",{"$f":"IF(S4383=\"\",\"\",COUNTIF($S$7:S4383,\"該当２\"))","v":""},"","",{"$f":"IF(V4383=\"\",\"\",COUNTIF($V$7:V4383,\"該当３\"))","v":""}]
[2041500034,20,{"v":415,"d":"415 "},{"v":0,"d":"00 "},{"v":34,"d":"034 "},"長野県","喬木村","（喬木村）","富田３",null,"","",{"$f":"IF(K4385=\"\",\"\",COUNTIF($K$7:K4385,\"ﾘｽﾄ１\"))","v":""},"同一区","","","","","","",{"$f":"IF(S4385=\"\",\"\",COUNTIF($S$7:S4385,\"該当２\"))","v":""},"","",{"$f":"IF(V4385=\"\",\"\",COUNTIF($V$7:V4385,\"該当３\"))","v":""}]
[2041500039,20,{"v":415,"d":"415 "},{"v":0,"d":"00 "},{"v":39,"d":"039 "},"長野県","喬木村","（喬木村）","富田８",null,"","",{"$f":"IF(K4390=\"\",\"\",COUNTIF($K$7:K4390,\"ﾘｽﾄ１\"))","v":""},"同一区","","","","","","",{"$f":"IF(S4390=\"\",\"\",COUNTIF($S$7:S4390,\"該当２\"))","v":""},"","",{"$f":"IF(V4390=\"\",\"\",COUNTIF($V$7:V4390,\"該当３\"))","v":""}]
[2041500044,20,{"v":415,"d":"415 "},{"v":0,"d":"00 "},{"v":44,"d":"044 "},"長野県","喬木村","（喬木村）","下氏乗",null,"","",{"$f":"IF(K4395=\"\",\"\",COUNTIF($K$7:K4395,\"ﾘｽﾄ１\"))","v":""},"同一区","","","","","","",{"$f":"IF(S4395=\"\",\"\",COUNTIF($S$7:S4395,\"該当２\"))","v":""},"","",{"$f":"IF(V4395=\"\",\"\",COUNTIF($V$7:V4395,\"該当３\"))","v":""}]
[2041500046,20,{"v":415,"d":"415 "},{"v":0,"d":"00 "},{"v":46,"d":"046 "},"長野県","喬木村","（喬木村）","貸又",null,"","",{"$f":"IF(K4397=\"\",\"\",COUNTIF($K$7:K4397,\"ﾘｽﾄ１\"))","v":""},"同一区","","","","","","",{"$f":"IF(S4397=\"\",\"\",COUNTIF($S$7:S4397,\"該当２\"))","v":""},"","",{"$f":"IF(V4397=\"\",\"\",COUNTIF($V$7:V4397,\"該当３\"))","v":""}]
[2041500051,20,{"v":415,"d":"415 "},{"v":0,"d":"00 "},{"v":51,"d":"051 "},"長野県","喬木村","（喬木村）","大島上平",null,"","",{"$f":"IF(K4402=\"\",\"\",COUNTIF($K$7:K4402,\"ﾘｽﾄ１\"))","v":""},"同一区","","","","","","",{"$f":"IF(S4402=\"\",\"\",COUNTIF($S$7:S4402,\"該当２\"))","v":""},"","",{"$f":"IF(V4402=\"\",\"\",COUNTIF($V$7:V4402,\"該当３\"))","v":""}]
[2041601000,20,{"v":416,"d":"416 "},{"v":1,"d":"01 "},{"v":0,"d":"000 "},"長野県","豊丘村","神稲村",null,null,"",{"$f":"IF(K4407=\"ﾘｽﾄ１\",G4407,\"\")","v":""},{"$f":"IF(K4407=\"\",\"\",COUNTIF($K$7:K4407,\"ﾘｽﾄ１\"))","v":""},{"$f":"IF(AND(D4407=0,E4407>0),\"同一区\",\"\")","v":""},{"$f":"IF(AND(EXACT($K$2,G4407),H4407>0),\"該当１\",\"\")","v":""},{"$f":"IF(O4407=\"該当１\",G4407,\"\")","v":""},{"$f":"IF(O4407=\"該当１\",\"ﾘｽﾄ2\",\"\")","v":""},{"$f":"IF(Q4407=\"ﾘｽﾄ2\",H4407,\"\")","v":""},{"$f":"IF(AND(Q4407=\"ﾘｽﾄ2\",OR(I4407=0,AND(N4407=\"同一区\",E4407=1))),\"該当２\",\"\")","v":""},{"$f":"IF(S4407=\"該当２\",H4407,\"\")","v":""},{"$f":"IF(S4407=\"\",\"\",COUNTIF($S$7:S4407,\"該当２\"))","v":""},{"$f":"IF(AND($S$2=H4407,E4407>0,E4407<998),\"該当３\",\"\")","v":""},{"$f":"IF(V4407=\"該当３\",I4407,\"\")","v":""},{"$f":"IF(V4407=\"\",\"\",COUNTIF($V$7:V4407,\"該当３\"))","v":""}]
[2041601005,20,{"v":416,"d":"416 "},{"v":1,"d":"01 "},{"v":5,"d":"005 "},"長野県","豊丘村","神稲村","北村",null,"","",{"$f":"IF(K4412=\"\",\"\",COUNTIF($K$7:K4412,\"ﾘｽﾄ１\"))","v":""},"","","","","","","",{"$f":"IF(S4412=\"\",\"\",COUNTIF($S$7:S4412,\"該当２\"))","v":""},"","",{"$f":"IF(V4412=\"\",\"\",COUNTIF($V$7:V4412,\"該当３\"))","v":""}]
[2041601008,20,{"v":416,"d":"416 "},{"v":1,"d":"01 "},{"v":8,"d":"008 "},"長野県","豊丘村","神稲村","長沢",null,"","",{"$f":"IF(K4415=\"\",\"\",COUNTIF($K$7:K4415,\"ﾘｽﾄ１\"))","v":""},"","","","","","","",{"$f":"IF(S4415=\"\",\"\",COUNTIF($S$7:S4415,\"該当２\"))","v":""},"","",{"$f":"IF(V4415=\"\",\"\",COUNTIF($V$7:V4415,\"該当３\"))","v":""}]
[2041601012,20,{"v":416,"d":"416 "},{"v":1,"d":"01 "},{"v":12,"d":"012 "},"長野県","豊丘村","神稲村","上佐原",null,"","",{"$f":"IF(K4419=\"\",\"\",COUNTIF($K$7:K4419,\"ﾘｽﾄ１\"))","v":""},"","","","","","","",{"$f":"IF(S4419=\"\",\"\",COUNTIF($S$7:S4419,\"該当２\"))","v":""},"","",{"$f":"IF(V4419=\"\",\"\",COUNTIF($V$7:V4419,\"該当３\"))","v":""}]
[2041601017,20,{"v":416,"d":"416 "},{"v":1,"d":"01 "},{"v":17,"d":"017 "},"長野県","豊丘村","神稲村","上市場",null,"","",{"$f":"IF(K4424=\"\",\"\",COUNTIF($K$7:K4424,\"ﾘｽﾄ１\"))","v":""},"","","","","","","",{"$f":"IF(S4424=\"\",\"\",COUNTIF($S$7:S4424,\"該当２\"))","v":""},"","",{"$f":"IF(V4424=\"\",\"\",COUNTIF($V$7:V4424,\"該当３\"))","v":""}]
[2041601022,20,{"v":416,"d":"416 "},{"v":1,"d":"01 "},{"v":22,"d":"022 "},"長野県","豊丘村","神稲村","伴野原",null,"","",{"$f":"IF(K4429=\"\",\"\",COUNTIF($K$7:K4429,\"ﾘｽﾄ１\"))","v":""},"","","","","","","",{"$f":"IF(S4429=\"\",\"\",COUNTIF($S$7:S4429,\"該当２\"))","v":""},"","",{"$f":"IF(V4429=\"\",\"\",COUNTIF($V$7:V4429,\"該当３\"))","v":""}]
[2041601027,20,{"v":416,"d":"416 "},{"v":1,"d":"01 "},{"v":27,"d":"027 "},"長野県","豊丘村","神稲村","奥内",null,"","",{"$f":"IF(K4434=\"\",\"\",COUNTIF($K$7:K4434,\"ﾘｽﾄ１\"))","v":""},"","","","","","","",{"$f":"IF(S4434=\"\",\"\",COUNTIF($S$7:S4434,\"該当２\"))","v":""},"","",{"$f":"IF(V4434=\"\",\"\",COUNTIF($V$7:V4434,\"該当３\"))","v":""}]
[2041602000,20,{"v":416,"d":"416 "},{"v":2,"d":"02 "},{"v":0,"d":"000 "},"長野県","豊丘村","河野村",null,null,"","",{"$f":"IF(K4436=\"\",\"\",COUNTIF($K$7:K4436,\"ﾘｽﾄ１\"))","v":""},"","","","","","","",{"$f":"IF(S4436=\"\",\"\",COUNTIF($S$7:S4436,\"該当２\"))","v":""},"","",{"$f":"IF(V4436=\"\",\"\",COUNTIF($V$7:V4436,\"該当３\"))","v":""}]
[2041602007,20,{"v":416,"d":"416 "},{"v":2,"d":"02 "},{"v":7,"d":"007 "},"長野県","豊丘村","河野村","八王子",null,"","",{"$f":"IF(K4441=\"\",\"\",COUNTIF($K$7:K4441,\"ﾘｽﾄ１\"))","v":""},"","","","","","","",{"$f":"IF(S4441=\"\",\"\",COUNTIF($S$7:S4441,\"該当２\"))","v":""},"","",{"$f":"IF(V4441=\"\",\"\",COUNTIF($V$7:V4441,\"該当３\"))","v":""}]
[2041602012,20,{"v":416,"d":"416 "},{"v":2,"d":"02 "},{"v":12,"d":"012 "},"長野県","豊丘村","河野村","中芝",null,"","",{"$f":"IF(K4446=\"\",\"\",COUNTIF($K$7:K4446,\"ﾘｽﾄ１\"))","v":""},"","","","","","","",{"$f":"IF(S4446=\"\",\"\",COUNTIF($S$7:S4446,\"該当２\"))","v":""},"","",{"$f":"IF(V4446=\"\",\"\",COUNTIF($V$7:V4446,\"該当３\"))","v":""}]
[2041602013,20,{"v":416,"d":"416 "},{"v":2,"d":"02 "},{"v":13,"d":"013 "},"長野県","豊丘村","河野村","中平",null,"","",{"$f":"IF(K4447=\"\",\"\",COUNTIF($K$7:K4447,\"ﾘｽﾄ１\"))","v":""},"","","","","","","",{"$f":"IF(S4447=\"\",\"\",COUNTIF($S$7:S4447,\"該当２\"))","v":""},"","",{"$f":"IF(V4447=\"\",\"\",COUNTIF($V$7:V4447,\"該当３\"))","v":""}]
[2041602019,20,{"v":416,"d":"416 "},{"v":2,"d":"02 "},{"v":19,"d":"019 "},"長野県","豊丘村","河野村","駒沢",null,"","",{"$f":"IF(K4453=\"\",\"\",COUNTIF($K$7:K4453,\"ﾘｽﾄ１\"))","v":""},"","","","","","","",{"$f":"IF(S4453=\"\",\"\",COUNTIF($S$7:S4453,\"該当２\"))","v":""},"","",{"$f":"IF(V4453=\"\",\"\",COUNTIF($V$7:V4453,\"該当３\"))","v":""}]
[2041700002,20,{"v":417,"d":"417 "},{"v":0,"d":"00 "},{"v":2,"d":"002 "},"長野県","大鹿村","（大鹿村）","下青木",null,"","",{"$f":"IF(K4458=\"\",\"\",COUNTIF($K$7:K4458,\"ﾘｽﾄ１\"))","v":""},"同一区","","","","","","",{"$f":"IF(S4458=\"\",\"\",COUNTIF($S$7:S4458,\"該当２\"))","v":""},"","",{"$f":"IF(V4458=\"\",\"\",COUNTIF($V$7:V4458,\"該当３\"))","v":""}]
[2041700007,20,{"v":417,"d":"417 "},{"v":0,"d":"00 "},{"v":7,"d":"007 "},"長野県","大鹿村","（大鹿村）","上蔵",null,"","",{"$f":"IF(K4463=\"\",\"\",COUNTIF($K$7:K4463,\"ﾘｽﾄ１\"))","v":""},"同一区","","","","","","",{"$f":"IF(S4463=\"\",\"\",COUNTIF($S$7:S4463,\"該当２\"))","v":""},"","",{"$f":"IF(V4463=\"\",\"\",COUNTIF($V$7:V4463,\"該当３\"))","v":""}]
[2041700010,20,{"v":417,"d":"417 "},{"v":0,"d":"00 "},{"v":10,"d":"010 "},"長野県","大鹿村","（大鹿村）","下市場",null,"","",{"$f":"IF(K4466=\"\",\"\",COUNTIF($K$7:K4466,\"ﾘｽﾄ１\"))","v":""},"同一区","","","","","","",{"$f":"IF(S4466=\"\",\"\",COUNTIF($S$7:S4466,\"該当２\"))","v":""},"","",{"$f":"IF(V4466=\"\",\"\",COUNTIF($V$7:V4466,\"該当３\"))","v":""}]
[2041700014,20,{"v":417,"d":"417 "},{"v":0,"d":"00 "},{"v":14,"d":"014 "},"長野県","大鹿村","（大鹿村）","南山",null,"","",{"$f":"IF(K4470=\"\",\"\",COUNTIF($K$7:K4470,\"ﾘｽﾄ１\"))","v":""},"同一区","","","","","","",{"$f":"IF(S4470=\"\",\"\",COUNTIF($S$7:S4470,\"該当２\"))","v":""},"","",{"$f":"IF(V4470=\"\",\"\",COUNTIF($V$7:V4470,\"該当３\"))","v":""}]
[2041700019,20,{"v":417,"d":"417 "},{"v":0,"d":"00 "},{"v":19,"d":"019 "},"長野県","大鹿村","（大鹿村）","大栗",null,"","",{"$f":"IF(K4475=\"\",\"\",COUNTIF($K$7:K4475,\"ﾘｽﾄ１\"))","v":""},"同一区","","","","","","",{"$f":"IF(S4475=\"\",\"\",COUNTIF($S$7:S4475,\"該当２\"))","v":""},"","",{"$f":"IF(V4475=\"\",\"\",COUNTIF($V$7:V4475,\"該当３\"))","v":""}]
[2041700024,20,{"v":417,"d":"417 "},{"v":0,"d":"00 "},{"v":24,"d":"024 "},"長野県","大鹿村","（大鹿村）","北入",null,"","",{"$f":"IF(K4480=\"\",\"\",COUNTIF($K$7:K4480,\"ﾘｽﾄ１\"))","v":""},"同一区","","","","","","",{"$f":"IF(S4480=\"\",\"\",COUNTIF($S$7:S4480,\"該当２\"))","v":""},"","",{"$f":"IF(V4480=\"\",\"\",COUNTIF($V$7:V4480,\"該当３\"))","v":""}]
[2042200003,20,{"v":422,"d":"422 "},{"v":0,"d":"00 "},{"v":3,"d":"003 "},"長野県","上松町","（上松町）","東里",null,"","",{"$f":"IF(K4484=\"\",\"\",COUNTIF($K$7:K4484,\"ﾘｽﾄ１\"))","v":""},"同一区","","","","","","",{"$f":"IF(S4484=\"\",\"\",COUNTIF($S$7:S4484,\"該当２\"))","v":""},"","",{"$f":"IF(V4484=\"\",\"\",COUNTIF($V$7:V4484,\"該当３\"))","v":""}]
[2042200006,20,{"v":422,"d":"422 "},{"v":0,"d":"00 "},{"v":6,"d":"006 "},"長野県","上松町","（上松町）","島",null,"","",{"$f":"IF(K4487=\"\",\"\",COUNTIF($K$7:K4487,\"ﾘｽﾄ１\"))","v":""},"同一区","","","","","","",{"$f":"IF(S4487=\"\",\"\",COUNTIF($S$7:S4487,\"該当２\"))","v":""},"","",{"$f":"IF(V4487=\"\",\"\",COUNTIF($V$7:V4487,\"該当３\"))","v":""}]
[2042200011,20,{"v":422,"d":"422 "},{"v":0,"d":"00 "},{"v":11,"d":"011 "},"長野県","上松町","（上松町）","吉野",null,"","",{"$f":"IF(K4492=\"\",\"\",COUNTIF($K$7:K4492,\"ﾘｽﾄ１\"))","v":""},"同一区","","","","","","",{"$f":"IF(S4492=\"\",\"\",COUNTIF($S$7:S4492,\"該当２\"))","v":""},"","",{"$f":"IF(V4492=\"\",\"\",COUNTIF($V$7:V4492,\"該当３\"))","v":""}]
[2042200016,20,{"v":422,"d":"422 "},{"v":0,"d":"00 "},{"v":16,"d":"016 "},"長野県","上松町","（上松町）","町北",null,"","",{"$f":"IF(K4497=\"\",\"\",COUNTIF($K$7:K4497,\"ﾘｽﾄ１\"))","v":""},"同一区","","","","","","",{"$f":"IF(S4497=\"\",\"\",COUNTIF($S$7:S4497,\"該当２\"))","v":""},"","",{"$f":"IF(V4497=\"\",\"\",COUNTIF($V$7:V4497,\"該当３\"))","v":""}]
[2042200017,20,{"v":422,"d":"422 "},{"v":0,"d":"00 "},{"v":17,"d":"017 "},"長野県","上松町","（上松町）","町南",null,"","",{"$f":"IF(K4498=\"\",\"\",COUNTIF($K$7:K4498,\"ﾘｽﾄ１\"))","v":""},"同一区","","","","","","",{"$f":"IF(S4498=\"\",\"\",COUNTIF($S$7:S4498,\"該当２\"))","v":""},"","",{"$f":"IF(V4498=\"\",\"\",COUNTIF($V$7:V4498,\"該当３\"))","v":""}]
[2042301004,20,{"v":423,"d":"423 "},{"v":1,"d":"01 "},{"v":4,"d":"004 "},"長野県","南木曽町","読書村","十二兼",null,"","",{"$f":"IF(K4504=\"\",\"\",COUNTIF($K$7:K4504,\"ﾘｽﾄ１\"))","v":""},"","","","","","","",{"$f":"IF(S4504=\"\",\"\",COUNTIF($S$7:S4504,\"該当２\"))","v":""},"","",{"$f":"IF(V4504=\"\",\"\",COUNTIF($V$7:V4504,\"該当３\"))","v":""}]
[2042301009,20,{"v":423,"d":"423 "},{"v":1,"d":"01 "},{"v":9,"d":"009 "},"長野県","南木曽町","読書村","新町（町組）",null,"","",{"$f":"IF(K4509=\"\",\"\",COUNTIF($K$7:K4509,\"ﾘｽﾄ１\"))","v":""},"","","","","","","",{"$f":"IF(S4509=\"\",\"\",COUNTIF($S$7:S4509,\"該当２\"))","v":""},"","",{"$f":"IF(V4509=\"\",\"\",COUNTIF($V$7:V4509,\"該当３\"))","v":""}]
[2042302000,20,{"v":423,"d":"423 "},{"v":2,"d":"02 "},{"v":0,"d":"000 "},"長野県","南木曽町","吾妻村",null,null,"","",{"$f":"IF(K4514=\"\",\"\",COUNTIF($K$7:K4514,\"ﾘｽﾄ１\"))","v":""},"","","","","","","",{"$f":"IF(S4514=\"\",\"\",COUNTIF($S$7:S4514,\"該当２\"))","v":""},"","",{"$f":"IF(V4514=\"\",\"\",COUNTIF($V$7:V4514,\"該当３\"))","v":""}]
[2042302002,20,{"v":423,"d":"423 "},{"v":2,"d":"02 "},{"v":2,"d":"002 "},"長野県","南木曽町","吾妻村","恋野下町中町",null,"","",{"$f":"IF(K4516=\"\",\"\",COUNTIF($K$7:K4516,\"ﾘｽﾄ１\"))","v":""},"","","","","","","",{"$f":"IF(S4516=\"\",\"\",COUNTIF($S$7:S4516,\"該当２\"))","v":""},"","",{"$f":"IF(V4516=\"\",\"\",COUNTIF($V$7:V4516,\"該当３\"))","v":""}]
[2042302007,20,{"v":423,"d":"423 "},{"v":2,"d":"02 "},{"v":7,"d":"007 "},"長野県","南木曽町","吾妻村","尾越",null,"","",{"$f":"IF(K4521=\"\",\"\",COUNTIF($K$7:K4521,\"ﾘｽﾄ１\"))","v":""},"","","","","","","",{"$f":"IF(S4521=\"\",\"\",COUNTIF($S$7:S4521,\"該当２\"))","v":""},"","",{"$f":"IF(V4521=\"\",\"\",COUNTIF($V$7:V4521,\"該当３\"))","v":""}]
[2042302012,20,{"v":423,"d":"423 "},{"v":2,"d":"02 "},{"v":12,"d":"012 "},"長野県","南木曽町","吾妻村","本町，元町",null,"","",{"$f":"IF(K4526=\"\",\"\",COUNTIF($K$7:K4526,\"ﾘｽﾄ１\"))","v":""},"","","","","","","",{"$f":"IF(S4526=\"\",\"\",COUNTIF($S$7:S4526,\"該当２\"))","v":""},"","",{"$f":"IF(V4526=\"\",\"\",COUNTIF($V$7:V4526,\"該当３\"))","v":""}]
[2042303000,20,{"v":423,"d":"423 "},{"v":3,"d":"03 "},{"v":0,"d":"000 "},"長野県","南木曽町","田立村",null,null,"","",{"$f":"IF(K4531=\"\",\"\",COUNTIF($K$7:K4531,\"ﾘｽﾄ１\"))","v":""},"","","","","","","",{"$f":"IF(S4531=\"\",\"\",COUNTIF($S$7:S4531,\"該当２\"))","v":""},"","",{"$f":"IF(V4531=\"\",\"\",COUNTIF($V$7:V4531,\"該当３\"))","v":""}]
[2042303004,20,{"v":423,"d":"423 "},{"v":3,"d":"03 "},{"v":4,"d":"004 "},"長野県","南木曽町","田立村","下切",null,"",{"$f":"IF(K4535=\"ﾘｽﾄ１\",G4535,\"\")","v":""},{"$f":"IF(K4535=\"\",\"\",COUNTIF($K$7:K4535,\"ﾘｽﾄ１\"))","v":""},{"$f":"IF(AND(D4535=0,E4535>0),\"同一区\",\"\")","v":""},{"$f":"IF(AND(EXACT($K$2,G4535),H4535>0),\"該当１\",\"\")","v":""},{"$f":"IF(O4535=\"該当１\",G4535,\"\")","v":""},{"$f":"IF(O4535=\"該当１\",\"ﾘｽﾄ2\",\"\")","v":""},{"$f":"IF(Q4535=\"ﾘｽﾄ2\",H4535,\"\")","v":""},{"$f":"IF(AND(Q4535=\"ﾘｽﾄ2\",OR(I4535=0,AND(N4535=\"同一区\",E4535=1))),\"該当２\",\"\")","v":""},{"$f":"IF(S4535=\"該当２\",H4535,\"\")","v":""},{"$f":"IF(S4535=\"\",\"\",COUNTIF($S$7:S4535,\"該当２\"))","v":""},{"$f":"IF(AND($S$2=H4535,E4535>0,E4535<998),\"該当３\",\"\")","v":""},{"$f":"IF(V4535=\"該当３\",I4535,\"\")","v":""},{"$f":"IF(V4535=\"\",\"\",COUNTIF($V$7:V4535,\"該当３\"))","v":""}]
[2042500000,20,{"v":425,"d":"425 "},{"v":0,"d":"00 "},{"v":0,"d":"000 "},"長野県","木祖村",{"$nulls":3},"ﾘｽﾄ１","木祖村",{"$f":"IF(K4538=\"\",\"\",COUNTIF($K$7:K4538,\"ﾘｽﾄ１\"))","v":55},"","","","","","","",{"$f":"IF(S4538=\"\",\"\",COUNTIF($S$7:S4538,\"該当２\"))","v":""},"","",{"$f":"IF(V4538=\"\",\"\",COUNTIF($V$7:V4538,\"該当３\"))","v":""}]
[2042500005,20,{"v":425,"d":"425 "},{"v":0,"d":"00 "},{"v":5,"d":"005 "},"長野県","木祖村","（木祖村）","５区",null,"","",{"$f":"IF(K4543=\"\",\"\",COUNTIF($K$7:K4543,\"ﾘｽﾄ１\"))","v":""},"同一区","","","","","","",{"$f":"IF(S4543=\"\",\"\",COUNTIF($S$7:S4543,\"該当２\"))","v":""},"","",{"$f":"IF(V4543=\"\",\"\",COUNTIF($V$7:V4543,\"該当３\"))","v":""}]
[2042500010,20,{"v":425,"d":"425 "},{"v":0,"d":"00 "},{"v":10,"d":"010 "},"長野県","木祖村","（木祖村）","１０区",null,"","",{"$f":"IF(K4548=\"\",\"\",COUNTIF($K$7:K4548,\"ﾘｽﾄ１\"))","v":""},"同一区","","","","","","",{"$f":"IF(S4548=\"\",\"\",COUNTIF($S$7:S4548,\"該当２\"))","v":""},"","",{"$f":"IF(V4548=\"\",\"\",COUNTIF($V$7:V4548,\"該当３\"))","v":""}]
[2042500015,20,{"v":425,"d":"425 "},{"v":0,"d":"00 "},{"v":15,"d":"015 "},"長野県","木祖村","（木祖村）","１５区",null,"","",{"$f":"IF(K4553=\"\",\"\",COUNTIF($K$7:K4553,\"ﾘｽﾄ１\"))","v":""},"同一区","","","","","","",{"$f":"IF(S4553=\"\",\"\",COUNTIF($S$7:S4553,\"該当２\"))","v":""},"","",{"$f":"IF(V4553=\"\",\"\",COUNTIF($V$7:V4553,\"該当３\"))","v":""}]
[2042500017,20,{"v":425,"d":"425 "},{"v":0,"d":"00 "},{"v":17,"d":"017 "},"長野県","木祖村","（木祖村）","１７区",null,{"$f":"IF(AND($C4555>0,$H4555=\"\"),\"ﾘｽﾄ１\",\"\")","v":""},"",{"$f":"IF(K4555=\"\",\"\",COUNTIF($K$7:K4555,\"ﾘｽﾄ１\"))","v":""},"同一区","","","","","","",{"$f":"IF(S4555=\"\",\"\",COUNTIF($S$7:S4555,\"該当２\"))","v":""},"","",{"$f":"IF(V4555=\"\",\"\",COUNTIF($V$7:V4555,\"該当３\"))","v":""}]
[2042900002,20,{"v":429,"d":"429 "},{"v":0,"d":"00 "},{"v":2,"d":"002 "},"長野県","王滝村","（王滝村）","鞍馬",null,"","",{"$f":"IF(K4560=\"\",\"\",COUNTIF($K$7:K4560,\"ﾘｽﾄ１\"))","v":""},"同一区","","","","","","",{"$f":"IF(S4560=\"\",\"\",COUNTIF($S$7:S4560,\"該当２\"))","v":""},"","",{"$f":"IF(V4560=\"\",\"\",COUNTIF($V$7:V4560,\"該当３\"))","v":""}]
[2042900007,20,{"v":429,"d":"429 "},{"v":0,"d":"00 "},{"v":7,"d":"007 "},"長野県","王滝村","（王滝村）","九蔵",null,"","",{"$f":"IF(K4565=\"\",\"\",COUNTIF($K$7:K4565,\"ﾘｽﾄ１\"))","v":""},"同一区","","","","","","",{"$f":"IF(S4565=\"\",\"\",COUNTIF($S$7:S4565,\"該当２\"))","v":""},"","",{"$f":"IF(V4565=\"\",\"\",COUNTIF($V$7:V4565,\"該当３\"))","v":""}]
[2042900009,20,{"v":429,"d":"429 "},{"v":0,"d":"00 "},{"v":9,"d":"009 "},"長野県","王滝村","（王滝村）","滝越",null,"","",{"$f":"IF(K4567=\"\",\"\",COUNTIF($K$7:K4567,\"ﾘｽﾄ１\"))","v":""},"同一区","","","","","","",{"$f":"IF(S4567=\"\",\"\",COUNTIF($S$7:S4567,\"該当２\"))","v":""},"","",{"$f":"IF(V4567=\"\",\"\",COUNTIF($V$7:V4567,\"該当３\"))","v":""}]
[2043000004,20,{"v":430,"d":"430 "},{"v":0,"d":"00 "},{"v":4,"d":"004 "},"長野県","大桑村","（大桑村）","伊奈川",null,"","",{"$f":"IF(K4572=\"\",\"\",COUNTIF($K$7:K4572,\"ﾘｽﾄ１\"))","v":""},"同一区","","","","","","",{"$f":"IF(S4572=\"\",\"\",COUNTIF($S$7:S4572,\"該当２\"))","v":""},"","",{"$f":"IF(V4572=\"\",\"\",COUNTIF($V$7:V4572,\"該当３\"))","v":""}]
[2043000009,20,{"v":430,"d":"430 "},{"v":0,"d":"00 "},{"v":9,"d":"009 "},"長野県","大桑村","（大桑村）","野尻",null,"","",{"$f":"IF(K4577=\"\",\"\",COUNTIF($K$7:K4577,\"ﾘｽﾄ１\"))","v":""},"同一区","","","","","","",{"$f":"IF(S4577=\"\",\"\",COUNTIF($S$7:S4577,\"該当２\"))","v":""},"","",{"$f":"IF(V4577=\"\",\"\",COUNTIF($V$7:V4577,\"該当３\"))","v":""}]
[2043201000,20,{"v":432,"d":"432 "},{"v":1,"d":"01 "},{"v":0,"d":"000 "},"長野県","木曽町","福島町",null,null,"","",{"$f":"IF(K4582=\"\",\"\",COUNTIF($K$7:K4582,\"ﾘｽﾄ１\"))","v":""},"","","","","","","",{"$f":"IF(S4582=\"\",\"\",COUNTIF($S$7:S4582,\"該当２\"))","v":""},"","",{"$f":"IF(V4582=\"\",\"\",COUNTIF($V$7:V4582,\"該当３\"))","v":""}]
[2043201003,20,{"v":432,"d":"432 "},{"v":1,"d":"01 "},{"v":3,"d":"003 "},"長野県","木曽町","福島町","上中沢，下中沢",null,"","",{"$f":"IF(K4585=\"\",\"\",COUNTIF($K$7:K4585,\"ﾘｽﾄ１\"))","v":""},"","","","","","","",{"$f":"IF(S4585=\"\",\"\",COUNTIF($S$7:S4585,\"該当２\"))","v":""},"","",{"$f":"IF(V4585=\"\",\"\",COUNTIF($V$7:V4585,\"該当３\"))","v":""}]
[2043201007,20,{"v":432,"d":"432 "},{"v":1,"d":"01 "},{"v":7,"d":"007 "},"長野県","木曽町","福島町","中平，沼田野",null,"","",{"$f":"IF(K4589=\"\",\"\",COUNTIF($K$7:K4589,\"ﾘｽﾄ１\"))","v":""},"","","","","","","",{"$f":"IF(S4589=\"\",\"\",COUNTIF($S$7:S4589,\"該当２\"))","v":""},"","",{"$f":"IF(V4589=\"\",\"\",COUNTIF($V$7:V4589,\"該当３\"))","v":""}]
[2043201012,20,{"v":432,"d":"432 "},{"v":1,"d":"01 "},{"v":12,"d":"012 "},"長野県","木曽町","福島町","正沢，川上",null,"","",{"$f":"IF(K4594=\"\",\"\",COUNTIF($K$7:K4594,\"ﾘｽﾄ１\"))","v":""},"","","","","","","",{"$f":"IF(S4594=\"\",\"\",COUNTIF($S$7:S4594,\"該当２\"))","v":""},"","",{"$f":"IF(V4594=\"\",\"\",COUNTIF($V$7:V4594,\"該当３\"))","v":""}]
[2043202003,20,{"v":432,"d":"432 "},{"v":2,"d":"02 "},{"v":3,"d":"003 "},"長野県","木曽町","新開村","中部",null,"",{"$f":"IF(K4599=\"ﾘｽﾄ１\",G4599,\"\")","v":""},{"$f":"IF(K4599=\"\",\"\",COUNTIF($K$7:K4599,\"ﾘｽﾄ１\"))","v":""},{"$f":"IF(AND(D4599=0,E4599>0),\"同一区\",\"\")","v":""},{"$f":"IF(AND(EXACT($K$2,G4599),H4599>0),\"該当１\",\"\")","v":""},{"$f":"IF(O4599=\"該当１\",G4599,\"\")","v":""},{"$f":"IF(O4599=\"該当１\",\"ﾘｽﾄ2\",\"\")","v":""},{"$f":"IF(Q4599=\"ﾘｽﾄ2\",H4599,\"\")","v":""},{"$f":"IF(AND(Q4599=\"ﾘｽﾄ2\",OR(I4599=0,AND(N4599=\"同一区\",E4599=1))),\"該当２\",\"\")","v":""},{"$f":"IF(S4599=\"該当２\",H4599,\"\")","v":""},{"$f":"IF(S4599=\"\",\"\",COUNTIF($S$7:S4599,\"該当２\"))","v":""},{"$f":"IF(AND($S$2=H4599,E4599>0,E4599<998),\"該当３\",\"\")","v":""},{"$f":"IF(V4599=\"該当３\",I4599,\"\")","v":""},{"$f":"IF(V4599=\"\",\"\",COUNTIF($V$7:V4599,\"該当３\"))","v":""}]
[2043202008,20,{"v":432,"d":"432 "},{"v":2,"d":"02 "},{"v":8,"d":"008 "},"長野県","木曽町","新開村","西洞",null,"","",{"$f":"IF(K4604=\"\",\"\",COUNTIF($K$7:K4604,\"ﾘｽﾄ１\"))","v":""},"","","","","","","",{"$f":"IF(S4604=\"\",\"\",COUNTIF($S$7:S4604,\"該当２\"))","v":""},"","",{"$f":"IF(V4604=\"\",\"\",COUNTIF($V$7:V4604,\"該当３\"))","v":""}]
[2043202010,20,{"v":432,"d":"432 "},{"v":2,"d":"02 "},{"v":10,"d":"010 "},"長野県","木曽町","新開村","上中入",null,"","",{"$f":"IF(K4606=\"\",\"\",COUNTIF($K$7:K4606,\"ﾘｽﾄ１\"))","v":""},"","","","","","","",{"$f":"IF(S4606=\"\",\"\",COUNTIF($S$7:S4606,\"該当２\"))","v":""},"","",{"$f":"IF(V4606=\"\",\"\",COUNTIF($V$7:V4606,\"該当３\"))","v":""}]
[2043203003,20,{"v":432,"d":"432 "},{"v":3,"d":"03 "},{"v":3,"d":"003 "},"長野県","木曽町","日義村","野上",null,"","",{"$f":"IF(K4611=\"\",\"\",COUNTIF($K$7:K4611,\"ﾘｽﾄ１\"))","v":""},"","","","","","","",{"$f":"IF(S4611=\"\",\"\",COUNTIF($S$7:S4611,\"該当２\"))","v":""},"","",{"$f":"IF(V4611=\"\",\"\",COUNTIF($V$7:V4611,\"該当３\"))","v":""}]
[2043203008,20,{"v":432,"d":"432 "},{"v":3,"d":"03 "},{"v":8,"d":"008 "},"長野県","木曽町","日義村","宮ノ越下町",null,"","",{"$f":"IF(K4616=\"\",\"\",COUNTIF($K$7:K4616,\"ﾘｽﾄ１\"))","v":""},"","","","","","","",{"$f":"IF(S4616=\"\",\"\",COUNTIF($S$7:S4616,\"該当２\"))","v":""},"","",{"$f":"IF(V4616=\"\",\"\",COUNTIF($V$7:V4616,\"該当３\"))","v":""}]
[2043203010,20,{"v":432,"d":"432 "},{"v":3,"d":"03 "},{"v":10,"d":"010 "},"長野県","木曽町","日義村","長渡，三沢，松沢",null,"","",{"$f":"IF(K4618=\"\",\"\",COUNTIF($K$7:K4618,\"ﾘｽﾄ１\"))","v":""},"","","","","","","",{"$f":"IF(S4618=\"\",\"\",COUNTIF($S$7:S4618,\"該当２\"))","v":""},"","",{"$f":"IF(V4618=\"\",\"\",COUNTIF($V$7:V4618,\"該当３\"))","v":""}]
[2043203015,20,{"v":432,"d":"432 "},{"v":3,"d":"03 "},{"v":15,"d":"015 "},"長野県","木曽町","日義村","新地，渡沢",null,"","",{"$f":"IF(K4623=\"\",\"\",COUNTIF($K$7:K4623,\"ﾘｽﾄ１\"))","v":""},"","","","","","","",{"$f":"IF(S4623=\"\",\"\",COUNTIF($S$7:S4623,\"該当２\"))","v":""},"","",{"$f":"IF(V4623=\"\",\"\",COUNTIF($V$7:V4623,\"該当３\"))","v":""}]
[2043204004,20,{"v":432,"d":"432 "},{"v":4,"d":"04 "},{"v":4,"d":"004 "},"長野県","木曽町","開田村","藤沢",null,"","",{"$f":"IF(K4628=\"\",\"\",COUNTIF($K$7:K4628,\"ﾘｽﾄ１\"))","v":""},"","","","","","","",{"$f":"IF(S4628=\"\",\"\",COUNTIF($S$7:S4628,\"該当２\"))","v":""},"","",{"$f":"IF(V4628=\"\",\"\",COUNTIF($V$7:V4628,\"該当３\"))","v":""}]
[2043204009,20,{"v":432,"d":"432 "},{"v":4,"d":"04 "},{"v":9,"d":"009 "},"長野県","木曽町","開田村","管沢",null,"","",{"$f":"IF(K4633=\"\",\"\",COUNTIF($K$7:K4633,\"ﾘｽﾄ１\"))","v":""},"","","","","","","",{"$f":"IF(S4633=\"\",\"\",COUNTIF($S$7:S4633,\"該当２\"))","v":""},"","",{"$f":"IF(V4633=\"\",\"\",COUNTIF($V$7:V4633,\"該当３\"))","v":""}]
[2043204012,20,{"v":432,"d":"432 "},{"v":4,"d":"04 "},{"v":12,"d":"012 "},"長野県","木曽町","開田村","馬橋",null,"","",{"$f":"IF(K4636=\"\",\"\",COUNTIF($K$7:K4636,\"ﾘｽﾄ１\"))","v":""},"","","","","","","",{"$f":"IF(S4636=\"\",\"\",COUNTIF($S$7:S4636,\"該当２\"))","v":""},"","",{"$f":"IF(V4636=\"\",\"\",COUNTIF($V$7:V4636,\"該当３\"))","v":""}]
[2043204016,20,{"v":432,"d":"432 "},{"v":4,"d":"04 "},{"v":16,"d":"016 "},"長野県","木曽町","開田村","小野原",null,"","",{"$f":"IF(K4640=\"\",\"\",COUNTIF($K$7:K4640,\"ﾘｽﾄ１\"))","v":""},"","","","","","","",{"$f":"IF(S4640=\"\",\"\",COUNTIF($S$7:S4640,\"該当２\"))","v":""},"","",{"$f":"IF(V4640=\"\",\"\",COUNTIF($V$7:V4640,\"該当３\"))","v":""}]
[2043205004,20,{"v":432,"d":"432 "},{"v":5,"d":"05 "},{"v":4,"d":"004 "},"長野県","木曽町","三岳村","井原",null,"","",{"$f":"IF(K4645=\"\",\"\",COUNTIF($K$7:K4645,\"ﾘｽﾄ１\"))","v":""},"","","","","","","",{"$f":"IF(S4645=\"\",\"\",COUNTIF($S$7:S4645,\"該当２\"))","v":""},"","",{"$f":"IF(V4645=\"\",\"\",COUNTIF($V$7:V4645,\"該当３\"))","v":""}]
[2043205009,20,{"v":432,"d":"432 "},{"v":5,"d":"05 "},{"v":9,"d":"009 "},"長野県","木曽町","三岳村","屋敷野",null,"","",{"$f":"IF(K4650=\"\",\"\",COUNTIF($K$7:K4650,\"ﾘｽﾄ１\"))","v":""},"","","","","","","",{"$f":"IF(S4650=\"\",\"\",COUNTIF($S$7:S4650,\"該当２\"))","v":""},"","",{"$f":"IF(V4650=\"\",\"\",COUNTIF($V$7:V4650,\"該当３\"))","v":""}]
[2043205014,20,{"v":432,"d":"432 "},{"v":5,"d":"05 "},{"v":14,"d":"014 "},"長野県","木曽町","三岳村","薮原，大島，田中，栩山",null,"","",{"$f":"IF(K4655=\"\",\"\",COUNTIF($K$7:K4655,\"ﾘｽﾄ１\"))","v":""},"","","","","","","",{"$f":"IF(S4655=\"\",\"\",COUNTIF($S$7:S4655,\"該当２\"))","v":""},"","",{"$f":"IF(V4655=\"\",\"\",COUNTIF($V$7:V4655,\"該当３\"))","v":""}]
[2043205016,20,{"v":432,"d":"432 "},{"v":5,"d":"05 "},{"v":16,"d":"016 "},"長野県","木曽町","三岳村","日向",null,"","",{"$f":"IF(K4657=\"\",\"\",COUNTIF($K$7:K4657,\"ﾘｽﾄ１\"))","v":""},"","","","","","","",{"$f":"IF(S4657=\"\",\"\",COUNTIF($S$7:S4657,\"該当２\"))","v":""},"","",{"$f":"IF(V4657=\"\",\"\",COUNTIF($V$7:V4657,\"該当３\"))","v":""}]
[2044601001,20,{"v":446,"d":"446 "},{"v":1,"d":"01 "},{"v":1,"d":"001 "},"長野県","麻績村","麻績村（旧）","坊平",null,"","",{"$f":"IF(K4662=\"\",\"\",COUNTIF($K$7:K4662,\"ﾘｽﾄ１\"))","v":""},"","","","","","","",{"$f":"IF(S4662=\"\",\"\",COUNTIF($S$7:S4662,\"該当２\"))","v":""},"","",{"$f":"IF(V4662=\"\",\"\",COUNTIF($V$7:V4662,\"該当３\"))","v":""}]
[2044601006,20,{"v":446,"d":"446 "},{"v":1,"d":"01 "},{"v":6,"d":"006 "},"長野県","麻績村","麻績村（旧）","宮本",null,"","",{"$f":"IF(K4667=\"\",\"\",COUNTIF($K$7:K4667,\"ﾘｽﾄ１\"))","v":""},"","","","","","","",{"$f":"IF(S4667=\"\",\"\",COUNTIF($S$7:S4667,\"該当２\"))","v":""},"","",{"$f":"IF(V4667=\"\",\"\",COUNTIF($V$7:V4667,\"該当３\"))","v":""}]
[2044601007,20,{"v":446,"d":"446 "},{"v":1,"d":"01 "},{"v":7,"d":"007 "},"長野県","麻績村","麻績村（旧）","本町",null,"","",{"$f":"IF(K4668=\"\",\"\",COUNTIF($K$7:K4668,\"ﾘｽﾄ１\"))","v":""},"","","","","","","",{"$f":"IF(S4668=\"\",\"\",COUNTIF($S$7:S4668,\"該当２\"))","v":""},"","",{"$f":"IF(V4668=\"\",\"\",COUNTIF($V$7:V4668,\"該当３\"))","v":""}]
[2044601013,20,{"v":446,"d":"446 "},{"v":1,"d":"01 "},{"v":13,"d":"013 "},"長野県","麻績村","麻績村（旧）","叶里，高畑",null,"","",{"$f":"IF(K4674=\"\",\"\",COUNTIF($K$7:K4674,\"ﾘｽﾄ１\"))","v":""},"","","","","","","",{"$f":"IF(S4674=\"\",\"\",COUNTIF($S$7:S4674,\"該当２\"))","v":""},"","",{"$f":"IF(V4674=\"\",\"\",COUNTIF($V$7:V4674,\"該当３\"))","v":""}]
[2044602000,20,{"v":446,"d":"446 "},{"v":2,"d":"02 "},{"v":0,"d":"000 "},"長野県","麻績村","日向村",null,null,"","",{"$f":"IF(K4679=\"\",\"\",COUNTIF($K$7:K4679,\"ﾘｽﾄ１\"))","v":""},"","","","","","","",{"$f":"IF(S4679=\"\",\"\",COUNTIF($S$7:S4679,\"該当２\"))","v":""},"","",{"$f":"IF(V4679=\"\",\"\",COUNTIF($V$7:V4679,\"該当３\"))","v":""}]
[2044602005,20,{"v":446,"d":"446 "},{"v":2,"d":"02 "},{"v":5,"d":"005 "},"長野県","麻績村","日向村","横辻，中沢，菅ノ沢",null,"","",{"$f":"IF(K4684=\"\",\"\",COUNTIF($K$7:K4684,\"ﾘｽﾄ１\"))","v":""},"","","","","","","",{"$f":"IF(S4684=\"\",\"\",COUNTIF($S$7:S4684,\"該当２\"))","v":""},"","",{"$f":"IF(V4684=\"\",\"\",COUNTIF($V$7:V4684,\"該当３\"))","v":""}]
[2044602008,20,{"v":446,"d":"446 "},{"v":2,"d":"02 "},{"v":8,"d":"008 "},"長野県","麻績村","日向村","和合",null,"","",{"$f":"IF(K4687=\"\",\"\",COUNTIF($K$7:K4687,\"ﾘｽﾄ１\"))","v":""},"","","","","","","",{"$f":"IF(S4687=\"\",\"\",COUNTIF($S$7:S4687,\"該当２\"))","v":""},"","",{"$f":"IF(V4687=\"\",\"\",COUNTIF($V$7:V4687,\"該当３\"))","v":""}]
[2044602012,20,{"v":446,"d":"446 "},{"v":2,"d":"02 "},{"v":12,"d":"012 "},"長野県","麻績村","日向村","山寺",null,"","",{"$f":"IF(K4691=\"\",\"\",COUNTIF($K$7:K4691,\"ﾘｽﾄ１\"))","v":""},"","","","","","","",{"$f":"IF(S4691=\"\",\"\",COUNTIF($S$7:S4691,\"該当２\"))","v":""},"","",{"$f":"IF(V4691=\"\",\"\",COUNTIF($V$7:V4691,\"該当３\"))","v":""}]
[2044800000,20,{"v":448,"d":"448 "},{"v":0,"d":"00 "},{"v":0,"d":"000 "},"長野県","生坂村",{"$nulls":3},"ﾘｽﾄ１","生坂村",{"$f":"IF(K4696=\"\",\"\",COUNTIF($K$7:K4696,\"ﾘｽﾄ１\"))","v":60},"","","","","","","",{"$f":"IF(S4696=\"\",\"\",COUNTIF($S$7:S4696,\"該当２\"))","v":""},"","",{"$f":"IF(V4696=\"\",\"\",COUNTIF($V$7:V4696,\"該当３\"))","v":""}]
[2044801004,20,{"v":448,"d":"448 "},{"v":1,"d":"01 "},{"v":4,"d":"004 "},"長野県","生坂村","生坂村（旧）","高松",null,"","",{"$f":"IF(K4701=\"\",\"\",COUNTIF($K$7:K4701,\"ﾘｽﾄ１\"))","v":""},"","","","","","","",{"$f":"IF(S4701=\"\",\"\",COUNTIF($S$7:S4701,\"該当２\"))","v":""},"","",{"$f":"IF(V4701=\"\",\"\",COUNTIF($V$7:V4701,\"該当３\"))","v":""}]
[2044801008,20,{"v":448,"d":"448 "},{"v":1,"d":"01 "},{"v":8,"d":"008 "},"長野県","生坂村","生坂村（旧）","小舟",null,"","",{"$f":"IF(K4705=\"\",\"\",COUNTIF($K$7:K4705,\"ﾘｽﾄ１\"))","v":""},"","","","","","","",{"$f":"IF(S4705=\"\",\"\",COUNTIF($S$7:S4705,\"該当２\"))","v":""},"","",{"$f":"IF(V4705=\"\",\"\",COUNTIF($V$7:V4705,\"該当３\"))","v":""}]
[2044801011,20,{"v":448,"d":"448 "},{"v":1,"d":"01 "},{"v":11,"d":"011 "},"長野県","生坂村","生坂村（旧）","木竹",null,"","",{"$f":"IF(K4708=\"\",\"\",COUNTIF($K$7:K4708,\"ﾘｽﾄ１\"))","v":""},"","","","","","","",{"$f":"IF(S4708=\"\",\"\",COUNTIF($S$7:S4708,\"該当２\"))","v":""},"","",{"$f":"IF(V4708=\"\",\"\",COUNTIF($V$7:V4708,\"該当３\"))","v":""}]
[2044801016,20,{"v":448,"d":"448 "},{"v":1,"d":"01 "},{"v":16,"d":"016 "},"長野県","生坂村","生坂村（旧）","入山",null,"","",{"$f":"IF(K4713=\"\",\"\",COUNTIF($K$7:K4713,\"ﾘｽﾄ１\"))","v":""},"","","","","","","",{"$f":"IF(S4713=\"\",\"\",COUNTIF($S$7:S4713,\"該当２\"))","v":""},"","",{"$f":"IF(V4713=\"\",\"\",COUNTIF($V$7:V4713,\"該当３\"))","v":""}]
[2044802004,20,{"v":448,"d":"448 "},{"v":2,"d":"02 "},{"v":4,"d":"004 "},"長野県","生坂村","陸郷村３－２","牛沢",null,"","",{"$f":"IF(K4718=\"\",\"\",COUNTIF($K$7:K4718,\"ﾘｽﾄ１\"))","v":""},"","","","","","","",{"$f":"IF(S4718=\"\",\"\",COUNTIF($S$7:S4718,\"該当２\"))","v":""},"","",{"$f":"IF(V4718=\"\",\"\",COUNTIF($V$7:V4718,\"該当３\"))","v":""}]
[2044802005,20,{"v":448,"d":"448 "},{"v":2,"d":"02 "},{"v":5,"d":"005 "},"長野県","生坂村","陸郷村３－２","袖山",null,"","",{"$f":"IF(K4719=\"\",\"\",COUNTIF($K$7:K4719,\"ﾘｽﾄ１\"))","v":""},"","","","","","","",{"$f":"IF(S4719=\"\",\"\",COUNTIF($S$7:S4719,\"該当２\"))","v":""},"","",{"$f":"IF(V4719=\"\",\"\",COUNTIF($V$7:V4719,\"該当３\"))","v":""}]
[2044803003,20,{"v":448,"d":"448 "},{"v":3,"d":"03 "},{"v":3,"d":"003 "},"長野県","生坂村","広津村３－１","長谷久保",null,"","",{"$f":"IF(K4725=\"\",\"\",COUNTIF($K$7:K4725,\"ﾘｽﾄ１\"))","v":""},"","","","","","","",{"$f":"IF(S4725=\"\",\"\",COUNTIF($S$7:S4725,\"該当２\"))","v":""},"","",{"$f":"IF(V4725=\"\",\"\",COUNTIF($V$7:V4725,\"該当３\"))","v":""}]
[2044803008,20,{"v":448,"d":"448 "},{"v":3,"d":"03 "},{"v":8,"d":"008 "},"長野県","生坂村","広津村３－１","本村太郎",null,"","",{"$f":"IF(K4730=\"\",\"\",COUNTIF($K$7:K4730,\"ﾘｽﾄ１\"))","v":""},"","","","","","","",{"$f":"IF(S4730=\"\",\"\",COUNTIF($S$7:S4730,\"該当２\"))","v":""},"","",{"$f":"IF(V4730=\"\",\"\",COUNTIF($V$7:V4730,\"該当３\"))","v":""}]
[2045000000,20,{"v":450,"d":"450 "},{"v":0,"d":"00 "},{"v":0,"d":"000 "},"長野県","山形村",{"$nulls":3},"ﾘｽﾄ１","山形村",{"$f":"IF(K4735=\"\",\"\",COUNTIF($K$7:K4735,\"ﾘｽﾄ１\"))","v":61},"","","","","","","",{"$f":"IF(S4735=\"\",\"\",COUNTIF($S$7:S4735,\"該当２\"))","v":""},"","",{"$f":"IF(V4735=\"\",\"\",COUNTIF($V$7:V4735,\"該当３\"))","v":""}]
[2045000002,20,{"v":450,"d":"450 "},{"v":0,"d":"00 "},{"v":2,"d":"002 "},"長野県","山形村","（山形村）","中大池",null,"","",{"$f":"IF(K4737=\"\",\"\",COUNTIF($K$7:K4737,\"ﾘｽﾄ１\"))","v":""},"同一区","","","","","","",{"$f":"IF(S4737=\"\",\"\",COUNTIF($S$7:S4737,\"該当２\"))","v":""},"","",{"$f":"IF(V4737=\"\",\"\",COUNTIF($V$7:V4737,\"該当３\"))","v":""}]
[2045000007,20,{"v":450,"d":"450 "},{"v":0,"d":"00 "},{"v":7,"d":"007 "},"長野県","山形村","（山形村）","下竹田",null,"","",{"$f":"IF(K4742=\"\",\"\",COUNTIF($K$7:K4742,\"ﾘｽﾄ１\"))","v":""},"同一区","","","","","","",{"$f":"IF(S4742=\"\",\"\",COUNTIF($S$7:S4742,\"該当２\"))","v":""},"","",{"$f":"IF(V4742=\"\",\"\",COUNTIF($V$7:V4742,\"該当３\"))","v":""}]
[2045100004,20,{"v":451,"d":"451 "},{"v":0,"d":"00 "},{"v":4,"d":"004 "},"長野県","朝日村","（朝日村）","沢上",null,{"$f":"IF(AND($C4747>0,$H4747=\"\"),\"ﾘｽﾄ１\",\"\")","v":""},"",{"$f":"IF(K4747=\"\",\"\",COUNTIF($K$7:K4747,\"ﾘｽﾄ１\"))","v":""},"同一区","","","","","","",{"$f":"IF(S4747=\"\",\"\",COUNTIF($S$7:S4747,\"該当２\"))","v":""},"","",{"$f":"IF(V4747=\"\",\"\",COUNTIF($V$7:V4747,\"該当３\"))","v":""}]
[2045100009,20,{"v":451,"d":"451 "},{"v":0,"d":"00 "},{"v":9,"d":"009 "},"長野県","朝日村","（朝日村）","御馬越",null,"","",{"$f":"IF(K4752=\"\",\"\",COUNTIF($K$7:K4752,\"ﾘｽﾄ１\"))","v":""},"同一区","","","","","","",{"$f":"IF(S4752=\"\",\"\",COUNTIF($S$7:S4752,\"該当２\"))","v":""},"","",{"$f":"IF(V4752=\"\",\"\",COUNTIF($V$7:V4752,\"該当３\"))","v":""}]
[2045100013,20,{"v":451,"d":"451 "},{"v":0,"d":"00 "},{"v":13,"d":"013 "},"長野県","朝日村","（朝日村）","一之沢",null,"","",{"$f":"IF(K4756=\"\",\"\",COUNTIF($K$7:K4756,\"ﾘｽﾄ１\"))","v":""},"同一区","","","","","","",{"$f":"IF(S4756=\"\",\"\",COUNTIF($S$7:S4756,\"該当２\"))","v":""},"","",{"$f":"IF(V4756=\"\",\"\",COUNTIF($V$7:V4756,\"該当３\"))","v":""}]
[2045100016,20,{"v":451,"d":"451 "},{"v":0,"d":"00 "},{"v":16,"d":"016 "},"長野県","朝日村","（朝日村）","本郷",null,"","",{"$f":"IF(K4759=\"\",\"\",COUNTIF($K$7:K4759,\"ﾘｽﾄ１\"))","v":""},"同一区","","","","","","",{"$f":"IF(S4759=\"\",\"\",COUNTIF($S$7:S4759,\"該当２\"))","v":""},"","",{"$f":"IF(V4759=\"\",\"\",COUNTIF($V$7:V4759,\"該当３\"))","v":""}]
[2045100021,20,{"v":451,"d":"451 "},{"v":0,"d":"00 "},{"v":21,"d":"021 "},"長野県","朝日村","（朝日村）","三ケ組",null,"","",{"$f":"IF(K4764=\"\",\"\",COUNTIF($K$7:K4764,\"ﾘｽﾄ１\"))","v":""},"同一区","","","","","","",{"$f":"IF(S4764=\"\",\"\",COUNTIF($S$7:S4764,\"該当２\"))","v":""},"","",{"$f":"IF(V4764=\"\",\"\",COUNTIF($V$7:V4764,\"該当３\"))","v":""}]
[2045201002,20,{"v":452,"d":"452 "},{"v":1,"d":"01 "},{"v":2,"d":"002 "},"長野県","筑北村","本城村","大沢新田",null,"","",{"$f":"IF(K4769=\"\",\"\",COUNTIF($K$7:K4769,\"ﾘｽﾄ１\"))","v":""},"","","","","","","",{"$f":"IF(S4769=\"\",\"\",COUNTIF($S$7:S4769,\"該当２\"))","v":""},"","",{"$f":"IF(V4769=\"\",\"\",COUNTIF($V$7:V4769,\"該当３\"))","v":""}]
[2045201007,20,{"v":452,"d":"452 "},{"v":1,"d":"01 "},{"v":7,"d":"007 "},"長野県","筑北村","本城村","八木",null,"","",{"$f":"IF(K4774=\"\",\"\",COUNTIF($K$7:K4774,\"ﾘｽﾄ１\"))","v":""},"","","","","","","",{"$f":"IF(S4774=\"\",\"\",COUNTIF($S$7:S4774,\"該当２\"))","v":""},"","",{"$f":"IF(V4774=\"\",\"\",COUNTIF($V$7:V4774,\"該当３\"))","v":""}]
[2045201009,20,{"v":452,"d":"452 "},{"v":1,"d":"01 "},{"v":9,"d":"009 "},"長野県","筑北村","本城村","乱橋東村",null,"","",{"$f":"IF(K4776=\"\",\"\",COUNTIF($K$7:K4776,\"ﾘｽﾄ１\"))","v":""},"","","","","","","",{"$f":"IF(S4776=\"\",\"\",COUNTIF($S$7:S4776,\"該当２\"))","v":""},"","",{"$f":"IF(V4776=\"\",\"\",COUNTIF($V$7:V4776,\"該当３\"))","v":""}]
[2045201014,20,{"v":452,"d":"452 "},{"v":1,"d":"01 "},{"v":14,"d":"014 "},"長野県","筑北村","本城村","小仁熊下",null,"","",{"$f":"IF(K4781=\"\",\"\",COUNTIF($K$7:K4781,\"ﾘｽﾄ１\"))","v":""},"","","","","","","",{"$f":"IF(S4781=\"\",\"\",COUNTIF($S$7:S4781,\"該当２\"))","v":""},"","",{"$f":"IF(V4781=\"\",\"\",COUNTIF($V$7:V4781,\"該当３\"))","v":""}]
[2045201019,20,{"v":452,"d":"452 "},{"v":1,"d":"01 "},{"v":19,"d":"019 "},"長野県","筑北村","本城村","聖南町",null,"","",{"$f":"IF(K4786=\"\",\"\",COUNTIF($K$7:K4786,\"ﾘｽﾄ１\"))","v":""},"","","","","","","",{"$f":"IF(S4786=\"\",\"\",COUNTIF($S$7:S4786,\"該当２\"))","v":""},"","",{"$f":"IF(V4786=\"\",\"\",COUNTIF($V$7:V4786,\"該当３\"))","v":""}]
[2045202000,20,{"v":452,"d":"452 "},{"v":2,"d":"02 "},{"v":0,"d":"000 "},"長野県","筑北村","坂北村",null,null,"","",{"$f":"IF(K4788=\"\",\"\",COUNTIF($K$7:K4788,\"ﾘｽﾄ１\"))","v":""},"","","","","","","",{"$f":"IF(S4788=\"\",\"\",COUNTIF($S$7:S4788,\"該当２\"))","v":""},"","",{"$f":"IF(V4788=\"\",\"\",COUNTIF($V$7:V4788,\"該当３\"))","v":""}]
[2045202005,20,{"v":452,"d":"452 "},{"v":2,"d":"02 "},{"v":5,"d":"005 "},"長野県","筑北村","坂北村","糀屋，中通",null,"","",{"$f":"IF(K4793=\"\",\"\",COUNTIF($K$7:K4793,\"ﾘｽﾄ１\"))","v":""},"","","","","","","",{"$f":"IF(S4793=\"\",\"\",COUNTIF($S$7:S4793,\"該当２\"))","v":""},"","",{"$f":"IF(V4793=\"\",\"\",COUNTIF($V$7:V4793,\"該当３\"))","v":""}]
[2045202010,20,{"v":452,"d":"452 "},{"v":2,"d":"02 "},{"v":10,"d":"010 "},"長野県","筑北村","坂北村","昭和町",null,"","",{"$f":"IF(K4798=\"\",\"\",COUNTIF($K$7:K4798,\"ﾘｽﾄ１\"))","v":""},"","","","","","","",{"$f":"IF(S4798=\"\",\"\",COUNTIF($S$7:S4798,\"該当２\"))","v":""},"","",{"$f":"IF(V4798=\"\",\"\",COUNTIF($V$7:V4798,\"該当３\"))","v":""}]
[2045202015,20,{"v":452,"d":"452 "},{"v":2,"d":"02 "},{"v":15,"d":"015 "},"長野県","筑北村","坂北村","赤松",null,"","",{"$f":"IF(K4803=\"\",\"\",COUNTIF($K$7:K4803,\"ﾘｽﾄ１\"))","v":""},"","","","","","","",{"$f":"IF(S4803=\"\",\"\",COUNTIF($S$7:S4803,\"該当２\"))","v":""},"","",{"$f":"IF(V4803=\"\",\"\",COUNTIF($V$7:V4803,\"該当３\"))","v":""}]
[2045202018,20,{"v":452,"d":"452 "},{"v":2,"d":"02 "},{"v":18,"d":"018 "},"長野県","筑北村","坂北村","未地",null,"","",{"$f":"IF(K4806=\"\",\"\",COUNTIF($K$7:K4806,\"ﾘｽﾄ１\"))","v":""},"","","","","","","",{"$f":"IF(S4806=\"\",\"\",COUNTIF($S$7:S4806,\"該当２\"))","v":""},"","",{"$f":"IF(V4806=\"\",\"\",COUNTIF($V$7:V4806,\"該当３\"))","v":""}]
[2045202022,20,{"v":452,"d":"452 "},{"v":2,"d":"02 "},{"v":22,"d":"022 "},"長野県","筑北村","坂北村","中央，中里",null,"","",{"$f":"IF(K4810=\"\",\"\",COUNTIF($K$7:K4810,\"ﾘｽﾄ１\"))","v":""},"","","","","","","",{"$f":"IF(S4810=\"\",\"\",COUNTIF($S$7:S4810,\"該当２\"))","v":""},"","",{"$f":"IF(V4810=\"\",\"\",COUNTIF($V$7:V4810,\"該当３\"))","v":""}]
[2045203000,20,{"v":452,"d":"452 "},{"v":3,"d":"03 "},{"v":0,"d":"000 "},"長野県","筑北村","坂井村",null,null,"","",{"$f":"IF(K4815=\"\",\"\",COUNTIF($K$7:K4815,\"ﾘｽﾄ１\"))","v":""},"","","","","","","",{"$f":"IF(S4815=\"\",\"\",COUNTIF($S$7:S4815,\"該当２\"))","v":""},"","",{"$f":"IF(V4815=\"\",\"\",COUNTIF($V$7:V4815,\"該当３\"))","v":""}]
[2045203005,20,{"v":452,"d":"452 "},{"v":3,"d":"03 "},{"v":5,"d":"005 "},"長野県","筑北村","坂井村","桂石氷室",null,"","",{"$f":"IF(K4820=\"\",\"\",COUNTIF($K$7:K4820,\"ﾘｽﾄ１\"))","v":""},"","","","","","","",{"$f":"IF(S4820=\"\",\"\",COUNTIF($S$7:S4820,\"該当２\"))","v":""},"","",{"$f":"IF(V4820=\"\",\"\",COUNTIF($V$7:V4820,\"該当３\"))","v":""}]
[2045203010,20,{"v":452,"d":"452 "},{"v":3,"d":"03 "},{"v":10,"d":"010 "},"長野県","筑北村","坂井村","道平",null,"","",{"$f":"IF(K4825=\"\",\"\",COUNTIF($K$7:K4825,\"ﾘｽﾄ１\"))","v":""},"","","","","","","",{"$f":"IF(S4825=\"\",\"\",COUNTIF($S$7:S4825,\"該当２\"))","v":""},"","",{"$f":"IF(V4825=\"\",\"\",COUNTIF($V$7:V4825,\"該当３\"))","v":""}]
[2045203012,20,{"v":452,"d":"452 "},{"v":3,"d":"03 "},{"v":12,"d":"012 "},"長野県","筑北村","坂井村","安坂中村",null,"","",{"$f":"IF(K4827=\"\",\"\",COUNTIF($K$7:K4827,\"ﾘｽﾄ１\"))","v":""},"","","","","","","",{"$f":"IF(S4827=\"\",\"\",COUNTIF($S$7:S4827,\"該当２\"))","v":""},"","",{"$f":"IF(V4827=\"\",\"\",COUNTIF($V$7:V4827,\"該当３\"))","v":""}]
[2045203017,20,{"v":452,"d":"452 "},{"v":3,"d":"03 "},{"v":17,"d":"017 "},"長野県","筑北村","坂井村","松場",null,"","",{"$f":"IF(K4832=\"\",\"\",COUNTIF($K$7:K4832,\"ﾘｽﾄ１\"))","v":""},"","","","","","","",{"$f":"IF(S4832=\"\",\"\",COUNTIF($S$7:S4832,\"該当２\"))","v":""},"","",{"$f":"IF(V4832=\"\",\"\",COUNTIF($V$7:V4832,\"該当３\"))","v":""}]
[2048101000,20,{"v":481,"d":"481 "},{"v":1,"d":"01 "},{"v":0,"d":"000 "},"長野県","池田町","池田町（旧）",null,null,"","",{"$f":"IF(K4837=\"\",\"\",COUNTIF($K$7:K4837,\"ﾘｽﾄ１\"))","v":""},"","","","","","","",{"$f":"IF(S4837=\"\",\"\",COUNTIF($S$7:S4837,\"該当２\"))","v":""},"","",{"$f":"IF(V4837=\"\",\"\",COUNTIF($V$7:V4837,\"該当３\"))","v":""}]
[2048101001,20,{"v":481,"d":"481 "},{"v":1,"d":"01 "},{"v":1,"d":"001 "},"長野県","池田町","池田町（旧）","豊町",null,"","",{"$f":"IF(K4838=\"\",\"\",COUNTIF($K$7:K4838,\"ﾘｽﾄ１\"))","v":""},"","","","","","","",{"$f":"IF(S4838=\"\",\"\",COUNTIF($S$7:S4838,\"該当２\"))","v":""},"","",{"$f":"IF(V4838=\"\",\"\",COUNTIF($V$7:V4838,\"該当３\"))","v":""}]
[2048101007,20,{"v":481,"d":"481 "},{"v":1,"d":"01 "},{"v":7,"d":"007 "},"長野県","池田町","池田町（旧）","四丁目",null,"","",{"$f":"IF(K4844=\"\",\"\",COUNTIF($K$7:K4844,\"ﾘｽﾄ１\"))","v":""},"","","","","","","",{"$f":"IF(S4844=\"\",\"\",COUNTIF($S$7:S4844,\"該当２\"))","v":""},"","",{"$f":"IF(V4844=\"\",\"\",COUNTIF($V$7:V4844,\"該当３\"))","v":""}]
[2048102000,20,{"v":481,"d":"481 "},{"v":2,"d":"02 "},{"v":0,"d":"000 "},"長野県","池田町","会染村",null,null,"","",{"$f":"IF(K4849=\"\",\"\",COUNTIF($K$7:K4849,\"ﾘｽﾄ１\"))","v":""},"","","","","","","",{"$f":"IF(S4849=\"\",\"\",COUNTIF($S$7:S4849,\"該当２\"))","v":""},"","",{"$f":"IF(V4849=\"\",\"\",COUNTIF($V$7:V4849,\"該当３\"))","v":""}]
[2048102005,20,{"v":481,"d":"481 "},{"v":2,"d":"02 "},{"v":5,"d":"005 "},"長野県","池田町","会染村","花見",null,"","",{"$f":"IF(K4854=\"\",\"\",COUNTIF($K$7:K4854,\"ﾘｽﾄ１\"))","v":""},"","","","","","","",{"$f":"IF(S4854=\"\",\"\",COUNTIF($S$7:S4854,\"該当２\"))","v":""},"","",{"$f":"IF(V4854=\"\",\"\",COUNTIF($V$7:V4854,\"該当３\"))","v":""}]
[2048102008,20,{"v":481,"d":"481 "},{"v":2,"d":"02 "},{"v":8,"d":"008 "},"長野県","池田町","会染村","竹原",null,"","",{"$f":"IF(K4857=\"\",\"\",COUNTIF($K$7:K4857,\"ﾘｽﾄ１\"))","v":""},"","","","","","","",{"$f":"IF(S4857=\"\",\"\",COUNTIF($S$7:S4857,\"該当２\"))","v":""},"","",{"$f":"IF(V4857=\"\",\"\",COUNTIF($V$7:V4857,\"該当３\"))","v":""}]
[2048102012,20,{"v":481,"d":"481 "},{"v":2,"d":"02 "},{"v":12,"d":"012 "},"長野県","池田町","会染村","林中５",null,"","",{"$f":"IF(K4861=\"\",\"\",COUNTIF($K$7:K4861,\"ﾘｽﾄ１\"))","v":""},"","","","","","","",{"$f":"IF(S4861=\"\",\"\",COUNTIF($S$7:S4861,\"該当２\"))","v":""},"","",{"$f":"IF(V4861=\"\",\"\",COUNTIF($V$7:V4861,\"該当３\"))","v":""}]
[2048102017,20,{"v":481,"d":"481 "},{"v":2,"d":"02 "},{"v":17,"d":"017 "},"長野県","池田町","会染村","渋原",null,"","",{"$f":"IF(K4866=\"\",\"\",COUNTIF($K$7:K4866,\"ﾘｽﾄ１\"))","v":""},"","","","","","","",{"$f":"IF(S4866=\"\",\"\",COUNTIF($S$7:S4866,\"該当２\"))","v":""},"","",{"$f":"IF(V4866=\"\",\"\",COUNTIF($V$7:V4866,\"該当３\"))","v":""}]
[2048102022,20,{"v":481,"d":"481 "},{"v":2,"d":"02 "},{"v":22,"d":"022 "},"長野県","池田町","会染村","十日市場・高瀬橋南",null,"","",{"$f":"IF(K4871=\"\",\"\",COUNTIF($K$7:K4871,\"ﾘｽﾄ１\"))","v":""},"","","","","","","",{"$f":"IF(S4871=\"\",\"\",COUNTIF($S$7:S4871,\"該当２\"))","v":""},"","",{"$f":"IF(V4871=\"\",\"\",COUNTIF($V$7:V4871,\"該当３\"))","v":""}]
[2048104000,20,{"v":481,"d":"481 "},{"v":4,"d":"04 "},{"v":0,"d":"000 "},"長野県","池田町","陸郷村３－３",null,null,{"$f":"IF(AND($C4875>0,$H4875=\"\"),\"ﾘｽﾄ１\",\"\")","v":""},"",{"$f":"IF(K4875=\"\",\"\",COUNTIF($K$7:K4875,\"ﾘｽﾄ１\"))","v":""},"","","","","","","",{"$f":"IF(S4875=\"\",\"\",COUNTIF($S$7:S4875,\"該当２\"))","v":""},"","",{"$f":"IF(V4875=\"\",\"\",COUNTIF($V$7:V4875,\"該当３\"))","v":""}]
[2048104003,20,{"v":481,"d":"481 "},{"v":4,"d":"04 "},{"v":3,"d":"003 "},"長野県","池田町","陸郷村３－３","三郷",null,"","",{"$f":"IF(K4878=\"\",\"\",COUNTIF($K$7:K4878,\"ﾘｽﾄ１\"))","v":""},"","","","","","","",{"$f":"IF(S4878=\"\",\"\",COUNTIF($S$7:S4878,\"該当２\"))","v":""},"","",{"$f":"IF(V4878=\"\",\"\",COUNTIF($V$7:V4878,\"該当３\"))","v":""}]
[2048105001,20,{"v":481,"d":"481 "},{"v":5,"d":"05 "},{"v":1,"d":"001 "},"長野県","池田町","広津村３－２","法道",null,"","",{"$f":"IF(K4883=\"\",\"\",COUNTIF($K$7:K4883,\"ﾘｽﾄ１\"))","v":""},"","","","","","","",{"$f":"IF(S4883=\"\",\"\",COUNTIF($S$7:S4883,\"該当２\"))","v":""},"","",{"$f":"IF(V4883=\"\",\"\",COUNTIF($V$7:V4883,\"該当３\"))","v":""}]
[2048105006,20,{"v":481,"d":"481 "},{"v":5,"d":"05 "},{"v":6,"d":"006 "},"長野県","池田町","広津村３－２","前田",null,"","",{"$f":"IF(K4888=\"\",\"\",COUNTIF($K$7:K4888,\"ﾘｽﾄ１\"))","v":""},"","","","","","","",{"$f":"IF(S4888=\"\",\"\",COUNTIF($S$7:S4888,\"該当２\"))","v":""},"","",{"$f":"IF(V4888=\"\",\"\",COUNTIF($V$7:V4888,\"該当３\"))","v":""}]
[2048105007,20,{"v":481,"d":"481 "},{"v":5,"d":"05 "},{"v":7,"d":"007 "},"長野県","池田町","広津村３－２","南足沼",null,"","",{"$f":"IF(K4889=\"\",\"\",COUNTIF($K$7:K4889,\"ﾘｽﾄ１\"))","v":""},"","","","","","","",{"$f":"IF(S4889=\"\",\"\",COUNTIF($S$7:S4889,\"該当２\"))","v":""},"","",{"$f":"IF(V4889=\"\",\"\",COUNTIF($V$7:V4889,\"該当３\"))","v":""}]
[2048105013,20,{"v":481,"d":"481 "},{"v":5,"d":"05 "},{"v":13,"d":"013 "},"長野県","池田町","広津村３－２","栂ノ尾",null,"","",{"$f":"IF(K4895=\"\",\"\",COUNTIF($K$7:K4895,\"ﾘｽﾄ１\"))","v":""},"","","","","","","",{"$f":"IF(S4895=\"\",\"\",COUNTIF($S$7:S4895,\"該当２\"))","v":""},"","",{"$f":"IF(V4895=\"\",\"\",COUNTIF($V$7:V4895,\"該当３\"))","v":""}]
[2048200000,20,{"v":482,"d":"482 "},{"v":0,"d":"00 "},{"v":0,"d":"000 "},"長野県","松川村",{"$nulls":3},"ﾘｽﾄ１","松川村",{"$f":"IF(K4900=\"\",\"\",COUNTIF($K$7:K4900,\"ﾘｽﾄ１\"))","v":65},"","","","","","","",{"$f":"IF(S4900=\"\",\"\",COUNTIF($S$7:S4900,\"該当２\"))","v":""},"","",{"$f":"IF(V4900=\"\",\"\",COUNTIF($V$7:V4900,\"該当３\"))","v":""}]
[2048200005,20,{"v":482,"d":"482 "},{"v":0,"d":"00 "},{"v":5,"d":"005 "},"長野県","松川村","（松川村）","川西",null,"","",{"$f":"IF(K4905=\"\",\"\",COUNTIF($K$7:K4905,\"ﾘｽﾄ１\"))","v":""},"同一区","","","","","","",{"$f":"IF(S4905=\"\",\"\",COUNTIF($S$7:S4905,\"該当２\"))","v":""},"","",{"$f":"IF(V4905=\"\",\"\",COUNTIF($V$7:V4905,\"該当３\"))","v":""}]
[2048200008,20,{"v":482,"d":"482 "},{"v":0,"d":"00 "},{"v":8,"d":"008 "},"長野県","松川村","（松川村）","東部",null,"","",{"$f":"IF(K4908=\"\",\"\",COUNTIF($K$7:K4908,\"ﾘｽﾄ１\"))","v":""},"同一区","","","","","","",{"$f":"IF(S4908=\"\",\"\",COUNTIF($S$7:S4908,\"該当２\"))","v":""},"","",{"$f":"IF(V4908=\"\",\"\",COUNTIF($V$7:V4908,\"該当３\"))","v":""}]
[2048500000,20,{"v":485,"d":"485 "},{"v":0,"d":"00 "},{"v":0,"d":"000 "},"長野県","白馬村",{"$nulls":3},"ﾘｽﾄ１","白馬村",{"$f":"IF(K4912=\"\",\"\",COUNTIF($K$7:K4912,\"ﾘｽﾄ１\"))","v":66},"","","","","","","",{"$f":"IF(S4912=\"\",\"\",COUNTIF($S$7:S4912,\"該当２\"))","v":""},"","",{"$f":"IF(V4912=\"\",\"\",COUNTIF($V$7:V4912,\"該当３\"))","v":""}]
[2048501004,20,{"v":485,"d":"485 "},{"v":1,"d":"01 "},{"v":4,"d":"004 "},"長野県","白馬村","神城村","三日市場",null,"","",{"$f":"IF(K4917=\"\",\"\",COUNTIF($K$7:K4917,\"ﾘｽﾄ１\"))","v":""},"","","","","","","",{"$f":"IF(S4917=\"\",\"\",COUNTIF($S$7:S4917,\"該当２\"))","v":""},"","",{"$f":"IF(V4917=\"\",\"\",COUNTIF($V$7:V4917,\"該当３\"))","v":""}]
[2048502001,20,{"v":485,"d":"485 "},{"v":2,"d":"02 "},{"v":1,"d":"001 "},"長野県","白馬村","北城村","深空",null,"","",{"$f":"IF(K4922=\"\",\"\",COUNTIF($K$7:K4922,\"ﾘｽﾄ１\"))","v":""},"","","","","","","",{"$f":"IF(S4922=\"\",\"\",COUNTIF($S$7:S4922,\"該当２\"))","v":""},"","",{"$f":"IF(V4922=\"\",\"\",COUNTIF($V$7:V4922,\"該当３\"))","v":""}]
[2048502005,20,{"v":485,"d":"485 "},{"v":2,"d":"02 "},{"v":5,"d":"005 "},"長野県","白馬村","北城村","切久保",null,"","",{"$f":"IF(K4926=\"\",\"\",COUNTIF($K$7:K4926,\"ﾘｽﾄ１\"))","v":""},"","","","","","","",{"$f":"IF(S4926=\"\",\"\",COUNTIF($S$7:S4926,\"該当２\"))","v":""},"","",{"$f":"IF(V4926=\"\",\"\",COUNTIF($V$7:V4926,\"該当３\"))","v":""}]
[2048502008,20,{"v":485,"d":"485 "},{"v":2,"d":"02 "},{"v":8,"d":"008 "},"長野県","白馬村","北城村","森上",null,"","",{"$f":"IF(K4929=\"\",\"\",COUNTIF($K$7:K4929,\"ﾘｽﾄ１\"))","v":""},"","","","","","","",{"$f":"IF(S4929=\"\",\"\",COUNTIF($S$7:S4929,\"該当２\"))","v":""},"","",{"$f":"IF(V4929=\"\",\"\",COUNTIF($V$7:V4929,\"該当３\"))","v":""}]
[2048502013,20,{"v":485,"d":"485 "},{"v":2,"d":"02 "},{"v":13,"d":"013 "},"長野県","白馬村","北城村","野平",null,"","",{"$f":"IF(K4934=\"\",\"\",COUNTIF($K$7:K4934,\"ﾘｽﾄ１\"))","v":""},"","","","","","","",{"$f":"IF(S4934=\"\",\"\",COUNTIF($S$7:S4934,\"該当２\"))","v":""},"","",{"$f":"IF(V4934=\"\",\"\",COUNTIF($V$7:V4934,\"該当３\"))","v":""}]
[2048502018,20,{"v":485,"d":"485 "},{"v":2,"d":"02 "},{"v":18,"d":"018 "},"長野県","白馬村","北城村","南方",null,{"$f":"IF(AND($C4939>0,$H4939=\"\"),\"ﾘｽﾄ１\",\"\")","v":""},"",{"$f":"IF(K4939=\"\",\"\",COUNTIF($K$7:K4939,\"ﾘｽﾄ１\"))","v":""},"","","","","","","",{"$f":"IF(S4939=\"\",\"\",COUNTIF($S$7:S4939,\"該当２\"))","v":""},"","",{"$f":"IF(V4939=\"\",\"\",COUNTIF($V$7:V4939,\"該当３\"))","v":""}]
[2048502019,20,{"v":485,"d":"485 "},{"v":2,"d":"02 "},{"v":19,"d":"019 "},"長野県","白馬村","北城村","嶺方",null,"","",{"$f":"IF(K4940=\"\",\"\",COUNTIF($K$7:K4940,\"ﾘｽﾄ１\"))","v":""},"","","","","","","",{"$f":"IF(S4940=\"\",\"\",COUNTIF($S$7:S4940,\"該当２\"))","v":""},"","",{"$f":"IF(V4940=\"\",\"\",COUNTIF($V$7:V4940,\"該当３\"))","v":""}]
[2048601006,20,{"v":486,"d":"486 "},{"v":1,"d":"01 "},{"v":6,"d":"006 "},"長野県","小谷村","南小谷村","南雨中",null,"","",{"$f":"IF(K4946=\"\",\"\",COUNTIF($K$7:K4946,\"ﾘｽﾄ１\"))","v":""},"","","","","","","",{"$f":"IF(S4946=\"\",\"\",COUNTIF($S$7:S4946,\"該当２\"))","v":""},"","",{"$f":"IF(V4946=\"\",\"\",COUNTIF($V$7:V4946,\"該当３\"))","v":""}]
[2048601011,20,{"v":486,"d":"486 "},{"v":1,"d":"01 "},{"v":11,"d":"011 "},"長野県","小谷村","南小谷村","伊折",null,"","",{"$f":"IF(K4951=\"\",\"\",COUNTIF($K$7:K4951,\"ﾘｽﾄ１\"))","v":""},"","","","","","","",{"$f":"IF(S4951=\"\",\"\",COUNTIF($S$7:S4951,\"該当２\"))","v":""},"","",{"$f":"IF(V4951=\"\",\"\",COUNTIF($V$7:V4951,\"該当３\"))","v":""}]
[2048601016,20,{"v":486,"d":"486 "},{"v":1,"d":"01 "},{"v":16,"d":"016 "},"長野県","小谷村","南小谷村","石坂",null,"","",{"$f":"IF(K4956=\"\",\"\",COUNTIF($K$7:K4956,\"ﾘｽﾄ１\"))","v":""},"","","","","","","",{"$f":"IF(S4956=\"\",\"\",COUNTIF($S$7:S4956,\"該当２\"))","v":""},"","",{"$f":"IF(V4956=\"\",\"\",COUNTIF($V$7:V4956,\"該当３\"))","v":""}]
[2048601018,20,{"v":486,"d":"486 "},{"v":1,"d":"01 "},{"v":18,"d":"018 "},"長野県","小谷村","南小谷村","下里瀬",null,"","",{"$f":"IF(K4958=\"\",\"\",COUNTIF($K$7:K4958,\"ﾘｽﾄ１\"))","v":""},"","","","","","","",{"$f":"IF(S4958=\"\",\"\",COUNTIF($S$7:S4958,\"該当２\"))","v":""},"","",{"$f":"IF(V4958=\"\",\"\",COUNTIF($V$7:V4958,\"該当３\"))","v":""}]
[2048602001,20,{"v":486,"d":"486 "},{"v":2,"d":"02 "},{"v":1,"d":"001 "},"長野県","小谷村","中土村","六合",null,"","",{"$f":"IF(K4963=\"\",\"\",COUNTIF($K$7:K4963,\"ﾘｽﾄ１\"))","v":""},"","","","","","","",{"$f":"IF(S4963=\"\",\"\",COUNTIF($S$7:S4963,\"該当２\"))","v":""},"","",{"$f":"IF(V4963=\"\",\"\",COUNTIF($V$7:V4963,\"該当３\"))","v":""}]
[2048602006,20,{"v":486,"d":"486 "},{"v":2,"d":"02 "},{"v":6,"d":"006 "},"長野県","小谷村","中土村","石原",null,"","",{"$f":"IF(K4968=\"\",\"\",COUNTIF($K$7:K4968,\"ﾘｽﾄ１\"))","v":""},"","","","","","","",{"$f":"IF(S4968=\"\",\"\",COUNTIF($S$7:S4968,\"該当２\"))","v":""},"","",{"$f":"IF(V4968=\"\",\"\",COUNTIF($V$7:V4968,\"該当３\"))","v":""}]
[2048602011,20,{"v":486,"d":"486 "},{"v":2,"d":"02 "},{"v":11,"d":"011 "},"長野県","小谷村","中土村","瑞穂",null,"","",{"$f":"IF(K4973=\"\",\"\",COUNTIF($K$7:K4973,\"ﾘｽﾄ１\"))","v":""},"","","","","","","",{"$f":"IF(S4973=\"\",\"\",COUNTIF($S$7:S4973,\"該当２\"))","v":""},"","",{"$f":"IF(V4973=\"\",\"\",COUNTIF($V$7:V4973,\"該当３\"))","v":""}]
[2048602015,20,{"v":486,"d":"486 "},{"v":2,"d":"02 "},{"v":15,"d":"015 "},"長野県","小谷村","中土村","千沢",null,"","",{"$f":"IF(K4977=\"\",\"\",COUNTIF($K$7:K4977,\"ﾘｽﾄ１\"))","v":""},"","","","","","","",{"$f":"IF(S4977=\"\",\"\",COUNTIF($S$7:S4977,\"該当２\"))","v":""},"","",{"$f":"IF(V4977=\"\",\"\",COUNTIF($V$7:V4977,\"該当３\"))","v":""}]
[2048602018,20,{"v":486,"d":"486 "},{"v":2,"d":"02 "},{"v":18,"d":"018 "},"長野県","小谷村","中土村","大草連",null,"","",{"$f":"IF(K4980=\"\",\"\",COUNTIF($K$7:K4980,\"ﾘｽﾄ１\"))","v":""},"","","","","","","",{"$f":"IF(S4980=\"\",\"\",COUNTIF($S$7:S4980,\"該当２\"))","v":""},"","",{"$f":"IF(V4980=\"\",\"\",COUNTIF($V$7:V4980,\"該当３\"))","v":""}]
[2048603002,20,{"v":486,"d":"486 "},{"v":3,"d":"03 "},{"v":2,"d":"002 "},"長野県","小谷村","北小谷村","下寺",null,"","",{"$f":"IF(K4985=\"\",\"\",COUNTIF($K$7:K4985,\"ﾘｽﾄ１\"))","v":""},"","","","","","","",{"$f":"IF(S4985=\"\",\"\",COUNTIF($S$7:S4985,\"該当２\"))","v":""},"","",{"$f":"IF(V4985=\"\",\"\",COUNTIF($V$7:V4985,\"該当３\"))","v":""}]
[2048603007,20,{"v":486,"d":"486 "},{"v":3,"d":"03 "},{"v":7,"d":"007 "},"長野県","小谷村","北小谷村","李平",null,"","",{"$f":"IF(K4990=\"\",\"\",COUNTIF($K$7:K4990,\"ﾘｽﾄ１\"))","v":""},"","","","","","","",{"$f":"IF(S4990=\"\",\"\",COUNTIF($S$7:S4990,\"該当２\"))","v":""},"","",{"$f":"IF(V4990=\"\",\"\",COUNTIF($V$7:V4990,\"該当３\"))","v":""}]
[2052101000,20,{"v":521,"d":"521 "},{"v":1,"d":"01 "},{"v":0,"d":"000 "},"長野県","坂城町","坂城町（旧）",null,null,"","",{"$f":"IF(K4995=\"\",\"\",COUNTIF($K$7:K4995,\"ﾘｽﾄ１\"))","v":""},"","","","","","","",{"$f":"IF(S4995=\"\",\"\",COUNTIF($S$7:S4995,\"該当２\"))","v":""},"","",{"$f":"IF(V4995=\"\",\"\",COUNTIF($V$7:V4995,\"該当３\"))","v":""}]
[2052101002,20,{"v":521,"d":"521 "},{"v":1,"d":"01 "},{"v":2,"d":"002 "},"長野県","坂城町","坂城町（旧）","御所沢",null,"","",{"$f":"IF(K4997=\"\",\"\",COUNTIF($K$7:K4997,\"ﾘｽﾄ１\"))","v":""},"","","","","","","",{"$f":"IF(S4997=\"\",\"\",COUNTIF($S$7:S4997,\"該当２\"))","v":""},"","",{"$f":"IF(V4997=\"\",\"\",COUNTIF($V$7:V4997,\"該当３\"))","v":""}]
[2052101007,20,{"v":521,"d":"521 "},{"v":1,"d":"01 "},{"v":7,"d":"007 "},"長野県","坂城町","坂城町（旧）","込山",null,"","",{"$f":"IF(K5002=\"\",\"\",COUNTIF($K$7:K5002,\"ﾘｽﾄ１\"))","v":""},"","","","","","","",{"$f":"IF(S5002=\"\",\"\",COUNTIF($S$7:S5002,\"該当２\"))","v":""},"","",{"$f":"IF(V5002=\"\",\"\",COUNTIF($V$7:V5002,\"該当３\"))","v":""}]
[2052101012,20,{"v":521,"d":"521 "},{"v":1,"d":"01 "},{"v":12,"d":"012 "},"長野県","坂城町","坂城町（旧）","和平",null,"","",{"$f":"IF(K5007=\"\",\"\",COUNTIF($K$7:K5007,\"ﾘｽﾄ１\"))","v":""},"","","","","","","",{"$f":"IF(S5007=\"\",\"\",COUNTIF($S$7:S5007,\"該当２\"))","v":""},"","",{"$f":"IF(V5007=\"\",\"\",COUNTIF($V$7:V5007,\"該当３\"))","v":""}]
[2052101014,20,{"v":521,"d":"521 "},{"v":1,"d":"01 "},{"v":14,"d":"014 "},"長野県","坂城町","坂城町（旧）","立町",null,"","",{"$f":"IF(K5009=\"\",\"\",COUNTIF($K$7:K5009,\"ﾘｽﾄ１\"))","v":""},"","","","","","","",{"$f":"IF(S5009=\"\",\"\",COUNTIF($S$7:S5009,\"該当２\"))","v":""},"","",{"$f":"IF(V5009=\"\",\"\",COUNTIF($V$7:V5009,\"該当３\"))","v":""}]
[2052103002,20,{"v":521,"d":"521 "},{"v":3,"d":"03 "},{"v":2,"d":"002 "},"長野県","坂城町","南条村","新地",null,"","",{"$f":"IF(K5014=\"\",\"\",COUNTIF($K$7:K5014,\"ﾘｽﾄ１\"))","v":""},"","","","","","","",{"$f":"IF(S5014=\"\",\"\",COUNTIF($S$7:S5014,\"該当２\"))","v":""},"","",{"$f":"IF(V5014=\"\",\"\",COUNTIF($V$7:V5014,\"該当３\"))","v":""}]
[2052104001,20,{"v":521,"d":"521 "},{"v":4,"d":"04 "},{"v":1,"d":"001 "},"長野県","坂城町","村上村","網掛",null,"","",{"$f":"IF(K5019=\"\",\"\",COUNTIF($K$7:K5019,\"ﾘｽﾄ１\"))","v":""},"","","","","","","",{"$f":"IF(S5019=\"\",\"\",COUNTIF($S$7:S5019,\"該当２\"))","v":""},"","",{"$f":"IF(V5019=\"\",\"\",COUNTIF($V$7:V5019,\"該当３\"))","v":""}]
[2054101000,20,{"v":541,"d":"541 "},{"v":1,"d":"01 "},{"v":0,"d":"000 "},"長野県","小布施町","小布施村",null,null,"","",{"$f":"IF(K5024=\"\",\"\",COUNTIF($K$7:K5024,\"ﾘｽﾄ１\"))","v":""},"","","","","","","",{"$f":"IF(S5024=\"\",\"\",COUNTIF($S$7:S5024,\"該当２\"))","v":""},"","",{"$f":"IF(V5024=\"\",\"\",COUNTIF($V$7:V5024,\"該当３\"))","v":""}]
[2054101003,20,{"v":541,"d":"541 "},{"v":1,"d":"01 "},{"v":3,"d":"003 "},"長野県","小布施町","小布施村","羽場",null,"","",{"$f":"IF(K5027=\"\",\"\",COUNTIF($K$7:K5027,\"ﾘｽﾄ１\"))","v":""},"","","","","","","",{"$f":"IF(S5027=\"\",\"\",COUNTIF($S$7:S5027,\"該当２\"))","v":""},"","",{"$f":"IF(V5027=\"\",\"\",COUNTIF($V$7:V5027,\"該当３\"))","v":""}]
[2054101007,20,{"v":541,"d":"541 "},{"v":1,"d":"01 "},{"v":7,"d":"007 "},"長野県","小布施町","小布施村","小布施",null,"","",{"$f":"IF(K5031=\"\",\"\",COUNTIF($K$7:K5031,\"ﾘｽﾄ１\"))","v":""},"","","","","","","",{"$f":"IF(S5031=\"\",\"\",COUNTIF($S$7:S5031,\"該当２\"))","v":""},"","",{"$f":"IF(V5031=\"\",\"\",COUNTIF($V$7:V5031,\"該当３\"))","v":""}]
[2054101012,20,{"v":541,"d":"541 "},{"v":1,"d":"01 "},{"v":12,"d":"012 "},"長野県","小布施町","小布施村","福原",null,"","",{"$f":"IF(K5036=\"\",\"\",COUNTIF($K$7:K5036,\"ﾘｽﾄ１\"))","v":""},"","","","","","","",{"$f":"IF(S5036=\"\",\"\",COUNTIF($S$7:S5036,\"該当２\"))","v":""},"","",{"$f":"IF(V5036=\"\",\"\",COUNTIF($V$7:V5036,\"該当３\"))","v":""}]
[2054102002,20,{"v":541,"d":"541 "},{"v":2,"d":"02 "},{"v":2,"d":"002 "},"長野県","小布施町","都住村","矢島",null,"","",{"$f":"IF(K5041=\"\",\"\",COUNTIF($K$7:K5041,\"ﾘｽﾄ１\"))","v":""},"","","","","","","",{"$f":"IF(S5041=\"\",\"\",COUNTIF($S$7:S5041,\"該当２\"))","v":""},"","",{"$f":"IF(V5041=\"\",\"\",COUNTIF($V$7:V5041,\"該当３\"))","v":""}]
[2054102007,20,{"v":541,"d":"541 "},{"v":2,"d":"02 "},{"v":7,"d":"007 "},"長野県","小布施町","都住村","六川",null,"","",{"$f":"IF(K5046=\"\",\"\",COUNTIF($K$7:K5046,\"ﾘｽﾄ１\"))","v":""},"","","","","","","",{"$f":"IF(S5046=\"\",\"\",COUNTIF($S$7:S5046,\"該当２\"))","v":""},"","",{"$f":"IF(V5046=\"\",\"\",COUNTIF($V$7:V5046,\"該当３\"))","v":""}]
[2054301000,20,{"v":543,"d":"543 "},{"v":1,"d":"01 "},{"v":0,"d":"000 "},"長野県","高山村","高井村",null,null,"","",{"$f":"IF(K5048=\"\",\"\",COUNTIF($K$7:K5048,\"ﾘｽﾄ１\"))","v":""},"","","","","","","",{"$f":"IF(S5048=\"\",\"\",COUNTIF($S$7:S5048,\"該当２\"))","v":""},"","",{"$f":"IF(V5048=\"\",\"\",COUNTIF($V$7:V5048,\"該当３\"))","v":""}]
[2054301005,20,{"v":543,"d":"543 "},{"v":1,"d":"01 "},{"v":5,"d":"005 "},"長野県","高山村","高井村","赤和",null,"","",{"$f":"IF(K5053=\"\",\"\",COUNTIF($K$7:K5053,\"ﾘｽﾄ１\"))","v":""},"","","","","","","",{"$f":"IF(S5053=\"\",\"\",COUNTIF($S$7:S5053,\"該当２\"))","v":""},"","",{"$f":"IF(V5053=\"\",\"\",COUNTIF($V$7:V5053,\"該当３\"))","v":""}]
[2054301010,20,{"v":543,"d":"543 "},{"v":1,"d":"01 "},{"v":10,"d":"010 "},"長野県","高山村","高井村","牧",null,"","",{"$f":"IF(K5058=\"\",\"\",COUNTIF($K$7:K5058,\"ﾘｽﾄ１\"))","v":""},"","","","","","","",{"$f":"IF(S5058=\"\",\"\",COUNTIF($S$7:S5058,\"該当２\"))","v":""},"","",{"$f":"IF(V5058=\"\",\"\",COUNTIF($V$7:V5058,\"該当３\"))","v":""}]
[2054301011,20,{"v":543,"d":"543 "},{"v":1,"d":"01 "},{"v":11,"d":"011 "},"長野県","高山村","高井村","福井原",null,"","",{"$f":"IF(K5059=\"\",\"\",COUNTIF($K$7:K5059,\"ﾘｽﾄ１\"))","v":""},"","","","","","","",{"$f":"IF(S5059=\"\",\"\",COUNTIF($S$7:S5059,\"該当２\"))","v":""},"","",{"$f":"IF(V5059=\"\",\"\",COUNTIF($V$7:V5059,\"該当３\"))","v":""}]
[2054302005,20,{"v":543,"d":"543 "},{"v":2,"d":"02 "},{"v":5,"d":"005 "},"長野県","高山村","山田村","原宮",null,"","",{"$f":"IF(K5065=\"\",\"\",COUNTIF($K$7:K5065,\"ﾘｽﾄ１\"))","v":""},"","","","","","","",{"$f":"IF(S5065=\"\",\"\",COUNTIF($S$7:S5065,\"該当２\"))","v":""},"","",{"$f":"IF(V5065=\"\",\"\",COUNTIF($V$7:V5065,\"該当３\"))","v":""}]
[2054302010,20,{"v":543,"d":"543 "},{"v":2,"d":"02 "},{"v":10,"d":"010 "},"長野県","高山村","山田村","平塩",null,"","",{"$f":"IF(K5070=\"\",\"\",COUNTIF($K$7:K5070,\"ﾘｽﾄ１\"))","v":""},"","","","","","","",{"$f":"IF(S5070=\"\",\"\",COUNTIF($S$7:S5070,\"該当２\"))","v":""},"","",{"$f":"IF(V5070=\"\",\"\",COUNTIF($V$7:V5070,\"該当３\"))","v":""}]
[2054302015,20,{"v":543,"d":"543 "},{"v":2,"d":"02 "},{"v":15,"d":"015 "},"長野県","高山村","山田村","荻久保",null,"","",{"$f":"IF(K5075=\"\",\"\",COUNTIF($K$7:K5075,\"ﾘｽﾄ１\"))","v":""},"","","","","","","",{"$f":"IF(S5075=\"\",\"\",COUNTIF($S$7:S5075,\"該当２\"))","v":""},"","",{"$f":"IF(V5075=\"\",\"\",COUNTIF($V$7:V5075,\"該当３\"))","v":""}]
[2056101000,20,{"v":561,"d":"561 "},{"v":1,"d":"01 "},{"v":0,"d":"000 "},"長野県","山ノ内町","平穏村",null,null,"","",{"$f":"IF(K5078=\"\",\"\",COUNTIF($K$7:K5078,\"ﾘｽﾄ１\"))","v":""},"","","","","","","",{"$f":"IF(S5078=\"\",\"\",COUNTIF($S$7:S5078,\"該当２\"))","v":""},"","",{"$f":"IF(V5078=\"\",\"\",COUNTIF($V$7:V5078,\"該当３\"))","v":""}]
[2056101004,20,{"v":561,"d":"561 "},{"v":1,"d":"01 "},{"v":4,"d":"004 "},"長野県","山ノ内町","平穏村","上条",null,"","",{"$f":"IF(K5082=\"\",\"\",COUNTIF($K$7:K5082,\"ﾘｽﾄ１\"))","v":""},"","","","","","","",{"$f":"IF(S5082=\"\",\"\",COUNTIF($S$7:S5082,\"該当２\"))","v":""},"","",{"$f":"IF(V5082=\"\",\"\",COUNTIF($V$7:V5082,\"該当３\"))","v":""}]
[2056102001,20,{"v":561,"d":"561 "},{"v":2,"d":"02 "},{"v":1,"d":"001 "},"長野県","山ノ内町","穂波村","戸狩",null,"","",{"$f":"IF(K5087=\"\",\"\",COUNTIF($K$7:K5087,\"ﾘｽﾄ１\"))","v":""},"","","","","","","",{"$f":"IF(S5087=\"\",\"\",COUNTIF($S$7:S5087,\"該当２\"))","v":""},"","",{"$f":"IF(V5087=\"\",\"\",COUNTIF($V$7:V5087,\"該当３\"))","v":""}]
[2056103000,20,{"v":561,"d":"561 "},{"v":3,"d":"03 "},{"v":0,"d":"000 "},"長野県","山ノ内町","夜間瀬村",null,null,"","",{"$f":"IF(K5092=\"\",\"\",COUNTIF($K$7:K5092,\"ﾘｽﾄ１\"))","v":""},"","","","","","","",{"$f":"IF(S5092=\"\",\"\",COUNTIF($S$7:S5092,\"該当２\"))","v":""},"","",{"$f":"IF(V5092=\"\",\"\",COUNTIF($V$7:V5092,\"該当３\"))","v":""}]
[2056103004,20,{"v":561,"d":"561 "},{"v":3,"d":"03 "},{"v":4,"d":"004 "},"長野県","山ノ内町","夜間瀬村","前坂",null,"","",{"$f":"IF(K5096=\"\",\"\",COUNTIF($K$7:K5096,\"ﾘｽﾄ１\"))","v":""},"","","","","","","",{"$f":"IF(S5096=\"\",\"\",COUNTIF($S$7:S5096,\"該当２\"))","v":""},"","",{"$f":"IF(V5096=\"\",\"\",COUNTIF($V$7:V5096,\"該当３\"))","v":""}]
[2056103007,20,{"v":561,"d":"561 "},{"v":3,"d":"03 "},{"v":7,"d":"007 "},"長野県","山ノ内町","夜間瀬村","中須賀川",null,"","",{"$f":"IF(K5099=\"\",\"\",COUNTIF($K$7:K5099,\"ﾘｽﾄ１\"))","v":""},"","","","","","","",{"$f":"IF(S5099=\"\",\"\",COUNTIF($S$7:S5099,\"該当２\"))","v":""},"","",{"$f":"IF(V5099=\"\",\"\",COUNTIF($V$7:V5099,\"該当３\"))","v":""}]
[2056103012,20,{"v":561,"d":"561 "},{"v":3,"d":"03 "},{"v":12,"d":"012 "},"長野県","山ノ内町","夜間瀬村","八丁原",null,"","",{"$f":"IF(K5104=\"\",\"\",COUNTIF($K$7:K5104,\"ﾘｽﾄ１\"))","v":""},"","","","","","","",{"$f":"IF(S5104=\"\",\"\",COUNTIF($S$7:S5104,\"該当２\"))","v":""},"","",{"$f":"IF(V5104=\"\",\"\",COUNTIF($V$7:V5104,\"該当３\"))","v":""}]
[2056201003,20,{"v":562,"d":"562 "},{"v":1,"d":"01 "},{"v":3,"d":"003 "},"長野県","木島平村","往郷村","高石",null,"","",{"$f":"IF(K5109=\"\",\"\",COUNTIF($K$7:K5109,\"ﾘｽﾄ１\"))","v":""},"","","","","","","",{"$f":"IF(S5109=\"\",\"\",COUNTIF($S$7:S5109,\"該当２\"))","v":""},"","",{"$f":"IF(V5109=\"\",\"\",COUNTIF($V$7:V5109,\"該当３\"))","v":""}]
[2056201004,20,{"v":562,"d":"562 "},{"v":1,"d":"01 "},{"v":4,"d":"004 "},"長野県","木島平村","往郷村","市之割",null,"","",{"$f":"IF(K5110=\"\",\"\",COUNTIF($K$7:K5110,\"ﾘｽﾄ１\"))","v":""},"","","","","","","",{"$f":"IF(S5110=\"\",\"\",COUNTIF($S$7:S5110,\"該当２\"))","v":""},"","",{"$f":"IF(V5110=\"\",\"\",COUNTIF($V$7:V5110,\"該当３\"))","v":""}]
[2056201010,20,{"v":562,"d":"562 "},{"v":1,"d":"01 "},{"v":10,"d":"010 "},"長野県","木島平村","往郷村","千石",null,"","",{"$f":"IF(K5116=\"\",\"\",COUNTIF($K$7:K5116,\"ﾘｽﾄ１\"))","v":""},"","","","","","","",{"$f":"IF(S5116=\"\",\"\",COUNTIF($S$7:S5116,\"該当２\"))","v":""},"","",{"$f":"IF(V5116=\"\",\"\",COUNTIF($V$7:V5116,\"該当３\"))","v":""}]
[2056202001,20,{"v":562,"d":"562 "},{"v":2,"d":"02 "},{"v":1,"d":"001 "},"長野県","木島平村","穂高村","小見",null,"","",{"$f":"IF(K5121=\"\",\"\",COUNTIF($K$7:K5121,\"ﾘｽﾄ１\"))","v":""},"","","","","","","",{"$f":"IF(S5121=\"\",\"\",COUNTIF($S$7:S5121,\"該当２\"))","v":""},"","",{"$f":"IF(V5121=\"\",\"\",COUNTIF($V$7:V5121,\"該当３\"))","v":""}]
[2056202006,20,{"v":562,"d":"562 "},{"v":2,"d":"02 "},{"v":6,"d":"006 "},"長野県","木島平村","穂高村","北鴨",null,"","",{"$f":"IF(K5126=\"\",\"\",COUNTIF($K$7:K5126,\"ﾘｽﾄ１\"))","v":""},"","","","","","","",{"$f":"IF(S5126=\"\",\"\",COUNTIF($S$7:S5126,\"該当２\"))","v":""},"","",{"$f":"IF(V5126=\"\",\"\",COUNTIF($V$7:V5126,\"該当３\"))","v":""}]
[2056203001,20,{"v":562,"d":"562 "},{"v":3,"d":"03 "},{"v":1,"d":"001 "},"長野県","木島平村","上木島村","西町",null,"","",{"$f":"IF(K5128=\"\",\"\",COUNTIF($K$7:K5128,\"ﾘｽﾄ１\"))","v":""},"","","","","","","",{"$f":"IF(S5128=\"\",\"\",COUNTIF($S$7:S5128,\"該当２\"))","v":""},"","",{"$f":"IF(V5128=\"\",\"\",COUNTIF($V$7:V5128,\"該当３\"))","v":""}]
[2056203006,20,{"v":562,"d":"562 "},{"v":3,"d":"03 "},{"v":6,"d":"006 "},"長野県","木島平村","上木島村","糠千",null,"","",{"$f":"IF(K5133=\"\",\"\",COUNTIF($K$7:K5133,\"ﾘｽﾄ１\"))","v":""},"","","","","","","",{"$f":"IF(S5133=\"\",\"\",COUNTIF($S$7:S5133,\"該当２\"))","v":""},"","",{"$f":"IF(V5133=\"\",\"\",COUNTIF($V$7:V5133,\"該当３\"))","v":""}]
[2056301002,20,{"v":563,"d":"563 "},{"v":1,"d":"01 "},{"v":2,"d":"002 "},"長野県","野沢温泉村","豊郷村","坪山",null,"","",{"$f":"IF(K5138=\"\",\"\",COUNTIF($K$7:K5138,\"ﾘｽﾄ１\"))","v":""},"","","","","","","",{"$f":"IF(S5138=\"\",\"\",COUNTIF($S$7:S5138,\"該当２\"))","v":""},"","",{"$f":"IF(V5138=\"\",\"\",COUNTIF($V$7:V5138,\"該当３\"))","v":""}]
[2056302004,20,{"v":563,"d":"563 "},{"v":2,"d":"02 "},{"v":4,"d":"004 "},"長野県","野沢温泉村","市川村","東大滝",null,"","",{"$f":"IF(K5143=\"\",\"\",COUNTIF($K$7:K5143,\"ﾘｽﾄ１\"))","v":""},"","","","","","","",{"$f":"IF(S5143=\"\",\"\",COUNTIF($S$7:S5143,\"該当２\"))","v":""},"","",{"$f":"IF(V5143=\"\",\"\",COUNTIF($V$7:V5143,\"該当３\"))","v":""}]
[2056303002,20,{"v":563,"d":"563 "},{"v":3,"d":"03 "},{"v":2,"d":"002 "},"長野県","野沢温泉村","瑞穂村２－２","重地原",null,"","",{"$f":"IF(K5147=\"\",\"\",COUNTIF($K$7:K5147,\"ﾘｽﾄ１\"))","v":""},"","","","","","","",{"$f":"IF(S5147=\"\",\"\",COUNTIF($S$7:S5147,\"該当２\"))","v":""},"","",{"$f":"IF(V5147=\"\",\"\",COUNTIF($V$7:V5147,\"該当３\"))","v":""}]
[2058301001,20,{"v":583,"d":"583 "},{"v":1,"d":"01 "},{"v":1,"d":"001 "},"長野県","信濃町","柏原村","新町",null,"","",{"$f":"IF(K5150=\"\",\"\",COUNTIF($K$7:K5150,\"ﾘｽﾄ１\"))","v":""},"","","","","","","",{"$f":"IF(S5150=\"\",\"\",COUNTIF($S$7:S5150,\"該当２\"))","v":""},"","",{"$f":"IF(V5150=\"\",\"\",COUNTIF($V$7:V5150,\"該当３\"))","v":""}]
[2058301006,20,{"v":583,"d":"583 "},{"v":1,"d":"01 "},{"v":6,"d":"006 "},"長野県","信濃町","柏原村","中島町",null,"","",{"$f":"IF(K5155=\"\",\"\",COUNTIF($K$7:K5155,\"ﾘｽﾄ１\"))","v":""},"","","","","","","",{"$f":"IF(S5155=\"\",\"\",COUNTIF($S$7:S5155,\"該当２\"))","v":""},"","",{"$f":"IF(V5155=\"\",\"\",COUNTIF($V$7:V5155,\"該当３\"))","v":""}]
[2058301011,20,{"v":583,"d":"583 "},{"v":1,"d":"01 "},{"v":11,"d":"011 "},"長野県","信濃町","柏原村","熊倉",null,"","",{"$f":"IF(K5160=\"\",\"\",COUNTIF($K$7:K5160,\"ﾘｽﾄ１\"))","v":""},"","","","","","","",{"$f":"IF(S5160=\"\",\"\",COUNTIF($S$7:S5160,\"該当２\"))","v":""},"","",{"$f":"IF(V5160=\"\",\"\",COUNTIF($V$7:V5160,\"該当３\"))","v":""}]
[2058301016,20,{"v":583,"d":"583 "},{"v":1,"d":"01 "},{"v":16,"d":"016 "},"長野県","信濃町","柏原村","柏原開拓",null,"","",{"$f":"IF(K5165=\"\",\"\",COUNTIF($K$7:K5165,\"ﾘｽﾄ１\"))","v":""},"","","","","","","",{"$f":"IF(S5165=\"\",\"\",COUNTIF($S$7:S5165,\"該当２\"))","v":""},"","",{"$f":"IF(V5165=\"\",\"\",COUNTIF($V$7:V5165,\"該当３\"))","v":""}]
[2058301018,20,{"v":583,"d":"583 "},{"v":1,"d":"01 "},{"v":18,"d":"018 "},"長野県","信濃町","柏原村","長水",null,"","",{"$f":"IF(K5167=\"\",\"\",COUNTIF($K$7:K5167,\"ﾘｽﾄ１\"))","v":""},"","","","","","","",{"$f":"IF(S5167=\"\",\"\",COUNTIF($S$7:S5167,\"該当２\"))","v":""},"","",{"$f":"IF(V5167=\"\",\"\",COUNTIF($V$7:V5167,\"該当３\"))","v":""}]
[2058302003,20,{"v":583,"d":"583 "},{"v":2,"d":"02 "},{"v":3,"d":"003 "},"長野県","信濃町","信濃尻村","新町",null,"","",{"$f":"IF(K5172=\"\",\"\",COUNTIF($K$7:K5172,\"ﾘｽﾄ１\"))","v":""},"","","","","","","",{"$f":"IF(S5172=\"\",\"\",COUNTIF($S$7:S5172,\"該当２\"))","v":""},"","",{"$f":"IF(V5172=\"\",\"\",COUNTIF($V$7:V5172,\"該当３\"))","v":""}]
[2058302008,20,{"v":583,"d":"583 "},{"v":2,"d":"02 "},{"v":8,"d":"008 "},"長野県","信濃町","信濃尻村","山桑",null,"","",{"$f":"IF(K5177=\"\",\"\",COUNTIF($K$7:K5177,\"ﾘｽﾄ１\"))","v":""},"","","","","","","",{"$f":"IF(S5177=\"\",\"\",COUNTIF($S$7:S5177,\"該当２\"))","v":""},"","",{"$f":"IF(V5177=\"\",\"\",COUNTIF($V$7:V5177,\"該当３\"))","v":""}]
[2058302010,20,{"v":583,"d":"583 "},{"v":2,"d":"02 "},{"v":10,"d":"010 "},"長野県","信濃町","信濃尻村","熊坂",null,"","",{"$f":"IF(K5179=\"\",\"\",COUNTIF($K$7:K5179,\"ﾘｽﾄ１\"))","v":""},"","","","","","","",{"$f":"IF(S5179=\"\",\"\",COUNTIF($S$7:S5179,\"該当２\"))","v":""},"","",{"$f":"IF(V5179=\"\",\"\",COUNTIF($V$7:V5179,\"該当３\"))","v":""}]
[2058302015,20,{"v":583,"d":"583 "},{"v":2,"d":"02 "},{"v":15,"d":"015 "},"長野県","信濃町","信濃尻村","菅川",null,"","",{"$f":"IF(K5184=\"\",\"\",COUNTIF($K$7:K5184,\"ﾘｽﾄ１\"))","v":""},"","","","","","","",{"$f":"IF(S5184=\"\",\"\",COUNTIF($S$7:S5184,\"該当２\"))","v":""},"","",{"$f":"IF(V5184=\"\",\"\",COUNTIF($V$7:V5184,\"該当３\"))","v":""}]
[2058303004,20,{"v":583,"d":"583 "},{"v":3,"d":"03 "},{"v":4,"d":"004 "},"長野県","信濃町","古間村","南仲町",null,"","",{"$f":"IF(K5189=\"\",\"\",COUNTIF($K$7:K5189,\"ﾘｽﾄ１\"))","v":""},"","","","","","","",{"$f":"IF(S5189=\"\",\"\",COUNTIF($S$7:S5189,\"該当２\"))","v":""},"","",{"$f":"IF(V5189=\"\",\"\",COUNTIF($V$7:V5189,\"該当３\"))","v":""}]
[2058303009,20,{"v":583,"d":"583 "},{"v":3,"d":"03 "},{"v":9,"d":"009 "},"長野県","信濃町","古間村","東町，戸草",null,"","",{"$f":"IF(K5194=\"\",\"\",COUNTIF($K$7:K5194,\"ﾘｽﾄ１\"))","v":""},"","","","","","","",{"$f":"IF(S5194=\"\",\"\",COUNTIF($S$7:S5194,\"該当２\"))","v":""},"","",{"$f":"IF(V5194=\"\",\"\",COUNTIF($V$7:V5194,\"該当３\"))","v":""}]
[2058303013,20,{"v":583,"d":"583 "},{"v":3,"d":"03 "},{"v":13,"d":"013 "},"長野県","信濃町","古間村","水穴",null,"","",{"$f":"IF(K5198=\"\",\"\",COUNTIF($K$7:K5198,\"ﾘｽﾄ１\"))","v":""},"","","","","","","",{"$f":"IF(S5198=\"\",\"\",COUNTIF($S$7:S5198,\"該当２\"))","v":""},"","",{"$f":"IF(V5198=\"\",\"\",COUNTIF($V$7:V5198,\"該当３\"))","v":""}]
[2058303016,20,{"v":583,"d":"583 "},{"v":3,"d":"03 "},{"v":16,"d":"016 "},"長野県","信濃町","古間村","下荒瀬原",null,"","",{"$f":"IF(K5201=\"\",\"\",COUNTIF($K$7:K5201,\"ﾘｽﾄ１\"))","v":""},"","","","","","","",{"$f":"IF(S5201=\"\",\"\",COUNTIF($S$7:S5201,\"該当２\"))","v":""},"","",{"$f":"IF(V5201=\"\",\"\",COUNTIF($V$7:V5201,\"該当３\"))","v":""}]
[2058304003,20,{"v":583,"d":"583 "},{"v":4,"d":"04 "},{"v":3,"d":"003 "},"長野県","信濃町","富士里村","稲附",null,"","",{"$f":"IF(K5206=\"\",\"\",COUNTIF($K$7:K5206,\"ﾘｽﾄ１\"))","v":""},"","","","","","","",{"$f":"IF(S5206=\"\",\"\",COUNTIF($S$7:S5206,\"該当２\"))","v":""},"","",{"$f":"IF(V5206=\"\",\"\",COUNTIF($V$7:V5206,\"該当３\"))","v":""}]
[2058304008,20,{"v":583,"d":"583 "},{"v":4,"d":"04 "},{"v":8,"d":"008 "},"長野県","信濃町","富士里村","御料",null,"","",{"$f":"IF(K5211=\"\",\"\",COUNTIF($K$7:K5211,\"ﾘｽﾄ１\"))","v":""},"","","","","","","",{"$f":"IF(S5211=\"\",\"\",COUNTIF($S$7:S5211,\"該当２\"))","v":""},"","",{"$f":"IF(V5211=\"\",\"\",COUNTIF($V$7:V5211,\"該当３\"))","v":""}]
[2058304013,20,{"v":583,"d":"583 "},{"v":4,"d":"04 "},{"v":13,"d":"013 "},"長野県","信濃町","富士里村","中島",null,"","",{"$f":"IF(K5216=\"\",\"\",COUNTIF($K$7:K5216,\"ﾘｽﾄ１\"))","v":""},"","","","","","","",{"$f":"IF(S5216=\"\",\"\",COUNTIF($S$7:S5216,\"該当２\"))","v":""},"","",{"$f":"IF(V5216=\"\",\"\",COUNTIF($V$7:V5216,\"該当３\"))","v":""}]
[2058304015,20,{"v":583,"d":"583 "},{"v":4,"d":"04 "},{"v":15,"d":"015 "},"長野県","信濃町","富士里村","戸草",null,"","",{"$f":"IF(K5218=\"\",\"\",COUNTIF($K$7:K5218,\"ﾘｽﾄ１\"))","v":""},"","","","","","","",{"$f":"IF(S5218=\"\",\"\",COUNTIF($S$7:S5218,\"該当２\"))","v":""},"","",{"$f":"IF(V5218=\"\",\"\",COUNTIF($V$7:V5218,\"該当３\"))","v":""}]
[2058801001,20,{"v":588,"d":"588 "},{"v":1,"d":"01 "},{"v":1,"d":"001 "},"長野県","小川村","北小川村","富吉，栗本，和佐尾，松尾",null,"","",{"$f":"IF(K5223=\"\",\"\",COUNTIF($K$7:K5223,\"ﾘｽﾄ１\"))","v":""},"","","","","","","",{"$f":"IF(S5223=\"\",\"\",COUNTIF($S$7:S5223,\"該当２\"))","v":""},"","",{"$f":"IF(V5223=\"\",\"\",COUNTIF($V$7:V5223,\"該当３\"))","v":""}]
[2058801006,20,{"v":588,"d":"588 "},{"v":1,"d":"01 "},{"v":6,"d":"006 "},"長野県","小川村","北小川村","成就",null,"","",{"$f":"IF(K5228=\"\",\"\",COUNTIF($K$7:K5228,\"ﾘｽﾄ１\"))","v":""},"","","","","","","",{"$f":"IF(S5228=\"\",\"\",COUNTIF($S$7:S5228,\"該当２\"))","v":""},"","",{"$f":"IF(V5228=\"\",\"\",COUNTIF($V$7:V5228,\"該当３\"))","v":""}]
[2058801008,20,{"v":588,"d":"588 "},{"v":1,"d":"01 "},{"v":8,"d":"008 "},"長野県","小川村","北小川村","法地",null,"","",{"$f":"IF(K5230=\"\",\"\",COUNTIF($K$7:K5230,\"ﾘｽﾄ１\"))","v":""},"","","","","","","",{"$f":"IF(S5230=\"\",\"\",COUNTIF($S$7:S5230,\"該当２\"))","v":""},"","",{"$f":"IF(V5230=\"\",\"\",COUNTIF($V$7:V5230,\"該当３\"))","v":""}]
[2058801013,20,{"v":588,"d":"588 "},{"v":1,"d":"01 "},{"v":13,"d":"013 "},"長野県","小川村","北小川村","川手",null,"","",{"$f":"IF(K5235=\"\",\"\",COUNTIF($K$7:K5235,\"ﾘｽﾄ１\"))","v":""},"","","","","","","",{"$f":"IF(S5235=\"\",\"\",COUNTIF($S$7:S5235,\"該当２\"))","v":""},"","",{"$f":"IF(V5235=\"\",\"\",COUNTIF($V$7:V5235,\"該当３\"))","v":""}]
[2058802000,20,{"v":588,"d":"588 "},{"v":2,"d":"02 "},{"v":0,"d":"000 "},"長野県","小川村","南小川村",null,null,"","",{"$f":"IF(K5240=\"\",\"\",COUNTIF($K$7:K5240,\"ﾘｽﾄ１\"))","v":""},"","","","","","","",{"$f":"IF(S5240=\"\",\"\",COUNTIF($S$7:S5240,\"該当２\"))","v":""},"","",{"$f":"IF(V5240=\"\",\"\",COUNTIF($V$7:V5240,\"該当３\"))","v":""}]
[2058802005,20,{"v":588,"d":"588 "},{"v":2,"d":"02 "},{"v":5,"d":"005 "},"長野県","小川村","南小川村","田島穴尾",null,"","",{"$f":"IF(K5245=\"\",\"\",COUNTIF($K$7:K5245,\"ﾘｽﾄ１\"))","v":""},"","","","","","","",{"$f":"IF(S5245=\"\",\"\",COUNTIF($S$7:S5245,\"該当２\"))","v":""},"","",{"$f":"IF(V5245=\"\",\"\",COUNTIF($V$7:V5245,\"該当３\"))","v":""}]
[2058802008,20,{"v":588,"d":"588 "},{"v":2,"d":"02 "},{"v":8,"d":"008 "},"長野県","小川村","南小川村","蕗畑",null,"","",{"$f":"IF(K5248=\"\",\"\",COUNTIF($K$7:K5248,\"ﾘｽﾄ１\"))","v":""},"","","","","","","",{"$f":"IF(S5248=\"\",\"\",COUNTIF($S$7:S5248,\"該当２\"))","v":""},"","",{"$f":"IF(V5248=\"\",\"\",COUNTIF($V$7:V5248,\"該当３\"))","v":""}]
[2058802011,20,{"v":588,"d":"588 "},{"v":2,"d":"02 "},{"v":11,"d":"011 "},"長野県","小川村","南小川村","中尾・二反田",null,"","",{"$f":"IF(K5251=\"\",\"\",COUNTIF($K$7:K5251,\"ﾘｽﾄ１\"))","v":""},"","","","","","","",{"$f":"IF(S5251=\"\",\"\",COUNTIF($S$7:S5251,\"該当２\"))","v":""},"","",{"$f":"IF(V5251=\"\",\"\",COUNTIF($V$7:V5251,\"該当３\"))","v":""}]
[2058802012,20,{"v":588,"d":"588 "},{"v":2,"d":"02 "},{"v":12,"d":"012 "},"長野県","小川村","南小川村","高府町，釜蓋",null,"","",{"$f":"IF(K5252=\"\",\"\",COUNTIF($K$7:K5252,\"ﾘｽﾄ１\"))","v":""},"","","","","","","",{"$f":"IF(S5252=\"\",\"\",COUNTIF($S$7:S5252,\"該当２\"))","v":""},"","",{"$f":"IF(V5252=\"\",\"\",COUNTIF($V$7:V5252,\"該当３\"))","v":""}]
[2058802013,20,{"v":588,"d":"588 "},{"v":2,"d":"02 "},{"v":13,"d":"013 "},"長野県","小川村","南小川村","外石",null,"","",{"$f":"IF(K5253=\"\",\"\",COUNTIF($K$7:K5253,\"ﾘｽﾄ１\"))","v":""},"","","","","","","",{"$f":"IF(S5253=\"\",\"\",COUNTIF($S$7:S5253,\"該当２\"))","v":""},"","",{"$f":"IF(V5253=\"\",\"\",COUNTIF($V$7:V5253,\"該当３\"))","v":""}]
[2058802014,20,{"v":588,"d":"588 "},{"v":2,"d":"02 "},{"v":14,"d":"014 "},"長野県","小川村","南小川村","花尾",null,"","",{"$f":"IF(K5254=\"\",\"\",COUNTIF($K$7:K5254,\"ﾘｽﾄ１\"))","v":""},"","","","","","","",{"$f":"IF(S5254=\"\",\"\",COUNTIF($S$7:S5254,\"該当２\"))","v":""},"","",{"$f":"IF(V5254=\"\",\"\",COUNTIF($V$7:V5254,\"該当３\"))","v":""}]
[2058802015,20,{"v":588,"d":"588 "},{"v":2,"d":"02 "},{"v":15,"d":"015 "},"長野県","小川村","南小川村","花尾菅沼，花尾和田",null,"","",{"$f":"IF(K5255=\"\",\"\",COUNTIF($K$7:K5255,\"ﾘｽﾄ１\"))","v":""},"","","","","","","",{"$f":"IF(S5255=\"\",\"\",COUNTIF($S$7:S5255,\"該当２\"))","v":""},"","",{"$f":"IF(V5255=\"\",\"\",COUNTIF($V$7:V5255,\"該当３\"))","v":""}]
[2058802016,20,{"v":588,"d":"588 "},{"v":2,"d":"02 "},{"v":16,"d":"016 "},"長野県","小川村","南小川村","稲尾駒越",null,"","",{"$f":"IF(K5256=\"\",\"\",COUNTIF($K$7:K5256,\"ﾘｽﾄ１\"))","v":""},"","","","","","","",{"$f":"IF(S5256=\"\",\"\",COUNTIF($S$7:S5256,\"該当２\"))","v":""},"","",{"$f":"IF(V5256=\"\",\"\",COUNTIF($V$7:V5256,\"該当３\"))","v":""}]
[2058802017,20,{"v":588,"d":"588 "},{"v":2,"d":"02 "},{"v":17,"d":"017 "},"長野県","小川村","南小川村","梶尾",null,"","",{"$f":"IF(K5257=\"\",\"\",COUNTIF($K$7:K5257,\"ﾘｽﾄ１\"))","v":""},"","","","","","","",{"$f":"IF(S5257=\"\",\"\",COUNTIF($S$7:S5257,\"該当２\"))","v":""},"","",{"$f":"IF(V5257=\"\",\"\",COUNTIF($V$7:V5257,\"該当３\"))","v":""}]
[2058802018,20,{"v":588,"d":"588 "},{"v":2,"d":"02 "},{"v":18,"d":"018 "},"長野県","小川村","南小川村","柏土",null,"","",{"$f":"IF(K5258=\"\",\"\",COUNTIF($K$7:K5258,\"ﾘｽﾄ１\"))","v":""},"","","","","","","",{"$f":"IF(S5258=\"\",\"\",COUNTIF($S$7:S5258,\"該当２\"))","v":""},"","",{"$f":"IF(V5258=\"\",\"\",COUNTIF($V$7:V5258,\"該当３\"))","v":""}]
[2058802019,20,{"v":588,"d":"588 "},{"v":2,"d":"02 "},{"v":19,"d":"019 "},"長野県","小川村","南小川村","上野・鶴牧田団地",null,{"$f":"IF(AND($C5259>0,$H5259=\"\"),\"ﾘｽﾄ１\",\"\")","v":""},"",{"$f":"IF(K5259=\"\",\"\",COUNTIF($K$7:K5259,\"ﾘｽﾄ１\"))","v":""},"","","","","","","",{"$f":"IF(S5259=\"\",\"\",COUNTIF($S$7:S5259,\"該当２\"))","v":""},"","",{"$f":"IF(V5259=\"\",\"\",COUNTIF($V$7:V5259,\"該当３\"))","v":""}]
[2058802020,20,{"v":588,"d":"588 "},{"v":2,"d":"02 "},{"v":20,"d":"020 "},"長野県","小川村","南小川村","大久保",null,"","",{"$f":"IF(K5260=\"\",\"\",COUNTIF($K$7:K5260,\"ﾘｽﾄ１\"))","v":""},"","","","","","","",{"$f":"IF(S5260=\"\",\"\",COUNTIF($S$7:S5260,\"該当２\"))","v":""},"","",{"$f":"IF(V5260=\"\",\"\",COUNTIF($V$7:V5260,\"該当３\"))","v":""}]
[2058802021,20,{"v":588,"d":"588 "},{"v":2,"d":"02 "},{"v":21,"d":"021 "},"長野県","小川村","南小川村","美会",null,"","",{"$f":"IF(K5261=\"\",\"\",COUNTIF($K$7:K5261,\"ﾘｽﾄ１\"))","v":""},"","","","","","","",{"$f":"IF(S5261=\"\",\"\",COUNTIF($S$7:S5261,\"該当２\"))","v":""},"","",{"$f":"IF(V5261=\"\",\"\",COUNTIF($V$7:V5261,\"該当３\"))","v":""}]
[2058802022,20,{"v":588,"d":"588 "},{"v":2,"d":"02 "},{"v":22,"d":"022 "},"長野県","小川村","南小川村","細越",null,"","",{"$f":"IF(K5262=\"\",\"\",COUNTIF($K$7:K5262,\"ﾘｽﾄ１\"))","v":""},"","","","","","","",{"$f":"IF(S5262=\"\",\"\",COUNTIF($S$7:S5262,\"該当２\"))","v":""},"","",{"$f":"IF(V5262=\"\",\"\",COUNTIF($V$7:V5262,\"該当３\"))","v":""}]
[2058802023,20,{"v":588,"d":"588 "},{"v":2,"d":"02 "},{"v":23,"d":"023 "},"長野県","小川村","南小川村","小根山町",null,"","",{"$f":"IF(K5263=\"\",\"\",COUNTIF($K$7:K5263,\"ﾘｽﾄ１\"))","v":""},"","","","","","","",{"$f":"IF(S5263=\"\",\"\",COUNTIF($S$7:S5263,\"該当２\"))","v":""},"","",{"$f":"IF(V5263=\"\",\"\",COUNTIF($V$7:V5263,\"該当３\"))","v":""}]
[2058802024,20,{"v":588,"d":"588 "},{"v":2,"d":"02 "},{"v":24,"d":"024 "},"長野県","小川村","南小川村","稲荷",null,"","",{"$f":"IF(K5264=\"\",\"\",COUNTIF($K$7:K5264,\"ﾘｽﾄ１\"))","v":""},"","","","","","","",{"$f":"IF(S5264=\"\",\"\",COUNTIF($S$7:S5264,\"該当２\"))","v":""},"","",{"$f":"IF(V5264=\"\",\"\",COUNTIF($V$7:V5264,\"該当３\"))","v":""}]
[2058802025,20,{"v":588,"d":"588 "},{"v":2,"d":"02 "},{"v":25,"d":"025 "},"長野県","小川村","南小川村","裏立屋",null,"","",{"$f":"IF(K5265=\"\",\"\",COUNTIF($K$7:K5265,\"ﾘｽﾄ１\"))","v":""},"","","","","","","",{"$f":"IF(S5265=\"\",\"\",COUNTIF($S$7:S5265,\"該当２\"))","v":""},"","",{"$f":"IF(V5265=\"\",\"\",COUNTIF($V$7:V5265,\"該当３\"))","v":""}]
[2058802026,20,{"v":588,"d":"588 "},{"v":2,"d":"02 "},{"v":26,"d":"026 "},"長野県","小川村","南小川村","表立屋",null,"","",{"$f":"IF(K5266=\"\",\"\",COUNTIF($K$7:K5266,\"ﾘｽﾄ１\"))","v":""},"","","","","","","",{"$f":"IF(S5266=\"\",\"\",COUNTIF($S$7:S5266,\"該当２\"))","v":""},"","",{"$f":"IF(V5266=\"\",\"\",COUNTIF($V$7:V5266,\"該当３\"))","v":""}]
[2058802027,20,{"v":588,"d":"588 "},{"v":2,"d":"02 "},{"v":27,"d":"027 "},"長野県","小川村","南小川村","塩沢",null,"","",{"$f":"IF(K5267=\"\",\"\",COUNTIF($K$7:K5267,\"ﾘｽﾄ１\"))","v":""},"","","","","","","",{"$f":"IF(S5267=\"\",\"\",COUNTIF($S$7:S5267,\"該当２\"))","v":""},"","",{"$f":"IF(V5267=\"\",\"\",COUNTIF($V$7:V5267,\"該当３\"))","v":""}]
[2058802028,20,{"v":588,"d":"588 "},{"v":2,"d":"02 "},{"v":28,"d":"028 "},"長野県","小川村","南小川村","和手",null,"","",{"$f":"IF(K5268=\"\",\"\",COUNTIF($K$7:K5268,\"ﾘｽﾄ１\"))","v":""},"","","","","","","",{"$f":"IF(S5268=\"\",\"\",COUNTIF($S$7:S5268,\"該当２\"))","v":""},"","",{"$f":"IF(V5268=\"\",\"\",COUNTIF($V$7:V5268,\"該当３\"))","v":""}]
[2058802029,20,{"v":588,"d":"588 "},{"v":2,"d":"02 "},{"v":29,"d":"029 "},"長野県","小川村","南小川村","日影",null,"","",{"$f":"IF(K5269=\"\",\"\",COUNTIF($K$7:K5269,\"ﾘｽﾄ１\"))","v":""},"","","","","","","",{"$f":"IF(S5269=\"\",\"\",COUNTIF($S$7:S5269,\"該当２\"))","v":""},"","",{"$f":"IF(V5269=\"\",\"\",COUNTIF($V$7:V5269,\"該当３\"))","v":""}]
[2058802030,20,{"v":588,"d":"588 "},{"v":2,"d":"02 "},{"v":30,"d":"030 "},"長野県","小川村","南小川村","舞初",null,"","",{"$f":"IF(K5270=\"\",\"\",COUNTIF($K$7:K5270,\"ﾘｽﾄ１\"))","v":""},"","","","","","","",{"$f":"IF(S5270=\"\",\"\",COUNTIF($S$7:S5270,\"該当２\"))","v":""},"","",{"$f":"IF(V5270=\"\",\"\",COUNTIF($V$7:V5270,\"該当３\"))","v":""}]
[2059000000,20,{"v":590,"d":"590 "},{"v":0,"d":"00 "},{"v":0,"d":"000 "},"長野県","飯綱町",{"$nulls":3},"ﾘｽﾄ１","飯綱町",{"$f":"IF(K5271=\"\",\"\",COUNTIF($K$7:K5271,\"ﾘｽﾄ１\"))","v":76},"","","","","","","",{"$f":"IF(S5271=\"\",\"\",COUNTIF($S$7:S5271,\"該当２\"))","v":""},"","",{"$f":"IF(V5271=\"\",\"\",COUNTIF($V$7:V5271,\"該当３\"))","v":""}]
[2059001000,20,{"v":590,"d":"590 "},{"v":1,"d":"01 "},{"v":0,"d":"000 "},"長野県","飯綱町","高岡村",null,null,"","",{"$f":"IF(K5272=\"\",\"\",COUNTIF($K$7:K5272,\"ﾘｽﾄ１\"))","v":""},"","","","","","","",{"$f":"IF(S5272=\"\",\"\",COUNTIF($S$7:S5272,\"該当２\"))","v":""},"","",{"$f":"IF(V5272=\"\",\"\",COUNTIF($V$7:V5272,\"該当３\"))","v":""}]
[2059001001,20,{"v":590,"d":"590 "},{"v":1,"d":"01 "},{"v":1,"d":"001 "},"長野県","飯綱町","高岡村","袖之山",null,"","",{"$f":"IF(K5273=\"\",\"\",COUNTIF($K$7:K5273,\"ﾘｽﾄ１\"))","v":""},"","","","","","","",{"$f":"IF(S5273=\"\",\"\",COUNTIF($S$7:S5273,\"該当２\"))","v":""},"","",{"$f":"IF(V5273=\"\",\"\",COUNTIF($V$7:V5273,\"該当３\"))","v":""}]
[2059001002,20,{"v":590,"d":"590 "},{"v":1,"d":"01 "},{"v":2,"d":"002 "},"長野県","飯綱町","高岡村","地蔵久保",null,"","",{"$f":"IF(K5274=\"\",\"\",COUNTIF($K$7:K5274,\"ﾘｽﾄ１\"))","v":""},"","","","","","","",{"$f":"IF(S5274=\"\",\"\",COUNTIF($S$7:S5274,\"該当２\"))","v":""},"","",{"$f":"IF(V5274=\"\",\"\",COUNTIF($V$7:V5274,\"該当３\"))","v":""}]
[2059001003,20,{"v":590,"d":"590 "},{"v":1,"d":"01 "},{"v":3,"d":"003 "},"長野県","飯綱町","高岡村","坂口",null,"","",{"$f":"IF(K5275=\"\",\"\",COUNTIF($K$7:K5275,\"ﾘｽﾄ１\"))","v":""},"","","","","","","",{"$f":"IF(S5275=\"\",\"\",COUNTIF($S$7:S5275,\"該当２\"))","v":""},"","",{"$f":"IF(V5275=\"\",\"\",COUNTIF($V$7:V5275,\"該当３\"))","v":""}]
[2059001004,20,{"v":590,"d":"590 "},{"v":1,"d":"01 "},{"v":4,"d":"004 "},"長野県","飯綱町","高岡村","高坂",null,"","",{"$f":"IF(K5276=\"\",\"\",COUNTIF($K$7:K5276,\"ﾘｽﾄ１\"))","v":""},"","","","","","","",{"$f":"IF(S5276=\"\",\"\",COUNTIF($S$7:S5276,\"該当２\"))","v":""},"","",{"$f":"IF(V5276=\"\",\"\",COUNTIF($V$7:V5276,\"該当３\"))","v":""}]
[2059001005,20,{"v":590,"d":"590 "},{"v":1,"d":"01 "},{"v":5,"d":"005 "},"長野県","飯綱町","高岡村","夏川",null,"","",{"$f":"IF(K5277=\"\",\"\",COUNTIF($K$7:K5277,\"ﾘｽﾄ１\"))","v":""},"","","","","","","",{"$f":"IF(S5277=\"\",\"\",COUNTIF($S$7:S5277,\"該当２\"))","v":""},"","",{"$f":"IF(V5277=\"\",\"\",COUNTIF($V$7:V5277,\"該当３\"))","v":""}]
[2059001006,20,{"v":590,"d":"590 "},{"v":1,"d":"01 "},{"v":6,"d":"006 "},"長野県","飯綱町","高岡村","上村",null,"","",{"$f":"IF(K5278=\"\",\"\",COUNTIF($K$7:K5278,\"ﾘｽﾄ１\"))","v":""},"","","","","","","",{"$f":"IF(S5278=\"\",\"\",COUNTIF($S$7:S5278,\"該当２\"))","v":""},"","",{"$f":"IF(V5278=\"\",\"\",COUNTIF($V$7:V5278,\"該当３\"))","v":""}]
[2059001007,20,{"v":590,"d":"590 "},{"v":1,"d":"01 "},{"v":7,"d":"007 "},"長野県","飯綱町","高岡村","北川",null,"","",{"$f":"IF(K5279=\"\",\"\",COUNTIF($K$7:K5279,\"ﾘｽﾄ１\"))","v":""},"","","","","","","",{"$f":"IF(S5279=\"\",\"\",COUNTIF($S$7:S5279,\"該当２\"))","v":""},"","",{"$f":"IF(V5279=\"\",\"\",COUNTIF($V$7:V5279,\"該当３\"))","v":""}]
[2059001008,20,{"v":590,"d":"590 "},{"v":1,"d":"01 "},{"v":8,"d":"008 "},"長野県","飯綱町","高岡村","中宿",null,"","",{"$f":"IF(K5280=\"\",\"\",COUNTIF($K$7:K5280,\"ﾘｽﾄ１\"))","v":""},"","","","","","","",{"$f":"IF(S5280=\"\",\"\",COUNTIF($S$7:S5280,\"該当２\"))","v":""},"","",{"$f":"IF(V5280=\"\",\"\",COUNTIF($V$7:V5280,\"該当３\"))","v":""}]
[2059001009,20,{"v":590,"d":"590 "},{"v":1,"d":"01 "},{"v":9,"d":"009 "},"長野県","飯綱町","高岡村","横手",null,"","",{"$f":"IF(K5281=\"\",\"\",COUNTIF($K$7:K5281,\"ﾘｽﾄ１\"))","v":""},"","","","","","","",{"$f":"IF(S5281=\"\",\"\",COUNTIF($S$7:S5281,\"該当２\"))","v":""},"","",{"$f":"IF(V5281=\"\",\"\",COUNTIF($V$7:V5281,\"該当３\"))","v":""}]
[2059001010,20,{"v":590,"d":"590 "},{"v":1,"d":"01 "},{"v":10,"d":"010 "},"長野県","飯綱町","高岡村","古町",null,"","",{"$f":"IF(K5282=\"\",\"\",COUNTIF($K$7:K5282,\"ﾘｽﾄ１\"))","v":""},"","","","","","","",{"$f":"IF(S5282=\"\",\"\",COUNTIF($S$7:S5282,\"該当２\"))","v":""},"","",{"$f":"IF(V5282=\"\",\"\",COUNTIF($V$7:V5282,\"該当３\"))","v":""}]
[2059001011,20,{"v":590,"d":"590 "},{"v":1,"d":"01 "},{"v":11,"d":"011 "},"長野県","飯綱町","高岡村","野村上",null,"","",{"$f":"IF(K5283=\"\",\"\",COUNTIF($K$7:K5283,\"ﾘｽﾄ１\"))","v":""},"","","","","","","",{"$f":"IF(S5283=\"\",\"\",COUNTIF($S$7:S5283,\"該当２\"))","v":""},"","",{"$f":"IF(V5283=\"\",\"\",COUNTIF($V$7:V5283,\"該当３\"))","v":""}]
[2059002000,20,{"v":590,"d":"590 "},{"v":2,"d":"02 "},{"v":0,"d":"000 "},"長野県","飯綱町","中郷村",null,null,"","",{"$f":"IF(K5284=\"\",\"\",COUNTIF($K$7:K5284,\"ﾘｽﾄ１\"))","v":""},"","","","","","","",{"$f":"IF(S5284=\"\",\"\",COUNTIF($S$7:S5284,\"該当２\"))","v":""},"","",{"$f":"IF(V5284=\"\",\"\",COUNTIF($V$7:V5284,\"該当３\"))","v":""}]
[2059002001,20,{"v":590,"d":"590 "},{"v":2,"d":"02 "},{"v":1,"d":"001 "},"長野県","飯綱町","中郷村","番匠",null,"","",{"$f":"IF(K5285=\"\",\"\",COUNTIF($K$7:K5285,\"ﾘｽﾄ１\"))","v":""},"","","","","","","",{"$f":"IF(S5285=\"\",\"\",COUNTIF($S$7:S5285,\"該当２\"))","v":""},"","",{"$f":"IF(V5285=\"\",\"\",COUNTIF($V$7:V5285,\"該当３\"))","v":""}]
[2059002002,20,{"v":590,"d":"590 "},{"v":2,"d":"02 "},{"v":2,"d":"002 "},"長野県","飯綱町","中郷村","福井",null,"","",{"$f":"IF(K5286=\"\",\"\",COUNTIF($K$7:K5286,\"ﾘｽﾄ１\"))","v":""},"","","","","","","",{"$f":"IF(S5286=\"\",\"\",COUNTIF($S$7:S5286,\"該当２\"))","v":""},"","",{"$f":"IF(V5286=\"\",\"\",COUNTIF($V$7:V5286,\"該当３\"))","v":""}]
[2059002003,20,{"v":590,"d":"590 "},{"v":2,"d":"02 "},{"v":3,"d":"003 "},"長野県","飯綱町","中郷村","栄町",null,"","",{"$f":"IF(K5287=\"\",\"\",COUNTIF($K$7:K5287,\"ﾘｽﾄ１\"))","v":""},"","","","","","","",{"$f":"IF(S5287=\"\",\"\",COUNTIF($S$7:S5287,\"該当２\"))","v":""},"","",{"$f":"IF(V5287=\"\",\"\",COUNTIF($V$7:V5287,\"該当３\"))","v":""}]
[2059002004,20,{"v":590,"d":"590 "},{"v":2,"d":"02 "},{"v":4,"d":"004 "},"長野県","飯綱町","中郷村","平出",null,"","",{"$f":"IF(K5288=\"\",\"\",COUNTIF($K$7:K5288,\"ﾘｽﾄ１\"))","v":""},"","","","","","","",{"$f":"IF(S5288=\"\",\"\",COUNTIF($S$7:S5288,\"該当２\"))","v":""},"","",{"$f":"IF(V5288=\"\",\"\",COUNTIF($V$7:V5288,\"該当３\"))","v":""}]
[2059002005,20,{"v":590,"d":"590 "},{"v":2,"d":"02 "},{"v":5,"d":"005 "},"長野県","飯綱町","中郷村","四ツ屋",null,"","",{"$f":"IF(K5289=\"\",\"\",COUNTIF($K$7:K5289,\"ﾘｽﾄ１\"))","v":""},"","","","","","","",{"$f":"IF(S5289=\"\",\"\",COUNTIF($S$7:S5289,\"該当２\"))","v":""},"","",{"$f":"IF(V5289=\"\",\"\",COUNTIF($V$7:V5289,\"該当３\"))","v":""}]
[2059002006,20,{"v":590,"d":"590 "},{"v":2,"d":"02 "},{"v":6,"d":"006 "},"長野県","飯綱町","中郷村","牟礼",null,"","",{"$f":"IF(K5290=\"\",\"\",COUNTIF($K$7:K5290,\"ﾘｽﾄ１\"))","v":""},"","","","","","","",{"$f":"IF(S5290=\"\",\"\",COUNTIF($S$7:S5290,\"該当２\"))","v":""},"","",{"$f":"IF(V5290=\"\",\"\",COUNTIF($V$7:V5290,\"該当３\"))","v":""}]
[2059002007,20,{"v":590,"d":"590 "},{"v":2,"d":"02 "},{"v":7,"d":"007 "},"長野県","飯綱町","中郷村","小玉",null,"","",{"$f":"IF(K5291=\"\",\"\",COUNTIF($K$7:K5291,\"ﾘｽﾄ１\"))","v":""},"","","","","","","",{"$f":"IF(S5291=\"\",\"\",COUNTIF($S$7:S5291,\"該当２\"))","v":""},"","",{"$f":"IF(V5291=\"\",\"\",COUNTIF($V$7:V5291,\"該当３\"))","v":""}]
[2059002008,20,{"v":590,"d":"590 "},{"v":2,"d":"02 "},{"v":8,"d":"008 "},"長野県","飯綱町","中郷村","西黒川",null,"","",{"$f":"IF(K5292=\"\",\"\",COUNTIF($K$7:K5292,\"ﾘｽﾄ１\"))","v":""},"","","","","","","",{"$f":"IF(S5292=\"\",\"\",COUNTIF($S$7:S5292,\"該当２\"))","v":""},"","",{"$f":"IF(V5292=\"\",\"\",COUNTIF($V$7:V5292,\"該当３\"))","v":""}]
[2059002009,20,{"v":590,"d":"590 "},{"v":2,"d":"02 "},{"v":9,"d":"009 "},"長野県","飯綱町","中郷村","東黒川",null,"","",{"$f":"IF(K5293=\"\",\"\",COUNTIF($K$7:K5293,\"ﾘｽﾄ１\"))","v":""},"","","","","","","",{"$f":"IF(S5293=\"\",\"\",COUNTIF($S$7:S5293,\"該当２\"))","v":""},"","",{"$f":"IF(V5293=\"\",\"\",COUNTIF($V$7:V5293,\"該当３\"))","v":""}]
[2059003000,20,{"v":590,"d":"590 "},{"v":3,"d":"03 "},{"v":0,"d":"000 "},"長野県","飯綱町","三水村",null,null,"","",{"$f":"IF(K5294=\"\",\"\",COUNTIF($K$7:K5294,\"ﾘｽﾄ１\"))","v":""},"","","","","","","",{"$f":"IF(S5294=\"\",\"\",COUNTIF($S$7:S5294,\"該当２\"))","v":""},"","",{"$f":"IF(V5294=\"\",\"\",COUNTIF($V$7:V5294,\"該当３\"))","v":""}]
[2059003001,20,{"v":590,"d":"590 "},{"v":3,"d":"03 "},{"v":1,"d":"001 "},"長野県","飯綱町","三水村","普光寺西部",null,"","",{"$f":"IF(K5295=\"\",\"\",COUNTIF($K$7:K5295,\"ﾘｽﾄ１\"))","v":""},"","","","","","","",{"$f":"IF(S5295=\"\",\"\",COUNTIF($S$7:S5295,\"該当２\"))","v":""},"","",{"$f":"IF(V5295=\"\",\"\",COUNTIF($V$7:V5295,\"該当３\"))","v":""}]
[2059003002,20,{"v":590,"d":"590 "},{"v":3,"d":"03 "},{"v":2,"d":"002 "},"長野県","飯綱町","三水村","普光寺中部",null,"","",{"$f":"IF(K5296=\"\",\"\",COUNTIF($K$7:K5296,\"ﾘｽﾄ１\"))","v":""},"","","","","","","",{"$f":"IF(S5296=\"\",\"\",COUNTIF($S$7:S5296,\"該当２\"))","v":""},"","",{"$f":"IF(V5296=\"\",\"\",COUNTIF($V$7:V5296,\"該当３\"))","v":""}]
[2059003003,20,{"v":590,"d":"590 "},{"v":3,"d":"03 "},{"v":3,"d":"003 "},"長野県","飯綱町","三水村","普光寺東部",null,"","",{"$f":"IF(K5297=\"\",\"\",COUNTIF($K$7:K5297,\"ﾘｽﾄ１\"))","v":""},"","","","","","","",{"$f":"IF(S5297=\"\",\"\",COUNTIF($S$7:S5297,\"該当２\"))","v":""},"","",{"$f":"IF(V5297=\"\",\"\",COUNTIF($V$7:V5297,\"該当３\"))","v":""}]
[2059003004,20,{"v":590,"d":"590 "},{"v":3,"d":"03 "},{"v":4,"d":"004 "},"長野県","飯綱町","三水村","深沢",null,"","",{"$f":"IF(K5298=\"\",\"\",COUNTIF($K$7:K5298,\"ﾘｽﾄ１\"))","v":""},"","","","","","","",{"$f":"IF(S5298=\"\",\"\",COUNTIF($S$7:S5298,\"該当２\"))","v":""},"","",{"$f":"IF(V5298=\"\",\"\",COUNTIF($V$7:V5298,\"該当３\"))","v":""}]
[2059003005,20,{"v":590,"d":"590 "},{"v":3,"d":"03 "},{"v":5,"d":"005 "},"長野県","飯綱町","三水村","寺村",null,"","",{"$f":"IF(K5299=\"\",\"\",COUNTIF($K$7:K5299,\"ﾘｽﾄ１\"))","v":""},"","","","","","","",{"$f":"IF(S5299=\"\",\"\",COUNTIF($S$7:S5299,\"該当２\"))","v":""},"","",{"$f":"IF(V5299=\"\",\"\",COUNTIF($V$7:V5299,\"該当３\"))","v":""}]
[2059003006,20,{"v":590,"d":"590 "},{"v":3,"d":"03 "},{"v":6,"d":"006 "},"長野県","飯綱町","三水村","町",null,"","",{"$f":"IF(K5300=\"\",\"\",COUNTIF($K$7:K5300,\"ﾘｽﾄ１\"))","v":""},"","","","","","","",{"$f":"IF(S5300=\"\",\"\",COUNTIF($S$7:S5300,\"該当２\"))","v":""},"","",{"$f":"IF(V5300=\"\",\"\",COUNTIF($V$7:V5300,\"該当３\"))","v":""}]
[2059003007,20,{"v":590,"d":"590 "},{"v":3,"d":"03 "},{"v":7,"d":"007 "},"長野県","飯綱町","三水村","中峯",null,"","",{"$f":"IF(K5301=\"\",\"\",COUNTIF($K$7:K5301,\"ﾘｽﾄ１\"))","v":""},"","","","","","","",{"$f":"IF(S5301=\"\",\"\",COUNTIF($S$7:S5301,\"該当２\"))","v":""},"","",{"$f":"IF(V5301=\"\",\"\",COUNTIF($V$7:V5301,\"該当３\"))","v":""}]
[2059003008,20,{"v":590,"d":"590 "},{"v":3,"d":"03 "},{"v":8,"d":"008 "},"長野県","飯綱町","三水村","田中",null,"","",{"$f":"IF(K5302=\"\",\"\",COUNTIF($K$7:K5302,\"ﾘｽﾄ１\"))","v":""},"","","","","","","",{"$f":"IF(S5302=\"\",\"\",COUNTIF($S$7:S5302,\"該当２\"))","v":""},"","",{"$f":"IF(V5302=\"\",\"\",COUNTIF($V$7:V5302,\"該当３\"))","v":""}]
[2059003009,20,{"v":590,"d":"590 "},{"v":3,"d":"03 "},{"v":9,"d":"009 "},"長野県","飯綱町","三水村","中村",null,"",{"$f":"IF(K5303=\"ﾘｽﾄ１\",G5303,\"\")","v":""},{"$f":"IF(K5303=\"\",\"\",COUNTIF($K$7:K5303,\"ﾘｽﾄ１\"))","v":""},{"$f":"IF(AND(D5303=0,E5303>0),\"同一区\",\"\")","v":""},{"$f":"IF(AND(EXACT($K$2,G5303),H5303>0),\"該当１\",\"\")","v":""},{"$f":"IF(O5303=\"該当１\",G5303,\"\")","v":""},{"$f":"IF(O5303=\"該当１\",\"ﾘｽﾄ2\",\"\")","v":""},{"$f":"IF(Q5303=\"ﾘｽﾄ2\",H5303,\"\")","v":""},{"$f":"IF(AND(Q5303=\"ﾘｽﾄ2\",OR(I5303=0,AND(N5303=\"同一区\",E5303=1))),\"該当２\",\"\")","v":""},{"$f":"IF(S5303=\"該当２\",H5303,\"\")","v":""},{"$f":"IF(S5303=\"\",\"\",COUNTIF($S$7:S5303,\"該当２\"))","v":""},{"$f":"IF(AND($S$2=H5303,E5303>0,E5303<998),\"該当３\",\"\")","v":""},{"$f":"IF(V5303=\"該当３\",I5303,\"\")","v":""},{"$f":"IF(V5303=\"\",\"\",COUNTIF($V$7:V5303,\"該当３\"))","v":""}]
[2059003010,20,{"v":590,"d":"590 "},{"v":3,"d":"03 "},{"v":10,"d":"010 "},"長野県","飯綱町","三水村","御所ノ入",null,"","",{"$f":"IF(K5304=\"\",\"\",COUNTIF($K$7:K5304,\"ﾘｽﾄ１\"))","v":""},"","","","","","","",{"$f":"IF(S5304=\"\",\"\",COUNTIF($S$7:S5304,\"該当２\"))","v":""},"","",{"$f":"IF(V5304=\"\",\"\",COUNTIF($V$7:V5304,\"該当３\"))","v":""}]
[2059003011,20,{"v":590,"d":"590 "},{"v":3,"d":"03 "},{"v":11,"d":"011 "},"長野県","飯綱町","三水村","若宮",null,"","",{"$f":"IF(K5305=\"\",\"\",COUNTIF($K$7:K5305,\"ﾘｽﾄ１\"))","v":""},"","","","","","","",{"$f":"IF(S5305=\"\",\"\",COUNTIF($S$7:S5305,\"該当２\"))","v":""},"","",{"$f":"IF(V5305=\"\",\"\",COUNTIF($V$7:V5305,\"該当３\"))","v":""}]
[2059003012,20,{"v":590,"d":"590 "},{"v":3,"d":"03 "},{"v":12,"d":"012 "},"長野県","飯綱町","三水村","堀越",null,"","",{"$f":"IF(K5306=\"\",\"\",COUNTIF($K$7:K5306,\"ﾘｽﾄ１\"))","v":""},"","","","","","","",{"$f":"IF(S5306=\"\",\"\",COUNTIF($S$7:S5306,\"該当２\"))","v":""},"","",{"$f":"IF(V5306=\"\",\"\",COUNTIF($V$7:V5306,\"該当３\"))","v":""}]
[2059003013,20,{"v":590,"d":"590 "},{"v":3,"d":"03 "},{"v":13,"d":"013 "},"長野県","飯綱町","三水村","日向",null,"","",{"$f":"IF(K5307=\"\",\"\",COUNTIF($K$7:K5307,\"ﾘｽﾄ１\"))","v":""},"","","","","","","",{"$f":"IF(S5307=\"\",\"\",COUNTIF($S$7:S5307,\"該当２\"))","v":""},"","",{"$f":"IF(V5307=\"\",\"\",COUNTIF($V$7:V5307,\"該当３\"))","v":""}]
[2059003014,20,{"v":590,"d":"590 "},{"v":3,"d":"03 "},{"v":14,"d":"014 "},"長野県","飯綱町","三水村","谷",null,"","",{"$f":"IF(K5308=\"\",\"\",COUNTIF($K$7:K5308,\"ﾘｽﾄ１\"))","v":""},"","","","","","","",{"$f":"IF(S5308=\"\",\"\",COUNTIF($S$7:S5308,\"該当２\"))","v":""},"","",{"$f":"IF(V5308=\"\",\"\",COUNTIF($V$7:V5308,\"該当３\"))","v":""}]
[2059003015,20,{"v":590,"d":"590 "},{"v":3,"d":"03 "},{"v":15,"d":"015 "},"長野県","飯綱町","三水村","川西第１",null,"","",{"$f":"IF(K5309=\"\",\"\",COUNTIF($K$7:K5309,\"ﾘｽﾄ１\"))","v":""},"","","","","","","",{"$f":"IF(S5309=\"\",\"\",COUNTIF($S$7:S5309,\"該当２\"))","v":""},"","",{"$f":"IF(V5309=\"\",\"\",COUNTIF($V$7:V5309,\"該当３\"))","v":""}]
[2059003016,20,{"v":590,"d":"590 "},{"v":3,"d":"03 "},{"v":16,"d":"016 "},"長野県","飯綱町","三水村","川西第２",null,"","",{"$f":"IF(K5310=\"\",\"\",COUNTIF($K$7:K5310,\"ﾘｽﾄ１\"))","v":""},"","","","","","","",{"$f":"IF(S5310=\"\",\"\",COUNTIF($S$7:S5310,\"該当２\"))","v":""},"","",{"$f":"IF(V5310=\"\",\"\",COUNTIF($V$7:V5310,\"該当３\"))","v":""}]
[2059003017,20,{"v":590,"d":"590 "},{"v":3,"d":"03 "},{"v":17,"d":"017 "},"長野県","飯綱町","三水村","川北東部",null,"","",{"$f":"IF(K5311=\"\",\"\",COUNTIF($K$7:K5311,\"ﾘｽﾄ１\"))","v":""},"","","","","","","",{"$f":"IF(S5311=\"\",\"\",COUNTIF($S$7:S5311,\"該当２\"))","v":""},"","",{"$f":"IF(V5311=\"\",\"\",COUNTIF($V$7:V5311,\"該当３\"))","v":""}]
[2059003018,20,{"v":590,"d":"590 "},{"v":3,"d":"03 "},{"v":18,"d":"018 "},"長野県","飯綱町","三水村","川北西部",null,"","",{"$f":"IF(K5312=\"\",\"\",COUNTIF($K$7:K5312,\"ﾘｽﾄ１\"))","v":""},"","","","","","","",{"$f":"IF(S5312=\"\",\"\",COUNTIF($S$7:S5312,\"該当２\"))","v":""},"","",{"$f":"IF(V5312=\"\",\"\",COUNTIF($V$7:V5312,\"該当３\"))","v":""}]
[2059003019,20,{"v":590,"d":"590 "},{"v":3,"d":"03 "},{"v":19,"d":"019 "},"長野県","飯綱町","三水村","原第１",null,"","",{"$f":"IF(K5313=\"\",\"\",COUNTIF($K$7:K5313,\"ﾘｽﾄ１\"))","v":""},"","","","","","","",{"$f":"IF(S5313=\"\",\"\",COUNTIF($S$7:S5313,\"該当２\"))","v":""},"","",{"$f":"IF(V5313=\"\",\"\",COUNTIF($V$7:V5313,\"該当３\"))","v":""}]
[2059003020,20,{"v":590,"d":"590 "},{"v":3,"d":"03 "},{"v":20,"d":"020 "},"長野県","飯綱町","三水村","原第２",null,"","",{"$f":"IF(K5314=\"\",\"\",COUNTIF($K$7:K5314,\"ﾘｽﾄ１\"))","v":""},"","","","","","","",{"$f":"IF(S5314=\"\",\"\",COUNTIF($S$7:S5314,\"該当２\"))","v":""},"","",{"$f":"IF(V5314=\"\",\"\",COUNTIF($V$7:V5314,\"該当３\"))","v":""}]
[2059003021,20,{"v":590,"d":"590 "},{"v":3,"d":"03 "},{"v":21,"d":"021 "},"長野県","飯綱町","三水村","大久保",null,"","",{"$f":"IF(K5315=\"\",\"\",COUNTIF($K$7:K5315,\"ﾘｽﾄ１\"))","v":""},"","","","","","","",{"$f":"IF(S5315=\"\",\"\",COUNTIF($S$7:S5315,\"該当２\"))","v":""},"","",{"$f":"IF(V5315=\"\",\"\",COUNTIF($V$7:V5315,\"該当３\"))","v":""}]
[2059003022,20,{"v":590,"d":"590 "},{"v":3,"d":"03 "},{"v":22,"d":"022 "},"長野県","飯綱町","三水村","原第３",null,"","",{"$f":"IF(K5316=\"\",\"\",COUNTIF($K$7:K5316,\"ﾘｽﾄ１\"))","v":""},"","","","","","","",{"$f":"IF(S5316=\"\",\"\",COUNTIF($S$7:S5316,\"該当２\"))","v":""},"","",{"$f":"IF(V5316=\"\",\"\",COUNTIF($V$7:V5316,\"該当３\"))","v":""}]
[2059003023,20,{"v":590,"d":"590 "},{"v":3,"d":"03 "},{"v":23,"d":"023 "},"長野県","飯綱町","三水村","川谷",null,"","",{"$f":"IF(K5317=\"\",\"\",COUNTIF($K$7:K5317,\"ﾘｽﾄ１\"))","v":""},"","","","","","","",{"$f":"IF(S5317=\"\",\"\",COUNTIF($S$7:S5317,\"該当２\"))","v":""},"","",{"$f":"IF(V5317=\"\",\"\",COUNTIF($V$7:V5317,\"該当３\"))","v":""}]
[2059003024,20,{"v":590,"d":"590 "},{"v":3,"d":"03 "},{"v":24,"d":"024 "},"長野県","飯綱町","三水村","上赤",null,"","",{"$f":"IF(K5318=\"\",\"\",COUNTIF($K$7:K5318,\"ﾘｽﾄ１\"))","v":""},"","","","","","","",{"$f":"IF(S5318=\"\",\"\",COUNTIF($S$7:S5318,\"該当２\"))","v":""},"","",{"$f":"IF(V5318=\"\",\"\",COUNTIF($V$7:V5318,\"該当３\"))","v":""}]
[2059003025,20,{"v":590,"d":"590 "},{"v":3,"d":"03 "},{"v":25,"d":"025 "},"長野県","飯綱町","三水村","赤西",null,"","",{"$f":"IF(K5319=\"\",\"\",COUNTIF($K$7:K5319,\"ﾘｽﾄ１\"))","v":""},"","","","","","","",{"$f":"IF(S5319=\"\",\"\",COUNTIF($S$7:S5319,\"該当２\"))","v":""},"","",{"$f":"IF(V5319=\"\",\"\",COUNTIF($V$7:V5319,\"該当３\"))","v":""}]
[2059003026,20,{"v":590,"d":"590 "},{"v":3,"d":"03 "},{"v":26,"d":"026 "},"長野県","飯綱町","三水村","下赤",null,"","",{"$f":"IF(K5320=\"\",\"\",COUNTIF($K$7:K5320,\"ﾘｽﾄ１\"))","v":""},"","","","","","","",{"$f":"IF(S5320=\"\",\"\",COUNTIF($S$7:S5320,\"該当２\"))","v":""},"","",{"$f":"IF(V5320=\"\",\"\",COUNTIF($V$7:V5320,\"該当３\"))","v":""}]
[2059003027,20,{"v":590,"d":"590 "},{"v":3,"d":"03 "},{"v":27,"d":"027 "},"長野県","飯綱町","三水村","東柏原",null,"","",{"$f":"IF(K5321=\"\",\"\",COUNTIF($K$7:K5321,\"ﾘｽﾄ１\"))","v":""},"","","","","","","",{"$f":"IF(S5321=\"\",\"\",COUNTIF($S$7:S5321,\"該当２\"))","v":""},"","",{"$f":"IF(V5321=\"\",\"\",COUNTIF($V$7:V5321,\"該当３\"))","v":""}]
[2059003028,20,{"v":590,"d":"590 "},{"v":3,"d":"03 "},{"v":28,"d":"028 "},"長野県","飯綱町","三水村","奈良本",null,"","",{"$f":"IF(K5322=\"\",\"\",COUNTIF($K$7:K5322,\"ﾘｽﾄ１\"))","v":""},"","","","","","","",{"$f":"IF(S5322=\"\",\"\",COUNTIF($S$7:S5322,\"該当２\"))","v":""},"","",{"$f":"IF(V5322=\"\",\"\",COUNTIF($V$7:V5322,\"該当３\"))","v":""}]
[2060200000,20,{"v":602,"d":"602 "},{"v":0,"d":"00 "},{"v":0,"d":"000 "},"長野県","栄村",{"$nulls":3},{"$f":"IF(AND($C5323>0,$H5323=\"\"),\"ﾘｽﾄ１\",\"\")","v":"ﾘｽﾄ１"},"栄村",{"$f":"IF(K5323=\"\",\"\",COUNTIF($K$7:K5323,\"ﾘｽﾄ１\"))","v":77},"","","","","","","",{"$f":"IF(S5323=\"\",\"\",COUNTIF($S$7:S5323,\"該当２\"))","v":""},"","",{"$f":"IF(V5323=\"\",\"\",COUNTIF($V$7:V5323,\"該当３\"))","v":""}]
[2060201000,20,{"v":602,"d":"602 "},{"v":1,"d":"01 "},{"v":0,"d":"000 "},"長野県","栄村","水内村（栄村）",null,null,"","",{"$f":"IF(K5324=\"\",\"\",COUNTIF($K$7:K5324,\"ﾘｽﾄ１\"))","v":""},"","","","","","","",{"$f":"IF(S5324=\"\",\"\",COUNTIF($S$7:S5324,\"該当２\"))","v":""},"","",{"$f":"IF(V5324=\"\",\"\",COUNTIF($V$7:V5324,\"該当３\"))","v":""}]
[2060201001,20,{"v":602,"d":"602 "},{"v":1,"d":"01 "},{"v":1,"d":"001 "},"長野県","栄村","水内村（栄村）","白鳥",null,"","",{"$f":"IF(K5325=\"\",\"\",COUNTIF($K$7:K5325,\"ﾘｽﾄ１\"))","v":""},"","","","","","","",{"$f":"IF(S5325=\"\",\"\",COUNTIF($S$7:S5325,\"該当２\"))","v":""},"","",{"$f":"IF(V5325=\"\",\"\",COUNTIF($V$7:V5325,\"該当３\"))","v":""}]
[2060201002,20,{"v":602,"d":"602 "},{"v":1,"d":"01 "},{"v":2,"d":"002 "},"長野県","栄村","水内村（栄村）","平滝",null,"","",{"$f":"IF(K5326=\"\",\"\",COUNTIF($K$7:K5326,\"ﾘｽﾄ１\"))","v":""},"","","","","","","",{"$f":"IF(S5326=\"\",\"\",COUNTIF($S$7:S5326,\"該当２\"))","v":""},"","",{"$f":"IF(V5326=\"\",\"\",COUNTIF($V$7:V5326,\"該当３\"))","v":""}]
[2060201003,20,{"v":602,"d":"602 "},{"v":1,"d":"01 "},{"v":3,"d":"003 "},"長野県","栄村","水内村（栄村）","横倉",null,"","",{"$f":"IF(K5327=\"\",\"\",COUNTIF($K$7:K5327,\"ﾘｽﾄ１\"))","v":""},"","","","","","","",{"$f":"IF(S5327=\"\",\"\",COUNTIF($S$7:S5327,\"該当２\"))","v":""},"","",{"$f":"IF(V5327=\"\",\"\",COUNTIF($V$7:V5327,\"該当３\"))","v":""}]
[2060201004,20,{"v":602,"d":"602 "},{"v":1,"d":"01 "},{"v":4,"d":"004 "},"長野県","栄村","水内村（栄村）","青倉",null,"","",{"$f":"IF(K5328=\"\",\"\",COUNTIF($K$7:K5328,\"ﾘｽﾄ１\"))","v":""},"","","","","","","",{"$f":"IF(S5328=\"\",\"\",COUNTIF($S$7:S5328,\"該当２\"))","v":""},"","",{"$f":"IF(V5328=\"\",\"\",COUNTIF($V$7:V5328,\"該当３\"))","v":""}]
[2060201005,20,{"v":602,"d":"602 "},{"v":1,"d":"01 "},{"v":5,"d":"005 "},"長野県","栄村","水内村（栄村）","森",null,"","",{"$f":"IF(K5329=\"\",\"\",COUNTIF($K$7:K5329,\"ﾘｽﾄ１\"))","v":""},"","","","","","","",{"$f":"IF(S5329=\"\",\"\",COUNTIF($S$7:S5329,\"該当２\"))","v":""},"","",{"$f":"IF(V5329=\"\",\"\",COUNTIF($V$7:V5329,\"該当３\"))","v":""}]
[2060202000,20,{"v":602,"d":"602 "},{"v":2,"d":"02 "},{"v":0,"d":"000 "},"長野県","栄村","堺村",null,null,"","",{"$f":"IF(K5330=\"\",\"\",COUNTIF($K$7:K5330,\"ﾘｽﾄ１\"))","v":""},"","","","","","","",{"$f":"IF(S5330=\"\",\"\",COUNTIF($S$7:S5330,\"該当２\"))","v":""},"","",{"$f":"IF(V5330=\"\",\"\",COUNTIF($V$7:V5330,\"該当３\"))","v":""}]
[2060202001,20,{"v":602,"d":"602 "},{"v":2,"d":"02 "},{"v":1,"d":"001 "},"長野県","栄村","堺村","泉平",null,"","",{"$f":"IF(K5331=\"\",\"\",COUNTIF($K$7:K5331,\"ﾘｽﾄ１\"))","v":""},"","","","","","","",{"$f":"IF(S5331=\"\",\"\",COUNTIF($S$7:S5331,\"該当２\"))","v":""},"","",{"$f":"IF(V5331=\"\",\"\",COUNTIF($V$7:V5331,\"該当３\"))","v":""}]
[2060202002,20,{"v":602,"d":"602 "},{"v":2,"d":"02 "},{"v":2,"d":"002 "},"長野県","栄村","堺村","箕作",null,"","",{"$f":"IF(K5332=\"\",\"\",COUNTIF($K$7:K5332,\"ﾘｽﾄ１\"))","v":""},"","","","","","","",{"$f":"IF(S5332=\"\",\"\",COUNTIF($S$7:S5332,\"該当２\"))","v":""},"","",{"$f":"IF(V5332=\"\",\"\",COUNTIF($V$7:V5332,\"該当３\"))","v":""}]
[2060202003,20,{"v":602,"d":"602 "},{"v":2,"d":"02 "},{"v":3,"d":"003 "},"長野県","栄村","堺村","月岡",null,"","",{"$f":"IF(K5333=\"\",\"\",COUNTIF($K$7:K5333,\"ﾘｽﾄ１\"))","v":""},"","","","","","","",{"$f":"IF(S5333=\"\",\"\",COUNTIF($S$7:S5333,\"該当２\"))","v":""},"","",{"$f":"IF(V5333=\"\",\"\",COUNTIF($V$7:V5333,\"該当３\"))","v":""}]
[2060202004,20,{"v":602,"d":"602 "},{"v":2,"d":"02 "},{"v":4,"d":"004 "},"長野県","栄村","堺村","大久保",null,"","",{"$f":"IF(K5334=\"\",\"\",COUNTIF($K$7:K5334,\"ﾘｽﾄ１\"))","v":""},"","","","","","","",{"$f":"IF(S5334=\"\",\"\",COUNTIF($S$7:S5334,\"該当２\"))","v":""},"","",{"$f":"IF(V5334=\"\",\"\",COUNTIF($V$7:V5334,\"該当３\"))","v":""}]
[2060202005,20,{"v":602,"d":"602 "},{"v":2,"d":"02 "},{"v":5,"d":"005 "},"長野県","栄村","堺村","天地",null,"","",{"$f":"IF(K5335=\"\",\"\",COUNTIF($K$7:K5335,\"ﾘｽﾄ１\"))","v":""},"","","","","","","",{"$f":"IF(S5335=\"\",\"\",COUNTIF($S$7:S5335,\"該当２\"))","v":""},"","",{"$f":"IF(V5335=\"\",\"\",COUNTIF($V$7:V5335,\"該当３\"))","v":""}]
[2060202006,20,{"v":602,"d":"602 "},{"v":2,"d":"02 "},{"v":6,"d":"006 "},"長野県","栄村","堺村","野田沢",null,"","",{"$f":"IF(K5336=\"\",\"\",COUNTIF($K$7:K5336,\"ﾘｽﾄ１\"))","v":""},"","","","","","","",{"$f":"IF(S5336=\"\",\"\",COUNTIF($S$7:S5336,\"該当２\"))","v":""},"","",{"$f":"IF(V5336=\"\",\"\",COUNTIF($V$7:V5336,\"該当３\"))","v":""}]
[2060202007,20,{"v":602,"d":"602 "},{"v":2,"d":"02 "},{"v":7,"d":"007 "},"長野県","栄村","堺村","小滝",null,"","",{"$f":"IF(K5337=\"\",\"\",COUNTIF($K$7:K5337,\"ﾘｽﾄ１\"))","v":""},"","","","","","","",{"$f":"IF(S5337=\"\",\"\",COUNTIF($S$7:S5337,\"該当２\"))","v":""},"","",{"$f":"IF(V5337=\"\",\"\",COUNTIF($V$7:V5337,\"該当３\"))","v":""}]
[2060202008,20,{"v":602,"d":"602 "},{"v":2,"d":"02 "},{"v":8,"d":"008 "},"長野県","栄村","堺村","塩尻",null,"","",{"$f":"IF(K5338=\"\",\"\",COUNTIF($K$7:K5338,\"ﾘｽﾄ１\"))","v":""},"","","","","","","",{"$f":"IF(S5338=\"\",\"\",COUNTIF($S$7:S5338,\"該当２\"))","v":""},"","",{"$f":"IF(V5338=\"\",\"\",COUNTIF($V$7:V5338,\"該当３\"))","v":""}]
[2060202009,20,{"v":602,"d":"602 "},{"v":2,"d":"02 "},{"v":9,"d":"009 "},"長野県","栄村","堺村","雪坪",null,"","",{"$f":"IF(K5339=\"\",\"\",COUNTIF($K$7:K5339,\"ﾘｽﾄ１\"))","v":""},"","","","","","","",{"$f":"IF(S5339=\"\",\"\",COUNTIF($S$7:S5339,\"該当２\"))","v":""},"","",{"$f":"IF(V5339=\"\",\"\",COUNTIF($V$7:V5339,\"該当３\"))","v":""}]
[2060202010,20,{"v":602,"d":"602 "},{"v":2,"d":"02 "},{"v":10,"d":"010 "},"長野県","栄村","堺村","志久見",null,"","",{"$f":"IF(K5340=\"\",\"\",COUNTIF($K$7:K5340,\"ﾘｽﾄ１\"))","v":""},"","","","","","","",{"$f":"IF(S5340=\"\",\"\",COUNTIF($S$7:S5340,\"該当２\"))","v":""},"","",{"$f":"IF(V5340=\"\",\"\",COUNTIF($V$7:V5340,\"該当３\"))","v":""}]
[2060202011,20,{"v":602,"d":"602 "},{"v":2,"d":"02 "},{"v":11,"d":"011 "},"長野県","栄村","堺村","柳在家",null,"","",{"$f":"IF(K5341=\"\",\"\",COUNTIF($K$7:K5341,\"ﾘｽﾄ１\"))","v":""},"","","","","","","",{"$f":"IF(S5341=\"\",\"\",COUNTIF($S$7:S5341,\"該当２\"))","v":""},"","",{"$f":"IF(V5341=\"\",\"\",COUNTIF($V$7:V5341,\"該当３\"))","v":""}]
[2060202012,20,{"v":602,"d":"602 "},{"v":2,"d":"02 "},{"v":12,"d":"012 "},"長野県","栄村","堺村","切欠",null,"","",{"$f":"IF(K5342=\"\",\"\",COUNTIF($K$7:K5342,\"ﾘｽﾄ１\"))","v":""},"","","","","","","",{"$f":"IF(S5342=\"\",\"\",COUNTIF($S$7:S5342,\"該当２\"))","v":""},"","",{"$f":"IF(V5342=\"\",\"\",COUNTIF($V$7:V5342,\"該当３\"))","v":""}]
[2060202013,20,{"v":602,"d":"602 "},{"v":2,"d":"02 "},{"v":13,"d":"013 "},"長野県","栄村","堺村","長瀬",null,"","",{"$f":"IF(K5343=\"\",\"\",COUNTIF($K$7:K5343,\"ﾘｽﾄ１\"))","v":""},"","","","","","","",{"$f":"IF(S5343=\"\",\"\",COUNTIF($S$7:S5343,\"該当２\"))","v":""},"","",{"$f":"IF(V5343=\"\",\"\",COUNTIF($V$7:V5343,\"該当３\"))","v":""}]
[2060202014,20,{"v":602,"d":"602 "},{"v":2,"d":"02 "},{"v":14,"d":"014 "},"長野県","栄村","堺村","笹原",null,"","",{"$f":"IF(K5344=\"\",\"\",COUNTIF($K$7:K5344,\"ﾘｽﾄ１\"))","v":""},"","","","","","","",{"$f":"IF(S5344=\"\",\"\",COUNTIF($S$7:S5344,\"該当２\"))","v":""},"","",{"$f":"IF(V5344=\"\",\"\",COUNTIF($V$7:V5344,\"該当３\"))","v":""}]
[2060202015,20,{"v":602,"d":"602 "},{"v":2,"d":"02 "},{"v":15,"d":"015 "},"長野県","栄村","堺村","原向",null,"","",{"$f":"IF(K5345=\"\",\"\",COUNTIF($K$7:K5345,\"ﾘｽﾄ１\"))","v":""},"","","","","","","",{"$f":"IF(S5345=\"\",\"\",COUNTIF($S$7:S5345,\"該当２\"))","v":""},"","",{"$f":"IF(V5345=\"\",\"\",COUNTIF($V$7:V5345,\"該当３\"))","v":""}]
[2060202016,20,{"v":602,"d":"602 "},{"v":2,"d":"02 "},{"v":16,"d":"016 "},"長野県","栄村","堺村","当部",null,"","",{"$f":"IF(K5346=\"\",\"\",COUNTIF($K$7:K5346,\"ﾘｽﾄ１\"))","v":""},"","","","","","","",{"$f":"IF(S5346=\"\",\"\",COUNTIF($S$7:S5346,\"該当２\"))","v":""},"","",{"$f":"IF(V5346=\"\",\"\",COUNTIF($V$7:V5346,\"該当３\"))","v":""}]
[2060202017,20,{"v":602,"d":"602 "},{"v":2,"d":"02 "},{"v":17,"d":"017 "},"長野県","栄村","堺村","北野",null,"","",{"$f":"IF(K5347=\"\",\"\",COUNTIF($K$7:K5347,\"ﾘｽﾄ１\"))","v":""},"","","","","","","",{"$f":"IF(S5347=\"\",\"\",COUNTIF($S$7:S5347,\"該当２\"))","v":""},"","",{"$f":"IF(V5347=\"\",\"\",COUNTIF($V$7:V5347,\"該当３\"))","v":""}]
[2060202018,20,{"v":602,"d":"602 "},{"v":2,"d":"02 "},{"v":18,"d":"018 "},"長野県","栄村","堺村","天代",null,"","",{"$f":"IF(K5348=\"\",\"\",COUNTIF($K$7:K5348,\"ﾘｽﾄ１\"))","v":""},"","","","","","","",{"$f":"IF(S5348=\"\",\"\",COUNTIF($S$7:S5348,\"該当２\"))","v":""},"","",{"$f":"IF(V5348=\"\",\"\",COUNTIF($V$7:V5348,\"該当３\"))","v":""}]
[2060202019,20,{"v":602,"d":"602 "},{"v":2,"d":"02 "},{"v":19,"d":"019 "},"長野県","栄村","堺村","坪野",null,"","",{"$f":"IF(K5349=\"\",\"\",COUNTIF($K$7:K5349,\"ﾘｽﾄ１\"))","v":""},"","","","","","","",{"$f":"IF(S5349=\"\",\"\",COUNTIF($S$7:S5349,\"該当２\"))","v":""},"","",{"$f":"IF(V5349=\"\",\"\",COUNTIF($V$7:V5349,\"該当３\"))","v":""}]
[2060202020,20,{"v":602,"d":"602 "},{"v":2,"d":"02 "},{"v":20,"d":"020 "},"長野県","栄村","堺村","中野",null,"","",{"$f":"IF(K5350=\"\",\"\",COUNTIF($K$7:K5350,\"ﾘｽﾄ１\"))","v":""},"","","","","","","",{"$f":"IF(S5350=\"\",\"\",COUNTIF($S$7:S5350,\"該当２\"))","v":""},"","",{"$f":"IF(V5350=\"\",\"\",COUNTIF($V$7:V5350,\"該当３\"))","v":""}]
[2060202021,20,{"v":602,"d":"602 "},{"v":2,"d":"02 "},{"v":21,"d":"021 "},"長野県","栄村","堺村","極野",null,"","",{"$f":"IF(K5351=\"\",\"\",COUNTIF($K$7:K5351,\"ﾘｽﾄ１\"))","v":""},"","","","","","","",{"$f":"IF(S5351=\"\",\"\",COUNTIF($S$7:S5351,\"該当２\"))","v":""},"","",{"$f":"IF(V5351=\"\",\"\",COUNTIF($V$7:V5351,\"該当３\"))","v":""}]
[2060202022,20,{"v":602,"d":"602 "},{"v":2,"d":"02 "},{"v":22,"d":"022 "},"長野県","栄村","堺村","五宝木",null,"","",{"$f":"IF(K5352=\"\",\"\",COUNTIF($K$7:K5352,\"ﾘｽﾄ１\"))","v":""},"","","","","","","",{"$f":"IF(S5352=\"\",\"\",COUNTIF($S$7:S5352,\"該当２\"))","v":""},"","",{"$f":"IF(V5352=\"\",\"\",COUNTIF($V$7:V5352,\"該当３\"))","v":""}]
[2060202023,20,{"v":602,"d":"602 "},{"v":2,"d":"02 "},{"v":23,"d":"023 "},"長野県","栄村","堺村","小赤沢",null,"","",{"$f":"IF(K5353=\"\",\"\",COUNTIF($K$7:K5353,\"ﾘｽﾄ１\"))","v":""},"","","","","","","",{"$f":"IF(S5353=\"\",\"\",COUNTIF($S$7:S5353,\"該当２\"))","v":""},"","",{"$f":"IF(V5353=\"\",\"\",COUNTIF($V$7:V5353,\"該当３\"))","v":""}]
[2060202024,20,{"v":602,"d":"602 "},{"v":2,"d":"02 "},{"v":24,"d":"024 "},"長野県","栄村","堺村","屋敷",null,"","",{"$f":"IF(K5354=\"\",\"\",COUNTIF($K$7:K5354,\"ﾘｽﾄ１\"))","v":""},"","","","","","","",{"$f":"IF(S5354=\"\",\"\",COUNTIF($S$7:S5354,\"該当２\"))","v":""},"","",{"$f":"IF(V5354=\"\",\"\",COUNTIF($V$7:V5354,\"該当３\"))","v":""}]
[2060202025,20,{"v":602,"d":"602 "},{"v":2,"d":"02 "},{"v":25,"d":"025 "},"長野県","栄村","堺村","上野原",null,"","",{"$f":"IF(K5355=\"\",\"\",COUNTIF($K$7:K5355,\"ﾘｽﾄ１\"))","v":""},"","","","","","","",{"$f":"IF(S5355=\"\",\"\",COUNTIF($S$7:S5355,\"該当２\"))","v":""},"","",{"$f":"IF(V5355=\"\",\"\",COUNTIF($V$7:V5355,\"該当３\"))","v":""}]
[2060202026,20,{"v":602,"d":"602 "},{"v":2,"d":"02 "},{"v":26,"d":"026 "},"長野県","栄村","堺村","和山",null,"","",{"$f":"IF(K5356=\"\",\"\",COUNTIF($K$7:K5356,\"ﾘｽﾄ１\"))","v":""},"","","","","","","",{"$f":"IF(S5356=\"\",\"\",COUNTIF($S$7:S5356,\"該当２\"))","v":""},"","",{"$f":"IF(V5356=\"\",\"\",COUNTIF($V$7:V5356,\"該当３\"))","v":""}]
[{"$nulls":10},"","",{"$f":"IF(K5357=\"\",\"\",COUNTIF($K$7:K5357,\"ﾘｽﾄ１\"))","v":""},"","","","","","","",{"$f":"IF(S5357=\"\",\"\",COUNTIF($S$7:S5357,\"該当２\"))","v":""},"","",{"$f":"IF(V5357=\"\",\"\",COUNTIF($V$7:V5357,\"該当３\"))","v":""}]
[{"$nulls":10},"","",{"$f":"IF(K5358=\"\",\"\",COUNTIF($K$7:K5358,\"ﾘｽﾄ１\"))","v":""},"","","","","","","",{"$f":"IF(S5358=\"\",\"\",COUNTIF($S$7:S5358,\"該当２\"))","v":""},"","",{"$f":"IF(V5358=\"\",\"\",COUNTIF($V$7:V5358,\"該当３\"))","v":""}]
[{"$nulls":10},"","",{"$f":"IF(K5359=\"\",\"\",COUNTIF($K$7:K5359,\"ﾘｽﾄ１\"))","v":""},"","","","","","","",{"$f":"IF(S5359=\"\",\"\",COUNTIF($S$7:S5359,\"該当２\"))","v":""},"","",{"$f":"IF(V5359=\"\",\"\",COUNTIF($V$7:V5359,\"該当３\"))","v":""}]
[{"$nulls":10},"","",{"$f":"IF(K5360=\"\",\"\",COUNTIF($K$7:K5360,\"ﾘｽﾄ１\"))","v":""},"","","","","","","",{"$f":"IF(S5360=\"\",\"\",COUNTIF($S$7:S5360,\"該当２\"))","v":""},"","",{"$f":"IF(V5360=\"\",\"\",COUNTIF($V$7:V5360,\"該当３\"))","v":""}]
[{"$nulls":10},"","",{"$f":"IF(K5361=\"\",\"\",COUNTIF($K$7:K5361,\"ﾘｽﾄ１\"))","v":""},"","","","","","","",{"$f":"IF(S5361=\"\",\"\",COUNTIF($S$7:S5361,\"該当２\"))","v":""},"","",{"$f":"IF(V5361=\"\",\"\",COUNTIF($V$7:V5361,\"該当３\"))","v":""}]
[{"$nulls":10},"","",{"$f":"IF(K5362=\"\",\"\",COUNTIF($K$7:K5362,\"ﾘｽﾄ１\"))","v":""},"","","","","","","",{"$f":"IF(S5362=\"\",\"\",COUNTIF($S$7:S5362,\"該当２\"))","v":""},"","",{"$f":"IF(V5362=\"\",\"\",COUNTIF($V$7:V5362,\"該当３\"))","v":""}]
[{"$nulls":10},"","",{"$f":"IF(K5363=\"\",\"\",COUNTIF($K$7:K5363,\"ﾘｽﾄ１\"))","v":""},"","","","","","","",{"$f":"IF(S5363=\"\",\"\",COUNTIF($S$7:S5363,\"該当２\"))","v":""},"","",{"$f":"IF(V5363=\"\",\"\",COUNTIF($V$7:V5363,\"該当３\"))","v":""}]
[{"$nulls":10},"","",{"$f":"IF(K5364=\"\",\"\",COUNTIF($K$7:K5364,\"ﾘｽﾄ１\"))","v":""},"","","","","","","",{"$f":"IF(S5364=\"\",\"\",COUNTIF($S$7:S5364,\"該当２\"))","v":""},"","",{"$f":"IF(V5364=\"\",\"\",COUNTIF($V$7:V5364,\"該当３\"))","v":""}]
[{"$nulls":10},"","",{"$f":"IF(K5365=\"\",\"\",COUNTIF($K$7:K5365,\"ﾘｽﾄ１\"))","v":""},"","","","","","","",{"$f":"IF(S5365=\"\",\"\",COUNTIF($S$7:S5365,\"該当２\"))","v":""},"","",{"$f":"IF(V5365=\"\",\"\",COUNTIF($V$7:V5365,\"該当３\"))","v":""}]
[{"$nulls":10},"","",{"$f":"IF(K5366=\"\",\"\",COUNTIF($K$7:K5366,\"ﾘｽﾄ１\"))","v":""},"","","","","","","",{"$f":"IF(S5366=\"\",\"\",COUNTIF($S$7:S5366,\"該当２\"))","v":""},"","",{"$f":"IF(V5366=\"\",\"\",COUNTIF($V$7:V5366,\"該当３\"))","v":""}]
[{"$nulls":10},"",{"$f":"IF(K5367=\"ﾘｽﾄ１\",G5367,\"\")","v":""},{"$f":"IF(K5367=\"\",\"\",COUNTIF($K$7:K5367,\"ﾘｽﾄ１\"))","v":""},{"$f":"IF(AND(D5367=0,E5367>0),\"同一区\",\"\")","v":""},{"$f":"IF(AND(EXACT($K$2,G5367),H5367>0),\"該当１\",\"\")","v":""},{"$f":"IF(O5367=\"該当１\",G5367,\"\")","v":""},{"$f":"IF(O5367=\"該当１\",\"ﾘｽﾄ2\",\"\")","v":""},{"$f":"IF(Q5367=\"ﾘｽﾄ2\",H5367,\"\")","v":""},{"$f":"IF(AND(Q5367=\"ﾘｽﾄ2\",OR(I5367=0,AND(N5367=\"同一区\",E5367=1))),\"該当２\",\"\")","v":""},{"$f":"IF(S5367=\"該当２\",H5367,\"\")","v":""},{"$f":"IF(S5367=\"\",\"\",COUNTIF($S$7:S5367,\"該当２\"))","v":""},{"$f":"IF(AND($S$2=H5367,E5367>0,E5367<998),\"該当３\",\"\")","v":""},{"$f":"IF(V5367=\"該当３\",I5367,\"\")","v":""},{"$f":"IF(V5367=\"\",\"\",COUNTIF($V$7:V5367,\"該当３\"))","v":""}]
[{"$nulls":10},"","",{"$f":"IF(K5368=\"\",\"\",COUNTIF($K$7:K5368,\"ﾘｽﾄ１\"))","v":""},"","","","","","","",{"$f":"IF(S5368=\"\",\"\",COUNTIF($S$7:S5368,\"該当２\"))","v":""},"","",{"$f":"IF(V5368=\"\",\"\",COUNTIF($V$7:V5368,\"該当３\"))","v":""}]
[{"$nulls":10},"","",{"$f":"IF(K5369=\"\",\"\",COUNTIF($K$7:K5369,\"ﾘｽﾄ１\"))","v":""},"","","","","","","",{"$f":"IF(S5369=\"\",\"\",COUNTIF($S$7:S5369,\"該当２\"))","v":""},"","",{"$f":"IF(V5369=\"\",\"\",COUNTIF($V$7:V5369,\"該当３\"))","v":""}]
[{"$nulls":10},"","",{"$f":"IF(K5370=\"\",\"\",COUNTIF($K$7:K5370,\"ﾘｽﾄ１\"))","v":""},"","","","","","","",{"$f":"IF(S5370=\"\",\"\",COUNTIF($S$7:S5370,\"該当２\"))","v":""},"","",{"$f":"IF(V5370=\"\",\"\",COUNTIF($V$7:V5370,\"該当３\"))","v":""}]
[{"$nulls":10},"","",{"$f":"IF(K5371=\"\",\"\",COUNTIF($K$7:K5371,\"ﾘｽﾄ１\"))","v":""},"","","","","","","",{"$f":"IF(S5371=\"\",\"\",COUNTIF($S$7:S5371,\"該当２\"))","v":""},"","",{"$f":"IF(V5371=\"\",\"\",COUNTIF($V$7:V5371,\"該当３\"))","v":""}]
[{"$nulls":10},"","",{"$f":"IF(K5372=\"\",\"\",COUNTIF($K$7:K5372,\"ﾘｽﾄ１\"))","v":""},"","","","","","","",{"$f":"IF(S5372=\"\",\"\",COUNTIF($S$7:S5372,\"該当２\"))","v":""},"","",{"$f":"IF(V5372=\"\",\"\",COUNTIF($V$7:V5372,\"該当３\"))","v":""}]
[{"$nulls":10},"","",{"$f":"IF(K5373=\"\",\"\",COUNTIF($K$7:K5373,\"ﾘｽﾄ１\"))","v":""},"","","","","","","",{"$f":"IF(S5373=\"\",\"\",COUNTIF($S$7:S5373,\"該当２\"))","v":""},"","",{"$f":"IF(V5373=\"\",\"\",COUNTIF($V$7:V5373,\"該当３\"))","v":""}]
[{"$nulls":10},"","",{"$f":"IF(K5374=\"\",\"\",COUNTIF($K$7:K5374,\"ﾘｽﾄ１\"))","v":""},"","","","","","","",{"$f":"IF(S5374=\"\",\"\",COUNTIF($S$7:S5374,\"該当２\"))","v":""},"","",{"$f":"IF(V5374=\"\",\"\",COUNTIF($V$7:V5374,\"該当３\"))","v":""}]
[{"$nulls":10},"","",{"$f":"IF(K5375=\"\",\"\",COUNTIF($K$7:K5375,\"ﾘｽﾄ１\"))","v":""},"","","","","","","",{"$f":"IF(S5375=\"\",\"\",COUNTIF($S$7:S5375,\"該当２\"))","v":""},"","",{"$f":"IF(V5375=\"\",\"\",COUNTIF($V$7:V5375,\"該当３\"))","v":""}]
[{"$nulls":10},"","",{"$f":"IF(K5376=\"\",\"\",COUNTIF($K$7:K5376,\"ﾘｽﾄ１\"))","v":""},"","","","","","","",{"$f":"IF(S5376=\"\",\"\",COUNTIF($S$7:S5376,\"該当２\"))","v":""},"","",{"$f":"IF(V5376=\"\",\"\",COUNTIF($V$7:V5376,\"該当３\"))","v":""}]
[{"$nulls":10},"","",{"$f":"IF(K5377=\"\",\"\",COUNTIF($K$7:K5377,\"ﾘｽﾄ１\"))","v":""},"","","","","","","",{"$f":"IF(S5377=\"\",\"\",COUNTIF($S$7:S5377,\"該当２\"))","v":""},"","",{"$f":"IF(V5377=\"\",\"\",COUNTIF($V$7:V5377,\"該当３\"))","v":""}]
[{"$nulls":10},"","",{"$f":"IF(K5378=\"\",\"\",COUNTIF($K$7:K5378,\"ﾘｽﾄ１\"))","v":""},"","","","","","","",{"$f":"IF(S5378=\"\",\"\",COUNTIF($S$7:S5378,\"該当２\"))","v":""},"","",{"$f":"IF(V5378=\"\",\"\",COUNTIF($V$7:V5378,\"該当３\"))","v":""}]
[{"$nulls":10},"","",{"$f":"IF(K5379=\"\",\"\",COUNTIF($K$7:K5379,\"ﾘｽﾄ１\"))","v":""},"","","","","","","",{"$f":"IF(S5379=\"\",\"\",COUNTIF($S$7:S5379,\"該当２\"))","v":""},"","",{"$f":"IF(V5379=\"\",\"\",COUNTIF($V$7:V5379,\"該当３\"))","v":""}]
[{"$nulls":10},"","",{"$f":"IF(K5380=\"\",\"\",COUNTIF($K$7:K5380,\"ﾘｽﾄ１\"))","v":""},"","","","","","","",{"$f":"IF(S5380=\"\",\"\",COUNTIF($S$7:S5380,\"該当２\"))","v":""},"","",{"$f":"IF(V5380=\"\",\"\",COUNTIF($V$7:V5380,\"該当３\"))","v":""}]
[{"$nulls":10},"","",{"$f":"IF(K5381=\"\",\"\",COUNTIF($K$7:K5381,\"ﾘｽﾄ１\"))","v":""},"","","","","","","",{"$f":"IF(S5381=\"\",\"\",COUNTIF($S$7:S5381,\"該当２\"))","v":""},"","",{"$f":"IF(V5381=\"\",\"\",COUNTIF($V$7:V5381,\"該当３\"))","v":""}]
[{"$nulls":10},"","",{"$f":"IF(K5382=\"\",\"\",COUNTIF($K$7:K5382,\"ﾘｽﾄ１\"))","v":""},"","","","","","","",{"$f":"IF(S5382=\"\",\"\",COUNTIF($S$7:S5382,\"該当２\"))","v":""},"","",{"$f":"IF(V5382=\"\",\"\",COUNTIF($V$7:V5382,\"該当３\"))","v":""}]
[{"$nulls":10},"","",{"$f":"IF(K5383=\"\",\"\",COUNTIF($K$7:K5383,\"ﾘｽﾄ１\"))","v":""},"","","","","","","",{"$f":"IF(S5383=\"\",\"\",COUNTIF($S$7:S5383,\"該当２\"))","v":""},"","",{"$f":"IF(V5383=\"\",\"\",COUNTIF($V$7:V5383,\"該当３\"))","v":""}]
[{"$nulls":10},"","",{"$f":"IF(K5384=\"\",\"\",COUNTIF($K$7:K5384,\"ﾘｽﾄ１\"))","v":""},"","","","","","","",{"$f":"IF(S5384=\"\",\"\",COUNTIF($S$7:S5384,\"該当２\"))","v":""},"","",{"$f":"IF(V5384=\"\",\"\",COUNTIF($V$7:V5384,\"該当３\"))","v":""}]
[{"$nulls":10},"","",{"$f":"IF(K5385=\"\",\"\",COUNTIF($K$7:K5385,\"ﾘｽﾄ１\"))","v":""},"","","","","","","",{"$f":"IF(S5385=\"\",\"\",COUNTIF($S$7:S5385,\"該当２\"))","v":""},"","",{"$f":"IF(V5385=\"\",\"\",COUNTIF($V$7:V5385,\"該当３\"))","v":""}]
[{"$nulls":10},"","",{"$f":"IF(K5386=\"\",\"\",COUNTIF($K$7:K5386,\"ﾘｽﾄ１\"))","v":""},"","","","","","","",{"$f":"IF(S5386=\"\",\"\",COUNTIF($S$7:S5386,\"該当２\"))","v":""},"","",{"$f":"IF(V5386=\"\",\"\",COUNTIF($V$7:V5386,\"該当３\"))","v":""}]
[{"$nulls":10},{"$f":"IF(AND($C5387>0,$H5387=\"\"),\"ﾘｽﾄ１\",\"\")","v":""},"",{"$f":"IF(K5387=\"\",\"\",COUNTIF($K$7:K5387,\"ﾘｽﾄ１\"))","v":""},"","","","","","","",{"$f":"IF(S5387=\"\",\"\",COUNTIF($S$7:S5387,\"該当２\"))","v":""},"","",{"$f":"IF(V5387=\"\",\"\",COUNTIF($V$7:V5387,\"該当３\"))","v":""}]
[{"$nulls":10},"","",{"$f":"IF(K5388=\"\",\"\",COUNTIF($K$7:K5388,\"ﾘｽﾄ１\"))","v":""},"","","","","","","",{"$f":"IF(S5388=\"\",\"\",COUNTIF($S$7:S5388,\"該当２\"))","v":""},"","",{"$f":"IF(V5388=\"\",\"\",COUNTIF($V$7:V5388,\"該当３\"))","v":""}]
[{"$nulls":10},"","",{"$f":"IF(K5389=\"\",\"\",COUNTIF($K$7:K5389,\"ﾘｽﾄ１\"))","v":""},"","","","","","","",{"$f":"IF(S5389=\"\",\"\",COUNTIF($S$7:S5389,\"該当２\"))","v":""},"","",{"$f":"IF(V5389=\"\",\"\",COUNTIF($V$7:V5389,\"該当３\"))","v":""}]
[{"$nulls":10},"","",{"$f":"IF(K5390=\"\",\"\",COUNTIF($K$7:K5390,\"ﾘｽﾄ１\"))","v":""},"","","","","","","",{"$f":"IF(S5390=\"\",\"\",COUNTIF($S$7:S5390,\"該当２\"))","v":""},"","",{"$f":"IF(V5390=\"\",\"\",COUNTIF($V$7:V5390,\"該当３\"))","v":""}]
[{"$nulls":10},"","",{"$f":"IF(K5391=\"\",\"\",COUNTIF($K$7:K5391,\"ﾘｽﾄ１\"))","v":""},"","","","","","","",{"$f":"IF(S5391=\"\",\"\",COUNTIF($S$7:S5391,\"該当２\"))","v":""},"","",{"$f":"IF(V5391=\"\",\"\",COUNTIF($V$7:V5391,\"該当３\"))","v":""}]
[{"$nulls":10},"","",{"$f":"IF(K5392=\"\",\"\",COUNTIF($K$7:K5392,\"ﾘｽﾄ１\"))","v":""},"","","","","","","",{"$f":"IF(S5392=\"\",\"\",COUNTIF($S$7:S5392,\"該当２\"))","v":""},"","",{"$f":"IF(V5392=\"\",\"\",COUNTIF($V$7:V5392,\"該当３\"))","v":""}]
[{"$nulls":10},"","",{"$f":"IF(K5393=\"\",\"\",COUNTIF($K$7:K5393,\"ﾘｽﾄ１\"))","v":""},"","","","","","","",{"$f":"IF(S5393=\"\",\"\",COUNTIF($S$7:S5393,\"該当２\"))","v":""},"","",{"$f":"IF(V5393=\"\",\"\",COUNTIF($V$7:V5393,\"該当３\"))","v":""}]
[{"$nulls":10},"","",{"$f":"IF(K5394=\"\",\"\",COUNTIF($K$7:K5394,\"ﾘｽﾄ１\"))","v":""},"","","","","","","",{"$f":"IF(S5394=\"\",\"\",COUNTIF($S$7:S5394,\"該当２\"))","v":""},"","",{"$f":"IF(V5394=\"\",\"\",COUNTIF($V$7:V5394,\"該当３\"))","v":""}]
[{"$nulls":10},"","",{"$f":"IF(K5395=\"\",\"\",COUNTIF($K$7:K5395,\"ﾘｽﾄ１\"))","v":""},"","","","","","","",{"$f":"IF(S5395=\"\",\"\",COUNTIF($S$7:S5395,\"該当２\"))","v":""},"","",{"$f":"IF(V5395=\"\",\"\",COUNTIF($V$7:V5395,\"該当３\"))","v":""}]
[{"$nulls":10},"","",{"$f":"IF(K5396=\"\",\"\",COUNTIF($K$7:K5396,\"ﾘｽﾄ１\"))","v":""},"","","","","","","",{"$f":"IF(S5396=\"\",\"\",COUNTIF($S$7:S5396,\"該当２\"))","v":""},"","",{"$f":"IF(V5396=\"\",\"\",COUNTIF($V$7:V5396,\"該当３\"))","v":""}]
[{"$nulls":10},"","",{"$f":"IF(K5397=\"\",\"\",COUNTIF($K$7:K5397,\"ﾘｽﾄ１\"))","v":""},"","","","","","","",{"$f":"IF(S5397=\"\",\"\",COUNTIF($S$7:S5397,\"該当２\"))","v":""},"","",{"$f":"IF(V5397=\"\",\"\",COUNTIF($V$7:V5397,\"該当３\"))","v":""}]
[{"$nulls":10},"","",{"$f":"IF(K5398=\"\",\"\",COUNTIF($K$7:K5398,\"ﾘｽﾄ１\"))","v":""},"","","","","","","",{"$f":"IF(S5398=\"\",\"\",COUNTIF($S$7:S5398,\"該当２\"))","v":""},"","",{"$f":"IF(V5398=\"\",\"\",COUNTIF($V$7:V5398,\"該当３\"))","v":""}]
[{"$nulls":10},"","",{"$f":"IF(K5399=\"\",\"\",COUNTIF($K$7:K5399,\"ﾘｽﾄ１\"))","v":""},"","","","","","","",{"$f":"IF(S5399=\"\",\"\",COUNTIF($S$7:S5399,\"該当２\"))","v":""},"","",{"$f":"IF(V5399=\"\",\"\",COUNTIF($V$7:V5399,\"該当３\"))","v":""}]
[{"$nulls":10},"","",{"$f":"IF(K5400=\"\",\"\",COUNTIF($K$7:K5400,\"ﾘｽﾄ１\"))","v":""},"","","","","","","",{"$f":"IF(S5400=\"\",\"\",COUNTIF($S$7:S5400,\"該当２\"))","v":""},"","",{"$f":"IF(V5400=\"\",\"\",COUNTIF($V$7:V5400,\"該当３\"))","v":""}]
[{"$nulls":10},"","",{"$f":"IF(K5401=\"\",\"\",COUNTIF($K$7:K5401,\"ﾘｽﾄ１\"))","v":""},"","","","","","","",{"$f":"IF(S5401=\"\",\"\",COUNTIF($S$7:S5401,\"該当２\"))","v":""},"","",{"$f":"IF(V5401=\"\",\"\",COUNTIF($V$7:V5401,\"該当３\"))","v":""}]
[{"$nulls":10},"","",{"$f":"IF(K5402=\"\",\"\",COUNTIF($K$7:K5402,\"ﾘｽﾄ１\"))","v":""},"","","","","","","",{"$f":"IF(S5402=\"\",\"\",COUNTIF($S$7:S5402,\"該当２\"))","v":""},"","",{"$f":"IF(V5402=\"\",\"\",COUNTIF($V$7:V5402,\"該当３\"))","v":""}]
[{"$nulls":10},"","",{"$f":"IF(K5403=\"\",\"\",COUNTIF($K$7:K5403,\"ﾘｽﾄ１\"))","v":""},"","","","","","","",{"$f":"IF(S5403=\"\",\"\",COUNTIF($S$7:S5403,\"該当２\"))","v":""},"","",{"$f":"IF(V5403=\"\",\"\",COUNTIF($V$7:V5403,\"該当３\"))","v":""}]
[{"$nulls":10},"","",{"$f":"IF(K5404=\"\",\"\",COUNTIF($K$7:K5404,\"ﾘｽﾄ１\"))","v":""},"","","","","","","",{"$f":"IF(S5404=\"\",\"\",COUNTIF($S$7:S5404,\"該当２\"))","v":""},"","",{"$f":"IF(V5404=\"\",\"\",COUNTIF($V$7:V5404,\"該当３\"))","v":""}]
[{"$nulls":10},"","",{"$f":"IF(K5405=\"\",\"\",COUNTIF($K$7:K5405,\"ﾘｽﾄ１\"))","v":""},"","","","","","","",{"$f":"IF(S5405=\"\",\"\",COUNTIF($S$7:S5405,\"該当２\"))","v":""},"","",{"$f":"IF(V5405=\"\",\"\",COUNTIF($V$7:V5405,\"該当３\"))","v":""}]
[{"$nulls":10},"","",{"$f":"IF(K5406=\"\",\"\",COUNTIF($K$7:K5406,\"ﾘｽﾄ１\"))","v":""},"","","","","","","",{"$f":"IF(S5406=\"\",\"\",COUNTIF($S$7:S5406,\"該当２\"))","v":""},"","",{"$f":"IF(V5406=\"\",\"\",COUNTIF($V$7:V5406,\"該当３\"))","v":""}]
[{"$nulls":10},"","",{"$f":"IF(K5407=\"\",\"\",COUNTIF($K$7:K5407,\"ﾘｽﾄ１\"))","v":""},"","","","","","","",{"$f":"IF(S5407=\"\",\"\",COUNTIF($S$7:S5407,\"該当２\"))","v":""},"","",{"$f":"IF(V5407=\"\",\"\",COUNTIF($V$7:V5407,\"該当３\"))","v":""}]
[{"$nulls":10},"","",{"$f":"IF(K5408=\"\",\"\",COUNTIF($K$7:K5408,\"ﾘｽﾄ１\"))","v":""},"","","","","","","",{"$f":"IF(S5408=\"\",\"\",COUNTIF($S$7:S5408,\"該当２\"))","v":""},"","",{"$f":"IF(V5408=\"\",\"\",COUNTIF($V$7:V5408,\"該当３\"))","v":""}]
[{"$nulls":10},"","",{"$f":"IF(K5409=\"\",\"\",COUNTIF($K$7:K5409,\"ﾘｽﾄ１\"))","v":""},"","","","","","","",{"$f":"IF(S5409=\"\",\"\",COUNTIF($S$7:S5409,\"該当２\"))","v":""},"","",{"$f":"IF(V5409=\"\",\"\",COUNTIF($V$7:V5409,\"該当３\"))","v":""}]
[{"$nulls":10},"","",{"$f":"IF(K5410=\"\",\"\",COUNTIF($K$7:K5410,\"ﾘｽﾄ１\"))","v":""},"","","","","","","",{"$f":"IF(S5410=\"\",\"\",COUNTIF($S$7:S5410,\"該当２\"))","v":""},"","",{"$f":"IF(V5410=\"\",\"\",COUNTIF($V$7:V5410,\"該当３\"))","v":""}]
[{"$nulls":10},"","",{"$f":"IF(K5411=\"\",\"\",COUNTIF($K$7:K5411,\"ﾘｽﾄ１\"))","v":""},"","","","","","","",{"$f":"IF(S5411=\"\",\"\",COUNTIF($S$7:S5411,\"該当２\"))","v":""},"","",{"$f":"IF(V5411=\"\",\"\",COUNTIF($V$7:V5411,\"該当３\"))","v":""}]
[{"$nulls":10},"","",{"$f":"IF(K5412=\"\",\"\",COUNTIF($K$7:K5412,\"ﾘｽﾄ１\"))","v":""},"","","","","","","",{"$f":"IF(S5412=\"\",\"\",COUNTIF($S$7:S5412,\"該当２\"))","v":""},"","",{"$f":"IF(V5412=\"\",\"\",COUNTIF($V$7:V5412,\"該当３\"))","v":""}]
[{"$nulls":10},"","",{"$f":"IF(K5413=\"\",\"\",COUNTIF($K$7:K5413,\"ﾘｽﾄ１\"))","v":""},"","","","","","","",{"$f":"IF(S5413=\"\",\"\",COUNTIF($S$7:S5413,\"該当２\"))","v":""},"","",{"$f":"IF(V5413=\"\",\"\",COUNTIF($V$7:V5413,\"該当３\"))","v":""}]
[{"$nulls":10},"","",{"$f":"IF(K5414=\"\",\"\",COUNTIF($K$7:K5414,\"ﾘｽﾄ１\"))","v":""},"","","","","","","",{"$f":"IF(S5414=\"\",\"\",COUNTIF($S$7:S5414,\"該当２\"))","v":""},"","",{"$f":"IF(V5414=\"\",\"\",COUNTIF($V$7:V5414,\"該当３\"))","v":""}]
[{"$nulls":10},"","",{"$f":"IF(K5415=\"\",\"\",COUNTIF($K$7:K5415,\"ﾘｽﾄ１\"))","v":""},"","","","","","","",{"$f":"IF(S5415=\"\",\"\",COUNTIF($S$7:S5415,\"該当２\"))","v":""},"","",{"$f":"IF(V5415=\"\",\"\",COUNTIF($V$7:V5415,\"該当３\"))","v":""}]
[{"$nulls":10},"","",{"$f":"IF(K5416=\"\",\"\",COUNTIF($K$7:K5416,\"ﾘｽﾄ１\"))","v":""},"","","","","","","",{"$f":"IF(S5416=\"\",\"\",COUNTIF($S$7:S5416,\"該当２\"))","v":""},"","",{"$f":"IF(V5416=\"\",\"\",COUNTIF($V$7:V5416,\"該当３\"))","v":""}]
[{"$nulls":10},"","",{"$f":"IF(K5417=\"\",\"\",COUNTIF($K$7:K5417,\"ﾘｽﾄ１\"))","v":""},"","","","","","","",{"$f":"IF(S5417=\"\",\"\",COUNTIF($S$7:S5417,\"該当２\"))","v":""},"","",{"$f":"IF(V5417=\"\",\"\",COUNTIF($V$7:V5417,\"該当３\"))","v":""}]
[{"$nulls":10},"","",{"$f":"IF(K5418=\"\",\"\",COUNTIF($K$7:K5418,\"ﾘｽﾄ１\"))","v":""},"","","","","","","",{"$f":"IF(S5418=\"\",\"\",COUNTIF($S$7:S5418,\"該当２\"))","v":""},"","",{"$f":"IF(V5418=\"\",\"\",COUNTIF($V$7:V5418,\"該当３\"))","v":""}]
[{"$nulls":10},"","",{"$f":"IF(K5419=\"\",\"\",COUNTIF($K$7:K5419,\"ﾘｽﾄ１\"))","v":""},"","","","","","","",{"$f":"IF(S5419=\"\",\"\",COUNTIF($S$7:S5419,\"該当２\"))","v":""},"","",{"$f":"IF(V5419=\"\",\"\",COUNTIF($V$7:V5419,\"該当３\"))","v":""}]
[{"$nulls":10},"","",{"$f":"IF(K5420=\"\",\"\",COUNTIF($K$7:K5420,\"ﾘｽﾄ１\"))","v":""},"","","","","","","",{"$f":"IF(S5420=\"\",\"\",COUNTIF($S$7:S5420,\"該当２\"))","v":""},"","",{"$f":"IF(V5420=\"\",\"\",COUNTIF($V$7:V5420,\"該当３\"))","v":""}]
[{"$nulls":10},"","",{"$f":"IF(K5421=\"\",\"\",COUNTIF($K$7:K5421,\"ﾘｽﾄ１\"))","v":""},"","","","","","","",{"$f":"IF(S5421=\"\",\"\",COUNTIF($S$7:S5421,\"該当２\"))","v":""},"","",{"$f":"IF(V5421=\"\",\"\",COUNTIF($V$7:V5421,\"該当３\"))","v":""}]
[{"$nulls":10},"","",{"$f":"IF(K5422=\"\",\"\",COUNTIF($K$7:K5422,\"ﾘｽﾄ１\"))","v":""},"","","","","","","",{"$f":"IF(S5422=\"\",\"\",COUNTIF($S$7:S5422,\"該当２\"))","v":""},"","",{"$f":"IF(V5422=\"\",\"\",COUNTIF($V$7:V5422,\"該当３\"))","v":""}]
[{"$nulls":10},"","",{"$f":"IF(K5423=\"\",\"\",COUNTIF($K$7:K5423,\"ﾘｽﾄ１\"))","v":""},"","","","","","","",{"$f":"IF(S5423=\"\",\"\",COUNTIF($S$7:S5423,\"該当２\"))","v":""},"","",{"$f":"IF(V5423=\"\",\"\",COUNTIF($V$7:V5423,\"該当３\"))","v":""}]
[{"$nulls":10},"","",{"$f":"IF(K5424=\"\",\"\",COUNTIF($K$7:K5424,\"ﾘｽﾄ１\"))","v":""},"","","","","","","",{"$f":"IF(S5424=\"\",\"\",COUNTIF($S$7:S5424,\"該当２\"))","v":""},"","",{"$f":"IF(V5424=\"\",\"\",COUNTIF($V$7:V5424,\"該当３\"))","v":""}]
[{"$nulls":10},"","",{"$f":"IF(K5425=\"\",\"\",COUNTIF($K$7:K5425,\"ﾘｽﾄ１\"))","v":""},"","","","","","","",{"$f":"IF(S5425=\"\",\"\",COUNTIF($S$7:S5425,\"該当２\"))","v":""},"","",{"$f":"IF(V5425=\"\",\"\",COUNTIF($V$7:V5425,\"該当３\"))","v":""}]
[{"$nulls":10},"","",{"$f":"IF(K5426=\"\",\"\",COUNTIF($K$7:K5426,\"ﾘｽﾄ１\"))","v":""},"","","","","","","",{"$f":"IF(S5426=\"\",\"\",COUNTIF($S$7:S5426,\"該当２\"))","v":""},"","",{"$f":"IF(V5426=\"\",\"\",COUNTIF($V$7:V5426,\"該当３\"))","v":""}]
[{"$nulls":10},"","",{"$f":"IF(K5427=\"\",\"\",COUNTIF($K$7:K5427,\"ﾘｽﾄ１\"))","v":""},"","","","","","","",{"$f":"IF(S5427=\"\",\"\",COUNTIF($S$7:S5427,\"該当２\"))","v":""},"","",{"$f":"IF(V5427=\"\",\"\",COUNTIF($V$7:V5427,\"該当３\"))","v":""}]
[{"$nulls":10},"","",{"$f":"IF(K5428=\"\",\"\",COUNTIF($K$7:K5428,\"ﾘｽﾄ１\"))","v":""},"","","","","","","",{"$f":"IF(S5428=\"\",\"\",COUNTIF($S$7:S5428,\"該当２\"))","v":""},"","",{"$f":"IF(V5428=\"\",\"\",COUNTIF($V$7:V5428,\"該当３\"))","v":""}]
[{"$nulls":10},"","",{"$f":"IF(K5429=\"\",\"\",COUNTIF($K$7:K5429,\"ﾘｽﾄ１\"))","v":""},"","","","","","","",{"$f":"IF(S5429=\"\",\"\",COUNTIF($S$7:S5429,\"該当２\"))","v":""},"","",{"$f":"IF(V5429=\"\",\"\",COUNTIF($V$7:V5429,\"該当３\"))","v":""}]
[{"$nulls":10},"","",{"$f":"IF(K5430=\"\",\"\",COUNTIF($K$7:K5430,\"ﾘｽﾄ１\"))","v":""},"","","","","","","",{"$f":"IF(S5430=\"\",\"\",COUNTIF($S$7:S5430,\"該当２\"))","v":""},"","",{"$f":"IF(V5430=\"\",\"\",COUNTIF($V$7:V5430,\"該当３\"))","v":""}]
[{"$nulls":10},"",{"$f":"IF(K5431=\"ﾘｽﾄ１\",G5431,\"\")","v":""},{"$f":"IF(K5431=\"\",\"\",COUNTIF($K$7:K5431,\"ﾘｽﾄ１\"))","v":""},{"$f":"IF(AND(D5431=0,E5431>0),\"同一区\",\"\")","v":""},{"$f":"IF(AND(EXACT($K$2,G5431),H5431>0),\"該当１\",\"\")","v":""},{"$f":"IF(O5431=\"該当１\",G5431,\"\")","v":""},{"$f":"IF(O5431=\"該当１\",\"ﾘｽﾄ2\",\"\")","v":""},{"$f":"IF(Q5431=\"ﾘｽﾄ2\",H5431,\"\")","v":""},{"$f":"IF(AND(Q5431=\"ﾘｽﾄ2\",OR(I5431=0,AND(N5431=\"同一区\",E5431=1))),\"該当２\",\"\")","v":""},{"$f":"IF(S5431=\"該当２\",H5431,\"\")","v":""},{"$f":"IF(S5431=\"\",\"\",COUNTIF($S$7:S5431,\"該当２\"))","v":""},{"$f":"IF(AND($S$2=H5431,E5431>0,E5431<998),\"該当３\",\"\")","v":""},{"$f":"IF(V5431=\"該当３\",I5431,\"\")","v":""},{"$f":"IF(V5431=\"\",\"\",COUNTIF($V$7:V5431,\"該当３\"))","v":""}]
[{"$nulls":10},"","",{"$f":"IF(K5432=\"\",\"\",COUNTIF($K$7:K5432,\"ﾘｽﾄ１\"))","v":""},"","","","","","","",{"$f":"IF(S5432=\"\",\"\",COUNTIF($S$7:S5432,\"該当２\"))","v":""},"","",{"$f":"IF(V5432=\"\",\"\",COUNTIF($V$7:V5432,\"該当３\"))","v":""}]
[{"$nulls":10},"","",{"$f":"IF(K5433=\"\",\"\",COUNTIF($K$7:K5433,\"ﾘｽﾄ１\"))","v":""},"","","","","","","",{"$f":"IF(S5433=\"\",\"\",COUNTIF($S$7:S5433,\"該当２\"))","v":""},"","",{"$f":"IF(V5433=\"\",\"\",COUNTIF($V$7:V5433,\"該当３\"))","v":""}]
[{"$nulls":10},"","",{"$f":"IF(K5434=\"\",\"\",COUNTIF($K$7:K5434,\"ﾘｽﾄ１\"))","v":""},"","","","","","","",{"$f":"IF(S5434=\"\",\"\",COUNTIF($S$7:S5434,\"該当２\"))","v":""},"","",{"$f":"IF(V5434=\"\",\"\",COUNTIF($V$7:V5434,\"該当３\"))","v":""}]
[{"$nulls":10},"","",{"$f":"IF(K5435=\"\",\"\",COUNTIF($K$7:K5435,\"ﾘｽﾄ１\"))","v":""},"","","","","","","",{"$f":"IF(S5435=\"\",\"\",COUNTIF($S$7:S5435,\"該当２\"))","v":""},"","",{"$f":"IF(V5435=\"\",\"\",COUNTIF($V$7:V5435,\"該当３\"))","v":""}]
[{"$nulls":10},"","",{"$f":"IF(K5436=\"\",\"\",COUNTIF($K$7:K5436,\"ﾘｽﾄ１\"))","v":""},"","","","","","","",{"$f":"IF(S5436=\"\",\"\",COUNTIF($S$7:S5436,\"該当２\"))","v":""},"","",{"$f":"IF(V5436=\"\",\"\",COUNTIF($V$7:V5436,\"該当３\"))","v":""}]
[{"$nulls":10},"","",{"$f":"IF(K5437=\"\",\"\",COUNTIF($K$7:K5437,\"ﾘｽﾄ１\"))","v":""},"","","","","","","",{"$f":"IF(S5437=\"\",\"\",COUNTIF($S$7:S5437,\"該当２\"))","v":""},"","",{"$f":"IF(V5437=\"\",\"\",COUNTIF($V$7:V5437,\"該当３\"))","v":""}]
[{"$nulls":10},"","",{"$f":"IF(K5438=\"\",\"\",COUNTIF($K$7:K5438,\"ﾘｽﾄ１\"))","v":""},"","","","","","","",{"$f":"IF(S5438=\"\",\"\",COUNTIF($S$7:S5438,\"該当２\"))","v":""},"","",{"$f":"IF(V5438=\"\",\"\",COUNTIF($V$7:V5438,\"該当３\"))","v":""}]
[{"$nulls":10},"","",{"$f":"IF(K5439=\"\",\"\",COUNTIF($K$7:K5439,\"ﾘｽﾄ１\"))","v":""},"","","","","","","",{"$f":"IF(S5439=\"\",\"\",COUNTIF($S$7:S5439,\"該当２\"))","v":""},"","",{"$f":"IF(V5439=\"\",\"\",COUNTIF($V$7:V5439,\"該当３\"))","v":""}]
[{"$nulls":10},"","",{"$f":"IF(K5440=\"\",\"\",COUNTIF($K$7:K5440,\"ﾘｽﾄ１\"))","v":""},"","","","","","","",{"$f":"IF(S5440=\"\",\"\",COUNTIF($S$7:S5440,\"該当２\"))","v":""},"","",{"$f":"IF(V5440=\"\",\"\",COUNTIF($V$7:V5440,\"該当３\"))","v":""}]
[{"$nulls":10},"","",{"$f":"IF(K5441=\"\",\"\",COUNTIF($K$7:K5441,\"ﾘｽﾄ１\"))","v":""},"","","","","","","",{"$f":"IF(S5441=\"\",\"\",COUNTIF($S$7:S5441,\"該当２\"))","v":""},"","",{"$f":"IF(V5441=\"\",\"\",COUNTIF($V$7:V5441,\"該当３\"))","v":""}]
[{"$nulls":10},"","",{"$f":"IF(K5442=\"\",\"\",COUNTIF($K$7:K5442,\"ﾘｽﾄ１\"))","v":""},"","","","","","","",{"$f":"IF(S5442=\"\",\"\",COUNTIF($S$7:S5442,\"該当２\"))","v":""},"","",{"$f":"IF(V5442=\"\",\"\",COUNTIF($V$7:V5442,\"該当３\"))","v":""}]
[{"$nulls":10},"","",{"$f":"IF(K5443=\"\",\"\",COUNTIF($K$7:K5443,\"ﾘｽﾄ１\"))","v":""},"","","","","","","",{"$f":"IF(S5443=\"\",\"\",COUNTIF($S$7:S5443,\"該当２\"))","v":""},"","",{"$f":"IF(V5443=\"\",\"\",COUNTIF($V$7:V5443,\"該当３\"))","v":""}]
[{"$nulls":10},"","",{"$f":"IF(K5444=\"\",\"\",COUNTIF($K$7:K5444,\"ﾘｽﾄ１\"))","v":""},"","","","","","","",{"$f":"IF(S5444=\"\",\"\",COUNTIF($S$7:S5444,\"該当２\"))","v":""},"","",{"$f":"IF(V5444=\"\",\"\",COUNTIF($V$7:V5444,\"該当３\"))","v":""}]
[{"$nulls":10},"","",{"$f":"IF(K5445=\"\",\"\",COUNTIF($K$7:K5445,\"ﾘｽﾄ１\"))","v":""},"","","","","","","",{"$f":"IF(S5445=\"\",\"\",COUNTIF($S$7:S5445,\"該当２\"))","v":""},"","",{"$f":"IF(V5445=\"\",\"\",COUNTIF($V$7:V5445,\"該当３\"))","v":""}]
[{"$nulls":10},"","",{"$f":"IF(K5446=\"\",\"\",COUNTIF($K$7:K5446,\"ﾘｽﾄ１\"))","v":""},"","","","","","","",{"$f":"IF(S5446=\"\",\"\",COUNTIF($S$7:S5446,\"該当２\"))","v":""},"","",{"$f":"IF(V5446=\"\",\"\",COUNTIF($V$7:V5446,\"該当３\"))","v":""}]
[{"$nulls":10},"","",{"$f":"IF(K5447=\"\",\"\",COUNTIF($K$7:K5447,\"ﾘｽﾄ１\"))","v":""},"","","","","","","",{"$f":"IF(S5447=\"\",\"\",COUNTIF($S$7:S5447,\"該当２\"))","v":""},"","",{"$f":"IF(V5447=\"\",\"\",COUNTIF($V$7:V5447,\"該当３\"))","v":""}]
[{"$nulls":10},"","",{"$f":"IF(K5448=\"\",\"\",COUNTIF($K$7:K5448,\"ﾘｽﾄ１\"))","v":""},"","","","","","","",{"$f":"IF(S5448=\"\",\"\",COUNTIF($S$7:S5448,\"該当２\"))","v":""},"","",{"$f":"IF(V5448=\"\",\"\",COUNTIF($V$7:V5448,\"該当３\"))","v":""}]
[{"$nulls":10},"","",{"$f":"IF(K5449=\"\",\"\",COUNTIF($K$7:K5449,\"ﾘｽﾄ１\"))","v":""},"","","","","","","",{"$f":"IF(S5449=\"\",\"\",COUNTIF($S$7:S5449,\"該当２\"))","v":""},"","",{"$f":"IF(V5449=\"\",\"\",COUNTIF($V$7:V5449,\"該当３\"))","v":""}]
[{"$nulls":10},"","",{"$f":"IF(K5450=\"\",\"\",COUNTIF($K$7:K5450,\"ﾘｽﾄ１\"))","v":""},"","","","","","","",{"$f":"IF(S5450=\"\",\"\",COUNTIF($S$7:S5450,\"該当２\"))","v":""},"","",{"$f":"IF(V5450=\"\",\"\",COUNTIF($V$7:V5450,\"該当３\"))","v":""}]
[{"$nulls":10},{"$f":"IF(AND($C5451>0,$H5451=\"\"),\"ﾘｽﾄ１\",\"\")","v":""},"",{"$f":"IF(K5451=\"\",\"\",COUNTIF($K$7:K5451,\"ﾘｽﾄ１\"))","v":""},"","","","","","","",{"$f":"IF(S5451=\"\",\"\",COUNTIF($S$7:S5451,\"該当２\"))","v":""},"","",{"$f":"IF(V5451=\"\",\"\",COUNTIF($V$7:V5451,\"該当３\"))","v":""}]
[{"$nulls":10},"","",{"$f":"IF(K5452=\"\",\"\",COUNTIF($K$7:K5452,\"ﾘｽﾄ１\"))","v":""},"","","","","","","",{"$f":"IF(S5452=\"\",\"\",COUNTIF($S$7:S5452,\"該当２\"))","v":""},"","",{"$f":"IF(V5452=\"\",\"\",COUNTIF($V$7:V5452,\"該当３\"))","v":""}]
[{"$nulls":10},"","",{"$f":"IF(K5453=\"\",\"\",COUNTIF($K$7:K5453,\"ﾘｽﾄ１\"))","v":""},"","","","","","","",{"$f":"IF(S5453=\"\",\"\",COUNTIF($S$7:S5453,\"該当２\"))","v":""},"","",{"$f":"IF(V5453=\"\",\"\",COUNTIF($V$7:V5453,\"該当３\"))","v":""}]
[{"$nulls":10},"","",{"$f":"IF(K5454=\"\",\"\",COUNTIF($K$7:K5454,\"ﾘｽﾄ１\"))","v":""},"","","","","","","",{"$f":"IF(S5454=\"\",\"\",COUNTIF($S$7:S5454,\"該当２\"))","v":""},"","",{"$f":"IF(V5454=\"\",\"\",COUNTIF($V$7:V5454,\"該当３\"))","v":""}]
[{"$nulls":10},"","",{"$f":"IF(K5455=\"\",\"\",COUNTIF($K$7:K5455,\"ﾘｽﾄ１\"))","v":""},"","","","","","","",{"$f":"IF(S5455=\"\",\"\",COUNTIF($S$7:S5455,\"該当２\"))","v":""},"","",{"$f":"IF(V5455=\"\",\"\",COUNTIF($V$7:V5455,\"該当３\"))","v":""}]
[{"$nulls":10},"","",{"$f":"IF(K5456=\"\",\"\",COUNTIF($K$7:K5456,\"ﾘｽﾄ１\"))","v":""},"","","","","","","",{"$f":"IF(S5456=\"\",\"\",COUNTIF($S$7:S5456,\"該当２\"))","v":""},"","",{"$f":"IF(V5456=\"\",\"\",COUNTIF($V$7:V5456,\"該当３\"))","v":""}]
[{"$nulls":10},"","",{"$f":"IF(K5457=\"\",\"\",COUNTIF($K$7:K5457,\"ﾘｽﾄ１\"))","v":""},"","","","","","","",{"$f":"IF(S5457=\"\",\"\",COUNTIF($S$7:S5457,\"該当２\"))","v":""},"","",{"$f":"IF(V5457=\"\",\"\",COUNTIF($V$7:V5457,\"該当３\"))","v":""}]
[{"$nulls":10},"","",{"$f":"IF(K5458=\"\",\"\",COUNTIF($K$7:K5458,\"ﾘｽﾄ１\"))","v":""},"","","","","","","",{"$f":"IF(S5458=\"\",\"\",COUNTIF($S$7:S5458,\"該当２\"))","v":""},"","",{"$f":"IF(V5458=\"\",\"\",COUNTIF($V$7:V5458,\"該当３\"))","v":""}]
[{"$nulls":10},"","",{"$f":"IF(K5459=\"\",\"\",COUNTIF($K$7:K5459,\"ﾘｽﾄ１\"))","v":""},"","","","","","","",{"$f":"IF(S5459=\"\",\"\",COUNTIF($S$7:S5459,\"該当２\"))","v":""},"","",{"$f":"IF(V5459=\"\",\"\",COUNTIF($V$7:V5459,\"該当３\"))","v":""}]
[{"$nulls":10},"","",{"$f":"IF(K5460=\"\",\"\",COUNTIF($K$7:K5460,\"ﾘｽﾄ１\"))","v":""},"","","","","","","",{"$f":"IF(S5460=\"\",\"\",COUNTIF($S$7:S5460,\"該当２\"))","v":""},"","",{"$f":"IF(V5460=\"\",\"\",COUNTIF($V$7:V5460,\"該当３\"))","v":""}]
[{"$nulls":10},"","",{"$f":"IF(K5461=\"\",\"\",COUNTIF($K$7:K5461,\"ﾘｽﾄ１\"))","v":""},"","","","","","","",{"$f":"IF(S5461=\"\",\"\",COUNTIF($S$7:S5461,\"該当２\"))","v":""},"","",{"$f":"IF(V5461=\"\",\"\",COUNTIF($V$7:V5461,\"該当３\"))","v":""}]
[{"$nulls":10},"","",{"$f":"IF(K5462=\"\",\"\",COUNTIF($K$7:K5462,\"ﾘｽﾄ１\"))","v":""},"","","","","","","",{"$f":"IF(S5462=\"\",\"\",COUNTIF($S$7:S5462,\"該当２\"))","v":""},"","",{"$f":"IF(V5462=\"\",\"\",COUNTIF($V$7:V5462,\"該当３\"))","v":""}]
[{"$nulls":10},"","",{"$f":"IF(K5463=\"\",\"\",COUNTIF($K$7:K5463,\"ﾘｽﾄ１\"))","v":""},"","","","","","","",{"$f":"IF(S5463=\"\",\"\",COUNTIF($S$7:S5463,\"該当２\"))","v":""},"","",{"$f":"IF(V5463=\"\",\"\",COUNTIF($V$7:V5463,\"該当３\"))","v":""}]
[{"$nulls":10},"","",{"$f":"IF(K5464=\"\",\"\",COUNTIF($K$7:K5464,\"ﾘｽﾄ１\"))","v":""},"","","","","","","",{"$f":"IF(S5464=\"\",\"\",COUNTIF($S$7:S5464,\"該当２\"))","v":""},"","",{"$f":"IF(V5464=\"\",\"\",COUNTIF($V$7:V5464,\"該当３\"))","v":""}]
[{"$nulls":10},"","",{"$f":"IF(K5465=\"\",\"\",COUNTIF($K$7:K5465,\"ﾘｽﾄ１\"))","v":""},"","","","","","","",{"$f":"IF(S5465=\"\",\"\",COUNTIF($S$7:S5465,\"該当２\"))","v":""},"","",{"$f":"IF(V5465=\"\",\"\",COUNTIF($V$7:V5465,\"該当３\"))","v":""}]
[{"$nulls":10},"","",{"$f":"IF(K5466=\"\",\"\",COUNTIF($K$7:K5466,\"ﾘｽﾄ１\"))","v":""},"","","","","","","",{"$f":"IF(S5466=\"\",\"\",COUNTIF($S$7:S5466,\"該当２\"))","v":""},"","",{"$f":"IF(V5466=\"\",\"\",COUNTIF($V$7:V5466,\"該当３\"))","v":""}]
[{"$nulls":10},"","",{"$f":"IF(K5467=\"\",\"\",COUNTIF($K$7:K5467,\"ﾘｽﾄ１\"))","v":""},"","","","","","","",{"$f":"IF(S5467=\"\",\"\",COUNTIF($S$7:S5467,\"該当２\"))","v":""},"","",{"$f":"IF(V5467=\"\",\"\",COUNTIF($V$7:V5467,\"該当３\"))","v":""}]
[{"$nulls":10},"","",{"$f":"IF(K5468=\"\",\"\",COUNTIF($K$7:K5468,\"ﾘｽﾄ１\"))","v":""},"","","","","","","",{"$f":"IF(S5468=\"\",\"\",COUNTIF($S$7:S5468,\"該当２\"))","v":""},"","",{"$f":"IF(V5468=\"\",\"\",COUNTIF($V$7:V5468,\"該当３\"))","v":""}]
[{"$nulls":10},"","",{"$f":"IF(K5469=\"\",\"\",COUNTIF($K$7:K5469,\"ﾘｽﾄ１\"))","v":""},"","","","","","","",{"$f":"IF(S5469=\"\",\"\",COUNTIF($S$7:S5469,\"該当２\"))","v":""},"","",{"$f":"IF(V5469=\"\",\"\",COUNTIF($V$7:V5469,\"該当３\"))","v":""}]
[{"$nulls":10},"","",{"$f":"IF(K5470=\"\",\"\",COUNTIF($K$7:K5470,\"ﾘｽﾄ１\"))","v":""},"","","","","","","",{"$f":"IF(S5470=\"\",\"\",COUNTIF($S$7:S5470,\"該当２\"))","v":""},"","",{"$f":"IF(V5470=\"\",\"\",COUNTIF($V$7:V5470,\"該当３\"))","v":""}]
[{"$nulls":10},"","",{"$f":"IF(K5471=\"\",\"\",COUNTIF($K$7:K5471,\"ﾘｽﾄ１\"))","v":""},"","","","","","","",{"$f":"IF(S5471=\"\",\"\",COUNTIF($S$7:S5471,\"該当２\"))","v":""},"","",{"$f":"IF(V5471=\"\",\"\",COUNTIF($V$7:V5471,\"該当３\"))","v":""}]
[{"$nulls":10},"","",{"$f":"IF(K5472=\"\",\"\",COUNTIF($K$7:K5472,\"ﾘｽﾄ１\"))","v":""},"","","","","","","",{"$f":"IF(S5472=\"\",\"\",COUNTIF($S$7:S5472,\"該当２\"))","v":""},"","",{"$f":"IF(V5472=\"\",\"\",COUNTIF($V$7:V5472,\"該当３\"))","v":""}]
[{"$nulls":10},"","",{"$f":"IF(K5473=\"\",\"\",COUNTIF($K$7:K5473,\"ﾘｽﾄ１\"))","v":""},"","","","","","","",{"$f":"IF(S5473=\"\",\"\",COUNTIF($S$7:S5473,\"該当２\"))","v":""},"","",{"$f":"IF(V5473=\"\",\"\",COUNTIF($V$7:V5473,\"該当３\"))","v":""}]
[{"$nulls":10},"","",{"$f":"IF(K5474=\"\",\"\",COUNTIF($K$7:K5474,\"ﾘｽﾄ１\"))","v":""},"","","","","","","",{"$f":"IF(S5474=\"\",\"\",COUNTIF($S$7:S5474,\"該当２\"))","v":""},"","",{"$f":"IF(V5474=\"\",\"\",COUNTIF($V$7:V5474,\"該当３\"))","v":""}]
[{"$nulls":10},"","",{"$f":"IF(K5475=\"\",\"\",COUNTIF($K$7:K5475,\"ﾘｽﾄ１\"))","v":""},"","","","","","","",{"$f":"IF(S5475=\"\",\"\",COUNTIF($S$7:S5475,\"該当２\"))","v":""},"","",{"$f":"IF(V5475=\"\",\"\",COUNTIF($V$7:V5475,\"該当３\"))","v":""}]
[{"$nulls":10},"","",{"$f":"IF(K5476=\"\",\"\",COUNTIF($K$7:K5476,\"ﾘｽﾄ１\"))","v":""},"","","","","","","",{"$f":"IF(S5476=\"\",\"\",COUNTIF($S$7:S5476,\"該当２\"))","v":""},"","",{"$f":"IF(V5476=\"\",\"\",COUNTIF($V$7:V5476,\"該当３\"))","v":""}]
[{"$nulls":10},"","",{"$f":"IF(K5477=\"\",\"\",COUNTIF($K$7:K5477,\"ﾘｽﾄ１\"))","v":""},"","","","","","","",{"$f":"IF(S5477=\"\",\"\",COUNTIF($S$7:S5477,\"該当２\"))","v":""},"","",{"$f":"IF(V5477=\"\",\"\",COUNTIF($V$7:V5477,\"該当３\"))","v":""}]
[{"$nulls":10},"","",{"$f":"IF(K5478=\"\",\"\",COUNTIF($K$7:K5478,\"ﾘｽﾄ１\"))","v":""},"","","","","","","",{"$f":"IF(S5478=\"\",\"\",COUNTIF($S$7:S5478,\"該当２\"))","v":""},"","",{"$f":"IF(V5478=\"\",\"\",COUNTIF($V$7:V5478,\"該当３\"))","v":""}]
[{"$nulls":10},"","",{"$f":"IF(K5479=\"\",\"\",COUNTIF($K$7:K5479,\"ﾘｽﾄ１\"))","v":""},"","","","","","","",{"$f":"IF(S5479=\"\",\"\",COUNTIF($S$7:S5479,\"該当２\"))","v":""},"","",{"$f":"IF(V5479=\"\",\"\",COUNTIF($V$7:V5479,\"該当３\"))","v":""}]
[{"$nulls":10},"","",{"$f":"IF(K5480=\"\",\"\",COUNTIF($K$7:K5480,\"ﾘｽﾄ１\"))","v":""},"","","","","","","",{"$f":"IF(S5480=\"\",\"\",COUNTIF($S$7:S5480,\"該当２\"))","v":""},"","",{"$f":"IF(V5480=\"\",\"\",COUNTIF($V$7:V5480,\"該当３\"))","v":""}]
[{"$nulls":10},"","",{"$f":"IF(K5481=\"\",\"\",COUNTIF($K$7:K5481,\"ﾘｽﾄ１\"))","v":""},"","","","","","","",{"$f":"IF(S5481=\"\",\"\",COUNTIF($S$7:S5481,\"該当２\"))","v":""},"","",{"$f":"IF(V5481=\"\",\"\",COUNTIF($V$7:V5481,\"該当３\"))","v":""}]
[{"$nulls":10},"","",{"$f":"IF(K5482=\"\",\"\",COUNTIF($K$7:K5482,\"ﾘｽﾄ１\"))","v":""},"","","","","","","",{"$f":"IF(S5482=\"\",\"\",COUNTIF($S$7:S5482,\"該当２\"))","v":""},"","",{"$f":"IF(V5482=\"\",\"\",COUNTIF($V$7:V5482,\"該当３\"))","v":""}]
[{"$nulls":10},"","",{"$f":"IF(K5483=\"\",\"\",COUNTIF($K$7:K5483,\"ﾘｽﾄ１\"))","v":""},"","","","","","","",{"$f":"IF(S5483=\"\",\"\",COUNTIF($S$7:S5483,\"該当２\"))","v":""},"","",{"$f":"IF(V5483=\"\",\"\",COUNTIF($V$7:V5483,\"該当３\"))","v":""}]
[{"$nulls":10},"","",{"$f":"IF(K5484=\"\",\"\",COUNTIF($K$7:K5484,\"ﾘｽﾄ１\"))","v":""},"","","","","","","",{"$f":"IF(S5484=\"\",\"\",COUNTIF($S$7:S5484,\"該当２\"))","v":""},"","",{"$f":"IF(V5484=\"\",\"\",COUNTIF($V$7:V5484,\"該当３\"))","v":""}]
[{"$nulls":10},"","",{"$f":"IF(K5485=\"\",\"\",COUNTIF($K$7:K5485,\"ﾘｽﾄ１\"))","v":""},"","","","","","","",{"$f":"IF(S5485=\"\",\"\",COUNTIF($S$7:S5485,\"該当２\"))","v":""},"","",{"$f":"IF(V5485=\"\",\"\",COUNTIF($V$7:V5485,\"該当３\"))","v":""}]
[{"$nulls":10},"","",{"$f":"IF(K5486=\"\",\"\",COUNTIF($K$7:K5486,\"ﾘｽﾄ１\"))","v":""},"","","","","","","",{"$f":"IF(S5486=\"\",\"\",COUNTIF($S$7:S5486,\"該当２\"))","v":""},"","",{"$f":"IF(V5486=\"\",\"\",COUNTIF($V$7:V5486,\"該当３\"))","v":""}]
[{"$nulls":10},"","",{"$f":"IF(K5487=\"\",\"\",COUNTIF($K$7:K5487,\"ﾘｽﾄ１\"))","v":""},"","","","","","","",{"$f":"IF(S5487=\"\",\"\",COUNTIF($S$7:S5487,\"該当２\"))","v":""},"","",{"$f":"IF(V5487=\"\",\"\",COUNTIF($V$7:V5487,\"該当３\"))","v":""}]
[{"$nulls":10},"","",{"$f":"IF(K5488=\"\",\"\",COUNTIF($K$7:K5488,\"ﾘｽﾄ１\"))","v":""},"","","","","","","",{"$f":"IF(S5488=\"\",\"\",COUNTIF($S$7:S5488,\"該当２\"))","v":""},"","",{"$f":"IF(V5488=\"\",\"\",COUNTIF($V$7:V5488,\"該当３\"))","v":""}]
[{"$nulls":10},"","",{"$f":"IF(K5489=\"\",\"\",COUNTIF($K$7:K5489,\"ﾘｽﾄ１\"))","v":""},"","","","","","","",{"$f":"IF(S5489=\"\",\"\",COUNTIF($S$7:S5489,\"該当２\"))","v":""},"","",{"$f":"IF(V5489=\"\",\"\",COUNTIF($V$7:V5489,\"該当３\"))","v":""}]
[{"$nulls":10},"","",{"$f":"IF(K5490=\"\",\"\",COUNTIF($K$7:K5490,\"ﾘｽﾄ１\"))","v":""},"","","","","","","",{"$f":"IF(S5490=\"\",\"\",COUNTIF($S$7:S5490,\"該当２\"))","v":""},"","",{"$f":"IF(V5490=\"\",\"\",COUNTIF($V$7:V5490,\"該当３\"))","v":""}]
[{"$nulls":10},"","",{"$f":"IF(K5491=\"\",\"\",COUNTIF($K$7:K5491,\"ﾘｽﾄ１\"))","v":""},"","","","","","","",{"$f":"IF(S5491=\"\",\"\",COUNTIF($S$7:S5491,\"該当２\"))","v":""},"","",{"$f":"IF(V5491=\"\",\"\",COUNTIF($V$7:V5491,\"該当３\"))","v":""}]
[{"$nulls":10},"","",{"$f":"IF(K5492=\"\",\"\",COUNTIF($K$7:K5492,\"ﾘｽﾄ１\"))","v":""},"","","","","","","",{"$f":"IF(S5492=\"\",\"\",COUNTIF($S$7:S5492,\"該当２\"))","v":""},"","",{"$f":"IF(V5492=\"\",\"\",COUNTIF($V$7:V5492,\"該当３\"))","v":""}]
[{"$nulls":10},"","",{"$f":"IF(K5493=\"\",\"\",COUNTIF($K$7:K5493,\"ﾘｽﾄ１\"))","v":""},"","","","","","","",{"$f":"IF(S5493=\"\",\"\",COUNTIF($S$7:S5493,\"該当２\"))","v":""},"","",{"$f":"IF(V5493=\"\",\"\",COUNTIF($V$7:V5493,\"該当３\"))","v":""}]
[{"$nulls":10},"","",{"$f":"IF(K5494=\"\",\"\",COUNTIF($K$7:K5494,\"ﾘｽﾄ１\"))","v":""},"","","","","","","",{"$f":"IF(S5494=\"\",\"\",COUNTIF($S$7:S5494,\"該当２\"))","v":""},"","",{"$f":"IF(V5494=\"\",\"\",COUNTIF($V$7:V5494,\"該当３\"))","v":""}]
[{"$nulls":10},"",{"$f":"IF(K5495=\"ﾘｽﾄ１\",G5495,\"\")","v":""},{"$f":"IF(K5495=\"\",\"\",COUNTIF($K$7:K5495,\"ﾘｽﾄ１\"))","v":""},{"$f":"IF(AND(D5495=0,E5495>0),\"同一区\",\"\")","v":""},{"$f":"IF(AND(EXACT($K$2,G5495),H5495>0),\"該当１\",\"\")","v":""},{"$f":"IF(O5495=\"該当１\",G5495,\"\")","v":""},{"$f":"IF(O5495=\"該当１\",\"ﾘｽﾄ2\",\"\")","v":""},{"$f":"IF(Q5495=\"ﾘｽﾄ2\",H5495,\"\")","v":""},{"$f":"IF(AND(Q5495=\"ﾘｽﾄ2\",OR(I5495=0,AND(N5495=\"同一区\",E5495=1))),\"該当２\",\"\")","v":""},{"$f":"IF(S5495=\"該当２\",H5495,\"\")","v":""},{"$f":"IF(S5495=\"\",\"\",COUNTIF($S$7:S5495,\"該当２\"))","v":""},{"$f":"IF(AND($S$2=H5495,E5495>0,E5495<998),\"該当３\",\"\")","v":""},{"$f":"IF(V5495=\"該当３\",I5495,\"\")","v":""},{"$f":"IF(V5495=\"\",\"\",COUNTIF($V$7:V5495,\"該当３\"))","v":""}]
[{"$nulls":10},"","",{"$f":"IF(K5496=\"\",\"\",COUNTIF($K$7:K5496,\"ﾘｽﾄ１\"))","v":""},"","","","","","","",{"$f":"IF(S5496=\"\",\"\",COUNTIF($S$7:S5496,\"該当２\"))","v":""},"","",{"$f":"IF(V5496=\"\",\"\",COUNTIF($V$7:V5496,\"該当３\"))","v":""}]
[{"$nulls":10},"","",{"$f":"IF(K5497=\"\",\"\",COUNTIF($K$7:K5497,\"ﾘｽﾄ１\"))","v":""},"","","","","","","",{"$f":"IF(S5497=\"\",\"\",COUNTIF($S$7:S5497,\"該当２\"))","v":""},"","",{"$f":"IF(V5497=\"\",\"\",COUNTIF($V$7:V5497,\"該当３\"))","v":""}]
[{"$nulls":10},"","",{"$f":"IF(K5498=\"\",\"\",COUNTIF($K$7:K5498,\"ﾘｽﾄ１\"))","v":""},"","","","","","","",{"$f":"IF(S5498=\"\",\"\",COUNTIF($S$7:S5498,\"該当２\"))","v":""},"","",{"$f":"IF(V5498=\"\",\"\",COUNTIF($V$7:V5498,\"該当３\"))","v":""}]
[{"$nulls":10},"","",{"$f":"IF(K5499=\"\",\"\",COUNTIF($K$7:K5499,\"ﾘｽﾄ１\"))","v":""},"","","","","","","",{"$f":"IF(S5499=\"\",\"\",COUNTIF($S$7:S5499,\"該当２\"))","v":""},"","",{"$f":"IF(V5499=\"\",\"\",COUNTIF($V$7:V5499,\"該当３\"))","v":""}]
[{"$nulls":10},"","",{"$f":"IF(K5500=\"\",\"\",COUNTIF($K$7:K5500,\"ﾘｽﾄ１\"))","v":""},"","","","","","","",{"$f":"IF(S5500=\"\",\"\",COUNTIF($S$7:S5500,\"該当２\"))","v":""},"","",{"$f":"IF(V5500=\"\",\"\",COUNTIF($V$7:V5500,\"該当３\"))","v":""}]