{"text_format":"3","workbook":"xlsx","n_sheets":4,"sheets":["Info","元データ","2010年","2015年"],"not_rendered":{"charts":7,"images":2,"defined_names":19},"read":"whole","date_system":"1900"}

{"sheet":"Info","index":0,"n_rows":129,"n_cols":42,"rows_kept":129,"merged":[[2,3,2,4],[2,6,2,7],[2,9,2,11],[2,12,2,13],[2,15,3,18],[3,3,3,4],[3,6,3,7],[3,9,3,11],[3,12,3,13],[5,2,5,5],[7,5,9,5],[7,17,7,18],[8,6,9,6],[8,10,9,10],[8,17,10,18],[13,16,13,18],[17,2,17,8],[18,3,18,18],[27,17,27,18],[40,2,40,18],[43,9,43,14],[43,15,43,20],[45,17,45,18],[53,17,53,18],[54,2,54,12],[57,5,58,5],[57,6,57,9],[57,10,58,10],[57,11,58,11],[57,12,58,12],[71,2,71,9],[74,5,75,5],[74,6,75,6],[74,9,75,9],[74,11,75,11],[74,17,74,18],[83,2,83,12],[86,5,87,5],[86,6,86,9],[86,10,87,10],[86,11,87,11],[86,12,87,12],[86,17,86,18],[87,17,88,18],[97,2,97,12],[100,5,101,5],[100,6,101,6],[100,7,101,7],[100,8,101,8],[100,9,101,9],[100,10,100,11],[100,12,101,12],[100,13,101,13],[100,14,101,14],[100,15,101,15],[100,16,101,16],[100,17,101,17],[100,18,101,18],[107,17,107,18],[120,2,120,7],[122,5,123,5],[122,6,123,6],[122,10,123,10],[135,31,135,32],[135,39,135,40],[135,42,135,43],[136,31,136,32],[136,39,136,40],[136,42,136,43],[137,31,137,36],[137,37,137,41],[137,42,137,44],[138,31,138,34],[138,35,138,36],[138,37,138,38],[138,39,138,41],[138,42,138,44]]}
[{"$nulls":3},-1,0,1,2,3,4,5,6,7,8,9,10,11,12,13,14,15,{"$nulls":4},{"$f":"IF(OR(Z3=\"\",Z4=\"\"),\"※ 市町村（左側）から順に選択してください\",\"\")","v":"※ 市町村（左側）から順に選択してください"},{"$nulls":4},"ｖ",{"$nulls":6},"v"]
[{"$nulls":21},"表示行","旧市町村数","市町村行","参照シート、セル","check","表示名",null,null,"表示行","集落数","旧市町村行","参照シート","check",null,null,"表示行","集落数","旧市町村行","参照シート","check"]
[{"$nulls":3},"県名",null,null,"市町村名",null,null,"旧市町村名",{"$nulls":11},{"$f":"IF(M4=\"\",-1,IFERROR(MATCH(M4,OFFSET(集落2010,1,0,ROWS(集落2010),1),0)-1,3000))+AF3","v":5},{"$f":"COUNTIF('2010年'!B:B,Info!G4)-1","v":-1},{"$f":"IF(G4=\"\",6,MATCH(G4,'2010年'!B:B,0))","v":6},"'2010年'!$A$1",{"$f":"OFFSET(INDIRECT(Y3),V3,1)&OFFSET(INDIRECT(Y3),V3,2)&OFFSET(INDIRECT(Y3),V3,3)","v":""},{"$f":"IF(OR(ISERROR(G4),ISERROR(J4),ISERROR(M4)),\"表示できません\",IF(G4&J4&M4=\"\",D4,IF(M4<>\"\",M4,IF(J4<>\"\",IF($G$4=$J$4,\"（旧）\",\"\")&$J$4,IF(J4<>\"\",J4,G4)))))","v":"山梨県"},null,null,{"$f":"IF(M4=\"\",-1,IFERROR(MATCH(M4,OFFSET(集落2010,1,0,ROWS(集落2010),1),0)-1,999))+AF3","v":5},{"$f":"COUNTIF('2010年'!C:C,Info!J4)-1","v":-1},{"$f":"IF(J4=\"\",X3,MATCH(J4,'2010年'!C:C,0))","v":6},"'2010年'!$A$1",{"$f":"OFFSET(INDIRECT(AG3),AD3,1)&OFFSET(INDIRECT(AG3),AD3,2)&OFFSET(INDIRECT(AG3),AD3,3)","v":""},{"$f":"IF(OR(ISERROR(AJ3),ISERROR(AL3)),\"表示できません\",IF(V4<>\"\",V4,IF(R4<>\"\",IF($G$4=$J$4,\"（旧）\",\"\")&$J$4,IF(O4<>\"\",O4,L4))))","v":5},null,{"$f":"IF(M4=\"\",-1,IFERROR(MATCH(M4,OFFSET(集落2010,1,0,ROWS(集落2010),1),0)-1,999))+AM3","v":5},{"$f":"COUNTIF('2010年'!C:C,Info!J4)-1","v":-1},{"$f":"IF(J4=\"\",X3,MATCH(J4,'2010年'!C:C,0))","v":6},"'2010年'!$A$1",{"$f":"OFFSET(INDIRECT(AN3),AK3,1)&OFFSET(INDIRECT(AN3),AK3,2)&OFFSET(INDIRECT(AN3),AK3,3)","v":""},{"$f":"IF(OR(ISERROR(AQ3),ISERROR(AS3)),\"表示できません\",IF(AC4<>\"\",AC4,IF(Y4<>\"\",IF($G$4=$J$4,\"（旧）\",\"\")&$J$4,IF(V4<>\"\",V4,S4))))","v":"（旧）"}]
[{"$nulls":3},"山梨県",{"$nulls":17},{"$f":"IF(M4=\"\",-1,IFERROR(MATCH(M4,OFFSET(集落2015,1,0,ROWS(集落2015),1),0)-1,3000))+AF4","v":5},{"$f":"COUNTIF('2015年'!B:B,Info!G4)-1","v":-1},{"$f":"IF(G4=\"\",6,MATCH(G4,'2015年'!B:B,0))","v":6},"'2015年'!$A$1",{"$f":"OFFSET(INDIRECT(Y4),V4,1)&OFFSET(INDIRECT(Y4),V4,2)&OFFSET(INDIRECT(Y4),V4,3)","v":""},{"$nulls":3},{"$f":"IF(M4=\"\",-1,IFERROR(MATCH(M4,OFFSET(集落2015,1,0,ROWS(集落2015),1),0)-1,999))+AF4","v":5},{"$f":"COUNTIF('2015年'!C:C,Info!J4)-1","v":-1},{"$f":"IF(J4=\"\",X3,MATCH(J4,'2015年'!C:C,0))","v":6},"'2015年'!$A$1",{"$f":"OFFSET(INDIRECT(AG4),AD4,1)&OFFSET(INDIRECT(AG4),AD4,2)&OFFSET(INDIRECT(AG4),AD4,3)","v":""},null,null,{"$f":"IF(M4=\"\",-1,IFERROR(MATCH(M4,OFFSET(集落2015,1,0,ROWS(集落2015),1),0)-1,999))+AM4","v":5},{"$f":"COUNTIF('2015年'!C:C,Info!J4)-1","v":-1},{"$f":"IF(J4=\"\",X4,MATCH(J4,'2010年'!C:C,0))","v":6},"'2015年'!$A$1",{"$f":"OFFSET(INDIRECT(AN4),AK4,1)&OFFSET(INDIRECT(AN4),AK4,2)&OFFSET(INDIRECT(AN4),AK4,3)","v":""}]
[]
[null,null,{"$f":"\"総農家数\"","v":"総農家数"},{"$nulls":3},{"$f":"IFERROR(\"◎ \"&W11&IF(LEFT(R8,1)=\"県\",\"の総農家に占める割合は \"&TEXT(G13,\"0.0\")&\"% で、\"&D4&\"（\"&TEXT(G14,\"0.0\")&\"%） \"&X13,\"は \"&TEXT(G12,\"#,###戸 で \")&W13&\"、\"&\"総農家の \"&TEXT(G13,\"0.0\")&\"% を占める\"),\"\")","v":"◎ 販売農家は 17,020戸 で 3,023戸（15.1%） 減少、総農家の 52.3% を占める"}]
[{"$nulls":10},"単位：戸","　《主副業別割合》 "]
[{"$nulls":5},"総農家",{"$nulls":5},{"$f":"\"　\"&IF(AND(LEFT(R8,1)<>\"県\",G4=\"\"),D4,IF(LEFT(R8,1)=\"県\",D12,$AA$3))","v":"　山梨県"},{"$nulls":5},"前回との比較"]
[{"$nulls":6},"販売\n農家",{"$nulls":3},"自給的農家",{"$nulls":6},{"$f":"\"外円：\"&IF(AND(LEFT(R8,1)=\"県\",G4=\"\"),D4,IF(LEFT(R8,1)=\"県\",$AA$3,\"2015年\"))&CHAR(10)&\"内円：\"&IF(LEFT(R8,1)=\"県\",$D$4,\"2010年\")","v":"外円：2015年\n内円：2010年"}]
[{"$nulls":7},"主業\n農家","準主業\n農家","副業的\n農家",{"$nulls":11},"列番号","概要",null,"凡例",{"$nulls":3},"内円"]
[{"$nulls":3},"2010年",null,{"$f":"IFERROR(OFFSET(INDIRECT($Y$3),$V$3,$V11+E$1),\"nc\")","v":{"v":36805,"d":"36,805"}},{"$f":"IFERROR(OFFSET(INDIRECT($Y$3),$V$3,$V11+F$1),\"nc\")","v":{"v":20043,"d":"20,043"}},{"$f":"IFERROR(OFFSET(INDIRECT($Y$3),$V$3,$V11+G$1),\"nc\")","v":{"v":4789,"d":"4,789"}},{"$f":"IFERROR(OFFSET(INDIRECT($Y$3),$V$3,$V11+I$1),\"nc\")","v":{"v":4301,"d":"4,301"}},{"$f":"IFERROR(OFFSET(INDIRECT($Y$3),$V$3,$V11+K$1),\"nc\")","v":{"v":10953,"d":"10,953"}},{"$f":"IFERROR(OFFSET(INDIRECT($Y$3),$V$3,$V11+L$1),\"nc\")","v":{"v":16762,"d":"16,762"}},{"$nulls":10},{"$f":"CELL(\"col\",'2010年'!E6)-1","v":4},"販売農家","対県","主業農家","準主業農家","副業的農家","自給的農家",{"$f":"IF(LEFT(R8,1)=\"県\",2,-1)","v":-1}]
[{"$nulls":3},"2015年",null,{"$f":"IFERROR(OFFSET(INDIRECT($Y$4),$V$4,$V12+E$1),\"nc\")","v":{"v":32543,"d":"32,543"}},{"$f":"IFERROR(OFFSET(INDIRECT($Y$4),$V$4,$V12+F$1),\"nc\")","v":{"v":17020,"d":"17,020"}},{"$f":"IFERROR(OFFSET(INDIRECT($Y$4),$V$4,$V12+G$1),\"nc\")","v":{"v":3891,"d":"3,891"}},{"$f":"IFERROR(OFFSET(INDIRECT($Y$4),$V$4,$V12+I$1),\"nc\")","v":{"v":3133,"d":"3,133"}},{"$f":"IFERROR(OFFSET(INDIRECT($Y$4),$V$4,$V12+K$1),\"nc\")","v":{"v":9996,"d":"9,996"}},{"$f":"IFERROR(OFFSET(INDIRECT($Y$4),$V$4,$V12+L$1),\"nc\")","v":{"v":15523,"d":"15,523"}},{"$nulls":10},{"$f":"CELL(\"col\",'2015年'!E6)-1","v":4},{"$f":"G12/G11-1","v":-0.15082572469191236},{"$f":"G13-G14","v":{"v":0,"d":"0.0"}}]
[{"$nulls":4},"構成比(%)",{"$f":"IF(OR(AND(ISTEXT($F12),$F12<>\"X\",$F12<>\"-\"),AND(ISTEXT(F12),F12<>\"X\",F12<>\"-\")),\"nc\",IF(OR($F12=\"X\",F12=\"X\"),\"X\",IF(ROUND(SUM($F12),0)=0,\"nc\",SUM(F12)/$F12%)))","v":{"v":100,"d":"100.0"}},{"$f":"IF(OR(AND(ISTEXT($F12),$F12<>\"X\",$F12<>\"-\"),AND(ISTEXT(G12),G12<>\"X\",G12<>\"-\")),\"nc\",IF(OR($F12=\"X\",G12=\"X\"),\"X\",IF(ROUND(SUM($F12),0)=0,\"nc\",SUM(G12)/$F12%)))","v":{"v":52.30003380143195,"d":"52.3"}},{"$f":"IF(OR(AND(ISTEXT($F12),$F12<>\"X\",$F12<>\"-\"),AND(ISTEXT(H12),H12<>\"X\",H12<>\"-\")),\"nc\",IF(OR($F12=\"X\",H12=\"X\"),\"X\",IF(ROUND(SUM($F12),0)=0,\"nc\",SUM(H12)/$F12%)))","v":{"v":11.956488338505977,"d":"12.0"}},{"v":9.627262391297668,"d":"9.6"},{"$f":"IF(OR(AND(ISTEXT($F12),$F12<>\"X\",$F12<>\"-\"),AND(ISTEXT(J12),J12<>\"X\",J12<>\"-\")),\"nc\",IF(OR($F12=\"X\",J12=\"X\"),\"X\",IF(ROUND(SUM($F12),0)=0,\"nc\",SUM(J12)/$F12%)))","v":{"v":30.716283071628308,"d":"30.7"}},{"v":47.69996619856805,"d":"47.7"},{"$nulls":11},{"$f":"IF(W12=0,\"変化なし\",TEXT(ABS(G12-G11),\"#,##0\")&\"戸（\"&TEXT(ABS(W12),\"0.0%\")&\"） \"&IF(W12>0,\"増加\",\"減少\"))","v":"3,023戸（15.1%） 減少"},{"$f":"IF(X12=0,\"と同率である\",\"を\"&TEXT(ABS(X12),\"#,##0.0\")&\"ポイント \"&IF(X12>0,\"上回る\",\"下回る\"))","v":"と同率である"}]
[{"$nulls":4},"県計 構成比(%)",{"v":100,"d":"100.0"},{"$f":"IFERROR(OFFSET(INDIRECT($Y$4),5,$V$12+F1)/OFFSET(INDIRECT($Y$4),5,V12)*100,\"nc\")","v":{"v":52.30003380143196,"d":"52.3"}},{"$f":"IFERROR(OFFSET(INDIRECT($Y$4),5,$V$12+G1)/OFFSET(INDIRECT($Y$4),5,V12)*100,\"nc\")","v":{"v":11.956488338505977,"d":"12.0"}},{"$f":"IFERROR(OFFSET(INDIRECT($Y$4),5,$V$12+I1)/OFFSET(INDIRECT($Y$4),5,V12)*100,\"nc\")","v":{"v":9.627262391297668,"d":"9.6"}},{"$f":"IFERROR(OFFSET(INDIRECT($Y$4),5,$V$12+K1)/OFFSET(INDIRECT($Y$4),5,V12)*100,\"nc\")","v":{"v":30.716283071628308,"d":"30.7"}},{"$f":"IFERROR(OFFSET(INDIRECT($Y$4),5,$V$12+L1)/OFFSET(INDIRECT($Y$4),5,V12)*100,\"nc\")","v":{"v":47.69996619856805,"d":"47.7"}}]
[{"$nulls":3},{"$f":"IFERROR(\"《参考》\"&G4&\"の総農家数の全国順位：\"&TEXT(OFFSET(#REF!,MATCH(Info!G4,#REF!,0),0),\"#,##0\")&\"位\",\"\")","v":""}]
[]
[]
[null,null,"基幹的農業従事者数"]
[{"$nulls":3},{"$f":"IFERROR(IF(RIGHT(C18,4)=\"ください\",\"\",\"◎ \"&C18&\"は \"&TEXT(F23,\"#,##0人 で \")&W24&IFERROR(\"、平均年齢 \"&TEXT(S23,\"0.0歳は\")&IF(LEFT(R28,1)=\"県\",\"県平均\",\"2010年\")&X24,\"\")),\"\")","v":"◎ 基幹的農業従事者数は 24,157人 で 4,156人（14.7%） 減少、平均年齢 69.2歳は2010年を 0.6歳上回る"}]
[{"$nulls":18},"単位：人"]
[{"$nulls":5},"計","15～39歳","40～44","45～49","50～54","55～59","60～64","65～69","70～74","75～79","80～84","85歳以上","65歳以上","平均\n年齢\n（歳）",null,null,"列番号","概要",null,"縦棒\n左","縦棒\n右","凡例"]
[{"$nulls":3},"2010年",null,{"$f":"IFERROR(OFFSET(INDIRECT($Y$3),$V$3,V23-1),\"nc\")","v":{"v":28313,"d":"28,313"}},{"$f":"IFERROR(IF(COUNTIF(OFFSET(INDIRECT($Y$3),$V$3,V23,1,5),\"@\")>0,\"@\",IF(COUNTIF(OFFSET(INDIRECT($Y$3),$V$3,V23,1,5),\"X\")>0,\"X\",SUM(OFFSET(INDIRECT($Y$3),$V$3,V23,1,5)))),\"nc\")","v":703},{"$f":"IFERROR(OFFSET(INDIRECT($Y$3),$V$3,$V23+J$1),\"nc\")","v":445},{"$f":"IFERROR(OFFSET(INDIRECT($Y$3),$V$3,$V23+K$1),\"nc\")","v":699},{"v":1369,"d":"1,369"},{"v":2305,"d":"2,305"},{"v":3563,"d":"3,563"},{"v":4488,"d":"4,488"},{"v":4937,"d":"4,937"},{"v":4863,"d":"4,863"},{"v":3421,"d":"3,421"},{"v":1520,"d":"1,520"},{"$f":"IF(COUNTIF(M22:Q22,\"@\"),\"@\",(IF(COUNTIF(M22:Q22,\"X\"),\"X\",SUM(M22:Q22))))","v":{"v":19229,"d":"19,229"}},{"$f":"IFERROR(OFFSET(INDIRECT($Y$3),$V$3,V23+15),\"nc\")","v":68.6},null,null,{"$f":"IF(C18=\"農業従事者数\",1,IF(C18=\"農業就業人口\",2,IF(C18=\"基幹的農業従事者数\",3,ERROR.TYPE(5))))","v":3},"人数","平均年齢",{"$f":"IF(LEFT(R28,1)=\"県\",3,-1)","v":-1},{"$f":"IF(LEFT(R28,1)=\"県\",1,0)","v":0},{"$f":"IF(LEFT(R28,1)=\"県\",$D$4,$D22)","v":"2010年"}]
[{"$nulls":3},"2015年",null,{"$f":"IFERROR(OFFSET(INDIRECT($Y$4),$V$4,$V24-1),\"nc\")","v":{"v":24157,"d":"24,157"}},{"$f":"IFERROR(IF(COUNTIF(OFFSET(INDIRECT($Y$4),$V$4,$V24,1,5),\"X\")>0,\"X\",SUM(OFFSET(INDIRECT($Y$4),$V$4,$V24,1,5))),\"nc\")","v":678},{"$f":"IFERROR(OFFSET(INDIRECT($Y$4),$V$4,$V24+5),\"nc\")","v":433},{"$f":"IFERROR(OFFSET(INDIRECT($Y$4),$V$4,$V24+6),\"nc\")","v":581},{"$f":"IFERROR(OFFSET(INDIRECT($Y$4),$V$4,$V24+7),\"nc\")","v":875},{"$f":"IFERROR(OFFSET(INDIRECT($Y$4),$V$4,$V24+8),\"nc\")","v":{"v":1601,"d":"1,601"}},{"$f":"IFERROR(OFFSET(INDIRECT($Y$4),$V$4,$V24+9),\"nc\")","v":{"v":2957,"d":"2,957"}},{"$f":"IFERROR(OFFSET(INDIRECT($Y$4),$V$4,$V24+10),\"nc\")","v":{"v":4034,"d":"4,034"}},{"$f":"IFERROR(OFFSET(INDIRECT($Y$4),$V$4,$V24+11),\"nc\")","v":{"v":4233,"d":"4,233"}},{"$f":"IFERROR(OFFSET(INDIRECT($Y$4),$V$4,$V24+12),\"nc\")","v":{"v":3958,"d":"3,958"}},{"$f":"IFERROR(OFFSET(INDIRECT($Y$4),$V$4,$V24+13),\"nc\")","v":{"v":3009,"d":"3,009"}},{"$f":"IFERROR(OFFSET(INDIRECT($Y$4),$V$4,$V24+14),\"nc\")","v":{"v":1798,"d":"1,798"}},{"$f":"IF(COUNTIF(M23:Q23,\"X\"),\"X\",SUM(M23:Q23))","v":{"v":17032,"d":"17,032"}},{"$f":"IFERROR(OFFSET(INDIRECT($Y$4),$V$4,$V24+15),\"nc\")","v":69.2},null,null,{"$f":"IFERROR(CHOOSE(V22,CELL(\"col\",'2010年'!N6),CELL(\"col\",'2010年'!AG6),CELL(\"col\",'2010年'!AZ6))-1,555)","v":51},{"$f":"F23/F22-1","v":-0.14678769469854835},{"$f":"S23-IF(LEFT(R28,1)=\"県\",S26,S22)","v":{"v":0.6000000000000085,"d":"0.6"}},null,null,{"$f":"IF(AND(LEFT(R28,1)=\"県\",G4=\"\"),D4,IF(LEFT(R28,1)=\"県\",AA3,D23))","v":"2015年"}]
[{"$nulls":4},"構成比(%)",{"$f":"IF(OR(AND(ISTEXT($F23),$F23<>\"X\",$F23<>\"-\"),AND(ISTEXT(F23),F23<>\"X\",F23<>\"-\")),\"nc\",IF(OR($F23=\"X\",F23=\"X\"),\"X\",IF(ROUND(SUM($F23),0)=0,\"nc\",SUM(F23)/$F23%)))","v":{"v":100,"d":"100.0"}},{"v":2.8066398973382456,"d":"2.8"},{"v":1.7924411143767853,"d":"1.8"},{"v":2.405099971022892,"d":"2.4"},{"v":3.6221385105766446,"d":"3.6"},{"v":6.627478577637952,"d":"6.6"},{"v":12.240758372314444,"d":"12.2"},{"v":16.69909343047564,"d":"16.7"},{"v":17.522871217452497,"d":"17.5"},{"v":16.384484828414124,"d":"16.4"},{"v":12.456016889514427,"d":"12.5"},{"v":7.442977190876351,"d":"7.4"},{"v":70.50544355673304,"d":"70.5"},{"$nulls":3},{"$f":"IFERROR(CHOOSE(V22,CELL(\"col\",'2015年'!N6),CELL(\"col\",'2015年'!AG6),CELL(\"col\",'2015年'!AZ6))-1,555)","v":51},{"$f":"IF(W23=0,\"変化なし\",TEXT(ABS(F23-F22),\"#,##0人\")&\"（\"&TEXT(ABS(W23),\"0.0%\")&\"） \"&IF(W23>0,\"増加\",\"減少\"))","v":"4,156人（14.7%） 減少"},{"$f":"IF(X23=0,\"と同じである\",\"を \"&TEXT(ABS(X23),\"0.0歳\")&IF(X23>0,\"上回る\",\"下回る\"))","v":"を 0.6歳上回る"}]
[{"$nulls":4},"2015年",{"$f":"IFERROR(OFFSET(INDIRECT($Y$4),5,V24-1),\"nc\")","v":{"v":24157,"d":"24,157 "}},{"$f":"IFERROR(SUM(OFFSET(INDIRECT($Y$4),5,V24,1,5)),\"nc\")","v":{"v":678,"d":"678 "}},{"$f":"IFERROR(OFFSET(INDIRECT($Y$4),5,V24+5),\"nc\")","v":{"v":433,"d":"433 "}},{"$f":"IFERROR(OFFSET(INDIRECT($Y$4),5,V24+6),\"nc\")","v":{"v":581,"d":"581 "}},{"$f":"IFERROR(OFFSET(INDIRECT($Y$4),5,V24+7),\"nc\")","v":{"v":875,"d":"875 "}},{"$f":"IFERROR(OFFSET(INDIRECT($Y$4),5,V24+8),\"nc\")","v":{"v":1601,"d":"1,601 "}},{"$f":"IFERROR(OFFSET(INDIRECT($Y$4),5,V24+9),\"nc\")","v":{"v":2957,"d":"2,957 "}},{"$f":"IFERROR(OFFSET(INDIRECT($Y$4),5,V24+10),\"nc\")","v":{"v":4034,"d":"4,034 "}},{"$f":"IFERROR(OFFSET(INDIRECT($Y$4),5,V24+11),\"nc\")","v":{"v":4233,"d":"4,233 "}},{"$f":"IFERROR(OFFSET(INDIRECT($Y$4),5,V24+12),\"nc\")","v":{"v":3958,"d":"3,958 "}},{"$f":"IFERROR(OFFSET(INDIRECT($Y$4),5,V24+13),\"nc\")","v":{"v":3009,"d":"3,009 "}},{"$f":"IFERROR(OFFSET(INDIRECT($Y$4),5,V24+14),\"nc\")","v":{"v":1798,"d":"1,798 "}},{"$f":"SUM(M25:Q25)","v":{"v":17032,"d":"17,032 "}}]
[{"$nulls":4},"県計 構成比(%)",{"v":100,"d":"100.0"},{"$f":"IFERROR(ROUND(G25/$F25*100,1),\"nc\")","v":2.8},{"$f":"IFERROR(ROUND(H25/$F25*100,1),\"nc\")","v":1.8},2.4,3.6,6.6,12.2,16.7,17.5,16.4,12.5,7.4,70.5,{"$f":"IFERROR(OFFSET(INDIRECT($Y$4),5,V24+15),\"nc\")","v":69.2}]
[{"$nulls":3},{"$f":"IF(LEFT(R28,1)=\"県\",\"（％）\",\"（人）\")","v":"（人）"},null,null,{"$f":"\"《年齢階層別\"&C18&IF(LEFT(R28,1)=\"県\",\"割合\",\"\")&\"》 \"&IF(AND(LEFT(R28,1)<>\"県\",G4=\"\"),D4,IF(LEFT(R28,1)=\"県\",D23,AA3))","v":"《年齢階層別基幹的農業従事者数》 山梨県"}]
[{"$nulls":17},"前回との比較"]
{"$rows_empty":12}
[null,null,"後継者がいる農家数（販売農家）"]
[{"$nulls":3},{"$f":"IFERROR(\"　◎ 後継者がいる農家数の割合は \"&TEXT(H51,\"0.0\")&\"％（\"&TEXT(H50,\"#,##0\")&\"戸）で、\"&IF(LEFT(Z48,1)=\"県\",\"県平均の \"&TEXT(H52,\"0.0\"),\"2010年の \"&TEXT(H48,\"0.0\"))&\"％\"&AB49,\"\")","v":"　◎ 後継者がいる農家数の割合は 45.8％（7,787戸）で、県平均の 45.8％と同率である"}]
[{"$nulls":3},{"$f":"IFERROR(IF(LEFT(Z49,1)=\"県\",\"県平均の \"&TEXT(H52,\"0.0\"),\"      2010年の \"&TEXT(H48,\"0.0\"))&\"％\"&AB47,\"\")","v":"      2010年の 54.3％ を 8.6ポイント 下回る"}]
[{"$nulls":7},"単位：戸",null,{"$f":"\"《後継者のいる農家数\"&IF(LEFT(Z49,1)=\"県\",\"割合\",\"\")&\"》　\"&IF(AND(LEFT(Z49,1)<>\"県\",G4=\"\"),D4,IF(LEFT(Z49,1)=\"県\",\"2015年\",AA3))","v":"《後継者のいる農家数》　山梨県"},{"$nulls":5},{"$f":"\"《後継者のいる農家数\"&IF(LEFT(Z48,1)=\"県\",\"割合\",\"\")&\"》　\"&IF(AND(LEFT(Z48,1)<>\"県\",M4=\"\"),J4,IF(LEFT(Z48,1)=\"県\",\"2015年\",AA3))","v":"《後継者のいる農家数割合》　2015年"}]
[{"$nulls":7},"計",{"$nulls":13},"列番号","2015年","2010年","縦棒左","縦棒右","凡例","差"]
[{"$nulls":3},"2010年","農家数",null,null,{"$f":"IFERROR(OFFSET(INDIRECT($Y$3),$V$3,X46-1),\"nc\")","v":{"v":20043,"d":"20,043"}},{"$nulls":13},"農家数",{"$f":"CELL(\"col\",'2015年'!BS6)-1","v":70},{"$f":"CELL(\"col\",'2010年'!BS6)-1","v":70},1,0,{"$f":"IF(LEFT(Z49,1)=\"県\",$D$4,$D46)","v":"2010年"},{"$f":"H51-IF(LEFT(Z49,1)=\"県\",H52,H48)","v":{"v":-8.576137977848205,"d":"-8.57613797784821"}}]
[{"$nulls":6},"後継者がいる農家数",{"$f":"IFERROR(OFFSET(INDIRECT(Y3),V3,X47-1),\"nc\")","v":{"v":10889,"d":"10,889"}},{"$nulls":13},"後継者有",{"$f":"CELL(\"col\",'2015年'!CI5)-1","v":86},{"$f":"CELL(\"col\",'2010年'!CI5)-1","v":86},-4,-1,{"$f":"IF(AND(LEFT(Z49,1)=\"県\",G4=\"\"),D4,IF(LEFT(Z49,1)=\"県\",AA3,D49))","v":"2015年"},{"$f":"IF(AB46=0,\"と同率である\",\" を \"&TEXT(ABS(AB46),\"0.0\")&\"ポイント \"&IF(AB46>0,\"上回る\",\"下回る\"))","v":" を 8.6ポイント 下回る"}]
[{"$nulls":6},"割合(%)",{"$f":"IF(OR(AND(ISTEXT(H46),H46<>\"X\",H46<>\"-\"),AND(ISTEXT(H47),H47<>\"X\",H47<>\"-\")),\"nc\",IF(OR(H46=\"X\",H47=\"X\"),\"X\",IF(ROUND(SUM(H46),0)=0,\"nc\",SUM(H47)/H46%)))","v":{"v":54.32819438207853,"d":"54.3"}},{"$nulls":17},"県との比較",{"$f":"IF(LEFT(Z48,1)=\"県\",$D$4,$D46)","v":"山梨県"},{"$f":"H51-IF(LEFT(Z48,1)=\"県\",H52,H48)","v":{"v":0,"d":"0.00000000000000"}}]
[{"$nulls":3},"2015年","農家数",null,null,{"$f":"IFERROR(OFFSET(INDIRECT($Y$4),$V$4,W46-1),\"nc\")","v":{"v":17020,"d":"17,020"}},{"$nulls":17},"前回との比較",{"$f":"AA3","v":"山梨県"},{"$f":"IF(AB48=0,\"と同率である\",\" を \"&TEXT(ABS(AB48),\"0.0\")&\"ポイント \"&IF(AB48>0,\"上回る\",\"下回る\"))","v":"と同率である"}]
[{"$nulls":6},"後継者がいる農家数",{"$f":"IFERROR(OFFSET(INDIRECT($Y$4),$V$4,$W47-1),\"nc\")","v":{"v":7787,"d":"7,787"}}]
[{"$nulls":6},"割合(%)",{"$f":"IF(OR(AND(ISTEXT(H49),H49<>\"X\",H49<>\"-\"),AND(ISTEXT(H50),H50<>\"X\",H50<>\"-\")),\"nc\",IF(OR(H49=\"X\",H50=\"X\"),\"X\",IF(ROUND(SUM(H49),0)=0,\"nc\",SUM(H50)/H49%)))","v":{"v":45.75205640423032,"d":"45.8"}}]
[{"$nulls":3},"県計",null,null,"後継者がいる割合(%)",{"$f":"IFERROR(OFFSET(INDIRECT($Y$4),5,$W$47-1)/OFFSET(INDIRECT($Y$4),5,$W$46-1)*100,\"nc\")","v":{"v":45.752056404230316,"d":"45.8"}}]
{"$rows_empty":20}
[{"$nulls":3},{"$f":"IFERROR(\" ◎ 一世代家族経営の割合は \"&TEXT(G79/100,\"0.0%\")&\"（\"&TEXT(G78,\"#,##0\")&\"戸）で、\"&IF(LEFT(R75,1)=\"県\",\"県平均の \"&TEXT(G80/100,\"0.0%\"),\"2010年の \"&TEXT(G77/F77,\"0.0%\"))&W78,\"\")","v":""}]
[{"$nulls":11},"単位：戸"]
[{"$nulls":5},"計","一世代家族\n経営",null,null,"二世代家族\n経営",null,"三世代家族\n経営",{"$nulls":5},"前回との比較"]
[{"$nulls":7},"一人家族経営","夫婦家族経営",null,"親子家族経営",{"$nulls":10},"列番号","県、前回との差","グラフ用","一世代","二世代","三世代"]
[{"$nulls":3},"2010年",null,{"$f":"IFERROR(OFFSET(INDIRECT($Y$3),$V$3,$V77),\"nc\")","v":"nc"},{"$f":"IFERROR(OFFSET(INDIRECT($Y$3),$V$3,$V$77+F1),\"nc\")","v":"nc"},"nc","nc","nc","nc","nc",{"$nulls":9},{"$f":"CELL(\"col\",#REF!)-1","v":{"$error":"#REF!"}},{"$f":"IF(LEFT(R75,1)=\"県\",G79-G80,G79-G77/F77*100)","v":{"$error":"#VALUE!"}},{"$f":"IF(LEFT($R$75,1)=\"県\",AA3,D77)","v":"2010年"},{"$f":"IF(LEFT($R$75,1)=\"県\",G79,G77/F77*100)","v":{"$error":"#VALUE!"}},{"$f":"IF(LEFT($R$75,1)=\"県\",J79,J77/F77*100)","v":{"$error":"#VALUE!"}},{"$f":"IF(LEFT($R$75,1)=\"県\",L79,L77/F77*100)","v":{"$error":"#VALUE!"}}]
[{"$nulls":3},"2015年",null,{"$f":"IFERROR(OFFSET(INDIRECT($Y$4),$V$4,$V78),\"nc\")","v":0},{"$f":"IFERROR(SUM(OFFSET(INDIRECT($Y$4),$V$4,$V$78+F1)),\"nc\")","v":0},0,0,0,0,0,{"$nulls":9},{"$f":"CELL(\"col\",'2015年'!CV6)-1","v":99},{"$f":"IF(W77=0,\" と同率である\",\" を \"&TEXT(ABS(W77),\"0.0\")&\"ポイント \"&IF(W77>0,\"上回る\",\"下回る\"))","v":{"$error":"#VALUE!"}},{"$f":"IF(LEFT($R$75,1)=\"県\",D4,D78)","v":"2015年"},{"$f":"IF(LEFT($R$75,1)=\"県\",G80,G79)","v":"nc"},{"$f":"IF(LEFT($R$75,1)=\"県\",J80,J79)","v":"nc"},{"$f":"IF(LEFT($R$75,1)=\"県\",L80,L79)","v":"nc"}]
[{"$nulls":4},"構成比(%)",{"$f":"IF(OR(AND(ISTEXT($F78),$F78<>\"X\",$F78<>\"-\"),AND(ISTEXT(F78),F78<>\"X\",F78<>\"-\")),\"nc\",IF(OR($F78=\"X\",F78=\"X\"),\"X\",IF(ROUND(SUM($F78),0)=0,\"nc\",SUM(F78)/$F78%)))","v":"nc"},"nc","nc","nc","nc","nc","nc"]
[{"$nulls":4},"県計 構成比(%)",{"v":100,"d":"100.0"},{"$f":"IFERROR(OFFSET(INDIRECT($Y$4),5,$V$78+F1)/OFFSET(INDIRECT($Y$4),5,$V$78)%,\"nc\")","v":"nc"},"nc","nc","nc","nc","nc"]
[]
[]
[]
[null,null,"過去１年間の生活の主な状態別世帯員数（計）"]
[{"$nulls":3},{"$f":"IFERROR(\" ◎ 「自営農業が主」の割合は \"&TEXT(H91/100,\"0.0%\")&\"（\"&TEXT(H90,\"#,###\")&\"戸）で、\"&IF(LEFT(R87,1)=\"県\",\" 県平均\"&\"の \"&TEXT(H93/100,\"0.0%\")&W90,\"2010年の \"&TEXT(H89/F89,\"0.0%\")&X90),\"\")","v":" ◎ 「自営農業が主」の割合は 46.9%（24,157戸）で、2010年の 43.4% を 3.5ポイント 上回る"}]
[{"$nulls":12},"単位：人",{"$f":"\"　《主な状態別世帯員数割合》 \"","v":"　《主な状態別世帯員数割合》 "}]
[{"$nulls":5},"計","主に仕事",{"$nulls":3},"主に\n家事・育児","学生","その他",{"$f":"\"　\"&IF(AND(LEFT(R87,1)<>\"県\",G4=\"\"),D4,IF(LEFT(R87,1)=\"県\",D90,AA3))","v":"　山梨県"},{"$nulls":3},"前回との比較",{"$nulls":4},"自営農業の増減",null,"凡例用",{"$nulls":5},"内円"]
[{"$nulls":6},"小計","自営農業が主","勤務が主","農業以外の自営が主",{"$nulls":7},{"$f":"\"外円：\"&IF(AND(LEFT(R87,1)=\"県\",G4=\"\"),D4,IF(LEFT(R87,1)=\"県\",$AA$3,\"2015年\"))&CHAR(10)&\"内円：\"&IF(LEFT(R87,1)=\"県\",$D$4,\"2010年\")","v":"外円：2015年\n内円：2010年"},{"$nulls":3},"列番号","県","前回","自営農業","勤務","農業以外の自営","家事・育児","学生","その他","offset\n行数"]
[15,null,null,"2010年",null,{"$f":"IFERROR(OFFSET(INDIRECT($Y$3),$V$3,$V95-1),\"nc\")","v":{"v":65171,"d":"65,171"}},{"$f":"IFERROR(OFFSET(INDIRECT($Y$3),$V$3,$V95),\"nc\")","v":{"v":49831,"d":"49,831"}},{"$f":"IFERROR(OFFSET(INDIRECT($Y$3),$V$3,$V95+1),\"nc\")","v":{"v":28314,"d":"28,314"}},{"$f":"IFERROR(OFFSET(INDIRECT($Y$3),$V$3,$V95+2),\"nc\")","v":{"v":19694,"d":"19,694"}},{"$f":"IFERROR(OFFSET(INDIRECT($Y$3),$V$3,$V95+3),\"nc\")","v":{"v":1823,"d":"1,823"}},{"$f":"IFERROR(OFFSET(INDIRECT($Y$3),$V$3,$V95+4),\"nc\")","v":{"v":5791,"d":"5,791"}},{"$f":"IFERROR(OFFSET(INDIRECT($Y$3),$V$3,$V95+5),\"nc\")","v":{"v":4713,"d":"4,713"}},{"$f":"IFERROR(OFFSET(INDIRECT($Y$3),$V$3,$V95+6),\"nc\")","v":{"v":4836,"d":"4,836"}},{"$nulls":8},{"$f":"CELL(\"col\",'2010年'!DC6)-1","v":106},{"$f":"H91-H93","v":{"v":0,"d":"0.00"}},{"$f":"H91-H89/F89*100","v":3.488432012416162},{"$nulls":6},{"$f":"IF(LEFT(R87,1)=\"県\",2,-1)","v":-1}]
[{"$nulls":3},"2015年",null,{"$f":"IFERROR(OFFSET(INDIRECT($Y$4),$V$4,$V96-1),\"nc\")","v":{"v":51470,"d":"51,470"}},{"$f":"IFERROR((OFFSET(INDIRECT($Y$4),$V$4,$V96)),\"nc\")","v":{"v":40581,"d":"40,581"}},{"$f":"IFERROR((OFFSET(INDIRECT($Y$4),$V$4,$V96+1)),\"nc\")","v":{"v":24157,"d":"24,157"}},{"$f":"IFERROR((OFFSET(INDIRECT($Y$4),$V$4,$V96+2)),\"nc\")","v":{"v":14700,"d":"14,700"}},{"$f":"IFERROR((OFFSET(INDIRECT($Y$4),$V$4,$V96+3)),\"nc\")","v":{"v":1724,"d":"1,724"}},{"$f":"IFERROR((OFFSET(INDIRECT($Y$4),$V$4,$V96+4)),\"nc\")","v":{"v":3737,"d":"3,737"}},{"$f":"IFERROR((OFFSET(INDIRECT($Y$4),$V$4,$V96+5)),\"nc\")","v":{"v":3103,"d":"3,103"}},{"$f":"IFERROR((OFFSET(INDIRECT($Y$4),$V$4,$V96+6)),\"nc\")","v":{"v":4049,"d":"4,049"}},{"$nulls":8},{"$f":"CELL(\"col\",'2015年'!DC6)-1","v":106},{"$f":"\" \"&IF(W89=0,\"と同率である\",\" を \"&TEXT(ABS(W89),\"0.0\")&\"ポイント \"&IF(W89>0,\"上回る\",\"下回る\"))","v":" と同率である"},{"$f":"IF(X89=0,\"と同率である\",\" を \"&TEXT(ABS(X89),\"0.0\")&\"ポイント \"&IF(X89>0,\"上回る\",\"下回る\"))","v":" を 3.5ポイント 上回る"}]
[{"$nulls":4},"構成比(%)",{"$f":"IF(OR(AND(ISTEXT($F90),$F90<>\"X\",$F90<>\"-\"),AND(ISTEXT(F90),F90<>\"X\",F90<>\"-\")),\"nc\",IF(OR($F90=\"X\",F90=\"X\"),\"X\",IF(ROUND(SUM($F90),0)=0,\"nc\",SUM(F90)/$F90%)))","v":{"v":99.99999999999999,"d":"100.0"}},{"v":78.84398678842044,"d":"78.8"},{"v":46.93413639013017,"d":"46.9"},{"v":28.560326403730325,"d":"28.6"},{"v":3.3495239945599375,"d":"3.3"},{"v":7.2605401204585185,"d":"7.3"},{"v":6.028754614338449,"d":"6.0"},{"v":7.866718476782591,"d":"7.9"}]
[{"$nulls":4},"県計 実数",{"$f":"IFERROR(OFFSET(INDIRECT($Y$4),5,V96-1),\"nc\")","v":{"v":51470,"d":"51,470"}},{"$f":"IFERROR(OFFSET(INDIRECT($Y$4),5,$V$96),\"nc\")","v":{"v":40581,"d":"40,581"}},{"$f":"IFERROR(OFFSET(INDIRECT($Y$4),5,V96+1),\"nc\")","v":{"v":24157,"d":"24,157"}},{"$f":"IFERROR(OFFSET(INDIRECT($Y$4),5,V96+2),\"nc\")","v":{"v":14700,"d":"14,700"}},{"$f":"IFERROR(OFFSET(INDIRECT($Y$4),5,V96+3),\"nc\")","v":{"v":1724,"d":"1,724"}},{"$f":"IFERROR(OFFSET(INDIRECT($Y$4),5,V96+4),\"nc\")","v":{"v":3737,"d":"3,737"}},{"$f":"IFERROR(OFFSET(INDIRECT($Y$4),5,V96+5),\"nc\")","v":{"v":3103,"d":"3,103"}},{"$f":"IFERROR(OFFSET(INDIRECT($Y$4),5,V96+6),\"nc\")","v":{"v":4049,"d":"4,049"}}]
[{"$nulls":4},"県計 構成比(%)",{"v":100,"d":"100.0"},{"$f":"IFERROR(OFFSET(INDIRECT($Y$4),5,$V$96)/OFFSET(INDIRECT($Y$4),5,$V$96-1)*100,\"nc\")","v":{"v":78.84398678842044,"d":"78.8"}},{"$f":"IFERROR(OFFSET(INDIRECT($Y$4),5,$V$96+F1)/OFFSET(INDIRECT($Y$4),5,$V$96-1)*100,\"nc\")","v":{"v":46.93413639013017,"d":"46.9"}},{"v":28.56032640373033,"d":"28.6"},{"v":3.349523994559938,"d":"3.3"},{"v":7.260540120458519,"d":"7.3"},{"v":6.02875461433845,"d":"6.0"},{"v":7.866718476782592,"d":"7.9"},{"$nulls":8},"列番号","概要",null,"縦棒\n左","縦棒\n右","凡例"]
[{"$nulls":21},{"$f":"IF(C84=\"過去１年間の生活の主な状態別世帯員数（計）\",1,IF(C84=\"過去１年間の生活の主な状態別世帯員数（男）\",2,IF(C84=\"過去１年間の生活の主な状態別世帯員数（女）\",3,ERROR.TYPE(5))))","v":1},"人数","平均年齢",{"$f":"IF(LEFT(R100,1)=\"県\",3,-1)","v":-1},{"$f":"IF(LEFT(R100,1)=\"県\",1,0)","v":0},{"$f":"IF(LEFT(R100,1)=\"県\",$D$4,$D94)","v":0}]
[{"$nulls":21},{"$f":"IFERROR(CHOOSE(V94,CELL(\"col\",'2010年'!DD6),CELL(\"col\",'2010年'!EG6),CELL(\"col\",'2010年'!EO6))-1,555)","v":107},{"$f":"F95/F94-1","v":{"$error":"#DIV/0!"}},{"$f":"S95-IF(LEFT(R100,1)=\"県\",S98,S94)","v":{"v":0,"d":"0.0"}},null,null,{"$f":"IF(LEFT(R100,1)=\"県\",AA75,D95)","v":0}]
[{"$nulls":21},{"$f":"IFERROR(CHOOSE(V94,CELL(\"col\",'2015年'!DD6),CELL(\"col\",'2015年'!EG6),CELL(\"col\",'2015年'!EO6))-1,555)","v":107},{"$f":"IF(W95=0,\"変化なし\",TEXT(ABS(F95-F94),\"#,##0人\")&\"（\"&TEXT(ABS(W95),\"0.0%\")&\"） \"&IF(W95>0,\"増加\",\"減少\"))","v":{"$error":"#DIV/0!"}},{"$f":"IF(X95=0,\"と同じである\",\"を \"&TEXT(ABS(X95),\"0.0歳\")&IF(X95>0,\"上回る\",\"下回る\"))","v":"と同じである"}]
[]
[null,null,"農産物販売金額１位の部門別農家数（販売のあった農家）"]
[{"$nulls":3},{"$f":"IF(AA105=\"\",\"\",\" ◎ \"&AA105&\"（\"&TEXT(Z105,\"0.0\")&\"%） が最も多く、次いで\"&SUBSTITUTE(AA106&AA107,\"」「\",\"」、「\")&\"の順で、この\"&DBCS(COUNTIF(AB103:AN103,\"<4\"))&\"部門で全体の \"&TEXT(Z104,\"0.0\")&\"% を占める\")","v":" ◎ 「果樹類」（65.7%） が最も多く、次いで「稲作」、「露地野菜」の順で、この３部門で全体の 95.5% を占める"}]
[{"$nulls":18},"単位：戸"]
[{"$nulls":5},"計","稲作","麦類作","雑穀・\nいも類・\n豆類","工芸農作物","野菜類",null,"果樹類","花き・\n花木","その他の作物","酪農","肉用牛","養豚","養鶏"]
[{"$nulls":10},"露地","施設",null,null,"その他の作物","畜産",{"$nulls":5},"列番号","offset行数",null,"凡例","上位",null,"稲作","麦類作","雑穀・\nいも類・\n豆類","工芸\n農作物","露地\n野菜","施設\n野菜","果樹類","花き・\n花木","その他\nの作物","酪農","肉用牛","養豚","養鶏"]
[{"$nulls":3},"2010年",null,{"$f":"IFERROR(OFFSET(INDIRECT($Y$3),$V$3,$V103),\"nc\")","v":{"v":18061,"d":"18,061"}},{"$f":"IFERROR(OFFSET(INDIRECT($Y$3),$V$3,$V103+F$1),\"nc\")","v":{"v":4207,"d":"4,207"}},4,149,96,{"v":1204,"d":"1,204"},304,{"v":11679,"d":"11,679"},195,52,{"$f":"IFERROR(OFFSET(INDIRECT($Y$3),$V$3,$V103+O$1),\"nc\")","v":82},{"$f":"IFERROR(OFFSET(INDIRECT($Y$3),$V$3,$V103+P$1),\"nc\")","v":37},{"$f":"IFERROR(OFFSET(INDIRECT($Y$3),$V$3,$V103+Q$1),\"nc\")","v":16},{"$f":"IFERROR(OFFSET(INDIRECT($Y$3),$V$3,$V103+R$1),\"nc\")","v":24},null,null,{"$f":"CELL(\"col\",'2010年'!DK6)-1","v":114},"縦棒左","縦棒右",{"$f":"IF(LEFT(R108,1)=\"県\",D4,D103)","v":"2010年"},"３品目計","順位",{"$f":"IFERROR(RANK(G104,$G$104:$S$104,0),99)","v":2},13,6,7,3,4,1,5,10,8,9,12,11]
[{"$nulls":3},"2015年",null,{"$f":"IFERROR(OFFSET(INDIRECT($Y$4),$V$4,V104),\"nc\")","v":{"v":15488,"d":"15,488"}},{"$f":"IFERROR(OFFSET(INDIRECT($Y$4),$V$4,$V104+F1),\"nc\")","v":{"v":3548,"d":"3,548"}},10,109,64,{"v":1070,"d":"1,070"},220,{"v":10180,"d":"10,180"},134,26,{"$f":"IFERROR(OFFSET(INDIRECT($Y$4),$V$4,$V104+O1),\"nc\")","v":60},{"$f":"IFERROR(OFFSET(INDIRECT($Y$4),$V$4,$V104+P1),\"nc\")","v":28},{"$f":"IFERROR(OFFSET(INDIRECT($Y$4),$V$4,$V104+Q1),\"nc\")","v":11},{"$f":"IFERROR(OFFSET(INDIRECT($Y$4),$V$4,$V104+R1),\"nc\")","v":19},null,null,{"$f":"CELL(\"col\",'2015年'!DK6)-1","v":114},{"$f":"IF(LEFT(R108,1)=\"県\",2,-1)","v":-1},{"$f":"IF(LEFT(R108,1)=\"県\",1,0)","v":0},{"$f":"IF(AND(LEFT(R108,1)=\"県\",G4=\"\"),D4,IF(LEFT(R108,1)=\"県\",AA3,D104))","v":"2015年"},{"$f":"SUM(AB104:AN104)","v":95.54493801652893},"％",{"$f":"IF(AB103<4,G104/$F$104%,0)","v":22.90805785123967},{"$f":"IF(AC103<4,H104/$F$104%,0)","v":0},{"$f":"IF(AD103<4,I104/$F$104%,0)","v":0},0,6.908574380165289,0,65.72830578512396,0,0,0,0,0,0]
[{"$nulls":4},"構成比(%)",{"$f":"IF(OR(AND(ISTEXT($F104),$F104<>\"X\",$F104<>\"-\"),AND(ISTEXT(F104),F104<>\"X\",F104<>\"-\")),\"nc\",IF(OR($F104=\"X\",F104=\"X\"),\"X\",IF(ROUND(SUM($F104),0)=0,\"nc\",SUM(F104)/$F104%)))","v":{"v":100,"d":"100.0"}},{"v":22.90805785123967,"d":"22.9"},{"v":0.06456611570247935,"d":"0.1"},{"v":0.7037706611570248,"d":"0.7"},{"v":0.4132231404958678,"d":"0.4"},{"v":6.908574380165289,"d":"6.9"},{"v":1.4204545454545454,"d":"1.4"},{"v":65.72830578512396,"d":"65.7"},{"v":0.8651859504132232,"d":"0.9"},{"v":0.1678719008264463,"d":"0.2"},{"v":0.38739669421487605,"d":"0.4"},{"v":0.18078512396694216,"d":"0.2"},{"v":0.07102272727272728,"d":"0.1"},{"v":0.12267561983471074,"d":"0.1"},{"$nulls":5},"１位",{"$f":"SUMIF($AB$103:$AN$103,1,AB104:AN104)","v":65.72830578512396},{"$f":"SUBSTITUTE(AB105&AC105&AD105&AE105&AF105&AG105&AH105&AI105&AJ105&AK105&AL105&AM105&AN105,\"」「\",\"」と「\")","v":"「果樹類」"},{"$f":"IF(AB103=1,\"「\"&CLEAN(AB102)&\"」\",\"\")","v":""},"","","","","","「果樹類」","","","","","",""]
[{"$nulls":4},"県計 構成比(%)",{"v":100,"d":"100.0"},{"$f":"IFERROR(IF(OFFSET(INDIRECT($Y$4),5,$V$104+F1)=\"-\",\"-\",ROUND(OFFSET(INDIRECT($Y$4),5,$V$104+F1)/OFFSET(INDIRECT($Y$4),5,$V$104)*100,1)),\"nc\")","v":22.9},{"$f":"IFERROR(IF(OFFSET(INDIRECT($Y$4),5,$V$104+G1)=\"-\",\"-\",ROUND(OFFSET(INDIRECT($Y$4),5,$V$104+G1)/OFFSET(INDIRECT($Y$4),5,$V$104)*100,1)),\"nc\")","v":0.1},{"$f":"IFERROR(IF(OFFSET(INDIRECT($Y$4),5,$V$104+H1)=\"-\",\"-\",ROUND(OFFSET(INDIRECT($Y$4),5,$V$104+H1)/OFFSET(INDIRECT($Y$4),5,$V$104)*100,1)),\"nc\")","v":0.7},{"$f":"IFERROR(IF(OFFSET(INDIRECT($Y$4),5,$V$104+I1)=\"-\",\"-\",ROUND(OFFSET(INDIRECT($Y$4),5,$V$104+I1)/OFFSET(INDIRECT($Y$4),5,$V$104)*100,1)),\"nc\")","v":0.4},{"$f":"IFERROR(IF(OFFSET(INDIRECT($Y$4),5,$V$104+J1)=\"-\",\"-\",ROUND(OFFSET(INDIRECT($Y$4),5,$V$104+J1)/OFFSET(INDIRECT($Y$4),5,$V$104)*100,1)),\"nc\")","v":6.9},1.4,65.7,0.9,0.2,{"$f":"IFERROR(IF(OFFSET(INDIRECT($Y$4),5,$V$104+O1)=\"-\",\"-\",ROUND(OFFSET(INDIRECT($Y$4),5,$V$104+O1)/OFFSET(INDIRECT($Y$4),5,$V$104)*100,1)),\"nc\")","v":0.4},{"$f":"IFERROR(IF(OFFSET(INDIRECT($Y$4),5,$V$104+P1)=\"-\",\"-\",ROUND(OFFSET(INDIRECT($Y$4),5,$V$104+P1)/OFFSET(INDIRECT($Y$4),5,$V$104)*100,1)),\"nc\")","v":0.2},{"$f":"IFERROR(IF(OFFSET(INDIRECT($Y$4),5,$V$104+Q1)=\"-\",\"-\",ROUND(OFFSET(INDIRECT($Y$4),5,$V$104+Q1)/OFFSET(INDIRECT($Y$4),5,$V$104)*100,1)),\"nc\")","v":0.1},{"$f":"IFERROR(IF(OFFSET(INDIRECT($Y$4),5,$V$104+R1)=\"-\",\"-\",ROUND(OFFSET(INDIRECT($Y$4),5,$V$104+R1)/OFFSET(INDIRECT($Y$4),5,$V$104)*100,1)),\"nc\")","v":0.1},{"$nulls":5},"２位",{"$f":"SUMIF($AB$103:$AN$103,2,$AB$104:$AN$104)","v":22.90805785123967},{"$f":"SUBSTITUTE(AB106&AC106&AD106&AE106&AF106&AG106&AH106&AI106&AJ106&AK106&AL106&AM106&AN106,\"」「\",\"」と「\")","v":"「稲作」"},{"$f":"IF(AB103=2,\"「\"&CLEAN(AB102)&\"」\",\"\")","v":"「稲作」"},"","","","","","","","","","","",""]
[{"$nulls":3},{"$f":"IF(LEFT(R108,1)=\"県\",\"（％）\",\"（戸）\")","v":"（戸）"},{"$nulls":3},{"$f":"\"《農産物販売金額１位の部門別農家数\"&IF(LEFT(R108,1)=\"県\",\"割合\",\"\")&\"》　\"&IF(AND(LEFT(R108,1)<>\"県\",G4=\"\"),D4,IF(LEFT(R108,1)=\"県\",\"2015年\",AA3))","v":"《農産物販売金額１位の部門別農家数》　山梨県"},{"$nulls":16},"３位",{"$f":"SUMIF($AB$103:$AN$103,3,$AB$104:$AN$104)","v":6.908574380165289},{"$f":"SUBSTITUTE(AB107&AC107&AD107&AE107&AF107&AG107&AH107&AI107&AJ107&AK107&AL107&AM107&AN107,\"」「\",\"」と「\")","v":"「露地野菜」"},{"$f":"IF(AB103=3,\"「\"&CLEAN(AB102)&\"」\",\"\")","v":""},"","","","「露地野菜」","","","","","","","",""]
[{"$nulls":17},"前回との比較"]
{"$rows_empty":12}
[null,null,"経営耕地面積（販売農家）",{"$nulls":5},{"$f":"IFERROR(\" ◎ 経営耕地面積は \"&IF(G126=G125,\"変化なし\",TEXT(ABS(G126-G125),\"#,##0\")&\"ha（\"&TEXT(ABS(G126/G125-1),\"0.0%\"&\"） \"))&IF(F126=F125,\"\",IF(G126<G125,\"減少\",\"増加\"))&\"、１戸当たりでは \"&IF(X125=0,\"変動無し\",TEXT(ABS(X125),\"0.00\")&\"ha \"&IF(X125>0,\"増加\",\"減少\")),\"\")","v":" ◎ 経営耕地面積は 1,834ha（12.3%) 減少、１戸当たりでは 0.03ha 増加"}]
[{"$nulls":3},{"$f":"AA3","v":"山梨県"},{"$nulls":6},"単位：ha"]
[{"$nulls":5},"経　営\n耕　地\nのある農家数","経　営\n耕　地\n面　積",{"$nulls":3},"１戸当たり経営耕地面積"]
[{"$nulls":7},"田","畑\n（樹園地を除く）","樹園地",{"$nulls":11},"列番号","凡例用","１戸当たり増減"]
[{"$nulls":3},"2010年",null,{"$f":"IFERROR(OFFSET(INDIRECT($Y$3),$V$3,V125),\"nc\")","v":{"v":20017,"d":"20,017"}},{"$f":"IFERROR(ROUND(OFFSET(INDIRECT($Y$3),$V$3,$V$125+F1)/100,0),OFFSET(INDIRECT($Y$3),$V$3,$V$125+F1))","v":{"v":14910,"d":"14,910 "}},{"$f":"IFERROR(ROUND(OFFSET(INDIRECT($Y$3),$V$3,$V$125+G1)/100,0),OFFSET(INDIRECT($Y$3),$V$3,$V$125+G1))","v":{"v":4387,"d":"4,387 "}},{"$f":"IFERROR(ROUND(OFFSET(INDIRECT($Y$3),$V$3,$V$125+H1)/100,0),OFFSET(INDIRECT($Y$3),$V$3,$V$125+H1))","v":{"v":2546,"d":"2,546 "}},{"$f":"IFERROR(ROUND(OFFSET(INDIRECT($Y$3),$V$3,$V$125+I1)/100,0),OFFSET(INDIRECT($Y$3),$V$3,$V$125+I1))","v":{"v":7977,"d":"7,977 "}},{"$f":"IF(OR(AND(ISTEXT($F125),$F125<>\"X\",$F125<>\"-\"),AND(ISTEXT(G125),G125<>\"X\",G125<>\"-\")),\"nc\",IF(OR($F125=\"X\",G125=\"X\"),\"X\",IF(ROUND(SUM($F125),0)=0,\"nc\",ROUND(SUM(G125)/$F125,2))))","v":0.74},{"$nulls":10},{"$f":"CELL(\"col\",'2010年'!EA6)-1","v":130},"田",{"$f":"K126-K125","v":0.030000000000000027}]
[{"$nulls":3},"2015年",null,{"$f":"IFERROR(OFFSET(INDIRECT($Y$4),$V$4,$V126),\"nc\")","v":{"v":16987,"d":"16,987"}},{"$f":"IFERROR(ROUND(OFFSET(INDIRECT($Y$4),$V$4,$V126+F1)/100,0),OFFSET(INDIRECT($Y$4),$V$4,$V126+F1))","v":{"v":13076,"d":"13,076 "}},{"$f":"IFERROR(ROUND(OFFSET(INDIRECT($Y$4),$V$4,$V126+G1)/100,0),OFFSET(INDIRECT($Y$4),$V$4,$V126+G1))","v":{"v":3837,"d":"3,837 "}},{"$f":"IFERROR(ROUND(OFFSET(INDIRECT($Y$4),$V$4,$V126+H1)/100,0),OFFSET(INDIRECT($Y$4),$V$4,$V126+H1))","v":{"v":2194,"d":"2,194 "}},{"$f":"IFERROR(ROUND(OFFSET(INDIRECT($Y$4),$V$4,$V126+I1)/100,0),OFFSET(INDIRECT($Y$4),$V$4,$V126+I1))","v":{"v":7045,"d":"7,045 "}},{"$f":"IF(OR(AND(ISTEXT($F126),$F126<>\"X\",$F126<>\"-\"),AND(ISTEXT(G126),G126<>\"X\",G126<>\"-\")),\"nc\",IF(OR($F126=\"X\",G126=\"X\"),\"X\",IF(ROUND(SUM($F126),0)=0,\"nc\",ROUND(SUM(G126)/$F126,2))))","v":0.77},{"$nulls":10},{"$f":"CELL(\"col\",'2015年'!EA6)-1","v":130},"畑"]
[{"$nulls":4},"構成比(%)",null,{"$f":"IF(OR(AND(ISTEXT($G126),$G126<>\"X\",$G126<>\"-\"),AND(ISTEXT(G126),G126<>\"X\",G126<>\"-\")),\"nc\",IF(OR($G126=\"X\",G126=\"X\"),\"X\",IF(ROUND(SUM($G126),0)=0,\"nc\",SUM(G126)/$G126%)))","v":{"v":100,"d":"100.0"}},{"$f":"IF(OR(AND(ISTEXT($G126),$G126<>\"X\",$G126<>\"-\"),AND(ISTEXT(H126),H126<>\"X\",H126<>\"-\")),\"nc\",IF(OR($G126=\"X\",H126=\"X\"),\"X\",IF(ROUND(SUM($G126),0)=0,\"nc\",SUM(H126)/$G126%)))","v":{"v":29.34383603548486,"d":"29.3"}},{"v":16.778831446925665,"d":"16.8"},{"v":53.87733251758948,"d":"53.9"},{"$nulls":12},"樹園地"]
[{"$nulls":4},"県計 構成比(%)",null,{"v":100,"d":"100.0"},{"$f":"IFERROR(ROUND(OFFSET(INDIRECT($Y$4),5,$V$126+G1)/OFFSET(INDIRECT($Y$4),5,$V$126+1)*100,1),\"nc\")","v":29.3},{"$f":"IFERROR(ROUND(OFFSET(INDIRECT($Y$4),5,$V$126+H1)/OFFSET(INDIRECT($Y$4),5,$V$126+1)*100,1),\"nc\")","v":16.8},{"$f":"IFERROR(ROUND(OFFSET(INDIRECT($Y$4),5,$V$126+I1)/OFFSET(INDIRECT($Y$4),5,$V$126+1)*100,1),\"nc\")","v":53.9},{"$f":"IFERROR(OFFSET(INDIRECT($Y$4),5,V126+1)/OFFSET(INDIRECT($Y$4),5,V126)/100,\"nc\")","v":{"v":0.7697757108376995,"d":"0.77"}}]
[{"$nulls":3},{"$f":"IFERROR(\"《参考》\"&G4&\"の経営耕地面積の全国順位：\"&TEXT(OFFSET(#REF!,MATCH(Info!G4,#REF!,0),0),\"#,##0\")&\"位\",\"\")","v":""}]

{"sheet":"元データ","index":1,"n_rows":1919,"n_cols":30,"rows_kept":1919,"hidden":true,"merged":[[0,10,0,11],[0,18,0,19],[0,21,0,22],[1,10,1,11],[1,18,1,19],[1,21,1,22],[2,10,2,15],[2,16,2,20],[2,21,2,23],[3,10,3,13],[3,14,3,15],[3,16,3,17],[3,18,3,20],[3,21,3,23]]}
["注意事項",null,"･･･","空欄追記:『調査外(湖､無人島等)』",{"$nulls":21},"別紙 2",null,"市区町村名","旧市区町村","農業集落"]
[null,null,"･･･","全角変換:『2-1』⇒『2-1』",{"$nulls":6},{"$f":"IF(AB2=0,\"\",AB2)","v":""},{"$nulls":7},{"$f":"IF(AC2=0,\"\",AC2)","v":""},{"$nulls":7},"山梨県",{"$f":"Info!G4","v":0},{"$f":"Info!J4","v":0},{"$f":"Info!M4","v":0}]
[{"$nulls":10},"市町村",{"$nulls":5},"旧市区町村",{"$nulls":4},"農業集落"]
["農業集落","県","市区町村","旧市区町村","農業集落","県名","市町村名","旧市町村名","農業集落名",null,"判定１",{"$nulls":3},"抽出１",null,"判定2",null,"抽出2",null,null,"抽出3",{"$nulls":3},"通し","都県名","市区町村名","旧区市町村名","農業集落名"]
["ｺｰﾄﾞ","番号","番号","番号","番号",{"$nulls":5},"判定","市区町村名","連番","補記","抽出","名","判定","名","抽出","旧区市町村名","連番","抽出","農業集落名","連番",null,"№"]
[{"$nulls":25},0]
[1900000000,19,{"v":0,"d":"000 "},{"v":0,"d":"00 "},{"v":0,"d":"000 "},"山梨県",{"$nulls":4},{"$f":"IF(AND($C7>0,$H7=\"\"),\"ﾘｽﾄ１\",\"\")","v":""},{"$f":"IF(K7=\"ﾘｽﾄ１\",G7,\"\")","v":""},{"$f":"IF(K7=\"\",\"\",COUNTIF($K7:K$7,\"ﾘｽﾄ１\"))","v":""},{"$f":"IF(AND(D7=0,E7>0),\"同一区\",\"\")","v":""},{"$f":"IF(AND(EXACT($K$2,G7),H7>0),\"該当１\",\"\")","v":""},{"$f":"IF(O7=\"該当１\",G7,\"\")","v":""},{"$f":"IF(O7=\"該当１\",\"ﾘｽﾄ2\",\"\")","v":""},{"$f":"IF(Q7=\"ﾘｽﾄ2\",H7,\"\")","v":""},{"$f":"IF(AND(Q7=\"ﾘｽﾄ2\",OR(I7=0,AND(N7=\"同一区\",E7=1))),\"該当２\",\"\")","v":""},{"$f":"IF(S7=\"該当２\",H7,\"\")","v":""},{"$f":"IF(S7=\"\",\"\",COUNTIF($S$7:S7,\"該当２\"))","v":""},{"$f":"IF(AND($S$2=H7,E7>0,E7<998),\"該当３\",\"\")","v":""},{"$f":"IF(V7=\"該当３\",I7,\"\")","v":""},{"$f":"IF(V7=\"\",\"\",COUNTIF($V7:V$7,\"該当３\"))","v":""},null,1,"山梨県","甲府市",{"$f":"IF($Z7>MAX($U$7:$U$1919),\"\",INDEX($T$7:$T$1919,MATCH($Z7,$U$7:$U$1919,0),MATCH($AC$4,$T$5:$U$5,0)))","v":""},{"$f":"IF($Z7>MAX($X$7:$X$1919),\"\",INDEX($W$7:$W$1919,MATCH($Z7,$X$7:$X$1919,0),MATCH($AD$4,$W$5:$X$5,0)))","v":""}]
[1920100000,19,{"v":201,"d":"201 "},{"v":0,"d":"00 "},{"v":0,"d":"000 "},"山梨県","甲府市",{"$nulls":3},"ﾘｽﾄ１","甲府市",{"$f":"IF(K8=\"\",\"\",COUNTIF($K$7:K8,\"ﾘｽﾄ１\"))","v":1},"",{"$f":"IF(AND(EXACT($K$2,G8),H8>0),\"該当１\",\"\")","v":""},"","","","","",{"$f":"IF(S8=\"\",\"\",COUNTIF($S$7:S8,\"該当２\"))","v":""},"","",{"$f":"IF(V8=\"\",\"\",COUNTIF($V$7:V8,\"該当３\"))","v":""},null,2,null,"富士吉田市","",""]
[1920101000,19,{"v":201,"d":"201 "},{"v":1,"d":"01 "},{"v":0,"d":"000 "},"山梨県","甲府市","甲府市",null,null,"","",{"$f":"IF(K9=\"\",\"\",COUNTIF($K$7:K9,\"ﾘｽﾄ１\"))","v":""},"",{"$f":"IF(AND(EXACT($K$2,G9),H9>0),\"該当１\",\"\")","v":""},"","","","","",{"$f":"IF(S9=\"\",\"\",COUNTIF($S$7:S9,\"該当２\"))","v":""},"","",{"$f":"IF(V9=\"\",\"\",COUNTIF($V$7:V9,\"該当３\"))","v":""},null,3,null,"都留市","",""]
[1920101001,19,{"v":201,"d":"201 "},{"v":1,"d":"01 "},{"v":1,"d":"001 "},"山梨県","甲府市","甲府市","飯田",null,"","",{"$f":"IF(K10=\"\",\"\",COUNTIF($K$7:K10,\"ﾘｽﾄ１\"))","v":""},"","","","","","","",{"$f":"IF(S10=\"\",\"\",COUNTIF($S$7:S10,\"該当２\"))","v":""},"","",{"$f":"IF(V10=\"\",\"\",COUNTIF($V$7:V10,\"該当３\"))","v":""},null,4,null,"山梨市","",""]
[1920101002,19,{"v":201,"d":"201 "},{"v":1,"d":"01 "},{"v":2,"d":"002 "},"山梨県","甲府市","甲府市","住吉本町（１）",null,"","",{"$f":"IF(K11=\"\",\"\",COUNTIF($K$7:K11,\"ﾘｽﾄ１\"))","v":""},"","","","","","","",{"$f":"IF(S11=\"\",\"\",COUNTIF($S$7:S11,\"該当２\"))","v":""},"","",{"$f":"IF(V11=\"\",\"\",COUNTIF($V$7:V11,\"該当３\"))","v":""},null,5,null,"大月市","",""]
[1920101003,19,{"v":201,"d":"201 "},{"v":1,"d":"01 "},{"v":3,"d":"003 "},"山梨県","甲府市","甲府市","住吉本町（２）",null,"","",{"$f":"IF(K12=\"\",\"\",COUNTIF($K$7:K12,\"ﾘｽﾄ１\"))","v":""},"","","","","","","",{"$f":"IF(S12=\"\",\"\",COUNTIF($S$7:S12,\"該当２\"))","v":""},"","",{"$f":"IF(V12=\"\",\"\",COUNTIF($V$7:V12,\"該当３\"))","v":""},null,6,null,"韮崎市","",""]
[1920101004,19,{"v":201,"d":"201 "},{"v":1,"d":"01 "},{"v":4,"d":"004 "},"山梨県","甲府市","甲府市","住吉本町（３）",null,"","",{"$f":"IF(K13=\"\",\"\",COUNTIF($K$7:K13,\"ﾘｽﾄ１\"))","v":""},"","","","","","","",{"$f":"IF(S13=\"\",\"\",COUNTIF($S$7:S13,\"該当２\"))","v":""},"","",{"$f":"IF(V13=\"\",\"\",COUNTIF($V$7:V13,\"該当３\"))","v":""},null,7,null,"南アルプス市","",""]
[1920101005,19,{"v":201,"d":"201 "},{"v":1,"d":"01 "},{"v":5,"d":"005 "},"山梨県","甲府市","甲府市","愛宕",null,"","",{"$f":"IF(K14=\"\",\"\",COUNTIF($K$7:K14,\"ﾘｽﾄ１\"))","v":""},"","","","","","","",{"$f":"IF(S14=\"\",\"\",COUNTIF($S$7:S14,\"該当２\"))","v":""},"","",{"$f":"IF(V14=\"\",\"\",COUNTIF($V$7:V14,\"該当３\"))","v":""},null,8,null,"北杜市","",""]
[1920101006,19,{"v":201,"d":"201 "},{"v":1,"d":"01 "},{"v":6,"d":"006 "},"山梨県","甲府市","甲府市","市街地",null,"","",{"$f":"IF(K15=\"\",\"\",COUNTIF($K$7:K15,\"ﾘｽﾄ１\"))","v":""},"","","","","","","",{"$f":"IF(S15=\"\",\"\",COUNTIF($S$7:S15,\"該当２\"))","v":""},"","",{"$f":"IF(V15=\"\",\"\",COUNTIF($V$7:V15,\"該当３\"))","v":""},null,9,null,"甲斐市","",""]
[1920101007,19,{"v":201,"d":"201 "},{"v":1,"d":"01 "},{"v":7,"d":"007 "},"山梨県","甲府市","甲府市","城北東",null,"","",{"$f":"IF(K16=\"\",\"\",COUNTIF($K$7:K16,\"ﾘｽﾄ１\"))","v":""},"","","","","","","",{"$f":"IF(S16=\"\",\"\",COUNTIF($S$7:S16,\"該当２\"))","v":""},"","",{"$f":"IF(V16=\"\",\"\",COUNTIF($V$7:V16,\"該当３\"))","v":""},null,10,null,"笛吹市","",""]
[1920101008,19,{"v":201,"d":"201 "},{"v":1,"d":"01 "},{"v":8,"d":"008 "},"山梨県","甲府市","甲府市","城北西",null,"","",{"$f":"IF(K17=\"\",\"\",COUNTIF($K$7:K17,\"ﾘｽﾄ１\"))","v":""},"","","","","","","",{"$f":"IF(S17=\"\",\"\",COUNTIF($S$7:S17,\"該当２\"))","v":""},"","",{"$f":"IF(V17=\"\",\"\",COUNTIF($V$7:V17,\"該当３\"))","v":""},null,11,null,"上野原市","",""]
[1920101009,19,{"v":201,"d":"201 "},{"v":1,"d":"01 "},{"v":9,"d":"009 "},"山梨県","甲府市","甲府市","南口北",null,"","",{"$f":"IF(K18=\"\",\"\",COUNTIF($K$7:K18,\"ﾘｽﾄ１\"))","v":""},"","","","","","","",{"$f":"IF(S18=\"\",\"\",COUNTIF($S$7:S18,\"該当２\"))","v":""},"","",{"$f":"IF(V18=\"\",\"\",COUNTIF($V$7:V18,\"該当３\"))","v":""},null,12,null,"甲州市","",""]
[1920101010,19,{"v":201,"d":"201 "},{"v":1,"d":"01 "},{"v":10,"d":"010 "},"山梨県","甲府市","甲府市","朝気北",null,"","",{"$f":"IF(K19=\"\",\"\",COUNTIF($K$7:K19,\"ﾘｽﾄ１\"))","v":""},"","","","","","","",{"$f":"IF(S19=\"\",\"\",COUNTIF($S$7:S19,\"該当２\"))","v":""},"","",{"$f":"IF(V19=\"\",\"\",COUNTIF($V$7:V19,\"該当３\"))","v":""},null,13,null,"中央市","",""]
[1920101011,19,{"v":201,"d":"201 "},{"v":1,"d":"01 "},{"v":11,"d":"011 "},"山梨県","甲府市","甲府市","朝気南",null,"","",{"$f":"IF(K20=\"\",\"\",COUNTIF($K$7:K20,\"ﾘｽﾄ１\"))","v":""},"","","","","","","",{"$f":"IF(S20=\"\",\"\",COUNTIF($S$7:S20,\"該当２\"))","v":""},"","",{"$f":"IF(V20=\"\",\"\",COUNTIF($V$7:V20,\"該当３\"))","v":""},null,14,null,"市川三郷町","",""]
[1920101012,19,{"v":201,"d":"201 "},{"v":1,"d":"01 "},{"v":12,"d":"012 "},"山梨県","甲府市","甲府市","南口南",null,"","",{"$f":"IF(K21=\"\",\"\",COUNTIF($K$7:K21,\"ﾘｽﾄ１\"))","v":""},"","","","","","","",{"$f":"IF(S21=\"\",\"\",COUNTIF($S$7:S21,\"該当２\"))","v":""},"","",{"$f":"IF(V21=\"\",\"\",COUNTIF($V$7:V21,\"該当３\"))","v":""},null,15,null,"早川町","",""]
[1920101013,19,{"v":201,"d":"201 "},{"v":1,"d":"01 "},{"v":13,"d":"013 "},"山梨県","甲府市","甲府市","伊勢北中",null,"","",{"$f":"IF(K22=\"\",\"\",COUNTIF($K$7:K22,\"ﾘｽﾄ１\"))","v":""},"","","","","","","",{"$f":"IF(S22=\"\",\"\",COUNTIF($S$7:S22,\"該当２\"))","v":""},"","",{"$f":"IF(V22=\"\",\"\",COUNTIF($V$7:V22,\"該当３\"))","v":""},null,16,null,"身延町","",""]
[1920101014,19,{"v":201,"d":"201 "},{"v":1,"d":"01 "},{"v":14,"d":"014 "},"山梨県","甲府市","甲府市","伊勢南",null,"","",{"$f":"IF(K23=\"\",\"\",COUNTIF($K$7:K23,\"ﾘｽﾄ１\"))","v":""},"","","","","","","",{"$f":"IF(S23=\"\",\"\",COUNTIF($S$7:S23,\"該当２\"))","v":""},"","",{"$f":"IF(V23=\"\",\"\",COUNTIF($V$7:V23,\"該当３\"))","v":""},null,17,null,"南部町","",""]
[1920101015,19,{"v":201,"d":"201 "},{"v":1,"d":"01 "},{"v":15,"d":"015 "},"山梨県","甲府市","甲府市","城西北",null,"","",{"$f":"IF(K24=\"\",\"\",COUNTIF($K$7:K24,\"ﾘｽﾄ１\"))","v":""},"","","","","","","",{"$f":"IF(S24=\"\",\"\",COUNTIF($S$7:S24,\"該当２\"))","v":""},"","",{"$f":"IF(V24=\"\",\"\",COUNTIF($V$7:V24,\"該当３\"))","v":""},null,18,null,"富士川町","",""]
[1920101016,19,{"v":201,"d":"201 "},{"v":1,"d":"01 "},{"v":16,"d":"016 "},"山梨県","甲府市","甲府市","緑が丘",null,"","",{"$f":"IF(K25=\"\",\"\",COUNTIF($K$7:K25,\"ﾘｽﾄ１\"))","v":""},"","","","","","","",{"$f":"IF(S25=\"\",\"\",COUNTIF($S$7:S25,\"該当２\"))","v":""},"","",{"$f":"IF(V25=\"\",\"\",COUNTIF($V$7:V25,\"該当３\"))","v":""},null,19,null,"昭和町","",""]
[1920101017,19,{"v":201,"d":"201 "},{"v":1,"d":"01 "},{"v":17,"d":"017 "},"山梨県","甲府市","甲府市","岩窪",null,"","",{"$f":"IF(K26=\"\",\"\",COUNTIF($K$7:K26,\"ﾘｽﾄ１\"))","v":""},"","","","","","","",{"$f":"IF(S26=\"\",\"\",COUNTIF($S$7:S26,\"該当２\"))","v":""},"","",{"$f":"IF(V26=\"\",\"\",COUNTIF($V$7:V26,\"該当３\"))","v":""},null,20,null,"道志村","",""]
[1920101018,19,{"v":201,"d":"201 "},{"v":1,"d":"01 "},{"v":18,"d":"018 "},"山梨県","甲府市","甲府市","和田",null,"","",{"$f":"IF(K27=\"\",\"\",COUNTIF($K$7:K27,\"ﾘｽﾄ１\"))","v":""},"","","","","","","",{"$f":"IF(S27=\"\",\"\",COUNTIF($S$7:S27,\"該当２\"))","v":""},"","",{"$f":"IF(V27=\"\",\"\",COUNTIF($V$7:V27,\"該当３\"))","v":""},null,21,null,"西桂町","",""]
[1920101019,19,{"v":201,"d":"201 "},{"v":1,"d":"01 "},{"v":19,"d":"019 "},"山梨県","甲府市","甲府市","小松",null,"","",{"$f":"IF(K28=\"\",\"\",COUNTIF($K$7:K28,\"ﾘｽﾄ１\"))","v":""},"","","","","","","",{"$f":"IF(S28=\"\",\"\",COUNTIF($S$7:S28,\"該当２\"))","v":""},"","",{"$f":"IF(V28=\"\",\"\",COUNTIF($V$7:V28,\"該当３\"))","v":""},null,22,null,"忍野村","",""]
[1920101020,19,{"v":201,"d":"201 "},{"v":1,"d":"01 "},{"v":20,"d":"020 "},"山梨県","甲府市","甲府市","塚原",null,"","",{"$f":"IF(K29=\"\",\"\",COUNTIF($K$7:K29,\"ﾘｽﾄ１\"))","v":""},"","","","","","","",{"$f":"IF(S29=\"\",\"\",COUNTIF($S$7:S29,\"該当２\"))","v":""},"","",{"$f":"IF(V29=\"\",\"\",COUNTIF($V$7:V29,\"該当３\"))","v":""},null,23,null,"山中湖村","",""]
[1920101021,19,{"v":201,"d":"201 "},{"v":1,"d":"01 "},{"v":21,"d":"021 "},"山梨県","甲府市","甲府市","下積翠寺",null,"","",{"$f":"IF(K30=\"\",\"\",COUNTIF($K$7:K30,\"ﾘｽﾄ１\"))","v":""},"","","","","","","",{"$f":"IF(S30=\"\",\"\",COUNTIF($S$7:S30,\"該当２\"))","v":""},"","",{"$f":"IF(V30=\"\",\"\",COUNTIF($V$7:V30,\"該当３\"))","v":""},null,24,null,"鳴沢村","",""]
[1920101022,19,{"v":201,"d":"201 "},{"v":1,"d":"01 "},{"v":22,"d":"022 "},"山梨県","甲府市","甲府市","上積翠寺",null,"","",{"$f":"IF(K31=\"\",\"\",COUNTIF($K$7:K31,\"ﾘｽﾄ１\"))","v":""},"","","","","","","",{"$f":"IF(S31=\"\",\"\",COUNTIF($S$7:S31,\"該当２\"))","v":""},"","",{"$f":"IF(V31=\"\",\"\",COUNTIF($V$7:V31,\"該当３\"))","v":""},null,25,null,"富士河口湖町","",""]
[1920101023,19,{"v":201,"d":"201 "},{"v":1,"d":"01 "},{"v":23,"d":"023 "},"山梨県","甲府市","甲府市","相川南部",null,"","",{"$f":"IF(K32=\"\",\"\",COUNTIF($K$7:K32,\"ﾘｽﾄ１\"))","v":""},"","","","","","","",{"$f":"IF(S32=\"\",\"\",COUNTIF($S$7:S32,\"該当２\"))","v":""},"","",{"$f":"IF(V32=\"\",\"\",COUNTIF($V$7:V32,\"該当３\"))","v":""},null,26,null,"小菅村","",""]
[1920101024,19,{"v":201,"d":"201 "},{"v":1,"d":"01 "},{"v":24,"d":"024 "},"山梨県","甲府市","甲府市","日影",null,"","",{"$f":"IF(K33=\"\",\"\",COUNTIF($K$7:K33,\"ﾘｽﾄ１\"))","v":""},"","","","","","","",{"$f":"IF(S33=\"\",\"\",COUNTIF($S$7:S33,\"該当２\"))","v":""},"","",{"$f":"IF(V33=\"\",\"\",COUNTIF($V$7:V33,\"該当３\"))","v":""},null,27,null,"丹波山村","",""]
[1920101025,19,{"v":201,"d":"201 "},{"v":1,"d":"01 "},{"v":25,"d":"025 "},"山梨県","甲府市","甲府市","塩部",null,"","",{"$f":"IF(K34=\"\",\"\",COUNTIF($K$7:K34,\"ﾘｽﾄ１\"))","v":""},"","","","","","","",{"$f":"IF(S34=\"\",\"\",COUNTIF($S$7:S34,\"該当２\"))","v":""},"","",{"$f":"IF(V34=\"\",\"\",COUNTIF($V$7:V34,\"該当３\"))","v":""},null,28,null,"","",""]
[1920101026,19,{"v":201,"d":"201 "},{"v":1,"d":"01 "},{"v":26,"d":"026 "},"山梨県","甲府市","甲府市","湯村",null,"","",{"$f":"IF(K35=\"\",\"\",COUNTIF($K$7:K35,\"ﾘｽﾄ１\"))","v":""},"","","","","","","",{"$f":"IF(S35=\"\",\"\",COUNTIF($S$7:S35,\"該当２\"))","v":""},"","",{"$f":"IF(V35=\"\",\"\",COUNTIF($V$7:V35,\"該当３\"))","v":""},null,29,{"$nulls":3},""]
[1920101027,19,{"v":201,"d":"201 "},{"v":1,"d":"01 "},{"v":27,"d":"027 "},"山梨県","甲府市","甲府市","千塚",null,"","",{"$f":"IF(K36=\"\",\"\",COUNTIF($K$7:K36,\"ﾘｽﾄ１\"))","v":""},"","","","","","","",{"$f":"IF(S36=\"\",\"\",COUNTIF($S$7:S36,\"該当２\"))","v":""},"","",{"$f":"IF(V36=\"\",\"\",COUNTIF($V$7:V36,\"該当３\"))","v":""},null,30,{"$nulls":3},""]
[1920101028,19,{"v":201,"d":"201 "},{"v":1,"d":"01 "},{"v":28,"d":"028 "},"山梨県","甲府市","甲府市","山宮",null,"","",{"$f":"IF(K37=\"\",\"\",COUNTIF($K$7:K37,\"ﾘｽﾄ１\"))","v":""},"","","","","","","",{"$f":"IF(S37=\"\",\"\",COUNTIF($S$7:S37,\"該当２\"))","v":""},"","",{"$f":"IF(V37=\"\",\"\",COUNTIF($V$7:V37,\"該当３\"))","v":""},null,31,{"$nulls":3},""]
[1920101029,19,{"v":201,"d":"201 "},{"v":1,"d":"01 "},{"v":29,"d":"029 "},"山梨県","甲府市","甲府市","羽黒",null,"","",{"$f":"IF(K38=\"\",\"\",COUNTIF($K$7:K38,\"ﾘｽﾄ１\"))","v":""},"","","","","","","",{"$f":"IF(S38=\"\",\"\",COUNTIF($S$7:S38,\"該当２\"))","v":""},"","",{"$f":"IF(V38=\"\",\"\",COUNTIF($V$7:V38,\"該当３\"))","v":""},null,32,{"$nulls":3},""]
[1920101030,19,{"v":201,"d":"201 "},{"v":1,"d":"01 "},{"v":30,"d":"030 "},"山梨県","甲府市","甲府市","下河原",null,"","",{"$f":"IF(K39=\"\",\"\",COUNTIF($K$7:K39,\"ﾘｽﾄ１\"))","v":""},"","","","","","","",{"$f":"IF(S39=\"\",\"\",COUNTIF($S$7:S39,\"該当２\"))","v":""},"","",{"$f":"IF(V39=\"\",\"\",COUNTIF($V$7:V39,\"該当３\"))","v":""},null,33,{"$nulls":3},{"$f":"IF($Z39>MAX($X$7:$X$1919),\"\",INDEX($W$7:$W$1919,MATCH($Z39,$X$7:$X$1919,0),MATCH($AD$4,$W$5:$X$5,0)))","v":""}]
[1920101031,19,{"v":201,"d":"201 "},{"v":1,"d":"01 "},{"v":31,"d":"031 "},"山梨県","甲府市","甲府市","富竹",null,"","",{"$f":"IF(K40=\"\",\"\",COUNTIF($K$7:K40,\"ﾘｽﾄ１\"))","v":""},"","","","","","","",{"$f":"IF(S40=\"\",\"\",COUNTIF($S$7:S40,\"該当２\"))","v":""},"","",{"$f":"IF(V40=\"\",\"\",COUNTIF($V$7:V40,\"該当３\"))","v":""},null,34,{"$nulls":3},""]
[1920101032,19,{"v":201,"d":"201 "},{"v":1,"d":"01 "},{"v":32,"d":"032 "},"山梨県","甲府市","甲府市","徳行",null,"","",{"$f":"IF(K41=\"\",\"\",COUNTIF($K$7:K41,\"ﾘｽﾄ１\"))","v":""},"","","","","","","",{"$f":"IF(S41=\"\",\"\",COUNTIF($S$7:S41,\"該当２\"))","v":""},"","",{"$f":"IF(V41=\"\",\"\",COUNTIF($V$7:V41,\"該当３\"))","v":""},null,35,{"$nulls":3},""]
[1920101033,19,{"v":201,"d":"201 "},{"v":1,"d":"01 "},{"v":33,"d":"033 "},"山梨県","甲府市","甲府市","上石田",null,"","",{"$f":"IF(K42=\"\",\"\",COUNTIF($K$7:K42,\"ﾘｽﾄ１\"))","v":""},"","","","","","","",{"$f":"IF(S42=\"\",\"\",COUNTIF($S$7:S42,\"該当２\"))","v":""},"","",{"$f":"IF(V42=\"\",\"\",COUNTIF($V$7:V42,\"該当３\"))","v":""},null,36,{"$nulls":3},""]
[1920101034,19,{"v":201,"d":"201 "},{"v":1,"d":"01 "},{"v":34,"d":"034 "},"山梨県","甲府市","甲府市","酒折",null,"","",{"$f":"IF(K43=\"\",\"\",COUNTIF($K$7:K43,\"ﾘｽﾄ１\"))","v":""},"","","","","","","",{"$f":"IF(S43=\"\",\"\",COUNTIF($S$7:S43,\"該当２\"))","v":""},"","",{"$f":"IF(V43=\"\",\"\",COUNTIF($V$7:V43,\"該当３\"))","v":""},null,37,{"$nulls":3},""]
[1920101035,19,{"v":201,"d":"201 "},{"v":1,"d":"01 "},{"v":35,"d":"035 "},"山梨県","甲府市","甲府市","西山",null,"","",{"$f":"IF(K44=\"\",\"\",COUNTIF($K$7:K44,\"ﾘｽﾄ１\"))","v":""},"","","","","","","",{"$f":"IF(S44=\"\",\"\",COUNTIF($S$7:S44,\"該当２\"))","v":""},"","",{"$f":"IF(V44=\"\",\"\",COUNTIF($V$7:V44,\"該当３\"))","v":""},null,38,{"$nulls":3},""]
[1920101036,19,{"v":201,"d":"201 "},{"v":1,"d":"01 "},{"v":36,"d":"036 "},"山梨県","甲府市","甲府市","東光寺東",null,"","",{"$f":"IF(K45=\"\",\"\",COUNTIF($K$7:K45,\"ﾘｽﾄ１\"))","v":""},"","","","","","","",{"$f":"IF(S45=\"\",\"\",COUNTIF($S$7:S45,\"該当２\"))","v":""},"","",{"$f":"IF(V45=\"\",\"\",COUNTIF($V$7:V45,\"該当３\"))","v":""},null,39,{"$nulls":3},""]
[1920101037,19,{"v":201,"d":"201 "},{"v":1,"d":"01 "},{"v":37,"d":"037 "},"山梨県","甲府市","甲府市","善光寺",null,"","",{"$f":"IF(K46=\"\",\"\",COUNTIF($K$7:K46,\"ﾘｽﾄ１\"))","v":""},"","","","","","","",{"$f":"IF(S46=\"\",\"\",COUNTIF($S$7:S46,\"該当２\"))","v":""},"","",{"$f":"IF(V46=\"\",\"\",COUNTIF($V$7:V46,\"該当３\"))","v":""},null,40,{"$nulls":3},""]
[1920101038,19,{"v":201,"d":"201 "},{"v":1,"d":"01 "},{"v":38,"d":"038 "},"山梨県","甲府市","甲府市","城東",null,"","",{"$f":"IF(K47=\"\",\"\",COUNTIF($K$7:K47,\"ﾘｽﾄ１\"))","v":""},"","","","","","","",{"$f":"IF(S47=\"\",\"\",COUNTIF($S$7:S47,\"該当２\"))","v":""},"","",{"$f":"IF(V47=\"\",\"\",COUNTIF($V$7:V47,\"該当３\"))","v":""},null,41,{"$nulls":3},""]
[1920101039,19,{"v":201,"d":"201 "},{"v":1,"d":"01 "},{"v":39,"d":"039 "},"山梨県","甲府市","甲府市","北原",null,"","",{"$f":"IF(K48=\"\",\"\",COUNTIF($K$7:K48,\"ﾘｽﾄ１\"))","v":""},"","","","","","","",{"$f":"IF(S48=\"\",\"\",COUNTIF($S$7:S48,\"該当２\"))","v":""},"","",{"$f":"IF(V48=\"\",\"\",COUNTIF($V$7:V48,\"該当３\"))","v":""},null,42,{"$nulls":3},""]
[1920101040,19,{"v":201,"d":"201 "},{"v":1,"d":"01 "},{"v":40,"d":"040 "},"山梨県","甲府市","甲府市","金竹",null,"","",{"$f":"IF(K49=\"\",\"\",COUNTIF($K$7:K49,\"ﾘｽﾄ１\"))","v":""},"","","","","","","",{"$f":"IF(S49=\"\",\"\",COUNTIF($S$7:S49,\"該当２\"))","v":""},"","",{"$f":"IF(V49=\"\",\"\",COUNTIF($V$7:V49,\"該当３\"))","v":""},null,43,{"$nulls":3},""]
[1920101041,19,{"v":201,"d":"201 "},{"v":1,"d":"01 "},{"v":41,"d":"041 "},"山梨県","甲府市","甲府市","長松寺",null,"","",{"$f":"IF(K50=\"\",\"\",COUNTIF($K$7:K50,\"ﾘｽﾄ１\"))","v":""},"","","","","","","",{"$f":"IF(S50=\"\",\"\",COUNTIF($S$7:S50,\"該当２\"))","v":""},"","",{"$f":"IF(V50=\"\",\"\",COUNTIF($V$7:V50,\"該当３\"))","v":""},null,44,{"$nulls":3},""]
[1920101042,19,{"v":201,"d":"201 "},{"v":1,"d":"01 "},{"v":42,"d":"042 "},"山梨県","甲府市","甲府市","新田",null,"","",{"$f":"IF(K51=\"\",\"\",COUNTIF($K$7:K51,\"ﾘｽﾄ１\"))","v":""},"","","","","","","",{"$f":"IF(S51=\"\",\"\",COUNTIF($S$7:S51,\"該当２\"))","v":""},"","",{"$f":"IF(V51=\"\",\"\",COUNTIF($V$7:V51,\"該当３\"))","v":""},null,45,{"$nulls":3},""]
[1920101043,19,{"v":201,"d":"201 "},{"v":1,"d":"01 "},{"v":43,"d":"043 "},"山梨県","甲府市","甲府市","下飯田",null,"","",{"$f":"IF(K52=\"\",\"\",COUNTIF($K$7:K52,\"ﾘｽﾄ１\"))","v":""},"","","","","","","",{"$f":"IF(S52=\"\",\"\",COUNTIF($S$7:S52,\"該当２\"))","v":""},"","",{"$f":"IF(V52=\"\",\"\",COUNTIF($V$7:V52,\"該当３\"))","v":""},null,46,{"$nulls":3},""]
[1920101044,19,{"v":201,"d":"201 "},{"v":1,"d":"01 "},{"v":44,"d":"044 "},"山梨県","甲府市","甲府市","中村",null,"","",{"$f":"IF(K53=\"\",\"\",COUNTIF($K$7:K53,\"ﾘｽﾄ１\"))","v":""},"","","","","","","",{"$f":"IF(S53=\"\",\"\",COUNTIF($S$7:S53,\"該当２\"))","v":""},"","",{"$f":"IF(V53=\"\",\"\",COUNTIF($V$7:V53,\"該当３\"))","v":""},null,47,{"$nulls":3},""]
[1920101045,19,{"v":201,"d":"201 "},{"v":1,"d":"01 "},{"v":45,"d":"045 "},"山梨県","甲府市","甲府市","荒川",null,"","",{"$f":"IF(K54=\"\",\"\",COUNTIF($K$7:K54,\"ﾘｽﾄ１\"))","v":""},"","","","","","","",{"$f":"IF(S54=\"\",\"\",COUNTIF($S$7:S54,\"該当２\"))","v":""},"","",{"$f":"IF(V54=\"\",\"\",COUNTIF($V$7:V54,\"該当３\"))","v":""},null,48,{"$nulls":3},""]
[1920101046,19,{"v":201,"d":"201 "},{"v":1,"d":"01 "},{"v":46,"d":"046 "},"山梨県","甲府市","甲府市","下石田",null,"","",{"$f":"IF(K55=\"\",\"\",COUNTIF($K$7:K55,\"ﾘｽﾄ１\"))","v":""},"","","","","","","",{"$f":"IF(S55=\"\",\"\",COUNTIF($S$7:S55,\"該当２\"))","v":""},"","",{"$f":"IF(V55=\"\",\"\",COUNTIF($V$7:V55,\"該当３\"))","v":""},null,49,{"$nulls":3},""]
[1920101047,19,{"v":201,"d":"201 "},{"v":1,"d":"01 "},{"v":47,"d":"047 "},"山梨県","甲府市","甲府市","上小河原",null,"","",{"$f":"IF(K56=\"\",\"\",COUNTIF($K$7:K56,\"ﾘｽﾄ１\"))","v":""},"","","","","","","",{"$f":"IF(S56=\"\",\"\",COUNTIF($S$7:S56,\"該当２\"))","v":""},"","",{"$f":"IF(V56=\"\",\"\",COUNTIF($V$7:V56,\"該当３\"))","v":""},null,50,{"$nulls":3},""]
[1920101048,19,{"v":201,"d":"201 "},{"v":1,"d":"01 "},{"v":48,"d":"048 "},"山梨県","甲府市","甲府市","上条新居",null,"","",{"$f":"IF(K57=\"\",\"\",COUNTIF($K$7:K57,\"ﾘｽﾄ１\"))","v":""},"","","","","","","",{"$f":"IF(S57=\"\",\"\",COUNTIF($S$7:S57,\"該当２\"))","v":""},"","",{"$f":"IF(V57=\"\",\"\",COUNTIF($V$7:V57,\"該当３\"))","v":""},null,51,{"$nulls":3},""]
[1920101049,19,{"v":201,"d":"201 "},{"v":1,"d":"01 "},{"v":49,"d":"049 "},"山梨県","甲府市","甲府市","古上条",null,"","",{"$f":"IF(K58=\"\",\"\",COUNTIF($K$7:K58,\"ﾘｽﾄ１\"))","v":""},"","","","","","","",{"$f":"IF(S58=\"\",\"\",COUNTIF($S$7:S58,\"該当２\"))","v":""},"","",{"$f":"IF(V58=\"\",\"\",COUNTIF($V$7:V58,\"該当３\"))","v":""},null,52,{"$nulls":3},""]
[1920101050,19,{"v":201,"d":"201 "},{"v":1,"d":"01 "},{"v":50,"d":"050 "},"山梨県","甲府市","甲府市","後屋",null,"","",{"$f":"IF(K59=\"\",\"\",COUNTIF($K$7:K59,\"ﾘｽﾄ１\"))","v":""},"","","","","","","",{"$f":"IF(S59=\"\",\"\",COUNTIF($S$7:S59,\"該当２\"))","v":""},"","",{"$f":"IF(V59=\"\",\"\",COUNTIF($V$7:V59,\"該当３\"))","v":""}]
[1920101051,19,{"v":201,"d":"201 "},{"v":1,"d":"01 "},{"v":51,"d":"051 "},"山梨県","甲府市","甲府市","高畑",null,"","",{"$f":"IF(K60=\"\",\"\",COUNTIF($K$7:K60,\"ﾘｽﾄ１\"))","v":""},"","","","","","","",{"$f":"IF(S60=\"\",\"\",COUNTIF($S$7:S60,\"該当２\"))","v":""},"","",{"$f":"IF(V60=\"\",\"\",COUNTIF($V$7:V60,\"該当３\"))","v":""}]
[1920102000,19,{"v":201,"d":"201 "},{"v":2,"d":"02 "},{"v":0,"d":"000 "},"山梨県","甲府市","山城村",null,null,"","",{"$f":"IF(K61=\"\",\"\",COUNTIF($K$7:K61,\"ﾘｽﾄ１\"))","v":""},"","","","","","","",{"$f":"IF(S61=\"\",\"\",COUNTIF($S$7:S61,\"該当２\"))","v":""},"","",{"$f":"IF(V61=\"\",\"\",COUNTIF($V$7:V61,\"該当３\"))","v":""}]
[1920102001,19,{"v":201,"d":"201 "},{"v":2,"d":"02 "},{"v":1,"d":"001 "},"山梨県","甲府市","山城村","上今井",null,"","",{"$f":"IF(K62=\"\",\"\",COUNTIF($K$7:K62,\"ﾘｽﾄ１\"))","v":""},"","","","","","","",{"$f":"IF(S62=\"\",\"\",COUNTIF($S$7:S62,\"該当２\"))","v":""},"","",{"$f":"IF(V62=\"\",\"\",COUNTIF($V$7:V62,\"該当３\"))","v":""}]
[1920102002,19,{"v":201,"d":"201 "},{"v":2,"d":"02 "},{"v":2,"d":"002 "},"山梨県","甲府市","山城村","小瀬",null,"","",{"$f":"IF(K63=\"\",\"\",COUNTIF($K$7:K63,\"ﾘｽﾄ１\"))","v":""},"","","","","","","",{"$f":"IF(S63=\"\",\"\",COUNTIF($S$7:S63,\"該当２\"))","v":""},"","",{"$f":"IF(V63=\"\",\"\",COUNTIF($V$7:V63,\"該当３\"))","v":""}]
[1920102003,19,{"v":201,"d":"201 "},{"v":2,"d":"02 "},{"v":3,"d":"003 "},"山梨県","甲府市","山城村","下鍛冶屋",null,"","",{"$f":"IF(K64=\"\",\"\",COUNTIF($K$7:K64,\"ﾘｽﾄ１\"))","v":""},"","","","","","","",{"$f":"IF(S64=\"\",\"\",COUNTIF($S$7:S64,\"該当２\"))","v":""},"","",{"$f":"IF(V64=\"\",\"\",COUNTIF($V$7:V64,\"該当３\"))","v":""}]
[1920102004,19,{"v":201,"d":"201 "},{"v":2,"d":"02 "},{"v":4,"d":"004 "},"山梨県","甲府市","山城村","落合",null,"","",{"$f":"IF(K65=\"\",\"\",COUNTIF($K$7:K65,\"ﾘｽﾄ１\"))","v":""},"","","","","","","",{"$f":"IF(S65=\"\",\"\",COUNTIF($S$7:S65,\"該当２\"))","v":""},"","",{"$f":"IF(V65=\"\",\"\",COUNTIF($V$7:V65,\"該当３\"))","v":""}]
[1920102005,19,{"v":201,"d":"201 "},{"v":2,"d":"02 "},{"v":5,"d":"005 "},"山梨県","甲府市","山城村","西油川",null,"","",{"$f":"IF(K66=\"\",\"\",COUNTIF($K$7:K66,\"ﾘｽﾄ１\"))","v":""},"","","","","","","",{"$f":"IF(S66=\"\",\"\",COUNTIF($S$7:S66,\"該当２\"))","v":""},"","",{"$f":"IF(V66=\"\",\"\",COUNTIF($V$7:V66,\"該当３\"))","v":""}]
[1920103000,19,{"v":201,"d":"201 "},{"v":3,"d":"03 "},{"v":0,"d":"000 "},"山梨県","甲府市","住吉村",null,null,"","",{"$f":"IF(K67=\"\",\"\",COUNTIF($K$7:K67,\"ﾘｽﾄ１\"))","v":""},"","","","","","","",{"$f":"IF(S67=\"\",\"\",COUNTIF($S$7:S67,\"該当２\"))","v":""},"","",{"$f":"IF(V67=\"\",\"\",COUNTIF($V$7:V67,\"該当３\"))","v":""}]
[1920103001,19,{"v":201,"d":"201 "},{"v":3,"d":"03 "},{"v":1,"d":"001 "},"山梨県","甲府市","住吉村","中小河原",null,"","",{"$f":"IF(K68=\"\",\"\",COUNTIF($K$7:K68,\"ﾘｽﾄ１\"))","v":""},"","","","","","","",{"$f":"IF(S68=\"\",\"\",COUNTIF($S$7:S68,\"該当２\"))","v":""},"","",{"$f":"IF(V68=\"\",\"\",COUNTIF($V$7:V68,\"該当３\"))","v":""}]
[1920103002,19,{"v":201,"d":"201 "},{"v":3,"d":"03 "},{"v":2,"d":"002 "},"山梨県","甲府市","住吉村","下小河原",null,"","",{"$f":"IF(K69=\"\",\"\",COUNTIF($K$7:K69,\"ﾘｽﾄ１\"))","v":""},"","","","","","","",{"$f":"IF(S69=\"\",\"\",COUNTIF($S$7:S69,\"該当２\"))","v":""},"","",{"$f":"IF(V69=\"\",\"\",COUNTIF($V$7:V69,\"該当３\"))","v":""}]
[1920103003,19,{"v":201,"d":"201 "},{"v":3,"d":"03 "},{"v":3,"d":"003 "},"山梨県","甲府市","住吉村","上",null,"","",{"$f":"IF(K70=\"\",\"\",COUNTIF($K$7:K70,\"ﾘｽﾄ１\"))","v":""},"","","","","","","",{"$f":"IF(S70=\"\",\"\",COUNTIF($S$7:S70,\"該当２\"))","v":""},"","",{"$f":"IF(V70=\"\",\"\",COUNTIF($V$7:V70,\"該当３\"))","v":""}]
[1920103004,19,{"v":201,"d":"201 "},{"v":3,"d":"03 "},{"v":4,"d":"004 "},"山梨県","甲府市","住吉村","上増坪",null,"","",{"$f":"IF(K71=\"\",\"\",COUNTIF($K$7:K71,\"ﾘｽﾄ１\"))","v":""},"","","","","","","",{"$f":"IF(S71=\"\",\"\",COUNTIF($S$7:S71,\"該当２\"))","v":""},"","",{"$f":"IF(V71=\"\",\"\",COUNTIF($V$7:V71,\"該当３\"))","v":""}]
[1920103005,19,{"v":201,"d":"201 "},{"v":3,"d":"03 "},{"v":5,"d":"005 "},"山梨県","甲府市","住吉村","中増坪",null,"","",{"$f":"IF(K72=\"\",\"\",COUNTIF($K$7:K72,\"ﾘｽﾄ１\"))","v":""},"","",{"$f":"IF(O72=\"該当１\",G72,\"\")","v":""},{"$f":"IF(O72=\"該当１\",\"ﾘｽﾄ2\",\"\")","v":""},{"$f":"IF(Q72=\"ﾘｽﾄ2\",H72,\"\")","v":""},"",{"$f":"IF(S72=\"該当２\",H72,\"\")","v":""},{"$f":"IF(S72=\"\",\"\",COUNTIF($S$7:S72,\"該当２\"))","v":""},{"$f":"IF(AND($S$2=H72,E72>0,E72<998),\"該当３\",\"\")","v":""},{"$f":"IF(V72=\"該当３\",I72,\"\")","v":""},{"$f":"IF(V72=\"\",\"\",COUNTIF($V$7:V72,\"該当３\"))","v":""}]
[1920103006,19,{"v":201,"d":"201 "},{"v":3,"d":"03 "},{"v":6,"d":"006 "},"山梨県","甲府市","住吉村","下増坪",null,{"$f":"IF(AND($C73>0,$H73=\"\"),\"ﾘｽﾄ１\",\"\")","v":""},{"$f":"IF(K73=\"ﾘｽﾄ１\",G73,\"\")","v":""},{"$f":"IF(K73=\"\",\"\",COUNTIF($K$7:K73,\"ﾘｽﾄ１\"))","v":""},{"$f":"IF(AND(D73=0,E73>0),\"同一区\",\"\")","v":""},{"$f":"IF(AND(EXACT($K$2,G73),H73>0),\"該当１\",\"\")","v":""},"","","",{"$f":"IF(AND(Q73=\"ﾘｽﾄ2\",OR(I73=0,AND(N73=\"同一区\",E73=1))),\"該当２\",\"\")","v":""},"",{"$f":"IF(S73=\"\",\"\",COUNTIF($S$7:S73,\"該当２\"))","v":""},"","",{"$f":"IF(V73=\"\",\"\",COUNTIF($V$7:V73,\"該当３\"))","v":""}]
[1920104000,19,{"v":201,"d":"201 "},{"v":4,"d":"04 "},{"v":0,"d":"000 "},"山梨県","甲府市","朝井村",null,null,"","",{"$f":"IF(K74=\"\",\"\",COUNTIF($K$7:K74,\"ﾘｽﾄ１\"))","v":""},"","","","","","","",{"$f":"IF(S74=\"\",\"\",COUNTIF($S$7:S74,\"該当２\"))","v":""},"","",{"$f":"IF(V74=\"\",\"\",COUNTIF($V$7:V74,\"該当３\"))","v":""}]
[1920104001,19,{"v":201,"d":"201 "},{"v":4,"d":"04 "},{"v":1,"d":"001 "},"山梨県","甲府市","朝井村","小曲",null,"","",{"$f":"IF(K75=\"\",\"\",COUNTIF($K$7:K75,\"ﾘｽﾄ１\"))","v":""},"","","","","","","",{"$f":"IF(S75=\"\",\"\",COUNTIF($S$7:S75,\"該当２\"))","v":""},"","",{"$f":"IF(V75=\"\",\"\",COUNTIF($V$7:V75,\"該当３\"))","v":""}]
[1920104002,19,{"v":201,"d":"201 "},{"v":4,"d":"04 "},{"v":2,"d":"002 "},"山梨県","甲府市","朝井村","下今井",null,"","",{"$f":"IF(K76=\"\",\"\",COUNTIF($K$7:K76,\"ﾘｽﾄ１\"))","v":""},"","","","","","","",{"$f":"IF(S76=\"\",\"\",COUNTIF($S$7:S76,\"該当２\"))","v":""},"","",{"$f":"IF(V76=\"\",\"\",COUNTIF($V$7:V76,\"該当３\"))","v":""}]
[1920104003,19,{"v":201,"d":"201 "},{"v":4,"d":"04 "},{"v":3,"d":"003 "},"山梨県","甲府市","朝井村","東下条",null,"","",{"$f":"IF(K77=\"\",\"\",COUNTIF($K$7:K77,\"ﾘｽﾄ１\"))","v":""},"","","","","","","",{"$f":"IF(S77=\"\",\"\",COUNTIF($S$7:S77,\"該当２\"))","v":""},"","",{"$f":"IF(V77=\"\",\"\",COUNTIF($V$7:V77,\"該当３\"))","v":""}]
[1920104004,19,{"v":201,"d":"201 "},{"v":4,"d":"04 "},{"v":4,"d":"004 "},"山梨県","甲府市","朝井村","中",null,"","",{"$f":"IF(K78=\"\",\"\",COUNTIF($K$7:K78,\"ﾘｽﾄ１\"))","v":""},"","","","","","","",{"$f":"IF(S78=\"\",\"\",COUNTIF($S$7:S78,\"該当２\"))","v":""},"","",{"$f":"IF(V78=\"\",\"\",COUNTIF($V$7:V78,\"該当３\"))","v":""}]
[1920105000,19,{"v":201,"d":"201 "},{"v":5,"d":"05 "},{"v":0,"d":"000 "},"山梨県","甲府市","玉諸村",null,null,"","",{"$f":"IF(K79=\"\",\"\",COUNTIF($K$7:K79,\"ﾘｽﾄ１\"))","v":""},"","","","","","","",{"$f":"IF(S79=\"\",\"\",COUNTIF($S$7:S79,\"該当２\"))","v":""},"","",{"$f":"IF(V79=\"\",\"\",COUNTIF($V$7:V79,\"該当３\"))","v":""}]
[1920105001,19,{"v":201,"d":"201 "},{"v":5,"d":"05 "},{"v":1,"d":"001 "},"山梨県","甲府市","玉諸村","蓬沢",null,"","",{"$f":"IF(K80=\"\",\"\",COUNTIF($K$7:K80,\"ﾘｽﾄ１\"))","v":""},"","","","","","","",{"$f":"IF(S80=\"\",\"\",COUNTIF($S$7:S80,\"該当２\"))","v":""},"","",{"$f":"IF(V80=\"\",\"\",COUNTIF($V$7:V80,\"該当３\"))","v":""}]
[1920105002,19,{"v":201,"d":"201 "},{"v":5,"d":"05 "},{"v":2,"d":"002 "},"山梨県","甲府市","玉諸村","西高橋",null,"","",{"$f":"IF(K81=\"\",\"\",COUNTIF($K$7:K81,\"ﾘｽﾄ１\"))","v":""},"","","","","","","",{"$f":"IF(S81=\"\",\"\",COUNTIF($S$7:S81,\"該当２\"))","v":""},"","",{"$f":"IF(V81=\"\",\"\",COUNTIF($V$7:V81,\"該当３\"))","v":""}]
[1920105003,19,{"v":201,"d":"201 "},{"v":5,"d":"05 "},{"v":3,"d":"003 "},"山梨県","甲府市","玉諸村","七沢",null,"","",{"$f":"IF(K82=\"\",\"\",COUNTIF($K$7:K82,\"ﾘｽﾄ１\"))","v":""},"","","","","","","",{"$f":"IF(S82=\"\",\"\",COUNTIF($S$7:S82,\"該当２\"))","v":""},"","",{"$f":"IF(V82=\"\",\"\",COUNTIF($V$7:V82,\"該当３\"))","v":""}]
[1920105004,19,{"v":201,"d":"201 "},{"v":5,"d":"05 "},{"v":4,"d":"004 "},"山梨県","甲府市","玉諸村","上阿原",null,"","",{"$f":"IF(K83=\"\",\"\",COUNTIF($K$7:K83,\"ﾘｽﾄ１\"))","v":""},"","","","","","","",{"$f":"IF(S83=\"\",\"\",COUNTIF($S$7:S83,\"該当２\"))","v":""},"","",{"$f":"IF(V83=\"\",\"\",COUNTIF($V$7:V83,\"該当３\"))","v":""}]
[1920105005,19,{"v":201,"d":"201 "},{"v":5,"d":"05 "},{"v":5,"d":"005 "},"山梨県","甲府市","玉諸村","向",null,"","",{"$f":"IF(K84=\"\",\"\",COUNTIF($K$7:K84,\"ﾘｽﾄ１\"))","v":""},"","","","","","","",{"$f":"IF(S84=\"\",\"\",COUNTIF($S$7:S84,\"該当２\"))","v":""},"","",{"$f":"IF(V84=\"\",\"\",COUNTIF($V$7:V84,\"該当３\"))","v":""}]
[1920105006,19,{"v":201,"d":"201 "},{"v":5,"d":"05 "},{"v":6,"d":"006 "},"山梨県","甲府市","玉諸村","国玉",null,"","",{"$f":"IF(K85=\"\",\"\",COUNTIF($K$7:K85,\"ﾘｽﾄ１\"))","v":""},"","","","","","","",{"$f":"IF(S85=\"\",\"\",COUNTIF($S$7:S85,\"該当２\"))","v":""},"","",{"$f":"IF(V85=\"\",\"\",COUNTIF($V$7:V85,\"該当３\"))","v":""}]
[1920105007,19,{"v":201,"d":"201 "},{"v":5,"d":"05 "},{"v":7,"d":"007 "},"山梨県","甲府市","玉諸村","里吉",null,"","",{"$f":"IF(K86=\"\",\"\",COUNTIF($K$7:K86,\"ﾘｽﾄ１\"))","v":""},"","","","","","","",{"$f":"IF(S86=\"\",\"\",COUNTIF($S$7:S86,\"該当２\"))","v":""},"","",{"$f":"IF(V86=\"\",\"\",COUNTIF($V$7:V86,\"該当３\"))","v":""}]
[1920106000,19,{"v":201,"d":"201 "},{"v":6,"d":"06 "},{"v":0,"d":"000 "},"山梨県","甲府市","甲運村",null,null,"","",{"$f":"IF(K87=\"\",\"\",COUNTIF($K$7:K87,\"ﾘｽﾄ１\"))","v":""},"","","","","","","",{"$f":"IF(S87=\"\",\"\",COUNTIF($S$7:S87,\"該当２\"))","v":""},"","",{"$f":"IF(V87=\"\",\"\",COUNTIF($V$7:V87,\"該当３\"))","v":""}]
[1920106001,19,{"v":201,"d":"201 "},{"v":6,"d":"06 "},{"v":1,"d":"001 "},"山梨県","甲府市","甲運村","川田",null,"","",{"$f":"IF(K88=\"\",\"\",COUNTIF($K$7:K88,\"ﾘｽﾄ１\"))","v":""},"","","","","","","",{"$f":"IF(S88=\"\",\"\",COUNTIF($S$7:S88,\"該当２\"))","v":""},"","",{"$f":"IF(V88=\"\",\"\",COUNTIF($V$7:V88,\"該当３\"))","v":""}]
[1920106002,19,{"v":201,"d":"201 "},{"v":6,"d":"06 "},{"v":2,"d":"002 "},"山梨県","甲府市","甲運村","和戸",null,"","",{"$f":"IF(K89=\"\",\"\",COUNTIF($K$7:K89,\"ﾘｽﾄ１\"))","v":""},"","","","","","","",{"$f":"IF(S89=\"\",\"\",COUNTIF($S$7:S89,\"該当２\"))","v":""},"","",{"$f":"IF(V89=\"\",\"\",COUNTIF($V$7:V89,\"該当３\"))","v":""}]
[1920106003,19,{"v":201,"d":"201 "},{"v":6,"d":"06 "},{"v":3,"d":"003 "},"山梨県","甲府市","甲運村","横根",null,"","",{"$f":"IF(K90=\"\",\"\",COUNTIF($K$7:K90,\"ﾘｽﾄ１\"))","v":""},"","","","","","","",{"$f":"IF(S90=\"\",\"\",COUNTIF($S$7:S90,\"該当２\"))","v":""},"","",{"$f":"IF(V90=\"\",\"\",COUNTIF($V$7:V90,\"該当３\"))","v":""}]
[1920106004,19,{"v":201,"d":"201 "},{"v":6,"d":"06 "},{"v":4,"d":"004 "},"山梨県","甲府市","甲運村","桜井",null,"","",{"$f":"IF(K91=\"\",\"\",COUNTIF($K$7:K91,\"ﾘｽﾄ１\"))","v":""},"","","","","","","",{"$f":"IF(S91=\"\",\"\",COUNTIF($S$7:S91,\"該当２\"))","v":""},"","",{"$f":"IF(V91=\"\",\"\",COUNTIF($V$7:V91,\"該当３\"))","v":""}]
[1920106005,19,{"v":201,"d":"201 "},{"v":6,"d":"06 "},{"v":5,"d":"005 "},"山梨県","甲府市","甲運村","横根三ツ石",null,"","",{"$f":"IF(K92=\"\",\"\",COUNTIF($K$7:K92,\"ﾘｽﾄ１\"))","v":""},"","","","","","","",{"$f":"IF(S92=\"\",\"\",COUNTIF($S$7:S92,\"該当２\"))","v":""},"","",{"$f":"IF(V92=\"\",\"\",COUNTIF($V$7:V92,\"該当３\"))","v":""}]
[1920107000,19,{"v":201,"d":"201 "},{"v":7,"d":"07 "},{"v":0,"d":"000 "},"山梨県","甲府市","千代田村",null,null,"","",{"$f":"IF(K93=\"\",\"\",COUNTIF($K$7:K93,\"ﾘｽﾄ１\"))","v":""},"","","","","","","",{"$f":"IF(S93=\"\",\"\",COUNTIF($S$7:S93,\"該当２\"))","v":""},"","",{"$f":"IF(V93=\"\",\"\",COUNTIF($V$7:V93,\"該当３\"))","v":""}]
[1920107001,19,{"v":201,"d":"201 "},{"v":7,"d":"07 "},{"v":1,"d":"001 "},"山梨県","甲府市","千代田村","上野",null,"","",{"$f":"IF(K94=\"\",\"\",COUNTIF($K$7:K94,\"ﾘｽﾄ１\"))","v":""},"","","","","","","",{"$f":"IF(S94=\"\",\"\",COUNTIF($S$7:S94,\"該当２\"))","v":""},"","",{"$f":"IF(V94=\"\",\"\",COUNTIF($V$7:V94,\"該当３\"))","v":""}]
[1920107002,19,{"v":201,"d":"201 "},{"v":7,"d":"07 "},{"v":2,"d":"002 "},"山梨県","甲府市","千代田村","平瀬",null,"","",{"$f":"IF(K95=\"\",\"\",COUNTIF($K$7:K95,\"ﾘｽﾄ１\"))","v":""},"","","","","","","",{"$f":"IF(S95=\"\",\"\",COUNTIF($S$7:S95,\"該当２\"))","v":""},"","",{"$f":"IF(V95=\"\",\"\",COUNTIF($V$7:V95,\"該当３\"))","v":""}]
[1920107003,19,{"v":201,"d":"201 "},{"v":7,"d":"07 "},{"v":3,"d":"003 "},"山梨県","甲府市","千代田村","下帯那",null,"","",{"$f":"IF(K96=\"\",\"\",COUNTIF($K$7:K96,\"ﾘｽﾄ１\"))","v":""},"","","","","","","",{"$f":"IF(S96=\"\",\"\",COUNTIF($S$7:S96,\"該当２\"))","v":""},"","",{"$f":"IF(V96=\"\",\"\",COUNTIF($V$7:V96,\"該当３\"))","v":""}]
[1920107004,19,{"v":201,"d":"201 "},{"v":7,"d":"07 "},{"v":4,"d":"004 "},"山梨県","甲府市","千代田村","上帯那",null,"","",{"$f":"IF(K97=\"\",\"\",COUNTIF($K$7:K97,\"ﾘｽﾄ１\"))","v":""},"","","","","","","",{"$f":"IF(S97=\"\",\"\",COUNTIF($S$7:S97,\"該当２\"))","v":""},"","",{"$f":"IF(V97=\"\",\"\",COUNTIF($V$7:V97,\"該当３\"))","v":""}]
[1920108000,19,{"v":201,"d":"201 "},{"v":8,"d":"08 "},{"v":0,"d":"000 "},"山梨県","甲府市","能泉村",null,null,"","",{"$f":"IF(K98=\"\",\"\",COUNTIF($K$7:K98,\"ﾘｽﾄ１\"))","v":""},"","","","","","","",{"$f":"IF(S98=\"\",\"\",COUNTIF($S$7:S98,\"該当２\"))","v":""},"","",{"$f":"IF(V98=\"\",\"\",COUNTIF($V$7:V98,\"該当３\"))","v":""}]
[1920108001,19,{"v":201,"d":"201 "},{"v":8,"d":"08 "},{"v":1,"d":"001 "},"山梨県","甲府市","能泉村","塔岩，竹日向",null,"","",{"$f":"IF(K99=\"\",\"\",COUNTIF($K$7:K99,\"ﾘｽﾄ１\"))","v":""},"","","","","","","",{"$f":"IF(S99=\"\",\"\",COUNTIF($S$7:S99,\"該当２\"))","v":""},"","",{"$f":"IF(V99=\"\",\"\",COUNTIF($V$7:V99,\"該当３\"))","v":""}]
[1920108002,19,{"v":201,"d":"201 "},{"v":8,"d":"08 "},{"v":2,"d":"002 "},"山梨県","甲府市","能泉村","高成",null,"","",{"$f":"IF(K100=\"\",\"\",COUNTIF($K$7:K100,\"ﾘｽﾄ１\"))","v":""},"","","","","","","",{"$f":"IF(S100=\"\",\"\",COUNTIF($S$7:S100,\"該当２\"))","v":""},"","",{"$f":"IF(V100=\"\",\"\",COUNTIF($V$7:V100,\"該当３\"))","v":""}]
[1920108003,19,{"v":201,"d":"201 "},{"v":8,"d":"08 "},{"v":3,"d":"003 "},"山梨県","甲府市","能泉村","上川窪",null,"","",{"$f":"IF(K101=\"\",\"\",COUNTIF($K$7:K101,\"ﾘｽﾄ１\"))","v":""},"","","","","","","",{"$f":"IF(S101=\"\",\"\",COUNTIF($S$7:S101,\"該当２\"))","v":""},"","",{"$f":"IF(V101=\"\",\"\",COUNTIF($V$7:V101,\"該当３\"))","v":""}]
[1920108004,19,{"v":201,"d":"201 "},{"v":8,"d":"08 "},{"v":4,"d":"004 "},"山梨県","甲府市","能泉村","下川窪",null,"","",{"$f":"IF(K102=\"\",\"\",COUNTIF($K$7:K102,\"ﾘｽﾄ１\"))","v":""},"","","","","","","",{"$f":"IF(S102=\"\",\"\",COUNTIF($S$7:S102,\"該当２\"))","v":""},"","",{"$f":"IF(V102=\"\",\"\",COUNTIF($V$7:V102,\"該当３\"))","v":""}]
[1920109000,19,{"v":201,"d":"201 "},{"v":9,"d":"09 "},{"v":0,"d":"000 "},"山梨県","甲府市","宮本村",null,null,"","",{"$f":"IF(K103=\"\",\"\",COUNTIF($K$7:K103,\"ﾘｽﾄ１\"))","v":""},"","","","","","","",{"$f":"IF(S103=\"\",\"\",COUNTIF($S$7:S103,\"該当２\"))","v":""},"","",{"$f":"IF(V103=\"\",\"\",COUNTIF($V$7:V103,\"該当３\"))","v":""}]
[1920109001,19,{"v":201,"d":"201 "},{"v":9,"d":"09 "},{"v":1,"d":"001 "},"山梨県","甲府市","宮本村","御岳",null,"","",{"$f":"IF(K104=\"\",\"\",COUNTIF($K$7:K104,\"ﾘｽﾄ１\"))","v":""},"","","","","","","",{"$f":"IF(S104=\"\",\"\",COUNTIF($S$7:S104,\"該当２\"))","v":""},"","",{"$f":"IF(V104=\"\",\"\",COUNTIF($V$7:V104,\"該当３\"))","v":""}]
[1920109002,19,{"v":201,"d":"201 "},{"v":9,"d":"09 "},{"v":2,"d":"002 "},"山梨県","甲府市","宮本村","高",null,"","",{"$f":"IF(K105=\"\",\"\",COUNTIF($K$7:K105,\"ﾘｽﾄ１\"))","v":""},"","","","","","","",{"$f":"IF(S105=\"\",\"\",COUNTIF($S$7:S105,\"該当２\"))","v":""},"","",{"$f":"IF(V105=\"\",\"\",COUNTIF($V$7:V105,\"該当３\"))","v":""}]
[1920109003,19,{"v":201,"d":"201 "},{"v":9,"d":"09 "},{"v":3,"d":"003 "},"山梨県","甲府市","宮本村","猪狩",null,"","",{"$f":"IF(K106=\"\",\"\",COUNTIF($K$7:K106,\"ﾘｽﾄ１\"))","v":""},"","","","","","","",{"$f":"IF(S106=\"\",\"\",COUNTIF($S$7:S106,\"該当２\"))","v":""},"","",{"$f":"IF(V106=\"\",\"\",COUNTIF($V$7:V106,\"該当３\"))","v":""}]
[1920109004,19,{"v":201,"d":"201 "},{"v":9,"d":"09 "},{"v":4,"d":"004 "},"山梨県","甲府市","宮本村","草鹿沢",null,"","",{"$f":"IF(K107=\"\",\"\",COUNTIF($K$7:K107,\"ﾘｽﾄ１\"))","v":""},"","","","","","","",{"$f":"IF(S107=\"\",\"\",COUNTIF($S$7:S107,\"該当２\"))","v":""},"","",{"$f":"IF(V107=\"\",\"\",COUNTIF($V$7:V107,\"該当３\"))","v":""}]
[1920109005,19,{"v":201,"d":"201 "},{"v":9,"d":"09 "},{"v":5,"d":"005 "},"山梨県","甲府市","宮本村","黒平",null,"","",{"$f":"IF(K108=\"\",\"\",COUNTIF($K$7:K108,\"ﾘｽﾄ１\"))","v":""},"","","","","","","",{"$f":"IF(S108=\"\",\"\",COUNTIF($S$7:S108,\"該当２\"))","v":""},"","",{"$f":"IF(V108=\"\",\"\",COUNTIF($V$7:V108,\"該当３\"))","v":""}]
[1920110000,19,{"v":201,"d":"201 "},{"v":10,"d":"10 "},{"v":0,"d":"000 "},"山梨県","甲府市","大鎌田村",null,null,"","",{"$f":"IF(K109=\"\",\"\",COUNTIF($K$7:K109,\"ﾘｽﾄ１\"))","v":""},"","","","","","","",{"$f":"IF(S109=\"\",\"\",COUNTIF($S$7:S109,\"該当２\"))","v":""},"","",{"$f":"IF(V109=\"\",\"\",COUNTIF($V$7:V109,\"該当３\"))","v":""}]
[1920110001,19,{"v":201,"d":"201 "},{"v":10,"d":"10 "},{"v":1,"d":"001 "},"山梨県","甲府市","大鎌田村","窪中島",null,"","",{"$f":"IF(K110=\"\",\"\",COUNTIF($K$7:K110,\"ﾘｽﾄ１\"))","v":""},"","","","","","","",{"$f":"IF(S110=\"\",\"\",COUNTIF($S$7:S110,\"該当２\"))","v":""},"","",{"$f":"IF(V110=\"\",\"\",COUNTIF($V$7:V110,\"該当３\"))","v":""}]
[1920110002,19,{"v":201,"d":"201 "},{"v":10,"d":"10 "},{"v":2,"d":"002 "},"山梨県","甲府市","大鎌田村","円満寺",null,"","",{"$f":"IF(K111=\"\",\"\",COUNTIF($K$7:K111,\"ﾘｽﾄ１\"))","v":""},"","","","","","","",{"$f":"IF(S111=\"\",\"\",COUNTIF($S$7:S111,\"該当２\"))","v":""},"","",{"$f":"IF(V111=\"\",\"\",COUNTIF($V$7:V111,\"該当３\"))","v":""}]
[1920110003,19,{"v":201,"d":"201 "},{"v":10,"d":"10 "},{"v":3,"d":"003 "},"山梨県","甲府市","大鎌田村","二日市場",null,"","",{"$f":"IF(K112=\"\",\"\",COUNTIF($K$7:K112,\"ﾘｽﾄ１\"))","v":""},"","","","","","","",{"$f":"IF(S112=\"\",\"\",COUNTIF($S$7:S112,\"該当２\"))","v":""},"","",{"$f":"IF(V112=\"\",\"\",COUNTIF($V$7:V112,\"該当３\"))","v":""}]
[1920110004,19,{"v":201,"d":"201 "},{"v":10,"d":"10 "},{"v":4,"d":"004 "},"山梨県","甲府市","大鎌田村","中条",null,"","",{"$f":"IF(K113=\"\",\"\",COUNTIF($K$7:K113,\"ﾘｽﾄ１\"))","v":""},"","","","","","","",{"$f":"IF(S113=\"\",\"\",COUNTIF($S$7:S113,\"該当２\"))","v":""},"","",{"$f":"IF(V113=\"\",\"\",COUNTIF($V$7:V113,\"該当３\"))","v":""}]
[1920110005,19,{"v":201,"d":"201 "},{"v":10,"d":"10 "},{"v":5,"d":"005 "},"山梨県","甲府市","大鎌田村","関口",null,"","",{"$f":"IF(K114=\"\",\"\",COUNTIF($K$7:K114,\"ﾘｽﾄ１\"))","v":""},"","","","","","","",{"$f":"IF(S114=\"\",\"\",COUNTIF($S$7:S114,\"該当２\"))","v":""},"","",{"$f":"IF(V114=\"\",\"\",COUNTIF($V$7:V114,\"該当３\"))","v":""}]
[1920110006,19,{"v":201,"d":"201 "},{"v":10,"d":"10 "},{"v":6,"d":"006 "},"山梨県","甲府市","大鎌田村","古市場",null,"","",{"$f":"IF(K115=\"\",\"\",COUNTIF($K$7:K115,\"ﾘｽﾄ１\"))","v":""},"","","","","","","",{"$f":"IF(S115=\"\",\"\",COUNTIF($S$7:S115,\"該当２\"))","v":""},"","",{"$f":"IF(V115=\"\",\"\",COUNTIF($V$7:V115,\"該当３\"))","v":""}]
[1920110007,19,{"v":201,"d":"201 "},{"v":10,"d":"10 "},{"v":7,"d":"007 "},"山梨県","甲府市","大鎌田村","宮原",null,"","",{"$f":"IF(K116=\"\",\"\",COUNTIF($K$7:K116,\"ﾘｽﾄ１\"))","v":""},"","","","","","","",{"$f":"IF(S116=\"\",\"\",COUNTIF($S$7:S116,\"該当２\"))","v":""},"","",{"$f":"IF(V116=\"\",\"\",COUNTIF($V$7:V116,\"該当３\"))","v":""}]
[1920110008,19,{"v":201,"d":"201 "},{"v":10,"d":"10 "},{"v":8,"d":"008 "},"山梨県","甲府市","大鎌田村","堀之内",null,"","",{"$f":"IF(K117=\"\",\"\",COUNTIF($K$7:K117,\"ﾘｽﾄ１\"))","v":""},"","","","","","","",{"$f":"IF(S117=\"\",\"\",COUNTIF($S$7:S117,\"該当２\"))","v":""},"","",{"$f":"IF(V117=\"\",\"\",COUNTIF($V$7:V117,\"該当３\"))","v":""}]
[1920110009,19,{"v":201,"d":"201 "},{"v":10,"d":"10 "},{"v":9,"d":"009 "},"山梨県","甲府市","大鎌田村","高室",null,"","",{"$f":"IF(K118=\"\",\"\",COUNTIF($K$7:K118,\"ﾘｽﾄ１\"))","v":""},"","","","","","","",{"$f":"IF(S118=\"\",\"\",COUNTIF($S$7:S118,\"該当２\"))","v":""},"","",{"$f":"IF(V118=\"\",\"\",COUNTIF($V$7:V118,\"該当３\"))","v":""}]
[1920111000,19,{"v":201,"d":"201 "},{"v":11,"d":"11 "},{"v":0,"d":"000 "},"山梨県","甲府市","二川村",null,null,"","",{"$f":"IF(K119=\"\",\"\",COUNTIF($K$7:K119,\"ﾘｽﾄ１\"))","v":""},"","","","","","","",{"$f":"IF(S119=\"\",\"\",COUNTIF($S$7:S119,\"該当２\"))","v":""},"","",{"$f":"IF(V119=\"\",\"\",COUNTIF($V$7:V119,\"該当３\"))","v":""}]
[1920111001,19,{"v":201,"d":"201 "},{"v":11,"d":"11 "},{"v":1,"d":"001 "},"山梨県","甲府市","二川村","西下条",null,"","",{"$f":"IF(K120=\"\",\"\",COUNTIF($K$7:K120,\"ﾘｽﾄ１\"))","v":""},"","","","","","","",{"$f":"IF(S120=\"\",\"\",COUNTIF($S$7:S120,\"該当２\"))","v":""},"","",{"$f":"IF(V120=\"\",\"\",COUNTIF($V$7:V120,\"該当３\"))","v":""}]
[1920111002,19,{"v":201,"d":"201 "},{"v":11,"d":"11 "},{"v":2,"d":"002 "},"山梨県","甲府市","二川村","大津",null,"","",{"$f":"IF(K121=\"\",\"\",COUNTIF($K$7:K121,\"ﾘｽﾄ１\"))","v":""},"","","","","","","",{"$f":"IF(S121=\"\",\"\",COUNTIF($S$7:S121,\"該当２\"))","v":""},"","",{"$f":"IF(V121=\"\",\"\",COUNTIF($V$7:V121,\"該当３\"))","v":""}]
[1920112000,19,{"v":201,"d":"201 "},{"v":12,"d":"12 "},{"v":0,"d":"000 "},"山梨県","甲府市","柏村",null,null,"","",{"$f":"IF(K122=\"\",\"\",COUNTIF($K$7:K122,\"ﾘｽﾄ１\"))","v":""},"","","","","","","",{"$f":"IF(S122=\"\",\"\",COUNTIF($S$7:S122,\"該当２\"))","v":""},"","",{"$f":"IF(V122=\"\",\"\",COUNTIF($V$7:V122,\"該当３\"))","v":""}]
[1920112001,19,{"v":201,"d":"201 "},{"v":12,"d":"12 "},{"v":1,"d":"001 "},"山梨県","甲府市","柏村","下曽根",null,"","",{"$f":"IF(K123=\"\",\"\",COUNTIF($K$7:K123,\"ﾘｽﾄ１\"))","v":""},"","","","","","","",{"$f":"IF(S123=\"\",\"\",COUNTIF($S$7:S123,\"該当２\"))","v":""},"","",{"$f":"IF(V123=\"\",\"\",COUNTIF($V$7:V123,\"該当３\"))","v":""}]
[1920112002,19,{"v":201,"d":"201 "},{"v":12,"d":"12 "},{"v":2,"d":"002 "},"山梨県","甲府市","柏村","上曽根",null,"","",{"$f":"IF(K124=\"\",\"\",COUNTIF($K$7:K124,\"ﾘｽﾄ１\"))","v":""},"","","","","","","",{"$f":"IF(S124=\"\",\"\",COUNTIF($S$7:S124,\"該当２\"))","v":""},"","",{"$f":"IF(V124=\"\",\"\",COUNTIF($V$7:V124,\"該当３\"))","v":""}]
[1920112003,19,{"v":201,"d":"201 "},{"v":12,"d":"12 "},{"v":3,"d":"003 "},"山梨県","甲府市","柏村","白井",null,"","",{"$f":"IF(K125=\"\",\"\",COUNTIF($K$7:K125,\"ﾘｽﾄ１\"))","v":""},"","","","","","","",{"$f":"IF(S125=\"\",\"\",COUNTIF($S$7:S125,\"該当２\"))","v":""},"","",{"$f":"IF(V125=\"\",\"\",COUNTIF($V$7:V125,\"該当３\"))","v":""}]
[1920113000,19,{"v":201,"d":"201 "},{"v":13,"d":"13 "},{"v":0,"d":"000 "},"山梨県","甲府市","右左口村",null,null,"","",{"$f":"IF(K126=\"\",\"\",COUNTIF($K$7:K126,\"ﾘｽﾄ１\"))","v":""},"","","","","","","",{"$f":"IF(S126=\"\",\"\",COUNTIF($S$7:S126,\"該当２\"))","v":""},"","",{"$f":"IF(V126=\"\",\"\",COUNTIF($V$7:V126,\"該当３\"))","v":""}]
[1920113001,19,{"v":201,"d":"201 "},{"v":13,"d":"13 "},{"v":1,"d":"001 "},"山梨県","甲府市","右左口村","松本",null,"","",{"$f":"IF(K127=\"\",\"\",COUNTIF($K$7:K127,\"ﾘｽﾄ１\"))","v":""},"","","","","","","",{"$f":"IF(S127=\"\",\"\",COUNTIF($S$7:S127,\"該当２\"))","v":""},"","",{"$f":"IF(V127=\"\",\"\",COUNTIF($V$7:V127,\"該当３\"))","v":""}]
[1920113002,19,{"v":201,"d":"201 "},{"v":13,"d":"13 "},{"v":2,"d":"002 "},"山梨県","甲府市","右左口村","佐久",null,"","",{"$f":"IF(K128=\"\",\"\",COUNTIF($K$7:K128,\"ﾘｽﾄ１\"))","v":""},"","","","","","","",{"$f":"IF(S128=\"\",\"\",COUNTIF($S$7:S128,\"該当２\"))","v":""},"","",{"$f":"IF(V128=\"\",\"\",COUNTIF($V$7:V128,\"該当３\"))","v":""}]
[1920113003,19,{"v":201,"d":"201 "},{"v":13,"d":"13 "},{"v":3,"d":"003 "},"山梨県","甲府市","右左口村","金沢",null,"","",{"$f":"IF(K129=\"\",\"\",COUNTIF($K$7:K129,\"ﾘｽﾄ１\"))","v":""},"","","","","","","",{"$f":"IF(S129=\"\",\"\",COUNTIF($S$7:S129,\"該当２\"))","v":""},"","",{"$f":"IF(V129=\"\",\"\",COUNTIF($V$7:V129,\"該当３\"))","v":""}]
[1920113004,19,{"v":201,"d":"201 "},{"v":13,"d":"13 "},{"v":4,"d":"004 "},"山梨県","甲府市","右左口村","向山",null,"","",{"$f":"IF(K130=\"\",\"\",COUNTIF($K$7:K130,\"ﾘｽﾄ１\"))","v":""},"","","","","","","",{"$f":"IF(S130=\"\",\"\",COUNTIF($S$7:S130,\"該当２\"))","v":""},"","",{"$f":"IF(V130=\"\",\"\",COUNTIF($V$7:V130,\"該当３\"))","v":""}]
[1920113005,19,{"v":201,"d":"201 "},{"v":13,"d":"13 "},{"v":5,"d":"005 "},"山梨県","甲府市","右左口村","中畑",null,"","",{"$f":"IF(K131=\"\",\"\",COUNTIF($K$7:K131,\"ﾘｽﾄ１\"))","v":""},"","","","","","","",{"$f":"IF(S131=\"\",\"\",COUNTIF($S$7:S131,\"該当２\"))","v":""},"","",{"$f":"IF(V131=\"\",\"\",COUNTIF($V$7:V131,\"該当３\"))","v":""}]
[1920113006,19,{"v":201,"d":"201 "},{"v":13,"d":"13 "},{"v":6,"d":"006 "},"山梨県","甲府市","右左口村","心経寺",null,"","",{"$f":"IF(K132=\"\",\"\",COUNTIF($K$7:K132,\"ﾘｽﾄ１\"))","v":""},"","","","","","","",{"$f":"IF(S132=\"\",\"\",COUNTIF($S$7:S132,\"該当２\"))","v":""},"","",{"$f":"IF(V132=\"\",\"\",COUNTIF($V$7:V132,\"該当３\"))","v":""}]
[1920113007,19,{"v":201,"d":"201 "},{"v":13,"d":"13 "},{"v":7,"d":"007 "},"山梨県","甲府市","右左口村","宿",null,"","",{"$f":"IF(K133=\"\",\"\",COUNTIF($K$7:K133,\"ﾘｽﾄ１\"))","v":""},"","","","","","","",{"$f":"IF(S133=\"\",\"\",COUNTIF($S$7:S133,\"該当２\"))","v":""},"","",{"$f":"IF(V133=\"\",\"\",COUNTIF($V$7:V133,\"該当３\"))","v":""}]
[1920113008,19,{"v":201,"d":"201 "},{"v":13,"d":"13 "},{"v":8,"d":"008 "},"山梨県","甲府市","右左口村","七覚",null,"","",{"$f":"IF(K134=\"\",\"\",COUNTIF($K$7:K134,\"ﾘｽﾄ１\"))","v":""},"","","","","","","",{"$f":"IF(S134=\"\",\"\",COUNTIF($S$7:S134,\"該当２\"))","v":""},"","",{"$f":"IF(V134=\"\",\"\",COUNTIF($V$7:V134,\"該当３\"))","v":""}]
[1920113009,19,{"v":201,"d":"201 "},{"v":13,"d":"13 "},{"v":9,"d":"009 "},"山梨県","甲府市","右左口村","善藤",null,"","",{"$f":"IF(K135=\"\",\"\",COUNTIF($K$7:K135,\"ﾘｽﾄ１\"))","v":""},"","","","","","","",{"$f":"IF(S135=\"\",\"\",COUNTIF($S$7:S135,\"該当２\"))","v":""},"","",{"$f":"IF(V135=\"\",\"\",COUNTIF($V$7:V135,\"該当３\"))","v":""}]
[1920114000,19,{"v":201,"d":"201 "},{"v":14,"d":"14 "},{"v":0,"d":"000 "},"山梨県","甲府市","上九一色村2-1",null,null,"","",{"$f":"IF(K136=\"\",\"\",COUNTIF($K$7:K136,\"ﾘｽﾄ１\"))","v":""},"","",{"$f":"IF(O136=\"該当１\",G136,\"\")","v":""},{"$f":"IF(O136=\"該当１\",\"ﾘｽﾄ2\",\"\")","v":""},{"$f":"IF(Q136=\"ﾘｽﾄ2\",H136,\"\")","v":""},"",{"$f":"IF(S136=\"該当２\",H136,\"\")","v":""},{"$f":"IF(S136=\"\",\"\",COUNTIF($S$7:S136,\"該当２\"))","v":""},{"$f":"IF(AND($S$2=H136,E136>0,E136<998),\"該当３\",\"\")","v":""},{"$f":"IF(V136=\"該当３\",I136,\"\")","v":""},{"$f":"IF(V136=\"\",\"\",COUNTIF($V$7:V136,\"該当３\"))","v":""}]
[1920114001,19,{"v":201,"d":"201 "},{"v":14,"d":"14 "},{"v":1,"d":"001 "},"山梨県","甲府市","上九一色村2-1","梯",null,{"$f":"IF(AND($C137>0,$H137=\"\"),\"ﾘｽﾄ１\",\"\")","v":""},{"$f":"IF(K137=\"ﾘｽﾄ１\",G137,\"\")","v":""},{"$f":"IF(K137=\"\",\"\",COUNTIF($K$7:K137,\"ﾘｽﾄ１\"))","v":""},{"$f":"IF(AND(D137=0,E137>0),\"同一区\",\"\")","v":""},{"$f":"IF(AND(EXACT($K$2,G137),H137>0),\"該当１\",\"\")","v":""},"","","",{"$f":"IF(AND(Q137=\"ﾘｽﾄ2\",OR(I137=0,AND(N137=\"同一区\",E137=1))),\"該当２\",\"\")","v":""},"",{"$f":"IF(S137=\"\",\"\",COUNTIF($S$7:S137,\"該当２\"))","v":""},"","",{"$f":"IF(V137=\"\",\"\",COUNTIF($V$7:V137,\"該当３\"))","v":""}]
[1920114002,19,{"v":201,"d":"201 "},{"v":14,"d":"14 "},{"v":2,"d":"002 "},"山梨県","甲府市","上九一色村2-1","飯田",null,"","",{"$f":"IF(K138=\"\",\"\",COUNTIF($K$7:K138,\"ﾘｽﾄ１\"))","v":""},"","","","","","","",{"$f":"IF(S138=\"\",\"\",COUNTIF($S$7:S138,\"該当２\"))","v":""},"","",{"$f":"IF(V138=\"\",\"\",COUNTIF($V$7:V138,\"該当３\"))","v":""}]
[1920114003,19,{"v":201,"d":"201 "},{"v":14,"d":"14 "},{"v":3,"d":"003 "},"山梨県","甲府市","上九一色村2-1","本郷",null,"","",{"$f":"IF(K139=\"\",\"\",COUNTIF($K$7:K139,\"ﾘｽﾄ１\"))","v":""},"","","","","","","",{"$f":"IF(S139=\"\",\"\",COUNTIF($S$7:S139,\"該当２\"))","v":""},"","",{"$f":"IF(V139=\"\",\"\",COUNTIF($V$7:V139,\"該当３\"))","v":""}]
[1920114004,19,{"v":201,"d":"201 "},{"v":14,"d":"14 "},{"v":4,"d":"004 "},"山梨県","甲府市","上九一色村2-1","平川",null,"","",{"$f":"IF(K140=\"\",\"\",COUNTIF($K$7:K140,\"ﾘｽﾄ１\"))","v":""},"","","","","","","",{"$f":"IF(S140=\"\",\"\",COUNTIF($S$7:S140,\"該当２\"))","v":""},"","",{"$f":"IF(V140=\"\",\"\",COUNTIF($V$7:V140,\"該当３\"))","v":""}]
[1920114005,19,{"v":201,"d":"201 "},{"v":14,"d":"14 "},{"v":5,"d":"005 "},"山梨県","甲府市","上九一色村2-1","入野",null,"","",{"$f":"IF(K141=\"\",\"\",COUNTIF($K$7:K141,\"ﾘｽﾄ１\"))","v":""},"","","","","","","",{"$f":"IF(S141=\"\",\"\",COUNTIF($S$7:S141,\"該当２\"))","v":""},"","",{"$f":"IF(V141=\"\",\"\",COUNTIF($V$7:V141,\"該当３\"))","v":""}]
[1920200000,19,{"v":202,"d":"202 "},{"v":0,"d":"00 "},{"v":0,"d":"000 "},"山梨県","富士吉田市",{"$nulls":3},"ﾘｽﾄ１","富士吉田市",{"$f":"IF(K142=\"\",\"\",COUNTIF($K$7:K142,\"ﾘｽﾄ１\"))","v":2},"","","","","","","",{"$f":"IF(S142=\"\",\"\",COUNTIF($S$7:S142,\"該当２\"))","v":""},"","",{"$f":"IF(V142=\"\",\"\",COUNTIF($V$7:V142,\"該当３\"))","v":""}]
[1920201000,19,{"v":202,"d":"202 "},{"v":1,"d":"01 "},{"v":0,"d":"000 "},"山梨県","富士吉田市","下吉田町",null,null,"","",{"$f":"IF(K143=\"\",\"\",COUNTIF($K$7:K143,\"ﾘｽﾄ１\"))","v":""},"","","","","","","",{"$f":"IF(S143=\"\",\"\",COUNTIF($S$7:S143,\"該当２\"))","v":""},"","",{"$f":"IF(V143=\"\",\"\",COUNTIF($V$7:V143,\"該当３\"))","v":""}]
[1920201001,19,{"v":202,"d":"202 "},{"v":1,"d":"01 "},{"v":1,"d":"001 "},"山梨県","富士吉田市","下吉田町","下吉田横町",null,"","",{"$f":"IF(K144=\"\",\"\",COUNTIF($K$7:K144,\"ﾘｽﾄ１\"))","v":""},"","","","","","","",{"$f":"IF(S144=\"\",\"\",COUNTIF($S$7:S144,\"該当２\"))","v":""},"","",{"$f":"IF(V144=\"\",\"\",COUNTIF($V$7:V144,\"該当３\"))","v":""}]
[1920201002,19,{"v":202,"d":"202 "},{"v":1,"d":"01 "},{"v":2,"d":"002 "},"山梨県","富士吉田市","下吉田町","西町",null,"","",{"$f":"IF(K145=\"\",\"\",COUNTIF($K$7:K145,\"ﾘｽﾄ１\"))","v":""},"","","","","","","",{"$f":"IF(S145=\"\",\"\",COUNTIF($S$7:S145,\"該当２\"))","v":""},"","",{"$f":"IF(V145=\"\",\"\",COUNTIF($V$7:V145,\"該当３\"))","v":""}]
[1920201003,19,{"v":202,"d":"202 "},{"v":1,"d":"01 "},{"v":3,"d":"003 "},"山梨県","富士吉田市","下吉田町","本町，泉町",null,"","",{"$f":"IF(K146=\"\",\"\",COUNTIF($K$7:K146,\"ﾘｽﾄ１\"))","v":""},"","","","","","","",{"$f":"IF(S146=\"\",\"\",COUNTIF($S$7:S146,\"該当２\"))","v":""},"","",{"$f":"IF(V146=\"\",\"\",COUNTIF($V$7:V146,\"該当３\"))","v":""}]
[1920201004,19,{"v":202,"d":"202 "},{"v":1,"d":"01 "},{"v":4,"d":"004 "},"山梨県","富士吉田市","下吉田町","しんや",null,"","",{"$f":"IF(K147=\"\",\"\",COUNTIF($K$7:K147,\"ﾘｽﾄ１\"))","v":""},"","","","","","","",{"$f":"IF(S147=\"\",\"\",COUNTIF($S$7:S147,\"該当２\"))","v":""},"","",{"$f":"IF(V147=\"\",\"\",COUNTIF($V$7:V147,\"該当３\"))","v":""}]
[1920201005,19,{"v":202,"d":"202 "},{"v":1,"d":"01 "},{"v":5,"d":"005 "},"山梨県","富士吉田市","下吉田町","中央東",null,"","",{"$f":"IF(K148=\"\",\"\",COUNTIF($K$7:K148,\"ﾘｽﾄ１\"))","v":""},"","","","","","","",{"$f":"IF(S148=\"\",\"\",COUNTIF($S$7:S148,\"該当２\"))","v":""},"","",{"$f":"IF(V148=\"\",\"\",COUNTIF($V$7:V148,\"該当３\"))","v":""}]
[1920201006,19,{"v":202,"d":"202 "},{"v":1,"d":"01 "},{"v":6,"d":"006 "},"山梨県","富士吉田市","下吉田町","中央西北",null,"","",{"$f":"IF(K149=\"\",\"\",COUNTIF($K$7:K149,\"ﾘｽﾄ１\"))","v":""},"","","","","","","",{"$f":"IF(S149=\"\",\"\",COUNTIF($S$7:S149,\"該当２\"))","v":""},"","",{"$f":"IF(V149=\"\",\"\",COUNTIF($V$7:V149,\"該当３\"))","v":""}]
[1920201007,19,{"v":202,"d":"202 "},{"v":1,"d":"01 "},{"v":7,"d":"007 "},"山梨県","富士吉田市","下吉田町","幸町",null,"","",{"$f":"IF(K150=\"\",\"\",COUNTIF($K$7:K150,\"ﾘｽﾄ１\"))","v":""},"","","","","","","",{"$f":"IF(S150=\"\",\"\",COUNTIF($S$7:S150,\"該当２\"))","v":""},"","",{"$f":"IF(V150=\"\",\"\",COUNTIF($V$7:V150,\"該当３\"))","v":""}]
[1920201008,19,{"v":202,"d":"202 "},{"v":1,"d":"01 "},{"v":8,"d":"008 "},"山梨県","富士吉田市","下吉田町","下吉田上",null,"","",{"$f":"IF(K151=\"\",\"\",COUNTIF($K$7:K151,\"ﾘｽﾄ１\"))","v":""},"","","","","","","",{"$f":"IF(S151=\"\",\"\",COUNTIF($S$7:S151,\"該当２\"))","v":""},"","",{"$f":"IF(V151=\"\",\"\",COUNTIF($V$7:V151,\"該当３\"))","v":""}]
[1920201009,19,{"v":202,"d":"202 "},{"v":1,"d":"01 "},{"v":9,"d":"009 "},"山梨県","富士吉田市","下吉田町","新倉",null,"","",{"$f":"IF(K152=\"\",\"\",COUNTIF($K$7:K152,\"ﾘｽﾄ１\"))","v":""},"","","","","","","",{"$f":"IF(S152=\"\",\"\",COUNTIF($S$7:S152,\"該当２\"))","v":""},"","",{"$f":"IF(V152=\"\",\"\",COUNTIF($V$7:V152,\"該当３\"))","v":""}]
[1920201010,19,{"v":202,"d":"202 "},{"v":1,"d":"01 "},{"v":10,"d":"010 "},"山梨県","富士吉田市","下吉田町","浅間町",null,"","",{"$f":"IF(K153=\"\",\"\",COUNTIF($K$7:K153,\"ﾘｽﾄ１\"))","v":""},"","","","","","","",{"$f":"IF(S153=\"\",\"\",COUNTIF($S$7:S153,\"該当２\"))","v":""},"","",{"$f":"IF(V153=\"\",\"\",COUNTIF($V$7:V153,\"該当３\"))","v":""}]
[1920201011,19,{"v":202,"d":"202 "},{"v":1,"d":"01 "},{"v":11,"d":"011 "},"山梨県","富士吉田市","下吉田町","新町",null,"","",{"$f":"IF(K154=\"\",\"\",COUNTIF($K$7:K154,\"ﾘｽﾄ１\"))","v":""},"","","","","","","",{"$f":"IF(S154=\"\",\"\",COUNTIF($S$7:S154,\"該当２\"))","v":""},"","",{"$f":"IF(V154=\"\",\"\",COUNTIF($V$7:V154,\"該当３\"))","v":""}]
[1920201012,19,{"v":202,"d":"202 "},{"v":1,"d":"01 "},{"v":12,"d":"012 "},"山梨県","富士吉田市","下吉田町","宮下町",null,"","",{"$f":"IF(K155=\"\",\"\",COUNTIF($K$7:K155,\"ﾘｽﾄ１\"))","v":""},"","","","","","","",{"$f":"IF(S155=\"\",\"\",COUNTIF($S$7:S155,\"該当２\"))","v":""},"","",{"$f":"IF(V155=\"\",\"\",COUNTIF($V$7:V155,\"該当３\"))","v":""}]
[1920201013,19,{"v":202,"d":"202 "},{"v":1,"d":"01 "},{"v":13,"d":"013 "},"山梨県","富士吉田市","下吉田町","富士見町",null,"","",{"$f":"IF(K156=\"\",\"\",COUNTIF($K$7:K156,\"ﾘｽﾄ１\"))","v":""},"","","","","","","",{"$f":"IF(S156=\"\",\"\",COUNTIF($S$7:S156,\"該当２\"))","v":""},"","",{"$f":"IF(V156=\"\",\"\",COUNTIF($V$7:V156,\"該当３\"))","v":""}]
[1920202000,19,{"v":202,"d":"202 "},{"v":2,"d":"02 "},{"v":0,"d":"000 "},"山梨県","富士吉田市","明見町",null,null,"","",{"$f":"IF(K157=\"\",\"\",COUNTIF($K$7:K157,\"ﾘｽﾄ１\"))","v":""},"","","","","","","",{"$f":"IF(S157=\"\",\"\",COUNTIF($S$7:S157,\"該当２\"))","v":""},"","",{"$f":"IF(V157=\"\",\"\",COUNTIF($V$7:V157,\"該当３\"))","v":""}]
[1920202001,19,{"v":202,"d":"202 "},{"v":2,"d":"02 "},{"v":1,"d":"001 "},"山梨県","富士吉田市","明見町","大明見",null,"","",{"$f":"IF(K158=\"\",\"\",COUNTIF($K$7:K158,\"ﾘｽﾄ１\"))","v":""},"","","","","","","",{"$f":"IF(S158=\"\",\"\",COUNTIF($S$7:S158,\"該当２\"))","v":""},"","",{"$f":"IF(V158=\"\",\"\",COUNTIF($V$7:V158,\"該当３\"))","v":""}]
[1920202002,19,{"v":202,"d":"202 "},{"v":2,"d":"02 "},{"v":2,"d":"002 "},"山梨県","富士吉田市","明見町","新田",null,"","",{"$f":"IF(K159=\"\",\"\",COUNTIF($K$7:K159,\"ﾘｽﾄ１\"))","v":""},"","","","","","","",{"$f":"IF(S159=\"\",\"\",COUNTIF($S$7:S159,\"該当２\"))","v":""},"","",{"$f":"IF(V159=\"\",\"\",COUNTIF($V$7:V159,\"該当３\"))","v":""}]
[1920202003,19,{"v":202,"d":"202 "},{"v":2,"d":"02 "},{"v":3,"d":"003 "},"山梨県","富士吉田市","明見町","古屋",null,"","",{"$f":"IF(K160=\"\",\"\",COUNTIF($K$7:K160,\"ﾘｽﾄ１\"))","v":""},"","","","","","","",{"$f":"IF(S160=\"\",\"\",COUNTIF($S$7:S160,\"該当２\"))","v":""},"","",{"$f":"IF(V160=\"\",\"\",COUNTIF($V$7:V160,\"該当３\"))","v":""}]
[1920203000,19,{"v":202,"d":"202 "},{"v":3,"d":"03 "},{"v":0,"d":"000 "},"山梨県","富士吉田市","富士上吉田町",null,null,"","",{"$f":"IF(K161=\"\",\"\",COUNTIF($K$7:K161,\"ﾘｽﾄ１\"))","v":""},"","","","","","","",{"$f":"IF(S161=\"\",\"\",COUNTIF($S$7:S161,\"該当２\"))","v":""},"","",{"$f":"IF(V161=\"\",\"\",COUNTIF($V$7:V161,\"該当３\"))","v":""}]
[1920203001,19,{"v":202,"d":"202 "},{"v":3,"d":"03 "},{"v":1,"d":"001 "},"山梨県","富士吉田市","富士上吉田町","新屋",null,"","",{"$f":"IF(K162=\"\",\"\",COUNTIF($K$7:K162,\"ﾘｽﾄ１\"))","v":""},"","","","","","","",{"$f":"IF(S162=\"\",\"\",COUNTIF($S$7:S162,\"該当２\"))","v":""},"","",{"$f":"IF(V162=\"\",\"\",COUNTIF($V$7:V162,\"該当３\"))","v":""}]
[1920203002,19,{"v":202,"d":"202 "},{"v":3,"d":"03 "},{"v":2,"d":"002 "},"山梨県","富士吉田市","富士上吉田町","上吉田",null,"","",{"$f":"IF(K163=\"\",\"\",COUNTIF($K$7:K163,\"ﾘｽﾄ１\"))","v":""},"","","","","","","",{"$f":"IF(S163=\"\",\"\",COUNTIF($S$7:S163,\"該当２\"))","v":""},"","",{"$f":"IF(V163=\"\",\"\",COUNTIF($V$7:V163,\"該当３\"))","v":""}]
[1920203003,19,{"v":202,"d":"202 "},{"v":3,"d":"03 "},{"v":3,"d":"003 "},"山梨県","富士吉田市","富士上吉田町","松山",null,"","",{"$f":"IF(K164=\"\",\"\",COUNTIF($K$7:K164,\"ﾘｽﾄ１\"))","v":""},"","","","","","","",{"$f":"IF(S164=\"\",\"\",COUNTIF($S$7:S164,\"該当２\"))","v":""},"","",{"$f":"IF(V164=\"\",\"\",COUNTIF($V$7:V164,\"該当３\"))","v":""}]
[1920204000,19,{"v":202,"d":"202 "},{"v":4,"d":"04 "},{"v":0,"d":"000 "},"山梨県","富士吉田市","西桂村２－２",null,null,"","",{"$f":"IF(K165=\"\",\"\",COUNTIF($K$7:K165,\"ﾘｽﾄ１\"))","v":""},"","","","","","","",{"$f":"IF(S165=\"\",\"\",COUNTIF($S$7:S165,\"該当２\"))","v":""},"","",{"$f":"IF(V165=\"\",\"\",COUNTIF($V$7:V165,\"該当３\"))","v":""}]
[1920204001,19,{"v":202,"d":"202 "},{"v":4,"d":"04 "},{"v":1,"d":"001 "},"山梨県","富士吉田市","西桂村２－２","白糸町",null,"","",{"$f":"IF(K166=\"\",\"\",COUNTIF($K$7:K166,\"ﾘｽﾄ１\"))","v":""},"","","","","","","",{"$f":"IF(S166=\"\",\"\",COUNTIF($S$7:S166,\"該当２\"))","v":""},"","",{"$f":"IF(V166=\"\",\"\",COUNTIF($V$7:V166,\"該当３\"))","v":""}]
[1920204002,19,{"v":202,"d":"202 "},{"v":4,"d":"04 "},{"v":2,"d":"002 "},"山梨県","富士吉田市","西桂村２－２","寿町",null,"","",{"$f":"IF(K167=\"\",\"\",COUNTIF($K$7:K167,\"ﾘｽﾄ１\"))","v":""},"","","","","","","",{"$f":"IF(S167=\"\",\"\",COUNTIF($S$7:S167,\"該当２\"))","v":""},"","",{"$f":"IF(V167=\"\",\"\",COUNTIF($V$7:V167,\"該当３\"))","v":""}]
[1920400000,19,{"v":204,"d":"204 "},{"v":0,"d":"00 "},{"v":0,"d":"000 "},"山梨県","都留市",{"$nulls":3},"ﾘｽﾄ１","都留市",{"$f":"IF(K168=\"\",\"\",COUNTIF($K$7:K168,\"ﾘｽﾄ１\"))","v":3},"","","","","","","",{"$f":"IF(S168=\"\",\"\",COUNTIF($S$7:S168,\"該当２\"))","v":""},"","",{"$f":"IF(V168=\"\",\"\",COUNTIF($V$7:V168,\"該当３\"))","v":""}]
[1920401000,19,{"v":204,"d":"204 "},{"v":1,"d":"01 "},{"v":0,"d":"000 "},"山梨県","都留市","谷村町",null,null,"","",{"$f":"IF(K169=\"\",\"\",COUNTIF($K$7:K169,\"ﾘｽﾄ１\"))","v":""},"","","","","","","",{"$f":"IF(S169=\"\",\"\",COUNTIF($S$7:S169,\"該当２\"))","v":""},"","",{"$f":"IF(V169=\"\",\"\",COUNTIF($V$7:V169,\"該当３\"))","v":""}]
[1920401001,19,{"v":204,"d":"204 "},{"v":1,"d":"01 "},{"v":1,"d":"001 "},"山梨県","都留市","谷村町","田原",null,"","",{"$f":"IF(K170=\"\",\"\",COUNTIF($K$7:K170,\"ﾘｽﾄ１\"))","v":""},"","","","","","","",{"$f":"IF(S170=\"\",\"\",COUNTIF($S$7:S170,\"該当２\"))","v":""},"","",{"$f":"IF(V170=\"\",\"\",COUNTIF($V$7:V170,\"該当３\"))","v":""}]
[1920401002,19,{"v":204,"d":"204 "},{"v":1,"d":"01 "},{"v":2,"d":"002 "},"山梨県","都留市","谷村町","上町",null,"","",{"$f":"IF(K171=\"\",\"\",COUNTIF($K$7:K171,\"ﾘｽﾄ１\"))","v":""},"","","","","","","",{"$f":"IF(S171=\"\",\"\",COUNTIF($S$7:S171,\"該当２\"))","v":""},"","",{"$f":"IF(V171=\"\",\"\",COUNTIF($V$7:V171,\"該当３\"))","v":""}]
[1920401003,19,{"v":204,"d":"204 "},{"v":1,"d":"01 "},{"v":3,"d":"003 "},"山梨県","都留市","谷村町","上天",null,"","",{"$f":"IF(K172=\"\",\"\",COUNTIF($K$7:K172,\"ﾘｽﾄ１\"))","v":""},"","","","","","","",{"$f":"IF(S172=\"\",\"\",COUNTIF($S$7:S172,\"該当２\"))","v":""},"","",{"$f":"IF(V172=\"\",\"\",COUNTIF($V$7:V172,\"該当３\"))","v":""}]
[1920401004,19,{"v":204,"d":"204 "},{"v":1,"d":"01 "},{"v":4,"d":"004 "},"山梨県","都留市","谷村町","下天",null,"","",{"$f":"IF(K173=\"\",\"\",COUNTIF($K$7:K173,\"ﾘｽﾄ１\"))","v":""},"","","","","","","",{"$f":"IF(S173=\"\",\"\",COUNTIF($S$7:S173,\"該当２\"))","v":""},"","",{"$f":"IF(V173=\"\",\"\",COUNTIF($V$7:V173,\"該当３\"))","v":""}]
[1920401005,19,{"v":204,"d":"204 "},{"v":1,"d":"01 "},{"v":5,"d":"005 "},"山梨県","都留市","谷村町","下谷第一",null,"","",{"$f":"IF(K174=\"\",\"\",COUNTIF($K$7:K174,\"ﾘｽﾄ１\"))","v":""},"","","","","","","",{"$f":"IF(S174=\"\",\"\",COUNTIF($S$7:S174,\"該当２\"))","v":""},"","",{"$f":"IF(V174=\"\",\"\",COUNTIF($V$7:V174,\"該当３\"))","v":""}]
[1920401006,19,{"v":204,"d":"204 "},{"v":1,"d":"01 "},{"v":6,"d":"006 "},"山梨県","都留市","谷村町","下谷第二",null,"","",{"$f":"IF(K175=\"\",\"\",COUNTIF($K$7:K175,\"ﾘｽﾄ１\"))","v":""},"","","","","","","",{"$f":"IF(S175=\"\",\"\",COUNTIF($S$7:S175,\"該当２\"))","v":""},"","",{"$f":"IF(V175=\"\",\"\",COUNTIF($V$7:V175,\"該当３\"))","v":""}]
[1920401007,19,{"v":204,"d":"204 "},{"v":1,"d":"01 "},{"v":7,"d":"007 "},"山梨県","都留市","谷村町","下谷第三",null,"","",{"$f":"IF(K176=\"\",\"\",COUNTIF($K$7:K176,\"ﾘｽﾄ１\"))","v":""},"","","","","","","",{"$f":"IF(S176=\"\",\"\",COUNTIF($S$7:S176,\"該当２\"))","v":""},"","",{"$f":"IF(V176=\"\",\"\",COUNTIF($V$7:V176,\"該当３\"))","v":""}]
[1920401008,19,{"v":204,"d":"204 "},{"v":1,"d":"01 "},{"v":8,"d":"008 "},"山梨県","都留市","谷村町","下谷第四",null,"","",{"$f":"IF(K177=\"\",\"\",COUNTIF($K$7:K177,\"ﾘｽﾄ１\"))","v":""},"","","","","","","",{"$f":"IF(S177=\"\",\"\",COUNTIF($S$7:S177,\"該当２\"))","v":""},"","",{"$f":"IF(V177=\"\",\"\",COUNTIF($V$7:V177,\"該当３\"))","v":""}]
[1920401009,19,{"v":204,"d":"204 "},{"v":1,"d":"01 "},{"v":9,"d":"009 "},"山梨県","都留市","谷村町","羽根子",null,"","",{"$f":"IF(K178=\"\",\"\",COUNTIF($K$7:K178,\"ﾘｽﾄ１\"))","v":""},"","","","","","","",{"$f":"IF(S178=\"\",\"\",COUNTIF($S$7:S178,\"該当２\"))","v":""},"","",{"$f":"IF(V178=\"\",\"\",COUNTIF($V$7:V178,\"該当３\"))","v":""}]
[1920401010,19,{"v":204,"d":"204 "},{"v":1,"d":"01 "},{"v":10,"d":"010 "},"山梨県","都留市","谷村町","法能",null,"","",{"$f":"IF(K179=\"\",\"\",COUNTIF($K$7:K179,\"ﾘｽﾄ１\"))","v":""},"","","","","","","",{"$f":"IF(S179=\"\",\"\",COUNTIF($S$7:S179,\"該当２\"))","v":""},"","",{"$f":"IF(V179=\"\",\"\",COUNTIF($V$7:V179,\"該当３\"))","v":""}]
[1920401011,19,{"v":204,"d":"204 "},{"v":1,"d":"01 "},{"v":11,"d":"011 "},"山梨県","都留市","谷村町","宮原",null,"","",{"$f":"IF(K180=\"\",\"\",COUNTIF($K$7:K180,\"ﾘｽﾄ１\"))","v":""},"","","","","","","",{"$f":"IF(S180=\"\",\"\",COUNTIF($S$7:S180,\"該当２\"))","v":""},"","",{"$f":"IF(V180=\"\",\"\",COUNTIF($V$7:V180,\"該当３\"))","v":""}]
[1920401012,19,{"v":204,"d":"204 "},{"v":1,"d":"01 "},{"v":12,"d":"012 "},"山梨県","都留市","谷村町","引の田",null,"","",{"$f":"IF(K181=\"\",\"\",COUNTIF($K$7:K181,\"ﾘｽﾄ１\"))","v":""},"","","","","","","",{"$f":"IF(S181=\"\",\"\",COUNTIF($S$7:S181,\"該当２\"))","v":""},"","",{"$f":"IF(V181=\"\",\"\",COUNTIF($V$7:V181,\"該当３\"))","v":""}]
[1920401013,19,{"v":204,"d":"204 "},{"v":1,"d":"01 "},{"v":13,"d":"013 "},"山梨県","都留市","谷村町","玉川",null,"","",{"$f":"IF(K182=\"\",\"\",COUNTIF($K$7:K182,\"ﾘｽﾄ１\"))","v":""},"","","","","","","",{"$f":"IF(S182=\"\",\"\",COUNTIF($S$7:S182,\"該当２\"))","v":""},"","",{"$f":"IF(V182=\"\",\"\",COUNTIF($V$7:V182,\"該当３\"))","v":""}]
[1920401014,19,{"v":204,"d":"204 "},{"v":1,"d":"01 "},{"v":14,"d":"014 "},"山梨県","都留市","谷村町","戸沢",null,"","",{"$f":"IF(K183=\"\",\"\",COUNTIF($K$7:K183,\"ﾘｽﾄ１\"))","v":""},"","","","","","","",{"$f":"IF(S183=\"\",\"\",COUNTIF($S$7:S183,\"該当２\"))","v":""},"","",{"$f":"IF(V183=\"\",\"\",COUNTIF($V$7:V183,\"該当３\"))","v":""}]
[1920401015,19,{"v":204,"d":"204 "},{"v":1,"d":"01 "},{"v":15,"d":"015 "},"山梨県","都留市","谷村町","熊井戸",null,"","",{"$f":"IF(K184=\"\",\"\",COUNTIF($K$7:K184,\"ﾘｽﾄ１\"))","v":""},"","","","","","","",{"$f":"IF(S184=\"\",\"\",COUNTIF($S$7:S184,\"該当２\"))","v":""},"","",{"$f":"IF(V184=\"\",\"\",COUNTIF($V$7:V184,\"該当３\"))","v":""}]
[1920401016,19,{"v":204,"d":"204 "},{"v":1,"d":"01 "},{"v":16,"d":"016 "},"山梨県","都留市","谷村町","小野",null,"","",{"$f":"IF(K185=\"\",\"\",COUNTIF($K$7:K185,\"ﾘｽﾄ１\"))","v":""},"","","","","","","",{"$f":"IF(S185=\"\",\"\",COUNTIF($S$7:S185,\"該当２\"))","v":""},"","",{"$f":"IF(V185=\"\",\"\",COUNTIF($V$7:V185,\"該当３\"))","v":""}]
[1920401017,19,{"v":204,"d":"204 "},{"v":1,"d":"01 "},{"v":17,"d":"017 "},"山梨県","都留市","谷村町","大津",null,"","",{"$f":"IF(K186=\"\",\"\",COUNTIF($K$7:K186,\"ﾘｽﾄ１\"))","v":""},"","","","","","","",{"$f":"IF(S186=\"\",\"\",COUNTIF($S$7:S186,\"該当２\"))","v":""},"","",{"$f":"IF(V186=\"\",\"\",COUNTIF($V$7:V186,\"該当３\"))","v":""}]
[1920401018,19,{"v":204,"d":"204 "},{"v":1,"d":"01 "},{"v":18,"d":"018 "},"山梨県","都留市","谷村町","細野",null,"","",{"$f":"IF(K187=\"\",\"\",COUNTIF($K$7:K187,\"ﾘｽﾄ１\"))","v":""},"","","","","","","",{"$f":"IF(S187=\"\",\"\",COUNTIF($S$7:S187,\"該当２\"))","v":""},"","",{"$f":"IF(V187=\"\",\"\",COUNTIF($V$7:V187,\"該当３\"))","v":""}]
[1920401019,19,{"v":204,"d":"204 "},{"v":1,"d":"01 "},{"v":19,"d":"019 "},"山梨県","都留市","谷村町","菅野",null,"","",{"$f":"IF(K188=\"\",\"\",COUNTIF($K$7:K188,\"ﾘｽﾄ１\"))","v":""},"","","","","","","",{"$f":"IF(S188=\"\",\"\",COUNTIF($S$7:S188,\"該当２\"))","v":""},"","",{"$f":"IF(V188=\"\",\"\",COUNTIF($V$7:V188,\"該当３\"))","v":""}]
[1920402000,19,{"v":204,"d":"204 "},{"v":2,"d":"02 "},{"v":0,"d":"000 "},"山梨県","都留市","宝村",null,null,"","",{"$f":"IF(K189=\"\",\"\",COUNTIF($K$7:K189,\"ﾘｽﾄ１\"))","v":""},"","","","","","","",{"$f":"IF(S189=\"\",\"\",COUNTIF($S$7:S189,\"該当２\"))","v":""},"","",{"$f":"IF(V189=\"\",\"\",COUNTIF($V$7:V189,\"該当３\"))","v":""}]
[1920402001,19,{"v":204,"d":"204 "},{"v":2,"d":"02 "},{"v":1,"d":"001 "},"山梨県","都留市","宝村","川棚",null,"","",{"$f":"IF(K190=\"\",\"\",COUNTIF($K$7:K190,\"ﾘｽﾄ１\"))","v":""},"","","","","","","",{"$f":"IF(S190=\"\",\"\",COUNTIF($S$7:S190,\"該当２\"))","v":""},"","",{"$f":"IF(V190=\"\",\"\",COUNTIF($V$7:V190,\"該当３\"))","v":""}]
[1920402002,19,{"v":204,"d":"204 "},{"v":2,"d":"02 "},{"v":2,"d":"002 "},"山梨県","都留市","宝村","厚原",null,"","",{"$f":"IF(K191=\"\",\"\",COUNTIF($K$7:K191,\"ﾘｽﾄ１\"))","v":""},"","","","","","","",{"$f":"IF(S191=\"\",\"\",COUNTIF($S$7:S191,\"該当２\"))","v":""},"","",{"$f":"IF(V191=\"\",\"\",COUNTIF($V$7:V191,\"該当３\"))","v":""}]
[1920402003,19,{"v":204,"d":"204 "},{"v":2,"d":"02 "},{"v":3,"d":"003 "},"山梨県","都留市","宝村","平栗",null,"","",{"$f":"IF(K192=\"\",\"\",COUNTIF($K$7:K192,\"ﾘｽﾄ１\"))","v":""},"","","","","","","",{"$f":"IF(S192=\"\",\"\",COUNTIF($S$7:S192,\"該当２\"))","v":""},"","",{"$f":"IF(V192=\"\",\"\",COUNTIF($V$7:V192,\"該当３\"))","v":""}]
[1920402004,19,{"v":204,"d":"204 "},{"v":2,"d":"02 "},{"v":4,"d":"004 "},"山梨県","都留市","宝村","加畑",null,"","",{"$f":"IF(K193=\"\",\"\",COUNTIF($K$7:K193,\"ﾘｽﾄ１\"))","v":""},"","","","","","","",{"$f":"IF(S193=\"\",\"\",COUNTIF($S$7:S193,\"該当２\"))","v":""},"","",{"$f":"IF(V193=\"\",\"\",COUNTIF($V$7:V193,\"該当３\"))","v":""}]
[1920402005,19,{"v":204,"d":"204 "},{"v":2,"d":"02 "},{"v":5,"d":"005 "},"山梨県","都留市","宝村","金井",null,"","",{"$f":"IF(K194=\"\",\"\",COUNTIF($K$7:K194,\"ﾘｽﾄ１\"))","v":""},"","","","","","","",{"$f":"IF(S194=\"\",\"\",COUNTIF($S$7:S194,\"該当２\"))","v":""},"","",{"$f":"IF(V194=\"\",\"\",COUNTIF($V$7:V194,\"該当３\"))","v":""}]
[1920402006,19,{"v":204,"d":"204 "},{"v":2,"d":"02 "},{"v":6,"d":"006 "},"山梨県","都留市","宝村","中津森",null,"","",{"$f":"IF(K195=\"\",\"\",COUNTIF($K$7:K195,\"ﾘｽﾄ１\"))","v":""},"","","","","","","",{"$f":"IF(S195=\"\",\"\",COUNTIF($S$7:S195,\"該当２\"))","v":""},"","",{"$f":"IF(V195=\"\",\"\",COUNTIF($V$7:V195,\"該当３\"))","v":""}]
[1920402007,19,{"v":204,"d":"204 "},{"v":2,"d":"02 "},{"v":7,"d":"007 "},"山梨県","都留市","宝村","下大幡",null,"","",{"$f":"IF(K196=\"\",\"\",COUNTIF($K$7:K196,\"ﾘｽﾄ１\"))","v":""},"","","","","","","",{"$f":"IF(S196=\"\",\"\",COUNTIF($S$7:S196,\"該当２\"))","v":""},"","",{"$f":"IF(V196=\"\",\"\",COUNTIF($V$7:V196,\"該当３\"))","v":""}]
[1920402008,19,{"v":204,"d":"204 "},{"v":2,"d":"02 "},{"v":8,"d":"008 "},"山梨県","都留市","宝村","上大幡",null,"","",{"$f":"IF(K197=\"\",\"\",COUNTIF($K$7:K197,\"ﾘｽﾄ１\"))","v":""},"","","","","","","",{"$f":"IF(S197=\"\",\"\",COUNTIF($S$7:S197,\"該当２\"))","v":""},"","",{"$f":"IF(V197=\"\",\"\",COUNTIF($V$7:V197,\"該当３\"))","v":""}]
[1920402009,19,{"v":204,"d":"204 "},{"v":2,"d":"02 "},{"v":9,"d":"009 "},"山梨県","都留市","宝村","高畑",null,"","",{"$f":"IF(K198=\"\",\"\",COUNTIF($K$7:K198,\"ﾘｽﾄ１\"))","v":""},"","","","","","","",{"$f":"IF(S198=\"\",\"\",COUNTIF($S$7:S198,\"該当２\"))","v":""},"","",{"$f":"IF(V198=\"\",\"\",COUNTIF($V$7:V198,\"該当３\"))","v":""}]
[1920403000,19,{"v":204,"d":"204 "},{"v":3,"d":"03 "},{"v":0,"d":"000 "},"山梨県","都留市","禾生村",null,null,"","",{"$f":"IF(K199=\"\",\"\",COUNTIF($K$7:K199,\"ﾘｽﾄ１\"))","v":""},"","","","","","","",{"$f":"IF(S199=\"\",\"\",COUNTIF($S$7:S199,\"該当２\"))","v":""},"","",{"$f":"IF(V199=\"\",\"\",COUNTIF($V$7:V199,\"該当３\"))","v":""}]
[1920403001,19,{"v":204,"d":"204 "},{"v":3,"d":"03 "},{"v":1,"d":"001 "},"山梨県","都留市","禾生村","四日市場",null,"","",{"$f":"IF(K200=\"\",\"\",COUNTIF($K$7:K200,\"ﾘｽﾄ１\"))","v":""},"","",{"$f":"IF(O200=\"該当１\",G200,\"\")","v":""},{"$f":"IF(O200=\"該当１\",\"ﾘｽﾄ2\",\"\")","v":""},{"$f":"IF(Q200=\"ﾘｽﾄ2\",H200,\"\")","v":""},"",{"$f":"IF(S200=\"該当２\",H200,\"\")","v":""},{"$f":"IF(S200=\"\",\"\",COUNTIF($S$7:S200,\"該当２\"))","v":""},{"$f":"IF(AND($S$2=H200,E200>0,E200<998),\"該当３\",\"\")","v":""},{"$f":"IF(V200=\"該当３\",I200,\"\")","v":""},{"$f":"IF(V200=\"\",\"\",COUNTIF($V$7:V200,\"該当３\"))","v":""}]
[1920403002,19,{"v":204,"d":"204 "},{"v":3,"d":"03 "},{"v":2,"d":"002 "},"山梨県","都留市","禾生村","古川渡",null,{"$f":"IF(AND($C201>0,$H201=\"\"),\"ﾘｽﾄ１\",\"\")","v":""},{"$f":"IF(K201=\"ﾘｽﾄ１\",G201,\"\")","v":""},{"$f":"IF(K201=\"\",\"\",COUNTIF($K$7:K201,\"ﾘｽﾄ１\"))","v":""},{"$f":"IF(AND(D201=0,E201>0),\"同一区\",\"\")","v":""},{"$f":"IF(AND(EXACT($K$2,G201),H201>0),\"該当１\",\"\")","v":""},"","","",{"$f":"IF(AND(Q201=\"ﾘｽﾄ2\",OR(I201=0,AND(N201=\"同一区\",E201=1))),\"該当２\",\"\")","v":""},"",{"$f":"IF(S201=\"\",\"\",COUNTIF($S$7:S201,\"該当２\"))","v":""},"","",{"$f":"IF(V201=\"\",\"\",COUNTIF($V$7:V201,\"該当３\"))","v":""}]
[1920403003,19,{"v":204,"d":"204 "},{"v":3,"d":"03 "},{"v":3,"d":"003 "},"山梨県","都留市","禾生村","川茂",null,"","",{"$f":"IF(K202=\"\",\"\",COUNTIF($K$7:K202,\"ﾘｽﾄ１\"))","v":""},"","","","","","","",{"$f":"IF(S202=\"\",\"\",COUNTIF($S$7:S202,\"該当２\"))","v":""},"","",{"$f":"IF(V202=\"\",\"\",COUNTIF($V$7:V202,\"該当３\"))","v":""}]
[1920403004,19,{"v":204,"d":"204 "},{"v":3,"d":"03 "},{"v":4,"d":"004 "},"山梨県","都留市","禾生村","古宿",null,"","",{"$f":"IF(K203=\"\",\"\",COUNTIF($K$7:K203,\"ﾘｽﾄ１\"))","v":""},"","","","","","","",{"$f":"IF(S203=\"\",\"\",COUNTIF($S$7:S203,\"該当２\"))","v":""},"","",{"$f":"IF(V203=\"\",\"\",COUNTIF($V$7:V203,\"該当３\"))","v":""}]
[1920403005,19,{"v":204,"d":"204 "},{"v":3,"d":"03 "},{"v":5,"d":"005 "},"山梨県","都留市","禾生村","小形山",null,"","",{"$f":"IF(K204=\"\",\"\",COUNTIF($K$7:K204,\"ﾘｽﾄ１\"))","v":""},"","","","","","","",{"$f":"IF(S204=\"\",\"\",COUNTIF($S$7:S204,\"該当２\"))","v":""},"","",{"$f":"IF(V204=\"\",\"\",COUNTIF($V$7:V204,\"該当３\"))","v":""}]
[1920403006,19,{"v":204,"d":"204 "},{"v":3,"d":"03 "},{"v":6,"d":"006 "},"山梨県","都留市","禾生村","宿",null,"","",{"$f":"IF(K205=\"\",\"\",COUNTIF($K$7:K205,\"ﾘｽﾄ１\"))","v":""},"","","","","","","",{"$f":"IF(S205=\"\",\"\",COUNTIF($S$7:S205,\"該当２\"))","v":""},"","",{"$f":"IF(V205=\"\",\"\",COUNTIF($V$7:V205,\"該当３\"))","v":""}]
[1920403007,19,{"v":204,"d":"204 "},{"v":3,"d":"03 "},{"v":7,"d":"007 "},"山梨県","都留市","禾生村","門前",null,"","",{"$f":"IF(K206=\"\",\"\",COUNTIF($K$7:K206,\"ﾘｽﾄ１\"))","v":""},"","","","","","","",{"$f":"IF(S206=\"\",\"\",COUNTIF($S$7:S206,\"該当２\"))","v":""},"","",{"$f":"IF(V206=\"\",\"\",COUNTIF($V$7:V206,\"該当３\"))","v":""}]
[1920403008,19,{"v":204,"d":"204 "},{"v":3,"d":"03 "},{"v":8,"d":"008 "},"山梨県","都留市","禾生村","井倉",null,"","",{"$f":"IF(K207=\"\",\"\",COUNTIF($K$7:K207,\"ﾘｽﾄ１\"))","v":""},"","","","","","","",{"$f":"IF(S207=\"\",\"\",COUNTIF($S$7:S207,\"該当２\"))","v":""},"","",{"$f":"IF(V207=\"\",\"\",COUNTIF($V$7:V207,\"該当３\"))","v":""}]
[1920403009,19,{"v":204,"d":"204 "},{"v":3,"d":"03 "},{"v":9,"d":"009 "},"山梨県","都留市","禾生村","九鬼",null,"","",{"$f":"IF(K208=\"\",\"\",COUNTIF($K$7:K208,\"ﾘｽﾄ１\"))","v":""},"","","","","","","",{"$f":"IF(S208=\"\",\"\",COUNTIF($S$7:S208,\"該当２\"))","v":""},"","",{"$f":"IF(V208=\"\",\"\",COUNTIF($V$7:V208,\"該当３\"))","v":""}]
[1920404000,19,{"v":204,"d":"204 "},{"v":4,"d":"04 "},{"v":0,"d":"000 "},"山梨県","都留市","盛里村",null,null,"","",{"$f":"IF(K209=\"\",\"\",COUNTIF($K$7:K209,\"ﾘｽﾄ１\"))","v":""},"","","","","","","",{"$f":"IF(S209=\"\",\"\",COUNTIF($S$7:S209,\"該当２\"))","v":""},"","",{"$f":"IF(V209=\"\",\"\",COUNTIF($V$7:V209,\"該当３\"))","v":""}]
[1920404001,19,{"v":204,"d":"204 "},{"v":4,"d":"04 "},{"v":1,"d":"001 "},"山梨県","都留市","盛里村","与繩",null,"","",{"$f":"IF(K210=\"\",\"\",COUNTIF($K$7:K210,\"ﾘｽﾄ１\"))","v":""},"","","","","","","",{"$f":"IF(S210=\"\",\"\",COUNTIF($S$7:S210,\"該当２\"))","v":""},"","",{"$f":"IF(V210=\"\",\"\",COUNTIF($V$7:V210,\"該当３\"))","v":""}]
[1920404002,19,{"v":204,"d":"204 "},{"v":4,"d":"04 "},{"v":2,"d":"002 "},"山梨県","都留市","盛里村","馬場",null,"","",{"$f":"IF(K211=\"\",\"\",COUNTIF($K$7:K211,\"ﾘｽﾄ１\"))","v":""},"","","","","","","",{"$f":"IF(S211=\"\",\"\",COUNTIF($S$7:S211,\"該当２\"))","v":""},"","",{"$f":"IF(V211=\"\",\"\",COUNTIF($V$7:V211,\"該当３\"))","v":""}]
[1920404003,19,{"v":204,"d":"204 "},{"v":4,"d":"04 "},{"v":3,"d":"003 "},"山梨県","都留市","盛里村","神門，久保",null,"","",{"$f":"IF(K212=\"\",\"\",COUNTIF($K$7:K212,\"ﾘｽﾄ１\"))","v":""},"","","","","","","",{"$f":"IF(S212=\"\",\"\",COUNTIF($S$7:S212,\"該当２\"))","v":""},"","",{"$f":"IF(V212=\"\",\"\",COUNTIF($V$7:V212,\"該当３\"))","v":""}]
[1920404004,19,{"v":204,"d":"204 "},{"v":4,"d":"04 "},{"v":4,"d":"004 "},"山梨県","都留市","盛里村","曽雌",null,"","",{"$f":"IF(K213=\"\",\"\",COUNTIF($K$7:K213,\"ﾘｽﾄ１\"))","v":""},"","","","","","","",{"$f":"IF(S213=\"\",\"\",COUNTIF($S$7:S213,\"該当２\"))","v":""},"","",{"$f":"IF(V213=\"\",\"\",COUNTIF($V$7:V213,\"該当３\"))","v":""}]
[1920404005,19,{"v":204,"d":"204 "},{"v":4,"d":"04 "},{"v":5,"d":"005 "},"山梨県","都留市","盛里村","大平",null,"","",{"$f":"IF(K214=\"\",\"\",COUNTIF($K$7:K214,\"ﾘｽﾄ１\"))","v":""},"","","","","","","",{"$f":"IF(S214=\"\",\"\",COUNTIF($S$7:S214,\"該当２\"))","v":""},"","",{"$f":"IF(V214=\"\",\"\",COUNTIF($V$7:V214,\"該当３\"))","v":""}]
[1920405000,19,{"v":204,"d":"204 "},{"v":5,"d":"05 "},{"v":0,"d":"000 "},"山梨県","都留市","東桂村",null,null,"","",{"$f":"IF(K215=\"\",\"\",COUNTIF($K$7:K215,\"ﾘｽﾄ１\"))","v":""},"","","","","","","",{"$f":"IF(S215=\"\",\"\",COUNTIF($S$7:S215,\"該当２\"))","v":""},"","",{"$f":"IF(V215=\"\",\"\",COUNTIF($V$7:V215,\"該当３\"))","v":""}]
[1920405001,19,{"v":204,"d":"204 "},{"v":5,"d":"05 "},{"v":1,"d":"001 "},"山梨県","都留市","東桂村","十日市場",null,"","",{"$f":"IF(K216=\"\",\"\",COUNTIF($K$7:K216,\"ﾘｽﾄ１\"))","v":""},"","","","","","","",{"$f":"IF(S216=\"\",\"\",COUNTIF($S$7:S216,\"該当２\"))","v":""},"","",{"$f":"IF(V216=\"\",\"\",COUNTIF($V$7:V216,\"該当３\"))","v":""}]
[1920405002,19,{"v":204,"d":"204 "},{"v":5,"d":"05 "},{"v":2,"d":"002 "},"山梨県","都留市","東桂村","下夏狩",null,"","",{"$f":"IF(K217=\"\",\"\",COUNTIF($K$7:K217,\"ﾘｽﾄ１\"))","v":""},"","","","","","","",{"$f":"IF(S217=\"\",\"\",COUNTIF($S$7:S217,\"該当２\"))","v":""},"","",{"$f":"IF(V217=\"\",\"\",COUNTIF($V$7:V217,\"該当３\"))","v":""}]
[1920405003,19,{"v":204,"d":"204 "},{"v":5,"d":"05 "},{"v":3,"d":"003 "},"山梨県","都留市","東桂村","上夏狩",null,"","",{"$f":"IF(K218=\"\",\"\",COUNTIF($K$7:K218,\"ﾘｽﾄ１\"))","v":""},"","","","","","","",{"$f":"IF(S218=\"\",\"\",COUNTIF($S$7:S218,\"該当２\"))","v":""},"","",{"$f":"IF(V218=\"\",\"\",COUNTIF($V$7:V218,\"該当３\"))","v":""}]
[1920405004,19,{"v":204,"d":"204 "},{"v":5,"d":"05 "},{"v":4,"d":"004 "},"山梨県","都留市","東桂村","桂町",null,"","",{"$f":"IF(K219=\"\",\"\",COUNTIF($K$7:K219,\"ﾘｽﾄ１\"))","v":""},"","","","","","","",{"$f":"IF(S219=\"\",\"\",COUNTIF($S$7:S219,\"該当２\"))","v":""},"","",{"$f":"IF(V219=\"\",\"\",COUNTIF($V$7:V219,\"該当３\"))","v":""}]
[1920405005,19,{"v":204,"d":"204 "},{"v":5,"d":"05 "},{"v":5,"d":"005 "},"山梨県","都留市","東桂村","古渡",null,"","",{"$f":"IF(K220=\"\",\"\",COUNTIF($K$7:K220,\"ﾘｽﾄ１\"))","v":""},"","","","","","","",{"$f":"IF(S220=\"\",\"\",COUNTIF($S$7:S220,\"該当２\"))","v":""},"","",{"$f":"IF(V220=\"\",\"\",COUNTIF($V$7:V220,\"該当３\"))","v":""}]
[1920405006,19,{"v":204,"d":"204 "},{"v":5,"d":"05 "},{"v":6,"d":"006 "},"山梨県","都留市","東桂村","沖",null,"","",{"$f":"IF(K221=\"\",\"\",COUNTIF($K$7:K221,\"ﾘｽﾄ１\"))","v":""},"","","","","","","",{"$f":"IF(S221=\"\",\"\",COUNTIF($S$7:S221,\"該当２\"))","v":""},"","",{"$f":"IF(V221=\"\",\"\",COUNTIF($V$7:V221,\"該当３\"))","v":""}]
[1920405007,19,{"v":204,"d":"204 "},{"v":5,"d":"05 "},{"v":7,"d":"007 "},"山梨県","都留市","東桂村","宮下",null,"","",{"$f":"IF(K222=\"\",\"\",COUNTIF($K$7:K222,\"ﾘｽﾄ１\"))","v":""},"","","","","","","",{"$f":"IF(S222=\"\",\"\",COUNTIF($S$7:S222,\"該当２\"))","v":""},"","",{"$f":"IF(V222=\"\",\"\",COUNTIF($V$7:V222,\"該当３\"))","v":""}]
[1920405008,19,{"v":204,"d":"204 "},{"v":5,"d":"05 "},{"v":8,"d":"008 "},"山梨県","都留市","東桂村","境",null,"","",{"$f":"IF(K223=\"\",\"\",COUNTIF($K$7:K223,\"ﾘｽﾄ１\"))","v":""},"","","","","","","",{"$f":"IF(S223=\"\",\"\",COUNTIF($S$7:S223,\"該当２\"))","v":""},"","",{"$f":"IF(V223=\"\",\"\",COUNTIF($V$7:V223,\"該当３\"))","v":""}]
[1920500000,19,{"v":205,"d":"205 "},{"v":0,"d":"00 "},{"v":0,"d":"000 "},"山梨県","山梨市",{"$nulls":3},"ﾘｽﾄ１","山梨市",{"$f":"IF(K224=\"\",\"\",COUNTIF($K$7:K224,\"ﾘｽﾄ１\"))","v":4},"","","","","","","",{"$f":"IF(S224=\"\",\"\",COUNTIF($S$7:S224,\"該当２\"))","v":""},"","",{"$f":"IF(V224=\"\",\"\",COUNTIF($V$7:V224,\"該当３\"))","v":""}]
[1920501000,19,{"v":205,"d":"205 "},{"v":1,"d":"01 "},{"v":0,"d":"000 "},"山梨県","山梨市","加納岩町",null,null,"","",{"$f":"IF(K225=\"\",\"\",COUNTIF($K$7:K225,\"ﾘｽﾄ１\"))","v":""},"","","","","","","",{"$f":"IF(S225=\"\",\"\",COUNTIF($S$7:S225,\"該当２\"))","v":""},"","",{"$f":"IF(V225=\"\",\"\",COUNTIF($V$7:V225,\"該当３\"))","v":""}]
[1920501001,19,{"v":205,"d":"205 "},{"v":1,"d":"01 "},{"v":1,"d":"001 "},"山梨県","山梨市","加納岩町","大野",null,"","",{"$f":"IF(K226=\"\",\"\",COUNTIF($K$7:K226,\"ﾘｽﾄ１\"))","v":""},"","","","","","","",{"$f":"IF(S226=\"\",\"\",COUNTIF($S$7:S226,\"該当２\"))","v":""},"","",{"$f":"IF(V226=\"\",\"\",COUNTIF($V$7:V226,\"該当３\"))","v":""}]
[1920501002,19,{"v":205,"d":"205 "},{"v":1,"d":"01 "},{"v":2,"d":"002 "},"山梨県","山梨市","加納岩町","下神内川",null,"","",{"$f":"IF(K227=\"\",\"\",COUNTIF($K$7:K227,\"ﾘｽﾄ１\"))","v":""},"","","","","","","",{"$f":"IF(S227=\"\",\"\",COUNTIF($S$7:S227,\"該当２\"))","v":""},"","",{"$f":"IF(V227=\"\",\"\",COUNTIF($V$7:V227,\"該当３\"))","v":""}]
[1920501003,19,{"v":205,"d":"205 "},{"v":1,"d":"01 "},{"v":3,"d":"003 "},"山梨県","山梨市","加納岩町","上神内川",null,"","",{"$f":"IF(K228=\"\",\"\",COUNTIF($K$7:K228,\"ﾘｽﾄ１\"))","v":""},"","","","","","","",{"$f":"IF(S228=\"\",\"\",COUNTIF($S$7:S228,\"該当２\"))","v":""},"","",{"$f":"IF(V228=\"\",\"\",COUNTIF($V$7:V228,\"該当３\"))","v":""}]
[1920501004,19,{"v":205,"d":"205 "},{"v":1,"d":"01 "},{"v":4,"d":"004 "},"山梨県","山梨市","加納岩町","上石森",null,"","",{"$f":"IF(K229=\"\",\"\",COUNTIF($K$7:K229,\"ﾘｽﾄ１\"))","v":""},"","","","","","","",{"$f":"IF(S229=\"\",\"\",COUNTIF($S$7:S229,\"該当２\"))","v":""},"","",{"$f":"IF(V229=\"\",\"\",COUNTIF($V$7:V229,\"該当３\"))","v":""}]
[1920501005,19,{"v":205,"d":"205 "},{"v":1,"d":"01 "},{"v":5,"d":"005 "},"山梨県","山梨市","加納岩町","下石森",null,"","",{"$f":"IF(K230=\"\",\"\",COUNTIF($K$7:K230,\"ﾘｽﾄ１\"))","v":""},"","","","","","","",{"$f":"IF(S230=\"\",\"\",COUNTIF($S$7:S230,\"該当２\"))","v":""},"","",{"$f":"IF(V230=\"\",\"\",COUNTIF($V$7:V230,\"該当３\"))","v":""}]
[1920502000,19,{"v":205,"d":"205 "},{"v":2,"d":"02 "},{"v":0,"d":"000 "},"山梨県","山梨市","日下部町",null,null,"","",{"$f":"IF(K231=\"\",\"\",COUNTIF($K$7:K231,\"ﾘｽﾄ１\"))","v":""},"","","","","","","",{"$f":"IF(S231=\"\",\"\",COUNTIF($S$7:S231,\"該当２\"))","v":""},"","",{"$f":"IF(V231=\"\",\"\",COUNTIF($V$7:V231,\"該当３\"))","v":""}]
[1920502001,19,{"v":205,"d":"205 "},{"v":2,"d":"02 "},{"v":1,"d":"001 "},"山梨県","山梨市","日下部町","小原西",null,"","",{"$f":"IF(K232=\"\",\"\",COUNTIF($K$7:K232,\"ﾘｽﾄ１\"))","v":""},"","","","","","","",{"$f":"IF(S232=\"\",\"\",COUNTIF($S$7:S232,\"該当２\"))","v":""},"","",{"$f":"IF(V232=\"\",\"\",COUNTIF($V$7:V232,\"該当３\"))","v":""}]
[1920502002,19,{"v":205,"d":"205 "},{"v":2,"d":"02 "},{"v":2,"d":"002 "},"山梨県","山梨市","日下部町","小原東",null,"","",{"$f":"IF(K233=\"\",\"\",COUNTIF($K$7:K233,\"ﾘｽﾄ１\"))","v":""},"","","","","","","",{"$f":"IF(S233=\"\",\"\",COUNTIF($S$7:S233,\"該当２\"))","v":""},"","",{"$f":"IF(V233=\"\",\"\",COUNTIF($V$7:V233,\"該当３\"))","v":""}]
[1920502003,19,{"v":205,"d":"205 "},{"v":2,"d":"02 "},{"v":3,"d":"003 "},"山梨県","山梨市","日下部町","七日市場",null,"","",{"$f":"IF(K234=\"\",\"\",COUNTIF($K$7:K234,\"ﾘｽﾄ１\"))","v":""},"","","","","","","",{"$f":"IF(S234=\"\",\"\",COUNTIF($S$7:S234,\"該当２\"))","v":""},"","",{"$f":"IF(V234=\"\",\"\",COUNTIF($V$7:V234,\"該当３\"))","v":""}]
[1920502004,19,{"v":205,"d":"205 "},{"v":2,"d":"02 "},{"v":4,"d":"004 "},"山梨県","山梨市","日下部町","下井尻",null,"","",{"$f":"IF(K235=\"\",\"\",COUNTIF($K$7:K235,\"ﾘｽﾄ１\"))","v":""},"","","","","","","",{"$f":"IF(S235=\"\",\"\",COUNTIF($S$7:S235,\"該当２\"))","v":""},"","",{"$f":"IF(V235=\"\",\"\",COUNTIF($V$7:V235,\"該当３\"))","v":""}]
[1920503000,19,{"v":205,"d":"205 "},{"v":3,"d":"03 "},{"v":0,"d":"000 "},"山梨県","山梨市","山梨村",null,null,"","",{"$f":"IF(K236=\"\",\"\",COUNTIF($K$7:K236,\"ﾘｽﾄ１\"))","v":""},"","","","","","","",{"$f":"IF(S236=\"\",\"\",COUNTIF($S$7:S236,\"該当２\"))","v":""},"","",{"$f":"IF(V236=\"\",\"\",COUNTIF($V$7:V236,\"該当３\"))","v":""}]
[1920503001,19,{"v":205,"d":"205 "},{"v":3,"d":"03 "},{"v":1,"d":"001 "},"山梨県","山梨市","山梨村","正徳寺",null,"","",{"$f":"IF(K237=\"\",\"\",COUNTIF($K$7:K237,\"ﾘｽﾄ１\"))","v":""},"","","","","","","",{"$f":"IF(S237=\"\",\"\",COUNTIF($S$7:S237,\"該当２\"))","v":""},"","",{"$f":"IF(V237=\"\",\"\",COUNTIF($V$7:V237,\"該当３\"))","v":""}]
[1920503002,19,{"v":205,"d":"205 "},{"v":3,"d":"03 "},{"v":2,"d":"002 "},"山梨県","山梨市","山梨村","落合",null,"","",{"$f":"IF(K238=\"\",\"\",COUNTIF($K$7:K238,\"ﾘｽﾄ１\"))","v":""},"","","","","","","",{"$f":"IF(S238=\"\",\"\",COUNTIF($S$7:S238,\"該当２\"))","v":""},"","",{"$f":"IF(V238=\"\",\"\",COUNTIF($V$7:V238,\"該当３\"))","v":""}]
[1920503003,19,{"v":205,"d":"205 "},{"v":3,"d":"03 "},{"v":3,"d":"003 "},"山梨県","山梨市","山梨村","小田屋",null,"","",{"$f":"IF(K239=\"\",\"\",COUNTIF($K$7:K239,\"ﾘｽﾄ１\"))","v":""},"","","","","","","",{"$f":"IF(S239=\"\",\"\",COUNTIF($S$7:S239,\"該当２\"))","v":""},"","",{"$f":"IF(V239=\"\",\"\",COUNTIF($V$7:V239,\"該当３\"))","v":""}]
[1920503004,19,{"v":205,"d":"205 "},{"v":3,"d":"03 "},{"v":4,"d":"004 "},"山梨県","山梨市","山梨村","上岩下",null,"","",{"$f":"IF(K240=\"\",\"\",COUNTIF($K$7:K240,\"ﾘｽﾄ１\"))","v":""},"","","","","","","",{"$f":"IF(S240=\"\",\"\",COUNTIF($S$7:S240,\"該当２\"))","v":""},"","",{"$f":"IF(V240=\"\",\"\",COUNTIF($V$7:V240,\"該当３\"))","v":""}]
[1920503005,19,{"v":205,"d":"205 "},{"v":3,"d":"03 "},{"v":5,"d":"005 "},"山梨県","山梨市","山梨村","山根",null,"","",{"$f":"IF(K241=\"\",\"\",COUNTIF($K$7:K241,\"ﾘｽﾄ１\"))","v":""},"","","","","","","",{"$f":"IF(S241=\"\",\"\",COUNTIF($S$7:S241,\"該当２\"))","v":""},"","",{"$f":"IF(V241=\"\",\"\",COUNTIF($V$7:V241,\"該当３\"))","v":""}]
[1920503006,19,{"v":205,"d":"205 "},{"v":3,"d":"03 "},{"v":6,"d":"006 "},"山梨県","山梨市","山梨村","矢坪",null,"","",{"$f":"IF(K242=\"\",\"\",COUNTIF($K$7:K242,\"ﾘｽﾄ１\"))","v":""},"","","","","","","",{"$f":"IF(S242=\"\",\"\",COUNTIF($S$7:S242,\"該当２\"))","v":""},"","",{"$f":"IF(V242=\"\",\"\",COUNTIF($V$7:V242,\"該当３\"))","v":""}]
[1920503007,19,{"v":205,"d":"205 "},{"v":3,"d":"03 "},{"v":7,"d":"007 "},"山梨県","山梨市","山梨村","万力一区",null,"","",{"$f":"IF(K243=\"\",\"\",COUNTIF($K$7:K243,\"ﾘｽﾄ１\"))","v":""},"","","","","","","",{"$f":"IF(S243=\"\",\"\",COUNTIF($S$7:S243,\"該当２\"))","v":""},"","",{"$f":"IF(V243=\"\",\"\",COUNTIF($V$7:V243,\"該当３\"))","v":""}]
[1920503008,19,{"v":205,"d":"205 "},{"v":3,"d":"03 "},{"v":8,"d":"008 "},"山梨県","山梨市","山梨村","万力二区",null,"","",{"$f":"IF(K244=\"\",\"\",COUNTIF($K$7:K244,\"ﾘｽﾄ１\"))","v":""},"","","","","","","",{"$f":"IF(S244=\"\",\"\",COUNTIF($S$7:S244,\"該当２\"))","v":""},"","",{"$f":"IF(V244=\"\",\"\",COUNTIF($V$7:V244,\"該当３\"))","v":""}]
[1920503009,19,{"v":205,"d":"205 "},{"v":3,"d":"03 "},{"v":9,"d":"009 "},"山梨県","山梨市","山梨村","万力三区",null,"","",{"$f":"IF(K245=\"\",\"\",COUNTIF($K$7:K245,\"ﾘｽﾄ１\"))","v":""},"","","","","","","",{"$f":"IF(S245=\"\",\"\",COUNTIF($S$7:S245,\"該当２\"))","v":""},"","",{"$f":"IF(V245=\"\",\"\",COUNTIF($V$7:V245,\"該当３\"))","v":""}]
[1920504000,19,{"v":205,"d":"205 "},{"v":4,"d":"04 "},{"v":0,"d":"000 "},"山梨県","山梨市","八幡村",null,null,"","",{"$f":"IF(K246=\"\",\"\",COUNTIF($K$7:K246,\"ﾘｽﾄ１\"))","v":""},"","","","","","","",{"$f":"IF(S246=\"\",\"\",COUNTIF($S$7:S246,\"該当２\"))","v":""},"","",{"$f":"IF(V246=\"\",\"\",COUNTIF($V$7:V246,\"該当３\"))","v":""}]
[1920504001,19,{"v":205,"d":"205 "},{"v":4,"d":"04 "},{"v":1,"d":"001 "},"山梨県","山梨市","八幡村","南",null,"","",{"$f":"IF(K247=\"\",\"\",COUNTIF($K$7:K247,\"ﾘｽﾄ１\"))","v":""},"","","","","","","",{"$f":"IF(S247=\"\",\"\",COUNTIF($S$7:S247,\"該当２\"))","v":""},"","",{"$f":"IF(V247=\"\",\"\",COUNTIF($V$7:V247,\"該当３\"))","v":""}]
[1920504002,19,{"v":205,"d":"205 "},{"v":4,"d":"04 "},{"v":2,"d":"002 "},"山梨県","山梨市","八幡村","北",null,"","",{"$f":"IF(K248=\"\",\"\",COUNTIF($K$7:K248,\"ﾘｽﾄ１\"))","v":""},"","","","","","","",{"$f":"IF(S248=\"\",\"\",COUNTIF($S$7:S248,\"該当２\"))","v":""},"","",{"$f":"IF(V248=\"\",\"\",COUNTIF($V$7:V248,\"該当３\"))","v":""}]
[1920504003,19,{"v":205,"d":"205 "},{"v":4,"d":"04 "},{"v":3,"d":"003 "},"山梨県","山梨市","八幡村","市川",null,"","",{"$f":"IF(K249=\"\",\"\",COUNTIF($K$7:K249,\"ﾘｽﾄ１\"))","v":""},"","","","","","","",{"$f":"IF(S249=\"\",\"\",COUNTIF($S$7:S249,\"該当２\"))","v":""},"","",{"$f":"IF(V249=\"\",\"\",COUNTIF($V$7:V249,\"該当３\"))","v":""}]
[1920504004,19,{"v":205,"d":"205 "},{"v":4,"d":"04 "},{"v":4,"d":"004 "},"山梨県","山梨市","八幡村","江曽原",null,"","",{"$f":"IF(K250=\"\",\"\",COUNTIF($K$7:K250,\"ﾘｽﾄ１\"))","v":""},"","","","","","","",{"$f":"IF(S250=\"\",\"\",COUNTIF($S$7:S250,\"該当２\"))","v":""},"","",{"$f":"IF(V250=\"\",\"\",COUNTIF($V$7:V250,\"該当３\"))","v":""}]
[1920504005,19,{"v":205,"d":"205 "},{"v":4,"d":"04 "},{"v":5,"d":"005 "},"山梨県","山梨市","八幡村","大工",null,"","",{"$f":"IF(K251=\"\",\"\",COUNTIF($K$7:K251,\"ﾘｽﾄ１\"))","v":""},"","","","","","","",{"$f":"IF(S251=\"\",\"\",COUNTIF($S$7:S251,\"該当２\"))","v":""},"","",{"$f":"IF(V251=\"\",\"\",COUNTIF($V$7:V251,\"該当３\"))","v":""}]
[1920504006,19,{"v":205,"d":"205 "},{"v":4,"d":"04 "},{"v":6,"d":"006 "},"山梨県","山梨市","八幡村","堀内",null,"","",{"$f":"IF(K252=\"\",\"\",COUNTIF($K$7:K252,\"ﾘｽﾄ１\"))","v":""},"","","","","","","",{"$f":"IF(S252=\"\",\"\",COUNTIF($S$7:S252,\"該当２\"))","v":""},"","",{"$f":"IF(V252=\"\",\"\",COUNTIF($V$7:V252,\"該当３\"))","v":""}]
[1920504007,19,{"v":205,"d":"205 "},{"v":4,"d":"04 "},{"v":7,"d":"007 "},"山梨県","山梨市","八幡村","水口",null,"","",{"$f":"IF(K253=\"\",\"\",COUNTIF($K$7:K253,\"ﾘｽﾄ１\"))","v":""},"","","","","","","",{"$f":"IF(S253=\"\",\"\",COUNTIF($S$7:S253,\"該当２\"))","v":""},"","",{"$f":"IF(V253=\"\",\"\",COUNTIF($V$7:V253,\"該当３\"))","v":""}]
[1920504008,19,{"v":205,"d":"205 "},{"v":4,"d":"04 "},{"v":8,"d":"008 "},"山梨県","山梨市","八幡村","切差",null,"","",{"$f":"IF(K254=\"\",\"\",COUNTIF($K$7:K254,\"ﾘｽﾄ１\"))","v":""},"","","","","","","",{"$f":"IF(S254=\"\",\"\",COUNTIF($S$7:S254,\"該当２\"))","v":""},"","",{"$f":"IF(V254=\"\",\"\",COUNTIF($V$7:V254,\"該当３\"))","v":""}]
[1920505000,19,{"v":205,"d":"205 "},{"v":5,"d":"05 "},{"v":0,"d":"000 "},"山梨県","山梨市","岩手村",null,null,"","",{"$f":"IF(K255=\"\",\"\",COUNTIF($K$7:K255,\"ﾘｽﾄ１\"))","v":""},"","","","","","","",{"$f":"IF(S255=\"\",\"\",COUNTIF($S$7:S255,\"該当２\"))","v":""},"","",{"$f":"IF(V255=\"\",\"\",COUNTIF($V$7:V255,\"該当３\"))","v":""}]
[1920505001,19,{"v":205,"d":"205 "},{"v":5,"d":"05 "},{"v":1,"d":"001 "},"山梨県","山梨市","岩手村","久保",null,"","",{"$f":"IF(K256=\"\",\"\",COUNTIF($K$7:K256,\"ﾘｽﾄ１\"))","v":""},"","","","","","","",{"$f":"IF(S256=\"\",\"\",COUNTIF($S$7:S256,\"該当２\"))","v":""},"","",{"$f":"IF(V256=\"\",\"\",COUNTIF($V$7:V256,\"該当３\"))","v":""}]
[1920505002,19,{"v":205,"d":"205 "},{"v":5,"d":"05 "},{"v":2,"d":"002 "},"山梨県","山梨市","岩手村","紺屋",null,"","",{"$f":"IF(K257=\"\",\"\",COUNTIF($K$7:K257,\"ﾘｽﾄ１\"))","v":""},"","","","","","","",{"$f":"IF(S257=\"\",\"\",COUNTIF($S$7:S257,\"該当２\"))","v":""},"","",{"$f":"IF(V257=\"\",\"\",COUNTIF($V$7:V257,\"該当３\"))","v":""}]
[1920505003,19,{"v":205,"d":"205 "},{"v":5,"d":"05 "},{"v":3,"d":"003 "},"山梨県","山梨市","岩手村","西",null,"","",{"$f":"IF(K258=\"\",\"\",COUNTIF($K$7:K258,\"ﾘｽﾄ１\"))","v":""},"","","","","","","",{"$f":"IF(S258=\"\",\"\",COUNTIF($S$7:S258,\"該当２\"))","v":""},"","",{"$f":"IF(V258=\"\",\"\",COUNTIF($V$7:V258,\"該当３\"))","v":""}]
[1920506000,19,{"v":205,"d":"205 "},{"v":6,"d":"06 "},{"v":0,"d":"000 "},"山梨県","山梨市","後屋敷村",null,null,"","",{"$f":"IF(K259=\"\",\"\",COUNTIF($K$7:K259,\"ﾘｽﾄ１\"))","v":""},"","","","","","","",{"$f":"IF(S259=\"\",\"\",COUNTIF($S$7:S259,\"該当２\"))","v":""},"","",{"$f":"IF(V259=\"\",\"\",COUNTIF($V$7:V259,\"該当３\"))","v":""}]
[1920506001,19,{"v":205,"d":"205 "},{"v":6,"d":"06 "},{"v":1,"d":"001 "},"山梨県","山梨市","後屋敷村","鴨居寺",null,"","",{"$f":"IF(K260=\"\",\"\",COUNTIF($K$7:K260,\"ﾘｽﾄ１\"))","v":""},"","","","","","","",{"$f":"IF(S260=\"\",\"\",COUNTIF($S$7:S260,\"該当２\"))","v":""},"","",{"$f":"IF(V260=\"\",\"\",COUNTIF($V$7:V260,\"該当３\"))","v":""}]
[1920506002,19,{"v":205,"d":"205 "},{"v":6,"d":"06 "},{"v":2,"d":"002 "},"山梨県","山梨市","後屋敷村","東後屋敷",null,"","",{"$f":"IF(K261=\"\",\"\",COUNTIF($K$7:K261,\"ﾘｽﾄ１\"))","v":""},"","","","","","","",{"$f":"IF(S261=\"\",\"\",COUNTIF($S$7:S261,\"該当２\"))","v":""},"","",{"$f":"IF(V261=\"\",\"\",COUNTIF($V$7:V261,\"該当３\"))","v":""}]
[1920506003,19,{"v":205,"d":"205 "},{"v":6,"d":"06 "},{"v":3,"d":"003 "},"山梨県","山梨市","後屋敷村","三ケ所",null,"","",{"$f":"IF(K262=\"\",\"\",COUNTIF($K$7:K262,\"ﾘｽﾄ１\"))","v":""},"","","","","","","",{"$f":"IF(S262=\"\",\"\",COUNTIF($S$7:S262,\"該当２\"))","v":""},"","",{"$f":"IF(V262=\"\",\"\",COUNTIF($V$7:V262,\"該当３\"))","v":""}]
[1920506004,19,{"v":205,"d":"205 "},{"v":6,"d":"06 "},{"v":4,"d":"004 "},"山梨県","山梨市","後屋敷村","西後屋敷",null,"","",{"$f":"IF(K263=\"\",\"\",COUNTIF($K$7:K263,\"ﾘｽﾄ１\"))","v":""},"","","","","","","",{"$f":"IF(S263=\"\",\"\",COUNTIF($S$7:S263,\"該当２\"))","v":""},"","",{"$f":"IF(V263=\"\",\"\",COUNTIF($V$7:V263,\"該当３\"))","v":""}]
[1920507000,19,{"v":205,"d":"205 "},{"v":7,"d":"07 "},{"v":0,"d":"000 "},"山梨県","山梨市","日川村",null,null,"","",{"$f":"IF(K264=\"\",\"\",COUNTIF($K$7:K264,\"ﾘｽﾄ１\"))","v":""},"","",{"$f":"IF(O264=\"該当１\",G264,\"\")","v":""},{"$f":"IF(O264=\"該当１\",\"ﾘｽﾄ2\",\"\")","v":""},{"$f":"IF(Q264=\"ﾘｽﾄ2\",H264,\"\")","v":""},"",{"$f":"IF(S264=\"該当２\",H264,\"\")","v":""},{"$f":"IF(S264=\"\",\"\",COUNTIF($S$7:S264,\"該当２\"))","v":""},{"$f":"IF(AND($S$2=H264,E264>0,E264<998),\"該当３\",\"\")","v":""},{"$f":"IF(V264=\"該当３\",I264,\"\")","v":""},{"$f":"IF(V264=\"\",\"\",COUNTIF($V$7:V264,\"該当３\"))","v":""}]
[1920507001,19,{"v":205,"d":"205 "},{"v":7,"d":"07 "},{"v":1,"d":"001 "},"山梨県","山梨市","日川村","一町田中",null,{"$f":"IF(AND($C265>0,$H265=\"\"),\"ﾘｽﾄ１\",\"\")","v":""},{"$f":"IF(K265=\"ﾘｽﾄ１\",G265,\"\")","v":""},{"$f":"IF(K265=\"\",\"\",COUNTIF($K$7:K265,\"ﾘｽﾄ１\"))","v":""},{"$f":"IF(AND(D265=0,E265>0),\"同一区\",\"\")","v":""},{"$f":"IF(AND(EXACT($K$2,G265),H265>0),\"該当１\",\"\")","v":""},"","","",{"$f":"IF(AND(Q265=\"ﾘｽﾄ2\",OR(I265=0,AND(N265=\"同一区\",E265=1))),\"該当２\",\"\")","v":""},"",{"$f":"IF(S265=\"\",\"\",COUNTIF($S$7:S265,\"該当２\"))","v":""},"","",{"$f":"IF(V265=\"\",\"\",COUNTIF($V$7:V265,\"該当３\"))","v":""}]
[1920507002,19,{"v":205,"d":"205 "},{"v":7,"d":"07 "},{"v":2,"d":"002 "},"山梨県","山梨市","日川村","歌田",null,"","",{"$f":"IF(K266=\"\",\"\",COUNTIF($K$7:K266,\"ﾘｽﾄ１\"))","v":""},"","","","","","","",{"$f":"IF(S266=\"\",\"\",COUNTIF($S$7:S266,\"該当２\"))","v":""},"","",{"$f":"IF(V266=\"\",\"\",COUNTIF($V$7:V266,\"該当３\"))","v":""}]
[1920507003,19,{"v":205,"d":"205 "},{"v":7,"d":"07 "},{"v":3,"d":"003 "},"山梨県","山梨市","日川村","下栗原",null,"","",{"$f":"IF(K267=\"\",\"\",COUNTIF($K$7:K267,\"ﾘｽﾄ１\"))","v":""},"","","","","","","",{"$f":"IF(S267=\"\",\"\",COUNTIF($S$7:S267,\"該当２\"))","v":""},"","",{"$f":"IF(V267=\"\",\"\",COUNTIF($V$7:V267,\"該当３\"))","v":""}]
[1920507004,19,{"v":205,"d":"205 "},{"v":7,"d":"07 "},{"v":4,"d":"004 "},"山梨県","山梨市","日川村","上栗原",null,"","",{"$f":"IF(K268=\"\",\"\",COUNTIF($K$7:K268,\"ﾘｽﾄ１\"))","v":""},"","","","","","","",{"$f":"IF(S268=\"\",\"\",COUNTIF($S$7:S268,\"該当２\"))","v":""},"","",{"$f":"IF(V268=\"\",\"\",COUNTIF($V$7:V268,\"該当３\"))","v":""}]
[1920507005,19,{"v":205,"d":"205 "},{"v":7,"d":"07 "},{"v":5,"d":"005 "},"山梨県","山梨市","日川村","中村",null,"","",{"$f":"IF(K269=\"\",\"\",COUNTIF($K$7:K269,\"ﾘｽﾄ１\"))","v":""},"","","","","","","",{"$f":"IF(S269=\"\",\"\",COUNTIF($S$7:S269,\"該当２\"))","v":""},"","",{"$f":"IF(V269=\"\",\"\",COUNTIF($V$7:V269,\"該当３\"))","v":""}]
[1920508000,19,{"v":205,"d":"205 "},{"v":8,"d":"08 "},{"v":0,"d":"000 "},"山梨県","山梨市","諏訪町",null,null,"","",{"$f":"IF(K270=\"\",\"\",COUNTIF($K$7:K270,\"ﾘｽﾄ１\"))","v":""},"","","","","","","",{"$f":"IF(S270=\"\",\"\",COUNTIF($S$7:S270,\"該当２\"))","v":""},"","",{"$f":"IF(V270=\"\",\"\",COUNTIF($V$7:V270,\"該当３\"))","v":""}]
[1920508001,19,{"v":205,"d":"205 "},{"v":8,"d":"08 "},{"v":1,"d":"001 "},"山梨県","山梨市","諏訪町","隼",null,"","",{"$f":"IF(K271=\"\",\"\",COUNTIF($K$7:K271,\"ﾘｽﾄ１\"))","v":""},"","","","","","","",{"$f":"IF(S271=\"\",\"\",COUNTIF($S$7:S271,\"該当２\"))","v":""},"","",{"$f":"IF(V271=\"\",\"\",COUNTIF($V$7:V271,\"該当３\"))","v":""}]
[1920508002,19,{"v":205,"d":"205 "},{"v":8,"d":"08 "},{"v":2,"d":"002 "},"山梨県","山梨市","諏訪町","替地",null,"","",{"$f":"IF(K272=\"\",\"\",COUNTIF($K$7:K272,\"ﾘｽﾄ１\"))","v":""},"","","","","","","",{"$f":"IF(S272=\"\",\"\",COUNTIF($S$7:S272,\"該当２\"))","v":""},"","",{"$f":"IF(V272=\"\",\"\",COUNTIF($V$7:V272,\"該当３\"))","v":""}]
[1920508003,19,{"v":205,"d":"205 "},{"v":8,"d":"08 "},{"v":3,"d":"003 "},"山梨県","山梨市","諏訪町","窪平",null,"","",{"$f":"IF(K273=\"\",\"\",COUNTIF($K$7:K273,\"ﾘｽﾄ１\"))","v":""},"","","","","","","",{"$f":"IF(S273=\"\",\"\",COUNTIF($S$7:S273,\"該当２\"))","v":""},"","",{"$f":"IF(V273=\"\",\"\",COUNTIF($V$7:V273,\"該当３\"))","v":""}]
[1920508004,19,{"v":205,"d":"205 "},{"v":8,"d":"08 "},{"v":4,"d":"004 "},"山梨県","山梨市","諏訪町","堀の内",null,"","",{"$f":"IF(K274=\"\",\"\",COUNTIF($K$7:K274,\"ﾘｽﾄ１\"))","v":""},"","","","","","","",{"$f":"IF(S274=\"\",\"\",COUNTIF($S$7:S274,\"該当２\"))","v":""},"","",{"$f":"IF(V274=\"\",\"\",COUNTIF($V$7:V274,\"該当３\"))","v":""}]
[1920508005,19,{"v":205,"d":"205 "},{"v":8,"d":"08 "},{"v":5,"d":"005 "},"山梨県","山梨市","諏訪町","城古寺",null,"","",{"$f":"IF(K275=\"\",\"\",COUNTIF($K$7:K275,\"ﾘｽﾄ１\"))","v":""},"","","","","","","",{"$f":"IF(S275=\"\",\"\",COUNTIF($S$7:S275,\"該当２\"))","v":""},"","",{"$f":"IF(V275=\"\",\"\",COUNTIF($V$7:V275,\"該当３\"))","v":""}]
[1920508006,19,{"v":205,"d":"205 "},{"v":8,"d":"08 "},{"v":6,"d":"006 "},"山梨県","山梨市","諏訪町","千野々宮",null,"","",{"$f":"IF(K276=\"\",\"\",COUNTIF($K$7:K276,\"ﾘｽﾄ１\"))","v":""},"","","","","","","",{"$f":"IF(S276=\"\",\"\",COUNTIF($S$7:S276,\"該当２\"))","v":""},"","",{"$f":"IF(V276=\"\",\"\",COUNTIF($V$7:V276,\"該当３\"))","v":""}]
[1920508007,19,{"v":205,"d":"205 "},{"v":8,"d":"08 "},{"v":7,"d":"007 "},"山梨県","山梨市","諏訪町","大室",null,"","",{"$f":"IF(K277=\"\",\"\",COUNTIF($K$7:K277,\"ﾘｽﾄ１\"))","v":""},"","","","","","","",{"$f":"IF(S277=\"\",\"\",COUNTIF($S$7:S277,\"該当２\"))","v":""},"","",{"$f":"IF(V277=\"\",\"\",COUNTIF($V$7:V277,\"該当３\"))","v":""}]
[1920508008,19,{"v":205,"d":"205 "},{"v":8,"d":"08 "},{"v":8,"d":"008 "},"山梨県","山梨市","諏訪町","山本",null,"","",{"$f":"IF(K278=\"\",\"\",COUNTIF($K$7:K278,\"ﾘｽﾄ１\"))","v":""},"","","","","","","",{"$f":"IF(S278=\"\",\"\",COUNTIF($S$7:S278,\"該当２\"))","v":""},"","",{"$f":"IF(V278=\"\",\"\",COUNTIF($V$7:V278,\"該当３\"))","v":""}]
[1920508009,19,{"v":205,"d":"205 "},{"v":8,"d":"08 "},{"v":9,"d":"009 "},"山梨県","山梨市","諏訪町","杣口",null,"","",{"$f":"IF(K279=\"\",\"\",COUNTIF($K$7:K279,\"ﾘｽﾄ１\"))","v":""},"","","","","","","",{"$f":"IF(S279=\"\",\"\",COUNTIF($S$7:S279,\"該当２\"))","v":""},"","",{"$f":"IF(V279=\"\",\"\",COUNTIF($V$7:V279,\"該当３\"))","v":""}]
[1920508010,19,{"v":205,"d":"205 "},{"v":8,"d":"08 "},{"v":10,"d":"010 "},"山梨県","山梨市","諏訪町","乙ケ妻",null,"","",{"$f":"IF(K280=\"\",\"\",COUNTIF($K$7:K280,\"ﾘｽﾄ１\"))","v":""},"","","","","","","",{"$f":"IF(S280=\"\",\"\",COUNTIF($S$7:S280,\"該当２\"))","v":""},"","",{"$f":"IF(V280=\"\",\"\",COUNTIF($V$7:V280,\"該当３\"))","v":""}]
[1920508011,19,{"v":205,"d":"205 "},{"v":8,"d":"08 "},{"v":11,"d":"011 "},"山梨県","山梨市","諏訪町","室伏",null,"","",{"$f":"IF(K281=\"\",\"\",COUNTIF($K$7:K281,\"ﾘｽﾄ１\"))","v":""},"","","","","","","",{"$f":"IF(S281=\"\",\"\",COUNTIF($S$7:S281,\"該当２\"))","v":""},"","",{"$f":"IF(V281=\"\",\"\",COUNTIF($V$7:V281,\"該当３\"))","v":""}]
[1920508012,19,{"v":205,"d":"205 "},{"v":8,"d":"08 "},{"v":12,"d":"012 "},"山梨県","山梨市","諏訪町","大沢",null,"","",{"$f":"IF(K282=\"\",\"\",COUNTIF($K$7:K282,\"ﾘｽﾄ１\"))","v":""},"","","","","","","",{"$f":"IF(S282=\"\",\"\",COUNTIF($S$7:S282,\"該当２\"))","v":""},"","",{"$f":"IF(V282=\"\",\"\",COUNTIF($V$7:V282,\"該当３\"))","v":""}]
[1920508013,19,{"v":205,"d":"205 "},{"v":8,"d":"08 "},{"v":13,"d":"013 "},"山梨県","山梨市","諏訪町","成沢",null,"","",{"$f":"IF(K283=\"\",\"\",COUNTIF($K$7:K283,\"ﾘｽﾄ１\"))","v":""},"","","","","","","",{"$f":"IF(S283=\"\",\"\",COUNTIF($S$7:S283,\"該当２\"))","v":""},"","",{"$f":"IF(V283=\"\",\"\",COUNTIF($V$7:V283,\"該当３\"))","v":""}]
[1920508014,19,{"v":205,"d":"205 "},{"v":8,"d":"08 "},{"v":14,"d":"014 "},"山梨県","山梨市","諏訪町","柳平",null,"","",{"$f":"IF(K284=\"\",\"\",COUNTIF($K$7:K284,\"ﾘｽﾄ１\"))","v":""},"","","","","","","",{"$f":"IF(S284=\"\",\"\",COUNTIF($S$7:S284,\"該当２\"))","v":""},"","",{"$f":"IF(V284=\"\",\"\",COUNTIF($V$7:V284,\"該当３\"))","v":""}]
[1920509000,19,{"v":205,"d":"205 "},{"v":9,"d":"09 "},{"v":0,"d":"000 "},"山梨県","山梨市","中牧村",null,null,"","",{"$f":"IF(K285=\"\",\"\",COUNTIF($K$7:K285,\"ﾘｽﾄ１\"))","v":""},"","","","","","","",{"$f":"IF(S285=\"\",\"\",COUNTIF($S$7:S285,\"該当２\"))","v":""},"","",{"$f":"IF(V285=\"\",\"\",COUNTIF($V$7:V285,\"該当３\"))","v":""}]
[1920509001,19,{"v":205,"d":"205 "},{"v":9,"d":"09 "},{"v":1,"d":"001 "},"山梨県","山梨市","中牧村","請地",null,"","",{"$f":"IF(K286=\"\",\"\",COUNTIF($K$7:K286,\"ﾘｽﾄ１\"))","v":""},"","","","","","","",{"$f":"IF(S286=\"\",\"\",COUNTIF($S$7:S286,\"該当２\"))","v":""},"","",{"$f":"IF(V286=\"\",\"\",COUNTIF($V$7:V286,\"該当３\"))","v":""}]
[1920509002,19,{"v":205,"d":"205 "},{"v":9,"d":"09 "},{"v":2,"d":"002 "},"山梨県","山梨市","中牧村","屋敷",null,"","",{"$f":"IF(K287=\"\",\"\",COUNTIF($K$7:K287,\"ﾘｽﾄ１\"))","v":""},"","","","","","","",{"$f":"IF(S287=\"\",\"\",COUNTIF($S$7:S287,\"該当２\"))","v":""},"","",{"$f":"IF(V287=\"\",\"\",COUNTIF($V$7:V287,\"該当３\"))","v":""}]
[1920509003,19,{"v":205,"d":"205 "},{"v":9,"d":"09 "},{"v":3,"d":"003 "},"山梨県","山梨市","中牧村","田屋",null,"","",{"$f":"IF(K288=\"\",\"\",COUNTIF($K$7:K288,\"ﾘｽﾄ１\"))","v":""},"","","","","","","",{"$f":"IF(S288=\"\",\"\",COUNTIF($S$7:S288,\"該当２\"))","v":""},"","",{"$f":"IF(V288=\"\",\"\",COUNTIF($V$7:V288,\"該当３\"))","v":""}]
[1920509004,19,{"v":205,"d":"205 "},{"v":9,"d":"09 "},{"v":4,"d":"004 "},"山梨県","山梨市","中牧村","上野田",null,"","",{"$f":"IF(K289=\"\",\"\",COUNTIF($K$7:K289,\"ﾘｽﾄ１\"))","v":""},"","","","","","","",{"$f":"IF(S289=\"\",\"\",COUNTIF($S$7:S289,\"該当２\"))","v":""},"","",{"$f":"IF(V289=\"\",\"\",COUNTIF($V$7:V289,\"該当３\"))","v":""}]
[1920509005,19,{"v":205,"d":"205 "},{"v":9,"d":"09 "},{"v":5,"d":"005 "},"山梨県","山梨市","中牧村","真智",null,"","",{"$f":"IF(K290=\"\",\"\",COUNTIF($K$7:K290,\"ﾘｽﾄ１\"))","v":""},"","","","","","","",{"$f":"IF(S290=\"\",\"\",COUNTIF($S$7:S290,\"該当２\"))","v":""},"","",{"$f":"IF(V290=\"\",\"\",COUNTIF($V$7:V290,\"該当３\"))","v":""}]
[1920509006,19,{"v":205,"d":"205 "},{"v":9,"d":"09 "},{"v":6,"d":"006 "},"山梨県","山梨市","中牧村","西山",null,"","",{"$f":"IF(K291=\"\",\"\",COUNTIF($K$7:K291,\"ﾘｽﾄ１\"))","v":""},"","","","","","","",{"$f":"IF(S291=\"\",\"\",COUNTIF($S$7:S291,\"該当２\"))","v":""},"","",{"$f":"IF(V291=\"\",\"\",COUNTIF($V$7:V291,\"該当３\"))","v":""}]
[1920509007,19,{"v":205,"d":"205 "},{"v":9,"d":"09 "},{"v":7,"d":"007 "},"山梨県","山梨市","中牧村","新井",null,"","",{"$f":"IF(K292=\"\",\"\",COUNTIF($K$7:K292,\"ﾘｽﾄ１\"))","v":""},"","","","","","","",{"$f":"IF(S292=\"\",\"\",COUNTIF($S$7:S292,\"該当２\"))","v":""},"","",{"$f":"IF(V292=\"\",\"\",COUNTIF($V$7:V292,\"該当３\"))","v":""}]
[1920509008,19,{"v":205,"d":"205 "},{"v":9,"d":"09 "},{"v":8,"d":"008 "},"山梨県","山梨市","中牧村","中屋",null,"","",{"$f":"IF(K293=\"\",\"\",COUNTIF($K$7:K293,\"ﾘｽﾄ１\"))","v":""},"","","","","","","",{"$f":"IF(S293=\"\",\"\",COUNTIF($S$7:S293,\"該当２\"))","v":""},"","",{"$f":"IF(V293=\"\",\"\",COUNTIF($V$7:V293,\"該当３\"))","v":""}]
[1920509009,19,{"v":205,"d":"205 "},{"v":9,"d":"09 "},{"v":9,"d":"009 "},"山梨県","山梨市","中牧村","中尾",null,"","",{"$f":"IF(K294=\"\",\"\",COUNTIF($K$7:K294,\"ﾘｽﾄ１\"))","v":""},"","","","","","","",{"$f":"IF(S294=\"\",\"\",COUNTIF($S$7:S294,\"該当２\"))","v":""},"","",{"$f":"IF(V294=\"\",\"\",COUNTIF($V$7:V294,\"該当３\"))","v":""}]
[1920509010,19,{"v":205,"d":"205 "},{"v":9,"d":"09 "},{"v":10,"d":"010 "},"山梨県","山梨市","中牧村","久保",null,"","",{"$f":"IF(K295=\"\",\"\",COUNTIF($K$7:K295,\"ﾘｽﾄ１\"))","v":""},"","","","","","","",{"$f":"IF(S295=\"\",\"\",COUNTIF($S$7:S295,\"該当２\"))","v":""},"","",{"$f":"IF(V295=\"\",\"\",COUNTIF($V$7:V295,\"該当３\"))","v":""}]
[1920509011,19,{"v":205,"d":"205 "},{"v":9,"d":"09 "},{"v":11,"d":"011 "},"山梨県","山梨市","中牧村","豊原",null,"","",{"$f":"IF(K296=\"\",\"\",COUNTIF($K$7:K296,\"ﾘｽﾄ１\"))","v":""},"","","","","","","",{"$f":"IF(S296=\"\",\"\",COUNTIF($S$7:S296,\"該当２\"))","v":""},"","",{"$f":"IF(V296=\"\",\"\",COUNTIF($V$7:V296,\"該当３\"))","v":""}]
[1920509012,19,{"v":205,"d":"205 "},{"v":9,"d":"09 "},{"v":12,"d":"012 "},"山梨県","山梨市","中牧村","辻屋",null,"","",{"$f":"IF(K297=\"\",\"\",COUNTIF($K$7:K297,\"ﾘｽﾄ１\"))","v":""},"","","","","","","",{"$f":"IF(S297=\"\",\"\",COUNTIF($S$7:S297,\"該当２\"))","v":""},"","",{"$f":"IF(V297=\"\",\"\",COUNTIF($V$7:V297,\"該当３\"))","v":""}]
[1920509013,19,{"v":205,"d":"205 "},{"v":9,"d":"09 "},{"v":13,"d":"013 "},"山梨県","山梨市","中牧村","笠原",null,"","",{"$f":"IF(K298=\"\",\"\",COUNTIF($K$7:K298,\"ﾘｽﾄ１\"))","v":""},"","","","","","","",{"$f":"IF(S298=\"\",\"\",COUNTIF($S$7:S298,\"該当２\"))","v":""},"","",{"$f":"IF(V298=\"\",\"\",COUNTIF($V$7:V298,\"該当３\"))","v":""}]
[1920509014,19,{"v":205,"d":"205 "},{"v":9,"d":"09 "},{"v":14,"d":"014 "},"山梨県","山梨市","中牧村","北井",null,"","",{"$f":"IF(K299=\"\",\"\",COUNTIF($K$7:K299,\"ﾘｽﾄ１\"))","v":""},"","","","","","","",{"$f":"IF(S299=\"\",\"\",COUNTIF($S$7:S299,\"該当２\"))","v":""},"","",{"$f":"IF(V299=\"\",\"\",COUNTIF($V$7:V299,\"該当３\"))","v":""}]
[1920509015,19,{"v":205,"d":"205 "},{"v":9,"d":"09 "},{"v":15,"d":"015 "},"山梨県","山梨市","中牧村","法喩庵",null,"","",{"$f":"IF(K300=\"\",\"\",COUNTIF($K$7:K300,\"ﾘｽﾄ１\"))","v":""},"","","","","","","",{"$f":"IF(S300=\"\",\"\",COUNTIF($S$7:S300,\"該当２\"))","v":""},"","",{"$f":"IF(V300=\"\",\"\",COUNTIF($V$7:V300,\"該当３\"))","v":""}]
[1920509016,19,{"v":205,"d":"205 "},{"v":9,"d":"09 "},{"v":16,"d":"016 "},"山梨県","山梨市","中牧村","小田野",null,"","",{"$f":"IF(K301=\"\",\"\",COUNTIF($K$7:K301,\"ﾘｽﾄ１\"))","v":""},"","","","","","","",{"$f":"IF(S301=\"\",\"\",COUNTIF($S$7:S301,\"該当２\"))","v":""},"","",{"$f":"IF(V301=\"\",\"\",COUNTIF($V$7:V301,\"該当３\"))","v":""}]
[1920509017,19,{"v":205,"d":"205 "},{"v":9,"d":"09 "},{"v":17,"d":"017 "},"山梨県","山梨市","中牧村","城下",null,"","",{"$f":"IF(K302=\"\",\"\",COUNTIF($K$7:K302,\"ﾘｽﾄ１\"))","v":""},"","","","","","","",{"$f":"IF(S302=\"\",\"\",COUNTIF($S$7:S302,\"該当２\"))","v":""},"","",{"$f":"IF(V302=\"\",\"\",COUNTIF($V$7:V302,\"該当３\"))","v":""}]
[1920509018,19,{"v":205,"d":"205 "},{"v":9,"d":"09 "},{"v":18,"d":"018 "},"山梨県","山梨市","中牧村","馬場",null,"","",{"$f":"IF(K303=\"\",\"\",COUNTIF($K$7:K303,\"ﾘｽﾄ１\"))","v":""},"","","","","","","",{"$f":"IF(S303=\"\",\"\",COUNTIF($S$7:S303,\"該当２\"))","v":""},"","",{"$f":"IF(V303=\"\",\"\",COUNTIF($V$7:V303,\"該当３\"))","v":""}]
[1920509019,19,{"v":205,"d":"205 "},{"v":9,"d":"09 "},{"v":19,"d":"019 "},"山梨県","山梨市","中牧村","井戸川",null,"","",{"$f":"IF(K304=\"\",\"\",COUNTIF($K$7:K304,\"ﾘｽﾄ１\"))","v":""},"","","","","","","",{"$f":"IF(S304=\"\",\"\",COUNTIF($S$7:S304,\"該当２\"))","v":""},"","",{"$f":"IF(V304=\"\",\"\",COUNTIF($V$7:V304,\"該当３\"))","v":""}]
[1920510000,19,{"v":205,"d":"205 "},{"v":10,"d":"10 "},{"v":0,"d":"000 "},"山梨県","山梨市","西保村",null,null,"","",{"$f":"IF(K305=\"\",\"\",COUNTIF($K$7:K305,\"ﾘｽﾄ１\"))","v":""},"","","","","","","",{"$f":"IF(S305=\"\",\"\",COUNTIF($S$7:S305,\"該当２\"))","v":""},"","",{"$f":"IF(V305=\"\",\"\",COUNTIF($V$7:V305,\"該当３\"))","v":""}]
[1920510001,19,{"v":205,"d":"205 "},{"v":10,"d":"10 "},{"v":1,"d":"001 "},"山梨県","山梨市","西保村","横道",null,"","",{"$f":"IF(K306=\"\",\"\",COUNTIF($K$7:K306,\"ﾘｽﾄ１\"))","v":""},"","","","","","","",{"$f":"IF(S306=\"\",\"\",COUNTIF($S$7:S306,\"該当２\"))","v":""},"","",{"$f":"IF(V306=\"\",\"\",COUNTIF($V$7:V306,\"該当３\"))","v":""}]
[1920510002,19,{"v":205,"d":"205 "},{"v":10,"d":"10 "},{"v":2,"d":"002 "},"山梨県","山梨市","西保村","中野",null,"","",{"$f":"IF(K307=\"\",\"\",COUNTIF($K$7:K307,\"ﾘｽﾄ１\"))","v":""},"","","","","","","",{"$f":"IF(S307=\"\",\"\",COUNTIF($S$7:S307,\"該当２\"))","v":""},"","",{"$f":"IF(V307=\"\",\"\",COUNTIF($V$7:V307,\"該当３\"))","v":""}]
[1920510003,19,{"v":205,"d":"205 "},{"v":10,"d":"10 "},{"v":3,"d":"003 "},"山梨県","山梨市","西保村","在華",null,"","",{"$f":"IF(K308=\"\",\"\",COUNTIF($K$7:K308,\"ﾘｽﾄ１\"))","v":""},"","","","","","","",{"$f":"IF(S308=\"\",\"\",COUNTIF($S$7:S308,\"該当２\"))","v":""},"","",{"$f":"IF(V308=\"\",\"\",COUNTIF($V$7:V308,\"該当３\"))","v":""}]
[1920510004,19,{"v":205,"d":"205 "},{"v":10,"d":"10 "},{"v":4,"d":"004 "},"山梨県","山梨市","西保村","芦の沢",null,"","",{"$f":"IF(K309=\"\",\"\",COUNTIF($K$7:K309,\"ﾘｽﾄ１\"))","v":""},"","","","","","","",{"$f":"IF(S309=\"\",\"\",COUNTIF($S$7:S309,\"該当２\"))","v":""},"","",{"$f":"IF(V309=\"\",\"\",COUNTIF($V$7:V309,\"該当３\"))","v":""}]
[1920510005,19,{"v":205,"d":"205 "},{"v":10,"d":"10 "},{"v":5,"d":"005 "},"山梨県","山梨市","西保村","大村上",null,"","",{"$f":"IF(K310=\"\",\"\",COUNTIF($K$7:K310,\"ﾘｽﾄ１\"))","v":""},"","","","","","","",{"$f":"IF(S310=\"\",\"\",COUNTIF($S$7:S310,\"該当２\"))","v":""},"","",{"$f":"IF(V310=\"\",\"\",COUNTIF($V$7:V310,\"該当３\"))","v":""}]
[1920510006,19,{"v":205,"d":"205 "},{"v":10,"d":"10 "},{"v":6,"d":"006 "},"山梨県","山梨市","西保村","大村下",null,"","",{"$f":"IF(K311=\"\",\"\",COUNTIF($K$7:K311,\"ﾘｽﾄ１\"))","v":""},"","","","","","","",{"$f":"IF(S311=\"\",\"\",COUNTIF($S$7:S311,\"該当２\"))","v":""},"","",{"$f":"IF(V311=\"\",\"\",COUNTIF($V$7:V311,\"該当３\"))","v":""}]
[1920510007,19,{"v":205,"d":"205 "},{"v":10,"d":"10 "},{"v":7,"d":"007 "},"山梨県","山梨市","西保村","古宿",null,"","",{"$f":"IF(K312=\"\",\"\",COUNTIF($K$7:K312,\"ﾘｽﾄ１\"))","v":""},"","","","","","","",{"$f":"IF(S312=\"\",\"\",COUNTIF($S$7:S312,\"該当２\"))","v":""},"","",{"$f":"IF(V312=\"\",\"\",COUNTIF($V$7:V312,\"該当３\"))","v":""}]
[1920510008,19,{"v":205,"d":"205 "},{"v":10,"d":"10 "},{"v":8,"d":"008 "},"山梨県","山梨市","西保村","牧平東",null,"","",{"$f":"IF(K313=\"\",\"\",COUNTIF($K$7:K313,\"ﾘｽﾄ１\"))","v":""},"","","","","","","",{"$f":"IF(S313=\"\",\"\",COUNTIF($S$7:S313,\"該当２\"))","v":""},"","",{"$f":"IF(V313=\"\",\"\",COUNTIF($V$7:V313,\"該当３\"))","v":""}]
[1920510009,19,{"v":205,"d":"205 "},{"v":10,"d":"10 "},{"v":9,"d":"009 "},"山梨県","山梨市","西保村","牧平西",null,"","",{"$f":"IF(K314=\"\",\"\",COUNTIF($K$7:K314,\"ﾘｽﾄ１\"))","v":""},"","","","","","","",{"$f":"IF(S314=\"\",\"\",COUNTIF($S$7:S314,\"該当２\"))","v":""},"","",{"$f":"IF(V314=\"\",\"\",COUNTIF($V$7:V314,\"該当３\"))","v":""}]
[1920510010,19,{"v":205,"d":"205 "},{"v":10,"d":"10 "},{"v":10,"d":"010 "},"山梨県","山梨市","西保村","膝立",null,"","",{"$f":"IF(K315=\"\",\"\",COUNTIF($K$7:K315,\"ﾘｽﾄ１\"))","v":""},"","","","","","","",{"$f":"IF(S315=\"\",\"\",COUNTIF($S$7:S315,\"該当２\"))","v":""},"","",{"$f":"IF(V315=\"\",\"\",COUNTIF($V$7:V315,\"該当３\"))","v":""}]
[1920510011,19,{"v":205,"d":"205 "},{"v":10,"d":"10 "},{"v":11,"d":"011 "},"山梨県","山梨市","西保村","赤芝",null,"","",{"$f":"IF(K316=\"\",\"\",COUNTIF($K$7:K316,\"ﾘｽﾄ１\"))","v":""},"","","","","","","",{"$f":"IF(S316=\"\",\"\",COUNTIF($S$7:S316,\"該当２\"))","v":""},"","",{"$f":"IF(V316=\"\",\"\",COUNTIF($V$7:V316,\"該当３\"))","v":""}]
[1920510012,19,{"v":205,"d":"205 "},{"v":10,"d":"10 "},{"v":12,"d":"012 "},"山梨県","山梨市","西保村","下道",null,"","",{"$f":"IF(K317=\"\",\"\",COUNTIF($K$7:K317,\"ﾘｽﾄ１\"))","v":""},"","","","","","","",{"$f":"IF(S317=\"\",\"\",COUNTIF($S$7:S317,\"該当２\"))","v":""},"","",{"$f":"IF(V317=\"\",\"\",COUNTIF($V$7:V317,\"該当３\"))","v":""}]
[1920510013,19,{"v":205,"d":"205 "},{"v":10,"d":"10 "},{"v":13,"d":"013 "},"山梨県","山梨市","西保村","上道",null,"","",{"$f":"IF(K318=\"\",\"\",COUNTIF($K$7:K318,\"ﾘｽﾄ１\"))","v":""},"","","","","","","",{"$f":"IF(S318=\"\",\"\",COUNTIF($S$7:S318,\"該当２\"))","v":""},"","",{"$f":"IF(V318=\"\",\"\",COUNTIF($V$7:V318,\"該当３\"))","v":""}]
[1920510014,19,{"v":205,"d":"205 "},{"v":10,"d":"10 "},{"v":14,"d":"014 "},"山梨県","山梨市","西保村","漆川",null,"","",{"$f":"IF(K319=\"\",\"\",COUNTIF($K$7:K319,\"ﾘｽﾄ１\"))","v":""},"","","","","","","",{"$f":"IF(S319=\"\",\"\",COUNTIF($S$7:S319,\"該当２\"))","v":""},"","",{"$f":"IF(V319=\"\",\"\",COUNTIF($V$7:V319,\"該当３\"))","v":""}]
[1920510015,19,{"v":205,"d":"205 "},{"v":10,"d":"10 "},{"v":15,"d":"015 "},"山梨県","山梨市","西保村","生捕",null,"","",{"$f":"IF(K320=\"\",\"\",COUNTIF($K$7:K320,\"ﾘｽﾄ１\"))","v":""},"","","","","","","",{"$f":"IF(S320=\"\",\"\",COUNTIF($S$7:S320,\"該当２\"))","v":""},"","",{"$f":"IF(V320=\"\",\"\",COUNTIF($V$7:V320,\"該当３\"))","v":""}]
[1920510016,19,{"v":205,"d":"205 "},{"v":10,"d":"10 "},{"v":16,"d":"016 "},"山梨県","山梨市","西保村","塩平",null,"","",{"$f":"IF(K321=\"\",\"\",COUNTIF($K$7:K321,\"ﾘｽﾄ１\"))","v":""},"","","","","","","",{"$f":"IF(S321=\"\",\"\",COUNTIF($S$7:S321,\"該当２\"))","v":""},"","",{"$f":"IF(V321=\"\",\"\",COUNTIF($V$7:V321,\"該当３\"))","v":""}]
[1920511000,19,{"v":205,"d":"205 "},{"v":11,"d":"11 "},{"v":0,"d":"000 "},"山梨県","山梨市","三富村",null,null,"","",{"$f":"IF(K322=\"\",\"\",COUNTIF($K$7:K322,\"ﾘｽﾄ１\"))","v":""},"","","","","","","",{"$f":"IF(S322=\"\",\"\",COUNTIF($S$7:S322,\"該当２\"))","v":""},"","",{"$f":"IF(V322=\"\",\"\",COUNTIF($V$7:V322,\"該当３\"))","v":""}]
[1920511001,19,{"v":205,"d":"205 "},{"v":11,"d":"11 "},{"v":1,"d":"001 "},"山梨県","山梨市","三富村","塩原",null,"","",{"$f":"IF(K323=\"\",\"\",COUNTIF($K$7:K323,\"ﾘｽﾄ１\"))","v":""},"","","","","","","",{"$f":"IF(S323=\"\",\"\",COUNTIF($S$7:S323,\"該当２\"))","v":""},"","",{"$f":"IF(V323=\"\",\"\",COUNTIF($V$7:V323,\"該当３\"))","v":""}]
[1920511002,19,{"v":205,"d":"205 "},{"v":11,"d":"11 "},{"v":2,"d":"002 "},"山梨県","山梨市","三富村","寺井",null,"","",{"$f":"IF(K324=\"\",\"\",COUNTIF($K$7:K324,\"ﾘｽﾄ１\"))","v":""},"","","","","","","",{"$f":"IF(S324=\"\",\"\",COUNTIF($S$7:S324,\"該当２\"))","v":""},"","",{"$f":"IF(V324=\"\",\"\",COUNTIF($V$7:V324,\"該当３\"))","v":""}]
[1920511003,19,{"v":205,"d":"205 "},{"v":11,"d":"11 "},{"v":3,"d":"003 "},"山梨県","山梨市","三富村","稲子沢",null,"","",{"$f":"IF(K325=\"\",\"\",COUNTIF($K$7:K325,\"ﾘｽﾄ１\"))","v":""},"","","","","","","",{"$f":"IF(S325=\"\",\"\",COUNTIF($S$7:S325,\"該当２\"))","v":""},"","",{"$f":"IF(V325=\"\",\"\",COUNTIF($V$7:V325,\"該当３\"))","v":""}]
[1920511004,19,{"v":205,"d":"205 "},{"v":11,"d":"11 "},{"v":4,"d":"004 "},"山梨県","山梨市","三富村","馬込",null,"","",{"$f":"IF(K326=\"\",\"\",COUNTIF($K$7:K326,\"ﾘｽﾄ１\"))","v":""},"","","","","","","",{"$f":"IF(S326=\"\",\"\",COUNTIF($S$7:S326,\"該当２\"))","v":""},"","",{"$f":"IF(V326=\"\",\"\",COUNTIF($V$7:V326,\"該当３\"))","v":""}]
[1920511005,19,{"v":205,"d":"205 "},{"v":11,"d":"11 "},{"v":5,"d":"005 "},"山梨県","山梨市","三富村","下荻原",null,"","",{"$f":"IF(K327=\"\",\"\",COUNTIF($K$7:K327,\"ﾘｽﾄ１\"))","v":""},"","","","","","","",{"$f":"IF(S327=\"\",\"\",COUNTIF($S$7:S327,\"該当２\"))","v":""},"","",{"$f":"IF(V327=\"\",\"\",COUNTIF($V$7:V327,\"該当３\"))","v":""}]
[1920511006,19,{"v":205,"d":"205 "},{"v":11,"d":"11 "},{"v":6,"d":"006 "},"山梨県","山梨市","三富村","徳和",null,"","",{"$f":"IF(K328=\"\",\"\",COUNTIF($K$7:K328,\"ﾘｽﾄ１\"))","v":""},"","",{"$f":"IF(O328=\"該当１\",G328,\"\")","v":""},{"$f":"IF(O328=\"該当１\",\"ﾘｽﾄ2\",\"\")","v":""},{"$f":"IF(Q328=\"ﾘｽﾄ2\",H328,\"\")","v":""},"",{"$f":"IF(S328=\"該当２\",H328,\"\")","v":""},{"$f":"IF(S328=\"\",\"\",COUNTIF($S$7:S328,\"該当２\"))","v":""},{"$f":"IF(AND($S$2=H328,E328>0,E328<998),\"該当３\",\"\")","v":""},{"$f":"IF(V328=\"該当３\",I328,\"\")","v":""},{"$f":"IF(V328=\"\",\"\",COUNTIF($V$7:V328,\"該当３\"))","v":""}]
[1920511007,19,{"v":205,"d":"205 "},{"v":11,"d":"11 "},{"v":7,"d":"007 "},"山梨県","山梨市","三富村","興南",null,{"$f":"IF(AND($C329>0,$H329=\"\"),\"ﾘｽﾄ１\",\"\")","v":""},{"$f":"IF(K329=\"ﾘｽﾄ１\",G329,\"\")","v":""},{"$f":"IF(K329=\"\",\"\",COUNTIF($K$7:K329,\"ﾘｽﾄ１\"))","v":""},{"$f":"IF(AND(D329=0,E329>0),\"同一区\",\"\")","v":""},{"$f":"IF(AND(EXACT($K$2,G329),H329>0),\"該当１\",\"\")","v":""},"","","",{"$f":"IF(AND(Q329=\"ﾘｽﾄ2\",OR(I329=0,AND(N329=\"同一区\",E329=1))),\"該当２\",\"\")","v":""},"",{"$f":"IF(S329=\"\",\"\",COUNTIF($S$7:S329,\"該当２\"))","v":""},"","",{"$f":"IF(V329=\"\",\"\",COUNTIF($V$7:V329,\"該当３\"))","v":""}]
[1920511008,19,{"v":205,"d":"205 "},{"v":11,"d":"11 "},{"v":8,"d":"008 "},"山梨県","山梨市","三富村","下釜口",null,"","",{"$f":"IF(K330=\"\",\"\",COUNTIF($K$7:K330,\"ﾘｽﾄ１\"))","v":""},"","","","","","","",{"$f":"IF(S330=\"\",\"\",COUNTIF($S$7:S330,\"該当２\"))","v":""},"","",{"$f":"IF(V330=\"\",\"\",COUNTIF($V$7:V330,\"該当３\"))","v":""}]
[1920511009,19,{"v":205,"d":"205 "},{"v":11,"d":"11 "},{"v":9,"d":"009 "},"山梨県","山梨市","三富村","上荻原",null,"","",{"$f":"IF(K331=\"\",\"\",COUNTIF($K$7:K331,\"ﾘｽﾄ１\"))","v":""},"","","","","","","",{"$f":"IF(S331=\"\",\"\",COUNTIF($S$7:S331,\"該当２\"))","v":""},"","",{"$f":"IF(V331=\"\",\"\",COUNTIF($V$7:V331,\"該当３\"))","v":""}]
[1920511010,19,{"v":205,"d":"205 "},{"v":11,"d":"11 "},{"v":10,"d":"010 "},"山梨県","山梨市","三富村","雷",null,"","",{"$f":"IF(K332=\"\",\"\",COUNTIF($K$7:K332,\"ﾘｽﾄ１\"))","v":""},"","","","","","","",{"$f":"IF(S332=\"\",\"\",COUNTIF($S$7:S332,\"該当２\"))","v":""},"","",{"$f":"IF(V332=\"\",\"\",COUNTIF($V$7:V332,\"該当３\"))","v":""}]
[1920511011,19,{"v":205,"d":"205 "},{"v":11,"d":"11 "},{"v":11,"d":"011 "},"山梨県","山梨市","三富村","湯の平",null,"","",{"$f":"IF(K333=\"\",\"\",COUNTIF($K$7:K333,\"ﾘｽﾄ１\"))","v":""},"","","","","","","",{"$f":"IF(S333=\"\",\"\",COUNTIF($S$7:S333,\"該当２\"))","v":""},"","",{"$f":"IF(V333=\"\",\"\",COUNTIF($V$7:V333,\"該当３\"))","v":""}]
[1920511012,19,{"v":205,"d":"205 "},{"v":11,"d":"11 "},{"v":12,"d":"012 "},"山梨県","山梨市","三富村","天科",null,"","",{"$f":"IF(K334=\"\",\"\",COUNTIF($K$7:K334,\"ﾘｽﾄ１\"))","v":""},"","","","","","","",{"$f":"IF(S334=\"\",\"\",COUNTIF($S$7:S334,\"該当２\"))","v":""},"","",{"$f":"IF(V334=\"\",\"\",COUNTIF($V$7:V334,\"該当３\"))","v":""}]
[1920511013,19,{"v":205,"d":"205 "},{"v":11,"d":"11 "},{"v":13,"d":"013 "},"山梨県","山梨市","三富村","円川",null,"","",{"$f":"IF(K335=\"\",\"\",COUNTIF($K$7:K335,\"ﾘｽﾄ１\"))","v":""},"","","","","","","",{"$f":"IF(S335=\"\",\"\",COUNTIF($S$7:S335,\"該当２\"))","v":""},"","",{"$f":"IF(V335=\"\",\"\",COUNTIF($V$7:V335,\"該当３\"))","v":""}]
[1920511014,19,{"v":205,"d":"205 "},{"v":11,"d":"11 "},{"v":14,"d":"014 "},"山梨県","山梨市","三富村","西の平",null,"","",{"$f":"IF(K336=\"\",\"\",COUNTIF($K$7:K336,\"ﾘｽﾄ１\"))","v":""},"","","","","","","",{"$f":"IF(S336=\"\",\"\",COUNTIF($S$7:S336,\"該当２\"))","v":""},"","",{"$f":"IF(V336=\"\",\"\",COUNTIF($V$7:V336,\"該当３\"))","v":""}]
[1920511015,19,{"v":205,"d":"205 "},{"v":11,"d":"11 "},{"v":15,"d":"015 "},"山梨県","山梨市","三富村","釜口",null,"","",{"$f":"IF(K337=\"\",\"\",COUNTIF($K$7:K337,\"ﾘｽﾄ１\"))","v":""},"","","","","","","",{"$f":"IF(S337=\"\",\"\",COUNTIF($S$7:S337,\"該当２\"))","v":""},"","",{"$f":"IF(V337=\"\",\"\",COUNTIF($V$7:V337,\"該当３\"))","v":""}]
[1920511016,19,{"v":205,"d":"205 "},{"v":11,"d":"11 "},{"v":16,"d":"016 "},"山梨県","山梨市","三富村","青笹",null,"","",{"$f":"IF(K338=\"\",\"\",COUNTIF($K$7:K338,\"ﾘｽﾄ１\"))","v":""},"","","","","","","",{"$f":"IF(S338=\"\",\"\",COUNTIF($S$7:S338,\"該当２\"))","v":""},"","",{"$f":"IF(V338=\"\",\"\",COUNTIF($V$7:V338,\"該当３\"))","v":""}]
[1920511017,19,{"v":205,"d":"205 "},{"v":11,"d":"11 "},{"v":17,"d":"017 "},"山梨県","山梨市","三富村","赤の浦",null,"","",{"$f":"IF(K339=\"\",\"\",COUNTIF($K$7:K339,\"ﾘｽﾄ１\"))","v":""},"","","","","","","",{"$f":"IF(S339=\"\",\"\",COUNTIF($S$7:S339,\"該当２\"))","v":""},"","",{"$f":"IF(V339=\"\",\"\",COUNTIF($V$7:V339,\"該当３\"))","v":""}]
[1920511018,19,{"v":205,"d":"205 "},{"v":11,"d":"11 "},{"v":18,"d":"018 "},"山梨県","山梨市","三富村","芹沢",null,"","",{"$f":"IF(K340=\"\",\"\",COUNTIF($K$7:K340,\"ﾘｽﾄ１\"))","v":""},"","","","","","","",{"$f":"IF(S340=\"\",\"\",COUNTIF($S$7:S340,\"該当２\"))","v":""},"","",{"$f":"IF(V340=\"\",\"\",COUNTIF($V$7:V340,\"該当３\"))","v":""}]
[1920511019,19,{"v":205,"d":"205 "},{"v":11,"d":"11 "},{"v":19,"d":"019 "},"山梨県","山梨市","三富村","広瀬",null,"","",{"$f":"IF(K341=\"\",\"\",COUNTIF($K$7:K341,\"ﾘｽﾄ１\"))","v":""},"","","","","","","",{"$f":"IF(S341=\"\",\"\",COUNTIF($S$7:S341,\"該当２\"))","v":""},"","",{"$f":"IF(V341=\"\",\"\",COUNTIF($V$7:V341,\"該当３\"))","v":""}]
[1920511020,19,{"v":205,"d":"205 "},{"v":11,"d":"11 "},{"v":20,"d":"020 "},"山梨県","山梨市","三富村","大平",null,"","",{"$f":"IF(K342=\"\",\"\",COUNTIF($K$7:K342,\"ﾘｽﾄ１\"))","v":""},"","","","","","","",{"$f":"IF(S342=\"\",\"\",COUNTIF($S$7:S342,\"該当２\"))","v":""},"","",{"$f":"IF(V342=\"\",\"\",COUNTIF($V$7:V342,\"該当３\"))","v":""}]
[1920600000,19,{"v":206,"d":"206 "},{"v":0,"d":"00 "},{"v":0,"d":"000 "},"山梨県","大月市",{"$nulls":3},"ﾘｽﾄ１","大月市",{"$f":"IF(K343=\"\",\"\",COUNTIF($K$7:K343,\"ﾘｽﾄ１\"))","v":5},"","","","","","","",{"$f":"IF(S343=\"\",\"\",COUNTIF($S$7:S343,\"該当２\"))","v":""},"","",{"$f":"IF(V343=\"\",\"\",COUNTIF($V$7:V343,\"該当３\"))","v":""}]
[1920601000,19,{"v":206,"d":"206 "},{"v":1,"d":"01 "},{"v":0,"d":"000 "},"山梨県","大月市","笹子村",null,null,"","",{"$f":"IF(K344=\"\",\"\",COUNTIF($K$7:K344,\"ﾘｽﾄ１\"))","v":""},"","","","","","","",{"$f":"IF(S344=\"\",\"\",COUNTIF($S$7:S344,\"該当２\"))","v":""},"","",{"$f":"IF(V344=\"\",\"\",COUNTIF($V$7:V344,\"該当３\"))","v":""}]
[1920601001,19,{"v":206,"d":"206 "},{"v":1,"d":"01 "},{"v":1,"d":"001 "},"山梨県","大月市","笹子村","白野",null,"","",{"$f":"IF(K345=\"\",\"\",COUNTIF($K$7:K345,\"ﾘｽﾄ１\"))","v":""},"","","","","","","",{"$f":"IF(S345=\"\",\"\",COUNTIF($S$7:S345,\"該当２\"))","v":""},"","",{"$f":"IF(V345=\"\",\"\",COUNTIF($V$7:V345,\"該当３\"))","v":""}]
[1920601002,19,{"v":206,"d":"206 "},{"v":1,"d":"01 "},{"v":2,"d":"002 "},"山梨県","大月市","笹子村","原",null,"","",{"$f":"IF(K346=\"\",\"\",COUNTIF($K$7:K346,\"ﾘｽﾄ１\"))","v":""},"","","","","","","",{"$f":"IF(S346=\"\",\"\",COUNTIF($S$7:S346,\"該当２\"))","v":""},"","",{"$f":"IF(V346=\"\",\"\",COUNTIF($V$7:V346,\"該当３\"))","v":""}]
[1920601003,19,{"v":206,"d":"206 "},{"v":1,"d":"01 "},{"v":3,"d":"003 "},"山梨県","大月市","笹子村","吉久保",null,"","",{"$f":"IF(K347=\"\",\"\",COUNTIF($K$7:K347,\"ﾘｽﾄ１\"))","v":""},"","","","","","","",{"$f":"IF(S347=\"\",\"\",COUNTIF($S$7:S347,\"該当２\"))","v":""},"","",{"$f":"IF(V347=\"\",\"\",COUNTIF($V$7:V347,\"該当３\"))","v":""}]
[1920601004,19,{"v":206,"d":"206 "},{"v":1,"d":"01 "},{"v":4,"d":"004 "},"山梨県","大月市","笹子村","阿弥陀海",null,"","",{"$f":"IF(K348=\"\",\"\",COUNTIF($K$7:K348,\"ﾘｽﾄ１\"))","v":""},"","","","","","","",{"$f":"IF(S348=\"\",\"\",COUNTIF($S$7:S348,\"該当２\"))","v":""},"","",{"$f":"IF(V348=\"\",\"\",COUNTIF($V$7:V348,\"該当３\"))","v":""}]
[1920601005,19,{"v":206,"d":"206 "},{"v":1,"d":"01 "},{"v":5,"d":"005 "},"山梨県","大月市","笹子村","黒野田",null,"","",{"$f":"IF(K349=\"\",\"\",COUNTIF($K$7:K349,\"ﾘｽﾄ１\"))","v":""},"","","","","","","",{"$f":"IF(S349=\"\",\"\",COUNTIF($S$7:S349,\"該当２\"))","v":""},"","",{"$f":"IF(V349=\"\",\"\",COUNTIF($V$7:V349,\"該当３\"))","v":""}]
[1920601006,19,{"v":206,"d":"206 "},{"v":1,"d":"01 "},{"v":6,"d":"006 "},"山梨県","大月市","笹子村","追分",null,"","",{"$f":"IF(K350=\"\",\"\",COUNTIF($K$7:K350,\"ﾘｽﾄ１\"))","v":""},"","","","","","","",{"$f":"IF(S350=\"\",\"\",COUNTIF($S$7:S350,\"該当２\"))","v":""},"","",{"$f":"IF(V350=\"\",\"\",COUNTIF($V$7:V350,\"該当３\"))","v":""}]
[1920602000,19,{"v":206,"d":"206 "},{"v":2,"d":"02 "},{"v":0,"d":"000 "},"山梨県","大月市","初狩村",null,null,"","",{"$f":"IF(K351=\"\",\"\",COUNTIF($K$7:K351,\"ﾘｽﾄ１\"))","v":""},"","","","","","","",{"$f":"IF(S351=\"\",\"\",COUNTIF($S$7:S351,\"該当２\"))","v":""},"","",{"$f":"IF(V351=\"\",\"\",COUNTIF($V$7:V351,\"該当３\"))","v":""}]
[1920602001,19,{"v":206,"d":"206 "},{"v":2,"d":"02 "},{"v":1,"d":"001 "},"山梨県","大月市","初狩村","下初狩１区",null,"","",{"$f":"IF(K352=\"\",\"\",COUNTIF($K$7:K352,\"ﾘｽﾄ１\"))","v":""},"","","","","","","",{"$f":"IF(S352=\"\",\"\",COUNTIF($S$7:S352,\"該当２\"))","v":""},"","",{"$f":"IF(V352=\"\",\"\",COUNTIF($V$7:V352,\"該当３\"))","v":""}]
[1920602002,19,{"v":206,"d":"206 "},{"v":2,"d":"02 "},{"v":2,"d":"002 "},"山梨県","大月市","初狩村","下初狩２区",null,"","",{"$f":"IF(K353=\"\",\"\",COUNTIF($K$7:K353,\"ﾘｽﾄ１\"))","v":""},"","","","","","","",{"$f":"IF(S353=\"\",\"\",COUNTIF($S$7:S353,\"該当２\"))","v":""},"","",{"$f":"IF(V353=\"\",\"\",COUNTIF($V$7:V353,\"該当３\"))","v":""}]
[1920602003,19,{"v":206,"d":"206 "},{"v":2,"d":"02 "},{"v":3,"d":"003 "},"山梨県","大月市","初狩村","藤沢",null,"","",{"$f":"IF(K354=\"\",\"\",COUNTIF($K$7:K354,\"ﾘｽﾄ１\"))","v":""},"","","","","","","",{"$f":"IF(S354=\"\",\"\",COUNTIF($S$7:S354,\"該当２\"))","v":""},"","",{"$f":"IF(V354=\"\",\"\",COUNTIF($V$7:V354,\"該当３\"))","v":""}]
[1920602004,19,{"v":206,"d":"206 "},{"v":2,"d":"02 "},{"v":4,"d":"004 "},"山梨県","大月市","初狩村","側子",null,"","",{"$f":"IF(K355=\"\",\"\",COUNTIF($K$7:K355,\"ﾘｽﾄ１\"))","v":""},"","","","","","","",{"$f":"IF(S355=\"\",\"\",COUNTIF($S$7:S355,\"該当２\"))","v":""},"","",{"$f":"IF(V355=\"\",\"\",COUNTIF($V$7:V355,\"該当３\"))","v":""}]
[1920602006,19,{"v":206,"d":"206 "},{"v":2,"d":"02 "},{"v":6,"d":"006 "},"山梨県","大月市","初狩村","立河原",null,"","",{"$f":"IF(K356=\"\",\"\",COUNTIF($K$7:K356,\"ﾘｽﾄ１\"))","v":""},"","","","","","","",{"$f":"IF(S356=\"\",\"\",COUNTIF($S$7:S356,\"該当２\"))","v":""},"","",{"$f":"IF(V356=\"\",\"\",COUNTIF($V$7:V356,\"該当３\"))","v":""}]
[1920602007,19,{"v":206,"d":"206 "},{"v":2,"d":"02 "},{"v":7,"d":"007 "},"山梨県","大月市","初狩村","神戸",null,"","",{"$f":"IF(K357=\"\",\"\",COUNTIF($K$7:K357,\"ﾘｽﾄ１\"))","v":""},"","","","","","","",{"$f":"IF(S357=\"\",\"\",COUNTIF($S$7:S357,\"該当２\"))","v":""},"","",{"$f":"IF(V357=\"\",\"\",COUNTIF($V$7:V357,\"該当３\"))","v":""}]
[1920602008,19,{"v":206,"d":"206 "},{"v":2,"d":"02 "},{"v":8,"d":"008 "},"山梨県","大月市","初狩村","丸田",null,"","",{"$f":"IF(K358=\"\",\"\",COUNTIF($K$7:K358,\"ﾘｽﾄ１\"))","v":""},"","","","","","","",{"$f":"IF(S358=\"\",\"\",COUNTIF($S$7:S358,\"該当２\"))","v":""},"","",{"$f":"IF(V358=\"\",\"\",COUNTIF($V$7:V358,\"該当３\"))","v":""}]
[1920603000,19,{"v":206,"d":"206 "},{"v":3,"d":"03 "},{"v":0,"d":"000 "},"山梨県","大月市","大月町",null,null,"","",{"$f":"IF(K359=\"\",\"\",COUNTIF($K$7:K359,\"ﾘｽﾄ１\"))","v":""},"","","","","","","",{"$f":"IF(S359=\"\",\"\",COUNTIF($S$7:S359,\"該当２\"))","v":""},"","",{"$f":"IF(V359=\"\",\"\",COUNTIF($V$7:V359,\"該当３\"))","v":""}]
[1920603001,19,{"v":206,"d":"206 "},{"v":3,"d":"03 "},{"v":1,"d":"001 "},"山梨県","大月市","大月町","駒橋",null,"","",{"$f":"IF(K360=\"\",\"\",COUNTIF($K$7:K360,\"ﾘｽﾄ１\"))","v":""},"","","","","","","",{"$f":"IF(S360=\"\",\"\",COUNTIF($S$7:S360,\"該当２\"))","v":""},"","",{"$f":"IF(V360=\"\",\"\",COUNTIF($V$7:V360,\"該当３\"))","v":""}]
[1920603002,19,{"v":206,"d":"206 "},{"v":3,"d":"03 "},{"v":2,"d":"002 "},"山梨県","大月市","大月町","御太刀",null,"","",{"$f":"IF(K361=\"\",\"\",COUNTIF($K$7:K361,\"ﾘｽﾄ１\"))","v":""},"","","","","","","",{"$f":"IF(S361=\"\",\"\",COUNTIF($S$7:S361,\"該当２\"))","v":""},"","",{"$f":"IF(V361=\"\",\"\",COUNTIF($V$7:V361,\"該当３\"))","v":""}]
[1920603003,19,{"v":206,"d":"206 "},{"v":3,"d":"03 "},{"v":3,"d":"003 "},"山梨県","大月市","大月町","大月",null,"","",{"$f":"IF(K362=\"\",\"\",COUNTIF($K$7:K362,\"ﾘｽﾄ１\"))","v":""},"","","","","","","",{"$f":"IF(S362=\"\",\"\",COUNTIF($S$7:S362,\"該当２\"))","v":""},"","",{"$f":"IF(V362=\"\",\"\",COUNTIF($V$7:V362,\"該当３\"))","v":""}]
[1920603004,19,{"v":206,"d":"206 "},{"v":3,"d":"03 "},{"v":4,"d":"004 "},"山梨県","大月市","大月町","沢井",null,"","",{"$f":"IF(K363=\"\",\"\",COUNTIF($K$7:K363,\"ﾘｽﾄ１\"))","v":""},"","","","","","","",{"$f":"IF(S363=\"\",\"\",COUNTIF($S$7:S363,\"該当２\"))","v":""},"","",{"$f":"IF(V363=\"\",\"\",COUNTIF($V$7:V363,\"該当３\"))","v":""}]
[1920603005,19,{"v":206,"d":"206 "},{"v":3,"d":"03 "},{"v":5,"d":"005 "},"山梨県","大月市","大月町","下花咲",null,"","",{"$f":"IF(K364=\"\",\"\",COUNTIF($K$7:K364,\"ﾘｽﾄ１\"))","v":""},"","","","","","","",{"$f":"IF(S364=\"\",\"\",COUNTIF($S$7:S364,\"該当２\"))","v":""},"","",{"$f":"IF(V364=\"\",\"\",COUNTIF($V$7:V364,\"該当３\"))","v":""}]
[1920603006,19,{"v":206,"d":"206 "},{"v":3,"d":"03 "},{"v":6,"d":"006 "},"山梨県","大月市","大月町","上花咲",null,"","",{"$f":"IF(K365=\"\",\"\",COUNTIF($K$7:K365,\"ﾘｽﾄ１\"))","v":""},"","","","","","","",{"$f":"IF(S365=\"\",\"\",COUNTIF($S$7:S365,\"該当２\"))","v":""},"","",{"$f":"IF(V365=\"\",\"\",COUNTIF($V$7:V365,\"該当３\"))","v":""}]
[1920603007,19,{"v":206,"d":"206 "},{"v":3,"d":"03 "},{"v":7,"d":"007 "},"山梨県","大月市","大月町","前沢",null,"","",{"$f":"IF(K366=\"\",\"\",COUNTIF($K$7:K366,\"ﾘｽﾄ１\"))","v":""},"","","","","","","",{"$f":"IF(S366=\"\",\"\",COUNTIF($S$7:S366,\"該当２\"))","v":""},"","",{"$f":"IF(V366=\"\",\"\",COUNTIF($V$7:V366,\"該当３\"))","v":""}]
[1920603008,19,{"v":206,"d":"206 "},{"v":3,"d":"03 "},{"v":8,"d":"008 "},"山梨県","大月市","大月町","久保",null,"","",{"$f":"IF(K367=\"\",\"\",COUNTIF($K$7:K367,\"ﾘｽﾄ１\"))","v":""},"","","","","","","",{"$f":"IF(S367=\"\",\"\",COUNTIF($S$7:S367,\"該当２\"))","v":""},"","",{"$f":"IF(V367=\"\",\"\",COUNTIF($V$7:V367,\"該当３\"))","v":""}]
[1920603009,19,{"v":206,"d":"206 "},{"v":3,"d":"03 "},{"v":9,"d":"009 "},"山梨県","大月市","大月町","青木原",null,"","",{"$f":"IF(K368=\"\",\"\",COUNTIF($K$7:K368,\"ﾘｽﾄ１\"))","v":""},"","","","","","","",{"$f":"IF(S368=\"\",\"\",COUNTIF($S$7:S368,\"該当２\"))","v":""},"","",{"$f":"IF(V368=\"\",\"\",COUNTIF($V$7:V368,\"該当３\"))","v":""}]
[1920603010,19,{"v":206,"d":"206 "},{"v":3,"d":"03 "},{"v":10,"d":"010 "},"山梨県","大月市","大月町","小佐野",null,"","",{"$f":"IF(K369=\"\",\"\",COUNTIF($K$7:K369,\"ﾘｽﾄ１\"))","v":""},"","","","","","","",{"$f":"IF(S369=\"\",\"\",COUNTIF($S$7:S369,\"該当２\"))","v":""},"","",{"$f":"IF(V369=\"\",\"\",COUNTIF($V$7:V369,\"該当３\"))","v":""}]
[1920603011,19,{"v":206,"d":"206 "},{"v":3,"d":"03 "},{"v":11,"d":"011 "},"山梨県","大月市","大月町","下原",null,"","",{"$f":"IF(K370=\"\",\"\",COUNTIF($K$7:K370,\"ﾘｽﾄ１\"))","v":""},"","","","","","","",{"$f":"IF(S370=\"\",\"\",COUNTIF($S$7:S370,\"該当２\"))","v":""},"","",{"$f":"IF(V370=\"\",\"\",COUNTIF($V$7:V370,\"該当３\"))","v":""}]
[1920603012,19,{"v":206,"d":"206 "},{"v":3,"d":"03 "},{"v":12,"d":"012 "},"山梨県","大月市","大月町","沢中",null,"","",{"$f":"IF(K371=\"\",\"\",COUNTIF($K$7:K371,\"ﾘｽﾄ１\"))","v":""},"","","","","","","",{"$f":"IF(S371=\"\",\"\",COUNTIF($S$7:S371,\"該当２\"))","v":""},"","",{"$f":"IF(V371=\"\",\"\",COUNTIF($V$7:V371,\"該当３\"))","v":""}]
[1920603013,19,{"v":206,"d":"206 "},{"v":3,"d":"03 "},{"v":13,"d":"013 "},"山梨県","大月市","大月町","上真木（下）",null,"","",{"$f":"IF(K372=\"\",\"\",COUNTIF($K$7:K372,\"ﾘｽﾄ１\"))","v":""},"","","","","","","",{"$f":"IF(S372=\"\",\"\",COUNTIF($S$7:S372,\"該当２\"))","v":""},"","",{"$f":"IF(V372=\"\",\"\",COUNTIF($V$7:V372,\"該当３\"))","v":""}]
[1920603014,19,{"v":206,"d":"206 "},{"v":3,"d":"03 "},{"v":14,"d":"014 "},"山梨県","大月市","大月町","上真木（上）",null,"","",{"$f":"IF(K373=\"\",\"\",COUNTIF($K$7:K373,\"ﾘｽﾄ１\"))","v":""},"","","","","","","",{"$f":"IF(S373=\"\",\"\",COUNTIF($S$7:S373,\"該当２\"))","v":""},"","",{"$f":"IF(V373=\"\",\"\",COUNTIF($V$7:V373,\"該当３\"))","v":""}]
[1920603015,19,{"v":206,"d":"206 "},{"v":3,"d":"03 "},{"v":15,"d":"015 "},"山梨県","大月市","大月町","間明野",null,"","",{"$f":"IF(K374=\"\",\"\",COUNTIF($K$7:K374,\"ﾘｽﾄ１\"))","v":""},"","","","","","","",{"$f":"IF(S374=\"\",\"\",COUNTIF($S$7:S374,\"該当２\"))","v":""},"","",{"$f":"IF(V374=\"\",\"\",COUNTIF($V$7:V374,\"該当３\"))","v":""}]
[1920603016,19,{"v":206,"d":"206 "},{"v":3,"d":"03 "},{"v":16,"d":"016 "},"山梨県","大月市","大月町","桑西",null,"","",{"$f":"IF(K375=\"\",\"\",COUNTIF($K$7:K375,\"ﾘｽﾄ１\"))","v":""},"","","","","","","",{"$f":"IF(S375=\"\",\"\",COUNTIF($S$7:S375,\"該当２\"))","v":""},"","",{"$f":"IF(V375=\"\",\"\",COUNTIF($V$7:V375,\"該当３\"))","v":""}]
[1920603017,19,{"v":206,"d":"206 "},{"v":3,"d":"03 "},{"v":17,"d":"017 "},"山梨県","大月市","大月町","恵能野",null,"","",{"$f":"IF(K376=\"\",\"\",COUNTIF($K$7:K376,\"ﾘｽﾄ１\"))","v":""},"","","","","","","",{"$f":"IF(S376=\"\",\"\",COUNTIF($S$7:S376,\"該当２\"))","v":""},"","",{"$f":"IF(V376=\"\",\"\",COUNTIF($V$7:V376,\"該当３\"))","v":""}]
[1920604000,19,{"v":206,"d":"206 "},{"v":4,"d":"04 "},{"v":0,"d":"000 "},"山梨県","大月市","賑岡村",null,null,"","",{"$f":"IF(K377=\"\",\"\",COUNTIF($K$7:K377,\"ﾘｽﾄ１\"))","v":""},"","","","","","","",{"$f":"IF(S377=\"\",\"\",COUNTIF($S$7:S377,\"該当２\"))","v":""},"","",{"$f":"IF(V377=\"\",\"\",COUNTIF($V$7:V377,\"該当３\"))","v":""}]
[1920604001,19,{"v":206,"d":"206 "},{"v":4,"d":"04 "},{"v":1,"d":"001 "},"山梨県","大月市","賑岡村","浅利",null,"","",{"$f":"IF(K378=\"\",\"\",COUNTIF($K$7:K378,\"ﾘｽﾄ１\"))","v":""},"","","","","","","",{"$f":"IF(S378=\"\",\"\",COUNTIF($S$7:S378,\"該当２\"))","v":""},"","",{"$f":"IF(V378=\"\",\"\",COUNTIF($V$7:V378,\"該当３\"))","v":""}]
[1920604002,19,{"v":206,"d":"206 "},{"v":4,"d":"04 "},{"v":2,"d":"002 "},"山梨県","大月市","賑岡村","強瀬",null,"","",{"$f":"IF(K379=\"\",\"\",COUNTIF($K$7:K379,\"ﾘｽﾄ１\"))","v":""},"","","","","","","",{"$f":"IF(S379=\"\",\"\",COUNTIF($S$7:S379,\"該当２\"))","v":""},"","",{"$f":"IF(V379=\"\",\"\",COUNTIF($V$7:V379,\"該当３\"))","v":""}]
[1920604003,19,{"v":206,"d":"206 "},{"v":4,"d":"04 "},{"v":3,"d":"003 "},"山梨県","大月市","賑岡村","岩殿",null,"","",{"$f":"IF(K380=\"\",\"\",COUNTIF($K$7:K380,\"ﾘｽﾄ１\"))","v":""},"","","","","","","",{"$f":"IF(S380=\"\",\"\",COUNTIF($S$7:S380,\"該当２\"))","v":""},"","",{"$f":"IF(V380=\"\",\"\",COUNTIF($V$7:V380,\"該当３\"))","v":""}]
[1920604004,19,{"v":206,"d":"206 "},{"v":4,"d":"04 "},{"v":4,"d":"004 "},"山梨県","大月市","賑岡村","畑倉",null,"","",{"$f":"IF(K381=\"\",\"\",COUNTIF($K$7:K381,\"ﾘｽﾄ１\"))","v":""},"","","","","","","",{"$f":"IF(S381=\"\",\"\",COUNTIF($S$7:S381,\"該当２\"))","v":""},"","",{"$f":"IF(V381=\"\",\"\",COUNTIF($V$7:V381,\"該当３\"))","v":""}]
[1920604005,19,{"v":206,"d":"206 "},{"v":4,"d":"04 "},{"v":5,"d":"005 "},"山梨県","大月市","賑岡村","東奥山",null,"","",{"$f":"IF(K382=\"\",\"\",COUNTIF($K$7:K382,\"ﾘｽﾄ１\"))","v":""},"","","","","","","",{"$f":"IF(S382=\"\",\"\",COUNTIF($S$7:S382,\"該当２\"))","v":""},"","",{"$f":"IF(V382=\"\",\"\",COUNTIF($V$7:V382,\"該当３\"))","v":""}]
[1920604006,19,{"v":206,"d":"206 "},{"v":4,"d":"04 "},{"v":6,"d":"006 "},"山梨県","大月市","賑岡村","西奥山",null,"","",{"$f":"IF(K383=\"\",\"\",COUNTIF($K$7:K383,\"ﾘｽﾄ１\"))","v":""},"","","","","","","",{"$f":"IF(S383=\"\",\"\",COUNTIF($S$7:S383,\"該当２\"))","v":""},"","",{"$f":"IF(V383=\"\",\"\",COUNTIF($V$7:V383,\"該当３\"))","v":""}]
[1920605000,19,{"v":206,"d":"206 "},{"v":5,"d":"05 "},{"v":0,"d":"000 "},"山梨県","大月市","七保村",null,null,"","",{"$f":"IF(K384=\"\",\"\",COUNTIF($K$7:K384,\"ﾘｽﾄ１\"))","v":""},"","","","","","","",{"$f":"IF(S384=\"\",\"\",COUNTIF($S$7:S384,\"該当２\"))","v":""},"","",{"$f":"IF(V384=\"\",\"\",COUNTIF($V$7:V384,\"該当３\"))","v":""}]
[1920605001,19,{"v":206,"d":"206 "},{"v":5,"d":"05 "},{"v":1,"d":"001 "},"山梨県","大月市","七保村","下和田",null,"","",{"$f":"IF(K385=\"\",\"\",COUNTIF($K$7:K385,\"ﾘｽﾄ１\"))","v":""},"","","","","","","",{"$f":"IF(S385=\"\",\"\",COUNTIF($S$7:S385,\"該当２\"))","v":""},"","",{"$f":"IF(V385=\"\",\"\",COUNTIF($V$7:V385,\"該当３\"))","v":""}]
[1920605002,19,{"v":206,"d":"206 "},{"v":5,"d":"05 "},{"v":2,"d":"002 "},"山梨県","大月市","七保村","大島",null,"","",{"$f":"IF(K386=\"\",\"\",COUNTIF($K$7:K386,\"ﾘｽﾄ１\"))","v":""},"","","","","","","",{"$f":"IF(S386=\"\",\"\",COUNTIF($S$7:S386,\"該当２\"))","v":""},"","",{"$f":"IF(V386=\"\",\"\",COUNTIF($V$7:V386,\"該当３\"))","v":""}]
[1920605003,19,{"v":206,"d":"206 "},{"v":5,"d":"05 "},{"v":3,"d":"003 "},"山梨県","大月市","七保村","葛野",null,"","",{"$f":"IF(K387=\"\",\"\",COUNTIF($K$7:K387,\"ﾘｽﾄ１\"))","v":""},"","","","","","","",{"$f":"IF(S387=\"\",\"\",COUNTIF($S$7:S387,\"該当２\"))","v":""},"","",{"$f":"IF(V387=\"\",\"\",COUNTIF($V$7:V387,\"該当３\"))","v":""}]
[1920605004,19,{"v":206,"d":"206 "},{"v":5,"d":"05 "},{"v":4,"d":"004 "},"山梨県","大月市","七保村","田無瀬",null,"","",{"$f":"IF(K388=\"\",\"\",COUNTIF($K$7:K388,\"ﾘｽﾄ１\"))","v":""},"","","","","","","",{"$f":"IF(S388=\"\",\"\",COUNTIF($S$7:S388,\"該当２\"))","v":""},"","",{"$f":"IF(V388=\"\",\"\",COUNTIF($V$7:V388,\"該当３\"))","v":""}]
[1920605005,19,{"v":206,"d":"206 "},{"v":5,"d":"05 "},{"v":5,"d":"005 "},"山梨県","大月市","七保村","林",null,"","",{"$f":"IF(K389=\"\",\"\",COUNTIF($K$7:K389,\"ﾘｽﾄ１\"))","v":""},"","","","","","","",{"$f":"IF(S389=\"\",\"\",COUNTIF($S$7:S389,\"該当２\"))","v":""},"","",{"$f":"IF(V389=\"\",\"\",COUNTIF($V$7:V389,\"該当３\"))","v":""}]
[1920605006,19,{"v":206,"d":"206 "},{"v":5,"d":"05 "},{"v":6,"d":"006 "},"山梨県","大月市","七保村","奈良子",null,"","",{"$f":"IF(K390=\"\",\"\",COUNTIF($K$7:K390,\"ﾘｽﾄ１\"))","v":""},"","","","","","","",{"$f":"IF(S390=\"\",\"\",COUNTIF($S$7:S390,\"該当２\"))","v":""},"","",{"$f":"IF(V390=\"\",\"\",COUNTIF($V$7:V390,\"該当３\"))","v":""}]
[1920605007,19,{"v":206,"d":"206 "},{"v":5,"d":"05 "},{"v":7,"d":"007 "},"山梨県","大月市","七保村","下瀬戸",null,"","",{"$f":"IF(K391=\"\",\"\",COUNTIF($K$7:K391,\"ﾘｽﾄ１\"))","v":""},"","","","","","","",{"$f":"IF(S391=\"\",\"\",COUNTIF($S$7:S391,\"該当２\"))","v":""},"","",{"$f":"IF(V391=\"\",\"\",COUNTIF($V$7:V391,\"該当３\"))","v":""}]
[1920605008,19,{"v":206,"d":"206 "},{"v":5,"d":"05 "},{"v":8,"d":"008 "},"山梨県","大月市","七保村","吉平，草木",null,"","",{"$f":"IF(K392=\"\",\"\",COUNTIF($K$7:K392,\"ﾘｽﾄ１\"))","v":""},"","",{"$f":"IF(O392=\"該当１\",G392,\"\")","v":""},{"$f":"IF(O392=\"該当１\",\"ﾘｽﾄ2\",\"\")","v":""},{"$f":"IF(Q392=\"ﾘｽﾄ2\",H392,\"\")","v":""},"",{"$f":"IF(S392=\"該当２\",H392,\"\")","v":""},{"$f":"IF(S392=\"\",\"\",COUNTIF($S$7:S392,\"該当２\"))","v":""},{"$f":"IF(AND($S$2=H392,E392>0,E392<998),\"該当３\",\"\")","v":""},{"$f":"IF(V392=\"該当３\",I392,\"\")","v":""},{"$f":"IF(V392=\"\",\"\",COUNTIF($V$7:V392,\"該当３\"))","v":""}]
[1920605009,19,{"v":206,"d":"206 "},{"v":5,"d":"05 "},{"v":9,"d":"009 "},"山梨県","大月市","七保村","瀬戸",null,{"$f":"IF(AND($C393>0,$H393=\"\"),\"ﾘｽﾄ１\",\"\")","v":""},{"$f":"IF(K393=\"ﾘｽﾄ１\",G393,\"\")","v":""},{"$f":"IF(K393=\"\",\"\",COUNTIF($K$7:K393,\"ﾘｽﾄ１\"))","v":""},{"$f":"IF(AND(D393=0,E393>0),\"同一区\",\"\")","v":""},{"$f":"IF(AND(EXACT($K$2,G393),H393>0),\"該当１\",\"\")","v":""},"","","",{"$f":"IF(AND(Q393=\"ﾘｽﾄ2\",OR(I393=0,AND(N393=\"同一区\",E393=1))),\"該当２\",\"\")","v":""},"",{"$f":"IF(S393=\"\",\"\",COUNTIF($S$7:S393,\"該当２\"))","v":""},"","",{"$f":"IF(V393=\"\",\"\",COUNTIF($V$7:V393,\"該当３\"))","v":""}]
[1920605010,19,{"v":206,"d":"206 "},{"v":5,"d":"05 "},{"v":10,"d":"010 "},"山梨県","大月市","七保村","上和田",null,"","",{"$f":"IF(K394=\"\",\"\",COUNTIF($K$7:K394,\"ﾘｽﾄ１\"))","v":""},"","","","","","","",{"$f":"IF(S394=\"\",\"\",COUNTIF($S$7:S394,\"該当２\"))","v":""},"","",{"$f":"IF(V394=\"\",\"\",COUNTIF($V$7:V394,\"該当３\"))","v":""}]
[1920605011,19,{"v":206,"d":"206 "},{"v":5,"d":"05 "},{"v":11,"d":"011 "},"山梨県","大月市","七保村","小金沢",null,"","",{"$f":"IF(K395=\"\",\"\",COUNTIF($K$7:K395,\"ﾘｽﾄ１\"))","v":""},"","","","","","","",{"$f":"IF(S395=\"\",\"\",COUNTIF($S$7:S395,\"該当２\"))","v":""},"","",{"$f":"IF(V395=\"\",\"\",COUNTIF($V$7:V395,\"該当３\"))","v":""}]
[1920605012,19,{"v":206,"d":"206 "},{"v":5,"d":"05 "},{"v":12,"d":"012 "},"山梨県","大月市","七保村","駒宮",null,"","",{"$f":"IF(K396=\"\",\"\",COUNTIF($K$7:K396,\"ﾘｽﾄ１\"))","v":""},"","","","","","","",{"$f":"IF(S396=\"\",\"\",COUNTIF($S$7:S396,\"該当２\"))","v":""},"","",{"$f":"IF(V396=\"\",\"\",COUNTIF($V$7:V396,\"該当３\"))","v":""}]
[1920605013,19,{"v":206,"d":"206 "},{"v":5,"d":"05 "},{"v":13,"d":"013 "},"山梨県","大月市","七保村","浅川第１",null,"","",{"$f":"IF(K397=\"\",\"\",COUNTIF($K$7:K397,\"ﾘｽﾄ１\"))","v":""},"","","","","","","",{"$f":"IF(S397=\"\",\"\",COUNTIF($S$7:S397,\"該当２\"))","v":""},"","",{"$f":"IF(V397=\"\",\"\",COUNTIF($V$7:V397,\"該当３\"))","v":""}]
[1920605014,19,{"v":206,"d":"206 "},{"v":5,"d":"05 "},{"v":14,"d":"014 "},"山梨県","大月市","七保村","浅川中部",null,"","",{"$f":"IF(K398=\"\",\"\",COUNTIF($K$7:K398,\"ﾘｽﾄ１\"))","v":""},"","","","","","","",{"$f":"IF(S398=\"\",\"\",COUNTIF($S$7:S398,\"該当２\"))","v":""},"","",{"$f":"IF(V398=\"\",\"\",COUNTIF($V$7:V398,\"該当３\"))","v":""}]
[1920605015,19,{"v":206,"d":"206 "},{"v":5,"d":"05 "},{"v":15,"d":"015 "},"山梨県","大月市","七保村","浅川大入",null,"","",{"$f":"IF(K399=\"\",\"\",COUNTIF($K$7:K399,\"ﾘｽﾄ１\"))","v":""},"","","","","","","",{"$f":"IF(S399=\"\",\"\",COUNTIF($S$7:S399,\"該当２\"))","v":""},"","",{"$f":"IF(V399=\"\",\"\",COUNTIF($V$7:V399,\"該当３\"))","v":""}]
[1920605016,19,{"v":206,"d":"206 "},{"v":5,"d":"05 "},{"v":16,"d":"016 "},"山梨県","大月市","七保村","百蔵",null,"","",{"$f":"IF(K400=\"\",\"\",COUNTIF($K$7:K400,\"ﾘｽﾄ１\"))","v":""},"","","","","","","",{"$f":"IF(S400=\"\",\"\",COUNTIF($S$7:S400,\"該当２\"))","v":""},"","",{"$f":"IF(V400=\"\",\"\",COUNTIF($V$7:V400,\"該当３\"))","v":""}]
[1920606000,19,{"v":206,"d":"206 "},{"v":6,"d":"06 "},{"v":0,"d":"000 "},"山梨県","大月市","猿橋町",null,null,"","",{"$f":"IF(K401=\"\",\"\",COUNTIF($K$7:K401,\"ﾘｽﾄ１\"))","v":""},"","","","","","","",{"$f":"IF(S401=\"\",\"\",COUNTIF($S$7:S401,\"該当２\"))","v":""},"","",{"$f":"IF(V401=\"\",\"\",COUNTIF($V$7:V401,\"該当３\"))","v":""}]
[1920606001,19,{"v":206,"d":"206 "},{"v":6,"d":"06 "},{"v":1,"d":"001 "},"山梨県","大月市","猿橋町","小篠",null,"","",{"$f":"IF(K402=\"\",\"\",COUNTIF($K$7:K402,\"ﾘｽﾄ１\"))","v":""},"","","","","","","",{"$f":"IF(S402=\"\",\"\",COUNTIF($S$7:S402,\"該当２\"))","v":""},"","",{"$f":"IF(V402=\"\",\"\",COUNTIF($V$7:V402,\"該当３\"))","v":""}]
[1920606002,19,{"v":206,"d":"206 "},{"v":6,"d":"06 "},{"v":2,"d":"002 "},"山梨県","大月市","猿橋町","津成",null,"","",{"$f":"IF(K403=\"\",\"\",COUNTIF($K$7:K403,\"ﾘｽﾄ１\"))","v":""},"","","","","","","",{"$f":"IF(S403=\"\",\"\",COUNTIF($S$7:S403,\"該当２\"))","v":""},"","",{"$f":"IF(V403=\"\",\"\",COUNTIF($V$7:V403,\"該当３\"))","v":""}]
[1920606003,19,{"v":206,"d":"206 "},{"v":6,"d":"06 "},{"v":3,"d":"003 "},"山梨県","大月市","猿橋町","太田",null,"","",{"$f":"IF(K404=\"\",\"\",COUNTIF($K$7:K404,\"ﾘｽﾄ１\"))","v":""},"","","","","","","",{"$f":"IF(S404=\"\",\"\",COUNTIF($S$7:S404,\"該当２\"))","v":""},"","",{"$f":"IF(V404=\"\",\"\",COUNTIF($V$7:V404,\"該当３\"))","v":""}]
[1920606004,19,{"v":206,"d":"206 "},{"v":6,"d":"06 "},{"v":4,"d":"004 "},"山梨県","大月市","猿橋町","久保",null,"","",{"$f":"IF(K405=\"\",\"\",COUNTIF($K$7:K405,\"ﾘｽﾄ１\"))","v":""},"","","","","","","",{"$f":"IF(S405=\"\",\"\",COUNTIF($S$7:S405,\"該当２\"))","v":""},"","",{"$f":"IF(V405=\"\",\"\",COUNTIF($V$7:V405,\"該当３\"))","v":""}]
[1920606005,19,{"v":206,"d":"206 "},{"v":6,"d":"06 "},{"v":5,"d":"005 "},"山梨県","大月市","猿橋町","小田",null,"","",{"$f":"IF(K406=\"\",\"\",COUNTIF($K$7:K406,\"ﾘｽﾄ１\"))","v":""},"","","","","","","",{"$f":"IF(S406=\"\",\"\",COUNTIF($S$7:S406,\"該当２\"))","v":""},"","",{"$f":"IF(V406=\"\",\"\",COUNTIF($V$7:V406,\"該当３\"))","v":""}]
[1920606006,19,{"v":206,"d":"206 "},{"v":6,"d":"06 "},{"v":6,"d":"006 "},"山梨県","大月市","猿橋町","朝日小沢",null,"","",{"$f":"IF(K407=\"\",\"\",COUNTIF($K$7:K407,\"ﾘｽﾄ１\"))","v":""},"","","","","","","",{"$f":"IF(S407=\"\",\"\",COUNTIF($S$7:S407,\"該当２\"))","v":""},"","",{"$f":"IF(V407=\"\",\"\",COUNTIF($V$7:V407,\"該当３\"))","v":""}]
[1920606007,19,{"v":206,"d":"206 "},{"v":6,"d":"06 "},{"v":7,"d":"007 "},"山梨県","大月市","猿橋町","小沢",null,"","",{"$f":"IF(K408=\"\",\"\",COUNTIF($K$7:K408,\"ﾘｽﾄ１\"))","v":""},"","","","","","","",{"$f":"IF(S408=\"\",\"\",COUNTIF($S$7:S408,\"該当２\"))","v":""},"","",{"$f":"IF(V408=\"\",\"\",COUNTIF($V$7:V408,\"該当３\"))","v":""}]
[1920606008,19,{"v":206,"d":"206 "},{"v":6,"d":"06 "},{"v":8,"d":"008 "},"山梨県","大月市","猿橋町","田中",null,"","",{"$f":"IF(K409=\"\",\"\",COUNTIF($K$7:K409,\"ﾘｽﾄ１\"))","v":""},"","","","","","","",{"$f":"IF(S409=\"\",\"\",COUNTIF($S$7:S409,\"該当２\"))","v":""},"","",{"$f":"IF(V409=\"\",\"\",COUNTIF($V$7:V409,\"該当３\"))","v":""}]
[1920606009,19,{"v":206,"d":"206 "},{"v":6,"d":"06 "},{"v":9,"d":"009 "},"山梨県","大月市","猿橋町","幡野",null,"","",{"$f":"IF(K410=\"\",\"\",COUNTIF($K$7:K410,\"ﾘｽﾄ１\"))","v":""},"","","","","","","",{"$f":"IF(S410=\"\",\"\",COUNTIF($S$7:S410,\"該当２\"))","v":""},"","",{"$f":"IF(V410=\"\",\"\",COUNTIF($V$7:V410,\"該当３\"))","v":""}]
[1920606010,19,{"v":206,"d":"206 "},{"v":6,"d":"06 "},{"v":10,"d":"010 "},"山梨県","大月市","猿橋町","小倉",null,"","",{"$f":"IF(K411=\"\",\"\",COUNTIF($K$7:K411,\"ﾘｽﾄ１\"))","v":""},"","","","","","","",{"$f":"IF(S411=\"\",\"\",COUNTIF($S$7:S411,\"該当２\"))","v":""},"","",{"$f":"IF(V411=\"\",\"\",COUNTIF($V$7:V411,\"該当３\"))","v":""}]
[1920606011,19,{"v":206,"d":"206 "},{"v":6,"d":"06 "},{"v":11,"d":"011 "},"山梨県","大月市","猿橋町","橋向",null,"","",{"$f":"IF(K412=\"\",\"\",COUNTIF($K$7:K412,\"ﾘｽﾄ１\"))","v":""},"","","","","","","",{"$f":"IF(S412=\"\",\"\",COUNTIF($S$7:S412,\"該当２\"))","v":""},"","",{"$f":"IF(V412=\"\",\"\",COUNTIF($V$7:V412,\"該当３\"))","v":""}]
[1920606013,19,{"v":206,"d":"206 "},{"v":6,"d":"06 "},{"v":13,"d":"013 "},"山梨県","大月市","猿橋町","殿上",null,"","",{"$f":"IF(K413=\"\",\"\",COUNTIF($K$7:K413,\"ﾘｽﾄ１\"))","v":""},"","","","","","","",{"$f":"IF(S413=\"\",\"\",COUNTIF($S$7:S413,\"該当２\"))","v":""},"","",{"$f":"IF(V413=\"\",\"\",COUNTIF($V$7:V413,\"該当３\"))","v":""}]
[1920606014,19,{"v":206,"d":"206 "},{"v":6,"d":"06 "},{"v":14,"d":"014 "},"山梨県","大月市","猿橋町","本町",null,"","",{"$f":"IF(K414=\"\",\"\",COUNTIF($K$7:K414,\"ﾘｽﾄ１\"))","v":""},"","","","","","","",{"$f":"IF(S414=\"\",\"\",COUNTIF($S$7:S414,\"該当２\"))","v":""},"","",{"$f":"IF(V414=\"\",\"\",COUNTIF($V$7:V414,\"該当３\"))","v":""}]
[1920606015,19,{"v":206,"d":"206 "},{"v":6,"d":"06 "},{"v":15,"d":"015 "},"山梨県","大月市","猿橋町","伊良原",null,"","",{"$f":"IF(K415=\"\",\"\",COUNTIF($K$7:K415,\"ﾘｽﾄ１\"))","v":""},"","","","","","","",{"$f":"IF(S415=\"\",\"\",COUNTIF($S$7:S415,\"該当２\"))","v":""},"","",{"$f":"IF(V415=\"\",\"\",COUNTIF($V$7:V415,\"該当３\"))","v":""}]
[1920607000,19,{"v":206,"d":"206 "},{"v":7,"d":"07 "},{"v":0,"d":"000 "},"山梨県","大月市","富浜村",null,null,"","",{"$f":"IF(K416=\"\",\"\",COUNTIF($K$7:K416,\"ﾘｽﾄ１\"))","v":""},"","","","","","","",{"$f":"IF(S416=\"\",\"\",COUNTIF($S$7:S416,\"該当２\"))","v":""},"","",{"$f":"IF(V416=\"\",\"\",COUNTIF($V$7:V416,\"該当３\"))","v":""}]
[1920607001,19,{"v":206,"d":"206 "},{"v":7,"d":"07 "},{"v":1,"d":"001 "},"山梨県","大月市","富浜村","山谷",null,"","",{"$f":"IF(K417=\"\",\"\",COUNTIF($K$7:K417,\"ﾘｽﾄ１\"))","v":""},"","","","","","","",{"$f":"IF(S417=\"\",\"\",COUNTIF($S$7:S417,\"該当２\"))","v":""},"","",{"$f":"IF(V417=\"\",\"\",COUNTIF($V$7:V417,\"該当３\"))","v":""}]
[1920607003,19,{"v":206,"d":"206 "},{"v":7,"d":"07 "},{"v":3,"d":"003 "},"山梨県","大月市","富浜村","堀の内",null,"","",{"$f":"IF(K418=\"\",\"\",COUNTIF($K$7:K418,\"ﾘｽﾄ１\"))","v":""},"","","","","","","",{"$f":"IF(S418=\"\",\"\",COUNTIF($S$7:S418,\"該当２\"))","v":""},"","",{"$f":"IF(V418=\"\",\"\",COUNTIF($V$7:V418,\"該当３\"))","v":""}]
[1920607011,19,{"v":206,"d":"206 "},{"v":7,"d":"07 "},{"v":11,"d":"011 "},"山梨県","大月市","富浜村","大久保",null,"","",{"$f":"IF(K419=\"\",\"\",COUNTIF($K$7:K419,\"ﾘｽﾄ１\"))","v":""},"","","","","","","",{"$f":"IF(S419=\"\",\"\",COUNTIF($S$7:S419,\"該当２\"))","v":""},"","",{"$f":"IF(V419=\"\",\"\",COUNTIF($V$7:V419,\"該当３\"))","v":""}]
[1920607012,19,{"v":206,"d":"206 "},{"v":7,"d":"07 "},{"v":12,"d":"012 "},"山梨県","大月市","富浜村","小向",null,"","",{"$f":"IF(K420=\"\",\"\",COUNTIF($K$7:K420,\"ﾘｽﾄ１\"))","v":""},"","","","","","","",{"$f":"IF(S420=\"\",\"\",COUNTIF($S$7:S420,\"該当２\"))","v":""},"","",{"$f":"IF(V420=\"\",\"\",COUNTIF($V$7:V420,\"該当３\"))","v":""}]
[1920607020,19,{"v":206,"d":"206 "},{"v":7,"d":"07 "},{"v":20,"d":"020 "},"山梨県","大月市","富浜村","下鳥沢",null,"","",{"$f":"IF(K421=\"\",\"\",COUNTIF($K$7:K421,\"ﾘｽﾄ１\"))","v":""},"","","","","","","",{"$f":"IF(S421=\"\",\"\",COUNTIF($S$7:S421,\"該当２\"))","v":""},"","",{"$f":"IF(V421=\"\",\"\",COUNTIF($V$7:V421,\"該当３\"))","v":""}]
[1920607021,19,{"v":206,"d":"206 "},{"v":7,"d":"07 "},{"v":21,"d":"021 "},"山梨県","大月市","富浜村","上鳥沢",null,"","",{"$f":"IF(K422=\"\",\"\",COUNTIF($K$7:K422,\"ﾘｽﾄ１\"))","v":""},"","","","","","","",{"$f":"IF(S422=\"\",\"\",COUNTIF($S$7:S422,\"該当２\"))","v":""},"","",{"$f":"IF(V422=\"\",\"\",COUNTIF($V$7:V422,\"該当３\"))","v":""}]
[1920607022,19,{"v":206,"d":"206 "},{"v":7,"d":"07 "},{"v":22,"d":"022 "},"山梨県","大月市","富浜村","中野",null,"","",{"$f":"IF(K423=\"\",\"\",COUNTIF($K$7:K423,\"ﾘｽﾄ１\"))","v":""},"","","","","","","",{"$f":"IF(S423=\"\",\"\",COUNTIF($S$7:S423,\"該当２\"))","v":""},"","",{"$f":"IF(V423=\"\",\"\",COUNTIF($V$7:V423,\"該当３\"))","v":""}]
[1920607023,19,{"v":206,"d":"206 "},{"v":7,"d":"07 "},{"v":23,"d":"023 "},"山梨県","大月市","富浜村","寺向",null,"","",{"$f":"IF(K424=\"\",\"\",COUNTIF($K$7:K424,\"ﾘｽﾄ１\"))","v":""},"","","","","","","",{"$f":"IF(S424=\"\",\"\",COUNTIF($S$7:S424,\"該当２\"))","v":""},"","",{"$f":"IF(V424=\"\",\"\",COUNTIF($V$7:V424,\"該当３\"))","v":""}]
[1920607024,19,{"v":206,"d":"206 "},{"v":7,"d":"07 "},{"v":24,"d":"024 "},"山梨県","大月市","富浜村","袴着",null,"","",{"$f":"IF(K425=\"\",\"\",COUNTIF($K$7:K425,\"ﾘｽﾄ１\"))","v":""},"","","","","","","",{"$f":"IF(S425=\"\",\"\",COUNTIF($S$7:S425,\"該当２\"))","v":""},"","",{"$f":"IF(V425=\"\",\"\",COUNTIF($V$7:V425,\"該当３\"))","v":""}]
[1920607025,19,{"v":206,"d":"206 "},{"v":7,"d":"07 "},{"v":25,"d":"025 "},"山梨県","大月市","富浜村","新道",null,"","",{"$f":"IF(K426=\"\",\"\",COUNTIF($K$7:K426,\"ﾘｽﾄ１\"))","v":""},"","","","","","","",{"$f":"IF(S426=\"\",\"\",COUNTIF($S$7:S426,\"該当２\"))","v":""},"","",{"$f":"IF(V426=\"\",\"\",COUNTIF($V$7:V426,\"該当３\"))","v":""}]
[1920607026,19,{"v":206,"d":"206 "},{"v":7,"d":"07 "},{"v":26,"d":"026 "},"山梨県","大月市","富浜村","宮谷（第一）",null,"","",{"$f":"IF(K427=\"\",\"\",COUNTIF($K$7:K427,\"ﾘｽﾄ１\"))","v":""},"","","","","","","",{"$f":"IF(S427=\"\",\"\",COUNTIF($S$7:S427,\"該当２\"))","v":""},"","",{"$f":"IF(V427=\"\",\"\",COUNTIF($V$7:V427,\"該当３\"))","v":""}]
[1920607027,19,{"v":206,"d":"206 "},{"v":7,"d":"07 "},{"v":27,"d":"027 "},"山梨県","大月市","富浜村","宮谷（第二）",null,"","",{"$f":"IF(K428=\"\",\"\",COUNTIF($K$7:K428,\"ﾘｽﾄ１\"))","v":""},"","","","","","","",{"$f":"IF(S428=\"\",\"\",COUNTIF($S$7:S428,\"該当２\"))","v":""},"","",{"$f":"IF(V428=\"\",\"\",COUNTIF($V$7:V428,\"該当３\"))","v":""}]
[1920608000,19,{"v":206,"d":"206 "},{"v":8,"d":"08 "},{"v":0,"d":"000 "},"山梨県","大月市","梁川村",null,null,"","",{"$f":"IF(K429=\"\",\"\",COUNTIF($K$7:K429,\"ﾘｽﾄ１\"))","v":""},"","","","","","","",{"$f":"IF(S429=\"\",\"\",COUNTIF($S$7:S429,\"該当２\"))","v":""},"","",{"$f":"IF(V429=\"\",\"\",COUNTIF($V$7:V429,\"該当３\"))","v":""}]
[1920608001,19,{"v":206,"d":"206 "},{"v":8,"d":"08 "},{"v":1,"d":"001 "},"山梨県","大月市","梁川村","斧窪",null,"","",{"$f":"IF(K430=\"\",\"\",COUNTIF($K$7:K430,\"ﾘｽﾄ１\"))","v":""},"","","","","","","",{"$f":"IF(S430=\"\",\"\",COUNTIF($S$7:S430,\"該当２\"))","v":""},"","",{"$f":"IF(V430=\"\",\"\",COUNTIF($V$7:V430,\"該当３\"))","v":""}]
[1920608002,19,{"v":206,"d":"206 "},{"v":8,"d":"08 "},{"v":2,"d":"002 "},"山梨県","大月市","梁川村","彦田",null,"","",{"$f":"IF(K431=\"\",\"\",COUNTIF($K$7:K431,\"ﾘｽﾄ１\"))","v":""},"","","","","","","",{"$f":"IF(S431=\"\",\"\",COUNTIF($S$7:S431,\"該当２\"))","v":""},"","",{"$f":"IF(V431=\"\",\"\",COUNTIF($V$7:V431,\"該当３\"))","v":""}]
[1920608003,19,{"v":206,"d":"206 "},{"v":8,"d":"08 "},{"v":3,"d":"003 "},"山梨県","大月市","梁川村","西綱本",null,"","",{"$f":"IF(K432=\"\",\"\",COUNTIF($K$7:K432,\"ﾘｽﾄ１\"))","v":""},"","","","","","","",{"$f":"IF(S432=\"\",\"\",COUNTIF($S$7:S432,\"該当２\"))","v":""},"","",{"$f":"IF(V432=\"\",\"\",COUNTIF($V$7:V432,\"該当３\"))","v":""}]
[1920608004,19,{"v":206,"d":"206 "},{"v":8,"d":"08 "},{"v":4,"d":"004 "},"山梨県","大月市","梁川村","原",null,"","",{"$f":"IF(K433=\"\",\"\",COUNTIF($K$7:K433,\"ﾘｽﾄ１\"))","v":""},"","","","","","","",{"$f":"IF(S433=\"\",\"\",COUNTIF($S$7:S433,\"該当２\"))","v":""},"","",{"$f":"IF(V433=\"\",\"\",COUNTIF($V$7:V433,\"該当３\"))","v":""}]
[1920608005,19,{"v":206,"d":"206 "},{"v":8,"d":"08 "},{"v":5,"d":"005 "},"山梨県","大月市","梁川村","新倉",null,"","",{"$f":"IF(K434=\"\",\"\",COUNTIF($K$7:K434,\"ﾘｽﾄ１\"))","v":""},"","","","","","","",{"$f":"IF(S434=\"\",\"\",COUNTIF($S$7:S434,\"該当２\"))","v":""},"","",{"$f":"IF(V434=\"\",\"\",COUNTIF($V$7:V434,\"該当３\"))","v":""}]
[1920608006,19,{"v":206,"d":"206 "},{"v":8,"d":"08 "},{"v":6,"d":"006 "},"山梨県","大月市","梁川村","清水",null,"","",{"$f":"IF(K435=\"\",\"\",COUNTIF($K$7:K435,\"ﾘｽﾄ１\"))","v":""},"","","","","","","",{"$f":"IF(S435=\"\",\"\",COUNTIF($S$7:S435,\"該当２\"))","v":""},"","",{"$f":"IF(V435=\"\",\"\",COUNTIF($V$7:V435,\"該当３\"))","v":""}]
[1920608007,19,{"v":206,"d":"206 "},{"v":8,"d":"08 "},{"v":7,"d":"007 "},"山梨県","大月市","梁川村","中金",null,"","",{"$f":"IF(K436=\"\",\"\",COUNTIF($K$7:K436,\"ﾘｽﾄ１\"))","v":""},"","","","","","","",{"$f":"IF(S436=\"\",\"\",COUNTIF($S$7:S436,\"該当２\"))","v":""},"","",{"$f":"IF(V436=\"\",\"\",COUNTIF($V$7:V436,\"該当３\"))","v":""}]
[1920608008,19,{"v":206,"d":"206 "},{"v":8,"d":"08 "},{"v":8,"d":"008 "},"山梨県","大月市","梁川村","西塩瀬",null,"","",{"$f":"IF(K437=\"\",\"\",COUNTIF($K$7:K437,\"ﾘｽﾄ１\"))","v":""},"","","","","","","",{"$f":"IF(S437=\"\",\"\",COUNTIF($S$7:S437,\"該当２\"))","v":""},"","",{"$f":"IF(V437=\"\",\"\",COUNTIF($V$7:V437,\"該当３\"))","v":""}]
[1920608009,19,{"v":206,"d":"206 "},{"v":8,"d":"08 "},{"v":9,"d":"009 "},"山梨県","大月市","梁川村","立野",null,"","",{"$f":"IF(K438=\"\",\"\",COUNTIF($K$7:K438,\"ﾘｽﾄ１\"))","v":""},"","","","","","","",{"$f":"IF(S438=\"\",\"\",COUNTIF($S$7:S438,\"該当２\"))","v":""},"","",{"$f":"IF(V438=\"\",\"\",COUNTIF($V$7:V438,\"該当３\"))","v":""}]
[1920608010,19,{"v":206,"d":"206 "},{"v":8,"d":"08 "},{"v":10,"d":"010 "},"山梨県","大月市","梁川村","下畑",null,"","",{"$f":"IF(K439=\"\",\"\",COUNTIF($K$7:K439,\"ﾘｽﾄ１\"))","v":""},"","","","","","","",{"$f":"IF(S439=\"\",\"\",COUNTIF($S$7:S439,\"該当２\"))","v":""},"","",{"$f":"IF(V439=\"\",\"\",COUNTIF($V$7:V439,\"該当３\"))","v":""}]
[1920700000,19,{"v":207,"d":"207 "},{"v":0,"d":"00 "},{"v":0,"d":"000 "},"山梨県","韮崎市",{"$nulls":3},"ﾘｽﾄ１","韮崎市",{"$f":"IF(K440=\"\",\"\",COUNTIF($K$7:K440,\"ﾘｽﾄ１\"))","v":6},"","","","","","","",{"$f":"IF(S440=\"\",\"\",COUNTIF($S$7:S440,\"該当２\"))","v":""},"","",{"$f":"IF(V440=\"\",\"\",COUNTIF($V$7:V440,\"該当３\"))","v":""}]
[1920701000,19,{"v":207,"d":"207 "},{"v":1,"d":"01 "},{"v":0,"d":"000 "},"山梨県","韮崎市","韮崎町",null,null,"","",{"$f":"IF(K441=\"\",\"\",COUNTIF($K$7:K441,\"ﾘｽﾄ１\"))","v":""},"","","","","","","",{"$f":"IF(S441=\"\",\"\",COUNTIF($S$7:S441,\"該当２\"))","v":""},"","",{"$f":"IF(V441=\"\",\"\",COUNTIF($V$7:V441,\"該当３\"))","v":""}]
[1920701001,19,{"v":207,"d":"207 "},{"v":1,"d":"01 "},{"v":1,"d":"001 "},"山梨県","韮崎市","韮崎町","上の山",null,"","",{"$f":"IF(K442=\"\",\"\",COUNTIF($K$7:K442,\"ﾘｽﾄ１\"))","v":""},"","","","","","","",{"$f":"IF(S442=\"\",\"\",COUNTIF($S$7:S442,\"該当２\"))","v":""},"","",{"$f":"IF(V442=\"\",\"\",COUNTIF($V$7:V442,\"該当３\"))","v":""}]
[1920701002,19,{"v":207,"d":"207 "},{"v":1,"d":"01 "},{"v":2,"d":"002 "},"山梨県","韮崎市","韮崎町","岩下",null,"","",{"$f":"IF(K443=\"\",\"\",COUNTIF($K$7:K443,\"ﾘｽﾄ１\"))","v":""},"","","","","","","",{"$f":"IF(S443=\"\",\"\",COUNTIF($S$7:S443,\"該当２\"))","v":""},"","",{"$f":"IF(V443=\"\",\"\",COUNTIF($V$7:V443,\"該当３\"))","v":""}]
[1920701003,19,{"v":207,"d":"207 "},{"v":1,"d":"01 "},{"v":3,"d":"003 "},"山梨県","韮崎市","韮崎町","一ツ谷",null,"","",{"$f":"IF(K444=\"\",\"\",COUNTIF($K$7:K444,\"ﾘｽﾄ１\"))","v":""},"","","","","","","",{"$f":"IF(S444=\"\",\"\",COUNTIF($S$7:S444,\"該当２\"))","v":""},"","",{"$f":"IF(V444=\"\",\"\",COUNTIF($V$7:V444,\"該当３\"))","v":""}]
[1920701004,19,{"v":207,"d":"207 "},{"v":1,"d":"01 "},{"v":4,"d":"004 "},"山梨県","韮崎市","韮崎町","上祖母石",null,"","",{"$f":"IF(K445=\"\",\"\",COUNTIF($K$7:K445,\"ﾘｽﾄ１\"))","v":""},"","","","","","","",{"$f":"IF(S445=\"\",\"\",COUNTIF($S$7:S445,\"該当２\"))","v":""},"","",{"$f":"IF(V445=\"\",\"\",COUNTIF($V$7:V445,\"該当３\"))","v":""}]
[1920701005,19,{"v":207,"d":"207 "},{"v":1,"d":"01 "},{"v":5,"d":"005 "},"山梨県","韮崎市","韮崎町","下祖母石",null,"","",{"$f":"IF(K446=\"\",\"\",COUNTIF($K$7:K446,\"ﾘｽﾄ１\"))","v":""},"","","","","","","",{"$f":"IF(S446=\"\",\"\",COUNTIF($S$7:S446,\"該当２\"))","v":""},"","",{"$f":"IF(V446=\"\",\"\",COUNTIF($V$7:V446,\"該当３\"))","v":""}]
[1920701006,19,{"v":207,"d":"207 "},{"v":1,"d":"01 "},{"v":6,"d":"006 "},"山梨県","韮崎市","韮崎町","本町１区",null,"","",{"$f":"IF(K447=\"\",\"\",COUNTIF($K$7:K447,\"ﾘｽﾄ１\"))","v":""},"","","","","","","",{"$f":"IF(S447=\"\",\"\",COUNTIF($S$7:S447,\"該当２\"))","v":""},"","",{"$f":"IF(V447=\"\",\"\",COUNTIF($V$7:V447,\"該当３\"))","v":""}]
[1920701007,19,{"v":207,"d":"207 "},{"v":1,"d":"01 "},{"v":7,"d":"007 "},"山梨県","韮崎市","韮崎町","本町２区",null,"","",{"$f":"IF(K448=\"\",\"\",COUNTIF($K$7:K448,\"ﾘｽﾄ１\"))","v":""},"","","","","","","",{"$f":"IF(S448=\"\",\"\",COUNTIF($S$7:S448,\"該当２\"))","v":""},"","",{"$f":"IF(V448=\"\",\"\",COUNTIF($V$7:V448,\"該当３\"))","v":""}]
[1920701008,19,{"v":207,"d":"207 "},{"v":1,"d":"01 "},{"v":8,"d":"008 "},"山梨県","韮崎市","韮崎町","本町３，４，５，９区",null,"","",{"$f":"IF(K449=\"\",\"\",COUNTIF($K$7:K449,\"ﾘｽﾄ１\"))","v":""},"","","","","","","",{"$f":"IF(S449=\"\",\"\",COUNTIF($S$7:S449,\"該当２\"))","v":""},"","",{"$f":"IF(V449=\"\",\"\",COUNTIF($V$7:V449,\"該当３\"))","v":""}]
[1920701009,19,{"v":207,"d":"207 "},{"v":1,"d":"01 "},{"v":9,"d":"009 "},"山梨県","韮崎市","韮崎町","本町６区",null,"","",{"$f":"IF(K450=\"\",\"\",COUNTIF($K$7:K450,\"ﾘｽﾄ１\"))","v":""},"","","","","","","",{"$f":"IF(S450=\"\",\"\",COUNTIF($S$7:S450,\"該当２\"))","v":""},"","",{"$f":"IF(V450=\"\",\"\",COUNTIF($V$7:V450,\"該当３\"))","v":""}]
[1920701010,19,{"v":207,"d":"207 "},{"v":1,"d":"01 "},{"v":10,"d":"010 "},"山梨県","韮崎市","韮崎町","本町７区",null,"","",{"$f":"IF(K451=\"\",\"\",COUNTIF($K$7:K451,\"ﾘｽﾄ１\"))","v":""},"","","","","","","",{"$f":"IF(S451=\"\",\"\",COUNTIF($S$7:S451,\"該当２\"))","v":""},"","",{"$f":"IF(V451=\"\",\"\",COUNTIF($V$7:V451,\"該当３\"))","v":""}]
[1920701011,19,{"v":207,"d":"207 "},{"v":1,"d":"01 "},{"v":11,"d":"011 "},"山梨県","韮崎市","韮崎町","本町８区",null,"","",{"$f":"IF(K452=\"\",\"\",COUNTIF($K$7:K452,\"ﾘｽﾄ１\"))","v":""},"","","","","","","",{"$f":"IF(S452=\"\",\"\",COUNTIF($S$7:S452,\"該当２\"))","v":""},"","",{"$f":"IF(V452=\"\",\"\",COUNTIF($V$7:V452,\"該当３\"))","v":""}]
[1920701012,19,{"v":207,"d":"207 "},{"v":1,"d":"01 "},{"v":12,"d":"012 "},"山梨県","韮崎市","韮崎町","本町１０区",null,"","",{"$f":"IF(K453=\"\",\"\",COUNTIF($K$7:K453,\"ﾘｽﾄ１\"))","v":""},"","","","","","","",{"$f":"IF(S453=\"\",\"\",COUNTIF($S$7:S453,\"該当２\"))","v":""},"","",{"$f":"IF(V453=\"\",\"\",COUNTIF($V$7:V453,\"該当３\"))","v":""}]
[1920702000,19,{"v":207,"d":"207 "},{"v":2,"d":"02 "},{"v":0,"d":"000 "},"山梨県","韮崎市","穂坂村",null,null,"","",{"$f":"IF(K454=\"\",\"\",COUNTIF($K$7:K454,\"ﾘｽﾄ１\"))","v":""},"","","","","","","",{"$f":"IF(S454=\"\",\"\",COUNTIF($S$7:S454,\"該当２\"))","v":""},"","",{"$f":"IF(V454=\"\",\"\",COUNTIF($V$7:V454,\"該当３\"))","v":""}]
[1920702001,19,{"v":207,"d":"207 "},{"v":2,"d":"02 "},{"v":1,"d":"001 "},"山梨県","韮崎市","穂坂村","宮久保",null,"","",{"$f":"IF(K455=\"\",\"\",COUNTIF($K$7:K455,\"ﾘｽﾄ１\"))","v":""},"","","","","","","",{"$f":"IF(S455=\"\",\"\",COUNTIF($S$7:S455,\"該当２\"))","v":""},"","",{"$f":"IF(V455=\"\",\"\",COUNTIF($V$7:V455,\"該当３\"))","v":""}]
[1920702002,19,{"v":207,"d":"207 "},{"v":2,"d":"02 "},{"v":2,"d":"002 "},"山梨県","韮崎市","穂坂村","飯米場",null,"","",{"$f":"IF(K456=\"\",\"\",COUNTIF($K$7:K456,\"ﾘｽﾄ１\"))","v":""},"","","","","","","",{"$f":"IF(S456=\"\",\"\",COUNTIF($S$7:S456,\"該当２\"))","v":""},"","",{"$f":"IF(V456=\"\",\"\",COUNTIF($V$7:V456,\"該当３\"))","v":""}]
[1920702003,19,{"v":207,"d":"207 "},{"v":2,"d":"02 "},{"v":3,"d":"003 "},"山梨県","韮崎市","穂坂村","鳥の小池",null,"","",{"$f":"IF(K457=\"\",\"\",COUNTIF($K$7:K457,\"ﾘｽﾄ１\"))","v":""},"","",{"$f":"IF(O457=\"該当１\",G457,\"\")","v":""},{"$f":"IF(O457=\"該当１\",\"ﾘｽﾄ2\",\"\")","v":""},{"$f":"IF(Q457=\"ﾘｽﾄ2\",H457,\"\")","v":""},"",{"$f":"IF(S457=\"該当２\",H457,\"\")","v":""},{"$f":"IF(S457=\"\",\"\",COUNTIF($S$7:S457,\"該当２\"))","v":""},{"$f":"IF(AND($S$2=H457,E457>0,E457<998),\"該当３\",\"\")","v":""},{"$f":"IF(V457=\"該当３\",I457,\"\")","v":""},{"$f":"IF(V457=\"\",\"\",COUNTIF($V$7:V457,\"該当３\"))","v":""}]
[1920702004,19,{"v":207,"d":"207 "},{"v":2,"d":"02 "},{"v":4,"d":"004 "},"山梨県","韮崎市","穂坂村","権現沢",null,{"$f":"IF(AND($C458>0,$H458=\"\"),\"ﾘｽﾄ１\",\"\")","v":""},{"$f":"IF(K458=\"ﾘｽﾄ１\",G458,\"\")","v":""},{"$f":"IF(K458=\"\",\"\",COUNTIF($K$7:K458,\"ﾘｽﾄ１\"))","v":""},{"$f":"IF(AND(D458=0,E458>0),\"同一区\",\"\")","v":""},{"$f":"IF(AND(EXACT($K$2,G458),H458>0),\"該当１\",\"\")","v":""},"","","",{"$f":"IF(AND(Q458=\"ﾘｽﾄ2\",OR(I458=0,AND(N458=\"同一区\",E458=1))),\"該当２\",\"\")","v":""},"",{"$f":"IF(S458=\"\",\"\",COUNTIF($S$7:S458,\"該当２\"))","v":""},"","",{"$f":"IF(V458=\"\",\"\",COUNTIF($V$7:V458,\"該当３\"))","v":""}]
[1920702005,19,{"v":207,"d":"207 "},{"v":2,"d":"02 "},{"v":5,"d":"005 "},"山梨県","韮崎市","穂坂村","上の原",null,"","",{"$f":"IF(K459=\"\",\"\",COUNTIF($K$7:K459,\"ﾘｽﾄ１\"))","v":""},"","","","","","","",{"$f":"IF(S459=\"\",\"\",COUNTIF($S$7:S459,\"該当２\"))","v":""},"","",{"$f":"IF(V459=\"\",\"\",COUNTIF($V$7:V459,\"該当３\"))","v":""}]
[1920702006,19,{"v":207,"d":"207 "},{"v":2,"d":"02 "},{"v":6,"d":"006 "},"山梨県","韮崎市","穂坂村","日之城",null,"","",{"$f":"IF(K460=\"\",\"\",COUNTIF($K$7:K460,\"ﾘｽﾄ１\"))","v":""},"","","","","","","",{"$f":"IF(S460=\"\",\"\",COUNTIF($S$7:S460,\"該当２\"))","v":""},"","",{"$f":"IF(V460=\"\",\"\",COUNTIF($V$7:V460,\"該当３\"))","v":""}]
[1920702007,19,{"v":207,"d":"207 "},{"v":2,"d":"02 "},{"v":7,"d":"007 "},"山梨県","韮崎市","穂坂村","三之蔵",null,"","",{"$f":"IF(K461=\"\",\"\",COUNTIF($K$7:K461,\"ﾘｽﾄ１\"))","v":""},"","","","","","","",{"$f":"IF(S461=\"\",\"\",COUNTIF($S$7:S461,\"該当２\"))","v":""},"","",{"$f":"IF(V461=\"\",\"\",COUNTIF($V$7:V461,\"該当３\"))","v":""}]
[1920702008,19,{"v":207,"d":"207 "},{"v":2,"d":"02 "},{"v":8,"d":"008 "},"山梨県","韮崎市","穂坂村","柳平",null,"","",{"$f":"IF(K462=\"\",\"\",COUNTIF($K$7:K462,\"ﾘｽﾄ１\"))","v":""},"","","","","","","",{"$f":"IF(S462=\"\",\"\",COUNTIF($S$7:S462,\"該当２\"))","v":""},"","",{"$f":"IF(V462=\"\",\"\",COUNTIF($V$7:V462,\"該当３\"))","v":""}]
[1920702009,19,{"v":207,"d":"207 "},{"v":2,"d":"02 "},{"v":9,"d":"009 "},"山梨県","韮崎市","穂坂村","三ツ沢",null,"","",{"$f":"IF(K463=\"\",\"\",COUNTIF($K$7:K463,\"ﾘｽﾄ１\"))","v":""},"","","","","","","",{"$f":"IF(S463=\"\",\"\",COUNTIF($S$7:S463,\"該当２\"))","v":""},"","",{"$f":"IF(V463=\"\",\"\",COUNTIF($V$7:V463,\"該当３\"))","v":""}]
[1920702010,19,{"v":207,"d":"207 "},{"v":2,"d":"02 "},{"v":10,"d":"010 "},"山梨県","韮崎市","穂坂村","上今井",null,"","",{"$f":"IF(K464=\"\",\"\",COUNTIF($K$7:K464,\"ﾘｽﾄ１\"))","v":""},"","","","","","","",{"$f":"IF(S464=\"\",\"\",COUNTIF($S$7:S464,\"該当２\"))","v":""},"","",{"$f":"IF(V464=\"\",\"\",COUNTIF($V$7:V464,\"該当３\"))","v":""}]
[1920702011,19,{"v":207,"d":"207 "},{"v":2,"d":"02 "},{"v":11,"d":"011 "},"山梨県","韮崎市","穂坂村","長久保",null,"","",{"$f":"IF(K465=\"\",\"\",COUNTIF($K$7:K465,\"ﾘｽﾄ１\"))","v":""},"","","","","","","",{"$f":"IF(S465=\"\",\"\",COUNTIF($S$7:S465,\"該当２\"))","v":""},"","",{"$f":"IF(V465=\"\",\"\",COUNTIF($V$7:V465,\"該当３\"))","v":""}]
[1920703000,19,{"v":207,"d":"207 "},{"v":3,"d":"03 "},{"v":0,"d":"000 "},"山梨県","韮崎市","藤井村",null,null,"","",{"$f":"IF(K466=\"\",\"\",COUNTIF($K$7:K466,\"ﾘｽﾄ１\"))","v":""},"","","","","","","",{"$f":"IF(S466=\"\",\"\",COUNTIF($S$7:S466,\"該当２\"))","v":""},"","",{"$f":"IF(V466=\"\",\"\",COUNTIF($V$7:V466,\"該当３\"))","v":""}]
[1920703001,19,{"v":207,"d":"207 "},{"v":3,"d":"03 "},{"v":1,"d":"001 "},"山梨県","韮崎市","藤井村","絵見堂",null,"","",{"$f":"IF(K467=\"\",\"\",COUNTIF($K$7:K467,\"ﾘｽﾄ１\"))","v":""},"","","","","","","",{"$f":"IF(S467=\"\",\"\",COUNTIF($S$7:S467,\"該当２\"))","v":""},"","",{"$f":"IF(V467=\"\",\"\",COUNTIF($V$7:V467,\"該当３\"))","v":""}]
[1920703002,19,{"v":207,"d":"207 "},{"v":3,"d":"03 "},{"v":2,"d":"002 "},"山梨県","韮崎市","藤井村","鳥居",null,"","",{"$f":"IF(K468=\"\",\"\",COUNTIF($K$7:K468,\"ﾘｽﾄ１\"))","v":""},"","","","","","","",{"$f":"IF(S468=\"\",\"\",COUNTIF($S$7:S468,\"該当２\"))","v":""},"","",{"$f":"IF(V468=\"\",\"\",COUNTIF($V$7:V468,\"該当３\"))","v":""}]
[1920703003,19,{"v":207,"d":"207 "},{"v":3,"d":"03 "},{"v":3,"d":"003 "},"山梨県","韮崎市","藤井村","駒井",null,"","",{"$f":"IF(K469=\"\",\"\",COUNTIF($K$7:K469,\"ﾘｽﾄ１\"))","v":""},"","","","","","","",{"$f":"IF(S469=\"\",\"\",COUNTIF($S$7:S469,\"該当２\"))","v":""},"","",{"$f":"IF(V469=\"\",\"\",COUNTIF($V$7:V469,\"該当３\"))","v":""}]
[1920703004,19,{"v":207,"d":"207 "},{"v":3,"d":"03 "},{"v":4,"d":"004 "},"山梨県","韮崎市","藤井村","上野",null,"","",{"$f":"IF(K470=\"\",\"\",COUNTIF($K$7:K470,\"ﾘｽﾄ１\"))","v":""},"","","","","","","",{"$f":"IF(S470=\"\",\"\",COUNTIF($S$7:S470,\"該当２\"))","v":""},"","",{"$f":"IF(V470=\"\",\"\",COUNTIF($V$7:V470,\"該当３\"))","v":""}]
[1920703005,19,{"v":207,"d":"207 "},{"v":3,"d":"03 "},{"v":5,"d":"005 "},"山梨県","韮崎市","藤井村","坂井",null,"","",{"$f":"IF(K471=\"\",\"\",COUNTIF($K$7:K471,\"ﾘｽﾄ１\"))","v":""},"","","","","","","",{"$f":"IF(S471=\"\",\"\",COUNTIF($S$7:S471,\"該当２\"))","v":""},"","",{"$f":"IF(V471=\"\",\"\",COUNTIF($V$7:V471,\"該当３\"))","v":""}]
[1920703006,19,{"v":207,"d":"207 "},{"v":3,"d":"03 "},{"v":6,"d":"006 "},"山梨県","韮崎市","藤井村","北下条",null,"","",{"$f":"IF(K472=\"\",\"\",COUNTIF($K$7:K472,\"ﾘｽﾄ１\"))","v":""},"","","","","","","",{"$f":"IF(S472=\"\",\"\",COUNTIF($S$7:S472,\"該当２\"))","v":""},"","",{"$f":"IF(V472=\"\",\"\",COUNTIF($V$7:V472,\"該当３\"))","v":""}]
[1920703007,19,{"v":207,"d":"207 "},{"v":3,"d":"03 "},{"v":7,"d":"007 "},"山梨県","韮崎市","藤井村","南下条",null,"","",{"$f":"IF(K473=\"\",\"\",COUNTIF($K$7:K473,\"ﾘｽﾄ１\"))","v":""},"","","","","","","",{"$f":"IF(S473=\"\",\"\",COUNTIF($S$7:S473,\"該当２\"))","v":""},"","",{"$f":"IF(V473=\"\",\"\",COUNTIF($V$7:V473,\"該当３\"))","v":""}]
[1920703008,19,{"v":207,"d":"207 "},{"v":3,"d":"03 "},{"v":8,"d":"008 "},"山梨県","韮崎市","藤井村","相垈",null,"","",{"$f":"IF(K474=\"\",\"\",COUNTIF($K$7:K474,\"ﾘｽﾄ１\"))","v":""},"","","","","","","",{"$f":"IF(S474=\"\",\"\",COUNTIF($S$7:S474,\"該当２\"))","v":""},"","",{"$f":"IF(V474=\"\",\"\",COUNTIF($V$7:V474,\"該当３\"))","v":""}]
[1920703009,19,{"v":207,"d":"207 "},{"v":3,"d":"03 "},{"v":9,"d":"009 "},"山梨県","韮崎市","藤井村","蔵の前",null,"","",{"$f":"IF(K475=\"\",\"\",COUNTIF($K$7:K475,\"ﾘｽﾄ１\"))","v":""},"","","","","","","",{"$f":"IF(S475=\"\",\"\",COUNTIF($S$7:S475,\"該当２\"))","v":""},"","",{"$f":"IF(V475=\"\",\"\",COUNTIF($V$7:V475,\"該当３\"))","v":""}]
[1920703010,19,{"v":207,"d":"207 "},{"v":3,"d":"03 "},{"v":10,"d":"010 "},"山梨県","韮崎市","藤井村","道下",null,"","",{"$f":"IF(K476=\"\",\"\",COUNTIF($K$7:K476,\"ﾘｽﾄ１\"))","v":""},"","","","","","","",{"$f":"IF(S476=\"\",\"\",COUNTIF($S$7:S476,\"該当２\"))","v":""},"","",{"$f":"IF(V476=\"\",\"\",COUNTIF($V$7:V476,\"該当３\"))","v":""}]
[1920704000,19,{"v":207,"d":"207 "},{"v":4,"d":"04 "},{"v":0,"d":"000 "},"山梨県","韮崎市","中田村",null,null,"","",{"$f":"IF(K477=\"\",\"\",COUNTIF($K$7:K477,\"ﾘｽﾄ１\"))","v":""},"","","","","","","",{"$f":"IF(S477=\"\",\"\",COUNTIF($S$7:S477,\"該当２\"))","v":""},"","",{"$f":"IF(V477=\"\",\"\",COUNTIF($V$7:V477,\"該当３\"))","v":""}]
[1920704001,19,{"v":207,"d":"207 "},{"v":4,"d":"04 "},{"v":1,"d":"001 "},"山梨県","韮崎市","中田村","中条１区",null,"","",{"$f":"IF(K478=\"\",\"\",COUNTIF($K$7:K478,\"ﾘｽﾄ１\"))","v":""},"","","","","","","",{"$f":"IF(S478=\"\",\"\",COUNTIF($S$7:S478,\"該当２\"))","v":""},"","",{"$f":"IF(V478=\"\",\"\",COUNTIF($V$7:V478,\"該当３\"))","v":""}]
[1920704002,19,{"v":207,"d":"207 "},{"v":4,"d":"04 "},{"v":2,"d":"002 "},"山梨県","韮崎市","中田村","中条２区",null,"","",{"$f":"IF(K479=\"\",\"\",COUNTIF($K$7:K479,\"ﾘｽﾄ１\"))","v":""},"","","","","","","",{"$f":"IF(S479=\"\",\"\",COUNTIF($S$7:S479,\"該当２\"))","v":""},"","",{"$f":"IF(V479=\"\",\"\",COUNTIF($V$7:V479,\"該当３\"))","v":""}]
[1920704003,19,{"v":207,"d":"207 "},{"v":4,"d":"04 "},{"v":3,"d":"003 "},"山梨県","韮崎市","中田村","中条３区",null,"","",{"$f":"IF(K480=\"\",\"\",COUNTIF($K$7:K480,\"ﾘｽﾄ１\"))","v":""},"","","","","","","",{"$f":"IF(S480=\"\",\"\",COUNTIF($S$7:S480,\"該当２\"))","v":""},"","",{"$f":"IF(V480=\"\",\"\",COUNTIF($V$7:V480,\"該当３\"))","v":""}]
[1920704004,19,{"v":207,"d":"207 "},{"v":4,"d":"04 "},{"v":4,"d":"004 "},"山梨県","韮崎市","中田村","中条４区",null,"","",{"$f":"IF(K481=\"\",\"\",COUNTIF($K$7:K481,\"ﾘｽﾄ１\"))","v":""},"","","","","","","",{"$f":"IF(S481=\"\",\"\",COUNTIF($S$7:S481,\"該当２\"))","v":""},"","",{"$f":"IF(V481=\"\",\"\",COUNTIF($V$7:V481,\"該当３\"))","v":""}]
[1920704005,19,{"v":207,"d":"207 "},{"v":4,"d":"04 "},{"v":5,"d":"005 "},"山梨県","韮崎市","中田村","小田川５区",null,"","",{"$f":"IF(K482=\"\",\"\",COUNTIF($K$7:K482,\"ﾘｽﾄ１\"))","v":""},"","","","","","","",{"$f":"IF(S482=\"\",\"\",COUNTIF($S$7:S482,\"該当２\"))","v":""},"","",{"$f":"IF(V482=\"\",\"\",COUNTIF($V$7:V482,\"該当３\"))","v":""}]
[1920704006,19,{"v":207,"d":"207 "},{"v":4,"d":"04 "},{"v":6,"d":"006 "},"山梨県","韮崎市","中田村","小田川６区",null,"","",{"$f":"IF(K483=\"\",\"\",COUNTIF($K$7:K483,\"ﾘｽﾄ１\"))","v":""},"","","","","","","",{"$f":"IF(S483=\"\",\"\",COUNTIF($S$7:S483,\"該当２\"))","v":""},"","",{"$f":"IF(V483=\"\",\"\",COUNTIF($V$7:V483,\"該当３\"))","v":""}]
[1920705000,19,{"v":207,"d":"207 "},{"v":5,"d":"05 "},{"v":0,"d":"000 "},"山梨県","韮崎市","穴山村",null,null,"","",{"$f":"IF(K484=\"\",\"\",COUNTIF($K$7:K484,\"ﾘｽﾄ１\"))","v":""},"","","","","","","",{"$f":"IF(S484=\"\",\"\",COUNTIF($S$7:S484,\"該当２\"))","v":""},"","",{"$f":"IF(V484=\"\",\"\",COUNTIF($V$7:V484,\"該当３\"))","v":""}]
[1920705001,19,{"v":207,"d":"207 "},{"v":5,"d":"05 "},{"v":1,"d":"001 "},"山梨県","韮崎市","穴山村","石水",null,"","",{"$f":"IF(K485=\"\",\"\",COUNTIF($K$7:K485,\"ﾘｽﾄ１\"))","v":""},"","","","","","","",{"$f":"IF(S485=\"\",\"\",COUNTIF($S$7:S485,\"該当２\"))","v":""},"","",{"$f":"IF(V485=\"\",\"\",COUNTIF($V$7:V485,\"該当３\"))","v":""}]
[1920705002,19,{"v":207,"d":"207 "},{"v":5,"d":"05 "},{"v":2,"d":"002 "},"山梨県","韮崎市","穴山村","伊藤窪",null,"","",{"$f":"IF(K486=\"\",\"\",COUNTIF($K$7:K486,\"ﾘｽﾄ１\"))","v":""},"","","","","","","",{"$f":"IF(S486=\"\",\"\",COUNTIF($S$7:S486,\"該当２\"))","v":""},"","",{"$f":"IF(V486=\"\",\"\",COUNTIF($V$7:V486,\"該当３\"))","v":""}]
[1920705003,19,{"v":207,"d":"207 "},{"v":5,"d":"05 "},{"v":3,"d":"003 "},"山梨県","韮崎市","穴山村","夏目",null,"","",{"$f":"IF(K487=\"\",\"\",COUNTIF($K$7:K487,\"ﾘｽﾄ１\"))","v":""},"","","","","","","",{"$f":"IF(S487=\"\",\"\",COUNTIF($S$7:S487,\"該当２\"))","v":""},"","",{"$f":"IF(V487=\"\",\"\",COUNTIF($V$7:V487,\"該当３\"))","v":""}]
[1920705004,19,{"v":207,"d":"207 "},{"v":5,"d":"05 "},{"v":4,"d":"004 "},"山梨県","韮崎市","穴山村","次第窪",null,"","",{"$f":"IF(K488=\"\",\"\",COUNTIF($K$7:K488,\"ﾘｽﾄ１\"))","v":""},"","","","","","","",{"$f":"IF(S488=\"\",\"\",COUNTIF($S$7:S488,\"該当２\"))","v":""},"","",{"$f":"IF(V488=\"\",\"\",COUNTIF($V$7:V488,\"該当３\"))","v":""}]
[1920705005,19,{"v":207,"d":"207 "},{"v":5,"d":"05 "},{"v":5,"d":"005 "},"山梨県","韮崎市","穴山村","重久",null,"","",{"$f":"IF(K489=\"\",\"\",COUNTIF($K$7:K489,\"ﾘｽﾄ１\"))","v":""},"","","","","","","",{"$f":"IF(S489=\"\",\"\",COUNTIF($S$7:S489,\"該当２\"))","v":""},"","",{"$f":"IF(V489=\"\",\"\",COUNTIF($V$7:V489,\"該当３\"))","v":""}]
[1920705006,19,{"v":207,"d":"207 "},{"v":5,"d":"05 "},{"v":6,"d":"006 "},"山梨県","韮崎市","穴山村","久保",null,"","",{"$f":"IF(K490=\"\",\"\",COUNTIF($K$7:K490,\"ﾘｽﾄ１\"))","v":""},"","","","","","","",{"$f":"IF(S490=\"\",\"\",COUNTIF($S$7:S490,\"該当２\"))","v":""},"","",{"$f":"IF(V490=\"\",\"\",COUNTIF($V$7:V490,\"該当３\"))","v":""}]
[1920706000,19,{"v":207,"d":"207 "},{"v":6,"d":"06 "},{"v":0,"d":"000 "},"山梨県","韮崎市","円野村",null,null,"","",{"$f":"IF(K491=\"\",\"\",COUNTIF($K$7:K491,\"ﾘｽﾄ１\"))","v":""},"","","","","","","",{"$f":"IF(S491=\"\",\"\",COUNTIF($S$7:S491,\"該当２\"))","v":""},"","",{"$f":"IF(V491=\"\",\"\",COUNTIF($V$7:V491,\"該当３\"))","v":""}]
[1920706001,19,{"v":207,"d":"207 "},{"v":6,"d":"06 "},{"v":1,"d":"001 "},"山梨県","韮崎市","円野村","上円井",null,"","",{"$f":"IF(K492=\"\",\"\",COUNTIF($K$7:K492,\"ﾘｽﾄ１\"))","v":""},"","","","","","","",{"$f":"IF(S492=\"\",\"\",COUNTIF($S$7:S492,\"該当２\"))","v":""},"","",{"$f":"IF(V492=\"\",\"\",COUNTIF($V$7:V492,\"該当３\"))","v":""}]
[1920706002,19,{"v":207,"d":"207 "},{"v":6,"d":"06 "},{"v":2,"d":"002 "},"山梨県","韮崎市","円野村","宇波円井",null,"","",{"$f":"IF(K493=\"\",\"\",COUNTIF($K$7:K493,\"ﾘｽﾄ１\"))","v":""},"","","","","","","",{"$f":"IF(S493=\"\",\"\",COUNTIF($S$7:S493,\"該当２\"))","v":""},"","",{"$f":"IF(V493=\"\",\"\",COUNTIF($V$7:V493,\"該当３\"))","v":""}]
[1920706003,19,{"v":207,"d":"207 "},{"v":6,"d":"06 "},{"v":3,"d":"003 "},"山梨県","韮崎市","円野村","下円井",null,"","",{"$f":"IF(K494=\"\",\"\",COUNTIF($K$7:K494,\"ﾘｽﾄ１\"))","v":""},"","","","","","","",{"$f":"IF(S494=\"\",\"\",COUNTIF($S$7:S494,\"該当２\"))","v":""},"","",{"$f":"IF(V494=\"\",\"\",COUNTIF($V$7:V494,\"該当３\"))","v":""}]
[1920706004,19,{"v":207,"d":"207 "},{"v":6,"d":"06 "},{"v":4,"d":"004 "},"山梨県","韮崎市","円野村","入戸野",null,"","",{"$f":"IF(K495=\"\",\"\",COUNTIF($K$7:K495,\"ﾘｽﾄ１\"))","v":""},"","","","","","","",{"$f":"IF(S495=\"\",\"\",COUNTIF($S$7:S495,\"該当２\"))","v":""},"","",{"$f":"IF(V495=\"\",\"\",COUNTIF($V$7:V495,\"該当３\"))","v":""}]
[1920707000,19,{"v":207,"d":"207 "},{"v":7,"d":"07 "},{"v":0,"d":"000 "},"山梨県","韮崎市","清哲村",null,null,"","",{"$f":"IF(K496=\"\",\"\",COUNTIF($K$7:K496,\"ﾘｽﾄ１\"))","v":""},"","","","","","","",{"$f":"IF(S496=\"\",\"\",COUNTIF($S$7:S496,\"該当２\"))","v":""},"","",{"$f":"IF(V496=\"\",\"\",COUNTIF($V$7:V496,\"該当３\"))","v":""}]
[1920707001,19,{"v":207,"d":"207 "},{"v":7,"d":"07 "},{"v":1,"d":"001 "},"山梨県","韮崎市","清哲村","折居",null,"","",{"$f":"IF(K497=\"\",\"\",COUNTIF($K$7:K497,\"ﾘｽﾄ１\"))","v":""},"","","","","","","",{"$f":"IF(S497=\"\",\"\",COUNTIF($S$7:S497,\"該当２\"))","v":""},"","",{"$f":"IF(V497=\"\",\"\",COUNTIF($V$7:V497,\"該当３\"))","v":""}]
[1920707002,19,{"v":207,"d":"207 "},{"v":7,"d":"07 "},{"v":2,"d":"002 "},"山梨県","韮崎市","清哲村","新開地",null,"","",{"$f":"IF(K498=\"\",\"\",COUNTIF($K$7:K498,\"ﾘｽﾄ１\"))","v":""},"","","","","","","",{"$f":"IF(S498=\"\",\"\",COUNTIF($S$7:S498,\"該当２\"))","v":""},"","",{"$f":"IF(V498=\"\",\"\",COUNTIF($V$7:V498,\"該当３\"))","v":""}]
[1920707003,19,{"v":207,"d":"207 "},{"v":7,"d":"07 "},{"v":3,"d":"003 "},"山梨県","韮崎市","清哲村","青木",null,"","",{"$f":"IF(K499=\"\",\"\",COUNTIF($K$7:K499,\"ﾘｽﾄ１\"))","v":""},"","","","","","","",{"$f":"IF(S499=\"\",\"\",COUNTIF($S$7:S499,\"該当２\"))","v":""},"","",{"$f":"IF(V499=\"\",\"\",COUNTIF($V$7:V499,\"該当３\"))","v":""}]
[1920707004,19,{"v":207,"d":"207 "},{"v":7,"d":"07 "},{"v":4,"d":"004 "},"山梨県","韮崎市","清哲村","中谷",null,"","",{"$f":"IF(K500=\"\",\"\",COUNTIF($K$7:K500,\"ﾘｽﾄ１\"))","v":""},"","","","","","","",{"$f":"IF(S500=\"\",\"\",COUNTIF($S$7:S500,\"該当２\"))","v":""},"","",{"$f":"IF(V500=\"\",\"\",COUNTIF($V$7:V500,\"該当３\"))","v":""}]
[1920707005,19,{"v":207,"d":"207 "},{"v":7,"d":"07 "},{"v":5,"d":"005 "},"山梨県","韮崎市","清哲村","樋ノ口",null,"","",{"$f":"IF(K501=\"\",\"\",COUNTIF($K$7:K501,\"ﾘｽﾄ１\"))","v":""},"","","","","","","",{"$f":"IF(S501=\"\",\"\",COUNTIF($S$7:S501,\"該当２\"))","v":""},"","",{"$f":"IF(V501=\"\",\"\",COUNTIF($V$7:V501,\"該当３\"))","v":""}]
[1920707006,19,{"v":207,"d":"207 "},{"v":7,"d":"07 "},{"v":6,"d":"006 "},"山梨県","韮崎市","清哲村","水上",null,"","",{"$f":"IF(K502=\"\",\"\",COUNTIF($K$7:K502,\"ﾘｽﾄ１\"))","v":""},"","","","","","","",{"$f":"IF(S502=\"\",\"\",COUNTIF($S$7:S502,\"該当２\"))","v":""},"","",{"$f":"IF(V502=\"\",\"\",COUNTIF($V$7:V502,\"該当３\"))","v":""}]
[1920708000,19,{"v":207,"d":"207 "},{"v":8,"d":"08 "},{"v":0,"d":"000 "},"山梨県","韮崎市","神山村",null,null,"","",{"$f":"IF(K503=\"\",\"\",COUNTIF($K$7:K503,\"ﾘｽﾄ１\"))","v":""},"","","","","","","",{"$f":"IF(S503=\"\",\"\",COUNTIF($S$7:S503,\"該当２\"))","v":""},"","",{"$f":"IF(V503=\"\",\"\",COUNTIF($V$7:V503,\"該当３\"))","v":""}]
[1920708001,19,{"v":207,"d":"207 "},{"v":8,"d":"08 "},{"v":1,"d":"001 "},"山梨県","韮崎市","神山村","武田",null,"","",{"$f":"IF(K504=\"\",\"\",COUNTIF($K$7:K504,\"ﾘｽﾄ１\"))","v":""},"","","","","","","",{"$f":"IF(S504=\"\",\"\",COUNTIF($S$7:S504,\"該当２\"))","v":""},"","",{"$f":"IF(V504=\"\",\"\",COUNTIF($V$7:V504,\"該当３\"))","v":""}]
[1920708002,19,{"v":207,"d":"207 "},{"v":8,"d":"08 "},{"v":2,"d":"002 "},"山梨県","韮崎市","神山村","北宮地",null,"","",{"$f":"IF(K505=\"\",\"\",COUNTIF($K$7:K505,\"ﾘｽﾄ１\"))","v":""},"","","","","","","",{"$f":"IF(S505=\"\",\"\",COUNTIF($S$7:S505,\"該当２\"))","v":""},"","",{"$f":"IF(V505=\"\",\"\",COUNTIF($V$7:V505,\"該当３\"))","v":""}]
[1920708003,19,{"v":207,"d":"207 "},{"v":8,"d":"08 "},{"v":3,"d":"003 "},"山梨県","韮崎市","神山村","鍋山",null,"","",{"$f":"IF(K506=\"\",\"\",COUNTIF($K$7:K506,\"ﾘｽﾄ１\"))","v":""},"","","","","","","",{"$f":"IF(S506=\"\",\"\",COUNTIF($S$7:S506,\"該当２\"))","v":""},"","",{"$f":"IF(V506=\"\",\"\",COUNTIF($V$7:V506,\"該当３\"))","v":""}]
[1920709000,19,{"v":207,"d":"207 "},{"v":9,"d":"09 "},{"v":0,"d":"000 "},"山梨県","韮崎市","旭村",null,null,"","",{"$f":"IF(K507=\"\",\"\",COUNTIF($K$7:K507,\"ﾘｽﾄ１\"))","v":""},"","","","","","","",{"$f":"IF(S507=\"\",\"\",COUNTIF($S$7:S507,\"該当２\"))","v":""},"","",{"$f":"IF(V507=\"\",\"\",COUNTIF($V$7:V507,\"該当３\"))","v":""}]
[1920709001,19,{"v":207,"d":"207 "},{"v":9,"d":"09 "},{"v":1,"d":"001 "},"山梨県","韮崎市","旭村","北原",null,"","",{"$f":"IF(K508=\"\",\"\",COUNTIF($K$7:K508,\"ﾘｽﾄ１\"))","v":""},"","","","","","","",{"$f":"IF(S508=\"\",\"\",COUNTIF($S$7:S508,\"該当２\"))","v":""},"","",{"$f":"IF(V508=\"\",\"\",COUNTIF($V$7:V508,\"該当３\"))","v":""}]
[1920709002,19,{"v":207,"d":"207 "},{"v":9,"d":"09 "},{"v":2,"d":"002 "},"山梨県","韮崎市","旭村","山口",null,"","",{"$f":"IF(K509=\"\",\"\",COUNTIF($K$7:K509,\"ﾘｽﾄ１\"))","v":""},"","","","","","","",{"$f":"IF(S509=\"\",\"\",COUNTIF($S$7:S509,\"該当２\"))","v":""},"","",{"$f":"IF(V509=\"\",\"\",COUNTIF($V$7:V509,\"該当３\"))","v":""}]
[1920709003,19,{"v":207,"d":"207 "},{"v":9,"d":"09 "},{"v":3,"d":"003 "},"山梨県","韮崎市","旭村","鋳物師屋",null,"","",{"$f":"IF(K510=\"\",\"\",COUNTIF($K$7:K510,\"ﾘｽﾄ１\"))","v":""},"","","","","","","",{"$f":"IF(S510=\"\",\"\",COUNTIF($S$7:S510,\"該当２\"))","v":""},"","",{"$f":"IF(V510=\"\",\"\",COUNTIF($V$7:V510,\"該当３\"))","v":""}]
[1920709004,19,{"v":207,"d":"207 "},{"v":9,"d":"09 "},{"v":4,"d":"004 "},"山梨県","韮崎市","旭村","宮下",null,"","",{"$f":"IF(K511=\"\",\"\",COUNTIF($K$7:K511,\"ﾘｽﾄ１\"))","v":""},"","","","","","","",{"$f":"IF(S511=\"\",\"\",COUNTIF($S$7:S511,\"該当２\"))","v":""},"","",{"$f":"IF(V511=\"\",\"\",COUNTIF($V$7:V511,\"該当３\"))","v":""}]
[1920709005,19,{"v":207,"d":"207 "},{"v":9,"d":"09 "},{"v":5,"d":"005 "},"山梨県","韮崎市","旭村","小曽根",null,"","",{"$f":"IF(K512=\"\",\"\",COUNTIF($K$7:K512,\"ﾘｽﾄ１\"))","v":""},"","","","","","","",{"$f":"IF(S512=\"\",\"\",COUNTIF($S$7:S512,\"該当２\"))","v":""},"","",{"$f":"IF(V512=\"\",\"\",COUNTIF($V$7:V512,\"該当３\"))","v":""}]
[1920709006,19,{"v":207,"d":"207 "},{"v":9,"d":"09 "},{"v":6,"d":"006 "},"山梨県","韮崎市","旭村","鍛冶屋",null,"","",{"$f":"IF(K513=\"\",\"\",COUNTIF($K$7:K513,\"ﾘｽﾄ１\"))","v":""},"","","","","","","",{"$f":"IF(S513=\"\",\"\",COUNTIF($S$7:S513,\"該当２\"))","v":""},"","",{"$f":"IF(V513=\"\",\"\",COUNTIF($V$7:V513,\"該当３\"))","v":""}]
[1920709007,19,{"v":207,"d":"207 "},{"v":9,"d":"09 "},{"v":7,"d":"007 "},"山梨県","韮崎市","旭村","山寺",null,"","",{"$f":"IF(K514=\"\",\"\",COUNTIF($K$7:K514,\"ﾘｽﾄ１\"))","v":""},"","","","","","","",{"$f":"IF(S514=\"\",\"\",COUNTIF($S$7:S514,\"該当２\"))","v":""},"","",{"$f":"IF(V514=\"\",\"\",COUNTIF($V$7:V514,\"該当３\"))","v":""}]
[1920709008,19,{"v":207,"d":"207 "},{"v":9,"d":"09 "},{"v":8,"d":"008 "},"山梨県","韮崎市","旭村","竹の内",null,"","",{"$f":"IF(K515=\"\",\"\",COUNTIF($K$7:K515,\"ﾘｽﾄ１\"))","v":""},"","","","","","","",{"$f":"IF(S515=\"\",\"\",COUNTIF($S$7:S515,\"該当２\"))","v":""},"","",{"$f":"IF(V515=\"\",\"\",COUNTIF($V$7:V515,\"該当３\"))","v":""}]
[1920709009,19,{"v":207,"d":"207 "},{"v":9,"d":"09 "},{"v":9,"d":"009 "},"山梨県","韮崎市","旭村","久保",null,"","",{"$f":"IF(K516=\"\",\"\",COUNTIF($K$7:K516,\"ﾘｽﾄ１\"))","v":""},"","","","","","","",{"$f":"IF(S516=\"\",\"\",COUNTIF($S$7:S516,\"該当２\"))","v":""},"","",{"$f":"IF(V516=\"\",\"\",COUNTIF($V$7:V516,\"該当３\"))","v":""}]
[1920709010,19,{"v":207,"d":"207 "},{"v":9,"d":"09 "},{"v":10,"d":"010 "},"山梨県","韮崎市","旭村","湯舟",null,"","",{"$f":"IF(K517=\"\",\"\",COUNTIF($K$7:K517,\"ﾘｽﾄ１\"))","v":""},"","","","","","","",{"$f":"IF(S517=\"\",\"\",COUNTIF($S$7:S517,\"該当２\"))","v":""},"","",{"$f":"IF(V517=\"\",\"\",COUNTIF($V$7:V517,\"該当３\"))","v":""}]
[1920710000,19,{"v":207,"d":"207 "},{"v":10,"d":"10 "},{"v":0,"d":"000 "},"山梨県","韮崎市","大草村",null,null,"","",{"$f":"IF(K518=\"\",\"\",COUNTIF($K$7:K518,\"ﾘｽﾄ１\"))","v":""},"","","","","","","",{"$f":"IF(S518=\"\",\"\",COUNTIF($S$7:S518,\"該当２\"))","v":""},"","",{"$f":"IF(V518=\"\",\"\",COUNTIF($V$7:V518,\"該当３\"))","v":""}]
[1920710001,19,{"v":207,"d":"207 "},{"v":10,"d":"10 "},{"v":1,"d":"001 "},"山梨県","韮崎市","大草村","若尾",null,"","",{"$f":"IF(K519=\"\",\"\",COUNTIF($K$7:K519,\"ﾘｽﾄ１\"))","v":""},"","","","","","","",{"$f":"IF(S519=\"\",\"\",COUNTIF($S$7:S519,\"該当２\"))","v":""},"","",{"$f":"IF(V519=\"\",\"\",COUNTIF($V$7:V519,\"該当３\"))","v":""}]
[1920710002,19,{"v":207,"d":"207 "},{"v":10,"d":"10 "},{"v":2,"d":"002 "},"山梨県","韮崎市","大草村","上条東割",null,"","",{"$f":"IF(K520=\"\",\"\",COUNTIF($K$7:K520,\"ﾘｽﾄ１\"))","v":""},"","","","","","","",{"$f":"IF(S520=\"\",\"\",COUNTIF($S$7:S520,\"該当２\"))","v":""},"","",{"$f":"IF(V520=\"\",\"\",COUNTIF($V$7:V520,\"該当３\"))","v":""}]
[1920710003,19,{"v":207,"d":"207 "},{"v":10,"d":"10 "},{"v":3,"d":"003 "},"山梨県","韮崎市","大草村","下条西割",null,"","",{"$f":"IF(K521=\"\",\"\",COUNTIF($K$7:K521,\"ﾘｽﾄ１\"))","v":""},"","",{"$f":"IF(O521=\"該当１\",G521,\"\")","v":""},{"$f":"IF(O521=\"該当１\",\"ﾘｽﾄ2\",\"\")","v":""},{"$f":"IF(Q521=\"ﾘｽﾄ2\",H521,\"\")","v":""},"",{"$f":"IF(S521=\"該当２\",H521,\"\")","v":""},{"$f":"IF(S521=\"\",\"\",COUNTIF($S$7:S521,\"該当２\"))","v":""},{"$f":"IF(AND($S$2=H521,E521>0,E521<998),\"該当３\",\"\")","v":""},{"$f":"IF(V521=\"該当３\",I521,\"\")","v":""},{"$f":"IF(V521=\"\",\"\",COUNTIF($V$7:V521,\"該当３\"))","v":""}]
[1920710004,19,{"v":207,"d":"207 "},{"v":10,"d":"10 "},{"v":4,"d":"004 "},"山梨県","韮崎市","大草村","下条中割",null,{"$f":"IF(AND($C522>0,$H522=\"\"),\"ﾘｽﾄ１\",\"\")","v":""},{"$f":"IF(K522=\"ﾘｽﾄ１\",G522,\"\")","v":""},{"$f":"IF(K522=\"\",\"\",COUNTIF($K$7:K522,\"ﾘｽﾄ１\"))","v":""},{"$f":"IF(AND(D522=0,E522>0),\"同一区\",\"\")","v":""},{"$f":"IF(AND(EXACT($K$2,G522),H522>0),\"該当１\",\"\")","v":""},"","","",{"$f":"IF(AND(Q522=\"ﾘｽﾄ2\",OR(I522=0,AND(N522=\"同一区\",E522=1))),\"該当２\",\"\")","v":""},"",{"$f":"IF(S522=\"\",\"\",COUNTIF($S$7:S522,\"該当２\"))","v":""},"","",{"$f":"IF(V522=\"\",\"\",COUNTIF($V$7:V522,\"該当３\"))","v":""}]
[1920711000,19,{"v":207,"d":"207 "},{"v":11,"d":"11 "},{"v":0,"d":"000 "},"山梨県","韮崎市","竜岡村",null,null,"","",{"$f":"IF(K523=\"\",\"\",COUNTIF($K$7:K523,\"ﾘｽﾄ１\"))","v":""},"","","","","","","",{"$f":"IF(S523=\"\",\"\",COUNTIF($S$7:S523,\"該当２\"))","v":""},"","",{"$f":"IF(V523=\"\",\"\",COUNTIF($V$7:V523,\"該当３\"))","v":""}]
[1920711001,19,{"v":207,"d":"207 "},{"v":11,"d":"11 "},{"v":1,"d":"001 "},"山梨県","韮崎市","竜岡村","若尾新田",null,"","",{"$f":"IF(K524=\"\",\"\",COUNTIF($K$7:K524,\"ﾘｽﾄ１\"))","v":""},"","","","","","","",{"$f":"IF(S524=\"\",\"\",COUNTIF($S$7:S524,\"該当２\"))","v":""},"","",{"$f":"IF(V524=\"\",\"\",COUNTIF($V$7:V524,\"該当３\"))","v":""}]
[1920711002,19,{"v":207,"d":"207 "},{"v":11,"d":"11 "},{"v":2,"d":"002 "},"山梨県","韮崎市","竜岡村","下条東割",null,"","",{"$f":"IF(K525=\"\",\"\",COUNTIF($K$7:K525,\"ﾘｽﾄ１\"))","v":""},"","","","","","","",{"$f":"IF(S525=\"\",\"\",COUNTIF($S$7:S525,\"該当２\"))","v":""},"","",{"$f":"IF(V525=\"\",\"\",COUNTIF($V$7:V525,\"該当３\"))","v":""}]
[1920711003,19,{"v":207,"d":"207 "},{"v":11,"d":"11 "},{"v":3,"d":"003 "},"山梨県","韮崎市","竜岡村","下条南割",null,"","",{"$f":"IF(K526=\"\",\"\",COUNTIF($K$7:K526,\"ﾘｽﾄ１\"))","v":""},"","","","","","","",{"$f":"IF(S526=\"\",\"\",COUNTIF($S$7:S526,\"該当２\"))","v":""},"","",{"$f":"IF(V526=\"\",\"\",COUNTIF($V$7:V526,\"該当３\"))","v":""}]
[1920800000,19,{"v":208,"d":"208 "},{"v":0,"d":"00 "},{"v":0,"d":"000 "},"山梨県","南アルプス市",{"$nulls":3},"ﾘｽﾄ１","南アルプス市",{"$f":"IF(K527=\"\",\"\",COUNTIF($K$7:K527,\"ﾘｽﾄ１\"))","v":7},"","","","","","","",{"$f":"IF(S527=\"\",\"\",COUNTIF($S$7:S527,\"該当２\"))","v":""},"","",{"$f":"IF(V527=\"\",\"\",COUNTIF($V$7:V527,\"該当３\"))","v":""}]
[1920801000,19,{"v":208,"d":"208 "},{"v":1,"d":"01 "},{"v":0,"d":"000 "},"山梨県","南アルプス市","御影村",null,null,"","",{"$f":"IF(K528=\"\",\"\",COUNTIF($K$7:K528,\"ﾘｽﾄ１\"))","v":""},"","","","","","","",{"$f":"IF(S528=\"\",\"\",COUNTIF($S$7:S528,\"該当２\"))","v":""},"","",{"$f":"IF(V528=\"\",\"\",COUNTIF($V$7:V528,\"該当３\"))","v":""}]
[1920801001,19,{"v":208,"d":"208 "},{"v":1,"d":"01 "},{"v":1,"d":"001 "},"山梨県","南アルプス市","御影村","六科",null,"","",{"$f":"IF(K529=\"\",\"\",COUNTIF($K$7:K529,\"ﾘｽﾄ１\"))","v":""},"","","","","","","",{"$f":"IF(S529=\"\",\"\",COUNTIF($S$7:S529,\"該当２\"))","v":""},"","",{"$f":"IF(V529=\"\",\"\",COUNTIF($V$7:V529,\"該当３\"))","v":""}]
[1920801002,19,{"v":208,"d":"208 "},{"v":1,"d":"01 "},{"v":2,"d":"002 "},"山梨県","南アルプス市","御影村","野牛島",null,"","",{"$f":"IF(K530=\"\",\"\",COUNTIF($K$7:K530,\"ﾘｽﾄ１\"))","v":""},"","","","","","","",{"$f":"IF(S530=\"\",\"\",COUNTIF($S$7:S530,\"該当２\"))","v":""},"","",{"$f":"IF(V530=\"\",\"\",COUNTIF($V$7:V530,\"該当３\"))","v":""}]
[1920801003,19,{"v":208,"d":"208 "},{"v":1,"d":"01 "},{"v":3,"d":"003 "},"山梨県","南アルプス市","御影村","上高砂",null,"","",{"$f":"IF(K531=\"\",\"\",COUNTIF($K$7:K531,\"ﾘｽﾄ１\"))","v":""},"","","","","","","",{"$f":"IF(S531=\"\",\"\",COUNTIF($S$7:S531,\"該当２\"))","v":""},"","",{"$f":"IF(V531=\"\",\"\",COUNTIF($V$7:V531,\"該当３\"))","v":""}]
[1920802000,19,{"v":208,"d":"208 "},{"v":2,"d":"02 "},{"v":0,"d":"000 "},"山梨県","南アルプス市","田之岡村",null,null,"","",{"$f":"IF(K532=\"\",\"\",COUNTIF($K$7:K532,\"ﾘｽﾄ１\"))","v":""},"","","","","","","",{"$f":"IF(S532=\"\",\"\",COUNTIF($S$7:S532,\"該当２\"))","v":""},"","",{"$f":"IF(V532=\"\",\"\",COUNTIF($V$7:V532,\"該当３\"))","v":""}]
[1920802001,19,{"v":208,"d":"208 "},{"v":2,"d":"02 "},{"v":1,"d":"001 "},"山梨県","南アルプス市","田之岡村","下高砂",null,"","",{"$f":"IF(K533=\"\",\"\",COUNTIF($K$7:K533,\"ﾘｽﾄ１\"))","v":""},"","","","","","","",{"$f":"IF(S533=\"\",\"\",COUNTIF($S$7:S533,\"該当２\"))","v":""},"","",{"$f":"IF(V533=\"\",\"\",COUNTIF($V$7:V533,\"該当３\"))","v":""}]
[1920802002,19,{"v":208,"d":"208 "},{"v":2,"d":"02 "},{"v":2,"d":"002 "},"山梨県","南アルプス市","田之岡村","徳永",null,"","",{"$f":"IF(K534=\"\",\"\",COUNTIF($K$7:K534,\"ﾘｽﾄ１\"))","v":""},"","","","","","","",{"$f":"IF(S534=\"\",\"\",COUNTIF($S$7:S534,\"該当２\"))","v":""},"","",{"$f":"IF(V534=\"\",\"\",COUNTIF($V$7:V534,\"該当３\"))","v":""}]
[1920802003,19,{"v":208,"d":"208 "},{"v":2,"d":"02 "},{"v":3,"d":"003 "},"山梨県","南アルプス市","田之岡村","榎原",null,"","",{"$f":"IF(K535=\"\",\"\",COUNTIF($K$7:K535,\"ﾘｽﾄ１\"))","v":""},"","","","","","","",{"$f":"IF(S535=\"\",\"\",COUNTIF($S$7:S535,\"該当２\"))","v":""},"","",{"$f":"IF(V535=\"\",\"\",COUNTIF($V$7:V535,\"該当３\"))","v":""}]
[1920803000,19,{"v":208,"d":"208 "},{"v":3,"d":"03 "},{"v":0,"d":"000 "},"山梨県","南アルプス市","源村",null,null,"","",{"$f":"IF(K536=\"\",\"\",COUNTIF($K$7:K536,\"ﾘｽﾄ１\"))","v":""},"","","","","","","",{"$f":"IF(S536=\"\",\"\",COUNTIF($S$7:S536,\"該当２\"))","v":""},"","",{"$f":"IF(V536=\"\",\"\",COUNTIF($V$7:V536,\"該当３\"))","v":""}]
[1920803001,19,{"v":208,"d":"208 "},{"v":3,"d":"03 "},{"v":1,"d":"001 "},"山梨県","南アルプス市","源村","大嵐",null,"","",{"$f":"IF(K537=\"\",\"\",COUNTIF($K$7:K537,\"ﾘｽﾄ１\"))","v":""},"","","","","","","",{"$f":"IF(S537=\"\",\"\",COUNTIF($S$7:S537,\"該当２\"))","v":""},"","",{"$f":"IF(V537=\"\",\"\",COUNTIF($V$7:V537,\"該当３\"))","v":""}]
[1920803002,19,{"v":208,"d":"208 "},{"v":3,"d":"03 "},{"v":2,"d":"002 "},"山梨県","南アルプス市","源村","須沢",null,"","",{"$f":"IF(K538=\"\",\"\",COUNTIF($K$7:K538,\"ﾘｽﾄ１\"))","v":""},"","","","","","","",{"$f":"IF(S538=\"\",\"\",COUNTIF($S$7:S538,\"該当２\"))","v":""},"","",{"$f":"IF(V538=\"\",\"\",COUNTIF($V$7:V538,\"該当３\"))","v":""}]
[1920803003,19,{"v":208,"d":"208 "},{"v":3,"d":"03 "},{"v":3,"d":"003 "},"山梨県","南アルプス市","源村","駒場",null,"","",{"$f":"IF(K539=\"\",\"\",COUNTIF($K$7:K539,\"ﾘｽﾄ１\"))","v":""},"","","","","","","",{"$f":"IF(S539=\"\",\"\",COUNTIF($S$7:S539,\"該当２\"))","v":""},"","",{"$f":"IF(V539=\"\",\"\",COUNTIF($V$7:V539,\"該当３\"))","v":""}]
[1920803004,19,{"v":208,"d":"208 "},{"v":3,"d":"03 "},{"v":4,"d":"004 "},"山梨県","南アルプス市","源村","築山",null,"","",{"$f":"IF(K540=\"\",\"\",COUNTIF($K$7:K540,\"ﾘｽﾄ１\"))","v":""},"","","","","","","",{"$f":"IF(S540=\"\",\"\",COUNTIF($S$7:S540,\"該当２\"))","v":""},"","",{"$f":"IF(V540=\"\",\"\",COUNTIF($V$7:V540,\"該当３\"))","v":""}]
[1920803005,19,{"v":208,"d":"208 "},{"v":3,"d":"03 "},{"v":5,"d":"005 "},"山梨県","南アルプス市","源村","塩前",null,"","",{"$f":"IF(K541=\"\",\"\",COUNTIF($K$7:K541,\"ﾘｽﾄ１\"))","v":""},"","","","","","","",{"$f":"IF(S541=\"\",\"\",COUNTIF($S$7:S541,\"該当２\"))","v":""},"","",{"$f":"IF(V541=\"\",\"\",COUNTIF($V$7:V541,\"該当３\"))","v":""}]
[1920803006,19,{"v":208,"d":"208 "},{"v":3,"d":"03 "},{"v":6,"d":"006 "},"山梨県","南アルプス市","源村","有野",null,"","",{"$f":"IF(K542=\"\",\"\",COUNTIF($K$7:K542,\"ﾘｽﾄ１\"))","v":""},"","","","","","","",{"$f":"IF(S542=\"\",\"\",COUNTIF($S$7:S542,\"該当２\"))","v":""},"","",{"$f":"IF(V542=\"\",\"\",COUNTIF($V$7:V542,\"該当３\"))","v":""}]
[1920803007,19,{"v":208,"d":"208 "},{"v":3,"d":"03 "},{"v":7,"d":"007 "},"山梨県","南アルプス市","源村","飯野新田",null,"","",{"$f":"IF(K543=\"\",\"\",COUNTIF($K$7:K543,\"ﾘｽﾄ１\"))","v":""},"","","","","","","",{"$f":"IF(S543=\"\",\"\",COUNTIF($S$7:S543,\"該当２\"))","v":""},"","",{"$f":"IF(V543=\"\",\"\",COUNTIF($V$7:V543,\"該当３\"))","v":""}]
[1920803008,19,{"v":208,"d":"208 "},{"v":3,"d":"03 "},{"v":8,"d":"008 "},"山梨県","南アルプス市","源村","曲輪田新田",null,"","",{"$f":"IF(K544=\"\",\"\",COUNTIF($K$7:K544,\"ﾘｽﾄ１\"))","v":""},"","","","","","","",{"$f":"IF(S544=\"\",\"\",COUNTIF($S$7:S544,\"該当２\"))","v":""},"","",{"$f":"IF(V544=\"\",\"\",COUNTIF($V$7:V544,\"該当３\"))","v":""}]
[1920803009,19,{"v":208,"d":"208 "},{"v":3,"d":"03 "},{"v":9,"d":"009 "},"山梨県","南アルプス市","源村","開拓地",null,"","",{"$f":"IF(K545=\"\",\"\",COUNTIF($K$7:K545,\"ﾘｽﾄ１\"))","v":""},"","","","","","","",{"$f":"IF(S545=\"\",\"\",COUNTIF($S$7:S545,\"該当２\"))","v":""},"","",{"$f":"IF(V545=\"\",\"\",COUNTIF($V$7:V545,\"該当３\"))","v":""}]
[1920804000,19,{"v":208,"d":"208 "},{"v":4,"d":"04 "},{"v":0,"d":"000 "},"山梨県","南アルプス市","飯野村",null,null,"","",{"$f":"IF(K546=\"\",\"\",COUNTIF($K$7:K546,\"ﾘｽﾄ１\"))","v":""},"","","","","","","",{"$f":"IF(S546=\"\",\"\",COUNTIF($S$7:S546,\"該当２\"))","v":""},"","",{"$f":"IF(V546=\"\",\"\",COUNTIF($V$7:V546,\"該当３\"))","v":""}]
[1920804001,19,{"v":208,"d":"208 "},{"v":4,"d":"04 "},{"v":1,"d":"001 "},"山梨県","南アルプス市","飯野村","飯野上",null,"","",{"$f":"IF(K547=\"\",\"\",COUNTIF($K$7:K547,\"ﾘｽﾄ１\"))","v":""},"","","","","","","",{"$f":"IF(S547=\"\",\"\",COUNTIF($S$7:S547,\"該当２\"))","v":""},"","",{"$f":"IF(V547=\"\",\"\",COUNTIF($V$7:V547,\"該当３\"))","v":""}]
[1920804002,19,{"v":208,"d":"208 "},{"v":4,"d":"04 "},{"v":2,"d":"002 "},"山梨県","南アルプス市","飯野村","飯野下",null,"","",{"$f":"IF(K548=\"\",\"\",COUNTIF($K$7:K548,\"ﾘｽﾄ１\"))","v":""},"","","","","","","",{"$f":"IF(S548=\"\",\"\",COUNTIF($S$7:S548,\"該当２\"))","v":""},"","",{"$f":"IF(V548=\"\",\"\",COUNTIF($V$7:V548,\"該当３\"))","v":""}]
[1920804003,19,{"v":208,"d":"208 "},{"v":4,"d":"04 "},{"v":3,"d":"003 "},"山梨県","南アルプス市","飯野村","倉庫町",null,"","",{"$f":"IF(K549=\"\",\"\",COUNTIF($K$7:K549,\"ﾘｽﾄ１\"))","v":""},"","","","","","","",{"$f":"IF(S549=\"\",\"\",COUNTIF($S$7:S549,\"該当２\"))","v":""},"","",{"$f":"IF(V549=\"\",\"\",COUNTIF($V$7:V549,\"該当３\"))","v":""}]
[1920805000,19,{"v":208,"d":"208 "},{"v":5,"d":"05 "},{"v":0,"d":"000 "},"山梨県","南アルプス市","在家塚村",null,null,"","",{"$f":"IF(K550=\"\",\"\",COUNTIF($K$7:K550,\"ﾘｽﾄ１\"))","v":""},"","","","","","","",{"$f":"IF(S550=\"\",\"\",COUNTIF($S$7:S550,\"該当２\"))","v":""},"","",{"$f":"IF(V550=\"\",\"\",COUNTIF($V$7:V550,\"該当３\"))","v":""}]
[1920805001,19,{"v":208,"d":"208 "},{"v":5,"d":"05 "},{"v":1,"d":"001 "},"山梨県","南アルプス市","在家塚村","北村",null,"","",{"$f":"IF(K551=\"\",\"\",COUNTIF($K$7:K551,\"ﾘｽﾄ１\"))","v":""},"","","","","","","",{"$f":"IF(S551=\"\",\"\",COUNTIF($S$7:S551,\"該当２\"))","v":""},"","",{"$f":"IF(V551=\"\",\"\",COUNTIF($V$7:V551,\"該当３\"))","v":""}]
[1920805002,19,{"v":208,"d":"208 "},{"v":5,"d":"05 "},{"v":2,"d":"002 "},"山梨県","南アルプス市","在家塚村","福島",null,"","",{"$f":"IF(K552=\"\",\"\",COUNTIF($K$7:K552,\"ﾘｽﾄ１\"))","v":""},"","","","","","","",{"$f":"IF(S552=\"\",\"\",COUNTIF($S$7:S552,\"該当２\"))","v":""},"","",{"$f":"IF(V552=\"\",\"\",COUNTIF($V$7:V552,\"該当３\"))","v":""}]
[1920805003,19,{"v":208,"d":"208 "},{"v":5,"d":"05 "},{"v":3,"d":"003 "},"山梨県","南アルプス市","在家塚村","中村",null,"","",{"$f":"IF(K553=\"\",\"\",COUNTIF($K$7:K553,\"ﾘｽﾄ１\"))","v":""},"","","","","","","",{"$f":"IF(S553=\"\",\"\",COUNTIF($S$7:S553,\"該当２\"))","v":""},"","",{"$f":"IF(V553=\"\",\"\",COUNTIF($V$7:V553,\"該当３\"))","v":""}]
[1920805004,19,{"v":208,"d":"208 "},{"v":5,"d":"05 "},{"v":4,"d":"004 "},"山梨県","南アルプス市","在家塚村","紺屋村",null,"","",{"$f":"IF(K554=\"\",\"\",COUNTIF($K$7:K554,\"ﾘｽﾄ１\"))","v":""},"","","","","","","",{"$f":"IF(S554=\"\",\"\",COUNTIF($S$7:S554,\"該当２\"))","v":""},"","",{"$f":"IF(V554=\"\",\"\",COUNTIF($V$7:V554,\"該当３\"))","v":""}]
[1920806000,19,{"v":208,"d":"208 "},{"v":6,"d":"06 "},{"v":0,"d":"000 "},"山梨県","南アルプス市","百田村",null,null,"","",{"$f":"IF(K555=\"\",\"\",COUNTIF($K$7:K555,\"ﾘｽﾄ１\"))","v":""},"","","","","","","",{"$f":"IF(S555=\"\",\"\",COUNTIF($S$7:S555,\"該当２\"))","v":""},"","",{"$f":"IF(V555=\"\",\"\",COUNTIF($V$7:V555,\"該当３\"))","v":""}]
[1920806001,19,{"v":208,"d":"208 "},{"v":6,"d":"06 "},{"v":1,"d":"001 "},"山梨県","南アルプス市","百田村","百々",null,"","",{"$f":"IF(K556=\"\",\"\",COUNTIF($K$7:K556,\"ﾘｽﾄ１\"))","v":""},"","","","","","","",{"$f":"IF(S556=\"\",\"\",COUNTIF($S$7:S556,\"該当２\"))","v":""},"","",{"$f":"IF(V556=\"\",\"\",COUNTIF($V$7:V556,\"該当３\"))","v":""}]
[1920806002,19,{"v":208,"d":"208 "},{"v":6,"d":"06 "},{"v":2,"d":"002 "},"山梨県","南アルプス市","百田村","上八田",null,"","",{"$f":"IF(K557=\"\",\"\",COUNTIF($K$7:K557,\"ﾘｽﾄ１\"))","v":""},"","","","","","","",{"$f":"IF(S557=\"\",\"\",COUNTIF($S$7:S557,\"該当２\"))","v":""},"","",{"$f":"IF(V557=\"\",\"\",COUNTIF($V$7:V557,\"該当３\"))","v":""}]
[1920807000,19,{"v":208,"d":"208 "},{"v":7,"d":"07 "},{"v":0,"d":"000 "},"山梨県","南アルプス市","西野村",null,null,"","",{"$f":"IF(K558=\"\",\"\",COUNTIF($K$7:K558,\"ﾘｽﾄ１\"))","v":""},"","","","","","","",{"$f":"IF(S558=\"\",\"\",COUNTIF($S$7:S558,\"該当２\"))","v":""},"","",{"$f":"IF(V558=\"\",\"\",COUNTIF($V$7:V558,\"該当３\"))","v":""}]
[1920807001,19,{"v":208,"d":"208 "},{"v":7,"d":"07 "},{"v":1,"d":"001 "},"山梨県","南アルプス市","西野村","池の端",null,"","",{"$f":"IF(K559=\"\",\"\",COUNTIF($K$7:K559,\"ﾘｽﾄ１\"))","v":""},"","","","","","","",{"$f":"IF(S559=\"\",\"\",COUNTIF($S$7:S559,\"該当２\"))","v":""},"","",{"$f":"IF(V559=\"\",\"\",COUNTIF($V$7:V559,\"該当３\"))","v":""}]
[1920807002,19,{"v":208,"d":"208 "},{"v":7,"d":"07 "},{"v":2,"d":"002 "},"山梨県","南アルプス市","西野村","巻屋",null,"","",{"$f":"IF(K560=\"\",\"\",COUNTIF($K$7:K560,\"ﾘｽﾄ１\"))","v":""},"","","","","","","",{"$f":"IF(S560=\"\",\"\",COUNTIF($S$7:S560,\"該当２\"))","v":""},"","",{"$f":"IF(V560=\"\",\"\",COUNTIF($V$7:V560,\"該当３\"))","v":""}]
[1920807003,19,{"v":208,"d":"208 "},{"v":7,"d":"07 "},{"v":3,"d":"003 "},"山梨県","南アルプス市","西野村","中村",null,"","",{"$f":"IF(K561=\"\",\"\",COUNTIF($K$7:K561,\"ﾘｽﾄ１\"))","v":""},"","","","","","","",{"$f":"IF(S561=\"\",\"\",COUNTIF($S$7:S561,\"該当２\"))","v":""},"","",{"$f":"IF(V561=\"\",\"\",COUNTIF($V$7:V561,\"該当３\"))","v":""}]
[1920807004,19,{"v":208,"d":"208 "},{"v":7,"d":"07 "},{"v":4,"d":"004 "},"山梨県","南アルプス市","西野村","北村",null,"","",{"$f":"IF(K562=\"\",\"\",COUNTIF($K$7:K562,\"ﾘｽﾄ１\"))","v":""},"","","","","","","",{"$f":"IF(S562=\"\",\"\",COUNTIF($S$7:S562,\"該当２\"))","v":""},"","",{"$f":"IF(V562=\"\",\"\",COUNTIF($V$7:V562,\"該当３\"))","v":""}]
[1920807005,19,{"v":208,"d":"208 "},{"v":7,"d":"07 "},{"v":5,"d":"005 "},"山梨県","南アルプス市","西野村","椚",null,"","",{"$f":"IF(K563=\"\",\"\",COUNTIF($K$7:K563,\"ﾘｽﾄ１\"))","v":""},"","","","","","","",{"$f":"IF(S563=\"\",\"\",COUNTIF($S$7:S563,\"該当２\"))","v":""},"","",{"$f":"IF(V563=\"\",\"\",COUNTIF($V$7:V563,\"該当３\"))","v":""}]
[1920808000,19,{"v":208,"d":"208 "},{"v":8,"d":"08 "},{"v":0,"d":"000 "},"山梨県","南アルプス市","今諏訪村",null,null,"","",{"$f":"IF(K564=\"\",\"\",COUNTIF($K$7:K564,\"ﾘｽﾄ１\"))","v":""},"","","","","","","",{"$f":"IF(S564=\"\",\"\",COUNTIF($S$7:S564,\"該当２\"))","v":""},"","",{"$f":"IF(V564=\"\",\"\",COUNTIF($V$7:V564,\"該当３\"))","v":""}]
[1920808001,19,{"v":208,"d":"208 "},{"v":8,"d":"08 "},{"v":1,"d":"001 "},"山梨県","南アルプス市","今諏訪村","上今諏訪",null,"","",{"$f":"IF(K565=\"\",\"\",COUNTIF($K$7:K565,\"ﾘｽﾄ１\"))","v":""},"","","","","","","",{"$f":"IF(S565=\"\",\"\",COUNTIF($S$7:S565,\"該当２\"))","v":""},"","",{"$f":"IF(V565=\"\",\"\",COUNTIF($V$7:V565,\"該当３\"))","v":""}]
[1920808002,19,{"v":208,"d":"208 "},{"v":8,"d":"08 "},{"v":2,"d":"002 "},"山梨県","南アルプス市","今諏訪村","下今諏訪",null,"","",{"$f":"IF(K566=\"\",\"\",COUNTIF($K$7:K566,\"ﾘｽﾄ１\"))","v":""},"","","","","","","",{"$f":"IF(S566=\"\",\"\",COUNTIF($S$7:S566,\"該当２\"))","v":""},"","",{"$f":"IF(V566=\"\",\"\",COUNTIF($V$7:V566,\"該当３\"))","v":""}]
[1920809000,19,{"v":208,"d":"208 "},{"v":9,"d":"09 "},{"v":0,"d":"000 "},"山梨県","南アルプス市","芦安村",null,null,"","",{"$f":"IF(K567=\"\",\"\",COUNTIF($K$7:K567,\"ﾘｽﾄ１\"))","v":""},"","","","","","","",{"$f":"IF(S567=\"\",\"\",COUNTIF($S$7:S567,\"該当２\"))","v":""},"","",{"$f":"IF(V567=\"\",\"\",COUNTIF($V$7:V567,\"該当３\"))","v":""}]
[1920809001,19,{"v":208,"d":"208 "},{"v":9,"d":"09 "},{"v":1,"d":"001 "},"山梨県","南アルプス市","芦安村","新倉",null,"","",{"$f":"IF(K568=\"\",\"\",COUNTIF($K$7:K568,\"ﾘｽﾄ１\"))","v":""},"","","","","","","",{"$f":"IF(S568=\"\",\"\",COUNTIF($S$7:S568,\"該当２\"))","v":""},"","",{"$f":"IF(V568=\"\",\"\",COUNTIF($V$7:V568,\"該当３\"))","v":""}]
[1920809002,19,{"v":208,"d":"208 "},{"v":9,"d":"09 "},{"v":2,"d":"002 "},"山梨県","南アルプス市","芦安村","古屋敷",null,"","",{"$f":"IF(K569=\"\",\"\",COUNTIF($K$7:K569,\"ﾘｽﾄ１\"))","v":""},"","","","","","","",{"$f":"IF(S569=\"\",\"\",COUNTIF($S$7:S569,\"該当２\"))","v":""},"","",{"$f":"IF(V569=\"\",\"\",COUNTIF($V$7:V569,\"該当３\"))","v":""}]
[1920809003,19,{"v":208,"d":"208 "},{"v":9,"d":"09 "},{"v":3,"d":"003 "},"山梨県","南アルプス市","芦安村","小曽利",null,"","",{"$f":"IF(K570=\"\",\"\",COUNTIF($K$7:K570,\"ﾘｽﾄ１\"))","v":""},"","","","","","","",{"$f":"IF(S570=\"\",\"\",COUNTIF($S$7:S570,\"該当２\"))","v":""},"","",{"$f":"IF(V570=\"\",\"\",COUNTIF($V$7:V570,\"該当３\"))","v":""}]
[1920809004,19,{"v":208,"d":"208 "},{"v":9,"d":"09 "},{"v":4,"d":"004 "},"山梨県","南アルプス市","芦安村","沓沢",null,"","",{"$f":"IF(K571=\"\",\"\",COUNTIF($K$7:K571,\"ﾘｽﾄ１\"))","v":""},"","","","","","","",{"$f":"IF(S571=\"\",\"\",COUNTIF($S$7:S571,\"該当２\"))","v":""},"","",{"$f":"IF(V571=\"\",\"\",COUNTIF($V$7:V571,\"該当３\"))","v":""}]
[1920809005,19,{"v":208,"d":"208 "},{"v":9,"d":"09 "},{"v":5,"d":"005 "},"山梨県","南アルプス市","芦安村","大曽利",null,"","",{"$f":"IF(K572=\"\",\"\",COUNTIF($K$7:K572,\"ﾘｽﾄ１\"))","v":""},"","","","","","","",{"$f":"IF(S572=\"\",\"\",COUNTIF($S$7:S572,\"該当２\"))","v":""},"","",{"$f":"IF(V572=\"\",\"\",COUNTIF($V$7:V572,\"該当３\"))","v":""}]
[1920810000,19,{"v":208,"d":"208 "},{"v":10,"d":"10 "},{"v":0,"d":"000 "},"山梨県","南アルプス市","鏡中條村",null,null,"","",{"$f":"IF(K573=\"\",\"\",COUNTIF($K$7:K573,\"ﾘｽﾄ１\"))","v":""},"","","","","","","",{"$f":"IF(S573=\"\",\"\",COUNTIF($S$7:S573,\"該当２\"))","v":""},"","",{"$f":"IF(V573=\"\",\"\",COUNTIF($V$7:V573,\"該当３\"))","v":""}]
[1920810001,19,{"v":208,"d":"208 "},{"v":10,"d":"10 "},{"v":1,"d":"001 "},"山梨県","南アルプス市","鏡中條村","下今井",null,"","",{"$f":"IF(K574=\"\",\"\",COUNTIF($K$7:K574,\"ﾘｽﾄ１\"))","v":""},"","","","","","","",{"$f":"IF(S574=\"\",\"\",COUNTIF($S$7:S574,\"該当２\"))","v":""},"","",{"$f":"IF(V574=\"\",\"\",COUNTIF($V$7:V574,\"該当３\"))","v":""}]
[1920810002,19,{"v":208,"d":"208 "},{"v":10,"d":"10 "},{"v":2,"d":"002 "},"山梨県","南アルプス市","鏡中條村","鏡中条",null,"","",{"$f":"IF(K575=\"\",\"\",COUNTIF($K$7:K575,\"ﾘｽﾄ１\"))","v":""},"","","","","","","",{"$f":"IF(S575=\"\",\"\",COUNTIF($S$7:S575,\"該当２\"))","v":""},"","",{"$f":"IF(V575=\"\",\"\",COUNTIF($V$7:V575,\"該当３\"))","v":""}]
[1920811000,19,{"v":208,"d":"208 "},{"v":11,"d":"11 "},{"v":0,"d":"000 "},"山梨県","南アルプス市","藤田村",null,null,"","",{"$f":"IF(K576=\"\",\"\",COUNTIF($K$7:K576,\"ﾘｽﾄ１\"))","v":""},"","","","","","","",{"$f":"IF(S576=\"\",\"\",COUNTIF($S$7:S576,\"該当２\"))","v":""},"","",{"$f":"IF(V576=\"\",\"\",COUNTIF($V$7:V576,\"該当３\"))","v":""}]
[1920811001,19,{"v":208,"d":"208 "},{"v":11,"d":"11 "},{"v":1,"d":"001 "},"山梨県","南アルプス市","藤田村","藤田",null,"","",{"$f":"IF(K577=\"\",\"\",COUNTIF($K$7:K577,\"ﾘｽﾄ１\"))","v":""},"","","","","","","",{"$f":"IF(S577=\"\",\"\",COUNTIF($S$7:S577,\"該当２\"))","v":""},"","",{"$f":"IF(V577=\"\",\"\",COUNTIF($V$7:V577,\"該当３\"))","v":""}]
[1920811002,19,{"v":208,"d":"208 "},{"v":11,"d":"11 "},{"v":2,"d":"002 "},"山梨県","南アルプス市","藤田村","浅原",null,"","",{"$f":"IF(K578=\"\",\"\",COUNTIF($K$7:K578,\"ﾘｽﾄ１\"))","v":""},"","","","","","","",{"$f":"IF(S578=\"\",\"\",COUNTIF($S$7:S578,\"該当２\"))","v":""},"","",{"$f":"IF(V578=\"\",\"\",COUNTIF($V$7:V578,\"該当３\"))","v":""}]
[1920812000,19,{"v":208,"d":"208 "},{"v":12,"d":"12 "},{"v":0,"d":"000 "},"山梨県","南アルプス市","三恵村",null,null,"","",{"$f":"IF(K579=\"\",\"\",COUNTIF($K$7:K579,\"ﾘｽﾄ１\"))","v":""},"","","","","","","",{"$f":"IF(S579=\"\",\"\",COUNTIF($S$7:S579,\"該当２\"))","v":""},"","",{"$f":"IF(V579=\"\",\"\",COUNTIF($V$7:V579,\"該当３\"))","v":""}]
[1920812001,19,{"v":208,"d":"208 "},{"v":12,"d":"12 "},{"v":1,"d":"001 "},"山梨県","南アルプス市","三恵村","寺部",null,"","",{"$f":"IF(K580=\"\",\"\",COUNTIF($K$7:K580,\"ﾘｽﾄ１\"))","v":""},"","","","","","","",{"$f":"IF(S580=\"\",\"\",COUNTIF($S$7:S580,\"該当２\"))","v":""},"","",{"$f":"IF(V580=\"\",\"\",COUNTIF($V$7:V580,\"該当３\"))","v":""}]
[1920812002,19,{"v":208,"d":"208 "},{"v":12,"d":"12 "},{"v":2,"d":"002 "},"山梨県","南アルプス市","三恵村","加賀美",null,"","",{"$f":"IF(K581=\"\",\"\",COUNTIF($K$7:K581,\"ﾘｽﾄ１\"))","v":""},"","","","","","","",{"$f":"IF(S581=\"\",\"\",COUNTIF($S$7:S581,\"該当２\"))","v":""},"","",{"$f":"IF(V581=\"\",\"\",COUNTIF($V$7:V581,\"該当３\"))","v":""}]
[1920812003,19,{"v":208,"d":"208 "},{"v":12,"d":"12 "},{"v":3,"d":"003 "},"山梨県","南アルプス市","三恵村","十日市場",null,"","",{"$f":"IF(K582=\"\",\"\",COUNTIF($K$7:K582,\"ﾘｽﾄ１\"))","v":""},"","","","","","","",{"$f":"IF(S582=\"\",\"\",COUNTIF($S$7:S582,\"該当２\"))","v":""},"","",{"$f":"IF(V582=\"\",\"\",COUNTIF($V$7:V582,\"該当３\"))","v":""}]
[1920813000,19,{"v":208,"d":"208 "},{"v":13,"d":"13 "},{"v":0,"d":"000 "},"山梨県","南アルプス市","小笠原町",null,null,"","",{"$f":"IF(K583=\"\",\"\",COUNTIF($K$7:K583,\"ﾘｽﾄ１\"))","v":""},"","","","","","","",{"$f":"IF(S583=\"\",\"\",COUNTIF($S$7:S583,\"該当２\"))","v":""},"","",{"$f":"IF(V583=\"\",\"\",COUNTIF($V$7:V583,\"該当３\"))","v":""}]
[1920813001,19,{"v":208,"d":"208 "},{"v":13,"d":"13 "},{"v":1,"d":"001 "},"山梨県","南アルプス市","小笠原町","柿平",null,"","",{"$f":"IF(K584=\"\",\"\",COUNTIF($K$7:K584,\"ﾘｽﾄ１\"))","v":""},"","","","","","","",{"$f":"IF(S584=\"\",\"\",COUNTIF($S$7:S584,\"該当２\"))","v":""},"","",{"$f":"IF(V584=\"\",\"\",COUNTIF($V$7:V584,\"該当３\"))","v":""}]
[1920813002,19,{"v":208,"d":"208 "},{"v":13,"d":"13 "},{"v":2,"d":"002 "},"山梨県","南アルプス市","小笠原町","下町",null,"","",{"$f":"IF(K585=\"\",\"\",COUNTIF($K$7:K585,\"ﾘｽﾄ１\"))","v":""},"","",{"$f":"IF(O585=\"該当１\",G585,\"\")","v":""},{"$f":"IF(O585=\"該当１\",\"ﾘｽﾄ2\",\"\")","v":""},{"$f":"IF(Q585=\"ﾘｽﾄ2\",H585,\"\")","v":""},"",{"$f":"IF(S585=\"該当２\",H585,\"\")","v":""},{"$f":"IF(S585=\"\",\"\",COUNTIF($S$7:S585,\"該当２\"))","v":""},{"$f":"IF(AND($S$2=H585,E585>0,E585<998),\"該当３\",\"\")","v":""},{"$f":"IF(V585=\"該当３\",I585,\"\")","v":""},{"$f":"IF(V585=\"\",\"\",COUNTIF($V$7:V585,\"該当３\"))","v":""}]
[1920813003,19,{"v":208,"d":"208 "},{"v":13,"d":"13 "},{"v":3,"d":"003 "},"山梨県","南アルプス市","小笠原町","下仲町",null,{"$f":"IF(AND($C586>0,$H586=\"\"),\"ﾘｽﾄ１\",\"\")","v":""},{"$f":"IF(K586=\"ﾘｽﾄ１\",G586,\"\")","v":""},{"$f":"IF(K586=\"\",\"\",COUNTIF($K$7:K586,\"ﾘｽﾄ１\"))","v":""},{"$f":"IF(AND(D586=0,E586>0),\"同一区\",\"\")","v":""},{"$f":"IF(AND(EXACT($K$2,G586),H586>0),\"該当１\",\"\")","v":""},"","","",{"$f":"IF(AND(Q586=\"ﾘｽﾄ2\",OR(I586=0,AND(N586=\"同一区\",E586=1))),\"該当２\",\"\")","v":""},"",{"$f":"IF(S586=\"\",\"\",COUNTIF($S$7:S586,\"該当２\"))","v":""},"","",{"$f":"IF(V586=\"\",\"\",COUNTIF($V$7:V586,\"該当３\"))","v":""}]
[1920813004,19,{"v":208,"d":"208 "},{"v":13,"d":"13 "},{"v":4,"d":"004 "},"山梨県","南アルプス市","小笠原町","仲町",null,"","",{"$f":"IF(K587=\"\",\"\",COUNTIF($K$7:K587,\"ﾘｽﾄ１\"))","v":""},"","","","","","","",{"$f":"IF(S587=\"\",\"\",COUNTIF($S$7:S587,\"該当２\"))","v":""},"","",{"$f":"IF(V587=\"\",\"\",COUNTIF($V$7:V587,\"該当３\"))","v":""}]
[1920813005,19,{"v":208,"d":"208 "},{"v":13,"d":"13 "},{"v":5,"d":"005 "},"山梨県","南アルプス市","小笠原町","旭町",null,"","",{"$f":"IF(K588=\"\",\"\",COUNTIF($K$7:K588,\"ﾘｽﾄ１\"))","v":""},"","","","","","","",{"$f":"IF(S588=\"\",\"\",COUNTIF($S$7:S588,\"該当２\"))","v":""},"","",{"$f":"IF(V588=\"\",\"\",COUNTIF($V$7:V588,\"該当３\"))","v":""}]
[1920813006,19,{"v":208,"d":"208 "},{"v":13,"d":"13 "},{"v":6,"d":"006 "},"山梨県","南アルプス市","小笠原町","二丁目",null,"","",{"$f":"IF(K589=\"\",\"\",COUNTIF($K$7:K589,\"ﾘｽﾄ１\"))","v":""},"","","","","","","",{"$f":"IF(S589=\"\",\"\",COUNTIF($S$7:S589,\"該当２\"))","v":""},"","",{"$f":"IF(V589=\"\",\"\",COUNTIF($V$7:V589,\"該当３\"))","v":""}]
[1920813007,19,{"v":208,"d":"208 "},{"v":13,"d":"13 "},{"v":7,"d":"007 "},"山梨県","南アルプス市","小笠原町","上町",null,"","",{"$f":"IF(K590=\"\",\"\",COUNTIF($K$7:K590,\"ﾘｽﾄ１\"))","v":""},"","","","","","","",{"$f":"IF(S590=\"\",\"\",COUNTIF($S$7:S590,\"該当２\"))","v":""},"","",{"$f":"IF(V590=\"\",\"\",COUNTIF($V$7:V590,\"該当３\"))","v":""}]
[1920813008,19,{"v":208,"d":"208 "},{"v":13,"d":"13 "},{"v":8,"d":"008 "},"山梨県","南アルプス市","小笠原町","枇杷ケ池",null,"","",{"$f":"IF(K591=\"\",\"\",COUNTIF($K$7:K591,\"ﾘｽﾄ１\"))","v":""},"","","","","","","",{"$f":"IF(S591=\"\",\"\",COUNTIF($S$7:S591,\"該当２\"))","v":""},"","",{"$f":"IF(V591=\"\",\"\",COUNTIF($V$7:V591,\"該当３\"))","v":""}]
[1920813009,19,{"v":208,"d":"208 "},{"v":13,"d":"13 "},{"v":9,"d":"009 "},"山梨県","南アルプス市","小笠原町","戸田町",null,"","",{"$f":"IF(K592=\"\",\"\",COUNTIF($K$7:K592,\"ﾘｽﾄ１\"))","v":""},"","","","","","","",{"$f":"IF(S592=\"\",\"\",COUNTIF($S$7:S592,\"該当２\"))","v":""},"","",{"$f":"IF(V592=\"\",\"\",COUNTIF($V$7:V592,\"該当３\"))","v":""}]
[1920813010,19,{"v":208,"d":"208 "},{"v":13,"d":"13 "},{"v":10,"d":"010 "},"山梨県","南アルプス市","小笠原町","富士見町",null,"","",{"$f":"IF(K593=\"\",\"\",COUNTIF($K$7:K593,\"ﾘｽﾄ１\"))","v":""},"","","","","","","",{"$f":"IF(S593=\"\",\"\",COUNTIF($S$7:S593,\"該当２\"))","v":""},"","",{"$f":"IF(V593=\"\",\"\",COUNTIF($V$7:V593,\"該当３\"))","v":""}]
[1920813011,19,{"v":208,"d":"208 "},{"v":13,"d":"13 "},{"v":11,"d":"011 "},"山梨県","南アルプス市","小笠原町","東小路",null,"","",{"$f":"IF(K594=\"\",\"\",COUNTIF($K$7:K594,\"ﾘｽﾄ１\"))","v":""},"","","","","","","",{"$f":"IF(S594=\"\",\"\",COUNTIF($S$7:S594,\"該当２\"))","v":""},"","",{"$f":"IF(V594=\"\",\"\",COUNTIF($V$7:V594,\"該当３\"))","v":""}]
[1920813012,19,{"v":208,"d":"208 "},{"v":13,"d":"13 "},{"v":12,"d":"012 "},"山梨県","南アルプス市","小笠原町","下小路東",null,"","",{"$f":"IF(K595=\"\",\"\",COUNTIF($K$7:K595,\"ﾘｽﾄ１\"))","v":""},"","","","","","","",{"$f":"IF(S595=\"\",\"\",COUNTIF($S$7:S595,\"該当２\"))","v":""},"","",{"$f":"IF(V595=\"\",\"\",COUNTIF($V$7:V595,\"該当３\"))","v":""}]
[1920813013,19,{"v":208,"d":"208 "},{"v":13,"d":"13 "},{"v":13,"d":"013 "},"山梨県","南アルプス市","小笠原町","古小路",null,"","",{"$f":"IF(K596=\"\",\"\",COUNTIF($K$7:K596,\"ﾘｽﾄ１\"))","v":""},"","","","","","","",{"$f":"IF(S596=\"\",\"\",COUNTIF($S$7:S596,\"該当２\"))","v":""},"","",{"$f":"IF(V596=\"\",\"\",COUNTIF($V$7:V596,\"該当３\"))","v":""}]
[1920813014,19,{"v":208,"d":"208 "},{"v":13,"d":"13 "},{"v":14,"d":"014 "},"山梨県","南アルプス市","小笠原町","上小路",null,"","",{"$f":"IF(K597=\"\",\"\",COUNTIF($K$7:K597,\"ﾘｽﾄ１\"))","v":""},"","","","","","","",{"$f":"IF(S597=\"\",\"\",COUNTIF($S$7:S597,\"該当２\"))","v":""},"","",{"$f":"IF(V597=\"\",\"\",COUNTIF($V$7:V597,\"該当３\"))","v":""}]
[1920813015,19,{"v":208,"d":"208 "},{"v":13,"d":"13 "},{"v":15,"d":"015 "},"山梨県","南アルプス市","小笠原町","西小路",null,"","",{"$f":"IF(K598=\"\",\"\",COUNTIF($K$7:K598,\"ﾘｽﾄ１\"))","v":""},"","","","","","","",{"$f":"IF(S598=\"\",\"\",COUNTIF($S$7:S598,\"該当２\"))","v":""},"","",{"$f":"IF(V598=\"\",\"\",COUNTIF($V$7:V598,\"該当３\"))","v":""}]
[1920813016,19,{"v":208,"d":"208 "},{"v":13,"d":"13 "},{"v":16,"d":"016 "},"山梨県","南アルプス市","小笠原町","下小路西",null,"","",{"$f":"IF(K599=\"\",\"\",COUNTIF($K$7:K599,\"ﾘｽﾄ１\"))","v":""},"","","","","","","",{"$f":"IF(S599=\"\",\"\",COUNTIF($S$7:S599,\"該当２\"))","v":""},"","",{"$f":"IF(V599=\"\",\"\",COUNTIF($V$7:V599,\"該当３\"))","v":""}]
[1920813017,19,{"v":208,"d":"208 "},{"v":13,"d":"13 "},{"v":17,"d":"017 "},"山梨県","南アルプス市","小笠原町","山寺",null,"","",{"$f":"IF(K600=\"\",\"\",COUNTIF($K$7:K600,\"ﾘｽﾄ１\"))","v":""},"","","","","","","",{"$f":"IF(S600=\"\",\"\",COUNTIF($S$7:S600,\"該当２\"))","v":""},"","",{"$f":"IF(V600=\"\",\"\",COUNTIF($V$7:V600,\"該当３\"))","v":""}]
[1920814000,19,{"v":208,"d":"208 "},{"v":14,"d":"14 "},{"v":0,"d":"000 "},"山梨県","南アルプス市","榊村",null,null,"","",{"$f":"IF(K601=\"\",\"\",COUNTIF($K$7:K601,\"ﾘｽﾄ１\"))","v":""},"","","","","","","",{"$f":"IF(S601=\"\",\"\",COUNTIF($S$7:S601,\"該当２\"))","v":""},"","",{"$f":"IF(V601=\"\",\"\",COUNTIF($V$7:V601,\"該当３\"))","v":""}]
[1920814001,19,{"v":208,"d":"208 "},{"v":14,"d":"14 "},{"v":1,"d":"001 "},"山梨県","南アルプス市","榊村","高尾",null,"","",{"$f":"IF(K602=\"\",\"\",COUNTIF($K$7:K602,\"ﾘｽﾄ１\"))","v":""},"","","","","","","",{"$f":"IF(S602=\"\",\"\",COUNTIF($S$7:S602,\"該当２\"))","v":""},"","",{"$f":"IF(V602=\"\",\"\",COUNTIF($V$7:V602,\"該当３\"))","v":""}]
[1920814002,19,{"v":208,"d":"208 "},{"v":14,"d":"14 "},{"v":2,"d":"002 "},"山梨県","南アルプス市","榊村","平岡",null,"","",{"$f":"IF(K603=\"\",\"\",COUNTIF($K$7:K603,\"ﾘｽﾄ１\"))","v":""},"","","","","","","",{"$f":"IF(S603=\"\",\"\",COUNTIF($S$7:S603,\"該当２\"))","v":""},"","",{"$f":"IF(V603=\"\",\"\",COUNTIF($V$7:V603,\"該当３\"))","v":""}]
[1920814003,19,{"v":208,"d":"208 "},{"v":14,"d":"14 "},{"v":3,"d":"003 "},"山梨県","南アルプス市","榊村","田頭",null,"","",{"$f":"IF(K604=\"\",\"\",COUNTIF($K$7:K604,\"ﾘｽﾄ１\"))","v":""},"","","","","","","",{"$f":"IF(S604=\"\",\"\",COUNTIF($S$7:S604,\"該当２\"))","v":""},"","",{"$f":"IF(V604=\"\",\"\",COUNTIF($V$7:V604,\"該当３\"))","v":""}]
[1920814004,19,{"v":208,"d":"208 "},{"v":14,"d":"14 "},{"v":4,"d":"004 "},"山梨県","南アルプス市","榊村","上宮地",null,"","",{"$f":"IF(K605=\"\",\"\",COUNTIF($K$7:K605,\"ﾘｽﾄ１\"))","v":""},"","","","","","","",{"$f":"IF(S605=\"\",\"\",COUNTIF($S$7:S605,\"該当２\"))","v":""},"","",{"$f":"IF(V605=\"\",\"\",COUNTIF($V$7:V605,\"該当３\"))","v":""}]
[1920814005,19,{"v":208,"d":"208 "},{"v":14,"d":"14 "},{"v":5,"d":"005 "},"山梨県","南アルプス市","榊村","曲輪田",null,"","",{"$f":"IF(K606=\"\",\"\",COUNTIF($K$7:K606,\"ﾘｽﾄ１\"))","v":""},"","","","","","","",{"$f":"IF(S606=\"\",\"\",COUNTIF($S$7:S606,\"該当２\"))","v":""},"","",{"$f":"IF(V606=\"\",\"\",COUNTIF($V$7:V606,\"該当３\"))","v":""}]
[1920815000,19,{"v":208,"d":"208 "},{"v":15,"d":"15 "},{"v":0,"d":"000 "},"山梨県","南アルプス市","野之瀬村",null,null,"","",{"$f":"IF(K607=\"\",\"\",COUNTIF($K$7:K607,\"ﾘｽﾄ１\"))","v":""},"","","","","","","",{"$f":"IF(S607=\"\",\"\",COUNTIF($S$7:S607,\"該当２\"))","v":""},"","",{"$f":"IF(V607=\"\",\"\",COUNTIF($V$7:V607,\"該当３\"))","v":""}]
[1920815001,19,{"v":208,"d":"208 "},{"v":15,"d":"15 "},{"v":1,"d":"001 "},"山梨県","南アルプス市","野之瀬村","上野",null,"","",{"$f":"IF(K608=\"\",\"\",COUNTIF($K$7:K608,\"ﾘｽﾄ１\"))","v":""},"","","","","","","",{"$f":"IF(S608=\"\",\"\",COUNTIF($S$7:S608,\"該当２\"))","v":""},"","",{"$f":"IF(V608=\"\",\"\",COUNTIF($V$7:V608,\"該当３\"))","v":""}]
[1920815002,19,{"v":208,"d":"208 "},{"v":15,"d":"15 "},{"v":2,"d":"002 "},"山梨県","南アルプス市","野之瀬村","神戸",null,"","",{"$f":"IF(K609=\"\",\"\",COUNTIF($K$7:K609,\"ﾘｽﾄ１\"))","v":""},"","","","","","","",{"$f":"IF(S609=\"\",\"\",COUNTIF($S$7:S609,\"該当２\"))","v":""},"","",{"$f":"IF(V609=\"\",\"\",COUNTIF($V$7:V609,\"該当３\"))","v":""}]
[1920815003,19,{"v":208,"d":"208 "},{"v":15,"d":"15 "},{"v":3,"d":"003 "},"山梨県","南アルプス市","野之瀬村","中野",null,"","",{"$f":"IF(K610=\"\",\"\",COUNTIF($K$7:K610,\"ﾘｽﾄ１\"))","v":""},"","","","","","","",{"$f":"IF(S610=\"\",\"\",COUNTIF($S$7:S610,\"該当２\"))","v":""},"","",{"$f":"IF(V610=\"\",\"\",COUNTIF($V$7:V610,\"該当３\"))","v":""}]
[1920815004,19,{"v":208,"d":"208 "},{"v":15,"d":"15 "},{"v":4,"d":"004 "},"山梨県","南アルプス市","野之瀬村","上市之瀬",null,"","",{"$f":"IF(K611=\"\",\"\",COUNTIF($K$7:K611,\"ﾘｽﾄ１\"))","v":""},"","","","","","","",{"$f":"IF(S611=\"\",\"\",COUNTIF($S$7:S611,\"該当２\"))","v":""},"","",{"$f":"IF(V611=\"\",\"\",COUNTIF($V$7:V611,\"該当３\"))","v":""}]
[1920815005,19,{"v":208,"d":"208 "},{"v":15,"d":"15 "},{"v":5,"d":"005 "},"山梨県","南アルプス市","野之瀬村","下市之瀬",null,"","",{"$f":"IF(K612=\"\",\"\",COUNTIF($K$7:K612,\"ﾘｽﾄ１\"))","v":""},"","","","","","","",{"$f":"IF(S612=\"\",\"\",COUNTIF($S$7:S612,\"該当２\"))","v":""},"","",{"$f":"IF(V612=\"\",\"\",COUNTIF($V$7:V612,\"該当３\"))","v":""}]
[1920816000,19,{"v":208,"d":"208 "},{"v":16,"d":"16 "},{"v":0,"d":"000 "},"山梨県","南アルプス市","豊村",null,null,"","",{"$f":"IF(K613=\"\",\"\",COUNTIF($K$7:K613,\"ﾘｽﾄ１\"))","v":""},"","","","","","","",{"$f":"IF(S613=\"\",\"\",COUNTIF($S$7:S613,\"該当２\"))","v":""},"","",{"$f":"IF(V613=\"\",\"\",COUNTIF($V$7:V613,\"該当３\"))","v":""}]
[1920816001,19,{"v":208,"d":"208 "},{"v":16,"d":"16 "},{"v":1,"d":"001 "},"山梨県","南アルプス市","豊村","上今井",null,"","",{"$f":"IF(K614=\"\",\"\",COUNTIF($K$7:K614,\"ﾘｽﾄ１\"))","v":""},"","","","","","","",{"$f":"IF(S614=\"\",\"\",COUNTIF($S$7:S614,\"該当２\"))","v":""},"","",{"$f":"IF(V614=\"\",\"\",COUNTIF($V$7:V614,\"該当３\"))","v":""}]
[1920816002,19,{"v":208,"d":"208 "},{"v":16,"d":"16 "},{"v":2,"d":"002 "},"山梨県","南アルプス市","豊村","東吉田",null,"","",{"$f":"IF(K615=\"\",\"\",COUNTIF($K$7:K615,\"ﾘｽﾄ１\"))","v":""},"","","","","","","",{"$f":"IF(S615=\"\",\"\",COUNTIF($S$7:S615,\"該当２\"))","v":""},"","",{"$f":"IF(V615=\"\",\"\",COUNTIF($V$7:V615,\"該当３\"))","v":""}]
[1920816003,19,{"v":208,"d":"208 "},{"v":16,"d":"16 "},{"v":3,"d":"003 "},"山梨県","南アルプス市","豊村","西吉田",null,"","",{"$f":"IF(K616=\"\",\"\",COUNTIF($K$7:K616,\"ﾘｽﾄ１\"))","v":""},"","","","","","","",{"$f":"IF(S616=\"\",\"\",COUNTIF($S$7:S616,\"該当２\"))","v":""},"","",{"$f":"IF(V616=\"\",\"\",COUNTIF($V$7:V616,\"該当３\"))","v":""}]
[1920816004,19,{"v":208,"d":"208 "},{"v":16,"d":"16 "},{"v":4,"d":"004 "},"山梨県","南アルプス市","豊村","十五所",null,"","",{"$f":"IF(K617=\"\",\"\",COUNTIF($K$7:K617,\"ﾘｽﾄ１\"))","v":""},"","","","","","","",{"$f":"IF(S617=\"\",\"\",COUNTIF($S$7:S617,\"該当２\"))","v":""},"","",{"$f":"IF(V617=\"\",\"\",COUNTIF($V$7:V617,\"該当３\"))","v":""}]
[1920816005,19,{"v":208,"d":"208 "},{"v":16,"d":"16 "},{"v":5,"d":"005 "},"山梨県","南アルプス市","豊村","沢登",null,"","",{"$f":"IF(K618=\"\",\"\",COUNTIF($K$7:K618,\"ﾘｽﾄ１\"))","v":""},"","","","","","","",{"$f":"IF(S618=\"\",\"\",COUNTIF($S$7:S618,\"該当２\"))","v":""},"","",{"$f":"IF(V618=\"\",\"\",COUNTIF($V$7:V618,\"該当３\"))","v":""}]
[1920817000,19,{"v":208,"d":"208 "},{"v":17,"d":"17 "},{"v":0,"d":"000 "},"山梨県","南アルプス市","大井村",null,null,"","",{"$f":"IF(K619=\"\",\"\",COUNTIF($K$7:K619,\"ﾘｽﾄ１\"))","v":""},"","","","","","","",{"$f":"IF(S619=\"\",\"\",COUNTIF($S$7:S619,\"該当２\"))","v":""},"","",{"$f":"IF(V619=\"\",\"\",COUNTIF($V$7:V619,\"該当３\"))","v":""}]
[1920817001,19,{"v":208,"d":"208 "},{"v":17,"d":"17 "},{"v":1,"d":"001 "},"山梨県","南アルプス市","大井村","下宮地",null,"","",{"$f":"IF(K620=\"\",\"\",COUNTIF($K$7:K620,\"ﾘｽﾄ１\"))","v":""},"","","","","","","",{"$f":"IF(S620=\"\",\"\",COUNTIF($S$7:S620,\"該当２\"))","v":""},"","",{"$f":"IF(V620=\"\",\"\",COUNTIF($V$7:V620,\"該当３\"))","v":""}]
[1920817002,19,{"v":208,"d":"208 "},{"v":17,"d":"17 "},{"v":2,"d":"002 "},"山梨県","南アルプス市","大井村","江原",null,"","",{"$f":"IF(K621=\"\",\"\",COUNTIF($K$7:K621,\"ﾘｽﾄ１\"))","v":""},"","","","","","","",{"$f":"IF(S621=\"\",\"\",COUNTIF($S$7:S621,\"該当２\"))","v":""},"","",{"$f":"IF(V621=\"\",\"\",COUNTIF($V$7:V621,\"該当３\"))","v":""}]
[1920817003,19,{"v":208,"d":"208 "},{"v":17,"d":"17 "},{"v":3,"d":"003 "},"山梨県","南アルプス市","大井村","鮎沢",null,"","",{"$f":"IF(K622=\"\",\"\",COUNTIF($K$7:K622,\"ﾘｽﾄ１\"))","v":""},"","","","","","","",{"$f":"IF(S622=\"\",\"\",COUNTIF($S$7:S622,\"該当２\"))","v":""},"","",{"$f":"IF(V622=\"\",\"\",COUNTIF($V$7:V622,\"該当３\"))","v":""}]
[1920817004,19,{"v":208,"d":"208 "},{"v":17,"d":"17 "},{"v":4,"d":"004 "},"山梨県","南アルプス市","大井村","古市場",null,"","",{"$f":"IF(K623=\"\",\"\",COUNTIF($K$7:K623,\"ﾘｽﾄ１\"))","v":""},"","","","","","","",{"$f":"IF(S623=\"\",\"\",COUNTIF($S$7:S623,\"該当２\"))","v":""},"","",{"$f":"IF(V623=\"\",\"\",COUNTIF($V$7:V623,\"該当３\"))","v":""}]
[1920818000,19,{"v":208,"d":"208 "},{"v":18,"d":"18 "},{"v":0,"d":"000 "},"山梨県","南アルプス市","南湖村",null,null,"","",{"$f":"IF(K624=\"\",\"\",COUNTIF($K$7:K624,\"ﾘｽﾄ１\"))","v":""},"","","","","","","",{"$f":"IF(S624=\"\",\"\",COUNTIF($S$7:S624,\"該当２\"))","v":""},"","",{"$f":"IF(V624=\"\",\"\",COUNTIF($V$7:V624,\"該当３\"))","v":""}]
[1920818001,19,{"v":208,"d":"208 "},{"v":18,"d":"18 "},{"v":1,"d":"001 "},"山梨県","南アルプス市","南湖村","田島",null,"","",{"$f":"IF(K625=\"\",\"\",COUNTIF($K$7:K625,\"ﾘｽﾄ１\"))","v":""},"","","","","","","",{"$f":"IF(S625=\"\",\"\",COUNTIF($S$7:S625,\"該当２\"))","v":""},"","",{"$f":"IF(V625=\"\",\"\",COUNTIF($V$7:V625,\"該当３\"))","v":""}]
[1920818002,19,{"v":208,"d":"208 "},{"v":18,"d":"18 "},{"v":2,"d":"002 "},"山梨県","南アルプス市","南湖村","西南湖",null,"","",{"$f":"IF(K626=\"\",\"\",COUNTIF($K$7:K626,\"ﾘｽﾄ１\"))","v":""},"","","","","","","",{"$f":"IF(S626=\"\",\"\",COUNTIF($S$7:S626,\"該当２\"))","v":""},"","",{"$f":"IF(V626=\"\",\"\",COUNTIF($V$7:V626,\"該当３\"))","v":""}]
[1920818003,19,{"v":208,"d":"208 "},{"v":18,"d":"18 "},{"v":3,"d":"003 "},"山梨県","南アルプス市","南湖村","和泉",null,"","",{"$f":"IF(K627=\"\",\"\",COUNTIF($K$7:K627,\"ﾘｽﾄ１\"))","v":""},"","","","","","","",{"$f":"IF(S627=\"\",\"\",COUNTIF($S$7:S627,\"該当２\"))","v":""},"","",{"$f":"IF(V627=\"\",\"\",COUNTIF($V$7:V627,\"該当３\"))","v":""}]
[1920818004,19,{"v":208,"d":"208 "},{"v":18,"d":"18 "},{"v":4,"d":"004 "},"山梨県","南アルプス市","南湖村","東南湖",null,"","",{"$f":"IF(K628=\"\",\"\",COUNTIF($K$7:K628,\"ﾘｽﾄ１\"))","v":""},"","","","","","","",{"$f":"IF(S628=\"\",\"\",COUNTIF($S$7:S628,\"該当２\"))","v":""},"","",{"$f":"IF(V628=\"\",\"\",COUNTIF($V$7:V628,\"該当３\"))","v":""}]
[1920819000,19,{"v":208,"d":"208 "},{"v":19,"d":"19 "},{"v":0,"d":"000 "},"山梨県","南アルプス市","五明村",null,null,"","",{"$f":"IF(K629=\"\",\"\",COUNTIF($K$7:K629,\"ﾘｽﾄ１\"))","v":""},"","","","","","","",{"$f":"IF(S629=\"\",\"\",COUNTIF($S$7:S629,\"該当２\"))","v":""},"","",{"$f":"IF(V629=\"\",\"\",COUNTIF($V$7:V629,\"該当３\"))","v":""}]
[1920819001,19,{"v":208,"d":"208 "},{"v":19,"d":"19 "},{"v":1,"d":"001 "},"山梨県","南アルプス市","五明村","荊沢",null,"","",{"$f":"IF(K630=\"\",\"\",COUNTIF($K$7:K630,\"ﾘｽﾄ１\"))","v":""},"","","","","","","",{"$f":"IF(S630=\"\",\"\",COUNTIF($S$7:S630,\"該当２\"))","v":""},"","",{"$f":"IF(V630=\"\",\"\",COUNTIF($V$7:V630,\"該当３\"))","v":""}]
[1920819002,19,{"v":208,"d":"208 "},{"v":19,"d":"19 "},{"v":2,"d":"002 "},"山梨県","南アルプス市","五明村","大師",null,"","",{"$f":"IF(K631=\"\",\"\",COUNTIF($K$7:K631,\"ﾘｽﾄ１\"))","v":""},"","","","","","","",{"$f":"IF(S631=\"\",\"\",COUNTIF($S$7:S631,\"該当２\"))","v":""},"","",{"$f":"IF(V631=\"\",\"\",COUNTIF($V$7:V631,\"該当３\"))","v":""}]
[1920819003,19,{"v":208,"d":"208 "},{"v":19,"d":"19 "},{"v":3,"d":"003 "},"山梨県","南アルプス市","五明村","清水",null,"","",{"$f":"IF(K632=\"\",\"\",COUNTIF($K$7:K632,\"ﾘｽﾄ１\"))","v":""},"","","","","","","",{"$f":"IF(S632=\"\",\"\",COUNTIF($S$7:S632,\"該当２\"))","v":""},"","",{"$f":"IF(V632=\"\",\"\",COUNTIF($V$7:V632,\"該当３\"))","v":""}]
[1920819004,19,{"v":208,"d":"208 "},{"v":19,"d":"19 "},{"v":4,"d":"004 "},"山梨県","南アルプス市","五明村","宮沢",null,"","",{"$f":"IF(K633=\"\",\"\",COUNTIF($K$7:K633,\"ﾘｽﾄ１\"))","v":""},"","","","","","","",{"$f":"IF(S633=\"\",\"\",COUNTIF($S$7:S633,\"該当２\"))","v":""},"","",{"$f":"IF(V633=\"\",\"\",COUNTIF($V$7:V633,\"該当３\"))","v":""}]
[1920819005,19,{"v":208,"d":"208 "},{"v":19,"d":"19 "},{"v":5,"d":"005 "},"山梨県","南アルプス市","五明村","戸田",null,"","",{"$f":"IF(K634=\"\",\"\",COUNTIF($K$7:K634,\"ﾘｽﾄ１\"))","v":""},"","","","","","","",{"$f":"IF(S634=\"\",\"\",COUNTIF($S$7:S634,\"該当２\"))","v":""},"","",{"$f":"IF(V634=\"\",\"\",COUNTIF($V$7:V634,\"該当３\"))","v":""}]
[1920820000,19,{"v":208,"d":"208 "},{"v":20,"d":"20 "},{"v":0,"d":"000 "},"山梨県","南アルプス市","落合村",null,null,"","",{"$f":"IF(K635=\"\",\"\",COUNTIF($K$7:K635,\"ﾘｽﾄ１\"))","v":""},"","","","","","","",{"$f":"IF(S635=\"\",\"\",COUNTIF($S$7:S635,\"該当２\"))","v":""},"","",{"$f":"IF(V635=\"\",\"\",COUNTIF($V$7:V635,\"該当３\"))","v":""}]
[1920820001,19,{"v":208,"d":"208 "},{"v":20,"d":"20 "},{"v":1,"d":"001 "},"山梨県","南アルプス市","落合村","東落合",null,"","",{"$f":"IF(K636=\"\",\"\",COUNTIF($K$7:K636,\"ﾘｽﾄ１\"))","v":""},"","","","","","","",{"$f":"IF(S636=\"\",\"\",COUNTIF($S$7:S636,\"該当２\"))","v":""},"","",{"$f":"IF(V636=\"\",\"\",COUNTIF($V$7:V636,\"該当３\"))","v":""}]
[1920820002,19,{"v":208,"d":"208 "},{"v":20,"d":"20 "},{"v":2,"d":"002 "},"山梨県","南アルプス市","落合村","西落合",null,"","",{"$f":"IF(K637=\"\",\"\",COUNTIF($K$7:K637,\"ﾘｽﾄ１\"))","v":""},"","","","","","","",{"$f":"IF(S637=\"\",\"\",COUNTIF($S$7:S637,\"該当２\"))","v":""},"","",{"$f":"IF(V637=\"\",\"\",COUNTIF($V$7:V637,\"該当３\"))","v":""}]
[1920820003,19,{"v":208,"d":"208 "},{"v":20,"d":"20 "},{"v":3,"d":"003 "},"山梨県","南アルプス市","落合村","西新居",null,"","",{"$f":"IF(K638=\"\",\"\",COUNTIF($K$7:K638,\"ﾘｽﾄ１\"))","v":""},"","","","","","","",{"$f":"IF(S638=\"\",\"\",COUNTIF($S$7:S638,\"該当２\"))","v":""},"","",{"$f":"IF(V638=\"\",\"\",COUNTIF($V$7:V638,\"該当３\"))","v":""}]
[1920820004,19,{"v":208,"d":"208 "},{"v":20,"d":"20 "},{"v":4,"d":"004 "},"山梨県","南アルプス市","落合村","秋山",null,"","",{"$f":"IF(K639=\"\",\"\",COUNTIF($K$7:K639,\"ﾘｽﾄ１\"))","v":""},"","","","","","","",{"$f":"IF(S639=\"\",\"\",COUNTIF($S$7:S639,\"該当２\"))","v":""},"","",{"$f":"IF(V639=\"\",\"\",COUNTIF($V$7:V639,\"該当３\"))","v":""}]
[1920820005,19,{"v":208,"d":"208 "},{"v":20,"d":"20 "},{"v":5,"d":"005 "},"山梨県","南アルプス市","落合村","湯沢",null,"","",{"$f":"IF(K640=\"\",\"\",COUNTIF($K$7:K640,\"ﾘｽﾄ１\"))","v":""},"","","","","","","",{"$f":"IF(S640=\"\",\"\",COUNTIF($S$7:S640,\"該当２\"))","v":""},"","",{"$f":"IF(V640=\"\",\"\",COUNTIF($V$7:V640,\"該当３\"))","v":""}]
[1920820006,19,{"v":208,"d":"208 "},{"v":20,"d":"20 "},{"v":6,"d":"006 "},"山梨県","南アルプス市","落合村","塚原",null,"","",{"$f":"IF(K641=\"\",\"\",COUNTIF($K$7:K641,\"ﾘｽﾄ１\"))","v":""},"","","","","","","",{"$f":"IF(S641=\"\",\"\",COUNTIF($S$7:S641,\"該当２\"))","v":""},"","",{"$f":"IF(V641=\"\",\"\",COUNTIF($V$7:V641,\"該当３\"))","v":""}]
[1920820007,19,{"v":208,"d":"208 "},{"v":20,"d":"20 "},{"v":7,"d":"007 "},"山梨県","南アルプス市","落合村","川上",null,"","",{"$f":"IF(K642=\"\",\"\",COUNTIF($K$7:K642,\"ﾘｽﾄ１\"))","v":""},"","","","","","","",{"$f":"IF(S642=\"\",\"\",COUNTIF($S$7:S642,\"該当２\"))","v":""},"","",{"$f":"IF(V642=\"\",\"\",COUNTIF($V$7:V642,\"該当３\"))","v":""}]
[1920900000,19,{"v":209,"d":"209 "},{"v":0,"d":"00 "},{"v":0,"d":"000 "},"山梨県","北杜市",{"$nulls":3},"ﾘｽﾄ１","北杜市",{"$f":"IF(K643=\"\",\"\",COUNTIF($K$7:K643,\"ﾘｽﾄ１\"))","v":8},"","","","","","","",{"$f":"IF(S643=\"\",\"\",COUNTIF($S$7:S643,\"該当２\"))","v":""},"","",{"$f":"IF(V643=\"\",\"\",COUNTIF($V$7:V643,\"該当３\"))","v":""}]
[1920901000,19,{"v":209,"d":"209 "},{"v":1,"d":"01 "},{"v":0,"d":"000 "},"山梨県","北杜市","朝神村",null,null,"","",{"$f":"IF(K644=\"\",\"\",COUNTIF($K$7:K644,\"ﾘｽﾄ１\"))","v":""},"","","","","","","",{"$f":"IF(S644=\"\",\"\",COUNTIF($S$7:S644,\"該当２\"))","v":""},"","",{"$f":"IF(V644=\"\",\"\",COUNTIF($V$7:V644,\"該当３\"))","v":""}]
[1920901001,19,{"v":209,"d":"209 "},{"v":1,"d":"01 "},{"v":1,"d":"001 "},"山梨県","北杜市","朝神村","浅尾",null,"","",{"$f":"IF(K645=\"\",\"\",COUNTIF($K$7:K645,\"ﾘｽﾄ１\"))","v":""},"","","","","","","",{"$f":"IF(S645=\"\",\"\",COUNTIF($S$7:S645,\"該当２\"))","v":""},"","",{"$f":"IF(V645=\"\",\"\",COUNTIF($V$7:V645,\"該当３\"))","v":""}]
[1920901002,19,{"v":209,"d":"209 "},{"v":1,"d":"01 "},{"v":2,"d":"002 "},"山梨県","北杜市","朝神村","東光",null,"","",{"$f":"IF(K646=\"\",\"\",COUNTIF($K$7:K646,\"ﾘｽﾄ１\"))","v":""},"","","","","","","",{"$f":"IF(S646=\"\",\"\",COUNTIF($S$7:S646,\"該当２\"))","v":""},"","",{"$f":"IF(V646=\"\",\"\",COUNTIF($V$7:V646,\"該当３\"))","v":""}]
[1920901003,19,{"v":209,"d":"209 "},{"v":1,"d":"01 "},{"v":3,"d":"003 "},"山梨県","北杜市","朝神村","浅尾原",null,"","",{"$f":"IF(K647=\"\",\"\",COUNTIF($K$7:K647,\"ﾘｽﾄ１\"))","v":""},"","","","","","","",{"$f":"IF(S647=\"\",\"\",COUNTIF($S$7:S647,\"該当２\"))","v":""},"","",{"$f":"IF(V647=\"\",\"\",COUNTIF($V$7:V647,\"該当３\"))","v":""}]
[1920901004,19,{"v":209,"d":"209 "},{"v":1,"d":"01 "},{"v":4,"d":"004 "},"山梨県","北杜市","朝神村","中込",null,"","",{"$f":"IF(K648=\"\",\"\",COUNTIF($K$7:K648,\"ﾘｽﾄ１\"))","v":""},"","","","","","","",{"$f":"IF(S648=\"\",\"\",COUNTIF($S$7:S648,\"該当２\"))","v":""},"","",{"$f":"IF(V648=\"\",\"\",COUNTIF($V$7:V648,\"該当３\"))","v":""}]
[1920901005,19,{"v":209,"d":"209 "},{"v":1,"d":"01 "},{"v":5,"d":"005 "},"山梨県","北杜市","朝神村","浅尾新田",null,"","",{"$f":"IF(K649=\"\",\"\",COUNTIF($K$7:K649,\"ﾘｽﾄ１\"))","v":""},"","","","","","","",{"$f":"IF(S649=\"\",\"\",COUNTIF($S$7:S649,\"該当２\"))","v":""},"","",{"$f":"IF(V649=\"\",\"\",COUNTIF($V$7:V649,\"該当３\"))","v":""}]
[1920901006,19,{"v":209,"d":"209 "},{"v":1,"d":"01 "},{"v":6,"d":"006 "},"山梨県","北杜市","朝神村","上神取",null,"","",{"$f":"IF(K650=\"\",\"\",COUNTIF($K$7:K650,\"ﾘｽﾄ１\"))","v":""},"","",{"$f":"IF(O650=\"該当１\",G650,\"\")","v":""},{"$f":"IF(O650=\"該当１\",\"ﾘｽﾄ2\",\"\")","v":""},{"$f":"IF(Q650=\"ﾘｽﾄ2\",H650,\"\")","v":""},"",{"$f":"IF(S650=\"該当２\",H650,\"\")","v":""},{"$f":"IF(S650=\"\",\"\",COUNTIF($S$7:S650,\"該当２\"))","v":""},{"$f":"IF(AND($S$2=H650,E650>0,E650<998),\"該当３\",\"\")","v":""},{"$f":"IF(V650=\"該当３\",I650,\"\")","v":""},{"$f":"IF(V650=\"\",\"\",COUNTIF($V$7:V650,\"該当３\"))","v":""}]
[1920901007,19,{"v":209,"d":"209 "},{"v":1,"d":"01 "},{"v":7,"d":"007 "},"山梨県","北杜市","朝神村","御領平",null,{"$f":"IF(AND($C651>0,$H651=\"\"),\"ﾘｽﾄ１\",\"\")","v":""},{"$f":"IF(K651=\"ﾘｽﾄ１\",G651,\"\")","v":""},{"$f":"IF(K651=\"\",\"\",COUNTIF($K$7:K651,\"ﾘｽﾄ１\"))","v":""},{"$f":"IF(AND(D651=0,E651>0),\"同一区\",\"\")","v":""},{"$f":"IF(AND(EXACT($K$2,G651),H651>0),\"該当１\",\"\")","v":""},"","","",{"$f":"IF(AND(Q651=\"ﾘｽﾄ2\",OR(I651=0,AND(N651=\"同一区\",E651=1))),\"該当２\",\"\")","v":""},"",{"$f":"IF(S651=\"\",\"\",COUNTIF($S$7:S651,\"該当２\"))","v":""},"","",{"$f":"IF(V651=\"\",\"\",COUNTIF($V$7:V651,\"該当３\"))","v":""}]
[1920901008,19,{"v":209,"d":"209 "},{"v":1,"d":"01 "},{"v":8,"d":"008 "},"山梨県","北杜市","朝神村","下神取",null,"","",{"$f":"IF(K652=\"\",\"\",COUNTIF($K$7:K652,\"ﾘｽﾄ１\"))","v":""},"","","","","","","",{"$f":"IF(S652=\"\",\"\",COUNTIF($S$7:S652,\"該当２\"))","v":""},"","",{"$f":"IF(V652=\"\",\"\",COUNTIF($V$7:V652,\"該当３\"))","v":""}]
[1920902000,19,{"v":209,"d":"209 "},{"v":2,"d":"02 "},{"v":0,"d":"000 "},"山梨県","北杜市","上手村",null,null,"","",{"$f":"IF(K653=\"\",\"\",COUNTIF($K$7:K653,\"ﾘｽﾄ１\"))","v":""},"","","","","","","",{"$f":"IF(S653=\"\",\"\",COUNTIF($S$7:S653,\"該当２\"))","v":""},"","",{"$f":"IF(V653=\"\",\"\",COUNTIF($V$7:V653,\"該当３\"))","v":""}]
[1920902001,19,{"v":209,"d":"209 "},{"v":2,"d":"02 "},{"v":1,"d":"001 "},"山梨県","北杜市","上手村","戸崎",null,"","",{"$f":"IF(K654=\"\",\"\",COUNTIF($K$7:K654,\"ﾘｽﾄ１\"))","v":""},"","","","","","","",{"$f":"IF(S654=\"\",\"\",COUNTIF($S$7:S654,\"該当２\"))","v":""},"","",{"$f":"IF(V654=\"\",\"\",COUNTIF($V$7:V654,\"該当３\"))","v":""}]
[1920902002,19,{"v":209,"d":"209 "},{"v":2,"d":"02 "},{"v":2,"d":"002 "},"山梨県","北杜市","上手村","一本松",null,"","",{"$f":"IF(K655=\"\",\"\",COUNTIF($K$7:K655,\"ﾘｽﾄ１\"))","v":""},"","","","","","","",{"$f":"IF(S655=\"\",\"\",COUNTIF($S$7:S655,\"該当２\"))","v":""},"","",{"$f":"IF(V655=\"\",\"\",COUNTIF($V$7:V655,\"該当３\"))","v":""}]
[1920902003,19,{"v":209,"d":"209 "},{"v":2,"d":"02 "},{"v":3,"d":"003 "},"山梨県","北杜市","上手村","西村",null,"","",{"$f":"IF(K656=\"\",\"\",COUNTIF($K$7:K656,\"ﾘｽﾄ１\"))","v":""},"","","","","","","",{"$f":"IF(S656=\"\",\"\",COUNTIF($S$7:S656,\"該当２\"))","v":""},"","",{"$f":"IF(V656=\"\",\"\",COUNTIF($V$7:V656,\"該当３\"))","v":""}]
[1920902004,19,{"v":209,"d":"209 "},{"v":2,"d":"02 "},{"v":4,"d":"004 "},"山梨県","北杜市","上手村","南組",null,"","",{"$f":"IF(K657=\"\",\"\",COUNTIF($K$7:K657,\"ﾘｽﾄ１\"))","v":""},"","","","","","","",{"$f":"IF(S657=\"\",\"\",COUNTIF($S$7:S657,\"該当２\"))","v":""},"","",{"$f":"IF(V657=\"\",\"\",COUNTIF($V$7:V657,\"該当３\"))","v":""}]
[1920902005,19,{"v":209,"d":"209 "},{"v":2,"d":"02 "},{"v":5,"d":"005 "},"山梨県","北杜市","上手村","中筋",null,"","",{"$f":"IF(K658=\"\",\"\",COUNTIF($K$7:K658,\"ﾘｽﾄ１\"))","v":""},"","","","","","","",{"$f":"IF(S658=\"\",\"\",COUNTIF($S$7:S658,\"該当２\"))","v":""},"","",{"$f":"IF(V658=\"\",\"\",COUNTIF($V$7:V658,\"該当３\"))","v":""}]
[1920902006,19,{"v":209,"d":"209 "},{"v":2,"d":"02 "},{"v":6,"d":"006 "},"山梨県","北杜市","上手村","前宮",null,"","",{"$f":"IF(K659=\"\",\"\",COUNTIF($K$7:K659,\"ﾘｽﾄ１\"))","v":""},"","","","","","","",{"$f":"IF(S659=\"\",\"\",COUNTIF($S$7:S659,\"該当２\"))","v":""},"","",{"$f":"IF(V659=\"\",\"\",COUNTIF($V$7:V659,\"該当３\"))","v":""}]
[1920902007,19,{"v":209,"d":"209 "},{"v":2,"d":"02 "},{"v":7,"d":"007 "},"山梨県","北杜市","上手村","大久保",null,"","",{"$f":"IF(K660=\"\",\"\",COUNTIF($K$7:K660,\"ﾘｽﾄ１\"))","v":""},"","","","","","","",{"$f":"IF(S660=\"\",\"\",COUNTIF($S$7:S660,\"該当２\"))","v":""},"","",{"$f":"IF(V660=\"\",\"\",COUNTIF($V$7:V660,\"該当３\"))","v":""}]
[1920902008,19,{"v":209,"d":"209 "},{"v":2,"d":"02 "},{"v":8,"d":"008 "},"山梨県","北杜市","上手村","藤内",null,"","",{"$f":"IF(K661=\"\",\"\",COUNTIF($K$7:K661,\"ﾘｽﾄ１\"))","v":""},"","","","","","","",{"$f":"IF(S661=\"\",\"\",COUNTIF($S$7:S661,\"該当２\"))","v":""},"","",{"$f":"IF(V661=\"\",\"\",COUNTIF($V$7:V661,\"該当３\"))","v":""}]
[1920902009,19,{"v":209,"d":"209 "},{"v":2,"d":"02 "},{"v":9,"d":"009 "},"山梨県","北杜市","上手村","北組道下",null,"","",{"$f":"IF(K662=\"\",\"\",COUNTIF($K$7:K662,\"ﾘｽﾄ１\"))","v":""},"","","","","","","",{"$f":"IF(S662=\"\",\"\",COUNTIF($S$7:S662,\"該当２\"))","v":""},"","",{"$f":"IF(V662=\"\",\"\",COUNTIF($V$7:V662,\"該当３\"))","v":""}]
[1920902010,19,{"v":209,"d":"209 "},{"v":2,"d":"02 "},{"v":10,"d":"010 "},"山梨県","北杜市","上手村","北組道上",null,"","",{"$f":"IF(K663=\"\",\"\",COUNTIF($K$7:K663,\"ﾘｽﾄ１\"))","v":""},"","","","","","","",{"$f":"IF(S663=\"\",\"\",COUNTIF($S$7:S663,\"該当２\"))","v":""},"","",{"$f":"IF(V663=\"\",\"\",COUNTIF($V$7:V663,\"該当３\"))","v":""}]
[1920902011,19,{"v":209,"d":"209 "},{"v":2,"d":"02 "},{"v":11,"d":"011 "},"山梨県","北杜市","上手村","谷井",null,"","",{"$f":"IF(K664=\"\",\"\",COUNTIF($K$7:K664,\"ﾘｽﾄ１\"))","v":""},"","","","","","","",{"$f":"IF(S664=\"\",\"\",COUNTIF($S$7:S664,\"該当２\"))","v":""},"","",{"$f":"IF(V664=\"\",\"\",COUNTIF($V$7:V664,\"該当３\"))","v":""}]
[1920902012,19,{"v":209,"d":"209 "},{"v":2,"d":"02 "},{"v":12,"d":"012 "},"山梨県","北杜市","上手村","永井南",null,"","",{"$f":"IF(K665=\"\",\"\",COUNTIF($K$7:K665,\"ﾘｽﾄ１\"))","v":""},"","","","","","","",{"$f":"IF(S665=\"\",\"\",COUNTIF($S$7:S665,\"該当２\"))","v":""},"","",{"$f":"IF(V665=\"\",\"\",COUNTIF($V$7:V665,\"該当３\"))","v":""}]
[1920902013,19,{"v":209,"d":"209 "},{"v":2,"d":"02 "},{"v":13,"d":"013 "},"山梨県","北杜市","上手村","永井北",null,"","",{"$f":"IF(K666=\"\",\"\",COUNTIF($K$7:K666,\"ﾘｽﾄ１\"))","v":""},"","","","","","","",{"$f":"IF(S666=\"\",\"\",COUNTIF($S$7:S666,\"該当２\"))","v":""},"","",{"$f":"IF(V666=\"\",\"\",COUNTIF($V$7:V666,\"該当３\"))","v":""}]
[1920902014,19,{"v":209,"d":"209 "},{"v":2,"d":"02 "},{"v":14,"d":"014 "},"山梨県","北杜市","上手村","小袖",null,"","",{"$f":"IF(K667=\"\",\"\",COUNTIF($K$7:K667,\"ﾘｽﾄ１\"))","v":""},"","","","","","","",{"$f":"IF(S667=\"\",\"\",COUNTIF($S$7:S667,\"該当２\"))","v":""},"","",{"$f":"IF(V667=\"\",\"\",COUNTIF($V$7:V667,\"該当３\"))","v":""}]
[1920903000,19,{"v":209,"d":"209 "},{"v":3,"d":"03 "},{"v":0,"d":"000 "},"山梨県","北杜市","小笠原村",null,null,"","",{"$f":"IF(K668=\"\",\"\",COUNTIF($K$7:K668,\"ﾘｽﾄ１\"))","v":""},"","","","","","","",{"$f":"IF(S668=\"\",\"\",COUNTIF($S$7:S668,\"該当２\"))","v":""},"","",{"$f":"IF(V668=\"\",\"\",COUNTIF($V$7:V668,\"該当３\"))","v":""}]
[1920903001,19,{"v":209,"d":"209 "},{"v":3,"d":"03 "},{"v":1,"d":"001 "},"山梨県","北杜市","小笠原村","三之蔵",null,"","",{"$f":"IF(K669=\"\",\"\",COUNTIF($K$7:K669,\"ﾘｽﾄ１\"))","v":""},"","","","","","","",{"$f":"IF(S669=\"\",\"\",COUNTIF($S$7:S669,\"該当２\"))","v":""},"","",{"$f":"IF(V669=\"\",\"\",COUNTIF($V$7:V669,\"該当３\"))","v":""}]
[1920903002,19,{"v":209,"d":"209 "},{"v":3,"d":"03 "},{"v":2,"d":"002 "},"山梨県","北杜市","小笠原村","厚芝",null,"","",{"$f":"IF(K670=\"\",\"\",COUNTIF($K$7:K670,\"ﾘｽﾄ１\"))","v":""},"","","","","","","",{"$f":"IF(S670=\"\",\"\",COUNTIF($S$7:S670,\"該当２\"))","v":""},"","",{"$f":"IF(V670=\"\",\"\",COUNTIF($V$7:V670,\"該当３\"))","v":""}]
[1920903003,19,{"v":209,"d":"209 "},{"v":3,"d":"03 "},{"v":3,"d":"003 "},"山梨県","北杜市","小笠原村","原",null,"","",{"$f":"IF(K671=\"\",\"\",COUNTIF($K$7:K671,\"ﾘｽﾄ１\"))","v":""},"","","","","","","",{"$f":"IF(S671=\"\",\"\",COUNTIF($S$7:S671,\"該当２\"))","v":""},"","",{"$f":"IF(V671=\"\",\"\",COUNTIF($V$7:V671,\"該当３\"))","v":""}]
[1920903004,19,{"v":209,"d":"209 "},{"v":3,"d":"03 "},{"v":4,"d":"004 "},"山梨県","北杜市","小笠原村","小笠原",null,"","",{"$f":"IF(K672=\"\",\"\",COUNTIF($K$7:K672,\"ﾘｽﾄ１\"))","v":""},"","","","","","","",{"$f":"IF(S672=\"\",\"\",COUNTIF($S$7:S672,\"該当２\"))","v":""},"","",{"$f":"IF(V672=\"\",\"\",COUNTIF($V$7:V672,\"該当３\"))","v":""}]
[1920903005,19,{"v":209,"d":"209 "},{"v":3,"d":"03 "},{"v":5,"d":"005 "},"山梨県","北杜市","小笠原村","正楽寺",null,"","",{"$f":"IF(K673=\"\",\"\",COUNTIF($K$7:K673,\"ﾘｽﾄ１\"))","v":""},"","","","","","","",{"$f":"IF(S673=\"\",\"\",COUNTIF($S$7:S673,\"該当２\"))","v":""},"","",{"$f":"IF(V673=\"\",\"\",COUNTIF($V$7:V673,\"該当３\"))","v":""}]
[1920903006,19,{"v":209,"d":"209 "},{"v":3,"d":"03 "},{"v":6,"d":"006 "},"山梨県","北杜市","小笠原村","大内",null,"","",{"$f":"IF(K674=\"\",\"\",COUNTIF($K$7:K674,\"ﾘｽﾄ１\"))","v":""},"","","","","","","",{"$f":"IF(S674=\"\",\"\",COUNTIF($S$7:S674,\"該当２\"))","v":""},"","",{"$f":"IF(V674=\"\",\"\",COUNTIF($V$7:V674,\"該当３\"))","v":""}]
[1920904000,19,{"v":209,"d":"209 "},{"v":4,"d":"04 "},{"v":0,"d":"000 "},"山梨県","北杜市","津金村",null,null,"","",{"$f":"IF(K675=\"\",\"\",COUNTIF($K$7:K675,\"ﾘｽﾄ１\"))","v":""},"","","","","","","",{"$f":"IF(S675=\"\",\"\",COUNTIF($S$7:S675,\"該当２\"))","v":""},"","",{"$f":"IF(V675=\"\",\"\",COUNTIF($V$7:V675,\"該当３\"))","v":""}]
[1920904001,19,{"v":209,"d":"209 "},{"v":4,"d":"04 "},{"v":1,"d":"001 "},"山梨県","北杜市","津金村","大和",null,"","",{"$f":"IF(K676=\"\",\"\",COUNTIF($K$7:K676,\"ﾘｽﾄ１\"))","v":""},"","","","","","","",{"$f":"IF(S676=\"\",\"\",COUNTIF($S$7:S676,\"該当２\"))","v":""},"","",{"$f":"IF(V676=\"\",\"\",COUNTIF($V$7:V676,\"該当３\"))","v":""}]
[1920904002,19,{"v":209,"d":"209 "},{"v":4,"d":"04 "},{"v":2,"d":"002 "},"山梨県","北杜市","津金村","桑原",null,"","",{"$f":"IF(K677=\"\",\"\",COUNTIF($K$7:K677,\"ﾘｽﾄ１\"))","v":""},"","","","","","","",{"$f":"IF(S677=\"\",\"\",COUNTIF($S$7:S677,\"該当２\"))","v":""},"","",{"$f":"IF(V677=\"\",\"\",COUNTIF($V$7:V677,\"該当３\"))","v":""}]
[1920904003,19,{"v":209,"d":"209 "},{"v":4,"d":"04 "},{"v":3,"d":"003 "},"山梨県","北杜市","津金村","御所",null,"","",{"$f":"IF(K678=\"\",\"\",COUNTIF($K$7:K678,\"ﾘｽﾄ１\"))","v":""},"","","","","","","",{"$f":"IF(S678=\"\",\"\",COUNTIF($S$7:S678,\"該当２\"))","v":""},"","",{"$f":"IF(V678=\"\",\"\",COUNTIF($V$7:V678,\"該当３\"))","v":""}]
[1920904004,19,{"v":209,"d":"209 "},{"v":4,"d":"04 "},{"v":4,"d":"004 "},"山梨県","北杜市","津金村","下原",null,"","",{"$f":"IF(K679=\"\",\"\",COUNTIF($K$7:K679,\"ﾘｽﾄ１\"))","v":""},"","","","","","","",{"$f":"IF(S679=\"\",\"\",COUNTIF($S$7:S679,\"該当２\"))","v":""},"","",{"$f":"IF(V679=\"\",\"\",COUNTIF($V$7:V679,\"該当３\"))","v":""}]
[1920904005,19,{"v":209,"d":"209 "},{"v":4,"d":"04 "},{"v":5,"d":"005 "},"山梨県","北杜市","津金村","和田",null,"","",{"$f":"IF(K680=\"\",\"\",COUNTIF($K$7:K680,\"ﾘｽﾄ１\"))","v":""},"","","","","","","",{"$f":"IF(S680=\"\",\"\",COUNTIF($S$7:S680,\"該当２\"))","v":""},"","",{"$f":"IF(V680=\"\",\"\",COUNTIF($V$7:V680,\"該当３\"))","v":""}]
[1920905000,19,{"v":209,"d":"209 "},{"v":5,"d":"05 "},{"v":0,"d":"000 "},"山梨県","北杜市","若神子村",null,null,"","",{"$f":"IF(K681=\"\",\"\",COUNTIF($K$7:K681,\"ﾘｽﾄ１\"))","v":""},"","","","","","","",{"$f":"IF(S681=\"\",\"\",COUNTIF($S$7:S681,\"該当２\"))","v":""},"","",{"$f":"IF(V681=\"\",\"\",COUNTIF($V$7:V681,\"該当３\"))","v":""}]
[1920905001,19,{"v":209,"d":"209 "},{"v":5,"d":"05 "},{"v":1,"d":"001 "},"山梨県","北杜市","若神子村","川又",null,"","",{"$f":"IF(K682=\"\",\"\",COUNTIF($K$7:K682,\"ﾘｽﾄ１\"))","v":""},"","","","","","","",{"$f":"IF(S682=\"\",\"\",COUNTIF($S$7:S682,\"該当２\"))","v":""},"","",{"$f":"IF(V682=\"\",\"\",COUNTIF($V$7:V682,\"該当３\"))","v":""}]
[1920905002,19,{"v":209,"d":"209 "},{"v":5,"d":"05 "},{"v":2,"d":"002 "},"山梨県","北杜市","若神子村","前村",null,"","",{"$f":"IF(K683=\"\",\"\",COUNTIF($K$7:K683,\"ﾘｽﾄ１\"))","v":""},"","","","","","","",{"$f":"IF(S683=\"\",\"\",COUNTIF($S$7:S683,\"該当２\"))","v":""},"","",{"$f":"IF(V683=\"\",\"\",COUNTIF($V$7:V683,\"該当３\"))","v":""}]
[1920905003,19,{"v":209,"d":"209 "},{"v":5,"d":"05 "},{"v":3,"d":"003 "},"山梨県","北杜市","若神子村","中村",null,"","",{"$f":"IF(K684=\"\",\"\",COUNTIF($K$7:K684,\"ﾘｽﾄ１\"))","v":""},"","","","","","","",{"$f":"IF(S684=\"\",\"\",COUNTIF($S$7:S684,\"該当２\"))","v":""},"","",{"$f":"IF(V684=\"\",\"\",COUNTIF($V$7:V684,\"該当３\"))","v":""}]
[1920905004,19,{"v":209,"d":"209 "},{"v":5,"d":"05 "},{"v":4,"d":"004 "},"山梨県","北杜市","若神子村","二日市場",null,"","",{"$f":"IF(K685=\"\",\"\",COUNTIF($K$7:K685,\"ﾘｽﾄ１\"))","v":""},"","","","","","","",{"$f":"IF(S685=\"\",\"\",COUNTIF($S$7:S685,\"該当２\"))","v":""},"","",{"$f":"IF(V685=\"\",\"\",COUNTIF($V$7:V685,\"該当３\"))","v":""}]
[1920905005,19,{"v":209,"d":"209 "},{"v":5,"d":"05 "},{"v":5,"d":"005 "},"山梨県","北杜市","若神子村","上宿",null,"","",{"$f":"IF(K686=\"\",\"\",COUNTIF($K$7:K686,\"ﾘｽﾄ１\"))","v":""},"","","","","","","",{"$f":"IF(S686=\"\",\"\",COUNTIF($S$7:S686,\"該当２\"))","v":""},"","",{"$f":"IF(V686=\"\",\"\",COUNTIF($V$7:V686,\"該当３\"))","v":""}]
[1920905006,19,{"v":209,"d":"209 "},{"v":5,"d":"05 "},{"v":6,"d":"006 "},"山梨県","北杜市","若神子村","中町",null,"","",{"$f":"IF(K687=\"\",\"\",COUNTIF($K$7:K687,\"ﾘｽﾄ１\"))","v":""},"","","","","","","",{"$f":"IF(S687=\"\",\"\",COUNTIF($S$7:S687,\"該当２\"))","v":""},"","",{"$f":"IF(V687=\"\",\"\",COUNTIF($V$7:V687,\"該当３\"))","v":""}]
[1920905007,19,{"v":209,"d":"209 "},{"v":5,"d":"05 "},{"v":7,"d":"007 "},"山梨県","北杜市","若神子村","下宿",null,"","",{"$f":"IF(K688=\"\",\"\",COUNTIF($K$7:K688,\"ﾘｽﾄ１\"))","v":""},"","","","","","","",{"$f":"IF(S688=\"\",\"\",COUNTIF($S$7:S688,\"該当２\"))","v":""},"","",{"$f":"IF(V688=\"\",\"\",COUNTIF($V$7:V688,\"該当３\"))","v":""}]
[1920905008,19,{"v":209,"d":"209 "},{"v":5,"d":"05 "},{"v":8,"d":"008 "},"山梨県","北杜市","若神子村","竹の内",null,"","",{"$f":"IF(K689=\"\",\"\",COUNTIF($K$7:K689,\"ﾘｽﾄ１\"))","v":""},"","","","","","","",{"$f":"IF(S689=\"\",\"\",COUNTIF($S$7:S689,\"該当２\"))","v":""},"","",{"$f":"IF(V689=\"\",\"\",COUNTIF($V$7:V689,\"該当３\"))","v":""}]
[1920905009,19,{"v":209,"d":"209 "},{"v":5,"d":"05 "},{"v":9,"d":"009 "},"山梨県","北杜市","若神子村","下和田",null,"","",{"$f":"IF(K690=\"\",\"\",COUNTIF($K$7:K690,\"ﾘｽﾄ１\"))","v":""},"","","","","","","",{"$f":"IF(S690=\"\",\"\",COUNTIF($S$7:S690,\"該当２\"))","v":""},"","",{"$f":"IF(V690=\"\",\"\",COUNTIF($V$7:V690,\"該当３\"))","v":""}]
[1920905010,19,{"v":209,"d":"209 "},{"v":5,"d":"05 "},{"v":10,"d":"010 "},"山梨県","北杜市","若神子村","若神子新町",null,"","",{"$f":"IF(K691=\"\",\"\",COUNTIF($K$7:K691,\"ﾘｽﾄ１\"))","v":""},"","","","","","","",{"$f":"IF(S691=\"\",\"\",COUNTIF($S$7:S691,\"該当２\"))","v":""},"","",{"$f":"IF(V691=\"\",\"\",COUNTIF($V$7:V691,\"該当３\"))","v":""}]
[1920905011,19,{"v":209,"d":"209 "},{"v":5,"d":"05 "},{"v":11,"d":"011 "},"山梨県","北杜市","若神子村","境之沢",null,"","",{"$f":"IF(K692=\"\",\"\",COUNTIF($K$7:K692,\"ﾘｽﾄ１\"))","v":""},"","","","","","","",{"$f":"IF(S692=\"\",\"\",COUNTIF($S$7:S692,\"該当２\"))","v":""},"","",{"$f":"IF(V692=\"\",\"\",COUNTIF($V$7:V692,\"該当３\"))","v":""}]
[1920906000,19,{"v":209,"d":"209 "},{"v":6,"d":"06 "},{"v":0,"d":"000 "},"山梨県","北杜市","穂足村",null,null,"","",{"$f":"IF(K693=\"\",\"\",COUNTIF($K$7:K693,\"ﾘｽﾄ１\"))","v":""},"","","","","","","",{"$f":"IF(S693=\"\",\"\",COUNTIF($S$7:S693,\"該当２\"))","v":""},"","",{"$f":"IF(V693=\"\",\"\",COUNTIF($V$7:V693,\"該当３\"))","v":""}]
[1920906001,19,{"v":209,"d":"209 "},{"v":6,"d":"06 "},{"v":1,"d":"001 "},"山梨県","北杜市","穂足村","大蔵",null,"","",{"$f":"IF(K694=\"\",\"\",COUNTIF($K$7:K694,\"ﾘｽﾄ１\"))","v":""},"","","","","","","",{"$f":"IF(S694=\"\",\"\",COUNTIF($S$7:S694,\"該当２\"))","v":""},"","",{"$f":"IF(V694=\"\",\"\",COUNTIF($V$7:V694,\"該当３\"))","v":""}]
[1920906002,19,{"v":209,"d":"209 "},{"v":6,"d":"06 "},{"v":2,"d":"002 "},"山梨県","北杜市","穂足村","大蔵新田",null,"","",{"$f":"IF(K695=\"\",\"\",COUNTIF($K$7:K695,\"ﾘｽﾄ１\"))","v":""},"","","","","","","",{"$f":"IF(S695=\"\",\"\",COUNTIF($S$7:S695,\"該当２\"))","v":""},"","",{"$f":"IF(V695=\"\",\"\",COUNTIF($V$7:V695,\"該当３\"))","v":""}]
[1920906003,19,{"v":209,"d":"209 "},{"v":6,"d":"06 "},{"v":3,"d":"003 "},"山梨県","北杜市","穂足村","覚林寺",null,"","",{"$f":"IF(K696=\"\",\"\",COUNTIF($K$7:K696,\"ﾘｽﾄ１\"))","v":""},"","","","","","","",{"$f":"IF(S696=\"\",\"\",COUNTIF($S$7:S696,\"該当２\"))","v":""},"","",{"$f":"IF(V696=\"\",\"\",COUNTIF($V$7:V696,\"該当３\"))","v":""}]
[1920906004,19,{"v":209,"d":"209 "},{"v":6,"d":"06 "},{"v":4,"d":"004 "},"山梨県","北杜市","穂足村","田屋",null,"","",{"$f":"IF(K697=\"\",\"\",COUNTIF($K$7:K697,\"ﾘｽﾄ１\"))","v":""},"","","","","","","",{"$f":"IF(S697=\"\",\"\",COUNTIF($S$7:S697,\"該当２\"))","v":""},"","",{"$f":"IF(V697=\"\",\"\",COUNTIF($V$7:V697,\"該当３\"))","v":""}]
[1920906005,19,{"v":209,"d":"209 "},{"v":6,"d":"06 "},{"v":5,"d":"005 "},"山梨県","北杜市","穂足村","大豆生田下組",null,"","",{"$f":"IF(K698=\"\",\"\",COUNTIF($K$7:K698,\"ﾘｽﾄ１\"))","v":""},"","","","","","","",{"$f":"IF(S698=\"\",\"\",COUNTIF($S$7:S698,\"該当２\"))","v":""},"","",{"$f":"IF(V698=\"\",\"\",COUNTIF($V$7:V698,\"該当３\"))","v":""}]
[1920906006,19,{"v":209,"d":"209 "},{"v":6,"d":"06 "},{"v":6,"d":"006 "},"山梨県","北杜市","穂足村","百観音",null,"","",{"$f":"IF(K699=\"\",\"\",COUNTIF($K$7:K699,\"ﾘｽﾄ１\"))","v":""},"","","","","","","",{"$f":"IF(S699=\"\",\"\",COUNTIF($S$7:S699,\"該当２\"))","v":""},"","",{"$f":"IF(V699=\"\",\"\",COUNTIF($V$7:V699,\"該当３\"))","v":""}]
[1920906007,19,{"v":209,"d":"209 "},{"v":6,"d":"06 "},{"v":7,"d":"007 "},"山梨県","北杜市","穂足村","藤田下組",null,"","",{"$f":"IF(K700=\"\",\"\",COUNTIF($K$7:K700,\"ﾘｽﾄ１\"))","v":""},"","","","","","","",{"$f":"IF(S700=\"\",\"\",COUNTIF($S$7:S700,\"該当２\"))","v":""},"","",{"$f":"IF(V700=\"\",\"\",COUNTIF($V$7:V700,\"該当３\"))","v":""}]
[1920906008,19,{"v":209,"d":"209 "},{"v":6,"d":"06 "},{"v":8,"d":"008 "},"山梨県","北杜市","穂足村","藤田上組",null,"","",{"$f":"IF(K701=\"\",\"\",COUNTIF($K$7:K701,\"ﾘｽﾄ１\"))","v":""},"","","","","","","",{"$f":"IF(S701=\"\",\"\",COUNTIF($S$7:S701,\"該当２\"))","v":""},"","",{"$f":"IF(V701=\"\",\"\",COUNTIF($V$7:V701,\"該当３\"))","v":""}]
[1920907000,19,{"v":209,"d":"209 "},{"v":7,"d":"07 "},{"v":0,"d":"000 "},"山梨県","北杜市","多麻村",null,null,"","",{"$f":"IF(K702=\"\",\"\",COUNTIF($K$7:K702,\"ﾘｽﾄ１\"))","v":""},"","","","","","","",{"$f":"IF(S702=\"\",\"\",COUNTIF($S$7:S702,\"該当２\"))","v":""},"","",{"$f":"IF(V702=\"\",\"\",COUNTIF($V$7:V702,\"該当３\"))","v":""}]
[1920907001,19,{"v":209,"d":"209 "},{"v":7,"d":"07 "},{"v":1,"d":"001 "},"山梨県","北杜市","多麻村","上小倉",null,"","",{"$f":"IF(K703=\"\",\"\",COUNTIF($K$7:K703,\"ﾘｽﾄ１\"))","v":""},"","","","","","","",{"$f":"IF(S703=\"\",\"\",COUNTIF($S$7:S703,\"該当２\"))","v":""},"","",{"$f":"IF(V703=\"\",\"\",COUNTIF($V$7:V703,\"該当３\"))","v":""}]
[1920907002,19,{"v":209,"d":"209 "},{"v":7,"d":"07 "},{"v":2,"d":"002 "},"山梨県","北杜市","多麻村","中小倉",null,"","",{"$f":"IF(K704=\"\",\"\",COUNTIF($K$7:K704,\"ﾘｽﾄ１\"))","v":""},"","","","","","","",{"$f":"IF(S704=\"\",\"\",COUNTIF($S$7:S704,\"該当２\"))","v":""},"","",{"$f":"IF(V704=\"\",\"\",COUNTIF($V$7:V704,\"該当３\"))","v":""}]
[1920907003,19,{"v":209,"d":"209 "},{"v":7,"d":"07 "},{"v":3,"d":"003 "},"山梨県","北杜市","多麻村","下小倉",null,"","",{"$f":"IF(K705=\"\",\"\",COUNTIF($K$7:K705,\"ﾘｽﾄ１\"))","v":""},"","","","","","","",{"$f":"IF(S705=\"\",\"\",COUNTIF($S$7:S705,\"該当２\"))","v":""},"","",{"$f":"IF(V705=\"\",\"\",COUNTIF($V$7:V705,\"該当３\"))","v":""}]
[1920907004,19,{"v":209,"d":"209 "},{"v":7,"d":"07 "},{"v":4,"d":"004 "},"山梨県","北杜市","多麻村","東向",null,"","",{"$f":"IF(K706=\"\",\"\",COUNTIF($K$7:K706,\"ﾘｽﾄ１\"))","v":""},"","","","","","","",{"$f":"IF(S706=\"\",\"\",COUNTIF($S$7:S706,\"該当２\"))","v":""},"","",{"$f":"IF(V706=\"\",\"\",COUNTIF($V$7:V706,\"該当３\"))","v":""}]
[1920908000,19,{"v":209,"d":"209 "},{"v":8,"d":"08 "},{"v":0,"d":"000 "},"山梨県","北杜市","江草村",null,null,"","",{"$f":"IF(K707=\"\",\"\",COUNTIF($K$7:K707,\"ﾘｽﾄ１\"))","v":""},"","","","","","","",{"$f":"IF(S707=\"\",\"\",COUNTIF($S$7:S707,\"該当２\"))","v":""},"","",{"$f":"IF(V707=\"\",\"\",COUNTIF($V$7:V707,\"該当３\"))","v":""}]
[1920908001,19,{"v":209,"d":"209 "},{"v":8,"d":"08 "},{"v":1,"d":"001 "},"山梨県","北杜市","江草村","小池平",null,"","",{"$f":"IF(K708=\"\",\"\",COUNTIF($K$7:K708,\"ﾘｽﾄ１\"))","v":""},"","","","","","","",{"$f":"IF(S708=\"\",\"\",COUNTIF($S$7:S708,\"該当２\"))","v":""},"","",{"$f":"IF(V708=\"\",\"\",COUNTIF($V$7:V708,\"該当３\"))","v":""}]
[1920908002,19,{"v":209,"d":"209 "},{"v":8,"d":"08 "},{"v":2,"d":"002 "},"山梨県","北杜市","江草村","昭栄",null,"","",{"$f":"IF(K709=\"\",\"\",COUNTIF($K$7:K709,\"ﾘｽﾄ１\"))","v":""},"","","","","","","",{"$f":"IF(S709=\"\",\"\",COUNTIF($S$7:S709,\"該当２\"))","v":""},"","",{"$f":"IF(V709=\"\",\"\",COUNTIF($V$7:V709,\"該当３\"))","v":""}]
[1920908003,19,{"v":209,"d":"209 "},{"v":8,"d":"08 "},{"v":3,"d":"003 "},"山梨県","北杜市","江草村","仁田平",null,"","",{"$f":"IF(K710=\"\",\"\",COUNTIF($K$7:K710,\"ﾘｽﾄ１\"))","v":""},"","","","","","","",{"$f":"IF(S710=\"\",\"\",COUNTIF($S$7:S710,\"該当２\"))","v":""},"","",{"$f":"IF(V710=\"\",\"\",COUNTIF($V$7:V710,\"該当３\"))","v":""}]
[1920908004,19,{"v":209,"d":"209 "},{"v":8,"d":"08 "},{"v":4,"d":"004 "},"山梨県","北杜市","江草村","根古屋",null,"","",{"$f":"IF(K711=\"\",\"\",COUNTIF($K$7:K711,\"ﾘｽﾄ１\"))","v":""},"","","","","","","",{"$f":"IF(S711=\"\",\"\",COUNTIF($S$7:S711,\"該当２\"))","v":""},"","",{"$f":"IF(V711=\"\",\"\",COUNTIF($V$7:V711,\"該当３\"))","v":""}]
[1920908005,19,{"v":209,"d":"209 "},{"v":8,"d":"08 "},{"v":5,"d":"005 "},"山梨県","北杜市","江草村","平",null,"","",{"$f":"IF(K712=\"\",\"\",COUNTIF($K$7:K712,\"ﾘｽﾄ１\"))","v":""},"","","","","","","",{"$f":"IF(S712=\"\",\"\",COUNTIF($S$7:S712,\"該当２\"))","v":""},"","",{"$f":"IF(V712=\"\",\"\",COUNTIF($V$7:V712,\"該当３\"))","v":""}]
[1920908006,19,{"v":209,"d":"209 "},{"v":8,"d":"08 "},{"v":6,"d":"006 "},"山梨県","北杜市","江草村","後藤田",null,"","",{"$f":"IF(K713=\"\",\"\",COUNTIF($K$7:K713,\"ﾘｽﾄ１\"))","v":""},"","","","","","","",{"$f":"IF(S713=\"\",\"\",COUNTIF($S$7:S713,\"該当２\"))","v":""},"","",{"$f":"IF(V713=\"\",\"\",COUNTIF($V$7:V713,\"該当３\"))","v":""}]
[1920908007,19,{"v":209,"d":"209 "},{"v":8,"d":"08 "},{"v":7,"d":"007 "},"山梨県","北杜市","江草村","馬場",null,"","",{"$f":"IF(K714=\"\",\"\",COUNTIF($K$7:K714,\"ﾘｽﾄ１\"))","v":""},"","",{"$f":"IF(O714=\"該当１\",G714,\"\")","v":""},{"$f":"IF(O714=\"該当１\",\"ﾘｽﾄ2\",\"\")","v":""},{"$f":"IF(Q714=\"ﾘｽﾄ2\",H714,\"\")","v":""},"",{"$f":"IF(S714=\"該当２\",H714,\"\")","v":""},{"$f":"IF(S714=\"\",\"\",COUNTIF($S$7:S714,\"該当２\"))","v":""},{"$f":"IF(AND($S$2=H714,E714>0,E714<998),\"該当３\",\"\")","v":""},{"$f":"IF(V714=\"該当３\",I714,\"\")","v":""},{"$f":"IF(V714=\"\",\"\",COUNTIF($V$7:V714,\"該当３\"))","v":""}]
[1920908008,19,{"v":209,"d":"209 "},{"v":8,"d":"08 "},{"v":8,"d":"008 "},"山梨県","北杜市","江草村","八巻",null,{"$f":"IF(AND($C715>0,$H715=\"\"),\"ﾘｽﾄ１\",\"\")","v":""},{"$f":"IF(K715=\"ﾘｽﾄ１\",G715,\"\")","v":""},{"$f":"IF(K715=\"\",\"\",COUNTIF($K$7:K715,\"ﾘｽﾄ１\"))","v":""},{"$f":"IF(AND(D715=0,E715>0),\"同一区\",\"\")","v":""},{"$f":"IF(AND(EXACT($K$2,G715),H715>0),\"該当１\",\"\")","v":""},"","","",{"$f":"IF(AND(Q715=\"ﾘｽﾄ2\",OR(I715=0,AND(N715=\"同一区\",E715=1))),\"該当２\",\"\")","v":""},"",{"$f":"IF(S715=\"\",\"\",COUNTIF($S$7:S715,\"該当２\"))","v":""},"","",{"$f":"IF(V715=\"\",\"\",COUNTIF($V$7:V715,\"該当３\"))","v":""}]
[1920908009,19,{"v":209,"d":"209 "},{"v":8,"d":"08 "},{"v":9,"d":"009 "},"山梨県","北杜市","江草村","漆戸",null,"","",{"$f":"IF(K716=\"\",\"\",COUNTIF($K$7:K716,\"ﾘｽﾄ１\"))","v":""},"","","","","","","",{"$f":"IF(S716=\"\",\"\",COUNTIF($S$7:S716,\"該当２\"))","v":""},"","",{"$f":"IF(V716=\"\",\"\",COUNTIF($V$7:V716,\"該当３\"))","v":""}]
[1920908010,19,{"v":209,"d":"209 "},{"v":8,"d":"08 "},{"v":10,"d":"010 "},"山梨県","北杜市","江草村","大渡",null,"","",{"$f":"IF(K717=\"\",\"\",COUNTIF($K$7:K717,\"ﾘｽﾄ１\"))","v":""},"","","","","","","",{"$f":"IF(S717=\"\",\"\",COUNTIF($S$7:S717,\"該当２\"))","v":""},"","",{"$f":"IF(V717=\"\",\"\",COUNTIF($V$7:V717,\"該当３\"))","v":""}]
[1920908011,19,{"v":209,"d":"209 "},{"v":8,"d":"08 "},{"v":11,"d":"011 "},"山梨県","北杜市","江草村","原",null,"","",{"$f":"IF(K718=\"\",\"\",COUNTIF($K$7:K718,\"ﾘｽﾄ１\"))","v":""},"","","","","","","",{"$f":"IF(S718=\"\",\"\",COUNTIF($S$7:S718,\"該当２\"))","v":""},"","",{"$f":"IF(V718=\"\",\"\",COUNTIF($V$7:V718,\"該当３\"))","v":""}]
[1920908012,19,{"v":209,"d":"209 "},{"v":8,"d":"08 "},{"v":12,"d":"012 "},"山梨県","北杜市","江草村","宮平",null,"","",{"$f":"IF(K719=\"\",\"\",COUNTIF($K$7:K719,\"ﾘｽﾄ１\"))","v":""},"","","","","","","",{"$f":"IF(S719=\"\",\"\",COUNTIF($S$7:S719,\"該当２\"))","v":""},"","",{"$f":"IF(V719=\"\",\"\",COUNTIF($V$7:V719,\"該当３\"))","v":""}]
[1920909000,19,{"v":209,"d":"209 "},{"v":9,"d":"09 "},{"v":0,"d":"000 "},"山梨県","北杜市","増富村",null,null,"","",{"$f":"IF(K720=\"\",\"\",COUNTIF($K$7:K720,\"ﾘｽﾄ１\"))","v":""},"","","","","","","",{"$f":"IF(S720=\"\",\"\",COUNTIF($S$7:S720,\"該当２\"))","v":""},"","",{"$f":"IF(V720=\"\",\"\",COUNTIF($V$7:V720,\"該当３\"))","v":""}]
[1920909001,19,{"v":209,"d":"209 "},{"v":9,"d":"09 "},{"v":1,"d":"001 "},"山梨県","北杜市","増富村","比志",null,"","",{"$f":"IF(K721=\"\",\"\",COUNTIF($K$7:K721,\"ﾘｽﾄ１\"))","v":""},"","","","","","","",{"$f":"IF(S721=\"\",\"\",COUNTIF($S$7:S721,\"該当２\"))","v":""},"","",{"$f":"IF(V721=\"\",\"\",COUNTIF($V$7:V721,\"該当３\"))","v":""}]
[1920909002,19,{"v":209,"d":"209 "},{"v":9,"d":"09 "},{"v":2,"d":"002 "},"山梨県","北杜市","増富村","樫山",null,"","",{"$f":"IF(K722=\"\",\"\",COUNTIF($K$7:K722,\"ﾘｽﾄ１\"))","v":""},"","","","","","","",{"$f":"IF(S722=\"\",\"\",COUNTIF($S$7:S722,\"該当２\"))","v":""},"","",{"$f":"IF(V722=\"\",\"\",COUNTIF($V$7:V722,\"該当３\"))","v":""}]
[1920909003,19,{"v":209,"d":"209 "},{"v":9,"d":"09 "},{"v":3,"d":"003 "},"山梨県","北杜市","増富村","日向",null,"","",{"$f":"IF(K723=\"\",\"\",COUNTIF($K$7:K723,\"ﾘｽﾄ１\"))","v":""},"","","","","","","",{"$f":"IF(S723=\"\",\"\",COUNTIF($S$7:S723,\"該当２\"))","v":""},"","",{"$f":"IF(V723=\"\",\"\",COUNTIF($V$7:V723,\"該当３\"))","v":""}]
[1920909004,19,{"v":209,"d":"209 "},{"v":9,"d":"09 "},{"v":4,"d":"004 "},"山梨県","北杜市","増富村","日影",null,"","",{"$f":"IF(K724=\"\",\"\",COUNTIF($K$7:K724,\"ﾘｽﾄ１\"))","v":""},"","","","","","","",{"$f":"IF(S724=\"\",\"\",COUNTIF($S$7:S724,\"該当２\"))","v":""},"","",{"$f":"IF(V724=\"\",\"\",COUNTIF($V$7:V724,\"該当３\"))","v":""}]
[1920909005,19,{"v":209,"d":"209 "},{"v":9,"d":"09 "},{"v":5,"d":"005 "},"山梨県","北杜市","増富村","東小尾",null,"","",{"$f":"IF(K725=\"\",\"\",COUNTIF($K$7:K725,\"ﾘｽﾄ１\"))","v":""},"","","","","","","",{"$f":"IF(S725=\"\",\"\",COUNTIF($S$7:S725,\"該当２\"))","v":""},"","",{"$f":"IF(V725=\"\",\"\",COUNTIF($V$7:V725,\"該当３\"))","v":""}]
[1920909006,19,{"v":209,"d":"209 "},{"v":9,"d":"09 "},{"v":6,"d":"006 "},"山梨県","北杜市","増富村","黒森",null,"","",{"$f":"IF(K726=\"\",\"\",COUNTIF($K$7:K726,\"ﾘｽﾄ１\"))","v":""},"","","","","","","",{"$f":"IF(S726=\"\",\"\",COUNTIF($S$7:S726,\"該当２\"))","v":""},"","",{"$f":"IF(V726=\"\",\"\",COUNTIF($V$7:V726,\"該当３\"))","v":""}]
[1920909007,19,{"v":209,"d":"209 "},{"v":9,"d":"09 "},{"v":7,"d":"007 "},"山梨県","北杜市","増富村","和田",null,"","",{"$f":"IF(K727=\"\",\"\",COUNTIF($K$7:K727,\"ﾘｽﾄ１\"))","v":""},"","","","","","","",{"$f":"IF(S727=\"\",\"\",COUNTIF($S$7:S727,\"該当２\"))","v":""},"","",{"$f":"IF(V727=\"\",\"\",COUNTIF($V$7:V727,\"該当３\"))","v":""}]
[1920909008,19,{"v":209,"d":"209 "},{"v":9,"d":"09 "},{"v":8,"d":"008 "},"山梨県","北杜市","増富村","御門",null,"","",{"$f":"IF(K728=\"\",\"\",COUNTIF($K$7:K728,\"ﾘｽﾄ１\"))","v":""},"","","","","","","",{"$f":"IF(S728=\"\",\"\",COUNTIF($S$7:S728,\"該当２\"))","v":""},"","",{"$f":"IF(V728=\"\",\"\",COUNTIF($V$7:V728,\"該当３\"))","v":""}]
[1920909009,19,{"v":209,"d":"209 "},{"v":9,"d":"09 "},{"v":9,"d":"009 "},"山梨県","北杜市","増富村","神戸",null,"","",{"$f":"IF(K729=\"\",\"\",COUNTIF($K$7:K729,\"ﾘｽﾄ１\"))","v":""},"","","","","","","",{"$f":"IF(S729=\"\",\"\",COUNTIF($S$7:S729,\"該当２\"))","v":""},"","",{"$f":"IF(V729=\"\",\"\",COUNTIF($V$7:V729,\"該当３\"))","v":""}]
[1920909010,19,{"v":209,"d":"209 "},{"v":9,"d":"09 "},{"v":10,"d":"010 "},"山梨県","北杜市","増富村","塩川",null,"","",{"$f":"IF(K730=\"\",\"\",COUNTIF($K$7:K730,\"ﾘｽﾄ１\"))","v":""},"","","","","","","",{"$f":"IF(S730=\"\",\"\",COUNTIF($S$7:S730,\"該当２\"))","v":""},"","",{"$f":"IF(V730=\"\",\"\",COUNTIF($V$7:V730,\"該当３\"))","v":""}]
[1920909011,19,{"v":209,"d":"209 "},{"v":9,"d":"09 "},{"v":11,"d":"011 "},"山梨県","北杜市","増富村","戸屋",null,"","",{"$f":"IF(K731=\"\",\"\",COUNTIF($K$7:K731,\"ﾘｽﾄ１\"))","v":""},"","","","","","","",{"$f":"IF(S731=\"\",\"\",COUNTIF($S$7:S731,\"該当２\"))","v":""},"","",{"$f":"IF(V731=\"\",\"\",COUNTIF($V$7:V731,\"該当３\"))","v":""}]
[1920909012,19,{"v":209,"d":"209 "},{"v":9,"d":"09 "},{"v":12,"d":"012 "},"山梨県","北杜市","増富村","方伝",null,"","",{"$f":"IF(K732=\"\",\"\",COUNTIF($K$7:K732,\"ﾘｽﾄ１\"))","v":""},"","","","","","","",{"$f":"IF(S732=\"\",\"\",COUNTIF($S$7:S732,\"該当２\"))","v":""},"","",{"$f":"IF(V732=\"\",\"\",COUNTIF($V$7:V732,\"該当３\"))","v":""}]
[1920910000,19,{"v":209,"d":"209 "},{"v":10,"d":"10 "},{"v":0,"d":"000 "},"山梨県","北杜市","安都那村",null,null,"","",{"$f":"IF(K733=\"\",\"\",COUNTIF($K$7:K733,\"ﾘｽﾄ１\"))","v":""},"","","","","","","",{"$f":"IF(S733=\"\",\"\",COUNTIF($S$7:S733,\"該当２\"))","v":""},"","",{"$f":"IF(V733=\"\",\"\",COUNTIF($V$7:V733,\"該当３\"))","v":""}]
[1920910004,19,{"v":209,"d":"209 "},{"v":10,"d":"10 "},{"v":4,"d":"004 "},"山梨県","北杜市","安都那村","海道上",null,"","",{"$f":"IF(K734=\"\",\"\",COUNTIF($K$7:K734,\"ﾘｽﾄ１\"))","v":""},"","","","","","","",{"$f":"IF(S734=\"\",\"\",COUNTIF($S$7:S734,\"該当２\"))","v":""},"","",{"$f":"IF(V734=\"\",\"\",COUNTIF($V$7:V734,\"該当３\"))","v":""}]
[1920910005,19,{"v":209,"d":"209 "},{"v":10,"d":"10 "},{"v":5,"d":"005 "},"山梨県","北杜市","安都那村","海道下",null,"","",{"$f":"IF(K735=\"\",\"\",COUNTIF($K$7:K735,\"ﾘｽﾄ１\"))","v":""},"","","","","","","",{"$f":"IF(S735=\"\",\"\",COUNTIF($S$7:S735,\"該当２\"))","v":""},"","",{"$f":"IF(V735=\"\",\"\",COUNTIF($V$7:V735,\"該当３\"))","v":""}]
[1920910006,19,{"v":209,"d":"209 "},{"v":10,"d":"10 "},{"v":6,"d":"006 "},"山梨県","北杜市","安都那村","新田",null,"","",{"$f":"IF(K736=\"\",\"\",COUNTIF($K$7:K736,\"ﾘｽﾄ１\"))","v":""},"","","","","","","",{"$f":"IF(S736=\"\",\"\",COUNTIF($S$7:S736,\"該当２\"))","v":""},"","",{"$f":"IF(V736=\"\",\"\",COUNTIF($V$7:V736,\"該当３\"))","v":""}]
[1920910007,19,{"v":209,"d":"209 "},{"v":10,"d":"10 "},{"v":7,"d":"007 "},"山梨県","北杜市","安都那村","大林",null,"","",{"$f":"IF(K737=\"\",\"\",COUNTIF($K$7:K737,\"ﾘｽﾄ１\"))","v":""},"","","","","","","",{"$f":"IF(S737=\"\",\"\",COUNTIF($S$7:S737,\"該当２\"))","v":""},"","",{"$f":"IF(V737=\"\",\"\",COUNTIF($V$7:V737,\"該当３\"))","v":""}]
[1920910008,19,{"v":209,"d":"209 "},{"v":10,"d":"10 "},{"v":8,"d":"008 "},"山梨県","北杜市","安都那村","大坪",null,"","",{"$f":"IF(K738=\"\",\"\",COUNTIF($K$7:K738,\"ﾘｽﾄ１\"))","v":""},"","","","","","","",{"$f":"IF(S738=\"\",\"\",COUNTIF($S$7:S738,\"該当２\"))","v":""},"","",{"$f":"IF(V738=\"\",\"\",COUNTIF($V$7:V738,\"該当３\"))","v":""}]
[1920910009,19,{"v":209,"d":"209 "},{"v":10,"d":"10 "},{"v":9,"d":"009 "},"山梨県","北杜市","安都那村","中尾根",null,"","",{"$f":"IF(K739=\"\",\"\",COUNTIF($K$7:K739,\"ﾘｽﾄ１\"))","v":""},"","","","","","","",{"$f":"IF(S739=\"\",\"\",COUNTIF($S$7:S739,\"該当２\"))","v":""},"","",{"$f":"IF(V739=\"\",\"\",COUNTIF($V$7:V739,\"該当３\"))","v":""}]
[1920910010,19,{"v":209,"d":"209 "},{"v":10,"d":"10 "},{"v":10,"d":"010 "},"山梨県","北杜市","安都那村","久保",null,"","",{"$f":"IF(K740=\"\",\"\",COUNTIF($K$7:K740,\"ﾘｽﾄ１\"))","v":""},"","","","","","","",{"$f":"IF(S740=\"\",\"\",COUNTIF($S$7:S740,\"該当２\"))","v":""},"","",{"$f":"IF(V740=\"\",\"\",COUNTIF($V$7:V740,\"該当３\"))","v":""}]
[1920910011,19,{"v":209,"d":"209 "},{"v":10,"d":"10 "},{"v":11,"d":"011 "},"山梨県","北杜市","安都那村","梅ノ木",null,"","",{"$f":"IF(K741=\"\",\"\",COUNTIF($K$7:K741,\"ﾘｽﾄ１\"))","v":""},"","","","","","","",{"$f":"IF(S741=\"\",\"\",COUNTIF($S$7:S741,\"該当２\"))","v":""},"","",{"$f":"IF(V741=\"\",\"\",COUNTIF($V$7:V741,\"該当３\"))","v":""}]
[1920910014,19,{"v":209,"d":"209 "},{"v":10,"d":"10 "},{"v":14,"d":"014 "},"山梨県","北杜市","安都那村","原屋敷",null,"","",{"$f":"IF(K742=\"\",\"\",COUNTIF($K$7:K742,\"ﾘｽﾄ１\"))","v":""},"","","","","","","",{"$f":"IF(S742=\"\",\"\",COUNTIF($S$7:S742,\"該当２\"))","v":""},"","",{"$f":"IF(V742=\"\",\"\",COUNTIF($V$7:V742,\"該当３\"))","v":""}]
[1920910015,19,{"v":209,"d":"209 "},{"v":10,"d":"10 "},{"v":15,"d":"015 "},"山梨県","北杜市","安都那村","東田",null,"","",{"$f":"IF(K743=\"\",\"\",COUNTIF($K$7:K743,\"ﾘｽﾄ１\"))","v":""},"","","","","","","",{"$f":"IF(S743=\"\",\"\",COUNTIF($S$7:S743,\"該当２\"))","v":""},"","",{"$f":"IF(V743=\"\",\"\",COUNTIF($V$7:V743,\"該当３\"))","v":""}]
[1920910016,19,{"v":209,"d":"209 "},{"v":10,"d":"10 "},{"v":16,"d":"016 "},"山梨県","北杜市","安都那村","梨ノ木",null,"","",{"$f":"IF(K744=\"\",\"\",COUNTIF($K$7:K744,\"ﾘｽﾄ１\"))","v":""},"","","","","","","",{"$f":"IF(S744=\"\",\"\",COUNTIF($S$7:S744,\"該当２\"))","v":""},"","",{"$f":"IF(V744=\"\",\"\",COUNTIF($V$7:V744,\"該当３\"))","v":""}]
[1920910017,19,{"v":209,"d":"209 "},{"v":10,"d":"10 "},{"v":17,"d":"017 "},"山梨県","北杜市","安都那村","上ノ反",null,"","",{"$f":"IF(K745=\"\",\"\",COUNTIF($K$7:K745,\"ﾘｽﾄ１\"))","v":""},"","","","","","","",{"$f":"IF(S745=\"\",\"\",COUNTIF($S$7:S745,\"該当２\"))","v":""},"","",{"$f":"IF(V745=\"\",\"\",COUNTIF($V$7:V745,\"該当３\"))","v":""}]
[1920910018,19,{"v":209,"d":"209 "},{"v":10,"d":"10 "},{"v":18,"d":"018 "},"山梨県","北杜市","安都那村","紺屋",null,"","",{"$f":"IF(K746=\"\",\"\",COUNTIF($K$7:K746,\"ﾘｽﾄ１\"))","v":""},"","","","","","","",{"$f":"IF(S746=\"\",\"\",COUNTIF($S$7:S746,\"該当２\"))","v":""},"","",{"$f":"IF(V746=\"\",\"\",COUNTIF($V$7:V746,\"該当３\"))","v":""}]
[1920910019,19,{"v":209,"d":"209 "},{"v":10,"d":"10 "},{"v":19,"d":"019 "},"山梨県","北杜市","安都那村","石田",null,"","",{"$f":"IF(K747=\"\",\"\",COUNTIF($K$7:K747,\"ﾘｽﾄ１\"))","v":""},"","","","","","","",{"$f":"IF(S747=\"\",\"\",COUNTIF($S$7:S747,\"該当２\"))","v":""},"","",{"$f":"IF(V747=\"\",\"\",COUNTIF($V$7:V747,\"該当３\"))","v":""}]
[1920910020,19,{"v":209,"d":"209 "},{"v":10,"d":"10 "},{"v":20,"d":"020 "},"山梨県","北杜市","安都那村","箕輪新町",null,"","",{"$f":"IF(K748=\"\",\"\",COUNTIF($K$7:K748,\"ﾘｽﾄ１\"))","v":""},"","","","","","","",{"$f":"IF(S748=\"\",\"\",COUNTIF($S$7:S748,\"該当２\"))","v":""},"","",{"$f":"IF(V748=\"\",\"\",COUNTIF($V$7:V748,\"該当３\"))","v":""}]
[1920910021,19,{"v":209,"d":"209 "},{"v":10,"d":"10 "},{"v":21,"d":"021 "},"山梨県","北杜市","安都那村","箕輪横森",null,"","",{"$f":"IF(K749=\"\",\"\",COUNTIF($K$7:K749,\"ﾘｽﾄ１\"))","v":""},"","","","","","","",{"$f":"IF(S749=\"\",\"\",COUNTIF($S$7:S749,\"該当２\"))","v":""},"","",{"$f":"IF(V749=\"\",\"\",COUNTIF($V$7:V749,\"該当３\"))","v":""}]
[1920911000,19,{"v":209,"d":"209 "},{"v":11,"d":"11 "},{"v":0,"d":"000 "},"山梨県","北杜市","熱見村",null,null,"","",{"$f":"IF(K750=\"\",\"\",COUNTIF($K$7:K750,\"ﾘｽﾄ１\"))","v":""},"","","","","","","",{"$f":"IF(S750=\"\",\"\",COUNTIF($S$7:S750,\"該当２\"))","v":""},"","",{"$f":"IF(V750=\"\",\"\",COUNTIF($V$7:V750,\"該当３\"))","v":""}]
[1920911001,19,{"v":209,"d":"209 "},{"v":11,"d":"11 "},{"v":1,"d":"001 "},"山梨県","北杜市","熱見村","宮本",null,"","",{"$f":"IF(K751=\"\",\"\",COUNTIF($K$7:K751,\"ﾘｽﾄ１\"))","v":""},"","","","","","","",{"$f":"IF(S751=\"\",\"\",COUNTIF($S$7:S751,\"該当２\"))","v":""},"","",{"$f":"IF(V751=\"\",\"\",COUNTIF($V$7:V751,\"該当３\"))","v":""}]
[1920911002,19,{"v":209,"d":"209 "},{"v":11,"d":"11 "},{"v":2,"d":"002 "},"山梨県","北杜市","熱見村","西原",null,"","",{"$f":"IF(K752=\"\",\"\",COUNTIF($K$7:K752,\"ﾘｽﾄ１\"))","v":""},"","","","","","","",{"$f":"IF(S752=\"\",\"\",COUNTIF($S$7:S752,\"該当２\"))","v":""},"","",{"$f":"IF(V752=\"\",\"\",COUNTIF($V$7:V752,\"該当３\"))","v":""}]
[1920911003,19,{"v":209,"d":"209 "},{"v":11,"d":"11 "},{"v":3,"d":"003 "},"山梨県","北杜市","熱見村","赤羽根",null,"","",{"$f":"IF(K753=\"\",\"\",COUNTIF($K$7:K753,\"ﾘｽﾄ１\"))","v":""},"","","","","","","",{"$f":"IF(S753=\"\",\"\",COUNTIF($S$7:S753,\"該当２\"))","v":""},"","",{"$f":"IF(V753=\"\",\"\",COUNTIF($V$7:V753,\"該当３\"))","v":""}]
[1920911004,19,{"v":209,"d":"209 "},{"v":11,"d":"11 "},{"v":4,"d":"004 "},"山梨県","北杜市","熱見村","六ツ根",null,"","",{"$f":"IF(K754=\"\",\"\",COUNTIF($K$7:K754,\"ﾘｽﾄ１\"))","v":""},"","","","","","","",{"$f":"IF(S754=\"\",\"\",COUNTIF($S$7:S754,\"該当２\"))","v":""},"","",{"$f":"IF(V754=\"\",\"\",COUNTIF($V$7:V754,\"該当３\"))","v":""}]
[1920911005,19,{"v":209,"d":"209 "},{"v":11,"d":"11 "},{"v":5,"d":"005 "},"山梨県","北杜市","熱見村","長南",null,"","",{"$f":"IF(K755=\"\",\"\",COUNTIF($K$7:K755,\"ﾘｽﾄ１\"))","v":""},"","","","","","","",{"$f":"IF(S755=\"\",\"\",COUNTIF($S$7:S755,\"該当２\"))","v":""},"","",{"$f":"IF(V755=\"\",\"\",COUNTIF($V$7:V755,\"該当３\"))","v":""}]
[1920911006,19,{"v":209,"d":"209 "},{"v":11,"d":"11 "},{"v":6,"d":"006 "},"山梨県","北杜市","熱見村","上蔵原",null,"","",{"$f":"IF(K756=\"\",\"\",COUNTIF($K$7:K756,\"ﾘｽﾄ１\"))","v":""},"","","","","","","",{"$f":"IF(S756=\"\",\"\",COUNTIF($S$7:S756,\"該当２\"))","v":""},"","",{"$f":"IF(V756=\"\",\"\",COUNTIF($V$7:V756,\"該当３\"))","v":""}]
[1920911007,19,{"v":209,"d":"209 "},{"v":11,"d":"11 "},{"v":7,"d":"007 "},"山梨県","北杜市","熱見村","中蔵原",null,"","",{"$f":"IF(K757=\"\",\"\",COUNTIF($K$7:K757,\"ﾘｽﾄ１\"))","v":""},"","","","","","","",{"$f":"IF(S757=\"\",\"\",COUNTIF($S$7:S757,\"該当２\"))","v":""},"","",{"$f":"IF(V757=\"\",\"\",COUNTIF($V$7:V757,\"該当３\"))","v":""}]
[1920911008,19,{"v":209,"d":"209 "},{"v":11,"d":"11 "},{"v":8,"d":"008 "},"山梨県","北杜市","熱見村","下蔵原",null,"","",{"$f":"IF(K758=\"\",\"\",COUNTIF($K$7:K758,\"ﾘｽﾄ１\"))","v":""},"","","","","","","",{"$f":"IF(S758=\"\",\"\",COUNTIF($S$7:S758,\"該当２\"))","v":""},"","",{"$f":"IF(V758=\"\",\"\",COUNTIF($V$7:V758,\"該当３\"))","v":""}]
[1920911009,19,{"v":209,"d":"209 "},{"v":11,"d":"11 "},{"v":9,"d":"009 "},"山梨県","北杜市","熱見村","小池",null,"","",{"$f":"IF(K759=\"\",\"\",COUNTIF($K$7:K759,\"ﾘｽﾄ１\"))","v":""},"","","","","","","",{"$f":"IF(S759=\"\",\"\",COUNTIF($S$7:S759,\"該当２\"))","v":""},"","",{"$f":"IF(V759=\"\",\"\",COUNTIF($V$7:V759,\"該当３\"))","v":""}]
[1920912000,19,{"v":209,"d":"209 "},{"v":12,"d":"12 "},{"v":0,"d":"000 "},"山梨県","北杜市","甲村",null,null,"","",{"$f":"IF(K760=\"\",\"\",COUNTIF($K$7:K760,\"ﾘｽﾄ１\"))","v":""},"","","","","","","",{"$f":"IF(S760=\"\",\"\",COUNTIF($S$7:S760,\"該当２\"))","v":""},"","",{"$f":"IF(V760=\"\",\"\",COUNTIF($V$7:V760,\"該当３\"))","v":""}]
[1920912001,19,{"v":209,"d":"209 "},{"v":12,"d":"12 "},{"v":1,"d":"001 "},"山梨県","北杜市","甲村","和田",null,"","",{"$f":"IF(K761=\"\",\"\",COUNTIF($K$7:K761,\"ﾘｽﾄ１\"))","v":""},"","","","","","","",{"$f":"IF(S761=\"\",\"\",COUNTIF($S$7:S761,\"該当２\"))","v":""},"","",{"$f":"IF(V761=\"\",\"\",COUNTIF($V$7:V761,\"該当３\"))","v":""}]
[1920912002,19,{"v":209,"d":"209 "},{"v":12,"d":"12 "},{"v":2,"d":"002 "},"山梨県","北杜市","甲村","打越乙坂",null,"","",{"$f":"IF(K762=\"\",\"\",COUNTIF($K$7:K762,\"ﾘｽﾄ１\"))","v":""},"","","","","","","",{"$f":"IF(S762=\"\",\"\",COUNTIF($S$7:S762,\"該当２\"))","v":""},"","",{"$f":"IF(V762=\"\",\"\",COUNTIF($V$7:V762,\"該当３\"))","v":""}]
[1920912003,19,{"v":209,"d":"209 "},{"v":12,"d":"12 "},{"v":3,"d":"003 "},"山梨県","北杜市","甲村","志合",null,"","",{"$f":"IF(K763=\"\",\"\",COUNTIF($K$7:K763,\"ﾘｽﾄ１\"))","v":""},"","","","","","","",{"$f":"IF(S763=\"\",\"\",COUNTIF($S$7:S763,\"該当２\"))","v":""},"","",{"$f":"IF(V763=\"\",\"\",COUNTIF($V$7:V763,\"該当３\"))","v":""}]
[1920912004,19,{"v":209,"d":"209 "},{"v":12,"d":"12 "},{"v":4,"d":"004 "},"山梨県","北杜市","甲村","丸山",null,"","",{"$f":"IF(K764=\"\",\"\",COUNTIF($K$7:K764,\"ﾘｽﾄ１\"))","v":""},"","","","","","","",{"$f":"IF(S764=\"\",\"\",COUNTIF($S$7:S764,\"該当２\"))","v":""},"","",{"$f":"IF(V764=\"\",\"\",COUNTIF($V$7:V764,\"該当３\"))","v":""}]
[1920912005,19,{"v":209,"d":"209 "},{"v":12,"d":"12 "},{"v":5,"d":"005 "},"山梨県","北杜市","甲村","前田",null,"","",{"$f":"IF(K765=\"\",\"\",COUNTIF($K$7:K765,\"ﾘｽﾄ１\"))","v":""},"","","","","","","",{"$f":"IF(S765=\"\",\"\",COUNTIF($S$7:S765,\"該当２\"))","v":""},"","",{"$f":"IF(V765=\"\",\"\",COUNTIF($V$7:V765,\"該当３\"))","v":""}]
[1920912006,19,{"v":209,"d":"209 "},{"v":12,"d":"12 "},{"v":6,"d":"006 "},"山梨県","北杜市","甲村","東尾根",null,"","",{"$f":"IF(K766=\"\",\"\",COUNTIF($K$7:K766,\"ﾘｽﾄ１\"))","v":""},"","","","","","","",{"$f":"IF(S766=\"\",\"\",COUNTIF($S$7:S766,\"該当２\"))","v":""},"","",{"$f":"IF(V766=\"\",\"\",COUNTIF($V$7:V766,\"該当３\"))","v":""}]
[1920912007,19,{"v":209,"d":"209 "},{"v":12,"d":"12 "},{"v":7,"d":"007 "},"山梨県","北杜市","甲村","宮尾根",null,"","",{"$f":"IF(K767=\"\",\"\",COUNTIF($K$7:K767,\"ﾘｽﾄ１\"))","v":""},"","","","","","","",{"$f":"IF(S767=\"\",\"\",COUNTIF($S$7:S767,\"該当２\"))","v":""},"","",{"$f":"IF(V767=\"\",\"\",COUNTIF($V$7:V767,\"該当３\"))","v":""}]
[1920912008,19,{"v":209,"d":"209 "},{"v":12,"d":"12 "},{"v":8,"d":"008 "},"山梨県","北杜市","甲村","古屋巻",null,"","",{"$f":"IF(K768=\"\",\"\",COUNTIF($K$7:K768,\"ﾘｽﾄ１\"))","v":""},"","","","","","","",{"$f":"IF(S768=\"\",\"\",COUNTIF($S$7:S768,\"該当２\"))","v":""},"","",{"$f":"IF(V768=\"\",\"\",COUNTIF($V$7:V768,\"該当３\"))","v":""}]
[1920912009,19,{"v":209,"d":"209 "},{"v":12,"d":"12 "},{"v":9,"d":"009 "},"山梨県","北杜市","甲村","御所",null,"","",{"$f":"IF(K769=\"\",\"\",COUNTIF($K$7:K769,\"ﾘｽﾄ１\"))","v":""},"","","","","","","",{"$f":"IF(S769=\"\",\"\",COUNTIF($S$7:S769,\"該当２\"))","v":""},"","",{"$f":"IF(V769=\"\",\"\",COUNTIF($V$7:V769,\"該当３\"))","v":""}]
[1920912010,19,{"v":209,"d":"209 "},{"v":12,"d":"12 "},{"v":10,"d":"010 "},"山梨県","北杜市","甲村","山西",null,"","",{"$f":"IF(K770=\"\",\"\",COUNTIF($K$7:K770,\"ﾘｽﾄ１\"))","v":""},"","","","","","","",{"$f":"IF(S770=\"\",\"\",COUNTIF($S$7:S770,\"該当２\"))","v":""},"","",{"$f":"IF(V770=\"\",\"\",COUNTIF($V$7:V770,\"該当３\"))","v":""}]
[1920912011,19,{"v":209,"d":"209 "},{"v":12,"d":"12 "},{"v":11,"d":"011 "},"山梨県","北杜市","甲村","和手沖",null,"","",{"$f":"IF(K771=\"\",\"\",COUNTIF($K$7:K771,\"ﾘｽﾄ１\"))","v":""},"","","","","","","",{"$f":"IF(S771=\"\",\"\",COUNTIF($S$7:S771,\"該当２\"))","v":""},"","",{"$f":"IF(V771=\"\",\"\",COUNTIF($V$7:V771,\"該当３\"))","v":""}]
[1920912012,19,{"v":209,"d":"209 "},{"v":12,"d":"12 "},{"v":12,"d":"012 "},"山梨県","北杜市","甲村","久保",null,"","",{"$f":"IF(K772=\"\",\"\",COUNTIF($K$7:K772,\"ﾘｽﾄ１\"))","v":""},"","","","","","","",{"$f":"IF(S772=\"\",\"\",COUNTIF($S$7:S772,\"該当２\"))","v":""},"","",{"$f":"IF(V772=\"\",\"\",COUNTIF($V$7:V772,\"該当３\"))","v":""}]
[1920913000,19,{"v":209,"d":"209 "},{"v":13,"d":"13 "},{"v":0,"d":"000 "},"山梨県","北杜市","安都玉村",null,null,"","",{"$f":"IF(K773=\"\",\"\",COUNTIF($K$7:K773,\"ﾘｽﾄ１\"))","v":""},"","","","","","","",{"$f":"IF(S773=\"\",\"\",COUNTIF($S$7:S773,\"該当２\"))","v":""},"","",{"$f":"IF(V773=\"\",\"\",COUNTIF($V$7:V773,\"該当３\"))","v":""}]
[1920913001,19,{"v":209,"d":"209 "},{"v":13,"d":"13 "},{"v":1,"d":"001 "},"山梨県","北杜市","安都玉村","持井",null,"","",{"$f":"IF(K774=\"\",\"\",COUNTIF($K$7:K774,\"ﾘｽﾄ１\"))","v":""},"","","","","","","",{"$f":"IF(S774=\"\",\"\",COUNTIF($S$7:S774,\"該当２\"))","v":""},"","",{"$f":"IF(V774=\"\",\"\",COUNTIF($V$7:V774,\"該当３\"))","v":""}]
[1920913002,19,{"v":209,"d":"209 "},{"v":13,"d":"13 "},{"v":2,"d":"002 "},"山梨県","北杜市","安都玉村","於小路",null,"","",{"$f":"IF(K775=\"\",\"\",COUNTIF($K$7:K775,\"ﾘｽﾄ１\"))","v":""},"","","","","","","",{"$f":"IF(S775=\"\",\"\",COUNTIF($S$7:S775,\"該当２\"))","v":""},"","",{"$f":"IF(V775=\"\",\"\",COUNTIF($V$7:V775,\"該当３\"))","v":""}]
[1920913003,19,{"v":209,"d":"209 "},{"v":13,"d":"13 "},{"v":3,"d":"003 "},"山梨県","北杜市","安都玉村","八ツ牛",null,"","",{"$f":"IF(K776=\"\",\"\",COUNTIF($K$7:K776,\"ﾘｽﾄ１\"))","v":""},"","","","","","","",{"$f":"IF(S776=\"\",\"\",COUNTIF($S$7:S776,\"該当２\"))","v":""},"","",{"$f":"IF(V776=\"\",\"\",COUNTIF($V$7:V776,\"該当３\"))","v":""}]
[1920913004,19,{"v":209,"d":"209 "},{"v":13,"d":"13 "},{"v":4,"d":"004 "},"山梨県","北杜市","安都玉村","新井",null,"","",{"$f":"IF(K777=\"\",\"\",COUNTIF($K$7:K777,\"ﾘｽﾄ１\"))","v":""},"","","","","","","",{"$f":"IF(S777=\"\",\"\",COUNTIF($S$7:S777,\"該当２\"))","v":""},"","",{"$f":"IF(V777=\"\",\"\",COUNTIF($V$7:V777,\"該当３\"))","v":""}]
[1920913005,19,{"v":209,"d":"209 "},{"v":13,"d":"13 "},{"v":5,"d":"005 "},"山梨県","北杜市","安都玉村","横森",null,"","",{"$f":"IF(K778=\"\",\"\",COUNTIF($K$7:K778,\"ﾘｽﾄ１\"))","v":""},"","",{"$f":"IF(O778=\"該当１\",G778,\"\")","v":""},{"$f":"IF(O778=\"該当１\",\"ﾘｽﾄ2\",\"\")","v":""},{"$f":"IF(Q778=\"ﾘｽﾄ2\",H778,\"\")","v":""},"",{"$f":"IF(S778=\"該当２\",H778,\"\")","v":""},{"$f":"IF(S778=\"\",\"\",COUNTIF($S$7:S778,\"該当２\"))","v":""},{"$f":"IF(AND($S$2=H778,E778>0,E778<998),\"該当３\",\"\")","v":""},{"$f":"IF(V778=\"該当３\",I778,\"\")","v":""},{"$f":"IF(V778=\"\",\"\",COUNTIF($V$7:V778,\"該当３\"))","v":""}]
[1920913006,19,{"v":209,"d":"209 "},{"v":13,"d":"13 "},{"v":6,"d":"006 "},"山梨県","北杜市","安都玉村","旭",null,{"$f":"IF(AND($C779>0,$H779=\"\"),\"ﾘｽﾄ１\",\"\")","v":""},{"$f":"IF(K779=\"ﾘｽﾄ１\",G779,\"\")","v":""},{"$f":"IF(K779=\"\",\"\",COUNTIF($K$7:K779,\"ﾘｽﾄ１\"))","v":""},{"$f":"IF(AND(D779=0,E779>0),\"同一区\",\"\")","v":""},{"$f":"IF(AND(EXACT($K$2,G779),H779>0),\"該当１\",\"\")","v":""},"","","",{"$f":"IF(AND(Q779=\"ﾘｽﾄ2\",OR(I779=0,AND(N779=\"同一区\",E779=1))),\"該当２\",\"\")","v":""},"",{"$f":"IF(S779=\"\",\"\",COUNTIF($S$7:S779,\"該当２\"))","v":""},"","",{"$f":"IF(V779=\"\",\"\",COUNTIF($V$7:V779,\"該当３\"))","v":""}]
[1920913007,19,{"v":209,"d":"209 "},{"v":13,"d":"13 "},{"v":7,"d":"007 "},"山梨県","北杜市","安都玉村","堤",null,"","",{"$f":"IF(K780=\"\",\"\",COUNTIF($K$7:K780,\"ﾘｽﾄ１\"))","v":""},"","","","","","","",{"$f":"IF(S780=\"\",\"\",COUNTIF($S$7:S780,\"該当２\"))","v":""},"","",{"$f":"IF(V780=\"\",\"\",COUNTIF($V$7:V780,\"該当３\"))","v":""}]
[1920913008,19,{"v":209,"d":"209 "},{"v":13,"d":"13 "},{"v":8,"d":"008 "},"山梨県","北杜市","安都玉村","東井出東西",null,"","",{"$f":"IF(K781=\"\",\"\",COUNTIF($K$7:K781,\"ﾘｽﾄ１\"))","v":""},"","","","","","","",{"$f":"IF(S781=\"\",\"\",COUNTIF($S$7:S781,\"該当２\"))","v":""},"","",{"$f":"IF(V781=\"\",\"\",COUNTIF($V$7:V781,\"該当３\"))","v":""}]
[1920913009,19,{"v":209,"d":"209 "},{"v":13,"d":"13 "},{"v":9,"d":"009 "},"山梨県","北杜市","安都玉村","東井出上",null,"","",{"$f":"IF(K782=\"\",\"\",COUNTIF($K$7:K782,\"ﾘｽﾄ１\"))","v":""},"","","","","","","",{"$f":"IF(S782=\"\",\"\",COUNTIF($S$7:S782,\"該当２\"))","v":""},"","",{"$f":"IF(V782=\"\",\"\",COUNTIF($V$7:V782,\"該当３\"))","v":""}]
[1920913010,19,{"v":209,"d":"209 "},{"v":13,"d":"13 "},{"v":10,"d":"010 "},"山梨県","北杜市","安都玉村","原長沢上",null,"","",{"$f":"IF(K783=\"\",\"\",COUNTIF($K$7:K783,\"ﾘｽﾄ１\"))","v":""},"","","","","","","",{"$f":"IF(S783=\"\",\"\",COUNTIF($S$7:S783,\"該当２\"))","v":""},"","",{"$f":"IF(V783=\"\",\"\",COUNTIF($V$7:V783,\"該当３\"))","v":""}]
[1920913011,19,{"v":209,"d":"209 "},{"v":13,"d":"13 "},{"v":11,"d":"011 "},"山梨県","北杜市","安都玉村","原長沢下",null,"","",{"$f":"IF(K784=\"\",\"\",COUNTIF($K$7:K784,\"ﾘｽﾄ１\"))","v":""},"","","","","","","",{"$f":"IF(S784=\"\",\"\",COUNTIF($S$7:S784,\"該当２\"))","v":""},"","",{"$f":"IF(V784=\"\",\"\",COUNTIF($V$7:V784,\"該当３\"))","v":""}]
[1920913012,19,{"v":209,"d":"209 "},{"v":13,"d":"13 "},{"v":12,"d":"012 "},"山梨県","北杜市","安都玉村","向日",null,"","",{"$f":"IF(K785=\"\",\"\",COUNTIF($K$7:K785,\"ﾘｽﾄ１\"))","v":""},"","","","","","","",{"$f":"IF(S785=\"\",\"\",COUNTIF($S$7:S785,\"該当２\"))","v":""},"","",{"$f":"IF(V785=\"\",\"\",COUNTIF($V$7:V785,\"該当３\"))","v":""}]
[1920913013,19,{"v":209,"d":"209 "},{"v":13,"d":"13 "},{"v":13,"d":"013 "},"山梨県","北杜市","安都玉村","窪長沢上",null,"","",{"$f":"IF(K786=\"\",\"\",COUNTIF($K$7:K786,\"ﾘｽﾄ１\"))","v":""},"","","","","","","",{"$f":"IF(S786=\"\",\"\",COUNTIF($S$7:S786,\"該当２\"))","v":""},"","",{"$f":"IF(V786=\"\",\"\",COUNTIF($V$7:V786,\"該当３\"))","v":""}]
[1920913014,19,{"v":209,"d":"209 "},{"v":13,"d":"13 "},{"v":14,"d":"014 "},"山梨県","北杜市","安都玉村","窪長沢下",null,"","",{"$f":"IF(K787=\"\",\"\",COUNTIF($K$7:K787,\"ﾘｽﾄ１\"))","v":""},"","","","","","","",{"$f":"IF(S787=\"\",\"\",COUNTIF($S$7:S787,\"該当２\"))","v":""},"","",{"$f":"IF(V787=\"\",\"\",COUNTIF($V$7:V787,\"該当３\"))","v":""}]
[1920913015,19,{"v":209,"d":"209 "},{"v":13,"d":"13 "},{"v":15,"d":"015 "},"山梨県","北杜市","安都玉村","上の原",null,"","",{"$f":"IF(K788=\"\",\"\",COUNTIF($K$7:K788,\"ﾘｽﾄ１\"))","v":""},"","","","","","","",{"$f":"IF(S788=\"\",\"\",COUNTIF($S$7:S788,\"該当２\"))","v":""},"","",{"$f":"IF(V788=\"\",\"\",COUNTIF($V$7:V788,\"該当３\"))","v":""}]
[1920913016,19,{"v":209,"d":"209 "},{"v":13,"d":"13 "},{"v":16,"d":"016 "},"山梨県","北杜市","安都玉村","玉山",null,"","",{"$f":"IF(K789=\"\",\"\",COUNTIF($K$7:K789,\"ﾘｽﾄ１\"))","v":""},"","","","","","","",{"$f":"IF(S789=\"\",\"\",COUNTIF($S$7:S789,\"該当２\"))","v":""},"","",{"$f":"IF(V789=\"\",\"\",COUNTIF($V$7:V789,\"該当３\"))","v":""}]
[1920914000,19,{"v":209,"d":"209 "},{"v":14,"d":"14 "},{"v":0,"d":"000 "},"山梨県","北杜市","清里村",null,null,"","",{"$f":"IF(K790=\"\",\"\",COUNTIF($K$7:K790,\"ﾘｽﾄ１\"))","v":""},"","","","","","","",{"$f":"IF(S790=\"\",\"\",COUNTIF($S$7:S790,\"該当２\"))","v":""},"","",{"$f":"IF(V790=\"\",\"\",COUNTIF($V$7:V790,\"該当３\"))","v":""}]
[1920914001,19,{"v":209,"d":"209 "},{"v":14,"d":"14 "},{"v":1,"d":"001 "},"山梨県","北杜市","清里村","浅川",null,"","",{"$f":"IF(K791=\"\",\"\",COUNTIF($K$7:K791,\"ﾘｽﾄ１\"))","v":""},"","","","","","","",{"$f":"IF(S791=\"\",\"\",COUNTIF($S$7:S791,\"該当２\"))","v":""},"","",{"$f":"IF(V791=\"\",\"\",COUNTIF($V$7:V791,\"該当３\"))","v":""}]
[1920914002,19,{"v":209,"d":"209 "},{"v":14,"d":"14 "},{"v":2,"d":"002 "},"山梨県","北杜市","清里村","東原",null,"","",{"$f":"IF(K792=\"\",\"\",COUNTIF($K$7:K792,\"ﾘｽﾄ１\"))","v":""},"","","","","","","",{"$f":"IF(S792=\"\",\"\",COUNTIF($S$7:S792,\"該当２\"))","v":""},"","",{"$f":"IF(V792=\"\",\"\",COUNTIF($V$7:V792,\"該当３\"))","v":""}]
[1920914003,19,{"v":209,"d":"209 "},{"v":14,"d":"14 "},{"v":3,"d":"003 "},"山梨県","北杜市","清里村","上手",null,"","",{"$f":"IF(K793=\"\",\"\",COUNTIF($K$7:K793,\"ﾘｽﾄ１\"))","v":""},"","","","","","","",{"$f":"IF(S793=\"\",\"\",COUNTIF($S$7:S793,\"該当２\"))","v":""},"","",{"$f":"IF(V793=\"\",\"\",COUNTIF($V$7:V793,\"該当３\"))","v":""}]
[1920914004,19,{"v":209,"d":"209 "},{"v":14,"d":"14 "},{"v":4,"d":"004 "},"山梨県","北杜市","清里村","西村",null,"","",{"$f":"IF(K794=\"\",\"\",COUNTIF($K$7:K794,\"ﾘｽﾄ１\"))","v":""},"","","","","","","",{"$f":"IF(S794=\"\",\"\",COUNTIF($S$7:S794,\"該当２\"))","v":""},"","",{"$f":"IF(V794=\"\",\"\",COUNTIF($V$7:V794,\"該当３\"))","v":""}]
[1920914005,19,{"v":209,"d":"209 "},{"v":14,"d":"14 "},{"v":5,"d":"005 "},"山梨県","北杜市","清里村","下念場",null,"","",{"$f":"IF(K795=\"\",\"\",COUNTIF($K$7:K795,\"ﾘｽﾄ１\"))","v":""},"","","","","","","",{"$f":"IF(S795=\"\",\"\",COUNTIF($S$7:S795,\"該当２\"))","v":""},"","",{"$f":"IF(V795=\"\",\"\",COUNTIF($V$7:V795,\"該当３\"))","v":""}]
[1920914006,19,{"v":209,"d":"209 "},{"v":14,"d":"14 "},{"v":6,"d":"006 "},"山梨県","北杜市","清里村","東念場",null,"","",{"$f":"IF(K796=\"\",\"\",COUNTIF($K$7:K796,\"ﾘｽﾄ１\"))","v":""},"","","","","","","",{"$f":"IF(S796=\"\",\"\",COUNTIF($S$7:S796,\"該当２\"))","v":""},"","",{"$f":"IF(V796=\"\",\"\",COUNTIF($V$7:V796,\"該当３\"))","v":""}]
[1920914007,19,{"v":209,"d":"209 "},{"v":14,"d":"14 "},{"v":7,"d":"007 "},"山梨県","北杜市","清里村","八ケ岳",null,"","",{"$f":"IF(K797=\"\",\"\",COUNTIF($K$7:K797,\"ﾘｽﾄ１\"))","v":""},"","","","","","","",{"$f":"IF(S797=\"\",\"\",COUNTIF($S$7:S797,\"該当２\"))","v":""},"","",{"$f":"IF(V797=\"\",\"\",COUNTIF($V$7:V797,\"該当３\"))","v":""}]
[1920914008,19,{"v":209,"d":"209 "},{"v":14,"d":"14 "},{"v":8,"d":"008 "},"山梨県","北杜市","清里村","朝日丘",null,"","",{"$f":"IF(K798=\"\",\"\",COUNTIF($K$7:K798,\"ﾘｽﾄ１\"))","v":""},"","","","","","","",{"$f":"IF(S798=\"\",\"\",COUNTIF($S$7:S798,\"該当２\"))","v":""},"","",{"$f":"IF(V798=\"\",\"\",COUNTIF($V$7:V798,\"該当３\"))","v":""}]
[1920914009,19,{"v":209,"d":"209 "},{"v":14,"d":"14 "},{"v":9,"d":"009 "},"山梨県","北杜市","清里村","駅前・小海線以北",null,"","",{"$f":"IF(K799=\"\",\"\",COUNTIF($K$7:K799,\"ﾘｽﾄ１\"))","v":""},"","","","","","","",{"$f":"IF(S799=\"\",\"\",COUNTIF($S$7:S799,\"該当２\"))","v":""},"","",{"$f":"IF(V799=\"\",\"\",COUNTIF($V$7:V799,\"該当３\"))","v":""}]
[1920915000,19,{"v":209,"d":"209 "},{"v":15,"d":"15 "},{"v":0,"d":"000 "},"山梨県","北杜市","日野春村",null,null,"","",{"$f":"IF(K800=\"\",\"\",COUNTIF($K$7:K800,\"ﾘｽﾄ１\"))","v":""},"","","","","","","",{"$f":"IF(S800=\"\",\"\",COUNTIF($S$7:S800,\"該当２\"))","v":""},"","",{"$f":"IF(V800=\"\",\"\",COUNTIF($V$7:V800,\"該当３\"))","v":""}]
[1920915001,19,{"v":209,"d":"209 "},{"v":15,"d":"15 "},{"v":1,"d":"001 "},"山梨県","北杜市","日野春村","塚川上",null,"","",{"$f":"IF(K801=\"\",\"\",COUNTIF($K$7:K801,\"ﾘｽﾄ１\"))","v":""},"","","","","","","",{"$f":"IF(S801=\"\",\"\",COUNTIF($S$7:S801,\"該当２\"))","v":""},"","",{"$f":"IF(V801=\"\",\"\",COUNTIF($V$7:V801,\"該当３\"))","v":""}]
[1920915003,19,{"v":209,"d":"209 "},{"v":15,"d":"15 "},{"v":3,"d":"003 "},"山梨県","北杜市","日野春村","塚川原町",null,"","",{"$f":"IF(K802=\"\",\"\",COUNTIF($K$7:K802,\"ﾘｽﾄ１\"))","v":""},"","","","","","","",{"$f":"IF(S802=\"\",\"\",COUNTIF($S$7:S802,\"該当２\"))","v":""},"","",{"$f":"IF(V802=\"\",\"\",COUNTIF($V$7:V802,\"該当３\"))","v":""}]
[1920915004,19,{"v":209,"d":"209 "},{"v":15,"d":"15 "},{"v":4,"d":"004 "},"山梨県","北杜市","日野春村","渋沢",null,"","",{"$f":"IF(K803=\"\",\"\",COUNTIF($K$7:K803,\"ﾘｽﾄ１\"))","v":""},"","","","","","","",{"$f":"IF(S803=\"\",\"\",COUNTIF($S$7:S803,\"該当２\"))","v":""},"","",{"$f":"IF(V803=\"\",\"\",COUNTIF($V$7:V803,\"該当３\"))","v":""}]
[1920915005,19,{"v":209,"d":"209 "},{"v":15,"d":"15 "},{"v":5,"d":"005 "},"山梨県","北杜市","日野春村","上条",null,"","",{"$f":"IF(K804=\"\",\"\",COUNTIF($K$7:K804,\"ﾘｽﾄ１\"))","v":""},"","","","","","","",{"$f":"IF(S804=\"\",\"\",COUNTIF($S$7:S804,\"該当２\"))","v":""},"","",{"$f":"IF(V804=\"\",\"\",COUNTIF($V$7:V804,\"該当３\"))","v":""}]
[1920915009,19,{"v":209,"d":"209 "},{"v":15,"d":"15 "},{"v":9,"d":"009 "},"山梨県","北杜市","日野春村","下条",null,"","",{"$f":"IF(K805=\"\",\"\",COUNTIF($K$7:K805,\"ﾘｽﾄ１\"))","v":""},"","","","","","","",{"$f":"IF(S805=\"\",\"\",COUNTIF($S$7:S805,\"該当２\"))","v":""},"","",{"$f":"IF(V805=\"\",\"\",COUNTIF($V$7:V805,\"該当３\"))","v":""}]
[1920915010,19,{"v":209,"d":"209 "},{"v":15,"d":"15 "},{"v":10,"d":"010 "},"山梨県","北杜市","日野春村","日野",null,"","",{"$f":"IF(K806=\"\",\"\",COUNTIF($K$7:K806,\"ﾘｽﾄ１\"))","v":""},"","","","","","","",{"$f":"IF(S806=\"\",\"\",COUNTIF($S$7:S806,\"該当２\"))","v":""},"","",{"$f":"IF(V806=\"\",\"\",COUNTIF($V$7:V806,\"該当３\"))","v":""}]
[1920915011,19,{"v":209,"d":"209 "},{"v":15,"d":"15 "},{"v":11,"d":"011 "},"山梨県","北杜市","日野春村","富岡",null,"","",{"$f":"IF(K807=\"\",\"\",COUNTIF($K$7:K807,\"ﾘｽﾄ１\"))","v":""},"","","","","","","",{"$f":"IF(S807=\"\",\"\",COUNTIF($S$7:S807,\"該当２\"))","v":""},"","",{"$f":"IF(V807=\"\",\"\",COUNTIF($V$7:V807,\"該当３\"))","v":""}]
[1920915013,19,{"v":209,"d":"209 "},{"v":15,"d":"15 "},{"v":13,"d":"013 "},"山梨県","北杜市","日野春村","長坂",null,"","",{"$f":"IF(K808=\"\",\"\",COUNTIF($K$7:K808,\"ﾘｽﾄ１\"))","v":""},"","","","","","","",{"$f":"IF(S808=\"\",\"\",COUNTIF($S$7:S808,\"該当２\"))","v":""},"","",{"$f":"IF(V808=\"\",\"\",COUNTIF($V$7:V808,\"該当３\"))","v":""}]
[1920915014,19,{"v":209,"d":"209 "},{"v":15,"d":"15 "},{"v":14,"d":"014 "},"山梨県","北杜市","日野春村","塚川下",null,"","",{"$f":"IF(K809=\"\",\"\",COUNTIF($K$7:K809,\"ﾘｽﾄ１\"))","v":""},"","","","","","","",{"$f":"IF(S809=\"\",\"\",COUNTIF($S$7:S809,\"該当２\"))","v":""},"","",{"$f":"IF(V809=\"\",\"\",COUNTIF($V$7:V809,\"該当３\"))","v":""}]
[1920916000,19,{"v":209,"d":"209 "},{"v":16,"d":"16 "},{"v":0,"d":"000 "},"山梨県","北杜市","清春村２－１",null,null,"","",{"$f":"IF(K810=\"\",\"\",COUNTIF($K$7:K810,\"ﾘｽﾄ１\"))","v":""},"","","","","","","",{"$f":"IF(S810=\"\",\"\",COUNTIF($S$7:S810,\"該当２\"))","v":""},"","",{"$f":"IF(V810=\"\",\"\",COUNTIF($V$7:V810,\"該当３\"))","v":""}]
[1920916001,19,{"v":209,"d":"209 "},{"v":16,"d":"16 "},{"v":1,"d":"001 "},"山梨県","北杜市","清春村２－１","中島",null,"","",{"$f":"IF(K811=\"\",\"\",COUNTIF($K$7:K811,\"ﾘｽﾄ１\"))","v":""},"","","","","","","",{"$f":"IF(S811=\"\",\"\",COUNTIF($S$7:S811,\"該当２\"))","v":""},"","",{"$f":"IF(V811=\"\",\"\",COUNTIF($V$7:V811,\"該当３\"))","v":""}]
[1920916002,19,{"v":209,"d":"209 "},{"v":16,"d":"16 "},{"v":2,"d":"002 "},"山梨県","北杜市","清春村２－１","蕪",null,"","",{"$f":"IF(K812=\"\",\"\",COUNTIF($K$7:K812,\"ﾘｽﾄ１\"))","v":""},"","","","","","","",{"$f":"IF(S812=\"\",\"\",COUNTIF($S$7:S812,\"該当２\"))","v":""},"","",{"$f":"IF(V812=\"\",\"\",COUNTIF($V$7:V812,\"該当３\"))","v":""}]
[1920916003,19,{"v":209,"d":"209 "},{"v":16,"d":"16 "},{"v":3,"d":"003 "},"山梨県","北杜市","清春村２－１","中丸",null,"","",{"$f":"IF(K813=\"\",\"\",COUNTIF($K$7:K813,\"ﾘｽﾄ１\"))","v":""},"","","","","","","",{"$f":"IF(S813=\"\",\"\",COUNTIF($S$7:S813,\"該当２\"))","v":""},"","",{"$f":"IF(V813=\"\",\"\",COUNTIF($V$7:V813,\"該当３\"))","v":""}]
[1920916004,19,{"v":209,"d":"209 "},{"v":16,"d":"16 "},{"v":4,"d":"004 "},"山梨県","北杜市","清春村２－１","柿平",null,"","",{"$f":"IF(K814=\"\",\"\",COUNTIF($K$7:K814,\"ﾘｽﾄ１\"))","v":""},"","","","","","","",{"$f":"IF(S814=\"\",\"\",COUNTIF($S$7:S814,\"該当２\"))","v":""},"","",{"$f":"IF(V814=\"\",\"\",COUNTIF($V$7:V814,\"該当３\"))","v":""}]
[1920916005,19,{"v":209,"d":"209 "},{"v":16,"d":"16 "},{"v":5,"d":"005 "},"山梨県","北杜市","清春村２－１","鳥久保",null,"","",{"$f":"IF(K815=\"\",\"\",COUNTIF($K$7:K815,\"ﾘｽﾄ１\"))","v":""},"","","","","","","",{"$f":"IF(S815=\"\",\"\",COUNTIF($S$7:S815,\"該当２\"))","v":""},"","",{"$f":"IF(V815=\"\",\"\",COUNTIF($V$7:V815,\"該当３\"))","v":""}]
[1920917000,19,{"v":209,"d":"209 "},{"v":17,"d":"17 "},{"v":0,"d":"000 "},"山梨県","北杜市","小泉村",null,null,"","",{"$f":"IF(K816=\"\",\"\",COUNTIF($K$7:K816,\"ﾘｽﾄ１\"))","v":""},"","","","","","","",{"$f":"IF(S816=\"\",\"\",COUNTIF($S$7:S816,\"該当２\"))","v":""},"","",{"$f":"IF(V816=\"\",\"\",COUNTIF($V$7:V816,\"該当３\"))","v":""}]
[1920917001,19,{"v":209,"d":"209 "},{"v":17,"d":"17 "},{"v":1,"d":"001 "},"山梨県","北杜市","小泉村","東村",null,"","",{"$f":"IF(K817=\"\",\"\",COUNTIF($K$7:K817,\"ﾘｽﾄ１\"))","v":""},"","","","","","","",{"$f":"IF(S817=\"\",\"\",COUNTIF($S$7:S817,\"該当２\"))","v":""},"","",{"$f":"IF(V817=\"\",\"\",COUNTIF($V$7:V817,\"該当３\"))","v":""}]
[1920917002,19,{"v":209,"d":"209 "},{"v":17,"d":"17 "},{"v":2,"d":"002 "},"山梨県","北杜市","小泉村","中村",null,"","",{"$f":"IF(K818=\"\",\"\",COUNTIF($K$7:K818,\"ﾘｽﾄ１\"))","v":""},"","","","","","","",{"$f":"IF(S818=\"\",\"\",COUNTIF($S$7:S818,\"該当２\"))","v":""},"","",{"$f":"IF(V818=\"\",\"\",COUNTIF($V$7:V818,\"該当３\"))","v":""}]
[1920917003,19,{"v":209,"d":"209 "},{"v":17,"d":"17 "},{"v":3,"d":"003 "},"山梨県","北杜市","小泉村","横針",null,"","",{"$f":"IF(K819=\"\",\"\",COUNTIF($K$7:K819,\"ﾘｽﾄ１\"))","v":""},"","","","","","","",{"$f":"IF(S819=\"\",\"\",COUNTIF($S$7:S819,\"該当２\"))","v":""},"","",{"$f":"IF(V819=\"\",\"\",COUNTIF($V$7:V819,\"該当３\"))","v":""}]
[1920917004,19,{"v":209,"d":"209 "},{"v":17,"d":"17 "},{"v":4,"d":"004 "},"山梨県","北杜市","小泉村","菅沼",null,"","",{"$f":"IF(K820=\"\",\"\",COUNTIF($K$7:K820,\"ﾘｽﾄ１\"))","v":""},"","","","","","","",{"$f":"IF(S820=\"\",\"\",COUNTIF($S$7:S820,\"該当２\"))","v":""},"","",{"$f":"IF(V820=\"\",\"\",COUNTIF($V$7:V820,\"該当３\"))","v":""}]
[1920917005,19,{"v":209,"d":"209 "},{"v":17,"d":"17 "},{"v":5,"d":"005 "},"山梨県","北杜市","小泉村","大井ケ森",null,"","",{"$f":"IF(K821=\"\",\"\",COUNTIF($K$7:K821,\"ﾘｽﾄ１\"))","v":""},"","","","","","","",{"$f":"IF(S821=\"\",\"\",COUNTIF($S$7:S821,\"該当２\"))","v":""},"","",{"$f":"IF(V821=\"\",\"\",COUNTIF($V$7:V821,\"該当３\"))","v":""}]
[1920917006,19,{"v":209,"d":"209 "},{"v":17,"d":"17 "},{"v":6,"d":"006 "},"山梨県","北杜市","小泉村","上の原",null,"","",{"$f":"IF(K822=\"\",\"\",COUNTIF($K$7:K822,\"ﾘｽﾄ１\"))","v":""},"","","","","","","",{"$f":"IF(S822=\"\",\"\",COUNTIF($S$7:S822,\"該当２\"))","v":""},"","",{"$f":"IF(V822=\"\",\"\",COUNTIF($V$7:V822,\"該当３\"))","v":""}]
[1920917010,19,{"v":209,"d":"209 "},{"v":17,"d":"17 "},{"v":10,"d":"010 "},"山梨県","北杜市","小泉村","小荒間",null,"","",{"$f":"IF(K823=\"\",\"\",COUNTIF($K$7:K823,\"ﾘｽﾄ１\"))","v":""},"","","","","","","",{"$f":"IF(S823=\"\",\"\",COUNTIF($S$7:S823,\"該当２\"))","v":""},"","",{"$f":"IF(V823=\"\",\"\",COUNTIF($V$7:V823,\"該当３\"))","v":""}]
[1920918000,19,{"v":209,"d":"209 "},{"v":18,"d":"18 "},{"v":0,"d":"000 "},"山梨県","北杜市","秋田村",null,null,"","",{"$f":"IF(K824=\"\",\"\",COUNTIF($K$7:K824,\"ﾘｽﾄ１\"))","v":""},"","","","","","","",{"$f":"IF(S824=\"\",\"\",COUNTIF($S$7:S824,\"該当２\"))","v":""},"","",{"$f":"IF(V824=\"\",\"\",COUNTIF($V$7:V824,\"該当３\"))","v":""}]
[1920918001,19,{"v":209,"d":"209 "},{"v":18,"d":"18 "},{"v":1,"d":"001 "},"山梨県","北杜市","秋田村","夏秋",null,"","",{"$f":"IF(K825=\"\",\"\",COUNTIF($K$7:K825,\"ﾘｽﾄ１\"))","v":""},"","","","","","","",{"$f":"IF(S825=\"\",\"\",COUNTIF($S$7:S825,\"該当２\"))","v":""},"","",{"$f":"IF(V825=\"\",\"\",COUNTIF($V$7:V825,\"該当３\"))","v":""}]
[1920918002,19,{"v":209,"d":"209 "},{"v":18,"d":"18 "},{"v":2,"d":"002 "},"山梨県","北杜市","秋田村","下村",null,"","",{"$f":"IF(K826=\"\",\"\",COUNTIF($K$7:K826,\"ﾘｽﾄ１\"))","v":""},"","","","","","","",{"$f":"IF(S826=\"\",\"\",COUNTIF($S$7:S826,\"該当２\"))","v":""},"","",{"$f":"IF(V826=\"\",\"\",COUNTIF($V$7:V826,\"該当３\"))","v":""}]
[1920918003,19,{"v":209,"d":"209 "},{"v":18,"d":"18 "},{"v":3,"d":"003 "},"山梨県","北杜市","秋田村","栗林",null,"","",{"$f":"IF(K827=\"\",\"\",COUNTIF($K$7:K827,\"ﾘｽﾄ１\"))","v":""},"","","","","","","",{"$f":"IF(S827=\"\",\"\",COUNTIF($S$7:S827,\"該当２\"))","v":""},"","",{"$f":"IF(V827=\"\",\"\",COUNTIF($V$7:V827,\"該当３\"))","v":""}]
[1920918004,19,{"v":209,"d":"209 "},{"v":18,"d":"18 "},{"v":4,"d":"004 "},"山梨県","北杜市","秋田村","町添",null,"","",{"$f":"IF(K828=\"\",\"\",COUNTIF($K$7:K828,\"ﾘｽﾄ１\"))","v":""},"","","","","","","",{"$f":"IF(S828=\"\",\"\",COUNTIF($S$7:S828,\"該当２\"))","v":""},"","",{"$f":"IF(V828=\"\",\"\",COUNTIF($V$7:V828,\"該当３\"))","v":""}]
[1920918005,19,{"v":209,"d":"209 "},{"v":18,"d":"18 "},{"v":5,"d":"005 "},"山梨県","北杜市","秋田村","成岡",null,"","",{"$f":"IF(K829=\"\",\"\",COUNTIF($K$7:K829,\"ﾘｽﾄ１\"))","v":""},"","","","","","","",{"$f":"IF(S829=\"\",\"\",COUNTIF($S$7:S829,\"該当２\"))","v":""},"","",{"$f":"IF(V829=\"\",\"\",COUNTIF($V$7:V829,\"該当３\"))","v":""}]
[1920918006,19,{"v":209,"d":"209 "},{"v":18,"d":"18 "},{"v":6,"d":"006 "},"山梨県","北杜市","秋田村","西和田",null,"","",{"$f":"IF(K830=\"\",\"\",COUNTIF($K$7:K830,\"ﾘｽﾄ１\"))","v":""},"","","","","","","",{"$f":"IF(S830=\"\",\"\",COUNTIF($S$7:S830,\"該当２\"))","v":""},"","",{"$f":"IF(V830=\"\",\"\",COUNTIF($V$7:V830,\"該当３\"))","v":""}]
[1920918007,19,{"v":209,"d":"209 "},{"v":18,"d":"18 "},{"v":7,"d":"007 "},"山梨県","北杜市","秋田村","大久保",null,"","",{"$f":"IF(K831=\"\",\"\",COUNTIF($K$7:K831,\"ﾘｽﾄ１\"))","v":""},"","","","","","","",{"$f":"IF(S831=\"\",\"\",COUNTIF($S$7:S831,\"該当２\"))","v":""},"","",{"$f":"IF(V831=\"\",\"\",COUNTIF($V$7:V831,\"該当３\"))","v":""}]
[1920918008,19,{"v":209,"d":"209 "},{"v":18,"d":"18 "},{"v":8,"d":"008 "},"山梨県","北杜市","秋田村","南新居",null,"","",{"$f":"IF(K832=\"\",\"\",COUNTIF($K$7:K832,\"ﾘｽﾄ１\"))","v":""},"","","","","","","",{"$f":"IF(S832=\"\",\"\",COUNTIF($S$7:S832,\"該当２\"))","v":""},"","",{"$f":"IF(V832=\"\",\"\",COUNTIF($V$7:V832,\"該当３\"))","v":""}]
[1920918009,19,{"v":209,"d":"209 "},{"v":18,"d":"18 "},{"v":9,"d":"009 "},"山梨県","北杜市","秋田村","東原",null,"","",{"$f":"IF(K833=\"\",\"\",COUNTIF($K$7:K833,\"ﾘｽﾄ１\"))","v":""},"","","","","","","",{"$f":"IF(S833=\"\",\"\",COUNTIF($S$7:S833,\"該当２\"))","v":""},"","",{"$f":"IF(V833=\"\",\"\",COUNTIF($V$7:V833,\"該当３\"))","v":""}]
[1920919000,19,{"v":209,"d":"209 "},{"v":19,"d":"19 "},{"v":0,"d":"000 "},"山梨県","北杜市","大泉村",null,null,"","",{"$f":"IF(K834=\"\",\"\",COUNTIF($K$7:K834,\"ﾘｽﾄ１\"))","v":""},"","","","","","","",{"$f":"IF(S834=\"\",\"\",COUNTIF($S$7:S834,\"該当２\"))","v":""},"","",{"$f":"IF(V834=\"\",\"\",COUNTIF($V$7:V834,\"該当３\"))","v":""}]
[1920919001,19,{"v":209,"d":"209 "},{"v":19,"d":"19 "},{"v":1,"d":"001 "},"山梨県","北杜市","大泉村","寺所",null,"","",{"$f":"IF(K835=\"\",\"\",COUNTIF($K$7:K835,\"ﾘｽﾄ１\"))","v":""},"","","","","","","",{"$f":"IF(S835=\"\",\"\",COUNTIF($S$7:S835,\"該当２\"))","v":""},"","",{"$f":"IF(V835=\"\",\"\",COUNTIF($V$7:V835,\"該当３\"))","v":""}]
[1920919002,19,{"v":209,"d":"209 "},{"v":19,"d":"19 "},{"v":2,"d":"002 "},"山梨県","北杜市","大泉村","下井出",null,"","",{"$f":"IF(K836=\"\",\"\",COUNTIF($K$7:K836,\"ﾘｽﾄ１\"))","v":""},"","","","","","","",{"$f":"IF(S836=\"\",\"\",COUNTIF($S$7:S836,\"該当２\"))","v":""},"","",{"$f":"IF(V836=\"\",\"\",COUNTIF($V$7:V836,\"該当３\"))","v":""}]
[1920919003,19,{"v":209,"d":"209 "},{"v":19,"d":"19 "},{"v":3,"d":"003 "},"山梨県","北杜市","大泉村","天神",null,"","",{"$f":"IF(K837=\"\",\"\",COUNTIF($K$7:K837,\"ﾘｽﾄ１\"))","v":""},"","","","","","","",{"$f":"IF(S837=\"\",\"\",COUNTIF($S$7:S837,\"該当２\"))","v":""},"","",{"$f":"IF(V837=\"\",\"\",COUNTIF($V$7:V837,\"該当３\"))","v":""}]
[1920919004,19,{"v":209,"d":"209 "},{"v":19,"d":"19 "},{"v":4,"d":"004 "},"山梨県","北杜市","大泉村","宮地",null,"","",{"$f":"IF(K838=\"\",\"\",COUNTIF($K$7:K838,\"ﾘｽﾄ１\"))","v":""},"","","","","","","",{"$f":"IF(S838=\"\",\"\",COUNTIF($S$7:S838,\"該当２\"))","v":""},"","",{"$f":"IF(V838=\"\",\"\",COUNTIF($V$7:V838,\"該当３\"))","v":""}]
[1920919005,19,{"v":209,"d":"209 "},{"v":19,"d":"19 "},{"v":5,"d":"005 "},"山梨県","北杜市","大泉村","辻中",null,"","",{"$f":"IF(K839=\"\",\"\",COUNTIF($K$7:K839,\"ﾘｽﾄ１\"))","v":""},"","","","","","","",{"$f":"IF(S839=\"\",\"\",COUNTIF($S$7:S839,\"該当２\"))","v":""},"","",{"$f":"IF(V839=\"\",\"\",COUNTIF($V$7:V839,\"該当３\"))","v":""}]
[1920919006,19,{"v":209,"d":"209 "},{"v":19,"d":"19 "},{"v":6,"d":"006 "},"山梨県","北杜市","大泉村","新井",null,"","",{"$f":"IF(K840=\"\",\"\",COUNTIF($K$7:K840,\"ﾘｽﾄ１\"))","v":""},"","","","","","","",{"$f":"IF(S840=\"\",\"\",COUNTIF($S$7:S840,\"該当２\"))","v":""},"","",{"$f":"IF(V840=\"\",\"\",COUNTIF($V$7:V840,\"該当３\"))","v":""}]
[1920919007,19,{"v":209,"d":"209 "},{"v":19,"d":"19 "},{"v":7,"d":"007 "},"山梨県","北杜市","大泉村","姥神",null,"","",{"$f":"IF(K841=\"\",\"\",COUNTIF($K$7:K841,\"ﾘｽﾄ１\"))","v":""},"","","","","","","",{"$f":"IF(S841=\"\",\"\",COUNTIF($S$7:S841,\"該当２\"))","v":""},"","",{"$f":"IF(V841=\"\",\"\",COUNTIF($V$7:V841,\"該当３\"))","v":""}]
[1920919008,19,{"v":209,"d":"209 "},{"v":19,"d":"19 "},{"v":8,"d":"008 "},"山梨県","北杜市","大泉村","東原",null,"","",{"$f":"IF(K842=\"\",\"\",COUNTIF($K$7:K842,\"ﾘｽﾄ１\"))","v":""},"","",{"$f":"IF(O842=\"該当１\",G842,\"\")","v":""},{"$f":"IF(O842=\"該当１\",\"ﾘｽﾄ2\",\"\")","v":""},{"$f":"IF(Q842=\"ﾘｽﾄ2\",H842,\"\")","v":""},"",{"$f":"IF(S842=\"該当２\",H842,\"\")","v":""},{"$f":"IF(S842=\"\",\"\",COUNTIF($S$7:S842,\"該当２\"))","v":""},{"$f":"IF(AND($S$2=H842,E842>0,E842<998),\"該当３\",\"\")","v":""},{"$f":"IF(V842=\"該当３\",I842,\"\")","v":""},{"$f":"IF(V842=\"\",\"\",COUNTIF($V$7:V842,\"該当３\"))","v":""}]
[1920919009,19,{"v":209,"d":"209 "},{"v":19,"d":"19 "},{"v":9,"d":"009 "},"山梨県","北杜市","大泉村","若林",null,{"$f":"IF(AND($C843>0,$H843=\"\"),\"ﾘｽﾄ１\",\"\")","v":""},{"$f":"IF(K843=\"ﾘｽﾄ１\",G843,\"\")","v":""},{"$f":"IF(K843=\"\",\"\",COUNTIF($K$7:K843,\"ﾘｽﾄ１\"))","v":""},{"$f":"IF(AND(D843=0,E843>0),\"同一区\",\"\")","v":""},{"$f":"IF(AND(EXACT($K$2,G843),H843>0),\"該当１\",\"\")","v":""},"","","",{"$f":"IF(AND(Q843=\"ﾘｽﾄ2\",OR(I843=0,AND(N843=\"同一区\",E843=1))),\"該当２\",\"\")","v":""},"",{"$f":"IF(S843=\"\",\"\",COUNTIF($S$7:S843,\"該当２\"))","v":""},"","",{"$f":"IF(V843=\"\",\"\",COUNTIF($V$7:V843,\"該当３\"))","v":""}]
[1920919010,19,{"v":209,"d":"209 "},{"v":19,"d":"19 "},{"v":10,"d":"010 "},"山梨県","北杜市","大泉村","油川",null,"","",{"$f":"IF(K844=\"\",\"\",COUNTIF($K$7:K844,\"ﾘｽﾄ１\"))","v":""},"","","","","","","",{"$f":"IF(S844=\"\",\"\",COUNTIF($S$7:S844,\"該当２\"))","v":""},"","",{"$f":"IF(V844=\"\",\"\",COUNTIF($V$7:V844,\"該当３\"))","v":""}]
[1920919011,19,{"v":209,"d":"209 "},{"v":19,"d":"19 "},{"v":11,"d":"011 "},"山梨県","北杜市","大泉村","石堂第１",null,"","",{"$f":"IF(K845=\"\",\"\",COUNTIF($K$7:K845,\"ﾘｽﾄ１\"))","v":""},"","","","","","","",{"$f":"IF(S845=\"\",\"\",COUNTIF($S$7:S845,\"該当２\"))","v":""},"","",{"$f":"IF(V845=\"\",\"\",COUNTIF($V$7:V845,\"該当３\"))","v":""}]
[1920919012,19,{"v":209,"d":"209 "},{"v":19,"d":"19 "},{"v":12,"d":"012 "},"山梨県","北杜市","大泉村","石堂第２",null,"","",{"$f":"IF(K846=\"\",\"\",COUNTIF($K$7:K846,\"ﾘｽﾄ１\"))","v":""},"","","","","","","",{"$f":"IF(S846=\"\",\"\",COUNTIF($S$7:S846,\"該当２\"))","v":""},"","",{"$f":"IF(V846=\"\",\"\",COUNTIF($V$7:V846,\"該当３\"))","v":""}]
[1920919013,19,{"v":209,"d":"209 "},{"v":19,"d":"19 "},{"v":13,"d":"013 "},"山梨県","北杜市","大泉村","大泉駅前",null,"","",{"$f":"IF(K847=\"\",\"\",COUNTIF($K$7:K847,\"ﾘｽﾄ１\"))","v":""},"","","","","","","",{"$f":"IF(S847=\"\",\"\",COUNTIF($S$7:S847,\"該当２\"))","v":""},"","",{"$f":"IF(V847=\"\",\"\",COUNTIF($V$7:V847,\"該当３\"))","v":""}]
[1920919014,19,{"v":209,"d":"209 "},{"v":19,"d":"19 "},{"v":14,"d":"014 "},"山梨県","北杜市","大泉村","帰農",null,"","",{"$f":"IF(K848=\"\",\"\",COUNTIF($K$7:K848,\"ﾘｽﾄ１\"))","v":""},"","","","","","","",{"$f":"IF(S848=\"\",\"\",COUNTIF($S$7:S848,\"該当２\"))","v":""},"","",{"$f":"IF(V848=\"\",\"\",COUNTIF($V$7:V848,\"該当３\"))","v":""}]
[1920919015,19,{"v":209,"d":"209 "},{"v":19,"d":"19 "},{"v":15,"d":"015 "},"山梨県","北杜市","大泉村","大開",null,"","",{"$f":"IF(K849=\"\",\"\",COUNTIF($K$7:K849,\"ﾘｽﾄ１\"))","v":""},"","","","","","","",{"$f":"IF(S849=\"\",\"\",COUNTIF($S$7:S849,\"該当２\"))","v":""},"","",{"$f":"IF(V849=\"\",\"\",COUNTIF($V$7:V849,\"該当３\"))","v":""}]
[1920919016,19,{"v":209,"d":"209 "},{"v":19,"d":"19 "},{"v":16,"d":"016 "},"山梨県","北杜市","大泉村","富谷",null,"","",{"$f":"IF(K850=\"\",\"\",COUNTIF($K$7:K850,\"ﾘｽﾄ１\"))","v":""},"","","","","","","",{"$f":"IF(S850=\"\",\"\",COUNTIF($S$7:S850,\"該当２\"))","v":""},"","",{"$f":"IF(V850=\"\",\"\",COUNTIF($V$7:V850,\"該当３\"))","v":""}]
[1920919017,19,{"v":209,"d":"209 "},{"v":19,"d":"19 "},{"v":17,"d":"017 "},"山梨県","北杜市","大泉村","宮川",null,"","",{"$f":"IF(K851=\"\",\"\",COUNTIF($K$7:K851,\"ﾘｽﾄ１\"))","v":""},"","","","","","","",{"$f":"IF(S851=\"\",\"\",COUNTIF($S$7:S851,\"該当２\"))","v":""},"","",{"$f":"IF(V851=\"\",\"\",COUNTIF($V$7:V851,\"該当３\"))","v":""}]
[1920919018,19,{"v":209,"d":"209 "},{"v":19,"d":"19 "},{"v":18,"d":"018 "},"山梨県","北杜市","大泉村","豊武",null,"","",{"$f":"IF(K852=\"\",\"\",COUNTIF($K$7:K852,\"ﾘｽﾄ１\"))","v":""},"","","","","","","",{"$f":"IF(S852=\"\",\"\",COUNTIF($S$7:S852,\"該当２\"))","v":""},"","",{"$f":"IF(V852=\"\",\"\",COUNTIF($V$7:V852,\"該当３\"))","v":""}]
[1920919019,19,{"v":209,"d":"209 "},{"v":19,"d":"19 "},{"v":19,"d":"019 "},"山梨県","北杜市","大泉村","下新居",null,"","",{"$f":"IF(K853=\"\",\"\",COUNTIF($K$7:K853,\"ﾘｽﾄ１\"))","v":""},"","","","","","","",{"$f":"IF(S853=\"\",\"\",COUNTIF($S$7:S853,\"該当２\"))","v":""},"","",{"$f":"IF(V853=\"\",\"\",COUNTIF($V$7:V853,\"該当３\"))","v":""}]
[1920919020,19,{"v":209,"d":"209 "},{"v":19,"d":"19 "},{"v":20,"d":"020 "},"山梨県","北杜市","大泉村","町屋",null,"","",{"$f":"IF(K854=\"\",\"\",COUNTIF($K$7:K854,\"ﾘｽﾄ１\"))","v":""},"","","","","","","",{"$f":"IF(S854=\"\",\"\",COUNTIF($S$7:S854,\"該当２\"))","v":""},"","",{"$f":"IF(V854=\"\",\"\",COUNTIF($V$7:V854,\"該当３\"))","v":""}]
[1920919021,19,{"v":209,"d":"209 "},{"v":19,"d":"19 "},{"v":21,"d":"021 "},"山梨県","北杜市","大泉村","城南",null,"","",{"$f":"IF(K855=\"\",\"\",COUNTIF($K$7:K855,\"ﾘｽﾄ１\"))","v":""},"","","","","","","",{"$f":"IF(S855=\"\",\"\",COUNTIF($S$7:S855,\"該当２\"))","v":""},"","",{"$f":"IF(V855=\"\",\"\",COUNTIF($V$7:V855,\"該当３\"))","v":""}]
[1920919022,19,{"v":209,"d":"209 "},{"v":19,"d":"19 "},{"v":22,"d":"022 "},"山梨県","北杜市","大泉村","宮下",null,"","",{"$f":"IF(K856=\"\",\"\",COUNTIF($K$7:K856,\"ﾘｽﾄ１\"))","v":""},"","","","","","","",{"$f":"IF(S856=\"\",\"\",COUNTIF($S$7:S856,\"該当２\"))","v":""},"","",{"$f":"IF(V856=\"\",\"\",COUNTIF($V$7:V856,\"該当３\"))","v":""}]
[1920919023,19,{"v":209,"d":"209 "},{"v":19,"d":"19 "},{"v":23,"d":"023 "},"山梨県","北杜市","大泉村","宮上",null,"","",{"$f":"IF(K857=\"\",\"\",COUNTIF($K$7:K857,\"ﾘｽﾄ１\"))","v":""},"","","","","","","",{"$f":"IF(S857=\"\",\"\",COUNTIF($S$7:S857,\"該当２\"))","v":""},"","",{"$f":"IF(V857=\"\",\"\",COUNTIF($V$7:V857,\"該当３\"))","v":""}]
[1920920000,19,{"v":209,"d":"209 "},{"v":20,"d":"20 "},{"v":0,"d":"000 "},"山梨県","北杜市","鳳来村",null,null,"","",{"$f":"IF(K858=\"\",\"\",COUNTIF($K$7:K858,\"ﾘｽﾄ１\"))","v":""},"","","","","","","",{"$f":"IF(S858=\"\",\"\",COUNTIF($S$7:S858,\"該当２\"))","v":""},"","",{"$f":"IF(V858=\"\",\"\",COUNTIF($V$7:V858,\"該当３\"))","v":""}]
[1920920001,19,{"v":209,"d":"209 "},{"v":20,"d":"20 "},{"v":1,"d":"001 "},"山梨県","北杜市","鳳来村","大武川",null,"","",{"$f":"IF(K859=\"\",\"\",COUNTIF($K$7:K859,\"ﾘｽﾄ１\"))","v":""},"","","","","","","",{"$f":"IF(S859=\"\",\"\",COUNTIF($S$7:S859,\"該当２\"))","v":""},"","",{"$f":"IF(V859=\"\",\"\",COUNTIF($V$7:V859,\"該当３\"))","v":""}]
[1920920002,19,{"v":209,"d":"209 "},{"v":20,"d":"20 "},{"v":2,"d":"002 "},"山梨県","北杜市","鳳来村","山口",null,"","",{"$f":"IF(K860=\"\",\"\",COUNTIF($K$7:K860,\"ﾘｽﾄ１\"))","v":""},"","","","","","","",{"$f":"IF(S860=\"\",\"\",COUNTIF($S$7:S860,\"該当２\"))","v":""},"","",{"$f":"IF(V860=\"\",\"\",COUNTIF($V$7:V860,\"該当３\"))","v":""}]
[1920920003,19,{"v":209,"d":"209 "},{"v":20,"d":"20 "},{"v":3,"d":"003 "},"山梨県","北杜市","鳳来村","上教来石",null,"","",{"$f":"IF(K861=\"\",\"\",COUNTIF($K$7:K861,\"ﾘｽﾄ１\"))","v":""},"","","","","","","",{"$f":"IF(S861=\"\",\"\",COUNTIF($S$7:S861,\"該当２\"))","v":""},"","",{"$f":"IF(V861=\"\",\"\",COUNTIF($V$7:V861,\"該当３\"))","v":""}]
[1920920004,19,{"v":209,"d":"209 "},{"v":20,"d":"20 "},{"v":4,"d":"004 "},"山梨県","北杜市","鳳来村","下教来石",null,"","",{"$f":"IF(K862=\"\",\"\",COUNTIF($K$7:K862,\"ﾘｽﾄ１\"))","v":""},"","","","","","","",{"$f":"IF(S862=\"\",\"\",COUNTIF($S$7:S862,\"該当２\"))","v":""},"","",{"$f":"IF(V862=\"\",\"\",COUNTIF($V$7:V862,\"該当３\"))","v":""}]
[1920920005,19,{"v":209,"d":"209 "},{"v":20,"d":"20 "},{"v":5,"d":"005 "},"山梨県","北杜市","鳳来村","荒田",null,"","",{"$f":"IF(K863=\"\",\"\",COUNTIF($K$7:K863,\"ﾘｽﾄ１\"))","v":""},"","","","","","","",{"$f":"IF(S863=\"\",\"\",COUNTIF($S$7:S863,\"該当２\"))","v":""},"","",{"$f":"IF(V863=\"\",\"\",COUNTIF($V$7:V863,\"該当３\"))","v":""}]
[1920920006,19,{"v":209,"d":"209 "},{"v":20,"d":"20 "},{"v":6,"d":"006 "},"山梨県","北杜市","鳳来村","松原",null,"","",{"$f":"IF(K864=\"\",\"\",COUNTIF($K$7:K864,\"ﾘｽﾄ１\"))","v":""},"","","","","","","",{"$f":"IF(S864=\"\",\"\",COUNTIF($S$7:S864,\"該当２\"))","v":""},"","",{"$f":"IF(V864=\"\",\"\",COUNTIF($V$7:V864,\"該当３\"))","v":""}]
[1920920007,19,{"v":209,"d":"209 "},{"v":20,"d":"20 "},{"v":7,"d":"007 "},"山梨県","北杜市","鳳来村","鳥原",null,"","",{"$f":"IF(K865=\"\",\"\",COUNTIF($K$7:K865,\"ﾘｽﾄ１\"))","v":""},"","","","","","","",{"$f":"IF(S865=\"\",\"\",COUNTIF($S$7:S865,\"該当２\"))","v":""},"","",{"$f":"IF(V865=\"\",\"\",COUNTIF($V$7:V865,\"該当３\"))","v":""}]
[1920921000,19,{"v":209,"d":"209 "},{"v":21,"d":"21 "},{"v":0,"d":"000 "},"山梨県","北杜市","菅原村",null,null,"","",{"$f":"IF(K866=\"\",\"\",COUNTIF($K$7:K866,\"ﾘｽﾄ１\"))","v":""},"","","","","","","",{"$f":"IF(S866=\"\",\"\",COUNTIF($S$7:S866,\"該当２\"))","v":""},"","",{"$f":"IF(V866=\"\",\"\",COUNTIF($V$7:V866,\"該当３\"))","v":""}]
[1920921001,19,{"v":209,"d":"209 "},{"v":21,"d":"21 "},{"v":1,"d":"001 "},"山梨県","北杜市","菅原村","竹宇",null,"","",{"$f":"IF(K867=\"\",\"\",COUNTIF($K$7:K867,\"ﾘｽﾄ１\"))","v":""},"","","","","","","",{"$f":"IF(S867=\"\",\"\",COUNTIF($S$7:S867,\"該当２\"))","v":""},"","",{"$f":"IF(V867=\"\",\"\",COUNTIF($V$7:V867,\"該当３\"))","v":""}]
[1920921002,19,{"v":209,"d":"209 "},{"v":21,"d":"21 "},{"v":2,"d":"002 "},"山梨県","北杜市","菅原村","前沢",null,"","",{"$f":"IF(K868=\"\",\"\",COUNTIF($K$7:K868,\"ﾘｽﾄ１\"))","v":""},"","","","","","","",{"$f":"IF(S868=\"\",\"\",COUNTIF($S$7:S868,\"該当２\"))","v":""},"","",{"$f":"IF(V868=\"\",\"\",COUNTIF($V$7:V868,\"該当３\"))","v":""}]
[1920921003,19,{"v":209,"d":"209 "},{"v":21,"d":"21 "},{"v":3,"d":"003 "},"山梨県","北杜市","菅原村","白須上",null,"","",{"$f":"IF(K869=\"\",\"\",COUNTIF($K$7:K869,\"ﾘｽﾄ１\"))","v":""},"","","","","","","",{"$f":"IF(S869=\"\",\"\",COUNTIF($S$7:S869,\"該当２\"))","v":""},"","",{"$f":"IF(V869=\"\",\"\",COUNTIF($V$7:V869,\"該当３\"))","v":""}]
[1920921004,19,{"v":209,"d":"209 "},{"v":21,"d":"21 "},{"v":4,"d":"004 "},"山梨県","北杜市","菅原村","白須下",null,"","",{"$f":"IF(K870=\"\",\"\",COUNTIF($K$7:K870,\"ﾘｽﾄ１\"))","v":""},"","","","","","","",{"$f":"IF(S870=\"\",\"\",COUNTIF($S$7:S870,\"該当２\"))","v":""},"","",{"$f":"IF(V870=\"\",\"\",COUNTIF($V$7:V870,\"該当３\"))","v":""}]
[1920921005,19,{"v":209,"d":"209 "},{"v":21,"d":"21 "},{"v":5,"d":"005 "},"山梨県","北杜市","菅原村","台ケ原",null,"","",{"$f":"IF(K871=\"\",\"\",COUNTIF($K$7:K871,\"ﾘｽﾄ１\"))","v":""},"","","","","","","",{"$f":"IF(S871=\"\",\"\",COUNTIF($S$7:S871,\"該当２\"))","v":""},"","",{"$f":"IF(V871=\"\",\"\",COUNTIF($V$7:V871,\"該当３\"))","v":""}]
[1920922000,19,{"v":209,"d":"209 "},{"v":22,"d":"22 "},{"v":0,"d":"000 "},"山梨県","北杜市","清春村２－２",null,null,"","",{"$f":"IF(K872=\"\",\"\",COUNTIF($K$7:K872,\"ﾘｽﾄ１\"))","v":""},"","","","","","","",{"$f":"IF(S872=\"\",\"\",COUNTIF($S$7:S872,\"該当２\"))","v":""},"","",{"$f":"IF(V872=\"\",\"\",COUNTIF($V$7:V872,\"該当３\"))","v":""}]
[1920922001,19,{"v":209,"d":"209 "},{"v":22,"d":"22 "},{"v":1,"d":"001 "},"山梨県","北杜市","清春村２－２","花水",null,"","",{"$f":"IF(K873=\"\",\"\",COUNTIF($K$7:K873,\"ﾘｽﾄ１\"))","v":""},"","","","","","","",{"$f":"IF(S873=\"\",\"\",COUNTIF($S$7:S873,\"該当２\"))","v":""},"","",{"$f":"IF(V873=\"\",\"\",COUNTIF($V$7:V873,\"該当３\"))","v":""}]
[1920923000,19,{"v":209,"d":"209 "},{"v":23,"d":"23 "},{"v":0,"d":"000 "},"山梨県","北杜市","駒城村２－１",null,null,"","",{"$f":"IF(K874=\"\",\"\",COUNTIF($K$7:K874,\"ﾘｽﾄ１\"))","v":""},"","","","","","","",{"$f":"IF(S874=\"\",\"\",COUNTIF($S$7:S874,\"該当２\"))","v":""},"","",{"$f":"IF(V874=\"\",\"\",COUNTIF($V$7:V874,\"該当３\"))","v":""}]
[1920923001,19,{"v":209,"d":"209 "},{"v":23,"d":"23 "},{"v":1,"d":"001 "},"山梨県","北杜市","駒城村２－１","横手",null,"","",{"$f":"IF(K875=\"\",\"\",COUNTIF($K$7:K875,\"ﾘｽﾄ１\"))","v":""},"","","","","","","",{"$f":"IF(S875=\"\",\"\",COUNTIF($S$7:S875,\"該当２\"))","v":""},"","",{"$f":"IF(V875=\"\",\"\",COUNTIF($V$7:V875,\"該当３\"))","v":""}]
[1920923002,19,{"v":209,"d":"209 "},{"v":23,"d":"23 "},{"v":2,"d":"002 "},"山梨県","北杜市","駒城村２－１","大坊",null,"","",{"$f":"IF(K876=\"\",\"\",COUNTIF($K$7:K876,\"ﾘｽﾄ１\"))","v":""},"","","","","","","",{"$f":"IF(S876=\"\",\"\",COUNTIF($S$7:S876,\"該当２\"))","v":""},"","",{"$f":"IF(V876=\"\",\"\",COUNTIF($V$7:V876,\"該当３\"))","v":""}]
[1920924000,19,{"v":209,"d":"209 "},{"v":24,"d":"24 "},{"v":0,"d":"000 "},"山梨県","北杜市","武川村",null,null,"","",{"$f":"IF(K877=\"\",\"\",COUNTIF($K$7:K877,\"ﾘｽﾄ１\"))","v":""},"","","","","","","",{"$f":"IF(S877=\"\",\"\",COUNTIF($S$7:S877,\"該当２\"))","v":""},"","",{"$f":"IF(V877=\"\",\"\",COUNTIF($V$7:V877,\"該当３\"))","v":""}]
[1920924001,19,{"v":209,"d":"209 "},{"v":24,"d":"24 "},{"v":1,"d":"001 "},"山梨県","北杜市","武川村","牧原",null,"","",{"$f":"IF(K878=\"\",\"\",COUNTIF($K$7:K878,\"ﾘｽﾄ１\"))","v":""},"","","","","","","",{"$f":"IF(S878=\"\",\"\",COUNTIF($S$7:S878,\"該当２\"))","v":""},"","",{"$f":"IF(V878=\"\",\"\",COUNTIF($V$7:V878,\"該当３\"))","v":""}]
[1920924002,19,{"v":209,"d":"209 "},{"v":24,"d":"24 "},{"v":2,"d":"002 "},"山梨県","北杜市","武川村","上三吹",null,"","",{"$f":"IF(K879=\"\",\"\",COUNTIF($K$7:K879,\"ﾘｽﾄ１\"))","v":""},"","","","","","","",{"$f":"IF(S879=\"\",\"\",COUNTIF($S$7:S879,\"該当２\"))","v":""},"","",{"$f":"IF(V879=\"\",\"\",COUNTIF($V$7:V879,\"該当３\"))","v":""}]
[1920924003,19,{"v":209,"d":"209 "},{"v":24,"d":"24 "},{"v":3,"d":"003 "},"山梨県","北杜市","武川村","下三吹",null,"","",{"$f":"IF(K880=\"\",\"\",COUNTIF($K$7:K880,\"ﾘｽﾄ１\"))","v":""},"","","","","","","",{"$f":"IF(S880=\"\",\"\",COUNTIF($S$7:S880,\"該当２\"))","v":""},"","",{"$f":"IF(V880=\"\",\"\",COUNTIF($V$7:V880,\"該当３\"))","v":""}]
[1920924004,19,{"v":209,"d":"209 "},{"v":24,"d":"24 "},{"v":4,"d":"004 "},"山梨県","北杜市","武川村","山高",null,"","",{"$f":"IF(K881=\"\",\"\",COUNTIF($K$7:K881,\"ﾘｽﾄ１\"))","v":""},"","","","","","","",{"$f":"IF(S881=\"\",\"\",COUNTIF($S$7:S881,\"該当２\"))","v":""},"","",{"$f":"IF(V881=\"\",\"\",COUNTIF($V$7:V881,\"該当３\"))","v":""}]
[1920924005,19,{"v":209,"d":"209 "},{"v":24,"d":"24 "},{"v":5,"d":"005 "},"山梨県","北杜市","武川村","黒澤",null,"","",{"$f":"IF(K882=\"\",\"\",COUNTIF($K$7:K882,\"ﾘｽﾄ１\"))","v":""},"","","","","","","",{"$f":"IF(S882=\"\",\"\",COUNTIF($S$7:S882,\"該当２\"))","v":""},"","",{"$f":"IF(V882=\"\",\"\",COUNTIF($V$7:V882,\"該当３\"))","v":""}]
[1920924006,19,{"v":209,"d":"209 "},{"v":24,"d":"24 "},{"v":6,"d":"006 "},"山梨県","北杜市","武川村","新奥",null,"","",{"$f":"IF(K883=\"\",\"\",COUNTIF($K$7:K883,\"ﾘｽﾄ１\"))","v":""},"","","","","","","",{"$f":"IF(S883=\"\",\"\",COUNTIF($S$7:S883,\"該当２\"))","v":""},"","",{"$f":"IF(V883=\"\",\"\",COUNTIF($V$7:V883,\"該当３\"))","v":""}]
[1920924007,19,{"v":209,"d":"209 "},{"v":24,"d":"24 "},{"v":7,"d":"007 "},"山梨県","北杜市","武川村","宮脇",null,"","",{"$f":"IF(K884=\"\",\"\",COUNTIF($K$7:K884,\"ﾘｽﾄ１\"))","v":""},"","","","","","","",{"$f":"IF(S884=\"\",\"\",COUNTIF($S$7:S884,\"該当２\"))","v":""},"","",{"$f":"IF(V884=\"\",\"\",COUNTIF($V$7:V884,\"該当３\"))","v":""}]
[1920925000,19,{"v":209,"d":"209 "},{"v":25,"d":"25 "},{"v":0,"d":"000 "},"山梨県","北杜市","駒城村２－２",null,null,"","",{"$f":"IF(K885=\"\",\"\",COUNTIF($K$7:K885,\"ﾘｽﾄ１\"))","v":""},"","","","","","","",{"$f":"IF(S885=\"\",\"\",COUNTIF($S$7:S885,\"該当２\"))","v":""},"","",{"$f":"IF(V885=\"\",\"\",COUNTIF($V$7:V885,\"該当３\"))","v":""}]
[1920925001,19,{"v":209,"d":"209 "},{"v":25,"d":"25 "},{"v":1,"d":"001 "},"山梨県","北杜市","駒城村２－２","柳沢",null,"","",{"$f":"IF(K886=\"\",\"\",COUNTIF($K$7:K886,\"ﾘｽﾄ１\"))","v":""},"","","","","","","",{"$f":"IF(S886=\"\",\"\",COUNTIF($S$7:S886,\"該当２\"))","v":""},"","",{"$f":"IF(V886=\"\",\"\",COUNTIF($V$7:V886,\"該当３\"))","v":""}]
[1920926000,19,{"v":209,"d":"209 "},{"v":26,"d":"26 "},{"v":0,"d":"000 "},"山梨県","北杜市","小淵沢村",null,null,"","",{"$f":"IF(K887=\"\",\"\",COUNTIF($K$7:K887,\"ﾘｽﾄ１\"))","v":""},"","","","","","","",{"$f":"IF(S887=\"\",\"\",COUNTIF($S$7:S887,\"該当２\"))","v":""},"","",{"$f":"IF(V887=\"\",\"\",COUNTIF($V$7:V887,\"該当３\"))","v":""}]
[1920926001,19,{"v":209,"d":"209 "},{"v":26,"d":"26 "},{"v":1,"d":"001 "},"山梨県","北杜市","小淵沢村","尾根",null,"","",{"$f":"IF(K888=\"\",\"\",COUNTIF($K$7:K888,\"ﾘｽﾄ１\"))","v":""},"","","","","","","",{"$f":"IF(S888=\"\",\"\",COUNTIF($S$7:S888,\"該当２\"))","v":""},"","",{"$f":"IF(V888=\"\",\"\",COUNTIF($V$7:V888,\"該当３\"))","v":""}]
[1920926002,19,{"v":209,"d":"209 "},{"v":26,"d":"26 "},{"v":2,"d":"002 "},"山梨県","北杜市","小淵沢村","本町",null,"","",{"$f":"IF(K889=\"\",\"\",COUNTIF($K$7:K889,\"ﾘｽﾄ１\"))","v":""},"","","","","","","",{"$f":"IF(S889=\"\",\"\",COUNTIF($S$7:S889,\"該当２\"))","v":""},"","",{"$f":"IF(V889=\"\",\"\",COUNTIF($V$7:V889,\"該当３\"))","v":""}]
[1920926003,19,{"v":209,"d":"209 "},{"v":26,"d":"26 "},{"v":3,"d":"003 "},"山梨県","北杜市","小淵沢村","宮久保",null,"","",{"$f":"IF(K890=\"\",\"\",COUNTIF($K$7:K890,\"ﾘｽﾄ１\"))","v":""},"","","","","","","",{"$f":"IF(S890=\"\",\"\",COUNTIF($S$7:S890,\"該当２\"))","v":""},"","",{"$f":"IF(V890=\"\",\"\",COUNTIF($V$7:V890,\"該当３\"))","v":""}]
[1920926004,19,{"v":209,"d":"209 "},{"v":26,"d":"26 "},{"v":4,"d":"004 "},"山梨県","北杜市","小淵沢村","高野",null,"","",{"$f":"IF(K891=\"\",\"\",COUNTIF($K$7:K891,\"ﾘｽﾄ１\"))","v":""},"","","","","","","",{"$f":"IF(S891=\"\",\"\",COUNTIF($S$7:S891,\"該当２\"))","v":""},"","",{"$f":"IF(V891=\"\",\"\",COUNTIF($V$7:V891,\"該当３\"))","v":""}]
[1920926005,19,{"v":209,"d":"209 "},{"v":26,"d":"26 "},{"v":5,"d":"005 "},"山梨県","北杜市","小淵沢村","久保",null,"","",{"$f":"IF(K892=\"\",\"\",COUNTIF($K$7:K892,\"ﾘｽﾄ１\"))","v":""},"","","","","","","",{"$f":"IF(S892=\"\",\"\",COUNTIF($S$7:S892,\"該当２\"))","v":""},"","",{"$f":"IF(V892=\"\",\"\",COUNTIF($V$7:V892,\"該当３\"))","v":""}]
[1920926006,19,{"v":209,"d":"209 "},{"v":26,"d":"26 "},{"v":6,"d":"006 "},"山梨県","北杜市","小淵沢村","岩窪",null,"","",{"$f":"IF(K893=\"\",\"\",COUNTIF($K$7:K893,\"ﾘｽﾄ１\"))","v":""},"","","","","","","",{"$f":"IF(S893=\"\",\"\",COUNTIF($S$7:S893,\"該当２\"))","v":""},"","",{"$f":"IF(V893=\"\",\"\",COUNTIF($V$7:V893,\"該当３\"))","v":""}]
[1920926007,19,{"v":209,"d":"209 "},{"v":26,"d":"26 "},{"v":7,"d":"007 "},"山梨県","北杜市","小淵沢村","大富",null,"","",{"$f":"IF(K894=\"\",\"\",COUNTIF($K$7:K894,\"ﾘｽﾄ１\"))","v":""},"","","","","","","",{"$f":"IF(S894=\"\",\"\",COUNTIF($S$7:S894,\"該当２\"))","v":""},"","",{"$f":"IF(V894=\"\",\"\",COUNTIF($V$7:V894,\"該当３\"))","v":""}]
[1920926008,19,{"v":209,"d":"209 "},{"v":26,"d":"26 "},{"v":8,"d":"008 "},"山梨県","北杜市","小淵沢村","東和",null,"","",{"$f":"IF(K895=\"\",\"\",COUNTIF($K$7:K895,\"ﾘｽﾄ１\"))","v":""},"","","","","","","",{"$f":"IF(S895=\"\",\"\",COUNTIF($S$7:S895,\"該当２\"))","v":""},"","",{"$f":"IF(V895=\"\",\"\",COUNTIF($V$7:V895,\"該当３\"))","v":""}]
[1920926009,19,{"v":209,"d":"209 "},{"v":26,"d":"26 "},{"v":9,"d":"009 "},"山梨県","北杜市","小淵沢村","豊畑",null,"","",{"$f":"IF(K896=\"\",\"\",COUNTIF($K$7:K896,\"ﾘｽﾄ１\"))","v":""},"","","","","","","",{"$f":"IF(S896=\"\",\"\",COUNTIF($S$7:S896,\"該当２\"))","v":""},"","",{"$f":"IF(V896=\"\",\"\",COUNTIF($V$7:V896,\"該当３\"))","v":""}]
[1920927000,19,{"v":209,"d":"209 "},{"v":27,"d":"27 "},{"v":0,"d":"000 "},"山梨県","北杜市","篠尾村",null,null,"","",{"$f":"IF(K897=\"\",\"\",COUNTIF($K$7:K897,\"ﾘｽﾄ１\"))","v":""},"","","","","","","",{"$f":"IF(S897=\"\",\"\",COUNTIF($S$7:S897,\"該当２\"))","v":""},"","",{"$f":"IF(V897=\"\",\"\",COUNTIF($V$7:V897,\"該当３\"))","v":""}]
[1920927001,19,{"v":209,"d":"209 "},{"v":27,"d":"27 "},{"v":1,"d":"001 "},"山梨県","北杜市","篠尾村","上笹尾",null,"","",{"$f":"IF(K898=\"\",\"\",COUNTIF($K$7:K898,\"ﾘｽﾄ１\"))","v":""},"","","","","","","",{"$f":"IF(S898=\"\",\"\",COUNTIF($S$7:S898,\"該当２\"))","v":""},"","",{"$f":"IF(V898=\"\",\"\",COUNTIF($V$7:V898,\"該当３\"))","v":""}]
[1920927002,19,{"v":209,"d":"209 "},{"v":27,"d":"27 "},{"v":2,"d":"002 "},"山梨県","北杜市","篠尾村","下笹尾",null,"","",{"$f":"IF(K899=\"\",\"\",COUNTIF($K$7:K899,\"ﾘｽﾄ１\"))","v":""},"","","","","","","",{"$f":"IF(S899=\"\",\"\",COUNTIF($S$7:S899,\"該当２\"))","v":""},"","",{"$f":"IF(V899=\"\",\"\",COUNTIF($V$7:V899,\"該当３\"))","v":""}]
[1920927003,19,{"v":209,"d":"209 "},{"v":27,"d":"27 "},{"v":3,"d":"003 "},"山梨県","北杜市","篠尾村","松向",null,"","",{"$f":"IF(K900=\"\",\"\",COUNTIF($K$7:K900,\"ﾘｽﾄ１\"))","v":""},"","","","","","","",{"$f":"IF(S900=\"\",\"\",COUNTIF($S$7:S900,\"該当２\"))","v":""},"","",{"$f":"IF(V900=\"\",\"\",COUNTIF($V$7:V900,\"該当３\"))","v":""}]
[1920927004,19,{"v":209,"d":"209 "},{"v":27,"d":"27 "},{"v":4,"d":"004 "},"山梨県","北杜市","篠尾村","篠原",null,"","",{"$f":"IF(K901=\"\",\"\",COUNTIF($K$7:K901,\"ﾘｽﾄ１\"))","v":""},"","","","","","","",{"$f":"IF(S901=\"\",\"\",COUNTIF($S$7:S901,\"該当２\"))","v":""},"","",{"$f":"IF(V901=\"\",\"\",COUNTIF($V$7:V901,\"該当３\"))","v":""}]
[1921000000,19,{"v":210,"d":"210 "},{"v":0,"d":"00 "},{"v":0,"d":"000 "},"山梨県","甲斐市",{"$nulls":3},"ﾘｽﾄ１","甲斐市",{"$f":"IF(K902=\"\",\"\",COUNTIF($K$7:K902,\"ﾘｽﾄ１\"))","v":9},"","","","","","","",{"$f":"IF(S902=\"\",\"\",COUNTIF($S$7:S902,\"該当２\"))","v":""},"","",{"$f":"IF(V902=\"\",\"\",COUNTIF($V$7:V902,\"該当３\"))","v":""}]
[1921001000,19,{"v":210,"d":"210 "},{"v":1,"d":"01 "},{"v":0,"d":"000 "},"山梨県","甲斐市","竜王村",null,null,"","",{"$f":"IF(K903=\"\",\"\",COUNTIF($K$7:K903,\"ﾘｽﾄ１\"))","v":""},"","","","","","","",{"$f":"IF(S903=\"\",\"\",COUNTIF($S$7:S903,\"該当２\"))","v":""},"","",{"$f":"IF(V903=\"\",\"\",COUNTIF($V$7:V903,\"該当３\"))","v":""}]
[1921001001,19,{"v":210,"d":"210 "},{"v":1,"d":"01 "},{"v":1,"d":"001 "},"山梨県","甲斐市","竜王村","竜王一区",null,"","",{"$f":"IF(K904=\"\",\"\",COUNTIF($K$7:K904,\"ﾘｽﾄ１\"))","v":""},"","","","","","","",{"$f":"IF(S904=\"\",\"\",COUNTIF($S$7:S904,\"該当２\"))","v":""},"","",{"$f":"IF(V904=\"\",\"\",COUNTIF($V$7:V904,\"該当３\"))","v":""}]
[1921001002,19,{"v":210,"d":"210 "},{"v":1,"d":"01 "},{"v":2,"d":"002 "},"山梨県","甲斐市","竜王村","竜王二区",null,"","",{"$f":"IF(K905=\"\",\"\",COUNTIF($K$7:K905,\"ﾘｽﾄ１\"))","v":""},"","","","","","","",{"$f":"IF(S905=\"\",\"\",COUNTIF($S$7:S905,\"該当２\"))","v":""},"","",{"$f":"IF(V905=\"\",\"\",COUNTIF($V$7:V905,\"該当３\"))","v":""}]
[1921001003,19,{"v":210,"d":"210 "},{"v":1,"d":"01 "},{"v":3,"d":"003 "},"山梨県","甲斐市","竜王村","竜王三区",null,"","",{"$f":"IF(K906=\"\",\"\",COUNTIF($K$7:K906,\"ﾘｽﾄ１\"))","v":""},"","",{"$f":"IF(O906=\"該当１\",G906,\"\")","v":""},{"$f":"IF(O906=\"該当１\",\"ﾘｽﾄ2\",\"\")","v":""},{"$f":"IF(Q906=\"ﾘｽﾄ2\",H906,\"\")","v":""},"",{"$f":"IF(S906=\"該当２\",H906,\"\")","v":""},{"$f":"IF(S906=\"\",\"\",COUNTIF($S$7:S906,\"該当２\"))","v":""},{"$f":"IF(AND($S$2=H906,E906>0,E906<998),\"該当３\",\"\")","v":""},{"$f":"IF(V906=\"該当３\",I906,\"\")","v":""},{"$f":"IF(V906=\"\",\"\",COUNTIF($V$7:V906,\"該当３\"))","v":""}]
[1921001004,19,{"v":210,"d":"210 "},{"v":1,"d":"01 "},{"v":4,"d":"004 "},"山梨県","甲斐市","竜王村","四ツ谷",null,{"$f":"IF(AND($C907>0,$H907=\"\"),\"ﾘｽﾄ１\",\"\")","v":""},{"$f":"IF(K907=\"ﾘｽﾄ１\",G907,\"\")","v":""},{"$f":"IF(K907=\"\",\"\",COUNTIF($K$7:K907,\"ﾘｽﾄ１\"))","v":""},{"$f":"IF(AND(D907=0,E907>0),\"同一区\",\"\")","v":""},{"$f":"IF(AND(EXACT($K$2,G907),H907>0),\"該当１\",\"\")","v":""},"","","",{"$f":"IF(AND(Q907=\"ﾘｽﾄ2\",OR(I907=0,AND(N907=\"同一区\",E907=1))),\"該当２\",\"\")","v":""},"",{"$f":"IF(S907=\"\",\"\",COUNTIF($S$7:S907,\"該当２\"))","v":""},"","",{"$f":"IF(V907=\"\",\"\",COUNTIF($V$7:V907,\"該当３\"))","v":""}]
[1921001005,19,{"v":210,"d":"210 "},{"v":1,"d":"01 "},{"v":5,"d":"005 "},"山梨県","甲斐市","竜王村","上篠原",null,"","",{"$f":"IF(K908=\"\",\"\",COUNTIF($K$7:K908,\"ﾘｽﾄ１\"))","v":""},"","","","","","","",{"$f":"IF(S908=\"\",\"\",COUNTIF($S$7:S908,\"該当２\"))","v":""},"","",{"$f":"IF(V908=\"\",\"\",COUNTIF($V$7:V908,\"該当３\"))","v":""}]
[1921001006,19,{"v":210,"d":"210 "},{"v":1,"d":"01 "},{"v":6,"d":"006 "},"山梨県","甲斐市","竜王村","古村",null,"","",{"$f":"IF(K909=\"\",\"\",COUNTIF($K$7:K909,\"ﾘｽﾄ１\"))","v":""},"","","","","","","",{"$f":"IF(S909=\"\",\"\",COUNTIF($S$7:S909,\"該当２\"))","v":""},"","",{"$f":"IF(V909=\"\",\"\",COUNTIF($V$7:V909,\"該当３\"))","v":""}]
[1921001007,19,{"v":210,"d":"210 "},{"v":1,"d":"01 "},{"v":7,"d":"007 "},"山梨県","甲斐市","竜王村","新居",null,"","",{"$f":"IF(K910=\"\",\"\",COUNTIF($K$7:K910,\"ﾘｽﾄ１\"))","v":""},"","","","","","","",{"$f":"IF(S910=\"\",\"\",COUNTIF($S$7:S910,\"該当２\"))","v":""},"","",{"$f":"IF(V910=\"\",\"\",COUNTIF($V$7:V910,\"該当３\"))","v":""}]
[1921001008,19,{"v":210,"d":"210 "},{"v":1,"d":"01 "},{"v":8,"d":"008 "},"山梨県","甲斐市","竜王村","仲新居",null,"","",{"$f":"IF(K911=\"\",\"\",COUNTIF($K$7:K911,\"ﾘｽﾄ１\"))","v":""},"","","","","","","",{"$f":"IF(S911=\"\",\"\",COUNTIF($S$7:S911,\"該当２\"))","v":""},"","",{"$f":"IF(V911=\"\",\"\",COUNTIF($V$7:V911,\"該当３\"))","v":""}]
[1921001009,19,{"v":210,"d":"210 "},{"v":1,"d":"01 "},{"v":9,"d":"009 "},"山梨県","甲斐市","竜王村","榎",null,"","",{"$f":"IF(K912=\"\",\"\",COUNTIF($K$7:K912,\"ﾘｽﾄ１\"))","v":""},"","","","","","","",{"$f":"IF(S912=\"\",\"\",COUNTIF($S$7:S912,\"該当２\"))","v":""},"","",{"$f":"IF(V912=\"\",\"\",COUNTIF($V$7:V912,\"該当３\"))","v":""}]
[1921001010,19,{"v":210,"d":"210 "},{"v":1,"d":"01 "},{"v":10,"d":"010 "},"山梨県","甲斐市","竜王村","田中",null,"","",{"$f":"IF(K913=\"\",\"\",COUNTIF($K$7:K913,\"ﾘｽﾄ１\"))","v":""},"","","","","","","",{"$f":"IF(S913=\"\",\"\",COUNTIF($S$7:S913,\"該当２\"))","v":""},"","",{"$f":"IF(V913=\"\",\"\",COUNTIF($V$7:V913,\"該当３\"))","v":""}]
[1921001011,19,{"v":210,"d":"210 "},{"v":1,"d":"01 "},{"v":11,"d":"011 "},"山梨県","甲斐市","竜王村","万才",null,"","",{"$f":"IF(K914=\"\",\"\",COUNTIF($K$7:K914,\"ﾘｽﾄ１\"))","v":""},"","","","","","","",{"$f":"IF(S914=\"\",\"\",COUNTIF($S$7:S914,\"該当２\"))","v":""},"","",{"$f":"IF(V914=\"\",\"\",COUNTIF($V$7:V914,\"該当３\"))","v":""}]
[1921001012,19,{"v":210,"d":"210 "},{"v":1,"d":"01 "},{"v":12,"d":"012 "},"山梨県","甲斐市","竜王村","富竹新田",null,"","",{"$f":"IF(K915=\"\",\"\",COUNTIF($K$7:K915,\"ﾘｽﾄ１\"))","v":""},"","","","","","","",{"$f":"IF(S915=\"\",\"\",COUNTIF($S$7:S915,\"該当２\"))","v":""},"","",{"$f":"IF(V915=\"\",\"\",COUNTIF($V$7:V915,\"該当３\"))","v":""}]
[1921001013,19,{"v":210,"d":"210 "},{"v":1,"d":"01 "},{"v":13,"d":"013 "},"山梨県","甲斐市","竜王村","竜王新町",null,"","",{"$f":"IF(K916=\"\",\"\",COUNTIF($K$7:K916,\"ﾘｽﾄ１\"))","v":""},"","","","","","","",{"$f":"IF(S916=\"\",\"\",COUNTIF($S$7:S916,\"該当２\"))","v":""},"","",{"$f":"IF(V916=\"\",\"\",COUNTIF($V$7:V916,\"該当３\"))","v":""}]
[1921002000,19,{"v":210,"d":"210 "},{"v":2,"d":"02 "},{"v":0,"d":"000 "},"山梨県","甲斐市","玉幡村",null,null,"","",{"$f":"IF(K917=\"\",\"\",COUNTIF($K$7:K917,\"ﾘｽﾄ１\"))","v":""},"","","","","","","",{"$f":"IF(S917=\"\",\"\",COUNTIF($S$7:S917,\"該当２\"))","v":""},"","",{"$f":"IF(V917=\"\",\"\",COUNTIF($V$7:V917,\"該当３\"))","v":""}]
[1921002001,19,{"v":210,"d":"210 "},{"v":2,"d":"02 "},{"v":1,"d":"001 "},"山梨県","甲斐市","玉幡村","上八幡",null,"","",{"$f":"IF(K918=\"\",\"\",COUNTIF($K$7:K918,\"ﾘｽﾄ１\"))","v":""},"","","","","","","",{"$f":"IF(S918=\"\",\"\",COUNTIF($S$7:S918,\"該当２\"))","v":""},"","",{"$f":"IF(V918=\"\",\"\",COUNTIF($V$7:V918,\"該当３\"))","v":""}]
[1921002002,19,{"v":210,"d":"210 "},{"v":2,"d":"02 "},{"v":2,"d":"002 "},"山梨県","甲斐市","玉幡村","中八幡",null,"","",{"$f":"IF(K919=\"\",\"\",COUNTIF($K$7:K919,\"ﾘｽﾄ１\"))","v":""},"","","","","","","",{"$f":"IF(S919=\"\",\"\",COUNTIF($S$7:S919,\"該当２\"))","v":""},"","",{"$f":"IF(V919=\"\",\"\",COUNTIF($V$7:V919,\"該当３\"))","v":""}]
[1921002003,19,{"v":210,"d":"210 "},{"v":2,"d":"02 "},{"v":3,"d":"003 "},"山梨県","甲斐市","玉幡村","下八幡",null,"","",{"$f":"IF(K920=\"\",\"\",COUNTIF($K$7:K920,\"ﾘｽﾄ１\"))","v":""},"","","","","","","",{"$f":"IF(S920=\"\",\"\",COUNTIF($S$7:S920,\"該当２\"))","v":""},"","",{"$f":"IF(V920=\"\",\"\",COUNTIF($V$7:V920,\"該当３\"))","v":""}]
[1921002004,19,{"v":210,"d":"210 "},{"v":2,"d":"02 "},{"v":4,"d":"004 "},"山梨県","甲斐市","玉幡村","八幡新田",null,"","",{"$f":"IF(K921=\"\",\"\",COUNTIF($K$7:K921,\"ﾘｽﾄ１\"))","v":""},"","","","","","","",{"$f":"IF(S921=\"\",\"\",COUNTIF($S$7:S921,\"該当２\"))","v":""},"","",{"$f":"IF(V921=\"\",\"\",COUNTIF($V$7:V921,\"該当３\"))","v":""}]
[1921002005,19,{"v":210,"d":"210 "},{"v":2,"d":"02 "},{"v":5,"d":"005 "},"山梨県","甲斐市","玉幡村","玉川",null,"","",{"$f":"IF(K922=\"\",\"\",COUNTIF($K$7:K922,\"ﾘｽﾄ１\"))","v":""},"","","","","","","",{"$f":"IF(S922=\"\",\"\",COUNTIF($S$7:S922,\"該当２\"))","v":""},"","",{"$f":"IF(V922=\"\",\"\",COUNTIF($V$7:V922,\"該当３\"))","v":""}]
[1921003000,19,{"v":210,"d":"210 "},{"v":3,"d":"03 "},{"v":0,"d":"000 "},"山梨県","甲斐市","敷島町２－２",null,null,"","",{"$f":"IF(K923=\"\",\"\",COUNTIF($K$7:K923,\"ﾘｽﾄ１\"))","v":""},"","","","","","","",{"$f":"IF(S923=\"\",\"\",COUNTIF($S$7:S923,\"該当２\"))","v":""},"","",{"$f":"IF(V923=\"\",\"\",COUNTIF($V$7:V923,\"該当３\"))","v":""}]
[1921003001,19,{"v":210,"d":"210 "},{"v":3,"d":"03 "},{"v":1,"d":"001 "},"山梨県","甲斐市","敷島町２－２","名取",null,"","",{"$f":"IF(K924=\"\",\"\",COUNTIF($K$7:K924,\"ﾘｽﾄ１\"))","v":""},"","","","","","","",{"$f":"IF(S924=\"\",\"\",COUNTIF($S$7:S924,\"該当２\"))","v":""},"","",{"$f":"IF(V924=\"\",\"\",COUNTIF($V$7:V924,\"該当３\"))","v":""}]
[1921004000,19,{"v":210,"d":"210 "},{"v":4,"d":"04 "},{"v":0,"d":"000 "},"山梨県","甲斐市","吉沢村",null,null,"","",{"$f":"IF(K925=\"\",\"\",COUNTIF($K$7:K925,\"ﾘｽﾄ１\"))","v":""},"","","","","","","",{"$f":"IF(S925=\"\",\"\",COUNTIF($S$7:S925,\"該当２\"))","v":""},"","",{"$f":"IF(V925=\"\",\"\",COUNTIF($V$7:V925,\"該当３\"))","v":""}]
[1921004001,19,{"v":210,"d":"210 "},{"v":4,"d":"04 "},{"v":1,"d":"001 "},"山梨県","甲斐市","吉沢村","窪田",null,"","",{"$f":"IF(K926=\"\",\"\",COUNTIF($K$7:K926,\"ﾘｽﾄ１\"))","v":""},"","","","","","","",{"$f":"IF(S926=\"\",\"\",COUNTIF($S$7:S926,\"該当２\"))","v":""},"","",{"$f":"IF(V926=\"\",\"\",COUNTIF($V$7:V926,\"該当３\"))","v":""}]
[1921004002,19,{"v":210,"d":"210 "},{"v":4,"d":"04 "},{"v":2,"d":"002 "},"山梨県","甲斐市","吉沢村","中島",null,"","",{"$f":"IF(K927=\"\",\"\",COUNTIF($K$7:K927,\"ﾘｽﾄ１\"))","v":""},"","","","","","","",{"$f":"IF(S927=\"\",\"\",COUNTIF($S$7:S927,\"該当２\"))","v":""},"","",{"$f":"IF(V927=\"\",\"\",COUNTIF($V$7:V927,\"該当３\"))","v":""}]
[1921004003,19,{"v":210,"d":"210 "},{"v":4,"d":"04 "},{"v":3,"d":"003 "},"山梨県","甲斐市","吉沢村","寺平",null,"","",{"$f":"IF(K928=\"\",\"\",COUNTIF($K$7:K928,\"ﾘｽﾄ１\"))","v":""},"","","","","","","",{"$f":"IF(S928=\"\",\"\",COUNTIF($S$7:S928,\"該当２\"))","v":""},"","",{"$f":"IF(V928=\"\",\"\",COUNTIF($V$7:V928,\"該当３\"))","v":""}]
[1921004004,19,{"v":210,"d":"210 "},{"v":4,"d":"04 "},{"v":4,"d":"004 "},"山梨県","甲斐市","吉沢村","外道",null,"","",{"$f":"IF(K929=\"\",\"\",COUNTIF($K$7:K929,\"ﾘｽﾄ１\"))","v":""},"","","","","","","",{"$f":"IF(S929=\"\",\"\",COUNTIF($S$7:S929,\"該当２\"))","v":""},"","",{"$f":"IF(V929=\"\",\"\",COUNTIF($V$7:V929,\"該当３\"))","v":""}]
[1921004005,19,{"v":210,"d":"210 "},{"v":4,"d":"04 "},{"v":5,"d":"005 "},"山梨県","甲斐市","吉沢村","千田",null,"","",{"$f":"IF(K930=\"\",\"\",COUNTIF($K$7:K930,\"ﾘｽﾄ１\"))","v":""},"","","","","","","",{"$f":"IF(S930=\"\",\"\",COUNTIF($S$7:S930,\"該当２\"))","v":""},"","",{"$f":"IF(V930=\"\",\"\",COUNTIF($V$7:V930,\"該当３\"))","v":""}]
[1921005000,19,{"v":210,"d":"210 "},{"v":5,"d":"05 "},{"v":0,"d":"000 "},"山梨県","甲斐市","清川村",null,null,"","",{"$f":"IF(K931=\"\",\"\",COUNTIF($K$7:K931,\"ﾘｽﾄ１\"))","v":""},"","","","","","","",{"$f":"IF(S931=\"\",\"\",COUNTIF($S$7:S931,\"該当２\"))","v":""},"","",{"$f":"IF(V931=\"\",\"\",COUNTIF($V$7:V931,\"該当３\"))","v":""}]
[1921005001,19,{"v":210,"d":"210 "},{"v":5,"d":"05 "},{"v":1,"d":"001 "},"山梨県","甲斐市","清川村","下菅口",null,"","",{"$f":"IF(K932=\"\",\"\",COUNTIF($K$7:K932,\"ﾘｽﾄ１\"))","v":""},"","","","","","","",{"$f":"IF(S932=\"\",\"\",COUNTIF($S$7:S932,\"該当２\"))","v":""},"","",{"$f":"IF(V932=\"\",\"\",COUNTIF($V$7:V932,\"該当３\"))","v":""}]
[1921005002,19,{"v":210,"d":"210 "},{"v":5,"d":"05 "},{"v":2,"d":"002 "},"山梨県","甲斐市","清川村","安寺",null,"","",{"$f":"IF(K933=\"\",\"\",COUNTIF($K$7:K933,\"ﾘｽﾄ１\"))","v":""},"","","","","","","",{"$f":"IF(S933=\"\",\"\",COUNTIF($S$7:S933,\"該当２\"))","v":""},"","",{"$f":"IF(V933=\"\",\"\",COUNTIF($V$7:V933,\"該当３\"))","v":""}]
[1921005003,19,{"v":210,"d":"210 "},{"v":5,"d":"05 "},{"v":3,"d":"003 "},"山梨県","甲斐市","清川村","下福沢",null,"","",{"$f":"IF(K934=\"\",\"\",COUNTIF($K$7:K934,\"ﾘｽﾄ１\"))","v":""},"","","","","","","",{"$f":"IF(S934=\"\",\"\",COUNTIF($S$7:S934,\"該当２\"))","v":""},"","",{"$f":"IF(V934=\"\",\"\",COUNTIF($V$7:V934,\"該当３\"))","v":""}]
[1921005004,19,{"v":210,"d":"210 "},{"v":5,"d":"05 "},{"v":4,"d":"004 "},"山梨県","甲斐市","清川村","神戸",null,"","",{"$f":"IF(K935=\"\",\"\",COUNTIF($K$7:K935,\"ﾘｽﾄ１\"))","v":""},"","","","","","","",{"$f":"IF(S935=\"\",\"\",COUNTIF($S$7:S935,\"該当２\"))","v":""},"","",{"$f":"IF(V935=\"\",\"\",COUNTIF($V$7:V935,\"該当３\"))","v":""}]
[1921005005,19,{"v":210,"d":"210 "},{"v":5,"d":"05 "},{"v":5,"d":"005 "},"山梨県","甲斐市","清川村","上福沢",null,"","",{"$f":"IF(K936=\"\",\"\",COUNTIF($K$7:K936,\"ﾘｽﾄ１\"))","v":""},"","","","","","","",{"$f":"IF(S936=\"\",\"\",COUNTIF($S$7:S936,\"該当２\"))","v":""},"","",{"$f":"IF(V936=\"\",\"\",COUNTIF($V$7:V936,\"該当３\"))","v":""}]
[1921005006,19,{"v":210,"d":"210 "},{"v":5,"d":"05 "},{"v":6,"d":"006 "},"山梨県","甲斐市","清川村","下芦沢",null,"","",{"$f":"IF(K937=\"\",\"\",COUNTIF($K$7:K937,\"ﾘｽﾄ１\"))","v":""},"","","","","","","",{"$f":"IF(S937=\"\",\"\",COUNTIF($S$7:S937,\"該当２\"))","v":""},"","",{"$f":"IF(V937=\"\",\"\",COUNTIF($V$7:V937,\"該当３\"))","v":""}]
[1921005007,19,{"v":210,"d":"210 "},{"v":5,"d":"05 "},{"v":7,"d":"007 "},"山梨県","甲斐市","清川村","上芦沢",null,"","",{"$f":"IF(K938=\"\",\"\",COUNTIF($K$7:K938,\"ﾘｽﾄ１\"))","v":""},"","","","","","","",{"$f":"IF(S938=\"\",\"\",COUNTIF($S$7:S938,\"該当２\"))","v":""},"","",{"$f":"IF(V938=\"\",\"\",COUNTIF($V$7:V938,\"該当３\"))","v":""}]
[1921005008,19,{"v":210,"d":"210 "},{"v":5,"d":"05 "},{"v":8,"d":"008 "},"山梨県","甲斐市","清川村","平見城",null,"","",{"$f":"IF(K939=\"\",\"\",COUNTIF($K$7:K939,\"ﾘｽﾄ１\"))","v":""},"","","","","","","",{"$f":"IF(S939=\"\",\"\",COUNTIF($S$7:S939,\"該当２\"))","v":""},"","",{"$f":"IF(V939=\"\",\"\",COUNTIF($V$7:V939,\"該当３\"))","v":""}]
[1921006000,19,{"v":210,"d":"210 "},{"v":6,"d":"06 "},{"v":0,"d":"000 "},"山梨県","甲斐市","睦沢村",null,null,"","",{"$f":"IF(K940=\"\",\"\",COUNTIF($K$7:K940,\"ﾘｽﾄ１\"))","v":""},"","","","","","","",{"$f":"IF(S940=\"\",\"\",COUNTIF($S$7:S940,\"該当２\"))","v":""},"","",{"$f":"IF(V940=\"\",\"\",COUNTIF($V$7:V940,\"該当３\"))","v":""}]
[1921006001,19,{"v":210,"d":"210 "},{"v":6,"d":"06 "},{"v":1,"d":"001 "},"山梨県","甲斐市","睦沢村","大下",null,"","",{"$f":"IF(K941=\"\",\"\",COUNTIF($K$7:K941,\"ﾘｽﾄ１\"))","v":""},"","","","","","","",{"$f":"IF(S941=\"\",\"\",COUNTIF($S$7:S941,\"該当２\"))","v":""},"","",{"$f":"IF(V941=\"\",\"\",COUNTIF($V$7:V941,\"該当３\"))","v":""}]
[1921006002,19,{"v":210,"d":"210 "},{"v":6,"d":"06 "},{"v":2,"d":"002 "},"山梨県","甲斐市","睦沢村","中下",null,"","",{"$f":"IF(K942=\"\",\"\",COUNTIF($K$7:K942,\"ﾘｽﾄ１\"))","v":""},"","","","","","","",{"$f":"IF(S942=\"\",\"\",COUNTIF($S$7:S942,\"該当２\"))","v":""},"","",{"$f":"IF(V942=\"\",\"\",COUNTIF($V$7:V942,\"該当３\"))","v":""}]
[1921006003,19,{"v":210,"d":"210 "},{"v":6,"d":"06 "},{"v":3,"d":"003 "},"山梨県","甲斐市","睦沢村","中村",null,"","",{"$f":"IF(K943=\"\",\"\",COUNTIF($K$7:K943,\"ﾘｽﾄ１\"))","v":""},"","","","","","","",{"$f":"IF(S943=\"\",\"\",COUNTIF($S$7:S943,\"該当２\"))","v":""},"","",{"$f":"IF(V943=\"\",\"\",COUNTIF($V$7:V943,\"該当３\"))","v":""}]
[1921006004,19,{"v":210,"d":"210 "},{"v":6,"d":"06 "},{"v":4,"d":"004 "},"山梨県","甲斐市","睦沢村","久保",null,"","",{"$f":"IF(K944=\"\",\"\",COUNTIF($K$7:K944,\"ﾘｽﾄ１\"))","v":""},"","","","","","","",{"$f":"IF(S944=\"\",\"\",COUNTIF($S$7:S944,\"該当２\"))","v":""},"","",{"$f":"IF(V944=\"\",\"\",COUNTIF($V$7:V944,\"該当３\"))","v":""}]
[1921006005,19,{"v":210,"d":"210 "},{"v":6,"d":"06 "},{"v":5,"d":"005 "},"山梨県","甲斐市","睦沢村","藤ノ木",null,"","",{"$f":"IF(K945=\"\",\"\",COUNTIF($K$7:K945,\"ﾘｽﾄ１\"))","v":""},"","","","","","","",{"$f":"IF(S945=\"\",\"\",COUNTIF($S$7:S945,\"該当２\"))","v":""},"","",{"$f":"IF(V945=\"\",\"\",COUNTIF($V$7:V945,\"該当３\"))","v":""}]
[1921006006,19,{"v":210,"d":"210 "},{"v":6,"d":"06 "},{"v":6,"d":"006 "},"山梨県","甲斐市","睦沢村","打返",null,"","",{"$f":"IF(K946=\"\",\"\",COUNTIF($K$7:K946,\"ﾘｽﾄ１\"))","v":""},"","","","","","","",{"$f":"IF(S946=\"\",\"\",COUNTIF($S$7:S946,\"該当２\"))","v":""},"","",{"$f":"IF(V946=\"\",\"\",COUNTIF($V$7:V946,\"該当３\"))","v":""}]
[1921006007,19,{"v":210,"d":"210 "},{"v":6,"d":"06 "},{"v":7,"d":"007 "},"山梨県","甲斐市","睦沢村","漆戸",null,"","",{"$f":"IF(K947=\"\",\"\",COUNTIF($K$7:K947,\"ﾘｽﾄ１\"))","v":""},"","","","","","","",{"$f":"IF(S947=\"\",\"\",COUNTIF($S$7:S947,\"該当２\"))","v":""},"","",{"$f":"IF(V947=\"\",\"\",COUNTIF($V$7:V947,\"該当３\"))","v":""}]
[1921006008,19,{"v":210,"d":"210 "},{"v":6,"d":"06 "},{"v":8,"d":"008 "},"山梨県","甲斐市","睦沢村","獅子平",null,"","",{"$f":"IF(K948=\"\",\"\",COUNTIF($K$7:K948,\"ﾘｽﾄ１\"))","v":""},"","","","","","","",{"$f":"IF(S948=\"\",\"\",COUNTIF($S$7:S948,\"該当２\"))","v":""},"","",{"$f":"IF(V948=\"\",\"\",COUNTIF($V$7:V948,\"該当３\"))","v":""}]
[1921006009,19,{"v":210,"d":"210 "},{"v":6,"d":"06 "},{"v":9,"d":"009 "},"山梨県","甲斐市","睦沢村","上菅口",null,"","",{"$f":"IF(K949=\"\",\"\",COUNTIF($K$7:K949,\"ﾘｽﾄ１\"))","v":""},"","","","","","","",{"$f":"IF(S949=\"\",\"\",COUNTIF($S$7:S949,\"該当２\"))","v":""},"","",{"$f":"IF(V949=\"\",\"\",COUNTIF($V$7:V949,\"該当３\"))","v":""}]
[1921006010,19,{"v":210,"d":"210 "},{"v":6,"d":"06 "},{"v":10,"d":"010 "},"山梨県","甲斐市","睦沢村","大明神",null,"","",{"$f":"IF(K950=\"\",\"\",COUNTIF($K$7:K950,\"ﾘｽﾄ１\"))","v":""},"","","","","","","",{"$f":"IF(S950=\"\",\"\",COUNTIF($S$7:S950,\"該当２\"))","v":""},"","",{"$f":"IF(V950=\"\",\"\",COUNTIF($V$7:V950,\"該当３\"))","v":""}]
[1921007000,19,{"v":210,"d":"210 "},{"v":7,"d":"07 "},{"v":0,"d":"000 "},"山梨県","甲斐市","敷島町２－１",null,null,"","",{"$f":"IF(K951=\"\",\"\",COUNTIF($K$7:K951,\"ﾘｽﾄ１\"))","v":""},"","","","","","","",{"$f":"IF(S951=\"\",\"\",COUNTIF($S$7:S951,\"該当２\"))","v":""},"","",{"$f":"IF(V951=\"\",\"\",COUNTIF($V$7:V951,\"該当３\"))","v":""}]
[1921007001,19,{"v":210,"d":"210 "},{"v":7,"d":"07 "},{"v":1,"d":"001 "},"山梨県","甲斐市","敷島町２－１","牛句",null,"","",{"$f":"IF(K952=\"\",\"\",COUNTIF($K$7:K952,\"ﾘｽﾄ１\"))","v":""},"","","","","","","",{"$f":"IF(S952=\"\",\"\",COUNTIF($S$7:S952,\"該当２\"))","v":""},"","",{"$f":"IF(V952=\"\",\"\",COUNTIF($V$7:V952,\"該当３\"))","v":""}]
[1921007002,19,{"v":210,"d":"210 "},{"v":7,"d":"07 "},{"v":2,"d":"002 "},"山梨県","甲斐市","敷島町２－１","境",null,"","",{"$f":"IF(K953=\"\",\"\",COUNTIF($K$7:K953,\"ﾘｽﾄ１\"))","v":""},"","","","","","","",{"$f":"IF(S953=\"\",\"\",COUNTIF($S$7:S953,\"該当２\"))","v":""},"","",{"$f":"IF(V953=\"\",\"\",COUNTIF($V$7:V953,\"該当３\"))","v":""}]
[1921007003,19,{"v":210,"d":"210 "},{"v":7,"d":"07 "},{"v":3,"d":"003 "},"山梨県","甲斐市","敷島町２－１","上町",null,"","",{"$f":"IF(K954=\"\",\"\",COUNTIF($K$7:K954,\"ﾘｽﾄ１\"))","v":""},"","","","","","","",{"$f":"IF(S954=\"\",\"\",COUNTIF($S$7:S954,\"該当２\"))","v":""},"","",{"$f":"IF(V954=\"\",\"\",COUNTIF($V$7:V954,\"該当３\"))","v":""}]
[1921007004,19,{"v":210,"d":"210 "},{"v":7,"d":"07 "},{"v":4,"d":"004 "},"山梨県","甲斐市","敷島町２－１","竪町",null,"","",{"$f":"IF(K955=\"\",\"\",COUNTIF($K$7:K955,\"ﾘｽﾄ１\"))","v":""},"","","","","","","",{"$f":"IF(S955=\"\",\"\",COUNTIF($S$7:S955,\"該当２\"))","v":""},"","",{"$f":"IF(V955=\"\",\"\",COUNTIF($V$7:V955,\"該当３\"))","v":""}]
[1921007005,19,{"v":210,"d":"210 "},{"v":7,"d":"07 "},{"v":5,"d":"005 "},"山梨県","甲斐市","敷島町２－１","大久保",null,"","",{"$f":"IF(K956=\"\",\"\",COUNTIF($K$7:K956,\"ﾘｽﾄ１\"))","v":""},"","","","","","","",{"$f":"IF(S956=\"\",\"\",COUNTIF($S$7:S956,\"該当２\"))","v":""},"","",{"$f":"IF(V956=\"\",\"\",COUNTIF($V$7:V956,\"該当３\"))","v":""}]
[1921007006,19,{"v":210,"d":"210 "},{"v":7,"d":"07 "},{"v":6,"d":"006 "},"山梨県","甲斐市","敷島町２－１","天狗沢",null,"","",{"$f":"IF(K957=\"\",\"\",COUNTIF($K$7:K957,\"ﾘｽﾄ１\"))","v":""},"","","","","","","",{"$f":"IF(S957=\"\",\"\",COUNTIF($S$7:S957,\"該当２\"))","v":""},"","",{"$f":"IF(V957=\"\",\"\",COUNTIF($V$7:V957,\"該当３\"))","v":""}]
[1921007007,19,{"v":210,"d":"210 "},{"v":7,"d":"07 "},{"v":7,"d":"007 "},"山梨県","甲斐市","敷島町２－１","西町",null,"","",{"$f":"IF(K958=\"\",\"\",COUNTIF($K$7:K958,\"ﾘｽﾄ１\"))","v":""},"","","","","","","",{"$f":"IF(S958=\"\",\"\",COUNTIF($S$7:S958,\"該当２\"))","v":""},"","",{"$f":"IF(V958=\"\",\"\",COUNTIF($V$7:V958,\"該当３\"))","v":""}]
[1921007008,19,{"v":210,"d":"210 "},{"v":7,"d":"07 "},{"v":8,"d":"008 "},"山梨県","甲斐市","敷島町２－１","仲町",null,"","",{"$f":"IF(K959=\"\",\"\",COUNTIF($K$7:K959,\"ﾘｽﾄ１\"))","v":""},"","","","","","","",{"$f":"IF(S959=\"\",\"\",COUNTIF($S$7:S959,\"該当２\"))","v":""},"","",{"$f":"IF(V959=\"\",\"\",COUNTIF($V$7:V959,\"該当３\"))","v":""}]
[1921007009,19,{"v":210,"d":"210 "},{"v":7,"d":"07 "},{"v":9,"d":"009 "},"山梨県","甲斐市","敷島町２－１","東町",null,"","",{"$f":"IF(K960=\"\",\"\",COUNTIF($K$7:K960,\"ﾘｽﾄ１\"))","v":""},"","","","","","","",{"$f":"IF(S960=\"\",\"\",COUNTIF($S$7:S960,\"該当２\"))","v":""},"","",{"$f":"IF(V960=\"\",\"\",COUNTIF($V$7:V960,\"該当３\"))","v":""}]
[1921007010,19,{"v":210,"d":"210 "},{"v":7,"d":"07 "},{"v":10,"d":"010 "},"山梨県","甲斐市","敷島町２－１","宮地",null,"","",{"$f":"IF(K961=\"\",\"\",COUNTIF($K$7:K961,\"ﾘｽﾄ１\"))","v":""},"","","","","","","",{"$f":"IF(S961=\"\",\"\",COUNTIF($S$7:S961,\"該当２\"))","v":""},"","",{"$f":"IF(V961=\"\",\"\",COUNTIF($V$7:V961,\"該当３\"))","v":""}]
[1921007011,19,{"v":210,"d":"210 "},{"v":7,"d":"07 "},{"v":11,"d":"011 "},"山梨県","甲斐市","敷島町２－１","町屋",null,"","",{"$f":"IF(K962=\"\",\"\",COUNTIF($K$7:K962,\"ﾘｽﾄ１\"))","v":""},"","","","","","","",{"$f":"IF(S962=\"\",\"\",COUNTIF($S$7:S962,\"該当２\"))","v":""},"","",{"$f":"IF(V962=\"\",\"\",COUNTIF($V$7:V962,\"該当３\"))","v":""}]
[1921007012,19,{"v":210,"d":"210 "},{"v":7,"d":"07 "},{"v":12,"d":"012 "},"山梨県","甲斐市","敷島町２－１","町屋南",null,"","",{"$f":"IF(K963=\"\",\"\",COUNTIF($K$7:K963,\"ﾘｽﾄ１\"))","v":""},"","","","","","","",{"$f":"IF(S963=\"\",\"\",COUNTIF($S$7:S963,\"該当２\"))","v":""},"","",{"$f":"IF(V963=\"\",\"\",COUNTIF($V$7:V963,\"該当３\"))","v":""}]
[1921007013,19,{"v":210,"d":"210 "},{"v":7,"d":"07 "},{"v":13,"d":"013 "},"山梨県","甲斐市","敷島町２－１","大下条",null,"","",{"$f":"IF(K964=\"\",\"\",COUNTIF($K$7:K964,\"ﾘｽﾄ１\"))","v":""},"","","","","","","",{"$f":"IF(S964=\"\",\"\",COUNTIF($S$7:S964,\"該当２\"))","v":""},"","",{"$f":"IF(V964=\"\",\"\",COUNTIF($V$7:V964,\"該当３\"))","v":""}]
[1921007014,19,{"v":210,"d":"210 "},{"v":7,"d":"07 "},{"v":14,"d":"014 "},"山梨県","甲斐市","敷島町２－１","長塚",null,"","",{"$f":"IF(K965=\"\",\"\",COUNTIF($K$7:K965,\"ﾘｽﾄ１\"))","v":""},"","","","","","","",{"$f":"IF(S965=\"\",\"\",COUNTIF($S$7:S965,\"該当２\"))","v":""},"","",{"$f":"IF(V965=\"\",\"\",COUNTIF($V$7:V965,\"該当３\"))","v":""}]
[1921008000,19,{"v":210,"d":"210 "},{"v":8,"d":"08 "},{"v":0,"d":"000 "},"山梨県","甲斐市","登美村",null,null,"","",{"$f":"IF(K966=\"\",\"\",COUNTIF($K$7:K966,\"ﾘｽﾄ１\"))","v":""},"","","","","","","",{"$f":"IF(S966=\"\",\"\",COUNTIF($S$7:S966,\"該当２\"))","v":""},"","",{"$f":"IF(V966=\"\",\"\",COUNTIF($V$7:V966,\"該当３\"))","v":""}]
[1921008001,19,{"v":210,"d":"210 "},{"v":8,"d":"08 "},{"v":1,"d":"001 "},"山梨県","甲斐市","登美村","滝坂",null,"","",{"$f":"IF(K967=\"\",\"\",COUNTIF($K$7:K967,\"ﾘｽﾄ１\"))","v":""},"","","","","","","",{"$f":"IF(S967=\"\",\"\",COUNTIF($S$7:S967,\"該当２\"))","v":""},"","",{"$f":"IF(V967=\"\",\"\",COUNTIF($V$7:V967,\"該当３\"))","v":""}]
[1921008002,19,{"v":210,"d":"210 "},{"v":8,"d":"08 "},{"v":2,"d":"002 "},"山梨県","甲斐市","登美村","大屋敷",null,"","",{"$f":"IF(K968=\"\",\"\",COUNTIF($K$7:K968,\"ﾘｽﾄ１\"))","v":""},"","","","","","","",{"$f":"IF(S968=\"\",\"\",COUNTIF($S$7:S968,\"該当２\"))","v":""},"","",{"$f":"IF(V968=\"\",\"\",COUNTIF($V$7:V968,\"該当３\"))","v":""}]
[1921008003,19,{"v":210,"d":"210 "},{"v":8,"d":"08 "},{"v":3,"d":"003 "},"山梨県","甲斐市","登美村","下宿",null,"","",{"$f":"IF(K969=\"\",\"\",COUNTIF($K$7:K969,\"ﾘｽﾄ１\"))","v":""},"","","","","","","",{"$f":"IF(S969=\"\",\"\",COUNTIF($S$7:S969,\"該当２\"))","v":""},"","",{"$f":"IF(V969=\"\",\"\",COUNTIF($V$7:V969,\"該当３\"))","v":""}]
[1921008004,19,{"v":210,"d":"210 "},{"v":8,"d":"08 "},{"v":4,"d":"004 "},"山梨県","甲斐市","登美村","上宿",null,"","",{"$f":"IF(K970=\"\",\"\",COUNTIF($K$7:K970,\"ﾘｽﾄ１\"))","v":""},"","",{"$f":"IF(O970=\"該当１\",G970,\"\")","v":""},{"$f":"IF(O970=\"該当１\",\"ﾘｽﾄ2\",\"\")","v":""},{"$f":"IF(Q970=\"ﾘｽﾄ2\",H970,\"\")","v":""},"",{"$f":"IF(S970=\"該当２\",H970,\"\")","v":""},{"$f":"IF(S970=\"\",\"\",COUNTIF($S$7:S970,\"該当２\"))","v":""},{"$f":"IF(AND($S$2=H970,E970>0,E970<998),\"該当３\",\"\")","v":""},{"$f":"IF(V970=\"該当３\",I970,\"\")","v":""},{"$f":"IF(V970=\"\",\"\",COUNTIF($V$7:V970,\"該当３\"))","v":""}]
[1921008005,19,{"v":210,"d":"210 "},{"v":8,"d":"08 "},{"v":5,"d":"005 "},"山梨県","甲斐市","登美村","竪町",null,{"$f":"IF(AND($C971>0,$H971=\"\"),\"ﾘｽﾄ１\",\"\")","v":""},{"$f":"IF(K971=\"ﾘｽﾄ１\",G971,\"\")","v":""},{"$f":"IF(K971=\"\",\"\",COUNTIF($K$7:K971,\"ﾘｽﾄ１\"))","v":""},{"$f":"IF(AND(D971=0,E971>0),\"同一区\",\"\")","v":""},{"$f":"IF(AND(EXACT($K$2,G971),H971>0),\"該当１\",\"\")","v":""},"","","",{"$f":"IF(AND(Q971=\"ﾘｽﾄ2\",OR(I971=0,AND(N971=\"同一区\",E971=1))),\"該当２\",\"\")","v":""},"",{"$f":"IF(S971=\"\",\"\",COUNTIF($S$7:S971,\"該当２\"))","v":""},"","",{"$f":"IF(V971=\"\",\"\",COUNTIF($V$7:V971,\"該当３\"))","v":""}]
[1921008006,19,{"v":210,"d":"210 "},{"v":8,"d":"08 "},{"v":6,"d":"006 "},"山梨県","甲斐市","登美村","大垈",null,"","",{"$f":"IF(K972=\"\",\"\",COUNTIF($K$7:K972,\"ﾘｽﾄ１\"))","v":""},"","","","","","","",{"$f":"IF(S972=\"\",\"\",COUNTIF($S$7:S972,\"該当２\"))","v":""},"","",{"$f":"IF(V972=\"\",\"\",COUNTIF($V$7:V972,\"該当３\"))","v":""}]
[1921008007,19,{"v":210,"d":"210 "},{"v":8,"d":"08 "},{"v":7,"d":"007 "},"山梨県","甲斐市","登美村","団子",null,"","",{"$f":"IF(K973=\"\",\"\",COUNTIF($K$7:K973,\"ﾘｽﾄ１\"))","v":""},"","","","","","","",{"$f":"IF(S973=\"\",\"\",COUNTIF($S$7:S973,\"該当２\"))","v":""},"","",{"$f":"IF(V973=\"\",\"\",COUNTIF($V$7:V973,\"該当３\"))","v":""}]
[1921008008,19,{"v":210,"d":"210 "},{"v":8,"d":"08 "},{"v":8,"d":"008 "},"山梨県","甲斐市","登美村","新田",null,"","",{"$f":"IF(K974=\"\",\"\",COUNTIF($K$7:K974,\"ﾘｽﾄ１\"))","v":""},"","","","","","","",{"$f":"IF(S974=\"\",\"\",COUNTIF($S$7:S974,\"該当２\"))","v":""},"","",{"$f":"IF(V974=\"\",\"\",COUNTIF($V$7:V974,\"該当３\"))","v":""}]
[1921008009,19,{"v":210,"d":"210 "},{"v":8,"d":"08 "},{"v":9,"d":"009 "},"山梨県","甲斐市","登美村","菖蒲沢",null,"","",{"$f":"IF(K975=\"\",\"\",COUNTIF($K$7:K975,\"ﾘｽﾄ１\"))","v":""},"","","","","","","",{"$f":"IF(S975=\"\",\"\",COUNTIF($S$7:S975,\"該当２\"))","v":""},"","",{"$f":"IF(V975=\"\",\"\",COUNTIF($V$7:V975,\"該当３\"))","v":""}]
[1921009000,19,{"v":210,"d":"210 "},{"v":9,"d":"09 "},{"v":0,"d":"000 "},"山梨県","甲斐市","塩崎村",null,null,"","",{"$f":"IF(K976=\"\",\"\",COUNTIF($K$7:K976,\"ﾘｽﾄ１\"))","v":""},"","","","","","","",{"$f":"IF(S976=\"\",\"\",COUNTIF($S$7:S976,\"該当２\"))","v":""},"","",{"$f":"IF(V976=\"\",\"\",COUNTIF($V$7:V976,\"該当３\"))","v":""}]
[1921009001,19,{"v":210,"d":"210 "},{"v":9,"d":"09 "},{"v":1,"d":"001 "},"山梨県","甲斐市","塩崎村","横町",null,"","",{"$f":"IF(K977=\"\",\"\",COUNTIF($K$7:K977,\"ﾘｽﾄ１\"))","v":""},"","","","","","","",{"$f":"IF(S977=\"\",\"\",COUNTIF($S$7:S977,\"該当２\"))","v":""},"","",{"$f":"IF(V977=\"\",\"\",COUNTIF($V$7:V977,\"該当３\"))","v":""}]
[1921009002,19,{"v":210,"d":"210 "},{"v":9,"d":"09 "},{"v":2,"d":"002 "},"山梨県","甲斐市","塩崎村","寺町",null,"","",{"$f":"IF(K978=\"\",\"\",COUNTIF($K$7:K978,\"ﾘｽﾄ１\"))","v":""},"","","","","","","",{"$f":"IF(S978=\"\",\"\",COUNTIF($S$7:S978,\"該当２\"))","v":""},"","",{"$f":"IF(V978=\"\",\"\",COUNTIF($V$7:V978,\"該当３\"))","v":""}]
[1921009003,19,{"v":210,"d":"210 "},{"v":9,"d":"09 "},{"v":3,"d":"003 "},"山梨県","甲斐市","塩崎村","仲町",null,"","",{"$f":"IF(K979=\"\",\"\",COUNTIF($K$7:K979,\"ﾘｽﾄ１\"))","v":""},"","","","","","","",{"$f":"IF(S979=\"\",\"\",COUNTIF($S$7:S979,\"該当２\"))","v":""},"","",{"$f":"IF(V979=\"\",\"\",COUNTIF($V$7:V979,\"該当３\"))","v":""}]
[1921009004,19,{"v":210,"d":"210 "},{"v":9,"d":"09 "},{"v":4,"d":"004 "},"山梨県","甲斐市","塩崎村","上町",null,"","",{"$f":"IF(K980=\"\",\"\",COUNTIF($K$7:K980,\"ﾘｽﾄ１\"))","v":""},"","","","","","","",{"$f":"IF(S980=\"\",\"\",COUNTIF($S$7:S980,\"該当２\"))","v":""},"","",{"$f":"IF(V980=\"\",\"\",COUNTIF($V$7:V980,\"該当３\"))","v":""}]
[1921009005,19,{"v":210,"d":"210 "},{"v":9,"d":"09 "},{"v":5,"d":"005 "},"山梨県","甲斐市","塩崎村","山本",null,"","",{"$f":"IF(K981=\"\",\"\",COUNTIF($K$7:K981,\"ﾘｽﾄ１\"))","v":""},"","","","","","","",{"$f":"IF(S981=\"\",\"\",COUNTIF($S$7:S981,\"該当２\"))","v":""},"","",{"$f":"IF(V981=\"\",\"\",COUNTIF($V$7:V981,\"該当３\"))","v":""}]
[1921009006,19,{"v":210,"d":"210 "},{"v":9,"d":"09 "},{"v":6,"d":"006 "},"山梨県","甲斐市","塩崎村","岩森",null,"","",{"$f":"IF(K982=\"\",\"\",COUNTIF($K$7:K982,\"ﾘｽﾄ１\"))","v":""},"","","","","","","",{"$f":"IF(S982=\"\",\"\",COUNTIF($S$7:S982,\"該当２\"))","v":""},"","",{"$f":"IF(V982=\"\",\"\",COUNTIF($V$7:V982,\"該当３\"))","v":""}]
[1921009007,19,{"v":210,"d":"210 "},{"v":9,"d":"09 "},{"v":7,"d":"007 "},"山梨県","甲斐市","塩崎村","下志田",null,"","",{"$f":"IF(K983=\"\",\"\",COUNTIF($K$7:K983,\"ﾘｽﾄ１\"))","v":""},"","","","","","","",{"$f":"IF(S983=\"\",\"\",COUNTIF($S$7:S983,\"該当２\"))","v":""},"","",{"$f":"IF(V983=\"\",\"\",COUNTIF($V$7:V983,\"該当３\"))","v":""}]
[1921009008,19,{"v":210,"d":"210 "},{"v":9,"d":"09 "},{"v":8,"d":"008 "},"山梨県","甲斐市","塩崎村","上志田",null,"","",{"$f":"IF(K984=\"\",\"\",COUNTIF($K$7:K984,\"ﾘｽﾄ１\"))","v":""},"","","","","","","",{"$f":"IF(S984=\"\",\"\",COUNTIF($S$7:S984,\"該当２\"))","v":""},"","",{"$f":"IF(V984=\"\",\"\",COUNTIF($V$7:V984,\"該当３\"))","v":""}]
[1921009009,19,{"v":210,"d":"210 "},{"v":9,"d":"09 "},{"v":9,"d":"009 "},"山梨県","甲斐市","塩崎村","東部",null,"","",{"$f":"IF(K985=\"\",\"\",COUNTIF($K$7:K985,\"ﾘｽﾄ１\"))","v":""},"","","","","","","",{"$f":"IF(S985=\"\",\"\",COUNTIF($S$7:S985,\"該当２\"))","v":""},"","",{"$f":"IF(V985=\"\",\"\",COUNTIF($V$7:V985,\"該当３\"))","v":""}]
[1921009010,19,{"v":210,"d":"210 "},{"v":9,"d":"09 "},{"v":10,"d":"010 "},"山梨県","甲斐市","塩崎村","塩崎町",null,"","",{"$f":"IF(K986=\"\",\"\",COUNTIF($K$7:K986,\"ﾘｽﾄ１\"))","v":""},"","","","","","","",{"$f":"IF(S986=\"\",\"\",COUNTIF($S$7:S986,\"該当２\"))","v":""},"","",{"$f":"IF(V986=\"\",\"\",COUNTIF($V$7:V986,\"該当３\"))","v":""}]
[1921009011,19,{"v":210,"d":"210 "},{"v":9,"d":"09 "},{"v":11,"d":"011 "},"山梨県","甲斐市","塩崎村","田畑",null,"","",{"$f":"IF(K987=\"\",\"\",COUNTIF($K$7:K987,\"ﾘｽﾄ１\"))","v":""},"","","","","","","",{"$f":"IF(S987=\"\",\"\",COUNTIF($S$7:S987,\"該当２\"))","v":""},"","",{"$f":"IF(V987=\"\",\"\",COUNTIF($V$7:V987,\"該当３\"))","v":""}]
[1921009012,19,{"v":210,"d":"210 "},{"v":9,"d":"09 "},{"v":12,"d":"012 "},"山梨県","甲斐市","塩崎村","中村条",null,"","",{"$f":"IF(K988=\"\",\"\",COUNTIF($K$7:K988,\"ﾘｽﾄ１\"))","v":""},"","","","","","","",{"$f":"IF(S988=\"\",\"\",COUNTIF($S$7:S988,\"該当２\"))","v":""},"","",{"$f":"IF(V988=\"\",\"\",COUNTIF($V$7:V988,\"該当３\"))","v":""}]
[1921009013,19,{"v":210,"d":"210 "},{"v":9,"d":"09 "},{"v":13,"d":"013 "},"山梨県","甲斐市","塩崎村","上郷",null,"","",{"$f":"IF(K989=\"\",\"\",COUNTIF($K$7:K989,\"ﾘｽﾄ１\"))","v":""},"","","","","","","",{"$f":"IF(S989=\"\",\"\",COUNTIF($S$7:S989,\"該当２\"))","v":""},"","",{"$f":"IF(V989=\"\",\"\",COUNTIF($V$7:V989,\"該当３\"))","v":""}]
[1921009014,19,{"v":210,"d":"210 "},{"v":9,"d":"09 "},{"v":14,"d":"014 "},"山梨県","甲斐市","塩崎村","米沢",null,"","",{"$f":"IF(K990=\"\",\"\",COUNTIF($K$7:K990,\"ﾘｽﾄ１\"))","v":""},"","","","","","","",{"$f":"IF(S990=\"\",\"\",COUNTIF($S$7:S990,\"該当２\"))","v":""},"","",{"$f":"IF(V990=\"\",\"\",COUNTIF($V$7:V990,\"該当３\"))","v":""}]
[1921009015,19,{"v":210,"d":"210 "},{"v":9,"d":"09 "},{"v":15,"d":"015 "},"山梨県","甲斐市","塩崎村","笠石",null,"","",{"$f":"IF(K991=\"\",\"\",COUNTIF($K$7:K991,\"ﾘｽﾄ１\"))","v":""},"","","","","","","",{"$f":"IF(S991=\"\",\"\",COUNTIF($S$7:S991,\"該当２\"))","v":""},"","",{"$f":"IF(V991=\"\",\"\",COUNTIF($V$7:V991,\"該当３\"))","v":""}]
[1921009018,19,{"v":210,"d":"210 "},{"v":9,"d":"09 "},{"v":18,"d":"018 "},"山梨県","甲斐市","塩崎村","滝沢",null,"","",{"$f":"IF(K992=\"\",\"\",COUNTIF($K$7:K992,\"ﾘｽﾄ１\"))","v":""},"","","","","","","",{"$f":"IF(S992=\"\",\"\",COUNTIF($S$7:S992,\"該当２\"))","v":""},"","",{"$f":"IF(V992=\"\",\"\",COUNTIF($V$7:V992,\"該当３\"))","v":""}]
[1921009019,19,{"v":210,"d":"210 "},{"v":9,"d":"09 "},{"v":19,"d":"019 "},"山梨県","甲斐市","塩崎村","駒沢",null,"","",{"$f":"IF(K993=\"\",\"\",COUNTIF($K$7:K993,\"ﾘｽﾄ１\"))","v":""},"","","","","","","",{"$f":"IF(S993=\"\",\"\",COUNTIF($S$7:S993,\"該当２\"))","v":""},"","",{"$f":"IF(V993=\"\",\"\",COUNTIF($V$7:V993,\"該当３\"))","v":""}]
[1921009020,19,{"v":210,"d":"210 "},{"v":9,"d":"09 "},{"v":20,"d":"020 "},"山梨県","甲斐市","塩崎村","金剛地",null,"","",{"$f":"IF(K994=\"\",\"\",COUNTIF($K$7:K994,\"ﾘｽﾄ１\"))","v":""},"","","","","","","",{"$f":"IF(S994=\"\",\"\",COUNTIF($S$7:S994,\"該当２\"))","v":""},"","",{"$f":"IF(V994=\"\",\"\",COUNTIF($V$7:V994,\"該当３\"))","v":""}]
[1921100000,19,{"v":211,"d":"211 "},{"v":0,"d":"00 "},{"v":0,"d":"000 "},"山梨県","笛吹市",{"$nulls":3},"ﾘｽﾄ１","笛吹市",{"$f":"IF(K995=\"\",\"\",COUNTIF($K$7:K995,\"ﾘｽﾄ１\"))","v":10},"","","","","","","",{"$f":"IF(S995=\"\",\"\",COUNTIF($S$7:S995,\"該当２\"))","v":""},"","",{"$f":"IF(V995=\"\",\"\",COUNTIF($V$7:V995,\"該当３\"))","v":""}]
[1921101000,19,{"v":211,"d":"211 "},{"v":1,"d":"01 "},{"v":0,"d":"000 "},"山梨県","笛吹市","石和町",null,null,"","",{"$f":"IF(K996=\"\",\"\",COUNTIF($K$7:K996,\"ﾘｽﾄ１\"))","v":""},"","","","","","","",{"$f":"IF(S996=\"\",\"\",COUNTIF($S$7:S996,\"該当２\"))","v":""},"","",{"$f":"IF(V996=\"\",\"\",COUNTIF($V$7:V996,\"該当３\"))","v":""}]
[1921101001,19,{"v":211,"d":"211 "},{"v":1,"d":"01 "},{"v":1,"d":"001 "},"山梨県","笛吹市","石和町","川中島",null,"","",{"$f":"IF(K997=\"\",\"\",COUNTIF($K$7:K997,\"ﾘｽﾄ１\"))","v":""},"","","","","","","",{"$f":"IF(S997=\"\",\"\",COUNTIF($S$7:S997,\"該当２\"))","v":""},"","",{"$f":"IF(V997=\"\",\"\",COUNTIF($V$7:V997,\"該当３\"))","v":""}]
[1921101002,19,{"v":211,"d":"211 "},{"v":1,"d":"01 "},{"v":2,"d":"002 "},"山梨県","笛吹市","石和町","八田",null,"","",{"$f":"IF(K998=\"\",\"\",COUNTIF($K$7:K998,\"ﾘｽﾄ１\"))","v":""},"","","","","","","",{"$f":"IF(S998=\"\",\"\",COUNTIF($S$7:S998,\"該当２\"))","v":""},"","",{"$f":"IF(V998=\"\",\"\",COUNTIF($V$7:V998,\"該当３\"))","v":""}]
[1921101003,19,{"v":211,"d":"211 "},{"v":1,"d":"01 "},{"v":3,"d":"003 "},"山梨県","笛吹市","石和町","市部",null,"","",{"$f":"IF(K999=\"\",\"\",COUNTIF($K$7:K999,\"ﾘｽﾄ１\"))","v":""},"","","","","","","",{"$f":"IF(S999=\"\",\"\",COUNTIF($S$7:S999,\"該当２\"))","v":""},"","",{"$f":"IF(V999=\"\",\"\",COUNTIF($V$7:V999,\"該当３\"))","v":""}]
[1921101004,19,{"v":211,"d":"211 "},{"v":1,"d":"01 "},{"v":4,"d":"004 "},"山梨県","笛吹市","石和町","窪中島",null,"","",{"$f":"IF(K1000=\"\",\"\",COUNTIF($K$7:K1000,\"ﾘｽﾄ１\"))","v":""},"","","","","","","",{"$f":"IF(S1000=\"\",\"\",COUNTIF($S$7:S1000,\"該当２\"))","v":""},"","",{"$f":"IF(V1000=\"\",\"\",COUNTIF($V$7:V1000,\"該当３\"))","v":""}]
[1921101005,19,{"v":211,"d":"211 "},{"v":1,"d":"01 "},{"v":5,"d":"005 "},"山梨県","笛吹市","石和町","四日市場",null,"","",{"$f":"IF(K1001=\"\",\"\",COUNTIF($K$7:K1001,\"ﾘｽﾄ１\"))","v":""},"","","","","","","",{"$f":"IF(S1001=\"\",\"\",COUNTIF($S$7:S1001,\"該当２\"))","v":""},"","",{"$f":"IF(V1001=\"\",\"\",COUNTIF($V$7:V1001,\"該当３\"))","v":""}]
[1921101006,19,{"v":211,"d":"211 "},{"v":1,"d":"01 "},{"v":6,"d":"006 "},"山梨県","笛吹市","石和町","日の出",null,"","",{"$f":"IF(K1002=\"\",\"\",COUNTIF($K$7:K1002,\"ﾘｽﾄ１\"))","v":""},"","","","","","","",{"$f":"IF(S1002=\"\",\"\",COUNTIF($S$7:S1002,\"該当２\"))","v":""},"","",{"$f":"IF(V1002=\"\",\"\",COUNTIF($V$7:V1002,\"該当３\"))","v":""}]
[1921101007,19,{"v":211,"d":"211 "},{"v":1,"d":"01 "},{"v":7,"d":"007 "},"山梨県","笛吹市","石和町","広瀬",null,"","",{"$f":"IF(K1003=\"\",\"\",COUNTIF($K$7:K1003,\"ﾘｽﾄ１\"))","v":""},"","","","","","","",{"$f":"IF(S1003=\"\",\"\",COUNTIF($S$7:S1003,\"該当２\"))","v":""},"","",{"$f":"IF(V1003=\"\",\"\",COUNTIF($V$7:V1003,\"該当３\"))","v":""}]
[1921102000,19,{"v":211,"d":"211 "},{"v":2,"d":"02 "},{"v":0,"d":"000 "},"山梨県","笛吹市","英村２－２",null,null,"","",{"$f":"IF(K1004=\"\",\"\",COUNTIF($K$7:K1004,\"ﾘｽﾄ１\"))","v":""},"","","","","","","",{"$f":"IF(S1004=\"\",\"\",COUNTIF($S$7:S1004,\"該当２\"))","v":""},"","",{"$f":"IF(V1004=\"\",\"\",COUNTIF($V$7:V1004,\"該当３\"))","v":""}]
[1921102001,19,{"v":211,"d":"211 "},{"v":2,"d":"02 "},{"v":1,"d":"001 "},"山梨県","笛吹市","英村２－２","下平井",null,"","",{"$f":"IF(K1005=\"\",\"\",COUNTIF($K$7:K1005,\"ﾘｽﾄ１\"))","v":""},"","","","","","","",{"$f":"IF(S1005=\"\",\"\",COUNTIF($S$7:S1005,\"該当２\"))","v":""},"","",{"$f":"IF(V1005=\"\",\"\",COUNTIF($V$7:V1005,\"該当３\"))","v":""}]
[1921102002,19,{"v":211,"d":"211 "},{"v":2,"d":"02 "},{"v":2,"d":"002 "},"山梨県","笛吹市","英村２－２","上平井",null,"","",{"$f":"IF(K1006=\"\",\"\",COUNTIF($K$7:K1006,\"ﾘｽﾄ１\"))","v":""},"","","","","","","",{"$f":"IF(S1006=\"\",\"\",COUNTIF($S$7:S1006,\"該当２\"))","v":""},"","",{"$f":"IF(V1006=\"\",\"\",COUNTIF($V$7:V1006,\"該当３\"))","v":""}]
[1921102003,19,{"v":211,"d":"211 "},{"v":2,"d":"02 "},{"v":3,"d":"003 "},"山梨県","笛吹市","英村２－２","中川",null,"","",{"$f":"IF(K1007=\"\",\"\",COUNTIF($K$7:K1007,\"ﾘｽﾄ１\"))","v":""},"","","","","","","",{"$f":"IF(S1007=\"\",\"\",COUNTIF($S$7:S1007,\"該当２\"))","v":""},"","",{"$f":"IF(V1007=\"\",\"\",COUNTIF($V$7:V1007,\"該当３\"))","v":""}]
[1921103000,19,{"v":211,"d":"211 "},{"v":3,"d":"03 "},{"v":0,"d":"000 "},"山梨県","笛吹市","岡部村２－２",null,null,"","",{"$f":"IF(K1008=\"\",\"\",COUNTIF($K$7:K1008,\"ﾘｽﾄ１\"))","v":""},"","","","","","","",{"$f":"IF(S1008=\"\",\"\",COUNTIF($S$7:S1008,\"該当２\"))","v":""},"","",{"$f":"IF(V1008=\"\",\"\",COUNTIF($V$7:V1008,\"該当３\"))","v":""}]
[1921103001,19,{"v":211,"d":"211 "},{"v":3,"d":"03 "},{"v":1,"d":"001 "},"山梨県","笛吹市","岡部村２－２","山岸",null,"","",{"$f":"IF(K1009=\"\",\"\",COUNTIF($K$7:K1009,\"ﾘｽﾄ１\"))","v":""},"","","","","","","",{"$f":"IF(S1009=\"\",\"\",COUNTIF($S$7:S1009,\"該当２\"))","v":""},"","",{"$f":"IF(V1009=\"\",\"\",COUNTIF($V$7:V1009,\"該当３\"))","v":""}]
[1921103002,19,{"v":211,"d":"211 "},{"v":3,"d":"03 "},{"v":2,"d":"002 "},"山梨県","笛吹市","岡部村２－２","松本",null,"","",{"$f":"IF(K1010=\"\",\"\",COUNTIF($K$7:K1010,\"ﾘｽﾄ１\"))","v":""},"","","","","","","",{"$f":"IF(S1010=\"\",\"\",COUNTIF($S$7:S1010,\"該当２\"))","v":""},"","",{"$f":"IF(V1010=\"\",\"\",COUNTIF($V$7:V1010,\"該当３\"))","v":""}]
[1921103003,19,{"v":211,"d":"211 "},{"v":3,"d":"03 "},{"v":3,"d":"003 "},"山梨県","笛吹市","岡部村２－２","山崎",null,"","",{"$f":"IF(K1011=\"\",\"\",COUNTIF($K$7:K1011,\"ﾘｽﾄ１\"))","v":""},"","","","","","","",{"$f":"IF(S1011=\"\",\"\",COUNTIF($S$7:S1011,\"該当２\"))","v":""},"","",{"$f":"IF(V1011=\"\",\"\",COUNTIF($V$7:V1011,\"該当３\"))","v":""}]
[1921104000,19,{"v":211,"d":"211 "},{"v":4,"d":"04 "},{"v":0,"d":"000 "},"山梨県","笛吹市","富士見村",null,null,"","",{"$f":"IF(K1012=\"\",\"\",COUNTIF($K$7:K1012,\"ﾘｽﾄ１\"))","v":""},"","","","","","","",{"$f":"IF(S1012=\"\",\"\",COUNTIF($S$7:S1012,\"該当２\"))","v":""},"","",{"$f":"IF(V1012=\"\",\"\",COUNTIF($V$7:V1012,\"該当３\"))","v":""}]
[1921104001,19,{"v":211,"d":"211 "},{"v":4,"d":"04 "},{"v":1,"d":"001 "},"山梨県","笛吹市","富士見村","唐柏",null,"","",{"$f":"IF(K1013=\"\",\"\",COUNTIF($K$7:K1013,\"ﾘｽﾄ１\"))","v":""},"","","","","","","",{"$f":"IF(S1013=\"\",\"\",COUNTIF($S$7:S1013,\"該当２\"))","v":""},"","",{"$f":"IF(V1013=\"\",\"\",COUNTIF($V$7:V1013,\"該当３\"))","v":""}]
[1921104002,19,{"v":211,"d":"211 "},{"v":4,"d":"04 "},{"v":2,"d":"002 "},"山梨県","笛吹市","富士見村","東高橋",null,"","",{"$f":"IF(K1014=\"\",\"\",COUNTIF($K$7:K1014,\"ﾘｽﾄ１\"))","v":""},"","","","","","","",{"$f":"IF(S1014=\"\",\"\",COUNTIF($S$7:S1014,\"該当２\"))","v":""},"","",{"$f":"IF(V1014=\"\",\"\",COUNTIF($V$7:V1014,\"該当３\"))","v":""}]
[1921104003,19,{"v":211,"d":"211 "},{"v":4,"d":"04 "},{"v":3,"d":"003 "},"山梨県","笛吹市","富士見村","今井",null,"","",{"$f":"IF(K1015=\"\",\"\",COUNTIF($K$7:K1015,\"ﾘｽﾄ１\"))","v":""},"","","","","","","",{"$f":"IF(S1015=\"\",\"\",COUNTIF($S$7:S1015,\"該当２\"))","v":""},"","",{"$f":"IF(V1015=\"\",\"\",COUNTIF($V$7:V1015,\"該当３\"))","v":""}]
[1921104004,19,{"v":211,"d":"211 "},{"v":4,"d":"04 "},{"v":4,"d":"004 "},"山梨県","笛吹市","富士見村","河内",null,"","",{"$f":"IF(K1016=\"\",\"\",COUNTIF($K$7:K1016,\"ﾘｽﾄ１\"))","v":""},"","","","","","","",{"$f":"IF(S1016=\"\",\"\",COUNTIF($S$7:S1016,\"該当２\"))","v":""},"","",{"$f":"IF(V1016=\"\",\"\",COUNTIF($V$7:V1016,\"該当３\"))","v":""}]
[1921104005,19,{"v":211,"d":"211 "},{"v":4,"d":"04 "},{"v":5,"d":"005 "},"山梨県","笛吹市","富士見村","小石和",null,"","",{"$f":"IF(K1017=\"\",\"\",COUNTIF($K$7:K1017,\"ﾘｽﾄ１\"))","v":""},"","","","","","","",{"$f":"IF(S1017=\"\",\"\",COUNTIF($S$7:S1017,\"該当２\"))","v":""},"","",{"$f":"IF(V1017=\"\",\"\",COUNTIF($V$7:V1017,\"該当３\"))","v":""}]
[1921104006,19,{"v":211,"d":"211 "},{"v":4,"d":"04 "},{"v":6,"d":"006 "},"山梨県","笛吹市","富士見村","砂原",null,"","",{"$f":"IF(K1018=\"\",\"\",COUNTIF($K$7:K1018,\"ﾘｽﾄ１\"))","v":""},"","","","","","","",{"$f":"IF(S1018=\"\",\"\",COUNTIF($S$7:S1018,\"該当２\"))","v":""},"","",{"$f":"IF(V1018=\"\",\"\",COUNTIF($V$7:V1018,\"該当３\"))","v":""}]
[1921104007,19,{"v":211,"d":"211 "},{"v":4,"d":"04 "},{"v":7,"d":"007 "},"山梨県","笛吹市","富士見村","井戸",null,"","",{"$f":"IF(K1019=\"\",\"\",COUNTIF($K$7:K1019,\"ﾘｽﾄ１\"))","v":""},"","","","","","","",{"$f":"IF(S1019=\"\",\"\",COUNTIF($S$7:S1019,\"該当２\"))","v":""},"","",{"$f":"IF(V1019=\"\",\"\",COUNTIF($V$7:V1019,\"該当３\"))","v":""}]
[1921104008,19,{"v":211,"d":"211 "},{"v":4,"d":"04 "},{"v":8,"d":"008 "},"山梨県","笛吹市","富士見村","東油川",null,"","",{"$f":"IF(K1020=\"\",\"\",COUNTIF($K$7:K1020,\"ﾘｽﾄ１\"))","v":""},"","","","","","","",{"$f":"IF(S1020=\"\",\"\",COUNTIF($S$7:S1020,\"該当２\"))","v":""},"","",{"$f":"IF(V1020=\"\",\"\",COUNTIF($V$7:V1020,\"該当３\"))","v":""}]
[1921105000,19,{"v":211,"d":"211 "},{"v":5,"d":"05 "},{"v":0,"d":"000 "},"山梨県","笛吹市","黒駒村",null,null,"","",{"$f":"IF(K1021=\"\",\"\",COUNTIF($K$7:K1021,\"ﾘｽﾄ１\"))","v":""},"","","","","","","",{"$f":"IF(S1021=\"\",\"\",COUNTIF($S$7:S1021,\"該当２\"))","v":""},"","",{"$f":"IF(V1021=\"\",\"\",COUNTIF($V$7:V1021,\"該当３\"))","v":""}]
[1921105001,19,{"v":211,"d":"211 "},{"v":5,"d":"05 "},{"v":1,"d":"001 "},"山梨県","笛吹市","黒駒村","藤野木",null,"","",{"$f":"IF(K1022=\"\",\"\",COUNTIF($K$7:K1022,\"ﾘｽﾄ１\"))","v":""},"","","","","","","",{"$f":"IF(S1022=\"\",\"\",COUNTIF($S$7:S1022,\"該当２\"))","v":""},"","",{"$f":"IF(V1022=\"\",\"\",COUNTIF($V$7:V1022,\"該当３\"))","v":""}]
[1921105002,19,{"v":211,"d":"211 "},{"v":5,"d":"05 "},{"v":2,"d":"002 "},"山梨県","笛吹市","黒駒村","新田",null,"","",{"$f":"IF(K1023=\"\",\"\",COUNTIF($K$7:K1023,\"ﾘｽﾄ１\"))","v":""},"","","","","","","",{"$f":"IF(S1023=\"\",\"\",COUNTIF($S$7:S1023,\"該当２\"))","v":""},"","",{"$f":"IF(V1023=\"\",\"\",COUNTIF($V$7:V1023,\"該当３\"))","v":""}]
[1921105003,19,{"v":211,"d":"211 "},{"v":5,"d":"05 "},{"v":3,"d":"003 "},"山梨県","笛吹市","黒駒村","立沢",null,"","",{"$f":"IF(K1024=\"\",\"\",COUNTIF($K$7:K1024,\"ﾘｽﾄ１\"))","v":""},"","","","","","","",{"$f":"IF(S1024=\"\",\"\",COUNTIF($S$7:S1024,\"該当２\"))","v":""},"","",{"$f":"IF(V1024=\"\",\"\",COUNTIF($V$7:V1024,\"該当３\"))","v":""}]
[1921105004,19,{"v":211,"d":"211 "},{"v":5,"d":"05 "},{"v":4,"d":"004 "},"山梨県","笛吹市","黒駒村","戸倉",null,"","",{"$f":"IF(K1025=\"\",\"\",COUNTIF($K$7:K1025,\"ﾘｽﾄ１\"))","v":""},"","","","","","","",{"$f":"IF(S1025=\"\",\"\",COUNTIF($S$7:S1025,\"該当２\"))","v":""},"","",{"$f":"IF(V1025=\"\",\"\",COUNTIF($V$7:V1025,\"該当３\"))","v":""}]
[1921105005,19,{"v":211,"d":"211 "},{"v":5,"d":"05 "},{"v":5,"d":"005 "},"山梨県","笛吹市","黒駒村","十郎",null,"","",{"$f":"IF(K1026=\"\",\"\",COUNTIF($K$7:K1026,\"ﾘｽﾄ１\"))","v":""},"","","","","","","",{"$f":"IF(S1026=\"\",\"\",COUNTIF($S$7:S1026,\"該当２\"))","v":""},"","",{"$f":"IF(V1026=\"\",\"\",COUNTIF($V$7:V1026,\"該当３\"))","v":""}]
[1921105006,19,{"v":211,"d":"211 "},{"v":5,"d":"05 "},{"v":6,"d":"006 "},"山梨県","笛吹市","黒駒村","新上宿",null,"","",{"$f":"IF(K1027=\"\",\"\",COUNTIF($K$7:K1027,\"ﾘｽﾄ１\"))","v":""},"","","","","","","",{"$f":"IF(S1027=\"\",\"\",COUNTIF($S$7:S1027,\"該当２\"))","v":""},"","",{"$f":"IF(V1027=\"\",\"\",COUNTIF($V$7:V1027,\"該当３\"))","v":""}]
[1921105007,19,{"v":211,"d":"211 "},{"v":5,"d":"05 "},{"v":7,"d":"007 "},"山梨県","笛吹市","黒駒村","坂野",null,"","",{"$f":"IF(K1028=\"\",\"\",COUNTIF($K$7:K1028,\"ﾘｽﾄ１\"))","v":""},"","","","","","","",{"$f":"IF(S1028=\"\",\"\",COUNTIF($S$7:S1028,\"該当２\"))","v":""},"","",{"$f":"IF(V1028=\"\",\"\",COUNTIF($V$7:V1028,\"該当３\"))","v":""}]
[1921105008,19,{"v":211,"d":"211 "},{"v":5,"d":"05 "},{"v":8,"d":"008 "},"山梨県","笛吹市","黒駒村","道場",null,"","",{"$f":"IF(K1029=\"\",\"\",COUNTIF($K$7:K1029,\"ﾘｽﾄ１\"))","v":""},"","","","","","","",{"$f":"IF(S1029=\"\",\"\",COUNTIF($S$7:S1029,\"該当２\"))","v":""},"","",{"$f":"IF(V1029=\"\",\"\",COUNTIF($V$7:V1029,\"該当３\"))","v":""}]
[1921105009,19,{"v":211,"d":"211 "},{"v":5,"d":"05 "},{"v":9,"d":"009 "},"山梨県","笛吹市","黒駒村","駒留",null,"","",{"$f":"IF(K1030=\"\",\"\",COUNTIF($K$7:K1030,\"ﾘｽﾄ１\"))","v":""},"","","","","","","",{"$f":"IF(S1030=\"\",\"\",COUNTIF($S$7:S1030,\"該当２\"))","v":""},"","",{"$f":"IF(V1030=\"\",\"\",COUNTIF($V$7:V1030,\"該当３\"))","v":""}]
[1921105010,19,{"v":211,"d":"211 "},{"v":5,"d":"05 "},{"v":10,"d":"010 "},"山梨県","笛吹市","黒駒村","若宮",null,"","",{"$f":"IF(K1031=\"\",\"\",COUNTIF($K$7:K1031,\"ﾘｽﾄ１\"))","v":""},"","","","","","","",{"$f":"IF(S1031=\"\",\"\",COUNTIF($S$7:S1031,\"該当２\"))","v":""},"","",{"$f":"IF(V1031=\"\",\"\",COUNTIF($V$7:V1031,\"該当３\"))","v":""}]
[1921105011,19,{"v":211,"d":"211 "},{"v":5,"d":"05 "},{"v":11,"d":"011 "},"山梨県","笛吹市","黒駒村","八反田",null,"","",{"$f":"IF(K1032=\"\",\"\",COUNTIF($K$7:K1032,\"ﾘｽﾄ１\"))","v":""},"","","","","","","",{"$f":"IF(S1032=\"\",\"\",COUNTIF($S$7:S1032,\"該当２\"))","v":""},"","",{"$f":"IF(V1032=\"\",\"\",COUNTIF($V$7:V1032,\"該当３\"))","v":""}]
[1921105012,19,{"v":211,"d":"211 "},{"v":5,"d":"05 "},{"v":12,"d":"012 "},"山梨県","笛吹市","黒駒村","下黒駒",null,"","",{"$f":"IF(K1033=\"\",\"\",COUNTIF($K$7:K1033,\"ﾘｽﾄ１\"))","v":""},"","","","","","","",{"$f":"IF(S1033=\"\",\"\",COUNTIF($S$7:S1033,\"該当２\"))","v":""},"","",{"$f":"IF(V1033=\"\",\"\",COUNTIF($V$7:V1033,\"該当３\"))","v":""}]
[1921105013,19,{"v":211,"d":"211 "},{"v":5,"d":"05 "},{"v":13,"d":"013 "},"山梨県","笛吹市","黒駒村","三星",null,"","",{"$f":"IF(K1034=\"\",\"\",COUNTIF($K$7:K1034,\"ﾘｽﾄ１\"))","v":""},"","",{"$f":"IF(O1034=\"該当１\",G1034,\"\")","v":""},{"$f":"IF(O1034=\"該当１\",\"ﾘｽﾄ2\",\"\")","v":""},{"$f":"IF(Q1034=\"ﾘｽﾄ2\",H1034,\"\")","v":""},"",{"$f":"IF(S1034=\"該当２\",H1034,\"\")","v":""},{"$f":"IF(S1034=\"\",\"\",COUNTIF($S$7:S1034,\"該当２\"))","v":""},{"$f":"IF(AND($S$2=H1034,E1034>0,E1034<998),\"該当３\",\"\")","v":""},{"$f":"IF(V1034=\"該当３\",I1034,\"\")","v":""},{"$f":"IF(V1034=\"\",\"\",COUNTIF($V$7:V1034,\"該当３\"))","v":""}]
[1921106000,19,{"v":211,"d":"211 "},{"v":6,"d":"06 "},{"v":0,"d":"000 "},"山梨県","笛吹市","錦生村",null,null,{"$f":"IF(AND($C1035>0,$H1035=\"\"),\"ﾘｽﾄ１\",\"\")","v":""},{"$f":"IF(K1035=\"ﾘｽﾄ１\",G1035,\"\")","v":""},{"$f":"IF(K1035=\"\",\"\",COUNTIF($K$7:K1035,\"ﾘｽﾄ１\"))","v":""},{"$f":"IF(AND(D1035=0,E1035>0),\"同一区\",\"\")","v":""},{"$f":"IF(AND(EXACT($K$2,G1035),H1035>0),\"該当１\",\"\")","v":""},"","","",{"$f":"IF(AND(Q1035=\"ﾘｽﾄ2\",OR(I1035=0,AND(N1035=\"同一区\",E1035=1))),\"該当２\",\"\")","v":""},"",{"$f":"IF(S1035=\"\",\"\",COUNTIF($S$7:S1035,\"該当２\"))","v":""},"","",{"$f":"IF(V1035=\"\",\"\",COUNTIF($V$7:V1035,\"該当３\"))","v":""}]
[1921106001,19,{"v":211,"d":"211 "},{"v":6,"d":"06 "},{"v":1,"d":"001 "},"山梨県","笛吹市","錦生村","二之宮",null,"","",{"$f":"IF(K1036=\"\",\"\",COUNTIF($K$7:K1036,\"ﾘｽﾄ１\"))","v":""},"","","","","","","",{"$f":"IF(S1036=\"\",\"\",COUNTIF($S$7:S1036,\"該当２\"))","v":""},"","",{"$f":"IF(V1036=\"\",\"\",COUNTIF($V$7:V1036,\"該当３\"))","v":""}]
[1921106002,19,{"v":211,"d":"211 "},{"v":6,"d":"06 "},{"v":2,"d":"002 "},"山梨県","笛吹市","錦生村","夏目原",null,"","",{"$f":"IF(K1037=\"\",\"\",COUNTIF($K$7:K1037,\"ﾘｽﾄ１\"))","v":""},"","","","","","","",{"$f":"IF(S1037=\"\",\"\",COUNTIF($S$7:S1037,\"該当２\"))","v":""},"","",{"$f":"IF(V1037=\"\",\"\",COUNTIF($V$7:V1037,\"該当３\"))","v":""}]
[1921106003,19,{"v":211,"d":"211 "},{"v":6,"d":"06 "},{"v":3,"d":"003 "},"山梨県","笛吹市","錦生村","金川原",null,"","",{"$f":"IF(K1038=\"\",\"\",COUNTIF($K$7:K1038,\"ﾘｽﾄ１\"))","v":""},"","","","","","","",{"$f":"IF(S1038=\"\",\"\",COUNTIF($S$7:S1038,\"該当２\"))","v":""},"","",{"$f":"IF(V1038=\"\",\"\",COUNTIF($V$7:V1038,\"該当３\"))","v":""}]
[1921106004,19,{"v":211,"d":"211 "},{"v":6,"d":"06 "},{"v":4,"d":"004 "},"山梨県","笛吹市","錦生村","井之上",null,"","",{"$f":"IF(K1039=\"\",\"\",COUNTIF($K$7:K1039,\"ﾘｽﾄ１\"))","v":""},"","","","","","","",{"$f":"IF(S1039=\"\",\"\",COUNTIF($S$7:S1039,\"該当２\"))","v":""},"","",{"$f":"IF(V1039=\"\",\"\",COUNTIF($V$7:V1039,\"該当３\"))","v":""}]
[1921106005,19,{"v":211,"d":"211 "},{"v":6,"d":"06 "},{"v":5,"d":"005 "},"山梨県","笛吹市","錦生村","下井之上",null,"","",{"$f":"IF(K1040=\"\",\"\",COUNTIF($K$7:K1040,\"ﾘｽﾄ１\"))","v":""},"","","","","","","",{"$f":"IF(S1040=\"\",\"\",COUNTIF($S$7:S1040,\"該当２\"))","v":""},"","",{"$f":"IF(V1040=\"\",\"\",COUNTIF($V$7:V1040,\"該当３\"))","v":""}]
[1921106006,19,{"v":211,"d":"211 "},{"v":6,"d":"06 "},{"v":6,"d":"006 "},"山梨県","笛吹市","錦生村","八千藏",null,"","",{"$f":"IF(K1041=\"\",\"\",COUNTIF($K$7:K1041,\"ﾘｽﾄ１\"))","v":""},"","","","","","","",{"$f":"IF(S1041=\"\",\"\",COUNTIF($S$7:S1041,\"該当２\"))","v":""},"","",{"$f":"IF(V1041=\"\",\"\",COUNTIF($V$7:V1041,\"該当３\"))","v":""}]
[1921106007,19,{"v":211,"d":"211 "},{"v":6,"d":"06 "},{"v":7,"d":"007 "},"山梨県","笛吹市","錦生村","尾山",null,"","",{"$f":"IF(K1042=\"\",\"\",COUNTIF($K$7:K1042,\"ﾘｽﾄ１\"))","v":""},"","","","","","","",{"$f":"IF(S1042=\"\",\"\",COUNTIF($S$7:S1042,\"該当２\"))","v":""},"","",{"$f":"IF(V1042=\"\",\"\",COUNTIF($V$7:V1042,\"該当３\"))","v":""}]
[1921106008,19,{"v":211,"d":"211 "},{"v":6,"d":"06 "},{"v":8,"d":"008 "},"山梨県","笛吹市","錦生村","下野原",null,"","",{"$f":"IF(K1043=\"\",\"\",COUNTIF($K$7:K1043,\"ﾘｽﾄ１\"))","v":""},"","","","","","","",{"$f":"IF(S1043=\"\",\"\",COUNTIF($S$7:S1043,\"該当２\"))","v":""},"","",{"$f":"IF(V1043=\"\",\"\",COUNTIF($V$7:V1043,\"該当３\"))","v":""}]
[1921106009,19,{"v":211,"d":"211 "},{"v":6,"d":"06 "},{"v":9,"d":"009 "},"山梨県","笛吹市","錦生村","栗合",null,"","",{"$f":"IF(K1044=\"\",\"\",COUNTIF($K$7:K1044,\"ﾘｽﾄ１\"))","v":""},"","","","","","","",{"$f":"IF(S1044=\"\",\"\",COUNTIF($S$7:S1044,\"該当２\"))","v":""},"","",{"$f":"IF(V1044=\"\",\"\",COUNTIF($V$7:V1044,\"該当３\"))","v":""}]
[1921106010,19,{"v":211,"d":"211 "},{"v":6,"d":"06 "},{"v":10,"d":"010 "},"山梨県","笛吹市","錦生村","蕎麦塚",null,"","",{"$f":"IF(K1045=\"\",\"\",COUNTIF($K$7:K1045,\"ﾘｽﾄ１\"))","v":""},"","","","","","","",{"$f":"IF(S1045=\"\",\"\",COUNTIF($S$7:S1045,\"該当２\"))","v":""},"","",{"$f":"IF(V1045=\"\",\"\",COUNTIF($V$7:V1045,\"該当３\"))","v":""}]
[1921107000,19,{"v":211,"d":"211 "},{"v":7,"d":"07 "},{"v":0,"d":"000 "},"山梨県","笛吹市","英村２－１",null,null,"","",{"$f":"IF(K1046=\"\",\"\",COUNTIF($K$7:K1046,\"ﾘｽﾄ１\"))","v":""},"","","","","","","",{"$f":"IF(S1046=\"\",\"\",COUNTIF($S$7:S1046,\"該当２\"))","v":""},"","",{"$f":"IF(V1046=\"\",\"\",COUNTIF($V$7:V1046,\"該当３\"))","v":""}]
[1921107001,19,{"v":211,"d":"211 "},{"v":7,"d":"07 "},{"v":1,"d":"001 "},"山梨県","笛吹市","英村２－１","成田",null,"","",{"$f":"IF(K1047=\"\",\"\",COUNTIF($K$7:K1047,\"ﾘｽﾄ１\"))","v":""},"","","","","","","",{"$f":"IF(S1047=\"\",\"\",COUNTIF($S$7:S1047,\"該当２\"))","v":""},"","",{"$f":"IF(V1047=\"\",\"\",COUNTIF($V$7:V1047,\"該当３\"))","v":""}]
[1921107002,19,{"v":211,"d":"211 "},{"v":7,"d":"07 "},{"v":2,"d":"002 "},"山梨県","笛吹市","英村２－１","国衙",null,"","",{"$f":"IF(K1048=\"\",\"\",COUNTIF($K$7:K1048,\"ﾘｽﾄ１\"))","v":""},"","","","","","","",{"$f":"IF(S1048=\"\",\"\",COUNTIF($S$7:S1048,\"該当２\"))","v":""},"","",{"$f":"IF(V1048=\"\",\"\",COUNTIF($V$7:V1048,\"該当３\"))","v":""}]
[1921108000,19,{"v":211,"d":"211 "},{"v":8,"d":"08 "},{"v":0,"d":"000 "},"山梨県","笛吹市","花鳥村２－２",null,null,"","",{"$f":"IF(K1049=\"\",\"\",COUNTIF($K$7:K1049,\"ﾘｽﾄ１\"))","v":""},"","","","","","","",{"$f":"IF(S1049=\"\",\"\",COUNTIF($S$7:S1049,\"該当２\"))","v":""},"","",{"$f":"IF(V1049=\"\",\"\",COUNTIF($V$7:V1049,\"該当３\"))","v":""}]
[1921108001,19,{"v":211,"d":"211 "},{"v":8,"d":"08 "},{"v":1,"d":"001 "},"山梨県","笛吹市","花鳥村２－２","竹居",null,"","",{"$f":"IF(K1050=\"\",\"\",COUNTIF($K$7:K1050,\"ﾘｽﾄ１\"))","v":""},"","","","","","","",{"$f":"IF(S1050=\"\",\"\",COUNTIF($S$7:S1050,\"該当２\"))","v":""},"","",{"$f":"IF(V1050=\"\",\"\",COUNTIF($V$7:V1050,\"該当３\"))","v":""}]
[1921108002,19,{"v":211,"d":"211 "},{"v":8,"d":"08 "},{"v":2,"d":"002 "},"山梨県","笛吹市","花鳥村２－２","大野寺",null,"","",{"$f":"IF(K1051=\"\",\"\",COUNTIF($K$7:K1051,\"ﾘｽﾄ１\"))","v":""},"","","","","","","",{"$f":"IF(S1051=\"\",\"\",COUNTIF($S$7:S1051,\"該当２\"))","v":""},"","",{"$f":"IF(V1051=\"\",\"\",COUNTIF($V$7:V1051,\"該当３\"))","v":""}]
[1921108003,19,{"v":211,"d":"211 "},{"v":8,"d":"08 "},{"v":3,"d":"003 "},"山梨県","笛吹市","花鳥村２－２","二階",null,"","",{"$f":"IF(K1052=\"\",\"\",COUNTIF($K$7:K1052,\"ﾘｽﾄ１\"))","v":""},"","","","","","","",{"$f":"IF(S1052=\"\",\"\",COUNTIF($S$7:S1052,\"該当２\"))","v":""},"","",{"$f":"IF(V1052=\"\",\"\",COUNTIF($V$7:V1052,\"該当３\"))","v":""}]
[1921109000,19,{"v":211,"d":"211 "},{"v":9,"d":"09 "},{"v":0,"d":"000 "},"山梨県","笛吹市","一宮村",null,null,"","",{"$f":"IF(K1053=\"\",\"\",COUNTIF($K$7:K1053,\"ﾘｽﾄ１\"))","v":""},"","","","","","","",{"$f":"IF(S1053=\"\",\"\",COUNTIF($S$7:S1053,\"該当２\"))","v":""},"","",{"$f":"IF(V1053=\"\",\"\",COUNTIF($V$7:V1053,\"該当３\"))","v":""}]
[1921109001,19,{"v":211,"d":"211 "},{"v":9,"d":"09 "},{"v":1,"d":"001 "},"山梨県","笛吹市","一宮村","下矢作",null,"","",{"$f":"IF(K1054=\"\",\"\",COUNTIF($K$7:K1054,\"ﾘｽﾄ１\"))","v":""},"","","","","","","",{"$f":"IF(S1054=\"\",\"\",COUNTIF($S$7:S1054,\"該当２\"))","v":""},"","",{"$f":"IF(V1054=\"\",\"\",COUNTIF($V$7:V1054,\"該当３\"))","v":""}]
[1921109002,19,{"v":211,"d":"211 "},{"v":9,"d":"09 "},{"v":2,"d":"002 "},"山梨県","笛吹市","一宮村","小城",null,"","",{"$f":"IF(K1055=\"\",\"\",COUNTIF($K$7:K1055,\"ﾘｽﾄ１\"))","v":""},"","","","","","","",{"$f":"IF(S1055=\"\",\"\",COUNTIF($S$7:S1055,\"該当２\"))","v":""},"","",{"$f":"IF(V1055=\"\",\"\",COUNTIF($V$7:V1055,\"該当３\"))","v":""}]
[1921109003,19,{"v":211,"d":"211 "},{"v":9,"d":"09 "},{"v":3,"d":"003 "},"山梨県","笛吹市","一宮村","北都塚",null,"","",{"$f":"IF(K1056=\"\",\"\",COUNTIF($K$7:K1056,\"ﾘｽﾄ１\"))","v":""},"","","","","","","",{"$f":"IF(S1056=\"\",\"\",COUNTIF($S$7:S1056,\"該当２\"))","v":""},"","",{"$f":"IF(V1056=\"\",\"\",COUNTIF($V$7:V1056,\"該当３\"))","v":""}]
[1921109004,19,{"v":211,"d":"211 "},{"v":9,"d":"09 "},{"v":4,"d":"004 "},"山梨県","笛吹市","一宮村","一ノ宮",null,"","",{"$f":"IF(K1057=\"\",\"\",COUNTIF($K$7:K1057,\"ﾘｽﾄ１\"))","v":""},"","","","","","","",{"$f":"IF(S1057=\"\",\"\",COUNTIF($S$7:S1057,\"該当２\"))","v":""},"","",{"$f":"IF(V1057=\"\",\"\",COUNTIF($V$7:V1057,\"該当３\"))","v":""}]
[1921109005,19,{"v":211,"d":"211 "},{"v":9,"d":"09 "},{"v":5,"d":"005 "},"山梨県","笛吹市","一宮村","末木",null,"","",{"$f":"IF(K1058=\"\",\"\",COUNTIF($K$7:K1058,\"ﾘｽﾄ１\"))","v":""},"","","","","","","",{"$f":"IF(S1058=\"\",\"\",COUNTIF($S$7:S1058,\"該当２\"))","v":""},"","",{"$f":"IF(V1058=\"\",\"\",COUNTIF($V$7:V1058,\"該当３\"))","v":""}]
[1921109006,19,{"v":211,"d":"211 "},{"v":9,"d":"09 "},{"v":6,"d":"006 "},"山梨県","笛吹市","一宮村","本都塚",null,"","",{"$f":"IF(K1059=\"\",\"\",COUNTIF($K$7:K1059,\"ﾘｽﾄ１\"))","v":""},"","","","","","","",{"$f":"IF(S1059=\"\",\"\",COUNTIF($S$7:S1059,\"該当２\"))","v":""},"","",{"$f":"IF(V1059=\"\",\"\",COUNTIF($V$7:V1059,\"該当３\"))","v":""}]
[1921109007,19,{"v":211,"d":"211 "},{"v":9,"d":"09 "},{"v":7,"d":"007 "},"山梨県","笛吹市","一宮村","竹原田",null,"","",{"$f":"IF(K1060=\"\",\"\",COUNTIF($K$7:K1060,\"ﾘｽﾄ１\"))","v":""},"","","","","","","",{"$f":"IF(S1060=\"\",\"\",COUNTIF($S$7:S1060,\"該当２\"))","v":""},"","",{"$f":"IF(V1060=\"\",\"\",COUNTIF($V$7:V1060,\"該当３\"))","v":""}]
[1921109008,19,{"v":211,"d":"211 "},{"v":9,"d":"09 "},{"v":8,"d":"008 "},"山梨県","笛吹市","一宮村","金田",null,"","",{"$f":"IF(K1061=\"\",\"\",COUNTIF($K$7:K1061,\"ﾘｽﾄ１\"))","v":""},"","","","","","","",{"$f":"IF(S1061=\"\",\"\",COUNTIF($S$7:S1061,\"該当２\"))","v":""},"","",{"$f":"IF(V1061=\"\",\"\",COUNTIF($V$7:V1061,\"該当３\"))","v":""}]
[1921109009,19,{"v":211,"d":"211 "},{"v":9,"d":"09 "},{"v":9,"d":"009 "},"山梨県","笛吹市","一宮村","東原",null,"","",{"$f":"IF(K1062=\"\",\"\",COUNTIF($K$7:K1062,\"ﾘｽﾄ１\"))","v":""},"","","","","","","",{"$f":"IF(S1062=\"\",\"\",COUNTIF($S$7:S1062,\"該当２\"))","v":""},"","",{"$f":"IF(V1062=\"\",\"\",COUNTIF($V$7:V1062,\"該当３\"))","v":""}]
[1921109010,19,{"v":211,"d":"211 "},{"v":9,"d":"09 "},{"v":10,"d":"010 "},"山梨県","笛吹市","一宮村","国分",null,"","",{"$f":"IF(K1063=\"\",\"\",COUNTIF($K$7:K1063,\"ﾘｽﾄ１\"))","v":""},"","","","","","","",{"$f":"IF(S1063=\"\",\"\",COUNTIF($S$7:S1063,\"該当２\"))","v":""},"","",{"$f":"IF(V1063=\"\",\"\",COUNTIF($V$7:V1063,\"該当３\"))","v":""}]
[1921109011,19,{"v":211,"d":"211 "},{"v":9,"d":"09 "},{"v":11,"d":"011 "},"山梨県","笛吹市","一宮村","坪井",null,"","",{"$f":"IF(K1064=\"\",\"\",COUNTIF($K$7:K1064,\"ﾘｽﾄ１\"))","v":""},"","","","","","","",{"$f":"IF(S1064=\"\",\"\",COUNTIF($S$7:S1064,\"該当２\"))","v":""},"","",{"$f":"IF(V1064=\"\",\"\",COUNTIF($V$7:V1064,\"該当３\"))","v":""}]
[1921109012,19,{"v":211,"d":"211 "},{"v":9,"d":"09 "},{"v":12,"d":"012 "},"山梨県","笛吹市","一宮村","田中",null,"","",{"$f":"IF(K1065=\"\",\"\",COUNTIF($K$7:K1065,\"ﾘｽﾄ１\"))","v":""},"","","","","","","",{"$f":"IF(S1065=\"\",\"\",COUNTIF($S$7:S1065,\"該当２\"))","v":""},"","",{"$f":"IF(V1065=\"\",\"\",COUNTIF($V$7:V1065,\"該当３\"))","v":""}]
[1921110000,19,{"v":211,"d":"211 "},{"v":10,"d":"10 "},{"v":0,"d":"000 "},"山梨県","笛吹市","浅間村",null,null,"","",{"$f":"IF(K1066=\"\",\"\",COUNTIF($K$7:K1066,\"ﾘｽﾄ１\"))","v":""},"","","","","","","",{"$f":"IF(S1066=\"\",\"\",COUNTIF($S$7:S1066,\"該当２\"))","v":""},"","",{"$f":"IF(V1066=\"\",\"\",COUNTIF($V$7:V1066,\"該当３\"))","v":""}]
[1921110001,19,{"v":211,"d":"211 "},{"v":10,"d":"10 "},{"v":1,"d":"001 "},"山梨県","笛吹市","浅間村","新巻",null,"","",{"$f":"IF(K1067=\"\",\"\",COUNTIF($K$7:K1067,\"ﾘｽﾄ１\"))","v":""},"","","","","","","",{"$f":"IF(S1067=\"\",\"\",COUNTIF($S$7:S1067,\"該当２\"))","v":""},"","",{"$f":"IF(V1067=\"\",\"\",COUNTIF($V$7:V1067,\"該当３\"))","v":""}]
[1921110002,19,{"v":211,"d":"211 "},{"v":10,"d":"10 "},{"v":2,"d":"002 "},"山梨県","笛吹市","浅間村","神沢",null,"","",{"$f":"IF(K1068=\"\",\"\",COUNTIF($K$7:K1068,\"ﾘｽﾄ１\"))","v":""},"","","","","","","",{"$f":"IF(S1068=\"\",\"\",COUNTIF($S$7:S1068,\"該当２\"))","v":""},"","",{"$f":"IF(V1068=\"\",\"\",COUNTIF($V$7:V1068,\"該当３\"))","v":""}]
[1921110003,19,{"v":211,"d":"211 "},{"v":10,"d":"10 "},{"v":3,"d":"003 "},"山梨県","笛吹市","浅間村","東新居",null,"","",{"$f":"IF(K1069=\"\",\"\",COUNTIF($K$7:K1069,\"ﾘｽﾄ１\"))","v":""},"","","","","","","",{"$f":"IF(S1069=\"\",\"\",COUNTIF($S$7:S1069,\"該当２\"))","v":""},"","",{"$f":"IF(V1069=\"\",\"\",COUNTIF($V$7:V1069,\"該当３\"))","v":""}]
[1921110004,19,{"v":211,"d":"211 "},{"v":10,"d":"10 "},{"v":4,"d":"004 "},"山梨県","笛吹市","浅間村","狐新居",null,"","",{"$f":"IF(K1070=\"\",\"\",COUNTIF($K$7:K1070,\"ﾘｽﾄ１\"))","v":""},"","","","","","","",{"$f":"IF(S1070=\"\",\"\",COUNTIF($S$7:S1070,\"該当２\"))","v":""},"","",{"$f":"IF(V1070=\"\",\"\",COUNTIF($V$7:V1070,\"該当３\"))","v":""}]
[1921110005,19,{"v":211,"d":"211 "},{"v":10,"d":"10 "},{"v":5,"d":"005 "},"山梨県","笛吹市","浅間村","金沢",null,"","",{"$f":"IF(K1071=\"\",\"\",COUNTIF($K$7:K1071,\"ﾘｽﾄ１\"))","v":""},"","","","","","","",{"$f":"IF(S1071=\"\",\"\",COUNTIF($S$7:S1071,\"該当２\"))","v":""},"","",{"$f":"IF(V1071=\"\",\"\",COUNTIF($V$7:V1071,\"該当３\"))","v":""}]
[1921110006,19,{"v":211,"d":"211 "},{"v":10,"d":"10 "},{"v":6,"d":"006 "},"山梨県","笛吹市","浅間村","土塚",null,"","",{"$f":"IF(K1072=\"\",\"\",COUNTIF($K$7:K1072,\"ﾘｽﾄ１\"))","v":""},"","","","","","","",{"$f":"IF(S1072=\"\",\"\",COUNTIF($S$7:S1072,\"該当２\"))","v":""},"","",{"$f":"IF(V1072=\"\",\"\",COUNTIF($V$7:V1072,\"該当３\"))","v":""}]
[1921110007,19,{"v":211,"d":"211 "},{"v":10,"d":"10 "},{"v":7,"d":"007 "},"山梨県","笛吹市","浅間村","鈴郷",null,"","",{"$f":"IF(K1073=\"\",\"\",COUNTIF($K$7:K1073,\"ﾘｽﾄ１\"))","v":""},"","","","","","","",{"$f":"IF(S1073=\"\",\"\",COUNTIF($S$7:S1073,\"該当２\"))","v":""},"","",{"$f":"IF(V1073=\"\",\"\",COUNTIF($V$7:V1073,\"該当３\"))","v":""}]
[1921110008,19,{"v":211,"d":"211 "},{"v":10,"d":"10 "},{"v":8,"d":"008 "},"山梨県","笛吹市","浅間村","石中",null,"","",{"$f":"IF(K1074=\"\",\"\",COUNTIF($K$7:K1074,\"ﾘｽﾄ１\"))","v":""},"","","","","","","",{"$f":"IF(S1074=\"\",\"\",COUNTIF($S$7:S1074,\"該当２\"))","v":""},"","",{"$f":"IF(V1074=\"\",\"\",COUNTIF($V$7:V1074,\"該当３\"))","v":""}]
[1921110009,19,{"v":211,"d":"211 "},{"v":10,"d":"10 "},{"v":9,"d":"009 "},"山梨県","笛吹市","浅間村","石下",null,"","",{"$f":"IF(K1075=\"\",\"\",COUNTIF($K$7:K1075,\"ﾘｽﾄ１\"))","v":""},"","","","","","","",{"$f":"IF(S1075=\"\",\"\",COUNTIF($S$7:S1075,\"該当２\"))","v":""},"","",{"$f":"IF(V1075=\"\",\"\",COUNTIF($V$7:V1075,\"該当３\"))","v":""}]
[1921110010,19,{"v":211,"d":"211 "},{"v":10,"d":"10 "},{"v":10,"d":"010 "},"山梨県","笛吹市","浅間村","地蔵堂",null,"","",{"$f":"IF(K1076=\"\",\"\",COUNTIF($K$7:K1076,\"ﾘｽﾄ１\"))","v":""},"","","","","","","",{"$f":"IF(S1076=\"\",\"\",COUNTIF($S$7:S1076,\"該当２\"))","v":""},"","",{"$f":"IF(V1076=\"\",\"\",COUNTIF($V$7:V1076,\"該当３\"))","v":""}]
[1921110011,19,{"v":211,"d":"211 "},{"v":10,"d":"10 "},{"v":11,"d":"011 "},"山梨県","笛吹市","浅間村","千米寺",null,"","",{"$f":"IF(K1077=\"\",\"\",COUNTIF($K$7:K1077,\"ﾘｽﾄ１\"))","v":""},"","","","","","","",{"$f":"IF(S1077=\"\",\"\",COUNTIF($S$7:S1077,\"該当２\"))","v":""},"","",{"$f":"IF(V1077=\"\",\"\",COUNTIF($V$7:V1077,\"該当３\"))","v":""}]
[1921110012,19,{"v":211,"d":"211 "},{"v":10,"d":"10 "},{"v":12,"d":"012 "},"山梨県","笛吹市","浅間村","市之蔵",null,"","",{"$f":"IF(K1078=\"\",\"\",COUNTIF($K$7:K1078,\"ﾘｽﾄ１\"))","v":""},"","","","","","","",{"$f":"IF(S1078=\"\",\"\",COUNTIF($S$7:S1078,\"該当２\"))","v":""},"","",{"$f":"IF(V1078=\"\",\"\",COUNTIF($V$7:V1078,\"該当３\"))","v":""}]
[1921110013,19,{"v":211,"d":"211 "},{"v":10,"d":"10 "},{"v":13,"d":"013 "},"山梨県","笛吹市","浅間村","塩田",null,"","",{"$f":"IF(K1079=\"\",\"\",COUNTIF($K$7:K1079,\"ﾘｽﾄ１\"))","v":""},"","","","","","","",{"$f":"IF(S1079=\"\",\"\",COUNTIF($S$7:S1079,\"該当２\"))","v":""},"","",{"$f":"IF(V1079=\"\",\"\",COUNTIF($V$7:V1079,\"該当３\"))","v":""}]
[1921111000,19,{"v":211,"d":"211 "},{"v":11,"d":"11 "},{"v":0,"d":"000 "},"山梨県","笛吹市","相興村",null,null,"","",{"$f":"IF(K1080=\"\",\"\",COUNTIF($K$7:K1080,\"ﾘｽﾄ１\"))","v":""},"","","","","","","",{"$f":"IF(S1080=\"\",\"\",COUNTIF($S$7:S1080,\"該当２\"))","v":""},"","",{"$f":"IF(V1080=\"\",\"\",COUNTIF($V$7:V1080,\"該当３\"))","v":""}]
[1921111001,19,{"v":211,"d":"211 "},{"v":11,"d":"11 "},{"v":1,"d":"001 "},"山梨県","笛吹市","相興村","南野呂",null,"","",{"$f":"IF(K1081=\"\",\"\",COUNTIF($K$7:K1081,\"ﾘｽﾄ１\"))","v":""},"","","","","","","",{"$f":"IF(S1081=\"\",\"\",COUNTIF($S$7:S1081,\"該当２\"))","v":""},"","",{"$f":"IF(V1081=\"\",\"\",COUNTIF($V$7:V1081,\"該当３\"))","v":""}]
[1921111002,19,{"v":211,"d":"211 "},{"v":11,"d":"11 "},{"v":2,"d":"002 "},"山梨県","笛吹市","相興村","北野呂",null,"","",{"$f":"IF(K1082=\"\",\"\",COUNTIF($K$7:K1082,\"ﾘｽﾄ１\"))","v":""},"","","","","","","",{"$f":"IF(S1082=\"\",\"\",COUNTIF($S$7:S1082,\"該当２\"))","v":""},"","",{"$f":"IF(V1082=\"\",\"\",COUNTIF($V$7:V1082,\"該当３\"))","v":""}]
[1921111003,19,{"v":211,"d":"211 "},{"v":11,"d":"11 "},{"v":3,"d":"003 "},"山梨県","笛吹市","相興村","上矢作",null,"","",{"$f":"IF(K1083=\"\",\"\",COUNTIF($K$7:K1083,\"ﾘｽﾄ１\"))","v":""},"","","","","","","",{"$f":"IF(S1083=\"\",\"\",COUNTIF($S$7:S1083,\"該当２\"))","v":""},"","",{"$f":"IF(V1083=\"\",\"\",COUNTIF($V$7:V1083,\"該当３\"))","v":""}]
[1921111004,19,{"v":211,"d":"211 "},{"v":11,"d":"11 "},{"v":4,"d":"004 "},"山梨県","笛吹市","相興村","中尾",null,"","",{"$f":"IF(K1084=\"\",\"\",COUNTIF($K$7:K1084,\"ﾘｽﾄ１\"))","v":""},"","","","","","","",{"$f":"IF(S1084=\"\",\"\",COUNTIF($S$7:S1084,\"該当２\"))","v":""},"","",{"$f":"IF(V1084=\"\",\"\",COUNTIF($V$7:V1084,\"該当３\"))","v":""}]
[1921112000,19,{"v":211,"d":"211 "},{"v":12,"d":"12 "},{"v":0,"d":"000 "},"山梨県","笛吹市","八代村",null,null,"","",{"$f":"IF(K1085=\"\",\"\",COUNTIF($K$7:K1085,\"ﾘｽﾄ１\"))","v":""},"","","","","","","",{"$f":"IF(S1085=\"\",\"\",COUNTIF($S$7:S1085,\"該当２\"))","v":""},"","",{"$f":"IF(V1085=\"\",\"\",COUNTIF($V$7:V1085,\"該当３\"))","v":""}]
[1921112001,19,{"v":211,"d":"211 "},{"v":12,"d":"12 "},{"v":1,"d":"001 "},"山梨県","笛吹市","八代村","南",null,"","",{"$f":"IF(K1086=\"\",\"\",COUNTIF($K$7:K1086,\"ﾘｽﾄ１\"))","v":""},"","","","","","","",{"$f":"IF(S1086=\"\",\"\",COUNTIF($S$7:S1086,\"該当２\"))","v":""},"","",{"$f":"IF(V1086=\"\",\"\",COUNTIF($V$7:V1086,\"該当３\"))","v":""}]
[1921112002,19,{"v":211,"d":"211 "},{"v":12,"d":"12 "},{"v":2,"d":"002 "},"山梨県","笛吹市","八代村","北",null,"","",{"$f":"IF(K1087=\"\",\"\",COUNTIF($K$7:K1087,\"ﾘｽﾄ１\"))","v":""},"","","","","","","",{"$f":"IF(S1087=\"\",\"\",COUNTIF($S$7:S1087,\"該当２\"))","v":""},"","",{"$f":"IF(V1087=\"\",\"\",COUNTIF($V$7:V1087,\"該当３\"))","v":""}]
[1921112003,19,{"v":211,"d":"211 "},{"v":12,"d":"12 "},{"v":3,"d":"003 "},"山梨県","笛吹市","八代村","高家",null,"","",{"$f":"IF(K1088=\"\",\"\",COUNTIF($K$7:K1088,\"ﾘｽﾄ１\"))","v":""},"","","","","","","",{"$f":"IF(S1088=\"\",\"\",COUNTIF($S$7:S1088,\"該当２\"))","v":""},"","",{"$f":"IF(V1088=\"\",\"\",COUNTIF($V$7:V1088,\"該当３\"))","v":""}]
[1921112004,19,{"v":211,"d":"211 "},{"v":12,"d":"12 "},{"v":4,"d":"004 "},"山梨県","笛吹市","八代村","岡",null,"","",{"$f":"IF(K1089=\"\",\"\",COUNTIF($K$7:K1089,\"ﾘｽﾄ１\"))","v":""},"","","","","","","",{"$f":"IF(S1089=\"\",\"\",COUNTIF($S$7:S1089,\"該当２\"))","v":""},"","",{"$f":"IF(V1089=\"\",\"\",COUNTIF($V$7:V1089,\"該当３\"))","v":""}]
[1921112005,19,{"v":211,"d":"211 "},{"v":12,"d":"12 "},{"v":5,"d":"005 "},"山梨県","笛吹市","八代村","増利",null,"","",{"$f":"IF(K1090=\"\",\"\",COUNTIF($K$7:K1090,\"ﾘｽﾄ１\"))","v":""},"","","","","","","",{"$f":"IF(S1090=\"\",\"\",COUNTIF($S$7:S1090,\"該当２\"))","v":""},"","",{"$f":"IF(V1090=\"\",\"\",COUNTIF($V$7:V1090,\"該当３\"))","v":""}]
[1921112006,19,{"v":211,"d":"211 "},{"v":12,"d":"12 "},{"v":6,"d":"006 "},"山梨県","笛吹市","八代村","大間田",null,"","",{"$f":"IF(K1091=\"\",\"\",COUNTIF($K$7:K1091,\"ﾘｽﾄ１\"))","v":""},"","","","","","","",{"$f":"IF(S1091=\"\",\"\",COUNTIF($S$7:S1091,\"該当２\"))","v":""},"","",{"$f":"IF(V1091=\"\",\"\",COUNTIF($V$7:V1091,\"該当３\"))","v":""}]
[1921113000,19,{"v":211,"d":"211 "},{"v":13,"d":"13 "},{"v":0,"d":"000 "},"山梨県","笛吹市","御所村",null,null,"","",{"$f":"IF(K1092=\"\",\"\",COUNTIF($K$7:K1092,\"ﾘｽﾄ１\"))","v":""},"","","","","","","",{"$f":"IF(S1092=\"\",\"\",COUNTIF($S$7:S1092,\"該当２\"))","v":""},"","",{"$f":"IF(V1092=\"\",\"\",COUNTIF($V$7:V1092,\"該当３\"))","v":""}]
[1921113001,19,{"v":211,"d":"211 "},{"v":13,"d":"13 "},{"v":1,"d":"001 "},"山梨県","笛吹市","御所村","永井",null,"","",{"$f":"IF(K1093=\"\",\"\",COUNTIF($K$7:K1093,\"ﾘｽﾄ１\"))","v":""},"","","","","","","",{"$f":"IF(S1093=\"\",\"\",COUNTIF($S$7:S1093,\"該当２\"))","v":""},"","",{"$f":"IF(V1093=\"\",\"\",COUNTIF($V$7:V1093,\"該当３\"))","v":""}]
[1921113002,19,{"v":211,"d":"211 "},{"v":13,"d":"13 "},{"v":2,"d":"002 "},"山梨県","笛吹市","御所村","米倉",null,"","",{"$f":"IF(K1094=\"\",\"\",COUNTIF($K$7:K1094,\"ﾘｽﾄ１\"))","v":""},"","","","","","","",{"$f":"IF(S1094=\"\",\"\",COUNTIF($S$7:S1094,\"該当２\"))","v":""},"","",{"$f":"IF(V1094=\"\",\"\",COUNTIF($V$7:V1094,\"該当３\"))","v":""}]
[1921114000,19,{"v":211,"d":"211 "},{"v":14,"d":"14 "},{"v":0,"d":"000 "},"山梨県","笛吹市","花鳥村２－１",null,null,"","",{"$f":"IF(K1095=\"\",\"\",COUNTIF($K$7:K1095,\"ﾘｽﾄ１\"))","v":""},"","","","","","","",{"$f":"IF(S1095=\"\",\"\",COUNTIF($S$7:S1095,\"該当２\"))","v":""},"","",{"$f":"IF(V1095=\"\",\"\",COUNTIF($V$7:V1095,\"該当３\"))","v":""}]
[1921114001,19,{"v":211,"d":"211 "},{"v":14,"d":"14 "},{"v":1,"d":"001 "},"山梨県","笛吹市","花鳥村２－１","奈良原",null,"","",{"$f":"IF(K1096=\"\",\"\",COUNTIF($K$7:K1096,\"ﾘｽﾄ１\"))","v":""},"","","","","","","",{"$f":"IF(S1096=\"\",\"\",COUNTIF($S$7:S1096,\"該当２\"))","v":""},"","",{"$f":"IF(V1096=\"\",\"\",COUNTIF($V$7:V1096,\"該当３\"))","v":""}]
[1921114002,19,{"v":211,"d":"211 "},{"v":14,"d":"14 "},{"v":2,"d":"002 "},"山梨県","笛吹市","花鳥村２－１","竹居",null,"","",{"$f":"IF(K1097=\"\",\"\",COUNTIF($K$7:K1097,\"ﾘｽﾄ１\"))","v":""},"","","","","","","",{"$f":"IF(S1097=\"\",\"\",COUNTIF($S$7:S1097,\"該当２\"))","v":""},"","",{"$f":"IF(V1097=\"\",\"\",COUNTIF($V$7:V1097,\"該当３\"))","v":""}]
[1921114003,19,{"v":211,"d":"211 "},{"v":14,"d":"14 "},{"v":3,"d":"003 "},"山梨県","笛吹市","花鳥村２－１","大口山",null,"","",{"$f":"IF(K1098=\"\",\"\",COUNTIF($K$7:K1098,\"ﾘｽﾄ１\"))","v":""},"","",{"$f":"IF(O1098=\"該当１\",G1098,\"\")","v":""},{"$f":"IF(O1098=\"該当１\",\"ﾘｽﾄ2\",\"\")","v":""},{"$f":"IF(Q1098=\"ﾘｽﾄ2\",H1098,\"\")","v":""},"",{"$f":"IF(S1098=\"該当２\",H1098,\"\")","v":""},{"$f":"IF(S1098=\"\",\"\",COUNTIF($S$7:S1098,\"該当２\"))","v":""},{"$f":"IF(AND($S$2=H1098,E1098>0,E1098<998),\"該当３\",\"\")","v":""},{"$f":"IF(V1098=\"該当３\",I1098,\"\")","v":""},{"$f":"IF(V1098=\"\",\"\",COUNTIF($V$7:V1098,\"該当３\"))","v":""}]
[1921115000,19,{"v":211,"d":"211 "},{"v":15,"d":"15 "},{"v":0,"d":"000 "},"山梨県","笛吹市","境川村",null,null,{"$f":"IF(AND($C1099>0,$H1099=\"\"),\"ﾘｽﾄ１\",\"\")","v":""},{"$f":"IF(K1099=\"ﾘｽﾄ１\",G1099,\"\")","v":""},{"$f":"IF(K1099=\"\",\"\",COUNTIF($K$7:K1099,\"ﾘｽﾄ１\"))","v":""},{"$f":"IF(AND(D1099=0,E1099>0),\"同一区\",\"\")","v":""},{"$f":"IF(AND(EXACT($K$2,G1099),H1099>0),\"該当１\",\"\")","v":""},"","","",{"$f":"IF(AND(Q1099=\"ﾘｽﾄ2\",OR(I1099=0,AND(N1099=\"同一区\",E1099=1))),\"該当２\",\"\")","v":""},"",{"$f":"IF(S1099=\"\",\"\",COUNTIF($S$7:S1099,\"該当２\"))","v":""},"","",{"$f":"IF(V1099=\"\",\"\",COUNTIF($V$7:V1099,\"該当３\"))","v":""}]
[1921115001,19,{"v":211,"d":"211 "},{"v":15,"d":"15 "},{"v":1,"d":"001 "},"山梨県","笛吹市","境川村","大黒坂",null,"","",{"$f":"IF(K1100=\"\",\"\",COUNTIF($K$7:K1100,\"ﾘｽﾄ１\"))","v":""},"","","","","","","",{"$f":"IF(S1100=\"\",\"\",COUNTIF($S$7:S1100,\"該当２\"))","v":""},"","",{"$f":"IF(V1100=\"\",\"\",COUNTIF($V$7:V1100,\"該当３\"))","v":""}]
[1921115002,19,{"v":211,"d":"211 "},{"v":15,"d":"15 "},{"v":2,"d":"002 "},"山梨県","笛吹市","境川村","大黒坂開拓",null,"","",{"$f":"IF(K1101=\"\",\"\",COUNTIF($K$7:K1101,\"ﾘｽﾄ１\"))","v":""},"","","","","","","",{"$f":"IF(S1101=\"\",\"\",COUNTIF($S$7:S1101,\"該当２\"))","v":""},"","",{"$f":"IF(V1101=\"\",\"\",COUNTIF($V$7:V1101,\"該当３\"))","v":""}]
[1921115003,19,{"v":211,"d":"211 "},{"v":15,"d":"15 "},{"v":3,"d":"003 "},"山梨県","笛吹市","境川村","小黒坂",null,"","",{"$f":"IF(K1102=\"\",\"\",COUNTIF($K$7:K1102,\"ﾘｽﾄ１\"))","v":""},"","","","","","","",{"$f":"IF(S1102=\"\",\"\",COUNTIF($S$7:S1102,\"該当２\"))","v":""},"","",{"$f":"IF(V1102=\"\",\"\",COUNTIF($V$7:V1102,\"該当３\"))","v":""}]
[1921115004,19,{"v":211,"d":"211 "},{"v":15,"d":"15 "},{"v":4,"d":"004 "},"山梨県","笛吹市","境川村","小黒坂開拓",null,"","",{"$f":"IF(K1103=\"\",\"\",COUNTIF($K$7:K1103,\"ﾘｽﾄ１\"))","v":""},"","","","","","","",{"$f":"IF(S1103=\"\",\"\",COUNTIF($S$7:S1103,\"該当２\"))","v":""},"","",{"$f":"IF(V1103=\"\",\"\",COUNTIF($V$7:V1103,\"該当３\"))","v":""}]
[1921115005,19,{"v":211,"d":"211 "},{"v":15,"d":"15 "},{"v":5,"d":"005 "},"山梨県","笛吹市","境川村","小山",null,"","",{"$f":"IF(K1104=\"\",\"\",COUNTIF($K$7:K1104,\"ﾘｽﾄ１\"))","v":""},"","","","","","","",{"$f":"IF(S1104=\"\",\"\",COUNTIF($S$7:S1104,\"該当２\"))","v":""},"","",{"$f":"IF(V1104=\"\",\"\",COUNTIF($V$7:V1104,\"該当３\"))","v":""}]
[1921115006,19,{"v":211,"d":"211 "},{"v":15,"d":"15 "},{"v":6,"d":"006 "},"山梨県","笛吹市","境川村","前間田",null,"","",{"$f":"IF(K1105=\"\",\"\",COUNTIF($K$7:K1105,\"ﾘｽﾄ１\"))","v":""},"","","","","","","",{"$f":"IF(S1105=\"\",\"\",COUNTIF($S$7:S1105,\"該当２\"))","v":""},"","",{"$f":"IF(V1105=\"\",\"\",COUNTIF($V$7:V1105,\"該当３\"))","v":""}]
[1921115007,19,{"v":211,"d":"211 "},{"v":15,"d":"15 "},{"v":7,"d":"007 "},"山梨県","笛吹市","境川村","石橋",null,"","",{"$f":"IF(K1106=\"\",\"\",COUNTIF($K$7:K1106,\"ﾘｽﾄ１\"))","v":""},"","","","","","","",{"$f":"IF(S1106=\"\",\"\",COUNTIF($S$7:S1106,\"該当２\"))","v":""},"","",{"$f":"IF(V1106=\"\",\"\",COUNTIF($V$7:V1106,\"該当３\"))","v":""}]
[1921115008,19,{"v":211,"d":"211 "},{"v":15,"d":"15 "},{"v":8,"d":"008 "},"山梨県","笛吹市","境川村","三椚",null,"","",{"$f":"IF(K1107=\"\",\"\",COUNTIF($K$7:K1107,\"ﾘｽﾄ１\"))","v":""},"","","","","","","",{"$f":"IF(S1107=\"\",\"\",COUNTIF($S$7:S1107,\"該当２\"))","v":""},"","",{"$f":"IF(V1107=\"\",\"\",COUNTIF($V$7:V1107,\"該当３\"))","v":""}]
[1921115009,19,{"v":211,"d":"211 "},{"v":15,"d":"15 "},{"v":9,"d":"009 "},"山梨県","笛吹市","境川村","大坪",null,"","",{"$f":"IF(K1108=\"\",\"\",COUNTIF($K$7:K1108,\"ﾘｽﾄ１\"))","v":""},"","","","","","","",{"$f":"IF(S1108=\"\",\"\",COUNTIF($S$7:S1108,\"該当２\"))","v":""},"","",{"$f":"IF(V1108=\"\",\"\",COUNTIF($V$7:V1108,\"該当３\"))","v":""}]
[1921115010,19,{"v":211,"d":"211 "},{"v":15,"d":"15 "},{"v":10,"d":"010 "},"山梨県","笛吹市","境川村","大窪",null,"","",{"$f":"IF(K1109=\"\",\"\",COUNTIF($K$7:K1109,\"ﾘｽﾄ１\"))","v":""},"","","","","","","",{"$f":"IF(S1109=\"\",\"\",COUNTIF($S$7:S1109,\"該当２\"))","v":""},"","",{"$f":"IF(V1109=\"\",\"\",COUNTIF($V$7:V1109,\"該当３\"))","v":""}]
[1921115011,19,{"v":211,"d":"211 "},{"v":15,"d":"15 "},{"v":11,"d":"011 "},"山梨県","笛吹市","境川村","藤垈",null,"","",{"$f":"IF(K1110=\"\",\"\",COUNTIF($K$7:K1110,\"ﾘｽﾄ１\"))","v":""},"","","","","","","",{"$f":"IF(S1110=\"\",\"\",COUNTIF($S$7:S1110,\"該当２\"))","v":""},"","",{"$f":"IF(V1110=\"\",\"\",COUNTIF($V$7:V1110,\"該当３\"))","v":""}]
[1921115012,19,{"v":211,"d":"211 "},{"v":15,"d":"15 "},{"v":12,"d":"012 "},"山梨県","笛吹市","境川村","原",null,"","",{"$f":"IF(K1111=\"\",\"\",COUNTIF($K$7:K1111,\"ﾘｽﾄ１\"))","v":""},"","","","","","","",{"$f":"IF(S1111=\"\",\"\",COUNTIF($S$7:S1111,\"該当２\"))","v":""},"","",{"$f":"IF(V1111=\"\",\"\",COUNTIF($V$7:V1111,\"該当３\"))","v":""}]
[1921115013,19,{"v":211,"d":"211 "},{"v":15,"d":"15 "},{"v":13,"d":"013 "},"山梨県","笛吹市","境川村","上寺尾",null,"","",{"$f":"IF(K1112=\"\",\"\",COUNTIF($K$7:K1112,\"ﾘｽﾄ１\"))","v":""},"","","","","","","",{"$f":"IF(S1112=\"\",\"\",COUNTIF($S$7:S1112,\"該当２\"))","v":""},"","",{"$f":"IF(V1112=\"\",\"\",COUNTIF($V$7:V1112,\"該当３\"))","v":""}]
[1921115014,19,{"v":211,"d":"211 "},{"v":15,"d":"15 "},{"v":14,"d":"014 "},"山梨県","笛吹市","境川村","中寺尾",null,"","",{"$f":"IF(K1113=\"\",\"\",COUNTIF($K$7:K1113,\"ﾘｽﾄ１\"))","v":""},"","","","","","","",{"$f":"IF(S1113=\"\",\"\",COUNTIF($S$7:S1113,\"該当２\"))","v":""},"","",{"$f":"IF(V1113=\"\",\"\",COUNTIF($V$7:V1113,\"該当３\"))","v":""}]
[1921115015,19,{"v":211,"d":"211 "},{"v":15,"d":"15 "},{"v":15,"d":"015 "},"山梨県","笛吹市","境川村","間門",null,"","",{"$f":"IF(K1114=\"\",\"\",COUNTIF($K$7:K1114,\"ﾘｽﾄ１\"))","v":""},"","","","","","","",{"$f":"IF(S1114=\"\",\"\",COUNTIF($S$7:S1114,\"該当２\"))","v":""},"","",{"$f":"IF(V1114=\"\",\"\",COUNTIF($V$7:V1114,\"該当３\"))","v":""}]
[1921116000,19,{"v":211,"d":"211 "},{"v":16,"d":"16 "},{"v":0,"d":"000 "},"山梨県","笛吹市","春日居村",null,null,"","",{"$f":"IF(K1115=\"\",\"\",COUNTIF($K$7:K1115,\"ﾘｽﾄ１\"))","v":""},"","","","","","","",{"$f":"IF(S1115=\"\",\"\",COUNTIF($S$7:S1115,\"該当２\"))","v":""},"","",{"$f":"IF(V1115=\"\",\"\",COUNTIF($V$7:V1115,\"該当３\"))","v":""}]
[1921116001,19,{"v":211,"d":"211 "},{"v":16,"d":"16 "},{"v":1,"d":"001 "},"山梨県","笛吹市","春日居村","熊野堂（下）",null,"","",{"$f":"IF(K1116=\"\",\"\",COUNTIF($K$7:K1116,\"ﾘｽﾄ１\"))","v":""},"","","","","","","",{"$f":"IF(S1116=\"\",\"\",COUNTIF($S$7:S1116,\"該当２\"))","v":""},"","",{"$f":"IF(V1116=\"\",\"\",COUNTIF($V$7:V1116,\"該当３\"))","v":""}]
[1921116002,19,{"v":211,"d":"211 "},{"v":16,"d":"16 "},{"v":2,"d":"002 "},"山梨県","笛吹市","春日居村","熊野堂（上）",null,"","",{"$f":"IF(K1117=\"\",\"\",COUNTIF($K$7:K1117,\"ﾘｽﾄ１\"))","v":""},"","","","","","","",{"$f":"IF(S1117=\"\",\"\",COUNTIF($S$7:S1117,\"該当２\"))","v":""},"","",{"$f":"IF(V1117=\"\",\"\",COUNTIF($V$7:V1117,\"該当３\"))","v":""}]
[1921116003,19,{"v":211,"d":"211 "},{"v":16,"d":"16 "},{"v":3,"d":"003 "},"山梨県","笛吹市","春日居村","下岩下（下）",null,"","",{"$f":"IF(K1118=\"\",\"\",COUNTIF($K$7:K1118,\"ﾘｽﾄ１\"))","v":""},"","","","","","","",{"$f":"IF(S1118=\"\",\"\",COUNTIF($S$7:S1118,\"該当２\"))","v":""},"","",{"$f":"IF(V1118=\"\",\"\",COUNTIF($V$7:V1118,\"該当３\"))","v":""}]
[1921116004,19,{"v":211,"d":"211 "},{"v":16,"d":"16 "},{"v":4,"d":"004 "},"山梨県","笛吹市","春日居村","下岩下（上）",null,"","",{"$f":"IF(K1119=\"\",\"\",COUNTIF($K$7:K1119,\"ﾘｽﾄ１\"))","v":""},"","","","","","","",{"$f":"IF(S1119=\"\",\"\",COUNTIF($S$7:S1119,\"該当２\"))","v":""},"","",{"$f":"IF(V1119=\"\",\"\",COUNTIF($V$7:V1119,\"該当３\"))","v":""}]
[1921116005,19,{"v":211,"d":"211 "},{"v":16,"d":"16 "},{"v":5,"d":"005 "},"山梨県","笛吹市","春日居村","別田",null,"","",{"$f":"IF(K1120=\"\",\"\",COUNTIF($K$7:K1120,\"ﾘｽﾄ１\"))","v":""},"","","","","","","",{"$f":"IF(S1120=\"\",\"\",COUNTIF($S$7:S1120,\"該当２\"))","v":""},"","",{"$f":"IF(V1120=\"\",\"\",COUNTIF($V$7:V1120,\"該当３\"))","v":""}]
[1921116006,19,{"v":211,"d":"211 "},{"v":16,"d":"16 "},{"v":6,"d":"006 "},"山梨県","笛吹市","春日居村","桑戸（北）",null,"","",{"$f":"IF(K1121=\"\",\"\",COUNTIF($K$7:K1121,\"ﾘｽﾄ１\"))","v":""},"","","","","","","",{"$f":"IF(S1121=\"\",\"\",COUNTIF($S$7:S1121,\"該当２\"))","v":""},"","",{"$f":"IF(V1121=\"\",\"\",COUNTIF($V$7:V1121,\"該当３\"))","v":""}]
[1921116007,19,{"v":211,"d":"211 "},{"v":16,"d":"16 "},{"v":7,"d":"007 "},"山梨県","笛吹市","春日居村","桑戸（西）",null,"","",{"$f":"IF(K1122=\"\",\"\",COUNTIF($K$7:K1122,\"ﾘｽﾄ１\"))","v":""},"","","","","","","",{"$f":"IF(S1122=\"\",\"\",COUNTIF($S$7:S1122,\"該当２\"))","v":""},"","",{"$f":"IF(V1122=\"\",\"\",COUNTIF($V$7:V1122,\"該当３\"))","v":""}]
[1921116008,19,{"v":211,"d":"211 "},{"v":16,"d":"16 "},{"v":8,"d":"008 "},"山梨県","笛吹市","春日居村","桑戸（中）",null,"","",{"$f":"IF(K1123=\"\",\"\",COUNTIF($K$7:K1123,\"ﾘｽﾄ１\"))","v":""},"","","","","","","",{"$f":"IF(S1123=\"\",\"\",COUNTIF($S$7:S1123,\"該当２\"))","v":""},"","",{"$f":"IF(V1123=\"\",\"\",COUNTIF($V$7:V1123,\"該当３\"))","v":""}]
[1921116009,19,{"v":211,"d":"211 "},{"v":16,"d":"16 "},{"v":9,"d":"009 "},"山梨県","笛吹市","春日居村","桑戸（東）",null,"","",{"$f":"IF(K1124=\"\",\"\",COUNTIF($K$7:K1124,\"ﾘｽﾄ１\"))","v":""},"","","","","","","",{"$f":"IF(S1124=\"\",\"\",COUNTIF($S$7:S1124,\"該当２\"))","v":""},"","",{"$f":"IF(V1124=\"\",\"\",COUNTIF($V$7:V1124,\"該当３\"))","v":""}]
[1921116010,19,{"v":211,"d":"211 "},{"v":16,"d":"16 "},{"v":10,"d":"010 "},"山梨県","笛吹市","春日居村","小松",null,"","",{"$f":"IF(K1125=\"\",\"\",COUNTIF($K$7:K1125,\"ﾘｽﾄ１\"))","v":""},"","","","","","","",{"$f":"IF(S1125=\"\",\"\",COUNTIF($S$7:S1125,\"該当２\"))","v":""},"","",{"$f":"IF(V1125=\"\",\"\",COUNTIF($V$7:V1125,\"該当３\"))","v":""}]
[1921116011,19,{"v":211,"d":"211 "},{"v":16,"d":"16 "},{"v":11,"d":"011 "},"山梨県","笛吹市","春日居村","枝郷",null,"","",{"$f":"IF(K1126=\"\",\"\",COUNTIF($K$7:K1126,\"ﾘｽﾄ１\"))","v":""},"","","","","","","",{"$f":"IF(S1126=\"\",\"\",COUNTIF($S$7:S1126,\"該当２\"))","v":""},"","",{"$f":"IF(V1126=\"\",\"\",COUNTIF($V$7:V1126,\"該当３\"))","v":""}]
[1921116012,19,{"v":211,"d":"211 "},{"v":16,"d":"16 "},{"v":12,"d":"012 "},"山梨県","笛吹市","春日居村","寺本",null,"","",{"$f":"IF(K1127=\"\",\"\",COUNTIF($K$7:K1127,\"ﾘｽﾄ１\"))","v":""},"","","","","","","",{"$f":"IF(S1127=\"\",\"\",COUNTIF($S$7:S1127,\"該当２\"))","v":""},"","",{"$f":"IF(V1127=\"\",\"\",COUNTIF($V$7:V1127,\"該当３\"))","v":""}]
[1921116013,19,{"v":211,"d":"211 "},{"v":16,"d":"16 "},{"v":13,"d":"013 "},"山梨県","笛吹市","春日居村","加茂",null,"","",{"$f":"IF(K1128=\"\",\"\",COUNTIF($K$7:K1128,\"ﾘｽﾄ１\"))","v":""},"","","","","","","",{"$f":"IF(S1128=\"\",\"\",COUNTIF($S$7:S1128,\"該当２\"))","v":""},"","",{"$f":"IF(V1128=\"\",\"\",COUNTIF($V$7:V1128,\"該当３\"))","v":""}]
[1921117000,19,{"v":211,"d":"211 "},{"v":17,"d":"17 "},{"v":0,"d":"000 "},"山梨県","笛吹市","岡部村２－１",null,null,"","",{"$f":"IF(K1129=\"\",\"\",COUNTIF($K$7:K1129,\"ﾘｽﾄ１\"))","v":""},"","","","","","","",{"$f":"IF(S1129=\"\",\"\",COUNTIF($S$7:S1129,\"該当２\"))","v":""},"","",{"$f":"IF(V1129=\"\",\"\",COUNTIF($V$7:V1129,\"該当３\"))","v":""}]
[1921117001,19,{"v":211,"d":"211 "},{"v":17,"d":"17 "},{"v":1,"d":"001 "},"山梨県","笛吹市","岡部村２－１","国府",null,"","",{"$f":"IF(K1130=\"\",\"\",COUNTIF($K$7:K1130,\"ﾘｽﾄ１\"))","v":""},"","","","","","","",{"$f":"IF(S1130=\"\",\"\",COUNTIF($S$7:S1130,\"該当２\"))","v":""},"","",{"$f":"IF(V1130=\"\",\"\",COUNTIF($V$7:V1130,\"該当３\"))","v":""}]
[1921117002,19,{"v":211,"d":"211 "},{"v":17,"d":"17 "},{"v":2,"d":"002 "},"山梨県","笛吹市","岡部村２－１","徳条",null,"","",{"$f":"IF(K1131=\"\",\"\",COUNTIF($K$7:K1131,\"ﾘｽﾄ１\"))","v":""},"","","","","","","",{"$f":"IF(S1131=\"\",\"\",COUNTIF($S$7:S1131,\"該当２\"))","v":""},"","",{"$f":"IF(V1131=\"\",\"\",COUNTIF($V$7:V1131,\"該当３\"))","v":""}]
[1921117003,19,{"v":211,"d":"211 "},{"v":17,"d":"17 "},{"v":3,"d":"003 "},"山梨県","笛吹市","岡部村２－１","鎮目",null,"","",{"$f":"IF(K1132=\"\",\"\",COUNTIF($K$7:K1132,\"ﾘｽﾄ１\"))","v":""},"","","","","","","",{"$f":"IF(S1132=\"\",\"\",COUNTIF($S$7:S1132,\"該当２\"))","v":""},"","",{"$f":"IF(V1132=\"\",\"\",COUNTIF($V$7:V1132,\"該当３\"))","v":""}]
[1921117004,19,{"v":211,"d":"211 "},{"v":17,"d":"17 "},{"v":4,"d":"004 "},"山梨県","笛吹市","岡部村２－１","鎮目中",null,"","",{"$f":"IF(K1133=\"\",\"\",COUNTIF($K$7:K1133,\"ﾘｽﾄ１\"))","v":""},"","","","","","","",{"$f":"IF(S1133=\"\",\"\",COUNTIF($S$7:S1133,\"該当２\"))","v":""},"","",{"$f":"IF(V1133=\"\",\"\",COUNTIF($V$7:V1133,\"該当３\"))","v":""}]
[1921117005,19,{"v":211,"d":"211 "},{"v":17,"d":"17 "},{"v":5,"d":"005 "},"山梨県","笛吹市","岡部村２－１","鎮目下",null,"","",{"$f":"IF(K1134=\"\",\"\",COUNTIF($K$7:K1134,\"ﾘｽﾄ１\"))","v":""},"","","","","","","",{"$f":"IF(S1134=\"\",\"\",COUNTIF($S$7:S1134,\"該当２\"))","v":""},"","",{"$f":"IF(V1134=\"\",\"\",COUNTIF($V$7:V1134,\"該当３\"))","v":""}]
[1921117006,19,{"v":211,"d":"211 "},{"v":17,"d":"17 "},{"v":6,"d":"006 "},"山梨県","笛吹市","岡部村２－１","鎮目山口",null,"","",{"$f":"IF(K1135=\"\",\"\",COUNTIF($K$7:K1135,\"ﾘｽﾄ１\"))","v":""},"","","","","","","",{"$f":"IF(S1135=\"\",\"\",COUNTIF($S$7:S1135,\"該当２\"))","v":""},"","",{"$f":"IF(V1135=\"\",\"\",COUNTIF($V$7:V1135,\"該当３\"))","v":""}]
[1921118000,19,{"v":211,"d":"211 "},{"v":18,"d":"18 "},{"v":0,"d":"000 "},"山梨県","笛吹市","芦川村",null,null,"","",{"$f":"IF(K1136=\"\",\"\",COUNTIF($K$7:K1136,\"ﾘｽﾄ１\"))","v":""},"","","","","","","",{"$f":"IF(S1136=\"\",\"\",COUNTIF($S$7:S1136,\"該当２\"))","v":""},"","",{"$f":"IF(V1136=\"\",\"\",COUNTIF($V$7:V1136,\"該当３\"))","v":""}]
[1921118001,19,{"v":211,"d":"211 "},{"v":18,"d":"18 "},{"v":1,"d":"001 "},"山梨県","笛吹市","芦川村","上芦川",null,"","",{"$f":"IF(K1137=\"\",\"\",COUNTIF($K$7:K1137,\"ﾘｽﾄ１\"))","v":""},"","","","","","","",{"$f":"IF(S1137=\"\",\"\",COUNTIF($S$7:S1137,\"該当２\"))","v":""},"","",{"$f":"IF(V1137=\"\",\"\",COUNTIF($V$7:V1137,\"該当３\"))","v":""}]
[1921118002,19,{"v":211,"d":"211 "},{"v":18,"d":"18 "},{"v":2,"d":"002 "},"山梨県","笛吹市","芦川村","新井原",null,"","",{"$f":"IF(K1138=\"\",\"\",COUNTIF($K$7:K1138,\"ﾘｽﾄ１\"))","v":""},"","","","","","","",{"$f":"IF(S1138=\"\",\"\",COUNTIF($S$7:S1138,\"該当２\"))","v":""},"","",{"$f":"IF(V1138=\"\",\"\",COUNTIF($V$7:V1138,\"該当３\"))","v":""}]
[1921118003,19,{"v":211,"d":"211 "},{"v":18,"d":"18 "},{"v":3,"d":"003 "},"山梨県","笛吹市","芦川村","中芦川",null,"","",{"$f":"IF(K1139=\"\",\"\",COUNTIF($K$7:K1139,\"ﾘｽﾄ１\"))","v":""},"","","","","","","",{"$f":"IF(S1139=\"\",\"\",COUNTIF($S$7:S1139,\"該当２\"))","v":""},"","",{"$f":"IF(V1139=\"\",\"\",COUNTIF($V$7:V1139,\"該当３\"))","v":""}]
[1921118004,19,{"v":211,"d":"211 "},{"v":18,"d":"18 "},{"v":4,"d":"004 "},"山梨県","笛吹市","芦川村","鶯宿",null,"","",{"$f":"IF(K1140=\"\",\"\",COUNTIF($K$7:K1140,\"ﾘｽﾄ１\"))","v":""},"","","","","","","",{"$f":"IF(S1140=\"\",\"\",COUNTIF($S$7:S1140,\"該当２\"))","v":""},"","",{"$f":"IF(V1140=\"\",\"\",COUNTIF($V$7:V1140,\"該当３\"))","v":""}]
[1921200000,19,{"v":212,"d":"212 "},{"v":0,"d":"00 "},{"v":0,"d":"000 "},"山梨県","上野原市",{"$nulls":3},"ﾘｽﾄ１","上野原市",{"$f":"IF(K1141=\"\",\"\",COUNTIF($K$7:K1141,\"ﾘｽﾄ１\"))","v":11},"","","","","","","",{"$f":"IF(S1141=\"\",\"\",COUNTIF($S$7:S1141,\"該当２\"))","v":""},"","",{"$f":"IF(V1141=\"\",\"\",COUNTIF($V$7:V1141,\"該当３\"))","v":""}]
[1921201000,19,{"v":212,"d":"212 "},{"v":1,"d":"01 "},{"v":0,"d":"000 "},"山梨県","上野原市","秋山村",null,null,"","",{"$f":"IF(K1142=\"\",\"\",COUNTIF($K$7:K1142,\"ﾘｽﾄ１\"))","v":""},"","","","","","","",{"$f":"IF(S1142=\"\",\"\",COUNTIF($S$7:S1142,\"該当２\"))","v":""},"","",{"$f":"IF(V1142=\"\",\"\",COUNTIF($V$7:V1142,\"該当３\"))","v":""}]
[1921201001,19,{"v":212,"d":"212 "},{"v":1,"d":"01 "},{"v":1,"d":"001 "},"山梨県","上野原市","秋山村","無生野",null,"","",{"$f":"IF(K1143=\"\",\"\",COUNTIF($K$7:K1143,\"ﾘｽﾄ１\"))","v":""},"","","","","","","",{"$f":"IF(S1143=\"\",\"\",COUNTIF($S$7:S1143,\"該当２\"))","v":""},"","",{"$f":"IF(V1143=\"\",\"\",COUNTIF($V$7:V1143,\"該当３\"))","v":""}]
[1921201002,19,{"v":212,"d":"212 "},{"v":1,"d":"01 "},{"v":2,"d":"002 "},"山梨県","上野原市","秋山村","浜沢",null,"","",{"$f":"IF(K1144=\"\",\"\",COUNTIF($K$7:K1144,\"ﾘｽﾄ１\"))","v":""},"","","","","","","",{"$f":"IF(S1144=\"\",\"\",COUNTIF($S$7:S1144,\"該当２\"))","v":""},"","",{"$f":"IF(V1144=\"\",\"\",COUNTIF($V$7:V1144,\"該当３\"))","v":""}]
[1921201003,19,{"v":212,"d":"212 "},{"v":1,"d":"01 "},{"v":3,"d":"003 "},"山梨県","上野原市","秋山村","原",null,"","",{"$f":"IF(K1145=\"\",\"\",COUNTIF($K$7:K1145,\"ﾘｽﾄ１\"))","v":""},"","","","","","","",{"$f":"IF(S1145=\"\",\"\",COUNTIF($S$7:S1145,\"該当２\"))","v":""},"","",{"$f":"IF(V1145=\"\",\"\",COUNTIF($V$7:V1145,\"該当３\"))","v":""}]
[1921201004,19,{"v":212,"d":"212 "},{"v":1,"d":"01 "},{"v":4,"d":"004 "},"山梨県","上野原市","秋山村","尾崎",null,"","",{"$f":"IF(K1146=\"\",\"\",COUNTIF($K$7:K1146,\"ﾘｽﾄ１\"))","v":""},"","","","","","","",{"$f":"IF(S1146=\"\",\"\",COUNTIF($S$7:S1146,\"該当２\"))","v":""},"","",{"$f":"IF(V1146=\"\",\"\",COUNTIF($V$7:V1146,\"該当３\"))","v":""}]
[1921201005,19,{"v":212,"d":"212 "},{"v":1,"d":"01 "},{"v":5,"d":"005 "},"山梨県","上野原市","秋山村","寺下",null,"","",{"$f":"IF(K1147=\"\",\"\",COUNTIF($K$7:K1147,\"ﾘｽﾄ１\"))","v":""},"","","","","","","",{"$f":"IF(S1147=\"\",\"\",COUNTIF($S$7:S1147,\"該当２\"))","v":""},"","",{"$f":"IF(V1147=\"\",\"\",COUNTIF($V$7:V1147,\"該当３\"))","v":""}]
[1921201006,19,{"v":212,"d":"212 "},{"v":1,"d":"01 "},{"v":6,"d":"006 "},"山梨県","上野原市","秋山村","板崎",null,"","",{"$f":"IF(K1148=\"\",\"\",COUNTIF($K$7:K1148,\"ﾘｽﾄ１\"))","v":""},"","","","","","","",{"$f":"IF(S1148=\"\",\"\",COUNTIF($S$7:S1148,\"該当２\"))","v":""},"","",{"$f":"IF(V1148=\"\",\"\",COUNTIF($V$7:V1148,\"該当３\"))","v":""}]
[1921201007,19,{"v":212,"d":"212 "},{"v":1,"d":"01 "},{"v":7,"d":"007 "},"山梨県","上野原市","秋山村","遠所",null,"","",{"$f":"IF(K1149=\"\",\"\",COUNTIF($K$7:K1149,\"ﾘｽﾄ１\"))","v":""},"","","","","","","",{"$f":"IF(S1149=\"\",\"\",COUNTIF($S$7:S1149,\"該当２\"))","v":""},"","",{"$f":"IF(V1149=\"\",\"\",COUNTIF($V$7:V1149,\"該当３\"))","v":""}]
[1921201008,19,{"v":212,"d":"212 "},{"v":1,"d":"01 "},{"v":8,"d":"008 "},"山梨県","上野原市","秋山村","大地",null,"","",{"$f":"IF(K1150=\"\",\"\",COUNTIF($K$7:K1150,\"ﾘｽﾄ１\"))","v":""},"","","","","","","",{"$f":"IF(S1150=\"\",\"\",COUNTIF($S$7:S1150,\"該当２\"))","v":""},"","",{"$f":"IF(V1150=\"\",\"\",COUNTIF($V$7:V1150,\"該当３\"))","v":""}]
[1921201009,19,{"v":212,"d":"212 "},{"v":1,"d":"01 "},{"v":9,"d":"009 "},"山梨県","上野原市","秋山村","栗谷",null,"","",{"$f":"IF(K1151=\"\",\"\",COUNTIF($K$7:K1151,\"ﾘｽﾄ１\"))","v":""},"","","","","","","",{"$f":"IF(S1151=\"\",\"\",COUNTIF($S$7:S1151,\"該当２\"))","v":""},"","",{"$f":"IF(V1151=\"\",\"\",COUNTIF($V$7:V1151,\"該当３\"))","v":""}]
[1921201010,19,{"v":212,"d":"212 "},{"v":1,"d":"01 "},{"v":10,"d":"010 "},"山梨県","上野原市","秋山村","中野",null,"","",{"$f":"IF(K1152=\"\",\"\",COUNTIF($K$7:K1152,\"ﾘｽﾄ１\"))","v":""},"","","","","","","",{"$f":"IF(S1152=\"\",\"\",COUNTIF($S$7:S1152,\"該当２\"))","v":""},"","",{"$f":"IF(V1152=\"\",\"\",COUNTIF($V$7:V1152,\"該当３\"))","v":""}]
[1921201011,19,{"v":212,"d":"212 "},{"v":1,"d":"01 "},{"v":11,"d":"011 "},"山梨県","上野原市","秋山村","神野",null,"","",{"$f":"IF(K1153=\"\",\"\",COUNTIF($K$7:K1153,\"ﾘｽﾄ１\"))","v":""},"","","","","","","",{"$f":"IF(S1153=\"\",\"\",COUNTIF($S$7:S1153,\"該当２\"))","v":""},"","",{"$f":"IF(V1153=\"\",\"\",COUNTIF($V$7:V1153,\"該当３\"))","v":""}]
[1921201012,19,{"v":212,"d":"212 "},{"v":1,"d":"01 "},{"v":12,"d":"012 "},"山梨県","上野原市","秋山村","小和田",null,"","",{"$f":"IF(K1154=\"\",\"\",COUNTIF($K$7:K1154,\"ﾘｽﾄ１\"))","v":""},"","","","","","","",{"$f":"IF(S1154=\"\",\"\",COUNTIF($S$7:S1154,\"該当２\"))","v":""},"","",{"$f":"IF(V1154=\"\",\"\",COUNTIF($V$7:V1154,\"該当３\"))","v":""}]
[1921201013,19,{"v":212,"d":"212 "},{"v":1,"d":"01 "},{"v":13,"d":"013 "},"山梨県","上野原市","秋山村","古福志",null,"","",{"$f":"IF(K1155=\"\",\"\",COUNTIF($K$7:K1155,\"ﾘｽﾄ１\"))","v":""},"","","","","","","",{"$f":"IF(S1155=\"\",\"\",COUNTIF($S$7:S1155,\"該当２\"))","v":""},"","",{"$f":"IF(V1155=\"\",\"\",COUNTIF($V$7:V1155,\"該当３\"))","v":""}]
[1921201014,19,{"v":212,"d":"212 "},{"v":1,"d":"01 "},{"v":14,"d":"014 "},"山梨県","上野原市","秋山村","桜井",null,"","",{"$f":"IF(K1156=\"\",\"\",COUNTIF($K$7:K1156,\"ﾘｽﾄ１\"))","v":""},"","","","","","","",{"$f":"IF(S1156=\"\",\"\",COUNTIF($S$7:S1156,\"該当２\"))","v":""},"","",{"$f":"IF(V1156=\"\",\"\",COUNTIF($V$7:V1156,\"該当３\"))","v":""}]
[1921201015,19,{"v":212,"d":"212 "},{"v":1,"d":"01 "},{"v":15,"d":"015 "},"山梨県","上野原市","秋山村","富岡",null,"","",{"$f":"IF(K1157=\"\",\"\",COUNTIF($K$7:K1157,\"ﾘｽﾄ１\"))","v":""},"","","","","","","",{"$f":"IF(S1157=\"\",\"\",COUNTIF($S$7:S1157,\"該当２\"))","v":""},"","",{"$f":"IF(V1157=\"\",\"\",COUNTIF($V$7:V1157,\"該当３\"))","v":""}]
[1921201016,19,{"v":212,"d":"212 "},{"v":1,"d":"01 "},{"v":16,"d":"016 "},"山梨県","上野原市","秋山村","安寺沢",null,"","",{"$f":"IF(K1158=\"\",\"\",COUNTIF($K$7:K1158,\"ﾘｽﾄ１\"))","v":""},"","","","","","","",{"$f":"IF(S1158=\"\",\"\",COUNTIF($S$7:S1158,\"該当２\"))","v":""},"","",{"$f":"IF(V1158=\"\",\"\",COUNTIF($V$7:V1158,\"該当３\"))","v":""}]
[1921201017,19,{"v":212,"d":"212 "},{"v":1,"d":"01 "},{"v":17,"d":"017 "},"山梨県","上野原市","秋山村","一古沢",null,"","",{"$f":"IF(K1159=\"\",\"\",COUNTIF($K$7:K1159,\"ﾘｽﾄ１\"))","v":""},"","","","","","","",{"$f":"IF(S1159=\"\",\"\",COUNTIF($S$7:S1159,\"該当２\"))","v":""},"","",{"$f":"IF(V1159=\"\",\"\",COUNTIF($V$7:V1159,\"該当３\"))","v":""}]
[1921201018,19,{"v":212,"d":"212 "},{"v":1,"d":"01 "},{"v":18,"d":"018 "},"山梨県","上野原市","秋山村","金山",null,"","",{"$f":"IF(K1160=\"\",\"\",COUNTIF($K$7:K1160,\"ﾘｽﾄ１\"))","v":""},"","","","","","","",{"$f":"IF(S1160=\"\",\"\",COUNTIF($S$7:S1160,\"該当２\"))","v":""},"","",{"$f":"IF(V1160=\"\",\"\",COUNTIF($V$7:V1160,\"該当３\"))","v":""}]
[1921202000,19,{"v":212,"d":"212 "},{"v":2,"d":"02 "},{"v":0,"d":"000 "},"山梨県","上野原市","大目村",null,null,"","",{"$f":"IF(K1161=\"\",\"\",COUNTIF($K$7:K1161,\"ﾘｽﾄ１\"))","v":""},"","","","","","","",{"$f":"IF(S1161=\"\",\"\",COUNTIF($S$7:S1161,\"該当２\"))","v":""},"","",{"$f":"IF(V1161=\"\",\"\",COUNTIF($V$7:V1161,\"該当３\"))","v":""}]
[1921202001,19,{"v":212,"d":"212 "},{"v":2,"d":"02 "},{"v":1,"d":"001 "},"山梨県","上野原市","大目村","日向",null,"","",{"$f":"IF(K1162=\"\",\"\",COUNTIF($K$7:K1162,\"ﾘｽﾄ１\"))","v":""},"","",{"$f":"IF(O1162=\"該当１\",G1162,\"\")","v":""},{"$f":"IF(O1162=\"該当１\",\"ﾘｽﾄ2\",\"\")","v":""},{"$f":"IF(Q1162=\"ﾘｽﾄ2\",H1162,\"\")","v":""},"",{"$f":"IF(S1162=\"該当２\",H1162,\"\")","v":""},{"$f":"IF(S1162=\"\",\"\",COUNTIF($S$7:S1162,\"該当２\"))","v":""},{"$f":"IF(AND($S$2=H1162,E1162>0,E1162<998),\"該当３\",\"\")","v":""},{"$f":"IF(V1162=\"該当３\",I1162,\"\")","v":""},{"$f":"IF(V1162=\"\",\"\",COUNTIF($V$7:V1162,\"該当３\"))","v":""}]
[1921202002,19,{"v":212,"d":"212 "},{"v":2,"d":"02 "},{"v":2,"d":"002 "},"山梨県","上野原市","大目村","花坂",null,{"$f":"IF(AND($C1163>0,$H1163=\"\"),\"ﾘｽﾄ１\",\"\")","v":""},{"$f":"IF(K1163=\"ﾘｽﾄ１\",G1163,\"\")","v":""},{"$f":"IF(K1163=\"\",\"\",COUNTIF($K$7:K1163,\"ﾘｽﾄ１\"))","v":""},{"$f":"IF(AND(D1163=0,E1163>0),\"同一区\",\"\")","v":""},{"$f":"IF(AND(EXACT($K$2,G1163),H1163>0),\"該当１\",\"\")","v":""},"","","",{"$f":"IF(AND(Q1163=\"ﾘｽﾄ2\",OR(I1163=0,AND(N1163=\"同一区\",E1163=1))),\"該当２\",\"\")","v":""},"",{"$f":"IF(S1163=\"\",\"\",COUNTIF($S$7:S1163,\"該当２\"))","v":""},"","",{"$f":"IF(V1163=\"\",\"\",COUNTIF($V$7:V1163,\"該当３\"))","v":""}]
[1921202003,19,{"v":212,"d":"212 "},{"v":2,"d":"02 "},{"v":3,"d":"003 "},"山梨県","上野原市","大目村","東大野",null,"","",{"$f":"IF(K1164=\"\",\"\",COUNTIF($K$7:K1164,\"ﾘｽﾄ１\"))","v":""},"","","","","","","",{"$f":"IF(S1164=\"\",\"\",COUNTIF($S$7:S1164,\"該当２\"))","v":""},"","",{"$f":"IF(V1164=\"\",\"\",COUNTIF($V$7:V1164,\"該当３\"))","v":""}]
[1921202004,19,{"v":212,"d":"212 "},{"v":2,"d":"02 "},{"v":4,"d":"004 "},"山梨県","上野原市","大目村","西大野",null,"","",{"$f":"IF(K1165=\"\",\"\",COUNTIF($K$7:K1165,\"ﾘｽﾄ１\"))","v":""},"","","","","","","",{"$f":"IF(S1165=\"\",\"\",COUNTIF($S$7:S1165,\"該当２\"))","v":""},"","",{"$f":"IF(V1165=\"\",\"\",COUNTIF($V$7:V1165,\"該当３\"))","v":""}]
[1921202005,19,{"v":212,"d":"212 "},{"v":2,"d":"02 "},{"v":5,"d":"005 "},"山梨県","上野原市","大目村","高橋・南米沢",null,"","",{"$f":"IF(K1166=\"\",\"\",COUNTIF($K$7:K1166,\"ﾘｽﾄ１\"))","v":""},"","","","","","","",{"$f":"IF(S1166=\"\",\"\",COUNTIF($S$7:S1166,\"該当２\"))","v":""},"","",{"$f":"IF(V1166=\"\",\"\",COUNTIF($V$7:V1166,\"該当３\"))","v":""}]
[1921202006,19,{"v":212,"d":"212 "},{"v":2,"d":"02 "},{"v":6,"d":"006 "},"山梨県","上野原市","大目村","谷後",null,"","",{"$f":"IF(K1167=\"\",\"\",COUNTIF($K$7:K1167,\"ﾘｽﾄ１\"))","v":""},"","","","","","","",{"$f":"IF(S1167=\"\",\"\",COUNTIF($S$7:S1167,\"該当２\"))","v":""},"","",{"$f":"IF(V1167=\"\",\"\",COUNTIF($V$7:V1167,\"該当３\"))","v":""}]
[1921202007,19,{"v":212,"d":"212 "},{"v":2,"d":"02 "},{"v":7,"d":"007 "},"山梨県","上野原市","大目村","日留野",null,"","",{"$f":"IF(K1168=\"\",\"\",COUNTIF($K$7:K1168,\"ﾘｽﾄ１\"))","v":""},"","","","","","","",{"$f":"IF(S1168=\"\",\"\",COUNTIF($S$7:S1168,\"該当２\"))","v":""},"","",{"$f":"IF(V1168=\"\",\"\",COUNTIF($V$7:V1168,\"該当３\"))","v":""}]
[1921202008,19,{"v":212,"d":"212 "},{"v":2,"d":"02 "},{"v":8,"d":"008 "},"山梨県","上野原市","大目村","大田，大沢",null,"","",{"$f":"IF(K1169=\"\",\"\",COUNTIF($K$7:K1169,\"ﾘｽﾄ１\"))","v":""},"","","","","","","",{"$f":"IF(S1169=\"\",\"\",COUNTIF($S$7:S1169,\"該当２\"))","v":""},"","",{"$f":"IF(V1169=\"\",\"\",COUNTIF($V$7:V1169,\"該当３\"))","v":""}]
[1921202009,19,{"v":212,"d":"212 "},{"v":2,"d":"02 "},{"v":9,"d":"009 "},"山梨県","上野原市","大目村","恋塚",null,"","",{"$f":"IF(K1170=\"\",\"\",COUNTIF($K$7:K1170,\"ﾘｽﾄ１\"))","v":""},"","","","","","","",{"$f":"IF(S1170=\"\",\"\",COUNTIF($S$7:S1170,\"該当２\"))","v":""},"","",{"$f":"IF(V1170=\"\",\"\",COUNTIF($V$7:V1170,\"該当３\"))","v":""}]
[1921202010,19,{"v":212,"d":"212 "},{"v":2,"d":"02 "},{"v":10,"d":"010 "},"山梨県","上野原市","大目村","犬目",null,"","",{"$f":"IF(K1171=\"\",\"\",COUNTIF($K$7:K1171,\"ﾘｽﾄ１\"))","v":""},"","","","","","","",{"$f":"IF(S1171=\"\",\"\",COUNTIF($S$7:S1171,\"該当２\"))","v":""},"","",{"$f":"IF(V1171=\"\",\"\",COUNTIF($V$7:V1171,\"該当３\"))","v":""}]
[1921202011,19,{"v":212,"d":"212 "},{"v":2,"d":"02 "},{"v":11,"d":"011 "},"山梨県","上野原市","大目村","新田",null,"","",{"$f":"IF(K1172=\"\",\"\",COUNTIF($K$7:K1172,\"ﾘｽﾄ１\"))","v":""},"","","","","","","",{"$f":"IF(S1172=\"\",\"\",COUNTIF($S$7:S1172,\"該当２\"))","v":""},"","",{"$f":"IF(V1172=\"\",\"\",COUNTIF($V$7:V1172,\"該当３\"))","v":""}]
[1921202012,19,{"v":212,"d":"212 "},{"v":2,"d":"02 "},{"v":12,"d":"012 "},"山梨県","上野原市","大目村","矢坪",null,"","",{"$f":"IF(K1173=\"\",\"\",COUNTIF($K$7:K1173,\"ﾘｽﾄ１\"))","v":""},"","","","","","","",{"$f":"IF(S1173=\"\",\"\",COUNTIF($S$7:S1173,\"該当２\"))","v":""},"","",{"$f":"IF(V1173=\"\",\"\",COUNTIF($V$7:V1173,\"該当３\"))","v":""}]
[1921202013,19,{"v":212,"d":"212 "},{"v":2,"d":"02 "},{"v":13,"d":"013 "},"山梨県","上野原市","大目村","談合坂",null,"","",{"$f":"IF(K1174=\"\",\"\",COUNTIF($K$7:K1174,\"ﾘｽﾄ１\"))","v":""},"","","","","","","",{"$f":"IF(S1174=\"\",\"\",COUNTIF($S$7:S1174,\"該当２\"))","v":""},"","",{"$f":"IF(V1174=\"\",\"\",COUNTIF($V$7:V1174,\"該当３\"))","v":""}]
[1921203000,19,{"v":212,"d":"212 "},{"v":3,"d":"03 "},{"v":0,"d":"000 "},"山梨県","上野原市","甲東村",null,null,"","",{"$f":"IF(K1175=\"\",\"\",COUNTIF($K$7:K1175,\"ﾘｽﾄ１\"))","v":""},"","","","","","","",{"$f":"IF(S1175=\"\",\"\",COUNTIF($S$7:S1175,\"該当２\"))","v":""},"","",{"$f":"IF(V1175=\"\",\"\",COUNTIF($V$7:V1175,\"該当３\"))","v":""}]
[1921203001,19,{"v":212,"d":"212 "},{"v":3,"d":"03 "},{"v":1,"d":"001 "},"山梨県","上野原市","甲東村","芦垣",null,"","",{"$f":"IF(K1176=\"\",\"\",COUNTIF($K$7:K1176,\"ﾘｽﾄ１\"))","v":""},"","","","","","","",{"$f":"IF(S1176=\"\",\"\",COUNTIF($S$7:S1176,\"該当２\"))","v":""},"","",{"$f":"IF(V1176=\"\",\"\",COUNTIF($V$7:V1176,\"該当３\"))","v":""}]
[1921203002,19,{"v":212,"d":"212 "},{"v":3,"d":"03 "},{"v":2,"d":"002 "},"山梨県","上野原市","甲東村","和見",null,"","",{"$f":"IF(K1177=\"\",\"\",COUNTIF($K$7:K1177,\"ﾘｽﾄ１\"))","v":""},"","","","","","","",{"$f":"IF(S1177=\"\",\"\",COUNTIF($S$7:S1177,\"該当２\"))","v":""},"","",{"$f":"IF(V1177=\"\",\"\",COUNTIF($V$7:V1177,\"該当３\"))","v":""}]
[1921203003,19,{"v":212,"d":"212 "},{"v":3,"d":"03 "},{"v":3,"d":"003 "},"山梨県","上野原市","甲東村","瀬渕",null,"","",{"$f":"IF(K1178=\"\",\"\",COUNTIF($K$7:K1178,\"ﾘｽﾄ１\"))","v":""},"","","","","","","",{"$f":"IF(S1178=\"\",\"\",COUNTIF($S$7:S1178,\"該当２\"))","v":""},"","",{"$f":"IF(V1178=\"\",\"\",COUNTIF($V$7:V1178,\"該当３\"))","v":""}]
[1921203004,19,{"v":212,"d":"212 "},{"v":3,"d":"03 "},{"v":4,"d":"004 "},"山梨県","上野原市","甲東村","東区",null,"","",{"$f":"IF(K1179=\"\",\"\",COUNTIF($K$7:K1179,\"ﾘｽﾄ１\"))","v":""},"","","","","","","",{"$f":"IF(S1179=\"\",\"\",COUNTIF($S$7:S1179,\"該当２\"))","v":""},"","",{"$f":"IF(V1179=\"\",\"\",COUNTIF($V$7:V1179,\"該当３\"))","v":""}]
[1921203005,19,{"v":212,"d":"212 "},{"v":3,"d":"03 "},{"v":5,"d":"005 "},"山梨県","上野原市","甲東村","西区",null,"","",{"$f":"IF(K1180=\"\",\"\",COUNTIF($K$7:K1180,\"ﾘｽﾄ１\"))","v":""},"","","","","","","",{"$f":"IF(S1180=\"\",\"\",COUNTIF($S$7:S1180,\"該当２\"))","v":""},"","",{"$f":"IF(V1180=\"\",\"\",COUNTIF($V$7:V1180,\"該当３\"))","v":""}]
[1921203006,19,{"v":212,"d":"212 "},{"v":3,"d":"03 "},{"v":6,"d":"006 "},"山梨県","上野原市","甲東村","棚頭",null,"","",{"$f":"IF(K1181=\"\",\"\",COUNTIF($K$7:K1181,\"ﾘｽﾄ１\"))","v":""},"","","","","","","",{"$f":"IF(S1181=\"\",\"\",COUNTIF($S$7:S1181,\"該当２\"))","v":""},"","",{"$f":"IF(V1181=\"\",\"\",COUNTIF($V$7:V1181,\"該当３\"))","v":""}]
[1921203007,19,{"v":212,"d":"212 "},{"v":3,"d":"03 "},{"v":7,"d":"007 "},"山梨県","上野原市","甲東村","荻野",null,"","",{"$f":"IF(K1182=\"\",\"\",COUNTIF($K$7:K1182,\"ﾘｽﾄ１\"))","v":""},"","","","","","","",{"$f":"IF(S1182=\"\",\"\",COUNTIF($S$7:S1182,\"該当２\"))","v":""},"","",{"$f":"IF(V1182=\"\",\"\",COUNTIF($V$7:V1182,\"該当３\"))","v":""}]
[1921203008,19,{"v":212,"d":"212 "},{"v":3,"d":"03 "},{"v":8,"d":"008 "},"山梨県","上野原市","甲東村","野田尻",null,"","",{"$f":"IF(K1183=\"\",\"\",COUNTIF($K$7:K1183,\"ﾘｽﾄ１\"))","v":""},"","","","","","","",{"$f":"IF(S1183=\"\",\"\",COUNTIF($S$7:S1183,\"該当２\"))","v":""},"","",{"$f":"IF(V1183=\"\",\"\",COUNTIF($V$7:V1183,\"該当３\"))","v":""}]
[1921204000,19,{"v":212,"d":"212 "},{"v":4,"d":"04 "},{"v":0,"d":"000 "},"山梨県","上野原市","巌村",null,null,"","",{"$f":"IF(K1184=\"\",\"\",COUNTIF($K$7:K1184,\"ﾘｽﾄ１\"))","v":""},"","","","","","","",{"$f":"IF(S1184=\"\",\"\",COUNTIF($S$7:S1184,\"該当２\"))","v":""},"","",{"$f":"IF(V1184=\"\",\"\",COUNTIF($V$7:V1184,\"該当３\"))","v":""}]
[1921204001,19,{"v":212,"d":"212 "},{"v":4,"d":"04 "},{"v":1,"d":"001 "},"山梨県","上野原市","巌村","仲山，大椚",null,"","",{"$f":"IF(K1185=\"\",\"\",COUNTIF($K$7:K1185,\"ﾘｽﾄ１\"))","v":""},"","","","","","","",{"$f":"IF(S1185=\"\",\"\",COUNTIF($S$7:S1185,\"該当２\"))","v":""},"","",{"$f":"IF(V1185=\"\",\"\",COUNTIF($V$7:V1185,\"該当３\"))","v":""}]
[1921204002,19,{"v":212,"d":"212 "},{"v":4,"d":"04 "},{"v":2,"d":"002 "},"山梨県","上野原市","巌村","八ツ沢",null,"","",{"$f":"IF(K1186=\"\",\"\",COUNTIF($K$7:K1186,\"ﾘｽﾄ１\"))","v":""},"","","","","","","",{"$f":"IF(S1186=\"\",\"\",COUNTIF($S$7:S1186,\"該当２\"))","v":""},"","",{"$f":"IF(V1186=\"\",\"\",COUNTIF($V$7:V1186,\"該当３\"))","v":""}]
[1921204003,19,{"v":212,"d":"212 "},{"v":4,"d":"04 "},{"v":3,"d":"003 "},"山梨県","上野原市","巌村","松留",null,"","",{"$f":"IF(K1187=\"\",\"\",COUNTIF($K$7:K1187,\"ﾘｽﾄ１\"))","v":""},"","","","","","","",{"$f":"IF(S1187=\"\",\"\",COUNTIF($S$7:S1187,\"該当２\"))","v":""},"","",{"$f":"IF(V1187=\"\",\"\",COUNTIF($V$7:V1187,\"該当３\"))","v":""}]
[1921204004,19,{"v":212,"d":"212 "},{"v":4,"d":"04 "},{"v":4,"d":"004 "},"山梨県","上野原市","巌村","牧野",null,"","",{"$f":"IF(K1188=\"\",\"\",COUNTIF($K$7:K1188,\"ﾘｽﾄ１\"))","v":""},"","","","","","","",{"$f":"IF(S1188=\"\",\"\",COUNTIF($S$7:S1188,\"該当２\"))","v":""},"","",{"$f":"IF(V1188=\"\",\"\",COUNTIF($V$7:V1188,\"該当３\"))","v":""}]
[1921204005,19,{"v":212,"d":"212 "},{"v":4,"d":"04 "},{"v":5,"d":"005 "},"山梨県","上野原市","巌村","当月",null,"","",{"$f":"IF(K1189=\"\",\"\",COUNTIF($K$7:K1189,\"ﾘｽﾄ１\"))","v":""},"","","","","","","",{"$f":"IF(S1189=\"\",\"\",COUNTIF($S$7:S1189,\"該当２\"))","v":""},"","",{"$f":"IF(V1189=\"\",\"\",COUNTIF($V$7:V1189,\"該当３\"))","v":""}]
[1921204006,19,{"v":212,"d":"212 "},{"v":4,"d":"04 "},{"v":6,"d":"006 "},"山梨県","上野原市","巌村","久保",null,"","",{"$f":"IF(K1190=\"\",\"\",COUNTIF($K$7:K1190,\"ﾘｽﾄ１\"))","v":""},"","","","","","","",{"$f":"IF(S1190=\"\",\"\",COUNTIF($S$7:S1190,\"該当２\"))","v":""},"","",{"$f":"IF(V1190=\"\",\"\",COUNTIF($V$7:V1190,\"該当３\"))","v":""}]
[1921204007,19,{"v":212,"d":"212 "},{"v":4,"d":"04 "},{"v":7,"d":"007 "},"山梨県","上野原市","巌村","奥平",null,"","",{"$f":"IF(K1191=\"\",\"\",COUNTIF($K$7:K1191,\"ﾘｽﾄ１\"))","v":""},"","","","","","","",{"$f":"IF(S1191=\"\",\"\",COUNTIF($S$7:S1191,\"該当２\"))","v":""},"","",{"$f":"IF(V1191=\"\",\"\",COUNTIF($V$7:V1191,\"該当３\"))","v":""}]
[1921204008,19,{"v":212,"d":"212 "},{"v":4,"d":"04 "},{"v":8,"d":"008 "},"山梨県","上野原市","巌村","川合",null,"","",{"$f":"IF(K1192=\"\",\"\",COUNTIF($K$7:K1192,\"ﾘｽﾄ１\"))","v":""},"","","","","","","",{"$f":"IF(S1192=\"\",\"\",COUNTIF($S$7:S1192,\"該当２\"))","v":""},"","",{"$f":"IF(V1192=\"\",\"\",COUNTIF($V$7:V1192,\"該当３\"))","v":""}]
[1921204009,19,{"v":212,"d":"212 "},{"v":4,"d":"04 "},{"v":9,"d":"009 "},"山梨県","上野原市","巌村","千足",null,"","",{"$f":"IF(K1193=\"\",\"\",COUNTIF($K$7:K1193,\"ﾘｽﾄ１\"))","v":""},"","","","","","","",{"$f":"IF(S1193=\"\",\"\",COUNTIF($S$7:S1193,\"該当２\"))","v":""},"","",{"$f":"IF(V1193=\"\",\"\",COUNTIF($V$7:V1193,\"該当３\"))","v":""}]
[1921204010,19,{"v":212,"d":"212 "},{"v":4,"d":"04 "},{"v":10,"d":"010 "},"山梨県","上野原市","巌村","杖突，栃穴",null,"","",{"$f":"IF(K1194=\"\",\"\",COUNTIF($K$7:K1194,\"ﾘｽﾄ１\"))","v":""},"","","","","","","",{"$f":"IF(S1194=\"\",\"\",COUNTIF($S$7:S1194,\"該当２\"))","v":""},"","",{"$f":"IF(V1194=\"\",\"\",COUNTIF($V$7:V1194,\"該当３\"))","v":""}]
[1921205000,19,{"v":212,"d":"212 "},{"v":5,"d":"05 "},{"v":0,"d":"000 "},"山梨県","上野原市","大鶴村",null,null,"","",{"$f":"IF(K1195=\"\",\"\",COUNTIF($K$7:K1195,\"ﾘｽﾄ１\"))","v":""},"","","","","","","",{"$f":"IF(S1195=\"\",\"\",COUNTIF($S$7:S1195,\"該当２\"))","v":""},"","",{"$f":"IF(V1195=\"\",\"\",COUNTIF($V$7:V1195,\"該当３\"))","v":""}]
[1921205001,19,{"v":212,"d":"212 "},{"v":5,"d":"05 "},{"v":1,"d":"001 "},"山梨県","上野原市","大鶴村","鶴川",null,"","",{"$f":"IF(K1196=\"\",\"\",COUNTIF($K$7:K1196,\"ﾘｽﾄ１\"))","v":""},"","","","","","","",{"$f":"IF(S1196=\"\",\"\",COUNTIF($S$7:S1196,\"該当２\"))","v":""},"","",{"$f":"IF(V1196=\"\",\"\",COUNTIF($V$7:V1196,\"該当３\"))","v":""}]
[1921205002,19,{"v":212,"d":"212 "},{"v":5,"d":"05 "},{"v":2,"d":"002 "},"山梨県","上野原市","大鶴村","大椚",null,"","",{"$f":"IF(K1197=\"\",\"\",COUNTIF($K$7:K1197,\"ﾘｽﾄ１\"))","v":""},"","","","","","","",{"$f":"IF(S1197=\"\",\"\",COUNTIF($S$7:S1197,\"該当２\"))","v":""},"","",{"$f":"IF(V1197=\"\",\"\",COUNTIF($V$7:V1197,\"該当３\"))","v":""}]
[1921205003,19,{"v":212,"d":"212 "},{"v":5,"d":"05 "},{"v":3,"d":"003 "},"山梨県","上野原市","大鶴村","日野",null,"","",{"$f":"IF(K1198=\"\",\"\",COUNTIF($K$7:K1198,\"ﾘｽﾄ１\"))","v":""},"","","","","","","",{"$f":"IF(S1198=\"\",\"\",COUNTIF($S$7:S1198,\"該当２\"))","v":""},"","",{"$f":"IF(V1198=\"\",\"\",COUNTIF($V$7:V1198,\"該当３\"))","v":""}]
[1921205004,19,{"v":212,"d":"212 "},{"v":5,"d":"05 "},{"v":4,"d":"004 "},"山梨県","上野原市","大鶴村","大倉",null,"","",{"$f":"IF(K1199=\"\",\"\",COUNTIF($K$7:K1199,\"ﾘｽﾄ１\"))","v":""},"","","","","","","",{"$f":"IF(S1199=\"\",\"\",COUNTIF($S$7:S1199,\"該当２\"))","v":""},"","",{"$f":"IF(V1199=\"\",\"\",COUNTIF($V$7:V1199,\"該当３\"))","v":""}]
[1921205005,19,{"v":212,"d":"212 "},{"v":5,"d":"05 "},{"v":5,"d":"005 "},"山梨県","上野原市","大鶴村","大曽根",null,"","",{"$f":"IF(K1200=\"\",\"\",COUNTIF($K$7:K1200,\"ﾘｽﾄ１\"))","v":""},"","","","","","","",{"$f":"IF(S1200=\"\",\"\",COUNTIF($S$7:S1200,\"該当２\"))","v":""},"","",{"$f":"IF(V1200=\"\",\"\",COUNTIF($V$7:V1200,\"該当３\"))","v":""}]
[1921205006,19,{"v":212,"d":"212 "},{"v":5,"d":"05 "},{"v":6,"d":"006 "},"山梨県","上野原市","大鶴村","小倉",null,"","",{"$f":"IF(K1201=\"\",\"\",COUNTIF($K$7:K1201,\"ﾘｽﾄ１\"))","v":""},"","","","","","","",{"$f":"IF(S1201=\"\",\"\",COUNTIF($S$7:S1201,\"該当２\"))","v":""},"","",{"$f":"IF(V1201=\"\",\"\",COUNTIF($V$7:V1201,\"該当３\"))","v":""}]
[1921206000,19,{"v":212,"d":"212 "},{"v":6,"d":"06 "},{"v":0,"d":"000 "},"山梨県","上野原市","島田村",null,null,"","",{"$f":"IF(K1202=\"\",\"\",COUNTIF($K$7:K1202,\"ﾘｽﾄ１\"))","v":""},"","","","","","","",{"$f":"IF(S1202=\"\",\"\",COUNTIF($S$7:S1202,\"該当２\"))","v":""},"","",{"$f":"IF(V1202=\"\",\"\",COUNTIF($V$7:V1202,\"該当３\"))","v":""}]
[1921206001,19,{"v":212,"d":"212 "},{"v":6,"d":"06 "},{"v":1,"d":"001 "},"山梨県","上野原市","島田村","上新田",null,"","",{"$f":"IF(K1203=\"\",\"\",COUNTIF($K$7:K1203,\"ﾘｽﾄ１\"))","v":""},"","","","","","","",{"$f":"IF(S1203=\"\",\"\",COUNTIF($S$7:S1203,\"該当２\"))","v":""},"","",{"$f":"IF(V1203=\"\",\"\",COUNTIF($V$7:V1203,\"該当３\"))","v":""}]
[1921206002,19,{"v":212,"d":"212 "},{"v":6,"d":"06 "},{"v":2,"d":"002 "},"山梨県","上野原市","島田村","下新田",null,"","",{"$f":"IF(K1204=\"\",\"\",COUNTIF($K$7:K1204,\"ﾘｽﾄ１\"))","v":""},"","","","","","","",{"$f":"IF(S1204=\"\",\"\",COUNTIF($S$7:S1204,\"該当２\"))","v":""},"","",{"$f":"IF(V1204=\"\",\"\",COUNTIF($V$7:V1204,\"該当３\"))","v":""}]
[1921206003,19,{"v":212,"d":"212 "},{"v":6,"d":"06 "},{"v":3,"d":"003 "},"山梨県","上野原市","島田村","駒門",null,"","",{"$f":"IF(K1205=\"\",\"\",COUNTIF($K$7:K1205,\"ﾘｽﾄ１\"))","v":""},"","","","","","","",{"$f":"IF(S1205=\"\",\"\",COUNTIF($S$7:S1205,\"該当２\"))","v":""},"","",{"$f":"IF(V1205=\"\",\"\",COUNTIF($V$7:V1205,\"該当３\"))","v":""}]
[1921206004,19,{"v":212,"d":"212 "},{"v":6,"d":"06 "},{"v":4,"d":"004 "},"山梨県","上野原市","島田村","西区",null,"","",{"$f":"IF(K1206=\"\",\"\",COUNTIF($K$7:K1206,\"ﾘｽﾄ１\"))","v":""},"","","","","","","",{"$f":"IF(S1206=\"\",\"\",COUNTIF($S$7:S1206,\"該当２\"))","v":""},"","",{"$f":"IF(V1206=\"\",\"\",COUNTIF($V$7:V1206,\"該当３\"))","v":""}]
[1921206005,19,{"v":212,"d":"212 "},{"v":6,"d":"06 "},{"v":5,"d":"005 "},"山梨県","上野原市","島田村","南区",null,"","",{"$f":"IF(K1207=\"\",\"\",COUNTIF($K$7:K1207,\"ﾘｽﾄ１\"))","v":""},"","","","","","","",{"$f":"IF(S1207=\"\",\"\",COUNTIF($S$7:S1207,\"該当２\"))","v":""},"","",{"$f":"IF(V1207=\"\",\"\",COUNTIF($V$7:V1207,\"該当３\"))","v":""}]
[1921206006,19,{"v":212,"d":"212 "},{"v":6,"d":"06 "},{"v":6,"d":"006 "},"山梨県","上野原市","島田村","東区",null,"","",{"$f":"IF(K1208=\"\",\"\",COUNTIF($K$7:K1208,\"ﾘｽﾄ１\"))","v":""},"","","","","","","",{"$f":"IF(S1208=\"\",\"\",COUNTIF($S$7:S1208,\"該当２\"))","v":""},"","",{"$f":"IF(V1208=\"\",\"\",COUNTIF($V$7:V1208,\"該当３\"))","v":""}]
[1921206007,19,{"v":212,"d":"212 "},{"v":6,"d":"06 "},{"v":7,"d":"007 "},"山梨県","上野原市","島田村","田野入",null,"","",{"$f":"IF(K1209=\"\",\"\",COUNTIF($K$7:K1209,\"ﾘｽﾄ１\"))","v":""},"","","","","","","",{"$f":"IF(S1209=\"\",\"\",COUNTIF($S$7:S1209,\"該当２\"))","v":""},"","",{"$f":"IF(V1209=\"\",\"\",COUNTIF($V$7:V1209,\"該当３\"))","v":""}]
[1921207000,19,{"v":212,"d":"212 "},{"v":7,"d":"07 "},{"v":0,"d":"000 "},"山梨県","上野原市","上野原町",null,null,"","",{"$f":"IF(K1210=\"\",\"\",COUNTIF($K$7:K1210,\"ﾘｽﾄ１\"))","v":""},"","","","","","","",{"$f":"IF(S1210=\"\",\"\",COUNTIF($S$7:S1210,\"該当２\"))","v":""},"","",{"$f":"IF(V1210=\"\",\"\",COUNTIF($V$7:V1210,\"該当３\"))","v":""}]
[1921207001,19,{"v":212,"d":"212 "},{"v":7,"d":"07 "},{"v":1,"d":"001 "},"山梨県","上野原市","上野原町","諏訪",null,"","",{"$f":"IF(K1211=\"\",\"\",COUNTIF($K$7:K1211,\"ﾘｽﾄ１\"))","v":""},"","","","","","","",{"$f":"IF(S1211=\"\",\"\",COUNTIF($S$7:S1211,\"該当２\"))","v":""},"","",{"$f":"IF(V1211=\"\",\"\",COUNTIF($V$7:V1211,\"該当３\"))","v":""}]
[1921207002,19,{"v":212,"d":"212 "},{"v":7,"d":"07 "},{"v":2,"d":"002 "},"山梨県","上野原市","上野原町","塚場",null,"","",{"$f":"IF(K1212=\"\",\"\",COUNTIF($K$7:K1212,\"ﾘｽﾄ１\"))","v":""},"","","","","","","",{"$f":"IF(S1212=\"\",\"\",COUNTIF($S$7:S1212,\"該当２\"))","v":""},"","",{"$f":"IF(V1212=\"\",\"\",COUNTIF($V$7:V1212,\"該当３\"))","v":""}]
[1921207003,19,{"v":212,"d":"212 "},{"v":7,"d":"07 "},{"v":3,"d":"003 "},"山梨県","上野原市","上野原町","新町一丁目",null,"","",{"$f":"IF(K1213=\"\",\"\",COUNTIF($K$7:K1213,\"ﾘｽﾄ１\"))","v":""},"","","","","","","",{"$f":"IF(S1213=\"\",\"\",COUNTIF($S$7:S1213,\"該当２\"))","v":""},"","",{"$f":"IF(V1213=\"\",\"\",COUNTIF($V$7:V1213,\"該当３\"))","v":""}]
[1921207004,19,{"v":212,"d":"212 "},{"v":7,"d":"07 "},{"v":4,"d":"004 "},"山梨県","上野原市","上野原町","新町二丁目",null,"","",{"$f":"IF(K1214=\"\",\"\",COUNTIF($K$7:K1214,\"ﾘｽﾄ１\"))","v":""},"","","","","","","",{"$f":"IF(S1214=\"\",\"\",COUNTIF($S$7:S1214,\"該当２\"))","v":""},"","",{"$f":"IF(V1214=\"\",\"\",COUNTIF($V$7:V1214,\"該当３\"))","v":""}]
[1921207005,19,{"v":212,"d":"212 "},{"v":7,"d":"07 "},{"v":5,"d":"005 "},"山梨県","上野原市","上野原町","新町三丁目",null,"","",{"$f":"IF(K1215=\"\",\"\",COUNTIF($K$7:K1215,\"ﾘｽﾄ１\"))","v":""},"","","","","","","",{"$f":"IF(S1215=\"\",\"\",COUNTIF($S$7:S1215,\"該当２\"))","v":""},"","",{"$f":"IF(V1215=\"\",\"\",COUNTIF($V$7:V1215,\"該当３\"))","v":""}]
[1921207006,19,{"v":212,"d":"212 "},{"v":7,"d":"07 "},{"v":6,"d":"006 "},"山梨県","上野原市","上野原町","本町一丁目",null,"","",{"$f":"IF(K1216=\"\",\"\",COUNTIF($K$7:K1216,\"ﾘｽﾄ１\"))","v":""},"","","","","","","",{"$f":"IF(S1216=\"\",\"\",COUNTIF($S$7:S1216,\"該当２\"))","v":""},"","",{"$f":"IF(V1216=\"\",\"\",COUNTIF($V$7:V1216,\"該当３\"))","v":""}]
[1921207007,19,{"v":212,"d":"212 "},{"v":7,"d":"07 "},{"v":7,"d":"007 "},"山梨県","上野原市","上野原町","本町二丁目",null,"","",{"$f":"IF(K1217=\"\",\"\",COUNTIF($K$7:K1217,\"ﾘｽﾄ１\"))","v":""},"","","","","","","",{"$f":"IF(S1217=\"\",\"\",COUNTIF($S$7:S1217,\"該当２\"))","v":""},"","",{"$f":"IF(V1217=\"\",\"\",COUNTIF($V$7:V1217,\"該当３\"))","v":""}]
[1921207008,19,{"v":212,"d":"212 "},{"v":7,"d":"07 "},{"v":8,"d":"008 "},"山梨県","上野原市","上野原町","本町三丁目",null,"","",{"$f":"IF(K1218=\"\",\"\",COUNTIF($K$7:K1218,\"ﾘｽﾄ１\"))","v":""},"","","","","","","",{"$f":"IF(S1218=\"\",\"\",COUNTIF($S$7:S1218,\"該当２\"))","v":""},"","",{"$f":"IF(V1218=\"\",\"\",COUNTIF($V$7:V1218,\"該当３\"))","v":""}]
[1921207009,19,{"v":212,"d":"212 "},{"v":7,"d":"07 "},{"v":9,"d":"009 "},"山梨県","上野原市","上野原町","原",null,"","",{"$f":"IF(K1219=\"\",\"\",COUNTIF($K$7:K1219,\"ﾘｽﾄ１\"))","v":""},"","","","","","","",{"$f":"IF(S1219=\"\",\"\",COUNTIF($S$7:S1219,\"該当２\"))","v":""},"","",{"$f":"IF(V1219=\"\",\"\",COUNTIF($V$7:V1219,\"該当３\"))","v":""}]
[1921207010,19,{"v":212,"d":"212 "},{"v":7,"d":"07 "},{"v":10,"d":"010 "},"山梨県","上野原市","上野原町","田町",null,"","",{"$f":"IF(K1220=\"\",\"\",COUNTIF($K$7:K1220,\"ﾘｽﾄ１\"))","v":""},"","","","","","","",{"$f":"IF(S1220=\"\",\"\",COUNTIF($S$7:S1220,\"該当２\"))","v":""},"","",{"$f":"IF(V1220=\"\",\"\",COUNTIF($V$7:V1220,\"該当３\"))","v":""}]
[1921207011,19,{"v":212,"d":"212 "},{"v":7,"d":"07 "},{"v":11,"d":"011 "},"山梨県","上野原市","上野原町","新田倉",null,"","",{"$f":"IF(K1221=\"\",\"\",COUNTIF($K$7:K1221,\"ﾘｽﾄ１\"))","v":""},"","","","","","","",{"$f":"IF(S1221=\"\",\"\",COUNTIF($S$7:S1221,\"該当２\"))","v":""},"","",{"$f":"IF(V1221=\"\",\"\",COUNTIF($V$7:V1221,\"該当３\"))","v":""}]
[1921207012,19,{"v":212,"d":"212 "},{"v":7,"d":"07 "},{"v":12,"d":"012 "},"山梨県","上野原市","上野原町","羽佐間",null,"","",{"$f":"IF(K1222=\"\",\"\",COUNTIF($K$7:K1222,\"ﾘｽﾄ１\"))","v":""},"","","","","","","",{"$f":"IF(S1222=\"\",\"\",COUNTIF($S$7:S1222,\"該当２\"))","v":""},"","",{"$f":"IF(V1222=\"\",\"\",COUNTIF($V$7:V1222,\"該当３\"))","v":""}]
[1921207013,19,{"v":212,"d":"212 "},{"v":7,"d":"07 "},{"v":13,"d":"013 "},"山梨県","上野原市","上野原町","小沢",null,"","",{"$f":"IF(K1223=\"\",\"\",COUNTIF($K$7:K1223,\"ﾘｽﾄ１\"))","v":""},"","","","","","","",{"$f":"IF(S1223=\"\",\"\",COUNTIF($S$7:S1223,\"該当２\"))","v":""},"","",{"$f":"IF(V1223=\"\",\"\",COUNTIF($V$7:V1223,\"該当３\"))","v":""}]
[1921207014,19,{"v":212,"d":"212 "},{"v":7,"d":"07 "},{"v":14,"d":"014 "},"山梨県","上野原市","上野原町","西シ原",null,"","",{"$f":"IF(K1224=\"\",\"\",COUNTIF($K$7:K1224,\"ﾘｽﾄ１\"))","v":""},"","","","","","","",{"$f":"IF(S1224=\"\",\"\",COUNTIF($S$7:S1224,\"該当２\"))","v":""},"","",{"$f":"IF(V1224=\"\",\"\",COUNTIF($V$7:V1224,\"該当３\"))","v":""}]
[1921207015,19,{"v":212,"d":"212 "},{"v":7,"d":"07 "},{"v":15,"d":"015 "},"山梨県","上野原市","上野原町","新井",null,"","",{"$f":"IF(K1225=\"\",\"\",COUNTIF($K$7:K1225,\"ﾘｽﾄ１\"))","v":""},"","","","","","","",{"$f":"IF(S1225=\"\",\"\",COUNTIF($S$7:S1225,\"該当２\"))","v":""},"","",{"$f":"IF(V1225=\"\",\"\",COUNTIF($V$7:V1225,\"該当３\"))","v":""}]
[1921207016,19,{"v":212,"d":"212 "},{"v":7,"d":"07 "},{"v":16,"d":"016 "},"山梨県","上野原市","上野原町","八米",null,"","",{"$f":"IF(K1226=\"\",\"\",COUNTIF($K$7:K1226,\"ﾘｽﾄ１\"))","v":""},"","",{"$f":"IF(O1226=\"該当１\",G1226,\"\")","v":""},{"$f":"IF(O1226=\"該当１\",\"ﾘｽﾄ2\",\"\")","v":""},{"$f":"IF(Q1226=\"ﾘｽﾄ2\",H1226,\"\")","v":""},"",{"$f":"IF(S1226=\"該当２\",H1226,\"\")","v":""},{"$f":"IF(S1226=\"\",\"\",COUNTIF($S$7:S1226,\"該当２\"))","v":""},{"$f":"IF(AND($S$2=H1226,E1226>0,E1226<998),\"該当３\",\"\")","v":""},{"$f":"IF(V1226=\"該当３\",I1226,\"\")","v":""},{"$f":"IF(V1226=\"\",\"\",COUNTIF($V$7:V1226,\"該当３\"))","v":""}]
[1921207017,19,{"v":212,"d":"212 "},{"v":7,"d":"07 "},{"v":17,"d":"017 "},"山梨県","上野原市","上野原町","山風呂",null,{"$f":"IF(AND($C1227>0,$H1227=\"\"),\"ﾘｽﾄ１\",\"\")","v":""},{"$f":"IF(K1227=\"ﾘｽﾄ１\",G1227,\"\")","v":""},{"$f":"IF(K1227=\"\",\"\",COUNTIF($K$7:K1227,\"ﾘｽﾄ１\"))","v":""},{"$f":"IF(AND(D1227=0,E1227>0),\"同一区\",\"\")","v":""},{"$f":"IF(AND(EXACT($K$2,G1227),H1227>0),\"該当１\",\"\")","v":""},"","","",{"$f":"IF(AND(Q1227=\"ﾘｽﾄ2\",OR(I1227=0,AND(N1227=\"同一区\",E1227=1))),\"該当２\",\"\")","v":""},"",{"$f":"IF(S1227=\"\",\"\",COUNTIF($S$7:S1227,\"該当２\"))","v":""},"","",{"$f":"IF(V1227=\"\",\"\",COUNTIF($V$7:V1227,\"該当３\"))","v":""}]
[1921207018,19,{"v":212,"d":"212 "},{"v":7,"d":"07 "},{"v":18,"d":"018 "},"山梨県","上野原市","上野原町","向風",null,"","",{"$f":"IF(K1228=\"\",\"\",COUNTIF($K$7:K1228,\"ﾘｽﾄ１\"))","v":""},"","","","","","","",{"$f":"IF(S1228=\"\",\"\",COUNTIF($S$7:S1228,\"該当２\"))","v":""},"","",{"$f":"IF(V1228=\"\",\"\",COUNTIF($V$7:V1228,\"該当３\"))","v":""}]
[1921207019,19,{"v":212,"d":"212 "},{"v":7,"d":"07 "},{"v":19,"d":"019 "},"山梨県","上野原市","上野原町","先丸",null,"","",{"$f":"IF(K1229=\"\",\"\",COUNTIF($K$7:K1229,\"ﾘｽﾄ１\"))","v":""},"","","","","","","",{"$f":"IF(S1229=\"\",\"\",COUNTIF($S$7:S1229,\"該当２\"))","v":""},"","",{"$f":"IF(V1229=\"\",\"\",COUNTIF($V$7:V1229,\"該当３\"))","v":""}]
[1921207020,19,{"v":212,"d":"212 "},{"v":7,"d":"07 "},{"v":20,"d":"020 "},"山梨県","上野原市","上野原町","奈須部",null,"","",{"$f":"IF(K1230=\"\",\"\",COUNTIF($K$7:K1230,\"ﾘｽﾄ１\"))","v":""},"","","","","","","",{"$f":"IF(S1230=\"\",\"\",COUNTIF($S$7:S1230,\"該当２\"))","v":""},"","",{"$f":"IF(V1230=\"\",\"\",COUNTIF($V$7:V1230,\"該当３\"))","v":""}]
[1921208000,19,{"v":212,"d":"212 "},{"v":8,"d":"08 "},{"v":0,"d":"000 "},"山梨県","上野原市","棡原村",null,null,"","",{"$f":"IF(K1231=\"\",\"\",COUNTIF($K$7:K1231,\"ﾘｽﾄ１\"))","v":""},"","","","","","","",{"$f":"IF(S1231=\"\",\"\",COUNTIF($S$7:S1231,\"該当２\"))","v":""},"","",{"$f":"IF(V1231=\"\",\"\",COUNTIF($V$7:V1231,\"該当３\"))","v":""}]
[1921208001,19,{"v":212,"d":"212 "},{"v":8,"d":"08 "},{"v":1,"d":"001 "},"山梨県","上野原市","棡原村","尾続",null,"","",{"$f":"IF(K1232=\"\",\"\",COUNTIF($K$7:K1232,\"ﾘｽﾄ１\"))","v":""},"","","","","","","",{"$f":"IF(S1232=\"\",\"\",COUNTIF($S$7:S1232,\"該当２\"))","v":""},"","",{"$f":"IF(V1232=\"\",\"\",COUNTIF($V$7:V1232,\"該当３\"))","v":""}]
[1921208002,19,{"v":212,"d":"212 "},{"v":8,"d":"08 "},{"v":2,"d":"002 "},"山梨県","上野原市","棡原村","用竹",null,"","",{"$f":"IF(K1233=\"\",\"\",COUNTIF($K$7:K1233,\"ﾘｽﾄ１\"))","v":""},"","","","","","","",{"$f":"IF(S1233=\"\",\"\",COUNTIF($S$7:S1233,\"該当２\"))","v":""},"","",{"$f":"IF(V1233=\"\",\"\",COUNTIF($V$7:V1233,\"該当３\"))","v":""}]
[1921208003,19,{"v":212,"d":"212 "},{"v":8,"d":"08 "},{"v":3,"d":"003 "},"山梨県","上野原市","棡原村","井戸",null,"","",{"$f":"IF(K1234=\"\",\"\",COUNTIF($K$7:K1234,\"ﾘｽﾄ１\"))","v":""},"","","","","","","",{"$f":"IF(S1234=\"\",\"\",COUNTIF($S$7:S1234,\"該当２\"))","v":""},"","",{"$f":"IF(V1234=\"\",\"\",COUNTIF($V$7:V1234,\"該当３\"))","v":""}]
[1921208004,19,{"v":212,"d":"212 "},{"v":8,"d":"08 "},{"v":4,"d":"004 "},"山梨県","上野原市","棡原村","小伏",null,"","",{"$f":"IF(K1235=\"\",\"\",COUNTIF($K$7:K1235,\"ﾘｽﾄ１\"))","v":""},"","","","","","","",{"$f":"IF(S1235=\"\",\"\",COUNTIF($S$7:S1235,\"該当２\"))","v":""},"","",{"$f":"IF(V1235=\"\",\"\",COUNTIF($V$7:V1235,\"該当３\"))","v":""}]
[1921208005,19,{"v":212,"d":"212 "},{"v":8,"d":"08 "},{"v":5,"d":"005 "},"山梨県","上野原市","棡原村","猪丸",null,"","",{"$f":"IF(K1236=\"\",\"\",COUNTIF($K$7:K1236,\"ﾘｽﾄ１\"))","v":""},"","","","","","","",{"$f":"IF(S1236=\"\",\"\",COUNTIF($S$7:S1236,\"該当２\"))","v":""},"","",{"$f":"IF(V1236=\"\",\"\",COUNTIF($V$7:V1236,\"該当３\"))","v":""}]
[1921208006,19,{"v":212,"d":"212 "},{"v":8,"d":"08 "},{"v":6,"d":"006 "},"山梨県","上野原市","棡原村","日原",null,"","",{"$f":"IF(K1237=\"\",\"\",COUNTIF($K$7:K1237,\"ﾘｽﾄ１\"))","v":""},"","","","","","","",{"$f":"IF(S1237=\"\",\"\",COUNTIF($S$7:S1237,\"該当２\"))","v":""},"","",{"$f":"IF(V1237=\"\",\"\",COUNTIF($V$7:V1237,\"該当３\"))","v":""}]
[1921208007,19,{"v":212,"d":"212 "},{"v":8,"d":"08 "},{"v":7,"d":"007 "},"山梨県","上野原市","棡原村","大垣外",null,"","",{"$f":"IF(K1238=\"\",\"\",COUNTIF($K$7:K1238,\"ﾘｽﾄ１\"))","v":""},"","","","","","","",{"$f":"IF(S1238=\"\",\"\",COUNTIF($S$7:S1238,\"該当２\"))","v":""},"","",{"$f":"IF(V1238=\"\",\"\",COUNTIF($V$7:V1238,\"該当３\"))","v":""}]
[1921208008,19,{"v":212,"d":"212 "},{"v":8,"d":"08 "},{"v":8,"d":"008 "},"山梨県","上野原市","棡原村","沢渡",null,"","",{"$f":"IF(K1239=\"\",\"\",COUNTIF($K$7:K1239,\"ﾘｽﾄ１\"))","v":""},"","","","","","","",{"$f":"IF(S1239=\"\",\"\",COUNTIF($S$7:S1239,\"該当２\"))","v":""},"","",{"$f":"IF(V1239=\"\",\"\",COUNTIF($V$7:V1239,\"該当３\"))","v":""}]
[1921209000,19,{"v":212,"d":"212 "},{"v":9,"d":"09 "},{"v":0,"d":"000 "},"山梨県","上野原市","西原村",null,null,"","",{"$f":"IF(K1240=\"\",\"\",COUNTIF($K$7:K1240,\"ﾘｽﾄ１\"))","v":""},"","","","","","","",{"$f":"IF(S1240=\"\",\"\",COUNTIF($S$7:S1240,\"該当２\"))","v":""},"","",{"$f":"IF(V1240=\"\",\"\",COUNTIF($V$7:V1240,\"該当３\"))","v":""}]
[1921209001,19,{"v":212,"d":"212 "},{"v":9,"d":"09 "},{"v":1,"d":"001 "},"山梨県","上野原市","西原村","初戸",null,"","",{"$f":"IF(K1241=\"\",\"\",COUNTIF($K$7:K1241,\"ﾘｽﾄ１\"))","v":""},"","","","","","","",{"$f":"IF(S1241=\"\",\"\",COUNTIF($S$7:S1241,\"該当２\"))","v":""},"","",{"$f":"IF(V1241=\"\",\"\",COUNTIF($V$7:V1241,\"該当３\"))","v":""}]
[1921209002,19,{"v":212,"d":"212 "},{"v":9,"d":"09 "},{"v":2,"d":"002 "},"山梨県","上野原市","西原村","藤尾",null,"","",{"$f":"IF(K1242=\"\",\"\",COUNTIF($K$7:K1242,\"ﾘｽﾄ１\"))","v":""},"","","","","","","",{"$f":"IF(S1242=\"\",\"\",COUNTIF($S$7:S1242,\"該当２\"))","v":""},"","",{"$f":"IF(V1242=\"\",\"\",COUNTIF($V$7:V1242,\"該当３\"))","v":""}]
[1921209003,19,{"v":212,"d":"212 "},{"v":9,"d":"09 "},{"v":3,"d":"003 "},"山梨県","上野原市","西原村","田和，上平",null,"","",{"$f":"IF(K1243=\"\",\"\",COUNTIF($K$7:K1243,\"ﾘｽﾄ１\"))","v":""},"","","","","","","",{"$f":"IF(S1243=\"\",\"\",COUNTIF($S$7:S1243,\"該当２\"))","v":""},"","",{"$f":"IF(V1243=\"\",\"\",COUNTIF($V$7:V1243,\"該当３\"))","v":""}]
[1921209004,19,{"v":212,"d":"212 "},{"v":9,"d":"09 "},{"v":4,"d":"004 "},"山梨県","上野原市","西原村","川通",null,"","",{"$f":"IF(K1244=\"\",\"\",COUNTIF($K$7:K1244,\"ﾘｽﾄ１\"))","v":""},"","","","","","","",{"$f":"IF(S1244=\"\",\"\",COUNTIF($S$7:S1244,\"該当２\"))","v":""},"","",{"$f":"IF(V1244=\"\",\"\",COUNTIF($V$7:V1244,\"該当３\"))","v":""}]
[1921209005,19,{"v":212,"d":"212 "},{"v":9,"d":"09 "},{"v":5,"d":"005 "},"山梨県","上野原市","西原村","扁盃，下城",null,"","",{"$f":"IF(K1245=\"\",\"\",COUNTIF($K$7:K1245,\"ﾘｽﾄ１\"))","v":""},"","","","","","","",{"$f":"IF(S1245=\"\",\"\",COUNTIF($S$7:S1245,\"該当２\"))","v":""},"","",{"$f":"IF(V1245=\"\",\"\",COUNTIF($V$7:V1245,\"該当３\"))","v":""}]
[1921209006,19,{"v":212,"d":"212 "},{"v":9,"d":"09 "},{"v":6,"d":"006 "},"山梨県","上野原市","西原村","郷原",null,"","",{"$f":"IF(K1246=\"\",\"\",COUNTIF($K$7:K1246,\"ﾘｽﾄ１\"))","v":""},"","","","","","","",{"$f":"IF(S1246=\"\",\"\",COUNTIF($S$7:S1246,\"該当２\"))","v":""},"","",{"$f":"IF(V1246=\"\",\"\",COUNTIF($V$7:V1246,\"該当３\"))","v":""}]
[1921209007,19,{"v":212,"d":"212 "},{"v":9,"d":"09 "},{"v":7,"d":"007 "},"山梨県","上野原市","西原村","原",null,"","",{"$f":"IF(K1247=\"\",\"\",COUNTIF($K$7:K1247,\"ﾘｽﾄ１\"))","v":""},"","","","","","","",{"$f":"IF(S1247=\"\",\"\",COUNTIF($S$7:S1247,\"該当２\"))","v":""},"","",{"$f":"IF(V1247=\"\",\"\",COUNTIF($V$7:V1247,\"該当３\"))","v":""}]
[1921209008,19,{"v":212,"d":"212 "},{"v":9,"d":"09 "},{"v":8,"d":"008 "},"山梨県","上野原市","西原村","飯尾",null,"","",{"$f":"IF(K1248=\"\",\"\",COUNTIF($K$7:K1248,\"ﾘｽﾄ１\"))","v":""},"","","","","","","",{"$f":"IF(S1248=\"\",\"\",COUNTIF($S$7:S1248,\"該当２\"))","v":""},"","",{"$f":"IF(V1248=\"\",\"\",COUNTIF($V$7:V1248,\"該当３\"))","v":""}]
[1921300000,19,{"v":213,"d":"213 "},{"v":0,"d":"00 "},{"v":0,"d":"000 "},"山梨県","甲州市",{"$nulls":3},"ﾘｽﾄ１","甲州市",{"$f":"IF(K1249=\"\",\"\",COUNTIF($K$7:K1249,\"ﾘｽﾄ１\"))","v":12},"","","","","","","",{"$f":"IF(S1249=\"\",\"\",COUNTIF($S$7:S1249,\"該当２\"))","v":""},"","",{"$f":"IF(V1249=\"\",\"\",COUNTIF($V$7:V1249,\"該当３\"))","v":""}]
[1921301000,19,{"v":213,"d":"213 "},{"v":1,"d":"01 "},{"v":0,"d":"000 "},"山梨県","甲州市","塩山町",null,null,"","",{"$f":"IF(K1250=\"\",\"\",COUNTIF($K$7:K1250,\"ﾘｽﾄ１\"))","v":""},"","","","","","","",{"$f":"IF(S1250=\"\",\"\",COUNTIF($S$7:S1250,\"該当２\"))","v":""},"","",{"$f":"IF(V1250=\"\",\"\",COUNTIF($V$7:V1250,\"該当３\"))","v":""}]
[1921301001,19,{"v":213,"d":"213 "},{"v":1,"d":"01 "},{"v":1,"d":"001 "},"山梨県","甲州市","塩山町","上野山",null,"","",{"$f":"IF(K1251=\"\",\"\",COUNTIF($K$7:K1251,\"ﾘｽﾄ１\"))","v":""},"","","","","","","",{"$f":"IF(S1251=\"\",\"\",COUNTIF($S$7:S1251,\"該当２\"))","v":""},"","",{"$f":"IF(V1251=\"\",\"\",COUNTIF($V$7:V1251,\"該当３\"))","v":""}]
[1921301002,19,{"v":213,"d":"213 "},{"v":1,"d":"01 "},{"v":2,"d":"002 "},"山梨県","甲州市","塩山町","馬渡，札ノ辻",null,"","",{"$f":"IF(K1252=\"\",\"\",COUNTIF($K$7:K1252,\"ﾘｽﾄ１\"))","v":""},"","","","","","","",{"$f":"IF(S1252=\"\",\"\",COUNTIF($S$7:S1252,\"該当２\"))","v":""},"","",{"$f":"IF(V1252=\"\",\"\",COUNTIF($V$7:V1252,\"該当３\"))","v":""}]
[1921301003,19,{"v":213,"d":"213 "},{"v":1,"d":"01 "},{"v":3,"d":"003 "},"山梨県","甲州市","塩山町","馬場",null,"","",{"$f":"IF(K1253=\"\",\"\",COUNTIF($K$7:K1253,\"ﾘｽﾄ１\"))","v":""},"","","","","","","",{"$f":"IF(S1253=\"\",\"\",COUNTIF($S$7:S1253,\"該当２\"))","v":""},"","",{"$f":"IF(V1253=\"\",\"\",COUNTIF($V$7:V1253,\"該当３\"))","v":""}]
[1921301004,19,{"v":213,"d":"213 "},{"v":1,"d":"01 "},{"v":4,"d":"004 "},"山梨県","甲州市","塩山町","宮組",null,"","",{"$f":"IF(K1254=\"\",\"\",COUNTIF($K$7:K1254,\"ﾘｽﾄ１\"))","v":""},"","","","","","","",{"$f":"IF(S1254=\"\",\"\",COUNTIF($S$7:S1254,\"該当２\"))","v":""},"","",{"$f":"IF(V1254=\"\",\"\",COUNTIF($V$7:V1254,\"該当３\"))","v":""}]
[1921301005,19,{"v":213,"d":"213 "},{"v":1,"d":"01 "},{"v":5,"d":"005 "},"山梨県","甲州市","塩山町","清水",null,"","",{"$f":"IF(K1255=\"\",\"\",COUNTIF($K$7:K1255,\"ﾘｽﾄ１\"))","v":""},"","","","","","","",{"$f":"IF(S1255=\"\",\"\",COUNTIF($S$7:S1255,\"該当２\"))","v":""},"","",{"$f":"IF(V1255=\"\",\"\",COUNTIF($V$7:V1255,\"該当３\"))","v":""}]
[1921301006,19,{"v":213,"d":"213 "},{"v":1,"d":"01 "},{"v":6,"d":"006 "},"山梨県","甲州市","塩山町","千野東",null,"","",{"$f":"IF(K1256=\"\",\"\",COUNTIF($K$7:K1256,\"ﾘｽﾄ１\"))","v":""},"","","","","","","",{"$f":"IF(S1256=\"\",\"\",COUNTIF($S$7:S1256,\"該当２\"))","v":""},"","",{"$f":"IF(V1256=\"\",\"\",COUNTIF($V$7:V1256,\"該当３\"))","v":""}]
[1921301007,19,{"v":213,"d":"213 "},{"v":1,"d":"01 "},{"v":7,"d":"007 "},"山梨県","甲州市","塩山町","上東",null,"","",{"$f":"IF(K1257=\"\",\"\",COUNTIF($K$7:K1257,\"ﾘｽﾄ１\"))","v":""},"","","","","","","",{"$f":"IF(S1257=\"\",\"\",COUNTIF($S$7:S1257,\"該当２\"))","v":""},"","",{"$f":"IF(V1257=\"\",\"\",COUNTIF($V$7:V1257,\"該当３\"))","v":""}]
[1921301008,19,{"v":213,"d":"213 "},{"v":1,"d":"01 "},{"v":8,"d":"008 "},"山梨県","甲州市","塩山町","町屋",null,"","",{"$f":"IF(K1258=\"\",\"\",COUNTIF($K$7:K1258,\"ﾘｽﾄ１\"))","v":""},"","","","","","","",{"$f":"IF(S1258=\"\",\"\",COUNTIF($S$7:S1258,\"該当２\"))","v":""},"","",{"$f":"IF(V1258=\"\",\"\",COUNTIF($V$7:V1258,\"該当３\"))","v":""}]
[1921301009,19,{"v":213,"d":"213 "},{"v":1,"d":"01 "},{"v":9,"d":"009 "},"山梨県","甲州市","塩山町","上西",null,"","",{"$f":"IF(K1259=\"\",\"\",COUNTIF($K$7:K1259,\"ﾘｽﾄ１\"))","v":""},"","","","","","","",{"$f":"IF(S1259=\"\",\"\",COUNTIF($S$7:S1259,\"該当２\"))","v":""},"","",{"$f":"IF(V1259=\"\",\"\",COUNTIF($V$7:V1259,\"該当３\"))","v":""}]
[1921301010,19,{"v":213,"d":"213 "},{"v":1,"d":"01 "},{"v":10,"d":"010 "},"山梨県","甲州市","塩山町","中央",null,"","",{"$f":"IF(K1260=\"\",\"\",COUNTIF($K$7:K1260,\"ﾘｽﾄ１\"))","v":""},"","","","","","","",{"$f":"IF(S1260=\"\",\"\",COUNTIF($S$7:S1260,\"該当２\"))","v":""},"","",{"$f":"IF(V1260=\"\",\"\",COUNTIF($V$7:V1260,\"該当３\"))","v":""}]
[1921301011,19,{"v":213,"d":"213 "},{"v":1,"d":"01 "},{"v":11,"d":"011 "},"山梨県","甲州市","塩山町","下東",null,"","",{"$f":"IF(K1261=\"\",\"\",COUNTIF($K$7:K1261,\"ﾘｽﾄ１\"))","v":""},"","","","","","","",{"$f":"IF(S1261=\"\",\"\",COUNTIF($S$7:S1261,\"該当２\"))","v":""},"","",{"$f":"IF(V1261=\"\",\"\",COUNTIF($V$7:V1261,\"該当３\"))","v":""}]
[1921301012,19,{"v":213,"d":"213 "},{"v":1,"d":"01 "},{"v":12,"d":"012 "},"山梨県","甲州市","塩山町","下中",null,"","",{"$f":"IF(K1262=\"\",\"\",COUNTIF($K$7:K1262,\"ﾘｽﾄ１\"))","v":""},"","","","","","","",{"$f":"IF(S1262=\"\",\"\",COUNTIF($S$7:S1262,\"該当２\"))","v":""},"","",{"$f":"IF(V1262=\"\",\"\",COUNTIF($V$7:V1262,\"該当３\"))","v":""}]
[1921301013,19,{"v":213,"d":"213 "},{"v":1,"d":"01 "},{"v":13,"d":"013 "},"山梨県","甲州市","塩山町","下西",null,"","",{"$f":"IF(K1263=\"\",\"\",COUNTIF($K$7:K1263,\"ﾘｽﾄ１\"))","v":""},"","","","","","","",{"$f":"IF(S1263=\"\",\"\",COUNTIF($S$7:S1263,\"該当２\"))","v":""},"","",{"$f":"IF(V1263=\"\",\"\",COUNTIF($V$7:V1263,\"該当３\"))","v":""}]
[1921301014,19,{"v":213,"d":"213 "},{"v":1,"d":"01 "},{"v":14,"d":"014 "},"山梨県","甲州市","塩山町","上塩後上",null,"","",{"$f":"IF(K1264=\"\",\"\",COUNTIF($K$7:K1264,\"ﾘｽﾄ１\"))","v":""},"","","","","","","",{"$f":"IF(S1264=\"\",\"\",COUNTIF($S$7:S1264,\"該当２\"))","v":""},"","",{"$f":"IF(V1264=\"\",\"\",COUNTIF($V$7:V1264,\"該当３\"))","v":""}]
[1921301015,19,{"v":213,"d":"213 "},{"v":1,"d":"01 "},{"v":15,"d":"015 "},"山梨県","甲州市","塩山町","上塩後中",null,"","",{"$f":"IF(K1265=\"\",\"\",COUNTIF($K$7:K1265,\"ﾘｽﾄ１\"))","v":""},"","","","","","","",{"$f":"IF(S1265=\"\",\"\",COUNTIF($S$7:S1265,\"該当２\"))","v":""},"","",{"$f":"IF(V1265=\"\",\"\",COUNTIF($V$7:V1265,\"該当３\"))","v":""}]
[1921301016,19,{"v":213,"d":"213 "},{"v":1,"d":"01 "},{"v":16,"d":"016 "},"山梨県","甲州市","塩山町","横道",null,"","",{"$f":"IF(K1266=\"\",\"\",COUNTIF($K$7:K1266,\"ﾘｽﾄ１\"))","v":""},"","","","","","","",{"$f":"IF(S1266=\"\",\"\",COUNTIF($S$7:S1266,\"該当２\"))","v":""},"","",{"$f":"IF(V1266=\"\",\"\",COUNTIF($V$7:V1266,\"該当３\"))","v":""}]
[1921301017,19,{"v":213,"d":"213 "},{"v":1,"d":"01 "},{"v":17,"d":"017 "},"山梨県","甲州市","塩山町","下塩後中",null,"","",{"$f":"IF(K1267=\"\",\"\",COUNTIF($K$7:K1267,\"ﾘｽﾄ１\"))","v":""},"","","","","","","",{"$f":"IF(S1267=\"\",\"\",COUNTIF($S$7:S1267,\"該当２\"))","v":""},"","",{"$f":"IF(V1267=\"\",\"\",COUNTIF($V$7:V1267,\"該当３\"))","v":""}]
[1921301018,19,{"v":213,"d":"213 "},{"v":1,"d":"01 "},{"v":18,"d":"018 "},"山梨県","甲州市","塩山町","三丁田",null,"","",{"$f":"IF(K1268=\"\",\"\",COUNTIF($K$7:K1268,\"ﾘｽﾄ１\"))","v":""},"","","","","","","",{"$f":"IF(S1268=\"\",\"\",COUNTIF($S$7:S1268,\"該当２\"))","v":""},"","",{"$f":"IF(V1268=\"\",\"\",COUNTIF($V$7:V1268,\"該当３\"))","v":""}]
[1921301019,19,{"v":213,"d":"213 "},{"v":1,"d":"01 "},{"v":19,"d":"019 "},"山梨県","甲州市","塩山町","七五三木",null,"","",{"$f":"IF(K1269=\"\",\"\",COUNTIF($K$7:K1269,\"ﾘｽﾄ１\"))","v":""},"","","","","","","",{"$f":"IF(S1269=\"\",\"\",COUNTIF($S$7:S1269,\"該当２\"))","v":""},"","",{"$f":"IF(V1269=\"\",\"\",COUNTIF($V$7:V1269,\"該当３\"))","v":""}]
[1921301020,19,{"v":213,"d":"213 "},{"v":1,"d":"01 "},{"v":20,"d":"020 "},"山梨県","甲州市","塩山町","若宮",null,"","",{"$f":"IF(K1270=\"\",\"\",COUNTIF($K$7:K1270,\"ﾘｽﾄ１\"))","v":""},"","","","","","","",{"$f":"IF(S1270=\"\",\"\",COUNTIF($S$7:S1270,\"該当２\"))","v":""},"","",{"$f":"IF(V1270=\"\",\"\",COUNTIF($V$7:V1270,\"該当３\"))","v":""}]
[1921301021,19,{"v":213,"d":"213 "},{"v":1,"d":"01 "},{"v":21,"d":"021 "},"山梨県","甲州市","塩山町","延命",null,"","",{"$f":"IF(K1271=\"\",\"\",COUNTIF($K$7:K1271,\"ﾘｽﾄ１\"))","v":""},"","","","","","","",{"$f":"IF(S1271=\"\",\"\",COUNTIF($S$7:S1271,\"該当２\"))","v":""},"","",{"$f":"IF(V1271=\"\",\"\",COUNTIF($V$7:V1271,\"該当３\"))","v":""}]
[1921301022,19,{"v":213,"d":"213 "},{"v":1,"d":"01 "},{"v":22,"d":"022 "},"山梨県","甲州市","塩山町","影井",null,"","",{"$f":"IF(K1272=\"\",\"\",COUNTIF($K$7:K1272,\"ﾘｽﾄ１\"))","v":""},"","","","","","","",{"$f":"IF(S1272=\"\",\"\",COUNTIF($S$7:S1272,\"該当２\"))","v":""},"","",{"$f":"IF(V1272=\"\",\"\",COUNTIF($V$7:V1272,\"該当３\"))","v":""}]
[1921301023,19,{"v":213,"d":"213 "},{"v":1,"d":"01 "},{"v":23,"d":"023 "},"山梨県","甲州市","塩山町","八王子，旗板",null,"","",{"$f":"IF(K1273=\"\",\"\",COUNTIF($K$7:K1273,\"ﾘｽﾄ１\"))","v":""},"","","","","","","",{"$f":"IF(S1273=\"\",\"\",COUNTIF($S$7:S1273,\"該当２\"))","v":""},"","",{"$f":"IF(V1273=\"\",\"\",COUNTIF($V$7:V1273,\"該当３\"))","v":""}]
[1921301024,19,{"v":213,"d":"213 "},{"v":1,"d":"01 "},{"v":24,"d":"024 "},"山梨県","甲州市","塩山町","上赤尾",null,"","",{"$f":"IF(K1274=\"\",\"\",COUNTIF($K$7:K1274,\"ﾘｽﾄ１\"))","v":""},"","","","","","","",{"$f":"IF(S1274=\"\",\"\",COUNTIF($S$7:S1274,\"該当２\"))","v":""},"","",{"$f":"IF(V1274=\"\",\"\",COUNTIF($V$7:V1274,\"該当３\"))","v":""}]
[1921301025,19,{"v":213,"d":"213 "},{"v":1,"d":"01 "},{"v":25,"d":"025 "},"山梨県","甲州市","塩山町","下赤尾",null,"","",{"$f":"IF(K1275=\"\",\"\",COUNTIF($K$7:K1275,\"ﾘｽﾄ１\"))","v":""},"","","","","","","",{"$f":"IF(S1275=\"\",\"\",COUNTIF($S$7:S1275,\"該当２\"))","v":""},"","",{"$f":"IF(V1275=\"\",\"\",COUNTIF($V$7:V1275,\"該当３\"))","v":""}]
[1921301026,19,{"v":213,"d":"213 "},{"v":1,"d":"01 "},{"v":26,"d":"026 "},"山梨県","甲州市","塩山町","下萩下",null,"","",{"$f":"IF(K1276=\"\",\"\",COUNTIF($K$7:K1276,\"ﾘｽﾄ１\"))","v":""},"","","","","","","",{"$f":"IF(S1276=\"\",\"\",COUNTIF($S$7:S1276,\"該当２\"))","v":""},"","",{"$f":"IF(V1276=\"\",\"\",COUNTIF($V$7:V1276,\"該当３\"))","v":""}]
[1921301027,19,{"v":213,"d":"213 "},{"v":1,"d":"01 "},{"v":27,"d":"027 "},"山梨県","甲州市","塩山町","下萩上",null,"","",{"$f":"IF(K1277=\"\",\"\",COUNTIF($K$7:K1277,\"ﾘｽﾄ１\"))","v":""},"","","","","","","",{"$f":"IF(S1277=\"\",\"\",COUNTIF($S$7:S1277,\"該当２\"))","v":""},"","",{"$f":"IF(V1277=\"\",\"\",COUNTIF($V$7:V1277,\"該当３\"))","v":""}]
[1921302000,19,{"v":213,"d":"213 "},{"v":2,"d":"02 "},{"v":0,"d":"000 "},"山梨県","甲州市","奥野田村",null,null,"","",{"$f":"IF(K1278=\"\",\"\",COUNTIF($K$7:K1278,\"ﾘｽﾄ１\"))","v":""},"","","","","","","",{"$f":"IF(S1278=\"\",\"\",COUNTIF($S$7:S1278,\"該当２\"))","v":""},"","",{"$f":"IF(V1278=\"\",\"\",COUNTIF($V$7:V1278,\"該当３\"))","v":""}]
[1921302001,19,{"v":213,"d":"213 "},{"v":2,"d":"02 "},{"v":1,"d":"001 "},"山梨県","甲州市","奥野田村","中牛奥",null,"","",{"$f":"IF(K1279=\"\",\"\",COUNTIF($K$7:K1279,\"ﾘｽﾄ１\"))","v":""},"","","","","","","",{"$f":"IF(S1279=\"\",\"\",COUNTIF($S$7:S1279,\"該当２\"))","v":""},"","",{"$f":"IF(V1279=\"\",\"\",COUNTIF($V$7:V1279,\"該当３\"))","v":""}]
[1921302002,19,{"v":213,"d":"213 "},{"v":2,"d":"02 "},{"v":2,"d":"002 "},"山梨県","甲州市","奥野田村","北牛奥南",null,"","",{"$f":"IF(K1280=\"\",\"\",COUNTIF($K$7:K1280,\"ﾘｽﾄ１\"))","v":""},"","","","","","","",{"$f":"IF(S1280=\"\",\"\",COUNTIF($S$7:S1280,\"該当２\"))","v":""},"","",{"$f":"IF(V1280=\"\",\"\",COUNTIF($V$7:V1280,\"該当３\"))","v":""}]
[1921302003,19,{"v":213,"d":"213 "},{"v":2,"d":"02 "},{"v":3,"d":"003 "},"山梨県","甲州市","奥野田村","北牛奥北",null,"","",{"$f":"IF(K1281=\"\",\"\",COUNTIF($K$7:K1281,\"ﾘｽﾄ１\"))","v":""},"","","","","","","",{"$f":"IF(S1281=\"\",\"\",COUNTIF($S$7:S1281,\"該当２\"))","v":""},"","",{"$f":"IF(V1281=\"\",\"\",COUNTIF($V$7:V1281,\"該当３\"))","v":""}]
[1921302004,19,{"v":213,"d":"213 "},{"v":2,"d":"02 "},{"v":4,"d":"004 "},"山梨県","甲州市","奥野田村","西野原",null,"","",{"$f":"IF(K1282=\"\",\"\",COUNTIF($K$7:K1282,\"ﾘｽﾄ１\"))","v":""},"","","","","","","",{"$f":"IF(S1282=\"\",\"\",COUNTIF($S$7:S1282,\"該当２\"))","v":""},"","",{"$f":"IF(V1282=\"\",\"\",COUNTIF($V$7:V1282,\"該当３\"))","v":""}]
[1921302005,19,{"v":213,"d":"213 "},{"v":2,"d":"02 "},{"v":5,"d":"005 "},"山梨県","甲州市","奥野田村","熊野東",null,"","",{"$f":"IF(K1283=\"\",\"\",COUNTIF($K$7:K1283,\"ﾘｽﾄ１\"))","v":""},"","","","","","","",{"$f":"IF(S1283=\"\",\"\",COUNTIF($S$7:S1283,\"該当２\"))","v":""},"","",{"$f":"IF(V1283=\"\",\"\",COUNTIF($V$7:V1283,\"該当３\"))","v":""}]
[1921302006,19,{"v":213,"d":"213 "},{"v":2,"d":"02 "},{"v":6,"d":"006 "},"山梨県","甲州市","奥野田村","熊野西",null,"","",{"$f":"IF(K1284=\"\",\"\",COUNTIF($K$7:K1284,\"ﾘｽﾄ１\"))","v":""},"","","","","","","",{"$f":"IF(S1284=\"\",\"\",COUNTIF($S$7:S1284,\"該当２\"))","v":""},"","",{"$f":"IF(V1284=\"\",\"\",COUNTIF($V$7:V1284,\"該当３\"))","v":""}]
[1921302007,19,{"v":213,"d":"213 "},{"v":2,"d":"02 "},{"v":7,"d":"007 "},"山梨県","甲州市","奥野田村","塩川",null,"","",{"$f":"IF(K1285=\"\",\"\",COUNTIF($K$7:K1285,\"ﾘｽﾄ１\"))","v":""},"","","","","","","",{"$f":"IF(S1285=\"\",\"\",COUNTIF($S$7:S1285,\"該当２\"))","v":""},"","",{"$f":"IF(V1285=\"\",\"\",COUNTIF($V$7:V1285,\"該当３\"))","v":""}]
[1921302008,19,{"v":213,"d":"213 "},{"v":2,"d":"02 "},{"v":8,"d":"008 "},"山梨県","甲州市","奥野田村","西広門田",null,"","",{"$f":"IF(K1286=\"\",\"\",COUNTIF($K$7:K1286,\"ﾘｽﾄ１\"))","v":""},"","","","","","","",{"$f":"IF(S1286=\"\",\"\",COUNTIF($S$7:S1286,\"該当２\"))","v":""},"","",{"$f":"IF(V1286=\"\",\"\",COUNTIF($V$7:V1286,\"該当３\"))","v":""}]
[1921302009,19,{"v":213,"d":"213 "},{"v":2,"d":"02 "},{"v":9,"d":"009 "},"山梨県","甲州市","奥野田村","嵯峨塩",null,"","",{"$f":"IF(K1287=\"\",\"\",COUNTIF($K$7:K1287,\"ﾘｽﾄ１\"))","v":""},"","","","","","","",{"$f":"IF(S1287=\"\",\"\",COUNTIF($S$7:S1287,\"該当２\"))","v":""},"","",{"$f":"IF(V1287=\"\",\"\",COUNTIF($V$7:V1287,\"該当３\"))","v":""}]
[1921303000,19,{"v":213,"d":"213 "},{"v":3,"d":"03 "},{"v":0,"d":"000 "},"山梨県","甲州市","大藤村",null,null,"","",{"$f":"IF(K1288=\"\",\"\",COUNTIF($K$7:K1288,\"ﾘｽﾄ１\"))","v":""},"","","","","","","",{"$f":"IF(S1288=\"\",\"\",COUNTIF($S$7:S1288,\"該当２\"))","v":""},"","",{"$f":"IF(V1288=\"\",\"\",COUNTIF($V$7:V1288,\"該当３\"))","v":""}]
[1921303001,19,{"v":213,"d":"213 "},{"v":3,"d":"03 "},{"v":1,"d":"001 "},"山梨県","甲州市","大藤村","街道端",null,"","",{"$f":"IF(K1289=\"\",\"\",COUNTIF($K$7:K1289,\"ﾘｽﾄ１\"))","v":""},"","","","","","","",{"$f":"IF(S1289=\"\",\"\",COUNTIF($S$7:S1289,\"該当２\"))","v":""},"","",{"$f":"IF(V1289=\"\",\"\",COUNTIF($V$7:V1289,\"該当３\"))","v":""}]
[1921303002,19,{"v":213,"d":"213 "},{"v":3,"d":"03 "},{"v":2,"d":"002 "},"山梨県","甲州市","大藤村","赤子",null,"","",{"$f":"IF(K1290=\"\",\"\",COUNTIF($K$7:K1290,\"ﾘｽﾄ１\"))","v":""},"","",{"$f":"IF(O1290=\"該当１\",G1290,\"\")","v":""},{"$f":"IF(O1290=\"該当１\",\"ﾘｽﾄ2\",\"\")","v":""},{"$f":"IF(Q1290=\"ﾘｽﾄ2\",H1290,\"\")","v":""},"",{"$f":"IF(S1290=\"該当２\",H1290,\"\")","v":""},{"$f":"IF(S1290=\"\",\"\",COUNTIF($S$7:S1290,\"該当２\"))","v":""},{"$f":"IF(AND($S$2=H1290,E1290>0,E1290<998),\"該当３\",\"\")","v":""},{"$f":"IF(V1290=\"該当３\",I1290,\"\")","v":""},{"$f":"IF(V1290=\"\",\"\",COUNTIF($V$7:V1290,\"該当３\"))","v":""}]
[1921303003,19,{"v":213,"d":"213 "},{"v":3,"d":"03 "},{"v":3,"d":"003 "},"山梨県","甲州市","大藤村","青南",null,{"$f":"IF(AND($C1291>0,$H1291=\"\"),\"ﾘｽﾄ１\",\"\")","v":""},{"$f":"IF(K1291=\"ﾘｽﾄ１\",G1291,\"\")","v":""},{"$f":"IF(K1291=\"\",\"\",COUNTIF($K$7:K1291,\"ﾘｽﾄ１\"))","v":""},{"$f":"IF(AND(D1291=0,E1291>0),\"同一区\",\"\")","v":""},{"$f":"IF(AND(EXACT($K$2,G1291),H1291>0),\"該当１\",\"\")","v":""},"","","",{"$f":"IF(AND(Q1291=\"ﾘｽﾄ2\",OR(I1291=0,AND(N1291=\"同一区\",E1291=1))),\"該当２\",\"\")","v":""},"",{"$f":"IF(S1291=\"\",\"\",COUNTIF($S$7:S1291,\"該当２\"))","v":""},"","",{"$f":"IF(V1291=\"\",\"\",COUNTIF($V$7:V1291,\"該当３\"))","v":""}]
[1921303004,19,{"v":213,"d":"213 "},{"v":3,"d":"03 "},{"v":4,"d":"004 "},"山梨県","甲州市","大藤村","小山",null,"","",{"$f":"IF(K1292=\"\",\"\",COUNTIF($K$7:K1292,\"ﾘｽﾄ１\"))","v":""},"","","","","","","",{"$f":"IF(S1292=\"\",\"\",COUNTIF($S$7:S1292,\"該当２\"))","v":""},"","",{"$f":"IF(V1292=\"\",\"\",COUNTIF($V$7:V1292,\"該当３\"))","v":""}]
[1921303005,19,{"v":213,"d":"213 "},{"v":3,"d":"03 "},{"v":5,"d":"005 "},"山梨県","甲州市","大藤村","嵯峨塩第一",null,"","",{"$f":"IF(K1293=\"\",\"\",COUNTIF($K$7:K1293,\"ﾘｽﾄ１\"))","v":""},"","","","","","","",{"$f":"IF(S1293=\"\",\"\",COUNTIF($S$7:S1293,\"該当２\"))","v":""},"","",{"$f":"IF(V1293=\"\",\"\",COUNTIF($V$7:V1293,\"該当３\"))","v":""}]
[1921303006,19,{"v":213,"d":"213 "},{"v":3,"d":"03 "},{"v":6,"d":"006 "},"山梨県","甲州市","大藤村","向久保",null,"","",{"$f":"IF(K1294=\"\",\"\",COUNTIF($K$7:K1294,\"ﾘｽﾄ１\"))","v":""},"","","","","","","",{"$f":"IF(S1294=\"\",\"\",COUNTIF($S$7:S1294,\"該当２\"))","v":""},"","",{"$f":"IF(V1294=\"\",\"\",COUNTIF($V$7:V1294,\"該当３\"))","v":""}]
[1921303007,19,{"v":213,"d":"213 "},{"v":3,"d":"03 "},{"v":7,"d":"007 "},"山梨県","甲州市","大藤村","土塚",null,"","",{"$f":"IF(K1295=\"\",\"\",COUNTIF($K$7:K1295,\"ﾘｽﾄ１\"))","v":""},"","","","","","","",{"$f":"IF(S1295=\"\",\"\",COUNTIF($S$7:S1295,\"該当２\"))","v":""},"","",{"$f":"IF(V1295=\"\",\"\",COUNTIF($V$7:V1295,\"該当３\"))","v":""}]
[1921303008,19,{"v":213,"d":"213 "},{"v":3,"d":"03 "},{"v":8,"d":"008 "},"山梨県","甲州市","大藤村","下原",null,"","",{"$f":"IF(K1296=\"\",\"\",COUNTIF($K$7:K1296,\"ﾘｽﾄ１\"))","v":""},"","","","","","","",{"$f":"IF(S1296=\"\",\"\",COUNTIF($S$7:S1296,\"該当２\"))","v":""},"","",{"$f":"IF(V1296=\"\",\"\",COUNTIF($V$7:V1296,\"該当３\"))","v":""}]
[1921303009,19,{"v":213,"d":"213 "},{"v":3,"d":"03 "},{"v":9,"d":"009 "},"山梨県","甲州市","大藤村","北原",null,"","",{"$f":"IF(K1297=\"\",\"\",COUNTIF($K$7:K1297,\"ﾘｽﾄ１\"))","v":""},"","","","","","","",{"$f":"IF(S1297=\"\",\"\",COUNTIF($S$7:S1297,\"該当２\"))","v":""},"","",{"$f":"IF(V1297=\"\",\"\",COUNTIF($V$7:V1297,\"該当３\"))","v":""}]
[1921303010,19,{"v":213,"d":"213 "},{"v":3,"d":"03 "},{"v":10,"d":"010 "},"山梨県","甲州市","大藤村","重郎原",null,"","",{"$f":"IF(K1298=\"\",\"\",COUNTIF($K$7:K1298,\"ﾘｽﾄ１\"))","v":""},"","","","","","","",{"$f":"IF(S1298=\"\",\"\",COUNTIF($S$7:S1298,\"該当２\"))","v":""},"","",{"$f":"IF(V1298=\"\",\"\",COUNTIF($V$7:V1298,\"該当３\"))","v":""}]
[1921303011,19,{"v":213,"d":"213 "},{"v":3,"d":"03 "},{"v":11,"d":"011 "},"山梨県","甲州市","大藤村","上井后田",null,"","",{"$f":"IF(K1299=\"\",\"\",COUNTIF($K$7:K1299,\"ﾘｽﾄ１\"))","v":""},"","","","","","","",{"$f":"IF(S1299=\"\",\"\",COUNTIF($S$7:S1299,\"該当２\"))","v":""},"","",{"$f":"IF(V1299=\"\",\"\",COUNTIF($V$7:V1299,\"該当３\"))","v":""}]
[1921303012,19,{"v":213,"d":"213 "},{"v":3,"d":"03 "},{"v":12,"d":"012 "},"山梨県","甲州市","大藤村","下井后田",null,"","",{"$f":"IF(K1300=\"\",\"\",COUNTIF($K$7:K1300,\"ﾘｽﾄ１\"))","v":""},"","","","","","","",{"$f":"IF(S1300=\"\",\"\",COUNTIF($S$7:S1300,\"該当２\"))","v":""},"","",{"$f":"IF(V1300=\"\",\"\",COUNTIF($V$7:V1300,\"該当３\"))","v":""}]
[1921303013,19,{"v":213,"d":"213 "},{"v":3,"d":"03 "},{"v":13,"d":"013 "},"山梨県","甲州市","大藤村","上中",null,"","",{"$f":"IF(K1301=\"\",\"\",COUNTIF($K$7:K1301,\"ﾘｽﾄ１\"))","v":""},"","","","","","","",{"$f":"IF(S1301=\"\",\"\",COUNTIF($S$7:S1301,\"該当２\"))","v":""},"","",{"$f":"IF(V1301=\"\",\"\",COUNTIF($V$7:V1301,\"該当３\"))","v":""}]
[1921303014,19,{"v":213,"d":"213 "},{"v":3,"d":"03 "},{"v":14,"d":"014 "},"山梨県","甲州市","大藤村","室屋",null,"","",{"$f":"IF(K1302=\"\",\"\",COUNTIF($K$7:K1302,\"ﾘｽﾄ１\"))","v":""},"","","","","","","",{"$f":"IF(S1302=\"\",\"\",COUNTIF($S$7:S1302,\"該当２\"))","v":""},"","",{"$f":"IF(V1302=\"\",\"\",COUNTIF($V$7:V1302,\"該当３\"))","v":""}]
[1921303015,19,{"v":213,"d":"213 "},{"v":3,"d":"03 "},{"v":15,"d":"015 "},"山梨県","甲州市","大藤村","西原",null,"","",{"$f":"IF(K1303=\"\",\"\",COUNTIF($K$7:K1303,\"ﾘｽﾄ１\"))","v":""},"","","","","","","",{"$f":"IF(S1303=\"\",\"\",COUNTIF($S$7:S1303,\"該当２\"))","v":""},"","",{"$f":"IF(V1303=\"\",\"\",COUNTIF($V$7:V1303,\"該当３\"))","v":""}]
[1921303016,19,{"v":213,"d":"213 "},{"v":3,"d":"03 "},{"v":16,"d":"016 "},"山梨県","甲州市","大藤村","鐙摺",null,"","",{"$f":"IF(K1304=\"\",\"\",COUNTIF($K$7:K1304,\"ﾘｽﾄ１\"))","v":""},"","","","","","","",{"$f":"IF(S1304=\"\",\"\",COUNTIF($S$7:S1304,\"該当２\"))","v":""},"","",{"$f":"IF(V1304=\"\",\"\",COUNTIF($V$7:V1304,\"該当３\"))","v":""}]
[1921303017,19,{"v":213,"d":"213 "},{"v":3,"d":"03 "},{"v":17,"d":"017 "},"山梨県","甲州市","大藤村","清水，糀屋",null,"","",{"$f":"IF(K1305=\"\",\"\",COUNTIF($K$7:K1305,\"ﾘｽﾄ１\"))","v":""},"","","","","","","",{"$f":"IF(S1305=\"\",\"\",COUNTIF($S$7:S1305,\"該当２\"))","v":""},"","",{"$f":"IF(V1305=\"\",\"\",COUNTIF($V$7:V1305,\"該当３\"))","v":""}]
[1921303018,19,{"v":213,"d":"213 "},{"v":3,"d":"03 "},{"v":18,"d":"018 "},"山梨県","甲州市","大藤村","中田，下中",null,"","",{"$f":"IF(K1306=\"\",\"\",COUNTIF($K$7:K1306,\"ﾘｽﾄ１\"))","v":""},"","","","","","","",{"$f":"IF(S1306=\"\",\"\",COUNTIF($S$7:S1306,\"該当２\"))","v":""},"","",{"$f":"IF(V1306=\"\",\"\",COUNTIF($V$7:V1306,\"該当３\"))","v":""}]
[1921303019,19,{"v":213,"d":"213 "},{"v":3,"d":"03 "},{"v":19,"d":"019 "},"山梨県","甲州市","大藤村","宮ノ前",null,"","",{"$f":"IF(K1307=\"\",\"\",COUNTIF($K$7:K1307,\"ﾘｽﾄ１\"))","v":""},"","","","","","","",{"$f":"IF(S1307=\"\",\"\",COUNTIF($S$7:S1307,\"該当２\"))","v":""},"","",{"$f":"IF(V1307=\"\",\"\",COUNTIF($V$7:V1307,\"該当３\"))","v":""}]
[1921303020,19,{"v":213,"d":"213 "},{"v":3,"d":"03 "},{"v":20,"d":"020 "},"山梨県","甲州市","大藤村","向井",null,"","",{"$f":"IF(K1308=\"\",\"\",COUNTIF($K$7:K1308,\"ﾘｽﾄ１\"))","v":""},"","","","","","","",{"$f":"IF(S1308=\"\",\"\",COUNTIF($S$7:S1308,\"該当２\"))","v":""},"","",{"$f":"IF(V1308=\"\",\"\",COUNTIF($V$7:V1308,\"該当３\"))","v":""}]
[1921304000,19,{"v":213,"d":"213 "},{"v":4,"d":"04 "},{"v":0,"d":"000 "},"山梨県","甲州市","神金村",null,null,"","",{"$f":"IF(K1309=\"\",\"\",COUNTIF($K$7:K1309,\"ﾘｽﾄ１\"))","v":""},"","","","","","","",{"$f":"IF(S1309=\"\",\"\",COUNTIF($S$7:S1309,\"該当２\"))","v":""},"","",{"$f":"IF(V1309=\"\",\"\",COUNTIF($V$7:V1309,\"該当３\"))","v":""}]
[1921304001,19,{"v":213,"d":"213 "},{"v":4,"d":"04 "},{"v":1,"d":"001 "},"山梨県","甲州市","神金村","下切",null,"","",{"$f":"IF(K1310=\"\",\"\",COUNTIF($K$7:K1310,\"ﾘｽﾄ１\"))","v":""},"","","","","","","",{"$f":"IF(S1310=\"\",\"\",COUNTIF($S$7:S1310,\"該当２\"))","v":""},"","",{"$f":"IF(V1310=\"\",\"\",COUNTIF($V$7:V1310,\"該当３\"))","v":""}]
[1921304002,19,{"v":213,"d":"213 "},{"v":4,"d":"04 "},{"v":2,"d":"002 "},"山梨県","甲州市","神金村","神金第一区",null,"","",{"$f":"IF(K1311=\"\",\"\",COUNTIF($K$7:K1311,\"ﾘｽﾄ１\"))","v":""},"","","","","","","",{"$f":"IF(S1311=\"\",\"\",COUNTIF($S$7:S1311,\"該当２\"))","v":""},"","",{"$f":"IF(V1311=\"\",\"\",COUNTIF($V$7:V1311,\"該当３\"))","v":""}]
[1921304003,19,{"v":213,"d":"213 "},{"v":4,"d":"04 "},{"v":3,"d":"003 "},"山梨県","甲州市","神金村","岩波",null,"","",{"$f":"IF(K1312=\"\",\"\",COUNTIF($K$7:K1312,\"ﾘｽﾄ１\"))","v":""},"","","","","","","",{"$f":"IF(S1312=\"\",\"\",COUNTIF($S$7:S1312,\"該当２\"))","v":""},"","",{"$f":"IF(V1312=\"\",\"\",COUNTIF($V$7:V1312,\"該当３\"))","v":""}]
[1921304004,19,{"v":213,"d":"213 "},{"v":4,"d":"04 "},{"v":4,"d":"004 "},"山梨県","甲州市","神金村","桜田",null,"","",{"$f":"IF(K1313=\"\",\"\",COUNTIF($K$7:K1313,\"ﾘｽﾄ１\"))","v":""},"","","","","","","",{"$f":"IF(S1313=\"\",\"\",COUNTIF($S$7:S1313,\"該当２\"))","v":""},"","",{"$f":"IF(V1313=\"\",\"\",COUNTIF($V$7:V1313,\"該当３\"))","v":""}]
[1921304005,19,{"v":213,"d":"213 "},{"v":4,"d":"04 "},{"v":5,"d":"005 "},"山梨県","甲州市","神金村","かじや",null,"","",{"$f":"IF(K1314=\"\",\"\",COUNTIF($K$7:K1314,\"ﾘｽﾄ１\"))","v":""},"","","","","","","",{"$f":"IF(S1314=\"\",\"\",COUNTIF($S$7:S1314,\"該当２\"))","v":""},"","",{"$f":"IF(V1314=\"\",\"\",COUNTIF($V$7:V1314,\"該当３\"))","v":""}]
[1921304006,19,{"v":213,"d":"213 "},{"v":4,"d":"04 "},{"v":6,"d":"006 "},"山梨県","甲州市","神金村","上萩第一",null,"","",{"$f":"IF(K1315=\"\",\"\",COUNTIF($K$7:K1315,\"ﾘｽﾄ１\"))","v":""},"","","","","","","",{"$f":"IF(S1315=\"\",\"\",COUNTIF($S$7:S1315,\"該当２\"))","v":""},"","",{"$f":"IF(V1315=\"\",\"\",COUNTIF($V$7:V1315,\"該当３\"))","v":""}]
[1921304007,19,{"v":213,"d":"213 "},{"v":4,"d":"04 "},{"v":7,"d":"007 "},"山梨県","甲州市","神金村","上萩第二",null,"","",{"$f":"IF(K1316=\"\",\"\",COUNTIF($K$7:K1316,\"ﾘｽﾄ１\"))","v":""},"","","","","","","",{"$f":"IF(S1316=\"\",\"\",COUNTIF($S$7:S1316,\"該当２\"))","v":""},"","",{"$f":"IF(V1316=\"\",\"\",COUNTIF($V$7:V1316,\"該当３\"))","v":""}]
[1921304008,19,{"v":213,"d":"213 "},{"v":4,"d":"04 "},{"v":8,"d":"008 "},"山梨県","甲州市","神金村","昭和第一",null,"","",{"$f":"IF(K1317=\"\",\"\",COUNTIF($K$7:K1317,\"ﾘｽﾄ１\"))","v":""},"","","","","","","",{"$f":"IF(S1317=\"\",\"\",COUNTIF($S$7:S1317,\"該当２\"))","v":""},"","",{"$f":"IF(V1317=\"\",\"\",COUNTIF($V$7:V1317,\"該当３\"))","v":""}]
[1921304009,19,{"v":213,"d":"213 "},{"v":4,"d":"04 "},{"v":9,"d":"009 "},"山梨県","甲州市","神金村","大久保",null,"","",{"$f":"IF(K1318=\"\",\"\",COUNTIF($K$7:K1318,\"ﾘｽﾄ１\"))","v":""},"","","","","","","",{"$f":"IF(S1318=\"\",\"\",COUNTIF($S$7:S1318,\"該当２\"))","v":""},"","",{"$f":"IF(V1318=\"\",\"\",COUNTIF($V$7:V1318,\"該当３\"))","v":""}]
[1921304010,19,{"v":213,"d":"213 "},{"v":4,"d":"04 "},{"v":10,"d":"010 "},"山梨県","甲州市","神金村","下小田原下",null,"","",{"$f":"IF(K1319=\"\",\"\",COUNTIF($K$7:K1319,\"ﾘｽﾄ１\"))","v":""},"","","","","","","",{"$f":"IF(S1319=\"\",\"\",COUNTIF($S$7:S1319,\"該当２\"))","v":""},"","",{"$f":"IF(V1319=\"\",\"\",COUNTIF($V$7:V1319,\"該当３\"))","v":""}]
[1921304011,19,{"v":213,"d":"213 "},{"v":4,"d":"04 "},{"v":11,"d":"011 "},"山梨県","甲州市","神金村","更生",null,"","",{"$f":"IF(K1320=\"\",\"\",COUNTIF($K$7:K1320,\"ﾘｽﾄ１\"))","v":""},"","","","","","","",{"$f":"IF(S1320=\"\",\"\",COUNTIF($S$7:S1320,\"該当２\"))","v":""},"","",{"$f":"IF(V1320=\"\",\"\",COUNTIF($V$7:V1320,\"該当３\"))","v":""}]
[1921304012,19,{"v":213,"d":"213 "},{"v":4,"d":"04 "},{"v":12,"d":"012 "},"山梨県","甲州市","神金村","下小田原第一",null,"","",{"$f":"IF(K1321=\"\",\"\",COUNTIF($K$7:K1321,\"ﾘｽﾄ１\"))","v":""},"","","","","","","",{"$f":"IF(S1321=\"\",\"\",COUNTIF($S$7:S1321,\"該当２\"))","v":""},"","",{"$f":"IF(V1321=\"\",\"\",COUNTIF($V$7:V1321,\"該当３\"))","v":""}]
[1921304013,19,{"v":213,"d":"213 "},{"v":4,"d":"04 "},{"v":13,"d":"013 "},"山梨県","甲州市","神金村","上小田原",null,"","",{"$f":"IF(K1322=\"\",\"\",COUNTIF($K$7:K1322,\"ﾘｽﾄ１\"))","v":""},"","","","","","","",{"$f":"IF(S1322=\"\",\"\",COUNTIF($S$7:S1322,\"該当２\"))","v":""},"","",{"$f":"IF(V1322=\"\",\"\",COUNTIF($V$7:V1322,\"該当３\"))","v":""}]
[1921304014,19,{"v":213,"d":"213 "},{"v":4,"d":"04 "},{"v":14,"d":"014 "},"山梨県","甲州市","神金村","昭和第二",null,"","",{"$f":"IF(K1323=\"\",\"\",COUNTIF($K$7:K1323,\"ﾘｽﾄ１\"))","v":""},"","","","","","","",{"$f":"IF(S1323=\"\",\"\",COUNTIF($S$7:S1323,\"該当２\"))","v":""},"","",{"$f":"IF(V1323=\"\",\"\",COUNTIF($V$7:V1323,\"該当３\"))","v":""}]
[1921304015,19,{"v":213,"d":"213 "},{"v":4,"d":"04 "},{"v":15,"d":"015 "},"山梨県","甲州市","神金村","裂石",null,"","",{"$f":"IF(K1324=\"\",\"\",COUNTIF($K$7:K1324,\"ﾘｽﾄ１\"))","v":""},"","","","","","","",{"$f":"IF(S1324=\"\",\"\",COUNTIF($S$7:S1324,\"該当２\"))","v":""},"","",{"$f":"IF(V1324=\"\",\"\",COUNTIF($V$7:V1324,\"該当３\"))","v":""}]
[1921304016,19,{"v":213,"d":"213 "},{"v":4,"d":"04 "},{"v":16,"d":"016 "},"山梨県","甲州市","神金村","落合",null,"","",{"$f":"IF(K1325=\"\",\"\",COUNTIF($K$7:K1325,\"ﾘｽﾄ１\"))","v":""},"","","","","","","",{"$f":"IF(S1325=\"\",\"\",COUNTIF($S$7:S1325,\"該当２\"))","v":""},"","",{"$f":"IF(V1325=\"\",\"\",COUNTIF($V$7:V1325,\"該当３\"))","v":""}]
[1921304017,19,{"v":213,"d":"213 "},{"v":4,"d":"04 "},{"v":17,"d":"017 "},"山梨県","甲州市","神金村","高橋",null,"","",{"$f":"IF(K1326=\"\",\"\",COUNTIF($K$7:K1326,\"ﾘｽﾄ１\"))","v":""},"","","","","","","",{"$f":"IF(S1326=\"\",\"\",COUNTIF($S$7:S1326,\"該当２\"))","v":""},"","",{"$f":"IF(V1326=\"\",\"\",COUNTIF($V$7:V1326,\"該当３\"))","v":""}]
[1921304018,19,{"v":213,"d":"213 "},{"v":4,"d":"04 "},{"v":18,"d":"018 "},"山梨県","甲州市","神金村","一ノ瀬",null,"","",{"$f":"IF(K1327=\"\",\"\",COUNTIF($K$7:K1327,\"ﾘｽﾄ１\"))","v":""},"","","","","","","",{"$f":"IF(S1327=\"\",\"\",COUNTIF($S$7:S1327,\"該当２\"))","v":""},"","",{"$f":"IF(V1327=\"\",\"\",COUNTIF($V$7:V1327,\"該当３\"))","v":""}]
[1921305000,19,{"v":213,"d":"213 "},{"v":5,"d":"05 "},{"v":0,"d":"000 "},"山梨県","甲州市","玉宮村",null,null,"","",{"$f":"IF(K1328=\"\",\"\",COUNTIF($K$7:K1328,\"ﾘｽﾄ１\"))","v":""},"","","","","","","",{"$f":"IF(S1328=\"\",\"\",COUNTIF($S$7:S1328,\"該当２\"))","v":""},"","",{"$f":"IF(V1328=\"\",\"\",COUNTIF($V$7:V1328,\"該当３\"))","v":""}]
[1921305001,19,{"v":213,"d":"213 "},{"v":5,"d":"05 "},{"v":1,"d":"001 "},"山梨県","甲州市","玉宮村","的場",null,"","",{"$f":"IF(K1329=\"\",\"\",COUNTIF($K$7:K1329,\"ﾘｽﾄ１\"))","v":""},"","","","","","","",{"$f":"IF(S1329=\"\",\"\",COUNTIF($S$7:S1329,\"該当２\"))","v":""},"","",{"$f":"IF(V1329=\"\",\"\",COUNTIF($V$7:V1329,\"該当３\"))","v":""}]
[1921305002,19,{"v":213,"d":"213 "},{"v":5,"d":"05 "},{"v":2,"d":"002 "},"山梨県","甲州市","玉宮村","御所",null,"","",{"$f":"IF(K1330=\"\",\"\",COUNTIF($K$7:K1330,\"ﾘｽﾄ１\"))","v":""},"","","","","","","",{"$f":"IF(S1330=\"\",\"\",COUNTIF($S$7:S1330,\"該当２\"))","v":""},"","",{"$f":"IF(V1330=\"\",\"\",COUNTIF($V$7:V1330,\"該当３\"))","v":""}]
[1921305003,19,{"v":213,"d":"213 "},{"v":5,"d":"05 "},{"v":3,"d":"003 "},"山梨県","甲州市","玉宮村","中組",null,"","",{"$f":"IF(K1331=\"\",\"\",COUNTIF($K$7:K1331,\"ﾘｽﾄ１\"))","v":""},"","","","","","","",{"$f":"IF(S1331=\"\",\"\",COUNTIF($S$7:S1331,\"該当２\"))","v":""},"","",{"$f":"IF(V1331=\"\",\"\",COUNTIF($V$7:V1331,\"該当３\"))","v":""}]
[1921305004,19,{"v":213,"d":"213 "},{"v":5,"d":"05 "},{"v":4,"d":"004 "},"山梨県","甲州市","玉宮村","乙木",null,"","",{"$f":"IF(K1332=\"\",\"\",COUNTIF($K$7:K1332,\"ﾘｽﾄ１\"))","v":""},"","","","","","","",{"$f":"IF(S1332=\"\",\"\",COUNTIF($S$7:S1332,\"該当２\"))","v":""},"","",{"$f":"IF(V1332=\"\",\"\",COUNTIF($V$7:V1332,\"該当３\"))","v":""}]
[1921305005,19,{"v":213,"d":"213 "},{"v":5,"d":"05 "},{"v":5,"d":"005 "},"山梨県","甲州市","玉宮村","宮組",null,"","",{"$f":"IF(K1333=\"\",\"\",COUNTIF($K$7:K1333,\"ﾘｽﾄ１\"))","v":""},"","","","","","","",{"$f":"IF(S1333=\"\",\"\",COUNTIF($S$7:S1333,\"該当２\"))","v":""},"","",{"$f":"IF(V1333=\"\",\"\",COUNTIF($V$7:V1333,\"該当３\"))","v":""}]
[1921305006,19,{"v":213,"d":"213 "},{"v":5,"d":"05 "},{"v":6,"d":"006 "},"山梨県","甲州市","玉宮村","西組",null,"","",{"$f":"IF(K1334=\"\",\"\",COUNTIF($K$7:K1334,\"ﾘｽﾄ１\"))","v":""},"","","","","","","",{"$f":"IF(S1334=\"\",\"\",COUNTIF($S$7:S1334,\"該当２\"))","v":""},"","",{"$f":"IF(V1334=\"\",\"\",COUNTIF($V$7:V1334,\"該当３\"))","v":""}]
[1921305007,19,{"v":213,"d":"213 "},{"v":5,"d":"05 "},{"v":7,"d":"007 "},"山梨県","甲州市","玉宮村","東組",null,"","",{"$f":"IF(K1335=\"\",\"\",COUNTIF($K$7:K1335,\"ﾘｽﾄ１\"))","v":""},"","","","","","","",{"$f":"IF(S1335=\"\",\"\",COUNTIF($S$7:S1335,\"該当２\"))","v":""},"","",{"$f":"IF(V1335=\"\",\"\",COUNTIF($V$7:V1335,\"該当３\"))","v":""}]
[1921305008,19,{"v":213,"d":"213 "},{"v":5,"d":"05 "},{"v":8,"d":"008 "},"山梨県","甲州市","玉宮村","上手",null,"","",{"$f":"IF(K1336=\"\",\"\",COUNTIF($K$7:K1336,\"ﾘｽﾄ１\"))","v":""},"","","","","","","",{"$f":"IF(S1336=\"\",\"\",COUNTIF($S$7:S1336,\"該当２\"))","v":""},"","",{"$f":"IF(V1336=\"\",\"\",COUNTIF($V$7:V1336,\"該当３\"))","v":""}]
[1921305009,19,{"v":213,"d":"213 "},{"v":5,"d":"05 "},{"v":9,"d":"009 "},"山梨県","甲州市","玉宮村","福生里東",null,"","",{"$f":"IF(K1337=\"\",\"\",COUNTIF($K$7:K1337,\"ﾘｽﾄ１\"))","v":""},"","","","","","","",{"$f":"IF(S1337=\"\",\"\",COUNTIF($S$7:S1337,\"該当２\"))","v":""},"","",{"$f":"IF(V1337=\"\",\"\",COUNTIF($V$7:V1337,\"該当３\"))","v":""}]
[1921305010,19,{"v":213,"d":"213 "},{"v":5,"d":"05 "},{"v":10,"d":"010 "},"山梨県","甲州市","玉宮村","福生里西",null,"","",{"$f":"IF(K1338=\"\",\"\",COUNTIF($K$7:K1338,\"ﾘｽﾄ１\"))","v":""},"","","","","","","",{"$f":"IF(S1338=\"\",\"\",COUNTIF($S$7:S1338,\"該当２\"))","v":""},"","",{"$f":"IF(V1338=\"\",\"\",COUNTIF($V$7:V1338,\"該当３\"))","v":""}]
[1921305011,19,{"v":213,"d":"213 "},{"v":5,"d":"05 "},{"v":11,"d":"011 "},"山梨県","甲州市","玉宮村","平沢下",null,"","",{"$f":"IF(K1339=\"\",\"\",COUNTIF($K$7:K1339,\"ﾘｽﾄ１\"))","v":""},"","","","","","","",{"$f":"IF(S1339=\"\",\"\",COUNTIF($S$7:S1339,\"該当２\"))","v":""},"","",{"$f":"IF(V1339=\"\",\"\",COUNTIF($V$7:V1339,\"該当３\"))","v":""}]
[1921305012,19,{"v":213,"d":"213 "},{"v":5,"d":"05 "},{"v":12,"d":"012 "},"山梨県","甲州市","玉宮村","平沢上",null,"","",{"$f":"IF(K1340=\"\",\"\",COUNTIF($K$7:K1340,\"ﾘｽﾄ１\"))","v":""},"","","","","","","",{"$f":"IF(S1340=\"\",\"\",COUNTIF($S$7:S1340,\"該当２\"))","v":""},"","",{"$f":"IF(V1340=\"\",\"\",COUNTIF($V$7:V1340,\"該当３\"))","v":""}]
[1921306000,19,{"v":213,"d":"213 "},{"v":6,"d":"06 "},{"v":0,"d":"000 "},"山梨県","甲州市","松里村",null,null,"","",{"$f":"IF(K1341=\"\",\"\",COUNTIF($K$7:K1341,\"ﾘｽﾄ１\"))","v":""},"","","","","","","",{"$f":"IF(S1341=\"\",\"\",COUNTIF($S$7:S1341,\"該当２\"))","v":""},"","",{"$f":"IF(V1341=\"\",\"\",COUNTIF($V$7:V1341,\"該当３\"))","v":""}]
[1921306001,19,{"v":213,"d":"213 "},{"v":6,"d":"06 "},{"v":1,"d":"001 "},"山梨県","甲州市","松里村","東方",null,"","",{"$f":"IF(K1342=\"\",\"\",COUNTIF($K$7:K1342,\"ﾘｽﾄ１\"))","v":""},"","","","","","","",{"$f":"IF(S1342=\"\",\"\",COUNTIF($S$7:S1342,\"該当２\"))","v":""},"","",{"$f":"IF(V1342=\"\",\"\",COUNTIF($V$7:V1342,\"該当３\"))","v":""}]
[1921306002,19,{"v":213,"d":"213 "},{"v":6,"d":"06 "},{"v":2,"d":"002 "},"山梨県","甲州市","松里村","中井尻",null,"","",{"$f":"IF(K1343=\"\",\"\",COUNTIF($K$7:K1343,\"ﾘｽﾄ１\"))","v":""},"","","","","","","",{"$f":"IF(S1343=\"\",\"\",COUNTIF($S$7:S1343,\"該当２\"))","v":""},"","",{"$f":"IF(V1343=\"\",\"\",COUNTIF($V$7:V1343,\"該当３\"))","v":""}]
[1921306003,19,{"v":213,"d":"213 "},{"v":6,"d":"06 "},{"v":3,"d":"003 "},"山梨県","甲州市","松里村","上井尻",null,"","",{"$f":"IF(K1344=\"\",\"\",COUNTIF($K$7:K1344,\"ﾘｽﾄ１\"))","v":""},"","","","","","","",{"$f":"IF(S1344=\"\",\"\",COUNTIF($S$7:S1344,\"該当２\"))","v":""},"","",{"$f":"IF(V1344=\"\",\"\",COUNTIF($V$7:V1344,\"該当３\"))","v":""}]
[1921306004,19,{"v":213,"d":"213 "},{"v":6,"d":"06 "},{"v":4,"d":"004 "},"山梨県","甲州市","松里村","能麦",null,"","",{"$f":"IF(K1345=\"\",\"\",COUNTIF($K$7:K1345,\"ﾘｽﾄ１\"))","v":""},"","","","","","","",{"$f":"IF(S1345=\"\",\"\",COUNTIF($S$7:S1345,\"該当２\"))","v":""},"","",{"$f":"IF(V1345=\"\",\"\",COUNTIF($V$7:V1345,\"該当３\"))","v":""}]
[1921306005,19,{"v":213,"d":"213 "},{"v":6,"d":"06 "},{"v":5,"d":"005 "},"山梨県","甲州市","松里村","乙川戸",null,"","",{"$f":"IF(K1346=\"\",\"\",COUNTIF($K$7:K1346,\"ﾘｽﾄ１\"))","v":""},"","","","","","","",{"$f":"IF(S1346=\"\",\"\",COUNTIF($S$7:S1346,\"該当２\"))","v":""},"","",{"$f":"IF(V1346=\"\",\"\",COUNTIF($V$7:V1346,\"該当３\"))","v":""}]
[1921306006,19,{"v":213,"d":"213 "},{"v":6,"d":"06 "},{"v":6,"d":"006 "},"山梨県","甲州市","松里村","武士原",null,"","",{"$f":"IF(K1347=\"\",\"\",COUNTIF($K$7:K1347,\"ﾘｽﾄ１\"))","v":""},"","","","","","","",{"$f":"IF(S1347=\"\",\"\",COUNTIF($S$7:S1347,\"該当２\"))","v":""},"","",{"$f":"IF(V1347=\"\",\"\",COUNTIF($V$7:V1347,\"該当３\"))","v":""}]
[1921306007,19,{"v":213,"d":"213 "},{"v":6,"d":"06 "},{"v":7,"d":"007 "},"山梨県","甲州市","松里村","下市場",null,"","",{"$f":"IF(K1348=\"\",\"\",COUNTIF($K$7:K1348,\"ﾘｽﾄ１\"))","v":""},"","","","","","","",{"$f":"IF(S1348=\"\",\"\",COUNTIF($S$7:S1348,\"該当２\"))","v":""},"","",{"$f":"IF(V1348=\"\",\"\",COUNTIF($V$7:V1348,\"該当３\"))","v":""}]
[1921306008,19,{"v":213,"d":"213 "},{"v":6,"d":"06 "},{"v":8,"d":"008 "},"山梨県","甲州市","松里村","追手先",null,"","",{"$f":"IF(K1349=\"\",\"\",COUNTIF($K$7:K1349,\"ﾘｽﾄ１\"))","v":""},"","","","","","","",{"$f":"IF(S1349=\"\",\"\",COUNTIF($S$7:S1349,\"該当２\"))","v":""},"","",{"$f":"IF(V1349=\"\",\"\",COUNTIF($V$7:V1349,\"該当３\"))","v":""}]
[1921306009,19,{"v":213,"d":"213 "},{"v":6,"d":"06 "},{"v":9,"d":"009 "},"山梨県","甲州市","松里村","中組",null,"","",{"$f":"IF(K1350=\"\",\"\",COUNTIF($K$7:K1350,\"ﾘｽﾄ１\"))","v":""},"","","","","","","",{"$f":"IF(S1350=\"\",\"\",COUNTIF($S$7:S1350,\"該当２\"))","v":""},"","",{"$f":"IF(V1350=\"\",\"\",COUNTIF($V$7:V1350,\"該当３\"))","v":""}]
[1921306010,19,{"v":213,"d":"213 "},{"v":6,"d":"06 "},{"v":10,"d":"010 "},"山梨県","甲州市","松里村","上組",null,"","",{"$f":"IF(K1351=\"\",\"\",COUNTIF($K$7:K1351,\"ﾘｽﾄ１\"))","v":""},"","","","","","","",{"$f":"IF(S1351=\"\",\"\",COUNTIF($S$7:S1351,\"該当２\"))","v":""},"","",{"$f":"IF(V1351=\"\",\"\",COUNTIF($V$7:V1351,\"該当３\"))","v":""}]
[1921306011,19,{"v":213,"d":"213 "},{"v":6,"d":"06 "},{"v":11,"d":"011 "},"山梨県","甲州市","松里村","荒井",null,"","",{"$f":"IF(K1352=\"\",\"\",COUNTIF($K$7:K1352,\"ﾘｽﾄ１\"))","v":""},"","","","","","","",{"$f":"IF(S1352=\"\",\"\",COUNTIF($S$7:S1352,\"該当２\"))","v":""},"","",{"$f":"IF(V1352=\"\",\"\",COUNTIF($V$7:V1352,\"該当３\"))","v":""}]
[1921306012,19,{"v":213,"d":"213 "},{"v":6,"d":"06 "},{"v":12,"d":"012 "},"山梨県","甲州市","松里村","西部",null,"","",{"$f":"IF(K1353=\"\",\"\",COUNTIF($K$7:K1353,\"ﾘｽﾄ１\"))","v":""},"","","","","","","",{"$f":"IF(S1353=\"\",\"\",COUNTIF($S$7:S1353,\"該当２\"))","v":""},"","",{"$f":"IF(V1353=\"\",\"\",COUNTIF($V$7:V1353,\"該当３\"))","v":""}]
[1921306013,19,{"v":213,"d":"213 "},{"v":6,"d":"06 "},{"v":13,"d":"013 "},"山梨県","甲州市","松里村","中央，宮原",null,"","",{"$f":"IF(K1354=\"\",\"\",COUNTIF($K$7:K1354,\"ﾘｽﾄ１\"))","v":""},"","",{"$f":"IF(O1354=\"該当１\",G1354,\"\")","v":""},{"$f":"IF(O1354=\"該当１\",\"ﾘｽﾄ2\",\"\")","v":""},{"$f":"IF(Q1354=\"ﾘｽﾄ2\",H1354,\"\")","v":""},"",{"$f":"IF(S1354=\"該当２\",H1354,\"\")","v":""},{"$f":"IF(S1354=\"\",\"\",COUNTIF($S$7:S1354,\"該当２\"))","v":""},{"$f":"IF(AND($S$2=H1354,E1354>0,E1354<998),\"該当３\",\"\")","v":""},{"$f":"IF(V1354=\"該当３\",I1354,\"\")","v":""},{"$f":"IF(V1354=\"\",\"\",COUNTIF($V$7:V1354,\"該当３\"))","v":""}]
[1921306014,19,{"v":213,"d":"213 "},{"v":6,"d":"06 "},{"v":14,"d":"014 "},"山梨県","甲州市","松里村","宮原",null,{"$f":"IF(AND($C1355>0,$H1355=\"\"),\"ﾘｽﾄ１\",\"\")","v":""},{"$f":"IF(K1355=\"ﾘｽﾄ１\",G1355,\"\")","v":""},{"$f":"IF(K1355=\"\",\"\",COUNTIF($K$7:K1355,\"ﾘｽﾄ１\"))","v":""},{"$f":"IF(AND(D1355=0,E1355>0),\"同一区\",\"\")","v":""},{"$f":"IF(AND(EXACT($K$2,G1355),H1355>0),\"該当１\",\"\")","v":""},"","","",{"$f":"IF(AND(Q1355=\"ﾘｽﾄ2\",OR(I1355=0,AND(N1355=\"同一区\",E1355=1))),\"該当２\",\"\")","v":""},"",{"$f":"IF(S1355=\"\",\"\",COUNTIF($S$7:S1355,\"該当２\"))","v":""},"","",{"$f":"IF(V1355=\"\",\"\",COUNTIF($V$7:V1355,\"該当３\"))","v":""}]
[1921306015,19,{"v":213,"d":"213 "},{"v":6,"d":"06 "},{"v":15,"d":"015 "},"山梨県","甲州市","松里村","宮西",null,"","",{"$f":"IF(K1356=\"\",\"\",COUNTIF($K$7:K1356,\"ﾘｽﾄ１\"))","v":""},"","","","","","","",{"$f":"IF(S1356=\"\",\"\",COUNTIF($S$7:S1356,\"該当２\"))","v":""},"","",{"$f":"IF(V1356=\"\",\"\",COUNTIF($V$7:V1356,\"該当３\"))","v":""}]
[1921306016,19,{"v":213,"d":"213 "},{"v":6,"d":"06 "},{"v":16,"d":"016 "},"山梨県","甲州市","松里村","滑沢",null,"","",{"$f":"IF(K1357=\"\",\"\",COUNTIF($K$7:K1357,\"ﾘｽﾄ１\"))","v":""},"","","","","","","",{"$f":"IF(S1357=\"\",\"\",COUNTIF($S$7:S1357,\"該当２\"))","v":""},"","",{"$f":"IF(V1357=\"\",\"\",COUNTIF($V$7:V1357,\"該当３\"))","v":""}]
[1921306017,19,{"v":213,"d":"213 "},{"v":6,"d":"06 "},{"v":17,"d":"017 "},"山梨県","甲州市","松里村","下藤木",null,"","",{"$f":"IF(K1358=\"\",\"\",COUNTIF($K$7:K1358,\"ﾘｽﾄ１\"))","v":""},"","","","","","","",{"$f":"IF(S1358=\"\",\"\",COUNTIF($S$7:S1358,\"該当２\"))","v":""},"","",{"$f":"IF(V1358=\"\",\"\",COUNTIF($V$7:V1358,\"該当３\"))","v":""}]
[1921306018,19,{"v":213,"d":"213 "},{"v":6,"d":"06 "},{"v":18,"d":"018 "},"山梨県","甲州市","松里村","西藤木",null,"","",{"$f":"IF(K1359=\"\",\"\",COUNTIF($K$7:K1359,\"ﾘｽﾄ１\"))","v":""},"","","","","","","",{"$f":"IF(S1359=\"\",\"\",COUNTIF($S$7:S1359,\"該当２\"))","v":""},"","",{"$f":"IF(V1359=\"\",\"\",COUNTIF($V$7:V1359,\"該当３\"))","v":""}]
[1921306019,19,{"v":213,"d":"213 "},{"v":6,"d":"06 "},{"v":19,"d":"019 "},"山梨県","甲州市","松里村","東藤木",null,"","",{"$f":"IF(K1360=\"\",\"\",COUNTIF($K$7:K1360,\"ﾘｽﾄ１\"))","v":""},"","","","","","","",{"$f":"IF(S1360=\"\",\"\",COUNTIF($S$7:S1360,\"該当２\"))","v":""},"","",{"$f":"IF(V1360=\"\",\"\",COUNTIF($V$7:V1360,\"該当３\"))","v":""}]
[1921306020,19,{"v":213,"d":"213 "},{"v":6,"d":"06 "},{"v":20,"d":"020 "},"山梨県","甲州市","松里村","上藤木",null,"","",{"$f":"IF(K1361=\"\",\"\",COUNTIF($K$7:K1361,\"ﾘｽﾄ１\"))","v":""},"","","","","","","",{"$f":"IF(S1361=\"\",\"\",COUNTIF($S$7:S1361,\"該当２\"))","v":""},"","",{"$f":"IF(V1361=\"\",\"\",COUNTIF($V$7:V1361,\"該当３\"))","v":""}]
[1921306021,19,{"v":213,"d":"213 "},{"v":6,"d":"06 "},{"v":21,"d":"021 "},"山梨県","甲州市","松里村","上平",null,"","",{"$f":"IF(K1362=\"\",\"\",COUNTIF($K$7:K1362,\"ﾘｽﾄ１\"))","v":""},"","","","","","","",{"$f":"IF(S1362=\"\",\"\",COUNTIF($S$7:S1362,\"該当２\"))","v":""},"","",{"$f":"IF(V1362=\"\",\"\",COUNTIF($V$7:V1362,\"該当３\"))","v":""}]
[1921306022,19,{"v":213,"d":"213 "},{"v":6,"d":"06 "},{"v":22,"d":"022 "},"山梨県","甲州市","松里村","窪",null,"","",{"$f":"IF(K1363=\"\",\"\",COUNTIF($K$7:K1363,\"ﾘｽﾄ１\"))","v":""},"","","","","","","",{"$f":"IF(S1363=\"\",\"\",COUNTIF($S$7:S1363,\"該当２\"))","v":""},"","",{"$f":"IF(V1363=\"\",\"\",COUNTIF($V$7:V1363,\"該当３\"))","v":""}]
[1921306023,19,{"v":213,"d":"213 "},{"v":6,"d":"06 "},{"v":23,"d":"023 "},"山梨県","甲州市","松里村","相模",null,"","",{"$f":"IF(K1364=\"\",\"\",COUNTIF($K$7:K1364,\"ﾘｽﾄ１\"))","v":""},"","","","","","","",{"$f":"IF(S1364=\"\",\"\",COUNTIF($S$7:S1364,\"該当２\"))","v":""},"","",{"$f":"IF(V1364=\"\",\"\",COUNTIF($V$7:V1364,\"該当３\"))","v":""}]
[1921307000,19,{"v":213,"d":"213 "},{"v":7,"d":"07 "},{"v":0,"d":"000 "},"山梨県","甲州市","勝沼町",null,null,"","",{"$f":"IF(K1365=\"\",\"\",COUNTIF($K$7:K1365,\"ﾘｽﾄ１\"))","v":""},"","","","","","","",{"$f":"IF(S1365=\"\",\"\",COUNTIF($S$7:S1365,\"該当２\"))","v":""},"","",{"$f":"IF(V1365=\"\",\"\",COUNTIF($V$7:V1365,\"該当３\"))","v":""}]
[1921307001,19,{"v":213,"d":"213 "},{"v":7,"d":"07 "},{"v":1,"d":"001 "},"山梨県","甲州市","勝沼町","勝沼第一区",null,"","",{"$f":"IF(K1366=\"\",\"\",COUNTIF($K$7:K1366,\"ﾘｽﾄ１\"))","v":""},"","","","","","","",{"$f":"IF(S1366=\"\",\"\",COUNTIF($S$7:S1366,\"該当２\"))","v":""},"","",{"$f":"IF(V1366=\"\",\"\",COUNTIF($V$7:V1366,\"該当３\"))","v":""}]
[1921307002,19,{"v":213,"d":"213 "},{"v":7,"d":"07 "},{"v":2,"d":"002 "},"山梨県","甲州市","勝沼町","勝沼第二区",null,"","",{"$f":"IF(K1367=\"\",\"\",COUNTIF($K$7:K1367,\"ﾘｽﾄ１\"))","v":""},"","","","","","","",{"$f":"IF(S1367=\"\",\"\",COUNTIF($S$7:S1367,\"該当２\"))","v":""},"","",{"$f":"IF(V1367=\"\",\"\",COUNTIF($V$7:V1367,\"該当３\"))","v":""}]
[1921307003,19,{"v":213,"d":"213 "},{"v":7,"d":"07 "},{"v":3,"d":"003 "},"山梨県","甲州市","勝沼町","勝沼第三区",null,"","",{"$f":"IF(K1368=\"\",\"\",COUNTIF($K$7:K1368,\"ﾘｽﾄ１\"))","v":""},"","","","","","","",{"$f":"IF(S1368=\"\",\"\",COUNTIF($S$7:S1368,\"該当２\"))","v":""},"","",{"$f":"IF(V1368=\"\",\"\",COUNTIF($V$7:V1368,\"該当３\"))","v":""}]
[1921307004,19,{"v":213,"d":"213 "},{"v":7,"d":"07 "},{"v":4,"d":"004 "},"山梨県","甲州市","勝沼町","勝沼第四区",null,"","",{"$f":"IF(K1369=\"\",\"\",COUNTIF($K$7:K1369,\"ﾘｽﾄ１\"))","v":""},"","","","","","","",{"$f":"IF(S1369=\"\",\"\",COUNTIF($S$7:S1369,\"該当２\"))","v":""},"","",{"$f":"IF(V1369=\"\",\"\",COUNTIF($V$7:V1369,\"該当３\"))","v":""}]
[1921307005,19,{"v":213,"d":"213 "},{"v":7,"d":"07 "},{"v":5,"d":"005 "},"山梨県","甲州市","勝沼町","勝沼第五区",null,"","",{"$f":"IF(K1370=\"\",\"\",COUNTIF($K$7:K1370,\"ﾘｽﾄ１\"))","v":""},"","","","","","","",{"$f":"IF(S1370=\"\",\"\",COUNTIF($S$7:S1370,\"該当２\"))","v":""},"","",{"$f":"IF(V1370=\"\",\"\",COUNTIF($V$7:V1370,\"該当３\"))","v":""}]
[1921307006,19,{"v":213,"d":"213 "},{"v":7,"d":"07 "},{"v":6,"d":"006 "},"山梨県","甲州市","勝沼町","勝沼第六区",null,"","",{"$f":"IF(K1371=\"\",\"\",COUNTIF($K$7:K1371,\"ﾘｽﾄ１\"))","v":""},"","","","","","","",{"$f":"IF(S1371=\"\",\"\",COUNTIF($S$7:S1371,\"該当２\"))","v":""},"","",{"$f":"IF(V1371=\"\",\"\",COUNTIF($V$7:V1371,\"該当３\"))","v":""}]
[1921307007,19,{"v":213,"d":"213 "},{"v":7,"d":"07 "},{"v":7,"d":"007 "},"山梨県","甲州市","勝沼町","勝沼第七区",null,"","",{"$f":"IF(K1372=\"\",\"\",COUNTIF($K$7:K1372,\"ﾘｽﾄ１\"))","v":""},"","","","","","","",{"$f":"IF(S1372=\"\",\"\",COUNTIF($S$7:S1372,\"該当２\"))","v":""},"","",{"$f":"IF(V1372=\"\",\"\",COUNTIF($V$7:V1372,\"該当３\"))","v":""}]
[1921307008,19,{"v":213,"d":"213 "},{"v":7,"d":"07 "},{"v":8,"d":"008 "},"山梨県","甲州市","勝沼町","勝沼第八区",null,"","",{"$f":"IF(K1373=\"\",\"\",COUNTIF($K$7:K1373,\"ﾘｽﾄ１\"))","v":""},"","","","","","","",{"$f":"IF(S1373=\"\",\"\",COUNTIF($S$7:S1373,\"該当２\"))","v":""},"","",{"$f":"IF(V1373=\"\",\"\",COUNTIF($V$7:V1373,\"該当３\"))","v":""}]
[1921307009,19,{"v":213,"d":"213 "},{"v":7,"d":"07 "},{"v":9,"d":"009 "},"山梨県","甲州市","勝沼町","勝沼第九区",null,"","",{"$f":"IF(K1374=\"\",\"\",COUNTIF($K$7:K1374,\"ﾘｽﾄ１\"))","v":""},"","","","","","","",{"$f":"IF(S1374=\"\",\"\",COUNTIF($S$7:S1374,\"該当２\"))","v":""},"","",{"$f":"IF(V1374=\"\",\"\",COUNTIF($V$7:V1374,\"該当３\"))","v":""}]
[1921307010,19,{"v":213,"d":"213 "},{"v":7,"d":"07 "},{"v":10,"d":"010 "},"山梨県","甲州市","勝沼町","勝沼第十区",null,"","",{"$f":"IF(K1375=\"\",\"\",COUNTIF($K$7:K1375,\"ﾘｽﾄ１\"))","v":""},"","","","","","","",{"$f":"IF(S1375=\"\",\"\",COUNTIF($S$7:S1375,\"該当２\"))","v":""},"","",{"$f":"IF(V1375=\"\",\"\",COUNTIF($V$7:V1375,\"該当３\"))","v":""}]
[1921307011,19,{"v":213,"d":"213 "},{"v":7,"d":"07 "},{"v":11,"d":"011 "},"山梨県","甲州市","勝沼町","勝沼第十一区",null,"","",{"$f":"IF(K1376=\"\",\"\",COUNTIF($K$7:K1376,\"ﾘｽﾄ１\"))","v":""},"","","","","","","",{"$f":"IF(S1376=\"\",\"\",COUNTIF($S$7:S1376,\"該当２\"))","v":""},"","",{"$f":"IF(V1376=\"\",\"\",COUNTIF($V$7:V1376,\"該当３\"))","v":""}]
[1921307012,19,{"v":213,"d":"213 "},{"v":7,"d":"07 "},{"v":12,"d":"012 "},"山梨県","甲州市","勝沼町","勝沼第十二区",null,"","",{"$f":"IF(K1377=\"\",\"\",COUNTIF($K$7:K1377,\"ﾘｽﾄ１\"))","v":""},"","","","","","","",{"$f":"IF(S1377=\"\",\"\",COUNTIF($S$7:S1377,\"該当２\"))","v":""},"","",{"$f":"IF(V1377=\"\",\"\",COUNTIF($V$7:V1377,\"該当３\"))","v":""}]
[1921307013,19,{"v":213,"d":"213 "},{"v":7,"d":"07 "},{"v":13,"d":"013 "},"山梨県","甲州市","勝沼町","勝沼第十三区",null,"","",{"$f":"IF(K1378=\"\",\"\",COUNTIF($K$7:K1378,\"ﾘｽﾄ１\"))","v":""},"","","","","","","",{"$f":"IF(S1378=\"\",\"\",COUNTIF($S$7:S1378,\"該当２\"))","v":""},"","",{"$f":"IF(V1378=\"\",\"\",COUNTIF($V$7:V1378,\"該当３\"))","v":""}]
[1921308000,19,{"v":213,"d":"213 "},{"v":8,"d":"08 "},{"v":0,"d":"000 "},"山梨県","甲州市","祝村",null,null,"","",{"$f":"IF(K1379=\"\",\"\",COUNTIF($K$7:K1379,\"ﾘｽﾄ１\"))","v":""},"","","","","","","",{"$f":"IF(S1379=\"\",\"\",COUNTIF($S$7:S1379,\"該当２\"))","v":""},"","",{"$f":"IF(V1379=\"\",\"\",COUNTIF($V$7:V1379,\"該当３\"))","v":""}]
[1921308001,19,{"v":213,"d":"213 "},{"v":8,"d":"08 "},{"v":1,"d":"001 "},"山梨県","甲州市","祝村","金山",null,"","",{"$f":"IF(K1380=\"\",\"\",COUNTIF($K$7:K1380,\"ﾘｽﾄ１\"))","v":""},"","","","","","","",{"$f":"IF(S1380=\"\",\"\",COUNTIF($S$7:S1380,\"該当２\"))","v":""},"","",{"$f":"IF(V1380=\"\",\"\",COUNTIF($V$7:V1380,\"該当３\"))","v":""}]
[1921308002,19,{"v":213,"d":"213 "},{"v":8,"d":"08 "},{"v":2,"d":"002 "},"山梨県","甲州市","祝村","伸農",null,"","",{"$f":"IF(K1381=\"\",\"\",COUNTIF($K$7:K1381,\"ﾘｽﾄ１\"))","v":""},"","","","","","","",{"$f":"IF(S1381=\"\",\"\",COUNTIF($S$7:S1381,\"該当２\"))","v":""},"","",{"$f":"IF(V1381=\"\",\"\",COUNTIF($V$7:V1381,\"該当３\"))","v":""}]
[1921308003,19,{"v":213,"d":"213 "},{"v":8,"d":"08 "},{"v":3,"d":"003 "},"山梨県","甲州市","祝村","中瀬",null,"","",{"$f":"IF(K1382=\"\",\"\",COUNTIF($K$7:K1382,\"ﾘｽﾄ１\"))","v":""},"","","","","","","",{"$f":"IF(S1382=\"\",\"\",COUNTIF($S$7:S1382,\"該当２\"))","v":""},"","",{"$f":"IF(V1382=\"\",\"\",COUNTIF($V$7:V1382,\"該当３\"))","v":""}]
[1921308004,19,{"v":213,"d":"213 "},{"v":8,"d":"08 "},{"v":4,"d":"004 "},"山梨県","甲州市","祝村","田中下",null,"","",{"$f":"IF(K1383=\"\",\"\",COUNTIF($K$7:K1383,\"ﾘｽﾄ１\"))","v":""},"","","","","","","",{"$f":"IF(S1383=\"\",\"\",COUNTIF($S$7:S1383,\"該当２\"))","v":""},"","",{"$f":"IF(V1383=\"\",\"\",COUNTIF($V$7:V1383,\"該当３\"))","v":""}]
[1921308005,19,{"v":213,"d":"213 "},{"v":8,"d":"08 "},{"v":5,"d":"005 "},"山梨県","甲州市","祝村","田中上",null,"","",{"$f":"IF(K1384=\"\",\"\",COUNTIF($K$7:K1384,\"ﾘｽﾄ１\"))","v":""},"","","","","","","",{"$f":"IF(S1384=\"\",\"\",COUNTIF($S$7:S1384,\"該当２\"))","v":""},"","",{"$f":"IF(V1384=\"\",\"\",COUNTIF($V$7:V1384,\"該当３\"))","v":""}]
[1921308006,19,{"v":213,"d":"213 "},{"v":8,"d":"08 "},{"v":6,"d":"006 "},"山梨県","甲州市","祝村","北村",null,"","",{"$f":"IF(K1385=\"\",\"\",COUNTIF($K$7:K1385,\"ﾘｽﾄ１\"))","v":""},"","","","","","","",{"$f":"IF(S1385=\"\",\"\",COUNTIF($S$7:S1385,\"該当２\"))","v":""},"","",{"$f":"IF(V1385=\"\",\"\",COUNTIF($V$7:V1385,\"該当３\"))","v":""}]
[1921308007,19,{"v":213,"d":"213 "},{"v":8,"d":"08 "},{"v":7,"d":"007 "},"山梨県","甲州市","祝村","上",null,"","",{"$f":"IF(K1386=\"\",\"\",COUNTIF($K$7:K1386,\"ﾘｽﾄ１\"))","v":""},"","","","","","","",{"$f":"IF(S1386=\"\",\"\",COUNTIF($S$7:S1386,\"該当２\"))","v":""},"","",{"$f":"IF(V1386=\"\",\"\",COUNTIF($V$7:V1386,\"該当３\"))","v":""}]
[1921308008,19,{"v":213,"d":"213 "},{"v":8,"d":"08 "},{"v":8,"d":"008 "},"山梨県","甲州市","祝村","竹原上",null,"","",{"$f":"IF(K1387=\"\",\"\",COUNTIF($K$7:K1387,\"ﾘｽﾄ１\"))","v":""},"","","","","","","",{"$f":"IF(S1387=\"\",\"\",COUNTIF($S$7:S1387,\"該当２\"))","v":""},"","",{"$f":"IF(V1387=\"\",\"\",COUNTIF($V$7:V1387,\"該当３\"))","v":""}]
[1921308009,19,{"v":213,"d":"213 "},{"v":8,"d":"08 "},{"v":9,"d":"009 "},"山梨県","甲州市","祝村","竹原下",null,"","",{"$f":"IF(K1388=\"\",\"\",COUNTIF($K$7:K1388,\"ﾘｽﾄ１\"))","v":""},"","","","","","","",{"$f":"IF(S1388=\"\",\"\",COUNTIF($S$7:S1388,\"該当２\"))","v":""},"","",{"$f":"IF(V1388=\"\",\"\",COUNTIF($V$7:V1388,\"該当３\"))","v":""}]
[1921308010,19,{"v":213,"d":"213 "},{"v":8,"d":"08 "},{"v":10,"d":"010 "},"山梨県","甲州市","祝村","上手",null,"","",{"$f":"IF(K1389=\"\",\"\",COUNTIF($K$7:K1389,\"ﾘｽﾄ１\"))","v":""},"","","","","","","",{"$f":"IF(S1389=\"\",\"\",COUNTIF($S$7:S1389,\"該当２\"))","v":""},"","",{"$f":"IF(V1389=\"\",\"\",COUNTIF($V$7:V1389,\"該当３\"))","v":""}]
[1921308011,19,{"v":213,"d":"213 "},{"v":8,"d":"08 "},{"v":11,"d":"011 "},"山梨県","甲州市","祝村","新道下",null,"","",{"$f":"IF(K1390=\"\",\"\",COUNTIF($K$7:K1390,\"ﾘｽﾄ１\"))","v":""},"","","","","","","",{"$f":"IF(S1390=\"\",\"\",COUNTIF($S$7:S1390,\"該当２\"))","v":""},"","",{"$f":"IF(V1390=\"\",\"\",COUNTIF($V$7:V1390,\"該当３\"))","v":""}]
[1921308012,19,{"v":213,"d":"213 "},{"v":8,"d":"08 "},{"v":12,"d":"012 "},"山梨県","甲州市","祝村","新道上",null,"","",{"$f":"IF(K1391=\"\",\"\",COUNTIF($K$7:K1391,\"ﾘｽﾄ１\"))","v":""},"","","","","","","",{"$f":"IF(S1391=\"\",\"\",COUNTIF($S$7:S1391,\"該当２\"))","v":""},"","",{"$f":"IF(V1391=\"\",\"\",COUNTIF($V$7:V1391,\"該当３\"))","v":""}]
[1921308013,19,{"v":213,"d":"213 "},{"v":8,"d":"08 "},{"v":13,"d":"013 "},"山梨県","甲州市","祝村","はづれ",null,"","",{"$f":"IF(K1392=\"\",\"\",COUNTIF($K$7:K1392,\"ﾘｽﾄ１\"))","v":""},"","","","","","","",{"$f":"IF(S1392=\"\",\"\",COUNTIF($S$7:S1392,\"該当２\"))","v":""},"","",{"$f":"IF(V1392=\"\",\"\",COUNTIF($V$7:V1392,\"該当３\"))","v":""}]
[1921308014,19,{"v":213,"d":"213 "},{"v":8,"d":"08 "},{"v":14,"d":"014 "},"山梨県","甲州市","祝村","南北澤",null,"","",{"$f":"IF(K1393=\"\",\"\",COUNTIF($K$7:K1393,\"ﾘｽﾄ１\"))","v":""},"","","","","","","",{"$f":"IF(S1393=\"\",\"\",COUNTIF($S$7:S1393,\"該当２\"))","v":""},"","",{"$f":"IF(V1393=\"\",\"\",COUNTIF($V$7:V1393,\"該当３\"))","v":""}]
[1921308015,19,{"v":213,"d":"213 "},{"v":8,"d":"08 "},{"v":15,"d":"015 "},"山梨県","甲州市","祝村","大切",null,"","",{"$f":"IF(K1394=\"\",\"\",COUNTIF($K$7:K1394,\"ﾘｽﾄ１\"))","v":""},"","","","","","","",{"$f":"IF(S1394=\"\",\"\",COUNTIF($S$7:S1394,\"該当２\"))","v":""},"","",{"$f":"IF(V1394=\"\",\"\",COUNTIF($V$7:V1394,\"該当３\"))","v":""}]
[1921308016,19,{"v":213,"d":"213 "},{"v":8,"d":"08 "},{"v":16,"d":"016 "},"山梨県","甲州市","祝村","富澤",null,"","",{"$f":"IF(K1395=\"\",\"\",COUNTIF($K$7:K1395,\"ﾘｽﾄ１\"))","v":""},"","","","","","","",{"$f":"IF(S1395=\"\",\"\",COUNTIF($S$7:S1395,\"該当２\"))","v":""},"","",{"$f":"IF(V1395=\"\",\"\",COUNTIF($V$7:V1395,\"該当３\"))","v":""}]
[1921308017,19,{"v":213,"d":"213 "},{"v":8,"d":"08 "},{"v":17,"d":"017 "},"山梨県","甲州市","祝村","南藤井",null,"","",{"$f":"IF(K1396=\"\",\"\",COUNTIF($K$7:K1396,\"ﾘｽﾄ１\"))","v":""},"","","","","","","",{"$f":"IF(S1396=\"\",\"\",COUNTIF($S$7:S1396,\"該当２\"))","v":""},"","",{"$f":"IF(V1396=\"\",\"\",COUNTIF($V$7:V1396,\"該当３\"))","v":""}]
[1921308018,19,{"v":213,"d":"213 "},{"v":8,"d":"08 "},{"v":18,"d":"018 "},"山梨県","甲州市","祝村","北藤井",null,"","",{"$f":"IF(K1397=\"\",\"\",COUNTIF($K$7:K1397,\"ﾘｽﾄ１\"))","v":""},"","","","","","","",{"$f":"IF(S1397=\"\",\"\",COUNTIF($S$7:S1397,\"該当２\"))","v":""},"","",{"$f":"IF(V1397=\"\",\"\",COUNTIF($V$7:V1397,\"該当３\"))","v":""}]
[1921308019,19,{"v":213,"d":"213 "},{"v":8,"d":"08 "},{"v":19,"d":"019 "},"山梨県","甲州市","祝村","上野",null,"","",{"$f":"IF(K1398=\"\",\"\",COUNTIF($K$7:K1398,\"ﾘｽﾄ１\"))","v":""},"","","","","","","",{"$f":"IF(S1398=\"\",\"\",COUNTIF($S$7:S1398,\"該当２\"))","v":""},"","",{"$f":"IF(V1398=\"\",\"\",COUNTIF($V$7:V1398,\"該当３\"))","v":""}]
[1921309000,19,{"v":213,"d":"213 "},{"v":9,"d":"09 "},{"v":0,"d":"000 "},"山梨県","甲州市","東雲村",null,null,"","",{"$f":"IF(K1399=\"\",\"\",COUNTIF($K$7:K1399,\"ﾘｽﾄ１\"))","v":""},"","","","","","","",{"$f":"IF(S1399=\"\",\"\",COUNTIF($S$7:S1399,\"該当２\"))","v":""},"","",{"$f":"IF(V1399=\"\",\"\",COUNTIF($V$7:V1399,\"該当３\"))","v":""}]
[1921309001,19,{"v":213,"d":"213 "},{"v":9,"d":"09 "},{"v":1,"d":"001 "},"山梨県","甲州市","東雲村","横落",null,"","",{"$f":"IF(K1400=\"\",\"\",COUNTIF($K$7:K1400,\"ﾘｽﾄ１\"))","v":""},"","","","","","","",{"$f":"IF(S1400=\"\",\"\",COUNTIF($S$7:S1400,\"該当２\"))","v":""},"","",{"$f":"IF(V1400=\"\",\"\",COUNTIF($V$7:V1400,\"該当３\"))","v":""}]
[1921309002,19,{"v":213,"d":"213 "},{"v":9,"d":"09 "},{"v":2,"d":"002 "},"山梨県","甲州市","東雲村","中村",null,"","",{"$f":"IF(K1401=\"\",\"\",COUNTIF($K$7:K1401,\"ﾘｽﾄ１\"))","v":""},"","","","","","","",{"$f":"IF(S1401=\"\",\"\",COUNTIF($S$7:S1401,\"該当２\"))","v":""},"","",{"$f":"IF(V1401=\"\",\"\",COUNTIF($V$7:V1401,\"該当３\"))","v":""}]
[1921309003,19,{"v":213,"d":"213 "},{"v":9,"d":"09 "},{"v":3,"d":"003 "},"山梨県","甲州市","東雲村","原",null,"","",{"$f":"IF(K1402=\"\",\"\",COUNTIF($K$7:K1402,\"ﾘｽﾄ１\"))","v":""},"","","","","","","",{"$f":"IF(S1402=\"\",\"\",COUNTIF($S$7:S1402,\"該当２\"))","v":""},"","",{"$f":"IF(V1402=\"\",\"\",COUNTIF($V$7:V1402,\"該当３\"))","v":""}]
[1921309004,19,{"v":213,"d":"213 "},{"v":9,"d":"09 "},{"v":4,"d":"004 "},"山梨県","甲州市","東雲村","伏木",null,"","",{"$f":"IF(K1403=\"\",\"\",COUNTIF($K$7:K1403,\"ﾘｽﾄ１\"))","v":""},"","","","","","","",{"$f":"IF(S1403=\"\",\"\",COUNTIF($S$7:S1403,\"該当２\"))","v":""},"","",{"$f":"IF(V1403=\"\",\"\",COUNTIF($V$7:V1403,\"該当３\"))","v":""}]
[1921309005,19,{"v":213,"d":"213 "},{"v":9,"d":"09 "},{"v":5,"d":"005 "},"山梨県","甲州市","東雲村","坂下",null,"","",{"$f":"IF(K1404=\"\",\"\",COUNTIF($K$7:K1404,\"ﾘｽﾄ１\"))","v":""},"","","","","","","",{"$f":"IF(S1404=\"\",\"\",COUNTIF($S$7:S1404,\"該当２\"))","v":""},"","",{"$f":"IF(V1404=\"\",\"\",COUNTIF($V$7:V1404,\"該当３\"))","v":""}]
[1921309006,19,{"v":213,"d":"213 "},{"v":9,"d":"09 "},{"v":6,"d":"006 "},"山梨県","甲州市","東雲村","赤坂",null,"","",{"$f":"IF(K1405=\"\",\"\",COUNTIF($K$7:K1405,\"ﾘｽﾄ１\"))","v":""},"","","","","","","",{"$f":"IF(S1405=\"\",\"\",COUNTIF($S$7:S1405,\"該当２\"))","v":""},"","",{"$f":"IF(V1405=\"\",\"\",COUNTIF($V$7:V1405,\"該当３\"))","v":""}]
[1921309007,19,{"v":213,"d":"213 "},{"v":9,"d":"09 "},{"v":7,"d":"007 "},"山梨県","甲州市","東雲村","上野",null,"","",{"$f":"IF(K1406=\"\",\"\",COUNTIF($K$7:K1406,\"ﾘｽﾄ１\"))","v":""},"","","","","","","",{"$f":"IF(S1406=\"\",\"\",COUNTIF($S$7:S1406,\"該当２\"))","v":""},"","",{"$f":"IF(V1406=\"\",\"\",COUNTIF($V$7:V1406,\"該当３\"))","v":""}]
[1921309008,19,{"v":213,"d":"213 "},{"v":9,"d":"09 "},{"v":8,"d":"008 "},"山梨県","甲州市","東雲村","更生",null,"","",{"$f":"IF(K1407=\"\",\"\",COUNTIF($K$7:K1407,\"ﾘｽﾄ１\"))","v":""},"","","","","","","",{"$f":"IF(S1407=\"\",\"\",COUNTIF($S$7:S1407,\"該当２\"))","v":""},"","",{"$f":"IF(V1407=\"\",\"\",COUNTIF($V$7:V1407,\"該当３\"))","v":""}]
[1921309009,19,{"v":213,"d":"213 "},{"v":9,"d":"09 "},{"v":9,"d":"009 "},"山梨県","甲州市","東雲村","中組",null,"","",{"$f":"IF(K1408=\"\",\"\",COUNTIF($K$7:K1408,\"ﾘｽﾄ１\"))","v":""},"","","","","","","",{"$f":"IF(S1408=\"\",\"\",COUNTIF($S$7:S1408,\"該当２\"))","v":""},"","",{"$f":"IF(V1408=\"\",\"\",COUNTIF($V$7:V1408,\"該当３\"))","v":""}]
[1921309010,19,{"v":213,"d":"213 "},{"v":9,"d":"09 "},{"v":10,"d":"010 "},"山梨県","甲州市","東雲村","下組",null,"","",{"$f":"IF(K1409=\"\",\"\",COUNTIF($K$7:K1409,\"ﾘｽﾄ１\"))","v":""},"","","","","","","",{"$f":"IF(S1409=\"\",\"\",COUNTIF($S$7:S1409,\"該当２\"))","v":""},"","",{"$f":"IF(V1409=\"\",\"\",COUNTIF($V$7:V1409,\"該当３\"))","v":""}]
[1921309011,19,{"v":213,"d":"213 "},{"v":9,"d":"09 "},{"v":11,"d":"011 "},"山梨県","甲州市","東雲村","休息",null,"","",{"$f":"IF(K1410=\"\",\"\",COUNTIF($K$7:K1410,\"ﾘｽﾄ１\"))","v":""},"","","","","","","",{"$f":"IF(S1410=\"\",\"\",COUNTIF($S$7:S1410,\"該当２\"))","v":""},"","",{"$f":"IF(V1410=\"\",\"\",COUNTIF($V$7:V1410,\"該当３\"))","v":""}]
[1921309012,19,{"v":213,"d":"213 "},{"v":9,"d":"09 "},{"v":12,"d":"012 "},"山梨県","甲州市","東雲村","綿塚",null,"","",{"$f":"IF(K1411=\"\",\"\",COUNTIF($K$7:K1411,\"ﾘｽﾄ１\"))","v":""},"","","","","","","",{"$f":"IF(S1411=\"\",\"\",COUNTIF($S$7:S1411,\"該当２\"))","v":""},"","",{"$f":"IF(V1411=\"\",\"\",COUNTIF($V$7:V1411,\"該当３\"))","v":""}]
[1921310000,19,{"v":213,"d":"213 "},{"v":10,"d":"10 "},{"v":0,"d":"000 "},"山梨県","甲州市","菱山村",null,null,"","",{"$f":"IF(K1412=\"\",\"\",COUNTIF($K$7:K1412,\"ﾘｽﾄ１\"))","v":""},"","","","","","","",{"$f":"IF(S1412=\"\",\"\",COUNTIF($S$7:S1412,\"該当２\"))","v":""},"","",{"$f":"IF(V1412=\"\",\"\",COUNTIF($V$7:V1412,\"該当３\"))","v":""}]
[1921310001,19,{"v":213,"d":"213 "},{"v":10,"d":"10 "},{"v":1,"d":"001 "},"山梨県","甲州市","菱山村","菱山第一区",null,"","",{"$f":"IF(K1413=\"\",\"\",COUNTIF($K$7:K1413,\"ﾘｽﾄ１\"))","v":""},"","","","","","","",{"$f":"IF(S1413=\"\",\"\",COUNTIF($S$7:S1413,\"該当２\"))","v":""},"","",{"$f":"IF(V1413=\"\",\"\",COUNTIF($V$7:V1413,\"該当３\"))","v":""}]
[1921310002,19,{"v":213,"d":"213 "},{"v":10,"d":"10 "},{"v":2,"d":"002 "},"山梨県","甲州市","菱山村","菱山第二区",null,"","",{"$f":"IF(K1414=\"\",\"\",COUNTIF($K$7:K1414,\"ﾘｽﾄ１\"))","v":""},"","","","","","","",{"$f":"IF(S1414=\"\",\"\",COUNTIF($S$7:S1414,\"該当２\"))","v":""},"","",{"$f":"IF(V1414=\"\",\"\",COUNTIF($V$7:V1414,\"該当３\"))","v":""}]
[1921310003,19,{"v":213,"d":"213 "},{"v":10,"d":"10 "},{"v":3,"d":"003 "},"山梨県","甲州市","菱山村","菱山第三区",null,"","",{"$f":"IF(K1415=\"\",\"\",COUNTIF($K$7:K1415,\"ﾘｽﾄ１\"))","v":""},"","","","","","","",{"$f":"IF(S1415=\"\",\"\",COUNTIF($S$7:S1415,\"該当２\"))","v":""},"","",{"$f":"IF(V1415=\"\",\"\",COUNTIF($V$7:V1415,\"該当３\"))","v":""}]
[1921310004,19,{"v":213,"d":"213 "},{"v":10,"d":"10 "},{"v":4,"d":"004 "},"山梨県","甲州市","菱山村","菱山第四区",null,"","",{"$f":"IF(K1416=\"\",\"\",COUNTIF($K$7:K1416,\"ﾘｽﾄ１\"))","v":""},"","","","","","","",{"$f":"IF(S1416=\"\",\"\",COUNTIF($S$7:S1416,\"該当２\"))","v":""},"","",{"$f":"IF(V1416=\"\",\"\",COUNTIF($V$7:V1416,\"該当３\"))","v":""}]
[1921310005,19,{"v":213,"d":"213 "},{"v":10,"d":"10 "},{"v":5,"d":"005 "},"山梨県","甲州市","菱山村","菱山第五区",null,"","",{"$f":"IF(K1417=\"\",\"\",COUNTIF($K$7:K1417,\"ﾘｽﾄ１\"))","v":""},"","","","","","","",{"$f":"IF(S1417=\"\",\"\",COUNTIF($S$7:S1417,\"該当２\"))","v":""},"","",{"$f":"IF(V1417=\"\",\"\",COUNTIF($V$7:V1417,\"該当３\"))","v":""}]
[1921310006,19,{"v":213,"d":"213 "},{"v":10,"d":"10 "},{"v":6,"d":"006 "},"山梨県","甲州市","菱山村","菱山第六区",null,"","",{"$f":"IF(K1418=\"\",\"\",COUNTIF($K$7:K1418,\"ﾘｽﾄ１\"))","v":""},"","",{"$f":"IF(O1418=\"該当１\",G1418,\"\")","v":""},{"$f":"IF(O1418=\"該当１\",\"ﾘｽﾄ2\",\"\")","v":""},{"$f":"IF(Q1418=\"ﾘｽﾄ2\",H1418,\"\")","v":""},"",{"$f":"IF(S1418=\"該当２\",H1418,\"\")","v":""},{"$f":"IF(S1418=\"\",\"\",COUNTIF($S$7:S1418,\"該当２\"))","v":""},{"$f":"IF(AND($S$2=H1418,E1418>0,E1418<998),\"該当３\",\"\")","v":""},{"$f":"IF(V1418=\"該当３\",I1418,\"\")","v":""},{"$f":"IF(V1418=\"\",\"\",COUNTIF($V$7:V1418,\"該当３\"))","v":""}]
[1921310007,19,{"v":213,"d":"213 "},{"v":10,"d":"10 "},{"v":7,"d":"007 "},"山梨県","甲州市","菱山村","菱山第七区",null,{"$f":"IF(AND($C1419>0,$H1419=\"\"),\"ﾘｽﾄ１\",\"\")","v":""},{"$f":"IF(K1419=\"ﾘｽﾄ１\",G1419,\"\")","v":""},{"$f":"IF(K1419=\"\",\"\",COUNTIF($K$7:K1419,\"ﾘｽﾄ１\"))","v":""},{"$f":"IF(AND(D1419=0,E1419>0),\"同一区\",\"\")","v":""},{"$f":"IF(AND(EXACT($K$2,G1419),H1419>0),\"該当１\",\"\")","v":""},"","","",{"$f":"IF(AND(Q1419=\"ﾘｽﾄ2\",OR(I1419=0,AND(N1419=\"同一区\",E1419=1))),\"該当２\",\"\")","v":""},"",{"$f":"IF(S1419=\"\",\"\",COUNTIF($S$7:S1419,\"該当２\"))","v":""},"","",{"$f":"IF(V1419=\"\",\"\",COUNTIF($V$7:V1419,\"該当３\"))","v":""}]
[1921310008,19,{"v":213,"d":"213 "},{"v":10,"d":"10 "},{"v":8,"d":"008 "},"山梨県","甲州市","菱山村","中原第一区",null,"","",{"$f":"IF(K1420=\"\",\"\",COUNTIF($K$7:K1420,\"ﾘｽﾄ１\"))","v":""},"","","","","","","",{"$f":"IF(S1420=\"\",\"\",COUNTIF($S$7:S1420,\"該当２\"))","v":""},"","",{"$f":"IF(V1420=\"\",\"\",COUNTIF($V$7:V1420,\"該当３\"))","v":""}]
[1921310009,19,{"v":213,"d":"213 "},{"v":10,"d":"10 "},{"v":9,"d":"009 "},"山梨県","甲州市","菱山村","中原第二区",null,"","",{"$f":"IF(K1421=\"\",\"\",COUNTIF($K$7:K1421,\"ﾘｽﾄ１\"))","v":""},"","","","","","","",{"$f":"IF(S1421=\"\",\"\",COUNTIF($S$7:S1421,\"該当２\"))","v":""},"","",{"$f":"IF(V1421=\"\",\"\",COUNTIF($V$7:V1421,\"該当３\"))","v":""}]
[1921311000,19,{"v":213,"d":"213 "},{"v":11,"d":"11 "},{"v":0,"d":"000 "},"山梨県","甲州市","大和村",null,null,"","",{"$f":"IF(K1422=\"\",\"\",COUNTIF($K$7:K1422,\"ﾘｽﾄ１\"))","v":""},"","","","","","","",{"$f":"IF(S1422=\"\",\"\",COUNTIF($S$7:S1422,\"該当２\"))","v":""},"","",{"$f":"IF(V1422=\"\",\"\",COUNTIF($V$7:V1422,\"該当３\"))","v":""}]
[1921311001,19,{"v":213,"d":"213 "},{"v":11,"d":"11 "},{"v":1,"d":"001 "},"山梨県","甲州市","大和村","天目",null,"","",{"$f":"IF(K1423=\"\",\"\",COUNTIF($K$7:K1423,\"ﾘｽﾄ１\"))","v":""},"","","","","","","",{"$f":"IF(S1423=\"\",\"\",COUNTIF($S$7:S1423,\"該当２\"))","v":""},"","",{"$f":"IF(V1423=\"\",\"\",COUNTIF($V$7:V1423,\"該当３\"))","v":""}]
[1921311002,19,{"v":213,"d":"213 "},{"v":11,"d":"11 "},{"v":2,"d":"002 "},"山梨県","甲州市","大和村","田野",null,"","",{"$f":"IF(K1424=\"\",\"\",COUNTIF($K$7:K1424,\"ﾘｽﾄ１\"))","v":""},"","","","","","","",{"$f":"IF(S1424=\"\",\"\",COUNTIF($S$7:S1424,\"該当２\"))","v":""},"","",{"$f":"IF(V1424=\"\",\"\",COUNTIF($V$7:V1424,\"該当３\"))","v":""}]
[1921311003,19,{"v":213,"d":"213 "},{"v":11,"d":"11 "},{"v":3,"d":"003 "},"山梨県","甲州市","大和村","水野田",null,"","",{"$f":"IF(K1425=\"\",\"\",COUNTIF($K$7:K1425,\"ﾘｽﾄ１\"))","v":""},"","","","","","","",{"$f":"IF(S1425=\"\",\"\",COUNTIF($S$7:S1425,\"該当２\"))","v":""},"","",{"$f":"IF(V1425=\"\",\"\",COUNTIF($V$7:V1425,\"該当３\"))","v":""}]
[1921311004,19,{"v":213,"d":"213 "},{"v":11,"d":"11 "},{"v":4,"d":"004 "},"山梨県","甲州市","大和村","丸林",null,"","",{"$f":"IF(K1426=\"\",\"\",COUNTIF($K$7:K1426,\"ﾘｽﾄ１\"))","v":""},"","","","","","","",{"$f":"IF(S1426=\"\",\"\",COUNTIF($S$7:S1426,\"該当２\"))","v":""},"","",{"$f":"IF(V1426=\"\",\"\",COUNTIF($V$7:V1426,\"該当３\"))","v":""}]
[1921311005,19,{"v":213,"d":"213 "},{"v":11,"d":"11 "},{"v":5,"d":"005 "},"山梨県","甲州市","大和村","古部",null,"","",{"$f":"IF(K1427=\"\",\"\",COUNTIF($K$7:K1427,\"ﾘｽﾄ１\"))","v":""},"","","","","","","",{"$f":"IF(S1427=\"\",\"\",COUNTIF($S$7:S1427,\"該当２\"))","v":""},"","",{"$f":"IF(V1427=\"\",\"\",COUNTIF($V$7:V1427,\"該当３\"))","v":""}]
[1921311006,19,{"v":213,"d":"213 "},{"v":11,"d":"11 "},{"v":6,"d":"006 "},"山梨県","甲州市","大和村","宮本",null,"","",{"$f":"IF(K1428=\"\",\"\",COUNTIF($K$7:K1428,\"ﾘｽﾄ１\"))","v":""},"","","","","","","",{"$f":"IF(S1428=\"\",\"\",COUNTIF($S$7:S1428,\"該当２\"))","v":""},"","",{"$f":"IF(V1428=\"\",\"\",COUNTIF($V$7:V1428,\"該当３\"))","v":""}]
[1921311007,19,{"v":213,"d":"213 "},{"v":11,"d":"11 "},{"v":7,"d":"007 "},"山梨県","甲州市","大和村","日影",null,"","",{"$f":"IF(K1429=\"\",\"\",COUNTIF($K$7:K1429,\"ﾘｽﾄ１\"))","v":""},"","","","","","","",{"$f":"IF(S1429=\"\",\"\",COUNTIF($S$7:S1429,\"該当２\"))","v":""},"","",{"$f":"IF(V1429=\"\",\"\",COUNTIF($V$7:V1429,\"該当３\"))","v":""}]
[1921311008,19,{"v":213,"d":"213 "},{"v":11,"d":"11 "},{"v":8,"d":"008 "},"山梨県","甲州市","大和村","鶴瀬",null,"","",{"$f":"IF(K1430=\"\",\"\",COUNTIF($K$7:K1430,\"ﾘｽﾄ１\"))","v":""},"","","","","","","",{"$f":"IF(S1430=\"\",\"\",COUNTIF($S$7:S1430,\"該当２\"))","v":""},"","",{"$f":"IF(V1430=\"\",\"\",COUNTIF($V$7:V1430,\"該当３\"))","v":""}]
[1921311009,19,{"v":213,"d":"213 "},{"v":11,"d":"11 "},{"v":9,"d":"009 "},"山梨県","甲州市","大和村","共和",null,"","",{"$f":"IF(K1431=\"\",\"\",COUNTIF($K$7:K1431,\"ﾘｽﾄ１\"))","v":""},"","","","","","","",{"$f":"IF(S1431=\"\",\"\",COUNTIF($S$7:S1431,\"該当２\"))","v":""},"","",{"$f":"IF(V1431=\"\",\"\",COUNTIF($V$7:V1431,\"該当３\"))","v":""}]
[1921400000,19,{"v":214,"d":"214 "},{"v":0,"d":"00 "},{"v":0,"d":"000 "},"山梨県","中央市",{"$nulls":3},"ﾘｽﾄ１","中央市",{"$f":"IF(K1432=\"\",\"\",COUNTIF($K$7:K1432,\"ﾘｽﾄ１\"))","v":13},"","","","","","","",{"$f":"IF(S1432=\"\",\"\",COUNTIF($S$7:S1432,\"該当２\"))","v":""},"","",{"$f":"IF(V1432=\"\",\"\",COUNTIF($V$7:V1432,\"該当３\"))","v":""}]
[1921401000,19,{"v":214,"d":"214 "},{"v":1,"d":"01 "},{"v":0,"d":"000 "},"山梨県","中央市","豊富村",null,null,"","",{"$f":"IF(K1433=\"\",\"\",COUNTIF($K$7:K1433,\"ﾘｽﾄ１\"))","v":""},"","","","","","","",{"$f":"IF(S1433=\"\",\"\",COUNTIF($S$7:S1433,\"該当２\"))","v":""},"","",{"$f":"IF(V1433=\"\",\"\",COUNTIF($V$7:V1433,\"該当３\"))","v":""}]
[1921401001,19,{"v":214,"d":"214 "},{"v":1,"d":"01 "},{"v":1,"d":"001 "},"山梨県","中央市","豊富村","木原",null,"","",{"$f":"IF(K1434=\"\",\"\",COUNTIF($K$7:K1434,\"ﾘｽﾄ１\"))","v":""},"","","","","","","",{"$f":"IF(S1434=\"\",\"\",COUNTIF($S$7:S1434,\"該当２\"))","v":""},"","",{"$f":"IF(V1434=\"\",\"\",COUNTIF($V$7:V1434,\"該当３\"))","v":""}]
[1921401002,19,{"v":214,"d":"214 "},{"v":1,"d":"01 "},{"v":2,"d":"002 "},"山梨県","中央市","豊富村","高部",null,"","",{"$f":"IF(K1435=\"\",\"\",COUNTIF($K$7:K1435,\"ﾘｽﾄ１\"))","v":""},"","","","","","","",{"$f":"IF(S1435=\"\",\"\",COUNTIF($S$7:S1435,\"該当２\"))","v":""},"","",{"$f":"IF(V1435=\"\",\"\",COUNTIF($V$7:V1435,\"該当３\"))","v":""}]
[1921401003,19,{"v":214,"d":"214 "},{"v":1,"d":"01 "},{"v":3,"d":"003 "},"山梨県","中央市","豊富村","浅利",null,"","",{"$f":"IF(K1436=\"\",\"\",COUNTIF($K$7:K1436,\"ﾘｽﾄ１\"))","v":""},"","","","","","","",{"$f":"IF(S1436=\"\",\"\",COUNTIF($S$7:S1436,\"該当２\"))","v":""},"","",{"$f":"IF(V1436=\"\",\"\",COUNTIF($V$7:V1436,\"該当３\"))","v":""}]
[1921401004,19,{"v":214,"d":"214 "},{"v":1,"d":"01 "},{"v":4,"d":"004 "},"山梨県","中央市","豊富村","大鳥居",null,"","",{"$f":"IF(K1437=\"\",\"\",COUNTIF($K$7:K1437,\"ﾘｽﾄ１\"))","v":""},"","","","","","","",{"$f":"IF(S1437=\"\",\"\",COUNTIF($S$7:S1437,\"該当２\"))","v":""},"","",{"$f":"IF(V1437=\"\",\"\",COUNTIF($V$7:V1437,\"該当３\"))","v":""}]
[1921401005,19,{"v":214,"d":"214 "},{"v":1,"d":"01 "},{"v":5,"d":"005 "},"山梨県","中央市","豊富村","関原",null,"","",{"$f":"IF(K1438=\"\",\"\",COUNTIF($K$7:K1438,\"ﾘｽﾄ１\"))","v":""},"","","","","","","",{"$f":"IF(S1438=\"\",\"\",COUNTIF($S$7:S1438,\"該当２\"))","v":""},"","",{"$f":"IF(V1438=\"\",\"\",COUNTIF($V$7:V1438,\"該当３\"))","v":""}]
[1921402000,19,{"v":214,"d":"214 "},{"v":2,"d":"02 "},{"v":0,"d":"000 "},"山梨県","中央市","稲積村",null,null,"","",{"$f":"IF(K1439=\"\",\"\",COUNTIF($K$7:K1439,\"ﾘｽﾄ１\"))","v":""},"","","","","","","",{"$f":"IF(S1439=\"\",\"\",COUNTIF($S$7:S1439,\"該当２\"))","v":""},"","",{"$f":"IF(V1439=\"\",\"\",COUNTIF($V$7:V1439,\"該当３\"))","v":""}]
[1921402001,19,{"v":214,"d":"214 "},{"v":2,"d":"02 "},{"v":1,"d":"001 "},"山梨県","中央市","稲積村","井之口",null,"","",{"$f":"IF(K1440=\"\",\"\",COUNTIF($K$7:K1440,\"ﾘｽﾄ１\"))","v":""},"","","","","","","",{"$f":"IF(S1440=\"\",\"\",COUNTIF($S$7:S1440,\"該当２\"))","v":""},"","",{"$f":"IF(V1440=\"\",\"\",COUNTIF($V$7:V1440,\"該当３\"))","v":""}]
[1921402002,19,{"v":214,"d":"214 "},{"v":2,"d":"02 "},{"v":2,"d":"002 "},"山梨県","中央市","稲積村","西新居",null,"","",{"$f":"IF(K1441=\"\",\"\",COUNTIF($K$7:K1441,\"ﾘｽﾄ１\"))","v":""},"","","","","","","",{"$f":"IF(S1441=\"\",\"\",COUNTIF($S$7:S1441,\"該当２\"))","v":""},"","",{"$f":"IF(V1441=\"\",\"\",COUNTIF($V$7:V1441,\"該当３\"))","v":""}]
[1921402003,19,{"v":214,"d":"214 "},{"v":2,"d":"02 "},{"v":3,"d":"003 "},"山梨県","中央市","稲積村","中楯",null,"","",{"$f":"IF(K1442=\"\",\"\",COUNTIF($K$7:K1442,\"ﾘｽﾄ１\"))","v":""},"","","","","","","",{"$f":"IF(S1442=\"\",\"\",COUNTIF($S$7:S1442,\"該当２\"))","v":""},"","",{"$f":"IF(V1442=\"\",\"\",COUNTIF($V$7:V1442,\"該当３\"))","v":""}]
[1921402004,19,{"v":214,"d":"214 "},{"v":2,"d":"02 "},{"v":4,"d":"004 "},"山梨県","中央市","稲積村","上成島",null,"","",{"$f":"IF(K1443=\"\",\"\",COUNTIF($K$7:K1443,\"ﾘｽﾄ１\"))","v":""},"","","","","","","",{"$f":"IF(S1443=\"\",\"\",COUNTIF($S$7:S1443,\"該当２\"))","v":""},"","",{"$f":"IF(V1443=\"\",\"\",COUNTIF($V$7:V1443,\"該当３\"))","v":""}]
[1921402005,19,{"v":214,"d":"214 "},{"v":2,"d":"02 "},{"v":5,"d":"005 "},"山梨県","中央市","稲積村","宿成島",null,"","",{"$f":"IF(K1444=\"\",\"\",COUNTIF($K$7:K1444,\"ﾘｽﾄ１\"))","v":""},"","","","","","","",{"$f":"IF(S1444=\"\",\"\",COUNTIF($S$7:S1444,\"該当２\"))","v":""},"","",{"$f":"IF(V1444=\"\",\"\",COUNTIF($V$7:V1444,\"該当３\"))","v":""}]
[1921402006,19,{"v":214,"d":"214 "},{"v":2,"d":"02 "},{"v":6,"d":"006 "},"山梨県","中央市","稲積村","下成島",null,"","",{"$f":"IF(K1445=\"\",\"\",COUNTIF($K$7:K1445,\"ﾘｽﾄ１\"))","v":""},"","","","","","","",{"$f":"IF(S1445=\"\",\"\",COUNTIF($S$7:S1445,\"該当２\"))","v":""},"","",{"$f":"IF(V1445=\"\",\"\",COUNTIF($V$7:V1445,\"該当３\"))","v":""}]
[1921402007,19,{"v":214,"d":"214 "},{"v":2,"d":"02 "},{"v":7,"d":"007 "},"山梨県","中央市","稲積村","高橋",null,"","",{"$f":"IF(K1446=\"\",\"\",COUNTIF($K$7:K1446,\"ﾘｽﾄ１\"))","v":""},"","","","","","","",{"$f":"IF(S1446=\"\",\"\",COUNTIF($S$7:S1446,\"該当２\"))","v":""},"","",{"$f":"IF(V1446=\"\",\"\",COUNTIF($V$7:V1446,\"該当３\"))","v":""}]
[1921402008,19,{"v":214,"d":"214 "},{"v":2,"d":"02 "},{"v":8,"d":"008 "},"山梨県","中央市","稲積村","極楽寺",null,"","",{"$f":"IF(K1447=\"\",\"\",COUNTIF($K$7:K1447,\"ﾘｽﾄ１\"))","v":""},"","","","","","","",{"$f":"IF(S1447=\"\",\"\",COUNTIF($S$7:S1447,\"該当２\"))","v":""},"","",{"$f":"IF(V1447=\"\",\"\",COUNTIF($V$7:V1447,\"該当３\"))","v":""}]
[1921402009,19,{"v":214,"d":"214 "},{"v":2,"d":"02 "},{"v":9,"d":"009 "},"山梨県","中央市","稲積村","乙黒",null,"","",{"$f":"IF(K1448=\"\",\"\",COUNTIF($K$7:K1448,\"ﾘｽﾄ１\"))","v":""},"","","","","","","",{"$f":"IF(S1448=\"\",\"\",COUNTIF($S$7:S1448,\"該当２\"))","v":""},"","",{"$f":"IF(V1448=\"\",\"\",COUNTIF($V$7:V1448,\"該当３\"))","v":""}]
[1921403000,19,{"v":214,"d":"214 "},{"v":3,"d":"03 "},{"v":0,"d":"000 "},"山梨県","中央市","三町村",null,null,"","",{"$f":"IF(K1449=\"\",\"\",COUNTIF($K$7:K1449,\"ﾘｽﾄ１\"))","v":""},"","","","","","","",{"$f":"IF(S1449=\"\",\"\",COUNTIF($S$7:S1449,\"該当２\"))","v":""},"","",{"$f":"IF(V1449=\"\",\"\",COUNTIF($V$7:V1449,\"該当３\"))","v":""}]
[1921403001,19,{"v":214,"d":"214 "},{"v":3,"d":"03 "},{"v":1,"d":"001 "},"山梨県","中央市","三町村","下河東",null,"","",{"$f":"IF(K1450=\"\",\"\",COUNTIF($K$7:K1450,\"ﾘｽﾄ１\"))","v":""},"","","","","","","",{"$f":"IF(S1450=\"\",\"\",COUNTIF($S$7:S1450,\"該当２\"))","v":""},"","",{"$f":"IF(V1450=\"\",\"\",COUNTIF($V$7:V1450,\"該当３\"))","v":""}]
[1921403002,19,{"v":214,"d":"214 "},{"v":3,"d":"03 "},{"v":2,"d":"002 "},"山梨県","中央市","三町村","一町畑",null,"","",{"$f":"IF(K1451=\"\",\"\",COUNTIF($K$7:K1451,\"ﾘｽﾄ１\"))","v":""},"","","","","","","",{"$f":"IF(S1451=\"\",\"\",COUNTIF($S$7:S1451,\"該当２\"))","v":""},"","",{"$f":"IF(V1451=\"\",\"\",COUNTIF($V$7:V1451,\"該当３\"))","v":""}]
[1921403003,19,{"v":214,"d":"214 "},{"v":3,"d":"03 "},{"v":3,"d":"003 "},"山梨県","中央市","三町村","上三條",null,"","",{"$f":"IF(K1452=\"\",\"\",COUNTIF($K$7:K1452,\"ﾘｽﾄ１\"))","v":""},"","","","","","","",{"$f":"IF(S1452=\"\",\"\",COUNTIF($S$7:S1452,\"該当２\"))","v":""},"","",{"$f":"IF(V1452=\"\",\"\",COUNTIF($V$7:V1452,\"該当３\"))","v":""}]
[1921403004,19,{"v":214,"d":"214 "},{"v":3,"d":"03 "},{"v":4,"d":"004 "},"山梨県","中央市","三町村","下三條",null,"","",{"$f":"IF(K1453=\"\",\"\",COUNTIF($K$7:K1453,\"ﾘｽﾄ１\"))","v":""},"","","","","","","",{"$f":"IF(S1453=\"\",\"\",COUNTIF($S$7:S1453,\"該当２\"))","v":""},"","",{"$f":"IF(V1453=\"\",\"\",COUNTIF($V$7:V1453,\"該当３\"))","v":""}]
[1921403005,19,{"v":214,"d":"214 "},{"v":3,"d":"03 "},{"v":5,"d":"005 "},"山梨県","中央市","三町村","町之田",null,"","",{"$f":"IF(K1454=\"\",\"\",COUNTIF($K$7:K1454,\"ﾘｽﾄ１\"))","v":""},"","","","","","","",{"$f":"IF(S1454=\"\",\"\",COUNTIF($S$7:S1454,\"該当２\"))","v":""},"","",{"$f":"IF(V1454=\"\",\"\",COUNTIF($V$7:V1454,\"該当３\"))","v":""}]
[1921404000,19,{"v":214,"d":"214 "},{"v":4,"d":"04 "},{"v":0,"d":"000 "},"山梨県","中央市","田富町",null,null,"","",{"$f":"IF(K1455=\"\",\"\",COUNTIF($K$7:K1455,\"ﾘｽﾄ１\"))","v":""},"","","","","","","",{"$f":"IF(S1455=\"\",\"\",COUNTIF($S$7:S1455,\"該当２\"))","v":""},"","",{"$f":"IF(V1455=\"\",\"\",COUNTIF($V$7:V1455,\"該当３\"))","v":""}]
[1921404001,19,{"v":214,"d":"214 "},{"v":4,"d":"04 "},{"v":1,"d":"001 "},"山梨県","中央市","田富町","鍛冶新居",null,"","",{"$f":"IF(K1456=\"\",\"\",COUNTIF($K$7:K1456,\"ﾘｽﾄ１\"))","v":""},"","","","","","","",{"$f":"IF(S1456=\"\",\"\",COUNTIF($S$7:S1456,\"該当２\"))","v":""},"","",{"$f":"IF(V1456=\"\",\"\",COUNTIF($V$7:V1456,\"該当３\"))","v":""}]
[1921404002,19,{"v":214,"d":"214 "},{"v":4,"d":"04 "},{"v":2,"d":"002 "},"山梨県","中央市","田富町","山之神",null,"","",{"$f":"IF(K1457=\"\",\"\",COUNTIF($K$7:K1457,\"ﾘｽﾄ１\"))","v":""},"","","","","","","",{"$f":"IF(S1457=\"\",\"\",COUNTIF($S$7:S1457,\"該当２\"))","v":""},"","",{"$f":"IF(V1457=\"\",\"\",COUNTIF($V$7:V1457,\"該当３\"))","v":""}]
[1921404003,19,{"v":214,"d":"214 "},{"v":4,"d":"04 "},{"v":3,"d":"003 "},"山梨県","中央市","田富町","布施",null,"","",{"$f":"IF(K1458=\"\",\"\",COUNTIF($K$7:K1458,\"ﾘｽﾄ１\"))","v":""},"","","","","","","",{"$f":"IF(S1458=\"\",\"\",COUNTIF($S$7:S1458,\"該当２\"))","v":""},"","",{"$f":"IF(V1458=\"\",\"\",COUNTIF($V$7:V1458,\"該当３\"))","v":""}]
[1921404004,19,{"v":214,"d":"214 "},{"v":4,"d":"04 "},{"v":4,"d":"004 "},"山梨県","中央市","田富町","臼井阿原",null,"","",{"$f":"IF(K1459=\"\",\"\",COUNTIF($K$7:K1459,\"ﾘｽﾄ１\"))","v":""},"","","","","","","",{"$f":"IF(S1459=\"\",\"\",COUNTIF($S$7:S1459,\"該当２\"))","v":""},"","",{"$f":"IF(V1459=\"\",\"\",COUNTIF($V$7:V1459,\"該当３\"))","v":""}]
[1921404005,19,{"v":214,"d":"214 "},{"v":4,"d":"04 "},{"v":5,"d":"005 "},"山梨県","中央市","田富町","西花輪",null,"","",{"$f":"IF(K1460=\"\",\"\",COUNTIF($K$7:K1460,\"ﾘｽﾄ１\"))","v":""},"","","","","","","",{"$f":"IF(S1460=\"\",\"\",COUNTIF($S$7:S1460,\"該当２\"))","v":""},"","",{"$f":"IF(V1460=\"\",\"\",COUNTIF($V$7:V1460,\"該当３\"))","v":""}]
[1921404006,19,{"v":214,"d":"214 "},{"v":4,"d":"04 "},{"v":6,"d":"006 "},"山梨県","中央市","田富町","東花輪",null,"","",{"$f":"IF(K1461=\"\",\"\",COUNTIF($K$7:K1461,\"ﾘｽﾄ１\"))","v":""},"","","","","","","",{"$f":"IF(S1461=\"\",\"\",COUNTIF($S$7:S1461,\"該当２\"))","v":""},"","",{"$f":"IF(V1461=\"\",\"\",COUNTIF($V$7:V1461,\"該当３\"))","v":""}]
[1921404007,19,{"v":214,"d":"214 "},{"v":4,"d":"04 "},{"v":7,"d":"007 "},"山梨県","中央市","田富町","大田和",null,"","",{"$f":"IF(K1462=\"\",\"\",COUNTIF($K$7:K1462,\"ﾘｽﾄ１\"))","v":""},"","","","","","","",{"$f":"IF(S1462=\"\",\"\",COUNTIF($S$7:S1462,\"該当２\"))","v":""},"","",{"$f":"IF(V1462=\"\",\"\",COUNTIF($V$7:V1462,\"該当３\"))","v":""}]
[1921404008,19,{"v":214,"d":"214 "},{"v":4,"d":"04 "},{"v":8,"d":"008 "},"山梨県","中央市","田富町","藤巻",null,"","",{"$f":"IF(K1463=\"\",\"\",COUNTIF($K$7:K1463,\"ﾘｽﾄ１\"))","v":""},"","","","","","","",{"$f":"IF(S1463=\"\",\"\",COUNTIF($S$7:S1463,\"該当２\"))","v":""},"","",{"$f":"IF(V1463=\"\",\"\",COUNTIF($V$7:V1463,\"該当３\"))","v":""}]
[1921404009,19,{"v":214,"d":"214 "},{"v":4,"d":"04 "},{"v":9,"d":"009 "},"山梨県","中央市","田富町","今福",null,"","",{"$f":"IF(K1464=\"\",\"\",COUNTIF($K$7:K1464,\"ﾘｽﾄ１\"))","v":""},"","","","","","","",{"$f":"IF(S1464=\"\",\"\",COUNTIF($S$7:S1464,\"該当２\"))","v":""},"","",{"$f":"IF(V1464=\"\",\"\",COUNTIF($V$7:V1464,\"該当３\"))","v":""}]
[1921404010,19,{"v":214,"d":"214 "},{"v":4,"d":"04 "},{"v":10,"d":"010 "},"山梨県","中央市","田富町","今福新田",null,"","",{"$f":"IF(K1465=\"\",\"\",COUNTIF($K$7:K1465,\"ﾘｽﾄ１\"))","v":""},"","","","","","","",{"$f":"IF(S1465=\"\",\"\",COUNTIF($S$7:S1465,\"該当２\"))","v":""},"","",{"$f":"IF(V1465=\"\",\"\",COUNTIF($V$7:V1465,\"該当３\"))","v":""}]
[1934600000,19,{"v":346,"d":"346 "},{"v":0,"d":"00 "},{"v":0,"d":"000 "},"山梨県","市川三郷町",{"$nulls":3},"ﾘｽﾄ１","市川三郷町",{"$f":"IF(K1466=\"\",\"\",COUNTIF($K$7:K1466,\"ﾘｽﾄ１\"))","v":14},"","","","","","","",{"$f":"IF(S1466=\"\",\"\",COUNTIF($S$7:S1466,\"該当２\"))","v":""},"","",{"$f":"IF(V1466=\"\",\"\",COUNTIF($V$7:V1466,\"該当３\"))","v":""}]
[1934601000,19,{"v":346,"d":"346 "},{"v":1,"d":"01 "},{"v":0,"d":"000 "},"山梨県","市川三郷町","上野村",null,null,"","",{"$f":"IF(K1467=\"\",\"\",COUNTIF($K$7:K1467,\"ﾘｽﾄ１\"))","v":""},"","","","","","","",{"$f":"IF(S1467=\"\",\"\",COUNTIF($S$7:S1467,\"該当２\"))","v":""},"","",{"$f":"IF(V1467=\"\",\"\",COUNTIF($V$7:V1467,\"該当３\"))","v":""}]
[1934601001,19,{"v":346,"d":"346 "},{"v":1,"d":"01 "},{"v":1,"d":"001 "},"山梨県","市川三郷町","上野村","上野本村",null,"","",{"$f":"IF(K1468=\"\",\"\",COUNTIF($K$7:K1468,\"ﾘｽﾄ１\"))","v":""},"","","","","","","",{"$f":"IF(S1468=\"\",\"\",COUNTIF($S$7:S1468,\"該当２\"))","v":""},"","",{"$f":"IF(V1468=\"\",\"\",COUNTIF($V$7:V1468,\"該当３\"))","v":""}]
[1934601002,19,{"v":346,"d":"346 "},{"v":1,"d":"01 "},{"v":2,"d":"002 "},"山梨県","市川三郷町","上野村","矢作",null,"","",{"$f":"IF(K1469=\"\",\"\",COUNTIF($K$7:K1469,\"ﾘｽﾄ１\"))","v":""},"","","","","","","",{"$f":"IF(S1469=\"\",\"\",COUNTIF($S$7:S1469,\"該当２\"))","v":""},"","",{"$f":"IF(V1469=\"\",\"\",COUNTIF($V$7:V1469,\"該当３\"))","v":""}]
[1934601003,19,{"v":346,"d":"346 "},{"v":1,"d":"01 "},{"v":3,"d":"003 "},"山梨県","市川三郷町","上野村","町屋",null,"","",{"$f":"IF(K1470=\"\",\"\",COUNTIF($K$7:K1470,\"ﾘｽﾄ１\"))","v":""},"","","","","","","",{"$f":"IF(S1470=\"\",\"\",COUNTIF($S$7:S1470,\"該当２\"))","v":""},"","",{"$f":"IF(V1470=\"\",\"\",COUNTIF($V$7:V1470,\"該当３\"))","v":""}]
[1934601004,19,{"v":346,"d":"346 "},{"v":1,"d":"01 "},{"v":4,"d":"004 "},"山梨県","市川三郷町","上野村","川浦",null,"","",{"$f":"IF(K1471=\"\",\"\",COUNTIF($K$7:K1471,\"ﾘｽﾄ１\"))","v":""},"","","","","","","",{"$f":"IF(S1471=\"\",\"\",COUNTIF($S$7:S1471,\"該当２\"))","v":""},"","",{"$f":"IF(V1471=\"\",\"\",COUNTIF($V$7:V1471,\"該当３\"))","v":""}]
[1934602000,19,{"v":346,"d":"346 "},{"v":2,"d":"02 "},{"v":0,"d":"000 "},"山梨県","市川三郷町","大塚村",null,null,"","",{"$f":"IF(K1472=\"\",\"\",COUNTIF($K$7:K1472,\"ﾘｽﾄ１\"))","v":""},"","","","","","","",{"$f":"IF(S1472=\"\",\"\",COUNTIF($S$7:S1472,\"該当２\"))","v":""},"","",{"$f":"IF(V1472=\"\",\"\",COUNTIF($V$7:V1472,\"該当３\"))","v":""}]
[1934602001,19,{"v":346,"d":"346 "},{"v":2,"d":"02 "},{"v":1,"d":"001 "},"山梨県","市川三郷町","大塚村","上野原",null,"","",{"$f":"IF(K1473=\"\",\"\",COUNTIF($K$7:K1473,\"ﾘｽﾄ１\"))","v":""},"","","","","","","",{"$f":"IF(S1473=\"\",\"\",COUNTIF($S$7:S1473,\"該当２\"))","v":""},"","",{"$f":"IF(V1473=\"\",\"\",COUNTIF($V$7:V1473,\"該当３\"))","v":""}]
[1934602002,19,{"v":346,"d":"346 "},{"v":2,"d":"02 "},{"v":2,"d":"002 "},"山梨県","市川三郷町","大塚村","北区",null,"","",{"$f":"IF(K1474=\"\",\"\",COUNTIF($K$7:K1474,\"ﾘｽﾄ１\"))","v":""},"","","","","","","",{"$f":"IF(S1474=\"\",\"\",COUNTIF($S$7:S1474,\"該当２\"))","v":""},"","",{"$f":"IF(V1474=\"\",\"\",COUNTIF($V$7:V1474,\"該当３\"))","v":""}]
[1934602003,19,{"v":346,"d":"346 "},{"v":2,"d":"02 "},{"v":3,"d":"003 "},"山梨県","市川三郷町","大塚村","南区",null,"","",{"$f":"IF(K1475=\"\",\"\",COUNTIF($K$7:K1475,\"ﾘｽﾄ１\"))","v":""},"","","","","","","",{"$f":"IF(S1475=\"\",\"\",COUNTIF($S$7:S1475,\"該当２\"))","v":""},"","",{"$f":"IF(V1475=\"\",\"\",COUNTIF($V$7:V1475,\"該当３\"))","v":""}]
[1934602004,19,{"v":346,"d":"346 "},{"v":2,"d":"02 "},{"v":4,"d":"004 "},"山梨県","市川三郷町","大塚村","道林",null,"","",{"$f":"IF(K1476=\"\",\"\",COUNTIF($K$7:K1476,\"ﾘｽﾄ１\"))","v":""},"","","","","","","",{"$f":"IF(S1476=\"\",\"\",COUNTIF($S$7:S1476,\"該当２\"))","v":""},"","",{"$f":"IF(V1476=\"\",\"\",COUNTIF($V$7:V1476,\"該当３\"))","v":""}]
[1934603000,19,{"v":346,"d":"346 "},{"v":3,"d":"03 "},{"v":0,"d":"000 "},"山梨県","市川三郷町","下九一色村２－１",null,null,"","",{"$f":"IF(K1477=\"\",\"\",COUNTIF($K$7:K1477,\"ﾘｽﾄ１\"))","v":""},"","","","","","","",{"$f":"IF(S1477=\"\",\"\",COUNTIF($S$7:S1477,\"該当２\"))","v":""},"","",{"$f":"IF(V1477=\"\",\"\",COUNTIF($V$7:V1477,\"該当３\"))","v":""}]
[1934603001,19,{"v":346,"d":"346 "},{"v":3,"d":"03 "},{"v":1,"d":"001 "},"山梨県","市川三郷町","下九一色村２－１","下芦川",null,"","",{"$f":"IF(K1478=\"\",\"\",COUNTIF($K$7:K1478,\"ﾘｽﾄ１\"))","v":""},"","","","","","","",{"$f":"IF(S1478=\"\",\"\",COUNTIF($S$7:S1478,\"該当２\"))","v":""},"","",{"$f":"IF(V1478=\"\",\"\",COUNTIF($V$7:V1478,\"該当３\"))","v":""}]
[1934603002,19,{"v":346,"d":"346 "},{"v":3,"d":"03 "},{"v":2,"d":"002 "},"山梨県","市川三郷町","下九一色村２－１","三帳",null,"","",{"$f":"IF(K1479=\"\",\"\",COUNTIF($K$7:K1479,\"ﾘｽﾄ１\"))","v":""},"","","","","","","",{"$f":"IF(S1479=\"\",\"\",COUNTIF($S$7:S1479,\"該当２\"))","v":""},"","",{"$f":"IF(V1479=\"\",\"\",COUNTIF($V$7:V1479,\"該当３\"))","v":""}]
[1934603003,19,{"v":346,"d":"346 "},{"v":3,"d":"03 "},{"v":3,"d":"003 "},"山梨県","市川三郷町","下九一色村２－１","古宿",null,"","",{"$f":"IF(K1480=\"\",\"\",COUNTIF($K$7:K1480,\"ﾘｽﾄ１\"))","v":""},"","","","","","","",{"$f":"IF(S1480=\"\",\"\",COUNTIF($S$7:S1480,\"該当２\"))","v":""},"","",{"$f":"IF(V1480=\"\",\"\",COUNTIF($V$7:V1480,\"該当３\"))","v":""}]
[1934603004,19,{"v":346,"d":"346 "},{"v":3,"d":"03 "},{"v":4,"d":"004 "},"山梨県","市川三郷町","下九一色村２－１","高萩",null,"","",{"$f":"IF(K1481=\"\",\"\",COUNTIF($K$7:K1481,\"ﾘｽﾄ１\"))","v":""},"","","","","","","",{"$f":"IF(S1481=\"\",\"\",COUNTIF($S$7:S1481,\"該当２\"))","v":""},"","",{"$f":"IF(V1481=\"\",\"\",COUNTIF($V$7:V1481,\"該当３\"))","v":""}]
[1934603005,19,{"v":346,"d":"346 "},{"v":3,"d":"03 "},{"v":5,"d":"005 "},"山梨県","市川三郷町","下九一色村２－１","垈",null,"","",{"$f":"IF(K1482=\"\",\"\",COUNTIF($K$7:K1482,\"ﾘｽﾄ１\"))","v":""},"","",{"$f":"IF(O1482=\"該当１\",G1482,\"\")","v":""},{"$f":"IF(O1482=\"該当１\",\"ﾘｽﾄ2\",\"\")","v":""},{"$f":"IF(Q1482=\"ﾘｽﾄ2\",H1482,\"\")","v":""},"",{"$f":"IF(S1482=\"該当２\",H1482,\"\")","v":""},{"$f":"IF(S1482=\"\",\"\",COUNTIF($S$7:S1482,\"該当２\"))","v":""},{"$f":"IF(AND($S$2=H1482,E1482>0,E1482<998),\"該当３\",\"\")","v":""},{"$f":"IF(V1482=\"該当３\",I1482,\"\")","v":""},{"$f":"IF(V1482=\"\",\"\",COUNTIF($V$7:V1482,\"該当３\"))","v":""}]
[1934603006,19,{"v":346,"d":"346 "},{"v":3,"d":"03 "},{"v":6,"d":"006 "},"山梨県","市川三郷町","下九一色村２－１","中山",null,{"$f":"IF(AND($C1483>0,$H1483=\"\"),\"ﾘｽﾄ１\",\"\")","v":""},{"$f":"IF(K1483=\"ﾘｽﾄ１\",G1483,\"\")","v":""},{"$f":"IF(K1483=\"\",\"\",COUNTIF($K$7:K1483,\"ﾘｽﾄ１\"))","v":""},{"$f":"IF(AND(D1483=0,E1483>0),\"同一区\",\"\")","v":""},{"$f":"IF(AND(EXACT($K$2,G1483),H1483>0),\"該当１\",\"\")","v":""},"","","",{"$f":"IF(AND(Q1483=\"ﾘｽﾄ2\",OR(I1483=0,AND(N1483=\"同一区\",E1483=1))),\"該当２\",\"\")","v":""},"",{"$f":"IF(S1483=\"\",\"\",COUNTIF($S$7:S1483,\"該当２\"))","v":""},"","",{"$f":"IF(V1483=\"\",\"\",COUNTIF($V$7:V1483,\"該当３\"))","v":""}]
[1934603007,19,{"v":346,"d":"346 "},{"v":3,"d":"03 "},{"v":7,"d":"007 "},"山梨県","市川三郷町","下九一色村２－１","畑熊",null,"","",{"$f":"IF(K1484=\"\",\"\",COUNTIF($K$7:K1484,\"ﾘｽﾄ１\"))","v":""},"","","","","","","",{"$f":"IF(S1484=\"\",\"\",COUNTIF($S$7:S1484,\"該当２\"))","v":""},"","",{"$f":"IF(V1484=\"\",\"\",COUNTIF($V$7:V1484,\"該当３\"))","v":""}]
[1934604000,19,{"v":346,"d":"346 "},{"v":4,"d":"04 "},{"v":0,"d":"000 "},"山梨県","市川三郷町","市川大門町",null,null,"","",{"$f":"IF(K1485=\"\",\"\",COUNTIF($K$7:K1485,\"ﾘｽﾄ１\"))","v":""},"","","","","","","",{"$f":"IF(S1485=\"\",\"\",COUNTIF($S$7:S1485,\"該当２\"))","v":""},"","",{"$f":"IF(V1485=\"\",\"\",COUNTIF($V$7:V1485,\"該当３\"))","v":""}]
[1934604001,19,{"v":346,"d":"346 "},{"v":4,"d":"04 "},{"v":1,"d":"001 "},"山梨県","市川三郷町","市川大門町","市川大門",null,"","",{"$f":"IF(K1486=\"\",\"\",COUNTIF($K$7:K1486,\"ﾘｽﾄ１\"))","v":""},"","","","","","","",{"$f":"IF(S1486=\"\",\"\",COUNTIF($S$7:S1486,\"該当２\"))","v":""},"","",{"$f":"IF(V1486=\"\",\"\",COUNTIF($V$7:V1486,\"該当３\"))","v":""}]
[1934605000,19,{"v":346,"d":"346 "},{"v":5,"d":"05 "},{"v":0,"d":"000 "},"山梨県","市川三郷町","高田村",null,null,"","",{"$f":"IF(K1487=\"\",\"\",COUNTIF($K$7:K1487,\"ﾘｽﾄ１\"))","v":""},"","","","","","","",{"$f":"IF(S1487=\"\",\"\",COUNTIF($S$7:S1487,\"該当２\"))","v":""},"","",{"$f":"IF(V1487=\"\",\"\",COUNTIF($V$7:V1487,\"該当３\"))","v":""}]
[1934605001,19,{"v":346,"d":"346 "},{"v":5,"d":"05 "},{"v":1,"d":"001 "},"山梨県","市川三郷町","高田村","印沢",null,"","",{"$f":"IF(K1488=\"\",\"\",COUNTIF($K$7:K1488,\"ﾘｽﾄ１\"))","v":""},"","","","","","","",{"$f":"IF(S1488=\"\",\"\",COUNTIF($S$7:S1488,\"該当２\"))","v":""},"","",{"$f":"IF(V1488=\"\",\"\",COUNTIF($V$7:V1488,\"該当３\"))","v":""}]
[1934605002,19,{"v":346,"d":"346 "},{"v":5,"d":"05 "},{"v":2,"d":"002 "},"山梨県","市川三郷町","高田村","上中町",null,"","",{"$f":"IF(K1489=\"\",\"\",COUNTIF($K$7:K1489,\"ﾘｽﾄ１\"))","v":""},"","","","","","","",{"$f":"IF(S1489=\"\",\"\",COUNTIF($S$7:S1489,\"該当２\"))","v":""},"","",{"$f":"IF(V1489=\"\",\"\",COUNTIF($V$7:V1489,\"該当３\"))","v":""}]
[1934605003,19,{"v":346,"d":"346 "},{"v":5,"d":"05 "},{"v":3,"d":"003 "},"山梨県","市川三郷町","高田村","南磧",null,"","",{"$f":"IF(K1490=\"\",\"\",COUNTIF($K$7:K1490,\"ﾘｽﾄ１\"))","v":""},"","","","","","","",{"$f":"IF(S1490=\"\",\"\",COUNTIF($S$7:S1490,\"該当２\"))","v":""},"","",{"$f":"IF(V1490=\"\",\"\",COUNTIF($V$7:V1490,\"該当３\"))","v":""}]
[1934605004,19,{"v":346,"d":"346 "},{"v":5,"d":"05 "},{"v":4,"d":"004 "},"山梨県","市川三郷町","高田村","宮本",null,"","",{"$f":"IF(K1491=\"\",\"\",COUNTIF($K$7:K1491,\"ﾘｽﾄ１\"))","v":""},"","","","","","","",{"$f":"IF(S1491=\"\",\"\",COUNTIF($S$7:S1491,\"該当２\"))","v":""},"","",{"$f":"IF(V1491=\"\",\"\",COUNTIF($V$7:V1491,\"該当３\"))","v":""}]
[1934606000,19,{"v":346,"d":"346 "},{"v":6,"d":"06 "},{"v":0,"d":"000 "},"山梨県","市川三郷町","山保村２－１",null,null,"","",{"$f":"IF(K1492=\"\",\"\",COUNTIF($K$7:K1492,\"ﾘｽﾄ１\"))","v":""},"","","","","","","",{"$f":"IF(S1492=\"\",\"\",COUNTIF($S$7:S1492,\"該当２\"))","v":""},"","",{"$f":"IF(V1492=\"\",\"\",COUNTIF($V$7:V1492,\"該当３\"))","v":""}]
[1934606001,19,{"v":346,"d":"346 "},{"v":6,"d":"06 "},{"v":1,"d":"001 "},"山梨県","市川三郷町","山保村２－１","帯那",null,"","",{"$f":"IF(K1493=\"\",\"\",COUNTIF($K$7:K1493,\"ﾘｽﾄ１\"))","v":""},"","","","","","","",{"$f":"IF(S1493=\"\",\"\",COUNTIF($S$7:S1493,\"該当２\"))","v":""},"","",{"$f":"IF(V1493=\"\",\"\",COUNTIF($V$7:V1493,\"該当３\"))","v":""}]
[1934606002,19,{"v":346,"d":"346 "},{"v":6,"d":"06 "},{"v":2,"d":"002 "},"山梨県","市川三郷町","山保村２－１","芦久保",null,"","",{"$f":"IF(K1494=\"\",\"\",COUNTIF($K$7:K1494,\"ﾘｽﾄ１\"))","v":""},"","","","","","","",{"$f":"IF(S1494=\"\",\"\",COUNTIF($S$7:S1494,\"該当２\"))","v":""},"","",{"$f":"IF(V1494=\"\",\"\",COUNTIF($V$7:V1494,\"該当３\"))","v":""}]
[1934606003,19,{"v":346,"d":"346 "},{"v":6,"d":"06 "},{"v":3,"d":"003 "},"山梨県","市川三郷町","山保村２－１","清水",null,"","",{"$f":"IF(K1495=\"\",\"\",COUNTIF($K$7:K1495,\"ﾘｽﾄ１\"))","v":""},"","","","","","","",{"$f":"IF(S1495=\"\",\"\",COUNTIF($S$7:S1495,\"該当２\"))","v":""},"","",{"$f":"IF(V1495=\"\",\"\",COUNTIF($V$7:V1495,\"該当３\"))","v":""}]
[1934606004,19,{"v":346,"d":"346 "},{"v":6,"d":"06 "},{"v":4,"d":"004 "},"山梨県","市川三郷町","山保村２－１","近萩",null,"","",{"$f":"IF(K1496=\"\",\"\",COUNTIF($K$7:K1496,\"ﾘｽﾄ１\"))","v":""},"","","","","","","",{"$f":"IF(S1496=\"\",\"\",COUNTIF($S$7:S1496,\"該当２\"))","v":""},"","",{"$f":"IF(V1496=\"\",\"\",COUNTIF($V$7:V1496,\"該当３\"))","v":""}]
[1934606005,19,{"v":346,"d":"346 "},{"v":6,"d":"06 "},{"v":5,"d":"005 "},"山梨県","市川三郷町","山保村２－１","藤田",null,"","",{"$f":"IF(K1497=\"\",\"\",COUNTIF($K$7:K1497,\"ﾘｽﾄ１\"))","v":""},"","","","","","","",{"$f":"IF(S1497=\"\",\"\",COUNTIF($S$7:S1497,\"該当２\"))","v":""},"","",{"$f":"IF(V1497=\"\",\"\",COUNTIF($V$7:V1497,\"該当３\"))","v":""}]
[1934606006,19,{"v":346,"d":"346 "},{"v":6,"d":"06 "},{"v":6,"d":"006 "},"山梨県","市川三郷町","山保村２－１","四尾連",null,"","",{"$f":"IF(K1498=\"\",\"\",COUNTIF($K$7:K1498,\"ﾘｽﾄ１\"))","v":""},"","","","","","","",{"$f":"IF(S1498=\"\",\"\",COUNTIF($S$7:S1498,\"該当２\"))","v":""},"","",{"$f":"IF(V1498=\"\",\"\",COUNTIF($V$7:V1498,\"該当３\"))","v":""}]
[1934606007,19,{"v":346,"d":"346 "},{"v":6,"d":"06 "},{"v":7,"d":"007 "},"山梨県","市川三郷町","山保村２－１","堀切",null,"","",{"$f":"IF(K1499=\"\",\"\",COUNTIF($K$7:K1499,\"ﾘｽﾄ１\"))","v":""},"","","","","","","",{"$f":"IF(S1499=\"\",\"\",COUNTIF($S$7:S1499,\"該当２\"))","v":""},"","",{"$f":"IF(V1499=\"\",\"\",COUNTIF($V$7:V1499,\"該当３\"))","v":""}]
[1934607000,19,{"v":346,"d":"346 "},{"v":7,"d":"07 "},{"v":0,"d":"000 "},"山梨県","市川三郷町","大同村２－１",null,null,"","",{"$f":"IF(K1500=\"\",\"\",COUNTIF($K$7:K1500,\"ﾘｽﾄ１\"))","v":""},"","","","","","","",{"$f":"IF(S1500=\"\",\"\",COUNTIF($S$7:S1500,\"該当２\"))","v":""},"","",{"$f":"IF(V1500=\"\",\"\",COUNTIF($V$7:V1500,\"該当３\"))","v":""}]
[1934607001,19,{"v":346,"d":"346 "},{"v":7,"d":"07 "},{"v":1,"d":"001 "},"山梨県","市川三郷町","大同村２－１","下大鳥居",null,"","",{"$f":"IF(K1501=\"\",\"\",COUNTIF($K$7:K1501,\"ﾘｽﾄ１\"))","v":""},"","","","","","","",{"$f":"IF(S1501=\"\",\"\",COUNTIF($S$7:S1501,\"該当２\"))","v":""},"","",{"$f":"IF(V1501=\"\",\"\",COUNTIF($V$7:V1501,\"該当３\"))","v":""}]
[1934607002,19,{"v":346,"d":"346 "},{"v":7,"d":"07 "},{"v":2,"d":"002 "},"山梨県","市川三郷町","大同村２－１","黒沢",null,"","",{"$f":"IF(K1502=\"\",\"\",COUNTIF($K$7:K1502,\"ﾘｽﾄ１\"))","v":""},"","","","","","","",{"$f":"IF(S1502=\"\",\"\",COUNTIF($S$7:S1502,\"該当２\"))","v":""},"","",{"$f":"IF(V1502=\"\",\"\",COUNTIF($V$7:V1502,\"該当３\"))","v":""}]
[1934607003,19,{"v":346,"d":"346 "},{"v":7,"d":"07 "},{"v":3,"d":"003 "},"山梨県","市川三郷町","大同村２－１","入組",null,"","",{"$f":"IF(K1503=\"\",\"\",COUNTIF($K$7:K1503,\"ﾘｽﾄ１\"))","v":""},"","","","","","","",{"$f":"IF(S1503=\"\",\"\",COUNTIF($S$7:S1503,\"該当２\"))","v":""},"","",{"$f":"IF(V1503=\"\",\"\",COUNTIF($V$7:V1503,\"該当３\"))","v":""}]
[1934607004,19,{"v":346,"d":"346 "},{"v":7,"d":"07 "},{"v":4,"d":"004 "},"山梨県","市川三郷町","大同村２－１","大木",null,"","",{"$f":"IF(K1504=\"\",\"\",COUNTIF($K$7:K1504,\"ﾘｽﾄ１\"))","v":""},"","","","","","","",{"$f":"IF(S1504=\"\",\"\",COUNTIF($S$7:S1504,\"該当２\"))","v":""},"","",{"$f":"IF(V1504=\"\",\"\",COUNTIF($V$7:V1504,\"該当３\"))","v":""}]
[1934607005,19,{"v":346,"d":"346 "},{"v":7,"d":"07 "},{"v":5,"d":"005 "},"山梨県","市川三郷町","大同村２－１","法師倉",null,"","",{"$f":"IF(K1505=\"\",\"\",COUNTIF($K$7:K1505,\"ﾘｽﾄ１\"))","v":""},"","","","","","","",{"$f":"IF(S1505=\"\",\"\",COUNTIF($S$7:S1505,\"該当２\"))","v":""},"","",{"$f":"IF(V1505=\"\",\"\",COUNTIF($V$7:V1505,\"該当３\"))","v":""}]
[1934607006,19,{"v":346,"d":"346 "},{"v":7,"d":"07 "},{"v":6,"d":"006 "},"山梨県","市川三郷町","大同村２－１","川鳥",null,"","",{"$f":"IF(K1506=\"\",\"\",COUNTIF($K$7:K1506,\"ﾘｽﾄ１\"))","v":""},"","","","","","","",{"$f":"IF(S1506=\"\",\"\",COUNTIF($S$7:S1506,\"該当２\"))","v":""},"","",{"$f":"IF(V1506=\"\",\"\",COUNTIF($V$7:V1506,\"該当３\"))","v":""}]
[1934607007,19,{"v":346,"d":"346 "},{"v":7,"d":"07 "},{"v":7,"d":"007 "},"山梨県","市川三郷町","大同村２－１","宮沢",null,"","",{"$f":"IF(K1507=\"\",\"\",COUNTIF($K$7:K1507,\"ﾘｽﾄ１\"))","v":""},"","","","","","","",{"$f":"IF(S1507=\"\",\"\",COUNTIF($S$7:S1507,\"該当２\"))","v":""},"","",{"$f":"IF(V1507=\"\",\"\",COUNTIF($V$7:V1507,\"該当３\"))","v":""}]
[1934607008,19,{"v":346,"d":"346 "},{"v":7,"d":"07 "},{"v":8,"d":"008 "},"山梨県","市川三郷町","大同村２－１","仲村",null,"","",{"$f":"IF(K1508=\"\",\"\",COUNTIF($K$7:K1508,\"ﾘｽﾄ１\"))","v":""},"","","","","","","",{"$f":"IF(S1508=\"\",\"\",COUNTIF($S$7:S1508,\"該当２\"))","v":""},"","",{"$f":"IF(V1508=\"\",\"\",COUNTIF($V$7:V1508,\"該当３\"))","v":""}]
[1934607009,19,{"v":346,"d":"346 "},{"v":7,"d":"07 "},{"v":9,"d":"009 "},"山梨県","市川三郷町","大同村２－１","上の岩",null,"","",{"$f":"IF(K1509=\"\",\"\",COUNTIF($K$7:K1509,\"ﾘｽﾄ１\"))","v":""},"","","","","","","",{"$f":"IF(S1509=\"\",\"\",COUNTIF($S$7:S1509,\"該当２\"))","v":""},"","",{"$f":"IF(V1509=\"\",\"\",COUNTIF($V$7:V1509,\"該当３\"))","v":""}]
[1934607010,19,{"v":346,"d":"346 "},{"v":7,"d":"07 "},{"v":10,"d":"010 "},"山梨県","市川三郷町","大同村２－１","別所",null,"","",{"$f":"IF(K1510=\"\",\"\",COUNTIF($K$7:K1510,\"ﾘｽﾄ１\"))","v":""},"","","","","","","",{"$f":"IF(S1510=\"\",\"\",COUNTIF($S$7:S1510,\"該当２\"))","v":""},"","",{"$f":"IF(V1510=\"\",\"\",COUNTIF($V$7:V1510,\"該当３\"))","v":""}]
[1934607011,19,{"v":346,"d":"346 "},{"v":7,"d":"07 "},{"v":11,"d":"011 "},"山梨県","市川三郷町","大同村２－１","沖村",null,"","",{"$f":"IF(K1511=\"\",\"\",COUNTIF($K$7:K1511,\"ﾘｽﾄ１\"))","v":""},"","","","","","","",{"$f":"IF(S1511=\"\",\"\",COUNTIF($S$7:S1511,\"該当２\"))","v":""},"","",{"$f":"IF(V1511=\"\",\"\",COUNTIF($V$7:V1511,\"該当３\"))","v":""}]
[1934608000,19,{"v":346,"d":"346 "},{"v":8,"d":"08 "},{"v":0,"d":"000 "},"山梨県","市川三郷町","落居村",null,null,"","",{"$f":"IF(K1512=\"\",\"\",COUNTIF($K$7:K1512,\"ﾘｽﾄ１\"))","v":""},"","","","","","","",{"$f":"IF(S1512=\"\",\"\",COUNTIF($S$7:S1512,\"該当２\"))","v":""},"","",{"$f":"IF(V1512=\"\",\"\",COUNTIF($V$7:V1512,\"該当３\"))","v":""}]
[1934608001,19,{"v":346,"d":"346 "},{"v":8,"d":"08 "},{"v":1,"d":"001 "},"山梨県","市川三郷町","落居村","中落居",null,"","",{"$f":"IF(K1513=\"\",\"\",COUNTIF($K$7:K1513,\"ﾘｽﾄ１\"))","v":""},"","","","","","","",{"$f":"IF(S1513=\"\",\"\",COUNTIF($S$7:S1513,\"該当２\"))","v":""},"","",{"$f":"IF(V1513=\"\",\"\",COUNTIF($V$7:V1513,\"該当３\"))","v":""}]
[1934608002,19,{"v":346,"d":"346 "},{"v":8,"d":"08 "},{"v":2,"d":"002 "},"山梨県","市川三郷町","落居村","三久保",null,"","",{"$f":"IF(K1514=\"\",\"\",COUNTIF($K$7:K1514,\"ﾘｽﾄ１\"))","v":""},"","","","","","","",{"$f":"IF(S1514=\"\",\"\",COUNTIF($S$7:S1514,\"該当２\"))","v":""},"","",{"$f":"IF(V1514=\"\",\"\",COUNTIF($V$7:V1514,\"該当３\"))","v":""}]
[1934608003,19,{"v":346,"d":"346 "},{"v":8,"d":"08 "},{"v":3,"d":"003 "},"山梨県","市川三郷町","落居村","綱倉",null,"","",{"$f":"IF(K1515=\"\",\"\",COUNTIF($K$7:K1515,\"ﾘｽﾄ１\"))","v":""},"","","","","","","",{"$f":"IF(S1515=\"\",\"\",COUNTIF($S$7:S1515,\"該当２\"))","v":""},"","",{"$f":"IF(V1515=\"\",\"\",COUNTIF($V$7:V1515,\"該当３\"))","v":""}]
[1934608004,19,{"v":346,"d":"346 "},{"v":8,"d":"08 "},{"v":4,"d":"004 "},"山梨県","市川三郷町","落居村","五八",null,"","",{"$f":"IF(K1516=\"\",\"\",COUNTIF($K$7:K1516,\"ﾘｽﾄ１\"))","v":""},"","","","","","","",{"$f":"IF(S1516=\"\",\"\",COUNTIF($S$7:S1516,\"該当２\"))","v":""},"","",{"$f":"IF(V1516=\"\",\"\",COUNTIF($V$7:V1516,\"該当３\"))","v":""}]
[1934608005,19,{"v":346,"d":"346 "},{"v":8,"d":"08 "},{"v":5,"d":"005 "},"山梨県","市川三郷町","落居村","岩下",null,"","",{"$f":"IF(K1517=\"\",\"\",COUNTIF($K$7:K1517,\"ﾘｽﾄ１\"))","v":""},"","","","","","","",{"$f":"IF(S1517=\"\",\"\",COUNTIF($S$7:S1517,\"該当２\"))","v":""},"","",{"$f":"IF(V1517=\"\",\"\",COUNTIF($V$7:V1517,\"該当３\"))","v":""}]
[1934608006,19,{"v":346,"d":"346 "},{"v":8,"d":"08 "},{"v":6,"d":"006 "},"山梨県","市川三郷町","落居村","寺所",null,"","",{"$f":"IF(K1518=\"\",\"\",COUNTIF($K$7:K1518,\"ﾘｽﾄ１\"))","v":""},"","","","","","","",{"$f":"IF(S1518=\"\",\"\",COUNTIF($S$7:S1518,\"該当２\"))","v":""},"","",{"$f":"IF(V1518=\"\",\"\",COUNTIF($V$7:V1518,\"該当３\"))","v":""}]
[1934609000,19,{"v":346,"d":"346 "},{"v":9,"d":"09 "},{"v":0,"d":"000 "},"山梨県","市川三郷町","岩間村",null,null,"","",{"$f":"IF(K1519=\"\",\"\",COUNTIF($K$7:K1519,\"ﾘｽﾄ１\"))","v":""},"","","","","","","",{"$f":"IF(S1519=\"\",\"\",COUNTIF($S$7:S1519,\"該当２\"))","v":""},"","",{"$f":"IF(V1519=\"\",\"\",COUNTIF($V$7:V1519,\"該当３\"))","v":""}]
[1934609001,19,{"v":346,"d":"346 "},{"v":9,"d":"09 "},{"v":1,"d":"001 "},"山梨県","市川三郷町","岩間村","細田",null,"","",{"$f":"IF(K1520=\"\",\"\",COUNTIF($K$7:K1520,\"ﾘｽﾄ１\"))","v":""},"","","","","","","",{"$f":"IF(S1520=\"\",\"\",COUNTIF($S$7:S1520,\"該当２\"))","v":""},"","",{"$f":"IF(V1520=\"\",\"\",COUNTIF($V$7:V1520,\"該当３\"))","v":""}]
[1934609002,19,{"v":346,"d":"346 "},{"v":9,"d":"09 "},{"v":2,"d":"002 "},"山梨県","市川三郷町","岩間村","岩間宿",null,"","",{"$f":"IF(K1521=\"\",\"\",COUNTIF($K$7:K1521,\"ﾘｽﾄ１\"))","v":""},"","","","","","","",{"$f":"IF(S1521=\"\",\"\",COUNTIF($S$7:S1521,\"該当２\"))","v":""},"","",{"$f":"IF(V1521=\"\",\"\",COUNTIF($V$7:V1521,\"該当３\"))","v":""}]
[1934609003,19,{"v":346,"d":"346 "},{"v":9,"d":"09 "},{"v":3,"d":"003 "},"山梨県","市川三郷町","岩間村","原",null,"","",{"$f":"IF(K1522=\"\",\"\",COUNTIF($K$7:K1522,\"ﾘｽﾄ１\"))","v":""},"","","","","","","",{"$f":"IF(S1522=\"\",\"\",COUNTIF($S$7:S1522,\"該当２\"))","v":""},"","",{"$f":"IF(V1522=\"\",\"\",COUNTIF($V$7:V1522,\"該当３\"))","v":""}]
[1934609004,19,{"v":346,"d":"346 "},{"v":9,"d":"09 "},{"v":4,"d":"004 "},"山梨県","市川三郷町","岩間村","上手方",null,"","",{"$f":"IF(K1523=\"\",\"\",COUNTIF($K$7:K1523,\"ﾘｽﾄ１\"))","v":""},"","","","","","","",{"$f":"IF(S1523=\"\",\"\",COUNTIF($S$7:S1523,\"該当２\"))","v":""},"","",{"$f":"IF(V1523=\"\",\"\",COUNTIF($V$7:V1523,\"該当３\"))","v":""}]
[1934610000,19,{"v":346,"d":"346 "},{"v":10,"d":"10 "},{"v":0,"d":"000 "},"山梨県","市川三郷町","楠甫村",null,null,"","",{"$f":"IF(K1524=\"\",\"\",COUNTIF($K$7:K1524,\"ﾘｽﾄ１\"))","v":""},"","","","","","","",{"$f":"IF(S1524=\"\",\"\",COUNTIF($S$7:S1524,\"該当２\"))","v":""},"","",{"$f":"IF(V1524=\"\",\"\",COUNTIF($V$7:V1524,\"該当３\"))","v":""}]
[1934610001,19,{"v":346,"d":"346 "},{"v":10,"d":"10 "},{"v":1,"d":"001 "},"山梨県","市川三郷町","楠甫村","楠甫",null,"","",{"$f":"IF(K1525=\"\",\"\",COUNTIF($K$7:K1525,\"ﾘｽﾄ１\"))","v":""},"","","","","","","",{"$f":"IF(S1525=\"\",\"\",COUNTIF($S$7:S1525,\"該当２\"))","v":""},"","",{"$f":"IF(V1525=\"\",\"\",COUNTIF($V$7:V1525,\"該当３\"))","v":""}]
[1934611000,19,{"v":346,"d":"346 "},{"v":11,"d":"11 "},{"v":0,"d":"000 "},"山梨県","市川三郷町","鴨狩津向村",null,null,"","",{"$f":"IF(K1526=\"\",\"\",COUNTIF($K$7:K1526,\"ﾘｽﾄ１\"))","v":""},"","","","","","","",{"$f":"IF(S1526=\"\",\"\",COUNTIF($S$7:S1526,\"該当２\"))","v":""},"","",{"$f":"IF(V1526=\"\",\"\",COUNTIF($V$7:V1526,\"該当３\"))","v":""}]
[1934611001,19,{"v":346,"d":"346 "},{"v":11,"d":"11 "},{"v":1,"d":"001 "},"山梨県","市川三郷町","鴨狩津向村","鴨狩津向",null,"","",{"$f":"IF(K1527=\"\",\"\",COUNTIF($K$7:K1527,\"ﾘｽﾄ１\"))","v":""},"","","","","","","",{"$f":"IF(S1527=\"\",\"\",COUNTIF($S$7:S1527,\"該当２\"))","v":""},"","",{"$f":"IF(V1527=\"\",\"\",COUNTIF($V$7:V1527,\"該当３\"))","v":""}]
[1934612000,19,{"v":346,"d":"346 "},{"v":12,"d":"12 "},{"v":0,"d":"000 "},"山梨県","市川三郷町","宮原村",null,null,"","",{"$f":"IF(K1528=\"\",\"\",COUNTIF($K$7:K1528,\"ﾘｽﾄ１\"))","v":""},"","","","","","","",{"$f":"IF(S1528=\"\",\"\",COUNTIF($S$7:S1528,\"該当２\"))","v":""},"","",{"$f":"IF(V1528=\"\",\"\",COUNTIF($V$7:V1528,\"該当３\"))","v":""}]
[1934612001,19,{"v":346,"d":"346 "},{"v":12,"d":"12 "},{"v":1,"d":"001 "},"山梨県","市川三郷町","宮原村","宮原",null,"","",{"$f":"IF(K1529=\"\",\"\",COUNTIF($K$7:K1529,\"ﾘｽﾄ１\"))","v":""},"","","","","","","",{"$f":"IF(S1529=\"\",\"\",COUNTIF($S$7:S1529,\"該当２\"))","v":""},"","",{"$f":"IF(V1529=\"\",\"\",COUNTIF($V$7:V1529,\"該当３\"))","v":""}]
[1934613000,19,{"v":346,"d":"346 "},{"v":13,"d":"13 "},{"v":0,"d":"000 "},"山梨県","市川三郷町","葛篭沢村",null,null,"","",{"$f":"IF(K1530=\"\",\"\",COUNTIF($K$7:K1530,\"ﾘｽﾄ１\"))","v":""},"","","","","","","",{"$f":"IF(S1530=\"\",\"\",COUNTIF($S$7:S1530,\"該当２\"))","v":""},"","",{"$f":"IF(V1530=\"\",\"\",COUNTIF($V$7:V1530,\"該当３\"))","v":""}]
[1934613001,19,{"v":346,"d":"346 "},{"v":13,"d":"13 "},{"v":1,"d":"001 "},"山梨県","市川三郷町","葛篭沢村","葛籠沢",null,"","",{"$f":"IF(K1531=\"\",\"\",COUNTIF($K$7:K1531,\"ﾘｽﾄ１\"))","v":""},"","","","","","","",{"$f":"IF(S1531=\"\",\"\",COUNTIF($S$7:S1531,\"該当２\"))","v":""},"","",{"$f":"IF(V1531=\"\",\"\",COUNTIF($V$7:V1531,\"該当３\"))","v":""}]
[1936400000,19,{"v":364,"d":"364 "},{"v":0,"d":"00 "},{"v":0,"d":"000 "},"山梨県","早川町",{"$nulls":3},"ﾘｽﾄ１","早川町",{"$f":"IF(K1532=\"\",\"\",COUNTIF($K$7:K1532,\"ﾘｽﾄ１\"))","v":15},"","","","","","","",{"$f":"IF(S1532=\"\",\"\",COUNTIF($S$7:S1532,\"該当２\"))","v":""},"","",{"$f":"IF(V1532=\"\",\"\",COUNTIF($V$7:V1532,\"該当３\"))","v":""}]
[1936401000,19,{"v":364,"d":"364 "},{"v":1,"d":"01 "},{"v":0,"d":"000 "},"山梨県","早川町","都川村",null,null,"","",{"$f":"IF(K1533=\"\",\"\",COUNTIF($K$7:K1533,\"ﾘｽﾄ１\"))","v":""},"","","","","","","",{"$f":"IF(S1533=\"\",\"\",COUNTIF($S$7:S1533,\"該当２\"))","v":""},"","",{"$f":"IF(V1533=\"\",\"\",COUNTIF($V$7:V1533,\"該当３\"))","v":""}]
[1936401001,19,{"v":364,"d":"364 "},{"v":1,"d":"01 "},{"v":1,"d":"001 "},"山梨県","早川町","都川村","京ケ島",null,"","",{"$f":"IF(K1534=\"\",\"\",COUNTIF($K$7:K1534,\"ﾘｽﾄ１\"))","v":""},"","","","","","","",{"$f":"IF(S1534=\"\",\"\",COUNTIF($S$7:S1534,\"該当２\"))","v":""},"","",{"$f":"IF(V1534=\"\",\"\",COUNTIF($V$7:V1534,\"該当３\"))","v":""}]
[1936401002,19,{"v":364,"d":"364 "},{"v":1,"d":"01 "},{"v":2,"d":"002 "},"山梨県","早川町","都川村","草塩",null,"","",{"$f":"IF(K1535=\"\",\"\",COUNTIF($K$7:K1535,\"ﾘｽﾄ１\"))","v":""},"","","","","","","",{"$f":"IF(S1535=\"\",\"\",COUNTIF($S$7:S1535,\"該当２\"))","v":""},"","",{"$f":"IF(V1535=\"\",\"\",COUNTIF($V$7:V1535,\"該当３\"))","v":""}]
[1936401003,19,{"v":364,"d":"364 "},{"v":1,"d":"01 "},{"v":3,"d":"003 "},"山梨県","早川町","都川村","保",null,"","",{"$f":"IF(K1536=\"\",\"\",COUNTIF($K$7:K1536,\"ﾘｽﾄ１\"))","v":""},"","","","","","","",{"$f":"IF(S1536=\"\",\"\",COUNTIF($S$7:S1536,\"該当２\"))","v":""},"","",{"$f":"IF(V1536=\"\",\"\",COUNTIF($V$7:V1536,\"該当３\"))","v":""}]
[1936401004,19,{"v":364,"d":"364 "},{"v":1,"d":"01 "},{"v":4,"d":"004 "},"山梨県","早川町","都川村","柳島",null,"","",{"$f":"IF(K1537=\"\",\"\",COUNTIF($K$7:K1537,\"ﾘｽﾄ１\"))","v":""},"","","","","","","",{"$f":"IF(S1537=\"\",\"\",COUNTIF($S$7:S1537,\"該当２\"))","v":""},"","",{"$f":"IF(V1537=\"\",\"\",COUNTIF($V$7:V1537,\"該当３\"))","v":""}]
[1936401005,19,{"v":364,"d":"364 "},{"v":1,"d":"01 "},{"v":5,"d":"005 "},"山梨県","早川町","都川村","西之宮",null,"","",{"$f":"IF(K1538=\"\",\"\",COUNTIF($K$7:K1538,\"ﾘｽﾄ１\"))","v":""},"","","","","","","",{"$f":"IF(S1538=\"\",\"\",COUNTIF($S$7:S1538,\"該当２\"))","v":""},"","",{"$f":"IF(V1538=\"\",\"\",COUNTIF($V$7:V1538,\"該当３\"))","v":""}]
[1936401006,19,{"v":364,"d":"364 "},{"v":1,"d":"01 "},{"v":6,"d":"006 "},"山梨県","早川町","都川村","黒桂",null,"","",{"$f":"IF(K1539=\"\",\"\",COUNTIF($K$7:K1539,\"ﾘｽﾄ１\"))","v":""},"","","","","","","",{"$f":"IF(S1539=\"\",\"\",COUNTIF($S$7:S1539,\"該当２\"))","v":""},"","",{"$f":"IF(V1539=\"\",\"\",COUNTIF($V$7:V1539,\"該当３\"))","v":""}]
[1936402000,19,{"v":364,"d":"364 "},{"v":2,"d":"02 "},{"v":0,"d":"000 "},"山梨県","早川町","西山村",null,null,"","",{"$f":"IF(K1540=\"\",\"\",COUNTIF($K$7:K1540,\"ﾘｽﾄ１\"))","v":""},"","","","","","","",{"$f":"IF(S1540=\"\",\"\",COUNTIF($S$7:S1540,\"該当２\"))","v":""},"","",{"$f":"IF(V1540=\"\",\"\",COUNTIF($V$7:V1540,\"該当３\"))","v":""}]
[1936402001,19,{"v":364,"d":"364 "},{"v":2,"d":"02 "},{"v":1,"d":"001 "},"山梨県","早川町","西山村","下湯島",null,"","",{"$f":"IF(K1541=\"\",\"\",COUNTIF($K$7:K1541,\"ﾘｽﾄ１\"))","v":""},"","","","","","","",{"$f":"IF(S1541=\"\",\"\",COUNTIF($S$7:S1541,\"該当２\"))","v":""},"","",{"$f":"IF(V1541=\"\",\"\",COUNTIF($V$7:V1541,\"該当３\"))","v":""}]
[1936402002,19,{"v":364,"d":"364 "},{"v":2,"d":"02 "},{"v":2,"d":"002 "},"山梨県","早川町","西山村","上湯島",null,"","",{"$f":"IF(K1542=\"\",\"\",COUNTIF($K$7:K1542,\"ﾘｽﾄ１\"))","v":""},"","","","","","","",{"$f":"IF(S1542=\"\",\"\",COUNTIF($S$7:S1542,\"該当２\"))","v":""},"","",{"$f":"IF(V1542=\"\",\"\",COUNTIF($V$7:V1542,\"該当３\"))","v":""}]
[1936402003,19,{"v":364,"d":"364 "},{"v":2,"d":"02 "},{"v":3,"d":"003 "},"山梨県","早川町","西山村","奈良田",null,"","",{"$f":"IF(K1543=\"\",\"\",COUNTIF($K$7:K1543,\"ﾘｽﾄ１\"))","v":""},"","","","","","","",{"$f":"IF(S1543=\"\",\"\",COUNTIF($S$7:S1543,\"該当２\"))","v":""},"","",{"$f":"IF(V1543=\"\",\"\",COUNTIF($V$7:V1543,\"該当３\"))","v":""}]
[1936403000,19,{"v":364,"d":"364 "},{"v":3,"d":"03 "},{"v":0,"d":"000 "},"山梨県","早川町","三里村",null,null,"","",{"$f":"IF(K1544=\"\",\"\",COUNTIF($K$7:K1544,\"ﾘｽﾄ１\"))","v":""},"","","","","","","",{"$f":"IF(S1544=\"\",\"\",COUNTIF($S$7:S1544,\"該当２\"))","v":""},"","",{"$f":"IF(V1544=\"\",\"\",COUNTIF($V$7:V1544,\"該当３\"))","v":""}]
[1936403001,19,{"v":364,"d":"364 "},{"v":3,"d":"03 "},{"v":1,"d":"001 "},"山梨県","早川町","三里村","早川",null,"","",{"$f":"IF(K1545=\"\",\"\",COUNTIF($K$7:K1545,\"ﾘｽﾄ１\"))","v":""},"","","","","","","",{"$f":"IF(S1545=\"\",\"\",COUNTIF($S$7:S1545,\"該当２\"))","v":""},"","",{"$f":"IF(V1545=\"\",\"\",COUNTIF($V$7:V1545,\"該当３\"))","v":""}]
[1936403002,19,{"v":364,"d":"364 "},{"v":3,"d":"03 "},{"v":2,"d":"002 "},"山梨県","早川町","三里村","大原野",null,"","",{"$f":"IF(K1546=\"\",\"\",COUNTIF($K$7:K1546,\"ﾘｽﾄ１\"))","v":""},"","",{"$f":"IF(O1546=\"該当１\",G1546,\"\")","v":""},{"$f":"IF(O1546=\"該当１\",\"ﾘｽﾄ2\",\"\")","v":""},{"$f":"IF(Q1546=\"ﾘｽﾄ2\",H1546,\"\")","v":""},"",{"$f":"IF(S1546=\"該当２\",H1546,\"\")","v":""},{"$f":"IF(S1546=\"\",\"\",COUNTIF($S$7:S1546,\"該当２\"))","v":""},{"$f":"IF(AND($S$2=H1546,E1546>0,E1546<998),\"該当３\",\"\")","v":""},{"$f":"IF(V1546=\"該当３\",I1546,\"\")","v":""},{"$f":"IF(V1546=\"\",\"\",COUNTIF($V$7:V1546,\"該当３\"))","v":""}]
[1936403003,19,{"v":364,"d":"364 "},{"v":3,"d":"03 "},{"v":3,"d":"003 "},"山梨県","早川町","三里村","新倉",null,{"$f":"IF(AND($C1547>0,$H1547=\"\"),\"ﾘｽﾄ１\",\"\")","v":""},{"$f":"IF(K1547=\"ﾘｽﾄ１\",G1547,\"\")","v":""},{"$f":"IF(K1547=\"\",\"\",COUNTIF($K$7:K1547,\"ﾘｽﾄ１\"))","v":""},{"$f":"IF(AND(D1547=0,E1547>0),\"同一区\",\"\")","v":""},{"$f":"IF(AND(EXACT($K$2,G1547),H1547>0),\"該当１\",\"\")","v":""},"","","",{"$f":"IF(AND(Q1547=\"ﾘｽﾄ2\",OR(I1547=0,AND(N1547=\"同一区\",E1547=1))),\"該当２\",\"\")","v":""},"",{"$f":"IF(S1547=\"\",\"\",COUNTIF($S$7:S1547,\"該当２\"))","v":""},"","",{"$f":"IF(V1547=\"\",\"\",COUNTIF($V$7:V1547,\"該当３\"))","v":""}]
[1936403004,19,{"v":364,"d":"364 "},{"v":3,"d":"03 "},{"v":4,"d":"004 "},"山梨県","早川町","三里村","茂倉",null,"","",{"$f":"IF(K1548=\"\",\"\",COUNTIF($K$7:K1548,\"ﾘｽﾄ１\"))","v":""},"","","","","","","",{"$f":"IF(S1548=\"\",\"\",COUNTIF($S$7:S1548,\"該当２\"))","v":""},"","",{"$f":"IF(V1548=\"\",\"\",COUNTIF($V$7:V1548,\"該当３\"))","v":""}]
[1936404000,19,{"v":364,"d":"364 "},{"v":4,"d":"04 "},{"v":0,"d":"000 "},"山梨県","早川町","五箇村",null,null,"","",{"$f":"IF(K1549=\"\",\"\",COUNTIF($K$7:K1549,\"ﾘｽﾄ１\"))","v":""},"","","","","","","",{"$f":"IF(S1549=\"\",\"\",COUNTIF($S$7:S1549,\"該当２\"))","v":""},"","",{"$f":"IF(V1549=\"\",\"\",COUNTIF($V$7:V1549,\"該当３\"))","v":""}]
[1936404001,19,{"v":364,"d":"364 "},{"v":4,"d":"04 "},{"v":1,"d":"001 "},"山梨県","早川町","五箇村","薬袋",null,"","",{"$f":"IF(K1550=\"\",\"\",COUNTIF($K$7:K1550,\"ﾘｽﾄ１\"))","v":""},"","","","","","","",{"$f":"IF(S1550=\"\",\"\",COUNTIF($S$7:S1550,\"該当２\"))","v":""},"","",{"$f":"IF(V1550=\"\",\"\",COUNTIF($V$7:V1550,\"該当３\"))","v":""}]
[1936404002,19,{"v":364,"d":"364 "},{"v":4,"d":"04 "},{"v":2,"d":"002 "},"山梨県","早川町","五箇村","千須和",null,"","",{"$f":"IF(K1551=\"\",\"\",COUNTIF($K$7:K1551,\"ﾘｽﾄ１\"))","v":""},"","","","","","","",{"$f":"IF(S1551=\"\",\"\",COUNTIF($S$7:S1551,\"該当２\"))","v":""},"","",{"$f":"IF(V1551=\"\",\"\",COUNTIF($V$7:V1551,\"該当３\"))","v":""}]
[1936404003,19,{"v":364,"d":"364 "},{"v":4,"d":"04 "},{"v":3,"d":"003 "},"山梨県","早川町","五箇村","榑坪",null,"","",{"$f":"IF(K1552=\"\",\"\",COUNTIF($K$7:K1552,\"ﾘｽﾄ１\"))","v":""},"","","","","","","",{"$f":"IF(S1552=\"\",\"\",COUNTIF($S$7:S1552,\"該当２\"))","v":""},"","",{"$f":"IF(V1552=\"\",\"\",COUNTIF($V$7:V1552,\"該当３\"))","v":""}]
[1936404004,19,{"v":364,"d":"364 "},{"v":4,"d":"04 "},{"v":4,"d":"004 "},"山梨県","早川町","五箇村","笹走",null,"","",{"$f":"IF(K1553=\"\",\"\",COUNTIF($K$7:K1553,\"ﾘｽﾄ１\"))","v":""},"","","","","","","",{"$f":"IF(S1553=\"\",\"\",COUNTIF($S$7:S1553,\"該当２\"))","v":""},"","",{"$f":"IF(V1553=\"\",\"\",COUNTIF($V$7:V1553,\"該当３\"))","v":""}]
[1936404005,19,{"v":364,"d":"364 "},{"v":4,"d":"04 "},{"v":5,"d":"005 "},"山梨県","早川町","五箇村","塩之上",null,"","",{"$f":"IF(K1554=\"\",\"\",COUNTIF($K$7:K1554,\"ﾘｽﾄ１\"))","v":""},"","","","","","","",{"$f":"IF(S1554=\"\",\"\",COUNTIF($S$7:S1554,\"該当２\"))","v":""},"","",{"$f":"IF(V1554=\"\",\"\",COUNTIF($V$7:V1554,\"該当３\"))","v":""}]
[1936404006,19,{"v":364,"d":"364 "},{"v":4,"d":"04 "},{"v":6,"d":"006 "},"山梨県","早川町","五箇村","古屋",null,"","",{"$f":"IF(K1555=\"\",\"\",COUNTIF($K$7:K1555,\"ﾘｽﾄ１\"))","v":""},"","","","","","","",{"$f":"IF(S1555=\"\",\"\",COUNTIF($S$7:S1555,\"該当２\"))","v":""},"","",{"$f":"IF(V1555=\"\",\"\",COUNTIF($V$7:V1555,\"該当３\"))","v":""}]
[1936405000,19,{"v":364,"d":"364 "},{"v":5,"d":"05 "},{"v":0,"d":"000 "},"山梨県","早川町","本建村",null,null,"","",{"$f":"IF(K1556=\"\",\"\",COUNTIF($K$7:K1556,\"ﾘｽﾄ１\"))","v":""},"","","","","","","",{"$f":"IF(S1556=\"\",\"\",COUNTIF($S$7:S1556,\"該当２\"))","v":""},"","",{"$f":"IF(V1556=\"\",\"\",COUNTIF($V$7:V1556,\"該当３\"))","v":""}]
[1936405001,19,{"v":364,"d":"364 "},{"v":5,"d":"05 "},{"v":1,"d":"001 "},"山梨県","早川町","本建村","初鹿島",null,"","",{"$f":"IF(K1557=\"\",\"\",COUNTIF($K$7:K1557,\"ﾘｽﾄ１\"))","v":""},"","","","","","","",{"$f":"IF(S1557=\"\",\"\",COUNTIF($S$7:S1557,\"該当２\"))","v":""},"","",{"$f":"IF(V1557=\"\",\"\",COUNTIF($V$7:V1557,\"該当３\"))","v":""}]
[1936405002,19,{"v":364,"d":"364 "},{"v":5,"d":"05 "},{"v":2,"d":"002 "},"山梨県","早川町","本建村","小縄",null,"","",{"$f":"IF(K1558=\"\",\"\",COUNTIF($K$7:K1558,\"ﾘｽﾄ１\"))","v":""},"","","","","","","",{"$f":"IF(S1558=\"\",\"\",COUNTIF($S$7:S1558,\"該当２\"))","v":""},"","",{"$f":"IF(V1558=\"\",\"\",COUNTIF($V$7:V1558,\"該当３\"))","v":""}]
[1936405003,19,{"v":364,"d":"364 "},{"v":5,"d":"05 "},{"v":3,"d":"003 "},"山梨県","早川町","本建村","高住",null,"","",{"$f":"IF(K1559=\"\",\"\",COUNTIF($K$7:K1559,\"ﾘｽﾄ１\"))","v":""},"","","","","","","",{"$f":"IF(S1559=\"\",\"\",COUNTIF($S$7:S1559,\"該当２\"))","v":""},"","",{"$f":"IF(V1559=\"\",\"\",COUNTIF($V$7:V1559,\"該当３\"))","v":""}]
[1936405004,19,{"v":364,"d":"364 "},{"v":5,"d":"05 "},{"v":4,"d":"004 "},"山梨県","早川町","本建村","赤沢",null,"","",{"$f":"IF(K1560=\"\",\"\",COUNTIF($K$7:K1560,\"ﾘｽﾄ１\"))","v":""},"","","","","","","",{"$f":"IF(S1560=\"\",\"\",COUNTIF($S$7:S1560,\"該当２\"))","v":""},"","",{"$f":"IF(V1560=\"\",\"\",COUNTIF($V$7:V1560,\"該当３\"))","v":""}]
[1936406000,19,{"v":364,"d":"364 "},{"v":6,"d":"06 "},{"v":0,"d":"000 "},"山梨県","早川町","硯島村",null,null,"","",{"$f":"IF(K1561=\"\",\"\",COUNTIF($K$7:K1561,\"ﾘｽﾄ１\"))","v":""},"","","","","","","",{"$f":"IF(S1561=\"\",\"\",COUNTIF($S$7:S1561,\"該当２\"))","v":""},"","",{"$f":"IF(V1561=\"\",\"\",COUNTIF($V$7:V1561,\"該当３\"))","v":""}]
[1936406001,19,{"v":364,"d":"364 "},{"v":6,"d":"06 "},{"v":1,"d":"001 "},"山梨県","早川町","硯島村","大島",null,"","",{"$f":"IF(K1562=\"\",\"\",COUNTIF($K$7:K1562,\"ﾘｽﾄ１\"))","v":""},"","","","","","","",{"$f":"IF(S1562=\"\",\"\",COUNTIF($S$7:S1562,\"該当２\"))","v":""},"","",{"$f":"IF(V1562=\"\",\"\",COUNTIF($V$7:V1562,\"該当３\"))","v":""}]
[1936406002,19,{"v":364,"d":"364 "},{"v":6,"d":"06 "},{"v":2,"d":"002 "},"山梨県","早川町","硯島村","戸川",null,"","",{"$f":"IF(K1563=\"\",\"\",COUNTIF($K$7:K1563,\"ﾘｽﾄ１\"))","v":""},"","","","","","","",{"$f":"IF(S1563=\"\",\"\",COUNTIF($S$7:S1563,\"該当２\"))","v":""},"","",{"$f":"IF(V1563=\"\",\"\",COUNTIF($V$7:V1563,\"該当３\"))","v":""}]
[1936406003,19,{"v":364,"d":"364 "},{"v":6,"d":"06 "},{"v":3,"d":"003 "},"山梨県","早川町","硯島村","馬場",null,"","",{"$f":"IF(K1564=\"\",\"\",COUNTIF($K$7:K1564,\"ﾘｽﾄ１\"))","v":""},"","","","","","","",{"$f":"IF(S1564=\"\",\"\",COUNTIF($S$7:S1564,\"該当２\"))","v":""},"","",{"$f":"IF(V1564=\"\",\"\",COUNTIF($V$7:V1564,\"該当３\"))","v":""}]
[1936406004,19,{"v":364,"d":"364 "},{"v":6,"d":"06 "},{"v":4,"d":"004 "},"山梨県","早川町","硯島村","老平",null,"","",{"$f":"IF(K1565=\"\",\"\",COUNTIF($K$7:K1565,\"ﾘｽﾄ１\"))","v":""},"","","","","","","",{"$f":"IF(S1565=\"\",\"\",COUNTIF($S$7:S1565,\"該当２\"))","v":""},"","",{"$f":"IF(V1565=\"\",\"\",COUNTIF($V$7:V1565,\"該当３\"))","v":""}]
[1936406005,19,{"v":364,"d":"364 "},{"v":6,"d":"06 "},{"v":5,"d":"005 "},"山梨県","早川町","硯島村","北村",null,"","",{"$f":"IF(K1566=\"\",\"\",COUNTIF($K$7:K1566,\"ﾘｽﾄ１\"))","v":""},"","","","","","","",{"$f":"IF(S1566=\"\",\"\",COUNTIF($S$7:S1566,\"該当２\"))","v":""},"","",{"$f":"IF(V1566=\"\",\"\",COUNTIF($V$7:V1566,\"該当３\"))","v":""}]
[1936406006,19,{"v":364,"d":"364 "},{"v":6,"d":"06 "},{"v":6,"d":"006 "},"山梨県","早川町","硯島村","原村",null,"","",{"$f":"IF(K1567=\"\",\"\",COUNTIF($K$7:K1567,\"ﾘｽﾄ１\"))","v":""},"","","","","","","",{"$f":"IF(S1567=\"\",\"\",COUNTIF($S$7:S1567,\"該当２\"))","v":""},"","",{"$f":"IF(V1567=\"\",\"\",COUNTIF($V$7:V1567,\"該当３\"))","v":""}]
[1936406007,19,{"v":364,"d":"364 "},{"v":6,"d":"06 "},{"v":7,"d":"007 "},"山梨県","早川町","硯島村","細稲",null,"","",{"$f":"IF(K1568=\"\",\"\",COUNTIF($K$7:K1568,\"ﾘｽﾄ１\"))","v":""},"","","","","","","",{"$f":"IF(S1568=\"\",\"\",COUNTIF($S$7:S1568,\"該当２\"))","v":""},"","",{"$f":"IF(V1568=\"\",\"\",COUNTIF($V$7:V1568,\"該当３\"))","v":""}]
[1936406008,19,{"v":364,"d":"364 "},{"v":6,"d":"06 "},{"v":8,"d":"008 "},"山梨県","早川町","硯島村","室畑",null,"","",{"$f":"IF(K1569=\"\",\"\",COUNTIF($K$7:K1569,\"ﾘｽﾄ１\"))","v":""},"","","","","","","",{"$f":"IF(S1569=\"\",\"\",COUNTIF($S$7:S1569,\"該当２\"))","v":""},"","",{"$f":"IF(V1569=\"\",\"\",COUNTIF($V$7:V1569,\"該当３\"))","v":""}]
[1936406009,19,{"v":364,"d":"364 "},{"v":6,"d":"06 "},{"v":9,"d":"009 "},"山梨県","早川町","硯島村","久田子",null,"","",{"$f":"IF(K1570=\"\",\"\",COUNTIF($K$7:K1570,\"ﾘｽﾄ１\"))","v":""},"","","","","","","",{"$f":"IF(S1570=\"\",\"\",COUNTIF($S$7:S1570,\"該当２\"))","v":""},"","",{"$f":"IF(V1570=\"\",\"\",COUNTIF($V$7:V1570,\"該当３\"))","v":""}]
[1936500000,19,{"v":365,"d":"365 "},{"v":0,"d":"00 "},{"v":0,"d":"000 "},"山梨県","身延町",{"$nulls":3},"ﾘｽﾄ１","身延町",{"$f":"IF(K1571=\"\",\"\",COUNTIF($K$7:K1571,\"ﾘｽﾄ１\"))","v":16},"","","","","","","",{"$f":"IF(S1571=\"\",\"\",COUNTIF($S$7:S1571,\"該当２\"))","v":""},"","",{"$f":"IF(V1571=\"\",\"\",COUNTIF($V$7:V1571,\"該当３\"))","v":""}]
[1936501000,19,{"v":365,"d":"365 "},{"v":1,"d":"01 "},{"v":0,"d":"000 "},"山梨県","身延町","下山村",null,null,"","",{"$f":"IF(K1572=\"\",\"\",COUNTIF($K$7:K1572,\"ﾘｽﾄ１\"))","v":""},"","","","","","","",{"$f":"IF(S1572=\"\",\"\",COUNTIF($S$7:S1572,\"該当２\"))","v":""},"","",{"$f":"IF(V1572=\"\",\"\",COUNTIF($V$7:V1572,\"該当３\"))","v":""}]
[1936501001,19,{"v":365,"d":"365 "},{"v":1,"d":"01 "},{"v":1,"d":"001 "},"山梨県","身延町","下山村","上沢",null,"","",{"$f":"IF(K1573=\"\",\"\",COUNTIF($K$7:K1573,\"ﾘｽﾄ１\"))","v":""},"","","","","","","",{"$f":"IF(S1573=\"\",\"\",COUNTIF($S$7:S1573,\"該当２\"))","v":""},"","",{"$f":"IF(V1573=\"\",\"\",COUNTIF($V$7:V1573,\"該当３\"))","v":""}]
[1936501002,19,{"v":365,"d":"365 "},{"v":1,"d":"01 "},{"v":2,"d":"002 "},"山梨県","身延町","下山村","下山",null,"","",{"$f":"IF(K1574=\"\",\"\",COUNTIF($K$7:K1574,\"ﾘｽﾄ１\"))","v":""},"","","","","","","",{"$f":"IF(S1574=\"\",\"\",COUNTIF($S$7:S1574,\"該当２\"))","v":""},"","",{"$f":"IF(V1574=\"\",\"\",COUNTIF($V$7:V1574,\"該当３\"))","v":""}]
[1936501003,19,{"v":365,"d":"365 "},{"v":1,"d":"01 "},{"v":3,"d":"003 "},"山梨県","身延町","下山村","杉山",null,"","",{"$f":"IF(K1575=\"\",\"\",COUNTIF($K$7:K1575,\"ﾘｽﾄ１\"))","v":""},"","","","","","","",{"$f":"IF(S1575=\"\",\"\",COUNTIF($S$7:S1575,\"該当２\"))","v":""},"","",{"$f":"IF(V1575=\"\",\"\",COUNTIF($V$7:V1575,\"該当３\"))","v":""}]
[1936501004,19,{"v":365,"d":"365 "},{"v":1,"d":"01 "},{"v":4,"d":"004 "},"山梨県","身延町","下山村","山額",null,"","",{"$f":"IF(K1576=\"\",\"\",COUNTIF($K$7:K1576,\"ﾘｽﾄ１\"))","v":""},"","","","","","","",{"$f":"IF(S1576=\"\",\"\",COUNTIF($S$7:S1576,\"該当２\"))","v":""},"","",{"$f":"IF(V1576=\"\",\"\",COUNTIF($V$7:V1576,\"該当３\"))","v":""}]
[1936501005,19,{"v":365,"d":"365 "},{"v":1,"d":"01 "},{"v":5,"d":"005 "},"山梨県","身延町","下山村","粟倉",null,"","",{"$f":"IF(K1577=\"\",\"\",COUNTIF($K$7:K1577,\"ﾘｽﾄ１\"))","v":""},"","","","","","","",{"$f":"IF(S1577=\"\",\"\",COUNTIF($S$7:S1577,\"該当２\"))","v":""},"","",{"$f":"IF(V1577=\"\",\"\",COUNTIF($V$7:V1577,\"該当３\"))","v":""}]
[1936501006,19,{"v":365,"d":"365 "},{"v":1,"d":"01 "},{"v":6,"d":"006 "},"山梨県","身延町","下山村","小原島",null,"","",{"$f":"IF(K1578=\"\",\"\",COUNTIF($K$7:K1578,\"ﾘｽﾄ１\"))","v":""},"","","","","","","",{"$f":"IF(S1578=\"\",\"\",COUNTIF($S$7:S1578,\"該当２\"))","v":""},"","",{"$f":"IF(V1578=\"\",\"\",COUNTIF($V$7:V1578,\"該当３\"))","v":""}]
[1936502000,19,{"v":365,"d":"365 "},{"v":2,"d":"02 "},{"v":0,"d":"000 "},"山梨県","身延町","身延町",null,null,"","",{"$f":"IF(K1579=\"\",\"\",COUNTIF($K$7:K1579,\"ﾘｽﾄ１\"))","v":""},"","","","","","","",{"$f":"IF(S1579=\"\",\"\",COUNTIF($S$7:S1579,\"該当２\"))","v":""},"","",{"$f":"IF(V1579=\"\",\"\",COUNTIF($V$7:V1579,\"該当３\"))","v":""}]
[1936502001,19,{"v":365,"d":"365 "},{"v":2,"d":"02 "},{"v":1,"d":"001 "},"山梨県","身延町","身延町","波木井一区",null,"","",{"$f":"IF(K1580=\"\",\"\",COUNTIF($K$7:K1580,\"ﾘｽﾄ１\"))","v":""},"","","","","","","",{"$f":"IF(S1580=\"\",\"\",COUNTIF($S$7:S1580,\"該当２\"))","v":""},"","",{"$f":"IF(V1580=\"\",\"\",COUNTIF($V$7:V1580,\"該当３\"))","v":""}]
[1936502002,19,{"v":365,"d":"365 "},{"v":2,"d":"02 "},{"v":2,"d":"002 "},"山梨県","身延町","身延町","波木井二区",null,"","",{"$f":"IF(K1581=\"\",\"\",COUNTIF($K$7:K1581,\"ﾘｽﾄ１\"))","v":""},"","","","","","","",{"$f":"IF(S1581=\"\",\"\",COUNTIF($S$7:S1581,\"該当２\"))","v":""},"","",{"$f":"IF(V1581=\"\",\"\",COUNTIF($V$7:V1581,\"該当３\"))","v":""}]
[1936502003,19,{"v":365,"d":"365 "},{"v":2,"d":"02 "},{"v":3,"d":"003 "},"山梨県","身延町","身延町","波木井三区",null,"","",{"$f":"IF(K1582=\"\",\"\",COUNTIF($K$7:K1582,\"ﾘｽﾄ１\"))","v":""},"","","","","","","",{"$f":"IF(S1582=\"\",\"\",COUNTIF($S$7:S1582,\"該当２\"))","v":""},"","",{"$f":"IF(V1582=\"\",\"\",COUNTIF($V$7:V1582,\"該当３\"))","v":""}]
[1936502004,19,{"v":365,"d":"365 "},{"v":2,"d":"02 "},{"v":4,"d":"004 "},"山梨県","身延町","身延町","塩沢",null,"","",{"$f":"IF(K1583=\"\",\"\",COUNTIF($K$7:K1583,\"ﾘｽﾄ１\"))","v":""},"","","","","","","",{"$f":"IF(S1583=\"\",\"\",COUNTIF($S$7:S1583,\"該当２\"))","v":""},"","",{"$f":"IF(V1583=\"\",\"\",COUNTIF($V$7:V1583,\"該当３\"))","v":""}]
[1936502005,19,{"v":365,"d":"365 "},{"v":2,"d":"02 "},{"v":5,"d":"005 "},"山梨県","身延町","身延町","清住町",null,"","",{"$f":"IF(K1584=\"\",\"\",COUNTIF($K$7:K1584,\"ﾘｽﾄ１\"))","v":""},"","","","","","","",{"$f":"IF(S1584=\"\",\"\",COUNTIF($S$7:S1584,\"該当２\"))","v":""},"","",{"$f":"IF(V1584=\"\",\"\",COUNTIF($V$7:V1584,\"該当３\"))","v":""}]
[1936502006,19,{"v":365,"d":"365 "},{"v":2,"d":"02 "},{"v":6,"d":"006 "},"山梨県","身延町","身延町","門内",null,"","",{"$f":"IF(K1585=\"\",\"\",COUNTIF($K$7:K1585,\"ﾘｽﾄ１\"))","v":""},"","","","","","","",{"$f":"IF(S1585=\"\",\"\",COUNTIF($S$7:S1585,\"該当２\"))","v":""},"","",{"$f":"IF(V1585=\"\",\"\",COUNTIF($V$7:V1585,\"該当３\"))","v":""}]
[1936502007,19,{"v":365,"d":"365 "},{"v":2,"d":"02 "},{"v":7,"d":"007 "},"山梨県","身延町","身延町","大野",null,"","",{"$f":"IF(K1586=\"\",\"\",COUNTIF($K$7:K1586,\"ﾘｽﾄ１\"))","v":""},"","","","","","","",{"$f":"IF(S1586=\"\",\"\",COUNTIF($S$7:S1586,\"該当２\"))","v":""},"","",{"$f":"IF(V1586=\"\",\"\",COUNTIF($V$7:V1586,\"該当３\"))","v":""}]
[1936502008,19,{"v":365,"d":"365 "},{"v":2,"d":"02 "},{"v":8,"d":"008 "},"山梨県","身延町","身延町","梅平",null,"","",{"$f":"IF(K1587=\"\",\"\",COUNTIF($K$7:K1587,\"ﾘｽﾄ１\"))","v":""},"","","","","","","",{"$f":"IF(S1587=\"\",\"\",COUNTIF($S$7:S1587,\"該当２\"))","v":""},"","",{"$f":"IF(V1587=\"\",\"\",COUNTIF($V$7:V1587,\"該当３\"))","v":""}]
[1936503000,19,{"v":365,"d":"365 "},{"v":3,"d":"03 "},{"v":0,"d":"000 "},"山梨県","身延町","豊岡村",null,null,"","",{"$f":"IF(K1588=\"\",\"\",COUNTIF($K$7:K1588,\"ﾘｽﾄ１\"))","v":""},"","","","","","","",{"$f":"IF(S1588=\"\",\"\",COUNTIF($S$7:S1588,\"該当２\"))","v":""},"","",{"$f":"IF(V1588=\"\",\"\",COUNTIF($V$7:V1588,\"該当３\"))","v":""}]
[1936503003,19,{"v":365,"d":"365 "},{"v":3,"d":"03 "},{"v":3,"d":"003 "},"山梨県","身延町","豊岡村","門野",null,"","",{"$f":"IF(K1589=\"\",\"\",COUNTIF($K$7:K1589,\"ﾘｽﾄ１\"))","v":""},"","","","","","","",{"$f":"IF(S1589=\"\",\"\",COUNTIF($S$7:S1589,\"該当２\"))","v":""},"","",{"$f":"IF(V1589=\"\",\"\",COUNTIF($V$7:V1589,\"該当３\"))","v":""}]
[1936503004,19,{"v":365,"d":"365 "},{"v":3,"d":"03 "},{"v":4,"d":"004 "},"山梨県","身延町","豊岡村","小田",null,"","",{"$f":"IF(K1590=\"\",\"\",COUNTIF($K$7:K1590,\"ﾘｽﾄ１\"))","v":""},"","","","","","","",{"$f":"IF(S1590=\"\",\"\",COUNTIF($S$7:S1590,\"該当２\"))","v":""},"","",{"$f":"IF(V1590=\"\",\"\",COUNTIF($V$7:V1590,\"該当３\"))","v":""}]
[1936503005,19,{"v":365,"d":"365 "},{"v":3,"d":"03 "},{"v":5,"d":"005 "},"山梨県","身延町","豊岡村","船原",null,"","",{"$f":"IF(K1591=\"\",\"\",COUNTIF($K$7:K1591,\"ﾘｽﾄ１\"))","v":""},"","","","","","","",{"$f":"IF(S1591=\"\",\"\",COUNTIF($S$7:S1591,\"該当２\"))","v":""},"","",{"$f":"IF(V1591=\"\",\"\",COUNTIF($V$7:V1591,\"該当３\"))","v":""}]
[1936503006,19,{"v":365,"d":"365 "},{"v":3,"d":"03 "},{"v":6,"d":"006 "},"山梨県","身延町","豊岡村","清子",null,"","",{"$f":"IF(K1592=\"\",\"\",COUNTIF($K$7:K1592,\"ﾘｽﾄ１\"))","v":""},"","","","","","","",{"$f":"IF(S1592=\"\",\"\",COUNTIF($S$7:S1592,\"該当２\"))","v":""},"","",{"$f":"IF(V1592=\"\",\"\",COUNTIF($V$7:V1592,\"該当３\"))","v":""}]
[1936503007,19,{"v":365,"d":"365 "},{"v":3,"d":"03 "},{"v":7,"d":"007 "},"山梨県","身延町","豊岡村","光子沢",null,"","",{"$f":"IF(K1593=\"\",\"\",COUNTIF($K$7:K1593,\"ﾘｽﾄ１\"))","v":""},"","","","","","","",{"$f":"IF(S1593=\"\",\"\",COUNTIF($S$7:S1593,\"該当２\"))","v":""},"","",{"$f":"IF(V1593=\"\",\"\",COUNTIF($V$7:V1593,\"該当３\"))","v":""}]
[1936503008,19,{"v":365,"d":"365 "},{"v":3,"d":"03 "},{"v":8,"d":"008 "},"山梨県","身延町","豊岡村","大久保",null,"","",{"$f":"IF(K1594=\"\",\"\",COUNTIF($K$7:K1594,\"ﾘｽﾄ１\"))","v":""},"","","","","","","",{"$f":"IF(S1594=\"\",\"\",COUNTIF($S$7:S1594,\"該当２\"))","v":""},"","",{"$f":"IF(V1594=\"\",\"\",COUNTIF($V$7:V1594,\"該当３\"))","v":""}]
[1936503009,19,{"v":365,"d":"365 "},{"v":3,"d":"03 "},{"v":9,"d":"009 "},"山梨県","身延町","豊岡村","横根",null,"","",{"$f":"IF(K1595=\"\",\"\",COUNTIF($K$7:K1595,\"ﾘｽﾄ１\"))","v":""},"","","","","","","",{"$f":"IF(S1595=\"\",\"\",COUNTIF($S$7:S1595,\"該当２\"))","v":""},"","",{"$f":"IF(V1595=\"\",\"\",COUNTIF($V$7:V1595,\"該当３\"))","v":""}]
[1936503012,19,{"v":365,"d":"365 "},{"v":3,"d":"03 "},{"v":12,"d":"012 "},"山梨県","身延町","豊岡村","相又",null,"","",{"$f":"IF(K1596=\"\",\"\",COUNTIF($K$7:K1596,\"ﾘｽﾄ１\"))","v":""},"","","","","","","",{"$f":"IF(S1596=\"\",\"\",COUNTIF($S$7:S1596,\"該当２\"))","v":""},"","",{"$f":"IF(V1596=\"\",\"\",COUNTIF($V$7:V1596,\"該当３\"))","v":""}]
[1936503013,19,{"v":365,"d":"365 "},{"v":3,"d":"03 "},{"v":13,"d":"013 "},"山梨県","身延町","豊岡村","大城",null,"","",{"$f":"IF(K1597=\"\",\"\",COUNTIF($K$7:K1597,\"ﾘｽﾄ１\"))","v":""},"","","","","","","",{"$f":"IF(S1597=\"\",\"\",COUNTIF($S$7:S1597,\"該当２\"))","v":""},"","",{"$f":"IF(V1597=\"\",\"\",COUNTIF($V$7:V1597,\"該当３\"))","v":""}]
[1936504000,19,{"v":365,"d":"365 "},{"v":4,"d":"04 "},{"v":0,"d":"000 "},"山梨県","身延町","大河内村",null,null,"","",{"$f":"IF(K1598=\"\",\"\",COUNTIF($K$7:K1598,\"ﾘｽﾄ１\"))","v":""},"","","","","","","",{"$f":"IF(S1598=\"\",\"\",COUNTIF($S$7:S1598,\"該当２\"))","v":""},"","",{"$f":"IF(V1598=\"\",\"\",COUNTIF($V$7:V1598,\"該当３\"))","v":""}]
[1936504003,19,{"v":365,"d":"365 "},{"v":4,"d":"04 "},{"v":3,"d":"003 "},"山梨県","身延町","大河内村","帯金",null,"","",{"$f":"IF(K1599=\"\",\"\",COUNTIF($K$7:K1599,\"ﾘｽﾄ１\"))","v":""},"","","","","","","",{"$f":"IF(S1599=\"\",\"\",COUNTIF($S$7:S1599,\"該当２\"))","v":""},"","",{"$f":"IF(V1599=\"\",\"\",COUNTIF($V$7:V1599,\"該当３\"))","v":""}]
[1936504004,19,{"v":365,"d":"365 "},{"v":4,"d":"04 "},{"v":4,"d":"004 "},"山梨県","身延町","大河内村","塩之沢",null,"","",{"$f":"IF(K1600=\"\",\"\",COUNTIF($K$7:K1600,\"ﾘｽﾄ１\"))","v":""},"","","","","","","",{"$f":"IF(S1600=\"\",\"\",COUNTIF($S$7:S1600,\"該当２\"))","v":""},"","",{"$f":"IF(V1600=\"\",\"\",COUNTIF($V$7:V1600,\"該当３\"))","v":""}]
[1936504005,19,{"v":365,"d":"365 "},{"v":4,"d":"04 "},{"v":5,"d":"005 "},"山梨県","身延町","大河内村","丸滝",null,"","",{"$f":"IF(K1601=\"\",\"\",COUNTIF($K$7:K1601,\"ﾘｽﾄ１\"))","v":""},"","","","","","","",{"$f":"IF(S1601=\"\",\"\",COUNTIF($S$7:S1601,\"該当２\"))","v":""},"","",{"$f":"IF(V1601=\"\",\"\",COUNTIF($V$7:V1601,\"該当３\"))","v":""}]
[1936504006,19,{"v":365,"d":"365 "},{"v":4,"d":"04 "},{"v":6,"d":"006 "},"山梨県","身延町","大河内村","大垈",null,"","",{"$f":"IF(K1602=\"\",\"\",COUNTIF($K$7:K1602,\"ﾘｽﾄ１\"))","v":""},"","","","","","","",{"$f":"IF(S1602=\"\",\"\",COUNTIF($S$7:S1602,\"該当２\"))","v":""},"","",{"$f":"IF(V1602=\"\",\"\",COUNTIF($V$7:V1602,\"該当３\"))","v":""}]
[1936504007,19,{"v":365,"d":"365 "},{"v":4,"d":"04 "},{"v":7,"d":"007 "},"山梨県","身延町","大河内村","椿草里",null,"","",{"$f":"IF(K1603=\"\",\"\",COUNTIF($K$7:K1603,\"ﾘｽﾄ１\"))","v":""},"","","","","","","",{"$f":"IF(S1603=\"\",\"\",COUNTIF($S$7:S1603,\"該当２\"))","v":""},"","",{"$f":"IF(V1603=\"\",\"\",COUNTIF($V$7:V1603,\"該当３\"))","v":""}]
[1936504008,19,{"v":365,"d":"365 "},{"v":4,"d":"04 "},{"v":8,"d":"008 "},"山梨県","身延町","大河内村","大崩",null,"","",{"$f":"IF(K1604=\"\",\"\",COUNTIF($K$7:K1604,\"ﾘｽﾄ１\"))","v":""},"","","","","","","",{"$f":"IF(S1604=\"\",\"\",COUNTIF($S$7:S1604,\"該当２\"))","v":""},"","",{"$f":"IF(V1604=\"\",\"\",COUNTIF($V$7:V1604,\"該当３\"))","v":""}]
[1936504009,19,{"v":365,"d":"365 "},{"v":4,"d":"04 "},{"v":9,"d":"009 "},"山梨県","身延町","大河内村","角打北",null,"","",{"$f":"IF(K1605=\"\",\"\",COUNTIF($K$7:K1605,\"ﾘｽﾄ１\"))","v":""},"","","","","","","",{"$f":"IF(S1605=\"\",\"\",COUNTIF($S$7:S1605,\"該当２\"))","v":""},"","",{"$f":"IF(V1605=\"\",\"\",COUNTIF($V$7:V1605,\"該当３\"))","v":""}]
[1936504010,19,{"v":365,"d":"365 "},{"v":4,"d":"04 "},{"v":10,"d":"010 "},"山梨県","身延町","大河内村","角打南",null,"","",{"$f":"IF(K1606=\"\",\"\",COUNTIF($K$7:K1606,\"ﾘｽﾄ１\"))","v":""},"","","","","","","",{"$f":"IF(S1606=\"\",\"\",COUNTIF($S$7:S1606,\"該当２\"))","v":""},"","",{"$f":"IF(V1606=\"\",\"\",COUNTIF($V$7:V1606,\"該当３\"))","v":""}]
[1936504011,19,{"v":365,"d":"365 "},{"v":4,"d":"04 "},{"v":11,"d":"011 "},"山梨県","身延町","大河内村","和田",null,"","",{"$f":"IF(K1607=\"\",\"\",COUNTIF($K$7:K1607,\"ﾘｽﾄ１\"))","v":""},"","","","","","","",{"$f":"IF(S1607=\"\",\"\",COUNTIF($S$7:S1607,\"該当２\"))","v":""},"","",{"$f":"IF(V1607=\"\",\"\",COUNTIF($V$7:V1607,\"該当３\"))","v":""}]
[1936504012,19,{"v":365,"d":"365 "},{"v":4,"d":"04 "},{"v":12,"d":"012 "},"山梨県","身延町","大河内村","平",null,"","",{"$f":"IF(K1608=\"\",\"\",COUNTIF($K$7:K1608,\"ﾘｽﾄ１\"))","v":""},"","","","","","","",{"$f":"IF(S1608=\"\",\"\",COUNTIF($S$7:S1608,\"該当２\"))","v":""},"","",{"$f":"IF(V1608=\"\",\"\",COUNTIF($V$7:V1608,\"該当３\"))","v":""}]
[1936504013,19,{"v":365,"d":"365 "},{"v":4,"d":"04 "},{"v":13,"d":"013 "},"山梨県","身延町","大河内村","米倉",null,"","",{"$f":"IF(K1609=\"\",\"\",COUNTIF($K$7:K1609,\"ﾘｽﾄ１\"))","v":""},"","","","","","","",{"$f":"IF(S1609=\"\",\"\",COUNTIF($S$7:S1609,\"該当２\"))","v":""},"","",{"$f":"IF(V1609=\"\",\"\",COUNTIF($V$7:V1609,\"該当３\"))","v":""}]
[1936504014,19,{"v":365,"d":"365 "},{"v":4,"d":"04 "},{"v":14,"d":"014 "},"山梨県","身延町","大河内村","樋之上",null,"","",{"$f":"IF(K1610=\"\",\"\",COUNTIF($K$7:K1610,\"ﾘｽﾄ１\"))","v":""},"","",{"$f":"IF(O1610=\"該当１\",G1610,\"\")","v":""},{"$f":"IF(O1610=\"該当１\",\"ﾘｽﾄ2\",\"\")","v":""},{"$f":"IF(Q1610=\"ﾘｽﾄ2\",H1610,\"\")","v":""},"",{"$f":"IF(S1610=\"該当２\",H1610,\"\")","v":""},{"$f":"IF(S1610=\"\",\"\",COUNTIF($S$7:S1610,\"該当２\"))","v":""},{"$f":"IF(AND($S$2=H1610,E1610>0,E1610<998),\"該当３\",\"\")","v":""},{"$f":"IF(V1610=\"該当３\",I1610,\"\")","v":""},{"$f":"IF(V1610=\"\",\"\",COUNTIF($V$7:V1610,\"該当３\"))","v":""}]
[1936504015,19,{"v":365,"d":"365 "},{"v":4,"d":"04 "},{"v":15,"d":"015 "},"山梨県","身延町","大河内村","上大島",null,{"$f":"IF(AND($C1611>0,$H1611=\"\"),\"ﾘｽﾄ１\",\"\")","v":""},{"$f":"IF(K1611=\"ﾘｽﾄ１\",G1611,\"\")","v":""},{"$f":"IF(K1611=\"\",\"\",COUNTIF($K$7:K1611,\"ﾘｽﾄ１\"))","v":""},{"$f":"IF(AND(D1611=0,E1611>0),\"同一区\",\"\")","v":""},{"$f":"IF(AND(EXACT($K$2,G1611),H1611>0),\"該当１\",\"\")","v":""},"","","",{"$f":"IF(AND(Q1611=\"ﾘｽﾄ2\",OR(I1611=0,AND(N1611=\"同一区\",E1611=1))),\"該当２\",\"\")","v":""},"",{"$f":"IF(S1611=\"\",\"\",COUNTIF($S$7:S1611,\"該当２\"))","v":""},"","",{"$f":"IF(V1611=\"\",\"\",COUNTIF($V$7:V1611,\"該当３\"))","v":""}]
[1936504016,19,{"v":365,"d":"365 "},{"v":4,"d":"04 "},{"v":16,"d":"016 "},"山梨県","身延町","大河内村","下大島",null,"","",{"$f":"IF(K1612=\"\",\"\",COUNTIF($K$7:K1612,\"ﾘｽﾄ１\"))","v":""},"","","","","","","",{"$f":"IF(S1612=\"\",\"\",COUNTIF($S$7:S1612,\"該当２\"))","v":""},"","",{"$f":"IF(V1612=\"\",\"\",COUNTIF($V$7:V1612,\"該当３\"))","v":""}]
[1936504017,19,{"v":365,"d":"365 "},{"v":4,"d":"04 "},{"v":17,"d":"017 "},"山梨県","身延町","大河内村","八木沢",null,"","",{"$f":"IF(K1613=\"\",\"\",COUNTIF($K$7:K1613,\"ﾘｽﾄ１\"))","v":""},"","","","","","","",{"$f":"IF(S1613=\"\",\"\",COUNTIF($S$7:S1613,\"該当２\"))","v":""},"","",{"$f":"IF(V1613=\"\",\"\",COUNTIF($V$7:V1613,\"該当３\"))","v":""}]
[1936505000,19,{"v":365,"d":"365 "},{"v":5,"d":"05 "},{"v":0,"d":"000 "},"山梨県","身延町","大須成村",null,null,"","",{"$f":"IF(K1614=\"\",\"\",COUNTIF($K$7:K1614,\"ﾘｽﾄ１\"))","v":""},"","","","","","","",{"$f":"IF(S1614=\"\",\"\",COUNTIF($S$7:S1614,\"該当２\"))","v":""},"","",{"$f":"IF(V1614=\"\",\"\",COUNTIF($V$7:V1614,\"該当３\"))","v":""}]
[1936505001,19,{"v":365,"d":"365 "},{"v":5,"d":"05 "},{"v":1,"d":"001 "},"山梨県","身延町","大須成村","大塩",null,"","",{"$f":"IF(K1615=\"\",\"\",COUNTIF($K$7:K1615,\"ﾘｽﾄ１\"))","v":""},"","","","","","","",{"$f":"IF(S1615=\"\",\"\",COUNTIF($S$7:S1615,\"該当２\"))","v":""},"","",{"$f":"IF(V1615=\"\",\"\",COUNTIF($V$7:V1615,\"該当３\"))","v":""}]
[1936505002,19,{"v":365,"d":"365 "},{"v":5,"d":"05 "},{"v":2,"d":"002 "},"山梨県","身延町","大須成村","荻",null,"","",{"$f":"IF(K1616=\"\",\"\",COUNTIF($K$7:K1616,\"ﾘｽﾄ１\"))","v":""},"","","","","","","",{"$f":"IF(S1616=\"\",\"\",COUNTIF($S$7:S1616,\"該当２\"))","v":""},"","",{"$f":"IF(V1616=\"\",\"\",COUNTIF($V$7:V1616,\"該当３\"))","v":""}]
[1936505003,19,{"v":365,"d":"365 "},{"v":5,"d":"05 "},{"v":3,"d":"003 "},"山梨県","身延町","大須成村","久成",null,"","",{"$f":"IF(K1617=\"\",\"\",COUNTIF($K$7:K1617,\"ﾘｽﾄ１\"))","v":""},"","","","","","","",{"$f":"IF(S1617=\"\",\"\",COUNTIF($S$7:S1617,\"該当２\"))","v":""},"","",{"$f":"IF(V1617=\"\",\"\",COUNTIF($V$7:V1617,\"該当３\"))","v":""}]
[1936505004,19,{"v":365,"d":"365 "},{"v":5,"d":"05 "},{"v":4,"d":"004 "},"山梨県","身延町","大須成村","堂平",null,"","",{"$f":"IF(K1618=\"\",\"\",COUNTIF($K$7:K1618,\"ﾘｽﾄ１\"))","v":""},"","","","","","","",{"$f":"IF(S1618=\"\",\"\",COUNTIF($S$7:S1618,\"該当２\"))","v":""},"","",{"$f":"IF(V1618=\"\",\"\",COUNTIF($V$7:V1618,\"該当３\"))","v":""}]
[1936505005,19,{"v":365,"d":"365 "},{"v":5,"d":"05 "},{"v":5,"d":"005 "},"山梨県","身延町","大須成村","平須",null,"","",{"$f":"IF(K1619=\"\",\"\",COUNTIF($K$7:K1619,\"ﾘｽﾄ１\"))","v":""},"","","","","","","",{"$f":"IF(S1619=\"\",\"\",COUNTIF($S$7:S1619,\"該当２\"))","v":""},"","",{"$f":"IF(V1619=\"\",\"\",COUNTIF($V$7:V1619,\"該当３\"))","v":""}]
[1936506000,19,{"v":365,"d":"365 "},{"v":6,"d":"06 "},{"v":0,"d":"000 "},"山梨県","身延町","西島村",null,null,"","",{"$f":"IF(K1620=\"\",\"\",COUNTIF($K$7:K1620,\"ﾘｽﾄ１\"))","v":""},"","","","","","","",{"$f":"IF(S1620=\"\",\"\",COUNTIF($S$7:S1620,\"該当２\"))","v":""},"","",{"$f":"IF(V1620=\"\",\"\",COUNTIF($V$7:V1620,\"該当３\"))","v":""}]
[1936506001,19,{"v":365,"d":"365 "},{"v":6,"d":"06 "},{"v":1,"d":"001 "},"山梨県","身延町","西島村","西島",null,"","",{"$f":"IF(K1621=\"\",\"\",COUNTIF($K$7:K1621,\"ﾘｽﾄ１\"))","v":""},"","","","","","","",{"$f":"IF(S1621=\"\",\"\",COUNTIF($S$7:S1621,\"該当２\"))","v":""},"","",{"$f":"IF(V1621=\"\",\"\",COUNTIF($V$7:V1621,\"該当３\"))","v":""}]
[1936507000,19,{"v":365,"d":"365 "},{"v":7,"d":"07 "},{"v":0,"d":"000 "},"山梨県","身延町","静川村",null,null,"","",{"$f":"IF(K1622=\"\",\"\",COUNTIF($K$7:K1622,\"ﾘｽﾄ１\"))","v":""},"","","","","","","",{"$f":"IF(S1622=\"\",\"\",COUNTIF($S$7:S1622,\"該当２\"))","v":""},"","",{"$f":"IF(V1622=\"\",\"\",COUNTIF($V$7:V1622,\"該当３\"))","v":""}]
[1936507001,19,{"v":365,"d":"365 "},{"v":7,"d":"07 "},{"v":1,"d":"001 "},"山梨県","身延町","静川村","切石",null,"","",{"$f":"IF(K1623=\"\",\"\",COUNTIF($K$7:K1623,\"ﾘｽﾄ１\"))","v":""},"","","","","","","",{"$f":"IF(S1623=\"\",\"\",COUNTIF($S$7:S1623,\"該当２\"))","v":""},"","",{"$f":"IF(V1623=\"\",\"\",COUNTIF($V$7:V1623,\"該当３\"))","v":""}]
[1936507002,19,{"v":365,"d":"365 "},{"v":7,"d":"07 "},{"v":2,"d":"002 "},"山梨県","身延町","静川村","夜子沢",null,"","",{"$f":"IF(K1624=\"\",\"\",COUNTIF($K$7:K1624,\"ﾘｽﾄ１\"))","v":""},"","","","","","","",{"$f":"IF(S1624=\"\",\"\",COUNTIF($S$7:S1624,\"該当２\"))","v":""},"","",{"$f":"IF(V1624=\"\",\"\",COUNTIF($V$7:V1624,\"該当３\"))","v":""}]
[1936507003,19,{"v":365,"d":"365 "},{"v":7,"d":"07 "},{"v":3,"d":"003 "},"山梨県","身延町","静川村","日向南沢",null,"","",{"$f":"IF(K1625=\"\",\"\",COUNTIF($K$7:K1625,\"ﾘｽﾄ１\"))","v":""},"","","","","","","",{"$f":"IF(S1625=\"\",\"\",COUNTIF($S$7:S1625,\"該当２\"))","v":""},"","",{"$f":"IF(V1625=\"\",\"\",COUNTIF($V$7:V1625,\"該当３\"))","v":""}]
[1936507004,19,{"v":365,"d":"365 "},{"v":7,"d":"07 "},{"v":4,"d":"004 "},"山梨県","身延町","静川村","寺沢",null,"","",{"$f":"IF(K1626=\"\",\"\",COUNTIF($K$7:K1626,\"ﾘｽﾄ１\"))","v":""},"","","","","","","",{"$f":"IF(S1626=\"\",\"\",COUNTIF($S$7:S1626,\"該当２\"))","v":""},"","",{"$f":"IF(V1626=\"\",\"\",COUNTIF($V$7:V1626,\"該当３\"))","v":""}]
[1936507005,19,{"v":365,"d":"365 "},{"v":7,"d":"07 "},{"v":5,"d":"005 "},"山梨県","身延町","静川村","手打沢",null,"","",{"$f":"IF(K1627=\"\",\"\",COUNTIF($K$7:K1627,\"ﾘｽﾄ１\"))","v":""},"","","","","","","",{"$f":"IF(S1627=\"\",\"\",COUNTIF($S$7:S1627,\"該当２\"))","v":""},"","",{"$f":"IF(V1627=\"\",\"\",COUNTIF($V$7:V1627,\"該当３\"))","v":""}]
[1936508000,19,{"v":365,"d":"365 "},{"v":8,"d":"08 "},{"v":0,"d":"000 "},"山梨県","身延町","原村",null,null,"","",{"$f":"IF(K1628=\"\",\"\",COUNTIF($K$7:K1628,\"ﾘｽﾄ１\"))","v":""},"","","","","","","",{"$f":"IF(S1628=\"\",\"\",COUNTIF($S$7:S1628,\"該当２\"))","v":""},"","",{"$f":"IF(V1628=\"\",\"\",COUNTIF($V$7:V1628,\"該当３\"))","v":""}]
[1936508001,19,{"v":365,"d":"365 "},{"v":8,"d":"08 "},{"v":1,"d":"001 "},"山梨県","身延町","原村","大子山",null,"","",{"$f":"IF(K1629=\"\",\"\",COUNTIF($K$7:K1629,\"ﾘｽﾄ１\"))","v":""},"","","","","","","",{"$f":"IF(S1629=\"\",\"\",COUNTIF($S$7:S1629,\"該当２\"))","v":""},"","",{"$f":"IF(V1629=\"\",\"\",COUNTIF($V$7:V1629,\"該当３\"))","v":""}]
[1936508002,19,{"v":365,"d":"365 "},{"v":8,"d":"08 "},{"v":2,"d":"002 "},"山梨県","身延町","原村","八日市場",null,"","",{"$f":"IF(K1630=\"\",\"\",COUNTIF($K$7:K1630,\"ﾘｽﾄ１\"))","v":""},"","","","","","","",{"$f":"IF(S1630=\"\",\"\",COUNTIF($S$7:S1630,\"該当２\"))","v":""},"","",{"$f":"IF(V1630=\"\",\"\",COUNTIF($V$7:V1630,\"該当３\"))","v":""}]
[1936508003,19,{"v":365,"d":"365 "},{"v":8,"d":"08 "},{"v":3,"d":"003 "},"山梨県","身延町","原村","伊沼",null,"","",{"$f":"IF(K1631=\"\",\"\",COUNTIF($K$7:K1631,\"ﾘｽﾄ１\"))","v":""},"","","","","","","",{"$f":"IF(S1631=\"\",\"\",COUNTIF($S$7:S1631,\"該当２\"))","v":""},"","",{"$f":"IF(V1631=\"\",\"\",COUNTIF($V$7:V1631,\"該当３\"))","v":""}]
[1936508004,19,{"v":365,"d":"365 "},{"v":8,"d":"08 "},{"v":4,"d":"004 "},"山梨県","身延町","原村","飯富",null,"","",{"$f":"IF(K1632=\"\",\"\",COUNTIF($K$7:K1632,\"ﾘｽﾄ１\"))","v":""},"","","","","","","",{"$f":"IF(S1632=\"\",\"\",COUNTIF($S$7:S1632,\"該当２\"))","v":""},"","",{"$f":"IF(V1632=\"\",\"\",COUNTIF($V$7:V1632,\"該当３\"))","v":""}]
[1936509000,19,{"v":365,"d":"365 "},{"v":9,"d":"09 "},{"v":0,"d":"000 "},"山梨県","身延町","曙村",null,null,"","",{"$f":"IF(K1633=\"\",\"\",COUNTIF($K$7:K1633,\"ﾘｽﾄ１\"))","v":""},"","","","","","","",{"$f":"IF(S1633=\"\",\"\",COUNTIF($S$7:S1633,\"該当２\"))","v":""},"","",{"$f":"IF(V1633=\"\",\"\",COUNTIF($V$7:V1633,\"該当３\"))","v":""}]
[1936509001,19,{"v":365,"d":"365 "},{"v":9,"d":"09 "},{"v":1,"d":"001 "},"山梨県","身延町","曙村","矢細工",null,"","",{"$f":"IF(K1634=\"\",\"\",COUNTIF($K$7:K1634,\"ﾘｽﾄ１\"))","v":""},"","","","","","","",{"$f":"IF(S1634=\"\",\"\",COUNTIF($S$7:S1634,\"該当２\"))","v":""},"","",{"$f":"IF(V1634=\"\",\"\",COUNTIF($V$7:V1634,\"該当３\"))","v":""}]
[1936509002,19,{"v":365,"d":"365 "},{"v":9,"d":"09 "},{"v":2,"d":"002 "},"山梨県","身延町","曙村","古長谷",null,"","",{"$f":"IF(K1635=\"\",\"\",COUNTIF($K$7:K1635,\"ﾘｽﾄ１\"))","v":""},"","","","","","","",{"$f":"IF(S1635=\"\",\"\",COUNTIF($S$7:S1635,\"該当２\"))","v":""},"","",{"$f":"IF(V1635=\"\",\"\",COUNTIF($V$7:V1635,\"該当３\"))","v":""}]
[1936509003,19,{"v":365,"d":"365 "},{"v":9,"d":"09 "},{"v":3,"d":"003 "},"山梨県","身延町","曙村","福原",null,"","",{"$f":"IF(K1636=\"\",\"\",COUNTIF($K$7:K1636,\"ﾘｽﾄ１\"))","v":""},"","","","","","","",{"$f":"IF(S1636=\"\",\"\",COUNTIF($S$7:S1636,\"該当２\"))","v":""},"","",{"$f":"IF(V1636=\"\",\"\",COUNTIF($V$7:V1636,\"該当３\"))","v":""}]
[1936509004,19,{"v":365,"d":"365 "},{"v":9,"d":"09 "},{"v":4,"d":"004 "},"山梨県","身延町","曙村","梨子",null,"","",{"$f":"IF(K1637=\"\",\"\",COUNTIF($K$7:K1637,\"ﾘｽﾄ１\"))","v":""},"","","","","","","",{"$f":"IF(S1637=\"\",\"\",COUNTIF($S$7:S1637,\"該当２\"))","v":""},"","",{"$f":"IF(V1637=\"\",\"\",COUNTIF($V$7:V1637,\"該当３\"))","v":""}]
[1936509005,19,{"v":365,"d":"365 "},{"v":9,"d":"09 "},{"v":5,"d":"005 "},"山梨県","身延町","曙村","江尻窪",null,"","",{"$f":"IF(K1638=\"\",\"\",COUNTIF($K$7:K1638,\"ﾘｽﾄ１\"))","v":""},"","","","","","","",{"$f":"IF(S1638=\"\",\"\",COUNTIF($S$7:S1638,\"該当２\"))","v":""},"","",{"$f":"IF(V1638=\"\",\"\",COUNTIF($V$7:V1638,\"該当３\"))","v":""}]
[1936509006,19,{"v":365,"d":"365 "},{"v":9,"d":"09 "},{"v":6,"d":"006 "},"山梨県","身延町","曙村","遅沢",null,"","",{"$f":"IF(K1639=\"\",\"\",COUNTIF($K$7:K1639,\"ﾘｽﾄ１\"))","v":""},"","","","","","","",{"$f":"IF(S1639=\"\",\"\",COUNTIF($S$7:S1639,\"該当２\"))","v":""},"","",{"$f":"IF(V1639=\"\",\"\",COUNTIF($V$7:V1639,\"該当３\"))","v":""}]
[1936509007,19,{"v":365,"d":"365 "},{"v":9,"d":"09 "},{"v":7,"d":"007 "},"山梨県","身延町","曙村","中山",null,"","",{"$f":"IF(K1640=\"\",\"\",COUNTIF($K$7:K1640,\"ﾘｽﾄ１\"))","v":""},"","","","","","","",{"$f":"IF(S1640=\"\",\"\",COUNTIF($S$7:S1640,\"該当２\"))","v":""},"","",{"$f":"IF(V1640=\"\",\"\",COUNTIF($V$7:V1640,\"該当３\"))","v":""}]
[1936509008,19,{"v":365,"d":"365 "},{"v":9,"d":"09 "},{"v":8,"d":"008 "},"山梨県","身延町","曙村","松山，後山",null,"","",{"$f":"IF(K1641=\"\",\"\",COUNTIF($K$7:K1641,\"ﾘｽﾄ１\"))","v":""},"","","","","","","",{"$f":"IF(S1641=\"\",\"\",COUNTIF($S$7:S1641,\"該当２\"))","v":""},"","",{"$f":"IF(V1641=\"\",\"\",COUNTIF($V$7:V1641,\"該当３\"))","v":""}]
[1936510000,19,{"v":365,"d":"365 "},{"v":10,"d":"10 "},{"v":0,"d":"000 "},"山梨県","身延町","共和村２－１",null,null,"","",{"$f":"IF(K1642=\"\",\"\",COUNTIF($K$7:K1642,\"ﾘｽﾄ１\"))","v":""},"","","","","","","",{"$f":"IF(S1642=\"\",\"\",COUNTIF($S$7:S1642,\"該当２\"))","v":""},"","",{"$f":"IF(V1642=\"\",\"\",COUNTIF($V$7:V1642,\"該当３\"))","v":""}]
[1936510001,19,{"v":365,"d":"365 "},{"v":10,"d":"10 "},{"v":1,"d":"001 "},"山梨県","身延町","共和村２－１","下向",null,"","",{"$f":"IF(K1643=\"\",\"\",COUNTIF($K$7:K1643,\"ﾘｽﾄ１\"))","v":""},"","","","","","","",{"$f":"IF(S1643=\"\",\"\",COUNTIF($S$7:S1643,\"該当２\"))","v":""},"","",{"$f":"IF(V1643=\"\",\"\",COUNTIF($V$7:V1643,\"該当３\"))","v":""}]
[1936510002,19,{"v":365,"d":"365 "},{"v":10,"d":"10 "},{"v":2,"d":"002 "},"山梨県","身延町","共和村２－１","上向",null,"","",{"$f":"IF(K1644=\"\",\"\",COUNTIF($K$7:K1644,\"ﾘｽﾄ１\"))","v":""},"","","","","","","",{"$f":"IF(S1644=\"\",\"\",COUNTIF($S$7:S1644,\"該当２\"))","v":""},"","",{"$f":"IF(V1644=\"\",\"\",COUNTIF($V$7:V1644,\"該当３\"))","v":""}]
[1936510003,19,{"v":365,"d":"365 "},{"v":10,"d":"10 "},{"v":3,"d":"003 "},"山梨県","身延町","共和村２－１","深町",null,"","",{"$f":"IF(K1645=\"\",\"\",COUNTIF($K$7:K1645,\"ﾘｽﾄ１\"))","v":""},"","","","","","","",{"$f":"IF(S1645=\"\",\"\",COUNTIF($S$7:S1645,\"該当２\"))","v":""},"","",{"$f":"IF(V1645=\"\",\"\",COUNTIF($V$7:V1645,\"該当３\"))","v":""}]
[1936510004,19,{"v":365,"d":"365 "},{"v":10,"d":"10 "},{"v":4,"d":"004 "},"山梨県","身延町","共和村２－１","大谷津，小田原",null,"","",{"$f":"IF(K1646=\"\",\"\",COUNTIF($K$7:K1646,\"ﾘｽﾄ１\"))","v":""},"","","","","","","",{"$f":"IF(S1646=\"\",\"\",COUNTIF($S$7:S1646,\"該当２\"))","v":""},"","",{"$f":"IF(V1646=\"\",\"\",COUNTIF($V$7:V1646,\"該当３\"))","v":""}]
[1936510005,19,{"v":365,"d":"365 "},{"v":10,"d":"10 "},{"v":5,"d":"005 "},"山梨県","身延町","共和村２－１","宮木",null,"","",{"$f":"IF(K1647=\"\",\"\",COUNTIF($K$7:K1647,\"ﾘｽﾄ１\"))","v":""},"","","","","","","",{"$f":"IF(S1647=\"\",\"\",COUNTIF($S$7:S1647,\"該当２\"))","v":""},"","",{"$f":"IF(V1647=\"\",\"\",COUNTIF($V$7:V1647,\"該当３\"))","v":""}]
[1936511000,19,{"v":365,"d":"365 "},{"v":11,"d":"11 "},{"v":0,"d":"000 "},"山梨県","身延町","下九一色村２－２",null,null,"","",{"$f":"IF(K1648=\"\",\"\",COUNTIF($K$7:K1648,\"ﾘｽﾄ１\"))","v":""},"","","","","","","",{"$f":"IF(S1648=\"\",\"\",COUNTIF($S$7:S1648,\"該当２\"))","v":""},"","",{"$f":"IF(V1648=\"\",\"\",COUNTIF($V$7:V1648,\"該当３\"))","v":""}]
[1936511003,19,{"v":365,"d":"365 "},{"v":11,"d":"11 "},{"v":3,"d":"003 "},"山梨県","身延町","下九一色村２－２","八坂",null,"","",{"$f":"IF(K1649=\"\",\"\",COUNTIF($K$7:K1649,\"ﾘｽﾄ１\"))","v":""},"","","","","","","",{"$f":"IF(S1649=\"\",\"\",COUNTIF($S$7:S1649,\"該当２\"))","v":""},"","",{"$f":"IF(V1649=\"\",\"\",COUNTIF($V$7:V1649,\"該当３\"))","v":""}]
[1936511004,19,{"v":365,"d":"365 "},{"v":11,"d":"11 "},{"v":4,"d":"004 "},"山梨県","身延町","下九一色村２－２","折門・御弟子",null,"","",{"$f":"IF(K1650=\"\",\"\",COUNTIF($K$7:K1650,\"ﾘｽﾄ１\"))","v":""},"","","","","","","",{"$f":"IF(S1650=\"\",\"\",COUNTIF($S$7:S1650,\"該当２\"))","v":""},"","",{"$f":"IF(V1650=\"\",\"\",COUNTIF($V$7:V1650,\"該当３\"))","v":""}]
[1936512000,19,{"v":365,"d":"365 "},{"v":12,"d":"12 "},{"v":0,"d":"000 "},"山梨県","身延町","山保村２－２",null,null,"","",{"$f":"IF(K1651=\"\",\"\",COUNTIF($K$7:K1651,\"ﾘｽﾄ１\"))","v":""},"","","","","","","",{"$f":"IF(S1651=\"\",\"\",COUNTIF($S$7:S1651,\"該当２\"))","v":""},"","",{"$f":"IF(V1651=\"\",\"\",COUNTIF($V$7:V1651,\"該当３\"))","v":""}]
[1936512001,19,{"v":365,"d":"365 "},{"v":12,"d":"12 "},{"v":1,"d":"001 "},"山梨県","身延町","山保村２－２","山家",null,"","",{"$f":"IF(K1652=\"\",\"\",COUNTIF($K$7:K1652,\"ﾘｽﾄ１\"))","v":""},"","","","","","","",{"$f":"IF(S1652=\"\",\"\",COUNTIF($S$7:S1652,\"該当２\"))","v":""},"","",{"$f":"IF(V1652=\"\",\"\",COUNTIF($V$7:V1652,\"該当３\"))","v":""}]
[1936512002,19,{"v":365,"d":"365 "},{"v":12,"d":"12 "},{"v":2,"d":"002 "},"山梨県","身延町","山保村２－２","嶺",null,"","",{"$f":"IF(K1653=\"\",\"\",COUNTIF($K$7:K1653,\"ﾘｽﾄ１\"))","v":""},"","","","","","","",{"$f":"IF(S1653=\"\",\"\",COUNTIF($S$7:S1653,\"該当２\"))","v":""},"","",{"$f":"IF(V1653=\"\",\"\",COUNTIF($V$7:V1653,\"該当３\"))","v":""}]
[1936512003,19,{"v":365,"d":"365 "},{"v":12,"d":"12 "},{"v":3,"d":"003 "},"山梨県","身延町","山保村２－２","久保",null,"","",{"$f":"IF(K1654=\"\",\"\",COUNTIF($K$7:K1654,\"ﾘｽﾄ１\"))","v":""},"","","","","","","",{"$f":"IF(S1654=\"\",\"\",COUNTIF($S$7:S1654,\"該当２\"))","v":""},"","",{"$f":"IF(V1654=\"\",\"\",COUNTIF($V$7:V1654,\"該当３\"))","v":""}]
[1936512004,19,{"v":365,"d":"365 "},{"v":12,"d":"12 "},{"v":4,"d":"004 "},"山梨県","身延町","山保村２－２","大山",null,"","",{"$f":"IF(K1655=\"\",\"\",COUNTIF($K$7:K1655,\"ﾘｽﾄ１\"))","v":""},"","","","","","","",{"$f":"IF(S1655=\"\",\"\",COUNTIF($S$7:S1655,\"該当２\"))","v":""},"","",{"$f":"IF(V1655=\"\",\"\",COUNTIF($V$7:V1655,\"該当３\"))","v":""}]
[1936513000,19,{"v":365,"d":"365 "},{"v":13,"d":"13 "},{"v":0,"d":"000 "},"山梨県","身延町","久那土村",null,null,"","",{"$f":"IF(K1656=\"\",\"\",COUNTIF($K$7:K1656,\"ﾘｽﾄ１\"))","v":""},"","","","","","","",{"$f":"IF(S1656=\"\",\"\",COUNTIF($S$7:S1656,\"該当２\"))","v":""},"","",{"$f":"IF(V1656=\"\",\"\",COUNTIF($V$7:V1656,\"該当３\"))","v":""}]
[1936513003,19,{"v":365,"d":"365 "},{"v":13,"d":"13 "},{"v":3,"d":"003 "},"山梨県","身延町","久那土村","大道，割子",null,"","",{"$f":"IF(K1657=\"\",\"\",COUNTIF($K$7:K1657,\"ﾘｽﾄ１\"))","v":""},"","","","","","","",{"$f":"IF(S1657=\"\",\"\",COUNTIF($S$7:S1657,\"該当２\"))","v":""},"","",{"$f":"IF(V1657=\"\",\"\",COUNTIF($V$7:V1657,\"該当３\"))","v":""}]
[1936513004,19,{"v":365,"d":"365 "},{"v":13,"d":"13 "},{"v":4,"d":"004 "},"山梨県","身延町","久那土村","奥杯",null,"","",{"$f":"IF(K1658=\"\",\"\",COUNTIF($K$7:K1658,\"ﾘｽﾄ１\"))","v":""},"","","","","","","",{"$f":"IF(S1658=\"\",\"\",COUNTIF($S$7:S1658,\"該当２\"))","v":""},"","",{"$f":"IF(V1658=\"\",\"\",COUNTIF($V$7:V1658,\"該当３\"))","v":""}]
[1936513005,19,{"v":365,"d":"365 "},{"v":13,"d":"13 "},{"v":5,"d":"005 "},"山梨県","身延町","久那土村","日向，塩貝",null,"","",{"$f":"IF(K1659=\"\",\"\",COUNTIF($K$7:K1659,\"ﾘｽﾄ１\"))","v":""},"","","","","","","",{"$f":"IF(S1659=\"\",\"\",COUNTIF($S$7:S1659,\"該当２\"))","v":""},"","",{"$f":"IF(V1659=\"\",\"\",COUNTIF($V$7:V1659,\"該当３\"))","v":""}]
[1936513006,19,{"v":365,"d":"365 "},{"v":13,"d":"13 "},{"v":6,"d":"006 "},"山梨県","身延町","久那土村","開持",null,"","",{"$f":"IF(K1660=\"\",\"\",COUNTIF($K$7:K1660,\"ﾘｽﾄ１\"))","v":""},"","","","","","","",{"$f":"IF(S1660=\"\",\"\",COUNTIF($S$7:S1660,\"該当２\"))","v":""},"","",{"$f":"IF(V1660=\"\",\"\",COUNTIF($V$7:V1660,\"該当３\"))","v":""}]
[1936513007,19,{"v":365,"d":"365 "},{"v":13,"d":"13 "},{"v":7,"d":"007 "},"山梨県","身延町","久那土村","大草",null,"","",{"$f":"IF(K1661=\"\",\"\",COUNTIF($K$7:K1661,\"ﾘｽﾄ１\"))","v":""},"","","","","","","",{"$f":"IF(S1661=\"\",\"\",COUNTIF($S$7:S1661,\"該当２\"))","v":""},"","",{"$f":"IF(V1661=\"\",\"\",COUNTIF($V$7:V1661,\"該当３\"))","v":""}]
[1936513008,19,{"v":365,"d":"365 "},{"v":13,"d":"13 "},{"v":8,"d":"008 "},"山梨県","身延町","久那土村","樋田",null,"","",{"$f":"IF(K1662=\"\",\"\",COUNTIF($K$7:K1662,\"ﾘｽﾄ１\"))","v":""},"","","","","","","",{"$f":"IF(S1662=\"\",\"\",COUNTIF($S$7:S1662,\"該当２\"))","v":""},"","",{"$f":"IF(V1662=\"\",\"\",COUNTIF($V$7:V1662,\"該当３\"))","v":""}]
[1936513009,19,{"v":365,"d":"365 "},{"v":13,"d":"13 "},{"v":9,"d":"009 "},"山梨県","身延町","久那土村","熊沢",null,"","",{"$f":"IF(K1663=\"\",\"\",COUNTIF($K$7:K1663,\"ﾘｽﾄ１\"))","v":""},"","","","","","","",{"$f":"IF(S1663=\"\",\"\",COUNTIF($S$7:S1663,\"該当２\"))","v":""},"","",{"$f":"IF(V1663=\"\",\"\",COUNTIF($V$7:V1663,\"該当３\"))","v":""}]
[1936513010,19,{"v":365,"d":"365 "},{"v":13,"d":"13 "},{"v":10,"d":"010 "},"山梨県","身延町","久那土村","車田",null,"","",{"$f":"IF(K1664=\"\",\"\",COUNTIF($K$7:K1664,\"ﾘｽﾄ１\"))","v":""},"","","","","","","",{"$f":"IF(S1664=\"\",\"\",COUNTIF($S$7:S1664,\"該当２\"))","v":""},"","",{"$f":"IF(V1664=\"\",\"\",COUNTIF($V$7:V1664,\"該当３\"))","v":""}]
[1936513011,19,{"v":365,"d":"365 "},{"v":13,"d":"13 "},{"v":11,"d":"011 "},"山梨県","身延町","久那土村","切房木",null,"","",{"$f":"IF(K1665=\"\",\"\",COUNTIF($K$7:K1665,\"ﾘｽﾄ１\"))","v":""},"","","","","","","",{"$f":"IF(S1665=\"\",\"\",COUNTIF($S$7:S1665,\"該当２\"))","v":""},"","",{"$f":"IF(V1665=\"\",\"\",COUNTIF($V$7:V1665,\"該当３\"))","v":""}]
[1936513012,19,{"v":365,"d":"365 "},{"v":13,"d":"13 "},{"v":12,"d":"012 "},"山梨県","身延町","久那土村","道",null,"","",{"$f":"IF(K1666=\"\",\"\",COUNTIF($K$7:K1666,\"ﾘｽﾄ１\"))","v":""},"","","","","","","",{"$f":"IF(S1666=\"\",\"\",COUNTIF($S$7:S1666,\"該当２\"))","v":""},"","",{"$f":"IF(V1666=\"\",\"\",COUNTIF($V$7:V1666,\"該当３\"))","v":""}]
[1936513013,19,{"v":365,"d":"365 "},{"v":13,"d":"13 "},{"v":13,"d":"013 "},"山梨県","身延町","久那土村","水船",null,"","",{"$f":"IF(K1667=\"\",\"\",COUNTIF($K$7:K1667,\"ﾘｽﾄ１\"))","v":""},"","","","","","","",{"$f":"IF(S1667=\"\",\"\",COUNTIF($S$7:S1667,\"該当２\"))","v":""},"","",{"$f":"IF(V1667=\"\",\"\",COUNTIF($V$7:V1667,\"該当３\"))","v":""}]
[1936513014,19,{"v":365,"d":"365 "},{"v":13,"d":"13 "},{"v":14,"d":"014 "},"山梨県","身延町","久那土村","芝草",null,"","",{"$f":"IF(K1668=\"\",\"\",COUNTIF($K$7:K1668,\"ﾘｽﾄ１\"))","v":""},"","","","","","","",{"$f":"IF(S1668=\"\",\"\",COUNTIF($S$7:S1668,\"該当２\"))","v":""},"","",{"$f":"IF(V1668=\"\",\"\",COUNTIF($V$7:V1668,\"該当３\"))","v":""}]
[1936513015,19,{"v":365,"d":"365 "},{"v":13,"d":"13 "},{"v":15,"d":"015 "},"山梨県","身延町","久那土村","大石・登組",null,"","",{"$f":"IF(K1669=\"\",\"\",COUNTIF($K$7:K1669,\"ﾘｽﾄ１\"))","v":""},"","","","","","","",{"$f":"IF(S1669=\"\",\"\",COUNTIF($S$7:S1669,\"該当２\"))","v":""},"","",{"$f":"IF(V1669=\"\",\"\",COUNTIF($V$7:V1669,\"該当３\"))","v":""}]
[1936514000,19,{"v":365,"d":"365 "},{"v":14,"d":"14 "},{"v":0,"d":"000 "},"山梨県","身延町","古関村",null,null,"","",{"$f":"IF(K1670=\"\",\"\",COUNTIF($K$7:K1670,\"ﾘｽﾄ１\"))","v":""},"","","","","","","",{"$f":"IF(S1670=\"\",\"\",COUNTIF($S$7:S1670,\"該当２\"))","v":""},"","",{"$f":"IF(V1670=\"\",\"\",COUNTIF($V$7:V1670,\"該当３\"))","v":""}]
[1936514001,19,{"v":365,"d":"365 "},{"v":14,"d":"14 "},{"v":1,"d":"001 "},"山梨県","身延町","古関村","古関",null,"","",{"$f":"IF(K1671=\"\",\"\",COUNTIF($K$7:K1671,\"ﾘｽﾄ１\"))","v":""},"","","","","","","",{"$f":"IF(S1671=\"\",\"\",COUNTIF($S$7:S1671,\"該当２\"))","v":""},"","",{"$f":"IF(V1671=\"\",\"\",COUNTIF($V$7:V1671,\"該当３\"))","v":""}]
[1936514002,19,{"v":365,"d":"365 "},{"v":14,"d":"14 "},{"v":2,"d":"002 "},"山梨県","身延町","古関村","釜額",null,"","",{"$f":"IF(K1672=\"\",\"\",COUNTIF($K$7:K1672,\"ﾘｽﾄ１\"))","v":""},"","","","","","","",{"$f":"IF(S1672=\"\",\"\",COUNTIF($S$7:S1672,\"該当２\"))","v":""},"","",{"$f":"IF(V1672=\"\",\"\",COUNTIF($V$7:V1672,\"該当３\"))","v":""}]
[1936514003,19,{"v":365,"d":"365 "},{"v":14,"d":"14 "},{"v":3,"d":"003 "},"山梨県","身延町","古関村","中ノ倉",null,"","",{"$f":"IF(K1673=\"\",\"\",COUNTIF($K$7:K1673,\"ﾘｽﾄ１\"))","v":""},"","","","","","","",{"$f":"IF(S1673=\"\",\"\",COUNTIF($S$7:S1673,\"該当２\"))","v":""},"","",{"$f":"IF(V1673=\"\",\"\",COUNTIF($V$7:V1673,\"該当３\"))","v":""}]
[1936514004,19,{"v":365,"d":"365 "},{"v":14,"d":"14 "},{"v":4,"d":"004 "},"山梨県","身延町","古関村","瀬戸",null,"","",{"$f":"IF(K1674=\"\",\"\",COUNTIF($K$7:K1674,\"ﾘｽﾄ１\"))","v":""},"","",{"$f":"IF(O1674=\"該当１\",G1674,\"\")","v":""},{"$f":"IF(O1674=\"該当１\",\"ﾘｽﾄ2\",\"\")","v":""},{"$f":"IF(Q1674=\"ﾘｽﾄ2\",H1674,\"\")","v":""},"",{"$f":"IF(S1674=\"該当２\",H1674,\"\")","v":""},{"$f":"IF(S1674=\"\",\"\",COUNTIF($S$7:S1674,\"該当２\"))","v":""},{"$f":"IF(AND($S$2=H1674,E1674>0,E1674<998),\"該当３\",\"\")","v":""},{"$f":"IF(V1674=\"該当３\",I1674,\"\")","v":""},{"$f":"IF(V1674=\"\",\"\",COUNTIF($V$7:V1674,\"該当３\"))","v":""}]
[1936514005,19,{"v":365,"d":"365 "},{"v":14,"d":"14 "},{"v":5,"d":"005 "},"山梨県","身延町","古関村","根子",null,{"$f":"IF(AND($C1675>0,$H1675=\"\"),\"ﾘｽﾄ１\",\"\")","v":""},{"$f":"IF(K1675=\"ﾘｽﾄ１\",G1675,\"\")","v":""},{"$f":"IF(K1675=\"\",\"\",COUNTIF($K$7:K1675,\"ﾘｽﾄ１\"))","v":""},{"$f":"IF(AND(D1675=0,E1675>0),\"同一区\",\"\")","v":""},{"$f":"IF(AND(EXACT($K$2,G1675),H1675>0),\"該当１\",\"\")","v":""},"","","",{"$f":"IF(AND(Q1675=\"ﾘｽﾄ2\",OR(I1675=0,AND(N1675=\"同一区\",E1675=1))),\"該当２\",\"\")","v":""},"",{"$f":"IF(S1675=\"\",\"\",COUNTIF($S$7:S1675,\"該当２\"))","v":""},"","",{"$f":"IF(V1675=\"\",\"\",COUNTIF($V$7:V1675,\"該当３\"))","v":""}]
[1936514008,19,{"v":365,"d":"365 "},{"v":14,"d":"14 "},{"v":8,"d":"008 "},"山梨県","身延町","古関村","丸畑",null,"","",{"$f":"IF(K1676=\"\",\"\",COUNTIF($K$7:K1676,\"ﾘｽﾄ１\"))","v":""},"","","","","","","",{"$f":"IF(S1676=\"\",\"\",COUNTIF($S$7:S1676,\"該当２\"))","v":""},"","",{"$f":"IF(V1676=\"\",\"\",COUNTIF($V$7:V1676,\"該当３\"))","v":""}]
[1936514009,19,{"v":365,"d":"365 "},{"v":14,"d":"14 "},{"v":9,"d":"009 "},"山梨県","身延町","古関村","大磯小磯（１）",null,"","",{"$f":"IF(K1677=\"\",\"\",COUNTIF($K$7:K1677,\"ﾘｽﾄ１\"))","v":""},"","","","","","","",{"$f":"IF(S1677=\"\",\"\",COUNTIF($S$7:S1677,\"該当２\"))","v":""},"","",{"$f":"IF(V1677=\"\",\"\",COUNTIF($V$7:V1677,\"該当３\"))","v":""}]
[1936514010,19,{"v":365,"d":"365 "},{"v":14,"d":"14 "},{"v":10,"d":"010 "},"山梨県","身延町","古関村","大磯小磯（２）",null,"","",{"$f":"IF(K1678=\"\",\"\",COUNTIF($K$7:K1678,\"ﾘｽﾄ１\"))","v":""},"","","","","","","",{"$f":"IF(S1678=\"\",\"\",COUNTIF($S$7:S1678,\"該当２\"))","v":""},"","",{"$f":"IF(V1678=\"\",\"\",COUNTIF($V$7:V1678,\"該当３\"))","v":""}]
[1936515000,19,{"v":365,"d":"365 "},{"v":15,"d":"15 "},{"v":0,"d":"000 "},"山梨県","身延町","富里村",null,null,"","",{"$f":"IF(K1679=\"\",\"\",COUNTIF($K$7:K1679,\"ﾘｽﾄ１\"))","v":""},"","","","","","","",{"$f":"IF(S1679=\"\",\"\",COUNTIF($S$7:S1679,\"該当２\"))","v":""},"","",{"$f":"IF(V1679=\"\",\"\",COUNTIF($V$7:V1679,\"該当３\"))","v":""}]
[1936515001,19,{"v":365,"d":"365 "},{"v":15,"d":"15 "},{"v":1,"d":"001 "},"山梨県","身延町","富里村","清沢",null,"","",{"$f":"IF(K1680=\"\",\"\",COUNTIF($K$7:K1680,\"ﾘｽﾄ１\"))","v":""},"","","","","","","",{"$f":"IF(S1680=\"\",\"\",COUNTIF($S$7:S1680,\"該当２\"))","v":""},"","",{"$f":"IF(V1680=\"\",\"\",COUNTIF($V$7:V1680,\"該当３\"))","v":""}]
[1936515002,19,{"v":365,"d":"365 "},{"v":15,"d":"15 "},{"v":2,"d":"002 "},"山梨県","身延町","富里村","大炊平",null,"","",{"$f":"IF(K1681=\"\",\"\",COUNTIF($K$7:K1681,\"ﾘｽﾄ１\"))","v":""},"","","","","","","",{"$f":"IF(S1681=\"\",\"\",COUNTIF($S$7:S1681,\"該当２\"))","v":""},"","",{"$f":"IF(V1681=\"\",\"\",COUNTIF($V$7:V1681,\"該当３\"))","v":""}]
[1936515003,19,{"v":365,"d":"365 "},{"v":15,"d":"15 "},{"v":3,"d":"003 "},"山梨県","身延町","富里村","岩欠",null,"","",{"$f":"IF(K1682=\"\",\"\",COUNTIF($K$7:K1682,\"ﾘｽﾄ１\"))","v":""},"","","","","","","",{"$f":"IF(S1682=\"\",\"\",COUNTIF($S$7:S1682,\"該当２\"))","v":""},"","",{"$f":"IF(V1682=\"\",\"\",COUNTIF($V$7:V1682,\"該当３\"))","v":""}]
[1936515004,19,{"v":365,"d":"365 "},{"v":15,"d":"15 "},{"v":4,"d":"004 "},"山梨県","身延町","富里村","杉山",null,"","",{"$f":"IF(K1683=\"\",\"\",COUNTIF($K$7:K1683,\"ﾘｽﾄ１\"))","v":""},"","","","","","","",{"$f":"IF(S1683=\"\",\"\",COUNTIF($S$7:S1683,\"該当２\"))","v":""},"","",{"$f":"IF(V1683=\"\",\"\",COUNTIF($V$7:V1683,\"該当３\"))","v":""}]
[1936515005,19,{"v":365,"d":"365 "},{"v":15,"d":"15 "},{"v":5,"d":"005 "},"山梨県","身延町","富里村","和名場",null,"","",{"$f":"IF(K1684=\"\",\"\",COUNTIF($K$7:K1684,\"ﾘｽﾄ１\"))","v":""},"","","","","","","",{"$f":"IF(S1684=\"\",\"\",COUNTIF($S$7:S1684,\"該当２\"))","v":""},"","",{"$f":"IF(V1684=\"\",\"\",COUNTIF($V$7:V1684,\"該当３\"))","v":""}]
[1936515006,19,{"v":365,"d":"365 "},{"v":15,"d":"15 "},{"v":6,"d":"006 "},"山梨県","身延町","富里村","栃代",null,"","",{"$f":"IF(K1685=\"\",\"\",COUNTIF($K$7:K1685,\"ﾘｽﾄ１\"))","v":""},"","","","","","","",{"$f":"IF(S1685=\"\",\"\",COUNTIF($S$7:S1685,\"該当２\"))","v":""},"","",{"$f":"IF(V1685=\"\",\"\",COUNTIF($V$7:V1685,\"該当３\"))","v":""}]
[1936515007,19,{"v":365,"d":"365 "},{"v":15,"d":"15 "},{"v":7,"d":"007 "},"山梨県","身延町","富里村","横手",null,"","",{"$f":"IF(K1686=\"\",\"\",COUNTIF($K$7:K1686,\"ﾘｽﾄ１\"))","v":""},"","","","","","","",{"$f":"IF(S1686=\"\",\"\",COUNTIF($S$7:S1686,\"該当２\"))","v":""},"","",{"$f":"IF(V1686=\"\",\"\",COUNTIF($V$7:V1686,\"該当３\"))","v":""}]
[1936515008,19,{"v":365,"d":"365 "},{"v":15,"d":"15 "},{"v":8,"d":"008 "},"山梨県","身延町","富里村","長塩",null,"","",{"$f":"IF(K1687=\"\",\"\",COUNTIF($K$7:K1687,\"ﾘｽﾄ１\"))","v":""},"","","","","","","",{"$f":"IF(S1687=\"\",\"\",COUNTIF($S$7:S1687,\"該当２\"))","v":""},"","",{"$f":"IF(V1687=\"\",\"\",COUNTIF($V$7:V1687,\"該当３\"))","v":""}]
[1936515009,19,{"v":365,"d":"365 "},{"v":15,"d":"15 "},{"v":9,"d":"009 "},"山梨県","身延町","富里村","北川",null,"","",{"$f":"IF(K1688=\"\",\"\",COUNTIF($K$7:K1688,\"ﾘｽﾄ１\"))","v":""},"","","","","","","",{"$f":"IF(S1688=\"\",\"\",COUNTIF($S$7:S1688,\"該当２\"))","v":""},"","",{"$f":"IF(V1688=\"\",\"\",COUNTIF($V$7:V1688,\"該当３\"))","v":""}]
[1936515010,19,{"v":365,"d":"365 "},{"v":15,"d":"15 "},{"v":10,"d":"010 "},"山梨県","身延町","富里村","市之瀬",null,"","",{"$f":"IF(K1689=\"\",\"\",COUNTIF($K$7:K1689,\"ﾘｽﾄ１\"))","v":""},"","","","","","","",{"$f":"IF(S1689=\"\",\"\",COUNTIF($S$7:S1689,\"該当２\"))","v":""},"","",{"$f":"IF(V1689=\"\",\"\",COUNTIF($V$7:V1689,\"該当３\"))","v":""}]
[1936515011,19,{"v":365,"d":"365 "},{"v":15,"d":"15 "},{"v":11,"d":"011 "},"山梨県","身延町","富里村","境畑，五条",null,"","",{"$f":"IF(K1690=\"\",\"\",COUNTIF($K$7:K1690,\"ﾘｽﾄ１\"))","v":""},"","","","","","","",{"$f":"IF(S1690=\"\",\"\",COUNTIF($S$7:S1690,\"該当２\"))","v":""},"","",{"$f":"IF(V1690=\"\",\"\",COUNTIF($V$7:V1690,\"該当３\"))","v":""}]
[1936515012,19,{"v":365,"d":"365 "},{"v":15,"d":"15 "},{"v":12,"d":"012 "},"山梨県","身延町","富里村","山口",null,"","",{"$f":"IF(K1691=\"\",\"\",COUNTIF($K$7:K1691,\"ﾘｽﾄ１\"))","v":""},"","","","","","","",{"$f":"IF(S1691=\"\",\"\",COUNTIF($S$7:S1691,\"該当２\"))","v":""},"","",{"$f":"IF(V1691=\"\",\"\",COUNTIF($V$7:V1691,\"該当３\"))","v":""}]
[1936515013,19,{"v":365,"d":"365 "},{"v":15,"d":"15 "},{"v":13,"d":"013 "},"山梨県","身延町","富里村","川久保",null,"","",{"$f":"IF(K1692=\"\",\"\",COUNTIF($K$7:K1692,\"ﾘｽﾄ１\"))","v":""},"","","","","","","",{"$f":"IF(S1692=\"\",\"\",COUNTIF($S$7:S1692,\"該当２\"))","v":""},"","",{"$f":"IF(V1692=\"\",\"\",COUNTIF($V$7:V1692,\"該当３\"))","v":""}]
[1936515014,19,{"v":365,"d":"365 "},{"v":15,"d":"15 "},{"v":14,"d":"014 "},"山梨県","身延町","富里村","酒屋中島，昭和組",null,"","",{"$f":"IF(K1693=\"\",\"\",COUNTIF($K$7:K1693,\"ﾘｽﾄ１\"))","v":""},"","","","","","","",{"$f":"IF(S1693=\"\",\"\",COUNTIF($S$7:S1693,\"該当２\"))","v":""},"","",{"$f":"IF(V1693=\"\",\"\",COUNTIF($V$7:V1693,\"該当３\"))","v":""}]
[1936515015,19,{"v":365,"d":"365 "},{"v":15,"d":"15 "},{"v":15,"d":"015 "},"山梨県","身延町","富里村","日向",null,"","",{"$f":"IF(K1694=\"\",\"\",COUNTIF($K$7:K1694,\"ﾘｽﾄ１\"))","v":""},"","","","","","","",{"$f":"IF(S1694=\"\",\"\",COUNTIF($S$7:S1694,\"該当２\"))","v":""},"","",{"$f":"IF(V1694=\"\",\"\",COUNTIF($V$7:V1694,\"該当３\"))","v":""}]
[1936515016,19,{"v":365,"d":"365 "},{"v":15,"d":"15 "},{"v":16,"d":"016 "},"山梨県","身延町","富里村","杉ノ木",null,"","",{"$f":"IF(K1695=\"\",\"\",COUNTIF($K$7:K1695,\"ﾘｽﾄ１\"))","v":""},"","","","","","","",{"$f":"IF(S1695=\"\",\"\",COUNTIF($S$7:S1695,\"該当２\"))","v":""},"","",{"$f":"IF(V1695=\"\",\"\",COUNTIF($V$7:V1695,\"該当３\"))","v":""}]
[1936515017,19,{"v":365,"d":"365 "},{"v":15,"d":"15 "},{"v":17,"d":"017 "},"山梨県","身延町","富里村","出口",null,"","",{"$f":"IF(K1696=\"\",\"\",COUNTIF($K$7:K1696,\"ﾘｽﾄ１\"))","v":""},"","","","","","","",{"$f":"IF(S1696=\"\",\"\",COUNTIF($S$7:S1696,\"該当２\"))","v":""},"","",{"$f":"IF(V1696=\"\",\"\",COUNTIF($V$7:V1696,\"該当３\"))","v":""}]
[1936515018,19,{"v":365,"d":"365 "},{"v":15,"d":"15 "},{"v":18,"d":"018 "},"山梨県","身延町","富里村","竹ノ島",null,"","",{"$f":"IF(K1697=\"\",\"\",COUNTIF($K$7:K1697,\"ﾘｽﾄ１\"))","v":""},"","","","","","","",{"$f":"IF(S1697=\"\",\"\",COUNTIF($S$7:S1697,\"該当２\"))","v":""},"","",{"$f":"IF(V1697=\"\",\"\",COUNTIF($V$7:V1697,\"該当３\"))","v":""}]
[1936515019,19,{"v":365,"d":"365 "},{"v":15,"d":"15 "},{"v":19,"d":"019 "},"山梨県","身延町","富里村","上之平",null,"","",{"$f":"IF(K1698=\"\",\"\",COUNTIF($K$7:K1698,\"ﾘｽﾄ１\"))","v":""},"","","","","","","",{"$f":"IF(S1698=\"\",\"\",COUNTIF($S$7:S1698,\"該当２\"))","v":""},"","",{"$f":"IF(V1698=\"\",\"\",COUNTIF($V$7:V1698,\"該当３\"))","v":""}]
[1936515020,19,{"v":365,"d":"365 "},{"v":15,"d":"15 "},{"v":20,"d":"020 "},"山梨県","身延町","富里村","波高島",null,"","",{"$f":"IF(K1699=\"\",\"\",COUNTIF($K$7:K1699,\"ﾘｽﾄ１\"))","v":""},"","","","","","","",{"$f":"IF(S1699=\"\",\"\",COUNTIF($S$7:S1699,\"該当２\"))","v":""},"","",{"$f":"IF(V1699=\"\",\"\",COUNTIF($V$7:V1699,\"該当３\"))","v":""}]
[1936515021,19,{"v":365,"d":"365 "},{"v":15,"d":"15 "},{"v":21,"d":"021 "},"山梨県","身延町","富里村","下部",null,"","",{"$f":"IF(K1700=\"\",\"\",COUNTIF($K$7:K1700,\"ﾘｽﾄ１\"))","v":""},"","","","","","","",{"$f":"IF(S1700=\"\",\"\",COUNTIF($S$7:S1700,\"該当２\"))","v":""},"","",{"$f":"IF(V1700=\"\",\"\",COUNTIF($V$7:V1700,\"該当３\"))","v":""}]
[1936515022,19,{"v":365,"d":"365 "},{"v":15,"d":"15 "},{"v":22,"d":"022 "},"山梨県","身延町","富里村","湯之奥",null,"","",{"$f":"IF(K1701=\"\",\"\",COUNTIF($K$7:K1701,\"ﾘｽﾄ１\"))","v":""},"","","","","","","",{"$f":"IF(S1701=\"\",\"\",COUNTIF($S$7:S1701,\"該当２\"))","v":""},"","",{"$f":"IF(V1701=\"\",\"\",COUNTIF($V$7:V1701,\"該当３\"))","v":""}]
[1936516000,19,{"v":365,"d":"365 "},{"v":16,"d":"16 "},{"v":0,"d":"000 "},"山梨県","身延町","共和村２－２",null,null,"","",{"$f":"IF(K1702=\"\",\"\",COUNTIF($K$7:K1702,\"ﾘｽﾄ１\"))","v":""},"","","","","","","",{"$f":"IF(S1702=\"\",\"\",COUNTIF($S$7:S1702,\"該当２\"))","v":""},"","",{"$f":"IF(V1702=\"\",\"\",COUNTIF($V$7:V1702,\"該当３\"))","v":""}]
[1936516001,19,{"v":365,"d":"365 "},{"v":16,"d":"16 "},{"v":1,"d":"001 "},"山梨県","身延町","共和村２－２","一色",null,"","",{"$f":"IF(K1703=\"\",\"\",COUNTIF($K$7:K1703,\"ﾘｽﾄ１\"))","v":""},"","","","","","","",{"$f":"IF(S1703=\"\",\"\",COUNTIF($S$7:S1703,\"該当２\"))","v":""},"","",{"$f":"IF(V1703=\"\",\"\",COUNTIF($V$7:V1703,\"該当３\"))","v":""}]
[1936516002,19,{"v":365,"d":"365 "},{"v":16,"d":"16 "},{"v":2,"d":"002 "},"山梨県","身延町","共和村２－２","和平",null,"","",{"$f":"IF(K1704=\"\",\"\",COUNTIF($K$7:K1704,\"ﾘｽﾄ１\"))","v":""},"","","","","","","",{"$f":"IF(S1704=\"\",\"\",COUNTIF($S$7:S1704,\"該当２\"))","v":""},"","",{"$f":"IF(V1704=\"\",\"\",COUNTIF($V$7:V1704,\"該当３\"))","v":""}]
[1936516003,19,{"v":365,"d":"365 "},{"v":16,"d":"16 "},{"v":3,"d":"003 "},"山梨県","身延町","共和村２－２","上田原",null,"","",{"$f":"IF(K1705=\"\",\"\",COUNTIF($K$7:K1705,\"ﾘｽﾄ１\"))","v":""},"","","","","","","",{"$f":"IF(S1705=\"\",\"\",COUNTIF($S$7:S1705,\"該当２\"))","v":""},"","",{"$f":"IF(V1705=\"\",\"\",COUNTIF($V$7:V1705,\"該当３\"))","v":""}]
[1936600000,19,{"v":366,"d":"366 "},{"v":0,"d":"00 "},{"v":0,"d":"000 "},"山梨県","南部町",{"$nulls":3},"ﾘｽﾄ１","南部町",{"$f":"IF(K1706=\"\",\"\",COUNTIF($K$7:K1706,\"ﾘｽﾄ１\"))","v":17},"","","","","","","",{"$f":"IF(S1706=\"\",\"\",COUNTIF($S$7:S1706,\"該当２\"))","v":""},"","",{"$f":"IF(V1706=\"\",\"\",COUNTIF($V$7:V1706,\"該当３\"))","v":""}]
[1936601000,19,{"v":366,"d":"366 "},{"v":1,"d":"01 "},{"v":0,"d":"000 "},"山梨県","南部町","栄村",null,null,"","",{"$f":"IF(K1707=\"\",\"\",COUNTIF($K$7:K1707,\"ﾘｽﾄ１\"))","v":""},"","","","","","","",{"$f":"IF(S1707=\"\",\"\",COUNTIF($S$7:S1707,\"該当２\"))","v":""},"","",{"$f":"IF(V1707=\"\",\"\",COUNTIF($V$7:V1707,\"該当３\"))","v":""}]
[1936601001,19,{"v":366,"d":"366 "},{"v":1,"d":"01 "},{"v":1,"d":"001 "},"山梨県","南部町","栄村","内船上",null,"","",{"$f":"IF(K1708=\"\",\"\",COUNTIF($K$7:K1708,\"ﾘｽﾄ１\"))","v":""},"","","","","","","",{"$f":"IF(S1708=\"\",\"\",COUNTIF($S$7:S1708,\"該当２\"))","v":""},"","",{"$f":"IF(V1708=\"\",\"\",COUNTIF($V$7:V1708,\"該当３\"))","v":""}]
[1936601002,19,{"v":366,"d":"366 "},{"v":1,"d":"01 "},{"v":2,"d":"002 "},"山梨県","南部町","栄村","内船中",null,"","",{"$f":"IF(K1709=\"\",\"\",COUNTIF($K$7:K1709,\"ﾘｽﾄ１\"))","v":""},"","","","","","","",{"$f":"IF(S1709=\"\",\"\",COUNTIF($S$7:S1709,\"該当２\"))","v":""},"","",{"$f":"IF(V1709=\"\",\"\",COUNTIF($V$7:V1709,\"該当３\"))","v":""}]
[1936601003,19,{"v":366,"d":"366 "},{"v":1,"d":"01 "},{"v":3,"d":"003 "},"山梨県","南部町","栄村","内船下",null,"","",{"$f":"IF(K1710=\"\",\"\",COUNTIF($K$7:K1710,\"ﾘｽﾄ１\"))","v":""},"","","","","","","",{"$f":"IF(S1710=\"\",\"\",COUNTIF($S$7:S1710,\"該当２\"))","v":""},"","",{"$f":"IF(V1710=\"\",\"\",COUNTIF($V$7:V1710,\"該当３\"))","v":""}]
[1936601004,19,{"v":366,"d":"366 "},{"v":1,"d":"01 "},{"v":4,"d":"004 "},"山梨県","南部町","栄村","井出",null,"","",{"$f":"IF(K1711=\"\",\"\",COUNTIF($K$7:K1711,\"ﾘｽﾄ１\"))","v":""},"","","","","","","",{"$f":"IF(S1711=\"\",\"\",COUNTIF($S$7:S1711,\"該当２\"))","v":""},"","",{"$f":"IF(V1711=\"\",\"\",COUNTIF($V$7:V1711,\"該当３\"))","v":""}]
[1936601005,19,{"v":366,"d":"366 "},{"v":1,"d":"01 "},{"v":5,"d":"005 "},"山梨県","南部町","栄村","十島",null,"","",{"$f":"IF(K1712=\"\",\"\",COUNTIF($K$7:K1712,\"ﾘｽﾄ１\"))","v":""},"","","","","","","",{"$f":"IF(S1712=\"\",\"\",COUNTIF($S$7:S1712,\"該当２\"))","v":""},"","",{"$f":"IF(V1712=\"\",\"\",COUNTIF($V$7:V1712,\"該当３\"))","v":""}]
[1936601006,19,{"v":366,"d":"366 "},{"v":1,"d":"01 "},{"v":6,"d":"006 "},"山梨県","南部町","栄村","上佐野",null,"","",{"$f":"IF(K1713=\"\",\"\",COUNTIF($K$7:K1713,\"ﾘｽﾄ１\"))","v":""},"","","","","","","",{"$f":"IF(S1713=\"\",\"\",COUNTIF($S$7:S1713,\"該当２\"))","v":""},"","",{"$f":"IF(V1713=\"\",\"\",COUNTIF($V$7:V1713,\"該当３\"))","v":""}]
[1936601007,19,{"v":366,"d":"366 "},{"v":1,"d":"01 "},{"v":7,"d":"007 "},"山梨県","南部町","栄村","下佐野",null,"","",{"$f":"IF(K1714=\"\",\"\",COUNTIF($K$7:K1714,\"ﾘｽﾄ１\"))","v":""},"","","","","","","",{"$f":"IF(S1714=\"\",\"\",COUNTIF($S$7:S1714,\"該当２\"))","v":""},"","",{"$f":"IF(V1714=\"\",\"\",COUNTIF($V$7:V1714,\"該当３\"))","v":""}]
[1936602000,19,{"v":366,"d":"366 "},{"v":2,"d":"02 "},{"v":0,"d":"000 "},"山梨県","南部町","睦合村",null,null,"","",{"$f":"IF(K1715=\"\",\"\",COUNTIF($K$7:K1715,\"ﾘｽﾄ１\"))","v":""},"","","","","","","",{"$f":"IF(S1715=\"\",\"\",COUNTIF($S$7:S1715,\"該当２\"))","v":""},"","",{"$f":"IF(V1715=\"\",\"\",COUNTIF($V$7:V1715,\"該当３\"))","v":""}]
[1936602001,19,{"v":366,"d":"366 "},{"v":2,"d":"02 "},{"v":1,"d":"001 "},"山梨県","南部町","睦合村","本郷",null,"","",{"$f":"IF(K1716=\"\",\"\",COUNTIF($K$7:K1716,\"ﾘｽﾄ１\"))","v":""},"","","","","","","",{"$f":"IF(S1716=\"\",\"\",COUNTIF($S$7:S1716,\"該当２\"))","v":""},"","",{"$f":"IF(V1716=\"\",\"\",COUNTIF($V$7:V1716,\"該当３\"))","v":""}]
[1936602002,19,{"v":366,"d":"366 "},{"v":2,"d":"02 "},{"v":2,"d":"002 "},"山梨県","南部町","睦合村","成島",null,"","",{"$f":"IF(K1717=\"\",\"\",COUNTIF($K$7:K1717,\"ﾘｽﾄ１\"))","v":""},"","","","","","","",{"$f":"IF(S1717=\"\",\"\",COUNTIF($S$7:S1717,\"該当２\"))","v":""},"","",{"$f":"IF(V1717=\"\",\"\",COUNTIF($V$7:V1717,\"該当３\"))","v":""}]
[1936602003,19,{"v":366,"d":"366 "},{"v":2,"d":"02 "},{"v":3,"d":"003 "},"山梨県","南部町","睦合村","中野",null,"","",{"$f":"IF(K1718=\"\",\"\",COUNTIF($K$7:K1718,\"ﾘｽﾄ１\"))","v":""},"","","","","","","",{"$f":"IF(S1718=\"\",\"\",COUNTIF($S$7:S1718,\"該当２\"))","v":""},"","",{"$f":"IF(V1718=\"\",\"\",COUNTIF($V$7:V1718,\"該当３\"))","v":""}]
[1936602004,19,{"v":366,"d":"366 "},{"v":2,"d":"02 "},{"v":4,"d":"004 "},"山梨県","南部町","睦合村","柳島",null,"","",{"$f":"IF(K1719=\"\",\"\",COUNTIF($K$7:K1719,\"ﾘｽﾄ１\"))","v":""},"","","","","","","",{"$f":"IF(S1719=\"\",\"\",COUNTIF($S$7:S1719,\"該当２\"))","v":""},"","",{"$f":"IF(V1719=\"\",\"\",COUNTIF($V$7:V1719,\"該当３\"))","v":""}]
[1936602005,19,{"v":366,"d":"366 "},{"v":2,"d":"02 "},{"v":5,"d":"005 "},"山梨県","南部町","睦合村","南部",null,"","",{"$f":"IF(K1720=\"\",\"\",COUNTIF($K$7:K1720,\"ﾘｽﾄ１\"))","v":""},"","","","","","","",{"$f":"IF(S1720=\"\",\"\",COUNTIF($S$7:S1720,\"該当２\"))","v":""},"","",{"$f":"IF(V1720=\"\",\"\",COUNTIF($V$7:V1720,\"該当３\"))","v":""}]
[1936602006,19,{"v":366,"d":"366 "},{"v":2,"d":"02 "},{"v":6,"d":"006 "},"山梨県","南部町","睦合村","塩沢",null,"","",{"$f":"IF(K1721=\"\",\"\",COUNTIF($K$7:K1721,\"ﾘｽﾄ１\"))","v":""},"","","","","","","",{"$f":"IF(S1721=\"\",\"\",COUNTIF($S$7:S1721,\"該当２\"))","v":""},"","",{"$f":"IF(V1721=\"\",\"\",COUNTIF($V$7:V1721,\"該当３\"))","v":""}]
[1936602007,19,{"v":366,"d":"366 "},{"v":2,"d":"02 "},{"v":7,"d":"007 "},"山梨県","南部町","睦合村","大和",null,"","",{"$f":"IF(K1722=\"\",\"\",COUNTIF($K$7:K1722,\"ﾘｽﾄ１\"))","v":""},"","","","","","","",{"$f":"IF(S1722=\"\",\"\",COUNTIF($S$7:S1722,\"該当２\"))","v":""},"","",{"$f":"IF(V1722=\"\",\"\",COUNTIF($V$7:V1722,\"該当３\"))","v":""}]
[1936603000,19,{"v":366,"d":"366 "},{"v":3,"d":"03 "},{"v":0,"d":"000 "},"山梨県","南部町","富河村",null,null,"","",{"$f":"IF(K1723=\"\",\"\",COUNTIF($K$7:K1723,\"ﾘｽﾄ１\"))","v":""},"","","","","","","",{"$f":"IF(S1723=\"\",\"\",COUNTIF($S$7:S1723,\"該当２\"))","v":""},"","",{"$f":"IF(V1723=\"\",\"\",COUNTIF($V$7:V1723,\"該当３\"))","v":""}]
[1936603001,19,{"v":366,"d":"366 "},{"v":3,"d":"03 "},{"v":1,"d":"001 "},"山梨県","南部町","富河村","馬込",null,"","",{"$f":"IF(K1724=\"\",\"\",COUNTIF($K$7:K1724,\"ﾘｽﾄ１\"))","v":""},"","","","","","","",{"$f":"IF(S1724=\"\",\"\",COUNTIF($S$7:S1724,\"該当２\"))","v":""},"","",{"$f":"IF(V1724=\"\",\"\",COUNTIF($V$7:V1724,\"該当３\"))","v":""}]
[1936603002,19,{"v":366,"d":"366 "},{"v":3,"d":"03 "},{"v":2,"d":"002 "},"山梨県","南部町","富河村","町屋（楮根）",null,"","",{"$f":"IF(K1725=\"\",\"\",COUNTIF($K$7:K1725,\"ﾘｽﾄ１\"))","v":""},"","","","","","","",{"$f":"IF(S1725=\"\",\"\",COUNTIF($S$7:S1725,\"該当２\"))","v":""},"","",{"$f":"IF(V1725=\"\",\"\",COUNTIF($V$7:V1725,\"該当３\"))","v":""}]
[1936603003,19,{"v":366,"d":"366 "},{"v":3,"d":"03 "},{"v":3,"d":"003 "},"山梨県","南部町","富河村","竹ノ花",null,"","",{"$f":"IF(K1726=\"\",\"\",COUNTIF($K$7:K1726,\"ﾘｽﾄ１\"))","v":""},"","","","","","","",{"$f":"IF(S1726=\"\",\"\",COUNTIF($S$7:S1726,\"該当２\"))","v":""},"","",{"$f":"IF(V1726=\"\",\"\",COUNTIF($V$7:V1726,\"該当３\"))","v":""}]
[1936603004,19,{"v":366,"d":"366 "},{"v":3,"d":"03 "},{"v":4,"d":"004 "},"山梨県","南部町","富河村","峯（楮根）",null,"","",{"$f":"IF(K1727=\"\",\"\",COUNTIF($K$7:K1727,\"ﾘｽﾄ１\"))","v":""},"","","","","","","",{"$f":"IF(S1727=\"\",\"\",COUNTIF($S$7:S1727,\"該当２\"))","v":""},"","",{"$f":"IF(V1727=\"\",\"\",COUNTIF($V$7:V1727,\"該当３\"))","v":""}]
[1936603005,19,{"v":366,"d":"366 "},{"v":3,"d":"03 "},{"v":5,"d":"005 "},"山梨県","南部町","富河村","宮原",null,"","",{"$f":"IF(K1728=\"\",\"\",COUNTIF($K$7:K1728,\"ﾘｽﾄ１\"))","v":""},"","","","","","","",{"$f":"IF(S1728=\"\",\"\",COUNTIF($S$7:S1728,\"該当２\"))","v":""},"","",{"$f":"IF(V1728=\"\",\"\",COUNTIF($V$7:V1728,\"該当３\"))","v":""}]
[1936603006,19,{"v":366,"d":"366 "},{"v":3,"d":"03 "},{"v":6,"d":"006 "},"山梨県","南部町","富河村","原戸",null,"","",{"$f":"IF(K1729=\"\",\"\",COUNTIF($K$7:K1729,\"ﾘｽﾄ１\"))","v":""},"","","","","","","",{"$f":"IF(S1729=\"\",\"\",COUNTIF($S$7:S1729,\"該当２\"))","v":""},"","",{"$f":"IF(V1729=\"\",\"\",COUNTIF($V$7:V1729,\"該当３\"))","v":""}]
[1936603007,19,{"v":366,"d":"366 "},{"v":3,"d":"03 "},{"v":7,"d":"007 "},"山梨県","南部町","富河村","真篠",null,"","",{"$f":"IF(K1730=\"\",\"\",COUNTIF($K$7:K1730,\"ﾘｽﾄ１\"))","v":""},"","","","","","","",{"$f":"IF(S1730=\"\",\"\",COUNTIF($S$7:S1730,\"該当２\"))","v":""},"","",{"$f":"IF(V1730=\"\",\"\",COUNTIF($V$7:V1730,\"該当３\"))","v":""}]
[1936603008,19,{"v":366,"d":"366 "},{"v":3,"d":"03 "},{"v":8,"d":"008 "},"山梨県","南部町","富河村","坂下",null,"","",{"$f":"IF(K1731=\"\",\"\",COUNTIF($K$7:K1731,\"ﾘｽﾄ１\"))","v":""},"","","","","","","",{"$f":"IF(S1731=\"\",\"\",COUNTIF($S$7:S1731,\"該当２\"))","v":""},"","",{"$f":"IF(V1731=\"\",\"\",COUNTIF($V$7:V1731,\"該当３\"))","v":""}]
[1936603009,19,{"v":366,"d":"366 "},{"v":3,"d":"03 "},{"v":9,"d":"009 "},"山梨県","南部町","富河村","平",null,"","",{"$f":"IF(K1732=\"\",\"\",COUNTIF($K$7:K1732,\"ﾘｽﾄ１\"))","v":""},"","","","","","","",{"$f":"IF(S1732=\"\",\"\",COUNTIF($S$7:S1732,\"該当２\"))","v":""},"","",{"$f":"IF(V1732=\"\",\"\",COUNTIF($V$7:V1732,\"該当３\"))","v":""}]
[1936603010,19,{"v":366,"d":"366 "},{"v":3,"d":"03 "},{"v":10,"d":"010 "},"山梨県","南部町","富河村","中島",null,"","",{"$f":"IF(K1733=\"\",\"\",COUNTIF($K$7:K1733,\"ﾘｽﾄ１\"))","v":""},"","","","","","","",{"$f":"IF(S1733=\"\",\"\",COUNTIF($S$7:S1733,\"該当２\"))","v":""},"","",{"$f":"IF(V1733=\"\",\"\",COUNTIF($V$7:V1733,\"該当３\"))","v":""}]
[1936603011,19,{"v":366,"d":"366 "},{"v":3,"d":"03 "},{"v":11,"d":"011 "},"山梨県","南部町","富河村","峯（福士）",null,"","",{"$f":"IF(K1734=\"\",\"\",COUNTIF($K$7:K1734,\"ﾘｽﾄ１\"))","v":""},"","","","","","","",{"$f":"IF(S1734=\"\",\"\",COUNTIF($S$7:S1734,\"該当２\"))","v":""},"","",{"$f":"IF(V1734=\"\",\"\",COUNTIF($V$7:V1734,\"該当３\"))","v":""}]
[1936603012,19,{"v":366,"d":"366 "},{"v":3,"d":"03 "},{"v":12,"d":"012 "},"山梨県","南部町","富河村","町屋（福士）",null,"","",{"$f":"IF(K1735=\"\",\"\",COUNTIF($K$7:K1735,\"ﾘｽﾄ１\"))","v":""},"","","","","","","",{"$f":"IF(S1735=\"\",\"\",COUNTIF($S$7:S1735,\"該当２\"))","v":""},"","",{"$f":"IF(V1735=\"\",\"\",COUNTIF($V$7:V1735,\"該当３\"))","v":""}]
[1936603013,19,{"v":366,"d":"366 "},{"v":3,"d":"03 "},{"v":13,"d":"013 "},"山梨県","南部町","富河村","切久保",null,"","",{"$f":"IF(K1736=\"\",\"\",COUNTIF($K$7:K1736,\"ﾘｽﾄ１\"))","v":""},"","","","","","","",{"$f":"IF(S1736=\"\",\"\",COUNTIF($S$7:S1736,\"該当２\"))","v":""},"","",{"$f":"IF(V1736=\"\",\"\",COUNTIF($V$7:V1736,\"該当３\"))","v":""}]
[1936603014,19,{"v":366,"d":"366 "},{"v":3,"d":"03 "},{"v":14,"d":"014 "},"山梨県","南部町","富河村","矢島下",null,"","",{"$f":"IF(K1737=\"\",\"\",COUNTIF($K$7:K1737,\"ﾘｽﾄ１\"))","v":""},"","","","","","","",{"$f":"IF(S1737=\"\",\"\",COUNTIF($S$7:S1737,\"該当２\"))","v":""},"","",{"$f":"IF(V1737=\"\",\"\",COUNTIF($V$7:V1737,\"該当３\"))","v":""}]
[1936603015,19,{"v":366,"d":"366 "},{"v":3,"d":"03 "},{"v":15,"d":"015 "},"山梨県","南部町","富河村","矢島上",null,"","",{"$f":"IF(K1738=\"\",\"\",COUNTIF($K$7:K1738,\"ﾘｽﾄ１\"))","v":""},"","",{"$f":"IF(O1738=\"該当１\",G1738,\"\")","v":""},{"$f":"IF(O1738=\"該当１\",\"ﾘｽﾄ2\",\"\")","v":""},{"$f":"IF(Q1738=\"ﾘｽﾄ2\",H1738,\"\")","v":""},"",{"$f":"IF(S1738=\"該当２\",H1738,\"\")","v":""},{"$f":"IF(S1738=\"\",\"\",COUNTIF($S$7:S1738,\"該当２\"))","v":""},{"$f":"IF(AND($S$2=H1738,E1738>0,E1738<998),\"該当３\",\"\")","v":""},{"$f":"IF(V1738=\"該当３\",I1738,\"\")","v":""},{"$f":"IF(V1738=\"\",\"\",COUNTIF($V$7:V1738,\"該当３\"))","v":""}]
[1936603016,19,{"v":366,"d":"366 "},{"v":3,"d":"03 "},{"v":16,"d":"016 "},"山梨県","南部町","富河村","東市組",null,{"$f":"IF(AND($C1739>0,$H1739=\"\"),\"ﾘｽﾄ１\",\"\")","v":""},{"$f":"IF(K1739=\"ﾘｽﾄ１\",G1739,\"\")","v":""},{"$f":"IF(K1739=\"\",\"\",COUNTIF($K$7:K1739,\"ﾘｽﾄ１\"))","v":""},{"$f":"IF(AND(D1739=0,E1739>0),\"同一区\",\"\")","v":""},{"$f":"IF(AND(EXACT($K$2,G1739),H1739>0),\"該当１\",\"\")","v":""},"","","",{"$f":"IF(AND(Q1739=\"ﾘｽﾄ2\",OR(I1739=0,AND(N1739=\"同一区\",E1739=1))),\"該当２\",\"\")","v":""},"",{"$f":"IF(S1739=\"\",\"\",COUNTIF($S$7:S1739,\"該当２\"))","v":""},"","",{"$f":"IF(V1739=\"\",\"\",COUNTIF($V$7:V1739,\"該当３\"))","v":""}]
[1936603017,19,{"v":366,"d":"366 "},{"v":3,"d":"03 "},{"v":17,"d":"017 "},"山梨県","南部町","富河村","西市組",null,"","",{"$f":"IF(K1740=\"\",\"\",COUNTIF($K$7:K1740,\"ﾘｽﾄ１\"))","v":""},"","","","","","","",{"$f":"IF(S1740=\"\",\"\",COUNTIF($S$7:S1740,\"該当２\"))","v":""},"","",{"$f":"IF(V1740=\"\",\"\",COUNTIF($V$7:V1740,\"該当３\"))","v":""}]
[1936603018,19,{"v":366,"d":"366 "},{"v":3,"d":"03 "},{"v":18,"d":"018 "},"山梨県","南部町","富河村","竹ノ沢",null,"","",{"$f":"IF(K1741=\"\",\"\",COUNTIF($K$7:K1741,\"ﾘｽﾄ１\"))","v":""},"","","","","","","",{"$f":"IF(S1741=\"\",\"\",COUNTIF($S$7:S1741,\"該当２\"))","v":""},"","",{"$f":"IF(V1741=\"\",\"\",COUNTIF($V$7:V1741,\"該当３\"))","v":""}]
[1936603019,19,{"v":366,"d":"366 "},{"v":3,"d":"03 "},{"v":19,"d":"019 "},"山梨県","南部町","富河村","東根熊",null,"","",{"$f":"IF(K1742=\"\",\"\",COUNTIF($K$7:K1742,\"ﾘｽﾄ１\"))","v":""},"","","","","","","",{"$f":"IF(S1742=\"\",\"\",COUNTIF($S$7:S1742,\"該当２\"))","v":""},"","",{"$f":"IF(V1742=\"\",\"\",COUNTIF($V$7:V1742,\"該当３\"))","v":""}]
[1936603020,19,{"v":366,"d":"366 "},{"v":3,"d":"03 "},{"v":20,"d":"020 "},"山梨県","南部町","富河村","西根熊",null,"","",{"$f":"IF(K1743=\"\",\"\",COUNTIF($K$7:K1743,\"ﾘｽﾄ１\"))","v":""},"","","","","","","",{"$f":"IF(S1743=\"\",\"\",COUNTIF($S$7:S1743,\"該当２\"))","v":""},"","",{"$f":"IF(V1743=\"\",\"\",COUNTIF($V$7:V1743,\"該当３\"))","v":""}]
[1936603021,19,{"v":366,"d":"366 "},{"v":3,"d":"03 "},{"v":21,"d":"021 "},"山梨県","南部町","富河村","坂本",null,"","",{"$f":"IF(K1744=\"\",\"\",COUNTIF($K$7:K1744,\"ﾘｽﾄ１\"))","v":""},"","","","","","","",{"$f":"IF(S1744=\"\",\"\",COUNTIF($S$7:S1744,\"該当２\"))","v":""},"","",{"$f":"IF(V1744=\"\",\"\",COUNTIF($V$7:V1744,\"該当３\"))","v":""}]
[1936603022,19,{"v":366,"d":"366 "},{"v":3,"d":"03 "},{"v":22,"d":"022 "},"山梨県","南部町","富河村","向田",null,"","",{"$f":"IF(K1745=\"\",\"\",COUNTIF($K$7:K1745,\"ﾘｽﾄ１\"))","v":""},"","","","","","","",{"$f":"IF(S1745=\"\",\"\",COUNTIF($S$7:S1745,\"該当２\"))","v":""},"","",{"$f":"IF(V1745=\"\",\"\",COUNTIF($V$7:V1745,\"該当３\"))","v":""}]
[1936603023,19,{"v":366,"d":"366 "},{"v":3,"d":"03 "},{"v":23,"d":"023 "},"山梨県","南部町","富河村","鯨野",null,"","",{"$f":"IF(K1746=\"\",\"\",COUNTIF($K$7:K1746,\"ﾘｽﾄ１\"))","v":""},"","","","","","","",{"$f":"IF(S1746=\"\",\"\",COUNTIF($S$7:S1746,\"該当２\"))","v":""},"","",{"$f":"IF(V1746=\"\",\"\",COUNTIF($V$7:V1746,\"該当３\"))","v":""}]
[1936603024,19,{"v":366,"d":"366 "},{"v":3,"d":"03 "},{"v":24,"d":"024 "},"山梨県","南部町","富河村","市小路",null,"","",{"$f":"IF(K1747=\"\",\"\",COUNTIF($K$7:K1747,\"ﾘｽﾄ１\"))","v":""},"","","","","","","",{"$f":"IF(S1747=\"\",\"\",COUNTIF($S$7:S1747,\"該当２\"))","v":""},"","",{"$f":"IF(V1747=\"\",\"\",COUNTIF($V$7:V1747,\"該当３\"))","v":""}]
[1936603025,19,{"v":366,"d":"366 "},{"v":3,"d":"03 "},{"v":25,"d":"025 "},"山梨県","南部町","富河村","御堂下",null,"","",{"$f":"IF(K1748=\"\",\"\",COUNTIF($K$7:K1748,\"ﾘｽﾄ１\"))","v":""},"","","","","","","",{"$f":"IF(S1748=\"\",\"\",COUNTIF($S$7:S1748,\"該当２\"))","v":""},"","",{"$f":"IF(V1748=\"\",\"\",COUNTIF($V$7:V1748,\"該当３\"))","v":""}]
[1936603026,19,{"v":366,"d":"366 "},{"v":3,"d":"03 "},{"v":26,"d":"026 "},"山梨県","南部町","富河村","御堂上",null,"","",{"$f":"IF(K1749=\"\",\"\",COUNTIF($K$7:K1749,\"ﾘｽﾄ１\"))","v":""},"","","","","","","",{"$f":"IF(S1749=\"\",\"\",COUNTIF($S$7:S1749,\"該当２\"))","v":""},"","",{"$f":"IF(V1749=\"\",\"\",COUNTIF($V$7:V1749,\"該当３\"))","v":""}]
[1936603027,19,{"v":366,"d":"366 "},{"v":3,"d":"03 "},{"v":27,"d":"027 "},"山梨県","南部町","富河村","石合",null,"","",{"$f":"IF(K1750=\"\",\"\",COUNTIF($K$7:K1750,\"ﾘｽﾄ１\"))","v":""},"","","","","","","",{"$f":"IF(S1750=\"\",\"\",COUNTIF($S$7:S1750,\"該当２\"))","v":""},"","",{"$f":"IF(V1750=\"\",\"\",COUNTIF($V$7:V1750,\"該当３\"))","v":""}]
[1936603028,19,{"v":366,"d":"366 "},{"v":3,"d":"03 "},{"v":28,"d":"028 "},"山梨県","南部町","富河村","下村",null,"","",{"$f":"IF(K1751=\"\",\"\",COUNTIF($K$7:K1751,\"ﾘｽﾄ１\"))","v":""},"","","","","","","",{"$f":"IF(S1751=\"\",\"\",COUNTIF($S$7:S1751,\"該当２\"))","v":""},"","",{"$f":"IF(V1751=\"\",\"\",COUNTIF($V$7:V1751,\"該当３\"))","v":""}]
[1936603029,19,{"v":366,"d":"366 "},{"v":3,"d":"03 "},{"v":29,"d":"029 "},"山梨県","南部町","富河村","南又",null,"","",{"$f":"IF(K1752=\"\",\"\",COUNTIF($K$7:K1752,\"ﾘｽﾄ１\"))","v":""},"","","","","","","",{"$f":"IF(S1752=\"\",\"\",COUNTIF($S$7:S1752,\"該当２\"))","v":""},"","",{"$f":"IF(V1752=\"\",\"\",COUNTIF($V$7:V1752,\"該当３\"))","v":""}]
[1936603030,19,{"v":366,"d":"366 "},{"v":3,"d":"03 "},{"v":30,"d":"030 "},"山梨県","南部町","富河村","上村",null,"","",{"$f":"IF(K1753=\"\",\"\",COUNTIF($K$7:K1753,\"ﾘｽﾄ１\"))","v":""},"","","","","","","",{"$f":"IF(S1753=\"\",\"\",COUNTIF($S$7:S1753,\"該当２\"))","v":""},"","",{"$f":"IF(V1753=\"\",\"\",COUNTIF($V$7:V1753,\"該当３\"))","v":""}]
[1936603031,19,{"v":366,"d":"366 "},{"v":3,"d":"03 "},{"v":31,"d":"031 "},"山梨県","南部町","富河村","上徳間",null,"","",{"$f":"IF(K1754=\"\",\"\",COUNTIF($K$7:K1754,\"ﾘｽﾄ１\"))","v":""},"","","","","","","",{"$f":"IF(S1754=\"\",\"\",COUNTIF($S$7:S1754,\"該当２\"))","v":""},"","",{"$f":"IF(V1754=\"\",\"\",COUNTIF($V$7:V1754,\"該当３\"))","v":""}]
[1936604000,19,{"v":366,"d":"366 "},{"v":4,"d":"04 "},{"v":0,"d":"000 "},"山梨県","南部町","萬沢村",null,null,"","",{"$f":"IF(K1755=\"\",\"\",COUNTIF($K$7:K1755,\"ﾘｽﾄ１\"))","v":""},"","","","","","","",{"$f":"IF(S1755=\"\",\"\",COUNTIF($S$7:S1755,\"該当２\"))","v":""},"","",{"$f":"IF(V1755=\"\",\"\",COUNTIF($V$7:V1755,\"該当３\"))","v":""}]
[1936604001,19,{"v":366,"d":"366 "},{"v":4,"d":"04 "},{"v":1,"d":"001 "},"山梨県","南部町","萬沢村","増野",null,"","",{"$f":"IF(K1756=\"\",\"\",COUNTIF($K$7:K1756,\"ﾘｽﾄ１\"))","v":""},"","","","","","","",{"$f":"IF(S1756=\"\",\"\",COUNTIF($S$7:S1756,\"該当２\"))","v":""},"","",{"$f":"IF(V1756=\"\",\"\",COUNTIF($V$7:V1756,\"該当３\"))","v":""}]
[1936604002,19,{"v":366,"d":"366 "},{"v":4,"d":"04 "},{"v":2,"d":"002 "},"山梨県","南部町","萬沢村","西行",null,"","",{"$f":"IF(K1757=\"\",\"\",COUNTIF($K$7:K1757,\"ﾘｽﾄ１\"))","v":""},"","","","","","","",{"$f":"IF(S1757=\"\",\"\",COUNTIF($S$7:S1757,\"該当２\"))","v":""},"","",{"$f":"IF(V1757=\"\",\"\",COUNTIF($V$7:V1757,\"該当３\"))","v":""}]
[1936604003,19,{"v":366,"d":"366 "},{"v":4,"d":"04 "},{"v":3,"d":"003 "},"山梨県","南部町","萬沢村","越渡",null,"","",{"$f":"IF(K1758=\"\",\"\",COUNTIF($K$7:K1758,\"ﾘｽﾄ１\"))","v":""},"","","","","","","",{"$f":"IF(S1758=\"\",\"\",COUNTIF($S$7:S1758,\"該当２\"))","v":""},"","",{"$f":"IF(V1758=\"\",\"\",COUNTIF($V$7:V1758,\"該当３\"))","v":""}]
[1936604004,19,{"v":366,"d":"366 "},{"v":4,"d":"04 "},{"v":4,"d":"004 "},"山梨県","南部町","萬沢村","横沢",null,"","",{"$f":"IF(K1759=\"\",\"\",COUNTIF($K$7:K1759,\"ﾘｽﾄ１\"))","v":""},"","","","","","","",{"$f":"IF(S1759=\"\",\"\",COUNTIF($S$7:S1759,\"該当２\"))","v":""},"","",{"$f":"IF(V1759=\"\",\"\",COUNTIF($V$7:V1759,\"該当３\"))","v":""}]
[1936604005,19,{"v":366,"d":"366 "},{"v":4,"d":"04 "},{"v":5,"d":"005 "},"山梨県","南部町","萬沢村","上代",null,"","",{"$f":"IF(K1760=\"\",\"\",COUNTIF($K$7:K1760,\"ﾘｽﾄ１\"))","v":""},"","","","","","","",{"$f":"IF(S1760=\"\",\"\",COUNTIF($S$7:S1760,\"該当２\"))","v":""},"","",{"$f":"IF(V1760=\"\",\"\",COUNTIF($V$7:V1760,\"該当３\"))","v":""}]
[1936604006,19,{"v":366,"d":"366 "},{"v":4,"d":"04 "},{"v":6,"d":"006 "},"山梨県","南部町","萬沢村","御屋敷",null,"","",{"$f":"IF(K1761=\"\",\"\",COUNTIF($K$7:K1761,\"ﾘｽﾄ１\"))","v":""},"","","","","","","",{"$f":"IF(S1761=\"\",\"\",COUNTIF($S$7:S1761,\"該当２\"))","v":""},"","",{"$f":"IF(V1761=\"\",\"\",COUNTIF($V$7:V1761,\"該当３\"))","v":""}]
[1936604007,19,{"v":366,"d":"366 "},{"v":4,"d":"04 "},{"v":7,"d":"007 "},"山梨県","南部町","萬沢村","上宿",null,"","",{"$f":"IF(K1762=\"\",\"\",COUNTIF($K$7:K1762,\"ﾘｽﾄ１\"))","v":""},"","","","","","","",{"$f":"IF(S1762=\"\",\"\",COUNTIF($S$7:S1762,\"該当２\"))","v":""},"","",{"$f":"IF(V1762=\"\",\"\",COUNTIF($V$7:V1762,\"該当３\"))","v":""}]
[1936604008,19,{"v":366,"d":"366 "},{"v":4,"d":"04 "},{"v":8,"d":"008 "},"山梨県","南部町","萬沢村","下宿",null,"","",{"$f":"IF(K1763=\"\",\"\",COUNTIF($K$7:K1763,\"ﾘｽﾄ１\"))","v":""},"","","","","","","",{"$f":"IF(S1763=\"\",\"\",COUNTIF($S$7:S1763,\"該当２\"))","v":""},"","",{"$f":"IF(V1763=\"\",\"\",COUNTIF($V$7:V1763,\"該当３\"))","v":""}]
[1936604009,19,{"v":366,"d":"366 "},{"v":4,"d":"04 "},{"v":9,"d":"009 "},"山梨県","南部町","萬沢村","平山",null,"","",{"$f":"IF(K1764=\"\",\"\",COUNTIF($K$7:K1764,\"ﾘｽﾄ１\"))","v":""},"","","","","","","",{"$f":"IF(S1764=\"\",\"\",COUNTIF($S$7:S1764,\"該当２\"))","v":""},"","",{"$f":"IF(V1764=\"\",\"\",COUNTIF($V$7:V1764,\"該当３\"))","v":""}]
[1936604010,19,{"v":366,"d":"366 "},{"v":4,"d":"04 "},{"v":10,"d":"010 "},"山梨県","南部町","萬沢村","小葉山",null,"","",{"$f":"IF(K1765=\"\",\"\",COUNTIF($K$7:K1765,\"ﾘｽﾄ１\"))","v":""},"","","","","","","",{"$f":"IF(S1765=\"\",\"\",COUNTIF($S$7:S1765,\"該当２\"))","v":""},"","",{"$f":"IF(V1765=\"\",\"\",COUNTIF($V$7:V1765,\"該当３\"))","v":""}]
[1936604011,19,{"v":366,"d":"366 "},{"v":4,"d":"04 "},{"v":11,"d":"011 "},"山梨県","南部町","萬沢村","松山",null,"","",{"$f":"IF(K1766=\"\",\"\",COUNTIF($K$7:K1766,\"ﾘｽﾄ１\"))","v":""},"","","","","","","",{"$f":"IF(S1766=\"\",\"\",COUNTIF($S$7:S1766,\"該当２\"))","v":""},"","",{"$f":"IF(V1766=\"\",\"\",COUNTIF($V$7:V1766,\"該当３\"))","v":""}]
[1936604012,19,{"v":366,"d":"366 "},{"v":4,"d":"04 "},{"v":12,"d":"012 "},"山梨県","南部町","萬沢村","沢上",null,"","",{"$f":"IF(K1767=\"\",\"\",COUNTIF($K$7:K1767,\"ﾘｽﾄ１\"))","v":""},"","","","","","","",{"$f":"IF(S1767=\"\",\"\",COUNTIF($S$7:S1767,\"該当２\"))","v":""},"","",{"$f":"IF(V1767=\"\",\"\",COUNTIF($V$7:V1767,\"該当３\"))","v":""}]
[1936604013,19,{"v":366,"d":"366 "},{"v":4,"d":"04 "},{"v":13,"d":"013 "},"山梨県","南部町","萬沢村","登尾",null,"","",{"$f":"IF(K1768=\"\",\"\",COUNTIF($K$7:K1768,\"ﾘｽﾄ１\"))","v":""},"","","","","","","",{"$f":"IF(S1768=\"\",\"\",COUNTIF($S$7:S1768,\"該当２\"))","v":""},"","",{"$f":"IF(V1768=\"\",\"\",COUNTIF($V$7:V1768,\"該当３\"))","v":""}]
[1936604014,19,{"v":366,"d":"366 "},{"v":4,"d":"04 "},{"v":14,"d":"014 "},"山梨県","南部町","萬沢村","大城",null,"","",{"$f":"IF(K1769=\"\",\"\",COUNTIF($K$7:K1769,\"ﾘｽﾄ１\"))","v":""},"","","","","","","",{"$f":"IF(S1769=\"\",\"\",COUNTIF($S$7:S1769,\"該当２\"))","v":""},"","",{"$f":"IF(V1769=\"\",\"\",COUNTIF($V$7:V1769,\"該当３\"))","v":""}]
[1936604015,19,{"v":366,"d":"366 "},{"v":4,"d":"04 "},{"v":15,"d":"015 "},"山梨県","南部町","萬沢村","杉山",null,"","",{"$f":"IF(K1770=\"\",\"\",COUNTIF($K$7:K1770,\"ﾘｽﾄ１\"))","v":""},"","","","","","","",{"$f":"IF(S1770=\"\",\"\",COUNTIF($S$7:S1770,\"該当２\"))","v":""},"","",{"$f":"IF(V1770=\"\",\"\",COUNTIF($V$7:V1770,\"該当３\"))","v":""}]
[1936604016,19,{"v":366,"d":"366 "},{"v":4,"d":"04 "},{"v":16,"d":"016 "},"山梨県","南部町","萬沢村","梅島",null,"","",{"$f":"IF(K1771=\"\",\"\",COUNTIF($K$7:K1771,\"ﾘｽﾄ１\"))","v":""},"","","","","","","",{"$f":"IF(S1771=\"\",\"\",COUNTIF($S$7:S1771,\"該当２\"))","v":""},"","",{"$f":"IF(V1771=\"\",\"\",COUNTIF($V$7:V1771,\"該当３\"))","v":""}]
[1936604017,19,{"v":366,"d":"366 "},{"v":4,"d":"04 "},{"v":17,"d":"017 "},"山梨県","南部町","萬沢村","中沢",null,"","",{"$f":"IF(K1772=\"\",\"\",COUNTIF($K$7:K1772,\"ﾘｽﾄ１\"))","v":""},"","","","","","","",{"$f":"IF(S1772=\"\",\"\",COUNTIF($S$7:S1772,\"該当２\"))","v":""},"","",{"$f":"IF(V1772=\"\",\"\",COUNTIF($V$7:V1772,\"該当３\"))","v":""}]
[1936604018,19,{"v":366,"d":"366 "},{"v":4,"d":"04 "},{"v":18,"d":"018 "},"山梨県","南部町","萬沢村","日向",null,"","",{"$f":"IF(K1773=\"\",\"\",COUNTIF($K$7:K1773,\"ﾘｽﾄ１\"))","v":""},"","","","","","","",{"$f":"IF(S1773=\"\",\"\",COUNTIF($S$7:S1773,\"該当２\"))","v":""},"","",{"$f":"IF(V1773=\"\",\"\",COUNTIF($V$7:V1773,\"該当３\"))","v":""}]
[1936604019,19,{"v":366,"d":"366 "},{"v":4,"d":"04 "},{"v":19,"d":"019 "},"山梨県","南部町","萬沢村","屋敷平",null,"","",{"$f":"IF(K1774=\"\",\"\",COUNTIF($K$7:K1774,\"ﾘｽﾄ１\"))","v":""},"","","","","","","",{"$f":"IF(S1774=\"\",\"\",COUNTIF($S$7:S1774,\"該当２\"))","v":""},"","",{"$f":"IF(V1774=\"\",\"\",COUNTIF($V$7:V1774,\"該当３\"))","v":""}]
[1936800000,19,{"v":368,"d":"368 "},{"v":0,"d":"00 "},{"v":0,"d":"000 "},"山梨県","富士川町",{"$nulls":3},"ﾘｽﾄ１","富士川町",{"$f":"IF(K1775=\"\",\"\",COUNTIF($K$7:K1775,\"ﾘｽﾄ１\"))","v":18},"","","","","","","",{"$f":"IF(S1775=\"\",\"\",COUNTIF($S$7:S1775,\"該当２\"))","v":""},"","",{"$f":"IF(V1775=\"\",\"\",COUNTIF($V$7:V1775,\"該当３\"))","v":""}]
[1936801000,19,{"v":368,"d":"368 "},{"v":1,"d":"01 "},{"v":0,"d":"000 "},"山梨県","富士川町","増穂村",null,null,"","",{"$f":"IF(K1776=\"\",\"\",COUNTIF($K$7:K1776,\"ﾘｽﾄ１\"))","v":""},"","","","","","","",{"$f":"IF(S1776=\"\",\"\",COUNTIF($S$7:S1776,\"該当２\"))","v":""},"","",{"$f":"IF(V1776=\"\",\"\",COUNTIF($V$7:V1776,\"該当３\"))","v":""}]
[1936801001,19,{"v":368,"d":"368 "},{"v":1,"d":"01 "},{"v":1,"d":"001 "},"山梨県","富士川町","増穂村","最勝寺",null,"","",{"$f":"IF(K1777=\"\",\"\",COUNTIF($K$7:K1777,\"ﾘｽﾄ１\"))","v":""},"","","","","","","",{"$f":"IF(S1777=\"\",\"\",COUNTIF($S$7:S1777,\"該当２\"))","v":""},"","",{"$f":"IF(V1777=\"\",\"\",COUNTIF($V$7:V1777,\"該当３\"))","v":""}]
[1936801002,19,{"v":368,"d":"368 "},{"v":1,"d":"01 "},{"v":2,"d":"002 "},"山梨県","富士川町","増穂村","天神中条",null,"","",{"$f":"IF(K1778=\"\",\"\",COUNTIF($K$7:K1778,\"ﾘｽﾄ１\"))","v":""},"","","","","","","",{"$f":"IF(S1778=\"\",\"\",COUNTIF($S$7:S1778,\"該当２\"))","v":""},"","",{"$f":"IF(V1778=\"\",\"\",COUNTIF($V$7:V1778,\"該当３\"))","v":""}]
[1936801003,19,{"v":368,"d":"368 "},{"v":1,"d":"01 "},{"v":3,"d":"003 "},"山梨県","富士川町","増穂村","大久保",null,"","",{"$f":"IF(K1779=\"\",\"\",COUNTIF($K$7:K1779,\"ﾘｽﾄ１\"))","v":""},"","","","","","","",{"$f":"IF(S1779=\"\",\"\",COUNTIF($S$7:S1779,\"該当２\"))","v":""},"","",{"$f":"IF(V1779=\"\",\"\",COUNTIF($V$7:V1779,\"該当３\"))","v":""}]
[1936801004,19,{"v":368,"d":"368 "},{"v":1,"d":"01 "},{"v":4,"d":"004 "},"山梨県","富士川町","増穂村","舂米",null,"","",{"$f":"IF(K1780=\"\",\"\",COUNTIF($K$7:K1780,\"ﾘｽﾄ１\"))","v":""},"","","","","","","",{"$f":"IF(S1780=\"\",\"\",COUNTIF($S$7:S1780,\"該当２\"))","v":""},"","",{"$f":"IF(V1780=\"\",\"\",COUNTIF($V$7:V1780,\"該当３\"))","v":""}]
[1936801005,19,{"v":368,"d":"368 "},{"v":1,"d":"01 "},{"v":5,"d":"005 "},"山梨県","富士川町","増穂村","小林",null,"","",{"$f":"IF(K1781=\"\",\"\",COUNTIF($K$7:K1781,\"ﾘｽﾄ１\"))","v":""},"","","","","","","",{"$f":"IF(S1781=\"\",\"\",COUNTIF($S$7:S1781,\"該当２\"))","v":""},"","",{"$f":"IF(V1781=\"\",\"\",COUNTIF($V$7:V1781,\"該当３\"))","v":""}]
[1936801006,19,{"v":368,"d":"368 "},{"v":1,"d":"01 "},{"v":6,"d":"006 "},"山梨県","富士川町","増穂村","大椚",null,"","",{"$f":"IF(K1782=\"\",\"\",COUNTIF($K$7:K1782,\"ﾘｽﾄ１\"))","v":""},"","","","","","","",{"$f":"IF(S1782=\"\",\"\",COUNTIF($S$7:S1782,\"該当２\"))","v":""},"","",{"$f":"IF(V1782=\"\",\"\",COUNTIF($V$7:V1782,\"該当３\"))","v":""}]
[1936801007,19,{"v":368,"d":"368 "},{"v":1,"d":"01 "},{"v":7,"d":"007 "},"山梨県","富士川町","増穂村","長沢",null,"","",{"$f":"IF(K1783=\"\",\"\",COUNTIF($K$7:K1783,\"ﾘｽﾄ１\"))","v":""},"","","","","","","",{"$f":"IF(S1783=\"\",\"\",COUNTIF($S$7:S1783,\"該当２\"))","v":""},"","",{"$f":"IF(V1783=\"\",\"\",COUNTIF($V$7:V1783,\"該当３\"))","v":""}]
[1936801008,19,{"v":368,"d":"368 "},{"v":1,"d":"01 "},{"v":8,"d":"008 "},"山梨県","富士川町","増穂村","青柳町",null,"","",{"$f":"IF(K1784=\"\",\"\",COUNTIF($K$7:K1784,\"ﾘｽﾄ１\"))","v":""},"","","","","","","",{"$f":"IF(S1784=\"\",\"\",COUNTIF($S$7:S1784,\"該当２\"))","v":""},"","",{"$f":"IF(V1784=\"\",\"\",COUNTIF($V$7:V1784,\"該当３\"))","v":""}]
[1936802000,19,{"v":368,"d":"368 "},{"v":2,"d":"02 "},{"v":0,"d":"000 "},"山梨県","富士川町","平林村",null,null,"","",{"$f":"IF(K1785=\"\",\"\",COUNTIF($K$7:K1785,\"ﾘｽﾄ１\"))","v":""},"","","","","","","",{"$f":"IF(S1785=\"\",\"\",COUNTIF($S$7:S1785,\"該当２\"))","v":""},"","",{"$f":"IF(V1785=\"\",\"\",COUNTIF($V$7:V1785,\"該当３\"))","v":""}]
[1936802001,19,{"v":368,"d":"368 "},{"v":2,"d":"02 "},{"v":1,"d":"001 "},"山梨県","富士川町","平林村","久保平、南平、馬取沢、上久保",null,"","",{"$f":"IF(K1786=\"\",\"\",COUNTIF($K$7:K1786,\"ﾘｽﾄ１\"))","v":""},"","","","","","","",{"$f":"IF(S1786=\"\",\"\",COUNTIF($S$7:S1786,\"該当２\"))","v":""},"","",{"$f":"IF(V1786=\"\",\"\",COUNTIF($V$7:V1786,\"該当３\"))","v":""}]
[1936802002,19,{"v":368,"d":"368 "},{"v":2,"d":"02 "},{"v":2,"d":"002 "},"山梨県","富士川町","平林村","楮畠，忍沢，栃久保",null,"","",{"$f":"IF(K1787=\"\",\"\",COUNTIF($K$7:K1787,\"ﾘｽﾄ１\"))","v":""},"","","","","","","",{"$f":"IF(S1787=\"\",\"\",COUNTIF($S$7:S1787,\"該当２\"))","v":""},"","",{"$f":"IF(V1787=\"\",\"\",COUNTIF($V$7:V1787,\"該当３\"))","v":""}]
[1936802003,19,{"v":368,"d":"368 "},{"v":2,"d":"02 "},{"v":3,"d":"003 "},"山梨県","富士川町","平林村","上久保上、上向川、下向川",null,"","",{"$f":"IF(K1788=\"\",\"\",COUNTIF($K$7:K1788,\"ﾘｽﾄ１\"))","v":""},"","","","","","","",{"$f":"IF(S1788=\"\",\"\",COUNTIF($S$7:S1788,\"該当２\"))","v":""},"","",{"$f":"IF(V1788=\"\",\"\",COUNTIF($V$7:V1788,\"該当３\"))","v":""}]
[1936802004,19,{"v":368,"d":"368 "},{"v":2,"d":"02 "},{"v":4,"d":"004 "},"山梨県","富士川町","平林村","狭間，前田新井，岩下新梨",null,"","",{"$f":"IF(K1789=\"\",\"\",COUNTIF($K$7:K1789,\"ﾘｽﾄ１\"))","v":""},"","","","","","","",{"$f":"IF(S1789=\"\",\"\",COUNTIF($S$7:S1789,\"該当２\"))","v":""},"","",{"$f":"IF(V1789=\"\",\"\",COUNTIF($V$7:V1789,\"該当３\"))","v":""}]
[1936803000,19,{"v":368,"d":"368 "},{"v":3,"d":"03 "},{"v":0,"d":"000 "},"山梨県","富士川町","穂積村",null,null,"","",{"$f":"IF(K1790=\"\",\"\",COUNTIF($K$7:K1790,\"ﾘｽﾄ１\"))","v":""},"","","","","","","",{"$f":"IF(S1790=\"\",\"\",COUNTIF($S$7:S1790,\"該当２\"))","v":""},"","",{"$f":"IF(V1790=\"\",\"\",COUNTIF($V$7:V1790,\"該当３\"))","v":""}]
[1936803001,19,{"v":368,"d":"368 "},{"v":3,"d":"03 "},{"v":1,"d":"001 "},"山梨県","富士川町","穂積村","仙洞田",null,"","",{"$f":"IF(K1791=\"\",\"\",COUNTIF($K$7:K1791,\"ﾘｽﾄ１\"))","v":""},"","","","","","","",{"$f":"IF(S1791=\"\",\"\",COUNTIF($S$7:S1791,\"該当２\"))","v":""},"","",{"$f":"IF(V1791=\"\",\"\",COUNTIF($V$7:V1791,\"該当３\"))","v":""}]
[1936803002,19,{"v":368,"d":"368 "},{"v":3,"d":"03 "},{"v":2,"d":"002 "},"山梨県","富士川町","穂積村","下高下",null,"","",{"$f":"IF(K1792=\"\",\"\",COUNTIF($K$7:K1792,\"ﾘｽﾄ１\"))","v":""},"","","","","","","",{"$f":"IF(S1792=\"\",\"\",COUNTIF($S$7:S1792,\"該当２\"))","v":""},"","",{"$f":"IF(V1792=\"\",\"\",COUNTIF($V$7:V1792,\"該当３\"))","v":""}]
[1936803003,19,{"v":368,"d":"368 "},{"v":3,"d":"03 "},{"v":3,"d":"003 "},"山梨県","富士川町","穂積村","上高下",null,"","",{"$f":"IF(K1793=\"\",\"\",COUNTIF($K$7:K1793,\"ﾘｽﾄ１\"))","v":""},"","","","","","","",{"$f":"IF(S1793=\"\",\"\",COUNTIF($S$7:S1793,\"該当２\"))","v":""},"","",{"$f":"IF(V1793=\"\",\"\",COUNTIF($V$7:V1793,\"該当３\"))","v":""}]
[1936803004,19,{"v":368,"d":"368 "},{"v":3,"d":"03 "},{"v":4,"d":"004 "},"山梨県","富士川町","穂積村","狩宿",null,"","",{"$f":"IF(K1794=\"\",\"\",COUNTIF($K$7:K1794,\"ﾘｽﾄ１\"))","v":""},"","","","","","","",{"$f":"IF(S1794=\"\",\"\",COUNTIF($S$7:S1794,\"該当２\"))","v":""},"","",{"$f":"IF(V1794=\"\",\"\",COUNTIF($V$7:V1794,\"該当３\"))","v":""}]
[1936803005,19,{"v":368,"d":"368 "},{"v":3,"d":"03 "},{"v":5,"d":"005 "},"山梨県","富士川町","穂積村","土録",null,"","",{"$f":"IF(K1795=\"\",\"\",COUNTIF($K$7:K1795,\"ﾘｽﾄ１\"))","v":""},"","","","","","","",{"$f":"IF(S1795=\"\",\"\",COUNTIF($S$7:S1795,\"該当２\"))","v":""},"","",{"$f":"IF(V1795=\"\",\"\",COUNTIF($V$7:V1795,\"該当３\"))","v":""}]
[1936803006,19,{"v":368,"d":"368 "},{"v":3,"d":"03 "},{"v":6,"d":"006 "},"山梨県","富士川町","穂積村","上手",null,"","",{"$f":"IF(K1796=\"\",\"\",COUNTIF($K$7:K1796,\"ﾘｽﾄ１\"))","v":""},"","","","","","","",{"$f":"IF(S1796=\"\",\"\",COUNTIF($S$7:S1796,\"該当２\"))","v":""},"","",{"$f":"IF(V1796=\"\",\"\",COUNTIF($V$7:V1796,\"該当３\"))","v":""}]
[1936803007,19,{"v":368,"d":"368 "},{"v":3,"d":"03 "},{"v":7,"d":"007 "},"山梨県","富士川町","穂積村","北川",null,"","",{"$f":"IF(K1797=\"\",\"\",COUNTIF($K$7:K1797,\"ﾘｽﾄ１\"))","v":""},"","","","","","","",{"$f":"IF(S1797=\"\",\"\",COUNTIF($S$7:S1797,\"該当２\"))","v":""},"","",{"$f":"IF(V1797=\"\",\"\",COUNTIF($V$7:V1797,\"該当３\"))","v":""}]
[1936803008,19,{"v":368,"d":"368 "},{"v":3,"d":"03 "},{"v":8,"d":"008 "},"山梨県","富士川町","穂積村","砂垈",null,"","",{"$f":"IF(K1798=\"\",\"\",COUNTIF($K$7:K1798,\"ﾘｽﾄ１\"))","v":""},"","","","","","","",{"$f":"IF(S1798=\"\",\"\",COUNTIF($S$7:S1798,\"該当２\"))","v":""},"","",{"$f":"IF(V1798=\"\",\"\",COUNTIF($V$7:V1798,\"該当３\"))","v":""}]
[1936803013,19,{"v":368,"d":"368 "},{"v":3,"d":"03 "},{"v":13,"d":"013 "},"山梨県","富士川町","穂積村","矢泊、益母",null,"","",{"$f":"IF(K1799=\"\",\"\",COUNTIF($K$7:K1799,\"ﾘｽﾄ１\"))","v":""},"","","","","","","",{"$f":"IF(S1799=\"\",\"\",COUNTIF($S$7:S1799,\"該当２\"))","v":""},"","",{"$f":"IF(V1799=\"\",\"\",COUNTIF($V$7:V1799,\"該当３\"))","v":""}]
[1936803014,19,{"v":368,"d":"368 "},{"v":3,"d":"03 "},{"v":14,"d":"014 "},"山梨県","富士川町","穂積村","平尾、寺尾",null,"","",{"$f":"IF(K1800=\"\",\"\",COUNTIF($K$7:K1800,\"ﾘｽﾄ１\"))","v":""},"","","","","","","",{"$f":"IF(S1800=\"\",\"\",COUNTIF($S$7:S1800,\"該当２\"))","v":""},"","",{"$f":"IF(V1800=\"\",\"\",COUNTIF($V$7:V1800,\"該当３\"))","v":""}]
[1936804000,19,{"v":368,"d":"368 "},{"v":4,"d":"04 "},{"v":0,"d":"000 "},"山梨県","富士川町","鰍沢町",null,null,"","",{"$f":"IF(K1801=\"\",\"\",COUNTIF($K$7:K1801,\"ﾘｽﾄ１\"))","v":""},"","","","","","","",{"$f":"IF(S1801=\"\",\"\",COUNTIF($S$7:S1801,\"該当２\"))","v":""},"","",{"$f":"IF(V1801=\"\",\"\",COUNTIF($V$7:V1801,\"該当３\"))","v":""}]
[1936804001,19,{"v":368,"d":"368 "},{"v":4,"d":"04 "},{"v":1,"d":"001 "},"山梨県","富士川町","鰍沢町","新田",null,"","",{"$f":"IF(K1802=\"\",\"\",COUNTIF($K$7:K1802,\"ﾘｽﾄ１\"))","v":""},"","",{"$f":"IF(O1802=\"該当１\",G1802,\"\")","v":""},{"$f":"IF(O1802=\"該当１\",\"ﾘｽﾄ2\",\"\")","v":""},{"$f":"IF(Q1802=\"ﾘｽﾄ2\",H1802,\"\")","v":""},"",{"$f":"IF(S1802=\"該当２\",H1802,\"\")","v":""},{"$f":"IF(S1802=\"\",\"\",COUNTIF($S$7:S1802,\"該当２\"))","v":""},{"$f":"IF(AND($S$2=H1802,E1802>0,E1802<998),\"該当３\",\"\")","v":""},{"$f":"IF(V1802=\"該当３\",I1802,\"\")","v":""},{"$f":"IF(V1802=\"\",\"\",COUNTIF($V$7:V1802,\"該当３\"))","v":""}]
[1936804002,19,{"v":368,"d":"368 "},{"v":4,"d":"04 "},{"v":2,"d":"002 "},"山梨県","富士川町","鰍沢町","畔沢",null,{"$f":"IF(AND($C1803>0,$H1803=\"\"),\"ﾘｽﾄ１\",\"\")","v":""},{"$f":"IF(K1803=\"ﾘｽﾄ１\",G1803,\"\")","v":""},{"$f":"IF(K1803=\"\",\"\",COUNTIF($K$7:K1803,\"ﾘｽﾄ１\"))","v":""},{"$f":"IF(AND(D1803=0,E1803>0),\"同一区\",\"\")","v":""},{"$f":"IF(AND(EXACT($K$2,G1803),H1803>0),\"該当１\",\"\")","v":""},"","","",{"$f":"IF(AND(Q1803=\"ﾘｽﾄ2\",OR(I1803=0,AND(N1803=\"同一区\",E1803=1))),\"該当２\",\"\")","v":""},"",{"$f":"IF(S1803=\"\",\"\",COUNTIF($S$7:S1803,\"該当２\"))","v":""},"","",{"$f":"IF(V1803=\"\",\"\",COUNTIF($V$7:V1803,\"該当３\"))","v":""}]
[1936804003,19,{"v":368,"d":"368 "},{"v":4,"d":"04 "},{"v":3,"d":"003 "},"山梨県","富士川町","鰍沢町","旭町",null,"","",{"$f":"IF(K1804=\"\",\"\",COUNTIF($K$7:K1804,\"ﾘｽﾄ１\"))","v":""},"","","","","","","",{"$f":"IF(S1804=\"\",\"\",COUNTIF($S$7:S1804,\"該当２\"))","v":""},"","",{"$f":"IF(V1804=\"\",\"\",COUNTIF($V$7:V1804,\"該当３\"))","v":""}]
[1936804004,19,{"v":368,"d":"368 "},{"v":4,"d":"04 "},{"v":4,"d":"004 "},"山梨県","富士川町","鰍沢町","緑町",null,"","",{"$f":"IF(K1805=\"\",\"\",COUNTIF($K$7:K1805,\"ﾘｽﾄ１\"))","v":""},"","","","","","","",{"$f":"IF(S1805=\"\",\"\",COUNTIF($S$7:S1805,\"該当２\"))","v":""},"","",{"$f":"IF(V1805=\"\",\"\",COUNTIF($V$7:V1805,\"該当３\"))","v":""}]
[1936804005,19,{"v":368,"d":"368 "},{"v":4,"d":"04 "},{"v":5,"d":"005 "},"山梨県","富士川町","鰍沢町","入町",null,"","",{"$f":"IF(K1806=\"\",\"\",COUNTIF($K$7:K1806,\"ﾘｽﾄ１\"))","v":""},"","","","","","","",{"$f":"IF(S1806=\"\",\"\",COUNTIF($S$7:S1806,\"該当２\"))","v":""},"","",{"$f":"IF(V1806=\"\",\"\",COUNTIF($V$7:V1806,\"該当３\"))","v":""}]
[1936804006,19,{"v":368,"d":"368 "},{"v":4,"d":"04 "},{"v":6,"d":"006 "},"山梨県","富士川町","鰍沢町","風早",null,"","",{"$f":"IF(K1807=\"\",\"\",COUNTIF($K$7:K1807,\"ﾘｽﾄ１\"))","v":""},"","","","","","","",{"$f":"IF(S1807=\"\",\"\",COUNTIF($S$7:S1807,\"該当２\"))","v":""},"","",{"$f":"IF(V1807=\"\",\"\",COUNTIF($V$7:V1807,\"該当３\"))","v":""}]
[1936804007,19,{"v":368,"d":"368 "},{"v":4,"d":"04 "},{"v":7,"d":"007 "},"山梨県","富士川町","鰍沢町","天戸",null,"","",{"$f":"IF(K1808=\"\",\"\",COUNTIF($K$7:K1808,\"ﾘｽﾄ１\"))","v":""},"","","","","","","",{"$f":"IF(S1808=\"\",\"\",COUNTIF($S$7:S1808,\"該当２\"))","v":""},"","",{"$f":"IF(V1808=\"\",\"\",COUNTIF($V$7:V1808,\"該当３\"))","v":""}]
[1936804008,19,{"v":368,"d":"368 "},{"v":4,"d":"04 "},{"v":8,"d":"008 "},"山梨県","富士川町","鰍沢町","小柳川，国見平",null,"","",{"$f":"IF(K1809=\"\",\"\",COUNTIF($K$7:K1809,\"ﾘｽﾄ１\"))","v":""},"","","","","","","",{"$f":"IF(S1809=\"\",\"\",COUNTIF($S$7:S1809,\"該当２\"))","v":""},"","",{"$f":"IF(V1809=\"\",\"\",COUNTIF($V$7:V1809,\"該当３\"))","v":""}]
[1936804009,19,{"v":368,"d":"368 "},{"v":4,"d":"04 "},{"v":9,"d":"009 "},"山梨県","富士川町","鰍沢町","日向町",null,"","",{"$f":"IF(K1810=\"\",\"\",COUNTIF($K$7:K1810,\"ﾘｽﾄ１\"))","v":""},"","","","","","","",{"$f":"IF(S1810=\"\",\"\",COUNTIF($S$7:S1810,\"該当２\"))","v":""},"","",{"$f":"IF(V1810=\"\",\"\",COUNTIF($V$7:V1810,\"該当３\"))","v":""}]
[1936804010,19,{"v":368,"d":"368 "},{"v":4,"d":"04 "},{"v":10,"d":"010 "},"山梨県","富士川町","鰍沢町","梅久保",null,"","",{"$f":"IF(K1811=\"\",\"\",COUNTIF($K$7:K1811,\"ﾘｽﾄ１\"))","v":""},"","","","","","","",{"$f":"IF(S1811=\"\",\"\",COUNTIF($S$7:S1811,\"該当２\"))","v":""},"","",{"$f":"IF(V1811=\"\",\"\",COUNTIF($V$7:V1811,\"該当３\"))","v":""}]
[1936804011,19,{"v":368,"d":"368 "},{"v":4,"d":"04 "},{"v":11,"d":"011 "},"山梨県","富士川町","鰍沢町","久保沢",null,"","",{"$f":"IF(K1812=\"\",\"\",COUNTIF($K$7:K1812,\"ﾘｽﾄ１\"))","v":""},"","","","","","","",{"$f":"IF(S1812=\"\",\"\",COUNTIF($S$7:S1812,\"該当２\"))","v":""},"","",{"$f":"IF(V1812=\"\",\"\",COUNTIF($V$7:V1812,\"該当３\"))","v":""}]
[1936804012,19,{"v":368,"d":"368 "},{"v":4,"d":"04 "},{"v":12,"d":"012 "},"山梨県","富士川町","鰍沢町","鬼島",null,"","",{"$f":"IF(K1813=\"\",\"\",COUNTIF($K$7:K1813,\"ﾘｽﾄ１\"))","v":""},"","","","","","","",{"$f":"IF(S1813=\"\",\"\",COUNTIF($S$7:S1813,\"該当２\"))","v":""},"","",{"$f":"IF(V1813=\"\",\"\",COUNTIF($V$7:V1813,\"該当３\"))","v":""}]
[1936804013,19,{"v":368,"d":"368 "},{"v":4,"d":"04 "},{"v":13,"d":"013 "},"山梨県","富士川町","鰍沢町","富士見町",null,"","",{"$f":"IF(K1814=\"\",\"\",COUNTIF($K$7:K1814,\"ﾘｽﾄ１\"))","v":""},"","","","","","","",{"$f":"IF(S1814=\"\",\"\",COUNTIF($S$7:S1814,\"該当２\"))","v":""},"","",{"$f":"IF(V1814=\"\",\"\",COUNTIF($V$7:V1814,\"該当３\"))","v":""}]
[1936804014,19,{"v":368,"d":"368 "},{"v":4,"d":"04 "},{"v":14,"d":"014 "},"山梨県","富士川町","鰍沢町","上町",null,"","",{"$f":"IF(K1815=\"\",\"\",COUNTIF($K$7:K1815,\"ﾘｽﾄ１\"))","v":""},"","","","","","","",{"$f":"IF(S1815=\"\",\"\",COUNTIF($S$7:S1815,\"該当２\"))","v":""},"","",{"$f":"IF(V1815=\"\",\"\",COUNTIF($V$7:V1815,\"該当３\"))","v":""}]
[1936804015,19,{"v":368,"d":"368 "},{"v":4,"d":"04 "},{"v":15,"d":"015 "},"山梨県","富士川町","鰍沢町","中部",null,"","",{"$f":"IF(K1816=\"\",\"\",COUNTIF($K$7:K1816,\"ﾘｽﾄ１\"))","v":""},"","","","","","","",{"$f":"IF(S1816=\"\",\"\",COUNTIF($S$7:S1816,\"該当２\"))","v":""},"","",{"$f":"IF(V1816=\"\",\"\",COUNTIF($V$7:V1816,\"該当３\"))","v":""}]
[1936805000,19,{"v":368,"d":"368 "},{"v":5,"d":"05 "},{"v":0,"d":"000 "},"山梨県","富士川町","五開村",null,null,"","",{"$f":"IF(K1817=\"\",\"\",COUNTIF($K$7:K1817,\"ﾘｽﾄ１\"))","v":""},"","","","","","","",{"$f":"IF(S1817=\"\",\"\",COUNTIF($S$7:S1817,\"該当２\"))","v":""},"","",{"$f":"IF(V1817=\"\",\"\",COUNTIF($V$7:V1817,\"該当３\"))","v":""}]
[1936805002,19,{"v":368,"d":"368 "},{"v":5,"d":"05 "},{"v":2,"d":"002 "},"山梨県","富士川町","五開村","十谷",null,"","",{"$f":"IF(K1818=\"\",\"\",COUNTIF($K$7:K1818,\"ﾘｽﾄ１\"))","v":""},"","","","","","","",{"$f":"IF(S1818=\"\",\"\",COUNTIF($S$7:S1818,\"該当２\"))","v":""},"","",{"$f":"IF(V1818=\"\",\"\",COUNTIF($V$7:V1818,\"該当３\"))","v":""}]
[1936805004,19,{"v":368,"d":"368 "},{"v":5,"d":"05 "},{"v":4,"d":"004 "},"山梨県","富士川町","五開村","鳥屋",null,"","",{"$f":"IF(K1819=\"\",\"\",COUNTIF($K$7:K1819,\"ﾘｽﾄ１\"))","v":""},"","","","","","","",{"$f":"IF(S1819=\"\",\"\",COUNTIF($S$7:S1819,\"該当２\"))","v":""},"","",{"$f":"IF(V1819=\"\",\"\",COUNTIF($V$7:V1819,\"該当３\"))","v":""}]
[1936805005,19,{"v":368,"d":"368 "},{"v":5,"d":"05 "},{"v":5,"d":"005 "},"山梨県","富士川町","五開村","箱原",null,"","",{"$f":"IF(K1820=\"\",\"\",COUNTIF($K$7:K1820,\"ﾘｽﾄ１\"))","v":""},"","","","","","","",{"$f":"IF(S1820=\"\",\"\",COUNTIF($S$7:S1820,\"該当２\"))","v":""},"","",{"$f":"IF(V1820=\"\",\"\",COUNTIF($V$7:V1820,\"該当３\"))","v":""}]
[1936805006,19,{"v":368,"d":"368 "},{"v":5,"d":"05 "},{"v":6,"d":"006 "},"山梨県","富士川町","五開村","長知沢",null,"","",{"$f":"IF(K1821=\"\",\"\",COUNTIF($K$7:K1821,\"ﾘｽﾄ１\"))","v":""},"","","","","","","",{"$f":"IF(S1821=\"\",\"\",COUNTIF($S$7:S1821,\"該当２\"))","v":""},"","",{"$f":"IF(V1821=\"\",\"\",COUNTIF($V$7:V1821,\"該当３\"))","v":""}]
[1936805007,19,{"v":368,"d":"368 "},{"v":5,"d":"05 "},{"v":7,"d":"007 "},"山梨県","富士川町","五開村","山王・柳川",null,"","",{"$f":"IF(K1822=\"\",\"\",COUNTIF($K$7:K1822,\"ﾘｽﾄ１\"))","v":""},"","","","","","","",{"$f":"IF(S1822=\"\",\"\",COUNTIF($S$7:S1822,\"該当２\"))","v":""},"","",{"$f":"IF(V1822=\"\",\"\",COUNTIF($V$7:V1822,\"該当３\"))","v":""}]
[1936806000,19,{"v":368,"d":"368 "},{"v":6,"d":"06 "},{"v":0,"d":"000 "},"山梨県","富士川町","大同村２－２",null,null,"","",{"$f":"IF(K1823=\"\",\"\",COUNTIF($K$7:K1823,\"ﾘｽﾄ１\"))","v":""},"","","","","","","",{"$f":"IF(S1823=\"\",\"\",COUNTIF($S$7:S1823,\"該当２\"))","v":""},"","",{"$f":"IF(V1823=\"\",\"\",COUNTIF($V$7:V1823,\"該当３\"))","v":""}]
[1936806001,19,{"v":368,"d":"368 "},{"v":6,"d":"06 "},{"v":1,"d":"001 "},"山梨県","富士川町","大同村２－２","駅前通り",null,"","",{"$f":"IF(K1824=\"\",\"\",COUNTIF($K$7:K1824,\"ﾘｽﾄ１\"))","v":""},"","","","","","","",{"$f":"IF(S1824=\"\",\"\",COUNTIF($S$7:S1824,\"該当２\"))","v":""},"","",{"$f":"IF(V1824=\"\",\"\",COUNTIF($V$7:V1824,\"該当３\"))","v":""}]
[1936806002,19,{"v":368,"d":"368 "},{"v":6,"d":"06 "},{"v":2,"d":"002 "},"山梨県","富士川町","大同村２－２","舟莚",null,"","",{"$f":"IF(K1825=\"\",\"\",COUNTIF($K$7:K1825,\"ﾘｽﾄ１\"))","v":""},"","","","","","","",{"$f":"IF(S1825=\"\",\"\",COUNTIF($S$7:S1825,\"該当２\"))","v":""},"","",{"$f":"IF(V1825=\"\",\"\",COUNTIF($V$7:V1825,\"該当３\"))","v":""}]
[1936806003,19,{"v":368,"d":"368 "},{"v":6,"d":"06 "},{"v":3,"d":"003 "},"山梨県","富士川町","大同村２－２","平",null,"","",{"$f":"IF(K1826=\"\",\"\",COUNTIF($K$7:K1826,\"ﾘｽﾄ１\"))","v":""},"","","","","","","",{"$f":"IF(S1826=\"\",\"\",COUNTIF($S$7:S1826,\"該当２\"))","v":""},"","",{"$f":"IF(V1826=\"\",\"\",COUNTIF($V$7:V1826,\"該当３\"))","v":""}]
[1936806004,19,{"v":368,"d":"368 "},{"v":6,"d":"06 "},{"v":4,"d":"004 "},"山梨県","富士川町","大同村２－２","柳沢",null,"","",{"$f":"IF(K1827=\"\",\"\",COUNTIF($K$7:K1827,\"ﾘｽﾄ１\"))","v":""},"","","","","","","",{"$f":"IF(S1827=\"\",\"\",COUNTIF($S$7:S1827,\"該当２\"))","v":""},"","",{"$f":"IF(V1827=\"\",\"\",COUNTIF($V$7:V1827,\"該当３\"))","v":""}]
[1938400000,19,{"v":384,"d":"384 "},{"v":0,"d":"00 "},{"v":0,"d":"000 "},"山梨県","昭和町",{"$nulls":3},"ﾘｽﾄ１","昭和町",{"$f":"IF(K1828=\"\",\"\",COUNTIF($K$7:K1828,\"ﾘｽﾄ１\"))","v":19},"","","","","","","",{"$f":"IF(S1828=\"\",\"\",COUNTIF($S$7:S1828,\"該当２\"))","v":""},"","",{"$f":"IF(V1828=\"\",\"\",COUNTIF($V$7:V1828,\"該当３\"))","v":""}]
[1938400001,19,{"v":384,"d":"384 "},{"v":0,"d":"00 "},{"v":1,"d":"001 "},"山梨県","昭和町","昭和町","西条",null,"","",{"$f":"IF(K1829=\"\",\"\",COUNTIF($K$7:K1829,\"ﾘｽﾄ１\"))","v":""},"同一区","","","","","","",{"$f":"IF(S1829=\"\",\"\",COUNTIF($S$7:S1829,\"該当２\"))","v":""},"","",{"$f":"IF(V1829=\"\",\"\",COUNTIF($V$7:V1829,\"該当３\"))","v":""}]
[1938400002,19,{"v":384,"d":"384 "},{"v":0,"d":"00 "},{"v":2,"d":"002 "},"山梨県","昭和町","昭和町","清水新居",null,"","",{"$f":"IF(K1830=\"\",\"\",COUNTIF($K$7:K1830,\"ﾘｽﾄ１\"))","v":""},"同一区","","","","","","",{"$f":"IF(S1830=\"\",\"\",COUNTIF($S$7:S1830,\"該当２\"))","v":""},"","",{"$f":"IF(V1830=\"\",\"\",COUNTIF($V$7:V1830,\"該当３\"))","v":""}]
[1938400003,19,{"v":384,"d":"384 "},{"v":0,"d":"00 "},{"v":3,"d":"003 "},"山梨県","昭和町","昭和町","西条新田",null,"","",{"$f":"IF(K1831=\"\",\"\",COUNTIF($K$7:K1831,\"ﾘｽﾄ１\"))","v":""},"同一区","","","","","","",{"$f":"IF(S1831=\"\",\"\",COUNTIF($S$7:S1831,\"該当２\"))","v":""},"","",{"$f":"IF(V1831=\"\",\"\",COUNTIF($V$7:V1831,\"該当３\"))","v":""}]
[1938400004,19,{"v":384,"d":"384 "},{"v":0,"d":"00 "},{"v":4,"d":"004 "},"山梨県","昭和町","昭和町","押越",null,"","",{"$f":"IF(K1832=\"\",\"\",COUNTIF($K$7:K1832,\"ﾘｽﾄ１\"))","v":""},"同一区","","","","","","",{"$f":"IF(S1832=\"\",\"\",COUNTIF($S$7:S1832,\"該当２\"))","v":""},"","",{"$f":"IF(V1832=\"\",\"\",COUNTIF($V$7:V1832,\"該当３\"))","v":""}]
[1938400005,19,{"v":384,"d":"384 "},{"v":0,"d":"00 "},{"v":5,"d":"005 "},"山梨県","昭和町","昭和町","河東中島",null,"","",{"$f":"IF(K1833=\"\",\"\",COUNTIF($K$7:K1833,\"ﾘｽﾄ１\"))","v":""},"同一区","","","","","","",{"$f":"IF(S1833=\"\",\"\",COUNTIF($S$7:S1833,\"該当２\"))","v":""},"","",{"$f":"IF(V1833=\"\",\"\",COUNTIF($V$7:V1833,\"該当３\"))","v":""}]
[1938400006,19,{"v":384,"d":"384 "},{"v":0,"d":"00 "},{"v":6,"d":"006 "},"山梨県","昭和町","昭和町","紙漉阿原",null,"","",{"$f":"IF(K1834=\"\",\"\",COUNTIF($K$7:K1834,\"ﾘｽﾄ１\"))","v":""},"同一区","","","","","","",{"$f":"IF(S1834=\"\",\"\",COUNTIF($S$7:S1834,\"該当２\"))","v":""},"","",{"$f":"IF(V1834=\"\",\"\",COUNTIF($V$7:V1834,\"該当３\"))","v":""}]
[1938400007,19,{"v":384,"d":"384 "},{"v":0,"d":"00 "},{"v":7,"d":"007 "},"山梨県","昭和町","昭和町","築地新居",null,"","",{"$f":"IF(K1835=\"\",\"\",COUNTIF($K$7:K1835,\"ﾘｽﾄ１\"))","v":""},"同一区","","","","","","",{"$f":"IF(S1835=\"\",\"\",COUNTIF($S$7:S1835,\"該当２\"))","v":""},"","",{"$f":"IF(V1835=\"\",\"\",COUNTIF($V$7:V1835,\"該当３\"))","v":""}]
[1938400008,19,{"v":384,"d":"384 "},{"v":0,"d":"00 "},{"v":8,"d":"008 "},"山梨県","昭和町","昭和町","飯喰",null,"","",{"$f":"IF(K1836=\"\",\"\",COUNTIF($K$7:K1836,\"ﾘｽﾄ１\"))","v":""},"同一区","","","","","","",{"$f":"IF(S1836=\"\",\"\",COUNTIF($S$7:S1836,\"該当２\"))","v":""},"","",{"$f":"IF(V1836=\"\",\"\",COUNTIF($V$7:V1836,\"該当３\"))","v":""}]
[1938400009,19,{"v":384,"d":"384 "},{"v":0,"d":"00 "},{"v":9,"d":"009 "},"山梨県","昭和町","昭和町","河西",null,"","",{"$f":"IF(K1837=\"\",\"\",COUNTIF($K$7:K1837,\"ﾘｽﾄ１\"))","v":""},"同一区","","","","","","",{"$f":"IF(S1837=\"\",\"\",COUNTIF($S$7:S1837,\"該当２\"))","v":""},"","",{"$f":"IF(V1837=\"\",\"\",COUNTIF($V$7:V1837,\"該当３\"))","v":""}]
[1938400010,19,{"v":384,"d":"384 "},{"v":0,"d":"00 "},{"v":10,"d":"010 "},"山梨県","昭和町","昭和町","上河東",null,"","",{"$f":"IF(K1838=\"\",\"\",COUNTIF($K$7:K1838,\"ﾘｽﾄ１\"))","v":""},"同一区","","","","","","",{"$f":"IF(S1838=\"\",\"\",COUNTIF($S$7:S1838,\"該当２\"))","v":""},"","",{"$f":"IF(V1838=\"\",\"\",COUNTIF($V$7:V1838,\"該当３\"))","v":""}]
[1942200000,19,{"v":422,"d":"422 "},{"v":0,"d":"00 "},{"v":0,"d":"000 "},"山梨県","道志村",{"$nulls":3},"ﾘｽﾄ１","道志村",{"$f":"IF(K1839=\"\",\"\",COUNTIF($K$7:K1839,\"ﾘｽﾄ１\"))","v":20},"","","","","","","",{"$f":"IF(S1839=\"\",\"\",COUNTIF($S$7:S1839,\"該当２\"))","v":""},"","",{"$f":"IF(V1839=\"\",\"\",COUNTIF($V$7:V1839,\"該当３\"))","v":""}]
[1942200001,19,{"v":422,"d":"422 "},{"v":0,"d":"00 "},{"v":1,"d":"001 "},"山梨県","道志村","道志村","月夜野",null,"","",{"$f":"IF(K1840=\"\",\"\",COUNTIF($K$7:K1840,\"ﾘｽﾄ１\"))","v":""},"同一区","","","","","","",{"$f":"IF(S1840=\"\",\"\",COUNTIF($S$7:S1840,\"該当２\"))","v":""},"","",{"$f":"IF(V1840=\"\",\"\",COUNTIF($V$7:V1840,\"該当３\"))","v":""}]
[1942200002,19,{"v":422,"d":"422 "},{"v":0,"d":"00 "},{"v":2,"d":"002 "},"山梨県","道志村","道志村","大野",null,"","",{"$f":"IF(K1841=\"\",\"\",COUNTIF($K$7:K1841,\"ﾘｽﾄ１\"))","v":""},"同一区","","","","","","",{"$f":"IF(S1841=\"\",\"\",COUNTIF($S$7:S1841,\"該当２\"))","v":""},"","",{"$f":"IF(V1841=\"\",\"\",COUNTIF($V$7:V1841,\"該当３\"))","v":""}]
[1942200003,19,{"v":422,"d":"422 "},{"v":0,"d":"00 "},{"v":3,"d":"003 "},"山梨県","道志村","道志村","久保",null,"","",{"$f":"IF(K1842=\"\",\"\",COUNTIF($K$7:K1842,\"ﾘｽﾄ１\"))","v":""},"同一区","","","","","","",{"$f":"IF(S1842=\"\",\"\",COUNTIF($S$7:S1842,\"該当２\"))","v":""},"","",{"$f":"IF(V1842=\"\",\"\",COUNTIF($V$7:V1842,\"該当３\"))","v":""}]
[1942200004,19,{"v":422,"d":"422 "},{"v":0,"d":"00 "},{"v":4,"d":"004 "},"山梨県","道志村","道志村","大室指",null,"","",{"$f":"IF(K1843=\"\",\"\",COUNTIF($K$7:K1843,\"ﾘｽﾄ１\"))","v":""},"同一区","","","","","","",{"$f":"IF(S1843=\"\",\"\",COUNTIF($S$7:S1843,\"該当２\"))","v":""},"","",{"$f":"IF(V1843=\"\",\"\",COUNTIF($V$7:V1843,\"該当３\"))","v":""}]
[1942200005,19,{"v":422,"d":"422 "},{"v":0,"d":"00 "},{"v":5,"d":"005 "},"山梨県","道志村","道志村","椿",null,"","",{"$f":"IF(K1844=\"\",\"\",COUNTIF($K$7:K1844,\"ﾘｽﾄ１\"))","v":""},"同一区","","","","","","",{"$f":"IF(S1844=\"\",\"\",COUNTIF($S$7:S1844,\"該当２\"))","v":""},"","",{"$f":"IF(V1844=\"\",\"\",COUNTIF($V$7:V1844,\"該当３\"))","v":""}]
[1942200006,19,{"v":422,"d":"422 "},{"v":0,"d":"00 "},{"v":6,"d":"006 "},"山梨県","道志村","道志村","小善地",null,"","",{"$f":"IF(K1845=\"\",\"\",COUNTIF($K$7:K1845,\"ﾘｽﾄ１\"))","v":""},"同一区","","","","","","",{"$f":"IF(S1845=\"\",\"\",COUNTIF($S$7:S1845,\"該当２\"))","v":""},"","",{"$f":"IF(V1845=\"\",\"\",COUNTIF($V$7:V1845,\"該当３\"))","v":""}]
[1942200007,19,{"v":422,"d":"422 "},{"v":0,"d":"00 "},{"v":7,"d":"007 "},"山梨県","道志村","道志村","大栗",null,"","",{"$f":"IF(K1846=\"\",\"\",COUNTIF($K$7:K1846,\"ﾘｽﾄ１\"))","v":""},"同一区","","","","","","",{"$f":"IF(S1846=\"\",\"\",COUNTIF($S$7:S1846,\"該当２\"))","v":""},"","",{"$f":"IF(V1846=\"\",\"\",COUNTIF($V$7:V1846,\"該当３\"))","v":""}]
[1942200008,19,{"v":422,"d":"422 "},{"v":0,"d":"00 "},{"v":8,"d":"008 "},"山梨県","道志村","道志村","馬場",null,"","",{"$f":"IF(K1847=\"\",\"\",COUNTIF($K$7:K1847,\"ﾘｽﾄ１\"))","v":""},"同一区","","","","","","",{"$f":"IF(S1847=\"\",\"\",COUNTIF($S$7:S1847,\"該当２\"))","v":""},"","",{"$f":"IF(V1847=\"\",\"\",COUNTIF($V$7:V1847,\"該当３\"))","v":""}]
[1942200009,19,{"v":422,"d":"422 "},{"v":0,"d":"00 "},{"v":9,"d":"009 "},"山梨県","道志村","道志村","竹之本",null,"","",{"$f":"IF(K1848=\"\",\"\",COUNTIF($K$7:K1848,\"ﾘｽﾄ１\"))","v":""},"同一区","","","","","","",{"$f":"IF(S1848=\"\",\"\",COUNTIF($S$7:S1848,\"該当２\"))","v":""},"","",{"$f":"IF(V1848=\"\",\"\",COUNTIF($V$7:V1848,\"該当３\"))","v":""}]
[1942200010,19,{"v":422,"d":"422 "},{"v":0,"d":"00 "},{"v":10,"d":"010 "},"山梨県","道志村","道志村","東和出村",null,"","",{"$f":"IF(K1849=\"\",\"\",COUNTIF($K$7:K1849,\"ﾘｽﾄ１\"))","v":""},"同一区","","","","","","",{"$f":"IF(S1849=\"\",\"\",COUNTIF($S$7:S1849,\"該当２\"))","v":""},"","",{"$f":"IF(V1849=\"\",\"\",COUNTIF($V$7:V1849,\"該当３\"))","v":""}]
[1942200011,19,{"v":422,"d":"422 "},{"v":0,"d":"00 "},{"v":11,"d":"011 "},"山梨県","道志村","道志村","西和出村",null,"","",{"$f":"IF(K1850=\"\",\"\",COUNTIF($K$7:K1850,\"ﾘｽﾄ１\"))","v":""},"同一区","","","","","","",{"$f":"IF(S1850=\"\",\"\",COUNTIF($S$7:S1850,\"該当２\"))","v":""},"","",{"$f":"IF(V1850=\"\",\"\",COUNTIF($V$7:V1850,\"該当３\"))","v":""}]
[1942200012,19,{"v":422,"d":"422 "},{"v":0,"d":"00 "},{"v":12,"d":"012 "},"山梨県","道志村","道志村","川原畑",null,"","",{"$f":"IF(K1851=\"\",\"\",COUNTIF($K$7:K1851,\"ﾘｽﾄ１\"))","v":""},"同一区","","","","","","",{"$f":"IF(S1851=\"\",\"\",COUNTIF($S$7:S1851,\"該当２\"))","v":""},"","",{"$f":"IF(V1851=\"\",\"\",COUNTIF($V$7:V1851,\"該当３\"))","v":""}]
[1942200013,19,{"v":422,"d":"422 "},{"v":0,"d":"00 "},{"v":13,"d":"013 "},"山梨県","道志村","道志村","釜之前",null,"","",{"$f":"IF(K1852=\"\",\"\",COUNTIF($K$7:K1852,\"ﾘｽﾄ１\"))","v":""},"同一区","","","","","","",{"$f":"IF(S1852=\"\",\"\",COUNTIF($S$7:S1852,\"該当２\"))","v":""},"","",{"$f":"IF(V1852=\"\",\"\",COUNTIF($V$7:V1852,\"該当３\"))","v":""}]
[1942200014,19,{"v":422,"d":"422 "},{"v":0,"d":"00 "},{"v":14,"d":"014 "},"山梨県","道志村","道志村","下神地",null,"","",{"$f":"IF(K1853=\"\",\"\",COUNTIF($K$7:K1853,\"ﾘｽﾄ１\"))","v":""},"同一区","","","","","","",{"$f":"IF(S1853=\"\",\"\",COUNTIF($S$7:S1853,\"該当２\"))","v":""},"","",{"$f":"IF(V1853=\"\",\"\",COUNTIF($V$7:V1853,\"該当３\"))","v":""}]
[1942200015,19,{"v":422,"d":"422 "},{"v":0,"d":"00 "},{"v":15,"d":"015 "},"山梨県","道志村","道志村","上神地",null,"","",{"$f":"IF(K1854=\"\",\"\",COUNTIF($K$7:K1854,\"ﾘｽﾄ１\"))","v":""},"同一区","","","","","","",{"$f":"IF(S1854=\"\",\"\",COUNTIF($S$7:S1854,\"該当２\"))","v":""},"","",{"$f":"IF(V1854=\"\",\"\",COUNTIF($V$7:V1854,\"該当３\"))","v":""}]
[1942200016,19,{"v":422,"d":"422 "},{"v":0,"d":"00 "},{"v":16,"d":"016 "},"山梨県","道志村","道志村","善之木",null,"","",{"$f":"IF(K1855=\"\",\"\",COUNTIF($K$7:K1855,\"ﾘｽﾄ１\"))","v":""},"同一区","","","","","","",{"$f":"IF(S1855=\"\",\"\",COUNTIF($S$7:S1855,\"該当２\"))","v":""},"","",{"$f":"IF(V1855=\"\",\"\",COUNTIF($V$7:V1855,\"該当３\"))","v":""}]
[1942200017,19,{"v":422,"d":"422 "},{"v":0,"d":"00 "},{"v":17,"d":"017 "},"山梨県","道志村","道志村","川村",null,"","",{"$f":"IF(K1856=\"\",\"\",COUNTIF($K$7:K1856,\"ﾘｽﾄ１\"))","v":""},"同一区","","","","","","",{"$f":"IF(S1856=\"\",\"\",COUNTIF($S$7:S1856,\"該当２\"))","v":""},"","",{"$f":"IF(V1856=\"\",\"\",COUNTIF($V$7:V1856,\"該当３\"))","v":""}]
[1942200018,19,{"v":422,"d":"422 "},{"v":0,"d":"00 "},{"v":18,"d":"018 "},"山梨県","道志村","道志村","板橋",null,"","",{"$f":"IF(K1857=\"\",\"\",COUNTIF($K$7:K1857,\"ﾘｽﾄ１\"))","v":""},"同一区","","","","","","",{"$f":"IF(S1857=\"\",\"\",COUNTIF($S$7:S1857,\"該当２\"))","v":""},"","",{"$f":"IF(V1857=\"\",\"\",COUNTIF($V$7:V1857,\"該当３\"))","v":""}]
[1942200019,19,{"v":422,"d":"422 "},{"v":0,"d":"00 "},{"v":19,"d":"019 "},"山梨県","道志村","道志村","白井平",null,"","",{"$f":"IF(K1858=\"\",\"\",COUNTIF($K$7:K1858,\"ﾘｽﾄ１\"))","v":""},"同一区","","","","","","",{"$f":"IF(S1858=\"\",\"\",COUNTIF($S$7:S1858,\"該当２\"))","v":""},"","",{"$f":"IF(V1858=\"\",\"\",COUNTIF($V$7:V1858,\"該当３\"))","v":""}]
[1942200020,19,{"v":422,"d":"422 "},{"v":0,"d":"00 "},{"v":20,"d":"020 "},"山梨県","道志村","道志村","長叉",null,"","",{"$f":"IF(K1859=\"\",\"\",COUNTIF($K$7:K1859,\"ﾘｽﾄ１\"))","v":""},"同一区","","","","","","",{"$f":"IF(S1859=\"\",\"\",COUNTIF($S$7:S1859,\"該当２\"))","v":""},"","",{"$f":"IF(V1859=\"\",\"\",COUNTIF($V$7:V1859,\"該当３\"))","v":""}]
[1942300000,19,{"v":423,"d":"423 "},{"v":0,"d":"00 "},{"v":0,"d":"000 "},"山梨県","西桂町",{"$nulls":3},"ﾘｽﾄ１","西桂町",{"$f":"IF(K1860=\"\",\"\",COUNTIF($K$7:K1860,\"ﾘｽﾄ１\"))","v":21},"","","","","","","",{"$f":"IF(S1860=\"\",\"\",COUNTIF($S$7:S1860,\"該当２\"))","v":""},"","",{"$f":"IF(V1860=\"\",\"\",COUNTIF($V$7:V1860,\"該当３\"))","v":""}]
[1942300001,19,{"v":423,"d":"423 "},{"v":0,"d":"00 "},{"v":1,"d":"001 "},"山梨県","西桂町","西桂町","倉見",null,"","",{"$f":"IF(K1861=\"\",\"\",COUNTIF($K$7:K1861,\"ﾘｽﾄ１\"))","v":""},"同一区","","","","","","",{"$f":"IF(S1861=\"\",\"\",COUNTIF($S$7:S1861,\"該当２\"))","v":""},"","",{"$f":"IF(V1861=\"\",\"\",COUNTIF($V$7:V1861,\"該当３\"))","v":""}]
[1942300002,19,{"v":423,"d":"423 "},{"v":0,"d":"00 "},{"v":2,"d":"002 "},"山梨県","西桂町","西桂町","小沼",null,"","",{"$f":"IF(K1862=\"\",\"\",COUNTIF($K$7:K1862,\"ﾘｽﾄ１\"))","v":""},"同一区","","","","","","",{"$f":"IF(S1862=\"\",\"\",COUNTIF($S$7:S1862,\"該当２\"))","v":""},"","",{"$f":"IF(V1862=\"\",\"\",COUNTIF($V$7:V1862,\"該当３\"))","v":""}]
[1942300003,19,{"v":423,"d":"423 "},{"v":0,"d":"00 "},{"v":3,"d":"003 "},"山梨県","西桂町","西桂町","下暮地",null,"","",{"$f":"IF(K1863=\"\",\"\",COUNTIF($K$7:K1863,\"ﾘｽﾄ１\"))","v":""},"同一区","","","","","","",{"$f":"IF(S1863=\"\",\"\",COUNTIF($S$7:S1863,\"該当２\"))","v":""},"","",{"$f":"IF(V1863=\"\",\"\",COUNTIF($V$7:V1863,\"該当３\"))","v":""}]
[1942400000,19,{"v":424,"d":"424 "},{"v":0,"d":"00 "},{"v":0,"d":"000 "},"山梨県","忍野村",{"$nulls":3},"ﾘｽﾄ１","忍野村",{"$f":"IF(K1864=\"\",\"\",COUNTIF($K$7:K1864,\"ﾘｽﾄ１\"))","v":22},"","","","","","","",{"$f":"IF(S1864=\"\",\"\",COUNTIF($S$7:S1864,\"該当２\"))","v":""},"","",{"$f":"IF(V1864=\"\",\"\",COUNTIF($V$7:V1864,\"該当３\"))","v":""}]
[1942400001,19,{"v":424,"d":"424 "},{"v":0,"d":"00 "},{"v":1,"d":"001 "},"山梨県","忍野村","忍野村","内野",null,"","",{"$f":"IF(K1865=\"\",\"\",COUNTIF($K$7:K1865,\"ﾘｽﾄ１\"))","v":""},"同一区","","","","","","",{"$f":"IF(S1865=\"\",\"\",COUNTIF($S$7:S1865,\"該当２\"))","v":""},"","",{"$f":"IF(V1865=\"\",\"\",COUNTIF($V$7:V1865,\"該当３\"))","v":""}]
[1942400002,19,{"v":424,"d":"424 "},{"v":0,"d":"00 "},{"v":2,"d":"002 "},"山梨県","忍野村","忍野村","忍草",null,"","",{"$f":"IF(K1866=\"\",\"\",COUNTIF($K$7:K1866,\"ﾘｽﾄ１\"))","v":""},"同一区","",{"$f":"IF(O1866=\"該当１\",G1866,\"\")","v":""},{"$f":"IF(O1866=\"該当１\",\"ﾘｽﾄ2\",\"\")","v":""},{"$f":"IF(Q1866=\"ﾘｽﾄ2\",H1866,\"\")","v":""},"",{"$f":"IF(S1866=\"該当２\",H1866,\"\")","v":""},{"$f":"IF(S1866=\"\",\"\",COUNTIF($S$7:S1866,\"該当２\"))","v":""},{"$f":"IF(AND($S$2=H1866,E1866>0,E1866<998),\"該当３\",\"\")","v":""},{"$f":"IF(V1866=\"該当３\",I1866,\"\")","v":""},{"$f":"IF(V1866=\"\",\"\",COUNTIF($V$7:V1866,\"該当３\"))","v":""}]
[1942500000,19,{"v":425,"d":"425 "},{"v":0,"d":"00 "},{"v":0,"d":"000 "},"山梨県","山中湖村",{"$nulls":3},{"$f":"IF(AND($C1867>0,$H1867=\"\"),\"ﾘｽﾄ１\",\"\")","v":"ﾘｽﾄ１"},{"$f":"IF(K1867=\"ﾘｽﾄ１\",G1867,\"\")","v":"山中湖村"},{"$f":"IF(K1867=\"\",\"\",COUNTIF($K$7:K1867,\"ﾘｽﾄ１\"))","v":23},{"$f":"IF(AND(D1867=0,E1867>0),\"同一区\",\"\")","v":""},{"$f":"IF(AND(EXACT($K$2,G1867),H1867>0),\"該当１\",\"\")","v":""},"","","",{"$f":"IF(AND(Q1867=\"ﾘｽﾄ2\",OR(I1867=0,AND(N1867=\"同一区\",E1867=1))),\"該当２\",\"\")","v":""},"",{"$f":"IF(S1867=\"\",\"\",COUNTIF($S$7:S1867,\"該当２\"))","v":""},"","",{"$f":"IF(V1867=\"\",\"\",COUNTIF($V$7:V1867,\"該当３\"))","v":""}]
[1942500001,19,{"v":425,"d":"425 "},{"v":0,"d":"00 "},{"v":1,"d":"001 "},"山梨県","山中湖村","山中湖村","山中",null,"","",{"$f":"IF(K1868=\"\",\"\",COUNTIF($K$7:K1868,\"ﾘｽﾄ１\"))","v":""},"同一区","","","","","","",{"$f":"IF(S1868=\"\",\"\",COUNTIF($S$7:S1868,\"該当２\"))","v":""},"","",{"$f":"IF(V1868=\"\",\"\",COUNTIF($V$7:V1868,\"該当３\"))","v":""}]
[1942500002,19,{"v":425,"d":"425 "},{"v":0,"d":"00 "},{"v":2,"d":"002 "},"山梨県","山中湖村","山中湖村","長池",null,"","",{"$f":"IF(K1869=\"\",\"\",COUNTIF($K$7:K1869,\"ﾘｽﾄ１\"))","v":""},"同一区","","","","","","",{"$f":"IF(S1869=\"\",\"\",COUNTIF($S$7:S1869,\"該当２\"))","v":""},"","",{"$f":"IF(V1869=\"\",\"\",COUNTIF($V$7:V1869,\"該当３\"))","v":""}]
[1942500003,19,{"v":425,"d":"425 "},{"v":0,"d":"00 "},{"v":3,"d":"003 "},"山梨県","山中湖村","山中湖村","平野",null,"","",{"$f":"IF(K1870=\"\",\"\",COUNTIF($K$7:K1870,\"ﾘｽﾄ１\"))","v":""},"同一区","","","","","","",{"$f":"IF(S1870=\"\",\"\",COUNTIF($S$7:S1870,\"該当２\"))","v":""},"","",{"$f":"IF(V1870=\"\",\"\",COUNTIF($V$7:V1870,\"該当３\"))","v":""}]
[1942900000,19,{"v":429,"d":"429 "},{"v":0,"d":"00 "},{"v":0,"d":"000 "},"山梨県","鳴沢村",{"$nulls":3},"ﾘｽﾄ１","鳴沢村",{"$f":"IF(K1871=\"\",\"\",COUNTIF($K$7:K1871,\"ﾘｽﾄ１\"))","v":24},"","","","","","","",{"$f":"IF(S1871=\"\",\"\",COUNTIF($S$7:S1871,\"該当２\"))","v":""},"","",{"$f":"IF(V1871=\"\",\"\",COUNTIF($V$7:V1871,\"該当３\"))","v":""}]
[1942900001,19,{"v":429,"d":"429 "},{"v":0,"d":"00 "},{"v":1,"d":"001 "},"山梨県","鳴沢村","鳴沢村","鳴沢",null,"","",{"$f":"IF(K1872=\"\",\"\",COUNTIF($K$7:K1872,\"ﾘｽﾄ１\"))","v":""},"同一区","","","","","","",{"$f":"IF(S1872=\"\",\"\",COUNTIF($S$7:S1872,\"該当２\"))","v":""},"","",{"$f":"IF(V1872=\"\",\"\",COUNTIF($V$7:V1872,\"該当３\"))","v":""}]
[1942900002,19,{"v":429,"d":"429 "},{"v":0,"d":"00 "},{"v":2,"d":"002 "},"山梨県","鳴沢村","鳴沢村","大田和",null,"","",{"$f":"IF(K1873=\"\",\"\",COUNTIF($K$7:K1873,\"ﾘｽﾄ１\"))","v":""},"同一区","","","","","","",{"$f":"IF(S1873=\"\",\"\",COUNTIF($S$7:S1873,\"該当２\"))","v":""},"","",{"$f":"IF(V1873=\"\",\"\",COUNTIF($V$7:V1873,\"該当３\"))","v":""}]
[1943000000,19,{"v":430,"d":"430 "},{"v":0,"d":"00 "},{"v":0,"d":"000 "},"山梨県","富士河口湖町",{"$nulls":3},"ﾘｽﾄ１","富士河口湖町",{"$f":"IF(K1874=\"\",\"\",COUNTIF($K$7:K1874,\"ﾘｽﾄ１\"))","v":25},"","","","","","","",{"$f":"IF(S1874=\"\",\"\",COUNTIF($S$7:S1874,\"該当２\"))","v":""},"","",{"$f":"IF(V1874=\"\",\"\",COUNTIF($V$7:V1874,\"該当３\"))","v":""}]
[1943001000,19,{"v":430,"d":"430 "},{"v":1,"d":"01 "},{"v":0,"d":"000 "},"山梨県","富士河口湖町","船津村",null,null,"","",{"$f":"IF(K1875=\"\",\"\",COUNTIF($K$7:K1875,\"ﾘｽﾄ１\"))","v":""},"","","","","","","",{"$f":"IF(S1875=\"\",\"\",COUNTIF($S$7:S1875,\"該当２\"))","v":""},"","",{"$f":"IF(V1875=\"\",\"\",COUNTIF($V$7:V1875,\"該当３\"))","v":""}]
[1943001001,19,{"v":430,"d":"430 "},{"v":1,"d":"01 "},{"v":1,"d":"001 "},"山梨県","富士河口湖町","船津村","船津",null,"","",{"$f":"IF(K1876=\"\",\"\",COUNTIF($K$7:K1876,\"ﾘｽﾄ１\"))","v":""},"","","","","","","",{"$f":"IF(S1876=\"\",\"\",COUNTIF($S$7:S1876,\"該当２\"))","v":""},"","",{"$f":"IF(V1876=\"\",\"\",COUNTIF($V$7:V1876,\"該当３\"))","v":""}]
[1943001002,19,{"v":430,"d":"430 "},{"v":1,"d":"01 "},{"v":2,"d":"002 "},"山梨県","富士河口湖町","船津村","浅川",null,"","",{"$f":"IF(K1877=\"\",\"\",COUNTIF($K$7:K1877,\"ﾘｽﾄ１\"))","v":""},"","","","","","","",{"$f":"IF(S1877=\"\",\"\",COUNTIF($S$7:S1877,\"該当２\"))","v":""},"","",{"$f":"IF(V1877=\"\",\"\",COUNTIF($V$7:V1877,\"該当３\"))","v":""}]
[1943002000,19,{"v":430,"d":"430 "},{"v":2,"d":"02 "},{"v":0,"d":"000 "},"山梨県","富士河口湖町","小立村",null,null,"","",{"$f":"IF(K1878=\"\",\"\",COUNTIF($K$7:K1878,\"ﾘｽﾄ１\"))","v":""},"","","","","","","",{"$f":"IF(S1878=\"\",\"\",COUNTIF($S$7:S1878,\"該当２\"))","v":""},"","",{"$f":"IF(V1878=\"\",\"\",COUNTIF($V$7:V1878,\"該当３\"))","v":""}]
[1943002001,19,{"v":430,"d":"430 "},{"v":2,"d":"02 "},{"v":1,"d":"001 "},"山梨県","富士河口湖町","小立村","小立",null,"","",{"$f":"IF(K1879=\"\",\"\",COUNTIF($K$7:K1879,\"ﾘｽﾄ１\"))","v":""},"","","","","","","",{"$f":"IF(S1879=\"\",\"\",COUNTIF($S$7:S1879,\"該当２\"))","v":""},"","",{"$f":"IF(V1879=\"\",\"\",COUNTIF($V$7:V1879,\"該当３\"))","v":""}]
[1943003000,19,{"v":430,"d":"430 "},{"v":3,"d":"03 "},{"v":0,"d":"000 "},"山梨県","富士河口湖町","大石村",null,null,"","",{"$f":"IF(K1880=\"\",\"\",COUNTIF($K$7:K1880,\"ﾘｽﾄ１\"))","v":""},"","","","","","","",{"$f":"IF(S1880=\"\",\"\",COUNTIF($S$7:S1880,\"該当２\"))","v":""},"","",{"$f":"IF(V1880=\"\",\"\",COUNTIF($V$7:V1880,\"該当３\"))","v":""}]
[1943003001,19,{"v":430,"d":"430 "},{"v":3,"d":"03 "},{"v":1,"d":"001 "},"山梨県","富士河口湖町","大石村","大石",null,"","",{"$f":"IF(K1881=\"\",\"\",COUNTIF($K$7:K1881,\"ﾘｽﾄ１\"))","v":""},"","","","","","","",{"$f":"IF(S1881=\"\",\"\",COUNTIF($S$7:S1881,\"該当２\"))","v":""},"","",{"$f":"IF(V1881=\"\",\"\",COUNTIF($V$7:V1881,\"該当３\"))","v":""}]
[1943003002,19,{"v":430,"d":"430 "},{"v":3,"d":"03 "},{"v":2,"d":"002 "},"山梨県","富士河口湖町","大石村","湯口",null,"","",{"$f":"IF(K1882=\"\",\"\",COUNTIF($K$7:K1882,\"ﾘｽﾄ１\"))","v":""},"","","","","","","",{"$f":"IF(S1882=\"\",\"\",COUNTIF($S$7:S1882,\"該当２\"))","v":""},"","",{"$f":"IF(V1882=\"\",\"\",COUNTIF($V$7:V1882,\"該当３\"))","v":""}]
[1943004000,19,{"v":430,"d":"430 "},{"v":4,"d":"04 "},{"v":0,"d":"000 "},"山梨県","富士河口湖町","河口村",null,null,"","",{"$f":"IF(K1883=\"\",\"\",COUNTIF($K$7:K1883,\"ﾘｽﾄ１\"))","v":""},"","","","","","","",{"$f":"IF(S1883=\"\",\"\",COUNTIF($S$7:S1883,\"該当２\"))","v":""},"","",{"$f":"IF(V1883=\"\",\"\",COUNTIF($V$7:V1883,\"該当３\"))","v":""}]
[1943004001,19,{"v":430,"d":"430 "},{"v":4,"d":"04 "},{"v":1,"d":"001 "},"山梨県","富士河口湖町","河口村","河口",null,"","",{"$f":"IF(K1884=\"\",\"\",COUNTIF($K$7:K1884,\"ﾘｽﾄ１\"))","v":""},"","","","","","","",{"$f":"IF(S1884=\"\",\"\",COUNTIF($S$7:S1884,\"該当２\"))","v":""},"","",{"$f":"IF(V1884=\"\",\"\",COUNTIF($V$7:V1884,\"該当３\"))","v":""}]
[1943005000,19,{"v":430,"d":"430 "},{"v":5,"d":"05 "},{"v":0,"d":"000 "},"山梨県","富士河口湖町","勝山村",null,null,"","",{"$f":"IF(K1885=\"\",\"\",COUNTIF($K$7:K1885,\"ﾘｽﾄ１\"))","v":""},"","","","","","","",{"$f":"IF(S1885=\"\",\"\",COUNTIF($S$7:S1885,\"該当２\"))","v":""},"","",{"$f":"IF(V1885=\"\",\"\",COUNTIF($V$7:V1885,\"該当３\"))","v":""}]
[1943005001,19,{"v":430,"d":"430 "},{"v":5,"d":"05 "},{"v":1,"d":"001 "},"山梨県","富士河口湖町","勝山村","小海",null,"","",{"$f":"IF(K1886=\"\",\"\",COUNTIF($K$7:K1886,\"ﾘｽﾄ１\"))","v":""},"","","","","","","",{"$f":"IF(S1886=\"\",\"\",COUNTIF($S$7:S1886,\"該当２\"))","v":""},"","",{"$f":"IF(V1886=\"\",\"\",COUNTIF($V$7:V1886,\"該当３\"))","v":""}]
[1943005002,19,{"v":430,"d":"430 "},{"v":5,"d":"05 "},{"v":2,"d":"002 "},"山梨県","富士河口湖町","勝山村","勝山",null,"","",{"$f":"IF(K1887=\"\",\"\",COUNTIF($K$7:K1887,\"ﾘｽﾄ１\"))","v":""},"","","","","","","",{"$f":"IF(S1887=\"\",\"\",COUNTIF($S$7:S1887,\"該当２\"))","v":""},"","",{"$f":"IF(V1887=\"\",\"\",COUNTIF($V$7:V1887,\"該当３\"))","v":""}]
[1943006000,19,{"v":430,"d":"430 "},{"v":6,"d":"06 "},{"v":0,"d":"000 "},"山梨県","富士河口湖町","西浜村",null,null,"","",{"$f":"IF(K1888=\"\",\"\",COUNTIF($K$7:K1888,\"ﾘｽﾄ１\"))","v":""},"","","","","","","",{"$f":"IF(S1888=\"\",\"\",COUNTIF($S$7:S1888,\"該当２\"))","v":""},"","",{"$f":"IF(V1888=\"\",\"\",COUNTIF($V$7:V1888,\"該当３\"))","v":""}]
[1943006001,19,{"v":430,"d":"430 "},{"v":6,"d":"06 "},{"v":1,"d":"001 "},"山梨県","富士河口湖町","西浜村","長浜",null,"","",{"$f":"IF(K1889=\"\",\"\",COUNTIF($K$7:K1889,\"ﾘｽﾄ１\"))","v":""},"","","","","","","",{"$f":"IF(S1889=\"\",\"\",COUNTIF($S$7:S1889,\"該当２\"))","v":""},"","",{"$f":"IF(V1889=\"\",\"\",COUNTIF($V$7:V1889,\"該当３\"))","v":""}]
[1943006002,19,{"v":430,"d":"430 "},{"v":6,"d":"06 "},{"v":2,"d":"002 "},"山梨県","富士河口湖町","西浜村","西湖",null,"","",{"$f":"IF(K1890=\"\",\"\",COUNTIF($K$7:K1890,\"ﾘｽﾄ１\"))","v":""},"","","","","","","",{"$f":"IF(S1890=\"\",\"\",COUNTIF($S$7:S1890,\"該当２\"))","v":""},"","",{"$f":"IF(V1890=\"\",\"\",COUNTIF($V$7:V1890,\"該当３\"))","v":""}]
[1943006003,19,{"v":430,"d":"430 "},{"v":6,"d":"06 "},{"v":3,"d":"003 "},"山梨県","富士河口湖町","西浜村","根場",null,"","",{"$f":"IF(K1891=\"\",\"\",COUNTIF($K$7:K1891,\"ﾘｽﾄ１\"))","v":""},"","","","","","","",{"$f":"IF(S1891=\"\",\"\",COUNTIF($S$7:S1891,\"該当２\"))","v":""},"","",{"$f":"IF(V1891=\"\",\"\",COUNTIF($V$7:V1891,\"該当３\"))","v":""}]
[1943007000,19,{"v":430,"d":"430 "},{"v":7,"d":"07 "},{"v":0,"d":"000 "},"山梨県","富士河口湖町","大嵐村",null,null,"","",{"$f":"IF(K1892=\"\",\"\",COUNTIF($K$7:K1892,\"ﾘｽﾄ１\"))","v":""},"","","","","","","",{"$f":"IF(S1892=\"\",\"\",COUNTIF($S$7:S1892,\"該当２\"))","v":""},"","",{"$f":"IF(V1892=\"\",\"\",COUNTIF($V$7:V1892,\"該当３\"))","v":""}]
[1943007001,19,{"v":430,"d":"430 "},{"v":7,"d":"07 "},{"v":1,"d":"001 "},"山梨県","富士河口湖町","大嵐村","大嵐",null,"","",{"$f":"IF(K1893=\"\",\"\",COUNTIF($K$7:K1893,\"ﾘｽﾄ１\"))","v":""},"","","","","","","",{"$f":"IF(S1893=\"\",\"\",COUNTIF($S$7:S1893,\"該当２\"))","v":""},"","",{"$f":"IF(V1893=\"\",\"\",COUNTIF($V$7:V1893,\"該当３\"))","v":""}]
[1943008000,19,{"v":430,"d":"430 "},{"v":8,"d":"08 "},{"v":0,"d":"000 "},"山梨県","富士河口湖町","上九一色村2-2",null,null,"","",{"$f":"IF(K1894=\"\",\"\",COUNTIF($K$7:K1894,\"ﾘｽﾄ１\"))","v":""},"","","","","","","",{"$f":"IF(S1894=\"\",\"\",COUNTIF($S$7:S1894,\"該当２\"))","v":""},"","",{"$f":"IF(V1894=\"\",\"\",COUNTIF($V$7:V1894,\"該当３\"))","v":""}]
[1943008001,19,{"v":430,"d":"430 "},{"v":8,"d":"08 "},{"v":1,"d":"001 "},"山梨県","富士河口湖町","上九一色村2-2","精進",null,"","",{"$f":"IF(K1895=\"\",\"\",COUNTIF($K$7:K1895,\"ﾘｽﾄ１\"))","v":""},"","","","","","","",{"$f":"IF(S1895=\"\",\"\",COUNTIF($S$7:S1895,\"該当２\"))","v":""},"","",{"$f":"IF(V1895=\"\",\"\",COUNTIF($V$7:V1895,\"該当３\"))","v":""}]
[1943008002,19,{"v":430,"d":"430 "},{"v":8,"d":"08 "},{"v":2,"d":"002 "},"山梨県","富士河口湖町","上九一色村2-2","本栖",null,"","",{"$f":"IF(K1896=\"\",\"\",COUNTIF($K$7:K1896,\"ﾘｽﾄ１\"))","v":""},"","","","","","","",{"$f":"IF(S1896=\"\",\"\",COUNTIF($S$7:S1896,\"該当２\"))","v":""},"","",{"$f":"IF(V1896=\"\",\"\",COUNTIF($V$7:V1896,\"該当３\"))","v":""}]
[1943008003,19,{"v":430,"d":"430 "},{"v":8,"d":"08 "},{"v":3,"d":"003 "},"山梨県","富士河口湖町","上九一色村2-2","富士ケ嶺",null,"","",{"$f":"IF(K1897=\"\",\"\",COUNTIF($K$7:K1897,\"ﾘｽﾄ１\"))","v":""},"","","","","","","",{"$f":"IF(S1897=\"\",\"\",COUNTIF($S$7:S1897,\"該当２\"))","v":""},"","",{"$f":"IF(V1897=\"\",\"\",COUNTIF($V$7:V1897,\"該当３\"))","v":""}]
[1944200000,19,{"v":442,"d":"442 "},{"v":0,"d":"00 "},{"v":0,"d":"000 "},"山梨県","小菅村",{"$nulls":3},"ﾘｽﾄ１","小菅村",{"$f":"IF(K1898=\"\",\"\",COUNTIF($K$7:K1898,\"ﾘｽﾄ１\"))","v":26},"","","","","","","",{"$f":"IF(S1898=\"\",\"\",COUNTIF($S$7:S1898,\"該当２\"))","v":""},"","",{"$f":"IF(V1898=\"\",\"\",COUNTIF($V$7:V1898,\"該当３\"))","v":""}]
[1944200001,19,{"v":442,"d":"442 "},{"v":0,"d":"00 "},{"v":1,"d":"001 "},"山梨県","小菅村","小菅村","橋立",null,"","",{"$f":"IF(K1899=\"\",\"\",COUNTIF($K$7:K1899,\"ﾘｽﾄ１\"))","v":""},"同一区","","","","","","",{"$f":"IF(S1899=\"\",\"\",COUNTIF($S$7:S1899,\"該当２\"))","v":""},"","",{"$f":"IF(V1899=\"\",\"\",COUNTIF($V$7:V1899,\"該当３\"))","v":""}]
[1944200002,19,{"v":442,"d":"442 "},{"v":0,"d":"00 "},{"v":2,"d":"002 "},"山梨県","小菅村","小菅村","川池",null,"","",{"$f":"IF(K1900=\"\",\"\",COUNTIF($K$7:K1900,\"ﾘｽﾄ１\"))","v":""},"同一区","","","","","","",{"$f":"IF(S1900=\"\",\"\",COUNTIF($S$7:S1900,\"該当２\"))","v":""},"","",{"$f":"IF(V1900=\"\",\"\",COUNTIF($V$7:V1900,\"該当３\"))","v":""}]
[1944200003,19,{"v":442,"d":"442 "},{"v":0,"d":"00 "},{"v":3,"d":"003 "},"山梨県","小菅村","小菅村","田元",null,"","",{"$f":"IF(K1901=\"\",\"\",COUNTIF($K$7:K1901,\"ﾘｽﾄ１\"))","v":""},"同一区","","","","","","",{"$f":"IF(S1901=\"\",\"\",COUNTIF($S$7:S1901,\"該当２\"))","v":""},"","",{"$f":"IF(V1901=\"\",\"\",COUNTIF($V$7:V1901,\"該当３\"))","v":""}]
[1944200004,19,{"v":442,"d":"442 "},{"v":0,"d":"00 "},{"v":4,"d":"004 "},"山梨県","小菅村","小菅村","東部",null,"","",{"$f":"IF(K1902=\"\",\"\",COUNTIF($K$7:K1902,\"ﾘｽﾄ１\"))","v":""},"同一区","","","","","","",{"$f":"IF(S1902=\"\",\"\",COUNTIF($S$7:S1902,\"該当２\"))","v":""},"","",{"$f":"IF(V1902=\"\",\"\",COUNTIF($V$7:V1902,\"該当３\"))","v":""}]
[1944200005,19,{"v":442,"d":"442 "},{"v":0,"d":"00 "},{"v":5,"d":"005 "},"山梨県","小菅村","小菅村","長作",null,"","",{"$f":"IF(K1903=\"\",\"\",COUNTIF($K$7:K1903,\"ﾘｽﾄ１\"))","v":""},"同一区","","","","","","",{"$f":"IF(S1903=\"\",\"\",COUNTIF($S$7:S1903,\"該当２\"))","v":""},"","",{"$f":"IF(V1903=\"\",\"\",COUNTIF($V$7:V1903,\"該当３\"))","v":""}]
[1944200006,19,{"v":442,"d":"442 "},{"v":0,"d":"00 "},{"v":6,"d":"006 "},"山梨県","小菅村","小菅村","小永田",null,"","",{"$f":"IF(K1904=\"\",\"\",COUNTIF($K$7:K1904,\"ﾘｽﾄ１\"))","v":""},"同一区","","","","","","",{"$f":"IF(S1904=\"\",\"\",COUNTIF($S$7:S1904,\"該当２\"))","v":""},"","",{"$f":"IF(V1904=\"\",\"\",COUNTIF($V$7:V1904,\"該当３\"))","v":""}]
[1944200007,19,{"v":442,"d":"442 "},{"v":0,"d":"00 "},{"v":7,"d":"007 "},"山梨県","小菅村","小菅村","白沢",null,"","",{"$f":"IF(K1905=\"\",\"\",COUNTIF($K$7:K1905,\"ﾘｽﾄ１\"))","v":""},"同一区","","","","","","",{"$f":"IF(S1905=\"\",\"\",COUNTIF($S$7:S1905,\"該当２\"))","v":""},"","",{"$f":"IF(V1905=\"\",\"\",COUNTIF($V$7:V1905,\"該当３\"))","v":""}]
[1944200008,19,{"v":442,"d":"442 "},{"v":0,"d":"00 "},{"v":8,"d":"008 "},"山梨県","小菅村","小菅村","中組",null,"","",{"$f":"IF(K1906=\"\",\"\",COUNTIF($K$7:K1906,\"ﾘｽﾄ１\"))","v":""},"同一区","","","","","","",{"$f":"IF(S1906=\"\",\"\",COUNTIF($S$7:S1906,\"該当２\"))","v":""},"","",{"$f":"IF(V1906=\"\",\"\",COUNTIF($V$7:V1906,\"該当３\"))","v":""}]
[1944300000,19,{"v":443,"d":"443 "},{"v":0,"d":"00 "},{"v":0,"d":"000 "},"山梨県","丹波山村",{"$nulls":3},"ﾘｽﾄ１","丹波山村",{"$f":"IF(K1907=\"\",\"\",COUNTIF($K$7:K1907,\"ﾘｽﾄ１\"))","v":27},"","","","","","","",{"$f":"IF(S1907=\"\",\"\",COUNTIF($S$7:S1907,\"該当２\"))","v":""},"","",{"$f":"IF(V1907=\"\",\"\",COUNTIF($V$7:V1907,\"該当３\"))","v":""}]
[1944300001,19,{"v":443,"d":"443 "},{"v":0,"d":"00 "},{"v":1,"d":"001 "},"山梨県","丹波山村","丹波山村","奥秋",null,"","",{"$f":"IF(K1908=\"\",\"\",COUNTIF($K$7:K1908,\"ﾘｽﾄ１\"))","v":""},"同一区","","","","","","",{"$f":"IF(S1908=\"\",\"\",COUNTIF($S$7:S1908,\"該当２\"))","v":""},"","",{"$f":"IF(V1908=\"\",\"\",COUNTIF($V$7:V1908,\"該当３\"))","v":""}]
[1944300002,19,{"v":443,"d":"443 "},{"v":0,"d":"00 "},{"v":2,"d":"002 "},"山梨県","丹波山村","丹波山村","上組",null,"","",{"$f":"IF(K1909=\"\",\"\",COUNTIF($K$7:K1909,\"ﾘｽﾄ１\"))","v":""},"同一区","","","","","","",{"$f":"IF(S1909=\"\",\"\",COUNTIF($S$7:S1909,\"該当２\"))","v":""},"","",{"$f":"IF(V1909=\"\",\"\",COUNTIF($V$7:V1909,\"該当３\"))","v":""}]
[1944300003,19,{"v":443,"d":"443 "},{"v":0,"d":"00 "},{"v":3,"d":"003 "},"山梨県","丹波山村","丹波山村","中組",null,"","",{"$f":"IF(K1910=\"\",\"\",COUNTIF($K$7:K1910,\"ﾘｽﾄ１\"))","v":""},"同一区","","","","","","",{"$f":"IF(S1910=\"\",\"\",COUNTIF($S$7:S1910,\"該当２\"))","v":""},"","",{"$f":"IF(V1910=\"\",\"\",COUNTIF($V$7:V1910,\"該当３\"))","v":""}]
[1944300004,19,{"v":443,"d":"443 "},{"v":0,"d":"00 "},{"v":4,"d":"004 "},"山梨県","丹波山村","丹波山村","下組",null,"","",{"$f":"IF(K1911=\"\",\"\",COUNTIF($K$7:K1911,\"ﾘｽﾄ１\"))","v":""},"同一区","","","","","","",{"$f":"IF(S1911=\"\",\"\",COUNTIF($S$7:S1911,\"該当２\"))","v":""},"","",{"$f":"IF(V1911=\"\",\"\",COUNTIF($V$7:V1911,\"該当３\"))","v":""}]
[1944300005,19,{"v":443,"d":"443 "},{"v":0,"d":"00 "},{"v":5,"d":"005 "},"山梨県","丹波山村","丹波山村","高尾",null,"","",{"$f":"IF(K1912=\"\",\"\",COUNTIF($K$7:K1912,\"ﾘｽﾄ１\"))","v":""},"同一区","","","","","","",{"$f":"IF(S1912=\"\",\"\",COUNTIF($S$7:S1912,\"該当２\"))","v":""},"","",{"$f":"IF(V1912=\"\",\"\",COUNTIF($V$7:V1912,\"該当３\"))","v":""}]
[1944300006,19,{"v":443,"d":"443 "},{"v":0,"d":"00 "},{"v":6,"d":"006 "},"山梨県","丹波山村","丹波山村","押垣外",null,"","",{"$f":"IF(K1913=\"\",\"\",COUNTIF($K$7:K1913,\"ﾘｽﾄ１\"))","v":""},"同一区","","","","","","",{"$f":"IF(S1913=\"\",\"\",COUNTIF($S$7:S1913,\"該当２\"))","v":""},"","",{"$f":"IF(V1913=\"\",\"\",COUNTIF($V$7:V1913,\"該当３\"))","v":""}]
[1944300007,19,{"v":443,"d":"443 "},{"v":0,"d":"00 "},{"v":7,"d":"007 "},"山梨県","丹波山村","丹波山村","保之瀬上",null,"","",{"$f":"IF(K1914=\"\",\"\",COUNTIF($K$7:K1914,\"ﾘｽﾄ１\"))","v":""},"同一区","","","","","","",{"$f":"IF(S1914=\"\",\"\",COUNTIF($S$7:S1914,\"該当２\"))","v":""},"","",{"$f":"IF(V1914=\"\",\"\",COUNTIF($V$7:V1914,\"該当３\"))","v":""}]
[1944300008,19,{"v":443,"d":"443 "},{"v":0,"d":"00 "},{"v":8,"d":"008 "},"山梨県","丹波山村","丹波山村","保之瀬下",null,"","",{"$f":"IF(K1915=\"\",\"\",COUNTIF($K$7:K1915,\"ﾘｽﾄ１\"))","v":""},"同一区","","","","","","",{"$f":"IF(S1915=\"\",\"\",COUNTIF($S$7:S1915,\"該当２\"))","v":""},"","",{"$f":"IF(V1915=\"\",\"\",COUNTIF($V$7:V1915,\"該当３\"))","v":""}]
[1944300009,19,{"v":443,"d":"443 "},{"v":0,"d":"00 "},{"v":9,"d":"009 "},"山梨県","丹波山村","丹波山村","所畑",null,"","",{"$f":"IF(K1916=\"\",\"\",COUNTIF($K$7:K1916,\"ﾘｽﾄ１\"))","v":""},"同一区","","","","","","",{"$f":"IF(S1916=\"\",\"\",COUNTIF($S$7:S1916,\"該当２\"))","v":""},"","",{"$f":"IF(V1916=\"\",\"\",COUNTIF($V$7:V1916,\"該当３\"))","v":""}]
[1944300010,19,{"v":443,"d":"443 "},{"v":0,"d":"00 "},{"v":10,"d":"010 "},"山梨県","丹波山村","丹波山村","鴨沢",null,"","",{"$f":"IF(K1917=\"\",\"\",COUNTIF($K$7:K1917,\"ﾘｽﾄ１\"))","v":""},"同一区","","","","","","",{"$f":"IF(S1917=\"\",\"\",COUNTIF($S$7:S1917,\"該当２\"))","v":""},"","",{"$f":"IF(V1917=\"\",\"\",COUNTIF($V$7:V1917,\"該当３\"))","v":""}]
[1944300011,19,{"v":443,"d":"443 "},{"v":0,"d":"00 "},{"v":11,"d":"011 "},"山梨県","丹波山村","丹波山村","小袖",null,"","",{"$f":"IF(K1918=\"\",\"\",COUNTIF($K$7:K1918,\"ﾘｽﾄ１\"))","v":""},"同一区","","","","","","",{"$f":"IF(S1918=\"\",\"\",COUNTIF($S$7:S1918,\"該当２\"))","v":""},"","",{"$f":"IF(V1918=\"\",\"\",COUNTIF($V$7:V1918,\"該当３\"))","v":""}]
[{"$nulls":10},"","",{"$f":"IF(K1919=\"\",\"\",COUNTIF($K$7:K1919,\"ﾘｽﾄ１\"))","v":""},"","","","","","","",{"$f":"IF(S1919=\"\",\"\",COUNTIF($S$7:S1919,\"該当２\"))","v":""},"","",{"$f":"IF(V1919=\"\",\"\",COUNTIF($V$7:V1919,\"該当３\"))","v":""}]

{"sheet":"2010年","index":2,"n_rows":1917,"n_cols":151,"rows_kept":562,"cut":true,"hidden":true,"merged":[[0,0,4,0],[0,1,4,1],[0,2,4,2],[0,3,4,3],[0,47,1,49],[0,66,1,68],[0,69,0,84],[0,99,0,105],[1,130,2,130],[1,131,2,131],[1,132,2,132],[1,133,2,133],[1,134,2,134],[3,7,4,7],[3,9,4,9]],"bounds":{"rows_first":250,"rows_last":62,"rows_between":250,"halvings":3}}
["都道府県名（支庁名）","市区町村名","旧市区町村名","農業集落名","総農家数",{"$nulls":7},"（７）年齢別の農業従事者数（自営農業に従事した世帯員数）男女計",{"$nulls":15},"農業従事者の平均年齢",null,null,"年齢別の農業就業人口（自営農業に主として従事した世帯員数）男女計",{"$nulls":15},"農業就業人口",null,null,"（11）年齢別の基幹的農業従事者数（自営農業に主として従事した世帯員のうち仕事が主の世帯員数）男女計",{"$nulls":15},"基幹的農業従事者\n平均年齢",null,null,"（２）年齢別の経営者数男女計",{"$nulls":15},"ウ後継者がいる経営者",{"$nulls":13},"家族経営構成別農家数",{"$nulls":6},"（６）過去１年間の生活の主な状態別世帯員数",{"$nulls":4},"男女計",null,null,"（４）農産物販売金額１位の部門別農家数",{"$nulls":15},"（１）経営耕地の状況",{"$nulls":4},"（６）過去１年間の生活の主な状態別世帯員数(男)",{"$nulls":7},"（６）過去１年間の生活の主な状態別世帯員数(女)"]
[{"$nulls":5},"販売農家数",{"$nulls":5},"自給的農家","計","15～19歳","20～24","25～29","30～34","35～39","40～44","45～49","50～54","55～59","60～64","65～69","70～74","75～79","80～84","85歳以上","男女計","男","女","計","15～19歳","20～24","25～29","30～34","35～39","40～44","45～49","50～54","55～59","60～64","65～69","70～74","75～79","80～84","85歳以上",{"$nulls":3},"計","15～19歳","20～24","25～29","30～34","35～39","40～44","45～49","50～54","55～59","60～64","65～69","70～74","75～79","80～84","85歳以上",{"$nulls":3},"計","15～19歳","20～24","25～29","30～34","35～39","40～44","45～49","50～54","55～59","60～64","65～69","70～74","75～79","80～84","85歳以上","計","30歳未満","30～34","35～39","40～44","45～49","50～54","55～59","60～64","65～69","70～74","75～79","80～84","85歳以上",{"$nulls":8},"主に仕事",{"$nulls":9},"雑穀・",{"$nulls":12},"経営耕地\nのある\n農家数","経営耕地\n総面積","田","畑（樹園地を除く）","樹園地","計","主に仕事",{"$nulls":3},"主に家事\n・育児","学生","その他","計","主に仕事",{"$nulls":3},"主に家事\n・育児","学生","その他"]
[{"$nulls":6},"主業農家",null,"準主業農家",null,"副業的農家",{"$nulls":36},"男女計の\n平均年齢","男の\n平均年齢","女の\n平均年齢",{"$nulls":16},"男女計","男","女",{"$nulls":37},"計","小計","自営農業\nが主","勤務が主","農業以外の","主に家事\n・育児","学生","その他","計","稲作","麦類作","いも類","工芸農作物","露地野菜","施設野菜","果樹類","花き・花木","その他の\n作物","酪農","肉用牛","養豚","養鶏","養蚕","その他の\n畜産",{"$nulls":6},"小計","自営農業\nが主","勤務が主","農業以外の\n自営業が主",{"$nulls":4},"小計","自営農業\nが主","勤務が主","農業以外の\n自営業が主"]
[{"$nulls":7},"65歳未満の農業専従者がいる",null,"65歳未満の農業専従者がいる",{"$nulls":100},"自営業が主",{"$nulls":6},"・豆類"]
[]
["山梨県",{"$nulls":3},{"v":36805,"d":"36,805 "},{"v":20043,"d":"20,043 "},{"v":4789,"d":"4,789 "},{"v":4177,"d":"4,177 "},{"v":4301,"d":"4,301 "},{"v":1811,"d":"1,811 "},{"v":10953,"d":"10,953 "},{"v":16762,"d":"16,762 "},{"v":51920,"d":"51,920 "},{"v":979,"d":"979 "},{"v":1282,"d":"1,282 "},{"v":1450,"d":"1,450 "},{"v":1494,"d":"1,494 "},{"v":1958,"d":"1,958 "},{"v":2488,"d":"2,488 "},{"v":3212,"d":"3,212 "},{"v":4196,"d":"4,196 "},{"v":5391,"d":"5,391 "},{"v":5708,"d":"5,708 "},{"v":5751,"d":"5,751 "},{"v":5859,"d":"5,859 "},{"v":5643,"d":"5,643 "},{"v":4211,"d":"4,211 "},{"v":2298,"d":"2,298 "},60.2,59.3,61.2,{"v":33271,"d":"33,271 "},{"v":372,"d":"372 "},{"v":181,"d":"181 "},{"v":183,"d":"183 "},{"v":282,"d":"282 "},{"v":473,"d":"473 "},{"v":627,"d":"627 "},{"v":911,"d":"911 "},{"v":1577,"d":"1,577 "},{"v":2562,"d":"2,562 "},{"v":3946,"d":"3,946 "},{"v":4963,"d":"4,963 "},{"v":5479,"d":"5,479 "},{"v":5448,"d":"5,448 "},{"v":4079,"d":"4,079 "},{"v":2188,"d":"2,188 "},67.8,68.2,67.4,{"v":28313,"d":"28,313 "},{"v":1,"d":"1 "},{"v":46,"d":"46 "},{"v":122,"d":"122 "},{"v":197,"d":"197 "},{"v":337,"d":"337 "},{"v":445,"d":"445 "},{"v":699,"d":"699 "},{"v":1369,"d":"1,369 "},{"v":2305,"d":"2,305 "},{"v":3563,"d":"3,563 "},{"v":4488,"d":"4,488 "},{"v":4937,"d":"4,937 "},{"v":4863,"d":"4,863 "},{"v":3421,"d":"3,421 "},{"v":1520,"d":"1,520 "},68.6,68.9,68.2,{"v":20043,"d":"20,043 "},"-",{"v":2,"d":"2 "},{"v":10,"d":"10 "},{"v":38,"d":"38 "},{"v":133,"d":"133 "},{"v":326,"d":"326 "},{"v":710,"d":"710 "},{"v":1435,"d":"1,435 "},{"v":2366,"d":"2,366 "},{"v":2921,"d":"2,921 "},{"v":2913,"d":"2,913 "},{"v":3107,"d":"3,107 "},{"v":2990,"d":"2,990 "},{"v":2148,"d":"2,148 "},{"v":944,"d":"944 "},{"v":10889,"d":"10,889 "},"-",{"v":2,"d":"2 "},{"v":8,"d":"8 "},{"v":52,"d":"52 "},{"v":193,"d":"193 "},{"v":544,"d":"544 "},{"v":1088,"d":"1,088 "},{"v":1466,"d":"1,466 "},{"v":1624,"d":"1,624 "},{"v":1796,"d":"1,796 "},{"v":1900,"d":"1,900 "},{"v":1498,"d":"1,498 "},{"v":718,"d":"718 "},{"$nulls":7},{"v":65171,"d":"65,171 "},{"v":49831,"d":"49,831 "},{"v":28314,"d":"28,314 "},{"v":19694,"d":"19,694 "},{"v":1823,"d":"1,823 "},{"v":5791,"d":"5,791 "},{"v":4713,"d":"4,713 "},{"v":4836,"d":"4,836 "},{"v":18061,"d":"18,061 "},{"v":4207,"d":"4,207 "},{"v":4,"d":"4 "},{"v":149,"d":"149 "},{"v":96,"d":"96 "},{"v":1204,"d":"1,204 "},{"v":304,"d":"304 "},{"v":11679,"d":"11,679 "},{"v":195,"d":"195 "},{"v":52,"d":"52 "},{"v":82,"d":"82 "},{"v":37,"d":"37 "},{"v":16,"d":"16 "},{"v":24,"d":"24 "},{"v":8,"d":"8 "},{"v":4,"d":"4 "},{"v":20017,"d":"20,017 "},{"v":1490982,"d":"1,490,982 "},{"v":438731,"d":"438,731 "},{"v":254576,"d":"254,576 "},{"v":797675,"d":"797,675 "},{"v":32259,"d":"32,259"},{"v":28026,"d":"28,026"},{"v":15542,"d":"15,542"},{"v":11281,"d":"11,281"},{"v":1203,"d":"1,203"},83,{"v":2520,"d":"2,520"},{"v":1630,"d":"1,630"},{"v":32912,"d":"32,912"},{"v":21805,"d":"21,805"},{"v":12772,"d":"12,772"},{"v":8413,"d":"8,413"},620,{"v":5708,"d":"5,708"},{"v":2193,"d":"2,193"},{"v":3206,"d":"3,206"}]
["山梨県","甲府市",null,null,{"v":2399,"d":"2,399 "},{"v":1290,"d":"1,290 "},{"v":326,"d":"326 "},{"v":276,"d":"276 "},{"v":341,"d":"341 "},{"v":142,"d":"142 "},{"v":623,"d":"623 "},{"v":1109,"d":"1,109 "},{"v":3523,"d":"3,523 "},{"v":70,"d":"70 "},{"v":101,"d":"101 "},{"v":126,"d":"126 "},{"v":106,"d":"106 "},{"v":134,"d":"134 "},{"v":155,"d":"155 "},{"v":211,"d":"211 "},{"v":297,"d":"297 "},{"v":381,"d":"381 "},{"v":393,"d":"393 "},{"v":377,"d":"377 "},{"v":374,"d":"374 "},{"v":370,"d":"370 "},{"v":301,"d":"301 "},{"v":127,"d":"127 "},59.4,58.5,60.5,{"v":2299,"d":"2,299 "},{"v":32,"d":"32 "},{"v":20,"d":"20 "},{"v":12,"d":"12 "},{"v":20,"d":"20 "},{"v":34,"d":"34 "},{"v":35,"d":"35 "},{"v":65,"d":"65 "},{"v":118,"d":"118 "},{"v":186,"d":"186 "},{"v":308,"d":"308 "},{"v":332,"d":"332 "},{"v":358,"d":"358 "},{"v":360,"d":"360 "},{"v":296,"d":"296 "},{"v":123,"d":"123 "},67.1,67.9,66.4,{"v":1924,"d":"1,924 "},"-",{"v":3,"d":"3 "},{"v":9,"d":"9 "},{"v":14,"d":"14 "},{"v":23,"d":"23 "},{"v":22,"d":"22 "},{"v":42,"d":"42 "},{"v":94,"d":"94 "},{"v":164,"d":"164 "},{"v":280,"d":"280 "},{"v":302,"d":"302 "},{"v":321,"d":"321 "},{"v":321,"d":"321 "},{"v":241,"d":"241 "},{"v":88,"d":"88 "},68.4,{"v":69,"d":"69.0"},67.6,{"v":1290,"d":"1,290 "},"-","-",{"v":3,"d":"3 "},"-",{"v":12,"d":"12 "},{"v":18,"d":"18 "},{"v":44,"d":"44 "},{"v":92,"d":"92 "},{"v":156,"d":"156 "},{"v":194,"d":"194 "},{"v":193,"d":"193 "},{"v":189,"d":"189 "},{"v":187,"d":"187 "},{"v":143,"d":"143 "},{"v":59,"d":"59 "},{"v":674,"d":"674 "},"-","-","-",{"v":5,"d":"5 "},{"v":13,"d":"13 "},{"v":33,"d":"33 "},{"v":72,"d":"72 "},{"v":92,"d":"92 "},{"v":105,"d":"105 "},{"v":96,"d":"96 "},{"v":113,"d":"113 "},{"v":100,"d":"100 "},{"v":45,"d":"45 "},{"$nulls":7},{"v":4251,"d":"4,251 "},{"v":3237,"d":"3,237 "},{"v":1924,"d":"1,924 "},{"v":1199,"d":"1,199 "},{"v":114,"d":"114 "},{"v":364,"d":"364 "},{"v":303,"d":"303 "},{"v":347,"d":"347 "},{"v":1172,"d":"1,172 "},{"v":151,"d":"151 "},"-","-","-",{"v":267,"d":"267 "},{"v":30,"d":"30 "},{"v":705,"d":"705 "},{"v":9,"d":"9 "},{"v":4,"d":"4 "},"-",{"v":1,"d":"1 "},{"v":4,"d":"4 "},"-","-",{"v":1,"d":"1 "},{"v":1289,"d":"1,289 "},{"v":90543,"d":"90,543 "},{"v":28678,"d":"28,678 "},{"v":16698,"d":"16,698 "},{"v":45167,"d":"45,167 "},{"v":2089,"d":"2,089"},{"v":1836,"d":"1,836"},{"v":1022,"d":"1,022"},737,77,2,150,101,{"v":2162,"d":"2,162"},{"v":1401,"d":"1,401"},902,462,37,362,153,246]
["山梨県","甲府市","甲府市",null,{"v":709,"d":"709 "},{"v":196,"d":"196 "},{"v":46,"d":"46 "},{"v":36,"d":"36 "},{"v":32,"d":"32 "},{"v":18,"d":"18 "},{"v":118,"d":"118 "},{"v":513,"d":"513 "},{"v":514,"d":"514 "},{"v":11,"d":"11 "},{"v":14,"d":"14 "},{"v":17,"d":"17 "},{"v":7,"d":"7 "},{"v":17,"d":"17 "},{"v":16,"d":"16 "},{"v":28,"d":"28 "},{"v":43,"d":"43 "},{"v":57,"d":"57 "},{"v":58,"d":"58 "},{"v":69,"d":"69 "},{"v":52,"d":"52 "},{"v":59,"d":"59 "},{"v":43,"d":"43 "},{"v":23,"d":"23 "},{"v":61,"d":"61.0"},59.5,62.6,{"v":335,"d":"335 "},{"v":3,"d":"3 "},{"v":4,"d":"4 "},{"v":2,"d":"2 "},{"v":3,"d":"3 "},{"v":5,"d":"5 "},{"v":2,"d":"2 "},{"v":11,"d":"11 "},{"v":22,"d":"22 "},{"v":23,"d":"23 "},{"v":43,"d":"43 "},{"v":54,"d":"54 "},{"v":45,"d":"45 "},{"v":54,"d":"54 "},{"v":41,"d":"41 "},{"v":23,"d":"23 "},67.5,68.7,66.3,{"v":260,"d":"260 "},"-",{"v":1,"d":"1 "},{"v":1,"d":"1 "},{"v":2,"d":"2 "},{"v":3,"d":"3 "},{"v":1,"d":"1 "},{"v":5,"d":"5 "},{"v":18,"d":"18 "},{"v":18,"d":"18 "},{"v":38,"d":"38 "},{"v":44,"d":"44 "},{"v":36,"d":"36 "},{"v":46,"d":"46 "},{"v":33,"d":"33 "},{"v":14,"d":"14 "},68.6,{"v":70,"d":"70.0"},66.6,{"v":196,"d":"196 "},"-","-","-","-","-",{"v":1,"d":"1 "},{"v":2,"d":"2 "},{"v":11,"d":"11 "},{"v":21,"d":"21 "},{"v":27,"d":"27 "},{"v":37,"d":"37 "},{"v":25,"d":"25 "},{"v":33,"d":"33 "},{"v":26,"d":"26 "},{"v":13,"d":"13 "},{"v":124,"d":"124 "},"-","-","-",{"v":1,"d":"1 "},{"v":1,"d":"1 "},{"v":5,"d":"5 "},{"v":13,"d":"13 "},{"v":13,"d":"13 "},{"v":26,"d":"26 "},{"v":14,"d":"14 "},{"v":21,"d":"21 "},{"v":20,"d":"20 "},{"v":10,"d":"10 "},{"$nulls":7},{"v":624,"d":"624 "},{"v":446,"d":"446 "},{"v":260,"d":"260 "},{"v":160,"d":"160 "},{"v":26,"d":"26 "},{"v":72,"d":"72 "},{"v":49,"d":"49 "},{"v":57,"d":"57 "},{"v":165,"d":"165 "},{"v":44,"d":"44 "},"-","-","-",{"v":13,"d":"13 "},{"v":1,"d":"1 "},{"v":103,"d":"103 "},{"v":3,"d":"3 "},"-","-","-","-","-","-",{"v":1,"d":"1 "},{"v":196,"d":"196 "},{"v":10236,"d":"10,236 "},{"v":3378,"d":"3,378 "},{"v":1284,"d":"1,284 "},{"v":5574,"d":"5,574 "},305,269,149,105,15,"-",27,9,319,177,111,55,11,72,22,48]
["山梨県","甲府市","甲府市","飯田",{"v":9,"d":"9 "},{"v":1,"d":"1 "},"x","x","x","x","x",{"v":8,"d":"8 "},"x","x","x","x","x","x","x","x","x","x","x","x","x","x","x","x",58.3,{"v":55,"d":"55.0"},{"v":65,"d":"65.0"},"x","x","x","x","x","x","x","x","x","x","x","x","x","x","x","x",66.5,{"v":68,"d":"68.0"},{"v":65,"d":"65.0"},"x","x","x","x","x","x","x","x","x","x","x","x","x","x","x","x",{"v":68,"d":"68.0"},{"v":68,"d":"68.0"},"…",{"v":1,"d":"1 "},"-","-","-","-","-","-","-","-","-","-",{"v":1,"d":"1 "},"-","-","-","-",{"v":1,"d":"1 "},"-","-","-","-","-","-","-","-",{"v":1,"d":"1 "},"-","-","-","-",{"$nulls":7},{"v":3,"d":"3 "},{"v":2,"d":"2 "},{"v":1,"d":"1 "},{"v":1,"d":"1 "},"-",{"v":1,"d":"1 "},"-","-",{"v":1,"d":"1 "},"-","-","-","-",{"v":1,"d":"1 "},"-","-","-","-","-","-","-","-","-","-",{"v":1,"d":"1 "},{"v":55,"d":"55 "},"-",{"v":30,"d":"30 "},{"v":25,"d":"25 "},2,2,1,1,"-","-","-","-",1,"-","-","-","-",1,"-","-"]
["山梨県","甲府市","甲府市","住吉本町（１）",{"v":3,"d":"3 "},"-","-","-","-","-","-",{"v":3,"d":"3 "},"-","-","-","-","-","-","-","-","-","-","-","-","-","-","-","-","…","…","…","-","-","-","-","-","-","-","-","-","-","-","-","-","-","-","-","…","…","…","-","-","-","-","-","-","-","-","-","-","-","-","-","-","-","-","…","…","…","-","-","-","-","-","-","-","-","-","-","-","-","-","-","-","-","-","-","-","-","-","-","-","-","-","-","-","-","-","-",{"$nulls":7},"-","-","-","-","-","-","-","-","-","-","-","-","-","-","-","-","-","-","-","-","-","-","-","-","-","-","-","-","-","-","-","-","-","-","-","-","-","-","-","-","-","-","-","-","-"]
["山梨県","甲府市","甲府市","住吉本町（２）",{"v":2,"d":"2 "},"-","-","-","-","-","-",{"v":2,"d":"2 "},"-","-","-","-","-","-","-","-","-","-","-","-","-","-","-","-","…","…","…","-","-","-","-","-","-","-","-","-","-","-","-","-","-","-","-","…","…","…","-","-","-","-","-","-","-","-","-","-","-","-","-","-","-","-","…","…","…","-","-","-","-","-","-","-","-","-","-","-","-","-","-","-","-","-","-","-","-","-","-","-","-","-","-","-","-","-","-",{"$nulls":7},"-","-","-","-","-","-","-","-","-","-","-","-","-","-","-","-","-","-","-","-","-","-","-","-","-","-","-","-","-","-","-","-","-","-","-","-","-","-","-","-","-","-","-","-","-"]
["山梨県","甲府市","甲府市","住吉本町（３）",{"v":3,"d":"3 "},{"v":1,"d":"1 "},"x","x","x","x","x",{"v":2,"d":"2 "},"x","x","x","x","x","x","x","x","x","x","x","x","x","x","x","x",58.7,63.5,{"v":49,"d":"49.0"},"x","x","x","x","x","x","x","x","x","x","x","x","x","x","x","x",63.5,{"v":78,"d":"78.0"},{"v":49,"d":"49.0"},"x","x","x","x","x","x","x","x","x","x","x","x","x","x","x","x",{"v":78,"d":"78.0"},{"v":78,"d":"78.0"},"…",{"v":1,"d":"1 "},"-","-","-","-","-","-","-","-","-","-","-","-",{"v":1,"d":"1 "},"-","-",{"v":1,"d":"1 "},"-","-","-","-","-","-","-","-","-","-",{"v":1,"d":"1 "},"-","-",{"$nulls":7},{"v":6,"d":"6 "},{"v":2,"d":"2 "},{"v":1,"d":"1 "},{"v":1,"d":"1 "},"-",{"v":1,"d":"1 "},{"v":3,"d":"3 "},"-","-","-","-","-","-","-","-","-","-","-","-","-","-","-","-","-",{"v":1,"d":"1 "},{"v":43,"d":"43 "},{"v":28,"d":"28 "},{"v":15,"d":"15 "},"-",4,2,1,1,"-","-",2,"-",2,"-","-","-","-",1,1,"-"]
["山梨県","甲府市","甲府市","愛宕",{"v":2,"d":"2 "},"-","-","-","-","-","-",{"v":2,"d":"2 "},"-","-","-","-","-","-","-","-","-","-","-","-","-","-","-","-","…","…","…","-","-","-","-","-","-","-","-","-","-","-","-","-","-","-","-","…","…","…","-","-","-","-","-","-","-","-","-","-","-","-","-","-","-","-","…","…","…","-","-","-","-","-","-","-","-","-","-","-","-","-","-","-","-","-","-","-","-","-","-","-","-","-","-","-","-","-","-",{"$nulls":7},"-","-","-","-","-","-","-","-","-","-","-","-","-","-","-","-","-","-","-","-","-","-","-","-","-","-","-","-","-","-","-","-","-","-","-","-","-","-","-","-","-","-","-","-","-"]
["山梨県","甲府市","甲府市","市街地",{"v":1,"d":"1 "},"-","-","-","-","-","-",{"v":1,"d":"1 "},"-","-","-","-","-","-","-","-","-","-","-","-","-","-","-","-","…","…","…","-","-","-","-","-","-","-","-","-","-","-","-","-","-","-","-","…","…","…","-","-","-","-","-","-","-","-","-","-","-","-","-","-","-","-","…","…","…","-","-","-","-","-","-","-","-","-","-","-","-","-","-","-","-","-","-","-","-","-","-","-","-","-","-","-","-","-","-",{"$nulls":7},"-","-","-","-","-","-","-","-","-","-","-","-","-","-","-","-","-","-","-","-","-","-","-","-","-","-","-","-","-","-","-","-","-","-","-","-","-","-","-","-","-","-","-","-","-"]
["山梨県","甲府市","甲府市","城北東","-","-","-","-","-","-","-","-","-","-","-","-","-","-","-","-","-","-","-","-","-","-","-","-","…","…","…","-","-","-","-","-","-","-","-","-","-","-","-","-","-","-","-","…","…","…","-","-","-","-","-","-","-","-","-","-","-","-","-","-","-","-","…","…","…","-","-","-","-","-","-","-","-","-","-","-","-","-","-","-","-","-","-","-","-","-","-","-","-","-","-","-","-","-","-",{"$nulls":7},"-","-","-","-","-","-","-","-","-","-","-","-","-","-","-","-","-","-","-","-","-","-","-","-","-","-","-","-","-","-","-","-","-","-","-","-","-","-","-","-","-","-","-","-","-"]
["山梨県","甲府市","甲府市","城北西","-","-","-","-","-","-","-","-","-","-","-","-","-","-","-","-","-","-","-","-","-","-","-","-","…","…","…","-","-","-","-","-","-","-","-","-","-","-","-","-","-","-","-","…","…","…","-","-","-","-","-","-","-","-","-","-","-","-","-","-","-","-","…","…","…","-","-","-","-","-","-","-","-","-","-","-","-","-","-","-","-","-","-","-","-","-","-","-","-","-","-","-","-","-","-",{"$nulls":7},"-","-","-","-","-","-","-","-","-","-","-","-","-","-","-","-","-","-","-","-","-","-","-","-","-","-","-","-","-","-","-","-","-","-","-","-","-","-","-","-","-","-","-","-","-"]
["山梨県","甲府市","甲府市","南口北","-","-","-","-","-","-","-","-","-","-","-","-","-","-","-","-","-","-","-","-","-","-","-","-","…","…","…","-","-","-","-","-","-","-","-","-","-","-","-","-","-","-","-","…","…","…","-","-","-","-","-","-","-","-","-","-","-","-","-","-","-","-","…","…","…","-","-","-","-","-","-","-","-","-","-","-","-","-","-","-","-","-","-","-","-","-","-","-","-","-","-","-","-","-","-",{"$nulls":7},"-","-","-","-","-","-","-","-","-","-","-","-","-","-","-","-","-","-","-","-","-","-","-","-","-","-","-","-","-","-","-","-","-","-","-","-","-","-","-","-","-","-","-","-","-"]
["山梨県","甲府市","甲府市","朝気北","-","-","-","-","-","-","-","-","-","-","-","-","-","-","-","-","-","-","-","-","-","-","-","-","…","…","…","-","-","-","-","-","-","-","-","-","-","-","-","-","-","-","-","…","…","…","-","-","-","-","-","-","-","-","-","-","-","-","-","-","-","-","…","…","…","-","-","-","-","-","-","-","-","-","-","-","-","-","-","-","-","-","-","-","-","-","-","-","-","-","-","-","-","-","-",{"$nulls":7},"-","-","-","-","-","-","-","-","-","-","-","-","-","-","-","-","-","-","-","-","-","-","-","-","-","-","-","-","-","-","-","-","-","-","-","-","-","-","-","-","-","-","-","-","-"]
["山梨県","甲府市","甲府市","朝気南",{"v":6,"d":"6 "},{"v":2,"d":"2 "},"x","x","x","x","x",{"v":4,"d":"4 "},"x","x","x","x","x","x","x","x","x","x","x","x","x","x","x","x",{"v":60,"d":"60.0"},{"v":61,"d":"61.0"},{"v":57,"d":"57.0"},"x","x","x","x","x","x","x","x","x","x","x","x","x","x","x","x",{"v":61,"d":"61.0"},{"v":63,"d":"63.0"},{"v":57,"d":"57.0"},"x","x","x","x","x","x","x","x","x","x","x","x","x","x","x","x",{"v":63,"d":"63.0"},{"v":63,"d":"63.0"},"…",{"v":2,"d":"2 "},"-","-","-","-","-","-","-","-",{"v":1,"d":"1 "},"-","-","-",{"v":1,"d":"1 "},"-","-",{"v":2,"d":"2 "},"-","-","-","-","-","-",{"v":1,"d":"1 "},"-","-","-",{"v":1,"d":"1 "},"-","-",{"$nulls":7},{"v":6,"d":"6 "},{"v":4,"d":"4 "},{"v":2,"d":"2 "},{"v":1,"d":"1 "},{"v":1,"d":"1 "},{"v":1,"d":"1 "},{"v":1,"d":"1 "},"-",{"v":2,"d":"2 "},"-","-","-","-","-","-",{"v":1,"d":"1 "},{"v":1,"d":"1 "},"-","-","-","-","-","-","-",{"v":2,"d":"2 "},{"v":90,"d":"90 "},"-",{"v":60,"d":"60 "},{"v":30,"d":"30 "},4,4,2,1,1,"-","-","-",2,"-","-","-","-",1,1,"-"]
["山梨県","甲府市","甲府市","南口南","-","-","-","-","-","-","-","-","-","-","-","-","-","-","-","-","-","-","-","-","-","-","-","-","…","…","…","-","-","-","-","-","-","-","-","-","-","-","-","-","-","-","-","…","…","…","-","-","-","-","-","-","-","-","-","-","-","-","-","-","-","-","…","…","…","-","-","-","-","-","-","-","-","-","-","-","-","-","-","-","-","-","-","-","-","-","-","-","-","-","-","-","-","-","-",{"$nulls":7},"-","-","-","-","-","-","-","-","-","-","-","-","-","-","-","-","-","-","-","-","-","-","-","-","-","-","-","-","-","-","-","-","-","-","-","-","-","-","-","-","-","-","-","-","-"]
["山梨県","甲府市","甲府市","伊勢北中",{"v":1,"d":"1 "},"-","-","-","-","-","-",{"v":1,"d":"1 "},"-","-","-","-","-","-","-","-","-","-","-","-","-","-","-","-","…","…","…","-","-","-","-","-","-","-","-","-","-","-","-","-","-","-","-","…","…","…","-","-","-","-","-","-","-","-","-","-","-","-","-","-","-","-","…","…","…","-","-","-","-","-","-","-","-","-","-","-","-","-","-","-","-","-","-","-","-","-","-","-","-","-","-","-","-","-","-",{"$nulls":7},"-","-","-","-","-","-","-","-","-","-","-","-","-","-","-","-","-","-","-","-","-","-","-","-","-","-","-","-","-","-","-","-","-","-","-","-","-","-","-","-","-","-","-","-","-"]
["山梨県","甲府市","甲府市","伊勢南",{"v":1,"d":"1 "},"-","-","-","-","-","-",{"v":1,"d":"1 "},"-","-","-","-","-","-","-","-","-","-","-","-","-","-","-","-","…","…","…","-","-","-","-","-","-","-","-","-","-","-","-","-","-","-","-","…","…","…","-","-","-","-","-","-","-","-","-","-","-","-","-","-","-","-","…","…","…","-","-","-","-","-","-","-","-","-","-","-","-","-","-","-","-","-","-","-","-","-","-","-","-","-","-","-","-","-","-",{"$nulls":7},"-","-","-","-","-","-","-","-","-","-","-","-","-","-","-","-","-","-","-","-","-","-","-","-","-","-","-","-","-","-","-","-","-","-","-","-","-","-","-","-","-","-","-","-","-"]
["山梨県","甲府市","甲府市","城西北","-","-","-","-","-","-","-","-","-","-","-","-","-","-","-","-","-","-","-","-","-","-","-","-","…","…","…","-","-","-","-","-","-","-","-","-","-","-","-","-","-","-","-","…","…","…","-","-","-","-","-","-","-","-","-","-","-","-","-","-","-","-","…","…","…","-","-","-","-","-","-","-","-","-","-","-","-","-","-","-","-","-","-","-","-","-","-","-","-","-","-","-","-","-","-",{"$nulls":7},"-","-","-","-","-","-","-","-","-","-","-","-","-","-","-","-","-","-","-","-","-","-","-","-","-","-","-","-","-","-","-","-","-","-","-","-","-","-","-","-","-","-","-","-","-"]
["山梨県","甲府市","甲府市","緑が丘",{"v":2,"d":"2 "},{"v":1,"d":"1 "},"x","x","x","x","x",{"v":1,"d":"1 "},"x","x","x","x","x","x","x","x","x","x","x","x","x","x","x","x",{"v":51,"d":"51.0"},{"v":53,"d":"53.0"},{"v":49,"d":"49.0"},"x","x","x","x","x","x","x","x","x","x","x","x","x","x","x","x","…","…","…","x","x","x","x","x","x","x","x","x","x","x","x","x","x","x","x","…","…","…",{"v":1,"d":"1 "},"-","-","-","-","-","-","-",{"v":1,"d":"1 "},"-","-","-","-","-","-","-","-","-","-","-","-","-","-","-","-","-","-","-","-","-",{"$nulls":7},{"v":2,"d":"2 "},{"v":2,"d":"2 "},"-",{"v":2,"d":"2 "},"-","-","-","-",{"v":1,"d":"1 "},{"v":1,"d":"1 "},"-","-","-","-","-","-","-","-","-","-","-","-","-","-",{"v":1,"d":"1 "},{"v":35,"d":"35 "},{"v":15,"d":"15 "},{"v":20,"d":"20 "},"-",1,1,"-",1,"-","-","-","-",1,1,"-",1,"-","-","-","-"]
["山梨県","甲府市","甲府市","岩窪",{"v":19,"d":"19 "},{"v":1,"d":"1 "},"x","x","x","x","x",{"v":18,"d":"18 "},"x","x","x","x","x","x","x","x","x","x","x","x","x","x","x","x",{"v":51,"d":"51.0"},{"v":48,"d":"48.0"},{"v":57,"d":"57.0"},"x","x","x","x","x","x","x","x","x","x","x","x","x","x","x","x",{"v":57,"d":"57.0"},"…",{"v":57,"d":"57.0"},"x","x","x","x","x","x","x","x","x","x","x","x","x","x","x","x","…","…","…",{"v":1,"d":"1 "},"-","-","-","-","-","-","-","-","-",{"v":1,"d":"1 "},"-","-","-","-","-",{"v":1,"d":"1 "},"-","-","-","-","-","-","-",{"v":1,"d":"1 "},"-","-","-","-","-",{"$nulls":7},{"v":4,"d":"4 "},{"v":2,"d":"2 "},"-",{"v":2,"d":"2 "},"-",{"v":1,"d":"1 "},"-",{"v":1,"d":"1 "},"-","-","-","-","-","-","-","-","-","-","-","-","-","-","-","-",{"v":1,"d":"1 "},{"v":34,"d":"34 "},{"v":13,"d":"13 "},{"v":4,"d":"4 "},{"v":17,"d":"17 "},2,2,"-",2,"-","-","-","-",2,"-","-","-","-",1,"-",1]
["山梨県","甲府市","甲府市","和田",{"v":21,"d":"21 "},{"v":3,"d":"3 "},{"v":1,"d":"1 "},{"v":1,"d":"1 "},"-","-",{"v":2,"d":"2 "},{"v":18,"d":"18 "},{"v":7,"d":"7 "},"-","-","-","-","-","-",{"v":1,"d":"1 "},"-",{"v":1,"d":"1 "},{"v":1,"d":"1 "},{"v":1,"d":"1 "},{"v":2,"d":"2 "},"-","-",{"v":1,"d":"1 "},{"v":66,"d":"66.0"},59.3,{"v":71,"d":"71.0"},{"v":5,"d":"5 "},"-","-","-","-","-","-",{"v":1,"d":"1 "},"-","-","-",{"v":1,"d":"1 "},{"v":2,"d":"2 "},"-","-",{"v":1,"d":"1 "},69.2,{"v":59,"d":"59.0"},{"v":76,"d":"76.0"},{"v":4,"d":"4 "},"-","-","-","-","-","-",{"v":1,"d":"1 "},"-","-","-",{"v":1,"d":"1 "},{"v":2,"d":"2 "},"-","-","-",64.8,{"v":59,"d":"59.0"},70.5,{"v":3,"d":"3 "},"-","-","-","-","-","-",{"v":1,"d":"1 "},"-","-","-","-",{"v":1,"d":"1 "},"-","-",{"v":1,"d":"1 "},{"v":2,"d":"2 "},"-","-","-","-","-","-","-","-","-",{"v":1,"d":"1 "},"-","-",{"v":1,"d":"1 "},{"$nulls":7},{"v":7,"d":"7 "},{"v":6,"d":"6 "},{"v":4,"d":"4 "},{"v":2,"d":"2 "},"-","-","-",{"v":1,"d":"1 "},{"v":3,"d":"3 "},"-","-","-","-",{"v":2,"d":"2 "},"-",{"v":1,"d":"1 "},"-","-","-","-","-","-","-","-",{"v":3,"d":"3 "},{"v":141,"d":"141 "},{"v":54,"d":"54 "},{"v":27,"d":"27 "},{"v":60,"d":"60 "},3,3,2,1,"-","-","-","-",4,3,2,1,"-","-","-",1]
["山梨県","甲府市","甲府市","小松",{"v":7,"d":"7 "},{"v":2,"d":"2 "},"x","x","x","x","x",{"v":5,"d":"5 "},"x","x","x","x","x","x","x","x","x","x","x","x","x","x","x","x",53.3,46.8,{"v":64,"d":"64.0"},"x","x","x","x","x","x","x","x","x","x","x","x","x","x","x","x",{"v":68,"d":"68.0"},{"v":74,"d":"74.0"},{"v":64,"d":"64.0"},"x","x","x","x","x","x","x","x","x","x","x","x","x","x","x","x",74.7,{"v":74,"d":"74.0"},{"v":76,"d":"76.0"},{"v":2,"d":"2 "},"-","-","-","-","-","-","-","-","-","-","-",{"v":1,"d":"1 "},{"v":1,"d":"1 "},"-","-",{"v":1,"d":"1 "},"-","-","-","-","-","-","-","-","-","-",{"v":1,"d":"1 "},"-","-",{"$nulls":7},{"v":8,"d":"8 "},{"v":4,"d":"4 "},{"v":3,"d":"3 "},{"v":1,"d":"1 "},"-",{"v":2,"d":"2 "},{"v":2,"d":"2 "},"-",{"v":2,"d":"2 "},{"v":1,"d":"1 "},"-","-","-","-","-",{"v":1,"d":"1 "},"-","-","-","-","-","-","-","-",{"v":2,"d":"2 "},{"v":75,"d":"75 "},{"v":30,"d":"30 "},{"v":15,"d":"15 "},{"v":30,"d":"30 "},5,3,2,1,"-","-",2,"-",3,1,1,"-","-",2,"-","-"]
["山梨県","甲府市","甲府市","塚原",{"v":58,"d":"58 "},{"v":8,"d":"8 "},{"v":1,"d":"1 "},"-","-","-",{"v":7,"d":"7 "},{"v":50,"d":"50 "},{"v":17,"d":"17 "},"-","-","-","-","-","-","-",{"v":2,"d":"2 "},"-",{"v":3,"d":"3 "},{"v":5,"d":"5 "},{"v":2,"d":"2 "},{"v":2,"d":"2 "},{"v":3,"d":"3 "},"-",68.8,69.3,68.1,{"v":11,"d":"11 "},"-","-","-","-","-","-","-",{"v":1,"d":"1 "},"-",{"v":1,"d":"1 "},{"v":2,"d":"2 "},{"v":2,"d":"2 "},{"v":2,"d":"2 "},{"v":3,"d":"3 "},"-",71.8,73.8,69.4,{"v":7,"d":"7 "},"-","-","-","-","-","-","-",{"v":1,"d":"1 "},"-",{"v":1,"d":"1 "},{"v":1,"d":"1 "},"-",{"v":1,"d":"1 "},{"v":3,"d":"3 "},"-",{"v":72,"d":"72.0"},73.5,{"v":70,"d":"70.0"},{"v":8,"d":"8 "},"-","-","-","-","-","-","-",{"v":1,"d":"1 "},"-",{"v":1,"d":"1 "},{"v":2,"d":"2 "},{"v":1,"d":"1 "},{"v":1,"d":"1 "},{"v":2,"d":"2 "},"-",{"v":7,"d":"7 "},"-","-","-","-","-",{"v":1,"d":"1 "},"-",{"v":1,"d":"1 "},{"v":2,"d":"2 "},"-",{"v":1,"d":"1 "},{"v":2,"d":"2 "},"-",{"$nulls":7},{"v":23,"d":"23 "},{"v":13,"d":"13 "},{"v":7,"d":"7 "},{"v":5,"d":"5 "},{"v":1,"d":"1 "},{"v":3,"d":"3 "},{"v":3,"d":"3 "},{"v":4,"d":"4 "},{"v":2,"d":"2 "},"-","-","-","-","-","-",{"v":2,"d":"2 "},"-","-","-","-","-","-","-","-",{"v":8,"d":"8 "},{"v":397,"d":"397 "},{"v":147,"d":"147 "},{"v":158,"d":"158 "},{"v":92,"d":"92 "},10,8,4,3,1,"-","-",2,13,5,3,2,"-",3,3,2]
["山梨県","甲府市","甲府市","下積翠寺",{"v":40,"d":"40 "},{"v":1,"d":"1 "},"x","x","x","x","x",{"v":39,"d":"39 "},"x","x","x","x","x","x","x","x","x","x","x","x","x","x","x","x",{"v":52,"d":"52.0"},{"v":67,"d":"67.0"},44.5,"x","x","x","x","x","x","x","x","x","x","x","x","x","x","x","x",64.5,{"v":67,"d":"67.0"},{"v":62,"d":"62.0"},"x","x","x","x","x","x","x","x","x","x","x","x","x","x","x","x",{"v":67,"d":"67.0"},{"v":67,"d":"67.0"},"…",{"v":1,"d":"1 "},"-","-","-","-","-","-","-","-","-","-",{"v":1,"d":"1 "},"-","-","-","-",{"v":1,"d":"1 "},"-","-","-","-","-","-","-","-",{"v":1,"d":"1 "},"-","-","-","-",{"$nulls":7},{"v":3,"d":"3 "},{"v":1,"d":"1 "},{"v":1,"d":"1 "},"-","-",{"v":2,"d":"2 "},"-","-",{"v":1,"d":"1 "},"-","-","-","-","-","-",{"v":1,"d":"1 "},"-","-","-","-","-","-","-","-",{"v":1,"d":"1 "},{"v":32,"d":"32 "},{"v":23,"d":"23 "},{"v":1,"d":"1 "},{"v":8,"d":"8 "},1,1,1,"-","-","-","-","-",2,"-","-","-","-",2,"-","-"]
["山梨県","甲府市","甲府市","上積翠寺",{"v":32,"d":"32 "},{"v":5,"d":"5 "},"-","-","-","-",{"v":5,"d":"5 "},{"v":27,"d":"27 "},{"v":12,"d":"12 "},"-","-","-","-","-",{"v":2,"d":"2 "},"-","-","-","-",{"v":2,"d":"2 "},{"v":5,"d":"5 "},{"v":2,"d":"2 "},"-",{"v":1,"d":"1 "},68.4,{"v":70,"d":"70.0"},66.8,{"v":10,"d":"10 "},"-","-","-","-","-","-","-","-","-","-",{"v":2,"d":"2 "},{"v":5,"d":"5 "},{"v":2,"d":"2 "},"-",{"v":1,"d":"1 "},73.5,75.4,71.6,{"v":7,"d":"7 "},"-","-","-","-","-","-","-","-","-","-",{"v":1,"d":"1 "},{"v":4,"d":"4 "},{"v":1,"d":"1 "},"-",{"v":1,"d":"1 "},74.1,75.4,{"v":71,"d":"71.0"},{"v":5,"d":"5 "},"-","-","-","-","-","-","-","-","-","-","-",{"v":3,"d":"3 "},{"v":1,"d":"1 "},"-",{"v":1,"d":"1 "},{"v":4,"d":"4 "},"-","-","-","-","-","-","-","-","-",{"v":3,"d":"3 "},"-","-",{"v":1,"d":"1 "},{"$nulls":7},{"v":14,"d":"14 "},{"v":11,"d":"11 "},{"v":7,"d":"7 "},{"v":4,"d":"4 "},"-",{"v":2,"d":"2 "},"-",{"v":1,"d":"1 "},{"v":3,"d":"3 "},{"v":2,"d":"2 "},"-","-","-","-","-","-","-","-","-","-","-","-","-",{"v":1,"d":"1 "},{"v":5,"d":"5 "},{"v":195,"d":"195 "},{"v":119,"d":"119 "},{"v":46,"d":"46 "},{"v":30,"d":"30 "},8,8,5,3,"-","-","-","-",6,3,2,1,"-",2,"-",1]
["山梨県","甲府市","甲府市","相川南部",{"v":9,"d":"9 "},{"v":2,"d":"2 "},"x","x","x","x","x",{"v":7,"d":"7 "},"x","x","x","x","x","x","x","x","x","x","x","x","x","x","x","x",46.9,45.3,{"v":48,"d":"48.0"},"x","x","x","x","x","x","x","x","x","x","x","x","x","x","x","x",{"v":69,"d":"69.0"},{"v":75,"d":"75.0"},{"v":66,"d":"66.0"},"x","x","x","x","x","x","x","x","x","x","x","x","x","x","x","x",{"v":59,"d":"59.0"},"…",{"v":59,"d":"59.0"},{"v":2,"d":"2 "},"-","-","-","-","-","-","-","-",{"v":1,"d":"1 "},"-","-","-",{"v":1,"d":"1 "},"-","-",{"v":1,"d":"1 "},"-","-","-","-","-","-","-","-","-","-",{"v":1,"d":"1 "},"-","-",{"$nulls":7},{"v":7,"d":"7 "},{"v":2,"d":"2 "},{"v":1,"d":"1 "},{"v":1,"d":"1 "},"-",{"v":1,"d":"1 "},{"v":2,"d":"2 "},{"v":2,"d":"2 "},{"v":1,"d":"1 "},{"v":1,"d":"1 "},"-","-","-","-","-","-","-","-","-","-","-","-","-","-",{"v":2,"d":"2 "},{"v":62,"d":"62 "},{"v":14,"d":"14 "},{"v":41,"d":"41 "},{"v":7,"d":"7 "},3,1,"-",1,"-","-",1,1,4,1,1,"-","-",1,1,1]
["山梨県","甲府市","甲府市","日影",{"v":43,"d":"43 "},{"v":1,"d":"1 "},"x","x","x","x","x",{"v":42,"d":"42 "},"x","x","x","x","x","x","x","x","x","x","x","x","x","x","x","x",72.3,72.5,{"v":72,"d":"72.0"},"x","x","x","x","x","x","x","x","x","x","x","x","x","x","x","x",{"v":86,"d":"86.0"},{"v":86,"d":"86.0"},{"v":86,"d":"86.0"},"x","x","x","x","x","x","x","x","x","x","x","x","x","x","x","x",{"v":86,"d":"86.0"},{"v":86,"d":"86.0"},"…",{"v":1,"d":"1 "},"-","-","-","-","-","-","-","-","-","-","-","-","-","-",{"v":1,"d":"1 "},{"v":1,"d":"1 "},"-","-","-","-","-","-","-","-","-","-","-","-",{"v":1,"d":"1 "},{"$nulls":7},{"v":5,"d":"5 "},{"v":3,"d":"3 "},{"v":1,"d":"1 "},{"v":2,"d":"2 "},"-",{"v":1,"d":"1 "},"-",{"v":1,"d":"1 "},"-","-","-","-","-","-","-","-","-","-","-","-","-","-","-","-",{"v":1,"d":"1 "},{"v":35,"d":"35 "},{"v":15,"d":"15 "},{"v":20,"d":"20 "},"-",2,2,1,1,"-","-","-","-",3,1,"-",1,"-",1,"-",1]
["山梨県","甲府市","甲府市","塩部","-","-","-","-","-","-","-","-","-","-","-","-","-","-","-","-","-","-","-","-","-","-","-","-","…","…","…","-","-","-","-","-","-","-","-","-","-","-","-","-","-","-","-","…","…","…","-","-","-","-","-","-","-","-","-","-","-","-","-","-","-","-","…","…","…","-","-","-","-","-","-","-","-","-","-","-","-","-","-","-","-","-","-","-","-","-","-","-","-","-","-","-","-","-","-",{"$nulls":7},"-","-","-","-","-","-","-","-","-","-","-","-","-","-","-","-","-","-","-","-","-","-","-","-","-","-","-","-","-","-","-","-","-","-","-","-","-","-","-","-","-","-","-","-","-"]
["山梨県","甲府市","甲府市","湯村",{"v":3,"d":"3 "},"-","-","-","-","-","-",{"v":3,"d":"3 "},"-","-","-","-","-","-","-","-","-","-","-","-","-","-","-","-","…","…","…","-","-","-","-","-","-","-","-","-","-","-","-","-","-","-","-","…","…","…","-","-","-","-","-","-","-","-","-","-","-","-","-","-","-","-","…","…","…","-","-","-","-","-","-","-","-","-","-","-","-","-","-","-","-","-","-","-","-","-","-","-","-","-","-","-","-","-","-",{"$nulls":7},"-","-","-","-","-","-","-","-","-","-","-","-","-","-","-","-","-","-","-","-","-","-","-","-","-","-","-","-","-","-","-","-","-","-","-","-","-","-","-","-","-","-","-","-","-"]
["山梨県","甲府市","甲府市","千塚",{"v":36,"d":"36 "},{"v":7,"d":"7 "},"-","-","-","-",{"v":7,"d":"7 "},{"v":29,"d":"29 "},{"v":19,"d":"19 "},"-","-","-","-","-",{"v":1,"d":"1 "},{"v":1,"d":"1 "},{"v":3,"d":"3 "},{"v":1,"d":"1 "},"-",{"v":6,"d":"6 "},{"v":1,"d":"1 "},{"v":3,"d":"3 "},{"v":3,"d":"3 "},"-",66.2,64.2,68.4,{"v":9,"d":"9 "},"-","-","-","-","-","-","-","-","-","-",{"v":2,"d":"2 "},{"v":1,"d":"1 "},{"v":3,"d":"3 "},{"v":3,"d":"3 "},"-",76.2,77.3,75.4,{"v":5,"d":"5 "},"-","-","-","-","-","-","-","-","-","-",{"v":1,"d":"1 "},"-",{"v":1,"d":"1 "},{"v":3,"d":"3 "},"-",78.2,77.3,{"v":82,"d":"82.0"},{"v":7,"d":"7 "},"-","-","-","-","-","-","-","-","-","-",{"v":3,"d":"3 "},"-",{"v":2,"d":"2 "},{"v":2,"d":"2 "},"-",{"v":6,"d":"6 "},"-","-","-","-","-","-","-","-",{"v":2,"d":"2 "},"-",{"v":2,"d":"2 "},{"v":2,"d":"2 "},"-",{"$nulls":7},{"v":22,"d":"22 "},{"v":16,"d":"16 "},{"v":5,"d":"5 "},{"v":8,"d":"8 "},{"v":3,"d":"3 "},{"v":4,"d":"4 "},"-",{"v":2,"d":"2 "},{"v":6,"d":"6 "},{"v":4,"d":"4 "},"-","-","-","-","-",{"v":1,"d":"1 "},{"v":1,"d":"1 "},"-","-","-","-","-","-","-",{"v":7,"d":"7 "},{"v":304,"d":"304 "},{"v":181,"d":"181 "},{"v":90,"d":"90 "},{"v":33,"d":"33 "},10,10,4,5,1,"-","-","-",12,6,1,3,2,4,"-",2]
["山梨県","甲府市","甲府市","山宮",{"v":42,"d":"42 "},{"v":12,"d":"12 "},{"v":3,"d":"3 "},{"v":3,"d":"3 "},{"v":1,"d":"1 "},{"v":1,"d":"1 "},{"v":8,"d":"8 "},{"v":30,"d":"30 "},{"v":31,"d":"31 "},"-","-",{"v":1,"d":"1 "},"-",{"v":2,"d":"2 "},{"v":1,"d":"1 "},{"v":1,"d":"1 "},{"v":1,"d":"1 "},{"v":5,"d":"5 "},{"v":2,"d":"2 "},{"v":4,"d":"4 "},{"v":5,"d":"5 "},{"v":4,"d":"4 "},{"v":5,"d":"5 "},"-",64.1,65.1,63.1,{"v":22,"d":"22 "},"-","-","-","-","-","-","-","-",{"v":5,"d":"5 "},{"v":2,"d":"2 "},{"v":3,"d":"3 "},{"v":5,"d":"5 "},{"v":3,"d":"3 "},{"v":4,"d":"4 "},"-",69.2,70.3,67.9,{"v":20,"d":"20 "},"-","-","-","-","-","-","-","-",{"v":5,"d":"5 "},{"v":2,"d":"2 "},{"v":3,"d":"3 "},{"v":5,"d":"5 "},{"v":2,"d":"2 "},{"v":3,"d":"3 "},"-",68.3,70.3,65.3,{"v":12,"d":"12 "},"-","-","-","-","-","-","-","-",{"v":2,"d":"2 "},{"v":1,"d":"1 "},{"v":2,"d":"2 "},{"v":3,"d":"3 "},{"v":2,"d":"2 "},{"v":2,"d":"2 "},"-",{"v":8,"d":"8 "},"-","-","-","-","-","-",{"v":1,"d":"1 "},"-",{"v":1,"d":"1 "},{"v":2,"d":"2 "},{"v":2,"d":"2 "},{"v":2,"d":"2 "},"-",{"$nulls":7},{"v":38,"d":"38 "},{"v":28,"d":"28 "},{"v":20,"d":"20 "},{"v":6,"d":"6 "},{"v":2,"d":"2 "},{"v":2,"d":"2 "},{"v":4,"d":"4 "},{"v":4,"d":"4 "},{"v":11,"d":"11 "},{"v":2,"d":"2 "},"-","-","-",{"v":1,"d":"1 "},"-",{"v":8,"d":"8 "},"-","-","-","-","-","-","-","-",{"v":12,"d":"12 "},{"v":597,"d":"597 "},{"v":156,"d":"156 "},{"v":41,"d":"41 "},{"v":400,"d":"400 "},20,17,12,4,1,"-",3,"-",18,11,8,2,1,2,1,4]
["山梨県","甲府市","甲府市","羽黒",{"v":18,"d":"18 "},{"v":1,"d":"1 "},"x","x","x","x","x",{"v":17,"d":"17 "},"x","x","x","x","x","x","x","x","x","x","x","x","x","x","x","x",{"v":56,"d":"56.0"},{"v":67,"d":"67.0"},50.5,"x","x","x","x","x","x","x","x","x","x","x","x","x","x","x","x",{"v":67,"d":"67.0"},{"v":67,"d":"67.0"},"…","x","x","x","x","x","x","x","x","x","x","x","x","x","x","x","x",{"v":67,"d":"67.0"},{"v":67,"d":"67.0"},"…",{"v":1,"d":"1 "},"-","-","-","-","-","-","-","-","-","-",{"v":1,"d":"1 "},"-","-","-","-",{"v":1,"d":"1 "},"-","-","-","-","-","-","-","-",{"v":1,"d":"1 "},"-","-","-","-",{"$nulls":7},{"v":4,"d":"4 "},{"v":2,"d":"2 "},{"v":1,"d":"1 "},{"v":1,"d":"1 "},"-",{"v":1,"d":"1 "},"-",{"v":1,"d":"1 "},{"v":1,"d":"1 "},{"v":1,"d":"1 "},"-","-","-","-","-","-","-","-","-","-","-","-","-","-",{"v":1,"d":"1 "},{"v":60,"d":"60 "},{"v":30,"d":"30 "},{"v":20,"d":"20 "},{"v":10,"d":"10 "},1,1,1,"-","-","-","-","-",3,1,"-",1,"-",1,"-",1]
["山梨県","甲府市","甲府市","下河原",{"v":21,"d":"21 "},{"v":4,"d":"4 "},{"v":1,"d":"1 "},"-","-","-",{"v":3,"d":"3 "},{"v":17,"d":"17 "},{"v":15,"d":"15 "},{"v":1,"d":"1 "},"-","-","-",{"v":3,"d":"3 "},"-",{"v":2,"d":"2 "},"-","-","-",{"v":2,"d":"2 "},{"v":5,"d":"5 "},{"v":1,"d":"1 "},"-",{"v":1,"d":"1 "},59.6,54.4,65.6,{"v":9,"d":"9 "},{"v":1,"d":"1 "},"-","-","-",{"v":2,"d":"2 "},"-","-","-","-","-",{"v":2,"d":"2 "},{"v":2,"d":"2 "},{"v":1,"d":"1 "},"-",{"v":1,"d":"1 "},60.2,{"v":55,"d":"55.0"},66.8,{"v":5,"d":"5 "},"-","-","-","-",{"v":1,"d":"1 "},"-","-","-","-","-",{"v":1,"d":"1 "},{"v":1,"d":"1 "},{"v":1,"d":"1 "},"-",{"v":1,"d":"1 "},69.4,{"v":64,"d":"64.0"},{"v":91,"d":"91.0"},{"v":4,"d":"4 "},"-","-","-","-","-","-","-","-","-","-",{"v":1,"d":"1 "},{"v":2,"d":"2 "},{"v":1,"d":"1 "},"-","-",{"v":3,"d":"3 "},"-","-","-","-","-","-","-","-",{"v":1,"d":"1 "},{"v":1,"d":"1 "},{"v":1,"d":"1 "},"-","-",{"$nulls":7},{"v":16,"d":"16 "},{"v":11,"d":"11 "},{"v":5,"d":"5 "},{"v":6,"d":"6 "},"-",{"v":3,"d":"3 "},{"v":2,"d":"2 "},"-",{"v":3,"d":"3 "},{"v":3,"d":"3 "},"-","-","-","-","-","-","-","-","-","-","-","-","-","-",{"v":4,"d":"4 "},{"v":235,"d":"235 "},{"v":148,"d":"148 "},{"v":82,"d":"82 "},{"v":5,"d":"5 "},8,7,4,3,"-","-",1,"-",8,4,1,3,"-",3,1,"-"]
["山梨県","甲府市","甲府市","富竹",{"v":20,"d":"20 "},{"v":12,"d":"12 "},"-","-",{"v":3,"d":"3 "},{"v":1,"d":"1 "},{"v":9,"d":"9 "},{"v":8,"d":"8 "},{"v":37,"d":"37 "},"-",{"v":1,"d":"1 "},{"v":4,"d":"4 "},"-",{"v":1,"d":"1 "},{"v":2,"d":"2 "},{"v":4,"d":"4 "},{"v":1,"d":"1 "},{"v":3,"d":"3 "},{"v":4,"d":"4 "},{"v":3,"d":"3 "},{"v":4,"d":"4 "},{"v":5,"d":"5 "},{"v":3,"d":"3 "},{"v":2,"d":"2 "},59.9,54.9,66.6,{"v":17,"d":"17 "},"-","-","-","-","-","-","-","-","-",{"v":2,"d":"2 "},{"v":2,"d":"2 "},{"v":4,"d":"4 "},{"v":4,"d":"4 "},{"v":3,"d":"3 "},{"v":2,"d":"2 "},75.5,75.6,75.5,{"v":11,"d":"11 "},"-","-","-","-","-","-","-","-","-",{"v":1,"d":"1 "},{"v":2,"d":"2 "},{"v":3,"d":"3 "},{"v":4,"d":"4 "},{"v":1,"d":"1 "},"-",73.2,73.5,72.8,{"v":12,"d":"12 "},"-","-","-","-","-","-","-","-",{"v":1,"d":"1 "},{"v":2,"d":"2 "},{"v":2,"d":"2 "},{"v":2,"d":"2 "},{"v":3,"d":"3 "},{"v":1,"d":"1 "},{"v":1,"d":"1 "},{"v":11,"d":"11 "},"-","-","-","-","-","-",{"v":1,"d":"1 "},{"v":2,"d":"2 "},{"v":2,"d":"2 "},{"v":2,"d":"2 "},{"v":2,"d":"2 "},{"v":1,"d":"1 "},{"v":1,"d":"1 "},{"$nulls":7},{"v":43,"d":"43 "},{"v":33,"d":"33 "},{"v":11,"d":"11 "},{"v":18,"d":"18 "},{"v":4,"d":"4 "},{"v":5,"d":"5 "},{"v":1,"d":"1 "},{"v":4,"d":"4 "},{"v":10,"d":"10 "},{"v":10,"d":"10 "},"-","-","-","-","-","-","-","-","-","-","-","-","-","-",{"v":12,"d":"12 "},{"v":600,"d":"600 "},{"v":495,"d":"495 "},{"v":64,"d":"64 "},{"v":41,"d":"41 "},24,22,6,14,2,"-","-",2,19,11,5,4,2,5,1,2]
["山梨県","甲府市","甲府市","徳行",{"v":13,"d":"13 "},{"v":2,"d":"2 "},"x","x","x","x","x",{"v":11,"d":"11 "},"x","x","x","x","x","x","x","x","x","x","x","x","x","x","x","x",{"v":59,"d":"59.0"},{"v":53,"d":"53.0"},{"v":65,"d":"65.0"},"x","x","x","x","x","x","x","x","x","x","x","x","x","x","x","x",{"v":65,"d":"65.0"},{"v":68,"d":"68.0"},{"v":62,"d":"62.0"},"x","x","x","x","x","x","x","x","x","x","x","x","x","x","x","x",{"v":65,"d":"65.0"},{"v":68,"d":"68.0"},{"v":62,"d":"62.0"},{"v":2,"d":"2 "},"-","-","-","-","-","-","-","-","-","-",{"v":2,"d":"2 "},"-","-","-","-",{"v":2,"d":"2 "},"-","-","-","-","-","-","-","-",{"v":2,"d":"2 "},"-","-","-","-",{"$nulls":7},{"v":6,"d":"6 "},{"v":4,"d":"4 "},{"v":2,"d":"2 "},{"v":1,"d":"1 "},{"v":1,"d":"1 "},{"v":1,"d":"1 "},"-",{"v":1,"d":"1 "},{"v":1,"d":"1 "},"-","-","-","-",{"v":1,"d":"1 "},"-","-","-","-","-","-","-","-","-","-",{"v":2,"d":"2 "},{"v":161,"d":"161 "},{"v":161,"d":"161 "},"-","-",2,2,1,1,"-","-","-","-",4,2,1,"-",1,1,"-",1]
["山梨県","甲府市","甲府市","上石田",{"v":17,"d":"17 "},{"v":9,"d":"9 "},{"v":1,"d":"1 "},"-",{"v":1,"d":"1 "},{"v":1,"d":"1 "},{"v":7,"d":"7 "},{"v":8,"d":"8 "},{"v":23,"d":"23 "},"-","-","-","-",{"v":1,"d":"1 "},{"v":1,"d":"1 "},{"v":3,"d":"3 "},{"v":1,"d":"1 "},{"v":1,"d":"1 "},{"v":3,"d":"3 "},{"v":3,"d":"3 "},{"v":2,"d":"2 "},{"v":4,"d":"4 "},{"v":3,"d":"3 "},{"v":1,"d":"1 "},65.1,63.6,66.4,{"v":13,"d":"13 "},"-","-","-","-","-","-","-","-","-",{"v":3,"d":"3 "},{"v":3,"d":"3 "},{"v":1,"d":"1 "},{"v":3,"d":"3 "},{"v":2,"d":"2 "},{"v":1,"d":"1 "},{"v":72,"d":"72.0"},72.6,71.3,{"v":11,"d":"11 "},"-","-","-","-","-","-","-","-","-",{"v":3,"d":"3 "},{"v":3,"d":"3 "},{"v":1,"d":"1 "},{"v":2,"d":"2 "},{"v":2,"d":"2 "},"-",70.5,72.6,{"v":67,"d":"67.0"},{"v":9,"d":"9 "},"-","-","-","-","-","-","-","-",{"v":1,"d":"1 "},{"v":1,"d":"1 "},{"v":2,"d":"2 "},{"v":2,"d":"2 "},{"v":1,"d":"1 "},{"v":2,"d":"2 "},"-",{"v":5,"d":"5 "},"-","-","-","-","-","-",{"v":1,"d":"1 "},"-","-",{"v":1,"d":"1 "},{"v":1,"d":"1 "},{"v":2,"d":"2 "},"-",{"$nulls":7},{"v":30,"d":"30 "},{"v":19,"d":"19 "},{"v":11,"d":"11 "},{"v":8,"d":"8 "},"-",{"v":3,"d":"3 "},{"v":5,"d":"5 "},{"v":3,"d":"3 "},{"v":8,"d":"8 "},{"v":6,"d":"6 "},"-","-","-",{"v":1,"d":"1 "},"-","-",{"v":1,"d":"1 "},"-","-","-","-","-","-","-",{"v":9,"d":"9 "},{"v":503,"d":"503 "},{"v":407,"d":"407 "},{"v":55,"d":"55 "},{"v":41,"d":"41 "},15,11,7,4,"-","-",4,"-",15,8,4,4,"-",3,1,3]
["山梨県","甲府市","甲府市","酒折",{"v":10,"d":"10 "},{"v":7,"d":"7 "},{"v":2,"d":"2 "},{"v":1,"d":"1 "},{"v":2,"d":"2 "},{"v":1,"d":"1 "},{"v":3,"d":"3 "},{"v":3,"d":"3 "},{"v":21,"d":"21 "},"-",{"v":2,"d":"2 "},{"v":1,"d":"1 "},"-",{"v":1,"d":"1 "},"-","-",{"v":3,"d":"3 "},{"v":5,"d":"5 "},{"v":1,"d":"1 "},{"v":2,"d":"2 "},"-",{"v":4,"d":"4 "},{"v":2,"d":"2 "},"-",57.7,57.5,57.9,{"v":12,"d":"12 "},"-","-","-","-",{"v":1,"d":"1 "},"-","-",{"v":2,"d":"2 "},{"v":2,"d":"2 "},"-",{"v":2,"d":"2 "},"-",{"v":3,"d":"3 "},{"v":2,"d":"2 "},"-",65.3,72.2,60.4,{"v":10,"d":"10 "},"-","-","-","-",{"v":1,"d":"1 "},"-","-",{"v":1,"d":"1 "},{"v":1,"d":"1 "},"-",{"v":2,"d":"2 "},"-",{"v":3,"d":"3 "},{"v":2,"d":"2 "},"-",67.4,72.2,62.6,{"v":7,"d":"7 "},"-","-","-","-","-","-","-",{"v":1,"d":"1 "},{"v":1,"d":"1 "},{"v":1,"d":"1 "},{"v":1,"d":"1 "},"-",{"v":1,"d":"1 "},{"v":2,"d":"2 "},"-",{"v":4,"d":"4 "},"-","-","-","-","-","-",{"v":1,"d":"1 "},"-",{"v":1,"d":"1 "},"-",{"v":1,"d":"1 "},{"v":1,"d":"1 "},"-",{"$nulls":7},{"v":24,"d":"24 "},{"v":18,"d":"18 "},{"v":10,"d":"10 "},{"v":8,"d":"8 "},"-",{"v":2,"d":"2 "},"-",{"v":4,"d":"4 "},{"v":7,"d":"7 "},"-","-","-","-","-","-",{"v":7,"d":"7 "},"-","-","-","-","-","-","-","-",{"v":7,"d":"7 "},{"v":370,"d":"370 "},"-","-",{"v":370,"d":"370 "},12,12,5,7,"-","-","-","-",12,6,5,1,"-",2,"-",4]
["山梨県","甲府市","甲府市","西山",{"v":20,"d":"20 "},{"v":15,"d":"15 "},{"v":9,"d":"9 "},{"v":8,"d":"8 "},{"v":1,"d":"1 "},"-",{"v":5,"d":"5 "},{"v":5,"d":"5 "},{"v":36,"d":"36 "},{"v":1,"d":"1 "},{"v":1,"d":"1 "},"-",{"v":1,"d":"1 "},{"v":1,"d":"1 "},{"v":2,"d":"2 "},{"v":3,"d":"3 "},{"v":5,"d":"5 "},{"v":3,"d":"3 "},{"v":5,"d":"5 "},{"v":3,"d":"3 "},{"v":2,"d":"2 "},{"v":5,"d":"5 "},{"v":4,"d":"4 "},"-",{"v":59,"d":"59.0"},60.4,57.4,{"v":31,"d":"31 "},{"v":1,"d":"1 "},{"v":1,"d":"1 "},"-",{"v":1,"d":"1 "},"-",{"v":1,"d":"1 "},{"v":3,"d":"3 "},{"v":4,"d":"4 "},{"v":1,"d":"1 "},{"v":5,"d":"5 "},{"v":3,"d":"3 "},{"v":2,"d":"2 "},{"v":5,"d":"5 "},{"v":4,"d":"4 "},"-",60.7,61.1,60.1,{"v":27,"d":"27 "},"-",{"v":1,"d":"1 "},"-",{"v":1,"d":"1 "},"-",{"v":1,"d":"1 "},{"v":1,"d":"1 "},{"v":4,"d":"4 "},{"v":1,"d":"1 "},{"v":5,"d":"5 "},{"v":3,"d":"3 "},{"v":2,"d":"2 "},{"v":5,"d":"5 "},{"v":3,"d":"3 "},"-",62.5,63.9,60.5,{"v":15,"d":"15 "},"-","-","-","-","-","-","-",{"v":2,"d":"2 "},{"v":2,"d":"2 "},{"v":3,"d":"3 "},{"v":2,"d":"2 "},"-",{"v":2,"d":"2 "},{"v":3,"d":"3 "},{"v":1,"d":"1 "},{"v":10,"d":"10 "},"-","-","-","-","-",{"v":1,"d":"1 "},{"v":1,"d":"1 "},{"v":3,"d":"3 "},{"v":2,"d":"2 "},"-",{"v":1,"d":"1 "},{"v":1,"d":"1 "},{"v":1,"d":"1 "},{"$nulls":7},{"v":48,"d":"48 "},{"v":33,"d":"33 "},{"v":27,"d":"27 "},{"v":5,"d":"5 "},{"v":1,"d":"1 "},{"v":5,"d":"5 "},{"v":6,"d":"6 "},{"v":4,"d":"4 "},{"v":15,"d":"15 "},"-","-","-","-","-","-",{"v":15,"d":"15 "},"-","-","-","-","-","-","-","-",{"v":15,"d":"15 "},{"v":1064,"d":"1,064 "},"-",{"v":40,"d":"40 "},{"v":1024,"d":"1,024 "},22,18,16,1,1,"-",2,2,26,15,11,4,"-",5,4,2]
["山梨県","甲府市","甲府市","東光寺東",{"v":25,"d":"25 "},{"v":18,"d":"18 "},{"v":6,"d":"6 "},{"v":6,"d":"6 "},{"v":6,"d":"6 "},{"v":4,"d":"4 "},{"v":6,"d":"6 "},{"v":7,"d":"7 "},{"v":50,"d":"50 "},{"v":2,"d":"2 "},{"v":3,"d":"3 "},{"v":2,"d":"2 "},{"v":1,"d":"1 "},"-","-","-",{"v":10,"d":"10 "},{"v":9,"d":"9 "},{"v":6,"d":"6 "},{"v":5,"d":"5 "},"-",{"v":3,"d":"3 "},{"v":7,"d":"7 "},{"v":2,"d":"2 "},57.8,{"v":54,"d":"54.0"},61.6,{"v":31,"d":"31 "},"-","-","-","-","-","-","-",{"v":8,"d":"8 "},{"v":3,"d":"3 "},{"v":5,"d":"5 "},{"v":3,"d":"3 "},"-",{"v":3,"d":"3 "},{"v":7,"d":"7 "},{"v":2,"d":"2 "},66.5,67.9,65.9,{"v":28,"d":"28 "},"-","-","-","-","-","-","-",{"v":8,"d":"8 "},{"v":3,"d":"3 "},{"v":4,"d":"4 "},{"v":3,"d":"3 "},"-",{"v":3,"d":"3 "},{"v":6,"d":"6 "},{"v":1,"d":"1 "},65.4,67.9,64.2,{"v":18,"d":"18 "},"-","-","-","-","-","-","-",{"v":2,"d":"2 "},{"v":4,"d":"4 "},{"v":2,"d":"2 "},{"v":3,"d":"3 "},"-",{"v":2,"d":"2 "},{"v":4,"d":"4 "},{"v":1,"d":"1 "},{"v":6,"d":"6 "},"-","-","-","-","-","-",{"v":1,"d":"1 "},"-",{"v":1,"d":"1 "},"-",{"v":1,"d":"1 "},{"v":3,"d":"3 "},"-",{"$nulls":7},{"v":56,"d":"56 "},{"v":47,"d":"47 "},{"v":28,"d":"28 "},{"v":17,"d":"17 "},{"v":2,"d":"2 "},{"v":3,"d":"3 "},{"v":4,"d":"4 "},{"v":2,"d":"2 "},{"v":18,"d":"18 "},"-","-","-","-","-","-",{"v":18,"d":"18 "},"-","-","-","-","-","-","-","-",{"v":18,"d":"18 "},{"v":1007,"d":"1,007 "},"-",{"v":1,"d":"1 "},{"v":1006,"d":"1,006 "},27,24,9,13,2,"-",3,"-",29,23,19,4,"-",3,1,2]
["山梨県","甲府市","甲府市","善光寺",{"v":32,"d":"32 "},{"v":21,"d":"21 "},{"v":5,"d":"5 "},{"v":2,"d":"2 "},{"v":5,"d":"5 "},{"v":3,"d":"3 "},{"v":11,"d":"11 "},{"v":11,"d":"11 "},{"v":49,"d":"49 "},"-","-",{"v":1,"d":"1 "},{"v":1,"d":"1 "},{"v":1,"d":"1 "},{"v":2,"d":"2 "},{"v":2,"d":"2 "},{"v":2,"d":"2 "},{"v":5,"d":"5 "},{"v":6,"d":"6 "},{"v":9,"d":"9 "},{"v":5,"d":"5 "},{"v":7,"d":"7 "},{"v":2,"d":"2 "},{"v":6,"d":"6 "},{"v":66,"d":"66.0"},66.5,65.6,{"v":39,"d":"39 "},"-","-","-","-","-","-",{"v":1,"d":"1 "},{"v":2,"d":"2 "},{"v":2,"d":"2 "},{"v":5,"d":"5 "},{"v":9,"d":"9 "},{"v":5,"d":"5 "},{"v":7,"d":"7 "},{"v":2,"d":"2 "},{"v":6,"d":"6 "},71.2,73.3,69.3,{"v":33,"d":"33 "},"-","-","-","-","-","-",{"v":1,"d":"1 "},{"v":1,"d":"1 "},{"v":1,"d":"1 "},{"v":5,"d":"5 "},{"v":7,"d":"7 "},{"v":4,"d":"4 "},{"v":7,"d":"7 "},{"v":2,"d":"2 "},{"v":5,"d":"5 "},71.6,73.3,69.5,{"v":21,"d":"21 "},"-","-","-","-","-","-",{"v":1,"d":"1 "},"-",{"v":1,"d":"1 "},{"v":3,"d":"3 "},{"v":4,"d":"4 "},{"v":2,"d":"2 "},{"v":5,"d":"5 "},{"v":2,"d":"2 "},{"v":3,"d":"3 "},{"v":4,"d":"4 "},"-","-","-","-",{"v":1,"d":"1 "},"-","-","-",{"v":1,"d":"1 "},"-",{"v":1,"d":"1 "},"-",{"v":1,"d":"1 "},{"$nulls":7},{"v":61,"d":"61 "},{"v":52,"d":"52 "},{"v":33,"d":"33 "},{"v":18,"d":"18 "},{"v":1,"d":"1 "},{"v":6,"d":"6 "},{"v":2,"d":"2 "},{"v":1,"d":"1 "},{"v":21,"d":"21 "},"-","-","-","-","-","-",{"v":21,"d":"21 "},"-","-","-","-","-","-","-","-",{"v":21,"d":"21 "},{"v":770,"d":"770 "},"-","-",{"v":770,"d":"770 "},27,26,18,8,"-","-",1,"-",34,26,15,10,1,6,1,1]
["山梨県","甲府市","甲府市","城東",{"v":3,"d":"3 "},{"v":3,"d":"3 "},{"v":1,"d":"1 "},{"v":1,"d":"1 "},{"v":2,"d":"2 "},{"v":2,"d":"2 "},"-","-",{"v":8,"d":"8 "},"-",{"v":1,"d":"1 "},"-","-","-","-",{"v":1,"d":"1 "},{"v":2,"d":"2 "},{"v":2,"d":"2 "},{"v":1,"d":"1 "},"-",{"v":1,"d":"1 "},"-","-","-",{"v":53,"d":"53.0"},48.5,57.5,{"v":5,"d":"5 "},"-","-","-","-","-","-",{"v":1,"d":"1 "},{"v":1,"d":"1 "},{"v":2,"d":"2 "},{"v":1,"d":"1 "},"-","-","-","-","-",55.8,60.5,52.7,{"v":5,"d":"5 "},"-","-","-","-","-","-",{"v":1,"d":"1 "},{"v":1,"d":"1 "},{"v":2,"d":"2 "},{"v":1,"d":"1 "},"-","-","-","-","-",55.8,60.5,52.7,{"v":3,"d":"3 "},"-","-","-","-","-","-","-",{"v":1,"d":"1 "},{"v":1,"d":"1 "},{"v":1,"d":"1 "},"-","-","-","-","-",{"v":1,"d":"1 "},"-","-","-","-","-","-","-",{"v":1,"d":"1 "},"-","-","-","-","-",{"$nulls":7},{"v":11,"d":"11 "},{"v":8,"d":"8 "},{"v":5,"d":"5 "},{"v":2,"d":"2 "},{"v":1,"d":"1 "},"-",{"v":1,"d":"1 "},{"v":2,"d":"2 "},{"v":3,"d":"3 "},"-","-","-","-","-","-",{"v":3,"d":"3 "},"-","-","-","-","-","-","-","-",{"v":3,"d":"3 "},{"v":193,"d":"193 "},"-","-",{"v":193,"d":"193 "},4,3,2,1,"-","-",1,"-",7,5,3,1,1,"-","-",2]
["山梨県","甲府市","甲府市","北原",{"v":23,"d":"23 "},{"v":19,"d":"19 "},{"v":8,"d":"8 "},{"v":8,"d":"8 "},{"v":3,"d":"3 "},{"v":2,"d":"2 "},{"v":8,"d":"8 "},{"v":4,"d":"4 "},{"v":46,"d":"46 "},"-",{"v":2,"d":"2 "},{"v":4,"d":"4 "},{"v":2,"d":"2 "},{"v":1,"d":"1 "},"-","-",{"v":2,"d":"2 "},{"v":5,"d":"5 "},{"v":11,"d":"11 "},{"v":6,"d":"6 "},{"v":4,"d":"4 "},{"v":5,"d":"5 "},{"v":2,"d":"2 "},{"v":2,"d":"2 "},59.3,59.3,59.2,{"v":37,"d":"37 "},"-",{"v":1,"d":"1 "},{"v":2,"d":"2 "},{"v":1,"d":"1 "},{"v":1,"d":"1 "},"-","-","-",{"v":3,"d":"3 "},{"v":10,"d":"10 "},{"v":6,"d":"6 "},{"v":4,"d":"4 "},{"v":5,"d":"5 "},{"v":2,"d":"2 "},{"v":2,"d":"2 "},63.4,65.2,61.7,{"v":31,"d":"31 "},"-","-",{"v":1,"d":"1 "},{"v":1,"d":"1 "},"-","-","-","-",{"v":3,"d":"3 "},{"v":10,"d":"10 "},{"v":6,"d":"6 "},{"v":4,"d":"4 "},{"v":5,"d":"5 "},"-",{"v":1,"d":"1 "},64.6,66.9,61.9,{"v":19,"d":"19 "},"-","-","-","-","-","-","-","-",{"v":2,"d":"2 "},{"v":5,"d":"5 "},{"v":4,"d":"4 "},{"v":3,"d":"3 "},{"v":4,"d":"4 "},"-",{"v":1,"d":"1 "},{"v":5,"d":"5 "},"-","-","-","-","-","-",{"v":2,"d":"2 "},"-",{"v":2,"d":"2 "},"-","-","-",{"v":1,"d":"1 "},{"$nulls":7},{"v":53,"d":"53 "},{"v":42,"d":"42 "},{"v":31,"d":"31 "},{"v":9,"d":"9 "},{"v":2,"d":"2 "},{"v":2,"d":"2 "},{"v":2,"d":"2 "},{"v":7,"d":"7 "},{"v":18,"d":"18 "},"-","-","-","-","-","-",{"v":18,"d":"18 "},"-","-","-","-","-","-","-","-",{"v":19,"d":"19 "},{"v":1191,"d":"1,191 "},"-",{"v":10,"d":"10 "},{"v":1181,"d":"1,181 "},27,25,17,7,1,"-",1,1,26,17,14,2,1,2,1,6]
["山梨県","甲府市","甲府市","金竹",{"v":8,"d":"8 "},{"v":4,"d":"4 "},"-","-","-","-",{"v":4,"d":"4 "},{"v":4,"d":"4 "},{"v":8,"d":"8 "},"-","-","-","-","-","-",{"v":1,"d":"1 "},{"v":2,"d":"2 "},{"v":3,"d":"3 "},"-",{"v":2,"d":"2 "},"-","-","-","-",56.8,{"v":58,"d":"58.0"},55.5,{"v":4,"d":"4 "},"-","-","-","-","-","-","-",{"v":1,"d":"1 "},{"v":1,"d":"1 "},"-",{"v":2,"d":"2 "},"-","-","-","-",{"v":61,"d":"61.0"},{"v":69,"d":"69.0"},58.3,{"v":1,"d":"1 "},"-","-","-","-","-","-","-","-","-","-",{"v":1,"d":"1 "},"-","-","-","-",{"v":69,"d":"69.0"},{"v":69,"d":"69.0"},"…",{"v":4,"d":"4 "},"-","-","-","-","-","-","-",{"v":1,"d":"1 "},{"v":2,"d":"2 "},"-",{"v":1,"d":"1 "},"-","-","-","-",{"v":4,"d":"4 "},"-","-","-","-","-",{"v":1,"d":"1 "},{"v":2,"d":"2 "},"-",{"v":1,"d":"1 "},"-","-","-","-",{"$nulls":7},{"v":13,"d":"13 "},{"v":6,"d":"6 "},{"v":1,"d":"1 "},{"v":3,"d":"3 "},{"v":2,"d":"2 "},{"v":3,"d":"3 "},{"v":1,"d":"1 "},{"v":3,"d":"3 "},{"v":2,"d":"2 "},"-","-","-","-","-","-",{"v":2,"d":"2 "},"-","-","-","-","-","-","-","-",{"v":4,"d":"4 "},{"v":261,"d":"261 "},{"v":106,"d":"106 "},{"v":87,"d":"87 "},{"v":68,"d":"68 "},5,5,1,3,1,"-","-","-",8,1,"-","-",1,3,1,3]
["山梨県","甲府市","甲府市","長松寺",{"v":5,"d":"5 "},"-","-","-","-","-","-",{"v":5,"d":"5 "},"-","-","-","-","-","-","-","-","-","-","-","-","-","-","-","-","…","…","…","-","-","-","-","-","-","-","-","-","-","-","-","-","-","-","-","…","…","…","-","-","-","-","-","-","-","-","-","-","-","-","-","-","-","-","…","…","…","-","-","-","-","-","-","-","-","-","-","-","-","-","-","-","-","-","-","-","-","-","-","-","-","-","-","-","-","-","-",{"$nulls":7},"-","-","-","-","-","-","-","-","-","-","-","-","-","-","-","-","-","-","-","-","-","-","-","-","-","-","-","-","-","-","-","-","-","-","-","-","-","-","-","-","-","-","-","-","-"]
["山梨県","甲府市","甲府市","新田",{"v":9,"d":"9 "},{"v":1,"d":"1 "},"x","x","x","x","x",{"v":8,"d":"8 "},"x","x","x","x","x","x","x","x","x","x","x","x","x","x","x","x",51.5,36.5,66.5,"x","x","x","x","x","x","x","x","x","x","x","x","x","x","x","x",66.5,"…",66.5,"x","x","x","x","x","x","x","x","x","x","x","x","x","x","x","x",{"v":84,"d":"84.0"},"…",{"v":84,"d":"84.0"},{"v":1,"d":"1 "},"-","-","-","-","-","-","-","-","-","-","-","-","-",{"v":1,"d":"1 "},"-",{"v":1,"d":"1 "},"-","-","-","-","-","-","-","-","-","-","-",{"v":1,"d":"1 "},"-",{"$nulls":7},{"v":4,"d":"4 "},{"v":2,"d":"2 "},{"v":1,"d":"1 "},{"v":1,"d":"1 "},"-",{"v":1,"d":"1 "},{"v":1,"d":"1 "},"-",{"v":1,"d":"1 "},{"v":1,"d":"1 "},"-","-","-","-","-","-","-","-","-","-","-","-","-","-",{"v":1,"d":"1 "},{"v":80,"d":"80 "},{"v":60,"d":"60 "},{"v":15,"d":"15 "},{"v":5,"d":"5 "},2,1,"-",1,"-","-",1,"-",2,1,1,"-","-",1,"-","-"]
["山梨県","甲府市","甲府市","下飯田",{"v":18,"d":"18 "},{"v":4,"d":"4 "},{"v":1,"d":"1 "},{"v":1,"d":"1 "},{"v":2,"d":"2 "},{"v":1,"d":"1 "},{"v":1,"d":"1 "},{"v":14,"d":"14 "},{"v":14,"d":"14 "},{"v":1,"d":"1 "},{"v":1,"d":"1 "},"-","-",{"v":1,"d":"1 "},{"v":2,"d":"2 "},"-",{"v":3,"d":"3 "},{"v":1,"d":"1 "},"-",{"v":2,"d":"2 "},{"v":1,"d":"1 "},{"v":1,"d":"1 "},{"v":1,"d":"1 "},"-",{"v":52,"d":"52.0"},{"v":50,"d":"50.0"},{"v":54,"d":"54.0"},{"v":7,"d":"7 "},"-","-","-","-","-",{"v":1,"d":"1 "},"-",{"v":2,"d":"2 "},"-","-",{"v":2,"d":"2 "},"-",{"v":1,"d":"1 "},{"v":1,"d":"1 "},"-",{"v":62,"d":"62.0"},{"v":66,"d":"66.0"},{"v":59,"d":"59.0"},{"v":5,"d":"5 "},"-","-","-","-","-","-","-",{"v":1,"d":"1 "},"-","-",{"v":2,"d":"2 "},"-",{"v":1,"d":"1 "},{"v":1,"d":"1 "},"-",67.8,{"v":66,"d":"66.0"},70.5,{"v":4,"d":"4 "},"-","-","-","-","-",{"v":1,"d":"1 "},"-",{"v":1,"d":"1 "},"-","-",{"v":1,"d":"1 "},"-","-",{"v":1,"d":"1 "},"-",{"v":4,"d":"4 "},"-","-","-",{"v":1,"d":"1 "},"-",{"v":1,"d":"1 "},"-","-",{"v":1,"d":"1 "},"-","-",{"v":1,"d":"1 "},"-",{"$nulls":7},{"v":17,"d":"17 "},{"v":11,"d":"11 "},{"v":5,"d":"5 "},{"v":5,"d":"5 "},{"v":1,"d":"1 "},{"v":2,"d":"2 "},{"v":2,"d":"2 "},{"v":2,"d":"2 "},{"v":3,"d":"3 "},{"v":1,"d":"1 "},"-","-","-",{"v":1,"d":"1 "},"-",{"v":1,"d":"1 "},"-","-","-","-","-","-","-","-",{"v":4,"d":"4 "},{"v":218,"d":"218 "},{"v":162,"d":"162 "},{"v":33,"d":"33 "},{"v":23,"d":"23 "},7,6,3,2,1,"-",1,"-",10,5,2,3,"-",2,1,2]
["山梨県","甲府市","甲府市","中村",{"v":14,"d":"14 "},{"v":5,"d":"5 "},{"v":1,"d":"1 "},"-","-","-",{"v":4,"d":"4 "},{"v":9,"d":"9 "},{"v":9,"d":"9 "},"-","-","-","-",{"v":1,"d":"1 "},"-","-","-",{"v":1,"d":"1 "},{"v":1,"d":"1 "},{"v":2,"d":"2 "},{"v":1,"d":"1 "},"-",{"v":2,"d":"2 "},{"v":1,"d":"1 "},{"v":68,"d":"68.0"},67.7,68.7,{"v":6,"d":"6 "},"-","-","-","-",{"v":1,"d":"1 "},"-","-","-","-","-",{"v":1,"d":"1 "},{"v":1,"d":"1 "},"-",{"v":2,"d":"2 "},{"v":1,"d":"1 "},{"v":71,"d":"71.0"},68.8,{"v":82,"d":"82.0"},{"v":5,"d":"5 "},"-","-","-","-",{"v":1,"d":"1 "},"-","-","-","-","-",{"v":1,"d":"1 "},{"v":1,"d":"1 "},"-",{"v":1,"d":"1 "},{"v":1,"d":"1 "},68.8,68.8,"…",{"v":5,"d":"5 "},"-","-","-","-","-","-","-","-","-",{"v":1,"d":"1 "},{"v":1,"d":"1 "},{"v":1,"d":"1 "},"-",{"v":1,"d":"1 "},{"v":1,"d":"1 "},{"v":5,"d":"5 "},"-","-","-","-","-","-","-",{"v":1,"d":"1 "},{"v":1,"d":"1 "},{"v":1,"d":"1 "},"-",{"v":1,"d":"1 "},{"v":1,"d":"1 "},{"$nulls":7},{"v":15,"d":"15 "},{"v":10,"d":"10 "},{"v":5,"d":"5 "},{"v":5,"d":"5 "},"-",{"v":2,"d":"2 "},{"v":1,"d":"1 "},{"v":2,"d":"2 "},{"v":3,"d":"3 "},"-","-","-","-","-","-",{"v":3,"d":"3 "},"-","-","-","-","-","-","-","-",{"v":5,"d":"5 "},{"v":208,"d":"208 "},{"v":50,"d":"50 "},{"v":79,"d":"79 "},{"v":79,"d":"79 "},8,8,5,3,"-","-","-","-",7,2,"-",2,"-",2,1,2]
["山梨県","甲府市","甲府市","荒川",{"v":27,"d":"27 "},{"v":3,"d":"3 "},"-","-","-","-",{"v":3,"d":"3 "},{"v":24,"d":"24 "},{"v":9,"d":"9 "},"-",{"v":1,"d":"1 "},"-",{"v":1,"d":"1 "},{"v":1,"d":"1 "},"-",{"v":1,"d":"1 "},"-",{"v":1,"d":"1 "},{"v":1,"d":"1 "},{"v":1,"d":"1 "},{"v":2,"d":"2 "},"-","-","-",51.8,50.2,53.8,{"v":6,"d":"6 "},"-","-","-",{"v":1,"d":"1 "},"-","-",{"v":1,"d":"1 "},"-","-",{"v":1,"d":"1 "},{"v":1,"d":"1 "},{"v":2,"d":"2 "},"-","-","-",58.5,{"v":68,"d":"68.0"},53.8,{"v":2,"d":"2 "},"-","-","-","-","-","-","-","-","-","-",{"v":1,"d":"1 "},{"v":1,"d":"1 "},"-","-","-",{"v":68,"d":"68.0"},{"v":68,"d":"68.0"},"…",{"v":3,"d":"3 "},"-","-","-","-","-","-","-","-",{"v":1,"d":"1 "},"-",{"v":1,"d":"1 "},{"v":1,"d":"1 "},"-","-","-",{"v":3,"d":"3 "},"-","-","-","-","-","-",{"v":1,"d":"1 "},"-",{"v":1,"d":"1 "},{"v":1,"d":"1 "},"-","-","-",{"$nulls":7},{"v":9,"d":"9 "},{"v":4,"d":"4 "},{"v":2,"d":"2 "},{"v":2,"d":"2 "},"-",{"v":4,"d":"4 "},{"v":1,"d":"1 "},"-",{"v":1,"d":"1 "},{"v":1,"d":"1 "},"-","-","-","-","-","-","-","-","-","-","-","-","-","-",{"v":3,"d":"3 "},{"v":114,"d":"114 "},{"v":83,"d":"83 "},{"v":15,"d":"15 "},{"v":16,"d":"16 "},5,4,2,2,"-","-",1,"-",4,"-","-","-","-",4,"-","-"]
["山梨県","甲府市","甲府市","下石田",{"v":10,"d":"10 "},{"v":2,"d":"2 "},"x","x","x","x","x",{"v":8,"d":"8 "},"x","x","x","x","x","x","x","x","x","x","x","x","x","x","x","x",61.8,58.5,{"v":75,"d":"75.0"},"x","x","x","x","x","x","x","x","x","x","x","x","x","x","x","x",77.5,{"v":80,"d":"80.0"},{"v":75,"d":"75.0"},"x","x","x","x","x","x","x","x","x","x","x","x","x","x","x","x",77.5,{"v":80,"d":"80.0"},{"v":75,"d":"75.0"},{"v":2,"d":"2 "},"-","-","-","-","-","-","-","-","-","-",{"v":1,"d":"1 "},"-","-",{"v":1,"d":"1 "},"-",{"v":2,"d":"2 "},"-","-","-","-","-","-","-","-",{"v":1,"d":"1 "},"-","-",{"v":1,"d":"1 "},"-",{"$nulls":7},{"v":7,"d":"7 "},{"v":6,"d":"6 "},{"v":2,"d":"2 "},{"v":4,"d":"4 "},"-",{"v":1,"d":"1 "},"-","-",{"v":1,"d":"1 "},"-","-","-","-",{"v":1,"d":"1 "},"-","-","-","-","-","-","-","-","-","-",{"v":2,"d":"2 "},{"v":51,"d":"51 "},{"v":36,"d":"36 "},{"v":15,"d":"15 "},"-",4,4,1,3,"-","-","-","-",3,2,1,1,"-",1,"-","-"]
["山梨県","甲府市","甲府市","上小河原",{"v":17,"d":"17 "},{"v":4,"d":"4 "},"-","-","-","-",{"v":4,"d":"4 "},{"v":13,"d":"13 "},{"v":8,"d":"8 "},"-","-","-","-","-","-","-","-","-",{"v":3,"d":"3 "},"-",{"v":2,"d":"2 "},{"v":1,"d":"1 "},{"v":1,"d":"1 "},{"v":1,"d":"1 "},73.1,{"v":75,"d":"75.0"},{"v":70,"d":"70.0"},{"v":4,"d":"4 "},"-","-","-","-","-","-","-","-","-",{"v":1,"d":"1 "},"-",{"v":1,"d":"1 "},"-",{"v":1,"d":"1 "},{"v":1,"d":"1 "},77.5,78.7,{"v":74,"d":"74.0"},{"v":4,"d":"4 "},"-","-","-","-","-","-","-","-","-",{"v":1,"d":"1 "},"-",{"v":1,"d":"1 "},"-",{"v":1,"d":"1 "},{"v":1,"d":"1 "},77.5,78.7,{"v":74,"d":"74.0"},{"v":4,"d":"4 "},"-","-","-","-","-","-","-","-","-",{"v":1,"d":"1 "},"-","-",{"v":1,"d":"1 "},{"v":1,"d":"1 "},{"v":1,"d":"1 "},{"v":3,"d":"3 "},"-","-","-","-","-","-","-","-","-","-",{"v":1,"d":"1 "},{"v":1,"d":"1 "},{"v":1,"d":"1 "},{"$nulls":7},{"v":11,"d":"11 "},{"v":9,"d":"9 "},{"v":4,"d":"4 "},{"v":4,"d":"4 "},{"v":1,"d":"1 "},{"v":1,"d":"1 "},"-",{"v":1,"d":"1 "},{"v":2,"d":"2 "},{"v":1,"d":"1 "},"-","-","-",{"v":1,"d":"1 "},"-","-","-","-","-","-","-","-","-","-",{"v":4,"d":"4 "},{"v":241,"d":"241 "},{"v":204,"d":"204 "},{"v":27,"d":"27 "},{"v":10,"d":"10 "},6,6,3,2,1,"-","-","-",5,3,1,2,"-",1,"-",1]
["山梨県","甲府市","甲府市","上条新居",{"v":18,"d":"18 "},"-","-","-","-","-","-",{"v":18,"d":"18 "},"-","-","-","-","-","-","-","-","-","-","-","-","-","-","-","-","…","…","…","-","-","-","-","-","-","-","-","-","-","-","-","-","-","-","-","…","…","…","-","-","-","-","-","-","-","-","-","-","-","-","-","-","-","-","…","…","…","-","-","-","-","-","-","-","-","-","-","-","-","-","-","-","-","-","-","-","-","-","-","-","-","-","-","-","-","-","-",{"$nulls":7},"-","-","-","-","-","-","-","-","-","-","-","-","-","-","-","-","-","-","-","-","-","-","-","-","-","-","-","-","-","-","-","-","-","-","-","-","-","-","-","-","-","-","-","-","-"]
["山梨県","甲府市","甲府市","古上条",{"v":10,"d":"10 "},{"v":2,"d":"2 "},"x","x","x","x","x",{"v":8,"d":"8 "},"x","x","x","x","x","x","x","x","x","x","x","x","x","x","x","x",75.3,{"v":78,"d":"78.0"},72.5,"x","x","x","x","x","x","x","x","x","x","x","x","x","x","x","x",75.3,{"v":78,"d":"78.0"},72.5,"x","x","x","x","x","x","x","x","x","x","x","x","x","x","x","x",75.3,{"v":78,"d":"78.0"},72.5,{"v":2,"d":"2 "},"-","-","-","-","-","-","-","-","-","-","-",{"v":1,"d":"1 "},"-",{"v":1,"d":"1 "},"-",{"v":2,"d":"2 "},"-","-","-","-","-","-","-","-","-",{"v":1,"d":"1 "},"-",{"v":1,"d":"1 "},"-",{"$nulls":7},{"v":4,"d":"4 "},{"v":4,"d":"4 "},{"v":4,"d":"4 "},"-","-","-","-","-",{"v":2,"d":"2 "},{"v":2,"d":"2 "},"-","-","-","-","-","-","-","-","-","-","-","-","-","-",{"v":2,"d":"2 "},{"v":95,"d":"95 "},{"v":85,"d":"85 "},{"v":10,"d":"10 "},"-",2,2,2,"-","-","-","-","-",2,2,2,"-","-","-","-","-"]
["山梨県","甲府市","甲府市","後屋",{"v":17,"d":"17 "},{"v":12,"d":"12 "},{"v":3,"d":"3 "},{"v":2,"d":"2 "},{"v":1,"d":"1 "},{"v":1,"d":"1 "},{"v":8,"d":"8 "},{"v":5,"d":"5 "},{"v":36,"d":"36 "},{"v":1,"d":"1 "},{"v":2,"d":"2 "},{"v":3,"d":"3 "},"-","-",{"v":1,"d":"1 "},{"v":1,"d":"1 "},{"v":3,"d":"3 "},{"v":4,"d":"4 "},{"v":7,"d":"7 "},{"v":2,"d":"2 "},{"v":4,"d":"4 "},{"v":4,"d":"4 "},{"v":1,"d":"1 "},{"v":3,"d":"3 "},59.8,55.7,64.5,{"v":24,"d":"24 "},{"v":1,"d":"1 "},{"v":2,"d":"2 "},"-","-","-","-","-",{"v":1,"d":"1 "},{"v":1,"d":"1 "},{"v":5,"d":"5 "},{"v":2,"d":"2 "},{"v":4,"d":"4 "},{"v":4,"d":"4 "},{"v":1,"d":"1 "},{"v":3,"d":"3 "},65.8,62.7,68.8,{"v":17,"d":"17 "},"-","-","-","-","-","-","-",{"v":1,"d":"1 "},{"v":1,"d":"1 "},{"v":4,"d":"4 "},{"v":1,"d":"1 "},{"v":4,"d":"4 "},{"v":3,"d":"3 "},{"v":1,"d":"1 "},{"v":2,"d":"2 "},71.9,70.7,73.6,{"v":12,"d":"12 "},"-","-","-","-","-","-","-",{"v":1,"d":"1 "},{"v":1,"d":"1 "},{"v":4,"d":"4 "},{"v":1,"d":"1 "},{"v":2,"d":"2 "},{"v":2,"d":"2 "},"-",{"v":1,"d":"1 "},{"v":11,"d":"11 "},"-","-","-","-","-",{"v":1,"d":"1 "},{"v":1,"d":"1 "},{"v":4,"d":"4 "},{"v":1,"d":"1 "},{"v":1,"d":"1 "},{"v":2,"d":"2 "},"-",{"v":1,"d":"1 "},{"$nulls":7},{"v":42,"d":"42 "},{"v":27,"d":"27 "},{"v":17,"d":"17 "},{"v":7,"d":"7 "},{"v":3,"d":"3 "},{"v":6,"d":"6 "},{"v":5,"d":"5 "},{"v":4,"d":"4 "},{"v":11,"d":"11 "},{"v":7,"d":"7 "},"-","-","-",{"v":3,"d":"3 "},{"v":1,"d":"1 "},"-","-","-","-","-","-","-","-","-",{"v":12,"d":"12 "},{"v":686,"d":"686 "},{"v":523,"d":"523 "},{"v":163,"d":"163 "},"-",21,17,10,5,2,"-",3,1,21,10,7,2,1,6,2,3]
["山梨県","甲府市","甲府市","高畑",{"v":14,"d":"14 "},{"v":1,"d":"1 "},"x","x","x","x","x",{"v":13,"d":"13 "},"x","x","x","x","x","x","x","x","x","x","x","x","x","x","x","x",79.5,{"v":79,"d":"79.0"},{"v":80,"d":"80.0"},"x","x","x","x","x","x","x","x","x","x","x","x","x","x","x","x",79.5,{"v":79,"d":"79.0"},{"v":80,"d":"80.0"},"x","x","x","x","x","x","x","x","x","x","x","x","x","x","x","x",79.5,{"v":79,"d":"79.0"},{"v":80,"d":"80.0"},{"v":1,"d":"1 "},"-","-","-","-","-","-","-","-","-","-","-","-",{"v":1,"d":"1 "},"-","-",{"v":1,"d":"1 "},"-","-","-","-","-","-","-","-","-","-",{"v":1,"d":"1 "},"-","-",{"$nulls":7},{"v":2,"d":"2 "},{"v":2,"d":"2 "},{"v":2,"d":"2 "},"-","-","-","-","-",{"v":1,"d":"1 "},"-","-","-","-",{"v":1,"d":"1 "},"-","-","-","-","-","-","-","-","-","-",{"v":1,"d":"1 "},{"v":33,"d":"33 "},{"v":33,"d":"33 "},"-","-",1,1,1,"-","-","-","-","-",1,1,1,"-","-","-","-","-"]
["山梨県","甲府市","山城村",null,{"v":139,"d":"139 "},{"v":85,"d":"85 "},{"v":22,"d":"22 "},{"v":16,"d":"16 "},{"v":24,"d":"24 "},{"v":8,"d":"8 "},{"v":39,"d":"39 "},{"v":54,"d":"54 "},{"v":234,"d":"234 "},{"v":6,"d":"6 "},{"v":4,"d":"4 "},{"v":15,"d":"15 "},{"v":8,"d":"8 "},{"v":9,"d":"9 "},{"v":11,"d":"11 "},{"v":18,"d":"18 "},{"v":20,"d":"20 "},{"v":28,"d":"28 "},{"v":27,"d":"27 "},{"v":23,"d":"23 "},{"v":18,"d":"18 "},{"v":19,"d":"19 "},{"v":19,"d":"19 "},{"v":9,"d":"9 "},57.4,55.9,58.9,{"v":146,"d":"146 "},{"v":3,"d":"3 "},"-",{"v":2,"d":"2 "},{"v":3,"d":"3 "},{"v":2,"d":"2 "},{"v":3,"d":"3 "},{"v":4,"d":"4 "},{"v":5,"d":"5 "},{"v":14,"d":"14 "},{"v":23,"d":"23 "},{"v":22,"d":"22 "},{"v":18,"d":"18 "},{"v":19,"d":"19 "},{"v":19,"d":"19 "},{"v":9,"d":"9 "},{"v":66,"d":"66.0"},67.1,65.1,{"v":116,"d":"116 "},"-","-",{"v":2,"d":"2 "},{"v":3,"d":"3 "},{"v":2,"d":"2 "},{"v":1,"d":"1 "},{"v":1,"d":"1 "},{"v":3,"d":"3 "},{"v":10,"d":"10 "},{"v":21,"d":"21 "},{"v":21,"d":"21 "},{"v":17,"d":"17 "},{"v":18,"d":"18 "},{"v":10,"d":"10 "},{"v":7,"d":"7 "},67.1,67.3,66.8,{"v":85,"d":"85 "},"-","-","-","-",{"v":2,"d":"2 "},{"v":2,"d":"2 "},{"v":9,"d":"9 "},{"v":6,"d":"6 "},{"v":14,"d":"14 "},{"v":15,"d":"15 "},{"v":11,"d":"11 "},{"v":7,"d":"7 "},{"v":9,"d":"9 "},{"v":4,"d":"4 "},{"v":6,"d":"6 "},{"v":47,"d":"47 "},"-","-","-","-",{"v":4,"d":"4 "},{"v":2,"d":"2 "},{"v":11,"d":"11 "},{"v":8,"d":"8 "},{"v":4,"d":"4 "},{"v":4,"d":"4 "},{"v":6,"d":"6 "},{"v":4,"d":"4 "},{"v":4,"d":"4 "},{"$nulls":7},{"v":286,"d":"286 "},{"v":206,"d":"206 "},{"v":116,"d":"116 "},{"v":84,"d":"84 "},{"v":6,"d":"6 "},{"v":26,"d":"26 "},{"v":26,"d":"26 "},{"v":28,"d":"28 "},{"v":75,"d":"75 "},{"v":15,"d":"15 "},"-","-","-",{"v":36,"d":"36 "},{"v":10,"d":"10 "},{"v":13,"d":"13 "},{"v":1,"d":"1 "},"-","-","-","-","-","-","-",{"v":85,"d":"85 "},{"v":7092,"d":"7,092 "},{"v":4513,"d":"4,513 "},{"v":1846,"d":"1,846 "},{"v":733,"d":"733 "},137,117,62,49,6,"-",16,4,149,89,54,35,"-",26,10,24]
["山梨県","甲府市","山城村","上今井",{"v":44,"d":"44 "},{"v":25,"d":"25 "},{"v":3,"d":"3 "},{"v":2,"d":"2 "},{"v":7,"d":"7 "},{"v":2,"d":"2 "},{"v":15,"d":"15 "},{"v":19,"d":"19 "},{"v":63,"d":"63 "},{"v":1,"d":"1 "},{"v":1,"d":"1 "},{"v":3,"d":"3 "},{"v":3,"d":"3 "},{"v":1,"d":"1 "},{"v":5,"d":"5 "},{"v":8,"d":"8 "},{"v":1,"d":"1 "},{"v":7,"d":"7 "},{"v":7,"d":"7 "},{"v":10,"d":"10 "},{"v":6,"d":"6 "},{"v":5,"d":"5 "},{"v":3,"d":"3 "},{"v":2,"d":"2 "},57.5,57.5,57.6,{"v":39,"d":"39 "},{"v":1,"d":"1 "},"-",{"v":1,"d":"1 "},{"v":1,"d":"1 "},"-",{"v":1,"d":"1 "},{"v":1,"d":"1 "},"-",{"v":3,"d":"3 "},{"v":5,"d":"5 "},{"v":10,"d":"10 "},{"v":6,"d":"6 "},{"v":5,"d":"5 "},{"v":3,"d":"3 "},{"v":2,"d":"2 "},65.4,68.7,62.2,{"v":33,"d":"33 "},"-","-",{"v":1,"d":"1 "},{"v":1,"d":"1 "},"-","-","-","-",{"v":3,"d":"3 "},{"v":5,"d":"5 "},{"v":10,"d":"10 "},{"v":5,"d":"5 "},{"v":5,"d":"5 "},{"v":1,"d":"1 "},{"v":2,"d":"2 "},{"v":67,"d":"67.0"},68.7,64.6,{"v":25,"d":"25 "},"-","-","-","-","-","-",{"v":4,"d":"4 "},"-",{"v":3,"d":"3 "},{"v":4,"d":"4 "},{"v":5,"d":"5 "},{"v":4,"d":"4 "},{"v":3,"d":"3 "},"-",{"v":2,"d":"2 "},{"v":17,"d":"17 "},"-","-","-","-",{"v":3,"d":"3 "},"-",{"v":3,"d":"3 "},{"v":3,"d":"3 "},{"v":2,"d":"2 "},{"v":3,"d":"3 "},{"v":2,"d":"2 "},"-",{"v":1,"d":"1 "},{"$nulls":7},{"v":78,"d":"78 "},{"v":63,"d":"63 "},{"v":33,"d":"33 "},{"v":28,"d":"28 "},{"v":2,"d":"2 "},{"v":7,"d":"7 "},{"v":5,"d":"5 "},{"v":3,"d":"3 "},{"v":22,"d":"22 "},{"v":7,"d":"7 "},"-","-","-",{"v":13,"d":"13 "},{"v":1,"d":"1 "},{"v":1,"d":"1 "},"-","-","-","-","-","-","-","-",{"v":25,"d":"25 "},{"v":2374,"d":"2,374 "},{"v":1627,"d":"1,627 "},{"v":644,"d":"644 "},{"v":103,"d":"103 "},39,36,19,15,2,"-",3,"-",39,27,14,13,"-",7,2,3]
["山梨県","甲府市","山城村","小瀬",{"v":28,"d":"28 "},{"v":14,"d":"14 "},{"v":2,"d":"2 "},{"v":2,"d":"2 "},{"v":6,"d":"6 "},{"v":2,"d":"2 "},{"v":6,"d":"6 "},{"v":14,"d":"14 "},{"v":48,"d":"48 "},{"v":4,"d":"4 "},{"v":2,"d":"2 "},{"v":3,"d":"3 "},{"v":2,"d":"2 "},{"v":1,"d":"1 "},{"v":2,"d":"2 "},{"v":2,"d":"2 "},{"v":5,"d":"5 "},{"v":5,"d":"5 "},{"v":4,"d":"4 "},{"v":6,"d":"6 "},{"v":4,"d":"4 "},{"v":4,"d":"4 "},{"v":3,"d":"3 "},{"v":1,"d":"1 "},{"v":54,"d":"54.0"},52.7,55.3,{"v":31,"d":"31 "},{"v":2,"d":"2 "},"-","-",{"v":1,"d":"1 "},{"v":1,"d":"1 "},{"v":2,"d":"2 "},{"v":1,"d":"1 "},"-",{"v":3,"d":"3 "},{"v":3,"d":"3 "},{"v":6,"d":"6 "},{"v":4,"d":"4 "},{"v":4,"d":"4 "},{"v":3,"d":"3 "},{"v":1,"d":"1 "},61.9,62.5,61.5,{"v":26,"d":"26 "},"-","-","-",{"v":1,"d":"1 "},{"v":1,"d":"1 "},{"v":1,"d":"1 "},"-","-",{"v":2,"d":"2 "},{"v":3,"d":"3 "},{"v":6,"d":"6 "},{"v":4,"d":"4 "},{"v":4,"d":"4 "},{"v":3,"d":"3 "},{"v":1,"d":"1 "},66.8,66.2,67.5,{"v":14,"d":"14 "},"-","-","-","-","-",{"v":1,"d":"1 "},{"v":1,"d":"1 "},{"v":1,"d":"1 "},{"v":3,"d":"3 "},{"v":1,"d":"1 "},{"v":3,"d":"3 "},{"v":1,"d":"1 "},{"v":1,"d":"1 "},{"v":2,"d":"2 "},"-",{"v":8,"d":"8 "},"-","-","-","-",{"v":1,"d":"1 "},{"v":1,"d":"1 "},{"v":2,"d":"2 "},{"v":1,"d":"1 "},"-","-",{"v":1,"d":"1 "},{"v":2,"d":"2 "},"-",{"$nulls":7},{"v":56,"d":"56 "},{"v":40,"d":"40 "},{"v":26,"d":"26 "},{"v":13,"d":"13 "},{"v":1,"d":"1 "},{"v":4,"d":"4 "},{"v":9,"d":"9 "},{"v":3,"d":"3 "},{"v":13,"d":"13 "},{"v":1,"d":"1 "},"-","-","-",{"v":5,"d":"5 "},{"v":6,"d":"6 "},{"v":1,"d":"1 "},"-","-","-","-","-","-","-","-",{"v":14,"d":"14 "},{"v":1087,"d":"1,087 "},{"v":764,"d":"764 "},{"v":251,"d":"251 "},{"v":72,"d":"72 "},29,22,13,8,1,"-",6,1,27,18,13,5,"-",4,3,2]
["山梨県","甲府市","山城村","下鍛冶屋",{"v":23,"d":"23 "},{"v":14,"d":"14 "},{"v":4,"d":"4 "},{"v":2,"d":"2 "},{"v":1,"d":"1 "},"-",{"v":9,"d":"9 "},{"v":9,"d":"9 "},{"v":35,"d":"35 "},"-","-",{"v":3,"d":"3 "},{"v":2,"d":"2 "},"-",{"v":2,"d":"2 "},{"v":1,"d":"1 "},{"v":5,"d":"5 "},{"v":7,"d":"7 "},{"v":2,"d":"2 "},{"v":1,"d":"1 "},{"v":2,"d":"2 "},{"v":2,"d":"2 "},{"v":4,"d":"4 "},{"v":4,"d":"4 "},60.3,59.5,61.3,{"v":22,"d":"22 "},"-","-",{"v":1,"d":"1 "},{"v":1,"d":"1 "},"-","-","-",{"v":1,"d":"1 "},{"v":4,"d":"4 "},{"v":2,"d":"2 "},{"v":1,"d":"1 "},{"v":2,"d":"2 "},{"v":2,"d":"2 "},{"v":4,"d":"4 "},{"v":4,"d":"4 "},68.7,{"v":71,"d":"71.0"},66.8,{"v":13,"d":"13 "},"-","-",{"v":1,"d":"1 "},{"v":1,"d":"1 "},"-","-","-",{"v":1,"d":"1 "},{"v":2,"d":"2 "},{"v":1,"d":"1 "},{"v":1,"d":"1 "},{"v":2,"d":"2 "},{"v":2,"d":"2 "},"-",{"v":2,"d":"2 "},63.8,66.8,59.2,{"v":14,"d":"14 "},"-","-","-","-","-",{"v":1,"d":"1 "},{"v":1,"d":"1 "},{"v":2,"d":"2 "},{"v":4,"d":"4 "},{"v":1,"d":"1 "},"-",{"v":1,"d":"1 "},{"v":1,"d":"1 "},"-",{"v":3,"d":"3 "},{"v":7,"d":"7 "},"-","-","-","-","-","-",{"v":3,"d":"3 "},"-","-",{"v":1,"d":"1 "},{"v":1,"d":"1 "},"-",{"v":2,"d":"2 "},{"$nulls":7},{"v":45,"d":"45 "},{"v":26,"d":"26 "},{"v":13,"d":"13 "},{"v":12,"d":"12 "},{"v":1,"d":"1 "},{"v":5,"d":"5 "},{"v":3,"d":"3 "},{"v":11,"d":"11 "},{"v":9,"d":"9 "},{"v":2,"d":"2 "},"-","-","-",{"v":6,"d":"6 "},"-","-",{"v":1,"d":"1 "},"-","-","-","-","-","-","-",{"v":14,"d":"14 "},{"v":684,"d":"684 "},{"v":414,"d":"414 "},{"v":270,"d":"270 "},"-",23,17,8,8,1,"-",3,3,22,9,5,4,"-",5,"-",8]
["山梨県","甲府市","山城村","落合",{"v":23,"d":"23 "},{"v":15,"d":"15 "},{"v":7,"d":"7 "},{"v":6,"d":"6 "},{"v":3,"d":"3 "},{"v":1,"d":"1 "},{"v":5,"d":"5 "},{"v":8,"d":"8 "},{"v":38,"d":"38 "},"-","-",{"v":2,"d":"2 "},{"v":1,"d":"1 "},{"v":3,"d":"3 "},{"v":1,"d":"1 "},{"v":2,"d":"2 "},{"v":2,"d":"2 "},{"v":4,"d":"4 "},{"v":6,"d":"6 "},{"v":2,"d":"2 "},{"v":5,"d":"5 "},{"v":6,"d":"6 "},{"v":4,"d":"4 "},"-",60.9,59.3,62.4,{"v":29,"d":"29 "},"-","-","-","-",{"v":1,"d":"1 "},"-",{"v":1,"d":"1 "},{"v":2,"d":"2 "},{"v":3,"d":"3 "},{"v":5,"d":"5 "},{"v":2,"d":"2 "},{"v":5,"d":"5 "},{"v":6,"d":"6 "},{"v":4,"d":"4 "},"-",67.1,66.5,67.6,{"v":21,"d":"21 "},"-","-","-","-",{"v":1,"d":"1 "},"-","-",{"v":1,"d":"1 "},{"v":2,"d":"2 "},{"v":4,"d":"4 "},{"v":1,"d":"1 "},{"v":5,"d":"5 "},{"v":5,"d":"5 "},{"v":2,"d":"2 "},"-",67.8,66.5,69.8,{"v":15,"d":"15 "},"-","-","-","-",{"v":2,"d":"2 "},"-",{"v":1,"d":"1 "},{"v":1,"d":"1 "},{"v":2,"d":"2 "},{"v":4,"d":"4 "},"-",{"v":1,"d":"1 "},{"v":4,"d":"4 "},"-","-",{"v":5,"d":"5 "},"-","-","-","-","-","-",{"v":1,"d":"1 "},{"v":2,"d":"2 "},"-","-",{"v":2,"d":"2 "},"-","-",{"$nulls":7},{"v":46,"d":"46 "},{"v":31,"d":"31 "},{"v":21,"d":"21 "},{"v":9,"d":"9 "},{"v":1,"d":"1 "},{"v":5,"d":"5 "},{"v":4,"d":"4 "},{"v":6,"d":"6 "},{"v":15,"d":"15 "},{"v":3,"d":"3 "},"-","-","-",{"v":8,"d":"8 "},{"v":1,"d":"1 "},{"v":3,"d":"3 "},"-","-","-","-","-","-","-","-",{"v":15,"d":"15 "},{"v":1764,"d":"1,764 "},{"v":1257,"d":"1,257 "},{"v":398,"d":"398 "},{"v":109,"d":"109 "},20,19,13,5,1,"-",1,"-",26,12,8,4,"-",5,3,6]
["山梨県","甲府市","山城村","西油川",{"v":21,"d":"21 "},{"v":17,"d":"17 "},{"v":6,"d":"6 "},{"v":4,"d":"4 "},{"v":7,"d":"7 "},{"v":3,"d":"3 "},{"v":4,"d":"4 "},{"v":4,"d":"4 "},{"v":50,"d":"50 "},{"v":1,"d":"1 "},{"v":1,"d":"1 "},{"v":4,"d":"4 "},"-",{"v":4,"d":"4 "},{"v":1,"d":"1 "},{"v":5,"d":"5 "},{"v":7,"d":"7 "},{"v":5,"d":"5 "},{"v":8,"d":"8 "},{"v":4,"d":"4 "},{"v":1,"d":"1 "},{"v":2,"d":"2 "},{"v":5,"d":"5 "},{"v":2,"d":"2 "},55.7,51.5,59.6,{"v":25,"d":"25 "},"-","-","-","-","-","-",{"v":1,"d":"1 "},{"v":2,"d":"2 "},{"v":1,"d":"1 "},{"v":8,"d":"8 "},{"v":3,"d":"3 "},{"v":1,"d":"1 "},{"v":2,"d":"2 "},{"v":5,"d":"5 "},{"v":2,"d":"2 "},68.4,67.2,69.1,{"v":23,"d":"23 "},"-","-","-","-","-","-",{"v":1,"d":"1 "},{"v":1,"d":"1 "},{"v":1,"d":"1 "},{"v":8,"d":"8 "},{"v":3,"d":"3 "},{"v":1,"d":"1 "},{"v":2,"d":"2 "},{"v":4,"d":"4 "},{"v":2,"d":"2 "},68.6,67.2,69.4,{"v":17,"d":"17 "},"-","-","-","-","-","-",{"v":2,"d":"2 "},{"v":2,"d":"2 "},{"v":2,"d":"2 "},{"v":5,"d":"5 "},{"v":3,"d":"3 "},"-","-",{"v":2,"d":"2 "},{"v":1,"d":"1 "},{"v":10,"d":"10 "},"-","-","-","-","-",{"v":1,"d":"1 "},{"v":2,"d":"2 "},{"v":2,"d":"2 "},{"v":2,"d":"2 "},"-","-",{"v":2,"d":"2 "},{"v":1,"d":"1 "},{"$nulls":7},{"v":61,"d":"61 "},{"v":46,"d":"46 "},{"v":23,"d":"23 "},{"v":22,"d":"22 "},{"v":1,"d":"1 "},{"v":5,"d":"5 "},{"v":5,"d":"5 "},{"v":5,"d":"5 "},{"v":16,"d":"16 "},{"v":2,"d":"2 "},"-","-","-",{"v":4,"d":"4 "},{"v":2,"d":"2 "},{"v":8,"d":"8 "},"-","-","-","-","-","-","-","-",{"v":17,"d":"17 "},{"v":1183,"d":"1,183 "},{"v":451,"d":"451 "},{"v":283,"d":"283 "},{"v":449,"d":"449 "},26,23,9,13,1,"-",3,"-",35,23,14,9,"-",5,2,5]
["山梨県","甲府市","住吉村",null,{"v":123,"d":"123 "},{"v":67,"d":"67 "},{"v":13,"d":"13 "},{"v":9,"d":"9 "},{"v":22,"d":"22 "},{"v":5,"d":"5 "},{"v":32,"d":"32 "},{"v":56,"d":"56 "},{"v":199,"d":"199 "},{"v":7,"d":"7 "},{"v":13,"d":"13 "},{"v":1,"d":"1 "},{"v":5,"d":"5 "},{"v":9,"d":"9 "},{"v":3,"d":"3 "},{"v":18,"d":"18 "},{"v":24,"d":"24 "},{"v":19,"d":"19 "},{"v":16,"d":"16 "},{"v":27,"d":"27 "},{"v":16,"d":"16 "},{"v":20,"d":"20 "},{"v":17,"d":"17 "},{"v":4,"d":"4 "},57.6,55.7,59.7,{"v":113,"d":"113 "},{"v":3,"d":"3 "},{"v":1,"d":"1 "},"-",{"v":1,"d":"1 "},"-",{"v":2,"d":"2 "},{"v":5,"d":"5 "},{"v":10,"d":"10 "},{"v":4,"d":"4 "},{"v":8,"d":"8 "},{"v":24,"d":"24 "},{"v":14,"d":"14 "},{"v":20,"d":"20 "},{"v":17,"d":"17 "},{"v":4,"d":"4 "},66.9,{"v":67,"d":"67.0"},66.9,{"v":81,"d":"81 "},"-","-","-","-","-",{"v":1,"d":"1 "},{"v":3,"d":"3 "},{"v":6,"d":"6 "},{"v":4,"d":"4 "},{"v":6,"d":"6 "},{"v":17,"d":"17 "},{"v":11,"d":"11 "},{"v":15,"d":"15 "},{"v":15,"d":"15 "},{"v":3,"d":"3 "},{"v":70,"d":"70.0"},69.6,70.7,{"v":67,"d":"67 "},"-","-","-","-",{"v":1,"d":"1 "},"-",{"v":4,"d":"4 "},{"v":7,"d":"7 "},{"v":7,"d":"7 "},{"v":4,"d":"4 "},{"v":13,"d":"13 "},{"v":8,"d":"8 "},{"v":10,"d":"10 "},{"v":10,"d":"10 "},{"v":3,"d":"3 "},{"v":41,"d":"41 "},"-","-","-","-",{"v":2,"d":"2 "},{"v":3,"d":"3 "},{"v":6,"d":"6 "},{"v":2,"d":"2 "},{"v":6,"d":"6 "},{"v":4,"d":"4 "},{"v":7,"d":"7 "},{"v":8,"d":"8 "},{"v":3,"d":"3 "},{"$nulls":7},{"v":238,"d":"238 "},{"v":162,"d":"162 "},{"v":81,"d":"81 "},{"v":72,"d":"72 "},{"v":9,"d":"9 "},{"v":25,"d":"25 "},{"v":25,"d":"25 "},{"v":26,"d":"26 "},{"v":58,"d":"58 "},{"v":22,"d":"22 "},"-","-","-",{"v":19,"d":"19 "},"-",{"v":16,"d":"16 "},{"v":1,"d":"1 "},"-","-","-","-","-","-","-",{"v":67,"d":"67 "},{"v":4305,"d":"4,305 "},{"v":2418,"d":"2,418 "},{"v":1134,"d":"1,134 "},{"v":753,"d":"753 "},120,98,46,47,5,"-",13,9,118,64,35,25,4,25,12,17]
["山梨県","甲府市","住吉村","中小河原",{"v":22,"d":"22 "},{"v":8,"d":"8 "},{"v":1,"d":"1 "},"-",{"v":1,"d":"1 "},{"v":1,"d":"1 "},{"v":6,"d":"6 "},{"v":14,"d":"14 "},{"v":24,"d":"24 "},{"v":3,"d":"3 "},"-","-","-",{"v":1,"d":"1 "},{"v":1,"d":"1 "},{"v":3,"d":"3 "},{"v":2,"d":"2 "},"-","-",{"v":3,"d":"3 "},{"v":5,"d":"5 "},{"v":3,"d":"3 "},{"v":3,"d":"3 "},"-",58.8,52.5,67.5,{"v":18,"d":"18 "},{"v":3,"d":"3 "},"-","-","-","-","-",{"v":1,"d":"1 "},{"v":1,"d":"1 "},"-","-",{"v":2,"d":"2 "},{"v":5,"d":"5 "},{"v":3,"d":"3 "},{"v":3,"d":"3 "},"-",62.1,54.4,69.7,{"v":9,"d":"9 "},"-","-","-","-","-","-","-",{"v":1,"d":"1 "},"-","-","-",{"v":3,"d":"3 "},{"v":2,"d":"2 "},{"v":3,"d":"3 "},"-",74.2,72.6,76.3,{"v":8,"d":"8 "},"-","-","-","-","-","-","-","-","-","-",{"v":1,"d":"1 "},{"v":2,"d":"2 "},{"v":3,"d":"3 "},{"v":2,"d":"2 "},"-",{"v":7,"d":"7 "},"-","-","-","-","-","-","-","-",{"v":1,"d":"1 "},{"v":2,"d":"2 "},{"v":3,"d":"3 "},{"v":1,"d":"1 "},"-",{"$nulls":7},{"v":31,"d":"31 "},{"v":18,"d":"18 "},{"v":9,"d":"9 "},{"v":7,"d":"7 "},{"v":2,"d":"2 "},{"v":2,"d":"2 "},{"v":6,"d":"6 "},{"v":5,"d":"5 "},{"v":6,"d":"6 "},{"v":2,"d":"2 "},"-","-","-",{"v":4,"d":"4 "},"-","-","-","-","-","-","-","-","-","-",{"v":8,"d":"8 "},{"v":327,"d":"327 "},{"v":167,"d":"167 "},{"v":149,"d":"149 "},{"v":11,"d":"11 "},16,12,5,6,1,"-",3,1,15,6,4,1,1,2,3,4]
["山梨県","甲府市","住吉村","下小河原",{"v":11,"d":"11 "},{"v":7,"d":"7 "},"-","-",{"v":3,"d":"3 "},"-",{"v":4,"d":"4 "},{"v":4,"d":"4 "},{"v":18,"d":"18 "},{"v":1,"d":"1 "},{"v":2,"d":"2 "},"-","-",{"v":2,"d":"2 "},"-",{"v":3,"d":"3 "},"-",{"v":3,"d":"3 "},"-",{"v":3,"d":"3 "},{"v":1,"d":"1 "},{"v":2,"d":"2 "},{"v":1,"d":"1 "},"-",53.3,48.5,60.7,{"v":7,"d":"7 "},"-","-","-","-","-","-","-","-","-","-",{"v":3,"d":"3 "},{"v":1,"d":"1 "},{"v":2,"d":"2 "},{"v":1,"d":"1 "},"-",72.3,74.3,70.8,{"v":3,"d":"3 "},"-","-","-","-","-","-","-","-","-","-",{"v":1,"d":"1 "},"-",{"v":1,"d":"1 "},{"v":1,"d":"1 "},"-",{"v":75,"d":"75.0"},{"v":74,"d":"74.0"},{"v":77,"d":"77.0"},{"v":7,"d":"7 "},"-","-","-","-",{"v":1,"d":"1 "},"-",{"v":2,"d":"2 "},"-",{"v":1,"d":"1 "},"-",{"v":1,"d":"1 "},"-","-",{"v":2,"d":"2 "},"-",{"v":2,"d":"2 "},"-","-","-","-",{"v":1,"d":"1 "},"-","-","-","-","-","-",{"v":1,"d":"1 "},"-",{"$nulls":7},{"v":21,"d":"21 "},{"v":14,"d":"14 "},{"v":3,"d":"3 "},{"v":11,"d":"11 "},"-",{"v":2,"d":"2 "},"-",{"v":5,"d":"5 "},{"v":6,"d":"6 "},{"v":5,"d":"5 "},"-","-","-",{"v":1,"d":"1 "},"-","-","-","-","-","-","-","-","-","-",{"v":7,"d":"7 "},{"v":295,"d":"295 "},{"v":264,"d":"264 "},{"v":31,"d":"31 "},"-",12,10,2,8,"-","-","-",2,9,4,1,3,"-",2,"-",3]
["山梨県","甲府市","住吉村","上",{"v":55,"d":"55 "},{"v":27,"d":"27 "},{"v":4,"d":"4 "},{"v":2,"d":"2 "},{"v":12,"d":"12 "},{"v":3,"d":"3 "},{"v":11,"d":"11 "},{"v":28,"d":"28 "},{"v":85,"d":"85 "},{"v":1,"d":"1 "},{"v":6,"d":"6 "},"-",{"v":2,"d":"2 "},{"v":6,"d":"6 "},{"v":1,"d":"1 "},{"v":4,"d":"4 "},{"v":13,"d":"13 "},{"v":13,"d":"13 "},{"v":8,"d":"8 "},{"v":8,"d":"8 "},{"v":5,"d":"5 "},{"v":7,"d":"7 "},{"v":8,"d":"8 "},{"v":3,"d":"3 "},{"v":58,"d":"58.0"},{"v":58,"d":"58.0"},{"v":58,"d":"58.0"},{"v":38,"d":"38 "},"-","-","-",{"v":1,"d":"1 "},"-",{"v":1,"d":"1 "},{"v":1,"d":"1 "},{"v":5,"d":"5 "},{"v":2,"d":"2 "},{"v":1,"d":"1 "},{"v":6,"d":"6 "},{"v":3,"d":"3 "},{"v":7,"d":"7 "},{"v":8,"d":"8 "},{"v":3,"d":"3 "},69.3,71.7,67.3,{"v":27,"d":"27 "},"-","-","-","-","-",{"v":1,"d":"1 "},{"v":1,"d":"1 "},{"v":2,"d":"2 "},{"v":2,"d":"2 "},{"v":1,"d":"1 "},{"v":3,"d":"3 "},{"v":3,"d":"3 "},{"v":5,"d":"5 "},{"v":7,"d":"7 "},{"v":2,"d":"2 "},71.1,71.5,70.6,{"v":27,"d":"27 "},"-","-","-","-","-","-","-",{"v":2,"d":"2 "},{"v":4,"d":"4 "},{"v":2,"d":"2 "},{"v":4,"d":"4 "},{"v":4,"d":"4 "},{"v":4,"d":"4 "},{"v":4,"d":"4 "},{"v":3,"d":"3 "},{"v":19,"d":"19 "},"-","-","-","-","-",{"v":1,"d":"1 "},{"v":4,"d":"4 "},{"v":1,"d":"1 "},{"v":3,"d":"3 "},{"v":1,"d":"1 "},{"v":2,"d":"2 "},{"v":4,"d":"4 "},{"v":3,"d":"3 "},{"$nulls":7},{"v":103,"d":"103 "},{"v":68,"d":"68 "},{"v":27,"d":"27 "},{"v":34,"d":"34 "},{"v":7,"d":"7 "},{"v":13,"d":"13 "},{"v":8,"d":"8 "},{"v":14,"d":"14 "},{"v":22,"d":"22 "},{"v":10,"d":"10 "},"-","-","-",{"v":9,"d":"9 "},"-",{"v":3,"d":"3 "},"-","-","-","-","-","-","-","-",{"v":27,"d":"27 "},{"v":1835,"d":"1,835 "},{"v":1292,"d":"1,292 "},{"v":434,"d":"434 "},{"v":109,"d":"109 "},51,40,15,21,4,"-",5,6,52,28,12,13,3,13,3,8]
["山梨県","甲府市","住吉村","上増坪",{"v":6,"d":"6 "},{"v":3,"d":"3 "},{"v":1,"d":"1 "},{"v":1,"d":"1 "},{"v":1,"d":"1 "},"-",{"v":1,"d":"1 "},{"v":3,"d":"3 "},{"v":10,"d":"10 "},{"v":2,"d":"2 "},"-","-","-","-",{"v":1,"d":"1 "},{"v":3,"d":"3 "},"-","-",{"v":2,"d":"2 "},"-","-",{"v":1,"d":"1 "},{"v":1,"d":"1 "},"-",49.8,50.8,48.8,{"v":5,"d":"5 "},"-","-","-","-","-",{"v":1,"d":"1 "},"-","-","-",{"v":2,"d":"2 "},"-","-",{"v":1,"d":"1 "},{"v":1,"d":"1 "},"-",64.6,{"v":72,"d":"72.0"},59.7,{"v":4,"d":"4 "},"-","-","-","-","-","-","-","-","-",{"v":2,"d":"2 "},"-","-",{"v":1,"d":"1 "},{"v":1,"d":"1 "},"-",{"v":70,"d":"70.0"},{"v":72,"d":"72.0"},{"v":68,"d":"68.0"},{"v":3,"d":"3 "},"-","-","-","-","-","-",{"v":1,"d":"1 "},"-","-",{"v":1,"d":"1 "},"-","-","-",{"v":1,"d":"1 "},"-",{"v":3,"d":"3 "},"-","-","-","-",{"v":1,"d":"1 "},"-","-",{"v":1,"d":"1 "},"-","-","-",{"v":1,"d":"1 "},"-",{"$nulls":7},{"v":11,"d":"11 "},{"v":7,"d":"7 "},{"v":4,"d":"4 "},{"v":3,"d":"3 "},"-",{"v":1,"d":"1 "},{"v":2,"d":"2 "},{"v":1,"d":"1 "},{"v":2,"d":"2 "},"-","-","-","-","-","-",{"v":2,"d":"2 "},"-","-","-","-","-","-","-","-",{"v":3,"d":"3 "},{"v":237,"d":"237 "},{"v":46,"d":"46 "},{"v":107,"d":"107 "},{"v":84,"d":"84 "},5,4,2,2,"-","-",1,"-",6,3,2,1,"-",1,1,1]
["山梨県","甲府市","住吉村","中増坪",{"v":13,"d":"13 "},{"v":12,"d":"12 "},{"v":1,"d":"1 "},{"v":1,"d":"1 "},{"v":5,"d":"5 "},{"v":1,"d":"1 "},{"v":6,"d":"6 "},{"v":1,"d":"1 "},{"v":35,"d":"35 "},"-",{"v":4,"d":"4 "},{"v":1,"d":"1 "},{"v":2,"d":"2 "},"-","-",{"v":3,"d":"3 "},{"v":5,"d":"5 "},{"v":1,"d":"1 "},{"v":5,"d":"5 "},{"v":7,"d":"7 "},{"v":2,"d":"2 "},{"v":4,"d":"4 "},{"v":1,"d":"1 "},"-",55.9,56.1,55.6,{"v":21,"d":"21 "},"-",{"v":1,"d":"1 "},"-","-","-","-",{"v":1,"d":"1 "},{"v":1,"d":"1 "},"-",{"v":4,"d":"4 "},{"v":7,"d":"7 "},{"v":2,"d":"2 "},{"v":4,"d":"4 "},{"v":1,"d":"1 "},"-",65.7,70.6,61.2,{"v":15,"d":"15 "},"-","-","-","-","-","-","-","-","-",{"v":2,"d":"2 "},{"v":7,"d":"7 "},{"v":2,"d":"2 "},{"v":3,"d":"3 "},{"v":1,"d":"1 "},"-",70.3,70.6,69.8,{"v":12,"d":"12 "},"-","-","-","-","-","-","-",{"v":2,"d":"2 "},{"v":1,"d":"1 "},{"v":1,"d":"1 "},{"v":4,"d":"4 "},{"v":1,"d":"1 "},{"v":2,"d":"2 "},{"v":1,"d":"1 "},"-",{"v":7,"d":"7 "},"-","-","-","-","-",{"v":1,"d":"1 "},{"v":1,"d":"1 "},"-",{"v":2,"d":"2 "},"-",{"v":2,"d":"2 "},{"v":1,"d":"1 "},"-",{"$nulls":7},{"v":42,"d":"42 "},{"v":29,"d":"29 "},{"v":15,"d":"15 "},{"v":14,"d":"14 "},"-",{"v":6,"d":"6 "},{"v":6,"d":"6 "},{"v":1,"d":"1 "},{"v":12,"d":"12 "},{"v":4,"d":"4 "},"-","-","-",{"v":3,"d":"3 "},"-",{"v":5,"d":"5 "},"-","-","-","-","-","-","-","-",{"v":12,"d":"12 "},{"v":862,"d":"862 "},{"v":421,"d":"421 "},{"v":272,"d":"272 "},{"v":169,"d":"169 "},20,18,10,8,"-","-",2,"-",22,11,5,6,"-",6,4,1]
["山梨県","甲府市","住吉村","下増坪",{"v":16,"d":"16 "},{"v":10,"d":"10 "},{"v":6,"d":"6 "},{"v":5,"d":"5 "},"-","-",{"v":4,"d":"4 "},{"v":6,"d":"6 "},{"v":27,"d":"27 "},"-",{"v":1,"d":"1 "},"-",{"v":1,"d":"1 "},"-","-",{"v":2,"d":"2 "},{"v":4,"d":"4 "},{"v":2,"d":"2 "},{"v":1,"d":"1 "},{"v":6,"d":"6 "},{"v":3,"d":"3 "},{"v":3,"d":"3 "},{"v":3,"d":"3 "},{"v":1,"d":"1 "},63.3,58.6,68.4,{"v":24,"d":"24 "},"-","-","-","-","-","-",{"v":2,"d":"2 "},{"v":3,"d":"3 "},{"v":2,"d":"2 "},{"v":1,"d":"1 "},{"v":6,"d":"6 "},{"v":3,"d":"3 "},{"v":3,"d":"3 "},{"v":3,"d":"3 "},{"v":1,"d":"1 "},66.9,63.9,69.9,{"v":23,"d":"23 "},"-","-","-","-","-","-",{"v":2,"d":"2 "},{"v":3,"d":"3 "},{"v":2,"d":"2 "},{"v":1,"d":"1 "},{"v":6,"d":"6 "},{"v":3,"d":"3 "},{"v":3,"d":"3 "},{"v":2,"d":"2 "},{"v":1,"d":"1 "},66.3,63.9,{"v":69,"d":"69.0"},{"v":10,"d":"10 "},"-","-","-","-","-","-",{"v":1,"d":"1 "},{"v":3,"d":"3 "},{"v":1,"d":"1 "},"-",{"v":3,"d":"3 "},{"v":1,"d":"1 "},{"v":1,"d":"1 "},"-","-",{"v":3,"d":"3 "},"-","-","-","-","-",{"v":1,"d":"1 "},{"v":1,"d":"1 "},"-","-",{"v":1,"d":"1 "},"-","-","-",{"$nulls":7},{"v":30,"d":"30 "},{"v":26,"d":"26 "},{"v":23,"d":"23 "},{"v":3,"d":"3 "},"-",{"v":1,"d":"1 "},{"v":3,"d":"3 "},"-",{"v":10,"d":"10 "},{"v":1,"d":"1 "},"-","-","-",{"v":2,"d":"2 "},"-",{"v":6,"d":"6 "},{"v":1,"d":"1 "},"-","-","-","-","-","-","-",{"v":10,"d":"10 "},{"v":749,"d":"749 "},{"v":228,"d":"228 "},{"v":141,"d":"141 "},{"v":380,"d":"380 "},16,14,12,2,"-","-",2,"-",14,12,11,1,"-",1,1,"-"]
["山梨県","甲府市","朝井村",null,{"v":71,"d":"71 "},{"v":56,"d":"56 "},{"v":17,"d":"17 "},{"v":16,"d":"16 "},{"v":13,"d":"13 "},{"v":5,"d":"5 "},{"v":26,"d":"26 "},{"v":15,"d":"15 "},{"v":154,"d":"154 "},{"v":5,"d":"5 "},{"v":4,"d":"4 "},{"v":9,"d":"9 "},{"v":9,"d":"9 "},{"v":4,"d":"4 "},{"v":10,"d":"10 "},{"v":7,"d":"7 "},{"v":20,"d":"20 "},{"v":13,"d":"13 "},{"v":24,"d":"24 "},{"v":12,"d":"12 "},{"v":16,"d":"16 "},{"v":8,"d":"8 "},{"v":10,"d":"10 "},{"v":3,"d":"3 "},55.2,{"v":54,"d":"54.0"},56.5,{"v":98,"d":"98 "},{"v":4,"d":"4 "},{"v":2,"d":"2 "},"-",{"v":4,"d":"4 "},{"v":1,"d":"1 "},{"v":3,"d":"3 "},{"v":3,"d":"3 "},{"v":10,"d":"10 "},{"v":6,"d":"6 "},{"v":18,"d":"18 "},{"v":10,"d":"10 "},{"v":16,"d":"16 "},{"v":8,"d":"8 "},{"v":10,"d":"10 "},{"v":3,"d":"3 "},61.6,61.7,61.6,{"v":78,"d":"78 "},"-","-","-",{"v":2,"d":"2 "},{"v":1,"d":"1 "},{"v":2,"d":"2 "},{"v":1,"d":"1 "},{"v":10,"d":"10 "},{"v":5,"d":"5 "},{"v":17,"d":"17 "},{"v":9,"d":"9 "},{"v":12,"d":"12 "},{"v":7,"d":"7 "},{"v":10,"d":"10 "},{"v":2,"d":"2 "},65.3,65.4,65.2,{"v":56,"d":"56 "},"-","-",{"v":1,"d":"1 "},"-",{"v":1,"d":"1 "},"-",{"v":2,"d":"2 "},{"v":11,"d":"11 "},{"v":7,"d":"7 "},{"v":10,"d":"10 "},{"v":8,"d":"8 "},{"v":7,"d":"7 "},{"v":5,"d":"5 "},{"v":4,"d":"4 "},"-",{"v":27,"d":"27 "},"-","-","-","-",{"v":2,"d":"2 "},{"v":2,"d":"2 "},{"v":3,"d":"3 "},{"v":7,"d":"7 "},{"v":3,"d":"3 "},{"v":4,"d":"4 "},{"v":3,"d":"3 "},{"v":3,"d":"3 "},"-",{"$nulls":7},{"v":174,"d":"174 "},{"v":138,"d":"138 "},{"v":78,"d":"78 "},{"v":54,"d":"54 "},{"v":6,"d":"6 "},{"v":16,"d":"16 "},{"v":9,"d":"9 "},{"v":11,"d":"11 "},{"v":45,"d":"45 "},{"v":14,"d":"14 "},"-","-","-",{"v":16,"d":"16 "},{"v":13,"d":"13 "},{"v":2,"d":"2 "},"-","-","-","-","-","-","-","-",{"v":56,"d":"56 "},{"v":4995,"d":"4,995 "},{"v":4128,"d":"4,128 "},{"v":644,"d":"644 "},{"v":223,"d":"223 "},85,78,41,35,2,"-",4,3,89,60,37,19,4,16,5,8]
["山梨県","甲府市","朝井村","小曲",{"v":26,"d":"26 "},{"v":24,"d":"24 "},{"v":9,"d":"9 "},{"v":9,"d":"9 "},{"v":6,"d":"6 "},{"v":2,"d":"2 "},{"v":9,"d":"9 "},{"v":2,"d":"2 "},{"v":70,"d":"70 "},{"v":5,"d":"5 "},{"v":4,"d":"4 "},{"v":4,"d":"4 "},{"v":3,"d":"3 "},{"v":2,"d":"2 "},{"v":4,"d":"4 "},{"v":4,"d":"4 "},{"v":13,"d":"13 "},{"v":4,"d":"4 "},{"v":11,"d":"11 "},{"v":2,"d":"2 "},{"v":6,"d":"6 "},{"v":2,"d":"2 "},{"v":5,"d":"5 "},{"v":1,"d":"1 "},51.2,47.9,54.9,{"v":43,"d":"43 "},{"v":4,"d":"4 "},{"v":2,"d":"2 "},"-",{"v":1,"d":"1 "},{"v":1,"d":"1 "},{"v":1,"d":"1 "},{"v":2,"d":"2 "},{"v":9,"d":"9 "},{"v":1,"d":"1 "},{"v":6,"d":"6 "},{"v":2,"d":"2 "},{"v":6,"d":"6 "},{"v":2,"d":"2 "},{"v":5,"d":"5 "},{"v":1,"d":"1 "},56.3,52.8,59.1,{"v":35,"d":"35 "},"-","-","-",{"v":1,"d":"1 "},{"v":1,"d":"1 "},{"v":1,"d":"1 "},{"v":1,"d":"1 "},{"v":9,"d":"9 "},{"v":1,"d":"1 "},{"v":6,"d":"6 "},{"v":2,"d":"2 "},{"v":5,"d":"5 "},{"v":2,"d":"2 "},{"v":5,"d":"5 "},{"v":1,"d":"1 "},62.7,61.8,63.4,{"v":24,"d":"24 "},"-","-",{"v":1,"d":"1 "},"-",{"v":1,"d":"1 "},"-",{"v":2,"d":"2 "},{"v":8,"d":"8 "},{"v":2,"d":"2 "},{"v":6,"d":"6 "},{"v":1,"d":"1 "},{"v":2,"d":"2 "},{"v":1,"d":"1 "},"-","-",{"v":13,"d":"13 "},"-","-","-","-",{"v":2,"d":"2 "},{"v":2,"d":"2 "},{"v":1,"d":"1 "},{"v":4,"d":"4 "},{"v":1,"d":"1 "},{"v":2,"d":"2 "},{"v":1,"d":"1 "},"-","-",{"$nulls":7},{"v":79,"d":"79 "},{"v":64,"d":"64 "},{"v":35,"d":"35 "},{"v":23,"d":"23 "},{"v":6,"d":"6 "},{"v":4,"d":"4 "},{"v":7,"d":"7 "},{"v":4,"d":"4 "},{"v":22,"d":"22 "},{"v":9,"d":"9 "},"-","-","-",{"v":2,"d":"2 "},{"v":10,"d":"10 "},{"v":1,"d":"1 "},"-","-","-","-","-","-","-","-",{"v":24,"d":"24 "},{"v":2110,"d":"2,110 "},{"v":2025,"d":"2,025 "},{"v":51,"d":"51 "},{"v":34,"d":"34 "},39,33,15,16,2,"-",4,2,40,31,20,7,4,4,3,2]
["山梨県","甲府市","朝井村","下今井",{"v":15,"d":"15 "},{"v":10,"d":"10 "},{"v":1,"d":"1 "},"-",{"v":3,"d":"3 "},"-",{"v":6,"d":"6 "},{"v":5,"d":"5 "},{"v":26,"d":"26 "},"-","-",{"v":1,"d":"1 "},{"v":1,"d":"1 "},"-",{"v":1,"d":"1 "},{"v":2,"d":"2 "},{"v":5,"d":"5 "},{"v":2,"d":"2 "},{"v":4,"d":"4 "},{"v":1,"d":"1 "},{"v":3,"d":"3 "},{"v":2,"d":"2 "},{"v":3,"d":"3 "},{"v":1,"d":"1 "},61.1,62.5,59.6,{"v":16,"d":"16 "},"-","-","-",{"v":1,"d":"1 "},"-",{"v":1,"d":"1 "},{"v":1,"d":"1 "},"-","-",{"v":3,"d":"3 "},{"v":1,"d":"1 "},{"v":3,"d":"3 "},{"v":2,"d":"2 "},{"v":3,"d":"3 "},{"v":1,"d":"1 "},67.4,74.3,{"v":62,"d":"62.0"},{"v":12,"d":"12 "},"-","-","-","-","-","-","-","-","-",{"v":3,"d":"3 "},{"v":1,"d":"1 "},{"v":2,"d":"2 "},{"v":2,"d":"2 "},{"v":3,"d":"3 "},{"v":1,"d":"1 "},73.8,74.3,73.2,{"v":10,"d":"10 "},"-","-","-","-","-","-","-",{"v":2,"d":"2 "},{"v":1,"d":"1 "},{"v":2,"d":"2 "},"-",{"v":2,"d":"2 "},{"v":1,"d":"1 "},{"v":2,"d":"2 "},"-",{"v":7,"d":"7 "},"-","-","-","-","-","-",{"v":1,"d":"1 "},{"v":2,"d":"2 "},"-",{"v":1,"d":"1 "},{"v":1,"d":"1 "},{"v":2,"d":"2 "},"-",{"$nulls":7},{"v":32,"d":"32 "},{"v":23,"d":"23 "},{"v":12,"d":"12 "},{"v":11,"d":"11 "},"-",{"v":7,"d":"7 "},{"v":2,"d":"2 "},"-",{"v":7,"d":"7 "},{"v":2,"d":"2 "},"-","-","-",{"v":3,"d":"3 "},{"v":1,"d":"1 "},{"v":1,"d":"1 "},"-","-","-","-","-","-","-","-",{"v":10,"d":"10 "},{"v":798,"d":"798 "},{"v":533,"d":"533 "},{"v":201,"d":"201 "},{"v":64,"d":"64 "},14,14,7,7,"-","-","-","-",18,9,5,4,"-",7,2,"-"]
["山梨県","甲府市","朝井村","東下条",{"v":19,"d":"19 "},{"v":13,"d":"13 "},{"v":6,"d":"6 "},{"v":6,"d":"6 "},{"v":1,"d":"1 "},"-",{"v":6,"d":"6 "},{"v":6,"d":"6 "},{"v":35,"d":"35 "},"-","-",{"v":1,"d":"1 "},{"v":2,"d":"2 "},{"v":2,"d":"2 "},{"v":5,"d":"5 "},{"v":1,"d":"1 "},"-",{"v":2,"d":"2 "},{"v":6,"d":"6 "},{"v":8,"d":"8 "},{"v":5,"d":"5 "},{"v":2,"d":"2 "},"-",{"v":1,"d":"1 "},58.4,{"v":58,"d":"58.0"},58.9,{"v":25,"d":"25 "},"-","-","-",{"v":2,"d":"2 "},"-",{"v":1,"d":"1 "},"-","-",{"v":2,"d":"2 "},{"v":6,"d":"6 "},{"v":6,"d":"6 "},{"v":5,"d":"5 "},{"v":2,"d":"2 "},"-",{"v":1,"d":"1 "},{"v":64,"d":"64.0"},64.3,63.7,{"v":18,"d":"18 "},"-","-","-",{"v":1,"d":"1 "},"-",{"v":1,"d":"1 "},"-","-",{"v":2,"d":"2 "},{"v":5,"d":"5 "},{"v":5,"d":"5 "},{"v":3,"d":"3 "},{"v":1,"d":"1 "},"-","-",62.6,63.1,61.7,{"v":13,"d":"13 "},"-","-","-","-","-","-","-","-",{"v":1,"d":"1 "},{"v":1,"d":"1 "},{"v":6,"d":"6 "},{"v":3,"d":"3 "},{"v":2,"d":"2 "},"-","-",{"v":5,"d":"5 "},"-","-","-","-","-","-","-",{"v":1,"d":"1 "},{"v":2,"d":"2 "},{"v":1,"d":"1 "},{"v":1,"d":"1 "},"-","-",{"$nulls":7},{"v":36,"d":"36 "},{"v":28,"d":"28 "},{"v":18,"d":"18 "},{"v":10,"d":"10 "},"-",{"v":4,"d":"4 "},"-",{"v":4,"d":"4 "},{"v":9,"d":"9 "},{"v":1,"d":"1 "},"-","-","-",{"v":7,"d":"7 "},{"v":1,"d":"1 "},"-","-","-","-","-","-","-","-","-",{"v":13,"d":"13 "},{"v":1230,"d":"1,230 "},{"v":1026,"d":"1,026 "},{"v":142,"d":"142 "},{"v":62,"d":"62 "},20,19,12,7,"-","-","-",1,16,9,6,3,"-",4,"-",3]
["山梨県","甲府市","朝井村","中",{"v":11,"d":"11 "},{"v":9,"d":"9 "},{"v":1,"d":"1 "},{"v":1,"d":"1 "},{"v":3,"d":"3 "},{"v":3,"d":"3 "},{"v":5,"d":"5 "},{"v":2,"d":"2 "},{"v":23,"d":"23 "},"-","-",{"v":3,"d":"3 "},{"v":3,"d":"3 "},"-","-","-",{"v":2,"d":"2 "},{"v":5,"d":"5 "},{"v":3,"d":"3 "},{"v":1,"d":"1 "},{"v":2,"d":"2 "},{"v":2,"d":"2 "},{"v":2,"d":"2 "},"-",55.7,56.7,54.5,{"v":14,"d":"14 "},"-","-","-","-","-","-","-",{"v":1,"d":"1 "},{"v":3,"d":"3 "},{"v":3,"d":"3 "},{"v":1,"d":"1 "},{"v":2,"d":"2 "},{"v":2,"d":"2 "},{"v":2,"d":"2 "},"-",67.1,{"v":68,"d":"68.0"},66.1,{"v":13,"d":"13 "},"-","-","-","-","-","-","-",{"v":1,"d":"1 "},{"v":2,"d":"2 "},{"v":3,"d":"3 "},{"v":1,"d":"1 "},{"v":2,"d":"2 "},{"v":2,"d":"2 "},{"v":2,"d":"2 "},"-",67.9,{"v":68,"d":"68.0"},67.8,{"v":9,"d":"9 "},"-","-","-","-","-","-","-",{"v":1,"d":"1 "},{"v":3,"d":"3 "},{"v":1,"d":"1 "},{"v":1,"d":"1 "},"-",{"v":1,"d":"1 "},{"v":2,"d":"2 "},"-",{"v":2,"d":"2 "},"-","-","-","-","-","-",{"v":1,"d":"1 "},"-","-","-","-",{"v":1,"d":"1 "},"-",{"$nulls":7},{"v":27,"d":"27 "},{"v":23,"d":"23 "},{"v":13,"d":"13 "},{"v":10,"d":"10 "},"-",{"v":1,"d":"1 "},"-",{"v":3,"d":"3 "},{"v":7,"d":"7 "},{"v":2,"d":"2 "},"-","-","-",{"v":4,"d":"4 "},{"v":1,"d":"1 "},"-","-","-","-","-","-","-","-","-",{"v":9,"d":"9 "},{"v":857,"d":"857 "},{"v":544,"d":"544 "},{"v":250,"d":"250 "},{"v":63,"d":"63 "},12,12,7,5,"-","-","-","-",15,11,6,5,"-",1,"-",3]
["山梨県","甲府市","玉諸村",null,{"v":186,"d":"186 "},{"v":145,"d":"145 "},{"v":34,"d":"34 "},{"v":33,"d":"33 "},{"v":50,"d":"50 "},{"v":24,"d":"24 "},{"v":61,"d":"61 "},{"v":41,"d":"41 "},{"v":392,"d":"392 "},{"v":6,"d":"6 "},{"v":14,"d":"14 "},{"v":16,"d":"16 "},{"v":14,"d":"14 "},{"v":11,"d":"11 "},{"v":20,"d":"20 "},{"v":14,"d":"14 "},{"v":29,"d":"29 "},{"v":56,"d":"56 "},{"v":46,"d":"46 "},{"v":42,"d":"42 "},{"v":41,"d":"41 "},{"v":29,"d":"29 "},{"v":42,"d":"42 "},{"v":12,"d":"12 "},59.2,58.9,59.6,{"v":269,"d":"269 "},{"v":5,"d":"5 "},{"v":5,"d":"5 "},{"v":2,"d":"2 "},{"v":1,"d":"1 "},{"v":2,"d":"2 "},{"v":4,"d":"4 "},{"v":5,"d":"5 "},{"v":14,"d":"14 "},{"v":34,"d":"34 "},{"v":41,"d":"41 "},{"v":36,"d":"36 "},{"v":41,"d":"41 "},{"v":29,"d":"29 "},{"v":40,"d":"40 "},{"v":10,"d":"10 "},65.8,66.4,65.2,{"v":237,"d":"237 "},"-",{"v":1,"d":"1 "},{"v":2,"d":"2 "},{"v":1,"d":"1 "},{"v":2,"d":"2 "},{"v":4,"d":"4 "},{"v":4,"d":"4 "},{"v":10,"d":"10 "},{"v":31,"d":"31 "},{"v":39,"d":"39 "},{"v":34,"d":"34 "},{"v":36,"d":"36 "},{"v":27,"d":"27 "},{"v":39,"d":"39 "},{"v":7,"d":"7 "},67.5,68.3,66.6,{"v":145,"d":"145 "},"-","-",{"v":2,"d":"2 "},"-","-",{"v":3,"d":"3 "},{"v":3,"d":"3 "},{"v":10,"d":"10 "},{"v":19,"d":"19 "},{"v":28,"d":"28 "},{"v":17,"d":"17 "},{"v":24,"d":"24 "},{"v":14,"d":"14 "},{"v":21,"d":"21 "},{"v":4,"d":"4 "},{"v":76,"d":"76 "},"-","-","-",{"v":3,"d":"3 "},{"v":1,"d":"1 "},{"v":3,"d":"3 "},{"v":8,"d":"8 "},{"v":12,"d":"12 "},{"v":10,"d":"10 "},{"v":14,"d":"14 "},{"v":9,"d":"9 "},{"v":13,"d":"13 "},{"v":3,"d":"3 "},{"$nulls":7},{"v":471,"d":"471 "},{"v":386,"d":"386 "},{"v":237,"d":"237 "},{"v":131,"d":"131 "},{"v":18,"d":"18 "},{"v":31,"d":"31 "},{"v":26,"d":"26 "},{"v":28,"d":"28 "},{"v":141,"d":"141 "},"-","-","-","-","-",{"v":2,"d":"2 "},{"v":138,"d":"138 "},"-",{"v":1,"d":"1 "},"-","-","-","-","-","-",{"v":145,"d":"145 "},{"v":9535,"d":"9,535 "},"-",{"v":380,"d":"380 "},{"v":9155,"d":"9,155 "},243,215,120,83,12,"-",12,16,228,171,117,48,6,31,14,12]
["山梨県","甲府市","玉諸村","蓬沢",{"v":34,"d":"34 "},{"v":29,"d":"29 "},{"v":8,"d":"8 "},{"v":8,"d":"8 "},{"v":10,"d":"10 "},{"v":5,"d":"5 "},{"v":11,"d":"11 "},{"v":5,"d":"5 "},{"v":89,"d":"89 "},{"v":3,"d":"3 "},{"v":5,"d":"5 "},{"v":3,"d":"3 "},{"v":2,"d":"2 "},{"v":6,"d":"6 "},{"v":4,"d":"4 "},{"v":5,"d":"5 "},{"v":8,"d":"8 "},{"v":8,"d":"8 "},{"v":7,"d":"7 "},{"v":10,"d":"10 "},{"v":9,"d":"9 "},{"v":9,"d":"9 "},{"v":8,"d":"8 "},{"v":2,"d":"2 "},{"v":57,"d":"57.0"},56.5,57.7,{"v":64,"d":"64 "},{"v":3,"d":"3 "},{"v":4,"d":"4 "},"-","-",{"v":1,"d":"1 "},{"v":2,"d":"2 "},{"v":2,"d":"2 "},{"v":4,"d":"4 "},{"v":5,"d":"5 "},{"v":7,"d":"7 "},{"v":10,"d":"10 "},{"v":9,"d":"9 "},{"v":9,"d":"9 "},{"v":7,"d":"7 "},{"v":1,"d":"1 "},61.7,61.7,61.7,{"v":54,"d":"54 "},"-","-","-","-",{"v":1,"d":"1 "},{"v":2,"d":"2 "},{"v":2,"d":"2 "},{"v":2,"d":"2 "},{"v":5,"d":"5 "},{"v":7,"d":"7 "},{"v":10,"d":"10 "},{"v":9,"d":"9 "},{"v":9,"d":"9 "},{"v":6,"d":"6 "},{"v":1,"d":"1 "},67.1,67.3,66.8,{"v":29,"d":"29 "},"-","-","-","-","-","-",{"v":2,"d":"2 "},{"v":2,"d":"2 "},{"v":3,"d":"3 "},{"v":5,"d":"5 "},{"v":4,"d":"4 "},{"v":5,"d":"5 "},{"v":3,"d":"3 "},{"v":4,"d":"4 "},{"v":1,"d":"1 "},{"v":15,"d":"15 "},"-","-","-","-",{"v":1,"d":"1 "},{"v":1,"d":"1 "},{"v":1,"d":"1 "},{"v":2,"d":"2 "},{"v":3,"d":"3 "},{"v":2,"d":"2 "},{"v":2,"d":"2 "},{"v":2,"d":"2 "},{"v":1,"d":"1 "},{"$nulls":7},{"v":109,"d":"109 "},{"v":83,"d":"83 "},{"v":54,"d":"54 "},{"v":27,"d":"27 "},{"v":2,"d":"2 "},{"v":5,"d":"5 "},{"v":12,"d":"12 "},{"v":9,"d":"9 "},{"v":29,"d":"29 "},"-","-","-","-","-",{"v":1,"d":"1 "},{"v":28,"d":"28 "},"-","-","-","-","-","-","-","-",{"v":29,"d":"29 "},{"v":2365,"d":"2,365 "},"-",{"v":33,"d":"33 "},{"v":2332,"d":"2,332 "},60,51,30,19,2,"-",4,5,49,32,24,8,"-",5,8,4]
["山梨県","甲府市","玉諸村","西高橋",{"v":16,"d":"16 "},{"v":11,"d":"11 "},{"v":1,"d":"1 "},{"v":1,"d":"1 "},{"v":8,"d":"8 "},{"v":4,"d":"4 "},{"v":2,"d":"2 "},{"v":5,"d":"5 "},{"v":29,"d":"29 "},{"v":1,"d":"1 "},"-",{"v":2,"d":"2 "},"-","-",{"v":2,"d":"2 "},{"v":2,"d":"2 "},{"v":2,"d":"2 "},{"v":7,"d":"7 "},{"v":6,"d":"6 "},{"v":1,"d":"1 "},"-",{"v":4,"d":"4 "},"-",{"v":2,"d":"2 "},57.5,54.9,59.4,{"v":15,"d":"15 "},{"v":1,"d":"1 "},"-","-","-","-",{"v":2,"d":"2 "},"-","-",{"v":2,"d":"2 "},{"v":4,"d":"4 "},{"v":1,"d":"1 "},"-",{"v":4,"d":"4 "},"-",{"v":1,"d":"1 "},61.9,{"v":54,"d":"54.0"},67.1,{"v":12,"d":"12 "},"-","-","-","-","-",{"v":2,"d":"2 "},"-","-",{"v":2,"d":"2 "},{"v":4,"d":"4 "},{"v":1,"d":"1 "},"-",{"v":3,"d":"3 "},"-","-",61.9,{"v":57,"d":"57.0"},64.4,{"v":11,"d":"11 "},"-","-","-","-","-",{"v":1,"d":"1 "},"-",{"v":2,"d":"2 "},{"v":3,"d":"3 "},{"v":4,"d":"4 "},"-","-",{"v":1,"d":"1 "},"-","-",{"v":5,"d":"5 "},"-","-","-",{"v":1,"d":"1 "},"-","-","-",{"v":3,"d":"3 "},"-","-",{"v":1,"d":"1 "},"-","-",{"$nulls":7},{"v":39,"d":"39 "},{"v":28,"d":"28 "},{"v":12,"d":"12 "},{"v":14,"d":"14 "},{"v":2,"d":"2 "},{"v":5,"d":"5 "},{"v":4,"d":"4 "},{"v":2,"d":"2 "},{"v":11,"d":"11 "},"-","-","-","-","-","-",{"v":11,"d":"11 "},"-","-","-","-","-","-","-","-",{"v":11,"d":"11 "},{"v":835,"d":"835 "},"-",{"v":31,"d":"31 "},{"v":804,"d":"804 "},16,12,4,7,1,"-",3,1,23,16,8,7,1,5,1,1]
["山梨県","甲府市","玉諸村","七沢",{"v":20,"d":"20 "},{"v":14,"d":"14 "},{"v":6,"d":"6 "},{"v":6,"d":"6 "},"-","-",{"v":8,"d":"8 "},{"v":6,"d":"6 "},{"v":34,"d":"34 "},"-",{"v":1,"d":"1 "},{"v":1,"d":"1 "},{"v":2,"d":"2 "},{"v":1,"d":"1 "},{"v":1,"d":"1 "},"-",{"v":2,"d":"2 "},{"v":3,"d":"3 "},{"v":4,"d":"4 "},{"v":5,"d":"5 "},{"v":6,"d":"6 "},{"v":2,"d":"2 "},{"v":6,"d":"6 "},"-",62.4,63.5,61.3,{"v":29,"d":"29 "},"-","-",{"v":1,"d":"1 "},{"v":1,"d":"1 "},{"v":1,"d":"1 "},"-","-",{"v":2,"d":"2 "},{"v":3,"d":"3 "},{"v":4,"d":"4 "},{"v":3,"d":"3 "},{"v":6,"d":"6 "},{"v":2,"d":"2 "},{"v":6,"d":"6 "},"-",65.4,65.6,65.1,{"v":28,"d":"28 "},"-","-",{"v":1,"d":"1 "},{"v":1,"d":"1 "},{"v":1,"d":"1 "},"-","-",{"v":2,"d":"2 "},{"v":3,"d":"3 "},{"v":4,"d":"4 "},{"v":3,"d":"3 "},{"v":5,"d":"5 "},{"v":2,"d":"2 "},{"v":6,"d":"6 "},"-",65.1,65.1,65.1,{"v":14,"d":"14 "},"-","-","-","-","-","-","-",{"v":1,"d":"1 "},{"v":1,"d":"1 "},{"v":2,"d":"2 "},{"v":2,"d":"2 "},{"v":5,"d":"5 "},"-",{"v":3,"d":"3 "},"-",{"v":7,"d":"7 "},"-","-","-","-","-","-",{"v":1,"d":"1 "},{"v":2,"d":"2 "},"-",{"v":4,"d":"4 "},"-","-","-",{"$nulls":7},{"v":39,"d":"39 "},{"v":35,"d":"35 "},{"v":28,"d":"28 "},{"v":6,"d":"6 "},{"v":1,"d":"1 "},{"v":1,"d":"1 "},"-",{"v":3,"d":"3 "},{"v":13,"d":"13 "},"-","-","-","-","-",{"v":1,"d":"1 "},{"v":11,"d":"11 "},"-",{"v":1,"d":"1 "},"-","-","-","-","-","-",{"v":14,"d":"14 "},{"v":1072,"d":"1,072 "},"-",{"v":150,"d":"150 "},{"v":922,"d":"922 "},19,18,14,4,"-","-","-",1,20,17,14,2,1,1,"-",2]
["山梨県","甲府市","玉諸村","上阿原",{"v":34,"d":"34 "},{"v":29,"d":"29 "},{"v":8,"d":"8 "},{"v":8,"d":"8 "},{"v":10,"d":"10 "},{"v":6,"d":"6 "},{"v":11,"d":"11 "},{"v":5,"d":"5 "},{"v":75,"d":"75 "},"-",{"v":4,"d":"4 "},{"v":4,"d":"4 "},{"v":3,"d":"3 "},{"v":1,"d":"1 "},{"v":2,"d":"2 "},{"v":1,"d":"1 "},{"v":4,"d":"4 "},{"v":17,"d":"17 "},{"v":10,"d":"10 "},{"v":4,"d":"4 "},{"v":7,"d":"7 "},{"v":3,"d":"3 "},{"v":11,"d":"11 "},{"v":4,"d":"4 "},60.2,60.4,60.1,{"v":53,"d":"53 "},"-","-",{"v":1,"d":"1 "},"-","-","-","-",{"v":3,"d":"3 "},{"v":12,"d":"12 "},{"v":9,"d":"9 "},{"v":3,"d":"3 "},{"v":7,"d":"7 "},{"v":3,"d":"3 "},{"v":11,"d":"11 "},{"v":4,"d":"4 "},68.4,68.3,68.5,{"v":53,"d":"53 "},"-","-",{"v":1,"d":"1 "},"-","-","-","-",{"v":3,"d":"3 "},{"v":12,"d":"12 "},{"v":9,"d":"9 "},{"v":3,"d":"3 "},{"v":7,"d":"7 "},{"v":3,"d":"3 "},{"v":11,"d":"11 "},{"v":4,"d":"4 "},68.4,68.3,68.5,{"v":29,"d":"29 "},"-","-",{"v":1,"d":"1 "},"-","-","-","-",{"v":1,"d":"1 "},{"v":7,"d":"7 "},{"v":7,"d":"7 "},{"v":1,"d":"1 "},{"v":4,"d":"4 "},{"v":3,"d":"3 "},{"v":4,"d":"4 "},{"v":1,"d":"1 "},{"v":10,"d":"10 "},"-","-","-","-","-",{"v":1,"d":"1 "},{"v":4,"d":"4 "},{"v":2,"d":"2 "},"-","-",{"v":1,"d":"1 "},{"v":2,"d":"2 "},"-",{"$nulls":7},{"v":92,"d":"92 "},{"v":83,"d":"83 "},{"v":53,"d":"53 "},{"v":28,"d":"28 "},{"v":2,"d":"2 "},{"v":2,"d":"2 "},{"v":3,"d":"3 "},{"v":4,"d":"4 "},{"v":29,"d":"29 "},"-","-","-","-","-","-",{"v":29,"d":"29 "},"-","-","-","-","-","-","-","-",{"v":29,"d":"29 "},{"v":1849,"d":"1,849 "},"-",{"v":36,"d":"36 "},{"v":1813,"d":"1,813 "},44,40,24,14,2,"-",1,3,48,43,29,14,"-",2,2,1]
["山梨県","甲府市","玉諸村","向",{"v":29,"d":"29 "},{"v":23,"d":"23 "},{"v":6,"d":"6 "},{"v":5,"d":"5 "},{"v":9,"d":"9 "},{"v":2,"d":"2 "},{"v":8,"d":"8 "},{"v":6,"d":"6 "},{"v":59,"d":"59 "},{"v":1,"d":"1 "},{"v":1,"d":"1 "},{"v":3,"d":"3 "},{"v":4,"d":"4 "},{"v":1,"d":"1 "},{"v":4,"d":"4 "},{"v":1,"d":"1 "},{"v":3,"d":"3 "},{"v":7,"d":"7 "},{"v":10,"d":"10 "},{"v":11,"d":"11 "},{"v":6,"d":"6 "},{"v":3,"d":"3 "},{"v":3,"d":"3 "},{"v":1,"d":"1 "},57.4,56.3,58.5,{"v":38,"d":"38 "},"-","-","-","-","-","-",{"v":1,"d":"1 "},"-",{"v":5,"d":"5 "},{"v":10,"d":"10 "},{"v":9,"d":"9 "},{"v":6,"d":"6 "},{"v":3,"d":"3 "},{"v":3,"d":"3 "},{"v":1,"d":"1 "},66.5,68.8,64.8,{"v":32,"d":"32 "},"-","-","-","-","-","-","-","-",{"v":4,"d":"4 "},{"v":8,"d":"8 "},{"v":8,"d":"8 "},{"v":6,"d":"6 "},{"v":3,"d":"3 "},{"v":3,"d":"3 "},"-",67.1,69.3,65.1,{"v":23,"d":"23 "},"-","-",{"v":1,"d":"1 "},"-","-","-","-",{"v":2,"d":"2 "},{"v":1,"d":"1 "},{"v":4,"d":"4 "},{"v":6,"d":"6 "},{"v":4,"d":"4 "},{"v":2,"d":"2 "},{"v":2,"d":"2 "},{"v":1,"d":"1 "},{"v":15,"d":"15 "},"-","-","-","-","-",{"v":1,"d":"1 "},{"v":1,"d":"1 "},{"v":1,"d":"1 "},{"v":4,"d":"4 "},{"v":4,"d":"4 "},{"v":2,"d":"2 "},{"v":1,"d":"1 "},{"v":1,"d":"1 "},{"$nulls":7},{"v":67,"d":"67 "},{"v":54,"d":"54 "},{"v":32,"d":"32 "},{"v":19,"d":"19 "},{"v":3,"d":"3 "},{"v":5,"d":"5 "},{"v":2,"d":"2 "},{"v":6,"d":"6 "},{"v":23,"d":"23 "},"-","-","-","-","-","-",{"v":23,"d":"23 "},"-","-","-","-","-","-","-","-",{"v":23,"d":"23 "},{"v":1334,"d":"1,334 "},"-",{"v":24,"d":"24 "},{"v":1310,"d":"1,310 "},35,30,15,13,2,"-",1,4,32,24,17,6,1,5,1,2]
["山梨県","甲府市","玉諸村","国玉",{"v":36,"d":"36 "},{"v":23,"d":"23 "},{"v":4,"d":"4 "},{"v":4,"d":"4 "},{"v":9,"d":"9 "},{"v":5,"d":"5 "},{"v":10,"d":"10 "},{"v":13,"d":"13 "},{"v":61,"d":"61 "},{"v":1,"d":"1 "},{"v":2,"d":"2 "},{"v":2,"d":"2 "},{"v":3,"d":"3 "},{"v":2,"d":"2 "},{"v":5,"d":"5 "},{"v":2,"d":"2 "},{"v":5,"d":"5 "},{"v":5,"d":"5 "},{"v":8,"d":"8 "},{"v":9,"d":"9 "},{"v":5,"d":"5 "},{"v":5,"d":"5 "},{"v":6,"d":"6 "},{"v":1,"d":"1 "},58.2,58.4,{"v":58,"d":"58.0"},{"v":39,"d":"39 "},{"v":1,"d":"1 "},"-","-","-","-","-",{"v":1,"d":"1 "},{"v":2,"d":"2 "},{"v":4,"d":"4 "},{"v":6,"d":"6 "},{"v":8,"d":"8 "},{"v":5,"d":"5 "},{"v":5,"d":"5 "},{"v":6,"d":"6 "},{"v":1,"d":"1 "},67.3,69.2,64.8,{"v":34,"d":"34 "},"-","-","-","-","-","-",{"v":1,"d":"1 "},{"v":2,"d":"2 "},{"v":3,"d":"3 "},{"v":6,"d":"6 "},{"v":7,"d":"7 "},{"v":4,"d":"4 "},{"v":5,"d":"5 "},{"v":6,"d":"6 "},"-",68.5,{"v":69,"d":"69.0"},67.6,{"v":23,"d":"23 "},"-","-","-","-","-",{"v":1,"d":"1 "},{"v":1,"d":"1 "},{"v":2,"d":"2 "},{"v":1,"d":"1 "},{"v":5,"d":"5 "},{"v":4,"d":"4 "},{"v":3,"d":"3 "},{"v":3,"d":"3 "},{"v":3,"d":"3 "},"-",{"v":13,"d":"13 "},"-","-","-",{"v":1,"d":"1 "},"-","-","-",{"v":2,"d":"2 "},{"v":3,"d":"3 "},{"v":2,"d":"2 "},{"v":2,"d":"2 "},{"v":3,"d":"3 "},"-",{"$nulls":7},{"v":71,"d":"71 "},{"v":61,"d":"61 "},{"v":34,"d":"34 "},{"v":22,"d":"22 "},{"v":5,"d":"5 "},{"v":3,"d":"3 "},{"v":3,"d":"3 "},{"v":4,"d":"4 "},{"v":22,"d":"22 "},"-","-","-","-","-","-",{"v":22,"d":"22 "},"-","-","-","-","-","-","-","-",{"v":23,"d":"23 "},{"v":1416,"d":"1,416 "},"-",{"v":36,"d":"36 "},{"v":1380,"d":"1,380 "},41,38,21,15,2,"-",1,2,30,23,13,7,3,3,2,2]
["山梨県","甲府市","玉諸村","里吉",{"v":17,"d":"17 "},{"v":16,"d":"16 "},{"v":1,"d":"1 "},{"v":1,"d":"1 "},{"v":4,"d":"4 "},{"v":2,"d":"2 "},{"v":11,"d":"11 "},{"v":1,"d":"1 "},{"v":45,"d":"45 "},"-",{"v":1,"d":"1 "},{"v":1,"d":"1 "},"-","-",{"v":2,"d":"2 "},{"v":3,"d":"3 "},{"v":5,"d":"5 "},{"v":9,"d":"9 "},{"v":1,"d":"1 "},{"v":2,"d":"2 "},{"v":8,"d":"8 "},{"v":3,"d":"3 "},{"v":8,"d":"8 "},{"v":2,"d":"2 "},64.2,64.2,64.1,{"v":31,"d":"31 "},"-",{"v":1,"d":"1 "},"-","-","-","-",{"v":1,"d":"1 "},{"v":3,"d":"3 "},{"v":3,"d":"3 "},{"v":1,"d":"1 "},{"v":2,"d":"2 "},{"v":8,"d":"8 "},{"v":3,"d":"3 "},{"v":7,"d":"7 "},{"v":2,"d":"2 "},69.6,75.3,65.9,{"v":24,"d":"24 "},"-",{"v":1,"d":"1 "},"-","-","-","-",{"v":1,"d":"1 "},{"v":1,"d":"1 "},{"v":2,"d":"2 "},{"v":1,"d":"1 "},{"v":2,"d":"2 "},{"v":5,"d":"5 "},{"v":2,"d":"2 "},{"v":7,"d":"7 "},{"v":2,"d":"2 "},70.8,75.3,66.2,{"v":16,"d":"16 "},"-","-","-","-","-",{"v":1,"d":"1 "},"-","-",{"v":3,"d":"3 "},{"v":1,"d":"1 "},"-",{"v":3,"d":"3 "},{"v":2,"d":"2 "},{"v":5,"d":"5 "},{"v":1,"d":"1 "},{"v":11,"d":"11 "},"-","-","-",{"v":1,"d":"1 "},"-","-",{"v":1,"d":"1 "},"-","-",{"v":2,"d":"2 "},{"v":1,"d":"1 "},{"v":5,"d":"5 "},{"v":1,"d":"1 "},{"$nulls":7},{"v":54,"d":"54 "},{"v":42,"d":"42 "},{"v":24,"d":"24 "},{"v":15,"d":"15 "},{"v":3,"d":"3 "},{"v":10,"d":"10 "},{"v":2,"d":"2 "},"-",{"v":14,"d":"14 "},"-","-","-","-","-","-",{"v":14,"d":"14 "},"-","-","-","-","-","-","-","-",{"v":16,"d":"16 "},{"v":664,"d":"664 "},"-",{"v":70,"d":"70 "},{"v":594,"d":"594 "},28,26,12,11,3,"-",2,"-",26,16,12,4,"-",10,"-","-"]
["山梨県","甲府市","甲運村",null,{"v":212,"d":"212 "},{"v":184,"d":"184 "},{"v":67,"d":"67 "},{"v":60,"d":"60 "},{"v":49,"d":"49 "},{"v":25,"d":"25 "},{"v":68,"d":"68 "},{"v":28,"d":"28 "},{"v":498,"d":"498 "},{"v":11,"d":"11 "},{"v":13,"d":"13 "},{"v":25,"d":"25 "},{"v":13,"d":"13 "},{"v":19,"d":"19 "},{"v":27,"d":"27 "},{"v":20,"d":"20 "},{"v":37,"d":"37 "},{"v":59,"d":"59 "},{"v":64,"d":"64 "},{"v":54,"d":"54 "},{"v":60,"d":"60 "},{"v":53,"d":"53 "},{"v":29,"d":"29 "},{"v":14,"d":"14 "},58.6,58.1,59.1,{"v":346,"d":"346 "},{"v":1,"d":"1 "},{"v":2,"d":"2 "},{"v":3,"d":"3 "},"-",{"v":5,"d":"5 "},{"v":9,"d":"9 "},{"v":13,"d":"13 "},{"v":18,"d":"18 "},{"v":40,"d":"40 "},{"v":53,"d":"53 "},{"v":50,"d":"50 "},{"v":58,"d":"58 "},{"v":51,"d":"51 "},{"v":29,"d":"29 "},{"v":14,"d":"14 "},66.1,66.5,65.8,{"v":291,"d":"291 "},"-","-",{"v":2,"d":"2 "},"-",{"v":2,"d":"2 "},{"v":7,"d":"7 "},{"v":11,"d":"11 "},{"v":14,"d":"14 "},{"v":37,"d":"37 "},{"v":46,"d":"46 "},{"v":47,"d":"47 "},{"v":55,"d":"55 "},{"v":45,"d":"45 "},{"v":18,"d":"18 "},{"v":7,"d":"7 "},66.3,{"v":67,"d":"67.0"},65.5,{"v":184,"d":"184 "},"-","-","-","-",{"v":2,"d":"2 "},{"v":3,"d":"3 "},{"v":5,"d":"5 "},{"v":10,"d":"10 "},{"v":26,"d":"26 "},{"v":33,"d":"33 "},{"v":27,"d":"27 "},{"v":32,"d":"32 "},{"v":29,"d":"29 "},{"v":10,"d":"10 "},{"v":7,"d":"7 "},{"v":89,"d":"89 "},"-","-","-",{"v":1,"d":"1 "},{"v":2,"d":"2 "},{"v":5,"d":"5 "},{"v":11,"d":"11 "},{"v":14,"d":"14 "},{"v":15,"d":"15 "},{"v":14,"d":"14 "},{"v":17,"d":"17 "},{"v":5,"d":"5 "},{"v":5,"d":"5 "},{"$nulls":7},{"v":581,"d":"581 "},{"v":440,"d":"440 "},{"v":291,"d":"291 "},{"v":137,"d":"137 "},{"v":12,"d":"12 "},{"v":52,"d":"52 "},{"v":35,"d":"35 "},{"v":54,"d":"54 "},{"v":182,"d":"182 "},"-","-","-","-","-",{"v":1,"d":"1 "},{"v":180,"d":"180 "},{"v":1,"d":"1 "},"-","-","-","-","-","-","-",{"v":184,"d":"184 "},{"v":11753,"d":"11,753 "},"-",{"v":84,"d":"84 "},{"v":11669,"d":"11,669 "},273,242,151,82,9,"-",18,13,308,198,140,55,3,52,17,41]
["山梨県","甲府市","甲運村","川田",{"v":33,"d":"33 "},{"v":26,"d":"26 "},{"v":5,"d":"5 "},{"v":3,"d":"3 "},{"v":10,"d":"10 "},{"v":8,"d":"8 "},{"v":11,"d":"11 "},{"v":7,"d":"7 "},{"v":67,"d":"67 "},{"v":1,"d":"1 "},{"v":3,"d":"3 "},{"v":4,"d":"4 "},{"v":1,"d":"1 "},{"v":2,"d":"2 "},{"v":5,"d":"5 "},"-",{"v":9,"d":"9 "},{"v":8,"d":"8 "},{"v":9,"d":"9 "},{"v":6,"d":"6 "},{"v":6,"d":"6 "},{"v":8,"d":"8 "},{"v":4,"d":"4 "},{"v":1,"d":"1 "},57.2,58.6,56.1,{"v":41,"d":"41 "},"-","-","-","-",{"v":1,"d":"1 "},{"v":1,"d":"1 "},"-",{"v":3,"d":"3 "},{"v":6,"d":"6 "},{"v":8,"d":"8 "},{"v":4,"d":"4 "},{"v":5,"d":"5 "},{"v":8,"d":"8 "},{"v":4,"d":"4 "},{"v":1,"d":"1 "},66.6,69.3,64.4,{"v":34,"d":"34 "},"-","-","-","-","-","-","-",{"v":2,"d":"2 "},{"v":6,"d":"6 "},{"v":8,"d":"8 "},{"v":4,"d":"4 "},{"v":5,"d":"5 "},{"v":5,"d":"5 "},{"v":3,"d":"3 "},{"v":1,"d":"1 "},67.2,69.3,64.9,{"v":26,"d":"26 "},"-","-","-","-","-",{"v":1,"d":"1 "},"-",{"v":2,"d":"2 "},{"v":2,"d":"2 "},{"v":6,"d":"6 "},{"v":4,"d":"4 "},{"v":3,"d":"3 "},{"v":3,"d":"3 "},{"v":4,"d":"4 "},{"v":1,"d":"1 "},{"v":14,"d":"14 "},"-","-","-",{"v":1,"d":"1 "},"-",{"v":1,"d":"1 "},{"v":1,"d":"1 "},{"v":2,"d":"2 "},{"v":2,"d":"2 "},{"v":2,"d":"2 "},{"v":3,"d":"3 "},{"v":1,"d":"1 "},{"v":1,"d":"1 "},{"$nulls":7},{"v":82,"d":"82 "},{"v":59,"d":"59 "},{"v":34,"d":"34 "},{"v":24,"d":"24 "},{"v":1,"d":"1 "},{"v":7,"d":"7 "},{"v":7,"d":"7 "},{"v":9,"d":"9 "},{"v":26,"d":"26 "},"-","-","-","-","-","-",{"v":26,"d":"26 "},"-","-","-","-","-","-","-","-",{"v":26,"d":"26 "},{"v":1247,"d":"1,247 "},"-",{"v":23,"d":"23 "},{"v":1224,"d":"1,224 "},37,32,18,13,1,"-",4,1,45,27,16,11,"-",7,3,8]
["山梨県","甲府市","甲運村","和戸",{"v":44,"d":"44 "},{"v":39,"d":"39 "},{"v":13,"d":"13 "},{"v":12,"d":"12 "},{"v":9,"d":"9 "},{"v":4,"d":"4 "},{"v":17,"d":"17 "},{"v":5,"d":"5 "},{"v":102,"d":"102 "},"-",{"v":2,"d":"2 "},{"v":5,"d":"5 "},{"v":3,"d":"3 "},{"v":5,"d":"5 "},{"v":6,"d":"6 "},{"v":4,"d":"4 "},{"v":3,"d":"3 "},{"v":17,"d":"17 "},{"v":13,"d":"13 "},{"v":13,"d":"13 "},{"v":15,"d":"15 "},{"v":9,"d":"9 "},{"v":5,"d":"5 "},{"v":2,"d":"2 "},59.3,58.5,60.1,{"v":67,"d":"67 "},"-","-","-","-",{"v":1,"d":"1 "},{"v":1,"d":"1 "},{"v":2,"d":"2 "},{"v":1,"d":"1 "},{"v":10,"d":"10 "},{"v":10,"d":"10 "},{"v":13,"d":"13 "},{"v":14,"d":"14 "},{"v":8,"d":"8 "},{"v":5,"d":"5 "},{"v":2,"d":"2 "},66.9,69.1,65.2,{"v":55,"d":"55 "},"-","-","-","-","-",{"v":1,"d":"1 "},{"v":2,"d":"2 "},{"v":1,"d":"1 "},{"v":8,"d":"8 "},{"v":7,"d":"7 "},{"v":11,"d":"11 "},{"v":12,"d":"12 "},{"v":8,"d":"8 "},{"v":3,"d":"3 "},{"v":2,"d":"2 "},67.5,69.1,65.5,{"v":39,"d":"39 "},"-","-","-","-","-","-",{"v":1,"d":"1 "},{"v":1,"d":"1 "},{"v":7,"d":"7 "},{"v":9,"d":"9 "},{"v":7,"d":"7 "},{"v":7,"d":"7 "},{"v":6,"d":"6 "},{"v":1,"d":"1 "},"-",{"v":18,"d":"18 "},"-","-","-","-","-","-",{"v":2,"d":"2 "},{"v":7,"d":"7 "},{"v":2,"d":"2 "},{"v":5,"d":"5 "},{"v":2,"d":"2 "},"-","-",{"$nulls":7},{"v":112,"d":"112 "},{"v":87,"d":"87 "},{"v":55,"d":"55 "},{"v":27,"d":"27 "},{"v":5,"d":"5 "},{"v":13,"d":"13 "},{"v":5,"d":"5 "},{"v":7,"d":"7 "},{"v":39,"d":"39 "},"-","-","-","-","-","-",{"v":39,"d":"39 "},"-","-","-","-","-","-","-","-",{"v":39,"d":"39 "},{"v":2077,"d":"2,077 "},"-",{"v":3,"d":"3 "},{"v":2074,"d":"2,074 "},57,54,30,20,4,"-",3,"-",55,33,25,7,1,13,2,7]
["山梨県","甲府市","甲運村","横根",{"v":79,"d":"79 "},{"v":70,"d":"70 "},{"v":30,"d":"30 "},{"v":27,"d":"27 "},{"v":19,"d":"19 "},{"v":10,"d":"10 "},{"v":21,"d":"21 "},{"v":9,"d":"9 "},{"v":202,"d":"202 "},{"v":8,"d":"8 "},{"v":8,"d":"8 "},{"v":11,"d":"11 "},{"v":4,"d":"4 "},{"v":7,"d":"7 "},{"v":9,"d":"9 "},{"v":10,"d":"10 "},{"v":17,"d":"17 "},{"v":21,"d":"21 "},{"v":23,"d":"23 "},{"v":19,"d":"19 "},{"v":23,"d":"23 "},{"v":22,"d":"22 "},{"v":14,"d":"14 "},{"v":6,"d":"6 "},57.6,56.7,58.4,{"v":147,"d":"147 "},{"v":1,"d":"1 "},{"v":2,"d":"2 "},{"v":3,"d":"3 "},"-",{"v":2,"d":"2 "},{"v":6,"d":"6 "},{"v":8,"d":"8 "},{"v":9,"d":"9 "},{"v":14,"d":"14 "},{"v":21,"d":"21 "},{"v":17,"d":"17 "},{"v":23,"d":"23 "},{"v":21,"d":"21 "},{"v":14,"d":"14 "},{"v":6,"d":"6 "},64.5,63.1,65.8,{"v":127,"d":"127 "},"-","-",{"v":2,"d":"2 "},"-",{"v":2,"d":"2 "},{"v":5,"d":"5 "},{"v":7,"d":"7 "},{"v":9,"d":"9 "},{"v":13,"d":"13 "},{"v":19,"d":"19 "},{"v":16,"d":"16 "},{"v":23,"d":"23 "},{"v":19,"d":"19 "},{"v":9,"d":"9 "},{"v":3,"d":"3 "},64.8,64.8,64.9,{"v":70,"d":"70 "},"-","-","-","-",{"v":2,"d":"2 "},"-",{"v":3,"d":"3 "},{"v":5,"d":"5 "},{"v":10,"d":"10 "},{"v":11,"d":"11 "},{"v":7,"d":"7 "},{"v":14,"d":"14 "},{"v":11,"d":"11 "},{"v":3,"d":"3 "},{"v":4,"d":"4 "},{"v":39,"d":"39 "},"-","-","-","-",{"v":2,"d":"2 "},{"v":3,"d":"3 "},{"v":6,"d":"6 "},{"v":5,"d":"5 "},{"v":4,"d":"4 "},{"v":6,"d":"6 "},{"v":7,"d":"7 "},{"v":3,"d":"3 "},{"v":3,"d":"3 "},{"$nulls":7},{"v":233,"d":"233 "},{"v":178,"d":"178 "},{"v":127,"d":"127 "},{"v":48,"d":"48 "},{"v":3,"d":"3 "},{"v":15,"d":"15 "},{"v":19,"d":"19 "},{"v":21,"d":"21 "},{"v":68,"d":"68 "},"-","-","-","-","-",{"v":1,"d":"1 "},{"v":67,"d":"67 "},"-","-","-","-","-","-","-","-",{"v":70,"d":"70 "},{"v":5217,"d":"5,217 "},"-",{"v":55,"d":"55 "},{"v":5162,"d":"5,162 "},107,90,63,25,2,"-",10,7,126,88,64,23,1,15,9,14]
["山梨県","甲府市","甲運村","桜井",{"v":47,"d":"47 "},{"v":40,"d":"40 "},{"v":16,"d":"16 "},{"v":16,"d":"16 "},{"v":9,"d":"9 "},{"v":2,"d":"2 "},{"v":15,"d":"15 "},{"v":7,"d":"7 "},{"v":102,"d":"102 "},{"v":2,"d":"2 "},"-",{"v":4,"d":"4 "},{"v":4,"d":"4 "},{"v":4,"d":"4 "},{"v":5,"d":"5 "},{"v":4,"d":"4 "},{"v":7,"d":"7 "},{"v":12,"d":"12 "},{"v":14,"d":"14 "},{"v":14,"d":"14 "},{"v":15,"d":"15 "},{"v":8,"d":"8 "},{"v":4,"d":"4 "},{"v":5,"d":"5 "},60.1,58.9,61.3,{"v":74,"d":"74 "},"-","-","-","-",{"v":1,"d":"1 "},{"v":1,"d":"1 "},{"v":2,"d":"2 "},{"v":4,"d":"4 "},{"v":10,"d":"10 "},{"v":10,"d":"10 "},{"v":14,"d":"14 "},{"v":15,"d":"15 "},{"v":8,"d":"8 "},{"v":4,"d":"4 "},{"v":5,"d":"5 "},67.3,68.3,66.4,{"v":63,"d":"63 "},"-","-","-","-","-",{"v":1,"d":"1 "},{"v":1,"d":"1 "},{"v":2,"d":"2 "},{"v":10,"d":"10 "},{"v":10,"d":"10 "},{"v":14,"d":"14 "},{"v":14,"d":"14 "},{"v":8,"d":"8 "},{"v":2,"d":"2 "},{"v":1,"d":"1 "},66.8,67.3,66.4,{"v":40,"d":"40 "},"-","-","-","-","-",{"v":1,"d":"1 "},"-",{"v":2,"d":"2 "},{"v":6,"d":"6 "},{"v":5,"d":"5 "},{"v":8,"d":"8 "},{"v":8,"d":"8 "},{"v":7,"d":"7 "},{"v":1,"d":"1 "},{"v":2,"d":"2 "},{"v":16,"d":"16 "},"-","-","-","-","-",{"v":1,"d":"1 "},{"v":1,"d":"1 "},"-",{"v":6,"d":"6 "},{"v":1,"d":"1 "},{"v":5,"d":"5 "},{"v":1,"d":"1 "},{"v":1,"d":"1 "},{"$nulls":7},{"v":126,"d":"126 "},{"v":97,"d":"97 "},{"v":63,"d":"63 "},{"v":32,"d":"32 "},{"v":2,"d":"2 "},{"v":10,"d":"10 "},{"v":4,"d":"4 "},{"v":15,"d":"15 "},{"v":40,"d":"40 "},"-","-","-","-","-","-",{"v":39,"d":"39 "},{"v":1,"d":"1 "},"-","-","-","-","-","-","-",{"v":40,"d":"40 "},{"v":2532,"d":"2,532 "},"-",{"v":3,"d":"3 "},{"v":2529,"d":"2,529 "},59,53,32,20,1,"-",1,5,67,44,31,12,1,10,3,10]
["山梨県","甲府市","甲運村","横根三ツ石",{"v":9,"d":"9 "},{"v":9,"d":"9 "},{"v":3,"d":"3 "},{"v":2,"d":"2 "},{"v":2,"d":"2 "},{"v":1,"d":"1 "},{"v":4,"d":"4 "},"-",{"v":25,"d":"25 "},"-","-",{"v":1,"d":"1 "},{"v":1,"d":"1 "},{"v":1,"d":"1 "},{"v":2,"d":"2 "},{"v":2,"d":"2 "},{"v":1,"d":"1 "},{"v":1,"d":"1 "},{"v":5,"d":"5 "},{"v":2,"d":"2 "},{"v":1,"d":"1 "},{"v":6,"d":"6 "},{"v":2,"d":"2 "},"-",61.6,61.5,61.6,{"v":17,"d":"17 "},"-","-","-","-","-","-",{"v":1,"d":"1 "},{"v":1,"d":"1 "},"-",{"v":4,"d":"4 "},{"v":2,"d":"2 "},{"v":1,"d":"1 "},{"v":6,"d":"6 "},{"v":2,"d":"2 "},"-",69.8,71.3,68.6,{"v":12,"d":"12 "},"-","-","-","-","-","-",{"v":1,"d":"1 "},"-","-",{"v":2,"d":"2 "},{"v":2,"d":"2 "},{"v":1,"d":"1 "},{"v":5,"d":"5 "},{"v":1,"d":"1 "},"-",70.9,71.3,70.3,{"v":9,"d":"9 "},"-","-","-","-","-",{"v":1,"d":"1 "},{"v":1,"d":"1 "},"-",{"v":1,"d":"1 "},{"v":2,"d":"2 "},{"v":1,"d":"1 "},"-",{"v":2,"d":"2 "},{"v":1,"d":"1 "},"-",{"v":2,"d":"2 "},"-","-","-","-","-","-",{"v":1,"d":"1 "},"-",{"v":1,"d":"1 "},"-","-","-","-",{"$nulls":7},{"v":28,"d":"28 "},{"v":19,"d":"19 "},{"v":12,"d":"12 "},{"v":6,"d":"6 "},{"v":1,"d":"1 "},{"v":7,"d":"7 "},"-",{"v":2,"d":"2 "},{"v":9,"d":"9 "},"-","-","-","-","-","-",{"v":9,"d":"9 "},"-","-","-","-","-","-","-","-",{"v":9,"d":"9 "},{"v":680,"d":"680 "},"-","-",{"v":680,"d":"680 "},13,13,8,4,1,"-","-","-",15,6,4,2,"-",7,"-",2]
["山梨県","甲府市","千代田村",null,{"v":117,"d":"117 "},{"v":42,"d":"42 "},{"v":2,"d":"2 "},{"v":2,"d":"2 "},{"v":8,"d":"8 "},{"v":2,"d":"2 "},{"v":32,"d":"32 "},{"v":75,"d":"75 "},{"v":110,"d":"110 "},{"v":3,"d":"3 "},{"v":1,"d":"1 "},{"v":2,"d":"2 "},{"v":6,"d":"6 "},{"v":2,"d":"2 "},{"v":2,"d":"2 "},{"v":6,"d":"6 "},{"v":11,"d":"11 "},{"v":17,"d":"17 "},{"v":8,"d":"8 "},{"v":5,"d":"5 "},{"v":8,"d":"8 "},{"v":14,"d":"14 "},{"v":17,"d":"17 "},{"v":8,"d":"8 "},62.3,60.2,64.7,{"v":58,"d":"58 "},"-","-","-",{"v":1,"d":"1 "},"-","-","-",{"v":2,"d":"2 "},{"v":2,"d":"2 "},{"v":5,"d":"5 "},{"v":3,"d":"3 "},{"v":8,"d":"8 "},{"v":13,"d":"13 "},{"v":17,"d":"17 "},{"v":7,"d":"7 "},74.6,73.4,75.8,{"v":46,"d":"46 "},"-","-","-",{"v":1,"d":"1 "},"-","-","-","-",{"v":2,"d":"2 "},{"v":5,"d":"5 "},{"v":2,"d":"2 "},{"v":7,"d":"7 "},{"v":9,"d":"9 "},{"v":13,"d":"13 "},{"v":7,"d":"7 "},{"v":75,"d":"75.0"},74.2,76.1,{"v":42,"d":"42 "},"-","-","-","-","-","-",{"v":2,"d":"2 "},{"v":2,"d":"2 "},{"v":8,"d":"8 "},{"v":6,"d":"6 "},{"v":3,"d":"3 "},{"v":3,"d":"3 "},{"v":5,"d":"5 "},{"v":8,"d":"8 "},{"v":5,"d":"5 "},{"v":27,"d":"27 "},"-","-","-","-","-",{"v":1,"d":"1 "},{"v":3,"d":"3 "},{"v":4,"d":"4 "},{"v":3,"d":"3 "},{"v":1,"d":"1 "},{"v":3,"d":"3 "},{"v":8,"d":"8 "},{"v":4,"d":"4 "},{"$nulls":7},{"v":136,"d":"136 "},{"v":94,"d":"94 "},{"v":46,"d":"46 "},{"v":45,"d":"45 "},{"v":3,"d":"3 "},{"v":19,"d":"19 "},{"v":10,"d":"10 "},{"v":13,"d":"13 "},{"v":23,"d":"23 "},{"v":16,"d":"16 "},"-","-","-",{"v":5,"d":"5 "},"-",{"v":2,"d":"2 "},"-","-","-","-","-","-","-","-",{"v":42,"d":"42 "},{"v":1965,"d":"1,965 "},{"v":1244,"d":"1,244 "},{"v":604,"d":"604 "},{"v":117,"d":"117 "},62,56,27,26,3,1,4,1,74,38,19,19,"-",18,6,12]
["山梨県","甲府市","千代田村","上野",{"v":23,"d":"23 "},{"v":13,"d":"13 "},{"v":1,"d":"1 "},{"v":1,"d":"1 "},{"v":3,"d":"3 "},{"v":2,"d":"2 "},{"v":9,"d":"9 "},{"v":10,"d":"10 "},{"v":29,"d":"29 "},"-","-","-",{"v":2,"d":"2 "},{"v":1,"d":"1 "},{"v":1,"d":"1 "},{"v":1,"d":"1 "},{"v":2,"d":"2 "},{"v":3,"d":"3 "},{"v":3,"d":"3 "},{"v":1,"d":"1 "},{"v":2,"d":"2 "},{"v":4,"d":"4 "},{"v":9,"d":"9 "},"-",65.7,65.7,65.8,{"v":20,"d":"20 "},"-","-","-","-","-","-","-",{"v":1,"d":"1 "},"-",{"v":3,"d":"3 "},{"v":1,"d":"1 "},{"v":2,"d":"2 "},{"v":4,"d":"4 "},{"v":9,"d":"9 "},"-",74.4,74.8,73.9,{"v":16,"d":"16 "},"-","-","-","-","-","-","-","-","-",{"v":3,"d":"3 "},{"v":1,"d":"1 "},{"v":1,"d":"1 "},{"v":3,"d":"3 "},{"v":8,"d":"8 "},"-",75.1,74.8,75.5,{"v":13,"d":"13 "},"-","-","-","-","-","-",{"v":1,"d":"1 "},"-",{"v":1,"d":"1 "},{"v":2,"d":"2 "},{"v":1,"d":"1 "},"-",{"v":2,"d":"2 "},{"v":6,"d":"6 "},"-",{"v":11,"d":"11 "},"-","-","-","-","-","-","-",{"v":2,"d":"2 "},{"v":1,"d":"1 "},"-",{"v":2,"d":"2 "},{"v":6,"d":"6 "},"-",{"$nulls":7},{"v":36,"d":"36 "},{"v":26,"d":"26 "},{"v":16,"d":"16 "},{"v":10,"d":"10 "},"-",{"v":6,"d":"6 "},"-",{"v":4,"d":"4 "},{"v":11,"d":"11 "},{"v":6,"d":"6 "},"-","-","-",{"v":5,"d":"5 "},"-","-","-","-","-","-","-","-","-","-",{"v":13,"d":"13 "},{"v":641,"d":"641 "},{"v":369,"d":"369 "},{"v":254,"d":"254 "},{"v":18,"d":"18 "},15,15,10,5,"-","-","-","-",21,11,6,5,"-",6,"-",4]
["山梨県","甲府市","千代田村","平瀬",{"v":13,"d":"13 "},{"v":4,"d":"4 "},"-","-",{"v":1,"d":"1 "},"-",{"v":3,"d":"3 "},{"v":9,"d":"9 "},{"v":9,"d":"9 "},"-","-","-","-","-",{"v":1,"d":"1 "},"-",{"v":1,"d":"1 "},{"v":1,"d":"1 "},"-","-",{"v":2,"d":"2 "},"-",{"v":1,"d":"1 "},{"v":3,"d":"3 "},70.6,{"v":69,"d":"69.0"},72.5,{"v":6,"d":"6 "},"-","-","-","-","-","-","-","-","-","-","-",{"v":2,"d":"2 "},"-",{"v":1,"d":"1 "},{"v":3,"d":"3 "},80.8,{"v":82,"d":"82.0"},79.7,{"v":5,"d":"5 "},"-","-","-","-","-","-","-","-","-","-","-",{"v":2,"d":"2 "},"-","-",{"v":3,"d":"3 "},80.6,{"v":82,"d":"82.0"},78.5,{"v":4,"d":"4 "},"-","-","-","-","-","-","-","-",{"v":1,"d":"1 "},"-","-",{"v":1,"d":"1 "},"-","-",{"v":2,"d":"2 "},{"v":2,"d":"2 "},"-","-","-","-","-","-","-","-","-",{"v":1,"d":"1 "},"-","-",{"v":1,"d":"1 "},{"$nulls":7},{"v":13,"d":"13 "},{"v":8,"d":"8 "},{"v":5,"d":"5 "},{"v":3,"d":"3 "},"-",{"v":2,"d":"2 "},{"v":2,"d":"2 "},{"v":1,"d":"1 "},{"v":4,"d":"4 "},{"v":3,"d":"3 "},"-","-","-","-","-",{"v":1,"d":"1 "},"-","-","-","-","-","-","-","-",{"v":4,"d":"4 "},{"v":174,"d":"174 "},{"v":110,"d":"110 "},{"v":41,"d":"41 "},{"v":23,"d":"23 "},5,5,3,2,"-","-","-","-",8,3,2,1,"-",2,2,1]
["山梨県","甲府市","千代田村","下帯那",{"v":40,"d":"40 "},{"v":10,"d":"10 "},"-","-",{"v":2,"d":"2 "},"-",{"v":8,"d":"8 "},{"v":30,"d":"30 "},{"v":30,"d":"30 "},{"v":1,"d":"1 "},"-",{"v":2,"d":"2 "},{"v":1,"d":"1 "},{"v":1,"d":"1 "},"-",{"v":1,"d":"1 "},{"v":4,"d":"4 "},{"v":7,"d":"7 "},"-",{"v":4,"d":"4 "},{"v":1,"d":"1 "},{"v":2,"d":"2 "},{"v":5,"d":"5 "},{"v":1,"d":"1 "},59.1,57.2,{"v":62,"d":"62.0"},{"v":10,"d":"10 "},"-","-","-","-","-","-","-","-","-","-",{"v":2,"d":"2 "},{"v":1,"d":"1 "},{"v":2,"d":"2 "},{"v":5,"d":"5 "},"-",77.4,76.2,78.6,{"v":7,"d":"7 "},"-","-","-","-","-","-","-","-","-","-",{"v":1,"d":"1 "},{"v":1,"d":"1 "},{"v":1,"d":"1 "},{"v":4,"d":"4 "},"-",{"v":78,"d":"78.0"},76.2,82.5,{"v":10,"d":"10 "},"-","-","-","-","-","-","-",{"v":1,"d":"1 "},{"v":4,"d":"4 "},"-",{"v":2,"d":"2 "},{"v":1,"d":"1 "},"-",{"v":1,"d":"1 "},{"v":1,"d":"1 "},{"v":6,"d":"6 "},"-","-","-","-","-","-",{"v":2,"d":"2 "},"-",{"v":2,"d":"2 "},"-","-",{"v":1,"d":"1 "},{"v":1,"d":"1 "},{"$nulls":7},{"v":40,"d":"40 "},{"v":28,"d":"28 "},{"v":7,"d":"7 "},{"v":18,"d":"18 "},{"v":3,"d":"3 "},{"v":3,"d":"3 "},{"v":4,"d":"4 "},{"v":5,"d":"5 "},{"v":3,"d":"3 "},{"v":3,"d":"3 "},"-","-","-","-","-","-","-","-","-","-","-","-","-","-",{"v":10,"d":"10 "},{"v":401,"d":"401 "},{"v":301,"d":"301 "},{"v":94,"d":"94 "},{"v":6,"d":"6 "},21,17,5,9,3,"-",3,1,19,11,2,9,"-",3,1,4]
["山梨県","甲府市","千代田村","上帯那",{"v":41,"d":"41 "},{"v":15,"d":"15 "},{"v":1,"d":"1 "},{"v":1,"d":"1 "},{"v":2,"d":"2 "},"-",{"v":12,"d":"12 "},{"v":26,"d":"26 "},{"v":42,"d":"42 "},{"v":2,"d":"2 "},{"v":1,"d":"1 "},"-",{"v":3,"d":"3 "},"-","-",{"v":4,"d":"4 "},{"v":4,"d":"4 "},{"v":6,"d":"6 "},{"v":5,"d":"5 "},"-",{"v":3,"d":"3 "},{"v":8,"d":"8 "},{"v":2,"d":"2 "},{"v":4,"d":"4 "},60.4,56.8,{"v":64,"d":"64.0"},{"v":22,"d":"22 "},"-","-","-",{"v":1,"d":"1 "},"-","-","-",{"v":1,"d":"1 "},{"v":2,"d":"2 "},{"v":2,"d":"2 "},"-",{"v":3,"d":"3 "},{"v":7,"d":"7 "},{"v":2,"d":"2 "},{"v":4,"d":"4 "},71.9,67.9,75.2,{"v":18,"d":"18 "},"-","-","-",{"v":1,"d":"1 "},"-","-","-","-",{"v":2,"d":"2 "},{"v":2,"d":"2 "},"-",{"v":3,"d":"3 "},{"v":5,"d":"5 "},{"v":1,"d":"1 "},{"v":4,"d":"4 "},72.2,69.9,74.4,{"v":15,"d":"15 "},"-","-","-","-","-","-",{"v":1,"d":"1 "},{"v":1,"d":"1 "},{"v":2,"d":"2 "},{"v":4,"d":"4 "},"-",{"v":1,"d":"1 "},{"v":3,"d":"3 "},{"v":1,"d":"1 "},{"v":2,"d":"2 "},{"v":8,"d":"8 "},"-","-","-","-","-",{"v":1,"d":"1 "},{"v":1,"d":"1 "},{"v":2,"d":"2 "},"-","-",{"v":1,"d":"1 "},{"v":1,"d":"1 "},{"v":2,"d":"2 "},{"$nulls":7},{"v":47,"d":"47 "},{"v":32,"d":"32 "},{"v":18,"d":"18 "},{"v":14,"d":"14 "},"-",{"v":8,"d":"8 "},{"v":4,"d":"4 "},{"v":3,"d":"3 "},{"v":5,"d":"5 "},{"v":4,"d":"4 "},"-","-","-","-","-",{"v":1,"d":"1 "},"-","-","-","-","-","-","-","-",{"v":15,"d":"15 "},{"v":749,"d":"749 "},{"v":464,"d":"464 "},{"v":215,"d":"215 "},{"v":70,"d":"70 "},21,19,9,10,"-",1,1,"-",26,13,9,4,"-",7,3,3]
["山梨県","甲府市","能泉村",null,{"v":8,"d":"8 "},"-","-","-","-","-","-",{"v":8,"d":"8 "},"-","-","-","-","-","-","-","-","-","-","-","-","-","-","-","-","-","-","-","-","-","-","-","-","-","-","-","-","-","-","-","-","-","-","-","-","-","-","-","-","-","-","-","-","-","-","-","-","-","-","-","-","-","-","-","-","-","-","-","-","-","-","-","-","-","-","-","-","-","-","-","-","-","-","-","-","-","-","-","-","-","-","-","-","-","-","-",{"$nulls":7},"-","-","-","-","-","-","-","-","-","-","-","-","-","-","-","-","-","-","-","-","-","-","-","-","-","-","-","-","-","-","-","-","-","-","-","-","-","-","-","-","-","-","-","-","-"]
["山梨県","甲府市","能泉村","塔岩，竹日向",{"v":1,"d":"1 "},"-","-","-","-","-","-",{"v":1,"d":"1 "},"-","-","-","-","-","-","-","-","-","-","-","-","-","-","-","-","…","…","…","-","-","-","-","-","-","-","-","-","-","-","-","-","-","-","-","…","…","…","-","-","-","-","-","-","-","-","-","-","-","-","-","-","-","-","…","…","…","-","-","-","-","-","-","-","-","-","-","-","-","-","-","-","-","-","-","-","-","-","-","-","-","-","-","-","-","-","-",{"$nulls":7},"-","-","-","-","-","-","-","-","-","-","-","-","-","-","-","-","-","-","-","-","-","-","-","-","-","-","-","-","-","-","-","-","-","-","-","-","-","-","-","-","-","-","-","-","-"]
["山梨県","甲府市","能泉村","高成",{"v":7,"d":"7 "},"-","-","-","-","-","-",{"v":7,"d":"7 "},"-","-","-","-","-","-","-","-","-","-","-","-","-","-","-","-","…","…","…","-","-","-","-","-","-","-","-","-","-","-","-","-","-","-","-","…","…","…","-","-","-","-","-","-","-","-","-","-","-","-","-","-","-","-","…","…","…","-","-","-","-","-","-","-","-","-","-","-","-","-","-","-","-","-","-","-","-","-","-","-","-","-","-","-","-","-","-",{"$nulls":7},"-","-","-","-","-","-","-","-","-","-","-","-","-","-","-","-","-","-","-","-","-","-","-","-","-","-","-","-","-","-","-","-","-","-","-","-","-","-","-","-","-","-","-","-","-"]
["山梨県","甲府市","能泉村","上川窪","-","-","-","-","-","-","-","-","-","-","-","-","-","-","-","-","-","-","-","-","-","-","-","-","…","…","…","-","-","-","-","-","-","-","-","-","-","-","-","-","-","-","-","…","…","…","-","-","-","-","-","-","-","-","-","-","-","-","-","-","-","-","…","…","…","-","-","-","-","-","-","-","-","-","-","-","-","-","-","-","-","-","-","-","-","-","-","-","-","-","-","-","-","-","-",{"$nulls":7},"-","-","-","-","-","-","-","-","-","-","-","-","-","-","-","-","-","-","-","-","-","-","-","-","-","-","-","-","-","-","-","-","-","-","-","-","-","-","-","-","-","-","-","-","-"]
["山梨県","甲府市","能泉村","下川窪","-","-","-","-","-","-","-","-","-","-","-","-","-","-","-","-","-","-","-","-","-","-","-","-","…","…","…","-","-","-","-","-","-","-","-","-","-","-","-","-","-","-","-","…","…","…","-","-","-","-","-","-","-","-","-","-","-","-","-","-","-","-","…","…","…","-","-","-","-","-","-","-","-","-","-","-","-","-","-","-","-","-","-","-","-","-","-","-","-","-","-","-","-","-","-",{"$nulls":7},"-","-","-","-","-","-","-","-","-","-","-","-","-","-","-","-","-","-","-","-","-","-","-","-","-","-","-","-","-","-","-","-","-","-","-","-","-","-","-","-","-","-","-","-","-"]
["山梨県","甲府市","宮本村",null,{"v":5,"d":"5 "},"-","-","-","-","-","-",{"v":5,"d":"5 "},"-","-","-","-","-","-","-","-","-","-","-","-","-","-","-","-","-","-","-","-","-","-","-","-","-","-","-","-","-","-","-","-","-","-","-","-","-","-","-","-","-","-","-","-","-","-","-","-","-","-","-","-","-","-","-","-","-","-","-","-","-","-","-","-","-","-","-","-","-","-","-","-","-","-","-","-","-","-","-","-","-","-","-","-","-","-","-",{"$nulls":7},"-","-","-","-","-","-","-","-","-","-","-","-","-","-","-","-","-","-","-","-","-","-","-","-","-","-","-","-","-","-","-","-","-","-","-","-","-","-","-","-","-","-","-","-","-"]
["山梨県","甲府市","宮本村","御岳",{"v":2,"d":"2 "},"-","-","-","-","-","-",{"v":2,"d":"2 "},"-","-","-","-","-","-","-","-","-","-","-","-","-","-","-","-","…","…","…","-","-","-","-","-","-","-","-","-","-","-","-","-","-","-","-","…","…","…","-","-","-","-","-","-","-","-","-","-","-","-","-","-","-","-","…","…","…","-","-","-","-","-","-","-","-","-","-","-","-","-","-","-","-","-","-","-","-","-","-","-","-","-","-","-","-","-","-",{"$nulls":7},"-","-","-","-","-","-","-","-","-","-","-","-","-","-","-","-","-","-","-","-","-","-","-","-","-","-","-","-","-","-","-","-","-","-","-","-","-","-","-","-","-","-","-","-","-"]
["山梨県","甲府市","宮本村","高","-","-","-","-","-","-","-","-","-","-","-","-","-","-","-","-","-","-","-","-","-","-","-","-","…","…","…","-","-","-","-","-","-","-","-","-","-","-","-","-","-","-","-","…","…","…","-","-","-","-","-","-","-","-","-","-","-","-","-","-","-","-","…","…","…","-","-","-","-","-","-","-","-","-","-","-","-","-","-","-","-","-","-","-","-","-","-","-","-","-","-","-","-","-","-",{"$nulls":7},"-","-","-","-","-","-","-","-","-","-","-","-","-","-","-","-","-","-","-","-","-","-","-","-","-","-","-","-","-","-","-","-","-","-","-","-","-","-","-","-","-","-","-","-","-"]
["山梨県","甲府市","宮本村","猪狩","-","-","-","-","-","-","-","-","-","-","-","-","-","-","-","-","-","-","-","-","-","-","-","-","…","…","…","-","-","-","-","-","-","-","-","-","-","-","-","-","-","-","-","…","…","…","-","-","-","-","-","-","-","-","-","-","-","-","-","-","-","-","…","…","…","-","-","-","-","-","-","-","-","-","-","-","-","-","-","-","-","-","-","-","-","-","-","-","-","-","-","-","-","-","-",{"$nulls":7},"-","-","-","-","-","-","-","-","-","-","-","-","-","-","-","-","-","-","-","-","-","-","-","-","-","-","-","-","-","-","-","-","-","-","-","-","-","-","-","-","-","-","-","-","-"]
["山梨県","甲府市","宮本村","草鹿沢",{"v":1,"d":"1 "},"-","-","-","-","-","-",{"v":1,"d":"1 "},"-","-","-","-","-","-","-","-","-","-","-","-","-","-","-","-","…","…","…","-","-","-","-","-","-","-","-","-","-","-","-","-","-","-","-","…","…","…","-","-","-","-","-","-","-","-","-","-","-","-","-","-","-","-","…","…","…","-","-","-","-","-","-","-","-","-","-","-","-","-","-","-","-","-","-","-","-","-","-","-","-","-","-","-","-","-","-",{"$nulls":7},"-","-","-","-","-","-","-","-","-","-","-","-","-","-","-","-","-","-","-","-","-","-","-","-","-","-","-","-","-","-","-","-","-","-","-","-","-","-","-","-","-","-","-","-","-"]
["山梨県","甲府市","宮本村","黒平",{"v":2,"d":"2 "},"-","-","-","-","-","-",{"v":2,"d":"2 "},"-","-","-","-","-","-","-","-","-","-","-","-","-","-","-","-","…","…","…","-","-","-","-","-","-","-","-","-","-","-","-","-","-","-","-","…","…","…","-","-","-","-","-","-","-","-","-","-","-","-","-","-","-","-","…","…","…","-","-","-","-","-","-","-","-","-","-","-","-","-","-","-","-","-","-","-","-","-","-","-","-","-","-","-","-","-","-",{"$nulls":7},"-","-","-","-","-","-","-","-","-","-","-","-","-","-","-","-","-","-","-","-","-","-","-","-","-","-","-","-","-","-","-","-","-","-","-","-","-","-","-","-","-","-","-","-","-"]
["山梨県","甲府市","大鎌田村",null,{"v":109,"d":"109 "},{"v":45,"d":"45 "},{"v":8,"d":"8 "},{"v":6,"d":"6 "},{"v":14,"d":"14 "},{"v":5,"d":"5 "},{"v":23,"d":"23 "},{"v":64,"d":"64 "},{"v":148,"d":"148 "},{"v":7,"d":"7 "},{"v":3,"d":"3 "},{"v":1,"d":"1 "},{"v":5,"d":"5 "},{"v":12,"d":"12 "},{"v":7,"d":"7 "},{"v":13,"d":"13 "},{"v":11,"d":"11 "},{"v":11,"d":"11 "},{"v":16,"d":"16 "},{"v":12,"d":"12 "},{"v":22,"d":"22 "},{"v":13,"d":"13 "},{"v":8,"d":"8 "},{"v":7,"d":"7 "},{"v":58,"d":"58.0"},56.5,59.7,{"v":88,"d":"88 "},{"v":4,"d":"4 "},"-","-","-",{"v":3,"d":"3 "},{"v":1,"d":"1 "},{"v":1,"d":"1 "},{"v":4,"d":"4 "},{"v":5,"d":"5 "},{"v":11,"d":"11 "},{"v":11,"d":"11 "},{"v":21,"d":"21 "},{"v":13,"d":"13 "},{"v":8,"d":"8 "},{"v":6,"d":"6 "},66.9,66.6,67.3,{"v":68,"d":"68 "},"-","-","-","-",{"v":2,"d":"2 "},"-","-",{"v":4,"d":"4 "},{"v":3,"d":"3 "},{"v":9,"d":"9 "},{"v":11,"d":"11 "},{"v":18,"d":"18 "},{"v":12,"d":"12 "},{"v":5,"d":"5 "},{"v":4,"d":"4 "},69.4,{"v":69,"d":"69.0"},{"v":70,"d":"70.0"},{"v":45,"d":"45 "},"-","-","-","-","-","-",{"v":2,"d":"2 "},{"v":4,"d":"4 "},{"v":3,"d":"3 "},{"v":9,"d":"9 "},{"v":6,"d":"6 "},{"v":9,"d":"9 "},{"v":7,"d":"7 "},{"v":3,"d":"3 "},{"v":2,"d":"2 "},{"v":34,"d":"34 "},"-","-","-","-",{"v":1,"d":"1 "},{"v":3,"d":"3 "},{"v":1,"d":"1 "},{"v":6,"d":"6 "},{"v":5,"d":"5 "},{"v":8,"d":"8 "},{"v":5,"d":"5 "},{"v":3,"d":"3 "},{"v":2,"d":"2 "},{"$nulls":7},{"v":169,"d":"169 "},{"v":116,"d":"116 "},{"v":68,"d":"68 "},{"v":44,"d":"44 "},{"v":4,"d":"4 "},{"v":20,"d":"20 "},{"v":18,"d":"18 "},{"v":15,"d":"15 "},{"v":39,"d":"39 "},{"v":13,"d":"13 "},"-","-","-",{"v":23,"d":"23 "},{"v":1,"d":"1 "},{"v":1,"d":"1 "},{"v":1,"d":"1 "},"-","-","-","-","-","-","-",{"v":45,"d":"45 "},{"v":2645,"d":"2,645 "},{"v":2130,"d":"2,130 "},{"v":412,"d":"412 "},{"v":103,"d":"103 "},85,68,39,26,3,"-",10,7,84,48,29,18,1,20,8,8]
["山梨県","甲府市","大鎌田村","窪中島",{"v":12,"d":"12 "},{"v":7,"d":"7 "},{"v":1,"d":"1 "},{"v":1,"d":"1 "},{"v":3,"d":"3 "},{"v":2,"d":"2 "},{"v":3,"d":"3 "},{"v":5,"d":"5 "},{"v":27,"d":"27 "},{"v":2,"d":"2 "},"-","-","-",{"v":1,"d":"1 "},"-",{"v":4,"d":"4 "},{"v":5,"d":"5 "},{"v":1,"d":"1 "},{"v":3,"d":"3 "},"-",{"v":2,"d":"2 "},{"v":5,"d":"5 "},{"v":3,"d":"3 "},{"v":1,"d":"1 "},59.7,58.7,60.8,{"v":17,"d":"17 "},"-","-","-","-",{"v":1,"d":"1 "},"-","-",{"v":1,"d":"1 "},{"v":1,"d":"1 "},{"v":3,"d":"3 "},"-",{"v":2,"d":"2 "},{"v":5,"d":"5 "},{"v":3,"d":"3 "},{"v":1,"d":"1 "},69.3,66.9,{"v":72,"d":"72.0"},{"v":15,"d":"15 "},"-","-","-","-",{"v":1,"d":"1 "},"-","-",{"v":1,"d":"1 "},{"v":1,"d":"1 "},{"v":3,"d":"3 "},"-",{"v":2,"d":"2 "},{"v":4,"d":"4 "},{"v":2,"d":"2 "},{"v":1,"d":"1 "},{"v":68,"d":"68.0"},66.9,69.7,{"v":7,"d":"7 "},"-","-","-","-","-","-",{"v":1,"d":"1 "},{"v":1,"d":"1 "},"-",{"v":2,"d":"2 "},"-","-",{"v":3,"d":"3 "},"-","-",{"v":3,"d":"3 "},"-","-","-","-","-",{"v":1,"d":"1 "},"-",{"v":1,"d":"1 "},"-","-",{"v":1,"d":"1 "},"-","-",{"$nulls":7},{"v":34,"d":"34 "},{"v":23,"d":"23 "},{"v":15,"d":"15 "},{"v":8,"d":"8 "},"-",{"v":4,"d":"4 "},{"v":5,"d":"5 "},{"v":2,"d":"2 "},{"v":6,"d":"6 "},"-","-","-","-",{"v":6,"d":"6 "},"-","-","-","-","-","-","-","-","-","-",{"v":7,"d":"7 "},{"v":290,"d":"290 "},{"v":256,"d":"256 "},{"v":34,"d":"34 "},"-",16,13,9,4,"-","-",3,"-",18,10,6,4,"-",4,2,2]
["山梨県","甲府市","大鎌田村","円満寺",{"v":6,"d":"6 "},{"v":2,"d":"2 "},"x","x","x","x","x",{"v":4,"d":"4 "},"x","x","x","x","x","x","x","x","x","x","x","x","x","x","x","x",{"v":61,"d":"61.0"},{"v":62,"d":"62.0"},{"v":59,"d":"59.0"},"x","x","x","x","x","x","x","x","x","x","x","x","x","x","x","x",{"v":61,"d":"61.0"},{"v":62,"d":"62.0"},{"v":59,"d":"59.0"},"x","x","x","x","x","x","x","x","x","x","x","x","x","x","x","x",{"v":62,"d":"62.0"},{"v":62,"d":"62.0"},"…",{"v":2,"d":"2 "},"-","-","-","-","-","-","-","-",{"v":1,"d":"1 "},"-",{"v":1,"d":"1 "},"-","-","-","-",{"v":1,"d":"1 "},"-","-","-","-","-","-","-","-",{"v":1,"d":"1 "},"-","-","-","-",{"$nulls":7},{"v":5,"d":"5 "},{"v":4,"d":"4 "},{"v":2,"d":"2 "},{"v":2,"d":"2 "},"-",{"v":1,"d":"1 "},"-","-",{"v":2,"d":"2 "},"-","-","-","-",{"v":1,"d":"1 "},"-",{"v":1,"d":"1 "},"-","-","-","-","-","-","-","-",{"v":2,"d":"2 "},{"v":114,"d":"114 "},{"v":54,"d":"54 "},{"v":35,"d":"35 "},{"v":25,"d":"25 "},2,2,2,"-","-","-","-","-",3,2,"-",2,"-",1,"-","-"]
["山梨県","甲府市","大鎌田村","二日市場",{"v":25,"d":"25 "},{"v":9,"d":"9 "},"-","-",{"v":6,"d":"6 "},{"v":1,"d":"1 "},{"v":3,"d":"3 "},{"v":16,"d":"16 "},{"v":29,"d":"29 "},{"v":1,"d":"1 "},"-",{"v":1,"d":"1 "},{"v":1,"d":"1 "},{"v":4,"d":"4 "},{"v":4,"d":"4 "},"-",{"v":1,"d":"1 "},{"v":3,"d":"3 "},{"v":3,"d":"3 "},{"v":4,"d":"4 "},{"v":3,"d":"3 "},{"v":3,"d":"3 "},{"v":1,"d":"1 "},"-",55.3,56.8,53.9,{"v":16,"d":"16 "},{"v":1,"d":"1 "},"-","-","-",{"v":2,"d":"2 "},{"v":1,"d":"1 "},"-","-","-",{"v":1,"d":"1 "},{"v":4,"d":"4 "},{"v":3,"d":"3 "},{"v":3,"d":"3 "},{"v":1,"d":"1 "},"-",62.3,67.8,{"v":59,"d":"59.0"},{"v":11,"d":"11 "},"-","-","-","-",{"v":1,"d":"1 "},"-","-","-","-","-",{"v":4,"d":"4 "},{"v":2,"d":"2 "},{"v":3,"d":"3 "},{"v":1,"d":"1 "},"-",69.7,67.8,{"v":72,"d":"72.0"},{"v":9,"d":"9 "},"-","-","-","-","-","-","-",{"v":1,"d":"1 "},"-",{"v":2,"d":"2 "},{"v":2,"d":"2 "},{"v":1,"d":"1 "},{"v":1,"d":"1 "},{"v":2,"d":"2 "},"-",{"v":9,"d":"9 "},"-","-","-","-","-",{"v":1,"d":"1 "},"-",{"v":2,"d":"2 "},{"v":2,"d":"2 "},{"v":1,"d":"1 "},{"v":1,"d":"1 "},{"v":2,"d":"2 "},"-",{"$nulls":7},{"v":30,"d":"30 "},{"v":23,"d":"23 "},{"v":11,"d":"11 "},{"v":11,"d":"11 "},{"v":1,"d":"1 "},{"v":4,"d":"4 "},{"v":1,"d":"1 "},{"v":2,"d":"2 "},{"v":8,"d":"8 "},{"v":5,"d":"5 "},"-","-","-",{"v":3,"d":"3 "},"-","-","-","-","-","-","-","-","-","-",{"v":9,"d":"9 "},{"v":531,"d":"531 "},{"v":455,"d":"455 "},{"v":47,"d":"47 "},{"v":29,"d":"29 "},15,13,6,6,1,"-","-",2,15,10,5,5,"-",4,1,"-"]
["山梨県","甲府市","大鎌田村","中条",{"v":3,"d":"3 "},"-","-","-","-","-","-",{"v":3,"d":"3 "},"-","-","-","-","-","-","-","-","-","-","-","-","-","-","-","-","…","…","…","-","-","-","-","-","-","-","-","-","-","-","-","-","-","-","-","…","…","…","-","-","-","-","-","-","-","-","-","-","-","-","-","-","-","-","…","…","…","-","-","-","-","-","-","-","-","-","-","-","-","-","-","-","-","-","-","-","-","-","-","-","-","-","-","-","-","-","-",{"$nulls":7},"-","-","-","-","-","-","-","-","-","-","-","-","-","-","-","-","-","-","-","-","-","-","-","-","-","-","-","-","-","-","-","-","-","-","-","-","-","-","-","-","-","-","-","-","-"]
["山梨県","甲府市","大鎌田村","関口",{"v":9,"d":"9 "},{"v":3,"d":"3 "},{"v":2,"d":"2 "},{"v":1,"d":"1 "},"-","-",{"v":1,"d":"1 "},{"v":6,"d":"6 "},{"v":11,"d":"11 "},"-","-","-",{"v":1,"d":"1 "},{"v":1,"d":"1 "},{"v":1,"d":"1 "},{"v":1,"d":"1 "},"-",{"v":2,"d":"2 "},"-",{"v":2,"d":"2 "},{"v":1,"d":"1 "},{"v":1,"d":"1 "},"-",{"v":1,"d":"1 "},58.2,57.6,59.3,{"v":7,"d":"7 "},"-","-","-","-","-","-","-","-",{"v":2,"d":"2 "},"-",{"v":2,"d":"2 "},{"v":1,"d":"1 "},{"v":1,"d":"1 "},"-",{"v":1,"d":"1 "},69.4,72.3,65.7,{"v":6,"d":"6 "},"-","-","-","-","-","-","-","-",{"v":1,"d":"1 "},"-",{"v":2,"d":"2 "},{"v":1,"d":"1 "},{"v":1,"d":"1 "},"-",{"v":1,"d":"1 "},71.2,72.3,{"v":69,"d":"69.0"},{"v":3,"d":"3 "},"-","-","-","-","-","-",{"v":1,"d":"1 "},"-","-","-",{"v":1,"d":"1 "},"-","-","-",{"v":1,"d":"1 "},{"v":3,"d":"3 "},"-","-","-","-",{"v":1,"d":"1 "},"-","-","-",{"v":1,"d":"1 "},"-","-","-",{"v":1,"d":"1 "},{"$nulls":7},{"v":11,"d":"11 "},{"v":10,"d":"10 "},{"v":6,"d":"6 "},{"v":4,"d":"4 "},"-",{"v":1,"d":"1 "},"-","-",{"v":3,"d":"3 "},{"v":2,"d":"2 "},"-","-","-",{"v":1,"d":"1 "},"-","-","-","-","-","-","-","-","-","-",{"v":3,"d":"3 "},{"v":121,"d":"121 "},{"v":96,"d":"96 "},{"v":25,"d":"25 "},"-",7,7,4,3,"-","-","-","-",4,3,2,1,"-",1,"-","-"]
["山梨県","甲府市","大鎌田村","古市場",{"v":6,"d":"6 "},{"v":2,"d":"2 "},"x","x","x","x","x",{"v":4,"d":"4 "},"x","x","x","x","x","x","x","x","x","x","x","x","x","x","x","x",56.4,65.5,50.3,"x","x","x","x","x","x","x","x","x","x","x","x","x","x","x","x",{"v":74,"d":"74.0"},"…",{"v":74,"d":"74.0"},"x","x","x","x","x","x","x","x","x","x","x","x","x","x","x","x","…","…","…",{"v":2,"d":"2 "},"-","-","-","-","-","-","-","-",{"v":1,"d":"1 "},"-","-",{"v":1,"d":"1 "},"-","-","-",{"v":1,"d":"1 "},"-","-","-","-","-","-","-","-","-",{"v":1,"d":"1 "},"-","-","-",{"$nulls":7},{"v":5,"d":"5 "},{"v":2,"d":"2 "},"-",{"v":1,"d":"1 "},{"v":1,"d":"1 "},{"v":2,"d":"2 "},{"v":1,"d":"1 "},"-","-","-","-","-","-","-","-","-","-","-","-","-","-","-","-","-",{"v":2,"d":"2 "},{"v":102,"d":"102 "},{"v":40,"d":"40 "},{"v":25,"d":"25 "},{"v":37,"d":"37 "},2,2,"-",1,1,"-","-","-",3,"-","-","-","-",2,1,"-"]
["山梨県","甲府市","大鎌田村","宮原",{"v":23,"d":"23 "},{"v":12,"d":"12 "},{"v":5,"d":"5 "},{"v":4,"d":"4 "},{"v":4,"d":"4 "},{"v":1,"d":"1 "},{"v":3,"d":"3 "},{"v":11,"d":"11 "},{"v":42,"d":"42 "},{"v":2,"d":"2 "},{"v":1,"d":"1 "},"-",{"v":3,"d":"3 "},{"v":5,"d":"5 "},"-",{"v":2,"d":"2 "},{"v":4,"d":"4 "},{"v":2,"d":"2 "},{"v":10,"d":"10 "},{"v":2,"d":"2 "},{"v":4,"d":"4 "},"-",{"v":3,"d":"3 "},{"v":4,"d":"4 "},57.2,52.7,62.7,{"v":22,"d":"22 "},{"v":1,"d":"1 "},"-","-","-","-","-","-",{"v":3,"d":"3 "},"-",{"v":7,"d":"7 "},{"v":1,"d":"1 "},{"v":4,"d":"4 "},"-",{"v":3,"d":"3 "},{"v":3,"d":"3 "},67.7,65.1,70.9,{"v":16,"d":"16 "},"-","-","-","-","-","-","-",{"v":3,"d":"3 "},"-",{"v":6,"d":"6 "},{"v":1,"d":"1 "},{"v":4,"d":"4 "},"-",{"v":1,"d":"1 "},{"v":1,"d":"1 "},65.9,64.9,67.3,{"v":12,"d":"12 "},"-","-","-","-","-","-","-",{"v":2,"d":"2 "},{"v":1,"d":"1 "},{"v":5,"d":"5 "},{"v":1,"d":"1 "},{"v":2,"d":"2 "},"-","-",{"v":1,"d":"1 "},{"v":9,"d":"9 "},"-","-","-","-","-",{"v":1,"d":"1 "},{"v":1,"d":"1 "},{"v":3,"d":"3 "},{"v":1,"d":"1 "},{"v":2,"d":"2 "},"-","-",{"v":1,"d":"1 "},{"$nulls":7},{"v":48,"d":"48 "},{"v":30,"d":"30 "},{"v":16,"d":"16 "},{"v":14,"d":"14 "},"-",{"v":5,"d":"5 "},{"v":4,"d":"4 "},{"v":9,"d":"9 "},{"v":11,"d":"11 "},{"v":4,"d":"4 "},"-","-","-",{"v":5,"d":"5 "},{"v":1,"d":"1 "},"-",{"v":1,"d":"1 "},"-","-","-","-","-","-","-",{"v":12,"d":"12 "},{"v":638,"d":"638 "},{"v":536,"d":"536 "},{"v":90,"d":"90 "},{"v":12,"d":"12 "},24,17,9,8,"-","-",3,4,24,13,7,6,"-",5,1,5]
["山梨県","甲府市","大鎌田村","堀之内",{"v":15,"d":"15 "},{"v":7,"d":"7 "},"-","-","-","-",{"v":7,"d":"7 "},{"v":8,"d":"8 "},{"v":23,"d":"23 "},{"v":2,"d":"2 "},{"v":1,"d":"1 "},"-","-","-",{"v":2,"d":"2 "},{"v":4,"d":"4 "},"-","-","-",{"v":3,"d":"3 "},{"v":7,"d":"7 "},{"v":3,"d":"3 "},"-",{"v":1,"d":"1 "},{"v":59,"d":"59.0"},56.8,62.3,{"v":17,"d":"17 "},{"v":2,"d":"2 "},"-","-","-","-","-",{"v":1,"d":"1 "},"-","-","-",{"v":3,"d":"3 "},{"v":7,"d":"7 "},{"v":3,"d":"3 "},"-",{"v":1,"d":"1 "},65.2,63.7,67.4,{"v":13,"d":"13 "},"-","-","-","-","-","-","-","-","-","-",{"v":3,"d":"3 "},{"v":6,"d":"6 "},{"v":3,"d":"3 "},"-",{"v":1,"d":"1 "},73.5,75.7,{"v":71,"d":"71.0"},{"v":7,"d":"7 "},"-","-","-","-","-","-","-","-","-","-",{"v":1,"d":"1 "},{"v":4,"d":"4 "},{"v":2,"d":"2 "},"-","-",{"v":5,"d":"5 "},"-","-","-","-","-","-","-","-","-",{"v":3,"d":"3 "},{"v":2,"d":"2 "},"-","-",{"$nulls":7},{"v":26,"d":"26 "},{"v":16,"d":"16 "},{"v":13,"d":"13 "},{"v":3,"d":"3 "},"-",{"v":3,"d":"3 "},{"v":5,"d":"5 "},{"v":2,"d":"2 "},{"v":7,"d":"7 "},{"v":1,"d":"1 "},"-","-","-",{"v":6,"d":"6 "},"-","-","-","-","-","-","-","-","-","-",{"v":7,"d":"7 "},{"v":605,"d":"605 "},{"v":525,"d":"525 "},{"v":80,"d":"80 "},"-",14,10,7,3,"-","-",3,1,12,6,6,"-","-",3,2,1]
["山梨県","甲府市","大鎌田村","高室",{"v":10,"d":"10 "},{"v":3,"d":"3 "},"-","-","-","-",{"v":3,"d":"3 "},{"v":7,"d":"7 "},{"v":8,"d":"8 "},"-","-","-","-",{"v":1,"d":"1 "},"-",{"v":2,"d":"2 "},"-","-","-","-",{"v":3,"d":"3 "},{"v":1,"d":"1 "},{"v":1,"d":"1 "},"-",63.1,60.3,{"v":66,"d":"66.0"},{"v":5,"d":"5 "},"-","-","-","-","-","-","-","-","-","-","-",{"v":3,"d":"3 "},{"v":1,"d":"1 "},{"v":1,"d":"1 "},"-",74.4,77.5,72.3,{"v":5,"d":"5 "},"-","-","-","-","-","-","-","-","-","-","-",{"v":3,"d":"3 "},{"v":1,"d":"1 "},{"v":1,"d":"1 "},"-",74.4,77.5,72.3,{"v":3,"d":"3 "},"-","-","-","-","-","-","-","-","-","-","-",{"v":1,"d":"1 "},{"v":1,"d":"1 "},{"v":1,"d":"1 "},"-",{"v":3,"d":"3 "},"-","-","-","-","-","-","-","-","-",{"v":1,"d":"1 "},{"v":1,"d":"1 "},{"v":1,"d":"1 "},"-",{"$nulls":7},{"v":10,"d":"10 "},{"v":8,"d":"8 "},{"v":5,"d":"5 "},{"v":1,"d":"1 "},{"v":2,"d":"2 "},"-",{"v":2,"d":"2 "},"-",{"v":2,"d":"2 "},{"v":1,"d":"1 "},"-","-","-",{"v":1,"d":"1 "},"-","-","-","-","-","-","-","-","-","-",{"v":3,"d":"3 "},{"v":244,"d":"244 "},{"v":168,"d":"168 "},{"v":76,"d":"76 "},"-",5,4,2,1,1,"-",1,"-",5,4,3,"-",1,"-",1,"-"]
["山梨県","甲府市","二川村",null,{"v":87,"d":"87 "},{"v":55,"d":"55 "},{"v":13,"d":"13 "},{"v":12,"d":"12 "},{"v":10,"d":"10 "},{"v":3,"d":"3 "},{"v":32,"d":"32 "},{"v":32,"d":"32 "},{"v":153,"d":"153 "},"-",{"v":3,"d":"3 "},{"v":4,"d":"4 "},{"v":8,"d":"8 "},{"v":10,"d":"10 "},{"v":3,"d":"3 "},{"v":12,"d":"12 "},{"v":11,"d":"11 "},{"v":16,"d":"16 "},{"v":23,"d":"23 "},{"v":17,"d":"17 "},{"v":15,"d":"15 "},{"v":13,"d":"13 "},{"v":12,"d":"12 "},{"v":6,"d":"6 "},59.8,58.2,61.4,{"v":95,"d":"95 "},"-","-",{"v":1,"d":"1 "},{"v":1,"d":"1 "},{"v":4,"d":"4 "},{"v":1,"d":"1 "},{"v":1,"d":"1 "},{"v":3,"d":"3 "},{"v":8,"d":"8 "},{"v":15,"d":"15 "},{"v":16,"d":"16 "},{"v":15,"d":"15 "},{"v":12,"d":"12 "},{"v":12,"d":"12 "},{"v":6,"d":"6 "},67.8,67.4,68.2,{"v":81,"d":"81 "},"-","-",{"v":1,"d":"1 "},{"v":1,"d":"1 "},{"v":2,"d":"2 "},{"v":1,"d":"1 "},{"v":1,"d":"1 "},{"v":3,"d":"3 "},{"v":7,"d":"7 "},{"v":14,"d":"14 "},{"v":16,"d":"16 "},{"v":11,"d":"11 "},{"v":11,"d":"11 "},{"v":7,"d":"7 "},{"v":6,"d":"6 "},67.5,66.2,68.8,{"v":55,"d":"55 "},"-","-","-","-","-",{"v":1,"d":"1 "},{"v":1,"d":"1 "},{"v":4,"d":"4 "},{"v":5,"d":"5 "},{"v":12,"d":"12 "},{"v":11,"d":"11 "},{"v":7,"d":"7 "},{"v":9,"d":"9 "},{"v":4,"d":"4 "},{"v":1,"d":"1 "},{"v":35,"d":"35 "},"-","-","-","-","-",{"v":2,"d":"2 "},{"v":2,"d":"2 "},{"v":7,"d":"7 "},{"v":8,"d":"8 "},{"v":4,"d":"4 "},{"v":9,"d":"9 "},{"v":3,"d":"3 "},"-",{"$nulls":7},{"v":205,"d":"205 "},{"v":152,"d":"152 "},{"v":81,"d":"81 "},{"v":69,"d":"69 "},{"v":2,"d":"2 "},{"v":17,"d":"17 "},{"v":19,"d":"19 "},{"v":17,"d":"17 "},{"v":40,"d":"40 "},{"v":21,"d":"21 "},"-","-","-",{"v":17,"d":"17 "},{"v":1,"d":"1 "},{"v":1,"d":"1 "},"-","-","-","-","-","-","-","-",{"v":55,"d":"55 "},{"v":4746,"d":"4,746 "},{"v":3756,"d":"3,756 "},{"v":950,"d":"950 "},{"v":40,"d":"40 "},99,85,41,42,2,1,8,5,106,67,40,27,"-",16,11,12]
["山梨県","甲府市","二川村","西下条",{"v":54,"d":"54 "},{"v":37,"d":"37 "},{"v":9,"d":"9 "},{"v":9,"d":"9 "},{"v":7,"d":"7 "},{"v":2,"d":"2 "},{"v":21,"d":"21 "},{"v":17,"d":"17 "},{"v":102,"d":"102 "},"-",{"v":3,"d":"3 "},{"v":3,"d":"3 "},{"v":5,"d":"5 "},{"v":3,"d":"3 "},"-",{"v":8,"d":"8 "},{"v":7,"d":"7 "},{"v":13,"d":"13 "},{"v":16,"d":"16 "},{"v":6,"d":"6 "},{"v":12,"d":"12 "},{"v":9,"d":"9 "},{"v":11,"d":"11 "},{"v":6,"d":"6 "},61.6,{"v":60,"d":"60.0"},63.1,{"v":63,"d":"63 "},"-","-","-","-",{"v":1,"d":"1 "},"-",{"v":1,"d":"1 "},{"v":2,"d":"2 "},{"v":7,"d":"7 "},{"v":9,"d":"9 "},{"v":5,"d":"5 "},{"v":12,"d":"12 "},{"v":9,"d":"9 "},{"v":11,"d":"11 "},{"v":6,"d":"6 "},71.1,72.7,69.9,{"v":53,"d":"53 "},"-","-","-","-","-","-",{"v":1,"d":"1 "},{"v":2,"d":"2 "},{"v":7,"d":"7 "},{"v":8,"d":"8 "},{"v":5,"d":"5 "},{"v":9,"d":"9 "},{"v":9,"d":"9 "},{"v":6,"d":"6 "},{"v":6,"d":"6 "},70.8,71.8,69.9,{"v":37,"d":"37 "},"-","-","-","-","-","-",{"v":1,"d":"1 "},{"v":3,"d":"3 "},{"v":5,"d":"5 "},{"v":7,"d":"7 "},{"v":5,"d":"5 "},{"v":6,"d":"6 "},{"v":6,"d":"6 "},{"v":3,"d":"3 "},{"v":1,"d":"1 "},{"v":20,"d":"20 "},"-","-","-","-","-",{"v":1,"d":"1 "},{"v":2,"d":"2 "},{"v":3,"d":"3 "},{"v":3,"d":"3 "},{"v":3,"d":"3 "},{"v":6,"d":"6 "},{"v":2,"d":"2 "},"-",{"$nulls":7},{"v":135,"d":"135 "},{"v":106,"d":"106 "},{"v":53,"d":"53 "},{"v":51,"d":"51 "},{"v":2,"d":"2 "},{"v":6,"d":"6 "},{"v":12,"d":"12 "},{"v":11,"d":"11 "},{"v":30,"d":"30 "},{"v":16,"d":"16 "},"-","-","-",{"v":12,"d":"12 "},{"v":1,"d":"1 "},{"v":1,"d":"1 "},"-","-","-","-","-","-","-","-",{"v":37,"d":"37 "},{"v":3162,"d":"3,162 "},{"v":2377,"d":"2,377 "},{"v":745,"d":"745 "},{"v":40,"d":"40 "},67,56,24,30,2,1,6,4,68,50,29,21,"-",5,6,7]
["山梨県","甲府市","二川村","大津",{"v":33,"d":"33 "},{"v":18,"d":"18 "},{"v":4,"d":"4 "},{"v":3,"d":"3 "},{"v":3,"d":"3 "},{"v":1,"d":"1 "},{"v":11,"d":"11 "},{"v":15,"d":"15 "},{"v":51,"d":"51 "},"-","-",{"v":1,"d":"1 "},{"v":3,"d":"3 "},{"v":7,"d":"7 "},{"v":3,"d":"3 "},{"v":4,"d":"4 "},{"v":4,"d":"4 "},{"v":3,"d":"3 "},{"v":7,"d":"7 "},{"v":11,"d":"11 "},{"v":3,"d":"3 "},{"v":4,"d":"4 "},{"v":1,"d":"1 "},"-",56.2,54.8,57.7,{"v":32,"d":"32 "},"-","-",{"v":1,"d":"1 "},{"v":1,"d":"1 "},{"v":3,"d":"3 "},{"v":1,"d":"1 "},"-",{"v":1,"d":"1 "},{"v":1,"d":"1 "},{"v":6,"d":"6 "},{"v":11,"d":"11 "},{"v":3,"d":"3 "},{"v":3,"d":"3 "},{"v":1,"d":"1 "},"-",61.4,59.4,63.9,{"v":28,"d":"28 "},"-","-",{"v":1,"d":"1 "},{"v":1,"d":"1 "},{"v":2,"d":"2 "},{"v":1,"d":"1 "},"-",{"v":1,"d":"1 "},"-",{"v":6,"d":"6 "},{"v":11,"d":"11 "},{"v":2,"d":"2 "},{"v":2,"d":"2 "},{"v":1,"d":"1 "},"-",61.3,58.4,65.8,{"v":18,"d":"18 "},"-","-","-","-","-",{"v":1,"d":"1 "},"-",{"v":1,"d":"1 "},"-",{"v":5,"d":"5 "},{"v":6,"d":"6 "},{"v":1,"d":"1 "},{"v":3,"d":"3 "},{"v":1,"d":"1 "},"-",{"v":15,"d":"15 "},"-","-","-","-","-",{"v":1,"d":"1 "},"-",{"v":4,"d":"4 "},{"v":5,"d":"5 "},{"v":1,"d":"1 "},{"v":3,"d":"3 "},{"v":1,"d":"1 "},"-",{"$nulls":7},{"v":70,"d":"70 "},{"v":46,"d":"46 "},{"v":28,"d":"28 "},{"v":18,"d":"18 "},"-",{"v":11,"d":"11 "},{"v":7,"d":"7 "},{"v":6,"d":"6 "},{"v":10,"d":"10 "},{"v":5,"d":"5 "},"-","-","-",{"v":5,"d":"5 "},"-","-","-","-","-","-","-","-","-","-",{"v":18,"d":"18 "},{"v":1584,"d":"1,584 "},{"v":1379,"d":"1,379 "},{"v":205,"d":"205 "},"-",32,29,17,12,"-","-",2,1,38,17,11,6,"-",11,5,5]
["山梨県","甲府市","柏村",null,{"v":233,"d":"233 "},{"v":165,"d":"165 "},{"v":39,"d":"39 "},{"v":34,"d":"34 "},{"v":44,"d":"44 "},{"v":20,"d":"20 "},{"v":82,"d":"82 "},{"v":68,"d":"68 "},{"v":446,"d":"446 "},{"v":8,"d":"8 "},{"v":14,"d":"14 "},{"v":17,"d":"17 "},{"v":10,"d":"10 "},{"v":18,"d":"18 "},{"v":20,"d":"20 "},{"v":37,"d":"37 "},{"v":30,"d":"30 "},{"v":42,"d":"42 "},{"v":41,"d":"41 "},{"v":40,"d":"40 "},{"v":50,"d":"50 "},{"v":57,"d":"57 "},{"v":41,"d":"41 "},{"v":21,"d":"21 "},{"v":60,"d":"60.0"},59.5,60.6,{"v":300,"d":"300 "},{"v":6,"d":"6 "},{"v":4,"d":"4 "},{"v":2,"d":"2 "},{"v":2,"d":"2 "},{"v":3,"d":"3 "},{"v":1,"d":"1 "},{"v":9,"d":"9 "},{"v":12,"d":"12 "},{"v":22,"d":"22 "},{"v":34,"d":"34 "},{"v":38,"d":"38 "},{"v":48,"d":"48 "},{"v":57,"d":"57 "},{"v":41,"d":"41 "},{"v":21,"d":"21 "},68.1,69.8,66.4,{"v":269,"d":"269 "},"-",{"v":1,"d":"1 "},{"v":1,"d":"1 "},{"v":2,"d":"2 "},{"v":2,"d":"2 "},"-",{"v":6,"d":"6 "},{"v":12,"d":"12 "},{"v":21,"d":"21 "},{"v":33,"d":"33 "},{"v":37,"d":"37 "},{"v":45,"d":"45 "},{"v":55,"d":"55 "},{"v":39,"d":"39 "},{"v":15,"d":"15 "},69.8,70.9,68.5,{"v":165,"d":"165 "},"-","-","-","-",{"v":1,"d":"1 "},{"v":1,"d":"1 "},{"v":4,"d":"4 "},{"v":6,"d":"6 "},{"v":13,"d":"13 "},{"v":21,"d":"21 "},{"v":23,"d":"23 "},{"v":24,"d":"24 "},{"v":32,"d":"32 "},{"v":26,"d":"26 "},{"v":14,"d":"14 "},{"v":86,"d":"86 "},"-","-","-","-","-",{"v":3,"d":"3 "},{"v":3,"d":"3 "},{"v":6,"d":"6 "},{"v":12,"d":"12 "},{"v":13,"d":"13 "},{"v":17,"d":"17 "},{"v":21,"d":"21 "},{"v":11,"d":"11 "},{"$nulls":7},{"v":525,"d":"525 "},{"v":430,"d":"430 "},{"v":269,"d":"269 "},{"v":150,"d":"150 "},{"v":11,"d":"11 "},{"v":31,"d":"31 "},{"v":35,"d":"35 "},{"v":29,"d":"29 "},{"v":164,"d":"164 "},{"v":1,"d":"1 "},"-","-","-",{"v":57,"d":"57 "},{"v":1,"d":"1 "},{"v":103,"d":"103 "},{"v":1,"d":"1 "},"-","-",{"v":1,"d":"1 "},"-","-","-","-",{"v":165,"d":"165 "},{"v":13007,"d":"13,007 "},{"v":3192,"d":"3,192 "},{"v":3247,"d":"3,247 "},{"v":6568,"d":"6,568 "},266,241,140,93,8,"-",15,10,259,189,129,57,3,31,20,19]
["山梨県","甲府市","柏村","下曽根",{"v":93,"d":"93 "},{"v":64,"d":"64 "},{"v":12,"d":"12 "},{"v":10,"d":"10 "},{"v":15,"d":"15 "},{"v":5,"d":"5 "},{"v":37,"d":"37 "},{"v":29,"d":"29 "},{"v":165,"d":"165 "},{"v":1,"d":"1 "},{"v":4,"d":"4 "},{"v":7,"d":"7 "},{"v":5,"d":"5 "},{"v":5,"d":"5 "},{"v":7,"d":"7 "},{"v":10,"d":"10 "},{"v":8,"d":"8 "},{"v":16,"d":"16 "},{"v":13,"d":"13 "},{"v":19,"d":"19 "},{"v":23,"d":"23 "},{"v":23,"d":"23 "},{"v":15,"d":"15 "},{"v":9,"d":"9 "},61.9,62.1,61.6,{"v":117,"d":"117 "},"-",{"v":2,"d":"2 "},{"v":2,"d":"2 "},{"v":1,"d":"1 "},{"v":1,"d":"1 "},"-",{"v":2,"d":"2 "},{"v":4,"d":"4 "},{"v":7,"d":"7 "},{"v":10,"d":"10 "},{"v":18,"d":"18 "},{"v":23,"d":"23 "},{"v":23,"d":"23 "},{"v":15,"d":"15 "},{"v":9,"d":"9 "},69.3,71.1,67.5,{"v":109,"d":"109 "},"-",{"v":1,"d":"1 "},{"v":1,"d":"1 "},{"v":1,"d":"1 "},{"v":1,"d":"1 "},"-",{"v":1,"d":"1 "},{"v":4,"d":"4 "},{"v":7,"d":"7 "},{"v":9,"d":"9 "},{"v":18,"d":"18 "},{"v":21,"d":"21 "},{"v":23,"d":"23 "},{"v":15,"d":"15 "},{"v":7,"d":"7 "},{"v":70,"d":"70.0"},71.2,68.7,{"v":64,"d":"64 "},"-","-","-","-","-",{"v":1,"d":"1 "},{"v":1,"d":"1 "},{"v":2,"d":"2 "},{"v":4,"d":"4 "},{"v":7,"d":"7 "},{"v":9,"d":"9 "},{"v":11,"d":"11 "},{"v":17,"d":"17 "},{"v":8,"d":"8 "},{"v":4,"d":"4 "},{"v":32,"d":"32 "},"-","-","-","-","-","-",{"v":2,"d":"2 "},{"v":3,"d":"3 "},{"v":5,"d":"5 "},{"v":5,"d":"5 "},{"v":6,"d":"6 "},{"v":7,"d":"7 "},{"v":4,"d":"4 "},{"$nulls":7},{"v":187,"d":"187 "},{"v":163,"d":"163 "},{"v":109,"d":"109 "},{"v":49,"d":"49 "},{"v":5,"d":"5 "},{"v":9,"d":"9 "},{"v":4,"d":"4 "},{"v":11,"d":"11 "},{"v":64,"d":"64 "},{"v":1,"d":"1 "},"-","-","-",{"v":36,"d":"36 "},"-",{"v":26,"d":"26 "},{"v":1,"d":"1 "},"-","-","-","-","-","-","-",{"v":64,"d":"64 "},{"v":5085,"d":"5,085 "},{"v":2135,"d":"2,135 "},{"v":1178,"d":"1,178 "},{"v":1772,"d":"1,772 "},95,89,57,30,2,"-",2,4,92,74,52,19,3,9,2,7]
["山梨県","甲府市","柏村","上曽根",{"v":83,"d":"83 "},{"v":62,"d":"62 "},{"v":16,"d":"16 "},{"v":14,"d":"14 "},{"v":17,"d":"17 "},{"v":8,"d":"8 "},{"v":29,"d":"29 "},{"v":21,"d":"21 "},{"v":180,"d":"180 "},{"v":5,"d":"5 "},{"v":6,"d":"6 "},{"v":7,"d":"7 "},{"v":5,"d":"5 "},{"v":8,"d":"8 "},{"v":10,"d":"10 "},{"v":21,"d":"21 "},{"v":13,"d":"13 "},{"v":15,"d":"15 "},{"v":17,"d":"17 "},{"v":13,"d":"13 "},{"v":16,"d":"16 "},{"v":23,"d":"23 "},{"v":14,"d":"14 "},{"v":7,"d":"7 "},57.8,57.4,58.1,{"v":111,"d":"111 "},{"v":5,"d":"5 "},{"v":1,"d":"1 "},"-",{"v":1,"d":"1 "},"-",{"v":1,"d":"1 "},{"v":4,"d":"4 "},{"v":4,"d":"4 "},{"v":8,"d":"8 "},{"v":15,"d":"15 "},{"v":12,"d":"12 "},{"v":16,"d":"16 "},{"v":23,"d":"23 "},{"v":14,"d":"14 "},{"v":7,"d":"7 "},{"v":67,"d":"67.0"},69.4,64.8,{"v":96,"d":"96 "},"-","-","-",{"v":1,"d":"1 "},"-","-",{"v":2,"d":"2 "},{"v":4,"d":"4 "},{"v":7,"d":"7 "},{"v":15,"d":"15 "},{"v":12,"d":"12 "},{"v":15,"d":"15 "},{"v":22,"d":"22 "},{"v":12,"d":"12 "},{"v":6,"d":"6 "},70.3,71.4,{"v":69,"d":"69.0"},{"v":62,"d":"62 "},"-","-","-","-","-","-",{"v":2,"d":"2 "},{"v":2,"d":"2 "},{"v":6,"d":"6 "},{"v":9,"d":"9 "},{"v":10,"d":"10 "},{"v":6,"d":"6 "},{"v":10,"d":"10 "},{"v":10,"d":"10 "},{"v":7,"d":"7 "},{"v":30,"d":"30 "},"-","-","-","-","-",{"v":1,"d":"1 "},"-",{"v":2,"d":"2 "},{"v":3,"d":"3 "},{"v":5,"d":"5 "},{"v":7,"d":"7 "},{"v":8,"d":"8 "},{"v":4,"d":"4 "},{"$nulls":7},{"v":223,"d":"223 "},{"v":173,"d":"173 "},{"v":96,"d":"96 "},{"v":74,"d":"74 "},{"v":3,"d":"3 "},{"v":14,"d":"14 "},{"v":23,"d":"23 "},{"v":13,"d":"13 "},{"v":61,"d":"61 "},"-","-","-","-",{"v":14,"d":"14 "},{"v":1,"d":"1 "},{"v":45,"d":"45 "},"-","-","-",{"v":1,"d":"1 "},"-","-","-","-",{"v":62,"d":"62 "},{"v":5090,"d":"5,090 "},{"v":555,"d":"555 "},{"v":1484,"d":"1,484 "},{"v":3051,"d":"3,051 "},119,102,52,47,3,"-",11,6,104,71,44,27,"-",14,12,7]
["山梨県","甲府市","柏村","白井",{"v":57,"d":"57 "},{"v":39,"d":"39 "},{"v":11,"d":"11 "},{"v":10,"d":"10 "},{"v":12,"d":"12 "},{"v":7,"d":"7 "},{"v":16,"d":"16 "},{"v":18,"d":"18 "},{"v":101,"d":"101 "},{"v":2,"d":"2 "},{"v":4,"d":"4 "},{"v":3,"d":"3 "},"-",{"v":5,"d":"5 "},{"v":3,"d":"3 "},{"v":6,"d":"6 "},{"v":9,"d":"9 "},{"v":11,"d":"11 "},{"v":11,"d":"11 "},{"v":8,"d":"8 "},{"v":11,"d":"11 "},{"v":11,"d":"11 "},{"v":12,"d":"12 "},{"v":5,"d":"5 "},61.1,{"v":59,"d":"59.0"},63.3,{"v":72,"d":"72 "},{"v":1,"d":"1 "},{"v":1,"d":"1 "},"-","-",{"v":2,"d":"2 "},"-",{"v":3,"d":"3 "},{"v":4,"d":"4 "},{"v":7,"d":"7 "},{"v":9,"d":"9 "},{"v":8,"d":"8 "},{"v":9,"d":"9 "},{"v":11,"d":"11 "},{"v":12,"d":"12 "},{"v":5,"d":"5 "},67.7,68.2,67.3,{"v":64,"d":"64 "},"-","-","-","-",{"v":1,"d":"1 "},"-",{"v":3,"d":"3 "},{"v":4,"d":"4 "},{"v":7,"d":"7 "},{"v":9,"d":"9 "},{"v":7,"d":"7 "},{"v":9,"d":"9 "},{"v":10,"d":"10 "},{"v":12,"d":"12 "},{"v":2,"d":"2 "},68.6,69.7,67.5,{"v":39,"d":"39 "},"-","-","-","-",{"v":1,"d":"1 "},"-",{"v":1,"d":"1 "},{"v":2,"d":"2 "},{"v":3,"d":"3 "},{"v":5,"d":"5 "},{"v":4,"d":"4 "},{"v":7,"d":"7 "},{"v":5,"d":"5 "},{"v":8,"d":"8 "},{"v":3,"d":"3 "},{"v":24,"d":"24 "},"-","-","-","-","-",{"v":2,"d":"2 "},{"v":1,"d":"1 "},{"v":1,"d":"1 "},{"v":4,"d":"4 "},{"v":3,"d":"3 "},{"v":4,"d":"4 "},{"v":6,"d":"6 "},{"v":3,"d":"3 "},{"$nulls":7},{"v":115,"d":"115 "},{"v":94,"d":"94 "},{"v":64,"d":"64 "},{"v":27,"d":"27 "},{"v":3,"d":"3 "},{"v":8,"d":"8 "},{"v":8,"d":"8 "},{"v":5,"d":"5 "},{"v":39,"d":"39 "},"-","-","-","-",{"v":7,"d":"7 "},"-",{"v":32,"d":"32 "},"-","-","-","-","-","-","-","-",{"v":39,"d":"39 "},{"v":2832,"d":"2,832 "},{"v":502,"d":"502 "},{"v":585,"d":"585 "},{"v":1745,"d":"1,745 "},52,50,31,16,3,"-",2,"-",63,44,33,11,"-",8,6,5]
["山梨県","甲府市","右左口村",null,{"v":327,"d":"327 "},{"v":247,"d":"247 "},{"v":65,"d":"65 "},{"v":52,"d":"52 "},{"v":75,"d":"75 "},{"v":27,"d":"27 "},{"v":107,"d":"107 "},{"v":80,"d":"80 "},{"v":667,"d":"667 "},{"v":6,"d":"6 "},{"v":18,"d":"18 "},{"v":19,"d":"19 "},{"v":21,"d":"21 "},{"v":22,"d":"22 "},{"v":36,"d":"36 "},{"v":38,"d":"38 "},{"v":61,"d":"61 "},{"v":63,"d":"63 "},{"v":68,"d":"68 "},{"v":74,"d":"74 "},{"v":73,"d":"73 "},{"v":85,"d":"85 "},{"v":63,"d":"63 "},{"v":20,"d":"20 "},60.6,59.9,61.4,{"v":447,"d":"447 "},{"v":3,"d":"3 "},{"v":2,"d":"2 "},"-",{"v":4,"d":"4 "},{"v":9,"d":"9 "},{"v":9,"d":"9 "},{"v":13,"d":"13 "},{"v":18,"d":"18 "},{"v":28,"d":"28 "},{"v":57,"d":"57 "},{"v":66,"d":"66 "},{"v":72,"d":"72 "},{"v":84,"d":"84 "},{"v":62,"d":"62 "},{"v":20,"d":"20 "},68.2,69.2,67.4,{"v":395,"d":"395 "},"-","-","-",{"v":2,"d":"2 "},{"v":7,"d":"7 "},{"v":5,"d":"5 "},{"v":10,"d":"10 "},{"v":14,"d":"14 "},{"v":26,"d":"26 "},{"v":52,"d":"52 "},{"v":64,"d":"64 "},{"v":71,"d":"71 "},{"v":76,"d":"76 "},{"v":52,"d":"52 "},{"v":16,"d":"16 "},69.2,69.9,68.5,{"v":247,"d":"247 "},"-","-","-","-",{"v":5,"d":"5 "},{"v":7,"d":"7 "},{"v":10,"d":"10 "},{"v":21,"d":"21 "},{"v":33,"d":"33 "},{"v":28,"d":"28 "},{"v":37,"d":"37 "},{"v":41,"d":"41 "},{"v":34,"d":"34 "},{"v":27,"d":"27 "},{"v":4,"d":"4 "},{"v":86,"d":"86 "},"-","-","-","-","-",{"v":4,"d":"4 "},{"v":11,"d":"11 "},{"v":12,"d":"12 "},{"v":13,"d":"13 "},{"v":15,"d":"15 "},{"v":16,"d":"16 "},{"v":12,"d":"12 "},{"v":3,"d":"3 "},{"$nulls":7},{"v":834,"d":"834 "},{"v":661,"d":"661 "},{"v":395,"d":"395 "},{"v":249,"d":"249 "},{"v":17,"d":"17 "},{"v":54,"d":"54 "},{"v":51,"d":"51 "},{"v":68,"d":"68 "},{"v":237,"d":"237 "},{"v":4,"d":"4 "},"-","-","-",{"v":80,"d":"80 "},"-",{"v":146,"d":"146 "},{"v":1,"d":"1 "},{"v":2,"d":"2 "},"-","-",{"v":4,"d":"4 "},"-","-","-",{"v":246,"d":"246 "},{"v":20099,"d":"20,099 "},{"v":3849,"d":"3,849 "},{"v":6028,"d":"6,028 "},{"v":10222,"d":"10,222 "},411,364,204,148,12,"-",23,24,423,297,191,101,5,54,28,44]
["山梨県","甲府市","右左口村","松本",{"v":21,"d":"21 "},{"v":16,"d":"16 "},{"v":3,"d":"3 "},{"v":3,"d":"3 "},{"v":5,"d":"5 "},{"v":3,"d":"3 "},{"v":8,"d":"8 "},{"v":5,"d":"5 "},{"v":50,"d":"50 "},"-","-",{"v":1,"d":"1 "},{"v":2,"d":"2 "},{"v":1,"d":"1 "},{"v":4,"d":"4 "},{"v":2,"d":"2 "},{"v":7,"d":"7 "},{"v":5,"d":"5 "},{"v":4,"d":"4 "},{"v":3,"d":"3 "},{"v":6,"d":"6 "},{"v":5,"d":"5 "},{"v":4,"d":"4 "},{"v":6,"d":"6 "},{"v":63,"d":"63.0"},65.2,60.5,{"v":34,"d":"34 "},"-","-","-","-","-",{"v":2,"d":"2 "},{"v":1,"d":"1 "},{"v":2,"d":"2 "},{"v":2,"d":"2 "},{"v":4,"d":"4 "},{"v":2,"d":"2 "},{"v":6,"d":"6 "},{"v":5,"d":"5 "},{"v":4,"d":"4 "},{"v":6,"d":"6 "},70.6,74.6,66.1,{"v":30,"d":"30 "},"-","-","-","-","-","-",{"v":1,"d":"1 "},{"v":1,"d":"1 "},{"v":1,"d":"1 "},{"v":4,"d":"4 "},{"v":2,"d":"2 "},{"v":6,"d":"6 "},{"v":5,"d":"5 "},{"v":4,"d":"4 "},{"v":6,"d":"6 "},73.6,74.6,72.1,{"v":16,"d":"16 "},"-","-","-","-","-","-","-","-",{"v":4,"d":"4 "},{"v":2,"d":"2 "},{"v":1,"d":"1 "},{"v":4,"d":"4 "},{"v":3,"d":"3 "},{"v":1,"d":"1 "},{"v":1,"d":"1 "},{"v":8,"d":"8 "},"-","-","-","-","-","-",{"v":1,"d":"1 "},"-",{"v":1,"d":"1 "},{"v":2,"d":"2 "},{"v":2,"d":"2 "},{"v":1,"d":"1 "},{"v":1,"d":"1 "},{"$nulls":7},{"v":62,"d":"62 "},{"v":49,"d":"49 "},{"v":30,"d":"30 "},{"v":18,"d":"18 "},{"v":1,"d":"1 "},{"v":7,"d":"7 "},{"v":4,"d":"4 "},{"v":2,"d":"2 "},{"v":16,"d":"16 "},"-","-","-","-",{"v":2,"d":"2 "},"-",{"v":14,"d":"14 "},"-","-","-","-","-","-","-","-",{"v":16,"d":"16 "},{"v":1351,"d":"1,351 "},{"v":390,"d":"390 "},{"v":102,"d":"102 "},{"v":859,"d":"859 "},34,30,18,11,1,"-",4,"-",28,19,12,7,"-",7,"-",2]
["山梨県","甲府市","右左口村","佐久",{"v":36,"d":"36 "},{"v":26,"d":"26 "},{"v":4,"d":"4 "},{"v":1,"d":"1 "},{"v":13,"d":"13 "},{"v":4,"d":"4 "},{"v":9,"d":"9 "},{"v":10,"d":"10 "},{"v":81,"d":"81 "},{"v":3,"d":"3 "},{"v":4,"d":"4 "},{"v":1,"d":"1 "},{"v":2,"d":"2 "},{"v":1,"d":"1 "},{"v":5,"d":"5 "},{"v":6,"d":"6 "},{"v":11,"d":"11 "},{"v":7,"d":"7 "},{"v":5,"d":"5 "},{"v":11,"d":"11 "},{"v":4,"d":"4 "},{"v":7,"d":"7 "},{"v":11,"d":"11 "},{"v":3,"d":"3 "},58.7,54.1,62.8,{"v":47,"d":"47 "},{"v":2,"d":"2 "},{"v":1,"d":"1 "},"-",{"v":1,"d":"1 "},{"v":1,"d":"1 "},{"v":1,"d":"1 "},{"v":1,"d":"1 "},{"v":2,"d":"2 "},"-",{"v":3,"d":"3 "},{"v":11,"d":"11 "},{"v":4,"d":"4 "},{"v":6,"d":"6 "},{"v":11,"d":"11 "},{"v":3,"d":"3 "},{"v":67,"d":"67.0"},64.1,68.7,{"v":33,"d":"33 "},"-","-","-","-",{"v":1,"d":"1 "},{"v":1,"d":"1 "},"-","-","-",{"v":3,"d":"3 "},{"v":10,"d":"10 "},{"v":4,"d":"4 "},{"v":5,"d":"5 "},{"v":7,"d":"7 "},{"v":2,"d":"2 "},71.3,70.4,71.9,{"v":26,"d":"26 "},"-","-","-","-","-",{"v":2,"d":"2 "},{"v":1,"d":"1 "},{"v":7,"d":"7 "},{"v":4,"d":"4 "},{"v":2,"d":"2 "},{"v":5,"d":"5 "},{"v":3,"d":"3 "},"-",{"v":2,"d":"2 "},"-",{"v":10,"d":"10 "},"-","-","-","-","-",{"v":2,"d":"2 "},{"v":1,"d":"1 "},{"v":1,"d":"1 "},{"v":3,"d":"3 "},{"v":1,"d":"1 "},"-",{"v":2,"d":"2 "},"-",{"$nulls":7},{"v":109,"d":"109 "},{"v":73,"d":"73 "},{"v":33,"d":"33 "},{"v":34,"d":"34 "},{"v":6,"d":"6 "},{"v":9,"d":"9 "},{"v":13,"d":"13 "},{"v":14,"d":"14 "},{"v":25,"d":"25 "},{"v":3,"d":"3 "},"-","-","-",{"v":6,"d":"6 "},"-",{"v":15,"d":"15 "},"-",{"v":1,"d":"1 "},"-","-","-","-","-","-",{"v":26,"d":"26 "},{"v":1880,"d":"1,880 "},{"v":501,"d":"501 "},{"v":374,"d":"374 "},{"v":1005,"d":"1,005 "},52,38,14,22,2,"-",7,7,57,35,19,12,4,9,6,7]
["山梨県","甲府市","右左口村","金沢",{"v":32,"d":"32 "},{"v":26,"d":"26 "},{"v":11,"d":"11 "},{"v":8,"d":"8 "},{"v":7,"d":"7 "},{"v":3,"d":"3 "},{"v":8,"d":"8 "},{"v":6,"d":"6 "},{"v":72,"d":"72 "},{"v":1,"d":"1 "},{"v":2,"d":"2 "},{"v":2,"d":"2 "},{"v":3,"d":"3 "},{"v":4,"d":"4 "},{"v":5,"d":"5 "},{"v":3,"d":"3 "},{"v":3,"d":"3 "},{"v":9,"d":"9 "},{"v":12,"d":"12 "},{"v":7,"d":"7 "},{"v":10,"d":"10 "},{"v":6,"d":"6 "},{"v":3,"d":"3 "},{"v":2,"d":"2 "},58.3,56.9,{"v":60,"d":"60.0"},{"v":46,"d":"46 "},"-","-","-","-","-",{"v":1,"d":"1 "},{"v":2,"d":"2 "},{"v":2,"d":"2 "},{"v":2,"d":"2 "},{"v":12,"d":"12 "},{"v":6,"d":"6 "},{"v":10,"d":"10 "},{"v":6,"d":"6 "},{"v":3,"d":"3 "},{"v":2,"d":"2 "},67.6,67.1,{"v":68,"d":"68.0"},{"v":39,"d":"39 "},"-","-","-","-","-","-",{"v":1,"d":"1 "},{"v":2,"d":"2 "},{"v":2,"d":"2 "},{"v":10,"d":"10 "},{"v":5,"d":"5 "},{"v":10,"d":"10 "},{"v":5,"d":"5 "},{"v":3,"d":"3 "},{"v":1,"d":"1 "},68.4,67.3,69.8,{"v":26,"d":"26 "},"-","-","-","-",{"v":2,"d":"2 "},{"v":2,"d":"2 "},"-",{"v":2,"d":"2 "},{"v":4,"d":"4 "},{"v":7,"d":"7 "},{"v":2,"d":"2 "},{"v":4,"d":"4 "},{"v":1,"d":"1 "},{"v":2,"d":"2 "},"-",{"v":8,"d":"8 "},"-","-","-","-","-","-",{"v":2,"d":"2 "},{"v":4,"d":"4 "},{"v":1,"d":"1 "},"-",{"v":1,"d":"1 "},"-","-",{"$nulls":7},{"v":82,"d":"82 "},{"v":66,"d":"66 "},{"v":39,"d":"39 "},{"v":25,"d":"25 "},{"v":2,"d":"2 "},{"v":8,"d":"8 "},{"v":2,"d":"2 "},{"v":6,"d":"6 "},{"v":23,"d":"23 "},"-","-","-","-",{"v":5,"d":"5 "},"-",{"v":18,"d":"18 "},"-","-","-","-","-","-","-","-",{"v":26,"d":"26 "},{"v":1917,"d":"1,917 "},{"v":596,"d":"596 "},{"v":250,"d":"250 "},{"v":1071,"d":"1,071 "},43,39,21,16,2,"-",1,3,39,27,18,9,"-",8,1,3]
["山梨県","甲府市","右左口村","向山",{"v":42,"d":"42 "},{"v":31,"d":"31 "},{"v":8,"d":"8 "},{"v":7,"d":"7 "},{"v":11,"d":"11 "},{"v":3,"d":"3 "},{"v":12,"d":"12 "},{"v":11,"d":"11 "},{"v":90,"d":"90 "},"-",{"v":4,"d":"4 "},"-",{"v":4,"d":"4 "},{"v":4,"d":"4 "},{"v":3,"d":"3 "},{"v":7,"d":"7 "},{"v":7,"d":"7 "},{"v":10,"d":"10 "},{"v":10,"d":"10 "},{"v":8,"d":"8 "},{"v":8,"d":"8 "},{"v":16,"d":"16 "},{"v":7,"d":"7 "},{"v":2,"d":"2 "},60.6,59.8,61.5,{"v":61,"d":"61 "},"-",{"v":1,"d":"1 "},"-",{"v":2,"d":"2 "},{"v":2,"d":"2 "},"-",{"v":2,"d":"2 "},{"v":1,"d":"1 "},{"v":6,"d":"6 "},{"v":7,"d":"7 "},{"v":7,"d":"7 "},{"v":8,"d":"8 "},{"v":16,"d":"16 "},{"v":7,"d":"7 "},{"v":2,"d":"2 "},67.1,69.5,65.3,{"v":54,"d":"54 "},"-","-","-",{"v":1,"d":"1 "},{"v":1,"d":"1 "},"-",{"v":2,"d":"2 "},{"v":1,"d":"1 "},{"v":6,"d":"6 "},{"v":7,"d":"7 "},{"v":7,"d":"7 "},{"v":7,"d":"7 "},{"v":14,"d":"14 "},{"v":6,"d":"6 "},{"v":2,"d":"2 "},68.5,69.3,67.7,{"v":31,"d":"31 "},"-","-","-","-",{"v":1,"d":"1 "},{"v":1,"d":"1 "},{"v":2,"d":"2 "},{"v":3,"d":"3 "},{"v":3,"d":"3 "},{"v":4,"d":"4 "},{"v":4,"d":"4 "},{"v":3,"d":"3 "},{"v":6,"d":"6 "},{"v":3,"d":"3 "},{"v":1,"d":"1 "},{"v":13,"d":"13 "},"-","-","-","-","-","-",{"v":1,"d":"1 "},{"v":2,"d":"2 "},{"v":1,"d":"1 "},{"v":3,"d":"3 "},{"v":3,"d":"3 "},{"v":2,"d":"2 "},{"v":1,"d":"1 "},{"$nulls":7},{"v":110,"d":"110 "},{"v":90,"d":"90 "},{"v":54,"d":"54 "},{"v":35,"d":"35 "},{"v":1,"d":"1 "},{"v":8,"d":"8 "},{"v":6,"d":"6 "},{"v":6,"d":"6 "},{"v":30,"d":"30 "},{"v":1,"d":"1 "},"-","-","-",{"v":19,"d":"19 "},"-",{"v":9,"d":"9 "},"-","-","-","-",{"v":1,"d":"1 "},"-","-","-",{"v":31,"d":"31 "},{"v":2891,"d":"2,891 "},{"v":880,"d":"880 "},{"v":1324,"d":"1,324 "},{"v":687,"d":"687 "},53,49,26,22,1,"-",2,2,57,41,28,13,"-",8,4,4]
["山梨県","甲府市","右左口村","中畑",{"v":31,"d":"31 "},{"v":25,"d":"25 "},{"v":6,"d":"6 "},{"v":6,"d":"6 "},{"v":7,"d":"7 "},{"v":2,"d":"2 "},{"v":12,"d":"12 "},{"v":6,"d":"6 "},{"v":63,"d":"63 "},"-",{"v":1,"d":"1 "},{"v":2,"d":"2 "},{"v":2,"d":"2 "},{"v":3,"d":"3 "},{"v":3,"d":"3 "},{"v":3,"d":"3 "},{"v":6,"d":"6 "},{"v":5,"d":"5 "},{"v":8,"d":"8 "},{"v":6,"d":"6 "},{"v":6,"d":"6 "},{"v":12,"d":"12 "},{"v":5,"d":"5 "},{"v":1,"d":"1 "},61.2,62.9,58.7,{"v":42,"d":"42 "},"-","-","-","-",{"v":2,"d":"2 "},"-",{"v":1,"d":"1 "},{"v":3,"d":"3 "},{"v":3,"d":"3 "},{"v":5,"d":"5 "},{"v":5,"d":"5 "},{"v":6,"d":"6 "},{"v":12,"d":"12 "},{"v":4,"d":"4 "},{"v":1,"d":"1 "},{"v":68,"d":"68.0"},{"v":69,"d":"69.0"},66.6,{"v":39,"d":"39 "},"-","-","-","-",{"v":2,"d":"2 "},"-",{"v":1,"d":"1 "},{"v":3,"d":"3 "},{"v":3,"d":"3 "},{"v":4,"d":"4 "},{"v":5,"d":"5 "},{"v":6,"d":"6 "},{"v":10,"d":"10 "},{"v":4,"d":"4 "},{"v":1,"d":"1 "},67.7,{"v":69,"d":"69.0"},65.5,{"v":25,"d":"25 "},"-","-","-","-",{"v":1,"d":"1 "},"-",{"v":1,"d":"1 "},{"v":2,"d":"2 "},{"v":4,"d":"4 "},{"v":3,"d":"3 "},{"v":3,"d":"3 "},{"v":3,"d":"3 "},{"v":5,"d":"5 "},{"v":2,"d":"2 "},{"v":1,"d":"1 "},{"v":10,"d":"10 "},"-","-","-","-","-","-",{"v":1,"d":"1 "},{"v":2,"d":"2 "},{"v":2,"d":"2 "},{"v":2,"d":"2 "},{"v":2,"d":"2 "},"-",{"v":1,"d":"1 "},{"$nulls":7},{"v":82,"d":"82 "},{"v":67,"d":"67 "},{"v":39,"d":"39 "},{"v":26,"d":"26 "},{"v":2,"d":"2 "},{"v":5,"d":"5 "},{"v":3,"d":"3 "},{"v":7,"d":"7 "},{"v":25,"d":"25 "},"-","-","-","-",{"v":3,"d":"3 "},"-",{"v":22,"d":"22 "},"-","-","-","-","-","-","-","-",{"v":25,"d":"25 "},{"v":1853,"d":"1,853 "},{"v":228,"d":"228 "},{"v":319,"d":"319 "},{"v":1306,"d":"1,306 "},43,40,25,13,2,"-",1,2,39,27,14,13,"-",5,2,5]
["山梨県","甲府市","右左口村","心経寺",{"v":33,"d":"33 "},{"v":25,"d":"25 "},{"v":5,"d":"5 "},{"v":3,"d":"3 "},{"v":8,"d":"8 "},{"v":4,"d":"4 "},{"v":12,"d":"12 "},{"v":8,"d":"8 "},{"v":63,"d":"63 "},{"v":1,"d":"1 "},"-",{"v":2,"d":"2 "},{"v":1,"d":"1 "},"-",{"v":6,"d":"6 "},{"v":5,"d":"5 "},{"v":3,"d":"3 "},{"v":4,"d":"4 "},{"v":3,"d":"3 "},{"v":7,"d":"7 "},{"v":8,"d":"8 "},{"v":11,"d":"11 "},{"v":12,"d":"12 "},"-",64.1,63.9,64.4,{"v":48,"d":"48 "},{"v":1,"d":"1 "},"-","-","-","-",{"v":2,"d":"2 "},{"v":2,"d":"2 "},"-",{"v":3,"d":"3 "},{"v":2,"d":"2 "},{"v":7,"d":"7 "},{"v":8,"d":"8 "},{"v":11,"d":"11 "},{"v":12,"d":"12 "},"-",70.2,71.4,{"v":69,"d":"69.0"},{"v":42,"d":"42 "},"-","-","-","-","-",{"v":1,"d":"1 "},{"v":2,"d":"2 "},"-",{"v":2,"d":"2 "},{"v":2,"d":"2 "},{"v":7,"d":"7 "},{"v":8,"d":"8 "},{"v":10,"d":"10 "},{"v":10,"d":"10 "},"-",71.8,73.5,{"v":70,"d":"70.0"},{"v":25,"d":"25 "},"-","-","-","-","-","-",{"v":3,"d":"3 "},{"v":1,"d":"1 "},{"v":2,"d":"2 "},"-",{"v":5,"d":"5 "},{"v":3,"d":"3 "},{"v":3,"d":"3 "},{"v":8,"d":"8 "},"-",{"v":7,"d":"7 "},"-","-","-","-","-","-","-","-",{"v":2,"d":"2 "},{"v":1,"d":"1 "},{"v":2,"d":"2 "},{"v":2,"d":"2 "},"-",{"$nulls":7},{"v":83,"d":"83 "},{"v":67,"d":"67 "},{"v":42,"d":"42 "},{"v":25,"d":"25 "},"-",{"v":7,"d":"7 "},{"v":6,"d":"6 "},{"v":3,"d":"3 "},{"v":25,"d":"25 "},"-","-","-","-",{"v":3,"d":"3 "},"-",{"v":21,"d":"21 "},"-","-","-","-",{"v":1,"d":"1 "},"-","-","-",{"v":25,"d":"25 "},{"v":2043,"d":"2,043 "},{"v":225,"d":"225 "},{"v":423,"d":"423 "},{"v":1395,"d":"1,395 "},40,37,21,16,"-","-",2,1,43,30,21,9,"-",7,4,2]
["山梨県","甲府市","右左口村","宿",{"v":72,"d":"72 "},{"v":49,"d":"49 "},{"v":11,"d":"11 "},{"v":9,"d":"9 "},{"v":12,"d":"12 "},{"v":5,"d":"5 "},{"v":26,"d":"26 "},{"v":23,"d":"23 "},{"v":121,"d":"121 "},"-",{"v":3,"d":"3 "},{"v":6,"d":"6 "},{"v":4,"d":"4 "},{"v":1,"d":"1 "},{"v":4,"d":"4 "},{"v":6,"d":"6 "},{"v":8,"d":"8 "},{"v":10,"d":"10 "},{"v":15,"d":"15 "},{"v":18,"d":"18 "},{"v":16,"d":"16 "},{"v":18,"d":"18 "},{"v":7,"d":"7 "},{"v":5,"d":"5 "},61.8,61.4,62.4,{"v":85,"d":"85 "},"-","-","-","-",{"v":1,"d":"1 "},"-",{"v":1,"d":"1 "},{"v":2,"d":"2 "},{"v":6,"d":"6 "},{"v":14,"d":"14 "},{"v":16,"d":"16 "},{"v":15,"d":"15 "},{"v":18,"d":"18 "},{"v":7,"d":"7 "},{"v":5,"d":"5 "},69.7,70.5,{"v":69,"d":"69.0"},{"v":78,"d":"78 "},"-","-","-","-",{"v":1,"d":"1 "},"-","-",{"v":2,"d":"2 "},{"v":6,"d":"6 "},{"v":13,"d":"13 "},{"v":16,"d":"16 "},{"v":15,"d":"15 "},{"v":17,"d":"17 "},{"v":5,"d":"5 "},{"v":3,"d":"3 "},69.2,70.2,68.1,{"v":49,"d":"49 "},"-","-","-","-","-",{"v":1,"d":"1 "},"-",{"v":2,"d":"2 "},{"v":5,"d":"5 "},{"v":5,"d":"5 "},{"v":12,"d":"12 "},{"v":10,"d":"10 "},{"v":11,"d":"11 "},{"v":3,"d":"3 "},"-",{"v":9,"d":"9 "},"-","-","-","-","-","-",{"v":1,"d":"1 "},"-",{"v":2,"d":"2 "},{"v":2,"d":"2 "},{"v":4,"d":"4 "},"-","-",{"$nulls":7},{"v":144,"d":"144 "},{"v":118,"d":"118 "},{"v":78,"d":"78 "},{"v":37,"d":"37 "},{"v":3,"d":"3 "},{"v":6,"d":"6 "},{"v":7,"d":"7 "},{"v":13,"d":"13 "},{"v":45,"d":"45 "},"-","-","-","-",{"v":21,"d":"21 "},"-",{"v":23,"d":"23 "},"-",{"v":1,"d":"1 "},"-","-","-","-","-","-",{"v":49,"d":"49 "},{"v":4221,"d":"4,221 "},{"v":545,"d":"545 "},{"v":1789,"d":"1,789 "},{"v":1887,"d":"1,887 "},69,65,41,21,3,"-",2,2,75,53,37,16,"-",6,5,11]
["山梨県","甲府市","右左口村","七覚",{"v":37,"d":"37 "},{"v":28,"d":"28 "},{"v":10,"d":"10 "},{"v":9,"d":"9 "},{"v":8,"d":"8 "},{"v":2,"d":"2 "},{"v":10,"d":"10 "},{"v":9,"d":"9 "},{"v":78,"d":"78 "},{"v":1,"d":"1 "},{"v":4,"d":"4 "},{"v":2,"d":"2 "},{"v":2,"d":"2 "},{"v":7,"d":"7 "},{"v":2,"d":"2 "},{"v":6,"d":"6 "},{"v":7,"d":"7 "},{"v":8,"d":"8 "},{"v":6,"d":"6 "},{"v":6,"d":"6 "},{"v":7,"d":"7 "},{"v":10,"d":"10 "},{"v":10,"d":"10 "},"-",58.4,56.4,60.7,{"v":51,"d":"51 "},"-","-","-",{"v":1,"d":"1 "},{"v":3,"d":"3 "},{"v":1,"d":"1 "},{"v":3,"d":"3 "},{"v":2,"d":"2 "},{"v":4,"d":"4 "},{"v":6,"d":"6 "},{"v":4,"d":"4 "},{"v":7,"d":"7 "},{"v":10,"d":"10 "},{"v":10,"d":"10 "},"-",{"v":67,"d":"67.0"},67.2,66.9,{"v":48,"d":"48 "},"-","-","-",{"v":1,"d":"1 "},{"v":2,"d":"2 "},{"v":1,"d":"1 "},{"v":3,"d":"3 "},{"v":2,"d":"2 "},{"v":4,"d":"4 "},{"v":5,"d":"5 "},{"v":4,"d":"4 "},{"v":7,"d":"7 "},{"v":10,"d":"10 "},{"v":9,"d":"9 "},"-",67.4,67.2,67.5,{"v":28,"d":"28 "},"-","-","-","-",{"v":1,"d":"1 "},{"v":1,"d":"1 "},{"v":3,"d":"3 "},{"v":2,"d":"2 "},{"v":4,"d":"4 "},{"v":3,"d":"3 "},{"v":2,"d":"2 "},{"v":5,"d":"5 "},{"v":4,"d":"4 "},{"v":3,"d":"3 "},"-",{"v":13,"d":"13 "},"-","-","-","-","-",{"v":1,"d":"1 "},{"v":4,"d":"4 "},{"v":2,"d":"2 "},"-",{"v":3,"d":"3 "},{"v":1,"d":"1 "},{"v":2,"d":"2 "},"-",{"$nulls":7},{"v":94,"d":"94 "},{"v":78,"d":"78 "},{"v":48,"d":"48 "},{"v":28,"d":"28 "},{"v":2,"d":"2 "},{"v":2,"d":"2 "},{"v":5,"d":"5 "},{"v":9,"d":"9 "},{"v":28,"d":"28 "},"-","-","-","-",{"v":18,"d":"18 "},"-",{"v":8,"d":"8 "},{"v":1,"d":"1 "},"-","-","-",{"v":1,"d":"1 "},"-","-","-",{"v":28,"d":"28 "},{"v":1986,"d":"1,986 "},{"v":337,"d":"337 "},{"v":1016,"d":"1,016 "},{"v":633,"d":"633 "},46,41,24,16,1,"-",2,3,48,37,24,12,1,2,3,6]
["山梨県","甲府市","右左口村","善藤",{"v":23,"d":"23 "},{"v":21,"d":"21 "},{"v":7,"d":"7 "},{"v":6,"d":"6 "},{"v":4,"d":"4 "},{"v":1,"d":"1 "},{"v":10,"d":"10 "},{"v":2,"d":"2 "},{"v":49,"d":"49 "},"-","-",{"v":3,"d":"3 "},{"v":1,"d":"1 "},{"v":1,"d":"1 "},{"v":4,"d":"4 "},"-",{"v":9,"d":"9 "},{"v":5,"d":"5 "},{"v":5,"d":"5 "},{"v":8,"d":"8 "},{"v":8,"d":"8 "},"-",{"v":4,"d":"4 "},{"v":1,"d":"1 "},59.4,59.8,59.1,{"v":33,"d":"33 "},"-","-","-","-","-",{"v":2,"d":"2 "},"-",{"v":4,"d":"4 "},{"v":2,"d":"2 "},{"v":4,"d":"4 "},{"v":8,"d":"8 "},{"v":8,"d":"8 "},"-",{"v":4,"d":"4 "},{"v":1,"d":"1 "},65.9,67.6,64.6,{"v":32,"d":"32 "},"-","-","-","-","-",{"v":2,"d":"2 "},"-",{"v":3,"d":"3 "},{"v":2,"d":"2 "},{"v":4,"d":"4 "},{"v":8,"d":"8 "},{"v":8,"d":"8 "},"-",{"v":4,"d":"4 "},{"v":1,"d":"1 "},66.3,67.6,65.3,{"v":21,"d":"21 "},"-","-","-","-","-","-","-",{"v":2,"d":"2 "},{"v":3,"d":"3 "},{"v":2,"d":"2 "},{"v":3,"d":"3 "},{"v":6,"d":"6 "},{"v":1,"d":"1 "},{"v":3,"d":"3 "},{"v":1,"d":"1 "},{"v":8,"d":"8 "},"-","-","-","-","-",{"v":1,"d":"1 "},"-",{"v":1,"d":"1 "},{"v":1,"d":"1 "},{"v":1,"d":"1 "},{"v":1,"d":"1 "},{"v":3,"d":"3 "},"-",{"$nulls":7},{"v":68,"d":"68 "},{"v":53,"d":"53 "},{"v":32,"d":"32 "},{"v":21,"d":"21 "},"-",{"v":2,"d":"2 "},{"v":5,"d":"5 "},{"v":8,"d":"8 "},{"v":20,"d":"20 "},"-","-","-","-",{"v":3,"d":"3 "},"-",{"v":16,"d":"16 "},"-","-","-","-",{"v":1,"d":"1 "},"-","-","-",{"v":20,"d":"20 "},{"v":1957,"d":"1,957 "},{"v":147,"d":"147 "},{"v":431,"d":"431 "},{"v":1379,"d":"1,379 "},31,25,14,11,"-","-",2,4,37,28,18,10,"-",2,3,4]
["山梨県","甲府市","上九一色村2-1",null,{"v":73,"d":"73 "},{"v":3,"d":"3 "},"-","-","-","-",{"v":3,"d":"3 "},{"v":70,"d":"70 "},{"v":8,"d":"8 "},"-","-","-","-",{"v":1,"d":"1 "},"-","-","-","-",{"v":2,"d":"2 "},{"v":2,"d":"2 "},{"v":3,"d":"3 "},"-","-","-",63.3,{"v":68,"d":"68.0"},60.4,{"v":4,"d":"4 "},"-","-","-","-","-","-","-","-","-","-",{"v":2,"d":"2 "},{"v":2,"d":"2 "},"-","-","-",{"v":69,"d":"69.0"},{"v":71,"d":"71.0"},{"v":67,"d":"67.0"},{"v":2,"d":"2 "},"-","-","-","-","-","-","-","-","-","-","-",{"v":2,"d":"2 "},"-","-","-",{"v":71,"d":"71.0"},{"v":71,"d":"71.0"},"-",{"v":3,"d":"3 "},"-","-","-","-","-","-","-","-","-",{"v":1,"d":"1 "},"-",{"v":2,"d":"2 "},"-","-","-",{"v":2,"d":"2 "},"-","-","-","-","-","-","-",{"v":1,"d":"1 "},"-",{"v":1,"d":"1 "},"-","-","-",{"$nulls":7},{"v":8,"d":"8 "},{"v":6,"d":"6 "},{"v":2,"d":"2 "},{"v":4,"d":"4 "},"-",{"v":1,"d":"1 "},"-",{"v":1,"d":"1 "},{"v":3,"d":"3 "},{"v":1,"d":"1 "},"-","-","-",{"v":1,"d":"1 "},"-","-","-",{"v":1,"d":"1 "},"-","-","-","-","-","-",{"v":3,"d":"3 "},{"v":165,"d":"165 "},{"v":70,"d":"70 "},{"v":85,"d":"85 "},{"v":10,"d":"10 "},3,3,2,1,"-","-","-","-",5,3,"-",3,"-",1,"-",1]
["山梨県","甲府市","上九一色村2-1","梯",{"v":13,"d":"13 "},"-","-","-","-","-","-",{"v":13,"d":"13 "},"-","-","-","-","-","-","-","-","-","-","-","-","-","-","-","-","…","…","…","-","-","-","-","-","-","-","-","-","-","-","-","-","-","-","-","…","…","…","-","-","-","-","-","-","-","-","-","-","-","-","-","-","-","-","…","…","…","-","-","-","-","-","-","-","-","-","-","-","-","-","-","-","-","-","-","-","-","-","-","-","-","-","-","-","-","-","-",{"$nulls":7},"-","-","-","-","-","-","-","-","-","-","-","-","-","-","-","-","-","-","-","-","-","-","-","-","-","-","-","-","-","-","-","-","-","-","-","-","-","-","-","-","-","-","-","-","-"]
["山梨県","甲府市","上九一色村2-1","飯田",{"v":21,"d":"21 "},"-","-","-","-","-","-",{"v":21,"d":"21 "},"-","-","-","-","-","-","-","-","-","-","-","-","-","-","-","-","…","…","…","-","-","-","-","-","-","-","-","-","-","-","-","-","-","-","-","…","…","…","-","-","-","-","-","-","-","-","-","-","-","-","-","-","-","-","…","…","…","-","-","-","-","-","-","-","-","-","-","-","-","-","-","-","-","-","-","-","-","-","-","-","-","-","-","-","-","-","-",{"$nulls":7},"-","-","-","-","-","-","-","-","-","-","-","-","-","-","-","-","-","-","-","-","-","-","-","-","-","-","-","-","-","-","-","-","-","-","-","-","-","-","-","-","-","-","-","-","-"]
["山梨県","甲府市","上九一色村2-1","本郷",{"v":20,"d":"20 "},{"v":2,"d":"2 "},"x","x","x","x","x",{"v":18,"d":"18 "},"x","x","x","x","x","x","x","x","x","x","x","x","x","x","x","x",58.8,{"v":66,"d":"66.0"},{"v":54,"d":"54.0"},"x","x","x","x","x","x","x","x","x","x","x","x","x","x","x","x",67.5,{"v":70,"d":"70.0"},{"v":65,"d":"65.0"},"x","x","x","x","x","x","x","x","x","x","x","x","x","x","x","x",{"v":70,"d":"70.0"},{"v":70,"d":"70.0"},"…",{"v":2,"d":"2 "},"-","-","-","-","-","-","-","-","-",{"v":1,"d":"1 "},"-",{"v":1,"d":"1 "},"-","-","-",{"v":2,"d":"2 "},"-","-","-","-","-","-","-",{"v":1,"d":"1 "},"-",{"v":1,"d":"1 "},"-","-","-",{"$nulls":7},{"v":5,"d":"5 "},{"v":4,"d":"4 "},{"v":1,"d":"1 "},{"v":3,"d":"3 "},"-","-","-",{"v":1,"d":"1 "},{"v":2,"d":"2 "},{"v":1,"d":"1 "},"-","-","-","-","-","-","-",{"v":1,"d":"1 "},"-","-","-","-","-","-",{"v":2,"d":"2 "},{"v":90,"d":"90 "},{"v":45,"d":"45 "},{"v":35,"d":"35 "},{"v":10,"d":"10 "},2,2,1,1,"-","-","-","-",3,2,"-",2,"-","-","-",1]
["山梨県","甲府市","上九一色村2-1","平川",{"v":11,"d":"11 "},{"v":1,"d":"1 "},"x","x","x","x","x",{"v":10,"d":"10 "},"x","x","x","x","x","x","x","x","x","x","x","x","x","x","x","x",70.7,{"v":72,"d":"72.0"},{"v":70,"d":"70.0"},"x","x","x","x","x","x","x","x","x","x","x","x","x","x","x","x",70.5,{"v":72,"d":"72.0"},{"v":69,"d":"69.0"},"x","x","x","x","x","x","x","x","x","x","x","x","x","x","x","x",{"v":72,"d":"72.0"},{"v":72,"d":"72.0"},"…",{"v":1,"d":"1 "},"-","-","-","-","-","-","-","-","-","-","-",{"v":1,"d":"1 "},"-","-","-","-","-","-","-","-","-","-","-","-","-","-","-","-","-",{"$nulls":7},{"v":3,"d":"3 "},{"v":2,"d":"2 "},{"v":1,"d":"1 "},{"v":1,"d":"1 "},"-",{"v":1,"d":"1 "},"-","-",{"v":1,"d":"1 "},"-","-","-","-",{"v":1,"d":"1 "},"-","-","-","-","-","-","-","-","-","-",{"v":1,"d":"1 "},{"v":75,"d":"75 "},{"v":25,"d":"25 "},{"v":50,"d":"50 "},"-",1,1,1,"-","-","-","-","-",2,1,"-",1,"-",1,"-","-"]
["山梨県","甲府市","上九一色村2-1","入野",{"v":8,"d":"8 "},"-","-","-","-","-","-",{"v":8,"d":"8 "},"-","-","-","-","-","-","-","-","-","-","-","-","-","-","-","-","…","…","…","-","-","-","-","-","-","-","-","-","-","-","-","-","-","-","-","…","…","…","-","-","-","-","-","-","-","-","-","-","-","-","-","-","-","-","…","…","…","-","-","-","-","-","-","-","-","-","-","-","-","-","-","-","-","-","-","-","-","-","-","-","-","-","-","-","-","-","-",{"$nulls":7},"-","-","-","-","-","-","-","-","-","-","-","-","-","-","-","-","-","-","-","-","-","-","-","-","-","-","-","-","-","-","-","-","-","-","-","-","-","-","-","-","-","-","-","-","-"]
["山梨県","富士吉田市",null,null,{"v":733,"d":"733 "},{"v":118,"d":"118 "},{"v":10,"d":"10 "},{"v":9,"d":"9 "},{"v":26,"d":"26 "},{"v":8,"d":"8 "},{"v":82,"d":"82 "},{"v":615,"d":"615 "},{"v":378,"d":"378 "},{"v":18,"d":"18 "},{"v":25,"d":"25 "},{"v":20,"d":"20 "},{"v":13,"d":"13 "},{"v":22,"d":"22 "},{"v":20,"d":"20 "},{"v":28,"d":"28 "},{"v":35,"d":"35 "},{"v":35,"d":"35 "},{"v":34,"d":"34 "},{"v":41,"d":"41 "},{"v":26,"d":"26 "},{"v":31,"d":"31 "},{"v":26,"d":"26 "},{"v":4,"d":"4 "},53.3,51.6,55.5,{"v":144,"d":"144 "},{"v":4,"d":"4 "},"-",{"v":1,"d":"1 "},{"v":2,"d":"2 "},{"v":1,"d":"1 "},{"v":3,"d":"3 "},{"v":4,"d":"4 "},{"v":11,"d":"11 "},{"v":3,"d":"3 "},{"v":12,"d":"12 "},{"v":26,"d":"26 "},{"v":19,"d":"19 "},{"v":29,"d":"29 "},{"v":25,"d":"25 "},{"v":4,"d":"4 "},67.6,66.6,68.8,{"v":107,"d":"107 "},"-","-",{"v":1,"d":"1 "},{"v":1,"d":"1 "},{"v":1,"d":"1 "},{"v":2,"d":"2 "},{"v":4,"d":"4 "},{"v":7,"d":"7 "},{"v":3,"d":"3 "},{"v":10,"d":"10 "},{"v":20,"d":"20 "},{"v":16,"d":"16 "},{"v":21,"d":"21 "},{"v":20,"d":"20 "},{"v":1,"d":"1 "},68.8,69.2,67.8,{"v":118,"d":"118 "},"-","-","-","-",{"v":1,"d":"1 "},{"v":1,"d":"1 "},{"v":4,"d":"4 "},{"v":13,"d":"13 "},{"v":15,"d":"15 "},{"v":17,"d":"17 "},{"v":22,"d":"22 "},{"v":14,"d":"14 "},{"v":15,"d":"15 "},{"v":15,"d":"15 "},{"v":1,"d":"1 "},{"v":73,"d":"73 "},"-","-","-","-",{"v":2,"d":"2 "},{"v":6,"d":"6 "},{"v":7,"d":"7 "},{"v":6,"d":"6 "},{"v":13,"d":"13 "},{"v":12,"d":"12 "},{"v":13,"d":"13 "},{"v":13,"d":"13 "},{"v":1,"d":"1 "},{"$nulls":7},{"v":457,"d":"457 "},{"v":329,"d":"329 "},{"v":107,"d":"107 "},{"v":174,"d":"174 "},{"v":48,"d":"48 "},{"v":54,"d":"54 "},{"v":37,"d":"37 "},{"v":37,"d":"37 "},{"v":78,"d":"78 "},{"v":64,"d":"64 "},"-",{"v":2,"d":"2 "},"-",{"v":2,"d":"2 "},"-","-",{"v":7,"d":"7 "},{"v":3,"d":"3 "},"-","-","-","-","-","-",{"v":117,"d":"117 "},{"v":6995,"d":"6,995 "},{"v":4474,"d":"4,474 "},{"v":2454,"d":"2,454 "},{"v":67,"d":"67 "},237,203,74,100,29,"-",26,8,220,126,33,74,19,54,11,29]
["山梨県","富士吉田市","下吉田町",null,{"v":178,"d":"178 "},{"v":25,"d":"25 "},{"v":1,"d":"1 "},{"v":1,"d":"1 "},{"v":4,"d":"4 "},{"v":2,"d":"2 "},{"v":20,"d":"20 "},{"v":153,"d":"153 "},{"v":84,"d":"84 "},{"v":2,"d":"2 "},{"v":8,"d":"8 "},{"v":5,"d":"5 "},{"v":2,"d":"2 "},{"v":7,"d":"7 "},{"v":3,"d":"3 "},{"v":1,"d":"1 "},{"v":11,"d":"11 "},{"v":9,"d":"9 "},{"v":6,"d":"6 "},{"v":12,"d":"12 "},{"v":5,"d":"5 "},{"v":4,"d":"4 "},{"v":7,"d":"7 "},{"v":2,"d":"2 "},53.5,52.3,{"v":55,"d":"55.0"},{"v":32,"d":"32 "},"-","-","-","-","-","-","-",{"v":4,"d":"4 "},"-",{"v":2,"d":"2 "},{"v":9,"d":"9 "},{"v":4,"d":"4 "},{"v":4,"d":"4 "},{"v":7,"d":"7 "},{"v":2,"d":"2 "},71.2,72.1,70.3,{"v":22,"d":"22 "},"-","-","-","-","-","-","-",{"v":1,"d":"1 "},"-",{"v":2,"d":"2 "},{"v":7,"d":"7 "},{"v":4,"d":"4 "},{"v":3,"d":"3 "},{"v":5,"d":"5 "},"-",71.2,72.1,68.8,{"v":25,"d":"25 "},"-","-","-","-","-","-","-",{"v":3,"d":"3 "},{"v":2,"d":"2 "},{"v":5,"d":"5 "},{"v":5,"d":"5 "},{"v":3,"d":"3 "},{"v":2,"d":"2 "},{"v":5,"d":"5 "},"-",{"v":12,"d":"12 "},"-","-","-","-","-",{"v":1,"d":"1 "},{"v":1,"d":"1 "},{"v":1,"d":"1 "},{"v":2,"d":"2 "},{"v":1,"d":"1 "},{"v":1,"d":"1 "},{"v":5,"d":"5 "},"-",{"$nulls":7},{"v":93,"d":"93 "},{"v":73,"d":"73 "},{"v":22,"d":"22 "},{"v":39,"d":"39 "},{"v":12,"d":"12 "},{"v":9,"d":"9 "},{"v":5,"d":"5 "},{"v":6,"d":"6 "},{"v":15,"d":"15 "},{"v":11,"d":"11 "},"-","-","-","-","-","-",{"v":1,"d":"1 "},{"v":3,"d":"3 "},"-","-","-","-","-","-",{"v":24,"d":"24 "},{"v":1074,"d":"1,074 "},{"v":900,"d":"900 "},{"v":164,"d":"164 "},{"v":10,"d":"10 "},49,44,16,21,7,"-",4,1,44,29,6,18,5,9,1,5]
["山梨県","富士吉田市","下吉田町","下吉田横町",{"v":37,"d":"37 "},{"v":7,"d":"7 "},"-","-",{"v":1,"d":"1 "},"-",{"v":6,"d":"6 "},{"v":30,"d":"30 "},{"v":27,"d":"27 "},{"v":2,"d":"2 "},{"v":4,"d":"4 "},"-","-",{"v":2,"d":"2 "},{"v":1,"d":"1 "},"-",{"v":6,"d":"6 "},{"v":2,"d":"2 "},"-",{"v":4,"d":"4 "},{"v":2,"d":"2 "},{"v":1,"d":"1 "},{"v":2,"d":"2 "},{"v":1,"d":"1 "},51.6,49.9,53.5,{"v":11,"d":"11 "},"-","-","-","-","-","-","-",{"v":3,"d":"3 "},"-","-",{"v":3,"d":"3 "},{"v":1,"d":"1 "},{"v":1,"d":"1 "},{"v":2,"d":"2 "},{"v":1,"d":"1 "},69.1,76.3,{"v":65,"d":"65.0"},{"v":6,"d":"6 "},"-","-","-","-","-","-","-","-","-","-",{"v":2,"d":"2 "},{"v":1,"d":"1 "},{"v":1,"d":"1 "},{"v":2,"d":"2 "},"-",74.5,76.3,{"v":71,"d":"71.0"},{"v":7,"d":"7 "},"-","-","-","-","-","-","-","-",{"v":2,"d":"2 "},"-",{"v":2,"d":"2 "},{"v":1,"d":"1 "},"-",{"v":2,"d":"2 "},"-",{"v":4,"d":"4 "},"-","-","-","-","-","-",{"v":1,"d":"1 "},"-",{"v":1,"d":"1 "},"-","-",{"v":2,"d":"2 "},"-",{"$nulls":7},{"v":28,"d":"28 "},{"v":18,"d":"18 "},{"v":6,"d":"6 "},{"v":7,"d":"7 "},{"v":5,"d":"5 "},{"v":5,"d":"5 "},{"v":5,"d":"5 "},"-",{"v":3,"d":"3 "},{"v":2,"d":"2 "},"-","-","-","-","-","-","-",{"v":1,"d":"1 "},"-","-","-","-","-","-",{"v":6,"d":"6 "},{"v":239,"d":"239 "},{"v":184,"d":"184 "},{"v":55,"d":"55 "},"-",14,10,4,3,3,"-",4,"-",14,8,2,4,2,5,1,"-"]
["山梨県","富士吉田市","下吉田町","西町",{"v":1,"d":"1 "},"-","-","-","-","-","-",{"v":1,"d":"1 "},"-","-","-","-","-","-","-","-","-","-","-","-","-","-","-","-","…","…","…","-","-","-","-","-","-","-","-","-","-","-","-","-","-","-","-","…","…","…","-","-","-","-","-","-","-","-","-","-","-","-","-","-","-","-","…","…","…","-","-","-","-","-","-","-","-","-","-","-","-","-","-","-","-","-","-","-","-","-","-","-","-","-","-","-","-","-","-",{"$nulls":7},"-","-","-","-","-","-","-","-","-","-","-","-","-","-","-","-","-","-","-","-","-","-","-","-","-","-","-","-","-","-","-","-","-","-","-","-","-","-","-","-","-","-","-","-","-"]
["山梨県","富士吉田市","下吉田町","本町，泉町",{"v":6,"d":"6 "},"-","-","-","-","-","-",{"v":6,"d":"6 "},"-","-","-","-","-","-","-","-","-","-","-","-","-","-","-","-","…","…","…","-","-","-","-","-","-","-","-","-","-","-","-","-","-","-","-","…","…","…","-","-","-","-","-","-","-","-","-","-","-","-","-","-","-","-","…","…","…","-","-","-","-","-","-","-","-","-","-","-","-","-","-","-","-","-","-","-","-","-","-","-","-","-","-","-","-","-","-",{"$nulls":7},"-","-","-","-","-","-","-","-","-","-","-","-","-","-","-","-","-","-","-","-","-","-","-","-","-","-","-","-","-","-","-","-","-","-","-","-","-","-","-","-","-","-","-","-","-"]
["山梨県","富士吉田市","下吉田町","しんや",{"v":1,"d":"1 "},"-","-","-","-","-","-",{"v":1,"d":"1 "},"-","-","-","-","-","-","-","-","-","-","-","-","-","-","-","-","…","…","…","-","-","-","-","-","-","-","-","-","-","-","-","-","-","-","-","…","…","…","-","-","-","-","-","-","-","-","-","-","-","-","-","-","-","-","…","…","…","-","-","-","-","-","-","-","-","-","-","-","-","-","-","-","-","-","-","-","-","-","-","-","-","-","-","-","-","-","-",{"$nulls":7},"-","-","-","-","-","-","-","-","-","-","-","-","-","-","-","-","-","-","-","-","-","-","-","-","-","-","-","-","-","-","-","-","-","-","-","-","-","-","-","-","-","-","-","-","-"]
["山梨県","富士吉田市","下吉田町","中央東",{"v":9,"d":"9 "},{"v":2,"d":"2 "},"x","x","x","x","x",{"v":7,"d":"7 "},"x","x","x","x","x","x","x","x","x","x","x","x","x","x","x","x",43.5,46.5,37.5,"x","x","x","x","x","x","x","x","x","x","x","x","x","x","x","x",68.5,68.5,"…","x","x","x","x","x","x","x","x","x","x","x","x","x","x","x","x",68.5,68.5,"…",{"v":2,"d":"2 "},"-","-","-","-","-","-","-",{"v":1,"d":"1 "},"-","-","-","-","-",{"v":1,"d":"1 "},"-",{"v":2,"d":"2 "},"-","-","-","-","-",{"v":1,"d":"1 "},"-","-","-","-","-",{"v":1,"d":"1 "},"-",{"$nulls":7},{"v":6,"d":"6 "},{"v":6,"d":"6 "},{"v":2,"d":"2 "},{"v":4,"d":"4 "},"-","-","-","-",{"v":2,"d":"2 "},{"v":2,"d":"2 "},"-","-","-","-","-","-","-","-","-","-","-","-","-","-",{"v":2,"d":"2 "},{"v":100,"d":"100 "},{"v":95,"d":"95 "},{"v":5,"d":"5 "},"-",4,4,2,2,"-","-","-","-",2,2,"-",2,"-","-","-","-"]
["山梨県","富士吉田市","下吉田町","中央西北",{"v":3,"d":"3 "},"-","-","-","-","-","-",{"v":3,"d":"3 "},"-","-","-","-","-","-","-","-","-","-","-","-","-","-","-","-","…","…","…","-","-","-","-","-","-","-","-","-","-","-","-","-","-","-","-","…","…","…","-","-","-","-","-","-","-","-","-","-","-","-","-","-","-","-","…","…","…","-","-","-","-","-","-","-","-","-","-","-","-","-","-","-","-","-","-","-","-","-","-","-","-","-","-","-","-","-","-",{"$nulls":7},"-","-","-","-","-","-","-","-","-","-","-","-","-","-","-","-","-","-","-","-","-","-","-","-","-","-","-","-","-","-","-","-","-","-","-","-","-","-","-","-","-","-","-","-","-"]
["山梨県","富士吉田市","下吉田町","幸町",{"v":5,"d":"5 "},"-","-","-","-","-","-",{"v":5,"d":"5 "},"-","-","-","-","-","-","-","-","-","-","-","-","-","-","-","-","…","…","…","-","-","-","-","-","-","-","-","-","-","-","-","-","-","-","-","…","…","…","-","-","-","-","-","-","-","-","-","-","-","-","-","-","-","-","…","…","…","-","-","-","-","-","-","-","-","-","-","-","-","-","-","-","-","-","-","-","-","-","-","-","-","-","-","-","-","-","-",{"$nulls":7},"-","-","-","-","-","-","-","-","-","-","-","-","-","-","-","-","-","-","-","-","-","-","-","-","-","-","-","-","-","-","-","-","-","-","-","-","-","-","-","-","-","-","-","-","-"]
["山梨県","富士吉田市","下吉田町","下吉田上",{"v":19,"d":"19 "},{"v":3,"d":"3 "},"-","-",{"v":1,"d":"1 "},{"v":1,"d":"1 "},{"v":2,"d":"2 "},{"v":16,"d":"16 "},{"v":10,"d":"10 "},"-","-",{"v":2,"d":"2 "},"-",{"v":1,"d":"1 "},{"v":1,"d":"1 "},"-","-",{"v":1,"d":"1 "},{"v":1,"d":"1 "},{"v":2,"d":"2 "},{"v":1,"d":"1 "},{"v":1,"d":"1 "},"-","-",53.1,54.6,51.6,{"v":5,"d":"5 "},"-","-","-","-","-","-","-","-","-",{"v":1,"d":"1 "},{"v":2,"d":"2 "},{"v":1,"d":"1 "},{"v":1,"d":"1 "},"-","-",68.4,68.7,{"v":68,"d":"68.0"},{"v":4,"d":"4 "},"-","-","-","-","-","-","-","-","-",{"v":1,"d":"1 "},{"v":1,"d":"1 "},{"v":1,"d":"1 "},{"v":1,"d":"1 "},"-","-",68.3,68.7,{"v":67,"d":"67.0"},{"v":3,"d":"3 "},"-","-","-","-","-","-","-","-","-",{"v":1,"d":"1 "},"-",{"v":1,"d":"1 "},{"v":1,"d":"1 "},"-","-",{"v":2,"d":"2 "},"-","-","-","-","-","-","-",{"v":1,"d":"1 "},"-",{"v":1,"d":"1 "},"-","-","-",{"$nulls":7},{"v":11,"d":"11 "},{"v":10,"d":"10 "},{"v":4,"d":"4 "},{"v":5,"d":"5 "},{"v":1,"d":"1 "},{"v":1,"d":"1 "},"-","-",{"v":2,"d":"2 "},{"v":1,"d":"1 "},"-","-","-","-","-","-","-",{"v":1,"d":"1 "},"-","-","-","-","-","-",{"v":3,"d":"3 "},{"v":153,"d":"153 "},{"v":125,"d":"125 "},{"v":28,"d":"28 "},"-",6,6,3,3,"-","-","-","-",5,4,1,2,1,1,"-","-"]
["山梨県","富士吉田市","下吉田町","新倉",{"v":30,"d":"30 "},{"v":1,"d":"1 "},"x","x","x","x","x",{"v":29,"d":"29 "},"x","x","x","x","x","x","x","x","x","x","x","x","x","x","x","x",{"v":70,"d":"70.0"},70.5,69.5,"x","x","x","x","x","x","x","x","x","x","x","x","x","x","x","x",{"v":83,"d":"83.0"},{"v":84,"d":"84.0"},{"v":82,"d":"82.0"},"x","x","x","x","x","x","x","x","x","x","x","x","x","x","x","x",{"v":84,"d":"84.0"},{"v":84,"d":"84.0"},"…",{"v":1,"d":"1 "},"-","-","-","-","-","-","-","-","-","-","-","-","-",{"v":1,"d":"1 "},"-",{"v":1,"d":"1 "},"-","-","-","-","-","-","-","-","-","-","-",{"v":1,"d":"1 "},"-",{"$nulls":7},{"v":5,"d":"5 "},{"v":4,"d":"4 "},{"v":1,"d":"1 "},{"v":1,"d":"1 "},{"v":2,"d":"2 "},"-","-",{"v":1,"d":"1 "},"-","-","-","-","-","-","-","-","-","-","-","-","-","-","-","-",{"v":1,"d":"1 "},{"v":35,"d":"35 "},{"v":10,"d":"10 "},{"v":25,"d":"25 "},"-",3,3,1,1,1,"-","-","-",2,1,"-","-",1,"-","-",1]
["山梨県","富士吉田市","下吉田町","浅間町",{"v":12,"d":"12 "},{"v":3,"d":"3 "},"-","-","-","-",{"v":3,"d":"3 "},{"v":9,"d":"9 "},{"v":15,"d":"15 "},"-",{"v":2,"d":"2 "},{"v":2,"d":"2 "},{"v":1,"d":"1 "},"-","-",{"v":1,"d":"1 "},{"v":1,"d":"1 "},{"v":3,"d":"3 "},{"v":1,"d":"1 "},"-","-",{"v":2,"d":"2 "},{"v":1,"d":"1 "},{"v":1,"d":"1 "},52.2,50.4,54.3,{"v":4,"d":"4 "},"-","-","-","-","-","-","-","-","-","-","-","-",{"v":2,"d":"2 "},{"v":1,"d":"1 "},{"v":1,"d":"1 "},81.3,79.5,{"v":83,"d":"83.0"},{"v":2,"d":"2 "},"-","-","-","-","-","-","-","-","-","-","-","-",{"v":1,"d":"1 "},{"v":1,"d":"1 "},"-",79.5,79.5,"…",{"v":3,"d":"3 "},"-","-","-","-","-","-","-","-","-",{"v":1,"d":"1 "},"-","-",{"v":1,"d":"1 "},{"v":1,"d":"1 "},"-",{"v":2,"d":"2 "},"-","-","-","-","-","-","-","-","-","-",{"v":1,"d":"1 "},{"v":1,"d":"1 "},"-",{"$nulls":7},{"v":15,"d":"15 "},{"v":13,"d":"13 "},{"v":2,"d":"2 "},{"v":11,"d":"11 "},"-",{"v":1,"d":"1 "},"-",{"v":1,"d":"1 "},{"v":1,"d":"1 "},{"v":1,"d":"1 "},"-","-","-","-","-","-","-","-","-","-","-","-","-","-",{"v":3,"d":"3 "},{"v":116,"d":"116 "},{"v":103,"d":"103 "},{"v":13,"d":"13 "},"-",8,8,2,6,"-","-","-","-",7,5,"-",5,"-",1,"-",1]
["山梨県","富士吉田市","下吉田町","新町",{"v":13,"d":"13 "},{"v":1,"d":"1 "},"x","x","x","x","x",{"v":12,"d":"12 "},"x","x","x","x","x","x","x","x","x","x","x","x","x","x","x","x",{"v":67,"d":"67.0"},{"v":53,"d":"53.0"},{"v":81,"d":"81.0"},"x","x","x","x","x","x","x","x","x","x","x","x","x","x","x","x",{"v":81,"d":"81.0"},"…",{"v":81,"d":"81.0"},"x","x","x","x","x","x","x","x","x","x","x","x","x","x","x","x","…","…","…",{"v":1,"d":"1 "},"-","-","-","-","-","-","-",{"v":1,"d":"1 "},"-","-","-","-","-","-","-","-","-","-","-","-","-","-","-","-","-","-","-","-","-",{"$nulls":7},{"v":2,"d":"2 "},{"v":1,"d":"1 "},"-","-",{"v":1,"d":"1 "},{"v":1,"d":"1 "},"-","-",{"v":1,"d":"1 "},{"v":1,"d":"1 "},"-","-","-","-","-","-","-","-","-","-","-","-","-","-",{"v":1,"d":"1 "},{"v":30,"d":"30 "},{"v":30,"d":"30 "},"-","-",1,1,"-","-",1,"-","-","-",1,"-","-","-","-",1,"-","-"]
["山梨県","富士吉田市","下吉田町","宮下町",{"v":1,"d":"1 "},"-","-","-","-","-","-",{"v":1,"d":"1 "},"-","-","-","-","-","-","-","-","-","-","-","-","-","-","-","-","…","…","…","-","-","-","-","-","-","-","-","-","-","-","-","-","-","-","-","…","…","…","-","-","-","-","-","-","-","-","-","-","-","-","-","-","-","-","…","…","…","-","-","-","-","-","-","-","-","-","-","-","-","-","-","-","-","-","-","-","-","-","-","-","-","-","-","-","-","-","-",{"$nulls":7},"-","-","-","-","-","-","-","-","-","-","-","-","-","-","-","-","-","-","-","-","-","-","-","-","-","-","-","-","-","-","-","-","-","-","-","-","-","-","-","-","-","-","-","-","-"]
["山梨県","富士吉田市","下吉田町","富士見町",{"v":41,"d":"41 "},{"v":8,"d":"8 "},{"v":1,"d":"1 "},{"v":1,"d":"1 "},{"v":1,"d":"1 "},"-",{"v":6,"d":"6 "},{"v":33,"d":"33 "},{"v":20,"d":"20 "},"-","-","-",{"v":1,"d":"1 "},{"v":4,"d":"4 "},{"v":1,"d":"1 "},"-",{"v":1,"d":"1 "},{"v":1,"d":"1 "},{"v":4,"d":"4 "},{"v":6,"d":"6 "},{"v":2,"d":"2 "},"-","-","-",55.8,54.5,57.6,{"v":7,"d":"7 "},"-","-","-","-","-","-","-","-","-",{"v":1,"d":"1 "},{"v":4,"d":"4 "},{"v":2,"d":"2 "},"-","-","-",66.6,65.5,{"v":68,"d":"68.0"},{"v":7,"d":"7 "},"-","-","-","-","-","-","-","-","-",{"v":1,"d":"1 "},{"v":4,"d":"4 "},{"v":2,"d":"2 "},"-","-","-",66.6,65.5,{"v":68,"d":"68.0"},{"v":8,"d":"8 "},"-","-","-","-","-","-","-",{"v":1,"d":"1 "},"-",{"v":3,"d":"3 "},{"v":3,"d":"3 "},{"v":1,"d":"1 "},"-","-","-",{"v":1,"d":"1 "},"-","-","-","-","-","-","-","-",{"v":1,"d":"1 "},"-","-","-","-",{"$nulls":7},{"v":26,"d":"26 "},{"v":21,"d":"21 "},{"v":7,"d":"7 "},{"v":11,"d":"11 "},{"v":3,"d":"3 "},{"v":1,"d":"1 "},"-",{"v":4,"d":"4 "},{"v":6,"d":"6 "},{"v":4,"d":"4 "},"-","-","-","-","-","-",{"v":1,"d":"1 "},{"v":1,"d":"1 "},"-","-","-","-","-","-",{"v":8,"d":"8 "},{"v":401,"d":"401 "},{"v":353,"d":"353 "},{"v":38,"d":"38 "},{"v":10,"d":"10 "},13,12,4,6,2,"-","-",1,13,9,3,5,1,1,"-",3]
["山梨県","富士吉田市","明見町",null,{"v":316,"d":"316 "},{"v":42,"d":"42 "},{"v":3,"d":"3 "},{"v":3,"d":"3 "},{"v":8,"d":"8 "},{"v":2,"d":"2 "},{"v":31,"d":"31 "},{"v":274,"d":"274 "},{"v":128,"d":"128 "},{"v":6,"d":"6 "},{"v":6,"d":"6 "},{"v":8,"d":"8 "},{"v":3,"d":"3 "},{"v":5,"d":"5 "},{"v":9,"d":"9 "},{"v":13,"d":"13 "},{"v":14,"d":"14 "},{"v":10,"d":"10 "},{"v":12,"d":"12 "},{"v":16,"d":"16 "},{"v":6,"d":"6 "},{"v":11,"d":"11 "},{"v":9,"d":"9 "},"-",53.5,52.1,55.9,{"v":43,"d":"43 "},{"v":4,"d":"4 "},"-",{"v":1,"d":"1 "},"-","-",{"v":2,"d":"2 "},"-",{"v":2,"d":"2 "},{"v":2,"d":"2 "},{"v":4,"d":"4 "},{"v":7,"d":"7 "},{"v":2,"d":"2 "},{"v":10,"d":"10 "},{"v":9,"d":"9 "},"-",64.3,{"v":62,"d":"62.0"},68.7,{"v":28,"d":"28 "},"-","-",{"v":1,"d":"1 "},"-","-",{"v":1,"d":"1 "},"-",{"v":1,"d":"1 "},{"v":2,"d":"2 "},{"v":3,"d":"3 "},{"v":5,"d":"5 "},{"v":2,"d":"2 "},{"v":6,"d":"6 "},{"v":7,"d":"7 "},"-",69.3,69.5,{"v":68,"d":"68.0"},{"v":42,"d":"42 "},"-","-","-","-","-",{"v":1,"d":"1 "},{"v":1,"d":"1 "},{"v":3,"d":"3 "},{"v":6,"d":"6 "},{"v":4,"d":"4 "},{"v":12,"d":"12 "},{"v":3,"d":"3 "},{"v":5,"d":"5 "},{"v":7,"d":"7 "},"-",{"v":28,"d":"28 "},"-","-","-","-",{"v":1,"d":"1 "},{"v":2,"d":"2 "},{"v":3,"d":"3 "},{"v":1,"d":"1 "},{"v":8,"d":"8 "},{"v":3,"d":"3 "},{"v":4,"d":"4 "},{"v":6,"d":"6 "},"-",{"$nulls":7},{"v":167,"d":"167 "},{"v":117,"d":"117 "},{"v":28,"d":"28 "},{"v":63,"d":"63 "},{"v":26,"d":"26 "},{"v":21,"d":"21 "},{"v":14,"d":"14 "},{"v":15,"d":"15 "},{"v":24,"d":"24 "},{"v":23,"d":"23 "},"-","-","-","-","-","-",{"v":1,"d":"1 "},"-","-","-","-","-","-","-",{"v":42,"d":"42 "},{"v":1867,"d":"1,867 "},{"v":1520,"d":"1,520 "},{"v":336,"d":"336 "},{"v":11,"d":"11 "},89,77,24,39,14,"-",10,2,78,40,4,24,12,21,4,13]
["山梨県","富士吉田市","明見町","大明見",{"v":127,"d":"127 "},{"v":15,"d":"15 "},"-","-",{"v":2,"d":"2 "},{"v":1,"d":"1 "},{"v":13,"d":"13 "},{"v":112,"d":"112 "},{"v":45,"d":"45 "},{"v":4,"d":"4 "},{"v":1,"d":"1 "},{"v":2,"d":"2 "},{"v":1,"d":"1 "},{"v":3,"d":"3 "},{"v":4,"d":"4 "},{"v":4,"d":"4 "},{"v":4,"d":"4 "},{"v":2,"d":"2 "},{"v":5,"d":"5 "},{"v":6,"d":"6 "},"-",{"v":4,"d":"4 "},{"v":5,"d":"5 "},"-",53.2,51.3,56.6,{"v":18,"d":"18 "},{"v":4,"d":"4 "},"-","-","-","-",{"v":1,"d":"1 "},"-",{"v":1,"d":"1 "},"-",{"v":1,"d":"1 "},{"v":2,"d":"2 "},"-",{"v":4,"d":"4 "},{"v":5,"d":"5 "},"-",59.4,54.8,66.7,{"v":8,"d":"8 "},"-","-","-","-","-","-","-","-","-",{"v":1,"d":"1 "},{"v":2,"d":"2 "},"-",{"v":1,"d":"1 "},{"v":4,"d":"4 "},"-",74.5,76.6,{"v":60,"d":"60.0"},{"v":15,"d":"15 "},"-","-","-","-","-",{"v":1,"d":"1 "},"-",{"v":1,"d":"1 "},{"v":1,"d":"1 "},{"v":1,"d":"1 "},{"v":6,"d":"6 "},"-",{"v":1,"d":"1 "},{"v":4,"d":"4 "},"-",{"v":8,"d":"8 "},"-","-","-","-","-",{"v":1,"d":"1 "},"-","-",{"v":3,"d":"3 "},"-",{"v":1,"d":"1 "},{"v":3,"d":"3 "},"-",{"$nulls":7},{"v":59,"d":"59 "},{"v":40,"d":"40 "},{"v":8,"d":"8 "},{"v":27,"d":"27 "},{"v":5,"d":"5 "},{"v":9,"d":"9 "},{"v":4,"d":"4 "},{"v":6,"d":"6 "},{"v":5,"d":"5 "},{"v":5,"d":"5 "},"-","-","-","-","-","-","-","-","-","-","-","-","-","-",{"v":15,"d":"15 "},{"v":641,"d":"641 "},{"v":530,"d":"530 "},{"v":101,"d":"101 "},{"v":10,"d":"10 "},31,27,7,17,3,"-",4,"-",28,13,1,10,2,9,"-",6]
["山梨県","富士吉田市","明見町","新田",{"v":109,"d":"109 "},{"v":11,"d":"11 "},{"v":1,"d":"1 "},{"v":1,"d":"1 "},{"v":2,"d":"2 "},"-",{"v":8,"d":"8 "},{"v":98,"d":"98 "},{"v":34,"d":"34 "},{"v":2,"d":"2 "},{"v":3,"d":"3 "},{"v":1,"d":"1 "},{"v":1,"d":"1 "},{"v":1,"d":"1 "},{"v":1,"d":"1 "},{"v":2,"d":"2 "},{"v":5,"d":"5 "},{"v":4,"d":"4 "},{"v":4,"d":"4 "},{"v":5,"d":"5 "},{"v":2,"d":"2 "},{"v":2,"d":"2 "},{"v":1,"d":"1 "},"-",52.3,49.1,57.5,{"v":8,"d":"8 "},"-","-","-","-","-","-","-",{"v":1,"d":"1 "},"-",{"v":2,"d":"2 "},{"v":2,"d":"2 "},{"v":1,"d":"1 "},{"v":1,"d":"1 "},{"v":1,"d":"1 "},"-",67.8,69.3,{"v":63,"d":"63.0"},{"v":7,"d":"7 "},"-","-","-","-","-","-","-",{"v":1,"d":"1 "},"-",{"v":2,"d":"2 "},{"v":1,"d":"1 "},{"v":1,"d":"1 "},{"v":1,"d":"1 "},{"v":1,"d":"1 "},"-",{"v":68,"d":"68.0"},69.3,{"v":60,"d":"60.0"},{"v":11,"d":"11 "},"-","-","-","-","-","-","-",{"v":2,"d":"2 "},{"v":1,"d":"1 "},{"v":2,"d":"2 "},{"v":3,"d":"3 "},{"v":1,"d":"1 "},{"v":1,"d":"1 "},{"v":1,"d":"1 "},"-",{"v":7,"d":"7 "},"-","-","-","-","-",{"v":1,"d":"1 "},"-",{"v":1,"d":"1 "},{"v":2,"d":"2 "},{"v":1,"d":"1 "},{"v":1,"d":"1 "},{"v":1,"d":"1 "},"-",{"$nulls":7},{"v":45,"d":"45 "},{"v":31,"d":"31 "},{"v":7,"d":"7 "},{"v":16,"d":"16 "},{"v":8,"d":"8 "},{"v":5,"d":"5 "},{"v":3,"d":"3 "},{"v":6,"d":"6 "},{"v":6,"d":"6 "},{"v":6,"d":"6 "},"-","-","-","-","-","-","-","-","-","-","-","-","-","-",{"v":11,"d":"11 "},{"v":532,"d":"532 "},{"v":417,"d":"417 "},{"v":115,"d":"115 "},"-",23,20,6,10,4,"-",2,1,22,11,1,6,4,5,1,5]
["山梨県","富士吉田市","明見町","古屋",{"v":80,"d":"80 "},{"v":16,"d":"16 "},{"v":2,"d":"2 "},{"v":2,"d":"2 "},{"v":4,"d":"4 "},{"v":1,"d":"1 "},{"v":10,"d":"10 "},{"v":64,"d":"64 "},{"v":49,"d":"49 "},"-",{"v":2,"d":"2 "},{"v":5,"d":"5 "},{"v":1,"d":"1 "},{"v":1,"d":"1 "},{"v":4,"d":"4 "},{"v":7,"d":"7 "},{"v":5,"d":"5 "},{"v":4,"d":"4 "},{"v":3,"d":"3 "},{"v":5,"d":"5 "},{"v":4,"d":"4 "},{"v":5,"d":"5 "},{"v":3,"d":"3 "},"-",54.7,54.9,54.4,{"v":17,"d":"17 "},"-","-",{"v":1,"d":"1 "},"-","-",{"v":1,"d":"1 "},"-","-",{"v":2,"d":"2 "},{"v":1,"d":"1 "},{"v":3,"d":"3 "},{"v":1,"d":"1 "},{"v":5,"d":"5 "},{"v":3,"d":"3 "},"-",67.9,65.2,72.8,{"v":13,"d":"13 "},"-","-",{"v":1,"d":"1 "},"-","-",{"v":1,"d":"1 "},"-","-",{"v":2,"d":"2 "},"-",{"v":2,"d":"2 "},{"v":1,"d":"1 "},{"v":4,"d":"4 "},{"v":2,"d":"2 "},"-",66.8,65.2,{"v":76,"d":"76.0"},{"v":16,"d":"16 "},"-","-","-","-","-","-",{"v":1,"d":"1 "},"-",{"v":4,"d":"4 "},{"v":1,"d":"1 "},{"v":3,"d":"3 "},{"v":2,"d":"2 "},{"v":3,"d":"3 "},{"v":2,"d":"2 "},"-",{"v":13,"d":"13 "},"-","-","-","-",{"v":1,"d":"1 "},"-",{"v":3,"d":"3 "},"-",{"v":3,"d":"3 "},{"v":2,"d":"2 "},{"v":2,"d":"2 "},{"v":2,"d":"2 "},"-",{"$nulls":7},{"v":63,"d":"63 "},{"v":46,"d":"46 "},{"v":13,"d":"13 "},{"v":20,"d":"20 "},{"v":13,"d":"13 "},{"v":7,"d":"7 "},{"v":7,"d":"7 "},{"v":3,"d":"3 "},{"v":13,"d":"13 "},{"v":12,"d":"12 "},"-","-","-","-","-","-",{"v":1,"d":"1 "},"-","-","-","-","-","-","-",{"v":16,"d":"16 "},{"v":694,"d":"694 "},{"v":573,"d":"573 "},{"v":120,"d":"120 "},{"v":1,"d":"1 "},35,30,11,12,7,"-",4,1,28,16,2,8,6,7,3,2]
["山梨県","富士吉田市","富士上吉田町",null,{"v":170,"d":"170 "},{"v":45,"d":"45 "},{"v":6,"d":"6 "},{"v":5,"d":"5 "},{"v":13,"d":"13 "},{"v":4,"d":"4 "},{"v":26,"d":"26 "},{"v":125,"d":"125 "},{"v":146,"d":"146 "},{"v":7,"d":"7 "},{"v":8,"d":"8 "},{"v":7,"d":"7 "},{"v":8,"d":"8 "},{"v":9,"d":"9 "},{"v":8,"d":"8 "},{"v":11,"d":"11 "},{"v":9,"d":"9 "},{"v":15,"d":"15 "},{"v":16,"d":"16 "},{"v":12,"d":"12 "},{"v":13,"d":"13 "},{"v":12,"d":"12 "},{"v":9,"d":"9 "},{"v":2,"d":"2 "},53.4,50.7,56.4,{"v":62,"d":"62 "},"-","-","-",{"v":2,"d":"2 "},{"v":1,"d":"1 "},{"v":1,"d":"1 "},{"v":4,"d":"4 "},{"v":5,"d":"5 "},{"v":1,"d":"1 "},{"v":6,"d":"6 "},{"v":9,"d":"9 "},{"v":11,"d":"11 "},{"v":11,"d":"11 "},{"v":9,"d":"9 "},{"v":2,"d":"2 "},67.3,66.9,67.8,{"v":54,"d":"54 "},"-","-","-",{"v":1,"d":"1 "},{"v":1,"d":"1 "},{"v":1,"d":"1 "},{"v":4,"d":"4 "},{"v":5,"d":"5 "},{"v":1,"d":"1 "},{"v":5,"d":"5 "},{"v":8,"d":"8 "},{"v":9,"d":"9 "},{"v":10,"d":"10 "},{"v":8,"d":"8 "},{"v":1,"d":"1 "},67.1,66.9,67.4,{"v":45,"d":"45 "},"-","-","-","-",{"v":1,"d":"1 "},"-",{"v":2,"d":"2 "},{"v":7,"d":"7 "},{"v":6,"d":"6 "},{"v":8,"d":"8 "},{"v":5,"d":"5 "},{"v":6,"d":"6 "},{"v":6,"d":"6 "},{"v":3,"d":"3 "},{"v":1,"d":"1 "},{"v":28,"d":"28 "},"-","-","-","-",{"v":1,"d":"1 "},{"v":3,"d":"3 "},{"v":2,"d":"2 "},{"v":4,"d":"4 "},{"v":3,"d":"3 "},{"v":6,"d":"6 "},{"v":6,"d":"6 "},{"v":2,"d":"2 "},{"v":1,"d":"1 "},{"$nulls":7},{"v":173,"d":"173 "},{"v":126,"d":"126 "},{"v":54,"d":"54 "},{"v":64,"d":"64 "},{"v":8,"d":"8 "},{"v":18,"d":"18 "},{"v":14,"d":"14 "},{"v":15,"d":"15 "},{"v":35,"d":"35 "},{"v":26,"d":"26 "},"-",{"v":2,"d":"2 "},"-",{"v":2,"d":"2 "},"-","-",{"v":5,"d":"5 "},"-","-","-","-","-","-","-",{"v":45,"d":"45 "},{"v":3817,"d":"3,817 "},{"v":1892,"d":"1,892 "},{"v":1886,"d":"1,886 "},{"v":39,"d":"39 "},86,72,31,35,6,"-",10,4,87,54,23,29,2,18,4,11]
["山梨県","富士吉田市","富士上吉田町","新屋",{"v":101,"d":"101 "},{"v":33,"d":"33 "},{"v":6,"d":"6 "},{"v":5,"d":"5 "},{"v":10,"d":"10 "},{"v":4,"d":"4 "},{"v":17,"d":"17 "},{"v":68,"d":"68 "},{"v":108,"d":"108 "},{"v":4,"d":"4 "},{"v":7,"d":"7 "},{"v":3,"d":"3 "},{"v":7,"d":"7 "},{"v":8,"d":"8 "},{"v":7,"d":"7 "},{"v":9,"d":"9 "},{"v":8,"d":"8 "},{"v":10,"d":"10 "},{"v":11,"d":"11 "},{"v":8,"d":"8 "},{"v":12,"d":"12 "},{"v":9,"d":"9 "},{"v":5,"d":"5 "},"-",52.8,{"v":50,"d":"50.0"},56.2,{"v":48,"d":"48 "},"-","-","-",{"v":2,"d":"2 "},{"v":1,"d":"1 "},{"v":1,"d":"1 "},{"v":4,"d":"4 "},{"v":5,"d":"5 "},{"v":1,"d":"1 "},{"v":5,"d":"5 "},{"v":6,"d":"6 "},{"v":10,"d":"10 "},{"v":8,"d":"8 "},{"v":5,"d":"5 "},"-",64.8,{"v":65,"d":"65.0"},64.5,{"v":44,"d":"44 "},"-","-","-",{"v":1,"d":"1 "},{"v":1,"d":"1 "},{"v":1,"d":"1 "},{"v":4,"d":"4 "},{"v":5,"d":"5 "},{"v":1,"d":"1 "},{"v":4,"d":"4 "},{"v":6,"d":"6 "},{"v":8,"d":"8 "},{"v":8,"d":"8 "},{"v":5,"d":"5 "},"-",65.3,{"v":65,"d":"65.0"},65.6,{"v":33,"d":"33 "},"-","-","-","-",{"v":1,"d":"1 "},"-",{"v":2,"d":"2 "},{"v":6,"d":"6 "},{"v":4,"d":"4 "},{"v":6,"d":"6 "},{"v":3,"d":"3 "},{"v":5,"d":"5 "},{"v":5,"d":"5 "},{"v":1,"d":"1 "},"-",{"v":22,"d":"22 "},"-","-","-","-",{"v":1,"d":"1 "},{"v":3,"d":"3 "},{"v":1,"d":"1 "},{"v":4,"d":"4 "},{"v":2,"d":"2 "},{"v":5,"d":"5 "},{"v":5,"d":"5 "},{"v":1,"d":"1 "},"-",{"$nulls":7},{"v":124,"d":"124 "},{"v":95,"d":"95 "},{"v":44,"d":"44 "},{"v":46,"d":"46 "},{"v":5,"d":"5 "},{"v":13,"d":"13 "},{"v":9,"d":"9 "},{"v":7,"d":"7 "},{"v":26,"d":"26 "},{"v":17,"d":"17 "},"-",{"v":2,"d":"2 "},"-",{"v":2,"d":"2 "},"-","-",{"v":5,"d":"5 "},"-","-","-","-","-","-","-",{"v":33,"d":"33 "},{"v":3068,"d":"3,068 "},{"v":1472,"d":"1,472 "},{"v":1577,"d":"1,577 "},{"v":19,"d":"19 "},64,54,24,25,5,"-",8,2,60,41,20,21,"-",13,1,5]
["山梨県","富士吉田市","富士上吉田町","上吉田",{"v":45,"d":"45 "},{"v":4,"d":"4 "},"-","-","-","-",{"v":4,"d":"4 "},{"v":41,"d":"41 "},{"v":9,"d":"9 "},"-","-","-","-",{"v":1,"d":"1 "},"-","-","-","-",{"v":2,"d":"2 "},{"v":3,"d":"3 "},{"v":1,"d":"1 "},{"v":1,"d":"1 "},"-",{"v":1,"d":"1 "},65.4,58.5,{"v":71,"d":"71.0"},{"v":6,"d":"6 "},"-","-","-","-","-","-","-","-","-",{"v":1,"d":"1 "},{"v":2,"d":"2 "},{"v":1,"d":"1 "},{"v":1,"d":"1 "},"-",{"v":1,"d":"1 "},71.5,66.3,76.7,{"v":3,"d":"3 "},"-","-","-","-","-","-","-","-","-",{"v":1,"d":"1 "},{"v":1,"d":"1 "},{"v":1,"d":"1 "},"-","-","-",66.3,66.3,"…",{"v":4,"d":"4 "},"-","-","-","-","-","-","-","-","-",{"v":1,"d":"1 "},{"v":1,"d":"1 "},{"v":1,"d":"1 "},"-",{"v":1,"d":"1 "},"-",{"v":3,"d":"3 "},"-","-","-","-","-","-","-","-",{"v":1,"d":"1 "},{"v":1,"d":"1 "},"-",{"v":1,"d":"1 "},"-",{"$nulls":7},{"v":13,"d":"13 "},{"v":8,"d":"8 "},{"v":3,"d":"3 "},{"v":3,"d":"3 "},{"v":2,"d":"2 "},{"v":2,"d":"2 "},"-",{"v":3,"d":"3 "},{"v":1,"d":"1 "},{"v":1,"d":"1 "},"-","-","-","-","-","-","-","-","-","-","-","-","-","-",{"v":4,"d":"4 "},{"v":291,"d":"291 "},{"v":116,"d":"116 "},{"v":175,"d":"175 "},"-",6,5,3,2,"-","-","-",1,7,3,"-",1,2,2,"-",2]
["山梨県","富士吉田市","富士上吉田町","松山",{"v":24,"d":"24 "},{"v":8,"d":"8 "},"-","-",{"v":3,"d":"3 "},"-",{"v":5,"d":"5 "},{"v":16,"d":"16 "},{"v":29,"d":"29 "},{"v":3,"d":"3 "},{"v":1,"d":"1 "},{"v":4,"d":"4 "},{"v":1,"d":"1 "},"-",{"v":1,"d":"1 "},{"v":2,"d":"2 "},{"v":1,"d":"1 "},{"v":5,"d":"5 "},{"v":3,"d":"3 "},{"v":1,"d":"1 "},"-",{"v":2,"d":"2 "},{"v":4,"d":"4 "},{"v":1,"d":"1 "},51.6,51.3,51.9,{"v":8,"d":"8 "},"-","-","-","-","-","-","-","-","-","-",{"v":1,"d":"1 "},"-",{"v":2,"d":"2 "},{"v":4,"d":"4 "},{"v":1,"d":"1 "},79.8,{"v":79,"d":"79.0"},80.5,{"v":7,"d":"7 "},"-","-","-","-","-","-","-","-","-","-",{"v":1,"d":"1 "},"-",{"v":2,"d":"2 "},{"v":3,"d":"3 "},{"v":1,"d":"1 "},79.3,{"v":79,"d":"79.0"},79.7,{"v":8,"d":"8 "},"-","-","-","-","-","-","-",{"v":1,"d":"1 "},{"v":2,"d":"2 "},{"v":1,"d":"1 "},{"v":1,"d":"1 "},"-",{"v":1,"d":"1 "},{"v":1,"d":"1 "},{"v":1,"d":"1 "},{"v":3,"d":"3 "},"-","-","-","-","-","-",{"v":1,"d":"1 "},"-","-","-",{"v":1,"d":"1 "},"-",{"v":1,"d":"1 "},{"$nulls":7},{"v":36,"d":"36 "},{"v":23,"d":"23 "},{"v":7,"d":"7 "},{"v":15,"d":"15 "},{"v":1,"d":"1 "},{"v":3,"d":"3 "},{"v":5,"d":"5 "},{"v":5,"d":"5 "},{"v":8,"d":"8 "},{"v":8,"d":"8 "},"-","-","-","-","-","-","-","-","-","-","-","-","-","-",{"v":8,"d":"8 "},{"v":458,"d":"458 "},{"v":304,"d":"304 "},{"v":134,"d":"134 "},{"v":20,"d":"20 "},16,13,4,8,1,"-",2,1,20,10,3,7,"-",3,3,4]
["山梨県","富士吉田市","西桂村２－２",null,{"v":69,"d":"69 "},{"v":6,"d":"6 "},"-","-",{"v":1,"d":"1 "},"-",{"v":5,"d":"5 "},{"v":63,"d":"63 "},{"v":20,"d":"20 "},{"v":3,"d":"3 "},{"v":3,"d":"3 "},"-","-",{"v":1,"d":"1 "},"-",{"v":3,"d":"3 "},{"v":1,"d":"1 "},{"v":1,"d":"1 "},"-",{"v":1,"d":"1 "},{"v":2,"d":"2 "},{"v":4,"d":"4 "},{"v":1,"d":"1 "},"-",50.2,{"v":52,"d":"52.0"},46.9,{"v":7,"d":"7 "},"-","-","-","-","-","-","-","-","-","-",{"v":1,"d":"1 "},{"v":2,"d":"2 "},{"v":4,"d":"4 "},"-","-",73.4,74.3,72.3,{"v":3,"d":"3 "},"-","-","-","-","-","-","-","-","-","-","-",{"v":1,"d":"1 "},{"v":2,"d":"2 "},"-","-",75.3,75.3,"-",{"v":6,"d":"6 "},"-","-","-","-","-","-",{"v":1,"d":"1 "},"-",{"v":1,"d":"1 "},"-","-",{"v":2,"d":"2 "},{"v":2,"d":"2 "},"-","-",{"v":5,"d":"5 "},"-","-","-","-","-","-",{"v":1,"d":"1 "},"-","-",{"v":2,"d":"2 "},{"v":2,"d":"2 "},"-","-",{"$nulls":7},{"v":24,"d":"24 "},{"v":13,"d":"13 "},{"v":3,"d":"3 "},{"v":8,"d":"8 "},{"v":2,"d":"2 "},{"v":6,"d":"6 "},{"v":4,"d":"4 "},{"v":1,"d":"1 "},{"v":4,"d":"4 "},{"v":4,"d":"4 "},"-","-","-","-","-","-","-","-","-","-","-","-","-","-",{"v":6,"d":"6 "},{"v":237,"d":"237 "},{"v":162,"d":"162 "},{"v":68,"d":"68 "},{"v":7,"d":"7 "},13,10,3,5,2,"-",2,1,11,3,"-",3,"-",6,2,"-"]
["山梨県","富士吉田市","西桂村２－２","白糸町",{"v":41,"d":"41 "},{"v":5,"d":"5 "},"x","x","x","x","x",{"v":36,"d":"36 "},"x","x","x","x","x","x","x","x","x","x","x","x","x","x","x","x",47.2,50.1,{"v":42,"d":"42.0"},"x","x","x","x","x","x","x","x","x","x","x","x","x","x","x","x",{"v":72,"d":"72.0"},{"v":73,"d":"73.0"},70.5,"x","x","x","x","x","x","x","x","x","x","x","x","x","x","x","x",{"v":74,"d":"74.0"},{"v":74,"d":"74.0"},"…",{"v":5,"d":"5 "},"-","-","-","-","-","-",{"v":1,"d":"1 "},"-",{"v":1,"d":"1 "},"-","-",{"v":2,"d":"2 "},{"v":1,"d":"1 "},"-","-",{"v":4,"d":"4 "},"-","-","-","-","-","-",{"v":1,"d":"1 "},"-","-",{"v":2,"d":"2 "},{"v":1,"d":"1 "},"-","-",{"$nulls":7},{"v":21,"d":"21 "},{"v":11,"d":"11 "},{"v":2,"d":"2 "},{"v":7,"d":"7 "},{"v":2,"d":"2 "},{"v":5,"d":"5 "},{"v":4,"d":"4 "},{"v":1,"d":"1 "},{"v":3,"d":"3 "},{"v":3,"d":"3 "},"-","-","-","-","-","-","-","-","-","-","-","-","-","-",{"v":5,"d":"5 "},{"v":202,"d":"202 "},{"v":129,"d":"129 "},{"v":66,"d":"66 "},{"v":7,"d":"7 "},11,8,2,4,2,"-",2,1,10,3,"-",3,"-",5,2,"-"]
["山梨県","富士吉田市","西桂村２－２","寿町",{"v":28,"d":"28 "},{"v":1,"d":"1 "},"x","x","x","x","x",{"v":27,"d":"27 "},"x","x","x","x","x","x","x","x","x","x","x","x","x","x","x","x",{"v":67,"d":"67.0"},62.5,{"v":76,"d":"76.0"},"x","x","x","x","x","x","x","x","x","x","x","x","x","x","x","x",{"v":77,"d":"77.0"},{"v":78,"d":"78.0"},{"v":76,"d":"76.0"},"x","x","x","x","x","x","x","x","x","x","x","x","x","x","x","x",{"v":78,"d":"78.0"},{"v":78,"d":"78.0"},"…",{"v":1,"d":"1 "},"-","-","-","-","-","-","-","-","-","-","-","-",{"v":1,"d":"1 "},"-","-",{"v":1,"d":"1 "},"-","-","-","-","-","-","-","-","-","-",{"v":1,"d":"1 "},"-","-",{"$nulls":7},{"v":3,"d":"3 "},{"v":2,"d":"2 "},{"v":1,"d":"1 "},{"v":1,"d":"1 "},"-",{"v":1,"d":"1 "},"-","-",{"v":1,"d":"1 "},{"v":1,"d":"1 "},"-","-","-","-","-","-","-","-","-","-","-","-","-","-",{"v":1,"d":"1 "},{"v":35,"d":"35 "},{"v":33,"d":"33 "},{"v":2,"d":"2 "},"-",2,2,1,1,"-","-","-","-",1,"-","-","-","-",1,"-","-"]
["山梨県","都留市",null,null,{"v":1083,"d":"1,083 "},{"v":212,"d":"212 "},{"v":13,"d":"13 "},{"v":11,"d":"11 "},{"v":27,"d":"27 "},{"v":6,"d":"6 "},{"v":172,"d":"172 "},{"v":871,"d":"871 "},{"v":604,"d":"604 "},{"v":20,"d":"20 "},{"v":15,"d":"15 "},{"v":17,"d":"17 "},{"v":13,"d":"13 "},{"v":23,"d":"23 "},{"v":40,"d":"40 "},{"v":50,"d":"50 "},{"v":47,"d":"47 "},{"v":67,"d":"67 "},{"v":65,"d":"65 "},{"v":41,"d":"41 "},{"v":69,"d":"69 "},{"v":56,"d":"56 "},{"v":59,"d":"59 "},{"v":22,"d":"22 "},58.7,58.4,{"v":59,"d":"59.0"},{"v":255,"d":"255 "},{"v":2,"d":"2 "},{"v":1,"d":"1 "},"-","-","-",{"v":3,"d":"3 "},{"v":5,"d":"5 "},{"v":6,"d":"6 "},{"v":11,"d":"11 "},{"v":27,"d":"27 "},{"v":29,"d":"29 "},{"v":54,"d":"54 "},{"v":47,"d":"47 "},{"v":51,"d":"51 "},{"v":19,"d":"19 "},71.8,72.6,71.1,{"v":177,"d":"177 "},"-","-","-","-","-",{"v":2,"d":"2 "},{"v":2,"d":"2 "},{"v":5,"d":"5 "},{"v":7,"d":"7 "},{"v":19,"d":"19 "},{"v":20,"d":"20 "},{"v":40,"d":"40 "},{"v":34,"d":"34 "},{"v":36,"d":"36 "},{"v":12,"d":"12 "},72.6,72.8,71.9,{"v":212,"d":"212 "},"-","-","-","-",{"v":3,"d":"3 "},{"v":3,"d":"3 "},{"v":9,"d":"9 "},{"v":17,"d":"17 "},{"v":23,"d":"23 "},{"v":31,"d":"31 "},{"v":20,"d":"20 "},{"v":40,"d":"40 "},{"v":32,"d":"32 "},{"v":25,"d":"25 "},{"v":9,"d":"9 "},{"v":164,"d":"164 "},"-","-","-",{"v":1,"d":"1 "},{"v":6,"d":"6 "},{"v":8,"d":"8 "},{"v":17,"d":"17 "},{"v":25,"d":"25 "},{"v":15,"d":"15 "},{"v":31,"d":"31 "},{"v":28,"d":"28 "},{"v":24,"d":"24 "},{"v":9,"d":"9 "},{"$nulls":7},{"v":797,"d":"797 "},{"v":520,"d":"520 "},{"v":177,"d":"177 "},{"v":277,"d":"277 "},{"v":66,"d":"66 "},{"v":127,"d":"127 "},{"v":87,"d":"87 "},{"v":63,"d":"63 "},{"v":83,"d":"83 "},{"v":52,"d":"52 "},"-","-","-",{"v":19,"d":"19 "},{"v":1,"d":"1 "},{"v":3,"d":"3 "},{"v":5,"d":"5 "},{"v":1,"d":"1 "},"-","-",{"v":1,"d":"1 "},"-","-",{"v":1,"d":"1 "},{"v":211,"d":"211 "},{"v":10628,"d":"10,628 "},{"v":7435,"d":"7,435 "},{"v":3030,"d":"3,030 "},{"v":163,"d":"163 "},384,326,127,154,45,3,36,19,413,194,50,123,21,124,51,44]
["山梨県","都留市","谷村町",null,{"v":285,"d":"285 "},{"v":71,"d":"71 "},{"v":4,"d":"4 "},{"v":4,"d":"4 "},{"v":11,"d":"11 "},{"v":3,"d":"3 "},{"v":56,"d":"56 "},{"v":214,"d":"214 "},{"v":205,"d":"205 "},{"v":9,"d":"9 "},{"v":6,"d":"6 "},{"v":6,"d":"6 "},{"v":2,"d":"2 "},{"v":5,"d":"5 "},{"v":15,"d":"15 "},{"v":17,"d":"17 "},{"v":13,"d":"13 "},{"v":24,"d":"24 "},{"v":25,"d":"25 "},{"v":15,"d":"15 "},{"v":27,"d":"27 "},{"v":19,"d":"19 "},{"v":18,"d":"18 "},{"v":4,"d":"4 "},58.1,55.3,61.2,{"v":89,"d":"89 "},{"v":2,"d":"2 "},{"v":1,"d":"1 "},"-","-","-",{"v":2,"d":"2 "},{"v":2,"d":"2 "},{"v":1,"d":"1 "},{"v":4,"d":"4 "},{"v":11,"d":"11 "},{"v":11,"d":"11 "},{"v":20,"d":"20 "},{"v":16,"d":"16 "},{"v":15,"d":"15 "},{"v":4,"d":"4 "},69.3,70.6,68.3,{"v":52,"d":"52 "},"-","-","-","-","-",{"v":1,"d":"1 "},{"v":1,"d":"1 "},{"v":1,"d":"1 "},{"v":3,"d":"3 "},{"v":6,"d":"6 "},{"v":5,"d":"5 "},{"v":14,"d":"14 "},{"v":9,"d":"9 "},{"v":10,"d":"10 "},{"v":2,"d":"2 "},71.1,71.7,69.6,{"v":71,"d":"71 "},"-","-","-","-",{"v":1,"d":"1 "},{"v":1,"d":"1 "},{"v":4,"d":"4 "},{"v":7,"d":"7 "},{"v":8,"d":"8 "},{"v":11,"d":"11 "},{"v":6,"d":"6 "},{"v":14,"d":"14 "},{"v":11,"d":"11 "},{"v":7,"d":"7 "},{"v":1,"d":"1 "},{"v":59,"d":"59 "},"-","-","-",{"v":1,"d":"1 "},{"v":4,"d":"4 "},{"v":7,"d":"7 "},{"v":6,"d":"6 "},{"v":8,"d":"8 "},{"v":4,"d":"4 "},{"v":10,"d":"10 "},{"v":11,"d":"11 "},{"v":7,"d":"7 "},{"v":1,"d":"1 "},{"$nulls":7},{"v":263,"d":"263 "},{"v":166,"d":"166 "},{"v":52,"d":"52 "},{"v":83,"d":"83 "},{"v":31,"d":"31 "},{"v":44,"d":"44 "},{"v":35,"d":"35 "},{"v":18,"d":"18 "},{"v":26,"d":"26 "},{"v":14,"d":"14 "},"-","-","-",{"v":8,"d":"8 "},"-","-",{"v":4,"d":"4 "},"-","-","-","-","-","-","-",{"v":71,"d":"71 "},{"v":3653,"d":"3,653 "},{"v":2680,"d":"2,680 "},{"v":959,"d":"959 "},{"v":14,"d":"14 "},128,106,36,49,21,2,17,3,135,60,16,34,10,42,18,15]
["山梨県","都留市","谷村町","田原",{"v":8,"d":"8 "},"-","-","-","-","-","-",{"v":8,"d":"8 "},"-","-","-","-","-","-","-","-","-","-","-","-","-","-","-","-","…","…","…","-","-","-","-","-","-","-","-","-","-","-","-","-","-","-","-","…","…","…","-","-","-","-","-","-","-","-","-","-","-","-","-","-","-","-","…","…","…","-","-","-","-","-","-","-","-","-","-","-","-","-","-","-","-","-","-","-","-","-","-","-","-","-","-","-","-","-","-",{"$nulls":7},"-","-","-","-","-","-","-","-","-","-","-","-","-","-","-","-","-","-","-","-","-","-","-","-","-","-","-","-","-","-","-","-","-","-","-","-","-","-","-","-","-","-","-","-","-"]
["山梨県","都留市","谷村町","上町",{"v":3,"d":"3 "},"-","-","-","-","-","-",{"v":3,"d":"3 "},"-","-","-","-","-","-","-","-","-","-","-","-","-","-","-","-","…","…","…","-","-","-","-","-","-","-","-","-","-","-","-","-","-","-","-","…","…","…","-","-","-","-","-","-","-","-","-","-","-","-","-","-","-","-","…","…","…","-","-","-","-","-","-","-","-","-","-","-","-","-","-","-","-","-","-","-","-","-","-","-","-","-","-","-","-","-","-",{"$nulls":7},"-","-","-","-","-","-","-","-","-","-","-","-","-","-","-","-","-","-","-","-","-","-","-","-","-","-","-","-","-","-","-","-","-","-","-","-","-","-","-","-","-","-","-","-","-"]
["山梨県","都留市","谷村町","上天",{"v":4,"d":"4 "},{"v":1,"d":"1 "},"x","x","x","x","x",{"v":3,"d":"3 "},"x","x","x","x","x","x","x","x","x","x","x","x","x","x","x","x",42.2,29.7,{"v":61,"d":"61.0"},"x","x","x","x","x","x","x","x","x","x","x","x","x","x","x","x","…","…","…","x","x","x","x","x","x","x","x","x","x","x","x","x","x","x","x","…","…","…",{"v":1,"d":"1 "},"-","-","-","-","-","-","-",{"v":1,"d":"1 "},"-","-","-","-","-","-","-",{"v":1,"d":"1 "},"-","-","-","-","-",{"v":1,"d":"1 "},"-","-","-","-","-","-","-",{"$nulls":7},{"v":5,"d":"5 "},{"v":2,"d":"2 "},"-","-",{"v":2,"d":"2 "},{"v":1,"d":"1 "},{"v":2,"d":"2 "},"-",{"v":1,"d":"1 "},"-","-","-","-",{"v":1,"d":"1 "},"-","-","-","-","-","-","-","-","-","-",{"v":1,"d":"1 "},{"v":90,"d":"90 "},{"v":50,"d":"50 "},{"v":40,"d":"40 "},"-",3,1,"-","-",1,"-",2,"-",2,1,"-","-",1,1,"-","-"]
["山梨県","都留市","谷村町","下天","-","-","-","-","-","-","-","-","-","-","-","-","-","-","-","-","-","-","-","-","-","-","-","-","…","…","…","-","-","-","-","-","-","-","-","-","-","-","-","-","-","-","-","…","…","…","-","-","-","-","-","-","-","-","-","-","-","-","-","-","-","-","…","…","…","-","-","-","-","-","-","-","-","-","-","-","-","-","-","-","-","-","-","-","-","-","-","-","-","-","-","-","-","-","-",{"$nulls":7},"-","-","-","-","-","-","-","-","-","-","-","-","-","-","-","-","-","-","-","-","-","-","-","-","-","-","-","-","-","-","-","-","-","-","-","-","-","-","-","-","-","-","-","-","-"]
["山梨県","都留市","谷村町","下谷第一",{"v":7,"d":"7 "},"-","-","-","-","-","-",{"v":7,"d":"7 "},"-","-","-","-","-","-","-","-","-","-","-","-","-","-","-","-","…","…","…","-","-","-","-","-","-","-","-","-","-","-","-","-","-","-","-","…","…","…","-","-","-","-","-","-","-","-","-","-","-","-","-","-","-","-","…","…","…","-","-","-","-","-","-","-","-","-","-","-","-","-","-","-","-","-","-","-","-","-","-","-","-","-","-","-","-","-","-",{"$nulls":7},"-","-","-","-","-","-","-","-","-","-","-","-","-","-","-","-","-","-","-","-","-","-","-","-","-","-","-","-","-","-","-","-","-","-","-","-","-","-","-","-","-","-","-","-","-"]
["山梨県","都留市","谷村町","下谷第二",{"v":19,"d":"19 "},{"v":2,"d":"2 "},"x","x","x","x","x",{"v":17,"d":"17 "},"x","x","x","x","x","x","x","x","x","x","x","x","x","x","x","x",65.8,69.5,{"v":62,"d":"62.0"},"x","x","x","x","x","x","x","x","x","x","x","x","x","x","x","x",{"v":79,"d":"79.0"},{"v":79,"d":"79.0"},"…","x","x","x","x","x","x","x","x","x","x","x","x","x","x","x","x",{"v":79,"d":"79.0"},{"v":79,"d":"79.0"},"…",{"v":2,"d":"2 "},"-","-","-","-","-","-","-","-","-",{"v":1,"d":"1 "},"-","-",{"v":1,"d":"1 "},"-","-",{"v":2,"d":"2 "},"-","-","-","-","-","-","-",{"v":1,"d":"1 "},"-","-",{"v":1,"d":"1 "},"-","-",{"$nulls":7},{"v":7,"d":"7 "},{"v":4,"d":"4 "},{"v":1,"d":"1 "},{"v":3,"d":"3 "},"-",{"v":1,"d":"1 "},{"v":2,"d":"2 "},"-","-","-","-","-","-","-","-","-","-","-","-","-","-","-","-","-",{"v":2,"d":"2 "},{"v":91,"d":"91 "},{"v":55,"d":"55 "},{"v":36,"d":"36 "},"-",3,3,1,2,"-","-","-","-",4,1,"-",1,"-",1,2,"-"]
["山梨県","都留市","谷村町","下谷第三",{"v":2,"d":"2 "},"-","-","-","-","-","-",{"v":2,"d":"2 "},"-","-","-","-","-","-","-","-","-","-","-","-","-","-","-","-","…","…","…","-","-","-","-","-","-","-","-","-","-","-","-","-","-","-","-","…","…","…","-","-","-","-","-","-","-","-","-","-","-","-","-","-","-","-","…","…","…","-","-","-","-","-","-","-","-","-","-","-","-","-","-","-","-","-","-","-","-","-","-","-","-","-","-","-","-","-","-",{"$nulls":7},"-","-","-","-","-","-","-","-","-","-","-","-","-","-","-","-","-","-","-","-","-","-","-","-","-","-","-","-","-","-","-","-","-","-","-","-","-","-","-","-","-","-","-","-","-"]
["山梨県","都留市","谷村町","下谷第四",{"v":21,"d":"21 "},{"v":7,"d":"7 "},"-","-",{"v":1,"d":"1 "},"-",{"v":6,"d":"6 "},{"v":14,"d":"14 "},{"v":23,"d":"23 "},{"v":1,"d":"1 "},{"v":1,"d":"1 "},{"v":1,"d":"1 "},"-","-",{"v":1,"d":"1 "},{"v":1,"d":"1 "},{"v":2,"d":"2 "},{"v":5,"d":"5 "},{"v":1,"d":"1 "},"-","-",{"v":3,"d":"3 "},{"v":7,"d":"7 "},"-",60.7,61.8,59.5,{"v":7,"d":"7 "},"-","-","-","-","-","-","-","-","-","-","-","-",{"v":2,"d":"2 "},{"v":5,"d":"5 "},"-",79.9,79.2,81.5,{"v":5,"d":"5 "},"-","-","-","-","-","-","-","-","-","-","-","-",{"v":2,"d":"2 "},{"v":3,"d":"3 "},"-",79.2,78.8,{"v":81,"d":"81.0"},{"v":7,"d":"7 "},"-","-","-","-","-","-","-",{"v":1,"d":"1 "},{"v":1,"d":"1 "},"-","-","-",{"v":2,"d":"2 "},{"v":3,"d":"3 "},"-",{"v":7,"d":"7 "},"-","-","-","-","-",{"v":1,"d":"1 "},{"v":1,"d":"1 "},"-","-","-",{"v":2,"d":"2 "},{"v":3,"d":"3 "},"-",{"$nulls":7},{"v":25,"d":"25 "},{"v":18,"d":"18 "},{"v":5,"d":"5 "},{"v":12,"d":"12 "},{"v":1,"d":"1 "},{"v":6,"d":"6 "},{"v":1,"d":"1 "},"-",{"v":3,"d":"3 "},{"v":2,"d":"2 "},"-","-","-","-","-","-",{"v":1,"d":"1 "},"-","-","-","-","-","-","-",{"v":7,"d":"7 "},{"v":270,"d":"270 "},{"v":237,"d":"237 "},{"v":33,"d":"33 "},"-",14,11,4,6,1,2,1,"-",11,7,1,6,"-",4,"-","-"]
["山梨県","都留市","谷村町","羽根子",{"v":18,"d":"18 "},{"v":5,"d":"5 "},"-","-",{"v":3,"d":"3 "},{"v":2,"d":"2 "},{"v":2,"d":"2 "},{"v":13,"d":"13 "},{"v":12,"d":"12 "},"-",{"v":1,"d":"1 "},"-","-","-","-","-",{"v":1,"d":"1 "},{"v":2,"d":"2 "},{"v":2,"d":"2 "},{"v":1,"d":"1 "},"-",{"v":3,"d":"3 "},{"v":2,"d":"2 "},"-",64.1,59.4,70.6,{"v":6,"d":"6 "},"-","-","-","-","-","-","-","-",{"v":1,"d":"1 "},"-","-","-",{"v":3,"d":"3 "},{"v":2,"d":"2 "},"-",75.3,72.3,78.3,{"v":3,"d":"3 "},"-","-","-","-","-","-","-","-",{"v":1,"d":"1 "},"-","-","-",{"v":1,"d":"1 "},{"v":1,"d":"1 "},"-",72.3,72.3,"…",{"v":5,"d":"5 "},"-","-","-","-","-","-","-",{"v":1,"d":"1 "},"-",{"v":1,"d":"1 "},{"v":1,"d":"1 "},"-",{"v":1,"d":"1 "},{"v":1,"d":"1 "},"-",{"v":3,"d":"3 "},"-","-","-","-","-",{"v":1,"d":"1 "},"-","-","-","-",{"v":1,"d":"1 "},{"v":1,"d":"1 "},"-",{"$nulls":7},{"v":17,"d":"17 "},{"v":11,"d":"11 "},{"v":3,"d":"3 "},{"v":6,"d":"6 "},{"v":2,"d":"2 "},{"v":3,"d":"3 "},{"v":1,"d":"1 "},{"v":2,"d":"2 "},{"v":3,"d":"3 "},{"v":2,"d":"2 "},"-","-","-","-","-","-",{"v":1,"d":"1 "},"-","-","-","-","-","-","-",{"v":5,"d":"5 "},{"v":200,"d":"200 "},{"v":158,"d":"158 "},{"v":42,"d":"42 "},"-",9,8,3,4,1,"-",1,"-",8,3,"-",2,1,3,"-",2]
["山梨県","都留市","谷村町","法能",{"v":36,"d":"36 "},{"v":18,"d":"18 "},{"v":4,"d":"4 "},{"v":4,"d":"4 "},{"v":2,"d":"2 "},{"v":1,"d":"1 "},{"v":12,"d":"12 "},{"v":18,"d":"18 "},{"v":49,"d":"49 "},{"v":2,"d":"2 "},{"v":1,"d":"1 "},{"v":3,"d":"3 "},{"v":1,"d":"1 "},{"v":3,"d":"3 "},{"v":4,"d":"4 "},{"v":1,"d":"1 "},{"v":4,"d":"4 "},{"v":10,"d":"10 "},{"v":6,"d":"6 "},{"v":4,"d":"4 "},{"v":5,"d":"5 "},{"v":2,"d":"2 "},{"v":2,"d":"2 "},{"v":1,"d":"1 "},54.6,52.4,56.8,{"v":25,"d":"25 "},{"v":2,"d":"2 "},{"v":1,"d":"1 "},"-","-","-",{"v":2,"d":"2 "},{"v":1,"d":"1 "},{"v":1,"d":"1 "},{"v":3,"d":"3 "},{"v":3,"d":"3 "},{"v":4,"d":"4 "},{"v":4,"d":"4 "},{"v":2,"d":"2 "},{"v":1,"d":"1 "},{"v":1,"d":"1 "},58.7,58.1,59.1,{"v":17,"d":"17 "},"-","-","-","-","-",{"v":1,"d":"1 "},{"v":1,"d":"1 "},{"v":1,"d":"1 "},{"v":2,"d":"2 "},{"v":3,"d":"3 "},{"v":3,"d":"3 "},{"v":3,"d":"3 "},{"v":1,"d":"1 "},{"v":1,"d":"1 "},{"v":1,"d":"1 "},64.4,63.5,65.1,{"v":18,"d":"18 "},"-","-","-","-","-",{"v":1,"d":"1 "},"-",{"v":2,"d":"2 "},{"v":5,"d":"5 "},{"v":4,"d":"4 "},"-",{"v":4,"d":"4 "},{"v":1,"d":"1 "},{"v":1,"d":"1 "},"-",{"v":16,"d":"16 "},"-","-","-",{"v":1,"d":"1 "},"-",{"v":2,"d":"2 "},{"v":3,"d":"3 "},{"v":4,"d":"4 "},"-",{"v":4,"d":"4 "},{"v":1,"d":"1 "},{"v":1,"d":"1 "},"-",{"$nulls":7},{"v":69,"d":"69 "},{"v":51,"d":"51 "},{"v":17,"d":"17 "},{"v":26,"d":"26 "},{"v":8,"d":"8 "},{"v":6,"d":"6 "},{"v":6,"d":"6 "},{"v":6,"d":"6 "},{"v":8,"d":"8 "},{"v":3,"d":"3 "},"-","-","-",{"v":4,"d":"4 "},"-","-",{"v":1,"d":"1 "},"-","-","-","-","-","-","-",{"v":18,"d":"18 "},{"v":1292,"d":"1,292 "},{"v":996,"d":"996 "},{"v":292,"d":"292 "},{"v":4,"d":"4 "},31,29,8,15,6,"-",1,1,38,22,9,11,2,6,5,5]
["山梨県","都留市","谷村町","宮原",{"v":19,"d":"19 "},{"v":5,"d":"5 "},"-","-",{"v":1,"d":"1 "},"-",{"v":4,"d":"4 "},{"v":14,"d":"14 "},{"v":12,"d":"12 "},"-","-","-","-",{"v":1,"d":"1 "},"-",{"v":2,"d":"2 "},{"v":1,"d":"1 "},"-",{"v":4,"d":"4 "},{"v":2,"d":"2 "},{"v":1,"d":"1 "},"-",{"v":1,"d":"1 "},"-",59.9,58.2,61.7,{"v":5,"d":"5 "},"-","-","-","-","-","-","-","-","-",{"v":2,"d":"2 "},{"v":1,"d":"1 "},{"v":1,"d":"1 "},"-",{"v":1,"d":"1 "},"-",68.6,{"v":67,"d":"67.0"},69.7,{"v":2,"d":"2 "},"-","-","-","-","-","-","-","-","-",{"v":1,"d":"1 "},"-",{"v":1,"d":"1 "},"-","-","-",{"v":67,"d":"67.0"},{"v":67,"d":"67.0"},"…",{"v":5,"d":"5 "},"-","-","-","-","-","-",{"v":1,"d":"1 "},"-","-",{"v":2,"d":"2 "},{"v":1,"d":"1 "},{"v":1,"d":"1 "},"-","-","-",{"v":3,"d":"3 "},"-","-","-","-",{"v":1,"d":"1 "},"-","-",{"v":1,"d":"1 "},{"v":1,"d":"1 "},"-","-","-","-",{"$nulls":7},{"v":15,"d":"15 "},{"v":9,"d":"9 "},{"v":2,"d":"2 "},{"v":6,"d":"6 "},{"v":1,"d":"1 "},{"v":2,"d":"2 "},{"v":2,"d":"2 "},{"v":2,"d":"2 "},{"v":2,"d":"2 "},{"v":2,"d":"2 "},"-","-","-","-","-","-","-","-","-","-","-","-","-","-",{"v":5,"d":"5 "},{"v":241,"d":"241 "},{"v":186,"d":"186 "},{"v":55,"d":"55 "},"-",8,6,2,3,1,"-",2,"-",7,3,"-",3,"-",2,"-",2]
["山梨県","都留市","谷村町","引の田",{"v":10,"d":"10 "},"-","-","-","-","-","-",{"v":10,"d":"10 "},"-","-","-","-","-","-","-","-","-","-","-","-","-","-","-","-","…","…","…","-","-","-","-","-","-","-","-","-","-","-","-","-","-","-","-","…","…","…","-","-","-","-","-","-","-","-","-","-","-","-","-","-","-","-","…","…","…","-","-","-","-","-","-","-","-","-","-","-","-","-","-","-","-","-","-","-","-","-","-","-","-","-","-","-","-","-","-",{"$nulls":7},"-","-","-","-","-","-","-","-","-","-","-","-","-","-","-","-","-","-","-","-","-","-","-","-","-","-","-","-","-","-","-","-","-","-","-","-","-","-","-","-","-","-","-","-","-"]
["山梨県","都留市","谷村町","玉川",{"v":23,"d":"23 "},{"v":1,"d":"1 "},"x","x","x","x","x",{"v":22,"d":"22 "},"x","x","x","x","x","x","x","x","x","x","x","x","x","x","x","x",{"v":75,"d":"75.0"},{"v":75,"d":"75.0"},"…","x","x","x","x","x","x","x","x","x","x","x","x","x","x","x","x",{"v":75,"d":"75.0"},{"v":75,"d":"75.0"},"…","x","x","x","x","x","x","x","x","x","x","x","x","x","x","x","x",{"v":75,"d":"75.0"},{"v":75,"d":"75.0"},"…",{"v":1,"d":"1 "},"-","-","-","-","-","-","-","-","-","-","-","-",{"v":1,"d":"1 "},"-","-",{"v":1,"d":"1 "},"-","-","-","-","-","-","-","-","-","-",{"v":1,"d":"1 "},"-","-",{"$nulls":7},{"v":1,"d":"1 "},{"v":1,"d":"1 "},{"v":1,"d":"1 "},"-","-","-","-","-",{"v":1,"d":"1 "},"-","-","-","-",{"v":1,"d":"1 "},"-","-","-","-","-","-","-","-","-","-",{"v":1,"d":"1 "},{"v":30,"d":"30 "},{"v":20,"d":"20 "},{"v":10,"d":"10 "},"-",1,1,1,"-","-","-","-","-","-","-","-","-","-","-","-","-"]
["山梨県","都留市","谷村町","戸沢",{"v":16,"d":"16 "},{"v":4,"d":"4 "},"-","-",{"v":1,"d":"1 "},"-",{"v":3,"d":"3 "},{"v":12,"d":"12 "},{"v":9,"d":"9 "},"-","-","-","-",{"v":1,"d":"1 "},"-","-",{"v":1,"d":"1 "},{"v":1,"d":"1 "},{"v":2,"d":"2 "},"-","-",{"v":3,"d":"3 "},{"v":1,"d":"1 "},"-",63.8,60.4,{"v":68,"d":"68.0"},{"v":4,"d":"4 "},"-","-","-","-","-","-","-","-","-",{"v":1,"d":"1 "},"-","-",{"v":2,"d":"2 "},{"v":1,"d":"1 "},"-",73.8,{"v":78,"d":"78.0"},72.3,{"v":1,"d":"1 "},"-","-","-","-","-","-","-","-","-","-","-","-","-",{"v":1,"d":"1 "},"-",{"v":81,"d":"81.0"},"…",{"v":81,"d":"81.0"},{"v":4,"d":"4 "},"-","-","-","-",{"v":1,"d":"1 "},"-","-",{"v":1,"d":"1 "},"-","-","-","-",{"v":2,"d":"2 "},"-","-",{"v":3,"d":"3 "},"-","-","-","-","-",{"v":1,"d":"1 "},"-","-","-","-",{"v":2,"d":"2 "},"-","-",{"$nulls":7},{"v":17,"d":"17 "},{"v":10,"d":"10 "},{"v":1,"d":"1 "},{"v":2,"d":"2 "},{"v":7,"d":"7 "},{"v":2,"d":"2 "},{"v":4,"d":"4 "},{"v":1,"d":"1 "},{"v":1,"d":"1 "},"-","-","-","-","-","-","-",{"v":1,"d":"1 "},"-","-","-","-","-","-","-",{"v":4,"d":"4 "},{"v":147,"d":"147 "},{"v":107,"d":"107 "},{"v":35,"d":"35 "},{"v":5,"d":"5 "},7,5,"-",1,4,"-",1,1,10,5,1,1,3,2,3,"-"]
["山梨県","都留市","谷村町","熊井戸",{"v":11,"d":"11 "},{"v":5,"d":"5 "},"-","-","-","-",{"v":5,"d":"5 "},{"v":6,"d":"6 "},{"v":16,"d":"16 "},"-","-","-","-","-",{"v":6,"d":"6 "},{"v":1,"d":"1 "},"-","-","-",{"v":2,"d":"2 "},{"v":7,"d":"7 "},"-","-","-",57.9,56.9,{"v":59,"d":"59.0"},{"v":7,"d":"7 "},"-","-","-","-","-","-","-","-","-","-",{"v":1,"d":"1 "},{"v":6,"d":"6 "},"-","-","-",70.7,71.7,{"v":70,"d":"70.0"},{"v":5,"d":"5 "},"-","-","-","-","-","-","-","-","-","-",{"v":1,"d":"1 "},{"v":4,"d":"4 "},"-","-","-",{"v":71,"d":"71.0"},71.7,{"v":70,"d":"70.0"},{"v":5,"d":"5 "},"-","-","-","-","-","-","-","-","-","-",{"v":2,"d":"2 "},{"v":3,"d":"3 "},"-","-","-",{"v":4,"d":"4 "},"-","-","-","-","-","-","-","-",{"v":2,"d":"2 "},{"v":2,"d":"2 "},"-","-","-",{"$nulls":7},{"v":18,"d":"18 "},{"v":11,"d":"11 "},{"v":5,"d":"5 "},{"v":4,"d":"4 "},{"v":2,"d":"2 "},{"v":5,"d":"5 "},{"v":1,"d":"1 "},{"v":1,"d":"1 "},{"v":2,"d":"2 "},{"v":2,"d":"2 "},"-","-","-","-","-","-","-","-","-","-","-","-","-","-",{"v":5,"d":"5 "},{"v":273,"d":"273 "},{"v":147,"d":"147 "},{"v":126,"d":"126 "},"-",8,8,3,3,2,"-","-","-",10,3,2,1,"-",5,1,1]
["山梨県","都留市","谷村町","小野",{"v":43,"d":"43 "},{"v":16,"d":"16 "},"-","-",{"v":2,"d":"2 "},"-",{"v":14,"d":"14 "},{"v":27,"d":"27 "},{"v":57,"d":"57 "},{"v":4,"d":"4 "},{"v":3,"d":"3 "},{"v":2,"d":"2 "},"-","-",{"v":3,"d":"3 "},{"v":9,"d":"9 "},{"v":1,"d":"1 "},{"v":6,"d":"6 "},{"v":6,"d":"6 "},{"v":3,"d":"3 "},{"v":8,"d":"8 "},{"v":4,"d":"4 "},{"v":5,"d":"5 "},{"v":3,"d":"3 "},57.2,51.3,63.4,{"v":22,"d":"22 "},"-","-","-","-","-","-",{"v":1,"d":"1 "},"-","-",{"v":3,"d":"3 "},{"v":2,"d":"2 "},{"v":4,"d":"4 "},{"v":4,"d":"4 "},{"v":5,"d":"5 "},{"v":3,"d":"3 "},74.5,75.4,73.8,{"v":12,"d":"12 "},"-","-","-","-","-","-","-","-","-",{"v":2,"d":"2 "},"-",{"v":3,"d":"3 "},{"v":2,"d":"2 "},{"v":4,"d":"4 "},{"v":1,"d":"1 "},75.4,75.4,75.3,{"v":16,"d":"16 "},"-","-","-","-","-","-",{"v":2,"d":"2 "},{"v":1,"d":"1 "},{"v":2,"d":"2 "},{"v":2,"d":"2 "},{"v":1,"d":"1 "},{"v":3,"d":"3 "},{"v":2,"d":"2 "},{"v":2,"d":"2 "},{"v":1,"d":"1 "},{"v":15,"d":"15 "},"-","-","-","-",{"v":2,"d":"2 "},{"v":1,"d":"1 "},{"v":2,"d":"2 "},{"v":2,"d":"2 "},{"v":1,"d":"1 "},{"v":2,"d":"2 "},{"v":2,"d":"2 "},{"v":2,"d":"2 "},{"v":1,"d":"1 "},{"$nulls":7},{"v":67,"d":"67 "},{"v":39,"d":"39 "},{"v":12,"d":"12 "},{"v":20,"d":"20 "},{"v":7,"d":"7 "},{"v":11,"d":"11 "},{"v":13,"d":"13 "},{"v":4,"d":"4 "},{"v":5,"d":"5 "},{"v":3,"d":"3 "},"-","-","-",{"v":2,"d":"2 "},"-","-","-","-","-","-","-","-","-","-",{"v":16,"d":"16 "},{"v":761,"d":"761 "},{"v":574,"d":"574 "},{"v":182,"d":"182 "},{"v":5,"d":"5 "},33,25,9,12,4,"-",8,"-",34,14,3,8,3,11,5,4]
["山梨県","都留市","谷村町","大津",{"v":6,"d":"6 "},{"v":4,"d":"4 "},"-","-","-","-",{"v":4,"d":"4 "},{"v":2,"d":"2 "},{"v":9,"d":"9 "},"-","-","-",{"v":1,"d":"1 "},"-","-","-","-","-",{"v":3,"d":"3 "},{"v":2,"d":"2 "},{"v":3,"d":"3 "},"-","-","-",63.1,60.8,{"v":66,"d":"66.0"},{"v":7,"d":"7 "},"-","-","-","-","-","-","-","-","-",{"v":2,"d":"2 "},{"v":2,"d":"2 "},{"v":3,"d":"3 "},"-","-","-",67.4,69.3,{"v":66,"d":"66.0"},{"v":3,"d":"3 "},"-","-","-","-","-","-","-","-","-","-",{"v":1,"d":"1 "},{"v":2,"d":"2 "},"-","-","-",69.3,69.3,"…",{"v":4,"d":"4 "},"-","-","-","-","-","-","-","-","-",{"v":1,"d":"1 "},{"v":1,"d":"1 "},{"v":2,"d":"2 "},"-","-","-",{"v":2,"d":"2 "},"-","-","-","-","-","-","-","-","-",{"v":2,"d":"2 "},"-","-","-",{"$nulls":7},{"v":9,"d":"9 "},{"v":5,"d":"5 "},{"v":3,"d":"3 "},{"v":2,"d":"2 "},"-",{"v":3,"d":"3 "},"-",{"v":1,"d":"1 "},"-","-","-","-","-","-","-","-","-","-","-","-","-","-","-","-",{"v":4,"d":"4 "},{"v":165,"d":"165 "},{"v":84,"d":"84 "},{"v":81,"d":"81 "},"-",5,5,3,2,"-","-","-","-",4,"-","-","-","-",3,"-",1]
["山梨県","都留市","谷村町","細野",{"v":24,"d":"24 "},{"v":3,"d":"3 "},"-","-","-","-",{"v":3,"d":"3 "},{"v":21,"d":"21 "},{"v":8,"d":"8 "},"-","-","-","-","-",{"v":1,"d":"1 "},{"v":2,"d":"2 "},{"v":1,"d":"1 "},"-","-",{"v":1,"d":"1 "},{"v":2,"d":"2 "},{"v":1,"d":"1 "},"-","-",59.9,62.8,{"v":57,"d":"57.0"},{"v":4,"d":"4 "},"-","-","-","-","-","-","-","-","-","-",{"v":1,"d":"1 "},{"v":2,"d":"2 "},{"v":1,"d":"1 "},"-","-",72.8,75.5,{"v":70,"d":"70.0"},{"v":2,"d":"2 "},"-","-","-","-","-","-","-","-","-","-","-",{"v":1,"d":"1 "},{"v":1,"d":"1 "},"-","-",75.5,75.5,"…",{"v":3,"d":"3 "},"-","-","-","-","-","-",{"v":1,"d":"1 "},"-","-","-","-",{"v":1,"d":"1 "},{"v":1,"d":"1 "},"-","-",{"v":2,"d":"2 "},"-","-","-","-",{"v":1,"d":"1 "},"-","-","-","-","-",{"v":1,"d":"1 "},"-","-",{"$nulls":7},{"v":13,"d":"13 "},{"v":5,"d":"5 "},{"v":2,"d":"2 "},{"v":2,"d":"2 "},{"v":1,"d":"1 "},{"v":4,"d":"4 "},{"v":3,"d":"3 "},{"v":1,"d":"1 "},"-","-","-","-","-","-","-","-","-","-","-","-","-","-","-","-",{"v":3,"d":"3 "},{"v":93,"d":"93 "},{"v":66,"d":"66 "},{"v":27,"d":"27 "},"-",6,4,2,1,1,"-",1,1,7,1,"-",1,"-",4,2,"-"]
["山梨県","都留市","谷村町","菅野",{"v":15,"d":"15 "},"-","-","-","-","-","-",{"v":15,"d":"15 "},"-","-","-","-","-","-","-","-","-","-","-","-","-","-","-","-","…","…","…","-","-","-","-","-","-","-","-","-","-","-","-","-","-","-","-","…","…","…","-","-","-","-","-","-","-","-","-","-","-","-","-","-","-","-","…","…","…","-","-","-","-","-","-","-","-","-","-","-","-","-","-","-","-","-","-","-","-","-","-","-","-","-","-","-","-","-","-",{"$nulls":7},"-","-","-","-","-","-","-","-","-","-","-","-","-","-","-","-","-","-","-","-","-","-","-","-","-","-","-","-","-","-","-","-","-","-","-","-","-","-","-","-","-","-","-","-","-"]
["山梨県","都留市","宝村",null,{"v":164,"d":"164 "},{"v":17,"d":"17 "},{"v":1,"d":"1 "},{"v":1,"d":"1 "},{"v":3,"d":"3 "},"-",{"v":13,"d":"13 "},{"v":147,"d":"147 "},{"v":47,"d":"47 "},"-",{"v":2,"d":"2 "},{"v":2,"d":"2 "},"-",{"v":3,"d":"3 "},{"v":4,"d":"4 "},{"v":4,"d":"4 "},{"v":4,"d":"4 "},{"v":3,"d":"3 "},{"v":3,"d":"3 "},{"v":1,"d":"1 "},{"v":10,"d":"10 "},{"v":6,"d":"6 "},{"v":4,"d":"4 "},{"v":1,"d":"1 "},59.3,59.8,58.6,{"v":26,"d":"26 "},"-","-","-","-","-","-",{"v":1,"d":"1 "},{"v":1,"d":"1 "},{"v":1,"d":"1 "},{"v":2,"d":"2 "},{"v":1,"d":"1 "},{"v":9,"d":"9 "},{"v":6,"d":"6 "},{"v":4,"d":"4 "},{"v":1,"d":"1 "},71.9,72.1,71.7,{"v":18,"d":"18 "},"-","-","-","-","-","-",{"v":1,"d":"1 "},{"v":1,"d":"1 "},"-",{"v":2,"d":"2 "},{"v":1,"d":"1 "},{"v":6,"d":"6 "},{"v":4,"d":"4 "},{"v":3,"d":"3 "},"-",71.1,72.1,67.5,{"v":17,"d":"17 "},"-","-","-","-",{"v":1,"d":"1 "},"-","-",{"v":2,"d":"2 "},{"v":1,"d":"1 "},{"v":3,"d":"3 "},"-",{"v":5,"d":"5 "},{"v":4,"d":"4 "},{"v":1,"d":"1 "},"-",{"v":11,"d":"11 "},"-","-","-","-","-","-",{"v":1,"d":"1 "},{"v":2,"d":"2 "},"-",{"v":3,"d":"3 "},{"v":4,"d":"4 "},{"v":1,"d":"1 "},"-",{"$nulls":7},{"v":63,"d":"63 "},{"v":47,"d":"47 "},{"v":18,"d":"18 "},{"v":26,"d":"26 "},{"v":3,"d":"3 "},{"v":10,"d":"10 "},{"v":1,"d":"1 "},{"v":5,"d":"5 "},{"v":9,"d":"9 "},{"v":7,"d":"7 "},"-","-","-",{"v":1,"d":"1 "},"-","-","-","-","-","-",{"v":1,"d":"1 "},"-","-","-",{"v":17,"d":"17 "},{"v":670,"d":"670 "},{"v":551,"d":"551 "},{"v":119,"d":"119 "},"-",30,27,14,12,1,"-",1,2,33,20,4,14,2,10,"-",3]
["山梨県","都留市","宝村","川棚",{"v":11,"d":"11 "},{"v":2,"d":"2 "},"x","x","x","x","x",{"v":9,"d":"9 "},"x","x","x","x","x","x","x","x","x","x","x","x","x","x","x","x",47.4,62.5,37.3,"x","x","x","x","x","x","x","x","x","x","x","x","x","x","x","x",{"v":62,"d":"62.0"},{"v":62,"d":"62.0"},"…","x","x","x","x","x","x","x","x","x","x","x","x","x","x","x","x",{"v":62,"d":"62.0"},{"v":62,"d":"62.0"},"…",{"v":2,"d":"2 "},"-","-","-","-","-","-","-","-","-",{"v":2,"d":"2 "},"-","-","-","-","-",{"v":1,"d":"1 "},"-","-","-","-","-","-","-",{"v":1,"d":"1 "},"-","-","-","-","-",{"$nulls":7},{"v":10,"d":"10 "},{"v":7,"d":"7 "},{"v":1,"d":"1 "},{"v":6,"d":"6 "},"-",{"v":1,"d":"1 "},"-",{"v":2,"d":"2 "},{"v":1,"d":"1 "},{"v":1,"d":"1 "},"-","-","-","-","-","-","-","-","-","-","-","-","-","-",{"v":2,"d":"2 "},{"v":86,"d":"86 "},{"v":76,"d":"76 "},{"v":10,"d":"10 "},"-",3,2,1,1,"-","-","-",1,7,5,"-",5,"-",1,"-",1]
["山梨県","都留市","宝村","厚原",{"v":3,"d":"3 "},{"v":1,"d":"1 "},"x","x","x","x","x",{"v":2,"d":"2 "},"x","x","x","x","x","x","x","x","x","x","x","x","x","x","x","x",41.5,{"v":43,"d":"43.0"},{"v":40,"d":"40.0"},"x","x","x","x","x","x","x","x","x","x","x","x","x","x","x","x",{"v":60,"d":"60.0"},{"v":62,"d":"62.0"},{"v":58,"d":"58.0"},"x","x","x","x","x","x","x","x","x","x","x","x","x","x","x","x",{"v":62,"d":"62.0"},{"v":62,"d":"62.0"},"…",{"v":1,"d":"1 "},"-","-","-","-","-","-","-","-","-",{"v":1,"d":"1 "},"-","-","-","-","-",{"v":1,"d":"1 "},"-","-","-","-","-","-","-",{"v":1,"d":"1 "},"-","-","-","-","-",{"$nulls":7},{"v":4,"d":"4 "},{"v":3,"d":"3 "},{"v":1,"d":"1 "},{"v":2,"d":"2 "},"-",{"v":1,"d":"1 "},"-","-","-","-","-","-","-","-","-","-","-","-","-","-","-","-","-","-",{"v":1,"d":"1 "},{"v":65,"d":"65 "},{"v":65,"d":"65 "},"-","-",2,2,1,1,"-","-","-","-",2,1,"-",1,"-",1,"-","-"]
["山梨県","都留市","宝村","平栗",{"v":9,"d":"9 "},{"v":1,"d":"1 "},"x","x","x","x","x",{"v":8,"d":"8 "},"x","x","x","x","x","x","x","x","x","x","x","x","x","x","x","x",35.5,{"v":36,"d":"36.0"},{"v":35,"d":"35.0"},"x","x","x","x","x","x","x","x","x","x","x","x","x","x","x","x","…","…","…","x","x","x","x","x","x","x","x","x","x","x","x","x","x","x","x","…","…","…",{"v":1,"d":"1 "},"-","-","-","-",{"v":1,"d":"1 "},"-","-","-","-","-","-","-","-","-","-","-","-","-","-","-","-","-","-","-","-","-","-","-","-",{"$nulls":7},{"v":2,"d":"2 "},{"v":2,"d":"2 "},"-","-",{"v":2,"d":"2 "},"-","-","-","-","-","-","-","-","-","-","-","-","-","-","-","-","-","-","-",{"v":1,"d":"1 "},{"v":30,"d":"30 "},{"v":30,"d":"30 "},"-","-",1,1,"-","-",1,"-","-","-",1,1,"-","-",1,"-","-","-"]
["山梨県","都留市","宝村","加畑",{"v":7,"d":"7 "},{"v":1,"d":"1 "},"x","x","x","x","x",{"v":6,"d":"6 "},"x","x","x","x","x","x","x","x","x","x","x","x","x","x","x","x",61.3,67.5,{"v":49,"d":"49.0"},"x","x","x","x","x","x","x","x","x","x","x","x","x","x","x","x",61.3,67.5,{"v":49,"d":"49.0"},"x","x","x","x","x","x","x","x","x","x","x","x","x","x","x","x",61.3,67.5,{"v":49,"d":"49.0"},{"v":1,"d":"1 "},"-","-","-","-","-","-","-",{"v":1,"d":"1 "},"-","-","-","-","-","-","-","-","-","-","-","-","-","-","-","-","-","-","-","-","-",{"$nulls":7},{"v":5,"d":"5 "},{"v":3,"d":"3 "},{"v":3,"d":"3 "},"-","-",{"v":1,"d":"1 "},{"v":1,"d":"1 "},"-",{"v":1,"d":"1 "},"-","-","-","-","-","-","-","-","-","-","-",{"v":1,"d":"1 "},"-","-","-",{"v":1,"d":"1 "},{"v":30,"d":"30 "},"-",{"v":30,"d":"30 "},"-",3,2,2,"-","-","-",1,"-",2,1,1,"-","-",1,"-","-"]
["山梨県","都留市","宝村","金井",{"v":20,"d":"20 "},{"v":2,"d":"2 "},"x","x","x","x","x",{"v":18,"d":"18 "},"x","x","x","x","x","x","x","x","x","x","x","x","x","x","x","x",{"v":73,"d":"73.0"},{"v":70,"d":"70.0"},{"v":82,"d":"82.0"},"x","x","x","x","x","x","x","x","x","x","x","x","x","x","x","x",{"v":80,"d":"80.0"},{"v":79,"d":"79.0"},{"v":82,"d":"82.0"},"x","x","x","x","x","x","x","x","x","x","x","x","x","x","x","x",{"v":80,"d":"80.0"},{"v":79,"d":"79.0"},{"v":82,"d":"82.0"},{"v":2,"d":"2 "},"-","-","-","-","-","-","-","-","-","-","-","-",{"v":1,"d":"1 "},{"v":1,"d":"1 "},"-",{"v":2,"d":"2 "},"-","-","-","-","-","-","-","-","-","-",{"v":1,"d":"1 "},{"v":1,"d":"1 "},"-",{"$nulls":7},{"v":9,"d":"9 "},{"v":7,"d":"7 "},{"v":3,"d":"3 "},{"v":4,"d":"4 "},"-",{"v":1,"d":"1 "},"-",{"v":1,"d":"1 "},{"v":2,"d":"2 "},{"v":2,"d":"2 "},"-","-","-","-","-","-","-","-","-","-","-","-","-","-",{"v":2,"d":"2 "},{"v":91,"d":"91 "},{"v":70,"d":"70 "},{"v":21,"d":"21 "},"-",5,4,2,2,"-","-","-",1,4,3,1,2,"-",1,"-","-"]
["山梨県","都留市","宝村","中津森",{"v":60,"d":"60 "},{"v":10,"d":"10 "},"-","-",{"v":1,"d":"1 "},"-",{"v":9,"d":"9 "},{"v":50,"d":"50 "},{"v":29,"d":"29 "},"-","-","-","-",{"v":1,"d":"1 "},{"v":4,"d":"4 "},{"v":3,"d":"3 "},{"v":2,"d":"2 "},{"v":1,"d":"1 "},"-",{"v":1,"d":"1 "},{"v":10,"d":"10 "},{"v":5,"d":"5 "},{"v":1,"d":"1 "},{"v":1,"d":"1 "},63.3,60.1,67.2,{"v":17,"d":"17 "},"-","-","-","-","-","-","-","-","-","-",{"v":1,"d":"1 "},{"v":9,"d":"9 "},{"v":5,"d":"5 "},{"v":1,"d":"1 "},{"v":1,"d":"1 "},74.4,74.1,74.6,{"v":10,"d":"10 "},"-","-","-","-","-","-","-","-","-","-",{"v":1,"d":"1 "},{"v":6,"d":"6 "},{"v":3,"d":"3 "},"-","-",73.2,74.1,69.5,{"v":10,"d":"10 "},"-","-","-","-","-","-","-",{"v":1,"d":"1 "},{"v":1,"d":"1 "},"-","-",{"v":5,"d":"5 "},{"v":3,"d":"3 "},"-","-",{"v":7,"d":"7 "},"-","-","-","-","-","-",{"v":1,"d":"1 "},"-","-",{"v":3,"d":"3 "},{"v":3,"d":"3 "},"-","-",{"$nulls":7},{"v":33,"d":"33 "},{"v":25,"d":"25 "},{"v":10,"d":"10 "},{"v":14,"d":"14 "},{"v":1,"d":"1 "},{"v":6,"d":"6 "},"-",{"v":2,"d":"2 "},{"v":5,"d":"5 "},{"v":4,"d":"4 "},"-","-","-",{"v":1,"d":"1 "},"-","-","-","-","-","-","-","-","-","-",{"v":10,"d":"10 "},{"v":368,"d":"368 "},{"v":310,"d":"310 "},{"v":58,"d":"58 "},"-",16,16,8,8,"-","-","-","-",17,9,2,6,1,6,"-",2]
["山梨県","都留市","宝村","下大幡",{"v":11,"d":"11 "},"-","-","-","-","-","-",{"v":11,"d":"11 "},"-","-","-","-","-","-","-","-","-","-","-","-","-","-","-","-","…","…","…","-","-","-","-","-","-","-","-","-","-","-","-","-","-","-","-","…","…","…","-","-","-","-","-","-","-","-","-","-","-","-","-","-","-","-","…","…","…","-","-","-","-","-","-","-","-","-","-","-","-","-","-","-","-","-","-","-","-","-","-","-","-","-","-","-","-","-","-",{"$nulls":7},"-","-","-","-","-","-","-","-","-","-","-","-","-","-","-","-","-","-","-","-","-","-","-","-","-","-","-","-","-","-","-","-","-","-","-","-","-","-","-","-","-","-","-","-","-"]
["山梨県","都留市","宝村","上大幡",{"v":43,"d":"43 "},"-","-","-","-","-","-",{"v":43,"d":"43 "},"-","-","-","-","-","-","-","-","-","-","-","-","-","-","-","-","…","…","…","-","-","-","-","-","-","-","-","-","-","-","-","-","-","-","-","…","…","…","-","-","-","-","-","-","-","-","-","-","-","-","-","-","-","-","…","…","…","-","-","-","-","-","-","-","-","-","-","-","-","-","-","-","-","-","-","-","-","-","-","-","-","-","-","-","-","-","-",{"$nulls":7},"-","-","-","-","-","-","-","-","-","-","-","-","-","-","-","-","-","-","-","-","-","-","-","-","-","-","-","-","-","-","-","-","-","-","-","-","-","-","-","-","-","-","-","-","-"]
["山梨県","都留市","宝村","高畑","-","-","-","-","-","-","-","-","-","-","-","-","-","-","-","-","-","-","-","-","-","-","-","-","…","…","…","-","-","-","-","-","-","-","-","-","-","-","-","-","-","-","-","…","…","…","-","-","-","-","-","-","-","-","-","-","-","-","-","-","-","-","…","…","…","-","-","-","-","-","-","-","-","-","-","-","-","-","-","-","-","-","-","-","-","-","-","-","-","-","-","-","-","-","-",{"$nulls":7},"-","-","-","-","-","-","-","-","-","-","-","-","-","-","-","-","-","-","-","-","-","-","-","-","-","-","-","-","-","-","-","-","-","-","-","-","-","-","-","-","-","-","-","-","-"]
["山梨県","都留市","禾生村",null,{"v":239,"d":"239 "},{"v":44,"d":"44 "},{"v":5,"d":"5 "},{"v":4,"d":"4 "},{"v":5,"d":"5 "},{"v":1,"d":"1 "},{"v":34,"d":"34 "},{"v":195,"d":"195 "},{"v":113,"d":"113 "},{"v":1,"d":"1 "},"-",{"v":3,"d":"3 "},{"v":2,"d":"2 "},{"v":2,"d":"2 "},{"v":6,"d":"6 "},{"v":10,"d":"10 "},{"v":13,"d":"13 "},{"v":14,"d":"14 "},{"v":10,"d":"10 "},{"v":7,"d":"7 "},{"v":13,"d":"13 "},{"v":12,"d":"12 "},{"v":14,"d":"14 "},{"v":6,"d":"6 "},62.3,62.1,62.5,{"v":59,"d":"59 "},"-","-","-","-","-","-",{"v":2,"d":"2 "},{"v":3,"d":"3 "},{"v":4,"d":"4 "},{"v":3,"d":"3 "},{"v":5,"d":"5 "},{"v":12,"d":"12 "},{"v":12,"d":"12 "},{"v":12,"d":"12 "},{"v":6,"d":"6 "},72.7,72.7,72.6,{"v":45,"d":"45 "},"-","-","-","-","-","-","-",{"v":3,"d":"3 "},{"v":3,"d":"3 "},{"v":1,"d":"1 "},{"v":5,"d":"5 "},{"v":10,"d":"10 "},{"v":9,"d":"9 "},{"v":10,"d":"10 "},{"v":4,"d":"4 "},73.2,72.7,74.2,{"v":44,"d":"44 "},"-","-","-","-",{"v":1,"d":"1 "},{"v":1,"d":"1 "},{"v":1,"d":"1 "},{"v":5,"d":"5 "},{"v":7,"d":"7 "},{"v":2,"d":"2 "},{"v":5,"d":"5 "},{"v":8,"d":"8 "},{"v":5,"d":"5 "},{"v":6,"d":"6 "},{"v":3,"d":"3 "},{"v":31,"d":"31 "},"-","-","-","-","-",{"v":1,"d":"1 "},{"v":6,"d":"6 "},{"v":2,"d":"2 "},{"v":3,"d":"3 "},{"v":7,"d":"7 "},{"v":3,"d":"3 "},{"v":6,"d":"6 "},{"v":3,"d":"3 "},{"$nulls":7},{"v":161,"d":"161 "},{"v":110,"d":"110 "},{"v":45,"d":"45 "},{"v":54,"d":"54 "},{"v":11,"d":"11 "},{"v":22,"d":"22 "},{"v":22,"d":"22 "},{"v":7,"d":"7 "},{"v":22,"d":"22 "},{"v":18,"d":"18 "},"-","-","-",{"v":2,"d":"2 "},{"v":1,"d":"1 "},"-","-",{"v":1,"d":"1 "},"-","-","-","-","-","-",{"v":44,"d":"44 "},{"v":2527,"d":"2,527 "},{"v":1473,"d":"1,473 "},{"v":1024,"d":"1,024 "},{"v":30,"d":"30 "},80,69,31,31,7,"-",9,2,81,41,14,23,4,22,13,5]
["山梨県","都留市","禾生村","四日市場",{"v":29,"d":"29 "},{"v":5,"d":"5 "},"x","x","x","x","x",{"v":24,"d":"24 "},"x","x","x","x","x","x","x","x","x","x","x","x","x","x","x","x",64.1,63.5,64.8,"x","x","x","x","x","x","x","x","x","x","x","x","x","x","x","x",{"v":71,"d":"71.0"},69.3,{"v":76,"d":"76.0"},"x","x","x","x","x","x","x","x","x","x","x","x","x","x","x","x",69.3,69.3,"…",{"v":5,"d":"5 "},"-","-","-","-","-","-",{"v":1,"d":"1 "},{"v":1,"d":"1 "},{"v":1,"d":"1 "},"-","-",{"v":2,"d":"2 "},"-","-","-",{"v":2,"d":"2 "},"-","-","-","-","-","-",{"v":1,"d":"1 "},"-","-",{"v":1,"d":"1 "},"-","-","-",{"$nulls":7},{"v":12,"d":"12 "},{"v":9,"d":"9 "},{"v":3,"d":"3 "},{"v":5,"d":"5 "},{"v":1,"d":"1 "},{"v":2,"d":"2 "},"-",{"v":1,"d":"1 "},{"v":2,"d":"2 "},{"v":1,"d":"1 "},"-","-","-",{"v":1,"d":"1 "},"-","-","-","-","-","-","-","-","-","-",{"v":5,"d":"5 "},{"v":183,"d":"183 "},{"v":153,"d":"153 "},{"v":30,"d":"30 "},"-",7,7,3,3,1,"-","-","-",5,2,"-",2,"-",2,"-",1]
["山梨県","都留市","禾生村","古川渡",{"v":51,"d":"51 "},{"v":8,"d":"8 "},{"v":2,"d":"2 "},{"v":2,"d":"2 "},{"v":2,"d":"2 "},"-",{"v":4,"d":"4 "},{"v":43,"d":"43 "},{"v":22,"d":"22 "},"-","-","-",{"v":2,"d":"2 "},"-",{"v":2,"d":"2 "},{"v":2,"d":"2 "},{"v":1,"d":"1 "},{"v":2,"d":"2 "},{"v":4,"d":"4 "},{"v":1,"d":"1 "},{"v":3,"d":"3 "},{"v":2,"d":"2 "},{"v":2,"d":"2 "},{"v":1,"d":"1 "},61.6,61.6,61.5,{"v":11,"d":"11 "},"-","-","-","-","-","-","-","-",{"v":1,"d":"1 "},{"v":1,"d":"1 "},{"v":1,"d":"1 "},{"v":3,"d":"3 "},{"v":2,"d":"2 "},{"v":2,"d":"2 "},{"v":1,"d":"1 "},73.8,72.5,75.4,{"v":8,"d":"8 "},"-","-","-","-","-","-","-","-",{"v":1,"d":"1 "},{"v":1,"d":"1 "},{"v":1,"d":"1 "},{"v":2,"d":"2 "},{"v":1,"d":"1 "},{"v":2,"d":"2 "},"-",71.4,72.5,{"v":68,"d":"68.0"},{"v":8,"d":"8 "},"-","-","-","-","-","-","-","-",{"v":2,"d":"2 "},{"v":1,"d":"1 "},{"v":1,"d":"1 "},{"v":1,"d":"1 "},{"v":1,"d":"1 "},{"v":2,"d":"2 "},"-",{"v":7,"d":"7 "},"-","-","-","-","-","-",{"v":2,"d":"2 "},{"v":1,"d":"1 "},"-",{"v":1,"d":"1 "},{"v":1,"d":"1 "},{"v":2,"d":"2 "},"-",{"$nulls":7},{"v":30,"d":"30 "},{"v":19,"d":"19 "},{"v":8,"d":"8 "},{"v":7,"d":"7 "},{"v":4,"d":"4 "},{"v":5,"d":"5 "},{"v":5,"d":"5 "},{"v":1,"d":"1 "},{"v":7,"d":"7 "},{"v":6,"d":"6 "},"-","-","-","-","-","-","-",{"v":1,"d":"1 "},"-","-","-","-","-","-",{"v":8,"d":"8 "},{"v":387,"d":"387 "},{"v":277,"d":"277 "},{"v":110,"d":"110 "},"-",14,12,6,4,2,"-",2,"-",16,7,2,3,2,5,3,1]
["山梨県","都留市","禾生村","川茂",{"v":20,"d":"20 "},{"v":5,"d":"5 "},"-","-",{"v":1,"d":"1 "},{"v":1,"d":"1 "},{"v":4,"d":"4 "},{"v":15,"d":"15 "},{"v":13,"d":"13 "},"-","-",{"v":1,"d":"1 "},"-",{"v":1,"d":"1 "},{"v":2,"d":"2 "},"-",{"v":1,"d":"1 "},{"v":2,"d":"2 "},{"v":1,"d":"1 "},"-",{"v":2,"d":"2 "},{"v":3,"d":"3 "},"-","-",57.5,{"v":59,"d":"59.0"},56.1,{"v":7,"d":"7 "},"-","-","-","-","-","-","-","-",{"v":2,"d":"2 "},"-","-",{"v":2,"d":"2 "},{"v":3,"d":"3 "},"-","-",69.9,{"v":70,"d":"70.0"},69.8,{"v":6,"d":"6 "},"-","-","-","-","-","-","-","-",{"v":1,"d":"1 "},"-","-",{"v":2,"d":"2 "},{"v":3,"d":"3 "},"-","-",71.8,{"v":70,"d":"70.0"},73.7,{"v":5,"d":"5 "},"-","-","-","-","-",{"v":1,"d":"1 "},"-","-",{"v":1,"d":"1 "},{"v":1,"d":"1 "},"-",{"v":1,"d":"1 "},{"v":1,"d":"1 "},"-","-",{"v":2,"d":"2 "},"-","-","-","-","-","-","-",{"v":1,"d":"1 "},"-",{"v":1,"d":"1 "},"-","-","-",{"$nulls":7},{"v":17,"d":"17 "},{"v":11,"d":"11 "},{"v":6,"d":"6 "},{"v":5,"d":"5 "},"-",{"v":3,"d":"3 "},{"v":2,"d":"2 "},{"v":1,"d":"1 "},{"v":1,"d":"1 "},{"v":1,"d":"1 "},"-","-","-","-","-","-","-","-","-","-","-","-","-","-",{"v":5,"d":"5 "},{"v":269,"d":"269 "},{"v":235,"d":"235 "},{"v":34,"d":"34 "},"-",8,6,3,3,"-","-",1,1,9,5,3,2,"-",3,1,"-"]
["山梨県","都留市","禾生村","古宿",{"v":1,"d":"1 "},"-","-","-","-","-","-",{"v":1,"d":"1 "},"-","-","-","-","-","-","-","-","-","-","-","-","-","-","-","-","…","…","…","-","-","-","-","-","-","-","-","-","-","-","-","-","-","-","-","…","…","…","-","-","-","-","-","-","-","-","-","-","-","-","-","-","-","-","…","…","…","-","-","-","-","-","-","-","-","-","-","-","-","-","-","-","-","-","-","-","-","-","-","-","-","-","-","-","-","-","-",{"$nulls":7},"-","-","-","-","-","-","-","-","-","-","-","-","-","-","-","-","-","-","-","-","-","-","-","-","-","-","-","-","-","-","-","-","-","-","-","-","-","-","-","-","-","-","-","-","-"]
["山梨県","都留市","禾生村","小形山",{"v":67,"d":"67 "},{"v":20,"d":"20 "},{"v":1,"d":"1 "},"-","-","-",{"v":19,"d":"19 "},{"v":47,"d":"47 "},{"v":51,"d":"51 "},{"v":1,"d":"1 "},"-",{"v":2,"d":"2 "},"-",{"v":1,"d":"1 "},{"v":1,"d":"1 "},{"v":5,"d":"5 "},{"v":6,"d":"6 "},{"v":7,"d":"7 "},{"v":4,"d":"4 "},{"v":3,"d":"3 "},{"v":6,"d":"6 "},{"v":4,"d":"4 "},{"v":8,"d":"8 "},{"v":3,"d":"3 "},62.5,61.7,63.5,{"v":29,"d":"29 "},"-","-","-","-","-","-",{"v":2,"d":"2 "},{"v":1,"d":"1 "},{"v":1,"d":"1 "},{"v":2,"d":"2 "},{"v":2,"d":"2 "},{"v":6,"d":"6 "},{"v":4,"d":"4 "},{"v":8,"d":"8 "},{"v":3,"d":"3 "},{"v":73,"d":"73.0"},{"v":74,"d":"74.0"},72.1,{"v":21,"d":"21 "},"-","-","-","-","-","-","-",{"v":1,"d":"1 "},{"v":1,"d":"1 "},"-",{"v":2,"d":"2 "},{"v":5,"d":"5 "},{"v":4,"d":"4 "},{"v":6,"d":"6 "},{"v":2,"d":"2 "},74.9,{"v":74,"d":"74.0"},76.6,{"v":20,"d":"20 "},"-","-","-","-",{"v":1,"d":"1 "},"-","-",{"v":2,"d":"2 "},{"v":3,"d":"3 "},"-",{"v":3,"d":"3 "},{"v":4,"d":"4 "},{"v":2,"d":"2 "},{"v":3,"d":"3 "},{"v":2,"d":"2 "},{"v":16,"d":"16 "},"-","-","-","-","-",{"v":1,"d":"1 "},{"v":3,"d":"3 "},"-",{"v":2,"d":"2 "},{"v":4,"d":"4 "},{"v":1,"d":"1 "},{"v":3,"d":"3 "},{"v":2,"d":"2 "},{"$nulls":7},{"v":82,"d":"82 "},{"v":55,"d":"55 "},{"v":21,"d":"21 "},{"v":33,"d":"33 "},{"v":1,"d":"1 "},{"v":11,"d":"11 "},{"v":12,"d":"12 "},{"v":4,"d":"4 "},{"v":7,"d":"7 "},{"v":6,"d":"6 "},"-","-","-",{"v":1,"d":"1 "},"-","-","-","-","-","-","-","-","-","-",{"v":20,"d":"20 "},{"v":975,"d":"975 "},{"v":559,"d":"559 "},{"v":386,"d":"386 "},{"v":30,"d":"30 "},42,35,14,20,1,"-",6,1,40,20,7,13,"-",11,6,3]
["山梨県","都留市","禾生村","宿",{"v":27,"d":"27 "},{"v":5,"d":"5 "},{"v":1,"d":"1 "},{"v":1,"d":"1 "},"-","-",{"v":4,"d":"4 "},{"v":22,"d":"22 "},{"v":14,"d":"14 "},"-","-","-","-","-","-",{"v":1,"d":"1 "},{"v":2,"d":"2 "},{"v":2,"d":"2 "},{"v":1,"d":"1 "},{"v":2,"d":"2 "},"-",{"v":2,"d":"2 "},{"v":3,"d":"3 "},{"v":1,"d":"1 "},67.5,66.9,68.3,{"v":8,"d":"8 "},"-","-","-","-","-","-","-",{"v":1,"d":"1 "},"-","-",{"v":2,"d":"2 "},"-",{"v":2,"d":"2 "},{"v":2,"d":"2 "},{"v":1,"d":"1 "},73.3,{"v":73,"d":"73.0"},73.7,{"v":7,"d":"7 "},"-","-","-","-","-","-","-",{"v":1,"d":"1 "},"-","-",{"v":2,"d":"2 "},"-",{"v":1,"d":"1 "},{"v":2,"d":"2 "},{"v":1,"d":"1 "},{"v":73,"d":"73.0"},{"v":73,"d":"73.0"},{"v":73,"d":"73.0"},{"v":5,"d":"5 "},"-","-","-","-","-","-","-",{"v":1,"d":"1 "},"-","-",{"v":1,"d":"1 "},"-",{"v":1,"d":"1 "},{"v":1,"d":"1 "},{"v":1,"d":"1 "},{"v":4,"d":"4 "},"-","-","-","-","-","-","-","-",{"v":1,"d":"1 "},"-",{"v":1,"d":"1 "},{"v":1,"d":"1 "},{"v":1,"d":"1 "},{"$nulls":7},{"v":17,"d":"17 "},{"v":14,"d":"14 "},{"v":7,"d":"7 "},{"v":2,"d":"2 "},{"v":5,"d":"5 "},{"v":1,"d":"1 "},{"v":2,"d":"2 "},"-",{"v":4,"d":"4 "},{"v":3,"d":"3 "},"-","-","-","-",{"v":1,"d":"1 "},"-","-","-","-","-","-","-","-","-",{"v":5,"d":"5 "},{"v":660,"d":"660 "},{"v":208,"d":"208 "},{"v":452,"d":"452 "},"-",8,8,5,"-",3,"-","-","-",9,6,2,2,2,1,2,"-"]
["山梨県","都留市","禾生村","門前",{"v":26,"d":"26 "},"-","-","-","-","-","-",{"v":26,"d":"26 "},"-","-","-","-","-","-","-","-","-","-","-","-","-","-","-","-","…","…","…","-","-","-","-","-","-","-","-","-","-","-","-","-","-","-","-","…","…","…","-","-","-","-","-","-","-","-","-","-","-","-","-","-","-","-","…","…","…","-","-","-","-","-","-","-","-","-","-","-","-","-","-","-","-","-","-","-","-","-","-","-","-","-","-","-","-","-","-",{"$nulls":7},"-","-","-","-","-","-","-","-","-","-","-","-","-","-","-","-","-","-","-","-","-","-","-","-","-","-","-","-","-","-","-","-","-","-","-","-","-","-","-","-","-","-","-","-","-"]
["山梨県","都留市","禾生村","井倉",{"v":14,"d":"14 "},{"v":1,"d":"1 "},"x","x","x","x","x",{"v":13,"d":"13 "},"x","x","x","x","x","x","x","x","x","x","x","x","x","x","x","x",{"v":49,"d":"49.0"},{"v":52,"d":"52.0"},{"v":46,"d":"46.0"},"x","x","x","x","x","x","x","x","x","x","x","x","x","x","x","x","…","…","…","x","x","x","x","x","x","x","x","x","x","x","x","x","x","x","x","…","…","…",{"v":1,"d":"1 "},"-","-","-","-","-","-","-",{"v":1,"d":"1 "},"-","-","-","-","-","-","-","-","-","-","-","-","-","-","-","-","-","-","-","-","-",{"$nulls":7},{"v":3,"d":"3 "},{"v":2,"d":"2 "},"-",{"v":2,"d":"2 "},"-","-",{"v":1,"d":"1 "},"-",{"v":1,"d":"1 "},{"v":1,"d":"1 "},"-","-","-","-","-","-","-","-","-","-","-","-","-","-",{"v":1,"d":"1 "},{"v":53,"d":"53 "},{"v":41,"d":"41 "},{"v":12,"d":"12 "},"-",1,1,"-",1,"-","-","-","-",2,1,"-",1,"-","-",1,"-"]
["山梨県","都留市","禾生村","九鬼",{"v":4,"d":"4 "},"-","-","-","-","-","-",{"v":4,"d":"4 "},"-","-","-","-","-","-","-","-","-","-","-","-","-","-","-","-","…","…","…","-","-","-","-","-","-","-","-","-","-","-","-","-","-","-","-","…","…","…","-","-","-","-","-","-","-","-","-","-","-","-","-","-","-","-","…","…","…","-","-","-","-","-","-","-","-","-","-","-","-","-","-","-","-","-","-","-","-","-","-","-","-","-","-","-","-","-","-",{"$nulls":7},"-","-","-","-","-","-","-","-","-","-","-","-","-","-","-","-","-","-","-","-","-","-","-","-","-","-","-","-","-","-","-","-","-","-","-","-","-","-","-","-","-","-","-","-","-"]
["山梨県","都留市","盛里村",null,{"v":140,"d":"140 "},{"v":32,"d":"32 "},"-","-",{"v":3,"d":"3 "},{"v":1,"d":"1 "},{"v":29,"d":"29 "},{"v":108,"d":"108 "},{"v":94,"d":"94 "},{"v":3,"d":"3 "},{"v":1,"d":"1 "},{"v":3,"d":"3 "},{"v":2,"d":"2 "},{"v":7,"d":"7 "},{"v":4,"d":"4 "},{"v":8,"d":"8 "},{"v":8,"d":"8 "},{"v":8,"d":"8 "},{"v":18,"d":"18 "},{"v":7,"d":"7 "},{"v":8,"d":"8 "},{"v":4,"d":"4 "},{"v":8,"d":"8 "},{"v":5,"d":"5 "},58.2,59.5,56.8,{"v":33,"d":"33 "},"-","-","-","-","-","-","-","-",{"v":1,"d":"1 "},{"v":9,"d":"9 "},{"v":5,"d":"5 "},{"v":5,"d":"5 "},{"v":3,"d":"3 "},{"v":6,"d":"6 "},{"v":4,"d":"4 "},72.6,72.2,73.1,{"v":23,"d":"23 "},"-","-","-","-","-","-","-","-","-",{"v":8,"d":"8 "},{"v":4,"d":"4 "},{"v":4,"d":"4 "},{"v":2,"d":"2 "},{"v":3,"d":"3 "},{"v":2,"d":"2 "},70.8,71.6,68.7,{"v":32,"d":"32 "},"-","-","-","-","-","-",{"v":3,"d":"3 "},{"v":1,"d":"1 "},{"v":2,"d":"2 "},{"v":10,"d":"10 "},{"v":4,"d":"4 "},{"v":6,"d":"6 "},{"v":1,"d":"1 "},{"v":3,"d":"3 "},{"v":2,"d":"2 "},{"v":27,"d":"27 "},"-","-","-","-",{"v":1,"d":"1 "},"-",{"v":2,"d":"2 "},{"v":8,"d":"8 "},{"v":4,"d":"4 "},{"v":6,"d":"6 "},{"v":1,"d":"1 "},{"v":3,"d":"3 "},{"v":2,"d":"2 "},{"$nulls":7},{"v":124,"d":"124 "},{"v":76,"d":"76 "},{"v":23,"d":"23 "},{"v":46,"d":"46 "},{"v":7,"d":"7 "},{"v":19,"d":"19 "},{"v":10,"d":"10 "},{"v":19,"d":"19 "},{"v":8,"d":"8 "},{"v":6,"d":"6 "},"-","-","-",{"v":1,"d":"1 "},"-","-",{"v":1,"d":"1 "},"-","-","-","-","-","-","-",{"v":32,"d":"32 "},{"v":1529,"d":"1,529 "},{"v":1023,"d":"1,023 "},{"v":489,"d":"489 "},{"v":17,"d":"17 "},56,47,17,24,6,1,2,6,68,29,6,22,1,18,8,13]
["山梨県","都留市","盛里村","与繩",{"v":37,"d":"37 "},{"v":10,"d":"10 "},"-","-",{"v":1,"d":"1 "},"-",{"v":9,"d":"9 "},{"v":27,"d":"27 "},{"v":29,"d":"29 "},"-","-",{"v":3,"d":"3 "},"-",{"v":2,"d":"2 "},{"v":1,"d":"1 "},{"v":1,"d":"1 "},{"v":2,"d":"2 "},{"v":4,"d":"4 "},{"v":6,"d":"6 "},{"v":1,"d":"1 "},{"v":4,"d":"4 "},"-",{"v":4,"d":"4 "},{"v":1,"d":"1 "},59.2,56.4,62.2,{"v":11,"d":"11 "},"-","-","-","-","-","-","-","-","-",{"v":5,"d":"5 "},"-",{"v":2,"d":"2 "},"-",{"v":3,"d":"3 "},{"v":1,"d":"1 "},71.4,{"v":69,"d":"69.0"},72.7,{"v":6,"d":"6 "},"-","-","-","-","-","-","-","-","-",{"v":4,"d":"4 "},"-",{"v":1,"d":"1 "},"-",{"v":1,"d":"1 "},"-",66.5,{"v":69,"d":"69.0"},61.5,{"v":10,"d":"10 "},"-","-","-","-","-","-","-",{"v":1,"d":"1 "},{"v":2,"d":"2 "},{"v":3,"d":"3 "},"-",{"v":3,"d":"3 "},"-",{"v":1,"d":"1 "},"-",{"v":8,"d":"8 "},"-","-","-","-","-","-",{"v":2,"d":"2 "},{"v":2,"d":"2 "},"-",{"v":3,"d":"3 "},"-",{"v":1,"d":"1 "},"-",{"$nulls":7},{"v":39,"d":"39 "},{"v":26,"d":"26 "},{"v":6,"d":"6 "},{"v":16,"d":"16 "},{"v":4,"d":"4 "},{"v":5,"d":"5 "},"-",{"v":8,"d":"8 "},{"v":3,"d":"3 "},{"v":3,"d":"3 "},"-","-","-","-","-","-","-","-","-","-","-","-","-","-",{"v":10,"d":"10 "},{"v":482,"d":"482 "},{"v":345,"d":"345 "},{"v":127,"d":"127 "},{"v":10,"d":"10 "},19,17,4,9,4,"-","-",2,20,9,2,7,"-",5,"-",6]
["山梨県","都留市","盛里村","馬場",{"v":24,"d":"24 "},{"v":3,"d":"3 "},"x","x","x","x","x",{"v":21,"d":"21 "},"x","x","x","x","x","x","x","x","x","x","x","x","x","x","x","x",59.2,59.3,59.2,"x","x","x","x","x","x","x","x","x","x","x","x","x","x","x","x",69.5,{"v":69,"d":"69.0"},{"v":70,"d":"70.0"},"x","x","x","x","x","x","x","x","x","x","x","x","x","x","x","x",69.5,{"v":69,"d":"69.0"},{"v":70,"d":"70.0"},{"v":3,"d":"3 "},"-","-","-","-","-","-","-","-","-",{"v":1,"d":"1 "},{"v":2,"d":"2 "},"-","-","-","-",{"v":3,"d":"3 "},"-","-","-","-","-","-","-",{"v":1,"d":"1 "},{"v":2,"d":"2 "},"-","-","-","-",{"$nulls":7},{"v":9,"d":"9 "},{"v":9,"d":"9 "},{"v":4,"d":"4 "},{"v":5,"d":"5 "},"-","-","-","-",{"v":1,"d":"1 "},"-","-","-","-",{"v":1,"d":"1 "},"-","-","-","-","-","-","-","-","-","-",{"v":3,"d":"3 "},{"v":259,"d":"259 "},{"v":158,"d":"158 "},{"v":101,"d":"101 "},"-",4,4,2,2,"-","-","-","-",5,5,2,3,"-","-","-","-"]
["山梨県","都留市","盛里村","神門，久保",{"v":29,"d":"29 "},{"v":10,"d":"10 "},"-","-",{"v":1,"d":"1 "},{"v":1,"d":"1 "},{"v":9,"d":"9 "},{"v":19,"d":"19 "},{"v":30,"d":"30 "},{"v":2,"d":"2 "},"-","-",{"v":2,"d":"2 "},{"v":2,"d":"2 "},{"v":2,"d":"2 "},{"v":4,"d":"4 "},{"v":1,"d":"1 "},{"v":2,"d":"2 "},{"v":6,"d":"6 "},{"v":1,"d":"1 "},{"v":3,"d":"3 "},{"v":2,"d":"2 "},{"v":1,"d":"1 "},{"v":2,"d":"2 "},56.3,{"v":59,"d":"59.0"},53.2,{"v":10,"d":"10 "},"-","-","-","-","-","-","-","-",{"v":1,"d":"1 "},{"v":2,"d":"2 "},"-",{"v":3,"d":"3 "},{"v":1,"d":"1 "},{"v":1,"d":"1 "},{"v":2,"d":"2 "},74.5,73.1,77.7,{"v":6,"d":"6 "},"-","-","-","-","-","-","-","-","-",{"v":2,"d":"2 "},"-",{"v":3,"d":"3 "},"-","-",{"v":1,"d":"1 "},71.7,71.7,"…",{"v":10,"d":"10 "},"-","-","-","-","-","-",{"v":1,"d":"1 "},"-","-",{"v":4,"d":"4 "},"-",{"v":3,"d":"3 "},"-",{"v":1,"d":"1 "},{"v":1,"d":"1 "},{"v":9,"d":"9 "},"-","-","-","-",{"v":1,"d":"1 "},"-","-",{"v":3,"d":"3 "},"-",{"v":3,"d":"3 "},"-",{"v":1,"d":"1 "},{"v":1,"d":"1 "},{"$nulls":7},{"v":39,"d":"39 "},{"v":21,"d":"21 "},{"v":6,"d":"6 "},{"v":15,"d":"15 "},"-",{"v":9,"d":"9 "},{"v":4,"d":"4 "},{"v":5,"d":"5 "},{"v":2,"d":"2 "},{"v":1,"d":"1 "},"-","-","-","-","-","-",{"v":1,"d":"1 "},"-","-","-","-","-","-","-",{"v":10,"d":"10 "},{"v":428,"d":"428 "},{"v":285,"d":"285 "},{"v":136,"d":"136 "},{"v":7,"d":"7 "},18,15,6,9,"-",1,"-",2,21,6,"-",6,"-",8,4,3]
["山梨県","都留市","盛里村","曽雌",{"v":29,"d":"29 "},{"v":1,"d":"1 "},"x","x","x","x","x",{"v":28,"d":"28 "},"x","x","x","x","x","x","x","x","x","x","x","x","x","x","x","x",66.5,{"v":67,"d":"67.0"},{"v":66,"d":"66.0"},"x","x","x","x","x","x","x","x","x","x","x","x","x","x","x","x",{"v":80,"d":"80.0"},{"v":80,"d":"80.0"},"…","x","x","x","x","x","x","x","x","x","x","x","x","x","x","x","x",{"v":80,"d":"80.0"},{"v":80,"d":"80.0"},"…",{"v":1,"d":"1 "},"-","-","-","-","-","-","-","-","-","-","-","-","-",{"v":1,"d":"1 "},"-",{"v":1,"d":"1 "},"-","-","-","-","-","-","-","-","-","-","-",{"v":1,"d":"1 "},"-",{"$nulls":7},{"v":5,"d":"5 "},{"v":3,"d":"3 "},{"v":1,"d":"1 "},{"v":2,"d":"2 "},"-",{"v":1,"d":"1 "},{"v":1,"d":"1 "},"-",{"v":1,"d":"1 "},{"v":1,"d":"1 "},"-","-","-","-","-","-","-","-","-","-","-","-","-","-",{"v":1,"d":"1 "},{"v":48,"d":"48 "},{"v":42,"d":"42 "},{"v":6,"d":"6 "},"-",3,2,1,1,"-","-",1,"-",2,1,"-",1,"-",1,"-","-"]
["山梨県","都留市","盛里村","大平",{"v":21,"d":"21 "},{"v":8,"d":"8 "},"-","-",{"v":1,"d":"1 "},"-",{"v":7,"d":"7 "},{"v":13,"d":"13 "},{"v":22,"d":"22 "},{"v":1,"d":"1 "},{"v":1,"d":"1 "},"-","-",{"v":1,"d":"1 "},{"v":1,"d":"1 "},{"v":3,"d":"3 "},{"v":3,"d":"3 "},{"v":1,"d":"1 "},{"v":3,"d":"3 "},{"v":3,"d":"3 "},{"v":1,"d":"1 "},{"v":1,"d":"1 "},{"v":1,"d":"1 "},{"v":2,"d":"2 "},57.4,63.7,52.1,{"v":7,"d":"7 "},"-","-","-","-","-","-","-","-","-",{"v":1,"d":"1 "},{"v":3,"d":"3 "},"-",{"v":1,"d":"1 "},{"v":1,"d":"1 "},{"v":1,"d":"1 "},72.4,73.3,71.3,{"v":6,"d":"6 "},"-","-","-","-","-","-","-","-","-",{"v":1,"d":"1 "},{"v":2,"d":"2 "},"-",{"v":1,"d":"1 "},{"v":1,"d":"1 "},{"v":1,"d":"1 "},73.7,73.3,74.5,{"v":8,"d":"8 "},"-","-","-","-","-","-",{"v":2,"d":"2 "},"-","-",{"v":2,"d":"2 "},{"v":2,"d":"2 "},"-",{"v":1,"d":"1 "},"-",{"v":1,"d":"1 "},{"v":6,"d":"6 "},"-","-","-","-","-","-","-",{"v":2,"d":"2 "},{"v":2,"d":"2 "},"-",{"v":1,"d":"1 "},"-",{"v":1,"d":"1 "},{"$nulls":7},{"v":32,"d":"32 "},{"v":17,"d":"17 "},{"v":6,"d":"6 "},{"v":8,"d":"8 "},{"v":3,"d":"3 "},{"v":4,"d":"4 "},{"v":5,"d":"5 "},{"v":6,"d":"6 "},{"v":1,"d":"1 "},{"v":1,"d":"1 "},"-","-","-","-","-","-","-","-","-","-","-","-","-","-",{"v":8,"d":"8 "},{"v":312,"d":"312 "},{"v":193,"d":"193 "},{"v":119,"d":"119 "},"-",12,9,4,3,2,"-",1,2,20,8,2,5,1,4,4,4]
["山梨県","都留市","東桂村",null,{"v":255,"d":"255 "},{"v":48,"d":"48 "},{"v":3,"d":"3 "},{"v":2,"d":"2 "},{"v":5,"d":"5 "},{"v":1,"d":"1 "},{"v":40,"d":"40 "},{"v":207,"d":"207 "},{"v":145,"d":"145 "},{"v":7,"d":"7 "},{"v":6,"d":"6 "},{"v":3,"d":"3 "},{"v":7,"d":"7 "},{"v":6,"d":"6 "},{"v":11,"d":"11 "},{"v":11,"d":"11 "},{"v":9,"d":"9 "},{"v":18,"d":"18 "},{"v":9,"d":"9 "},{"v":11,"d":"11 "},{"v":11,"d":"11 "},{"v":15,"d":"15 "},{"v":15,"d":"15 "},{"v":6,"d":"6 "},56.9,58.6,54.8,{"v":48,"d":"48 "},"-","-","-","-","-",{"v":1,"d":"1 "},"-",{"v":1,"d":"1 "},{"v":1,"d":"1 "},{"v":2,"d":"2 "},{"v":7,"d":"7 "},{"v":8,"d":"8 "},{"v":10,"d":"10 "},{"v":14,"d":"14 "},{"v":4,"d":"4 "},{"v":75,"d":"75.0"},75.4,74.3,{"v":39,"d":"39 "},"-","-","-","-","-",{"v":1,"d":"1 "},"-","-",{"v":1,"d":"1 "},{"v":2,"d":"2 "},{"v":5,"d":"5 "},{"v":6,"d":"6 "},{"v":10,"d":"10 "},{"v":10,"d":"10 "},{"v":4,"d":"4 "},75.6,75.4,{"v":76,"d":"76.0"},{"v":48,"d":"48 "},"-","-","-","-","-",{"v":1,"d":"1 "},{"v":1,"d":"1 "},{"v":2,"d":"2 "},{"v":5,"d":"5 "},{"v":5,"d":"5 "},{"v":5,"d":"5 "},{"v":7,"d":"7 "},{"v":11,"d":"11 "},{"v":8,"d":"8 "},{"v":3,"d":"3 "},{"v":36,"d":"36 "},"-","-","-","-",{"v":1,"d":"1 "},"-",{"v":2,"d":"2 "},{"v":5,"d":"5 "},{"v":4,"d":"4 "},{"v":5,"d":"5 "},{"v":9,"d":"9 "},{"v":7,"d":"7 "},{"v":3,"d":"3 "},{"$nulls":7},{"v":186,"d":"186 "},{"v":121,"d":"121 "},{"v":39,"d":"39 "},{"v":68,"d":"68 "},{"v":14,"d":"14 "},{"v":32,"d":"32 "},{"v":19,"d":"19 "},{"v":14,"d":"14 "},{"v":18,"d":"18 "},{"v":7,"d":"7 "},"-","-","-",{"v":7,"d":"7 "},"-",{"v":3,"d":"3 "},"-","-","-","-","-","-","-",{"v":1,"d":"1 "},{"v":47,"d":"47 "},{"v":2249,"d":"2,249 "},{"v":1708,"d":"1,708 "},{"v":439,"d":"439 "},{"v":102,"d":"102 "},90,77,29,38,10,"-",7,6,96,44,10,30,4,32,12,8]
["山梨県","都留市","東桂村","十日市場",{"v":50,"d":"50 "},{"v":14,"d":"14 "},{"v":1,"d":"1 "},{"v":1,"d":"1 "},{"v":4,"d":"4 "},{"v":1,"d":"1 "},{"v":9,"d":"9 "},{"v":36,"d":"36 "},{"v":42,"d":"42 "},{"v":1,"d":"1 "},{"v":1,"d":"1 "},"-",{"v":2,"d":"2 "},{"v":1,"d":"1 "},{"v":4,"d":"4 "},{"v":7,"d":"7 "},{"v":3,"d":"3 "},{"v":3,"d":"3 "},{"v":3,"d":"3 "},{"v":2,"d":"2 "},{"v":4,"d":"4 "},{"v":5,"d":"5 "},{"v":4,"d":"4 "},{"v":2,"d":"2 "},58.6,58.5,58.7,{"v":17,"d":"17 "},"-","-","-","-","-","-","-","-",{"v":1,"d":"1 "},{"v":2,"d":"2 "},{"v":2,"d":"2 "},{"v":3,"d":"3 "},{"v":3,"d":"3 "},{"v":4,"d":"4 "},{"v":2,"d":"2 "},74.5,74.6,74.3,{"v":16,"d":"16 "},"-","-","-","-","-","-","-","-",{"v":1,"d":"1 "},{"v":2,"d":"2 "},{"v":2,"d":"2 "},{"v":2,"d":"2 "},{"v":3,"d":"3 "},{"v":4,"d":"4 "},{"v":2,"d":"2 "},74.8,74.6,75.2,{"v":14,"d":"14 "},"-","-","-","-","-","-","-","-",{"v":1,"d":"1 "},{"v":2,"d":"2 "},{"v":1,"d":"1 "},{"v":3,"d":"3 "},{"v":3,"d":"3 "},{"v":2,"d":"2 "},{"v":2,"d":"2 "},{"v":13,"d":"13 "},"-","-","-","-","-","-",{"v":1,"d":"1 "},{"v":2,"d":"2 "},{"v":1,"d":"1 "},{"v":3,"d":"3 "},{"v":3,"d":"3 "},{"v":1,"d":"1 "},{"v":2,"d":"2 "},{"$nulls":7},{"v":59,"d":"59 "},{"v":39,"d":"39 "},{"v":16,"d":"16 "},{"v":18,"d":"18 "},{"v":5,"d":"5 "},{"v":7,"d":"7 "},{"v":8,"d":"8 "},{"v":5,"d":"5 "},{"v":9,"d":"9 "},{"v":2,"d":"2 "},"-","-","-",{"v":6,"d":"6 "},"-","-","-","-","-","-","-","-","-",{"v":1,"d":"1 "},{"v":13,"d":"13 "},{"v":547,"d":"547 "},{"v":443,"d":"443 "},{"v":104,"d":"104 "},"-",30,24,11,9,4,"-",4,2,29,15,5,9,1,7,4,3]
["山梨県","都留市","東桂村","下夏狩",{"v":27,"d":"27 "},{"v":4,"d":"4 "},"-","-","-","-",{"v":4,"d":"4 "},{"v":23,"d":"23 "},{"v":13,"d":"13 "},"-","-",{"v":1,"d":"1 "},{"v":1,"d":"1 "},{"v":2,"d":"2 "},"-","-","-",{"v":2,"d":"2 "},"-",{"v":4,"d":"4 "},{"v":1,"d":"1 "},"-",{"v":1,"d":"1 "},{"v":1,"d":"1 "},58.5,57.1,60.6,{"v":7,"d":"7 "},"-","-","-","-","-","-","-","-","-","-",{"v":4,"d":"4 "},{"v":1,"d":"1 "},"-",{"v":1,"d":"1 "},{"v":1,"d":"1 "},73.3,74.5,71.7,{"v":4,"d":"4 "},"-","-","-","-","-","-","-","-","-","-",{"v":2,"d":"2 "},{"v":1,"d":"1 "},"-","-",{"v":1,"d":"1 "},74.5,74.5,"…",{"v":4,"d":"4 "},"-","-","-","-","-","-","-","-","-","-",{"v":2,"d":"2 "},{"v":1,"d":"1 "},"-","-",{"v":1,"d":"1 "},{"v":3,"d":"3 "},"-","-","-","-","-","-","-","-",{"v":2,"d":"2 "},"-","-","-",{"v":1,"d":"1 "},{"$nulls":7},{"v":15,"d":"15 "},{"v":11,"d":"11 "},{"v":4,"d":"4 "},{"v":7,"d":"7 "},"-",{"v":4,"d":"4 "},"-","-",{"v":1,"d":"1 "},{"v":1,"d":"1 "},"-","-","-","-","-","-","-","-","-","-","-","-","-","-",{"v":4,"d":"4 "},{"v":201,"d":"201 "},{"v":149,"d":"149 "},{"v":52,"d":"52 "},"-",8,8,4,4,"-","-","-","-",7,3,"-",3,"-",4,"-","-"]
["山梨県","都留市","東桂村","上夏狩",{"v":31,"d":"31 "},{"v":8,"d":"8 "},{"v":1,"d":"1 "},{"v":1,"d":"1 "},"-","-",{"v":7,"d":"7 "},{"v":23,"d":"23 "},{"v":22,"d":"22 "},{"v":3,"d":"3 "},{"v":2,"d":"2 "},"-",{"v":2,"d":"2 "},"-",{"v":5,"d":"5 "},{"v":2,"d":"2 "},{"v":1,"d":"1 "},"-",{"v":2,"d":"2 "},"-",{"v":2,"d":"2 "},{"v":2,"d":"2 "},{"v":1,"d":"1 "},"-",46.2,51.7,34.4,{"v":6,"d":"6 "},"-","-","-","-","-",{"v":1,"d":"1 "},"-","-","-","-","-",{"v":2,"d":"2 "},{"v":2,"d":"2 "},{"v":1,"d":"1 "},"-",70.8,70.8,"…",{"v":6,"d":"6 "},"-","-","-","-","-",{"v":1,"d":"1 "},"-","-","-","-","-",{"v":2,"d":"2 "},{"v":2,"d":"2 "},{"v":1,"d":"1 "},"-",70.8,70.8,"…",{"v":8,"d":"8 "},"-","-","-","-","-",{"v":1,"d":"1 "},{"v":1,"d":"1 "},"-","-",{"v":1,"d":"1 "},"-",{"v":2,"d":"2 "},{"v":2,"d":"2 "},{"v":1,"d":"1 "},"-",{"v":5,"d":"5 "},"-","-","-","-",{"v":1,"d":"1 "},"-","-",{"v":1,"d":"1 "},"-",{"v":1,"d":"1 "},{"v":1,"d":"1 "},{"v":1,"d":"1 "},"-",{"$nulls":7},{"v":31,"d":"31 "},{"v":20,"d":"20 "},{"v":6,"d":"6 "},{"v":10,"d":"10 "},{"v":4,"d":"4 "},{"v":5,"d":"5 "},{"v":5,"d":"5 "},{"v":1,"d":"1 "},{"v":2,"d":"2 "},"-","-","-","-",{"v":1,"d":"1 "},"-",{"v":1,"d":"1 "},"-","-","-","-","-","-","-","-",{"v":8,"d":"8 "},{"v":340,"d":"340 "},{"v":226,"d":"226 "},{"v":99,"d":"99 "},{"v":15,"d":"15 "},17,15,6,7,2,"-",2,"-",14,5,"-",3,2,5,3,1]
["山梨県","都留市","東桂村","桂町",{"v":14,"d":"14 "},{"v":1,"d":"1 "},"x","x","x","x","x",{"v":13,"d":"13 "},"x","x","x","x","x","x","x","x","x","x","x","x","x","x","x","x",65.3,{"v":69,"d":"69.0"},{"v":58,"d":"58.0"},"x","x","x","x","x","x","x","x","x","x","x","x","x","x","x","x",{"v":79,"d":"79.0"},{"v":79,"d":"79.0"},"…","x","x","x","x","x","x","x","x","x","x","x","x","x","x","x","x",{"v":79,"d":"79.0"},{"v":79,"d":"79.0"},"…",{"v":1,"d":"1 "},"-","-","-","-","-","-","-","-","-","-","-","-",{"v":1,"d":"1 "},"-","-",{"v":1,"d":"1 "},"-","-","-","-","-","-","-","-","-","-",{"v":1,"d":"1 "},"-","-",{"$nulls":7},{"v":3,"d":"3 "},{"v":2,"d":"2 "},{"v":1,"d":"1 "},{"v":1,"d":"1 "},"-",{"v":1,"d":"1 "},"-","-","-","-","-","-","-","-","-","-","-","-","-","-","-","-","-","-",{"v":1,"d":"1 "},{"v":40,"d":"40 "},{"v":30,"d":"30 "},{"v":10,"d":"10 "},"-",2,2,1,1,"-","-","-","-",1,"-","-","-","-",1,"-","-"]
["山梨県","都留市","東桂村","古渡",{"v":40,"d":"40 "},{"v":8,"d":"8 "},"-","-",{"v":1,"d":"1 "},"-",{"v":7,"d":"7 "},{"v":32,"d":"32 "},{"v":22,"d":"22 "},{"v":2,"d":"2 "},{"v":1,"d":"1 "},"-",{"v":1,"d":"1 "},{"v":1,"d":"1 "},"-",{"v":1,"d":"1 "},{"v":1,"d":"1 "},{"v":4,"d":"4 "},{"v":1,"d":"1 "},{"v":2,"d":"2 "},{"v":1,"d":"1 "},{"v":3,"d":"3 "},{"v":2,"d":"2 "},{"v":2,"d":"2 "},58.3,61.4,54.6,{"v":3,"d":"3 "},"-","-","-","-","-","-","-","-","-","-","-","-",{"v":1,"d":"1 "},{"v":2,"d":"2 "},"-",{"v":80,"d":"80.0"},{"v":80,"d":"80.0"},{"v":80,"d":"80.0"},{"v":2,"d":"2 "},"-","-","-","-","-","-","-","-","-","-","-","-",{"v":1,"d":"1 "},{"v":1,"d":"1 "},"-",{"v":80,"d":"80.0"},{"v":80,"d":"80.0"},"…",{"v":8,"d":"8 "},"-","-","-","-","-","-","-",{"v":1,"d":"1 "},{"v":2,"d":"2 "},{"v":1,"d":"1 "},{"v":1,"d":"1 "},"-",{"v":2,"d":"2 "},{"v":1,"d":"1 "},"-",{"v":3,"d":"3 "},"-","-","-","-","-","-","-",{"v":1,"d":"1 "},"-","-",{"v":1,"d":"1 "},{"v":1,"d":"1 "},"-",{"$nulls":7},{"v":28,"d":"28 "},{"v":14,"d":"14 "},{"v":2,"d":"2 "},{"v":11,"d":"11 "},{"v":1,"d":"1 "},{"v":6,"d":"6 "},{"v":5,"d":"5 "},{"v":3,"d":"3 "},{"v":2,"d":"2 "},"-","-","-","-","-","-",{"v":2,"d":"2 "},"-","-","-","-","-","-","-","-",{"v":8,"d":"8 "},{"v":431,"d":"431 "},{"v":271,"d":"271 "},{"v":83,"d":"83 "},{"v":77,"d":"77 "},13,11,2,8,1,"-",1,1,15,3,"-",3,"-",6,4,2]
["山梨県","都留市","東桂村","沖",{"v":35,"d":"35 "},{"v":8,"d":"8 "},"-","-","-","-",{"v":8,"d":"8 "},{"v":27,"d":"27 "},{"v":24,"d":"24 "},{"v":1,"d":"1 "},{"v":2,"d":"2 "},{"v":1,"d":"1 "},{"v":1,"d":"1 "},"-","-",{"v":1,"d":"1 "},{"v":3,"d":"3 "},{"v":3,"d":"3 "},{"v":3,"d":"3 "},"-",{"v":2,"d":"2 "},{"v":2,"d":"2 "},{"v":5,"d":"5 "},"-",{"v":58,"d":"58.0"},62.9,54.6,{"v":9,"d":"9 "},"-","-","-","-","-","-","-",{"v":1,"d":"1 "},"-","-","-",{"v":2,"d":"2 "},{"v":1,"d":"1 "},{"v":5,"d":"5 "},"-",76.4,81.7,73.8,{"v":5,"d":"5 "},"-","-","-","-","-","-","-","-","-","-","-",{"v":1,"d":"1 "},{"v":1,"d":"1 "},{"v":3,"d":"3 "},"-",80.2,81.7,{"v":78,"d":"78.0"},{"v":8,"d":"8 "},"-","-","-","-","-","-","-",{"v":1,"d":"1 "},{"v":1,"d":"1 "},{"v":1,"d":"1 "},"-","-",{"v":2,"d":"2 "},{"v":3,"d":"3 "},"-",{"v":6,"d":"6 "},"-","-","-","-","-","-","-",{"v":1,"d":"1 "},"-","-",{"v":2,"d":"2 "},{"v":3,"d":"3 "},"-",{"$nulls":7},{"v":29,"d":"29 "},{"v":20,"d":"20 "},{"v":5,"d":"5 "},{"v":12,"d":"12 "},{"v":3,"d":"3 "},{"v":5,"d":"5 "},{"v":1,"d":"1 "},{"v":3,"d":"3 "},{"v":1,"d":"1 "},{"v":1,"d":"1 "},"-","-","-","-","-","-","-","-","-","-","-","-","-","-",{"v":8,"d":"8 "},{"v":452,"d":"452 "},{"v":398,"d":"398 "},{"v":54,"d":"54 "},"-",11,10,3,5,2,"-","-",1,18,10,2,7,1,5,1,2]
["山梨県","都留市","東桂村","宮下",{"v":27,"d":"27 "},{"v":3,"d":"3 "},"-","-","-","-",{"v":3,"d":"3 "},{"v":24,"d":"24 "},{"v":13,"d":"13 "},"-","-",{"v":1,"d":"1 "},"-",{"v":1,"d":"1 "},{"v":1,"d":"1 "},"-",{"v":1,"d":"1 "},{"v":4,"d":"4 "},"-",{"v":1,"d":"1 "},{"v":1,"d":"1 "},"-",{"v":2,"d":"2 "},{"v":1,"d":"1 "},59.6,62.2,{"v":58,"d":"58.0"},{"v":3,"d":"3 "},"-","-","-","-","-","-","-","-","-","-",{"v":1,"d":"1 "},"-","-",{"v":1,"d":"1 "},{"v":1,"d":"1 "},78.3,{"v":83,"d":"83.0"},{"v":76,"d":"76.0"},{"v":3,"d":"3 "},"-","-","-","-","-","-","-","-","-","-",{"v":1,"d":"1 "},"-","-",{"v":1,"d":"1 "},{"v":1,"d":"1 "},78.3,{"v":83,"d":"83.0"},{"v":76,"d":"76.0"},{"v":3,"d":"3 "},"-","-","-","-","-","-","-","-",{"v":1,"d":"1 "},"-","-",{"v":1,"d":"1 "},"-",{"v":1,"d":"1 "},"-",{"v":3,"d":"3 "},"-","-","-","-","-","-",{"v":1,"d":"1 "},"-","-",{"v":1,"d":"1 "},"-",{"v":1,"d":"1 "},"-",{"$nulls":7},{"v":14,"d":"14 "},{"v":11,"d":"11 "},{"v":3,"d":"3 "},{"v":8,"d":"8 "},"-",{"v":2,"d":"2 "},"-",{"v":1,"d":"1 "},{"v":2,"d":"2 "},{"v":2,"d":"2 "},"-","-","-","-","-","-","-","-","-","-","-","-","-","-",{"v":3,"d":"3 "},{"v":163,"d":"163 "},{"v":116,"d":"116 "},{"v":37,"d":"37 "},{"v":10,"d":"10 "},5,4,1,3,"-","-","-",1,9,7,2,5,"-",2,"-","-"]
["山梨県","都留市","東桂村","境",{"v":31,"d":"31 "},{"v":2,"d":"2 "},"x","x","x","x","x",{"v":29,"d":"29 "},"x","x","x","x","x","x","x","x","x","x","x","x","x","x","x","x",60.5,60.7,60.3,"x","x","x","x","x","x","x","x","x","x","x","x","x","x","x","x",{"v":76,"d":"76.0"},{"v":76,"d":"76.0"},{"v":76,"d":"76.0"},"x","x","x","x","x","x","x","x","x","x","x","x","x","x","x","x",{"v":76,"d":"76.0"},{"v":76,"d":"76.0"},{"v":76,"d":"76.0"},{"v":2,"d":"2 "},"-","-","-","-","-","-","-","-","-","-",{"v":1,"d":"1 "},"-",{"v":1,"d":"1 "},"-","-",{"v":2,"d":"2 "},"-","-","-","-","-","-","-","-",{"v":1,"d":"1 "},"-",{"v":1,"d":"1 "},"-","-",{"$nulls":7},{"v":7,"d":"7 "},{"v":4,"d":"4 "},{"v":2,"d":"2 "},{"v":1,"d":"1 "},{"v":1,"d":"1 "},{"v":2,"d":"2 "},"-",{"v":1,"d":"1 "},{"v":1,"d":"1 "},{"v":1,"d":"1 "},"-","-","-","-","-","-","-","-","-","-","-","-","-","-",{"v":2,"d":"2 "},{"v":75,"d":"75 "},{"v":75,"d":"75 "},"-","-",4,3,1,1,1,"-","-",1,3,1,1,"-","-",2,"-","-"]
["山梨県","山梨市",null,null,{"v":2516,"d":"2,516 "},{"v":1997,"d":"1,997 "},{"v":692,"d":"692 "},{"v":625,"d":"625 "},{"v":410,"d":"410 "},{"v":208,"d":"208 "},{"v":895,"d":"895 "},{"v":519,"d":"519 "},{"v":4936,"d":"4,936 "},{"v":72,"d":"72 "},{"v":103,"d":"103 "},{"v":106,"d":"106 "},{"v":126,"d":"126 "},{"v":186,"d":"186 "},{"v":216,"d":"216 "},{"v":286,"d":"286 "},{"v":422,"d":"422 "},{"v":517,"d":"517 "},{"v":574,"d":"574 "},{"v":635,"d":"635 "},{"v":560,"d":"560 "},{"v":529,"d":"529 "},{"v":380,"d":"380 "},{"v":224,"d":"224 "},{"v":61,"d":"61.0"},60.3,61.7,{"v":3619,"d":"3,619 "},{"v":33,"d":"33 "},{"v":15,"d":"15 "},{"v":19,"d":"19 "},{"v":43,"d":"43 "},{"v":63,"d":"63 "},{"v":74,"d":"74 "},{"v":123,"d":"123 "},{"v":215,"d":"215 "},{"v":361,"d":"361 "},{"v":463,"d":"463 "},{"v":578,"d":"578 "},{"v":541,"d":"541 "},{"v":514,"d":"514 "},{"v":366,"d":"366 "},{"v":211,"d":"211 "},66.3,66.5,66.1,{"v":3204,"d":"3,204 "},{"v":1,"d":"1 "},{"v":4,"d":"4 "},{"v":13,"d":"13 "},{"v":34,"d":"34 "},{"v":52,"d":"52 "},{"v":60,"d":"60 "},{"v":102,"d":"102 "},{"v":199,"d":"199 "},{"v":334,"d":"334 "},{"v":435,"d":"435 "},{"v":541,"d":"541 "},{"v":511,"d":"511 "},{"v":466,"d":"466 "},{"v":312,"d":"312 "},{"v":140,"d":"140 "},66.7,67.1,66.3,{"v":1997,"d":"1,997 "},"-","-","-",{"v":5,"d":"5 "},{"v":17,"d":"17 "},{"v":32,"d":"32 "},{"v":70,"d":"70 "},{"v":159,"d":"159 "},{"v":243,"d":"243 "},{"v":288,"d":"288 "},{"v":326,"d":"326 "},{"v":302,"d":"302 "},{"v":286,"d":"286 "},{"v":195,"d":"195 "},{"v":74,"d":"74 "},{"v":936,"d":"936 "},"-","-",{"v":1,"d":"1 "},{"v":2,"d":"2 "},{"v":12,"d":"12 "},{"v":51,"d":"51 "},{"v":89,"d":"89 "},{"v":109,"d":"109 "},{"v":151,"d":"151 "},{"v":159,"d":"159 "},{"v":174,"d":"174 "},{"v":133,"d":"133 "},{"v":55,"d":"55 "},{"$nulls":7},{"v":6274,"d":"6,274 "},{"v":4864,"d":"4,864 "},{"v":3204,"d":"3,204 "},{"v":1549,"d":"1,549 "},{"v":111,"d":"111 "},{"v":522,"d":"522 "},{"v":430,"d":"430 "},{"v":458,"d":"458 "},{"v":1966,"d":"1,966 "},{"v":2,"d":"2 "},"-",{"v":4,"d":"4 "},"-",{"v":12,"d":"12 "},{"v":4,"d":"4 "},{"v":1935,"d":"1,935 "},{"v":5,"d":"5 "},{"v":2,"d":"2 "},{"v":1,"d":"1 "},"-","-",{"v":1,"d":"1 "},"-","-",{"v":1996,"d":"1,996 "},{"v":132787,"d":"132,787 "},{"v":1285,"d":"1,285 "},{"v":5490,"d":"5,490 "},{"v":126012,"d":"126,012 "},{"v":3102,"d":"3,102"},{"v":2721,"d":"2,721"},{"v":1757,"d":"1,757"},894,70,9,238,134,{"v":3172,"d":"3,172"},{"v":2143,"d":"2,143"},{"v":1447,"d":"1,447"},655,41,513,192,324]
["山梨県","山梨市","加納岩町",null,{"v":208,"d":"208 "},{"v":173,"d":"173 "},{"v":84,"d":"84 "},{"v":78,"d":"78 "},{"v":21,"d":"21 "},{"v":12,"d":"12 "},{"v":68,"d":"68 "},{"v":35,"d":"35 "},{"v":453,"d":"453 "},{"v":5,"d":"5 "},{"v":8,"d":"8 "},{"v":9,"d":"9 "},{"v":17,"d":"17 "},{"v":16,"d":"16 "},{"v":29,"d":"29 "},{"v":14,"d":"14 "},{"v":37,"d":"37 "},{"v":50,"d":"50 "},{"v":60,"d":"60 "},{"v":60,"d":"60 "},{"v":53,"d":"53 "},{"v":53,"d":"53 "},{"v":23,"d":"23 "},{"v":19,"d":"19 "},60.6,59.9,61.3,{"v":373,"d":"373 "},{"v":5,"d":"5 "},{"v":3,"d":"3 "},{"v":4,"d":"4 "},{"v":5,"d":"5 "},{"v":5,"d":"5 "},{"v":15,"d":"15 "},{"v":8,"d":"8 "},{"v":27,"d":"27 "},{"v":41,"d":"41 "},{"v":58,"d":"58 "},{"v":58,"d":"58 "},{"v":52,"d":"52 "},{"v":53,"d":"53 "},{"v":21,"d":"21 "},{"v":18,"d":"18 "},64.1,64.7,63.6,{"v":334,"d":"334 "},{"v":1,"d":"1 "},"-",{"v":2,"d":"2 "},{"v":4,"d":"4 "},{"v":4,"d":"4 "},{"v":13,"d":"13 "},{"v":6,"d":"6 "},{"v":27,"d":"27 "},{"v":37,"d":"37 "},{"v":55,"d":"55 "},{"v":55,"d":"55 "},{"v":51,"d":"51 "},{"v":47,"d":"47 "},{"v":21,"d":"21 "},{"v":11,"d":"11 "},{"v":65,"d":"65.0"},65.7,64.2,{"v":173,"d":"173 "},"-","-","-","-","-",{"v":4,"d":"4 "},{"v":4,"d":"4 "},{"v":14,"d":"14 "},{"v":19,"d":"19 "},{"v":29,"d":"29 "},{"v":33,"d":"33 "},{"v":25,"d":"25 "},{"v":30,"d":"30 "},{"v":11,"d":"11 "},{"v":4,"d":"4 "},{"v":76,"d":"76 "},"-","-","-","-","-",{"v":3,"d":"3 "},{"v":8,"d":"8 "},{"v":9,"d":"9 "},{"v":15,"d":"15 "},{"v":16,"d":"16 "},{"v":15,"d":"15 "},{"v":8,"d":"8 "},{"v":2,"d":"2 "},{"$nulls":7},{"v":572,"d":"572 "},{"v":458,"d":"458 "},{"v":334,"d":"334 "},{"v":121,"d":"121 "},{"v":3,"d":"3 "},{"v":40,"d":"40 "},{"v":31,"d":"31 "},{"v":43,"d":"43 "},{"v":173,"d":"173 "},"-","-","-","-","-","-",{"v":171,"d":"171 "},{"v":2,"d":"2 "},"-","-","-","-","-","-","-",{"v":173,"d":"173 "},{"v":14045,"d":"14,045 "},"-",{"v":99,"d":"99 "},{"v":13946,"d":"13,946 "},281,252,185,65,2,"-",19,10,291,206,149,56,1,40,12,33]
["山梨県","山梨市","加納岩町","大野",{"v":52,"d":"52 "},{"v":39,"d":"39 "},{"v":22,"d":"22 "},{"v":21,"d":"21 "},{"v":3,"d":"3 "},{"v":1,"d":"1 "},{"v":14,"d":"14 "},{"v":13,"d":"13 "},{"v":103,"d":"103 "},{"v":3,"d":"3 "},"-",{"v":3,"d":"3 "},{"v":3,"d":"3 "},{"v":6,"d":"6 "},{"v":8,"d":"8 "},{"v":4,"d":"4 "},{"v":9,"d":"9 "},{"v":12,"d":"12 "},{"v":14,"d":"14 "},{"v":11,"d":"11 "},{"v":12,"d":"12 "},{"v":11,"d":"11 "},{"v":4,"d":"4 "},{"v":3,"d":"3 "},58.6,57.1,60.5,{"v":85,"d":"85 "},{"v":3,"d":"3 "},"-",{"v":2,"d":"2 "},"-",{"v":1,"d":"1 "},{"v":4,"d":"4 "},{"v":2,"d":"2 "},{"v":8,"d":"8 "},{"v":10,"d":"10 "},{"v":14,"d":"14 "},{"v":11,"d":"11 "},{"v":12,"d":"12 "},{"v":11,"d":"11 "},{"v":4,"d":"4 "},{"v":3,"d":"3 "},62.3,61.7,62.9,{"v":77,"d":"77 "},{"v":1,"d":"1 "},"-",{"v":1,"d":"1 "},"-",{"v":1,"d":"1 "},{"v":4,"d":"4 "},{"v":1,"d":"1 "},{"v":8,"d":"8 "},{"v":10,"d":"10 "},{"v":13,"d":"13 "},{"v":10,"d":"10 "},{"v":12,"d":"12 "},{"v":11,"d":"11 "},{"v":4,"d":"4 "},{"v":1,"d":"1 "},63.4,63.8,62.9,{"v":39,"d":"39 "},"-","-","-","-","-",{"v":1,"d":"1 "},{"v":1,"d":"1 "},{"v":4,"d":"4 "},{"v":6,"d":"6 "},{"v":7,"d":"7 "},{"v":6,"d":"6 "},{"v":5,"d":"5 "},{"v":8,"d":"8 "},{"v":1,"d":"1 "},"-",{"v":16,"d":"16 "},"-","-","-","-","-","-",{"v":2,"d":"2 "},{"v":2,"d":"2 "},{"v":3,"d":"3 "},{"v":2,"d":"2 "},{"v":6,"d":"6 "},{"v":1,"d":"1 "},"-",{"$nulls":7},{"v":129,"d":"129 "},{"v":108,"d":"108 "},{"v":77,"d":"77 "},{"v":31,"d":"31 "},"-",{"v":5,"d":"5 "},{"v":12,"d":"12 "},{"v":4,"d":"4 "},{"v":39,"d":"39 "},"-","-","-","-","-","-",{"v":39,"d":"39 "},"-","-","-","-","-","-","-","-",{"v":39,"d":"39 "},{"v":3200,"d":"3,200 "},"-",{"v":26,"d":"26 "},{"v":3174,"d":"3,174 "},70,61,42,19,"-","-",9,"-",59,47,35,12,"-",5,3,4]
["山梨県","山梨市","加納岩町","下神内川",{"v":39,"d":"39 "},{"v":39,"d":"39 "},{"v":23,"d":"23 "},{"v":22,"d":"22 "},{"v":4,"d":"4 "},{"v":2,"d":"2 "},{"v":12,"d":"12 "},"-",{"v":117,"d":"117 "},{"v":2,"d":"2 "},{"v":4,"d":"4 "},{"v":3,"d":"3 "},{"v":4,"d":"4 "},{"v":1,"d":"1 "},{"v":9,"d":"9 "},{"v":6,"d":"6 "},{"v":12,"d":"12 "},{"v":14,"d":"14 "},{"v":12,"d":"12 "},{"v":11,"d":"11 "},{"v":11,"d":"11 "},{"v":16,"d":"16 "},{"v":7,"d":"7 "},{"v":5,"d":"5 "},59.5,58.5,60.5,{"v":97,"d":"97 "},{"v":2,"d":"2 "},{"v":2,"d":"2 "},{"v":1,"d":"1 "},{"v":1,"d":"1 "},"-",{"v":4,"d":"4 "},{"v":3,"d":"3 "},{"v":10,"d":"10 "},{"v":13,"d":"13 "},{"v":12,"d":"12 "},{"v":10,"d":"10 "},{"v":11,"d":"11 "},{"v":16,"d":"16 "},{"v":7,"d":"7 "},{"v":5,"d":"5 "},63.5,63.9,{"v":63,"d":"63.0"},{"v":87,"d":"87 "},"-","-",{"v":1,"d":"1 "},{"v":1,"d":"1 "},"-",{"v":3,"d":"3 "},{"v":3,"d":"3 "},{"v":10,"d":"10 "},{"v":11,"d":"11 "},{"v":12,"d":"12 "},{"v":10,"d":"10 "},{"v":11,"d":"11 "},{"v":13,"d":"13 "},{"v":7,"d":"7 "},{"v":5,"d":"5 "},65.4,65.8,{"v":65,"d":"65.0"},{"v":39,"d":"39 "},"-","-","-","-","-","-",{"v":3,"d":"3 "},{"v":5,"d":"5 "},{"v":4,"d":"4 "},{"v":5,"d":"5 "},{"v":7,"d":"7 "},{"v":5,"d":"5 "},{"v":5,"d":"5 "},{"v":4,"d":"4 "},{"v":1,"d":"1 "},{"v":15,"d":"15 "},"-","-","-","-","-",{"v":1,"d":"1 "},{"v":2,"d":"2 "},{"v":1,"d":"1 "},{"v":3,"d":"3 "},{"v":4,"d":"4 "},{"v":2,"d":"2 "},{"v":2,"d":"2 "},"-",{"$nulls":7},{"v":147,"d":"147 "},{"v":121,"d":"121 "},{"v":87,"d":"87 "},{"v":33,"d":"33 "},{"v":1,"d":"1 "},{"v":8,"d":"8 "},{"v":10,"d":"10 "},{"v":8,"d":"8 "},{"v":39,"d":"39 "},"-","-","-","-","-","-",{"v":39,"d":"39 "},"-","-","-","-","-","-","-","-",{"v":39,"d":"39 "},{"v":3715,"d":"3,715 "},"-","-",{"v":3715,"d":"3,715 "},71,63,46,16,1,"-",5,3,76,58,41,17,"-",8,5,5]
["山梨県","山梨市","加納岩町","上神内川",{"v":28,"d":"28 "},{"v":21,"d":"21 "},{"v":7,"d":"7 "},{"v":7,"d":"7 "},{"v":5,"d":"5 "},{"v":4,"d":"4 "},{"v":9,"d":"9 "},{"v":7,"d":"7 "},{"v":49,"d":"49 "},"-","-","-",{"v":2,"d":"2 "},{"v":2,"d":"2 "},{"v":6,"d":"6 "},{"v":1,"d":"1 "},{"v":5,"d":"5 "},{"v":4,"d":"4 "},{"v":5,"d":"5 "},{"v":8,"d":"8 "},{"v":10,"d":"10 "},{"v":3,"d":"3 "},"-",{"v":3,"d":"3 "},{"v":61,"d":"61.0"},61.2,60.8,{"v":38,"d":"38 "},"-","-","-",{"v":1,"d":"1 "},"-",{"v":3,"d":"3 "},{"v":1,"d":"1 "},{"v":3,"d":"3 "},{"v":3,"d":"3 "},{"v":5,"d":"5 "},{"v":7,"d":"7 "},{"v":9,"d":"9 "},{"v":3,"d":"3 "},"-",{"v":3,"d":"3 "},64.7,65.4,64.2,{"v":33,"d":"33 "},"-","-","-",{"v":1,"d":"1 "},"-",{"v":2,"d":"2 "},{"v":1,"d":"1 "},{"v":3,"d":"3 "},{"v":2,"d":"2 "},{"v":5,"d":"5 "},{"v":7,"d":"7 "},{"v":8,"d":"8 "},{"v":3,"d":"3 "},"-",{"v":1,"d":"1 "},63.9,65.4,62.4,{"v":21,"d":"21 "},"-","-","-","-","-",{"v":2,"d":"2 "},"-",{"v":2,"d":"2 "},{"v":3,"d":"3 "},{"v":1,"d":"1 "},{"v":4,"d":"4 "},{"v":3,"d":"3 "},{"v":4,"d":"4 "},"-",{"v":2,"d":"2 "},{"v":10,"d":"10 "},"-","-","-","-","-",{"v":1,"d":"1 "},"-",{"v":1,"d":"1 "},{"v":1,"d":"1 "},{"v":3,"d":"3 "},{"v":2,"d":"2 "},"-",{"v":2,"d":"2 "},{"$nulls":7},{"v":68,"d":"68 "},{"v":48,"d":"48 "},{"v":33,"d":"33 "},{"v":15,"d":"15 "},"-",{"v":9,"d":"9 "},{"v":5,"d":"5 "},{"v":6,"d":"6 "},{"v":21,"d":"21 "},"-","-","-","-","-","-",{"v":20,"d":"20 "},{"v":1,"d":"1 "},"-","-","-","-","-","-","-",{"v":21,"d":"21 "},{"v":1193,"d":"1,193 "},"-",{"v":29,"d":"29 "},{"v":1164,"d":"1,164 "},29,25,17,8,"-","-",2,2,39,23,16,7,"-",9,3,4]
["山梨県","山梨市","加納岩町","上石森",{"v":46,"d":"46 "},{"v":39,"d":"39 "},{"v":16,"d":"16 "},{"v":14,"d":"14 "},{"v":5,"d":"5 "},{"v":2,"d":"2 "},{"v":18,"d":"18 "},{"v":7,"d":"7 "},{"v":88,"d":"88 "},"-","-",{"v":2,"d":"2 "},{"v":4,"d":"4 "},{"v":3,"d":"3 "},{"v":1,"d":"1 "},{"v":1,"d":"1 "},{"v":6,"d":"6 "},{"v":8,"d":"8 "},{"v":16,"d":"16 "},{"v":14,"d":"14 "},{"v":14,"d":"14 "},{"v":12,"d":"12 "},{"v":5,"d":"5 "},{"v":2,"d":"2 "},63.5,62.2,65.2,{"v":76,"d":"76 "},"-","-",{"v":1,"d":"1 "},{"v":1,"d":"1 "},{"v":2,"d":"2 "},{"v":1,"d":"1 "},"-",{"v":4,"d":"4 "},{"v":6,"d":"6 "},{"v":14,"d":"14 "},{"v":14,"d":"14 "},{"v":14,"d":"14 "},{"v":12,"d":"12 "},{"v":5,"d":"5 "},{"v":2,"d":"2 "},66.3,66.9,65.7,{"v":67,"d":"67 "},"-","-","-",{"v":1,"d":"1 "},{"v":2,"d":"2 "},{"v":1,"d":"1 "},"-",{"v":4,"d":"4 "},{"v":5,"d":"5 "},{"v":12,"d":"12 "},{"v":13,"d":"13 "},{"v":14,"d":"14 "},{"v":9,"d":"9 "},{"v":5,"d":"5 "},{"v":1,"d":"1 "},66.4,66.9,65.5,{"v":39,"d":"39 "},"-","-","-","-","-","-","-",{"v":3,"d":"3 "},{"v":3,"d":"3 "},{"v":7,"d":"7 "},{"v":8,"d":"8 "},{"v":9,"d":"9 "},{"v":6,"d":"6 "},{"v":3,"d":"3 "},"-",{"v":22,"d":"22 "},"-","-","-","-","-",{"v":1,"d":"1 "},{"v":3,"d":"3 "},{"v":3,"d":"3 "},{"v":5,"d":"5 "},{"v":5,"d":"5 "},{"v":2,"d":"2 "},{"v":3,"d":"3 "},"-",{"$nulls":7},{"v":112,"d":"112 "},{"v":88,"d":"88 "},{"v":67,"d":"67 "},{"v":19,"d":"19 "},{"v":2,"d":"2 "},{"v":10,"d":"10 "},"-",{"v":14,"d":"14 "},{"v":39,"d":"39 "},"-","-","-","-","-","-",{"v":39,"d":"39 "},"-","-","-","-","-","-","-","-",{"v":39,"d":"39 "},{"v":3079,"d":"3,079 "},"-",{"v":9,"d":"9 "},{"v":3070,"d":"3,070 "},55,53,41,11,1,"-","-",2,57,35,26,8,1,10,"-",12]
["山梨県","山梨市","加納岩町","下石森",{"v":43,"d":"43 "},{"v":35,"d":"35 "},{"v":16,"d":"16 "},{"v":14,"d":"14 "},{"v":4,"d":"4 "},{"v":3,"d":"3 "},{"v":15,"d":"15 "},{"v":8,"d":"8 "},{"v":96,"d":"96 "},"-",{"v":4,"d":"4 "},{"v":1,"d":"1 "},{"v":4,"d":"4 "},{"v":4,"d":"4 "},{"v":5,"d":"5 "},{"v":2,"d":"2 "},{"v":5,"d":"5 "},{"v":12,"d":"12 "},{"v":13,"d":"13 "},{"v":16,"d":"16 "},{"v":6,"d":"6 "},{"v":11,"d":"11 "},{"v":7,"d":"7 "},{"v":6,"d":"6 "},61.2,62.1,60.3,{"v":77,"d":"77 "},"-",{"v":1,"d":"1 "},"-",{"v":2,"d":"2 "},{"v":2,"d":"2 "},{"v":3,"d":"3 "},{"v":2,"d":"2 "},{"v":2,"d":"2 "},{"v":9,"d":"9 "},{"v":13,"d":"13 "},{"v":16,"d":"16 "},{"v":6,"d":"6 "},{"v":11,"d":"11 "},{"v":5,"d":"5 "},{"v":5,"d":"5 "},64.6,66.4,62.8,{"v":70,"d":"70 "},"-","-","-",{"v":1,"d":"1 "},{"v":1,"d":"1 "},{"v":3,"d":"3 "},{"v":1,"d":"1 "},{"v":2,"d":"2 "},{"v":9,"d":"9 "},{"v":13,"d":"13 "},{"v":15,"d":"15 "},{"v":6,"d":"6 "},{"v":11,"d":"11 "},{"v":5,"d":"5 "},{"v":3,"d":"3 "},65.7,66.4,64.7,{"v":35,"d":"35 "},"-","-","-","-","-",{"v":1,"d":"1 "},"-","-",{"v":3,"d":"3 "},{"v":9,"d":"9 "},{"v":8,"d":"8 "},{"v":3,"d":"3 "},{"v":7,"d":"7 "},{"v":3,"d":"3 "},{"v":1,"d":"1 "},{"v":13,"d":"13 "},"-","-","-","-","-","-",{"v":1,"d":"1 "},{"v":2,"d":"2 "},{"v":3,"d":"3 "},{"v":2,"d":"2 "},{"v":3,"d":"3 "},{"v":2,"d":"2 "},"-",{"$nulls":7},{"v":116,"d":"116 "},{"v":93,"d":"93 "},{"v":70,"d":"70 "},{"v":23,"d":"23 "},"-",{"v":8,"d":"8 "},{"v":4,"d":"4 "},{"v":11,"d":"11 "},{"v":35,"d":"35 "},"-","-","-","-","-","-",{"v":34,"d":"34 "},{"v":1,"d":"1 "},"-","-","-","-","-","-","-",{"v":35,"d":"35 "},{"v":2858,"d":"2,858 "},"-",{"v":35,"d":"35 "},{"v":2823,"d":"2,823 "},56,50,39,11,"-","-",3,3,60,43,31,12,"-",8,1,8]
["山梨県","山梨市","日下部町",null,{"v":161,"d":"161 "},{"v":125,"d":"125 "},{"v":37,"d":"37 "},{"v":28,"d":"28 "},{"v":26,"d":"26 "},{"v":9,"d":"9 "},{"v":62,"d":"62 "},{"v":36,"d":"36 "},{"v":298,"d":"298 "},{"v":4,"d":"4 "},{"v":3,"d":"3 "},{"v":2,"d":"2 "},{"v":4,"d":"4 "},{"v":11,"d":"11 "},{"v":15,"d":"15 "},{"v":15,"d":"15 "},{"v":18,"d":"18 "},{"v":33,"d":"33 "},{"v":33,"d":"33 "},{"v":43,"d":"43 "},{"v":39,"d":"39 "},{"v":36,"d":"36 "},{"v":23,"d":"23 "},{"v":19,"d":"19 "},63.5,63.4,63.6,{"v":220,"d":"220 "},"-","-",{"v":1,"d":"1 "},{"v":2,"d":"2 "},{"v":1,"d":"1 "},{"v":2,"d":"2 "},{"v":3,"d":"3 "},{"v":12,"d":"12 "},{"v":21,"d":"21 "},{"v":27,"d":"27 "},{"v":38,"d":"38 "},{"v":37,"d":"37 "},{"v":35,"d":"35 "},{"v":22,"d":"22 "},{"v":19,"d":"19 "},69.2,{"v":70,"d":"70.0"},68.4,{"v":197,"d":"197 "},"-","-",{"v":1,"d":"1 "},{"v":2,"d":"2 "},{"v":1,"d":"1 "},{"v":1,"d":"1 "},{"v":3,"d":"3 "},{"v":10,"d":"10 "},{"v":17,"d":"17 "},{"v":23,"d":"23 "},{"v":36,"d":"36 "},{"v":35,"d":"35 "},{"v":32,"d":"32 "},{"v":19,"d":"19 "},{"v":17,"d":"17 "},69.4,69.8,{"v":69,"d":"69.0"},{"v":125,"d":"125 "},"-","-","-","-",{"v":1,"d":"1 "},{"v":2,"d":"2 "},{"v":1,"d":"1 "},{"v":6,"d":"6 "},{"v":14,"d":"14 "},{"v":14,"d":"14 "},{"v":24,"d":"24 "},{"v":19,"d":"19 "},{"v":20,"d":"20 "},{"v":13,"d":"13 "},{"v":11,"d":"11 "},{"v":62,"d":"62 "},"-","-","-","-","-",{"v":2,"d":"2 "},{"v":6,"d":"6 "},{"v":5,"d":"5 "},{"v":13,"d":"13 "},{"v":9,"d":"9 "},{"v":11,"d":"11 "},{"v":7,"d":"7 "},{"v":9,"d":"9 "},{"$nulls":7},{"v":365,"d":"365 "},{"v":295,"d":"295 "},{"v":197,"d":"197 "},{"v":88,"d":"88 "},{"v":10,"d":"10 "},{"v":35,"d":"35 "},{"v":22,"d":"22 "},{"v":13,"d":"13 "},{"v":121,"d":"121 "},"-","-","-","-","-","-",{"v":121,"d":"121 "},"-","-","-","-","-","-","-","-",{"v":125,"d":"125 "},{"v":7411,"d":"7,411 "},{"v":26,"d":"26 "},{"v":197,"d":"197 "},{"v":7188,"d":"7,188 "},181,165,105,54,6,1,11,4,184,130,92,34,4,34,11,9]
["山梨県","山梨市","日下部町","小原西",{"v":28,"d":"28 "},{"v":19,"d":"19 "},{"v":2,"d":"2 "},{"v":2,"d":"2 "},{"v":1,"d":"1 "},{"v":1,"d":"1 "},{"v":16,"d":"16 "},{"v":9,"d":"9 "},{"v":42,"d":"42 "},{"v":2,"d":"2 "},{"v":1,"d":"1 "},"-","-","-",{"v":1,"d":"1 "},{"v":2,"d":"2 "},{"v":3,"d":"3 "},"-",{"v":3,"d":"3 "},{"v":6,"d":"6 "},{"v":5,"d":"5 "},{"v":8,"d":"8 "},{"v":6,"d":"6 "},{"v":5,"d":"5 "},67.7,68.8,66.6,{"v":32,"d":"32 "},"-","-","-","-","-","-","-",{"v":1,"d":"1 "},"-",{"v":3,"d":"3 "},{"v":6,"d":"6 "},{"v":4,"d":"4 "},{"v":7,"d":"7 "},{"v":6,"d":"6 "},{"v":5,"d":"5 "},75.2,77.2,73.1,{"v":28,"d":"28 "},"-","-","-","-","-","-","-",{"v":1,"d":"1 "},"-",{"v":2,"d":"2 "},{"v":5,"d":"5 "},{"v":4,"d":"4 "},{"v":6,"d":"6 "},{"v":5,"d":"5 "},{"v":5,"d":"5 "},75.7,77.2,73.8,{"v":19,"d":"19 "},"-","-","-","-","-","-","-",{"v":1,"d":"1 "},"-",{"v":1,"d":"1 "},{"v":4,"d":"4 "},{"v":2,"d":"2 "},{"v":4,"d":"4 "},{"v":4,"d":"4 "},{"v":3,"d":"3 "},{"v":9,"d":"9 "},"-","-","-","-","-","-","-","-",{"v":3,"d":"3 "},{"v":1,"d":"1 "},{"v":2,"d":"2 "},{"v":1,"d":"1 "},{"v":2,"d":"2 "},{"$nulls":7},{"v":50,"d":"50 "},{"v":40,"d":"40 "},{"v":28,"d":"28 "},{"v":12,"d":"12 "},"-",{"v":5,"d":"5 "},{"v":4,"d":"4 "},{"v":1,"d":"1 "},{"v":16,"d":"16 "},"-","-","-","-","-","-",{"v":16,"d":"16 "},"-","-","-","-","-","-","-","-",{"v":19,"d":"19 "},{"v":818,"d":"818 "},{"v":10,"d":"10 "},{"v":73,"d":"73 "},{"v":735,"d":"735 "},24,22,16,6,"-","-",2,"-",26,18,12,6,"-",5,2,1]
["山梨県","山梨市","日下部町","小原東",{"v":40,"d":"40 "},{"v":28,"d":"28 "},{"v":7,"d":"7 "},{"v":6,"d":"6 "},{"v":4,"d":"4 "},{"v":2,"d":"2 "},{"v":17,"d":"17 "},{"v":12,"d":"12 "},{"v":74,"d":"74 "},"-",{"v":2,"d":"2 "},"-",{"v":1,"d":"1 "},{"v":2,"d":"2 "},{"v":5,"d":"5 "},{"v":4,"d":"4 "},{"v":6,"d":"6 "},{"v":5,"d":"5 "},{"v":5,"d":"5 "},{"v":11,"d":"11 "},{"v":17,"d":"17 "},{"v":6,"d":"6 "},{"v":6,"d":"6 "},{"v":4,"d":"4 "},63.6,63.5,63.7,{"v":55,"d":"55 "},"-","-","-","-","-","-","-",{"v":3,"d":"3 "},{"v":4,"d":"4 "},{"v":5,"d":"5 "},{"v":11,"d":"11 "},{"v":16,"d":"16 "},{"v":6,"d":"6 "},{"v":6,"d":"6 "},{"v":4,"d":"4 "},70.4,70.4,70.4,{"v":49,"d":"49 "},"-","-","-","-","-","-","-",{"v":3,"d":"3 "},{"v":3,"d":"3 "},{"v":4,"d":"4 "},{"v":11,"d":"11 "},{"v":15,"d":"15 "},{"v":4,"d":"4 "},{"v":6,"d":"6 "},{"v":3,"d":"3 "},70.3,70.4,70.2,{"v":28,"d":"28 "},"-","-","-","-","-","-","-","-",{"v":3,"d":"3 "},{"v":1,"d":"1 "},{"v":6,"d":"6 "},{"v":8,"d":"8 "},{"v":4,"d":"4 "},{"v":4,"d":"4 "},{"v":2,"d":"2 "},{"v":16,"d":"16 "},"-","-","-","-","-","-",{"v":1,"d":"1 "},"-",{"v":4,"d":"4 "},{"v":4,"d":"4 "},{"v":2,"d":"2 "},{"v":3,"d":"3 "},{"v":2,"d":"2 "},{"$nulls":7},{"v":85,"d":"85 "},{"v":70,"d":"70 "},{"v":49,"d":"49 "},{"v":20,"d":"20 "},{"v":1,"d":"1 "},{"v":9,"d":"9 "},{"v":5,"d":"5 "},{"v":1,"d":"1 "},{"v":28,"d":"28 "},"-","-","-","-","-","-",{"v":28,"d":"28 "},"-","-","-","-","-","-","-","-",{"v":28,"d":"28 "},{"v":1522,"d":"1,522 "},"-",{"v":25,"d":"25 "},{"v":1497,"d":"1,497 "},45,42,29,13,"-","-",3,"-",40,28,20,7,1,9,2,1]
["山梨県","山梨市","日下部町","七日市場",{"v":52,"d":"52 "},{"v":44,"d":"44 "},{"v":22,"d":"22 "},{"v":17,"d":"17 "},{"v":11,"d":"11 "},{"v":3,"d":"3 "},{"v":11,"d":"11 "},{"v":8,"d":"8 "},{"v":111,"d":"111 "},{"v":2,"d":"2 "},"-",{"v":2,"d":"2 "},{"v":3,"d":"3 "},{"v":6,"d":"6 "},{"v":6,"d":"6 "},{"v":7,"d":"7 "},{"v":6,"d":"6 "},{"v":17,"d":"17 "},{"v":14,"d":"14 "},{"v":12,"d":"12 "},{"v":10,"d":"10 "},{"v":16,"d":"16 "},{"v":7,"d":"7 "},{"v":3,"d":"3 "},60.7,58.8,62.6,{"v":82,"d":"82 "},"-","-",{"v":1,"d":"1 "},{"v":2,"d":"2 "},{"v":1,"d":"1 "},{"v":1,"d":"1 "},{"v":3,"d":"3 "},{"v":6,"d":"6 "},{"v":13,"d":"13 "},{"v":11,"d":"11 "},{"v":8,"d":"8 "},{"v":10,"d":"10 "},{"v":16,"d":"16 "},{"v":7,"d":"7 "},{"v":3,"d":"3 "},65.6,64.1,66.8,{"v":75,"d":"75 "},"-","-",{"v":1,"d":"1 "},{"v":2,"d":"2 "},{"v":1,"d":"1 "},"-",{"v":3,"d":"3 "},{"v":6,"d":"6 "},{"v":10,"d":"10 "},{"v":11,"d":"11 "},{"v":8,"d":"8 "},{"v":9,"d":"9 "},{"v":16,"d":"16 "},{"v":5,"d":"5 "},{"v":3,"d":"3 "},65.8,64.1,67.3,{"v":44,"d":"44 "},"-","-","-","-",{"v":1,"d":"1 "},{"v":1,"d":"1 "},"-",{"v":5,"d":"5 "},{"v":6,"d":"6 "},{"v":7,"d":"7 "},{"v":8,"d":"8 "},{"v":4,"d":"4 "},{"v":7,"d":"7 "},{"v":3,"d":"3 "},{"v":2,"d":"2 "},{"v":24,"d":"24 "},"-","-","-","-","-",{"v":2,"d":"2 "},{"v":4,"d":"4 "},{"v":3,"d":"3 "},{"v":5,"d":"5 "},{"v":3,"d":"3 "},{"v":4,"d":"4 "},{"v":1,"d":"1 "},{"v":2,"d":"2 "},{"$nulls":7},{"v":134,"d":"134 "},{"v":111,"d":"111 "},{"v":75,"d":"75 "},{"v":30,"d":"30 "},{"v":6,"d":"6 "},{"v":10,"d":"10 "},{"v":7,"d":"7 "},{"v":6,"d":"6 "},{"v":44,"d":"44 "},"-","-","-","-","-","-",{"v":44,"d":"44 "},"-","-","-","-","-","-","-","-",{"v":44,"d":"44 "},{"v":3429,"d":"3,429 "},"-",{"v":66,"d":"66 "},{"v":3363,"d":"3,363 "},67,59,36,19,4,"-",4,4,67,52,39,11,2,10,3,2]
["山梨県","山梨市","日下部町","下井尻",{"v":41,"d":"41 "},{"v":34,"d":"34 "},{"v":6,"d":"6 "},{"v":3,"d":"3 "},{"v":10,"d":"10 "},{"v":3,"d":"3 "},{"v":18,"d":"18 "},{"v":7,"d":"7 "},{"v":71,"d":"71 "},"-","-","-","-",{"v":3,"d":"3 "},{"v":3,"d":"3 "},{"v":2,"d":"2 "},{"v":3,"d":"3 "},{"v":11,"d":"11 "},{"v":11,"d":"11 "},{"v":14,"d":"14 "},{"v":7,"d":"7 "},{"v":6,"d":"6 "},{"v":4,"d":"4 "},{"v":7,"d":"7 "},65.4,67.2,63.4,{"v":51,"d":"51 "},"-","-","-","-","-",{"v":1,"d":"1 "},"-",{"v":2,"d":"2 "},{"v":4,"d":"4 "},{"v":8,"d":"8 "},{"v":13,"d":"13 "},{"v":7,"d":"7 "},{"v":6,"d":"6 "},{"v":3,"d":"3 "},{"v":7,"d":"7 "},69.9,73.4,66.6,{"v":45,"d":"45 "},"-","-","-","-","-",{"v":1,"d":"1 "},"-","-",{"v":4,"d":"4 "},{"v":6,"d":"6 "},{"v":12,"d":"12 "},{"v":7,"d":"7 "},{"v":6,"d":"6 "},{"v":3,"d":"3 "},{"v":6,"d":"6 "},70.6,72.8,68.2,{"v":34,"d":"34 "},"-","-","-","-","-",{"v":1,"d":"1 "},{"v":1,"d":"1 "},"-",{"v":5,"d":"5 "},{"v":5,"d":"5 "},{"v":6,"d":"6 "},{"v":5,"d":"5 "},{"v":5,"d":"5 "},{"v":2,"d":"2 "},{"v":4,"d":"4 "},{"v":13,"d":"13 "},"-","-","-","-","-","-",{"v":1,"d":"1 "},{"v":2,"d":"2 "},{"v":1,"d":"1 "},{"v":1,"d":"1 "},{"v":3,"d":"3 "},{"v":2,"d":"2 "},{"v":3,"d":"3 "},{"$nulls":7},{"v":96,"d":"96 "},{"v":74,"d":"74 "},{"v":45,"d":"45 "},{"v":26,"d":"26 "},{"v":3,"d":"3 "},{"v":11,"d":"11 "},{"v":6,"d":"6 "},{"v":5,"d":"5 "},{"v":33,"d":"33 "},"-","-","-","-","-","-",{"v":33,"d":"33 "},"-","-","-","-","-","-","-","-",{"v":34,"d":"34 "},{"v":1642,"d":"1,642 "},{"v":16,"d":"16 "},{"v":33,"d":"33 "},{"v":1593,"d":"1,593 "},45,42,24,16,2,1,2,"-",51,32,21,10,1,10,4,5]
["山梨県","山梨市","山梨村",null,{"v":373,"d":"373 "},{"v":329,"d":"329 "},{"v":132,"d":"132 "},{"v":121,"d":"121 "},{"v":60,"d":"60 "},{"v":35,"d":"35 "},{"v":137,"d":"137 "},{"v":44,"d":"44 "},{"v":816,"d":"816 "},{"v":8,"d":"8 "},{"v":20,"d":"20 "},{"v":21,"d":"21 "},{"v":20,"d":"20 "},{"v":40,"d":"40 "},{"v":26,"d":"26 "},{"v":56,"d":"56 "},{"v":77,"d":"77 "},{"v":92,"d":"92 "},{"v":75,"d":"75 "},{"v":105,"d":"105 "},{"v":89,"d":"89 "},{"v":82,"d":"82 "},{"v":76,"d":"76 "},{"v":29,"d":"29 "},60.4,59.6,61.3,{"v":635,"d":"635 "},{"v":4,"d":"4 "},{"v":3,"d":"3 "},{"v":7,"d":"7 "},{"v":11,"d":"11 "},{"v":15,"d":"15 "},{"v":10,"d":"10 "},{"v":31,"d":"31 "},{"v":46,"d":"46 "},{"v":77,"d":"77 "},{"v":61,"d":"61 "},{"v":99,"d":"99 "},{"v":88,"d":"88 "},{"v":78,"d":"78 "},{"v":76,"d":"76 "},{"v":29,"d":"29 "},65.1,64.6,65.6,{"v":571,"d":"571 "},"-",{"v":2,"d":"2 "},{"v":4,"d":"4 "},{"v":10,"d":"10 "},{"v":12,"d":"12 "},{"v":9,"d":"9 "},{"v":26,"d":"26 "},{"v":43,"d":"43 "},{"v":74,"d":"74 "},{"v":57,"d":"57 "},{"v":95,"d":"95 "},{"v":83,"d":"83 "},{"v":70,"d":"70 "},{"v":66,"d":"66 "},{"v":20,"d":"20 "},65.4,{"v":65,"d":"65.0"},65.9,{"v":329,"d":"329 "},"-","-","-",{"v":3,"d":"3 "},{"v":5,"d":"5 "},{"v":6,"d":"6 "},{"v":16,"d":"16 "},{"v":34,"d":"34 "},{"v":43,"d":"43 "},{"v":36,"d":"36 "},{"v":57,"d":"57 "},{"v":44,"d":"44 "},{"v":39,"d":"39 "},{"v":34,"d":"34 "},{"v":12,"d":"12 "},{"v":125,"d":"125 "},"-","-","-","-",{"v":2,"d":"2 "},{"v":7,"d":"7 "},{"v":14,"d":"14 "},{"v":8,"d":"8 "},{"v":24,"d":"24 "},{"v":15,"d":"15 "},{"v":20,"d":"20 "},{"v":25,"d":"25 "},{"v":10,"d":"10 "},{"$nulls":7},{"v":1066,"d":"1,066 "},{"v":832,"d":"832 "},{"v":571,"d":"571 "},{"v":240,"d":"240 "},{"v":21,"d":"21 "},{"v":79,"d":"79 "},{"v":73,"d":"73 "},{"v":82,"d":"82 "},{"v":327,"d":"327 "},"-","-","-","-","-","-",{"v":326,"d":"326 "},{"v":1,"d":"1 "},"-","-","-","-","-","-","-",{"v":329,"d":"329 "},{"v":22932,"d":"22,932 "},{"v":24,"d":"24 "},{"v":103,"d":"103 "},{"v":22805,"d":"22,805 "},514,443,303,130,10,1,41,29,552,389,268,110,11,78,32,53]
["山梨県","山梨市","山梨村","正徳寺",{"v":57,"d":"57 "},{"v":50,"d":"50 "},{"v":17,"d":"17 "},{"v":14,"d":"14 "},{"v":11,"d":"11 "},{"v":6,"d":"6 "},{"v":22,"d":"22 "},{"v":7,"d":"7 "},{"v":127,"d":"127 "},{"v":1,"d":"1 "},{"v":5,"d":"5 "},{"v":2,"d":"2 "},{"v":4,"d":"4 "},"-",{"v":5,"d":"5 "},{"v":9,"d":"9 "},{"v":14,"d":"14 "},{"v":14,"d":"14 "},{"v":8,"d":"8 "},{"v":18,"d":"18 "},{"v":14,"d":"14 "},{"v":13,"d":"13 "},{"v":12,"d":"12 "},{"v":8,"d":"8 "},61.8,61.3,62.4,{"v":95,"d":"95 "},{"v":1,"d":"1 "},"-","-",{"v":1,"d":"1 "},"-",{"v":1,"d":"1 "},{"v":5,"d":"5 "},{"v":7,"d":"7 "},{"v":11,"d":"11 "},{"v":7,"d":"7 "},{"v":17,"d":"17 "},{"v":13,"d":"13 "},{"v":12,"d":"12 "},{"v":12,"d":"12 "},{"v":8,"d":"8 "},67.7,68.6,66.8,{"v":86,"d":"86 "},"-","-","-",{"v":1,"d":"1 "},"-",{"v":1,"d":"1 "},{"v":4,"d":"4 "},{"v":6,"d":"6 "},{"v":11,"d":"11 "},{"v":5,"d":"5 "},{"v":17,"d":"17 "},{"v":12,"d":"12 "},{"v":10,"d":"10 "},{"v":12,"d":"12 "},{"v":7,"d":"7 "},68.4,69.7,66.9,{"v":50,"d":"50 "},"-","-","-","-","-",{"v":1,"d":"1 "},"-",{"v":8,"d":"8 "},{"v":6,"d":"6 "},{"v":4,"d":"4 "},{"v":10,"d":"10 "},{"v":6,"d":"6 "},{"v":7,"d":"7 "},{"v":6,"d":"6 "},{"v":2,"d":"2 "},{"v":16,"d":"16 "},"-","-","-","-","-",{"v":2,"d":"2 "},{"v":1,"d":"1 "},"-",{"v":2,"d":"2 "},{"v":1,"d":"1 "},{"v":5,"d":"5 "},{"v":4,"d":"4 "},{"v":1,"d":"1 "},{"$nulls":7},{"v":161,"d":"161 "},{"v":126,"d":"126 "},{"v":86,"d":"86 "},{"v":36,"d":"36 "},{"v":4,"d":"4 "},{"v":10,"d":"10 "},{"v":18,"d":"18 "},{"v":7,"d":"7 "},{"v":50,"d":"50 "},"-","-","-","-","-","-",{"v":50,"d":"50 "},"-","-","-","-","-","-","-","-",{"v":50,"d":"50 "},{"v":3460,"d":"3,460 "},"-",{"v":20,"d":"20 "},{"v":3440,"d":"3,440 "},82,67,46,21,"-","-",12,3,79,59,40,15,4,10,6,4]
["山梨県","山梨市","山梨村","落合",{"v":52,"d":"52 "},{"v":47,"d":"47 "},{"v":14,"d":"14 "},{"v":11,"d":"11 "},{"v":13,"d":"13 "},{"v":5,"d":"5 "},{"v":20,"d":"20 "},{"v":5,"d":"5 "},{"v":122,"d":"122 "},{"v":3,"d":"3 "},{"v":2,"d":"2 "},{"v":5,"d":"5 "},{"v":4,"d":"4 "},{"v":7,"d":"7 "},{"v":2,"d":"2 "},{"v":6,"d":"6 "},{"v":8,"d":"8 "},{"v":18,"d":"18 "},{"v":12,"d":"12 "},{"v":13,"d":"13 "},{"v":15,"d":"15 "},{"v":9,"d":"9 "},{"v":15,"d":"15 "},{"v":3,"d":"3 "},59.7,59.6,59.8,{"v":94,"d":"94 "},{"v":3,"d":"3 "},{"v":1,"d":"1 "},{"v":3,"d":"3 "},{"v":2,"d":"2 "},{"v":1,"d":"1 "},{"v":1,"d":"1 "},{"v":3,"d":"3 "},{"v":5,"d":"5 "},{"v":14,"d":"14 "},{"v":7,"d":"7 "},{"v":12,"d":"12 "},{"v":15,"d":"15 "},{"v":9,"d":"9 "},{"v":15,"d":"15 "},{"v":3,"d":"3 "},63.6,62.6,64.6,{"v":77,"d":"77 "},"-",{"v":1,"d":"1 "},{"v":1,"d":"1 "},{"v":2,"d":"2 "},"-",{"v":1,"d":"1 "},{"v":3,"d":"3 "},{"v":5,"d":"5 "},{"v":12,"d":"12 "},{"v":6,"d":"6 "},{"v":10,"d":"10 "},{"v":14,"d":"14 "},{"v":9,"d":"9 "},{"v":11,"d":"11 "},{"v":2,"d":"2 "},65.5,64.6,66.6,{"v":47,"d":"47 "},"-","-","-","-","-","-",{"v":2,"d":"2 "},{"v":3,"d":"3 "},{"v":11,"d":"11 "},{"v":6,"d":"6 "},{"v":6,"d":"6 "},{"v":9,"d":"9 "},{"v":6,"d":"6 "},{"v":4,"d":"4 "},"-",{"v":17,"d":"17 "},"-","-","-","-","-",{"v":1,"d":"1 "},{"v":4,"d":"4 "},{"v":2,"d":"2 "},{"v":3,"d":"3 "},{"v":3,"d":"3 "},{"v":2,"d":"2 "},{"v":2,"d":"2 "},"-",{"$nulls":7},{"v":152,"d":"152 "},{"v":116,"d":"116 "},{"v":77,"d":"77 "},{"v":35,"d":"35 "},{"v":4,"d":"4 "},{"v":13,"d":"13 "},{"v":11,"d":"11 "},{"v":12,"d":"12 "},{"v":47,"d":"47 "},"-","-","-","-","-","-",{"v":47,"d":"47 "},"-","-","-","-","-","-","-","-",{"v":47,"d":"47 "},{"v":3141,"d":"3,141 "},{"v":24,"d":"24 "},{"v":12,"d":"12 "},{"v":3105,"d":"3,105 "},75,65,44,19,2,1,4,5,77,51,33,16,2,12,7,7]
["山梨県","山梨市","山梨村","小田屋",{"v":26,"d":"26 "},{"v":20,"d":"20 "},{"v":7,"d":"7 "},{"v":7,"d":"7 "},{"v":5,"d":"5 "},{"v":4,"d":"4 "},{"v":8,"d":"8 "},{"v":6,"d":"6 "},{"v":56,"d":"56 "},{"v":2,"d":"2 "},{"v":2,"d":"2 "},{"v":4,"d":"4 "},{"v":1,"d":"1 "},{"v":1,"d":"1 "},{"v":1,"d":"1 "},{"v":3,"d":"3 "},{"v":8,"d":"8 "},{"v":9,"d":"9 "},{"v":4,"d":"4 "},{"v":6,"d":"6 "},{"v":2,"d":"2 "},{"v":8,"d":"8 "},{"v":3,"d":"3 "},{"v":2,"d":"2 "},56.8,54.4,59.5,{"v":43,"d":"43 "},"-","-",{"v":2,"d":"2 "},"-","-","-",{"v":1,"d":"1 "},{"v":6,"d":"6 "},{"v":9,"d":"9 "},{"v":4,"d":"4 "},{"v":6,"d":"6 "},{"v":2,"d":"2 "},{"v":8,"d":"8 "},{"v":3,"d":"3 "},{"v":2,"d":"2 "},63.7,63.6,63.9,{"v":40,"d":"40 "},"-","-",{"v":1,"d":"1 "},"-","-","-",{"v":1,"d":"1 "},{"v":6,"d":"6 "},{"v":8,"d":"8 "},{"v":4,"d":"4 "},{"v":6,"d":"6 "},{"v":2,"d":"2 "},{"v":8,"d":"8 "},{"v":3,"d":"3 "},{"v":1,"d":"1 "},64.3,63.6,65.1,{"v":20,"d":"20 "},"-","-","-","-","-","-",{"v":1,"d":"1 "},{"v":4,"d":"4 "},{"v":4,"d":"4 "},{"v":2,"d":"2 "},{"v":3,"d":"3 "},{"v":1,"d":"1 "},{"v":3,"d":"3 "},{"v":1,"d":"1 "},{"v":1,"d":"1 "},{"v":5,"d":"5 "},"-","-","-","-","-",{"v":1,"d":"1 "},{"v":1,"d":"1 "},"-",{"v":1,"d":"1 "},"-","-",{"v":1,"d":"1 "},{"v":1,"d":"1 "},{"$nulls":7},{"v":83,"d":"83 "},{"v":61,"d":"61 "},{"v":40,"d":"40 "},{"v":19,"d":"19 "},{"v":2,"d":"2 "},{"v":6,"d":"6 "},{"v":8,"d":"8 "},{"v":8,"d":"8 "},{"v":20,"d":"20 "},"-","-","-","-","-","-",{"v":20,"d":"20 "},"-","-","-","-","-","-","-","-",{"v":20,"d":"20 "},{"v":1814,"d":"1,814 "},"-","-",{"v":1814,"d":"1,814 "},46,36,20,15,1,"-",6,4,37,25,20,4,1,6,2,4]
["山梨県","山梨市","山梨村","上岩下",{"v":57,"d":"57 "},{"v":50,"d":"50 "},{"v":22,"d":"22 "},{"v":21,"d":"21 "},{"v":5,"d":"5 "},{"v":3,"d":"3 "},{"v":23,"d":"23 "},{"v":7,"d":"7 "},{"v":121,"d":"121 "},"-",{"v":1,"d":"1 "},{"v":2,"d":"2 "},{"v":6,"d":"6 "},{"v":8,"d":"8 "},{"v":3,"d":"3 "},{"v":12,"d":"12 "},{"v":7,"d":"7 "},{"v":13,"d":"13 "},{"v":8,"d":"8 "},{"v":19,"d":"19 "},{"v":14,"d":"14 "},{"v":14,"d":"14 "},{"v":10,"d":"10 "},{"v":4,"d":"4 "},{"v":61,"d":"61.0"},60.4,61.5,{"v":104,"d":"104 "},"-","-",{"v":1,"d":"1 "},{"v":5,"d":"5 "},{"v":6,"d":"6 "},{"v":1,"d":"1 "},{"v":7,"d":"7 "},{"v":4,"d":"4 "},{"v":11,"d":"11 "},{"v":8,"d":"8 "},{"v":19,"d":"19 "},{"v":14,"d":"14 "},{"v":14,"d":"14 "},{"v":10,"d":"10 "},{"v":4,"d":"4 "},63.8,62.4,65.2,{"v":97,"d":"97 "},"-","-",{"v":1,"d":"1 "},{"v":5,"d":"5 "},{"v":5,"d":"5 "},{"v":1,"d":"1 "},{"v":5,"d":"5 "},{"v":4,"d":"4 "},{"v":11,"d":"11 "},{"v":8,"d":"8 "},{"v":18,"d":"18 "},{"v":14,"d":"14 "},{"v":13,"d":"13 "},{"v":9,"d":"9 "},{"v":3,"d":"3 "},63.9,62.4,65.5,{"v":50,"d":"50 "},"-","-","-",{"v":2,"d":"2 "},{"v":1,"d":"1 "},"-",{"v":4,"d":"4 "},{"v":3,"d":"3 "},{"v":6,"d":"6 "},{"v":5,"d":"5 "},{"v":9,"d":"9 "},{"v":8,"d":"8 "},{"v":5,"d":"5 "},{"v":5,"d":"5 "},{"v":2,"d":"2 "},{"v":15,"d":"15 "},"-","-","-","-",{"v":1,"d":"1 "},{"v":1,"d":"1 "},{"v":2,"d":"2 "},"-",{"v":3,"d":"3 "},{"v":2,"d":"2 "},{"v":2,"d":"2 "},{"v":3,"d":"3 "},{"v":1,"d":"1 "},{"$nulls":7},{"v":166,"d":"166 "},{"v":138,"d":"138 "},{"v":97,"d":"97 "},{"v":39,"d":"39 "},{"v":2,"d":"2 "},{"v":8,"d":"8 "},{"v":7,"d":"7 "},{"v":13,"d":"13 "},{"v":50,"d":"50 "},"-","-","-","-","-","-",{"v":50,"d":"50 "},"-","-","-","-","-","-","-","-",{"v":50,"d":"50 "},{"v":3373,"d":"3,373 "},"-","-",{"v":3373,"d":"3,373 "},70,64,51,12,1,"-",4,2,96,74,46,27,1,8,3,11]
["山梨県","山梨市","山梨村","山根",{"v":50,"d":"50 "},{"v":46,"d":"46 "},{"v":26,"d":"26 "},{"v":25,"d":"25 "},{"v":6,"d":"6 "},{"v":4,"d":"4 "},{"v":14,"d":"14 "},{"v":4,"d":"4 "},{"v":115,"d":"115 "},{"v":1,"d":"1 "},{"v":3,"d":"3 "},{"v":4,"d":"4 "},"-",{"v":7,"d":"7 "},{"v":5,"d":"5 "},{"v":7,"d":"7 "},{"v":13,"d":"13 "},{"v":15,"d":"15 "},{"v":17,"d":"17 "},{"v":18,"d":"18 "},{"v":14,"d":"14 "},{"v":7,"d":"7 "},{"v":3,"d":"3 "},{"v":1,"d":"1 "},{"v":58,"d":"58.0"},{"v":57,"d":"57.0"},59.2,{"v":87,"d":"87 "},"-",{"v":1,"d":"1 "},"-","-",{"v":1,"d":"1 "},{"v":1,"d":"1 "},{"v":6,"d":"6 "},{"v":9,"d":"9 "},{"v":12,"d":"12 "},{"v":15,"d":"15 "},{"v":18,"d":"18 "},{"v":14,"d":"14 "},{"v":6,"d":"6 "},{"v":3,"d":"3 "},{"v":1,"d":"1 "},63.1,62.6,63.5,{"v":84,"d":"84 "},"-","-","-","-",{"v":1,"d":"1 "},{"v":1,"d":"1 "},{"v":6,"d":"6 "},{"v":8,"d":"8 "},{"v":12,"d":"12 "},{"v":14,"d":"14 "},{"v":18,"d":"18 "},{"v":14,"d":"14 "},{"v":6,"d":"6 "},{"v":3,"d":"3 "},{"v":1,"d":"1 "},63.8,63.6,63.9,{"v":46,"d":"46 "},"-","-","-","-",{"v":1,"d":"1 "},{"v":1,"d":"1 "},{"v":3,"d":"3 "},{"v":5,"d":"5 "},{"v":7,"d":"7 "},{"v":5,"d":"5 "},{"v":11,"d":"11 "},{"v":7,"d":"7 "},{"v":4,"d":"4 "},{"v":1,"d":"1 "},{"v":1,"d":"1 "},{"v":14,"d":"14 "},"-","-","-","-","-","-",{"v":1,"d":"1 "},{"v":1,"d":"1 "},{"v":6,"d":"6 "},{"v":2,"d":"2 "},{"v":2,"d":"2 "},{"v":1,"d":"1 "},{"v":1,"d":"1 "},{"$nulls":7},{"v":139,"d":"139 "},{"v":122,"d":"122 "},{"v":84,"d":"84 "},{"v":37,"d":"37 "},{"v":1,"d":"1 "},{"v":5,"d":"5 "},{"v":4,"d":"4 "},{"v":8,"d":"8 "},{"v":45,"d":"45 "},"-","-","-","-","-","-",{"v":45,"d":"45 "},"-","-","-","-","-","-","-","-",{"v":46,"d":"46 "},{"v":3450,"d":"3,450 "},"-","-",{"v":3450,"d":"3,450 "},70,63,43,19,1,"-",4,3,69,59,41,18,"-",5,"-",5]
["山梨県","山梨市","山梨村","矢坪",{"v":29,"d":"29 "},{"v":26,"d":"26 "},{"v":13,"d":"13 "},{"v":13,"d":"13 "},{"v":2,"d":"2 "},"-",{"v":11,"d":"11 "},{"v":3,"d":"3 "},{"v":53,"d":"53 "},"-","-","-","-",{"v":1,"d":"1 "},"-",{"v":4,"d":"4 "},{"v":6,"d":"6 "},{"v":5,"d":"5 "},{"v":7,"d":"7 "},{"v":5,"d":"5 "},{"v":8,"d":"8 "},{"v":9,"d":"9 "},{"v":5,"d":"5 "},{"v":3,"d":"3 "},66.3,65.9,66.8,{"v":48,"d":"48 "},"-","-","-","-",{"v":1,"d":"1 "},"-",{"v":3,"d":"3 "},{"v":2,"d":"2 "},{"v":5,"d":"5 "},{"v":7,"d":"7 "},{"v":5,"d":"5 "},{"v":8,"d":"8 "},{"v":9,"d":"9 "},{"v":5,"d":"5 "},{"v":3,"d":"3 "},{"v":68,"d":"68.0"},68.5,67.5,{"v":46,"d":"46 "},"-","-","-","-",{"v":1,"d":"1 "},"-",{"v":3,"d":"3 "},{"v":2,"d":"2 "},{"v":5,"d":"5 "},{"v":7,"d":"7 "},{"v":5,"d":"5 "},{"v":8,"d":"8 "},{"v":7,"d":"7 "},{"v":5,"d":"5 "},{"v":3,"d":"3 "},67.7,68.5,66.7,{"v":26,"d":"26 "},"-","-","-","-","-","-",{"v":2,"d":"2 "},{"v":2,"d":"2 "},{"v":1,"d":"1 "},{"v":4,"d":"4 "},{"v":2,"d":"2 "},{"v":5,"d":"5 "},{"v":4,"d":"4 "},{"v":4,"d":"4 "},{"v":2,"d":"2 "},{"v":11,"d":"11 "},"-","-","-","-","-","-","-",{"v":2,"d":"2 "},"-",{"v":3,"d":"3 "},{"v":2,"d":"2 "},{"v":2,"d":"2 "},{"v":2,"d":"2 "},{"$nulls":7},{"v":73,"d":"73 "},{"v":60,"d":"60 "},{"v":46,"d":"46 "},{"v":14,"d":"14 "},"-",{"v":5,"d":"5 "},{"v":3,"d":"3 "},{"v":5,"d":"5 "},{"v":26,"d":"26 "},"-","-","-","-","-","-",{"v":26,"d":"26 "},"-","-","-","-","-","-","-","-",{"v":26,"d":"26 "},{"v":1854,"d":"1,854 "},"-",{"v":35,"d":"35 "},{"v":1819,"d":"1,819 "},37,33,24,9,"-","-",2,2,36,27,22,5,"-",5,1,3]
["山梨県","山梨市","山梨村","万力一区",{"v":52,"d":"52 "},{"v":47,"d":"47 "},{"v":14,"d":"14 "},{"v":12,"d":"12 "},{"v":10,"d":"10 "},{"v":7,"d":"7 "},{"v":23,"d":"23 "},{"v":5,"d":"5 "},{"v":105,"d":"105 "},"-",{"v":4,"d":"4 "},{"v":3,"d":"3 "},{"v":2,"d":"2 "},{"v":9,"d":"9 "},{"v":2,"d":"2 "},{"v":4,"d":"4 "},{"v":8,"d":"8 "},{"v":9,"d":"9 "},{"v":10,"d":"10 "},{"v":18,"d":"18 "},{"v":12,"d":"12 "},{"v":8,"d":"8 "},{"v":15,"d":"15 "},{"v":1,"d":"1 "},60.8,60.5,61.2,{"v":80,"d":"80 "},"-","-","-",{"v":1,"d":"1 "},{"v":3,"d":"3 "},{"v":1,"d":"1 "},{"v":2,"d":"2 "},{"v":7,"d":"7 "},{"v":8,"d":"8 "},{"v":6,"d":"6 "},{"v":16,"d":"16 "},{"v":12,"d":"12 "},{"v":8,"d":"8 "},{"v":15,"d":"15 "},{"v":1,"d":"1 "},66.6,67.1,66.2,{"v":70,"d":"70 "},"-","-","-",{"v":1,"d":"1 "},{"v":3,"d":"3 "},{"v":1,"d":"1 "},{"v":1,"d":"1 "},{"v":7,"d":"7 "},{"v":8,"d":"8 "},{"v":6,"d":"6 "},{"v":15,"d":"15 "},{"v":11,"d":"11 "},{"v":7,"d":"7 "},{"v":10,"d":"10 "},"-",65.3,66.3,64.3,{"v":47,"d":"47 "},"-","-","-","-",{"v":2,"d":"2 "},{"v":2,"d":"2 "},{"v":1,"d":"1 "},{"v":3,"d":"3 "},{"v":5,"d":"5 "},{"v":5,"d":"5 "},{"v":12,"d":"12 "},{"v":5,"d":"5 "},{"v":4,"d":"4 "},{"v":7,"d":"7 "},{"v":1,"d":"1 "},{"v":28,"d":"28 "},"-","-","-","-","-",{"v":1,"d":"1 "},{"v":3,"d":"3 "},{"v":3,"d":"3 "},{"v":7,"d":"7 "},{"v":3,"d":"3 "},{"v":3,"d":"3 "},{"v":7,"d":"7 "},{"v":1,"d":"1 "},{"$nulls":7},{"v":140,"d":"140 "},{"v":104,"d":"104 "},{"v":70,"d":"70 "},{"v":32,"d":"32 "},{"v":2,"d":"2 "},{"v":17,"d":"17 "},{"v":6,"d":"6 "},{"v":13,"d":"13 "},{"v":46,"d":"46 "},"-","-","-","-","-","-",{"v":45,"d":"45 "},{"v":1,"d":"1 "},"-","-","-","-","-","-","-",{"v":47,"d":"47 "},{"v":2817,"d":"2,817 "},"-",{"v":24,"d":"24 "},{"v":2793,"d":"2,793 "},64,57,35,20,2,"-",3,4,76,47,35,12,"-",17,3,9]
["山梨県","山梨市","山梨村","万力二区",{"v":32,"d":"32 "},{"v":27,"d":"27 "},{"v":15,"d":"15 "},{"v":15,"d":"15 "},{"v":5,"d":"5 "},{"v":5,"d":"5 "},{"v":7,"d":"7 "},{"v":5,"d":"5 "},{"v":75,"d":"75 "},{"v":1,"d":"1 "},{"v":1,"d":"1 "},"-",{"v":3,"d":"3 "},{"v":5,"d":"5 "},{"v":8,"d":"8 "},{"v":5,"d":"5 "},{"v":9,"d":"9 "},{"v":5,"d":"5 "},{"v":8,"d":"8 "},{"v":2,"d":"2 "},{"v":7,"d":"7 "},{"v":7,"d":"7 "},{"v":9,"d":"9 "},{"v":5,"d":"5 "},59.7,59.3,60.1,{"v":53,"d":"53 "},"-","-","-",{"v":2,"d":"2 "},{"v":2,"d":"2 "},{"v":5,"d":"5 "},{"v":2,"d":"2 "},{"v":5,"d":"5 "},{"v":4,"d":"4 "},{"v":6,"d":"6 "},{"v":1,"d":"1 "},{"v":7,"d":"7 "},{"v":5,"d":"5 "},{"v":9,"d":"9 "},{"v":5,"d":"5 "},64.5,62.3,67.1,{"v":46,"d":"46 "},"-","-","-",{"v":1,"d":"1 "},{"v":2,"d":"2 "},{"v":4,"d":"4 "},{"v":2,"d":"2 "},{"v":5,"d":"5 "},{"v":4,"d":"4 "},{"v":6,"d":"6 "},{"v":1,"d":"1 "},{"v":5,"d":"5 "},{"v":4,"d":"4 "},{"v":9,"d":"9 "},{"v":3,"d":"3 "},64.2,61.3,68.3,{"v":27,"d":"27 "},"-","-","-",{"v":1,"d":"1 "},{"v":1,"d":"1 "},{"v":2,"d":"2 "},{"v":3,"d":"3 "},{"v":5,"d":"5 "},{"v":1,"d":"1 "},{"v":5,"d":"5 "},{"v":1,"d":"1 "},{"v":2,"d":"2 "},{"v":2,"d":"2 "},{"v":3,"d":"3 "},{"v":1,"d":"1 "},{"v":6,"d":"6 "},"-","-","-","-",{"v":1,"d":"1 "},"-","-","-",{"v":1,"d":"1 "},{"v":1,"d":"1 "},"-",{"v":2,"d":"2 "},{"v":1,"d":"1 "},{"$nulls":7},{"v":93,"d":"93 "},{"v":67,"d":"67 "},{"v":46,"d":"46 "},{"v":16,"d":"16 "},{"v":5,"d":"5 "},{"v":10,"d":"10 "},{"v":6,"d":"6 "},{"v":10,"d":"10 "},{"v":27,"d":"27 "},"-","-","-","-","-","-",{"v":27,"d":"27 "},"-","-","-","-","-","-","-","-",{"v":27,"d":"27 "},{"v":2195,"d":"2,195 "},"-",{"v":11,"d":"11 "},{"v":2184,"d":"2,184 "},43,37,27,7,3,"-",3,3,50,30,19,9,2,10,3,7]
["山梨県","山梨市","山梨村","万力三区",{"v":18,"d":"18 "},{"v":16,"d":"16 "},{"v":4,"d":"4 "},{"v":3,"d":"3 "},{"v":3,"d":"3 "},{"v":1,"d":"1 "},{"v":9,"d":"9 "},{"v":2,"d":"2 "},{"v":42,"d":"42 "},"-",{"v":2,"d":"2 "},{"v":1,"d":"1 "},"-",{"v":2,"d":"2 "},"-",{"v":6,"d":"6 "},{"v":4,"d":"4 "},{"v":4,"d":"4 "},{"v":1,"d":"1 "},{"v":6,"d":"6 "},{"v":3,"d":"3 "},{"v":7,"d":"7 "},{"v":4,"d":"4 "},{"v":2,"d":"2 "},61.2,57.1,66.2,{"v":31,"d":"31 "},"-",{"v":1,"d":"1 "},{"v":1,"d":"1 "},"-",{"v":1,"d":"1 "},"-",{"v":2,"d":"2 "},{"v":1,"d":"1 "},{"v":3,"d":"3 "},{"v":1,"d":"1 "},{"v":5,"d":"5 "},{"v":3,"d":"3 "},{"v":7,"d":"7 "},{"v":4,"d":"4 "},{"v":2,"d":"2 "},66.2,64.7,67.4,{"v":25,"d":"25 "},"-",{"v":1,"d":"1 "},{"v":1,"d":"1 "},"-","-","-",{"v":1,"d":"1 "},"-",{"v":3,"d":"3 "},{"v":1,"d":"1 "},{"v":5,"d":"5 "},{"v":3,"d":"3 "},{"v":6,"d":"6 "},{"v":4,"d":"4 "},"-",66.6,{"v":63,"d":"63.0"},70.6,{"v":16,"d":"16 "},"-","-","-","-","-","-","-",{"v":1,"d":"1 "},{"v":2,"d":"2 "},"-",{"v":3,"d":"3 "},{"v":1,"d":"1 "},{"v":4,"d":"4 "},{"v":3,"d":"3 "},{"v":2,"d":"2 "},{"v":13,"d":"13 "},"-","-","-","-","-",{"v":1,"d":"1 "},{"v":2,"d":"2 "},"-",{"v":1,"d":"1 "},"-",{"v":4,"d":"4 "},{"v":3,"d":"3 "},{"v":2,"d":"2 "},{"$nulls":7},{"v":59,"d":"59 "},{"v":38,"d":"38 "},{"v":25,"d":"25 "},{"v":12,"d":"12 "},{"v":1,"d":"1 "},{"v":5,"d":"5 "},{"v":10,"d":"10 "},{"v":6,"d":"6 "},{"v":16,"d":"16 "},"-","-","-","-","-","-",{"v":16,"d":"16 "},"-","-","-","-","-","-","-","-",{"v":16,"d":"16 "},{"v":828,"d":"828 "},"-",{"v":1,"d":"1 "},{"v":827,"d":"827 "},27,21,13,8,"-","-",3,3,32,17,12,4,1,5,7,3]
["山梨県","山梨市","八幡村",null,{"v":406,"d":"406 "},{"v":321,"d":"321 "},{"v":95,"d":"95 "},{"v":83,"d":"83 "},{"v":60,"d":"60 "},{"v":24,"d":"24 "},{"v":166,"d":"166 "},{"v":85,"d":"85 "},{"v":780,"d":"780 "},{"v":16,"d":"16 "},{"v":17,"d":"17 "},{"v":13,"d":"13 "},{"v":14,"d":"14 "},{"v":24,"d":"24 "},{"v":31,"d":"31 "},{"v":49,"d":"49 "},{"v":65,"d":"65 "},{"v":74,"d":"74 "},{"v":89,"d":"89 "},{"v":100,"d":"100 "},{"v":91,"d":"91 "},{"v":107,"d":"107 "},{"v":61,"d":"61 "},{"v":29,"d":"29 "},61.7,{"v":61,"d":"61.0"},62.4,{"v":561,"d":"561 "},{"v":5,"d":"5 "},{"v":3,"d":"3 "},{"v":1,"d":"1 "},{"v":4,"d":"4 "},{"v":4,"d":"4 "},{"v":6,"d":"6 "},{"v":14,"d":"14 "},{"v":27,"d":"27 "},{"v":48,"d":"48 "},{"v":73,"d":"73 "},{"v":94,"d":"94 "},{"v":89,"d":"89 "},{"v":106,"d":"106 "},{"v":59,"d":"59 "},{"v":28,"d":"28 "},68.1,68.1,68.1,{"v":495,"d":"495 "},"-","-",{"v":1,"d":"1 "},{"v":4,"d":"4 "},{"v":4,"d":"4 "},{"v":3,"d":"3 "},{"v":12,"d":"12 "},{"v":22,"d":"22 "},{"v":43,"d":"43 "},{"v":70,"d":"70 "},{"v":86,"d":"86 "},{"v":83,"d":"83 "},{"v":98,"d":"98 "},{"v":51,"d":"51 "},{"v":18,"d":"18 "},68.7,{"v":69,"d":"69.0"},68.3,{"v":321,"d":"321 "},"-","-","-",{"v":1,"d":"1 "},{"v":1,"d":"1 "},"-",{"v":10,"d":"10 "},{"v":20,"d":"20 "},{"v":37,"d":"37 "},{"v":51,"d":"51 "},{"v":50,"d":"50 "},{"v":49,"d":"49 "},{"v":60,"d":"60 "},{"v":35,"d":"35 "},{"v":7,"d":"7 "},{"v":166,"d":"166 "},"-","-","-","-",{"v":4,"d":"4 "},{"v":8,"d":"8 "},{"v":12,"d":"12 "},{"v":19,"d":"19 "},{"v":28,"d":"28 "},{"v":29,"d":"29 "},{"v":37,"d":"37 "},{"v":23,"d":"23 "},{"v":6,"d":"6 "},{"$nulls":7},{"v":1007,"d":"1,007 "},{"v":779,"d":"779 "},{"v":495,"d":"495 "},{"v":267,"d":"267 "},{"v":17,"d":"17 "},{"v":85,"d":"85 "},{"v":77,"d":"77 "},{"v":66,"d":"66 "},{"v":317,"d":"317 "},{"v":1,"d":"1 "},"-","-","-","-",{"v":2,"d":"2 "},{"v":310,"d":"310 "},{"v":2,"d":"2 "},{"v":1,"d":"1 "},{"v":1,"d":"1 "},"-","-","-","-","-",{"v":320,"d":"320 "},{"v":20879,"d":"20,879 "},{"v":367,"d":"367 "},{"v":798,"d":"798 "},{"v":19714,"d":"19,714 "},498,435,274,149,12,"-",44,19,509,344,221,118,5,85,33,47]
["山梨県","山梨市","八幡村","南",{"v":45,"d":"45 "},{"v":38,"d":"38 "},{"v":17,"d":"17 "},{"v":13,"d":"13 "},{"v":3,"d":"3 "},{"v":1,"d":"1 "},{"v":18,"d":"18 "},{"v":7,"d":"7 "},{"v":99,"d":"99 "},{"v":2,"d":"2 "},{"v":2,"d":"2 "},{"v":1,"d":"1 "},{"v":2,"d":"2 "},{"v":2,"d":"2 "},{"v":5,"d":"5 "},{"v":9,"d":"9 "},{"v":11,"d":"11 "},{"v":7,"d":"7 "},{"v":5,"d":"5 "},{"v":11,"d":"11 "},{"v":9,"d":"9 "},{"v":13,"d":"13 "},{"v":16,"d":"16 "},{"v":4,"d":"4 "},62.5,{"v":62,"d":"62.0"},63.1,{"v":79,"d":"79 "},"-","-","-",{"v":1,"d":"1 "},"-",{"v":3,"d":"3 "},{"v":5,"d":"5 "},{"v":9,"d":"9 "},{"v":5,"d":"5 "},{"v":5,"d":"5 "},{"v":9,"d":"9 "},{"v":9,"d":"9 "},{"v":13,"d":"13 "},{"v":16,"d":"16 "},{"v":4,"d":"4 "},67.8,68.8,66.9,{"v":69,"d":"69 "},"-","-","-",{"v":1,"d":"1 "},"-",{"v":1,"d":"1 "},{"v":3,"d":"3 "},{"v":8,"d":"8 "},{"v":5,"d":"5 "},{"v":5,"d":"5 "},{"v":8,"d":"8 "},{"v":9,"d":"9 "},{"v":12,"d":"12 "},{"v":14,"d":"14 "},{"v":3,"d":"3 "},68.6,68.8,68.4,{"v":38,"d":"38 "},"-","-","-","-","-","-",{"v":1,"d":"1 "},{"v":4,"d":"4 "},{"v":3,"d":"3 "},{"v":3,"d":"3 "},{"v":5,"d":"5 "},{"v":6,"d":"6 "},{"v":4,"d":"4 "},{"v":10,"d":"10 "},{"v":2,"d":"2 "},{"v":21,"d":"21 "},"-","-","-","-","-",{"v":2,"d":"2 "},{"v":1,"d":"1 "},{"v":1,"d":"1 "},{"v":3,"d":"3 "},{"v":5,"d":"5 "},{"v":2,"d":"2 "},{"v":6,"d":"6 "},{"v":1,"d":"1 "},{"$nulls":7},{"v":125,"d":"125 "},{"v":96,"d":"96 "},{"v":69,"d":"69 "},{"v":22,"d":"22 "},{"v":5,"d":"5 "},{"v":11,"d":"11 "},{"v":13,"d":"13 "},{"v":5,"d":"5 "},{"v":37,"d":"37 "},"-","-","-","-","-",{"v":1,"d":"1 "},{"v":35,"d":"35 "},{"v":1,"d":"1 "},"-","-","-","-","-","-","-",{"v":37,"d":"37 "},{"v":2755,"d":"2,755 "},{"v":21,"d":"21 "},{"v":71,"d":"71 "},{"v":2663,"d":"2,663 "},64,56,39,12,5,"-",8,"-",61,40,30,10,"-",11,5,5]
["山梨県","山梨市","八幡村","北",{"v":62,"d":"62 "},{"v":56,"d":"56 "},{"v":16,"d":"16 "},{"v":12,"d":"12 "},{"v":6,"d":"6 "},{"v":4,"d":"4 "},{"v":34,"d":"34 "},{"v":6,"d":"6 "},{"v":131,"d":"131 "},{"v":2,"d":"2 "},{"v":2,"d":"2 "},"-",{"v":1,"d":"1 "},{"v":7,"d":"7 "},{"v":7,"d":"7 "},{"v":4,"d":"4 "},{"v":7,"d":"7 "},{"v":9,"d":"9 "},{"v":14,"d":"14 "},{"v":24,"d":"24 "},{"v":12,"d":"12 "},{"v":30,"d":"30 "},{"v":8,"d":"8 "},{"v":4,"d":"4 "},{"v":64,"d":"64.0"},63.5,64.5,{"v":103,"d":"103 "},{"v":1,"d":"1 "},{"v":1,"d":"1 "},"-","-",{"v":1,"d":"1 "},{"v":1,"d":"1 "},{"v":1,"d":"1 "},{"v":3,"d":"3 "},{"v":6,"d":"6 "},{"v":11,"d":"11 "},{"v":24,"d":"24 "},{"v":12,"d":"12 "},{"v":30,"d":"30 "},{"v":8,"d":"8 "},{"v":4,"d":"4 "},69.3,69.5,69.1,{"v":91,"d":"91 "},"-","-","-","-",{"v":1,"d":"1 "},"-",{"v":1,"d":"1 "},{"v":3,"d":"3 "},{"v":5,"d":"5 "},{"v":11,"d":"11 "},{"v":22,"d":"22 "},{"v":12,"d":"12 "},{"v":28,"d":"28 "},{"v":6,"d":"6 "},{"v":2,"d":"2 "},{"v":70,"d":"70.0"},71.7,68.2,{"v":56,"d":"56 "},"-","-","-","-","-","-",{"v":1,"d":"1 "},{"v":2,"d":"2 "},{"v":5,"d":"5 "},{"v":8,"d":"8 "},{"v":11,"d":"11 "},{"v":5,"d":"5 "},{"v":20,"d":"20 "},{"v":4,"d":"4 "},"-",{"v":27,"d":"27 "},"-","-","-","-","-","-","-",{"v":4,"d":"4 "},{"v":7,"d":"7 "},"-",{"v":14,"d":"14 "},{"v":2,"d":"2 "},"-",{"$nulls":7},{"v":155,"d":"155 "},{"v":121,"d":"121 "},{"v":91,"d":"91 "},{"v":28,"d":"28 "},{"v":2,"d":"2 "},{"v":13,"d":"13 "},{"v":9,"d":"9 "},{"v":12,"d":"12 "},{"v":56,"d":"56 "},"-","-","-","-","-","-",{"v":56,"d":"56 "},"-","-","-","-","-","-","-","-",{"v":56,"d":"56 "},{"v":3505,"d":"3,505 "},"-",{"v":31,"d":"31 "},{"v":3474,"d":"3,474 "},75,66,48,17,1,"-",6,3,80,55,43,11,1,13,3,9]
["山梨県","山梨市","八幡村","市川",{"v":104,"d":"104 "},{"v":78,"d":"78 "},{"v":21,"d":"21 "},{"v":20,"d":"20 "},{"v":22,"d":"22 "},{"v":8,"d":"8 "},{"v":35,"d":"35 "},{"v":26,"d":"26 "},{"v":201,"d":"201 "},{"v":3,"d":"3 "},{"v":7,"d":"7 "},{"v":3,"d":"3 "},{"v":4,"d":"4 "},{"v":4,"d":"4 "},{"v":7,"d":"7 "},{"v":20,"d":"20 "},{"v":25,"d":"25 "},{"v":14,"d":"14 "},{"v":25,"d":"25 "},{"v":15,"d":"15 "},{"v":19,"d":"19 "},{"v":32,"d":"32 "},{"v":14,"d":"14 "},{"v":9,"d":"9 "},60.9,59.9,62.1,{"v":125,"d":"125 "},{"v":1,"d":"1 "},"-","-",{"v":1,"d":"1 "},{"v":1,"d":"1 "},{"v":1,"d":"1 "},{"v":3,"d":"3 "},{"v":5,"d":"5 "},{"v":8,"d":"8 "},{"v":19,"d":"19 "},{"v":15,"d":"15 "},{"v":19,"d":"19 "},{"v":31,"d":"31 "},{"v":13,"d":"13 "},{"v":8,"d":"8 "},69.6,69.4,69.9,{"v":112,"d":"112 "},"-","-","-",{"v":1,"d":"1 "},{"v":1,"d":"1 "},{"v":1,"d":"1 "},{"v":3,"d":"3 "},{"v":4,"d":"4 "},{"v":7,"d":"7 "},{"v":18,"d":"18 "},{"v":15,"d":"15 "},{"v":16,"d":"16 "},{"v":28,"d":"28 "},{"v":11,"d":"11 "},{"v":7,"d":"7 "},69.7,69.7,69.7,{"v":78,"d":"78 "},"-","-","-","-","-","-",{"v":4,"d":"4 "},{"v":7,"d":"7 "},{"v":7,"d":"7 "},{"v":12,"d":"12 "},{"v":10,"d":"10 "},{"v":10,"d":"10 "},{"v":17,"d":"17 "},{"v":7,"d":"7 "},{"v":4,"d":"4 "},{"v":44,"d":"44 "},"-","-","-","-",{"v":3,"d":"3 "},{"v":5,"d":"5 "},{"v":1,"d":"1 "},{"v":4,"d":"4 "},{"v":3,"d":"3 "},{"v":6,"d":"6 "},{"v":11,"d":"11 "},{"v":7,"d":"7 "},{"v":4,"d":"4 "},{"$nulls":7},{"v":274,"d":"274 "},{"v":203,"d":"203 "},{"v":112,"d":"112 "},{"v":88,"d":"88 "},{"v":3,"d":"3 "},{"v":25,"d":"25 "},{"v":29,"d":"29 "},{"v":17,"d":"17 "},{"v":76,"d":"76 "},"-","-","-","-","-",{"v":1,"d":"1 "},{"v":74,"d":"74 "},"-","-",{"v":1,"d":"1 "},"-","-","-","-","-",{"v":78,"d":"78 "},{"v":4641,"d":"4,641 "},{"v":176,"d":"176 "},{"v":417,"d":"417 "},{"v":4048,"d":"4,048 "},136,115,63,50,2,"-",15,6,138,88,49,38,1,25,14,11]
["山梨県","山梨市","八幡村","江曽原",{"v":59,"d":"59 "},{"v":43,"d":"43 "},{"v":8,"d":"8 "},{"v":8,"d":"8 "},{"v":8,"d":"8 "},{"v":2,"d":"2 "},{"v":27,"d":"27 "},{"v":16,"d":"16 "},{"v":92,"d":"92 "},{"v":1,"d":"1 "},{"v":2,"d":"2 "},{"v":3,"d":"3 "},{"v":2,"d":"2 "},{"v":4,"d":"4 "},{"v":3,"d":"3 "},{"v":2,"d":"2 "},{"v":5,"d":"5 "},{"v":4,"d":"4 "},{"v":19,"d":"19 "},{"v":19,"d":"19 "},{"v":12,"d":"12 "},{"v":11,"d":"11 "},{"v":3,"d":"3 "},{"v":2,"d":"2 "},61.3,63.1,59.4,{"v":68,"d":"68 "},{"v":1,"d":"1 "},{"v":1,"d":"1 "},"-","-","-","-","-",{"v":4,"d":"4 "},{"v":1,"d":"1 "},{"v":16,"d":"16 "},{"v":17,"d":"17 "},{"v":12,"d":"12 "},{"v":11,"d":"11 "},{"v":3,"d":"3 "},{"v":2,"d":"2 "},67.3,70.3,64.5,{"v":56,"d":"56 "},"-","-","-","-","-","-","-",{"v":2,"d":"2 "},"-",{"v":14,"d":"14 "},{"v":14,"d":"14 "},{"v":12,"d":"12 "},{"v":10,"d":"10 "},{"v":3,"d":"3 "},{"v":1,"d":"1 "},69.5,70.4,68.2,{"v":43,"d":"43 "},"-","-","-","-","-","-","-",{"v":1,"d":"1 "},{"v":3,"d":"3 "},{"v":11,"d":"11 "},{"v":11,"d":"11 "},{"v":6,"d":"6 "},{"v":8,"d":"8 "},{"v":3,"d":"3 "},"-",{"v":21,"d":"21 "},"-","-","-","-","-","-","-",{"v":3,"d":"3 "},{"v":6,"d":"6 "},{"v":4,"d":"4 "},{"v":6,"d":"6 "},{"v":2,"d":"2 "},"-",{"$nulls":7},{"v":117,"d":"117 "},{"v":94,"d":"94 "},{"v":56,"d":"56 "},{"v":35,"d":"35 "},{"v":3,"d":"3 "},{"v":13,"d":"13 "},{"v":3,"d":"3 "},{"v":7,"d":"7 "},{"v":42,"d":"42 "},{"v":1,"d":"1 "},"-","-","-","-","-",{"v":41,"d":"41 "},"-","-","-","-","-","-","-","-",{"v":43,"d":"43 "},{"v":2643,"d":"2,643 "},{"v":46,"d":"46 "},{"v":51,"d":"51 "},{"v":2546,"d":"2,546 "},56,53,32,20,1,"-",2,1,61,41,24,15,2,13,1,6]
["山梨県","山梨市","八幡村","大工",{"v":47,"d":"47 "},{"v":46,"d":"46 "},{"v":15,"d":"15 "},{"v":15,"d":"15 "},{"v":4,"d":"4 "},{"v":2,"d":"2 "},{"v":27,"d":"27 "},{"v":1,"d":"1 "},{"v":117,"d":"117 "},{"v":4,"d":"4 "},{"v":3,"d":"3 "},{"v":5,"d":"5 "},{"v":3,"d":"3 "},{"v":3,"d":"3 "},{"v":1,"d":"1 "},{"v":7,"d":"7 "},{"v":6,"d":"6 "},{"v":12,"d":"12 "},{"v":13,"d":"13 "},{"v":15,"d":"15 "},{"v":20,"d":"20 "},{"v":10,"d":"10 "},{"v":11,"d":"11 "},{"v":4,"d":"4 "},60.8,58.7,62.9,{"v":84,"d":"84 "},{"v":1,"d":"1 "},{"v":1,"d":"1 "},"-",{"v":2,"d":"2 "},"-","-",{"v":2,"d":"2 "},{"v":1,"d":"1 "},{"v":7,"d":"7 "},{"v":12,"d":"12 "},{"v":14,"d":"14 "},{"v":19,"d":"19 "},{"v":10,"d":"10 "},{"v":11,"d":"11 "},{"v":4,"d":"4 "},68.1,65.4,70.9,{"v":74,"d":"74 "},"-","-","-",{"v":2,"d":"2 "},"-","-",{"v":2,"d":"2 "},{"v":1,"d":"1 "},{"v":5,"d":"5 "},{"v":12,"d":"12 "},{"v":14,"d":"14 "},{"v":17,"d":"17 "},{"v":9,"d":"9 "},{"v":10,"d":"10 "},{"v":2,"d":"2 "},68.8,67.4,70.2,{"v":46,"d":"46 "},"-","-","-",{"v":1,"d":"1 "},{"v":1,"d":"1 "},"-",{"v":2,"d":"2 "},{"v":1,"d":"1 "},{"v":5,"d":"5 "},{"v":9,"d":"9 "},{"v":5,"d":"5 "},{"v":11,"d":"11 "},{"v":4,"d":"4 "},{"v":6,"d":"6 "},{"v":1,"d":"1 "},{"v":23,"d":"23 "},"-","-","-","-","-","-",{"v":2,"d":"2 "},{"v":4,"d":"4 "},{"v":3,"d":"3 "},{"v":9,"d":"9 "},{"v":1,"d":"1 "},{"v":3,"d":"3 "},{"v":1,"d":"1 "},{"$nulls":7},{"v":137,"d":"137 "},{"v":113,"d":"113 "},{"v":74,"d":"74 "},{"v":36,"d":"36 "},{"v":3,"d":"3 "},{"v":4,"d":"4 "},{"v":9,"d":"9 "},{"v":11,"d":"11 "},{"v":46,"d":"46 "},"-","-","-","-","-","-",{"v":46,"d":"46 "},"-","-","-","-","-","-","-","-",{"v":46,"d":"46 "},{"v":3175,"d":"3,175 "},{"v":12,"d":"12 "},{"v":41,"d":"41 "},{"v":3122,"d":"3,122 "},69,61,39,20,2,"-",3,5,68,52,35,16,1,4,6,6]
["山梨県","山梨市","岩手村",null,{"v":119,"d":"119 "},{"v":93,"d":"93 "},{"v":31,"d":"31 "},{"v":30,"d":"30 "},{"v":18,"d":"18 "},{"v":9,"d":"9 "},{"v":44,"d":"44 "},{"v":26,"d":"26 "},{"v":233,"d":"233 "},{"v":2,"d":"2 "},{"v":4,"d":"4 "},{"v":6,"d":"6 "},{"v":5,"d":"5 "},{"v":7,"d":"7 "},{"v":8,"d":"8 "},{"v":25,"d":"25 "},{"v":14,"d":"14 "},{"v":32,"d":"32 "},{"v":21,"d":"21 "},{"v":22,"d":"22 "},{"v":29,"d":"29 "},{"v":30,"d":"30 "},{"v":20,"d":"20 "},{"v":8,"d":"8 "},61.5,60.6,62.6,{"v":163,"d":"163 "},"-","-","-",{"v":2,"d":"2 "},{"v":2,"d":"2 "},"-",{"v":12,"d":"12 "},{"v":7,"d":"7 "},{"v":22,"d":"22 "},{"v":18,"d":"18 "},{"v":19,"d":"19 "},{"v":28,"d":"28 "},{"v":29,"d":"29 "},{"v":18,"d":"18 "},{"v":6,"d":"6 "},67.3,67.8,66.7,{"v":147,"d":"147 "},"-","-","-",{"v":2,"d":"2 "},{"v":2,"d":"2 "},"-",{"v":10,"d":"10 "},{"v":7,"d":"7 "},{"v":21,"d":"21 "},{"v":18,"d":"18 "},{"v":18,"d":"18 "},{"v":26,"d":"26 "},{"v":25,"d":"25 "},{"v":16,"d":"16 "},{"v":2,"d":"2 "},66.6,67.2,65.8,{"v":93,"d":"93 "},"-","-","-","-","-","-",{"v":6,"d":"6 "},{"v":4,"d":"4 "},{"v":15,"d":"15 "},{"v":10,"d":"10 "},{"v":11,"d":"11 "},{"v":16,"d":"16 "},{"v":19,"d":"19 "},{"v":9,"d":"9 "},{"v":3,"d":"3 "},{"v":44,"d":"44 "},"-","-","-","-",{"v":4,"d":"4 "},{"v":3,"d":"3 "},{"v":3,"d":"3 "},{"v":4,"d":"4 "},{"v":3,"d":"3 "},{"v":5,"d":"5 "},{"v":13,"d":"13 "},{"v":7,"d":"7 "},{"v":2,"d":"2 "},{"$nulls":7},{"v":294,"d":"294 "},{"v":229,"d":"229 "},{"v":147,"d":"147 "},{"v":81,"d":"81 "},{"v":1,"d":"1 "},{"v":19,"d":"19 "},{"v":26,"d":"26 "},{"v":20,"d":"20 "},{"v":91,"d":"91 "},"-","-","-","-","-","-",{"v":91,"d":"91 "},"-","-","-","-","-","-","-","-",{"v":93,"d":"93 "},{"v":7651,"d":"7,651 "},{"v":60,"d":"60 "},{"v":124,"d":"124 "},{"v":7467,"d":"7,467 "},146,127,81,45,1,1,13,5,148,102,66,36,"-",18,13,15]
["山梨県","山梨市","後屋敷村","三ケ所",{"v":72,"d":"72 "},{"v":58,"d":"58 "},{"v":22,"d":"22 "},{"v":19,"d":"19 "},{"v":11,"d":"11 "},{"v":4,"d":"4 "},{"v":25,"d":"25 "},{"v":14,"d":"14 "},{"v":133,"d":"133 "},"-","-",{"v":4,"d":"4 "},{"v":4,"d":"4 "},{"v":5,"d":"5 "},{"v":3,"d":"3 "},{"v":6,"d":"6 "},{"v":16,"d":"16 "},{"v":11,"d":"11 "},{"v":20,"d":"20 "},{"v":18,"d":"18 "},{"v":18,"d":"18 "},{"v":9,"d":"9 "},{"v":14,"d":"14 "},{"v":5,"d":"5 "},62.4,62.1,62.7,{"v":96,"d":"96 "},"-","-","-","-",{"v":1,"d":"1 "},{"v":2,"d":"2 "},{"v":1,"d":"1 "},{"v":6,"d":"6 "},{"v":8,"d":"8 "},{"v":17,"d":"17 "},{"v":17,"d":"17 "},{"v":17,"d":"17 "},{"v":9,"d":"9 "},{"v":14,"d":"14 "},{"v":4,"d":"4 "},68.1,68.8,67.4,{"v":82,"d":"82 "},"-","-","-","-",{"v":1,"d":"1 "},{"v":2,"d":"2 "},"-",{"v":5,"d":"5 "},{"v":8,"d":"8 "},{"v":14,"d":"14 "},{"v":16,"d":"16 "},{"v":15,"d":"15 "},{"v":8,"d":"8 "},{"v":11,"d":"11 "},{"v":2,"d":"2 "},67.5,{"v":68,"d":"68.0"},{"v":67,"d":"67.0"},{"v":58,"d":"58 "},"-","-","-","-","-","-",{"v":1,"d":"1 "},{"v":5,"d":"5 "},{"v":4,"d":"4 "},{"v":10,"d":"10 "},{"v":11,"d":"11 "},{"v":12,"d":"12 "},{"v":6,"d":"6 "},{"v":8,"d":"8 "},{"v":1,"d":"1 "},{"v":26,"d":"26 "},"-","-","-","-",{"v":1,"d":"1 "},{"v":1,"d":"1 "},"-",{"v":4,"d":"4 "},{"v":3,"d":"3 "},{"v":7,"d":"7 "},{"v":5,"d":"5 "},{"v":4,"d":"4 "},{"v":1,"d":"1 "},{"$nulls":7},{"v":167,"d":"167 "},{"v":124,"d":"124 "},{"v":82,"d":"82 "},{"v":40,"d":"40 "},{"v":2,"d":"2 "},{"v":17,"d":"17 "},{"v":9,"d":"9 "},{"v":17,"d":"17 "},{"v":58,"d":"58 "},"-","-","-","-","-","-",{"v":58,"d":"58 "},"-","-","-","-","-","-","-","-",{"v":58,"d":"58 "},{"v":3037,"d":"3,037 "},"-",{"v":68,"d":"68 "},{"v":2969,"d":"2,969 "},79,68,43,23,2,1,5,5,88,56,39,17,"-",16,4,12]
["山梨県","山梨市","日川村","下栗原",{"v":56,"d":"56 "},{"v":49,"d":"49 "},{"v":16,"d":"16 "},{"v":15,"d":"15 "},{"v":17,"d":"17 "},{"v":12,"d":"12 "},{"v":16,"d":"16 "},{"v":7,"d":"7 "},{"v":133,"d":"133 "},"-",{"v":2,"d":"2 "},{"v":3,"d":"3 "},{"v":6,"d":"6 "},{"v":12,"d":"12 "},{"v":11,"d":"11 "},{"v":4,"d":"4 "},{"v":14,"d":"14 "},{"v":7,"d":"7 "},{"v":25,"d":"25 "},{"v":18,"d":"18 "},{"v":15,"d":"15 "},{"v":9,"d":"9 "},{"v":1,"d":"1 "},{"v":6,"d":"6 "},57.7,57.8,57.6,{"v":85,"d":"85 "},"-","-","-","-",{"v":3,"d":"3 "},{"v":3,"d":"3 "},{"v":2,"d":"2 "},{"v":5,"d":"5 "},{"v":6,"d":"6 "},{"v":19,"d":"19 "},{"v":16,"d":"16 "},{"v":15,"d":"15 "},{"v":9,"d":"9 "},{"v":1,"d":"1 "},{"v":6,"d":"6 "},65.6,66.2,{"v":65,"d":"65.0"},{"v":79,"d":"79 "},"-","-","-","-",{"v":3,"d":"3 "},{"v":2,"d":"2 "},{"v":2,"d":"2 "},{"v":5,"d":"5 "},{"v":5,"d":"5 "},{"v":18,"d":"18 "},{"v":15,"d":"15 "},{"v":15,"d":"15 "},{"v":9,"d":"9 "},{"v":1,"d":"1 "},{"v":4,"d":"4 "},65.5,65.3,65.6,{"v":49,"d":"49 "},"-","-","-","-","-","-",{"v":2,"d":"2 "},{"v":4,"d":"4 "},{"v":3,"d":"3 "},{"v":12,"d":"12 "},{"v":10,"d":"10 "},{"v":10,"d":"10 "},{"v":4,"d":"4 "},{"v":1,"d":"1 "},{"v":3,"d":"3 "},{"v":30,"d":"30 "},"-","-","-","-","-",{"v":2,"d":"2 "},{"v":1,"d":"1 "},{"v":6,"d":"6 "},{"v":8,"d":"8 "},{"v":7,"d":"7 "},{"v":2,"d":"2 "},{"v":1,"d":"1 "},{"v":3,"d":"3 "},{"$nulls":7},{"v":164,"d":"164 "},{"v":135,"d":"135 "},{"v":79,"d":"79 "},{"v":50,"d":"50 "},{"v":6,"d":"6 "},{"v":11,"d":"11 "},{"v":8,"d":"8 "},{"v":10,"d":"10 "},{"v":49,"d":"49 "},"-","-","-","-","-","-",{"v":49,"d":"49 "},"-","-","-","-","-","-","-","-",{"v":49,"d":"49 "},{"v":3174,"d":"3,174 "},"-",{"v":27,"d":"27 "},{"v":3147,"d":"3,147 "},80,75,42,28,5,1,1,3,84,60,37,22,1,10,7,7]
["山梨県","山梨市","諏訪町","窪平",{"v":31,"d":"31 "},{"v":20,"d":"20 "},{"v":4,"d":"4 "},{"v":3,"d":"3 "},{"v":6,"d":"6 "},{"v":3,"d":"3 "},{"v":10,"d":"10 "},{"v":11,"d":"11 "},{"v":51,"d":"51 "},{"v":1,"d":"1 "},{"v":2,"d":"2 "},{"v":1,"d":"1 "},{"v":1,"d":"1 "},{"v":2,"d":"2 "},"-",{"v":5,"d":"5 "},{"v":5,"d":"5 "},{"v":2,"d":"2 "},{"v":4,"d":"4 "},{"v":5,"d":"5 "},{"v":4,"d":"4 "},{"v":9,"d":"9 "},{"v":7,"d":"7 "},{"v":3,"d":"3 "},62.6,59.9,65.9,{"v":30,"d":"30 "},"-",{"v":1,"d":"1 "},"-","-","-","-",{"v":1,"d":"1 "},{"v":2,"d":"2 "},{"v":1,"d":"1 "},{"v":2,"d":"2 "},{"v":4,"d":"4 "},{"v":4,"d":"4 "},{"v":7,"d":"7 "},{"v":7,"d":"7 "},{"v":1,"d":"1 "},70.1,72.9,66.9,{"v":27,"d":"27 "},"-","-","-","-","-","-",{"v":1,"d":"1 "},{"v":2,"d":"2 "},{"v":1,"d":"1 "},{"v":2,"d":"2 "},{"v":3,"d":"3 "},{"v":3,"d":"3 "},{"v":7,"d":"7 "},{"v":7,"d":"7 "},{"v":1,"d":"1 "},{"v":72,"d":"72.0"},72.9,70.8,{"v":20,"d":"20 "},"-","-","-","-","-","-",{"v":1,"d":"1 "},{"v":2,"d":"2 "},{"v":1,"d":"1 "},{"v":2,"d":"2 "},{"v":2,"d":"2 "},{"v":3,"d":"3 "},{"v":4,"d":"4 "},{"v":4,"d":"4 "},{"v":1,"d":"1 "},{"v":13,"d":"13 "},"-","-","-","-","-","-","-",{"v":2,"d":"2 "},{"v":2,"d":"2 "},{"v":2,"d":"2 "},{"v":3,"d":"3 "},{"v":3,"d":"3 "},{"v":1,"d":"1 "},{"$nulls":7},{"v":57,"d":"57 "},{"v":45,"d":"45 "},{"v":27,"d":"27 "},{"v":18,"d":"18 "},"-",{"v":6,"d":"6 "},{"v":5,"d":"5 "},{"v":1,"d":"1 "},{"v":20,"d":"20 "},"-","-","-","-","-","-",{"v":20,"d":"20 "},"-","-","-","-","-","-","-","-",{"v":20,"d":"20 "},{"v":1013,"d":"1,013 "},{"v":10,"d":"10 "},{"v":46,"d":"46 "},{"v":957,"d":"957 "},28,26,16,10,"-","-",2,"-",29,19,11,8,"-",6,3,1]
["山梨県","山梨市","諏訪町","杣口",{"v":45,"d":"45 "},{"v":34,"d":"34 "},{"v":9,"d":"9 "},{"v":8,"d":"8 "},{"v":6,"d":"6 "},{"v":1,"d":"1 "},{"v":19,"d":"19 "},{"v":11,"d":"11 "},{"v":89,"d":"89 "},{"v":5,"d":"5 "},{"v":3,"d":"3 "},{"v":1,"d":"1 "},{"v":4,"d":"4 "},{"v":2,"d":"2 "},{"v":2,"d":"2 "},{"v":4,"d":"4 "},{"v":6,"d":"6 "},{"v":8,"d":"8 "},{"v":7,"d":"7 "},{"v":16,"d":"16 "},{"v":9,"d":"9 "},{"v":4,"d":"4 "},{"v":11,"d":"11 "},{"v":7,"d":"7 "},60.6,59.2,62.3,{"v":61,"d":"61 "},{"v":2,"d":"2 "},"-","-",{"v":1,"d":"1 "},"-",{"v":1,"d":"1 "},{"v":2,"d":"2 "},{"v":2,"d":"2 "},{"v":5,"d":"5 "},{"v":3,"d":"3 "},{"v":16,"d":"16 "},{"v":9,"d":"9 "},{"v":4,"d":"4 "},{"v":11,"d":"11 "},{"v":5,"d":"5 "},67.8,67.8,67.9,{"v":50,"d":"50 "},"-","-","-","-","-",{"v":1,"d":"1 "},{"v":2,"d":"2 "},{"v":2,"d":"2 "},{"v":4,"d":"4 "},{"v":2,"d":"2 "},{"v":14,"d":"14 "},{"v":9,"d":"9 "},{"v":4,"d":"4 "},{"v":9,"d":"9 "},{"v":3,"d":"3 "},69.7,70.9,68.3,{"v":34,"d":"34 "},"-","-","-","-",{"v":1,"d":"1 "},"-",{"v":1,"d":"1 "},{"v":3,"d":"3 "},{"v":2,"d":"2 "},{"v":3,"d":"3 "},{"v":6,"d":"6 "},{"v":8,"d":"8 "},{"v":3,"d":"3 "},{"v":5,"d":"5 "},{"v":2,"d":"2 "},{"v":16,"d":"16 "},"-","-","-","-","-",{"v":1,"d":"1 "},{"v":1,"d":"1 "},"-",{"v":2,"d":"2 "},{"v":4,"d":"4 "},{"v":2,"d":"2 "},{"v":5,"d":"5 "},{"v":1,"d":"1 "},{"$nulls":7},{"v":99,"d":"99 "},{"v":71,"d":"71 "},{"v":50,"d":"50 "},{"v":21,"d":"21 "},"-",{"v":11,"d":"11 "},{"v":10,"d":"10 "},{"v":7,"d":"7 "},{"v":32,"d":"32 "},"-","-","-","-","-","-",{"v":32,"d":"32 "},"-","-","-","-","-","-","-","-",{"v":34,"d":"34 "},{"v":1889,"d":"1,889 "},{"v":73,"d":"73 "},{"v":139,"d":"139 "},{"v":1677,"d":"1,677 "},51,43,27,16,"-","-",5,3,48,28,23,5,"-",11,5,4]
["山梨県","山梨市","中牧村","請地",{"v":9,"d":"9 "},{"v":4,"d":"4 "},{"v":2,"d":"2 "},{"v":1,"d":"1 "},"-","-",{"v":2,"d":"2 "},{"v":5,"d":"5 "},{"v":11,"d":"11 "},"-","-","-","-","-",{"v":2,"d":"2 "},{"v":1,"d":"1 "},"-","-",{"v":2,"d":"2 "},"-",{"v":4,"d":"4 "},{"v":1,"d":"1 "},{"v":1,"d":"1 "},"-",63.3,62.3,64.4,{"v":8,"d":"8 "},"-","-","-","-","-","-","-","-","-",{"v":2,"d":"2 "},"-",{"v":4,"d":"4 "},{"v":1,"d":"1 "},{"v":1,"d":"1 "},"-",70.8,71.8,69.8,{"v":8,"d":"8 "},"-","-","-","-","-","-","-","-","-",{"v":2,"d":"2 "},"-",{"v":4,"d":"4 "},{"v":1,"d":"1 "},{"v":1,"d":"1 "},"-",70.8,71.8,69.8,{"v":4,"d":"4 "},"-","-","-","-","-","-","-","-","-",{"v":1,"d":"1 "},"-",{"v":1,"d":"1 "},{"v":1,"d":"1 "},{"v":1,"d":"1 "},"-",{"v":3,"d":"3 "},"-","-","-","-","-","-","-","-","-",{"v":1,"d":"1 "},{"v":1,"d":"1 "},{"v":1,"d":"1 "},"-",{"$nulls":7},{"v":11,"d":"11 "},{"v":11,"d":"11 "},{"v":8,"d":"8 "},{"v":3,"d":"3 "},"-","-","-","-",{"v":4,"d":"4 "},"-","-","-","-","-","-",{"v":4,"d":"4 "},"-","-","-","-","-","-","-","-",{"v":4,"d":"4 "},{"v":212,"d":"212 "},{"v":20,"d":"20 "},{"v":25,"d":"25 "},{"v":167,"d":"167 "},6,6,4,2,"-","-","-","-",5,5,4,1,"-","-","-","-"]
["山梨県","山梨市","中牧村","中屋",{"v":23,"d":"23 "},{"v":21,"d":"21 "},{"v":6,"d":"6 "},{"v":5,"d":"5 "},{"v":3,"d":"3 "},{"v":2,"d":"2 "},{"v":12,"d":"12 "},{"v":2,"d":"2 "},{"v":59,"d":"59 "},"-",{"v":2,"d":"2 "},{"v":2,"d":"2 "},{"v":2,"d":"2 "},{"v":2,"d":"2 "},{"v":2,"d":"2 "},{"v":7,"d":"7 "},{"v":3,"d":"3 "},{"v":8,"d":"8 "},{"v":3,"d":"3 "},{"v":13,"d":"13 "},{"v":4,"d":"4 "},{"v":6,"d":"6 "},{"v":4,"d":"4 "},{"v":1,"d":"1 "},59.2,59.7,58.6,{"v":36,"d":"36 "},"-","-","-",{"v":1,"d":"1 "},{"v":1,"d":"1 "},{"v":1,"d":"1 "},{"v":2,"d":"2 "},{"v":1,"d":"1 "},{"v":4,"d":"4 "},{"v":2,"d":"2 "},{"v":11,"d":"11 "},{"v":4,"d":"4 "},{"v":5,"d":"5 "},{"v":4,"d":"4 "},"-",65.1,67.9,61.9,{"v":31,"d":"31 "},"-","-","-",{"v":1,"d":"1 "},{"v":1,"d":"1 "},{"v":1,"d":"1 "},{"v":2,"d":"2 "},{"v":1,"d":"1 "},{"v":3,"d":"3 "},{"v":2,"d":"2 "},{"v":9,"d":"9 "},{"v":3,"d":"3 "},{"v":4,"d":"4 "},{"v":4,"d":"4 "},"-",64.6,67.9,59.5,{"v":21,"d":"21 "},"-","-","-","-",{"v":1,"d":"1 "},"-","-","-",{"v":5,"d":"5 "},{"v":1,"d":"1 "},{"v":6,"d":"6 "},{"v":2,"d":"2 "},{"v":3,"d":"3 "},{"v":3,"d":"3 "},"-",{"v":13,"d":"13 "},"-","-",{"v":1,"d":"1 "},"-","-","-",{"v":3,"d":"3 "},"-",{"v":2,"d":"2 "},{"v":1,"d":"1 "},{"v":3,"d":"3 "},{"v":3,"d":"3 "},"-",{"$nulls":7},{"v":69,"d":"69 "},{"v":51,"d":"51 "},{"v":31,"d":"31 "},{"v":14,"d":"14 "},{"v":6,"d":"6 "},{"v":12,"d":"12 "},{"v":5,"d":"5 "},{"v":1,"d":"1 "},{"v":21,"d":"21 "},"-","-","-","-","-","-",{"v":21,"d":"21 "},"-","-","-","-","-","-","-","-",{"v":21,"d":"21 "},{"v":1414,"d":"1,414 "},"-",{"v":32,"d":"32 "},{"v":1382,"d":"1,382 "},33,31,19,7,5,"-",2,"-",36,20,12,7,1,12,3,1]
["山梨県","山梨市","中牧村","笠原",{"v":14,"d":"14 "},{"v":13,"d":"13 "},{"v":6,"d":"6 "},{"v":5,"d":"5 "},{"v":1,"d":"1 "},{"v":1,"d":"1 "},{"v":6,"d":"6 "},{"v":1,"d":"1 "},{"v":34,"d":"34 "},{"v":1,"d":"1 "},{"v":1,"d":"1 "},"-","-",{"v":2,"d":"2 "},{"v":2,"d":"2 "},{"v":2,"d":"2 "},{"v":4,"d":"4 "},{"v":2,"d":"2 "},{"v":4,"d":"4 "},{"v":6,"d":"6 "},{"v":4,"d":"4 "},{"v":3,"d":"3 "},{"v":2,"d":"2 "},{"v":1,"d":"1 "},60.3,57.4,63.4,{"v":26,"d":"26 "},{"v":1,"d":"1 "},"-","-","-",{"v":2,"d":"2 "},"-","-",{"v":3,"d":"3 "},{"v":1,"d":"1 "},{"v":4,"d":"4 "},{"v":5,"d":"5 "},{"v":4,"d":"4 "},{"v":3,"d":"3 "},{"v":2,"d":"2 "},{"v":1,"d":"1 "},{"v":64,"d":"64.0"},60.9,68.1,{"v":22,"d":"22 "},"-","-","-","-",{"v":2,"d":"2 "},"-","-",{"v":3,"d":"3 "},{"v":1,"d":"1 "},{"v":3,"d":"3 "},{"v":5,"d":"5 "},{"v":4,"d":"4 "},{"v":3,"d":"3 "},"-",{"v":1,"d":"1 "},64.4,64.1,64.9,{"v":13,"d":"13 "},"-","-","-","-",{"v":1,"d":"1 "},"-","-",{"v":2,"d":"2 "},{"v":1,"d":"1 "},{"v":2,"d":"2 "},{"v":1,"d":"1 "},{"v":4,"d":"4 "},{"v":2,"d":"2 "},"-","-",{"v":3,"d":"3 "},"-","-","-","-","-","-","-","-",{"v":1,"d":"1 "},"-",{"v":2,"d":"2 "},"-","-",{"$nulls":7},{"v":41,"d":"41 "},{"v":32,"d":"32 "},{"v":22,"d":"22 "},{"v":9,"d":"9 "},{"v":1,"d":"1 "},{"v":2,"d":"2 "},{"v":3,"d":"3 "},{"v":4,"d":"4 "},{"v":13,"d":"13 "},"-","-","-","-","-","-",{"v":13,"d":"13 "},"-","-","-","-","-","-","-","-",{"v":13,"d":"13 "},{"v":803,"d":"803 "},"-",{"v":10,"d":"10 "},{"v":793,"d":"793 "},22,18,14,3,1,"-",2,2,19,14,8,6,"-",2,1,2]
["山梨県","山梨市","中牧村","井戸川",{"v":6,"d":"6 "},{"v":4,"d":"4 "},{"v":1,"d":"1 "},{"v":1,"d":"1 "},{"v":2,"d":"2 "},"-",{"v":1,"d":"1 "},{"v":2,"d":"2 "},{"v":10,"d":"10 "},"-",{"v":1,"d":"1 "},{"v":1,"d":"1 "},"-","-","-","-",{"v":1,"d":"1 "},{"v":2,"d":"2 "},{"v":2,"d":"2 "},{"v":1,"d":"1 "},"-","-",{"v":1,"d":"1 "},{"v":1,"d":"1 "},57.5,53.5,63.5,{"v":8,"d":"8 "},"-","-",{"v":1,"d":"1 "},"-","-","-","-",{"v":1,"d":"1 "},{"v":2,"d":"2 "},{"v":1,"d":"1 "},{"v":1,"d":"1 "},"-","-",{"v":1,"d":"1 "},{"v":1,"d":"1 "},61.1,58.8,63.5,{"v":7,"d":"7 "},"-","-",{"v":1,"d":"1 "},"-","-","-","-",{"v":1,"d":"1 "},{"v":2,"d":"2 "},{"v":1,"d":"1 "},{"v":1,"d":"1 "},"-","-",{"v":1,"d":"1 "},"-",57.4,58.8,55.7,{"v":4,"d":"4 "},"-","-","-","-","-","-","-","-","-",{"v":2,"d":"2 "},{"v":1,"d":"1 "},"-","-",{"v":1,"d":"1 "},"-",{"v":2,"d":"2 "},"-","-","-","-","-","-","-",{"v":2,"d":"2 "},"-","-","-","-","-",{"$nulls":7},{"v":15,"d":"15 "},{"v":11,"d":"11 "},{"v":7,"d":"7 "},{"v":3,"d":"3 "},{"v":1,"d":"1 "},{"v":1,"d":"1 "},{"v":1,"d":"1 "},{"v":2,"d":"2 "},{"v":3,"d":"3 "},"-","-","-","-",{"v":2,"d":"2 "},"-",{"v":1,"d":"1 "},"-","-","-","-","-","-","-","-",{"v":4,"d":"4 "},{"v":278,"d":"278 "},{"v":3,"d":"3 "},{"v":99,"d":"99 "},{"v":176,"d":"176 "},8,8,4,3,1,"-","-","-",7,3,3,"-","-",1,1,2]
["山梨県","山梨市","西保村","大村上",{"v":10,"d":"10 "},{"v":7,"d":"7 "},"-","-",{"v":3,"d":"3 "},"-",{"v":4,"d":"4 "},{"v":3,"d":"3 "},{"v":18,"d":"18 "},"-",{"v":2,"d":"2 "},{"v":1,"d":"1 "},{"v":2,"d":"2 "},"-","-","-",{"v":1,"d":"1 "},{"v":2,"d":"2 "},{"v":2,"d":"2 "},{"v":4,"d":"4 "},{"v":3,"d":"3 "},{"v":1,"d":"1 "},"-","-",54.8,54.2,55.6,{"v":9,"d":"9 "},"-","-","-","-","-","-","-","-",{"v":1,"d":"1 "},{"v":1,"d":"1 "},{"v":3,"d":"3 "},{"v":3,"d":"3 "},{"v":1,"d":"1 "},"-","-",68.9,72.8,65.8,{"v":8,"d":"8 "},"-","-","-","-","-","-","-","-",{"v":1,"d":"1 "},{"v":1,"d":"1 "},{"v":3,"d":"3 "},{"v":2,"d":"2 "},{"v":1,"d":"1 "},"-","-",68.8,72.8,64.8,{"v":7,"d":"7 "},"-","-","-","-","-","-","-",{"v":1,"d":"1 "},{"v":1,"d":"1 "},"-",{"v":3,"d":"3 "},{"v":1,"d":"1 "},{"v":1,"d":"1 "},"-","-",{"v":2,"d":"2 "},"-","-","-","-","-","-","-","-",{"v":1,"d":"1 "},"-",{"v":1,"d":"1 "},"-","-",{"$nulls":7},{"v":19,"d":"19 "},{"v":15,"d":"15 "},{"v":8,"d":"8 "},{"v":6,"d":"6 "},{"v":1,"d":"1 "},{"v":2,"d":"2 "},{"v":1,"d":"1 "},{"v":1,"d":"1 "},{"v":7,"d":"7 "},"-","-","-","-","-","-",{"v":7,"d":"7 "},"-","-","-","-","-","-","-","-",{"v":7,"d":"7 "},{"v":362,"d":"362 "},"-",{"v":56,"d":"56 "},{"v":306,"d":"306 "},10,9,4,4,1,"-",1,"-",9,6,4,2,"-",2,"-",1]
["山梨県","山梨市","西保村","下道",{"v":7,"d":"7 "},{"v":7,"d":"7 "},{"v":2,"d":"2 "},{"v":2,"d":"2 "},{"v":1,"d":"1 "},"-",{"v":4,"d":"4 "},"-",{"v":14,"d":"14 "},"-","-","-",{"v":1,"d":"1 "},"-","-",{"v":1,"d":"1 "},"-",{"v":3,"d":"3 "},{"v":2,"d":"2 "},"-",{"v":1,"d":"1 "},{"v":4,"d":"4 "},{"v":1,"d":"1 "},{"v":1,"d":"1 "},65.8,{"v":67,"d":"67.0"},64.6,{"v":11,"d":"11 "},"-","-","-","-","-","-","-","-",{"v":2,"d":"2 "},{"v":2,"d":"2 "},"-",{"v":1,"d":"1 "},{"v":4,"d":"4 "},{"v":1,"d":"1 "},{"v":1,"d":"1 "},71.8,70.5,73.4,{"v":7,"d":"7 "},"-","-","-","-","-","-","-","-",{"v":1,"d":"1 "},{"v":2,"d":"2 "},"-",{"v":1,"d":"1 "},{"v":2,"d":"2 "},"-",{"v":1,"d":"1 "},70.7,70.5,{"v":72,"d":"72.0"},{"v":7,"d":"7 "},"-","-","-","-","-","-",{"v":1,"d":"1 "},"-",{"v":1,"d":"1 "},{"v":2,"d":"2 "},"-","-",{"v":2,"d":"2 "},"-",{"v":1,"d":"1 "},{"v":1,"d":"1 "},"-","-","-","-","-","-","-",{"v":1,"d":"1 "},"-","-","-","-","-",{"$nulls":7},{"v":16,"d":"16 "},{"v":10,"d":"10 "},{"v":7,"d":"7 "},{"v":3,"d":"3 "},"-",{"v":4,"d":"4 "},"-",{"v":2,"d":"2 "},{"v":6,"d":"6 "},"-","-","-","-","-",{"v":1,"d":"1 "},{"v":5,"d":"5 "},"-","-","-","-","-","-","-","-",{"v":7,"d":"7 "},{"v":344,"d":"344 "},{"v":20,"d":"20 "},{"v":105,"d":"105 "},{"v":219,"d":"219 "},7,7,6,1,"-","-","-","-",9,3,1,2,"-",4,"-",2]
["山梨県","山梨市","三富村",null,{"v":112,"d":"112 "},{"v":29,"d":"29 "},{"v":5,"d":"5 "},{"v":5,"d":"5 "},{"v":8,"d":"8 "},{"v":5,"d":"5 "},{"v":16,"d":"16 "},{"v":83,"d":"83 "},{"v":66,"d":"66 "},"-",{"v":1,"d":"1 "},{"v":1,"d":"1 "},{"v":2,"d":"2 "},{"v":1,"d":"1 "},{"v":3,"d":"3 "},{"v":3,"d":"3 "},{"v":7,"d":"7 "},{"v":8,"d":"8 "},{"v":9,"d":"9 "},{"v":5,"d":"5 "},{"v":9,"d":"9 "},{"v":5,"d":"5 "},{"v":5,"d":"5 "},{"v":7,"d":"7 "},63.4,63.5,63.2,{"v":37,"d":"37 "},"-","-","-","-",{"v":1,"d":"1 "},"-",{"v":3,"d":"3 "},"-",{"v":2,"d":"2 "},{"v":5,"d":"5 "},{"v":3,"d":"3 "},{"v":7,"d":"7 "},{"v":5,"d":"5 "},{"v":4,"d":"4 "},{"v":7,"d":"7 "},71.1,72.7,68.7,{"v":30,"d":"30 "},"-","-","-","-",{"v":1,"d":"1 "},"-",{"v":3,"d":"3 "},"-",{"v":1,"d":"1 "},{"v":5,"d":"5 "},{"v":2,"d":"2 "},{"v":6,"d":"6 "},{"v":5,"d":"5 "},{"v":1,"d":"1 "},{"v":6,"d":"6 "},70.2,{"v":72,"d":"72.0"},65.9,{"v":29,"d":"29 "},"-","-","-","-",{"v":1,"d":"1 "},{"v":1,"d":"1 "},{"v":1,"d":"1 "},{"v":3,"d":"3 "},{"v":1,"d":"1 "},{"v":7,"d":"7 "},{"v":2,"d":"2 "},{"v":5,"d":"5 "},{"v":3,"d":"3 "},{"v":1,"d":"1 "},{"v":4,"d":"4 "},{"v":15,"d":"15 "},"-","-","-","-","-",{"v":1,"d":"1 "},"-",{"v":4,"d":"4 "},{"v":2,"d":"2 "},{"v":3,"d":"3 "},{"v":2,"d":"2 "},{"v":1,"d":"1 "},{"v":2,"d":"2 "},{"$nulls":7},{"v":93,"d":"93 "},{"v":60,"d":"60 "},{"v":30,"d":"30 "},{"v":27,"d":"27 "},{"v":3,"d":"3 "},{"v":12,"d":"12 "},{"v":9,"d":"9 "},{"v":12,"d":"12 "},{"v":26,"d":"26 "},"-","-",{"v":2,"d":"2 "},"-",{"v":2,"d":"2 "},"-",{"v":22,"d":"22 "},"-","-","-","-","-","-","-","-",{"v":29,"d":"29 "},{"v":1560,"d":"1,560 "},"-",{"v":540,"d":"540 "},{"v":1020,"d":"1,020 "},48,40,21,18,1,"-",4,4,45,20,9,9,2,12,5,8]
["山梨県","山梨市","三富村","天科","-","-","-","-","-","-","-","-","-","-","-","-","-","-","-","-","-","-","-","-","-","-","-","-","…","…","…","-","-","-","-","-","-","-","-","-","-","-","-","-","-","-","-","…","…","…","-","-","-","-","-","-","-","-","-","-","-","-","-","-","-","-","…","…","…","-","-","-","-","-","-","-","-","-","-","-","-","-","-","-","-","-","-","-","-","-","-","-","-","-","-","-","-","-","-",{"$nulls":7},"-","-","-","-","-","-","-","-","-","-","-","-","-","-","-","-","-","-","-","-","-","-","-","-","-","-","-","-","-","-","-","-","-","-","-","-","-","-","-","-","-","-","-","-","-"]
["山梨県","山梨市","三富村","釜口",{"v":4,"d":"4 "},{"v":1,"d":"1 "},"x","x","x","x","x",{"v":3,"d":"3 "},"x","x","x","x","x","x","x","x","x","x","x","x","x","x","x","x",{"v":66,"d":"66.0"},{"v":66,"d":"66.0"},"…","x","x","x","x","x","x","x","x","x","x","x","x","x","x","x","x","…","…","…","x","x","x","x","x","x","x","x","x","x","x","x","x","x","x","x","…","…","…",{"v":1,"d":"1 "},"-","-","-","-","-","-","-","-","-","-",{"v":1,"d":"1 "},"-","-","-","-",{"v":1,"d":"1 "},"-","-","-","-","-","-","-","-",{"v":1,"d":"1 "},"-","-","-","-",{"$nulls":7},{"v":2,"d":"2 "},{"v":1,"d":"1 "},"-",{"v":1,"d":"1 "},"-",{"v":1,"d":"1 "},"-","-",{"v":1,"d":"1 "},"-","-",{"v":1,"d":"1 "},"-","-","-","-","-","-","-","-","-","-","-","-",{"v":1,"d":"1 "},{"v":30,"d":"30 "},"-",{"v":30,"d":"30 "},"-",1,1,"-",1,"-","-","-","-",1,"-","-","-","-",1,"-","-"]
["山梨県","山梨市","三富村","広瀬","-","-","-","-","-","-","-","-","-","-","-","-","-","-","-","-","-","-","-","-","-","-","-","-","…","…","…","-","-","-","-","-","-","-","-","-","-","-","-","-","-","-","-","…","…","…","-","-","-","-","-","-","-","-","-","-","-","-","-","-","-","-","…","…","…","-","-","-","-","-","-","-","-","-","-","-","-","-","-","-","-","-","-","-","-","-","-","-","-","-","-","-","-","-","-",{"$nulls":7},"-","-","-","-","-","-","-","-","-","-","-","-","-","-","-","-","-","-","-","-","-","-","-","-","-","-","-","-","-","-","-","-","-","-","-","-","-","-","-","-","-","-","-","-","-"]
["山梨県","大月市","笹子村","阿弥陀海",{"v":1,"d":"1 "},"-","-","-","-","-","-",{"v":1,"d":"1 "},"-","-","-","-","-","-","-","-","-","-","-","-","-","-","-","-","…","…","…","-","-","-","-","-","-","-","-","-","-","-","-","-","-","-","-","…","…","…","-","-","-","-","-","-","-","-","-","-","-","-","-","-","-","-","…","…","…","-","-","-","-","-","-","-","-","-","-","-","-","-","-","-","-","-","-","-","-","-","-","-","-","-","-","-","-","-","-",{"$nulls":7},"-","-","-","-","-","-","-","-","-","-","-","-","-","-","-","-","-","-","-","-","-","-","-","-","-","-","-","-","-","-","-","-","-","-","-","-","-","-","-","-","-","-","-","-","-"]
["山梨県","大月市","大月町","駒橋",{"v":7,"d":"7 "},{"v":1,"d":"1 "},"x","x","x","x","x",{"v":6,"d":"6 "},"x","x","x","x","x","x","x","x","x","x","x","x","x","x","x","x",69.5,{"v":73,"d":"73.0"},{"v":66,"d":"66.0"},"x","x","x","x","x","x","x","x","x","x","x","x","x","x","x","x",69.5,{"v":73,"d":"73.0"},{"v":66,"d":"66.0"},"x","x","x","x","x","x","x","x","x","x","x","x","x","x","x","x",{"v":73,"d":"73.0"},{"v":73,"d":"73.0"},"…",{"v":1,"d":"1 "},"-","-","-","-","-","-","-","-","-","-","-",{"v":1,"d":"1 "},"-","-","-","-","-","-","-","-","-","-","-","-","-","-","-","-","-",{"$nulls":7},{"v":2,"d":"2 "},{"v":1,"d":"1 "},{"v":1,"d":"1 "},"-","-",{"v":1,"d":"1 "},"-","-","-","-","-","-","-","-","-","-","-","-","-","-","-","-","-","-",{"v":1,"d":"1 "},{"v":92,"d":"92 "},{"v":32,"d":"32 "},{"v":60,"d":"60 "},"-",1,1,1,"-","-","-","-","-",1,"-","-","-","-",1,"-","-"]
["山梨県","大月市","大月町","上花咲",{"v":24,"d":"24 "},"-","-","-","-","-","-",{"v":24,"d":"24 "},"-","-","-","-","-","-","-","-","-","-","-","-","-","-","-","-","…","…","…","-","-","-","-","-","-","-","-","-","-","-","-","-","-","-","-","…","…","…","-","-","-","-","-","-","-","-","-","-","-","-","-","-","-","-","…","…","…","-","-","-","-","-","-","-","-","-","-","-","-","-","-","-","-","-","-","-","-","-","-","-","-","-","-","-","-","-","-",{"$nulls":7},"-","-","-","-","-","-","-","-","-","-","-","-","-","-","-","-","-","-","-","-","-","-","-","-","-","-","-","-","-","-","-","-","-","-","-","-","-","-","-","-","-","-","-","-","-"]
["山梨県","大月市","大月町","青木原",{"v":5,"d":"5 "},"-","-","-","-","-","-",{"v":5,"d":"5 "},"-","-","-","-","-","-","-","-","-","-","-","-","-","-","-","-","…","…","…","-","-","-","-","-","-","-","-","-","-","-","-","-","-","-","-","…","…","…","-","-","-","-","-","-","-","-","-","-","-","-","-","-","-","-","…","…","…","-","-","-","-","-","-","-","-","-","-","-","-","-","-","-","-","-","-","-","-","-","-","-","-","-","-","-","-","-","-",{"$nulls":7},"-","-","-","-","-","-","-","-","-","-","-","-","-","-","-","-","-","-","-","-","-","-","-","-","-","-","-","-","-","-","-","-","-","-","-","-","-","-","-","-","-","-","-","-","-"]
["山梨県","大月市","賑岡村","強瀬",{"v":26,"d":"26 "},{"v":4,"d":"4 "},"x","x","x","x","x",{"v":22,"d":"22 "},"x","x","x","x","x","x","x","x","x","x","x","x","x","x","x","x",55.5,{"v":57,"d":"57.0"},54.3,"x","x","x","x","x","x","x","x","x","x","x","x","x","x","x","x",75.7,69.5,{"v":88,"d":"88.0"},"x","x","x","x","x","x","x","x","x","x","x","x","x","x","x","x",75.7,69.5,{"v":88,"d":"88.0"},{"v":4,"d":"4 "},"-","-","-","-","-","-","-","-","-",{"v":1,"d":"1 "},{"v":1,"d":"1 "},{"v":1,"d":"1 "},{"v":1,"d":"1 "},"-","-",{"v":4,"d":"4 "},"-","-","-","-","-","-","-",{"v":1,"d":"1 "},{"v":1,"d":"1 "},{"v":1,"d":"1 "},{"v":1,"d":"1 "},"-","-",{"$nulls":7},{"v":18,"d":"18 "},{"v":14,"d":"14 "},{"v":3,"d":"3 "},{"v":9,"d":"9 "},{"v":2,"d":"2 "},{"v":2,"d":"2 "},"-",{"v":2,"d":"2 "},{"v":1,"d":"1 "},"-","-","-","-","-","-","-",{"v":1,"d":"1 "},"-","-","-","-","-","-","-",{"v":4,"d":"4 "},{"v":142,"d":"142 "},{"v":89,"d":"89 "},{"v":42,"d":"42 "},{"v":11,"d":"11 "},7,7,2,4,1,"-","-","-",11,7,1,5,1,2,"-",2]
["山梨県","大月市","七保村","下和田",{"v":26,"d":"26 "},{"v":2,"d":"2 "},"x","x","x","x","x",{"v":24,"d":"24 "},"x","x","x","x","x","x","x","x","x","x","x","x","x","x","x","x",68.3,72.5,{"v":60,"d":"60.0"},"x","x","x","x","x","x","x","x","x","x","x","x","x","x","x","x",68.3,72.5,{"v":60,"d":"60.0"},"x","x","x","x","x","x","x","x","x","x","x","x","x","x","x","x",72.5,72.5,"…",{"v":2,"d":"2 "},"-","-","-","-","-","-","-","-","-",{"v":1,"d":"1 "},"-","-","-",{"v":1,"d":"1 "},"-",{"v":1,"d":"1 "},"-","-","-","-","-","-","-","-","-","-","-",{"v":1,"d":"1 "},"-",{"$nulls":7},{"v":8,"d":"8 "},{"v":4,"d":"4 "},{"v":2,"d":"2 "},{"v":2,"d":"2 "},"-",{"v":1,"d":"1 "},{"v":2,"d":"2 "},{"v":1,"d":"1 "},{"v":1,"d":"1 "},"-","-",{"v":1,"d":"1 "},"-","-","-","-","-","-","-","-","-","-","-","-",{"v":2,"d":"2 "},{"v":97,"d":"97 "},{"v":25,"d":"25 "},{"v":72,"d":"72 "},"-",3,3,2,1,"-","-","-","-",5,1,"-",1,"-",1,2,1]
["山梨県","大月市","七保村","下瀬戸",{"v":5,"d":"5 "},"-","-","-","-","-","-",{"v":5,"d":"5 "},"-","-","-","-","-","-","-","-","-","-","-","-","-","-","-","-","…","…","…","-","-","-","-","-","-","-","-","-","-","-","-","-","-","-","-","…","…","…","-","-","-","-","-","-","-","-","-","-","-","-","-","-","-","-","…","…","…","-","-","-","-","-","-","-","-","-","-","-","-","-","-","-","-","-","-","-","-","-","-","-","-","-","-","-","-","-","-",{"$nulls":7},"-","-","-","-","-","-","-","-","-","-","-","-","-","-","-","-","-","-","-","-","-","-","-","-","-","-","-","-","-","-","-","-","-","-","-","-","-","-","-","-","-","-","-","-","-"]
["山梨県","大月市","七保村","駒宮",{"v":6,"d":"6 "},"-","-","-","-","-","-",{"v":6,"d":"6 "},"-","-","-","-","-","-","-","-","-","-","-","-","-","-","-","-","…","…","…","-","-","-","-","-","-","-","-","-","-","-","-","-","-","-","-","…","…","…","-","-","-","-","-","-","-","-","-","-","-","-","-","-","-","-","…","…","…","-","-","-","-","-","-","-","-","-","-","-","-","-","-","-","-","-","-","-","-","-","-","-","-","-","-","-","-","-","-",{"$nulls":7},"-","-","-","-","-","-","-","-","-","-","-","-","-","-","-","-","-","-","-","-","-","-","-","-","-","-","-","-","-","-","-","-","-","-","-","-","-","-","-","-","-","-","-","-","-"]
["山梨県","大月市","七保村","浅川大入",{"v":6,"d":"6 "},"-","-","-","-","-","-",{"v":6,"d":"6 "},"-","-","-","-","-","-","-","-","-","-","-","-","-","-","-","-","…","…","…","-","-","-","-","-","-","-","-","-","-","-","-","-","-","-","-","…","…","…","-","-","-","-","-","-","-","-","-","-","-","-","-","-","-","-","…","…","…","-","-","-","-","-","-","-","-","-","-","-","-","-","-","-","-","-","-","-","-","-","-","-","-","-","-","-","-","-","-",{"$nulls":7},"-","-","-","-","-","-","-","-","-","-","-","-","-","-","-","-","-","-","-","-","-","-","-","-","-","-","-","-","-","-","-","-","-","-","-","-","-","-","-","-","-","-","-","-","-"]
["山梨県","大月市","猿橋町","朝日小沢",{"v":18,"d":"18 "},"-","-","-","-","-","-",{"v":18,"d":"18 "},"-","-","-","-","-","-","-","-","-","-","-","-","-","-","-","-","…","…","…","-","-","-","-","-","-","-","-","-","-","-","-","-","-","-","-","…","…","…","-","-","-","-","-","-","-","-","-","-","-","-","-","-","-","-","…","…","…","-","-","-","-","-","-","-","-","-","-","-","-","-","-","-","-","-","-","-","-","-","-","-","-","-","-","-","-","-","-",{"$nulls":7},"-","-","-","-","-","-","-","-","-","-","-","-","-","-","-","-","-","-","-","-","-","-","-","-","-","-","-","-","-","-","-","-","-","-","-","-","-","-","-","-","-","-","-","-","-"]
["山梨県","大月市","富浜村",null,{"v":119,"d":"119 "},{"v":11,"d":"11 "},"-","-",{"v":1,"d":"1 "},"-",{"v":10,"d":"10 "},{"v":108,"d":"108 "},{"v":27,"d":"27 "},{"v":1,"d":"1 "},"-",{"v":1,"d":"1 "},{"v":1,"d":"1 "},"-","-",{"v":2,"d":"2 "},{"v":1,"d":"1 "},{"v":5,"d":"5 "},{"v":4,"d":"4 "},{"v":1,"d":"1 "},{"v":5,"d":"5 "},{"v":3,"d":"3 "},{"v":1,"d":"1 "},{"v":2,"d":"2 "},61.7,60.8,63.2,{"v":17,"d":"17 "},"-","-","-","-","-","-","-","-",{"v":2,"d":"2 "},{"v":3,"d":"3 "},{"v":1,"d":"1 "},{"v":5,"d":"5 "},{"v":3,"d":"3 "},{"v":1,"d":"1 "},{"v":2,"d":"2 "},71.7,70.7,73.1,{"v":11,"d":"11 "},"-","-","-","-","-","-","-","-","-",{"v":3,"d":"3 "},"-",{"v":3,"d":"3 "},{"v":2,"d":"2 "},{"v":1,"d":"1 "},{"v":2,"d":"2 "},74.1,{"v":72,"d":"72.0"},83.5,{"v":11,"d":"11 "},"-","-","-","-","-","-","-","-",{"v":1,"d":"1 "},{"v":4,"d":"4 "},"-",{"v":3,"d":"3 "},{"v":1,"d":"1 "},{"v":1,"d":"1 "},{"v":1,"d":"1 "},{"v":10,"d":"10 "},"-","-","-","-","-","-",{"v":1,"d":"1 "},{"v":3,"d":"3 "},"-",{"v":3,"d":"3 "},{"v":1,"d":"1 "},{"v":1,"d":"1 "},{"v":1,"d":"1 "},{"$nulls":7},{"v":40,"d":"40 "},{"v":25,"d":"25 "},{"v":11,"d":"11 "},{"v":14,"d":"14 "},"-",{"v":9,"d":"9 "},{"v":4,"d":"4 "},{"v":2,"d":"2 "},{"v":2,"d":"2 "},"-","-","-","-",{"v":2,"d":"2 "},"-","-","-","-","-","-","-","-","-","-",{"v":11,"d":"11 "},{"v":527,"d":"527 "},{"v":111,"d":"111 "},{"v":381,"d":"381 "},{"v":35,"d":"35 "},21,17,9,8,"-","-",3,1,19,8,2,6,"-",9,1,1]
["山梨県","大月市","富浜村","堀の内",{"v":9,"d":"9 "},{"v":1,"d":"1 "},"x","x","x","x","x",{"v":8,"d":"8 "},"x","x","x","x","x","x","x","x","x","x","x","x","x","x","x","x",{"v":61,"d":"61.0"},{"v":61,"d":"61.0"},"…","x","x","x","x","x","x","x","x","x","x","x","x","x","x","x","x",{"v":61,"d":"61.0"},{"v":61,"d":"61.0"},"…","x","x","x","x","x","x","x","x","x","x","x","x","x","x","x","x",{"v":61,"d":"61.0"},{"v":61,"d":"61.0"},"…",{"v":1,"d":"1 "},"-","-","-","-","-","-","-","-","-",{"v":1,"d":"1 "},"-","-","-","-","-",{"v":1,"d":"1 "},"-","-","-","-","-","-","-",{"v":1,"d":"1 "},"-","-","-","-","-",{"$nulls":7},{"v":1,"d":"1 "},{"v":1,"d":"1 "},{"v":1,"d":"1 "},"-","-","-","-","-","-","-","-","-","-","-","-","-","-","-","-","-","-","-","-","-",{"v":1,"d":"1 "},{"v":38,"d":"38 "},"-",{"v":38,"d":"38 "},"-",1,1,1,"-","-","-","-","-","-","-","-","-","-","-","-","-"]
["山梨県","大月市","富浜村","宮谷（第一）",{"v":1,"d":"1 "},"-","-","-","-","-","-",{"v":1,"d":"1 "},"-","-","-","-","-","-","-","-","-","-","-","-","-","-","-","-","…","…","…","-","-","-","-","-","-","-","-","-","-","-","-","-","-","-","-","…","…","…","-","-","-","-","-","-","-","-","-","-","-","-","-","-","-","-","…","…","…","-","-","-","-","-","-","-","-","-","-","-","-","-","-","-","-","-","-","-","-","-","-","-","-","-","-","-","-","-","-",{"$nulls":7},"-","-","-","-","-","-","-","-","-","-","-","-","-","-","-","-","-","-","-","-","-","-","-","-","-","-","-","-","-","-","-","-","-","-","-","-","-","-","-","-","-","-","-","-","-"]
["山梨県","大月市","梁川村","西塩瀬",{"v":12,"d":"12 "},"-","-","-","-","-","-",{"v":12,"d":"12 "},"-","-","-","-","-","-","-","-","-","-","-","-","-","-","-","-","…","…","…","-","-","-","-","-","-","-","-","-","-","-","-","-","-","-","-","…","…","…","-","-","-","-","-","-","-","-","-","-","-","-","-","-","-","-","…","…","…","-","-","-","-","-","-","-","-","-","-","-","-","-","-","-","-","-","-","-","-","-","-","-","-","-","-","-","-","-","-",{"$nulls":7},"-","-","-","-","-","-","-","-","-","-","-","-","-","-","-","-","-","-","-","-","-","-","-","-","-","-","-","-","-","-","-","-","-","-","-","-","-","-","-","-","-","-","-","-","-"]
["山梨県","大月市","梁川村","立野",{"v":12,"d":"12 "},{"v":2,"d":"2 "},"x","x","x","x","x",{"v":10,"d":"10 "},"x","x","x","x","x","x","x","x","x","x","x","x","x","x","x","x",56.1,{"v":58,"d":"58.0"},54.3,"x","x","x","x","x","x","x","x","x","x","x","x","x","x","x","x",{"v":75,"d":"75.0"},{"v":75,"d":"75.0"},"…","x","x","x","x","x","x","x","x","x","x","x","x","x","x","x","x",{"v":75,"d":"75.0"},{"v":75,"d":"75.0"},"…",{"v":2,"d":"2 "},"-","-","-","-","-","-","-","-","-","-","-","-",{"v":2,"d":"2 "},"-","-",{"v":2,"d":"2 "},"-","-","-","-","-","-","-","-","-","-",{"v":2,"d":"2 "},"-","-",{"$nulls":7},{"v":8,"d":"8 "},{"v":4,"d":"4 "},{"v":2,"d":"2 "},{"v":1,"d":"1 "},{"v":1,"d":"1 "},{"v":4,"d":"4 "},"-","-",{"v":1,"d":"1 "},"-","-","-","-",{"v":1,"d":"1 "},"-","-","-","-","-","-","-","-","-","-",{"v":2,"d":"2 "},{"v":92,"d":"92 "},"-",{"v":73,"d":"73 "},{"v":19,"d":"19 "},4,4,2,1,1,"-","-","-",4,"-","-","-","-",4,"-","-"]
["山梨県","韮崎市","韮崎町","本町３，４，５，９区",{"v":3,"d":"3 "},"-","-","-","-","-","-",{"v":3,"d":"3 "},"-","-","-","-","-","-","-","-","-","-","-","-","-","-","-","-","…","…","…","-","-","-","-","-","-","-","-","-","-","-","-","-","-","-","-","…","…","…","-","-","-","-","-","-","-","-","-","-","-","-","-","-","-","-","…","…","…","-","-","-","-","-","-","-","-","-","-","-","-","-","-","-","-","-","-","-","-","-","-","-","-","-","-","-","-","-","-",{"$nulls":7},"-","-","-","-","-","-","-","-","-","-","-","-","-","-","-","-","-","-","-","-","-","-","-","-","-","-","-","-","-","-","-","-","-","-","-","-","-","-","-","-","-","-","-","-","-"]
["山梨県","韮崎市","韮崎町","本町７区",{"v":15,"d":"15 "},{"v":1,"d":"1 "},"x","x","x","x","x",{"v":14,"d":"14 "},"x","x","x","x","x","x","x","x","x","x","x","x","x","x","x","x",48.5,43.7,{"v":63,"d":"63.0"},"x","x","x","x","x","x","x","x","x","x","x","x","x","x","x","x",{"v":65,"d":"65.0"},{"v":67,"d":"67.0"},{"v":63,"d":"63.0"},"x","x","x","x","x","x","x","x","x","x","x","x","x","x","x","x",{"v":67,"d":"67.0"},{"v":67,"d":"67.0"},"…",{"v":1,"d":"1 "},"-","-","-","-","-","-","-","-","-","-",{"v":1,"d":"1 "},"-","-","-","-",{"v":1,"d":"1 "},"-","-","-","-","-","-","-","-",{"v":1,"d":"1 "},"-","-","-","-",{"$nulls":7},{"v":4,"d":"4 "},{"v":3,"d":"3 "},{"v":1,"d":"1 "},{"v":2,"d":"2 "},"-",{"v":1,"d":"1 "},"-","-",{"v":1,"d":"1 "},{"v":1,"d":"1 "},"-","-","-","-","-","-","-","-","-","-","-","-","-","-",{"v":1,"d":"1 "},{"v":82,"d":"82 "},{"v":45,"d":"45 "},"-",{"v":37,"d":"37 "},3,3,1,2,"-","-","-","-",1,"-","-","-","-",1,"-","-"]
["山梨県","韮崎市","穂坂村","権現沢",{"v":8,"d":"8 "},{"v":4,"d":"4 "},"-","-",{"v":1,"d":"1 "},"-",{"v":3,"d":"3 "},{"v":4,"d":"4 "},{"v":9,"d":"9 "},{"v":1,"d":"1 "},{"v":1,"d":"1 "},"-","-","-","-",{"v":1,"d":"1 "},{"v":2,"d":"2 "},"-","-","-",{"v":1,"d":"1 "},{"v":2,"d":"2 "},{"v":1,"d":"1 "},"-",55.1,57.3,53.4,{"v":4,"d":"4 "},"-","-","-","-","-","-","-","-","-","-","-",{"v":1,"d":"1 "},{"v":2,"d":"2 "},{"v":1,"d":"1 "},"-",77.3,79.5,{"v":75,"d":"75.0"},{"v":4,"d":"4 "},"-","-","-","-","-","-","-","-","-","-","-",{"v":1,"d":"1 "},{"v":2,"d":"2 "},{"v":1,"d":"1 "},"-",77.3,79.5,{"v":75,"d":"75.0"},{"v":4,"d":"4 "},"-","-","-","-","-","-","-",{"v":1,"d":"1 "},"-","-","-","-",{"v":2,"d":"2 "},{"v":1,"d":"1 "},"-",{"v":3,"d":"3 "},"-","-","-","-","-",{"v":1,"d":"1 "},"-","-","-","-",{"v":2,"d":"2 "},"-","-",{"$nulls":7},{"v":11,"d":"11 "},{"v":7,"d":"7 "},{"v":4,"d":"4 "},{"v":3,"d":"3 "},"-",{"v":1,"d":"1 "},{"v":2,"d":"2 "},{"v":1,"d":"1 "},{"v":4,"d":"4 "},{"v":4,"d":"4 "},"-","-","-","-","-","-","-","-","-","-","-","-","-","-",{"v":4,"d":"4 "},{"v":304,"d":"304 "},{"v":140,"d":"140 "},{"v":124,"d":"124 "},{"v":40,"d":"40 "},5,3,2,1,"-","-",1,1,6,4,2,2,"-",1,1,"-"]
["山梨県","韮崎市","藤井村","鳥居",{"v":20,"d":"20 "},{"v":10,"d":"10 "},"-","-",{"v":1,"d":"1 "},"-",{"v":9,"d":"9 "},{"v":10,"d":"10 "},{"v":24,"d":"24 "},{"v":2,"d":"2 "},"-","-",{"v":1,"d":"1 "},{"v":1,"d":"1 "},{"v":2,"d":"2 "},{"v":1,"d":"1 "},"-",{"v":3,"d":"3 "},{"v":2,"d":"2 "},{"v":6,"d":"6 "},{"v":1,"d":"1 "},{"v":4,"d":"4 "},{"v":1,"d":"1 "},"-",57.9,60.4,54.9,{"v":13,"d":"13 "},"-","-","-","-","-",{"v":1,"d":"1 "},"-","-","-",{"v":1,"d":"1 "},{"v":5,"d":"5 "},{"v":1,"d":"1 "},{"v":4,"d":"4 "},{"v":1,"d":"1 "},"-",69.4,72.3,66.9,{"v":9,"d":"9 "},"-","-","-","-","-","-","-","-","-","-",{"v":4,"d":"4 "},{"v":1,"d":"1 "},{"v":3,"d":"3 "},{"v":1,"d":"1 "},"-",72.8,72.3,73.7,{"v":10,"d":"10 "},"-","-","-","-","-","-","-","-",{"v":1,"d":"1 "},{"v":1,"d":"1 "},{"v":4,"d":"4 "},"-",{"v":3,"d":"3 "},{"v":1,"d":"1 "},"-",{"v":9,"d":"9 "},"-","-","-","-","-","-",{"v":1,"d":"1 "},{"v":1,"d":"1 "},{"v":4,"d":"4 "},"-",{"v":2,"d":"2 "},{"v":1,"d":"1 "},"-",{"$nulls":7},{"v":39,"d":"39 "},{"v":26,"d":"26 "},{"v":9,"d":"9 "},{"v":13,"d":"13 "},{"v":4,"d":"4 "},{"v":5,"d":"5 "},{"v":4,"d":"4 "},{"v":4,"d":"4 "},{"v":10,"d":"10 "},{"v":8,"d":"8 "},"-","-","-",{"v":1,"d":"1 "},{"v":1,"d":"1 "},"-","-","-","-","-","-","-","-","-",{"v":10,"d":"10 "},{"v":556,"d":"556 "},{"v":464,"d":"464 "},{"v":82,"d":"82 "},{"v":10,"d":"10 "},18,15,6,9,"-","-",2,1,21,11,3,4,4,5,2,3]
["山梨県","韮崎市","藤井村","坂井",{"v":33,"d":"33 "},{"v":17,"d":"17 "},"-","-",{"v":7,"d":"7 "},{"v":5,"d":"5 "},{"v":10,"d":"10 "},{"v":16,"d":"16 "},{"v":37,"d":"37 "},"-","-","-",{"v":2,"d":"2 "},{"v":3,"d":"3 "},{"v":2,"d":"2 "},"-",{"v":2,"d":"2 "},{"v":4,"d":"4 "},{"v":9,"d":"9 "},{"v":5,"d":"5 "},{"v":6,"d":"6 "},{"v":1,"d":"1 "},{"v":1,"d":"1 "},{"v":2,"d":"2 "},{"v":61,"d":"61.0"},57.1,66.6,{"v":22,"d":"22 "},"-","-","-","-","-","-","-",{"v":1,"d":"1 "},"-",{"v":7,"d":"7 "},{"v":4,"d":"4 "},{"v":6,"d":"6 "},{"v":1,"d":"1 "},{"v":1,"d":"1 "},{"v":2,"d":"2 "},69.5,70.9,68.3,{"v":15,"d":"15 "},"-","-","-","-","-","-","-","-","-",{"v":6,"d":"6 "},{"v":3,"d":"3 "},{"v":5,"d":"5 "},{"v":1,"d":"1 "},"-","-",67.4,68.9,65.2,{"v":17,"d":"17 "},"-","-","-","-",{"v":2,"d":"2 "},{"v":1,"d":"1 "},"-",{"v":1,"d":"1 "},{"v":1,"d":"1 "},{"v":5,"d":"5 "},{"v":2,"d":"2 "},{"v":3,"d":"3 "},{"v":1,"d":"1 "},"-",{"v":1,"d":"1 "},{"v":9,"d":"9 "},"-","-","-","-","-",{"v":1,"d":"1 "},{"v":1,"d":"1 "},{"v":3,"d":"3 "},{"v":1,"d":"1 "},{"v":2,"d":"2 "},"-","-",{"v":1,"d":"1 "},{"$nulls":7},{"v":53,"d":"53 "},{"v":33,"d":"33 "},{"v":15,"d":"15 "},{"v":16,"d":"16 "},{"v":2,"d":"2 "},{"v":11,"d":"11 "},{"v":3,"d":"3 "},{"v":6,"d":"6 "},{"v":14,"d":"14 "},{"v":10,"d":"10 "},"-","-","-",{"v":2,"d":"2 "},"-",{"v":2,"d":"2 "},"-","-","-","-","-","-","-","-",{"v":17,"d":"17 "},{"v":992,"d":"992 "},{"v":564,"d":"564 "},{"v":298,"d":"298 "},{"v":130,"d":"130 "},27,22,9,11,2,"-",2,3,26,11,6,5,"-",11,1,3]
["山梨県","韮崎市","中田村","中条３区",{"v":28,"d":"28 "},{"v":12,"d":"12 "},{"v":4,"d":"4 "},{"v":2,"d":"2 "},{"v":4,"d":"4 "},{"v":1,"d":"1 "},{"v":4,"d":"4 "},{"v":16,"d":"16 "},{"v":32,"d":"32 "},"-",{"v":2,"d":"2 "},{"v":4,"d":"4 "},{"v":1,"d":"1 "},{"v":2,"d":"2 "},"-",{"v":1,"d":"1 "},{"v":2,"d":"2 "},{"v":3,"d":"3 "},{"v":6,"d":"6 "},{"v":5,"d":"5 "},{"v":1,"d":"1 "},{"v":2,"d":"2 "},{"v":1,"d":"1 "},{"v":2,"d":"2 "},55.2,50.6,61.8,{"v":20,"d":"20 "},"-","-",{"v":1,"d":"1 "},{"v":1,"d":"1 "},"-","-","-","-",{"v":1,"d":"1 "},{"v":6,"d":"6 "},{"v":5,"d":"5 "},{"v":1,"d":"1 "},{"v":2,"d":"2 "},{"v":1,"d":"1 "},{"v":2,"d":"2 "},{"v":65,"d":"65.0"},60.8,70.1,{"v":16,"d":"16 "},"-","-",{"v":1,"d":"1 "},{"v":1,"d":"1 "},"-","-","-","-",{"v":1,"d":"1 "},{"v":5,"d":"5 "},{"v":4,"d":"4 "},{"v":1,"d":"1 "},{"v":2,"d":"2 "},{"v":1,"d":"1 "},"-",62.6,60.8,66.4,{"v":12,"d":"12 "},"-","-","-","-","-","-","-",{"v":1,"d":"1 "},{"v":1,"d":"1 "},{"v":3,"d":"3 "},{"v":4,"d":"4 "},"-",{"v":1,"d":"1 "},{"v":1,"d":"1 "},{"v":1,"d":"1 "},{"v":5,"d":"5 "},"-","-","-","-","-","-",{"v":1,"d":"1 "},{"v":2,"d":"2 "},{"v":1,"d":"1 "},"-",{"v":1,"d":"1 "},"-","-",{"$nulls":7},{"v":38,"d":"38 "},{"v":27,"d":"27 "},{"v":16,"d":"16 "},{"v":11,"d":"11 "},"-",{"v":5,"d":"5 "},{"v":2,"d":"2 "},{"v":4,"d":"4 "},{"v":12,"d":"12 "},{"v":7,"d":"7 "},"-","-","-","-","-",{"v":5,"d":"5 "},"-","-","-","-","-","-","-","-",{"v":12,"d":"12 "},{"v":944,"d":"944 "},{"v":534,"d":"534 "},{"v":68,"d":"68 "},{"v":342,"d":"342 "},21,18,11,7,"-",1,1,1,17,9,5,4,"-",4,1,3]
["山梨県","韮崎市","穴山村","次第窪",{"v":30,"d":"30 "},{"v":13,"d":"13 "},{"v":1,"d":"1 "},{"v":1,"d":"1 "},{"v":1,"d":"1 "},"-",{"v":11,"d":"11 "},{"v":17,"d":"17 "},{"v":24,"d":"24 "},"-","-","-","-",{"v":1,"d":"1 "},"-","-",{"v":4,"d":"4 "},{"v":1,"d":"1 "},{"v":4,"d":"4 "},{"v":1,"d":"1 "},{"v":4,"d":"4 "},{"v":7,"d":"7 "},{"v":2,"d":"2 "},"-",{"v":67,"d":"67.0"},67.6,66.1,{"v":16,"d":"16 "},"-","-","-","-","-","-","-",{"v":1,"d":"1 "},{"v":1,"d":"1 "},{"v":2,"d":"2 "},{"v":1,"d":"1 "},{"v":2,"d":"2 "},{"v":7,"d":"7 "},{"v":2,"d":"2 "},"-",71.9,75.3,68.5,{"v":10,"d":"10 "},"-","-","-","-","-","-","-",{"v":1,"d":"1 "},"-",{"v":2,"d":"2 "},"-","-",{"v":5,"d":"5 "},{"v":2,"d":"2 "},"-",72.8,75.3,{"v":63,"d":"63.0"},{"v":13,"d":"13 "},"-","-","-","-","-","-","-",{"v":2,"d":"2 "},"-",{"v":3,"d":"3 "},"-",{"v":2,"d":"2 "},{"v":4,"d":"4 "},{"v":2,"d":"2 "},"-",{"v":5,"d":"5 "},"-","-","-","-","-","-","-",{"v":1,"d":"1 "},"-",{"v":1,"d":"1 "},{"v":3,"d":"3 "},"-","-",{"$nulls":7},{"v":35,"d":"35 "},{"v":25,"d":"25 "},{"v":10,"d":"10 "},{"v":14,"d":"14 "},{"v":1,"d":"1 "},{"v":7,"d":"7 "},{"v":1,"d":"1 "},{"v":2,"d":"2 "},{"v":10,"d":"10 "},{"v":10,"d":"10 "},"-","-","-","-","-","-","-","-","-","-","-","-","-","-",{"v":13,"d":"13 "},{"v":863,"d":"863 "},{"v":707,"d":"707 "},{"v":146,"d":"146 "},{"v":10,"d":"10 "},17,17,8,8,1,"-","-","-",18,8,2,6,"-",7,1,2]
["山梨県","韮崎市","穴山村","重久",{"v":19,"d":"19 "},{"v":12,"d":"12 "},{"v":1,"d":"1 "},{"v":1,"d":"1 "},{"v":1,"d":"1 "},"-",{"v":10,"d":"10 "},{"v":7,"d":"7 "},{"v":29,"d":"29 "},"-","-",{"v":1,"d":"1 "},"-",{"v":2,"d":"2 "},{"v":1,"d":"1 "},{"v":2,"d":"2 "},{"v":2,"d":"2 "},{"v":3,"d":"3 "},{"v":2,"d":"2 "},{"v":3,"d":"3 "},{"v":5,"d":"5 "},{"v":5,"d":"5 "},{"v":2,"d":"2 "},{"v":1,"d":"1 "},63.5,61.7,{"v":66,"d":"66.0"},{"v":19,"d":"19 "},"-","-","-","-","-",{"v":1,"d":"1 "},"-","-",{"v":1,"d":"1 "},{"v":1,"d":"1 "},{"v":3,"d":"3 "},{"v":5,"d":"5 "},{"v":5,"d":"5 "},{"v":2,"d":"2 "},{"v":1,"d":"1 "},71.7,75.4,68.3,{"v":11,"d":"11 "},"-","-","-","-","-","-","-","-","-",{"v":1,"d":"1 "},{"v":2,"d":"2 "},{"v":4,"d":"4 "},{"v":3,"d":"3 "},{"v":1,"d":"1 "},"-",{"v":73,"d":"73.0"},74.1,{"v":70,"d":"70.0"},{"v":12,"d":"12 "},"-","-","-","-","-","-","-","-",{"v":1,"d":"1 "},{"v":1,"d":"1 "},{"v":2,"d":"2 "},{"v":2,"d":"2 "},{"v":4,"d":"4 "},{"v":1,"d":"1 "},{"v":1,"d":"1 "},{"v":9,"d":"9 "},"-","-","-","-","-","-","-",{"v":1,"d":"1 "},{"v":1,"d":"1 "},{"v":2,"d":"2 "},{"v":4,"d":"4 "},"-",{"v":1,"d":"1 "},{"$nulls":7},{"v":36,"d":"36 "},{"v":23,"d":"23 "},{"v":11,"d":"11 "},{"v":12,"d":"12 "},"-",{"v":7,"d":"7 "},{"v":1,"d":"1 "},{"v":5,"d":"5 "},{"v":12,"d":"12 "},{"v":8,"d":"8 "},"-","-","-","-","-",{"v":4,"d":"4 "},"-","-","-","-","-","-","-","-",{"v":12,"d":"12 "},{"v":1022,"d":"1,022 "},{"v":539,"d":"539 "},{"v":216,"d":"216 "},{"v":267,"d":"267 "},19,17,8,9,"-","-",1,1,17,6,3,3,"-",7,"-",4]
["山梨県","韮崎市","清哲村","青木",{"v":49,"d":"49 "},{"v":32,"d":"32 "},{"v":1,"d":"1 "},{"v":1,"d":"1 "},{"v":4,"d":"4 "},"-",{"v":27,"d":"27 "},{"v":17,"d":"17 "},{"v":85,"d":"85 "},{"v":3,"d":"3 "},{"v":2,"d":"2 "},{"v":1,"d":"1 "},{"v":2,"d":"2 "},{"v":4,"d":"4 "},{"v":5,"d":"5 "},{"v":8,"d":"8 "},{"v":8,"d":"8 "},{"v":5,"d":"5 "},{"v":8,"d":"8 "},{"v":11,"d":"11 "},{"v":10,"d":"10 "},{"v":10,"d":"10 "},{"v":4,"d":"4 "},{"v":4,"d":"4 "},59.1,57.3,{"v":61,"d":"61.0"},{"v":48,"d":"48 "},{"v":2,"d":"2 "},{"v":1,"d":"1 "},"-","-",{"v":1,"d":"1 "},"-",{"v":1,"d":"1 "},{"v":2,"d":"2 "},"-",{"v":2,"d":"2 "},{"v":11,"d":"11 "},{"v":10,"d":"10 "},{"v":10,"d":"10 "},{"v":4,"d":"4 "},{"v":4,"d":"4 "},67.9,70.2,66.3,{"v":21,"d":"21 "},"-","-","-","-","-","-","-",{"v":1,"d":"1 "},"-","-",{"v":8,"d":"8 "},{"v":6,"d":"6 "},{"v":5,"d":"5 "},{"v":1,"d":"1 "},"-",70.6,{"v":71,"d":"71.0"},69.4,{"v":32,"d":"32 "},"-","-","-","-","-","-",{"v":2,"d":"2 "},{"v":3,"d":"3 "},{"v":4,"d":"4 "},{"v":3,"d":"3 "},{"v":6,"d":"6 "},{"v":6,"d":"6 "},{"v":5,"d":"5 "},{"v":2,"d":"2 "},{"v":1,"d":"1 "},{"v":17,"d":"17 "},"-","-","-","-",{"v":1,"d":"1 "},"-",{"v":1,"d":"1 "},{"v":1,"d":"1 "},{"v":3,"d":"3 "},{"v":5,"d":"5 "},{"v":4,"d":"4 "},{"v":1,"d":"1 "},{"v":1,"d":"1 "},{"$nulls":7},{"v":105,"d":"105 "},{"v":64,"d":"64 "},{"v":21,"d":"21 "},{"v":41,"d":"41 "},{"v":2,"d":"2 "},{"v":25,"d":"25 "},{"v":7,"d":"7 "},{"v":9,"d":"9 "},{"v":22,"d":"22 "},{"v":22,"d":"22 "},"-","-","-","-","-","-","-","-","-","-","-","-","-","-",{"v":32,"d":"32 "},{"v":1481,"d":"1,481 "},{"v":1332,"d":"1,332 "},{"v":143,"d":"143 "},{"v":6,"d":"6 "},49,42,16,24,2,"-",3,4,56,22,5,17,"-",25,4,5]
["山梨県","韮崎市","清哲村","水上",{"v":12,"d":"12 "},{"v":7,"d":"7 "},"-","-",{"v":1,"d":"1 "},"-",{"v":6,"d":"6 "},{"v":5,"d":"5 "},{"v":24,"d":"24 "},"-",{"v":2,"d":"2 "},{"v":1,"d":"1 "},{"v":1,"d":"1 "},{"v":2,"d":"2 "},{"v":2,"d":"2 "},{"v":2,"d":"2 "},{"v":3,"d":"3 "},{"v":1,"d":"1 "},{"v":2,"d":"2 "},{"v":1,"d":"1 "},{"v":1,"d":"1 "},{"v":2,"d":"2 "},{"v":3,"d":"3 "},{"v":1,"d":"1 "},55.2,54.5,{"v":56,"d":"56.0"},{"v":11,"d":"11 "},"-","-","-",{"v":1,"d":"1 "},"-","-",{"v":1,"d":"1 "},"-","-",{"v":1,"d":"1 "},{"v":1,"d":"1 "},{"v":1,"d":"1 "},{"v":2,"d":"2 "},{"v":3,"d":"3 "},{"v":1,"d":"1 "},70.2,80.3,64.4,{"v":7,"d":"7 "},"-","-","-","-","-","-","-","-","-","-","-",{"v":1,"d":"1 "},{"v":2,"d":"2 "},{"v":3,"d":"3 "},{"v":1,"d":"1 "},80.3,80.3,80.3,{"v":7,"d":"7 "},"-","-","-","-","-","-","-",{"v":1,"d":"1 "},"-",{"v":1,"d":"1 "},"-",{"v":1,"d":"1 "},{"v":2,"d":"2 "},{"v":1,"d":"1 "},{"v":1,"d":"1 "},{"v":6,"d":"6 "},"-","-","-","-","-",{"v":1,"d":"1 "},"-",{"v":1,"d":"1 "},"-",{"v":1,"d":"1 "},{"v":1,"d":"1 "},{"v":1,"d":"1 "},{"v":1,"d":"1 "},{"$nulls":7},{"v":27,"d":"27 "},{"v":22,"d":"22 "},{"v":7,"d":"7 "},{"v":14,"d":"14 "},{"v":1,"d":"1 "},{"v":4,"d":"4 "},"-",{"v":1,"d":"1 "},{"v":7,"d":"7 "},{"v":7,"d":"7 "},"-","-","-","-","-","-","-","-","-","-","-","-","-","-",{"v":7,"d":"7 "},{"v":400,"d":"400 "},{"v":331,"d":"331 "},{"v":59,"d":"59 "},{"v":10,"d":"10 "},13,13,4,8,1,"-","-","-",14,9,3,6,"-",4,"-",1]
["山梨県","韮崎市","旭村","宮下",{"v":33,"d":"33 "},{"v":23,"d":"23 "},{"v":2,"d":"2 "},"-",{"v":8,"d":"8 "},{"v":3,"d":"3 "},{"v":13,"d":"13 "},{"v":10,"d":"10 "},{"v":60,"d":"60 "},{"v":2,"d":"2 "},{"v":1,"d":"1 "},{"v":4,"d":"4 "},{"v":1,"d":"1 "},{"v":2,"d":"2 "},{"v":4,"d":"4 "},{"v":2,"d":"2 "},{"v":6,"d":"6 "},{"v":6,"d":"6 "},{"v":9,"d":"9 "},{"v":7,"d":"7 "},{"v":4,"d":"4 "},{"v":5,"d":"5 "},{"v":5,"d":"5 "},{"v":2,"d":"2 "},58.1,55.1,61.3,{"v":26,"d":"26 "},"-","-","-","-","-",{"v":1,"d":"1 "},{"v":2,"d":"2 "},"-","-",{"v":4,"d":"4 "},{"v":5,"d":"5 "},{"v":3,"d":"3 "},{"v":5,"d":"5 "},{"v":4,"d":"4 "},{"v":2,"d":"2 "},70.6,71.3,70.1,{"v":20,"d":"20 "},"-","-","-","-","-","-",{"v":1,"d":"1 "},"-","-",{"v":3,"d":"3 "},{"v":4,"d":"4 "},{"v":3,"d":"3 "},{"v":5,"d":"5 "},{"v":3,"d":"3 "},{"v":1,"d":"1 "},72.3,70.3,74.3,{"v":23,"d":"23 "},"-","-","-","-","-","-",{"v":1,"d":"1 "},{"v":3,"d":"3 "},{"v":3,"d":"3 "},{"v":5,"d":"5 "},{"v":4,"d":"4 "},{"v":3,"d":"3 "},{"v":1,"d":"1 "},{"v":2,"d":"2 "},{"v":1,"d":"1 "},{"v":14,"d":"14 "},"-","-","-","-",{"v":1,"d":"1 "},{"v":3,"d":"3 "},{"v":2,"d":"2 "},{"v":1,"d":"1 "},{"v":2,"d":"2 "},{"v":2,"d":"2 "},"-",{"v":2,"d":"2 "},{"v":1,"d":"1 "},{"$nulls":7},{"v":75,"d":"75 "},{"v":51,"d":"51 "},{"v":20,"d":"20 "},{"v":30,"d":"30 "},{"v":1,"d":"1 "},{"v":7,"d":"7 "},{"v":7,"d":"7 "},{"v":10,"d":"10 "},{"v":20,"d":"20 "},{"v":18,"d":"18 "},"-","-","-",{"v":1,"d":"1 "},"-",{"v":1,"d":"1 "},"-","-","-","-","-","-","-","-",{"v":23,"d":"23 "},{"v":1421,"d":"1,421 "},{"v":1047,"d":"1,047 "},{"v":227,"d":"227 "},{"v":147,"d":"147 "},37,30,10,19,1,"-",3,4,38,21,10,11,"-",7,4,6]
["山梨県","韮崎市","大草村","若尾",{"v":63,"d":"63 "},{"v":43,"d":"43 "},{"v":6,"d":"6 "},{"v":5,"d":"5 "},{"v":17,"d":"17 "},{"v":7,"d":"7 "},{"v":20,"d":"20 "},{"v":20,"d":"20 "},{"v":135,"d":"135 "},{"v":4,"d":"4 "},{"v":8,"d":"8 "},{"v":14,"d":"14 "},{"v":8,"d":"8 "},{"v":2,"d":"2 "},{"v":3,"d":"3 "},{"v":6,"d":"6 "},{"v":14,"d":"14 "},{"v":20,"d":"20 "},{"v":20,"d":"20 "},{"v":5,"d":"5 "},{"v":5,"d":"5 "},{"v":8,"d":"8 "},{"v":8,"d":"8 "},{"v":10,"d":"10 "},54.1,50.9,57.5,{"v":66,"d":"66 "},{"v":2,"d":"2 "},{"v":3,"d":"3 "},{"v":1,"d":"1 "},"-","-","-",{"v":1,"d":"1 "},{"v":4,"d":"4 "},{"v":8,"d":"8 "},{"v":13,"d":"13 "},{"v":3,"d":"3 "},{"v":5,"d":"5 "},{"v":8,"d":"8 "},{"v":8,"d":"8 "},{"v":10,"d":"10 "},65.9,62.8,{"v":68,"d":"68.0"},{"v":44,"d":"44 "},"-",{"v":1,"d":"1 "},"-","-","-","-","-",{"v":3,"d":"3 "},{"v":5,"d":"5 "},{"v":8,"d":"8 "},{"v":2,"d":"2 "},{"v":4,"d":"4 "},{"v":7,"d":"7 "},{"v":7,"d":"7 "},{"v":7,"d":"7 "},70.4,68.3,72.9,{"v":43,"d":"43 "},"-","-","-",{"v":1,"d":"1 "},"-",{"v":1,"d":"1 "},{"v":2,"d":"2 "},{"v":2,"d":"2 "},{"v":9,"d":"9 "},{"v":10,"d":"10 "},{"v":4,"d":"4 "},{"v":3,"d":"3 "},{"v":3,"d":"3 "},{"v":6,"d":"6 "},{"v":2,"d":"2 "},{"v":33,"d":"33 "},"-","-","-",{"v":1,"d":"1 "},{"v":1,"d":"1 "},{"v":1,"d":"1 "},{"v":7,"d":"7 "},{"v":8,"d":"8 "},{"v":2,"d":"2 "},{"v":2,"d":"2 "},{"v":3,"d":"3 "},{"v":6,"d":"6 "},{"v":2,"d":"2 "},{"$nulls":7},{"v":167,"d":"167 "},{"v":121,"d":"121 "},{"v":44,"d":"44 "},{"v":74,"d":"74 "},{"v":3,"d":"3 "},{"v":17,"d":"17 "},{"v":14,"d":"14 "},{"v":15,"d":"15 "},{"v":40,"d":"40 "},{"v":39,"d":"39 "},"-","-","-","-","-",{"v":1,"d":"1 "},"-","-","-","-","-","-","-","-",{"v":43,"d":"43 "},{"v":2959,"d":"2,959 "},{"v":2485,"d":"2,485 "},{"v":317,"d":"317 "},{"v":157,"d":"157 "},82,68,24,42,2,"-",9,5,85,53,20,32,1,17,5,10]
["山梨県","韮崎市","竜岡村",null,{"v":215,"d":"215 "},{"v":140,"d":"140 "},{"v":9,"d":"9 "},{"v":9,"d":"9 "},{"v":38,"d":"38 "},{"v":12,"d":"12 "},{"v":93,"d":"93 "},{"v":75,"d":"75 "},{"v":370,"d":"370 "},{"v":10,"d":"10 "},{"v":15,"d":"15 "},{"v":10,"d":"10 "},{"v":15,"d":"15 "},{"v":13,"d":"13 "},{"v":19,"d":"19 "},{"v":22,"d":"22 "},{"v":36,"d":"36 "},{"v":46,"d":"46 "},{"v":33,"d":"33 "},{"v":44,"d":"44 "},{"v":38,"d":"38 "},{"v":34,"d":"34 "},{"v":26,"d":"26 "},{"v":9,"d":"9 "},57.6,56.8,58.6,{"v":191,"d":"191 "},{"v":4,"d":"4 "},{"v":1,"d":"1 "},"-",{"v":1,"d":"1 "},{"v":2,"d":"2 "},{"v":3,"d":"3 "},{"v":2,"d":"2 "},{"v":6,"d":"6 "},{"v":11,"d":"11 "},{"v":21,"d":"21 "},{"v":37,"d":"37 "},{"v":36,"d":"36 "},{"v":33,"d":"33 "},{"v":25,"d":"25 "},{"v":9,"d":"9 "},68.6,70.3,66.9,{"v":134,"d":"134 "},"-","-","-","-",{"v":1,"d":"1 "},{"v":1,"d":"1 "},"-",{"v":2,"d":"2 "},{"v":7,"d":"7 "},{"v":15,"d":"15 "},{"v":29,"d":"29 "},{"v":27,"d":"27 "},{"v":26,"d":"26 "},{"v":21,"d":"21 "},{"v":5,"d":"5 "},71.3,71.6,70.6,{"v":140,"d":"140 "},"-","-","-",{"v":1,"d":"1 "},{"v":1,"d":"1 "},{"v":1,"d":"1 "},{"v":2,"d":"2 "},{"v":14,"d":"14 "},{"v":26,"d":"26 "},{"v":15,"d":"15 "},{"v":23,"d":"23 "},{"v":22,"d":"22 "},{"v":18,"d":"18 "},{"v":11,"d":"11 "},{"v":6,"d":"6 "},{"v":92,"d":"92 "},"-","-","-","-",{"v":1,"d":"1 "},{"v":6,"d":"6 "},{"v":16,"d":"16 "},{"v":10,"d":"10 "},{"v":16,"d":"16 "},{"v":12,"d":"12 "},{"v":17,"d":"17 "},{"v":10,"d":"10 "},{"v":4,"d":"4 "},{"$nulls":7},{"v":455,"d":"455 "},{"v":319,"d":"319 "},{"v":134,"d":"134 "},{"v":177,"d":"177 "},{"v":8,"d":"8 "},{"v":64,"d":"64 "},{"v":36,"d":"36 "},{"v":36,"d":"36 "},{"v":115,"d":"115 "},{"v":108,"d":"108 "},"-","-","-","-","-",{"v":5,"d":"5 "},{"v":2,"d":"2 "},"-","-","-","-","-","-","-",{"v":140,"d":"140 "},{"v":9666,"d":"9,666 "},{"v":7417,"d":"7,417 "},{"v":1413,"d":"1,413 "},{"v":836,"d":"836 "},235,203,87,110,6,"-",22,10,220,116,47,67,2,64,14,26]
["山梨県","南アルプス市","御影村","野牛島",{"v":99,"d":"99 "},{"v":47,"d":"47 "},{"v":7,"d":"7 "},{"v":5,"d":"5 "},{"v":13,"d":"13 "},{"v":7,"d":"7 "},{"v":27,"d":"27 "},{"v":52,"d":"52 "},{"v":131,"d":"131 "},{"v":3,"d":"3 "},{"v":4,"d":"4 "},{"v":5,"d":"5 "},{"v":5,"d":"5 "},{"v":3,"d":"3 "},{"v":6,"d":"6 "},{"v":14,"d":"14 "},{"v":9,"d":"9 "},{"v":14,"d":"14 "},{"v":15,"d":"15 "},{"v":16,"d":"16 "},{"v":10,"d":"10 "},{"v":10,"d":"10 "},{"v":9,"d":"9 "},{"v":8,"d":"8 "},58.2,56.9,59.9,{"v":71,"d":"71 "},{"v":1,"d":"1 "},"-","-","-","-","-",{"v":2,"d":"2 "},{"v":5,"d":"5 "},{"v":5,"d":"5 "},{"v":9,"d":"9 "},{"v":14,"d":"14 "},{"v":8,"d":"8 "},{"v":10,"d":"10 "},{"v":9,"d":"9 "},{"v":8,"d":"8 "},69.1,67.2,71.2,{"v":60,"d":"60 "},"-","-","-","-","-","-",{"v":2,"d":"2 "},{"v":5,"d":"5 "},{"v":5,"d":"5 "},{"v":8,"d":"8 "},{"v":13,"d":"13 "},{"v":8,"d":"8 "},{"v":9,"d":"9 "},{"v":8,"d":"8 "},{"v":2,"d":"2 "},68.2,67.7,{"v":69,"d":"69.0"},{"v":47,"d":"47 "},"-","-","-","-","-",{"v":1,"d":"1 "},{"v":2,"d":"2 "},{"v":2,"d":"2 "},{"v":8,"d":"8 "},{"v":9,"d":"9 "},{"v":7,"d":"7 "},{"v":6,"d":"6 "},{"v":6,"d":"6 "},{"v":4,"d":"4 "},{"v":2,"d":"2 "},{"v":25,"d":"25 "},"-","-","-","-","-","-",{"v":4,"d":"4 "},{"v":6,"d":"6 "},{"v":2,"d":"2 "},{"v":4,"d":"4 "},{"v":4,"d":"4 "},{"v":3,"d":"3 "},{"v":2,"d":"2 "},{"$nulls":7},{"v":160,"d":"160 "},{"v":119,"d":"119 "},{"v":60,"d":"60 "},{"v":52,"d":"52 "},{"v":7,"d":"7 "},{"v":10,"d":"10 "},{"v":13,"d":"13 "},{"v":18,"d":"18 "},{"v":41,"d":"41 "},{"v":6,"d":"6 "},"-","-","-","-","-",{"v":35,"d":"35 "},"-","-","-","-","-","-","-","-",{"v":47,"d":"47 "},{"v":3091,"d":"3,091 "},{"v":1097,"d":"1,097 "},{"v":247,"d":"247 "},{"v":1747,"d":"1,747 "},83,68,34,28,6,"-",10,5,77,51,26,24,1,10,3,13]
["山梨県","南アルプス市","源村","駒場",{"v":3,"d":"3 "},{"v":3,"d":"3 "},"x","x","x","x","x","-","x","x","x","x","x","x","x","x","x","x","x","x","x","x","x","x",{"v":67,"d":"67.0"},68.3,{"v":66,"d":"66.0"},"x","x","x","x","x","x","x","x","x","x","x","x","x","x","x","x",74.8,{"v":77,"d":"77.0"},73.3,"x","x","x","x","x","x","x","x","x","x","x","x","x","x","x","x",74.8,{"v":77,"d":"77.0"},73.3,{"v":3,"d":"3 "},"-","-","-","-","-","-","-",{"v":1,"d":"1 "},"-","-","-","-",{"v":2,"d":"2 "},"-","-",{"v":2,"d":"2 "},"-","-","-","-","-","-","-","-","-","-",{"v":2,"d":"2 "},"-","-",{"$nulls":7},{"v":7,"d":"7 "},{"v":7,"d":"7 "},{"v":5,"d":"5 "},{"v":2,"d":"2 "},"-","-","-","-",{"v":3,"d":"3 "},"-","-","-","-","-","-",{"v":3,"d":"3 "},"-","-","-","-","-","-","-","-",{"v":3,"d":"3 "},{"v":184,"d":"184 "},{"v":70,"d":"70 "},"-",{"v":114,"d":"114 "},3,3,2,1,"-","-","-","-",4,4,3,1,"-","-","-","-"]
["山梨県","南アルプス市","源村","有野",{"v":151,"d":"151 "},{"v":104,"d":"104 "},{"v":9,"d":"9 "},{"v":7,"d":"7 "},{"v":32,"d":"32 "},{"v":15,"d":"15 "},{"v":63,"d":"63 "},{"v":47,"d":"47 "},{"v":285,"d":"285 "},{"v":8,"d":"8 "},{"v":8,"d":"8 "},{"v":11,"d":"11 "},{"v":14,"d":"14 "},{"v":8,"d":"8 "},{"v":13,"d":"13 "},{"v":22,"d":"22 "},{"v":25,"d":"25 "},{"v":26,"d":"26 "},{"v":33,"d":"33 "},{"v":27,"d":"27 "},{"v":22,"d":"22 "},{"v":41,"d":"41 "},{"v":12,"d":"12 "},{"v":15,"d":"15 "},58.2,56.6,{"v":60,"d":"60.0"},{"v":160,"d":"160 "},{"v":3,"d":"3 "},{"v":3,"d":"3 "},{"v":2,"d":"2 "},{"v":2,"d":"2 "},"-",{"v":1,"d":"1 "},{"v":2,"d":"2 "},{"v":6,"d":"6 "},{"v":10,"d":"10 "},{"v":18,"d":"18 "},{"v":24,"d":"24 "},{"v":21,"d":"21 "},{"v":41,"d":"41 "},{"v":12,"d":"12 "},{"v":15,"d":"15 "},68.3,68.7,67.9,{"v":128,"d":"128 "},"-","-",{"v":1,"d":"1 "},{"v":1,"d":"1 "},"-","-",{"v":2,"d":"2 "},{"v":4,"d":"4 "},{"v":8,"d":"8 "},{"v":16,"d":"16 "},{"v":23,"d":"23 "},{"v":19,"d":"19 "},{"v":39,"d":"39 "},{"v":8,"d":"8 "},{"v":7,"d":"7 "},70.1,70.2,{"v":70,"d":"70.0"},{"v":104,"d":"104 "},"-","-","-","-","-","-",{"v":6,"d":"6 "},{"v":7,"d":"7 "},{"v":11,"d":"11 "},{"v":17,"d":"17 "},{"v":19,"d":"19 "},{"v":11,"d":"11 "},{"v":25,"d":"25 "},{"v":4,"d":"4 "},{"v":4,"d":"4 "},{"v":64,"d":"64 "},"-","-","-","-",{"v":1,"d":"1 "},{"v":1,"d":"1 "},{"v":8,"d":"8 "},{"v":12,"d":"12 "},{"v":12,"d":"12 "},{"v":6,"d":"6 "},{"v":16,"d":"16 "},{"v":4,"d":"4 "},{"v":4,"d":"4 "},{"$nulls":7},{"v":355,"d":"355 "},{"v":272,"d":"272 "},{"v":128,"d":"128 "},{"v":129,"d":"129 "},{"v":15,"d":"15 "},{"v":30,"d":"30 "},{"v":33,"d":"33 "},{"v":20,"d":"20 "},{"v":94,"d":"94 "},{"v":8,"d":"8 "},"-","-","-",{"v":3,"d":"3 "},"-",{"v":81,"d":"81 "},{"v":1,"d":"1 "},"-","-","-",{"v":1,"d":"1 "},"-","-","-",{"v":104,"d":"104 "},{"v":6524,"d":"6,524 "},{"v":1912,"d":"1,912 "},{"v":469,"d":"469 "},{"v":4143,"d":"4,143 "},179,157,73,74,10,"-",18,4,176,115,55,55,5,30,15,16]
["山梨県","南アルプス市","在家塚村",null,{"v":105,"d":"105 "},{"v":76,"d":"76 "},{"v":18,"d":"18 "},{"v":16,"d":"16 "},{"v":19,"d":"19 "},{"v":5,"d":"5 "},{"v":39,"d":"39 "},{"v":29,"d":"29 "},{"v":189,"d":"189 "},{"v":2,"d":"2 "},{"v":5,"d":"5 "},{"v":5,"d":"5 "},{"v":7,"d":"7 "},{"v":3,"d":"3 "},{"v":12,"d":"12 "},{"v":11,"d":"11 "},{"v":15,"d":"15 "},{"v":25,"d":"25 "},{"v":23,"d":"23 "},{"v":21,"d":"21 "},{"v":22,"d":"22 "},{"v":16,"d":"16 "},{"v":13,"d":"13 "},{"v":9,"d":"9 "},60.1,58.1,61.9,{"v":118,"d":"118 "},{"v":1,"d":"1 "},{"v":1,"d":"1 "},{"v":1,"d":"1 "},{"v":1,"d":"1 "},"-",{"v":1,"d":"1 "},{"v":3,"d":"3 "},{"v":3,"d":"3 "},{"v":15,"d":"15 "},{"v":15,"d":"15 "},{"v":18,"d":"18 "},{"v":22,"d":"22 "},{"v":16,"d":"16 "},{"v":13,"d":"13 "},{"v":8,"d":"8 "},{"v":68,"d":"68.0"},66.5,69.3,{"v":94,"d":"94 "},"-","-",{"v":1,"d":"1 "},{"v":1,"d":"1 "},"-",{"v":1,"d":"1 "},{"v":1,"d":"1 "},{"v":2,"d":"2 "},{"v":14,"d":"14 "},{"v":13,"d":"13 "},{"v":16,"d":"16 "},{"v":17,"d":"17 "},{"v":15,"d":"15 "},{"v":8,"d":"8 "},{"v":5,"d":"5 "},{"v":68,"d":"68.0"},67.6,68.5,{"v":76,"d":"76 "},"-","-","-",{"v":1,"d":"1 "},"-",{"v":2,"d":"2 "},"-",{"v":7,"d":"7 "},{"v":10,"d":"10 "},{"v":15,"d":"15 "},{"v":7,"d":"7 "},{"v":11,"d":"11 "},{"v":9,"d":"9 "},{"v":10,"d":"10 "},{"v":4,"d":"4 "},{"v":39,"d":"39 "},"-","-","-",{"v":1,"d":"1 "},"-",{"v":2,"d":"2 "},{"v":4,"d":"4 "},{"v":8,"d":"8 "},{"v":4,"d":"4 "},{"v":5,"d":"5 "},{"v":6,"d":"6 "},{"v":7,"d":"7 "},{"v":2,"d":"2 "},{"$nulls":7},{"v":236,"d":"236 "},{"v":170,"d":"170 "},{"v":94,"d":"94 "},{"v":66,"d":"66 "},{"v":10,"d":"10 "},{"v":29,"d":"29 "},{"v":14,"d":"14 "},{"v":23,"d":"23 "},{"v":75,"d":"75 "},"-","-","-","-","-","-",{"v":75,"d":"75 "},"-","-","-","-","-","-","-","-",{"v":76,"d":"76 "},{"v":4772,"d":"4,772 "},{"v":115,"d":"115 "},{"v":73,"d":"73 "},{"v":4584,"d":"4,584 "},115,96,51,38,7,"-",7,12,121,74,43,28,3,29,7,11]
["山梨県","南アルプス市","百田村","上八田",{"v":118,"d":"118 "},{"v":101,"d":"101 "},{"v":25,"d":"25 "},{"v":24,"d":"24 "},{"v":26,"d":"26 "},{"v":7,"d":"7 "},{"v":50,"d":"50 "},{"v":17,"d":"17 "},{"v":270,"d":"270 "},{"v":10,"d":"10 "},{"v":10,"d":"10 "},{"v":11,"d":"11 "},{"v":8,"d":"8 "},{"v":6,"d":"6 "},{"v":16,"d":"16 "},{"v":26,"d":"26 "},{"v":17,"d":"17 "},{"v":25,"d":"25 "},{"v":25,"d":"25 "},{"v":27,"d":"27 "},{"v":22,"d":"22 "},{"v":31,"d":"31 "},{"v":17,"d":"17 "},{"v":19,"d":"19 "},58.4,57.8,58.9,{"v":182,"d":"182 "},{"v":9,"d":"9 "},{"v":4,"d":"4 "},{"v":3,"d":"3 "},{"v":2,"d":"2 "},{"v":3,"d":"3 "},{"v":4,"d":"4 "},{"v":7,"d":"7 "},{"v":6,"d":"6 "},{"v":9,"d":"9 "},{"v":22,"d":"22 "},{"v":25,"d":"25 "},{"v":22,"d":"22 "},{"v":30,"d":"30 "},{"v":17,"d":"17 "},{"v":19,"d":"19 "},{"v":65,"d":"65.0"},66.4,63.9,{"v":149,"d":"149 "},"-",{"v":1,"d":"1 "},{"v":1,"d":"1 "},{"v":2,"d":"2 "},{"v":1,"d":"1 "},{"v":1,"d":"1 "},{"v":5,"d":"5 "},{"v":6,"d":"6 "},{"v":9,"d":"9 "},{"v":22,"d":"22 "},{"v":24,"d":"24 "},{"v":21,"d":"21 "},{"v":27,"d":"27 "},{"v":15,"d":"15 "},{"v":14,"d":"14 "},69.1,{"v":70,"d":"70.0"},68.2,{"v":101,"d":"101 "},"-","-","-","-","-",{"v":1,"d":"1 "},{"v":8,"d":"8 "},{"v":7,"d":"7 "},{"v":10,"d":"10 "},{"v":12,"d":"12 "},{"v":16,"d":"16 "},{"v":11,"d":"11 "},{"v":19,"d":"19 "},{"v":10,"d":"10 "},{"v":7,"d":"7 "},{"v":56,"d":"56 "},"-","-","-","-",{"v":1,"d":"1 "},{"v":3,"d":"3 "},{"v":4,"d":"4 "},{"v":6,"d":"6 "},{"v":10,"d":"10 "},{"v":7,"d":"7 "},{"v":13,"d":"13 "},{"v":6,"d":"6 "},{"v":6,"d":"6 "},{"$nulls":7},{"v":353,"d":"353 "},{"v":262,"d":"262 "},{"v":149,"d":"149 "},{"v":108,"d":"108 "},{"v":5,"d":"5 "},{"v":27,"d":"27 "},{"v":38,"d":"38 "},{"v":26,"d":"26 "},{"v":101,"d":"101 "},"-","-","-","-","-","-",{"v":99,"d":"99 "},{"v":1,"d":"1 "},"-","-",{"v":1,"d":"1 "},"-","-","-","-",{"v":101,"d":"101 "},{"v":7476,"d":"7,476 "},{"v":10,"d":"10 "},{"v":39,"d":"39 "},{"v":7427,"d":"7,427 "},164,137,75,60,2,"-",18,9,189,125,74,48,3,27,20,17]
["山梨県","南アルプス市","西野村","中村",{"v":30,"d":"30 "},{"v":30,"d":"30 "},{"v":15,"d":"15 "},{"v":14,"d":"14 "},{"v":2,"d":"2 "},{"v":1,"d":"1 "},{"v":13,"d":"13 "},"-",{"v":76,"d":"76 "},{"v":1,"d":"1 "},{"v":1,"d":"1 "},{"v":2,"d":"2 "},{"v":2,"d":"2 "},{"v":3,"d":"3 "},{"v":10,"d":"10 "},{"v":3,"d":"3 "},{"v":4,"d":"4 "},{"v":5,"d":"5 "},{"v":10,"d":"10 "},{"v":9,"d":"9 "},{"v":11,"d":"11 "},{"v":13,"d":"13 "},{"v":2,"d":"2 "},"-",59.1,{"v":57,"d":"57.0"},61.8,{"v":58,"d":"58 "},{"v":1,"d":"1 "},{"v":1,"d":"1 "},"-","-",{"v":1,"d":"1 "},{"v":3,"d":"3 "},{"v":2,"d":"2 "},{"v":3,"d":"3 "},{"v":5,"d":"5 "},{"v":7,"d":"7 "},{"v":9,"d":"9 "},{"v":11,"d":"11 "},{"v":13,"d":"13 "},{"v":2,"d":"2 "},"-",64.5,63.9,65.1,{"v":52,"d":"52 "},"-","-","-","-",{"v":1,"d":"1 "},{"v":3,"d":"3 "},{"v":2,"d":"2 "},{"v":3,"d":"3 "},{"v":5,"d":"5 "},{"v":6,"d":"6 "},{"v":9,"d":"9 "},{"v":10,"d":"10 "},{"v":11,"d":"11 "},{"v":2,"d":"2 "},"-",65.6,{"v":65,"d":"65.0"},66.3,{"v":30,"d":"30 "},"-","-","-","-","-",{"v":1,"d":"1 "},{"v":3,"d":"3 "},{"v":3,"d":"3 "},{"v":1,"d":"1 "},{"v":7,"d":"7 "},{"v":2,"d":"2 "},{"v":5,"d":"5 "},{"v":7,"d":"7 "},{"v":1,"d":"1 "},"-",{"v":12,"d":"12 "},"-","-","-","-",{"v":1,"d":"1 "},{"v":1,"d":"1 "},"-",{"v":2,"d":"2 "},{"v":2,"d":"2 "},{"v":2,"d":"2 "},{"v":3,"d":"3 "},{"v":1,"d":"1 "},"-",{"$nulls":7},{"v":101,"d":"101 "},{"v":76,"d":"76 "},{"v":52,"d":"52 "},{"v":24,"d":"24 "},"-",{"v":4,"d":"4 "},{"v":12,"d":"12 "},{"v":9,"d":"9 "},{"v":30,"d":"30 "},"-","-","-","-","-","-",{"v":30,"d":"30 "},"-","-","-","-","-","-","-","-",{"v":30,"d":"30 "},{"v":2739,"d":"2,739 "},"-","-",{"v":2739,"d":"2,739 "},54,44,28,16,"-","-",8,2,47,32,24,8,"-",4,4,7]
["山梨県","南アルプス市","芦安村","古屋敷",{"v":1,"d":"1 "},"-","-","-","-","-","-",{"v":1,"d":"1 "},"-","-","-","-","-","-","-","-","-","-","-","-","-","-","-","-","…","…","…","-","-","-","-","-","-","-","-","-","-","-","-","-","-","-","-","…","…","…","-","-","-","-","-","-","-","-","-","-","-","-","-","-","-","-","…","…","…","-","-","-","-","-","-","-","-","-","-","-","-","-","-","-","-","-","-","-","-","-","-","-","-","-","-","-","-","-","-",{"$nulls":7},"-","-","-","-","-","-","-","-","-","-","-","-","-","-","-","-","-","-","-","-","-","-","-","-","-","-","-","-","-","-","-","-","-","-","-","-","-","-","-","-","-","-","-","-","-"]
["山梨県","南アルプス市","藤田村","浅原",{"v":32,"d":"32 "},{"v":15,"d":"15 "},{"v":2,"d":"2 "},{"v":1,"d":"1 "},{"v":2,"d":"2 "},"-",{"v":11,"d":"11 "},{"v":17,"d":"17 "},{"v":34,"d":"34 "},"-",{"v":4,"d":"4 "},{"v":1,"d":"1 "},"-","-",{"v":3,"d":"3 "},{"v":1,"d":"1 "},{"v":4,"d":"4 "},{"v":4,"d":"4 "},{"v":2,"d":"2 "},{"v":5,"d":"5 "},{"v":5,"d":"5 "},{"v":3,"d":"3 "},{"v":2,"d":"2 "},"-",56.7,55.9,57.7,{"v":19,"d":"19 "},"-",{"v":1,"d":"1 "},"-","-","-","-","-","-",{"v":2,"d":"2 "},{"v":1,"d":"1 "},{"v":5,"d":"5 "},{"v":5,"d":"5 "},{"v":3,"d":"3 "},{"v":2,"d":"2 "},"-",67.8,66.5,69.3,{"v":16,"d":"16 "},"-","-","-","-","-","-","-","-",{"v":2,"d":"2 "},{"v":1,"d":"1 "},{"v":5,"d":"5 "},{"v":5,"d":"5 "},{"v":1,"d":"1 "},{"v":2,"d":"2 "},"-",69.4,71.7,66.6,{"v":15,"d":"15 "},"-","-","-","-","-","-","-",{"v":1,"d":"1 "},{"v":2,"d":"2 "},{"v":2,"d":"2 "},{"v":1,"d":"1 "},{"v":4,"d":"4 "},{"v":2,"d":"2 "},{"v":2,"d":"2 "},{"v":1,"d":"1 "},{"v":8,"d":"8 "},"-","-","-","-","-",{"v":1,"d":"1 "},{"v":1,"d":"1 "},{"v":1,"d":"1 "},{"v":1,"d":"1 "},{"v":1,"d":"1 "},{"v":1,"d":"1 "},{"v":1,"d":"1 "},{"v":1,"d":"1 "},{"$nulls":7},{"v":47,"d":"47 "},{"v":34,"d":"34 "},{"v":16,"d":"16 "},{"v":17,"d":"17 "},{"v":1,"d":"1 "},{"v":2,"d":"2 "},{"v":6,"d":"6 "},{"v":5,"d":"5 "},{"v":10,"d":"10 "},{"v":7,"d":"7 "},"-","-","-","-",{"v":3,"d":"3 "},"-","-","-","-","-","-","-","-","-",{"v":15,"d":"15 "},{"v":840,"d":"840 "},{"v":654,"d":"654 "},{"v":131,"d":"131 "},{"v":55,"d":"55 "},21,18,9,8,1,"-",2,1,26,16,7,9,"-",2,4,4]
["山梨県","南アルプス市","三恵村","加賀美",{"v":115,"d":"115 "},{"v":54,"d":"54 "},{"v":2,"d":"2 "},{"v":2,"d":"2 "},{"v":13,"d":"13 "},{"v":3,"d":"3 "},{"v":39,"d":"39 "},{"v":61,"d":"61 "},{"v":162,"d":"162 "},{"v":6,"d":"6 "},{"v":4,"d":"4 "},{"v":2,"d":"2 "},{"v":4,"d":"4 "},{"v":5,"d":"5 "},{"v":10,"d":"10 "},{"v":16,"d":"16 "},{"v":9,"d":"9 "},{"v":13,"d":"13 "},{"v":11,"d":"11 "},{"v":17,"d":"17 "},{"v":21,"d":"21 "},{"v":17,"d":"17 "},{"v":19,"d":"19 "},{"v":8,"d":"8 "},60.7,60.3,61.1,{"v":87,"d":"87 "},{"v":2,"d":"2 "},"-","-","-","-",{"v":1,"d":"1 "},{"v":2,"d":"2 "},"-",{"v":4,"d":"4 "},{"v":5,"d":"5 "},{"v":11,"d":"11 "},{"v":19,"d":"19 "},{"v":17,"d":"17 "},{"v":19,"d":"19 "},{"v":7,"d":"7 "},72.2,72.2,72.2,{"v":73,"d":"73 "},"-","-","-","-","-","-","-","-",{"v":4,"d":"4 "},{"v":4,"d":"4 "},{"v":10,"d":"10 "},{"v":16,"d":"16 "},{"v":14,"d":"14 "},{"v":19,"d":"19 "},{"v":6,"d":"6 "},74.7,74.8,74.6,{"v":54,"d":"54 "},"-","-","-",{"v":1,"d":"1 "},"-","-",{"v":2,"d":"2 "},{"v":2,"d":"2 "},{"v":6,"d":"6 "},{"v":6,"d":"6 "},{"v":7,"d":"7 "},{"v":10,"d":"10 "},{"v":8,"d":"8 "},{"v":9,"d":"9 "},{"v":3,"d":"3 "},{"v":35,"d":"35 "},"-","-","-","-",{"v":2,"d":"2 "},{"v":2,"d":"2 "},{"v":3,"d":"3 "},{"v":4,"d":"4 "},{"v":4,"d":"4 "},{"v":7,"d":"7 "},{"v":5,"d":"5 "},{"v":6,"d":"6 "},{"v":2,"d":"2 "},{"$nulls":7},{"v":195,"d":"195 "},{"v":147,"d":"147 "},{"v":73,"d":"73 "},{"v":63,"d":"63 "},{"v":11,"d":"11 "},{"v":21,"d":"21 "},{"v":18,"d":"18 "},{"v":9,"d":"9 "},{"v":46,"d":"46 "},{"v":5,"d":"5 "},"-","-","-",{"v":1,"d":"1 "},{"v":1,"d":"1 "},{"v":39,"d":"39 "},"-","-","-","-","-","-","-","-",{"v":54,"d":"54 "},{"v":3107,"d":"3,107 "},{"v":1594,"d":"1,594 "},{"v":258,"d":"258 "},{"v":1255,"d":"1,255 "},92,79,38,32,9,"-",8,5,103,68,35,31,2,21,10,4]
["山梨県","南アルプス市","小笠原町","旭町",{"v":3,"d":"3 "},{"v":1,"d":"1 "},"x","x","x","x","x",{"v":2,"d":"2 "},"x","x","x","x","x","x","x","x","x","x","x","x","x","x","x","x",61.3,{"v":53,"d":"53.0"},65.5,"x","x","x","x","x","x","x","x","x","x","x","x","x","x","x","x",{"v":87,"d":"87.0"},"…",{"v":87,"d":"87.0"},"x","x","x","x","x","x","x","x","x","x","x","x","x","x","x","x","…","…","…",{"v":1,"d":"1 "},"-","-","-","-","-","-","-",{"v":1,"d":"1 "},"-","-","-","-","-","-","-","-","-","-","-","-","-","-","-","-","-","-","-","-","-",{"$nulls":7},{"v":3,"d":"3 "},{"v":1,"d":"1 "},"-",{"v":1,"d":"1 "},"-",{"v":1,"d":"1 "},"-",{"v":1,"d":"1 "},{"v":1,"d":"1 "},"-","-","-","-","-","-",{"v":1,"d":"1 "},"-","-","-","-","-","-","-","-",{"v":1,"d":"1 "},{"v":33,"d":"33 "},"-","-",{"v":33,"d":"33 "},1,1,"-",1,"-","-","-","-",2,"-","-","-","-",1,"-",1]
["山梨県","南アルプス市","小笠原町","戸田町",{"v":2,"d":"2 "},{"v":1,"d":"1 "},"x","x","x","x","x",{"v":1,"d":"1 "},"x","x","x","x","x","x","x","x","x","x","x","x","x","x","x","x",65.2,{"v":61,"d":"61.0"},71.5,"x","x","x","x","x","x","x","x","x","x","x","x","x","x","x","x",72.3,{"v":73,"d":"73.0"},71.5,"x","x","x","x","x","x","x","x","x","x","x","x","x","x","x","x",{"v":62,"d":"62.0"},{"v":62,"d":"62.0"},"…",{"v":1,"d":"1 "},"-","-","-","-","-","-","-","-","-",{"v":1,"d":"1 "},"-","-","-","-","-",{"v":1,"d":"1 "},"-","-","-","-","-","-","-",{"v":1,"d":"1 "},"-","-","-","-","-",{"$nulls":7},{"v":5,"d":"5 "},{"v":2,"d":"2 "},{"v":1,"d":"1 "},{"v":1,"d":"1 "},"-",{"v":2,"d":"2 "},"-",{"v":1,"d":"1 "},{"v":1,"d":"1 "},"-","-","-","-","-","-",{"v":1,"d":"1 "},"-","-","-","-","-","-","-","-",{"v":1,"d":"1 "},{"v":150,"d":"150 "},"-","-",{"v":150,"d":"150 "},3,2,1,1,"-","-","-",1,2,"-","-","-","-",2,"-","-"]
["山梨県","南アルプス市","小笠原町","山寺",{"v":58,"d":"58 "},{"v":34,"d":"34 "},{"v":1,"d":"1 "},"-",{"v":11,"d":"11 "},{"v":1,"d":"1 "},{"v":22,"d":"22 "},{"v":24,"d":"24 "},{"v":85,"d":"85 "},{"v":1,"d":"1 "},{"v":1,"d":"1 "},{"v":1,"d":"1 "},{"v":1,"d":"1 "},{"v":1,"d":"1 "},{"v":7,"d":"7 "},{"v":4,"d":"4 "},{"v":1,"d":"1 "},{"v":6,"d":"6 "},{"v":10,"d":"10 "},{"v":12,"d":"12 "},{"v":16,"d":"16 "},{"v":8,"d":"8 "},{"v":5,"d":"5 "},{"v":11,"d":"11 "},65.5,63.2,68.2,{"v":54,"d":"54 "},"-","-","-","-","-","-","-","-","-",{"v":5,"d":"5 "},{"v":11,"d":"11 "},{"v":15,"d":"15 "},{"v":8,"d":"8 "},{"v":4,"d":"4 "},{"v":11,"d":"11 "},74.8,76.7,73.3,{"v":41,"d":"41 "},"-","-","-","-","-","-","-","-","-",{"v":3,"d":"3 "},{"v":7,"d":"7 "},{"v":13,"d":"13 "},{"v":7,"d":"7 "},{"v":3,"d":"3 "},{"v":8,"d":"8 "},75.2,76.7,73.1,{"v":34,"d":"34 "},"-","-","-","-","-",{"v":1,"d":"1 "},{"v":1,"d":"1 "},{"v":1,"d":"1 "},{"v":1,"d":"1 "},{"v":5,"d":"5 "},{"v":2,"d":"2 "},{"v":10,"d":"10 "},{"v":6,"d":"6 "},"-",{"v":7,"d":"7 "},{"v":18,"d":"18 "},"-","-","-","-","-","-",{"v":1,"d":"1 "},{"v":2,"d":"2 "},{"v":2,"d":"2 "},{"v":4,"d":"4 "},{"v":5,"d":"5 "},"-",{"v":4,"d":"4 "},{"$nulls":7},{"v":105,"d":"105 "},{"v":74,"d":"74 "},{"v":41,"d":"41 "},{"v":33,"d":"33 "},"-",{"v":20,"d":"20 "},{"v":6,"d":"6 "},{"v":5,"d":"5 "},{"v":32,"d":"32 "},"-","-","-","-","-","-",{"v":32,"d":"32 "},"-","-","-","-","-","-","-","-",{"v":34,"d":"34 "},{"v":1795,"d":"1,795 "},{"v":207,"d":"207 "},{"v":91,"d":"91 "},{"v":1497,"d":"1,497 "},53,47,24,23,"-","-",4,2,52,27,17,10,"-",20,2,3]
["山梨県","南アルプス市","野之瀬村","神戸",{"v":21,"d":"21 "},{"v":13,"d":"13 "},"-","-","-","-",{"v":13,"d":"13 "},{"v":8,"d":"8 "},{"v":25,"d":"25 "},"-","-",{"v":1,"d":"1 "},"-",{"v":3,"d":"3 "},"-","-",{"v":3,"d":"3 "},{"v":4,"d":"4 "},{"v":1,"d":"1 "},{"v":5,"d":"5 "},"-",{"v":2,"d":"2 "},{"v":4,"d":"4 "},{"v":2,"d":"2 "},62.9,60.8,65.6,{"v":13,"d":"13 "},"-","-","-","-","-","-","-","-","-","-",{"v":5,"d":"5 "},"-",{"v":2,"d":"2 "},{"v":4,"d":"4 "},{"v":2,"d":"2 "},76.7,78.7,{"v":75,"d":"75.0"},{"v":13,"d":"13 "},"-","-","-","-","-","-","-","-","-","-",{"v":5,"d":"5 "},"-",{"v":2,"d":"2 "},{"v":4,"d":"4 "},{"v":2,"d":"2 "},76.7,78.7,{"v":75,"d":"75.0"},{"v":13,"d":"13 "},"-","-","-","-","-","-","-",{"v":2,"d":"2 "},{"v":2,"d":"2 "},{"v":1,"d":"1 "},{"v":3,"d":"3 "},"-",{"v":1,"d":"1 "},{"v":2,"d":"2 "},{"v":2,"d":"2 "},{"v":8,"d":"8 "},"-","-","-","-","-",{"v":1,"d":"1 "},"-",{"v":1,"d":"1 "},{"v":1,"d":"1 "},"-",{"v":1,"d":"1 "},{"v":2,"d":"2 "},{"v":2,"d":"2 "},{"$nulls":7},{"v":40,"d":"40 "},{"v":32,"d":"32 "},{"v":13,"d":"13 "},{"v":18,"d":"18 "},{"v":1,"d":"1 "},{"v":1,"d":"1 "},{"v":6,"d":"6 "},{"v":1,"d":"1 "},{"v":3,"d":"3 "},{"v":1,"d":"1 "},"-","-","-","-","-",{"v":2,"d":"2 "},"-","-","-","-","-","-","-","-",{"v":13,"d":"13 "},{"v":687,"d":"687 "},{"v":313,"d":"313 "},{"v":257,"d":"257 "},{"v":117,"d":"117 "},21,16,6,9,1,"-",4,1,19,16,7,9,"-",1,2,"-"]
["山梨県","南アルプス市","野之瀬村","下市之瀬",{"v":41,"d":"41 "},{"v":28,"d":"28 "},{"v":5,"d":"5 "},{"v":3,"d":"3 "},{"v":5,"d":"5 "},{"v":1,"d":"1 "},{"v":18,"d":"18 "},{"v":13,"d":"13 "},{"v":77,"d":"77 "},{"v":3,"d":"3 "},{"v":4,"d":"4 "},{"v":5,"d":"5 "},{"v":1,"d":"1 "},{"v":1,"d":"1 "},{"v":1,"d":"1 "},{"v":5,"d":"5 "},{"v":4,"d":"4 "},{"v":8,"d":"8 "},{"v":10,"d":"10 "},{"v":8,"d":"8 "},{"v":12,"d":"12 "},{"v":7,"d":"7 "},{"v":5,"d":"5 "},{"v":3,"d":"3 "},58.8,57.9,59.6,{"v":39,"d":"39 "},"-","-","-","-","-","-",{"v":1,"d":"1 "},"-",{"v":2,"d":"2 "},{"v":6,"d":"6 "},{"v":6,"d":"6 "},{"v":12,"d":"12 "},{"v":6,"d":"6 "},{"v":4,"d":"4 "},{"v":2,"d":"2 "},71.2,70.6,71.7,{"v":34,"d":"34 "},"-","-","-","-","-","-",{"v":1,"d":"1 "},"-",{"v":1,"d":"1 "},{"v":5,"d":"5 "},{"v":6,"d":"6 "},{"v":11,"d":"11 "},{"v":5,"d":"5 "},{"v":3,"d":"3 "},{"v":2,"d":"2 "},71.4,70.6,72.3,{"v":28,"d":"28 "},"-","-","-","-","-","-",{"v":1,"d":"1 "},"-",{"v":4,"d":"4 "},{"v":4,"d":"4 "},{"v":6,"d":"6 "},{"v":8,"d":"8 "},{"v":2,"d":"2 "},{"v":3,"d":"3 "},"-",{"v":15,"d":"15 "},"-","-","-","-",{"v":1,"d":"1 "},"-",{"v":4,"d":"4 "},{"v":2,"d":"2 "},{"v":1,"d":"1 "},{"v":3,"d":"3 "},{"v":1,"d":"1 "},{"v":3,"d":"3 "},"-",{"$nulls":7},{"v":93,"d":"93 "},{"v":66,"d":"66 "},{"v":34,"d":"34 "},{"v":31,"d":"31 "},{"v":1,"d":"1 "},{"v":12,"d":"12 "},{"v":6,"d":"6 "},{"v":9,"d":"9 "},{"v":24,"d":"24 "},{"v":1,"d":"1 "},"-","-","-","-","-",{"v":23,"d":"23 "},"-","-","-","-","-","-","-","-",{"v":28,"d":"28 "},{"v":1821,"d":"1,821 "},{"v":538,"d":"538 "},{"v":124,"d":"124 "},{"v":1159,"d":"1,159 "},42,39,18,20,1,"-",1,2,51,27,16,11,"-",12,5,7]
["山梨県","南アルプス市","大井村",null,{"v":169,"d":"169 "},{"v":64,"d":"64 "},{"v":4,"d":"4 "},{"v":2,"d":"2 "},{"v":18,"d":"18 "},{"v":8,"d":"8 "},{"v":42,"d":"42 "},{"v":105,"d":"105 "},{"v":156,"d":"156 "},{"v":3,"d":"3 "},{"v":2,"d":"2 "},{"v":2,"d":"2 "},{"v":1,"d":"1 "},{"v":4,"d":"4 "},{"v":10,"d":"10 "},{"v":8,"d":"8 "},{"v":10,"d":"10 "},{"v":15,"d":"15 "},{"v":15,"d":"15 "},{"v":20,"d":"20 "},{"v":17,"d":"17 "},{"v":27,"d":"27 "},{"v":12,"d":"12 "},{"v":10,"d":"10 "},63.6,61.6,66.2,{"v":98,"d":"98 "},{"v":3,"d":"3 "},"-","-",{"v":1,"d":"1 "},{"v":1,"d":"1 "},"-",{"v":1,"d":"1 "},{"v":1,"d":"1 "},{"v":4,"d":"4 "},{"v":7,"d":"7 "},{"v":15,"d":"15 "},{"v":16,"d":"16 "},{"v":27,"d":"27 "},{"v":12,"d":"12 "},{"v":10,"d":"10 "},71.1,72.6,69.8,{"v":70,"d":"70 "},"-","-","-",{"v":1,"d":"1 "},{"v":1,"d":"1 "},"-",{"v":1,"d":"1 "},{"v":1,"d":"1 "},{"v":4,"d":"4 "},{"v":5,"d":"5 "},{"v":12,"d":"12 "},{"v":12,"d":"12 "},{"v":20,"d":"20 "},{"v":10,"d":"10 "},{"v":3,"d":"3 "},71.2,74.3,67.4,{"v":64,"d":"64 "},"-","-","-","-","-",{"v":1,"d":"1 "},{"v":1,"d":"1 "},{"v":1,"d":"1 "},{"v":7,"d":"7 "},{"v":9,"d":"9 "},{"v":7,"d":"7 "},{"v":9,"d":"9 "},{"v":17,"d":"17 "},{"v":8,"d":"8 "},{"v":4,"d":"4 "},{"v":32,"d":"32 "},"-","-","-","-",{"v":1,"d":"1 "},"-",{"v":4,"d":"4 "},{"v":5,"d":"5 "},{"v":2,"d":"2 "},{"v":5,"d":"5 "},{"v":9,"d":"9 "},{"v":4,"d":"4 "},{"v":2,"d":"2 "},{"$nulls":7},{"v":216,"d":"216 "},{"v":152,"d":"152 "},{"v":70,"d":"70 "},{"v":75,"d":"75 "},{"v":7,"d":"7 "},{"v":26,"d":"26 "},{"v":17,"d":"17 "},{"v":21,"d":"21 "},{"v":57,"d":"57 "},{"v":2,"d":"2 "},"-","-","-","-",{"v":1,"d":"1 "},{"v":54,"d":"54 "},"-","-","-","-","-","-","-","-",{"v":64,"d":"64 "},{"v":3458,"d":"3,458 "},{"v":800,"d":"800 "},{"v":257,"d":"257 "},{"v":2401,"d":"2,401 "},106,89,39,44,6,2,8,7,110,63,31,31,1,24,9,14]
["山梨県","南アルプス市","五明村",null,{"v":140,"d":"140 "},{"v":44,"d":"44 "},{"v":1,"d":"1 "},"-",{"v":7,"d":"7 "},{"v":1,"d":"1 "},{"v":36,"d":"36 "},{"v":96,"d":"96 "},{"v":117,"d":"117 "},"-","-",{"v":3,"d":"3 "},{"v":4,"d":"4 "},{"v":9,"d":"9 "},{"v":7,"d":"7 "},{"v":9,"d":"9 "},{"v":3,"d":"3 "},{"v":8,"d":"8 "},{"v":7,"d":"7 "},{"v":18,"d":"18 "},{"v":23,"d":"23 "},{"v":17,"d":"17 "},{"v":6,"d":"6 "},{"v":3,"d":"3 "},61.7,60.1,63.4,{"v":60,"d":"60 "},"-","-","-","-","-","-",{"v":1,"d":"1 "},"-",{"v":2,"d":"2 "},{"v":1,"d":"1 "},{"v":12,"d":"12 "},{"v":19,"d":"19 "},{"v":17,"d":"17 "},{"v":6,"d":"6 "},{"v":2,"d":"2 "},72.8,74.5,71.6,{"v":51,"d":"51 "},"-","-","-","-","-","-",{"v":1,"d":"1 "},"-",{"v":2,"d":"2 "},{"v":1,"d":"1 "},{"v":11,"d":"11 "},{"v":17,"d":"17 "},{"v":15,"d":"15 "},{"v":4,"d":"4 "},"-",{"v":72,"d":"72.0"},74.1,{"v":70,"d":"70.0"},{"v":44,"d":"44 "},"-","-","-","-",{"v":1,"d":"1 "},{"v":2,"d":"2 "},{"v":3,"d":"3 "},{"v":1,"d":"1 "},{"v":3,"d":"3 "},{"v":4,"d":"4 "},{"v":7,"d":"7 "},{"v":11,"d":"11 "},{"v":10,"d":"10 "},{"v":2,"d":"2 "},"-",{"v":21,"d":"21 "},"-","-",{"v":1,"d":"1 "},"-","-","-",{"v":1,"d":"1 "},{"v":3,"d":"3 "},{"v":3,"d":"3 "},{"v":5,"d":"5 "},{"v":6,"d":"6 "},{"v":2,"d":"2 "},"-",{"$nulls":7},{"v":140,"d":"140 "},{"v":114,"d":"114 "},{"v":51,"d":"51 "},{"v":51,"d":"51 "},{"v":12,"d":"12 "},{"v":10,"d":"10 "},{"v":4,"d":"4 "},{"v":12,"d":"12 "},{"v":37,"d":"37 "},{"v":16,"d":"16 "},"-","-","-",{"v":1,"d":"1 "},"-",{"v":18,"d":"18 "},{"v":1,"d":"1 "},{"v":1,"d":"1 "},"-","-","-","-","-","-",{"v":44,"d":"44 "},{"v":2670,"d":"2,670 "},{"v":1433,"d":"1,433 "},{"v":372,"d":"372 "},{"v":865,"d":"865 "},69,64,25,31,8,"-",2,3,71,50,26,20,4,10,2,9]
["山梨県","南アルプス市","五明村","大師",{"v":31,"d":"31 "},{"v":10,"d":"10 "},"-","-",{"v":2,"d":"2 "},"-",{"v":8,"d":"8 "},{"v":21,"d":"21 "},{"v":28,"d":"28 "},"-","-",{"v":2,"d":"2 "},{"v":2,"d":"2 "},{"v":2,"d":"2 "},{"v":1,"d":"1 "},"-",{"v":1,"d":"1 "},{"v":4,"d":"4 "},{"v":2,"d":"2 "},{"v":3,"d":"3 "},{"v":5,"d":"5 "},{"v":2,"d":"2 "},{"v":3,"d":"3 "},{"v":1,"d":"1 "},59.7,53.4,70.9,{"v":10,"d":"10 "},"-","-","-","-","-","-","-","-",{"v":1,"d":"1 "},"-",{"v":1,"d":"1 "},{"v":3,"d":"3 "},{"v":2,"d":"2 "},{"v":3,"d":"3 "},"-",74.2,{"v":77,"d":"77.0"},72.3,{"v":10,"d":"10 "},"-","-","-","-","-","-","-","-",{"v":1,"d":"1 "},"-",{"v":1,"d":"1 "},{"v":3,"d":"3 "},{"v":2,"d":"2 "},{"v":3,"d":"3 "},"-",74.2,{"v":77,"d":"77.0"},72.3,{"v":10,"d":"10 "},"-","-","-","-","-","-","-",{"v":1,"d":"1 "},{"v":1,"d":"1 "},{"v":1,"d":"1 "},{"v":3,"d":"3 "},{"v":1,"d":"1 "},{"v":2,"d":"2 "},{"v":1,"d":"1 "},"-",{"v":5,"d":"5 "},"-","-","-","-","-","-","-","-",{"v":2,"d":"2 "},{"v":1,"d":"1 "},{"v":1,"d":"1 "},{"v":1,"d":"1 "},"-",{"$nulls":7},{"v":36,"d":"36 "},{"v":32,"d":"32 "},{"v":10,"d":"10 "},{"v":18,"d":"18 "},{"v":4,"d":"4 "},{"v":1,"d":"1 "},{"v":1,"d":"1 "},{"v":2,"d":"2 "},{"v":8,"d":"8 "},{"v":3,"d":"3 "},"-","-","-","-","-",{"v":4,"d":"4 "},"-",{"v":1,"d":"1 "},"-","-","-","-","-","-",{"v":10,"d":"10 "},{"v":570,"d":"570 "},{"v":295,"d":"295 "},{"v":90,"d":"90 "},{"v":185,"d":"185 "},20,19,4,13,2,"-",1,"-",16,13,6,5,2,1,"-",2]
["山梨県","南アルプス市","落合村","川上",{"v":14,"d":"14 "},{"v":13,"d":"13 "},{"v":5,"d":"5 "},{"v":5,"d":"5 "},{"v":1,"d":"1 "},{"v":1,"d":"1 "},{"v":7,"d":"7 "},{"v":1,"d":"1 "},{"v":27,"d":"27 "},"-",{"v":2,"d":"2 "},"-","-","-",{"v":1,"d":"1 "},{"v":2,"d":"2 "},{"v":3,"d":"3 "},{"v":1,"d":"1 "},{"v":6,"d":"6 "},{"v":4,"d":"4 "},{"v":4,"d":"4 "},{"v":2,"d":"2 "},{"v":1,"d":"1 "},{"v":1,"d":"1 "},60.8,60.7,60.8,{"v":21,"d":"21 "},"-","-","-","-","-","-",{"v":2,"d":"2 "},{"v":2,"d":"2 "},"-",{"v":5,"d":"5 "},{"v":4,"d":"4 "},{"v":4,"d":"4 "},{"v":2,"d":"2 "},{"v":1,"d":"1 "},{"v":1,"d":"1 "},{"v":66,"d":"66.0"},65.4,66.7,{"v":18,"d":"18 "},"-","-","-","-","-","-",{"v":2,"d":"2 "},{"v":2,"d":"2 "},"-",{"v":5,"d":"5 "},{"v":4,"d":"4 "},{"v":2,"d":"2 "},{"v":1,"d":"1 "},{"v":1,"d":"1 "},{"v":1,"d":"1 "},64.8,65.4,63.7,{"v":13,"d":"13 "},"-","-","-","-","-","-",{"v":1,"d":"1 "},{"v":1,"d":"1 "},"-",{"v":5,"d":"5 "},{"v":2,"d":"2 "},{"v":2,"d":"2 "},{"v":1,"d":"1 "},{"v":1,"d":"1 "},"-",{"v":2,"d":"2 "},"-","-","-","-","-","-","-",{"v":1,"d":"1 "},{"v":1,"d":"1 "},"-","-","-","-",{"$nulls":7},{"v":33,"d":"33 "},{"v":26,"d":"26 "},{"v":18,"d":"18 "},{"v":7,"d":"7 "},{"v":1,"d":"1 "},{"v":4,"d":"4 "},{"v":1,"d":"1 "},{"v":2,"d":"2 "},{"v":13,"d":"13 "},"-","-","-","-","-","-",{"v":13,"d":"13 "},"-","-","-","-","-","-","-","-",{"v":13,"d":"13 "},{"v":990,"d":"990 "},"-",{"v":9,"d":"9 "},{"v":981,"d":"981 "},18,17,12,5,"-","-","-",1,15,9,6,2,1,4,1,1]
["山梨県","北杜市",null,null,{"v":5300,"d":"5,300 "},{"v":3039,"d":"3,039 "},{"v":364,"d":"364 "},{"v":275,"d":"275 "},{"v":667,"d":"667 "},{"v":221,"d":"221 "},{"v":2008,"d":"2,008 "},{"v":2261,"d":"2,261 "},{"v":7848,"d":"7,848 "},{"v":183,"d":"183 "},{"v":223,"d":"223 "},{"v":216,"d":"216 "},{"v":233,"d":"233 "},{"v":316,"d":"316 "},{"v":409,"d":"409 "},{"v":502,"d":"502 "},{"v":590,"d":"590 "},{"v":769,"d":"769 "},{"v":823,"d":"823 "},{"v":823,"d":"823 "},{"v":897,"d":"897 "},{"v":839,"d":"839 "},{"v":655,"d":"655 "},{"v":370,"d":"370 "},59.8,58.7,61.1,{"v":4318,"d":"4,318 "},{"v":69,"d":"69 "},{"v":32,"d":"32 "},{"v":16,"d":"16 "},{"v":25,"d":"25 "},{"v":39,"d":"39 "},{"v":59,"d":"59 "},{"v":78,"d":"78 "},{"v":103,"d":"103 "},{"v":224,"d":"224 "},{"v":419,"d":"419 "},{"v":650,"d":"650 "},{"v":813,"d":"813 "},{"v":804,"d":"804 "},{"v":635,"d":"635 "},{"v":352,"d":"352 "},69.9,{"v":70,"d":"70.0"},69.7,{"v":3423,"d":"3,423 "},"-",{"v":3,"d":"3 "},{"v":7,"d":"7 "},{"v":14,"d":"14 "},{"v":22,"d":"22 "},{"v":27,"d":"27 "},{"v":59,"d":"59 "},{"v":78,"d":"78 "},{"v":186,"d":"186 "},{"v":342,"d":"342 "},{"v":551,"d":"551 "},{"v":691,"d":"691 "},{"v":685,"d":"685 "},{"v":513,"d":"513 "},{"v":245,"d":"245 "},71.3,71.3,71.4,{"v":3039,"d":"3,039 "},"-","-",{"v":1,"d":"1 "},{"v":7,"d":"7 "},{"v":17,"d":"17 "},{"v":57,"d":"57 "},{"v":123,"d":"123 "},{"v":215,"d":"215 "},{"v":334,"d":"334 "},{"v":415,"d":"415 "},{"v":422,"d":"422 "},{"v":471,"d":"471 "},{"v":461,"d":"461 "},{"v":348,"d":"348 "},{"v":168,"d":"168 "},{"v":1901,"d":"1,901 "},"-","-",{"v":3,"d":"3 "},{"v":5,"d":"5 "},{"v":36,"d":"36 "},{"v":109,"d":"109 "},{"v":196,"d":"196 "},{"v":250,"d":"250 "},{"v":277,"d":"277 "},{"v":324,"d":"324 "},{"v":312,"d":"312 "},{"v":265,"d":"265 "},{"v":124,"d":"124 "},{"$nulls":7},{"v":9287,"d":"9,287 "},{"v":7087,"d":"7,087 "},{"v":3423,"d":"3,423 "},{"v":3377,"d":"3,377 "},{"v":287,"d":"287 "},{"v":898,"d":"898 "},{"v":666,"d":"666 "},{"v":636,"d":"636 "},{"v":2691,"d":"2,691 "},{"v":2199,"d":"2,199 "},{"v":3,"d":"3 "},{"v":90,"d":"90 "},"-",{"v":181,"d":"181 "},{"v":26,"d":"26 "},{"v":83,"d":"83 "},{"v":35,"d":"35 "},{"v":16,"d":"16 "},{"v":33,"d":"33 "},{"v":14,"d":"14 "},"-",{"v":10,"d":"10 "},"-",{"v":1,"d":"1 "},{"v":3034,"d":"3,034 "},{"v":281502,"d":"281,502 "},{"v":188884,"d":"188,884 "},{"v":83952,"d":"83,952 "},{"v":8666,"d":"8,666 "},{"v":4658,"d":"4,658"},{"v":4074,"d":"4,074"},{"v":1990,"d":"1,990"},{"v":1880,"d":"1,880"},204,22,348,214,{"v":4629,"d":"4,629"},{"v":3013,"d":"3,013"},{"v":1433,"d":"1,433"},{"v":1497,"d":"1,497"},83,876,318,422]
["山梨県","北杜市","上手村",null,{"v":261,"d":"261 "},{"v":168,"d":"168 "},{"v":23,"d":"23 "},{"v":22,"d":"22 "},{"v":39,"d":"39 "},{"v":15,"d":"15 "},{"v":106,"d":"106 "},{"v":93,"d":"93 "},{"v":444,"d":"444 "},{"v":14,"d":"14 "},{"v":13,"d":"13 "},{"v":12,"d":"12 "},{"v":12,"d":"12 "},{"v":22,"d":"22 "},{"v":28,"d":"28 "},{"v":23,"d":"23 "},{"v":34,"d":"34 "},{"v":38,"d":"38 "},{"v":52,"d":"52 "},{"v":48,"d":"48 "},{"v":49,"d":"49 "},{"v":43,"d":"43 "},{"v":33,"d":"33 "},{"v":23,"d":"23 "},59.2,58.3,{"v":60,"d":"60.0"},{"v":247,"d":"247 "},{"v":2,"d":"2 "},"-","-",{"v":1,"d":"1 "},{"v":3,"d":"3 "},{"v":3,"d":"3 "},{"v":2,"d":"2 "},{"v":6,"d":"6 "},{"v":16,"d":"16 "},{"v":33,"d":"33 "},{"v":38,"d":"38 "},{"v":45,"d":"45 "},{"v":42,"d":"42 "},{"v":33,"d":"33 "},{"v":23,"d":"23 "},70.6,71.6,69.7,{"v":182,"d":"182 "},"-","-","-","-",{"v":1,"d":"1 "},{"v":1,"d":"1 "},{"v":2,"d":"2 "},{"v":4,"d":"4 "},{"v":15,"d":"15 "},{"v":26,"d":"26 "},{"v":31,"d":"31 "},{"v":36,"d":"36 "},{"v":35,"d":"35 "},{"v":20,"d":"20 "},{"v":11,"d":"11 "},70.4,70.9,69.7,{"v":168,"d":"168 "},"-","-","-","-",{"v":1,"d":"1 "},{"v":4,"d":"4 "},{"v":6,"d":"6 "},{"v":10,"d":"10 "},{"v":15,"d":"15 "},{"v":30,"d":"30 "},{"v":24,"d":"24 "},{"v":28,"d":"28 "},{"v":24,"d":"24 "},{"v":18,"d":"18 "},{"v":8,"d":"8 "},{"v":112,"d":"112 "},"-","-","-","-",{"v":2,"d":"2 "},{"v":5,"d":"5 "},{"v":6,"d":"6 "},{"v":16,"d":"16 "},{"v":18,"d":"18 "},{"v":24,"d":"24 "},{"v":21,"d":"21 "},{"v":13,"d":"13 "},{"v":7,"d":"7 "},{"$nulls":7},{"v":503,"d":"503 "},{"v":388,"d":"388 "},{"v":182,"d":"182 "},{"v":197,"d":"197 "},{"v":9,"d":"9 "},{"v":64,"d":"64 "},{"v":26,"d":"26 "},{"v":25,"d":"25 "},{"v":147,"d":"147 "},{"v":116,"d":"116 "},"-",{"v":2,"d":"2 "},"-",{"v":18,"d":"18 "},"-",{"v":6,"d":"6 "},{"v":2,"d":"2 "},{"v":3,"d":"3 "},"-","-","-","-","-","-",{"v":168,"d":"168 "},{"v":13671,"d":"13,671 "},{"v":7667,"d":"7,667 "},{"v":4820,"d":"4,820 "},{"v":1184,"d":"1,184 "},252,223,110,106,7,1,16,12,251,165,72,91,2,63,10,13]
["山梨県","北杜市","上手村","大久保",{"v":12,"d":"12 "},{"v":6,"d":"6 "},"-","-",{"v":1,"d":"1 "},"-",{"v":5,"d":"5 "},{"v":6,"d":"6 "},{"v":14,"d":"14 "},"-","-",{"v":1,"d":"1 "},"-",{"v":1,"d":"1 "},{"v":1,"d":"1 "},"-","-",{"v":4,"d":"4 "},"-",{"v":3,"d":"3 "},{"v":1,"d":"1 "},"-",{"v":2,"d":"2 "},{"v":1,"d":"1 "},60.7,58.9,62.6,{"v":6,"d":"6 "},"-","-","-","-","-","-","-","-",{"v":1,"d":"1 "},"-",{"v":2,"d":"2 "},"-","-",{"v":2,"d":"2 "},{"v":1,"d":"1 "},72.7,74.5,71.8,{"v":6,"d":"6 "},"-","-","-","-","-","-","-","-",{"v":1,"d":"1 "},"-",{"v":2,"d":"2 "},"-","-",{"v":2,"d":"2 "},{"v":1,"d":"1 "},72.7,74.5,71.8,{"v":6,"d":"6 "},"-","-","-","-","-","-","-","-",{"v":2,"d":"2 "},"-",{"v":1,"d":"1 "},{"v":1,"d":"1 "},"-",{"v":2,"d":"2 "},"-",{"v":4,"d":"4 "},"-","-","-","-","-","-",{"v":1,"d":"1 "},"-",{"v":1,"d":"1 "},{"v":1,"d":"1 "},"-",{"v":1,"d":"1 "},"-",{"$nulls":7},{"v":15,"d":"15 "},{"v":14,"d":"14 "},{"v":6,"d":"6 "},{"v":8,"d":"8 "},"-","-","-",{"v":1,"d":"1 "},{"v":4,"d":"4 "},{"v":4,"d":"4 "},"-","-","-","-","-","-","-","-","-","-","-","-","-","-",{"v":6,"d":"6 "},{"v":387,"d":"387 "},{"v":242,"d":"242 "},{"v":135,"d":"135 "},{"v":10,"d":"10 "},7,7,2,5,"-","-","-","-",8,7,4,3,"-","-","-",1]
["山梨県","北杜市","上手村","北組道下",{"v":34,"d":"34 "},{"v":26,"d":"26 "},{"v":5,"d":"5 "},{"v":5,"d":"5 "},{"v":6,"d":"6 "},{"v":2,"d":"2 "},{"v":15,"d":"15 "},{"v":8,"d":"8 "},{"v":71,"d":"71 "},{"v":1,"d":"1 "},{"v":2,"d":"2 "},{"v":2,"d":"2 "},{"v":2,"d":"2 "},{"v":3,"d":"3 "},{"v":6,"d":"6 "},{"v":5,"d":"5 "},{"v":2,"d":"2 "},{"v":7,"d":"7 "},{"v":9,"d":"9 "},{"v":5,"d":"5 "},{"v":7,"d":"7 "},{"v":6,"d":"6 "},{"v":8,"d":"8 "},{"v":6,"d":"6 "},61.1,60.7,61.5,{"v":44,"d":"44 "},"-","-","-","-","-",{"v":2,"d":"2 "},"-",{"v":1,"d":"1 "},{"v":3,"d":"3 "},{"v":7,"d":"7 "},{"v":5,"d":"5 "},{"v":6,"d":"6 "},{"v":6,"d":"6 "},{"v":8,"d":"8 "},{"v":6,"d":"6 "},{"v":72,"d":"72.0"},{"v":71,"d":"71.0"},{"v":73,"d":"73.0"},{"v":34,"d":"34 "},"-","-","-","-","-",{"v":1,"d":"1 "},"-",{"v":1,"d":"1 "},{"v":3,"d":"3 "},{"v":7,"d":"7 "},{"v":5,"d":"5 "},{"v":5,"d":"5 "},{"v":5,"d":"5 "},{"v":4,"d":"4 "},{"v":3,"d":"3 "},70.1,{"v":70,"d":"70.0"},70.2,{"v":26,"d":"26 "},"-","-","-","-","-","-",{"v":2,"d":"2 "},{"v":1,"d":"1 "},{"v":2,"d":"2 "},{"v":7,"d":"7 "},{"v":2,"d":"2 "},{"v":5,"d":"5 "},{"v":3,"d":"3 "},{"v":2,"d":"2 "},{"v":2,"d":"2 "},{"v":16,"d":"16 "},"-","-","-","-","-",{"v":1,"d":"1 "},{"v":1,"d":"1 "},{"v":4,"d":"4 "},{"v":1,"d":"1 "},{"v":4,"d":"4 "},{"v":3,"d":"3 "},"-",{"v":2,"d":"2 "},{"$nulls":7},{"v":82,"d":"82 "},{"v":60,"d":"60 "},{"v":34,"d":"34 "},{"v":26,"d":"26 "},"-",{"v":12,"d":"12 "},{"v":4,"d":"4 "},{"v":6,"d":"6 "},{"v":23,"d":"23 "},{"v":17,"d":"17 "},"-",{"v":2,"d":"2 "},"-","-","-",{"v":2,"d":"2 "},"-",{"v":2,"d":"2 "},"-","-","-","-","-","-",{"v":26,"d":"26 "},{"v":1706,"d":"1,706 "},{"v":1007,"d":"1,007 "},{"v":410,"d":"410 "},{"v":289,"d":"289 "},40,36,22,14,"-","-",2,2,42,24,12,12,"-",12,2,4]
["山梨県","北杜市","小笠原村","正楽寺",{"v":21,"d":"21 "},{"v":11,"d":"11 "},"-","-",{"v":4,"d":"4 "},{"v":2,"d":"2 "},{"v":7,"d":"7 "},{"v":10,"d":"10 "},{"v":24,"d":"24 "},"-",{"v":1,"d":"1 "},"-",{"v":1,"d":"1 "},"-","-",{"v":1,"d":"1 "},{"v":1,"d":"1 "},{"v":5,"d":"5 "},{"v":3,"d":"3 "},{"v":4,"d":"4 "},{"v":4,"d":"4 "},{"v":1,"d":"1 "},{"v":1,"d":"1 "},{"v":2,"d":"2 "},62.9,59.6,66.8,{"v":13,"d":"13 "},"-","-","-","-","-","-","-","-",{"v":2,"d":"2 "},{"v":1,"d":"1 "},{"v":3,"d":"3 "},{"v":3,"d":"3 "},{"v":1,"d":"1 "},{"v":1,"d":"1 "},{"v":2,"d":"2 "},70.9,70.2,71.6,{"v":12,"d":"12 "},"-","-","-","-","-","-","-","-",{"v":2,"d":"2 "},{"v":1,"d":"1 "},{"v":3,"d":"3 "},{"v":2,"d":"2 "},{"v":1,"d":"1 "},{"v":1,"d":"1 "},{"v":2,"d":"2 "},{"v":71,"d":"71.0"},70.2,71.8,{"v":11,"d":"11 "},"-","-","-","-","-","-","-","-",{"v":2,"d":"2 "},{"v":2,"d":"2 "},{"v":2,"d":"2 "},{"v":2,"d":"2 "},{"v":1,"d":"1 "},"-",{"v":2,"d":"2 "},{"v":5,"d":"5 "},"-","-","-","-","-","-",{"v":2,"d":"2 "},"-","-",{"v":1,"d":"1 "},{"v":1,"d":"1 "},"-",{"v":1,"d":"1 "},{"$nulls":7},{"v":29,"d":"29 "},{"v":24,"d":"24 "},{"v":12,"d":"12 "},{"v":11,"d":"11 "},{"v":1,"d":"1 "},{"v":2,"d":"2 "},"-",{"v":3,"d":"3 "},{"v":11,"d":"11 "},{"v":9,"d":"9 "},"-","-","-",{"v":2,"d":"2 "},"-","-","-","-","-","-","-","-","-","-",{"v":11,"d":"11 "},{"v":590,"d":"590 "},{"v":394,"d":"394 "},{"v":192,"d":"192 "},{"v":4,"d":"4 "},14,13,6,6,1,"-","-",1,15,11,6,5,"-",2,"-",2]
["山梨県","北杜市","若神子村",null,{"v":244,"d":"244 "},{"v":134,"d":"134 "},{"v":7,"d":"7 "},{"v":5,"d":"5 "},{"v":26,"d":"26 "},{"v":5,"d":"5 "},{"v":101,"d":"101 "},{"v":110,"d":"110 "},{"v":332,"d":"332 "},{"v":5,"d":"5 "},{"v":8,"d":"8 "},{"v":10,"d":"10 "},{"v":5,"d":"5 "},{"v":16,"d":"16 "},{"v":19,"d":"19 "},{"v":23,"d":"23 "},{"v":21,"d":"21 "},{"v":33,"d":"33 "},{"v":27,"d":"27 "},{"v":37,"d":"37 "},{"v":54,"d":"54 "},{"v":37,"d":"37 "},{"v":25,"d":"25 "},{"v":12,"d":"12 "},60.6,58.9,62.5,{"v":186,"d":"186 "},{"v":3,"d":"3 "},{"v":2,"d":"2 "},{"v":1,"d":"1 "},"-",{"v":2,"d":"2 "},{"v":5,"d":"5 "},{"v":2,"d":"2 "},{"v":3,"d":"3 "},{"v":5,"d":"5 "},{"v":14,"d":"14 "},{"v":31,"d":"31 "},{"v":48,"d":"48 "},{"v":34,"d":"34 "},{"v":24,"d":"24 "},{"v":12,"d":"12 "},69.8,71.7,68.3,{"v":140,"d":"140 "},"-","-","-","-","-","-",{"v":1,"d":"1 "},{"v":3,"d":"3 "},{"v":3,"d":"3 "},{"v":12,"d":"12 "},{"v":23,"d":"23 "},{"v":45,"d":"45 "},{"v":29,"d":"29 "},{"v":18,"d":"18 "},{"v":6,"d":"6 "},72.5,72.4,72.7,{"v":134,"d":"134 "},"-","-","-","-","-","-",{"v":8,"d":"8 "},{"v":4,"d":"4 "},{"v":18,"d":"18 "},{"v":14,"d":"14 "},{"v":11,"d":"11 "},{"v":36,"d":"36 "},{"v":22,"d":"22 "},{"v":17,"d":"17 "},{"v":4,"d":"4 "},{"v":92,"d":"92 "},"-","-","-","-",{"v":4,"d":"4 "},"-",{"v":11,"d":"11 "},{"v":8,"d":"8 "},{"v":8,"d":"8 "},{"v":26,"d":"26 "},{"v":18,"d":"18 "},{"v":13,"d":"13 "},{"v":4,"d":"4 "},{"$nulls":7},{"v":398,"d":"398 "},{"v":293,"d":"293 "},{"v":140,"d":"140 "},{"v":142,"d":"142 "},{"v":11,"d":"11 "},{"v":52,"d":"52 "},{"v":24,"d":"24 "},{"v":29,"d":"29 "},{"v":122,"d":"122 "},{"v":108,"d":"108 "},"-","-","-",{"v":4,"d":"4 "},"-",{"v":9,"d":"9 "},"-","-",{"v":1,"d":"1 "},"-","-","-","-","-",{"v":134,"d":"134 "},{"v":9526,"d":"9,526 "},{"v":6769,"d":"6,769 "},{"v":1787,"d":"1,787 "},{"v":970,"d":"970 "},199,170,80,81,9,3,14,12,199,123,60,61,2,49,10,17]
["山梨県","北杜市","若神子村","中村",{"v":35,"d":"35 "},{"v":24,"d":"24 "},"-","-",{"v":6,"d":"6 "},{"v":1,"d":"1 "},{"v":18,"d":"18 "},{"v":11,"d":"11 "},{"v":65,"d":"65 "},"-",{"v":1,"d":"1 "},{"v":3,"d":"3 "},"-",{"v":4,"d":"4 "},{"v":6,"d":"6 "},{"v":4,"d":"4 "},{"v":3,"d":"3 "},{"v":6,"d":"6 "},{"v":8,"d":"8 "},{"v":8,"d":"8 "},{"v":11,"d":"11 "},{"v":3,"d":"3 "},{"v":4,"d":"4 "},{"v":4,"d":"4 "},60.6,59.5,61.8,{"v":29,"d":"29 "},"-","-",{"v":1,"d":"1 "},"-","-",{"v":2,"d":"2 "},"-","-",{"v":1,"d":"1 "},{"v":2,"d":"2 "},{"v":4,"d":"4 "},{"v":9,"d":"9 "},{"v":3,"d":"3 "},{"v":3,"d":"3 "},{"v":4,"d":"4 "},70.2,74.2,67.5,{"v":20,"d":"20 "},"-","-","-","-","-","-","-","-",{"v":1,"d":"1 "},{"v":1,"d":"1 "},{"v":4,"d":"4 "},{"v":9,"d":"9 "},{"v":3,"d":"3 "},{"v":2,"d":"2 "},"-",71.4,{"v":71,"d":"71.0"},71.7,{"v":24,"d":"24 "},"-","-","-","-","-","-",{"v":1,"d":"1 "},{"v":1,"d":"1 "},{"v":4,"d":"4 "},{"v":4,"d":"4 "},{"v":1,"d":"1 "},{"v":9,"d":"9 "},{"v":3,"d":"3 "},{"v":1,"d":"1 "},"-",{"v":17,"d":"17 "},"-","-","-","-",{"v":1,"d":"1 "},"-",{"v":1,"d":"1 "},{"v":2,"d":"2 "},{"v":1,"d":"1 "},{"v":8,"d":"8 "},{"v":3,"d":"3 "},{"v":1,"d":"1 "},"-",{"$nulls":7},{"v":78,"d":"78 "},{"v":59,"d":"59 "},{"v":20,"d":"20 "},{"v":33,"d":"33 "},{"v":6,"d":"6 "},{"v":9,"d":"9 "},{"v":1,"d":"1 "},{"v":9,"d":"9 "},{"v":23,"d":"23 "},{"v":23,"d":"23 "},"-","-","-","-","-","-","-","-","-","-","-","-","-","-",{"v":24,"d":"24 "},{"v":1472,"d":"1,472 "},{"v":1332,"d":"1,332 "},{"v":140,"d":"140 "},"-",36,33,10,18,5,"-","-",3,42,26,10,15,1,9,1,6]
["山梨県","北杜市","穂足村",null,{"v":156,"d":"156 "},{"v":64,"d":"64 "},{"v":5,"d":"5 "},{"v":3,"d":"3 "},{"v":7,"d":"7 "},{"v":4,"d":"4 "},{"v":52,"d":"52 "},{"v":92,"d":"92 "},{"v":167,"d":"167 "},{"v":5,"d":"5 "},{"v":1,"d":"1 "},{"v":4,"d":"4 "},{"v":5,"d":"5 "},{"v":8,"d":"8 "},{"v":8,"d":"8 "},{"v":19,"d":"19 "},{"v":8,"d":"8 "},{"v":15,"d":"15 "},{"v":18,"d":"18 "},{"v":15,"d":"15 "},{"v":17,"d":"17 "},{"v":23,"d":"23 "},{"v":13,"d":"13 "},{"v":8,"d":"8 "},60.1,60.2,{"v":60,"d":"60.0"},{"v":83,"d":"83 "},"-","-","-","-",{"v":1,"d":"1 "},"-",{"v":2,"d":"2 "},"-",{"v":4,"d":"4 "},{"v":8,"d":"8 "},{"v":10,"d":"10 "},{"v":15,"d":"15 "},{"v":23,"d":"23 "},{"v":12,"d":"12 "},{"v":8,"d":"8 "},72.9,72.9,72.8,{"v":76,"d":"76 "},"-","-","-","-","-","-",{"v":2,"d":"2 "},"-",{"v":4,"d":"4 "},{"v":8,"d":"8 "},{"v":8,"d":"8 "},{"v":14,"d":"14 "},{"v":22,"d":"22 "},{"v":12,"d":"12 "},{"v":6,"d":"6 "},{"v":73,"d":"73.0"},72.9,73.1,{"v":64,"d":"64 "},"-","-","-","-","-","-",{"v":4,"d":"4 "},{"v":3,"d":"3 "},{"v":8,"d":"8 "},{"v":8,"d":"8 "},{"v":9,"d":"9 "},{"v":10,"d":"10 "},{"v":10,"d":"10 "},{"v":7,"d":"7 "},{"v":5,"d":"5 "},{"v":44,"d":"44 "},"-","-","-","-",{"v":1,"d":"1 "},{"v":2,"d":"2 "},{"v":4,"d":"4 "},{"v":7,"d":"7 "},{"v":5,"d":"5 "},{"v":8,"d":"8 "},{"v":7,"d":"7 "},{"v":6,"d":"6 "},{"v":4,"d":"4 "},{"$nulls":7},{"v":200,"d":"200 "},{"v":158,"d":"158 "},{"v":76,"d":"76 "},{"v":76,"d":"76 "},{"v":6,"d":"6 "},{"v":11,"d":"11 "},{"v":15,"d":"15 "},{"v":16,"d":"16 "},{"v":52,"d":"52 "},{"v":50,"d":"50 "},"-","-","-",{"v":1,"d":"1 "},"-",{"v":1,"d":"1 "},"-","-","-","-","-","-","-","-",{"v":64,"d":"64 "},{"v":4096,"d":"4,096 "},{"v":3371,"d":"3,371 "},{"v":685,"d":"685 "},{"v":40,"d":"40 "},97,85,44,35,6,"-",5,7,103,73,32,41,"-",11,10,9]
["山梨県","北杜市","穂足村","藤田下組",{"v":22,"d":"22 "},{"v":6,"d":"6 "},"-","-",{"v":1,"d":"1 "},"-",{"v":5,"d":"5 "},{"v":16,"d":"16 "},{"v":16,"d":"16 "},{"v":1,"d":"1 "},"-","-",{"v":1,"d":"1 "},{"v":1,"d":"1 "},"-",{"v":1,"d":"1 "},{"v":1,"d":"1 "},"-",{"v":1,"d":"1 "},{"v":4,"d":"4 "},{"v":1,"d":"1 "},{"v":3,"d":"3 "},{"v":2,"d":"2 "},"-",61.4,58.6,64.1,{"v":9,"d":"9 "},"-","-","-","-","-","-","-","-","-",{"v":1,"d":"1 "},{"v":2,"d":"2 "},{"v":1,"d":"1 "},{"v":3,"d":"3 "},{"v":2,"d":"2 "},"-",73.7,{"v":75,"d":"75.0"},72.6,{"v":9,"d":"9 "},"-","-","-","-","-","-","-","-","-",{"v":1,"d":"1 "},{"v":2,"d":"2 "},{"v":1,"d":"1 "},{"v":3,"d":"3 "},{"v":2,"d":"2 "},"-",73.7,{"v":75,"d":"75.0"},72.6,{"v":6,"d":"6 "},"-","-","-","-","-","-","-",{"v":1,"d":"1 "},"-","-",{"v":2,"d":"2 "},{"v":1,"d":"1 "},{"v":1,"d":"1 "},{"v":1,"d":"1 "},"-",{"v":3,"d":"3 "},"-","-","-","-","-",{"v":1,"d":"1 "},"-","-",{"v":1,"d":"1 "},"-","-",{"v":1,"d":"1 "},"-",{"$nulls":7},{"v":20,"d":"20 "},{"v":17,"d":"17 "},{"v":9,"d":"9 "},{"v":6,"d":"6 "},{"v":2,"d":"2 "},{"v":1,"d":"1 "},{"v":2,"d":"2 "},"-",{"v":3,"d":"3 "},{"v":3,"d":"3 "},"-","-","-","-","-","-","-","-","-","-","-","-","-","-",{"v":6,"d":"6 "},{"v":327,"d":"327 "},{"v":258,"d":"258 "},{"v":66,"d":"66 "},{"v":3,"d":"3 "},10,9,4,3,2,"-",1,"-",10,8,5,3,"-",1,1,"-"]
["山梨県","北杜市","多麻村","中小倉",{"v":27,"d":"27 "},{"v":17,"d":"17 "},"-","-",{"v":1,"d":"1 "},"-",{"v":16,"d":"16 "},{"v":10,"d":"10 "},{"v":38,"d":"38 "},"-","-","-",{"v":1,"d":"1 "},"-",{"v":1,"d":"1 "},{"v":3,"d":"3 "},{"v":4,"d":"4 "},"-",{"v":1,"d":"1 "},{"v":8,"d":"8 "},{"v":6,"d":"6 "},{"v":7,"d":"7 "},{"v":6,"d":"6 "},{"v":1,"d":"1 "},67.6,68.5,66.5,{"v":25,"d":"25 "},"-","-","-","-","-","-","-","-","-","-",{"v":5,"d":"5 "},{"v":6,"d":"6 "},{"v":7,"d":"7 "},{"v":6,"d":"6 "},{"v":1,"d":"1 "},75.4,75.7,74.9,{"v":19,"d":"19 "},"-","-","-","-","-","-","-","-","-","-",{"v":5,"d":"5 "},{"v":4,"d":"4 "},{"v":5,"d":"5 "},{"v":4,"d":"4 "},{"v":1,"d":"1 "},74.9,{"v":76,"d":"76.0"},71.8,{"v":17,"d":"17 "},"-","-","-","-","-","-","-",{"v":2,"d":"2 "},"-",{"v":1,"d":"1 "},{"v":4,"d":"4 "},{"v":3,"d":"3 "},{"v":5,"d":"5 "},{"v":2,"d":"2 "},"-",{"v":10,"d":"10 "},"-","-","-","-","-","-","-","-",{"v":3,"d":"3 "},{"v":2,"d":"2 "},{"v":3,"d":"3 "},{"v":2,"d":"2 "},"-",{"$nulls":7},{"v":48,"d":"48 "},{"v":33,"d":"33 "},{"v":19,"d":"19 "},{"v":13,"d":"13 "},{"v":1,"d":"1 "},{"v":7,"d":"7 "},{"v":5,"d":"5 "},{"v":3,"d":"3 "},{"v":15,"d":"15 "},{"v":15,"d":"15 "},"-","-","-","-","-","-","-","-","-","-","-","-","-","-",{"v":17,"d":"17 "},{"v":1360,"d":"1,360 "},{"v":1187,"d":"1,187 "},{"v":163,"d":"163 "},{"v":10,"d":"10 "},25,20,14,5,1,"-",4,1,23,13,5,8,"-",7,1,2]
["山梨県","北杜市","江草村","平",{"v":7,"d":"7 "},"-","-","-","-","-","-",{"v":7,"d":"7 "},"-","-","-","-","-","-","-","-","-","-","-","-","-","-","-","-","…","…","…","-","-","-","-","-","-","-","-","-","-","-","-","-","-","-","-","…","…","…","-","-","-","-","-","-","-","-","-","-","-","-","-","-","-","-","…","…","…","-","-","-","-","-","-","-","-","-","-","-","-","-","-","-","-","-","-","-","-","-","-","-","-","-","-","-","-","-","-",{"$nulls":7},"-","-","-","-","-","-","-","-","-","-","-","-","-","-","-","-","-","-","-","-","-","-","-","-","-","-","-","-","-","-","-","-","-","-","-","-","-","-","-","-","-","-","-","-","-"]
["山梨県","北杜市","江草村","八巻",{"v":24,"d":"24 "},{"v":2,"d":"2 "},"x","x","x","x","x",{"v":22,"d":"22 "},"x","x","x","x","x","x","x","x","x","x","x","x","x","x","x","x",70.3,{"v":64,"d":"64.0"},76.5,"x","x","x","x","x","x","x","x","x","x","x","x","x","x","x","x",{"v":76,"d":"76.0"},{"v":75,"d":"75.0"},76.5,"x","x","x","x","x","x","x","x","x","x","x","x","x","x","x","x",{"v":76,"d":"76.0"},{"v":75,"d":"75.0"},76.5,{"v":2,"d":"2 "},"-","-","-","-","-","-","-",{"v":1,"d":"1 "},"-","-","-","-",{"v":1,"d":"1 "},"-","-",{"v":1,"d":"1 "},"-","-","-","-","-","-","-","-","-","-",{"v":1,"d":"1 "},"-","-",{"$nulls":7},{"v":6,"d":"6 "},{"v":5,"d":"5 "},{"v":3,"d":"3 "},{"v":2,"d":"2 "},"-","-","-",{"v":1,"d":"1 "},{"v":2,"d":"2 "},{"v":2,"d":"2 "},"-","-","-","-","-","-","-","-","-","-","-","-","-","-",{"v":2,"d":"2 "},{"v":121,"d":"121 "},{"v":105,"d":"105 "},{"v":16,"d":"16 "},"-",3,2,1,1,"-","-","-",1,3,3,2,1,"-","-","-","-"]
["山梨県","北杜市","増富村",null,{"v":127,"d":"127 "},{"v":41,"d":"41 "},{"v":2,"d":"2 "},{"v":1,"d":"1 "},{"v":4,"d":"4 "},{"v":2,"d":"2 "},{"v":35,"d":"35 "},{"v":86,"d":"86 "},{"v":76,"d":"76 "},"-",{"v":1,"d":"1 "},{"v":2,"d":"2 "},{"v":4,"d":"4 "},"-",{"v":2,"d":"2 "},"-",{"v":2,"d":"2 "},{"v":4,"d":"4 "},{"v":5,"d":"5 "},{"v":4,"d":"4 "},{"v":16,"d":"16 "},{"v":19,"d":"19 "},{"v":13,"d":"13 "},{"v":4,"d":"4 "},68.8,68.5,69.2,{"v":57,"d":"57 "},"-","-",{"v":1,"d":"1 "},"-","-",{"v":1,"d":"1 "},"-",{"v":1,"d":"1 "},{"v":2,"d":"2 "},{"v":2,"d":"2 "},{"v":4,"d":"4 "},{"v":12,"d":"12 "},{"v":19,"d":"19 "},{"v":11,"d":"11 "},{"v":4,"d":"4 "},73.8,74.1,73.4,{"v":46,"d":"46 "},"-","-",{"v":1,"d":"1 "},"-","-",{"v":1,"d":"1 "},"-",{"v":1,"d":"1 "},{"v":1,"d":"1 "},{"v":2,"d":"2 "},{"v":2,"d":"2 "},{"v":10,"d":"10 "},{"v":17,"d":"17 "},{"v":9,"d":"9 "},{"v":2,"d":"2 "},73.4,73.8,72.7,{"v":41,"d":"41 "},"-","-","-",{"v":1,"d":"1 "},"-","-","-","-",{"v":2,"d":"2 "},{"v":3,"d":"3 "},{"v":1,"d":"1 "},{"v":9,"d":"9 "},{"v":13,"d":"13 "},{"v":8,"d":"8 "},{"v":4,"d":"4 "},{"v":17,"d":"17 "},"-","-","-","-","-","-",{"v":1,"d":"1 "},{"v":1,"d":"1 "},"-",{"v":3,"d":"3 "},{"v":5,"d":"5 "},{"v":5,"d":"5 "},{"v":2,"d":"2 "},{"$nulls":7},{"v":89,"d":"89 "},{"v":70,"d":"70 "},{"v":46,"d":"46 "},{"v":22,"d":"22 "},{"v":2,"d":"2 "},{"v":12,"d":"12 "},"-",{"v":7,"d":"7 "},{"v":31,"d":"31 "},{"v":21,"d":"21 "},"-",{"v":6,"d":"6 "},"-",{"v":3,"d":"3 "},{"v":1,"d":"1 "},"-","-","-","-","-","-","-","-","-",{"v":41,"d":"41 "},{"v":2535,"d":"2,535 "},{"v":1896,"d":"1,896 "},{"v":637,"d":"637 "},{"v":2,"d":"2 "},46,42,31,9,2,1,"-",3,43,28,15,13,"-",11,"-",4]
["山梨県","北杜市","増富村","方伝","-","-","-","-","-","-","-","-","-","-","-","-","-","-","-","-","-","-","-","-","-","-","-","-","…","…","…","-","-","-","-","-","-","-","-","-","-","-","-","-","-","-","-","…","…","…","-","-","-","-","-","-","-","-","-","-","-","-","-","-","-","-","…","…","…","-","-","-","-","-","-","-","-","-","-","-","-","-","-","-","-","-","-","-","-","-","-","-","-","-","-","-","-","-","-",{"$nulls":7},"-","-","-","-","-","-","-","-","-","-","-","-","-","-","-","-","-","-","-","-","-","-","-","-","-","-","-","-","-","-","-","-","-","-","-","-","-","-","-","-","-","-","-","-","-"]
["山梨県","北杜市","安都那村","海道下",{"v":8,"d":"8 "},{"v":6,"d":"6 "},{"v":1,"d":"1 "},"-","-","-",{"v":5,"d":"5 "},{"v":2,"d":"2 "},{"v":15,"d":"15 "},"-",{"v":1,"d":"1 "},{"v":1,"d":"1 "},"-","-","-",{"v":2,"d":"2 "},{"v":2,"d":"2 "},"-",{"v":1,"d":"1 "},{"v":4,"d":"4 "},{"v":1,"d":"1 "},{"v":1,"d":"1 "},{"v":2,"d":"2 "},"-",59.3,{"v":63,"d":"63.0"},56.9,{"v":8,"d":"8 "},"-","-","-","-","-","-","-","-","-",{"v":1,"d":"1 "},{"v":3,"d":"3 "},{"v":1,"d":"1 "},{"v":1,"d":"1 "},{"v":2,"d":"2 "},"-",71.9,{"v":70,"d":"70.0"},{"v":73,"d":"73.0"},{"v":6,"d":"6 "},"-","-","-","-","-","-","-","-","-",{"v":1,"d":"1 "},{"v":2,"d":"2 "},"-",{"v":1,"d":"1 "},{"v":2,"d":"2 "},"-",{"v":73,"d":"73.0"},{"v":70,"d":"70.0"},{"v":76,"d":"76.0"},{"v":6,"d":"6 "},"-","-","-","-","-","-",{"v":1,"d":"1 "},{"v":1,"d":"1 "},"-","-",{"v":3,"d":"3 "},"-",{"v":1,"d":"1 "},"-","-",{"v":2,"d":"2 "},"-","-","-","-","-",{"v":1,"d":"1 "},"-","-",{"v":1,"d":"1 "},"-","-","-","-",{"$nulls":7},{"v":21,"d":"21 "},{"v":17,"d":"17 "},{"v":6,"d":"6 "},{"v":10,"d":"10 "},{"v":1,"d":"1 "},{"v":2,"d":"2 "},{"v":2,"d":"2 "},"-",{"v":4,"d":"4 "},{"v":4,"d":"4 "},"-","-","-","-","-","-","-","-","-","-","-","-","-","-",{"v":6,"d":"6 "},{"v":361,"d":"361 "},{"v":223,"d":"223 "},{"v":138,"d":"138 "},"-",8,8,3,4,1,"-","-","-",13,9,3,6,"-",2,2,"-"]
["山梨県","北杜市","安都那村","東田",{"v":7,"d":"7 "},{"v":5,"d":"5 "},{"v":2,"d":"2 "},{"v":1,"d":"1 "},{"v":1,"d":"1 "},{"v":1,"d":"1 "},{"v":2,"d":"2 "},{"v":2,"d":"2 "},{"v":14,"d":"14 "},"-",{"v":3,"d":"3 "},{"v":1,"d":"1 "},"-","-","-","-",{"v":3,"d":"3 "},{"v":3,"d":"3 "},{"v":2,"d":"2 "},"-","-",{"v":2,"d":"2 "},"-","-",50.4,44.8,60.4,{"v":6,"d":"6 "},"-","-","-","-","-","-","-",{"v":1,"d":"1 "},{"v":1,"d":"1 "},{"v":2,"d":"2 "},"-","-",{"v":2,"d":"2 "},"-","-",64.8,63.3,{"v":68,"d":"68.0"},{"v":4,"d":"4 "},"-","-","-","-","-","-","-","-",{"v":1,"d":"1 "},{"v":2,"d":"2 "},"-","-",{"v":1,"d":"1 "},"-","-",64.5,66.7,{"v":58,"d":"58.0"},{"v":5,"d":"5 "},"-","-","-","-","-","-","-",{"v":2,"d":"2 "},"-",{"v":2,"d":"2 "},"-","-",{"v":1,"d":"1 "},"-","-",{"v":5,"d":"5 "},"-","-","-","-","-",{"v":2,"d":"2 "},"-",{"v":2,"d":"2 "},"-","-",{"v":1,"d":"1 "},"-","-",{"$nulls":7},{"v":17,"d":"17 "},{"v":12,"d":"12 "},{"v":4,"d":"4 "},{"v":8,"d":"8 "},"-",{"v":1,"d":"1 "},{"v":3,"d":"3 "},{"v":1,"d":"1 "},{"v":5,"d":"5 "},{"v":4,"d":"4 "},"-","-","-","-","-",{"v":1,"d":"1 "},"-","-","-","-","-","-","-","-",{"v":5,"d":"5 "},{"v":767,"d":"767 "},{"v":666,"d":"666 "},{"v":81,"d":"81 "},{"v":20,"d":"20 "},10,8,3,5,"-","-",2,"-",7,4,1,3,"-",1,1,1]
["山梨県","北杜市","安都那村","紺屋",{"v":10,"d":"10 "},{"v":4,"d":"4 "},{"v":2,"d":"2 "},{"v":2,"d":"2 "},"-","-",{"v":2,"d":"2 "},{"v":6,"d":"6 "},{"v":10,"d":"10 "},"-","-","-","-","-","-","-","-",{"v":3,"d":"3 "},{"v":2,"d":"2 "},{"v":2,"d":"2 "},{"v":1,"d":"1 "},"-",{"v":1,"d":"1 "},{"v":1,"d":"1 "},66.6,{"v":68,"d":"68.0"},65.2,{"v":7,"d":"7 "},"-","-","-","-","-","-","-","-","-",{"v":2,"d":"2 "},{"v":2,"d":"2 "},{"v":1,"d":"1 "},"-",{"v":1,"d":"1 "},{"v":1,"d":"1 "},70.9,70.8,{"v":71,"d":"71.0"},{"v":5,"d":"5 "},"-","-","-","-","-","-","-","-","-",{"v":1,"d":"1 "},{"v":2,"d":"2 "},{"v":1,"d":"1 "},"-",{"v":1,"d":"1 "},"-",69.6,70.8,{"v":65,"d":"65.0"},{"v":4,"d":"4 "},"-","-","-","-","-","-","-","-","-",{"v":1,"d":"1 "},{"v":1,"d":"1 "},{"v":1,"d":"1 "},"-",{"v":1,"d":"1 "},"-",{"v":4,"d":"4 "},"-","-","-","-","-","-","-",{"v":1,"d":"1 "},{"v":1,"d":"1 "},{"v":1,"d":"1 "},"-",{"v":1,"d":"1 "},"-",{"$nulls":7},{"v":13,"d":"13 "},{"v":9,"d":"9 "},{"v":5,"d":"5 "},{"v":4,"d":"4 "},"-",{"v":2,"d":"2 "},{"v":1,"d":"1 "},{"v":1,"d":"1 "},{"v":4,"d":"4 "},{"v":4,"d":"4 "},"-","-","-","-","-","-","-","-","-","-","-","-","-","-",{"v":4,"d":"4 "},{"v":255,"d":"255 "},{"v":217,"d":"217 "},{"v":38,"d":"38 "},"-",7,6,4,2,"-","-",1,"-",6,3,1,2,"-",2,"-",1]
["山梨県","北杜市","熱見村","下蔵原",{"v":29,"d":"29 "},{"v":21,"d":"21 "},{"v":4,"d":"4 "},{"v":2,"d":"2 "},{"v":5,"d":"5 "},{"v":3,"d":"3 "},{"v":12,"d":"12 "},{"v":8,"d":"8 "},{"v":54,"d":"54 "},"-","-","-",{"v":1,"d":"1 "},{"v":2,"d":"2 "},{"v":3,"d":"3 "},{"v":4,"d":"4 "},{"v":6,"d":"6 "},{"v":4,"d":"4 "},{"v":5,"d":"5 "},{"v":7,"d":"7 "},{"v":6,"d":"6 "},{"v":10,"d":"10 "},{"v":6,"d":"6 "},"-",63.5,61.7,65.6,{"v":35,"d":"35 "},"-","-","-","-","-","-",{"v":1,"d":"1 "},{"v":2,"d":"2 "},{"v":2,"d":"2 "},{"v":4,"d":"4 "},{"v":7,"d":"7 "},{"v":3,"d":"3 "},{"v":10,"d":"10 "},{"v":6,"d":"6 "},"-",70.1,70.4,69.8,{"v":29,"d":"29 "},"-","-","-","-","-","-",{"v":1,"d":"1 "},{"v":2,"d":"2 "},{"v":2,"d":"2 "},{"v":3,"d":"3 "},{"v":6,"d":"6 "},{"v":3,"d":"3 "},{"v":7,"d":"7 "},{"v":5,"d":"5 "},"-",69.4,70.4,67.8,{"v":21,"d":"21 "},"-","-","-","-","-","-","-",{"v":3,"d":"3 "},{"v":2,"d":"2 "},{"v":1,"d":"1 "},{"v":4,"d":"4 "},{"v":3,"d":"3 "},{"v":6,"d":"6 "},{"v":2,"d":"2 "},"-",{"v":11,"d":"11 "},"-","-","-","-","-","-",{"v":1,"d":"1 "},"-",{"v":3,"d":"3 "},{"v":2,"d":"2 "},{"v":4,"d":"4 "},{"v":1,"d":"1 "},"-",{"$nulls":7},{"v":63,"d":"63 "},{"v":46,"d":"46 "},{"v":29,"d":"29 "},{"v":15,"d":"15 "},{"v":2,"d":"2 "},{"v":11,"d":"11 "},{"v":5,"d":"5 "},{"v":1,"d":"1 "},{"v":20,"d":"20 "},{"v":17,"d":"17 "},"-","-","-",{"v":2,"d":"2 "},{"v":1,"d":"1 "},"-","-","-","-","-","-","-","-","-",{"v":21,"d":"21 "},{"v":1523,"d":"1,523 "},{"v":1101,"d":"1,101 "},{"v":422,"d":"422 "},"-",33,30,18,10,2,"-",3,"-",30,16,11,5,"-",11,2,1]
["山梨県","北杜市","甲村","志合",{"v":23,"d":"23 "},{"v":15,"d":"15 "},{"v":1,"d":"1 "},"-",{"v":4,"d":"4 "},{"v":1,"d":"1 "},{"v":10,"d":"10 "},{"v":8,"d":"8 "},{"v":45,"d":"45 "},{"v":1,"d":"1 "},{"v":2,"d":"2 "},{"v":1,"d":"1 "},"-","-",{"v":1,"d":"1 "},{"v":5,"d":"5 "},{"v":5,"d":"5 "},{"v":3,"d":"3 "},{"v":5,"d":"5 "},{"v":2,"d":"2 "},{"v":4,"d":"4 "},{"v":4,"d":"4 "},{"v":8,"d":"8 "},{"v":4,"d":"4 "},63.2,63.8,62.8,{"v":26,"d":"26 "},"-","-","-","-","-","-","-",{"v":1,"d":"1 "},"-",{"v":3,"d":"3 "},{"v":2,"d":"2 "},{"v":4,"d":"4 "},{"v":4,"d":"4 "},{"v":8,"d":"8 "},{"v":4,"d":"4 "},75.9,79.5,73.3,{"v":18,"d":"18 "},"-","-","-","-","-","-","-",{"v":1,"d":"1 "},"-",{"v":2,"d":"2 "},{"v":2,"d":"2 "},{"v":2,"d":"2 "},{"v":4,"d":"4 "},{"v":4,"d":"4 "},{"v":3,"d":"3 "},75.1,{"v":79,"d":"79.0"},70.3,{"v":15,"d":"15 "},"-","-","-","-","-","-",{"v":2,"d":"2 "},"-",{"v":1,"d":"1 "},{"v":2,"d":"2 "},{"v":2,"d":"2 "},"-",{"v":2,"d":"2 "},{"v":3,"d":"3 "},{"v":3,"d":"3 "},{"v":7,"d":"7 "},"-","-","-","-",{"v":1,"d":"1 "},"-",{"v":1,"d":"1 "},{"v":1,"d":"1 "},{"v":1,"d":"1 "},"-","-",{"v":2,"d":"2 "},{"v":1,"d":"1 "},{"$nulls":7},{"v":53,"d":"53 "},{"v":38,"d":"38 "},{"v":18,"d":"18 "},{"v":19,"d":"19 "},{"v":1,"d":"1 "},{"v":6,"d":"6 "},{"v":5,"d":"5 "},{"v":4,"d":"4 "},{"v":13,"d":"13 "},{"v":13,"d":"13 "},"-","-","-","-","-","-","-","-","-","-","-","-","-","-",{"v":15,"d":"15 "},{"v":1246,"d":"1,246 "},{"v":862,"d":"862 "},{"v":378,"d":"378 "},{"v":6,"d":"6 "},25,19,10,8,1,1,3,2,28,19,8,11,"-",5,2,2]
["山梨県","北杜市","甲村","山西",{"v":23,"d":"23 "},{"v":15,"d":"15 "},{"v":1,"d":"1 "},{"v":1,"d":"1 "},{"v":5,"d":"5 "},{"v":2,"d":"2 "},{"v":9,"d":"9 "},{"v":8,"d":"8 "},{"v":43,"d":"43 "},"-","-",{"v":3,"d":"3 "},"-",{"v":1,"d":"1 "},{"v":3,"d":"3 "},{"v":4,"d":"4 "},{"v":1,"d":"1 "},{"v":7,"d":"7 "},{"v":3,"d":"3 "},{"v":6,"d":"6 "},{"v":4,"d":"4 "},{"v":5,"d":"5 "},{"v":2,"d":"2 "},{"v":4,"d":"4 "},{"v":62,"d":"62.0"},62.2,61.8,{"v":27,"d":"27 "},"-","-","-","-",{"v":1,"d":"1 "},"-",{"v":2,"d":"2 "},"-",{"v":3,"d":"3 "},{"v":1,"d":"1 "},{"v":5,"d":"5 "},{"v":4,"d":"4 "},{"v":5,"d":"5 "},{"v":2,"d":"2 "},{"v":4,"d":"4 "},69.8,68.9,70.8,{"v":23,"d":"23 "},"-","-","-","-",{"v":1,"d":"1 "},"-",{"v":2,"d":"2 "},"-",{"v":3,"d":"3 "},"-",{"v":5,"d":"5 "},{"v":4,"d":"4 "},{"v":4,"d":"4 "},{"v":1,"d":"1 "},{"v":3,"d":"3 "},68.7,67.9,69.7,{"v":15,"d":"15 "},"-","-","-","-","-",{"v":1,"d":"1 "},{"v":1,"d":"1 "},"-",{"v":3,"d":"3 "},{"v":1,"d":"1 "},{"v":2,"d":"2 "},{"v":2,"d":"2 "},{"v":3,"d":"3 "},{"v":1,"d":"1 "},{"v":1,"d":"1 "},{"v":7,"d":"7 "},"-","-","-","-","-","-",{"v":1,"d":"1 "},{"v":1,"d":"1 "},{"v":1,"d":"1 "},{"v":1,"d":"1 "},{"v":2,"d":"2 "},{"v":1,"d":"1 "},"-",{"$nulls":7},{"v":46,"d":"46 "},{"v":41,"d":"41 "},{"v":23,"d":"23 "},{"v":17,"d":"17 "},{"v":1,"d":"1 "},{"v":2,"d":"2 "},{"v":1,"d":"1 "},{"v":2,"d":"2 "},{"v":14,"d":"14 "},{"v":10,"d":"10 "},"-","-","-",{"v":1,"d":"1 "},{"v":1,"d":"1 "},{"v":2,"d":"2 "},"-","-","-","-","-","-","-","-",{"v":15,"d":"15 "},{"v":864,"d":"864 "},{"v":550,"d":"550 "},{"v":284,"d":"284 "},{"v":30,"d":"30 "},21,20,13,7,"-","-","-",1,25,21,10,10,1,2,1,1]
["山梨県","北杜市","安都玉村","八ツ牛",{"v":10,"d":"10 "},{"v":6,"d":"6 "},"-","-",{"v":1,"d":"1 "},"-",{"v":5,"d":"5 "},{"v":4,"d":"4 "},{"v":16,"d":"16 "},"-","-","-","-",{"v":2,"d":"2 "},{"v":2,"d":"2 "},{"v":1,"d":"1 "},"-","-",{"v":1,"d":"1 "},{"v":4,"d":"4 "},{"v":2,"d":"2 "},{"v":3,"d":"3 "},{"v":1,"d":"1 "},"-",{"v":62,"d":"62.0"},56.8,70.7,{"v":8,"d":"8 "},"-","-","-","-","-","-","-","-","-","-",{"v":2,"d":"2 "},{"v":2,"d":"2 "},{"v":3,"d":"3 "},{"v":1,"d":"1 "},"-",74.6,74.8,74.5,{"v":7,"d":"7 "},"-","-","-","-","-","-","-","-","-","-",{"v":2,"d":"2 "},{"v":1,"d":"1 "},{"v":3,"d":"3 "},{"v":1,"d":"1 "},"-",74.7,74.8,74.7,{"v":6,"d":"6 "},"-","-","-","-","-","-",{"v":1,"d":"1 "},"-","-","-",{"v":2,"d":"2 "},{"v":1,"d":"1 "},{"v":1,"d":"1 "},{"v":1,"d":"1 "},"-",{"v":3,"d":"3 "},"-","-","-","-","-","-","-","-",{"v":2,"d":"2 "},"-","-",{"v":1,"d":"1 "},"-",{"$nulls":7},{"v":16,"d":"16 "},{"v":15,"d":"15 "},{"v":7,"d":"7 "},{"v":6,"d":"6 "},{"v":2,"d":"2 "},{"v":1,"d":"1 "},"-","-",{"v":6,"d":"6 "},{"v":5,"d":"5 "},"-","-","-",{"v":1,"d":"1 "},"-","-","-","-","-","-","-","-","-","-",{"v":6,"d":"6 "},{"v":389,"d":"389 "},{"v":310,"d":"310 "},{"v":79,"d":"79 "},"-",10,10,4,5,1,"-","-","-",6,5,3,1,1,1,"-","-"]
["山梨県","北杜市","安都玉村","原長沢上",{"v":27,"d":"27 "},{"v":10,"d":"10 "},{"v":1,"d":"1 "},"-",{"v":3,"d":"3 "},"-",{"v":6,"d":"6 "},{"v":17,"d":"17 "},{"v":31,"d":"31 "},{"v":2,"d":"2 "},"-",{"v":1,"d":"1 "},"-",{"v":1,"d":"1 "},{"v":2,"d":"2 "},{"v":2,"d":"2 "},{"v":4,"d":"4 "},{"v":4,"d":"4 "},{"v":1,"d":"1 "},"-",{"v":1,"d":"1 "},{"v":7,"d":"7 "},{"v":4,"d":"4 "},{"v":2,"d":"2 "},60.8,56.6,65.3,{"v":17,"d":"17 "},"-","-","-","-",{"v":1,"d":"1 "},"-",{"v":1,"d":"1 "},{"v":1,"d":"1 "},"-","-","-",{"v":1,"d":"1 "},{"v":7,"d":"7 "},{"v":4,"d":"4 "},{"v":2,"d":"2 "},73.5,79.5,70.3,{"v":13,"d":"13 "},"-","-","-","-","-","-","-","-","-","-","-",{"v":1,"d":"1 "},{"v":6,"d":"6 "},{"v":4,"d":"4 "},{"v":2,"d":"2 "},79.8,79.5,{"v":80,"d":"80.0"},{"v":10,"d":"10 "},"-","-","-","-","-",{"v":1,"d":"1 "},"-",{"v":2,"d":"2 "},{"v":2,"d":"2 "},{"v":1,"d":"1 "},"-",{"v":1,"d":"1 "},{"v":2,"d":"2 "},{"v":1,"d":"1 "},"-",{"v":7,"d":"7 "},"-","-","-","-","-",{"v":1,"d":"1 "},{"v":2,"d":"2 "},{"v":1,"d":"1 "},"-",{"v":1,"d":"1 "},{"v":1,"d":"1 "},{"v":1,"d":"1 "},"-",{"$nulls":7},{"v":34,"d":"34 "},{"v":25,"d":"25 "},{"v":13,"d":"13 "},{"v":12,"d":"12 "},"-",{"v":4,"d":"4 "},{"v":4,"d":"4 "},{"v":1,"d":"1 "},{"v":10,"d":"10 "},{"v":10,"d":"10 "},"-","-","-","-","-","-","-","-","-","-","-","-","-","-",{"v":10,"d":"10 "},{"v":907,"d":"907 "},{"v":763,"d":"763 "},{"v":144,"d":"144 "},"-",16,14,6,8,"-","-",2,"-",18,11,7,4,"-",4,2,1]
["山梨県","北杜市","安都玉村","玉山",{"v":3,"d":"3 "},{"v":3,"d":"3 "},"x","x","x","x","x","-","x","x","x","x","x","x","x","x","x","x","x","x","x","x","x","x",56.6,{"v":65,"d":"65.0"},{"v":44,"d":"44.0"},"x","x","x","x","x","x","x","x","x","x","x","x","x","x","x","x",{"v":48,"d":"48.0"},58.5,{"v":27,"d":"27.0"},"x","x","x","x","x","x","x","x","x","x","x","x","x","x","x","x",{"v":48,"d":"48.0"},58.5,{"v":27,"d":"27.0"},{"v":3,"d":"3 "},"-","-","-","-","-","-","-","-",{"v":2,"d":"2 "},"-","-","-",{"v":1,"d":"1 "},"-","-","-","-","-","-","-","-","-","-","-","-","-","-","-","-",{"$nulls":7},{"v":7,"d":"7 "},{"v":6,"d":"6 "},{"v":3,"d":"3 "},{"v":2,"d":"2 "},{"v":1,"d":"1 "},{"v":1,"d":"1 "},"-","-",{"v":3,"d":"3 "},"-","-",{"v":1,"d":"1 "},"-","-","-","-","-","-",{"v":1,"d":"1 "},"-","-",{"v":1,"d":"1 "},"-","-",{"v":3,"d":"3 "},{"v":438,"d":"438 "},{"v":28,"d":"28 "},{"v":410,"d":"410 "},"-",3,3,2,1,"-","-","-","-",4,3,1,1,1,1,"-","-"]
["山梨県","北杜市","清里村","西村",{"v":17,"d":"17 "},{"v":12,"d":"12 "},{"v":1,"d":"1 "},{"v":1,"d":"1 "},{"v":4,"d":"4 "},{"v":2,"d":"2 "},{"v":7,"d":"7 "},{"v":5,"d":"5 "},{"v":39,"d":"39 "},{"v":2,"d":"2 "},{"v":1,"d":"1 "},{"v":2,"d":"2 "},{"v":3,"d":"3 "},{"v":2,"d":"2 "},{"v":2,"d":"2 "},{"v":4,"d":"4 "},{"v":2,"d":"2 "},{"v":4,"d":"4 "},{"v":4,"d":"4 "},{"v":2,"d":"2 "},{"v":7,"d":"7 "},{"v":2,"d":"2 "},"-",{"v":2,"d":"2 "},54.1,50.3,58.4,{"v":20,"d":"20 "},"-","-",{"v":1,"d":"1 "},"-","-","-",{"v":2,"d":"2 "},"-",{"v":1,"d":"1 "},{"v":3,"d":"3 "},{"v":2,"d":"2 "},{"v":7,"d":"7 "},{"v":2,"d":"2 "},"-",{"v":2,"d":"2 "},67.2,67.4,{"v":67,"d":"67.0"},{"v":14,"d":"14 "},"-","-","-","-","-","-",{"v":1,"d":"1 "},"-",{"v":1,"d":"1 "},{"v":2,"d":"2 "},{"v":2,"d":"2 "},{"v":6,"d":"6 "},{"v":1,"d":"1 "},"-",{"v":1,"d":"1 "},69.1,67.4,71.3,{"v":12,"d":"12 "},"-","-","-","-",{"v":1,"d":"1 "},"-",{"v":1,"d":"1 "},{"v":1,"d":"1 "},{"v":1,"d":"1 "},{"v":1,"d":"1 "},{"v":1,"d":"1 "},{"v":3,"d":"3 "},{"v":1,"d":"1 "},{"v":1,"d":"1 "},{"v":1,"d":"1 "},{"v":10,"d":"10 "},"-","-","-","-","-",{"v":1,"d":"1 "},{"v":1,"d":"1 "},{"v":1,"d":"1 "},{"v":1,"d":"1 "},{"v":3,"d":"3 "},{"v":1,"d":"1 "},{"v":1,"d":"1 "},{"v":1,"d":"1 "},{"$nulls":7},{"v":43,"d":"43 "},{"v":33,"d":"33 "},{"v":14,"d":"14 "},{"v":18,"d":"18 "},{"v":1,"d":"1 "},{"v":6,"d":"6 "},{"v":2,"d":"2 "},{"v":2,"d":"2 "},{"v":12,"d":"12 "},{"v":3,"d":"3 "},"-",{"v":3,"d":"3 "},"-",{"v":4,"d":"4 "},{"v":2,"d":"2 "},"-","-","-","-","-","-","-","-","-",{"v":12,"d":"12 "},{"v":1179,"d":"1,179 "},{"v":935,"d":"935 "},{"v":244,"d":"244 "},"-",23,21,8,12,1,"-",1,1,20,12,6,6,"-",6,1,1]
["山梨県","北杜市","日野春村","塚川上",{"v":24,"d":"24 "},{"v":18,"d":"18 "},{"v":2,"d":"2 "},{"v":2,"d":"2 "},{"v":5,"d":"5 "},{"v":1,"d":"1 "},{"v":11,"d":"11 "},{"v":6,"d":"6 "},{"v":40,"d":"40 "},"-","-","-",{"v":1,"d":"1 "},"-",{"v":1,"d":"1 "},{"v":3,"d":"3 "},{"v":2,"d":"2 "},{"v":7,"d":"7 "},{"v":9,"d":"9 "},{"v":1,"d":"1 "},{"v":4,"d":"4 "},{"v":4,"d":"4 "},{"v":6,"d":"6 "},{"v":2,"d":"2 "},64.6,65.2,63.9,{"v":24,"d":"24 "},"-","-","-",{"v":1,"d":"1 "},"-",{"v":1,"d":"1 "},{"v":1,"d":"1 "},"-",{"v":3,"d":"3 "},{"v":3,"d":"3 "},{"v":1,"d":"1 "},{"v":3,"d":"3 "},{"v":4,"d":"4 "},{"v":5,"d":"5 "},{"v":2,"d":"2 "},68.6,{"v":70,"d":"70.0"},67.4,{"v":19,"d":"19 "},"-","-","-","-","-",{"v":1,"d":"1 "},"-","-",{"v":3,"d":"3 "},{"v":2,"d":"2 "},{"v":1,"d":"1 "},{"v":2,"d":"2 "},{"v":4,"d":"4 "},{"v":4,"d":"4 "},{"v":2,"d":"2 "},71.2,{"v":70,"d":"70.0"},72.9,{"v":18,"d":"18 "},"-","-","-","-","-",{"v":1,"d":"1 "},"-",{"v":2,"d":"2 "},{"v":2,"d":"2 "},{"v":4,"d":"4 "},"-",{"v":3,"d":"3 "},{"v":2,"d":"2 "},{"v":3,"d":"3 "},{"v":1,"d":"1 "},{"v":7,"d":"7 "},"-","-","-","-","-","-","-",{"v":1,"d":"1 "},"-",{"v":1,"d":"1 "},{"v":2,"d":"2 "},{"v":2,"d":"2 "},{"v":1,"d":"1 "},{"$nulls":7},{"v":51,"d":"51 "},{"v":37,"d":"37 "},{"v":19,"d":"19 "},{"v":17,"d":"17 "},{"v":1,"d":"1 "},{"v":7,"d":"7 "},{"v":4,"d":"4 "},{"v":3,"d":"3 "},{"v":16,"d":"16 "},{"v":11,"d":"11 "},{"v":1,"d":"1 "},"-","-",{"v":2,"d":"2 "},"-",{"v":2,"d":"2 "},"-","-","-","-","-","-","-","-",{"v":18,"d":"18 "},{"v":1444,"d":"1,444 "},{"v":806,"d":"806 "},{"v":574,"d":"574 "},{"v":64,"d":"64 "},30,24,11,12,1,"-",4,2,21,13,8,5,"-",7,"-",1]
["山梨県","北杜市","日野春村","富岡",{"v":30,"d":"30 "},{"v":5,"d":"5 "},{"v":1,"d":"1 "},"-","-","-",{"v":4,"d":"4 "},{"v":25,"d":"25 "},{"v":11,"d":"11 "},"-","-",{"v":1,"d":"1 "},"-","-",{"v":1,"d":"1 "},"-","-",{"v":2,"d":"2 "},{"v":1,"d":"1 "},{"v":2,"d":"2 "},{"v":1,"d":"1 "},{"v":2,"d":"2 "},"-",{"v":1,"d":"1 "},62.1,57.9,69.5,{"v":7,"d":"7 "},"-","-","-","-","-","-","-","-","-",{"v":1,"d":"1 "},{"v":2,"d":"2 "},{"v":1,"d":"1 "},{"v":2,"d":"2 "},"-",{"v":1,"d":"1 "},71.4,69.8,73.7,{"v":6,"d":"6 "},"-","-","-","-","-","-","-","-","-","-",{"v":2,"d":"2 "},{"v":1,"d":"1 "},{"v":2,"d":"2 "},"-",{"v":1,"d":"1 "},73.3,69.8,80.5,{"v":5,"d":"5 "},"-","-","-","-","-","-","-","-",{"v":1,"d":"1 "},"-",{"v":2,"d":"2 "},{"v":1,"d":"1 "},{"v":1,"d":"1 "},"-","-",{"v":3,"d":"3 "},"-","-","-","-","-","-",{"v":1,"d":"1 "},"-",{"v":2,"d":"2 "},"-","-","-","-",{"$nulls":7},{"v":12,"d":"12 "},{"v":10,"d":"10 "},{"v":6,"d":"6 "},{"v":4,"d":"4 "},"-",{"v":2,"d":"2 "},"-","-",{"v":3,"d":"3 "},{"v":1,"d":"1 "},"-","-","-",{"v":2,"d":"2 "},"-","-","-","-","-","-","-","-","-","-",{"v":5,"d":"5 "},{"v":470,"d":"470 "},{"v":282,"d":"282 "},{"v":185,"d":"185 "},{"v":3,"d":"3 "},7,7,4,3,"-","-","-","-",5,3,2,1,"-",2,"-","-"]
["山梨県","北杜市","清春村２－１","柿平",{"v":23,"d":"23 "},{"v":10,"d":"10 "},{"v":2,"d":"2 "},{"v":2,"d":"2 "},{"v":3,"d":"3 "},{"v":2,"d":"2 "},{"v":5,"d":"5 "},{"v":13,"d":"13 "},{"v":27,"d":"27 "},"-",{"v":3,"d":"3 "},"-","-","-",{"v":1,"d":"1 "},"-","-",{"v":5,"d":"5 "},{"v":3,"d":"3 "},{"v":4,"d":"4 "},{"v":3,"d":"3 "},{"v":1,"d":"1 "},{"v":3,"d":"3 "},{"v":4,"d":"4 "},{"v":64,"d":"64.0"},65.1,63.2,{"v":18,"d":"18 "},"-",{"v":2,"d":"2 "},"-","-","-","-","-","-",{"v":1,"d":"1 "},{"v":2,"d":"2 "},{"v":2,"d":"2 "},{"v":3,"d":"3 "},{"v":1,"d":"1 "},{"v":3,"d":"3 "},{"v":4,"d":"4 "},{"v":69,"d":"69.0"},69.1,68.9,{"v":13,"d":"13 "},"-","-","-","-","-","-","-","-",{"v":1,"d":"1 "},{"v":2,"d":"2 "},{"v":1,"d":"1 "},{"v":3,"d":"3 "},{"v":1,"d":"1 "},{"v":3,"d":"3 "},{"v":2,"d":"2 "},73.8,75.9,71.3,{"v":10,"d":"10 "},"-","-","-","-","-","-","-","-",{"v":1,"d":"1 "},{"v":2,"d":"2 "},{"v":3,"d":"3 "},{"v":1,"d":"1 "},{"v":1,"d":"1 "},{"v":2,"d":"2 "},"-",{"v":5,"d":"5 "},"-","-","-","-","-","-",{"v":1,"d":"1 "},{"v":1,"d":"1 "},{"v":1,"d":"1 "},"-","-",{"v":2,"d":"2 "},"-",{"$nulls":7},{"v":27,"d":"27 "},{"v":21,"d":"21 "},{"v":13,"d":"13 "},{"v":6,"d":"6 "},{"v":2,"d":"2 "},{"v":1,"d":"1 "},{"v":2,"d":"2 "},{"v":3,"d":"3 "},{"v":9,"d":"9 "},{"v":7,"d":"7 "},"-","-","-",{"v":1,"d":"1 "},"-",{"v":1,"d":"1 "},"-","-","-","-","-","-","-","-",{"v":10,"d":"10 "},{"v":664,"d":"664 "},{"v":329,"d":"329 "},{"v":319,"d":"319 "},{"v":16,"d":"16 "},12,11,7,3,1,"-",1,"-",15,10,6,3,1,1,1,3]
["山梨県","北杜市","小泉村","菅沼",{"v":20,"d":"20 "},{"v":16,"d":"16 "},{"v":1,"d":"1 "},{"v":1,"d":"1 "},{"v":4,"d":"4 "},{"v":2,"d":"2 "},{"v":11,"d":"11 "},{"v":4,"d":"4 "},{"v":40,"d":"40 "},"-",{"v":2,"d":"2 "},{"v":2,"d":"2 "},{"v":1,"d":"1 "},"-","-",{"v":2,"d":"2 "},{"v":4,"d":"4 "},{"v":5,"d":"5 "},{"v":3,"d":"3 "},{"v":3,"d":"3 "},{"v":6,"d":"6 "},{"v":6,"d":"6 "},{"v":6,"d":"6 "},"-",62.4,63.5,61.2,{"v":21,"d":"21 "},"-","-","-","-","-","-",{"v":1,"d":"1 "},"-","-",{"v":1,"d":"1 "},{"v":3,"d":"3 "},{"v":4,"d":"4 "},{"v":6,"d":"6 "},{"v":6,"d":"6 "},"-",74.2,77.1,71.1,{"v":16,"d":"16 "},"-","-","-","-","-","-","-","-","-",{"v":1,"d":"1 "},{"v":2,"d":"2 "},{"v":4,"d":"4 "},{"v":3,"d":"3 "},{"v":6,"d":"6 "},"-",75.7,77.1,72.6,{"v":16,"d":"16 "},"-","-","-","-","-","-","-","-",{"v":3,"d":"3 "},{"v":2,"d":"2 "},{"v":1,"d":"1 "},{"v":4,"d":"4 "},{"v":2,"d":"2 "},{"v":4,"d":"4 "},"-",{"v":8,"d":"8 "},"-","-","-","-","-","-","-",{"v":2,"d":"2 "},{"v":1,"d":"1 "},{"v":1,"d":"1 "},{"v":2,"d":"2 "},{"v":2,"d":"2 "},"-",{"$nulls":7},{"v":48,"d":"48 "},{"v":33,"d":"33 "},{"v":16,"d":"16 "},{"v":16,"d":"16 "},{"v":1,"d":"1 "},{"v":9,"d":"9 "},{"v":5,"d":"5 "},{"v":1,"d":"1 "},{"v":16,"d":"16 "},{"v":16,"d":"16 "},"-","-","-","-","-","-","-","-","-","-","-","-","-","-",{"v":16,"d":"16 "},{"v":1719,"d":"1,719 "},{"v":1395,"d":"1,395 "},{"v":309,"d":"309 "},{"v":15,"d":"15 "},26,22,11,10,1,"-",3,1,22,11,5,6,"-",9,2,"-"]
["山梨県","北杜市","秋田村","栗林",{"v":21,"d":"21 "},{"v":11,"d":"11 "},"-","-",{"v":4,"d":"4 "},{"v":1,"d":"1 "},{"v":7,"d":"7 "},{"v":10,"d":"10 "},{"v":25,"d":"25 "},"-","-",{"v":2,"d":"2 "},{"v":4,"d":"4 "},"-","-","-","-",{"v":3,"d":"3 "},{"v":8,"d":"8 "},{"v":3,"d":"3 "},"-","-",{"v":3,"d":"3 "},{"v":2,"d":"2 "},58.5,64.1,54.8,{"v":10,"d":"10 "},"-","-","-","-","-","-","-","-","-",{"v":3,"d":"3 "},{"v":2,"d":"2 "},"-","-",{"v":3,"d":"3 "},{"v":2,"d":"2 "},{"v":74,"d":"74.0"},73.6,74.4,{"v":9,"d":"9 "},"-","-","-","-","-","-","-","-","-",{"v":2,"d":"2 "},{"v":2,"d":"2 "},"-","-",{"v":3,"d":"3 "},{"v":2,"d":"2 "},75.6,73.6,{"v":78,"d":"78.0"},{"v":11,"d":"11 "},"-","-","-","-","-","-","-","-",{"v":1,"d":"1 "},{"v":4,"d":"4 "},{"v":2,"d":"2 "},"-","-",{"v":1,"d":"1 "},{"v":3,"d":"3 "},{"v":9,"d":"9 "},"-","-","-","-","-","-",{"v":1,"d":"1 "},{"v":3,"d":"3 "},{"v":2,"d":"2 "},"-","-",{"v":1,"d":"1 "},{"v":2,"d":"2 "},{"$nulls":7},{"v":29,"d":"29 "},{"v":24,"d":"24 "},{"v":9,"d":"9 "},{"v":13,"d":"13 "},{"v":2,"d":"2 "},{"v":1,"d":"1 "},"-",{"v":4,"d":"4 "},{"v":9,"d":"9 "},{"v":8,"d":"8 "},"-",{"v":1,"d":"1 "},"-","-","-","-","-","-","-","-","-","-","-","-",{"v":11,"d":"11 "},{"v":717,"d":"717 "},{"v":593,"d":"593 "},{"v":113,"d":"113 "},{"v":11,"d":"11 "},11,10,5,4,1,"-","-",1,18,14,4,9,1,1,"-",3]
["山梨県","北杜市","秋田村","南新居",{"v":26,"d":"26 "},{"v":18,"d":"18 "},{"v":1,"d":"1 "},"-",{"v":5,"d":"5 "},"-",{"v":12,"d":"12 "},{"v":8,"d":"8 "},{"v":57,"d":"57 "},{"v":1,"d":"1 "},{"v":5,"d":"5 "},{"v":2,"d":"2 "},"-",{"v":2,"d":"2 "},{"v":4,"d":"4 "},{"v":6,"d":"6 "},{"v":4,"d":"4 "},{"v":4,"d":"4 "},"-",{"v":2,"d":"2 "},{"v":11,"d":"11 "},{"v":10,"d":"10 "},{"v":4,"d":"4 "},{"v":2,"d":"2 "},58.7,{"v":59,"d":"59.0"},58.3,{"v":25,"d":"25 "},"-","-","-","-","-","-","-","-","-","-",{"v":1,"d":"1 "},{"v":10,"d":"10 "},{"v":8,"d":"8 "},{"v":4,"d":"4 "},{"v":2,"d":"2 "},76.3,76.8,75.8,{"v":19,"d":"19 "},"-","-","-","-","-","-","-","-","-","-",{"v":1,"d":"1 "},{"v":8,"d":"8 "},{"v":6,"d":"6 "},{"v":3,"d":"3 "},{"v":1,"d":"1 "},75.8,76.3,{"v":75,"d":"75.0"},{"v":18,"d":"18 "},"-","-","-","-","-","-",{"v":2,"d":"2 "},{"v":2,"d":"2 "},{"v":1,"d":"1 "},"-",{"v":1,"d":"1 "},{"v":6,"d":"6 "},{"v":3,"d":"3 "},{"v":2,"d":"2 "},{"v":1,"d":"1 "},{"v":14,"d":"14 "},"-","-","-","-",{"v":1,"d":"1 "},{"v":2,"d":"2 "},{"v":1,"d":"1 "},"-",{"v":1,"d":"1 "},{"v":6,"d":"6 "},{"v":2,"d":"2 "},{"v":1,"d":"1 "},"-",{"$nulls":7},{"v":69,"d":"69 "},{"v":51,"d":"51 "},{"v":19,"d":"19 "},{"v":29,"d":"29 "},{"v":3,"d":"3 "},{"v":5,"d":"5 "},{"v":7,"d":"7 "},{"v":6,"d":"6 "},{"v":18,"d":"18 "},{"v":18,"d":"18 "},"-","-","-","-","-","-","-","-","-","-","-","-","-","-",{"v":18,"d":"18 "},{"v":1355,"d":"1,355 "},{"v":1106,"d":"1,106 "},{"v":227,"d":"227 "},{"v":22,"d":"22 "},32,29,12,15,2,"-",2,1,37,22,7,14,1,5,5,5]
["山梨県","北杜市","大泉村","宮地",{"v":21,"d":"21 "},{"v":15,"d":"15 "},"-","-",{"v":4,"d":"4 "},{"v":1,"d":"1 "},{"v":11,"d":"11 "},{"v":6,"d":"6 "},{"v":45,"d":"45 "},{"v":2,"d":"2 "},"-",{"v":2,"d":"2 "},{"v":1,"d":"1 "},{"v":4,"d":"4 "},{"v":3,"d":"3 "},{"v":3,"d":"3 "},{"v":4,"d":"4 "},{"v":3,"d":"3 "},{"v":3,"d":"3 "},{"v":7,"d":"7 "},{"v":5,"d":"5 "},{"v":3,"d":"3 "},{"v":5,"d":"5 "},"-",57.2,59.3,55.4,{"v":21,"d":"21 "},"-","-","-","-","-","-","-","-",{"v":1,"d":"1 "},"-",{"v":7,"d":"7 "},{"v":5,"d":"5 "},{"v":3,"d":"3 "},{"v":5,"d":"5 "},"-",72.8,72.8,72.8,{"v":18,"d":"18 "},"-","-","-","-","-","-","-","-","-","-",{"v":6,"d":"6 "},{"v":5,"d":"5 "},{"v":3,"d":"3 "},{"v":4,"d":"4 "},"-",73.6,72.8,74.6,{"v":15,"d":"15 "},"-","-","-","-","-","-",{"v":1,"d":"1 "},"-",{"v":1,"d":"1 "},{"v":2,"d":"2 "},{"v":3,"d":"3 "},{"v":4,"d":"4 "},{"v":2,"d":"2 "},{"v":2,"d":"2 "},"-",{"v":10,"d":"10 "},"-","-","-","-","-","-",{"v":1,"d":"1 "},"-",{"v":2,"d":"2 "},{"v":4,"d":"4 "},{"v":1,"d":"1 "},{"v":2,"d":"2 "},"-",{"$nulls":7},{"v":47,"d":"47 "},{"v":38,"d":"38 "},{"v":18,"d":"18 "},{"v":14,"d":"14 "},{"v":6,"d":"6 "},{"v":5,"d":"5 "},{"v":3,"d":"3 "},{"v":1,"d":"1 "},{"v":14,"d":"14 "},{"v":14,"d":"14 "},"-","-","-","-","-","-","-","-","-","-","-","-","-","-",{"v":15,"d":"15 "},{"v":1457,"d":"1,457 "},{"v":1055,"d":"1,055 "},{"v":402,"d":"402 "},"-",22,21,10,8,3,"-",1,"-",25,17,8,6,3,5,2,1]
["山梨県","北杜市","大泉村","油川",{"v":5,"d":"5 "},{"v":1,"d":"1 "},"x","x","x","x","x",{"v":4,"d":"4 "},"x","x","x","x","x","x","x","x","x","x","x","x","x","x","x","x",50.7,47.5,{"v":57,"d":"57.0"},"x","x","x","x","x","x","x","x","x","x","x","x","x","x","x","x",{"v":57,"d":"57.0"},"…",{"v":57,"d":"57.0"},"x","x","x","x","x","x","x","x","x","x","x","x","x","x","x","x",{"v":57,"d":"57.0"},"…",{"v":57,"d":"57.0"},{"v":1,"d":"1 "},"-","-","-","-","-","-","-","-","-",{"v":1,"d":"1 "},"-","-","-","-","-",{"v":1,"d":"1 "},"-","-","-","-","-","-","-",{"v":1,"d":"1 "},"-","-","-","-","-",{"$nulls":7},{"v":4,"d":"4 "},{"v":3,"d":"3 "},{"v":1,"d":"1 "},{"v":2,"d":"2 "},"-","-","-",{"v":1,"d":"1 "},{"v":1,"d":"1 "},"-","-","-","-",{"v":1,"d":"1 "},"-","-","-","-","-","-","-","-","-","-",{"v":1,"d":"1 "},{"v":50,"d":"50 "},"-",{"v":50,"d":"50 "},"-",2,2,"-",2,"-","-","-","-",2,1,1,"-","-","-","-",1]
["山梨県","北杜市","大泉村","大開",{"v":11,"d":"11 "},{"v":4,"d":"4 "},{"v":1,"d":"1 "},{"v":1,"d":"1 "},{"v":2,"d":"2 "},{"v":1,"d":"1 "},{"v":1,"d":"1 "},{"v":7,"d":"7 "},{"v":10,"d":"10 "},"-","-","-",{"v":1,"d":"1 "},{"v":1,"d":"1 "},"-","-","-",{"v":1,"d":"1 "},{"v":4,"d":"4 "},{"v":1,"d":"1 "},{"v":2,"d":"2 "},"-","-","-",59.3,66.8,54.3,{"v":5,"d":"5 "},"-","-","-","-","-","-","-","-",{"v":1,"d":"1 "},{"v":1,"d":"1 "},{"v":1,"d":"1 "},{"v":2,"d":"2 "},"-","-","-",66.6,67.7,{"v":65,"d":"65.0"},{"v":5,"d":"5 "},"-","-","-","-","-","-","-","-",{"v":1,"d":"1 "},{"v":1,"d":"1 "},{"v":1,"d":"1 "},{"v":2,"d":"2 "},"-","-","-",66.6,67.7,{"v":65,"d":"65.0"},{"v":4,"d":"4 "},"-","-","-","-","-","-","-","-","-",{"v":2,"d":"2 "},{"v":1,"d":"1 "},{"v":1,"d":"1 "},"-","-","-",{"v":1,"d":"1 "},"-","-","-","-","-","-","-","-","-",{"v":1,"d":"1 "},"-","-","-",{"$nulls":7},{"v":11,"d":"11 "},{"v":10,"d":"10 "},{"v":5,"d":"5 "},{"v":3,"d":"3 "},{"v":2,"d":"2 "},"-","-",{"v":1,"d":"1 "},{"v":4,"d":"4 "},"-","-",{"v":2,"d":"2 "},"-",{"v":2,"d":"2 "},"-","-","-","-","-","-","-","-","-","-",{"v":4,"d":"4 "},{"v":959,"d":"959 "},{"v":35,"d":"35 "},{"v":924,"d":"924 "},"-",5,4,3,1,"-","-","-",1,6,6,2,2,2,"-","-","-"]
["山梨県","北杜市","鳳来村",null,{"v":168,"d":"168 "},{"v":88,"d":"88 "},{"v":9,"d":"9 "},{"v":9,"d":"9 "},{"v":21,"d":"21 "},{"v":8,"d":"8 "},{"v":58,"d":"58 "},{"v":80,"d":"80 "},{"v":230,"d":"230 "},{"v":9,"d":"9 "},{"v":9,"d":"9 "},{"v":8,"d":"8 "},{"v":7,"d":"7 "},{"v":8,"d":"8 "},{"v":15,"d":"15 "},{"v":15,"d":"15 "},{"v":23,"d":"23 "},{"v":26,"d":"26 "},{"v":15,"d":"15 "},{"v":23,"d":"23 "},{"v":29,"d":"29 "},{"v":18,"d":"18 "},{"v":18,"d":"18 "},{"v":7,"d":"7 "},57.2,55.9,58.6,{"v":116,"d":"116 "},{"v":2,"d":"2 "},"-","-",{"v":1,"d":"1 "},{"v":1,"d":"1 "},{"v":2,"d":"2 "},{"v":3,"d":"3 "},{"v":4,"d":"4 "},{"v":9,"d":"9 "},{"v":5,"d":"5 "},{"v":22,"d":"22 "},{"v":26,"d":"26 "},{"v":16,"d":"16 "},{"v":18,"d":"18 "},{"v":7,"d":"7 "},69.2,69.1,69.3,{"v":88,"d":"88 "},"-","-","-",{"v":1,"d":"1 "},{"v":1,"d":"1 "},{"v":2,"d":"2 "},{"v":2,"d":"2 "},{"v":4,"d":"4 "},{"v":8,"d":"8 "},{"v":5,"d":"5 "},{"v":16,"d":"16 "},{"v":19,"d":"19 "},{"v":13,"d":"13 "},{"v":13,"d":"13 "},{"v":4,"d":"4 "},69.1,{"v":71,"d":"71.0"},66.6,{"v":88,"d":"88 "},"-","-","-","-","-",{"v":3,"d":"3 "},{"v":3,"d":"3 "},{"v":8,"d":"8 "},{"v":13,"d":"13 "},{"v":14,"d":"14 "},{"v":11,"d":"11 "},{"v":16,"d":"16 "},{"v":9,"d":"9 "},{"v":10,"d":"10 "},{"v":1,"d":"1 "},{"v":55,"d":"55 "},"-","-","-",{"v":1,"d":"1 "},{"v":1,"d":"1 "},{"v":4,"d":"4 "},{"v":7,"d":"7 "},{"v":9,"d":"9 "},{"v":8,"d":"8 "},{"v":11,"d":"11 "},{"v":6,"d":"6 "},{"v":7,"d":"7 "},{"v":1,"d":"1 "},{"$nulls":7},{"v":265,"d":"265 "},{"v":194,"d":"194 "},{"v":88,"d":"88 "},{"v":99,"d":"99 "},{"v":7,"d":"7 "},{"v":30,"d":"30 "},{"v":22,"d":"22 "},{"v":19,"d":"19 "},{"v":74,"d":"74 "},{"v":61,"d":"61 "},{"v":1,"d":"1 "},"-","-",{"v":2,"d":"2 "},"-","-",{"v":4,"d":"4 "},{"v":1,"d":"1 "},"-",{"v":3,"d":"3 "},"-",{"v":2,"d":"2 "},"-","-",{"v":88,"d":"88 "},{"v":7027,"d":"7,027 "},{"v":5372,"d":"5,372 "},{"v":1543,"d":"1,543 "},{"v":112,"d":"112 "},128,113,51,56,6,"-",10,5,137,81,37,43,1,30,12,14]
["山梨県","北杜市","鳳来村","荒田",{"v":17,"d":"17 "},{"v":9,"d":"9 "},{"v":1,"d":"1 "},{"v":1,"d":"1 "},{"v":2,"d":"2 "},{"v":1,"d":"1 "},{"v":6,"d":"6 "},{"v":8,"d":"8 "},{"v":25,"d":"25 "},{"v":1,"d":"1 "},"-",{"v":2,"d":"2 "},{"v":1,"d":"1 "},{"v":1,"d":"1 "},{"v":3,"d":"3 "},"-",{"v":1,"d":"1 "},{"v":3,"d":"3 "},{"v":2,"d":"2 "},{"v":5,"d":"5 "},{"v":4,"d":"4 "},{"v":1,"d":"1 "},"-",{"v":1,"d":"1 "},55.8,52.1,60.5,{"v":16,"d":"16 "},"-","-","-",{"v":1,"d":"1 "},{"v":1,"d":"1 "},"-","-","-",{"v":3,"d":"3 "},"-",{"v":5,"d":"5 "},{"v":4,"d":"4 "},{"v":1,"d":"1 "},"-",{"v":1,"d":"1 "},64.1,59.6,67.7,{"v":12,"d":"12 "},"-","-","-",{"v":1,"d":"1 "},{"v":1,"d":"1 "},"-","-","-",{"v":3,"d":"3 "},"-",{"v":2,"d":"2 "},{"v":4,"d":"4 "},{"v":1,"d":"1 "},"-","-",61.8,59.6,64.8,{"v":9,"d":"9 "},"-","-","-","-","-","-","-",{"v":1,"d":"1 "},{"v":1,"d":"1 "},{"v":2,"d":"2 "},{"v":1,"d":"1 "},{"v":4,"d":"4 "},"-","-","-",{"v":8,"d":"8 "},"-","-","-","-","-","-",{"v":1,"d":"1 "},{"v":2,"d":"2 "},{"v":1,"d":"1 "},{"v":4,"d":"4 "},"-","-","-",{"$nulls":7},{"v":28,"d":"28 "},{"v":21,"d":"21 "},{"v":12,"d":"12 "},{"v":9,"d":"9 "},"-",{"v":3,"d":"3 "},{"v":1,"d":"1 "},{"v":3,"d":"3 "},{"v":8,"d":"8 "},{"v":7,"d":"7 "},"-","-","-",{"v":1,"d":"1 "},"-","-","-","-","-","-","-","-","-","-",{"v":9,"d":"9 "},{"v":704,"d":"704 "},{"v":577,"d":"577 "},{"v":80,"d":"80 "},{"v":47,"d":"47 "},15,15,7,8,"-","-","-","-",13,6,5,1,"-",3,1,3]
["山梨県","北杜市","菅原村","白須上",{"v":48,"d":"48 "},{"v":37,"d":"37 "},{"v":5,"d":"5 "},{"v":3,"d":"3 "},{"v":6,"d":"6 "},{"v":2,"d":"2 "},{"v":26,"d":"26 "},{"v":11,"d":"11 "},{"v":90,"d":"90 "},{"v":1,"d":"1 "},"-",{"v":1,"d":"1 "},{"v":4,"d":"4 "},{"v":4,"d":"4 "},{"v":4,"d":"4 "},{"v":1,"d":"1 "},{"v":5,"d":"5 "},{"v":10,"d":"10 "},{"v":9,"d":"9 "},{"v":7,"d":"7 "},{"v":10,"d":"10 "},{"v":10,"d":"10 "},{"v":10,"d":"10 "},{"v":14,"d":"14 "},65.7,64.8,66.9,{"v":60,"d":"60 "},"-","-","-",{"v":1,"d":"1 "},{"v":2,"d":"2 "},"-","-","-",{"v":3,"d":"3 "},{"v":6,"d":"6 "},{"v":5,"d":"5 "},{"v":10,"d":"10 "},{"v":10,"d":"10 "},{"v":10,"d":"10 "},{"v":13,"d":"13 "},73.6,74.2,72.9,{"v":50,"d":"50 "},"-","-","-","-",{"v":2,"d":"2 "},"-","-","-",{"v":2,"d":"2 "},{"v":5,"d":"5 "},{"v":4,"d":"4 "},{"v":10,"d":"10 "},{"v":6,"d":"6 "},{"v":10,"d":"10 "},{"v":11,"d":"11 "},74.3,74.2,74.5,{"v":37,"d":"37 "},"-","-","-","-",{"v":1,"d":"1 "},{"v":2,"d":"2 "},"-","-",{"v":2,"d":"2 "},{"v":4,"d":"4 "},{"v":3,"d":"3 "},{"v":4,"d":"4 "},{"v":5,"d":"5 "},{"v":6,"d":"6 "},{"v":10,"d":"10 "},{"v":23,"d":"23 "},"-","-","-","-","-","-",{"v":1,"d":"1 "},{"v":2,"d":"2 "},{"v":1,"d":"1 "},{"v":3,"d":"3 "},{"v":4,"d":"4 "},{"v":4,"d":"4 "},{"v":8,"d":"8 "},{"$nulls":7},{"v":97,"d":"97 "},{"v":82,"d":"82 "},{"v":50,"d":"50 "},{"v":25,"d":"25 "},{"v":7,"d":"7 "},{"v":10,"d":"10 "},{"v":1,"d":"1 "},{"v":4,"d":"4 "},{"v":31,"d":"31 "},{"v":23,"d":"23 "},"-",{"v":1,"d":"1 "},"-",{"v":1,"d":"1 "},"-",{"v":2,"d":"2 "},{"v":3,"d":"3 "},{"v":1,"d":"1 "},"-","-","-","-","-","-",{"v":36,"d":"36 "},{"v":3019,"d":"3,019 "},{"v":2405,"d":"2,405 "},{"v":506,"d":"506 "},{"v":108,"d":"108 "},54,51,30,16,5,1,"-",2,43,31,20,9,2,9,1,2]
["山梨県","北杜市","駒城村２－１","横手",{"v":72,"d":"72 "},{"v":47,"d":"47 "},{"v":8,"d":"8 "},{"v":8,"d":"8 "},{"v":3,"d":"3 "},{"v":1,"d":"1 "},{"v":36,"d":"36 "},{"v":25,"d":"25 "},{"v":111,"d":"111 "},{"v":2,"d":"2 "},{"v":4,"d":"4 "},{"v":3,"d":"3 "},{"v":2,"d":"2 "},{"v":3,"d":"3 "},{"v":2,"d":"2 "},{"v":8,"d":"8 "},{"v":6,"d":"6 "},{"v":9,"d":"9 "},{"v":14,"d":"14 "},{"v":13,"d":"13 "},{"v":15,"d":"15 "},{"v":14,"d":"14 "},{"v":10,"d":"10 "},{"v":6,"d":"6 "},62.2,65.9,58.4,{"v":60,"d":"60 "},"-","-","-","-","-",{"v":1,"d":"1 "},{"v":2,"d":"2 "},"-",{"v":2,"d":"2 "},{"v":6,"d":"6 "},{"v":9,"d":"9 "},{"v":14,"d":"14 "},{"v":12,"d":"12 "},{"v":9,"d":"9 "},{"v":5,"d":"5 "},72.2,73.8,69.6,{"v":52,"d":"52 "},"-","-","-","-","-",{"v":1,"d":"1 "},{"v":2,"d":"2 "},"-",{"v":2,"d":"2 "},{"v":4,"d":"4 "},{"v":7,"d":"7 "},{"v":12,"d":"12 "},{"v":12,"d":"12 "},{"v":8,"d":"8 "},{"v":4,"d":"4 "},72.2,73.8,68.3,{"v":47,"d":"47 "},"-","-","-","-","-",{"v":1,"d":"1 "},{"v":2,"d":"2 "},{"v":1,"d":"1 "},{"v":4,"d":"4 "},{"v":4,"d":"4 "},{"v":7,"d":"7 "},{"v":9,"d":"9 "},{"v":8,"d":"8 "},{"v":7,"d":"7 "},{"v":4,"d":"4 "},{"v":24,"d":"24 "},"-","-","-",{"v":1,"d":"1 "},"-",{"v":1,"d":"1 "},{"v":2,"d":"2 "},{"v":1,"d":"1 "},{"v":3,"d":"3 "},{"v":7,"d":"7 "},{"v":3,"d":"3 "},{"v":4,"d":"4 "},{"v":2,"d":"2 "},{"$nulls":7},{"v":131,"d":"131 "},{"v":100,"d":"100 "},{"v":52,"d":"52 "},{"v":38,"d":"38 "},{"v":10,"d":"10 "},{"v":14,"d":"14 "},{"v":5,"d":"5 "},{"v":12,"d":"12 "},{"v":36,"d":"36 "},{"v":30,"d":"30 "},"-","-","-",{"v":4,"d":"4 "},"-","-","-","-","-",{"v":1,"d":"1 "},"-","-","-",{"v":1,"d":"1 "},{"v":47,"d":"47 "},{"v":5207,"d":"5,207 "},{"v":4058,"d":"4,058 "},{"v":1109,"d":"1,109 "},{"v":40,"d":"40 "},62,58,37,16,5,"-",2,2,69,42,15,22,5,14,3,10]
["山梨県","北杜市","駒城村２－２","柳沢",{"v":96,"d":"96 "},{"v":53,"d":"53 "},{"v":8,"d":"8 "},{"v":5,"d":"5 "},{"v":7,"d":"7 "},"-",{"v":38,"d":"38 "},{"v":43,"d":"43 "},{"v":125,"d":"125 "},"-",{"v":1,"d":"1 "},{"v":3,"d":"3 "},"-",{"v":6,"d":"6 "},{"v":10,"d":"10 "},{"v":9,"d":"9 "},{"v":6,"d":"6 "},{"v":7,"d":"7 "},{"v":12,"d":"12 "},{"v":17,"d":"17 "},{"v":14,"d":"14 "},{"v":23,"d":"23 "},{"v":14,"d":"14 "},{"v":3,"d":"3 "},63.5,62.7,64.5,{"v":82,"d":"82 "},"-","-","-","-",{"v":1,"d":"1 "},{"v":1,"d":"1 "},"-",{"v":4,"d":"4 "},{"v":3,"d":"3 "},{"v":6,"d":"6 "},{"v":13,"d":"13 "},{"v":14,"d":"14 "},{"v":23,"d":"23 "},{"v":14,"d":"14 "},{"v":3,"d":"3 "},71.6,73.3,69.8,{"v":61,"d":"61 "},"-","-","-","-","-","-","-",{"v":2,"d":"2 "},{"v":2,"d":"2 "},{"v":4,"d":"4 "},{"v":7,"d":"7 "},{"v":12,"d":"12 "},{"v":20,"d":"20 "},{"v":12,"d":"12 "},{"v":2,"d":"2 "},73.5,73.2,74.1,{"v":53,"d":"53 "},"-","-","-","-","-","-","-",{"v":2,"d":"2 "},{"v":3,"d":"3 "},{"v":5,"d":"5 "},{"v":8,"d":"8 "},{"v":7,"d":"7 "},{"v":15,"d":"15 "},{"v":11,"d":"11 "},{"v":2,"d":"2 "},{"v":37,"d":"37 "},"-","-","-","-","-",{"v":1,"d":"1 "},{"v":2,"d":"2 "},"-",{"v":4,"d":"4 "},{"v":5,"d":"5 "},{"v":12,"d":"12 "},{"v":11,"d":"11 "},{"v":2,"d":"2 "},{"$nulls":7},{"v":150,"d":"150 "},{"v":109,"d":"109 "},{"v":61,"d":"61 "},{"v":41,"d":"41 "},{"v":7,"d":"7 "},{"v":25,"d":"25 "},{"v":6,"d":"6 "},{"v":10,"d":"10 "},{"v":49,"d":"49 "},{"v":45,"d":"45 "},"-","-","-",{"v":3,"d":"3 "},"-",{"v":1,"d":"1 "},"-","-","-","-","-","-","-","-",{"v":53,"d":"53 "},{"v":4387,"d":"4,387 "},{"v":3462,"d":"3,462 "},{"v":775,"d":"775 "},{"v":150,"d":"150 "},78,71,41,24,6,1,2,4,72,38,20,17,1,24,4,6]
["山梨県","北杜市","小淵沢村","宮久保",{"v":37,"d":"37 "},{"v":13,"d":"13 "},"-","-","-","-",{"v":13,"d":"13 "},{"v":24,"d":"24 "},{"v":37,"d":"37 "},{"v":3,"d":"3 "},{"v":1,"d":"1 "},"-","-",{"v":1,"d":"1 "},{"v":2,"d":"2 "},{"v":1,"d":"1 "},{"v":3,"d":"3 "},{"v":4,"d":"4 "},{"v":5,"d":"5 "},{"v":2,"d":"2 "},{"v":2,"d":"2 "},{"v":6,"d":"6 "},{"v":6,"d":"6 "},{"v":1,"d":"1 "},60.8,58.4,63.3,{"v":16,"d":"16 "},"-","-","-","-","-","-","-","-",{"v":1,"d":"1 "},"-",{"v":1,"d":"1 "},{"v":2,"d":"2 "},{"v":6,"d":"6 "},{"v":5,"d":"5 "},{"v":1,"d":"1 "},76.9,79.7,74.8,{"v":13,"d":"13 "},"-","-","-","-","-","-","-","-",{"v":1,"d":"1 "},"-",{"v":1,"d":"1 "},{"v":1,"d":"1 "},{"v":4,"d":"4 "},{"v":5,"d":"5 "},{"v":1,"d":"1 "},77.3,79.7,74.5,{"v":13,"d":"13 "},"-","-","-","-","-","-","-","-",{"v":2,"d":"2 "},{"v":3,"d":"3 "},{"v":1,"d":"1 "},{"v":1,"d":"1 "},{"v":2,"d":"2 "},{"v":4,"d":"4 "},"-",{"v":8,"d":"8 "},"-","-","-","-","-","-",{"v":2,"d":"2 "},{"v":1,"d":"1 "},"-",{"v":1,"d":"1 "},{"v":2,"d":"2 "},{"v":2,"d":"2 "},"-",{"$nulls":7},{"v":40,"d":"40 "},{"v":25,"d":"25 "},{"v":13,"d":"13 "},{"v":12,"d":"12 "},"-",{"v":6,"d":"6 "},{"v":7,"d":"7 "},{"v":2,"d":"2 "},{"v":8,"d":"8 "},{"v":6,"d":"6 "},"-","-","-",{"v":1,"d":"1 "},"-",{"v":1,"d":"1 "},"-","-","-","-","-","-","-","-",{"v":13,"d":"13 "},{"v":720,"d":"720 "},{"v":499,"d":"499 "},{"v":166,"d":"166 "},{"v":55,"d":"55 "},22,15,7,8,"-","-",6,1,18,10,6,4,"-",6,1,1]
["山梨県","北杜市","篠尾村",null,{"v":221,"d":"221 "},{"v":121,"d":"121 "},{"v":20,"d":"20 "},{"v":16,"d":"16 "},{"v":30,"d":"30 "},{"v":8,"d":"8 "},{"v":71,"d":"71 "},{"v":100,"d":"100 "},{"v":336,"d":"336 "},{"v":12,"d":"12 "},{"v":8,"d":"8 "},{"v":9,"d":"9 "},{"v":14,"d":"14 "},{"v":16,"d":"16 "},{"v":9,"d":"9 "},{"v":19,"d":"19 "},{"v":24,"d":"24 "},{"v":40,"d":"40 "},{"v":44,"d":"44 "},{"v":35,"d":"35 "},{"v":30,"d":"30 "},{"v":25,"d":"25 "},{"v":31,"d":"31 "},{"v":20,"d":"20 "},59.1,57.7,60.9,{"v":178,"d":"178 "},{"v":9,"d":"9 "},{"v":1,"d":"1 "},{"v":2,"d":"2 "},{"v":2,"d":"2 "},{"v":4,"d":"4 "},{"v":1,"d":"1 "},{"v":4,"d":"4 "},{"v":4,"d":"4 "},{"v":13,"d":"13 "},{"v":26,"d":"26 "},{"v":21,"d":"21 "},{"v":24,"d":"24 "},{"v":22,"d":"22 "},{"v":28,"d":"28 "},{"v":17,"d":"17 "},66.5,{"v":66,"d":"66.0"},{"v":67,"d":"67.0"},{"v":131,"d":"131 "},"-","-",{"v":2,"d":"2 "},{"v":2,"d":"2 "},{"v":4,"d":"4 "},"-",{"v":3,"d":"3 "},{"v":4,"d":"4 "},{"v":12,"d":"12 "},{"v":20,"d":"20 "},{"v":17,"d":"17 "},{"v":17,"d":"17 "},{"v":17,"d":"17 "},{"v":20,"d":"20 "},{"v":13,"d":"13 "},68.5,69.9,66.3,{"v":121,"d":"121 "},"-","-",{"v":1,"d":"1 "},{"v":1,"d":"1 "},{"v":1,"d":"1 "},"-",{"v":4,"d":"4 "},{"v":11,"d":"11 "},{"v":15,"d":"15 "},{"v":21,"d":"21 "},{"v":19,"d":"19 "},{"v":16,"d":"16 "},{"v":14,"d":"14 "},{"v":8,"d":"8 "},{"v":10,"d":"10 "},{"v":80,"d":"80 "},"-","-","-","-",{"v":2,"d":"2 "},{"v":5,"d":"5 "},{"v":6,"d":"6 "},{"v":13,"d":"13 "},{"v":16,"d":"16 "},{"v":10,"d":"10 "},{"v":13,"d":"13 "},{"v":8,"d":"8 "},{"v":7,"d":"7 "},{"$nulls":7},{"v":389,"d":"389 "},{"v":289,"d":"289 "},{"v":131,"d":"131 "},{"v":141,"d":"141 "},{"v":17,"d":"17 "},{"v":41,"d":"41 "},{"v":28,"d":"28 "},{"v":31,"d":"31 "},{"v":113,"d":"113 "},{"v":93,"d":"93 "},"-",{"v":2,"d":"2 "},"-",{"v":8,"d":"8 "},{"v":2,"d":"2 "},"-",{"v":7,"d":"7 "},"-",{"v":1,"d":"1 "},"-","-","-","-","-",{"v":121,"d":"121 "},{"v":12679,"d":"12,679 "},{"v":9042,"d":"9,042 "},{"v":3573,"d":"3,573 "},{"v":64,"d":"64 "},197,170,83,78,9,3,18,6,192,119,48,63,8,38,10,25]
["山梨県","北杜市","篠尾村","松向",{"v":53,"d":"53 "},{"v":30,"d":"30 "},{"v":4,"d":"4 "},{"v":3,"d":"3 "},{"v":10,"d":"10 "},{"v":2,"d":"2 "},{"v":16,"d":"16 "},{"v":23,"d":"23 "},{"v":101,"d":"101 "},{"v":7,"d":"7 "},{"v":4,"d":"4 "},{"v":1,"d":"1 "},{"v":5,"d":"5 "},{"v":3,"d":"3 "},{"v":3,"d":"3 "},{"v":12,"d":"12 "},{"v":3,"d":"3 "},{"v":13,"d":"13 "},{"v":12,"d":"12 "},{"v":6,"d":"6 "},{"v":12,"d":"12 "},{"v":6,"d":"6 "},{"v":11,"d":"11 "},{"v":3,"d":"3 "},56.8,55.5,58.6,{"v":52,"d":"52 "},{"v":4,"d":"4 "},{"v":1,"d":"1 "},"-","-",{"v":2,"d":"2 "},{"v":1,"d":"1 "},{"v":3,"d":"3 "},{"v":1,"d":"1 "},{"v":2,"d":"2 "},{"v":7,"d":"7 "},{"v":3,"d":"3 "},{"v":9,"d":"9 "},{"v":6,"d":"6 "},{"v":11,"d":"11 "},{"v":2,"d":"2 "},64.1,64.7,63.3,{"v":37,"d":"37 "},"-","-","-","-",{"v":2,"d":"2 "},"-",{"v":2,"d":"2 "},{"v":1,"d":"1 "},{"v":2,"d":"2 "},{"v":6,"d":"6 "},{"v":2,"d":"2 "},{"v":6,"d":"6 "},{"v":4,"d":"4 "},{"v":10,"d":"10 "},{"v":2,"d":"2 "},69.8,70.8,67.5,{"v":30,"d":"30 "},"-","-","-","-","-","-",{"v":2,"d":"2 "},{"v":2,"d":"2 "},{"v":4,"d":"4 "},{"v":5,"d":"5 "},{"v":4,"d":"4 "},{"v":5,"d":"5 "},{"v":3,"d":"3 "},{"v":4,"d":"4 "},{"v":1,"d":"1 "},{"v":23,"d":"23 "},"-","-","-","-",{"v":2,"d":"2 "},{"v":1,"d":"1 "},{"v":2,"d":"2 "},{"v":4,"d":"4 "},{"v":4,"d":"4 "},{"v":3,"d":"3 "},{"v":2,"d":"2 "},{"v":4,"d":"4 "},{"v":1,"d":"1 "},{"$nulls":7},{"v":115,"d":"115 "},{"v":85,"d":"85 "},{"v":37,"d":"37 "},{"v":43,"d":"43 "},{"v":5,"d":"5 "},{"v":10,"d":"10 "},{"v":11,"d":"11 "},{"v":9,"d":"9 "},{"v":29,"d":"29 "},{"v":22,"d":"22 "},"-",{"v":2,"d":"2 "},"-",{"v":2,"d":"2 "},"-","-",{"v":3,"d":"3 "},"-","-","-","-","-","-","-",{"v":30,"d":"30 "},{"v":3137,"d":"3,137 "},{"v":2342,"d":"2,342 "},{"v":782,"d":"782 "},{"v":13,"d":"13 "},64,53,25,24,4,1,8,2,51,32,12,19,1,9,3,7]
["山梨県","甲斐市","竜王村","古村",{"v":29,"d":"29 "},{"v":7,"d":"7 "},"-","-",{"v":2,"d":"2 "},"-",{"v":5,"d":"5 "},{"v":22,"d":"22 "},{"v":20,"d":"20 "},"-",{"v":1,"d":"1 "},{"v":1,"d":"1 "},{"v":1,"d":"1 "},{"v":1,"d":"1 "},"-",{"v":1,"d":"1 "},{"v":2,"d":"2 "},{"v":4,"d":"4 "},{"v":1,"d":"1 "},{"v":2,"d":"2 "},{"v":2,"d":"2 "},{"v":2,"d":"2 "},{"v":1,"d":"1 "},{"v":1,"d":"1 "},57.5,60.3,55.1,{"v":10,"d":"10 "},"-",{"v":1,"d":"1 "},"-","-","-","-","-","-",{"v":1,"d":"1 "},"-",{"v":2,"d":"2 "},{"v":2,"d":"2 "},{"v":2,"d":"2 "},{"v":1,"d":"1 "},{"v":1,"d":"1 "},67.3,{"v":74,"d":"74.0"},62.8,{"v":6,"d":"6 "},"-","-","-","-","-","-","-","-","-","-",{"v":2,"d":"2 "},{"v":1,"d":"1 "},{"v":1,"d":"1 "},{"v":1,"d":"1 "},{"v":1,"d":"1 "},{"v":74,"d":"74.0"},{"v":74,"d":"74.0"},{"v":74,"d":"74.0"},{"v":7,"d":"7 "},"-","-","-","-","-","-","-",{"v":1,"d":"1 "},"-",{"v":1,"d":"1 "},{"v":1,"d":"1 "},{"v":1,"d":"1 "},{"v":1,"d":"1 "},{"v":1,"d":"1 "},{"v":1,"d":"1 "},{"v":4,"d":"4 "},"-","-","-","-","-","-","-",{"v":1,"d":"1 "},"-","-",{"v":1,"d":"1 "},{"v":1,"d":"1 "},{"v":1,"d":"1 "},{"$nulls":7},{"v":24,"d":"24 "},{"v":16,"d":"16 "},{"v":6,"d":"6 "},{"v":9,"d":"9 "},{"v":1,"d":"1 "},{"v":3,"d":"3 "},{"v":1,"d":"1 "},{"v":4,"d":"4 "},{"v":5,"d":"5 "},{"v":3,"d":"3 "},"-","-","-","-","-",{"v":2,"d":"2 "},"-","-","-","-","-","-","-","-",{"v":7,"d":"7 "},{"v":359,"d":"359 "},{"v":226,"d":"226 "},{"v":45,"d":"45 "},{"v":88,"d":"88 "},10,9,4,5,"-","-","-",1,14,7,2,4,1,3,1,3]
["山梨県","甲斐市","玉幡村",null,{"v":193,"d":"193 "},{"v":103,"d":"103 "},{"v":15,"d":"15 "},{"v":7,"d":"7 "},{"v":30,"d":"30 "},{"v":9,"d":"9 "},{"v":58,"d":"58 "},{"v":90,"d":"90 "},{"v":291,"d":"291 "},{"v":4,"d":"4 "},{"v":11,"d":"11 "},{"v":12,"d":"12 "},{"v":9,"d":"9 "},{"v":12,"d":"12 "},{"v":17,"d":"17 "},{"v":25,"d":"25 "},{"v":26,"d":"26 "},{"v":22,"d":"22 "},{"v":21,"d":"21 "},{"v":42,"d":"42 "},{"v":38,"d":"38 "},{"v":22,"d":"22 "},{"v":23,"d":"23 "},{"v":7,"d":"7 "},58.1,57.6,58.5,{"v":158,"d":"158 "},{"v":1,"d":"1 "},"-","-","-",{"v":1,"d":"1 "},{"v":5,"d":"5 "},{"v":6,"d":"6 "},{"v":4,"d":"4 "},{"v":4,"d":"4 "},{"v":14,"d":"14 "},{"v":39,"d":"39 "},{"v":32,"d":"32 "},{"v":22,"d":"22 "},{"v":23,"d":"23 "},{"v":7,"d":"7 "},69.4,70.5,68.5,{"v":141,"d":"141 "},"-","-","-","-",{"v":1,"d":"1 "},{"v":3,"d":"3 "},{"v":2,"d":"2 "},{"v":2,"d":"2 "},{"v":3,"d":"3 "},{"v":13,"d":"13 "},{"v":36,"d":"36 "},{"v":32,"d":"32 "},{"v":21,"d":"21 "},{"v":22,"d":"22 "},{"v":6,"d":"6 "},70.9,70.5,71.3,{"v":103,"d":"103 "},"-","-","-","-",{"v":1,"d":"1 "},{"v":2,"d":"2 "},{"v":1,"d":"1 "},{"v":6,"d":"6 "},{"v":10,"d":"10 "},{"v":8,"d":"8 "},{"v":22,"d":"22 "},{"v":19,"d":"19 "},{"v":15,"d":"15 "},{"v":17,"d":"17 "},{"v":2,"d":"2 "},{"v":78,"d":"78 "},"-","-","-",{"v":1,"d":"1 "},{"v":1,"d":"1 "},{"v":4,"d":"4 "},{"v":7,"d":"7 "},{"v":6,"d":"6 "},{"v":13,"d":"13 "},{"v":13,"d":"13 "},{"v":15,"d":"15 "},{"v":16,"d":"16 "},{"v":2,"d":"2 "},{"$nulls":7},{"v":349,"d":"349 "},{"v":276,"d":"276 "},{"v":141,"d":"141 "},{"v":122,"d":"122 "},{"v":13,"d":"13 "},{"v":26,"d":"26 "},{"v":32,"d":"32 "},{"v":15,"d":"15 "},{"v":91,"d":"91 "},{"v":38,"d":"38 "},"-",{"v":3,"d":"3 "},{"v":2,"d":"2 "},{"v":40,"d":"40 "},{"v":2,"d":"2 "},{"v":5,"d":"5 "},{"v":1,"d":"1 "},"-","-","-","-","-","-","-",{"v":103,"d":"103 "},{"v":6311,"d":"6,311 "},{"v":5328,"d":"5,328 "},{"v":519,"d":"519 "},{"v":464,"d":"464 "},173,152,69,76,7,"-",15,6,176,124,72,46,6,26,17,9]
["山梨県","甲斐市","玉幡村","八幡新田",{"v":6,"d":"6 "},"-","-","-","-","-","-",{"v":6,"d":"6 "},"-","-","-","-","-","-","-","-","-","-","-","-","-","-","-","-","…","…","…","-","-","-","-","-","-","-","-","-","-","-","-","-","-","-","-","…","…","…","-","-","-","-","-","-","-","-","-","-","-","-","-","-","-","-","…","…","…","-","-","-","-","-","-","-","-","-","-","-","-","-","-","-","-","-","-","-","-","-","-","-","-","-","-","-","-","-","-",{"$nulls":7},"-","-","-","-","-","-","-","-","-","-","-","-","-","-","-","-","-","-","-","-","-","-","-","-","-","-","-","-","-","-","-","-","-","-","-","-","-","-","-","-","-","-","-","-","-"]
["山梨県","甲斐市","吉沢村","寺平",{"v":32,"d":"32 "},{"v":8,"d":"8 "},{"v":1,"d":"1 "},{"v":1,"d":"1 "},{"v":2,"d":"2 "},{"v":2,"d":"2 "},{"v":5,"d":"5 "},{"v":24,"d":"24 "},{"v":18,"d":"18 "},"-","-","-",{"v":1,"d":"1 "},{"v":1,"d":"1 "},{"v":1,"d":"1 "},"-","-",{"v":2,"d":"2 "},{"v":2,"d":"2 "},{"v":2,"d":"2 "},{"v":3,"d":"3 "},{"v":3,"d":"3 "},{"v":2,"d":"2 "},{"v":1,"d":"1 "},65.3,66.2,64.1,{"v":14,"d":"14 "},"-","-","-","-","-","-","-","-",{"v":1,"d":"1 "},{"v":2,"d":"2 "},{"v":2,"d":"2 "},{"v":3,"d":"3 "},{"v":3,"d":"3 "},{"v":2,"d":"2 "},{"v":1,"d":"1 "},71.7,74.9,68.6,{"v":13,"d":"13 "},"-","-","-","-","-","-","-","-",{"v":1,"d":"1 "},{"v":2,"d":"2 "},{"v":2,"d":"2 "},{"v":3,"d":"3 "},{"v":3,"d":"3 "},{"v":1,"d":"1 "},{"v":1,"d":"1 "},70.9,74.9,66.3,{"v":8,"d":"8 "},"-","-","-","-","-","-","-","-",{"v":1,"d":"1 "},"-",{"v":1,"d":"1 "},{"v":2,"d":"2 "},{"v":2,"d":"2 "},{"v":1,"d":"1 "},{"v":1,"d":"1 "},{"v":6,"d":"6 "},"-","-","-","-","-","-","-","-","-",{"v":2,"d":"2 "},{"v":2,"d":"2 "},{"v":1,"d":"1 "},{"v":1,"d":"1 "},{"$nulls":7},{"v":23,"d":"23 "},{"v":21,"d":"21 "},{"v":13,"d":"13 "},{"v":6,"d":"6 "},{"v":2,"d":"2 "},{"v":1,"d":"1 "},"-",{"v":1,"d":"1 "},{"v":8,"d":"8 "},{"v":1,"d":"1 "},"-","-","-","-","-",{"v":7,"d":"7 "},"-","-","-","-","-","-","-","-",{"v":8,"d":"8 "},{"v":590,"d":"590 "},{"v":171,"d":"171 "},{"v":112,"d":"112 "},{"v":307,"d":"307 "},12,11,7,3,1,"-","-",1,11,10,6,3,1,1,"-","-"]
["山梨県","甲斐市","清川村","下芦沢",{"v":9,"d":"9 "},{"v":6,"d":"6 "},"-","-",{"v":1,"d":"1 "},"-",{"v":5,"d":"5 "},{"v":3,"d":"3 "},{"v":13,"d":"13 "},"-",{"v":2,"d":"2 "},"-","-",{"v":1,"d":"1 "},"-",{"v":1,"d":"1 "},{"v":1,"d":"1 "},"-","-",{"v":3,"d":"3 "},{"v":2,"d":"2 "},{"v":2,"d":"2 "},{"v":1,"d":"1 "},"-",58.8,50.6,68.3,{"v":7,"d":"7 "},"-","-","-","-","-","-",{"v":1,"d":"1 "},"-","-","-",{"v":2,"d":"2 "},{"v":2,"d":"2 "},{"v":1,"d":"1 "},{"v":1,"d":"1 "},"-",{"v":69,"d":"69.0"},{"v":71,"d":"71.0"},68.2,{"v":7,"d":"7 "},"-","-","-","-","-","-",{"v":1,"d":"1 "},"-","-","-",{"v":2,"d":"2 "},{"v":2,"d":"2 "},{"v":1,"d":"1 "},{"v":1,"d":"1 "},"-",{"v":69,"d":"69.0"},{"v":71,"d":"71.0"},68.2,{"v":6,"d":"6 "},"-","-","-","-","-","-","-",{"v":1,"d":"1 "},"-","-","-",{"v":2,"d":"2 "},{"v":2,"d":"2 "},"-",{"v":1,"d":"1 "},{"v":5,"d":"5 "},"-","-","-","-","-",{"v":1,"d":"1 "},"-","-","-",{"v":2,"d":"2 "},{"v":1,"d":"1 "},"-",{"v":1,"d":"1 "},{"$nulls":7},{"v":15,"d":"15 "},{"v":12,"d":"12 "},{"v":7,"d":"7 "},{"v":2,"d":"2 "},{"v":3,"d":"3 "},{"v":1,"d":"1 "},{"v":1,"d":"1 "},{"v":1,"d":"1 "},{"v":3,"d":"3 "},{"v":2,"d":"2 "},"-","-","-","-","-","-","-",{"v":1,"d":"1 "},"-","-","-","-","-","-",{"v":6,"d":"6 "},{"v":240,"d":"240 "},{"v":137,"d":"137 "},{"v":103,"d":"103 "},"-",9,6,2,2,2,1,1,1,6,6,5,"-",1,"-","-","-"]
["山梨県","甲斐市","睦沢村",null,{"v":120,"d":"120 "},{"v":31,"d":"31 "},{"v":2,"d":"2 "},"-",{"v":7,"d":"7 "},{"v":1,"d":"1 "},{"v":22,"d":"22 "},{"v":89,"d":"89 "},{"v":76,"d":"76 "},"-",{"v":2,"d":"2 "},{"v":1,"d":"1 "},"-",{"v":2,"d":"2 "},{"v":4,"d":"4 "},{"v":3,"d":"3 "},{"v":8,"d":"8 "},{"v":8,"d":"8 "},{"v":5,"d":"5 "},{"v":12,"d":"12 "},{"v":13,"d":"13 "},{"v":9,"d":"9 "},{"v":7,"d":"7 "},{"v":2,"d":"2 "},63.1,60.2,66.5,{"v":40,"d":"40 "},"-","-","-","-","-","-","-",{"v":2,"d":"2 "},{"v":3,"d":"3 "},{"v":2,"d":"2 "},{"v":7,"d":"7 "},{"v":10,"d":"10 "},{"v":8,"d":"8 "},{"v":6,"d":"6 "},{"v":2,"d":"2 "},71.3,71.1,71.4,{"v":35,"d":"35 "},"-","-","-","-","-","-","-",{"v":1,"d":"1 "},{"v":3,"d":"3 "},{"v":2,"d":"2 "},{"v":4,"d":"4 "},{"v":10,"d":"10 "},{"v":8,"d":"8 "},{"v":6,"d":"6 "},{"v":1,"d":"1 "},71.9,71.1,72.8,{"v":31,"d":"31 "},"-","-","-","-","-","-","-",{"v":6,"d":"6 "},{"v":3,"d":"3 "},{"v":3,"d":"3 "},{"v":5,"d":"5 "},{"v":6,"d":"6 "},{"v":5,"d":"5 "},{"v":3,"d":"3 "},"-",{"v":18,"d":"18 "},"-","-","-","-","-",{"v":3,"d":"3 "},{"v":1,"d":"1 "},{"v":2,"d":"2 "},{"v":3,"d":"3 "},{"v":4,"d":"4 "},{"v":3,"d":"3 "},{"v":2,"d":"2 "},"-",{"$nulls":7},{"v":97,"d":"97 "},{"v":73,"d":"73 "},{"v":35,"d":"35 "},{"v":36,"d":"36 "},{"v":2,"d":"2 "},{"v":9,"d":"9 "},{"v":11,"d":"11 "},{"v":4,"d":"4 "},{"v":19,"d":"19 "},{"v":5,"d":"5 "},"-","-","-",{"v":3,"d":"3 "},"-",{"v":11,"d":"11 "},"-","-","-","-","-","-","-","-",{"v":31,"d":"31 "},{"v":1755,"d":"1,755 "},{"v":701,"d":"701 "},{"v":425,"d":"425 "},{"v":629,"d":"629 "},52,43,19,23,1,"-",8,1,45,30,16,13,1,9,3,3]
["山梨県","甲斐市","睦沢村","獅子平",{"v":7,"d":"7 "},{"v":2,"d":"2 "},"x","x","x","x","x",{"v":5,"d":"5 "},"x","x","x","x","x","x","x","x","x","x","x","x","x","x","x","x",66.8,{"v":64,"d":"64.0"},68.7,"x","x","x","x","x","x","x","x","x","x","x","x","x","x","x","x",{"v":74,"d":"74.0"},{"v":71,"d":"71.0"},75.5,"x","x","x","x","x","x","x","x","x","x","x","x","x","x","x","x",{"v":74,"d":"74.0"},{"v":71,"d":"71.0"},75.5,{"v":2,"d":"2 "},"-","-","-","-","-","-","-","-",{"v":1,"d":"1 "},"-","-",{"v":1,"d":"1 "},"-","-","-",{"v":1,"d":"1 "},"-","-","-","-","-","-",{"v":1,"d":"1 "},"-","-","-","-","-","-",{"$nulls":7},{"v":6,"d":"6 "},{"v":6,"d":"6 "},{"v":3,"d":"3 "},{"v":3,"d":"3 "},"-","-","-","-",{"v":1,"d":"1 "},"-","-","-","-","-","-",{"v":1,"d":"1 "},"-","-","-","-","-","-","-","-",{"v":2,"d":"2 "},{"v":174,"d":"174 "},{"v":64,"d":"64 "},{"v":20,"d":"20 "},{"v":90,"d":"90 "},2,2,1,1,"-","-","-","-",4,4,2,2,"-","-","-","-"]
["山梨県","甲斐市","敷島町２－１","牛句",{"v":30,"d":"30 "},{"v":11,"d":"11 "},"-","-",{"v":6,"d":"6 "},"-",{"v":5,"d":"5 "},{"v":19,"d":"19 "},{"v":31,"d":"31 "},{"v":1,"d":"1 "},{"v":2,"d":"2 "},{"v":1,"d":"1 "},{"v":1,"d":"1 "},"-",{"v":1,"d":"1 "},{"v":1,"d":"1 "},{"v":6,"d":"6 "},{"v":3,"d":"3 "},{"v":4,"d":"4 "},{"v":1,"d":"1 "},{"v":2,"d":"2 "},{"v":6,"d":"6 "},{"v":1,"d":"1 "},{"v":1,"d":"1 "},56.7,49.8,66.3,{"v":10,"d":"10 "},"-","-","-","-","-","-","-","-","-",{"v":1,"d":"1 "},{"v":1,"d":"1 "},{"v":2,"d":"2 "},{"v":4,"d":"4 "},{"v":1,"d":"1 "},{"v":1,"d":"1 "},74.7,73.4,{"v":76,"d":"76.0"},{"v":10,"d":"10 "},"-","-","-","-","-","-","-","-","-",{"v":1,"d":"1 "},{"v":1,"d":"1 "},{"v":2,"d":"2 "},{"v":4,"d":"4 "},{"v":1,"d":"1 "},{"v":1,"d":"1 "},74.7,73.4,{"v":76,"d":"76.0"},{"v":11,"d":"11 "},"-","-","-","-","-",{"v":1,"d":"1 "},{"v":1,"d":"1 "},{"v":2,"d":"2 "},{"v":2,"d":"2 "},{"v":1,"d":"1 "},{"v":1,"d":"1 "},"-",{"v":2,"d":"2 "},"-",{"v":1,"d":"1 "},{"v":7,"d":"7 "},"-","-","-","-","-",{"v":2,"d":"2 "},{"v":1,"d":"1 "},"-",{"v":1,"d":"1 "},"-",{"v":2,"d":"2 "},"-",{"v":1,"d":"1 "},{"$nulls":7},{"v":34,"d":"34 "},{"v":29,"d":"29 "},{"v":10,"d":"10 "},{"v":18,"d":"18 "},{"v":1,"d":"1 "},"-",{"v":3,"d":"3 "},{"v":2,"d":"2 "},{"v":9,"d":"9 "},{"v":5,"d":"5 "},"-","-","-","-","-",{"v":4,"d":"4 "},"-","-","-","-","-","-","-","-",{"v":11,"d":"11 "},{"v":591,"d":"591 "},{"v":243,"d":"243 "},{"v":82,"d":"82 "},{"v":266,"d":"266 "},18,16,5,10,1,"-",2,"-",16,13,5,8,"-","-",1,2]
["山梨県","甲斐市","敷島町２－１","仲町",{"v":1,"d":"1 "},"-","-","-","-","-","-",{"v":1,"d":"1 "},"-","-","-","-","-","-","-","-","-","-","-","-","-","-","-","-","…","…","…","-","-","-","-","-","-","-","-","-","-","-","-","-","-","-","-","…","…","…","-","-","-","-","-","-","-","-","-","-","-","-","-","-","-","-","…","…","…","-","-","-","-","-","-","-","-","-","-","-","-","-","-","-","-","-","-","-","-","-","-","-","-","-","-","-","-","-","-",{"$nulls":7},"-","-","-","-","-","-","-","-","-","-","-","-","-","-","-","-","-","-","-","-","-","-","-","-","-","-","-","-","-","-","-","-","-","-","-","-","-","-","-","-","-","-","-","-","-"]
["山梨県","甲斐市","敷島町２－１","大下条",{"v":34,"d":"34 "},{"v":12,"d":"12 "},{"v":1,"d":"1 "},{"v":1,"d":"1 "},{"v":2,"d":"2 "},{"v":1,"d":"1 "},{"v":9,"d":"9 "},{"v":22,"d":"22 "},{"v":26,"d":"26 "},"-","-","-","-","-","-","-",{"v":1,"d":"1 "},{"v":5,"d":"5 "},{"v":2,"d":"2 "},{"v":8,"d":"8 "},{"v":3,"d":"3 "},{"v":1,"d":"1 "},{"v":1,"d":"1 "},{"v":5,"d":"5 "},69.2,67.5,70.8,{"v":20,"d":"20 "},"-","-","-","-","-","-","-","-",{"v":3,"d":"3 "},{"v":2,"d":"2 "},{"v":5,"d":"5 "},{"v":3,"d":"3 "},{"v":1,"d":"1 "},{"v":1,"d":"1 "},{"v":5,"d":"5 "},71.7,69.9,73.8,{"v":16,"d":"16 "},"-","-","-","-","-","-","-","-",{"v":2,"d":"2 "},{"v":2,"d":"2 "},{"v":5,"d":"5 "},{"v":2,"d":"2 "},{"v":1,"d":"1 "},{"v":1,"d":"1 "},{"v":3,"d":"3 "},70.6,69.9,72.2,{"v":12,"d":"12 "},"-","-","-","-","-","-","-","-","-",{"v":2,"d":"2 "},{"v":4,"d":"4 "},{"v":2,"d":"2 "},{"v":1,"d":"1 "},{"v":1,"d":"1 "},{"v":2,"d":"2 "},{"v":6,"d":"6 "},"-","-","-","-","-","-","-",{"v":1,"d":"1 "},{"v":2,"d":"2 "},"-","-",{"v":1,"d":"1 "},{"v":2,"d":"2 "},{"$nulls":7},{"v":30,"d":"30 "},{"v":19,"d":"19 "},{"v":16,"d":"16 "},{"v":3,"d":"3 "},"-",{"v":5,"d":"5 "},{"v":1,"d":"1 "},{"v":5,"d":"5 "},{"v":8,"d":"8 "},{"v":7,"d":"7 "},"-","-","-","-","-",{"v":1,"d":"1 "},"-","-","-","-","-","-","-","-",{"v":12,"d":"12 "},{"v":590,"d":"590 "},{"v":437,"d":"437 "},{"v":113,"d":"113 "},{"v":40,"d":"40 "},14,12,11,1,"-","-","-",2,16,7,5,2,"-",5,1,3]
["山梨県","甲斐市","登美村","大垈",{"v":25,"d":"25 "},{"v":11,"d":"11 "},{"v":1,"d":"1 "},"-",{"v":5,"d":"5 "},{"v":2,"d":"2 "},{"v":5,"d":"5 "},{"v":14,"d":"14 "},{"v":30,"d":"30 "},"-",{"v":2,"d":"2 "},{"v":2,"d":"2 "},{"v":4,"d":"4 "},"-","-",{"v":2,"d":"2 "},{"v":1,"d":"1 "},{"v":7,"d":"7 "},{"v":4,"d":"4 "},{"v":2,"d":"2 "},{"v":2,"d":"2 "},{"v":1,"d":"1 "},{"v":2,"d":"2 "},{"v":1,"d":"1 "},54.2,{"v":55,"d":"55.0"},53.1,{"v":10,"d":"10 "},"-","-","-",{"v":2,"d":"2 "},"-","-","-","-",{"v":1,"d":"1 "},"-",{"v":2,"d":"2 "},{"v":1,"d":"1 "},{"v":1,"d":"1 "},{"v":2,"d":"2 "},{"v":1,"d":"1 "},65.5,78.3,{"v":57,"d":"57.0"},{"v":8,"d":"8 "},"-","-","-","-","-","-","-","-",{"v":1,"d":"1 "},"-",{"v":2,"d":"2 "},{"v":1,"d":"1 "},{"v":1,"d":"1 "},{"v":2,"d":"2 "},{"v":1,"d":"1 "},73.8,78.3,69.3,{"v":11,"d":"11 "},"-","-","-","-","-","-","-","-",{"v":2,"d":"2 "},{"v":4,"d":"4 "},{"v":1,"d":"1 "},{"v":1,"d":"1 "},{"v":1,"d":"1 "},{"v":1,"d":"1 "},{"v":1,"d":"1 "},{"v":7,"d":"7 "},"-","-","-","-","-","-",{"v":2,"d":"2 "},{"v":3,"d":"3 "},"-",{"v":1,"d":"1 "},"-",{"v":1,"d":"1 "},"-",{"$nulls":7},{"v":34,"d":"34 "},{"v":28,"d":"28 "},{"v":8,"d":"8 "},{"v":20,"d":"20 "},"-",{"v":3,"d":"3 "},"-",{"v":3,"d":"3 "},{"v":11,"d":"11 "},{"v":7,"d":"7 "},"-","-","-","-","-",{"v":4,"d":"4 "},"-","-","-","-","-","-","-","-",{"v":11,"d":"11 "},{"v":1115,"d":"1,115 "},{"v":639,"d":"639 "},{"v":117,"d":"117 "},{"v":359,"d":"359 "},18,17,4,13,"-","-","-",1,16,11,4,7,"-",3,"-",2]
["山梨県","甲斐市","塩崎村","仲町",{"v":16,"d":"16 "},{"v":8,"d":"8 "},"-","-",{"v":4,"d":"4 "},{"v":1,"d":"1 "},{"v":4,"d":"4 "},{"v":8,"d":"8 "},{"v":23,"d":"23 "},"-",{"v":2,"d":"2 "},{"v":2,"d":"2 "},{"v":1,"d":"1 "},"-",{"v":1,"d":"1 "},{"v":1,"d":"1 "},{"v":1,"d":"1 "},{"v":2,"d":"2 "},{"v":2,"d":"2 "},{"v":4,"d":"4 "},{"v":3,"d":"3 "},{"v":2,"d":"2 "},{"v":2,"d":"2 "},"-",56.7,53.1,62.2,{"v":12,"d":"12 "},"-","-","-","-","-","-","-","-","-",{"v":1,"d":"1 "},{"v":4,"d":"4 "},{"v":3,"d":"3 "},{"v":2,"d":"2 "},{"v":2,"d":"2 "},"-",71.3,70.9,{"v":72,"d":"72.0"},{"v":12,"d":"12 "},"-","-","-","-","-","-","-","-","-",{"v":1,"d":"1 "},{"v":4,"d":"4 "},{"v":3,"d":"3 "},{"v":2,"d":"2 "},{"v":2,"d":"2 "},"-",71.3,70.9,{"v":72,"d":"72.0"},{"v":8,"d":"8 "},"-","-","-","-","-","-","-","-",{"v":1,"d":"1 "},{"v":1,"d":"1 "},{"v":2,"d":"2 "},{"v":2,"d":"2 "},{"v":1,"d":"1 "},{"v":1,"d":"1 "},"-",{"v":6,"d":"6 "},"-","-","-","-","-","-",{"v":1,"d":"1 "},{"v":1,"d":"1 "},{"v":1,"d":"1 "},{"v":2,"d":"2 "},{"v":1,"d":"1 "},"-","-",{"$nulls":7},{"v":24,"d":"24 "},{"v":23,"d":"23 "},{"v":12,"d":"12 "},{"v":11,"d":"11 "},"-",{"v":1,"d":"1 "},"-","-",{"v":7,"d":"7 "},{"v":2,"d":"2 "},"-","-","-",{"v":1,"d":"1 "},"-",{"v":4,"d":"4 "},"-","-","-","-","-","-","-","-",{"v":8,"d":"8 "},{"v":548,"d":"548 "},{"v":180,"d":"180 "},{"v":189,"d":"189 "},{"v":179,"d":"179 "},14,14,7,7,"-","-","-","-",10,9,5,4,"-",1,"-","-"]
["山梨県","甲斐市","塩崎村","下志田",{"v":21,"d":"21 "},{"v":7,"d":"7 "},"-","-",{"v":1,"d":"1 "},"-",{"v":6,"d":"6 "},{"v":14,"d":"14 "},{"v":17,"d":"17 "},"-","-",{"v":1,"d":"1 "},{"v":1,"d":"1 "},"-","-",{"v":2,"d":"2 "},"-",{"v":1,"d":"1 "},{"v":5,"d":"5 "},{"v":3,"d":"3 "},"-",{"v":4,"d":"4 "},"-","-",60.2,{"v":66,"d":"66.0"},56.2,{"v":7,"d":"7 "},"-","-","-","-","-","-","-","-","-",{"v":1,"d":"1 "},{"v":2,"d":"2 "},"-",{"v":4,"d":"4 "},"-","-",72.1,{"v":72,"d":"72.0"},72.3,{"v":6,"d":"6 "},"-","-","-","-","-","-","-","-","-","-",{"v":2,"d":"2 "},"-",{"v":4,"d":"4 "},"-","-",73.5,{"v":72,"d":"72.0"},76.5,{"v":7,"d":"7 "},"-","-","-","-","-","-",{"v":1,"d":"1 "},"-","-",{"v":2,"d":"2 "},{"v":3,"d":"3 "},"-",{"v":1,"d":"1 "},"-","-",{"v":5,"d":"5 "},"-","-","-","-",{"v":1,"d":"1 "},"-","-",{"v":2,"d":"2 "},{"v":1,"d":"1 "},"-",{"v":1,"d":"1 "},"-","-",{"$nulls":7},{"v":18,"d":"18 "},{"v":16,"d":"16 "},{"v":6,"d":"6 "},{"v":6,"d":"6 "},{"v":4,"d":"4 "},{"v":1,"d":"1 "},{"v":1,"d":"1 "},"-",{"v":3,"d":"3 "},{"v":2,"d":"2 "},"-","-","-","-","-",{"v":1,"d":"1 "},"-","-","-","-","-","-","-","-",{"v":7,"d":"7 "},{"v":470,"d":"470 "},{"v":261,"d":"261 "},{"v":189,"d":"189 "},{"v":20,"d":"20 "},8,7,4,1,2,"-",1,"-",10,9,2,5,2,1,"-","-"]
["山梨県","甲斐市","塩崎村","滝沢",{"v":32,"d":"32 "},{"v":19,"d":"19 "},{"v":2,"d":"2 "},{"v":2,"d":"2 "},{"v":6,"d":"6 "},{"v":3,"d":"3 "},{"v":11,"d":"11 "},{"v":13,"d":"13 "},{"v":47,"d":"47 "},"-",{"v":2,"d":"2 "},{"v":2,"d":"2 "},{"v":1,"d":"1 "},{"v":1,"d":"1 "},"-",{"v":1,"d":"1 "},{"v":3,"d":"3 "},{"v":7,"d":"7 "},{"v":5,"d":"5 "},{"v":7,"d":"7 "},{"v":5,"d":"5 "},{"v":3,"d":"3 "},{"v":6,"d":"6 "},{"v":4,"d":"4 "},63.2,62.6,63.9,{"v":26,"d":"26 "},"-","-","-","-","-","-",{"v":1,"d":"1 "},{"v":1,"d":"1 "},"-",{"v":4,"d":"4 "},{"v":7,"d":"7 "},{"v":5,"d":"5 "},{"v":2,"d":"2 "},{"v":4,"d":"4 "},{"v":2,"d":"2 "},70.2,73.9,65.2,{"v":25,"d":"25 "},"-","-","-","-","-","-",{"v":1,"d":"1 "},{"v":1,"d":"1 "},"-",{"v":3,"d":"3 "},{"v":7,"d":"7 "},{"v":5,"d":"5 "},{"v":2,"d":"2 "},{"v":4,"d":"4 "},{"v":2,"d":"2 "},70.6,73.9,65.6,{"v":19,"d":"19 "},"-","-","-","-","-","-","-",{"v":2,"d":"2 "},{"v":3,"d":"3 "},{"v":3,"d":"3 "},{"v":2,"d":"2 "},{"v":4,"d":"4 "},{"v":1,"d":"1 "},{"v":3,"d":"3 "},{"v":1,"d":"1 "},{"v":9,"d":"9 "},"-","-","-","-","-",{"v":1,"d":"1 "},{"v":1,"d":"1 "},{"v":1,"d":"1 "},{"v":1,"d":"1 "},{"v":2,"d":"2 "},"-",{"v":2,"d":"2 "},{"v":1,"d":"1 "},{"$nulls":7},{"v":59,"d":"59 "},{"v":44,"d":"44 "},{"v":25,"d":"25 "},{"v":18,"d":"18 "},{"v":1,"d":"1 "},{"v":6,"d":"6 "},{"v":3,"d":"3 "},{"v":6,"d":"6 "},{"v":18,"d":"18 "},{"v":8,"d":"8 "},"-","-","-",{"v":1,"d":"1 "},{"v":1,"d":"1 "},{"v":7,"d":"7 "},"-","-","-","-","-","-",{"v":1,"d":"1 "},"-",{"v":19,"d":"19 "},{"v":2130,"d":"2,130 "},{"v":1037,"d":"1,037 "},{"v":453,"d":"453 "},{"v":640,"d":"640 "},28,28,15,12,1,"-","-","-",31,16,10,6,"-",6,3,6]
["山梨県","笛吹市","石和町","日の出",{"v":27,"d":"27 "},{"v":20,"d":"20 "},{"v":3,"d":"3 "},{"v":3,"d":"3 "},{"v":2,"d":"2 "},{"v":1,"d":"1 "},{"v":15,"d":"15 "},{"v":7,"d":"7 "},{"v":47,"d":"47 "},"-","-","-",{"v":2,"d":"2 "},{"v":3,"d":"3 "},{"v":1,"d":"1 "},{"v":3,"d":"3 "},{"v":2,"d":"2 "},{"v":4,"d":"4 "},{"v":5,"d":"5 "},{"v":5,"d":"5 "},{"v":8,"d":"8 "},{"v":6,"d":"6 "},{"v":7,"d":"7 "},{"v":1,"d":"1 "},64.5,64.9,64.1,{"v":34,"d":"34 "},"-","-","-","-",{"v":1,"d":"1 "},"-","-",{"v":2,"d":"2 "},{"v":2,"d":"2 "},{"v":3,"d":"3 "},{"v":5,"d":"5 "},{"v":7,"d":"7 "},{"v":6,"d":"6 "},{"v":7,"d":"7 "},{"v":1,"d":"1 "},70.7,72.6,68.8,{"v":33,"d":"33 "},"-","-","-","-","-","-","-",{"v":2,"d":"2 "},{"v":2,"d":"2 "},{"v":3,"d":"3 "},{"v":5,"d":"5 "},{"v":7,"d":"7 "},{"v":6,"d":"6 "},{"v":7,"d":"7 "},{"v":1,"d":"1 "},71.7,72.6,70.7,{"v":20,"d":"20 "},"-","-","-","-","-",{"v":1,"d":"1 "},{"v":1,"d":"1 "},"-",{"v":3,"d":"3 "},{"v":2,"d":"2 "},{"v":3,"d":"3 "},{"v":4,"d":"4 "},{"v":3,"d":"3 "},{"v":3,"d":"3 "},"-",{"v":5,"d":"5 "},"-","-","-",{"v":1,"d":"1 "},"-","-",{"v":1,"d":"1 "},{"v":1,"d":"1 "},{"v":1,"d":"1 "},"-",{"v":1,"d":"1 "},"-","-",{"$nulls":7},{"v":57,"d":"57 "},{"v":49,"d":"49 "},{"v":33,"d":"33 "},{"v":15,"d":"15 "},{"v":1,"d":"1 "},{"v":4,"d":"4 "},{"v":2,"d":"2 "},{"v":2,"d":"2 "},{"v":20,"d":"20 "},"-","-","-","-","-","-",{"v":20,"d":"20 "},"-","-","-","-","-","-","-","-",{"v":20,"d":"20 "},{"v":1524,"d":"1,524 "},"-","-",{"v":1524,"d":"1,524 "},28,27,17,10,"-","-",1,"-",29,22,16,5,1,4,1,2]
["山梨県","笛吹市","石和町","広瀬",{"v":66,"d":"66 "},{"v":55,"d":"55 "},{"v":25,"d":"25 "},{"v":25,"d":"25 "},{"v":9,"d":"9 "},{"v":6,"d":"6 "},{"v":21,"d":"21 "},{"v":11,"d":"11 "},{"v":137,"d":"137 "},{"v":1,"d":"1 "},{"v":2,"d":"2 "},{"v":7,"d":"7 "},{"v":8,"d":"8 "},{"v":3,"d":"3 "},{"v":6,"d":"6 "},{"v":5,"d":"5 "},{"v":11,"d":"11 "},{"v":19,"d":"19 "},{"v":19,"d":"19 "},{"v":15,"d":"15 "},{"v":13,"d":"13 "},{"v":14,"d":"14 "},{"v":12,"d":"12 "},{"v":2,"d":"2 "},59.3,57.1,61.5,{"v":107,"d":"107 "},"-","-",{"v":1,"d":"1 "},{"v":3,"d":"3 "},"-",{"v":3,"d":"3 "},{"v":3,"d":"3 "},{"v":9,"d":"9 "},{"v":15,"d":"15 "},{"v":18,"d":"18 "},{"v":15,"d":"15 "},{"v":13,"d":"13 "},{"v":13,"d":"13 "},{"v":12,"d":"12 "},{"v":2,"d":"2 "},64.9,64.1,65.6,{"v":98,"d":"98 "},"-","-",{"v":1,"d":"1 "},{"v":2,"d":"2 "},"-",{"v":2,"d":"2 "},{"v":3,"d":"3 "},{"v":9,"d":"9 "},{"v":15,"d":"15 "},{"v":18,"d":"18 "},{"v":15,"d":"15 "},{"v":12,"d":"12 "},{"v":12,"d":"12 "},{"v":9,"d":"9 "},"-",64.2,64.8,63.7,{"v":55,"d":"55 "},"-","-","-","-","-",{"v":2,"d":"2 "},{"v":2,"d":"2 "},{"v":6,"d":"6 "},{"v":9,"d":"9 "},{"v":8,"d":"8 "},{"v":8,"d":"8 "},{"v":8,"d":"8 "},{"v":8,"d":"8 "},{"v":4,"d":"4 "},"-",{"v":23,"d":"23 "},"-","-","-","-","-",{"v":2,"d":"2 "},{"v":3,"d":"3 "},{"v":2,"d":"2 "},{"v":6,"d":"6 "},{"v":3,"d":"3 "},{"v":6,"d":"6 "},{"v":1,"d":"1 "},"-",{"$nulls":7},{"v":178,"d":"178 "},{"v":141,"d":"141 "},{"v":98,"d":"98 "},{"v":38,"d":"38 "},{"v":5,"d":"5 "},{"v":7,"d":"7 "},{"v":10,"d":"10 "},{"v":20,"d":"20 "},{"v":55,"d":"55 "},"-","-","-","-","-","-",{"v":55,"d":"55 "},"-","-","-","-","-","-","-","-",{"v":55,"d":"55 "},{"v":3335,"d":"3,335 "},"-",{"v":36,"d":"36 "},{"v":3299,"d":"3,299 "},84,75,49,23,3,"-",5,4,94,66,49,15,2,7,5,16]
["山梨県","笛吹市","岡部村２－２","松本",{"v":19,"d":"19 "},{"v":7,"d":"7 "},"-","-",{"v":4,"d":"4 "},{"v":3,"d":"3 "},{"v":3,"d":"3 "},{"v":12,"d":"12 "},{"v":18,"d":"18 "},"-","-",{"v":1,"d":"1 "},"-",{"v":1,"d":"1 "},{"v":1,"d":"1 "},"-","-",{"v":3,"d":"3 "},{"v":2,"d":"2 "},{"v":5,"d":"5 "},{"v":2,"d":"2 "},{"v":1,"d":"1 "},{"v":1,"d":"1 "},{"v":1,"d":"1 "},62.6,65.9,59.3,{"v":13,"d":"13 "},"-","-","-","-","-","-","-","-",{"v":1,"d":"1 "},{"v":2,"d":"2 "},{"v":5,"d":"5 "},{"v":2,"d":"2 "},{"v":1,"d":"1 "},{"v":1,"d":"1 "},{"v":1,"d":"1 "},69.7,72.5,67.3,{"v":13,"d":"13 "},"-","-","-","-","-","-","-","-",{"v":1,"d":"1 "},{"v":2,"d":"2 "},{"v":5,"d":"5 "},{"v":2,"d":"2 "},{"v":1,"d":"1 "},{"v":1,"d":"1 "},{"v":1,"d":"1 "},69.7,72.5,67.3,{"v":7,"d":"7 "},"-","-","-","-","-","-","-","-",{"v":1,"d":"1 "},"-",{"v":3,"d":"3 "},{"v":1,"d":"1 "},{"v":1,"d":"1 "},"-",{"v":1,"d":"1 "},{"v":3,"d":"3 "},"-","-","-","-","-","-","-","-",{"v":2,"d":"2 "},{"v":1,"d":"1 "},"-","-","-",{"$nulls":7},{"v":23,"d":"23 "},{"v":19,"d":"19 "},{"v":13,"d":"13 "},{"v":4,"d":"4 "},{"v":2,"d":"2 "},"-",{"v":3,"d":"3 "},{"v":1,"d":"1 "},{"v":7,"d":"7 "},"-","-","-","-","-","-",{"v":7,"d":"7 "},"-","-","-","-","-","-","-","-",{"v":7,"d":"7 "},{"v":287,"d":"287 "},"-","-",{"v":287,"d":"287 "},9,9,6,1,2,"-","-","-",14,10,7,3,"-","-",3,1]
["山梨県","笛吹市","黒駒村",null,{"v":269,"d":"269 "},{"v":244,"d":"244 "},{"v":74,"d":"74 "},{"v":65,"d":"65 "},{"v":56,"d":"56 "},{"v":34,"d":"34 "},{"v":114,"d":"114 "},{"v":25,"d":"25 "},{"v":586,"d":"586 "},{"v":9,"d":"9 "},{"v":10,"d":"10 "},{"v":6,"d":"6 "},{"v":16,"d":"16 "},{"v":20,"d":"20 "},{"v":37,"d":"37 "},{"v":39,"d":"39 "},{"v":35,"d":"35 "},{"v":71,"d":"71 "},{"v":65,"d":"65 "},{"v":79,"d":"79 "},{"v":80,"d":"80 "},{"v":58,"d":"58 "},{"v":41,"d":"41 "},{"v":20,"d":"20 "},60.9,60.9,60.9,{"v":417,"d":"417 "},{"v":6,"d":"6 "},{"v":1,"d":"1 "},{"v":1,"d":"1 "},{"v":4,"d":"4 "},{"v":6,"d":"6 "},{"v":9,"d":"9 "},{"v":7,"d":"7 "},{"v":19,"d":"19 "},{"v":45,"d":"45 "},{"v":53,"d":"53 "},{"v":71,"d":"71 "},{"v":79,"d":"79 "},{"v":58,"d":"58 "},{"v":39,"d":"39 "},{"v":19,"d":"19 "},66.7,67.4,65.8,{"v":367,"d":"367 "},"-",{"v":1,"d":"1 "},{"v":1,"d":"1 "},{"v":2,"d":"2 "},{"v":6,"d":"6 "},{"v":6,"d":"6 "},{"v":6,"d":"6 "},{"v":19,"d":"19 "},{"v":40,"d":"40 "},{"v":50,"d":"50 "},{"v":67,"d":"67 "},{"v":73,"d":"73 "},{"v":50,"d":"50 "},{"v":32,"d":"32 "},{"v":14,"d":"14 "},67.2,67.6,66.6,{"v":244,"d":"244 "},"-","-","-","-",{"v":3,"d":"3 "},{"v":7,"d":"7 "},{"v":7,"d":"7 "},{"v":13,"d":"13 "},{"v":31,"d":"31 "},{"v":30,"d":"30 "},{"v":41,"d":"41 "},{"v":49,"d":"49 "},{"v":31,"d":"31 "},{"v":22,"d":"22 "},{"v":10,"d":"10 "},{"v":112,"d":"112 "},"-","-","-",{"v":3,"d":"3 "},{"v":3,"d":"3 "},{"v":5,"d":"5 "},{"v":14,"d":"14 "},{"v":6,"d":"6 "},{"v":24,"d":"24 "},{"v":19,"d":"19 "},{"v":19,"d":"19 "},{"v":11,"d":"11 "},{"v":8,"d":"8 "},{"$nulls":7},{"v":790,"d":"790 "},{"v":598,"d":"598 "},{"v":367,"d":"367 "},{"v":210,"d":"210 "},{"v":21,"d":"21 "},{"v":68,"d":"68 "},{"v":53,"d":"53 "},{"v":71,"d":"71 "},{"v":242,"d":"242 "},"-","-","-","-",{"v":15,"d":"15 "},"-",{"v":217,"d":"217 "},{"v":8,"d":"8 "},"-",{"v":1,"d":"1 "},"-","-",{"v":1,"d":"1 "},"-","-",{"v":244,"d":"244 "},{"v":17135,"d":"17,135 "},{"v":123,"d":"123 "},{"v":1896,"d":"1,896 "},{"v":15116,"d":"15,116 "},394,336,213,115,8,1,26,31,396,262,154,95,13,67,27,40]
["山梨県","笛吹市","黒駒村","新田",{"v":4,"d":"4 "},{"v":2,"d":"2 "},"x","x","x","x","x",{"v":2,"d":"2 "},"x","x","x","x","x","x","x","x","x","x","x","x","x","x","x","x",76.8,{"v":80,"d":"80.0"},73.5,"x","x","x","x","x","x","x","x","x","x","x","x","x","x","x","x",76.8,{"v":80,"d":"80.0"},73.5,"x","x","x","x","x","x","x","x","x","x","x","x","x","x","x","x",79.3,{"v":80,"d":"80.0"},{"v":78,"d":"78.0"},{"v":2,"d":"2 "},"-","-","-","-","-","-","-","-","-","-","-","-",{"v":1,"d":"1 "},"-",{"v":1,"d":"1 "},{"v":1,"d":"1 "},"-","-","-","-","-","-","-","-","-","-",{"v":1,"d":"1 "},"-","-",{"$nulls":7},{"v":4,"d":"4 "},{"v":3,"d":"3 "},{"v":3,"d":"3 "},"-","-",{"v":1,"d":"1 "},"-","-",{"v":2,"d":"2 "},"-","-","-","-",{"v":2,"d":"2 "},"-","-","-","-","-","-","-","-","-","-",{"v":2,"d":"2 "},{"v":55,"d":"55 "},"-",{"v":55,"d":"55 "},"-",2,2,2,"-","-","-","-","-",2,1,1,"-","-",1,"-","-"]
["山梨県","笛吹市","黒駒村","下黒駒",{"v":61,"d":"61 "},{"v":58,"d":"58 "},{"v":18,"d":"18 "},{"v":17,"d":"17 "},{"v":14,"d":"14 "},{"v":8,"d":"8 "},{"v":26,"d":"26 "},{"v":3,"d":"3 "},{"v":148,"d":"148 "},{"v":3,"d":"3 "},{"v":1,"d":"1 "},{"v":1,"d":"1 "},{"v":6,"d":"6 "},{"v":5,"d":"5 "},{"v":15,"d":"15 "},{"v":8,"d":"8 "},{"v":11,"d":"11 "},{"v":17,"d":"17 "},{"v":12,"d":"12 "},{"v":20,"d":"20 "},{"v":18,"d":"18 "},{"v":15,"d":"15 "},{"v":11,"d":"11 "},{"v":5,"d":"5 "},60.4,{"v":60,"d":"60.0"},60.8,{"v":110,"d":"110 "},{"v":2,"d":"2 "},{"v":1,"d":"1 "},{"v":1,"d":"1 "},{"v":3,"d":"3 "},{"v":2,"d":"2 "},{"v":7,"d":"7 "},{"v":3,"d":"3 "},{"v":6,"d":"6 "},{"v":11,"d":"11 "},{"v":8,"d":"8 "},{"v":17,"d":"17 "},{"v":18,"d":"18 "},{"v":15,"d":"15 "},{"v":11,"d":"11 "},{"v":5,"d":"5 "},64.4,64.6,64.3,{"v":90,"d":"90 "},"-",{"v":1,"d":"1 "},{"v":1,"d":"1 "},{"v":1,"d":"1 "},{"v":2,"d":"2 "},{"v":4,"d":"4 "},{"v":3,"d":"3 "},{"v":6,"d":"6 "},{"v":9,"d":"9 "},{"v":8,"d":"8 "},{"v":17,"d":"17 "},{"v":16,"d":"16 "},{"v":13,"d":"13 "},{"v":8,"d":"8 "},{"v":1,"d":"1 "},64.9,64.7,65.3,{"v":58,"d":"58 "},"-","-","-","-","-",{"v":4,"d":"4 "},"-",{"v":6,"d":"6 "},{"v":9,"d":"9 "},{"v":5,"d":"5 "},{"v":9,"d":"9 "},{"v":12,"d":"12 "},{"v":6,"d":"6 "},{"v":6,"d":"6 "},{"v":1,"d":"1 "},{"v":29,"d":"29 "},"-","-","-",{"v":1,"d":"1 "},"-",{"v":2,"d":"2 "},{"v":5,"d":"5 "},{"v":1,"d":"1 "},{"v":7,"d":"7 "},{"v":5,"d":"5 "},{"v":4,"d":"4 "},{"v":3,"d":"3 "},{"v":1,"d":"1 "},{"$nulls":7},{"v":198,"d":"198 "},{"v":147,"d":"147 "},{"v":90,"d":"90 "},{"v":53,"d":"53 "},{"v":4,"d":"4 "},{"v":21,"d":"21 "},{"v":11,"d":"11 "},{"v":19,"d":"19 "},{"v":58,"d":"58 "},"-","-","-","-","-","-",{"v":53,"d":"53 "},{"v":5,"d":"5 "},"-","-","-","-","-","-","-",{"v":58,"d":"58 "},{"v":3792,"d":"3,792 "},{"v":10,"d":"10 "},{"v":230,"d":"230 "},{"v":3552,"d":"3,552 "},98,84,54,28,2,"-",5,9,100,63,36,25,2,21,6,10]
["山梨県","笛吹市","錦生村","下井之上",{"v":26,"d":"26 "},{"v":25,"d":"25 "},{"v":11,"d":"11 "},{"v":11,"d":"11 "},{"v":2,"d":"2 "},{"v":1,"d":"1 "},{"v":12,"d":"12 "},{"v":1,"d":"1 "},{"v":58,"d":"58 "},"-","-",{"v":2,"d":"2 "},"-",{"v":3,"d":"3 "},{"v":1,"d":"1 "},{"v":3,"d":"3 "},{"v":7,"d":"7 "},{"v":7,"d":"7 "},{"v":5,"d":"5 "},{"v":3,"d":"3 "},{"v":12,"d":"12 "},{"v":7,"d":"7 "},{"v":5,"d":"5 "},{"v":3,"d":"3 "},64.1,61.9,66.5,{"v":49,"d":"49 "},"-","-",{"v":1,"d":"1 "},"-",{"v":1,"d":"1 "},{"v":1,"d":"1 "},{"v":3,"d":"3 "},{"v":5,"d":"5 "},{"v":4,"d":"4 "},{"v":4,"d":"4 "},{"v":3,"d":"3 "},{"v":12,"d":"12 "},{"v":7,"d":"7 "},{"v":5,"d":"5 "},{"v":3,"d":"3 "},66.8,66.3,67.4,{"v":45,"d":"45 "},"-","-",{"v":1,"d":"1 "},"-","-",{"v":1,"d":"1 "},{"v":3,"d":"3 "},{"v":5,"d":"5 "},{"v":4,"d":"4 "},{"v":4,"d":"4 "},{"v":3,"d":"3 "},{"v":12,"d":"12 "},{"v":6,"d":"6 "},{"v":4,"d":"4 "},{"v":2,"d":"2 "},66.4,66.3,66.6,{"v":25,"d":"25 "},"-","-","-","-","-","-","-",{"v":4,"d":"4 "},{"v":5,"d":"5 "},{"v":2,"d":"2 "},{"v":1,"d":"1 "},{"v":6,"d":"6 "},{"v":4,"d":"4 "},{"v":2,"d":"2 "},{"v":1,"d":"1 "},{"v":12,"d":"12 "},"-","-","-","-","-",{"v":2,"d":"2 "},{"v":2,"d":"2 "},"-",{"v":1,"d":"1 "},{"v":4,"d":"4 "},{"v":1,"d":"1 "},{"v":1,"d":"1 "},{"v":1,"d":"1 "},{"$nulls":7},{"v":74,"d":"74 "},{"v":62,"d":"62 "},{"v":45,"d":"45 "},{"v":17,"d":"17 "},"-",{"v":4,"d":"4 "},{"v":5,"d":"5 "},{"v":3,"d":"3 "},{"v":25,"d":"25 "},"-","-","-","-","-","-",{"v":24,"d":"24 "},{"v":1,"d":"1 "},"-","-","-","-","-","-","-",{"v":25,"d":"25 "},{"v":2279,"d":"2,279 "},"-",{"v":72,"d":"72 "},{"v":2207,"d":"2,207 "},42,36,24,12,"-","-",5,1,32,26,21,5,"-",4,"-",2]
["山梨県","笛吹市","錦生村","八千藏",{"v":47,"d":"47 "},{"v":37,"d":"37 "},{"v":13,"d":"13 "},{"v":11,"d":"11 "},{"v":6,"d":"6 "},{"v":1,"d":"1 "},{"v":18,"d":"18 "},{"v":10,"d":"10 "},{"v":90,"d":"90 "},"-",{"v":4,"d":"4 "},{"v":2,"d":"2 "},{"v":2,"d":"2 "},{"v":4,"d":"4 "},{"v":3,"d":"3 "},{"v":4,"d":"4 "},{"v":12,"d":"12 "},{"v":9,"d":"9 "},{"v":7,"d":"7 "},{"v":10,"d":"10 "},{"v":12,"d":"12 "},{"v":13,"d":"13 "},{"v":6,"d":"6 "},{"v":2,"d":"2 "},60.4,58.7,62.5,{"v":63,"d":"63 "},"-",{"v":1,"d":"1 "},{"v":2,"d":"2 "},"-",{"v":2,"d":"2 "},"-",{"v":2,"d":"2 "},{"v":4,"d":"4 "},{"v":6,"d":"6 "},{"v":6,"d":"6 "},{"v":8,"d":"8 "},{"v":11,"d":"11 "},{"v":13,"d":"13 "},{"v":6,"d":"6 "},{"v":2,"d":"2 "},{"v":66,"d":"66.0"},66.4,65.6,{"v":53,"d":"53 "},"-","-",{"v":1,"d":"1 "},"-",{"v":1,"d":"1 "},"-",{"v":2,"d":"2 "},{"v":4,"d":"4 "},{"v":4,"d":"4 "},{"v":6,"d":"6 "},{"v":6,"d":"6 "},{"v":9,"d":"9 "},{"v":12,"d":"12 "},{"v":6,"d":"6 "},{"v":2,"d":"2 "},68.1,67.8,68.7,{"v":37,"d":"37 "},"-","-","-","-","-",{"v":1,"d":"1 "},"-",{"v":5,"d":"5 "},{"v":4,"d":"4 "},{"v":2,"d":"2 "},{"v":5,"d":"5 "},{"v":8,"d":"8 "},{"v":6,"d":"6 "},{"v":3,"d":"3 "},{"v":3,"d":"3 "},{"v":17,"d":"17 "},"-","-","-","-","-",{"v":1,"d":"1 "},{"v":3,"d":"3 "},{"v":2,"d":"2 "},{"v":2,"d":"2 "},{"v":2,"d":"2 "},{"v":3,"d":"3 "},{"v":2,"d":"2 "},{"v":2,"d":"2 "},{"$nulls":7},{"v":125,"d":"125 "},{"v":87,"d":"87 "},{"v":53,"d":"53 "},{"v":32,"d":"32 "},{"v":2,"d":"2 "},{"v":11,"d":"11 "},{"v":11,"d":"11 "},{"v":16,"d":"16 "},{"v":37,"d":"37 "},"-","-","-","-","-",{"v":1,"d":"1 "},{"v":35,"d":"35 "},"-","-","-","-","-",{"v":1,"d":"1 "},"-","-",{"v":37,"d":"37 "},{"v":2604,"d":"2,604 "},"-",{"v":72,"d":"72 "},{"v":2532,"d":"2,532 "},69,54,32,20,2,"-",8,7,56,33,21,12,"-",11,3,9]
["山梨県","笛吹市","花鳥村２－２","大野寺",{"v":40,"d":"40 "},{"v":40,"d":"40 "},{"v":18,"d":"18 "},{"v":17,"d":"17 "},{"v":11,"d":"11 "},{"v":6,"d":"6 "},{"v":11,"d":"11 "},"-",{"v":119,"d":"119 "},{"v":6,"d":"6 "},{"v":1,"d":"1 "},{"v":8,"d":"8 "},{"v":3,"d":"3 "},{"v":4,"d":"4 "},{"v":1,"d":"1 "},{"v":7,"d":"7 "},{"v":20,"d":"20 "},{"v":16,"d":"16 "},{"v":12,"d":"12 "},{"v":5,"d":"5 "},{"v":6,"d":"6 "},{"v":10,"d":"10 "},{"v":11,"d":"11 "},{"v":9,"d":"9 "},57.6,55.7,59.6,{"v":87,"d":"87 "},{"v":3,"d":"3 "},"-",{"v":3,"d":"3 "},{"v":2,"d":"2 "},"-","-",{"v":2,"d":"2 "},{"v":15,"d":"15 "},{"v":10,"d":"10 "},{"v":11,"d":"11 "},{"v":5,"d":"5 "},{"v":6,"d":"6 "},{"v":10,"d":"10 "},{"v":11,"d":"11 "},{"v":9,"d":"9 "},63.7,61.9,65.3,{"v":73,"d":"73 "},"-","-",{"v":1,"d":"1 "},{"v":1,"d":"1 "},"-","-",{"v":2,"d":"2 "},{"v":15,"d":"15 "},{"v":10,"d":"10 "},{"v":11,"d":"11 "},{"v":5,"d":"5 "},{"v":6,"d":"6 "},{"v":8,"d":"8 "},{"v":9,"d":"9 "},{"v":5,"d":"5 "},{"v":65,"d":"65.0"},{"v":65,"d":"65.0"},65.1,{"v":40,"d":"40 "},"-","-","-","-","-","-",{"v":3,"d":"3 "},{"v":9,"d":"9 "},{"v":7,"d":"7 "},{"v":8,"d":"8 "},{"v":4,"d":"4 "},{"v":2,"d":"2 "},{"v":3,"d":"3 "},{"v":4,"d":"4 "},"-",{"v":19,"d":"19 "},"-","-","-","-","-",{"v":4,"d":"4 "},{"v":5,"d":"5 "},{"v":3,"d":"3 "},{"v":2,"d":"2 "},"-",{"v":2,"d":"2 "},{"v":3,"d":"3 "},"-",{"$nulls":7},{"v":154,"d":"154 "},{"v":112,"d":"112 "},{"v":73,"d":"73 "},{"v":37,"d":"37 "},{"v":2,"d":"2 "},{"v":10,"d":"10 "},{"v":19,"d":"19 "},{"v":13,"d":"13 "},{"v":40,"d":"40 "},"-","-","-","-","-","-",{"v":39,"d":"39 "},{"v":1,"d":"1 "},"-","-","-","-","-","-","-",{"v":40,"d":"40 "},{"v":4236,"d":"4,236 "},"-",{"v":51,"d":"51 "},{"v":4185,"d":"4,185 "},74,57,36,20,1,1,11,5,80,55,37,17,1,9,8,8]
["山梨県","笛吹市","一宮村","下矢作",{"v":27,"d":"27 "},{"v":25,"d":"25 "},{"v":8,"d":"8 "},{"v":7,"d":"7 "},{"v":5,"d":"5 "},{"v":3,"d":"3 "},{"v":12,"d":"12 "},{"v":2,"d":"2 "},{"v":61,"d":"61 "},"-",{"v":2,"d":"2 "},"-",{"v":1,"d":"1 "},"-",{"v":4,"d":"4 "},{"v":5,"d":"5 "},{"v":2,"d":"2 "},{"v":9,"d":"9 "},{"v":9,"d":"9 "},{"v":8,"d":"8 "},{"v":10,"d":"10 "},{"v":6,"d":"6 "},{"v":4,"d":"4 "},{"v":1,"d":"1 "},{"v":62,"d":"62.0"},62.7,61.1,{"v":47,"d":"47 "},"-","-","-","-","-",{"v":2,"d":"2 "},"-",{"v":2,"d":"2 "},{"v":7,"d":"7 "},{"v":8,"d":"8 "},{"v":7,"d":"7 "},{"v":10,"d":"10 "},{"v":6,"d":"6 "},{"v":4,"d":"4 "},{"v":1,"d":"1 "},{"v":67,"d":"67.0"},69.3,64.8,{"v":43,"d":"43 "},"-","-","-","-","-",{"v":1,"d":"1 "},"-",{"v":2,"d":"2 "},{"v":6,"d":"6 "},{"v":8,"d":"8 "},{"v":7,"d":"7 "},{"v":10,"d":"10 "},{"v":6,"d":"6 "},{"v":2,"d":"2 "},{"v":1,"d":"1 "},67.2,68.7,65.5,{"v":25,"d":"25 "},"-","-","-","-","-","-",{"v":1,"d":"1 "},"-",{"v":4,"d":"4 "},{"v":5,"d":"5 "},{"v":4,"d":"4 "},{"v":5,"d":"5 "},{"v":4,"d":"4 "},{"v":1,"d":"1 "},{"v":1,"d":"1 "},{"v":7,"d":"7 "},"-","-","-","-","-","-","-",{"v":1,"d":"1 "},{"v":1,"d":"1 "},{"v":1,"d":"1 "},{"v":2,"d":"2 "},{"v":1,"d":"1 "},{"v":1,"d":"1 "},{"$nulls":7},{"v":78,"d":"78 "},{"v":64,"d":"64 "},{"v":43,"d":"43 "},{"v":19,"d":"19 "},{"v":2,"d":"2 "},{"v":4,"d":"4 "},{"v":4,"d":"4 "},{"v":6,"d":"6 "},{"v":25,"d":"25 "},"-","-","-","-","-","-",{"v":25,"d":"25 "},"-","-","-","-","-","-","-","-",{"v":25,"d":"25 "},{"v":1565,"d":"1,565 "},"-","-",{"v":1565,"d":"1,565 "},36,32,22,10,"-","-",2,2,42,32,21,9,2,4,2,4]
["山梨県","笛吹市","一宮村","坪井",{"v":57,"d":"57 "},{"v":54,"d":"54 "},{"v":25,"d":"25 "},{"v":25,"d":"25 "},{"v":10,"d":"10 "},{"v":8,"d":"8 "},{"v":19,"d":"19 "},{"v":3,"d":"3 "},{"v":137,"d":"137 "},{"v":2,"d":"2 "},{"v":6,"d":"6 "},{"v":1,"d":"1 "},{"v":1,"d":"1 "},{"v":6,"d":"6 "},{"v":7,"d":"7 "},{"v":12,"d":"12 "},{"v":11,"d":"11 "},{"v":10,"d":"10 "},{"v":15,"d":"15 "},{"v":17,"d":"17 "},{"v":13,"d":"13 "},{"v":16,"d":"16 "},{"v":13,"d":"13 "},{"v":7,"d":"7 "},60.7,61.4,59.9,{"v":105,"d":"105 "},"-","-","-","-",{"v":3,"d":"3 "},{"v":4,"d":"4 "},{"v":6,"d":"6 "},{"v":7,"d":"7 "},{"v":6,"d":"6 "},{"v":14,"d":"14 "},{"v":17,"d":"17 "},{"v":13,"d":"13 "},{"v":16,"d":"16 "},{"v":13,"d":"13 "},{"v":6,"d":"6 "},66.6,65.9,67.5,{"v":99,"d":"99 "},"-","-","-","-",{"v":3,"d":"3 "},{"v":4,"d":"4 "},{"v":5,"d":"5 "},{"v":7,"d":"7 "},{"v":6,"d":"6 "},{"v":14,"d":"14 "},{"v":14,"d":"14 "},{"v":13,"d":"13 "},{"v":15,"d":"15 "},{"v":13,"d":"13 "},{"v":5,"d":"5 "},66.5,65.5,67.9,{"v":54,"d":"54 "},"-","-","-","-","-",{"v":4,"d":"4 "},{"v":2,"d":"2 "},{"v":5,"d":"5 "},{"v":6,"d":"6 "},{"v":6,"d":"6 "},{"v":7,"d":"7 "},{"v":8,"d":"8 "},{"v":6,"d":"6 "},{"v":7,"d":"7 "},{"v":3,"d":"3 "},{"v":27,"d":"27 "},"-","-","-","-",{"v":1,"d":"1 "},{"v":1,"d":"1 "},{"v":2,"d":"2 "},{"v":1,"d":"1 "},{"v":4,"d":"4 "},{"v":7,"d":"7 "},{"v":4,"d":"4 "},{"v":5,"d":"5 "},{"v":2,"d":"2 "},{"$nulls":7},{"v":171,"d":"171 "},{"v":137,"d":"137 "},{"v":99,"d":"99 "},{"v":36,"d":"36 "},{"v":2,"d":"2 "},{"v":9,"d":"9 "},{"v":16,"d":"16 "},{"v":9,"d":"9 "},{"v":54,"d":"54 "},"-","-","-","-","-","-",{"v":54,"d":"54 "},"-","-","-","-","-","-","-","-",{"v":54,"d":"54 "},{"v":3805,"d":"3,805 "},"-",{"v":25,"d":"25 "},{"v":3780,"d":"3,780 "},87,76,56,19,1,"-",7,4,84,61,43,17,1,9,9,5]
["山梨県","笛吹市","浅間村","金沢",{"v":35,"d":"35 "},{"v":33,"d":"33 "},{"v":10,"d":"10 "},{"v":7,"d":"7 "},{"v":4,"d":"4 "},{"v":1,"d":"1 "},{"v":19,"d":"19 "},{"v":2,"d":"2 "},{"v":78,"d":"78 "},"-",{"v":1,"d":"1 "},{"v":2,"d":"2 "},{"v":3,"d":"3 "},{"v":4,"d":"4 "},{"v":2,"d":"2 "},{"v":4,"d":"4 "},{"v":4,"d":"4 "},{"v":4,"d":"4 "},{"v":8,"d":"8 "},{"v":9,"d":"9 "},{"v":16,"d":"16 "},{"v":17,"d":"17 "},{"v":3,"d":"3 "},{"v":1,"d":"1 "},63.1,63.2,62.9,{"v":62,"d":"62 "},"-","-",{"v":1,"d":"1 "},{"v":1,"d":"1 "},{"v":3,"d":"3 "},{"v":1,"d":"1 "},{"v":2,"d":"2 "},{"v":1,"d":"1 "},{"v":2,"d":"2 "},{"v":6,"d":"6 "},{"v":8,"d":"8 "},{"v":16,"d":"16 "},{"v":17,"d":"17 "},{"v":3,"d":"3 "},{"v":1,"d":"1 "},67.2,66.3,68.4,{"v":54,"d":"54 "},"-","-","-",{"v":1,"d":"1 "},{"v":1,"d":"1 "},{"v":1,"d":"1 "},{"v":2,"d":"2 "},{"v":1,"d":"1 "},{"v":1,"d":"1 "},{"v":6,"d":"6 "},{"v":8,"d":"8 "},{"v":16,"d":"16 "},{"v":13,"d":"13 "},{"v":3,"d":"3 "},{"v":1,"d":"1 "},68.6,68.4,{"v":69,"d":"69.0"},{"v":33,"d":"33 "},"-","-","-","-","-","-",{"v":1,"d":"1 "},{"v":2,"d":"2 "},{"v":1,"d":"1 "},{"v":4,"d":"4 "},{"v":4,"d":"4 "},{"v":11,"d":"11 "},{"v":8,"d":"8 "},{"v":2,"d":"2 "},"-",{"v":13,"d":"13 "},"-","-","-","-","-","-",{"v":1,"d":"1 "},{"v":1,"d":"1 "},{"v":1,"d":"1 "},{"v":6,"d":"6 "},{"v":4,"d":"4 "},"-","-",{"$nulls":7},{"v":91,"d":"91 "},{"v":75,"d":"75 "},{"v":54,"d":"54 "},{"v":18,"d":"18 "},{"v":3,"d":"3 "},{"v":8,"d":"8 "},{"v":4,"d":"4 "},{"v":4,"d":"4 "},{"v":32,"d":"32 "},"-","-","-","-","-","-",{"v":32,"d":"32 "},"-","-","-","-","-","-","-","-",{"v":33,"d":"33 "},{"v":2457,"d":"2,457 "},"-",{"v":58,"d":"58 "},{"v":2399,"d":"2,399 "},48,42,32,8,2,1,3,2,43,33,22,10,1,7,1,2]
["山梨県","笛吹市","浅間村","塩田",{"v":65,"d":"65 "},{"v":56,"d":"56 "},{"v":16,"d":"16 "},{"v":14,"d":"14 "},{"v":11,"d":"11 "},{"v":6,"d":"6 "},{"v":29,"d":"29 "},{"v":9,"d":"9 "},{"v":134,"d":"134 "},"-",{"v":2,"d":"2 "},{"v":3,"d":"3 "},{"v":3,"d":"3 "},{"v":3,"d":"3 "},{"v":4,"d":"4 "},{"v":8,"d":"8 "},{"v":14,"d":"14 "},{"v":13,"d":"13 "},{"v":15,"d":"15 "},{"v":18,"d":"18 "},{"v":15,"d":"15 "},{"v":18,"d":"18 "},{"v":11,"d":"11 "},{"v":7,"d":"7 "},62.9,62.8,63.1,{"v":100,"d":"100 "},"-","-","-","-",{"v":2,"d":"2 "},{"v":1,"d":"1 "},{"v":3,"d":"3 "},{"v":6,"d":"6 "},{"v":7,"d":"7 "},{"v":13,"d":"13 "},{"v":18,"d":"18 "},{"v":14,"d":"14 "},{"v":18,"d":"18 "},{"v":11,"d":"11 "},{"v":7,"d":"7 "},68.8,70.5,{"v":67,"d":"67.0"},{"v":90,"d":"90 "},"-","-","-","-",{"v":1,"d":"1 "},"-",{"v":1,"d":"1 "},{"v":6,"d":"6 "},{"v":7,"d":"7 "},{"v":13,"d":"13 "},{"v":17,"d":"17 "},{"v":12,"d":"12 "},{"v":17,"d":"17 "},{"v":11,"d":"11 "},{"v":5,"d":"5 "},69.3,70.5,67.9,{"v":56,"d":"56 "},"-","-","-","-","-",{"v":2,"d":"2 "},"-",{"v":7,"d":"7 "},{"v":4,"d":"4 "},{"v":8,"d":"8 "},{"v":9,"d":"9 "},{"v":9,"d":"9 "},{"v":7,"d":"7 "},{"v":5,"d":"5 "},{"v":5,"d":"5 "},{"v":24,"d":"24 "},"-","-","-","-","-",{"v":1,"d":"1 "},{"v":1,"d":"1 "},{"v":4,"d":"4 "},{"v":2,"d":"2 "},{"v":7,"d":"7 "},{"v":2,"d":"2 "},{"v":5,"d":"5 "},{"v":2,"d":"2 "},{"$nulls":7},{"v":181,"d":"181 "},{"v":149,"d":"149 "},{"v":90,"d":"90 "},{"v":56,"d":"56 "},{"v":3,"d":"3 "},{"v":12,"d":"12 "},{"v":11,"d":"11 "},{"v":9,"d":"9 "},{"v":55,"d":"55 "},"-","-","-","-","-","-",{"v":55,"d":"55 "},"-","-","-","-","-","-","-","-",{"v":56,"d":"56 "},{"v":3449,"d":"3,449 "},"-","-",{"v":3449,"d":"3,449 "},87,82,51,28,3,"-",4,1,94,67,39,28,"-",12,7,8]
["山梨県","笛吹市","相興村","北野呂",{"v":26,"d":"26 "},{"v":25,"d":"25 "},{"v":7,"d":"7 "},{"v":6,"d":"6 "},{"v":3,"d":"3 "},{"v":1,"d":"1 "},{"v":15,"d":"15 "},{"v":1,"d":"1 "},{"v":57,"d":"57 "},{"v":1,"d":"1 "},"-",{"v":2,"d":"2 "},{"v":1,"d":"1 "},{"v":3,"d":"3 "},{"v":2,"d":"2 "},{"v":1,"d":"1 "},{"v":1,"d":"1 "},{"v":4,"d":"4 "},{"v":7,"d":"7 "},{"v":5,"d":"5 "},{"v":10,"d":"10 "},{"v":9,"d":"9 "},{"v":7,"d":"7 "},{"v":4,"d":"4 "},65.6,64.2,66.9,{"v":46,"d":"46 "},{"v":1,"d":"1 "},"-","-","-",{"v":1,"d":"1 "},{"v":1,"d":"1 "},{"v":1,"d":"1 "},{"v":1,"d":"1 "},{"v":3,"d":"3 "},{"v":5,"d":"5 "},{"v":5,"d":"5 "},{"v":8,"d":"8 "},{"v":9,"d":"9 "},{"v":7,"d":"7 "},{"v":4,"d":"4 "},69.7,69.9,69.6,{"v":39,"d":"39 "},"-","-","-","-",{"v":1,"d":"1 "},"-","-",{"v":1,"d":"1 "},{"v":3,"d":"3 "},{"v":5,"d":"5 "},{"v":5,"d":"5 "},{"v":7,"d":"7 "},{"v":8,"d":"8 "},{"v":6,"d":"6 "},{"v":3,"d":"3 "},71.2,70.7,71.7,{"v":25,"d":"25 "},"-","-","-","-",{"v":1,"d":"1 "},"-","-",{"v":1,"d":"1 "},{"v":1,"d":"1 "},{"v":6,"d":"6 "},"-",{"v":5,"d":"5 "},{"v":5,"d":"5 "},{"v":3,"d":"3 "},{"v":3,"d":"3 "},{"v":14,"d":"14 "},"-","-","-","-","-","-","-",{"v":2,"d":"2 "},"-",{"v":4,"d":"4 "},{"v":3,"d":"3 "},{"v":3,"d":"3 "},{"v":2,"d":"2 "},{"$nulls":7},{"v":64,"d":"64 "},{"v":51,"d":"51 "},{"v":39,"d":"39 "},{"v":12,"d":"12 "},"-",{"v":7,"d":"7 "},{"v":2,"d":"2 "},{"v":4,"d":"4 "},{"v":25,"d":"25 "},"-","-","-","-","-","-",{"v":25,"d":"25 "},"-","-","-","-","-","-","-","-",{"v":25,"d":"25 "},{"v":1569,"d":"1,569 "},"-","-",{"v":1569,"d":"1,569 "},30,28,20,8,"-",1,"-",1,34,23,19,4,"-",6,2,3]
["山梨県","笛吹市","八代村","大間田",{"v":23,"d":"23 "},{"v":23,"d":"23 "},{"v":8,"d":"8 "},{"v":8,"d":"8 "},{"v":4,"d":"4 "},{"v":3,"d":"3 "},{"v":11,"d":"11 "},"-",{"v":67,"d":"67 "},"-",{"v":2,"d":"2 "},{"v":3,"d":"3 "},{"v":4,"d":"4 "},{"v":2,"d":"2 "},"-",{"v":7,"d":"7 "},{"v":6,"d":"6 "},{"v":4,"d":"4 "},{"v":9,"d":"9 "},{"v":5,"d":"5 "},{"v":5,"d":"5 "},{"v":9,"d":"9 "},{"v":6,"d":"6 "},{"v":5,"d":"5 "},60.6,61.7,{"v":59,"d":"59.0"},{"v":48,"d":"48 "},"-",{"v":1,"d":"1 "},{"v":1,"d":"1 "},"-",{"v":1,"d":"1 "},"-",{"v":2,"d":"2 "},{"v":3,"d":"3 "},{"v":2,"d":"2 "},{"v":8,"d":"8 "},{"v":5,"d":"5 "},{"v":5,"d":"5 "},{"v":9,"d":"9 "},{"v":6,"d":"6 "},{"v":5,"d":"5 "},67.9,68.1,67.5,{"v":47,"d":"47 "},"-",{"v":1,"d":"1 "},{"v":1,"d":"1 "},"-",{"v":1,"d":"1 "},"-",{"v":1,"d":"1 "},{"v":3,"d":"3 "},{"v":2,"d":"2 "},{"v":8,"d":"8 "},{"v":5,"d":"5 "},{"v":5,"d":"5 "},{"v":9,"d":"9 "},{"v":6,"d":"6 "},{"v":5,"d":"5 "},68.3,68.1,68.7,{"v":23,"d":"23 "},"-","-","-","-","-","-",{"v":1,"d":"1 "},{"v":2,"d":"2 "},{"v":1,"d":"1 "},{"v":4,"d":"4 "},{"v":4,"d":"4 "},{"v":2,"d":"2 "},{"v":4,"d":"4 "},{"v":3,"d":"3 "},{"v":2,"d":"2 "},{"v":15,"d":"15 "},"-","-","-","-","-",{"v":1,"d":"1 "},"-",{"v":3,"d":"3 "},{"v":3,"d":"3 "},{"v":2,"d":"2 "},{"v":2,"d":"2 "},{"v":3,"d":"3 "},{"v":1,"d":"1 "},{"$nulls":7},{"v":85,"d":"85 "},{"v":71,"d":"71 "},{"v":47,"d":"47 "},{"v":24,"d":"24 "},"-",{"v":3,"d":"3 "},{"v":8,"d":"8 "},{"v":3,"d":"3 "},{"v":23,"d":"23 "},"-","-","-","-","-","-",{"v":23,"d":"23 "},"-","-","-","-","-","-","-","-",{"v":23,"d":"23 "},{"v":2126,"d":"2,126 "},"-",{"v":80,"d":"80 "},{"v":2046,"d":"2,046 "},45,42,29,13,"-","-",3,"-",40,29,18,11,"-",3,5,3]
["山梨県","笛吹市","御所村","永井",{"v":55,"d":"55 "},{"v":44,"d":"44 "},{"v":13,"d":"13 "},{"v":12,"d":"12 "},{"v":8,"d":"8 "},{"v":2,"d":"2 "},{"v":23,"d":"23 "},{"v":11,"d":"11 "},{"v":99,"d":"99 "},"-","-","-",{"v":2,"d":"2 "},{"v":1,"d":"1 "},{"v":3,"d":"3 "},{"v":3,"d":"3 "},{"v":10,"d":"10 "},{"v":9,"d":"9 "},{"v":14,"d":"14 "},{"v":17,"d":"17 "},{"v":14,"d":"14 "},{"v":16,"d":"16 "},{"v":5,"d":"5 "},{"v":5,"d":"5 "},65.6,64.9,66.5,{"v":81,"d":"81 "},"-","-","-",{"v":1,"d":"1 "},"-","-","-",{"v":3,"d":"3 "},{"v":7,"d":"7 "},{"v":13,"d":"13 "},{"v":17,"d":"17 "},{"v":14,"d":"14 "},{"v":16,"d":"16 "},{"v":5,"d":"5 "},{"v":5,"d":"5 "},69.4,70.8,68.1,{"v":69,"d":"69 "},"-","-","-","-","-","-","-",{"v":3,"d":"3 "},{"v":7,"d":"7 "},{"v":11,"d":"11 "},{"v":13,"d":"13 "},{"v":11,"d":"11 "},{"v":15,"d":"15 "},{"v":5,"d":"5 "},{"v":4,"d":"4 "},69.8,70.8,68.6,{"v":44,"d":"44 "},"-","-","-","-","-","-","-",{"v":3,"d":"3 "},{"v":5,"d":"5 "},{"v":7,"d":"7 "},{"v":8,"d":"8 "},{"v":7,"d":"7 "},{"v":10,"d":"10 "},{"v":3,"d":"3 "},{"v":1,"d":"1 "},{"v":17,"d":"17 "},"-","-","-","-","-","-",{"v":1,"d":"1 "},{"v":2,"d":"2 "},{"v":2,"d":"2 "},{"v":4,"d":"4 "},{"v":6,"d":"6 "},{"v":1,"d":"1 "},{"v":1,"d":"1 "},{"$nulls":7},{"v":142,"d":"142 "},{"v":113,"d":"113 "},{"v":69,"d":"69 "},{"v":43,"d":"43 "},{"v":1,"d":"1 "},{"v":11,"d":"11 "},{"v":5,"d":"5 "},{"v":13,"d":"13 "},{"v":44,"d":"44 "},"-","-","-","-","-","-",{"v":42,"d":"42 "},{"v":2,"d":"2 "},"-","-","-","-","-","-","-",{"v":44,"d":"44 "},{"v":3021,"d":"3,021 "},{"v":35,"d":"35 "},{"v":327,"d":"327 "},{"v":2659,"d":"2,659 "},67,62,37,24,1,"-",1,4,75,51,32,19,"-",11,4,9]
["山梨県","笛吹市","境川村","小黒坂",{"v":45,"d":"45 "},{"v":33,"d":"33 "},{"v":9,"d":"9 "},{"v":6,"d":"6 "},{"v":5,"d":"5 "},{"v":2,"d":"2 "},{"v":19,"d":"19 "},{"v":12,"d":"12 "},{"v":70,"d":"70 "},{"v":1,"d":"1 "},{"v":1,"d":"1 "},{"v":1,"d":"1 "},{"v":2,"d":"2 "},{"v":2,"d":"2 "},"-",{"v":6,"d":"6 "},{"v":4,"d":"4 "},{"v":4,"d":"4 "},{"v":9,"d":"9 "},{"v":13,"d":"13 "},{"v":9,"d":"9 "},{"v":8,"d":"8 "},{"v":7,"d":"7 "},{"v":3,"d":"3 "},63.8,63.1,64.8,{"v":49,"d":"49 "},{"v":1,"d":"1 "},"-","-",{"v":1,"d":"1 "},"-","-",{"v":2,"d":"2 "},{"v":1,"d":"1 "},{"v":2,"d":"2 "},{"v":5,"d":"5 "},{"v":12,"d":"12 "},{"v":9,"d":"9 "},{"v":7,"d":"7 "},{"v":6,"d":"6 "},{"v":3,"d":"3 "},68.8,70.9,66.5,{"v":40,"d":"40 "},"-","-","-",{"v":1,"d":"1 "},"-","-",{"v":2,"d":"2 "},{"v":1,"d":"1 "},{"v":2,"d":"2 "},{"v":4,"d":"4 "},{"v":10,"d":"10 "},{"v":7,"d":"7 "},{"v":7,"d":"7 "},{"v":4,"d":"4 "},{"v":2,"d":"2 "},69.1,70.9,65.6,{"v":33,"d":"33 "},"-","-","-","-","-","-",{"v":1,"d":"1 "},{"v":3,"d":"3 "},{"v":2,"d":"2 "},{"v":4,"d":"4 "},{"v":7,"d":"7 "},{"v":6,"d":"6 "},{"v":4,"d":"4 "},{"v":4,"d":"4 "},{"v":2,"d":"2 "},{"v":11,"d":"11 "},"-","-","-","-","-",{"v":1,"d":"1 "},"-",{"v":1,"d":"1 "},{"v":1,"d":"1 "},{"v":2,"d":"2 "},{"v":2,"d":"2 "},{"v":3,"d":"3 "},{"v":1,"d":"1 "},{"$nulls":7},{"v":92,"d":"92 "},{"v":70,"d":"70 "},{"v":40,"d":"40 "},{"v":30,"d":"30 "},"-",{"v":14,"d":"14 "},{"v":3,"d":"3 "},{"v":5,"d":"5 "},{"v":31,"d":"31 "},"-","-","-","-",{"v":1,"d":"1 "},"-",{"v":30,"d":"30 "},"-","-","-","-","-","-","-","-",{"v":33,"d":"33 "},{"v":2322,"d":"2,322 "},{"v":109,"d":"109 "},{"v":420,"d":"420 "},{"v":1793,"d":"1,793 "},45,44,26,18,"-",1,"-","-",47,26,14,12,"-",13,3,5]
["山梨県","笛吹市","境川村","藤垈",{"v":81,"d":"81 "},{"v":58,"d":"58 "},{"v":13,"d":"13 "},{"v":10,"d":"10 "},{"v":10,"d":"10 "},{"v":7,"d":"7 "},{"v":35,"d":"35 "},{"v":23,"d":"23 "},{"v":152,"d":"152 "},{"v":4,"d":"4 "},{"v":2,"d":"2 "},{"v":1,"d":"1 "},{"v":6,"d":"6 "},{"v":9,"d":"9 "},{"v":5,"d":"5 "},{"v":8,"d":"8 "},{"v":9,"d":"9 "},{"v":16,"d":"16 "},{"v":10,"d":"10 "},{"v":19,"d":"19 "},{"v":20,"d":"20 "},{"v":20,"d":"20 "},{"v":17,"d":"17 "},{"v":6,"d":"6 "},62.1,60.7,63.8,{"v":104,"d":"104 "},{"v":2,"d":"2 "},"-","-","-",{"v":2,"d":"2 "},"-",{"v":1,"d":"1 "},{"v":5,"d":"5 "},{"v":6,"d":"6 "},{"v":8,"d":"8 "},{"v":18,"d":"18 "},{"v":19,"d":"19 "},{"v":20,"d":"20 "},{"v":17,"d":"17 "},{"v":6,"d":"6 "},70.2,72.3,68.2,{"v":97,"d":"97 "},"-","-","-","-",{"v":2,"d":"2 "},"-",{"v":1,"d":"1 "},{"v":4,"d":"4 "},{"v":6,"d":"6 "},{"v":8,"d":"8 "},{"v":18,"d":"18 "},{"v":19,"d":"19 "},{"v":17,"d":"17 "},{"v":17,"d":"17 "},{"v":5,"d":"5 "},{"v":71,"d":"71.0"},{"v":73,"d":"73.0"},{"v":69,"d":"69.0"},{"v":58,"d":"58 "},"-","-","-","-","-","-",{"v":2,"d":"2 "},{"v":2,"d":"2 "},{"v":6,"d":"6 "},{"v":4,"d":"4 "},{"v":11,"d":"11 "},{"v":6,"d":"6 "},{"v":13,"d":"13 "},{"v":11,"d":"11 "},{"v":3,"d":"3 "},{"v":39,"d":"39 "},"-","-","-","-","-",{"v":1,"d":"1 "},{"v":4,"d":"4 "},{"v":1,"d":"1 "},{"v":9,"d":"9 "},{"v":5,"d":"5 "},{"v":9,"d":"9 "},{"v":8,"d":"8 "},{"v":2,"d":"2 "},{"$nulls":7},{"v":199,"d":"199 "},{"v":162,"d":"162 "},{"v":97,"d":"97 "},{"v":59,"d":"59 "},{"v":6,"d":"6 "},{"v":9,"d":"9 "},{"v":13,"d":"13 "},{"v":15,"d":"15 "},{"v":57,"d":"57 "},"-","-","-","-",{"v":3,"d":"3 "},"-",{"v":53,"d":"53 "},"-","-","-","-","-","-",{"v":1,"d":"1 "},"-",{"v":58,"d":"58 "},{"v":4579,"d":"4,579 "},{"v":225,"d":"225 "},{"v":686,"d":"686 "},{"v":3668,"d":"3,668 "},101,89,48,38,3,"-",6,6,98,73,49,21,3,9,7,9]
["山梨県","笛吹市","境川村","中寺尾",{"v":30,"d":"30 "},{"v":25,"d":"25 "},{"v":3,"d":"3 "},{"v":2,"d":"2 "},{"v":7,"d":"7 "},{"v":3,"d":"3 "},{"v":15,"d":"15 "},{"v":5,"d":"5 "},{"v":48,"d":"48 "},{"v":1,"d":"1 "},{"v":1,"d":"1 "},"-","-",{"v":1,"d":"1 "},{"v":2,"d":"2 "},{"v":3,"d":"3 "},{"v":6,"d":"6 "},{"v":4,"d":"4 "},{"v":5,"d":"5 "},{"v":2,"d":"2 "},{"v":11,"d":"11 "},{"v":4,"d":"4 "},{"v":2,"d":"2 "},{"v":6,"d":"6 "},64.2,62.7,66.7,{"v":34,"d":"34 "},"-","-","-","-","-","-","-",{"v":3,"d":"3 "},{"v":3,"d":"3 "},{"v":3,"d":"3 "},{"v":2,"d":"2 "},{"v":11,"d":"11 "},{"v":4,"d":"4 "},{"v":2,"d":"2 "},{"v":6,"d":"6 "},71.8,71.3,72.5,{"v":30,"d":"30 "},"-","-","-","-","-","-","-",{"v":3,"d":"3 "},{"v":3,"d":"3 "},{"v":3,"d":"3 "},{"v":1,"d":"1 "},{"v":9,"d":"9 "},{"v":3,"d":"3 "},{"v":2,"d":"2 "},{"v":6,"d":"6 "},71.5,71.5,71.6,{"v":25,"d":"25 "},"-","-","-","-","-","-",{"v":2,"d":"2 "},{"v":3,"d":"3 "},{"v":2,"d":"2 "},{"v":3,"d":"3 "},{"v":2,"d":"2 "},{"v":6,"d":"6 "},{"v":2,"d":"2 "},{"v":1,"d":"1 "},{"v":4,"d":"4 "},{"v":12,"d":"12 "},"-","-","-","-",{"v":1,"d":"1 "},{"v":1,"d":"1 "},"-",{"v":2,"d":"2 "},{"v":1,"d":"1 "},{"v":3,"d":"3 "},"-",{"v":1,"d":"1 "},{"v":3,"d":"3 "},{"$nulls":7},{"v":75,"d":"75 "},{"v":52,"d":"52 "},{"v":30,"d":"30 "},{"v":22,"d":"22 "},"-",{"v":7,"d":"7 "},{"v":5,"d":"5 "},{"v":11,"d":"11 "},{"v":23,"d":"23 "},"-","-","-","-",{"v":1,"d":"1 "},"-",{"v":22,"d":"22 "},"-","-","-","-","-","-","-","-",{"v":25,"d":"25 "},{"v":1866,"d":"1,866 "},{"v":242,"d":"242 "},{"v":193,"d":"193 "},{"v":1431,"d":"1,431 "},40,31,20,11,"-","-",5,4,35,21,10,11,"-",7,"-",7]
["山梨県","笛吹市","春日居村","桑戸（西）",{"v":21,"d":"21 "},{"v":15,"d":"15 "},{"v":7,"d":"7 "},{"v":6,"d":"6 "},{"v":3,"d":"3 "},{"v":2,"d":"2 "},{"v":5,"d":"5 "},{"v":6,"d":"6 "},{"v":44,"d":"44 "},"-","-",{"v":2,"d":"2 "},{"v":1,"d":"1 "},{"v":2,"d":"2 "},{"v":6,"d":"6 "},{"v":2,"d":"2 "},{"v":3,"d":"3 "},{"v":5,"d":"5 "},{"v":4,"d":"4 "},{"v":2,"d":"2 "},{"v":7,"d":"7 "},{"v":4,"d":"4 "},{"v":3,"d":"3 "},{"v":3,"d":"3 "},{"v":60,"d":"60.0"},{"v":59,"d":"59.0"},{"v":61,"d":"61.0"},{"v":32,"d":"32 "},"-","-","-",{"v":1,"d":"1 "},"-",{"v":1,"d":"1 "},"-",{"v":2,"d":"2 "},{"v":5,"d":"5 "},{"v":4,"d":"4 "},{"v":2,"d":"2 "},{"v":7,"d":"7 "},{"v":4,"d":"4 "},{"v":3,"d":"3 "},{"v":3,"d":"3 "},67.4,64.8,70.3,{"v":27,"d":"27 "},"-","-","-",{"v":1,"d":"1 "},"-",{"v":1,"d":"1 "},"-",{"v":2,"d":"2 "},{"v":5,"d":"5 "},{"v":4,"d":"4 "},{"v":2,"d":"2 "},{"v":6,"d":"6 "},{"v":4,"d":"4 "},{"v":2,"d":"2 "},"-",63.8,63.1,64.8,{"v":15,"d":"15 "},"-","-","-","-",{"v":1,"d":"1 "},"-","-",{"v":1,"d":"1 "},{"v":2,"d":"2 "},{"v":3,"d":"3 "},{"v":1,"d":"1 "},{"v":4,"d":"4 "},{"v":2,"d":"2 "},{"v":1,"d":"1 "},"-",{"v":6,"d":"6 "},"-","-","-","-","-","-","-","-",{"v":1,"d":"1 "},{"v":2,"d":"2 "},{"v":2,"d":"2 "},{"v":1,"d":"1 "},"-",{"$nulls":7},{"v":50,"d":"50 "},{"v":40,"d":"40 "},{"v":27,"d":"27 "},{"v":12,"d":"12 "},{"v":1,"d":"1 "},{"v":3,"d":"3 "},{"v":2,"d":"2 "},{"v":5,"d":"5 "},{"v":15,"d":"15 "},"-","-","-","-","-","-",{"v":15,"d":"15 "},"-","-","-","-","-","-","-","-",{"v":15,"d":"15 "},{"v":792,"d":"792 "},"-","-",{"v":792,"d":"792 "},26,22,16,6,"-","-",1,3,24,18,11,6,1,3,1,2]
["山梨県","笛吹市","春日居村","枝郷",{"v":8,"d":"8 "},{"v":4,"d":"4 "},"-","-","-","-",{"v":4,"d":"4 "},{"v":4,"d":"4 "},{"v":8,"d":"8 "},"-","-","-","-","-","-","-","-","-","-",{"v":1,"d":"1 "},{"v":2,"d":"2 "},{"v":2,"d":"2 "},{"v":3,"d":"3 "},"-",76.9,78.3,75.5,{"v":7,"d":"7 "},"-","-","-","-","-","-","-","-","-","-",{"v":1,"d":"1 "},{"v":2,"d":"2 "},{"v":1,"d":"1 "},{"v":3,"d":"3 "},"-",76.7,78.3,74.7,{"v":7,"d":"7 "},"-","-","-","-","-","-","-","-","-","-",{"v":1,"d":"1 "},{"v":2,"d":"2 "},{"v":1,"d":"1 "},{"v":3,"d":"3 "},"-",76.7,78.3,74.7,{"v":4,"d":"4 "},"-","-","-","-","-","-","-","-","-","-","-",{"v":1,"d":"1 "},{"v":1,"d":"1 "},{"v":2,"d":"2 "},"-","-","-","-","-","-","-","-","-","-","-","-","-","-","-",{"$nulls":7},{"v":8,"d":"8 "},{"v":8,"d":"8 "},{"v":7,"d":"7 "},"-",{"v":1,"d":"1 "},"-","-","-",{"v":4,"d":"4 "},"-","-","-","-","-","-",{"v":4,"d":"4 "},"-","-","-","-","-","-","-","-",{"v":4,"d":"4 "},{"v":178,"d":"178 "},"-","-",{"v":178,"d":"178 "},4,4,4,"-","-","-","-","-",4,4,3,"-",1,"-","-","-"]
["山梨県","笛吹市","岡部村２－１","鎮目中",{"v":13,"d":"13 "},{"v":11,"d":"11 "},{"v":3,"d":"3 "},{"v":3,"d":"3 "},{"v":4,"d":"4 "},{"v":2,"d":"2 "},{"v":4,"d":"4 "},{"v":2,"d":"2 "},{"v":28,"d":"28 "},"-",{"v":1,"d":"1 "},"-",{"v":1,"d":"1 "},{"v":2,"d":"2 "},{"v":2,"d":"2 "},"-",{"v":2,"d":"2 "},{"v":3,"d":"3 "},{"v":4,"d":"4 "},{"v":4,"d":"4 "},{"v":3,"d":"3 "},{"v":4,"d":"4 "},{"v":1,"d":"1 "},{"v":1,"d":"1 "},60.6,55.1,66.1,{"v":21,"d":"21 "},"-",{"v":1,"d":"1 "},"-","-",{"v":1,"d":"1 "},{"v":1,"d":"1 "},"-",{"v":1,"d":"1 "},{"v":1,"d":"1 "},{"v":4,"d":"4 "},{"v":4,"d":"4 "},{"v":3,"d":"3 "},{"v":3,"d":"3 "},{"v":1,"d":"1 "},{"v":1,"d":"1 "},63.8,{"v":57,"d":"57.0"},68.9,{"v":15,"d":"15 "},"-",{"v":1,"d":"1 "},"-","-","-",{"v":1,"d":"1 "},"-",{"v":1,"d":"1 "},{"v":1,"d":"1 "},{"v":3,"d":"3 "},{"v":3,"d":"3 "},{"v":2,"d":"2 "},{"v":2,"d":"2 "},"-",{"v":1,"d":"1 "},62.7,{"v":57,"d":"57.0"},71.3,{"v":11,"d":"11 "},"-","-","-","-","-",{"v":1,"d":"1 "},"-",{"v":2,"d":"2 "},{"v":2,"d":"2 "},{"v":2,"d":"2 "},{"v":1,"d":"1 "},{"v":1,"d":"1 "},{"v":2,"d":"2 "},"-","-",{"v":3,"d":"3 "},"-","-","-","-","-","-","-",{"v":2,"d":"2 "},{"v":1,"d":"1 "},"-","-","-","-",{"$nulls":7},{"v":34,"d":"34 "},{"v":24,"d":"24 "},{"v":15,"d":"15 "},{"v":8,"d":"8 "},{"v":1,"d":"1 "},{"v":6,"d":"6 "},{"v":2,"d":"2 "},{"v":2,"d":"2 "},{"v":11,"d":"11 "},"-","-","-","-","-","-",{"v":11,"d":"11 "},"-","-","-","-","-","-","-","-",{"v":11,"d":"11 "},{"v":558,"d":"558 "},{"v":8,"d":"8 "},"-",{"v":550,"d":"550 "},16,15,9,5,1,"-","-",1,18,9,6,3,"-",6,2,1]
["山梨県","上野原市",null,null,{"v":1126,"d":"1,126 "},{"v":112,"d":"112 "},{"v":10,"d":"10 "},{"v":9,"d":"9 "},{"v":12,"d":"12 "},{"v":7,"d":"7 "},{"v":90,"d":"90 "},{"v":1014,"d":"1,014 "},{"v":288,"d":"288 "},{"v":12,"d":"12 "},{"v":4,"d":"4 "},{"v":8,"d":"8 "},{"v":7,"d":"7 "},{"v":7,"d":"7 "},{"v":10,"d":"10 "},{"v":22,"d":"22 "},{"v":20,"d":"20 "},{"v":26,"d":"26 "},{"v":33,"d":"33 "},{"v":34,"d":"34 "},{"v":38,"d":"38 "},{"v":26,"d":"26 "},{"v":29,"d":"29 "},{"v":12,"d":"12 "},60.8,61.2,60.2,{"v":148,"d":"148 "},{"v":1,"d":"1 "},"-",{"v":1,"d":"1 "},{"v":1,"d":"1 "},{"v":2,"d":"2 "},"-",{"v":2,"d":"2 "},{"v":7,"d":"7 "},{"v":10,"d":"10 "},{"v":14,"d":"14 "},{"v":19,"d":"19 "},{"v":28,"d":"28 "},{"v":24,"d":"24 "},{"v":27,"d":"27 "},{"v":12,"d":"12 "},70.7,71.2,70.1,{"v":108,"d":"108 "},"-","-","-",{"v":1,"d":"1 "},{"v":1,"d":"1 "},"-",{"v":1,"d":"1 "},{"v":6,"d":"6 "},{"v":7,"d":"7 "},{"v":11,"d":"11 "},{"v":13,"d":"13 "},{"v":22,"d":"22 "},{"v":21,"d":"21 "},{"v":21,"d":"21 "},{"v":4,"d":"4 "},{"v":71,"d":"71.0"},71.1,70.8,{"v":112,"d":"112 "},"-",{"v":1,"d":"1 "},"-",{"v":1,"d":"1 "},"-",{"v":1,"d":"1 "},{"v":3,"d":"3 "},{"v":5,"d":"5 "},{"v":8,"d":"8 "},{"v":16,"d":"16 "},{"v":17,"d":"17 "},{"v":19,"d":"19 "},{"v":14,"d":"14 "},{"v":19,"d":"19 "},{"v":8,"d":"8 "},{"v":78,"d":"78 "},"-","-","-",{"v":1,"d":"1 "},{"v":2,"d":"2 "},{"v":1,"d":"1 "},{"v":4,"d":"4 "},{"v":7,"d":"7 "},{"v":15,"d":"15 "},{"v":13,"d":"13 "},{"v":10,"d":"10 "},{"v":17,"d":"17 "},{"v":8,"d":"8 "},{"$nulls":7},{"v":388,"d":"388 "},{"v":253,"d":"253 "},{"v":108,"d":"108 "},{"v":131,"d":"131 "},{"v":14,"d":"14 "},{"v":77,"d":"77 "},{"v":30,"d":"30 "},{"v":28,"d":"28 "},{"v":44,"d":"44 "},"-","-",{"v":5,"d":"5 "},"-",{"v":29,"d":"29 "},{"v":1,"d":"1 "},{"v":5,"d":"5 "},{"v":2,"d":"2 "},{"v":1,"d":"1 "},"-","-","-",{"v":1,"d":"1 "},"-","-",{"v":112,"d":"112 "},{"v":5065,"d":"5,065 "},{"v":1434,"d":"1,434 "},{"v":3126,"d":"3,126 "},{"v":505,"d":"505 "},191,159,77,73,9,1,17,14,197,94,31,58,5,76,13,14]
["山梨県","上野原市","秋山村","浜沢",{"v":11,"d":"11 "},"-","-","-","-","-","-",{"v":11,"d":"11 "},"-","-","-","-","-","-","-","-","-","-","-","-","-","-","-","-","…","…","…","-","-","-","-","-","-","-","-","-","-","-","-","-","-","-","-","…","…","…","-","-","-","-","-","-","-","-","-","-","-","-","-","-","-","-","…","…","…","-","-","-","-","-","-","-","-","-","-","-","-","-","-","-","-","-","-","-","-","-","-","-","-","-","-","-","-","-","-",{"$nulls":7},"-","-","-","-","-","-","-","-","-","-","-","-","-","-","-","-","-","-","-","-","-","-","-","-","-","-","-","-","-","-","-","-","-","-","-","-","-","-","-","-","-","-","-","-","-"]
["山梨県","上野原市","秋山村","神野",{"v":17,"d":"17 "},{"v":1,"d":"1 "},"x","x","x","x","x",{"v":16,"d":"16 "},"x","x","x","x","x","x","x","x","x","x","x","x","x","x","x","x",{"v":47,"d":"47.0"},{"v":49,"d":"49.0"},46.3,"x","x","x","x","x","x","x","x","x","x","x","x","x","x","x","x",{"v":77,"d":"77.0"},"…",{"v":77,"d":"77.0"},"x","x","x","x","x","x","x","x","x","x","x","x","x","x","x","x",{"v":77,"d":"77.0"},"…",{"v":77,"d":"77.0"},{"v":1,"d":"1 "},"-","-","-","-","-","-",{"v":1,"d":"1 "},"-","-","-","-","-","-","-","-","-","-","-","-","-","-","-","-","-","-","-","-","-","-",{"$nulls":7},{"v":4,"d":"4 "},{"v":2,"d":"2 "},{"v":1,"d":"1 "},{"v":1,"d":"1 "},"-",{"v":1,"d":"1 "},{"v":1,"d":"1 "},"-","-","-","-","-","-","-","-","-","-","-","-","-","-","-","-","-",{"v":1,"d":"1 "},{"v":42,"d":"42 "},{"v":32,"d":"32 "},{"v":10,"d":"10 "},"-",1,1,"-",1,"-","-","-","-",3,1,1,"-","-",1,1,"-"]
["山梨県","上野原市","秋山村","富岡",{"v":30,"d":"30 "},{"v":5,"d":"5 "},"-","-","-","-",{"v":5,"d":"5 "},{"v":25,"d":"25 "},{"v":13,"d":"13 "},"-","-","-",{"v":1,"d":"1 "},{"v":1,"d":"1 "},"-",{"v":2,"d":"2 "},{"v":1,"d":"1 "},{"v":3,"d":"3 "},{"v":2,"d":"2 "},"-","-",{"v":2,"d":"2 "},{"v":1,"d":"1 "},"-",57.2,59.5,53.6,{"v":5,"d":"5 "},"-","-","-","-","-","-","-",{"v":1,"d":"1 "},"-",{"v":1,"d":"1 "},"-","-",{"v":2,"d":"2 "},{"v":1,"d":"1 "},"-",{"v":70,"d":"70.0"},68.5,{"v":76,"d":"76.0"},{"v":5,"d":"5 "},"-","-","-","-","-","-","-",{"v":1,"d":"1 "},"-",{"v":1,"d":"1 "},"-","-",{"v":2,"d":"2 "},{"v":1,"d":"1 "},"-",{"v":70,"d":"70.0"},68.5,{"v":76,"d":"76.0"},{"v":5,"d":"5 "},"-","-","-","-","-","-","-","-",{"v":1,"d":"1 "},{"v":2,"d":"2 "},"-","-",{"v":1,"d":"1 "},{"v":1,"d":"1 "},"-",{"v":4,"d":"4 "},"-","-","-","-","-","-",{"v":1,"d":"1 "},{"v":1,"d":"1 "},"-","-",{"v":1,"d":"1 "},{"v":1,"d":"1 "},"-",{"$nulls":7},{"v":14,"d":"14 "},{"v":12,"d":"12 "},{"v":5,"d":"5 "},{"v":5,"d":"5 "},{"v":2,"d":"2 "},{"v":1,"d":"1 "},"-",{"v":1,"d":"1 "},"-","-","-","-","-","-","-","-","-","-","-","-","-","-","-","-",{"v":5,"d":"5 "},{"v":185,"d":"185 "},{"v":116,"d":"116 "},{"v":69,"d":"69 "},"-",8,8,4,3,1,"-","-","-",6,4,1,2,1,1,"-",1]
["山梨県","上野原市","大目村","西大野",{"v":7,"d":"7 "},{"v":2,"d":"2 "},"x","x","x","x","x",{"v":5,"d":"5 "},"x","x","x","x","x","x","x","x","x","x","x","x","x","x","x","x",52.8,49.7,57.5,"x","x","x","x","x","x","x","x","x","x","x","x","x","x","x","x",52.8,49.7,57.5,"x","x","x","x","x","x","x","x","x","x","x","x","x","x","x","x",59.3,{"v":61,"d":"61.0"},{"v":56,"d":"56.0"},{"v":2,"d":"2 "},"-","-","-","-","-","-","-","-",{"v":1,"d":"1 "},{"v":1,"d":"1 "},"-","-","-","-","-","-","-","-","-","-","-","-","-","-","-","-","-","-","-",{"$nulls":7},{"v":7,"d":"7 "},{"v":5,"d":"5 "},{"v":3,"d":"3 "},{"v":2,"d":"2 "},"-",{"v":1,"d":"1 "},"-",{"v":1,"d":"1 "},{"v":2,"d":"2 "},"-","-","-","-",{"v":1,"d":"1 "},"-",{"v":1,"d":"1 "},"-","-","-","-","-","-","-","-",{"v":2,"d":"2 "},{"v":93,"d":"93 "},"-",{"v":34,"d":"34 "},{"v":59,"d":"59 "},3,2,2,"-","-","-","-",1,4,3,1,2,"-",1,"-","-"]
["山梨県","上野原市","大目村","談合坂",{"v":3,"d":"3 "},{"v":2,"d":"2 "},"x","x","x","x","x",{"v":1,"d":"1 "},"x","x","x","x","x","x","x","x","x","x","x","x","x","x","x","x",{"v":57,"d":"57.0"},{"v":58,"d":"58.0"},{"v":56,"d":"56.0"},"x","x","x","x","x","x","x","x","x","x","x","x","x","x","x","x",54.8,{"v":58,"d":"58.0"},{"v":50,"d":"50.0"},"x","x","x","x","x","x","x","x","x","x","x","x","x","x","x","x",59.5,{"v":58,"d":"58.0"},{"v":64,"d":"64.0"},{"v":2,"d":"2 "},"-","-","-","-","-","-","-","-","-","-",{"v":2,"d":"2 "},"-","-","-","-",{"v":2,"d":"2 "},"-","-","-","-","-","-","-","-",{"v":2,"d":"2 "},"-","-","-","-",{"$nulls":7},{"v":8,"d":"8 "},{"v":6,"d":"6 "},{"v":4,"d":"4 "},{"v":2,"d":"2 "},"-",{"v":2,"d":"2 "},"-","-",{"v":2,"d":"2 "},"-","-","-","-",{"v":2,"d":"2 "},"-","-","-","-","-","-","-","-","-","-",{"v":2,"d":"2 "},{"v":167,"d":"167 "},{"v":4,"d":"4 "},{"v":143,"d":"143 "},{"v":20,"d":"20 "},5,5,3,2,"-","-","-","-",3,1,1,"-","-",2,"-","-"]
["山梨県","上野原市","甲東村","棚頭",{"v":12,"d":"12 "},{"v":1,"d":"1 "},"x","x","x","x","x",{"v":11,"d":"11 "},"x","x","x","x","x","x","x","x","x","x","x","x","x","x","x","x",66.5,{"v":67,"d":"67.0"},{"v":66,"d":"66.0"},"x","x","x","x","x","x","x","x","x","x","x","x","x","x","x","x","…","…","…","x","x","x","x","x","x","x","x","x","x","x","x","x","x","x","x","…","…","…",{"v":1,"d":"1 "},"-","-","-","-","-","-","-","-","-","-",{"v":1,"d":"1 "},"-","-","-","-",{"v":1,"d":"1 "},"-","-","-","-","-","-","-","-",{"v":1,"d":"1 "},"-","-","-","-",{"$nulls":7},{"v":5,"d":"5 "},{"v":4,"d":"4 "},"-",{"v":3,"d":"3 "},{"v":1,"d":"1 "},{"v":1,"d":"1 "},"-","-","-","-","-","-","-","-","-","-","-","-","-","-","-","-","-","-",{"v":1,"d":"1 "},{"v":42,"d":"42 "},"-",{"v":42,"d":"42 "},"-",2,2,"-",1,1,"-","-","-",3,2,"-",2,"-",1,"-","-"]
["山梨県","上野原市","巌村",null,{"v":111,"d":"111 "},{"v":9,"d":"9 "},{"v":1,"d":"1 "},{"v":1,"d":"1 "},{"v":3,"d":"3 "},"-",{"v":5,"d":"5 "},{"v":102,"d":"102 "},{"v":20,"d":"20 "},"-","-","-","-",{"v":1,"d":"1 "},"-",{"v":2,"d":"2 "},"-",{"v":2,"d":"2 "},{"v":4,"d":"4 "},{"v":3,"d":"3 "},{"v":3,"d":"3 "},{"v":2,"d":"2 "},{"v":3,"d":"3 "},"-",65.4,66.2,64.3,{"v":12,"d":"12 "},"-","-","-","-","-","-","-","-",{"v":1,"d":"1 "},{"v":3,"d":"3 "},{"v":2,"d":"2 "},{"v":1,"d":"1 "},{"v":2,"d":"2 "},{"v":3,"d":"3 "},"-",70.3,71.6,67.8,{"v":10,"d":"10 "},"-","-","-","-","-","-","-","-",{"v":1,"d":"1 "},{"v":2,"d":"2 "},{"v":2,"d":"2 "},{"v":1,"d":"1 "},{"v":2,"d":"2 "},{"v":2,"d":"2 "},"-",70.3,71.6,{"v":65,"d":"65.0"},{"v":9,"d":"9 "},"-","-","-","-","-","-","-","-","-",{"v":3,"d":"3 "},{"v":2,"d":"2 "},"-",{"v":2,"d":"2 "},{"v":2,"d":"2 "},"-",{"v":9,"d":"9 "},"-","-","-","-","-","-","-",{"v":3,"d":"3 "},{"v":2,"d":"2 "},"-",{"v":2,"d":"2 "},{"v":2,"d":"2 "},"-",{"$nulls":7},{"v":29,"d":"29 "},{"v":19,"d":"19 "},{"v":10,"d":"10 "},{"v":9,"d":"9 "},"-",{"v":10,"d":"10 "},"-","-",{"v":6,"d":"6 "},"-","-","-","-",{"v":5,"d":"5 "},"-",{"v":1,"d":"1 "},"-","-","-","-","-","-","-","-",{"v":9,"d":"9 "},{"v":566,"d":"566 "},{"v":280,"d":"280 "},{"v":236,"d":"236 "},{"v":50,"d":"50 "},14,13,8,5,"-",1,"-","-",15,6,2,4,"-",9,"-","-"]
["山梨県","上野原市","巌村","杖突，栃穴",{"v":10,"d":"10 "},{"v":1,"d":"1 "},"x","x","x","x","x",{"v":9,"d":"9 "},"x","x","x","x","x","x","x","x","x","x","x","x","x","x","x","x",{"v":63,"d":"63.0"},{"v":63,"d":"63.0"},"…","x","x","x","x","x","x","x","x","x","x","x","x","x","x","x","x",{"v":63,"d":"63.0"},{"v":63,"d":"63.0"},"…","x","x","x","x","x","x","x","x","x","x","x","x","x","x","x","x",{"v":63,"d":"63.0"},{"v":63,"d":"63.0"},"…",{"v":1,"d":"1 "},"-","-","-","-","-","-","-","-","-",{"v":1,"d":"1 "},"-","-","-","-","-",{"v":1,"d":"1 "},"-","-","-","-","-","-","-",{"v":1,"d":"1 "},"-","-","-","-","-",{"$nulls":7},{"v":3,"d":"3 "},{"v":2,"d":"2 "},{"v":1,"d":"1 "},{"v":1,"d":"1 "},"-",{"v":1,"d":"1 "},"-","-","-","-","-","-","-","-","-","-","-","-","-","-","-","-","-","-",{"v":1,"d":"1 "},{"v":35,"d":"35 "},{"v":20,"d":"20 "},{"v":15,"d":"15 "},"-",1,1,1,"-","-","-","-","-",2,1,"-",1,"-",1,"-","-"]
["山梨県","上野原市","大鶴村","鶴川",{"v":17,"d":"17 "},{"v":1,"d":"1 "},"x","x","x","x","x",{"v":16,"d":"16 "},"x","x","x","x","x","x","x","x","x","x","x","x","x","x","x","x",81.5,{"v":81,"d":"81.0"},{"v":82,"d":"82.0"},"x","x","x","x","x","x","x","x","x","x","x","x","x","x","x","x",81.5,{"v":81,"d":"81.0"},{"v":82,"d":"82.0"},"x","x","x","x","x","x","x","x","x","x","x","x","x","x","x","x",{"v":81,"d":"81.0"},{"v":81,"d":"81.0"},"…",{"v":1,"d":"1 "},"-","-","-","-","-","-","-","-","-","-","-","-","-",{"v":1,"d":"1 "},"-","-","-","-","-","-","-","-","-","-","-","-","-","-","-",{"$nulls":7},{"v":2,"d":"2 "},{"v":1,"d":"1 "},{"v":1,"d":"1 "},"-","-",{"v":1,"d":"1 "},"-","-",{"v":1,"d":"1 "},"-","-","-","-",{"v":1,"d":"1 "},"-","-","-","-","-","-","-","-","-","-",{"v":1,"d":"1 "},{"v":60,"d":"60 "},"-",{"v":60,"d":"60 "},"-",1,1,1,"-","-","-","-","-",1,"-","-","-","-",1,"-","-"]
["山梨県","上野原市","島田村","駒門",{"v":11,"d":"11 "},{"v":2,"d":"2 "},"x","x","x","x","x",{"v":9,"d":"9 "},"x","x","x","x","x","x","x","x","x","x","x","x","x","x","x","x",65.7,70.5,{"v":56,"d":"56.0"},"x","x","x","x","x","x","x","x","x","x","x","x","x","x","x","x",65.7,70.5,{"v":56,"d":"56.0"},"x","x","x","x","x","x","x","x","x","x","x","x","x","x","x","x",{"v":56,"d":"56.0"},{"v":56,"d":"56.0"},{"v":56,"d":"56.0"},{"v":2,"d":"2 "},"-","-","-","-","-","-","-","-",{"v":1,"d":"1 "},"-","-","-","-","-",{"v":1,"d":"1 "},{"v":1,"d":"1 "},"-","-","-","-","-","-","-","-","-","-","-","-",{"v":1,"d":"1 "},{"$nulls":7},{"v":6,"d":"6 "},{"v":4,"d":"4 "},{"v":2,"d":"2 "},{"v":2,"d":"2 "},"-","-",{"v":1,"d":"1 "},{"v":1,"d":"1 "},{"v":2,"d":"2 "},"-","-","-","-","-",{"v":1,"d":"1 "},{"v":1,"d":"1 "},"-","-","-","-","-","-","-","-",{"v":2,"d":"2 "},{"v":124,"d":"124 "},{"v":63,"d":"63 "},{"v":1,"d":"1 "},{"v":60,"d":"60 "},4,2,1,1,"-","-",1,1,2,2,1,1,"-","-","-","-"]
["山梨県","上野原市","上野原町","諏訪",{"v":8,"d":"8 "},{"v":2,"d":"2 "},"x","x","x","x","x",{"v":6,"d":"6 "},"x","x","x","x","x","x","x","x","x","x","x","x","x","x","x","x",68.8,{"v":66,"d":"66.0"},{"v":73,"d":"73.0"},"x","x","x","x","x","x","x","x","x","x","x","x","x","x","x","x",74.7,{"v":78,"d":"78.0"},{"v":73,"d":"73.0"},"x","x","x","x","x","x","x","x","x","x","x","x","x","x","x","x",{"v":78,"d":"78.0"},{"v":78,"d":"78.0"},"…",{"v":2,"d":"2 "},"-","-","-","-","-","-","-","-","-","-","-",{"v":1,"d":"1 "},{"v":1,"d":"1 "},"-","-",{"v":2,"d":"2 "},"-","-","-","-","-","-","-","-","-",{"v":1,"d":"1 "},{"v":1,"d":"1 "},"-","-",{"$nulls":7},{"v":5,"d":"5 "},{"v":3,"d":"3 "},{"v":1,"d":"1 "},{"v":2,"d":"2 "},"-",{"v":2,"d":"2 "},"-","-","-","-","-","-","-","-","-","-","-","-","-","-","-","-","-","-",{"v":2,"d":"2 "},{"v":70,"d":"70 "},{"v":42,"d":"42 "},{"v":28,"d":"28 "},"-",3,3,1,2,"-","-","-","-",2,"-","-","-","-",2,"-","-"]
["山梨県","上野原市","上野原町","本町一丁目",{"v":3,"d":"3 "},{"v":1,"d":"1 "},"x","x","x","x","x",{"v":2,"d":"2 "},"x","x","x","x","x","x","x","x","x","x","x","x","x","x","x","x",{"v":58,"d":"58.0"},{"v":62,"d":"62.0"},{"v":54,"d":"54.0"},"x","x","x","x","x","x","x","x","x","x","x","x","x","x","x","x","…","…","…","x","x","x","x","x","x","x","x","x","x","x","x","x","x","x","x","…","…","…",{"v":1,"d":"1 "},"-","-","-","-","-","-","-","-","-",{"v":1,"d":"1 "},"-","-","-","-","-","-","-","-","-","-","-","-","-","-","-","-","-","-","-",{"$nulls":7},{"v":5,"d":"5 "},{"v":3,"d":"3 "},"-",{"v":3,"d":"3 "},"-","-",{"v":1,"d":"1 "},{"v":1,"d":"1 "},"-","-","-","-","-","-","-","-","-","-","-","-","-","-","-","-",{"v":1,"d":"1 "},{"v":65,"d":"65 "},{"v":7,"d":"7 "},{"v":58,"d":"58 "},"-",3,2,"-",2,"-","-",1,"-",2,1,"-",1,"-","-","-",1]
["山梨県","上野原市","上野原町","新井",{"v":10,"d":"10 "},{"v":5,"d":"5 "},"-","-",{"v":1,"d":"1 "},{"v":1,"d":"1 "},{"v":4,"d":"4 "},{"v":5,"d":"5 "},{"v":16,"d":"16 "},{"v":3,"d":"3 "},"-","-","-","-",{"v":1,"d":"1 "},{"v":1,"d":"1 "},{"v":5,"d":"5 "},"-","-","-",{"v":1,"d":"1 "},"-",{"v":3,"d":"3 "},{"v":2,"d":"2 "},55.8,64.9,48.7,{"v":9,"d":"9 "},"-","-","-","-","-","-",{"v":1,"d":"1 "},{"v":2,"d":"2 "},"-","-","-",{"v":1,"d":"1 "},"-",{"v":3,"d":"3 "},{"v":2,"d":"2 "},70.9,74.5,{"v":68,"d":"68.0"},{"v":5,"d":"5 "},"-","-","-","-","-","-","-",{"v":2,"d":"2 "},"-","-","-",{"v":1,"d":"1 "},"-",{"v":1,"d":"1 "},{"v":1,"d":"1 "},68.4,70.3,65.5,{"v":5,"d":"5 "},"-","-","-","-","-","-","-",{"v":3,"d":"3 "},"-","-","-",{"v":1,"d":"1 "},"-","-",{"v":1,"d":"1 "},{"v":1,"d":"1 "},"-","-","-","-","-","-","-","-","-","-","-","-",{"v":1,"d":"1 "},{"$nulls":7},{"v":20,"d":"20 "},{"v":11,"d":"11 "},{"v":5,"d":"5 "},{"v":6,"d":"6 "},"-",{"v":4,"d":"4 "},{"v":3,"d":"3 "},{"v":2,"d":"2 "},{"v":1,"d":"1 "},"-","-","-","-",{"v":1,"d":"1 "},"-","-","-","-","-","-","-","-","-","-",{"v":5,"d":"5 "},{"v":218,"d":"218 "},{"v":79,"d":"79 "},{"v":139,"d":"139 "},"-",9,6,3,3,"-","-",2,1,11,5,2,3,"-",4,1,1]
["山梨県","上野原市","上野原町","山風呂",{"v":7,"d":"7 "},"-","-","-","-","-","-",{"v":7,"d":"7 "},"-","-","-","-","-","-","-","-","-","-","-","-","-","-","-","-","…","…","…","-","-","-","-","-","-","-","-","-","-","-","-","-","-","-","-","…","…","…","-","-","-","-","-","-","-","-","-","-","-","-","-","-","-","-","…","…","…","-","-","-","-","-","-","-","-","-","-","-","-","-","-","-","-","-","-","-","-","-","-","-","-","-","-","-","-","-","-",{"$nulls":7},"-","-","-","-","-","-","-","-","-","-","-","-","-","-","-","-","-","-","-","-","-","-","-","-","-","-","-","-","-","-","-","-","-","-","-","-","-","-","-","-","-","-","-","-","-"]
["山梨県","上野原市","棡原村","猪丸",{"v":21,"d":"21 "},{"v":4,"d":"4 "},"-","-","-","-",{"v":4,"d":"4 "},{"v":17,"d":"17 "},{"v":10,"d":"10 "},"-","-","-","-",{"v":2,"d":"2 "},"-",{"v":1,"d":"1 "},"-","-","-","-",{"v":5,"d":"5 "},{"v":1,"d":"1 "},{"v":1,"d":"1 "},"-",64.5,65.2,63.5,{"v":6,"d":"6 "},"-","-","-","-","-","-","-","-","-","-","-",{"v":4,"d":"4 "},{"v":1,"d":"1 "},{"v":1,"d":"1 "},"-",74.8,76.3,{"v":72,"d":"72.0"},{"v":5,"d":"5 "},"-","-","-","-","-","-","-","-","-","-","-",{"v":3,"d":"3 "},{"v":1,"d":"1 "},{"v":1,"d":"1 "},"-",75.2,76.3,{"v":71,"d":"71.0"},{"v":4,"d":"4 "},"-","-","-","-","-","-","-","-","-","-","-",{"v":2,"d":"2 "},{"v":1,"d":"1 "},{"v":1,"d":"1 "},"-",{"v":2,"d":"2 "},"-","-","-","-","-","-","-","-","-",{"v":2,"d":"2 "},"-","-","-",{"$nulls":7},{"v":14,"d":"14 "},{"v":11,"d":"11 "},{"v":5,"d":"5 "},{"v":6,"d":"6 "},"-",{"v":3,"d":"3 "},"-","-",{"v":3,"d":"3 "},"-","-","-","-",{"v":2,"d":"2 "},"-","-","-",{"v":1,"d":"1 "},"-","-","-","-","-","-",{"v":4,"d":"4 "},{"v":133,"d":"133 "},"-",{"v":114,"d":"114 "},{"v":19,"d":"19 "},6,6,4,2,"-","-","-","-",8,5,1,4,"-",3,"-","-"]
["山梨県","上野原市","西原村","藤尾",{"v":14,"d":"14 "},{"v":1,"d":"1 "},"x","x","x","x","x",{"v":13,"d":"13 "},"x","x","x","x","x","x","x","x","x","x","x","x","x","x","x","x",{"v":74,"d":"74.0"},{"v":76,"d":"76.0"},{"v":72,"d":"72.0"},"x","x","x","x","x","x","x","x","x","x","x","x","x","x","x","x",{"v":74,"d":"74.0"},{"v":76,"d":"76.0"},{"v":72,"d":"72.0"},"x","x","x","x","x","x","x","x","x","x","x","x","x","x","x","x",{"v":74,"d":"74.0"},{"v":76,"d":"76.0"},{"v":72,"d":"72.0"},{"v":1,"d":"1 "},"-",{"v":1,"d":"1 "},"-","-","-","-","-","-","-","-","-","-","-","-","-","-","-","-","-","-","-","-","-","-","-","-","-","-","-",{"$nulls":7},{"v":6,"d":"6 "},{"v":5,"d":"5 "},{"v":2,"d":"2 "},{"v":3,"d":"3 "},"-","-","-",{"v":1,"d":"1 "},"-","-","-","-","-","-","-","-","-","-","-","-","-","-","-","-",{"v":1,"d":"1 "},{"v":30,"d":"30 "},"-",{"v":30,"d":"30 "},"-",3,3,1,2,"-","-","-","-",3,2,1,1,"-","-","-",1]
["山梨県","上野原市","西原村","原",{"v":23,"d":"23 "},{"v":1,"d":"1 "},"x","x","x","x","x",{"v":22,"d":"22 "},"x","x","x","x","x","x","x","x","x","x","x","x","x","x","x","x",{"v":63,"d":"63.0"},{"v":63,"d":"63.0"},"…","x","x","x","x","x","x","x","x","x","x","x","x","x","x","x","x",{"v":63,"d":"63.0"},{"v":63,"d":"63.0"},"…","x","x","x","x","x","x","x","x","x","x","x","x","x","x","x","x",{"v":63,"d":"63.0"},{"v":63,"d":"63.0"},"…",{"v":1,"d":"1 "},"-","-","-","-","-","-","-","-","-","-","-",{"v":1,"d":"1 "},"-","-","-",{"v":1,"d":"1 "},"-","-","-","-","-","-","-","-","-",{"v":1,"d":"1 "},"-","-","-",{"$nulls":7},{"v":2,"d":"2 "},{"v":2,"d":"2 "},{"v":2,"d":"2 "},"-","-","-","-","-","-","-","-","-","-","-","-","-","-","-","-","-","-","-","-","-",{"v":1,"d":"1 "},{"v":60,"d":"60 "},"-",{"v":60,"d":"60 "},"-",2,2,2,"-","-","-","-","-","-","-","-","-","-","-","-","-"]
["山梨県","甲州市","塩山町","千野東",{"v":19,"d":"19 "},{"v":11,"d":"11 "},{"v":4,"d":"4 "},{"v":2,"d":"2 "},{"v":2,"d":"2 "},{"v":1,"d":"1 "},{"v":5,"d":"5 "},{"v":8,"d":"8 "},{"v":26,"d":"26 "},"-","-","-","-",{"v":1,"d":"1 "},{"v":3,"d":"3 "},{"v":2,"d":"2 "},{"v":1,"d":"1 "},{"v":2,"d":"2 "},{"v":4,"d":"4 "},{"v":3,"d":"3 "},{"v":5,"d":"5 "},{"v":4,"d":"4 "},"-",{"v":1,"d":"1 "},62.7,60.1,64.9,{"v":21,"d":"21 "},"-","-","-","-","-",{"v":1,"d":"1 "},{"v":1,"d":"1 "},{"v":1,"d":"1 "},{"v":1,"d":"1 "},{"v":4,"d":"4 "},{"v":3,"d":"3 "},{"v":5,"d":"5 "},{"v":4,"d":"4 "},"-",{"v":1,"d":"1 "},{"v":67,"d":"67.0"},{"v":67,"d":"67.0"},66.9,{"v":17,"d":"17 "},"-","-","-","-","-","-",{"v":1,"d":"1 "},"-","-",{"v":4,"d":"4 "},{"v":3,"d":"3 "},{"v":4,"d":"4 "},{"v":4,"d":"4 "},"-",{"v":1,"d":"1 "},69.5,{"v":67,"d":"67.0"},72.4,{"v":11,"d":"11 "},"-","-","-","-","-","-",{"v":1,"d":"1 "},"-",{"v":1,"d":"1 "},{"v":2,"d":"2 "},{"v":2,"d":"2 "},{"v":3,"d":"3 "},{"v":2,"d":"2 "},"-","-",{"v":8,"d":"8 "},"-","-","-","-","-","-","-",{"v":2,"d":"2 "},{"v":2,"d":"2 "},{"v":3,"d":"3 "},{"v":1,"d":"1 "},"-","-",{"$nulls":7},{"v":29,"d":"29 "},{"v":22,"d":"22 "},{"v":17,"d":"17 "},{"v":5,"d":"5 "},"-",{"v":3,"d":"3 "},{"v":2,"d":"2 "},{"v":2,"d":"2 "},{"v":11,"d":"11 "},"-","-","-","-",{"v":1,"d":"1 "},"-",{"v":10,"d":"10 "},"-","-","-","-","-","-","-","-",{"v":11,"d":"11 "},{"v":576,"d":"576 "},"-",{"v":30,"d":"30 "},{"v":546,"d":"546 "},13,12,9,3,"-","-",1,"-",16,10,8,2,"-",3,1,2]
["山梨県","甲州市","塩山町","下東","-","-","-","-","-","-","-","-","-","-","-","-","-","-","-","-","-","-","-","-","-","-","-","-","…","…","…","-","-","-","-","-","-","-","-","-","-","-","-","-","-","-","-","…","…","…","-","-","-","-","-","-","-","-","-","-","-","-","-","-","-","-","…","…","…","-","-","-","-","-","-","-","-","-","-","-","-","-","-","-","-","-","-","-","-","-","-","-","-","-","-","-","-","-","-",{"$nulls":7},"-","-","-","-","-","-","-","-","-","-","-","-","-","-","-","-","-","-","-","-","-","-","-","-","-","-","-","-","-","-","-","-","-","-","-","-","-","-","-","-","-","-","-","-","-"]
["山梨県","甲州市","塩山町","下塩後中",{"v":21,"d":"21 "},{"v":16,"d":"16 "},{"v":3,"d":"3 "},{"v":1,"d":"1 "},{"v":5,"d":"5 "},{"v":3,"d":"3 "},{"v":8,"d":"8 "},{"v":5,"d":"5 "},{"v":40,"d":"40 "},"-",{"v":1,"d":"1 "},"-","-",{"v":3,"d":"3 "},"-",{"v":2,"d":"2 "},{"v":5,"d":"5 "},{"v":5,"d":"5 "},{"v":4,"d":"4 "},{"v":5,"d":"5 "},{"v":4,"d":"4 "},{"v":6,"d":"6 "},{"v":2,"d":"2 "},{"v":3,"d":"3 "},63.5,61.7,{"v":65,"d":"65.0"},{"v":28,"d":"28 "},"-","-","-","-","-","-",{"v":1,"d":"1 "},{"v":2,"d":"2 "},{"v":3,"d":"3 "},{"v":2,"d":"2 "},{"v":5,"d":"5 "},{"v":4,"d":"4 "},{"v":6,"d":"6 "},{"v":2,"d":"2 "},{"v":3,"d":"3 "},70.1,71.6,69.3,{"v":24,"d":"24 "},"-","-","-","-","-","-","-",{"v":1,"d":"1 "},{"v":3,"d":"3 "},{"v":2,"d":"2 "},{"v":5,"d":"5 "},{"v":4,"d":"4 "},{"v":6,"d":"6 "},{"v":2,"d":"2 "},{"v":1,"d":"1 "},70.4,71.6,69.6,{"v":16,"d":"16 "},"-","-","-","-","-","-",{"v":1,"d":"1 "},{"v":1,"d":"1 "},{"v":2,"d":"2 "},{"v":3,"d":"3 "},{"v":1,"d":"1 "},{"v":3,"d":"3 "},{"v":3,"d":"3 "},{"v":2,"d":"2 "},"-",{"v":7,"d":"7 "},"-","-","-","-","-","-",{"v":1,"d":"1 "},"-",{"v":1,"d":"1 "},{"v":3,"d":"3 "},{"v":1,"d":"1 "},{"v":1,"d":"1 "},"-",{"$nulls":7},{"v":55,"d":"55 "},{"v":44,"d":"44 "},{"v":24,"d":"24 "},{"v":19,"d":"19 "},{"v":1,"d":"1 "},{"v":3,"d":"3 "},{"v":5,"d":"5 "},{"v":3,"d":"3 "},{"v":16,"d":"16 "},"-","-","-","-","-","-",{"v":16,"d":"16 "},"-","-","-","-","-","-","-","-",{"v":16,"d":"16 "},{"v":767,"d":"767 "},"-",{"v":14,"d":"14 "},{"v":753,"d":"753 "},26,23,10,12,1,"-",2,1,29,21,14,7,"-",3,3,2]
["山梨県","甲州市","塩山町","八王子，旗板",{"v":17,"d":"17 "},{"v":13,"d":"13 "},{"v":3,"d":"3 "},{"v":3,"d":"3 "},{"v":6,"d":"6 "},{"v":6,"d":"6 "},{"v":4,"d":"4 "},{"v":4,"d":"4 "},{"v":35,"d":"35 "},{"v":1,"d":"1 "},{"v":2,"d":"2 "},"-","-",{"v":1,"d":"1 "},{"v":2,"d":"2 "},{"v":2,"d":"2 "},{"v":5,"d":"5 "},{"v":5,"d":"5 "},{"v":3,"d":"3 "},{"v":3,"d":"3 "},{"v":1,"d":"1 "},{"v":2,"d":"2 "},{"v":5,"d":"5 "},{"v":3,"d":"3 "},{"v":60,"d":"60.0"},62.1,58.3,{"v":26,"d":"26 "},{"v":1,"d":"1 "},{"v":1,"d":"1 "},"-","-","-",{"v":2,"d":"2 "},{"v":1,"d":"1 "},{"v":2,"d":"2 "},{"v":5,"d":"5 "},{"v":1,"d":"1 "},{"v":2,"d":"2 "},{"v":1,"d":"1 "},{"v":2,"d":"2 "},{"v":5,"d":"5 "},{"v":3,"d":"3 "},63.2,68.1,60.6,{"v":21,"d":"21 "},"-","-","-","-","-",{"v":2,"d":"2 "},{"v":1,"d":"1 "},{"v":1,"d":"1 "},{"v":5,"d":"5 "},{"v":1,"d":"1 "},{"v":2,"d":"2 "},{"v":1,"d":"1 "},{"v":2,"d":"2 "},{"v":5,"d":"5 "},{"v":1,"d":"1 "},65.9,65.4,66.2,{"v":13,"d":"13 "},"-","-","-","-","-",{"v":1,"d":"1 "},{"v":1,"d":"1 "},{"v":1,"d":"1 "},{"v":1,"d":"1 "},{"v":2,"d":"2 "},{"v":2,"d":"2 "},{"v":1,"d":"1 "},{"v":1,"d":"1 "},{"v":2,"d":"2 "},{"v":1,"d":"1 "},{"v":3,"d":"3 "},"-","-","-","-","-","-","-","-",{"v":1,"d":"1 "},"-",{"v":1,"d":"1 "},{"v":1,"d":"1 "},"-",{"$nulls":7},{"v":45,"d":"45 "},{"v":36,"d":"36 "},{"v":21,"d":"21 "},{"v":14,"d":"14 "},{"v":1,"d":"1 "},{"v":3,"d":"3 "},{"v":3,"d":"3 "},{"v":3,"d":"3 "},{"v":13,"d":"13 "},"-","-","-","-","-","-",{"v":13,"d":"13 "},"-","-","-","-","-","-","-","-",{"v":13,"d":"13 "},{"v":722,"d":"722 "},"-",{"v":53,"d":"53 "},{"v":669,"d":"669 "},19,17,8,8,1,"-","-",2,26,19,13,6,"-",3,3,1]
["山梨県","甲州市","奥野田村","熊野西",{"v":25,"d":"25 "},{"v":16,"d":"16 "},{"v":4,"d":"4 "},{"v":4,"d":"4 "},{"v":7,"d":"7 "},{"v":5,"d":"5 "},{"v":5,"d":"5 "},{"v":9,"d":"9 "},{"v":44,"d":"44 "},{"v":2,"d":"2 "},{"v":5,"d":"5 "},"-",{"v":1,"d":"1 "},"-",{"v":1,"d":"1 "},{"v":3,"d":"3 "},{"v":7,"d":"7 "},{"v":6,"d":"6 "},{"v":4,"d":"4 "},{"v":2,"d":"2 "},{"v":5,"d":"5 "},{"v":4,"d":"4 "},{"v":4,"d":"4 "},"-",55.5,56.1,{"v":55,"d":"55.0"},{"v":29,"d":"29 "},"-","-","-","-","-","-",{"v":2,"d":"2 "},{"v":6,"d":"6 "},{"v":3,"d":"3 "},{"v":3,"d":"3 "},{"v":2,"d":"2 "},{"v":5,"d":"5 "},{"v":4,"d":"4 "},{"v":4,"d":"4 "},"-",65.3,68.2,{"v":63,"d":"63.0"},{"v":26,"d":"26 "},"-","-","-","-","-","-",{"v":1,"d":"1 "},{"v":6,"d":"6 "},{"v":3,"d":"3 "},{"v":3,"d":"3 "},{"v":1,"d":"1 "},{"v":5,"d":"5 "},{"v":4,"d":"4 "},{"v":3,"d":"3 "},"-",65.1,68.2,{"v":62,"d":"62.0"},{"v":16,"d":"16 "},"-","-","-","-","-","-","-",{"v":1,"d":"1 "},{"v":4,"d":"4 "},{"v":3,"d":"3 "},{"v":1,"d":"1 "},{"v":2,"d":"2 "},{"v":4,"d":"4 "},{"v":1,"d":"1 "},"-",{"v":3,"d":"3 "},"-","-","-","-","-","-",{"v":1,"d":"1 "},"-","-",{"v":1,"d":"1 "},"-",{"v":1,"d":"1 "},"-",{"$nulls":7},{"v":56,"d":"56 "},{"v":42,"d":"42 "},{"v":26,"d":"26 "},{"v":16,"d":"16 "},"-",{"v":3,"d":"3 "},{"v":10,"d":"10 "},{"v":1,"d":"1 "},{"v":16,"d":"16 "},"-","-","-","-","-","-",{"v":16,"d":"16 "},"-","-","-","-","-","-","-","-",{"v":16,"d":"16 "},{"v":1017,"d":"1,017 "},"-","-",{"v":1017,"d":"1,017 "},28,21,13,8,"-","-",7,"-",28,21,13,8,"-",3,3,1]
["山梨県","甲州市","奥野田村","塩川",{"v":14,"d":"14 "},{"v":8,"d":"8 "},{"v":3,"d":"3 "},{"v":2,"d":"2 "},{"v":1,"d":"1 "},{"v":1,"d":"1 "},{"v":4,"d":"4 "},{"v":6,"d":"6 "},{"v":22,"d":"22 "},"-",{"v":1,"d":"1 "},{"v":1,"d":"1 "},"-",{"v":1,"d":"1 "},{"v":1,"d":"1 "},{"v":1,"d":"1 "},"-",{"v":5,"d":"5 "},{"v":2,"d":"2 "},{"v":2,"d":"2 "},{"v":2,"d":"2 "},{"v":5,"d":"5 "},"-",{"v":1,"d":"1 "},59.8,57.7,61.8,{"v":16,"d":"16 "},"-","-","-","-",{"v":1,"d":"1 "},"-","-","-",{"v":4,"d":"4 "},{"v":2,"d":"2 "},{"v":1,"d":"1 "},{"v":2,"d":"2 "},{"v":5,"d":"5 "},"-",{"v":1,"d":"1 "},66.2,68.4,64.4,{"v":15,"d":"15 "},"-","-","-","-","-","-","-","-",{"v":4,"d":"4 "},{"v":2,"d":"2 "},{"v":1,"d":"1 "},{"v":2,"d":"2 "},{"v":5,"d":"5 "},"-",{"v":1,"d":"1 "},68.3,68.4,68.1,{"v":8,"d":"8 "},"-","-","-","-","-","-","-","-",{"v":1,"d":"1 "},{"v":2,"d":"2 "},{"v":1,"d":"1 "},{"v":1,"d":"1 "},{"v":3,"d":"3 "},"-","-",{"v":3,"d":"3 "},"-","-","-","-","-","-","-",{"v":1,"d":"1 "},"-","-",{"v":2,"d":"2 "},"-","-",{"$nulls":7},{"v":28,"d":"28 "},{"v":23,"d":"23 "},{"v":15,"d":"15 "},{"v":7,"d":"7 "},{"v":1,"d":"1 "},{"v":2,"d":"2 "},{"v":2,"d":"2 "},{"v":1,"d":"1 "},{"v":8,"d":"8 "},"-","-","-","-","-","-",{"v":8,"d":"8 "},"-","-","-","-","-","-","-","-",{"v":8,"d":"8 "},{"v":593,"d":"593 "},"-",{"v":9,"d":"9 "},{"v":584,"d":"584 "},14,12,7,4,1,"-",2,"-",14,11,8,3,"-",2,"-",1]
["山梨県","甲州市","大藤村","北原",{"v":14,"d":"14 "},{"v":14,"d":"14 "},{"v":1,"d":"1 "},{"v":1,"d":"1 "},{"v":6,"d":"6 "},{"v":4,"d":"4 "},{"v":7,"d":"7 "},"-",{"v":31,"d":"31 "},{"v":1,"d":"1 "},{"v":1,"d":"1 "},{"v":1,"d":"1 "},{"v":2,"d":"2 "},{"v":1,"d":"1 "},"-",{"v":1,"d":"1 "},{"v":3,"d":"3 "},{"v":1,"d":"1 "},{"v":5,"d":"5 "},{"v":2,"d":"2 "},{"v":4,"d":"4 "},{"v":6,"d":"6 "},{"v":2,"d":"2 "},{"v":1,"d":"1 "},60.2,56.4,64.8,{"v":18,"d":"18 "},"-","-","-","-","-","-","-","-","-",{"v":5,"d":"5 "},{"v":2,"d":"2 "},{"v":4,"d":"4 "},{"v":5,"d":"5 "},{"v":2,"d":"2 "},"-",70.9,73.4,68.4,{"v":17,"d":"17 "},"-","-","-","-","-","-","-","-","-",{"v":4,"d":"4 "},{"v":2,"d":"2 "},{"v":4,"d":"4 "},{"v":5,"d":"5 "},{"v":2,"d":"2 "},"-",71.6,73.4,69.5,{"v":14,"d":"14 "},"-","-","-","-","-","-",{"v":1,"d":"1 "},{"v":2,"d":"2 "},{"v":1,"d":"1 "},{"v":2,"d":"2 "},{"v":2,"d":"2 "},{"v":2,"d":"2 "},{"v":2,"d":"2 "},{"v":2,"d":"2 "},"-",{"v":8,"d":"8 "},"-","-","-","-",{"v":1,"d":"1 "},{"v":1,"d":"1 "},{"v":1,"d":"1 "},{"v":1,"d":"1 "},"-","-",{"v":2,"d":"2 "},{"v":2,"d":"2 "},"-",{"$nulls":7},{"v":41,"d":"41 "},{"v":31,"d":"31 "},{"v":17,"d":"17 "},{"v":12,"d":"12 "},{"v":2,"d":"2 "},{"v":2,"d":"2 "},{"v":2,"d":"2 "},{"v":6,"d":"6 "},{"v":14,"d":"14 "},"-","-","-","-","-","-",{"v":13,"d":"13 "},{"v":1,"d":"1 "},"-","-","-","-","-","-","-",{"v":14,"d":"14 "},{"v":778,"d":"778 "},"-",{"v":53,"d":"53 "},{"v":725,"d":"725 "},20,16,9,6,1,"-",1,3,21,15,8,6,1,2,1,3]
["山梨県","甲州市","大藤村","重郎原",{"v":10,"d":"10 "},{"v":9,"d":"9 "},{"v":3,"d":"3 "},{"v":3,"d":"3 "},{"v":1,"d":"1 "},{"v":1,"d":"1 "},{"v":5,"d":"5 "},{"v":1,"d":"1 "},{"v":21,"d":"21 "},{"v":1,"d":"1 "},"-","-","-","-",{"v":3,"d":"3 "},"-",{"v":2,"d":"2 "},{"v":1,"d":"1 "},{"v":1,"d":"1 "},{"v":2,"d":"2 "},{"v":5,"d":"5 "},{"v":2,"d":"2 "},{"v":1,"d":"1 "},{"v":3,"d":"3 "},64.7,{"v":64,"d":"64.0"},65.4,{"v":17,"d":"17 "},"-","-","-","-","-",{"v":1,"d":"1 "},"-",{"v":2,"d":"2 "},"-",{"v":1,"d":"1 "},{"v":2,"d":"2 "},{"v":5,"d":"5 "},{"v":2,"d":"2 "},{"v":1,"d":"1 "},{"v":3,"d":"3 "},70.5,69.4,71.6,{"v":15,"d":"15 "},"-","-","-","-","-","-","-",{"v":2,"d":"2 "},"-",{"v":1,"d":"1 "},{"v":2,"d":"2 "},{"v":5,"d":"5 "},{"v":2,"d":"2 "},{"v":1,"d":"1 "},{"v":2,"d":"2 "},71.3,69.4,73.4,{"v":9,"d":"9 "},"-","-","-","-","-",{"v":1,"d":"1 "},"-",{"v":2,"d":"2 "},"-","-",{"v":1,"d":"1 "},{"v":3,"d":"3 "},{"v":1,"d":"1 "},"-",{"v":1,"d":"1 "},{"v":3,"d":"3 "},"-","-","-","-","-","-","-","-","-",{"v":1,"d":"1 "},{"v":1,"d":"1 "},"-",{"v":1,"d":"1 "},{"$nulls":7},{"v":21,"d":"21 "},{"v":18,"d":"18 "},{"v":15,"d":"15 "},{"v":3,"d":"3 "},"-",{"v":2,"d":"2 "},{"v":1,"d":"1 "},"-",{"v":9,"d":"9 "},"-","-","-","-","-","-",{"v":9,"d":"9 "},"-","-","-","-","-","-","-","-",{"v":9,"d":"9 "},{"v":547,"d":"547 "},"-",{"v":2,"d":"2 "},{"v":545,"d":"545 "},10,10,8,2,"-","-","-","-",11,8,7,1,"-",2,1,"-"]
["山梨県","甲州市","大藤村","鐙摺",{"v":11,"d":"11 "},{"v":10,"d":"10 "},{"v":3,"d":"3 "},{"v":3,"d":"3 "},{"v":1,"d":"1 "},"-",{"v":6,"d":"6 "},{"v":1,"d":"1 "},{"v":24,"d":"24 "},"-",{"v":1,"d":"1 "},{"v":1,"d":"1 "},{"v":1,"d":"1 "},"-",{"v":2,"d":"2 "},"-",{"v":1,"d":"1 "},{"v":1,"d":"1 "},{"v":3,"d":"3 "},{"v":7,"d":"7 "},{"v":1,"d":"1 "},{"v":2,"d":"2 "},{"v":1,"d":"1 "},{"v":3,"d":"3 "},62.7,66.2,59.2,{"v":18,"d":"18 "},"-","-","-","-","-",{"v":2,"d":"2 "},"-","-",{"v":1,"d":"1 "},{"v":2,"d":"2 "},{"v":6,"d":"6 "},{"v":1,"d":"1 "},{"v":2,"d":"2 "},{"v":1,"d":"1 "},{"v":3,"d":"3 "},68.9,71.1,66.7,{"v":16,"d":"16 "},"-","-","-","-","-",{"v":2,"d":"2 "},"-","-",{"v":1,"d":"1 "},{"v":2,"d":"2 "},{"v":5,"d":"5 "},{"v":1,"d":"1 "},{"v":2,"d":"2 "},{"v":1,"d":"1 "},{"v":2,"d":"2 "},{"v":68,"d":"68.0"},69.3,66.8,{"v":10,"d":"10 "},"-","-","-","-","-","-","-",{"v":1,"d":"1 "},{"v":1,"d":"1 "},{"v":1,"d":"1 "},{"v":4,"d":"4 "},{"v":1,"d":"1 "},{"v":1,"d":"1 "},"-",{"v":1,"d":"1 "},{"v":5,"d":"5 "},"-","-","-","-","-","-",{"v":1,"d":"1 "},"-",{"v":2,"d":"2 "},"-",{"v":1,"d":"1 "},"-",{"v":1,"d":"1 "},{"$nulls":7},{"v":29,"d":"29 "},{"v":24,"d":"24 "},{"v":16,"d":"16 "},{"v":7,"d":"7 "},{"v":1,"d":"1 "},{"v":2,"d":"2 "},"-",{"v":3,"d":"3 "},{"v":10,"d":"10 "},"-","-","-","-","-","-",{"v":10,"d":"10 "},"-","-","-","-","-","-","-","-",{"v":10,"d":"10 "},{"v":488,"d":"488 "},"-",{"v":5,"d":"5 "},{"v":483,"d":"483 "},14,12,8,3,1,"-","-",2,15,12,8,4,"-",2,"-",1]
["山梨県","甲州市","神金村","上萩第一",{"v":19,"d":"19 "},{"v":16,"d":"16 "},{"v":7,"d":"7 "},{"v":6,"d":"6 "},{"v":1,"d":"1 "},"-",{"v":8,"d":"8 "},{"v":3,"d":"3 "},{"v":45,"d":"45 "},"-",{"v":2,"d":"2 "},"-",{"v":1,"d":"1 "},"-",{"v":5,"d":"5 "},{"v":3,"d":"3 "},{"v":5,"d":"5 "},{"v":1,"d":"1 "},{"v":5,"d":"5 "},{"v":4,"d":"4 "},{"v":9,"d":"9 "},{"v":7,"d":"7 "},{"v":3,"d":"3 "},"-",61.2,61.1,61.3,{"v":35,"d":"35 "},"-","-","-","-","-",{"v":2,"d":"2 "},{"v":1,"d":"1 "},{"v":3,"d":"3 "},{"v":1,"d":"1 "},{"v":5,"d":"5 "},{"v":4,"d":"4 "},{"v":9,"d":"9 "},{"v":7,"d":"7 "},{"v":3,"d":"3 "},"-",67.4,69.4,65.7,{"v":34,"d":"34 "},"-","-","-","-","-",{"v":2,"d":"2 "},{"v":1,"d":"1 "},{"v":3,"d":"3 "},{"v":1,"d":"1 "},{"v":5,"d":"5 "},{"v":4,"d":"4 "},{"v":9,"d":"9 "},{"v":7,"d":"7 "},{"v":2,"d":"2 "},"-",66.9,69.4,64.8,{"v":16,"d":"16 "},"-","-","-","-","-",{"v":1,"d":"1 "},{"v":1,"d":"1 "},{"v":2,"d":"2 "},"-",{"v":3,"d":"3 "},{"v":1,"d":"1 "},{"v":4,"d":"4 "},{"v":3,"d":"3 "},{"v":1,"d":"1 "},"-",{"v":3,"d":"3 "},"-","-","-","-","-","-","-","-","-",{"v":2,"d":"2 "},{"v":1,"d":"1 "},"-","-",{"$nulls":7},{"v":52,"d":"52 "},{"v":44,"d":"44 "},{"v":34,"d":"34 "},{"v":10,"d":"10 "},"-",{"v":1,"d":"1 "},{"v":5,"d":"5 "},{"v":2,"d":"2 "},{"v":16,"d":"16 "},"-","-","-","-","-","-",{"v":15,"d":"15 "},{"v":1,"d":"1 "},"-","-","-","-","-","-","-",{"v":16,"d":"16 "},{"v":1340,"d":"1,340 "},{"v":16,"d":"16 "},{"v":32,"d":"32 "},{"v":1292,"d":"1,292 "},26,23,16,7,"-","-",3,"-",26,21,18,3,"-",1,2,2]
["山梨県","甲州市","神金村","昭和第二",{"v":8,"d":"8 "},{"v":4,"d":"4 "},"-","-","-","-",{"v":4,"d":"4 "},{"v":4,"d":"4 "},{"v":7,"d":"7 "},"-","-","-","-","-","-","-","-","-","-",{"v":4,"d":"4 "},"-",{"v":2,"d":"2 "},{"v":1,"d":"1 "},"-",71.4,72.8,69.7,{"v":7,"d":"7 "},"-","-","-","-","-","-","-","-","-","-",{"v":4,"d":"4 "},"-",{"v":2,"d":"2 "},{"v":1,"d":"1 "},"-",71.4,72.8,69.7,{"v":6,"d":"6 "},"-","-","-","-","-","-","-","-","-","-",{"v":3,"d":"3 "},"-",{"v":2,"d":"2 "},{"v":1,"d":"1 "},"-",{"v":72,"d":"72.0"},72.8,70.5,{"v":4,"d":"4 "},"-","-","-","-","-","-","-","-","-","-",{"v":2,"d":"2 "},"-",{"v":1,"d":"1 "},{"v":1,"d":"1 "},"-",{"v":2,"d":"2 "},"-","-","-","-","-","-","-","-",{"v":2,"d":"2 "},"-","-","-","-",{"$nulls":7},{"v":9,"d":"9 "},{"v":7,"d":"7 "},{"v":6,"d":"6 "},{"v":1,"d":"1 "},"-",{"v":1,"d":"1 "},"-",{"v":1,"d":"1 "},{"v":4,"d":"4 "},"-","-","-","-","-","-",{"v":4,"d":"4 "},"-","-","-","-","-","-","-","-",{"v":4,"d":"4 "},{"v":195,"d":"195 "},{"v":25,"d":"25 "},{"v":20,"d":"20 "},{"v":150,"d":"150 "},4,4,4,"-","-","-","-","-",5,3,2,1,"-",1,"-",1]
["山梨県","甲州市","玉宮村",null,{"v":149,"d":"149 "},{"v":102,"d":"102 "},{"v":33,"d":"33 "},{"v":27,"d":"27 "},{"v":23,"d":"23 "},{"v":5,"d":"5 "},{"v":46,"d":"46 "},{"v":47,"d":"47 "},{"v":255,"d":"255 "},{"v":5,"d":"5 "},{"v":4,"d":"4 "},{"v":7,"d":"7 "},{"v":3,"d":"3 "},{"v":10,"d":"10 "},{"v":12,"d":"12 "},{"v":24,"d":"24 "},{"v":15,"d":"15 "},{"v":21,"d":"21 "},{"v":33,"d":"33 "},{"v":36,"d":"36 "},{"v":19,"d":"19 "},{"v":25,"d":"25 "},{"v":27,"d":"27 "},{"v":14,"d":"14 "},61.2,60.5,{"v":62,"d":"62.0"},{"v":175,"d":"175 "},{"v":1,"d":"1 "},"-","-","-",{"v":6,"d":"6 "},{"v":6,"d":"6 "},{"v":8,"d":"8 "},{"v":5,"d":"5 "},{"v":11,"d":"11 "},{"v":21,"d":"21 "},{"v":34,"d":"34 "},{"v":19,"d":"19 "},{"v":24,"d":"24 "},{"v":26,"d":"26 "},{"v":14,"d":"14 "},{"v":68,"d":"68.0"},68.4,67.5,{"v":165,"d":"165 "},"-","-","-","-",{"v":6,"d":"6 "},{"v":6,"d":"6 "},{"v":4,"d":"4 "},{"v":5,"d":"5 "},{"v":11,"d":"11 "},{"v":21,"d":"21 "},{"v":34,"d":"34 "},{"v":19,"d":"19 "},{"v":22,"d":"22 "},{"v":24,"d":"24 "},{"v":13,"d":"13 "},68.4,68.8,67.9,{"v":102,"d":"102 "},"-","-","-",{"v":1,"d":"1 "},{"v":1,"d":"1 "},{"v":4,"d":"4 "},{"v":5,"d":"5 "},{"v":9,"d":"9 "},{"v":5,"d":"5 "},{"v":19,"d":"19 "},{"v":19,"d":"19 "},{"v":12,"d":"12 "},{"v":8,"d":"8 "},{"v":14,"d":"14 "},{"v":5,"d":"5 "},{"v":47,"d":"47 "},"-","-","-",{"v":1,"d":"1 "},{"v":1,"d":"1 "},{"v":3,"d":"3 "},{"v":2,"d":"2 "},{"v":8,"d":"8 "},{"v":9,"d":"9 "},{"v":7,"d":"7 "},{"v":2,"d":"2 "},{"v":9,"d":"9 "},{"v":5,"d":"5 "},{"$nulls":7},{"v":327,"d":"327 "},{"v":261,"d":"261 "},{"v":165,"d":"165 "},{"v":86,"d":"86 "},{"v":10,"d":"10 "},{"v":16,"d":"16 "},{"v":26,"d":"26 "},{"v":24,"d":"24 "},{"v":99,"d":"99 "},"-","-","-","-",{"v":2,"d":"2 "},"-",{"v":96,"d":"96 "},{"v":1,"d":"1 "},"-","-","-","-","-","-","-",{"v":102,"d":"102 "},{"v":7328,"d":"7,328 "},{"v":212,"d":"212 "},{"v":536,"d":"536 "},{"v":6580,"d":"6,580 "},168,143,85,51,7,1,16,8,159,118,80,35,3,15,10,16]
["山梨県","甲州市","玉宮村","東組",{"v":15,"d":"15 "},{"v":10,"d":"10 "},{"v":4,"d":"4 "},{"v":2,"d":"2 "},{"v":1,"d":"1 "},"-",{"v":5,"d":"5 "},{"v":5,"d":"5 "},{"v":27,"d":"27 "},{"v":1,"d":"1 "},"-","-","-","-",{"v":1,"d":"1 "},{"v":4,"d":"4 "},{"v":3,"d":"3 "},{"v":2,"d":"2 "},{"v":1,"d":"1 "},{"v":2,"d":"2 "},{"v":2,"d":"2 "},{"v":3,"d":"3 "},{"v":7,"d":"7 "},{"v":1,"d":"1 "},64.5,63.2,66.6,{"v":16,"d":"16 "},"-","-","-","-","-","-","-","-",{"v":1,"d":"1 "},{"v":1,"d":"1 "},{"v":2,"d":"2 "},{"v":2,"d":"2 "},{"v":3,"d":"3 "},{"v":6,"d":"6 "},{"v":1,"d":"1 "},75.4,75.7,{"v":75,"d":"75.0"},{"v":16,"d":"16 "},"-","-","-","-","-","-","-","-",{"v":1,"d":"1 "},{"v":1,"d":"1 "},{"v":2,"d":"2 "},{"v":2,"d":"2 "},{"v":3,"d":"3 "},{"v":6,"d":"6 "},{"v":1,"d":"1 "},75.4,75.7,{"v":75,"d":"75.0"},{"v":10,"d":"10 "},"-","-","-","-","-","-","-",{"v":1,"d":"1 "},{"v":1,"d":"1 "},{"v":1,"d":"1 "},{"v":1,"d":"1 "},{"v":1,"d":"1 "},{"v":1,"d":"1 "},{"v":3,"d":"3 "},{"v":1,"d":"1 "},{"v":7,"d":"7 "},"-","-","-","-","-",{"v":1,"d":"1 "},{"v":1,"d":"1 "},"-","-",{"v":1,"d":"1 "},"-",{"v":3,"d":"3 "},{"v":1,"d":"1 "},{"$nulls":7},{"v":43,"d":"43 "},{"v":31,"d":"31 "},{"v":16,"d":"16 "},{"v":13,"d":"13 "},{"v":2,"d":"2 "},{"v":1,"d":"1 "},{"v":9,"d":"9 "},{"v":2,"d":"2 "},{"v":10,"d":"10 "},"-","-","-","-",{"v":1,"d":"1 "},"-",{"v":9,"d":"9 "},"-","-","-","-","-","-","-","-",{"v":10,"d":"10 "},{"v":546,"d":"546 "},{"v":4,"d":"4 "},{"v":43,"d":"43 "},{"v":499,"d":"499 "},25,17,9,7,1,1,7,"-",18,14,7,6,1,"-",2,2]
["山梨県","甲州市","松里村","東方",{"v":19,"d":"19 "},{"v":14,"d":"14 "},{"v":4,"d":"4 "},{"v":4,"d":"4 "},{"v":3,"d":"3 "},{"v":2,"d":"2 "},{"v":7,"d":"7 "},{"v":5,"d":"5 "},{"v":29,"d":"29 "},"-","-","-","-",{"v":2,"d":"2 "},{"v":1,"d":"1 "},"-",{"v":1,"d":"1 "},{"v":3,"d":"3 "},{"v":5,"d":"5 "},{"v":4,"d":"4 "},{"v":6,"d":"6 "},{"v":3,"d":"3 "},{"v":1,"d":"1 "},{"v":3,"d":"3 "},66.5,63.3,69.9,{"v":26,"d":"26 "},"-","-","-","-",{"v":2,"d":"2 "},"-","-","-",{"v":3,"d":"3 "},{"v":5,"d":"5 "},{"v":4,"d":"4 "},{"v":5,"d":"5 "},{"v":3,"d":"3 "},{"v":1,"d":"1 "},{"v":3,"d":"3 "},{"v":68,"d":"68.0"},65.7,69.9,{"v":21,"d":"21 "},"-","-","-","-",{"v":2,"d":"2 "},"-","-","-",{"v":3,"d":"3 "},{"v":5,"d":"5 "},{"v":4,"d":"4 "},{"v":3,"d":"3 "},{"v":3,"d":"3 "},{"v":1,"d":"1 "},"-",64.7,62.5,66.6,{"v":14,"d":"14 "},"-","-","-","-",{"v":1,"d":"1 "},"-","-",{"v":1,"d":"1 "},"-",{"v":3,"d":"3 "},{"v":1,"d":"1 "},{"v":4,"d":"4 "},{"v":2,"d":"2 "},"-",{"v":2,"d":"2 "},{"v":9,"d":"9 "},"-","-","-","-","-","-","-",{"v":2,"d":"2 "},{"v":1,"d":"1 "},{"v":3,"d":"3 "},{"v":2,"d":"2 "},"-",{"v":1,"d":"1 "},{"$nulls":7},{"v":39,"d":"39 "},{"v":30,"d":"30 "},{"v":21,"d":"21 "},{"v":9,"d":"9 "},"-",{"v":4,"d":"4 "},{"v":1,"d":"1 "},{"v":4,"d":"4 "},{"v":13,"d":"13 "},"-","-","-","-","-","-",{"v":13,"d":"13 "},"-","-","-","-","-","-","-","-",{"v":14,"d":"14 "},{"v":894,"d":"894 "},"-","-",{"v":894,"d":"894 "},19,17,10,7,"-","-","-",2,20,13,11,2,"-",4,1,2]
["山梨県","甲州市","松里村","下市場",{"v":21,"d":"21 "},{"v":17,"d":"17 "},{"v":6,"d":"6 "},{"v":6,"d":"6 "},{"v":8,"d":"8 "},{"v":5,"d":"5 "},{"v":3,"d":"3 "},{"v":4,"d":"4 "},{"v":45,"d":"45 "},{"v":1,"d":"1 "},{"v":1,"d":"1 "},{"v":3,"d":"3 "},{"v":3,"d":"3 "},{"v":3,"d":"3 "},"-",{"v":2,"d":"2 "},{"v":2,"d":"2 "},{"v":8,"d":"8 "},{"v":7,"d":"7 "},{"v":6,"d":"6 "},{"v":1,"d":"1 "},{"v":1,"d":"1 "},{"v":5,"d":"5 "},{"v":2,"d":"2 "},56.5,53.4,{"v":61,"d":"61.0"},{"v":29,"d":"29 "},"-","-",{"v":1,"d":"1 "},"-",{"v":2,"d":"2 "},"-","-",{"v":1,"d":"1 "},{"v":5,"d":"5 "},{"v":5,"d":"5 "},{"v":6,"d":"6 "},{"v":1,"d":"1 "},{"v":1,"d":"1 "},{"v":5,"d":"5 "},{"v":2,"d":"2 "},64.8,63.5,66.4,{"v":26,"d":"26 "},"-","-","-","-",{"v":2,"d":"2 "},"-","-",{"v":1,"d":"1 "},{"v":4,"d":"4 "},{"v":5,"d":"5 "},{"v":6,"d":"6 "},{"v":1,"d":"1 "},{"v":1,"d":"1 "},{"v":5,"d":"5 "},{"v":1,"d":"1 "},65.7,61.7,{"v":71,"d":"71.0"},{"v":17,"d":"17 "},"-","-","-","-","-","-",{"v":1,"d":"1 "},{"v":1,"d":"1 "},{"v":4,"d":"4 "},{"v":5,"d":"5 "},{"v":3,"d":"3 "},{"v":1,"d":"1 "},"-",{"v":2,"d":"2 "},"-",{"v":10,"d":"10 "},"-","-","-","-","-",{"v":1,"d":"1 "},{"v":3,"d":"3 "},{"v":3,"d":"3 "},{"v":2,"d":"2 "},"-","-",{"v":1,"d":"1 "},"-",{"$nulls":7},{"v":60,"d":"60 "},{"v":49,"d":"49 "},{"v":26,"d":"26 "},{"v":21,"d":"21 "},{"v":2,"d":"2 "},{"v":4,"d":"4 "},{"v":1,"d":"1 "},{"v":6,"d":"6 "},{"v":17,"d":"17 "},"-","-","-","-","-","-",{"v":17,"d":"17 "},"-","-","-","-","-","-","-","-",{"v":17,"d":"17 "},{"v":1071,"d":"1,071 "},{"v":8,"d":"8 "},{"v":35,"d":"35 "},{"v":1028,"d":"1,028 "},31,27,15,11,1,"-",1,3,29,22,11,10,1,4,"-",3]
["山梨県","甲州市","松里村","中央，宮原",{"v":17,"d":"17 "},{"v":16,"d":"16 "},{"v":4,"d":"4 "},{"v":4,"d":"4 "},{"v":2,"d":"2 "},{"v":2,"d":"2 "},{"v":10,"d":"10 "},{"v":1,"d":"1 "},{"v":39,"d":"39 "},{"v":1,"d":"1 "},{"v":1,"d":"1 "},{"v":1,"d":"1 "},{"v":2,"d":"2 "},"-",{"v":2,"d":"2 "},{"v":2,"d":"2 "},{"v":3,"d":"3 "},{"v":4,"d":"4 "},{"v":4,"d":"4 "},{"v":3,"d":"3 "},{"v":6,"d":"6 "},{"v":5,"d":"5 "},{"v":1,"d":"1 "},{"v":4,"d":"4 "},60.9,60.7,61.2,{"v":25,"d":"25 "},{"v":1,"d":"1 "},"-","-","-","-","-",{"v":1,"d":"1 "},{"v":1,"d":"1 "},{"v":2,"d":"2 "},{"v":3,"d":"3 "},{"v":3,"d":"3 "},{"v":6,"d":"6 "},{"v":4,"d":"4 "},{"v":1,"d":"1 "},{"v":3,"d":"3 "},67.5,66.1,69.2,{"v":23,"d":"23 "},"-","-","-","-","-","-",{"v":1,"d":"1 "},"-",{"v":2,"d":"2 "},{"v":3,"d":"3 "},{"v":3,"d":"3 "},{"v":6,"d":"6 "},{"v":4,"d":"4 "},{"v":1,"d":"1 "},{"v":3,"d":"3 "},70.3,69.8,{"v":71,"d":"71.0"},{"v":16,"d":"16 "},"-","-","-","-","-","-",{"v":1,"d":"1 "},"-",{"v":2,"d":"2 "},{"v":2,"d":"2 "},{"v":1,"d":"1 "},{"v":4,"d":"4 "},{"v":3,"d":"3 "},{"v":1,"d":"1 "},{"v":2,"d":"2 "},{"v":9,"d":"9 "},"-","-","-","-","-","-","-",{"v":1,"d":"1 "},{"v":1,"d":"1 "},{"v":3,"d":"3 "},{"v":1,"d":"1 "},{"v":1,"d":"1 "},{"v":2,"d":"2 "},{"$nulls":7},{"v":49,"d":"49 "},{"v":37,"d":"37 "},{"v":23,"d":"23 "},{"v":12,"d":"12 "},{"v":2,"d":"2 "},{"v":5,"d":"5 "},{"v":6,"d":"6 "},{"v":1,"d":"1 "},{"v":15,"d":"15 "},"-","-","-","-","-","-",{"v":15,"d":"15 "},"-","-","-","-","-","-","-","-",{"v":16,"d":"16 "},{"v":897,"d":"897 "},{"v":44,"d":"44 "},{"v":16,"d":"16 "},{"v":837,"d":"837 "},20,18,13,5,"-","-",2,"-",29,19,10,7,2,5,4,1]
["山梨県","甲州市","松里村","西藤木",{"v":19,"d":"19 "},{"v":15,"d":"15 "},{"v":4,"d":"4 "},{"v":3,"d":"3 "},{"v":6,"d":"6 "},{"v":2,"d":"2 "},{"v":5,"d":"5 "},{"v":4,"d":"4 "},{"v":44,"d":"44 "},"-",{"v":2,"d":"2 "},{"v":2,"d":"2 "},"-",{"v":2,"d":"2 "},{"v":3,"d":"3 "},{"v":5,"d":"5 "},"-",{"v":8,"d":"8 "},{"v":6,"d":"6 "},{"v":4,"d":"4 "},{"v":3,"d":"3 "},{"v":2,"d":"2 "},{"v":3,"d":"3 "},{"v":4,"d":"4 "},58.5,56.2,60.5,{"v":26,"d":"26 "},"-","-","-","-","-",{"v":2,"d":"2 "},{"v":3,"d":"3 "},"-",{"v":2,"d":"2 "},{"v":4,"d":"4 "},{"v":3,"d":"3 "},{"v":3,"d":"3 "},{"v":2,"d":"2 "},{"v":3,"d":"3 "},{"v":4,"d":"4 "},66.8,68.7,65.8,{"v":21,"d":"21 "},"-","-","-","-","-",{"v":1,"d":"1 "},{"v":3,"d":"3 "},"-",{"v":2,"d":"2 "},{"v":3,"d":"3 "},{"v":2,"d":"2 "},{"v":3,"d":"3 "},{"v":2,"d":"2 "},{"v":2,"d":"2 "},{"v":3,"d":"3 "},66.8,66.4,67.1,{"v":15,"d":"15 "},"-","-","-","-","-",{"v":1,"d":"1 "},{"v":2,"d":"2 "},"-",{"v":3,"d":"3 "},{"v":4,"d":"4 "},{"v":3,"d":"3 "},{"v":1,"d":"1 "},"-",{"v":1,"d":"1 "},"-",{"v":7,"d":"7 "},"-","-","-","-",{"v":1,"d":"1 "},"-","-",{"v":4,"d":"4 "},{"v":1,"d":"1 "},{"v":1,"d":"1 "},"-","-","-",{"$nulls":7},{"v":50,"d":"50 "},{"v":42,"d":"42 "},{"v":21,"d":"21 "},{"v":19,"d":"19 "},{"v":2,"d":"2 "},{"v":4,"d":"4 "},{"v":2,"d":"2 "},{"v":2,"d":"2 "},{"v":15,"d":"15 "},"-","-","-","-","-","-",{"v":15,"d":"15 "},"-","-","-","-","-","-","-","-",{"v":15,"d":"15 "},{"v":1014,"d":"1,014 "},{"v":65,"d":"65 "},{"v":25,"d":"25 "},{"v":924,"d":"924 "},24,22,8,12,2,"-",1,1,26,20,13,7,"-",4,1,1]
["山梨県","甲州市","勝沼町","勝沼第一区",{"v":18,"d":"18 "},{"v":17,"d":"17 "},{"v":6,"d":"6 "},{"v":6,"d":"6 "},{"v":7,"d":"7 "},{"v":3,"d":"3 "},{"v":4,"d":"4 "},{"v":1,"d":"1 "},{"v":47,"d":"47 "},"-","-",{"v":1,"d":"1 "},{"v":4,"d":"4 "},{"v":3,"d":"3 "},{"v":1,"d":"1 "},{"v":2,"d":"2 "},{"v":3,"d":"3 "},{"v":8,"d":"8 "},{"v":9,"d":"9 "},{"v":3,"d":"3 "},{"v":3,"d":"3 "},{"v":5,"d":"5 "},{"v":3,"d":"3 "},{"v":2,"d":"2 "},59.6,58.7,60.5,{"v":33,"d":"33 "},"-","-","-",{"v":1,"d":"1 "},{"v":2,"d":"2 "},{"v":1,"d":"1 "},{"v":1,"d":"1 "},{"v":2,"d":"2 "},{"v":6,"d":"6 "},{"v":6,"d":"6 "},{"v":2,"d":"2 "},{"v":2,"d":"2 "},{"v":5,"d":"5 "},{"v":3,"d":"3 "},{"v":2,"d":"2 "},63.5,{"v":65,"d":"65.0"},62.3,{"v":30,"d":"30 "},"-","-","-","-",{"v":2,"d":"2 "},"-",{"v":1,"d":"1 "},{"v":1,"d":"1 "},{"v":6,"d":"6 "},{"v":6,"d":"6 "},{"v":2,"d":"2 "},{"v":2,"d":"2 "},{"v":5,"d":"5 "},{"v":3,"d":"3 "},{"v":2,"d":"2 "},65.8,{"v":65,"d":"65.0"},66.5,{"v":17,"d":"17 "},"-","-","-","-","-","-","-",{"v":1,"d":"1 "},{"v":5,"d":"5 "},{"v":3,"d":"3 "},{"v":2,"d":"2 "},{"v":3,"d":"3 "},{"v":1,"d":"1 "},{"v":2,"d":"2 "},"-",{"v":6,"d":"6 "},"-","-","-","-","-","-",{"v":2,"d":"2 "},{"v":1,"d":"1 "},"-",{"v":1,"d":"1 "},"-",{"v":2,"d":"2 "},"-",{"$nulls":7},{"v":60,"d":"60 "},{"v":50,"d":"50 "},{"v":30,"d":"30 "},{"v":18,"d":"18 "},{"v":2,"d":"2 "},{"v":3,"d":"3 "},{"v":1,"d":"1 "},{"v":6,"d":"6 "},{"v":17,"d":"17 "},"-","-","-","-","-","-",{"v":17,"d":"17 "},"-","-","-","-","-","-","-","-",{"v":17,"d":"17 "},{"v":1004,"d":"1,004 "},"-","-",{"v":1004,"d":"1,004 "},28,27,15,11,1,"-","-",1,32,23,15,7,1,3,1,5]
["山梨県","甲州市","勝沼町","勝沼第五区",{"v":26,"d":"26 "},{"v":22,"d":"22 "},{"v":6,"d":"6 "},{"v":5,"d":"5 "},{"v":2,"d":"2 "},{"v":2,"d":"2 "},{"v":14,"d":"14 "},{"v":4,"d":"4 "},{"v":49,"d":"49 "},"-","-",{"v":1,"d":"1 "},{"v":1,"d":"1 "},{"v":1,"d":"1 "},{"v":1,"d":"1 "},{"v":1,"d":"1 "},{"v":5,"d":"5 "},{"v":4,"d":"4 "},{"v":4,"d":"4 "},{"v":9,"d":"9 "},{"v":8,"d":"8 "},{"v":8,"d":"8 "},{"v":3,"d":"3 "},{"v":3,"d":"3 "},{"v":66,"d":"66.0"},67.2,64.7,{"v":37,"d":"37 "},"-","-","-","-","-","-","-",{"v":3,"d":"3 "},{"v":3,"d":"3 "},{"v":4,"d":"4 "},{"v":7,"d":"7 "},{"v":6,"d":"6 "},{"v":8,"d":"8 "},{"v":3,"d":"3 "},{"v":3,"d":"3 "},70.6,{"v":72,"d":"72.0"},68.9,{"v":35,"d":"35 "},"-","-","-","-","-","-","-",{"v":3,"d":"3 "},{"v":3,"d":"3 "},{"v":3,"d":"3 "},{"v":7,"d":"7 "},{"v":6,"d":"6 "},{"v":7,"d":"7 "},{"v":3,"d":"3 "},{"v":3,"d":"3 "},70.6,{"v":72,"d":"72.0"},68.7,{"v":22,"d":"22 "},"-","-","-","-","-","-","-",{"v":2,"d":"2 "},{"v":2,"d":"2 "},{"v":2,"d":"2 "},{"v":4,"d":"4 "},{"v":5,"d":"5 "},{"v":2,"d":"2 "},{"v":2,"d":"2 "},{"v":3,"d":"3 "},{"v":9,"d":"9 "},"-","-","-","-","-",{"v":1,"d":"1 "},{"v":1,"d":"1 "},{"v":1,"d":"1 "},{"v":2,"d":"2 "},{"v":1,"d":"1 "},"-",{"v":1,"d":"1 "},{"v":2,"d":"2 "},{"$nulls":7},{"v":62,"d":"62 "},{"v":56,"d":"56 "},{"v":35,"d":"35 "},{"v":17,"d":"17 "},{"v":4,"d":"4 "},{"v":3,"d":"3 "},"-",{"v":3,"d":"3 "},{"v":22,"d":"22 "},"-","-","-","-",{"v":1,"d":"1 "},"-",{"v":20,"d":"20 "},{"v":1,"d":"1 "},"-","-","-","-","-","-","-",{"v":22,"d":"22 "},{"v":1259,"d":"1,259 "},"-",{"v":185,"d":"185 "},{"v":1074,"d":"1,074 "},29,28,20,7,1,"-","-",1,33,28,15,10,3,3,"-",2]
["山梨県","甲州市","祝村",null,{"v":334,"d":"334 "},{"v":301,"d":"301 "},{"v":112,"d":"112 "},{"v":102,"d":"102 "},{"v":43,"d":"43 "},{"v":23,"d":"23 "},{"v":146,"d":"146 "},{"v":33,"d":"33 "},{"v":712,"d":"712 "},{"v":13,"d":"13 "},{"v":8,"d":"8 "},{"v":11,"d":"11 "},{"v":16,"d":"16 "},{"v":22,"d":"22 "},{"v":27,"d":"27 "},{"v":39,"d":"39 "},{"v":67,"d":"67 "},{"v":77,"d":"77 "},{"v":78,"d":"78 "},{"v":91,"d":"91 "},{"v":94,"d":"94 "},{"v":76,"d":"76 "},{"v":65,"d":"65 "},{"v":28,"d":"28 "},{"v":62,"d":"62.0"},61.3,62.8,{"v":564,"d":"564 "},{"v":10,"d":"10 "},{"v":2,"d":"2 "},{"v":3,"d":"3 "},{"v":5,"d":"5 "},{"v":7,"d":"7 "},{"v":9,"d":"9 "},{"v":16,"d":"16 "},{"v":38,"d":"38 "},{"v":62,"d":"62 "},{"v":69,"d":"69 "},{"v":87,"d":"87 "},{"v":92,"d":"92 "},{"v":73,"d":"73 "},{"v":64,"d":"64 "},{"v":27,"d":"27 "},66.1,66.6,65.6,{"v":498,"d":"498 "},"-","-",{"v":3,"d":"3 "},{"v":3,"d":"3 "},{"v":7,"d":"7 "},{"v":8,"d":"8 "},{"v":11,"d":"11 "},{"v":36,"d":"36 "},{"v":56,"d":"56 "},{"v":66,"d":"66 "},{"v":78,"d":"78 "},{"v":85,"d":"85 "},{"v":67,"d":"67 "},{"v":56,"d":"56 "},{"v":22,"d":"22 "},67.2,67.7,66.6,{"v":301,"d":"301 "},"-","-","-",{"v":1,"d":"1 "},{"v":1,"d":"1 "},{"v":2,"d":"2 "},{"v":12,"d":"12 "},{"v":26,"d":"26 "},{"v":31,"d":"31 "},{"v":47,"d":"47 "},{"v":43,"d":"43 "},{"v":53,"d":"53 "},{"v":40,"d":"40 "},{"v":31,"d":"31 "},{"v":14,"d":"14 "},{"v":147,"d":"147 "},"-","-","-",{"v":1,"d":"1 "},{"v":2,"d":"2 "},{"v":8,"d":"8 "},{"v":14,"d":"14 "},{"v":21,"d":"21 "},{"v":23,"d":"23 "},{"v":24,"d":"24 "},{"v":29,"d":"29 "},{"v":18,"d":"18 "},{"v":7,"d":"7 "},{"$nulls":7},{"v":905,"d":"905 "},{"v":715,"d":"715 "},{"v":498,"d":"498 "},{"v":195,"d":"195 "},{"v":22,"d":"22 "},{"v":65,"d":"65 "},{"v":52,"d":"52 "},{"v":73,"d":"73 "},{"v":299,"d":"299 "},"-","-","-","-","-","-",{"v":299,"d":"299 "},"-","-","-","-","-","-","-","-",{"v":301,"d":"301 "},{"v":18649,"d":"18,649 "},"-",{"v":18,"d":"18 "},{"v":18631,"d":"18,631 "},449,398,263,120,15,"-",27,24,456,317,235,75,7,65,25,49]
["山梨県","甲州市","祝村","北村",{"v":29,"d":"29 "},{"v":29,"d":"29 "},{"v":12,"d":"12 "},{"v":12,"d":"12 "},{"v":1,"d":"1 "},"-",{"v":16,"d":"16 "},"-",{"v":64,"d":"64 "},{"v":2,"d":"2 "},"-",{"v":1,"d":"1 "},{"v":1,"d":"1 "},{"v":1,"d":"1 "},{"v":6,"d":"6 "},{"v":3,"d":"3 "},{"v":6,"d":"6 "},{"v":9,"d":"9 "},{"v":5,"d":"5 "},{"v":8,"d":"8 "},{"v":8,"d":"8 "},{"v":4,"d":"4 "},{"v":6,"d":"6 "},{"v":4,"d":"4 "},61.3,59.5,63.4,{"v":53,"d":"53 "},{"v":2,"d":"2 "},"-","-","-",{"v":1,"d":"1 "},{"v":1,"d":"1 "},{"v":2,"d":"2 "},{"v":6,"d":"6 "},{"v":7,"d":"7 "},{"v":5,"d":"5 "},{"v":7,"d":"7 "},{"v":8,"d":"8 "},{"v":4,"d":"4 "},{"v":6,"d":"6 "},{"v":4,"d":"4 "},64.6,64.4,64.8,{"v":49,"d":"49 "},"-","-","-","-",{"v":1,"d":"1 "},{"v":1,"d":"1 "},{"v":1,"d":"1 "},{"v":6,"d":"6 "},{"v":6,"d":"6 "},{"v":5,"d":"5 "},{"v":7,"d":"7 "},{"v":8,"d":"8 "},{"v":4,"d":"4 "},{"v":6,"d":"6 "},{"v":4,"d":"4 "},67.1,68.5,65.8,{"v":29,"d":"29 "},"-","-","-","-","-",{"v":1,"d":"1 "},{"v":1,"d":"1 "},{"v":2,"d":"2 "},{"v":4,"d":"4 "},{"v":3,"d":"3 "},{"v":5,"d":"5 "},{"v":3,"d":"3 "},{"v":3,"d":"3 "},{"v":4,"d":"4 "},{"v":3,"d":"3 "},{"v":11,"d":"11 "},"-","-","-","-","-","-",{"v":3,"d":"3 "},{"v":1,"d":"1 "},{"v":2,"d":"2 "},"-",{"v":3,"d":"3 "},{"v":2,"d":"2 "},"-",{"$nulls":7},{"v":81,"d":"81 "},{"v":63,"d":"63 "},{"v":49,"d":"49 "},{"v":12,"d":"12 "},{"v":2,"d":"2 "},{"v":5,"d":"5 "},{"v":6,"d":"6 "},{"v":7,"d":"7 "},{"v":29,"d":"29 "},"-","-","-","-","-","-",{"v":29,"d":"29 "},"-","-","-","-","-","-","-","-",{"v":29,"d":"29 "},{"v":1813,"d":"1,813 "},"-",{"v":8,"d":"8 "},{"v":1805,"d":"1,805 "},41,36,24,10,2,"-",3,2,40,27,25,2,"-",5,3,5]
["山梨県","甲州市","祝村","新道下",{"v":15,"d":"15 "},{"v":11,"d":"11 "},{"v":1,"d":"1 "},{"v":1,"d":"1 "},{"v":3,"d":"3 "},{"v":1,"d":"1 "},{"v":7,"d":"7 "},{"v":4,"d":"4 "},{"v":27,"d":"27 "},"-","-",{"v":1,"d":"1 "},"-","-",{"v":1,"d":"1 "},{"v":2,"d":"2 "},{"v":4,"d":"4 "},{"v":1,"d":"1 "},{"v":1,"d":"1 "},{"v":3,"d":"3 "},{"v":1,"d":"1 "},{"v":6,"d":"6 "},{"v":6,"d":"6 "},{"v":1,"d":"1 "},66.7,70.2,63.9,{"v":21,"d":"21 "},"-","-","-","-","-",{"v":1,"d":"1 "},"-",{"v":1,"d":"1 "},{"v":1,"d":"1 "},{"v":1,"d":"1 "},{"v":3,"d":"3 "},{"v":1,"d":"1 "},{"v":6,"d":"6 "},{"v":6,"d":"6 "},{"v":1,"d":"1 "},72.6,76.8,69.4,{"v":18,"d":"18 "},"-","-","-","-","-","-","-",{"v":1,"d":"1 "},{"v":1,"d":"1 "},{"v":1,"d":"1 "},{"v":3,"d":"3 "},{"v":1,"d":"1 "},{"v":4,"d":"4 "},{"v":6,"d":"6 "},{"v":1,"d":"1 "},73.8,76.8,70.9,{"v":11,"d":"11 "},"-","-","-","-","-","-",{"v":1,"d":"1 "},{"v":1,"d":"1 "},"-",{"v":1,"d":"1 "},{"v":1,"d":"1 "},{"v":1,"d":"1 "},{"v":1,"d":"1 "},{"v":4,"d":"4 "},{"v":1,"d":"1 "},{"v":6,"d":"6 "},"-","-","-","-",{"v":1,"d":"1 "},{"v":1,"d":"1 "},"-","-","-",{"v":1,"d":"1 "},{"v":1,"d":"1 "},{"v":2,"d":"2 "},"-",{"$nulls":7},{"v":34,"d":"34 "},{"v":28,"d":"28 "},{"v":18,"d":"18 "},{"v":10,"d":"10 "},"-",{"v":3,"d":"3 "},{"v":3,"d":"3 "},"-",{"v":11,"d":"11 "},"-","-","-","-","-","-",{"v":11,"d":"11 "},"-","-","-","-","-","-","-","-",{"v":11,"d":"11 "},{"v":525,"d":"525 "},"-","-",{"v":525,"d":"525 "},16,14,9,5,"-","-",2,"-",18,14,9,5,"-",3,1,"-"]
["山梨県","甲州市","東雲村","横落",{"v":21,"d":"21 "},{"v":20,"d":"20 "},{"v":9,"d":"9 "},{"v":8,"d":"8 "},{"v":3,"d":"3 "},{"v":1,"d":"1 "},{"v":8,"d":"8 "},{"v":1,"d":"1 "},{"v":42,"d":"42 "},"-","-",{"v":1,"d":"1 "},"-",{"v":2,"d":"2 "},{"v":4,"d":"4 "},{"v":2,"d":"2 "},"-",{"v":9,"d":"9 "},{"v":6,"d":"6 "},{"v":6,"d":"6 "},{"v":7,"d":"7 "},{"v":4,"d":"4 "},"-",{"v":1,"d":"1 "},60.7,61.5,60.1,{"v":32,"d":"32 "},"-","-","-","-",{"v":1,"d":"1 "},{"v":1,"d":"1 "},{"v":1,"d":"1 "},"-",{"v":6,"d":"6 "},{"v":5,"d":"5 "},{"v":6,"d":"6 "},{"v":7,"d":"7 "},{"v":4,"d":"4 "},"-",{"v":1,"d":"1 "},64.8,66.3,63.7,{"v":32,"d":"32 "},"-","-","-","-",{"v":1,"d":"1 "},{"v":1,"d":"1 "},{"v":1,"d":"1 "},"-",{"v":6,"d":"6 "},{"v":5,"d":"5 "},{"v":6,"d":"6 "},{"v":7,"d":"7 "},{"v":4,"d":"4 "},"-",{"v":1,"d":"1 "},64.8,66.3,63.7,{"v":20,"d":"20 "},"-","-","-","-","-",{"v":1,"d":"1 "},{"v":1,"d":"1 "},"-",{"v":2,"d":"2 "},{"v":5,"d":"5 "},{"v":2,"d":"2 "},{"v":4,"d":"4 "},{"v":4,"d":"4 "},"-",{"v":1,"d":"1 "},{"v":11,"d":"11 "},"-","-","-","-","-","-","-",{"v":3,"d":"3 "},{"v":1,"d":"1 "},{"v":3,"d":"3 "},{"v":3,"d":"3 "},"-",{"v":1,"d":"1 "},{"$nulls":7},{"v":55,"d":"55 "},{"v":46,"d":"46 "},{"v":32,"d":"32 "},{"v":14,"d":"14 "},"-","-",{"v":4,"d":"4 "},{"v":5,"d":"5 "},{"v":20,"d":"20 "},"-","-","-","-","-","-",{"v":20,"d":"20 "},"-","-","-","-","-","-","-","-",{"v":20,"d":"20 "},{"v":1245,"d":"1,245 "},"-","-",{"v":1245,"d":"1,245 "},24,20,13,7,"-","-",2,2,31,26,19,7,"-","-",2,3]
["山梨県","甲州市","東雲村","中村",{"v":21,"d":"21 "},{"v":19,"d":"19 "},{"v":11,"d":"11 "},{"v":11,"d":"11 "},{"v":4,"d":"4 "},{"v":2,"d":"2 "},{"v":4,"d":"4 "},{"v":2,"d":"2 "},{"v":49,"d":"49 "},"-",{"v":4,"d":"4 "},{"v":2,"d":"2 "},"-","-",{"v":2,"d":"2 "},{"v":3,"d":"3 "},{"v":5,"d":"5 "},{"v":8,"d":"8 "},{"v":6,"d":"6 "},{"v":5,"d":"5 "},{"v":1,"d":"1 "},{"v":5,"d":"5 "},{"v":4,"d":"4 "},{"v":4,"d":"4 "},59.6,62.9,56.5,{"v":36,"d":"36 "},"-","-","-","-","-","-",{"v":1,"d":"1 "},{"v":2,"d":"2 "},{"v":8,"d":"8 "},{"v":6,"d":"6 "},{"v":5,"d":"5 "},{"v":1,"d":"1 "},{"v":5,"d":"5 "},{"v":4,"d":"4 "},{"v":4,"d":"4 "},67.8,{"v":68,"d":"68.0"},67.5,{"v":33,"d":"33 "},"-","-","-","-","-","-",{"v":1,"d":"1 "},{"v":2,"d":"2 "},{"v":8,"d":"8 "},{"v":6,"d":"6 "},{"v":5,"d":"5 "},{"v":1,"d":"1 "},{"v":4,"d":"4 "},{"v":3,"d":"3 "},{"v":3,"d":"3 "},66.4,{"v":66,"d":"66.0"},66.8,{"v":19,"d":"19 "},"-","-","-","-","-","-",{"v":1,"d":"1 "},{"v":3,"d":"3 "},{"v":2,"d":"2 "},{"v":5,"d":"5 "},{"v":4,"d":"4 "},"-",{"v":2,"d":"2 "},{"v":1,"d":"1 "},{"v":1,"d":"1 "},{"v":7,"d":"7 "},"-","-","-","-","-",{"v":1,"d":"1 "},{"v":1,"d":"1 "},{"v":2,"d":"2 "},{"v":1,"d":"1 "},"-",{"v":2,"d":"2 "},"-","-",{"$nulls":7},{"v":65,"d":"65 "},{"v":48,"d":"48 "},{"v":33,"d":"33 "},{"v":15,"d":"15 "},"-",{"v":6,"d":"6 "},{"v":6,"d":"6 "},{"v":5,"d":"5 "},{"v":19,"d":"19 "},"-","-","-","-","-","-",{"v":19,"d":"19 "},"-","-","-","-","-","-","-","-",{"v":19,"d":"19 "},{"v":1319,"d":"1,319 "},"-","-",{"v":1319,"d":"1,319 "},27,23,17,6,"-","-",2,2,38,25,16,9,"-",6,4,3]
["山梨県","甲州市","菱山村",null,{"v":191,"d":"191 "},{"v":175,"d":"175 "},{"v":73,"d":"73 "},{"v":65,"d":"65 "},{"v":37,"d":"37 "},{"v":22,"d":"22 "},{"v":65,"d":"65 "},{"v":16,"d":"16 "},{"v":499,"d":"499 "},{"v":12,"d":"12 "},{"v":10,"d":"10 "},{"v":16,"d":"16 "},{"v":23,"d":"23 "},{"v":24,"d":"24 "},{"v":24,"d":"24 "},{"v":32,"d":"32 "},{"v":46,"d":"46 "},{"v":49,"d":"49 "},{"v":42,"d":"42 "},{"v":52,"d":"52 "},{"v":49,"d":"49 "},{"v":45,"d":"45 "},{"v":54,"d":"54 "},{"v":21,"d":"21 "},59.2,58.5,59.9,{"v":358,"d":"358 "},{"v":2,"d":"2 "},{"v":1,"d":"1 "},{"v":4,"d":"4 "},{"v":8,"d":"8 "},{"v":9,"d":"9 "},{"v":10,"d":"10 "},{"v":20,"d":"20 "},{"v":30,"d":"30 "},{"v":32,"d":"32 "},{"v":36,"d":"36 "},{"v":47,"d":"47 "},{"v":46,"d":"46 "},{"v":44,"d":"44 "},{"v":49,"d":"49 "},{"v":20,"d":"20 "},65.2,66.6,63.9,{"v":330,"d":"330 "},"-","-",{"v":2,"d":"2 "},{"v":5,"d":"5 "},{"v":8,"d":"8 "},{"v":8,"d":"8 "},{"v":18,"d":"18 "},{"v":30,"d":"30 "},{"v":30,"d":"30 "},{"v":34,"d":"34 "},{"v":44,"d":"44 "},{"v":45,"d":"45 "},{"v":44,"d":"44 "},{"v":46,"d":"46 "},{"v":16,"d":"16 "},{"v":66,"d":"66.0"},66.5,65.6,{"v":175,"d":"175 "},"-","-","-",{"v":1,"d":"1 "},{"v":4,"d":"4 "},{"v":4,"d":"4 "},{"v":11,"d":"11 "},{"v":14,"d":"14 "},{"v":27,"d":"27 "},{"v":18,"d":"18 "},{"v":20,"d":"20 "},{"v":26,"d":"26 "},{"v":21,"d":"21 "},{"v":23,"d":"23 "},{"v":6,"d":"6 "},{"v":92,"d":"92 "},"-","-","-",{"v":1,"d":"1 "},{"v":5,"d":"5 "},{"v":7,"d":"7 "},{"v":13,"d":"13 "},{"v":8,"d":"8 "},{"v":8,"d":"8 "},{"v":15,"d":"15 "},{"v":13,"d":"13 "},{"v":18,"d":"18 "},{"v":4,"d":"4 "},{"$nulls":7},{"v":598,"d":"598 "},{"v":472,"d":"472 "},{"v":330,"d":"330 "},{"v":133,"d":"133 "},{"v":9,"d":"9 "},{"v":35,"d":"35 "},{"v":50,"d":"50 "},{"v":41,"d":"41 "},{"v":175,"d":"175 "},"-","-","-","-","-","-",{"v":173,"d":"173 "},{"v":2,"d":"2 "},"-","-","-","-","-","-","-",{"v":175,"d":"175 "},{"v":13184,"d":"13,184 "},{"v":34,"d":"34 "},{"v":188,"d":"188 "},{"v":12962,"d":"12,962 "},298,252,163,84,5,1,29,16,300,220,167,49,4,34,21,25]
["山梨県","甲州市","菱山村","菱山第六区",{"v":17,"d":"17 "},{"v":15,"d":"15 "},{"v":7,"d":"7 "},{"v":5,"d":"5 "},{"v":3,"d":"3 "},{"v":2,"d":"2 "},{"v":5,"d":"5 "},{"v":2,"d":"2 "},{"v":42,"d":"42 "},"-",{"v":2,"d":"2 "},{"v":2,"d":"2 "},{"v":2,"d":"2 "},{"v":1,"d":"1 "},{"v":3,"d":"3 "},{"v":1,"d":"1 "},{"v":2,"d":"2 "},{"v":6,"d":"6 "},{"v":4,"d":"4 "},{"v":2,"d":"2 "},{"v":5,"d":"5 "},{"v":5,"d":"5 "},{"v":5,"d":"5 "},{"v":2,"d":"2 "},{"v":60,"d":"60.0"},60.3,59.8,{"v":31,"d":"31 "},"-","-",{"v":1,"d":"1 "},"-","-",{"v":1,"d":"1 "},"-",{"v":1,"d":"1 "},{"v":5,"d":"5 "},{"v":4,"d":"4 "},{"v":2,"d":"2 "},{"v":5,"d":"5 "},{"v":5,"d":"5 "},{"v":5,"d":"5 "},{"v":2,"d":"2 "},67.9,67.3,68.4,{"v":29,"d":"29 "},"-","-","-","-","-",{"v":1,"d":"1 "},"-",{"v":1,"d":"1 "},{"v":5,"d":"5 "},{"v":4,"d":"4 "},{"v":2,"d":"2 "},{"v":5,"d":"5 "},{"v":5,"d":"5 "},{"v":4,"d":"4 "},{"v":2,"d":"2 "},68.8,67.3,70.1,{"v":15,"d":"15 "},"-","-","-","-","-",{"v":1,"d":"1 "},{"v":1,"d":"1 "},"-",{"v":4,"d":"4 "},{"v":2,"d":"2 "},"-",{"v":2,"d":"2 "},{"v":3,"d":"3 "},{"v":1,"d":"1 "},{"v":1,"d":"1 "},{"v":7,"d":"7 "},"-","-","-","-",{"v":1,"d":"1 "},"-",{"v":1,"d":"1 "},"-","-",{"v":2,"d":"2 "},{"v":2,"d":"2 "},{"v":1,"d":"1 "},"-",{"$nulls":7},{"v":49,"d":"49 "},{"v":42,"d":"42 "},{"v":29,"d":"29 "},{"v":13,"d":"13 "},"-",{"v":2,"d":"2 "},{"v":3,"d":"3 "},{"v":2,"d":"2 "},{"v":15,"d":"15 "},"-","-","-","-","-","-",{"v":15,"d":"15 "},"-","-","-","-","-","-","-","-",{"v":15,"d":"15 "},{"v":920,"d":"920 "},"-","-",{"v":920,"d":"920 "},25,21,13,8,"-","-",3,1,24,21,16,5,"-",2,"-",1]
["山梨県","甲州市","菱山村","中原第二区",{"v":23,"d":"23 "},{"v":22,"d":"22 "},{"v":10,"d":"10 "},{"v":9,"d":"9 "},{"v":3,"d":"3 "},{"v":1,"d":"1 "},{"v":9,"d":"9 "},{"v":1,"d":"1 "},{"v":56,"d":"56 "},"-",{"v":1,"d":"1 "},"-",{"v":2,"d":"2 "},{"v":4,"d":"4 "},{"v":1,"d":"1 "},{"v":4,"d":"4 "},{"v":6,"d":"6 "},{"v":7,"d":"7 "},{"v":4,"d":"4 "},{"v":5,"d":"5 "},{"v":8,"d":"8 "},{"v":7,"d":"7 "},{"v":3,"d":"3 "},{"v":4,"d":"4 "},62.2,60.2,64.4,{"v":43,"d":"43 "},"-","-","-","-",{"v":1,"d":"1 "},"-",{"v":3,"d":"3 "},{"v":4,"d":"4 "},{"v":5,"d":"5 "},{"v":4,"d":"4 "},{"v":5,"d":"5 "},{"v":8,"d":"8 "},{"v":7,"d":"7 "},{"v":2,"d":"2 "},{"v":4,"d":"4 "},67.1,68.5,65.7,{"v":42,"d":"42 "},"-","-","-","-",{"v":1,"d":"1 "},"-",{"v":3,"d":"3 "},{"v":4,"d":"4 "},{"v":5,"d":"5 "},{"v":3,"d":"3 "},{"v":5,"d":"5 "},{"v":8,"d":"8 "},{"v":7,"d":"7 "},{"v":2,"d":"2 "},{"v":4,"d":"4 "},67.2,68.5,65.8,{"v":22,"d":"22 "},"-","-","-","-",{"v":1,"d":"1 "},"-",{"v":1,"d":"1 "},{"v":2,"d":"2 "},{"v":5,"d":"5 "},"-",{"v":2,"d":"2 "},{"v":5,"d":"5 "},{"v":3,"d":"3 "},{"v":1,"d":"1 "},{"v":2,"d":"2 "},{"v":11,"d":"11 "},"-","-","-","-",{"v":1,"d":"1 "},{"v":1,"d":"1 "},{"v":1,"d":"1 "},"-",{"v":2,"d":"2 "},{"v":2,"d":"2 "},{"v":2,"d":"2 "},{"v":1,"d":"1 "},{"v":1,"d":"1 "},{"$nulls":7},{"v":70,"d":"70 "},{"v":62,"d":"62 "},{"v":42,"d":"42 "},{"v":20,"d":"20 "},"-",{"v":2,"d":"2 "},{"v":2,"d":"2 "},{"v":4,"d":"4 "},{"v":22,"d":"22 "},"-","-","-","-","-","-",{"v":22,"d":"22 "},"-","-","-","-","-","-","-","-",{"v":22,"d":"22 "},{"v":1482,"d":"1,482 "},{"v":5,"d":"5 "},"-",{"v":1477,"d":"1,477 "},34,32,21,11,"-","-","-",2,36,30,21,9,"-",2,2,2]
["山梨県","甲州市","大和村","共和",{"v":20,"d":"20 "},{"v":16,"d":"16 "},{"v":5,"d":"5 "},{"v":4,"d":"4 "},{"v":2,"d":"2 "},"-",{"v":9,"d":"9 "},{"v":4,"d":"4 "},{"v":34,"d":"34 "},"-","-","-",{"v":1,"d":"1 "},{"v":1,"d":"1 "},{"v":2,"d":"2 "},{"v":3,"d":"3 "},{"v":2,"d":"2 "},{"v":2,"d":"2 "},{"v":3,"d":"3 "},{"v":5,"d":"5 "},{"v":5,"d":"5 "},{"v":3,"d":"3 "},{"v":7,"d":"7 "},"-",{"v":65,"d":"65.0"},68.7,60.8,{"v":26,"d":"26 "},"-","-","-",{"v":1,"d":"1 "},{"v":1,"d":"1 "},{"v":1,"d":"1 "},{"v":1,"d":"1 "},{"v":2,"d":"2 "},"-",{"v":2,"d":"2 "},{"v":5,"d":"5 "},{"v":3,"d":"3 "},{"v":3,"d":"3 "},{"v":7,"d":"7 "},"-",67.3,71.2,62.8,{"v":24,"d":"24 "},"-","-","-","-",{"v":1,"d":"1 "},{"v":1,"d":"1 "},{"v":1,"d":"1 "},{"v":1,"d":"1 "},"-",{"v":2,"d":"2 "},{"v":5,"d":"5 "},{"v":3,"d":"3 "},{"v":3,"d":"3 "},{"v":7,"d":"7 "},"-",69.4,71.2,66.8,{"v":16,"d":"16 "},"-","-","-","-","-","-",{"v":2,"d":"2 "},"-",{"v":2,"d":"2 "},{"v":2,"d":"2 "},{"v":1,"d":"1 "},{"v":4,"d":"4 "},{"v":2,"d":"2 "},{"v":3,"d":"3 "},"-",{"v":4,"d":"4 "},"-","-","-","-","-","-","-","-",{"v":1,"d":"1 "},{"v":1,"d":"1 "},{"v":1,"d":"1 "},{"v":1,"d":"1 "},"-",{"$nulls":7},{"v":44,"d":"44 "},{"v":34,"d":"34 "},{"v":24,"d":"24 "},{"v":9,"d":"9 "},{"v":1,"d":"1 "},{"v":2,"d":"2 "},{"v":5,"d":"5 "},{"v":3,"d":"3 "},{"v":16,"d":"16 "},"-","-","-","-","-","-",{"v":16,"d":"16 "},"-","-","-","-","-","-","-","-",{"v":16,"d":"16 "},{"v":930,"d":"930 "},"-","-",{"v":930,"d":"930 "},24,20,14,5,1,"-",4,"-",20,14,10,4,"-",2,1,3]
["山梨県","中央市","豊富村","関原",{"v":49,"d":"49 "},{"v":30,"d":"30 "},{"v":7,"d":"7 "},{"v":5,"d":"5 "},{"v":8,"d":"8 "},{"v":4,"d":"4 "},{"v":15,"d":"15 "},{"v":19,"d":"19 "},{"v":82,"d":"82 "},{"v":3,"d":"3 "},{"v":2,"d":"2 "},{"v":1,"d":"1 "},{"v":3,"d":"3 "},{"v":4,"d":"4 "},{"v":3,"d":"3 "},{"v":6,"d":"6 "},{"v":8,"d":"8 "},{"v":11,"d":"11 "},{"v":6,"d":"6 "},{"v":7,"d":"7 "},{"v":6,"d":"6 "},{"v":7,"d":"7 "},{"v":13,"d":"13 "},{"v":2,"d":"2 "},59.3,58.7,{"v":60,"d":"60.0"},{"v":55,"d":"55 "},"-","-","-","-",{"v":2,"d":"2 "},{"v":2,"d":"2 "},"-",{"v":4,"d":"4 "},{"v":6,"d":"6 "},{"v":6,"d":"6 "},{"v":7,"d":"7 "},{"v":6,"d":"6 "},{"v":7,"d":"7 "},{"v":13,"d":"13 "},{"v":2,"d":"2 "},68.1,69.9,66.6,{"v":49,"d":"49 "},"-","-","-","-",{"v":2,"d":"2 "},{"v":1,"d":"1 "},"-",{"v":4,"d":"4 "},{"v":6,"d":"6 "},{"v":5,"d":"5 "},{"v":7,"d":"7 "},{"v":6,"d":"6 "},{"v":7,"d":"7 "},{"v":9,"d":"9 "},{"v":2,"d":"2 "},67.7,69.3,65.9,{"v":30,"d":"30 "},"-","-","-","-",{"v":1,"d":"1 "},"-",{"v":3,"d":"3 "},{"v":4,"d":"4 "},{"v":7,"d":"7 "},{"v":3,"d":"3 "},{"v":3,"d":"3 "},{"v":4,"d":"4 "},{"v":2,"d":"2 "},{"v":3,"d":"3 "},"-",{"v":7,"d":"7 "},"-","-","-","-","-",{"v":1,"d":"1 "},{"v":2,"d":"2 "},{"v":1,"d":"1 "},{"v":1,"d":"1 "},{"v":1,"d":"1 "},"-",{"v":1,"d":"1 "},"-",{"$nulls":7},{"v":108,"d":"108 "},{"v":82,"d":"82 "},{"v":49,"d":"49 "},{"v":29,"d":"29 "},{"v":4,"d":"4 "},{"v":6,"d":"6 "},{"v":10,"d":"10 "},{"v":10,"d":"10 "},{"v":28,"d":"28 "},"-","-",{"v":1,"d":"1 "},"-",{"v":10,"d":"10 "},"-",{"v":12,"d":"12 "},{"v":3,"d":"3 "},"-","-","-",{"v":2,"d":"2 "},"-","-","-",{"v":30,"d":"30 "},{"v":2413,"d":"2,413 "},{"v":219,"d":"219 "},{"v":1342,"d":"1,342 "},{"v":852,"d":"852 "},57,46,25,18,3,"-",7,4,51,36,24,11,1,6,3,6]
["山梨県","中央市","稲積村","上成島",{"v":17,"d":"17 "},{"v":9,"d":"9 "},{"v":1,"d":"1 "},{"v":1,"d":"1 "},{"v":3,"d":"3 "},"-",{"v":5,"d":"5 "},{"v":8,"d":"8 "},{"v":21,"d":"21 "},"-","-","-",{"v":1,"d":"1 "},"-",{"v":1,"d":"1 "},{"v":1,"d":"1 "},{"v":2,"d":"2 "},{"v":2,"d":"2 "},{"v":4,"d":"4 "},{"v":2,"d":"2 "},{"v":3,"d":"3 "},"-",{"v":4,"d":"4 "},{"v":1,"d":"1 "},64.7,63.1,66.4,{"v":17,"d":"17 "},"-","-","-","-","-",{"v":1,"d":"1 "},{"v":1,"d":"1 "},"-",{"v":1,"d":"1 "},{"v":4,"d":"4 "},{"v":2,"d":"2 "},{"v":3,"d":"3 "},"-",{"v":4,"d":"4 "},{"v":1,"d":"1 "},68.6,{"v":69,"d":"69.0"},68.2,{"v":12,"d":"12 "},"-","-","-","-","-",{"v":1,"d":"1 "},"-","-","-",{"v":2,"d":"2 "},{"v":2,"d":"2 "},{"v":3,"d":"3 "},"-",{"v":3,"d":"3 "},{"v":1,"d":"1 "},71.3,70.6,72.4,{"v":9,"d":"9 "},"-","-","-","-","-","-","-",{"v":1,"d":"1 "},{"v":1,"d":"1 "},{"v":1,"d":"1 "},{"v":1,"d":"1 "},{"v":2,"d":"2 "},"-",{"v":2,"d":"2 "},{"v":1,"d":"1 "},{"v":5,"d":"5 "},"-","-","-","-","-",{"v":1,"d":"1 "},{"v":1,"d":"1 "},{"v":1,"d":"1 "},"-",{"v":1,"d":"1 "},"-","-",{"v":1,"d":"1 "},{"$nulls":7},{"v":25,"d":"25 "},{"v":15,"d":"15 "},{"v":12,"d":"12 "},{"v":2,"d":"2 "},{"v":1,"d":"1 "},{"v":5,"d":"5 "},{"v":3,"d":"3 "},{"v":2,"d":"2 "},{"v":9,"d":"9 "},{"v":6,"d":"6 "},"-","-","-",{"v":2,"d":"2 "},"-","-",{"v":1,"d":"1 "},"-","-","-","-","-","-","-",{"v":9,"d":"9 "},{"v":538,"d":"538 "},{"v":457,"d":"457 "},{"v":81,"d":"81 "},"-",11,10,7,2,1,"-","-",1,14,5,5,"-","-",5,3,1]
["山梨県","中央市","三町村",null,{"v":119,"d":"119 "},{"v":86,"d":"86 "},{"v":10,"d":"10 "},{"v":8,"d":"8 "},{"v":28,"d":"28 "},{"v":9,"d":"9 "},{"v":48,"d":"48 "},{"v":33,"d":"33 "},{"v":245,"d":"245 "},{"v":8,"d":"8 "},{"v":7,"d":"7 "},{"v":8,"d":"8 "},{"v":5,"d":"5 "},{"v":8,"d":"8 "},{"v":19,"d":"19 "},{"v":16,"d":"16 "},{"v":28,"d":"28 "},{"v":16,"d":"16 "},{"v":22,"d":"22 "},{"v":31,"d":"31 "},{"v":22,"d":"22 "},{"v":28,"d":"28 "},{"v":17,"d":"17 "},{"v":10,"d":"10 "},58.4,56.7,60.3,{"v":129,"d":"129 "},"-","-",{"v":1,"d":"1 "},{"v":1,"d":"1 "},"-",{"v":4,"d":"4 "},{"v":1,"d":"1 "},{"v":4,"d":"4 "},{"v":5,"d":"5 "},{"v":16,"d":"16 "},{"v":28,"d":"28 "},{"v":20,"d":"20 "},{"v":24,"d":"24 "},{"v":16,"d":"16 "},{"v":9,"d":"9 "},69.9,70.9,69.1,{"v":112,"d":"112 "},"-","-",{"v":1,"d":"1 "},"-","-",{"v":2,"d":"2 "},"-",{"v":4,"d":"4 "},{"v":5,"d":"5 "},{"v":14,"d":"14 "},{"v":28,"d":"28 "},{"v":17,"d":"17 "},{"v":21,"d":"21 "},{"v":13,"d":"13 "},{"v":7,"d":"7 "},70.2,70.4,70.1,{"v":86,"d":"86 "},"-","-","-","-","-",{"v":2,"d":"2 "},{"v":2,"d":"2 "},{"v":9,"d":"9 "},{"v":10,"d":"10 "},{"v":9,"d":"9 "},{"v":17,"d":"17 "},{"v":12,"d":"12 "},{"v":17,"d":"17 "},{"v":5,"d":"5 "},{"v":3,"d":"3 "},{"v":53,"d":"53 "},"-","-","-","-","-",{"v":6,"d":"6 "},{"v":6,"d":"6 "},{"v":2,"d":"2 "},{"v":12,"d":"12 "},{"v":9,"d":"9 "},{"v":12,"d":"12 "},{"v":4,"d":"4 "},{"v":2,"d":"2 "},{"$nulls":7},{"v":283,"d":"283 "},{"v":223,"d":"223 "},{"v":112,"d":"112 "},{"v":103,"d":"103 "},{"v":8,"d":"8 "},{"v":28,"d":"28 "},{"v":13,"d":"13 "},{"v":19,"d":"19 "},{"v":73,"d":"73 "},{"v":40,"d":"40 "},"-",{"v":1,"d":"1 "},"-",{"v":26,"d":"26 "},{"v":4,"d":"4 "},{"v":1,"d":"1 "},{"v":1,"d":"1 "},"-","-","-","-","-","-","-",{"v":86,"d":"86 "},{"v":6520,"d":"6,520 "},{"v":5761,"d":"5,761 "},{"v":677,"d":"677 "},{"v":82,"d":"82 "},137,124,57,62,5,"-",8,5,146,99,55,41,3,28,5,14]
["山梨県","中央市","三町村","上三條",{"v":14,"d":"14 "},{"v":10,"d":"10 "},{"v":1,"d":"1 "},{"v":1,"d":"1 "},{"v":4,"d":"4 "},{"v":1,"d":"1 "},{"v":5,"d":"5 "},{"v":4,"d":"4 "},{"v":31,"d":"31 "},{"v":1,"d":"1 "},"-","-",{"v":1,"d":"1 "},"-",{"v":5,"d":"5 "},{"v":4,"d":"4 "},{"v":4,"d":"4 "},{"v":1,"d":"1 "},{"v":2,"d":"2 "},"-",{"v":2,"d":"2 "},{"v":7,"d":"7 "},{"v":2,"d":"2 "},{"v":2,"d":"2 "},59.7,57.8,61.7,{"v":14,"d":"14 "},"-","-","-","-","-","-","-","-","-",{"v":2,"d":"2 "},"-",{"v":2,"d":"2 "},{"v":6,"d":"6 "},{"v":2,"d":"2 "},{"v":2,"d":"2 "},76.3,76.9,75.7,{"v":11,"d":"11 "},"-","-","-","-","-","-","-","-","-",{"v":1,"d":"1 "},"-",{"v":2,"d":"2 "},{"v":4,"d":"4 "},{"v":2,"d":"2 "},{"v":2,"d":"2 "},77.7,{"v":77,"d":"77.0"},78.6,{"v":10,"d":"10 "},"-","-","-","-","-",{"v":1,"d":"1 "},"-","-",{"v":1,"d":"1 "},{"v":1,"d":"1 "},"-",{"v":1,"d":"1 "},{"v":4,"d":"4 "},{"v":1,"d":"1 "},{"v":1,"d":"1 "},{"v":6,"d":"6 "},"-","-","-","-","-","-","-",{"v":1,"d":"1 "},"-",{"v":1,"d":"1 "},{"v":3,"d":"3 "},{"v":1,"d":"1 "},"-",{"$nulls":7},{"v":33,"d":"33 "},{"v":26,"d":"26 "},{"v":11,"d":"11 "},{"v":14,"d":"14 "},{"v":1,"d":"1 "},{"v":5,"d":"5 "},{"v":1,"d":"1 "},{"v":1,"d":"1 "},{"v":8,"d":"8 "},{"v":5,"d":"5 "},"-","-","-",{"v":3,"d":"3 "},"-","-","-","-","-","-","-","-","-","-",{"v":10,"d":"10 "},{"v":596,"d":"596 "},{"v":576,"d":"576 "},{"v":13,"d":"13 "},{"v":7,"d":"7 "},17,15,6,9,"-","-",1,1,16,11,5,5,1,5,"-","-"]
["山梨県","中央市","田富町","大田和",{"v":30,"d":"30 "},{"v":17,"d":"17 "},{"v":2,"d":"2 "},{"v":2,"d":"2 "},{"v":2,"d":"2 "},"-",{"v":13,"d":"13 "},{"v":13,"d":"13 "},{"v":35,"d":"35 "},{"v":2,"d":"2 "},"-",{"v":1,"d":"1 "},"-","-",{"v":1,"d":"1 "},{"v":1,"d":"1 "},{"v":3,"d":"3 "},{"v":3,"d":"3 "},{"v":4,"d":"4 "},{"v":2,"d":"2 "},{"v":4,"d":"4 "},{"v":9,"d":"9 "},{"v":5,"d":"5 "},"-",{"v":64,"d":"64.0"},64.9,{"v":63,"d":"63.0"},{"v":22,"d":"22 "},{"v":1,"d":"1 "},"-","-","-","-","-",{"v":1,"d":"1 "},"-",{"v":2,"d":"2 "},"-",{"v":2,"d":"2 "},{"v":3,"d":"3 "},{"v":8,"d":"8 "},{"v":5,"d":"5 "},"-",70.2,73.8,67.3,{"v":20,"d":"20 "},"-","-","-","-","-","-",{"v":1,"d":"1 "},"-",{"v":2,"d":"2 "},"-",{"v":2,"d":"2 "},{"v":3,"d":"3 "},{"v":7,"d":"7 "},{"v":5,"d":"5 "},"-",72.7,73.8,71.6,{"v":17,"d":"17 "},"-","-","-","-","-",{"v":1,"d":"1 "},"-","-",{"v":2,"d":"2 "},{"v":2,"d":"2 "},"-",{"v":4,"d":"4 "},{"v":4,"d":"4 "},{"v":4,"d":"4 "},"-",{"v":5,"d":"5 "},"-","-","-","-","-","-","-",{"v":1,"d":"1 "},"-","-",{"v":3,"d":"3 "},{"v":1,"d":"1 "},"-",{"$nulls":7},{"v":44,"d":"44 "},{"v":34,"d":"34 "},{"v":20,"d":"20 "},{"v":9,"d":"9 "},{"v":5,"d":"5 "},{"v":4,"d":"4 "},{"v":5,"d":"5 "},{"v":1,"d":"1 "},{"v":13,"d":"13 "},{"v":4,"d":"4 "},"-","-","-",{"v":7,"d":"7 "},{"v":1,"d":"1 "},"-","-","-",{"v":1,"d":"1 "},"-","-","-","-","-",{"v":17,"d":"17 "},{"v":1070,"d":"1,070 "},{"v":883,"d":"883 "},{"v":187,"d":"187 "},"-",23,19,10,6,3,"-",3,1,21,15,10,3,2,4,2,"-"]
["山梨県","市川三郷町","上野村","矢作",{"v":35,"d":"35 "},{"v":17,"d":"17 "},{"v":1,"d":"1 "},{"v":1,"d":"1 "},{"v":4,"d":"4 "},{"v":2,"d":"2 "},{"v":12,"d":"12 "},{"v":18,"d":"18 "},{"v":46,"d":"46 "},{"v":1,"d":"1 "},"-",{"v":5,"d":"5 "},{"v":2,"d":"2 "},"-",{"v":4,"d":"4 "},{"v":3,"d":"3 "},{"v":5,"d":"5 "},{"v":3,"d":"3 "},{"v":6,"d":"6 "},{"v":3,"d":"3 "},{"v":3,"d":"3 "},{"v":5,"d":"5 "},{"v":2,"d":"2 "},{"v":4,"d":"4 "},{"v":57,"d":"57.0"},{"v":57,"d":"57.0"},{"v":57,"d":"57.0"},{"v":17,"d":"17 "},"-","-","-","-","-","-",{"v":1,"d":"1 "},"-",{"v":1,"d":"1 "},"-",{"v":2,"d":"2 "},{"v":2,"d":"2 "},{"v":5,"d":"5 "},{"v":2,"d":"2 "},{"v":4,"d":"4 "},74.7,74.6,74.9,{"v":12,"d":"12 "},"-","-","-","-","-","-",{"v":1,"d":"1 "},"-",{"v":1,"d":"1 "},"-",{"v":1,"d":"1 "},{"v":2,"d":"2 "},{"v":4,"d":"4 "},{"v":1,"d":"1 "},{"v":2,"d":"2 "},{"v":73,"d":"73.0"},74.6,68.3,{"v":17,"d":"17 "},"-","-","-","-","-","-","-",{"v":2,"d":"2 "},{"v":1,"d":"1 "},{"v":2,"d":"2 "},{"v":1,"d":"1 "},{"v":2,"d":"2 "},{"v":4,"d":"4 "},{"v":1,"d":"1 "},{"v":4,"d":"4 "},{"v":15,"d":"15 "},"-","-","-","-","-",{"v":2,"d":"2 "},{"v":1,"d":"1 "},{"v":2,"d":"2 "},{"v":1,"d":"1 "},{"v":1,"d":"1 "},{"v":4,"d":"4 "},{"v":1,"d":"1 "},{"v":3,"d":"3 "},{"$nulls":7},{"v":57,"d":"57 "},{"v":36,"d":"36 "},{"v":12,"d":"12 "},{"v":23,"d":"23 "},{"v":1,"d":"1 "},{"v":10,"d":"10 "},{"v":3,"d":"3 "},{"v":8,"d":"8 "},{"v":10,"d":"10 "},{"v":9,"d":"9 "},"-","-","-",{"v":1,"d":"1 "},"-","-","-","-","-","-","-","-","-","-",{"v":17,"d":"17 "},{"v":1137,"d":"1,137 "},{"v":786,"d":"786 "},{"v":237,"d":"237 "},{"v":114,"d":"114 "},28,24,9,14,1,"-",2,2,29,12,3,9,"-",10,1,6]
["山梨県","市川三郷町","大塚村","北区",{"v":53,"d":"53 "},{"v":32,"d":"32 "},{"v":9,"d":"9 "},{"v":9,"d":"9 "},{"v":5,"d":"5 "},{"v":2,"d":"2 "},{"v":18,"d":"18 "},{"v":21,"d":"21 "},{"v":91,"d":"91 "},{"v":3,"d":"3 "},{"v":2,"d":"2 "},{"v":2,"d":"2 "},{"v":5,"d":"5 "},{"v":3,"d":"3 "},{"v":5,"d":"5 "},{"v":7,"d":"7 "},{"v":8,"d":"8 "},{"v":7,"d":"7 "},{"v":8,"d":"8 "},{"v":8,"d":"8 "},{"v":10,"d":"10 "},{"v":8,"d":"8 "},{"v":10,"d":"10 "},{"v":5,"d":"5 "},59.3,58.4,60.3,{"v":57,"d":"57 "},{"v":1,"d":"1 "},"-","-",{"v":2,"d":"2 "},{"v":1,"d":"1 "},"-","-",{"v":2,"d":"2 "},{"v":3,"d":"3 "},{"v":7,"d":"7 "},{"v":8,"d":"8 "},{"v":10,"d":"10 "},{"v":8,"d":"8 "},{"v":10,"d":"10 "},{"v":5,"d":"5 "},69.2,{"v":70,"d":"70.0"},68.4,{"v":51,"d":"51 "},"-","-","-",{"v":1,"d":"1 "},{"v":1,"d":"1 "},"-","-",{"v":2,"d":"2 "},{"v":3,"d":"3 "},{"v":7,"d":"7 "},{"v":8,"d":"8 "},{"v":10,"d":"10 "},{"v":7,"d":"7 "},{"v":9,"d":"9 "},{"v":3,"d":"3 "},69.9,71.5,68.2,{"v":32,"d":"32 "},"-","-","-","-","-","-",{"v":2,"d":"2 "},{"v":3,"d":"3 "},{"v":6,"d":"6 "},{"v":2,"d":"2 "},{"v":5,"d":"5 "},{"v":7,"d":"7 "},{"v":1,"d":"1 "},{"v":4,"d":"4 "},{"v":2,"d":"2 "},{"v":20,"d":"20 "},"-","-","-","-",{"v":2,"d":"2 "},{"v":1,"d":"1 "},{"v":1,"d":"1 "},{"v":1,"d":"1 "},{"v":4,"d":"4 "},{"v":4,"d":"4 "},{"v":1,"d":"1 "},{"v":4,"d":"4 "},{"v":2,"d":"2 "},{"$nulls":7},{"v":110,"d":"110 "},{"v":91,"d":"91 "},{"v":51,"d":"51 "},{"v":39,"d":"39 "},{"v":1,"d":"1 "},{"v":3,"d":"3 "},{"v":7,"d":"7 "},{"v":9,"d":"9 "},{"v":29,"d":"29 "},"-","-","-","-",{"v":13,"d":"13 "},"-",{"v":16,"d":"16 "},"-","-","-","-","-","-","-","-",{"v":32,"d":"32 "},{"v":2691,"d":"2,691 "},{"v":901,"d":"901 "},{"v":715,"d":"715 "},{"v":1075,"d":"1,075 "},58,49,26,22,1,"-",5,4,52,42,25,17,"-",3,2,5]
["山梨県","市川三郷町","下九一色村２－１","垈",{"v":3,"d":"3 "},"-","-","-","-","-","-",{"v":3,"d":"3 "},"-","-","-","-","-","-","-","-","-","-","-","-","-","-","-","-","…","…","…","-","-","-","-","-","-","-","-","-","-","-","-","-","-","-","-","…","…","…","-","-","-","-","-","-","-","-","-","-","-","-","-","-","-","-","…","…","…","-","-","-","-","-","-","-","-","-","-","-","-","-","-","-","-","-","-","-","-","-","-","-","-","-","-","-","-","-","-",{"$nulls":7},"-","-","-","-","-","-","-","-","-","-","-","-","-","-","-","-","-","-","-","-","-","-","-","-","-","-","-","-","-","-","-","-","-","-","-","-","-","-","-","-","-","-","-","-","-"]
["山梨県","市川三郷町","市川大門町","市川大門",{"v":65,"d":"65 "},{"v":13,"d":"13 "},"-","-",{"v":2,"d":"2 "},"-",{"v":11,"d":"11 "},{"v":52,"d":"52 "},{"v":23,"d":"23 "},"-",{"v":1,"d":"1 "},{"v":1,"d":"1 "},"-",{"v":1,"d":"1 "},{"v":2,"d":"2 "},"-",{"v":1,"d":"1 "},{"v":1,"d":"1 "},{"v":3,"d":"3 "},{"v":3,"d":"3 "},{"v":2,"d":"2 "},{"v":2,"d":"2 "},{"v":5,"d":"5 "},{"v":1,"d":"1 "},63.4,63.5,63.3,{"v":13,"d":"13 "},"-","-","-","-",{"v":1,"d":"1 "},"-","-","-","-",{"v":1,"d":"1 "},{"v":1,"d":"1 "},{"v":2,"d":"2 "},{"v":2,"d":"2 "},{"v":5,"d":"5 "},{"v":1,"d":"1 "},73.9,76.7,64.7,{"v":11,"d":"11 "},"-","-","-","-","-","-","-","-","-",{"v":1,"d":"1 "},{"v":1,"d":"1 "},{"v":2,"d":"2 "},{"v":1,"d":"1 "},{"v":5,"d":"5 "},{"v":1,"d":"1 "},76.8,76.7,{"v":78,"d":"78.0"},{"v":13,"d":"13 "},"-","-","-","-","-","-","-","-","-",{"v":2,"d":"2 "},{"v":2,"d":"2 "},{"v":2,"d":"2 "},{"v":1,"d":"1 "},{"v":5,"d":"5 "},{"v":1,"d":"1 "},{"v":11,"d":"11 "},"-","-","-","-","-","-","-",{"v":2,"d":"2 "},{"v":2,"d":"2 "},{"v":2,"d":"2 "},{"v":1,"d":"1 "},{"v":3,"d":"3 "},{"v":1,"d":"1 "},{"$nulls":7},{"v":29,"d":"29 "},{"v":19,"d":"19 "},{"v":11,"d":"11 "},{"v":6,"d":"6 "},{"v":2,"d":"2 "},{"v":6,"d":"6 "},{"v":1,"d":"1 "},{"v":3,"d":"3 "},{"v":11,"d":"11 "},{"v":3,"d":"3 "},"-","-","-","-","-",{"v":8,"d":"8 "},"-","-","-","-","-","-","-","-",{"v":13,"d":"13 "},{"v":531,"d":"531 "},{"v":312,"d":"312 "},{"v":21,"d":"21 "},{"v":198,"d":"198 "},18,16,10,5,1,"-",1,1,11,3,1,1,1,6,"-",2]
["山梨県","市川三郷町","山保村２－１","帯那",{"v":26,"d":"26 "},{"v":2,"d":"2 "},"x","x","x","x","x",{"v":24,"d":"24 "},"x","x","x","x","x","x","x","x","x","x","x","x","x","x","x","x",60.8,58.3,64.5,"x","x","x","x","x","x","x","x","x","x","x","x","x","x","x","x",67.3,{"v":73,"d":"73.0"},64.5,"x","x","x","x","x","x","x","x","x","x","x","x","x","x","x","x",70.5,{"v":73,"d":"73.0"},{"v":68,"d":"68.0"},{"v":2,"d":"2 "},"-","-","-","-","-","-","-","-",{"v":1,"d":"1 "},"-","-",{"v":1,"d":"1 "},"-","-","-",{"v":2,"d":"2 "},"-","-","-","-","-","-",{"v":1,"d":"1 "},"-","-",{"v":1,"d":"1 "},"-","-","-",{"$nulls":7},{"v":5,"d":"5 "},{"v":4,"d":"4 "},{"v":2,"d":"2 "},{"v":2,"d":"2 "},"-",{"v":1,"d":"1 "},"-","-",{"v":1,"d":"1 "},{"v":1,"d":"1 "},"-","-","-","-","-","-","-","-","-","-","-","-","-","-",{"v":2,"d":"2 "},{"v":69,"d":"69 "},{"v":56,"d":"56 "},{"v":13,"d":"13 "},"-",3,3,1,2,"-","-","-","-",2,1,1,"-","-",1,"-","-"]
["山梨県","市川三郷町","大同村２－１",null,{"v":141,"d":"141 "},{"v":10,"d":"10 "},"-","-",{"v":2,"d":"2 "},"-",{"v":8,"d":"8 "},{"v":131,"d":"131 "},{"v":32,"d":"32 "},"-",{"v":1,"d":"1 "},{"v":2,"d":"2 "},{"v":3,"d":"3 "},{"v":1,"d":"1 "},"-",{"v":1,"d":"1 "},{"v":3,"d":"3 "},{"v":4,"d":"4 "},{"v":3,"d":"3 "},{"v":4,"d":"4 "},{"v":2,"d":"2 "},{"v":1,"d":"1 "},{"v":4,"d":"4 "},{"v":3,"d":"3 "},59.8,57.8,61.9,{"v":14,"d":"14 "},"-","-","-","-","-","-","-","-","-",{"v":1,"d":"1 "},{"v":4,"d":"4 "},{"v":2,"d":"2 "},{"v":1,"d":"1 "},{"v":3,"d":"3 "},{"v":3,"d":"3 "},75.8,73.9,77.7,{"v":13,"d":"13 "},"-","-","-","-","-","-","-","-","-",{"v":1,"d":"1 "},{"v":4,"d":"4 "},{"v":2,"d":"2 "},{"v":1,"d":"1 "},{"v":3,"d":"3 "},{"v":2,"d":"2 "},74.8,73.9,{"v":76,"d":"76.0"},{"v":10,"d":"10 "},"-","-","-","-","-","-","-",{"v":1,"d":"1 "},{"v":2,"d":"2 "},{"v":1,"d":"1 "},{"v":2,"d":"2 "},{"v":2,"d":"2 "},"-",{"v":1,"d":"1 "},{"v":1,"d":"1 "},{"v":5,"d":"5 "},"-","-","-","-","-","-",{"v":1,"d":"1 "},"-",{"v":1,"d":"1 "},{"v":1,"d":"1 "},"-",{"v":1,"d":"1 "},{"v":1,"d":"1 "},{"$nulls":7},{"v":33,"d":"33 "},{"v":29,"d":"29 "},{"v":13,"d":"13 "},{"v":16,"d":"16 "},"-",{"v":3,"d":"3 "},"-",{"v":1,"d":"1 "},{"v":4,"d":"4 "},{"v":2,"d":"2 "},"-","-","-","-","-",{"v":2,"d":"2 "},"-","-","-","-","-","-","-","-",{"v":10,"d":"10 "},{"v":415,"d":"415 "},{"v":215,"d":"215 "},{"v":145,"d":"145 "},{"v":55,"d":"55 "},16,16,7,9,"-","-","-","-",17,13,6,7,"-",3,"-",1]
["山梨県","市川三郷町","大同村２－１","法師倉",{"v":10,"d":"10 "},"-","-","-","-","-","-",{"v":10,"d":"10 "},"-","-","-","-","-","-","-","-","-","-","-","-","-","-","-","-","…","…","…","-","-","-","-","-","-","-","-","-","-","-","-","-","-","-","-","…","…","…","-","-","-","-","-","-","-","-","-","-","-","-","-","-","-","-","…","…","…","-","-","-","-","-","-","-","-","-","-","-","-","-","-","-","-","-","-","-","-","-","-","-","-","-","-","-","-","-","-",{"$nulls":7},"-","-","-","-","-","-","-","-","-","-","-","-","-","-","-","-","-","-","-","-","-","-","-","-","-","-","-","-","-","-","-","-","-","-","-","-","-","-","-","-","-","-","-","-","-"]
["山梨県","市川三郷町","落居村","中落居",{"v":24,"d":"24 "},{"v":2,"d":"2 "},"x","x","x","x","x",{"v":22,"d":"22 "},"x","x","x","x","x","x","x","x","x","x","x","x","x","x","x","x",66.5,64.7,{"v":72,"d":"72.0"},"x","x","x","x","x","x","x","x","x","x","x","x","x","x","x","x",{"v":78,"d":"78.0"},{"v":78,"d":"78.0"},"…","x","x","x","x","x","x","x","x","x","x","x","x","x","x","x","x",{"v":78,"d":"78.0"},{"v":78,"d":"78.0"},"…",{"v":2,"d":"2 "},"-","-","-","-","-","-","-","-","-","-","-",{"v":1,"d":"1 "},{"v":1,"d":"1 "},"-","-",{"v":2,"d":"2 "},"-","-","-","-","-","-","-","-","-",{"v":1,"d":"1 "},{"v":1,"d":"1 "},"-","-",{"$nulls":7},{"v":5,"d":"5 "},{"v":4,"d":"4 "},{"v":1,"d":"1 "},{"v":3,"d":"3 "},"-",{"v":1,"d":"1 "},"-","-",{"v":2,"d":"2 "},{"v":1,"d":"1 "},"-","-","-","-","-",{"v":1,"d":"1 "},"-","-","-","-","-","-","-","-",{"v":2,"d":"2 "},{"v":115,"d":"115 "},{"v":44,"d":"44 "},{"v":21,"d":"21 "},{"v":50,"d":"50 "},3,3,1,2,"-","-","-","-",2,1,"-",1,"-",1,"-","-"]
["山梨県","市川三郷町","落居村","岩下",{"v":2,"d":"2 "},"-","-","-","-","-","-",{"v":2,"d":"2 "},"-","-","-","-","-","-","-","-","-","-","-","-","-","-","-","-","…","…","…","-","-","-","-","-","-","-","-","-","-","-","-","-","-","-","-","…","…","…","-","-","-","-","-","-","-","-","-","-","-","-","-","-","-","-","…","…","…","-","-","-","-","-","-","-","-","-","-","-","-","-","-","-","-","-","-","-","-","-","-","-","-","-","-","-","-","-","-",{"$nulls":7},"-","-","-","-","-","-","-","-","-","-","-","-","-","-","-","-","-","-","-","-","-","-","-","-","-","-","-","-","-","-","-","-","-","-","-","-","-","-","-","-","-","-","-","-","-"]
["山梨県","市川三郷町","楠甫村",null,{"v":19,"d":"19 "},{"v":1,"d":"1 "},"x","x","x","x","x",{"v":18,"d":"18 "},"x","x","x","x","x","x","x","x","x","x","x","x","x","x","x","x","x","x","x","x","x","x","x","x","x","x","x","x","x","x","x","x","x","x","x","x","x","x","x","x","x","x","x","x","x","x","x","x","x","x","x","x","x","x","x","x","x","x","x","x","x","x","x","x","x","x","x","x","x","x","x","x","x","x","x","x","x","x","x","x","x","x","x","x","x","x","x",{"$nulls":7},"x","x","x","x","x","x","x","x","x","x","x","x","x","x","x","x","x","x","x","x","x","x","x","x","x","x","x","x","x","x","x","x","x","x","x","x","x","x","x","x","x","x","x","x","x"]
["山梨県","市川三郷町","宮原村","宮原",{"v":31,"d":"31 "},{"v":8,"d":"8 "},"-","-",{"v":2,"d":"2 "},"-",{"v":6,"d":"6 "},{"v":23,"d":"23 "},{"v":16,"d":"16 "},"-","-",{"v":1,"d":"1 "},{"v":1,"d":"1 "},"-",{"v":2,"d":"2 "},"-",{"v":2,"d":"2 "},{"v":1,"d":"1 "},{"v":1,"d":"1 "},{"v":1,"d":"1 "},{"v":1,"d":"1 "},{"v":3,"d":"3 "},{"v":3,"d":"3 "},"-",61.8,54.5,66.2,{"v":10,"d":"10 "},"-","-",{"v":1,"d":"1 "},"-","-",{"v":1,"d":"1 "},"-","-","-","-",{"v":1,"d":"1 "},{"v":1,"d":"1 "},{"v":3,"d":"3 "},{"v":3,"d":"3 "},"-",68.7,71.5,{"v":68,"d":"68.0"},{"v":6,"d":"6 "},"-","-","-","-","-","-","-","-","-","-",{"v":1,"d":"1 "},{"v":1,"d":"1 "},{"v":2,"d":"2 "},{"v":2,"d":"2 "},"-",76.7,71.5,79.3,{"v":8,"d":"8 "},"-","-","-","-","-",{"v":1,"d":"1 "},"-","-",{"v":1,"d":"1 "},"-",{"v":1,"d":"1 "},{"v":1,"d":"1 "},{"v":1,"d":"1 "},{"v":3,"d":"3 "},"-",{"v":4,"d":"4 "},"-","-","-","-","-","-","-","-",{"v":1,"d":"1 "},{"v":1,"d":"1 "},{"v":1,"d":"1 "},{"v":1,"d":"1 "},"-",{"$nulls":7},{"v":20,"d":"20 "},{"v":13,"d":"13 "},{"v":6,"d":"6 "},{"v":5,"d":"5 "},{"v":2,"d":"2 "},{"v":5,"d":"5 "},{"v":1,"d":"1 "},{"v":1,"d":"1 "},{"v":5,"d":"5 "},{"v":5,"d":"5 "},"-","-","-","-","-","-","-","-","-","-","-","-","-","-",{"v":8,"d":"8 "},{"v":423,"d":"423 "},{"v":376,"d":"376 "},{"v":47,"d":"47 "},"-",6,6,2,3,1,"-","-","-",14,7,4,2,1,5,1,1]
["山梨県","早川町","西山村","下湯島",{"v":4,"d":"4 "},"-","-","-","-","-","-",{"v":4,"d":"4 "},"-","-","-","-","-","-","-","-","-","-","-","-","-","-","-","-","…","…","…","-","-","-","-","-","-","-","-","-","-","-","-","-","-","-","-","…","…","…","-","-","-","-","-","-","-","-","-","-","-","-","-","-","-","-","…","…","…","-","-","-","-","-","-","-","-","-","-","-","-","-","-","-","-","-","-","-","-","-","-","-","-","-","-","-","-","-","-",{"$nulls":7},"-","-","-","-","-","-","-","-","-","-","-","-","-","-","-","-","-","-","-","-","-","-","-","-","-","-","-","-","-","-","-","-","-","-","-","-","-","-","-","-","-","-","-","-","-"]
["山梨県","早川町","三里村",null,{"v":27,"d":"27 "},{"v":1,"d":"1 "},"x","x","x","x","x",{"v":26,"d":"26 "},"x","x","x","x","x","x","x","x","x","x","x","x","x","x","x","x","x","x","x","x","x","x","x","x","x","x","x","x","x","x","x","x","x","x","x","x","x","x","x","x","x","x","x","x","x","x","x","x","x","x","x","x","x","x","x","x","x","x","x","x","x","x","x","x","x","x","x","x","x","x","x","x","x","x","x","x","x","x","x","x","x","x","x","x","x","x","x",{"$nulls":7},"x","x","x","x","x","x","x","x","x","x","x","x","x","x","x","x","x","x","x","x","x","x","x","x","x","x","x","x","x","x","x","x","x","x","x","x","x","x","x","x","x","x","x","x","x"]
["山梨県","早川町","三里村","茂倉",{"v":11,"d":"11 "},"-","-","-","-","-","-",{"v":11,"d":"11 "},"-","-","-","-","-","-","-","-","-","-","-","-","-","-","-","-","…","…","…","-","-","-","-","-","-","-","-","-","-","-","-","-","-","-","-","…","…","…","-","-","-","-","-","-","-","-","-","-","-","-","-","-","-","-","…","…","…","-","-","-","-","-","-","-","-","-","-","-","-","-","-","-","-","-","-","-","-","-","-","-","-","-","-","-","-","-","-",{"$nulls":7},"-","-","-","-","-","-","-","-","-","-","-","-","-","-","-","-","-","-","-","-","-","-","-","-","-","-","-","-","-","-","-","-","-","-","-","-","-","-","-","-","-","-","-","-","-"]
["山梨県","早川町","五箇村","古屋",{"v":1,"d":"1 "},"-","-","-","-","-","-",{"v":1,"d":"1 "},"-","-","-","-","-","-","-","-","-","-","-","-","-","-","-","-","…","…","…","-","-","-","-","-","-","-","-","-","-","-","-","-","-","-","-","…","…","…","-","-","-","-","-","-","-","-","-","-","-","-","-","-","-","-","…","…","…","-","-","-","-","-","-","-","-","-","-","-","-","-","-","-","-","-","-","-","-","-","-","-","-","-","-","-","-","-","-",{"$nulls":7},"-","-","-","-","-","-","-","-","-","-","-","-","-","-","-","-","-","-","-","-","-","-","-","-","-","-","-","-","-","-","-","-","-","-","-","-","-","-","-","-","-","-","-","-","-"]
["山梨県","早川町","硯島村","戸川",{"v":4,"d":"4 "},"-","-","-","-","-","-",{"v":4,"d":"4 "},"-","-","-","-","-","-","-","-","-","-","-","-","-","-","-","-","…","…","…","-","-","-","-","-","-","-","-","-","-","-","-","-","-","-","-","…","…","…","-","-","-","-","-","-","-","-","-","-","-","-","-","-","-","-","…","…","…","-","-","-","-","-","-","-","-","-","-","-","-","-","-","-","-","-","-","-","-","-","-","-","-","-","-","-","-","-","-",{"$nulls":7},"-","-","-","-","-","-","-","-","-","-","-","-","-","-","-","-","-","-","-","-","-","-","-","-","-","-","-","-","-","-","-","-","-","-","-","-","-","-","-","-","-","-","-","-","-"]
["山梨県","身延町","下山村",null,{"v":126,"d":"126 "},{"v":4,"d":"4 "},{"v":1,"d":"1 "},{"v":1,"d":"1 "},"-","-",{"v":3,"d":"3 "},{"v":122,"d":"122 "},{"v":9,"d":"9 "},"-","-","-","-","-",{"v":2,"d":"2 "},"-","-",{"v":2,"d":"2 "},"-",{"v":3,"d":"3 "},"-",{"v":1,"d":"1 "},{"v":1,"d":"1 "},"-",60.9,63.6,57.5,{"v":3,"d":"3 "},"-","-","-","-","-","-","-","-",{"v":1,"d":"1 "},"-","-","-",{"v":1,"d":"1 "},{"v":1,"d":"1 "},"-",{"v":70,"d":"70.0"},{"v":70,"d":"70.0"},"…",{"v":3,"d":"3 "},"-","-","-","-","-","-","-","-",{"v":1,"d":"1 "},"-","-","-",{"v":1,"d":"1 "},{"v":1,"d":"1 "},"-",{"v":70,"d":"70.0"},{"v":70,"d":"70.0"},"…",{"v":4,"d":"4 "},"-","-","-","-","-","-","-","-",{"v":1,"d":"1 "},"-",{"v":1,"d":"1 "},"-",{"v":1,"d":"1 "},{"v":1,"d":"1 "},"-",{"v":1,"d":"1 "},"-","-","-","-","-","-","-","-",{"v":1,"d":"1 "},"-","-","-","-",{"$nulls":7},{"v":13,"d":"13 "},{"v":9,"d":"9 "},{"v":3,"d":"3 "},{"v":4,"d":"4 "},{"v":2,"d":"2 "},{"v":1,"d":"1 "},{"v":2,"d":"2 "},{"v":1,"d":"1 "},{"v":1,"d":"1 "},"-","-","-","-","-","-","-","-","-","-","-","-",{"v":1,"d":"1 "},"-","-",{"v":4,"d":"4 "},{"v":156,"d":"156 "},{"v":149,"d":"149 "},{"v":7,"d":"7 "},"-",6,6,3,1,2,"-","-","-",7,3,"-",3,"-",1,2,1]
["山梨県","身延町","下山村","杉山",{"v":4,"d":"4 "},"-","-","-","-","-","-",{"v":4,"d":"4 "},"-","-","-","-","-","-","-","-","-","-","-","-","-","-","-","-","…","…","…","-","-","-","-","-","-","-","-","-","-","-","-","-","-","-","-","…","…","…","-","-","-","-","-","-","-","-","-","-","-","-","-","-","-","-","…","…","…","-","-","-","-","-","-","-","-","-","-","-","-","-","-","-","-","-","-","-","-","-","-","-","-","-","-","-","-","-","-",{"$nulls":7},"-","-","-","-","-","-","-","-","-","-","-","-","-","-","-","-","-","-","-","-","-","-","-","-","-","-","-","-","-","-","-","-","-","-","-","-","-","-","-","-","-","-","-","-","-"]
["山梨県","身延町","身延町","大野",{"v":17,"d":"17 "},"-","-","-","-","-","-",{"v":17,"d":"17 "},"-","-","-","-","-","-","-","-","-","-","-","-","-","-","-","-","…","…","…","-","-","-","-","-","-","-","-","-","-","-","-","-","-","-","-","…","…","…","-","-","-","-","-","-","-","-","-","-","-","-","-","-","-","-","…","…","…","-","-","-","-","-","-","-","-","-","-","-","-","-","-","-","-","-","-","-","-","-","-","-","-","-","-","-","-","-","-",{"$nulls":7},"-","-","-","-","-","-","-","-","-","-","-","-","-","-","-","-","-","-","-","-","-","-","-","-","-","-","-","-","-","-","-","-","-","-","-","-","-","-","-","-","-","-","-","-","-"]
["山梨県","身延町","豊岡村","清子",{"v":19,"d":"19 "},"-","-","-","-","-","-",{"v":19,"d":"19 "},"-","-","-","-","-","-","-","-","-","-","-","-","-","-","-","-","…","…","…","-","-","-","-","-","-","-","-","-","-","-","-","-","-","-","-","…","…","…","-","-","-","-","-","-","-","-","-","-","-","-","-","-","-","-","…","…","…","-","-","-","-","-","-","-","-","-","-","-","-","-","-","-","-","-","-","-","-","-","-","-","-","-","-","-","-","-","-",{"$nulls":7},"-","-","-","-","-","-","-","-","-","-","-","-","-","-","-","-","-","-","-","-","-","-","-","-","-","-","-","-","-","-","-","-","-","-","-","-","-","-","-","-","-","-","-","-","-"]
["山梨県","身延町","豊岡村","大久保",{"v":1,"d":"1 "},"-","-","-","-","-","-",{"v":1,"d":"1 "},"-","-","-","-","-","-","-","-","-","-","-","-","-","-","-","-","…","…","…","-","-","-","-","-","-","-","-","-","-","-","-","-","-","-","-","…","…","…","-","-","-","-","-","-","-","-","-","-","-","-","-","-","-","-","…","…","…","-","-","-","-","-","-","-","-","-","-","-","-","-","-","-","-","-","-","-","-","-","-","-","-","-","-","-","-","-","-",{"$nulls":7},"-","-","-","-","-","-","-","-","-","-","-","-","-","-","-","-","-","-","-","-","-","-","-","-","-","-","-","-","-","-","-","-","-","-","-","-","-","-","-","-","-","-","-","-","-"]
["山梨県","身延町","大河内村","椿草里",{"v":1,"d":"1 "},"-","-","-","-","-","-",{"v":1,"d":"1 "},"-","-","-","-","-","-","-","-","-","-","-","-","-","-","-","-","…","…","…","-","-","-","-","-","-","-","-","-","-","-","-","-","-","-","-","…","…","…","-","-","-","-","-","-","-","-","-","-","-","-","-","-","-","-","…","…","…","-","-","-","-","-","-","-","-","-","-","-","-","-","-","-","-","-","-","-","-","-","-","-","-","-","-","-","-","-","-",{"$nulls":7},"-","-","-","-","-","-","-","-","-","-","-","-","-","-","-","-","-","-","-","-","-","-","-","-","-","-","-","-","-","-","-","-","-","-","-","-","-","-","-","-","-","-","-","-","-"]
["山梨県","身延町","大河内村","角打南",{"v":8,"d":"8 "},{"v":1,"d":"1 "},"x","x","x","x","x",{"v":7,"d":"7 "},"x","x","x","x","x","x","x","x","x","x","x","x","x","x","x","x",56.7,{"v":47,"d":"47.0"},61.5,"x","x","x","x","x","x","x","x","x","x","x","x","x","x","x","x",61.5,"…",61.5,"x","x","x","x","x","x","x","x","x","x","x","x","x","x","x","x",{"v":83,"d":"83.0"},"…",{"v":83,"d":"83.0"},{"v":1,"d":"1 "},"-","-","-","-","-","-","-","-","-","-","-","-","-",{"v":1,"d":"1 "},"-",{"v":1,"d":"1 "},"-","-","-","-","-","-","-","-","-","-","-",{"v":1,"d":"1 "},"-",{"$nulls":7},{"v":3,"d":"3 "},{"v":2,"d":"2 "},{"v":1,"d":"1 "},{"v":1,"d":"1 "},"-",{"v":1,"d":"1 "},"-","-","-","-","-","-","-","-","-","-","-","-","-","-","-","-","-","-",{"v":1,"d":"1 "},{"v":30,"d":"30 "},"-",{"v":30,"d":"30 "},"-",1,1,"-",1,"-","-","-","-",2,1,1,"-","-",1,"-","-"]
["山梨県","身延町","大須成村","荻",{"v":4,"d":"4 "},{"v":1,"d":"1 "},"x","x","x","x","x",{"v":3,"d":"3 "},"x","x","x","x","x","x","x","x","x","x","x","x","x","x","x","x",38.4,30.7,44.3,"x","x","x","x","x","x","x","x","x","x","x","x","x","x","x","x",{"v":85,"d":"85.0"},"…",{"v":85,"d":"85.0"},"x","x","x","x","x","x","x","x","x","x","x","x","x","x","x","x",{"v":85,"d":"85.0"},"…",{"v":85,"d":"85.0"},{"v":1,"d":"1 "},"-","-","-","-","-","-","-","-","-","-","-","-","-","-",{"v":1,"d":"1 "},{"v":1,"d":"1 "},"-","-","-","-","-","-","-","-","-","-","-","-",{"v":1,"d":"1 "},{"$nulls":7},{"v":7,"d":"7 "},{"v":4,"d":"4 "},{"v":1,"d":"1 "},{"v":3,"d":"3 "},"-","-",{"v":3,"d":"3 "},"-",{"v":1,"d":"1 "},"-","-",{"v":1,"d":"1 "},"-","-","-","-","-","-","-","-","-","-","-","-",{"v":1,"d":"1 "},{"v":59,"d":"59 "},{"v":29,"d":"29 "},{"v":30,"d":"30 "},"-",3,2,"-",2,"-","-",1,"-",4,2,1,1,"-","-",2,"-"]
["山梨県","身延町","静川村","切石",{"v":5,"d":"5 "},"-","-","-","-","-","-",{"v":5,"d":"5 "},"-","-","-","-","-","-","-","-","-","-","-","-","-","-","-","-","…","…","…","-","-","-","-","-","-","-","-","-","-","-","-","-","-","-","-","…","…","…","-","-","-","-","-","-","-","-","-","-","-","-","-","-","-","-","…","…","…","-","-","-","-","-","-","-","-","-","-","-","-","-","-","-","-","-","-","-","-","-","-","-","-","-","-","-","-","-","-",{"$nulls":7},"-","-","-","-","-","-","-","-","-","-","-","-","-","-","-","-","-","-","-","-","-","-","-","-","-","-","-","-","-","-","-","-","-","-","-","-","-","-","-","-","-","-","-","-","-"]
["山梨県","身延町","静川村","日向南沢",{"v":17,"d":"17 "},{"v":3,"d":"3 "},"x","x","x","x","x",{"v":14,"d":"14 "},"x","x","x","x","x","x","x","x","x","x","x","x","x","x","x","x",69.5,{"v":72,"d":"72.0"},{"v":67,"d":"67.0"},"x","x","x","x","x","x","x","x","x","x","x","x","x","x","x","x",71.3,{"v":73,"d":"73.0"},{"v":68,"d":"68.0"},"x","x","x","x","x","x","x","x","x","x","x","x","x","x","x","x",{"v":73,"d":"73.0"},{"v":73,"d":"73.0"},"…",{"v":3,"d":"3 "},"-","-","-","-","-","-","-","-","-","-","-",{"v":3,"d":"3 "},"-","-","-",{"v":1,"d":"1 "},"-","-","-","-","-","-","-","-","-",{"v":1,"d":"1 "},"-","-","-",{"$nulls":7},{"v":8,"d":"8 "},{"v":2,"d":"2 "},{"v":2,"d":"2 "},"-","-",{"v":3,"d":"3 "},"-",{"v":3,"d":"3 "},"-","-","-","-","-","-","-","-","-","-","-","-","-","-","-","-",{"v":3,"d":"3 "},{"v":108,"d":"108 "},{"v":54,"d":"54 "},{"v":54,"d":"54 "},"-",4,2,2,"-","-","-","-",2,4,"-","-","-","-",3,"-",1]
["山梨県","身延町","曙村","矢細工",{"v":3,"d":"3 "},"-","-","-","-","-","-",{"v":3,"d":"3 "},"-","-","-","-","-","-","-","-","-","-","-","-","-","-","-","-","…","…","…","-","-","-","-","-","-","-","-","-","-","-","-","-","-","-","-","…","…","…","-","-","-","-","-","-","-","-","-","-","-","-","-","-","-","-","…","…","…","-","-","-","-","-","-","-","-","-","-","-","-","-","-","-","-","-","-","-","-","-","-","-","-","-","-","-","-","-","-",{"$nulls":7},"-","-","-","-","-","-","-","-","-","-","-","-","-","-","-","-","-","-","-","-","-","-","-","-","-","-","-","-","-","-","-","-","-","-","-","-","-","-","-","-","-","-","-","-","-"]
["山梨県","身延町","共和村２－１","上向",{"v":2,"d":"2 "},"-","-","-","-","-","-",{"v":2,"d":"2 "},"-","-","-","-","-","-","-","-","-","-","-","-","-","-","-","-","…","…","…","-","-","-","-","-","-","-","-","-","-","-","-","-","-","-","-","…","…","…","-","-","-","-","-","-","-","-","-","-","-","-","-","-","-","-","…","…","…","-","-","-","-","-","-","-","-","-","-","-","-","-","-","-","-","-","-","-","-","-","-","-","-","-","-","-","-","-","-",{"$nulls":7},"-","-","-","-","-","-","-","-","-","-","-","-","-","-","-","-","-","-","-","-","-","-","-","-","-","-","-","-","-","-","-","-","-","-","-","-","-","-","-","-","-","-","-","-","-"]
["山梨県","身延町","共和村２－１","宮木",{"v":22,"d":"22 "},{"v":6,"d":"6 "},"-","-","-","-",{"v":6,"d":"6 "},{"v":16,"d":"16 "},{"v":10,"d":"10 "},"-","-","-","-","-","-","-","-","-","-","-","-",{"v":5,"d":"5 "},{"v":4,"d":"4 "},{"v":1,"d":"1 "},79.7,82.2,77.2,{"v":10,"d":"10 "},"-","-","-","-","-","-","-","-","-","-","-","-",{"v":5,"d":"5 "},{"v":4,"d":"4 "},{"v":1,"d":"1 "},79.7,82.2,77.2,{"v":3,"d":"3 "},"-","-","-","-","-","-","-","-","-","-","-","-",{"v":2,"d":"2 "},"-",{"v":1,"d":"1 "},79.7,{"v":82,"d":"82.0"},{"v":75,"d":"75.0"},{"v":6,"d":"6 "},"-","-","-","-","-","-","-","-","-","-","-","-",{"v":2,"d":"2 "},{"v":3,"d":"3 "},{"v":1,"d":"1 "},{"v":2,"d":"2 "},"-","-","-","-","-","-","-","-","-","-",{"v":1,"d":"1 "},{"v":1,"d":"1 "},"-",{"$nulls":7},{"v":14,"d":"14 "},{"v":6,"d":"6 "},{"v":3,"d":"3 "},{"v":3,"d":"3 "},"-",{"v":4,"d":"4 "},"-",{"v":4,"d":"4 "},{"v":3,"d":"3 "},{"v":1,"d":"1 "},"-",{"v":2,"d":"2 "},"-","-","-","-","-","-","-","-","-","-","-","-",{"v":6,"d":"6 "},{"v":368,"d":"368 "},{"v":286,"d":"286 "},{"v":67,"d":"67 "},{"v":15,"d":"15 "},6,3,2,1,"-","-","-",3,8,3,1,2,"-",4,"-",1]
["山梨県","身延町","山保村２－２","久保",{"v":4,"d":"4 "},"-","-","-","-","-","-",{"v":4,"d":"4 "},"-","-","-","-","-","-","-","-","-","-","-","-","-","-","-","-","…","…","…","-","-","-","-","-","-","-","-","-","-","-","-","-","-","-","-","…","…","…","-","-","-","-","-","-","-","-","-","-","-","-","-","-","-","-","…","…","…","-","-","-","-","-","-","-","-","-","-","-","-","-","-","-","-","-","-","-","-","-","-","-","-","-","-","-","-","-","-",{"$nulls":7},"-","-","-","-","-","-","-","-","-","-","-","-","-","-","-","-","-","-","-","-","-","-","-","-","-","-","-","-","-","-","-","-","-","-","-","-","-","-","-","-","-","-","-","-","-"]
["山梨県","身延町","久那土村","熊沢",{"v":6,"d":"6 "},{"v":2,"d":"2 "},"x","x","x","x","x",{"v":4,"d":"4 "},"x","x","x","x","x","x","x","x","x","x","x","x","x","x","x","x",{"v":64,"d":"64.0"},64.7,63.3,"x","x","x","x","x","x","x","x","x","x","x","x","x","x","x","x",71.5,72.5,70.5,"x","x","x","x","x","x","x","x","x","x","x","x","x","x","x","x",{"v":73,"d":"73.0"},72.5,{"v":74,"d":"74.0"},{"v":2,"d":"2 "},"-","-","-","-","-","-","-","-","-","-",{"v":1,"d":"1 "},"-",{"v":1,"d":"1 "},"-","-","-","-","-","-","-","-","-","-","-","-","-","-","-","-",{"$nulls":7},{"v":11,"d":"11 "},{"v":8,"d":"8 "},{"v":3,"d":"3 "},{"v":5,"d":"5 "},"-",{"v":1,"d":"1 "},{"v":1,"d":"1 "},{"v":1,"d":"1 "},{"v":2,"d":"2 "},"-","-",{"v":1,"d":"1 "},"-","-","-","-","-",{"v":1,"d":"1 "},"-","-","-","-","-","-",{"v":2,"d":"2 "},{"v":110,"d":"110 "},{"v":77,"d":"77 "},{"v":33,"d":"33 "},"-",5,4,2,2,"-","-",1,"-",6,4,1,3,"-",1,"-",1]
["山梨県","身延町","久那土村","切房木",{"v":18,"d":"18 "},{"v":3,"d":"3 "},"-","-","-","-",{"v":3,"d":"3 "},{"v":15,"d":"15 "},{"v":6,"d":"6 "},"-","-","-","-","-","-","-","-","-",{"v":2,"d":"2 "},"-",{"v":1,"d":"1 "},{"v":1,"d":"1 "},"-",{"v":2,"d":"2 "},74.3,75.3,73.3,{"v":6,"d":"6 "},"-","-","-","-","-","-","-","-","-",{"v":2,"d":"2 "},"-",{"v":1,"d":"1 "},{"v":1,"d":"1 "},"-",{"v":2,"d":"2 "},74.3,75.3,73.3,{"v":6,"d":"6 "},"-","-","-","-","-","-","-","-","-",{"v":2,"d":"2 "},"-",{"v":1,"d":"1 "},{"v":1,"d":"1 "},"-",{"v":2,"d":"2 "},74.3,75.3,73.3,{"v":3,"d":"3 "},"-","-","-","-","-","-","-","-","-",{"v":1,"d":"1 "},"-","-",{"v":1,"d":"1 "},"-",{"v":1,"d":"1 "},{"v":2,"d":"2 "},"-","-","-","-","-","-","-",{"v":1,"d":"1 "},"-","-","-","-",{"v":1,"d":"1 "},{"$nulls":7},{"v":11,"d":"11 "},{"v":8,"d":"8 "},{"v":6,"d":"6 "},{"v":2,"d":"2 "},"-",{"v":1,"d":"1 "},"-",{"v":2,"d":"2 "},{"v":1,"d":"1 "},"-","-",{"v":1,"d":"1 "},"-","-","-","-","-","-","-","-","-","-","-","-",{"v":3,"d":"3 "},{"v":176,"d":"176 "},{"v":61,"d":"61 "},{"v":105,"d":"105 "},{"v":10,"d":"10 "},6,5,3,2,"-","-","-",1,5,3,3,"-","-",1,"-",1]
["山梨県","身延町","古関村","根子",{"v":20,"d":"20 "},"-","-","-","-","-","-",{"v":20,"d":"20 "},"-","-","-","-","-","-","-","-","-","-","-","-","-","-","-","-","…","…","…","-","-","-","-","-","-","-","-","-","-","-","-","-","-","-","-","…","…","…","-","-","-","-","-","-","-","-","-","-","-","-","-","-","-","-","…","…","…","-","-","-","-","-","-","-","-","-","-","-","-","-","-","-","-","-","-","-","-","-","-","-","-","-","-","-","-","-","-",{"$nulls":7},"-","-","-","-","-","-","-","-","-","-","-","-","-","-","-","-","-","-","-","-","-","-","-","-","-","-","-","-","-","-","-","-","-","-","-","-","-","-","-","-","-","-","-","-","-"]
["山梨県","身延町","古関村","大磯小磯（２）",{"v":4,"d":"4 "},"-","-","-","-","-","-",{"v":4,"d":"4 "},"-","-","-","-","-","-","-","-","-","-","-","-","-","-","-","-","…","…","…","-","-","-","-","-","-","-","-","-","-","-","-","-","-","-","-","…","…","…","-","-","-","-","-","-","-","-","-","-","-","-","-","-","-","-","…","…","…","-","-","-","-","-","-","-","-","-","-","-","-","-","-","-","-","-","-","-","-","-","-","-","-","-","-","-","-","-","-",{"$nulls":7},"-","-","-","-","-","-","-","-","-","-","-","-","-","-","-","-","-","-","-","-","-","-","-","-","-","-","-","-","-","-","-","-","-","-","-","-","-","-","-","-","-","-","-","-","-"]
["山梨県","身延町","富里村","長塩",{"v":10,"d":"10 "},"-","-","-","-","-","-",{"v":10,"d":"10 "},"-","-","-","-","-","-","-","-","-","-","-","-","-","-","-","-","…","…","…","-","-","-","-","-","-","-","-","-","-","-","-","-","-","-","-","…","…","…","-","-","-","-","-","-","-","-","-","-","-","-","-","-","-","-","…","…","…","-","-","-","-","-","-","-","-","-","-","-","-","-","-","-","-","-","-","-","-","-","-","-","-","-","-","-","-","-","-",{"$nulls":7},"-","-","-","-","-","-","-","-","-","-","-","-","-","-","-","-","-","-","-","-","-","-","-","-","-","-","-","-","-","-","-","-","-","-","-","-","-","-","-","-","-","-","-","-","-"]
["山梨県","身延町","富里村","杉ノ木",{"v":6,"d":"6 "},"-","-","-","-","-","-",{"v":6,"d":"6 "},"-","-","-","-","-","-","-","-","-","-","-","-","-","-","-","-","…","…","…","-","-","-","-","-","-","-","-","-","-","-","-","-","-","-","-","…","…","…","-","-","-","-","-","-","-","-","-","-","-","-","-","-","-","-","…","…","…","-","-","-","-","-","-","-","-","-","-","-","-","-","-","-","-","-","-","-","-","-","-","-","-","-","-","-","-","-","-",{"$nulls":7},"-","-","-","-","-","-","-","-","-","-","-","-","-","-","-","-","-","-","-","-","-","-","-","-","-","-","-","-","-","-","-","-","-","-","-","-","-","-","-","-","-","-","-","-","-"]
["山梨県","身延町","富里村","上之平",{"v":7,"d":"7 "},{"v":1,"d":"1 "},"x","x","x","x","x",{"v":6,"d":"6 "},"x","x","x","x","x","x","x","x","x","x","x","x","x","x","x","x",71.5,{"v":89,"d":"89.0"},{"v":54,"d":"54.0"},"x","x","x","x","x","x","x","x","x","x","x","x","x","x","x","x",{"v":89,"d":"89.0"},{"v":89,"d":"89.0"},"…","x","x","x","x","x","x","x","x","x","x","x","x","x","x","x","x",{"v":89,"d":"89.0"},{"v":89,"d":"89.0"},"…",{"v":1,"d":"1 "},"-","-","-","-","-","-","-","-","-","-","-","-","-","-",{"v":1,"d":"1 "},{"v":1,"d":"1 "},"-","-","-","-","-","-","-","-","-","-","-","-",{"v":1,"d":"1 "},{"$nulls":7},{"v":3,"d":"3 "},{"v":1,"d":"1 "},{"v":1,"d":"1 "},"-","-",{"v":1,"d":"1 "},{"v":1,"d":"1 "},"-",{"v":1,"d":"1 "},"-","-","-","-",{"v":1,"d":"1 "},"-","-","-","-","-","-","-","-","-","-",{"v":1,"d":"1 "},{"v":44,"d":"44 "},{"v":10,"d":"10 "},{"v":24,"d":"24 "},{"v":10,"d":"10 "},1,1,1,"-","-","-","-","-",2,"-","-","-","-",1,1,"-"]
["山梨県","南部町",null,null,{"v":989,"d":"989 "},{"v":226,"d":"226 "},{"v":6,"d":"6 "},{"v":3,"d":"3 "},{"v":26,"d":"26 "},{"v":4,"d":"4 "},{"v":194,"d":"194 "},{"v":763,"d":"763 "},{"v":639,"d":"639 "},{"v":17,"d":"17 "},{"v":10,"d":"10 "},{"v":19,"d":"19 "},{"v":14,"d":"14 "},{"v":31,"d":"31 "},{"v":31,"d":"31 "},{"v":40,"d":"40 "},{"v":60,"d":"60 "},{"v":74,"d":"74 "},{"v":63,"d":"63 "},{"v":62,"d":"62 "},{"v":57,"d":"57 "},{"v":57,"d":"57 "},{"v":61,"d":"61 "},{"v":43,"d":"43 "},60.2,59.3,61.3,{"v":289,"d":"289 "},{"v":6,"d":"6 "},{"v":1,"d":"1 "},"-",{"v":1,"d":"1 "},{"v":2,"d":"2 "},{"v":2,"d":"2 "},{"v":1,"d":"1 "},{"v":9,"d":"9 "},{"v":10,"d":"10 "},{"v":17,"d":"17 "},{"v":43,"d":"43 "},{"v":46,"d":"46 "},{"v":53,"d":"53 "},{"v":57,"d":"57 "},{"v":41,"d":"41 "},72.8,73.1,72.5,{"v":207,"d":"207 "},"-",{"v":1,"d":"1 "},"-","-","-",{"v":2,"d":"2 "},"-",{"v":5,"d":"5 "},{"v":6,"d":"6 "},{"v":13,"d":"13 "},{"v":38,"d":"38 "},{"v":35,"d":"35 "},{"v":38,"d":"38 "},{"v":44,"d":"44 "},{"v":25,"d":"25 "},{"v":74,"d":"74.0"},74.9,72.7,{"v":226,"d":"226 "},"-",{"v":1,"d":"1 "},"-","-","-",{"v":2,"d":"2 "},{"v":2,"d":"2 "},{"v":17,"d":"17 "},{"v":22,"d":"22 "},{"v":36,"d":"36 "},{"v":32,"d":"32 "},{"v":31,"d":"31 "},{"v":27,"d":"27 "},{"v":33,"d":"33 "},{"v":23,"d":"23 "},{"v":172,"d":"172 "},"-","-","-",{"v":1,"d":"1 "},{"v":1,"d":"1 "},{"v":12,"d":"12 "},{"v":10,"d":"10 "},{"v":22,"d":"22 "},{"v":26,"d":"26 "},{"v":26,"d":"26 "},{"v":24,"d":"24 "},{"v":31,"d":"31 "},{"v":19,"d":"19 "},{"$nulls":7},{"v":799,"d":"799 "},{"v":542,"d":"542 "},{"v":207,"d":"207 "},{"v":297,"d":"297 "},{"v":38,"d":"38 "},{"v":132,"d":"132 "},{"v":52,"d":"52 "},{"v":73,"d":"73 "},{"v":111,"d":"111 "},{"v":15,"d":"15 "},"-",{"v":5,"d":"5 "},{"v":79,"d":"79 "},{"v":7,"d":"7 "},{"v":1,"d":"1 "},{"v":3,"d":"3 "},{"v":1,"d":"1 "},"-","-","-","-","-","-","-",{"v":226,"d":"226 "},{"v":10570,"d":"10,570 "},{"v":4513,"d":"4,513 "},{"v":2735,"d":"2,735 "},{"v":3322,"d":"3,322 "},399,338,130,182,26,1,27,33,400,204,77,115,12,131,25,40]
["山梨県","南部町","栄村","内船中",{"v":28,"d":"28 "},{"v":3,"d":"3 "},"-","-",{"v":1,"d":"1 "},"-",{"v":2,"d":"2 "},{"v":25,"d":"25 "},{"v":8,"d":"8 "},"-","-","-","-",{"v":1,"d":"1 "},"-","-",{"v":3,"d":"3 "},"-",{"v":1,"d":"1 "},{"v":1,"d":"1 "},"-",{"v":2,"d":"2 "},"-","-",60.3,58.4,63.3,{"v":4,"d":"4 "},"-","-","-","-","-","-","-",{"v":1,"d":"1 "},"-","-",{"v":1,"d":"1 "},"-",{"v":2,"d":"2 "},"-","-",68.5,73.5,63.5,{"v":3,"d":"3 "},"-","-","-","-","-","-","-","-","-","-",{"v":1,"d":"1 "},"-",{"v":2,"d":"2 "},"-","-",74.7,73.5,{"v":77,"d":"77.0"},{"v":3,"d":"3 "},"-","-","-","-","-","-","-",{"v":1,"d":"1 "},"-","-",{"v":1,"d":"1 "},"-",{"v":1,"d":"1 "},"-","-",{"v":2,"d":"2 "},"-","-","-","-","-","-","-","-",{"v":1,"d":"1 "},"-",{"v":1,"d":"1 "},"-","-",{"$nulls":7},{"v":13,"d":"13 "},{"v":8,"d":"8 "},{"v":3,"d":"3 "},{"v":4,"d":"4 "},{"v":1,"d":"1 "},{"v":2,"d":"2 "},{"v":3,"d":"3 "},"-",{"v":2,"d":"2 "},"-","-","-",{"v":2,"d":"2 "},"-","-","-","-","-","-","-","-","-","-","-",{"v":3,"d":"3 "},{"v":114,"d":"114 "},{"v":27,"d":"27 "},{"v":30,"d":"30 "},{"v":57,"d":"57 "},6,5,2,2,1,"-",1,"-",7,3,1,2,"-",2,2,"-"]
["山梨県","南部町","睦合村","中野",{"v":57,"d":"57 "},{"v":8,"d":"8 "},"-","-",{"v":2,"d":"2 "},"-",{"v":6,"d":"6 "},{"v":49,"d":"49 "},{"v":22,"d":"22 "},"-","-",{"v":1,"d":"1 "},"-",{"v":2,"d":"2 "},{"v":1,"d":"1 "},"-",{"v":3,"d":"3 "},{"v":3,"d":"3 "},{"v":2,"d":"2 "},{"v":4,"d":"4 "},{"v":2,"d":"2 "},{"v":1,"d":"1 "},{"v":1,"d":"1 "},{"v":2,"d":"2 "},60.5,58.9,63.5,{"v":12,"d":"12 "},"-","-","-","-",{"v":1,"d":"1 "},"-","-",{"v":1,"d":"1 "},{"v":1,"d":"1 "},"-",{"v":3,"d":"3 "},{"v":2,"d":"2 "},{"v":1,"d":"1 "},{"v":1,"d":"1 "},{"v":2,"d":"2 "},68.6,70.3,66.8,{"v":8,"d":"8 "},"-","-","-","-","-","-","-","-","-","-",{"v":3,"d":"3 "},{"v":2,"d":"2 "},"-",{"v":1,"d":"1 "},{"v":2,"d":"2 "},75.1,77.8,72.5,{"v":8,"d":"8 "},"-","-","-","-","-","-","-",{"v":1,"d":"1 "},"-",{"v":1,"d":"1 "},{"v":2,"d":"2 "},{"v":1,"d":"1 "},{"v":1,"d":"1 "},{"v":1,"d":"1 "},{"v":1,"d":"1 "},{"v":5,"d":"5 "},"-","-","-","-","-",{"v":1,"d":"1 "},"-","-","-",{"v":1,"d":"1 "},{"v":1,"d":"1 "},{"v":1,"d":"1 "},{"v":1,"d":"1 "},{"$nulls":7},{"v":27,"d":"27 "},{"v":20,"d":"20 "},{"v":8,"d":"8 "},{"v":12,"d":"12 "},"-",{"v":2,"d":"2 "},{"v":1,"d":"1 "},{"v":4,"d":"4 "},{"v":4,"d":"4 "},"-","-","-",{"v":4,"d":"4 "},"-","-","-","-","-","-","-","-","-","-","-",{"v":8,"d":"8 "},{"v":346,"d":"346 "},{"v":69,"d":"69 "},{"v":112,"d":"112 "},{"v":165,"d":"165 "},15,12,4,8,"-","-",1,2,12,8,4,4,"-",2,"-",2]
["山梨県","南部町","富河村","竹ノ花",{"v":12,"d":"12 "},{"v":2,"d":"2 "},"x","x","x","x","x",{"v":10,"d":"10 "},"x","x","x","x","x","x","x","x","x","x","x","x","x","x","x","x",59.7,{"v":59,"d":"59.0"},60.7,"x","x","x","x","x","x","x","x","x","x","x","x","x","x","x","x",{"v":66,"d":"66.0"},{"v":74,"d":"74.0"},60.7,"x","x","x","x","x","x","x","x","x","x","x","x","x","x","x","x",73.7,{"v":74,"d":"74.0"},{"v":73,"d":"73.0"},{"v":2,"d":"2 "},"-","-","-","-","-","-","-","-","-","-","-",{"v":1,"d":"1 "},{"v":1,"d":"1 "},"-","-",{"v":2,"d":"2 "},"-","-","-","-","-","-","-","-","-",{"v":1,"d":"1 "},{"v":1,"d":"1 "},"-","-",{"$nulls":7},{"v":7,"d":"7 "},{"v":5,"d":"5 "},{"v":3,"d":"3 "},{"v":2,"d":"2 "},"-",{"v":2,"d":"2 "},"-","-",{"v":1,"d":"1 "},{"v":1,"d":"1 "},"-","-","-","-","-","-","-","-","-","-","-","-","-","-",{"v":2,"d":"2 "},{"v":68,"d":"68 "},{"v":48,"d":"48 "},{"v":15,"d":"15 "},{"v":5,"d":"5 "},4,4,2,2,"-","-","-","-",3,1,1,"-","-",2,"-","-"]
["山梨県","南部町","富河村","中島",{"v":10,"d":"10 "},{"v":1,"d":"1 "},"x","x","x","x","x",{"v":9,"d":"9 "},"x","x","x","x","x","x","x","x","x","x","x","x","x","x","x","x",71.5,{"v":58,"d":"58.0"},{"v":85,"d":"85.0"},"x","x","x","x","x","x","x","x","x","x","x","x","x","x","x","x",{"v":85,"d":"85.0"},"…",{"v":85,"d":"85.0"},"x","x","x","x","x","x","x","x","x","x","x","x","x","x","x","x","…","…","…",{"v":1,"d":"1 "},"-","-","-","-","-","-","-","-",{"v":1,"d":"1 "},"-","-","-","-","-","-","-","-","-","-","-","-","-","-","-","-","-","-","-","-",{"$nulls":7},{"v":2,"d":"2 "},{"v":1,"d":"1 "},"-",{"v":1,"d":"1 "},"-",{"v":1,"d":"1 "},"-","-","-","-","-","-","-","-","-","-","-","-","-","-","-","-","-","-",{"v":1,"d":"1 "},{"v":65,"d":"65 "},{"v":36,"d":"36 "},{"v":29,"d":"29 "},"-",1,1,"-",1,"-","-","-","-",1,"-","-","-","-",1,"-","-"]
["山梨県","南部町","富河村","矢島下",{"v":13,"d":"13 "},{"v":3,"d":"3 "},"-","-","-","-",{"v":3,"d":"3 "},{"v":10,"d":"10 "},{"v":7,"d":"7 "},"-","-","-","-",{"v":1,"d":"1 "},"-",{"v":1,"d":"1 "},"-",{"v":1,"d":"1 "},{"v":1,"d":"1 "},"-","-",{"v":3,"d":"3 "},"-","-",61.3,59.2,66.5,{"v":3,"d":"3 "},"-","-","-","-","-","-","-","-",{"v":1,"d":"1 "},"-","-","-",{"v":2,"d":"2 "},"-","-",69.7,{"v":76,"d":"76.0"},66.5,{"v":1,"d":"1 "},"-","-","-","-","-","-","-","-","-","-","-","-",{"v":1,"d":"1 "},"-","-",{"v":76,"d":"76.0"},{"v":76,"d":"76.0"},"…",{"v":3,"d":"3 "},"-","-","-","-","-","-","-","-","-",{"v":1,"d":"1 "},"-","-",{"v":2,"d":"2 "},"-","-",{"v":2,"d":"2 "},"-","-","-","-","-","-","-","-","-","-",{"v":2,"d":"2 "},"-","-",{"$nulls":7},{"v":11,"d":"11 "},{"v":7,"d":"7 "},{"v":1,"d":"1 "},{"v":6,"d":"6 "},"-",{"v":2,"d":"2 "},{"v":1,"d":"1 "},{"v":1,"d":"1 "},{"v":1,"d":"1 "},"-","-","-",{"v":1,"d":"1 "},"-","-","-","-","-","-","-","-","-","-","-",{"v":3,"d":"3 "},{"v":108,"d":"108 "},{"v":53,"d":"53 "},{"v":55,"d":"55 "},"-",7,6,1,5,"-","-","-",1,4,1,"-",1,"-",2,1,"-"]
["山梨県","南部町","富河村","鯨野",{"v":3,"d":"3 "},"-","-","-","-","-","-",{"v":3,"d":"3 "},"-","-","-","-","-","-","-","-","-","-","-","-","-","-","-","-","…","…","…","-","-","-","-","-","-","-","-","-","-","-","-","-","-","-","-","…","…","…","-","-","-","-","-","-","-","-","-","-","-","-","-","-","-","-","…","…","…","-","-","-","-","-","-","-","-","-","-","-","-","-","-","-","-","-","-","-","-","-","-","-","-","-","-","-","-","-","-",{"$nulls":7},"-","-","-","-","-","-","-","-","-","-","-","-","-","-","-","-","-","-","-","-","-","-","-","-","-","-","-","-","-","-","-","-","-","-","-","-","-","-","-","-","-","-","-","-","-"]
["山梨県","南部町","富河村","南又",{"v":8,"d":"8 "},{"v":1,"d":"1 "},"x","x","x","x","x",{"v":7,"d":"7 "},"x","x","x","x","x","x","x","x","x","x","x","x","x","x","x","x",47.5,40.8,{"v":61,"d":"61.0"},"x","x","x","x","x","x","x","x","x","x","x","x","x","x","x","x",58.3,{"v":48,"d":"48.0"},{"v":79,"d":"79.0"},"x","x","x","x","x","x","x","x","x","x","x","x","x","x","x","x",{"v":79,"d":"79.0"},{"v":79,"d":"79.0"},"…",{"v":1,"d":"1 "},"-","-","-","-","-","-","-","-","-","-","-","-",{"v":1,"d":"1 "},"-","-",{"v":1,"d":"1 "},"-","-","-","-","-","-","-","-","-","-",{"v":1,"d":"1 "},"-","-",{"$nulls":7},{"v":6,"d":"6 "},{"v":3,"d":"3 "},{"v":1,"d":"1 "},{"v":2,"d":"2 "},"-",{"v":1,"d":"1 "},{"v":1,"d":"1 "},{"v":1,"d":"1 "},"-","-","-","-","-","-","-","-","-","-","-","-","-","-","-","-",{"v":1,"d":"1 "},{"v":35,"d":"35 "},{"v":27,"d":"27 "},{"v":4,"d":"4 "},{"v":4,"d":"4 "},4,3,1,2,"-","-",1,"-",2,"-","-","-","-",1,"-",1]
["山梨県","南部町","萬沢村","西行",{"v":14,"d":"14 "},{"v":7,"d":"7 "},"-","-",{"v":1,"d":"1 "},"-",{"v":6,"d":"6 "},{"v":7,"d":"7 "},{"v":13,"d":"13 "},"-","-","-","-","-",{"v":1,"d":"1 "},{"v":1,"d":"1 "},"-",{"v":2,"d":"2 "},{"v":3,"d":"3 "},{"v":3,"d":"3 "},{"v":1,"d":"1 "},{"v":2,"d":"2 "},"-","-",63.2,62.1,65.5,{"v":7,"d":"7 "},"-","-","-","-","-","-","-","-","-",{"v":1,"d":"1 "},{"v":3,"d":"3 "},{"v":1,"d":"1 "},{"v":2,"d":"2 "},"-","-",{"v":70,"d":"70.0"},71.3,68.3,{"v":7,"d":"7 "},"-","-","-","-","-","-","-","-","-",{"v":1,"d":"1 "},{"v":3,"d":"3 "},{"v":1,"d":"1 "},{"v":2,"d":"2 "},"-","-",{"v":70,"d":"70.0"},71.3,68.3,{"v":7,"d":"7 "},"-","-","-","-","-","-","-","-",{"v":1,"d":"1 "},{"v":3,"d":"3 "},{"v":1,"d":"1 "},"-",{"v":2,"d":"2 "},"-","-",{"v":3,"d":"3 "},"-","-","-","-","-","-","-","-",{"v":1,"d":"1 "},"-",{"v":2,"d":"2 "},"-","-",{"$nulls":7},{"v":22,"d":"22 "},{"v":16,"d":"16 "},{"v":7,"d":"7 "},{"v":9,"d":"9 "},"-",{"v":1,"d":"1 "},{"v":2,"d":"2 "},{"v":3,"d":"3 "},{"v":5,"d":"5 "},{"v":2,"d":"2 "},"-",{"v":1,"d":"1 "},"-",{"v":2,"d":"2 "},"-","-","-","-","-","-","-","-","-","-",{"v":7,"d":"7 "},{"v":331,"d":"331 "},{"v":118,"d":"118 "},{"v":183,"d":"183 "},{"v":30,"d":"30 "},11,9,4,5,"-","-",1,1,11,7,3,4,"-",1,1,2]
["山梨県","南部町","萬沢村","平山",{"v":15,"d":"15 "},{"v":9,"d":"9 "},"-","-","-","-",{"v":9,"d":"9 "},{"v":6,"d":"6 "},{"v":24,"d":"24 "},{"v":2,"d":"2 "},{"v":2,"d":"2 "},"-","-","-",{"v":1,"d":"1 "},{"v":5,"d":"5 "},{"v":2,"d":"2 "},"-",{"v":1,"d":"1 "},{"v":1,"d":"1 "},{"v":4,"d":"4 "},{"v":4,"d":"4 "},{"v":1,"d":"1 "},{"v":1,"d":"1 "},56.4,64.1,47.3,{"v":10,"d":"10 "},"-","-","-","-","-","-","-","-","-",{"v":1,"d":"1 "},{"v":1,"d":"1 "},{"v":2,"d":"2 "},{"v":4,"d":"4 "},{"v":1,"d":"1 "},{"v":1,"d":"1 "},75.4,{"v":78,"d":"78.0"},69.3,{"v":6,"d":"6 "},"-","-","-","-","-","-","-","-","-","-",{"v":1,"d":"1 "},{"v":2,"d":"2 "},{"v":2,"d":"2 "},{"v":1,"d":"1 "},"-",75.5,76.8,{"v":69,"d":"69.0"},{"v":9,"d":"9 "},"-","-","-","-","-","-","-",{"v":1,"d":"1 "},"-",{"v":1,"d":"1 "},"-",{"v":2,"d":"2 "},{"v":3,"d":"3 "},{"v":1,"d":"1 "},{"v":1,"d":"1 "},{"v":7,"d":"7 "},"-","-","-","-","-","-","-","-","-",{"v":2,"d":"2 "},{"v":3,"d":"3 "},{"v":1,"d":"1 "},{"v":1,"d":"1 "},{"$nulls":7},{"v":37,"d":"37 "},{"v":23,"d":"23 "},{"v":6,"d":"6 "},{"v":16,"d":"16 "},{"v":1,"d":"1 "},{"v":8,"d":"8 "},{"v":2,"d":"2 "},{"v":4,"d":"4 "},{"v":4,"d":"4 "},"-","-","-",{"v":3,"d":"3 "},"-","-",{"v":1,"d":"1 "},"-","-","-","-","-","-","-","-",{"v":9,"d":"9 "},{"v":350,"d":"350 "},{"v":99,"d":"99 "},{"v":78,"d":"78 "},{"v":173,"d":"173 "},18,14,5,8,1,"-","-",4,19,9,1,8,"-",8,2,"-"]
["山梨県","南部町","萬沢村","登尾",{"v":1,"d":"1 "},"-","-","-","-","-","-",{"v":1,"d":"1 "},"-","-","-","-","-","-","-","-","-","-","-","-","-","-","-","-","…","…","…","-","-","-","-","-","-","-","-","-","-","-","-","-","-","-","-","…","…","…","-","-","-","-","-","-","-","-","-","-","-","-","-","-","-","-","…","…","…","-","-","-","-","-","-","-","-","-","-","-","-","-","-","-","-","-","-","-","-","-","-","-","-","-","-","-","-","-","-",{"$nulls":7},"-","-","-","-","-","-","-","-","-","-","-","-","-","-","-","-","-","-","-","-","-","-","-","-","-","-","-","-","-","-","-","-","-","-","-","-","-","-","-","-","-","-","-","-","-"]
["山梨県","富士川町","増穂村","最勝寺",{"v":111,"d":"111 "},{"v":34,"d":"34 "},{"v":2,"d":"2 "},{"v":2,"d":"2 "},{"v":6,"d":"6 "},{"v":2,"d":"2 "},{"v":26,"d":"26 "},{"v":77,"d":"77 "},{"v":92,"d":"92 "},{"v":2,"d":"2 "},{"v":4,"d":"4 "},{"v":2,"d":"2 "},"-",{"v":4,"d":"4 "},{"v":6,"d":"6 "},{"v":7,"d":"7 "},{"v":8,"d":"8 "},{"v":8,"d":"8 "},{"v":6,"d":"6 "},{"v":4,"d":"4 "},{"v":14,"d":"14 "},{"v":11,"d":"11 "},{"v":13,"d":"13 "},{"v":3,"d":"3 "},60.9,60.6,61.3,{"v":51,"d":"51 "},"-",{"v":1,"d":"1 "},"-","-",{"v":1,"d":"1 "},"-","-",{"v":1,"d":"1 "},{"v":3,"d":"3 "},{"v":5,"d":"5 "},{"v":4,"d":"4 "},{"v":11,"d":"11 "},{"v":10,"d":"10 "},{"v":12,"d":"12 "},{"v":3,"d":"3 "},71.9,72.9,70.5,{"v":37,"d":"37 "},"-",{"v":1,"d":"1 "},"-","-","-","-","-",{"v":1,"d":"1 "},{"v":1,"d":"1 "},{"v":4,"d":"4 "},{"v":2,"d":"2 "},{"v":11,"d":"11 "},{"v":9,"d":"9 "},{"v":5,"d":"5 "},{"v":3,"d":"3 "},72.1,71.8,72.7,{"v":34,"d":"34 "},"-","-","-","-",{"v":1,"d":"1 "},"-","-",{"v":1,"d":"1 "},{"v":3,"d":"3 "},{"v":4,"d":"4 "},{"v":1,"d":"1 "},{"v":8,"d":"8 "},{"v":7,"d":"7 "},{"v":6,"d":"6 "},{"v":3,"d":"3 "},{"v":22,"d":"22 "},"-","-","-","-","-","-",{"v":1,"d":"1 "},{"v":2,"d":"2 "},{"v":1,"d":"1 "},{"v":5,"d":"5 "},{"v":6,"d":"6 "},{"v":5,"d":"5 "},{"v":2,"d":"2 "},{"$nulls":7},{"v":126,"d":"126 "},{"v":87,"d":"87 "},{"v":37,"d":"37 "},{"v":48,"d":"48 "},{"v":2,"d":"2 "},{"v":20,"d":"20 "},{"v":9,"d":"9 "},{"v":10,"d":"10 "},{"v":23,"d":"23 "},{"v":3,"d":"3 "},"-","-","-",{"v":2,"d":"2 "},"-",{"v":16,"d":"16 "},"-","-","-","-","-",{"v":1,"d":"1 "},{"v":1,"d":"1 "},"-",{"v":34,"d":"34 "},{"v":2075,"d":"2,075 "},{"v":567,"d":"567 "},{"v":704,"d":"704 "},{"v":804,"d":"804 "},61,56,26,29,1,"-",1,4,65,31,11,19,1,20,8,6]
["山梨県","富士川町","増穂村","長沢",{"v":98,"d":"98 "},{"v":34,"d":"34 "},{"v":3,"d":"3 "},{"v":3,"d":"3 "},{"v":2,"d":"2 "},"-",{"v":29,"d":"29 "},{"v":64,"d":"64 "},{"v":89,"d":"89 "},{"v":2,"d":"2 "},{"v":2,"d":"2 "},{"v":3,"d":"3 "},{"v":1,"d":"1 "},{"v":1,"d":"1 "},{"v":1,"d":"1 "},{"v":6,"d":"6 "},{"v":7,"d":"7 "},{"v":6,"d":"6 "},{"v":5,"d":"5 "},{"v":7,"d":"7 "},{"v":20,"d":"20 "},{"v":11,"d":"11 "},{"v":11,"d":"11 "},{"v":6,"d":"6 "},64.4,{"v":64,"d":"64.0"},64.9,{"v":68,"d":"68 "},"-",{"v":1,"d":"1 "},"-","-","-","-",{"v":4,"d":"4 "},{"v":2,"d":"2 "},{"v":4,"d":"4 "},{"v":3,"d":"3 "},{"v":6,"d":"6 "},{"v":20,"d":"20 "},{"v":11,"d":"11 "},{"v":11,"d":"11 "},{"v":6,"d":"6 "},71.1,71.2,{"v":71,"d":"71.0"},{"v":52,"d":"52 "},"-","-","-","-","-","-",{"v":2,"d":"2 "},{"v":2,"d":"2 "},{"v":2,"d":"2 "},{"v":3,"d":"3 "},{"v":3,"d":"3 "},{"v":15,"d":"15 "},{"v":11,"d":"11 "},{"v":9,"d":"9 "},{"v":5,"d":"5 "},72.9,73.3,72.3,{"v":34,"d":"34 "},"-","-","-","-","-","-","-",{"v":2,"d":"2 "},{"v":2,"d":"2 "},{"v":4,"d":"4 "},{"v":2,"d":"2 "},{"v":8,"d":"8 "},{"v":7,"d":"7 "},{"v":6,"d":"6 "},{"v":3,"d":"3 "},{"v":18,"d":"18 "},"-","-","-","-","-","-",{"v":1,"d":"1 "},{"v":2,"d":"2 "},{"v":2,"d":"2 "},{"v":3,"d":"3 "},{"v":4,"d":"4 "},{"v":4,"d":"4 "},{"v":2,"d":"2 "},{"$nulls":7},{"v":107,"d":"107 "},{"v":77,"d":"77 "},{"v":52,"d":"52 "},{"v":25,"d":"25 "},"-",{"v":15,"d":"15 "},{"v":8,"d":"8 "},{"v":7,"d":"7 "},{"v":28,"d":"28 "},{"v":3,"d":"3 "},"-","-","-","-","-",{"v":24,"d":"24 "},"-","-",{"v":1,"d":"1 "},"-","-","-","-","-",{"v":34,"d":"34 "},{"v":2083,"d":"2,083 "},{"v":516,"d":"516 "},{"v":325,"d":"325 "},{"v":1242,"d":"1,242 "},52,43,29,14,"-",1,3,5,55,34,23,11,"-",14,5,2]
["山梨県","富士川町","平林村","上久保上、上向川、下向川",{"v":11,"d":"11 "},{"v":1,"d":"1 "},"x","x","x","x","x",{"v":10,"d":"10 "},"x","x","x","x","x","x","x","x","x","x","x","x","x","x","x","x",{"v":81,"d":"81.0"},"…",{"v":81,"d":"81.0"},"x","x","x","x","x","x","x","x","x","x","x","x","x","x","x","x",{"v":81,"d":"81.0"},"…",{"v":81,"d":"81.0"},"x","x","x","x","x","x","x","x","x","x","x","x","x","x","x","x",{"v":81,"d":"81.0"},"…",{"v":81,"d":"81.0"},{"v":1,"d":"1 "},"-","-","-","-","-","-","-","-","-","-","-","-","-",{"v":1,"d":"1 "},"-",{"v":1,"d":"1 "},"-","-","-","-","-","-","-","-","-","-","-",{"v":1,"d":"1 "},"-",{"$nulls":7},{"v":1,"d":"1 "},{"v":1,"d":"1 "},{"v":1,"d":"1 "},"-","-","-","-","-","-","-","-","-","-","-","-","-","-","-","-","-","-","-","-","-",{"v":1,"d":"1 "},{"v":69,"d":"69 "},{"v":24,"d":"24 "},{"v":45,"d":"45 "},"-","-","-","-","-","-","-","-","-",1,1,1,"-","-","-","-","-"]
["山梨県","富士川町","穂積村","土録",{"v":20,"d":"20 "},{"v":7,"d":"7 "},"-","-",{"v":2,"d":"2 "},{"v":1,"d":"1 "},{"v":5,"d":"5 "},{"v":13,"d":"13 "},{"v":18,"d":"18 "},"-","-","-","-","-","-",{"v":2,"d":"2 "},{"v":1,"d":"1 "},{"v":2,"d":"2 "},"-","-",{"v":3,"d":"3 "},{"v":6,"d":"6 "},{"v":3,"d":"3 "},{"v":1,"d":"1 "},70.4,71.3,69.8,{"v":13,"d":"13 "},"-","-","-","-","-","-","-","-",{"v":1,"d":"1 "},"-","-",{"v":3,"d":"3 "},{"v":5,"d":"5 "},{"v":3,"d":"3 "},{"v":1,"d":"1 "},76.2,{"v":78,"d":"78.0"},74.7,{"v":13,"d":"13 "},"-","-","-","-","-","-","-","-",{"v":1,"d":"1 "},"-","-",{"v":3,"d":"3 "},{"v":5,"d":"5 "},{"v":3,"d":"3 "},{"v":1,"d":"1 "},76.2,{"v":78,"d":"78.0"},74.7,{"v":7,"d":"7 "},"-","-","-","-","-","-","-",{"v":1,"d":"1 "},{"v":1,"d":"1 "},"-","-",{"v":1,"d":"1 "},{"v":3,"d":"3 "},{"v":1,"d":"1 "},"-",{"v":3,"d":"3 "},"-","-","-","-","-","-","-","-","-","-",{"v":3,"d":"3 "},"-","-",{"$nulls":7},{"v":19,"d":"19 "},{"v":18,"d":"18 "},{"v":13,"d":"13 "},{"v":5,"d":"5 "},"-",{"v":1,"d":"1 "},"-","-",{"v":5,"d":"5 "},{"v":2,"d":"2 "},"-","-","-",{"v":1,"d":"1 "},"-",{"v":2,"d":"2 "},"-","-","-","-","-","-","-","-",{"v":7,"d":"7 "},{"v":343,"d":"343 "},{"v":186,"d":"186 "},{"v":85,"d":"85 "},{"v":72,"d":"72 "},8,8,6,2,"-","-","-","-",11,10,7,3,"-",1,"-","-"]
["山梨県","富士川町","穂積村","矢泊、益母",{"v":8,"d":"8 "},{"v":4,"d":"4 "},"-","-","-","-",{"v":4,"d":"4 "},{"v":4,"d":"4 "},{"v":9,"d":"9 "},"-","-","-","-","-","-","-",{"v":1,"d":"1 "},"-",{"v":2,"d":"2 "},"-",{"v":2,"d":"2 "},{"v":1,"d":"1 "},{"v":2,"d":"2 "},{"v":1,"d":"1 "},72.4,{"v":77,"d":"77.0"},66.8,{"v":7,"d":"7 "},"-","-","-","-","-","-","-","-","-",{"v":1,"d":"1 "},"-",{"v":2,"d":"2 "},{"v":1,"d":"1 "},{"v":2,"d":"2 "},{"v":1,"d":"1 "},76.7,{"v":81,"d":"81.0"},{"v":71,"d":"71.0"},{"v":5,"d":"5 "},"-","-","-","-","-","-","-","-","-",{"v":1,"d":"1 "},"-",{"v":1,"d":"1 "},{"v":1,"d":"1 "},{"v":1,"d":"1 "},{"v":1,"d":"1 "},76.2,80.3,{"v":70,"d":"70.0"},{"v":4,"d":"4 "},"-","-","-","-","-","-","-","-","-","-","-",{"v":1,"d":"1 "},"-",{"v":2,"d":"2 "},{"v":1,"d":"1 "},{"v":3,"d":"3 "},"-","-","-","-","-","-","-","-","-",{"v":1,"d":"1 "},"-",{"v":1,"d":"1 "},{"v":1,"d":"1 "},{"$nulls":7},{"v":10,"d":"10 "},{"v":7,"d":"7 "},{"v":5,"d":"5 "},{"v":2,"d":"2 "},"-",{"v":1,"d":"1 "},"-",{"v":2,"d":"2 "},{"v":1,"d":"1 "},"-","-","-","-",{"v":1,"d":"1 "},"-","-","-","-","-","-","-","-","-","-",{"v":4,"d":"4 "},{"v":308,"d":"308 "},{"v":96,"d":"96 "},{"v":212,"d":"212 "},"-",5,4,3,1,"-","-","-",1,5,3,2,1,"-",1,"-",1]
["山梨県","富士川町","鰍沢町","風早","-","-","-","-","-","-","-","-","-","-","-","-","-","-","-","-","-","-","-","-","-","-","-","-","…","…","…","-","-","-","-","-","-","-","-","-","-","-","-","-","-","-","-","…","…","…","-","-","-","-","-","-","-","-","-","-","-","-","-","-","-","-","…","…","…","-","-","-","-","-","-","-","-","-","-","-","-","-","-","-","-","-","-","-","-","-","-","-","-","-","-","-","-","-","-",{"$nulls":7},"-","-","-","-","-","-","-","-","-","-","-","-","-","-","-","-","-","-","-","-","-","-","-","-","-","-","-","-","-","-","-","-","-","-","-","-","-","-","-","-","-","-","-","-","-"]
["山梨県","富士川町","鰍沢町","久保沢",{"v":2,"d":"2 "},"-","-","-","-","-","-",{"v":2,"d":"2 "},"-","-","-","-","-","-","-","-","-","-","-","-","-","-","-","-","…","…","…","-","-","-","-","-","-","-","-","-","-","-","-","-","-","-","-","…","…","…","-","-","-","-","-","-","-","-","-","-","-","-","-","-","-","-","…","…","…","-","-","-","-","-","-","-","-","-","-","-","-","-","-","-","-","-","-","-","-","-","-","-","-","-","-","-","-","-","-",{"$nulls":7},"-","-","-","-","-","-","-","-","-","-","-","-","-","-","-","-","-","-","-","-","-","-","-","-","-","-","-","-","-","-","-","-","-","-","-","-","-","-","-","-","-","-","-","-","-"]
["山梨県","富士川町","五開村","鳥屋",{"v":21,"d":"21 "},{"v":3,"d":"3 "},"x","x","x","x","x",{"v":18,"d":"18 "},"x","x","x","x","x","x","x","x","x","x","x","x","x","x","x","x",59.2,60.7,{"v":57,"d":"57.0"},"x","x","x","x","x","x","x","x","x","x","x","x","x","x","x","x",59.2,60.7,{"v":57,"d":"57.0"},"x","x","x","x","x","x","x","x","x","x","x","x","x","x","x","x",59.2,60.7,{"v":57,"d":"57.0"},{"v":3,"d":"3 "},"-","-","-","-","-","-","-","-",{"v":1,"d":"1 "},{"v":2,"d":"2 "},"-","-","-","-","-","-","-","-","-","-","-","-","-","-","-","-","-","-","-",{"$nulls":7},{"v":6,"d":"6 "},{"v":5,"d":"5 "},{"v":5,"d":"5 "},"-","-","-","-",{"v":1,"d":"1 "},{"v":3,"d":"3 "},"-","-","-","-","-",{"v":1,"d":"1 "},"-","-",{"v":2,"d":"2 "},"-","-","-","-","-","-",{"v":3,"d":"3 "},{"v":46,"d":"46 "},{"v":43,"d":"43 "},{"v":3,"d":"3 "},"-",3,3,3,"-","-","-","-","-",3,2,2,"-","-","-","-",1]
["山梨県","富士川町","大同村２－２","平",{"v":9,"d":"9 "},"-","-","-","-","-","-",{"v":9,"d":"9 "},"-","-","-","-","-","-","-","-","-","-","-","-","-","-","-","-","…","…","…","-","-","-","-","-","-","-","-","-","-","-","-","-","-","-","-","…","…","…","-","-","-","-","-","-","-","-","-","-","-","-","-","-","-","-","…","…","…","-","-","-","-","-","-","-","-","-","-","-","-","-","-","-","-","-","-","-","-","-","-","-","-","-","-","-","-","-","-",{"$nulls":7},"-","-","-","-","-","-","-","-","-","-","-","-","-","-","-","-","-","-","-","-","-","-","-","-","-","-","-","-","-","-","-","-","-","-","-","-","-","-","-","-","-","-","-","-","-"]
["山梨県","昭和町","昭和町","押越",{"v":55,"d":"55 "},{"v":34,"d":"34 "},{"v":1,"d":"1 "},{"v":1,"d":"1 "},{"v":13,"d":"13 "},{"v":5,"d":"5 "},{"v":20,"d":"20 "},{"v":21,"d":"21 "},{"v":84,"d":"84 "},"-","-",{"v":6,"d":"6 "},{"v":7,"d":"7 "},"-",{"v":5,"d":"5 "},{"v":2,"d":"2 "},{"v":6,"d":"6 "},{"v":15,"d":"15 "},{"v":5,"d":"5 "},{"v":9,"d":"9 "},{"v":8,"d":"8 "},{"v":9,"d":"9 "},{"v":7,"d":"7 "},{"v":5,"d":"5 "},60.2,59.9,60.5,{"v":43,"d":"43 "},"-","-","-",{"v":1,"d":"1 "},"-",{"v":1,"d":"1 "},"-","-",{"v":3,"d":"3 "},{"v":3,"d":"3 "},{"v":7,"d":"7 "},{"v":7,"d":"7 "},{"v":9,"d":"9 "},{"v":7,"d":"7 "},{"v":5,"d":"5 "},72.3,75.7,{"v":70,"d":"70.0"},{"v":39,"d":"39 "},"-","-","-",{"v":1,"d":"1 "},"-","-","-","-",{"v":2,"d":"2 "},{"v":3,"d":"3 "},{"v":7,"d":"7 "},{"v":7,"d":"7 "},{"v":7,"d":"7 "},{"v":7,"d":"7 "},{"v":5,"d":"5 "},73.4,75.7,71.5,{"v":34,"d":"34 "},"-","-","-","-","-",{"v":1,"d":"1 "},"-","-",{"v":6,"d":"6 "},{"v":2,"d":"2 "},{"v":5,"d":"5 "},{"v":5,"d":"5 "},{"v":5,"d":"5 "},{"v":6,"d":"6 "},{"v":4,"d":"4 "},{"v":20,"d":"20 "},"-","-","-","-","-","-",{"v":4,"d":"4 "},{"v":2,"d":"2 "},{"v":3,"d":"3 "},{"v":1,"d":"1 "},{"v":2,"d":"2 "},{"v":4,"d":"4 "},{"v":4,"d":"4 "},{"$nulls":7},{"v":107,"d":"107 "},{"v":82,"d":"82 "},{"v":39,"d":"39 "},{"v":42,"d":"42 "},{"v":1,"d":"1 "},{"v":9,"d":"9 "},{"v":5,"d":"5 "},{"v":11,"d":"11 "},{"v":28,"d":"28 "},{"v":12,"d":"12 "},"-",{"v":2,"d":"2 "},"-",{"v":9,"d":"9 "},{"v":2,"d":"2 "},{"v":3,"d":"3 "},"-","-","-","-","-","-","-","-",{"v":34,"d":"34 "},{"v":1801,"d":"1,801 "},{"v":1330,"d":"1,330 "},{"v":351,"d":"351 "},{"v":120,"d":"120 "},52,43,18,25,"-","-",4,5,55,39,21,17,1,9,1,6]
["山梨県","昭和町","昭和町","上河東",{"v":17,"d":"17 "},{"v":11,"d":"11 "},{"v":1,"d":"1 "},"-",{"v":5,"d":"5 "},{"v":2,"d":"2 "},{"v":5,"d":"5 "},{"v":6,"d":"6 "},{"v":27,"d":"27 "},"-","-",{"v":1,"d":"1 "},"-",{"v":1,"d":"1 "},"-",{"v":3,"d":"3 "},{"v":3,"d":"3 "},{"v":7,"d":"7 "},{"v":2,"d":"2 "},{"v":3,"d":"3 "},{"v":1,"d":"1 "},{"v":2,"d":"2 "},{"v":2,"d":"2 "},{"v":2,"d":"2 "},61.4,60.3,62.5,{"v":9,"d":"9 "},"-","-","-","-","-","-","-","-","-",{"v":1,"d":"1 "},{"v":1,"d":"1 "},{"v":1,"d":"1 "},{"v":2,"d":"2 "},{"v":2,"d":"2 "},{"v":2,"d":"2 "},77.3,75.5,78.8,{"v":8,"d":"8 "},"-","-","-","-","-","-","-","-","-",{"v":1,"d":"1 "},{"v":1,"d":"1 "},{"v":1,"d":"1 "},{"v":2,"d":"2 "},{"v":2,"d":"2 "},{"v":1,"d":"1 "},76.1,75.5,76.8,{"v":11,"d":"11 "},"-","-","-","-","-","-","-","-",{"v":3,"d":"3 "},{"v":1,"d":"1 "},{"v":2,"d":"2 "},{"v":1,"d":"1 "},{"v":1,"d":"1 "},{"v":2,"d":"2 "},{"v":1,"d":"1 "},{"v":8,"d":"8 "},"-","-","-","-","-","-",{"v":1,"d":"1 "},{"v":1,"d":"1 "},{"v":1,"d":"1 "},{"v":1,"d":"1 "},{"v":1,"d":"1 "},{"v":2,"d":"2 "},{"v":1,"d":"1 "},{"$nulls":7},{"v":35,"d":"35 "},{"v":29,"d":"29 "},{"v":8,"d":"8 "},{"v":17,"d":"17 "},{"v":4,"d":"4 "},{"v":2,"d":"2 "},{"v":3,"d":"3 "},{"v":1,"d":"1 "},{"v":8,"d":"8 "},{"v":6,"d":"6 "},"-","-",{"v":1,"d":"1 "},{"v":1,"d":"1 "},"-","-","-","-","-","-","-","-","-","-",{"v":11,"d":"11 "},{"v":606,"d":"606 "},{"v":528,"d":"528 "},{"v":49,"d":"49 "},{"v":29,"d":"29 "},17,15,4,10,1,"-",2,"-",18,14,4,7,3,2,1,1]
["山梨県","道志村","道志村","東和出村",{"v":14,"d":"14 "},{"v":2,"d":"2 "},"x","x","x","x","x",{"v":12,"d":"12 "},"x","x","x","x","x","x","x","x","x","x","x","x","x","x","x","x",59.5,{"v":60,"d":"60.0"},59.2,"x","x","x","x","x","x","x","x","x","x","x","x","x","x","x","x",78.7,{"v":75,"d":"75.0"},80.5,"x","x","x","x","x","x","x","x","x","x","x","x","x","x","x","x",78.7,{"v":75,"d":"75.0"},80.5,{"v":2,"d":"2 "},"-","-","-","-","-","-","-","-",{"v":1,"d":"1 "},"-","-","-",{"v":1,"d":"1 "},"-","-",{"v":1,"d":"1 "},"-","-","-","-","-","-",{"v":1,"d":"1 "},"-","-","-","-","-","-",{"$nulls":7},{"v":9,"d":"9 "},{"v":8,"d":"8 "},{"v":3,"d":"3 "},{"v":5,"d":"5 "},"-","-",{"v":1,"d":"1 "},"-",{"v":2,"d":"2 "},"-","-","-","-",{"v":2,"d":"2 "},"-","-","-","-","-","-","-","-","-","-",{"v":2,"d":"2 "},{"v":165,"d":"165 "},{"v":135,"d":"135 "},{"v":30,"d":"30 "},"-",4,3,1,2,"-","-",1,"-",5,5,2,3,"-","-","-","-"]
["山梨県","道志村","道志村","西和出村",{"v":9,"d":"9 "},{"v":2,"d":"2 "},"x","x","x","x","x",{"v":7,"d":"7 "},"x","x","x","x","x","x","x","x","x","x","x","x","x","x","x","x",41.3,43.7,{"v":34,"d":"34.0"},"x","x","x","x","x","x","x","x","x","x","x","x","x","x","x","x",{"v":38,"d":"38.0"},{"v":38,"d":"38.0"},"…","x","x","x","x","x","x","x","x","x","x","x","x","x","x","x","x",{"v":38,"d":"38.0"},{"v":38,"d":"38.0"},"…",{"v":2,"d":"2 "},"-","-","-","-",{"v":1,"d":"1 "},"-","-","-","-",{"v":1,"d":"1 "},"-","-","-","-","-","-","-","-","-","-","-","-","-","-","-","-","-","-","-",{"$nulls":7},{"v":5,"d":"5 "},{"v":4,"d":"4 "},{"v":1,"d":"1 "},{"v":3,"d":"3 "},"-","-","-",{"v":1,"d":"1 "},{"v":1,"d":"1 "},"-","-","-","-",{"v":1,"d":"1 "},"-","-","-","-","-","-","-","-","-","-",{"v":2,"d":"2 "},{"v":74,"d":"74 "},{"v":51,"d":"51 "},{"v":23,"d":"23 "},"-",3,3,1,2,"-","-","-","-",2,1,"-",1,"-","-","-",1]
["山梨県","道志村","道志村","板橋",{"v":12,"d":"12 "},{"v":2,"d":"2 "},"x","x","x","x","x",{"v":10,"d":"10 "},"x","x","x","x","x","x","x","x","x","x","x","x","x","x","x","x",{"v":50,"d":"50.0"},{"v":52,"d":"52.0"},{"v":48,"d":"48.0"},"x","x","x","x","x","x","x","x","x","x","x","x","x","x","x","x",{"v":44,"d":"44.0"},{"v":46,"d":"46.0"},{"v":42,"d":"42.0"},"x","x","x","x","x","x","x","x","x","x","x","x","x","x","x","x",49.7,{"v":46,"d":"46.0"},{"v":57,"d":"57.0"},{"v":2,"d":"2 "},"-","-","-","-","-","-","-","-",{"v":1,"d":"1 "},{"v":1,"d":"1 "},"-","-","-","-","-",{"v":1,"d":"1 "},"-","-","-","-","-","-",{"v":1,"d":"1 "},"-","-","-","-","-","-",{"$nulls":7},{"v":8,"d":"8 "},{"v":7,"d":"7 "},{"v":3,"d":"3 "},{"v":4,"d":"4 "},"-",{"v":1,"d":"1 "},"-","-",{"v":2,"d":"2 "},"-","-","-","-",{"v":1,"d":"1 "},"-","-",{"v":1,"d":"1 "},"-","-","-","-","-","-","-",{"v":2,"d":"2 "},{"v":46,"d":"46 "},"-",{"v":46,"d":"46 "},"-",4,4,2,2,"-","-","-","-",4,3,1,2,"-",1,"-","-"]
["山梨県","道志村","道志村","白井平",{"v":11,"d":"11 "},{"v":6,"d":"6 "},"-","-",{"v":1,"d":"1 "},{"v":1,"d":"1 "},{"v":5,"d":"5 "},{"v":5,"d":"5 "},{"v":20,"d":"20 "},"-","-",{"v":1,"d":"1 "},{"v":2,"d":"2 "},{"v":5,"d":"5 "},{"v":1,"d":"1 "},{"v":1,"d":"1 "},{"v":1,"d":"1 "},{"v":2,"d":"2 "},{"v":2,"d":"2 "},{"v":1,"d":"1 "},{"v":1,"d":"1 "},{"v":3,"d":"3 "},"-","-",{"v":51,"d":"51.0"},48.3,53.7,{"v":2,"d":"2 "},"-","-","-","-","-","-","-","-","-","-","-","-",{"v":2,"d":"2 "},"-","-",{"v":76,"d":"76.0"},{"v":77,"d":"77.0"},{"v":75,"d":"75.0"},{"v":2,"d":"2 "},"-","-","-","-","-","-","-","-","-","-","-","-",{"v":2,"d":"2 "},"-","-",{"v":76,"d":"76.0"},{"v":77,"d":"77.0"},{"v":75,"d":"75.0"},{"v":6,"d":"6 "},"-","-","-","-",{"v":1,"d":"1 "},"-","-","-",{"v":1,"d":"1 "},{"v":1,"d":"1 "},{"v":1,"d":"1 "},"-",{"v":2,"d":"2 "},"-","-",{"v":5,"d":"5 "},"-","-","-","-","-","-",{"v":1,"d":"1 "},{"v":1,"d":"1 "},{"v":1,"d":"1 "},"-",{"v":2,"d":"2 "},"-","-",{"$nulls":7},{"v":23,"d":"23 "},{"v":22,"d":"22 "},{"v":2,"d":"2 "},{"v":12,"d":"12 "},{"v":8,"d":"8 "},"-",{"v":1,"d":"1 "},"-",{"v":4,"d":"4 "},"-","-","-","-",{"v":4,"d":"4 "},"-","-","-","-","-","-","-","-","-","-",{"v":6,"d":"6 "},{"v":180,"d":"180 "},{"v":103,"d":"103 "},{"v":77,"d":"77 "},"-",11,10,1,5,4,"-",1,"-",12,12,1,7,4,"-","-","-"]
["山梨県","道志村","道志村","長叉",{"v":6,"d":"6 "},{"v":2,"d":"2 "},"x","x","x","x","x",{"v":4,"d":"4 "},"x","x","x","x","x","x","x","x","x","x","x","x","x","x","x","x",56.2,{"v":47,"d":"47.0"},65.3,"x","x","x","x","x","x","x","x","x","x","x","x","x","x","x","x",{"v":66,"d":"66.0"},{"v":68,"d":"68.0"},65.3,"x","x","x","x","x","x","x","x","x","x","x","x","x","x","x","x",59.3,{"v":68,"d":"68.0"},{"v":55,"d":"55.0"},{"v":2,"d":"2 "},"-","-","-","-","-","-","-",{"v":1,"d":"1 "},"-",{"v":1,"d":"1 "},"-","-","-","-","-","-","-","-","-","-","-","-","-","-","-","-","-","-","-",{"$nulls":7},{"v":6,"d":"6 "},{"v":4,"d":"4 "},{"v":3,"d":"3 "},{"v":1,"d":"1 "},"-","-","-",{"v":2,"d":"2 "},{"v":2,"d":"2 "},"-","-","-","-","-","-","-",{"v":2,"d":"2 "},"-","-","-","-","-","-","-",{"v":2,"d":"2 "},{"v":23,"d":"23 "},{"v":17,"d":"17 "},{"v":6,"d":"6 "},"-",3,2,1,1,"-","-","-",1,3,2,2,"-","-","-","-",1]
["山梨県","西桂町","西桂町",null,{"v":179,"d":"179 "},{"v":12,"d":"12 "},"-","-",{"v":4,"d":"4 "},{"v":1,"d":"1 "},{"v":8,"d":"8 "},{"v":167,"d":"167 "},{"v":42,"d":"42 "},{"v":1,"d":"1 "},{"v":3,"d":"3 "},{"v":1,"d":"1 "},{"v":1,"d":"1 "},{"v":2,"d":"2 "},{"v":4,"d":"4 "},{"v":4,"d":"4 "},{"v":3,"d":"3 "},{"v":6,"d":"6 "},{"v":2,"d":"2 "},{"v":1,"d":"1 "},{"v":4,"d":"4 "},{"v":4,"d":"4 "},{"v":4,"d":"4 "},{"v":2,"d":"2 "},{"v":56,"d":"56.0"},57.7,54.1,{"v":13,"d":"13 "},"-","-","-","-","-","-","-","-","-",{"v":1,"d":"1 "},{"v":1,"d":"1 "},{"v":3,"d":"3 "},{"v":3,"d":"3 "},{"v":4,"d":"4 "},{"v":1,"d":"1 "},75.9,76.2,{"v":75,"d":"75.0"},{"v":11,"d":"11 "},"-","-","-","-","-","-","-","-","-",{"v":1,"d":"1 "},{"v":1,"d":"1 "},{"v":2,"d":"2 "},{"v":3,"d":"3 "},{"v":3,"d":"3 "},{"v":1,"d":"1 "},75.7,76.2,{"v":71,"d":"71.0"},{"v":12,"d":"12 "},"-","-","-","-","-","-","-","-",{"v":1,"d":"1 "},{"v":2,"d":"2 "},{"v":1,"d":"1 "},{"v":1,"d":"1 "},{"v":3,"d":"3 "},{"v":3,"d":"3 "},{"v":1,"d":"1 "},{"v":7,"d":"7 "},"-","-","-","-","-","-","-",{"v":2,"d":"2 "},"-",{"v":1,"d":"1 "},{"v":1,"d":"1 "},{"v":2,"d":"2 "},{"v":1,"d":"1 "},{"$nulls":7},{"v":52,"d":"52 "},{"v":35,"d":"35 "},{"v":11,"d":"11 "},{"v":19,"d":"19 "},{"v":5,"d":"5 "},{"v":8,"d":"8 "},{"v":4,"d":"4 "},{"v":5,"d":"5 "},{"v":6,"d":"6 "},{"v":4,"d":"4 "},"-","-","-","-","-",{"v":1,"d":"1 "},{"v":1,"d":"1 "},"-","-","-","-","-","-","-",{"v":12,"d":"12 "},{"v":609,"d":"609 "},{"v":485,"d":"485 "},{"v":89,"d":"89 "},{"v":35,"d":"35 "},25,22,10,8,4,"-",2,1,27,13,1,11,1,8,2,4]
["山梨県","西桂町","西桂町","倉見",{"v":44,"d":"44 "},{"v":3,"d":"3 "},"-","-",{"v":1,"d":"1 "},"-",{"v":2,"d":"2 "},{"v":41,"d":"41 "},{"v":12,"d":"12 "},"-","-",{"v":1,"d":"1 "},"-","-",{"v":2,"d":"2 "},{"v":1,"d":"1 "},"-",{"v":3,"d":"3 "},{"v":1,"d":"1 "},"-","-",{"v":1,"d":"1 "},{"v":2,"d":"2 "},{"v":1,"d":"1 "},59.3,65.8,54.6,{"v":3,"d":"3 "},"-","-","-","-","-","-","-","-","-","-","-","-","-",{"v":2,"d":"2 "},{"v":1,"d":"1 "},81.7,82.5,{"v":80,"d":"80.0"},{"v":2,"d":"2 "},"-","-","-","-","-","-","-","-","-","-","-","-","-",{"v":1,"d":"1 "},{"v":1,"d":"1 "},82.5,82.5,"…",{"v":3,"d":"3 "},"-","-","-","-","-","-","-","-","-",{"v":1,"d":"1 "},"-","-","-",{"v":1,"d":"1 "},{"v":1,"d":"1 "},{"v":3,"d":"3 "},"-","-","-","-","-","-","-",{"v":1,"d":"1 "},"-","-","-",{"v":1,"d":"1 "},{"v":1,"d":"1 "},{"$nulls":7},{"v":15,"d":"15 "},{"v":11,"d":"11 "},{"v":2,"d":"2 "},{"v":8,"d":"8 "},{"v":1,"d":"1 "},{"v":3,"d":"3 "},"-",{"v":1,"d":"1 "},{"v":1,"d":"1 "},"-","-","-","-","-","-","-",{"v":1,"d":"1 "},"-","-","-","-","-","-","-",{"v":3,"d":"3 "},{"v":143,"d":"143 "},{"v":123,"d":"123 "},{"v":15,"d":"15 "},{"v":5,"d":"5 "},6,6,2,3,1,"-","-","-",9,5,"-",5,"-",3,"-",1]
["山梨県","西桂町","西桂町","小沼",{"v":107,"d":"107 "},{"v":5,"d":"5 "},"-","-",{"v":2,"d":"2 "},"-",{"v":3,"d":"3 "},{"v":102,"d":"102 "},{"v":17,"d":"17 "},{"v":1,"d":"1 "},{"v":3,"d":"3 "},"-","-","-","-",{"v":2,"d":"2 "},{"v":3,"d":"3 "},{"v":2,"d":"2 "},"-","-",{"v":3,"d":"3 "},{"v":1,"d":"1 "},{"v":2,"d":"2 "},"-",53.1,53.9,51.7,{"v":6,"d":"6 "},"-","-","-","-","-","-","-","-","-","-","-",{"v":3,"d":"3 "},{"v":1,"d":"1 "},{"v":2,"d":"2 "},"-",{"v":77,"d":"77.0"},79.3,72.5,{"v":5,"d":"5 "},"-","-","-","-","-","-","-","-","-","-","-",{"v":2,"d":"2 "},{"v":1,"d":"1 "},{"v":2,"d":"2 "},"-",77.6,79.3,{"v":71,"d":"71.0"},{"v":5,"d":"5 "},"-","-","-","-","-","-","-","-",{"v":1,"d":"1 "},"-","-",{"v":1,"d":"1 "},{"v":1,"d":"1 "},{"v":2,"d":"2 "},"-",{"v":2,"d":"2 "},"-","-","-","-","-","-","-","-","-",{"v":1,"d":"1 "},"-",{"v":1,"d":"1 "},"-",{"$nulls":7},{"v":21,"d":"21 "},{"v":13,"d":"13 "},{"v":5,"d":"5 "},{"v":4,"d":"4 "},{"v":4,"d":"4 "},{"v":2,"d":"2 "},{"v":4,"d":"4 "},{"v":2,"d":"2 "},{"v":5,"d":"5 "},{"v":4,"d":"4 "},"-","-","-","-","-",{"v":1,"d":"1 "},"-","-","-","-","-","-","-","-",{"v":5,"d":"5 "},{"v":296,"d":"296 "},{"v":225,"d":"225 "},{"v":41,"d":"41 "},{"v":30,"d":"30 "},12,9,4,2,3,"-",2,1,9,4,1,2,1,2,2,1]
["山梨県","西桂町","西桂町","下暮地",{"v":28,"d":"28 "},{"v":4,"d":"4 "},"-","-",{"v":1,"d":"1 "},{"v":1,"d":"1 "},{"v":3,"d":"3 "},{"v":24,"d":"24 "},{"v":13,"d":"13 "},"-","-","-",{"v":1,"d":"1 "},{"v":2,"d":"2 "},{"v":2,"d":"2 "},{"v":1,"d":"1 "},"-",{"v":1,"d":"1 "},{"v":1,"d":"1 "},{"v":1,"d":"1 "},{"v":1,"d":"1 "},{"v":2,"d":"2 "},"-",{"v":1,"d":"1 "},56.9,57.7,{"v":56,"d":"56.0"},{"v":4,"d":"4 "},"-","-","-","-","-","-","-","-","-",{"v":1,"d":"1 "},{"v":1,"d":"1 "},"-",{"v":2,"d":"2 "},"-","-",{"v":70,"d":"70.0"},{"v":70,"d":"70.0"},"…",{"v":4,"d":"4 "},"-","-","-","-","-","-","-","-","-",{"v":1,"d":"1 "},{"v":1,"d":"1 "},"-",{"v":2,"d":"2 "},"-","-",{"v":70,"d":"70.0"},{"v":70,"d":"70.0"},"…",{"v":4,"d":"4 "},"-","-","-","-","-","-","-","-","-",{"v":1,"d":"1 "},{"v":1,"d":"1 "},"-",{"v":2,"d":"2 "},"-","-",{"v":2,"d":"2 "},"-","-","-","-","-","-","-",{"v":1,"d":"1 "},"-","-",{"v":1,"d":"1 "},"-","-",{"$nulls":7},{"v":16,"d":"16 "},{"v":11,"d":"11 "},{"v":4,"d":"4 "},{"v":7,"d":"7 "},"-",{"v":3,"d":"3 "},"-",{"v":2,"d":"2 "},"-","-","-","-","-","-","-","-","-","-","-","-","-","-","-","-",{"v":4,"d":"4 "},{"v":170,"d":"170 "},{"v":137,"d":"137 "},{"v":33,"d":"33 "},"-",7,7,4,3,"-","-","-","-",9,4,"-",4,"-",3,"-",2]
["山梨県","忍野村","忍野村",null,{"v":348,"d":"348 "},{"v":144,"d":"144 "},{"v":6,"d":"6 "},{"v":6,"d":"6 "},{"v":27,"d":"27 "},{"v":11,"d":"11 "},{"v":111,"d":"111 "},{"v":204,"d":"204 "},{"v":471,"d":"471 "},{"v":12,"d":"12 "},{"v":11,"d":"11 "},{"v":31,"d":"31 "},{"v":20,"d":"20 "},{"v":19,"d":"19 "},{"v":20,"d":"20 "},{"v":33,"d":"33 "},{"v":34,"d":"34 "},{"v":56,"d":"56 "},{"v":56,"d":"56 "},{"v":38,"d":"38 "},{"v":45,"d":"45 "},{"v":52,"d":"52 "},{"v":27,"d":"27 "},{"v":17,"d":"17 "},57.3,55.3,59.7,{"v":197,"d":"197 "},"-","-",{"v":3,"d":"3 "},{"v":1,"d":"1 "},"-",{"v":1,"d":"1 "},{"v":1,"d":"1 "},{"v":4,"d":"4 "},{"v":13,"d":"13 "},{"v":19,"d":"19 "},{"v":24,"d":"24 "},{"v":43,"d":"43 "},{"v":48,"d":"48 "},{"v":26,"d":"26 "},{"v":14,"d":"14 "},71.7,72.8,70.9,{"v":143,"d":"143 "},"-","-",{"v":1,"d":"1 "},"-","-",{"v":1,"d":"1 "},{"v":1,"d":"1 "},"-",{"v":6,"d":"6 "},{"v":16,"d":"16 "},{"v":20,"d":"20 "},{"v":35,"d":"35 "},{"v":39,"d":"39 "},{"v":18,"d":"18 "},{"v":6,"d":"6 "},72.2,71.7,72.8,{"v":144,"d":"144 "},"-","-","-","-",{"v":1,"d":"1 "},{"v":1,"d":"1 "},{"v":5,"d":"5 "},{"v":5,"d":"5 "},{"v":16,"d":"16 "},{"v":29,"d":"29 "},{"v":22,"d":"22 "},{"v":18,"d":"18 "},{"v":30,"d":"30 "},{"v":13,"d":"13 "},{"v":4,"d":"4 "},{"v":107,"d":"107 "},"-","-","-","-",{"v":2,"d":"2 "},{"v":4,"d":"4 "},{"v":11,"d":"11 "},{"v":20,"d":"20 "},{"v":17,"d":"17 "},{"v":17,"d":"17 "},{"v":24,"d":"24 "},{"v":9,"d":"9 "},{"v":3,"d":"3 "},{"$nulls":7},{"v":634,"d":"634 "},{"v":479,"d":"479 "},{"v":143,"d":"143 "},{"v":298,"d":"298 "},{"v":38,"d":"38 "},{"v":51,"d":"51 "},{"v":51,"d":"51 "},{"v":53,"d":"53 "},{"v":60,"d":"60 "},{"v":23,"d":"23 "},"-",{"v":4,"d":"4 "},"-",{"v":28,"d":"28 "},"-","-",{"v":2,"d":"2 "},"-","-","-","-",{"v":2,"d":"2 "},"-",{"v":1,"d":"1 "},{"v":143,"d":"143 "},{"v":9468,"d":"9,468 "},{"v":5024,"d":"5,024 "},{"v":4362,"d":"4,362 "},{"v":82,"d":"82 "},316,266,74,164,28,"-",30,20,318,213,69,134,10,51,21,33]
["山梨県","忍野村","忍野村","内野",{"v":183,"d":"183 "},{"v":75,"d":"75 "},{"v":4,"d":"4 "},{"v":4,"d":"4 "},{"v":13,"d":"13 "},{"v":5,"d":"5 "},{"v":58,"d":"58 "},{"v":108,"d":"108 "},{"v":242,"d":"242 "},{"v":6,"d":"6 "},{"v":5,"d":"5 "},{"v":11,"d":"11 "},{"v":13,"d":"13 "},{"v":10,"d":"10 "},{"v":11,"d":"11 "},{"v":15,"d":"15 "},{"v":19,"d":"19 "},{"v":28,"d":"28 "},{"v":31,"d":"31 "},{"v":18,"d":"18 "},{"v":23,"d":"23 "},{"v":29,"d":"29 "},{"v":14,"d":"14 "},{"v":9,"d":"9 "},57.9,54.9,61.6,{"v":103,"d":"103 "},"-","-",{"v":2,"d":"2 "},{"v":1,"d":"1 "},"-",{"v":1,"d":"1 "},{"v":1,"d":"1 "},{"v":2,"d":"2 "},{"v":8,"d":"8 "},{"v":11,"d":"11 "},{"v":10,"d":"10 "},{"v":21,"d":"21 "},{"v":25,"d":"25 "},{"v":13,"d":"13 "},{"v":8,"d":"8 "},{"v":71,"d":"71.0"},73.2,69.4,{"v":70,"d":"70 "},"-","-","-","-","-",{"v":1,"d":"1 "},{"v":1,"d":"1 "},"-",{"v":4,"d":"4 "},{"v":8,"d":"8 "},{"v":9,"d":"9 "},{"v":16,"d":"16 "},{"v":20,"d":"20 "},{"v":7,"d":"7 "},{"v":4,"d":"4 "},{"v":72,"d":"72.0"},71.9,{"v":72,"d":"72.0"},{"v":75,"d":"75 "},"-","-","-","-",{"v":1,"d":"1 "},{"v":1,"d":"1 "},{"v":3,"d":"3 "},{"v":3,"d":"3 "},{"v":7,"d":"7 "},{"v":17,"d":"17 "},{"v":11,"d":"11 "},{"v":8,"d":"8 "},{"v":16,"d":"16 "},{"v":5,"d":"5 "},{"v":3,"d":"3 "},{"v":54,"d":"54 "},"-","-","-","-",{"v":1,"d":"1 "},{"v":2,"d":"2 "},{"v":5,"d":"5 "},{"v":12,"d":"12 "},{"v":8,"d":"8 "},{"v":7,"d":"7 "},{"v":11,"d":"11 "},{"v":5,"d":"5 "},{"v":3,"d":"3 "},{"$nulls":7},{"v":336,"d":"336 "},{"v":251,"d":"251 "},{"v":70,"d":"70 "},{"v":160,"d":"160 "},{"v":21,"d":"21 "},{"v":29,"d":"29 "},{"v":22,"d":"22 "},{"v":34,"d":"34 "},{"v":33,"d":"33 "},{"v":14,"d":"14 "},"-",{"v":2,"d":"2 "},"-",{"v":12,"d":"12 "},"-","-",{"v":2,"d":"2 "},"-","-","-","-",{"v":2,"d":"2 "},"-",{"v":1,"d":"1 "},{"v":74,"d":"74 "},{"v":4891,"d":"4,891 "},{"v":2686,"d":"2,686 "},{"v":2140,"d":"2,140 "},{"v":65,"d":"65 "},167,141,36,87,18,"-",14,12,169,110,34,73,3,29,8,22]
["山梨県","忍野村","忍野村","忍草",{"v":165,"d":"165 "},{"v":69,"d":"69 "},{"v":2,"d":"2 "},{"v":2,"d":"2 "},{"v":14,"d":"14 "},{"v":6,"d":"6 "},{"v":53,"d":"53 "},{"v":96,"d":"96 "},{"v":229,"d":"229 "},{"v":6,"d":"6 "},{"v":6,"d":"6 "},{"v":20,"d":"20 "},{"v":7,"d":"7 "},{"v":9,"d":"9 "},{"v":9,"d":"9 "},{"v":18,"d":"18 "},{"v":15,"d":"15 "},{"v":28,"d":"28 "},{"v":25,"d":"25 "},{"v":20,"d":"20 "},{"v":22,"d":"22 "},{"v":23,"d":"23 "},{"v":13,"d":"13 "},{"v":8,"d":"8 "},56.7,55.7,57.7,{"v":94,"d":"94 "},"-","-",{"v":1,"d":"1 "},"-","-","-","-",{"v":2,"d":"2 "},{"v":5,"d":"5 "},{"v":8,"d":"8 "},{"v":14,"d":"14 "},{"v":22,"d":"22 "},{"v":23,"d":"23 "},{"v":13,"d":"13 "},{"v":6,"d":"6 "},72.6,72.5,72.7,{"v":73,"d":"73 "},"-","-",{"v":1,"d":"1 "},"-","-","-","-","-",{"v":2,"d":"2 "},{"v":8,"d":"8 "},{"v":11,"d":"11 "},{"v":19,"d":"19 "},{"v":19,"d":"19 "},{"v":11,"d":"11 "},{"v":2,"d":"2 "},72.5,71.5,73.6,{"v":69,"d":"69 "},"-","-","-","-","-","-",{"v":2,"d":"2 "},{"v":2,"d":"2 "},{"v":9,"d":"9 "},{"v":12,"d":"12 "},{"v":11,"d":"11 "},{"v":10,"d":"10 "},{"v":14,"d":"14 "},{"v":8,"d":"8 "},{"v":1,"d":"1 "},{"v":53,"d":"53 "},"-","-","-","-",{"v":1,"d":"1 "},{"v":2,"d":"2 "},{"v":6,"d":"6 "},{"v":8,"d":"8 "},{"v":9,"d":"9 "},{"v":10,"d":"10 "},{"v":13,"d":"13 "},{"v":4,"d":"4 "},"-",{"$nulls":7},{"v":298,"d":"298 "},{"v":228,"d":"228 "},{"v":73,"d":"73 "},{"v":138,"d":"138 "},{"v":17,"d":"17 "},{"v":22,"d":"22 "},{"v":29,"d":"29 "},{"v":19,"d":"19 "},{"v":27,"d":"27 "},{"v":9,"d":"9 "},"-",{"v":2,"d":"2 "},"-",{"v":16,"d":"16 "},"-","-","-","-","-","-","-","-","-","-",{"v":69,"d":"69 "},{"v":4577,"d":"4,577 "},{"v":2338,"d":"2,338 "},{"v":2222,"d":"2,222 "},{"v":17,"d":"17 "},149,125,38,77,10,"-",16,8,149,103,35,61,7,22,13,11]
["山梨県","山中湖村","山中湖村",null,{"v":156,"d":"156 "},{"v":10,"d":"10 "},"-","-","-","-",{"v":10,"d":"10 "},{"v":146,"d":"146 "},{"v":30,"d":"30 "},{"v":2,"d":"2 "},{"v":1,"d":"1 "},"-","-",{"v":1,"d":"1 "},{"v":2,"d":"2 "},{"v":2,"d":"2 "},{"v":6,"d":"6 "},{"v":3,"d":"3 "},"-",{"v":3,"d":"3 "},{"v":1,"d":"1 "},{"v":3,"d":"3 "},{"v":3,"d":"3 "},{"v":3,"d":"3 "},58.9,55.4,64.2,{"v":7,"d":"7 "},"-","-","-","-","-","-",{"v":1,"d":"1 "},{"v":1,"d":"1 "},"-","-","-","-","-",{"v":3,"d":"3 "},{"v":2,"d":"2 "},{"v":73,"d":"73.0"},82.7,65.8,{"v":5,"d":"5 "},"-","-","-","-","-","-","-","-","-","-","-","-","-",{"v":3,"d":"3 "},{"v":2,"d":"2 "},83.2,82.7,{"v":84,"d":"84.0"},{"v":10,"d":"10 "},"-","-","-","-","-","-","-",{"v":2,"d":"2 "},{"v":1,"d":"1 "},"-",{"v":2,"d":"2 "},"-",{"v":2,"d":"2 "},{"v":2,"d":"2 "},{"v":1,"d":"1 "},{"v":7,"d":"7 "},"-","-","-","-","-",{"v":1,"d":"1 "},"-","-",{"v":2,"d":"2 "},"-",{"v":2,"d":"2 "},{"v":2,"d":"2 "},"-",{"$nulls":7},{"v":41,"d":"41 "},{"v":27,"d":"27 "},{"v":5,"d":"5 "},{"v":9,"d":"9 "},{"v":13,"d":"13 "},{"v":7,"d":"7 "},{"v":3,"d":"3 "},{"v":4,"d":"4 "},"-","-","-","-","-","-","-","-","-","-","-","-","-","-","-","-",{"v":10,"d":"10 "},{"v":540,"d":"540 "},{"v":52,"d":"52 "},{"v":486,"d":"486 "},{"v":2,"d":"2 "},22,18,3,6,9,"-",3,1,19,9,2,3,4,7,"-",3]
["山梨県","山中湖村","山中湖村","山中",{"v":60,"d":"60 "},{"v":3,"d":"3 "},"-","-","-","-",{"v":3,"d":"3 "},{"v":57,"d":"57 "},{"v":7,"d":"7 "},"-",{"v":1,"d":"1 "},"-","-","-","-","-",{"v":4,"d":"4 "},{"v":2,"d":"2 "},"-","-","-","-","-","-",49.4,46.8,{"v":53,"d":"53.0"},{"v":1,"d":"1 "},"-","-","-","-","-","-","-",{"v":1,"d":"1 "},"-","-","-","-","-","-","-",{"v":50,"d":"50.0"},"…",{"v":50,"d":"50.0"},"-","-","-","-","-","-","-","-","-","-","-","-","-","-","-","-","…","…","…",{"v":3,"d":"3 "},"-","-","-","-","-","-","-",{"v":2,"d":"2 "},{"v":1,"d":"1 "},"-","-","-","-","-","-",{"v":1,"d":"1 "},"-","-","-","-","-",{"v":1,"d":"1 "},"-","-","-","-","-","-","-",{"$nulls":7},{"v":13,"d":"13 "},{"v":6,"d":"6 "},"-",{"v":4,"d":"4 "},{"v":2,"d":"2 "},{"v":3,"d":"3 "},{"v":1,"d":"1 "},{"v":3,"d":"3 "},"-","-","-","-","-","-","-","-","-","-","-","-","-","-","-","-",{"v":3,"d":"3 "},{"v":268,"d":"268 "},{"v":52,"d":"52 "},{"v":216,"d":"216 "},"-",6,4,"-",2,2,"-",1,1,7,2,"-",2,"-",3,"-",2]
["山梨県","山中湖村","山中湖村","長池",{"v":30,"d":"30 "},{"v":3,"d":"3 "},"-","-","-","-",{"v":3,"d":"3 "},{"v":27,"d":"27 "},{"v":5,"d":"5 "},"-","-","-","-","-","-","-","-","-","-",{"v":1,"d":"1 "},"-","-",{"v":1,"d":"1 "},{"v":3,"d":"3 "},81.4,77.7,{"v":87,"d":"87.0"},{"v":3,"d":"3 "},"-","-","-","-","-","-","-","-","-","-","-","-","-",{"v":1,"d":"1 "},{"v":2,"d":"2 "},{"v":84,"d":"84.0"},83.5,{"v":85,"d":"85.0"},{"v":3,"d":"3 "},"-","-","-","-","-","-","-","-","-","-","-","-","-",{"v":1,"d":"1 "},{"v":2,"d":"2 "},{"v":84,"d":"84.0"},83.5,{"v":85,"d":"85.0"},{"v":3,"d":"3 "},"-","-","-","-","-","-","-","-","-","-",{"v":1,"d":"1 "},"-","-",{"v":1,"d":"1 "},{"v":1,"d":"1 "},{"v":2,"d":"2 "},"-","-","-","-","-","-","-","-",{"v":1,"d":"1 "},"-","-",{"v":1,"d":"1 "},"-",{"$nulls":7},{"v":10,"d":"10 "},{"v":7,"d":"7 "},{"v":3,"d":"3 "},{"v":4,"d":"4 "},"-",{"v":2,"d":"2 "},"-",{"v":1,"d":"1 "},"-","-","-","-","-","-","-","-","-","-","-","-","-","-","-","-",{"v":3,"d":"3 "},{"v":110,"d":"110 "},"-",{"v":110,"d":"110 "},"-",5,5,2,3,"-","-","-","-",5,2,1,1,"-",2,"-",1]
["山梨県","山中湖村","山中湖村","平野",{"v":66,"d":"66 "},{"v":4,"d":"4 "},"-","-","-","-",{"v":4,"d":"4 "},{"v":62,"d":"62 "},{"v":18,"d":"18 "},{"v":2,"d":"2 "},"-","-","-",{"v":1,"d":"1 "},{"v":2,"d":"2 "},{"v":2,"d":"2 "},{"v":2,"d":"2 "},{"v":1,"d":"1 "},"-",{"v":2,"d":"2 "},{"v":1,"d":"1 "},{"v":3,"d":"3 "},{"v":2,"d":"2 "},"-",56.4,52.5,62.4,{"v":3,"d":"3 "},"-","-","-","-","-","-",{"v":1,"d":"1 "},"-","-","-","-","-","-",{"v":2,"d":"2 "},"-",69.7,{"v":81,"d":"81.0"},{"v":64,"d":"64.0"},{"v":2,"d":"2 "},"-","-","-","-","-","-","-","-","-","-","-","-","-",{"v":2,"d":"2 "},"-",{"v":82,"d":"82.0"},{"v":81,"d":"81.0"},{"v":83,"d":"83.0"},{"v":4,"d":"4 "},"-","-","-","-","-","-","-","-","-","-",{"v":1,"d":"1 "},"-",{"v":2,"d":"2 "},{"v":1,"d":"1 "},"-",{"v":4,"d":"4 "},"-","-","-","-","-","-","-","-",{"v":1,"d":"1 "},"-",{"v":2,"d":"2 "},{"v":1,"d":"1 "},"-",{"$nulls":7},{"v":18,"d":"18 "},{"v":14,"d":"14 "},{"v":2,"d":"2 "},{"v":1,"d":"1 "},{"v":11,"d":"11 "},{"v":2,"d":"2 "},{"v":2,"d":"2 "},"-","-","-","-","-","-","-","-","-","-","-","-","-","-","-","-","-",{"v":4,"d":"4 "},{"v":162,"d":"162 "},"-",{"v":160,"d":"160 "},{"v":2,"d":"2 "},11,9,1,1,7,"-",2,"-",7,5,1,"-",4,2,"-","-"]
["山梨県","鳴沢村","鳴沢村",null,{"v":161,"d":"161 "},{"v":89,"d":"89 "},{"v":21,"d":"21 "},{"v":20,"d":"20 "},{"v":21,"d":"21 "},{"v":6,"d":"6 "},{"v":47,"d":"47 "},{"v":72,"d":"72 "},{"v":217,"d":"217 "},{"v":1,"d":"1 "},{"v":3,"d":"3 "},{"v":5,"d":"5 "},{"v":5,"d":"5 "},{"v":7,"d":"7 "},{"v":17,"d":"17 "},{"v":21,"d":"21 "},{"v":15,"d":"15 "},{"v":14,"d":"14 "},{"v":16,"d":"16 "},{"v":36,"d":"36 "},{"v":26,"d":"26 "},{"v":19,"d":"19 "},{"v":26,"d":"26 "},{"v":6,"d":"6 "},61.5,60.2,{"v":63,"d":"63.0"},{"v":145,"d":"145 "},"-",{"v":1,"d":"1 "},"-","-",{"v":2,"d":"2 "},{"v":8,"d":"8 "},{"v":8,"d":"8 "},{"v":3,"d":"3 "},{"v":6,"d":"6 "},{"v":13,"d":"13 "},{"v":30,"d":"30 "},{"v":24,"d":"24 "},{"v":19,"d":"19 "},{"v":26,"d":"26 "},{"v":5,"d":"5 "},68.3,67.6,68.9,{"v":129,"d":"129 "},"-","-","-","-",{"v":2,"d":"2 "},{"v":6,"d":"6 "},{"v":7,"d":"7 "},{"v":2,"d":"2 "},{"v":6,"d":"6 "},{"v":12,"d":"12 "},{"v":30,"d":"30 "},{"v":22,"d":"22 "},{"v":17,"d":"17 "},{"v":21,"d":"21 "},{"v":4,"d":"4 "},68.4,67.6,69.3,{"v":89,"d":"89 "},"-","-","-",{"v":1,"d":"1 "},{"v":1,"d":"1 "},{"v":4,"d":"4 "},{"v":8,"d":"8 "},{"v":5,"d":"5 "},{"v":9,"d":"9 "},{"v":9,"d":"9 "},{"v":16,"d":"16 "},{"v":13,"d":"13 "},{"v":10,"d":"10 "},{"v":12,"d":"12 "},{"v":1,"d":"1 "},{"v":31,"d":"31 "},"-","-","-",{"v":1,"d":"1 "},"-",{"v":2,"d":"2 "},{"v":2,"d":"2 "},{"v":3,"d":"3 "},{"v":7,"d":"7 "},{"v":6,"d":"6 "},{"v":5,"d":"5 "},{"v":4,"d":"4 "},{"v":1,"d":"1 "},{"$nulls":7},{"v":305,"d":"305 "},{"v":238,"d":"238 "},{"v":129,"d":"129 "},{"v":99,"d":"99 "},{"v":10,"d":"10 "},{"v":22,"d":"22 "},{"v":20,"d":"20 "},{"v":25,"d":"25 "},{"v":81,"d":"81 "},"-","-",{"v":4,"d":"4 "},"-",{"v":61,"d":"61 "},"-",{"v":5,"d":"5 "},{"v":8,"d":"8 "},"-",{"v":3,"d":"3 "},"-","-","-","-","-",{"v":88,"d":"88 "},{"v":11198,"d":"11,198 "},{"v":130,"d":"130 "},{"v":10766,"d":"10,766 "},{"v":302,"d":"302 "},148,128,68,56,4,"-",10,10,157,110,61,43,6,22,10,15]
["山梨県","鳴沢村","鳴沢村","鳴沢",{"v":95,"d":"95 "},{"v":59,"d":"59 "},{"v":19,"d":"19 "},{"v":18,"d":"18 "},{"v":14,"d":"14 "},{"v":5,"d":"5 "},{"v":26,"d":"26 "},{"v":36,"d":"36 "},{"v":140,"d":"140 "},{"v":1,"d":"1 "},{"v":3,"d":"3 "},{"v":4,"d":"4 "},{"v":2,"d":"2 "},{"v":7,"d":"7 "},{"v":12,"d":"12 "},{"v":13,"d":"13 "},{"v":5,"d":"5 "},{"v":10,"d":"10 "},{"v":13,"d":"13 "},{"v":24,"d":"24 "},{"v":15,"d":"15 "},{"v":12,"d":"12 "},{"v":15,"d":"15 "},{"v":4,"d":"4 "},60.6,59.2,62.5,{"v":105,"d":"105 "},"-",{"v":1,"d":"1 "},"-","-",{"v":2,"d":"2 "},{"v":8,"d":"8 "},{"v":7,"d":"7 "},{"v":2,"d":"2 "},{"v":6,"d":"6 "},{"v":12,"d":"12 "},{"v":22,"d":"22 "},{"v":15,"d":"15 "},{"v":12,"d":"12 "},{"v":15,"d":"15 "},{"v":3,"d":"3 "},66.1,65.5,66.8,{"v":90,"d":"90 "},"-","-","-","-",{"v":2,"d":"2 "},{"v":6,"d":"6 "},{"v":6,"d":"6 "},{"v":2,"d":"2 "},{"v":6,"d":"6 "},{"v":11,"d":"11 "},{"v":22,"d":"22 "},{"v":13,"d":"13 "},{"v":10,"d":"10 "},{"v":10,"d":"10 "},{"v":2,"d":"2 "},65.8,65.2,66.6,{"v":59,"d":"59 "},"-","-","-","-",{"v":1,"d":"1 "},{"v":4,"d":"4 "},{"v":6,"d":"6 "},{"v":1,"d":"1 "},{"v":7,"d":"7 "},{"v":7,"d":"7 "},{"v":11,"d":"11 "},{"v":7,"d":"7 "},{"v":6,"d":"6 "},{"v":8,"d":"8 "},{"v":1,"d":"1 "},{"v":19,"d":"19 "},"-","-","-",{"v":1,"d":"1 "},"-","-",{"v":1,"d":"1 "},{"v":2,"d":"2 "},{"v":5,"d":"5 "},{"v":3,"d":"3 "},{"v":3,"d":"3 "},{"v":3,"d":"3 "},{"v":1,"d":"1 "},{"$nulls":7},{"v":207,"d":"207 "},{"v":155,"d":"155 "},{"v":90,"d":"90 "},{"v":58,"d":"58 "},{"v":7,"d":"7 "},{"v":17,"d":"17 "},{"v":12,"d":"12 "},{"v":23,"d":"23 "},{"v":58,"d":"58 "},"-","-",{"v":2,"d":"2 "},"-",{"v":42,"d":"42 "},"-",{"v":3,"d":"3 "},{"v":8,"d":"8 "},"-",{"v":3,"d":"3 "},"-","-","-","-","-",{"v":58,"d":"58 "},{"v":9075,"d":"9,075 "},{"v":130,"d":"130 "},{"v":8686,"d":"8,686 "},{"v":259,"d":"259 "},103,87,52,32,3,"-",6,10,104,68,38,26,4,17,6,13]
["山梨県","鳴沢村","鳴沢村","大田和",{"v":66,"d":"66 "},{"v":30,"d":"30 "},{"v":2,"d":"2 "},{"v":2,"d":"2 "},{"v":7,"d":"7 "},{"v":1,"d":"1 "},{"v":21,"d":"21 "},{"v":36,"d":"36 "},{"v":77,"d":"77 "},"-","-",{"v":1,"d":"1 "},{"v":3,"d":"3 "},"-",{"v":5,"d":"5 "},{"v":8,"d":"8 "},{"v":10,"d":"10 "},{"v":4,"d":"4 "},{"v":3,"d":"3 "},{"v":12,"d":"12 "},{"v":11,"d":"11 "},{"v":7,"d":"7 "},{"v":11,"d":"11 "},{"v":2,"d":"2 "},63.1,62.4,63.8,{"v":40,"d":"40 "},"-","-","-","-","-","-",{"v":1,"d":"1 "},{"v":1,"d":"1 "},"-",{"v":1,"d":"1 "},{"v":8,"d":"8 "},{"v":9,"d":"9 "},{"v":7,"d":"7 "},{"v":11,"d":"11 "},{"v":2,"d":"2 "},{"v":74,"d":"74.0"},75.3,{"v":73,"d":"73.0"},{"v":39,"d":"39 "},"-","-","-","-","-","-",{"v":1,"d":"1 "},"-","-",{"v":1,"d":"1 "},{"v":8,"d":"8 "},{"v":9,"d":"9 "},{"v":7,"d":"7 "},{"v":11,"d":"11 "},{"v":2,"d":"2 "},74.5,75.3,73.9,{"v":30,"d":"30 "},"-","-","-",{"v":1,"d":"1 "},"-","-",{"v":2,"d":"2 "},{"v":4,"d":"4 "},{"v":2,"d":"2 "},{"v":2,"d":"2 "},{"v":5,"d":"5 "},{"v":6,"d":"6 "},{"v":4,"d":"4 "},{"v":4,"d":"4 "},"-",{"v":12,"d":"12 "},"-","-","-","-","-",{"v":2,"d":"2 "},{"v":1,"d":"1 "},{"v":1,"d":"1 "},{"v":2,"d":"2 "},{"v":3,"d":"3 "},{"v":2,"d":"2 "},{"v":1,"d":"1 "},"-",{"$nulls":7},{"v":98,"d":"98 "},{"v":83,"d":"83 "},{"v":39,"d":"39 "},{"v":41,"d":"41 "},{"v":3,"d":"3 "},{"v":5,"d":"5 "},{"v":8,"d":"8 "},{"v":2,"d":"2 "},{"v":23,"d":"23 "},"-","-",{"v":2,"d":"2 "},"-",{"v":19,"d":"19 "},"-",{"v":2,"d":"2 "},"-","-","-","-","-","-","-","-",{"v":30,"d":"30 "},{"v":2123,"d":"2,123 "},"-",{"v":2080,"d":"2,080 "},{"v":43,"d":"43 "},45,41,16,24,1,"-",4,"-",53,42,23,17,2,5,4,2]
["山梨県","富士河口湖町",null,null,{"v":522,"d":"522 "},{"v":111,"d":"111 "},{"v":55,"d":"55 "},{"v":54,"d":"54 "},{"v":13,"d":"13 "},{"v":5,"d":"5 "},{"v":43,"d":"43 "},{"v":411,"d":"411 "},{"v":319,"d":"319 "},{"v":5,"d":"5 "},{"v":12,"d":"12 "},{"v":7,"d":"7 "},{"v":11,"d":"11 "},{"v":17,"d":"17 "},{"v":21,"d":"21 "},{"v":21,"d":"21 "},{"v":30,"d":"30 "},{"v":41,"d":"41 "},{"v":33,"d":"33 "},{"v":28,"d":"28 "},{"v":27,"d":"27 "},{"v":36,"d":"36 "},{"v":22,"d":"22 "},{"v":8,"d":"8 "},57.9,56.1,{"v":60,"d":"60.0"},{"v":229,"d":"229 "},{"v":2,"d":"2 "},{"v":2,"d":"2 "},{"v":3,"d":"3 "},{"v":8,"d":"8 "},{"v":5,"d":"5 "},{"v":11,"d":"11 "},{"v":14,"d":"14 "},{"v":18,"d":"18 "},{"v":28,"d":"28 "},{"v":25,"d":"25 "},{"v":24,"d":"24 "},{"v":26,"d":"26 "},{"v":34,"d":"34 "},{"v":21,"d":"21 "},{"v":8,"d":"8 "},62.7,{"v":61,"d":"61.0"},64.6,{"v":201,"d":"201 "},"-",{"v":2,"d":"2 "},{"v":2,"d":"2 "},{"v":8,"d":"8 "},{"v":4,"d":"4 "},{"v":10,"d":"10 "},{"v":14,"d":"14 "},{"v":17,"d":"17 "},{"v":25,"d":"25 "},{"v":21,"d":"21 "},{"v":23,"d":"23 "},{"v":22,"d":"22 "},{"v":29,"d":"29 "},{"v":18,"d":"18 "},{"v":6,"d":"6 "},62.6,61.9,63.6,{"v":111,"d":"111 "},"-","-","-","-","-",{"v":3,"d":"3 "},{"v":6,"d":"6 "},{"v":11,"d":"11 "},{"v":19,"d":"19 "},{"v":14,"d":"14 "},{"v":14,"d":"14 "},{"v":14,"d":"14 "},{"v":16,"d":"16 "},{"v":9,"d":"9 "},{"v":5,"d":"5 "},{"v":61,"d":"61 "},"-","-","-",{"v":1,"d":"1 "},{"v":1,"d":"1 "},{"v":3,"d":"3 "},{"v":9,"d":"9 "},{"v":11,"d":"11 "},{"v":10,"d":"10 "},{"v":5,"d":"5 "},{"v":12,"d":"12 "},{"v":4,"d":"4 "},{"v":5,"d":"5 "},{"$nulls":7},{"v":413,"d":"413 "},{"v":309,"d":"309 "},{"v":201,"d":"201 "},{"v":96,"d":"96 "},{"v":12,"d":"12 "},{"v":43,"d":"43 "},{"v":28,"d":"28 "},{"v":33,"d":"33 "},{"v":98,"d":"98 "},{"v":3,"d":"3 "},"-","-",{"v":2,"d":"2 "},{"v":35,"d":"35 "},"-",{"v":2,"d":"2 "},{"v":14,"d":"14 "},{"v":2,"d":"2 "},{"v":37,"d":"37 "},{"v":3,"d":"3 "},"-","-","-","-",{"v":110,"d":"110 "},{"v":37881,"d":"37,881 "},{"v":1711,"d":"1,711 "},{"v":36062,"d":"36,062 "},{"v":108,"d":"108 "},205,173,115,52,6,2,14,16,208,136,86,44,6,41,14,17]
["山梨県","富士河口湖町","船津村",null,{"v":56,"d":"56 "},{"v":4,"d":"4 "},{"v":3,"d":"3 "},{"v":3,"d":"3 "},"-","-",{"v":1,"d":"1 "},{"v":52,"d":"52 "},{"v":10,"d":"10 "},"-","-","-",{"v":2,"d":"2 "},"-","-","-",{"v":2,"d":"2 "},"-",{"v":2,"d":"2 "},{"v":3,"d":"3 "},{"v":1,"d":"1 "},"-","-","-",57.5,{"v":59,"d":"59.0"},{"v":56,"d":"56.0"},{"v":8,"d":"8 "},"-","-","-","-","-","-","-",{"v":2,"d":"2 "},"-",{"v":2,"d":"2 "},{"v":3,"d":"3 "},{"v":1,"d":"1 "},"-","-","-",63.4,65.3,61.5,{"v":8,"d":"8 "},"-","-","-","-","-","-","-",{"v":2,"d":"2 "},"-",{"v":2,"d":"2 "},{"v":3,"d":"3 "},{"v":1,"d":"1 "},"-","-","-",63.4,65.3,61.5,{"v":4,"d":"4 "},"-","-","-","-","-","-","-",{"v":1,"d":"1 "},"-","-",{"v":2,"d":"2 "},{"v":1,"d":"1 "},"-","-","-",{"v":2,"d":"2 "},"-","-","-","-","-","-","-","-",{"v":2,"d":"2 "},"-","-","-","-",{"$nulls":7},{"v":15,"d":"15 "},{"v":13,"d":"13 "},{"v":8,"d":"8 "},{"v":5,"d":"5 "},"-","-",{"v":1,"d":"1 "},{"v":1,"d":"1 "},{"v":4,"d":"4 "},"-","-","-","-",{"v":2,"d":"2 "},"-","-",{"v":1,"d":"1 "},{"v":1,"d":"1 "},"-","-","-","-","-","-",{"v":4,"d":"4 "},{"v":183,"d":"183 "},{"v":23,"d":"23 "},{"v":160,"d":"160 "},"-",7,6,4,2,"-","-",1,"-",8,7,4,3,"-","-","-",1]
["山梨県","富士河口湖町","船津村","船津",{"v":56,"d":"56 "},{"v":4,"d":"4 "},{"v":3,"d":"3 "},{"v":3,"d":"3 "},"-","-",{"v":1,"d":"1 "},{"v":52,"d":"52 "},{"v":10,"d":"10 "},"-","-","-",{"v":2,"d":"2 "},"-","-","-",{"v":2,"d":"2 "},"-",{"v":2,"d":"2 "},{"v":3,"d":"3 "},{"v":1,"d":"1 "},"-","-","-",57.5,{"v":59,"d":"59.0"},{"v":56,"d":"56.0"},{"v":8,"d":"8 "},"-","-","-","-","-","-","-",{"v":2,"d":"2 "},"-",{"v":2,"d":"2 "},{"v":3,"d":"3 "},{"v":1,"d":"1 "},"-","-","-",63.4,65.3,61.5,{"v":8,"d":"8 "},"-","-","-","-","-","-","-",{"v":2,"d":"2 "},"-",{"v":2,"d":"2 "},{"v":3,"d":"3 "},{"v":1,"d":"1 "},"-","-","-",63.4,65.3,61.5,{"v":4,"d":"4 "},"-","-","-","-","-","-","-",{"v":1,"d":"1 "},"-","-",{"v":2,"d":"2 "},{"v":1,"d":"1 "},"-","-","-",{"v":2,"d":"2 "},"-","-","-","-","-","-","-","-",{"v":2,"d":"2 "},"-","-","-","-",{"$nulls":7},{"v":15,"d":"15 "},{"v":13,"d":"13 "},{"v":8,"d":"8 "},{"v":5,"d":"5 "},"-","-",{"v":1,"d":"1 "},{"v":1,"d":"1 "},{"v":4,"d":"4 "},"-","-","-","-",{"v":2,"d":"2 "},"-","-",{"v":1,"d":"1 "},{"v":1,"d":"1 "},"-","-","-","-","-","-",{"v":4,"d":"4 "},{"v":183,"d":"183 "},{"v":23,"d":"23 "},{"v":160,"d":"160 "},"-",7,6,4,2,"-","-",1,"-",8,7,4,3,"-","-","-",1]
["山梨県","富士河口湖町","船津村","浅川","-","-","-","-","-","-","-","-","-","-","-","-","-","-","-","-","-","-","-","-","-","-","-","-","…","…","…","-","-","-","-","-","-","-","-","-","-","-","-","-","-","-","-","…","…","…","-","-","-","-","-","-","-","-","-","-","-","-","-","-","-","-","…","…","…","-","-","-","-","-","-","-","-","-","-","-","-","-","-","-","-","-","-","-","-","-","-","-","-","-","-","-","-","-","-",{"$nulls":7},"-","-","-","-","-","-","-","-","-","-","-","-","-","-","-","-","-","-","-","-","-","-","-","-","-","-","-","-","-","-","-","-","-","-","-","-","-","-","-","-","-","-","-","-","-"]
["山梨県","富士河口湖町","小立村",null,{"v":71,"d":"71 "},{"v":7,"d":"7 "},{"v":1,"d":"1 "},{"v":1,"d":"1 "},{"v":1,"d":"1 "},{"v":1,"d":"1 "},{"v":5,"d":"5 "},{"v":64,"d":"64 "},{"v":23,"d":"23 "},"-",{"v":2,"d":"2 "},{"v":2,"d":"2 "},{"v":1,"d":"1 "},{"v":3,"d":"3 "},{"v":1,"d":"1 "},"-",{"v":2,"d":"2 "},{"v":4,"d":"4 "},{"v":2,"d":"2 "},"-",{"v":2,"d":"2 "},{"v":2,"d":"2 "},{"v":1,"d":"1 "},{"v":1,"d":"1 "},52.3,50.9,54.4,{"v":10,"d":"10 "},"-","-",{"v":2,"d":"2 "},{"v":1,"d":"1 "},"-","-","-","-",{"v":3,"d":"3 "},"-","-",{"v":2,"d":"2 "},"-",{"v":1,"d":"1 "},{"v":1,"d":"1 "},56.5,56.7,56.3,{"v":9,"d":"9 "},"-","-",{"v":1,"d":"1 "},{"v":1,"d":"1 "},"-","-","-","-",{"v":3,"d":"3 "},"-","-",{"v":2,"d":"2 "},"-",{"v":1,"d":"1 "},{"v":1,"d":"1 "},59.6,56.7,65.3,{"v":7,"d":"7 "},"-","-","-","-","-","-","-","-",{"v":2,"d":"2 "},{"v":1,"d":"1 "},"-",{"v":2,"d":"2 "},{"v":2,"d":"2 "},"-","-",{"v":4,"d":"4 "},"-","-","-","-","-","-",{"v":1,"d":"1 "},{"v":1,"d":"1 "},"-",{"v":1,"d":"1 "},{"v":1,"d":"1 "},"-","-",{"$nulls":7},{"v":28,"d":"28 "},{"v":22,"d":"22 "},{"v":9,"d":"9 "},{"v":9,"d":"9 "},{"v":4,"d":"4 "},{"v":3,"d":"3 "},{"v":1,"d":"1 "},{"v":2,"d":"2 "},{"v":4,"d":"4 "},{"v":1,"d":"1 "},"-","-","-",{"v":2,"d":"2 "},"-","-",{"v":1,"d":"1 "},"-","-","-","-","-","-","-",{"v":7,"d":"7 "},{"v":314,"d":"314 "},{"v":93,"d":"93 "},{"v":211,"d":"211 "},{"v":10,"d":"10 "},16,13,6,5,2,"-",1,2,12,9,3,4,2,3,"-","-"]
["山梨県","富士河口湖町","小立村","小立",{"v":71,"d":"71 "},{"v":7,"d":"7 "},{"v":1,"d":"1 "},{"v":1,"d":"1 "},{"v":1,"d":"1 "},{"v":1,"d":"1 "},{"v":5,"d":"5 "},{"v":64,"d":"64 "},{"v":23,"d":"23 "},"-",{"v":2,"d":"2 "},{"v":2,"d":"2 "},{"v":1,"d":"1 "},{"v":3,"d":"3 "},{"v":1,"d":"1 "},"-",{"v":2,"d":"2 "},{"v":4,"d":"4 "},{"v":2,"d":"2 "},"-",{"v":2,"d":"2 "},{"v":2,"d":"2 "},{"v":1,"d":"1 "},{"v":1,"d":"1 "},52.3,50.9,54.4,{"v":10,"d":"10 "},"-","-",{"v":2,"d":"2 "},{"v":1,"d":"1 "},"-","-","-","-",{"v":3,"d":"3 "},"-","-",{"v":2,"d":"2 "},"-",{"v":1,"d":"1 "},{"v":1,"d":"1 "},56.5,56.7,56.3,{"v":9,"d":"9 "},"-","-",{"v":1,"d":"1 "},{"v":1,"d":"1 "},"-","-","-","-",{"v":3,"d":"3 "},"-","-",{"v":2,"d":"2 "},"-",{"v":1,"d":"1 "},{"v":1,"d":"1 "},59.6,56.7,65.3,{"v":7,"d":"7 "},"-","-","-","-","-","-","-","-",{"v":2,"d":"2 "},{"v":1,"d":"1 "},"-",{"v":2,"d":"2 "},{"v":2,"d":"2 "},"-","-",{"v":4,"d":"4 "},"-","-","-","-","-","-",{"v":1,"d":"1 "},{"v":1,"d":"1 "},"-",{"v":1,"d":"1 "},{"v":1,"d":"1 "},"-","-",{"$nulls":7},{"v":28,"d":"28 "},{"v":22,"d":"22 "},{"v":9,"d":"9 "},{"v":9,"d":"9 "},{"v":4,"d":"4 "},{"v":3,"d":"3 "},{"v":1,"d":"1 "},{"v":2,"d":"2 "},{"v":4,"d":"4 "},{"v":1,"d":"1 "},"-","-","-",{"v":2,"d":"2 "},"-","-",{"v":1,"d":"1 "},"-","-","-","-","-","-","-",{"v":7,"d":"7 "},{"v":314,"d":"314 "},{"v":93,"d":"93 "},{"v":211,"d":"211 "},{"v":10,"d":"10 "},16,13,6,5,2,"-",1,2,12,9,3,4,2,3,"-","-"]
["山梨県","富士河口湖町","大石村",null,{"v":89,"d":"89 "},{"v":22,"d":"22 "},{"v":4,"d":"4 "},{"v":4,"d":"4 "},{"v":7,"d":"7 "},{"v":3,"d":"3 "},{"v":11,"d":"11 "},{"v":67,"d":"67 "},{"v":55,"d":"55 "},{"v":1,"d":"1 "},{"v":1,"d":"1 "},{"v":1,"d":"1 "},"-",{"v":2,"d":"2 "},{"v":2,"d":"2 "},{"v":2,"d":"2 "},{"v":6,"d":"6 "},{"v":4,"d":"4 "},{"v":7,"d":"7 "},{"v":5,"d":"5 "},{"v":9,"d":"9 "},{"v":7,"d":"7 "},{"v":7,"d":"7 "},{"v":1,"d":"1 "},63.4,65.6,61.1,{"v":40,"d":"40 "},"-","-",{"v":1,"d":"1 "},"-",{"v":1,"d":"1 "},{"v":1,"d":"1 "},{"v":1,"d":"1 "},{"v":1,"d":"1 "},{"v":2,"d":"2 "},{"v":5,"d":"5 "},{"v":4,"d":"4 "},{"v":9,"d":"9 "},{"v":7,"d":"7 "},{"v":7,"d":"7 "},{"v":1,"d":"1 "},68.9,69.8,{"v":68,"d":"68.0"},{"v":32,"d":"32 "},"-","-",{"v":1,"d":"1 "},"-","-","-",{"v":1,"d":"1 "},{"v":1,"d":"1 "},{"v":1,"d":"1 "},{"v":4,"d":"4 "},{"v":3,"d":"3 "},{"v":8,"d":"8 "},{"v":5,"d":"5 "},{"v":7,"d":"7 "},{"v":1,"d":"1 "},70.7,71.5,69.4,{"v":22,"d":"22 "},"-","-","-","-","-","-",{"v":1,"d":"1 "},{"v":2,"d":"2 "},{"v":2,"d":"2 "},{"v":4,"d":"4 "},{"v":2,"d":"2 "},{"v":5,"d":"5 "},{"v":2,"d":"2 "},{"v":4,"d":"4 "},"-",{"v":10,"d":"10 "},"-","-","-","-",{"v":1,"d":"1 "},"-","-",{"v":3,"d":"3 "},{"v":2,"d":"2 "},{"v":1,"d":"1 "},{"v":2,"d":"2 "},{"v":1,"d":"1 "},"-",{"$nulls":7},{"v":77,"d":"77 "},{"v":49,"d":"49 "},{"v":32,"d":"32 "},{"v":12,"d":"12 "},{"v":5,"d":"5 "},{"v":16,"d":"16 "},{"v":7,"d":"7 "},{"v":5,"d":"5 "},{"v":21,"d":"21 "},"-","-","-",{"v":2,"d":"2 "},{"v":14,"d":"14 "},"-",{"v":2,"d":"2 "},{"v":2,"d":"2 "},{"v":1,"d":"1 "},"-","-","-","-","-","-",{"v":22,"d":"22 "},{"v":1570,"d":"1,570 "},{"v":410,"d":"410 "},{"v":1072,"d":"1,072 "},{"v":88,"d":"88 "},33,30,20,7,3,"-",1,2,44,19,12,5,2,16,6,3]
["山梨県","富士河口湖町","大石村","大石",{"v":79,"d":"79 "},{"v":19,"d":"19 "},{"v":3,"d":"3 "},{"v":3,"d":"3 "},{"v":6,"d":"6 "},{"v":3,"d":"3 "},{"v":10,"d":"10 "},{"v":60,"d":"60 "},{"v":49,"d":"49 "},{"v":1,"d":"1 "},{"v":1,"d":"1 "},{"v":1,"d":"1 "},"-",{"v":2,"d":"2 "},{"v":2,"d":"2 "},{"v":2,"d":"2 "},{"v":6,"d":"6 "},{"v":2,"d":"2 "},{"v":6,"d":"6 "},{"v":4,"d":"4 "},{"v":8,"d":"8 "},{"v":6,"d":"6 "},{"v":7,"d":"7 "},{"v":1,"d":"1 "},63.2,{"v":66,"d":"66.0"},60.3,{"v":35,"d":"35 "},"-","-",{"v":1,"d":"1 "},"-",{"v":1,"d":"1 "},{"v":1,"d":"1 "},{"v":1,"d":"1 "},{"v":1,"d":"1 "},{"v":1,"d":"1 "},{"v":4,"d":"4 "},{"v":3,"d":"3 "},{"v":8,"d":"8 "},{"v":6,"d":"6 "},{"v":7,"d":"7 "},{"v":1,"d":"1 "},69.3,70.9,67.5,{"v":28,"d":"28 "},"-","-",{"v":1,"d":"1 "},"-","-","-",{"v":1,"d":"1 "},{"v":1,"d":"1 "},"-",{"v":3,"d":"3 "},{"v":2,"d":"2 "},{"v":7,"d":"7 "},{"v":5,"d":"5 "},{"v":7,"d":"7 "},{"v":1,"d":"1 "},71.8,73.1,69.7,{"v":19,"d":"19 "},"-","-","-","-","-","-",{"v":1,"d":"1 "},{"v":2,"d":"2 "},{"v":1,"d":"1 "},{"v":3,"d":"3 "},{"v":2,"d":"2 "},{"v":4,"d":"4 "},{"v":2,"d":"2 "},{"v":4,"d":"4 "},"-",{"v":9,"d":"9 "},"-","-","-","-",{"v":1,"d":"1 "},"-","-",{"v":2,"d":"2 "},{"v":2,"d":"2 "},{"v":1,"d":"1 "},{"v":2,"d":"2 "},{"v":1,"d":"1 "},"-",{"$nulls":7},{"v":67,"d":"67 "},{"v":44,"d":"44 "},{"v":28,"d":"28 "},{"v":11,"d":"11 "},{"v":5,"d":"5 "},{"v":13,"d":"13 "},{"v":7,"d":"7 "},{"v":3,"d":"3 "},{"v":18,"d":"18 "},"-","-","-",{"v":1,"d":"1 "},{"v":13,"d":"13 "},"-",{"v":1,"d":"1 "},{"v":2,"d":"2 "},{"v":1,"d":"1 "},"-","-","-","-","-","-",{"v":19,"d":"19 "},{"v":1072,"d":"1,072 "},{"v":382,"d":"382 "},{"v":652,"d":"652 "},{"v":38,"d":"38 "},28,26,17,6,3,"-",1,1,39,18,11,5,2,13,6,2]
["山梨県","富士河口湖町","大石村","湯口",{"v":10,"d":"10 "},{"v":3,"d":"3 "},{"v":1,"d":"1 "},{"v":1,"d":"1 "},{"v":1,"d":"1 "},"-",{"v":1,"d":"1 "},{"v":7,"d":"7 "},{"v":6,"d":"6 "},"-","-","-","-","-","-","-","-",{"v":2,"d":"2 "},{"v":1,"d":"1 "},{"v":1,"d":"1 "},{"v":1,"d":"1 "},{"v":1,"d":"1 "},"-","-",65.2,62.7,67.7,{"v":5,"d":"5 "},"-","-","-","-","-","-","-","-",{"v":1,"d":"1 "},{"v":1,"d":"1 "},{"v":1,"d":"1 "},{"v":1,"d":"1 "},{"v":1,"d":"1 "},"-","-",66.6,62.7,72.5,{"v":4,"d":"4 "},"-","-","-","-","-","-","-","-",{"v":1,"d":"1 "},{"v":1,"d":"1 "},{"v":1,"d":"1 "},{"v":1,"d":"1 "},"-","-","-",63.5,62.7,{"v":66,"d":"66.0"},{"v":3,"d":"3 "},"-","-","-","-","-","-","-","-",{"v":1,"d":"1 "},{"v":1,"d":"1 "},"-",{"v":1,"d":"1 "},"-","-","-",{"v":1,"d":"1 "},"-","-","-","-","-","-","-",{"v":1,"d":"1 "},"-","-","-","-","-",{"$nulls":7},{"v":10,"d":"10 "},{"v":5,"d":"5 "},{"v":4,"d":"4 "},{"v":1,"d":"1 "},"-",{"v":3,"d":"3 "},"-",{"v":2,"d":"2 "},{"v":3,"d":"3 "},"-","-","-",{"v":1,"d":"1 "},{"v":1,"d":"1 "},"-",{"v":1,"d":"1 "},"-","-","-","-","-","-","-","-",{"v":3,"d":"3 "},{"v":498,"d":"498 "},{"v":28,"d":"28 "},{"v":420,"d":"420 "},{"v":50,"d":"50 "},5,4,3,1,"-","-","-",1,5,1,1,"-","-",3,"-",1]
["山梨県","富士河口湖町","河口村",null,{"v":113,"d":"113 "},{"v":26,"d":"26 "},{"v":4,"d":"4 "},{"v":3,"d":"3 "},{"v":3,"d":"3 "},"-",{"v":19,"d":"19 "},{"v":87,"d":"87 "},{"v":86,"d":"86 "},{"v":1,"d":"1 "},{"v":4,"d":"4 "},{"v":2,"d":"2 "},{"v":1,"d":"1 "},{"v":6,"d":"6 "},{"v":5,"d":"5 "},{"v":7,"d":"7 "},{"v":4,"d":"4 "},{"v":10,"d":"10 "},{"v":7,"d":"7 "},{"v":8,"d":"8 "},{"v":7,"d":"7 "},{"v":14,"d":"14 "},{"v":7,"d":"7 "},{"v":3,"d":"3 "},59.5,57.4,{"v":62,"d":"62.0"},{"v":43,"d":"43 "},"-",{"v":1,"d":"1 "},"-","-",{"v":1,"d":"1 "},"-",{"v":2,"d":"2 "},"-",{"v":1,"d":"1 "},{"v":4,"d":"4 "},{"v":5,"d":"5 "},{"v":6,"d":"6 "},{"v":14,"d":"14 "},{"v":6,"d":"6 "},{"v":3,"d":"3 "},71.3,71.1,71.4,{"v":34,"d":"34 "},"-",{"v":1,"d":"1 "},"-","-",{"v":1,"d":"1 "},"-",{"v":2,"d":"2 "},"-","-",{"v":2,"d":"2 "},{"v":5,"d":"5 "},{"v":3,"d":"3 "},{"v":14,"d":"14 "},{"v":4,"d":"4 "},{"v":2,"d":"2 "},{"v":71,"d":"71.0"},71.7,{"v":70,"d":"70.0"},{"v":26,"d":"26 "},"-","-","-","-","-","-",{"v":1,"d":"1 "},"-",{"v":3,"d":"3 "},{"v":2,"d":"2 "},{"v":4,"d":"4 "},{"v":3,"d":"3 "},{"v":8,"d":"8 "},{"v":3,"d":"3 "},{"v":2,"d":"2 "},{"v":21,"d":"21 "},"-","-","-","-","-","-",{"v":2,"d":"2 "},{"v":2,"d":"2 "},{"v":4,"d":"4 "},{"v":2,"d":"2 "},{"v":7,"d":"7 "},{"v":2,"d":"2 "},{"v":2,"d":"2 "},{"$nulls":7},{"v":102,"d":"102 "},{"v":76,"d":"76 "},{"v":34,"d":"34 "},{"v":40,"d":"40 "},{"v":2,"d":"2 "},{"v":11,"d":"11 "},{"v":8,"d":"8 "},{"v":7,"d":"7 "},{"v":19,"d":"19 "},{"v":2,"d":"2 "},"-","-","-",{"v":16,"d":"16 "},"-","-",{"v":1,"d":"1 "},"-","-","-","-","-","-","-",{"v":26,"d":"26 "},{"v":1894,"d":"1,894 "},{"v":1185,"d":"1,185 "},{"v":699,"d":"699 "},{"v":10,"d":"10 "},54,45,20,24,1,"-",5,4,48,31,14,16,1,11,3,3]
["山梨県","富士河口湖町","河口村","河口",{"v":113,"d":"113 "},{"v":26,"d":"26 "},{"v":4,"d":"4 "},{"v":3,"d":"3 "},{"v":3,"d":"3 "},"-",{"v":19,"d":"19 "},{"v":87,"d":"87 "},{"v":86,"d":"86 "},{"v":1,"d":"1 "},{"v":4,"d":"4 "},{"v":2,"d":"2 "},{"v":1,"d":"1 "},{"v":6,"d":"6 "},{"v":5,"d":"5 "},{"v":7,"d":"7 "},{"v":4,"d":"4 "},{"v":10,"d":"10 "},{"v":7,"d":"7 "},{"v":8,"d":"8 "},{"v":7,"d":"7 "},{"v":14,"d":"14 "},{"v":7,"d":"7 "},{"v":3,"d":"3 "},59.5,57.4,{"v":62,"d":"62.0"},{"v":43,"d":"43 "},"-",{"v":1,"d":"1 "},"-","-",{"v":1,"d":"1 "},"-",{"v":2,"d":"2 "},"-",{"v":1,"d":"1 "},{"v":4,"d":"4 "},{"v":5,"d":"5 "},{"v":6,"d":"6 "},{"v":14,"d":"14 "},{"v":6,"d":"6 "},{"v":3,"d":"3 "},71.3,71.1,71.4,{"v":34,"d":"34 "},"-",{"v":1,"d":"1 "},"-","-",{"v":1,"d":"1 "},"-",{"v":2,"d":"2 "},"-","-",{"v":2,"d":"2 "},{"v":5,"d":"5 "},{"v":3,"d":"3 "},{"v":14,"d":"14 "},{"v":4,"d":"4 "},{"v":2,"d":"2 "},{"v":71,"d":"71.0"},71.7,{"v":70,"d":"70.0"},{"v":26,"d":"26 "},"-","-","-","-","-","-",{"v":1,"d":"1 "},"-",{"v":3,"d":"3 "},{"v":2,"d":"2 "},{"v":4,"d":"4 "},{"v":3,"d":"3 "},{"v":8,"d":"8 "},{"v":3,"d":"3 "},{"v":2,"d":"2 "},{"v":21,"d":"21 "},"-","-","-","-","-","-",{"v":2,"d":"2 "},{"v":2,"d":"2 "},{"v":4,"d":"4 "},{"v":2,"d":"2 "},{"v":7,"d":"7 "},{"v":2,"d":"2 "},{"v":2,"d":"2 "},{"$nulls":7},{"v":102,"d":"102 "},{"v":76,"d":"76 "},{"v":34,"d":"34 "},{"v":40,"d":"40 "},{"v":2,"d":"2 "},{"v":11,"d":"11 "},{"v":8,"d":"8 "},{"v":7,"d":"7 "},{"v":19,"d":"19 "},{"v":2,"d":"2 "},"-","-","-",{"v":16,"d":"16 "},"-","-",{"v":1,"d":"1 "},"-","-","-","-","-","-","-",{"v":26,"d":"26 "},{"v":1894,"d":"1,894 "},{"v":1185,"d":"1,185 "},{"v":699,"d":"699 "},{"v":10,"d":"10 "},54,45,20,24,1,"-",5,4,48,31,14,16,1,11,3,3]
["山梨県","富士河口湖町","勝山村",null,{"v":46,"d":"46 "},{"v":7,"d":"7 "},{"v":3,"d":"3 "},{"v":3,"d":"3 "},{"v":1,"d":"1 "},"-",{"v":3,"d":"3 "},{"v":39,"d":"39 "},{"v":21,"d":"21 "},"-","-","-","-",{"v":1,"d":"1 "},{"v":2,"d":"2 "},{"v":2,"d":"2 "},{"v":1,"d":"1 "},{"v":2,"d":"2 "},{"v":1,"d":"1 "},{"v":1,"d":"1 "},{"v":2,"d":"2 "},{"v":4,"d":"4 "},{"v":5,"d":"5 "},"-",65.6,62.5,68.9,{"v":15,"d":"15 "},"-","-","-","-",{"v":1,"d":"1 "},"-",{"v":1,"d":"1 "},"-",{"v":1,"d":"1 "},"-",{"v":1,"d":"1 "},{"v":2,"d":"2 "},{"v":4,"d":"4 "},{"v":5,"d":"5 "},"-",71.3,70.4,72.1,{"v":14,"d":"14 "},"-","-","-","-",{"v":1,"d":"1 "},"-",{"v":1,"d":"1 "},"-",{"v":1,"d":"1 "},"-",{"v":1,"d":"1 "},{"v":2,"d":"2 "},{"v":3,"d":"3 "},{"v":5,"d":"5 "},"-",71.1,70.4,71.7,{"v":7,"d":"7 "},"-","-","-","-","-","-","-","-",{"v":1,"d":"1 "},{"v":1,"d":"1 "},"-",{"v":1,"d":"1 "},{"v":2,"d":"2 "},{"v":2,"d":"2 "},"-",{"v":4,"d":"4 "},"-","-","-","-","-","-","-",{"v":1,"d":"1 "},"-","-",{"v":2,"d":"2 "},{"v":1,"d":"1 "},"-",{"$nulls":7},{"v":27,"d":"27 "},{"v":23,"d":"23 "},{"v":14,"d":"14 "},{"v":9,"d":"9 "},"-",{"v":3,"d":"3 "},{"v":1,"d":"1 "},"-",{"v":6,"d":"6 "},"-","-","-","-",{"v":1,"d":"1 "},"-","-",{"v":5,"d":"5 "},"-","-","-","-","-","-","-",{"v":6,"d":"6 "},{"v":245,"d":"245 "},"-",{"v":245,"d":"245 "},"-",13,12,7,5,"-","-",1,"-",14,11,7,4,"-",3,"-","-"]
["山梨県","富士河口湖町","勝山村","小海",{"v":12,"d":"12 "},{"v":3,"d":"3 "},"-","-",{"v":1,"d":"1 "},"-",{"v":2,"d":"2 "},{"v":9,"d":"9 "},{"v":9,"d":"9 "},"-","-","-","-","-",{"v":2,"d":"2 "},{"v":1,"d":"1 "},"-","-","-","-",{"v":1,"d":"1 "},{"v":3,"d":"3 "},{"v":2,"d":"2 "},"-",66.8,61.8,76.7,{"v":6,"d":"6 "},"-","-","-","-","-","-","-","-","-","-","-",{"v":1,"d":"1 "},{"v":3,"d":"3 "},{"v":2,"d":"2 "},"-",77.8,{"v":79,"d":"79.0"},76.7,{"v":5,"d":"5 "},"-","-","-","-","-","-","-","-","-","-","-",{"v":1,"d":"1 "},{"v":2,"d":"2 "},{"v":2,"d":"2 "},"-",78.4,{"v":79,"d":"79.0"},77.5,{"v":3,"d":"3 "},"-","-","-","-","-","-","-","-","-","-","-","-",{"v":2,"d":"2 "},{"v":1,"d":"1 "},"-",{"v":2,"d":"2 "},"-","-","-","-","-","-","-","-","-","-",{"v":2,"d":"2 "},"-","-",{"$nulls":7},{"v":12,"d":"12 "},{"v":8,"d":"8 "},{"v":5,"d":"5 "},{"v":3,"d":"3 "},"-",{"v":3,"d":"3 "},{"v":1,"d":"1 "},"-",{"v":3,"d":"3 "},"-","-","-","-",{"v":1,"d":"1 "},"-","-",{"v":2,"d":"2 "},"-","-","-","-","-","-","-",{"v":2,"d":"2 "},{"v":76,"d":"76 "},"-",{"v":76,"d":"76 "},"-",7,6,3,3,"-","-",1,"-",5,2,2,"-","-",3,"-","-"]
["山梨県","富士河口湖町","勝山村","勝山",{"v":34,"d":"34 "},{"v":4,"d":"4 "},{"v":3,"d":"3 "},{"v":3,"d":"3 "},"-","-",{"v":1,"d":"1 "},{"v":30,"d":"30 "},{"v":12,"d":"12 "},"-","-","-","-",{"v":1,"d":"1 "},"-",{"v":1,"d":"1 "},{"v":1,"d":"1 "},{"v":2,"d":"2 "},{"v":1,"d":"1 "},{"v":1,"d":"1 "},{"v":1,"d":"1 "},{"v":1,"d":"1 "},{"v":3,"d":"3 "},"-",64.7,63.4,65.6,{"v":9,"d":"9 "},"-","-","-","-",{"v":1,"d":"1 "},"-",{"v":1,"d":"1 "},"-",{"v":1,"d":"1 "},"-",{"v":1,"d":"1 "},{"v":1,"d":"1 "},{"v":1,"d":"1 "},{"v":3,"d":"3 "},"-",{"v":67,"d":"67.0"},{"v":64,"d":"64.0"},69.4,{"v":9,"d":"9 "},"-","-","-","-",{"v":1,"d":"1 "},"-",{"v":1,"d":"1 "},"-",{"v":1,"d":"1 "},"-",{"v":1,"d":"1 "},{"v":1,"d":"1 "},{"v":1,"d":"1 "},{"v":3,"d":"3 "},"-",{"v":67,"d":"67.0"},{"v":64,"d":"64.0"},69.4,{"v":4,"d":"4 "},"-","-","-","-","-","-","-","-",{"v":1,"d":"1 "},{"v":1,"d":"1 "},"-",{"v":1,"d":"1 "},"-",{"v":1,"d":"1 "},"-",{"v":2,"d":"2 "},"-","-","-","-","-","-","-",{"v":1,"d":"1 "},"-","-","-",{"v":1,"d":"1 "},"-",{"$nulls":7},{"v":15,"d":"15 "},{"v":15,"d":"15 "},{"v":9,"d":"9 "},{"v":6,"d":"6 "},"-","-","-","-",{"v":3,"d":"3 "},"-","-","-","-","-","-","-",{"v":3,"d":"3 "},"-","-","-","-","-","-","-",{"v":4,"d":"4 "},{"v":169,"d":"169 "},"-",{"v":169,"d":"169 "},"-",6,6,4,2,"-","-","-","-",9,9,5,4,"-","-","-","-"]
["山梨県","富士河口湖町","西浜村",null,{"v":35,"d":"35 "},"-","-","-","-","-","-",{"v":35,"d":"35 "},"-","-","-","-","-","-","-","-","-","-","-","-","-","-","-","-","-","-","-","-","-","-","-","-","-","-","-","-","-","-","-","-","-","-","-","-","-","-","-","-","-","-","-","-","-","-","-","-","-","-","-","-","-","-","-","-","-","-","-","-","-","-","-","-","-","-","-","-","-","-","-","-","-","-","-","-","-","-","-","-","-","-","-","-","-","-","-",{"$nulls":7},"-","-","-","-","-","-","-","-","-","-","-","-","-","-","-","-","-","-","-","-","-","-","-","-","-","-","-","-","-","-","-","-","-","-","-","-","-","-","-","-","-","-","-","-","-"]
["山梨県","富士河口湖町","西浜村","長浜",{"v":22,"d":"22 "},"-","-","-","-","-","-",{"v":22,"d":"22 "},"-","-","-","-","-","-","-","-","-","-","-","-","-","-","-","-","…","…","…","-","-","-","-","-","-","-","-","-","-","-","-","-","-","-","-","…","…","…","-","-","-","-","-","-","-","-","-","-","-","-","-","-","-","-","…","…","…","-","-","-","-","-","-","-","-","-","-","-","-","-","-","-","-","-","-","-","-","-","-","-","-","-","-","-","-","-","-",{"$nulls":7},"-","-","-","-","-","-","-","-","-","-","-","-","-","-","-","-","-","-","-","-","-","-","-","-","-","-","-","-","-","-","-","-","-","-","-","-","-","-","-","-","-","-","-","-","-"]
["山梨県","富士河口湖町","西浜村","西湖",{"v":4,"d":"4 "},"-","-","-","-","-","-",{"v":4,"d":"4 "},"-","-","-","-","-","-","-","-","-","-","-","-","-","-","-","-","…","…","…","-","-","-","-","-","-","-","-","-","-","-","-","-","-","-","-","…","…","…","-","-","-","-","-","-","-","-","-","-","-","-","-","-","-","-","…","…","…","-","-","-","-","-","-","-","-","-","-","-","-","-","-","-","-","-","-","-","-","-","-","-","-","-","-","-","-","-","-",{"$nulls":7},"-","-","-","-","-","-","-","-","-","-","-","-","-","-","-","-","-","-","-","-","-","-","-","-","-","-","-","-","-","-","-","-","-","-","-","-","-","-","-","-","-","-","-","-","-"]
["山梨県","富士河口湖町","西浜村","根場",{"v":9,"d":"9 "},"-","-","-","-","-","-",{"v":9,"d":"9 "},"-","-","-","-","-","-","-","-","-","-","-","-","-","-","-","-","…","…","…","-","-","-","-","-","-","-","-","-","-","-","-","-","-","-","-","…","…","…","-","-","-","-","-","-","-","-","-","-","-","-","-","-","-","-","…","…","…","-","-","-","-","-","-","-","-","-","-","-","-","-","-","-","-","-","-","-","-","-","-","-","-","-","-","-","-","-","-",{"$nulls":7},"-","-","-","-","-","-","-","-","-","-","-","-","-","-","-","-","-","-","-","-","-","-","-","-","-","-","-","-","-","-","-","-","-","-","-","-","-","-","-","-","-","-","-","-","-"]
["山梨県","富士河口湖町","大嵐村",null,{"v":13,"d":"13 "},{"v":3,"d":"3 "},{"v":1,"d":"1 "},{"v":1,"d":"1 "},"-","-",{"v":2,"d":"2 "},{"v":10,"d":"10 "},{"v":8,"d":"8 "},"-","-","-",{"v":1,"d":"1 "},{"v":1,"d":"1 "},"-","-","-","-",{"v":1,"d":"1 "},{"v":1,"d":"1 "},"-",{"v":4,"d":"4 "},"-","-",63.1,{"v":58,"d":"58.0"},71.7,{"v":7,"d":"7 "},"-","-","-",{"v":1,"d":"1 "},"-","-","-","-","-",{"v":1,"d":"1 "},{"v":1,"d":"1 "},"-",{"v":4,"d":"4 "},"-","-",67.1,63.8,71.7,{"v":7,"d":"7 "},"-","-","-",{"v":1,"d":"1 "},"-","-","-","-","-",{"v":1,"d":"1 "},{"v":1,"d":"1 "},"-",{"v":4,"d":"4 "},"-","-",67.1,63.8,71.7,{"v":3,"d":"3 "},"-","-","-","-","-","-","-","-","-","-",{"v":1,"d":"1 "},"-",{"v":2,"d":"2 "},"-","-","-","-","-","-","-","-","-","-","-","-","-","-","-","-",{"$nulls":7},{"v":10,"d":"10 "},{"v":9,"d":"9 "},{"v":7,"d":"7 "},{"v":2,"d":"2 "},"-","-","-",{"v":1,"d":"1 "},{"v":3,"d":"3 "},"-","-","-","-","-","-","-",{"v":3,"d":"3 "},"-","-","-","-","-","-","-",{"v":3,"d":"3 "},{"v":199,"d":"199 "},"-",{"v":199,"d":"199 "},"-",5,5,4,1,"-","-","-","-",5,4,3,1,"-","-","-",1]
["山梨県","富士河口湖町","大嵐村","大嵐",{"v":13,"d":"13 "},{"v":3,"d":"3 "},{"v":1,"d":"1 "},{"v":1,"d":"1 "},"-","-",{"v":2,"d":"2 "},{"v":10,"d":"10 "},{"v":8,"d":"8 "},"-","-","-",{"v":1,"d":"1 "},{"v":1,"d":"1 "},"-","-","-","-",{"v":1,"d":"1 "},{"v":1,"d":"1 "},"-",{"v":4,"d":"4 "},"-","-",63.1,{"v":58,"d":"58.0"},71.7,{"v":7,"d":"7 "},"-","-","-",{"v":1,"d":"1 "},"-","-","-","-","-",{"v":1,"d":"1 "},{"v":1,"d":"1 "},"-",{"v":4,"d":"4 "},"-","-",67.1,63.8,71.7,{"v":7,"d":"7 "},"-","-","-",{"v":1,"d":"1 "},"-","-","-","-","-",{"v":1,"d":"1 "},{"v":1,"d":"1 "},"-",{"v":4,"d":"4 "},"-","-",67.1,63.8,71.7,{"v":3,"d":"3 "},"-","-","-","-","-","-","-","-","-","-",{"v":1,"d":"1 "},"-",{"v":2,"d":"2 "},"-","-","-","-","-","-","-","-","-","-","-","-","-","-","-","-",{"$nulls":7},{"v":10,"d":"10 "},{"v":9,"d":"9 "},{"v":7,"d":"7 "},{"v":2,"d":"2 "},"-","-","-",{"v":1,"d":"1 "},{"v":3,"d":"3 "},"-","-","-","-","-","-","-",{"v":3,"d":"3 "},"-","-","-","-","-","-","-",{"v":3,"d":"3 "},{"v":199,"d":"199 "},"-",{"v":199,"d":"199 "},"-",5,5,4,1,"-","-","-","-",5,4,3,1,"-","-","-",1]
["山梨県","富士河口湖町","上九一色村2-2",null,{"v":99,"d":"99 "},{"v":42,"d":"42 "},{"v":39,"d":"39 "},{"v":39,"d":"39 "},{"v":1,"d":"1 "},{"v":1,"d":"1 "},{"v":2,"d":"2 "},{"v":57,"d":"57 "},{"v":116,"d":"116 "},{"v":3,"d":"3 "},{"v":5,"d":"5 "},{"v":2,"d":"2 "},{"v":6,"d":"6 "},{"v":4,"d":"4 "},{"v":11,"d":"11 "},{"v":10,"d":"10 "},{"v":15,"d":"15 "},{"v":21,"d":"21 "},{"v":13,"d":"13 "},{"v":10,"d":"10 "},{"v":6,"d":"6 "},{"v":5,"d":"5 "},{"v":2,"d":"2 "},{"v":3,"d":"3 "},53.5,50.7,{"v":57,"d":"57.0"},{"v":106,"d":"106 "},{"v":2,"d":"2 "},{"v":1,"d":"1 "},"-",{"v":6,"d":"6 "},{"v":2,"d":"2 "},{"v":10,"d":"10 "},{"v":10,"d":"10 "},{"v":15,"d":"15 "},{"v":21,"d":"21 "},{"v":13,"d":"13 "},{"v":10,"d":"10 "},{"v":6,"d":"6 "},{"v":5,"d":"5 "},{"v":2,"d":"2 "},{"v":3,"d":"3 "},55.9,{"v":53,"d":"53.0"},59.5,{"v":97,"d":"97 "},"-",{"v":1,"d":"1 "},"-",{"v":6,"d":"6 "},{"v":2,"d":"2 "},{"v":10,"d":"10 "},{"v":10,"d":"10 "},{"v":14,"d":"14 "},{"v":20,"d":"20 "},{"v":12,"d":"12 "},{"v":10,"d":"10 "},{"v":6,"d":"6 "},{"v":3,"d":"3 "},{"v":1,"d":"1 "},{"v":2,"d":"2 "},55.7,53.8,{"v":58,"d":"58.0"},{"v":42,"d":"42 "},"-","-","-","-","-",{"v":3,"d":"3 "},{"v":4,"d":"4 "},{"v":8,"d":"8 "},{"v":11,"d":"11 "},{"v":6,"d":"6 "},{"v":5,"d":"5 "},{"v":2,"d":"2 "},"-","-",{"v":3,"d":"3 "},{"v":20,"d":"20 "},"-","-","-",{"v":1,"d":"1 "},"-",{"v":3,"d":"3 "},{"v":6,"d":"6 "},{"v":4,"d":"4 "},{"v":2,"d":"2 "},{"v":1,"d":"1 "},"-","-",{"v":3,"d":"3 "},{"$nulls":7},{"v":154,"d":"154 "},{"v":117,"d":"117 "},{"v":97,"d":"97 "},{"v":19,"d":"19 "},{"v":1,"d":"1 "},{"v":10,"d":"10 "},{"v":10,"d":"10 "},{"v":17,"d":"17 "},{"v":41,"d":"41 "},"-","-","-","-","-","-","-",{"v":1,"d":"1 "},"-",{"v":37,"d":"37 "},{"v":3,"d":"3 "},"-","-","-","-",{"v":42,"d":"42 "},{"v":33476,"d":"33,476 "},"-",{"v":33476,"d":"33,476 "},"-",77,62,54,8,"-",2,5,8,77,55,43,11,1,8,5,9]
["山梨県","富士河口湖町","上九一色村2-2","精進",{"v":3,"d":"3 "},"-","-","-","-","-","-",{"v":3,"d":"3 "},"-","-","-","-","-","-","-","-","-","-","-","-","-","-","-","-","…","…","…","-","-","-","-","-","-","-","-","-","-","-","-","-","-","-","-","…","…","…","-","-","-","-","-","-","-","-","-","-","-","-","-","-","-","-","…","…","…","-","-","-","-","-","-","-","-","-","-","-","-","-","-","-","-","-","-","-","-","-","-","-","-","-","-","-","-","-","-",{"$nulls":7},"-","-","-","-","-","-","-","-","-","-","-","-","-","-","-","-","-","-","-","-","-","-","-","-","-","-","-","-","-","-","-","-","-","-","-","-","-","-","-","-","-","-","-","-","-"]
["山梨県","富士河口湖町","上九一色村2-2","本栖",{"v":17,"d":"17 "},"-","-","-","-","-","-",{"v":17,"d":"17 "},"-","-","-","-","-","-","-","-","-","-","-","-","-","-","-","-","…","…","…","-","-","-","-","-","-","-","-","-","-","-","-","-","-","-","-","…","…","…","-","-","-","-","-","-","-","-","-","-","-","-","-","-","-","-","…","…","…","-","-","-","-","-","-","-","-","-","-","-","-","-","-","-","-","-","-","-","-","-","-","-","-","-","-","-","-","-","-",{"$nulls":7},"-","-","-","-","-","-","-","-","-","-","-","-","-","-","-","-","-","-","-","-","-","-","-","-","-","-","-","-","-","-","-","-","-","-","-","-","-","-","-","-","-","-","-","-","-"]
["山梨県","富士河口湖町","上九一色村2-2","富士ケ嶺",{"v":79,"d":"79 "},{"v":42,"d":"42 "},{"v":39,"d":"39 "},{"v":39,"d":"39 "},{"v":1,"d":"1 "},{"v":1,"d":"1 "},{"v":2,"d":"2 "},{"v":37,"d":"37 "},{"v":116,"d":"116 "},{"v":3,"d":"3 "},{"v":5,"d":"5 "},{"v":2,"d":"2 "},{"v":6,"d":"6 "},{"v":4,"d":"4 "},{"v":11,"d":"11 "},{"v":10,"d":"10 "},{"v":15,"d":"15 "},{"v":21,"d":"21 "},{"v":13,"d":"13 "},{"v":10,"d":"10 "},{"v":6,"d":"6 "},{"v":5,"d":"5 "},{"v":2,"d":"2 "},{"v":3,"d":"3 "},53.5,50.7,{"v":57,"d":"57.0"},{"v":106,"d":"106 "},{"v":2,"d":"2 "},{"v":1,"d":"1 "},"-",{"v":6,"d":"6 "},{"v":2,"d":"2 "},{"v":10,"d":"10 "},{"v":10,"d":"10 "},{"v":15,"d":"15 "},{"v":21,"d":"21 "},{"v":13,"d":"13 "},{"v":10,"d":"10 "},{"v":6,"d":"6 "},{"v":5,"d":"5 "},{"v":2,"d":"2 "},{"v":3,"d":"3 "},55.9,{"v":53,"d":"53.0"},59.5,{"v":97,"d":"97 "},"-",{"v":1,"d":"1 "},"-",{"v":6,"d":"6 "},{"v":2,"d":"2 "},{"v":10,"d":"10 "},{"v":10,"d":"10 "},{"v":14,"d":"14 "},{"v":20,"d":"20 "},{"v":12,"d":"12 "},{"v":10,"d":"10 "},{"v":6,"d":"6 "},{"v":3,"d":"3 "},{"v":1,"d":"1 "},{"v":2,"d":"2 "},55.7,53.8,{"v":58,"d":"58.0"},{"v":42,"d":"42 "},"-","-","-","-","-",{"v":3,"d":"3 "},{"v":4,"d":"4 "},{"v":8,"d":"8 "},{"v":11,"d":"11 "},{"v":6,"d":"6 "},{"v":5,"d":"5 "},{"v":2,"d":"2 "},"-","-",{"v":3,"d":"3 "},{"v":20,"d":"20 "},"-","-","-",{"v":1,"d":"1 "},"-",{"v":3,"d":"3 "},{"v":6,"d":"6 "},{"v":4,"d":"4 "},{"v":2,"d":"2 "},{"v":1,"d":"1 "},"-","-",{"v":3,"d":"3 "},{"$nulls":7},{"v":154,"d":"154 "},{"v":117,"d":"117 "},{"v":97,"d":"97 "},{"v":19,"d":"19 "},{"v":1,"d":"1 "},{"v":10,"d":"10 "},{"v":10,"d":"10 "},{"v":17,"d":"17 "},{"v":41,"d":"41 "},"-","-","-","-","-","-","-",{"v":1,"d":"1 "},"-",{"v":37,"d":"37 "},{"v":3,"d":"3 "},"-","-","-","-",{"v":42,"d":"42 "},{"v":33476,"d":"33,476 "},"-",{"v":33476,"d":"33,476 "},"-",77,62,54,8,"-",2,5,8,77,55,43,11,1,8,5,9]
["山梨県","小菅村","小菅村",null,{"v":98,"d":"98 "},{"v":20,"d":"20 "},{"v":2,"d":"2 "},{"v":2,"d":"2 "},{"v":2,"d":"2 "},{"v":1,"d":"1 "},{"v":16,"d":"16 "},{"v":78,"d":"78 "},{"v":36,"d":"36 "},"-","-","-","-","-","-","-",{"v":2,"d":"2 "},{"v":6,"d":"6 "},{"v":7,"d":"7 "},{"v":7,"d":"7 "},{"v":4,"d":"4 "},{"v":4,"d":"4 "},{"v":3,"d":"3 "},{"v":3,"d":"3 "},68.6,68.6,68.6,{"v":23,"d":"23 "},"-","-","-","-","-","-","-",{"v":2,"d":"2 "},{"v":1,"d":"1 "},{"v":3,"d":"3 "},{"v":6,"d":"6 "},{"v":3,"d":"3 "},{"v":2,"d":"2 "},{"v":3,"d":"3 "},{"v":3,"d":"3 "},71.3,73.4,70.2,{"v":15,"d":"15 "},"-","-","-","-","-","-","-","-",{"v":1,"d":"1 "},{"v":3,"d":"3 "},{"v":4,"d":"4 "},{"v":3,"d":"3 "},"-",{"v":1,"d":"1 "},{"v":3,"d":"3 "},72.2,71.9,72.5,{"v":20,"d":"20 "},"-","-","-","-","-","-","-","-",{"v":3,"d":"3 "},{"v":5,"d":"5 "},{"v":3,"d":"3 "},{"v":2,"d":"2 "},{"v":2,"d":"2 "},{"v":2,"d":"2 "},{"v":3,"d":"3 "},{"v":11,"d":"11 "},"-","-","-","-","-","-",{"v":1,"d":"1 "},{"v":2,"d":"2 "},{"v":3,"d":"3 "},"-",{"v":2,"d":"2 "},{"v":2,"d":"2 "},{"v":1,"d":"1 "},{"$nulls":7},{"v":58,"d":"58 "},{"v":38,"d":"38 "},{"v":15,"d":"15 "},{"v":19,"d":"19 "},{"v":4,"d":"4 "},{"v":9,"d":"9 "},{"v":1,"d":"1 "},{"v":10,"d":"10 "},{"v":7,"d":"7 "},"-","-",{"v":2,"d":"2 "},{"v":1,"d":"1 "},"-","-","-",{"v":1,"d":"1 "},{"v":3,"d":"3 "},"-","-","-","-","-","-",{"v":18,"d":"18 "},{"v":702,"d":"702 "},{"v":103,"d":"103 "},{"v":599,"d":"599 "},"-",28,23,7,12,4,"-",1,4,30,15,8,7,"-",9,"-",6]
["山梨県","小菅村","小菅村","橋立",{"v":24,"d":"24 "},{"v":6,"d":"6 "},"-","-",{"v":2,"d":"2 "},{"v":1,"d":"1 "},{"v":4,"d":"4 "},{"v":18,"d":"18 "},{"v":13,"d":"13 "},"-","-","-","-","-","-","-","-",{"v":4,"d":"4 "},{"v":2,"d":"2 "},{"v":1,"d":"1 "},{"v":2,"d":"2 "},{"v":1,"d":"1 "},{"v":3,"d":"3 "},"-",{"v":68,"d":"68.0"},68.7,67.4,{"v":7,"d":"7 "},"-","-","-","-","-","-","-","-",{"v":1,"d":"1 "},"-",{"v":1,"d":"1 "},{"v":2,"d":"2 "},"-",{"v":3,"d":"3 "},"-",73.1,{"v":77,"d":"77.0"},71.6,{"v":5,"d":"5 "},"-","-","-","-","-","-","-","-",{"v":1,"d":"1 "},"-",{"v":1,"d":"1 "},{"v":2,"d":"2 "},"-",{"v":1,"d":"1 "},"-",69.4,{"v":70,"d":"70.0"},69.3,{"v":6,"d":"6 "},"-","-","-","-","-","-","-","-",{"v":1,"d":"1 "},{"v":2,"d":"2 "},"-",{"v":1,"d":"1 "},{"v":1,"d":"1 "},{"v":1,"d":"1 "},"-",{"v":3,"d":"3 "},"-","-","-","-","-","-","-",{"v":1,"d":"1 "},"-","-",{"v":1,"d":"1 "},{"v":1,"d":"1 "},"-",{"$nulls":7},{"v":18,"d":"18 "},{"v":14,"d":"14 "},{"v":5,"d":"5 "},{"v":8,"d":"8 "},{"v":1,"d":"1 "},{"v":2,"d":"2 "},{"v":1,"d":"1 "},{"v":1,"d":"1 "},{"v":4,"d":"4 "},"-","-",{"v":1,"d":"1 "},{"v":1,"d":"1 "},"-","-","-","-",{"v":2,"d":"2 "},"-","-","-","-","-","-",{"v":6,"d":"6 "},{"v":285,"d":"285 "},{"v":84,"d":"84 "},{"v":201,"d":"201 "},"-",9,7,1,5,1,"-",1,1,9,7,4,3,"-",2,"-","-"]
["山梨県","小菅村","小菅村","川池",{"v":5,"d":"5 "},"-","-","-","-","-","-",{"v":5,"d":"5 "},"-","-","-","-","-","-","-","-","-","-","-","-","-","-","-","-","…","…","…","-","-","-","-","-","-","-","-","-","-","-","-","-","-","-","-","…","…","…","-","-","-","-","-","-","-","-","-","-","-","-","-","-","-","-","…","…","…","-","-","-","-","-","-","-","-","-","-","-","-","-","-","-","-","-","-","-","-","-","-","-","-","-","-","-","-","-","-",{"$nulls":7},"-","-","-","-","-","-","-","-","-","-","-","-","-","-","-","-","-","-","-","-","-","-","-","-","-","-","-","-","-","-","-","-","-","-","-","-","-","-","-","-","-","-","-","-","-"]
["山梨県","小菅村","小菅村","田元",{"v":6,"d":"6 "},{"v":3,"d":"3 "},{"v":1,"d":"1 "},{"v":1,"d":"1 "},"-","-",{"v":2,"d":"2 "},{"v":3,"d":"3 "},{"v":3,"d":"3 "},"-","-","-","-","-","-","-","-","-",{"v":2,"d":"2 "},{"v":1,"d":"1 "},"-","-","-","-",{"v":64,"d":"64.0"},{"v":65,"d":"65.0"},{"v":62,"d":"62.0"},{"v":3,"d":"3 "},"-","-","-","-","-","-","-","-","-",{"v":2,"d":"2 "},{"v":1,"d":"1 "},"-","-","-","-",{"v":64,"d":"64.0"},{"v":65,"d":"65.0"},{"v":62,"d":"62.0"},{"v":3,"d":"3 "},"-","-","-","-","-","-","-","-","-",{"v":2,"d":"2 "},{"v":1,"d":"1 "},"-","-","-","-",{"v":64,"d":"64.0"},{"v":65,"d":"65.0"},{"v":62,"d":"62.0"},{"v":3,"d":"3 "},"-","-","-","-","-","-","-","-","-",{"v":1,"d":"1 "},{"v":1,"d":"1 "},"-","-","-",{"v":1,"d":"1 "},{"v":1,"d":"1 "},"-","-","-","-","-","-","-","-",{"v":1,"d":"1 "},"-","-","-","-",{"$nulls":7},{"v":6,"d":"6 "},{"v":3,"d":"3 "},{"v":3,"d":"3 "},"-","-",{"v":1,"d":"1 "},"-",{"v":2,"d":"2 "},{"v":2,"d":"2 "},"-","-","-","-","-","-","-",{"v":1,"d":"1 "},{"v":1,"d":"1 "},"-","-","-","-","-","-",{"v":1,"d":"1 "},{"v":30,"d":"30 "},"-",{"v":30,"d":"30 "},"-",2,2,2,"-","-","-","-","-",4,1,1,"-","-",1,"-",2]
["山梨県","小菅村","小菅村","東部",{"v":17,"d":"17 "},{"v":1,"d":"1 "},"x","x","x","x","x",{"v":16,"d":"16 "},"x","x","x","x","x","x","x","x","x","x","x","x","x","x","x","x",{"v":85,"d":"85.0"},"…",{"v":85,"d":"85.0"},"x","x","x","x","x","x","x","x","x","x","x","x","x","x","x","x",{"v":85,"d":"85.0"},"…",{"v":85,"d":"85.0"},"x","x","x","x","x","x","x","x","x","x","x","x","x","x","x","x",{"v":85,"d":"85.0"},"…",{"v":85,"d":"85.0"},{"v":1,"d":"1 "},"-","-","-","-","-","-","-","-","-","-","-","-","-","-",{"v":1,"d":"1 "},{"v":1,"d":"1 "},"-","-","-","-","-","-","-","-","-","-","-","-",{"v":1,"d":"1 "},{"$nulls":7},{"v":1,"d":"1 "},{"v":1,"d":"1 "},{"v":1,"d":"1 "},"-","-","-","-","-","-","-","-","-","-","-","-","-","-","-","-","-","-","-","-","-",{"v":1,"d":"1 "},{"v":38,"d":"38 "},{"v":3,"d":"3 "},{"v":35,"d":"35 "},"-","-","-","-","-","-","-","-","-",1,1,1,"-","-","-","-","-"]
["山梨県","小菅村","小菅村","長作",{"v":12,"d":"12 "},{"v":2,"d":"2 "},"x","x","x","x","x",{"v":10,"d":"10 "},"x","x","x","x","x","x","x","x","x","x","x","x","x","x","x","x",66.3,68.5,{"v":64,"d":"64.0"},"x","x","x","x","x","x","x","x","x","x","x","x","x","x","x","x",{"v":70,"d":"70.0"},{"v":74,"d":"74.0"},{"v":66,"d":"66.0"},"x","x","x","x","x","x","x","x","x","x","x","x","x","x","x","x",{"v":74,"d":"74.0"},{"v":74,"d":"74.0"},"…",{"v":2,"d":"2 "},"-","-","-","-","-","-","-","-","-",{"v":1,"d":"1 "},"-",{"v":1,"d":"1 "},"-","-","-",{"v":1,"d":"1 "},"-","-","-","-","-","-","-",{"v":1,"d":"1 "},"-","-","-","-","-",{"$nulls":7},{"v":6,"d":"6 "},{"v":2,"d":"2 "},{"v":1,"d":"1 "},{"v":1,"d":"1 "},"-",{"v":2,"d":"2 "},"-",{"v":2,"d":"2 "},"-","-","-","-","-","-","-","-","-","-","-","-","-","-","-","-",{"v":2,"d":"2 "},{"v":65,"d":"65 "},"-",{"v":65,"d":"65 "},"-",3,2,1,1,"-","-","-",1,3,"-","-","-","-",2,"-",1]
["山梨県","小菅村","小菅村","小永田",{"v":16,"d":"16 "},{"v":4,"d":"4 "},{"v":1,"d":"1 "},{"v":1,"d":"1 "},"-","-",{"v":3,"d":"3 "},{"v":12,"d":"12 "},{"v":8,"d":"8 "},"-","-","-","-","-","-","-",{"v":2,"d":"2 "},{"v":1,"d":"1 "},{"v":1,"d":"1 "},{"v":2,"d":"2 "},{"v":1,"d":"1 "},{"v":1,"d":"1 "},"-","-",64.3,66.8,61.8,{"v":4,"d":"4 "},"-","-","-","-","-","-","-",{"v":2,"d":"2 "},"-",{"v":1,"d":"1 "},{"v":1,"d":"1 "},"-","-","-","-",59.3,{"v":64,"d":"64.0"},57.7,{"v":1,"d":"1 "},"-","-","-","-","-","-","-","-","-",{"v":1,"d":"1 "},"-","-","-","-","-",{"v":64,"d":"64.0"},{"v":64,"d":"64.0"},"…",{"v":4,"d":"4 "},"-","-","-","-","-","-","-","-",{"v":1,"d":"1 "},{"v":1,"d":"1 "},{"v":1,"d":"1 "},"-",{"v":1,"d":"1 "},"-","-",{"v":2,"d":"2 "},"-","-","-","-","-","-","-","-",{"v":1,"d":"1 "},"-",{"v":1,"d":"1 "},"-","-",{"$nulls":7},{"v":12,"d":"12 "},{"v":6,"d":"6 "},{"v":1,"d":"1 "},{"v":3,"d":"3 "},{"v":2,"d":"2 "},{"v":4,"d":"4 "},"-",{"v":2,"d":"2 "},{"v":1,"d":"1 "},"-","-",{"v":1,"d":"1 "},"-","-","-","-","-","-","-","-","-","-","-","-",{"v":4,"d":"4 "},{"v":130,"d":"130 "},"-",{"v":130,"d":"130 "},"-",6,5,1,2,2,"-","-",1,6,1,"-",1,"-",4,"-",1]
["山梨県","小菅村","小菅村","白沢",{"v":6,"d":"6 "},{"v":2,"d":"2 "},"x","x","x","x","x",{"v":4,"d":"4 "},"x","x","x","x","x","x","x","x","x","x","x","x","x","x","x","x",69.3,{"v":55,"d":"55.0"},76.5,"x","x","x","x","x","x","x","x","x","x","x","x","x","x","x","x",76.5,"…",76.5,"x","x","x","x","x","x","x","x","x","x","x","x","x","x","x","x","…","…","…",{"v":2,"d":"2 "},"-","-","-","-","-","-","-","-",{"v":1,"d":"1 "},"-","-","-","-",{"v":1,"d":"1 "},"-",{"v":2,"d":"2 "},"-","-","-","-","-","-",{"v":1,"d":"1 "},"-","-","-","-",{"v":1,"d":"1 "},"-",{"$nulls":7},{"v":8,"d":"8 "},{"v":5,"d":"5 "},"-",{"v":5,"d":"5 "},"-","-","-",{"v":3,"d":"3 "},"-","-","-","-","-","-","-","-","-","-","-","-","-","-","-","-",{"v":2,"d":"2 "},{"v":71,"d":"71 "},{"v":1,"d":"1 "},{"v":70,"d":"70 "},"-",4,3,"-",3,"-","-","-",1,4,2,"-",2,"-","-","-",2]
["山梨県","小菅村","小菅村","中組",{"v":12,"d":"12 "},{"v":2,"d":"2 "},"x","x","x","x","x",{"v":10,"d":"10 "},"x","x","x","x","x","x","x","x","x","x","x","x","x","x","x","x",80.3,82.5,{"v":78,"d":"78.0"},"x","x","x","x","x","x","x","x","x","x","x","x","x","x","x","x",80.3,82.5,{"v":78,"d":"78.0"},"x","x","x","x","x","x","x","x","x","x","x","x","x","x","x","x",80.3,82.5,{"v":78,"d":"78.0"},{"v":2,"d":"2 "},"-","-","-","-","-","-","-","-","-","-",{"v":1,"d":"1 "},"-","-","-",{"v":1,"d":"1 "},{"v":1,"d":"1 "},"-","-","-","-","-","-","-","-",{"v":1,"d":"1 "},"-","-","-","-",{"$nulls":7},{"v":7,"d":"7 "},{"v":7,"d":"7 "},{"v":4,"d":"4 "},{"v":2,"d":"2 "},{"v":1,"d":"1 "},"-","-","-","-","-","-","-","-","-","-","-","-","-","-","-","-","-","-","-",{"v":2,"d":"2 "},{"v":83,"d":"83 "},{"v":15,"d":"15 "},{"v":68,"d":"68 "},"-",4,4,2,1,1,"-","-","-",3,3,2,1,"-","-","-","-"]
["山梨県","丹波山村","丹波山村",null,{"v":87,"d":"87 "},{"v":10,"d":"10 "},{"v":1,"d":"1 "},{"v":1,"d":"1 "},{"v":1,"d":"1 "},{"v":1,"d":"1 "},{"v":8,"d":"8 "},{"v":77,"d":"77 "},{"v":17,"d":"17 "},"-","-","-","-",{"v":1,"d":"1 "},"-",{"v":2,"d":"2 "},{"v":2,"d":"2 "},{"v":2,"d":"2 "},"-",{"v":1,"d":"1 "},{"v":6,"d":"6 "},{"v":1,"d":"1 "},{"v":1,"d":"1 "},{"v":1,"d":"1 "},64.4,60.1,72.3,{"v":12,"d":"12 "},"-","-","-","-",{"v":1,"d":"1 "},"-",{"v":1,"d":"1 "},{"v":1,"d":"1 "},"-","-","-",{"v":6,"d":"6 "},{"v":1,"d":"1 "},{"v":1,"d":"1 "},{"v":1,"d":"1 "},67.8,63.2,72.3,{"v":9,"d":"9 "},"-","-","-","-",{"v":1,"d":"1 "},"-",{"v":1,"d":"1 "},{"v":1,"d":"1 "},"-","-","-",{"v":4,"d":"4 "},{"v":1,"d":"1 "},"-",{"v":1,"d":"1 "},65.7,63.2,70.7,{"v":10,"d":"10 "},"-","-","-","-",{"v":1,"d":"1 "},"-",{"v":1,"d":"1 "},{"v":1,"d":"1 "},{"v":2,"d":"2 "},"-","-",{"v":4,"d":"4 "},{"v":1,"d":"1 "},"-","-",{"v":2,"d":"2 "},"-","-","-","-","-","-","-","-","-",{"v":1,"d":"1 "},{"v":1,"d":"1 "},"-","-",{"$nulls":7},{"v":28,"d":"28 "},{"v":20,"d":"20 "},{"v":9,"d":"9 "},{"v":10,"d":"10 "},{"v":1,"d":"1 "},{"v":7,"d":"7 "},"-",{"v":1,"d":"1 "},{"v":4,"d":"4 "},"-","-","-","-",{"v":4,"d":"4 "},"-","-","-","-","-","-","-","-","-","-",{"v":10,"d":"10 "},{"v":642,"d":"642 "},{"v":265,"d":"265 "},{"v":377,"d":"377 "},"-",15,14,6,8,"-","-","-",1,13,6,3,2,1,7,"-","-"]
["山梨県","丹波山村","丹波山村","奥秋",{"v":15,"d":"15 "},"-","-","-","-","-","-",{"v":15,"d":"15 "},"-","-","-","-","-","-","-","-","-","-","-","-","-","-","-","-","…","…","…","-","-","-","-","-","-","-","-","-","-","-","-","-","-","-","-","…","…","…","-","-","-","-","-","-","-","-","-","-","-","-","-","-","-","-","…","…","…","-","-","-","-","-","-","-","-","-","-","-","-","-","-","-","-","-","-","-","-","-","-","-","-","-","-","-","-","-","-",{"$nulls":7},"-","-","-","-","-","-","-","-","-","-","-","-","-","-","-","-","-","-","-","-","-","-","-","-","-","-","-","-","-","-","-","-","-","-","-","-","-","-","-","-","-","-","-","-","-"]
["山梨県","丹波山村","丹波山村","上組",{"v":7,"d":"7 "},"-","-","-","-","-","-",{"v":7,"d":"7 "},"-","-","-","-","-","-","-","-","-","-","-","-","-","-","-","-","…","…","…","-","-","-","-","-","-","-","-","-","-","-","-","-","-","-","-","…","…","…","-","-","-","-","-","-","-","-","-","-","-","-","-","-","-","-","…","…","…","-","-","-","-","-","-","-","-","-","-","-","-","-","-","-","-","-","-","-","-","-","-","-","-","-","-","-","-","-","-",{"$nulls":7},"-","-","-","-","-","-","-","-","-","-","-","-","-","-","-","-","-","-","-","-","-","-","-","-","-","-","-","-","-","-","-","-","-","-","-","-","-","-","-","-","-","-","-","-","-"]
["山梨県","丹波山村","丹波山村","中組",{"v":11,"d":"11 "},{"v":2,"d":"2 "},"x","x","x","x","x",{"v":9,"d":"9 "},"x","x","x","x","x","x","x","x","x","x","x","x","x","x","x","x",{"v":65,"d":"65.0"},{"v":65,"d":"65.0"},"…","x","x","x","x","x","x","x","x","x","x","x","x","x","x","x","x",{"v":72,"d":"72.0"},{"v":72,"d":"72.0"},"…","x","x","x","x","x","x","x","x","x","x","x","x","x","x","x","x",{"v":72,"d":"72.0"},{"v":72,"d":"72.0"},"…",{"v":2,"d":"2 "},"-","-","-","-","-","-","-","-",{"v":1,"d":"1 "},"-","-",{"v":1,"d":"1 "},"-","-","-","-","-","-","-","-","-","-","-","-","-","-","-","-","-",{"$nulls":7},{"v":4,"d":"4 "},{"v":3,"d":"3 "},{"v":1,"d":"1 "},{"v":2,"d":"2 "},"-",{"v":1,"d":"1 "},"-","-",{"v":1,"d":"1 "},"-","-","-","-",{"v":1,"d":"1 "},"-","-","-","-","-","-","-","-","-","-",{"v":2,"d":"2 "},{"v":100,"d":"100 "},"-",{"v":100,"d":"100 "},"-",3,3,1,2,"-","-","-","-",1,"-","-","-","-",1,"-","-"]
["山梨県","丹波山村","丹波山村","下組",{"v":17,"d":"17 "},"-","-","-","-","-","-",{"v":17,"d":"17 "},"-","-","-","-","-","-","-","-","-","-","-","-","-","-","-","-","…","…","…","-","-","-","-","-","-","-","-","-","-","-","-","-","-","-","-","…","…","…","-","-","-","-","-","-","-","-","-","-","-","-","-","-","-","-","…","…","…","-","-","-","-","-","-","-","-","-","-","-","-","-","-","-","-","-","-","-","-","-","-","-","-","-","-","-","-","-","-",{"$nulls":7},"-","-","-","-","-","-","-","-","-","-","-","-","-","-","-","-","-","-","-","-","-","-","-","-","-","-","-","-","-","-","-","-","-","-","-","-","-","-","-","-","-","-","-","-","-"]
["山梨県","丹波山村","丹波山村","高尾",{"v":9,"d":"9 "},{"v":1,"d":"1 "},"x","x","x","x","x",{"v":8,"d":"8 "},"x","x","x","x","x","x","x","x","x","x","x","x","x","x","x","x",{"v":67,"d":"67.0"},{"v":54,"d":"54.0"},{"v":80,"d":"80.0"},"x","x","x","x","x","x","x","x","x","x","x","x","x","x","x","x",{"v":80,"d":"80.0"},"…",{"v":80,"d":"80.0"},"x","x","x","x","x","x","x","x","x","x","x","x","x","x","x","x","…","…","…",{"v":1,"d":"1 "},"-","-","-","-","-","-","-",{"v":1,"d":"1 "},"-","-","-","-","-","-","-","-","-","-","-","-","-","-","-","-","-","-","-","-","-",{"$nulls":7},{"v":3,"d":"3 "},{"v":1,"d":"1 "},"-",{"v":1,"d":"1 "},"-",{"v":1,"d":"1 "},"-",{"v":1,"d":"1 "},"-","-","-","-","-","-","-","-","-","-","-","-","-","-","-","-",{"v":1,"d":"1 "},{"v":30,"d":"30 "},"-",{"v":30,"d":"30 "},"-",2,1,"-",1,"-","-","-",1,1,"-","-","-","-",1,"-","-"]
["山梨県","丹波山村","丹波山村","押垣外",{"v":8,"d":"8 "},{"v":2,"d":"2 "},"x","x","x","x","x",{"v":6,"d":"6 "},"x","x","x","x","x","x","x","x","x","x","x","x","x","x","x","x",67.8,{"v":59,"d":"59.0"},70.7,"x","x","x","x","x","x","x","x","x","x","x","x","x","x","x","x",70.7,"…",70.7,"x","x","x","x","x","x","x","x","x","x","x","x","x","x","x","x",70.7,"…",70.7,{"v":2,"d":"2 "},"-","-","-","-","-","-","-","-",{"v":1,"d":"1 "},"-","-",{"v":1,"d":"1 "},"-","-","-","-","-","-","-","-","-","-","-","-","-","-","-","-","-",{"$nulls":7},{"v":5,"d":"5 "},{"v":5,"d":"5 "},{"v":3,"d":"3 "},{"v":2,"d":"2 "},"-","-","-","-",{"v":2,"d":"2 "},"-","-","-","-",{"v":2,"d":"2 "},"-","-","-","-","-","-","-","-","-","-",{"v":2,"d":"2 "},{"v":60,"d":"60 "},"-",{"v":60,"d":"60 "},"-",1,1,"-",1,"-","-","-","-",4,4,3,1,"-","-","-","-"]
["山梨県","丹波山村","丹波山村","保之瀬上",{"v":1,"d":"1 "},"-","-","-","-","-","-",{"v":1,"d":"1 "},"-","-","-","-","-","-","-","-","-","-","-","-","-","-","-","-","…","…","…","-","-","-","-","-","-","-","-","-","-","-","-","-","-","-","-","…","…","…","-","-","-","-","-","-","-","-","-","-","-","-","-","-","-","-","…","…","…","-","-","-","-","-","-","-","-","-","-","-","-","-","-","-","-","-","-","-","-","-","-","-","-","-","-","-","-","-","-",{"$nulls":7},"-","-","-","-","-","-","-","-","-","-","-","-","-","-","-","-","-","-","-","-","-","-","-","-","-","-","-","-","-","-","-","-","-","-","-","-","-","-","-","-","-","-","-","-","-"]
["山梨県","丹波山村","丹波山村","保之瀬下",{"v":11,"d":"11 "},{"v":4,"d":"4 "},{"v":1,"d":"1 "},{"v":1,"d":"1 "},"-","-",{"v":3,"d":"3 "},{"v":7,"d":"7 "},{"v":7,"d":"7 "},"-","-","-","-",{"v":1,"d":"1 "},"-",{"v":2,"d":"2 "},"-","-","-","-",{"v":3,"d":"3 "},{"v":1,"d":"1 "},"-","-",60.4,56.2,{"v":71,"d":"71.0"},{"v":6,"d":"6 "},"-","-","-","-",{"v":1,"d":"1 "},"-",{"v":1,"d":"1 "},"-","-","-","-",{"v":3,"d":"3 "},{"v":1,"d":"1 "},"-","-",62.8,58.8,{"v":71,"d":"71.0"},{"v":4,"d":"4 "},"-","-","-","-",{"v":1,"d":"1 "},"-",{"v":1,"d":"1 "},"-","-","-","-",{"v":1,"d":"1 "},{"v":1,"d":"1 "},"-","-",58.8,58.8,"…",{"v":4,"d":"4 "},"-","-","-","-",{"v":1,"d":"1 "},"-",{"v":1,"d":"1 "},"-","-","-","-",{"v":1,"d":"1 "},{"v":1,"d":"1 "},"-","-",{"v":2,"d":"2 "},"-","-","-","-","-","-","-","-","-",{"v":1,"d":"1 "},{"v":1,"d":"1 "},"-","-",{"$nulls":7},{"v":14,"d":"14 "},{"v":10,"d":"10 "},{"v":4,"d":"4 "},{"v":5,"d":"5 "},{"v":1,"d":"1 "},{"v":4,"d":"4 "},"-","-",{"v":1,"d":"1 "},"-","-","-","-",{"v":1,"d":"1 "},"-","-","-","-","-","-","-","-","-","-",{"v":4,"d":"4 "},{"v":422,"d":"422 "},{"v":265,"d":"265 "},{"v":157,"d":"157 "},"-",8,8,4,4,"-","-","-","-",6,2,"-",1,1,4,"-","-"]
["山梨県","丹波山村","丹波山村","所畑",{"v":4,"d":"4 "},"-","-","-","-","-","-",{"v":4,"d":"4 "},"-","-","-","-","-","-","-","-","-","-","-","-","-","-","-","-","…","…","…","-","-","-","-","-","-","-","-","-","-","-","-","-","-","-","-","…","…","…","-","-","-","-","-","-","-","-","-","-","-","-","-","-","-","-","…","…","…","-","-","-","-","-","-","-","-","-","-","-","-","-","-","-","-","-","-","-","-","-","-","-","-","-","-","-","-","-","-",{"$nulls":7},"-","-","-","-","-","-","-","-","-","-","-","-","-","-","-","-","-","-","-","-","-","-","-","-","-","-","-","-","-","-","-","-","-","-","-","-","-","-","-","-","-","-","-","-","-"]
["山梨県","丹波山村","丹波山村","鴨沢","-","-","-","-","-","-","-","-","-","-","-","-","-","-","-","-","-","-","-","-","-","-","-","-","…","…","…","-","-","-","-","-","-","-","-","-","-","-","-","-","-","-","-","…","…","…","-","-","-","-","-","-","-","-","-","-","-","-","-","-","-","-","…","…","…","-","-","-","-","-","-","-","-","-","-","-","-","-","-","-","-","-","-","-","-","-","-","-","-","-","-","-","-","-","-",{"$nulls":7},"-","-","-","-","-","-","-","-","-","-","-","-","-","-","-","-","-","-","-","-","-","-","-","-","-","-","-","-","-","-","-","-","-","-","-","-","-","-","-","-","-","-","-","-","-"]
["山梨県","丹波山村","丹波山村","小袖",{"v":4,"d":"4 "},{"v":1,"d":"1 "},"x","x","x","x","x",{"v":3,"d":"3 "},"x","x","x","x","x","x","x","x","x","x","x","x","x","x","x","x",{"v":72,"d":"72.0"},{"v":72,"d":"72.0"},"…","x","x","x","x","x","x","x","x","x","x","x","x","x","x","x","x",{"v":72,"d":"72.0"},{"v":72,"d":"72.0"},"…","x","x","x","x","x","x","x","x","x","x","x","x","x","x","x","x",{"v":72,"d":"72.0"},{"v":72,"d":"72.0"},"…",{"v":1,"d":"1 "},"-","-","-","-","-","-","-","-","-","-","-",{"v":1,"d":"1 "},"-","-","-","-","-","-","-","-","-","-","-","-","-","-","-","-","-",{"$nulls":7},{"v":2,"d":"2 "},{"v":1,"d":"1 "},{"v":1,"d":"1 "},"-","-",{"v":1,"d":"1 "},"-","-","-","-","-","-","-","-","-","-","-","-","-","-","-","-","-","-",{"v":1,"d":"1 "},{"v":30,"d":"30 "},"-",{"v":30,"d":"30 "},"-",1,1,1,"-","-","-","-","-",1,"-","-","-","-",1,"-","-"]

{"sheet":"2015年","index":3,"n_rows":1917,"n_cols":151,"rows_kept":1917,"hidden":true,"merged":[[0,0,4,0],[0,1,4,1],[0,2,4,2],[0,3,4,3],[0,47,1,49],[0,66,1,68],[0,69,0,84],[1,130,2,130],[1,131,2,131],[1,132,2,132],[1,133,2,133],[1,134,2,134]]}
["都道府県名\n（支庁名）","市区町村名","旧市区町村名","農業集落名","総農家数",{"$nulls":7},"（７）年齢別の農業従事者数（自営農業に従事した世帯員数）男女計",{"$nulls":15},"農業従事者の平均年齢",null,null,"年齢別の農業就業人口（自営農業に主として従事した世帯員数）男女計",{"$nulls":15},"農業就業人口",null,null,"（11）年齢別の基幹的農業従事者数（自営農業に主として従事した世帯員のうち仕事が主の世帯員数）男女計",{"$nulls":15},"基幹的農業従事者\n平均年齢",null,null,"（２）年齢別の経営者数男女計",{"$nulls":15},"ウ後継者がいる経営者",{"$nulls":13},"（４）家族経営構成別農家数",{"$nulls":6},"（６）過去１年間の生活の主な状態別世帯員数",{"$nulls":4},"男女計",null,null,"（４）農産物販売金額１位の部門別農家数",{"$nulls":15},"（１）経営耕地の状況",{"$nulls":4},"（６）過去１年間の生活の主な状態別世帯員数(男)",{"$nulls":7},"（６）過去１年間の生活の主な状態別世帯員数(女)"]
[{"$nulls":5},"販売農家数",{"$nulls":5},"自給的農家数","計","15～19歳","20～24","25～29","30～34","35～39","40～44","45～49","50～54","55～59","60～64","65～69","70～74","75～79","80～84","85歳以上","男女計","男","女","計","15～19歳","20～24","25～29","30～34","35～39","40～44","45～49","50～54","55～59","60～64","65～69","70～74","75～79","80～84","85歳以上",{"$nulls":3},"計","15～19歳","20～24","25～29","30～34","35～39","40～44","45～49","50～54","55～59","60～64","65～69","70～74","75～79","80～84","85歳以上",{"$nulls":3},"計","15～19歳","20～24","25～29","30～34","35～39","40～44","45～49","50～54","55～59","60～64","65～69","70～74","75～79","80～84","85歳以上","計","30歳未満","30～34","35～39","40～44","45～49","50～54","55～59","60～64","65～69","70～74","75～79","80～84","85歳以上",null,"一世代\n家族経営",null,null,"二世代\n家族経営",null,"三世代等\n家族経営",null,"主に仕事",{"$nulls":9},"雑穀・",{"$nulls":12},"経営耕地\nのある\n農家数","経営耕地\n総面積","田","畑（樹園地を除く）","樹園地","計","主に仕事",{"$nulls":3},"主に家事\n・育児","学生","その他","計","主に仕事",{"$nulls":3},"主に家事\n・育児","学生","その他"]
[{"$nulls":6},"主業農家",null,"準主業農家",null,"副業的農家",{"$nulls":36},"男女計の\n平均年齢","男の\n平均年齢","女の\n平均年齢",{"$nulls":16},"男女計","男","女",{"$nulls":30},"計",null,"一人","夫婦",null,"親子",null,"計","小計","自営農業\nが主","勤務が主","農業以外の","主に家事\n・育児","学生","その他","計","稲作","麦類作","いも類","工芸農作物","露地野菜","施設野菜","果樹類","花き・花木","その他の\n作物","酪農","肉用牛","養豚","養鶏","養蚕","その他の\n畜産",{"$nulls":6},"小計","自営農業\nが主","勤務が主","農業以外の\n自営業が主",{"$nulls":4},"小計","自営農業\nが主","勤務が主","農業以外の\n自営業が主"]
[{"$nulls":7},"65歳未満の",null,"65歳未満の",{"$nulls":91},"家族経営","家族経営",null,"家族経営",{"$nulls":5},"自営業が主",{"$nulls":6},"・豆類"]
[{"$nulls":7},"農業専従者がいる",null,"農業専従者がいる"]
["山梨県",{"$nulls":3},{"v":32543,"d":"32,543"},{"v":17020,"d":"17,020"},{"v":3891,"d":"3,891"},{"v":3324,"d":"3,324"},{"v":3133,"d":"3,133"},{"v":1343,"d":"1,343"},{"v":9996,"d":"9,996"},{"v":15523,"d":"15,523"},{"v":40786,"d":"40,786"},461,746,{"v":1029,"d":"1,029"},{"v":1106,"d":"1,106"},{"v":1204,"d":"1,204"},{"v":1778,"d":"1,778"},{"v":2189,"d":"2,189"},{"v":2899,"d":"2,899"},{"v":3874,"d":"3,874"},{"v":5066,"d":"5,066"},{"v":5235,"d":"5,235"},{"v":4963,"d":"4,963"},{"v":4470,"d":"4,470"},{"v":3453,"d":"3,453"},{"v":2313,"d":"2,313"},62.1,61.4,{"v":63,"d":"63.0"},{"v":27736,"d":"27,736"},306,219,169,292,373,555,709,{"v":1034,"d":"1,034"},{"v":1815,"d":"1,815"},{"v":3309,"d":"3,309"},{"v":4401,"d":"4,401"},{"v":4611,"d":"4,611"},{"v":4322,"d":"4,322"},{"v":3374,"d":"3,374"},{"v":2247,"d":"2,247"},{"v":68.2,"d":"      68.2"},{"v":68.4,"d":"      68.4"},{"v":67.9,"d":"      67.9"},{"v":24157,"d":"24,157"},10,42,127,220,279,433,581,875,{"v":1601,"d":"1,601"},{"v":2957,"d":"2,957"},{"v":4034,"d":"4,034"},{"v":4233,"d":"4,233"},{"v":3958,"d":"3,958"},{"v":3009,"d":"3,009"},{"v":1798,"d":"1,798"},69.2,69.2,69.2,{"v":17020,"d":"17,020"},"-",1,14,53,89,232,482,872,{"v":1658,"d":"1,658"},{"v":2535,"d":"2,535"},{"v":2817,"d":"2,817"},{"v":2657,"d":"2,657"},{"v":2531,"d":"2,531"},{"v":1950,"d":"1,950"},{"v":1129,"d":"1,129"},{"v":7787,"d":" 7 787"},"-",{"v":3,"d":"  3"},{"v":8,"d":"  8"},{"v":32,"d":"  32"},{"v":101,"d":"  101"},{"v":259,"d":"  259"},{"v":588,"d":"  588"},{"v":1042,"d":" 1 042"},{"v":1234,"d":" 1 234"},{"v":1308,"d":" 1 308"},{"v":1322,"d":" 1 322"},{"v":1148,"d":" 1 148"},{"v":742,"d":"  742"},{"$nulls":7},{"v":51470,"d":"51,470"},{"v":40581,"d":"40,581"},{"v":24157,"d":"24,157"},{"v":14700,"d":"14,700"},{"v":1724,"d":"1,724"},{"v":3737,"d":"3,737"},{"v":3103,"d":"3,103"},{"v":4049,"d":"4,049"},{"v":15488,"d":"15,488"},{"v":3548,"d":"3,548"},10,109,64,{"v":1070,"d":"1,070"},220,{"v":10180,"d":"10,180"},134,26,60,28,11,19,null,null,{"v":16987,"d":"16,987"},{"v":1307618,"d":"1,307,618"},{"v":383736,"d":"383,736"},{"v":219369,"d":"219,369"},{"v":704513,"d":"704,513"},{"v":25717,"d":"25,717"},{"v":22868,"d":"22,868"},{"v":13456,"d":"13,456"},{"v":8315,"d":"8,315"},{"v":1097,"d":"1,097"},51,{"v":1636,"d":"1,636"},{"v":1162,"d":"1,162"},{"v":25753,"d":"25,753"},{"v":17713,"d":"17,713"},{"v":10701,"d":"10,701"},{"v":6385,"d":"6,385"},627,{"v":3686,"d":"3,686"},{"v":1467,"d":"1,467"},{"v":2887,"d":"2,887"}]
["山梨県","甲府市",null,null,{"v":2088,"d":"2,088"},{"v":1115,"d":"1,115"},274,227,229,100,612,973,{"v":2781,"d":"2,781"},29,54,96,79,77,107,128,180,264,373,350,327,296,257,164,62.2,61.4,{"v":63,"d":"63.0"},{"v":1906,"d":"1,906"},11,14,13,21,26,31,36,64,128,250,305,312,286,252,157,{"v":68.7,"d":"      68.7"},{"v":69.1,"d":"      69.1"},{"v":68.3,"d":"      68.3"},{"v":1673,"d":"1,673"},"-",3,9,16,20,26,30,54,110,221,279,297,260,219,129,69.4,69.6,69.2,{"v":1115,"d":"1,115"},"-","-","-",7,7,15,23,50,104,177,174,182,164,138,74,{"v":506,"d":"  506"},"-","-","-",{"v":4,"d":"  4"},{"v":5,"d":"  5"},{"v":8,"d":"  8"},{"v":46,"d":"  46"},{"v":85,"d":"  85"},{"v":71,"d":"  71"},{"v":85,"d":"  85"},{"v":77,"d":"  77"},{"v":75,"d":"  75"},{"v":50,"d":"  50"},{"$nulls":7},{"v":3396,"d":"3,396"},{"v":2696,"d":"2,696"},{"v":1673,"d":"1,673"},929,94,274,176,250,{"v":1015,"d":"1,015"},120,"-","-","-",231,27,619,9,1,"-",1,3,1,null,null,{"v":1112,"d":"1,112"},{"v":79867,"d":"79,867"},{"v":25230,"d":"25,230"},{"v":15865,"d":"15,865"},{"v":38772,"d":"38,772"},{"v":1681,"d":"1,681"},{"v":1516,"d":"1,516"},910,540,66,7,87,71,{"v":1715,"d":"1,715"},{"v":1180,"d":"1,180"},763,389,28,267,89,179]
["山梨県","甲府市","甲府市",null,582,142,30,24,29,14,83,440,357,6,6,12,9,10,10,17,25,36,46,45,44,30,36,25,62.3,62.7,{"v":62,"d":"62.0"},229,"-","-",1,2,5,2,2,8,16,26,42,38,29,35,23,{"v":70.1,"d":"      70.1"},{"v":70.2,"d":"      70.2"},{"v":70,"d":"      70.0"},196,"-","-",1,1,5,1,1,7,15,22,37,35,24,28,19,{"v":70,"d":"70.0"},70.3,69.6,142,"-","-","-","-",3,"-",5,2,10,20,23,26,17,21,15,{"v":73,"d":"  73"},"-","-","-","-",{"v":1,"d":"  1"},"-",{"v":4,"d":"  4"},{"v":11,"d":"  11"},{"v":8,"d":"  8"},{"v":15,"d":"  15"},{"v":8,"d":"  8"},{"v":13,"d":"  13"},{"v":13,"d":"  13"},{"$nulls":7},422,318,196,108,14,51,25,28,120,26,"-","-","-",11,1,77,3,"-","-","-","-","-",null,null,142,{"v":7396,"d":"7,396"},{"v":2479,"d":"2,479"},899,{"v":4018,"d":"4,018"},198,185,112,62,11,1,7,5,224,133,84,46,3,50,18,23]
["山梨県","甲府市","甲府市","飯田"]
["山梨県","甲府市","甲府市","住吉本町（１）"]
["山梨県","甲府市","甲府市","住吉本町（２）"]
["山梨県","甲府市","甲府市","住吉本町（３）"]
["山梨県","甲府市","甲府市","愛宕"]
["山梨県","甲府市","甲府市","市街地"]
["山梨県","甲府市","甲府市","城北東"]
["山梨県","甲府市","甲府市","城北西"]
["山梨県","甲府市","甲府市","南口北"]
["山梨県","甲府市","甲府市","朝気北"]
["山梨県","甲府市","甲府市","朝気南"]
["山梨県","甲府市","甲府市","南口南"]
["山梨県","甲府市","甲府市","伊勢北中"]
["山梨県","甲府市","甲府市","伊勢南"]
["山梨県","甲府市","甲府市","城西北"]
["山梨県","甲府市","甲府市","緑が丘"]
["山梨県","甲府市","甲府市","岩窪"]
["山梨県","甲府市","甲府市","和田"]
["山梨県","甲府市","甲府市","小松"]
["山梨県","甲府市","甲府市","塚原"]
["山梨県","甲府市","甲府市","下積翠寺"]
["山梨県","甲府市","甲府市","上積翠寺"]
["山梨県","甲府市","甲府市","相川南部"]
["山梨県","甲府市","甲府市","日影"]
["山梨県","甲府市","甲府市","塩部"]
["山梨県","甲府市","甲府市","湯村"]
["山梨県","甲府市","甲府市","千塚"]
["山梨県","甲府市","甲府市","山宮"]
["山梨県","甲府市","甲府市","羽黒"]
["山梨県","甲府市","甲府市","下河原"]
["山梨県","甲府市","甲府市","富竹"]
["山梨県","甲府市","甲府市","徳行"]
["山梨県","甲府市","甲府市","上石田"]
["山梨県","甲府市","甲府市","酒折"]
["山梨県","甲府市","甲府市","西山"]
["山梨県","甲府市","甲府市","東光寺東"]
["山梨県","甲府市","甲府市","善光寺"]
["山梨県","甲府市","甲府市","城東"]
["山梨県","甲府市","甲府市","北原"]
["山梨県","甲府市","甲府市","金竹"]
["山梨県","甲府市","甲府市","長松寺"]
["山梨県","甲府市","甲府市","新田"]
["山梨県","甲府市","甲府市","下飯田"]
["山梨県","甲府市","甲府市","中村"]
["山梨県","甲府市","甲府市","荒川"]
["山梨県","甲府市","甲府市","下石田"]
["山梨県","甲府市","甲府市","上小河原"]
["山梨県","甲府市","甲府市","上条新居"]
["山梨県","甲府市","甲府市","古上条"]
["山梨県","甲府市","甲府市","後屋"]
["山梨県","甲府市","甲府市","高畑"]
["山梨県","甲府市","山城村",null,120,65,16,13,19,7,30,55,156,"-",3,3,8,4,6,8,12,17,24,22,17,13,11,8,61.3,60.2,62.4,108,"-",2,"-",3,2,2,3,5,6,16,22,16,13,11,7,{"v":66.5,"d":"      66.5"},{"v":66.8,"d":"      66.8"},{"v":66.3,"d":"      66.3"},94,"-","-","-",3,2,2,2,5,4,14,20,15,12,11,4,{"v":67,"d":"67.0"},66.3,67.7,65,"-","-","-",1,1,3,2,4,6,12,12,7,7,6,4,{"v":28,"d":"  28"},"-","-","-","-","-",{"v":1,"d":"  1"},{"v":2,"d":"  2"},{"v":4,"d":"  4"},{"v":6,"d":"  6"},{"v":2,"d":"  2"},{"v":4,"d":"  4"},{"v":5,"d":"  5"},{"v":4,"d":"  4"},{"$nulls":7},200,153,94,52,7,19,11,17,62,13,"-","-","-",26,9,13,"-","-","-","-","-",1,null,null,65,{"v":6394,"d":"6,394"},{"v":4269,"d":"4,269"},{"v":1584,"d":"1,584"},541,93,83,48,31,4,"-",5,5,107,70,46,21,3,19,6,12]
["山梨県","甲府市","山城村","上今井"]
["山梨県","甲府市","山城村","小瀬"]
["山梨県","甲府市","山城村","下鍛冶屋"]
["山梨県","甲府市","山城村","落合"]
["山梨県","甲府市","山城村","西油川"]
["山梨県","甲府市","住吉村",null,115,59,7,6,12,5,40,56,146,2,3,8,1,1,5,1,13,23,19,14,25,13,11,7,{"v":62,"d":"62.0"},59.7,64.7,94,1,"-","-","-",1,1,1,4,11,13,10,24,11,11,6,{"v":68.6,"d":"      68.6"},{"v":68.2,"d":"      68.2"},{"v":69,"d":"      69.0"},79,"-","-","-","-","-",1,1,3,9,12,6,23,9,10,5,69.6,69.4,{"v":70,"d":"70.0"},59,"-","-","-","-","-","-","-",5,10,11,4,14,7,5,3,{"v":32,"d":"  32"},"-","-","-","-","-",{"v":1,"d":"  1"},{"v":7,"d":"  7"},{"v":8,"d":"  8"},{"v":2,"d":"  2"},{"v":5,"d":"  5"},{"v":4,"d":"  4"},{"v":2,"d":"  2"},{"v":3,"d":"  3"},{"$nulls":7},178,141,79,59,3,19,10,8,48,21,"-","-","-",11,1,13,2,"-","-","-","-","-",null,null,59,{"v":3442,"d":"3,442"},{"v":2106,"d":"2,106"},732,604,89,81,44,35,2,1,6,1,89,60,35,24,1,18,4,7]
["山梨県","甲府市","住吉村","中小河原"]
["山梨県","甲府市","住吉村","下小河原"]
["山梨県","甲府市","住吉村","上"]
["山梨県","甲府市","住吉村","上増坪"]
["山梨県","甲府市","住吉村","中増坪"]
["山梨県","甲府市","住吉村","下増坪"]
["山梨県","甲府市","朝井村",null,59,54,15,13,11,7,28,5,138,3,3,5,10,4,6,7,6,18,15,19,12,13,9,8,58.8,57.4,60.4,93,1,2,1,3,1,2,1,2,13,12,16,12,12,8,7,{"v":65,"d":"      65.0"},{"v":65.8,"d":"      65.8"},{"v":64.1,"d":"      64.1"},83,"-","-",1,2,1,2,1,1,13,12,14,11,10,8,7,66.8,66.7,67.1,54,"-","-","-",2,"-",2,"-",2,12,7,8,8,6,4,3,{"v":25,"d":"  25"},"-","-","-","-","-","-",{"v":4,"d":"  4"},{"v":4,"d":"  4"},{"v":5,"d":"  5"},{"v":6,"d":"  6"},{"v":2,"d":"  2"},{"v":3,"d":"  3"},{"v":1,"d":"  1"},{"$nulls":7},162,133,83,45,5,12,7,10,47,14,"-","-","-",19,11,2,1,"-","-","-","-","-",null,null,54,{"v":4943,"d":"4,943"},{"v":4108,"d":"4,108"},675,160,81,76,46,26,4,"-",3,2,81,57,37,19,1,12,4,8]
["山梨県","甲府市","朝井村","小曲"]
["山梨県","甲府市","朝井村","下今井"]
["山梨県","甲府市","朝井村","東下条"]
["山梨県","甲府市","朝井村","中"]
["山梨県","甲府市","玉諸村",null,158,125,40,36,31,14,54,33,323,4,5,15,14,9,8,15,13,29,56,42,32,30,23,28,61.9,61.7,62.1,244,4,4,3,4,3,2,7,8,16,43,37,32,30,23,28,{"v":66.9,"d":"      66.9"},{"v":67.1,"d":"      67.1"},{"v":66.8,"d":"      66.8"},206,"-",2,2,4,1,1,6,6,13,37,35,29,26,21,23,68.5,67.9,69.2,125,"-","-","-",2,"-",1,4,3,10,25,26,15,17,10,12,{"v":59,"d":"  59"},"-","-","-","-",{"v":1,"d":"  1"},{"v":1,"d":"  1"},{"v":6,"d":"  6"},{"v":12,"d":"  12"},{"v":9,"d":"  9"},{"v":9,"d":"  9"},{"v":6,"d":"  6"},{"v":6,"d":"  6"},{"v":9,"d":"  9"},{"$nulls":7},380,297,206,83,8,40,17,26,125,"-","-","-","-",1,1,123,"-","-","-","-","-","-",null,null,125,{"v":7681,"d":"7,681"},"-",64,{"v":7617,"d":"7,617"},186,173,113,53,7,1,6,6,194,124,93,30,1,39,11,20]
["山梨県","甲府市","玉諸村","蓬沢"]
["山梨県","甲府市","玉諸村","西高橋"]
["山梨県","甲府市","玉諸村","七沢"]
["山梨県","甲府市","玉諸村","上阿原"]
["山梨県","甲府市","玉諸村","向"]
["山梨県","甲府市","玉諸村","国玉"]
["山梨県","甲府市","玉諸村","里吉"]
["山梨県","甲府市","甲運村",null,198,163,60,52,26,16,77,35,411,3,10,14,10,9,15,28,22,32,57,57,46,53,43,12,62.1,62.5,61.7,304,2,"-",1,2,2,6,13,13,18,47,50,46,51,43,10,{"v":68,"d":"      68.0"},{"v":69.7,"d":"      69.7"},{"v":66.4,"d":"      66.4"},278,"-","-",1,1,2,6,12,13,17,44,47,44,47,36,8,{"v":68,"d":"68.0"},69.6,66.4,163,"-","-","-",1,"-",2,5,7,14,25,31,21,29,22,6,{"v":60,"d":"  60"},"-","-","-",{"v":2,"d":"  2"},{"v":3,"d":"  3"},{"v":1,"d":"  1"},{"v":7,"d":"  7"},{"v":11,"d":"  11"},{"v":8,"d":"  8"},{"v":6,"d":"  6"},{"v":7,"d":"  7"},{"v":12,"d":"  12"},{"v":3,"d":"  3"},{"$nulls":7},471,393,278,104,11,24,22,32,161,"-","-","-","-","-",1,160,"-","-","-","-","-","-",null,null,163,{"v":10392,"d":"10,392"},"-",163,{"v":10229,"d":"10,229"},221,207,144,55,8,"-",9,5,250,186,134,49,3,24,13,27]
["山梨県","甲府市","甲運村","川田"]
["山梨県","甲府市","甲運村","和戸"]
["山梨県","甲府市","甲運村","横根"]
["山梨県","甲府市","甲運村","桜井"]
["山梨県","甲府市","甲運村","横根三ツ石"]
["山梨県","甲府市","千代田村",null,97,39,1,"-",6,2,32,58,92,2,4,1,1,2,6,1,7,8,17,11,5,8,10,9,62.5,62.4,62.6,46,"-","-","-","-","-",1,"-",1,1,6,8,4,7,9,9,{"v":74.3,"d":"      74.3"},{"v":78,"d":"      78.0"},{"v":70.5,"d":"      70.5"},37,"-","-","-","-","-",1,"-","-","-",5,5,4,6,9,7,75.4,77.5,72.4,39,"-","-","-","-","-",2,"-",3,2,8,4,3,3,7,7,{"v":21,"d":"  21"},"-","-","-",{"v":1,"d":"  1"},"-","-",{"v":1,"d":"  1"},{"v":4,"d":"  4"},{"v":2,"d":"  2"},{"v":1,"d":"  1"},{"v":2,"d":"  2"},{"v":4,"d":"  4"},{"v":6,"d":"  6"},{"$nulls":7},112,84,37,42,5,11,8,9,17,15,"-","-","-",1,"-",1,"-","-","-","-","-","-",null,null,39,{"v":2038,"d":"2,038"},{"v":1224,"d":"1,224"},740,74,60,53,22,28,3,"-",6,1,52,31,15,14,2,11,2,8]
["山梨県","甲府市","千代田村","上野"]
["山梨県","甲府市","千代田村","平瀬"]
["山梨県","甲府市","千代田村","下帯那"]
["山梨県","甲府市","千代田村","上帯那"]
["山梨県","甲府市","能泉村",null,5,"-","-","-","-","-","-",5,"-","-","-","-","-","-","-","-","-","-","-","-","-","-","-","-","-","-","-","-","-","-","-","-","-","-","-","-","-","-","-","-","-","-","-","-","-","-","-","-","-","-","-","-","-","-","-","-","-","-","-","-","-","-","-","-","-","-","-","-","-","-","-","-","-","-","-","-","-","-","-","-","-","-","-","-","-","-","-","-","-","-","-","-","-","-","-",{"$nulls":7},"-","-","-","-","-","-","-","-","-","-","-","-","-","-","-","-","-","-","-","-","-","-",null,null,"-","-","-","-","-","-","-","-","-","-","-","-","-","-","-","-","-","-","-","-","-"]
["山梨県","甲府市","能泉村","塔岩，竹日向"]
["山梨県","甲府市","能泉村","高成"]
["山梨県","甲府市","能泉村","上川窪"]
["山梨県","甲府市","能泉村","下川窪"]
["山梨県","甲府市","宮本村",null,3,"-","-","-","-","-","-",3,"-","-","-","-","-","-","-","-","-","-","-","-","-","-","-","-","-","-","-","-","-","-","-","-","-","-","-","-","-","-","-","-","-","-","-","-","-","-","-","-","-","-","-","-","-","-","-","-","-","-","-","-","-","-","-","-","-","-","-","-","-","-","-","-","-","-","-","-","-","-","-","-","-","-","-","-","-","-","-","-","-","-","-","-","-","-","-",{"$nulls":7},"-","-","-","-","-","-","-","-","-","-","-","-","-","-","-","-","-","-","-","-","-","-",null,null,"-","-","-","-","-","-","-","-","-","-","-","-","-","-","-","-","-","-","-","-","-"]
["山梨県","甲府市","宮本村","御岳"]
["山梨県","甲府市","宮本村","高"]
["山梨県","甲府市","宮本村","猪狩"]
["山梨県","甲府市","宮本村","草鹿沢"]
["山梨県","甲府市","宮本村","黒平"]
["山梨県","甲府市","大鎌田村",null,100,42,6,6,7,2,29,58,118,1,3,5,1,6,5,9,10,10,11,13,15,16,9,4,60.6,60.5,60.7,75,"-",1,3,"-",2,1,2,1,6,4,12,14,16,9,4,{"v":67.8,"d":"      67.8"},{"v":67.1,"d":"      67.1"},{"v":68.6,"d":"      68.6"},58,"-","-",1,"-",1,1,2,1,4,2,11,13,14,6,2,69.3,69.3,69.4,42,"-","-","-","-","-","-",1,1,4,4,8,9,8,7,"-",{"v":28,"d":"  28"},"-","-","-","-","-",{"v":1,"d":"  1"},{"v":2,"d":"  2"},{"v":3,"d":"  3"},{"v":5,"d":"  5"},{"v":5,"d":"  5"},{"v":8,"d":"  8"},{"v":4,"d":"  4"},"-",{"$nulls":7},154,107,58,45,4,13,16,18,34,10,"-","-","-",17,2,2,1,"-","-","-",1,"-",null,null,40,{"v":2245,"d":"2,245"},{"v":1770,"d":"1,770"},393,82,75,58,33,22,3,"-",8,9,79,49,25,23,1,13,8,9]
["山梨県","甲府市","大鎌田村","窪中島"]
["山梨県","甲府市","大鎌田村","円満寺"]
["山梨県","甲府市","大鎌田村","二日市場"]
["山梨県","甲府市","大鎌田村","中条"]
["山梨県","甲府市","大鎌田村","関口"]
["山梨県","甲府市","大鎌田村","古市場"]
["山梨県","甲府市","大鎌田村","宮原"]
["山梨県","甲府市","大鎌田村","堀之内"]
["山梨県","甲府市","大鎌田村","高室"]
["山梨県","甲府市","二川村",null,76,50,15,11,6,1,29,26,138,"-",3,7,4,6,13,3,12,11,18,21,14,10,12,4,59.2,56.6,62.1,87,"-","-",1,2,3,4,1,2,6,13,16,14,10,11,4,{"v":66.4,"d":"      66.4"},{"v":64.7,"d":"      64.7"},{"v":68.1,"d":"      68.1"},78,"-","-",1,2,2,3,1,2,5,10,14,14,10,10,4,67.2,{"v":65,"d":"65.0"},69.7,50,"-","-","-","-",1,1,"-",1,6,8,11,9,6,6,1,{"v":37,"d":"  37"},"-","-","-","-","-","-",{"v":6,"d":"  6"},{"v":6,"d":"  6"},{"v":7,"d":"  7"},{"v":7,"d":"  7"},{"v":6,"d":"  6"},{"v":4,"d":"  4"},{"v":1,"d":"  1"},{"$nulls":7},174,140,78,60,2,16,8,10,39,19,"-","-","-",19,1,"-","-","-","-","-","-","-",null,null,50,{"v":4747,"d":"4,747"},{"v":3862,"d":"3,862"},847,38,87,76,42,33,1,"-",5,6,87,64,36,27,1,16,3,4]
["山梨県","甲府市","二川村","西下条"]
["山梨県","甲府市","二川村","大津"]
["山梨県","甲府市","柏村",null,202,145,35,30,30,11,80,57,341,4,3,13,7,7,11,14,21,27,45,38,40,48,39,24,64.3,62.9,66.2,248,2,1,1,2,4,1,"-",8,16,32,34,38,47,38,24,{"v":70.6,"d":"      70.6"},{"v":70.3,"d":"      70.3"},{"v":71,"d":"      71.0"},232,"-",1,1,1,4,1,"-",6,15,31,33,38,46,34,21,{"v":71,"d":"71.0"},70.9,71.2,145,"-","-","-",1,1,1,2,8,6,22,20,26,24,22,12,{"v":59,"d":"  59"},"-","-","-","-","-",{"v":1,"d":"  1"},{"v":1,"d":"  1"},{"v":8,"d":"  8"},{"v":7,"d":"  7"},{"v":11,"d":"  11"},{"v":13,"d":"  13"},{"v":11,"d":"  11"},{"v":7,"d":"  7"},{"$nulls":7},450,369,232,123,14,24,19,38,145,1,"-","-","-",50,"-",92,1,"-","-",1,"-","-",null,null,145,{"v":11921,"d":"11,921"},{"v":2323,"d":"2,323"},{"v":3796,"d":"3,796"},{"v":5802,"d":"5,802"},239,213,133,71,9,"-",14,12,211,156,99,52,5,24,5,26]
["山梨県","甲府市","柏村","下曽根"]
["山梨県","甲府市","柏村","上曽根"]
["山梨県","甲府市","柏村","白井"]
["山梨県","甲府市","右左口村",null,320,227,49,36,51,21,127,93,552,4,11,13,14,19,22,25,39,53,63,67,74,59,54,35,62.9,61.7,64.3,371,1,4,2,3,3,9,6,12,19,37,58,71,57,54,35,{"v":69.8,"d":"      69.8"},{"v":70.2,"d":"      70.2"},{"v":69.5,"d":"      69.5"},325,"-","-",1,2,2,7,4,10,15,31,57,68,53,46,29,70.9,71.3,70.4,227,"-","-","-","-",1,3,4,14,24,34,27,43,38,28,11,{"v":84,"d":"  84"},"-","-","-",{"v":1,"d":"  1"},"-",{"v":2,"d":"  2"},{"v":6,"d":"  6"},{"v":14,"d":"  14"},{"v":12,"d":"  12"},{"v":18,"d":"  18"},{"v":17,"d":"  17"},{"v":11,"d":"  11"},{"v":3,"d":"  3"},{"$nulls":7},684,552,325,206,21,45,33,54,214,1,"-","-","-",73,"-",136,1,1,"-","-",2,"-",null,null,226,{"v":18473,"d":"18,473"},{"v":3030,"d":"3,030"},{"v":5863,"d":"5,863"},{"v":9580,"d":"9,580"},348,307,169,124,14,4,18,19,336,245,156,82,7,41,15,35]
["山梨県","甲府市","右左口村","松本"]
["山梨県","甲府市","右左口村","佐久"]
["山梨県","甲府市","右左口村","金沢"]
["山梨県","甲府市","右左口村","向山"]
["山梨県","甲府市","右左口村","中畑"]
["山梨県","甲府市","右左口村","心経寺"]
["山梨県","甲府市","右左口村","宿"]
["山梨県","甲府市","右左口村","七覚"]
["山梨県","甲府市","右左口村","善藤"]
["山梨県","甲府市","上九一色村2-1",null,53,4,"-","-",1,"-",3,49,9,"-","-","-","-","-","-","-","-","-",2,1,3,3,"-","-",71.3,72.3,70.6,7,"-","-","-","-","-","-","-","-","-",1,"-",3,3,"-","-",{"v":72.7,"d":"      72.7"},{"v":72.3,"d":"      72.3"},{"v":73.3,"d":"      73.3"},7,"-","-","-","-","-","-","-","-","-",1,"-",3,3,"-","-",72.7,72.3,73.3,4,"-","-","-","-","-","-","-","-","-",1,"-",1,2,"-","-","-","-","-","-","-","-","-","-","-","-","-","-","-","-",{"$nulls":7},9,9,7,2,"-","-","-","-",3,"-","-","-","-",3,"-","-","-","-","-","-","-","-",null,null,4,195,59,109,27,4,4,4,"-","-","-","-","-",5,5,3,2,"-","-","-","-"]
["山梨県","甲府市","上九一色村2-1","梯"]
["山梨県","甲府市","上九一色村2-1","飯田"]
["山梨県","甲府市","上九一色村2-1","本郷"]
["山梨県","甲府市","上九一色村2-1","平川"]
["山梨県","甲府市","上九一色村2-1","入野"]
["山梨県","富士吉田市",null,null,791,110,7,6,22,4,81,681,335,10,16,17,21,13,23,22,25,27,42,28,28,29,21,13,55.4,54.6,56.3,145,8,4,2,1,2,7,2,8,5,10,18,23,26,18,11,{"v":64.8,"d":"      64.8"},{"v":65,"d":"      65.0"},{"v":64.6,"d":"      64.6"},98,"-","-",1,1,1,5,1,6,3,6,14,17,21,13,9,69.8,70.3,68.9,110,"-","-","-","-",1,4,4,6,10,24,14,15,14,12,6,{"v":73,"d":"  73"},"-","-","-",{"v":1,"d":"  1"},{"v":1,"d":"  1"},{"v":4,"d":"  4"},{"v":7,"d":"  7"},{"v":17,"d":"  17"},{"v":5,"d":"  5"},{"v":13,"d":"  13"},{"v":12,"d":"  12"},{"v":9,"d":"  9"},{"v":4,"d":"  4"},{"$nulls":7},395,316,98,169,49,39,23,17,57,38,"-",1,"-",10,1,1,5,1,"-","-","-","-",null,null,109,{"v":7615,"d":"7,615"},{"v":5824,"d":"5,824"},{"v":1668,"d":"1,668"},123,207,190,65,94,31,1,13,3,188,126,33,75,18,38,10,14]
["山梨県","富士吉田市","下吉田町",null,199,24,1,"-",2,"-",21,175,73,3,1,5,7,3,4,4,3,8,9,7,6,7,2,4,55.2,54.5,56.2,25,3,1,1,"-","-","-","-","-",1,1,3,4,5,2,4,{"v":64.2,"d":"      64.2"},{"v":61.3,"d":"      61.3"},{"v":68.6,"d":"      68.6"},15,"-","-","-","-","-","-","-","-",1,1,3,2,4,2,2,73.8,76.2,67.3,24,"-","-","-","-","-","-",1,1,3,4,4,3,4,2,2,{"v":17,"d":"  17"},"-","-","-","-",{"v":1,"d":"  1"},"-",{"v":2,"d":"  2"},{"v":2,"d":"  2"},{"v":3,"d":"  3"},{"v":3,"d":"  3"},{"v":2,"d":"  2"},{"v":2,"d":"  2"},{"v":2,"d":"  2"},{"$nulls":7},80,67,15,42,10,4,5,4,11,8,"-",1,"-","-","-","-",1,1,"-","-","-","-",null,null,23,{"v":1293,"d":"1,293"},{"v":1011,"d":"1,011"},244,38,43,38,11,20,7,"-",4,1,37,29,4,22,3,4,1,3]
["山梨県","富士吉田市","下吉田町","下吉田横町"]
["山梨県","富士吉田市","下吉田町","西町"]
["山梨県","富士吉田市","下吉田町","本町，泉町"]
["山梨県","富士吉田市","下吉田町","しんや"]
["山梨県","富士吉田市","下吉田町","中央東"]
["山梨県","富士吉田市","下吉田町","中央西北"]
["山梨県","富士吉田市","下吉田町","幸町"]
["山梨県","富士吉田市","下吉田町","下吉田上"]
["山梨県","富士吉田市","下吉田町","新倉"]
["山梨県","富士吉田市","下吉田町","浅間町"]
["山梨県","富士吉田市","下吉田町","新町"]
["山梨県","富士吉田市","下吉田町","宮下町"]
["山梨県","富士吉田市","下吉田町","富士見町"]
["山梨県","富士吉田市","明見町",null,322,38,2,2,6,"-",30,284,105,3,5,"-",9,2,7,5,9,11,14,13,9,5,8,5,57.2,55.6,59.7,39,3,"-","-",1,"-",1,"-",1,"-",4,9,7,4,6,3,{"v":66.7,"d":"      66.7"},{"v":66.1,"d":"      66.1"},{"v":67.7,"d":"      67.7"},26,"-","-","-",1,"-",1,"-",1,"-",3,5,5,3,4,3,70.5,70.5,{"v":71,"d":"71.0"},38,"-","-","-","-","-",1,2,2,2,10,6,5,2,5,3,{"v":21,"d":"  21"},"-","-","-","-","-",{"v":1,"d":"  1"},{"v":1,"d":"  1"},{"v":7,"d":"  7"},{"v":1,"d":"  1"},{"v":4,"d":"  4"},{"v":2,"d":"  2"},{"v":3,"d":"  3"},{"v":2,"d":"  2"},{"$nulls":7},137,108,26,60,22,16,8,5,17,13,"-","-","-",2,"-",1,1,"-","-","-","-","-",null,null,38,{"v":2088,"d":"2,088"},{"v":1546,"d":"1,546"},522,20,74,69,22,33,14,"-",4,1,63,39,4,27,8,16,4,4]
["山梨県","富士吉田市","明見町","大明見"]
["山梨県","富士吉田市","明見町","新田"]
["山梨県","富士吉田市","明見町","古屋"]
["山梨県","富士吉田市","富士上吉田町",null,203,43,4,4,14,4,25,160,147,4,10,11,5,8,11,13,11,7,18,8,12,16,9,4,53.8,53.7,53.9,76,2,3,1,"-",2,6,2,6,3,5,6,11,16,9,4,{"v":63.9,"d":"      63.9"},{"v":65.4,"d":"      65.4"},{"v":62.5,"d":"      62.5"},56,"-","-",1,"-",1,4,1,5,2,2,6,10,13,7,4,68.3,67.9,68.9,43,"-","-","-","-",1,2,1,2,5,9,4,7,7,4,1,{"v":32,"d":"  32"},"-","-","-",{"v":1,"d":"  1"},"-",{"v":2,"d":"  2"},{"v":4,"d":"  4"},{"v":7,"d":"  7"},{"v":1,"d":"  1"},{"v":6,"d":"  6"},{"v":7,"d":"  7"},{"v":4,"d":"  4"},"-",{"$nulls":7},163,133,56,62,15,16,9,5,29,17,"-","-","-",8,1,"-",3,"-","-","-","-","-",null,null,43,{"v":4001,"d":"4,001"},{"v":3118,"d":"3,118"},828,55,83,76,31,37,8,1,5,1,80,57,25,25,7,15,4,4]
["山梨県","富士吉田市","富士上吉田町","新屋"]
["山梨県","富士吉田市","富士上吉田町","上吉田"]
["山梨県","富士吉田市","富士上吉田町","松山"]
["山梨県","富士吉田市","西桂村２－２",null,67,5,"-","-","-","-",5,62,10,"-","-",1,"-","-",1,"-",2,1,1,"-",1,1,2,"-",59.8,56.7,64.5,5,"-","-","-","-","-","-","-",1,1,"-","-",1,1,1,"-",{"v":66.8,"d":"      66.8"},{"v":76,"d":"      76.0"},{"v":64.5,"d":"      64.5"},1,"-","-","-","-","-","-","-","-","-","-","-","-",1,"-","-",{"v":76,"d":"76.0"},{"v":76,"d":"76.0"},"-",5,"-","-","-","-","-",1,"-",1,"-",1,"-","-",1,1,"-",{"v":3,"d":"  3"},"-","-","-","-","-",{"v":1,"d":"  1"},"-",{"v":1,"d":"  1"},"-","-",{"v":1,"d":"  1"},"-","-",{"$nulls":7},15,8,1,5,2,3,1,3,"-","-","-","-","-","-","-","-","-","-","-","-","-","-",null,null,5,233,149,74,10,7,7,1,4,2,"-","-","-",8,1,"-",1,"-",3,1,3]
["山梨県","富士吉田市","西桂村２－２","白糸町"]
["山梨県","富士吉田市","西桂村２－２","寿町"]
["山梨県","都留市",null,null,{"v":1012,"d":"1,012"},179,16,12,26,6,137,833,452,8,18,10,16,15,18,21,38,44,55,62,47,32,35,33,60.3,61.1,59.3,218,5,5,2,1,2,1,3,6,14,13,40,36,26,34,30,{"v":69.3,"d":"      69.3"},{"v":71.3,"d":"      71.3"},{"v":67,"d":"      67.0"},180,"-",2,1,1,2,"-",3,5,10,11,35,31,23,32,24,71.6,{"v":73,"d":"73.0"},69.5,179,"-",1,1,1,1,2,5,8,17,24,32,27,18,23,19,{"v":93,"d":"  93"},"-","-","-","-","-",{"v":3,"d":"  3"},{"v":10,"d":"  10"},{"v":12,"d":"  12"},{"v":12,"d":"  12"},{"v":12,"d":"  12"},{"v":12,"d":"  12"},{"v":15,"d":"  15"},{"v":17,"d":"  17"},{"$nulls":7},618,422,180,195,47,82,57,57,81,59,"-",2,"-",14,"-","-",3,1,"-","-",1,"-",null,null,177,{"v":10396,"d":"10,396"},{"v":6873,"d":"6,873"},{"v":3369,"d":"3,369"},154,302,261,110,121,30,2,24,15,316,161,70,74,17,80,33,42]
["山梨県","都留市","谷村町",null,268,59,5,3,13,4,41,209,157,3,8,4,9,4,4,10,11,18,19,20,14,11,12,10,58.8,57.6,60.1,69,2,3,"-","-",1,1,1,2,5,5,11,8,9,12,9,{"v":68,"d":"      68.0"},{"v":67.9,"d":"      67.9"},{"v":68.1,"d":"      68.1"},55,"-","-","-","-",1,"-",1,1,3,4,10,7,9,11,8,73.1,71.5,75.1,59,"-","-","-","-",1,1,4,2,9,7,10,6,5,9,5,{"v":33,"d":"  33"},"-","-","-","-","-","-",{"v":7,"d":"  7"},{"v":4,"d":"  4"},{"v":4,"d":"  4"},{"v":4,"d":"  4"},{"v":1,"d":"  1"},{"v":8,"d":"  8"},{"v":5,"d":"  5"},{"$nulls":7},210,145,55,69,21,27,19,19,32,23,"-",1,"-",5,"-","-",3,"-","-","-","-","-",null,null,59,{"v":3282,"d":"3,282"},{"v":2280,"d":"2,280"},960,42,103,91,31,47,13,"-",7,5,107,54,24,22,8,27,12,14]
["山梨県","都留市","谷村町","田原"]
["山梨県","都留市","谷村町","上町"]
["山梨県","都留市","谷村町","上天"]
["山梨県","都留市","谷村町","下天"]
["山梨県","都留市","谷村町","下谷第一"]
["山梨県","都留市","谷村町","下谷第二"]
["山梨県","都留市","谷村町","下谷第三"]
["山梨県","都留市","谷村町","下谷第四"]
["山梨県","都留市","谷村町","羽根子"]
["山梨県","都留市","谷村町","法能"]
["山梨県","都留市","谷村町","宮原"]
["山梨県","都留市","谷村町","引の田"]
["山梨県","都留市","谷村町","玉川"]
["山梨県","都留市","谷村町","戸沢"]
["山梨県","都留市","谷村町","熊井戸"]
["山梨県","都留市","谷村町","小野"]
["山梨県","都留市","谷村町","大津"]
["山梨県","都留市","谷村町","細野"]
["山梨県","都留市","谷村町","菅野"]
["山梨県","都留市","宝村",null,171,18,2,2,1,"-",15,153,45,"-","-",1,3,"-",4,1,4,4,2,6,9,5,4,2,62.9,{"v":63,"d":"63.0"},62.7,29,"-","-",1,1,"-","-","-",1,2,"-",6,8,4,4,2,{"v":69.1,"d":"      69.1"},{"v":69.4,"d":"      69.4"},{"v":68.6,"d":"      68.6"},22,"-","-","-",1,"-","-","-",1,2,"-",5,6,2,4,1,69.6,{"v":72,"d":"72.0"},61.6,18,"-","-","-",1,"-","-","-","-",2,"-",4,5,2,3,1,{"v":6,"d":"  6"},"-","-","-","-","-","-","-","-","-",{"v":1,"d":"  1"},{"v":2,"d":"  2"},{"v":2,"d":"  2"},{"v":1,"d":"  1"},{"$nulls":7},61,41,22,17,2,10,6,4,7,5,"-","-","-",1,"-","-","-","-","-","-",1,"-",null,null,17,814,654,160,"-",29,25,17,7,1,"-",4,"-",32,16,5,10,1,10,2,4]
["山梨県","都留市","宝村","川棚"]
["山梨県","都留市","宝村","厚原"]
["山梨県","都留市","宝村","平栗"]
["山梨県","都留市","宝村","加畑"]
["山梨県","都留市","宝村","金井"]
["山梨県","都留市","宝村","中津森"]
["山梨県","都留市","宝村","下大幡"]
["山梨県","都留市","宝村","上大幡"]
["山梨県","都留市","宝村","高畑"]
["山梨県","都留市","禾生村",null,218,40,5,4,6,1,29,178,96,"-",3,1,3,4,4,5,10,10,16,9,9,8,9,5,{"v":61,"d":"61.0"},61.2,60.7,47,"-",1,1,"-","-","-","-",2,4,2,8,9,7,9,4,70.5,73.5,67.4,45,"-",1,1,"-","-","-","-",2,4,2,8,9,6,9,3,{"v":70,"d":"70.0"},73.3,66.6,40,"-",1,"-","-","-",1,"-",2,4,9,3,7,4,6,3,20,"-","-","-","-","-",2,1,4,1,2,4,3,3,{"$nulls":7},129,92,45,39,8,15,10,12,16,12,"-","-","-",3,"-","-","-",1,"-","-","-","-",null,null,40,{"v":3276,"d":"3,276"},{"v":1903,"d":"1,903"},{"v":1350,"d":"1,350"},23,60,52,23,23,6,"-",5,3,69,40,22,16,2,15,5,9]
["山梨県","都留市","禾生村","四日市場"]
["山梨県","都留市","禾生村","古川渡"]
["山梨県","都留市","禾生村","川茂"]
["山梨県","都留市","禾生村","古宿"]
["山梨県","都留市","禾生村","小形山"]
["山梨県","都留市","禾生村","宿"]
["山梨県","都留市","禾生村","門前"]
["山梨県","都留市","禾生村","井倉"]
["山梨県","都留市","禾生村","九鬼"]
["山梨県","都留市","盛里村",null,112,26,1,1,2,1,23,86,78,5,6,2,"-",2,4,3,7,5,10,14,6,5,1,8,57.2,63.1,51.7,35,3,"-","-","-",1,"-","-","-",2,4,9,5,3,1,7,67.1,73.1,60.1,24,"-","-","-","-",1,"-","-","-",1,3,6,4,3,1,5,{"v":72,"d":"72.0"},75.2,64.3,26,"-","-",1,"-","-","-","-",3,"-",3,7,3,4,1,4,18,"-","-","-","-","-",1,"-",3,5,2,3,"-",4,{"$nulls":7},101,58,24,26,8,15,14,14,6,5,"-","-","-",1,"-","-","-","-","-","-","-","-",null,null,26,{"v":1232,"d":"1,232"},846,376,10,48,38,17,16,5,1,5,4,53,20,7,10,3,14,9,10]
["山梨県","都留市","盛里村","与繩"]
["山梨県","都留市","盛里村","馬場"]
["山梨県","都留市","盛里村","神門，久保"]
["山梨県","都留市","盛里村","曽雌"]
["山梨県","都留市","盛里村","大平"]
["山梨県","都留市","東桂村",null,243,36,3,2,4,"-",29,207,76,"-",1,2,1,5,2,2,6,7,8,13,9,3,9,8,63.9,64.4,63.2,38,"-",1,"-","-","-","-",2,1,1,2,6,6,3,8,8,72.6,74.3,{"v":70,"d":"70.0"},34,"-",1,"-","-","-","-",2,1,"-",2,6,5,3,7,7,72.4,73.7,70.2,36,"-","-","-","-","-","-",1,1,2,5,8,6,3,4,6,16,"-","-","-","-","-","-",2,1,2,3,2,2,4,{"$nulls":7},117,86,34,44,8,15,8,8,20,14,"-",1,"-",4,"-","-","-","-","-","-","-","-",null,null,35,{"v":1792,"d":"1,792"},{"v":1190,"d":"1,190"},523,79,62,55,22,28,5,1,3,3,55,31,12,16,3,14,5,5]
["山梨県","都留市","東桂村","十日市場"]
["山梨県","都留市","東桂村","下夏狩"]
["山梨県","都留市","東桂村","上夏狩"]
["山梨県","都留市","東桂村","桂町"]
["山梨県","都留市","東桂村","古渡"]
["山梨県","都留市","東桂村","沖"]
["山梨県","都留市","東桂村","宮下"]
["山梨県","都留市","東桂村","境"]
["山梨県","山梨市",null,null,{"v":2232,"d":"2,232"},{"v":1770,"d":"1,770"},576,506,302,160,892,462,{"v":4086,"d":"4,086"},45,52,89,97,111,182,202,270,430,507,549,539,439,339,235,62.8,{"v":62,"d":"62.0"},63.7,{"v":3182,"d":"3,182"},39,21,22,40,50,89,97,133,255,411,505,522,434,331,233,66.8,66.5,67.1,{"v":2843,"d":"2,843"},1,3,19,32,42,75,82,127,235,381,474,487,406,298,181,67.6,67.4,67.9,{"v":1770,"d":"1,770"},"-","-",1,7,12,34,45,90,192,253,287,295,244,184,126,669,"-","-",1,2,8,23,52,82,103,119,112,95,72,{"$nulls":7},{"v":5129,"d":"5,129"},{"v":4138,"d":"4,138"},{"v":2843,"d":"2,843"},{"v":1208,"d":"1,208"},87,317,273,401,{"v":1730,"d":"1,730"},"-","-",3,2,13,3,{"v":1704,"d":"1,704"},3,1,1,"-","-","-",null,null,{"v":1770,"d":"1,770"},{"v":120612,"d":"120,612"},{"v":1067,"d":"1,067"},{"v":5136,"d":"5,136"},{"v":114409,"d":"114,409"},{"v":2578,"d":"2,578"},{"v":2304,"d":"2,304"},{"v":1582,"d":"1,582"},676,46,8,163,103,{"v":2551,"d":"2,551"},{"v":1834,"d":"1,834"},{"v":1261,"d":"1,261"},532,41,309,110,298]
["山梨県","山梨市","加納岩町",null,189,152,67,60,13,8,72,37,369,2,5,3,11,18,14,22,17,36,46,55,55,42,27,16,62.6,62.7,62.6,318,2,1,2,6,6,8,18,10,31,43,55,52,41,27,16,65.5,66.3,64.7,285,"-","-",1,6,4,6,15,9,29,40,52,49,38,23,13,66.2,66.5,65.8,152,"-","-","-",1,1,3,5,4,18,18,31,30,24,10,7,49,"-","-","-","-","-",1,5,9,10,7,11,3,3,{"$nulls":7},433,367,285,77,5,21,14,31,148,"-","-","-","-","-","-",148,"-","-","-","-","-","-",null,null,152,{"v":13083,"d":"13,083"},150,297,{"v":12636,"d":"12,636"},220,202,155,44,3,1,8,9,213,165,130,33,2,20,6,22]
["山梨県","山梨市","加納岩町","大野"]
["山梨県","山梨市","加納岩町","下神内川"]
["山梨県","山梨市","加納岩町","上神内川"]
["山梨県","山梨市","加納岩町","上石森"]
["山梨県","山梨市","加納岩町","下石森"]
["山梨県","山梨市","日下部町",null,142,111,30,30,18,11,63,31,246,2,1,3,8,5,13,13,13,17,34,29,39,31,20,18,64.4,63.8,65.2,192,2,"-","-",5,3,4,3,7,12,25,26,37,31,19,18,68.5,68.9,68.1,173,"-","-","-",4,3,3,2,6,10,24,25,34,29,18,15,69.2,69.4,69.1,111,"-","-","-",1,1,3,2,3,8,19,13,21,18,13,9,47,"-","-","-","-","-","-",3,4,4,11,11,7,7,{"$nulls":7},299,246,173,66,7,21,13,19,104,"-","-","-",1,"-","-",103,"-","-","-","-","-","-",null,null,111,{"v":6518,"d":"6,518"},"-",226,{"v":6292,"d":"6,292"},152,140,93,42,5,"-",8,4,147,106,80,24,2,21,5,15]
["山梨県","山梨市","日下部町","小原西"]
["山梨県","山梨市","日下部町","小原東"]
["山梨県","山梨市","日下部町","七日市場"]
["山梨県","山梨市","日下部町","下井尻"]
["山梨県","山梨市","山梨村",null,347,293,112,102,52,29,129,54,667,7,3,20,16,12,38,31,51,78,99,74,85,64,52,37,62.1,60.6,63.9,532,6,1,6,7,8,19,16,30,49,86,68,85,64,50,37,65.7,64.6,66.9,493,"-","-",6,6,8,17,15,29,47,78,64,84,62,46,31,66.2,{"v":65,"d":"65.0"},67.6,293,"-","-",1,1,3,10,7,21,36,51,35,48,38,24,18,104,"-","-",1,2,2,6,5,18,13,15,19,13,10,{"$nulls":7},895,723,493,218,12,46,53,73,291,"-","-","-","-",1,1,288,1,"-","-","-","-","-",null,null,293,{"v":21554,"d":"21,554"},8,457,{"v":21089,"d":"21,089"},432,385,267,113,5,1,29,17,463,338,226,105,7,45,24,56]
["山梨県","山梨市","山梨村","正徳寺"]
["山梨県","山梨市","山梨村","落合"]
["山梨県","山梨市","山梨村","小田屋"]
["山梨県","山梨市","山梨村","上岩下"]
["山梨県","山梨市","山梨村","山根"]
["山梨県","山梨市","山梨村","矢坪"]
["山梨県","山梨市","山梨村","万力一区"]
["山梨県","山梨市","山梨村","万力二区"]
["山梨県","山梨市","山梨村","万力三区"]
["山梨県","山梨市","八幡村",null,341,279,65,54,50,22,164,62,642,10,10,13,6,10,19,24,54,54,78,89,77,84,76,38,64.7,63.7,65.9,489,6,3,5,2,3,4,8,19,31,56,84,75,83,73,37,69.4,68.9,70.1,433,"-",1,4,2,2,4,7,17,27,49,82,68,79,62,29,70.1,{"v":70,"d":"70.0"},70.3,279,"-","-","-",1,1,3,5,16,20,36,49,42,41,41,24,93,"-","-","-","-",1,6,7,6,11,16,15,17,14,{"$nulls":7},819,665,433,221,11,55,46,53,273,"-","-","-","-",1,2,268,1,"-",1,"-","-","-",null,null,279,{"v":17625,"d":"17,625"},186,597,{"v":16842,"d":"16,842"},414,372,249,118,5,"-",28,14,405,293,184,103,6,55,18,39]
["山梨県","山梨市","八幡村","南"]
["山梨県","山梨市","八幡村","北"]
["山梨県","山梨市","八幡村","市川"]
["山梨県","山梨市","八幡村","江曽原"]
["山梨県","山梨市","八幡村","大工"]
["山梨県","山梨市","八幡村","堀内"]
["山梨県","山梨市","八幡村","水口"]
["山梨県","山梨市","八幡村","切差"]
["山梨県","山梨市","岩手村",null,102,80,22,21,15,8,43,22,181,1,2,2,8,5,8,3,16,17,30,19,21,23,16,10,63.3,61.7,65.2,134,"-",1,1,1,2,2,1,9,8,22,17,21,23,16,10,68.6,67.5,69.8,127,"-",1,1,1,2,2,1,9,7,21,15,20,23,15,9,68.5,67.4,69.7,80,"-","-","-","-",1,"-","-",6,5,19,8,13,13,11,4,32,"-","-","-","-","-",3,2,5,5,5,2,8,2,{"$nulls":7},219,193,127,61,5,10,8,8,75,"-","-","-","-","-","-",75,"-","-","-","-","-","-",null,null,80,{"v":6579,"d":"6,579"},30,145,{"v":6404,"d":"6,404"},114,106,67,36,3,"-",6,2,105,87,60,25,2,10,2,6]
["山梨県","山梨市","岩手村","久保"]
["山梨県","山梨市","岩手村","紺屋"]
["山梨県","山梨市","岩手村","西"]
["山梨県","山梨市","後屋敷村",null,165,138,39,30,24,15,75,27,318,6,6,4,7,8,12,15,23,41,28,44,54,31,23,16,62.3,62.1,62.5,247,6,2,"-",1,1,6,8,10,23,24,43,53,31,23,16,66.8,66.6,67.1,221,1,"-","-",1,1,6,8,10,20,23,39,49,30,22,11,67.9,68.7,{"v":67,"d":"67.0"},138,"-","-","-","-",1,"-",5,7,16,14,20,29,18,14,14,53,"-","-","-","-","-",1,5,3,9,10,8,8,9,{"$nulls":7},392,319,221,91,7,23,22,28,136,"-","-","-","-","-","-",135,"-",1,"-","-","-","-",null,null,138,{"v":8941,"d":"8,941"},"-",73,{"v":8868,"d":"8,868"},190,171,119,49,3,"-",12,7,202,148,102,42,4,23,10,21]
["山梨県","山梨市","後屋敷村","鴨居寺"]
["山梨県","山梨市","後屋敷村","東後屋敷"]
["山梨県","山梨市","後屋敷村","三ケ所"]
["山梨県","山梨市","後屋敷村","西後屋敷"]
["山梨県","山梨市","日川村",null,216,186,70,60,35,20,81,30,443,4,5,11,12,14,24,32,23,52,42,63,56,46,36,23,61.9,60.9,62.9,348,4,3,2,7,5,16,14,14,34,34,56,56,44,36,23,65.6,65.9,65.4,305,"-","-",2,5,4,13,11,13,30,32,51,52,41,35,16,66.9,66.4,67.4,186,"-","-","-",3,"-",6,7,4,27,20,34,29,29,18,9,72,"-","-","-","-",2,"-",9,7,14,14,13,9,4,{"$nulls":7},565,439,305,125,9,39,44,43,186,"-","-","-","-","-","-",185,1,"-","-","-","-","-",null,null,186,{"v":12505,"d":"12,505"},26,31,{"v":12448,"d":"12,448"},279,238,160,73,5,1,28,12,286,201,145,52,4,38,16,31]
["山梨県","山梨市","日川村","一町田中"]
["山梨県","山梨市","日川村","歌田"]
["山梨県","山梨市","日川村","下栗原"]
["山梨県","山梨市","日川村","上栗原"]
["山梨県","山梨市","日川村","中村"]
["山梨県","山梨市","諏訪町",null,294,231,61,51,53,23,117,63,542,6,11,16,14,18,20,27,34,63,63,75,67,50,40,38,{"v":62,"d":"62.0"},60.9,63.4,385,6,5,3,3,8,7,10,12,27,48,66,64,50,38,38,67.3,66.4,68.4,335,"-",1,2,2,8,6,7,12,26,46,60,59,42,32,32,68.4,68.6,68.2,231,"-","-","-","-",2,2,4,13,32,29,43,37,25,22,22,107,"-","-","-","-","-",4,10,12,14,17,18,16,16,{"$nulls":7},659,523,335,175,13,47,31,58,226,"-","-","-","-",3,"-",223,"-","-","-","-","-","-",null,null,231,{"v":13896,"d":"13,896"},507,872,{"v":12517,"d":"12,517"},333,301,191,103,7,3,17,12,326,222,144,72,6,44,14,46]
["山梨県","山梨市","諏訪町","隼"]
["山梨県","山梨市","諏訪町","替地"]
["山梨県","山梨市","諏訪町","窪平"]
["山梨県","山梨市","諏訪町","堀の内"]
["山梨県","山梨市","諏訪町","城古寺"]
["山梨県","山梨市","諏訪町","千野々宮"]
["山梨県","山梨市","諏訪町","大室"]
["山梨県","山梨市","諏訪町","山本"]
["山梨県","山梨市","諏訪町","杣口"]
["山梨県","山梨市","諏訪町","乙ケ妻"]
["山梨県","山梨市","諏訪町","室伏"]
["山梨県","山梨市","諏訪町","大沢"]
["山梨県","山梨市","諏訪町","成沢"]
["山梨県","山梨市","諏訪町","柳平"]
["山梨県","山梨市","中牧村",null,261,224,94,85,32,23,98,37,514,7,6,12,14,15,27,32,30,62,65,76,65,42,36,25,61.3,{"v":61,"d":"61.0"},61.6,416,7,3,2,8,10,20,19,17,38,56,71,62,42,36,25,64.2,{"v":64,"d":"64.0"},64.5,367,"-","-",2,5,6,16,16,17,37,54,68,58,38,34,16,65.4,{"v":65,"d":"65.0"},{"v":66,"d":"66.0"},224,"-","-","-","-",1,6,10,11,25,38,40,36,21,24,12,84,"-","-","-","-",3,2,5,15,15,18,10,12,4,{"$nulls":7},635,500,367,121,12,39,32,64,221,"-","-","-","-",2,"-",219,"-","-","-","-","-","-",null,null,224,{"v":15592,"d":"15,592"},109,{"v":1248,"d":"1,248"},{"v":14235,"d":"14,235"},334,291,213,70,8,1,22,20,301,209,154,51,4,38,10,44]
["山梨県","山梨市","中牧村","請地"]
["山梨県","山梨市","中牧村","屋敷"]
["山梨県","山梨市","中牧村","田屋"]
["山梨県","山梨市","中牧村","上野田"]
["山梨県","山梨市","中牧村","真智"]
["山梨県","山梨市","中牧村","西山"]
["山梨県","山梨市","中牧村","新井"]
["山梨県","山梨市","中牧村","中屋"]
["山梨県","山梨市","中牧村","中尾"]
["山梨県","山梨市","中牧村","久保"]
["山梨県","山梨市","中牧村","豊原"]
["山梨県","山梨市","中牧村","辻屋"]
["山梨県","山梨市","中牧村","笠原"]
["山梨県","山梨市","中牧村","北井"]
["山梨県","山梨市","中牧村","法喩庵"]
["山梨県","山梨市","中牧村","小田野"]
["山梨県","山梨市","中牧村","城下"]
["山梨県","山梨市","中牧村","馬場"]
["山梨県","山梨市","中牧村","井戸川"]
["山梨県","山梨市","西保村",null,80,52,12,10,3,"-",37,28,115,"-",1,4,"-",4,5,3,4,5,14,17,18,20,9,11,66.8,65.8,68.2,90,"-","-",1,"-",4,2,"-",2,1,12,14,15,19,9,11,70.7,70.3,71.3,77,"-","-",1,"-",4,1,"-",2,1,10,13,12,19,7,7,69.9,70.3,69.3,52,"-","-","-","-",1,"-","-",3,3,6,7,9,13,5,5,20,"-","-","-","-","-","-",1,3,4,5,4,1,2,{"$nulls":7},144,112,77,30,5,12,6,14,49,"-","-","-",1,4,"-",44,"-","-","-","-","-","-",null,null,52,{"v":2849,"d":"2,849"},51,702,{"v":2096,"d":"2,096"},76,67,50,15,2,1,5,3,68,45,27,15,3,11,1,11]
["山梨県","山梨市","西保村","横道"]
["山梨県","山梨市","西保村","中野"]
["山梨県","山梨市","西保村","在華"]
["山梨県","山梨市","西保村","芦の沢"]
["山梨県","山梨市","西保村","大村上"]
["山梨県","山梨市","西保村","大村下"]
["山梨県","山梨市","西保村","古宿"]
["山梨県","山梨市","西保村","牧平東"]
["山梨県","山梨市","西保村","牧平西"]
["山梨県","山梨市","西保村","膝立"]
["山梨県","山梨市","西保村","赤芝"]
["山梨県","山梨市","西保村","下道"]
["山梨県","山梨市","西保村","上道"]
["山梨県","山梨市","西保村","漆川"]
["山梨県","山梨市","西保村","生捕"]
["山梨県","山梨市","西保村","塩平"]
["山梨県","山梨市","三富村",null,95,24,4,3,7,1,13,71,49,"-",2,1,1,2,2,"-",5,5,8,8,2,6,4,3,62.2,65.2,57.5,31,"-",2,"-","-","-",1,"-",3,1,5,5,2,6,4,2,66.4,70.1,60.5,27,"-","-","-","-","-",1,"-",3,1,4,5,2,5,4,2,69.3,69.6,68.7,24,"-","-","-","-","-",1,"-",2,2,3,7,1,4,2,2,8,"-","-","-","-","-","-","-","-",4,1,1,1,1,{"$nulls":7},69,51,27,23,1,4,4,10,21,"-","-",3,"-",2,"-",16,"-","-","-","-","-","-",null,null,24,{"v":1470,"d":"1,470"},"-",488,982,34,31,18,13,"-","-","-",3,35,20,9,10,1,4,4,7]
["山梨県","山梨市","三富村","塩原"]
["山梨県","山梨市","三富村","寺井"]
["山梨県","山梨市","三富村","稲子沢"]
["山梨県","山梨市","三富村","馬込"]
["山梨県","山梨市","三富村","下荻原"]
["山梨県","山梨市","三富村","徳和"]
["山梨県","山梨市","三富村","興南"]
["山梨県","山梨市","三富村","下釜口"]
["山梨県","山梨市","三富村","上荻原"]
["山梨県","山梨市","三富村","雷"]
["山梨県","山梨市","三富村","湯の平"]
["山梨県","山梨市","三富村","天科"]
["山梨県","山梨市","三富村","円川"]
["山梨県","山梨市","三富村","西の平"]
["山梨県","山梨市","三富村","釜口"]
["山梨県","山梨市","三富村","青笹"]
["山梨県","山梨市","三富村","赤の浦"]
["山梨県","山梨市","三富村","芹沢"]
["山梨県","山梨市","三富村","広瀬"]
["山梨県","山梨市","三富村","大平"]
["山梨県","大月市",null,null,930,64,2,2,5,1,57,866,171,6,6,1,4,6,5,10,15,5,20,22,19,25,14,13,62.3,62.8,61.7,105,6,2,"-",2,1,"-",1,2,1,10,15,15,24,13,13,{"v":69,"d":"69.0"},70.6,{"v":67,"d":"67.0"},66,"-","-","-",1,"-","-","-",1,1,6,8,12,16,11,10,74.8,75.3,{"v":73,"d":"73.0"},64,"-","-","-","-","-","-","-",3,1,4,13,11,13,11,8,36,"-","-","-","-","-","-",1,2,5,7,9,7,5,{"$nulls":7},214,142,66,68,8,36,18,18,26,11,"-",6,"-",6,"-",1,2,"-","-","-","-","-",null,null,64,{"v":2877,"d":"2,877"},{"v":1634,"d":"1,634"},{"v":1084,"d":"1,084"},159,114,99,52,42,5,"-",13,2,100,43,14,26,3,36,5,16]
["山梨県","大月市","笹子村",null,51,3,"-","-","-","-",3,48,6,"-","-","-","-","-","-",1,1,"-","-","-",1,1,1,1,69.3,68.8,{"v":72,"d":"72.0"},4,"-","-","-","-","-","-","-","-","-","-","-",1,1,1,1,79.5,{"v":82,"d":"82.0"},{"v":72,"d":"72.0"},3,"-","-","-","-","-","-","-","-","-","-","-","-",1,1,1,{"v":82,"d":"82.0"},{"v":82,"d":"82.0"},"-",3,"-","-","-","-","-","-","-","-","-","-","-","-",1,1,1,2,"-","-","-","-","-","-","-","-","-","-",1,1,"-",{"$nulls":7},13,5,3,2,"-",3,4,1,"-","-","-","-","-","-","-","-","-","-","-","-","-","-",null,null,3,117,87,30,"-",8,5,3,2,"-","-",3,"-",5,"-","-","-","-",3,1,1]
["山梨県","大月市","笹子村","白野"]
["山梨県","大月市","笹子村","原"]
["山梨県","大月市","笹子村","吉久保"]
["山梨県","大月市","笹子村","阿弥陀海"]
["山梨県","大月市","笹子村","黒野田"]
["山梨県","大月市","笹子村","追分"]
["山梨県","大月市","初狩村",null,109,12,"-","-","-","-",12,97,32,1,2,1,1,1,2,"-",6,1,2,5,6,2,2,"-",56.9,55.6,59.1,12,1,"-","-","-","-","-","-","-","-","-",3,4,2,2,"-",69.5,69.8,68.7,8,"-","-","-","-","-","-","-","-","-","-",1,3,2,2,"-",76.1,76.1,"-",12,"-","-","-","-","-","-","-",2,1,"-",3,3,1,2,"-",4,"-","-","-","-","-","-",1,"-","-",2,"-",1,"-",{"$nulls":7},40,28,8,17,3,5,4,3,3,3,"-","-","-","-","-","-","-","-","-","-","-","-",null,null,12,527,412,105,10,24,20,8,11,1,"-",4,"-",16,8,"-",6,2,5,"-",3]
["山梨県","大月市","初狩村","下初狩１区"]
["山梨県","大月市","初狩村","下初狩２区"]
["山梨県","大月市","初狩村","藤沢"]
["山梨県","大月市","初狩村","側子"]
["山梨県","大月市","初狩村","立河原"]
["山梨県","大月市","初狩村","神戸"]
["山梨県","大月市","初狩村","丸田"]
["山梨県","大月市","大月町",null,129,7,1,1,1,"-",5,122,18,"-","-","-",2,1,1,"-",1,1,2,3,3,1,2,1,62.1,63.5,60.4,12,"-","-","-",1,"-","-","-","-",1,1,2,3,1,2,1,69.3,69.3,69.2,11,"-","-","-",1,"-","-","-","-",1,1,1,3,1,2,1,69.5,69.3,69.8,7,"-","-","-","-","-","-","-","-","-",1,1,2,1,1,1,3,"-","-","-","-","-","-","-","-","-",2,"-","-",1,{"$nulls":7},24,19,11,6,2,3,1,1,2,1,"-","-","-",1,"-","-","-","-","-","-","-","-",null,null,7,362,239,71,52,13,12,7,4,1,"-",1,"-",11,7,4,2,1,3,"-",1]
["山梨県","大月市","大月町","駒橋"]
["山梨県","大月市","大月町","御太刀"]
["山梨県","大月市","大月町","大月"]
["山梨県","大月市","大月町","沢井"]
["山梨県","大月市","大月町","下花咲"]
["山梨県","大月市","大月町","上花咲"]
["山梨県","大月市","大月町","前沢"]
["山梨県","大月市","大月町","久保"]
["山梨県","大月市","大月町","青木原"]
["山梨県","大月市","大月町","小佐野"]
["山梨県","大月市","大月町","下原"]
["山梨県","大月市","大月町","沢中"]
["山梨県","大月市","大月町","上真木（下）"]
["山梨県","大月市","大月町","上真木（上）"]
["山梨県","大月市","大月町","間明野"]
["山梨県","大月市","大月町","桑西"]
["山梨県","大月市","大月町","恵能野"]
["山梨県","大月市","賑岡村",null,116,11,"-","-",1,1,10,105,31,"-","-","-","-",2,1,3,1,1,5,4,2,7,1,4,66.4,64.3,68.9,18,"-","-","-","-",1,"-",1,"-","-",2,3,1,6,"-",4,72.1,73.8,70.8,12,"-","-","-","-","-","-","-","-","-",2,2,1,4,"-",3,75.6,73.8,79.3,11,"-","-","-","-","-","-","-","-","-",1,3,1,4,1,1,7,"-","-","-","-","-","-","-",1,2,1,2,1,"-",{"$nulls":7},38,28,12,14,2,7,1,2,2,"-","-","-","-",1,"-","-",1,"-","-","-","-","-",null,null,11,503,279,214,10,18,18,8,8,2,"-","-","-",20,10,4,6,"-",7,1,2]
["山梨県","大月市","賑岡村","浅利"]
["山梨県","大月市","賑岡村","強瀬"]
["山梨県","大月市","賑岡村","岩殿"]
["山梨県","大月市","賑岡村","畑倉"]
["山梨県","大月市","賑岡村","東奥山"]
["山梨県","大月市","賑岡村","西奥山"]
["山梨県","大月市","七保村",null,172,5,1,1,"-","-",4,167,12,"-",1,"-","-","-",1,1,1,"-",1,"-",2,4,1,"-",63.2,65.6,59.8,9,"-","-","-","-","-","-","-",1,"-",1,"-",2,4,1,"-",71.7,73.8,{"v":69,"d":"69.0"},7,"-","-","-","-","-","-","-",1,"-",1,"-",1,3,1,"-",71.1,73.8,64.5,5,"-","-","-","-","-","-","-","-","-",1,"-",1,2,1,"-",3,"-","-","-","-","-","-","-","-","-",1,2,"-","-",{"$nulls":7},16,12,7,4,1,2,"-",2,3,1,"-",1,"-","-","-","-",1,"-","-","-","-","-",null,null,5,167,64,93,10,8,8,5,2,1,"-","-","-",8,4,2,2,"-",2,"-",2]
["山梨県","大月市","七保村","下和田"]
["山梨県","大月市","七保村","大島"]
["山梨県","大月市","七保村","葛野"]
["山梨県","大月市","七保村","田無瀬"]
["山梨県","大月市","七保村","林"]
["山梨県","大月市","七保村","奈良子"]
["山梨県","大月市","七保村","下瀬戸"]
["山梨県","大月市","七保村","吉平，草木"]
["山梨県","大月市","七保村","瀬戸"]
["山梨県","大月市","七保村","上和田"]
["山梨県","大月市","七保村","小金沢"]
["山梨県","大月市","七保村","駒宮"]
["山梨県","大月市","七保村","浅川第１"]
["山梨県","大月市","七保村","浅川中部"]
["山梨県","大月市","七保村","浅川大入"]
["山梨県","大月市","七保村","百蔵"]
["山梨県","大月市","猿橋町",null,167,18,"-","-",2,"-",16,149,48,3,3,"-","-","-","-",3,5,2,5,6,3,9,4,5,62.8,64.7,60.6,33,3,2,"-","-","-","-","-",1,"-",3,4,2,9,4,5,66.8,68.2,65.3,18,"-","-","-","-","-","-","-","-","-","-",3,2,5,3,5,78.4,78.3,{"v":79,"d":"79.0"},18,"-","-","-","-","-","-","-",1,"-","-",4,2,4,3,4,11,"-","-","-","-","-","-","-","-",1,"-",4,3,3,{"$nulls":7},52,33,18,15,"-",10,5,4,13,5,"-",5,"-",2,"-",1,"-","-","-","-","-","-",null,null,18,828,442,331,55,27,24,15,9,"-","-",3,"-",25,9,3,6,"-",10,2,4]
["山梨県","大月市","猿橋町","小篠"]
["山梨県","大月市","猿橋町","津成"]
["山梨県","大月市","猿橋町","太田"]
["山梨県","大月市","猿橋町","久保"]
["山梨県","大月市","猿橋町","小田"]
["山梨県","大月市","猿橋町","朝日小沢"]
["山梨県","大月市","猿橋町","小沢"]
["山梨県","大月市","猿橋町","田中"]
["山梨県","大月市","猿橋町","幡野"]
["山梨県","大月市","猿橋町","小倉"]
["山梨県","大月市","猿橋町","橋向"]
["山梨県","大月市","猿橋町","殿上"]
["山梨県","大月市","猿橋町","本町"]
["山梨県","大月市","猿橋町","伊良原"]
["山梨県","大月市","富浜村",null,101,5,"-","-",1,"-",4,96,13,"-","-","-",1,1,"-","-","-","-",5,2,"-","-",2,2,66.4,67.4,65.2,9,"-","-","-",1,"-","-","-","-","-",3,1,"-","-",2,2,70.6,76.3,{"v":66,"d":"66.0"},4,"-","-","-","-","-","-","-","-","-",2,1,"-","-",1,"-",68.5,71.3,{"v":60,"d":"60.0"},5,"-","-","-","-","-","-","-","-","-",1,2,"-","-",1,1,5,"-","-","-","-","-","-","-",1,2,"-","-",1,1,{"$nulls":7},20,11,4,7,"-",3,1,5,1,"-","-","-","-",1,"-","-","-","-","-","-","-","-",null,null,5,182,37,141,4,11,8,3,5,"-","-",1,2,9,3,1,2,"-",3,"-",3]
["山梨県","大月市","富浜村","山谷"]
["山梨県","大月市","富浜村","堀の内"]
["山梨県","大月市","富浜村","大久保"]
["山梨県","大月市","富浜村","小向"]
["山梨県","大月市","富浜村","下鳥沢"]
["山梨県","大月市","富浜村","上鳥沢"]
["山梨県","大月市","富浜村","中野"]
["山梨県","大月市","富浜村","寺向"]
["山梨県","大月市","富浜村","袴着"]
["山梨県","大月市","富浜村","新道"]
["山梨県","大月市","富浜村","宮谷（第一）"]
["山梨県","大月市","富浜村","宮谷（第二）"]
["山梨県","大月市","梁川村",null,85,3,"-","-","-","-",3,82,11,2,"-","-","-",1,"-",2,"-","-","-",2,2,1,1,"-",55.3,58.4,52.7,8,2,"-","-","-","-","-","-","-","-","-",2,2,1,1,"-",59.3,{"v":61,"d":"61.0"},57.5,3,"-","-","-","-","-","-","-","-","-","-","-",2,"-",1,"-",75.3,75.3,"-",3,"-","-","-","-","-","-","-","-","-","-","-",2,"-",1,"-",1,"-","-","-","-","-","-","-","-","-",1,"-","-","-",{"$nulls":7},11,6,3,3,"-",3,2,"-",2,1,"-","-","-",1,"-","-","-","-","-","-","-","-",null,null,3,191,74,99,18,5,4,3,1,"-","-",1,"-",6,2,"-",2,"-",3,1,"-"]
["山梨県","大月市","梁川村","斧窪"]
["山梨県","大月市","梁川村","彦田"]
["山梨県","大月市","梁川村","西綱本"]
["山梨県","大月市","梁川村","原"]
["山梨県","大月市","梁川村","新倉"]
["山梨県","大月市","梁川村","清水"]
["山梨県","大月市","梁川村","中金"]
["山梨県","大月市","梁川村","西塩瀬"]
["山梨県","大月市","梁川村","立野"]
["山梨県","大月市","梁川村","下畑"]
["山梨県","韮崎市",null,null,{"v":2027,"d":"2,027"},{"v":1187,"d":"1,187"},130,98,219,73,838,840,{"v":2832,"d":"2,832"},58,89,77,92,88,100,158,223,251,384,361,302,292,222,135,60.4,59.5,61.4,{"v":1621,"d":"1,621"},36,15,5,10,13,14,38,54,71,186,281,278,279,211,130,68.9,69.1,68.6,{"v":1269,"d":"1,269"},"-",3,4,6,8,8,21,37,45,152,235,236,240,176,98,{"v":71,"d":"71.0"},70.9,71.2,{"v":1187,"d":"1,187"},"-","-","-",1,6,10,32,66,118,201,204,176,168,129,76,603,"-","-","-",4,10,24,48,94,103,89,96,86,49,{"$nulls":7},{"v":3596,"d":"3,596"},{"v":2683,"d":"2,683"},{"v":1269,"d":"1,269"},{"v":1295,"d":"1,295"},119,343,234,336,{"v":1056,"d":"1,056"},719,"-",3,"-",14,"-",310,3,"-","-",6,1,"-",null,null,{"v":1186,"d":"1,186"},{"v":95912,"d":"95,912"},{"v":58593,"d":"58,593"},{"v":11849,"d":"11,849"},{"v":25470,"d":"25,470"},{"v":1793,"d":"1,793"},{"v":1567,"d":"1,567"},750,742,75,4,126,96,{"v":1803,"d":"1,803"},{"v":1116,"d":"1,116"},519,553,44,339,108,240]
["山梨県","韮崎市","韮崎町",null,188,101,17,12,19,7,65,87,245,4,5,2,5,10,13,10,19,17,44,34,26,27,19,10,61.7,60.7,62.9,140,2,1,"-",1,3,5,3,5,6,18,24,19,27,17,9,{"v":68,"d":"68.0"},68.4,67.6,112,"-",1,"-","-",1,4,2,5,3,15,20,18,22,14,7,69.6,68.8,70.8,101,"-","-","-","-","-",1,4,4,7,21,17,16,14,12,5,42,"-","-","-","-",1,"-","-",12,7,6,7,6,3,{"$nulls":7},305,235,112,106,17,25,22,23,94,63,"-","-","-","-","-",30,"-","-","-","-",1,"-",null,null,100,{"v":8720,"d":"8,720"},{"v":5382,"d":"5,382"},756,{"v":2582,"d":"2,582"},151,131,66,55,10,1,14,5,154,104,46,51,7,24,8,18]
["山梨県","韮崎市","韮崎町","上の山"]
["山梨県","韮崎市","韮崎町","岩下"]
["山梨県","韮崎市","韮崎町","一ツ谷"]
["山梨県","韮崎市","韮崎町","上祖母石"]
["山梨県","韮崎市","韮崎町","下祖母石"]
["山梨県","韮崎市","韮崎町","本町１区"]
["山梨県","韮崎市","韮崎町","本町２区"]
["山梨県","韮崎市","韮崎町","本町３，４，５，９区"]
["山梨県","韮崎市","韮崎町","本町６区"]
["山梨県","韮崎市","韮崎町","本町７区"]
["山梨県","韮崎市","韮崎町","本町８区"]
["山梨県","韮崎市","韮崎町","本町１０区"]
["山梨県","韮崎市","穂坂村",null,333,218,48,41,42,22,128,115,513,13,17,13,10,10,16,32,42,41,75,62,53,65,37,27,61.1,60.3,{"v":62,"d":"62.0"},329,5,3,1,3,3,2,13,17,14,41,53,51,64,33,26,68.2,67.8,68.5,289,"-","-",1,2,3,2,9,14,13,38,48,50,59,28,22,69.6,69.1,70.1,218,"-","-","-","-","-",2,4,14,21,41,34,33,34,21,14,90,"-","-","-",1,"-",4,6,13,14,15,16,15,6,{"$nulls":7},648,506,289,200,17,38,45,59,202,30,"-","-","-",1,"-",167,"-","-","-",4,"-","-",null,null,218,{"v":20978,"d":"20,978"},{"v":5486,"d":"5,486"},{"v":2746,"d":"2,746"},{"v":12746,"d":"12,746"},330,288,163,115,10,1,23,18,318,218,126,85,7,37,22,41]
["山梨県","韮崎市","穂坂村","宮久保"]
["山梨県","韮崎市","穂坂村","飯米場"]
["山梨県","韮崎市","穂坂村","鳥の小池"]
["山梨県","韮崎市","穂坂村","権現沢"]
["山梨県","韮崎市","穂坂村","上の原"]
["山梨県","韮崎市","穂坂村","日之城"]
["山梨県","韮崎市","穂坂村","三之蔵"]
["山梨県","韮崎市","穂坂村","柳平"]
["山梨県","韮崎市","穂坂村","三ツ沢"]
["山梨県","韮崎市","穂坂村","上今井"]
["山梨県","韮崎市","穂坂村","長久保"]
["山梨県","韮崎市","藤井村",null,233,86,3,2,16,7,67,147,213,4,5,9,8,14,5,9,10,20,26,30,23,25,15,10,{"v":60,"d":"60.0"},{"v":60,"d":"60.0"},60.1,115,2,"-","-",1,2,"-",1,3,6,14,22,20,22,13,9,69.5,71.6,67.5,79,"-","-","-",1,"-","-",1,2,3,10,16,13,15,11,7,71.4,71.8,70.6,86,"-","-","-","-","-","-",3,2,8,13,19,13,12,10,6,48,"-","-","-","-",2,"-",4,5,11,9,5,8,4,{"$nulls":7},278,190,79,98,13,37,21,30,71,56,"-",1,"-",7,"-",6,"-","-","-",1,"-","-",null,null,86,{"v":6477,"d":"6,477"},{"v":4370,"d":"4,370"},{"v":1558,"d":"1,558"},549,137,111,51,55,5,"-",14,12,141,79,28,43,8,37,7,18]
["山梨県","韮崎市","藤井村","絵見堂"]
["山梨県","韮崎市","藤井村","鳥居"]
["山梨県","韮崎市","藤井村","駒井"]
["山梨県","韮崎市","藤井村","上野"]
["山梨県","韮崎市","藤井村","坂井"]
["山梨県","韮崎市","藤井村","北下条"]
["山梨県","韮崎市","藤井村","南下条"]
["山梨県","韮崎市","藤井村","相垈"]
["山梨県","韮崎市","藤井村","蔵の前"]
["山梨県","韮崎市","藤井村","道下"]
["山梨県","韮崎市","中田村",null,178,105,17,11,18,3,70,73,237,5,7,9,9,5,9,10,20,15,30,31,30,26,25,6,60.8,60.4,61.2,153,3,2,1,3,2,2,3,3,5,15,29,29,26,24,6,68.1,68.4,67.8,128,"-",1,1,3,2,"-",2,2,3,13,29,24,22,21,5,69.8,70.4,{"v":69,"d":"69.0"},105,"-","-","-","-","-",1,1,8,9,14,20,19,14,15,4,52,"-","-","-","-",1,2,5,7,7,11,9,8,2,{"$nulls":7},289,215,128,81,6,27,17,30,91,45,"-",1,"-","-","-",45,"-","-","-","-","-","-",null,null,105,{"v":10011,"d":"10,011"},{"v":4497,"d":"4,497"},{"v":1204,"d":"1,204"},{"v":4310,"d":"4,310"},145,128,73,51,4,1,10,6,144,87,55,30,2,26,7,24]
["山梨県","韮崎市","中田村","中条１区"]
["山梨県","韮崎市","中田村","中条２区"]
["山梨県","韮崎市","中田村","中条３区"]
["山梨県","韮崎市","中田村","中条４区"]
["山梨県","韮崎市","中田村","小田川５区"]
["山梨県","韮崎市","中田村","小田川６区"]
["山梨県","韮崎市","穴山村",null,109,62,6,3,9,3,47,47,141,5,2,2,3,4,4,12,13,7,15,19,18,13,15,9,{"v":62,"d":"62.0"},63.2,60.6,90,2,"-","-","-",1,"-",4,3,2,10,14,17,13,15,9,70.2,70.9,69.5,74,"-","-","-","-",1,"-",2,2,2,8,13,14,12,13,7,71.9,71.6,72.4,62,"-","-","-","-","-","-",2,3,3,8,11,9,10,9,7,37,"-","-","-","-",1,2,1,5,7,3,8,5,5,{"$nulls":7},176,133,74,56,3,17,9,17,50,29,"-","-","-",1,"-",20,"-","-","-","-","-","-",null,null,62,{"v":6085,"d":"6,085"},{"v":3805,"d":"3,805"},882,{"v":1398,"d":"1,398"},84,81,47,33,1,"-",2,1,92,52,27,23,2,17,7,16]
["山梨県","韮崎市","穴山村","石水"]
["山梨県","韮崎市","穴山村","伊藤窪"]
["山梨県","韮崎市","穴山村","夏目"]
["山梨県","韮崎市","穴山村","次第窪"]
["山梨県","韮崎市","穴山村","重久"]
["山梨県","韮崎市","穴山村","久保"]
["山梨県","韮崎市","円野村",null,124,61,3,1,10,2,48,63,130,2,6,1,1,5,5,5,14,14,15,18,14,12,10,8,61.4,61.4,61.4,70,"-",1,"-","-",1,1,"-",3,2,6,15,13,11,9,8,70.9,74.2,67.2,55,"-","-","-","-","-",1,"-",1,2,5,11,11,10,9,5,72.7,74.2,69.6,61,"-","-","-","-",2,"-",2,1,10,8,7,10,7,8,6,27,"-","-","-","-",2,"-",5,2,3,4,2,4,5,{"$nulls":7},172,124,55,61,8,17,11,20,53,52,"-","-","-","-","-",1,"-","-","-","-","-","-",null,null,61,{"v":5074,"d":"5,074"},{"v":4650,"d":"4,650"},285,139,85,79,37,37,5,"-",5,1,87,45,18,24,3,17,6,19]
["山梨県","韮崎市","円野村","上円井"]
["山梨県","韮崎市","円野村","宇波円井"]
["山梨県","韮崎市","円野村","下円井"]
["山梨県","韮崎市","円野村","入戸野"]
["山梨県","韮崎市","清哲村",null,141,101,9,7,10,2,82,40,232,1,9,2,11,6,10,8,27,30,27,28,21,21,22,9,60.5,59.4,61.9,119,"-","-","-","-","-",1,4,4,8,12,21,19,19,22,9,71.2,72.8,69.7,87,"-","-","-","-","-","-",3,1,4,9,18,18,16,13,5,71.3,71.2,71.6,101,"-","-","-","-","-",1,3,11,13,16,17,11,13,10,6,51,"-","-","-","-",1,6,3,8,9,6,8,6,4,{"$nulls":7},308,224,87,126,11,27,18,39,89,88,"-","-","-",1,"-","-","-","-","-","-","-","-",null,null,101,{"v":7438,"d":"7,438"},{"v":6603,"d":"6,603"},773,62,149,125,51,67,7,"-",12,12,159,99,36,59,4,27,6,27]
["山梨県","韮崎市","清哲村","折居"]
["山梨県","韮崎市","清哲村","新開地"]
["山梨県","韮崎市","清哲村","青木"]
["山梨県","韮崎市","清哲村","中谷"]
["山梨県","韮崎市","清哲村","樋ノ口"]
["山梨県","韮崎市","清哲村","水上"]
["山梨県","韮崎市","神山村",null,113,52,3,2,13,1,36,61,123,3,2,6,4,3,5,10,9,13,12,13,13,12,12,6,60.1,{"v":60,"d":"60.0"},60.3,65,2,"-","-","-",1,"-",2,1,1,3,12,13,12,12,6,71.5,71.9,71.1,51,"-","-","-","-",1,"-",1,"-",1,2,11,9,11,11,4,73.5,72.9,74.8,52,"-","-","-",1,1,"-",4,1,7,7,9,6,9,5,2,22,"-","-","-","-",1,"-",3,3,1,3,6,3,2,{"$nulls":7},165,122,51,64,7,16,14,13,50,49,"-","-","-","-","-","-",1,"-","-","-","-","-",null,null,52,{"v":3456,"d":"3,456"},{"v":3135,"d":"3,135"},312,9,84,75,34,35,6,"-",6,3,81,47,17,29,1,16,8,10]
["山梨県","韮崎市","神山村","武田"]
["山梨県","韮崎市","神山村","北宮地"]
["山梨県","韮崎市","神山村","鍋山"]
["山梨県","韮崎市","旭村",null,246,167,5,3,36,12,126,79,423,11,17,12,17,8,16,29,35,35,43,52,50,46,32,20,59.7,57.8,62.1,236,11,4,1,"-","-",1,6,5,13,22,36,45,42,32,18,68.1,67.3,68.9,160,"-",1,"-","-","-","-","-",3,7,13,27,35,37,24,13,72.8,72.4,73.5,167,"-","-","-","-","-",3,2,16,18,20,27,26,28,18,9,100,"-","-","-",2,"-",8,10,14,17,13,19,12,5,{"$nulls":7},537,378,160,203,15,69,38,52,156,138,"-","-","-",3,"-",14,"-","-","-",1,"-","-",null,null,167,{"v":11375,"d":"11,375"},{"v":8849,"d":"8,849"},{"v":1294,"d":"1,294"},{"v":1232,"d":"1,232"},265,230,99,119,12,1,17,17,272,148,61,84,3,68,21,35]
["山梨県","韮崎市","旭村","北原"]
["山梨県","韮崎市","旭村","山口"]
["山梨県","韮崎市","旭村","鋳物師屋"]
["山梨県","韮崎市","旭村","宮下"]
["山梨県","韮崎市","旭村","小曽根"]
["山梨県","韮崎市","旭村","鍛冶屋"]
["山梨県","韮崎市","旭村","山寺"]
["山梨県","韮崎市","旭村","竹の内"]
["山梨県","韮崎市","旭村","久保"]
["山梨県","韮崎市","旭村","湯舟"]
["山梨県","韮崎市","大草村",null,173,117,12,12,25,11,80,56,292,6,9,15,16,8,8,15,20,27,49,43,24,23,11,18,58.3,56.9,59.9,155,5,1,2,1,"-","-","-",8,8,25,31,23,22,11,18,{"v":68,"d":"68.0"},68.2,67.8,122,"-","-",2,"-","-","-","-",7,5,22,24,20,16,11,15,70.2,69.7,70.7,117,"-","-","-","-",1,1,3,5,10,27,26,16,13,5,10,58,"-","-","-","-","-",1,4,10,14,8,8,5,8,{"$nulls":7},358,289,122,153,14,28,16,25,99,74,"-",1,"-",1,"-",22,1,"-","-","-","-","-",null,null,117,{"v":8523,"d":"8,523"},{"v":5663,"d":"5,663"},{"v":1114,"d":"1,114"},{"v":1746,"d":"1,746"},180,162,62,89,11,"-",8,10,178,127,60,64,3,28,8,15]
["山梨県","韮崎市","大草村","若尾"]
["山梨県","韮崎市","大草村","上条東割"]
["山梨県","韮崎市","大草村","下条西割"]
["山梨県","韮崎市","大草村","下条中割"]
["山梨県","韮崎市","竜岡村",null,189,117,7,4,21,3,89,72,283,4,10,6,8,15,9,18,14,32,48,31,30,22,24,12,59.8,58.6,61.3,149,4,3,"-",1,"-",2,2,2,6,20,24,29,21,23,12,68.8,67.7,69.9,112,"-","-","-","-","-",1,1,"-",2,17,18,24,20,21,8,72.7,{"v":72,"d":"72.0"},73.8,117,"-","-","-","-",2,1,4,1,12,26,17,17,14,16,7,76,"-","-","-",1,1,1,7,15,13,11,8,14,5,{"$nulls":7},360,267,112,147,8,42,23,28,101,95,"-","-","-","-","-",5,1,"-","-","-","-","-",null,null,117,{"v":7775,"d":"7,775"},{"v":6153,"d":"6,153"},925,697,183,157,67,86,4,"-",15,11,177,110,45,61,4,42,8,17]
["山梨県","韮崎市","竜岡村","若尾新田"]
["山梨県","韮崎市","竜岡村","下条東割"]
["山梨県","韮崎市","竜岡村","下条南割"]
["山梨県","南アルプス市",null,null,{"v":3554,"d":"3,554"},{"v":2244,"d":"2,244"},409,334,471,210,{"v":1364,"d":"1,364"},{"v":1310,"d":"1,310"},{"v":5448,"d":"5,448"},64,104,140,147,168,209,287,393,459,703,756,721,578,439,280,62.1,61.4,62.8,{"v":3596,"d":"3,596"},51,40,13,31,43,41,64,121,182,437,636,671,560,432,274,68.6,69.2,{"v":68,"d":"68.0"},{"v":3078,"d":"3,078"},1,5,9,20,30,29,48,95,156,382,581,613,515,384,210,70.1,70.5,69.5,{"v":2244,"d":"2,244"},"-","-",1,5,12,23,61,113,175,337,429,373,338,248,129,993,"-","-",2,3,10,35,43,121,187,173,177,151,91,{"$nulls":7},{"v":6831,"d":"6,831"},{"v":5471,"d":"5,471"},{"v":3078,"d":"3,078"},{"v":2176,"d":"2,176"},217,470,380,510,{"v":2070,"d":"2,070"},158,"-",2,"-",16,46,{"v":1830,"d":"1,830"},11,2,"-",1,1,3,null,null,{"v":2239,"d":"2,239"},{"v":158054,"d":"158,054"},{"v":27101,"d":"27,101"},{"v":11804,"d":"11,804"},{"v":119149,"d":"119,149"},{"v":3414,"d":"3,414"},{"v":3069,"d":"3,069"},{"v":1703,"d":"1,703"},{"v":1227,"d":"1,227"},139,4,203,138,{"v":3417,"d":"3,417"},{"v":2402,"d":"2,402"},{"v":1375,"d":"1,375"},949,78,466,177,372]
["山梨県","南アルプス市","御影村",null,233,124,25,20,33,14,66,109,328,6,9,10,8,9,19,24,32,31,40,29,47,28,20,16,59.6,59.5,59.7,199,4,4,"-",3,"-",4,6,9,13,26,26,44,24,20,16,66.9,67.2,66.6,160,"-","-","-",2,"-",3,2,7,12,23,21,41,23,17,9,69.2,70.3,67.7,124,"-","-","-","-",1,3,3,7,11,24,15,23,16,11,10,60,"-","-","-","-",2,3,4,8,8,15,7,7,6,{"$nulls":7},414,315,160,136,19,24,39,36,110,19,"-","-","-",1,1,89,"-","-","-","-","-","-",null,null,124,{"v":9624,"d":"9,624"},{"v":3618,"d":"3,618"},837,{"v":5169,"d":"5,169"},215,183,92,77,14,1,21,10,199,132,68,59,5,23,18,26]
["山梨県","南アルプス市","御影村","六科"]
["山梨県","南アルプス市","御影村","野牛島"]
["山梨県","南アルプス市","御影村","上高砂"]
["山梨県","南アルプス市","田之岡村",null,109,83,19,15,20,9,44,26,204,"-",9,10,9,2,9,8,13,16,36,29,32,17,10,4,59.5,58.4,60.6,132,"-",3,1,1,"-",3,1,5,7,25,25,31,17,9,4,66.8,66.8,66.7,110,"-","-",1,"-","-",1,1,4,4,22,24,29,15,8,1,68.4,68.3,68.4,83,"-","-","-","-","-",3,1,5,6,17,17,18,12,4,"-",33,"-","-","-",1,"-",2,1,8,8,9,4,"-","-",{"$nulls":7},254,198,110,83,5,15,15,26,78,2,"-","-","-","-","-",76,"-","-","-","-","-","-",null,null,83,{"v":4929,"d":"4,929"},527,264,{"v":4138,"d":"4,138"},120,108,63,43,2,"-",8,4,134,90,47,40,3,15,7,22]
["山梨県","南アルプス市","田之岡村","下高砂"]
["山梨県","南アルプス市","田之岡村","徳永"]
["山梨県","南アルプス市","田之岡村","榎原"]
["山梨県","南アルプス市","源村",null,311,202,41,30,42,17,119,109,488,7,8,11,16,24,12,28,28,41,74,71,60,48,38,22,61.5,60.6,62.5,316,5,1,1,6,4,"-",6,9,17,46,60,55,47,37,22,68.3,68.9,67.7,262,"-","-","-",4,1,"-",5,8,13,40,57,48,43,29,14,69.5,69.9,68.9,202,"-","-","-","-",2,1,6,11,15,37,44,33,27,20,6,88,"-","-","-","-","-",4,2,11,21,15,17,15,3,{"$nulls":7},624,486,262,199,25,66,32,40,179,5,"-","-","-","-","-",165,7,"-","-","-","-",2,null,null,198,{"v":14473,"d":"14,473"},{"v":2520,"d":"2,520"},{"v":1725,"d":"1,725"},{"v":10228,"d":"10,228"},310,280,148,117,15,"-",18,12,314,206,114,82,10,66,14,28]
["山梨県","南アルプス市","源村","大嵐"]
["山梨県","南アルプス市","源村","須沢"]
["山梨県","南アルプス市","源村","駒場"]
["山梨県","南アルプス市","源村","築山"]
["山梨県","南アルプス市","源村","塩前"]
["山梨県","南アルプス市","源村","有野"]
["山梨県","南アルプス市","源村","飯野新田"]
["山梨県","南アルプス市","源村","曲輪田新田"]
["山梨県","南アルプス市","源村","開拓地"]
["山梨県","南アルプス市","飯野村",null,171,121,19,15,29,18,73,50,297,2,5,12,11,7,11,5,14,25,47,46,33,36,27,16,62.9,61.7,64.4,201,1,2,2,3,"-",4,2,3,11,30,35,31,36,27,14,69.3,70.4,68.1,183,"-",2,1,2,"-",3,1,3,11,29,32,30,35,23,11,69.7,71.1,{"v":68,"d":"68.0"},121,"-","-","-","-","-","-",2,1,8,19,30,16,20,18,7,56,"-","-","-","-","-","-",2,6,16,8,9,10,5,{"$nulls":7},368,311,183,118,10,18,12,27,120,"-","-","-","-","-","-",116,2,1,"-","-",1,"-",null,null,121,{"v":8329,"d":"8,329"},253,429,{"v":7647,"d":"7,647"},183,171,101,64,6,"-",6,6,185,140,82,54,4,18,6,21]
["山梨県","南アルプス市","飯野村","飯野上"]
["山梨県","南アルプス市","飯野村","飯野下"]
["山梨県","南アルプス市","飯野村","倉庫町"]
["山梨県","南アルプス市","在家塚村",null,93,66,16,11,13,5,37,27,156,1,"-",6,3,4,3,16,8,11,21,24,21,18,12,8,{"v":63,"d":"63.0"},{"v":62,"d":"62.0"},64.1,110,1,"-",1,"-",1,"-",3,4,4,16,21,21,18,12,8,69.4,69.8,69.1,94,"-","-",1,"-",1,"-",2,3,2,14,19,20,16,10,6,{"v":70,"d":"70.0"},69.8,70.2,66,"-","-","-","-",1,"-",2,2,6,7,15,7,11,9,6,27,"-","-","-","-",1,1,"-",1,5,3,7,5,4,{"$nulls":7},185,152,94,55,3,16,6,11,65,"-","-","-","-","-","-",65,"-","-","-","-","-","-",null,null,66,{"v":4162,"d":"4,162"},80,23,{"v":4059,"d":"4,059"},95,87,53,32,2,"-",4,4,90,65,41,23,1,16,2,7]
["山梨県","南アルプス市","在家塚村","北村"]
["山梨県","南アルプス市","在家塚村","福島"]
["山梨県","南アルプス市","在家塚村","中村"]
["山梨県","南アルプス市","在家塚村","紺屋村"]
["山梨県","南アルプス市","百田村",null,239,204,49,43,52,31,103,35,507,7,17,23,8,20,21,23,38,47,76,57,62,38,42,28,60.2,59.6,60.9,352,7,9,3,2,7,7,12,12,24,52,52,58,38,41,28,65.9,66.5,65.3,306,"-","-",2,1,5,6,11,8,24,47,50,57,36,38,21,68.4,68.7,{"v":68,"d":"68.0"},204,"-","-",1,"-",1,2,8,12,17,39,31,36,23,23,11,97,"-","-","-","-","-",3,5,20,14,20,13,13,9,{"$nulls":7},614,509,306,196,7,18,38,49,201,"-","-","-","-","-","-",201,"-","-","-","-","-","-",null,null,204,{"v":16460,"d":"16,460"},145,292,{"v":16023,"d":"16,023"},301,266,151,111,4,"-",21,14,313,243,155,85,3,18,17,35]
["山梨県","南アルプス市","百田村","百々"]
["山梨県","南アルプス市","百田村","上八田"]
["山梨県","南アルプス市","西野村",null,171,155,57,47,31,17,67,16,379,6,10,9,17,12,13,31,35,27,40,56,48,35,31,9,59.7,59.2,60.3,280,3,5,3,6,7,3,10,19,18,34,52,47,33,31,9,64.8,64.4,65.3,252,1,1,2,4,7,3,10,18,17,30,47,47,30,28,7,65.9,65.8,65.9,155,"-","-","-",3,2,3,7,16,15,17,32,26,17,13,4,65,"-","-",2,1,2,7,5,6,13,12,7,7,3,{"$nulls":7},461,372,252,114,6,29,36,24,152,"-","-","-","-","-","-",152,"-","-","-","-","-","-",null,null,155,{"v":13927,"d":"13,927"},100,5,{"v":13822,"d":"13,822"},234,203,133,64,6,"-",24,7,227,169,119,50,"-",29,12,17]
["山梨県","南アルプス市","西野村","池の端"]
["山梨県","南アルプス市","西野村","巻屋"]
["山梨県","南アルプス市","西野村","中村"]
["山梨県","南アルプス市","西野村","北村"]
["山梨県","南アルプス市","西野村","椚"]
["山梨県","南アルプス市","今諏訪村",null,96,69,16,14,20,9,33,27,166,"-",2,5,4,11,1,5,10,20,24,32,19,16,10,7,62.3,62.8,61.7,113,"-","-","-",1,4,1,2,1,7,20,28,16,16,10,7,68.4,70.4,66.4,100,"-","-","-","-",2,1,2,1,6,20,25,14,15,8,6,68.8,70.1,67.3,69,"-","-","-","-","-","-",2,1,5,12,18,11,9,6,5,28,"-","-","-","-","-","-","-",5,8,3,4,4,4,{"$nulls":7},204,167,100,56,11,11,6,20,67,"-","-","-","-","-","-",67,"-","-","-","-","-","-",null,null,69,{"v":3951,"d":"3,951"},157,62,{"v":3732,"d":"3,732"},100,91,53,30,8,"-",2,7,104,76,47,26,3,11,4,13]
["山梨県","南アルプス市","今諏訪村","上今諏訪"]
["山梨県","南アルプス市","今諏訪村","下今諏訪"]
["山梨県","南アルプス市","芦安村",null,3,"-","-","-","-","-","-",3,"-","-","-","-","-","-","-","-","-","-","-","-","-","-","-","-","-","-","-","-","-","-","-","-","-","-","-","-","-","-","-","-","-","-","-","-","-","-","-","-","-","-","-","-","-","-","-","-","-","-","-","-","-","-","-","-","-","-","-","-","-","-","-","-","-","-","-","-","-","-","-","-","-","-","-","-","-","-","-","-","-","-","-","-","-","-","-",{"$nulls":7},"-","-","-","-","-","-","-","-","-","-","-","-","-","-","-","-","-","-","-","-","-","-",null,null,"-","-","-","-","-","-","-","-","-","-","-","-","-","-","-","-","-","-","-","-","-"]
["山梨県","南アルプス市","芦安村","新倉"]
["山梨県","南アルプス市","芦安村","古屋敷"]
["山梨県","南アルプス市","芦安村","小曽利"]
["山梨県","南アルプス市","芦安村","沓沢"]
["山梨県","南アルプス市","芦安村","大曽利"]
["山梨県","南アルプス市","鏡中條村",null,154,75,6,5,14,4,55,79,195,"-",5,5,3,5,6,9,17,21,14,27,26,20,25,12,{"v":64,"d":"64.0"},63.5,64.6,121,"-",2,"-","-",1,"-",1,3,2,9,21,25,20,25,12,72.7,72.2,73.2,106,"-","-","-","-",1,"-",1,3,2,7,20,22,18,22,10,73.3,73.1,73.5,75,"-","-","-","-",1,"-","-",5,7,5,13,16,7,13,8,39,"-","-","-","-","-",1,3,3,5,7,5,8,7,{"$nulls":7},243,200,106,79,15,7,9,27,70,11,"-","-","-","-","-",59,"-","-","-","-","-","-",null,null,75,{"v":5290,"d":"5,290"},{"v":1912,"d":"1,912"},386,{"v":2992,"d":"2,992"},122,105,54,43,8,"-",5,12,121,95,52,36,7,7,4,15]
["山梨県","南アルプス市","鏡中條村","下今井"]
["山梨県","南アルプス市","鏡中條村","鏡中条"]
["山梨県","南アルプス市","藤田村",null,122,77,14,13,17,7,46,45,187,2,1,9,4,7,9,9,11,12,31,32,28,15,6,11,{"v":61,"d":"61.0"},61.1,60.9,127,2,"-","-",2,1,3,3,4,2,22,30,26,15,6,11,67.7,68.5,66.7,110,"-","-","-",2,1,2,3,4,2,17,26,25,15,5,8,68.3,68.2,68.5,77,"-","-","-","-","-","-",4,3,3,17,17,15,11,3,4,32,"-","-","-","-","-",1,1,6,4,6,8,3,3,{"$nulls":7},239,195,110,79,6,13,12,19,74,22,"-","-","-",5,10,37,"-","-","-","-","-","-",null,null,77,{"v":5459,"d":"5,459"},{"v":3165,"d":"3,165"},752,{"v":1542,"d":"1,542"},121,113,67,41,5,"-",6,2,118,82,43,38,1,13,6,17]
["山梨県","南アルプス市","藤田村","藤田"]
["山梨県","南アルプス市","藤田村","浅原"]
["山梨県","南アルプス市","三恵村",null,240,125,10,8,24,10,91,115,298,4,5,4,3,9,7,12,29,26,32,42,35,28,32,30,64.8,63.7,66.1,198,3,2,"-","-",2,"-",4,7,9,20,34,31,26,32,28,{"v":71,"d":"71.0"},71.8,70.4,155,"-","-","-","-","-","-",2,2,7,17,29,26,22,28,22,73.3,73.9,72.5,125,"-","-","-","-",1,"-",2,6,8,16,21,20,17,18,16,64,"-","-","-","-",1,2,3,7,6,9,10,14,12,{"$nulls":7},393,291,155,121,15,35,34,33,113,18,"-","-","-","-",2,93,"-","-","-","-","-","-",null,null,125,{"v":7305,"d":"7,305"},{"v":2265,"d":"2,265"},656,{"v":4384,"d":"4,384"},202,171,89,73,9,1,19,11,191,120,66,48,6,34,15,22]
["山梨県","南アルプス市","三恵村","寺部"]
["山梨県","南アルプス市","三恵村","加賀美"]
["山梨県","南アルプス市","三恵村","十日市場"]
["山梨県","南アルプス市","小笠原町",null,203,132,25,19,27,14,80,71,322,2,2,7,5,9,17,18,21,25,39,54,47,35,27,14,63.3,62.7,63.9,214,2,"-","-",1,2,6,2,5,8,23,48,45,33,26,13,69.7,69.7,69.7,198,"-","-","-",1,2,4,2,4,8,22,45,43,32,25,10,70.3,70.2,70.4,132,"-","-","-","-","-",4,1,5,16,17,28,22,20,15,4,61,"-","-","-","-","-",1,5,7,14,11,9,11,3,{"$nulls":7},406,338,198,130,10,26,19,23,130,"-","-","-","-","-","-",130,"-","-","-","-","-","-",null,null,132,{"v":9968,"d":"9,968"},171,69,{"v":9728,"d":"9,728"},200,183,105,72,6,"-",10,7,206,155,93,58,4,26,9,16]
["山梨県","南アルプス市","小笠原町","柿平"]
["山梨県","南アルプス市","小笠原町","下町"]
["山梨県","南アルプス市","小笠原町","下仲町"]
["山梨県","南アルプス市","小笠原町","仲町"]
["山梨県","南アルプス市","小笠原町","旭町"]
["山梨県","南アルプス市","小笠原町","二丁目"]
["山梨県","南アルプス市","小笠原町","上町"]
["山梨県","南アルプス市","小笠原町","枇杷ケ池"]
["山梨県","南アルプス市","小笠原町","戸田町"]
["山梨県","南アルプス市","小笠原町","富士見町"]
["山梨県","南アルプス市","小笠原町","東小路"]
["山梨県","南アルプス市","小笠原町","下小路東"]
["山梨県","南アルプス市","小笠原町","古小路"]
["山梨県","南アルプス市","小笠原町","上小路"]
["山梨県","南アルプス市","小笠原町","西小路"]
["山梨県","南アルプス市","小笠原町","下小路西"]
["山梨県","南アルプス市","小笠原町","山寺"]
["山梨県","南アルプス市","榊村",null,230,133,11,9,28,11,94,97,320,4,7,4,9,8,14,18,24,26,34,49,50,37,22,14,62.2,62.5,61.8,202,2,1,1,"-",2,1,4,8,13,16,37,46,37,20,14,69.3,71.2,67.5,163,"-",1,1,"-",2,"-",2,6,8,11,33,32,35,20,12,70.8,71.4,69.9,133,"-","-","-","-","-",1,2,7,10,16,27,26,24,12,8,66,"-","-","-","-","-",1,4,7,14,11,14,9,6,{"$nulls":7},419,329,163,149,17,38,26,26,109,4,"-","-","-",1,"-",103,"-","-","-",1,"-","-",null,null,133,{"v":9342,"d":"9,342"},{"v":1820,"d":"1,820"},{"v":1839,"d":"1,839"},{"v":5683,"d":"5,683"},207,191,96,83,12,"-",9,7,212,138,67,66,5,38,17,19]
["山梨県","南アルプス市","榊村","高尾"]
["山梨県","南アルプス市","榊村","平岡"]
["山梨県","南アルプス市","榊村","田頭"]
["山梨県","南アルプス市","榊村","上宮地"]
["山梨県","南アルプス市","榊村","曲輪田"]
["山梨県","南アルプス市","野之瀬村",null,188,95,4,3,13,3,78,93,237,6,8,2,7,7,4,12,26,19,20,25,25,36,28,12,62.6,61.8,63.5,144,6,1,"-","-",2,"-",3,3,3,8,23,22,33,28,12,70.8,72.2,69.5,115,"-","-","-","-","-","-","-","-",2,7,19,19,31,26,11,75.4,75.2,75.7,95,"-","-","-","-",1,2,"-",3,8,8,15,12,21,18,7,44,"-","-","-",1,"-",1,2,2,6,5,13,8,6,{"$nulls":7},281,230,115,105,10,22,17,12,60,7,"-",1,"-",3,"-",49,"-","-","-","-","-","-",null,null,95,{"v":5668,"d":"5,668"},{"v":2087,"d":"2,087"},{"v":1208,"d":"1,208"},{"v":2373,"d":"2,373"},144,131,62,63,6,"-",10,3,137,99,53,42,4,22,7,9]
["山梨県","南アルプス市","野之瀬村","上野"]
["山梨県","南アルプス市","野之瀬村","神戸"]
["山梨県","南アルプス市","野之瀬村","中野"]
["山梨県","南アルプス市","野之瀬村","上市之瀬"]
["山梨県","南アルプス市","野之瀬村","下市之瀬"]
["山梨県","南アルプス市","豊村",null,254,188,41,32,36,13,111,66,421,2,1,3,9,12,15,22,24,31,47,57,73,70,34,21,65.4,65.5,65.3,320,1,"-","-",3,3,6,4,8,22,30,50,70,68,34,21,70.1,71.2,68.9,285,"-","-","-",2,2,5,3,6,19,26,46,65,63,32,16,70.6,71.3,69.6,188,"-","-","-","-","-",1,8,6,12,20,35,32,46,21,7,66,"-","-","-","-",1,1,2,4,15,9,18,12,4,{"$nulls":7},517,419,285,126,8,43,17,38,186,"-","-","-","-","-","-",186,"-","-","-","-","-","-",null,null,188,{"v":12744,"d":"12,744"},100,207,{"v":12437,"d":"12,437"},255,236,164,69,3,1,9,9,262,183,121,57,5,42,8,29]
["山梨県","南アルプス市","豊村","上今井"]
["山梨県","南アルプス市","豊村","東吉田"]
["山梨県","南アルプス市","豊村","西吉田"]
["山梨県","南アルプス市","豊村","十五所"]
["山梨県","南アルプス市","豊村","沢登"]
["山梨県","南アルプス市","大井村",null,143,46,9,8,7,6,30,97,108,"-",1,4,4,3,6,7,5,8,16,16,14,9,8,7,{"v":62,"d":"62.0"},61.9,62.2,67,"-","-","-","-",2,1,1,2,3,11,12,11,9,8,7,69.7,70.8,68.2,61,"-","-","-","-",2,"-",1,2,3,10,10,11,7,8,7,70.1,70.8,{"v":69,"d":"69.0"},46,"-","-","-","-",1,"-",1,2,2,7,10,6,6,7,4,22,"-","-","-","-","-",1,"-",3,5,2,4,5,2,{"$nulls":7},141,113,61,43,9,8,7,13,41,"-","-","-","-",1,"-",40,"-","-","-","-","-","-",null,null,46,{"v":2874,"d":"2,874"},766,275,{"v":1833,"d":"1,833"},73,67,38,24,5,"-",6,"-",68,46,23,19,4,8,1,13]
["山梨県","南アルプス市","大井村","下宮地"]
["山梨県","南アルプス市","大井村","江原"]
["山梨県","南アルプス市","大井村","鮎沢"]
["山梨県","南アルプス市","大井村","古市場"]
["山梨県","南アルプス市","南湖村",null,244,144,18,17,22,3,104,100,346,8,7,7,11,7,19,15,29,37,54,39,38,33,22,20,60.8,58.9,63.1,189,8,4,1,1,3,"-","-",8,7,19,30,36,31,21,20,{"v":68,"d":"68.0"},{"v":67,"d":"67.0"},68.9,149,"-","-",1,1,3,"-","-",6,5,12,28,32,28,18,15,71.3,71.3,71.2,144,"-","-","-","-",1,1,6,11,16,32,21,20,18,11,7,64,"-","-","-","-",1,4,4,11,13,11,10,5,5,{"$nulls":7},461,348,149,177,22,45,32,36,120,58,"-","-","-",4,33,23,1,"-","-","-","-",1,null,null,144,{"v":10049,"d":"10,049"},{"v":6067,"d":"6,067"},{"v":2437,"d":"2,437"},{"v":1545,"d":"1,545"},225,199,84,101,14,1,12,13,236,149,65,76,8,44,20,23]
["山梨県","南アルプス市","南湖村","田島"]
["山梨県","南アルプス市","南湖村","西南湖"]
["山梨県","南アルプス市","南湖村","和泉"]
["山梨県","南アルプス市","南湖村","東南湖"]
["山梨県","南アルプス市","五明村",null,123,38,3,1,5,"-",30,85,91,6,2,1,"-",1,6,9,7,1,6,8,16,14,13,1,61.5,59.9,63.5,55,5,2,"-","-","-","-","-",3,1,1,2,13,14,13,1,67.5,66.5,68.6,35,"-","-","-","-","-","-","-",2,"-",1,1,9,10,11,1,75.6,77.1,72.8,38,"-","-","-","-","-",1,5,2,"-",3,4,8,7,7,1,20,"-","-","-","-",2,"-","-","-",2,4,6,5,1,{"$nulls":7},113,77,35,35,7,16,11,9,32,12,"-",1,"-",1,"-",16,1,1,"-","-","-","-",null,null,37,{"v":2146,"d":"2,146"},{"v":1094,"d":"1,094"},208,844,56,48,23,20,5,"-",8,"-",57,29,12,15,2,16,3,9]
["山梨県","南アルプス市","五明村","荊沢"]
["山梨県","南アルプス市","五明村","大師"]
["山梨県","南アルプス市","五明村","清水"]
["山梨県","南アルプス市","五明村","宮沢"]
["山梨県","南アルプス市","五明村","戸田"]
["山梨県","南アルプス市","落合村",null,227,167,26,24,38,19,103,60,398,1,5,8,16,11,17,16,22,35,52,63,47,45,32,28,63.5,62.4,64.8,256,1,4,"-",2,2,2,"-",8,11,29,50,43,45,32,27,70.8,71.5,{"v":70,"d":"70.0"},234,"-",1,"-",1,1,1,"-",8,11,27,49,43,41,28,23,71.5,72.1,70.9,167,"-","-","-",2,"-",1,1,8,10,24,36,26,26,19,14,61,"-","-","-","-","-",2,"-",6,10,13,12,10,8,{"$nulls":7},494,421,234,175,12,20,12,41,163,"-","-","-","-","-","-",163,"-","-","-","-","-","-",null,null,167,{"v":11354,"d":"11,354"},254,130,{"v":10970,"d":"10,970"},251,236,127,100,9,"-",5,10,243,185,107,75,3,20,7,31]
["山梨県","南アルプス市","落合村","東落合"]
["山梨県","南アルプス市","落合村","西落合"]
["山梨県","南アルプス市","落合村","西新居"]
["山梨県","南アルプス市","落合村","秋山"]
["山梨県","南アルプス市","落合村","湯沢"]
["山梨県","南アルプス市","落合村","塚原"]
["山梨県","南アルプス市","落合村","川上"]
["山梨県","北杜市",null,null,{"v":4612,"d":"4,612"},{"v":2481,"d":"2,481"},301,221,439,128,{"v":1741,"d":"1,741"},{"v":2131,"d":"2,131"},{"v":5956,"d":"5,956"},105,123,159,153,181,313,335,421,532,694,744,689,636,504,367,61.6,60.7,62.6,{"v":3464,"d":"3,464"},84,49,24,23,34,48,69,76,136,333,529,605,603,490,361,69.3,69.7,68.9,{"v":2804,"d":"2,804"},"-",3,10,15,22,30,45,57,107,282,461,526,541,425,280,71.8,71.6,72.1,{"v":2481,"d":"2,481"},"-","-",1,6,10,37,81,128,237,358,393,381,361,297,191,{"v":1351,"d":"1,351"},"-","-","-",4,16,54,116,179,219,218,212,197,136,{"$nulls":7},{"v":7240,"d":"7,240"},{"v":5681,"d":"5,681"},{"v":2804,"d":"2,804"},{"v":2527,"d":"2,527"},350,550,452,557,{"v":2257,"d":"2,257"},{"v":1869,"d":"1,869"},8,36,2,177,16,66,25,11,26,11,"-",8,null,null,{"v":2475,"d":"2,475"},{"v":246182,"d":"246,182"},{"v":172294,"d":"172,294"},{"v":67701,"d":"67,701"},{"v":6187,"d":"6,187"},{"v":3686,"d":"3,686"},{"v":3258,"d":"3,258"},{"v":1619,"d":"1,619"},{"v":1420,"d":"1,420"},219,7,250,171,{"v":3554,"d":"3,554"},{"v":2423,"d":"2,423"},{"v":1185,"d":"1,185"},{"v":1107,"d":"1,107"},131,543,202,386]
["山梨県","北杜市","朝神村",null,255,174,19,16,34,9,121,81,416,5,7,11,10,17,23,20,28,46,49,44,50,47,35,24,61.7,60.4,63.2,233,4,1,"-",1,2,3,4,4,13,23,31,47,45,32,23,70.6,69.6,71.5,201,"-",1,"-","-",1,2,2,4,11,19,29,43,41,28,20,72.1,70.8,73.6,174,"-","-","-","-","-",1,3,6,22,29,21,32,26,23,11,96,"-","-","-",1,2,2,9,12,7,20,19,16,8,{"$nulls":7},487,402,201,174,27,25,28,32,164,137,"-",1,"-",17,"-",5,1,1,"-",1,"-",1,null,null,174,{"v":16979,"d":"16,979"},{"v":10460,"d":"10,460"},{"v":6219,"d":"6,219"},300,241,217,111,90,16,"-",18,6,246,185,90,84,11,25,10,26]
["山梨県","北杜市","朝神村","浅尾"]
["山梨県","北杜市","朝神村","東光"]
["山梨県","北杜市","朝神村","浅尾原"]
["山梨県","北杜市","朝神村","中込"]
["山梨県","北杜市","朝神村","浅尾新田"]
["山梨県","北杜市","朝神村","上神取"]
["山梨県","北杜市","朝神村","御領平"]
["山梨県","北杜市","朝神村","下神取"]
["山梨県","北杜市","上手村",null,231,133,17,16,21,6,95,98,302,6,2,4,4,9,17,25,17,23,36,41,41,38,22,17,62.8,61.2,64.7,195,4,"-","-",1,3,3,4,1,11,23,31,38,37,22,17,69.7,69.9,69.5,157,"-","-","-",1,1,1,3,1,7,18,28,31,32,20,14,71.8,71.7,71.8,133,"-","-","-","-","-","-",4,5,9,18,25,24,24,13,11,76,"-","-","-","-",1,3,3,7,15,13,15,10,9,{"$nulls":7},368,298,157,128,13,29,14,27,124,99,"-","-","-",18,"-",4,2,"-","-","-","-",1,null,null,133,{"v":11615,"d":"11,615"},{"v":7398,"d":"7,398"},{"v":3555,"d":"3,555"},662,190,172,90,77,5,"-",9,9,178,126,67,51,8,29,5,18]
["山梨県","北杜市","上手村","戸崎"]
["山梨県","北杜市","上手村","一本松"]
["山梨県","北杜市","上手村","西村"]
["山梨県","北杜市","上手村","南組"]
["山梨県","北杜市","上手村","中筋"]
["山梨県","北杜市","上手村","前宮"]
["山梨県","北杜市","上手村","大久保"]
["山梨県","北杜市","上手村","藤内"]
["山梨県","北杜市","上手村","北組道下"]
["山梨県","北杜市","上手村","北組道上"]
["山梨県","北杜市","上手村","谷井"]
["山梨県","北杜市","上手村","永井南"]
["山梨県","北杜市","上手村","永井北"]
["山梨県","北杜市","上手村","小袖"]
["山梨県","北杜市","小笠原村",null,133,79,9,7,12,5,58,54,193,"-",4,12,7,6,3,7,15,22,27,31,20,20,7,12,60.8,58.9,{"v":63,"d":"63.0"},101,"-","-",2,1,"-","-",1,5,6,12,17,19,19,7,12,70.5,{"v":70,"d":"70.0"},{"v":71,"d":"71.0"},84,"-","-",1,1,"-","-",1,5,2,8,16,18,17,7,8,71.1,69.7,{"v":73,"d":"73.0"},79,"-","-","-","-","-",1,3,5,8,12,18,12,11,5,4,49,"-","-","-","-",1,3,6,8,12,6,5,4,4,{"$nulls":7},222,178,84,85,9,20,6,18,71,56,"-","-","-",13,"-",1,"-","-","-",1,"-","-",null,null,79,{"v":6182,"d":"6,182"},{"v":3371,"d":"3,371"},{"v":2732,"d":"2,732"},79,113,105,49,50,6,"-",4,4,109,73,35,35,3,20,2,14]
["山梨県","北杜市","小笠原村","三之蔵"]
["山梨県","北杜市","小笠原村","厚芝"]
["山梨県","北杜市","小笠原村","原"]
["山梨県","北杜市","小笠原村","小笠原"]
["山梨県","北杜市","小笠原村","正楽寺"]
["山梨県","北杜市","小笠原村","大内"]
["山梨県","北杜市","津金村",null,104,64,5,1,7,3,52,40,132,3,2,1,4,6,5,6,9,7,16,15,17,14,19,8,63.6,62.7,64.6,83,1,2,"-",1,"-",1,2,2,1,4,13,15,14,19,8,71.3,72.6,69.9,69,"-","-","-",1,"-",1,"-","-",1,3,11,14,12,19,7,74.7,75.3,73.9,64,"-","-","-","-",1,"-",1,5,2,10,8,11,8,12,6,37,"-","-","-","-","-",2,1,5,5,9,4,7,4,{"$nulls":7},163,129,69,55,5,9,13,12,51,39,"-","-","-",1,"-",11,"-","-","-","-","-","-",null,null,64,{"v":5325,"d":"5,325"},{"v":3573,"d":"3,573"},{"v":1028,"d":"1,028"},724,90,77,40,32,5,"-",12,1,73,52,29,23,"-",9,1,11]
["山梨県","北杜市","津金村","大和"]
["山梨県","北杜市","津金村","桑原"]
["山梨県","北杜市","津金村","御所"]
["山梨県","北杜市","津金村","下原"]
["山梨県","北杜市","津金村","和田"]
["山梨県","北杜市","若神子村",null,199,87,11,5,20,4,56,112,208,6,2,5,3,7,11,14,13,22,29,19,22,23,19,13,61.6,59.3,64.7,117,5,1,"-","-","-",3,3,"-",6,12,15,21,21,17,13,69.6,69.1,70.1,92,"-","-","-","-","-",2,2,"-",6,9,14,16,19,14,10,72.6,72.6,72.5,87,"-","-","-","-","-",3,3,6,10,17,9,10,15,8,6,45,"-","-","-",1,1,2,3,8,6,8,6,6,4,{"$nulls":7},254,200,92,97,11,23,10,21,78,70,"-","-","-",5,"-",2,"-","-",1,"-","-","-",null,null,87,{"v":7040,"d":"7,040"},{"v":5125,"d":"5,125"},{"v":1505,"d":"1,505"},410,132,121,54,61,6,"-",6,5,122,79,38,36,5,23,4,16]
["山梨県","北杜市","若神子村","川又"]
["山梨県","北杜市","若神子村","前村"]
["山梨県","北杜市","若神子村","中村"]
["山梨県","北杜市","若神子村","二日市場"]
["山梨県","北杜市","若神子村","上宿"]
["山梨県","北杜市","若神子村","中町"]
["山梨県","北杜市","若神子村","下宿"]
["山梨県","北杜市","若神子村","竹の内"]
["山梨県","北杜市","若神子村","下和田"]
["山梨県","北杜市","若神子村","若神子新町"]
["山梨県","北杜市","若神子村","境之沢"]
["山梨県","北杜市","穂足村",null,140,51,4,3,7,4,40,89,114,1,1,1,2,4,5,8,14,4,12,19,14,11,13,5,63.2,64.5,61.8,67,1,1,"-","-","-","-","-",2,"-",6,15,13,11,13,5,71.8,{"v":70,"d":"70.0"},74.1,55,"-","-","-","-","-","-","-",2,"-",5,13,8,10,12,5,73.7,72.6,75.7,51,"-","-","-","-","-","-",1,5,2,5,10,9,7,8,4,28,"-","-","-","-","-",1,2,2,6,5,5,6,1,{"$nulls":7},143,108,55,47,6,13,12,10,43,43,"-","-","-","-","-","-","-","-","-","-","-","-",null,null,51,{"v":3691,"d":"3,691"},{"v":3254,"d":"3,254"},411,26,69,56,34,17,5,"-",8,5,74,52,21,30,1,13,4,5]
["山梨県","北杜市","穂足村","大蔵"]
["山梨県","北杜市","穂足村","大蔵新田"]
["山梨県","北杜市","穂足村","覚林寺"]
["山梨県","北杜市","穂足村","田屋"]
["山梨県","北杜市","穂足村","大豆生田下組"]
["山梨県","北杜市","穂足村","百観音"]
["山梨県","北杜市","穂足村","藤田下組"]
["山梨県","北杜市","穂足村","藤田上組"]
["山梨県","北杜市","多麻村",null,91,45,4,2,4,"-",37,46,101,2,"-","-",5,3,5,4,6,8,10,10,17,13,14,4,64.1,62.8,65.6,64,2,"-","-","-","-",2,"-",1,1,6,7,14,13,14,4,71.5,70.7,72.2,51,"-","-","-","-","-","-","-",1,1,4,7,12,12,11,3,{"v":74,"d":"74.0"},{"v":74,"d":"74.0"},{"v":74,"d":"74.0"},45,"-","-","-","-","-","-",1,2,3,5,7,9,7,8,3,31,"-","-","-","-",1,1,3,4,5,5,5,6,1,{"$nulls":7},130,100,51,39,10,13,9,8,36,33,"-","-","-",1,"-",1,"-",1,"-","-","-","-",null,null,45,{"v":3420,"d":"3,420"},{"v":2955,"d":"2,955"},273,192,69,57,29,22,6,"-",7,5,61,43,22,17,4,13,2,3]
["山梨県","北杜市","多麻村","上小倉"]
["山梨県","北杜市","多麻村","中小倉"]
["山梨県","北杜市","多麻村","下小倉"]
["山梨県","北杜市","多麻村","東向"]
["山梨県","北杜市","江草村",null,141,36,5,5,5,"-",26,105,82,2,1,1,4,1,2,5,6,8,8,10,10,7,8,9,63.2,60.7,66.6,48,2,"-","-",2,"-","-","-","-",2,5,6,7,7,8,9,70.8,68.5,74.3,41,"-","-","-",2,"-","-","-","-",1,5,6,7,6,7,7,72.5,72.3,72.9,36,"-","-","-",1,"-","-","-",1,4,6,5,5,4,5,5,19,"-","-","-","-","-",1,2,5,3,2,2,1,3,{"$nulls":7},99,81,41,33,7,6,8,4,32,26,"-","-","-",4,"-","-","-",2,"-","-","-","-",null,null,36,{"v":3943,"d":"3,943"},{"v":3381,"d":"3,381"},540,22,54,46,27,15,4,1,6,1,45,35,14,18,3,5,2,3]
["山梨県","北杜市","江草村","小池平"]
["山梨県","北杜市","江草村","昭栄"]
["山梨県","北杜市","江草村","仁田平"]
["山梨県","北杜市","江草村","根古屋"]
["山梨県","北杜市","江草村","平"]
["山梨県","北杜市","江草村","後藤田"]
["山梨県","北杜市","江草村","馬場"]
["山梨県","北杜市","江草村","八巻"]
["山梨県","北杜市","江草村","漆戸"]
["山梨県","北杜市","江草村","大渡"]
["山梨県","北杜市","江草村","原"]
["山梨県","北杜市","江草村","宮平"]
["山梨県","北杜市","増富村",null,90,19,2,2,4,2,13,71,38,"-","-",2,1,4,1,"-","-","-",6,5,3,7,6,3,66.1,68.1,63.4,26,"-","-","-","-",2,"-","-","-","-",3,3,3,6,6,3,73.2,73.4,72.6,22,"-","-","-","-",1,"-","-","-","-",3,3,3,6,5,1,72.8,71.2,{"v":77,"d":"77.0"},19,"-","-","-","-",2,"-","-","-","-",3,2,1,5,4,2,6,"-","-","-","-","-","-","-",2,"-","-",1,2,1,{"$nulls":7},39,34,22,8,4,1,"-",4,16,10,"-",3,"-",2,"-","-","-",1,"-","-","-","-",null,null,19,{"v":1377,"d":"1,377"},{"v":1022,"d":"1,022"},351,4,22,20,16,3,1,"-","-",2,17,14,6,5,3,1,"-",2]
["山梨県","北杜市","増富村","比志"]
["山梨県","北杜市","増富村","樫山"]
["山梨県","北杜市","増富村","日向"]
["山梨県","北杜市","増富村","日影"]
["山梨県","北杜市","増富村","東小尾"]
["山梨県","北杜市","増富村","黒森"]
["山梨県","北杜市","増富村","和田"]
["山梨県","北杜市","増富村","御門"]
["山梨県","北杜市","増富村","神戸"]
["山梨県","北杜市","増富村","塩川"]
["山梨県","北杜市","増富村","戸屋"]
["山梨県","北杜市","増富村","方伝"]
["山梨県","北杜市","安都那村",null,223,147,20,14,30,8,97,76,372,6,7,17,11,13,22,15,25,38,67,42,42,26,21,20,59.5,58.1,61.2,197,5,1,4,1,1,3,1,5,10,32,29,38,26,21,20,68.2,67.7,68.7,154,"-","-",2,"-",1,2,"-",5,8,27,24,29,26,16,14,70.1,{"v":69,"d":"69.0"},71.7,147,"-","-","-","-","-",4,2,9,18,33,24,20,20,9,8,80,"-","-","-","-","-",5,10,18,12,11,13,7,4,{"$nulls":7},462,358,154,185,19,33,25,46,137,128,"-","-","-",3,1,3,1,"-",1,"-","-","-",null,null,147,{"v":16147,"d":"16,147"},{"v":12072,"d":"12,072"},{"v":3784,"d":"3,784"},291,231,202,89,99,14,"-",14,15,231,156,65,86,5,33,11,31]
["山梨県","北杜市","安都那村","海道上"]
["山梨県","北杜市","安都那村","海道下"]
["山梨県","北杜市","安都那村","新田"]
["山梨県","北杜市","安都那村","大林"]
["山梨県","北杜市","安都那村","大坪"]
["山梨県","北杜市","安都那村","中尾根"]
["山梨県","北杜市","安都那村","久保"]
["山梨県","北杜市","安都那村","梅ノ木"]
["山梨県","北杜市","安都那村","原屋敷"]
["山梨県","北杜市","安都那村","東田"]
["山梨県","北杜市","安都那村","梨ノ木"]
["山梨県","北杜市","安都那村","上ノ反"]
["山梨県","北杜市","安都那村","紺屋"]
["山梨県","北杜市","安都那村","石田"]
["山梨県","北杜市","安都那村","箕輪新町"]
["山梨県","北杜市","安都那村","箕輪横森"]
["山梨県","北杜市","熱見村",null,179,110,14,9,16,8,80,69,257,3,8,6,10,7,12,15,21,25,27,42,27,22,15,17,60.6,60.1,61.2,150,2,3,3,"-",3,"-",4,5,7,13,31,26,21,15,17,68.2,68.5,67.8,122,"-","-",1,"-",2,"-",4,4,5,10,24,24,18,14,16,71.1,70.5,{"v":72,"d":"72.0"},110,"-","-",1,"-","-",1,5,5,13,16,21,18,16,8,6,61,"-","-","-","-",1,2,5,7,12,10,13,5,6,{"$nulls":7},324,255,122,124,9,28,19,22,103,91,"-","-","-",7,3,"-","-","-","-",1,"-",1,null,null,110,{"v":10967,"d":"10,967"},{"v":8272,"d":"8,272"},{"v":2674,"d":"2,674"},21,165,151,75,68,8,1,8,5,159,104,47,56,1,27,11,17]
["山梨県","北杜市","熱見村","宮本"]
["山梨県","北杜市","熱見村","西原"]
["山梨県","北杜市","熱見村","赤羽根"]
["山梨県","北杜市","熱見村","六ツ根"]
["山梨県","北杜市","熱見村","長南"]
["山梨県","北杜市","熱見村","上蔵原"]
["山梨県","北杜市","熱見村","中蔵原"]
["山梨県","北杜市","熱見村","下蔵原"]
["山梨県","北杜市","熱見村","小池"]
["山梨県","北杜市","甲村",null,178,97,13,10,17,5,67,81,243,3,6,7,6,7,12,16,25,27,24,30,25,18,24,13,60.7,59.4,62.1,135,3,2,2,1,1,2,5,7,7,8,21,22,18,24,12,68.2,66.9,69.4,105,"-","-",1,"-",1,2,2,6,6,8,16,19,18,18,8,70.5,69.4,71.7,97,"-","-","-","-",1,1,4,11,11,13,17,14,9,11,5,45,"-","-","-","-","-",2,6,5,9,7,6,6,4,{"$nulls":7},303,224,105,104,15,22,26,31,82,68,"-","-","-",6,2,1,3,"-","-",2,"-","-",null,null,96,{"v":8396,"d":"8,396"},{"v":5812,"d":"5,812"},{"v":2523,"d":"2,523"},61,145,121,55,56,10,"-",12,12,158,103,50,48,5,22,14,19]
["山梨県","北杜市","甲村","和田"]
["山梨県","北杜市","甲村","打越乙坂"]
["山梨県","北杜市","甲村","志合"]
["山梨県","北杜市","甲村","丸山"]
["山梨県","北杜市","甲村","前田"]
["山梨県","北杜市","甲村","東尾根"]
["山梨県","北杜市","甲村","宮尾根"]
["山梨県","北杜市","甲村","古屋巻"]
["山梨県","北杜市","甲村","御所"]
["山梨県","北杜市","甲村","山西"]
["山梨県","北杜市","甲村","和手沖"]
["山梨県","北杜市","甲村","久保"]
["山梨県","北杜市","安都玉村",null,260,138,18,14,29,8,91,122,356,15,14,10,5,11,26,30,24,25,35,49,33,41,27,11,58.3,57.9,58.8,207,15,10,1,2,2,3,11,4,8,16,32,29,37,26,11,63.4,64.6,62.3,161,"-","-","-",2,1,"-",5,4,6,16,31,27,33,26,10,71.2,71.3,71.1,138,"-","-","-",2,"-",2,9,11,12,20,22,21,19,15,5,80,"-","-","-","-",1,5,7,11,12,15,12,12,5,{"$nulls":7},425,329,161,148,20,20,48,28,128,106,"-","-",1,9,5,4,2,"-",1,"-","-","-",null,null,138,{"v":14134,"d":"14,134"},{"v":10334,"d":"10,334"},{"v":3275,"d":"3,275"},525,217,184,86,88,10,"-",26,7,208,145,75,60,10,20,22,21]
["山梨県","北杜市","安都玉村","持井"]
["山梨県","北杜市","安都玉村","於小路"]
["山梨県","北杜市","安都玉村","八ツ牛"]
["山梨県","北杜市","安都玉村","新井"]
["山梨県","北杜市","安都玉村","横森"]
["山梨県","北杜市","安都玉村","旭"]
["山梨県","北杜市","安都玉村","堤"]
["山梨県","北杜市","安都玉村","東井出東西"]
["山梨県","北杜市","安都玉村","東井出上"]
["山梨県","北杜市","安都玉村","原長沢上"]
["山梨県","北杜市","安都玉村","原長沢下"]
["山梨県","北杜市","安都玉村","向日"]
["山梨県","北杜市","安都玉村","窪長沢上"]
["山梨県","北杜市","安都玉村","窪長沢下"]
["山梨県","北杜市","安都玉村","上の原"]
["山梨県","北杜市","安都玉村","玉山"]
["山梨県","北杜市","清里村",null,105,61,22,21,11,4,28,44,146,3,2,1,3,7,14,11,10,19,20,23,12,12,5,4,58.2,57.3,59.4,96,3,1,"-",2,4,5,6,1,10,13,19,11,12,5,4,61.9,61.3,62.9,87,"-","-","-",2,4,4,6,1,9,13,18,11,12,3,4,63.7,63.4,64.1,61,"-","-","-","-","-",3,7,4,9,12,13,7,3,2,1,26,"-","-","-","-",1,2,2,5,9,2,3,1,1,{"$nulls":7},184,149,87,57,5,7,11,17,60,13,"-",9,"-",16,"-",2,"-",2,16,"-","-","-",null,null,60,{"v":15191,"d":"15,191"},{"v":3859,"d":"3,859"},{"v":11234,"d":"11,234"},98,98,85,51,29,5,"-",6,7,86,64,36,28,"-",7,5,10]
["山梨県","北杜市","清里村","浅川"]
["山梨県","北杜市","清里村","東原"]
["山梨県","北杜市","清里村","上手"]
["山梨県","北杜市","清里村","西村"]
["山梨県","北杜市","清里村","下念場"]
["山梨県","北杜市","清里村","東念場"]
["山梨県","北杜市","清里村","八ケ岳"]
["山梨県","北杜市","清里村","朝日丘"]
["山梨県","北杜市","清里村","駅前・小海線以北"]
["山梨県","北杜市","日野春村",null,237,125,16,11,22,7,87,112,305,5,9,8,8,10,17,19,20,28,33,45,35,26,23,19,60.6,59.6,61.9,174,3,1,2,1,"-",4,4,4,7,19,33,30,24,23,19,69.4,68.6,70.2,148,"-","-","-",1,"-",4,4,3,7,19,27,27,20,20,16,70.6,71.1,69.9,125,"-","-","-",1,"-",3,8,3,13,20,18,22,12,13,12,63,"-","-","-",1,2,1,7,8,13,9,7,4,11,{"$nulls":7},373,308,148,146,14,28,23,14,107,87,1,1,"-",10,"-",6,"-","-","-",1,"-",1,null,null,125,{"v":10531,"d":"10,531"},{"v":6779,"d":"6,779"},{"v":3377,"d":"3,377"},375,196,175,85,80,10,1,16,4,177,133,63,66,4,27,7,10]
["山梨県","北杜市","日野春村","塚川上"]
["山梨県","北杜市","日野春村","塚川原町"]
["山梨県","北杜市","日野春村","渋沢"]
["山梨県","北杜市","日野春村","上条"]
["山梨県","北杜市","日野春村","下条"]
["山梨県","北杜市","日野春村","日野"]
["山梨県","北杜市","日野春村","富岡"]
["山梨県","北杜市","日野春村","長坂"]
["山梨県","北杜市","日野春村","塚川下"]
["山梨県","北杜市","清春村２－１",null,92,54,7,5,6,1,41,38,125,3,4,7,"-",5,3,5,5,7,12,19,21,14,12,8,62.7,62.3,63.1,82,2,1,3,"-",1,"-",2,1,4,6,13,16,14,11,8,68.7,71.6,66.4,70,"-","-",1,"-","-","-",1,"-",4,6,12,16,12,11,7,72.5,71.4,73.7,54,"-","-","-","-","-","-",2,2,3,7,6,15,8,7,4,22,"-","-","-","-","-",2,2,2,3,5,5,2,1,{"$nulls":7},150,118,70,38,10,10,8,14,51,40,"-","-","-",4,"-",2,"-","-",5,"-","-","-",null,null,54,{"v":8941,"d":"8,941"},{"v":5448,"d":"5,448"},{"v":3446,"d":"3,446"},47,72,66,36,23,7,"-",2,4,78,52,34,15,3,10,6,10]
["山梨県","北杜市","清春村２－１","中島"]
["山梨県","北杜市","清春村２－１","蕪"]
["山梨県","北杜市","清春村２－１","中丸"]
["山梨県","北杜市","清春村２－１","柿平"]
["山梨県","北杜市","清春村２－１","鳥久保"]
["山梨県","北杜市","小泉村",null,175,85,10,5,13,4,62,90,203,3,3,7,5,6,12,9,15,20,17,22,24,35,13,12,62.2,62.2,62.2,113,1,1,4,2,"-",2,"-",5,5,7,10,20,32,12,12,69.9,70.2,69.5,101,"-","-",3,2,"-",1,"-",4,4,6,10,20,31,10,10,71.2,71.6,70.7,85,"-","-","-","-","-",1,1,2,8,10,13,11,25,10,4,43,"-","-","-","-","-",1,1,5,10,6,11,5,4,{"$nulls":7},246,202,101,94,7,17,17,10,79,67,"-",1,"-",7,"-",3,1,"-","-","-","-","-",null,null,85,{"v":9598,"d":"9,598"},{"v":7388,"d":"7,388"},{"v":2076,"d":"2,076"},134,127,115,57,53,5,"-",10,2,119,87,44,41,2,17,7,8]
["山梨県","北杜市","小泉村","東村"]
["山梨県","北杜市","小泉村","中村"]
["山梨県","北杜市","小泉村","横針"]
["山梨県","北杜市","小泉村","菅沼"]
["山梨県","北杜市","小泉村","大井ケ森"]
["山梨県","北杜市","小泉村","上の原"]
["山梨県","北杜市","小泉村","小荒間"]
["山梨県","北杜市","秋田村",null,190,93,8,4,19,5,66,97,250,1,3,10,5,8,19,12,26,19,27,28,25,25,20,22,61.8,60.7,62.9,125,"-","-","-","-","-",2,"-",3,3,11,18,22,24,20,22,74.2,75.1,73.5,109,"-","-","-","-","-",1,"-",1,3,10,15,22,23,16,18,74.4,{"v":75,"d":"75.0"},73.9,93,"-","-","-","-","-",2,2,5,6,13,15,12,16,11,11,64,"-","-","-","-","-",3,4,9,12,7,12,10,7,{"$nulls":7},305,247,109,124,14,19,21,18,84,80,"-","-","-",2,1,"-","-","-","-",1,"-","-",null,null,93,{"v":6730,"d":"6,730"},{"v":5328,"d":"5,328"},{"v":1267,"d":"1,267"},135,151,133,56,70,7,"-",11,7,154,114,53,54,7,19,10,11]
["山梨県","北杜市","秋田村","夏秋"]
["山梨県","北杜市","秋田村","下村"]
["山梨県","北杜市","秋田村","栗林"]
["山梨県","北杜市","秋田村","町添"]
["山梨県","北杜市","秋田村","成岡"]
["山梨県","北杜市","秋田村","西和田"]
["山梨県","北杜市","秋田村","大久保"]
["山梨県","北杜市","秋田村","南新居"]
["山梨県","北杜市","秋田村","東原"]
["山梨県","北杜市","大泉村",null,399,231,20,14,37,6,174,168,571,11,13,14,10,14,30,37,45,54,52,68,69,71,46,37,{"v":62,"d":"62.0"},61.4,62.7,342,11,7,1,2,3,3,5,11,7,24,56,62,67,46,37,69.5,70.8,68.2,259,"-","-","-","-",2,1,2,5,4,17,47,54,61,40,26,73.5,73.5,73.5,231,"-","-","-","-",2,3,7,15,23,24,34,35,39,30,19,135,"-","-","-","-",2,6,16,12,20,21,25,19,14,{"$nulls":7},682,523,259,228,36,57,46,56,216,171,7,18,"-",18,"-","-",2,"-","-","-","-","-",null,null,231,{"v":21318,"d":"21,318"},{"v":16367,"d":"16,367"},{"v":4860,"d":"4,860"},91,345,306,144,142,20,1,22,16,337,217,115,86,16,56,24,40]
["山梨県","北杜市","大泉村","寺所"]
["山梨県","北杜市","大泉村","下井出"]
["山梨県","北杜市","大泉村","天神"]
["山梨県","北杜市","大泉村","宮地"]
["山梨県","北杜市","大泉村","辻中"]
["山梨県","北杜市","大泉村","新井"]
["山梨県","北杜市","大泉村","姥神"]
["山梨県","北杜市","大泉村","東原"]
["山梨県","北杜市","大泉村","若林"]
["山梨県","北杜市","大泉村","油川"]
["山梨県","北杜市","大泉村","石堂第１"]
["山梨県","北杜市","大泉村","石堂第２"]
["山梨県","北杜市","大泉村","大泉駅前"]
["山梨県","北杜市","大泉村","帰農"]
["山梨県","北杜市","大泉村","大開"]
["山梨県","北杜市","大泉村","富谷"]
["山梨県","北杜市","大泉村","宮川"]
["山梨県","北杜市","大泉村","豊武"]
["山梨県","北杜市","大泉村","下新居"]
["山梨県","北杜市","大泉村","町屋"]
["山梨県","北杜市","大泉村","城南"]
["山梨県","北杜市","大泉村","宮下"]
["山梨県","北杜市","大泉村","宮上"]
["山梨県","北杜市","鳳来村",null,126,66,8,6,17,6,41,60,156,4,4,4,4,2,9,11,9,16,21,16,19,19,9,9,60.8,61.9,59.5,91,3,3,"-","-",1,4,1,3,4,11,11,17,16,9,8,66.8,70.7,63.1,70,"-",1,"-","-","-",2,1,2,4,10,10,13,16,7,4,69.6,71.5,{"v":67,"d":"67.0"},66,"-","-","-","-","-",2,3,2,7,10,11,9,13,4,5,31,"-","-","-","-",2,1,3,2,4,5,7,3,4,{"$nulls":7},189,138,70,58,10,19,14,18,58,50,"-","-","-",2,"-","-",3,"-","-",3,"-","-",null,null,66,{"v":6574,"d":"6,574"},{"v":5282,"d":"5,282"},{"v":1229,"d":"1,229"},63,93,81,41,32,8,2,6,4,96,57,29,26,2,17,8,14]
["山梨県","北杜市","鳳来村","大武川"]
["山梨県","北杜市","鳳来村","山口"]
["山梨県","北杜市","鳳来村","上教来石"]
["山梨県","北杜市","鳳来村","下教来石"]
["山梨県","北杜市","鳳来村","荒田"]
["山梨県","北杜市","鳳来村","松原"]
["山梨県","北杜市","鳳来村","鳥原"]
["山梨県","北杜市","菅原村",null,184,118,16,12,24,10,78,66,290,8,4,9,7,9,19,17,18,16,32,26,35,37,31,22,62.2,61.7,62.8,183,7,"-","-",2,2,1,4,3,4,15,22,34,37,30,22,70.8,71.4,70.1,154,"-","-","-","-",2,1,4,3,3,10,22,29,31,30,19,73.4,72.9,74.1,118,"-","-","-","-",1,3,3,4,8,13,17,16,18,20,15,70,"-","-","-",1,"-",3,5,6,6,15,10,13,11,{"$nulls":7},352,287,154,124,9,23,20,22,106,77,"-","-",1,8,2,13,3,1,1,"-","-","-",null,null,116,{"v":13730,"d":"13,730"},{"v":10503,"d":"10,503"},{"v":2240,"d":"2,240"},987,177,159,86,67,6,"-",11,7,175,128,68,57,3,23,9,15]
["山梨県","北杜市","菅原村","竹宇"]
["山梨県","北杜市","菅原村","前沢"]
["山梨県","北杜市","菅原村","白須上"]
["山梨県","北杜市","菅原村","白須下"]
["山梨県","北杜市","菅原村","台ケ原"]
["山梨県","北杜市","清春村２－２",null,27,7,"-","-",1,1,6,20,16,"-","-",2,1,"-","-","-",1,2,"-",3,2,2,1,2,{"v":63,"d":"63.0"},58.7,66.3,11,"-","-",1,"-","-","-","-","-","-","-",3,2,2,1,2,71.2,65.4,{"v":76,"d":"76.0"},9,"-","-",1,"-","-","-","-","-","-","-",2,2,2,1,1,69.9,65.4,75.5,7,"-","-","-","-","-","-","-",1,1,"-",1,1,1,1,1,4,"-","-","-","-","-",1,1,"-",1,"-","-","-",1,{"$nulls":7},19,15,9,6,"-",2,"-",2,5,3,"-","-","-",1,"-",1,"-","-","-","-","-","-",null,null,7,415,329,36,50,9,9,5,4,"-","-","-","-",10,6,4,2,"-",2,"-",2]
["山梨県","北杜市","清春村２－２","花水"]
["山梨県","北杜市","駒城村２－１",null,98,55,12,12,7,"-",36,43,124,1,2,5,4,2,6,4,8,13,13,17,16,15,10,8,62.7,63.6,61.7,77,1,1,"-",1,2,1,2,2,3,9,10,13,14,10,8,69.3,69.9,68.4,63,"-","-","-",1,1,1,2,2,3,8,8,12,14,6,5,69.7,{"v":70,"d":"70.0"},69.3,55,"-","-","-","-",1,2,"-",5,6,7,6,9,8,8,3,24,"-","-","-","-","-",1,3,4,3,4,3,4,2,{"$nulls":7},151,114,63,40,11,14,9,14,47,36,"-","-","-",5,"-","-","-",2,"-",1,"-",3,null,null,55,{"v":6778,"d":"6,778"},{"v":4801,"d":"4,801"},{"v":1878,"d":"1,878"},99,75,67,41,20,6,"-",2,6,76,47,22,20,5,14,7,8]
["山梨県","北杜市","駒城村２－１","横手"]
["山梨県","北杜市","駒城村２－１","大坊"]
["山梨県","北杜市","武川村",null,279,188,17,8,45,10,126,91,437,5,11,6,18,14,15,25,32,34,66,54,35,40,51,31,62.2,61.3,63.3,238,4,6,"-","-",2,3,6,4,4,29,32,29,38,51,30,{"v":71,"d":"71.0"},73.3,68.6,182,"-","-","-","-",1,2,3,1,3,25,29,25,26,44,23,73.6,74.3,72.6,188,"-","-","-","-","-",4,6,8,20,27,36,17,21,27,22,99,"-","-","-","-","-",3,5,18,20,8,10,20,15,{"$nulls":7},541,417,182,200,35,53,31,40,179,172,"-","-","-",3,"-",2,1,"-","-","-","-",1,null,null,188,{"v":16035,"d":"16,035"},{"v":13213,"d":"13,213"},{"v":2500,"d":"2,500"},322,277,248,113,116,19,"-",16,13,264,169,69,84,16,53,15,27]
["山梨県","北杜市","武川村","牧原"]
["山梨県","北杜市","武川村","上三吹"]
["山梨県","北杜市","武川村","下三吹"]
["山梨県","北杜市","武川村","山高"]
["山梨県","北杜市","武川村","黒澤"]
["山梨県","北杜市","武川村","新奥"]
["山梨県","北杜市","武川村","宮脇"]
["山梨県","北杜市","駒城村２－２",null,73,47,5,4,10,2,32,26,106,2,3,2,2,1,3,8,10,6,8,11,14,10,18,8,64.1,63.7,64.8,71,2,3,"-","-","-","-",1,1,3,4,9,12,10,18,8,70.6,71.7,69.2,49,"-","-","-","-","-","-","-",1,2,4,5,9,9,14,5,74.8,74.4,75.8,47,"-","-","-","-","-","-",1,"-",2,5,5,8,5,14,7,30,"-","-","-","-","-","-","-",3,2,5,4,12,4,{"$nulls":7},128,89,49,33,7,17,7,15,45,39,"-",1,"-",3,"-",2,"-","-","-","-","-","-",null,null,47,{"v":4301,"d":"4,301"},{"v":3431,"d":"3,431"},657,213,68,57,33,19,5,1,2,8,60,32,16,14,2,16,5,7]
["山梨県","北杜市","駒城村２－２","柳沢"]
["山梨県","北杜市","小淵沢村",null,196,62,3,2,8,4,51,134,161,5,5,2,6,1,9,6,7,16,11,16,24,21,20,12,63.3,{"v":63,"d":"63.0"},63.7,95,2,1,"-","-",1,3,2,"-",1,5,13,17,19,20,11,71.8,73.1,70.5,75,"-","-","-","-","-",3,2,"-","-",4,9,15,16,19,7,73.7,{"v":75,"d":"75.0"},{"v":72,"d":"72.0"},62,"-","-","-","-","-",1,1,1,5,8,7,13,9,12,5,34,"-","-","-","-","-","-",3,4,4,8,3,9,3,{"$nulls":7},184,140,75,53,12,14,11,19,53,44,"-",1,"-",3,"-",3,"-",1,1,"-","-","-",null,null,61,{"v":4586,"d":"4,586"},{"v":3384,"d":"3,384"},{"v":1075,"d":"1,075"},127,96,84,43,32,9,"-",6,6,88,56,32,21,3,14,5,13]
["山梨県","北杜市","小淵沢村","尾根"]
["山梨県","北杜市","小淵沢村","本町"]
["山梨県","北杜市","小淵沢村","宮久保"]
["山梨県","北杜市","小淵沢村","高野"]
["山梨県","北杜市","小淵沢村","久保"]
["山梨県","北杜市","小淵沢村","岩窪"]
["山梨県","北杜市","小淵沢村","大富"]
["山梨県","北杜市","小淵沢村","東和"]
["山梨県","北杜市","小淵沢村","豊畑"]
["山梨県","北杜市","篠尾村",null,207,109,16,13,13,6,80,98,252,2,6,5,8,7,13,6,12,27,36,39,37,22,15,17,62.3,61.2,63.9,143,1,3,1,3,4,"-",1,2,9,17,29,28,19,10,16,67.9,67.5,68.4,114,"-",1,"-",2,4,"-",1,2,7,15,25,20,18,7,12,68.7,68.2,69.6,109,"-","-","-",2,2,"-",4,5,12,15,22,20,12,9,6,53,"-","-","-","-",1,1,7,7,8,12,6,7,4,{"$nulls":7},317,238,114,99,25,28,16,35,102,84,"-",1,"-",9,2,"-",6,"-","-","-","-","-",null,null,108,{"v":12238,"d":"12,238"},{"v":9153,"d":"9,153"},{"v":2956,"d":"2,956"},129,164,144,73,55,16,"-",10,10,153,94,41,44,9,28,6,25]
["山梨県","北杜市","篠尾村","上笹尾"]
["山梨県","北杜市","篠尾村","下笹尾"]
["山梨県","北杜市","篠尾村","松向"]
["山梨県","北杜市","篠尾村","篠原"]
["山梨県","甲斐市",null,null,{"v":1360,"d":"1,360"},492,44,28,115,31,333,868,{"v":1255,"d":"1,255"},22,24,40,33,49,49,63,91,111,152,134,147,138,123,79,61.8,60.8,62.9,747,15,12,3,5,5,6,11,23,32,72,97,137,134,119,76,{"v":70,"d":"70.0"},70.6,69.4,592,2,"-",2,2,3,2,8,11,18,55,84,121,124,103,57,72.7,72.5,72.9,492,"-","-","-",1,2,5,11,12,40,79,70,79,73,80,40,320,"-","-","-",2,2,4,23,49,45,55,49,55,36,{"$nulls":7},{"v":1494,"d":"1,494"},{"v":1153,"d":"1,153"},592,501,60,137,97,107,388,210,1,8,1,48,2,116,"-","-",1,1,"-","-",null,null,492,{"v":35205,"d":"35,205"},{"v":20578,"d":"20,578"},{"v":7221,"d":"7,221"},{"v":7406,"d":"7,406"},744,653,326,288,39,3,53,35,750,500,266,213,21,134,44,72]
["山梨県","甲斐市","竜王村",null,263,71,4,3,24,5,43,192,202,8,5,9,8,12,12,4,16,18,28,16,13,19,22,12,58.4,56.6,60.2,115,7,5,2,1,1,2,1,2,7,13,9,12,19,22,12,65.8,65.3,66.1,75,"-","-",2,1,"-","-","-","-",4,8,8,8,17,18,9,73.2,72.8,73.6,71,"-","-","-","-","-",1,1,1,5,15,9,6,10,15,8,53,"-","-","-","-",1,"-",4,10,8,6,8,8,8,{"$nulls":7},229,169,75,83,11,27,16,17,57,36,"-","-","-",5,1,15,"-","-","-","-","-","-",null,null,71,{"v":3913,"d":"3,913"},{"v":2637,"d":"2,637"},745,531,111,99,40,50,9,"-",11,1,118,70,35,33,2,27,5,16]
["山梨県","甲斐市","竜王村","竜王一区"]
["山梨県","甲斐市","竜王村","竜王二区"]
["山梨県","甲斐市","竜王村","竜王三区"]
["山梨県","甲斐市","竜王村","四ツ谷"]
["山梨県","甲斐市","竜王村","上篠原"]
["山梨県","甲斐市","竜王村","古村"]
["山梨県","甲斐市","竜王村","新居"]
["山梨県","甲斐市","竜王村","仲新居"]
["山梨県","甲斐市","竜王村","榎"]
["山梨県","甲斐市","竜王村","田中"]
["山梨県","甲斐市","竜王村","万才"]
["山梨県","甲斐市","竜王村","富竹新田"]
["山梨県","甲斐市","竜王村","竜王新町"]
["山梨県","甲斐市","玉幡村",null,175,81,12,7,16,4,53,94,223,4,5,6,8,8,9,14,19,22,21,19,35,23,13,17,{"v":61,"d":"61.0"},60.4,61.5,145,3,3,"-",2,"-",3,3,8,10,10,16,34,23,13,17,68.3,70.7,66.4,102,"-","-","-","-","-",1,2,4,3,8,11,31,21,8,13,72.5,71.9,73.2,81,"-","-","-","-","-",1,3,1,4,16,9,18,12,8,9,45,"-","-","-","-","-",1,2,8,5,9,6,6,8,{"$nulls":7},261,194,102,87,5,34,15,18,74,34,"-",3,1,32,"-",4,"-","-","-","-","-","-",null,null,81,{"v":5479,"d":"5,479"},{"v":4756,"d":"4,756"},383,340,124,111,58,51,2,1,7,5,137,83,44,36,3,33,8,13]
["山梨県","甲斐市","玉幡村","上八幡"]
["山梨県","甲斐市","玉幡村","中八幡"]
["山梨県","甲斐市","玉幡村","下八幡"]
["山梨県","甲斐市","玉幡村","八幡新田"]
["山梨県","甲斐市","玉幡村","玉川"]
["山梨県","甲斐市","敷島町２－２",null,6,2,"x","x","x","x","x",4,"x","x","x","x","x","x","x","x","x","x","x","x","x","x","x","x","x","x","x","x","x","x","x","x","x","x","x","x","x","x","x","x","x","x","x","x","x","x","x","x","x","x","x","x","x","x","x","x","x","x","x","x","x","x","x","x","x","x","x","x","x","x","x","x","x","x","x","x","x","x","x","x","x","x","x","x","x","x","x","x","x","x","x","x","x","x","x",{"$nulls":7},"x","x","x","x","x","x","x","x","x","x","x","x","x","x","x","x","x","x","x","x","x","x","x","x","x","x","x","x","x","x","x","x","x","x","x","x","x","x","x","x","x","x","x","x","x"]
["山梨県","甲斐市","敷島町２－２","名取"]
["山梨県","甲斐市","吉沢村",null,80,11,"x","x","x","x","x",69,"x","x","x","x","x","x","x","x","x","x","x","x","x","x","x","x","x","x","x","x","x","x","x","x","x","x","x","x","x","x","x","x","x","x","x","x","x","x","x","x","x","x","x","x","x","x","x","x","x","x","x","x","x","x","x","x","x","x","x","x","x","x","x","x","x","x","x","x","x","x","x","x","x","x","x","x","x","x","x","x","x","x","x","x","x","x","x",{"$nulls":7},"x","x","x","x","x","x","x","x","x","x","x","x","x","x","x","x","x","x","x","x","x","x","x","x","x","x","x","x","x","x","x","x","x","x","x","x","x","x","x","x","x","x","x","x","x"]
["山梨県","甲斐市","吉沢村","窪田"]
["山梨県","甲斐市","吉沢村","中島"]
["山梨県","甲斐市","吉沢村","寺平"]
["山梨県","甲斐市","吉沢村","外道"]
["山梨県","甲斐市","吉沢村","千田"]
["山梨県","甲斐市","清川村",null,41,11,1,1,1,"-",9,30,24,"-","-",1,"-","-","-",2,1,1,3,1,5,4,3,3,69.2,65.5,73.5,17,"-","-","-","-","-","-","-","-","-",3,1,4,4,2,3,74.9,74.1,75.7,15,"-","-","-","-","-","-","-","-","-",3,"-",4,4,2,2,74.6,74.1,75.1,11,"-","-","-","-","-","-","-","-",1,1,"-",1,3,3,2,3,"-","-","-","-","-","-",1,1,"-","-","-","-",1,{"$nulls":7},31,24,15,6,3,3,2,2,6,2,"-",2,"-",1,"-","-","-","-","-",1,"-","-",null,null,11,686,246,436,4,17,15,8,5,2,"-",1,1,14,9,7,1,1,3,1,1]
["山梨県","甲斐市","清川村","下菅口"]
["山梨県","甲斐市","清川村","安寺"]
["山梨県","甲斐市","清川村","下福沢"]
["山梨県","甲斐市","清川村","神戸"]
["山梨県","甲斐市","清川村","上福沢"]
["山梨県","甲斐市","清川村","下芦沢"]
["山梨県","甲斐市","清川村","上芦沢"]
["山梨県","甲斐市","清川村","平見城"]
["山梨県","甲斐市","睦沢村",null,107,22,1,"-",6,1,15,85,53,"-",2,2,"-","-",1,5,2,9,1,6,5,9,5,6,64.9,61.4,{"v":70,"d":"70.0"},34,"-",1,"-","-","-","-",1,1,1,1,5,4,9,5,6,72.9,70.5,75.2,26,"-","-","-","-","-","-",1,"-",1,"-",5,3,8,4,4,74.5,72.8,76.9,22,"-","-","-","-","-","-",1,"-",6,"-",4,3,3,3,2,8,"-","-","-","-","-","-",3,"-","-",1,"-",3,1,{"$nulls":7},65,50,26,23,1,6,4,5,16,3,"-","-","-",2,"-",11,"-","-","-","-","-","-",null,null,22,{"v":1403,"d":"1,403"},529,434,440,33,30,15,14,1,"-",2,1,32,20,11,9,"-",6,2,4]
["山梨県","甲斐市","睦沢村","大下"]
["山梨県","甲斐市","睦沢村","中下"]
["山梨県","甲斐市","睦沢村","中村"]
["山梨県","甲斐市","睦沢村","久保"]
["山梨県","甲斐市","睦沢村","藤ノ木"]
["山梨県","甲斐市","睦沢村","打返"]
["山梨県","甲斐市","睦沢村","漆戸"]
["山梨県","甲斐市","睦沢村","獅子平"]
["山梨県","甲斐市","睦沢村","上菅口"]
["山梨県","甲斐市","睦沢村","大明神"]
["山梨県","甲斐市","敷島町２－１",null,245,62,3,2,12,2,47,183,152,3,2,7,5,8,5,10,13,16,12,17,17,9,17,11,60.4,58.2,{"v":63,"d":"63.0"},84,1,1,1,"-",1,"-",3,4,2,5,13,17,9,17,10,70.7,71.6,{"v":70,"d":"70.0"},64,"-","-","-","-",1,"-",3,1,2,3,13,15,6,15,5,{"v":72,"d":"72.0"},74.8,69.3,62,"-","-","-","-",2,"-",2,4,8,6,8,11,3,13,5,34,"-","-","-","-","-",1,4,3,4,6,2,9,5,{"$nulls":7},183,136,64,63,9,15,17,15,42,15,"-",1,"-",3,"-",22,"-","-",1,"-","-","-",null,null,62,{"v":3889,"d":"3,889"},{"v":1693,"d":"1,693"},643,{"v":1553,"d":"1,553"},93,75,31,37,7,1,10,7,90,61,33,26,2,14,7,8]
["山梨県","甲斐市","敷島町２－１","牛句"]
["山梨県","甲斐市","敷島町２－１","境"]
["山梨県","甲斐市","敷島町２－１","上町"]
["山梨県","甲斐市","敷島町２－１","竪町"]
["山梨県","甲斐市","敷島町２－１","大久保"]
["山梨県","甲斐市","敷島町２－１","天狗沢"]
["山梨県","甲斐市","敷島町２－１","西町"]
["山梨県","甲斐市","敷島町２－１","仲町"]
["山梨県","甲斐市","敷島町２－１","東町"]
["山梨県","甲斐市","敷島町２－１","宮地"]
["山梨県","甲斐市","敷島町２－１","町屋"]
["山梨県","甲斐市","敷島町２－１","町屋南"]
["山梨県","甲斐市","敷島町２－１","大下条"]
["山梨県","甲斐市","敷島町２－１","長塚"]
["山梨県","甲斐市","登美村",null,172,91,9,7,19,8,63,81,225,3,3,5,5,8,12,8,18,17,31,34,26,25,21,9,62.4,61.4,63.5,136,1,2,"-",2,3,"-",3,6,2,17,22,25,23,21,9,69.5,69.5,69.4,117,"-","-","-",1,2,"-",2,4,"-",15,20,22,22,20,9,71.9,71.5,72.6,91,"-","-","-",1,"-",2,2,3,7,13,19,14,13,13,4,72,"-","-","-",2,"-",1,4,11,16,13,11,10,4,{"$nulls":7},278,218,117,90,11,22,16,22,76,50,"-","-","-",2,"-",24,"-","-","-","-","-","-",null,null,91,{"v":7786,"d":"7,786"},{"v":4525,"d":"4,525"},{"v":1605,"d":"1,605"},{"v":1656,"d":"1,656"},143,125,68,50,7,"-",9,9,135,93,49,40,4,22,7,13]
["山梨県","甲斐市","登美村","滝坂"]
["山梨県","甲斐市","登美村","大屋敷"]
["山梨県","甲斐市","登美村","下宿"]
["山梨県","甲斐市","登美村","上宿"]
["山梨県","甲斐市","登美村","竪町"]
["山梨県","甲斐市","登美村","大垈"]
["山梨県","甲斐市","登美村","団子"]
["山梨県","甲斐市","登美村","新田"]
["山梨県","甲斐市","登美村","菖蒲沢"]
["山梨県","甲斐市","塩崎村",null,271,141,13,8,34,10,94,130,344,3,5,10,7,12,9,18,20,27,51,36,42,47,38,19,63.6,63.4,63.8,198,3,"-","-","-","-",1,"-",1,10,22,26,37,45,36,17,72.6,{"v":73,"d":"73.0"},72.3,175,2,"-","-","-","-",1,"-",1,8,17,22,34,44,33,13,{"v":73,"d":"73.0"},72.5,73.6,141,"-","-","-","-","-",1,2,3,9,26,19,24,27,22,8,97,"-","-","-","-",1,1,5,15,12,20,20,16,7,{"$nulls":7},404,330,175,136,19,29,21,24,108,68,1,1,"-",3,1,34,"-","-","-","-","-","-",null,null,141,{"v":11312,"d":"11,312"},{"v":5819,"d":"5,819"},{"v":2853,"d":"2,853"},{"v":2640,"d":"2,640"},202,180,94,76,10,1,11,10,202,150,81,60,9,28,10,14]
["山梨県","甲斐市","塩崎村","横町"]
["山梨県","甲斐市","塩崎村","寺町"]
["山梨県","甲斐市","塩崎村","仲町"]
["山梨県","甲斐市","塩崎村","上町"]
["山梨県","甲斐市","塩崎村","山本"]
["山梨県","甲斐市","塩崎村","岩森"]
["山梨県","甲斐市","塩崎村","下志田"]
["山梨県","甲斐市","塩崎村","上志田"]
["山梨県","甲斐市","塩崎村","東部"]
["山梨県","甲斐市","塩崎村","塩崎町"]
["山梨県","甲斐市","塩崎村","田畑"]
["山梨県","甲斐市","塩崎村","中村条"]
["山梨県","甲斐市","塩崎村","上郷"]
["山梨県","甲斐市","塩崎村","米沢"]
["山梨県","甲斐市","塩崎村","笠石"]
["山梨県","甲斐市","塩崎村","滝沢"]
["山梨県","甲斐市","塩崎村","駒沢"]
["山梨県","甲斐市","塩崎村","金剛地"]
["山梨県","笛吹市",null,null,{"v":4060,"d":"4,060"},{"v":3353,"d":"3,353"},{"v":1144,"d":"1,144"},{"v":1018,"d":"1,018"},562,298,{"v":1647,"d":"1,647"},707,{"v":7832,"d":"7,832"},44,109,165,211,207,351,417,556,796,960,{"v":1053,"d":"1,053"},950,922,674,417,62.8,62.2,63.6,{"v":6056,"d":"6,056"},18,24,50,80,92,151,189,290,523,773,979,906,908,670,403,67.3,67.2,67.4,{"v":5645,"d":"5,645"},1,15,45,67,72,130,173,265,499,739,939,871,864,620,345,67.6,67.3,67.8,{"v":3353,"d":"3,353"},"-","-",3,17,16,58,99,173,369,494,556,494,532,366,176,{"v":1329,"d":"1,329"},"-",1,1,7,21,44,99,176,213,232,247,188,100,{"$nulls":7},{"v":10228,"d":"10,228"},{"v":8224,"d":"8,224"},{"v":5645,"d":"5,645"},{"v":2332,"d":"2,332"},247,523,636,845,{"v":3262,"d":"3,262"},6,1,"-",1,81,9,{"v":3126,"d":"3,126"},31,1,"-",4,"-",1,null,null,{"v":3344,"d":"3,344"},{"v":245750,"d":"245,750"},{"v":3332,"d":"3,332"},{"v":12877,"d":"12,877"},{"v":229541,"d":"229,541"},{"v":5076,"d":"5,076"},{"v":4518,"d":"4,518"},{"v":3095,"d":"3,095"},{"v":1274,"d":"1,274"},149,7,318,233,{"v":5152,"d":"5,152"},{"v":3706,"d":"3,706"},{"v":2550,"d":"2,550"},{"v":1058,"d":"1,058"},98,516,318,612]
["山梨県","笛吹市","石和町",null,187,146,51,49,21,11,74,41,336,2,4,12,7,6,11,17,34,28,46,45,45,31,31,17,62.6,61.6,63.7,265,1,1,5,3,5,2,7,18,25,36,44,42,28,31,17,66.5,65.4,67.6,247,"-",1,4,3,5,2,6,18,24,34,43,40,27,27,13,66.3,65.4,67.4,146,"-","-","-",1,"-","-",6,7,14,23,26,25,19,16,9,61,"-","-","-","-",3,"-",4,7,11,12,9,9,6,{"$nulls":7},441,354,247,93,14,23,27,37,144,"-","-","-","-","-","-",143,1,"-","-","-","-","-",null,null,146,{"v":8542,"d":"8,542"},"-",199,{"v":8343,"d":"8,343"},216,188,134,45,9,"-",18,10,225,166,113,48,5,23,9,27]
["山梨県","笛吹市","石和町","川中島"]
["山梨県","笛吹市","石和町","八田"]
["山梨県","笛吹市","石和町","市部"]
["山梨県","笛吹市","石和町","窪中島"]
["山梨県","笛吹市","石和町","四日市場"]
["山梨県","笛吹市","石和町","日の出"]
["山梨県","笛吹市","石和町","広瀬"]
["山梨県","笛吹市","英村２－２",null,88,75,17,15,14,8,44,13,169,1,4,1,4,2,9,13,16,9,18,20,21,29,11,11,63.5,62.9,64.2,129,"-",1,1,1,1,3,6,9,7,11,19,19,29,11,11,68.4,{"v":69,"d":"69.0"},67.7,120,"-",1,1,1,1,2,4,9,7,9,18,19,27,10,11,68.8,68.9,68.7,75,"-","-","-","-","-","-",2,6,5,8,11,13,20,7,3,30,"-","-","-","-",1,2,1,3,4,4,9,4,2,{"$nulls":7},221,175,120,51,4,9,17,20,71,"-","-","-","-","-","-",70,1,"-","-","-","-","-",null,null,75,{"v":5020,"d":"5,020"},23,175,{"v":4822,"d":"4,822"},109,97,64,33,"-","-",6,6,112,78,56,18,4,9,11,14]
["山梨県","笛吹市","英村２－２","下平井"]
["山梨県","笛吹市","英村２－２","上平井"]
["山梨県","笛吹市","英村２－２","中川"]
["山梨県","笛吹市","岡部村２－２",null,54,29,5,4,11,4,13,25,74,4,1,"-",2,1,7,2,7,6,10,9,11,7,4,3,59.8,59.5,{"v":60,"d":"60.0"},48,1,"-","-","-","-",2,"-",1,4,6,9,11,7,4,3,68.2,72.1,65.6,44,"-","-","-","-","-",2,"-",1,3,6,8,10,7,4,3,69.5,72.1,67.6,29,"-","-","-","-","-",1,"-","-",2,5,4,6,5,3,3,13,"-","-","-","-","-","-","-",1,2,3,2,2,3,{"$nulls":7},93,75,44,30,1,3,7,8,29,"-","-","-","-","-","-",29,"-","-","-","-","-","-",null,null,29,{"v":1659,"d":"1,659"},"-",122,{"v":1537,"d":"1,537"},40,35,19,15,1,"-",4,1,53,40,25,15,"-",3,3,7]
["山梨県","笛吹市","岡部村２－２","山岸"]
["山梨県","笛吹市","岡部村２－２","松本"]
["山梨県","笛吹市","岡部村２－２","山崎"]
["山梨県","笛吹市","富士見村",null,232,197,83,75,30,18,84,35,485,1,8,5,13,11,19,38,34,48,55,68,43,66,41,35,63.5,62.3,64.9,402,"-",4,2,2,4,8,28,18,33,51,67,43,66,41,35,67.4,66.6,68.2,387,"-",3,2,2,3,8,26,17,32,48,66,43,64,40,33,67.6,66.8,68.4,197,"-","-","-",2,"-",3,11,13,23,26,38,19,29,24,9,70,"-","-","-","-","-",4,5,10,13,8,14,13,3,{"$nulls":7},611,504,387,111,6,27,45,35,192,"-","-","-","-",12,3,175,1,"-","-",1,"-","-",null,null,196,{"v":17428,"d":"17,428"},443,{"v":1736,"d":"1,736"},{"v":15249,"d":"15,249"},298,268,206,58,4,"-",22,8,313,236,181,53,2,27,23,27]
["山梨県","笛吹市","富士見村","唐柏"]
["山梨県","笛吹市","富士見村","東高橋"]
["山梨県","笛吹市","富士見村","今井"]
["山梨県","笛吹市","富士見村","河内"]
["山梨県","笛吹市","富士見村","小石和"]
["山梨県","笛吹市","富士見村","砂原"]
["山梨県","笛吹市","富士見村","井戸"]
["山梨県","笛吹市","富士見村","東油川"]
["山梨県","笛吹市","黒駒村",null,239,206,46,38,50,28,110,33,473,"-",6,11,9,14,23,39,33,38,50,66,68,67,35,14,62.6,63.1,{"v":62,"d":"62.0"},334,"-",3,2,4,5,9,14,12,17,34,59,64,64,34,13,67.7,69.1,{"v":66,"d":"66.0"},313,"-",3,2,4,3,7,13,11,16,32,56,62,60,32,12,67.9,68.9,66.6,206,"-","-",1,1,1,4,9,10,17,25,29,39,42,22,6,71,"-","-","-","-",3,3,3,7,10,16,17,9,3,{"$nulls":7},625,505,313,173,19,34,39,47,199,"-","-","-","-",13,1,179,6,"-","-","-","-","-",null,null,203,{"v":13614,"d":"13,614"},101,{"v":1204,"d":"1,204"},{"v":12309,"d":"12,309"},322,287,179,97,11,"-",19,16,303,218,134,76,8,34,20,31]
["山梨県","笛吹市","黒駒村","藤野木"]
["山梨県","笛吹市","黒駒村","新田"]
["山梨県","笛吹市","黒駒村","立沢"]
["山梨県","笛吹市","黒駒村","戸倉"]
["山梨県","笛吹市","黒駒村","十郎"]
["山梨県","笛吹市","黒駒村","新上宿"]
["山梨県","笛吹市","黒駒村","坂野"]
["山梨県","笛吹市","黒駒村","道場"]
["山梨県","笛吹市","黒駒村","駒留"]
["山梨県","笛吹市","黒駒村","若宮"]
["山梨県","笛吹市","黒駒村","八反田"]
["山梨県","笛吹市","黒駒村","下黒駒"]
["山梨県","笛吹市","黒駒村","三星"]
["山梨県","笛吹市","錦生村",null,399,355,151,135,60,31,144,44,867,3,18,18,27,28,43,53,49,107,112,109,81,110,61,48,61.8,60.7,63.1,678,1,3,3,13,19,24,21,23,79,96,101,79,107,61,48,66.2,65.8,66.6,637,"-",1,3,11,17,20,20,20,77,93,98,75,103,56,43,66.5,66.1,{"v":67,"d":"67.0"},355,"-","-","-",4,4,14,13,14,47,60,66,28,60,29,16,133,"-","-","-",2,1,3,16,16,20,20,26,16,13,{"$nulls":7},{"v":1119,"d":"1,119"},906,637,242,27,40,71,102,341,"-","-","-","-","-",2,335,3,"-","-","-","-","-",null,null,353,{"v":27858,"d":"27,858"},86,419,{"v":27353,"d":"27,353"},562,497,346,134,17,"-",33,32,557,409,291,108,10,40,38,70]
["山梨県","笛吹市","錦生村","二之宮"]
["山梨県","笛吹市","錦生村","夏目原"]
["山梨県","笛吹市","錦生村","金川原"]
["山梨県","笛吹市","錦生村","井之上"]
["山梨県","笛吹市","錦生村","下井之上"]
["山梨県","笛吹市","錦生村","八千藏"]
["山梨県","笛吹市","錦生村","尾山"]
["山梨県","笛吹市","錦生村","下野原"]
["山梨県","笛吹市","錦生村","栗合"]
["山梨県","笛吹市","錦生村","蕎麦塚"]
["山梨県","笛吹市","英村２－１",null,77,65,25,21,9,7,31,12,153,2,"-",3,2,2,4,10,17,13,21,15,22,21,17,4,63.9,62.7,65.4,132,"-","-",3,"-",1,2,5,15,9,19,14,22,21,17,4,66.7,66.7,66.6,124,"-","-",3,"-",1,2,5,14,9,15,12,22,20,17,4,66.9,66.6,67.3,65,"-","-","-","-",1,2,2,5,7,12,6,9,12,7,2,28,"-","-","-",1,1,1,2,3,3,4,8,3,2,{"$nulls":7},231,169,124,41,4,12,25,25,65,"-","-","-","-","-",1,64,"-","-","-","-","-","-",null,null,64,{"v":4736,"d":"4,736"},39,14,{"v":4683,"d":"4,683"},113,94,67,23,4,"-",10,9,118,75,57,18,"-",12,15,16]
["山梨県","笛吹市","英村２－１","成田"]
["山梨県","笛吹市","英村２－１","国衙"]
["山梨県","笛吹市","花鳥村２－２",null,125,114,44,38,25,16,45,11,283,"-",5,7,10,9,17,11,19,40,41,38,28,18,24,16,61.1,60.7,61.6,215,"-",2,1,4,6,4,6,12,24,33,37,28,18,24,16,65.9,66.4,65.3,202,"-",2,1,3,4,4,6,11,24,33,35,25,17,23,14,65.9,66.4,65.2,114,"-","-","-","-","-",1,5,9,19,20,23,15,7,9,6,43,"-","-","-","-",1,2,4,6,12,8,2,5,3,{"$nulls":7},382,310,202,104,4,14,20,38,113,"-","-","-","-","-","-",111,2,"-","-","-","-","-",null,null,114,{"v":9951,"d":"9,951"},"-",116,{"v":9835,"d":"9,835"},188,164,109,52,3,"-",11,13,194,146,93,52,1,14,9,25]
["山梨県","笛吹市","花鳥村２－２","竹居"]
["山梨県","笛吹市","花鳥村２－２","大野寺"]
["山梨県","笛吹市","花鳥村２－２","二階"]
["山梨県","笛吹市","一宮村",null,530,464,189,167,81,51,194,66,{"v":1107,"d":"1,107"},6,18,32,43,34,38,50,91,109,150,159,109,116,89,63,61.8,61.3,62.4,865,4,3,14,20,18,20,24,53,73,124,146,105,115,88,58,65.7,65.5,{"v":66,"d":"66.0"},805,"-",1,12,16,16,19,24,48,72,118,142,102,108,81,46,{"v":66,"d":"66.0"},65.3,66.7,464,"-","-",1,3,3,4,11,34,48,70,87,67,60,47,29,199,"-","-","-","-","-",9,11,34,43,30,32,23,17,{"$nulls":7},{"v":1433,"d":"1,433"},{"v":1148,"d":"1,148"},805,301,42,65,93,127,453,"-","-","-","-","-","-",452,"-",1,"-","-","-","-",null,null,464,{"v":32383,"d":"32,383"},20,137,{"v":32226,"d":"32,226"},697,616,436,161,19,4,38,39,736,532,369,140,23,61,55,88]
["山梨県","笛吹市","一宮村","下矢作"]
["山梨県","笛吹市","一宮村","小城"]
["山梨県","笛吹市","一宮村","北都塚"]
["山梨県","笛吹市","一宮村","一ノ宮"]
["山梨県","笛吹市","一宮村","末木"]
["山梨県","笛吹市","一宮村","本都塚"]
["山梨県","笛吹市","一宮村","竹原田"]
["山梨県","笛吹市","一宮村","金田"]
["山梨県","笛吹市","一宮村","東原"]
["山梨県","笛吹市","一宮村","国分"]
["山梨県","笛吹市","一宮村","坪井"]
["山梨県","笛吹市","一宮村","田中"]
["山梨県","笛吹市","浅間村",null,365,325,118,106,44,23,163,40,768,6,7,13,16,23,43,45,46,81,89,99,105,84,73,38,63.1,62.1,64.2,607,3,2,4,6,10,14,17,31,54,71,97,104,84,73,37,67.5,66.8,68.3,572,1,1,4,5,6,12,17,28,53,68,93,102,82,69,31,67.9,67.2,68.8,325,"-","-","-","-","-",7,10,12,38,49,51,55,50,39,14,145,"-","-","-",3,4,5,12,22,21,22,23,23,10,{"$nulls":7},966,780,572,191,17,55,60,71,319,"-","-","-","-",1,"-",315,2,"-","-","-","-",1,null,null,325,{"v":24875,"d":"24,875"},30,307,{"v":24538,"d":"24,538"},478,426,306,112,8,"-",33,19,488,354,266,79,9,55,27,52]
["山梨県","笛吹市","浅間村","新巻"]
["山梨県","笛吹市","浅間村","神沢"]
["山梨県","笛吹市","浅間村","東新居"]
["山梨県","笛吹市","浅間村","狐新居"]
["山梨県","笛吹市","浅間村","金沢"]
["山梨県","笛吹市","浅間村","土塚"]
["山梨県","笛吹市","浅間村","鈴郷"]
["山梨県","笛吹市","浅間村","石中"]
["山梨県","笛吹市","浅間村","石下"]
["山梨県","笛吹市","浅間村","地蔵堂"]
["山梨県","笛吹市","浅間村","千米寺"]
["山梨県","笛吹市","浅間村","市之蔵"]
["山梨県","笛吹市","浅間村","塩田"]
["山梨県","笛吹市","相興村",null,215,197,63,54,35,16,99,18,463,4,7,11,15,21,23,17,27,51,50,80,49,43,40,25,61.9,{"v":61,"d":"61.0"},62.8,335,"-",1,3,4,4,16,5,9,31,36,73,46,42,40,25,67.7,67.8,67.6,304,"-",1,2,3,3,13,4,8,27,34,70,46,37,35,21,67.9,67.7,68.2,197,"-","-",1,1,2,3,2,7,24,23,44,26,28,22,14,98,"-","-","-",1,1,2,11,11,22,15,19,9,7,{"$nulls":7},573,462,304,151,7,36,33,42,194,"-","-","-","-","-","-",194,"-","-","-","-","-","-",null,null,197,{"v":12285,"d":"12,285"},"-",29,{"v":12256,"d":"12,256"},279,257,162,89,6,"-",13,9,294,205,142,62,1,36,20,33]
["山梨県","笛吹市","相興村","南野呂"]
["山梨県","笛吹市","相興村","北野呂"]
["山梨県","笛吹市","相興村","上矢作"]
["山梨県","笛吹市","相興村","中尾"]
["山梨県","笛吹市","八代村",null,453,387,143,132,48,30,196,66,881,5,11,15,25,21,47,32,59,92,105,99,126,112,86,46,63.6,63.3,63.9,729,5,2,5,11,9,27,22,36,67,93,92,119,111,86,44,66.9,66.9,66.9,666,"-","-",5,9,7,23,19,33,65,90,86,113,105,77,34,67.3,67.1,67.6,387,"-","-","-",3,4,11,7,18,46,56,47,62,69,48,16,156,"-",1,1,"-",3,4,14,21,15,32,30,27,8,{"$nulls":7},{"v":1165,"d":"1,165"},942,666,246,30,66,63,94,383,"-",1,"-","-",14,"-",358,8,"-","-",2,"-","-",null,null,387,{"v":33220,"d":"33,220"},812,{"v":3059,"d":"3,059"},{"v":29349,"d":"29,349"},588,529,377,133,19,2,31,26,577,413,289,113,11,64,32,68]
["山梨県","笛吹市","八代村","南"]
["山梨県","笛吹市","八代村","北"]
["山梨県","笛吹市","八代村","高家"]
["山梨県","笛吹市","八代村","岡"]
["山梨県","笛吹市","八代村","増利"]
["山梨県","笛吹市","八代村","大間田"]
["山梨県","笛吹市","御所村",null,121,100,25,25,16,5,59,21,234,1,3,5,3,4,8,15,18,20,30,32,31,27,29,8,{"v":64,"d":"64.0"},63.5,64.7,175,1,1,1,1,1,2,7,6,8,24,31,30,26,28,8,68.9,68.5,69.5,160,"-",1,1,1,"-",2,5,5,7,24,30,25,26,25,8,69.6,69.5,69.7,100,"-","-","-","-","-",1,3,6,8,18,15,17,13,16,3,38,"-","-","-","-",1,1,2,6,3,8,6,9,2,{"$nulls":7},304,259,160,89,10,11,10,24,100,"-","-","-","-",4,"-",96,"-","-","-","-","-","-",null,null,100,{"v":7552,"d":"7,552"},108,795,{"v":6649,"d":"6,649"},158,144,92,47,5,1,7,6,146,115,68,42,5,10,3,18]
["山梨県","笛吹市","御所村","永井"]
["山梨県","笛吹市","御所村","米倉"]
["山梨県","笛吹市","花鳥村２－１",null,102,79,27,27,7,4,45,23,178,1,1,3,5,5,5,3,16,13,27,27,25,24,16,7,64.2,64.1,64.2,141,1,"-","-",2,2,2,1,12,6,23,23,22,24,16,7,67.9,{"v":68,"d":"68.0"},67.6,132,"-","-","-",1,1,2,1,12,6,22,23,21,23,14,6,68.3,68.7,67.8,79,"-","-","-",1,"-","-",1,5,6,12,14,14,12,12,2,25,"-","-","-","-","-","-",1,3,4,5,4,7,1,{"$nulls":7},235,200,132,58,10,14,5,16,76,"-","-","-","-",2,"-",68,5,"-","-",1,"-","-",null,null,77,{"v":6406,"d":"6,406"},156,249,{"v":6001,"d":"6,001"},118,110,74,30,6,"-",3,5,117,90,58,28,4,14,2,11]
["山梨県","笛吹市","花鳥村２－１","奈良原"]
["山梨県","笛吹市","花鳥村２－１","竹居"]
["山梨県","笛吹市","花鳥村２－１","大口山"]
["山梨県","笛吹市","境川村",null,445,298,67,52,42,14,189,147,612,2,4,11,11,10,21,25,38,58,71,86,82,89,58,46,65.9,65.4,66.5,455,"-","-",2,3,"-",7,7,9,34,55,75,73,89,58,43,71.1,71.5,70.5,427,"-","-",2,2,"-",7,6,7,30,53,70,70,84,57,39,71.2,71.4,{"v":71,"d":"71.0"},298,"-","-","-","-","-",3,6,10,29,39,42,45,56,39,29,109,"-","-","-","-",1,5,3,14,10,21,25,16,14,{"$nulls":7},858,675,427,225,23,62,44,77,274,5,"-","-","-",10,2,257,"-","-","-","-","-","-",null,null,298,{"v":21393,"d":"21,393"},{"v":1322,"d":"1,322"},{"v":3266,"d":"3,266"},{"v":16805,"d":"16,805"},435,390,250,121,19,"-",27,18,423,285,177,104,4,62,17,59]
["山梨県","笛吹市","境川村","大黒坂"]
["山梨県","笛吹市","境川村","大黒坂開拓"]
["山梨県","笛吹市","境川村","小黒坂"]
["山梨県","笛吹市","境川村","小黒坂開拓"]
["山梨県","笛吹市","境川村","小山"]
["山梨県","笛吹市","境川村","前間田"]
["山梨県","笛吹市","境川村","石橋"]
["山梨県","笛吹市","境川村","三椚"]
["山梨県","笛吹市","境川村","大坪"]
["山梨県","笛吹市","境川村","大窪"]
["山梨県","笛吹市","境川村","藤垈"]
["山梨県","笛吹市","境川村","原"]
["山梨県","笛吹市","境川村","上寺尾"]
["山梨県","笛吹市","境川村","中寺尾"]
["山梨県","笛吹市","境川村","間門"]
["山梨県","笛吹市","春日居村",null,225,193,59,53,41,20,93,32,466,1,10,11,14,12,19,33,34,50,51,67,59,50,39,16,61.7,61.1,62.3,347,"-",1,3,5,6,5,14,16,36,40,63,56,49,38,15,66.8,66.8,66.7,322,"-","-",2,5,4,3,12,13,33,40,61,54,48,35,12,67.2,67.3,67.2,193,"-","-","-",1,1,3,8,9,25,25,34,31,34,17,5,64,"-","-","-","-",1,2,8,8,11,11,12,9,2,{"$nulls":7},610,474,322,134,18,33,48,55,188,"-","-","-","-",1,"-",185,2,"-","-","-","-","-",null,null,193,{"v":12284,"d":"12,284"},"-",329,{"v":11955,"d":"11,955"},303,264,174,79,11,"-",28,11,307,210,148,55,7,33,20,44]
["山梨県","笛吹市","春日居村","熊野堂（下）"]
["山梨県","笛吹市","春日居村","熊野堂（上）"]
["山梨県","笛吹市","春日居村","下岩下（下）"]
["山梨県","笛吹市","春日居村","下岩下（上）"]
["山梨県","笛吹市","春日居村","別田"]
["山梨県","笛吹市","春日居村","桑戸（北）"]
["山梨県","笛吹市","春日居村","桑戸（西）"]
["山梨県","笛吹市","春日居村","桑戸（中）"]
["山梨県","笛吹市","春日居村","桑戸（東）"]
["山梨県","笛吹市","春日居村","小松"]
["山梨県","笛吹市","春日居村","枝郷"]
["山梨県","笛吹市","春日居村","寺本"]
["山梨県","笛吹市","春日居村","加茂"]
["山梨県","笛吹市","岡部村２－１",null,128,97,30,26,23,11,44,31,228,5,2,6,3,4,14,14,17,27,26,29,39,20,10,12,61.4,59.2,63.8,162,1,"-",1,1,1,4,5,10,16,19,25,38,20,10,11,{"v":67,"d":"67.0"},66.2,67.9,147,"-","-",1,1,1,2,5,10,14,18,24,37,18,8,8,{"v":67,"d":"67.0"},66.2,68.1,97,"-","-","-","-","-",1,3,8,10,18,16,20,13,3,5,38,"-","-","-","-","-",1,2,4,7,11,8,2,3,{"$nulls":7},297,227,147,71,9,19,27,24,96,"-","-","-","-",1,"-",95,"-","-","-","-","-","-",null,null,97,{"v":5693,"d":"5,693"},21,41,{"v":5631,"d":"5,631"},143,123,82,35,6,"-",15,5,154,104,65,36,3,19,12,19]
["山梨県","笛吹市","岡部村２－１","国府"]
["山梨県","笛吹市","岡部村２－１","徳条"]
["山梨県","笛吹市","岡部村２－１","鎮目"]
["山梨県","笛吹市","岡部村２－１","鎮目中"]
["山梨県","笛吹市","岡部村２－１","鎮目下"]
["山梨県","笛吹市","岡部村２－１","鎮目山口"]
["山梨県","笛吹市","芦川村",null,75,26,1,1,5,1,20,49,55,"-","-",1,2,"-","-","-",1,6,8,5,6,8,10,8,70.7,69.8,71.6,37,"-","-","-","-","-","-","-","-","-",2,4,5,8,10,8,77.9,77.7,78.2,36,"-","-","-","-","-","-","-","-","-",2,4,5,8,10,7,77.7,77.7,77.7,26,"-","-","-","-","-","-","-","-",1,5,3,3,3,6,5,8,"-","-","-","-","-","-","-","-",2,2,1,2,1,{"$nulls":7},64,59,36,21,2,"-",2,3,25,1,"-","-",1,23,"-","-","-","-","-","-","-","-",null,null,26,851,171,680,"-",29,29,18,10,1,"-","-","-",35,30,18,11,1,"-",2,3]
["山梨県","笛吹市","芦川村","上芦川"]
["山梨県","笛吹市","芦川村","新井原"]
["山梨県","笛吹市","芦川村","中芦川"]
["山梨県","笛吹市","芦川村","鶯宿"]
["山梨県","上野原市",null,null,946,87,11,8,7,4,69,859,198,3,"-",3,4,6,9,9,10,15,25,36,24,28,11,15,64.4,65.3,63.3,132,3,"-",2,2,"-",4,3,3,8,11,24,21,25,11,15,68.7,69.5,67.7,90,"-","-",1,2,"-",2,2,1,4,7,18,19,16,7,11,70.4,70.7,69.8,87,"-","-",1,"-","-",1,1,1,8,11,20,14,14,9,7,43,"-","-","-","-","-",1,5,1,10,7,7,6,6,{"$nulls":7},271,183,90,77,16,45,20,23,41,1,"-",3,"-",31,"-",2,2,1,"-","-","-",1,null,null,87,{"v":4290,"d":"4,290"},{"v":1041,"d":"1,041"},{"v":2834,"d":"2,834"},415,130,110,64,38,8,"-",11,9,141,73,26,39,8,45,9,14]
["山梨県","上野原市","秋山村",null,185,13,"-","-",2,1,11,172,27,"-","-","-","-",1,3,1,1,3,4,3,4,5,1,1,{"v":64,"d":"64.0"},64.7,{"v":63,"d":"63.0"},13,"-","-","-","-","-",1,"-","-","-",2,1,3,4,1,1,71.5,75.3,68.1,11,"-","-","-","-","-","-","-","-","-",1,1,3,4,1,1,75.1,75.3,74.8,13,"-","-","-","-","-","-","-","-",2,2,2,3,3,1,"-",8,"-","-","-","-","-","-",2,"-",1,2,2,1,"-",{"$nulls":7},42,32,11,17,4,6,3,1,6,"-","-",1,"-",5,"-","-","-","-","-","-","-","-",null,null,13,482,180,283,19,18,17,6,8,3,"-",1,"-",24,15,5,9,1,6,2,1]
["山梨県","上野原市","秋山村","無生野"]
["山梨県","上野原市","秋山村","浜沢"]
["山梨県","上野原市","秋山村","原"]
["山梨県","上野原市","秋山村","尾崎"]
["山梨県","上野原市","秋山村","寺下"]
["山梨県","上野原市","秋山村","板崎"]
["山梨県","上野原市","秋山村","遠所"]
["山梨県","上野原市","秋山村","大地"]
["山梨県","上野原市","秋山村","栗谷"]
["山梨県","上野原市","秋山村","中野"]
["山梨県","上野原市","秋山村","神野"]
["山梨県","上野原市","秋山村","小和田"]
["山梨県","上野原市","秋山村","古福志"]
["山梨県","上野原市","秋山村","桜井"]
["山梨県","上野原市","秋山村","富岡"]
["山梨県","上野原市","秋山村","安寺沢"]
["山梨県","上野原市","秋山村","一古沢"]
["山梨県","上野原市","秋山村","金山"]
["山梨県","上野原市","大目村",null,91,8,3,1,"-","-",5,83,19,"-","-","-",1,"-",2,"-","-",1,1,6,3,5,"-","-",65.2,64.5,65.9,18,"-","-","-",1,"-",1,"-","-",1,1,6,3,5,"-","-",66.4,64.5,68.8,13,"-","-","-",1,"-",1,"-","-","-","-",5,3,3,"-","-",65.5,64.5,68.7,8,"-","-","-","-","-",1,"-","-","-","-",3,1,3,"-","-",1,"-","-","-","-","-","-","-","-",1,"-","-","-","-",{"$nulls":7},23,17,13,4,"-",6,"-","-",7,"-","-","-","-",5,"-",1,1,"-","-","-","-","-",null,null,8,510,23,329,158,11,11,10,1,"-","-","-","-",12,6,3,3,"-",6,"-","-"]
["山梨県","上野原市","大目村","日向"]
["山梨県","上野原市","大目村","花坂"]
["山梨県","上野原市","大目村","東大野"]
["山梨県","上野原市","大目村","西大野"]
["山梨県","上野原市","大目村","高橋・南米沢"]
["山梨県","上野原市","大目村","谷後"]
["山梨県","上野原市","大目村","日留野"]
["山梨県","上野原市","大目村","大田，大沢"]
["山梨県","上野原市","大目村","恋塚"]
["山梨県","上野原市","大目村","犬目"]
["山梨県","上野原市","大目村","新田"]
["山梨県","上野原市","大目村","矢坪"]
["山梨県","上野原市","大目村","談合坂"]
["山梨県","上野原市","甲東村",null,103,18,3,3,1,1,14,85,45,"-","-",1,"-","-",2,6,5,2,3,4,5,7,7,3,65.5,65.9,65.1,32,"-","-",1,"-","-",1,2,1,1,2,3,5,6,7,3,70.5,72.9,68.7,22,"-","-","-","-","-","-",1,1,"-",2,2,5,4,5,2,73.1,75.4,69.9,18,"-","-","-","-","-","-","-",1,1,1,3,3,2,6,1,7,"-","-","-","-","-",1,"-","-","-",1,1,4,"-",{"$nulls":7},62,37,22,14,1,9,9,7,10,"-","-","-","-",9,"-","-","-","-","-","-","-",1,null,null,18,961,87,827,47,29,21,13,8,"-","-",5,3,33,16,9,6,1,9,4,4]
["山梨県","上野原市","甲東村","芦垣"]
["山梨県","上野原市","甲東村","和見"]
["山梨県","上野原市","甲東村","瀬渕"]
["山梨県","上野原市","甲東村","東区"]
["山梨県","上野原市","甲東村","西区"]
["山梨県","上野原市","甲東村","棚頭"]
["山梨県","上野原市","甲東村","荻野"]
["山梨県","上野原市","甲東村","野田尻"]
["山梨県","上野原市","巌村",null,92,6,1,"-","-","-",5,86,16,"-","-","-",1,2,"-","-",1,"-",2,5,1,2,1,1,63.6,62.8,64.6,10,"-","-","-","-","-","-","-","-","-",1,4,1,2,1,1,72.4,74.6,70.2,4,"-","-","-","-","-","-","-","-","-","-",2,1,"-","-",1,72.5,72.5,"-",6,"-","-","-","-","-","-","-","-","-","-",3,1,"-",1,1,4,"-","-","-","-","-","-","-","-",1,1,"-",1,1,{"$nulls":7},20,12,4,7,1,6,"-",2,3,1,"-","-","-",2,"-","-","-","-","-","-","-","-",null,null,6,321,188,123,10,10,9,4,5,"-","-","-",1,10,3,"-",2,1,6,"-",1]
["山梨県","上野原市","巌村","仲山，大椚"]
["山梨県","上野原市","巌村","八ツ沢"]
["山梨県","上野原市","巌村","松留"]
["山梨県","上野原市","巌村","牧野"]
["山梨県","上野原市","巌村","当月"]
["山梨県","上野原市","巌村","久保"]
["山梨県","上野原市","巌村","奥平"]
["山梨県","上野原市","巌村","川合"]
["山梨県","上野原市","巌村","千足"]
["山梨県","上野原市","巌村","杖突，栃穴"]
["山梨県","上野原市","大鶴村",null,68,3,"-","-","-","-",3,65,5,"-","-","-","-","-","-","-",1,"-",1,1,1,"-",1,"-",67.4,71.7,{"v":61,"d":"61.0"},2,"-","-","-","-","-","-","-","-","-","-",1,"-","-",1,"-",75.5,75.5,"-",2,"-","-","-","-","-","-","-","-","-","-",1,"-","-",1,"-",75.5,75.5,"-",3,"-","-","-","-","-","-","-","-","-",1,1,"-","-",1,"-",1,"-","-","-","-","-","-","-","-",1,"-","-","-","-",{"$nulls":7},10,6,2,3,1,1,1,2,"-","-","-","-","-","-","-","-","-","-","-","-","-","-",null,null,3,133,"-",133,"-",4,3,2,1,"-","-",1,"-",6,3,"-",2,1,1,"-",2]
["山梨県","上野原市","大鶴村","鶴川"]
["山梨県","上野原市","大鶴村","大椚"]
["山梨県","上野原市","大鶴村","日野"]
["山梨県","上野原市","大鶴村","大倉"]
["山梨県","上野原市","大鶴村","大曽根"]
["山梨県","上野原市","大鶴村","小倉"]
["山梨県","上野原市","島田村",null,77,8,"-","-",2,1,6,69,17,"-","-","-",1,"-",1,"-","-","-",7,2,2,2,"-",2,65.7,65.4,66.4,11,"-","-","-",1,"-","-","-","-","-",3,1,2,2,"-",2,68.6,69.3,67.5,7,"-","-","-",1,"-","-","-","-","-",2,1,1,1,"-",1,65.1,65.8,{"v":61,"d":"61.0"},8,"-","-","-","-","-","-","-","-","-",2,2,1,1,"-",2,5,"-","-","-","-","-","-","-",1,2,"-","-","-",2,{"$nulls":7},23,16,7,6,3,3,"-",4,3,"-","-","-","-",2,"-",1,"-","-","-","-","-","-",null,null,8,334,167,144,23,13,11,6,3,2,"-","-",2,10,5,1,3,1,3,"-",2]
["山梨県","上野原市","島田村","上新田"]
["山梨県","上野原市","島田村","下新田"]
["山梨県","上野原市","島田村","駒門"]
["山梨県","上野原市","島田村","西区"]
["山梨県","上野原市","島田村","南区"]
["山梨県","上野原市","島田村","東区"]
["山梨県","上野原市","島田村","田野入"]
["山梨県","上野原市","上野原町",null,116,24,1,1,2,1,21,92,57,3,"-",1,1,3,"-",2,2,7,5,14,7,4,1,7,63.1,65.5,60.5,35,3,"-","-","-","-","-",1,2,4,1,7,6,3,1,7,66.9,67.4,66.4,22,"-","-","-","-","-","-",1,"-",2,1,6,5,2,"-",5,72.2,72.3,{"v":72,"d":"72.0"},24,"-","-","-","-","-","-",1,"-",4,3,6,4,3,"-",3,13,"-","-","-","-","-","-",2,"-",4,2,2,"-",3,{"$nulls":7},73,52,22,24,6,10,5,6,7,"-","-","-","-",6,"-","-","-",1,"-","-","-","-",null,null,24,{"v":1243,"d":"1,243"},396,719,128,35,29,15,11,3,"-",3,3,38,23,7,13,3,10,2,3]
["山梨県","上野原市","上野原町","諏訪"]
["山梨県","上野原市","上野原町","塚場"]
["山梨県","上野原市","上野原町","新町一丁目"]
["山梨県","上野原市","上野原町","新町二丁目"]
["山梨県","上野原市","上野原町","新町三丁目"]
["山梨県","上野原市","上野原町","本町一丁目"]
["山梨県","上野原市","上野原町","本町二丁目"]
["山梨県","上野原市","上野原町","本町三丁目"]
["山梨県","上野原市","上野原町","原"]
["山梨県","上野原市","上野原町","田町"]
["山梨県","上野原市","上野原町","新田倉"]
["山梨県","上野原市","上野原町","羽佐間"]
["山梨県","上野原市","上野原町","小沢"]
["山梨県","上野原市","上野原町","西シ原"]
["山梨県","上野原市","上野原町","新井"]
["山梨県","上野原市","上野原町","八米"]
["山梨県","上野原市","上野原町","山風呂"]
["山梨県","上野原市","上野原町","向風"]
["山梨県","上野原市","上野原町","先丸"]
["山梨県","上野原市","上野原町","奈須部"]
["山梨県","上野原市","棡原村",null,143,"-","-","-","-","-","-",143,"-","-","-","-","-","-","-","-","-","-","-","-","-","-","-","-","-","-","-","-","-","-","-","-","-","-","-","-","-","-","-","-","-","-","-","-","-","-","-","-","-","-","-","-","-","-","-","-","-","-","-","-","-","-","-","-","-","-","-","-","-","-","-","-","-","-","-","-","-","-","-","-","-","-","-","-","-","-","-","-","-","-","-","-","-","-","-",{"$nulls":7},"-","-","-","-","-","-","-","-","-","-","-","-","-","-","-","-","-","-","-","-","-","-",null,null,"-","-","-","-","-","-","-","-","-","-","-","-","-","-","-","-","-","-","-","-","-"]
["山梨県","上野原市","棡原村","尾続"]
["山梨県","上野原市","棡原村","用竹"]
["山梨県","上野原市","棡原村","井戸"]
["山梨県","上野原市","棡原村","小伏"]
["山梨県","上野原市","棡原村","猪丸"]
["山梨県","上野原市","棡原村","日原"]
["山梨県","上野原市","棡原村","大垣外"]
["山梨県","上野原市","棡原村","沢渡"]
["山梨県","上野原市","西原村",null,71,7,3,3,"-","-",4,64,12,"-","-",1,"-","-",1,"-","-",2,2,1,1,3,"-",1,64.3,65.5,{"v":62,"d":"62.0"},11,"-","-",1,"-","-",1,"-","-",2,1,1,1,3,"-",1,64.5,65.5,61.7,9,"-","-",1,"-","-",1,"-","-",2,1,"-",1,2,"-",1,62.9,65.5,{"v":42,"d":"42.0"},7,"-","-",1,"-","-","-","-","-",1,2,"-",1,2,"-","-",4,"-","-","-","-","-","-",1,"-","-",1,2,"-","-",{"$nulls":7},18,11,9,2,"-",4,2,1,5,"-","-",2,"-",2,"-","-",1,"-","-","-","-","-",null,null,7,306,"-",276,30,10,9,8,1,"-","-",1,"-",8,2,1,1,"-",4,1,1]
["山梨県","上野原市","西原村","初戸"]
["山梨県","上野原市","西原村","藤尾"]
["山梨県","上野原市","西原村","田和，上平"]
["山梨県","上野原市","西原村","川通"]
["山梨県","上野原市","西原村","扁盃，下城"]
["山梨県","上野原市","西原村","郷原"]
["山梨県","上野原市","西原村","原"]
["山梨県","上野原市","西原村","飯尾"]
["山梨県","甲州市",null,null,{"v":2665,"d":"2,665"},{"v":2195,"d":"2,195"},737,655,417,217,{"v":1041,"d":"1,041"},470,{"v":5123,"d":"5,123"},26,65,112,126,142,228,305,365,535,650,636,653,551,429,300,62.7,62.2,63.3,{"v":3935,"d":"3,935"},13,13,18,49,68,117,144,182,342,521,581,629,541,422,295,67.2,67.6,66.7,{"v":3588,"d":"3,588"},2,4,14,37,54,94,125,159,318,486,562,597,507,388,241,67.6,67.7,67.4,{"v":2195,"d":"2,195"},"-","-",3,3,14,28,78,128,237,333,346,346,312,222,145,921,"-",1,4,3,19,31,75,127,127,166,157,125,86,{"$nulls":7},{"v":6478,"d":"6,478"},{"v":5206,"d":"5,206"},{"v":3588,"d":"3,588"},{"v":1446,"d":"1,446"},172,382,387,503,{"v":2170,"d":"2,170"},"-","-",1,"-",7,10,{"v":2141,"d":"2,141"},9,"-",1,"-",1,"-",null,null,{"v":2192,"d":"2,192"},{"v":148245,"d":"148,245"},937,{"v":3207,"d":"3,207"},{"v":144101,"d":"144,101"},{"v":3201,"d":"3,201"},{"v":2846,"d":"2,846"},{"v":1903,"d":"1,903"},825,118,1,206,148,{"v":3277,"d":"3,277"},{"v":2360,"d":"2,360"},{"v":1685,"d":"1,685"},621,54,381,181,355]
["山梨県","甲州市","塩山町",null,384,305,100,81,64,24,141,79,727,7,5,11,15,24,33,59,61,70,82,100,84,77,66,33,62.3,62.2,62.4,541,5,1,4,7,11,13,23,32,40,62,89,81,75,65,33,66.7,67.4,{"v":66,"d":"66.0"},483,1,"-",3,7,8,8,19,27,35,55,86,79,67,61,27,67.6,67.5,67.6,305,"-","-","-","-","-",4,16,19,31,39,57,49,42,33,15,144,"-","-","-",1,5,7,12,16,24,24,28,17,10,{"$nulls":7},935,730,483,221,26,67,68,70,303,"-","-","-","-",1,"-",302,"-","-","-","-","-","-",null,null,305,{"v":19538,"d":"19,538"},93,525,{"v":18920,"d":"18,920"},451,392,249,124,19,"-",38,21,484,338,234,97,7,67,30,49]
["山梨県","甲州市","塩山町","上野山"]
["山梨県","甲州市","塩山町","馬渡，札ノ辻"]
["山梨県","甲州市","塩山町","馬場"]
["山梨県","甲州市","塩山町","宮組"]
["山梨県","甲州市","塩山町","清水"]
["山梨県","甲州市","塩山町","千野東"]
["山梨県","甲州市","塩山町","上東"]
["山梨県","甲州市","塩山町","町屋"]
["山梨県","甲州市","塩山町","上西"]
["山梨県","甲州市","塩山町","中央"]
["山梨県","甲州市","塩山町","下東"]
["山梨県","甲州市","塩山町","下中"]
["山梨県","甲州市","塩山町","下西"]
["山梨県","甲州市","塩山町","上塩後上"]
["山梨県","甲州市","塩山町","上塩後中"]
["山梨県","甲州市","塩山町","横道"]
["山梨県","甲州市","塩山町","下塩後中"]
["山梨県","甲州市","塩山町","三丁田"]
["山梨県","甲州市","塩山町","七五三木"]
["山梨県","甲州市","塩山町","若宮"]
["山梨県","甲州市","塩山町","延命"]
["山梨県","甲州市","塩山町","影井"]
["山梨県","甲州市","塩山町","八王子，旗板"]
["山梨県","甲州市","塩山町","上赤尾"]
["山梨県","甲州市","塩山町","下赤尾"]
["山梨県","甲州市","塩山町","下萩下"]
["山梨県","甲州市","塩山町","下萩上"]
["山梨県","甲州市","奥野田村",null,215,185,76,70,25,14,84,30,432,4,3,7,19,15,17,23,20,39,73,55,52,51,35,19,62.4,62.3,62.5,358,3,1,2,9,10,9,11,13,31,63,50,52,51,34,19,65.7,66.6,64.8,324,"-","-",1,6,8,5,9,10,30,63,47,49,50,29,17,66.9,67.3,66.5,185,"-","-","-",1,3,"-",5,7,18,38,28,28,29,19,9,68,"-",1,"-","-",2,1,4,18,7,9,11,11,4,{"$nulls":7},518,427,324,95,8,32,26,33,185,"-","-","-","-","-",2,182,1,"-","-","-","-","-",null,null,185,{"v":13834,"d":"13,834"},"-",96,{"v":13738,"d":"13,738"},249,226,166,56,4,"-",12,11,269,201,158,39,4,32,14,22]
["山梨県","甲州市","奥野田村","中牛奥"]
["山梨県","甲州市","奥野田村","北牛奥南"]
["山梨県","甲州市","奥野田村","北牛奥北"]
["山梨県","甲州市","奥野田村","西野原"]
["山梨県","甲州市","奥野田村","熊野東"]
["山梨県","甲州市","奥野田村","熊野西"]
["山梨県","甲州市","奥野田村","塩川"]
["山梨県","甲州市","奥野田村","西広門田"]
["山梨県","甲州市","奥野田村","嵯峨塩"]
["山梨県","甲州市","大藤村",null,242,211,48,38,57,30,106,31,474,2,1,11,4,9,17,32,42,55,58,50,60,57,39,37,64.1,63.8,64.5,350,1,"-",1,1,4,7,12,19,24,44,47,58,57,38,37,69.2,70.2,68.2,310,1,"-",1,1,3,3,7,16,22,40,45,54,54,35,28,69.5,69.9,68.9,211,"-","-","-","-",1,1,5,14,24,32,27,35,33,21,18,85,"-","-",1,"-",1,4,7,10,6,14,18,11,13,{"$nulls":7},603,468,310,148,10,40,40,55,209,"-","-","-","-","-","-",207,1,"-",1,"-","-","-",null,null,210,{"v":13041,"d":"13,041"},48,223,{"v":12770,"d":"12,770"},303,262,167,88,7,"-",20,21,300,206,143,60,3,40,20,34]
["山梨県","甲州市","大藤村","街道端"]
["山梨県","甲州市","大藤村","赤子"]
["山梨県","甲州市","大藤村","青南"]
["山梨県","甲州市","大藤村","小山"]
["山梨県","甲州市","大藤村","嵯峨塩第一"]
["山梨県","甲州市","大藤村","向久保"]
["山梨県","甲州市","大藤村","土塚"]
["山梨県","甲州市","大藤村","下原"]
["山梨県","甲州市","大藤村","北原"]
["山梨県","甲州市","大藤村","重郎原"]
["山梨県","甲州市","大藤村","上井后田"]
["山梨県","甲州市","大藤村","下井后田"]
["山梨県","甲州市","大藤村","上中"]
["山梨県","甲州市","大藤村","室屋"]
["山梨県","甲州市","大藤村","西原"]
["山梨県","甲州市","大藤村","鐙摺"]
["山梨県","甲州市","大藤村","清水，糀屋"]
["山梨県","甲州市","大藤村","中田，下中"]
["山梨県","甲州市","大藤村","宮ノ前"]
["山梨県","甲州市","大藤村","向井"]
["山梨県","甲州市","神金村",null,174,129,22,20,28,9,79,45,283,"-",3,4,6,4,11,15,18,30,25,33,44,36,40,14,65.2,65.1,65.4,210,"-","-",1,2,"-",3,6,6,13,15,32,44,36,38,14,70.8,{"v":72,"d":"72.0"},69.6,195,"-","-","-",1,"-",2,6,6,12,12,32,43,36,35,10,{"v":71,"d":"71.0"},71.9,70.1,129,"-","-","-",1,"-",2,5,4,12,14,10,25,19,27,10,39,"-","-","-","-","-",1,2,2,3,10,4,13,4,{"$nulls":7},362,298,195,90,13,19,24,21,128,"-","-","-","-",2,"-",121,4,"-","-","-",1,"-",null,null,127,{"v":8137,"d":"8,137"},121,522,{"v":7494,"d":"7,494"},184,165,101,55,9,"-",12,7,178,133,94,35,4,19,12,14]
["山梨県","甲州市","神金村","下切"]
["山梨県","甲州市","神金村","神金第一区"]
["山梨県","甲州市","神金村","岩波"]
["山梨県","甲州市","神金村","桜田"]
["山梨県","甲州市","神金村","かじや"]
["山梨県","甲州市","神金村","上萩第一"]
["山梨県","甲州市","神金村","上萩第二"]
["山梨県","甲州市","神金村","昭和第一"]
["山梨県","甲州市","神金村","大久保"]
["山梨県","甲州市","神金村","下小田原下"]
["山梨県","甲州市","神金村","更生"]
["山梨県","甲州市","神金村","下小田原第一"]
["山梨県","甲州市","神金村","上小田原"]
["山梨県","甲州市","神金村","昭和第二"]
["山梨県","甲州市","神金村","裂石"]
["山梨県","甲州市","神金村","落合"]
["山梨県","甲州市","神金村","高橋"]
["山梨県","甲州市","神金村","一ノ瀬"]
["山梨県","甲州市","玉宮村",null,128,94,27,20,19,8,48,34,228,"-",5,5,4,4,13,15,22,15,22,33,34,18,18,20,63.1,62.4,63.9,162,"-",1,"-","-","-",7,10,6,8,12,30,34,17,18,19,{"v":69,"d":"69.0"},69.5,68.6,153,"-",1,"-","-","-",5,9,5,7,11,30,33,16,18,18,69.5,69.5,69.6,94,"-","-","-","-",1,1,4,6,9,6,19,21,10,6,11,37,"-","-","-","-",1,"-",2,1,8,10,6,3,6,{"$nulls":7},286,238,153,77,8,15,20,13,91,"-","-",1,"-","-","-",90,"-","-","-","-","-","-",null,null,94,{"v":6493,"d":"6,493"},174,449,{"v":5870,"d":"5,870"},137,126,82,37,7,"-",11,"-",149,112,71,40,1,15,9,13]
["山梨県","甲州市","玉宮村","的場"]
["山梨県","甲州市","玉宮村","御所"]
["山梨県","甲州市","玉宮村","中組"]
["山梨県","甲州市","玉宮村","乙木"]
["山梨県","甲州市","玉宮村","宮組"]
["山梨県","甲州市","玉宮村","西組"]
["山梨県","甲州市","玉宮村","東組"]
["山梨県","甲州市","玉宮村","上手"]
["山梨県","甲州市","玉宮村","福生里東"]
["山梨県","甲州市","玉宮村","福生里西"]
["山梨県","甲州市","玉宮村","平沢下"]
["山梨県","甲州市","玉宮村","平沢上"]
["山梨県","甲州市","松里村",null,380,304,94,80,63,35,147,76,712,4,14,17,23,15,34,40,49,67,95,101,82,71,55,45,62.2,61.5,{"v":63,"d":"63.0"},531,"-",2,2,8,3,15,23,21,42,76,93,76,70,55,45,67.7,68.4,{"v":67,"d":"67.0"},475,"-","-",2,3,2,13,18,18,38,70,90,72,64,49,36,68.1,68.4,67.9,304,"-","-","-","-",1,3,8,19,27,49,60,42,42,31,22,129,"-","-","-","-",2,3,7,14,22,21,27,20,13,{"$nulls":7},882,719,475,217,27,55,39,69,303,"-","-","-","-",1,6,295,1,"-","-","-","-","-",null,null,304,{"v":19260,"d":"19,260"},411,606,{"v":18243,"d":"18,243"},433,396,248,126,22,"-",18,19,449,323,227,91,5,55,21,50]
["山梨県","甲州市","松里村","東方"]
["山梨県","甲州市","松里村","中井尻"]
["山梨県","甲州市","松里村","上井尻"]
["山梨県","甲州市","松里村","能麦"]
["山梨県","甲州市","松里村","乙川戸"]
["山梨県","甲州市","松里村","武士原"]
["山梨県","甲州市","松里村","下市場"]
["山梨県","甲州市","松里村","追手先"]
["山梨県","甲州市","松里村","中組"]
["山梨県","甲州市","松里村","上組"]
["山梨県","甲州市","松里村","荒井"]
["山梨県","甲州市","松里村","西部"]
["山梨県","甲州市","松里村","中央，宮原"]
["山梨県","甲州市","松里村","宮原"]
["山梨県","甲州市","松里村","宮西"]
["山梨県","甲州市","松里村","滑沢"]
["山梨県","甲州市","松里村","下藤木"]
["山梨県","甲州市","松里村","西藤木"]
["山梨県","甲州市","松里村","東藤木"]
["山梨県","甲州市","松里村","上藤木"]
["山梨県","甲州市","松里村","上平"]
["山梨県","甲州市","松里村","窪"]
["山梨県","甲州市","松里村","相模"]
["山梨県","甲州市","勝沼町",null,265,245,108,102,39,24,98,20,582,2,7,11,16,23,25,34,35,73,73,68,66,65,52,32,62.6,61.9,63.4,470,2,1,2,7,13,15,22,21,52,64,62,64,62,51,32,66.1,65.7,66.4,435,"-","-",2,6,10,14,20,19,49,61,60,61,56,49,28,66.5,66.3,66.8,245,"-","-","-","-",3,6,12,13,32,38,43,28,31,24,15,113,"-","-",2,"-",4,8,12,19,23,16,11,9,9,{"$nulls":7},759,606,435,142,29,42,53,58,244,"-","-","-","-",1,"-",242,1,"-","-","-","-","-",null,null,245,{"v":17702,"d":"17,702"},53,141,{"v":17508,"d":"17,508"},378,331,240,73,18,"-",29,18,381,275,195,69,11,42,24,40]
["山梨県","甲州市","勝沼町","勝沼第一区"]
["山梨県","甲州市","勝沼町","勝沼第二区"]
["山梨県","甲州市","勝沼町","勝沼第三区"]
["山梨県","甲州市","勝沼町","勝沼第四区"]
["山梨県","甲州市","勝沼町","勝沼第五区"]
["山梨県","甲州市","勝沼町","勝沼第六区"]
["山梨県","甲州市","勝沼町","勝沼第七区"]
["山梨県","甲州市","勝沼町","勝沼第八区"]
["山梨県","甲州市","勝沼町","勝沼第九区"]
["山梨県","甲州市","勝沼町","勝沼第十区"]
["山梨県","甲州市","勝沼町","勝沼第十一区"]
["山梨県","甲州市","勝沼町","勝沼第十二区"]
["山梨県","甲州市","勝沼町","勝沼第十三区"]
["山梨県","甲州市","祝村",null,298,265,87,78,46,26,132,33,597,3,9,17,13,10,23,26,38,71,79,66,84,76,49,33,63.3,62.2,64.6,458,"-",1,1,3,6,11,9,18,46,69,58,80,75,49,32,68.3,68.4,68.3,435,"-","-",1,3,6,11,9,16,44,68,58,77,71,45,26,68.1,68.3,67.9,265,"-","-",1,"-",2,2,5,11,34,37,38,43,47,28,17,106,"-","-","-","-",1,1,9,15,15,20,18,20,7,{"$nulls":7},759,619,435,164,20,33,39,68,263,"-","-","-","-","-","-",263,"-","-","-","-","-","-",null,null,265,{"v":17051,"d":"17,051"},7,56,{"v":16988,"d":"16,988"},379,342,228,100,14,"-",17,20,380,277,207,64,6,33,22,48]
["山梨県","甲州市","祝村","金山"]
["山梨県","甲州市","祝村","伸農"]
["山梨県","甲州市","祝村","中瀬"]
["山梨県","甲州市","祝村","田中下"]
["山梨県","甲州市","祝村","田中上"]
["山梨県","甲州市","祝村","北村"]
["山梨県","甲州市","祝村","上"]
["山梨県","甲州市","祝村","竹原上"]
["山梨県","甲州市","祝村","竹原下"]
["山梨県","甲州市","祝村","上手"]
["山梨県","甲州市","祝村","新道下"]
["山梨県","甲州市","祝村","新道上"]
["山梨県","甲州市","祝村","はづれ"]
["山梨県","甲州市","祝村","南北澤"]
["山梨県","甲州市","祝村","大切"]
["山梨県","甲州市","祝村","富澤"]
["山梨県","甲州市","祝村","南藤井"]
["山梨県","甲州市","祝村","北藤井"]
["山梨県","甲州市","祝村","上野"]
["山梨県","甲州市","東雲村",null,271,248,99,93,36,24,113,23,581,1,7,19,10,18,30,29,37,54,85,80,86,48,42,35,62.5,61.5,63.7,480,1,4,3,3,10,22,15,24,43,71,76,85,47,41,35,65.9,65.8,{"v":66,"d":"66.0"},438,"-",1,2,3,8,20,15,21,42,67,72,82,44,34,27,{"v":66,"d":"66.0"},66.2,65.7,248,"-","-",2,"-",1,3,5,16,21,42,41,50,29,19,19,112,"-","-","-",1,"-",3,8,14,14,31,16,12,13,{"$nulls":7},725,593,438,141,14,39,35,58,245,"-","-","-","-","-",1,244,"-","-","-","-","-","-",null,null,248,{"v":18326,"d":"18,326"},"-",89,{"v":18237,"d":"18,237"},364,331,246,77,8,"-",19,14,361,262,192,64,6,39,16,44]
["山梨県","甲州市","東雲村","横落"]
["山梨県","甲州市","東雲村","中村"]
["山梨県","甲州市","東雲村","原"]
["山梨県","甲州市","東雲村","伏木"]
["山梨県","甲州市","東雲村","坂下"]
["山梨県","甲州市","東雲村","赤坂"]
["山梨県","甲州市","東雲村","上野"]
["山梨県","甲州市","東雲村","更生"]
["山梨県","甲州市","東雲村","中組"]
["山梨県","甲州市","東雲村","下組"]
["山梨県","甲州市","東雲村","休息"]
["山梨県","甲州市","東雲村","綿塚"]
["山梨県","甲州市","菱山村",null,180,165,72,69,33,20,60,15,417,2,11,9,16,18,21,28,34,53,49,39,47,39,25,26,60.1,59.1,61.2,316,1,2,2,9,9,13,12,20,38,42,36,44,39,25,24,64.6,64.8,64.5,291,"-",2,2,7,7,12,12,19,36,36,35,41,38,25,19,64.9,64.3,65.4,165,"-","-","-",1,2,5,12,16,27,31,16,20,22,8,5,67,"-","-",1,1,3,2,10,15,4,10,13,4,4,{"$nulls":7},526,415,291,110,14,26,38,47,161,"-","-","-","-","-","-",160,1,"-","-","-","-","-",null,null,165,{"v":12668,"d":"12,668"},30,114,{"v":12524,"d":"12,524"},261,219,144,67,8,1,26,15,265,196,147,43,6,25,12,32]
["山梨県","甲州市","菱山村","菱山第一区"]
["山梨県","甲州市","菱山村","菱山第二区"]
["山梨県","甲州市","菱山村","菱山第三区"]
["山梨県","甲州市","菱山村","菱山第四区"]
["山梨県","甲州市","菱山村","菱山第五区"]
["山梨県","甲州市","菱山村","菱山第六区"]
["山梨県","甲州市","菱山村","菱山第七区"]
["山梨県","甲州市","菱山村","中原第一区"]
["山梨県","甲州市","菱山村","中原第二区"]
["山梨県","甲州市","大和村",null,128,44,4,4,7,3,33,84,90,1,"-",1,"-",2,4,4,9,8,9,11,14,13,8,6,65.2,66.3,63.7,59,"-","-","-","-",2,2,1,2,5,3,8,11,12,8,5,69.8,71.5,67.8,49,"-","-","-","-",2,1,1,2,3,3,7,6,11,8,5,70.6,71.5,{"v":69,"d":"69.0"},44,"-","-","-","-","-",1,1,3,2,7,7,5,8,6,4,21,"-","-","-","-","-",1,2,3,1,1,5,5,3,{"$nulls":7},123,93,49,41,3,14,5,11,38,"-","-","-","-",2,1,35,"-","-","-","-","-","-",null,null,44,{"v":2195,"d":"2,195"},"-",386,{"v":1809,"d":"1,809"},62,56,32,22,2,"-",4,2,61,37,17,19,1,14,1,9]
["山梨県","甲州市","大和村","天目"]
["山梨県","甲州市","大和村","田野"]
["山梨県","甲州市","大和村","水野田"]
["山梨県","甲州市","大和村","丸林"]
["山梨県","甲州市","大和村","古部"]
["山梨県","甲州市","大和村","宮本"]
["山梨県","甲州市","大和村","日影"]
["山梨県","甲州市","大和村","鶴瀬"]
["山梨県","甲州市","大和村","共和"]
["山梨県","中央市",null,null,975,620,91,76,138,39,391,355,{"v":1485,"d":"1,485"},5,22,43,38,39,72,80,101,137,155,194,181,192,140,86,63.1,62.1,64.3,987,2,5,5,10,12,22,20,23,47,106,165,169,180,137,84,{"v":70,"d":"70.0"},70.3,69.6,866,"-",2,5,8,9,13,16,19,39,93,146,153,166,127,70,70.7,70.2,71.3,620,"-","-",1,2,4,5,17,32,57,77,104,89,109,82,41,297,"-",1,"-",1,4,7,32,31,42,38,66,48,27,{"$nulls":7},{"v":1939,"d":"1,939"},{"v":1530,"d":"1,530"},866,592,72,169,115,125,525,178,"-",2,1,176,92,65,6,"-",1,"-",4,"-",null,null,619,{"v":46441,"d":"46,441"},{"v":28085,"d":"28,085"},{"v":13025,"d":"13,025"},{"v":5331,"d":"5,331"},957,859,472,341,46,4,53,41,982,671,394,251,26,165,62,84]
["山梨県","中央市","豊富村",null,306,186,29,23,35,11,122,120,428,"-",4,14,8,4,22,25,29,35,39,54,54,71,44,25,64.6,{"v":64,"d":"64.0"},65.3,306,"-",1,2,2,"-",7,5,8,17,29,45,53,68,44,25,70.9,71.6,70.3,277,"-",1,2,2,"-",5,5,5,16,25,43,46,64,41,22,71.2,71.5,70.8,186,"-","-","-","-","-",1,5,10,17,20,30,23,40,27,13,81,"-","-","-","-",2,2,5,7,10,8,23,16,8,{"$nulls":7},557,440,277,146,17,41,37,39,166,6,"-",1,1,91,2,58,4,"-","-","-",3,"-",null,null,186,{"v":14135,"d":"14,135"},{"v":3073,"d":"3,073"},{"v":6992,"d":"6,992"},{"v":4070,"d":"4,070"},276,246,148,85,13,"-",17,13,281,194,129,61,4,41,20,26]
["山梨県","中央市","豊富村","木原"]
["山梨県","中央市","豊富村","高部"]
["山梨県","中央市","豊富村","浅利"]
["山梨県","中央市","豊富村","大鳥居"]
["山梨県","中央市","豊富村","関原"]
["山梨県","中央市","稲積村",null,183,121,8,6,31,5,82,62,289,1,7,5,8,7,15,12,22,32,39,39,21,34,25,22,62.8,62.2,63.5,154,"-","-","-",1,1,4,4,2,7,17,29,19,27,22,21,71.8,72.9,70.8,130,"-","-","-",1,1,1,2,2,4,13,23,19,25,21,18,73.2,72.5,73.9,121,"-","-","-","-",2,1,1,6,17,18,20,13,18,13,12,70,"-","-","-","-","-",3,11,7,10,8,14,9,8,{"$nulls":7},385,301,130,142,29,42,18,24,89,69,"-","-","-",16,2,"-",1,"-","-","-",1,"-",null,null,121,{"v":9178,"d":"9,178"},{"v":7654,"d":"7,654"},{"v":1254,"d":"1,254"},270,183,168,71,81,16,"-",8,7,202,133,59,61,13,42,10,17]
["山梨県","中央市","稲積村","井之口"]
["山梨県","中央市","稲積村","西新居"]
["山梨県","中央市","稲積村","中楯"]
["山梨県","中央市","稲積村","上成島"]
["山梨県","中央市","稲積村","宿成島"]
["山梨県","中央市","稲積村","下成島"]
["山梨県","中央市","稲積村","高橋"]
["山梨県","中央市","稲積村","極楽寺"]
["山梨県","中央市","稲積村","乙黒"]
["山梨県","中央市","三町村",null,107,73,9,6,21,6,43,34,186,1,3,5,7,5,6,16,16,20,10,23,28,18,17,11,61.8,60.9,{"v":63,"d":"63.0"},120,"-","-","-",3,3,1,4,2,4,10,21,27,17,17,11,{"v":70,"d":"70.0"},71.6,68.4,102,"-","-","-",1,1,"-",3,2,4,10,16,24,17,15,9,71.5,71.1,{"v":72,"d":"72.0"},73,"-","-","-",1,1,"-",5,6,7,6,10,15,9,10,3,37,"-",1,"-","-","-",1,5,2,4,10,5,6,3,{"$nulls":7},234,183,102,75,6,26,11,14,65,39,"-","-","-",23,3,"-","-","-","-","-","-","-",null,null,73,{"v":5917,"d":"5,917"},{"v":5194,"d":"5,194"},610,113,119,105,57,44,4,2,7,5,115,78,45,31,2,24,4,9]
["山梨県","中央市","三町村","下河東"]
["山梨県","中央市","三町村","一町畑"]
["山梨県","中央市","三町村","上三條"]
["山梨県","中央市","三町村","下三條"]
["山梨県","中央市","三町村","町之田"]
["山梨県","中央市","田富町",null,379,240,45,41,51,17,144,139,582,3,8,19,15,23,29,27,34,50,67,78,78,69,54,28,62.5,60.9,64.3,407,2,4,3,4,8,10,7,11,19,50,70,70,68,54,27,68.5,68.1,{"v":69,"d":"69.0"},357,"-",1,3,4,7,7,6,10,15,45,64,64,60,50,21,69.2,{"v":68,"d":"68.0"},70.6,240,"-","-",1,1,1,3,6,10,16,33,44,38,42,32,13,109,"-","-","-",1,2,1,11,15,18,12,24,17,8,{"$nulls":7},763,606,357,229,20,60,49,48,205,64,"-",1,"-",46,85,7,1,"-",1,"-","-","-",null,null,239,{"v":17211,"d":"17,211"},{"v":12164,"d":"12,164"},{"v":4169,"d":"4,169"},878,379,340,196,131,13,2,21,16,384,266,161,98,7,58,28,32]
["山梨県","中央市","田富町","鍛冶新居"]
["山梨県","中央市","田富町","山之神"]
["山梨県","中央市","田富町","布施"]
["山梨県","中央市","田富町","臼井阿原"]
["山梨県","中央市","田富町","西花輪"]
["山梨県","中央市","田富町","東花輪"]
["山梨県","中央市","田富町","大田和"]
["山梨県","中央市","田富町","藤巻"]
["山梨県","中央市","田富町","今福"]
["山梨県","中央市","田富町","今福新田"]
["山梨県","市川三郷町",null,null,850,216,34,29,33,17,149,634,524,9,9,17,18,17,23,26,31,48,61,60,65,59,48,33,61.9,60.6,63.5,327,3,2,2,4,4,5,2,6,16,36,48,60,59,48,32,70.4,70.7,70.1,293,3,1,2,4,4,4,1,6,15,32,43,56,54,42,26,70.2,70.4,69.8,216,"-","-",1,3,2,2,4,11,20,30,30,36,32,24,21,100,"-","-","-","-",1,4,8,10,19,17,20,11,10,{"$nulls":7},660,522,293,211,18,54,36,48,175,28,"-",1,"-",66,"-",79,1,"-","-","-","-","-",null,null,216,{"v":17881,"d":"17,881"},{"v":7195,"d":"7,195"},{"v":5545,"d":"5,545"},{"v":5141,"d":"5,141"},343,310,169,127,14,1,17,15,317,212,124,84,4,53,19,33]
["山梨県","市川三郷町","上野村",null,137,45,4,4,8,3,33,92,117,2,3,2,4,6,7,7,6,13,11,18,17,8,7,6,{"v":60,"d":"60.0"},59.3,60.8,61,"-","-","-","-","-",2,"-",1,3,5,13,16,8,7,6,71.6,72.2,{"v":71,"d":"71.0"},56,"-","-","-","-","-",2,"-",1,3,4,12,14,8,7,5,71.5,72.2,70.6,45,"-","-","-","-","-",2,1,3,6,2,11,9,4,4,3,29,"-","-","-","-","-","-",4,1,9,6,4,4,1,{"$nulls":7},146,113,56,52,5,18,8,7,30,13,"-","-","-",10,"-",6,1,"-","-","-","-","-",null,null,45,{"v":3394,"d":"3,394"},{"v":2295,"d":"2,295"},754,345,76,69,33,32,4,"-",5,2,70,44,23,20,1,18,3,5]
["山梨県","市川三郷町","上野村","上野本村"]
["山梨県","市川三郷町","上野村","矢作"]
["山梨県","市川三郷町","上野村","町屋"]
["山梨県","市川三郷町","上野村","川浦"]
["山梨県","市川三郷町","大塚村",null,176,117,20,17,21,12,76,59,303,7,5,14,6,8,12,15,23,26,31,32,35,40,29,20,61.9,60.2,64.1,194,3,1,2,"-",2,2,2,4,8,20,29,33,40,29,19,70.7,70.9,70.6,178,3,1,2,"-",2,2,1,4,8,18,28,32,37,25,15,70.2,70.4,69.9,117,"-","-",1,"-",1,"-",2,6,9,17,15,19,23,12,12,58,"-","-","-","-",1,4,3,5,8,8,15,6,8,{"$nulls":7},371,307,178,121,8,14,20,30,111,"-","-","-","-",51,"-",60,"-","-","-","-","-","-",null,null,117,{"v":10693,"d":"10,693"},{"v":3163,"d":"3,163"},{"v":3743,"d":"3,743"},{"v":3787,"d":"3,787"},193,172,96,70,6,1,10,10,178,135,82,51,2,13,10,20]
["山梨県","市川三郷町","大塚村","上野原"]
["山梨県","市川三郷町","大塚村","北区"]
["山梨県","市川三郷町","大塚村","南区"]
["山梨県","市川三郷町","大塚村","道林"]
["山梨県","市川三郷町","下九一色村２－１",null,19,"-","-","-","-","-","-",19,"-","-","-","-","-","-","-","-","-","-","-","-","-","-","-","-","-","-","-","-","-","-","-","-","-","-","-","-","-","-","-","-","-","-","-","-","-","-","-","-","-","-","-","-","-","-","-","-","-","-","-","-","-","-","-","-","-","-","-","-","-","-","-","-","-","-","-","-","-","-","-","-","-","-","-","-","-","-","-","-","-","-","-","-","-","-","-",{"$nulls":7},"-","-","-","-","-","-","-","-","-","-","-","-","-","-","-","-","-","-","-","-","-","-",null,null,"-","-","-","-","-","-","-","-","-","-","-","-","-","-","-","-","-","-","-","-","-"]
["山梨県","市川三郷町","下九一色村２－１","下芦川"]
["山梨県","市川三郷町","下九一色村２－１","三帳"]
["山梨県","市川三郷町","下九一色村２－１","古宿"]
["山梨県","市川三郷町","下九一色村２－１","高萩"]
["山梨県","市川三郷町","下九一色村２－１","垈"]
["山梨県","市川三郷町","下九一色村２－１","中山"]
["山梨県","市川三郷町","下九一色村２－１","畑熊"]
["山梨県","市川三郷町","市川大門町",null,62,12,1,1,"-","-",11,50,20,"-",1,"-",1,"-",3,1,"-","-",4,3,3,1,"-",3,61.9,64.6,56.9,13,"-",1,"-",1,"-","-","-","-","-",3,2,2,1,"-",3,66.1,70.5,51.3,11,"-","-","-",1,"-","-","-","-","-",3,1,2,1,"-",3,69.6,70.5,{"v":61,"d":"61.0"},12,"-","-","-",1,"-","-",1,"-","-",2,2,2,1,"-",3,4,"-","-","-","-","-","-","-",2,1,1,"-","-","-",{"$nulls":7},33,19,11,6,2,7,3,4,8,2,"-","-","-",1,"-",5,"-","-","-","-","-","-",null,null,12,552,330,68,154,18,16,10,5,1,"-","-",2,15,3,1,1,1,7,3,2]
["山梨県","市川三郷町","市川大門町","市川大門"]
["山梨県","市川三郷町","高田村",null,89,13,4,4,1,1,8,76,22,"-","-","-","-",1,1,"-",2,3,7,2,1,1,4,"-",63.5,61.9,65.5,15,"-","-","-","-","-",1,"-",1,2,4,1,1,1,4,"-",66.7,64.1,69.6,13,"-","-","-","-","-","-","-",1,2,4,1,1,1,3,"-",67.2,64.1,{"v":72,"d":"72.0"},13,"-","-","-","-","-","-","-",2,2,5,1,1,"-",2,"-",2,"-","-","-","-","-","-","-","-","-",1,"-",1,"-",{"$nulls":7},34,24,13,10,1,4,2,4,8,3,"-","-","-","-","-",5,"-","-","-","-","-","-",null,null,13,{"v":1246,"d":"1,246"},470,64,712,15,13,8,4,1,"-",1,1,19,11,5,6,"-",4,1,3]
["山梨県","市川三郷町","高田村","印沢"]
["山梨県","市川三郷町","高田村","上中町"]
["山梨県","市川三郷町","高田村","南磧"]
["山梨県","市川三郷町","高田村","宮本"]
["山梨県","市川三郷町","山保村２－１",null,59,5,1,1,1,"-",3,54,10,"-","-","-",1,"-","-",2,"-","-",1,1,1,2,1,1,65.9,60.7,73.8,6,"-","-","-",1,"-","-","-","-","-","-","-",1,2,1,1,71.8,67.3,76.3,6,"-","-","-",1,"-","-","-","-","-","-","-",1,2,1,1,71.8,67.3,76.3,5,"-","-","-",1,"-","-","-","-","-",1,"-","-",1,1,1,1,"-","-","-","-","-","-","-",1,"-","-","-","-","-",{"$nulls":7},13,10,6,4,"-",1,2,"-",2,1,"-","-","-",1,"-","-","-","-","-","-","-","-",null,null,5,397,125,272,"-",7,6,3,3,"-","-",1,"-",6,4,3,1,"-",1,1,"-"]
["山梨県","市川三郷町","山保村２－１","帯那"]
["山梨県","市川三郷町","山保村２－１","芦久保"]
["山梨県","市川三郷町","山保村２－１","清水"]
["山梨県","市川三郷町","山保村２－１","近萩"]
["山梨県","市川三郷町","山保村２－１","藤田"]
["山梨県","市川三郷町","山保村２－１","四尾連"]
["山梨県","市川三郷町","山保村２－１","堀切"]
["山梨県","市川三郷町","大同村２－１",null,113,4,3,2,"-","-",1,109,8,"-","-","-",2,2,"-","-","-","-",2,"-",2,"-","-","-",50.5,50.8,50.3,8,"-","-","-",2,2,"-","-","-","-",2,"-",2,"-","-","-",50.5,50.8,50.3,8,"-","-","-",2,2,"-","-","-","-",2,"-",2,"-","-","-",50.5,50.8,50.3,4,"-","-","-",1,1,"-","-","-","-",1,"-",1,"-","-","-",1,"-","-","-","-","-","-","-",1,"-","-","-","-","-",{"$nulls":7},8,8,8,"-","-","-","-","-",4,2,"-","-","-",2,"-","-","-","-","-","-","-","-",null,null,4,447,54,393,"-",4,4,4,"-","-","-","-","-",4,4,4,"-","-","-","-","-"]
["山梨県","市川三郷町","大同村２－１","下大鳥居"]
["山梨県","市川三郷町","大同村２－１","黒沢"]
["山梨県","市川三郷町","大同村２－１","入組"]
["山梨県","市川三郷町","大同村２－１","大木"]
["山梨県","市川三郷町","大同村２－１","法師倉"]
["山梨県","市川三郷町","大同村２－１","川鳥"]
["山梨県","市川三郷町","大同村２－１","宮沢"]
["山梨県","市川三郷町","大同村２－１","仲村"]
["山梨県","市川三郷町","大同村２－１","上の岩"]
["山梨県","市川三郷町","大同村２－１","別所"]
["山梨県","市川三郷町","大同村２－１","沖村"]
["山梨県","市川三郷町","落居村",null,58,3,"-","-","-","-",3,55,5,"-","-","-","-","-","-","-","-","-","-","-",1,2,2,"-",78.8,{"v":80,"d":"80.0"},{"v":77,"d":"77.0"},5,"-","-","-","-","-","-","-","-","-","-","-",1,2,2,"-",78.8,{"v":80,"d":"80.0"},{"v":77,"d":"77.0"},5,"-","-","-","-","-","-","-","-","-","-","-",1,2,2,"-",78.8,{"v":80,"d":"80.0"},{"v":77,"d":"77.0"},3,"-","-","-","-","-","-","-","-","-","-","-",1,"-",2,"-","-","-","-","-","-","-","-","-","-","-","-","-","-","-",{"$nulls":7},6,6,5,1,"-","-","-","-",3,"-","-","-","-","-","-",3,"-","-","-","-","-","-",null,null,3,126,19,21,86,3,3,3,"-","-","-","-","-",3,3,2,1,"-","-","-","-"]
["山梨県","市川三郷町","落居村","中落居"]
["山梨県","市川三郷町","落居村","三久保"]
["山梨県","市川三郷町","落居村","綱倉"]
["山梨県","市川三郷町","落居村","五八"]
["山梨県","市川三郷町","落居村","岩下"]
["山梨県","市川三郷町","落居村","寺所"]
["山梨県","市川三郷町","岩間村",null,49,3,"-","-","-","-",3,46,7,"-","-","-",1,"-","-","-","-","-","-",1,2,1,1,1,69.9,64.8,76.7,6,"-","-","-","-","-","-","-","-","-","-",1,2,1,1,1,76.3,{"v":76,"d":"76.0"},76.7,3,"-","-","-","-","-","-","-","-","-","-","-",2,"-",1,"-",{"v":76,"d":"76.0"},{"v":76,"d":"76.0"},"-",3,"-","-","-","-","-","-","-","-","-","-","-",2,"-",1,"-",1,"-","-","-","-","-","-","-","-","-",1,"-","-","-",{"$nulls":7},7,4,3,1,"-",3,"-","-",1,"-","-","-","-",1,"-","-","-","-","-","-","-","-",null,null,3,135,80,55,"-",4,4,3,1,"-","-","-","-",3,"-","-","-","-",3,"-","-"]
["山梨県","市川三郷町","岩間村","細田"]
["山梨県","市川三郷町","岩間村","岩間宿"]
["山梨県","市川三郷町","岩間村","原"]
["山梨県","市川三郷町","岩間村","上手方"]
["山梨県","市川三郷町","楠甫村",null,19,1,"x","x","x","x","x",18,"x","x","x","x","x","x","x","x","x","x","x","x","x","x","x","x","x","x","x","x","x","x","x","x","x","x","x","x","x","x","x","x","x","x","x","x","x","x","x","x","x","x","x","x","x","x","x","x","x","x","x","x","x","x","x","x","x","x","x","x","x","x","x","x","x","x","x","x","x","x","x","x","x","x","x","x","x","x","x","x","x","x","x","x","x","x","x",{"$nulls":7},"x","x","x","x","x","x","x","x","x","x","x","x","x","x","x","x","x","x","x","x","x","x","x","x","x","x","x","x","x","x","x","x","x","x","x","x","x","x","x","x","x","x","x","x","x"]
["山梨県","市川三郷町","楠甫村","楠甫"]
["山梨県","市川三郷町","鴨狩津向村",null,13,2,"x","x","x","x","x",11,"x","x","x","x","x","x","x","x","x","x","x","x","x","x","x","x","x","x","x","x","x","x","x","x","x","x","x","x","x","x","x","x","x","x","x","x","x","x","x","x","x","x","x","x","x","x","x","x","x","x","x","x","x","x","x","x","x","x","x","x","x","x","x","x","x","x","x","x","x","x","x","x","x","x","x","x","x","x","x","x","x","x","x","x","x","x","x",{"$nulls":7},"x","x","x","x","x","x","x","x","x","x","x","x","x","x","x","x","x","x","x","x","x","x","x","x","x","x","x","x","x","x","x","x","x","x","x","x","x","x","x","x","x","x","x","x","x"]
["山梨県","市川三郷町","鴨狩津向村","鴨狩津向"]
["山梨県","市川三郷町","宮原村",null,27,5,1,"-","-","-",4,22,8,"-","-","-","-","-","-","-","-",2,2,1,1,"-",1,1,68.9,68.8,{"v":69,"d":"69.0"},7,"-","-","-","-","-","-","-","-",2,1,1,1,"-",1,1,{"v":70,"d":"70.0"},71.3,{"v":69,"d":"69.0"},5,"-","-","-","-","-","-","-","-",1,"-",1,1,"-",1,1,74.2,71.3,78.5,5,"-","-","-","-","-","-","-","-",1,1,"-",1,"-",1,1,"-","-","-","-","-","-","-","-","-","-","-","-","-","-",{"$nulls":7},12,8,5,3,"-",3,"-",1,2,2,"-","-","-","-","-","-","-","-","-","-","-","-",null,null,5,319,240,79,"-",6,6,3,3,"-","-","-","-",6,2,2,"-","-",3,"-",1]
["山梨県","市川三郷町","宮原村","宮原"]
["山梨県","市川三郷町","葛篭沢村",null,29,6,"-","-",1,"-",5,23,16,"-","-",1,2,"-","-","-","-",4,"-",2,1,3,3,"-",62.6,59.1,{"v":66,"d":"66.0"},9,"-","-","-","-","-","-","-","-",1,"-",1,1,3,3,"-",74.8,{"v":78,"d":"78.0"},73.2,5,"-","-","-","-","-","-","-","-",1,"-","-","-",2,2,"-",75.4,{"v":78,"d":"78.0"},71.5,6,"-","-","-","-","-","-","-","-",2,"-",1,"-",2,1,"-",2,"-","-","-","-","-","-",1,"-",1,"-","-","-","-",{"$nulls":7},18,13,5,7,1,4,"-",1,4,3,"-",1,"-","-","-","-","-","-","-","-","-","-",null,null,6,448,337,54,57,9,9,3,5,1,"-","-","-",9,4,2,2,"-",4,"-",1]
["山梨県","市川三郷町","葛篭沢村","葛籠沢"]
["山梨県","早川町",null,null,87,3,"x","x","x","x","x",84,"x","x","x","x","x","x","x","x","x","x","x","x","x","x","x","x","x","x","x","x","x","x","x","x","x","x","x","x","x","x","x","x","x","x","x","x","x","x","x","x","x","x","x","x","x","x","x","x","x","x","x","x","x","x","x","x","x","x","x","x","x","x","x","x","x","x","x","x","x","x","x","x","x","x","x","x","x","x","x","x","x","x","x","x","x","x","x",{"$nulls":7},"x","x","x","x","x","x","x","x","x","x","x","x","x","x","x","x","x","x","x","x","x","x","x","x","x","x","x","x","x","x","x","x","x","x","x","x","x","x","x","x","x","x","x","x","x"]
["山梨県","早川町","都川村",null,17,1,"x","x","x","x","x",16,"x","x","x","x","x","x","x","x","x","x","x","x","x","x","x","x","x","x","x","x","x","x","x","x","x","x","x","x","x","x","x","x","x","x","x","x","x","x","x","x","x","x","x","x","x","x","x","x","x","x","x","x","x","x","x","x","x","x","x","x","x","x","x","x","x","x","x","x","x","x","x","x","x","x","x","x","x","x","x","x","x","x","x","x","x","x","x",{"$nulls":7},"x","x","x","x","x","x","x","x","x","x","x","x","x","x","x","x","x","x","x","x","x","x","x","x","x","x","x","x","x","x","x","x","x","x","x","x","x","x","x","x","x","x","x","x","x"]
["山梨県","早川町","都川村","京ケ島"]
["山梨県","早川町","都川村","草塩"]
["山梨県","早川町","都川村","保"]
["山梨県","早川町","都川村","柳島"]
["山梨県","早川町","都川村","西之宮"]
["山梨県","早川町","都川村","黒桂"]
["山梨県","早川町","西山村",null,3,"-","-","-","-","-","-",3,"-","-","-","-","-","-","-","-","-","-","-","-","-","-","-","-","-","-","-","-","-","-","-","-","-","-","-","-","-","-","-","-","-","-","-","-","-","-","-","-","-","-","-","-","-","-","-","-","-","-","-","-","-","-","-","-","-","-","-","-","-","-","-","-","-","-","-","-","-","-","-","-","-","-","-","-","-","-","-","-","-","-","-","-","-","-","-",{"$nulls":7},"-","-","-","-","-","-","-","-","-","-","-","-","-","-","-","-","-","-","-","-","-","-",null,null,"-","-","-","-","-","-","-","-","-","-","-","-","-","-","-","-","-","-","-","-","-"]
["山梨県","早川町","西山村","下湯島"]
["山梨県","早川町","西山村","上湯島"]
["山梨県","早川町","西山村","奈良田"]
["山梨県","早川町","三里村",null,19,1,"x","x","x","x","x",18,"x","x","x","x","x","x","x","x","x","x","x","x","x","x","x","x","x","x","x","x","x","x","x","x","x","x","x","x","x","x","x","x","x","x","x","x","x","x","x","x","x","x","x","x","x","x","x","x","x","x","x","x","x","x","x","x","x","x","x","x","x","x","x","x","x","x","x","x","x","x","x","x","x","x","x","x","x","x","x","x","x","x","x","x","x","x","x",{"$nulls":7},"x","x","x","x","x","x","x","x","x","x","x","x","x","x","x","x","x","x","x","x","x","x","x","x","x","x","x","x","x","x","x","x","x","x","x","x","x","x","x","x","x","x","x","x","x"]
["山梨県","早川町","三里村","早川"]
["山梨県","早川町","三里村","大原野"]
["山梨県","早川町","三里村","新倉"]
["山梨県","早川町","三里村","茂倉"]
["山梨県","早川町","五箇村",null,18,"-","-","-","-","-","-",18,"-","-","-","-","-","-","-","-","-","-","-","-","-","-","-","-","-","-","-","-","-","-","-","-","-","-","-","-","-","-","-","-","-","-","-","-","-","-","-","-","-","-","-","-","-","-","-","-","-","-","-","-","-","-","-","-","-","-","-","-","-","-","-","-","-","-","-","-","-","-","-","-","-","-","-","-","-","-","-","-","-","-","-","-","-","-","-",{"$nulls":7},"-","-","-","-","-","-","-","-","-","-","-","-","-","-","-","-","-","-","-","-","-","-",null,null,"-","-","-","-","-","-","-","-","-","-","-","-","-","-","-","-","-","-","-","-","-"]
["山梨県","早川町","五箇村","薬袋"]
["山梨県","早川町","五箇村","千須和"]
["山梨県","早川町","五箇村","榑坪"]
["山梨県","早川町","五箇村","笹走"]
["山梨県","早川町","五箇村","塩之上"]
["山梨県","早川町","五箇村","古屋"]
["山梨県","早川町","本建村",null,7,"-","-","-","-","-","-",7,"-","-","-","-","-","-","-","-","-","-","-","-","-","-","-","-","-","-","-","-","-","-","-","-","-","-","-","-","-","-","-","-","-","-","-","-","-","-","-","-","-","-","-","-","-","-","-","-","-","-","-","-","-","-","-","-","-","-","-","-","-","-","-","-","-","-","-","-","-","-","-","-","-","-","-","-","-","-","-","-","-","-","-","-","-","-","-",{"$nulls":7},"-","-","-","-","-","-","-","-","-","-","-","-","-","-","-","-","-","-","-","-","-","-",null,null,"-","-","-","-","-","-","-","-","-","-","-","-","-","-","-","-","-","-","-","-","-"]
["山梨県","早川町","本建村","初鹿島"]
["山梨県","早川町","本建村","小縄"]
["山梨県","早川町","本建村","高住"]
["山梨県","早川町","本建村","赤沢"]
["山梨県","早川町","硯島村",null,23,1,"x","x","x","x","x",22,"x","x","x","x","x","x","x","x","x","x","x","x","x","x","x","x","x","x","x","x","x","x","x","x","x","x","x","x","x","x","x","x","x","x","x","x","x","x","x","x","x","x","x","x","x","x","x","x","x","x","x","x","x","x","x","x","x","x","x","x","x","x","x","x","x","x","x","x","x","x","x","x","x","x","x","x","x","x","x","x","x","x","x","x","x","x","x",{"$nulls":7},"x","x","x","x","x","x","x","x","x","x","x","x","x","x","x","x","x","x","x","x","x","x","x","x","x","x","x","x","x","x","x","x","x","x","x","x","x","x","x","x","x","x","x","x","x"]
["山梨県","早川町","硯島村","大島"]
["山梨県","早川町","硯島村","戸川"]
["山梨県","早川町","硯島村","馬場"]
["山梨県","早川町","硯島村","老平"]
["山梨県","早川町","硯島村","北村"]
["山梨県","早川町","硯島村","原村"]
["山梨県","早川町","硯島村","細稲"]
["山梨県","早川町","硯島村","室畑"]
["山梨県","早川町","硯島村","久田子"]
["山梨県","身延町",null,null,899,76,7,6,7,3,62,823,179,1,4,2,2,3,5,5,6,14,25,22,35,23,17,15,66.5,65.6,67.6,113,1,2,"-","-","-","-",2,"-",2,14,10,28,22,17,15,{"v":73,"d":"73.0"},73.4,72.6,85,"-","-","-","-","-","-",2,"-",1,9,6,24,19,13,11,74.7,73.8,76.3,76,"-","-","-","-","-","-",1,1,4,11,12,14,14,12,7,38,"-","-","-","-","-",1,2,4,6,5,8,8,4,{"$nulls":7},216,166,85,71,10,26,3,21,47,12,"-",24,3,2,"-",2,"-",3,"-","-","-",1,null,null,76,{"v":4715,"d":"4,715"},{"v":3077,"d":"3,077"},{"v":1383,"d":"1,383"},255,111,101,55,42,4,"-",1,9,105,65,30,29,6,26,2,12]
["山梨県","身延町","下山村",null,112,6,1,1,"-","-",5,106,13,"-","-","-",1,"-",1,"-",1,2,2,1,4,1,"-","-",60.7,{"v":63,"d":"63.0"},{"v":58,"d":"58.0"},3,"-","-","-","-","-","-","-","-","-",1,"-",1,1,"-","-",70.3,70.3,"-",2,"-","-","-","-","-","-","-","-","-",1,"-",1,"-","-","-",{"v":66,"d":"66.0"},{"v":66,"d":"66.0"},"-",6,"-","-","-","-","-","-","-",1,"-",1,1,2,1,"-","-",4,"-","-","-","-","-",1,"-","-",1,1,1,"-","-",{"$nulls":7},16,13,2,9,2,"-","-",3,1,"-","-","-","-","-","-","-","-","-","-","-","-",1,null,null,6,253,196,57,"-",8,6,2,3,1,"-","-",2,8,7,"-",6,1,"-","-",1]
["山梨県","身延町","下山村","上沢"]
["山梨県","身延町","下山村","下山"]
["山梨県","身延町","下山村","杉山"]
["山梨県","身延町","下山村","山額"]
["山梨県","身延町","下山村","粟倉"]
["山梨県","身延町","下山村","小原島"]
["山梨県","身延町","身延町",null,53,2,"x","x","x","x","x",51,"x","x","x","x","x","x","x","x","x","x","x","x","x","x","x","x","x","x","x","x","x","x","x","x","x","x","x","x","x","x","x","x","x","x","x","x","x","x","x","x","x","x","x","x","x","x","x","x","x","x","x","x","x","x","x","x","x","x","x","x","x","x","x","x","x","x","x","x","x","x","x","x","x","x","x","x","x","x","x","x","x","x","x","x","x","x","x",{"$nulls":7},"x","x","x","x","x","x","x","x","x","x","x","x","x","x","x","x","x","x","x","x","x","x","x","x","x","x","x","x","x","x","x","x","x","x","x","x","x","x","x","x","x","x","x","x","x"]
["山梨県","身延町","身延町","波木井一区"]
["山梨県","身延町","身延町","波木井二区"]
["山梨県","身延町","身延町","波木井三区"]
["山梨県","身延町","身延町","塩沢"]
["山梨県","身延町","身延町","清住町"]
["山梨県","身延町","身延町","門内"]
["山梨県","身延町","身延町","大野"]
["山梨県","身延町","身延町","梅平"]
["山梨県","身延町","豊岡村",null,96,5,"-","-",1,1,4,91,13,"-","-","-","-","-",1,1,2,2,2,"-","-",3,1,1,63.8,65.4,61.8,6,"-","-","-","-","-","-","-","-","-",1,"-","-",3,1,1,77.5,75.3,{"v":82,"d":"82.0"},5,"-","-","-","-","-","-","-","-","-",1,"-","-",3,1,"-",75.6,75.3,{"v":77,"d":"77.0"},5,"-","-","-","-","-","-","-","-","-",2,"-","-",2,1,"-",3,"-","-","-","-","-","-","-",1,"-","-",2,"-","-",{"$nulls":7},14,12,5,7,"-",1,"-",1,4,"-","-",1,1,"-","-",1,"-",1,"-","-","-","-",null,null,5,316,163,130,23,7,7,4,3,"-","-","-","-",7,5,1,4,"-",1,"-",1]
["山梨県","身延町","豊岡村","門野"]
["山梨県","身延町","豊岡村","小田"]
["山梨県","身延町","豊岡村","船原"]
["山梨県","身延町","豊岡村","清子"]
["山梨県","身延町","豊岡村","光子沢"]
["山梨県","身延町","豊岡村","大久保"]
["山梨県","身延町","豊岡村","横根"]
["山梨県","身延町","豊岡村","相又"]
["山梨県","身延町","豊岡村","大城"]
["山梨県","身延町","大河内村",null,120,19,1,"-",1,"-",17,101,43,"-","-",1,1,1,1,2,1,5,5,10,3,5,5,3,65.4,63.5,67.9,22,"-","-","-","-","-","-",1,"-",1,1,3,3,5,5,3,75.1,76.8,{"v":74,"d":"74.0"},13,"-","-","-","-","-","-",1,"-","-","-",1,2,4,2,3,76.9,76.4,77.8,19,"-","-","-","-","-","-","-","-",2,2,5,"-",3,4,3,12,"-","-","-","-","-","-","-",2,3,"-",2,2,3,{"$nulls":7},55,40,13,24,3,9,"-",6,8,4,"-",1,2,"-","-","-","-",1,"-","-","-","-",null,null,19,{"v":1098,"d":"1,098"},741,308,49,29,26,8,16,2,"-","-",3,26,14,5,8,1,9,"-",3]
["山梨県","身延町","大河内村","帯金"]
["山梨県","身延町","大河内村","塩之沢"]
["山梨県","身延町","大河内村","丸滝"]
["山梨県","身延町","大河内村","大垈"]
["山梨県","身延町","大河内村","椿草里"]
["山梨県","身延町","大河内村","大崩"]
["山梨県","身延町","大河内村","角打北"]
["山梨県","身延町","大河内村","角打南"]
["山梨県","身延町","大河内村","和田"]
["山梨県","身延町","大河内村","平"]
["山梨県","身延町","大河内村","米倉"]
["山梨県","身延町","大河内村","樋之上"]
["山梨県","身延町","大河内村","上大島"]
["山梨県","身延町","大河内村","下大島"]
["山梨県","身延町","大河内村","八木沢"]
["山梨県","身延町","大須成村",null,29,7,1,1,"-","-",6,22,14,"-",1,"-","-","-","-","-","-",2,1,1,2,3,4,"-",69.6,65.8,72.4,10,"-","-","-","-","-","-","-","-","-",1,"-",2,3,4,"-",76.7,{"v":78,"d":"78.0"},75.8,10,"-","-","-","-","-","-","-","-","-",1,"-",2,3,4,"-",76.7,{"v":78,"d":"78.0"},75.8,7,"-","-","-","-","-","-","-","-",1,1,"-",1,1,3,"-",4,"-","-","-","-","-","-",1,"-","-","-",1,2,"-",{"$nulls":7},16,14,10,1,3,"-","-",2,6,2,"-",3,"-","-","-","-","-",1,"-","-","-","-",null,null,7,540,392,148,"-",6,6,4,1,1,"-","-","-",10,8,6,"-",2,"-","-",2]
["山梨県","身延町","大須成村","大塩"]
["山梨県","身延町","大須成村","荻"]
["山梨県","身延町","大須成村","久成"]
["山梨県","身延町","大須成村","堂平"]
["山梨県","身延町","大須成村","平須"]
["山梨県","身延町","西島村",null,59,8,"-","-",2,1,6,51,21,"-",1,1,"-","-","-","-","-",2,5,"-",4,2,2,4,67.9,64.9,71.9,13,"-","-","-","-","-","-","-","-","-",2,"-",3,2,2,4,77.3,77.7,76.8,10,"-","-","-","-","-","-","-","-","-",1,"-",2,2,2,3,78.5,77.7,80.3,8,"-","-","-","-","-","-","-","-","-",2,"-",2,"-",2,2,4,"-","-","-","-","-","-","-","-","-",1,"-",2,1,{"$nulls":7},24,19,10,9,"-",2,"-",3,6,"-","-",6,"-","-","-","-","-","-","-","-","-","-",null,null,8,472,370,98,4,14,13,7,6,"-","-","-",1,10,6,3,3,"-",2,"-",2]
["山梨県","身延町","西島村","西島"]
["山梨県","身延町","静川村",null,50,4,1,1,"-","-",3,46,9,"-","-","-","-","-","-","-","-","-",1,"-",3,3,"-",2,76.1,79.3,73.6,9,"-","-","-","-","-","-","-","-","-",1,"-",3,3,"-",2,76.1,79.3,73.6,8,"-","-","-","-","-","-","-","-","-",1,"-",2,3,"-",2,76.9,79.3,74.5,4,"-","-","-","-","-","-","-","-","-","-","-","-",3,"-",1,1,"-","-","-","-","-","-","-","-","-","-",1,"-","-",{"$nulls":7},11,9,8,"-",1,1,"-",1,4,1,"-",3,"-","-","-","-","-","-","-","-","-","-",null,null,4,366,243,111,12,5,4,4,"-","-","-","-",1,6,5,4,"-",1,1,"-","-"]
["山梨県","身延町","静川村","切石"]
["山梨県","身延町","静川村","夜子沢"]
["山梨県","身延町","静川村","日向南沢"]
["山梨県","身延町","静川村","寺沢"]
["山梨県","身延町","静川村","手打沢"]
["山梨県","身延町","原村",null,37,4,1,1,"-","-",3,33,9,"-","-","-","-",1,"-","-","-","-",1,"-",3,2,1,1,70.7,69.2,72.5,7,"-","-","-","-","-","-","-","-","-",1,"-",2,2,1,1,{"v":75,"d":"75.0"},77.3,{"v":72,"d":"72.0"},6,"-","-","-","-","-","-","-","-","-",1,"-",2,2,"-",1,73.8,77.3,{"v":67,"d":"67.0"},4,"-","-","-","-","-","-","-","-","-","-","-",1,2,"-",1,"-","-","-","-","-","-","-","-","-","-","-","-","-","-",{"$nulls":7},11,9,6,2,1,1,"-",1,3,"-","-",3,"-","-","-","-","-","-","-","-","-","-",null,null,4,253,121,122,10,6,6,4,2,"-","-","-","-",5,3,2,"-",1,1,"-",1]
["山梨県","身延町","原村","大子山"]
["山梨県","身延町","原村","八日市場"]
["山梨県","身延町","原村","伊沼"]
["山梨県","身延町","原村","飯富"]
["山梨県","身延町","曙村",null,26,3,1,1,1,1,1,23,8,"-","-","-","-","-","-",2,"-","-",1,1,3,"-",1,"-",65.5,66.3,64.8,6,"-","-","-","-","-","-",1,"-","-",1,"-",3,"-",1,"-",{"v":68,"d":"68.0"},66.3,71.5,6,"-","-","-","-","-","-",1,"-","-",1,"-",3,"-",1,"-",{"v":68,"d":"68.0"},66.3,71.5,3,"-","-","-","-","-","-",1,"-","-","-","-",2,"-","-","-",1,"-","-","-","-","-","-","-","-","-",1,"-","-","-",{"$nulls":7},9,9,6,3,"-","-","-","-",3,"-","-",2,"-",1,"-","-","-","-","-","-","-","-",null,null,3,281,135,146,"-",5,5,4,1,"-","-","-","-",4,4,2,2,"-","-","-","-"]
["山梨県","身延町","曙村","矢細工"]
["山梨県","身延町","曙村","古長谷"]
["山梨県","身延町","曙村","福原"]
["山梨県","身延町","曙村","梨子"]
["山梨県","身延町","曙村","江尻窪"]
["山梨県","身延町","曙村","遅沢"]
["山梨県","身延町","曙村","中山"]
["山梨県","身延町","曙村","松山，後山"]
["山梨県","身延町","共和村２－１",null,32,3,"-","-","-","-",3,29,7,"-","-","-","-","-","-","-","-","-",3,1,2,"-","-",1,70.3,67.7,72.3,5,"-","-","-","-","-","-","-","-","-",1,1,2,"-","-",1,{"v":74,"d":"74.0"},70.5,76.3,4,"-","-","-","-","-","-","-","-","-","-",1,2,"-","-",1,76.5,70.5,82.5,3,"-","-","-","-","-","-","-","-","-",1,1,1,"-","-","-",2,"-","-","-","-","-","-","-",1,1,"-","-","-","-",{"$nulls":7},10,9,4,5,"-",1,"-","-",3,"-","-",3,"-","-","-","-","-","-","-","-","-","-",null,null,3,124,64,60,"-",5,5,2,3,"-","-","-","-",5,4,2,2,"-",1,"-","-"]
["山梨県","身延町","共和村２－１","下向"]
["山梨県","身延町","共和村２－１","上向"]
["山梨県","身延町","共和村２－１","深町"]
["山梨県","身延町","共和村２－１","大谷津，小田原"]
["山梨県","身延町","共和村２－１","宮木"]
["山梨県","身延町","下九一色村２－２",null,"-","-","-","-","-","-","-","-","-","-","-","-","-","-","-","-","-","-","-","-","-","-","-","-","-","-","-","-","-","-","-","-","-","-","-","-","-","-","-","-","-","-","-","-","-","-","-","-","-","-","-","-","-","-","-","-","-","-","-","-","-","-","-","-","-","-","-","-","-","-","-","-","-","-","-","-","-","-","-","-","-","-","-","-","-","-","-","-","-","-","-","-","-","-","-",{"$nulls":7},"-","-","-","-","-","-","-","-","-","-","-","-","-","-","-","-","-","-","-","-","-","-",null,null,"-","-","-","-","-","-","-","-","-","-","-","-","-","-","-","-","-","-","-","-","-"]
["山梨県","身延町","下九一色村２－２","八坂"]
["山梨県","身延町","下九一色村２－２","折門・御弟子"]
["山梨県","身延町","山保村２－２",null,5,"-","-","-","-","-","-",5,"-","-","-","-","-","-","-","-","-","-","-","-","-","-","-","-","-","-","-","-","-","-","-","-","-","-","-","-","-","-","-","-","-","-","-","-","-","-","-","-","-","-","-","-","-","-","-","-","-","-","-","-","-","-","-","-","-","-","-","-","-","-","-","-","-","-","-","-","-","-","-","-","-","-","-","-","-","-","-","-","-","-","-","-","-","-","-",{"$nulls":7},"-","-","-","-","-","-","-","-","-","-","-","-","-","-","-","-","-","-","-","-","-","-",null,null,"-","-","-","-","-","-","-","-","-","-","-","-","-","-","-","-","-","-","-","-","-"]
["山梨県","身延町","山保村２－２","山家"]
["山梨県","身延町","山保村２－２","嶺"]
["山梨県","身延町","山保村２－２","久保"]
["山梨県","身延町","山保村２－２","大山"]
["山梨県","身延町","久那土村",null,60,6,"-","-","-","-",6,54,12,"-","-","-","-","-","-","-",1,"-","-",3,3,4,1,"-",71.6,73.5,69.7,9,"-","-","-","-","-","-","-","-","-","-",3,2,3,1,"-",73.2,73.5,72.7,6,"-","-","-","-","-","-","-","-","-","-",2,1,2,1,"-",73.5,73.5,"-",6,"-","-","-","-","-","-","-","-","-","-",2,1,2,1,"-",3,"-","-","-","-","-","-","-","-",1,"-",1,1,"-",{"$nulls":7},16,9,6,3,"-",6,"-",1,2,2,"-","-","-","-","-","-","-","-","-","-","-","-",null,null,6,325,152,98,75,8,8,6,2,"-","-","-","-",8,1,"-",1,"-",6,"-",1]
["山梨県","身延町","久那土村","大道，割子"]
["山梨県","身延町","久那土村","奥杯"]
["山梨県","身延町","久那土村","日向，塩貝"]
["山梨県","身延町","久那土村","開持"]
["山梨県","身延町","久那土村","大草"]
["山梨県","身延町","久那土村","樋田"]
["山梨県","身延町","久那土村","熊沢"]
["山梨県","身延町","久那土村","車田"]
["山梨県","身延町","久那土村","切房木"]
["山梨県","身延町","久那土村","道"]
["山梨県","身延町","久那土村","水船"]
["山梨県","身延町","久那土村","芝草"]
["山梨県","身延町","久那土村","大石・登組"]
["山梨県","身延町","古関村",null,73,2,"x","x","x","x","x",71,"x","x","x","x","x","x","x","x","x","x","x","x","x","x","x","x","x","x","x","x","x","x","x","x","x","x","x","x","x","x","x","x","x","x","x","x","x","x","x","x","x","x","x","x","x","x","x","x","x","x","x","x","x","x","x","x","x","x","x","x","x","x","x","x","x","x","x","x","x","x","x","x","x","x","x","x","x","x","x","x","x","x","x","x","x","x","x",{"$nulls":7},"x","x","x","x","x","x","x","x","x","x","x","x","x","x","x","x","x","x","x","x","x","x","x","x","x","x","x","x","x","x","x","x","x","x","x","x","x","x","x","x","x","x","x","x","x"]
["山梨県","身延町","古関村","古関"]
["山梨県","身延町","古関村","釜額"]
["山梨県","身延町","古関村","中ノ倉"]
["山梨県","身延町","古関村","瀬戸"]
["山梨県","身延町","古関村","根子"]
["山梨県","身延町","古関村","丸畑"]
["山梨県","身延町","古関村","大磯小磯（１）"]
["山梨県","身延町","古関村","大磯小磯（２）"]
["山梨県","身延町","富里村",null,135,6,"-","-",1,"-",5,129,16,1,"-","-","-","-",2,"-","-","-",2,3,7,"-","-",1,63.6,65.7,{"v":62,"d":"62.0"},13,1,"-","-","-","-","-","-","-","-",2,2,7,"-","-",1,66.9,69.7,64.6,10,"-","-","-","-","-","-","-","-","-",1,1,7,"-","-",1,72.4,69.7,76.5,6,"-","-","-","-","-","-","-","-","-",1,1,4,"-","-","-",2,"-","-","-","-","-","-","-","-","-",2,"-","-","-",{"$nulls":7},19,15,10,5,"-",2,1,1,3,1,"-",1,"-","-","-",1,"-","-","-","-","-","-",null,null,6,376,255,59,62,8,8,6,2,"-","-","-","-",11,7,4,3,"-",2,1,1]
["山梨県","身延町","富里村","清沢"]
["山梨県","身延町","富里村","大炊平"]
["山梨県","身延町","富里村","岩欠"]
["山梨県","身延町","富里村","杉山"]
["山梨県","身延町","富里村","和名場"]
["山梨県","身延町","富里村","栃代"]
["山梨県","身延町","富里村","横手"]
["山梨県","身延町","富里村","長塩"]
["山梨県","身延町","富里村","北川"]
["山梨県","身延町","富里村","市之瀬"]
["山梨県","身延町","富里村","境畑，五条"]
["山梨県","身延町","富里村","山口"]
["山梨県","身延町","富里村","川久保"]
["山梨県","身延町","富里村","酒屋中島，昭和組"]
["山梨県","身延町","富里村","日向"]
["山梨県","身延町","富里村","杉ノ木"]
["山梨県","身延町","富里村","出口"]
["山梨県","身延町","富里村","竹ノ島"]
["山梨県","身延町","富里村","上之平"]
["山梨県","身延町","富里村","波高島"]
["山梨県","身延町","富里村","下部"]
["山梨県","身延町","富里村","湯之奥"]
["山梨県","身延町","共和村２－２",null,12,1,"x","x","x","x","x",11,"x","x","x","x","x","x","x","x","x","x","x","x","x","x","x","x","x","x","x","x","x","x","x","x","x","x","x","x","x","x","x","x","x","x","x","x","x","x","x","x","x","x","x","x","x","x","x","x","x","x","x","x","x","x","x","x","x","x","x","x","x","x","x","x","x","x","x","x","x","x","x","x","x","x","x","x","x","x","x","x","x","x","x","x","x","x","x",{"$nulls":7},"x","x","x","x","x","x","x","x","x","x","x","x","x","x","x","x","x","x","x","x","x","x","x","x","x","x","x","x","x","x","x","x","x","x","x","x","x","x","x","x","x","x","x","x","x"]
["山梨県","身延町","共和村２－２","一色"]
["山梨県","身延町","共和村２－２","和平"]
["山梨県","身延町","共和村２－２","上田原"]
["山梨県","南部町",null,null,854,162,5,4,13,1,144,692,390,2,6,7,11,13,17,22,23,43,60,42,47,43,29,25,62.5,{"v":62,"d":"62.0"},63.2,200,2,3,"-",2,"-",2,3,2,8,23,27,41,39,26,22,{"v":71,"d":"71.0"},72.3,69.6,143,"-","-","-",1,"-",1,1,"-",5,9,22,30,33,22,19,74.2,73.8,74.9,162,"-","-","-","-","-",1,3,3,18,25,30,25,24,21,12,93,"-","-","-","-",1,"-",9,10,18,14,15,16,10,{"$nulls":7},525,359,143,187,29,73,31,62,79,19,"-","-",47,9,1,1,1,"-","-","-","-","-",null,null,162,{"v":8067,"d":"8,067"},{"v":3653,"d":"3,653"},{"v":2148,"d":"2,148"},{"v":2266,"d":"2,266"},263,230,94,113,23,"-",16,17,262,129,49,74,6,73,15,45]
["山梨県","南部町","栄村",null,125,26,2,2,2,"-",22,99,62,"-","-",3,"-",2,6,1,1,14,5,7,8,6,4,5,{"v":63,"d":"63.0"},{"v":61,"d":"61.0"},65.6,35,"-","-","-","-","-",1,1,"-",5,4,4,7,6,3,4,70.6,72.4,68.6,25,"-","-","-","-","-","-",1,"-",4,2,3,4,5,3,3,72.1,71.3,73.8,26,"-","-","-","-","-",1,1,"-",4,2,4,5,4,2,3,16,"-","-","-","-","-","-",2,1,4,2,4,1,2,{"$nulls":7},78,53,25,24,4,15,1,9,12,"-","-","-",12,"-","-","-","-","-","-","-","-","-",null,null,26,{"v":1644,"d":"1,644"},441,236,967,38,34,17,15,2,"-","-",4,40,19,8,9,2,15,1,5]
["山梨県","南部町","栄村","内船上"]
["山梨県","南部町","栄村","内船中"]
["山梨県","南部町","栄村","内船下"]
["山梨県","南部町","栄村","井出"]
["山梨県","南部町","栄村","十島"]
["山梨県","南部町","栄村","上佐野"]
["山梨県","南部町","栄村","下佐野"]
["山梨県","南部町","睦合村",null,348,55,2,1,5,1,48,293,145,"-",5,2,3,5,5,8,10,12,25,18,14,18,11,9,62.4,61.7,63.4,78,"-",3,"-","-","-",1,1,1,1,11,11,14,16,11,8,70.6,71.8,69.5,53,"-","-","-","-","-",1,"-","-",1,3,8,9,14,10,7,74.8,73.9,76.4,55,"-","-","-","-","-","-","-",1,7,6,15,6,9,8,3,34,"-","-","-","-","-","-",4,4,9,4,4,6,3,{"$nulls":7},202,134,53,71,10,27,13,28,21,7,"-","-",13,"-","-","-","-","-","-","-","-","-",null,null,55,{"v":2414,"d":"2,414"},{"v":1401,"d":"1,401"},581,432,104,87,35,44,8,"-",7,10,98,47,18,27,2,27,6,18]
["山梨県","南部町","睦合村","本郷"]
["山梨県","南部町","睦合村","成島"]
["山梨県","南部町","睦合村","中野"]
["山梨県","南部町","睦合村","柳島"]
["山梨県","南部町","睦合村","南部"]
["山梨県","南部町","睦合村","塩沢"]
["山梨県","南部町","睦合村","大和"]
["山梨県","南部町","富河村",null,273,53,1,1,3,"-",49,220,123,2,"-","-",8,5,4,10,8,12,19,10,16,14,8,7,61.3,60.5,62.5,52,2,"-","-",2,"-","-",1,"-","-",4,5,13,12,7,6,70.7,70.3,71.2,38,"-","-","-",1,"-","-","-","-","-",2,5,10,9,5,6,74.4,74.6,74.2,53,"-","-","-","-","-","-",2,2,6,11,6,10,7,6,3,29,"-","-","-","-",1,"-",3,5,3,5,5,5,2,{"$nulls":7},166,116,38,68,10,21,13,16,26,9,"-","-",12,4,"-","-",1,"-","-","-","-","-",null,null,53,{"v":2749,"d":"2,749"},{"v":1480,"d":"1,480"},740,529,83,75,25,41,9,"-",7,1,83,41,13,27,1,21,6,15]
["山梨県","南部町","富河村","馬込"]
["山梨県","南部町","富河村","町屋（楮根）"]
["山梨県","南部町","富河村","竹ノ花"]
["山梨県","南部町","富河村","峯（楮根）"]
["山梨県","南部町","富河村","宮原"]
["山梨県","南部町","富河村","原戸"]
["山梨県","南部町","富河村","真篠"]
["山梨県","南部町","富河村","坂下"]
["山梨県","南部町","富河村","平"]
["山梨県","南部町","富河村","中島"]
["山梨県","南部町","富河村","峯（福士）"]
["山梨県","南部町","富河村","町屋（福士）"]
["山梨県","南部町","富河村","切久保"]
["山梨県","南部町","富河村","矢島下"]
["山梨県","南部町","富河村","矢島上"]
["山梨県","南部町","富河村","東市組"]
["山梨県","南部町","富河村","西市組"]
["山梨県","南部町","富河村","竹ノ沢"]
["山梨県","南部町","富河村","東根熊"]
["山梨県","南部町","富河村","西根熊"]
["山梨県","南部町","富河村","坂本"]
["山梨県","南部町","富河村","向田"]
["山梨県","南部町","富河村","鯨野"]
["山梨県","南部町","富河村","市小路"]
["山梨県","南部町","富河村","御堂下"]
["山梨県","南部町","富河村","御堂上"]
["山梨県","南部町","富河村","石合"]
["山梨県","南部町","富河村","下村"]
["山梨県","南部町","富河村","南又"]
["山梨県","南部町","富河村","上村"]
["山梨県","南部町","富河村","上徳間"]
["山梨県","南部町","萬沢村",null,108,28,"-","-",3,"-",25,80,60,"-",1,2,"-",1,2,3,4,5,11,7,9,5,6,4,64.4,66.7,61.3,35,"-","-","-","-","-","-","-",1,2,4,7,7,5,5,4,72.6,76.2,68.4,27,"-","-","-","-","-","-","-","-","-",2,6,7,5,4,3,74.6,75.1,73.8,28,"-","-","-","-","-","-","-","-",1,6,5,4,4,5,3,14,"-","-","-","-","-","-","-","-",2,3,2,4,3,{"$nulls":7},79,56,27,24,5,10,4,9,20,3,"-","-",10,5,1,1,"-","-","-","-","-","-",null,null,28,{"v":1260,"d":"1,260"},331,591,338,38,34,17,13,4,"-",2,2,41,22,10,11,1,10,2,7]
["山梨県","南部町","萬沢村","増野"]
["山梨県","南部町","萬沢村","西行"]
["山梨県","南部町","萬沢村","越渡"]
["山梨県","南部町","萬沢村","横沢"]
["山梨県","南部町","萬沢村","上代"]
["山梨県","南部町","萬沢村","御屋敷"]
["山梨県","南部町","萬沢村","上宿"]
["山梨県","南部町","萬沢村","下宿"]
["山梨県","南部町","萬沢村","平山"]
["山梨県","南部町","萬沢村","小葉山"]
["山梨県","南部町","萬沢村","松山"]
["山梨県","南部町","萬沢村","沢上"]
["山梨県","南部町","萬沢村","登尾"]
["山梨県","南部町","萬沢村","大城"]
["山梨県","南部町","萬沢村","杉山"]
["山梨県","南部町","萬沢村","梅島"]
["山梨県","南部町","萬沢村","中沢"]
["山梨県","南部町","萬沢村","日向"]
["山梨県","南部町","萬沢村","屋敷平"]
["山梨県","富士川町",null,null,742,184,12,11,26,13,146,558,421,2,6,11,8,12,11,23,25,39,43,47,50,67,41,36,64.9,64.9,64.8,267,"-","-",2,"-",2,1,4,3,9,22,39,46,64,40,35,73.3,73.2,73.4,236,"-","-",2,"-",1,1,3,3,7,17,35,41,58,38,30,73.5,{"v":73,"d":"73.0"},74.3,184,"-","-","-","-",1,1,3,6,14,22,27,26,38,26,20,84,"-","-","-","-",1,1,2,12,9,15,16,14,14,{"$nulls":7},558,428,236,177,15,50,31,49,131,26,"-","-","-",7,2,92,"-","-","-",1,"-",2,null,null,184,{"v":11032,"d":"11,032"},{"v":3821,"d":"3,821"},{"v":2518,"d":"2,518"},{"v":4693,"d":"4,693"},273,247,143,92,12,1,11,14,285,181,93,85,3,49,20,35]
["山梨県","富士川町","増穂村",null,520,147,9,9,23,11,115,373,347,2,4,8,8,9,11,20,23,34,33,38,40,54,31,32,64.7,65.2,{"v":64,"d":"64.0"},215,"-","-",2,"-",1,1,4,2,8,16,32,36,51,31,31,73.4,73.2,73.7,192,"-","-",2,"-",1,1,3,2,6,12,30,33,46,30,26,73.4,{"v":73,"d":"73.0"},74.1,147,"-","-","-","-",1,1,3,6,12,16,20,20,30,20,18,68,"-","-","-","-",1,1,1,8,4,15,13,11,14,{"$nulls":7},470,359,192,157,10,42,29,40,113,20,"-","-","-",5,1,83,"-","-","-",1,"-",2,null,null,147,{"v":9284,"d":"9,284"},{"v":3047,"d":"3,047"},{"v":2104,"d":"2,104"},{"v":4133,"d":"4,133"},225,206,118,81,7,1,9,9,245,153,74,76,3,41,20,31]
["山梨県","富士川町","増穂村","最勝寺"]
["山梨県","富士川町","増穂村","天神中条"]
["山梨県","富士川町","増穂村","大久保"]
["山梨県","富士川町","増穂村","舂米"]
["山梨県","富士川町","増穂村","小林"]
["山梨県","富士川町","増穂村","大椚"]
["山梨県","富士川町","増穂村","長沢"]
["山梨県","富士川町","増穂村","青柳町"]
["山梨県","富士川町","平林村",null,34,4,"-","-",1,"-",3,30,10,"-","-","-","-",1,"-",2,"-","-",2,"-",1,2,2,"-",64.5,{"v":65,"d":"65.0"},63.8,6,"-","-","-","-",1,"-","-","-","-",1,"-",1,2,1,"-",67.7,75.5,63.8,3,"-","-","-","-","-","-","-","-","-",1,"-","-",2,"-","-",{"v":71,"d":"71.0"},75.5,{"v":62,"d":"62.0"},4,"-","-","-","-","-","-","-","-","-",1,"-","-",2,1,"-",3,"-","-","-","-","-","-","-",1,"-","-",1,1,"-",{"$nulls":7},10,7,3,1,3,3,"-","-",2,1,"-","-","-",1,"-","-","-","-","-","-","-","-",null,null,4,157,88,69,"-",6,6,2,1,3,"-","-","-",4,1,1,"-","-",3,"-","-"]
["山梨県","富士川町","平林村","久保平、南平、馬取沢、上久保"]
["山梨県","富士川町","平林村","楮畠，忍沢，栃久保"]
["山梨県","富士川町","平林村","上久保上、上向川、下向川"]
["山梨県","富士川町","平林村","狭間，前田新井，岩下新梨"]
["山梨県","富士川町","穂積村",null,80,25,1,"-",2,2,22,55,41,"-","-","-","-","-","-",1,1,2,6,2,7,11,8,3,72.7,71.7,73.7,34,"-","-","-","-","-","-","-",1,"-",3,1,7,11,8,3,75.6,75.2,75.9,32,"-","-","-","-","-","-","-",1,"-",2,1,7,10,8,3,{"v":76,"d":"76.0"},75.2,76.9,25,"-","-","-","-","-","-","-","-",1,4,2,5,6,5,2,9,"-","-","-","-","-","-",1,2,2,"-",2,2,"-",{"$nulls":7},51,42,32,8,2,2,1,6,11,3,"-","-","-",1,"-",7,"-","-","-","-","-","-",null,null,25,{"v":1246,"d":"1,246"},492,292,462,27,23,17,4,2,"-",1,3,24,19,15,4,"-",2,"-",3]
["山梨県","富士川町","穂積村","仙洞田"]
["山梨県","富士川町","穂積村","下高下"]
["山梨県","富士川町","穂積村","上高下"]
["山梨県","富士川町","穂積村","狩宿"]
["山梨県","富士川町","穂積村","土録"]
["山梨県","富士川町","穂積村","上手"]
["山梨県","富士川町","穂積村","北川"]
["山梨県","富士川町","穂積村","砂垈"]
["山梨県","富士川町","穂積村","矢泊、益母"]
["山梨県","富士川町","穂積村","平尾、寺尾"]
["山梨県","富士川町","鰍沢町",null,33,2,"x","x","x","x","x",31,"x","x","x","x","x","x","x","x","x","x","x","x","x","x","x","x","x","x","x","x","x","x","x","x","x","x","x","x","x","x","x","x","x","x","x","x","x","x","x","x","x","x","x","x","x","x","x","x","x","x","x","x","x","x","x","x","x","x","x","x","x","x","x","x","x","x","x","x","x","x","x","x","x","x","x","x","x","x","x","x","x","x","x","x","x","x","x",{"$nulls":7},"x","x","x","x","x","x","x","x","x","x","x","x","x","x","x","x","x","x","x","x","x","x","x","x","x","x","x","x","x","x","x","x","x","x","x","x","x","x","x","x","x","x","x","x","x"]
["山梨県","富士川町","鰍沢町","新田"]
["山梨県","富士川町","鰍沢町","畔沢"]
["山梨県","富士川町","鰍沢町","旭町"]
["山梨県","富士川町","鰍沢町","緑町"]
["山梨県","富士川町","鰍沢町","入町"]
["山梨県","富士川町","鰍沢町","風早"]
["山梨県","富士川町","鰍沢町","天戸"]
["山梨県","富士川町","鰍沢町","小柳川，国見平"]
["山梨県","富士川町","鰍沢町","日向町"]
["山梨県","富士川町","鰍沢町","梅久保"]
["山梨県","富士川町","鰍沢町","久保沢"]
["山梨県","富士川町","鰍沢町","鬼島"]
["山梨県","富士川町","鰍沢町","富士見町"]
["山梨県","富士川町","鰍沢町","上町"]
["山梨県","富士川町","鰍沢町","中部"]
["山梨県","富士川町","五開村",null,54,4,1,1,"-","-",3,50,9,"-","-","-","-",2,"-","-","-",1,"-",4,2,"-","-","-",59.9,59.8,{"v":60,"d":"60.0"},7,"-","-","-","-","-","-","-","-",1,"-",4,2,"-","-","-",66.4,{"v":68,"d":"68.0"},65.3,4,"-","-","-","-","-","-","-","-",1,"-",2,1,"-","-","-",65.3,{"v":68,"d":"68.0"},{"v":57,"d":"57.0"},4,"-","-","-","-","-","-","-","-","-","-",3,1,"-","-","-",2,"-","-","-","-","-","-","-","-",2,"-","-","-","-",{"$nulls":7},11,7,4,3,"-",3,"-",1,3,1,"-","-","-","-",1,1,"-","-","-","-","-","-",null,null,4,190,137,21,32,6,5,3,2,"-","-","-",1,5,2,1,1,"-",3,"-","-"]
["山梨県","富士川町","五開村","十谷"]
["山梨県","富士川町","五開村","鳥屋"]
["山梨県","富士川町","五開村","箱原"]
["山梨県","富士川町","五開村","長知沢"]
["山梨県","富士川町","五開村","山王・柳川"]
["山梨県","富士川町","大同村２－２",null,21,2,"x","x","x","x","x",19,"x","x","x","x","x","x","x","x","x","x","x","x","x","x","x","x","x","x","x","x","x","x","x","x","x","x","x","x","x","x","x","x","x","x","x","x","x","x","x","x","x","x","x","x","x","x","x","x","x","x","x","x","x","x","x","x","x","x","x","x","x","x","x","x","x","x","x","x","x","x","x","x","x","x","x","x","x","x","x","x","x","x","x","x","x","x","x",{"$nulls":7},"x","x","x","x","x","x","x","x","x","x","x","x","x","x","x","x","x","x","x","x","x","x","x","x","x","x","x","x","x","x","x","x","x","x","x","x","x","x","x","x","x","x","x","x","x"]
["山梨県","富士川町","大同村２－２","駅前通り"]
["山梨県","富士川町","大同村２－２","舟莚"]
["山梨県","富士川町","大同村２－２","平"]
["山梨県","富士川町","大同村２－２","柳沢"]
["山梨県","昭和町","昭和町",null,326,162,14,12,61,23,87,164,463,11,17,17,16,19,12,23,45,54,60,36,37,36,43,37,59.7,57.6,{"v":62,"d":"62.0"},239,5,3,1,2,6,3,3,6,10,32,29,30,36,40,33,69.8,69.6,69.9,181,"-","-","-","-",4,1,3,2,6,26,25,28,27,37,22,72.6,72.9,72.3,162,"-","-",1,"-",1,"-",3,11,15,34,18,23,15,24,17,87,"-","-","-","-","-",6,6,16,10,12,10,13,14,{"$nulls":7},543,398,181,192,25,59,45,41,136,68,"-",1,"-",40,10,16,1,"-","-","-","-","-",null,null,162,{"v":9226,"d":"9,226"},{"v":7107,"d":"7,107"},{"v":1514,"d":"1,514"},605,268,225,96,113,16,"-",26,17,275,173,85,79,9,59,19,24]
["山梨県","昭和町","昭和町","西条"]
["山梨県","昭和町","昭和町","清水新居"]
["山梨県","昭和町","昭和町","西条新田"]
["山梨県","昭和町","昭和町","押越"]
["山梨県","昭和町","昭和町","河東中島"]
["山梨県","昭和町","昭和町","紙漉阿原"]
["山梨県","昭和町","昭和町","築地新居"]
["山梨県","昭和町","昭和町","飯喰"]
["山梨県","昭和町","昭和町","河西"]
["山梨県","昭和町","昭和町","上河東"]
["山梨県","道志村","道志村",null,153,22,2,2,1,1,19,131,55,1,"-",1,1,1,4,5,5,3,6,4,10,8,3,3,62.5,65.4,59.7,34,1,"-",1,1,"-",1,"-",1,1,2,4,9,7,3,3,68.2,72.3,64.6,29,"-","-",1,"-","-",1,"-",1,1,2,3,8,7,3,2,70.5,71.5,69.5,22,"-","-","-","-","-","-","-","-",2,2,2,5,6,2,3,8,"-","-","-","-","-","-","-",2,"-",2,1,1,2,{"$nulls":7},86,60,29,26,5,6,15,5,12,2,"-","-",2,5,"-","-",1,2,"-","-","-","-",null,null,22,{"v":1694,"d":"1,694"},{"v":1233,"d":"1,233"},461,"-",42,34,15,16,3,"-",6,2,44,26,14,10,2,6,9,3]
["山梨県","道志村","道志村","月夜野"]
["山梨県","道志村","道志村","大野"]
["山梨県","道志村","道志村","久保"]
["山梨県","道志村","道志村","大室指"]
["山梨県","道志村","道志村","椿"]
["山梨県","道志村","道志村","小善地"]
["山梨県","道志村","道志村","大栗"]
["山梨県","道志村","道志村","馬場"]
["山梨県","道志村","道志村","竹之本"]
["山梨県","道志村","道志村","東和出村"]
["山梨県","道志村","道志村","西和出村"]
["山梨県","道志村","道志村","川原畑"]
["山梨県","道志村","道志村","釜之前"]
["山梨県","道志村","道志村","下神地"]
["山梨県","道志村","道志村","上神地"]
["山梨県","道志村","道志村","善之木"]
["山梨県","道志村","道志村","川村"]
["山梨県","道志村","道志村","板橋"]
["山梨県","道志村","道志村","白井平"]
["山梨県","道志村","道志村","長叉"]
["山梨県","西桂町","西桂町",null,160,12,1,1,1,"-",10,148,28,1,"-","-",2,3,1,2,2,1,6,2,1,3,3,1,58.3,58.5,57.8,16,1,"-","-",1,"-",1,"-","-","-",3,2,1,3,3,1,65.6,65.3,65.9,7,"-","-","-",1,"-",1,"-","-","-","-",2,1,1,"-",1,63.3,68.2,{"v":34,"d":"34.0"},12,"-","-","-","-","-",1,1,1,"-",3,2,1,"-",2,1,5,"-","-","-","-","-","-","-","-",2,"-","-",2,1,{"$nulls":7},36,23,7,13,3,8,2,3,3,1,"-","-","-",1,"-","-",1,"-","-","-","-","-",null,null,12,725,493,211,21,19,15,6,6,3,"-",1,3,17,8,1,7,"-",8,1,"-"]
["山梨県","西桂町","西桂町","倉見"]
["山梨県","西桂町","西桂町","小沼"]
["山梨県","西桂町","西桂町","下暮地"]
["山梨県","忍野村","忍野村",null,311,103,9,8,15,2,79,208,331,6,13,8,18,18,19,19,33,24,39,46,28,25,28,7,57.5,{"v":56,"d":"56.0"},59.3,134,2,2,2,2,4,"-",1,6,5,14,21,21,23,25,6,68.1,69.7,66.8,101,"-","-","-",1,"-","-","-",1,4,12,18,16,20,23,6,72.9,72.3,73.6,103,"-","-","-","-","-",1,2,10,5,12,27,14,11,18,3,64,"-","-","-",1,1,4,1,7,17,8,8,14,3,{"$nulls":7},417,316,101,151,64,49,26,26,58,16,"-",4,"-",33,"-","-",2,1,"-","-","-",2,null,null,102,{"v":7550,"d":"7,550"},{"v":3319,"d":"3,319"},{"v":4225,"d":"4,225"},6,215,192,55,95,42,"-",17,6,202,124,46,56,22,49,9,20]
["山梨県","忍野村","忍野村","内野"]
["山梨県","忍野村","忍野村","忍草"]
["山梨県","山中湖村","山中湖村",null,161,2,"x","x","x","x","x",159,"x","x","x","x","x","x","x","x","x","x","x","x","x","x","x","x","x","x","x","x","x","x","x","x","x","x","x","x","x","x","x","x","x","x","x","x","x","x","x","x","x","x","x","x","x","x","x","x","x","x","x","x","x","x","x","x","x","x","x","x","x","x","x","x","x","x","x","x","x","x","x","x","x","x","x","x","x","x","x","x","x","x","x","x","x","x","x",{"$nulls":7},"x","x","x","x","x","x","x","x","x","x","x","x","x","x","x","x","x","x","x","x","x","x","x","x","x","x","x","x","x","x","x","x","x","x","x","x","x","x","x","x","x","x","x","x","x"]
["山梨県","山中湖村","山中湖村","山中"]
["山梨県","山中湖村","山中湖村","長池"]
["山梨県","山中湖村","山中湖村","平野"]
["山梨県","鳴沢村","鳴沢村",null,148,77,21,18,12,7,44,71,174,2,"-",6,4,3,7,13,20,12,15,18,30,24,13,7,62.8,62.5,63.2,120,"-","-","-",1,3,4,8,9,3,8,17,26,22,13,6,67.9,67.9,67.8,113,"-","-","-",1,3,4,8,9,2,8,17,25,19,12,5,67.3,{"v":67,"d":"67.0"},67.7,77,"-","-","-","-","-",2,4,7,3,8,10,15,16,8,4,31,"-","-","-","-",1,3,2,2,4,10,4,3,2,{"$nulls":7},246,188,113,71,4,16,21,21,73,"-","-",1,"-",57,"-",7,7,"-",1,"-","-","-",null,null,77,{"v":9722,"d":"9,722"},"-",{"v":9552,"d":"9,552"},170,120,104,64,38,2,"-",7,9,126,84,49,33,2,16,14,12]
["山梨県","鳴沢村","鳴沢村","鳴沢"]
["山梨県","鳴沢村","鳴沢村","大田和"]
["山梨県","富士河口湖町",null,null,454,86,41,39,7,4,38,368,231,1,9,8,5,13,13,14,18,28,25,25,24,19,18,11,59.3,58.5,60.3,169,"-",3,2,4,6,7,9,15,16,18,24,21,16,17,11,63.5,63.2,63.9,156,"-",1,2,4,4,6,9,15,15,18,22,20,16,14,10,63.9,63.2,65.1,86,"-","-","-","-","-",2,4,10,11,13,11,11,11,10,3,37,"-","-","-","-","-",2,1,3,6,9,6,7,3,{"$nulls":7},289,227,156,64,7,23,20,19,80,7,"-",3,2,22,1,2,11,"-",29,3,"-","-",null,null,85,{"v":34374,"d":"34,374"},{"v":1226,"d":"1,226"},{"v":33019,"d":"33,019"},129,146,130,95,31,4,1,10,5,143,97,61,33,3,22,10,14]
["山梨県","富士河口湖町","船津村",null,57,3,"x","x","x","x","x",54,"x","x","x","x","x","x","x","x","x","x","x","x","x","x","x","x","x","x","x","x","x","x","x","x","x","x","x","x","x","x","x","x","x","x","x","x","x","x","x","x","x","x","x","x","x","x","x","x","x","x","x","x","x","x","x","x","x","x","x","x","x","x","x","x","x","x","x","x","x","x","x","x","x","x","x","x","x","x","x","x","x","x","x","x","x","x","x",{"$nulls":7},"x","x","x","x","x","x","x","x","x","x","x","x","x","x","x","x","x","x","x","x","x","x","x","x","x","x","x","x","x","x","x","x","x","x","x","x","x","x","x","x","x","x","x","x","x"]
["山梨県","富士河口湖町","船津村","船津"]
["山梨県","富士河口湖町","船津村","浅川"]
["山梨県","富士河口湖町","小立村",null,60,2,"x","x","x","x","x",58,"x","x","x","x","x","x","x","x","x","x","x","x","x","x","x","x","x","x","x","x","x","x","x","x","x","x","x","x","x","x","x","x","x","x","x","x","x","x","x","x","x","x","x","x","x","x","x","x","x","x","x","x","x","x","x","x","x","x","x","x","x","x","x","x","x","x","x","x","x","x","x","x","x","x","x","x","x","x","x","x","x","x","x","x","x","x","x",{"$nulls":7},"x","x","x","x","x","x","x","x","x","x","x","x","x","x","x","x","x","x","x","x","x","x","x","x","x","x","x","x","x","x","x","x","x","x","x","x","x","x","x","x","x","x","x","x","x"]
["山梨県","富士河口湖町","小立村","小立"]
["山梨県","富士河口湖町","大石村",null,69,18,2,2,2,1,14,51,40,"-","-","-","-",3,1,"-",1,6,3,7,4,7,5,3,67.5,66.9,68.2,27,"-","-","-","-","-","-","-",1,1,1,7,3,6,5,3,73.7,73.4,{"v":74,"d":"74.0"},25,"-","-","-","-","-","-","-",1,1,1,7,3,6,3,3,{"v":73,"d":"73.0"},73.4,72.4,18,"-","-","-","-","-",1,"-",1,3,1,4,1,4,2,1,7,"-","-","-","-","-","-","-","-",2,1,2,1,1,{"$nulls":7},54,42,25,13,4,5,4,3,18,1,"-",2,2,10,"-",1,2,"-","-","-","-","-",null,null,18,{"v":1390,"d":"1,390"},366,960,64,23,23,15,6,2,"-","-","-",31,19,10,7,2,5,4,3]
["山梨県","富士河口湖町","大石村","大石"]
["山梨県","富士河口湖町","大石村","湯口"]
["山梨県","富士河口湖町","河口村",null,90,21,3,3,4,2,14,69,57,"-",1,3,1,1,3,5,6,4,7,6,6,6,6,2,60.9,59.1,63.3,30,"-","-","-","-","-","-",2,3,"-",2,5,5,5,6,2,70.7,69.8,{"v":72,"d":"72.0"},26,"-","-","-","-","-","-",2,3,"-",2,4,4,5,5,1,{"v":70,"d":"70.0"},69.8,70.6,21,"-","-","-","-","-","-","-",3,"-",4,3,3,3,4,1,13,"-","-","-","-","-",2,"-",1,1,3,1,4,1,{"$nulls":7},69,52,26,24,2,6,7,4,18,6,"-",1,"-",9,1,"-",1,"-","-","-","-","-",null,null,21,{"v":1461,"d":"1,461"},813,628,20,39,33,17,14,2,"-",5,1,30,19,9,10,"-",6,2,3]
["山梨県","富士河口湖町","河口村","河口"]
["山梨県","富士河口湖町","勝山村",null,50,6,3,3,"-","-",3,44,15,"-","-","-","-","-",2,2,"-",1,1,"-",2,3,2,2,67.7,{"v":69,"d":"69.0"},66.5,10,"-","-","-","-","-",1,1,"-","-",1,"-",1,2,2,2,71.6,71.6,71.6,10,"-","-","-","-","-",1,1,"-","-",1,"-",1,2,2,2,71.6,71.6,71.6,6,"-","-","-","-","-","-",1,"-","-",1,"-","-",2,1,1,4,"-","-","-","-","-","-","-","-","-","-",2,1,1,{"$nulls":7},17,15,10,5,"-",1,"-",1,5,"-","-","-","-","-","-",1,4,"-","-","-","-","-",null,null,6,253,24,199,30,8,8,5,3,"-","-","-","-",9,7,5,2,"-",1,"-",1]
["山梨県","富士河口湖町","勝山村","小海"]
["山梨県","富士河口湖町","勝山村","勝山"]
["山梨県","富士河口湖町","西浜村",null,40,"-","-","-","-","-","-",40,"-","-","-","-","-","-","-","-","-","-","-","-","-","-","-","-","-","-","-","-","-","-","-","-","-","-","-","-","-","-","-","-","-","-","-","-","-","-","-","-","-","-","-","-","-","-","-","-","-","-","-","-","-","-","-","-","-","-","-","-","-","-","-","-","-","-","-","-","-","-","-","-","-","-","-","-","-","-","-","-","-","-","-","-","-","-","-",{"$nulls":7},"-","-","-","-","-","-","-","-","-","-","-","-","-","-","-","-","-","-","-","-","-","-",null,null,"-","-","-","-","-","-","-","-","-","-","-","-","-","-","-","-","-","-","-","-","-"]
["山梨県","富士河口湖町","西浜村","長浜"]
["山梨県","富士河口湖町","西浜村","西湖"]
["山梨県","富士河口湖町","西浜村","根場"]
["山梨県","富士河口湖町","大嵐村",null,12,3,1,1,"-","-",2,9,5,"-","-","-","-",1,"-","-","-","-","-",1,1,"-",2,"-",68.6,68.8,{"v":68,"d":"68.0"},5,"-","-","-","-",1,"-","-","-","-","-",1,1,"-",2,"-",68.6,68.8,{"v":68,"d":"68.0"},5,"-","-","-","-",1,"-","-","-","-","-",1,1,"-",2,"-",68.6,68.8,{"v":68,"d":"68.0"},3,"-","-","-","-","-","-","-","-","-","-","-",1,"-",2,"-",1,"-","-","-","-","-","-","-","-","-",1,"-","-","-",{"$nulls":7},8,6,5,1,"-","-",1,1,3,"-","-","-","-",2,"-","-",1,"-","-","-","-","-",null,null,3,230,"-",230,"-",5,4,4,"-","-","-",1,"-",3,2,1,1,"-","-","-",1]
["山梨県","富士河口湖町","大嵐村","大嵐"]
["山梨県","富士河口湖町","上九一色村2-2",null,76,33,29,28,1,1,3,43,93,1,6,4,2,5,7,7,11,13,12,9,9,3,2,2,54.1,53.5,54.8,84,"-",3,2,2,5,6,6,11,13,12,9,9,3,1,2,56.2,55.6,56.9,77,"-",1,2,2,3,5,6,11,12,12,8,9,3,1,2,57.6,55.6,60.6,33,"-","-","-","-","-",1,3,6,7,6,4,4,2,"-","-",8,"-","-","-","-","-","-",1,1,3,2,1,"-","-",{"$nulls":7},117,92,77,15,"-",9,7,9,33,"-","-","-","-","-","-","-",1,"-",29,3,"-","-",null,null,33,{"v":30710,"d":"30,710"},"-",{"v":30710,"d":"30,710"},"-",59,51,47,4,"-","-",4,4,58,41,30,11,"-",9,3,5]
["山梨県","富士河口湖町","上九一色村2-2","精進"]
["山梨県","富士河口湖町","上九一色村2-2","本栖"]
["山梨県","富士河口湖町","上九一色村2-2","富士ケ嶺"]
["山梨県","小菅村","小菅村",null,64,9,"-","-",2,1,7,55,17,"-","-","-","-","-","-","-","-","-",3,6,4,1,2,1,70.7,71.4,69.9,11,"-","-","-","-","-","-","-","-","-",2,3,2,1,2,1,72.3,{"v":74,"d":"74.0"},70.8,10,"-","-","-","-","-","-","-","-","-",1,3,2,1,2,1,73.4,{"v":74,"d":"74.0"},72.8,9,"-","-","-","-","-","-","-","-","-","-",5,2,"-",2,"-",4,"-","-","-","-","-","-","-","-",1,1,"-",2,"-",{"$nulls":7},33,28,10,15,3,2,1,2,6,"-","-",3,2,"-","-","-","-",1,"-","-","-","-",null,null,9,386,"-",386,"-",15,15,5,8,2,"-","-","-",18,13,5,7,1,2,1,2]
["山梨県","小菅村","小菅村","橋立"]
["山梨県","小菅村","小菅村","川池"]
["山梨県","小菅村","小菅村","田元"]
["山梨県","小菅村","小菅村","東部"]
["山梨県","小菅村","小菅村","長作"]
["山梨県","小菅村","小菅村","小永田"]
["山梨県","小菅村","小菅村","白沢"]
["山梨県","小菅村","小菅村","中組"]
["山梨県","丹波山村","丹波山村",null,82,9,2,2,3,"-",4,73,13,"-","-","-","-","-","-","-",3,2,2,1,2,3,"-","-",64.5,62.8,68.5,8,"-","-","-","-","-","-","-",1,1,1,1,1,3,"-","-",67.5,67.8,{"v":67,"d":"67.0"},7,"-","-","-","-","-","-","-",1,"-",1,1,1,3,"-","-",69.1,67.8,72.5,9,"-","-","-","-","-","-","-",2,1,2,1,"-",3,"-","-",1,"-","-","-","-","-","-","-","-","-","-",1,"-","-",{"$nulls":7},16,12,7,5,"-",2,"-",2,7,"-","-",4,"-",3,"-","-","-","-","-","-","-","-",null,null,9,612,"-",612,"-",9,9,5,4,"-","-","-","-",7,3,2,1,"-",2,"-",2]
["山梨県","丹波山村","丹波山村","奥秋"]
["山梨県","丹波山村","丹波山村","上組"]
["山梨県","丹波山村","丹波山村","中組"]
["山梨県","丹波山村","丹波山村","下組"]
["山梨県","丹波山村","丹波山村","高尾"]
["山梨県","丹波山村","丹波山村","押垣外"]
["山梨県","丹波山村","丹波山村","保之瀬上"]
["山梨県","丹波山村","丹波山村","保之瀬下"]
["山梨県","丹波山村","丹波山村","所畑"]
["山梨県","丹波山村","丹波山村","鴨沢"]
["山梨県","丹波山村","丹波山村","小袖"]