{"text_format":"3","workbook":"xlsx","n_sheets":7,"sheets":["kadft","グラフ用シート","2010年 ","2015年","指定地域 ","地域類型区分","元データ"],"not_rendered":{"charts":10,"defined_names":27},"read":"whole","date_system":"1900"}

{"sheet":"kadft","index":0,"n_rows":102,"n_cols":26,"rows_kept":102,"merged":[[0,23,0,25],[1,0,1,25],[2,0,2,25],[3,1,3,3],[3,5,3,7],[3,8,3,12],[3,19,3,25],[4,1,4,3],[4,5,4,7],[4,9,4,11],[4,19,4,21],[4,22,4,24],[6,20,6,21],[6,22,6,24],[8,22,8,24],[10,1,11,3],[10,4,11,6],[10,7,11,9],[10,10,10,21],[10,22,11,24],[11,10,11,12],[11,13,11,15],[11,16,11,18],[11,19,11,21],[12,1,12,3],[12,4,12,6],[12,7,12,9],[12,10,12,12],[12,13,12,15],[12,16,12,18],[12,19,12,21],[12,22,12,24],[12,25,16,25],[13,1,13,3],[13,4,13,6],[13,7,13,9],[13,10,13,12],[13,13,13,15],[13,16,13,18],[13,19,13,21],[13,22,13,24],[14,1,14,3],[14,5,14,6],[14,8,14,9],[14,11,14,12],[14,14,14,15],[14,17,14,18],[14,20,14,21],[14,23,14,24],[15,1,15,3],[15,5,15,6],[15,8,15,9],[15,11,15,12],[15,14,15,15],[15,17,15,18],[15,20,15,21],[15,23,15,24],[17,3,17,7],[17,10,17,15],[17,16,17,17],[17,20,17,23],[17,24,17,25],[18,16,18,17],[19,0,19,1],[19,16,19,18],[27,13,27,15],[27,20,28,21],[27,22,28,22],[29,1,30,3],[29,4,30,5],[29,6,30,7],[29,8,30,9],[29,10,30,11],[29,12,30,13],[29,14,30,15],[30,16,30,18],[30,23,30,24],[31,1,31,3],[31,4,31,5],[31,6,31,7],[31,8,31,9],[31,10,31,11],[31,12,31,13],[31,14,31,15],[31,17,31,18],[31,23,31,24],[32,1,32,3],[32,4,32,5],[32,6,32,7],[32,8,32,9],[32,10,32,11],[32,12,32,13],[32,14,32,15],[33,1,33,3],[33,4,33,5],[33,6,33,7],[33,8,33,9],[33,10,33,11],[33,12,33,13],[33,14,33,15],[34,1,34,3],[34,4,34,5],[34,6,34,7],[34,8,34,9],[34,10,34,11],[34,12,34,13],[34,14,34,15],[34,16,34,18],[34,23,34,25],[35,1,35,15],[35,17,35,18],[35,23,35,24],[36,1,36,15],[37,1,37,15],[37,19,37,21],[37,22,37,23],[39,19,39,21],[41,1,43,3],[41,4,43,6],[41,7,43,9],[41,10,41,21],[42,10,43,12],[42,13,43,15],[42,16,43,18],[42,19,43,21],[44,1,44,3],[44,4,44,6],[44,7,44,9],[44,10,44,12],[44,13,44,15],[44,16,44,18],[44,19,44,21],[45,1,45,3],[45,4,45,6],[45,7,45,9],[45,10,45,12],[45,13,45,15],[45,16,45,18],[45,19,45,21],[46,1,46,3],[46,4,46,6],[46,7,46,9],[46,10,46,12],[46,13,46,15],[46,16,46,18],[46,19,46,21],[46,22,47,25],[47,1,47,3],[47,4,47,6],[47,7,47,9],[47,10,47,12],[47,13,47,15],[47,16,47,18],[47,19,47,21],[48,1,48,25],[49,1,49,2],[56,24,56,25],[57,21,57,23],[58,21,58,23],[59,1,61,3],[59,4,61,5],[59,6,59,11],[59,12,59,23],[60,6,61,7],[60,8,61,9],[60,10,61,11],[60,12,61,13],[60,14,61,15],[60,16,61,17],[60,18,61,19],[60,20,61,21],[60,22,61,23],[62,1,62,3],[62,4,62,5],[62,6,62,7],[62,8,62,9],[62,10,62,11],[62,12,62,13],[62,14,62,15],[62,16,62,17],[62,18,62,19],[62,20,62,21],[62,22,62,23],[63,1,63,3],[63,4,63,5],[63,6,63,7],[63,8,63,9],[63,10,63,11],[63,12,63,13],[63,14,63,15],[63,16,63,17],[63,18,63,19],[63,20,63,21],[63,22,63,23],[64,1,64,3],[64,4,64,5],[64,6,64,7],[64,8,64,9],[64,10,64,11],[64,12,64,13],[64,14,64,15],[64,16,64,17],[64,18,64,19],[64,20,64,21],[64,22,64,23],[65,1,65,3],[65,4,65,5],[65,6,65,7],[65,8,65,9],[65,10,65,11],[65,12,65,13],[65,14,65,15],[65,16,65,17],[65,18,65,19],[65,20,65,21],[65,22,65,23],[66,2,66,10],[66,11,66,12],[66,14,66,22],[73,10,73,11],[74,22,74,24],[75,22,75,24],[76,1,77,3],[76,4,77,6],[76,7,77,9],[76,10,77,12],[76,13,77,15],[76,16,77,18],[76,19,77,21],[76,22,77,24],[78,1,78,3],[78,4,78,6],[78,7,78,9],[78,10,78,12],[78,13,78,15],[78,16,78,18],[78,19,78,21],[78,22,78,24],[79,1,79,3],[79,4,79,6],[79,7,79,9],[79,10,79,12],[79,13,79,15],[79,16,79,18],[79,19,79,21],[79,22,79,24],[80,1,80,3],[80,4,80,6],[80,7,80,9],[80,10,80,12],[80,13,80,15],[80,16,80,18],[80,19,80,21],[80,22,80,24],[81,1,81,3],[81,4,81,6],[81,7,81,9],[81,10,81,12],[81,13,81,15],[81,16,81,18],[81,19,81,21],[81,22,81,24],[82,11,82,16],[91,24,91,25],[92,21,92,23],[93,21,93,23],[94,1,96,3],[94,4,96,5],[94,6,94,7],[94,8,96,9],[94,10,94,11],[94,12,96,13],[94,14,94,15],[94,16,96,17],[94,18,94,19],[94,20,96,21],[94,22,94,23],[95,6,96,7],[95,10,96,11],[95,14,96,15],[95,18,96,19],[95,22,96,23],[97,1,97,3],[97,4,97,5],[97,6,97,7],[97,8,97,9],[97,10,97,11],[97,12,97,13],[97,14,97,15],[97,16,97,17],[97,18,97,19],[97,20,97,21],[97,22,97,23],[98,1,98,3],[98,4,98,5],[98,6,98,7],[98,8,98,9],[98,10,98,11],[98,12,98,13],[98,14,98,15],[98,16,98,17],[98,18,98,19],[98,20,98,21],[98,22,98,23],[99,1,99,3],[99,6,99,7],[99,10,99,11],[99,14,99,15],[99,18,99,19],[99,22,99,23],[100,1,100,3],[100,6,100,7],[100,10,100,11],[100,14,100,15],[100,18,100,19],[100,22,100,23],[101,0,101,1],[101,6,101,19],[110,1,111,12]]}
[]
[]
[]
[null,"県　　名",{"$nulls":3},"市町村名",null,null,{"$f":"\"\"&IF(グラフ用シート!$G$6<>\"NO\",グラフ用シート!G8,グラフ用シート!$G$10)&\" \"","v":"旧市町村名 "},{"$nulls":10},"地域類型区分"]
[null,"茨城県",{"$nulls":7},"     ",{"$nulls":9},{"$f":"INDEX(地域類型区分!$C$4:$C$442,グラフ用シート!F3)","v":"区分設定"},null,null,{"$f":"INDEX(地域類型区分!D4:D442,グラフ用シート!F3)","v":"されていません"}]
[]
[{"$nulls":20},"県計",null,"との比較"]
[]
[null," 土地の状況",{"$nulls":20},"単位：㏊"]
[]
[{"$nulls":4},"総土地面積\n",null,null,"林野面積\n",null,null,"　　耕地面積計（農山村地域調査結果）",{"$nulls":11},"耕作放棄地\n面積"]
[{"$nulls":13},"田面積",null,null,"畑面積",null,null,"樹園地面積"]
[null,"2010年",null,null,{"$f":"INDEX('2010年 '!$D$4:$BC$450,グラフ用シート!$F$3,1)","v":{"v":609569,"d":"609,569 "}},null,null,{"$f":"INDEX('2010年 '!$D$4:$BC$450,グラフ用シート!$F$3,2)","v":{"v":189261,"d":"189,261 "}},null,null,{"$f":"INDEX('2010年 '!$D$4:$BC$450,グラフ用シート!$F$3,3)","v":{"v":175627,"d":"175,627 "}},null,null,{"$f":"INDEX('2010年 '!$D$4:$BC$450,グラフ用シート!$F$3,4)","v":{"v":100452,"d":"100,452 "}},null,null,{"$f":"INDEX('2010年 '!$D$4:$BC$450,グラフ用シート!$F$3,5)","v":{"v":67505,"d":"67,505 "}},null,null,{"$f":"INDEX('2010年 '!$D$4:$BC$450,グラフ用シート!$F$3,6)","v":{"v":7670,"d":"7,670 "}},null,null,{"$f":"INDEX('2010年 '!$D$4:$BC$450,グラフ用シート!$F$3,7)","v":{"v":21120,"d":"21,120 "}},null,null,"  "]
[null,"2015年",null,null,{"$f":"INDEX('2015年'!$E$4:$AW$446,グラフ用シート!$F$3,1)","v":{"v":609693,"d":"609,693 "}},null,null,{"$f":"INDEX('2015年'!$E$4:$AW$446,グラフ用シート!$F$3,2)","v":{"v":190029,"d":"190,029 "}},null,null,{"$f":"INDEX('2015年'!$E$4:$AW$446,グラフ用シート!$F$3,3)","v":{"v":174753,"d":"174,753 "}},null,null,{"$f":"INDEX('2015年'!$E$4:$AW$446,グラフ用シート!$F$3,4)","v":{"v":100064,"d":"100,064 "}},null,null,{"$f":"INDEX('2015年'!$E$4:$AW$446,グラフ用シート!$F$3,5)","v":{"v":67124,"d":"67,124 "}},null,null,{"$f":"INDEX('2015年'!$E$4:$AW$446,グラフ用シート!$F$3,6)","v":{"v":7565,"d":"7,565 "}},null,null,{"$f":"INDEX('2015年'!$E$4:$AW$446,グラフ用シート!$F$3,7)","v":{"v":23918,"d":"23,918 "}}]
[null,"比率(%)",{"$nulls":3},"－",null,"※1",{"$f":"IFERROR(ROUND(H14/$E$14*100,1),\"nc\")","v":31.2},null,"※1",{"$f":"IFERROR(ROUND(K14/$E$14*100,1),\"nc\")","v":28.7},null,"※2",{"$f":"IFERROR(ROUND(N14/$K$14*100,1),\"nc\")","v":57.3},null,"※2",{"$f":"IFERROR(ROUND(Q14/$K$14*100,1),\"nc\")","v":38.4},null,"※2",{"$f":"IFERROR(ROUND(T14/$K$14*100,1),\"nc\")","v":4.3},null,"※3",{"$f":"IFERROR(ROUND(W14/グラフ用シート!$B$12*100,1),\"nc\")","v":{"v":12,"d":"12.0"}}]
[null,"県計 比率(%)",{"$nulls":3},"－",null,"※1",31.2,null,"※1",28.7,null,"※2",57.3,null,"※2",38.4,null,"※2",4.3,null,"※3",{"v":12,"d":"12.0"}]
[null,"※1　総土地面積に対する比率　　　※2　耕地面積計に対する比率　　　※3　耕作放棄地率は耕作放棄地面積と耕地面積の和に対する割合 "]
[{"$nulls":3},{"$f":"IF($U$7=\"県計\",グラフ用シート!C13,IF($U$7=\"前回\",グラフ用シート!E13))","v":"林野率及び耕地率"},{"$nulls":6},{"$f":"IF($U$7=\"県計\",グラフ用シート!C18,IF($U$7=\"前回\",グラフ用シート!E18))","v":"地目別の耕地面積割合"},{"$nulls":5},"（％）",{"v":0,"d":"0 "},null,null,{"$f":"IF($U$7=\"県計\",グラフ用シート!F23,IF($U$7=\"前回\",グラフ用シート!D23))","v":"耕作放棄地率"},{"$nulls":3},{"$f":"IF(kadft!$U$7=\"県計\",グラフ用シート!$I$18,IF(kadft!$U$7=\"前回\",グラフ用シート!$I$16))","v":"（％）"},{"$f":"IF(kadft!$U$7=\"県計\",$I$18,IF(kadft!$U$7=\"前回\",$I$16))","v":{"v":0,"d":"0 "}}]
[{"$nulls":15},"内円",{"$f":"IF($U$7=\"県計\",グラフ用シート!J15,IF($U$7=\"前回\",グラフ用シート!G14))","v":"県　　計"}]
[{"$f":"IF(kadft!$U$7=\"県計\",グラフ用シート!$I$18,IF(kadft!$U$7=\"前回\",グラフ用シート!$I$16))","v":"（％）"},{"$f":"IF(kadft!$U$7=\"県計\",$I$18,IF(kadft!$U$7=\"前回\",$I$16))","v":{"v":0,"d":"0 "}},{"$nulls":13},"外円",{"$f":"IF($U$7=\"県計\",グラフ用シート!G13,IF($U$7=\"前回\",グラフ用シート!G15))","v":"茨城県"}]
{"$rows_empty":7}
[null,"　法制上の指定地域面積",{"$nulls":11},"単位：㏊",{"$nulls":6},"森林地域",null,{"$f":"E35","v":{"v":1,"d":"(1.0)"}}]
[]
[{"$nulls":4},"森林地域",null,"農業地域",null,"市街化\n区域",null,"市街化\n調整区域",null,"商業関連地域",null,"工業関連地域"]
[{"$nulls":16},"工業関連地域",{"$nulls":6},"農業地域"]
[null,"項目別面積",null,null,{"$f":"INDEX('指定地域 '!$I$5:$N$443,グラフ用シート!$F$3,1)","v":{"v":198114.23,"d":"198,114 "}},null,{"$f":"INDEX('指定地域 '!$I$5:$N$443,グラフ用シート!$F$3,2)","v":{"v":477376.66,"d":"477,377 "}},null,{"$f":"INDEX('指定地域 '!$I$5:$N$443,グラフ用シート!$F$3,3)","v":{"v":52075,"d":"52,075 "}},null,{"$f":"INDEX('指定地域 '!$I$5:$N$443,グラフ用シート!$F$3,4)","v":{"v":252070.83,"d":"252,071 "}},null,{"$f":"INDEX('指定地域 '!$I$5:$N$443,グラフ用シート!$F$3,5)","v":{"v":2919.09,"d":"2,919 "}},null,{"$f":"INDEX('指定地域 '!$I$5:$N$443,グラフ用シート!$F$3,6)","v":{"v":15676.810000000001,"d":"15,677 "}},null,null,{"$f":"O35","v":{"v":1,"d":"(1.0)"}},{"$nulls":5},{"$f":"G35","v":{"v":1,"d":"(1.0)"}}]
[null,"比率(%)",null,null,{"$f":"ROUND(E32/$E$14*100,1)","v":32.5},null,{"$f":"ROUND(G32/$E$14*100,1)","v":78.3},null,{"$f":"ROUND(I32/$E$14*100,1)","v":8.5},null,{"$f":"ROUND(K32/$E$14*100,1)","v":41.3},null,{"$f":"ROUND(M32/$E$14*100,1)","v":0.5},null,{"$f":"ROUND(O32/$E$14*100,1)","v":2.6}]
[null,"県計 比率(%)",null,null,32.5,null,78.3,null,8.5,null,41.3,null,0.5,null,2.6]
[null,"特化係数",null,null,{"$f":"E33/E34","v":{"v":1,"d":"1.0"}},null,{"$f":"G33/G34","v":{"v":1,"d":"1.0"}},null,{"$f":"I33/I34","v":{"v":1,"d":"1.0"}},null,{"$f":"K33/K34","v":{"v":1,"d":"1.0"}},null,{"$f":"M33/M34","v":{"v":1,"d":"1.0"}},null,{"$f":"O33/O34","v":{"v":1,"d":"1.0"}},null,"商業関連地域",{"$nulls":6},"市街化区域"]
[null,"※　商業関連地域は、近隣商業地域及び商業地域の合計。\n　　 工業関連地域は、準工業地域、工業地域及び工業専用地域の合計。",{"$nulls":15},{"$f":"M35","v":{"v":1,"d":"(1.0)"}},{"$nulls":5},{"$f":"I35","v":{"v":1,"d":"(1.0)"}}]
[null,"※　比率は、総土地面積（2015年）に対する比率である。"]
[null,"※　特化係数は、比率／県計比率で算出。1.0を超えるほど特化している。",{"$nulls":17},"市街化調整区域",null,null,{"$f":"K35","v":{"v":1,"d":"(1.0)"}}]
[]
[null,"　農業生産関連事業実施経営体数",{"$nulls":17},"単位：経営体"]
[]
[{"$nulls":4},"農業経営体\n数計",null,null,"生産関連事業を実施している実経営体数",null,null,"事業種類別経営体数"]
[{"$nulls":10},"農産物の加工",null,null,"消費者に直接販売",null,null,"観光農園",null,null,"その他"]
[]
[null,"2010年",null,null,{"$f":"INDEX('2010年 '!$D$4:$AV$448,グラフ用シート!$F$3,8)","v":{"v":71542,"d":"71,542 "}},null,null,{"$f":"INDEX('2010年 '!$D$4:$AV$448,グラフ用シート!$F$3,9)","v":{"v":12522,"d":"12,522 "}},null,null,{"$f":"INDEX('2010年 '!$D$4:$AV$448,グラフ用シート!$F$3,10)","v":{"v":1502,"d":"1,502 "}},null,null,{"$f":"INDEX('2010年 '!$D$4:$AV$448,グラフ用シート!$F$3,11)","v":{"v":11560,"d":"11,560 "}},null,null,{"$f":"INDEX('2010年 '!$D$4:$AV$448,グラフ用シート!$F$3,12)","v":{"v":343,"d":"343 "}},null,null,{"$f":"INDEX('2010年 '!$D$4:$AV$448,グラフ用シート!$F$3,13)","v":{"v":261,"d":"261 "}}]
[null,"2015年",null,null,{"$f":"INDEX('2015年'!$E$4:$AZ$456,グラフ用シート!$F$3,8)","v":{"v":57989,"d":"57,989 "}},null,null,{"$f":"INDEX('2015年'!$E$4:$AZ$456,グラフ用シート!$F$3,9)","v":{"v":11319,"d":"11,319 "}},null,null,{"$f":"INDEX('2015年'!$E$4:$AZ$456,グラフ用シート!$F$3,10)","v":{"v":981,"d":"981 "}},null,null,{"$f":"INDEX('2015年'!$E$4:$AZ$456,グラフ用シート!$F$3,11)","v":{"v":10893,"d":"10,893 "}},null,null,{"$f":"INDEX('2015年'!$E$4:$AZ$456,グラフ用シート!$F$3,12)","v":{"v":257,"d":"257 "}},null,null,{"$f":"INDEX('2015年'!$E$4:$AZ$456,グラフ用シート!$F$3,13)","v":{"v":187,"d":"187 "}}]
[null,"比率(%)",null,null,"－",null,null,{"$f":"IFERROR(ROUND(H46/E46*100,1),\"nc\")","v":19.5},null,null,{"$f":"IFERROR(ROUND(K46/$E$46*100,1),\"nc\")","v":1.7},null,null,{"$f":"IFERROR(ROUND(N46/$E$46*100,1),\"nc\")","v":18.8},null,null,{"$f":"IFERROR(ROUND(Q46/$E$46*100,1),\"nc\")","v":0.4},null,null,{"$f":"IFERROR(ROUND(T46/$E$46*100,1),\"nc\")","v":0.3}]
[null,"県計 比率(%)",null,null,"－",null,null,19.5,null,null,1.7,null,null,18.8,null,null,0.4,null,null,0.3]
[null,"※　比率は、農業経営体数計に対する比率である。　　　※　その他は、貸農園・体験農園、農家民宿、農家レストラン等である。"]
[null,{"$f":"IF(kadft!$U$7=\"県計\",グラフ用シート!$I$18,IF(kadft!$U$7=\"前回\",グラフ用シート!$I$17))","v":"（％）"},null,{"$f":"IF($U$7=\"県計\",グラフ用シート!$C$45,IF($U$7=\"前回\",グラフ用シート!$D$45))","v":"事業実施率"},{"$nulls":10},{"$f":"IF($U$7=\"県計\",グラフ用シート!$C$51,IF($U$7=\"前回\",グラフ用シート!$D$51))","v":"事業種類別実施率"}]
[]
[]
[]
[]
[]
[]
[{"$nulls":24},{"$f":"IF(kadft!$U$7=\"県計\",グラフ用シート!$I$18,IF(kadft!$U$7=\"前回\",グラフ用シート!$I$17))","v":"（％）"}]
[null,"　農業集落の状況",{"$nulls":19},"単位：集落"]
[]
[{"$nulls":4},"農業集落数計",null,"水田率別農業集落数",{"$nulls":5},"農家率別農業集落数"]
[{"$nulls":6},"水田集落（70％以上）",null,"田畑集落\n（30～70）",null,"畑地集落\n（30％未満）",null,"10％未満",null,"10～30",null,"30～50",null,"50～70",null,"70～90",null,"90％以上"]
[]
[null,"2010年",null,null,{"$f":"INDEX('2010年 '!$D$4:$AV$448,グラフ用シート!$F$3,14)","v":{"v":3816,"d":"3,816 "}},null,{"$f":"INDEX('2010年 '!$D$4:$AV$448,グラフ用シート!$F$3,15)","v":{"v":1314,"d":"1,314 "}},null,{"$f":"INDEX('2010年 '!$D$4:$AV$448,グラフ用シート!$F$3,16)","v":{"v":1676,"d":"1,676 "}},null,{"$f":"INDEX('2010年 '!$D$4:$AV$448,グラフ用シート!$F$3,17)","v":{"v":826,"d":"826 "}},null,{"$f":"INDEX('2010年 '!$D$4:$AV$448,グラフ用シート!$F$3,18)","v":{"v":690,"d":"690 "}},null,{"$f":"INDEX('2010年 '!$D$4:$AV$448,グラフ用シート!$F$3,19)","v":{"v":1098,"d":"1,098 "}},null,{"$f":"INDEX('2010年 '!$D$4:$AV$448,グラフ用シート!$F$3,20)","v":{"v":1088,"d":"1,088 "}},null,{"$f":"INDEX('2010年 '!$D$4:$AV$448,グラフ用シート!$F$3,21)","v":{"v":692,"d":"692 "}},null,{"$f":"INDEX('2010年 '!$D$4:$AV$448,グラフ用シート!$F$3,22)","v":{"v":188,"d":"188 "}},null,{"$f":"INDEX('2010年 '!$D$4:$AV$448,グラフ用シート!$F$3,23)","v":{"v":60,"d":"60 "}}]
[null,"2015年",null,null,{"$f":"INDEX('2015年'!$E$4:$AZ$456,グラフ用シート!$F$3,14)","v":{"v":3802,"d":"3,802 "}},null,{"$f":"INDEX('2015年'!$E$4:$AZ$456,グラフ用シート!$F$3,15)","v":{"v":1310,"d":"1,310 "}},null,{"$f":"INDEX('2015年'!$E$4:$AZ$456,グラフ用シート!$F$3,16)","v":{"v":1673,"d":"1,673 "}},null,{"$f":"INDEX('2015年'!$E$4:$AZ$456,グラフ用シート!$F$3,17)","v":{"v":819,"d":"819 "}},null,{"$f":"INDEX('2015年'!$E$4:$AZ$456,グラフ用シート!$F$3,18)","v":{"v":901,"d":"901 "}},null,{"$f":"INDEX('2015年'!$E$4:$AZ$456,グラフ用シート!$F$3,19)","v":{"v":1276,"d":"1,276 "}},null,{"$f":"INDEX('2015年'!$E$4:$AZ$456,グラフ用シート!$F$3,20)","v":{"v":1071,"d":"1,071 "}},null,{"$f":"INDEX('2015年'!$E$4:$AZ$456,グラフ用シート!$F$3,21)","v":{"v":459,"d":"459 "}},null,{"$f":"INDEX('2015年'!$E$4:$AZ$456,グラフ用シート!$F$3,22)","v":{"v":77,"d":"77 "}},null,{"$f":"INDEX('2015年'!$E$4:$AZ$456,グラフ用シート!$F$3,23)","v":{"v":18,"d":"18 "}}]
[null,"構成比(%)",null,null,"－",null,{"$f":"IFERROR(ROUND(G64/$E$64*100,1),\"nc\")","v":34.5},null,{"$f":"IFERROR(ROUND(I64/$E$64*100,1),\"nc\")","v":{"v":44,"d":"44.0"}},null,{"$f":"IFERROR(ROUND(K64/$E$64*100,1),\"nc\")","v":21.5},null,{"$f":"IFERROR(ROUND(M64/$E$64*100,1),\"nc\")","v":23.7},null,{"$f":"IFERROR(ROUND(O64/$E$64*100,1),\"nc\")","v":33.6},null,{"$f":"IFERROR(ROUND(Q64/$E$64*100,1),\"nc\")","v":28.2},null,{"$f":"IFERROR(ROUND(S64/$E$64*100,1),\"nc\")","v":12.1},null,{"$f":"IFERROR(ROUND(U64/$E$64*100,1),\"nc\")","v":{"v":2,"d":"2.0"}},null,{"$f":"IFERROR(ROUND(W64/$E$64*100,1),\"nc\")","v":0.5}]
[null,"県計 構成比(%)",null,null,"－",null,34.5,null,{"v":44,"d":"44.0"},null,21.5,null,23.7,null,33.6,null,28.2,null,12.1,null,{"v":2,"d":"2.0"},null,0.5]
[null,null,{"$f":"IF($U$7=\"県計\",グラフ用シート!$D$61,IF($U$7=\"前回\",グラフ用シート!$F$61))","v":"水田率別農業集落数割合"},{"$f":"IF($T$58=\"県計\",$G$65,IF($T$58=\"前回\",$G$64))","v":false},false,false,false,false,false,false,false,{"$f":"IF(kadft!$U$7=\"県計\",グラフ用シート!$I$18,IF(kadft!$U$7=\"前回\",グラフ用シート!$I$17))","v":"（％）"},null,null,{"$f":"IF($U$7=\"県計\",グラフ用シート!$D$66,IF($U$7=\"前回\",グラフ用シート!$F$66))","v":"農家率別農業集落数割合"},{"$f":"IF($T$58=\"県計\",$G$65,IF($T$58=\"前回\",$G$64))","v":false},false,false,false,false,false,false,false]
[]
[]
[]
[]
[]
[]
[{"$nulls":10},{"$f":"IF(kadft!$U$7=\"県計\",グラフ用シート!$I$18,IF(kadft!$U$7=\"前回\",グラフ用シート!$I$17))","v":"（％）"}]
[null,"　寄り合いの実施状況",{"$nulls":20},"単位：集落"]
[]
[{"$nulls":4},"農業生産にかかる事項",null,null,"農道・水路・ため池等の管理",null,null,"集落共有財産・施設の管理",null,null,"環境美化・自然環境の保全",null,null,"農業集落行事の計画・推進",null,null,"農業集落内の福祉・厚生",null,null,"寄り合いを開催しなかった"]
[]
[null,"2010年",null,null,{"$f":"INDEX('2010年 '!$D$4:$AV$448,グラフ用シート!$F$3,24)","v":{"v":1709,"d":"1,709 "}},null,null,{"$f":"INDEX('2010年 '!$D$4:$AV$448,グラフ用シート!$F$3,25)","v":{"v":2140,"d":"2,140 "}},null,null,{"$f":"INDEX('2010年 '!$D$4:$AV$448,グラフ用シート!$F$3,26)","v":{"v":2087,"d":"2,087 "}},null,null,{"$f":"INDEX('2010年 '!$D$4:$AV$448,グラフ用シート!$F$3,27)","v":{"v":2707,"d":"2,707 "}},null,null,{"$f":"INDEX('2010年 '!$D$4:$AV$448,グラフ用シート!$F$3,28)","v":{"v":2803,"d":"2,803 "}},null,null,{"$f":"INDEX('2010年 '!$D$4:$AV$448,グラフ用シート!$F$3,29)","v":{"v":1311,"d":"1,311 "}},null,null,{"$f":"INDEX('2010年 '!$D$4:$AV$448,グラフ用シート!$F$3,30)","v":{"v":381,"d":"381 "}}]
[null,"2015年",null,null,{"$f":"INDEX('2015年'!$E$4:$AZ$456,グラフ用シート!$F$3,24)","v":{"v":1781,"d":"1,781 "}},null,null,{"$f":"INDEX('2015年'!$E$4:$AZ$456,グラフ用シート!$F$3,25)","v":{"v":2904,"d":"2,904 "}},null,null,{"$f":"INDEX('2015年'!$E$4:$AZ$456,グラフ用シート!$F$3,26)","v":{"v":2473,"d":"2,473 "}},null,null,{"$f":"INDEX('2015年'!$E$4:$AZ$456,グラフ用シート!$F$3,27)","v":{"v":3290,"d":"3,290 "}},null,null,{"$f":"INDEX('2015年'!$E$4:$AZ$456,グラフ用シート!$F$3,28)","v":{"v":3143,"d":"3,143 "}},null,null,{"$f":"INDEX('2015年'!$E$4:$AZ$456,グラフ用シート!$F$3,29)","v":{"v":2097,"d":"2,097 "}},null,null,{"$f":"INDEX('2015年'!$E$4:$AZ$456,グラフ用シート!$F$3,30)","v":{"v":218,"d":"218 "}}]
[null,"比率(%)",null,null,{"$f":"IFERROR(ROUND(E80/$E$64*100,1),\"nc\")","v":46.8},null,null,{"$f":"IFERROR(ROUND(H80/$E$64*100,1),\"nc\")","v":76.4},null,null,{"$f":"IFERROR(ROUND(K80/$E$64*100,1),\"nc\")","v":{"v":65,"d":"65.0"}},null,null,{"$f":"IFERROR(ROUND(N80/$E$64*100,1),\"nc\")","v":86.5},null,null,{"$f":"IFERROR(ROUND(Q80/$E$64*100,1),\"nc\")","v":82.7},null,null,{"$f":"IFERROR(ROUND(T80/$E$64*100,1),\"nc\")","v":55.2},null,null,{"$f":"IFERROR(ROUND(W80/$E$64*100,1),\"nc\")","v":5.7}]
[null,"県計 比率(%)",null,null,46.8,null,null,76.4,null,null,{"v":65,"d":"65.0"},null,null,86.5,null,null,82.7,null,null,55.2,null,null,5.7]
[null,"※　比率は、「農業集落の状況」の農業集落数計に対する比率。",{"$nulls":9},{"$f":"IF($U$7=\"県計\",グラフ用シート!$D$83,IF($U$7=\"前回\",グラフ用シート!$F$83))","v":"　寄り合いの実施率"},{"$f":"IF($T$58=\"県計\",$G$65,IF($T$58=\"前回\",$G$64))","v":false},false,false,false,false]
{"$rows_empty":8}
[{"$nulls":24},{"$f":"IF(kadft!$U$7=\"県計\",グラフ用シート!$I$18,IF(kadft!$U$7=\"前回\",グラフ用シート!$J$16))","v":"（％）"}]
[null,"　保全管理の実施状況",{"$nulls":19},"単位：集落"]
[]
[{"$nulls":4},"農地のある集落",{"$nulls":3},"森林のある集落",{"$nulls":3},"ため池・湖沼のある集落",{"$nulls":3},"河川・水路のある集落",{"$nulls":3},"農業用用排水路のある集落"]
[{"$nulls":6},"農地の保全をしている",{"$nulls":3},"森林の保全をしている",{"$nulls":3},"ため池・湖沼の保全をしている",{"$nulls":3},"河川・水路の保全をしている",{"$nulls":3},"農業用用排水路の保全をしている"]
[]
[null,"2010年",null,null,{"$f":"INDEX('2010年 '!$D$4:$AV$448,グラフ用シート!$F$3,31)","v":{"v":3776,"d":"3,776 "}},null,{"$f":"INDEX('2010年 '!$D$4:$AV$448,グラフ用シート!$F$3,32)","v":{"v":460,"d":"460 "}},null,{"$f":"INDEX('2010年 '!$D$4:$AV$448,グラフ用シート!$F$3,33)","v":{"v":3002,"d":"3,002 "}},null,{"$f":"INDEX('2010年 '!$D$4:$AV$448,グラフ用シート!$F$3,34)","v":{"v":207,"d":"207 "}},null,{"$f":"INDEX('2010年 '!$D$4:$AV$448,グラフ用シート!$F$3,35)","v":{"v":955,"d":"955 "}},null,{"$f":"INDEX('2010年 '!$D$4:$AV$448,グラフ用シート!$F$3,36)","v":{"v":394,"d":"394 "}},null,{"$f":"INDEX('2010年 '!$D$4:$AV$448,グラフ用シート!$F$3,37)","v":{"v":2536,"d":"2,536 "}},null,{"$f":"INDEX('2010年 '!$D$4:$AV$448,グラフ用シート!$F$3,38)","v":{"v":805,"d":"805 "}},null,{"$f":"INDEX('2010年 '!$D$4:$AV$448,グラフ用シート!$F$3,39)","v":{"v":3594,"d":"3,594 "}},null,{"$f":"INDEX('2010年 '!$D$4:$AV$448,グラフ用シート!$F$3,40)","v":{"v":2056,"d":"2,056 "}}]
[null,"2015年",null,null,{"$f":"INDEX('2015年'!$E$4:$AZ$456,グラフ用シート!$F$3,31)","v":{"v":3764,"d":"3,764 "}},null,{"$f":"INDEX('2015年'!$E$4:$AZ$456,グラフ用シート!$F$3,32)","v":{"v":779,"d":"779 "}},null,{"$f":"INDEX('2015年'!$E$4:$AZ$456,グラフ用シート!$F$3,33)","v":{"v":2994,"d":"2,994 "}},null,{"$f":"INDEX('2015年'!$E$4:$AZ$456,グラフ用シート!$F$3,34)","v":{"v":321,"d":"321 "}},null,{"$f":"INDEX('2015年'!$E$4:$AZ$456,グラフ用シート!$F$3,35)","v":{"v":955,"d":"955 "}},null,{"$f":"INDEX('2015年'!$E$4:$AZ$456,グラフ用シート!$F$3,36)","v":{"v":434,"d":"434 "}},null,{"$f":"INDEX('2015年'!$E$4:$AZ$456,グラフ用シート!$F$3,37)","v":{"v":2537,"d":"2,537 "}},null,{"$f":"INDEX('2015年'!$E$4:$AZ$456,グラフ用シート!$F$3,38)","v":{"v":1042,"d":"1,042 "}},null,{"$f":"INDEX('2015年'!$E$4:$AZ$456,グラフ用シート!$F$3,39)","v":{"v":3585,"d":"3,585 "}},null,{"$f":"INDEX('2015年'!$E$4:$AZ$456,グラフ用シート!$F$3,40)","v":{"v":2434,"d":"2,434 "}}]
[null,"比率(%)",{"$nulls":4},{"$f":"IFERROR(ROUND(G99/$E$99*100,1),\"nc\")","v":20.7},{"$nulls":3},{"$f":"IFERROR(ROUND(K99/$I$99*100,1),\"nc\")","v":10.7},{"$nulls":3},{"$f":"IFERROR(ROUND(O99/$M$99*100,1),\"nc\")","v":45.4},{"$nulls":3},{"$f":"IFERROR(ROUND(S99/$Q$99*100,1),\"nc\")","v":41.1},{"$nulls":3},{"$f":"IFERROR(ROUND(W99/$U$99*100,1),\"nc\")","v":67.9}]
[null,"県計 比率(%)",{"$nulls":4},20.7,{"$nulls":3},10.7,{"$nulls":3},45.4,{"$nulls":3},41.1,{"$nulls":3},67.9]
[{"$f":"IF(kadft!$U$7=\"県計\",グラフ用シート!$I$18,IF(kadft!$U$7=\"前回\",グラフ用シート!$J$16))","v":"（％）"},{"$nulls":5},{"$f":"IF($U$7=\"県計\",グラフ用シート!$C$102,IF($U$7=\"前回\",グラフ用シート!$F$102))","v":"　保全管理の実施率"}]

{"sheet":"グラフ用シート","index":1,"n_rows":105,"n_cols":10,"rows_kept":105,"hidden":true,"merged":[[25,6,25,10],[31,8,31,9],[32,8,32,9],[42,11,42,12],[79,1,79,2],[80,1,80,2]]}
[]
[]
[null,"県計",null,{"$f":"IFERROR(MATCH(kadft!F5,'2010年 '!$A$4:$A$442,0),\"1\")","v":"1"},{"$f":"IFERROR(MATCH(kadft!J5,'2010年 '!$B$4:$B$442,0),\" \")","v":" "},{"$f":"\"\"&IF(E3<>\" \",E3,D3)&\"\"","v":"1"}]
[null,"前回",null,"市町村列","旧市町村列","優先列"]
[]
[{"$nulls":6},{"$f":"IF(COUNTIF(元データ!$AC$6:$AC$30,kadft!J5),\"OK\",\"NO\")","v":"OK"},"市町村に対し旧市町村の該当有無"]
[]
[{"$nulls":6},"旧市町村名"]
[]
[{"$nulls":6},"旧市町村を再選択して下さい"]
[null,null,"林野面積","耕地面積"]
[null,{"$f":"kadft!W14+kadft!K14","v":{"v":198671,"d":"198,671 "}},"林野率","耕地率",null,null,{"$f":"INDEX(地域類型区分!B4:B442,$F$3,1)","v":"茨城県"}]
[null,null,"林野率及び耕地率",null,"林野面積及び耕地面積",null,{"$f":"G12","v":"茨城県"},"優先表示地域名"]
[{"$nulls":3},{"$f":"IF(kadft!$U$7=\"県計\",$C$12,IF(kadft!$U$7=\"前回\",$C$11))","v":"林野率"},{"$f":"IF(kadft!$U$7=\"県計\",$D$12,IF(kadft!$U$7=\"前回\",$D$11))","v":"耕地率"},null,"2010年"]
[null,null,{"$f":"IF(kadft!$U$7=\"県計\",$J$15,IF(kadft!$U$7=\"前回\",$G$14))","v":"県　　計"},{"$f":"IF(kadft!$U$7=\"県計\",kadft!$I$16,IF(kadft!$U$7=\"前回\",kadft!$H$13))","v":31.2},{"$f":"IF(kadft!$U$7=\"県計\",kadft!$L$16,IF(kadft!$U$7=\"前回\",kadft!$K$13))","v":28.7},null,"2015年",null,null,"県　　計"]
[null,null,{"$f":"IF(kadft!$U$7=\"県計\",$G$13,IF(kadft!$U$7=\"前回\",$G$15))","v":"茨城県"},{"$f":"IF(kadft!$U$7=\"県計\",kadft!$I$15,IF(kadft!$U$7=\"前回\",kadft!$H$14))","v":31.2},{"$f":"IF(kadft!$U$7=\"県計\",kadft!$L$15,IF(kadft!$U$7=\"前回\",kadft!$K$14))","v":28.7},{"$nulls":3},"(㏊)","（集落）"]
[{"$nulls":8},"（経営体）"]
[null,null,"地目別の耕地面積割合",null,"地目別の耕地面積割合",{"$nulls":3},"（％）"]
[{"$nulls":3},{"$f":"kadft!N12","v":"田面積"},{"$f":"kadft!Q12","v":"畑面積"},{"$f":"kadft!T12","v":"樹園地面積"}]
[null,null,{"$f":"IF(kadft!$U$7=\"県計\",$G$13,IF(kadft!$U$7=\"前回\",$G$15))","v":"茨城県"},{"$f":"IF(kadft!$U$7=\"県計\",kadft!$O$15,IF(kadft!$U$7=\"前回\",ROUND(kadft!$N$14/kadft!K14*100,1)))","v":57.3},{"$f":"IF(kadft!$U$7=\"県計\",kadft!$R$15,IF(kadft!$U$7=\"前回\",ROUND(kadft!$Q$14/kadft!K14*100,1)))","v":38.4},{"$f":"IF(kadft!$U$7=\"県計\",kadft!$U$15,IF(kadft!$U$7=\"前回\",ROUND(kadft!$T$14/kadft!K14*100,1)))","v":4.3}]
[null,null,{"$f":"IF(kadft!$U$7=\"県計\",$J$15,IF(kadft!$U$7=\"前回\",$G$14))","v":"県　　計"},{"$f":"IF(kadft!$U$7=\"県計\",kadft!$O$16,IF(kadft!$U$7=\"前回\",ROUND(kadft!$N$13/kadft!K13*100,1)))","v":57.3},{"$f":"IF(kadft!$U$7=\"県計\",kadft!$R$16,IF(kadft!$U$7=\"前回\",ROUND(kadft!$Q$13/kadft!K13*100,1)))","v":38.4},{"$f":"IF(kadft!$U$7=\"県計\",kadft!$U$16,IF(kadft!$U$7=\"前回\",ROUND(kadft!$T$13/kadft!K13*100,1)))","v":4.3},null,null,"単位１"]
[{"$nulls":8},{"$f":"IF(kadft!$U$7=\"県計\",$I$18,IF(kadft!$U$7=\"前回\",$I$16))","v":"（％）"}]
[{"$nulls":3},"耕作放棄地面積",null,"耕作放棄地率"]
[null,null,{"$f":"IF(kadft!$U$7=\"県計\",$J$15,IF(kadft!$U$7=\"前回\",$G$14))","v":"県　　計"},{"$f":"IF(kadft!$U$7=\"県計\",kadft!$X$16,IF(kadft!$U$7=\"前回\",ROUND(kadft!$W$13,0)))","v":12}]
[null,null,{"$f":"IF(kadft!$U$7=\"県計\",$G$13,IF(kadft!$U$7=\"前回\",$G$15))","v":"茨城県"},{"$f":"IF(kadft!$U$7=\"県計\",kadft!$X$15,IF(kadft!$U$7=\"前回\",ROUND(kadft!$W$14,0)))","v":12}]
[{"$nulls":6},"IF($U$6=\"県計\",BH17,IF($U$6=\"前回\",BJ17))"]
[]
[]
[]
[]
[{"$nulls":3},{"$f":"kadft!E30","v":"森林地域"},{"$f":"kadft!G30","v":"農業地域"},"市街化区域","市街化調整区域","商業関連地域","工業関連地域"]
[null,null,{"$f":"G13","v":"茨城県"},{"$f":"IF(kadft!E$35=0,0.001,kadft!E$35)","v":{"v":1,"d":"1.0"}},{"$f":"IF(kadft!G$35=0,0.001,kadft!G$35)","v":{"v":1,"d":"1.0"}},{"$f":"IF(kadft!I$35=0,0.001,kadft!I$35)","v":{"v":1,"d":"1.0"}},{"$f":"IF(kadft!K$35=0,0.001,kadft!K$35)","v":{"v":1,"d":"1.0"}},{"$f":"IF(kadft!M$35=0,0.001,kadft!M$35)","v":{"v":1,"d":"1.0"}},{"$f":"IF(kadft!O$35=0,0.001,kadft!O$35)","v":{"v":1,"d":"1.0"}}]
[null,null,{"$f":"J15","v":"県　　計"},{"v":1,"d":"1.0"},{"v":1,"d":"1.0"},{"v":1,"d":"1.0"},{"v":1,"d":"1.0"},{"v":1,"d":"1.0"},{"v":1,"d":"1.0"}]
{"$rows_empty":7}
[{"$nulls":8},"単位１"]
[]
[]
[{"$nulls":8},{"$f":"IF(kadft!$U$7=\"県計\",$I$18,IF(kadft!$U$7=\"前回\",$I$17))","v":"（％）"}]
[null,null,"事業実施率","事業実施経営体数"]
[null,null,"事業有り","事業無し"]
[null,{"$f":"IF(kadft!$U$7=\"県計\",$J$15,IF(kadft!$U$7=\"前回\",$G$14))","v":"県　　計"},{"$f":"IF(kadft!$U$7=\"県計\",kadft!$H$48,IF(kadft!$U$7=\"前回\",kadft!$H$45))","v":19.5},{"$f":"IF(kadft!$U$7=\"県計\",kadft!$H$48,IF(kadft!$U$7=\"前回\",kadft!$H$45))","v":19.5}]
[null,{"$f":"IF(kadft!$U$7=\"県計\",$G$13,IF(kadft!$U$7=\"前回\",$G$15))","v":"茨城県"},{"$f":"IF(kadft!$U$7=\"県計\",kadft!$H$47,IF(kadft!$U$7=\"前回\",kadft!$H$46))","v":19.5},{"$f":"E45/kadft!E46","v":0}]
[]
[]
[null,null,"事業種類別実施率","事業種類別経営体数"]
[null,null,{"$f":"kadft!T43","v":"その他"},{"$f":"kadft!Q43","v":"観光農園"},{"$f":"kadft!N43","v":"消費者に直接販売"},{"$f":"kadft!K43","v":"農産物の加工"}]
[null,{"$f":"IF(kadft!$U$7=\"県計\",$J$15,IF(kadft!$U$7=\"前回\",$G$14))","v":"県　　計"},{"$f":"IF(kadft!$U$7=\"県計\",kadft!$T$48,IF(kadft!$U$7=\"前回\",kadft!$T$45))","v":0.3},{"$f":"IF(kadft!$U$7=\"県計\",kadft!$Q$48,IF(kadft!$U$7=\"前回\",kadft!$Q$45))","v":0.4},{"$f":"IF(kadft!$U$7=\"県計\",kadft!$N$48,IF(kadft!$U$7=\"前回\",kadft!$N$45))","v":18.8},{"$f":"IF(kadft!$U$7=\"県計\",kadft!$K$48,IF(kadft!$U$7=\"前回\",kadft!$K$45))","v":1.7}]
[null,{"$f":"IF(kadft!$U$7=\"県計\",$G$13,IF(kadft!$U$7=\"前回\",$G$15))","v":"茨城県"},{"$f":"IF(kadft!$U$7=\"県計\",kadft!$T$47,IF(kadft!$U$7=\"前回\",kadft!$T$46))","v":0.3},{"$f":"IF(kadft!$U$7=\"県計\",kadft!$Q$47,IF(kadft!$U$7=\"前回\",kadft!$Q$46))","v":0.4},{"$f":"IF(kadft!$U$7=\"県計\",kadft!$N$47,IF(kadft!$U$7=\"前回\",kadft!$N$46))","v":18.8},{"$f":"IF(kadft!$U$7=\"県計\",kadft!$K$47,IF(kadft!$U$7=\"前回\",kadft!$K$46))","v":1.7}]
[]
[]
[]
[]
[]
[]
[{"$nulls":3},"水田率別農業集落数割合",null,"水田率別農業集落数"]
[{"$nulls":3},"水田集落","田畑集落","畑地集落"]
[null,null,{"$f":"IF(kadft!$U$7=\"県計\",$G$13,IF(kadft!$U$7=\"前回\",$G$15))","v":"茨城県"},{"$f":"IF(kadft!$U$7=\"県計\",kadft!$G$65,IF(kadft!$U$7=\"前回\",kadft!$G$64))","v":34.5},{"$f":"IF(kadft!$U$7=\"県計\",kadft!$I$65,IF(kadft!$U$7=\"前回\",kadft!$I$64))","v":44},{"$f":"IF(kadft!$U$7=\"県計\",kadft!$K$65,IF(kadft!$U$7=\"前回\",kadft!$K$64))","v":21.5}]
[null,null,{"$f":"IF(kadft!$U$7=\"県計\",$J$15,IF(kadft!$U$7=\"前回\",$G$14))","v":"県　　計"},{"$f":"IF(kadft!$U$7=\"県計\",kadft!$G$66,IF(kadft!$U$7=\"前回\",kadft!$G$63))","v":34.5},{"$f":"IF(kadft!$U$7=\"県計\",kadft!$I$66,IF(kadft!$U$7=\"前回\",kadft!$I$63))","v":44},{"$f":"IF(kadft!$U$7=\"県計\",kadft!$K$66,IF(kadft!$U$7=\"前回\",kadft!$K$63))","v":21.5}]
[]
[{"$nulls":3},"農家率別農業集落数割合",null,"農家率別農業集落数"]
[{"$nulls":3},"１０%未満","10～30","30～50","50～70","70～90","90%以上"]
[null,null,{"$f":"IF(kadft!$U$7=\"県計\",$J$15,IF(kadft!$U$7=\"前回\",$G$14))","v":"県　　計"},{"$f":"IF(kadft!$U$7=\"県計\",kadft!$M$66,IF(kadft!$U$7=\"前回\",kadft!$M$63))","v":23.7},{"$f":"IF(kadft!$U$7=\"県計\",kadft!$O$66,IF(kadft!$U$7=\"前回\",kadft!$O$63))","v":33.6},{"$f":"IF(kadft!$U$7=\"県計\",kadft!$Q$66,IF(kadft!$U$7=\"前回\",kadft!$Q$63))","v":28.2},{"$f":"IF(kadft!$U$7=\"県計\",kadft!$S$66,IF(kadft!$U$7=\"前回\",kadft!$S$63))","v":12.1},{"$f":"IF(kadft!$U$7=\"県計\",kadft!$U$66,IF(kadft!$U$7=\"前回\",kadft!$U$63))","v":2},{"$f":"IF(kadft!$U$7=\"県計\",kadft!$W$66,IF(kadft!$U$7=\"前回\",kadft!$W$63))","v":0.5}]
[null,null,{"$f":"IF(kadft!$U$7=\"県計\",$G$13,IF(kadft!$U$7=\"前回\",$G$15))","v":"茨城県"},{"$f":"IF(kadft!$U$7=\"県計\",kadft!$M$65,IF(kadft!$U$7=\"前回\",kadft!$M$64))","v":23.7},{"$f":"IF(kadft!$U$7=\"県計\",kadft!$O$65,IF(kadft!$U$7=\"前回\",kadft!$O$64))","v":33.6},{"$f":"IF(kadft!$U$7=\"県計\",kadft!$Q$65,IF(kadft!$U$7=\"前回\",kadft!$Q$64))","v":28.2},{"$f":"IF(kadft!$U$7=\"県計\",kadft!$S$65,IF(kadft!$U$7=\"前回\",kadft!$S$64))","v":12.1},{"$f":"IF(kadft!$U$7=\"県計\",kadft!$U$65,IF(kadft!$U$7=\"前回\",kadft!$U$64))","v":2},{"$f":"IF(kadft!$U$7=\"県計\",kadft!$W$65,IF(kadft!$U$7=\"前回\",kadft!$W$64))","v":0.5}]
[]
[{"$nulls":9},"単位１"]
[{"$nulls":9},{"$f":"IF(kadft!$U$7=\"県計\",$I$18,IF(kadft!$U$7=\"前回\",$J$16))","v":"（％）"}]
{"$rows_empty":10}
[{"$nulls":3},"　寄り合いの実施率",null,"　寄り合いの実施状況"]
[]
[null,null,{"$f":"kadft!W77","v":"寄り合いを開催しなかった"},{"$f":"kadft!T77","v":"農業集落内の福祉・厚生"},{"$f":"kadft!Q77","v":"農業集落行事の計画・推進"},{"$f":"kadft!N77","v":"環境美化・自然環境の保全"},{"$f":"kadft!K77","v":"集落共有財産・施設の管理"},{"$f":"kadft!H77","v":"農道・水路・ため池等の管理"},{"$f":"kadft!E77","v":"農業生産にかかる事項"}]
[null,{"$f":"IF(kadft!$U$7=\"県計\",$J$15,IF(kadft!$U$7=\"前回\",$G$14))","v":"県　　計"},{"$f":"IF(kadft!$U$7=\"県計\",kadft!$W$82,IF(kadft!$U$7=\"前回\",kadft!$W$79))","v":5.7},{"$f":"IF(kadft!$U$7=\"県計\",kadft!$T$82,IF(kadft!$U$7=\"前回\",kadft!$T$79))","v":55.2},{"$f":"IF(kadft!$U$7=\"県計\",kadft!$Q$82,IF(kadft!$U$7=\"前回\",kadft!$Q$79))","v":82.7},{"$f":"IF(kadft!$U$7=\"県計\",kadft!$N$82,IF(kadft!$U$7=\"前回\",kadft!$N$79))","v":86.5},{"$f":"IF(kadft!$U$7=\"県計\",kadft!$K$82,IF(kadft!$U$7=\"前回\",kadft!$K$79))","v":65},{"$f":"IF(kadft!$U$7=\"県計\",kadft!$H$82,IF(kadft!$U$7=\"前回\",kadft!$H$79))","v":76.4},{"$f":"IF(kadft!$U$7=\"県計\",kadft!$E$82,IF(kadft!$U$7=\"前回\",kadft!$E$79))","v":46.8}]
[null,{"$f":"IF(kadft!$U$7=\"県計\",$G$13,IF(kadft!$U$7=\"前回\",$G$15))","v":"茨城県"},{"$f":"IF(kadft!$U$7=\"県計\",kadft!$W$81,IF(kadft!$U$7=\"前回\",kadft!$W$80))","v":5.7},{"$f":"IF(kadft!$U$7=\"県計\",kadft!$T$81,IF(kadft!$U$7=\"前回\",kadft!$T$80))","v":55.2},{"$f":"IF(kadft!$U$7=\"県計\",kadft!$Q$81,IF(kadft!$U$7=\"前回\",kadft!$Q$80))","v":82.7},{"$f":"IF(kadft!$U$7=\"県計\",kadft!$N$81,IF(kadft!$U$7=\"前回\",kadft!$N$80))","v":86.5},{"$f":"IF(kadft!$U$7=\"県計\",kadft!$K$81,IF(kadft!$U$7=\"前回\",kadft!$K$80))","v":65},{"$f":"IF(kadft!$U$7=\"県計\",kadft!$H$81,IF(kadft!$U$7=\"前回\",kadft!$H$80))","v":76.4},{"$f":"IF(kadft!$U$7=\"県計\",kadft!$E$81,IF(kadft!$U$7=\"前回\",kadft!$E$80))","v":46.8}]
{"$rows_empty":14}
[null,null,"　保全管理の実施率",null,null,"　保全管理の実施状況"]
[null,null,"農地の保全","森林の保全","ため池・湖沼の保全","河川・水路の保全","農業用用排水路の保全"]
[null,{"$f":"IF(kadft!$U$7=\"県計\",$J$15,IF(kadft!$U$7=\"前回\",$G$14))","v":"県　　計"},{"$f":"IF(kadft!$U$7=\"県計\",kadft!$G$101,IF(kadft!$U$7=\"前回\",kadft!$G$98))","v":20.7},{"$f":"IF(kadft!$U$7=\"県計\",kadft!$K$101,IF(kadft!$U$7=\"前回\",kadft!$K$98))","v":10.7},{"$f":"IF(kadft!$U$7=\"県計\",kadft!$O$101,IF(kadft!$U$7=\"前回\",kadft!$O$98))","v":45.4},{"$f":"IF(kadft!$U$7=\"県計\",kadft!$S$101,IF(kadft!$U$7=\"前回\",kadft!$S$98))","v":41.1},{"$f":"IF(kadft!$U$7=\"県計\",kadft!$W$101,IF(kadft!$U$7=\"前回\",kadft!$W$98))","v":67.9}]
[null,{"$f":"IF(kadft!$U$7=\"県計\",$G$13,IF(kadft!$U$7=\"前回\",$G$15))","v":"茨城県"},{"$f":"IF(kadft!$U$7=\"県計\",kadft!$G$100,IF(kadft!$U$7=\"前回\",kadft!$G$99))","v":20.7},{"$f":"IF(kadft!$U$7=\"県計\",kadft!$K$100,IF(kadft!$U$7=\"前回\",kadft!$K$99))","v":10.7},{"$f":"IF(kadft!$U$7=\"県計\",kadft!$O$100,IF(kadft!$U$7=\"前回\",kadft!$O$99))","v":45.4},{"$f":"IF(kadft!$U$7=\"県計\",kadft!$S$100,IF(kadft!$U$7=\"前回\",kadft!$S$99))","v":41.1},{"$f":"IF(kadft!$U$7=\"県計\",kadft!$W$100,IF(kadft!$U$7=\"前回\",kadft!$W$99))","v":67.9}]

{"sheet":"2010年 ","index":2,"n_rows":442,"n_cols":48,"rows_kept":442,"hidden":true,"merged":[[1,3,1,4],[1,5,1,8],[1,10,1,15],[1,16,1,19],[1,20,1,25],[1,26,1,32],[1,33,1,42]]}
[null,"2010データ",null,1,2,3,4,5,6,7,8,9,10,11,12,13,14,15,16,17,18,19,20,21,22,23,24,25,26,27,28,29,30,31,32,33,34,35,36,37,38,39,40,41,42,43,44,45]
[{"$nulls":3},"総土地面積",null,"耕地面積",{"$nulls":3},"耕作放棄地面積","生産関連事業",{"$nulls":5},"水田率別農業集落数",{"$nulls":3},"農家率別農業集落数",{"$nulls":5},"寄り合い　",{"$nulls":6},"環境保全"]
[{"$nulls":3},"総土地面積","林野面積","耕地面積","田面積","畑面積","樹園地面積","耕作放棄地面積","農業経営体数計","農業生産関連事業を行っている実経営体数","事業種類別_農産物の加工","事業種類別_消費者に直接販売","事業種類別_観光農園","その他","計","水田集落\n（70％以上）","田畑集落\n（30～70）","畑地集落\n（30％未満）","10％未満","１０～３０","３０～５０","５０～７０","７０～９０","90％以上","寄り合いの議題_農業生産にかかる事項","寄り合いの議題_農道・農業用用排水路・ため池の管理","寄り合いの議題_集落共有財産・共用施設の管理","寄り合いの議題_環境美化・自然環境の保全","寄り合いの議題_農業集落行事（祭り・イベント等）の計画・推進","寄り合いの議題_農業集落内の福祉・厚生","寄り合いを開催しなかった","農地のある集落","農地保全している","森林のある集落","森林保全している","ため池・湖沼のある集落","ため池・湖沼保全している","河川・水路のある集落","河川・水路保全している","農業用用排水路のある集落","農業用用排水路保全している"]
["県計","県計","000-00",{"v":609569,"d":"609,569"},{"v":189261,"d":"189,261"},175627,100452,67505,7670,{"v":21120,"d":"21,120"},71542,12522,1502,11560,343,261,{"v":3816,"d":"     3 816"},{"v":1314,"d":"     1 314"},{"v":1676,"d":"     1 676"},{"v":826,"d":"      826"},690,{"v":1098,"d":"1,098"},{"v":1088,"d":"1,088"},692,188,60,1709,2140,2087,2707,2803,1311,381,3776,460,3002,207,955,394,2536,805,3594,2056]
["水戸市",null,"201-00",{"v":21743,"d":"21,743"},{"v":3493,"d":"3,493"},7153,4383,2477,293,913,3262,543,49,510,8,13,{"v":184,"d":"      184"},{"v":54,"d":"      54"},{"v":84,"d":"      84"},{"v":46,"d":"      46"},70,38,44,27,5,"-",64,82,63,94,90,34,55,163,6,131,7,58,44,106,39,147,88]
[null,"水戸市（旧）","201-01",{"v":1491,"d":"1,491"},23,35,20,15,0,13,37,3,1,3,"-","-",{"v":31,"d":"      31"},{"v":7,"d":"      7"},{"v":3,"d":"      3"},{"v":21,"d":"      21"},30,"-",1,"-","-","-",0,0,0,0,0,0,31,11,0,1,0,2,1,8,0,5,0]
[null,"国田村","201-02",{"v":1004,"d":"1,004"},82,569,396,155,18,44,281,26,3,24,"-","-",{"v":18,"d":"      18"},{"v":7,"d":"      7"},{"v":10,"d":"      10"},{"v":1,"d":"      1"},"-",1,6,10,1,"-",15,15,1,2,0,0,0,18,0,12,0,3,2,13,1,18,15]
[null,"吉田村","201-03",950,66,100,45,51,4,22,40,7,"-",7,"-","-",{"v":6,"d":"      6"},{"v":1,"d":"      1"},{"v":4,"d":"      4"},{"v":1,"d":"      1"},6,"-","-","-","-","-",0,0,0,0,0,0,6,6,0,6,0,2,1,5,0,6,0]
[null,"酒門村２－１","201-04",{"v":1278,"d":"1,278"},273,442,314,118,10,76,168,33,4,30,"-",1,{"v":8,"d":"      8"},{"v":4,"d":"      4"},{"v":4,"d":"      4"},"-",3,5,"-","-","-","-",1,2,1,2,0,0,6,8,0,7,0,1,1,5,2,8,1]
[null,"柳河村","201-05",643,5,291,185,103,3,14,160,19,"-",19,"-","-",{"v":4,"d":"      4"},{"v":1,"d":"      1"},{"v":3,"d":"      3"},"-",1,2,1,"-","-","-",4,4,1,1,0,0,0,4,0,1,0,0,0,4,0,4,4]
[null,"渡里村","201-06",{"v":1078,"d":"1,078"},217,254,113,136,5,55,87,19,2,18,"-",1,{"v":5,"d":"      5"},{"v":1,"d":"      1"},{"v":3,"d":"      3"},{"v":1,"d":"      1"},4,"-",1,"-","-","-",4,4,1,1,1,0,1,5,0,5,0,1,1,2,0,3,3]
[null,"上大野村","201-07",605,16,362,301,56,5,12,178,24,1,23,"-","-",{"v":6,"d":"      6"},{"v":5,"d":"      5"},{"v":1,"d":"      1"},"-","-",4,1,1,"-","-",4,3,1,4,0,0,2,6,0,5,0,0,0,5,0,6,3]
[null,"緑岡村","201-08",{"v":2508,"d":"2,508"},281,452,225,208,19,90,216,47,3,43,2,3,{"v":19,"d":"      19"},{"v":1,"d":"      1"},{"v":10,"d":"      10"},{"v":8,"d":"      8"},16,2,1,"-","-","-",0,1,0,13,14,0,5,18,0,18,0,5,3,3,0,11,1]
[null,"飯富村","201-09",{"v":1495,"d":"1,495"},323,545,134,404,7,98,172,28,7,24,1,2,{"v":8,"d":"      8"},"-",{"v":3,"d":"      3"},{"v":5,"d":"      5"},"-",3,5,"-","-","-",2,7,7,5,6,3,1,8,0,8,1,2,2,6,1,8,7]
[null,"上中妻村","201-10",838,112,353,200,146,7,53,148,14,"-",14,"-","-",{"v":4,"d":"      4"},"-",{"v":4,"d":"      4"},"-",1,2,"-",1,"-","-",0,3,4,4,4,3,0,4,0,4,0,2,2,0,0,4,3]
[null,"山根村","201-11",{"v":1556,"d":"1,556"},522,215,96,105,14,72,131,35,"-",35,4,1,{"v":6,"d":"      6"},"-",{"v":6,"d":"      6"},"-",1,1,3,1,"-","-",2,4,6,3,5,3,0,6,0,6,0,6,6,1,1,6,4]
[null,"河和田村","201-12",{"v":1258,"d":"1,258"},254,330,197,111,22,68,182,39,5,36,1,1,{"v":9,"d":"      9"},{"v":3,"d":"      3"},{"v":3,"d":"      3"},{"v":3,"d":"      3"},4,4,1,"-","-","-",0,0,0,8,9,0,0,9,0,9,0,4,2,0,0,9,0]
[null,"下大野村","201-13",987,10,642,595,39,8,21,257,80,1,80,"-","-",{"v":8,"d":"      8"},{"v":8,"d":"      8"},"-","-","-",2,6,"-","-","-",7,8,7,8,8,6,0,8,2,0,0,2,2,8,5,8,8]
[null,"稲荷村","201-14",976,152,453,381,62,10,21,227,40,9,34,"-","-",{"v":10,"d":"      10"},{"v":10,"d":"      10"},"-","-",2,1,6,1,"-","-",9,10,8,10,10,3,0,10,1,7,1,6,4,10,4,10,10]
[null,"大場村（水戸市）","201-15",926,248,463,358,96,9,34,211,37,3,36,"-","-",{"v":9,"d":"      9"},{"v":4,"d":"      4"},{"v":5,"d":"      5"},"-","-",1,3,3,2,"-",8,6,6,8,9,4,0,9,2,9,2,7,3,9,3,9,6]
[null,"下中妻村","201-16",{"v":1171,"d":"1,171"},256,357,209,128,20,37,176,27,4,25,"-",1,{"v":5,"d":"      5"},"-",{"v":5,"d":"      5"},"-",1,1,3,"-","-","-",2,3,2,4,5,3,0,5,1,5,2,3,3,4,2,5,5]
[null,"中妻村","201-17",787,164,374,217,144,13,48,213,27,"-",25,"-",2,{"v":7,"d":"      7"},{"v":1,"d":"      1"},{"v":6,"d":"      6"},"-","-",1,2,4,"-","-",1,7,7,7,7,4,0,7,0,7,1,3,3,7,6,7,5]
[null,"鯉渕村２－１","201-18",{"v":2192,"d":"2,192"},489,916,397,400,119,133,378,38,6,34,"-",1,{"v":21,"d":"      21"},{"v":1,"d":"      1"},{"v":14,"d":"      14"},{"v":6,"d":"      6"},1,8,4,6,2,"-",5,5,11,14,12,5,3,21,0,21,0,9,8,16,14,20,13]
["日立市",null,"202-00",{"v":22555,"d":"22,555"},{"v":12433,"d":"12,433"},996,674,287,35,249,756,194,13,185,20,5,{"v":32,"d":"      32"},{"v":12,"d":"      12"},{"v":10,"d":"      10"},{"v":10,"d":"      10"},18,3,9,2,"-","-",3,15,4,14,3,2,11,31,0,31,0,4,4,15,8,22,17]
[null,"中里村","202-01",{"v":3368,"d":"3,368"},{"v":2413,"d":"2,413"},134,85,32,17,59,97,30,"-",29,15,1,{"v":4,"d":"      4"},{"v":2,"d":"      2"},{"v":2,"d":"      2"},"-","-",1,2,1,"-","-",1,1,0,2,0,0,1,4,0,4,0,0,0,4,3,4,3]
[null,"豊浦町","202-02",785,204,33,16,14,3,18,35,10,"-",10,2,"-",{"v":2,"d":"      2"},"-",{"v":2,"d":"      2"},"-",2,"-","-","-","-","-",1,2,1,2,0,1,0,2,0,2,0,0,0,0,0,2,2]
[null,"日高村","202-03",{"v":1555,"d":"1,555"},719,44,27,17,0,21,51,5,1,5,"-","-",{"v":3,"d":"      3"},{"v":1,"d":"      1"},{"v":1,"d":"      1"},{"v":1,"d":"      1"},3,"-","-","-","-","-",0,1,0,0,0,0,2,3,0,3,0,0,0,1,0,3,1]
[null,"日立市（旧）","202-04",{"v":3744,"d":"3,744"},{"v":1879,"d":"1,879"},4,0,4,0,6,19,4,1,3,"-","-",{"v":4,"d":"      4"},"-","-",{"v":4,"d":"      4"},4,"-","-","-","-","-",0,0,1,4,2,0,0,3,0,4,0,0,0,0,0,0,0]
[null,"多賀町","202-05",{"v":4435,"d":"4,435"},{"v":1880,"d":"1,880"},23,1,20,2,16,27,4,"-",4,"-","-",{"v":5,"d":"      5"},"-","-",{"v":5,"d":"      5"},5,"-","-","-","-","-",0,0,0,0,0,0,5,5,0,5,0,0,0,1,0,0,0]
[null,"久慈町","202-06",341,23,"…","…","…","…",6,5,1,1,1,"-","-","-","-","-","-","-","-","-","-","-","-","…","…","…","…","…","…","…","…","…","…","…","…","…","…","…","…","…"]
[null,"坂本村","202-07",633,95,190,151,34,5,24,105,30,1,29,1,"-",{"v":4,"d":"      4"},{"v":3,"d":"      3"},{"v":1,"d":"      1"},"-",1,"-",3,"-","-","-",1,2,1,1,0,0,2,4,0,4,0,0,0,0,0,4,2]
[null,"東小沢村","202-08",475,23,152,121,29,2,13,116,29,2,29,1,"-",{"v":3,"d":"      3"},{"v":3,"d":"      3"},"-","-","-","-",2,1,"-","-",0,2,0,1,0,0,1,3,0,2,0,0,0,3,1,2,2]
[null,"黒前村２－１","202-09",{"v":5566,"d":"5,566"},{"v":4579,"d":"4,579"},174,122,50,2,49,115,18,"-",17,1,"-",{"v":3,"d":"      3"},{"v":2,"d":"      2"},{"v":1,"d":"      1"},"-","-",1,2,"-","-","-",0,3,1,1,1,1,0,3,0,3,0,1,1,3,1,3,3]
[null,"櫛形村","202-10",{"v":1653,"d":"1,653"},621,242,151,87,4,37,186,63,7,58,"-",4,{"v":4,"d":"      4"},{"v":1,"d":"      1"},{"v":3,"d":"      3"},"-",3,1,"-","-","-","-",0,4,0,3,0,0,0,4,0,4,0,3,3,3,3,4,4]
["土浦市",null,"203-00",{"v":12299,"d":"12,299"},{"v":1427,"d":"1,427"},3519,1984,1218,317,574,1461,318,27,295,8,6,{"v":70,"d":"      70"},{"v":19,"d":"      19"},{"v":43,"d":"      43"},{"v":8,"d":"      8"},21,17,19,10,3,"-",14,26,21,46,55,13,8,70,20,64,6,29,6,28,11,68,24]
[null,"土浦市（旧）","203-01",{"v":5822,"d":"5,822"},525,1428,863,501,64,256,650,130,9,120,1,2,{"v":38,"d":"      38"},{"v":13,"d":"      13"},{"v":19,"d":"      19"},{"v":6,"d":"      6"},17,10,5,4,2,"-",10,15,15,22,29,11,5,38,18,35,4,13,2,13,9,36,19]
[null,"上大津村","203-02",{"v":2358,"d":"2,358"},258,919,491,286,142,143,375,43,4,37,1,4,{"v":12,"d":"      12"},{"v":2,"d":"      2"},{"v":9,"d":"      9"},{"v":1,"d":"      1"},2,2,6,2,"-","-",3,9,4,4,6,2,3,12,1,11,1,4,3,2,2,12,5]
[null,"藤沢村","203-03",{"v":1026,"d":"1,026"},88,461,233,168,60,64,134,22,3,20,2,"-",{"v":7,"d":"      7"},"-",{"v":6,"d":"      6"},{"v":1,"d":"      1"},2,3,1,1,"-","-",0,1,1,7,7,0,0,7,0,6,1,4,0,4,0,7,0]
[null,"山ノ荘村","203-04",{"v":1486,"d":"1,486"},514,395,205,157,33,63,174,84,10,79,3,"-",{"v":6,"d":"      6"},{"v":2,"d":"      2"},{"v":4,"d":"      4"},"-","-","-",3,2,1,"-",1,1,1,6,6,0,0,6,0,6,0,4,0,5,0,6,0]
[null,"斗利出村","203-05",690,42,316,192,106,18,48,128,39,1,39,1,"-",{"v":7,"d":"      7"},{"v":2,"d":"      2"},{"v":5,"d":"      5"},"-","-",2,4,1,"-","-",0,0,0,7,7,0,0,7,1,6,0,4,1,4,0,7,0]
["古河市",null,"204-00",{"v":12358,"d":"12,358"},887,5232,2373,2831,28,516,2057,334,24,322,3,8,{"v":103,"d":"      103"},{"v":7,"d":"      7"},{"v":76,"d":"      76"},{"v":20,"d":"      20"},40,47,11,5,"-","-",52,43,53,64,71,47,21,103,13,88,1,3,2,57,48,95,91]
[null,"古河町","204-01",816,2,21,11,10,0,13,19,3,"-",3,"-","-",{"v":4,"d":"      4"},{"v":1,"d":"      1"},{"v":2,"d":"      2"},{"v":1,"d":"      1"},4,"-","-","-","-","-",0,0,0,0,0,0,4,4,0,0,0,0,0,3,0,1,0]
[null,"新郷村","204-02",{"v":1301,"d":"1,301"},20,337,214,121,2,49,154,41,1,41,"-",1,{"v":12,"d":"      12"},{"v":2,"d":"      2"},{"v":7,"d":"      7"},{"v":3,"d":"      3"},9,2,1,"-","-","-",0,0,0,0,0,0,12,12,1,7,0,0,0,7,1,10,9]
[null,"勝鹿村","204-03",{"v":1079,"d":"1,079"},49,397,192,202,3,58,227,32,4,30,"-",1,{"v":9,"d":"      9"},"-",{"v":7,"d":"      7"},{"v":2,"d":"      2"},4,4,1,"-","-","-",9,9,9,9,9,9,0,9,0,9,0,0,0,4,4,9,9]
[null,"香取村","204-04",{"v":1541,"d":"1,541"},78,726,346,378,2,91,256,42,"-",42,"-","-",{"v":10,"d":"      10"},"-",{"v":8,"d":"      8"},{"v":2,"d":"      2"},2,7,1,"-","-","-",10,10,10,10,10,10,0,10,3,10,0,0,0,7,7,10,10]
[null,"桜井村","204-05",{"v":1301,"d":"1,301"},142,609,213,392,4,57,205,31,"-",31,"-","-",{"v":8,"d":"      8"},"-",{"v":7,"d":"      7"},{"v":1,"d":"      1"},2,6,"-","-","-","-",0,0,0,0,6,0,2,8,0,7,0,0,0,7,7,8,8]
[null,"岡郷村","204-06",{"v":1353,"d":"1,353"},154,612,282,327,3,63,224,39,3,37,"-","-",{"v":14,"d":"      14"},{"v":3,"d":"      3"},{"v":9,"d":"      9"},{"v":2,"d":"      2"},4,5,2,3,"-","-",0,0,0,0,11,0,3,14,5,11,0,0,0,10,10,13,13]
[null,"幸島村","204-07",{"v":2143,"d":"2,143"},291,1010,482,517,11,72,384,58,9,54,2,3,{"v":21,"d":"      21"},"-",{"v":19,"d":"      19"},{"v":2,"d":"      2"},8,11,2,"-","-","-",9,12,11,20,11,4,0,21,2,21,1,0,0,8,8,19,18]
[null,"名崎村２－１","204-08",{"v":1359,"d":"1,359"},70,690,273,414,3,80,266,39,3,37,1,1,{"v":10,"d":"      10"},"-",{"v":8,"d":"      8"},{"v":2,"d":"      2"},3,5,1,1,"-","-",10,5,10,10,9,10,0,10,0,10,0,1,1,7,7,10,10]
[null,"八俣村","204-09",{"v":1465,"d":"1,465"},81,830,360,470,0,33,322,49,4,47,"-",2,{"v":15,"d":"      15"},{"v":1,"d":"      1"},{"v":9,"d":"      9"},{"v":5,"d":"      5"},4,7,3,1,"-","-",14,7,13,15,15,14,0,15,2,13,0,2,1,4,4,15,14]
["石岡市",null,"205-00",{"v":21562,"d":"21,562"},{"v":7820,"d":"7,820"},6662,3084,2459,1119,{"v":1142,"d":"1,142"},3263,725,34,699,45,16,{"v":172,"d":"      172"},{"v":28,"d":"      28"},{"v":96,"d":"      96"},{"v":48,"d":"      48"},22,16,39,50,28,17,44,58,76,148,138,40,6,172,25,156,27,49,8,127,28,162,35]
[null,"石岡町","205-01",{"v":3128,"d":"3,128"},386,1006,394,421,191,205,478,86,5,78,1,3,{"v":30,"d":"      30"},{"v":2,"d":"      2"},{"v":14,"d":"      14"},{"v":14,"d":"      14"},16,3,6,5,"-","-",1,1,6,30,28,1,0,30,0,26,0,5,0,11,0,24,0]
[null,"高浜町","205-02",{"v":1100,"d":"1,100"},75,377,233,113,31,58,196,25,1,25,"-","-",{"v":7,"d":"      7"},{"v":3,"d":"      3"},{"v":3,"d":"      3"},{"v":1,"d":"      1"},2,1,1,2,1,"-",3,1,2,7,7,5,0,7,0,7,1,2,1,5,1,6,1]
[null,"三村","205-03",{"v":1008,"d":"1,008"},145,532,238,183,111,102,218,32,3,30,"-",1,{"v":15,"d":"      15"},{"v":3,"d":"      3"},{"v":5,"d":"      5"},{"v":7,"d":"      7"},"-","-",7,4,3,1,0,0,1,14,14,0,0,15,1,13,3,7,0,5,0,13,2]
[null,"関川村","205-04",730,74,402,212,158,32,68,175,21,2,20,"-","-",{"v":7,"d":"      7"},{"v":4,"d":"      4"},{"v":1,"d":"      1"},{"v":2,"d":"      2"},"-","-",1,6,"-","-",0,0,0,7,7,0,0,7,0,7,0,5,0,1,0,7,0]
[null,"柿岡町","205-05",998,185,365,216,94,55,62,189,46,6,42,1,3,{"v":15,"d":"      15"},{"v":2,"d":"      2"},{"v":11,"d":"      11"},{"v":2,"d":"      2"},2,5,5,3,"-","-",4,6,9,12,13,7,1,15,3,12,2,6,2,13,4,14,5]
[null,"小幡村","205-06",{"v":2239,"d":"2,239"},{"v":1361,"d":"1,361"},489,253,130,106,114,287,96,1,96,20,1,{"v":21,"d":"      21"},{"v":7,"d":"      7"},{"v":9,"d":"      9"},{"v":5,"d":"      5"},1,2,6,8,4,"-",5,6,9,19,17,3,1,21,3,18,2,3,1,18,5,21,4]
[null,"葦穂村","205-07",{"v":2392,"d":"2,392"},{"v":1219,"d":"1,219"},582,287,204,91,117,308,90,5,88,8,2,{"v":8,"d":"      8"},"-",{"v":8,"d":"      8"},"-","-","-","-",1,2,5,2,4,6,6,7,3,1,8,1,8,2,3,0,8,1,8,2]
[null,"恋瀬村","205-08",{"v":2257,"d":"2,257"},{"v":1542,"d":"1,542"},488,275,181,32,70,252,51,"-",51,"-","-",{"v":14,"d":"      14"},{"v":3,"d":"      3"},{"v":9,"d":"      9"},{"v":2,"d":"      2"},1,1,3,6,3,"-",4,7,10,14,6,4,0,14,6,12,5,1,0,13,5,14,5]
[null,"瓦会村","205-09",{"v":1577,"d":"1,577"},539,469,252,191,26,56,254,67,3,67,1,1,{"v":11,"d":"      11"},"-",{"v":11,"d":"      11"},"-","-","-",3,2,6,"-",8,8,6,10,10,1,0,11,5,10,4,4,3,11,4,11,5]
[null,"園部村","205-10",{"v":1982,"d":"1,982"},539,978,216,398,364,125,395,83,3,78,2,3,{"v":21,"d":"      21"},{"v":1,"d":"      1"},{"v":7,"d":"      7"},{"v":13,"d":"      13"},"-",2,5,7,3,4,8,11,10,12,11,7,2,21,2,20,4,3,1,19,2,21,4]
[null,"林村","205-11",{"v":1657,"d":"1,657"},591,474,228,214,32,83,259,42,3,40,2,1,{"v":13,"d":"      13"},{"v":3,"d":"      3"},{"v":8,"d":"      8"},{"v":2,"d":"      2"},"-",2,1,2,2,6,3,7,8,11,12,3,0,13,1,13,1,7,0,13,1,13,1]
[null,"小桜村","205-12",{"v":2270,"d":"2,270"},{"v":1164,"d":"1,164"},500,280,172,48,82,252,86,2,84,10,1,{"v":10,"d":"      10"},"-",{"v":10,"d":"      10"},"-","-","-",1,4,4,1,6,7,9,6,6,6,1,10,3,10,3,3,0,10,5,10,6]
["結城市",null,"207-00",{"v":6584,"d":"6,584"},256,3396,1705,1653,38,295,1250,207,8,201,3,8,{"v":80,"d":"      80"},{"v":20,"d":"      20"},{"v":46,"d":"      46"},{"v":14,"d":"      14"},17,33,20,8,2,"-",30,55,66,63,70,33,2,80,1,51,11,1,1,44,10,80,56]
[null,"結城町","207-01",{"v":1943,"d":"1,943"},46,752,424,311,17,79,298,45,3,42,"-",1,{"v":21,"d":"      21"},{"v":7,"d":"      7"},{"v":10,"d":"      10"},{"v":4,"d":"      4"},12,7,2,"-","-","-",12,13,10,5,12,1,2,21,1,8,1,0,0,10,5,21,16]
[null,"絹川村","207-02",660,3,240,188,52,0,38,100,23,1,23,"-",1,{"v":11,"d":"      11"},{"v":6,"d":"      6"},{"v":5,"d":"      5"},"-",3,8,"-","-","-","-",0,4,11,11,11,2,0,11,0,2,1,1,1,9,1,11,7]
[null,"上山川村","207-03",{"v":1003,"d":"1,003"},81,529,265,247,17,65,176,34,"-",34,2,1,{"v":12,"d":"      12"},{"v":2,"d":"      2"},{"v":7,"d":"      7"},{"v":3,"d":"      3"},"-",7,5,"-","-","-",2,4,11,12,11,0,0,12,0,11,2,0,0,7,1,12,7]
[null,"山川村","207-04",{"v":1105,"d":"1,105"},14,794,449,345,0,29,299,71,2,70,"-","-",{"v":17,"d":"      17"},{"v":5,"d":"      5"},{"v":11,"d":"      11"},{"v":1,"d":"      1"},"-",6,6,4,1,"-",0,17,17,17,17,17,0,17,0,12,0,0,0,6,1,17,7]
[null,"江川村","207-05",{"v":1873,"d":"1,873"},112,1081,379,698,4,84,377,34,2,32,1,5,{"v":19,"d":"      19"},"-",{"v":13,"d":"      13"},{"v":6,"d":"      6"},2,5,7,4,1,"-",16,17,17,18,19,13,0,19,0,18,7,0,0,12,2,19,19]
["龍ケ崎市",null,"208-00",{"v":7820,"d":"7,820"},642,2719,2301,402,16,270,869,182,8,177,3,3,{"v":56,"d":"      56"},{"v":45,"d":"      45"},{"v":9,"d":"      9"},{"v":2,"d":"      2"},20,18,15,2,1,"-",12,26,21,33,33,12,14,56,27,24,2,8,1,43,11,56,31]
[null,"長戸村","208-01",{"v":1091,"d":"1,091"},141,449,395,50,4,45,140,21,2,20,"-","-",{"v":5,"d":"      5"},{"v":5,"d":"      5"},"-","-","-",2,3,"-","-","-",2,3,3,3,4,3,1,5,2,4,1,1,1,5,2,5,3]
[null,"龍ヶ崎町","208-02",718,10,183,173,10,0,9,38,6,1,5,"-","-",{"v":5,"d":"      5"},{"v":5,"d":"      5"},"-","-",4,1,"-","-","-","-",1,1,0,3,4,0,0,5,4,1,0,0,0,4,1,5,4]
[null,"川原代村","208-03",511,7,193,178,15,0,8,86,20,"-",20,"-","-",{"v":8,"d":"      8"},{"v":8,"d":"      8"},"-","-",3,2,1,2,"-","-",4,6,0,6,4,1,0,8,8,0,0,1,0,6,2,8,8]
[null,"馴柴村","208-04",{"v":1894,"d":"1,894"},144,375,307,65,3,70,118,36,"-",35,"-",1,{"v":9,"d":"      9"},{"v":6,"d":"      6"},{"v":2,"d":"      2"},{"v":1,"d":"      1"},8,1,"-","-","-","-",0,1,2,1,1,1,6,9,1,7,0,3,0,9,1,9,1]
[null,"八原村","208-05",{"v":1935,"d":"1,935"},321,487,265,215,7,101,170,29,2,29,2,1,{"v":7,"d":"      7"},{"v":3,"d":"      3"},{"v":3,"d":"      3"},{"v":1,"d":"      1"},4,1,2,"-","-","-",0,0,0,0,0,0,7,7,0,7,0,1,0,6,0,7,0]
[null,"北文間村","208-06",621,13,344,325,18,1,20,127,29,1,29,"-","-",{"v":7,"d":"      7"},{"v":7,"d":"      7"},"-","-","-",2,5,"-","-","-",0,5,3,6,7,0,0,7,7,2,1,1,0,6,4,7,7]
[null,"大宮村","208-07",929,2,621,593,27,1,16,170,36,2,35,1,"-",{"v":14,"d":"      14"},{"v":10,"d":"      10"},{"v":4,"d":"      4"},"-",1,9,3,"-",1,"-",5,10,12,14,12,7,0,14,4,2,0,1,0,6,1,14,7]
[null,"高須村２－２","208-08",121,4,67,65,2,0,0,20,5,"-",4,"-",1,{"v":1,"d":"      1"},{"v":1,"d":"      1"},"-","-","-","-",1,"-","-","-",0,0,1,0,1,0,0,1,1,1,0,0,0,1,0,1,1]
["下妻市",null,"210-00",{"v":8088,"d":"8,088"},383,4387,3033,1107,247,352,1699,210,6,204,"-",3,{"v":79,"d":"      79"},{"v":40,"d":"      40"},{"v":30,"d":"      30"},{"v":9,"d":"      9"},14,27,20,14,4,"-",66,60,68,69,75,38,1,79,17,38,1,1,1,39,5,79,39]
[null,"下妻町","210-01",585,17,71,30,37,4,55,55,6,1,5,"-","-",{"v":5,"d":"      5"},"-",{"v":4,"d":"      4"},{"v":1,"d":"      1"},4,1,"-","-","-","-",0,1,2,2,5,3,0,5,0,3,0,0,0,3,0,5,1]
[null,"大宝村","210-02",904,31,551,422,82,47,36,180,16,"-",15,"-",1,{"v":11,"d":"      11"},{"v":8,"d":"      8"},{"v":1,"d":"      1"},{"v":2,"d":"      2"},2,6,2,1,"-","-",10,10,9,9,9,2,0,11,4,6,1,0,0,3,1,11,10]
[null,"騰波ノ江村","210-03",681,11,459,331,28,100,23,170,11,"-",11,"-","-",{"v":10,"d":"      10"},{"v":5,"d":"      5"},{"v":2,"d":"      2"},{"v":3,"d":"      3"},"-",3,4,3,"-","-",10,10,10,10,10,3,0,10,1,8,0,0,0,5,0,10,6]
[null,"上妻村","210-04",{"v":1797,"d":"1,797"},146,928,472,367,89,114,349,60,2,58,"-","-",{"v":12,"d":"      12"},{"v":1,"d":"      1"},{"v":10,"d":"      10"},{"v":1,"d":"      1"},2,3,3,2,2,"-",5,5,6,7,11,6,1,12,4,11,0,0,0,6,3,12,6]
[null,"総上村","210-05",672,16,404,290,114,0,35,130,15,2,15,"-",1,{"v":6,"d":"      6"},{"v":4,"d":"      4"},{"v":1,"d":"      1"},{"v":1,"d":"      1"},1,2,3,"-","-","-",6,6,6,6,6,0,0,6,0,2,0,0,0,0,0,6,5]
[null,"豊加美村","210-06",698,8,479,394,83,2,9,218,32,1,31,"-","-",{"v":7,"d":"      7"},{"v":4,"d":"      4"},{"v":3,"d":"      3"},"-","-",2,2,3,"-","-",7,7,7,7,7,0,0,7,4,2,0,0,0,0,0,7,7]
[null,"高道祖村","210-07",763,89,388,272,116,0,17,139,6,"-",6,"-","-",{"v":4,"d":"      4"},{"v":2,"d":"      2"},{"v":2,"d":"      2"},"-",2,1,1,"-","-","-",4,3,4,4,3,0,0,4,1,4,0,1,1,2,0,4,1]
[null,"大形村","210-08",934,58,461,213,243,5,50,169,8,"-",8,"-","-",{"v":8,"d":"      8"},{"v":1,"d":"      1"},{"v":6,"d":"      6"},{"v":1,"d":"      1"},1,4,2,1,"-","-",8,4,8,8,8,8,0,8,0,2,0,0,0,6,0,8,0]
[null,"蚕飼村","210-09",302,5,173,153,20,0,3,91,13,"-",13,"-","-",{"v":5,"d":"      5"},{"v":4,"d":"      4"},{"v":1,"d":"      1"},"-","-",2,"-",2,1,"-",5,4,5,5,5,5,0,5,2,0,0,0,0,4,1,5,2]
[null,"玉村２－１","210-10",252,1,182,178,4,0,4,74,17,"-",16,"-",1,{"v":3,"d":"      3"},{"v":3,"d":"      3"},"-","-","-",1,1,1,"-","-",3,3,3,3,3,3,0,3,0,0,0,0,0,3,0,3,0]
[null,"宗道村","210-11",500,1,291,278,13,0,6,124,26,"-",26,"-","-",{"v":8,"d":"      8"},{"v":8,"d":"      8"},"-","-",2,2,2,1,1,"-",8,7,8,8,8,8,0,8,1,0,0,0,0,7,0,8,1]
["常総市",null,"211-00",{"v":12352,"d":"12,352"},606,6056,4621,1403,32,464,2560,462,16,451,5,6,{"v":154,"d":"      154"},{"v":94,"d":"      94"},{"v":36,"d":"      36"},{"v":24,"d":"      24"},19,56,50,21,8,"-",88,97,80,83,112,41,5,152,5,51,2,13,8,79,22,150,108]
[null,"水海道町","211-01",489,4,108,66,41,1,16,50,11,"-",11,"-",1,{"v":7,"d":"      7"},{"v":1,"d":"      1"},{"v":3,"d":"      3"},{"v":3,"d":"      3"},6,1,"-","-","-","-",2,2,1,3,4,1,3,5,0,2,0,0,0,0,0,5,3]
[null,"坂手村","211-02",799,69,262,168,90,4,47,107,9,1,8,"-","-",{"v":11,"d":"      11"},{"v":4,"d":"      4"},{"v":3,"d":"      3"},{"v":4,"d":"      4"},"-",5,5,1,"-","-",0,2,2,8,8,0,1,11,0,1,0,0,0,2,0,11,0]
[null,"豊岡村","211-03",877,70,403,336,67,0,43,166,32,1,31,"-","-",{"v":12,"d":"      12"},{"v":7,"d":"      7"},{"v":4,"d":"      4"},{"v":1,"d":"      1"},2,4,5,1,"-","-",2,6,1,5,6,2,1,12,0,3,0,2,1,6,1,12,7]
[null,"菅原村","211-04",910,44,509,377,127,5,36,263,45,1,44,"-","-",{"v":11,"d":"      11"},{"v":7,"d":"      7"},{"v":2,"d":"      2"},{"v":2,"d":"      2"},"-","-",5,5,1,"-",3,4,4,4,9,3,0,11,1,5,1,0,0,5,2,11,10]
[null,"大花羽村","211-05",584,29,279,219,59,1,27,71,5,"-",5,"-","-",{"v":7,"d":"      7"},{"v":3,"d":"      3"},{"v":4,"d":"      4"},"-","-",5,2,"-","-","-",0,1,4,1,7,1,0,7,0,3,0,0,0,3,2,7,6]
[null,"三妻村","211-06",818,2,470,441,28,1,3,176,31,"-",31,1,"-",{"v":15,"d":"      15"},{"v":14,"d":"      14"},{"v":1,"d":"      1"},"-",4,4,6,1,"-","-",14,14,1,3,5,1,0,15,1,0,0,0,0,3,0,15,8]
[null,"五箇村","211-07",711,"-",448,390,58,0,12,229,51,"-",51,"-","-",{"v":9,"d":"      9"},{"v":9,"d":"      9"},"-","-","-",1,2,4,2,"-",7,9,2,1,1,0,0,9,0,0,0,3,0,3,0,9,7]
[null,"大生村","211-08",783,3,500,465,35,0,13,208,56,1,55,"-","-",{"v":11,"d":"      11"},{"v":11,"d":"      11"},"-","-","-",3,3,5,"-","-",4,9,7,7,7,4,0,11,0,4,0,0,0,10,2,11,8]
[null,"内守谷村","211-09",569,47,149,101,45,3,42,45,5,"-",5,"-","-",{"v":4,"d":"      4"},{"v":2,"d":"      2"},{"v":2,"d":"      2"},"-",2,2,"-","-","-","-",2,3,3,3,4,0,0,4,0,4,0,0,0,3,0,4,3]
[null,"菅生村","211-10",{"v":1190,"d":"1,190"},114,543,309,231,3,88,159,27,3,25,1,2,{"v":15,"d":"      15"},{"v":2,"d":"      2"},{"v":7,"d":"      7"},{"v":6,"d":"      6"},"-",8,6,"-",1,"-",4,1,13,4,15,4,0,15,1,11,0,6,6,4,0,15,10]
[null,"十和村２－２","211-11",106,"-",60,43,15,2,8,20,6,"-",6,"-","-",{"v":1,"d":"      1"},{"v":1,"d":"      1"},"-","-","-","-",1,"-","-","-",0,0,0,1,0,1,0,1,0,0,0,0,0,1,0,1,1]
[null,"真瀬村２－２","211-12",127,"-",86,84,2,0,0,31,12,"-",12,"-","-",{"v":1,"d":"      1"},{"v":1,"d":"      1"},"-","-","-","-","-",1,"-","-",1,1,1,1,1,1,0,1,1,1,0,1,1,1,1,1,1]
[null,"石下町","211-13",845,6,367,319,48,0,6,213,29,1,29,1,"-",{"v":15,"d":"      15"},{"v":12,"d":"      12"},{"v":1,"d":"      1"},{"v":2,"d":"      2"},4,8,2,"-",1,"-",15,13,11,7,11,0,0,15,0,1,1,0,0,12,0,15,12]
[null,"玉村２－２","211-14",408,18,246,218,27,1,4,134,40,1,40,"-","-",{"v":3,"d":"      3"},{"v":3,"d":"      3"},"-","-","-",2,1,"-","-","-",3,3,2,3,3,2,0,3,0,1,0,1,0,3,0,3,3]
[null,"豊田村","211-15",609,5,334,297,37,0,5,185,35,1,34,"-","-",{"v":9,"d":"      9"},{"v":8,"d":"      8"},{"v":1,"d":"      1"},"-","-",2,4,2,1,"-",9,8,6,9,8,2,0,9,0,0,0,0,0,9,0,9,8]
[null,"岡田村（常総市）","211-16",855,63,373,217,154,2,39,191,27,3,27,"-",1,{"v":7,"d":"      7"},{"v":2,"d":"      2"},{"v":5,"d":"      5"},"-",1,6,"-","-","-","-",7,7,7,7,7,6,0,7,0,7,0,0,0,7,7,7,7]
[null,"飯沼村","211-17",{"v":1672,"d":"1,672"},132,919,571,339,9,75,312,41,3,37,2,2,{"v":16,"d":"      16"},{"v":7,"d":"      7"},{"v":3,"d":"      3"},{"v":6,"d":"      6"},"-",5,8,1,2,"-",15,14,15,16,16,13,0,16,1,8,0,0,0,7,7,14,14]
["常陸太田市",null,"212-00",{"v":37201,"d":"37,201"},{"v":24842,"d":"24,842"},5217,3400,1586,231,{"v":1008,"d":"1,008"},3166,578,32,558,71,5,{"v":232,"d":"      232"},{"v":75,"d":"      75"},{"v":127,"d":"      127"},{"v":30,"d":"      30"},14,41,72,70,25,10,106,162,172,175,192,157,31,232,26,224,18,59,25,207,85,225,195]
[null,"太田町","212-01",303,3,34,31,3,0,"X",19,"x","x","x","x","x",{"v":3,"d":"      3"},{"v":3,"d":"      3"},"-","-",3,"-","-","-","-","-",0,0,0,0,0,0,3,3,0,3,0,0,0,0,0,3,0]
[null,"機初村","212-02",{"v":1472,"d":"1,472"},692,323,221,98,4,42,264,61,1,61,2,"-",{"v":11,"d":"      11"},{"v":5,"d":"      5"},{"v":6,"d":"      6"},"-",1,2,2,4,1,1,5,10,11,11,11,11,0,11,0,10,0,2,0,6,4,11,8]
[null,"世矢村","212-03",{"v":1536,"d":"1,536"},680,395,260,123,12,78,267,69,3,66,15,"-",{"v":20,"d":"      20"},{"v":8,"d":"      8"},{"v":10,"d":"      10"},{"v":2,"d":"      2"},2,5,6,6,1,"-",5,8,5,5,5,5,12,20,0,18,0,9,3,20,20,19,17]
[null,"西小沢村","212-04",586,67,338,271,55,12,35,212,41,3,39,"-","-",{"v":9,"d":"      9"},{"v":7,"d":"      7"},{"v":2,"d":"      2"},"-","-","-",4,3,2,"-",7,9,9,9,8,8,0,9,0,5,0,0,0,4,3,9,9]
[null,"幸久村","212-05",751,91,452,362,88,2,27,263,30,"-",30,1,"-",{"v":8,"d":"      8"},{"v":6,"d":"      6"},{"v":2,"d":"      2"},"-","-","-",2,4,1,1,6,8,8,8,8,3,0,8,0,8,0,0,0,8,0,8,8]
[null,"佐竹村","212-06",824,186,344,280,57,7,36,171,22,2,20,2,"-",{"v":8,"d":"      8"},{"v":5,"d":"      5"},{"v":3,"d":"      3"},"-",1,2,3,1,"-",1,8,8,6,7,7,4,0,8,0,8,0,4,0,4,0,8,6]
[null,"誉田村","212-07",{"v":2167,"d":"2,167"},{"v":1081,"d":"1,081"},260,127,86,47,92,155,61,1,61,42,1,{"v":11,"d":"      11"},{"v":2,"d":"      2"},{"v":8,"d":"      8"},{"v":1,"d":"      1"},2,4,1,4,"-","-",0,6,9,9,7,9,1,11,0,11,0,4,1,11,1,10,6]
[null,"佐都村","212-08",{"v":1373,"d":"1,373"},948,206,106,92,8,41,133,35,"-",34,1,1,{"v":11,"d":"      11"},{"v":1,"d":"      1"},{"v":9,"d":"      9"},{"v":1,"d":"      1"},"-",2,6,2,"-",1,10,11,11,11,11,10,0,11,0,10,0,2,0,10,10,11,11]
[null,"河内村２－１","212-09",{"v":1939,"d":"1,939"},{"v":1441,"d":"1,441"},120,62,54,4,81,40,9,3,8,"-",1,{"v":13,"d":"      13"},"-",{"v":13,"d":"      13"},"-","-",4,5,3,1,"-",0,0,0,0,0,0,13,13,3,13,0,0,0,13,6,13,13]
[null,"郡戸村","212-10",959,252,412,347,60,5,32,297,42,4,40,"-","-",{"v":11,"d":"      11"},{"v":11,"d":"      11"},"-","-","-",2,1,6,2,"-",0,1,8,11,11,11,0,11,0,11,0,1,0,11,0,11,11]
[null,"久米村","212-11",{"v":1228,"d":"1,228"},505,383,321,61,1,46,247,46,2,45,1,"-",{"v":10,"d":"      10"},{"v":8,"d":"      8"},{"v":2,"d":"      2"},"-",2,2,3,2,1,"-",0,4,8,10,10,9,0,10,0,10,0,6,3,10,0,10,10]
[null,"金郷村","212-12",{"v":1741,"d":"1,741"},676,463,326,125,12,84,292,37,"-",37,"-","-",{"v":13,"d":"      13"},{"v":6,"d":"      6"},{"v":7,"d":"      7"},"-","-",1,6,3,2,1,13,13,13,13,13,11,0,13,0,13,0,8,6,12,0,13,13]
[null,"金砂村","212-13",{"v":2236,"d":"2,236"},{"v":1441,"d":"1,441"},248,93,144,11,97,114,16,3,15,1,"-",{"v":18,"d":"      18"},"-",{"v":15,"d":"      15"},{"v":3,"d":"      3"},"-",1,11,5,1,"-",18,18,18,18,18,18,0,18,11,18,0,2,1,18,0,18,18]
[null,"天下野村","212-14",{"v":1751,"d":"1,751"},{"v":1216,"d":"1,216"},129,36,79,14,55,36,4,"-",4,"-","-",{"v":13,"d":"      13"},"-",{"v":6,"d":"      6"},{"v":7,"d":"      7"},1,5,1,4,1,1,3,13,13,5,13,5,0,13,0,13,0,3,2,13,0,13,10]
[null,"染和田村","212-15",{"v":2337,"d":"2,337"},{"v":1821,"d":"1,821"},244,109,116,19,78,115,18,1,16,1,"-",{"v":14,"d":"      14"},{"v":1,"d":"      1"},{"v":11,"d":"      11"},{"v":2,"d":"      2"},1,2,6,4,1,"-",11,12,11,14,13,14,0,14,4,14,3,5,2,14,7,14,13]
[null,"高倉村","212-16",{"v":2522,"d":"2,522"},{"v":2028,"d":"2,028"},86,15,62,9,33,34,6,"-",6,"-","-",{"v":10,"d":"      10"},"-",{"v":1,"d":"      1"},{"v":9,"d":"      9"},1,1,4,2,2,"-",5,7,9,9,10,8,0,10,1,10,2,2,0,10,4,9,5]
[null,"山田村","212-17",{"v":1375,"d":"1,375"},787,247,108,117,22,58,141,33,2,32,3,"-",{"v":16,"d":"      16"},{"v":1,"d":"      1"},{"v":11,"d":"      11"},{"v":4,"d":"      4"},"-",4,1,7,3,1,6,8,13,16,16,15,0,16,4,16,0,8,5,10,3,12,8]
[null,"河内村２－２","212-18",103,78,9,4,4,1,"X",2,"x","x","x","x","x",{"v":1,"d":"      1"},"-",{"v":1,"d":"      1"},"-","-","-","-",1,"-","-",0,0,0,0,1,1,0,1,0,1,0,0,0,1,0,1,0]
[null,"小里村","212-19",{"v":7368,"d":"7,368"},{"v":6567,"d":"6,567"},335,220,95,20,45,244,29,4,27,2,2,{"v":16,"d":"      16"},{"v":9,"d":"      9"},{"v":6,"d":"      6"},{"v":1,"d":"      1"},"-","-",6,3,5,2,4,16,12,9,16,14,0,16,2,16,8,2,2,16,16,16,16]
[null,"賀美村","212-20",{"v":4630,"d":"4,630"},{"v":4282,"d":"4,282"},189,101,67,21,40,120,14,2,13,"-","-",{"v":16,"d":"      16"},{"v":2,"d":"      2"},{"v":14,"d":"      14"},"-","-",4,4,6,1,1,5,10,8,10,14,1,2,16,1,16,5,1,0,16,11,16,13]
["高萩市",null,"214-00",{"v":19365,"d":"19,365"},{"v":15619,"d":"15,619"},791,574,204,13,180,471,153,6,148,"-","-",{"v":17,"d":"      17"},{"v":10,"d":"      10"},{"v":7,"d":"      7"},"-",6,4,2,2,3,"-",14,17,13,16,15,15,0,17,7,17,0,5,3,13,8,17,16]
[null,"高萩町","214-01",{"v":2122,"d":"2,122"},807,229,179,48,2,27,172,62,2,60,"-","-",{"v":6,"d":"      6"},{"v":4,"d":"      4"},{"v":2,"d":"      2"},"-",4,2,"-","-","-","-",6,6,3,6,6,6,0,6,3,6,0,2,2,2,2,6,6]
[null,"松岡町","214-02",{"v":3235,"d":"3,235"},{"v":2045,"d":"2,045"},309,231,73,5,86,164,66,2,64,"-","-",{"v":4,"d":"      4"},{"v":2,"d":"      2"},{"v":2,"d":"      2"},"-",2,2,"-","-","-","-",3,4,4,3,3,3,0,4,2,4,0,2,1,4,2,4,4]
[null,"高岡村","214-03",{"v":13550,"d":"13,550"},{"v":12318,"d":"12,318"},247,159,82,6,64,131,23,2,22,"-","-",{"v":6,"d":"      6"},{"v":3,"d":"      3"},{"v":3,"d":"      3"},"-","-","-",2,2,2,"-",4,6,5,6,5,5,0,6,2,6,0,1,0,6,4,6,5]
[null,"黒前村２－２","214-04",458,451,6,5,1,0,3,4,2,"-",2,"-","-",{"v":1,"d":"      1"},{"v":1,"d":"      1"},"-","-","-","-","-","-",1,"-",1,1,1,1,1,1,0,1,0,1,0,0,0,1,0,1,1]
["北茨城市",null,"215-00",{"v":18655,"d":"18,655"},{"v":12755,"d":"12,755"},1480,1157,299,24,255,1035,398,12,392,2,8,{"v":44,"d":"      44"},{"v":30,"d":"      30"},{"v":11,"d":"      11"},{"v":3,"d":"      3"},19,17,2,5,1,"-",24,33,25,26,29,23,5,44,8,43,9,20,10,35,21,42,37]
[null,"南中郷村","215-01",{"v":2775,"d":"2,775"},{"v":1235,"d":"1,235"},428,329,92,7,45,271,113,7,112,"-",1,{"v":8,"d":"      8"},{"v":5,"d":"      5"},{"v":3,"d":"      3"},"-",5,3,"-","-","-","-",6,8,5,8,7,7,0,8,2,8,0,5,4,8,8,8,8]
[null,"磯原町","215-02",{"v":2746,"d":"2,746"},{"v":1507,"d":"1,507"},309,237,67,5,68,219,83,2,83,1,1,{"v":9,"d":"      9"},{"v":6,"d":"      6"},{"v":2,"d":"      2"},{"v":1,"d":"      1"},3,3,2,1,"-","-",5,6,8,8,7,8,0,9,0,8,4,3,1,9,4,9,7]
[null,"華川村","215-03",{"v":5075,"d":"5,075"},{"v":3994,"d":"3,994"},222,171,45,6,48,163,62,2,58,1,5,{"v":8,"d":"      8"},{"v":7,"d":"      7"},{"v":1,"d":"      1"},"-",3,3,"-",2,"-","-",2,6,3,2,5,2,0,8,3,8,1,4,0,7,3,8,8]
[null,"関南村","215-04",{"v":1426,"d":"1,426"},789,206,164,40,2,31,132,46,"-",45,"-",1,{"v":5,"d":"      5"},{"v":4,"d":"      4"},{"v":1,"d":"      1"},"-","-",4,"-",1,"-","-",3,5,3,2,4,2,0,5,0,5,1,3,3,4,2,5,5]
[null,"大津町","215-05",388,95,24,18,6,0,"X",18,8,"-",8,"-","-",{"v":4,"d":"      4"},{"v":3,"d":"      3"},"-",{"v":1,"d":"      1"},4,"-","-","-","-","-",2,2,1,1,1,1,2,4,0,4,0,0,0,0,0,3,2]
[null,"平潟町","215-06",137,60,5,2,3,0,"X",3,"-","-","-","-","-",{"v":3,"d":"      3"},"-",{"v":2,"d":"      2"},{"v":1,"d":"      1"},3,"-","-","-","-","-",0,0,0,0,0,0,3,3,0,3,0,1,0,0,0,2,0]
[null,"関本村","215-07",{"v":6108,"d":"6,108"},{"v":5075,"d":"5,075"},286,236,46,4,40,229,86,1,86,"-","-",{"v":7,"d":"      7"},{"v":5,"d":"      5"},{"v":2,"d":"      2"},"-",1,4,"-",1,1,"-",6,6,5,5,5,3,0,7,3,7,3,4,2,7,4,7,7]
["笠間市",null,"216-00",{"v":24027,"d":"24,027"},{"v":10366,"d":"10,366"},5259,2768,1506,985,769,3141,536,33,506,11,8,{"v":198,"d":"      198"},{"v":39,"d":"      39"},{"v":122,"d":"      122"},{"v":37,"d":"      37"},44,45,47,43,15,4,58,113,118,144,144,74,14,194,14,184,16,93,56,176,62,187,175]
[null,"笠間町","216-01",{"v":1274,"d":"1,274"},367,248,145,91,12,46,146,31,"-",31,1,"-",{"v":24,"d":"      24"},{"v":4,"d":"      4"},{"v":12,"d":"      12"},{"v":8,"d":"      8"},17,4,"-",1,1,1,2,1,1,15,9,2,3,22,2,14,2,3,3,24,7,17,17]
[null,"大池田村","216-02",{"v":3225,"d":"3,225"},{"v":2082,"d":"2,082"},432,248,162,22,70,267,44,1,43,"-","-",{"v":13,"d":"      13"},{"v":2,"d":"      2"},{"v":10,"d":"      10"},{"v":1,"d":"      1"},"-","-",4,6,3,"-",0,2,1,3,8,0,5,13,0,13,0,10,0,13,0,13,13]
[null,"北山内村","216-03",{"v":3315,"d":"3,315"},{"v":1990,"d":"1,990"},443,309,112,22,71,312,64,3,62,"-","-",{"v":17,"d":"      17"},{"v":8,"d":"      8"},{"v":9,"d":"      9"},"-","-",5,5,4,3,"-",1,6,6,13,14,5,0,17,2,17,2,10,5,17,2,17,17]
[null,"南山内村","216-04",{"v":2941,"d":"2,941"},{"v":1563,"d":"1,563"},564,378,132,54,85,387,66,8,61,4,1,{"v":17,"d":"      17"},{"v":8,"d":"      8"},{"v":9,"d":"      9"},"-","-",1,7,6,1,2,6,13,11,12,10,1,2,17,6,17,4,10,8,17,11,17,17]
[null,"西山内村","216-05",{"v":2408,"d":"2,408"},{"v":1306,"d":"1,306"},464,251,189,24,92,221,43,1,42,2,1,{"v":20,"d":"      20"},{"v":4,"d":"      4"},{"v":15,"d":"      15"},{"v":1,"d":"      1"},3,8,5,4,"-","-",4,15,13,16,17,4,0,20,0,20,2,10,4,20,8,20,20]
[null,"宍戸町","216-06",{"v":2550,"d":"2,550"},653,673,321,192,160,104,359,56,4,53,"-","-",{"v":28,"d":"      28"},{"v":1,"d":"      1"},{"v":22,"d":"      22"},{"v":5,"d":"      5"},13,12,2,1,"-","-",17,23,21,19,17,11,2,27,0,25,0,11,11,21,4,25,23]
[null,"北川根村","216-07",{"v":1298,"d":"1,298"},261,398,168,115,115,40,281,29,3,25,"-",2,{"v":15,"d":"      15"},{"v":1,"d":"      1"},{"v":9,"d":"      9"},{"v":5,"d":"      5"},1,3,8,3,"-","-",6,11,13,10,12,4,1,15,0,15,0,7,5,15,13,15,14]
[null,"大原村","216-08",{"v":1751,"d":"1,751"},580,426,259,94,73,69,242,33,2,31,"-",1,{"v":16,"d":"      16"},{"v":4,"d":"      4"},{"v":10,"d":"      10"},{"v":2,"d":"      2"},1,2,10,3,"-","-",11,16,16,16,16,16,0,16,0,16,0,8,8,16,10,16,16]
[null,"鯉渕村２－２","216-09",272,41,78,33,20,25,13,43,4,"-",3,"-",1,{"v":3,"d":"      3"},"-",{"v":3,"d":"      3"},"-",3,"-","-","-","-","-",2,1,3,3,3,2,0,3,0,3,0,0,0,3,1,3,3]
[null,"岩間町","216-10",{"v":3255,"d":"3,255"},{"v":1201,"d":"1,201"},841,412,128,301,91,540,120,8,113,4,1,{"v":35,"d":"      35"},{"v":7,"d":"      7"},{"v":16,"d":"      16"},{"v":12,"d":"      12"},6,8,5,10,5,1,5,16,26,29,31,24,1,34,2,34,5,18,9,23,3,34,25]
[null,"南川根村","216-11",{"v":1738,"d":"1,738"},322,692,244,271,177,88,343,46,3,42,"-",1,{"v":10,"d":"      10"},"-",{"v":7,"d":"      7"},{"v":3,"d":"      3"},"-",2,1,5,2,"-",4,9,7,8,7,5,0,10,2,10,1,6,3,7,3,10,10]
["取手市",null,"217-00",{"v":6996,"d":"6,996"},211,2314,2138,166,10,169,1120,339,13,332,1,10,{"v":69,"d":"      69"},{"v":55,"d":"      55"},{"v":9,"d":"      9"},{"v":5,"d":"      5"},25,12,14,11,6,1,21,33,29,37,58,16,7,66,9,37,1,1,0,48,8,65,12]
[null,"取手町","217-01",{"v":1076,"d":"1,076"},20,125,114,10,1,6,72,32,2,30,"-",3,{"v":8,"d":"      8"},{"v":5,"d":"      5"},"-",{"v":3,"d":"      3"},7,1,"-","-","-","-",2,3,3,7,8,3,0,6,0,7,0,0,0,4,0,5,0]
[null,"小文間村","217-02",587,46,196,176,19,1,6,95,31,"-",31,"-","-",{"v":6,"d":"      6"},{"v":5,"d":"      5"},{"v":1,"d":"      1"},"-","-",4,1,1,"-","-",0,0,0,1,5,1,1,6,0,6,0,0,0,4,0,6,0]
[null,"寺原村","217-03",631,24,207,187,18,2,16,103,36,2,35,"-",2,{"v":9,"d":"      9"},{"v":8,"d":"      8"},{"v":1,"d":"      1"},"-",5,"-",1,2,1,"-",4,4,5,7,5,3,2,9,0,9,0,0,0,6,0,9,0]
[null,"高井村２－２","217-04",503,55,133,101,30,2,43,76,31,1,31,"-",1,{"v":5,"d":"      5"},{"v":2,"d":"      2"},{"v":3,"d":"      3"},"-",1,2,"-",1,1,"-",2,3,1,5,5,2,0,5,0,5,0,0,0,4,0,5,0]
[null,"稲戸井村","217-05",916,51,57,29,26,2,47,33,8,"-",6,"-",2,{"v":6,"d":"      6"},{"v":1,"d":"      1"},{"v":4,"d":"      4"},{"v":1,"d":"      1"},5,1,"-","-","-","-",1,1,1,3,6,2,0,6,0,6,0,0,0,5,0,6,0]
[null,"相馬町","217-06",585,2,193,189,4,0,4,94,31,1,31,"-","-",{"v":6,"d":"      6"},{"v":5,"d":"      5"},"-",{"v":1,"d":"      1"},2,1,1,2,"-","-",2,4,3,1,4,0,0,5,0,0,0,0,0,4,0,5,0]
[null,"山王村","217-07",779,10,380,355,24,1,17,161,45,2,44,"-","-",{"v":7,"d":"      7"},{"v":7,"d":"      7"},"-","-",1,1,5,"-","-","-",4,5,3,2,6,2,1,7,1,3,1,0,0,7,2,7,2]
[null,"久賀村２－２","217-08",580,1,322,307,14,1,16,170,50,3,49,"-","-",{"v":6,"d":"      6"},{"v":6,"d":"      6"},"-","-",1,1,3,"-",1,"-",0,3,2,1,5,0,1,6,1,0,0,0,0,4,0,6,1]
[null,"高須村２－１","217-09",605,1,292,283,9,0,4,115,25,2,25,1,"-",{"v":6,"d":"      6"},{"v":6,"d":"      6"},"-","-",2,"-",1,2,"-",1,2,4,4,5,6,1,0,6,3,0,0,0,0,5,4,6,5]
[null,"六郷村","217-10",734,1,409,397,12,0,10,201,50,"-",50,"-",2,{"v":10,"d":"      10"},{"v":10,"d":"      10"},"-","-",1,1,2,3,3,"-",4,6,7,5,8,2,2,10,4,1,0,1,0,5,2,10,4]
["牛久市",null,"219-00",{"v":5888,"d":"5,888"},{"v":1110,"d":"1,110"},1507,556,914,37,395,531,97,4,94,5,4,{"v":32,"d":"      32"},{"v":1,"d":"      1"},{"v":20,"d":"      20"},{"v":11,"d":"      11"},14,8,8,1,1,"-",2,0,1,29,31,21,0,30,0,29,0,1,0,19,0,28,0]
[null,"牛久町","219-01",{"v":1135,"d":"1,135"},173,166,95,67,4,84,92,11,"-",11,"-","-",{"v":7,"d":"      7"},{"v":1,"d":"      1"},{"v":3,"d":"      3"},{"v":3,"d":"      3"},5,1,1,"-","-","-",0,0,0,6,6,4,0,7,0,6,0,0,0,1,0,6,0]
[null,"岡田村（牛久市）","219-02",{"v":2617,"d":"2,617"},464,606,187,410,9,150,255,53,3,51,1,2,{"v":14,"d":"      14"},"-",{"v":9,"d":"      9"},{"v":5,"d":"      5"},8,4,1,1,"-","-",1,0,1,12,14,10,0,12,0,12,0,0,0,10,0,12,0]
[null,"奥野村","219-03",{"v":2136,"d":"2,136"},473,735,274,437,24,161,184,33,1,32,4,2,{"v":11,"d":"      11"},"-",{"v":8,"d":"      8"},{"v":3,"d":"      3"},1,3,6,"-",1,"-",1,0,0,11,11,7,0,11,0,11,0,1,0,8,0,10,0]
["つくば市",null,"220-00",{"v":28407,"d":"28,407"},{"v":4217,"d":"4,217"},11054,4764,6070,220,{"v":1322,"d":"1,322"},3913,723,53,681,21,33,{"v":250,"d":"      250"},{"v":36,"d":"      36"},{"v":126,"d":"      126"},{"v":88,"d":"      88"},25,77,91,45,8,4,148,157,147,162,210,55,8,249,41,222,24,47,13,157,38,239,69]
[null,"栄村","220-01",854,38,410,263,138,9,70,148,20,1,18,1,3,{"v":10,"d":"      10"},{"v":3,"d":"      3"},{"v":7,"d":"      7"},"-",1,7,1,1,"-","-",10,10,5,5,10,3,0,10,0,8,2,4,2,6,2,10,2]
[null,"九重村","220-02",{"v":1949,"d":"1,949"},144,503,207,271,25,139,179,36,3,33,2,4,{"v":15,"d":"      15"},{"v":1,"d":"      1"},{"v":8,"d":"      8"},{"v":6,"d":"      6"},5,8,2,"-","-","-",14,13,8,10,14,1,1,14,2,12,2,6,1,3,2,12,6]
[null,"栗原村２－１","220-03",711,91,311,139,164,8,46,103,16,"-",15,"-",1,{"v":5,"d":"      5"},{"v":1,"d":"      1"},{"v":3,"d":"      3"},{"v":1,"d":"      1"},"-",2,1,1,1,"-",5,4,1,3,5,1,0,5,0,5,0,3,1,4,0,5,1]
[null,"島名村","220-04",{"v":1605,"d":"1,605"},267,581,235,315,31,78,185,31,2,31,1,"-",{"v":18,"d":"      18"},"-",{"v":14,"d":"      14"},{"v":4,"d":"      4"},1,4,6,7,"-","-",4,8,4,9,14,3,3,18,6,18,6,0,0,16,8,18,10]
[null,"葛城村","220-05",{"v":1416,"d":"1,416"},217,204,64,134,6,75,113,22,4,20,1,"-",{"v":14,"d":"      14"},"-",{"v":6,"d":"      6"},{"v":8,"d":"      8"},1,3,7,1,1,1,1,4,6,6,12,1,1,14,8,10,3,0,0,12,2,14,6]
[null,"小野川村","220-06",{"v":2500,"d":"2,500"},369,573,167,400,6,140,220,42,4,38,1,1,{"v":21,"d":"      21"},{"v":2,"d":"      2"},{"v":9,"d":"      9"},{"v":10,"d":"      10"},3,7,5,4,1,1,19,14,21,21,15,0,0,21,0,20,0,0,0,0,0,19,0]
[null,"谷田部町","220-07",{"v":1712,"d":"1,712"},150,608,240,351,17,73,197,29,1,26,"-",2,{"v":20,"d":"      20"},{"v":2,"d":"      2"},{"v":11,"d":"      11"},{"v":7,"d":"      7"},3,7,5,5,"-","-",2,3,12,6,17,5,1,20,0,13,0,0,0,11,1,17,1]
[null,"真瀬村２－１","220-08",801,64,393,209,169,15,51,179,26,"-",26,1,1,{"v":5,"d":"      5"},{"v":1,"d":"      1"},{"v":3,"d":"      3"},{"v":1,"d":"      1"},"-",1,1,1,1,1,0,3,2,1,4,1,1,5,2,5,0,0,0,4,2,5,2]
[null,"上郷村","220-09",{"v":1301,"d":"1,301"},138,603,259,334,10,37,263,28,7,20,1,2,{"v":21,"d":"      21"},{"v":2,"d":"      2"},{"v":15,"d":"      15"},{"v":4,"d":"      4"},2,5,11,2,1,"-",15,19,20,20,21,11,0,21,0,21,0,1,0,14,0,21,0]
[null,"旭村２－１","220-10",{"v":1632,"d":"1,632"},153,793,199,582,12,28,328,43,2,42,4,4,{"v":23,"d":"      23"},"-",{"v":5,"d":"      5"},{"v":18,"d":"      18"},"-",5,10,8,"-","-",10,14,12,13,16,6,1,23,11,22,8,3,1,14,8,22,13]
[null,"吉沼村２－２","220-11",286,22,183,39,144,0,4,69,6,"-",4,"-",2,{"v":2,"d":"      2"},"-","-",{"v":2,"d":"      2"},"-","-",2,"-","-","-",2,2,2,2,2,1,0,2,0,2,0,0,0,2,0,2,0]
[null,"筑波町","220-12",{"v":1488,"d":"1,488"},683,244,197,45,2,35,88,37,1,37,"-","-",{"v":4,"d":"      4"},{"v":3,"d":"      3"},"-",{"v":1,"d":"      1"},1,2,1,"-","-","-",3,4,1,1,4,2,0,4,0,4,0,1,0,4,0,3,1]
[null,"北条町","220-13",676,112,329,258,69,2,18,128,43,2,41,"-","-",{"v":8,"d":"      8"},{"v":6,"d":"      6"},{"v":2,"d":"      2"},"-",2,2,2,1,1,"-",4,7,1,4,8,0,0,8,0,8,0,3,0,7,0,8,1]
[null,"小田村","220-14",{"v":1804,"d":"1,804"},646,501,398,90,13,57,173,87,7,85,5,3,{"v":9,"d":"      9"},{"v":6,"d":"      6"},{"v":3,"d":"      3"},"-","-",3,5,1,"-","-",6,8,5,5,8,4,0,9,1,9,1,7,3,7,1,9,3]
[null,"田井村","220-15",{"v":1026,"d":"1,026"},279,324,219,105,0,56,114,61,2,60,"-",2,{"v":9,"d":"      9"},{"v":3,"d":"      3"},{"v":6,"d":"      6"},"-",1,2,4,2,"-","-",6,8,6,5,7,0,0,9,0,9,0,3,1,4,1,9,1]
[null,"作岡村","220-16",{"v":1446,"d":"1,446"},193,680,233,445,2,45,219,18,2,15,1,"-",{"v":8,"d":"      8"},{"v":1,"d":"      1"},{"v":6,"d":"      6"},{"v":1,"d":"      1"},"-",3,4,1,"-","-",8,5,3,6,6,2,0,8,2,8,1,3,2,1,1,8,7]
[null,"田水山村","220-17",712,77,301,174,123,4,44,105,10,3,8,"-",1,{"v":4,"d":"      4"},{"v":2,"d":"      2"},{"v":2,"d":"      2"},"-","-",3,1,"-","-","-",1,2,1,3,3,0,0,4,1,3,0,3,1,4,1,4,3]
[null,"菅間村","220-18",666,76,383,268,115,0,21,133,14,"-",14,1,1,{"v":7,"d":"      7"},{"v":2,"d":"      2"},{"v":3,"d":"      3"},{"v":2,"d":"      2"},1,2,1,2,"-",1,6,1,3,3,3,1,0,7,4,6,0,1,0,4,3,7,6]
[null,"栗原村２－２","220-19",99,"-",46,15,31,0,22,15,3,"-",3,"-","-",{"v":1,"d":"      1"},"-",{"v":1,"d":"      1"},"-","-","-",1,"-","-","-",0,0,0,1,1,0,0,1,0,0,0,0,0,0,0,1,1]
[null,"大穂村","220-20",{"v":1810,"d":"1,810"},112,1155,391,741,23,81,298,24,2,23,"-",1,{"v":7,"d":"      7"},{"v":1,"d":"      1"},{"v":3,"d":"      3"},{"v":3,"d":"      3"},"-",2,4,1,"-","-",3,4,3,6,6,1,0,7,2,7,0,3,1,7,4,7,3]
[null,"吉沼村２－１","220-21",{"v":1201,"d":"1,201"},49,756,218,526,12,31,257,23,1,22,1,1,{"v":13,"d":"      13"},"-",{"v":6,"d":"      6"},{"v":7,"d":"      7"},2,2,6,1,2,"-",11,13,13,13,13,7,0,13,0,7,0,1,0,11,0,13,0]
[null,"旭村２－２","220-22",313,37,143,38,94,11,29,62,3,2,2,"-","-",{"v":5,"d":"      5"},"-",{"v":2,"d":"      2"},{"v":3,"d":"      3"},"-",2,3,"-","-","-",2,3,4,3,5,3,0,5,2,5,1,2,0,5,2,5,2]
[null,"茎崎町","220-23",{"v":2399,"d":"2,399"},300,1030,334,684,12,141,337,101,7,98,1,4,{"v":21,"d":"      21"},"-",{"v":11,"d":"      11"},{"v":10,"d":"      10"},2,5,8,6,"-","-",16,8,14,16,16,2,0,21,0,20,0,3,0,17,0,20,0]
["ひたちなか市",null,"221-00",{"v":9904,"d":"9,904"},620,2671,1182,1477,12,245,1262,635,514,334,6,4,{"v":35,"d":"      35"},{"v":9,"d":"      9"},{"v":15,"d":"      15"},{"v":11,"d":"      11"},25,6,4,"-","-","-",12,16,23,35,24,8,0,35,0,28,1,12,0,35,0,35,0]
[null,"那珂湊町","221-01",{"v":1305,"d":"1,305"},65,448,219,227,2,31,155,99,89,49,1,1,{"v":8,"d":"      8"},{"v":2,"d":"      2"},{"v":3,"d":"      3"},{"v":3,"d":"      3"},4,2,2,"-","-","-",3,3,4,8,3,0,0,8,0,6,0,4,0,8,0,8,0]
[null,"平磯町","221-02",493,23,210,26,184,0,14,24,16,16,3,"-","-",{"v":4,"d":"      4"},"-","-",{"v":4,"d":"      4"},4,"-","-","-","-","-",0,1,0,4,2,0,0,4,0,2,0,1,0,4,0,4,0]
[null,"前渡村２－２","221-03",759,20,144,25,119,0,14,113,105,103,48,"-","-",{"v":2,"d":"      2"},"-","-",{"v":2,"d":"      2"},"-",2,"-","-","-","-",2,0,2,2,0,0,0,2,0,2,0,0,0,2,0,2,0]
[null,"勝田町","221-04",{"v":3527,"d":"3,527"},154,940,570,365,5,72,505,169,103,106,1,2,{"v":14,"d":"      14"},{"v":7,"d":"      7"},{"v":6,"d":"      6"},{"v":1,"d":"      1"},11,2,1,"-","-","-",0,5,10,14,12,1,0,14,0,11,0,3,0,14,0,14,0]
[null,"佐野村","221-05",{"v":1693,"d":"1,693"},160,424,144,278,2,70,225,87,58,53,3,"-",{"v":4,"d":"      4"},"-",{"v":3,"d":"      3"},{"v":1,"d":"      1"},4,"-","-","-","-","-",4,4,4,4,4,4,0,4,0,4,1,2,0,4,0,4,0]
[null,"前渡村２－１","221-06",{"v":2127,"d":"2,127"},198,505,198,304,3,44,240,159,145,75,1,1,{"v":3,"d":"      3"},"-",{"v":3,"d":"      3"},"-",2,"-",1,"-","-","-",3,3,3,3,3,3,0,3,0,3,0,2,0,3,0,3,0]
["鹿嶋市",null,"222-00",{"v":10597,"d":"10,597"},{"v":1473,"d":"1,473"},2327,1229,1092,6,326,782,220,4,215,"-",2,{"v":56,"d":"      56"},{"v":21,"d":"      21"},{"v":16,"d":"      16"},{"v":19,"d":"      19"},21,20,12,3,"-","-",32,39,42,50,49,16,2,56,8,44,2,23,5,20,2,50,37]
[null,"大同村","222-01",{"v":2866,"d":"2,866"},642,933,308,620,5,114,270,71,1,69,"-",2,{"v":18,"d":"      18"},{"v":3,"d":"      3"},{"v":6,"d":"      6"},{"v":9,"d":"      9"},3,7,6,2,"-","-",18,18,18,18,18,0,0,18,1,16,1,9,1,10,0,16,15]
[null,"中野村","222-02",{"v":1211,"d":"1,211"},234,354,188,166,0,73,116,33,1,32,"-","-",{"v":6,"d":"      6"},{"v":2,"d":"      2"},{"v":2,"d":"      2"},{"v":2,"d":"      2"},2,3,1,"-","-","-",4,4,4,4,4,0,1,6,4,6,1,2,1,4,2,6,5]
[null,"波野村","222-03",661,85,191,73,118,0,26,87,12,"-",12,"-","-",{"v":6,"d":"      6"},{"v":1,"d":"      1"},{"v":3,"d":"      3"},{"v":2,"d":"      2"},2,3,1,"-","-","-",1,3,1,3,5,1,1,6,2,6,0,2,1,1,0,6,2]
[null,"豊津村","222-04",323,"-",177,168,9,0,14,84,26,2,24,"-","-",{"v":3,"d":"      3"},{"v":3,"d":"      3"},"-","-","-",1,2,"-","-","-",0,2,1,3,3,0,0,3,1,0,0,3,0,3,0,3,2]
[null,"鹿島町","222-05",909,148,90,59,31,0,15,40,17,"-",17,"-","-",{"v":7,"d":"      7"},{"v":1,"d":"      1"},{"v":2,"d":"      2"},{"v":4,"d":"      4"},5,2,"-","-","-","-",3,2,6,7,5,5,0,7,0,6,0,2,0,0,0,3,3]
[null,"高松村","222-06",{"v":2292,"d":"2,292"},104,291,238,53,0,53,112,36,"-",36,"-","-",{"v":11,"d":"      11"},{"v":9,"d":"      9"},"-",{"v":2,"d":"      2"},7,2,1,1,"-","-",5,8,11,11,9,10,0,11,0,5,0,2,1,0,0,11,10]
[null,"豊郷村","222-07",{"v":1034,"d":"1,034"},260,291,195,95,1,31,73,25,"-",25,"-","-",{"v":5,"d":"      5"},{"v":2,"d":"      2"},{"v":3,"d":"      3"},"-",2,2,1,"-","-","-",1,2,1,4,5,0,0,5,0,5,0,3,1,2,0,5,0]
["潮来市",null,"223-00",{"v":7141,"d":"7,141"},844,2175,1872,287,16,169,886,174,11,169,"-",1,{"v":44,"d":"      44"},{"v":35,"d":"      35"},{"v":8,"d":"      8"},{"v":1,"d":"      1"},16,15,11,1,1,"-",27,19,30,28,34,20,3,44,8,26,1,23,3,37,9,42,11]
[null,"潮来町","223-01",{"v":1498,"d":"1,498"},36,362,356,6,0,15,147,33,4,32,"-","-",{"v":11,"d":"      11"},{"v":9,"d":"      9"},{"v":1,"d":"      1"},{"v":1,"d":"      1"},7,"-",3,"-",1,"-",6,2,5,6,7,3,1,11,0,2,0,4,1,10,0,9,1]
[null,"津知村","223-02",546,88,131,111,20,0,20,61,17,1,17,"-","-",{"v":5,"d":"      5"},{"v":4,"d":"      4"},{"v":1,"d":"      1"},"-",3,2,"-","-","-","-",4,5,4,5,4,3,0,5,0,4,0,3,0,0,0,5,0]
[null,"延方村","223-03",{"v":1503,"d":"1,503"},85,797,781,15,1,32,293,55,3,53,"-","-",{"v":13,"d":"      13"},{"v":13,"d":"      13"},"-","-",3,6,3,1,"-","-",4,2,8,7,9,7,2,13,1,5,0,8,0,12,2,13,4]
[null,"大生原村","223-04",860,199,293,195,95,3,21,137,24,1,23,"-",1,{"v":4,"d":"      4"},{"v":2,"d":"      2"},{"v":2,"d":"      2"},"-",1,2,1,"-","-","-",4,4,4,4,4,3,0,4,4,4,0,3,0,4,0,4,3]
[null,"八代村","223-05",818,191,259,187,67,5,49,148,22,2,21,"-","-",{"v":6,"d":"      6"},{"v":4,"d":"      4"},{"v":2,"d":"      2"},"-",1,1,4,"-","-","-",4,3,4,2,5,1,0,6,1,6,0,2,1,6,5,6,2]
[null,"香澄村","223-06",{"v":1042,"d":"1,042"},245,333,242,84,7,32,100,23,"-",23,"-","-",{"v":5,"d":"      5"},{"v":3,"d":"      3"},{"v":2,"d":"      2"},"-",1,4,"-","-","-","-",5,3,5,4,5,3,0,5,2,5,1,3,1,5,2,5,1]
["守谷市",null,"224-00",{"v":3563,"d":"3,563"},224,758,428,319,11,178,220,65,5,64,1,"-",{"v":24,"d":"      24"},{"v":5,"d":"      5"},{"v":11,"d":"      11"},{"v":8,"d":"      8"},10,8,4,2,"-","-",4,7,4,15,5,0,3,24,0,24,2,1,0,15,1,23,3]
[null,"守谷町","224-01",864,106,115,68,44,3,57,30,8,"-",8,"-","-",{"v":5,"d":"      5"},{"v":1,"d":"      1"},{"v":2,"d":"      2"},{"v":2,"d":"      2"},4,"-","-",1,"-","-",0,1,0,1,1,0,2,5,0,5,0,1,0,1,0,4,0]
[null,"大野村","224-02",763,29,177,77,98,2,28,40,23,3,23,"-","-",{"v":7,"d":"      7"},{"v":1,"d":"      1"},{"v":4,"d":"      4"},{"v":2,"d":"      2"},1,5,1,"-","-","-",1,2,0,5,1,0,1,7,0,7,0,0,0,6,0,7,0]
[null,"大井沢村","224-03",{"v":1191,"d":"1,191"},51,334,211,118,5,62,88,19,1,19,"-","-",{"v":5,"d":"      5"},{"v":1,"d":"      1"},{"v":1,"d":"      1"},{"v":3,"d":"      3"},2,2,1,"-","-","-",2,2,1,4,1,0,0,5,0,5,0,0,0,3,0,5,2]
[null,"高野村","224-04",673,28,104,49,54,1,20,45,12,1,11,1,"-",{"v":6,"d":"      6"},{"v":1,"d":"      1"},{"v":4,"d":"      4"},{"v":1,"d":"      1"},3,1,2,"-","-","-",1,2,3,4,2,0,0,6,0,6,1,0,0,4,1,6,1]
[null,"高井村２－１","224-05",72,10,28,23,5,0,10,17,3,"-",3,"-","-",{"v":1,"d":"      1"},{"v":1,"d":"      1"},"-","-","-","-","-",1,"-","-",0,0,0,1,0,0,0,1,0,1,1,0,0,1,0,1,0]
["常陸大宮市",null,"225-00",{"v":34838,"d":"34,838"},{"v":21588,"d":"21,588"},4466,2099,2166,201,{"v":1376,"d":"1,376"},2288,255,33,237,6,5,{"v":99,"d":"      99"},{"v":8,"d":"      8"},{"v":66,"d":"      66"},{"v":25,"d":"      25"},5,24,42,21,6,1,43,65,67,74,77,48,8,99,9,99,2,56,23,97,35,85,63]
[null,"大宮町","225-01",527,55,160,66,86,8,38,57,6,"-",5,1,"-",{"v":2,"d":"      2"},"-",{"v":1,"d":"      1"},{"v":1,"d":"      1"},2,"-","-","-","-","-",0,2,2,2,2,0,0,2,0,2,0,2,1,2,0,2,2]
[null,"大賀村","225-02",{"v":1141,"d":"1,141"},293,348,152,176,20,90,196,24,5,22,"-","-",{"v":4,"d":"      4"},"-",{"v":4,"d":"      4"},"-","-",1,2,1,"-","-",3,3,4,4,4,3,0,4,0,4,0,4,2,4,1,4,3]
[null,"世喜村２－１","225-03",932,353,271,185,76,10,54,197,14,1,13,"-","-",{"v":4,"d":"      4"},{"v":2,"d":"      2"},{"v":2,"d":"      2"},"-","-","-",1,3,"-","-",2,4,4,4,4,4,0,4,0,4,0,2,0,4,4,4,4]
[null,"上野村（常陸大宮市）","225-04",759,61,347,200,138,9,36,217,17,3,15,"-",1,{"v":5,"d":"      5"},{"v":2,"d":"      2"},{"v":2,"d":"      2"},{"v":1,"d":"      1"},1,"-",3,1,"-","-",2,5,3,5,3,2,0,5,0,5,0,2,1,5,2,5,5]
[null,"静村２－１","225-05",869,274,266,134,126,6,38,144,10,5,7,"-","-",{"v":3,"d":"      3"},"-",{"v":3,"d":"      3"},"-","-",3,"-","-","-","-",2,3,2,3,3,2,0,3,0,3,0,3,3,3,1,3,3]
[null,"大場村（常陸大宮市）","225-06",{"v":1712,"d":"1,712"},579,360,182,162,16,95,139,6,"-",6,"-","-",{"v":3,"d":"      3"},{"v":1,"d":"      1"},{"v":1,"d":"      1"},{"v":1,"d":"      1"},"-","-",3,"-","-","-",1,3,3,3,3,3,0,3,0,3,0,3,3,3,3,3,3]
[null,"塩田村２－２","225-07",964,544,129,80,44,5,41,83,9,1,8,"-","-",{"v":3,"d":"      3"},"-",{"v":3,"d":"      3"},"-","-","-",2,1,"-","-",0,2,3,3,2,1,0,3,0,3,0,3,3,3,3,3,3]
[null,"玉川村（常陸大宮市）","225-08",{"v":1366,"d":"1,366"},600,313,176,131,6,97,130,14,1,13,"-","-",{"v":3,"d":"      3"},"-",{"v":3,"d":"      3"},"-","-",2,1,"-","-","-",2,3,2,3,2,2,0,3,0,3,0,3,3,3,0,3,2]
[null,"伊勢畑村","225-09",{"v":2173,"d":"2,173"},{"v":1675,"d":"1,675"},141,50,77,14,58,48,3,2,3,"-","-",{"v":7,"d":"      7"},"-",{"v":5,"d":"      5"},{"v":2,"d":"      2"},"-",2,1,1,3,"-",6,4,5,4,5,4,0,7,0,7,0,0,0,7,0,7,4]
[null,"野口村","225-10",{"v":1035,"d":"1,035"},357,227,115,107,5,52,117,10,1,10,"-",1,{"v":5,"d":"      5"},"-",{"v":4,"d":"      4"},{"v":1,"d":"      1"},"-",1,2,2,"-","-",3,4,5,5,4,2,0,5,0,5,0,2,1,5,0,5,4]
[null,"長倉村","225-11",{"v":1236,"d":"1,236"},529,165,63,95,7,57,67,11,"-",11,"-","-",{"v":5,"d":"      5"},{"v":1,"d":"      1"},{"v":2,"d":"      2"},{"v":2,"d":"      2"},"-",1,2,2,"-","-",1,3,5,5,5,4,0,5,0,5,0,2,0,5,1,5,2]
[null,"山方町","225-12",{"v":2218,"d":"2,218"},{"v":1241,"d":"1,241"},337,116,203,18,106,142,18,2,17,2,"-",{"v":11,"d":"      11"},{"v":1,"d":"      1"},{"v":6,"d":"      6"},{"v":4,"d":"      4"},1,5,4,"-",1,"-",0,4,0,4,8,1,3,11,2,11,0,5,2,9,0,11,7]
[null,"世喜村２－２","225-13",757,411,107,59,44,4,38,62,4,"-",4,"-","-",{"v":4,"d":"      4"},"-",{"v":3,"d":"      3"},{"v":1,"d":"      1"},"-","-",2,2,"-","-",0,0,0,4,4,0,0,4,1,4,0,1,0,4,0,2,0]
[null,"塩田村２－１","225-14",872,437,148,94,51,3,23,74,20,1,20,"-","-",{"v":3,"d":"      3"},"-",{"v":3,"d":"      3"},"-","-","-","-",3,"-","-",0,2,0,2,1,0,1,3,2,3,0,3,2,3,1,3,2]
[null,"諸富野村２－１","225-15",{"v":2359,"d":"2,359"},{"v":1762,"d":"1,762"},107,45,56,6,77,65,10,3,8,"-","-",{"v":8,"d":"      8"},{"v":1,"d":"      1"},{"v":4,"d":"      4"},{"v":3,"d":"      3"},"-",4,3,1,"-","-",1,2,5,0,1,0,1,8,0,8,0,3,0,8,0,2,2]
[null,"下小川村２－１","225-16",{"v":2198,"d":"2,198"},{"v":1892,"d":"1,892"},58,9,41,8,31,38,3,1,2,1,"-",{"v":6,"d":"      6"},"-",{"v":1,"d":"      1"},{"v":5,"d":"      5"},1,2,2,"-","-",1,1,0,1,1,3,0,3,6,0,6,0,0,0,6,1,0,0]
[null,"桧沢村","225-17",{"v":3334,"d":"3,334"},{"v":2803,"d":"2,803"},118,28,73,17,119,56,10,"-",10,1,"-",{"v":3,"d":"      3"},"-","-",{"v":3,"d":"      3"},"-",1,1,1,"-","-",0,1,3,2,3,1,0,3,0,3,0,0,0,3,0,3,1]
[null,"嶐郷村","225-18",{"v":4718,"d":"4,718"},{"v":3944,"d":"3,944"},268,85,169,14,103,137,23,4,22,"-",2,{"v":3,"d":"      3"},"-",{"v":2,"d":"      2"},{"v":1,"d":"      1"},"-","-",3,"-","-","-",2,3,3,3,3,2,0,3,2,3,2,1,0,3,1,3,3]
[null,"小瀬村","225-19",{"v":2048,"d":"2,048"},992,317,145,162,10,110,172,23,"-",23,"-","-",{"v":9,"d":"      9"},"-",{"v":9,"d":"      9"},"-","-",2,6,"-",1,"-",9,9,9,9,9,9,0,9,1,9,0,9,1,9,9,9,8]
[null,"八里村","225-20",{"v":3620,"d":"3,620"},{"v":2786,"d":"2,786"},279,115,149,15,113,147,20,3,18,1,1,{"v":8,"d":"      8"},"-",{"v":8,"d":"      8"},"-","-","-",4,3,1,"-",8,8,8,8,8,8,0,8,1,8,0,8,1,8,8,8,5]
["那珂市",null,"226-00",{"v":9780,"d":"9,780"},{"v":1548,"d":"1,548"},4325,2081,2186,58,713,1821,186,40,164,2,2,{"v":57,"d":"      57"},{"v":3,"d":"      3"},{"v":47,"d":"      47"},{"v":7,"d":"      7"},10,19,20,8,"-","-",11,16,5,7,12,5,36,57,0,57,0,28,13,53,10,57,50]
[null,"菅谷町","226-01",{"v":1166,"d":"1,166"},141,396,171,216,9,69,187,22,3,22,"-","-",{"v":10,"d":"      10"},"-",{"v":10,"d":"      10"},"-",5,4,1,"-","-","-",0,1,0,0,0,0,9,10,0,10,0,3,0,9,4,10,9]
[null,"戸多村","226-02",{"v":1325,"d":"1,325"},299,457,221,229,7,75,225,16,1,15,"-","-",{"v":7,"d":"      7"},"-",{"v":7,"d":"      7"},"-","-","-",4,3,"-","-",0,1,0,1,0,0,6,7,0,7,0,3,3,7,1,7,7]
[null,"芳野村","226-03",{"v":1382,"d":"1,382"},128,765,356,403,6,108,311,29,4,27,"-","-",{"v":6,"d":"      6"},"-",{"v":6,"d":"      6"},"-","-",2,4,"-","-","-",0,1,0,0,0,0,5,6,0,6,0,5,4,5,0,6,5]
[null,"額田村","226-04",945,84,460,171,283,6,97,124,21,10,14,"-","-",{"v":6,"d":"      6"},"-",{"v":3,"d":"      3"},{"v":3,"d":"      3"},2,2,2,"-","-","-",0,1,0,2,3,1,3,6,0,6,0,3,1,6,2,6,5]
[null,"神崎村","226-05",{"v":1245,"d":"1,245"},217,472,187,280,5,165,239,26,12,18,"-",1,{"v":5,"d":"      5"},"-",{"v":3,"d":"      3"},{"v":2,"d":"      2"},"-",4,1,"-","-","-",2,1,1,0,2,1,2,5,0,5,0,3,2,5,0,5,4]
[null,"五台村","226-06",{"v":1332,"d":"1,332"},152,683,414,263,6,64,233,28,3,27,"-","-",{"v":6,"d":"      6"},{"v":1,"d":"      1"},{"v":5,"d":"      5"},"-",2,3,1,"-","-","-",0,1,0,1,0,0,5,6,0,6,0,5,1,5,2,6,6]
[null,"木崎村２－１","226-07",932,145,532,247,277,8,58,239,18,1,18,2,"-",{"v":8,"d":"      8"},"-",{"v":8,"d":"      8"},"-","-","-",4,4,"-","-",6,7,4,0,4,1,1,8,0,8,0,3,1,7,0,8,6]
[null,"瓜連町","226-08",804,189,283,166,110,7,40,141,15,1,14,"-","-",{"v":5,"d":"      5"},{"v":1,"d":"      1"},{"v":3,"d":"      3"},{"v":1,"d":"      1"},1,3,1,"-","-","-",1,1,0,1,1,1,4,5,0,5,0,2,1,5,1,5,4]
[null,"静村２－２","226-09",528,175,211,102,105,4,32,94,8,5,6,"-","-",{"v":2,"d":"      2"},"-",{"v":2,"d":"      2"},"-","-",1,1,"-","-","-",1,1,0,1,1,0,0,2,0,2,0,1,0,2,0,2,2]
[null,"木崎村２－２","226-10",121,18,66,46,20,0,3,28,3,"-",3,"-",1,{"v":2,"d":"      2"},{"v":1,"d":"      1"},"-",{"v":1,"d":"      1"},"-","-",1,1,"-","-",1,1,0,1,1,1,1,2,0,2,0,0,0,2,0,2,2]
["筑西市",null,"227-00",{"v":20535,"d":"20,535"},971,11575,8550,2607,418,451,3701,435,21,416,5,7,{"v":222,"d":"      222"},{"v":152,"d":"      152"},{"v":49,"d":"      49"},{"v":21,"d":"      21"},41,85,55,33,8,"-",138,130,143,130,175,90,15,222,22,125,15,12,4,145,26,221,132]
[null,"下館町","227-01",153,"-","…","…","…","…",1,12,1,"-",1,"-","-","-","-","-","-","-","-","-","-","-","-","…","…","…","…","…","…","…","…","…","…","…","…","…","…","…","…","…"]
[null,"伊讃村","227-02",{"v":1819,"d":"1,819"},39,867,713,135,19,50,268,24,2,22,"-","-",{"v":18,"d":"      18"},{"v":15,"d":"      15"},{"v":2,"d":"      2"},{"v":1,"d":"      1"},6,9,1,1,1,"-",10,5,7,5,12,3,3,18,4,3,1,0,0,15,3,17,9]
[null,"竹島村","227-03",615,7,351,337,14,0,5,112,25,1,24,"-","-",{"v":9,"d":"      9"},{"v":9,"d":"      9"},"-","-",5,1,2,1,"-","-",4,6,6,5,9,4,0,9,0,3,0,0,0,9,0,9,5]
[null,"養蚕村","227-04",841,14,370,319,51,0,7,162,38,1,36,"-",1,{"v":12,"d":"      12"},{"v":11,"d":"      11"},{"v":1,"d":"      1"},"-",5,4,2,1,"-","-",7,8,9,7,12,3,0,12,3,3,2,0,0,11,3,12,9]
[null,"五所村","227-05",{"v":1142,"d":"1,142"},19,687,568,118,1,10,205,22,4,20,"-","-",{"v":14,"d":"      14"},{"v":12,"d":"      12"},{"v":2,"d":"      2"},"-","-",7,4,3,"-","-",5,6,10,12,12,9,2,14,0,4,1,0,0,4,0,14,9]
[null,"中村","227-06",704,13,355,253,102,0,14,136,11,"-",11,"-","-",{"v":13,"d":"      13"},{"v":8,"d":"      8"},{"v":4,"d":"      4"},{"v":1,"d":"      1"},4,2,2,2,3,"-",7,7,8,6,10,5,2,13,4,5,2,2,0,11,4,13,11]
[null,"河間村","227-07",977,3,790,742,48,0,6,250,22,"-",21,1,"-",{"v":10,"d":"      10"},{"v":10,"d":"      10"},"-","-","-",1,2,7,"-","-",8,9,9,9,10,7,0,10,3,1,1,0,0,8,3,10,10]
[null,"大田村","227-08",{"v":1679,"d":"1,679"},106,816,501,253,62,36,235,27,1,27,1,"-",{"v":13,"d":"      13"},{"v":6,"d":"      6"},{"v":4,"d":"      4"},{"v":3,"d":"      3"},7,2,3,1,"-","-",12,11,11,10,11,6,0,13,1,9,1,0,0,6,2,13,12]
[null,"嘉田生崎村","227-09",693,9,417,344,71,2,11,81,9,1,7,"-",1,{"v":10,"d":"      10"},{"v":9,"d":"      9"},"-",{"v":1,"d":"      1"},"-",7,3,"-","-","-",5,8,8,10,9,8,0,10,0,1,1,3,2,8,0,10,9]
[null,"黒子村","227-10",925,43,555,353,186,16,46,176,28,1,28,"-",2,{"v":12,"d":"      12"},{"v":5,"d":"      5"},{"v":6,"d":"      6"},{"v":1,"d":"      1"},1,7,2,2,"-","-",12,11,8,3,9,6,0,12,0,8,0,0,0,3,0,12,6]
[null,"河内村","227-11",{"v":1338,"d":"1,338"},50,704,226,316,162,97,240,32,2,29,1,2,{"v":11,"d":"      11"},"-",{"v":7,"d":"      7"},{"v":4,"d":"      4"},"-",7,4,"-","-","-",11,9,10,2,11,2,0,11,0,8,0,0,0,2,0,11,4]
[null,"関本町","227-12",{"v":1188,"d":"1,188"},36,740,384,265,91,53,288,48,2,46,1,"-",{"v":16,"d":"      16"},{"v":4,"d":"      4"},{"v":7,"d":"      7"},{"v":5,"d":"      5"},"-",10,4,2,"-","-",16,14,14,16,15,10,0,16,0,8,3,0,0,12,1,16,16]
[null,"上野村（筑西市）","227-13",{"v":1293,"d":"1,293"},138,676,354,271,51,26,189,20,1,20,1,"-",{"v":8,"d":"      8"},{"v":2,"d":"      2"},{"v":5,"d":"      5"},{"v":1,"d":"      1"},"-",5,3,"-","-","-",4,2,5,3,5,1,0,8,0,8,0,0,0,0,0,8,3]
[null,"大村","227-14",{"v":1208,"d":"1,208"},72,636,408,227,1,9,125,13,1,12,"-","-",{"v":13,"d":"      13"},{"v":4,"d":"      4"},{"v":5,"d":"      5"},{"v":4,"d":"      4"},4,6,2,"-",1,"-",9,7,4,4,8,3,2,13,2,11,0,2,1,11,2,13,7]
[null,"村田村","227-15",974,75,582,518,61,3,15,133,21,"-",21,"-","-",{"v":9,"d":"      9"},{"v":9,"d":"      9"},"-","-",1,3,2,2,1,"-",6,4,4,5,6,2,0,9,2,9,0,1,0,6,4,9,7]
[null,"長讃村２－１","227-16",650,83,371,261,110,0,8,108,13,1,12,"-","-",{"v":8,"d":"      8"},{"v":6,"d":"      6"},{"v":2,"d":"      2"},"-",3,3,1,1,"-","-",2,1,3,3,4,2,1,8,0,7,0,0,0,7,0,8,3]
[null,"鳥羽村","227-17",709,24,456,354,101,1,15,148,14,"-",14,"-","-",{"v":7,"d":"      7"},{"v":5,"d":"      5"},{"v":2,"d":"      2"},"-","-",2,5,"-","-","-",2,0,1,2,4,0,3,7,0,6,0,1,0,2,0,7,5]
[null,"小栗村","227-18",987,145,562,479,74,9,13,185,22,"-",22,"-","-",{"v":11,"d":"      11"},{"v":10,"d":"      10"},{"v":1,"d":"      1"},"-","-",4,6,1,"-","-",5,5,9,9,8,7,0,11,1,8,1,0,0,10,1,11,3]
[null,"古里村","227-19",{"v":1178,"d":"1,178"},51,823,676,147,0,15,310,25,2,24,"-","-",{"v":15,"d":"      15"},{"v":14,"d":"      14"},{"v":1,"d":"      1"},"-",2,1,6,5,1,"-",9,9,9,9,12,6,1,15,1,12,1,3,1,12,2,15,3]
[null,"新治村（筑西市）","227-20",{"v":1462,"d":"1,462"},44,817,760,57,0,16,338,20,1,19,"-",1,{"v":13,"d":"      13"},{"v":13,"d":"      13"},"-","-",3,4,1,4,1,"-",4,8,8,10,8,6,1,13,1,11,1,0,0,8,1,13,1]
["坂東市",null,"228-00",{"v":12318,"d":"12,318"},{"v":1238,"d":"1,238"},5702,2831,2793,78,701,2353,352,14,342,2,7,{"v":128,"d":"      128"},{"v":22,"d":"      22"},{"v":59,"d":"      59"},{"v":47,"d":"      47"},12,53,35,24,4,"-",37,58,58,104,100,58,12,128,13,101,1,9,8,50,26,111,93]
[null,"岩井町","228-01",{"v":1055,"d":"1,055"},56,327,132,195,0,52,148,11,1,11,"-","-",{"v":11,"d":"      11"},"-",{"v":6,"d":"      6"},{"v":5,"d":"      5"},8,2,1,"-","-","-",0,4,10,9,8,8,0,11,0,10,0,1,1,0,0,9,6]
[null,"弓馬田村","228-02",{"v":1060,"d":"1,060"},136,426,198,227,1,40,136,12,"-",12,"-","-",{"v":9,"d":"      9"},"-",{"v":7,"d":"      7"},{"v":2,"d":"      2"},"-",8,1,"-","-","-",0,7,8,9,9,9,0,9,0,6,0,0,0,6,4,8,8]
[null,"飯島村","228-03",677,1,483,426,56,1,23,182,51,1,51,"-","-",{"v":8,"d":"      8"},{"v":7,"d":"      7"},{"v":1,"d":"      1"},"-","-","-",5,3,"-","-",3,3,5,8,7,1,0,8,0,1,0,0,0,5,5,8,4]
[null,"神大実村","228-04",{"v":1130,"d":"1,130"},148,531,214,312,5,107,156,28,2,27,1,"-",{"v":15,"d":"      15"},"-",{"v":8,"d":"      8"},{"v":7,"d":"      7"},1,8,5,1,"-","-",1,5,13,15,15,1,0,15,1,14,0,2,2,7,3,15,8]
[null,"七郷村","228-05",{"v":1432,"d":"1,432"},112,551,289,259,3,145,184,51,1,51,"-","-",{"v":10,"d":"      10"},{"v":2,"d":"      2"},{"v":3,"d":"      3"},{"v":5,"d":"      5"},2,6,1,1,"-","-",5,5,4,6,9,6,0,10,1,10,1,5,5,7,1,10,9]
[null,"中川村","228-06",{"v":1156,"d":"1,156"},60,480,243,233,4,72,202,43,"-",43,"-","-",{"v":10,"d":"      10"},{"v":2,"d":"      2"},{"v":5,"d":"      5"},{"v":3,"d":"      3"},1,7,2,"-","-","-",6,6,5,7,10,7,0,10,5,8,0,0,0,9,5,9,8]
[null,"長須村","228-07",{"v":1103,"d":"1,103"},21,623,413,210,0,47,352,48,1,45,"-",3,{"v":20,"d":"      20"},{"v":7,"d":"      7"},{"v":5,"d":"      5"},{"v":8,"d":"      8"},"-",1,3,15,1,"-",0,13,0,20,20,0,0,20,2,8,0,0,0,2,0,13,13]
[null,"七重村","228-08",{"v":1460,"d":"1,460"},339,641,158,482,1,57,263,16,"-",16,1,"-",{"v":9,"d":"      9"},"-",{"v":2,"d":"      2"},{"v":7,"d":"      7"},"-",5,3,1,"-","-",4,9,9,9,9,6,0,9,2,9,0,0,0,0,0,9,9]
[null,"逆井山村","228-09",{"v":1218,"d":"1,218"},153,656,280,350,26,62,253,30,2,27,"-",3,{"v":13,"d":"      13"},{"v":1,"d":"      1"},{"v":6,"d":"      6"},{"v":6,"d":"      6"},"-",5,6,2,"-","-",9,2,3,13,7,12,0,13,1,13,0,0,0,7,7,10,9]
[null,"生子菅村","228-10",{"v":1047,"d":"1,047"},100,548,266,260,22,27,208,23,5,21,"-","-",{"v":9,"d":"      9"},{"v":1,"d":"      1"},{"v":6,"d":"      6"},{"v":2,"d":"      2"},"-",5,2,"-",2,"-",7,4,1,8,5,7,0,9,0,9,0,0,0,1,1,8,8]
[null,"沓掛村","228-11",980,112,436,212,209,15,69,269,39,1,38,"-",1,{"v":14,"d":"      14"},{"v":2,"d":"      2"},{"v":10,"d":"      10"},{"v":2,"d":"      2"},"-",6,6,1,1,"-",2,0,0,0,1,1,12,14,1,13,0,1,0,6,0,12,11]
["稲敷市",null,"229-00",{"v":20578,"d":"20,578"},{"v":1685,"d":"1,685"},8841,7698,1114,29,498,2373,356,25,338,"-",6,{"v":143,"d":"      143"},{"v":104,"d":"      104"},{"v":32,"d":"      32"},{"v":7,"d":"      7"},16,45,50,27,4,1,15,78,52,106,71,20,14,143,20,96,3,22,0,103,30,143,38]
[null,"江戸崎町","229-01",{"v":1147,"d":"1,147"},150,301,196,104,1,54,99,20,1,19,"-",2,{"v":8,"d":"      8"},{"v":4,"d":"      4"},{"v":4,"d":"      4"},"-",4,3,"-","-",1,"-",0,3,3,5,6,3,1,8,1,6,1,0,0,5,4,8,4]
[null,"君賀村","229-02",{"v":1193,"d":"1,193"},211,453,294,154,5,80,129,17,1,17,"-","-",{"v":5,"d":"      5"},{"v":1,"d":"      1"},{"v":4,"d":"      4"},"-","-",1,4,"-","-","-",0,0,2,4,4,0,0,5,0,5,0,1,0,5,0,5,2]
[null,"沼里村","229-03",{"v":1150,"d":"1,150"},266,361,147,214,0,76,115,25,1,25,"-","-",{"v":9,"d":"      9"},{"v":1,"d":"      1"},{"v":6,"d":"      6"},{"v":2,"d":"      2"},4,2,1,2,"-","-",0,1,1,9,8,4,0,9,0,7,0,0,0,9,1,9,1]
[null,"高田村","229-04",985,139,469,339,130,0,36,84,9,2,8,"-","-",{"v":5,"d":"      5"},{"v":3,"d":"      3"},{"v":2,"d":"      2"},"-",1,3,1,"-","-","-",0,0,1,4,5,1,0,5,1,5,2,0,0,5,0,5,0]
[null,"鳩崎村","229-05",822,128,358,320,38,0,25,106,16,1,15,"-","-",{"v":8,"d":"      8"},{"v":6,"d":"      6"},{"v":2,"d":"      2"},"-",1,"-",3,4,"-","-",0,1,1,5,2,2,3,8,1,7,0,4,0,8,0,8,1]
[null,"柴崎村","229-06",{"v":1298,"d":"1,298"},78,636,575,54,7,33,205,21,2,19,"-","-",{"v":10,"d":"      10"},{"v":10,"d":"      10"},"-","-",2,6,"-",2,"-","-",1,1,4,6,8,2,2,10,0,6,0,0,0,7,1,10,1]
[null,"根本村","229-07",720,42,458,408,46,4,12,117,14,1,14,"-","-",{"v":13,"d":"      13"},{"v":9,"d":"      9"},{"v":2,"d":"      2"},{"v":2,"d":"      2"},2,5,3,3,"-","-",0,3,4,8,8,3,3,13,2,9,0,0,0,8,1,13,5]
[null,"太田村（稲敷市）","229-08",958,53,566,538,25,3,29,139,9,1,9,"-","-",{"v":10,"d":"      10"},{"v":10,"d":"      10"},"-","-","-",4,3,1,1,1,0,1,1,5,6,4,4,10,0,5,0,0,0,4,1,10,1]
[null,"浮島村","229-09",{"v":1015,"d":"1,015"},146,540,455,85,0,48,150,25,4,20,"-",2,{"v":13,"d":"      13"},{"v":9,"d":"      9"},{"v":3,"d":"      3"},{"v":1,"d":"      1"},"-",2,10,1,"-","-",0,12,0,12,0,0,0,13,0,13,0,7,0,11,0,13,0]
[null,"古渡村","229-10",{"v":1125,"d":"1,125"},111,536,481,55,0,29,159,44,"-",44,"-","-",{"v":15,"d":"      15"},{"v":11,"d":"      11"},{"v":3,"d":"      3"},{"v":1,"d":"      1"},2,4,7,2,"-","-",0,15,0,13,0,0,0,15,0,13,0,6,0,9,4,15,0]
[null,"阿波村","229-11",{"v":1299,"d":"1,299"},205,425,337,81,7,35,136,18,1,18,"-","-",{"v":11,"d":"      11"},{"v":5,"d":"      5"},{"v":5,"d":"      5"},{"v":1,"d":"      1"},"-",6,4,1,"-","-",0,11,0,4,0,0,0,11,0,11,0,0,0,0,0,11,0]
[null,"本新島村","229-12",{"v":2001,"d":"2,001"},"-",1210,1185,25,0,17,338,57,4,53,"-","-",{"v":11,"d":"      11"},{"v":11,"d":"      11"},"-","-","-",1,6,4,"-","-",5,11,11,9,4,1,0,11,3,0,0,2,0,11,4,11,6]
[null,"大須賀村","229-13",{"v":1449,"d":"1,449"},101,842,766,74,2,13,178,23,3,20,"-",2,{"v":11,"d":"      11"},{"v":10,"d":"      10"},{"v":1,"d":"      1"},"-","-",5,4,1,1,"-",6,9,11,9,9,0,0,11,8,6,0,0,0,9,6,11,8]
[null,"十余島村２－２","229-14",{"v":1792,"d":"1,792"},"-",1156,1136,20,0,5,268,41,1,40,"-","-",{"v":10,"d":"      10"},{"v":10,"d":"      10"},"-","-","-",1,4,4,1,"-",2,8,10,10,8,0,0,10,4,0,0,2,0,9,6,10,7]
[null,"伊崎村","229-15",858,55,530,521,9,0,5,150,17,2,17,"-","-",{"v":4,"d":"      4"},{"v":4,"d":"      4"},"-","-","-",2,"-",2,"-","-",1,2,3,3,3,0,1,4,0,3,0,0,0,3,2,4,2]
["かすみがうら市",null,"230-00",{"v":15661,"d":"15,661"},{"v":2051,"d":"2,051"},4847,2175,1523,1149,942,1956,383,35,355,40,15,{"v":112,"d":"      112"},{"v":24,"d":"      24"},{"v":63,"d":"      63"},{"v":25,"d":"      25"},3,14,42,43,6,4,33,36,51,97,94,34,4,112,11,100,7,51,8,52,10,111,17]
[null,"美並村","230-01",{"v":1417,"d":"1,417"},256,675,283,334,58,170,210,30,1,29,"-",1,{"v":15,"d":"      15"},"-",{"v":12,"d":"      12"},{"v":3,"d":"      3"},1,1,6,6,"-",1,3,1,3,14,13,1,0,15,1,15,1,5,1,6,1,15,1]
[null,"志士庫村","230-02",{"v":1829,"d":"1,829"},304,994,346,359,289,140,294,41,4,37,2,3,{"v":15,"d":"      15"},{"v":1,"d":"      1"},{"v":9,"d":"      9"},{"v":5,"d":"      5"},"-",2,4,7,2,"-",6,5,12,15,15,6,0,15,1,11,2,2,0,6,0,15,0]
[null,"佐賀村","230-03",{"v":1060,"d":"1,060"},186,377,274,95,8,74,174,48,3,45,"-",4,{"v":14,"d":"      14"},{"v":8,"d":"      8"},{"v":3,"d":"      3"},{"v":3,"d":"      3"},"-",3,5,5,"-",1,3,3,2,8,5,4,2,14,0,13,0,8,1,4,1,14,2]
[null,"安飾村","230-04",898,100,318,214,92,12,89,182,42,3,38,"-",1,{"v":14,"d":"      14"},{"v":8,"d":"      8"},{"v":3,"d":"      3"},{"v":3,"d":"      3"},"-",1,4,9,"-","-",5,3,7,13,14,5,0,14,0,7,0,5,0,3,0,14,1]
[null,"牛渡村","230-05",749,122,269,158,103,8,86,110,16,1,15,"-","-",{"v":11,"d":"      11"},{"v":5,"d":"      5"},{"v":6,"d":"      6"},"-","-",1,9,1,"-","-",4,3,7,5,8,3,2,11,2,11,1,7,0,6,2,11,2]
[null,"下大津村","230-06",{"v":1076,"d":"1,076"},206,447,244,145,58,94,168,14,4,12,"-","-",{"v":11,"d":"      11"},{"v":2,"d":"      2"},{"v":8,"d":"      8"},{"v":1,"d":"      1"},"-",1,4,6,"-","-",0,0,1,11,10,0,0,11,0,11,0,7,0,2,0,11,0]
[null,"新治村（かすみがうら市）","230-07",{"v":1151,"d":"1,151"},161,507,220,107,180,64,236,68,5,65,17,1,{"v":9,"d":"      9"},"-",{"v":7,"d":"      7"},{"v":2,"d":"      2"},"-",2,4,1,"-",2,6,7,4,8,7,5,0,9,3,9,2,5,2,9,2,9,4]
[null,"志筑村","230-08",{"v":1269,"d":"1,269"},237,494,209,86,199,75,233,48,5,43,4,2,{"v":8,"d":"      8"},"-",{"v":7,"d":"      7"},{"v":1,"d":"      1"},"-","-",2,4,2,"-",1,5,5,8,7,5,0,8,1,8,1,6,3,5,2,8,6]
[null,"七会村（かすみがうら市）","230-09",{"v":2428,"d":"2,428"},479,766,227,202,337,150,349,76,9,71,17,3,{"v":15,"d":"      15"},"-",{"v":8,"d":"      8"},{"v":7,"d":"      7"},2,3,4,4,2,"-",5,9,10,15,15,5,0,15,3,15,0,6,1,11,2,14,1]
["桜川市",null,"231-00",{"v":17978,"d":"17,978"},{"v":7459,"d":"7,459"},5373,3262,2035,76,462,2066,364,24,350,7,2,{"v":110,"d":"      110"},{"v":49,"d":"      49"},{"v":54,"d":"      54"},{"v":7,"d":"      7"},7,38,42,22,1,"-",92,81,73,107,88,67,0,110,50,103,17,71,58,103,64,110,59]
[null,"岩瀬町","231-01",{"v":3224,"d":"3,224"},{"v":1169,"d":"1,169"},932,519,398,15,103,330,37,2,34,"-",1,{"v":15,"d":"      15"},{"v":2,"d":"      2"},{"v":12,"d":"      12"},{"v":1,"d":"      1"},1,5,6,3,"-","-",12,13,12,15,15,15,0,15,10,15,4,13,13,14,10,15,12]
[null,"北那珂村","231-02",{"v":2910,"d":"2,910"},{"v":1541,"d":"1,541"},700,476,209,15,41,345,49,6,47,"-","-",{"v":19,"d":"      19"},{"v":8,"d":"      8"},{"v":11,"d":"      11"},"-","-",4,4,10,1,"-",18,10,4,19,10,7,0,19,9,19,0,15,15,19,15,19,15]
[null,"東那珂村","231-03",{"v":2578,"d":"2,578"},{"v":1224,"d":"1,224"},635,458,161,16,90,251,43,2,41,"-","-",{"v":20,"d":"      20"},{"v":14,"d":"      14"},{"v":6,"d":"      6"},"-","-",10,9,1,"-","-",18,18,18,19,18,4,0,20,19,20,12,18,18,19,18,20,19]
[null,"樺穂村","231-04",{"v":1849,"d":"1,849"},{"v":1009,"d":"1,009"},443,265,176,2,30,135,26,"-",25,"-",1,{"v":9,"d":"      9"},{"v":7,"d":"      7"},{"v":1,"d":"      1"},{"v":1,"d":"      1"},1,6,2,"-","-","-",5,8,5,9,8,9,0,9,1,9,0,4,2,9,9,9,1]
[null,"紫尾村","231-05",{"v":1638,"d":"1,638"},950,454,338,100,16,36,184,67,2,67,6,"-",{"v":9,"d":"      9"},{"v":5,"d":"      5"},{"v":4,"d":"      4"},"-",1,2,4,2,"-","-",8,5,6,9,7,7,0,9,2,6,0,2,0,8,2,9,3]
[null,"谷貝村","231-06",940,167,475,210,265,0,38,188,24,2,22,"-","-",{"v":8,"d":"      8"},"-",{"v":6,"d":"      6"},{"v":2,"d":"      2"},"-",3,3,2,"-","-",2,5,5,8,6,7,0,8,2,8,0,5,3,7,4,8,2]
[null,"長讃村２－２","231-07",177,2,101,46,55,0,4,34,5,1,4,"-","-",{"v":2,"d":"      2"},"-",{"v":2,"d":"      2"},"-","-","-",2,"-","-","-",2,2,2,2,2,2,0,2,1,1,0,1,1,2,1,2,1]
[null,"真壁町","231-08",{"v":1737,"d":"1,737"},480,491,279,207,5,26,172,53,1,53,"-","-",{"v":11,"d":"      11"},{"v":7,"d":"      7"},{"v":4,"d":"      4"},"-",4,4,2,1,"-","-",10,10,10,11,10,10,0,11,0,8,0,3,1,10,0,11,0]
[null,"大国村","231-09",{"v":1385,"d":"1,385"},207,714,339,371,4,41,276,29,5,26,1,"-",{"v":11,"d":"      11"},{"v":1,"d":"      1"},{"v":7,"d":"      7"},{"v":3,"d":"      3"},"-",2,6,3,"-","-",11,5,7,9,9,5,0,11,2,11,1,8,3,9,1,11,2]
[null,"雨引村","231-10",{"v":1540,"d":"1,540"},710,428,332,93,3,52,151,31,3,31,"-","-",{"v":6,"d":"      6"},{"v":5,"d":"      5"},{"v":1,"d":"      1"},"-","-",2,4,"-","-","-",6,5,4,6,3,1,0,6,4,6,0,2,2,6,4,6,4]
["神栖市",null,"232-00",{"v":14726,"d":"14,726"},521,2658,1755,897,6,581,1134,123,6,115,1,5,{"v":61,"d":"      61"},{"v":24,"d":"      24"},{"v":24,"d":"      24"},{"v":13,"d":"      13"},32,26,3,"-","-","-",23,42,33,59,53,12,1,59,0,55,0,3,0,39,25,58,46]
[null,"息栖村","232-01",{"v":3562,"d":"3,562"},50,445,371,74,0,106,188,29,"-",28,1,1,{"v":10,"d":"      10"},{"v":6,"d":"      6"},{"v":3,"d":"      3"},{"v":1,"d":"      1"},7,3,"-","-","-","-",9,9,5,9,8,0,1,9,0,9,0,3,0,9,9,9,9]
[null,"軽野村","232-02",{"v":4091,"d":"4,091"},95,684,606,78,0,121,239,34,"-",34,"-","-",{"v":15,"d":"      15"},{"v":11,"d":"      11"},{"v":2,"d":"      2"},{"v":2,"d":"      2"},11,4,"-","-","-","-",14,13,6,15,10,0,0,14,0,12,0,0,0,14,14,14,14]
[null,"若松村２－２","232-03",302,"-",74,41,33,0,29,55,2,"-",2,"-",1,{"v":2,"d":"      2"},"-",{"v":2,"d":"      2"},"-","-",2,"-","-","-","-",0,0,1,2,2,0,0,2,0,0,0,0,0,2,2,2,2]
[null,"若松村２－１","232-04",{"v":2841,"d":"2,841"},101,475,163,311,1,115,306,25,3,23,"-","-",{"v":13,"d":"      13"},{"v":2,"d":"      2"},{"v":6,"d":"      6"},{"v":5,"d":"      5"},4,7,2,"-","-","-",0,11,13,13,12,11,0,13,0,13,0,0,0,4,0,13,12]
[null,"矢田部村","232-05",{"v":2312,"d":"2,312"},146,686,428,257,1,112,246,27,1,25,"-",1,{"v":10,"d":"      10"},{"v":4,"d":"      4"},{"v":5,"d":"      5"},{"v":1,"d":"      1"},3,6,1,"-","-","-",0,6,5,10,10,0,0,10,0,10,0,0,0,5,0,10,6]
[null,"波崎町","232-06",{"v":1616,"d":"1,616"},129,294,146,144,4,98,100,6,2,3,"-",2,{"v":11,"d":"      11"},{"v":1,"d":"      1"},{"v":6,"d":"      6"},{"v":4,"d":"      4"},7,4,"-","-","-","-",0,3,3,10,11,1,0,11,0,11,0,0,0,5,0,10,3]
["行方市",null,"233-00",{"v":22238,"d":"22,238"},{"v":3582,"d":"3,582"},7043,3283,3691,69,829,2882,337,40,300,1,9,{"v":90,"d":"      90"},{"v":30,"d":"      30"},{"v":41,"d":"      41"},{"v":19,"d":"      19"},4,28,42,16,"-","-",51,64,65,80,70,29,0,90,9,70,5,57,15,46,13,89,75]
[null,"麻生町","233-01",{"v":1185,"d":"1,185"},234,388,231,156,1,43,173,20,1,18,"-",1,{"v":12,"d":"      12"},{"v":7,"d":"      7"},{"v":4,"d":"      4"},{"v":1,"d":"      1"},2,10,"-","-","-","-",7,12,11,12,9,3,0,12,2,6,1,6,2,5,4,11,8]
[null,"太田村（行方市）","233-02",814,218,331,217,111,3,45,138,31,2,29,"-","-",{"v":3,"d":"      3"},{"v":2,"d":"      2"},{"v":1,"d":"      1"},"-","-","-",2,1,"-","-",2,2,3,3,2,2,0,3,0,3,0,2,0,3,1,3,3]
[null,"大和村","233-03",{"v":1797,"d":"1,797"},401,805,504,296,5,83,339,35,4,30,"-",3,{"v":10,"d":"      10"},{"v":5,"d":"      5"},{"v":5,"d":"      5"},"-","-","-",8,2,"-","-",5,9,7,10,8,8,0,10,1,10,1,9,3,6,2,10,9]
[null,"行方村","233-04",750,116,394,213,180,1,37,166,18,"-",18,"-","-",{"v":6,"d":"      6"},{"v":2,"d":"      2"},{"v":3,"d":"      3"},{"v":1,"d":"      1"},"-","-",5,1,"-","-",4,4,6,5,2,0,0,6,0,4,0,3,1,1,1,6,6]
[null,"小高村","233-05",{"v":1501,"d":"1,501"},229,647,293,350,4,67,287,38,1,37,"-","-",{"v":8,"d":"      8"},{"v":2,"d":"      2"},{"v":2,"d":"      2"},{"v":4,"d":"      4"},"-","-",5,3,"-","-",6,7,8,8,5,1,0,8,0,7,1,5,0,0,0,8,6]
[null,"津澄村","233-06",{"v":1407,"d":"1,407"},327,581,345,232,4,78,231,25,4,22,"-","-",{"v":4,"d":"      4"},{"v":1,"d":"      1"},{"v":3,"d":"      3"},"-","-",2,"-",2,"-","-",3,4,3,4,4,2,0,4,0,4,0,3,3,4,1,4,4]
[null,"武田村","233-07",{"v":2543,"d":"2,543"},731,1045,315,714,16,105,380,25,6,19,1,2,{"v":7,"d":"      7"},"-",{"v":5,"d":"      5"},{"v":2,"d":"      2"},"-",2,4,1,"-","-",0,6,4,6,7,1,0,7,0,7,0,6,1,7,0,7,5]
[null,"要村","233-08",{"v":1504,"d":"1,504"},335,739,194,541,4,72,293,20,4,15,"-",1,{"v":4,"d":"      4"},"-",{"v":1,"d":"      1"},{"v":3,"d":"      3"},"-",1,1,2,"-","-",2,2,4,2,3,0,0,4,0,4,0,1,0,4,1,4,2]
[null,"立花村","233-09",{"v":1024,"d":"1,024"},213,434,251,172,11,57,220,35,2,34,"-","-",{"v":4,"d":"      4"},{"v":1,"d":"      1"},{"v":3,"d":"      3"},"-","-",2,2,"-","-","-",1,0,1,3,2,1,0,4,2,4,1,4,2,4,1,4,4]
[null,"現原村","233-10",{"v":1376,"d":"1,376"},259,516,133,371,12,65,153,19,5,14,"-","-",{"v":6,"d":"      6"},"-",{"v":4,"d":"      4"},{"v":2,"d":"      2"},"-",3,3,"-","-","-",3,4,4,4,6,4,0,6,1,6,1,3,1,4,1,6,5]
[null,"玉造町","233-11",{"v":1086,"d":"1,086"},171,462,242,216,4,94,184,20,1,19,"-","-",{"v":13,"d":"      13"},{"v":7,"d":"      7"},{"v":2,"d":"      2"},{"v":4,"d":"      4"},2,5,5,1,"-","-",8,5,7,10,10,1,0,13,2,5,0,5,1,4,1,13,11]
[null,"手賀村","233-12",747,170,294,140,152,2,44,151,30,6,26,"-",2,{"v":8,"d":"      8"},{"v":2,"d":"      2"},{"v":5,"d":"      5"},{"v":1,"d":"      1"},"-",3,3,2,"-","-",6,5,6,8,8,5,0,8,0,6,0,5,1,4,0,8,7]
[null,"玉川村（行方市）","233-13",899,178,407,205,200,2,40,167,21,4,19,"-","-",{"v":5,"d":"      5"},{"v":1,"d":"      1"},{"v":3,"d":"      3"},{"v":1,"d":"      1"},"-","-",4,1,"-","-",4,4,1,5,4,1,0,5,1,4,0,5,0,0,0,5,5]
["鉾田市",null,"234-00",{"v":20818,"d":"20,818"},{"v":4975,"d":"4,975"},9266,2050,7153,63,774,2959,298,55,247,9,8,{"v":134,"d":"      134"},{"v":11,"d":"      11"},{"v":26,"d":"      26"},{"v":97,"d":"      97"},15,61,44,11,3,"-",77,75,84,94,94,29,9,134,6,128,2,19,6,68,19,101,65]
[null,"諏訪村２－１","234-01",{"v":1278,"d":"1,278"},237,588,43,544,1,22,243,9,3,5,1,"-",{"v":11,"d":"      11"},"-","-",{"v":11,"d":"      11"},"-",4,6,1,"-","-",11,3,10,7,7,0,0,11,0,11,0,1,1,6,2,6,4]
[null,"夏海村２－２","234-02",752,183,411,40,371,0,30,119,11,4,8,1,1,{"v":9,"d":"      9"},"-","-",{"v":9,"d":"      9"},"-",7,1,1,"-","-",9,6,7,5,1,6,0,9,0,9,0,4,1,5,0,5,1]
[null,"大谷村","234-03",{"v":3351,"d":"3,351"},585,1800,342,1445,13,100,566,26,6,19,"-",1,{"v":17,"d":"      17"},{"v":1,"d":"      1"},{"v":4,"d":"      4"},{"v":12,"d":"      12"},"-",6,10,1,"-","-",17,14,13,4,6,3,0,17,0,15,0,6,2,13,2,15,11]
[null,"徳宿村","234-04",{"v":2571,"d":"2,571"},521,1379,208,1157,14,87,482,37,6,28,3,2,{"v":17,"d":"      17"},"-",{"v":2,"d":"      2"},{"v":15,"d":"      15"},"-",6,6,5,"-","-",17,15,17,17,16,0,0,17,0,16,0,0,0,10,9,17,14]
[null,"巴村","234-05",{"v":2447,"d":"2,447"},667,1237,307,910,20,104,356,41,8,33,"-",1,{"v":17,"d":"      17"},{"v":1,"d":"      1"},{"v":5,"d":"      5"},{"v":11,"d":"      11"},"-",6,9,2,"-","-",6,15,13,16,16,3,0,17,1,17,0,0,0,10,2,15,11]
[null,"諏訪村２－２","234-06",953,305,388,112,274,2,19,122,12,2,9,1,1,{"v":4,"d":"      4"},"-",{"v":1,"d":"      1"},{"v":3,"d":"      3"},"-",4,"-","-","-","-",1,1,2,1,1,0,2,4,0,4,0,0,0,1,0,4,3]
[null,"秋津村","234-07",{"v":2415,"d":"2,415"},663,1049,298,745,6,100,376,35,7,28,1,"-",{"v":17,"d":"      17"},{"v":1,"d":"      1"},{"v":6,"d":"      6"},{"v":10,"d":"      10"},2,3,8,1,3,"-",15,15,16,16,15,10,0,17,3,17,2,5,2,9,3,13,11]
[null,"鉾田町","234-08",453,77,87,57,30,0,81,50,16,"-",16,"-","-",{"v":7,"d":"      7"},{"v":5,"d":"      5"},{"v":1,"d":"      1"},{"v":1,"d":"      1"},7,"-","-","-","-","-",0,2,0,1,3,0,4,7,0,4,0,0,0,3,0,7,4]
[null,"新宮村","234-09",{"v":1810,"d":"1,810"},553,756,202,551,3,25,189,17,3,14,1,"-",{"v":9,"d":"      9"},{"v":1,"d":"      1"},{"v":1,"d":"      1"},{"v":7,"d":"      7"},2,5,2,"-","-","-",1,3,6,3,3,2,3,9,2,9,0,1,0,1,1,5,3]
[null,"白鳥村","234-10",{"v":2454,"d":"2,454"},690,873,287,583,3,114,273,66,13,60,"-",2,{"v":16,"d":"      16"},{"v":2,"d":"      2"},{"v":4,"d":"      4"},{"v":10,"d":"      10"},2,12,2,"-","-","-",0,1,0,14,16,2,0,16,0,16,0,1,0,5,0,8,2]
[null,"上島村","234-11",{"v":1906,"d":"1,906"},494,698,154,543,1,92,183,28,3,27,1,"-",{"v":10,"d":"      10"},"-",{"v":2,"d":"      2"},{"v":8,"d":"      8"},2,8,"-","-","-","-",0,0,0,10,10,3,0,10,0,10,0,1,0,5,0,6,1]
["つくばみらい市",null,"235-00",{"v":7914,"d":"7,914"},583,3750,3077,651,22,277,1669,380,10,370,"-",4,{"v":109,"d":"      109"},{"v":75,"d":"      75"},{"v":24,"d":"      24"},{"v":10,"d":"      10"},6,19,28,29,18,9,51,46,48,80,98,15,2,109,1,52,1,6,1,42,1,106,2]
[null,"小張村","235-01",794,87,294,229,64,1,22,139,24,"-",22,"-",2,{"v":10,"d":"      10"},{"v":7,"d":"      7"},{"v":2,"d":"      2"},{"v":1,"d":"      1"},"-",3,2,4,1,"-",5,8,10,10,9,4,0,10,0,5,0,2,0,0,0,10,0]
[null,"板橋村","235-02",{"v":1530,"d":"1,530"},323,449,274,167,8,60,218,31,1,30,"-","-",{"v":13,"d":"      13"},{"v":2,"d":"      2"},{"v":8,"d":"      8"},{"v":3,"d":"      3"},2,3,"-",6,1,1,6,10,10,13,11,3,0,13,1,12,1,4,1,6,1,11,1]
[null,"三島村","235-03",685,22,494,461,33,0,15,201,25,2,23,"-","-",{"v":10,"d":"      10"},{"v":9,"d":"      9"},{"v":1,"d":"      1"},"-","-",1,4,3,2,"-",3,9,10,9,10,1,0,10,0,3,0,0,0,3,0,10,0]
[null,"久賀村２－１","235-04",366,36,207,180,26,1,20,100,23,"-",23,"-","-",{"v":3,"d":"      3"},{"v":2,"d":"      2"},{"v":1,"d":"      1"},"-","-","-",3,"-","-","-",1,3,0,3,3,0,0,3,0,3,0,0,0,2,0,3,0]
[null,"谷井田村","235-05",573,"-",296,273,23,0,7,127,42,1,41,"-","-",{"v":7,"d":"      7"},{"v":7,"d":"      7"},"-","-","-",5,1,1,"-","-",1,7,7,5,4,0,0,7,0,0,0,0,0,3,0,7,0]
[null,"豊村","235-06",604,5,398,386,12,0,8,170,34,1,32,"-",1,{"v":8,"d":"      8"},{"v":8,"d":"      8"},"-","-","-","-",3,1,3,1,3,7,8,8,7,2,0,8,0,2,0,0,0,3,0,8,1]
[null,"十和村２－１","235-07",827,19,490,407,83,0,18,229,63,1,62,"-",1,{"v":13,"d":"      13"},{"v":10,"d":"      10"},{"v":3,"d":"      3"},"-","-","-",2,4,3,4,0,2,0,0,12,3,0,13,0,2,0,0,0,8,0,13,0]
[null,"福岡村","235-08",721,29,300,162,138,0,60,128,19,1,19,"-","-",{"v":13,"d":"      13"},{"v":3,"d":"      3"},{"v":5,"d":"      5"},{"v":5,"d":"      5"},"-",5,"-",4,3,1,0,0,0,0,10,2,2,13,0,4,0,0,0,3,0,12,0]
[null,"谷原村","235-09",{"v":1072,"d":"1,072"},26,601,558,43,0,27,283,94,3,93,"-","-",{"v":22,"d":"      22"},{"v":22,"d":"      22"},"-","-","-","-",10,5,5,2,22,0,3,22,22,0,0,22,0,13,0,0,0,6,0,22,0]
[null,"小絹村","235-10",742,36,221,147,62,12,40,74,25,"-",25,"-","-",{"v":10,"d":"      10"},{"v":5,"d":"      5"},{"v":4,"d":"      4"},{"v":1,"d":"      1"},4,2,3,1,"-","-",10,0,0,10,10,0,0,10,0,8,0,0,0,8,0,10,0]
["小美玉市",null,"236-00",{"v":14503,"d":"14,503"},{"v":2196,"d":"2,196"},5601,2027,2855,719,600,2109,232,21,210,2,11,{"v":74,"d":"      74"},{"v":6,"d":"      6"},{"v":47,"d":"      47"},{"v":21,"d":"      21"},11,34,21,8,"-","-",58,59,54,61,61,49,3,74,9,72,7,53,20,67,35,74,70]
[null,"小川町","236-01",{"v":1650,"d":"1,650"},238,561,269,257,35,67,232,37,1,35,"-",1,{"v":12,"d":"      12"},{"v":1,"d":"      1"},{"v":9,"d":"      9"},{"v":2,"d":"      2"},1,6,4,1,"-","-",9,7,6,7,8,5,2,12,0,12,2,7,1,12,3,12,12]
[null,"白河村","236-02",{"v":2352,"d":"2,352"},368,868,241,588,39,86,273,17,1,16,"-",1,{"v":9,"d":"      9"},"-",{"v":4,"d":"      4"},{"v":5,"d":"      5"},"-",3,5,1,"-","-",8,8,5,5,7,5,1,9,2,9,1,8,2,8,6,9,9]
[null,"橘村","236-03",{"v":2296,"d":"2,296"},421,796,309,445,42,107,295,30,2,26,"-",2,{"v":14,"d":"      14"},{"v":1,"d":"      1"},{"v":8,"d":"      8"},{"v":5,"d":"      5"},2,7,5,"-","-","-",13,12,11,12,9,6,0,14,3,14,2,11,5,14,7,14,13]
[null,"堅倉村","236-04",{"v":3835,"d":"3,835"},621,1689,495,907,287,164,617,39,8,32,"-",2,{"v":17,"d":"      17"},"-",{"v":12,"d":"      12"},{"v":5,"d":"      5"},2,8,3,4,"-","-",12,13,11,15,15,11,0,17,2,17,1,11,6,17,9,17,16]
[null,"竹原村","236-05",{"v":2355,"d":"2,355"},330,1092,342,525,225,106,397,56,4,51,2,3,{"v":10,"d":"      10"},"-",{"v":6,"d":"      6"},{"v":4,"d":"      4"},2,6,1,1,"-","-",10,10,10,10,10,10,0,10,2,10,0,7,4,10,6,10,10]
[null,"玉川村（小美玉市）","236-06",410,38,216,154,36,26,23,111,15,3,13,"-",1,{"v":3,"d":"      3"},{"v":1,"d":"      1"},{"v":2,"d":"      2"},"-","-","-",2,1,"-","-",2,2,2,3,3,3,0,3,0,2,0,3,0,2,2,3,3]
[null,"田余村","236-07",{"v":1123,"d":"1,123"},180,379,217,97,65,47,184,38,2,37,"-",1,{"v":9,"d":"      9"},{"v":3,"d":"      3"},{"v":6,"d":"      6"},"-",4,4,1,"-","-","-",4,7,9,9,9,9,0,9,0,8,1,6,2,4,2,9,7]
["茨城町",null,"302-00",{"v":12164,"d":"12,164"},{"v":1905,"d":"1,905"},5399,2564,2391,444,641,2047,222,21,211,4,9,{"v":89,"d":"      89"},{"v":11,"d":"      11"},{"v":60,"d":"      60"},{"v":18,"d":"      18"},8,24,28,24,4,1,24,69,60,70,76,51,9,89,15,89,8,32,25,70,21,86,85]
[null,"長岡村","302-01",{"v":2106,"d":"2,106"},246,888,452,390,46,126,333,49,4,49,1,1,{"v":19,"d":"      19"},{"v":2,"d":"      2"},{"v":16,"d":"      16"},{"v":1,"d":"      1"},7,7,2,2,1,"-",7,12,10,11,12,7,7,19,4,19,2,6,6,14,3,18,17]
[null,"川根村","302-02",{"v":2132,"d":"2,132"},343,966,499,293,174,122,465,48,3,45,"-",2,{"v":20,"d":"      20"},"-",{"v":18,"d":"      18"},{"v":2,"d":"      2"},1,4,4,10,"-",1,8,18,12,13,15,7,2,20,6,20,3,9,8,15,4,19,19]
[null,"上野合村","302-03",{"v":2856,"d":"2,856"},566,1262,375,730,157,137,398,34,3,33,2,3,{"v":18,"d":"      18"},"-",{"v":9,"d":"      9"},{"v":9,"d":"      9"},"-","-",12,5,1,"-",3,11,9,16,17,10,0,18,2,18,2,2,1,16,3,17,17]
[null,"石崎村","302-04",{"v":2463,"d":"2,463"},336,988,681,274,33,102,347,35,6,34,"-",1,{"v":17,"d":"      17"},{"v":7,"d":"      7"},{"v":9,"d":"      9"},{"v":1,"d":"      1"},"-",9,4,4,"-","-",4,16,17,17,17,15,0,17,3,17,1,8,8,12,8,17,17]
[null,"酒門村２－２","302-05",233,82,127,74,49,4,14,57,14,2,13,"-","-",{"v":3,"d":"      3"},"-",{"v":3,"d":"      3"},"-","-",2,1,"-","-","-",0,3,3,3,3,3,0,3,0,3,0,1,1,3,3,3,3]
[null,"沼前村","302-06",{"v":2374,"d":"2,374"},332,1168,483,655,30,141,447,42,3,37,1,2,{"v":12,"d":"      12"},{"v":2,"d":"      2"},{"v":5,"d":"      5"},{"v":5,"d":"      5"},"-",2,5,3,2,"-",2,9,9,10,12,9,0,12,0,12,0,6,1,10,0,12,12]
["大洗町",null,"309-00",{"v":2319,"d":"2,319"},390,590,353,233,4,47,198,44,21,33,"-",4,{"v":18,"d":"      18"},{"v":4,"d":"      4"},{"v":4,"d":"      4"},{"v":10,"d":"      10"},6,5,4,3,"-","-",0,1,0,2,1,2,15,17,2,17,0,5,0,7,0,11,3]
[null,"磯浜町","309-01",617,48,29,5,24,0,12,16,3,1,2,"-",1,{"v":4,"d":"      4"},"-",{"v":1,"d":"      1"},{"v":3,"d":"      3"},4,"-","-","-","-","-",0,0,0,2,1,2,2,3,1,3,0,0,0,2,0,1,0]
[null,"大貫町","309-02",449,64,135,98,37,0,5,45,20,12,15,"-",1,{"v":3,"d":"      3"},{"v":1,"d":"      1"},{"v":1,"d":"      1"},{"v":1,"d":"      1"},2,1,"-","-","-","-",0,0,0,0,0,0,3,3,0,3,0,1,0,1,0,2,0]
[null,"夏海村２－１","309-03",{"v":1253,"d":"1,253"},278,426,250,172,4,30,137,21,8,16,"-",2,{"v":11,"d":"      11"},{"v":3,"d":"      3"},{"v":2,"d":"      2"},{"v":6,"d":"      6"},"-",4,4,3,"-","-",0,1,0,0,0,0,10,11,1,11,0,4,0,4,0,8,3]
["城里町",null,"310-00",{"v":16173,"d":"16,173"},{"v":9946,"d":"9,946"},2562,1271,1181,110,469,1349,200,29,187,6,1,{"v":81,"d":"      81"},{"v":14,"d":"      14"},{"v":46,"d":"      46"},{"v":21,"d":"      21"},6,11,22,31,10,1,32,40,15,52,47,8,21,81,5,74,1,24,7,64,19,78,68]
[null,"石塚町","310-01",{"v":1018,"d":"1,018"},180,423,165,247,11,66,153,10,"-",10,"-","-",{"v":11,"d":"      11"},{"v":1,"d":"      1"},{"v":5,"d":"      5"},{"v":5,"d":"      5"},5,4,"-",1,1,"-",0,3,3,7,3,0,2,11,0,11,0,2,0,9,0,10,9]
[null,"小松村","310-02",967,327,349,182,159,8,61,160,28,"-",27,2,"-",{"v":7,"d":"      7"},"-",{"v":7,"d":"      7"},"-","-","-",5,2,"-","-",1,4,4,5,6,2,0,7,0,7,0,6,2,7,1,7,7]
[null,"西郷村","310-03",{"v":3237,"d":"3,237"},{"v":1986,"d":"1,986"},440,194,219,27,121,241,48,19,41,"-","-",{"v":11,"d":"      11"},{"v":1,"d":"      1"},{"v":8,"d":"      8"},{"v":2,"d":"      2"},"-",2,1,5,3,"-",10,11,2,10,11,3,0,11,1,11,0,8,3,11,1,11,11]
[null,"圷村","310-04",540,10,327,250,74,3,16,187,13,"-",13,"-","-",{"v":7,"d":"      7"},{"v":4,"d":"      4"},{"v":3,"d":"      3"},"-","-","-",5,2,"-","-",2,5,3,6,6,1,0,7,0,5,0,0,0,4,1,7,7]
[null,"岩船村","310-05",{"v":2821,"d":"2,821"},{"v":1806,"d":"1,806"},386,110,258,18,113,201,40,4,38,3,"-",{"v":12,"d":"      12"},"-",{"v":6,"d":"      6"},{"v":6,"d":"      6"},"-",1,4,7,"-","-",1,3,2,5,3,1,6,12,2,12,1,3,1,11,1,12,12]
[null,"沢山村","310-06",{"v":1278,"d":"1,278"},529,251,124,119,8,24,117,11,1,10,"-","-",{"v":14,"d":"      14"},{"v":2,"d":"      2"},{"v":4,"d":"      4"},{"v":8,"d":"      8"},1,4,4,5,"-","-",0,1,0,2,1,0,12,14,1,9,0,3,1,3,0,12,10]
[null,"七会村（城里町）","310-07",{"v":6312,"d":"6,312"},{"v":5108,"d":"5,108"},386,246,105,35,67,290,50,5,48,1,1,{"v":19,"d":"      19"},{"v":6,"d":"      6"},{"v":13,"d":"      13"},"-","-","-",3,9,6,1,18,13,1,17,17,1,1,19,1,19,0,2,0,19,15,19,12]
["東海村",null,"341-00",{"v":3748,"d":"3,748"},499,1068,484,568,16,117,486,177,129,111,"-",1,{"v":18,"d":"      18"},{"v":5,"d":"      5"},{"v":8,"d":"      8"},{"v":5,"d":"      5"},6,10,1,1,"-","-",18,18,18,18,18,18,0,18,0,17,1,9,0,18,0,18,0]
[null,"石神村","341-01",{"v":1156,"d":"1,156"},73,410,189,220,1,47,204,47,26,37,"-","-",{"v":8,"d":"      8"},{"v":2,"d":"      2"},{"v":4,"d":"      4"},{"v":2,"d":"      2"},3,4,"-",1,"-","-",8,8,8,8,8,8,0,8,0,7,1,3,0,8,0,8,0]
[null,"村松村","341-02",{"v":2592,"d":"2,592"},426,658,295,348,15,70,282,130,103,74,"-",1,{"v":10,"d":"      10"},{"v":3,"d":"      3"},{"v":4,"d":"      4"},{"v":3,"d":"      3"},3,6,1,"-","-","-",10,10,10,10,10,10,0,10,0,10,0,6,0,10,0,10,0]
["大子町",null,"364-00",{"v":32578,"d":"32,578"},{"v":25785,"d":"25,785"},2373,1090,1026,257,788,1204,245,52,229,39,7,{"v":64,"d":"      64"},{"v":7,"d":"      7"},{"v":36,"d":"      36"},{"v":21,"d":"      21"},4,15,19,19,6,1,16,38,40,48,46,11,8,64,2,64,1,16,11,63,18,59,38]
[null,"大子町（旧）","364-01",{"v":2853,"d":"2,853"},{"v":1850,"d":"1,850"},352,191,142,19,97,179,44,4,43,5,2,{"v":7,"d":"      7"},{"v":1,"d":"      1"},{"v":5,"d":"      5"},{"v":1,"d":"      1"},2,1,3,1,"-","-",3,5,5,6,6,1,0,7,0,7,0,2,2,7,1,7,5]
[null,"依上村","364-02",{"v":3206,"d":"3,206"},{"v":2506,"d":"2,506"},371,186,168,17,92,233,25,4,25,7,1,{"v":6,"d":"      6"},"-",{"v":6,"d":"      6"},"-","-","-",2,4,"-","-",2,6,6,6,6,0,0,6,2,6,1,3,3,6,5,6,6]
[null,"佐原村","364-03",{"v":3334,"d":"3,334"},{"v":2773,"d":"2,773"},245,73,98,74,53,148,34,20,28,"-","-",{"v":4,"d":"      4"},"-",{"v":2,"d":"      2"},{"v":2,"d":"      2"},"-","-",1,3,"-","-",3,4,2,3,3,1,0,4,0,4,0,0,0,4,3,4,4]
[null,"黒沢村","364-04",{"v":7268,"d":"7,268"},{"v":6636,"d":"6,636"},264,76,149,39,95,130,34,11,30,1,"-",{"v":5,"d":"      5"},"-",{"v":2,"d":"      2"},{"v":3,"d":"      3"},"-",1,2,2,"-","-",1,4,5,5,5,0,0,5,0,5,0,0,0,5,4,5,4]
[null,"宮川村","364-05",{"v":2574,"d":"2,574"},{"v":1498,"d":"1,498"},308,173,111,24,94,176,29,3,26,7,2,{"v":10,"d":"      10"},{"v":4,"d":"      4"},{"v":5,"d":"      5"},{"v":1,"d":"      1"},"-",2,3,3,2,"-",4,9,4,9,10,1,0,10,0,10,0,4,3,10,1,10,8]
[null,"生瀬村","364-06",{"v":5010,"d":"5,010"},{"v":3969,"d":"3,969"},474,280,166,28,152,228,44,4,43,11,"-",{"v":7,"d":"      7"},{"v":1,"d":"      1"},{"v":6,"d":"      6"},"-","-",1,1,3,1,1,3,5,6,3,6,2,0,7,0,7,0,1,1,6,2,7,7]
[null,"袋田村","364-07",{"v":2575,"d":"2,575"},{"v":1776,"d":"1,776"},184,75,87,22,88,67,20,"-",19,2,"-",{"v":10,"d":"      10"},{"v":1,"d":"      1"},{"v":4,"d":"      4"},{"v":5,"d":"      5"},1,6,2,1,"-","-",0,1,7,7,7,1,2,10,0,10,0,3,1,10,1,8,1]
[null,"上小川村","364-08",{"v":4323,"d":"4,323"},{"v":3707,"d":"3,707"},135,33,87,15,86,34,8,3,8,1,1,{"v":8,"d":"      8"},"-",{"v":5,"d":"      5"},{"v":3,"d":"      3"},"-",2,3,2,1,"-",0,4,0,4,0,0,4,8,0,8,0,3,1,8,1,7,3]
[null,"下小川村２－２","364-09",{"v":1042,"d":"1,042"},744,37,1,17,19,"X",8,"x","x","x","x","x",{"v":6,"d":"      6"},"-","-",{"v":6,"d":"      6"},1,2,2,"-",1,"-",0,0,5,5,3,5,1,6,0,6,0,0,0,6,0,4,0]
[null,"諸富野村２－２","364-10",393,326,3,2,1,0,"X",1,"x","x","x","x","x",{"v":1,"d":"      1"},"-",{"v":1,"d":"      1"},"-","-","-","-","-",1,"-",0,0,0,0,0,0,1,1,0,1,0,0,0,1,0,1,0]
["美浦村",null,"442-00",{"v":6657,"d":"6,657"},478,1172,908,245,19,172,421,96,5,96,"-","-",{"v":35,"d":"      35"},{"v":25,"d":"      25"},{"v":9,"d":"      9"},{"v":1,"d":"      1"},11,14,8,2,"-","-",35,34,35,34,31,12,0,35,0,27,1,11,0,33,0,35,0]
[null,"安中村","442-01",{"v":1166,"d":"1,166"},120,538,484,51,3,"X",213,59,3,59,"-","-",{"v":15,"d":"      15"},{"v":14,"d":"      14"},{"v":1,"d":"      1"},"-",1,5,7,2,"-","-",15,15,15,15,15,2,0,15,0,10,0,7,0,15,0,15,0]
[null,"木原村","442-02",{"v":2022,"d":"2,022"},353,554,351,187,16,136,184,34,2,34,"-","-",{"v":18,"d":"      18"},{"v":9,"d":"      9"},{"v":8,"d":"      8"},{"v":1,"d":"      1"},8,9,1,"-","-","-",18,17,18,17,16,10,0,18,0,15,1,2,0,16,0,18,0]
[null,"舟島村２－２","442-03",215,5,80,73,7,0,"X",24,3,"-",3,"-","-",{"v":2,"d":"      2"},{"v":2,"d":"      2"},"-","-",2,"-","-","-","-","-",2,2,2,2,0,0,0,2,0,2,0,2,0,2,0,2,0]
["阿見町",null,"443-00",{"v":7139,"d":"7,139"},{"v":1112,"d":"1,112"},2218,834,1299,85,485,647,130,6,126,1,2,{"v":42,"d":"      42"},{"v":5,"d":"      5"},{"v":22,"d":"      22"},{"v":15,"d":"      15"},13,13,11,5,"-","-",6,28,1,1,2,0,12,41,0,37,0,10,0,25,0,39,0]
[null,"阿見町（旧）","443-01",{"v":1659,"d":"1,659"},93,424,197,222,5,114,180,45,"-",45,"-","-",{"v":13,"d":"      13"},{"v":3,"d":"      3"},{"v":5,"d":"      5"},{"v":5,"d":"      5"},9,2,2,"-","-","-",1,6,0,0,1,0,6,12,0,8,0,3,0,8,0,11,0]
[null,"朝日村","443-02",{"v":2581,"d":"2,581"},545,907,235,636,36,172,240,42,4,40,"-",1,{"v":16,"d":"      16"},"-",{"v":7,"d":"      7"},{"v":9,"d":"      9"},3,7,6,"-","-","-",3,11,0,0,1,0,4,16,0,16,0,3,0,8,0,15,0]
[null,"舟島村２－１","443-03",624,78,216,129,79,8,53,58,13,1,12,1,"-",{"v":5,"d":"      5"},{"v":2,"d":"      2"},{"v":3,"d":"      3"},"-",1,3,1,"-","-","-",2,5,0,0,0,0,0,5,0,5,0,3,0,3,0,5,0]
[null,"君原村","443-04",{"v":1633,"d":"1,633"},396,671,273,362,36,146,169,30,1,29,"-",1,{"v":8,"d":"      8"},"-",{"v":7,"d":"      7"},{"v":1,"d":"      1"},"-",1,2,5,"-","-",0,6,1,1,0,0,2,8,0,8,0,1,0,6,0,8,0]
["河内町",null,"447-00",{"v":4432,"d":"4,432"},"-",2831,2746,79,6,22,811,145,12,139,2,4,{"v":34,"d":"      34"},{"v":34,"d":"      34"},"-","-","-",3,11,11,4,5,15,2,29,28,28,24,2,34,19,0,0,3,3,25,2,34,2]
[null,"生板村２－２","447-01",{"v":1305,"d":"1,305"},"-",766,739,25,2,5,202,37,2,35,"-","-",{"v":10,"d":"      10"},{"v":10,"d":"      10"},"-","-","-",1,3,1,1,4,6,1,10,9,9,8,0,10,5,0,0,1,1,7,0,10,0]
[null,"源清田村","447-02",899,"-",567,545,20,2,5,169,45,8,43,"-",1,{"v":10,"d":"      10"},{"v":10,"d":"      10"},"-","-","-","-",4,5,"-",1,4,0,9,9,7,6,0,10,6,0,0,0,0,7,0,10,0]
[null,"瑞穂村","447-03",528,"-",389,376,13,0,3,105,18,"-",17,"-",2,{"v":6,"d":"      6"},{"v":6,"d":"      6"},"-","-","-","-",3,2,1,"-",3,0,6,6,6,5,0,6,2,0,0,1,1,4,0,6,0]
[null,"金江津村","447-04",{"v":1700,"d":"1,700"},"-",1109,1086,21,2,9,335,45,2,44,2,1,{"v":8,"d":"      8"},{"v":8,"d":"      8"},"-","-","-",2,1,3,2,"-",2,1,4,4,6,5,2,8,6,0,0,1,1,7,2,8,2]
["八千代町",null,"521-00",{"v":5910,"d":"5,910"},210,3653,1832,1719,102,164,1296,127,7,124,1,4,{"v":67,"d":"      67"},{"v":21,"d":"      21"},{"v":24,"d":"      24"},{"v":22,"d":"      22"},2,21,29,14,1,"-",52,56,57,62,63,40,2,67,23,36,1,2,0,21,12,64,40]
[null,"中結城村","521-01",{"v":1288,"d":"1,288"},25,868,528,325,15,32,299,33,2,31,"-",1,{"v":14,"d":"      14"},{"v":7,"d":"      7"},{"v":3,"d":"      3"},{"v":4,"d":"      4"},1,4,7,2,"-","-",9,12,12,14,14,10,0,14,12,6,0,0,0,6,6,14,12]
[null,"川西村","521-02",792,4,535,350,114,71,7,221,33,1,33,1,1,{"v":10,"d":"      10"},{"v":3,"d":"      3"},{"v":7,"d":"      7"},"-","-",1,5,4,"-","-",9,9,9,10,10,9,0,10,8,1,0,1,0,6,4,10,10]
[null,"西豊田村","521-03",{"v":1196,"d":"1,196"},33,724,462,247,15,29,297,26,1,26,"-","-",{"v":15,"d":"      15"},{"v":7,"d":"      7"},{"v":8,"d":"      8"},"-","-",4,8,3,"-","-",9,13,15,15,15,2,0,15,1,6,0,0,0,3,1,15,1]
[null,"安静村","521-04",{"v":1593,"d":"1,593"},102,932,295,636,1,60,303,15,"-",14,"-",2,{"v":15,"d":"      15"},{"v":1,"d":"      1"},{"v":4,"d":"      4"},{"v":10,"d":"      10"},"-",8,4,2,1,"-",15,15,15,15,15,15,0,15,1,12,1,1,0,5,1,15,15]
[null,"下結城村","521-05",997,44,565,174,391,0,35,169,20,3,20,"-","-",{"v":12,"d":"      12"},{"v":2,"d":"      2"},{"v":2,"d":"      2"},{"v":8,"d":"      8"},1,4,4,3,"-","-",9,6,5,7,8,3,2,12,0,10,0,0,0,1,0,9,1]
[null,"名崎村２－２","521-06",44,2,29,23,6,0,"-",7,"-","-","-","-","-",{"v":1,"d":"      1"},{"v":1,"d":"      1"},"-","-","-","-",1,"-","-","-",1,1,1,1,1,1,0,1,1,1,0,0,0,0,0,1,1]
["五霞町",null,"542-00",{"v":2309,"d":"2,309"},22,1055,1011,44,0,26,643,99,8,94,"-",2,{"v":14,"d":"      14"},{"v":14,"d":"      14"},"-","-","-",3,7,4,"-","-",14,13,11,14,13,5,0,14,0,11,0,0,0,10,5,14,14]
[null,"（五霞町）",null,{"v":2309,"d":"2,309"},22,1055,1011,44,0,26,643,99,8,94,"-",2,{"v":14,"d":"      14"},{"v":14,"d":"      14"},"-","-","-",3,7,4,"-","-",14,13,11,14,13,5,0,14,0,11,0,0,0,10,5,14,14]
["境町",null,"546-00",{"v":4658,"d":"4,658"},231,2385,1112,1226,47,153,989,124,12,114,1,2,{"v":58,"d":"      58"},{"v":7,"d":"      7"},{"v":31,"d":"      31"},{"v":20,"d":"      20"},11,17,19,10,1,"-",43,19,13,24,23,18,10,56,9,41,3,1,1,17,9,52,50]
[null,"境町（旧）","546-01",349,2,58,35,22,1,8,31,7,"-",7,"-","-",{"v":9,"d":"      9"},{"v":3,"d":"      3"},{"v":1,"d":"      1"},{"v":5,"d":"      5"},9,"-","-","-","-","-",1,0,0,0,1,0,8,7,0,1,0,0,0,2,0,4,4]
[null,"長田村","546-02",{"v":1037,"d":"1,037"},69,572,256,294,22,34,213,26,3,24,"-",1,{"v":8,"d":"      8"},{"v":1,"d":"      1"},{"v":3,"d":"      3"},{"v":4,"d":"      4"},1,4,2,1,"-","-",6,4,5,4,6,4,0,8,1,8,0,0,0,0,0,8,8]
[null,"猿島村","546-03",{"v":1139,"d":"1,139"},62,567,202,348,17,48,229,37,7,32,1,"-",{"v":16,"d":"      16"},"-",{"v":9,"d":"      9"},{"v":7,"d":"      7"},1,8,4,2,1,"-",16,5,1,0,5,0,0,16,0,15,0,0,0,5,2,15,14]
[null,"森戸村","546-04",{"v":1244,"d":"1,244"},63,670,367,296,7,35,295,29,1,27,"-",1,{"v":17,"d":"      17"},{"v":2,"d":"      2"},{"v":12,"d":"      12"},{"v":3,"d":"      3"},"-",5,6,6,"-","-",12,4,6,13,10,8,2,17,8,12,2,1,1,5,3,17,16]
[null,"静村","546-05",889,35,518,252,266,0,27,221,25,1,24,"-","-",{"v":8,"d":"      8"},{"v":1,"d":"      1"},{"v":6,"d":"      6"},{"v":1,"d":"      1"},"-","-",7,1,"-","-",8,6,1,7,1,6,0,8,0,5,1,0,0,5,4,8,8]
["利根町",null,"564-00",{"v":2490,"d":"2,490"},58,1201,1133,66,2,44,436,119,4,115,1,1,{"v":26,"d":"      26"},{"v":24,"d":"      24"},{"v":2,"d":"      2"},"-",1,8,11,4,1,1,4,14,19,24,24,1,2,26,0,19,0,4,1,18,9,26,2]
[null,"布川町","564-01",556,5,127,122,5,0,5,53,15,"-",15,"-","-",{"v":6,"d":"      6"},{"v":5,"d":"      5"},{"v":1,"d":"      1"},"-",1,4,1,"-","-","-",1,2,5,6,6,0,0,6,0,5,0,1,0,3,0,6,0]
[null,"文村","564-02",538,23,250,228,21,1,24,115,40,2,38,1,1,{"v":9,"d":"      9"},{"v":9,"d":"      9"},"-","-","-",3,3,2,1,"-",1,6,7,8,8,1,1,9,0,8,0,0,0,8,6,9,1]
[null,"文間村","564-03",620,26,310,299,11,0,12,139,33,1,32,"-","-",{"v":4,"d":"      4"},{"v":4,"d":"      4"},"-","-","-",1,2,1,"-","-",1,3,2,4,4,0,0,4,0,3,0,1,1,3,2,4,1]
[null,"東文間村","564-04",776,4,514,484,29,1,3,129,31,1,30,"-","-",{"v":7,"d":"      7"},{"v":6,"d":"      6"},{"v":1,"d":"      1"},"-","-","-",5,1,"-",1,1,3,5,6,6,0,1,7,0,3,0,2,0,4,1,7,0]

{"sheet":"2015年","index":3,"n_rows":448,"n_cols":49,"rows_kept":448,"hidden":true,"merged":[[1,4,1,5],[1,6,1,9],[1,11,1,16],[1,17,1,20],[1,21,1,26],[1,27,1,33],[1,34,1,43]]}
[{"$nulls":4},1,2,3,4,5,6,7,8,9,10,11,12,13,14,15,16,17,18,19,20,21,22,23,24,25,26,27,28,29,30,31,32,33,34,35,36,37,38,39,40,41,42,43,44,45]
[{"$nulls":4},"総土地面積",null,"耕地面積",{"$nulls":3},"耕作放棄地","生産関連事業",{"$nulls":5},"水田率別農業集落数",{"$nulls":3},"農家率別農業集落数",{"$nulls":5},"寄り合いの議題_農業生産にかかる事項",{"$nulls":6},"保全管理"]
[null,null,"新旧市区町村",null,"総土地面積","林野面積","耕地面積","田面積","畑面積","樹園地面積","耕作放棄地","計","農業生産関連事業を行っている実経営体数","事業種類別_農産物の加工","事業種類別_消費者に直接販売","事業種類別_観光農園","その他","計","水田集落\n（70％以上）","田畑集落\n（30～70）","畑地集落\n（30％未満）","10％未満","10～30","30～50","50～70","70～90","90％以上","寄り合いの議題_農業生産にかかる事項","寄り合いの議題_農道・農業用用排水路・ため池の管理","寄り合いの議題_集落共有財産・共用施設の管理","寄り合いの議題_環境美化・自然環境の保全","寄り合いの議題_農業集落行事（祭り・イベント等）の計画・推進","寄り合いの議題_農業集落内の福祉・厚生","寄り合いを開催しなかった","農地がある集落","農地_保全している","森林がある集落","森林_保全している","ため池・湖沼がある集落","ため池・湖沼_保全している","河川・水路がある集落","河川・水路_保全している","農業用用排水路がある集落","農業用用排水路_保全している"]
[1,"茨城県",null,null,609693,190029,174753,100064,67124,7565,23918,57989,11319,981,10893,257,187,3802,1310,1673,819,901,1276,1071,459,77,18,1781,2904,2473,3290,3143,2097,218,3764,779,2994,321,955,434,2537,1042,3585,2434]
[2,"水戸市",null,"201-00",21732,3474,7132,4379,2460,293,1335,2666,499,39,485,12,5,184,54,84,46,72,45,45,18,4,"-",50,109,84,121,122,52,50,163,15,131,12,58,41,106,49,147,93]
[3,null,"水戸市（旧）","201-01",1490,23,35,20,15,"-",16,28,3,"-",3,"-","-",31,7,3,21,30,"-",1,"-","-","-","-","-","-","-","-","-",31,11,"-",1,"-",2,"-",8,"-",5,"-"]
[4,null,"国田村","201-02",1003,82,569,396,155,18,73,245,23,1,22,"-",1,18,7,10,1,"-",2,7,7,2,"-",7,18,11,18,18,"-","-",18,"-",12,"-",3,2,13,"-",18,18]
[5,null,"吉田村","201-03",950,66,99,44,51,4,22,31,7,"-",7,"-","-",6,1,4,1,6,"-","-","-","-","-","-","-","-","-","-","-",6,6,"-",6,"-",2,"-",5,"-",6,"-"]
[6,null,"酒門村２－１","201-04",1277,272,442,314,118,10,94,152,31,5,30,1,"-",8,4,4,"-",3,5,"-","-","-","-",1,3,1,4,2,"-",3,8,"-",7,"-",1,"-",5,2,8,1]
[7,null,"柳河村","201-05",643,5,291,185,103,3,20,147,25,1,25,1,"-",4,1,3,"-",1,2,1,"-","-","-",2,4,3,4,4,"-","-",4,"-",1,"-","-","-",4,2,4,4]
[8,null,"渡里村","201-06",1077,216,251,113,133,5,62,61,13,1,13,"-","-",5,1,3,1,4,"-",1,"-","-","-","-",4,4,4,3,"-",1,5,"-",5,"-",1,1,2,"-",3,3]
[9,null,"上大野村","201-07",605,16,362,301,56,5,27,151,28,"-",28,"-","-",6,5,1,"-",1,3,2,"-","-","-",3,4,3,3,1,1,2,6,"-",5,"-","-","-",5,"-",6,3]
[10,null,"緑岡村","201-08",2506,279,439,222,198,19,104,172,34,5,34,1,"-",19,1,10,8,16,2,1,"-","-","-","-",3,"-",11,15,"-",4,18,"-",18,"-",5,2,3,"-",11,"-"]
[11,null,"飯富村","201-09",1494,321,545,134,404,7,142,141,27,2,26,1,"-",8,"-",3,5,"-",4,4,"-","-","-",2,8,7,8,8,6,"-",8,"-",8,1,2,2,6,2,8,7]
[12,null,"上中妻村","201-10",838,111,353,200,146,7,74,129,20,"-",20,"-","-",4,"-",4,"-",2,1,"-",1,"-","-","-",3,4,4,4,3,"-",4,"-",4,"-",2,2,"-","-",4,3]
[13,null,"山根村","201-11",1555,518,215,96,105,14,88,84,24,3,23,6,1,6,"-",6,"-",1,2,3,"-","-","-",2,6,6,5,5,3,"-",6,"-",6,"-",6,5,1,1,6,4]
[14,null,"河和田村","201-12",1257,253,326,197,107,22,88,149,34,6,32,1,1,9,3,3,3,5,4,"-","-","-","-","-",2,"-",7,9,"-","-",9,"-",9,"-",4,2,"-","-",9,"-"]
[15,null,"下大野村","201-13",987,10,642,595,39,8,28,225,64,2,63,1,1,8,8,"-","-","-",3,5,"-","-","-",8,8,8,8,8,8,"-",8,2,"-","-",2,2,8,8,8,8]
[16,null,"稲荷村","201-14",976,151,453,381,62,10,46,193,31,4,27,"-",1,10,10,"-","-",2,3,4,1,"-","-",9,10,10,10,10,9,"-",10,6,7,4,6,5,10,8,10,10]
[17,null,"大場村（水戸市）","201-15",926,247,463,358,96,9,43,178,38,4,36,"-","-",9,4,5,"-","-",1,6,1,1,"-",9,8,7,9,9,9,"-",9,3,9,3,7,4,9,4,9,7]
[18,null,"下中妻村","201-16",1170,255,357,209,128,20,71,138,29,2,29,"-","-",5,"-",5,"-",1,2,2,"-","-","-",2,5,2,4,5,3,"-",5,2,5,2,3,3,4,2,5,5]
[19,null,"中妻村","201-17",787,163,374,217,144,13,76,166,34,1,34,"-","-",7,1,6,"-","-",1,3,3,"-","-",1,7,7,7,7,3,"-",7,"-",7,1,3,3,7,6,7,6]
[20,null,"鯉渕村２－１","201-18",2191,486,916,397,400,119,260,276,34,2,33,"-","-",21,1,14,6,"-",10,5,5,1,"-",4,16,11,15,14,7,3,21,2,21,1,9,8,16,14,20,14]
[21,"日立市",null,"202-00",22571,12151,967,648,284,35,229,492,117,5,114,4,"-",32,10,12,10,19,8,5,"-","-","-",4,10,1,10,14,2,12,31,2,31,1,4,1,15,5,22,8]
[22,null,"中里村","202-01",3370,2358,131,82,32,17,66,61,17,"-",17,1,"-",4,1,3,"-",1,1,2,"-","-","-",1,4,"-",2,3,"-","-",4,"-",4,1,"-","-",4,3,4,2]
[23,null,"豊浦町","202-02",786,199,33,16,14,3,22,26,10,"-",10,2,"-",2,"-",2,"-",2,"-","-","-","-","-","-","-","-","-","-","-",2,2,"-",2,"-","-","-","-","-",2,"-"]
[24,null,"日高村","202-03",1556,703,43,26,17,0,17,24,4,1,3,"-","-",3,1,1,1,3,"-","-","-","-","-","-",1,"-","-","-","-",2,3,"-",3,"-","-","-",1,"-",3,1]
[25,null,"日立市（旧）","202-04",3747,1836,4,"-",4,"-","X",11,"x","x","x","x","x",4,"-","-",4,4,"-","-","-","-","-","-","-","-",2,2,"-",1,3,"-",4,"-","-","-","-","-","-","-"]
[26,null,"多賀町","202-05",4438,1837,23,1,20,2,12,16,3,"-",3,"-","-",5,"-","-",5,5,"-","-","-","-","-","-","-","-",2,2,"-",3,5,"-",5,"-","-","-",1,"-","-","-"]
[27,null,"久慈町","202-06",341,22,"…","…","…","…","X",2,"x","x","x","x","x","-","-","-","-","-","-","-","-","-","-","…","…","…","…","…","…","…","…","…","…","…","…","…","…","…","…","…"]
[28,null,"坂本村","202-07",633,93,185,146,34,5,24,76,16,"-",16,1,"-",4,3,1,"-",1,1,2,"-","-","-",2,2,"-",3,1,1,1,4,"-",4,"-","-","-","-","-",4,2]
[29,null,"東小沢村","202-08",475,22,147,116,29,2,14,87,14,"-",14,"-","-",3,3,"-","-","-",2,1,"-","-","-","-",2,1,1,3,"-","-",3,1,2,"-","-","-",3,2,2,2]
[30,null,"黒前村２－１","202-09",5571,4474,166,114,50,2,36,85,11,"-",11,"-","-",3,1,2,"-","-",3,"-","-","-","-","-","-","-","-",2,1,1,3,"-",3,"-",1,"-",3,"-",3,"-"]
[31,null,"櫛形村","202-10",1654,607,235,147,84,4,32,104,37,3,36,"-","-",4,1,3,"-",3,1,"-","-","-","-",1,1,"-","-",1,"-",2,4,1,4,"-",3,1,3,"-",4,1]
[32,"土浦市",null,"203-00",12289,1499,3509,1978,1219,312,634,1204,311,18,306,5,5,69,19,42,8,32,18,11,8,"-","-",21,54,25,56,61,28,6,69,33,63,14,29,15,28,15,67,50]
[33,null,"土浦市（旧）","203-01",5814,446,1418,857,497,64,296,527,135,7,132,2,4,37,13,18,6,25,6,2,4,"-","-",15,27,18,29,32,15,3,37,23,34,12,13,5,13,12,35,25]
[34,null,"上大津村","203-02",2356,291,919,491,286,142,169,324,49,4,49,1,"-",12,2,9,1,3,6,2,1,"-","-",3,9,4,8,9,2,3,12,5,11,1,4,2,2,1,12,7]
[35,null,"藤沢村","203-03",1024,101,461,233,173,55,64,109,25,2,24,1,"-",7,"-",6,1,3,2,2,"-","-","-",1,5,1,6,7,6,"-",7,"-",6,"-",4,2,4,"-",7,5]
[36,null,"山ノ荘村","203-04",1483,614,395,205,157,33,65,134,69,4,68,1,1,6,2,4,"-","-",1,3,2,"-","-",1,6,2,6,6,3,"-",6,2,6,1,4,3,5,2,6,6]
[37,null,"斗利出村","203-05",696,47,316,192,106,18,39,110,33,1,33,"-","-",7,2,5,"-",1,3,2,1,"-","-",1,7,"-",7,7,2,"-",7,3,6,"-",4,3,4,"-",7,7]
[38,"古河市",null,"204-00",12358,884,5147,2323,2797,27,564,1736,251,13,248,1,5,101,7,72,22,46,40,11,4,"-","-",51,90,57,78,76,66,7,101,13,87,1,3,2,57,47,95,90]
[39,null,"古河町","204-01",813,2,8,5,3,"-",10,12,1,"-",1,"-","-",3,1,1,1,3,"-","-","-","-","-","-","-","-","-","-","-",3,3,"-","-","-","-","-",3,"-",1,"-"]
[40,null,"新郷村","204-02",1292,21,337,214,121,2,57,132,33,"-",33,"-","-",12,2,7,3,9,2,1,"-","-","-",1,9,3,1,"-",1,3,12,1,7,"-","-","-",7,1,10,9]
[41,null,"勝鹿村","204-03",1079,45,390,192,195,3,63,196,32,1,32,"-","-",9,"-",7,2,5,3,1,"-","-","-",9,9,9,9,7,7,"-",9,"-",9,"-","-","-",4,4,9,9]
[42,null,"香取村","204-04",1551,82,717,343,372,2,94,220,29,1,28,"-","-",10,"-",8,2,3,6,1,"-","-","-",10,10,10,10,10,10,"-",10,3,10,"-","-","-",7,7,10,10]
[43,null,"桜井村","204-05",1298,140,606,212,390,4,52,170,25,"-",24,"-",1,8,"-",7,1,3,5,"-","-","-","-",1,8,1,7,8,8,"-",8,"-",7,"-","-","-",7,7,8,8]
[44,null,"岡郷村","204-06",1349,159,609,282,324,3,53,197,23,2,23,"-","-",14,3,9,2,5,5,1,3,"-","-",2,13,"-",8,10,4,1,14,5,11,"-","-","-",10,10,13,13]
[45,null,"幸島村","204-07",2147,288,974,468,495,11,94,318,34,3,33,1,3,20,"-",17,3,9,9,2,"-","-","-",8,18,13,20,17,14,"-",20,2,20,1,"-","-",8,8,19,18]
[46,null,"名崎村２－１","204-08",1365,78,675,249,424,2,95,213,32,2,32,"-",1,10,"-",7,3,4,4,2,"-","-","-",8,9,9,8,9,8,"-",10,"-",10,"-",1,1,7,6,10,9]
[47,null,"八俣村","204-09",1464,69,831,358,473,"-",45,278,42,4,42,"-","-",15,1,9,5,5,6,3,1,"-","-",12,14,12,15,15,14,"-",15,2,13,"-",2,1,4,4,15,14]
[48,"石岡市",null,"205-00",21553,8732,6626,3077,2436,1113,1355,2670,717,26,703,35,8,165,27,97,41,22,32,68,41,2,"-",53,102,88,163,154,98,"-",165,53,153,24,49,12,127,62,159,96]
[49,null,"石岡町","205-01",3150,406,980,393,405,182,263,373,90,6,85,2,1,23,2,14,7,10,9,4,"-","-","-",3,10,5,23,21,3,"-",23,4,23,1,5,"-",11,1,22,10]
[50,null,"高浜町","205-02",1112,230,375,233,111,31,66,163,25,2,24,"-",1,7,3,3,1,2,1,2,2,"-","-",2,4,2,7,6,7,"-",7,2,7,1,2,"-",5,4,6,4]
[51,null,"三村","205-03",1012,187,532,238,183,111,116,170,34,"-",33,"-",1,15,3,5,7,"-",1,9,4,1,"-","-",6,2,15,15,14,"-",15,4,13,3,7,2,5,1,13,6]
[52,null,"関川村","205-04",734,135,402,212,158,32,85,147,27,2,26,"-",1,7,4,1,2,"-",1,3,3,"-","-","-",2,"-",7,6,7,"-",7,1,7,"-",5,"-",1,1,7,2]
[53,null,"柿岡町","205-05",1008,272,365,216,94,55,77,146,41,3,39,"-","-",15,2,11,2,5,6,4,"-","-","-",2,11,8,14,14,8,"-",15,6,12,4,6,4,13,6,14,11]
[54,null,"小幡村","205-06",2273,1348,484,248,130,106,111,238,82,3,82,11,"-",21,6,10,5,1,4,10,6,"-","-",3,8,13,21,20,4,"-",21,1,18,2,3,1,18,8,20,7]
[55,null,"葦穂村","205-07",2410,1340,581,287,203,91,141,258,79,1,79,7,"-",8,"-",8,"-","-",1,5,2,"-","-",2,5,6,7,8,4,"-",8,1,8,2,3,"-",8,2,8,3]
[56,null,"恋瀬村","205-08",2285,1635,488,275,180,33,102,181,48,1,47,"-","-",14,3,9,2,"-","-",11,3,"-","-",13,14,14,14,13,10,"-",14,13,12,2,1,"-",13,10,14,14]
[57,null,"瓦会村","205-09",1584,753,468,251,189,28,72,227,71,2,71,2,"-",11,"-",11,"-","-","-",6,5,"-","-",11,11,11,11,11,10,"-",11,11,10,"-",4,3,11,9,11,11]
[58,null,"園部村","205-10",2012,655,977,216,397,364,133,336,89,1,88,1,2,21,1,7,13,3,7,6,5,"-","-",8,10,10,21,21,21,"-",21,1,20,1,3,1,19,8,21,10]
[59,null,"林村","205-11",1679,595,474,228,214,32,98,215,48,2,47,2,1,13,3,8,2,1,1,4,6,1,"-",3,12,10,13,10,5,"-",13,3,13,3,7,1,13,5,13,10]
[60,null,"小桜村","205-12",2294,1176,500,280,172,48,92,216,83,3,82,10,1,10,"-",10,"-","-",1,4,5,"-","-",6,9,7,10,9,5,"-",10,6,10,5,3,"-",10,7,10,8]
[61,"結城市",null,"207-00",6576,236,3365,1696,1634,35,302,1051,171,6,168,4,"-",80,20,47,13,26,27,22,5,"-","-",37,75,63,66,73,45,"-",80,1,51,11,1,1,44,10,80,56]
[62,null,"結城町","207-01",1941,43,725,417,292,16,90,253,47,1,47,3,"-",21,7,11,3,15,5,1,"-","-","-",14,20,13,15,16,7,"-",21,1,8,1,"-","-",10,5,21,16]
[63,null,"絹川村","207-02",636,3,239,187,52,"-",37,70,17,1,16,"-","-",11,6,5,"-",6,5,"-","-","-","-",2,9,11,11,11,9,"-",11,"-",2,1,1,1,9,1,11,7]
[64,null,"上山川村","207-03",1022,74,529,265,247,17,58,148,28,"-",28,1,"-",12,2,7,3,1,8,3,"-","-","-",4,10,10,11,11,7,"-",12,"-",11,2,"-","-",7,1,12,7]
[65,null,"山川村","207-04",1113,12,793,448,345,0,28,247,51,2,51,"-","-",17,5,11,1,2,4,8,3,"-","-","-",17,17,17,16,14,"-",17,"-",12,"-","-","-",6,1,17,7]
[66,null,"江川村","207-05",1864,104,1079,379,698,2,89,333,28,2,26,"-","-",19,"-",13,6,2,5,10,2,"-","-",17,19,12,12,19,8,"-",19,"-",18,7,"-","-",12,2,19,19]
[67,"龍ケ崎市",null,"208-00",7855,629,2719,2301,402,16,292,669,123,3,122,2,1,57,45,9,3,27,21,7,1,"-",1,11,35,23,28,35,15,14,56,37,24,2,8,1,44,9,56,34]
[68,null,"長戸村","208-01",1104,184,449,395,50,4,50,104,12,1,12,"-","-",5,5,"-","-",1,4,"-","-","-","-",4,4,4,4,4,3,1,5,2,4,1,1,1,5,2,5,4]
[69,null,"龍ヶ崎町","208-02",725,3,183,173,10,"-",10,29,6,1,6,"-",1,6,5,"-",1,6,"-","-","-","-","-","-",5,"-",1,2,"-","-",5,4,1,"-","-","-",5,1,6,5]
[70,null,"川原代村","208-03",508,"-",193,178,15,"-",8,64,15,"-",15,"-","-",8,8,"-","-",4,2,1,1,"-","-",1,6,1,4,5,3,1,8,7,"-","-",1,"-",6,3,8,7]
[71,null,"馴柴村","208-04",1899,137,375,307,65,3,78,84,21,1,20,"-","-",9,6,2,1,8,1,"-","-","-","-",1,"-",2,1,1,"-",6,9,5,7,"-",3,"-",9,1,9,1]
[72,null,"八原村","208-05",1944,297,487,265,215,7,116,121,20,"-",20,2,"-",7,3,3,1,4,1,2,"-","-","-","-",2,1,2,2,2,5,7,1,7,1,1,"-",6,"-",7,2]
[73,null,"北文間村","208-06",626,8,344,325,18,1,13,108,22,"-",22,"-","-",7,7,"-","-","-",4,3,"-","-","-","-",5,2,4,6,"-",1,7,7,2,"-",1,"-",6,2,7,6]
[74,null,"大宮村","208-07",930,"-",621,593,27,1,17,142,25,"-",25,"-","-",14,10,4,"-",4,8,1,"-","-",1,5,12,12,12,14,7,"-",14,10,2,"-",1,"-",6,"-",13,8]
[75,null,"高須村２－２","208-08",119,"-",67,65,2,"-",0,17,2,"-",2,"-","-",1,1,"-","-","-",1,"-","-","-","-","-",1,1,"-",1,"-","-",1,1,1,"-","-","-",1,"-",1,1]
[76,"下妻市",null,"210-00",8088,383,4363,3027,1091,245,352,1297,215,4,213,"-",2,79,40,31,8,17,35,20,7,"-","-",65,70,69,75,75,53,"-",79,17,38,1,1,1,39,5,79,40]
[77,null,"下妻町","210-01",582,16,69,30,36,3,52,41,4,"-",4,"-","-",5,"-",4,1,5,"-","-","-","-","-","-",2,3,3,5,2,"-",5,"-",3,"-","-","-",3,"-",5,1]
[78,null,"大宝村","210-02",912,31,546,420,79,47,36,144,16,"-",16,"-","-",11,8,2,1,2,7,2,"-","-","-",9,11,10,9,9,6,"-",11,4,6,1,"-","-",3,1,11,10]
[79,null,"騰波ノ江村","210-03",686,13,458,331,28,99,31,139,10,"-",10,"-","-",10,5,2,3,"-",7,3,"-","-","-",10,9,9,10,9,7,"-",10,1,8,"-","-","-",5,"-",10,7]
[80,null,"上妻村","210-04",1784,144,915,468,358,89,102,255,57,2,56,"-","-",12,1,10,1,2,3,5,2,"-","-",5,11,6,12,11,8,"-",12,4,11,"-","-","-",6,3,12,6]
[81,null,"総上村","210-05",672,16,404,290,114,"-",35,96,18,1,18,"-",1,6,4,1,1,2,3,1,"-","-","-",6,6,6,6,6,1,"-",6,"-",2,"-","-","-","-","-",6,5]
[82,null,"豊加美村","210-06",708,9,479,394,83,2,9,180,32,"-",32,"-","-",7,4,3,"-","-",2,3,2,"-","-",7,7,7,7,7,1,"-",7,4,2,"-","-","-","-","-",7,7]
[83,null,"高道祖村","210-07",757,88,388,272,116,"-",19,95,11,1,10,"-",1,4,2,2,"-",2,2,"-","-","-","-",4,3,4,4,4,4,"-",4,1,4,"-",1,1,2,"-",4,1]
[84,null,"大形村","210-08",933,56,461,213,243,5,53,136,15,"-",15,"-","-",8,1,6,1,1,5,1,1,"-","-",8,6,8,8,8,8,"-",8,"-",2,"-","-","-",6,"-",8,"-"]
[85,null,"蚕飼村","210-09",303,8,173,153,20,"-",1,70,14,"-",14,"-","-",5,4,1,"-","-",2,2,1,"-","-",5,4,5,5,5,5,"-",5,2,"-","-","-","-",4,1,5,2]
[86,null,"玉村２－１","210-10",248,1,182,178,4,"-",4,50,12,"-",12,"-","-",3,3,"-","-",1,1,1,"-","-","-",3,3,3,3,3,3,"-",3,"-","-","-","-","-",3,"-",3,"-"]
[87,null,"宗道村","210-11",503,1,288,278,10,"-",11,91,26,"-",26,"-","-",8,8,"-","-",2,3,2,1,"-","-",8,8,8,8,8,8,"-",8,1,"-","-","-","-",7,"-",8,1]
[88,"常総市",null,"211-00",12364,602,6026,4612,1383,31,504,1970,432,10,430,3,4,154,95,35,24,29,64,45,13,2,1,77,131,104,131,135,70,4,152,5,51,2,13,8,79,22,150,109]
[89,null,"水海道町","211-01",492,4,107,66,41,0,16,43,11,1,11,1,"-",7,1,3,3,6,1,"-","-","-","-",3,4,5,5,4,4,2,5,"-",2,"-","-","-","-","-",5,3]
[90,null,"坂手村","211-02",804,69,262,168,90,4,56,91,7,1,7,"-","-",11,4,3,4,1,6,4,"-","-","-",1,4,4,8,8,1,1,11,"-",1,"-","-","-",2,"-",11,"-"]
[91,null,"豊岡村","211-03",872,68,399,333,66,"-",44,129,34,1,34,"-","-",12,7,4,1,4,2,5,1,"-","-",2,9,3,11,11,6,"-",12,"-",3,"-",2,1,6,1,12,7]
[92,null,"菅原村","211-04",909,44,509,377,127,5,49,208,44,"-",44,"-",1,11,7,2,2,"-",1,8,1,1,"-",1,10,4,9,10,7,"-",11,1,5,1,"-","-",5,2,11,10]
[93,null,"大花羽村","211-05",597,29,278,218,59,1,26,59,5,"-",5,"-","-",7,3,4,"-","-",6,1,"-","-","-",2,6,2,7,7,2,"-",7,"-",3,"-","-","-",3,2,7,6]
[94,null,"三妻村","211-06",806,2,470,441,28,1,4,124,27,"-",27,1,"-",15,14,1,"-",5,6,3,1,"-","-",7,13,5,9,10,6,"-",15,1,"-","-","-","-",3,"-",15,8]
[95,null,"五箇村","211-07",722,"-",448,390,58,"-",12,173,49,"-",48,"-",1,9,9,"-","-","-",2,4,3,"-","-",8,8,7,7,8,3,1,9,"-","-","-",3,"-",3,"-",9,7]
[96,null,"大生村","211-08",784,3,500,465,35,"-",15,160,53,"-",53,"-","-",11,11,"-","-","-",4,4,3,"-","-",4,9,10,10,8,5,"-",11,"-",4,"-","-","-",10,2,11,8]
[97,null,"内守谷村","211-09",570,45,149,101,45,3,39,39,8,"-",8,"-","-",4,2,2,"-",2,2,"-","-","-","-",1,3,3,4,4,2,"-",4,"-",4,"-","-","-",3,"-",4,3]
[98,null,"菅生村","211-10",1183,114,543,309,231,3,92,133,25,1,25,"-",1,15,2,7,6,"-",8,6,1,"-","-",4,14,12,9,13,7,"-",15,1,11,"-",6,6,4,"-",15,10]
[99,null,"十和村２－２","211-11",107,"-",60,43,15,2,7,14,5,"-",5,"-","-",1,1,"-","-","-",1,"-","-","-","-","-",1,"-",1,1,1,"-",1,"-","-","-","-","-",1,"-",1,1]
[100,null,"真瀬村２－２","211-12",130,"-",86,84,2,"-",0,28,10,"-",10,"-","-",1,1,"-","-","-","-","-",1,"-","-",1,1,1,1,1,1,"-",1,1,1,"-",1,1,1,1,1,1]
[101,null,"石下町","211-13",849,6,364,317,47,"-",7,135,25,1,25,1,"-",15,12,1,2,6,7,2,"-","-","-",15,15,14,15,15,2,"-",15,"-",1,1,"-","-",12,"-",15,13]
[102,null,"玉村２－２","211-14",406,17,246,218,27,1,6,100,31,1,31,"-",1,3,3,"-","-","-",3,"-","-","-","-",3,3,3,3,3,2,"-",3,"-",1,"-",1,"-",3,"-",3,3]
[103,null,"豊田村","211-15",616,5,334,297,37,"-",5,137,34,1,34,"-","-",9,8,1,"-",1,4,3,1,"-","-",9,9,9,9,9,3,"-",9,"-","-","-","-","-",9,"-",9,8]
[104,null,"岡田村（常総市）","211-16",846,62,363,214,147,2,49,130,25,"-",25,"-","-",7,3,4,"-",4,3,"-","-","-","-",5,7,6,7,7,6,"-",7,"-",7,"-","-","-",7,7,7,7]
[105,null,"飯沼村","211-17",1671,130,908,571,328,9,76,267,39,3,38,"-","-",16,7,3,6,"-",8,5,1,1,1,11,15,16,16,16,12,"-",16,1,8,"-","-","-",7,7,14,14]
[106,"常陸太田市",null,"212-00",37199,24759,5194,3390,1573,231,1014,2559,505,16,495,48,4,232,75,127,30,18,62,86,44,14,8,139,198,188,209,202,190,18,232,63,224,34,59,34,207,111,225,185]
[107,null,"太田町","212-01",303,3,33,30,3,"-",2,13,4,1,3,"-","-",3,3,"-","-",3,"-","-","-","-","-","-","-","-","-","-","-",3,3,"-",3,"-","-","-","-","-",3,"-"]
[108,null,"機初村","212-02",1472,690,321,221,96,4,47,221,47,"-",46,1,1,11,5,6,"-",1,3,1,5,"-",1,5,10,10,11,10,11,"-",11,"-",10,"-",2,1,6,4,11,9]
[109,null,"世矢村","212-03",1536,678,395,260,123,12,89,206,60,1,59,9,"-",20,8,10,2,4,6,6,4,"-","-",10,20,12,20,16,20,"-",20,16,18,12,9,6,20,20,19,19]
[110,null,"西小沢村","212-04",586,67,338,271,55,12,30,174,34,1,34,"-",1,9,7,2,"-","-",1,5,3,"-","-",7,9,9,9,8,9,"-",9,"-",5,"-","-","-",4,3,9,9]
[111,null,"幸久村","212-05",751,91,450,360,88,2,30,213,22,"-",22,"-","-",8,6,2,"-","-",1,2,3,1,1,8,8,8,8,8,5,"-",8,"-",8,"-","-","-",8,"-",8,8]
[112,null,"佐竹村","212-06",824,185,341,278,56,7,38,155,17,1,16,2,"-",8,5,3,"-",1,3,2,1,1,"-",8,8,6,8,8,5,"-",8,"-",8,"-",4,1,4,"-",8,8]
[113,null,"誉田村","212-07",2167,1077,260,127,86,47,88,117,60,"-",60,31,"-",11,2,8,1,2,4,5,"-","-","-",2,10,9,10,9,7,1,11,3,11,"-",4,1,11,5,10,9]
[114,null,"佐都村","212-08",1373,945,206,106,92,8,50,110,30,"-",30,"-","-",11,1,9,1,"-",4,4,2,"-",1,10,11,11,11,11,10,"-",11,1,10,"-",2,1,10,10,11,11]
[115,null,"河内村２－１","212-09",1939,1436,120,62,54,4,66,30,10,2,9,1,"-",13,"-",13,"-","-",8,4,"-",1,"-","-","-","-","-","-","-",13,13,3,13,"-","-","-",13,6,13,"-"]
[116,null,"郡戸村","212-10",959,251,410,346,59,5,39,242,36,3,35,"-","-",11,11,"-","-","-",3,3,5,"-","-","-",9,11,11,11,11,"-",11,2,11,"-",1,"-",11,2,11,9]
[117,null,"久米村","212-11",1228,503,383,321,61,1,54,207,34,2,33,"-","-",10,8,2,"-",2,3,3,1,1,"-",1,10,10,10,9,10,"-",10,3,10,"-",6,3,10,3,10,10]
[118,null,"金郷村","212-12",1741,674,460,324,124,12,79,246,33,1,32,1,1,13,6,7,"-","-",1,7,4,"-",1,13,13,13,13,13,13,"-",13,2,13,1,8,8,12,12,13,13]
[119,null,"金砂村","212-13",2236,1436,245,93,141,11,91,90,16,"-",16,"-","-",18,"-",15,3,"-",5,11,2,"-","-",18,18,18,18,18,18,"-",18,11,18,"-",2,1,18,"-",18,18]
[120,null,"天下野村","212-14",1751,1212,129,36,79,14,53,26,5,"-",5,"-","-",13,"-",6,7,1,6,5,1,"-","-",8,10,9,9,9,13,"-",13,"-",13,"-",3,2,13,2,13,8]
[121,null,"染和田村","212-15",2337,1815,237,107,111,19,76,90,15,1,14,"-","-",14,1,11,2,1,3,6,2,2,"-",11,13,11,14,14,14,"-",14,9,14,4,5,3,14,10,14,13]
[122,null,"高倉村","212-16",2522,2021,86,15,62,9,28,21,5,"-",5,"-","-",10,"-",1,9,1,1,6,"-",2,"-",6,8,9,10,10,9,"-",10,4,10,3,2,"-",10,4,9,3]
[123,null,"山田村","212-17",1375,784,247,108,117,22,58,111,33,1,33,2,"-",16,1,11,4,1,4,4,5,2,"-",16,11,16,16,16,16,"-",16,6,16,"-",8,6,10,3,12,9]
[124,null,"河内村２－２","212-18",103,78,9,4,4,1,7,"-","-","-","-","-","-",1,"-",1,"-","-",1,"-","-","-","-","-","-","-",1,1,1,"-",1,"-",1,"-","-","-",1,"-",1,"-"]
[125,null,"小里村","212-19",7367,6545,335,220,95,20,48,200,30,1,30,1,1,16,9,6,1,"-",2,7,1,3,3,6,16,15,16,16,16,"-",16,2,16,9,2,1,16,16,16,16]
[126,null,"賀美村","212-20",4629,4268,189,101,67,21,41,87,14,1,13,"-","-",16,2,14,"-",1,3,5,5,1,1,10,14,11,14,15,2,1,16,1,16,5,1,"-",16,11,16,13]
[127,"高萩市",null,"214-00",19358,15450,782,568,201,13,190,358,131,8,128,"-","-",17,10,7,"-",7,5,2,1,2,"-",14,17,13,17,13,14,"-",17,7,17,2,5,3,13,11,17,17]
[128,null,"高萩町","214-01",2121,798,231,182,47,2,36,140,57,2,55,"-","-",6,4,2,"-",4,2,"-","-","-","-",6,6,3,6,5,5,"-",6,4,6,"-",2,2,2,2,6,6]
[129,null,"松岡町","214-02",3234,2023,307,229,73,5,82,120,54,1,53,"-","-",4,2,2,"-",3,1,"-","-","-","-",3,4,4,4,2,2,"-",4,2,4,"-",2,1,4,4,4,4]
[130,null,"高岡村","214-03",13545,12183,238,152,80,6,"X",93,20,5,20,"-","-",6,3,3,"-","-",2,2,"-",2,"-",4,6,5,6,5,6,"-",6,1,6,2,1,"-",6,5,6,6]
[131,null,"黒前村２－２","214-04",458,446,6,5,1,"-","X",5,"-","-","-","-","-",1,1,"-","-","-","-","-",1,"-","-",1,1,1,1,1,1,"-",1,"-",1,"-","-","-",1,"-",1,1]
[132,"北茨城市",null,"215-00",18680,12727,1467,1148,295,24,331,822,328,5,325,1,5,44,30,11,3,24,13,5,2,"-","-",32,37,31,34,32,26,5,44,17,43,13,20,12,35,25,42,37]
[133,null,"南中郷村","215-01",2779,1232,423,326,90,7,67,198,80,1,79,"-","-",8,5,3,"-",8,"-","-","-","-","-",6,8,8,8,7,7,"-",8,3,8,"-",5,4,8,8,8,8]
[134,null,"磯原町","215-02",2750,1504,309,237,67,5,76,178,72,1,72,"-",1,9,6,2,1,4,2,3,"-","-","-",7,7,8,8,8,8,"-",9,1,8,3,3,1,9,4,9,7]
[135,null,"華川村","215-03",5082,3985,222,171,45,6,58,141,62,3,60,1,4,8,7,1,"-",3,3,2,"-","-","-",7,8,4,8,5,3,"-",8,7,8,5,4,1,7,4,8,8]
[136,null,"関南村","215-04",1428,787,200,160,38,2,42,115,42,"-",42,"-","-",5,4,1,"-",1,3,"-",1,"-","-",3,5,4,2,5,2,"-",5,"-",5,1,3,3,4,2,5,5]
[137,null,"大津町","215-05",389,95,24,18,6,"-","X",16,"x","x","x","x","x",4,3,"-",1,4,"-","-","-","-","-",2,2,1,1,1,1,2,4,"-",4,"-","-","-","-","-",3,2]
[138,null,"平潟町","215-06",137,60,5,2,3,"-","X",1,"x","x","x","x","x",3,"-",2,1,3,"-","-","-","-","-","-","-","-","-","-","-",3,3,"-",3,"-",1,"-","-","-",2,"-"]
[139,null,"関本村","215-07",6115,5064,284,234,46,4,75,173,65,"-",65,"-","-",7,5,2,"-",1,5,"-",1,"-","-",7,7,6,7,6,5,"-",7,6,7,4,4,3,7,7,7,7]
[140,"笠間市",null,"216-00",24040,10047,5254,2766,1504,984,911,2615,546,26,534,5,5,198,39,122,37,47,50,50,37,11,3,74,168,144,189,171,132,5,194,37,184,26,93,60,176,96,187,164]
[141,null,"笠間町","216-01",1275,356,246,144,90,12,51,122,27,1,26,1,"-",24,4,12,8,17,4,1,1,"-",1,2,8,2,16,11,6,4,22,3,14,2,3,2,24,5,17,6]
[142,null,"大池田村","216-02",3227,2017,432,248,162,22,84,235,39,1,38,"-","-",13,2,10,1,"-","-",4,7,2,"-",2,13,8,13,13,2,"-",13,4,13,2,10,2,13,7,13,13]
[143,null,"北山内村","216-03",3316,1929,443,309,112,22,102,252,61,2,59,"-",1,17,8,9,"-","-",5,5,7,"-","-",5,17,13,17,17,7,"-",17,6,17,2,10,7,17,10,17,17]
[144,null,"南山内村","216-04",2943,1515,564,378,132,54,103,321,71,5,69,1,1,17,8,9,"-","-",2,9,3,1,2,6,17,15,17,13,5,"-",17,7,17,3,10,8,17,12,17,17]
[145,null,"西山内村","216-05",2409,1266,464,251,189,24,100,180,36,1,35,"-",1,20,4,15,1,3,10,2,5,"-","-",4,19,17,20,18,17,"-",20,11,20,6,10,5,20,18,20,19]
[146,null,"宍戸町","216-06",2551,633,670,320,191,159,114,291,58,5,58,"-","-",28,1,22,5,14,11,3,"-","-","-",19,23,21,27,23,22,1,27,"-",25,"-",11,11,21,4,25,23]
[147,null,"北川根村","216-07",1299,253,398,168,115,115,44,231,39,1,38,"-",1,15,1,9,5,1,5,9,"-","-","-",7,14,14,15,15,14,"-",15,"-",15,"-",7,5,15,13,15,14]
[148,null,"大原村","216-08",1752,562,426,259,94,73,72,207,33,1,32,"-","-",16,4,10,2,1,5,7,3,"-","-",15,16,16,16,16,16,"-",16,"-",16,"-",8,8,16,12,16,16]
[149,null,"鯉渕村２－２","216-09",272,40,78,33,20,25,14,38,4,"-",4,"-","-",3,"-",3,"-",3,"-","-","-","-","-",3,3,3,3,3,3,"-",3,"-",3,"-","-","-",3,1,3,3]
[150,null,"岩間町","216-10",3257,1164,841,412,128,301,130,452,117,4,116,1,1,35,7,16,12,8,6,6,8,7,"-",4,28,28,35,32,30,"-",34,4,34,10,18,9,23,11,34,26]
[151,null,"南川根村","216-11",1739,312,692,244,271,177,97,286,61,5,59,2,"-",10,"-",7,3,"-",2,4,3,1,"-",7,10,7,10,10,10,"-",10,2,10,1,6,3,7,3,10,10]
[152,"取手市",null,"217-00",6994,199,2295,2128,161,6,191,969,296,7,295,"-",2,67,55,8,4,33,10,20,3,1,"-",23,46,46,58,65,10,"-",65,19,35,1,1,"-",48,7,64,36]
[153,null,"取手町","217-01",1075,20,121,115,6,"-",8,58,24,2,24,"-",2,6,5,"-",1,6,"-","-","-","-","-",3,4,5,6,6,2,"-",5,4,5,"-","-","-",4,"-",5,4]
[154,null,"小文間村","217-02",587,46,196,176,19,1,6,77,17,"-",17,"-","-",6,5,1,"-",4,1,1,"-","-","-",1,3,1,4,6,"-","-",6,2,6,"-","-","-",4,"-",6,3]
[155,null,"寺原村","217-03",630,20,206,187,18,1,17,92,28,1,27,"-","-",9,8,1,"-",6,"-",1,1,1,"-",4,7,9,9,7,"-","-",9,5,9,"-","-","-",6,"-",9,4]
[156,null,"高井村２－２","217-04",502,51,126,97,28,1,42,63,28,"-",28,"-","-",5,2,3,"-",3,"-",2,"-","-","-",4,4,3,5,5,2,"-",5,1,5,1,"-","-",4,"-",5,4]
[157,null,"稲戸井村","217-05",915,47,52,25,26,1,52,23,9,1,9,"-","-",6,1,3,2,6,"-","-","-","-","-",1,2,4,6,6,2,"-",6,"-",6,"-","-","-",5,1,5,1]
[158,null,"相馬町","217-06",585,2,193,188,5,"-",5,79,27,"-",27,"-","-",6,5,"-",1,2,1,3,"-","-","-",4,3,3,3,6,1,"-",5,"-","-","-","-","-",4,"-",5,3]
[159,null,"山王村","217-07",779,10,380,355,24,1,25,140,43,1,43,"-","-",7,7,"-","-",1,2,4,"-","-","-",3,6,4,6,7,2,"-",7,"-",3,"-","-","-",7,2,7,5]
[160,null,"久賀村２－２","217-08",578,1,322,307,14,1,16,147,51,1,51,"-","-",6,6,"-","-",1,3,2,"-","-","-",1,5,5,5,6,"-","-",6,1,"-","-","-","-",4,1,6,5]
[161,null,"高須村２－１","217-09",604,1,292,283,9,"-",4,108,22,1,22,"-","-",6,6,"-","-",2,1,2,1,"-","-","-",4,3,6,6,1,"-",6,1,"-","-","-","-",5,3,6,3]
[162,null,"六郷村","217-10",739,1,407,395,12,"-",17,182,47,"-",47,"-","-",10,10,"-","-",2,2,5,1,"-","-",2,8,9,8,10,"-","-",10,5,1,"-",1,"-",5,"-",10,4]
[163,"牛久市",null,"219-00",5892,1094,1492,554,902,36,398,421,112,5,109,2,4,32,1,20,11,19,8,5,"-","-","-",2,"-",1,32,32,32,"-",30,"-",29,"-",1,"-",19,"-",28,"-"]
[164,null,"牛久町","219-01",1130,167,163,94,65,4,62,74,13,"-",13,"-","-",7,1,3,3,5,1,1,"-","-","-","-","-","-",7,7,7,"-",7,"-",6,"-","-","-",1,"-",6,"-"]
[165,null,"岡田村（牛久市）","219-02",2619,461,601,187,406,8,169,201,65,4,62,1,3,14,"-",9,5,13,"-",1,"-","-","-",1,"-",1,14,14,14,"-",12,"-",12,"-","-","-",10,"-",12,"-"]
[166,null,"奥野村","219-03",2143,466,728,273,431,24,167,146,34,1,34,1,1,11,"-",8,3,1,7,3,"-","-","-",1,"-","-",11,11,11,"-",11,"-",11,"-",1,"-",8,"-",10,"-"]
[167,"つくば市",null,"220-00",28372,4035,10999,4748,6044,207,1398,3035,573,34,551,15,34,249,35,128,86,60,105,65,15,4,"-",138,186,176,227,222,84,1,249,53,222,20,47,18,157,56,238,157]
[168,null,"栄村","220-01",856,36,408,263,136,9,72,125,23,1,23,1,"-",10,3,7,"-",4,5,1,"-","-","-",8,10,9,10,10,4,"-",10,1,8,"-",4,2,6,2,10,8]
[169,null,"九重村","220-02",1954,138,494,206,270,18,149,153,35,3,35,1,2,14,1,9,4,13,1,"-","-","-","-",13,13,11,13,13,5,"-",14,"-",12,"-",6,"-",3,2,12,9]
[170,null,"栗原村２－１","220-03",706,87,311,139,164,8,53,81,13,"-",13,"-","-",5,1,3,1,1,3,"-","-",1,"-",4,4,4,4,5,4,"-",5,3,5,2,3,2,4,1,5,3]
[171,null,"島名村","220-04",1617,255,581,235,315,31,71,137,28,4,27,1,2,18,"-",14,4,6,6,4,2,"-","-",13,11,7,15,17,5,"-",18,6,18,5,"-","-",16,8,18,10]
[172,null,"葛城村","220-05",1409,208,201,64,131,6,69,88,20,2,19,1,4,14,"-",6,8,10,4,"-","-","-","-",3,9,7,10,13,3,"-",14,8,10,4,"-","-",12,2,12,6]
[173,null,"小野川村","220-06",2483,353,573,167,400,6,154,189,40,2,36,1,3,21,2,9,10,3,10,5,3,"-","-",19,14,21,21,14,2,"-",21,"-",20,"-","-","-","-","-",19,13]
[174,null,"谷田部町","220-07",1719,144,595,239,341,15,87,137,27,2,26,"-","-",20,1,12,7,4,9,5,2,"-","-",1,4,12,15,17,3,1,20,"-",13,"-","-","-",11,"-",17,2]
[175,null,"真瀬村２－１","220-08",801,61,393,209,169,15,61,127,27,"-",25,"-",2,5,1,3,1,"-",4,1,"-","-","-",5,4,5,3,5,3,"-",5,3,5,"-","-","-",4,4,5,4]
[176,null,"上郷村","220-09",1292,132,603,259,334,10,39,208,23,3,22,"-",1,21,2,15,4,"-",11,9,"-",1,"-",11,21,19,21,21,12,"-",21,1,21,"-",1,"-",14,"-",21,16]
[177,null,"旭村２－１","220-10",1627,146,793,199,582,12,26,271,43,2,42,4,"-",23,"-",5,18,3,9,9,1,1,"-","-",19,13,23,22,6,"-",23,5,22,3,3,"-",14,7,22,17]
[178,null,"吉沼村２－２","220-11",282,21,183,39,144,"-",7,56,5,"-",4,"-",1,2,"-","-",2,"-","-",2,"-","-","-",1,2,2,2,2,2,"-",2,"-",2,"-","-","-",2,"-",2,2]
[179,null,"筑波町","220-12",1482,654,244,197,45,2,30,61,14,"-",14,"-","-",4,3,"-",1,2,2,"-","-","-","-",2,3,2,4,4,3,"-",4,"-",4,"-",1,"-",4,3,3,3]
[180,null,"北条町","220-13",678,107,329,258,69,2,25,97,27,1,27,"-","-",8,6,2,"-",3,3,"-",2,"-","-",2,7,5,7,7,1,"-",8,1,8,"-",3,2,7,7,8,7]
[181,null,"小田村","220-14",1815,618,495,395,87,13,51,124,47,2,46,2,4,9,6,3,"-",2,4,3,"-","-","-",7,9,6,8,8,4,"-",9,7,9,3,7,5,7,4,9,9]
[182,null,"田井村","220-15",1012,267,324,219,105,"-",47,92,31,1,30,"-",3,9,3,6,"-",1,4,4,"-","-","-",6,9,9,8,7,2,"-",9,"-",9,2,3,2,4,3,9,8]
[183,null,"作岡村","220-16",1430,185,661,222,437,2,47,157,16,1,15,2,3,8,1,6,1,"-",3,5,"-","-","-",8,8,3,8,6,4,"-",8,4,8,1,3,3,1,1,8,8]
[184,null,"田水山村","220-17",718,74,301,174,123,4,44,74,7,"-",7,"-",1,4,2,2,"-","-",4,"-","-","-","-",2,3,1,4,4,2,"-",4,1,3,"-",3,1,4,2,4,3]
[185,null,"菅間村","220-18",664,73,383,268,115,"-",26,109,15,"-",15,1,"-",7,2,3,2,"-",3,2,2,"-","-",7,7,6,7,4,1,"-",7,5,6,"-",1,"-",4,3,7,7]
[186,null,"栗原村２－２","220-19",97,"-",46,15,31,"-",6,11,2,"-",2,"-","-",1,"-",1,"-","-",1,"-","-","-","-","-",1,"-",1,1,"-","-",1,1,"-","-","-","-","-","-",1,1]
[187,null,"大穂村","220-20",1811,107,1155,391,741,23,92,201,19,1,19,"-","-",7,1,3,3,"-",5,1,1,"-","-",3,4,4,7,7,2,"-",7,2,7,"-",3,1,7,3,7,4]
[188,null,"吉沼村２－１","220-21",1198,47,754,218,525,11,32,208,21,2,15,"-",5,13,"-",6,7,3,2,7,"-",1,"-",11,12,13,13,13,9,"-",13,1,7,"-",1,"-",11,3,13,10]
[189,null,"旭村２－２","220-22",314,35,143,38,94,11,30,47,6,1,6,"-","-",5,"-",2,3,2,2,1,"-","-","-","-",3,4,5,5,3,"-",5,2,5,"-",2,"-",5,1,5,3]
[190,null,"茎崎町","220-23",2407,287,1029,334,686,9,180,282,84,6,83,1,3,21,"-",11,10,3,10,6,2,"-","-",12,9,13,18,17,4,"-",21,2,20,"-",3,"-",17,"-",21,4]
[191,"ひたちなか市",null,"221-00",9983,533,2643,1180,1451,12,272,1054,498,329,358,6,4,35,9,15,11,25,7,3,"-","-","-",8,18,32,35,35,35,"-",35,"-",28,1,12,"-",35,1,35,1]
[192,null,"那珂湊町","221-01",1315,56,448,219,227,2,33,136,85,68,57,2,"-",8,2,3,3,4,2,2,"-","-","-","-",4,7,8,8,8,"-",8,"-",6,"-",4,"-",8,"-",8,"-"]
[193,null,"平磯町","221-02",497,20,210,26,184,"-",13,22,8,5,4,"-","-",4,"-","-",4,4,"-","-","-","-","-","-",1,3,4,4,4,"-",4,"-",2,"-",1,"-",4,"-",4,"-"]
[194,null,"前渡村２－２","221-03",765,17,144,25,119,0,15,95,86,76,45,"-",1,2,"-","-",2,"-",2,"-","-","-","-","-","-",2,2,2,2,"-",2,"-",2,"-","-","-",2,"-",2,"-"]
[195,null,"勝田町","221-04",3555,132,936,570,361,5,89,405,126,55,105,1,3,14,7,6,1,11,2,1,"-","-","-",1,6,13,14,14,14,"-",14,"-",11,"-",3,"-",14,"-",14,"-"]
[196,null,"佐野村","221-05",1707,138,410,142,266,2,75,198,70,32,63,2,"-",4,"-",3,1,4,"-","-","-","-","-",4,4,4,4,4,4,"-",4,"-",4,1,2,"-",4,1,4,1]
[197,null,"前渡村２－１","221-06",2144,170,495,198,294,3,47,198,123,93,84,1,"-",3,"-",3,"-",2,1,"-","-","-","-",3,3,3,3,3,3,"-",3,"-",3,"-",2,"-",3,"-",3,"-"]
[198,"鹿嶋市",null,"222-00",10602,1385,2309,1218,1085,6,349,627,186,6,180,"-",4,56,21,16,19,27,20,8,1,"-","-",27,44,41,54,54,50,1,56,19,44,4,23,6,20,7,50,38]
[199,null,"大同村","222-01",2866,604,934,308,621,5,126,208,68,4,63,"-",2,18,3,6,9,6,8,4,"-","-","-",14,16,16,18,18,14,"-",18,4,16,2,9,3,10,2,16,13]
[200,null,"中野村","222-02",1211,220,350,186,164,"-",71,84,25,1,24,"-","-",6,2,2,2,2,4,"-","-","-","-",4,5,5,5,5,5,"-",6,4,6,2,2,1,4,2,6,5]
[201,null,"波野村","222-03",661,80,188,72,116,"-",29,78,12,"-",12,"-","-",6,1,3,2,2,4,"-","-","-","-",1,3,1,5,5,5,1,6,2,6,"-",2,1,1,"-",6,2]
[202,null,"豊津村","222-04",323,"-",173,164,9,"-",14,75,17,"-",17,"-","-",3,3,"-","-","-",1,2,"-","-","-","-",3,1,3,3,3,"-",3,2,"-","-",3,"-",3,2,3,3]
[203,null,"鹿島町","222-05",909,139,90,59,31,"-",19,34,20,"-",20,"-","-",7,1,2,4,6,1,"-","-","-","-",2,4,6,7,7,7,"-",7,3,6,"-",2,"-","-","-",3,3]
[204,null,"高松村","222-06",2292,98,291,238,53,"-",58,93,25,"-",25,"-","-",11,9,"-",2,9,"-",1,1,"-","-",5,10,11,11,11,11,"-",11,3,5,"-",2,1,"-","-",11,10]
[205,null,"豊郷村","222-07",1034,244,283,191,91,1,33,55,19,1,19,"-",2,5,2,3,"-",2,2,1,"-","-","-",1,3,1,5,5,5,"-",5,1,5,"-",3,"-",2,1,5,2]
[206,"潮来市",null,"223-00",7140,844,2175,1872,287,16,175,733,179,20,172,"-","-",44,35,8,1,19,12,11,2,"-","-",21,26,32,39,40,32,3,44,13,26,2,23,2,37,11,42,16]
[207,null,"潮来町","223-01",1498,36,362,356,6,"-",17,125,34,4,33,"-","-",11,9,1,1,7,"-",3,1,"-","-",5,3,6,10,10,8,1,11,3,2,"-",4,"-",10,1,9,2]
[208,null,"津知村","223-02",546,88,131,111,20,"-",13,52,16,"-",16,"-","-",5,4,1,"-",4,1,"-","-","-","-",2,4,5,5,5,4,"-",5,2,4,"-",3,1,"-","-",5,3]
[209,null,"延方村","223-03",1503,85,797,781,15,1,37,246,53,4,50,"-","-",13,13,"-","-",5,4,3,1,"-","-",4,7,8,11,10,8,2,13,"-",5,"-",8,"-",12,3,13,4]
[210,null,"大生原村","223-04",860,199,293,195,95,3,23,111,21,4,21,"-","-",4,2,2,"-",1,2,1,"-","-","-",4,4,4,4,4,4,"-",4,4,4,1,3,"-",4,2,4,2]
[211,null,"八代村","223-05",818,191,259,187,67,5,49,121,26,4,26,"-","-",6,4,2,"-",1,1,4,"-","-","-",3,5,5,5,6,5,"-",6,3,6,"-",2,"-",6,4,6,4]
[212,null,"香澄村","223-06",1042,245,333,242,84,7,36,78,29,4,26,"-","-",5,3,2,"-",1,4,"-","-","-","-",3,3,4,4,5,3,"-",5,1,5,1,3,1,5,1,5,1]
[213,"守谷市",null,"224-00",3571,207,686,383,293,10,179,167,74,1,74,1,1,24,5,11,8,13,9,1,1,"-","-",4,17,2,13,17,6,2,24,3,24,6,1,"-",15,2,23,17]
[214,null,"守谷町","224-01",868,98,74,36,35,3,56,22,11,1,11,"-","-",5,1,2,2,4,"-","-",1,"-","-","-",3,"-",2,4,"-",1,5,1,5,1,1,"-",1,"-",4,3]
[215,null,"大野村","224-02",757,27,146,64,81,1,31,26,23,"-",23,"-","-",7,1,4,2,4,3,"-","-","-","-",2,6,1,4,4,1,1,7,1,7,2,"-","-",6,"-",7,6]
[216,null,"大井沢村","224-03",1189,47,334,211,118,5,61,73,23,"-",23,"-",1,5,1,1,3,2,2,1,"-","-","-",1,1,"-",2,4,3,"-",5,"-",5,1,"-","-",3,"-",5,1]
[217,null,"高野村","224-04",682,26,104,49,54,1,21,37,14,"-",14,1,"-",6,1,4,1,3,3,"-","-","-","-","-",6,1,4,5,2,"-",6,1,6,1,"-","-",4,2,6,6]
[218,null,"高井村２－１","224-05",75,9,28,23,5,"-",12,9,3,"-",3,"-","-",1,1,"-","-","-",1,"-","-","-","-",1,1,"-",1,"-","-","-",1,"-",1,1,"-","-",1,"-",1,1]
[219,"常陸大宮市",null,"225-00",34845,21542,4466,2104,2161,201,1505,1802,281,19,278,4,4,99,8,66,25,9,33,37,17,1,2,38,70,74,89,89,84,4,99,28,99,11,56,23,97,45,85,63]
[220,null,"大宮町","225-01",527,55,160,66,86,8,44,43,5,"-",5,"-","-",2,"-",1,1,2,"-","-","-","-","-","-",2,1,2,2,2,"-",2,1,2,"-",2,1,2,"-",2,2]
[221,null,"大賀村","225-02",1141,292,351,155,176,20,98,149,20,2,20,"-","-",4,"-",4,"-","-",1,2,1,"-","-",1,3,4,4,4,4,"-",4,1,4,"-",4,2,4,1,4,3]
[222,null,"世喜村２－１","225-03",932,352,274,187,77,10,59,171,20,"-",20,"-","-",4,2,2,"-","-","-",1,3,"-","-",2,4,4,4,4,4,"-",4,3,4,1,2,"-",4,4,4,4]
[223,null,"上野村（常陸大宮市）","225-04",759,61,347,200,138,9,51,184,18,1,18,"-",1,5,2,2,1,1,1,2,1,"-","-",3,5,5,5,5,4,"-",5,2,5,"-",2,1,5,3,5,5]
[224,null,"静村２－１","225-05",869,273,266,134,126,6,48,121,11,4,10,"-","-",3,"-",3,"-","-",3,"-","-","-","-",2,3,1,3,3,3,"-",3,1,3,2,3,2,3,2,3,3]
[225,null,"大場村（常陸大宮市）","225-06",1712,578,360,182,162,16,110,102,13,1,13,"-","-",3,1,1,1,"-",2,1,"-","-","-",2,3,3,3,3,3,"-",3,2,3,"-",3,2,3,3,3,3]
[226,null,"塩田村２－２","225-07",964,543,128,80,43,5,42,71,10,"-",10,"-","-",3,"-",3,"-","-","-",2,1,"-","-","-",3,3,3,3,3,"-",3,1,3,1,3,3,3,3,3,3]
[227,null,"玉川村（常陸大宮市）","225-08",1366,599,311,176,129,6,110,101,12,"-",12,"-","-",3,"-",3,"-","-",2,1,"-","-","-","-",3,1,3,1,3,"-",3,"-",3,"-",3,3,3,"-",3,2]
[228,null,"伊勢畑村","225-09",2173,1671,141,50,77,14,59,36,2,1,2,"-","-",7,"-",5,2,2,2,"-",3,"-","-",6,5,7,7,6,7,"-",7,3,7,"-","-","-",7,2,7,5]
[229,null,"野口村","225-10",1035,356,227,115,107,5,64,92,15,2,14,1,1,5,"-",4,1,1,1,3,"-","-","-",3,4,5,5,5,5,"-",5,3,5,"-",2,2,5,3,5,4]
[230,null,"長倉村","225-11",1236,528,165,63,95,7,70,52,11,1,10,"-","-",5,1,2,2,"-",2,3,"-","-","-","-",3,5,5,4,5,"-",5,4,5,3,2,1,5,3,5,3]
[231,null,"山方町","225-12",2219,1238,337,116,203,18,121,114,18,1,18,2,1,11,1,6,4,2,5,3,"-","-",1,"-",6,1,8,9,3,2,11,2,11,"-",5,1,9,"-",11,6]
[232,null,"世喜村２－２","225-13",757,410,107,59,44,4,34,47,2,"-",2,"-","-",4,"-",3,1,"-",1,1,2,"-","-",1,3,2,4,4,4,"-",4,1,4,"-",1,"-",4,1,2,1]
[233,null,"塩田村２－１","225-14",872,436,148,94,51,3,32,56,16,"-",16,"-","-",3,"-",3,"-","-","-","-",3,"-","-","-",2,"-",3,3,3,"-",3,2,3,"-",3,2,3,1,3,2]
[234,null,"諸富野村２－１","225-15",2360,1758,107,45,56,6,65,48,5,"-",5,"-","-",8,1,4,3,"-",5,3,"-","-","-","-",2,7,5,7,7,"-",8,"-",8,"-",3,"-",8,"-",2,2]
[235,null,"下小川村２－１","225-16",2198,1888,58,9,41,8,32,28,3,"-",3,1,"-",6,"-",1,5,1,2,2,"-","-",1,"-","-",2,2,3,1,2,6,"-",6,"-","-","-",6,1,"-","-"]
[236,null,"桧沢村","225-17",3336,2797,115,28,70,17,118,32,14,1,14,"-","-",3,"-","-",3,"-",2,1,"-","-","-",1,"-",3,3,3,3,"-",3,"-",3,"-","-","-",3,"-",3,"-"]
[237,null,"嶐郷村","225-18",4720,3937,268,85,169,14,114,104,27,3,27,"-",1,3,"-",2,1,"-","-",3,"-","-","-","-",2,3,3,3,3,"-",3,"-",3,3,1,"-",3,1,3,2]
[238,null,"小瀬村","225-19",2048,990,317,145,162,10,106,149,35,1,35,"-","-",9,"-",9,"-","-",3,5,"-",1,"-",9,9,9,9,9,9,"-",9,1,9,1,9,2,9,9,9,8]
[239,null,"八里村","225-20",3622,2780,279,115,149,15,130,102,24,1,24,"-","-",8,"-",8,"-","-",1,4,3,"-","-",8,8,8,8,8,8,"-",8,1,8,"-",8,1,8,8,8,5]
[240,"那珂市",null,"226-00",9782,1588,4317,2081,2178,58,734,1297,191,31,176,2,5,57,3,47,7,16,20,16,5,"-","-",18,37,15,34,36,30,17,57,10,57,1,28,14,53,15,57,32]
[241,null,"菅谷町","226-01",1166,145,394,171,214,9,71,138,22,2,22,1,"-",10,"-",10,"-",8,1,1,"-","-","-",2,3,"-",2,2,2,7,10,"-",10,"-",3,"-",9,4,10,3]
[242,null,"戸多村","226-02",1325,307,457,221,229,7,70,178,22,"-",22,"-","-",7,"-",7,"-","-","-",5,2,"-","-",1,3,1,3,1,1,4,7,"-",7,"-",3,2,7,1,7,3]
[243,null,"芳野村","226-03",1383,131,763,356,401,6,115,203,29,3,29,"-","-",6,"-",6,"-","-",5,1,"-","-","-","-",4,2,3,4,3,2,6,1,6,1,5,3,5,"-",6,3]
[244,null,"額田村","226-04",945,86,459,171,282,6,97,83,13,2,11,"-",1,6,"-",3,3,2,3,1,"-","-","-",1,5,1,5,6,4,"-",6,1,6,"-",3,1,6,4,6,5]
[245,null,"神崎村","226-05",1245,223,471,187,279,5,165,158,31,14,22,"-",3,5,"-",3,2,1,3,1,"-","-","-",2,4,2,3,4,4,1,5,1,5,"-",3,2,5,1,5,3]
[246,null,"五台村","226-06",1333,156,683,414,263,6,68,181,27,2,26,1,"-",6,1,5,"-",2,4,"-","-","-","-",3,4,"-",4,4,3,2,6,"-",6,"-",5,1,5,2,6,4]
[247,null,"木崎村２－１","226-07",932,149,532,247,277,8,53,173,22,3,20,"-","-",8,"-",8,"-","-",1,5,2,"-","-",5,8,6,7,7,6,"-",8,6,8,"-",3,3,7,3,8,8]
[248,null,"瓜連町","226-08",804,194,281,166,108,7,48,89,12,"-",12,"-","-",5,1,3,1,3,2,"-","-","-","-",1,2,1,3,4,4,1,5,1,5,"-",2,1,5,"-",5,1]
[249,null,"静村２－２","226-09",528,180,211,102,105,4,41,69,9,5,8,"-","-",2,"-",2,"-","-",1,1,"-","-","-",1,2,1,2,2,1,"-",2,"-",2,"-",1,1,2,"-",2,2]
[250,null,"木崎村２－２","226-10",121,16,66,46,20,"-",6,25,4,"-",4,"-",1,2,1,"-",1,"-","-",1,1,"-","-",2,2,1,2,2,2,"-",2,"-",2,"-","-","-",2,"-",2,"-"]
[251,"筑西市",null,"227-00",20530,1296,11495,8531,2566,398,459,2951,451,15,437,2,11,221,151,51,19,49,94,55,22,1,"-",135,189,174,168,191,109,4,221,22,125,15,12,4,144,26,220,132]
[252,null,"下館町","227-01",154,"-","…","…","…","…",1,7,1,"-",1,"-","-","-","-","-","-","-","-","-","-","-","-","…","…","…","…","…","…","…","…","…","…","…","…","…","…","…","…","…"]
[253,null,"伊讃村","227-02",1819,23,897,743,135,19,47,200,21,"-",20,"-",1,18,15,3,"-",7,9,1,"-",1,"-",11,12,11,8,15,6,2,18,4,3,1,"-","-",15,3,17,9]
[254,null,"竹島村","227-03",620,3,327,314,13,"-",6,91,20,1,19,"-","-",8,8,"-","-",4,2,2,"-","-","-",4,7,7,8,8,5,"-",8,"-",3,"-","-","-",8,"-",8,5]
[255,null,"養蚕村","227-04",844,33,369,318,51,"-",6,119,36,3,34,"-","-",12,11,1,"-",5,5,2,"-","-","-",8,12,8,10,12,7,"-",12,3,3,2,"-","-",11,3,12,9]
[256,null,"五所村","227-05",1142,33,687,568,118,1,12,158,17,"-",17,"-","-",14,12,2,"-",1,6,5,2,"-","-",4,9,10,12,12,10,"-",14,"-",4,1,"-","-",4,"-",14,9]
[257,null,"中村","227-06",704,37,355,253,102,"-",13,113,14,"-",13,"-",1,13,8,4,1,5,1,3,4,"-","-",10,13,12,11,13,1,"-",13,4,5,2,2,"-",11,4,13,11]
[258,null,"河間村","227-07",964,6,772,734,38,"-",5,219,24,"-",24,"-","-",10,10,"-","-","-",2,5,3,"-","-",8,10,8,10,10,5,"-",10,3,1,1,"-","-",8,3,10,10]
[259,null,"大田村","227-08",1687,150,754,482,225,47,41,184,31,2,31,"-",1,13,6,5,2,7,4,2,"-","-","-",8,13,13,11,8,6,"-",13,1,9,1,"-","-",6,2,13,12]
[260,null,"嘉田生崎村","227-09",698,27,413,344,69,0,12,48,5,1,4,"-","-",10,9,"-",1,4,5,1,"-","-","-",8,10,10,10,9,8,"-",10,"-",1,1,3,2,8,"-",10,9]
[261,null,"黒子村","227-10",915,47,555,353,186,16,47,132,28,1,28,"-",1,12,5,6,1,1,8,3,"-","-","-",12,11,9,4,12,5,"-",12,"-",8,"-","-","-",3,"-",12,6]
[262,null,"河内村","227-11",1337,98,701,226,316,159,103,203,41,1,40,"-",1,11,"-",7,4,"-",7,4,"-","-","-",11,10,10,3,11,2,"-",11,"-",8,"-","-","-",2,"-",11,4]
[263,null,"関本町","227-12",1183,25,740,384,265,91,41,233,49,1,47,1,1,16,4,7,5,1,11,3,1,"-","-",15,16,15,16,15,16,"-",16,"-",8,3,"-","-",12,1,16,16]
[264,null,"上野村（筑西市）","227-13",1290,185,676,354,271,51,31,149,20,1,20,1,"-",8,2,5,1,"-",6,2,"-","-","-",3,7,6,5,7,5,"-",8,"-",8,"-","-","-","-","-",8,3]
[265,null,"大村","227-14",1213,168,636,408,227,1,8,89,13,"-",12,"-",1,13,4,5,4,4,6,2,1,"-","-",8,11,6,11,9,3,"-",13,2,11,"-",2,1,11,2,13,7]
[266,null,"村田村","227-15",978,66,582,518,61,3,18,93,25,"-",25,"-","-",9,9,"-","-",1,4,3,1,"-","-",5,7,5,5,8,3,"-",9,2,9,"-",1,"-",6,4,9,7]
[267,null,"長讃村２－１","227-16",649,61,371,261,110,"-",8,81,12,"-",12,"-","-",8,6,2,"-",4,3,"-",1,"-","-",1,6,6,6,5,3,"-",8,"-",7,"-","-","-",7,"-",8,3]
[268,null,"鳥羽村","227-17",710,32,456,354,101,1,14,121,20,1,19,"-",1,7,5,2,"-","-",3,4,"-","-","-",3,6,6,4,5,1,1,7,"-",6,"-",1,"-",2,"-",7,5]
[269,null,"小栗村","227-18",986,153,562,479,74,9,10,151,22,"-",22,"-","-",11,10,1,"-","-",5,5,1,"-","-",4,6,11,11,9,7,"-",11,1,8,1,"-","-",10,1,11,3]
[270,null,"古里村","227-19",1161,79,823,676,147,"-",18,271,25,2,24,"-",2,15,14,1,"-",2,3,5,5,"-","-",7,12,10,10,11,7,1,15,1,12,1,3,1,12,2,15,3]
[271,null,"新治村（筑西市）","227-20",1476,70,819,762,57,"-",19,289,27,1,25,"-",1,13,13,"-","-",3,4,3,3,"-","-",5,11,11,13,12,9,"-",13,1,11,1,"-","-",8,1,13,1]
[272,"坂東市",null,"228-00",12303,1174,5679,2820,2782,77,716,1898,203,10,197,4,6,128,22,58,48,16,62,32,17,1,"-",43,103,73,120,105,92,2,128,13,101,1,9,7,50,26,111,93]
[273,null,"岩井町","228-01",1061,54,325,132,193,0,56,131,9,1,8,"-","-",11,"-",6,5,9,2,"-","-","-","-","-",7,9,11,6,6,"-",11,"-",10,"-",1,1,"-","-",9,6]
[274,null,"弓馬田村","228-02",1060,125,426,198,227,1,51,108,9,"-",9,"-","-",9,"-",7,2,1,7,1,"-","-","-",4,8,7,9,8,9,"-",9,"-",6,"-","-","-",6,4,8,8]
[275,null,"飯島村","228-03",670,1,483,426,56,1,24,139,35,1,35,"-",1,8,7,1,"-","-",4,3,1,"-","-",2,5,5,8,8,8,"-",8,"-",1,"-","-","-",5,5,8,4]
[276,null,"神大実村","228-04",1131,146,526,210,311,5,103,130,19,"-",19,2,"-",15,"-",7,8,2,8,3,2,"-","-",3,11,14,15,11,14,"-",15,1,14,"-",2,2,7,3,15,8]
[277,null,"七郷村","228-05",1429,110,549,287,259,3,144,133,20,"-",20,"-","-",10,2,3,5,1,9,"-","-","-","-",6,10,5,9,10,10,"-",10,1,10,1,5,4,7,1,10,9]
[278,null,"中川村","228-06",1157,59,480,243,233,4,75,148,16,1,14,"-",2,10,2,5,3,3,6,1,"-","-","-",6,10,5,9,8,10,"-",10,5,8,"-","-","-",9,5,9,8]
[279,null,"長須村","228-07",1094,20,622,413,209,"-",47,303,27,1,25,"-",1,20,7,5,8,"-",1,10,8,1,"-","-",14,"-",20,20,"-","-",20,2,8,"-","-","-",2,"-",13,13]
[280,null,"七重村","228-08",1468,302,641,158,482,1,58,209,7,"-",7,1,"-",9,"-",2,7,"-",6,2,1,"-","-",6,9,9,9,9,9,"-",9,2,9,"-","-","-","-","-",9,9]
[281,null,"逆井山村","228-09",1215,150,645,275,344,26,58,217,20,2,19,"-",1,13,1,6,6,"-",7,5,1,"-","-",9,9,7,13,9,11,"-",13,1,13,"-","-","-",7,7,10,9]
[282,null,"生子菅村","228-10",1048,98,547,266,260,21,33,170,23,3,23,1,1,9,1,6,2,"-",6,1,2,"-","-",2,8,3,8,9,6,"-",9,"-",9,"-","-","-",1,1,8,8]
[283,null,"沓掛村","228-11",970,109,435,212,208,15,68,210,18,1,18,"-","-",14,2,10,2,"-",6,6,2,"-","-",5,12,9,9,7,9,2,14,1,13,"-",1,"-",6,"-",12,11]
[284,"稲敷市",null,"229-00",20581,1686,8887,7732,1128,27,581,2014,291,13,284,"-",4,144,105,32,7,22,48,53,16,5,"-",19,99,61,136,102,73,5,144,30,96,3,22,1,104,27,144,93]
[285,null,"江戸崎町","229-01",1148,138,351,227,124,0,66,86,21,1,21,"-","-",9,4,5,"-",4,4,1,"-","-","-",1,4,6,9,6,8,"-",9,"-",6,"-","-","-",6,3,9,4]
[286,null,"君賀村","229-02",1191,232,453,294,154,5,97,113,11,"-",11,"-",1,5,1,4,"-","-",2,3,"-","-","-","-",4,2,5,5,2,"-",5,1,5,"-",1,"-",5,"-",5,4]
[287,null,"沼里村","229-03",1146,301,361,147,214,"-",91,100,15,2,13,"-",2,9,1,6,2,5,2,2,"-","-","-","-",1,4,9,9,7,"-",9,"-",7,"-","-","-",9,"-",9,1]
[288,null,"高田村","229-04",988,165,469,339,130,"-",44,74,5,"-",5,"-","-",5,3,2,"-",2,2,1,"-","-","-","-",2,3,5,2,3,"-",5,1,5,1,"-","-",5,1,5,2]
[289,null,"鳩崎村","229-05",825,86,358,326,32,"-",30,84,10,"-",10,"-","-",8,7,1,"-",1,2,4,1,"-","-","-",2,3,8,3,4,"-",8,2,7,"-",4,"-",8,1,8,2]
[290,null,"柴崎村","229-06",1298,69,636,575,54,7,31,165,18,"-",17,"-",1,10,10,"-","-",3,5,1,1,"-","-",1,1,4,8,8,7,2,10,"-",6,"-","-","-",7,1,10,1]
[291,null,"根本村","229-07",719,48,457,408,46,3,14,99,14,2,14,"-","-",13,9,2,2,2,5,4,1,1,"-","-",5,2,7,7,2,3,13,2,9,"-","-","-",8,"-",13,4]
[292,null,"太田村（稲敷市）","229-08",957,52,566,538,25,3,31,119,9,"-",9,"-","-",10,10,"-","-",1,4,3,1,1,"-","-",5,1,10,9,10,"-",10,"-",5,"-","-","-",4,1,10,5]
[293,null,"浮島村","229-09",949,52,540,455,85,"-",54,133,26,2,25,"-","-",13,9,3,1,"-",2,10,1,"-","-",1,13,1,13,13,13,"-",13,1,13,"-",7,"-",11,"-",13,13]
[294,null,"古渡村","229-10",1122,134,536,481,55,"-",38,136,24,"-",24,"-","-",15,11,3,1,3,3,8,"-",1,"-",3,15,3,15,13,15,"-",15,11,13,2,6,"-",9,5,15,15]
[295,null,"阿波村","229-11",1296,230,425,337,81,7,36,107,16,3,15,"-","-",11,5,5,1,"-",7,2,2,"-","-","-",11,"-",11,1,"-","-",11,"-",11,"-","-","-","-","-",11,7]
[296,null,"本新島村","229-12",2065,6,1209,1184,25,"-",19,279,48,"-",48,"-","-",11,11,"-","-","-",3,4,3,1,"-",5,11,11,11,5,1,"-",11,1,"-","-",2,"-",11,2,11,11]
[297,null,"大須賀村","229-13",1448,137,842,766,74,2,18,161,27,2,26,"-","-",11,10,1,"-",1,4,4,2,"-","-",4,11,8,11,9,"-","-",11,7,6,"-","-","-",9,6,11,10]
[298,null,"十余島村２－２","229-14",1796,5,1154,1134,20,"-",3,231,31,1,30,"-","-",10,10,"-","-","-",1,6,2,1,"-",3,10,10,10,9,1,"-",10,4,"-","-",2,1,9,5,10,10]
[299,null,"伊崎村","229-15",859,31,530,521,9,"-",9,127,16,"-",16,"-","-",4,4,"-","-","-",2,"-",2,"-","-",1,4,3,4,3,"-","-",4,"-",3,"-","-","-",3,2,4,4]
[300,"かすみがうら市",null,"230-00",15660,2784,4825,2174,1524,1127,1072,1622,424,26,416,36,5,111,24,63,24,4,20,50,30,7,"-",27,79,50,106,99,35,2,111,18,99,10,51,8,52,12,110,75]
[301,null,"美並村","230-01",1411,335,675,283,334,58,166,169,38,1,38,"-","-",15,"-",12,3,1,1,8,5,"-","-",2,8,3,14,15,2,"-",15,"-",15,"-",5,1,6,1,15,8]
[302,null,"志士庫村","230-02",1823,341,994,346,359,289,161,257,49,5,49,4,"-",15,1,9,5,"-",3,7,4,1,"-",6,13,12,15,15,7,"-",15,2,11,1,2,"-",6,"-",15,10]
[303,null,"佐賀村","230-03",1077,226,376,274,94,8,77,148,46,1,46,"-","-",14,8,3,3,"-",3,7,3,1,"-",1,13,1,13,9,2,"-",14,"-",13,"-",8,1,4,1,14,13]
[304,null,"安飾村","230-04",898,182,318,214,92,12,88,145,42,2,40,"-","-",14,8,3,3,"-",1,7,6,"-","-",5,10,10,14,14,5,"-",14,2,7,"-",5,"-",3,"-",14,10]
[305,null,"牛渡村","230-05",747,166,269,158,103,8,90,91,16,1,15,"-","-",11,5,6,"-","-",5,5,1,"-","-","-",7,3,10,9,"-",1,11,3,11,4,7,1,6,"-",11,7]
[306,null,"下大津村","230-06",1063,284,445,243,146,56,119,146,18,2,17,"-","-",11,2,8,1,1,"-",5,4,1,"-",1,2,2,11,11,"-","-",11,"-",11,"-",7,"-",2,"-",11,2]
[307,null,"新治村（かすみがうら市）","230-07",1150,235,499,220,107,172,96,191,76,4,75,13,1,9,"-",7,2,"-",3,3,2,1,"-",5,8,5,9,8,6,"-",9,3,9,1,5,1,9,5,9,7]
[308,null,"志筑村","230-08",1256,328,493,209,86,198,89,185,51,2,50,3,1,8,"-",7,1,"-","-",4,3,1,"-",1,8,5,7,7,5,"-",8,4,8,"-",6,3,5,4,8,8]
[309,null,"七会村（かすみがうら市）","230-09",2448,687,756,227,203,326,186,290,88,8,86,16,3,14,"-",8,6,2,4,4,2,2,"-",6,10,9,13,11,8,1,14,4,14,4,6,1,11,1,13,10]
[310,"桜川市",null,"231-00",18006,7396,5353,3252,2024,77,575,1604,323,15,315,9,4,110,50,53,7,9,54,32,15,"-","-",92,107,85,109,88,70,"-",110,50,103,17,71,58,103,64,110,59]
[311,null,"岩瀬町","231-01",3209,1262,927,517,395,15,122,267,39,1,38,"-",1,15,2,12,1,2,6,5,2,"-","-",13,15,14,15,15,15,"-",15,10,15,4,13,13,14,10,15,12]
[312,null,"北那珂村","231-02",2944,1599,696,476,205,15,72,268,46,4,44,1,"-",19,9,10,"-","-",5,5,9,"-","-",18,19,8,19,14,9,"-",19,9,19,"-",15,15,19,15,19,15]
[313,null,"東那珂村","231-03",2577,1111,631,456,159,16,113,173,32,1,31,"-","-",20,15,5,"-",2,14,4,"-","-","-",19,19,19,20,16,8,"-",20,19,20,12,18,18,19,18,20,19]
[314,null,"樺穂村","231-04",1811,916,443,265,176,2,33,108,29,"-",28,"-",1,9,7,1,1,1,6,2,"-","-","-",8,9,7,9,7,6,"-",9,1,9,"-",4,2,9,9,9,1]
[315,null,"紫尾村","231-05",1637,863,449,333,100,16,42,135,60,1,60,5,"-",9,4,5,"-",1,4,4,"-","-","-",7,9,8,9,7,8,"-",9,2,6,"-",2,"-",8,2,9,3]
[316,null,"谷貝村","231-06",939,152,475,210,265,"-",38,155,22,1,21,"-",1,8,"-",6,2,"-",4,3,1,"-","-",1,7,5,8,5,5,"-",8,2,8,"-",5,3,7,4,8,2]
[317,null,"長讃村２－２","231-07",179,2,101,46,55,"-",5,26,3,"-",3,1,"-",2,"-",2,"-","-",1,1,"-","-","-",2,2,2,2,2,2,"-",2,1,1,"-",1,1,2,1,2,1]
[318,null,"真壁町","231-08",1775,436,489,278,205,6,35,135,42,4,41,"-","-",11,7,4,"-",3,5,2,1,"-","-",8,11,11,11,9,10,"-",11,"-",8,"-",3,1,10,"-",11,"-"]
[319,null,"大国村","231-09",1385,188,714,339,371,4,61,223,27,2,26,2,1,11,1,7,3,"-",3,6,2,"-","-",10,10,7,10,9,6,"-",11,2,11,1,8,3,9,1,11,2]
[320,null,"雨引村","231-10",1550,867,428,332,93,3,54,114,23,1,23,"-","-",6,5,1,"-","-",6,"-","-","-","-",6,6,4,6,4,1,"-",6,4,6,"-",2,2,6,4,6,4]
[321,"神栖市",null,"232-00",14694,509,2650,1750,894,6,672,913,117,3,115,1,4,61,24,24,13,40,18,3,"-","-","-",24,47,43,60,56,47,"-",59,6,55,1,3,"-",39,24,58,38]
[322,null,"息栖村","232-01",3555,49,443,370,73,"-",113,141,20,"-",20,"-","-",10,6,3,1,8,2,"-","-","-","-",7,9,7,9,8,5,"-",9,2,9,1,3,"-",9,9,9,9]
[323,null,"軽野村","232-02",4083,93,682,604,78,"-",120,192,43,"-",42,"-",1,15,11,2,2,14,1,"-","-","-","-",14,14,9,15,14,12,"-",14,2,12,"-","-","-",14,12,14,13]
[324,null,"若松村２－２","232-03",301,"-",74,41,33,"-",34,47,3,"-",2,"-",1,2,"-",2,"-",1,1,"-","-","-","-","-",2,1,2,2,"-","-",2,"-","-","-","-","-",2,2,2,2]
[325,null,"若松村２－１","232-04",2835,99,475,163,311,1,154,256,26,2,26,"-",1,13,2,6,5,4,7,2,"-","-","-","-",13,13,13,12,11,"-",13,"-",13,"-","-","-",4,"-",13,12]
[326,null,"矢田部村","232-05",2307,143,682,426,255,1,144,195,18,1,18,1,"-",10,4,5,1,4,5,1,"-","-","-",2,3,5,10,9,10,"-",10,2,10,"-","-","-",5,1,10,"-"]
[327,null,"波崎町","232-06",1613,126,294,146,144,4,107,82,7,"-",7,"-",1,11,1,6,4,9,2,"-","-","-","-",1,6,8,11,11,9,"-",11,"-",11,"-","-","-",5,"-",10,2]
[328,"行方市",null,"233-00",22248,3549,7043,3283,3691,69,974,2397,327,13,320,"-",4,90,30,41,19,7,30,44,8,"-",1,50,80,70,88,75,55,1,90,13,70,15,57,19,46,18,89,72]
[329,null,"麻生町","233-01",1185,232,388,231,156,1,42,134,17,"-",17,"-","-",12,7,4,1,4,8,"-","-","-","-",6,12,11,12,8,6,"-",12,3,6,1,6,2,5,3,11,9]
[330,null,"太田村（行方市）","233-02",814,216,331,217,111,3,53,114,26,1,25,"-","-",3,2,1,"-","-","-",3,"-","-","-",2,3,3,3,3,2,"-",3,1,3,2,2,1,3,1,3,3]
[331,null,"大和村","233-03",1797,397,804,504,295,5,111,272,26,1,25,"-",1,10,5,5,"-","-",3,7,"-","-","-",5,10,8,10,8,9,"-",10,1,10,2,9,3,6,3,10,9]
[332,null,"行方村","233-04",750,115,394,213,180,1,37,131,19,1,18,"-","-",6,2,3,1,"-",2,3,1,"-","-",5,6,6,6,4,3,"-",6,"-",4,1,3,1,1,1,6,6]
[333,null,"小高村","233-05",1501,227,647,293,350,4,76,251,41,"-",41,"-","-",8,2,2,4,"-","-",5,3,"-","-",5,7,8,8,7,4,"-",8,"-",7,1,5,"-","-","-",8,7]
[334,null,"津澄村","233-06",1407,324,581,345,232,4,94,196,23,1,23,"-","-",4,1,3,"-","-",2,"-",2,"-","-",3,4,4,4,4,4,"-",4,"-",4,"-",3,3,4,2,4,4]
[335,null,"武田村","233-07",2543,724,1046,315,715,16,139,312,29,4,27,"-",1,7,"-",5,2,"-",3,4,"-","-","-","-",7,5,7,7,5,"-",7,2,7,"-",6,2,7,3,7,6]
[336,null,"要村","233-08",1504,332,739,194,541,4,92,270,22,2,22,"-","-",4,"-",1,3,"-",1,2,1,"-","-",1,2,3,2,3,"-",1,4,1,4,1,1,"-",4,1,4,2]
[337,null,"立花村","233-09",1024,211,434,251,172,11,72,169,31,"-",31,"-","-",4,1,3,"-","-",2,2,"-","-","-",2,3,1,4,3,4,"-",4,1,4,1,4,1,4,"-",4,3]
[338,null,"現原村","233-10",1376,257,516,133,371,12,73,136,25,"-",24,"-",1,6,"-",4,2,"-",3,3,"-","-","-",4,4,6,6,6,4,"-",6,1,6,1,3,3,4,3,6,3]
[339,null,"玉造町","233-11",1086,169,462,242,216,4,94,138,20,1,20,"-","-",13,7,2,4,3,3,6,1,"-","-",7,9,7,13,11,8,"-",13,1,5,"-",5,1,4,1,13,8]
[340,null,"手賀村","233-12",747,168,294,140,152,2,49,130,31,2,30,"-",1,8,2,5,1,"-",3,4,"-","-",1,5,8,6,8,8,4,"-",8,1,6,2,5,1,4,"-",8,7]
[341,null,"玉川村（行方市）","233-13",899,176,407,205,200,2,43,144,17,"-",17,"-","-",5,1,3,1,"-","-",5,"-","-","-",5,5,2,5,3,2,"-",5,1,4,3,5,1,"-","-",5,5]
[342,"鉾田市",null,"234-00",20761,4966,9262,2044,7155,63,870,2546,250,50,227,6,7,134,11,26,97,22,65,38,7,2,"-",74,89,93,121,97,44,9,134,8,128,15,19,8,68,22,101,61]
[343,null,"諏訪村２－１","234-01",1278,237,612,43,568,1,37,214,19,2,17,"-",1,11,"-","-",11,1,4,5,1,"-","-",11,5,10,11,7,"-","-",11,"-",11,"-",1,1,6,2,6,4]
[344,null,"夏海村２－２","234-02",752,183,411,40,371,"-",27,109,17,5,15,1,"-",9,"-","-",9,"-",7,2,"-","-","-",9,9,9,6,6,8,"-",9,"-",9,"-",4,1,5,"-",5,1]
[345,null,"大谷村","234-03",3351,584,1805,342,1450,13,133,504,33,7,29,"-",2,17,1,4,12,"-",7,9,1,"-","-",17,14,12,17,4,3,"-",17,"-",15,"-",6,4,13,5,15,11]
[346,null,"徳宿村","234-04",2571,520,1379,208,1157,14,107,422,28,4,24,"-",1,17,"-",2,15,"-",9,5,3,"-","-",17,16,17,17,17,"-","-",17,"-",16,"-","-","-",10,9,17,14]
[347,null,"巴村","234-05",2447,666,1218,306,892,20,116,315,29,3,28,"-",1,17,1,5,11,"-",9,7,1,"-","-","-",16,17,17,17,2,"-",17,3,17,13,"-","-",10,2,15,13]
[348,null,"諏訪村２－２","234-06",953,304,388,112,274,2,25,101,11,"-",11,1,"-",4,"-",1,3,"-",4,"-","-","-","-",1,2,2,2,1,2,2,4,"-",4,"-","-","-",1,"-",4,1]
[349,null,"秋津村","234-07",2415,662,1035,293,736,6,139,313,22,5,21,"-","-",17,1,6,10,2,4,8,1,2,"-",15,15,16,17,14,11,"-",17,3,17,1,5,2,9,3,13,10]
[350,null,"鉾田町","234-08",453,77,87,57,30,"-",43,39,7,1,6,"-","-",7,5,1,1,7,"-","-","-","-","-","-",2,"-",3,3,1,4,7,"-",4,"-","-","-",3,"-",7,2]
[351,null,"新宮村","234-09",1810,552,756,202,551,3,32,166,19,3,16,"-",1,9,1,1,7,3,4,2,"-","-","-",2,4,6,5,3,4,3,9,2,9,"-",1,"-",1,1,5,2]
[352,null,"白鳥村","234-10",2454,689,873,287,583,3,121,218,43,15,39,"-","-",16,2,4,10,6,10,"-","-","-","-",2,5,4,16,15,3,"-",16,"-",16,1,1,"-",5,"-",8,2]
[353,null,"上島村","234-11",1906,493,698,154,543,1,91,145,22,5,21,4,1,10,"-",2,8,3,7,"-","-","-","-","-",1,"-",10,10,10,"-",10,"-",10,"-",1,"-",5,"-",6,1]
[354,"つくばみらい市",null,"235-00",7916,570,3736,3070,644,22,386,1413,349,8,346,"-",1,109,74,24,11,20,27,27,26,7,2,54,80,76,91,98,19,"-",109,29,52,3,6,2,42,2,104,56]
[355,null,"小張村","235-01",794,85,294,229,64,1,41,106,18,"-",17,"-",1,10,7,2,1,3,1,3,3,"-","-",7,7,10,10,9,5,"-",10,3,5,"-",2,"-","-","-",10,2]
[356,null,"板橋村","235-02",1540,320,449,273,168,8,89,189,31,2,31,"-","-",13,1,8,4,4,6,1,2,"-","-",7,11,12,13,13,4,"-",13,7,12,2,4,2,6,1,11,2]
[357,null,"三島村","235-03",678,21,494,461,33,"-",21,171,25,1,25,"-","-",10,9,1,"-",1,3,3,3,"-","-",4,10,10,10,10,1,"-",10,3,3,"-","-","-",3,"-",10,9]
[358,null,"久賀村２－１","235-04",370,35,207,180,26,1,28,84,24,1,23,"-","-",3,2,1,"-","-",3,"-","-","-","-",2,3,3,3,3,"-","-",3,2,3,"-","-","-",2,1,3,2]
[359,null,"谷井田村","235-05",575,"-",296,273,23,"-",11,113,38,"-",38,"-","-",7,7,"-","-",3,3,1,"-","-","-",1,7,7,6,4,"-","-",7,2,"-","-","-","-",3,"-",7,4]
[360,null,"豊村","235-06",596,5,398,386,12,"-",10,154,32,"-",32,"-","-",8,8,"-","-","-",5,1,2,"-","-",8,8,8,8,7,2,"-",8,4,2,"-","-","-",3,"-",8,4]
[361,null,"十和村２－１","235-07",821,18,483,407,76,"-",26,187,53,1,53,"-","-",13,10,3,"-",1,"-",3,5,3,1,"-",3,12,6,12,3,"-",13,"-",2,"-","-","-",8,"-",13,2]
[362,null,"福岡村","235-08",719,27,299,162,137,"-",88,99,15,1,14,"-","-",13,3,5,5,"-",5,4,2,1,1,1,"-",11,3,11,2,"-",13,"-",4,"-","-","-",3,"-",10,"-"]
[363,null,"谷原村","235-09",1079,25,601,558,43,"-",30,245,83,1,83,"-","-",22,22,"-","-",2,"-",8,9,3,"-",17,22,3,22,21,"-","-",22,6,13,"-","-","-",6,"-",22,22]
[364,null,"小絹村","235-10",744,34,215,141,62,12,41,65,30,1,30,"-","-",10,5,4,1,6,1,3,"-","-","-",7,9,"-",10,8,2,"-",10,2,8,1,"-","-",8,"-",10,9]
[365,"小美玉市",null,"236-00",14474,2161,5588,2019,2850,719,904,1786,252,26,236,2,9,74,6,47,21,13,35,21,5,"-","-",53,73,68,74,69,67,"-",74,24,72,20,53,30,67,46,74,72]
[366,null,"小川町","236-01",1650,234,558,264,259,35,105,197,31,"-",30,"-",2,12,1,9,2,2,6,4,"-","-","-",8,12,10,12,11,10,"-",12,3,12,2,7,2,12,5,12,12]
[367,null,"白河村","236-02",2352,362,862,239,584,39,128,230,32,7,27,"-",3,9,"-",4,5,"-",3,5,1,"-","-",8,8,9,9,7,8,"-",9,3,9,2,8,5,8,5,9,8]
[368,null,"橘村","236-03",2296,414,796,309,445,42,147,228,32,1,31,"-",1,14,1,8,5,2,8,4,"-","-","-",10,14,11,14,12,10,"-",14,4,14,5,11,5,14,8,14,13]
[369,null,"堅倉村","236-04",3835,611,1685,494,904,287,236,534,50,7,43,"-",2,17,"-",12,5,3,7,5,2,"-","-",12,17,17,17,17,17,"-",17,5,17,10,11,9,17,15,17,17]
[370,null,"竹原村","236-05",2355,325,1092,342,525,225,170,331,54,5,54,2,"-",10,"-",6,4,2,6,1,1,"-","-",10,10,10,10,10,10,"-",10,5,10,"-",7,6,10,7,10,10]
[371,null,"玉川村（小美玉市）","236-06",410,37,216,154,36,26,30,103,21,4,19,"-","-",3,1,2,"-","-","-",2,1,"-","-",2,3,2,3,3,3,"-",3,2,2,"-",3,"-",2,2,3,3]
[372,null,"田余村","236-07",1123,177,379,217,97,65,87,163,32,2,32,"-",1,9,3,6,"-",4,5,"-","-","-","-",3,9,9,9,9,9,"-",9,2,8,1,6,3,4,4,9,9]
[373,"茨城町",null,"302-00",12158,2115,5393,2559,2391,443,712,1668,215,22,205,2,10,89,12,59,18,11,26,29,20,3,"-",69,85,84,85,77,76,2,89,40,89,7,32,20,70,46,86,81]
[374,null,"長岡村","302-01",2105,273,883,448,389,46,152,248,42,5,41,1,3,19,2,16,1,9,5,3,2,"-","-",11,16,15,15,16,12,2,19,3,19,1,6,6,14,6,18,15]
[375,null,"川根村","302-02",2131,381,966,499,293,174,132,378,42,5,41,"-","-",20,"-",18,2,1,3,7,7,2,"-",17,19,20,20,19,19,"-",20,7,20,3,9,8,15,15,19,18]
[376,null,"上野合村","302-03",2854,628,1268,375,737,156,135,329,44,2,43,1,3,18,"-",9,9,"-",4,9,5,"-","-",10,18,17,18,13,15,"-",18,10,18,3,2,1,16,11,17,17]
[377,null,"石崎村","302-04",2462,373,983,681,269,33,113,294,38,4,36,"-",2,17,8,8,1,"-",9,5,2,1,"-",16,17,17,17,17,15,"-",17,17,17,"-",8,4,12,10,17,16]
[378,null,"酒門村２－２","302-05",233,91,127,74,49,4,17,43,8,2,8,"-",1,3,"-",3,"-","-",3,"-","-","-","-",3,3,3,3,3,3,"-",3,3,3,"-",1,1,3,3,3,3]
[379,null,"沼前村","302-06",2373,369,1166,482,654,30,162,376,41,4,36,"-",1,12,2,5,5,1,2,5,4,"-","-",12,12,12,12,9,12,"-",12,"-",12,"-",6,"-",10,1,12,12]
[380,"大洗町",null,"309-00",2374,396,584,348,232,4,56,164,43,13,34,1,3,18,4,4,10,7,5,3,3,"-","-",3,3,1,4,2,4,13,17,2,17,"-",5,"-",7,"-",11,2]
[381,null,"磯浜町","309-01",632,49,29,5,24,"-",13,12,3,1,2,"-","-",4,"-",1,3,4,"-","-","-","-","-","-","-","-",2,1,2,2,3,1,3,"-","-","-",2,"-",1,"-"]
[382,null,"大貫町","309-02",460,65,131,93,38,"-",8,35,18,10,13,"-","-",3,1,1,1,3,"-","-","-","-","-",1,1,"-",1,1,1,2,3,"-",3,"-",1,"-",1,"-",2,"-"]
[383,null,"夏海村２－１","309-03",1282,282,424,250,170,4,36,117,22,2,19,1,3,11,3,2,6,"-",5,3,3,"-","-",2,2,1,1,"-",1,9,11,1,11,"-",4,"-",4,"-",8,2]
[384,"城里町",null,"310-00",16180,9788,2558,1267,1181,110,562,1059,212,8,207,2,3,81,14,46,21,9,14,34,16,8,"-",35,58,28,61,51,21,18,81,2,74,4,24,9,64,31,78,54]
[385,null,"石塚町","310-01",1018,177,422,165,246,11,74,125,17,3,15,"-","-",11,1,5,5,8,1,"-",2,"-","-",2,8,7,9,8,6,1,11,"-",11,3,2,1,9,3,10,8]
[386,null,"小松村","310-02",967,322,348,182,158,8,68,133,17,"-",17,1,1,7,"-",7,"-","-",2,4,1,"-","-",3,7,7,7,7,6,"-",7,"-",7,"-",6,2,7,7,7,7]
[387,null,"西郷村","310-03",3238,1954,437,191,219,27,143,185,35,3,35,"-","-",11,1,8,2,"-",3,3,2,3,"-",10,11,5,11,7,1,"-",11,1,11,"-",8,5,11,3,11,9]
[388,null,"圷村","310-04",540,10,327,250,74,3,24,141,22,"-",22,"-","-",7,4,3,"-","-","-",6,1,"-","-",2,7,5,7,7,6,"-",7,"-",5,"-","-","-",4,2,7,7]
[389,null,"岩船村","310-05",2822,1777,386,110,258,18,117,145,47,"-",46,"-",1,12,"-",6,6,"-",2,9,1,"-","-","-",7,2,6,4,2,5,12,"-",12,1,3,1,11,1,12,7]
[390,null,"沢山村","310-06",1279,521,251,124,119,8,41,88,17,1,16,"-","-",14,2,4,8,1,5,6,2,"-","-","-",2,"-",3,3,"-",11,14,"-",9,"-",3,"-",3,"-",12,2]
[391,null,"七会村（城里町）","310-07",6316,5027,387,245,107,35,95,242,57,1,56,1,1,19,6,13,"-","-",1,6,7,5,"-",18,16,2,18,15,"-",1,19,1,19,"-",2,"-",19,15,19,14]
[392,"東海村",null,"341-00",3798,651,1067,452,599,16,141,403,127,74,100,2,2,18,4,7,7,7,9,1,1,"-","-",18,18,18,18,18,18,"-",18,"-",17,1,9,"-",18,"-",18,"-"]
[393,null,"石神村","341-01",1171,95,412,176,235,1,53,166,35,11,29,1,1,8,2,3,3,4,3,"-",1,"-","-",8,8,8,8,8,8,"-",8,"-",7,1,3,"-",8,"-",8,"-"]
[394,null,"村松村","341-02",2627,556,655,276,364,15,88,237,92,63,71,1,1,10,2,4,4,3,6,1,"-","-","-",10,10,10,10,10,10,"-",10,"-",10,"-",6,"-",10,"-",10,"-"]
[395,"大子町",null,"364-00",32576,25932,2309,1057,998,254,829,965,234,27,231,34,6,64,6,37,21,6,16,23,17,2,"-",13,47,48,59,52,37,1,64,12,64,8,16,10,63,35,59,43]
[396,null,"大子町（旧）","364-01",2853,1861,345,186,140,19,106,144,46,2,46,5,1,7,1,5,1,2,1,3,1,"-","-",4,5,5,5,5,4,1,7,1,7,2,2,2,7,2,7,5]
[397,null,"依上村","364-02",3206,2520,373,188,168,17,95,188,29,3,29,5,2,6,"-",6,"-","-","-",3,3,"-","-",2,6,6,6,5,4,"-",6,3,6,2,3,2,6,5,6,6]
[398,null,"佐原村","364-03",3334,2789,240,72,96,72,63,109,34,9,33,"-",1,4,"-",2,2,"-","-",2,2,"-","-",2,4,1,4,3,3,"-",4,4,4,2,"-","-",4,4,4,4]
[399,null,"黒沢村","364-04",7267,6673,250,72,141,37,97,108,29,1,29,"-","-",5,"-",2,3,"-",1,2,2,"-","-",1,5,5,5,5,3,"-",5,"-",5,1,"-","-",5,5,5,4]
[400,null,"宮川村","364-05",2574,1507,296,165,107,24,109,143,24,2,24,4,1,10,3,6,1,"-",2,3,5,"-","-",3,10,5,10,10,4,"-",10,3,10,"-",4,2,10,4,10,10]
[401,null,"生瀬村","364-06",5009,3992,450,264,157,29,161,198,42,6,42,14,"-",7,1,6,"-","-",2,2,2,1,"-","-",7,7,5,4,3,"-",7,1,7,1,1,"-",6,2,7,7]
[402,null,"袋田村","364-07",2575,1786,183,74,87,22,87,51,25,2,23,3,1,10,1,4,5,2,6,2,"-","-","-",1,5,9,9,9,4,"-",10,"-",10,"-",3,2,10,1,8,3]
[403,null,"上小川村","364-08",4323,3728,132,33,84,15,81,18,1,"-",1,"-","-",8,"-",5,3,1,2,4,1,"-","-","-",5,3,8,5,5,"-",8,"-",8,"-",3,2,8,5,7,4]
[404,null,"下小川村２－２","364-09",1042,748,37,1,17,19,26,6,4,2,4,3,"-",6,"-","-",6,1,2,2,"-",1,"-","-","-",6,6,6,6,"-",6,"-",6,"-","-","-",6,6,4,"-"]
[405,null,"諸富野村２－２","364-10",393,328,3,2,1,0,4,"-","-","-","-","-","-",1,"-",1,"-","-","-","-",1,"-","-","-","-",1,1,"-",1,"-",1,"-",1,"-","-","-",1,1,1,"-"]
[406,"美浦村",null,"442-00",6661,464,1168,906,244,18,186,323,92,2,92,"-","-",35,26,8,1,14,12,8,1,"-","-",33,33,34,35,33,27,"-",35,3,27,3,11,"-",33,4,35,24]
[407,null,"安中村","442-01",1161,117,538,484,51,3,30,173,53,1,53,"-","-",15,14,1,"-",1,6,7,1,"-","-",15,15,15,15,15,15,"-",15,"-",10,"-",7,"-",15,1,15,15]
[408,null,"木原村","442-02",2022,343,550,349,186,15,142,134,36,1,36,"-","-",18,10,7,1,11,6,1,"-","-","-",16,16,17,18,17,11,"-",18,3,15,3,2,"-",16,3,18,7]
[409,null,"舟島村２－２","442-03",218,4,80,73,7,"-",15,16,3,"-",3,"-","-",2,2,"-","-",2,"-","-","-","-","-",2,2,2,2,1,1,"-",2,"-",2,"-",2,"-",2,"-",2,2]
[410,"阿見町",null,"443-00",7140,1072,2181,831,1269,81,578,520,136,8,134,2,3,41,5,22,14,14,14,10,3,"-","-",10,28,12,29,24,17,4,41,10,37,5,10,1,25,13,39,22]
[411,null,"阿見町（旧）","443-01",1668,92,423,197,221,5,139,142,46,1,45,"-",1,12,3,5,4,8,3,1,"-","-","-",1,5,"-",5,6,6,4,12,"-",8,1,3,1,8,1,11,3]
[412,null,"朝日村","443-02",2580,511,885,240,613,32,210,191,52,5,52,"-","-",16,"-",7,9,5,6,5,"-","-","-",6,11,8,15,11,8,"-",16,8,16,3,3,"-",8,6,15,7]
[413,null,"舟島村２－１","443-03",612,74,216,129,79,8,65,39,7,1,7,1,"-",5,2,3,"-",1,3,1,"-","-","-",1,5,"-",3,"-",2,"-",5,"-",5,"-",3,"-",3,1,5,5]
[414,null,"君原村","443-04",1643,396,657,265,356,36,164,148,31,1,30,1,2,8,"-",7,1,"-",2,3,3,"-","-",2,7,4,6,7,1,"-",8,2,8,1,1,"-",6,5,8,7]
[415,"河内町",null,"447-00",4430,"-",2831,2746,79,6,20,685,92,3,92,1,1,34,34,"-","-","-",23,8,3,"-","-",11,7,30,32,28,18,2,34,18,"-","-",3,1,25,2,34,5]
[416,null,"生板村２－２","447-01",1304,"-",766,739,25,2,5,164,21,1,21,"-","-",10,10,"-","-","-",7,3,"-","-","-",5,1,10,10,9,4,"-",10,4,"-","-",1,"-",7,"-",10,1]
[417,null,"源清田村","447-02",895,"-",567,545,20,2,5,155,34,1,34,"-","-",10,10,"-","-","-",5,2,3,"-","-",2,1,9,10,8,5,"-",10,7,"-","-","-","-",7,"-",10,"-"]
[418,null,"瑞穂村","447-03",530,"-",389,376,13,"-",3,93,9,"-",9,"-","-",6,6,"-","-","-",6,"-","-","-","-",2,1,6,6,5,4,"-",6,1,"-","-",1,"-",4,"-",6,1]
[419,null,"金江津村","447-04",1701,"-",1109,1086,21,2,8,273,28,1,28,1,1,8,8,"-","-","-",5,3,"-","-","-",2,4,5,6,6,5,2,8,6,"-","-",1,1,7,2,8,3]
[420,"八千代町",null,"521-00",5899,210,3621,1820,1705,96,160,1104,111,7,108,3,1,67,21,22,24,3,24,28,12,"-","-",59,62,63,65,66,50,"-",67,23,36,1,2,"-",21,12,64,40]
[421,null,"中結城村","521-01",1284,25,868,531,327,10,31,246,24,1,23,"-","-",14,7,3,4,2,4,7,1,"-","-",12,13,13,14,13,12,"-",14,12,6,"-","-","-",6,6,14,12]
[422,null,"川西村","521-02",788,4,535,350,115,70,10,191,34,3,33,1,1,10,3,7,"-","-",3,5,2,"-","-",9,10,10,10,10,9,"-",10,8,1,"-",1,"-",6,4,10,10]
[423,null,"西豊田村","521-03",1197,33,719,457,247,15,28,233,29,1,28,1,"-",15,7,8,"-","-",6,8,1,"-","-",11,14,15,15,15,5,"-",15,1,6,"-","-","-",3,1,15,1]
[424,null,"安静村","521-04",1589,102,921,290,630,1,54,270,8,"-",8,1,"-",15,1,3,11,"-",7,5,3,"-","-",15,15,15,15,15,15,"-",15,1,12,1,1,"-",5,1,15,15]
[425,null,"下結城村","521-05",998,44,549,169,380,"-",36,157,16,2,16,"-","-",12,2,1,9,1,4,3,4,"-","-",11,9,9,10,12,8,"-",12,"-",10,"-","-","-",1,"-",9,1]
[426,null,"名崎村２－２","521-06",43,2,29,23,6,"-",0,7,"-","-","-","-","-",1,1,"-","-","-","-","-",1,"-","-",1,1,1,1,1,1,"-",1,1,1,"-","-","-","-","-",1,1]
[427,"五霞町",null,"542-00",2311,22,1028,984,44,"-",45,533,117,5,116,"-","-",14,14,"-","-","-",4,9,1,"-","-",10,14,10,14,11,14,"-",14,"-",11,"-","-","-",10,5,14,14]
[428,null,"（五霞町）",null,2311,22,1028,984,44,"-",45,533,117,5,116,"-","-",14,14,"-","-","-",4,9,1,"-","-",10,14,10,14,11,14,"-",14,"-",11,"-","-","-",10,5,14,14]
[429,"境町",null,"546-00",4659,230,2364,1108,1217,39,154,835,126,1,126,"-","-",58,7,31,20,12,22,16,8,"-","-",38,51,25,32,27,45,5,56,9,41,3,1,1,17,9,52,51]
[430,null,"境町（旧）","546-01",348,2,58,35,22,1,7,22,7,"-",7,"-","-",9,3,1,5,9,"-","-","-","-","-",1,4,2,"-",1,1,5,7,"-",1,"-","-","-",2,"-",4,4]
[431,null,"長田村","546-02",1031,69,556,252,287,17,33,183,30,"-",30,"-","-",8,1,3,4,1,4,2,1,"-","-",6,8,7,7,7,7,"-",8,1,8,"-","-","-","-","-",8,8]
[432,null,"猿島村","546-03",1161,62,564,202,346,16,40,188,31,"-",31,"-","-",16,"-",9,7,2,9,3,2,"-","-",13,15,4,5,9,15,"-",16,"-",15,"-","-","-",5,2,15,15]
[433,null,"森戸村","546-04",1238,63,668,367,296,5,40,264,35,1,35,"-","-",17,2,12,3,"-",7,6,4,"-","-",10,16,9,13,8,14,"-",17,8,12,2,1,1,5,3,17,16]
[434,null,"静村","546-05",881,35,518,252,266,"-",34,178,23,"-",23,"-","-",8,1,6,1,"-",2,5,1,"-","-",8,8,3,7,2,8,"-",8,"-",5,1,"-","-",5,4,8,8]
[435,"利根町",null,"564-00",2490,58,1198,1130,66,2,52,372,91,1,91,"-",1,26,23,3,"-",9,10,4,3,"-","-",4,12,18,25,21,5,1,26,2,19,"-",4,1,18,7,26,8]
[436,null,"布川町","564-01",557,5,127,122,5,"-",6,46,15,"-",15,"-",1,6,5,1,"-",4,2,"-","-","-","-",1,3,5,6,5,"-","-",6,"-",5,"-",1,"-",3,1,6,3]
[437,null,"文村","564-02",538,23,247,225,21,1,28,98,28,"-",28,"-","-",9,8,1,"-",4,1,1,3,"-","-",1,6,6,9,9,1,"-",9,"-",8,"-","-","-",8,3,9,3]
[438,null,"文間村","564-03",618,26,310,299,11,"-",14,119,30,"-",30,"-","-",4,4,"-","-",1,3,"-","-","-","-",1,3,3,4,2,1,"-",4,1,3,"-",1,1,3,2,4,2]
[439,null,"東文間村","564-04",777,4,514,484,29,1,4,109,18,1,18,"-","-",7,6,1,"-","-",4,3,"-","-","-",1,"-",4,6,5,3,1,7,1,3,"-",2,"-",4,1,7,"-"]
[440]
[441]
[442]
[443]
[444]
[445]

{"sheet":"指定地域 ","index":4,"n_rows":443,"n_cols":14,"rows_kept":443,"hidden":true}
[]
[]
[{"$nulls":8},1,2,3,4,5,6]
["KEY","PREF","CITY","KCITY","AGRI","PREF_NAME","CITY_NAME","KCITY_NAME","森林地域_森林地域","農業地域_農業地域","都市地域_市街化区域","都市地域_市街化調整","商業関連地域","工業関連地域"]
["0800000000","08","000","00","000","茨城県",null,null,{"v":198114.23,"d":"198114"},{"v":477376.66,"d":"477377"},52075,{"v":252070.83,"d":"252071"},{"v":2919.09,"d":"2919"},{"v":15676.810000000001,"d":"15677"}]
["0820100000","08","201","00","000","茨城県","水戸市",null,{"v":4118.38,"d":"4118"},{"v":17101.69,"d":"17102"},{"v":4305.38,"d":"4305"},{"v":17380.38,"d":"17380"},{"v":457.91999999999996,"d":"458"},{"v":344.09999999999997,"d":"344"}]
["0820101000","08","201","01","000","茨城県","水戸市","水戸市",{"v":53.55,"d":"54"},{"v":286.7,"d":"287"},{"v":1208.58,"d":"1209"},{"v":286.7,"d":"287"},{"v":281.37,"d":"281"},{"v":66.95,"d":"67"}]
["0820102000","08","201","02","000","茨城県","水戸市","国田村",{"v":92.34,"d":"92"},{"v":997.05,"d":"997"},{"v":0.01,"d":"0"},{"v":997.05,"d":"997"},{"v":0.01,"d":"0"},{"v":0.01,"d":"0"}]
["0820103000","08","201","03","000","茨城県","水戸市","吉田村",{"v":128.41,"d":"128"},{"v":440.013,"d":"440"},{"v":521.53,"d":"522"},{"v":440.013,"d":"440"},{"v":19.4,"d":"19"},{"v":44.870000000000005,"d":"45"}]
["0820104000","08","201","04","000","茨城県","水戸市","酒門村２－１",{"v":277.05,"d":"277"},{"v":1093.01,"d":"1093"},{"v":173.93,"d":"174"},{"v":1093.01,"d":"1093"},{"v":0.01,"d":"0"},{"v":121.44,"d":"121"}]
["0820105000","08","201","05","000","茨城県","水戸市","柳河村",{"v":9.13,"d":"9"},{"v":647.33,"d":"647"},{"v":0.01,"d":"0"},{"v":647.33,"d":"647"},{"v":0.01,"d":"0"},{"v":0.01,"d":"0"}]
["0820106000","08","201","06","000","茨城県","水戸市","渡里村",{"v":318.34,"d":"318"},{"v":809.9,"d":"810"},{"v":324.56,"d":"325"},{"v":809.9,"d":"810"},{"v":3.05,"d":"3"},{"v":0.01,"d":"0"}]
["0820107000","08","201","07","000","茨城県","水戸市","上大野村",{"v":7.55,"d":"8"},{"v":604.28,"d":"604"},{"v":0.01,"d":"0"},{"v":604.28,"d":"604"},{"v":0.01,"d":"0"},{"v":0.01,"d":"0"}]
["0820108000","08","201","08","000","茨城県","水戸市","緑岡村",{"v":398.55,"d":"399"},{"v":1338.41,"d":"1338"},{"v":1172.4,"d":"1172"},{"v":1338.41,"d":"1338"},{"v":86.84,"d":"87"},{"v":67.69,"d":"68"}]
["0820109000","08","201","09","000","茨城県","水戸市","飯富村",{"v":353.55,"d":"354"},{"v":1285.81,"d":"1286"},{"v":119.19,"d":"119"},{"v":1348.02,"d":"1348"},{"v":4.05,"d":"4"},{"v":0.01,"d":"0"}]
["0820110000","08","201","10","000","茨城県","水戸市","上中妻村",{"v":100.73,"d":"101"},{"v":761.04,"d":"761"},{"v":98.7,"d":"99"},{"v":761.04,"d":"761"},{"v":1.11,"d":"1"},{"v":7.4,"d":"7"}]
["0820111000","08","201","11","000","茨城県","水戸市","山根村",{"v":732.59,"d":"733"},{"v":1340.22,"d":"1340"},{"v":49.04,"d":"49"},{"v":1435.3,"d":"1435"},{"v":0.01,"d":"0"},{"v":0.01,"d":"0"}]
["0820112000","08","201","12","000","茨城県","水戸市","河和田村",{"v":246.57,"d":"247"},{"v":866.28,"d":"866"},{"v":370.97,"d":"371"},{"v":866.28,"d":"866"},{"v":26.82,"d":"27"},{"v":15.65,"d":"16"}]
["0820113000","08","201","13","000","茨城県","水戸市","下大野村",{"v":8.06,"d":"8"},{"v":987.45,"d":"987"},{"v":0.01,"d":"0"},{"v":987.45,"d":"987"},{"v":0.01,"d":"0"},{"v":0.01,"d":"0"}]
["0820114000","08","201","14","000","茨城県","水戸市","稲荷村",{"v":223.55,"d":"224"},{"v":819.69,"d":"820"},{"v":152.87,"d":"153"},{"v":819.4,"d":"819"},{"v":1.08,"d":"1"},{"v":17.680000000000003,"d":"18"}]
["0820115000","08","201","15","000","茨城県","水戸市","大場村",{"v":270.94,"d":"271"},{"v":934.4,"d":"934"},{"v":0.93,"d":"1"},{"v":934.4,"d":"934"},{"v":0.01,"d":"0"},{"v":0.92,"d":"1"}]
["0820116000","08","201","16","000","茨城県","水戸市","下中妻村",{"v":348.73,"d":"349"},{"v":942.29,"d":"942"},{"v":112.68,"d":"113"},{"v":1044.82,"d":"1045"},{"v":34.2,"d":"34"},{"v":1.51,"d":"2"}]
["0820117000","08","201","17","000","茨城県","水戸市","中妻村",{"v":163.95,"d":"164"},{"v":773.94,"d":"774"},{"v":0.01,"d":"0"},{"v":797.76,"d":"798"},{"v":0.01,"d":"0"},{"v":0.01,"d":"0"}]
["0820118000","08","201","18","000","茨城県","水戸市","鯉渕村２－１",{"v":384.79,"d":"385"},{"v":2173.75,"d":"2174"},{"v":0.01,"d":"0"},{"v":2169.09,"d":"2169"},{"v":0.01,"d":"0"},{"v":0.01,"d":"0"}]
["0820200000","08","202","00","000","茨城県","日立市",null,{"v":13447.54,"d":"13448"},{"v":10538.65,"d":"10539"},{"v":5023.57,"d":"5024"},{"v":3605.64,"d":"3606"},{"v":220.9,"d":"221"},{"v":1304.73,"d":"1305"}]
["0820201000","08","202","01","000","茨城県","日立市","中里村",2674,{"v":2665.94,"d":"2666"},{"v":0.01,"d":"0"},{"v":0.01,"d":"0"},{"v":0.01,"d":"0"},{"v":0.01,"d":"0"}]
["0820202000","08","202","02","000","茨城県","日立市","豊浦町",{"v":210.85,"d":"211"},{"v":365.77,"d":"366"},350,{"v":241.9,"d":"242"},{"v":5.13,"d":"5"},{"v":161.15,"d":"161"}]
["0820203000","08","202","03","000","茨城県","日立市","日高村",{"v":824.4,"d":"824"},{"v":403.33,"d":"403"},{"v":570.66,"d":"571"},{"v":287.1,"d":"287"},{"v":11.85,"d":"12"},{"v":88.17,"d":"88"}]
["0820204000","08","202","04","000","茨城県","日立市","日立市",{"v":2165.28,"d":"2165"},{"v":1029.6,"d":"1030"},{"v":1114.85,"d":"1115"},{"v":338.22,"d":"338"},{"v":101.57000000000001,"d":"102"},{"v":274.1,"d":"274"}]
["0820205000","08","202","05","000","茨城県","日立市","多賀町",1999,{"v":1284.31,"d":"1284"},{"v":2102.26,"d":"2102"},{"v":374.33,"d":"374"},{"v":65.97,"d":"66"},{"v":491.04999999999995,"d":"491"}]
["0820206000","08","202","06","000","茨城県","日立市","久慈町",{"v":14.38,"d":"14"},{"v":0.98,"d":"1"},{"v":379.54,"d":"380"},{"v":0.98,"d":"1"},{"v":31.32,"d":"31"},{"v":127.66000000000001,"d":"128"}]
["0820207000","08","202","07","000","茨城県","日立市","坂本村",82,{"v":387.44,"d":"387"},{"v":231.63,"d":"232"},{"v":401.65,"d":"402"},{"v":0.01,"d":"0"},{"v":26.6,"d":"27"}]
["0820208000","08","202","08","000","茨城県","日立市","東小沢村",{"v":0.01,"d":"0"},{"v":382.75,"d":"383"},{"v":88.64,"d":"89"},{"v":382.77,"d":"383"},{"v":0.01,"d":"0"},{"v":89.51,"d":"90"}]
["0820209000","08","202","09","000","茨城県","日立市","黒前村２－１",{"v":4800.29,"d":"4800"},{"v":2775.98,"d":"2776"},{"v":0.01,"d":"0"},{"v":305.97,"d":"306"},{"v":0.01,"d":"0"},{"v":0.01,"d":"0"}]
["0820210000","08","202","10","000","茨城県","日立市","櫛形村",{"v":677.34,"d":"677"},{"v":1242.54,"d":"1243"},{"v":185.93,"d":"186"},{"v":1272.71,"d":"1273"},{"v":5.07,"d":"5"},{"v":46.489999999999995,"d":"46"}]
["0820300000","08","203","00","000","茨城県","土浦市",null,{"v":1327.21,"d":"1327"},{"v":7822.9,"d":"7823"},{"v":3306.97,"d":"3307"},8257,{"v":299.73,"d":"300"},{"v":655.3499999999999,"d":"655"}]
["0820301000","08","203","01","000","茨城県","土浦市","土浦市",{"v":372.06,"d":"372"},{"v":3144.73,"d":"3145"},{"v":2581.28,"d":"2581"},{"v":3226.71,"d":"3227"},{"v":292.07,"d":"292"},{"v":282.5,"d":"283"}]
["0820302000","08","203","02","000","茨城県","土浦市","上大津村",{"v":197.12,"d":"197"},{"v":1715.73,"d":"1716"},{"v":598.95,"d":"599"},{"v":1754.66,"d":"1755"},{"v":7.51,"d":"8"},{"v":331.25,"d":"331"}]
["0820303000","08","203","03","000","茨城県","土浦市","藤沢村",{"v":96.17,"d":"96"},{"v":944.54,"d":"945"},{"v":78.28,"d":"78"},{"v":944.54,"d":"945"},{"v":0.01,"d":"0"},{"v":6.27,"d":"6"}]
["0820304000","08","203","04","000","茨城県","土浦市","山ノ荘村",{"v":629.79,"d":"630"},{"v":1348.94,"d":"1349"},{"v":16.87,"d":"17"},{"v":1463.5,"d":"1464"},{"v":0.01,"d":"0"},{"v":15.91,"d":"16"}]
["0820305000","08","203","05","000","茨城県","土浦市","斗利出村",{"v":32.07,"d":"32"},{"v":666.19,"d":"666"},{"v":29.7,"d":"30"},{"v":666.19,"d":"666"},{"v":0.01,"d":"0"},{"v":19.42,"d":"19"}]
["0820400000","08","204","00","000","茨城県","古河市",null,{"v":828.5,"d":"829"},{"v":8807.9,"d":"8808"},{"v":2974.06,"d":"2974"},{"v":9381.7,"d":"9382"},{"v":130.45999999999998,"d":"130"},{"v":714.36,"d":"714"}]
["0820401000","08","204","01","000","茨城県","古河市","古河町",{"v":3.71,"d":"4"},{"v":13.81,"d":"14"},{"v":677.31,"d":"677"},{"v":136.33,"d":"136"},{"v":104.38,"d":"104"},{"v":8.64,"d":"9"}]
["0820402000","08","204","02","000","茨城県","古河市","新郷村",{"v":23.47,"d":"23"},{"v":411.82,"d":"412"},{"v":478.91,"d":"479"},{"v":813.68,"d":"814"},{"v":0.01,"d":"0"},{"v":65.75,"d":"66"}]
["0820403000","08","204","03","000","茨城県","古河市","勝鹿村",{"v":31.47,"d":"31"},{"v":299.55,"d":"300"},{"v":730.51,"d":"731"},{"v":348.92,"d":"349"},{"v":18.93,"d":"19"},{"v":62.06999999999999,"d":"62"}]
["0820404000","08","204","04","000","茨城県","古河市","香取村",{"v":60.46,"d":"60"},{"v":1290.25,"d":"1290"},{"v":260.22,"d":"260"},{"v":1290.31,"d":"1290"},{"v":0.01,"d":"0"},{"v":170.03,"d":"170"}]
["0820405000","08","204","05","000","茨城県","古河市","桜井村",{"v":154.88,"d":"155"},{"v":1111.95,"d":"1112"},{"v":185.79,"d":"186"},{"v":1111.95,"d":"1112"},{"v":0.01,"d":"0"},{"v":108.07,"d":"108"}]
["0820406000","08","204","06","000","茨城県","古河市","岡郷村",{"v":163.18,"d":"163"},{"v":1149.99,"d":"1150"},{"v":198.2,"d":"198"},{"v":1149.99,"d":"1150"},{"v":0.01,"d":"0"},{"v":152.43,"d":"152"}]
["0820407000","08","204","07","000","茨城県","古河市","幸島村",{"v":267.21,"d":"267"},{"v":1775.87,"d":"1776"},{"v":370.22,"d":"370"},{"v":1775.87,"d":"1776"},{"v":7.02,"d":"7"},{"v":76.56,"d":"77"}]
["0820408000","08","204","08","000","茨城県","古河市","名崎村２－１",{"v":66.66,"d":"67"},{"v":1291.5,"d":"1292"},{"v":72.89,"d":"73"},{"v":1291.5,"d":"1292"},{"v":0.01,"d":"0"},{"v":70.8,"d":"71"}]
["0820409000","08","204","09","000","茨城県","古河市","八俣村",{"v":57.47,"d":"57"},{"v":1463.15,"d":"1463"},{"v":0.01,"d":"0"},{"v":1463.15,"d":"1463"},{"v":0.01,"d":"0"},{"v":0.01,"d":"0"}]
["0820500000","08","205","00","000","茨城県","石岡市",null,{"v":8106.3,"d":"8106"},{"v":17851.02,"d":"17851"},{"v":1445.78,"d":"1446"},{"v":4507.02,"d":"4507"},{"v":56.93,"d":"57"},{"v":395.95000000000005,"d":"396"}]
["0820501000","08","205","01","000","茨城県","石岡市","石岡町",{"v":292.4,"d":"292"},{"v":2034.42,"d":"2034"},{"v":1080.08,"d":"1080"},{"v":2031.73,"d":"2032"},{"v":56.93,"d":"57"},{"v":239.68,"d":"240"}]
["0820502000","08","205","02","000","茨城県","石岡市","高浜町",{"v":176.29,"d":"176"},{"v":733.55,"d":"734"},{"v":365.69,"d":"366"},{"v":732.83,"d":"733"},{"v":0.01,"d":"0"},{"v":153.5,"d":"154"}]
["0820503000","08","205","03","000","茨城県","石岡市","三村",{"v":115.08,"d":"115"},{"v":1000.79,"d":"1001"},{"v":0.01,"d":"0"},{"v":1000.78,"d":"1001"},{"v":0.01,"d":"0"},{"v":0.01,"d":"0"}]
["0820504000","08","205","04","000","茨城県","石岡市","関川村",{"v":79.55,"d":"80"},{"v":730.76,"d":"731"},{"v":0.01,"d":"0"},{"v":731.52,"d":"732"},{"v":0.01,"d":"0"},{"v":0.01,"d":"0"}]
["0820505000","08","205","05","000","茨城県","石岡市","柿岡町",{"v":177.36,"d":"177"},{"v":772.07,"d":"772"},{"v":0.01,"d":"0"},{"v":0.01,"d":"0"},{"v":0.01,"d":"0"},{"v":2.77,"d":"3"}]
["0820506000","08","205","06","000","茨城県","石岡市","小幡村",{"v":1343.82,"d":"1344"},{"v":1911.58,"d":"1912"},{"v":0.01,"d":"0"},{"v":0.01,"d":"0"},{"v":0.01,"d":"0"},{"v":0.01,"d":"0"}]
["0820507000","08","205","07","000","茨城県","石岡市","葦穂村",{"v":1380.75,"d":"1381"},{"v":2138.3,"d":"2138"},{"v":0.01,"d":"0"},{"v":0.01,"d":"0"},{"v":0.01,"d":"0"},{"v":0.01,"d":"0"}]
["0820508000","08","205","08","000","茨城県","石岡市","恋瀬村",{"v":1458.66,"d":"1459"},{"v":1790.52,"d":"1791"},{"v":0.01,"d":"0"},{"v":0.01,"d":"0"},{"v":0.01,"d":"0"},{"v":0.01,"d":"0"}]
["0820509000","08","205","09","000","茨城県","石岡市","瓦会村",{"v":656.76,"d":"657"},{"v":1425.79,"d":"1426"},{"v":0.01,"d":"0"},{"v":0.01,"d":"0"},{"v":0.01,"d":"0"},{"v":0.01,"d":"0"}]
["0820510000","08","205","10","000","茨城県","石岡市","園部村",{"v":502.37,"d":"502"},{"v":1947.06,"d":"1947"},{"v":0.01,"d":"0"},{"v":6.2,"d":"6"},{"v":0.01,"d":"0"},{"v":0.01,"d":"0"}]
["0820511000","08","205","11","000","茨城県","石岡市","林村",{"v":460.67,"d":"461"},{"v":1595.48,"d":"1595"},{"v":0.01,"d":"0"},{"v":3.62,"d":"4"},{"v":0.01,"d":"0"},{"v":0.01,"d":"0"}]
["0820512000","08","205","12","000","茨城県","石岡市","小桜村",{"v":1462.6,"d":"1463"},{"v":1770.72,"d":"1771"},{"v":0.01,"d":"0"},{"v":0.01,"d":"0"},{"v":0.01,"d":"0"},{"v":0.01,"d":"0"}]
["0820700000","08","207","00","000","茨城県","結城市",null,{"v":210.21,"d":"210"},{"v":5724.36,"d":"5724"},{"v":849.83,"d":"850"},{"v":5720.43,"d":"5720"},{"v":42.379999999999995,"d":"42"},{"v":221.82,"d":"222"}]
["0820701000","08","207","01","000","茨城県","結城市","結城町",{"v":42.78,"d":"43"},{"v":1257.87,"d":"1258"},{"v":682.37,"d":"682"},{"v":1253.94,"d":"1254"},{"v":42.379999999999995,"d":"42"},{"v":61.78,"d":"62"}]
["0820702000","08","207","02","000","茨城県","結城市","絹川村",{"v":4.4,"d":"4"},{"v":565.59,"d":"566"},{"v":71.6,"d":"72"},{"v":565.59,"d":"566"},{"v":0.01,"d":"0"},{"v":70.49,"d":"70"}]
["0820703000","08","207","03","000","茨城県","結城市","上山川村",{"v":64.39,"d":"64"},{"v":925.99,"d":"926"},{"v":95.86,"d":"96"},{"v":925.99,"d":"926"},{"v":0.01,"d":"0"},{"v":89.55,"d":"90"}]
["0820704000","08","207","04","000","茨城県","結城市","山川村",{"v":3.46,"d":"3"},{"v":1111.84,"d":"1112"},{"v":0.01,"d":"0"},{"v":1111.84,"d":"1112"},{"v":0.01,"d":"0"},{"v":0.01,"d":"0"}]
["0820705000","08","207","05","000","茨城県","結城市","江川村",{"v":95.17,"d":"95"},{"v":1863.07,"d":"1863"},{"v":0.01,"d":"0"},{"v":1863.07,"d":"1863"},{"v":0.01,"d":"0"},{"v":0.01,"d":"0"}]
["0820800000","08","208","00","000","茨城県","龍ケ崎市",null,{"v":733.87,"d":"734"},{"v":6396.97,"d":"6397"},{"v":1316.59,"d":"1317"},{"v":6535.73,"d":"6536"},{"v":73.61,"d":"74"},{"v":154.5,"d":"155"}]
["0820801000","08","208","01","000","茨城県","龍ケ崎市","長戸村",{"v":142.64,"d":"143"},{"v":985.71,"d":"986"},{"v":118.24,"d":"118"},{"v":985.71,"d":"986"},{"v":0.01,"d":"0"},{"v":83.27000000000001,"d":"83"}]
["0820802000","08","208","02","000","茨城県","龍ケ崎市","龍ヶ崎町",{"v":17.68,"d":"18"},{"v":435.4,"d":"435"},{"v":290.29,"d":"290"},{"v":435.4,"d":"435"},{"v":34.2,"d":"34"},{"v":7.93,"d":"8"}]
["0820803000","08","208","03","000","茨城県","龍ケ崎市","川原代村",{"v":2.84,"d":"3"},{"v":470.97,"d":"471"},{"v":35.59,"d":"36"},{"v":470.97,"d":"471"},{"v":0.01,"d":"0"},{"v":0.01,"d":"0"}]
["0820804000","08","208","04","000","茨城県","龍ケ崎市","馴柴村",{"v":139.72,"d":"140"},{"v":1437.95,"d":"1438"},{"v":461.29,"d":"461"},{"v":1437.95,"d":"1438"},{"v":34.68,"d":"35"},{"v":19.57,"d":"20"}]
["0820805000","08","208","05","000","茨城県","龍ケ崎市","八原村",{"v":422.55,"d":"423"},{"v":1420.51,"d":"1421"},{"v":382.53,"d":"383"},{"v":1560.4,"d":"1560"},{"v":4.32,"d":"4"},{"v":43.730000000000004,"d":"44"}]
["0820806000","08","208","06","000","茨城県","龍ケ崎市","北文間村",{"v":7.44,"d":"7"},{"v":626.67,"d":"627"},{"v":0.01,"d":"0"},{"v":626.67,"d":"627"},{"v":0.01,"d":"0"},{"v":0.01,"d":"0"}]
["0820807000","08","208","07","000","茨城県","龍ケ崎市","大宮村",{"v":0.01,"d":"0"},{"v":901.48,"d":"901"},{"v":28.6,"d":"29"},{"v":900.36,"d":"900"},{"v":0.01,"d":"0"},{"v":0.01,"d":"0"}]
["0820808000","08","208","08","000","茨城県","龍ケ崎市","高須村２－２",1,{"v":118.27,"d":"118"},{"v":0.01,"d":"0"},{"v":118.27,"d":"118"},{"v":0.01,"d":"0"},{"v":0.01,"d":"0"}]
["0821000000","08","210","00","000","茨城県","下妻市",null,{"v":301.55,"d":"302"},{"v":7607.74,"d":"7608"},{"v":0.01,"d":"0"},{"v":5.56,"d":"6"},{"v":38.97,"d":"39"},{"v":62.92,"d":"63"}]
["0821001000","08","210","01","000","茨城県","下妻市","下妻町",{"v":17.71,"d":"18"},{"v":251.95,"d":"252"},{"v":0.01,"d":"0"},{"v":0.01,"d":"0"},{"v":36.68,"d":"37"},{"v":19.71,"d":"20"}]
["0821002000","08","210","02","000","茨城県","下妻市","大宝村",{"v":22.98,"d":"23"},{"v":909.17,"d":"909"},{"v":0.01,"d":"0"},{"v":0.01,"d":"0"},{"v":0.01,"d":"0"},{"v":0.01,"d":"0"}]
["0821003000","08","210","03","000","茨城県","下妻市","騰波ノ江村",{"v":3.99,"d":"4"},{"v":685.84,"d":"686"},{"v":0.01,"d":"0"},{"v":0.01,"d":"0"},{"v":0.01,"d":"0"},{"v":0.01,"d":"0"}]
["0821004000","08","210","04","000","茨城県","下妻市","上妻村",{"v":123.14,"d":"123"},{"v":1764.34,"d":"1764"},{"v":0.01,"d":"0"},{"v":5.27,"d":"5"},{"v":0.01,"d":"0"},{"v":20.46,"d":"20"}]
["0821005000","08","210","05","000","茨城県","下妻市","総上村",{"v":9.95,"d":"10"},{"v":655.33,"d":"655"},{"v":0.01,"d":"0"},{"v":0.01,"d":"0"},{"v":0.01,"d":"0"},{"v":0.01,"d":"0"}]
["0821006000","08","210","06","000","茨城県","下妻市","豊加美村",{"v":5.05,"d":"5"},{"v":707.79,"d":"708"},{"v":0.01,"d":"0"},{"v":0.01,"d":"0"},{"v":0.01,"d":"0"},{"v":0.01,"d":"0"}]
["0821007000","08","210","07","000","茨城県","下妻市","高道祖村",{"v":62.81,"d":"63"},{"v":757.22,"d":"757"},{"v":0.01,"d":"0"},{"v":0.01,"d":"0"},{"v":0.01,"d":"0"},{"v":0.01,"d":"0"}]
["0821008000","08","210","08","000","茨城県","下妻市","大形村",{"v":53.43,"d":"53"},{"v":903.73,"d":"904"},{"v":0.01,"d":"0"},{"v":0.01,"d":"0"},{"v":0.01,"d":"0"},{"v":22.71,"d":"23"}]
["0821009000","08","210","09","000","茨城県","下妻市","蚕飼村",{"v":1.64,"d":"2"},{"v":303.6,"d":"304"},{"v":0.01,"d":"0"},{"v":0.01,"d":"0"},{"v":0.01,"d":"0"},{"v":0.01,"d":"0"}]
["0821010000","08","210","10","000","茨城県","下妻市","玉村２－１",{"v":0.01,"d":"0"},{"v":220.29,"d":"220"},{"v":0.01,"d":"0"},{"v":0.01,"d":"0"},{"v":0.01,"d":"0"},{"v":0.01,"d":"0"}]
["0821011000","08","210","11","000","茨城県","下妻市","宗道村",{"v":0.87,"d":"1"},{"v":448.49,"d":"448"},{"v":0.01,"d":"0"},{"v":0.01,"d":"0"},{"v":2.28,"d":"2"},{"v":0.01,"d":"0"}]
["0821100000","08","211","00","000","茨城県","常総市",null,{"v":697.81,"d":"698"},{"v":11553.35,"d":"11553"},{"v":483.69,"d":"484"},{"v":7488.23,"d":"7488"},{"v":58.989999999999995,"d":"59"},{"v":88.89,"d":"89"}]
["0821101000","08","211","01","000","茨城県","常総市","水海道町",{"v":9.65,"d":"10"},{"v":258.83,"d":"259"},{"v":233.72,"d":"234"},{"v":258.83,"d":"259"},{"v":40.09,"d":"40"},{"v":0.01,"d":"0"}]
["0821102000","08","211","02","000","茨城県","常総市","坂手村",{"v":122.35,"d":"122"},{"v":721.34,"d":"721"},{"v":0.01,"d":"0"},{"v":803.09,"d":"803"},{"v":0.01,"d":"0"},{"v":0.01,"d":"0"}]
["0821103000","08","211","03","000","茨城県","常総市","豊岡村",{"v":65.2,"d":"65"},{"v":821.71,"d":"822"},{"v":50.35,"d":"50"},{"v":821.71,"d":"822"},{"v":0.01,"d":"0"},{"v":0.01,"d":"0"}]
["0821104000","08","211","04","000","茨城県","常総市","菅原村",{"v":52.52,"d":"53"},{"v":840.29,"d":"840"},{"v":68.74,"d":"69"},{"v":833.47,"d":"833"},{"v":0.01,"d":"0"},{"v":66.5,"d":"67"}]
["0821105000","08","211","05","000","茨城県","常総市","大花羽村",{"v":29.62,"d":"30"},{"v":593.23,"d":"593"},{"v":2.59,"d":"3"},{"v":592.33,"d":"592"},{"v":0.01,"d":"0"},{"v":3.99,"d":"4"}]
["0821106000","08","211","06","000","茨城県","常総市","三妻村",{"v":0.01,"d":"0"},{"v":754.46,"d":"754"},{"v":50.43,"d":"50"},{"v":748.77,"d":"749"},{"v":0.01,"d":"0"},{"v":0.01,"d":"0"}]
["0821107000","08","211","07","000","茨城県","常総市","五箇村",{"v":0.01,"d":"0"},{"v":721.31,"d":"721"},{"v":0.01,"d":"0"},{"v":720.85,"d":"721"},{"v":0.01,"d":"0"},{"v":0.01,"d":"0"}]
["0821108000","08","211","08","000","茨城県","常総市","大生村",{"v":1.75,"d":"2"},{"v":775.71,"d":"776"},{"v":7.49,"d":"7"},{"v":775.71,"d":"776"},{"v":0.01,"d":"0"},{"v":0.01,"d":"0"}]
["0821109000","08","211","09","000","茨城県","常総市","内守谷村",{"v":43.7,"d":"44"},{"v":499.27,"d":"499"},{"v":70.26,"d":"70"},{"v":499.27,"d":"499"},{"v":1.53,"d":"2"},{"v":10.59,"d":"11"}]
["0821110000","08","211","10","000","茨城県","常総市","菅生村",{"v":123.47,"d":"123"},{"v":1173.12,"d":"1173"},{"v":0.01,"d":"0"},{"v":1184.74,"d":"1185"},{"v":0.01,"d":"0"},{"v":0.01,"d":"0"}]
["0821111000","08","211","11","000","茨城県","常総市","十和村２－２",{"v":0.01,"d":"0"},{"v":107.3,"d":"107"},{"v":0.01,"d":"0"},{"v":107.3,"d":"107"},{"v":0.01,"d":"0"},{"v":0.01,"d":"0"}]
["0821112000","08","211","12","000","茨城県","常総市","真瀬村２－２",{"v":0.01,"d":"0"},{"v":129.68,"d":"130"},{"v":0.01,"d":"0"},{"v":129.68,"d":"130"},{"v":0.01,"d":"0"},{"v":0.01,"d":"0"}]
["0821113000","08","211","13","000","茨城県","常総市","石下町",{"v":3.67,"d":"4"},{"v":665.04,"d":"665"},{"v":0.01,"d":"0"},{"v":4.75,"d":"5"},{"v":17.36,"d":"17"},{"v":6.97,"d":"7"}]
["0821114000","08","211","14","000","茨城県","常総市","玉村２－２",{"v":9.19,"d":"9"},{"v":406.49,"d":"406"},{"v":0.01,"d":"0"},{"v":0.01,"d":"0"},{"v":0.01,"d":"0"},{"v":0.01,"d":"0"}]
["0821115000","08","211","15","000","茨城県","常総市","豊田村",{"v":0.01,"d":"0"},{"v":615.5,"d":"616"},{"v":0.01,"d":"0"},{"v":0.01,"d":"0"},{"v":0.01,"d":"0"},{"v":0.01,"d":"0"}]
["0821116000","08","211","16","000","茨城県","常総市","岡田村",{"v":66.92,"d":"67"},{"v":798.21,"d":"798"},{"v":0.01,"d":"0"},{"v":0.01,"d":"0"},{"v":0.01,"d":"0"},{"v":0.01,"d":"0"}]
["0821117000","08","211","17","000","茨城県","常総市","飯沼村",{"v":169.72,"d":"170"},{"v":1671.86,"d":"1672"},{"v":0.01,"d":"0"},{"v":7.47,"d":"7"},{"v":0.01,"d":"0"},{"v":0.84,"d":"1"}]
["0821200000","08","212","00","000","茨城県","常陸太田市",null,{"v":24164.56,"d":"24165"},{"v":27855.34,"d":"27855"},{"v":600.018,"d":"600"},{"v":5541.93,"d":"5542"},{"v":32.33,"d":"32"},{"v":97.17,"d":"97"}]
["0821201000","08","212","01","000","茨城県","常陸太田市","太田町",{"v":0.01,"d":"0"},{"v":47.52,"d":"48"},{"v":253.47,"d":"253"},{"v":47.51,"d":"48"},{"v":32.03,"d":"32"},{"v":15.58,"d":"16"}]
["0821202000","08","212","02","000","茨城県","常陸太田市","機初村",{"v":727.16,"d":"727"},{"v":961.13,"d":"961"},{"v":39.32,"d":"39"},{"v":834.39,"d":"834"},{"v":0.01,"d":"0"},{"v":42.27,"d":"42"}]
["0821203000","08","212","03","000","茨城県","常陸太田市","世矢村",{"v":693.22,"d":"693"},{"v":1090.27,"d":"1090"},{"v":70.9,"d":"71"},{"v":1172.59,"d":"1173"},{"v":0.01,"d":"0"},{"v":24.89,"d":"25"}]
["0821204000","08","212","04","000","茨城県","常陸太田市","西小沢村",{"v":7.42,"d":"7"},{"v":588.64,"d":"589"},{"v":0.94,"d":"1"},{"v":588.64,"d":"589"},{"v":0.01,"d":"0"},{"v":3.21,"d":"3"}]
["0821205000","08","212","05","000","茨城県","常陸太田市","幸久村",{"v":22.95,"d":"23"},{"v":752.71,"d":"753"},{"v":0.01,"d":"0"},{"v":746.91,"d":"747"},{"v":0.01,"d":"0"},{"v":0.01,"d":"0"}]
["0821206000","08","212","06","000","茨城県","常陸太田市","佐竹村",{"v":159.18,"d":"159"},{"v":702.19,"d":"702"},{"v":83.84,"d":"84"},{"v":731.11,"d":"731"},{"v":0.01,"d":"0"},{"v":0.01,"d":"0"}]
["0821207000","08","212","07","000","茨城県","常陸太田市","誉田村",{"v":1112.08,"d":"1112"},{"v":1662.9,"d":"1663"},{"v":151.7,"d":"152"},{"v":1302.17,"d":"1302"},{"v":0.01,"d":"0"},{"v":11.23,"d":"11"}]
["0821208000","08","212","08","000","茨城県","常陸太田市","佐都村",{"v":923.42,"d":"923"},{"v":742.94,"d":"743"},{"v":0.01,"d":"0"},{"v":100.9,"d":"101"},{"v":0.01,"d":"0"},{"v":0.01,"d":"0"}]
["0821209000","08","212","09","000","茨城県","常陸太田市","河内村２－１",{"v":1440.89,"d":"1441"},{"v":1202.09,"d":"1202"},{"v":0.01,"d":"0"},{"v":0.01,"d":"0"},{"v":0.01,"d":"0"},{"v":0.01,"d":"0"}]
["0821210000","08","212","10","000","茨城県","常陸太田市","郡戸村",{"v":145.59,"d":"146"},{"v":968.37,"d":"968"},{"v":0.01,"d":"0"},{"v":8.58,"d":"9"},{"v":0.01,"d":"0"},{"v":0.01,"d":"0"}]
["0821211000","08","212","11","000","茨城県","常陸太田市","久米村",{"v":389.74,"d":"390"},{"v":1048.45,"d":"1048"},{"v":0.01,"d":"0"},{"v":8.32,"d":"8"},{"v":0.01,"d":"0"},{"v":0.01,"d":"0"}]
["0821212000","08","212","12","000","茨城県","常陸太田市","金郷村",{"v":635.32,"d":"635"},{"v":1732.18,"d":"1732"},{"v":0.01,"d":"0"},{"v":0.01,"d":"0"},{"v":0.01,"d":"0"},{"v":0.01,"d":"0"}]
["0821213000","08","212","13","000","茨城県","常陸太田市","金砂村",{"v":1409.17,"d":"1409"},{"v":2138.54,"d":"2139"},{"v":0.01,"d":"0"},{"v":0.01,"d":"0"},{"v":0.01,"d":"0"},{"v":0.01,"d":"0"}]
["0821214000","08","212","14","000","茨城県","常陸太田市","天下野村",{"v":1317.48,"d":"1317"},{"v":1201.28,"d":"1201"},{"v":0.01,"d":"0"},{"v":0.01,"d":"0"},{"v":0.01,"d":"0"},{"v":0.01,"d":"0"}]
["0821215000","08","212","15","000","茨城県","常陸太田市","染和田村",{"v":1746.58,"d":"1747"},{"v":1739.43,"d":"1739"},{"v":0.01,"d":"0"},{"v":0.01,"d":"0"},{"v":0.01,"d":"0"},{"v":0.01,"d":"0"}]
["0821216000","08","212","16","000","茨城県","常陸太田市","高倉村",{"v":2190.81,"d":"2191"},{"v":2051.43,"d":"2051"},{"v":0.01,"d":"0"},{"v":0.01,"d":"0"},{"v":0.01,"d":"0"},{"v":0.01,"d":"0"}]
["0821217000","08","212","17","000","茨城県","常陸太田市","山田村",{"v":768.9,"d":"769"},{"v":1339.17,"d":"1339"},{"v":0.01,"d":"0"},{"v":0.81,"d":"1"},{"v":0.01,"d":"0"},{"v":0.01,"d":"0"}]
["0821218000","08","212","18","000","茨城県","常陸太田市","河内村２－２",{"v":71.98,"d":"72"},{"v":101.92,"d":"102"},{"v":0.01,"d":"0"},{"v":0.01,"d":"0"},{"v":0.01,"d":"0"},{"v":0.01,"d":"0"}]
["0821219000","08","212","19","000","茨城県","常陸太田市","小里村",{"v":6289.9,"d":"6290"},{"v":4439.48,"d":"4439"},{"v":0.01,"d":"0"},{"v":0.01,"d":"0"},{"v":0.01,"d":"0"},{"v":0.01,"d":"0"}]
["0821220000","08","212","20","000","茨城県","常陸太田市","賀美村",{"v":4112.78,"d":"4113"},{"v":3344.72,"d":"3345"},{"v":0.01,"d":"0"},{"v":0.01,"d":"0"},{"v":0.01,"d":"0"},{"v":0.01,"d":"0"}]
["0821400000","08","214","00","000","茨城県","高萩市",null,{"v":15510.47,"d":"15510"},{"v":11984.3,"d":"11984"},{"v":0.01,"d":"0"},{"v":0.65,"d":"1"},{"v":27.43,"d":"27"},{"v":219.26,"d":"219"}]
["0821401000","08","214","01","000","茨城県","高萩市","高萩町",{"v":825.2,"d":"825"},{"v":1171.17,"d":"1171"},{"v":0.01,"d":"0"},{"v":0.65,"d":"1"},{"v":27.43,"d":"27"},{"v":86.97,"d":"87"}]
["0821402000","08","214","02","000","茨城県","高萩市","松岡町",{"v":2039.82,"d":"2040"},{"v":1949.6,"d":"1950"},{"v":0.01,"d":"0"},{"v":0.01,"d":"0"},{"v":0.01,"d":"0"},{"v":132.29,"d":"132"}]
["0821403000","08","214","03","000","茨城県","高萩市","高岡村",{"v":12234.34,"d":"12234"},{"v":8634.53,"d":"8635"},{"v":0.01,"d":"0"},{"v":0.01,"d":"0"},{"v":0.01,"d":"0"},{"v":0.01,"d":"0"}]
["0821404000","08","214","04","000","茨城県","高萩市","黒前村２－２",{"v":411.1,"d":"411"},{"v":229.01,"d":"229"},{"v":0.01,"d":"0"},{"v":0.01,"d":"0"},{"v":0.01,"d":"0"},{"v":0.01,"d":"0"}]
["0821500000","08","215","00","000","茨城県","北茨城市",null,{"v":13120.78,"d":"13121"},{"v":11143.12,"d":"11143"},{"v":0.01,"d":"0"},{"v":0.01,"d":"0"},{"v":48.01,"d":"48"},{"v":391.58,"d":"392"}]
["0821501000","08","215","01","000","茨城県","北茨城市","南中郷村",{"v":1298.74,"d":"1299"},{"v":2063.88,"d":"2064"},{"v":0.01,"d":"0"},{"v":0.01,"d":"0"},{"v":0.01,"d":"0"},{"v":163.99,"d":"164"}]
["0821502000","08","215","02","000","茨城県","北茨城市","磯原町",{"v":1482.07,"d":"1482"},{"v":1609.71,"d":"1610"},{"v":0.01,"d":"0"},{"v":0.01,"d":"0"},{"v":28.939999999999998,"d":"29"},{"v":73.88000000000001,"d":"74"}]
["0821503000","08","215","03","000","茨城県","北茨城市","華川村",{"v":4171.87,"d":"4172"},{"v":3328.75,"d":"3329"},{"v":0.01,"d":"0"},{"v":0.01,"d":"0"},{"v":0.01,"d":"0"},{"v":64.62,"d":"65"}]
["0821504000","08","215","04","000","茨城県","北茨城市","関南村",{"v":813.68,"d":"814"},{"v":1340.79,"d":"1341"},{"v":0.01,"d":"0"},{"v":0.01,"d":"0"},{"v":0.01,"d":"0"},{"v":49.21,"d":"49"}]
["0821505000","08","215","05","000","茨城県","北茨城市","大津町",{"v":94.54,"d":"95"},{"v":5.77,"d":"6"},{"v":0.01,"d":"0"},{"v":0.01,"d":"0"},{"v":18.54,"d":"19"},{"v":38.88,"d":"39"}]
["0821506000","08","215","06","000","茨城県","北茨城市","平潟町",{"v":46.06,"d":"46"},{"v":1.33,"d":"1"},{"v":0.01,"d":"0"},{"v":0.01,"d":"0"},{"v":0.01,"d":"0"},1]
["0821507000","08","215","07","000","茨城県","北茨城市","関本村",{"v":5213.82,"d":"5214"},{"v":2792.89,"d":"2793"},{"v":0.01,"d":"0"},{"v":0.01,"d":"0"},{"v":0.01,"d":"0"},{"v":0.01,"d":"0"}]
["0821600000","08","216","00","000","茨城県","笠間市",null,{"v":12187.99,"d":"12188"},{"v":20858.66,"d":"20859"},{"v":0.01,"d":"0"},{"v":14.55,"d":"15"},{"v":52.08,"d":"52"},{"v":259.18,"d":"259"}]
["0821601000","08","216","01","000","茨城県","笠間市","笠間町",{"v":480.08,"d":"480"},{"v":575.88,"d":"576"},{"v":0.01,"d":"0"},{"v":0.01,"d":"0"},{"v":23.5,"d":"24"},{"v":0.01,"d":"0"}]
["0821602000","08","216","02","000","茨城県","笠間市","大池田村",{"v":2037.17,"d":"2037"},{"v":3127.55,"d":"3128"},{"v":0.01,"d":"0"},{"v":4.85,"d":"5"},{"v":0.01,"d":"0"},{"v":0.01,"d":"0"}]
["0821603000","08","216","03","000","茨城県","笠間市","北山内村",{"v":2370.75,"d":"2371"},{"v":2901.3,"d":"2901"},{"v":0.01,"d":"0"},{"v":0.01,"d":"0"},{"v":2.02,"d":"2"},{"v":0.01,"d":"0"}]
["0821604000","08","216","04","000","茨城県","笠間市","南山内村",{"v":1969.6,"d":"1970"},{"v":2632.41,"d":"2632"},{"v":0.01,"d":"0"},{"v":0.01,"d":"0"},{"v":0.01,"d":"0"},{"v":0.01,"d":"0"}]
["0821605000","08","216","05","000","茨城県","笠間市","西山内村",{"v":1452.24,"d":"1452"},{"v":2255.24,"d":"2255"},{"v":0.01,"d":"0"},{"v":3.98,"d":"4"},{"v":0.01,"d":"0"},{"v":0.01,"d":"0"}]
["0821606000","08","216","06","000","茨城県","笠間市","宍戸町",{"v":816.87,"d":"817"},2117,{"v":0.01,"d":"0"},{"v":0.01,"d":"0"},{"v":15.77,"d":"16"},{"v":12.6,"d":"13"}]
["0821607000","08","216","07","000","茨城県","笠間市","北川根村",{"v":358.11,"d":"358"},{"v":1200.7,"d":"1201"},{"v":0.01,"d":"0"},{"v":1.59,"d":"2"},{"v":0.01,"d":"0"},{"v":113.48,"d":"113"}]
["0821608000","08","216","08","000","茨城県","笠間市","大原村",{"v":832.22,"d":"832"},{"v":1422.68,"d":"1423"},{"v":0.01,"d":"0"},{"v":1.33,"d":"1"},{"v":0.01,"d":"0"},{"v":0.01,"d":"0"}]
["0821609000","08","216","09","000","茨城県","笠間市","鯉渕村２－２",{"v":54.44,"d":"54"},{"v":272.47,"d":"272"},{"v":0.01,"d":"0"},{"v":1.65,"d":"2"},{"v":0.01,"d":"0"},{"v":0.01,"d":"0"}]
["0821610000","08","216","10","000","茨城県","笠間市","岩間町",{"v":1470.82,"d":"1471"},{"v":2740.52,"d":"2741"},{"v":0.01,"d":"0"},{"v":0.01,"d":"0"},{"v":10.79,"d":"11"},{"v":3.32,"d":"3"}]
["0821611000","08","216","11","000","茨城県","笠間市","南川根村",{"v":345.68,"d":"346"},{"v":1612.92,"d":"1613"},{"v":0.01,"d":"0"},{"v":0.69,"d":"1"},{"v":0.01,"d":"0"},{"v":129.76999999999998,"d":"130"}]
["0821700000","08","217","00","000","茨城県","取手市",null,{"v":260.46,"d":"260"},{"v":5193.63,"d":"5194"},{"v":1756.75,"d":"1757"},{"v":5235.85,"d":"5236"},{"v":109.67,"d":"110"},{"v":178.79000000000002,"d":"179"}]
["0821701000","08","217","01","000","茨城県","取手市","取手町",{"v":10.44,"d":"10"},{"v":539.71,"d":"540"},{"v":534.33,"d":"534"},{"v":539.71,"d":"540"},{"v":74.02000000000001,"d":"74"},{"v":27.64,"d":"28"}]
["0821702000","08","217","02","000","茨城県","取手市","小文間村",{"v":66.16,"d":"66"},{"v":558.86,"d":"559"},{"v":24.66,"d":"25"},{"v":562.47,"d":"562"},{"v":0.01,"d":"0"},{"v":24.26,"d":"24"}]
["0821703000","08","217","03","000","茨城県","取手市","寺原村",{"v":38.29,"d":"38"},{"v":301.42,"d":"301"},{"v":315.71,"d":"316"},{"v":314.05,"d":"314"},{"v":5.57,"d":"6"},{"v":28.45,"d":"28"}]
["0821704000","08","217","04","000","茨城県","取手市","高井村２－２",{"v":66.81,"d":"67"},{"v":405.62,"d":"406"},{"v":96.91,"d":"97"},{"v":405.62,"d":"406"},{"v":6.68,"d":"7"},{"v":13.44,"d":"13"}]
["0821705000","08","217","05","000","茨城県","取手市","稲戸井村",{"v":74.08,"d":"74"},{"v":550.01,"d":"550"},{"v":340.46,"d":"340"},{"v":575.19,"d":"575"},{"v":2.68,"d":"3"},{"v":1.3,"d":"1"}]
["0821706000","08","217","06","000","茨城県","取手市","相馬町",{"v":0.01,"d":"0"},{"v":354.62,"d":"355"},{"v":230.95,"d":"231"},{"v":354.62,"d":"355"},{"v":19.27,"d":"19"},{"v":23.509999999999998,"d":"24"}]
["0821707000","08","217","07","000","茨城県","取手市","山王村",{"v":4.35,"d":"4"},{"v":778.21,"d":"778"},{"v":0.01,"d":"0"},{"v":778.33,"d":"778"},{"v":0.01,"d":"0"},{"v":0.01,"d":"0"}]
["0821708000","08","217","08","000","茨城県","取手市","久賀村２－２",{"v":0.01,"d":"0"},{"v":552.29,"d":"552"},{"v":25.53,"d":"26"},{"v":552.29,"d":"552"},{"v":0.01,"d":"0"},{"v":0.01,"d":"0"}]
["0821709000","08","217","09","000","茨城県","取手市","高須村２－１",{"v":0.01,"d":"0"},{"v":493.38,"d":"493"},{"v":110.36,"d":"110"},{"v":493.4,"d":"493"},{"v":1.45,"d":"1"},{"v":21.16,"d":"21"}]
["0821710000","08","217","10","000","茨城県","取手市","六郷村",{"v":0.01,"d":"0"},{"v":659.51,"d":"660"},{"v":77.82,"d":"78"},{"v":660.018,"d":"660"},{"v":0.01,"d":"0"},{"v":39.010000000000005,"d":"39"}]
["0821900000","08","219","00","000","茨城県","牛久市",null,{"v":1156.25,"d":"1156"},{"v":4641.76,"d":"4642"},{"v":1241.61,"d":"1242"},{"v":4649.27,"d":"4649"},{"v":74.33000000000001,"d":"74"},{"v":164.7,"d":"165"}]
["0821901000","08","219","01","000","茨城県","牛久市","牛久町",{"v":202.49,"d":"202"},{"v":612.1,"d":"612"},{"v":518.04,"d":"518"},{"v":611.9,"d":"612"},{"v":36.89,"d":"37"},{"v":19.42,"d":"19"}]
["0821902000","08","219","02","000","茨城県","牛久市","岡田村",{"v":496.74,"d":"497"},{"v":2014.53,"d":"2015"},{"v":601.89,"d":"602"},{"v":2015.66,"d":"2016"},{"v":37.44,"d":"37"},{"v":31.54,"d":"32"}]
["0821903000","08","219","03","000","茨城県","牛久市","奥野村",{"v":457.02,"d":"457"},{"v":2015.13,"d":"2015"},{"v":121.68,"d":"122"},{"v":2021.71,"d":"2022"},{"v":0.01,"d":"0"},{"v":113.75,"d":"114"}]
["0822000000","08","220","00","000","茨城県","つくば市",null,{"v":4135.27,"d":"4135"},{"v":22052.36,"d":"22052"},{"v":5431.09,"d":"5431"},{"v":22934.99,"d":"22935"},{"v":344.03,"d":"344"},{"v":845.44,"d":"845"}]
["0822001000","08","220","01","000","茨城県","つくば市","栄村",{"v":54.48,"d":"54"},{"v":682.09,"d":"682"},{"v":173.19,"d":"173"},{"v":682.09,"d":"682"},{"v":6.1,"d":"6"},{"v":0.01,"d":"0"}]
["0822002000","08","220","02","000","茨城県","つくば市","九重村",{"v":78.15,"d":"78"},{"v":1103.47,"d":"1103"},{"v":848.59,"d":"849"},{"v":1104.09,"d":"1104"},{"v":108.62,"d":"109"},{"v":0.01,"d":"0"}]
["0822003000","08","220","03","000","茨城県","つくば市","栗原村２－１",{"v":37.37,"d":"37"},{"v":466.93,"d":"467"},{"v":240.81,"d":"241"},{"v":466.93,"d":"467"},{"v":0.01,"d":"0"},{"v":6.22,"d":"6"}]
["0822004000","08","220","04","000","茨城県","つくば市","島名村",{"v":231.09,"d":"231"},{"v":1239.81,"d":"1240"},{"v":376.1,"d":"376"},{"v":1239.81,"d":"1240"},{"v":43.099999999999994,"d":"43"},{"v":103.80000000000001,"d":"104"}]
["0822005000","08","220","05","000","茨城県","つくば市","葛城村",{"v":160.08,"d":"160"},{"v":679.07,"d":"679"},{"v":729.24,"d":"729"},{"v":679.07,"d":"679"},{"v":77.62,"d":"78"},{"v":233.25,"d":"233"}]
["0822006000","08","220","06","000","茨城県","つくば市","小野川村",{"v":64.02,"d":"64"},{"v":1513.84,"d":"1514"},{"v":907.15,"d":"907"},{"v":1575.94,"d":"1576"},{"v":14.31,"d":"14"},{"v":0.55,"d":"1"}]
["0822007000","08","220","07","000","茨城県","つくば市","谷田部町",{"v":153.33,"d":"153"},{"v":1090.62,"d":"1091"},{"v":627.46,"d":"627"},{"v":1090.62,"d":"1091"},{"v":64.03,"d":"64"},{"v":109.49,"d":"109"}]
["0822008000","08","220","08","000","茨城県","つくば市","真瀬村２－１",{"v":60.92,"d":"61"},{"v":799.25,"d":"799"},{"v":2.17,"d":"2"},{"v":799.25,"d":"799"},{"v":1.19,"d":"1"},{"v":0.52,"d":"1"}]
["0822009000","08","220","09","000","茨城県","つくば市","上郷村",{"v":120.8,"d":"121"},{"v":1149.53,"d":"1150"},{"v":142.15,"d":"142"},{"v":1149.39,"d":"1149"},{"v":7.83,"d":"8"},{"v":66.58,"d":"67"}]
["0822010000","08","220","10","000","茨城県","つくば市","旭村２－１",{"v":137.48,"d":"137"},{"v":1414.83,"d":"1415"},{"v":211.25,"d":"211"},{"v":1414.83,"d":"1415"},{"v":0.01,"d":"0"},{"v":47.45,"d":"47"}]
["0822011000","08","220","11","000","茨城県","つくば市","吉沼村２－２",{"v":18.08,"d":"18"},{"v":280.26,"d":"280"},{"v":1.52,"d":"2"},{"v":280.26,"d":"280"},{"v":0.01,"d":"0"},{"v":2.4,"d":"2"}]
["0822012000","08","220","12","000","茨城県","つくば市","筑波町",{"v":925.15,"d":"925"},{"v":1100.45,"d":"1100"},{"v":76.08,"d":"76"},{"v":1405.95,"d":"1406"},{"v":0.01,"d":"0"},{"v":77.02,"d":"77"}]
["0822013000","08","220","13","000","茨城県","つくば市","北条町",{"v":40.78,"d":"41"},{"v":598.73,"d":"599"},{"v":80.71,"d":"81"},{"v":598.73,"d":"599"},{"v":5.9,"d":"6"},{"v":5.57,"d":"6"}]
["0822014000","08","220","14","000","茨城県","つくば市","小田村",813,{"v":1305.84,"d":"1306"},{"v":62.81,"d":"63"},{"v":1750.56,"d":"1751"},{"v":0.01,"d":"0"},{"v":0.01,"d":"0"}]
["0822015000","08","220","15","000","茨城県","つくば市","田井村",{"v":454.5,"d":"455"},{"v":941.12,"d":"941"},{"v":0.01,"d":"0"},{"v":1011.15,"d":"1011"},{"v":0.01,"d":"0"},{"v":0.01,"d":"0"}]
["0822016000","08","220","16","000","茨城県","つくば市","作岡村",{"v":175.03,"d":"175"},{"v":1397.93,"d":"1398"},{"v":32.02,"d":"32"},{"v":1397.73,"d":"1398"},{"v":0.01,"d":"0"},{"v":24.48,"d":"24"}]
["0822017000","08","220","17","000","茨城県","つくば市","田水山村",{"v":44.08,"d":"44"},{"v":592.1,"d":"592"},{"v":127.4,"d":"127"},{"v":592.1,"d":"592"},{"v":0.01,"d":"0"},{"v":86.86,"d":"87"}]
["0822018000","08","220","18","000","茨城県","つくば市","菅間村",{"v":63.67,"d":"64"},{"v":664.88,"d":"665"},{"v":0.01,"d":"0"},{"v":664.88,"d":"665"},{"v":0.01,"d":"0"},{"v":0.01,"d":"0"}]
["0822019000","08","220","19","000","茨城県","つくば市","栗原村２－２",{"v":0.01,"d":"0"},{"v":84.64,"d":"85"},{"v":12.76,"d":"13"},{"v":84.64,"d":"85"},{"v":0.01,"d":"0"},{"v":0.01,"d":"0"}]
["0822020000","08","220","20","000","茨城県","つくば市","大穂村",{"v":85.12,"d":"85"},{"v":1369.2,"d":"1369"},{"v":440.26,"d":"440"},{"v":1369.2,"d":"1369"},{"v":9.33,"d":"9"},{"v":27.74,"d":"28"}]
["0822021000","08","220","21","000","茨城県","つくば市","吉沼村２－１",{"v":87.12,"d":"87"},{"v":1089.55,"d":"1090"},{"v":107.3,"d":"107"},{"v":1089.48,"d":"1089"},6,{"v":41.69,"d":"42"}]
["0822022000","08","220","22","000","茨城県","つくば市","旭村２－２",{"v":12.91,"d":"13"},{"v":296.33,"d":"296"},{"v":18.3,"d":"18"},{"v":296.33,"d":"296"},{"v":0.01,"d":"0"},{"v":0.01,"d":"0"}]
["0822023000","08","220","23","000","茨城県","つくば市","茎崎町",{"v":318.12,"d":"318"},{"v":2191.89,"d":"2192"},{"v":213.8,"d":"214"},{"v":2191.97,"d":"2192"},{"v":0.01,"d":"0"},{"v":11.56,"d":"12"}]
["0822100000","08","221","00","000","茨城県","ひたちなか市",null,{"v":1391.11,"d":"1391"},{"v":5029.36,"d":"5029"},{"v":4223.56,"d":"4224"},{"v":5676.73,"d":"5677"},{"v":216.70999999999998,"d":"217"},{"v":1351.67,"d":"1352"}]
["0822101000","08","221","01","000","茨城県","ひたちなか市","那珂湊町",{"v":127.79,"d":"128"},{"v":873.02,"d":"873"},{"v":432.04,"d":"432"},{"v":873.02,"d":"873"},{"v":32.28,"d":"32"},{"v":100.56,"d":"101"}]
["0822102000","08","221","02","000","茨城県","ひたちなか市","平磯町",{"v":26.47,"d":"26"},{"v":292.84,"d":"293"},{"v":164.73,"d":"165"},{"v":338.58,"d":"339"},{"v":5.12,"d":"5"},{"v":0.01,"d":"0"}]
["0822103000","08","221","03","000","茨城県","ひたちなか市","前渡村２－２",{"v":38.68,"d":"39"},{"v":162.93,"d":"163"},{"v":343.87,"d":"344"},{"v":430.91,"d":"431"},{"v":15.19,"d":"15"},{"v":205.58999999999997,"d":"206"}]
["0822104000","08","221","04","000","茨城県","ひたちなか市","勝田町",{"v":470.51,"d":"471"},{"v":1780.71,"d":"1781"},{"v":1729.85,"d":"1730"},{"v":1780.71,"d":"1781"},{"v":119.49000000000001,"d":"119"},{"v":337.95000000000005,"d":"338"}]
["0822105000","08","221","05","000","茨城県","ひたちなか市","佐野村",{"v":315.05,"d":"315"},{"v":924.52,"d":"925"},{"v":764.05,"d":"764"},{"v":924.34,"d":"924"},{"v":28.96,"d":"29"},{"v":254.26999999999998,"d":"254"}]
["0822106000","08","221","06","000","茨城県","ひたちなか市","前渡村２－１",{"v":412.61,"d":"413"},{"v":995.35,"d":"995"},{"v":789.02,"d":"789"},{"v":1329.16,"d":"1329"},{"v":15.67,"d":"16"},{"v":453.02000000000004,"d":"453"}]
["0822200000","08","222","00","000","茨城県","鹿嶋市",null,{"v":1859.59,"d":"1860"},{"v":7104.97,"d":"7105"},{"v":2338.06,"d":"2338"},{"v":7454.59,"d":"7455"},{"v":78.87,"d":"79"},{"v":1062.83,"d":"1063"}]
["0822201000","08","222","01","000","茨城県","鹿嶋市","大同村",{"v":766.29,"d":"766"},{"v":2846.16,"d":"2846"},{"v":0.01,"d":"0"},{"v":2846.16,"d":"2846"},{"v":0.01,"d":"0"},{"v":0.01,"d":"0"}]
["0822202000","08","222","02","000","茨城県","鹿嶋市","中野村",{"v":302.32,"d":"302"},{"v":1199.48,"d":"1199"},{"v":0.01,"d":"0"},{"v":1202.33,"d":"1202"},{"v":0.01,"d":"0"},{"v":0.01,"d":"0"}]
["0822203000","08","222","03","000","茨城県","鹿嶋市","波野村",{"v":67.58,"d":"68"},{"v":557.66,"d":"558"},{"v":106.72,"d":"107"},{"v":556.72,"d":"557"},{"v":0.01,"d":"0"},{"v":0.01,"d":"0"}]
["0822204000","08","222","04","000","茨城県","鹿嶋市","豊津村",{"v":4.54,"d":"5"},{"v":308.36,"d":"308"},{"v":0.01,"d":"0"},{"v":318.43,"d":"318"},{"v":0.01,"d":"0"},{"v":0.01,"d":"0"}]
["0822205000","08","222","05","000","茨城県","鹿嶋市","鹿島町",{"v":242.1,"d":"242"},{"v":422.35,"d":"422"},{"v":485.53,"d":"486"},{"v":421.61,"d":"422"},{"v":74.97999999999999,"d":"75"},{"v":0.01,"d":"0"}]
["0822206000","08","222","06","000","茨城県","鹿嶋市","高松村",{"v":93.57,"d":"94"},{"v":671.86,"d":"672"},{"v":1716.72,"d":"1717"},{"v":671.89,"d":"672"},{"v":3.89,"d":"4"},{"v":1062.83,"d":"1063"}]
["0822207000","08","222","07","000","茨城県","鹿嶋市","豊郷村",{"v":383.2,"d":"383"},{"v":993.83,"d":"994"},{"v":29.09,"d":"29"},{"v":999.85,"d":"1000"},{"v":0.01,"d":"0"},{"v":0.01,"d":"0"}]
["0822300000","08","223","00","000","茨城県","潮来市",null,{"v":932.49,"d":"932"},{"v":5483.48,"d":"5483"},{"v":760.07,"d":"760"},{"v":6256.34,"d":"6256"},{"v":67.08,"d":"67"},{"v":87.69,"d":"88"}]
["0822301000","08","223","01","000","茨城県","潮来市","潮来町",{"v":46.46,"d":"46"},{"v":1032.54,"d":"1033"},{"v":374.35,"d":"374"},{"v":1032.51,"d":"1033"},{"v":57.260000000000005,"d":"57"},{"v":7.32,"d":"7"}]
["0822302000","08","223","02","000","茨城県","潮来市","津知村",{"v":96.84,"d":"97"},{"v":481.06,"d":"481"},{"v":64.33,"d":"64"},{"v":481.03,"d":"481"},{"v":1.35,"d":"1"},{"v":3.87,"d":"4"}]
["0822303000","08","223","03","000","茨城県","潮来市","延方村",{"v":93.16,"d":"93"},{"v":1299.74,"d":"1300"},{"v":200.02,"d":"200"},{"v":1305.13,"d":"1305"},{"v":4.83,"d":"5"},{"v":20.53,"d":"21"}]
["0822304000","08","223","04","000","茨城県","潮来市","大生原村",{"v":232.71,"d":"233"},{"v":865.18,"d":"865"},{"v":0.01,"d":"0"},{"v":873.48,"d":"873"},{"v":0.01,"d":"0"},{"v":0.5,"d":"1"}]
["0822305000","08","223","05","000","茨城県","潮来市","八代村",{"v":181.26,"d":"181"},{"v":735.22,"d":"735"},{"v":94.16,"d":"94"},{"v":734.33,"d":"734"},{"v":0.01,"d":"0"},{"v":55.47,"d":"55"}]
["0822306000","08","223","06","000","茨城県","潮来市","香澄村",{"v":282.05,"d":"282"},{"v":993.64,"d":"994"},{"v":26.76,"d":"27"},{"v":1011.27,"d":"1011"},{"v":3.36,"d":"3"},{"v":0.01,"d":"0"}]
["0822400000","08","224","00","000","茨城県","守谷市",null,{"v":295.29,"d":"295"},{"v":2573.24,"d":"2573"},{"v":997.16,"d":"997"},{"v":2573.24,"d":"2573"},{"v":27.310000000000002,"d":"27"},{"v":127.76,"d":"128"}]
["0822401000","08","224","01","000","茨城県","守谷市","守谷町",{"v":107.48,"d":"107"},{"v":429.77,"d":"430"},{"v":436.78,"d":"437"},{"v":429.77,"d":"430"},{"v":22.63,"d":"23"},{"v":35.129999999999995,"d":"35"}]
["0822402000","08","224","02","000","茨城県","守谷市","大野村",{"v":43.75,"d":"44"},{"v":685.31,"d":"685"},{"v":73.36,"d":"73"},{"v":685.31,"d":"685"},{"v":0.01,"d":"0"},{"v":52.31,"d":"52"}]
["0822403000","08","224","03","000","茨城県","守谷市","大井沢村",{"v":79.08,"d":"79"},{"v":880.52,"d":"881"},{"v":307.68,"d":"308"},{"v":880.52,"d":"881"},{"v":0.01,"d":"0"},{"v":39.96,"d":"40"}]
["0822404000","08","224","04","000","茨城県","守谷市","高野村",{"v":46.68,"d":"47"},{"v":502.56,"d":"503"},{"v":179.34,"d":"179"},{"v":502.56,"d":"503"},{"v":4.69,"d":"5"},{"v":0.01,"d":"0"}]
["0822405000","08","224","05","000","茨城県","守谷市","高井村２－１",{"v":18.3,"d":"18"},{"v":75.08,"d":"75"},{"v":0.01,"d":"0"},{"v":75.08,"d":"75"},{"v":0.01,"d":"0"},{"v":0.01,"d":"0"}]
["0822500000","08","225","00","000","茨城県","常陸大宮市",null,{"v":21833.14,"d":"21833"},{"v":31504.7,"d":"31505"},{"v":0.01,"d":"0"},{"v":4.77,"d":"5"},{"v":14.42,"d":"14"},{"v":162.17,"d":"162"}]
["0822501000","08","225","01","000","茨城県","常陸大宮市","大宮町",{"v":41.38,"d":"41"},{"v":187.08,"d":"187"},{"v":0.01,"d":"0"},{"v":0.01,"d":"0"},{"v":14.42,"d":"14"},{"v":0.01,"d":"0"}]
["0822502000","08","225","02","000","茨城県","常陸大宮市","大賀村",{"v":281.95,"d":"282"},{"v":1107.9,"d":"1108"},{"v":0.01,"d":"0"},{"v":0.01,"d":"0"},{"v":0.01,"d":"0"},{"v":0.01,"d":"0"}]
["0822503000","08","225","03","000","茨城県","常陸大宮市","世喜村２－１",{"v":358.24,"d":"358"},{"v":927.17,"d":"927"},{"v":0.01,"d":"0"},{"v":0.01,"d":"0"},{"v":0.01,"d":"0"},{"v":0.01,"d":"0"}]
["0822504000","08","225","04","000","茨城県","常陸大宮市","上野村",{"v":52.95,"d":"53"},{"v":753.15,"d":"753"},{"v":0.01,"d":"0"},{"v":0.6,"d":"1"},{"v":0.01,"d":"0"},{"v":0.01,"d":"0"}]
["0822505000","08","225","05","000","茨城県","常陸大宮市","静村２－１",{"v":237.23,"d":"237"},{"v":754.85,"d":"755"},{"v":0.01,"d":"0"},{"v":1.48,"d":"1"},{"v":0.01,"d":"0"},{"v":0.01,"d":"0"}]
["0822506000","08","225","06","000","茨城県","常陸大宮市","大場村",{"v":547.44,"d":"547"},{"v":1460.94,"d":"1461"},{"v":0.01,"d":"0"},{"v":2.69,"d":"3"},{"v":0.01,"d":"0"},{"v":154.17,"d":"154"}]
["0822507000","08","225","07","000","茨城県","常陸大宮市","塩田村２－２",{"v":434.62,"d":"435"},{"v":964.17,"d":"964"},{"v":0.01,"d":"0"},{"v":0.01,"d":"0"},{"v":0.01,"d":"0"},{"v":0.01,"d":"0"}]
["0822508000","08","225","08","000","茨城県","常陸大宮市","玉川村",{"v":535.86,"d":"536"},{"v":1244.77,"d":"1245"},{"v":0.01,"d":"0"},{"v":0.01,"d":"0"},{"v":0.01,"d":"0"},8]
["0822509000","08","225","09","000","茨城県","常陸大宮市","伊勢畑村",{"v":1874.16,"d":"1874"},{"v":1575.23,"d":"1575"},{"v":0.01,"d":"0"},{"v":0.01,"d":"0"},{"v":0.01,"d":"0"},{"v":0.01,"d":"0"}]
["0822510000","08","225","10","000","茨城県","常陸大宮市","野口村",{"v":438.69,"d":"439"},{"v":898.8,"d":"899"},{"v":0.01,"d":"0"},{"v":0.01,"d":"0"},{"v":0.01,"d":"0"},{"v":0.01,"d":"0"}]
["0822511000","08","225","11","000","茨城県","常陸大宮市","長倉村",{"v":856.82,"d":"857"},{"v":1180.06,"d":"1180"},{"v":0.01,"d":"0"},{"v":0.01,"d":"0"},{"v":0.01,"d":"0"},{"v":0.01,"d":"0"}]
["0822512000","08","225","12","000","茨城県","常陸大宮市","山方町",{"v":1191.89,"d":"1192"},{"v":1872.34,"d":"1872"},{"v":0.01,"d":"0"},{"v":0.01,"d":"0"},{"v":0.01,"d":"0"},{"v":0.01,"d":"0"}]
["0822513000","08","225","13","000","茨城県","常陸大宮市","世喜村２－２",{"v":371.24,"d":"371"},{"v":757.38,"d":"757"},{"v":0.01,"d":"0"},{"v":0.01,"d":"0"},{"v":0.01,"d":"0"},{"v":0.01,"d":"0"}]
["0822514000","08","225","14","000","茨城県","常陸大宮市","塩田村２－１",{"v":443.97,"d":"444"},{"v":871.35,"d":"871"},{"v":0.01,"d":"0"},{"v":0.01,"d":"0"},{"v":0.01,"d":"0"},{"v":0.01,"d":"0"}]
["0822515000","08","225","15","000","茨城県","常陸大宮市","諸富野村２－１",{"v":1692.81,"d":"1693"},{"v":2157.85,"d":"2158"},{"v":0.01,"d":"0"},{"v":0.01,"d":"0"},{"v":0.01,"d":"0"},{"v":0.01,"d":"0"}]
["0822516000","08","225","16","000","茨城県","常陸大宮市","下小川村２－１",{"v":1819.37,"d":"1819"},{"v":2190.012,"d":"2190"},{"v":0.01,"d":"0"},{"v":0.01,"d":"0"},{"v":0.01,"d":"0"},{"v":0.01,"d":"0"}]
["0822517000","08","225","17","000","茨城県","常陸大宮市","桧沢村",{"v":2844.36,"d":"2844"},{"v":2984.16,"d":"2984"},{"v":0.01,"d":"0"},{"v":0.01,"d":"0"},{"v":0.01,"d":"0"},{"v":0.01,"d":"0"}]
["0822518000","08","225","18","000","茨城県","常陸大宮市","嶐郷村",{"v":3900.26,"d":"3900"},{"v":3953.57,"d":"3954"},{"v":0.01,"d":"0"},{"v":0.01,"d":"0"},{"v":0.01,"d":"0"},{"v":0.01,"d":"0"}]
["0822519000","08","225","19","000","茨城県","常陸大宮市","小瀬村",{"v":1111.26,"d":"1111"},{"v":2045.5,"d":"2046"},{"v":0.01,"d":"0"},{"v":0.01,"d":"0"},{"v":0.01,"d":"0"},{"v":0.01,"d":"0"}]
["0822520000","08","225","20","000","茨城県","常陸大宮市","八里村",{"v":2798.63,"d":"2799"},{"v":3618.33,"d":"3618"},{"v":0.01,"d":"0"},{"v":0.01,"d":"0"},{"v":0.01,"d":"0"},{"v":0.01,"d":"0"}]
["0822600000","08","226","00","000","茨城県","那珂市",null,{"v":2172.58,"d":"2173"},{"v":8765.13,"d":"8765"},{"v":960.92,"d":"961"},{"v":8805.56,"d":"8806"},{"v":17.32,"d":"17"},{"v":296.83,"d":"297"}]
["0822601000","08","226","01","000","茨城県","那珂市","菅谷町",{"v":202.81,"d":"203"},{"v":646.79,"d":"647"},{"v":519.33,"d":"519"},{"v":646.17,"d":"646"},{"v":9.35,"d":"9"},{"v":57.019999999999996,"d":"57"}]
["0822602000","08","226","02","000","茨城県","那珂市","戸多村",{"v":446.71,"d":"447"},{"v":1283.39,"d":"1283"},{"v":43.1,"d":"43"},{"v":1277.32,"d":"1277"},{"v":0.01,"d":"0"},{"v":44.91,"d":"45"}]
["0822603000","08","226","03","000","茨城県","那珂市","芳野村",{"v":179.36,"d":"179"},{"v":1383.1,"d":"1383"},{"v":0.01,"d":"0"},{"v":1383.12,"d":"1383"},{"v":0.01,"d":"0"},{"v":0.01,"d":"0"}]
["0822604000","08","226","04","000","茨城県","那珂市","額田村",{"v":180.43,"d":"180"},{"v":945.4,"d":"945"},{"v":0.01,"d":"0"},{"v":945.4,"d":"945"},{"v":0.01,"d":"0"},{"v":0.01,"d":"0"}]
["0822605000","08","226","05","000","茨城県","那珂市","神崎村",{"v":242.1,"d":"242"},{"v":966.62,"d":"967"},{"v":227.57,"d":"228"},{"v":1021.64,"d":"1022"},{"v":0.01,"d":"0"},{"v":190.07,"d":"190"}]
["0822606000","08","226","06","000","茨城県","那珂市","五台村",{"v":251.31,"d":"251"},{"v":1327.75,"d":"1328"},{"v":0.01,"d":"0"},{"v":1327.75,"d":"1328"},{"v":0.01,"d":"0"},{"v":0.01,"d":"0"}]
["0822607000","08","226","07","000","茨城県","那珂市","木崎村２－１",{"v":211.81,"d":"212"},932,{"v":0.01,"d":"0"},{"v":931.78,"d":"932"},{"v":0.01,"d":"0"},{"v":0.01,"d":"0"}]
["0822608000","08","226","08","000","茨城県","那珂市","瓜連町",{"v":202.45,"d":"202"},{"v":632.65,"d":"633"},{"v":170.7,"d":"171"},{"v":632.21,"d":"632"},{"v":7.97,"d":"8"},{"v":4.83,"d":"5"}]
["0822609000","08","226","09","000","茨城県","那珂市","静村２－２",{"v":236.56,"d":"237"},{"v":526.59,"d":"527"},{"v":0.01,"d":"0"},{"v":519.65,"d":"520"},{"v":0.01,"d":"0"},{"v":0.01,"d":"0"}]
["0822610000","08","226","10","000","茨城県","那珂市","木崎村２－２",{"v":19.05,"d":"19"},{"v":120.82,"d":"121"},{"v":0.01,"d":"0"},{"v":120.53,"d":"121"},{"v":0.01,"d":"0"},{"v":0.01,"d":"0"}]
["0822700000","08","227","00","000","茨城県","筑西市",null,{"v":889.36,"d":"889"},{"v":18563.96,"d":"18564"},{"v":1552.42,"d":"1552"},{"v":18967.93,"d":"18968"},{"v":85.53,"d":"86"},{"v":409.18,"d":"409"}]
["0822701000","08","227","01","000","茨城県","筑西市","下館町",{"v":0.01,"d":"0"},{"v":7.66,"d":"8"},{"v":146.84,"d":"147"},{"v":7.66,"d":"8"},{"v":51.36,"d":"51"},{"v":5.37,"d":"5"}]
["0822702000","08","227","02","000","茨城県","筑西市","伊讃村",{"v":11.04,"d":"11"},{"v":1449.24,"d":"1449"},{"v":368.43,"d":"368"},{"v":1449.24,"d":"1449"},{"v":8.55,"d":"9"},{"v":86.86,"d":"87"}]
["0822703000","08","227","03","000","茨城県","筑西市","竹島村",{"v":6.24,"d":"6"},{"v":500.33,"d":"500"},{"v":120.26,"d":"120"},{"v":500.33,"d":"500"},{"v":0.01,"d":"0"},{"v":28.62,"d":"29"}]
["0822704000","08","227","04","000","茨城県","筑西市","養蚕村",{"v":10.07,"d":"10"},{"v":778.11,"d":"778"},{"v":65.9,"d":"66"},{"v":778.11,"d":"778"},{"v":0.01,"d":"0"},{"v":0.01,"d":"0"}]
["0822705000","08","227","05","000","茨城県","筑西市","五所村",{"v":23.91,"d":"24"},{"v":1014.83,"d":"1015"},{"v":124.21,"d":"124"},{"v":1014.83,"d":"1015"},{"v":0.01,"d":"0"},{"v":123.71,"d":"124"}]
["0822706000","08","227","06","000","茨城県","筑西市","中村",{"v":26.51,"d":"27"},{"v":670.02,"d":"670"},{"v":34.45,"d":"34"},{"v":670.02,"d":"670"},{"v":0.01,"d":"0"},{"v":0.01,"d":"0"}]
["0822707000","08","227","07","000","茨城県","筑西市","河間村",{"v":1.41,"d":"1"},{"v":945.62,"d":"946"},{"v":0.01,"d":"0"},{"v":963.66,"d":"964"},{"v":0.01,"d":"0"},{"v":0.01,"d":"0"}]
["0822708000","08","227","08","000","茨城県","筑西市","大田村",{"v":59.62,"d":"60"},{"v":1364.34,"d":"1364"},{"v":131.75,"d":"132"},{"v":1558.71,"d":"1559"},{"v":12.71,"d":"13"},{"v":48.589999999999996,"d":"49"}]
["0822709000","08","227","09","000","茨城県","筑西市","嘉田生崎村",{"v":1.41,"d":"1"},{"v":657.12,"d":"657"},{"v":40.66,"d":"41"},{"v":657.12,"d":"657"},{"v":0.01,"d":"0"},{"v":0.58,"d":"1"}]
["0822710000","08","227","10","000","茨城県","筑西市","黒子村",{"v":32.42,"d":"32"},{"v":854.14,"d":"854"},{"v":61.51,"d":"62"},{"v":854.14,"d":"854"},{"v":3.64,"d":"4"},{"v":1.47,"d":"1"}]
["0822711000","08","227","11","000","茨城県","筑西市","河内村",{"v":67.6,"d":"68"},{"v":1262.07,"d":"1262"},{"v":73.64,"d":"74"},{"v":1259.78,"d":"1260"},{"v":0.01,"d":"0"},{"v":73.42999999999999,"d":"73"}]
["0822712000","08","227","12","000","茨城県","筑西市","関本町",{"v":15.95,"d":"16"},{"v":1090.85,"d":"1091"},{"v":91.38,"d":"91"},{"v":1090.01,"d":"1090"},{"v":2.53,"d":"3"},{"v":1.54,"d":"2"}]
["0822713000","08","227","13","000","茨城県","筑西市","上野村",{"v":130.81,"d":"131"},{"v":1258.53,"d":"1259"},{"v":29.58,"d":"30"},{"v":1258.46,"d":"1258"},{"v":0.01,"d":"0"},{"v":27.84,"d":"28"}]
["0822714000","08","227","14","000","茨城県","筑西市","大村",{"v":128.09,"d":"128"},{"v":1110.7,"d":"1111"},{"v":101.07,"d":"101"},{"v":1110.69,"d":"1111"},{"v":4.64,"d":"5"},{"v":7.38,"d":"7"}]
["0822715000","08","227","15","000","茨城県","筑西市","村田村",{"v":53.1,"d":"53"},{"v":932.24,"d":"932"},{"v":45.09,"d":"45"},{"v":932.24,"d":"932"},{"v":0.01,"d":"0"},{"v":1.02,"d":"1"}]
["0822716000","08","227","16","000","茨城県","筑西市","長讃村２－１",{"v":49.22,"d":"49"},{"v":649.15,"d":"649"},{"v":0.01,"d":"0"},{"v":649.15,"d":"649"},{"v":0.01,"d":"0"},{"v":0.01,"d":"0"}]
["0822717000","08","227","17","000","茨城県","筑西市","鳥羽村",{"v":32.99,"d":"33"},{"v":710.49,"d":"710"},{"v":0.01,"d":"0"},{"v":710.45,"d":"710"},{"v":0.01,"d":"0"},{"v":0.01,"d":"0"}]
["0822718000","08","227","18","000","茨城県","筑西市","小栗村",{"v":148.25,"d":"148"},{"v":797.4,"d":"797"},{"v":0.01,"d":"0"},{"v":985.33,"d":"985"},{"v":0.01,"d":"0"},{"v":0.01,"d":"0"}]
["0822719000","08","227","19","000","茨城県","筑西市","古里村",{"v":47.29,"d":"47"},{"v":1158.95,"d":"1159"},{"v":1.74,"d":"2"},{"v":1158.95,"d":"1159"},{"v":0.01,"d":"0"},{"v":0.01,"d":"0"}]
["0822720000","08","227","20","000","茨城県","筑西市","新治村",{"v":43.41,"d":"43"},{"v":1352.17,"d":"1352"},{"v":115.67,"d":"116"},{"v":1358.96,"d":"1359"},{"v":1.8,"d":"2"},{"v":2.55,"d":"3"}]
["0822800000","08","228","00","000","茨城県","坂東市",null,{"v":1234.25,"d":"1234"},{"v":11115.15,"d":"11115"},{"v":684.48,"d":"684"},{"v":11614.74,"d":"11615"},{"v":28.490000000000002,"d":"28"},{"v":230.61,"d":"231"}]
["0822801000","08","228","01","000","茨城県","坂東市","岩井町",{"v":65.88,"d":"66"},{"v":638.56,"d":"639"},{"v":403.34,"d":"403"},{"v":656.64,"d":"657"},{"v":25.44,"d":"25"},{"v":83.5,"d":"84"}]
["0822802000","08","228","02","000","茨城県","坂東市","弓馬田村",{"v":181.51,"d":"182"},{"v":932.95,"d":"933"},{"v":59.55,"d":"60"},{"v":1000.64,"d":"1001"},{"v":0.01,"d":"0"},{"v":64.49,"d":"64"}]
["0822803000","08","228","03","000","茨城県","坂東市","飯島村",{"v":3.06,"d":"3"},{"v":671.05,"d":"671"},{"v":0.01,"d":"0"},671,{"v":0.01,"d":"0"},{"v":0.01,"d":"0"}]
["0822804000","08","228","04","000","茨城県","坂東市","神大実村",{"v":158.18,"d":"158"},{"v":1098.43,"d":"1098"},{"v":31.69,"d":"32"},{"v":1098.43,"d":"1098"},{"v":0.01,"d":"0"},{"v":31.94,"d":"32"}]
["0822805000","08","228","05","000","茨城県","坂東市","七郷村",197,{"v":1302.5,"d":"1303"},{"v":0.01,"d":"0"},{"v":1428.25,"d":"1428"},{"v":0.01,"d":"0"},{"v":0.01,"d":"0"}]
["0822806000","08","228","06","000","茨城県","坂東市","中川村",{"v":54.75,"d":"55"},{"v":1131.81,"d":"1132"},{"v":0.01,"d":"0"},{"v":1155.73,"d":"1156"},{"v":0.01,"d":"0"},{"v":0.01,"d":"0"}]
["0822807000","08","228","07","000","茨城県","坂東市","長須村",{"v":10.57,"d":"11"},{"v":1093.68,"d":"1094"},{"v":0.01,"d":"0"},{"v":1093.68,"d":"1094"},{"v":0.01,"d":"0"},{"v":0.01,"d":"0"}]
["0822808000","08","228","08","000","茨城県","坂東市","七重村",234,{"v":1390.3,"d":"1390"},{"v":9.49,"d":"9"},{"v":1457.89,"d":"1458"},{"v":0.01,"d":"0"},{"v":10.91,"d":"11"}]
["0822809000","08","228","09","000","茨城県","坂東市","逆井山村",{"v":125.37,"d":"125"},{"v":1147.3,"d":"1147"},{"v":0.01,"d":"0"},{"v":1213.79,"d":"1214"},{"v":0.01,"d":"0"},{"v":0.01,"d":"0"}]
["0822810000","08","228","10","000","茨城県","坂東市","生子菅村",{"v":112.52,"d":"113"},{"v":910.67,"d":"911"},{"v":7.15,"d":"7"},{"v":1041.23,"d":"1041"},{"v":0.01,"d":"0"},{"v":7.51,"d":"8"}]
["0822811000","08","228","11","000","茨城県","坂東市","沓掛村",{"v":91.42,"d":"91"},{"v":797.9,"d":"798"},{"v":173.26,"d":"173"},{"v":797.46,"d":"797"},{"v":3.05,"d":"3"},{"v":32.21,"d":"32"}]
["0822900000","08","229","00","000","茨城県","稲敷市",null,{"v":1706.25,"d":"1706"},{"v":17183.9,"d":"17184"},{"v":364.31,"d":"364"},{"v":7954.71,"d":"7955"},{"v":10.31,"d":"10"},{"v":56.63,"d":"57"}]
["0822901000","08","229","01","000","茨城県","稲敷市","江戸崎町",{"v":148.28,"d":"148"},{"v":983.71,"d":"984"},{"v":164.08,"d":"164"},{"v":983.31,"d":"983"},{"v":9.98,"d":"10"},{"v":0.01,"d":"0"}]
["0822902000","08","229","02","000","茨城県","稲敷市","君賀村",{"v":240.34,"d":"240"},{"v":1079.59,"d":"1080"},{"v":26.46,"d":"26"},{"v":1164.37,"d":"1164"},{"v":0.01,"d":"0"},{"v":0.01,"d":"0"}]
["0822903000","08","229","03","000","茨城県","稲敷市","沼里村",{"v":310.014,"d":"310"},{"v":1118.11,"d":"1118"},{"v":27.17,"d":"27"},{"v":1118.11,"d":"1118"},{"v":0.01,"d":"0"},{"v":0.01,"d":"0"}]
["0822904000","08","229","04","000","茨城県","稲敷市","高田村",{"v":159.26,"d":"159"},{"v":937.34,"d":"937"},{"v":31.63,"d":"32"},{"v":947.51,"d":"948"},{"v":0.01,"d":"0"},{"v":31.51,"d":"32"}]
["0822905000","08","229","05","000","茨城県","稲敷市","鳩崎村",{"v":98.49,"d":"98"},{"v":825.62,"d":"826"},{"v":0.01,"d":"0"},{"v":825.11,"d":"825"},{"v":0.01,"d":"0"},{"v":0.01,"d":"0"}]
["0822906000","08","229","06","000","茨城県","稲敷市","柴崎村",{"v":68.47,"d":"68"},{"v":1207.75,"d":"1208"},{"v":89.99,"d":"90"},{"v":1204.88,"d":"1205"},{"v":0.01,"d":"0"},{"v":0.01,"d":"0"}]
["0822907000","08","229","07","000","茨城県","稲敷市","根本村",{"v":53.82,"d":"54"},{"v":718.99,"d":"719"},{"v":0.01,"d":"0"},{"v":718.48,"d":"718"},{"v":0.01,"d":"0"},{"v":0.01,"d":"0"}]
["0822908000","08","229","08","000","茨城県","稲敷市","太田村",{"v":52.17,"d":"52"},{"v":933.5,"d":"934"},{"v":23.55,"d":"24"},{"v":930.2,"d":"930"},{"v":0.01,"d":"0"},{"v":24.67,"d":"25"}]
["0822909000","08","229","09","000","茨城県","稲敷市","浮島村",{"v":61.73,"d":"62"},{"v":922.7,"d":"923"},{"v":0.01,"d":"0"},{"v":0.01,"d":"0"},{"v":0.01,"d":"0"},{"v":0.01,"d":"0"}]
["0822910000","08","229","10","000","茨城県","稲敷市","古渡村",{"v":118.72,"d":"119"},{"v":1027.13,"d":"1027"},{"v":0.01,"d":"0"},{"v":1.59,"d":"2"},{"v":0.01,"d":"0"},{"v":0.01,"d":"0"}]
["0822911000","08","229","11","000","茨城県","稲敷市","阿波村",{"v":232.3,"d":"232"},{"v":1245.62,"d":"1246"},{"v":1.42,"d":"1"},{"v":0.01,"d":"0"},{"v":0.01,"d":"0"},{"v":0.01,"d":"0"}]
["0822912000","08","229","12","000","茨城県","稲敷市","本新島村",{"v":0.01,"d":"0"},{"v":2060.76,"d":"2061"},{"v":0.01,"d":"0"},{"v":0.82,"d":"1"},{"v":0.01,"d":"0"},{"v":0.01,"d":"0"}]
["0822913000","08","229","13","000","茨城県","稲敷市","大須賀村",{"v":128.79,"d":"129"},{"v":1447.74,"d":"1448"},{"v":0.01,"d":"0"},{"v":2.84,"d":"3"},{"v":0.01,"d":"0"},{"v":0.01,"d":"0"}]
["0822914000","08","229","14","000","茨城県","稲敷市","十余島村２－２",{"v":0.01,"d":"0"},{"v":1795.73,"d":"1796"},{"v":0.01,"d":"0"},{"v":0.01,"d":"0"},{"v":0.01,"d":"0"},{"v":0.01,"d":"0"}]
["0822915000","08","229","15","000","茨城県","稲敷市","伊崎村",{"v":33.6,"d":"34"},{"v":859.23,"d":"859"},{"v":0.01,"d":"0"},{"v":0.01,"d":"0"},{"v":0.01,"d":"0"},{"v":0.01,"d":"0"}]
["0823000000","08","230","00","000","茨城県","かすみがうら市",null,{"v":2190.011,"d":"2190"},{"v":11012.06,"d":"11012"},{"v":705.8,"d":"706"},{"v":7605.52,"d":"7606"},{"v":8.030000000000001,"d":"8"},{"v":340.63,"d":"341"}]
["0823001000","08","230","01","000","茨城県","かすみがうら市","美並村",{"v":261.05,"d":"261"},{"v":1382.91,"d":"1383"},{"v":28.22,"d":"28"},{"v":887.64,"d":"888"},{"v":0.01,"d":"0"},{"v":32.919999999999995,"d":"33"}]
["0823002000","08","230","02","000","茨城県","かすみがうら市","志士庫村",{"v":244.77,"d":"245"},{"v":1731.97,"d":"1732"},{"v":90.36,"d":"90"},{"v":1289.94,"d":"1290"},{"v":0.01,"d":"0"},{"v":47.97,"d":"48"}]
["0823003000","08","230","03","000","茨城県","かすみがうら市","佐賀村",{"v":182.89,"d":"183"},{"v":1068.2,"d":"1068"},{"v":0.01,"d":"0"},{"v":0.01,"d":"0"},{"v":0.01,"d":"0"},{"v":0.01,"d":"0"}]
["0823004000","08","230","04","000","茨城県","かすみがうら市","安飾村",{"v":129.56,"d":"130"},{"v":896.54,"d":"897"},{"v":0.01,"d":"0"},{"v":3.49,"d":"3"},{"v":0.01,"d":"0"},{"v":0.01,"d":"0"}]
["0823005000","08","230","05","000","茨城県","かすみがうら市","牛渡村",{"v":149.22,"d":"149"},{"v":745.48,"d":"745"},{"v":0.01,"d":"0"},{"v":11.46,"d":"11"},{"v":0.01,"d":"0"},{"v":0.01,"d":"0"}]
["0823006000","08","230","06","000","茨城県","かすみがうら市","下大津村",{"v":234.51,"d":"235"},{"v":984.38,"d":"984"},{"v":74.97,"d":"75"},{"v":962.87,"d":"963"},{"v":0.01,"d":"0"},{"v":64.87,"d":"65"}]
["0823007000","08","230","07","000","茨城県","かすみがうら市","新治村",{"v":176.46,"d":"176"},{"v":1139.95,"d":"1140"},{"v":9.5,"d":"10"},{"v":1139.95,"d":"1140"},{"v":0.01,"d":"0"},{"v":0.01,"d":"0"}]
["0823008000","08","230","08","000","茨城県","かすみがうら市","志筑村",{"v":213.33,"d":"213"},{"v":1214.26,"d":"1214"},{"v":0.01,"d":"0"},{"v":1255.28,"d":"1255"},{"v":0.01,"d":"0"},{"v":0.01,"d":"0"}]
["0823009000","08","230","09","000","茨城県","かすみがうら市","七会村",{"v":598.32,"d":"598"},{"v":1827.55,"d":"1828"},{"v":502.76,"d":"503"},{"v":1944.05,"d":"1944"},{"v":8.030000000000001,"d":"8"},{"v":194.88,"d":"195"}]
["0823100000","08","231","00","000","茨城県","桜川市",null,{"v":7952.59,"d":"7953"},{"v":15556.6,"d":"15557"},{"v":874.47,"d":"874"},{"v":17106.82,"d":"17107"},{"v":19.86,"d":"20"},{"v":337.18,"d":"337"}]
["0823101000","08","231","01","000","茨城県","桜川市","岩瀬町",{"v":1330.66,"d":"1331"},{"v":2874.35,"d":"2874"},{"v":251.03,"d":"251"},{"v":2957.7,"d":"2958"},{"v":9.79,"d":"10"},{"v":69.89,"d":"70"}]
["0823102000","08","231","02","000","茨城県","桜川市","北那珂村",{"v":1649.15,"d":"1649"},{"v":2743.39,"d":"2743"},70,{"v":2853.67,"d":"2854"},{"v":0.01,"d":"0"},{"v":67.95,"d":"68"}]
["0823103000","08","231","03","000","茨城県","桜川市","東那珂村",{"v":1184.94,"d":"1185"},{"v":2237.08,"d":"2237"},{"v":175.81,"d":"176"},{"v":2399.92,"d":"2400"},{"v":0.01,"d":"0"},{"v":75.62,"d":"76"}]
["0823104000","08","231","04","000","茨城県","桜川市","樺穂村",{"v":961.18,"d":"961"},{"v":1552.14,"d":"1552"},{"v":37.93,"d":"38"},{"v":1772.97,"d":"1773"},{"v":0.01,"d":"0"},{"v":21.61,"d":"22"}]
["0823105000","08","231","05","000","茨城県","桜川市","紫尾村",{"v":902.58,"d":"903"},{"v":1244.02,"d":"1244"},{"v":0.01,"d":"0"},{"v":1636.52,"d":"1637"},{"v":0.01,"d":"0"},{"v":0.01,"d":"0"}]
["0823106000","08","231","06","000","茨城県","桜川市","谷貝村",{"v":108.71,"d":"109"},{"v":908.76,"d":"909"},{"v":30.01,"d":"30"},{"v":908.76,"d":"909"},{"v":0.01,"d":"0"},{"v":32.66,"d":"33"}]
["0823107000","08","231","07","000","茨城県","桜川市","長讃村２－２",{"v":3.46,"d":"3"},{"v":179.21,"d":"179"},{"v":0.01,"d":"0"},{"v":179.21,"d":"179"},{"v":0.01,"d":"0"},{"v":0.01,"d":"0"}]
["0823108000","08","231","08","000","茨城県","桜川市","真壁町",{"v":850.38,"d":"850"},{"v":1330.09,"d":"1330"},{"v":154.03,"d":"154"},{"v":1620.85,"d":"1621"},{"v":10.08,"d":"10"},{"v":0.01,"d":"0"}]
["0823109000","08","231","09","000","茨城県","桜川市","大国村",{"v":228.67,"d":"229"},{"v":1311.97,"d":"1312"},{"v":48.31,"d":"48"},{"v":1335.31,"d":"1335"},{"v":0.01,"d":"0"},{"v":47.49,"d":"47"}]
["0823110000","08","231","10","000","茨城県","桜川市","雨引村",{"v":732.86,"d":"733"},{"v":1175.59,"d":"1176"},{"v":107.36,"d":"107"},{"v":1441.91,"d":"1442"},{"v":0.01,"d":"0"},{"v":21.85,"d":"22"}]
["0823200000","08","232","00","000","茨城県","神栖市",null,{"v":686.74,"d":"687"},{"v":10399.01,"d":"10399"},{"v":4249.27,"d":"4249"},{"v":10396.82,"d":"10397"},{"v":77.31,"d":"77"},{"v":2963.61,"d":"2964"}]
["0823201000","08","232","01","000","茨城県","神栖市","息栖村",{"v":27.23,"d":"27"},{"v":2003.25,"d":"2003"},{"v":1514.66,"d":"1515"},{"v":2003.3,"d":"2003"},{"v":43.41,"d":"43"},{"v":874.38,"d":"874"}]
["0823202000","08","232","02","000","茨城県","神栖市","軽野村",{"v":133.29,"d":"133"},{"v":2395.64,"d":"2396"},{"v":1675.12,"d":"1675"},{"v":2395.65,"d":"2396"},{"v":7.72,"d":"8"},{"v":1599.62,"d":"1600"}]
["0823203000","08","232","03","000","茨城県","神栖市","若松村２－２",{"v":0.01,"d":"0"},{"v":301.48,"d":"301"},{"v":0.85,"d":"1"},{"v":301.48,"d":"301"},{"v":0.01,"d":"0"},{"v":0.5,"d":"1"}]
["0823204000","08","232","04","000","茨城県","神栖市","若松村２－１",{"v":211.64,"d":"212"},{"v":2296.13,"d":"2296"},{"v":520.59,"d":"521"},{"v":2295.97,"d":"2296"},{"v":0.01,"d":"0"},{"v":415.06,"d":"415"}]
["0823205000","08","232","05","000","茨城県","神栖市","矢田部村",{"v":151.13,"d":"151"},{"v":2059.31,"d":"2059"},{"v":249.54,"d":"250"},2059,{"v":8.43,"d":"8"},{"v":0.01,"d":"0"}]
["0823206000","08","232","06","000","茨城県","神栖市","波崎町",{"v":163.44,"d":"163"},{"v":1343.18,"d":"1343"},{"v":288.51,"d":"289"},{"v":1341.4,"d":"1341"},{"v":17.75,"d":"18"},{"v":74.03,"d":"74"}]
["0823300000","08","233","00","000","茨城県","行方市",null,{"v":3913.67,"d":"3914"},{"v":16199.84,"d":"16200"},{"v":0.01,"d":"0"},{"v":36.91,"d":"37"},{"v":10.91,"d":"11"},{"v":25.75,"d":"26"}]
["0823301000","08","233","01","000","茨城県","行方市","麻生町",{"v":236.71,"d":"237"},{"v":932.67,"d":"933"},{"v":0.01,"d":"0"},{"v":0.73,"d":"1"},{"v":10.91,"d":"11"},{"v":25.35,"d":"25"}]
["0823302000","08","233","02","000","茨城県","行方市","太田村",{"v":222.98,"d":"223"},{"v":805.34,"d":"805"},{"v":0.01,"d":"0"},{"v":1.42,"d":"1"},{"v":0.01,"d":"0"},{"v":0.01,"d":"0"}]
["0823303000","08","233","03","000","茨城県","行方市","大和村",544,{"v":1784.76,"d":"1785"},{"v":0.01,"d":"0"},{"v":0.01,"d":"0"},{"v":0.01,"d":"0"},{"v":0.01,"d":"0"}]
["0823304000","08","233","04","000","茨城県","行方市","行方村",{"v":130.3,"d":"130"},{"v":747.38,"d":"747"},{"v":0.01,"d":"0"},{"v":0.01,"d":"0"},{"v":0.01,"d":"0"},{"v":0.01,"d":"0"}]
["0823305000","08","233","05","000","茨城県","行方市","小高村",{"v":268.73,"d":"269"},{"v":1500.61,"d":"1501"},{"v":0.01,"d":"0"},{"v":0.01,"d":"0"},{"v":0.01,"d":"0"},{"v":0.01,"d":"0"}]
["0823306000","08","233","06","000","茨城県","行方市","津澄村",{"v":343.88,"d":"344"},{"v":1350.013,"d":"1350"},{"v":0.01,"d":"0"},{"v":0.01,"d":"0"},{"v":0.01,"d":"0"},{"v":0.01,"d":"0"}]
["0823307000","08","233","07","000","茨城県","行方市","武田村",{"v":781.28,"d":"781"},{"v":2532.06,"d":"2532"},{"v":0.01,"d":"0"},{"v":0.01,"d":"0"},{"v":0.01,"d":"0"},{"v":0.01,"d":"0"}]
["0823308000","08","233","08","000","茨城県","行方市","要村",{"v":320.41,"d":"320"},{"v":1503.59,"d":"1504"},{"v":0.01,"d":"0"},{"v":0.01,"d":"0"},{"v":0.01,"d":"0"},{"v":0.01,"d":"0"}]
["0823309000","08","233","09","000","茨城県","行方市","立花村",{"v":227.83,"d":"228"},{"v":1016.66,"d":"1017"},{"v":0.01,"d":"0"},{"v":0.01,"d":"0"},{"v":0.01,"d":"0"},{"v":0.01,"d":"0"}]
["0823310000","08","233","10","000","茨城県","行方市","現原村",{"v":285.44,"d":"285"},{"v":1336.28,"d":"1336"},{"v":0.01,"d":"0"},{"v":0.01,"d":"0"},{"v":0.01,"d":"0"},{"v":0.01,"d":"0"}]
["0823311000","08","233","11","000","茨城県","行方市","玉造町",{"v":184.55,"d":"185"},{"v":1002.08,"d":"1002"},{"v":0.01,"d":"0"},{"v":0.01,"d":"0"},{"v":0.01,"d":"0"},{"v":0.01,"d":"0"}]
["0823312000","08","233","12","000","茨城県","行方市","手賀村",{"v":171.46,"d":"171"},{"v":747.62,"d":"748"},{"v":0.01,"d":"0"},{"v":0.01,"d":"0"},{"v":0.01,"d":"0"},{"v":0.01,"d":"0"}]
["0823313000","08","233","13","000","茨城県","行方市","玉川村",{"v":196.1,"d":"196"},{"v":897.17,"d":"897"},{"v":0.01,"d":"0"},{"v":0.01,"d":"0"},{"v":0.01,"d":"0"},{"v":0.01,"d":"0"}]
["0823400000","08","234","00","000","茨城県","鉾田市",null,{"v":5557.35,"d":"5557"},{"v":19688.29,"d":"19688"},{"v":1.7,"d":"2"},{"v":12.09,"d":"12"},{"v":14.120000000000001,"d":"14"},{"v":52.93,"d":"53"}]
["0823401000","08","234","01","000","茨城県","鉾田市","諏訪村２－１",{"v":301.18,"d":"301"},{"v":1275.05,"d":"1275"},{"v":0.01,"d":"0"},{"v":0.01,"d":"0"},{"v":0.01,"d":"0"},{"v":0.01,"d":"0"}]
["0823402000","08","234","02","000","茨城県","鉾田市","夏海村２－２",{"v":286.33,"d":"286"},{"v":743.97,"d":"744"},{"v":1.7,"d":"2"},{"v":1.36,"d":"1"},{"v":0.01,"d":"0"},{"v":0.01,"d":"0"}]
["0823403000","08","234","03","000","茨城県","鉾田市","大谷村",{"v":977.6,"d":"978"},{"v":3125.63,"d":"3126"},{"v":0.01,"d":"0"},{"v":2.41,"d":"2"},{"v":0.01,"d":"0"},{"v":0.01,"d":"0"}]
["0823404000","08","234","04","000","茨城県","鉾田市","徳宿村",{"v":528.78,"d":"529"},{"v":2566.78,"d":"2567"},{"v":0.01,"d":"0"},{"v":0.94,"d":"1"},{"v":0.01,"d":"0"},{"v":0.01,"d":"0"}]
["0823405000","08","234","05","000","茨城県","鉾田市","巴村",{"v":572.79,"d":"573"},{"v":2461.93,"d":"2462"},{"v":0.01,"d":"0"},{"v":2.81,"d":"3"},{"v":0.01,"d":"0"},{"v":0.01,"d":"0"}]
["0823406000","08","234","06","000","茨城県","鉾田市","諏訪村２－２",{"v":296.82,"d":"297"},{"v":933.8,"d":"934"},{"v":0.01,"d":"0"},{"v":0.01,"d":"0"},{"v":0.01,"d":"0"},{"v":0.01,"d":"0"}]
["0823407000","08","234","07","000","茨城県","鉾田市","秋津村",{"v":623.27,"d":"623"},{"v":2366.37,"d":"2366"},{"v":0.01,"d":"0"},{"v":0.01,"d":"0"},{"v":0.01,"d":"0"},{"v":46.77,"d":"47"}]
["0823408000","08","234","08","000","茨城県","鉾田市","鉾田町",{"v":71.44,"d":"71"},{"v":226.16,"d":"226"},{"v":0.01,"d":"0"},{"v":0.01,"d":"0"},{"v":14.120000000000001,"d":"14"},{"v":6.15,"d":"6"}]
["0823409000","08","234","09","000","茨城県","鉾田市","新宮村",{"v":608.77,"d":"609"},{"v":1763.34,"d":"1763"},{"v":0.01,"d":"0"},{"v":0.01,"d":"0"},{"v":0.01,"d":"0"},{"v":0.01,"d":"0"}]
["0823410000","08","234","10","000","茨城県","鉾田市","白鳥村",{"v":728.58,"d":"729"},{"v":2329.78,"d":"2330"},{"v":0.01,"d":"0"},{"v":4.58,"d":"5"},{"v":0.01,"d":"0"},{"v":0.01,"d":"0"}]
["0823411000","08","234","11","000","茨城県","鉾田市","上島村",{"v":561.78,"d":"562"},{"v":1874.46,"d":"1874"},{"v":0.01,"d":"0"},{"v":0.01,"d":"0"},{"v":0.01,"d":"0"},{"v":0.01,"d":"0"}]
["0823500000","08","235","00","000","茨城県","つくばみらい市",null,{"v":639.23,"d":"639"},{"v":7153.16,"d":"7153"},{"v":761.19,"d":"761"},{"v":7153.18,"d":"7153"},{"v":22.36,"d":"22"},{"v":150.89,"d":"151"}]
["0823501000","08","235","01","000","茨城県","つくばみらい市","小張村",{"v":74.78,"d":"75"},{"v":688.95,"d":"689"},{"v":105.18,"d":"105"},{"v":688.95,"d":"689"},{"v":7.89,"d":"8"},{"v":8.52,"d":"9"}]
["0823502000","08","235","02","000","茨城県","つくばみらい市","板橋村",{"v":370.5,"d":"371"},{"v":1485.91,"d":"1486"},{"v":54.03,"d":"54"},{"v":1485.91,"d":"1486"},{"v":0.01,"d":"0"},{"v":0.01,"d":"0"}]
["0823503000","08","235","03","000","茨城県","つくばみらい市","三島村",{"v":28.67,"d":"29"},{"v":677.68,"d":"678"},{"v":0.01,"d":"0"},{"v":677.68,"d":"678"},{"v":0.01,"d":"0"},{"v":0.01,"d":"0"}]
["0823504000","08","235","04","000","茨城県","つくばみらい市","久賀村２－１",{"v":37.17,"d":"37"},{"v":370.33,"d":"370"},{"v":0.01,"d":"0"},{"v":370.33,"d":"370"},{"v":0.01,"d":"0"},{"v":0.01,"d":"0"}]
["0823505000","08","235","05","000","茨城県","つくばみらい市","谷井田村",{"v":0.01,"d":"0"},{"v":488.53,"d":"489"},{"v":86.34,"d":"86"},{"v":488.55,"d":"489"},{"v":8.18,"d":"8"},{"v":0.01,"d":"0"}]
["0823506000","08","235","06","000","茨城県","つくばみらい市","豊村",{"v":0.01,"d":"0"},{"v":596.22,"d":"596"},{"v":0.01,"d":"0"},{"v":596.22,"d":"596"},{"v":0.01,"d":"0"},{"v":0.01,"d":"0"}]
["0823507000","08","235","07","000","茨城県","つくばみらい市","十和村２－１",{"v":37.02,"d":"37"},{"v":761.28,"d":"761"},{"v":58.2,"d":"58"},{"v":761.28,"d":"761"},{"v":0.01,"d":"0"},{"v":2.2,"d":"2"}]
["0823508000","08","235","08","000","茨城県","つくばみらい市","福岡村",{"v":37.46,"d":"37"},{"v":612.45,"d":"612"},{"v":106.6,"d":"107"},{"v":612.45,"d":"612"},{"v":0.01,"d":"0"},{"v":97.5,"d":"98"}]
["0823509000","08","235","09","000","茨城県","つくばみらい市","谷原村",{"v":17.9,"d":"18"},{"v":960.014,"d":"960"},{"v":117.63,"d":"118"},{"v":960.014,"d":"960"},{"v":6.29,"d":"6"},{"v":17.71,"d":"18"}]
["0823510000","08","235","10","000","茨城県","つくばみらい市","小絹村",{"v":35.73,"d":"36"},{"v":511.67,"d":"512"},{"v":232.81,"d":"233"},{"v":511.67,"d":"512"},{"v":0.01,"d":"0"},{"v":24.96,"d":"25"}]
["0823600000","08","236","00","000","茨城県","小美玉市",null,{"v":2244.29,"d":"2244"},{"v":13094.61,"d":"13095"},{"v":0.01,"d":"0"},{"v":3.8,"d":"4"},{"v":8.96,"d":"9"},{"v":72.36,"d":"72"}]
["0823601000","08","236","01","000","茨城県","小美玉市","小川町",{"v":250.94,"d":"251"},{"v":1503.34,"d":"1503"},{"v":0.01,"d":"0"},{"v":0.01,"d":"0"},{"v":5.09,"d":"5"},{"v":18.18,"d":"18"}]
["0823602000","08","236","02","000","茨城県","小美玉市","白河村",{"v":338.64,"d":"339"},{"v":2061.32,"d":"2061"},{"v":0.01,"d":"0"},{"v":2.54,"d":"3"},{"v":0.01,"d":"0"},{"v":0.01,"d":"0"}]
["0823603000","08","236","03","000","茨城県","小美玉市","橘村",{"v":442.44,"d":"442"},{"v":2191.09,"d":"2191"},{"v":0.01,"d":"0"},{"v":0.01,"d":"0"},{"v":0.01,"d":"0"},{"v":0.01,"d":"0"}]
["0823604000","08","236","04","000","茨城県","小美玉市","堅倉村",{"v":666.31,"d":"666"},{"v":3761.26,"d":"3761"},{"v":0.01,"d":"0"},{"v":1.23,"d":"1"},{"v":0.01,"d":"0"},{"v":0.01,"d":"0"}]
["0823605000","08","236","05","000","茨城県","小美玉市","竹原村",{"v":319.7,"d":"320"},{"v":2063.01,"d":"2063"},{"v":0.01,"d":"0"},{"v":0.01,"d":"0"},{"v":3.87,"d":"4"},{"v":54.18,"d":"54"}]
["0823606000","08","236","06","000","茨城県","小美玉市","玉川村",{"v":41.02,"d":"41"},{"v":405.08,"d":"405"},{"v":0.01,"d":"0"},{"v":0.01,"d":"0"},{"v":0.01,"d":"0"},{"v":0.01,"d":"0"}]
["0823607000","08","236","07","000","茨城県","小美玉市","田余村",{"v":185.23,"d":"185"},{"v":1109.51,"d":"1110"},{"v":0.01,"d":"0"},{"v":0.01,"d":"0"},{"v":0.01,"d":"0"},{"v":0.01,"d":"0"}]
["0830200000","08","302","00","000","茨城県","茨城町",null,{"v":2867.54,"d":"2868"},{"v":11127.7,"d":"11128"},{"v":498.93,"d":"499"},{"v":11668.76,"d":"11669"},{"v":8.19,"d":"8"},{"v":265.69,"d":"266"}]
["0830201000","08","302","01","000","茨城県","茨城町","長岡村",{"v":340.011,"d":"340"},{"v":1811.84,"d":"1812"},{"v":288.89,"d":"289"},{"v":1811.85,"d":"1812"},{"v":4.19,"d":"4"},{"v":81.25999999999999,"d":"81"}]
["0830202000","08","302","02","000","茨城県","茨城町","川根村",{"v":408.11,"d":"408"},{"v":1934.06,"d":"1934"},{"v":208.24,"d":"208"},{"v":1929.83,"d":"1930"},4,{"v":184.43,"d":"184"}]
["0830203000","08","302","03","000","茨城県","茨城町","上野合村",{"v":893.16,"d":"893"},{"v":2857.96,"d":"2858"},{"v":0.01,"d":"0"},{"v":2852.78,"d":"2853"},{"v":0.01,"d":"0"},{"v":0.01,"d":"0"}]
["0830204000","08","302","04","000","茨城県","茨城町","石崎村",{"v":560.85,"d":"561"},{"v":2067.07,"d":"2067"},{"v":0.01,"d":"0"},{"v":2466.15,"d":"2466"},{"v":0.01,"d":"0"},{"v":0.01,"d":"0"}]
["0830205000","08","302","05","000","茨城県","茨城町","酒門村２－２",{"v":95.04,"d":"95"},{"v":234.14,"d":"234"},{"v":0.01,"d":"0"},{"v":234.14,"d":"234"},{"v":0.01,"d":"0"},{"v":0.01,"d":"0"}]
["0830206000","08","302","06","000","茨城県","茨城町","沼前村",{"v":570.27,"d":"570"},{"v":2222.63,"d":"2223"},{"v":1.8,"d":"2"},2374,{"v":0.01,"d":"0"},{"v":0.01,"d":"0"}]
["0830900000","08","309","00","000","茨城県","大洗町",null,{"v":449.51,"d":"450"},{"v":1486.64,"d":"1487"},{"v":573.37,"d":"573"},{"v":1761.27,"d":"1761"},{"v":45.08,"d":"45"},{"v":202.99,"d":"203"}]
["0830901000","08","309","01","000","茨城県","大洗町","磯浜町",{"v":65.71,"d":"66"},{"v":228.92,"d":"229"},{"v":305.65,"d":"306"},{"v":342.8,"d":"343"},{"v":41.39,"d":"41"},{"v":67.46,"d":"67"}]
["0830902000","08","309","02","000","茨城県","大洗町","大貫町",{"v":96.87,"d":"97"},{"v":328.98,"d":"329"},{"v":119.92,"d":"120"},{"v":329.07,"d":"329"},{"v":3.69,"d":"4"},{"v":0.01,"d":"0"}]
["0830903000","08","309","03","000","茨城県","大洗町","夏海村２－１",{"v":286.93,"d":"287"},{"v":928.74,"d":"929"},{"v":147.8,"d":"148"},{"v":1089.4,"d":"1089"},{"v":0.01,"d":"0"},{"v":135.18,"d":"135"}]
["0831000000","08","310","00","000","茨城県","城里町",null,{"v":10906.79,"d":"10907"},{"v":12067.79,"d":"12068"},{"v":9.64,"d":"10"},{"v":15.79,"d":"16"},{"v":4.75,"d":"5"},{"v":0.01,"d":"0"}]
["0831001000","08","310","01","000","茨城県","城里町","石塚町",{"v":278.91,"d":"279"},{"v":859.21,"d":"859"},{"v":2.46,"d":"2"},{"v":3.58,"d":"4"},{"v":4.75,"d":"5"},{"v":0.01,"d":"0"}]
["0831002000","08","310","02","000","茨城県","城里町","小松村",{"v":419.25,"d":"419"},{"v":916.58,"d":"917"},{"v":7.17,"d":"7"},{"v":9.1,"d":"9"},{"v":0.01,"d":"0"},{"v":0.01,"d":"0"}]
["0831003000","08","310","03","000","茨城県","城里町","西郷村",{"v":2356.73,"d":"2357"},{"v":2808.26,"d":"2808"},{"v":0.01,"d":"0"},{"v":2.4,"d":"2"},{"v":0.01,"d":"0"},{"v":0.01,"d":"0"}]
["0831004000","08","310","04","000","茨城県","城里町","圷村",{"v":8.25,"d":"8"},540,{"v":0.01,"d":"0"},{"v":0.71,"d":"1"},{"v":0.01,"d":"0"},{"v":0.01,"d":"0"}]
["0831005000","08","310","05","000","茨城県","城里町","岩船村",{"v":1933.99,"d":"1934"},{"v":1927.1,"d":"1927"},{"v":0.01,"d":"0"},{"v":0.01,"d":"0"},{"v":0.01,"d":"0"},{"v":0.01,"d":"0"}]
["0831006000","08","310","06","000","茨城県","城里町","沢山村",{"v":659.68,"d":"660"},{"v":791.76,"d":"792"},{"v":0.01,"d":"0"},{"v":0.01,"d":"0"},{"v":0.01,"d":"0"},{"v":0.01,"d":"0"}]
["0831007000","08","310","07","000","茨城県","城里町","七会村",{"v":5249.99,"d":"5250"},{"v":4224.88,"d":"4225"},{"v":0.01,"d":"0"},{"v":0.01,"d":"0"},{"v":0.01,"d":"0"},{"v":0.01,"d":"0"}]
["0834100000","08","341","00","000","茨城県","東海村",null,{"v":928.6,"d":"929"},{"v":2607.14,"d":"2607"},{"v":1142.83,"d":"1143"},{"v":2607.17,"d":"2607"},{"v":20.560000000000002,"d":"21"},{"v":662.96,"d":"663"}]
["0834101000","08","341","01","000","茨城県","東海村","石神村",{"v":182.79,"d":"183"},{"v":949.31,"d":"949"},{"v":209.36,"d":"209"},{"v":949.32,"d":"949"},{"v":20.55,"d":"21"},{"v":2.39,"d":"2"}]
["0834102000","08","341","02","000","茨城県","東海村","村松村",{"v":745.81,"d":"746"},{"v":1657.83,"d":"1658"},{"v":933.47,"d":"933"},{"v":1657.86,"d":"1658"},{"v":0.01,"d":"0"},{"v":660.5699999999999,"d":"661"}]
["0836400000","08","364","00","000","茨城県","大子町",null,{"v":25020.59,"d":"25021"},{"v":25668.57,"d":"25669"},{"v":0.01,"d":"0"},{"v":0.01,"d":"0"},{"v":13.24,"d":"13"},{"v":0.01,"d":"0"}]
["0836401000","08","364","01","000","茨城県","大子町","大子町",{"v":1774.29,"d":"1774"},{"v":2395.24,"d":"2395"},{"v":0.01,"d":"0"},{"v":0.01,"d":"0"},{"v":13.24,"d":"13"},{"v":0.01,"d":"0"}]
["0836402000","08","364","02","000","茨城県","大子町","依上村",{"v":2361.91,"d":"2362"},{"v":2738.5,"d":"2739"},{"v":0.01,"d":"0"},{"v":0.01,"d":"0"},{"v":0.01,"d":"0"},{"v":0.01,"d":"0"}]
["0836403000","08","364","03","000","茨城県","大子町","佐原村",{"v":2802.56,"d":"2803"},{"v":2688.75,"d":"2689"},{"v":0.01,"d":"0"},{"v":0.01,"d":"0"},{"v":0.01,"d":"0"},{"v":0.01,"d":"0"}]
["0836404000","08","364","04","000","茨城県","大子町","黒沢村",{"v":6527.04,"d":"6527"},{"v":4013.87,"d":"4014"},{"v":0.01,"d":"0"},{"v":0.01,"d":"0"},{"v":0.01,"d":"0"},{"v":0.01,"d":"0"}]
["0836405000","08","364","05","000","茨城県","大子町","宮川村",{"v":1582.76,"d":"1583"},{"v":2573.9,"d":"2574"},{"v":0.01,"d":"0"},{"v":0.01,"d":"0"},{"v":0.01,"d":"0"},{"v":0.01,"d":"0"}]
["0836406000","08","364","06","000","茨城県","大子町","生瀬村",{"v":3453.86,"d":"3454"},{"v":4254.22,"d":"4254"},{"v":0.01,"d":"0"},{"v":0.01,"d":"0"},{"v":0.01,"d":"0"},{"v":0.01,"d":"0"}]
["0836407000","08","364","07","000","茨城県","大子町","袋田村",{"v":1801.1,"d":"1801"},{"v":2010.78,"d":"2011"},{"v":0.01,"d":"0"},{"v":0.01,"d":"0"},{"v":0.01,"d":"0"},{"v":0.01,"d":"0"}]
["0836408000","08","364","08","000","茨城県","大子町","上小川村",{"v":3526.67,"d":"3527"},{"v":3710.21,"d":"3710"},{"v":0.01,"d":"0"},{"v":0.01,"d":"0"},{"v":0.01,"d":"0"},{"v":0.01,"d":"0"}]
["0836409000","08","364","09","000","茨城県","大子町","下小川村２－２",{"v":825.67,"d":"826"},{"v":920.89,"d":"921"},{"v":0.01,"d":"0"},{"v":0.01,"d":"0"},{"v":0.01,"d":"0"},{"v":0.01,"d":"0"}]
["0836410000","08","364","10","000","茨城県","大子町","諸富野村２－２",{"v":364.74,"d":"365"},{"v":362.21,"d":"362"},{"v":0.01,"d":"0"},{"v":0.01,"d":"0"},{"v":0.01,"d":"0"},{"v":0.01,"d":"0"}]
["0844200000","08","442","00","000","茨城県","美浦村",null,{"v":493.27,"d":"493"},{"v":3078.75,"d":"3079"},{"v":323.29,"d":"323"},{"v":3375.56,"d":"3376"},{"v":0.01,"d":"0"},{"v":33.92,"d":"34"}]
["0844201000","08","442","01","000","茨城県","美浦村","安中村",{"v":128.89,"d":"129"},{"v":1155.72,"d":"1156"},{"v":0.01,"d":"0"},{"v":1161.62,"d":"1162"},{"v":0.01,"d":"0"},{"v":0.01,"d":"0"}]
["0844202000","08","442","02","000","茨城県","美浦村","木原村",{"v":353.07,"d":"353"},{"v":1695.31,"d":"1695"},{"v":323.29,"d":"323"},{"v":1699.4,"d":"1699"},{"v":0.01,"d":"0"},{"v":33.92,"d":"34"}]
["0844203000","08","442","03","000","茨城県","美浦村","舟島村２－２",{"v":11.31,"d":"11"},{"v":216.61,"d":"217"},{"v":0.01,"d":"0"},{"v":218.5,"d":"219"},{"v":0.01,"d":"0"},{"v":0.01,"d":"0"}]
["0844300000","08","443","00","000","茨城県","阿見町",null,{"v":1135.86,"d":"1136"},{"v":4940.26,"d":"4940"},{"v":1410.44,"d":"1410"},{"v":5194.8,"d":"5195"},{"v":12.91,"d":"13"},{"v":428.71999999999997,"d":"429"}]
["0844301000","08","443","01","000","茨城県","阿見町","阿見町",{"v":115.82,"d":"116"},{"v":1030.86,"d":"1031"},{"v":615.97,"d":"616"},{"v":1050.56,"d":"1051"},{"v":12.91,"d":"13"},{"v":146.23,"d":"146"}]
["0844302000","08","443","02","000","茨城県","阿見町","朝日村",{"v":523.26,"d":"523"},{"v":1838.55,"d":"1839"},{"v":658.11,"d":"658"},{"v":1921.53,"d":"1922"},{"v":0.01,"d":"0"},{"v":145.17000000000002,"d":"145"}]
["0844303000","08","443","03","000","茨城県","阿見町","舟島村２－１",{"v":107.17,"d":"107"},{"v":609.74,"d":"610"},{"v":0.01,"d":"0"},{"v":612.78,"d":"613"},{"v":0.01,"d":"0"},{"v":0.01,"d":"0"}]
["0844304000","08","443","04","000","茨城県","阿見町","君原村",{"v":389.61,"d":"390"},{"v":1458.86,"d":"1459"},{"v":134.86,"d":"135"},{"v":1507.84,"d":"1508"},{"v":0.01,"d":"0"},{"v":136.04,"d":"136"}]
["0844700000","08","447","00","000","茨城県","河内町",null,{"v":0.01,"d":"0"},{"v":4429.19,"d":"4429"},{"v":0.01,"d":"0"},{"v":12.3,"d":"12"},{"v":0.01,"d":"0"},{"v":0.01,"d":"0"}]
["0844701000","08","447","01","000","茨城県","河内町","生板村２－２",{"v":0.01,"d":"0"},{"v":1303.63,"d":"1304"},{"v":0.01,"d":"0"},{"v":4.43,"d":"4"},{"v":0.01,"d":"0"},{"v":0.01,"d":"0"}]
["0844702000","08","447","02","000","茨城県","河内町","源清田村",{"v":0.01,"d":"0"},{"v":894.41,"d":"894"},{"v":0.01,"d":"0"},{"v":2.72,"d":"3"},{"v":0.01,"d":"0"},{"v":0.01,"d":"0"}]
["0844703000","08","447","03","000","茨城県","河内町","瑞穂村",{"v":0.01,"d":"0"},{"v":530.014,"d":"530"},{"v":0.01,"d":"0"},{"v":0.83,"d":"1"},{"v":0.01,"d":"0"},{"v":0.01,"d":"0"}]
["0844704000","08","447","04","000","茨城県","河内町","金江津村",{"v":0.01,"d":"0"},{"v":1701.01,"d":"1701"},{"v":0.01,"d":"0"},{"v":4.32,"d":"4"},{"v":0.01,"d":"0"},{"v":0.01,"d":"0"}]
["0852100000","08","521","00","000","茨城県","八千代町",null,{"v":210.84,"d":"211"},{"v":5764.08,"d":"5764"},{"v":133.89,"d":"134"},{"v":5752.03,"d":"5752"},{"v":6.41,"d":"6"},{"v":27.01,"d":"27"}]
["0852101000","08","521","01","000","茨城県","八千代町","中結城村",{"v":20.01,"d":"20"},{"v":1193.86,"d":"1194"},{"v":89.1,"d":"89"},{"v":1193.86,"d":"1194"},{"v":4.17,"d":"4"},{"v":0.01,"d":"0"}]
["0852102000","08","521","02","000","茨城県","八千代町","川西村",{"v":0.01,"d":"0"},{"v":788.87,"d":"789"},{"v":0.01,"d":"0"},{"v":788.76,"d":"789"},{"v":0.01,"d":"0"},{"v":0.01,"d":"0"}]
["0852103000","08","521","03","000","茨城県","八千代町","西豊田村",{"v":11.92,"d":"12"},{"v":1179.35,"d":"1179"},{"v":16.96,"d":"17"},{"v":1170.32,"d":"1170"},{"v":2.24,"d":"2"},{"v":0.01,"d":"0"}]
["0852104000","08","521","04","000","茨城県","八千代町","安静村",{"v":117.92,"d":"118"},{"v":1589.34,"d":"1589"},{"v":0.01,"d":"0"},{"v":1586.43,"d":"1586"},{"v":0.01,"d":"0"},{"v":0.01,"d":"0"}]
["0852105000","08","521","05","000","茨城県","八千代町","下結城村",{"v":58.17,"d":"58"},{"v":970.02,"d":"970"},{"v":27.83,"d":"28"},{"v":970.02,"d":"970"},{"v":0.01,"d":"0"},{"v":27.01,"d":"27"}]
["0852106000","08","521","06","000","茨城県","八千代町","名崎村２－２",{"v":2.74,"d":"3"},{"v":42.63,"d":"43"},{"v":0.01,"d":"0"},{"v":42.63,"d":"43"},{"v":0.01,"d":"0"},{"v":0.01,"d":"0"}]
["0854200000","08","542","00","000","茨城県","五霞町",null,{"v":19.97,"d":"20"},{"v":1978.93,"d":"1979"},{"v":229.98,"d":"230"},{"v":2080.26,"d":"2080"},{"v":1.3,"d":"1"},{"v":153.13,"d":"153"}]
[{"$nulls":6},"五霞町","（五霞町）",{"v":19.97,"d":"20"},{"v":1978.93,"d":"1979"},{"v":229.98,"d":"230"},{"v":2080.26,"d":"2080"},{"v":1.3,"d":"1"},{"v":153.13,"d":"153"}]
["0854600000","08","546","00","000","茨城県","境町",null,{"v":204.54,"d":"205"},{"v":4332.01,"d":"4332"},{"v":326.28,"d":"326"},{"v":4332.01,"d":"4332"},{"v":26.86,"d":"27"},{"v":74.89999999999999,"d":"75"}]
["0854601000","08","546","01","000","茨城県","境町","境町",{"v":0.82,"d":"1"},{"v":134.12,"d":"134"},{"v":213.84,"d":"214"},{"v":134.12,"d":"134"},{"v":26.86,"d":"27"},{"v":0.01,"d":"0"}]
["0854602000","08","546","02","000","茨城県","境町","長田村",{"v":67.23,"d":"67"},{"v":996.68,"d":"997"},{"v":34.24,"d":"34"},{"v":996.68,"d":"997"},{"v":0.01,"d":"0"},{"v":11.299999999999999,"d":"11"}]
["0854603000","08","546","03","000","茨城県","境町","猿島村",{"v":60.92,"d":"61"},{"v":1085.27,"d":"1085"},{"v":76.44,"d":"76"},{"v":1085.27,"d":"1085"},{"v":0.01,"d":"0"},{"v":63.6,"d":"64"}]
["0854604000","08","546","04","000","茨城県","境町","森戸村",{"v":62.38,"d":"62"},{"v":1236.36,"d":"1236"},{"v":0.01,"d":"0"},{"v":1236.36,"d":"1236"},{"v":0.01,"d":"0"},{"v":0.01,"d":"0"}]
["0854605000","08","546","05","000","茨城県","境町","静村",{"v":13.2,"d":"13"},{"v":879.58,"d":"880"},{"v":1.76,"d":"2"},{"v":879.58,"d":"880"},{"v":0.01,"d":"0"},{"v":0.01,"d":"0"}]
["0856400000","08","564","00","000","茨城県","利根町",null,{"v":71.53,"d":"72"},{"v":2265.08,"d":"2265"},{"v":217.42,"d":"217"},{"v":2271.3,"d":"2271"},{"v":4.43,"d":"4"},{"v":0.01,"d":"0"}]
["0856401000","08","564","01","000","茨城県","利根町","布川町",{"v":7.16,"d":"7"},{"v":389.39,"d":"389"},{"v":165.16,"d":"165"},{"v":392.25,"d":"392"},{"v":4.43,"d":"4"},{"v":0.01,"d":"0"}]
["0856402000","08","564","02","000","茨城県","利根町","文村",{"v":28.5,"d":"29"},{"v":487.61,"d":"488"},{"v":50.67,"d":"51"},{"v":487.61,"d":"488"},{"v":0.01,"d":"0"},{"v":0.01,"d":"0"}]
["0856403000","08","564","03","000","茨城県","利根町","文間村",{"v":34.62,"d":"35"},{"v":617.44,"d":"617"},{"v":0.01,"d":"0"},{"v":617.44,"d":"617"},{"v":0.01,"d":"0"},{"v":0.01,"d":"0"}]
["0856404000","08","564","04","000","茨城県","利根町","東文間村",{"v":1.25,"d":"1"},{"v":770.64,"d":"771"},{"v":1.59,"d":"2"},774,{"v":0.01,"d":"0"},{"v":0.01,"d":"0"}]

{"sheet":"地域類型区分","index":5,"n_rows":442,"n_cols":11,"rows_kept":442,"hidden":true}
[]
[]
[]
[8,"茨城県","区分設定","されていません"]
["201-00","水戸市","都市的地域","田畑型",null,"水戸市",null,1,2,"都市的地域","田畑型"]
["201-01","水戸市（旧）","都市的地域","田畑型",null,"水戸市","水戸市",1,2,"都市的地域","田畑型"]
["201-02","国田村","平地農業地域","水田型",null,"水戸市","国田村",2,1,"平地農業地域","水田型"]
["201-03","吉田村","都市的地域","田畑型",null,"水戸市","吉田村",1,2,"都市的地域","田畑型"]
["201-04","酒門村２－１","平地農業地域","水田型",null,"水戸市","酒門村２－１",2,1,"平地農業地域","水田型"]
["201-05","柳河村","平地農業地域","田畑型",null,"水戸市","柳河村",2,2,"平地農業地域","田畑型"]
["201-06","渡里村","都市的地域","田畑型",null,"水戸市","渡里村",1,2,"都市的地域","田畑型"]
["201-07","上大野村","平地農業地域","水田型",null,"水戸市","上大野村",2,1,"平地農業地域","水田型"]
["201-08","緑岡村","都市的地域","田畑型",null,"水戸市","緑岡村",1,2,"都市的地域","田畑型"]
["201-09","飯富村","平地農業地域","畑地型",null,"水戸市","飯富村",2,3,"平地農業地域","畑地型"]
["201-10","上中妻村","都市的地域","田畑型",null,"水戸市","上中妻村",1,2,"都市的地域","田畑型"]
["201-11","山根村","中間農業地域","田畑型",null,"水戸市","山根村",3,2,"中間農業地域","田畑型"]
["201-12","河和田村","都市的地域","田畑型",null,"水戸市","河和田村",1,2,"都市的地域","田畑型"]
["201-13","下大野村","平地農業地域","水田型",null,"水戸市","下大野村",2,1,"平地農業地域","水田型"]
["201-14","稲荷村","平地農業地域","水田型",null,"水戸市","稲荷村",2,1,"平地農業地域","水田型"]
["201-15","大場村","平地農業地域","水田型",null,"水戸市","大場村",2,1,"平地農業地域","水田型"]
["201-16","下中妻村","都市的地域","田畑型",null,"水戸市","下中妻村",1,2,"都市的地域","田畑型"]
["201-17","中妻村","平地農業地域","田畑型",null,"水戸市","中妻村",2,2,"平地農業地域","田畑型"]
["201-18","鯉渕村２－１","平地農業地域","田畑型",null,"水戸市","鯉渕村２－１",2,2,"平地農業地域","田畑型"]
["202-00","日立市","都市的地域","田畑型",null,"日立市",null,1,2,"都市的地域","田畑型"]
["202-01","中里村","中間農業地域","田畑型",null,"日立市","中里村",3,2,"中間農業地域","田畑型"]
["202-02","豊浦町","都市的地域","田畑型",null,"日立市","豊浦町",1,2,"都市的地域","田畑型"]
["202-03","日高村","都市的地域","田畑型",null,"日立市","日高村",1,2,"都市的地域","田畑型"]
["202-04","日立市（旧）","都市的地域","畑地型",null,"日立市","日立市",1,3,"都市的地域","畑地型"]
["202-05","多賀町","都市的地域","畑地型",null,"日立市","多賀町",1,3,"都市的地域","畑地型"]
["202-06","久慈町","都市的地域","畑地型",null,"日立市","久慈町",1,3,"都市的地域","畑地型"]
["202-07","坂本村","都市的地域","水田型",null,"日立市","坂本村",1,1,"都市的地域","水田型"]
["202-08","東小沢村","平地農業地域","水田型",null,"日立市","東小沢村",2,1,"平地農業地域","水田型"]
["202-09","黒前村２－１","山間農業地域","水田型",null,"日立市","黒前村２－１",4,1,"山間農業地域","水田型"]
["202-10","櫛形村","都市的地域","水田型",null,"日立市","櫛形村",1,1,"都市的地域","水田型"]
["203-00","土浦市","都市的地域","田畑型",null,"土浦市",null,1,2,"都市的地域","田畑型"]
["203-01","土浦市（旧）","都市的地域","田畑型",null,"土浦市","土浦市",1,2,"都市的地域","田畑型"]
["203-02","上大津村","都市的地域","田畑型",null,"土浦市","上大津村",1,2,"都市的地域","田畑型"]
["203-03","藤沢村","平地農業地域","田畑型",null,"土浦市","藤沢村",2,2,"平地農業地域","田畑型"]
["203-04","山ノ荘村","平地農業地域","田畑型",null,"土浦市","山ノ荘村",2,2,"平地農業地域","田畑型"]
["203-05","斗利出村","平地農業地域","水田型",null,"土浦市","斗利出村",2,1,"平地農業地域","水田型"]
["204-00","古河市","都市的地域","田畑型",null,"古河市",null,1,2,"都市的地域","田畑型"]
["204-01","古河町","都市的地域","田畑型",null,"古河市","古河町",1,2,"都市的地域","田畑型"]
["204-02","新郷村","都市的地域","田畑型",null,"古河市","新郷村",1,2,"都市的地域","田畑型"]
["204-03","勝鹿村","都市的地域","田畑型",null,"古河市","勝鹿村",1,2,"都市的地域","田畑型"]
["204-04","香取村","平地農業地域","田畑型",null,"古河市","香取村",2,2,"平地農業地域","田畑型"]
["204-05","桜井村","平地農業地域","田畑型",null,"古河市","桜井村",2,2,"平地農業地域","田畑型"]
["204-06","岡郷村","平地農業地域","田畑型",null,"古河市","岡郷村",2,2,"平地農業地域","田畑型"]
["204-07","幸島村","平地農業地域","田畑型",null,"古河市","幸島村",2,2,"平地農業地域","田畑型"]
["204-08","名崎村２－１","平地農業地域","田畑型",null,"古河市","名崎村２－１",2,2,"平地農業地域","田畑型"]
["204-09","八俣村","平地農業地域","田畑型",null,"古河市","八俣村",2,2,"平地農業地域","田畑型"]
["205-00","石岡市","都市的地域","田畑型",null,"石岡市",null,1,2,"都市的地域","田畑型"]
["205-01","石岡町","都市的地域","田畑型",null,"石岡市","石岡町",1,2,"都市的地域","田畑型"]
["205-02","高浜町","都市的地域","田畑型",null,"石岡市","高浜町",1,2,"都市的地域","田畑型"]
["205-03","三村","平地農業地域","田畑型",null,"石岡市","三村",2,2,"平地農業地域","田畑型"]
["205-04","関川村","平地農業地域","田畑型",null,"石岡市","関川村",2,2,"平地農業地域","田畑型"]
["205-05","柿岡町","平地農業地域","田畑型",null,"石岡市","柿岡町",2,2,"平地農業地域","田畑型"]
["205-06","小幡村","平地農業地域","田畑型",null,"石岡市","小幡村",2,2,"平地農業地域","田畑型"]
["205-07","葦穂村","平地農業地域","田畑型",null,"石岡市","葦穂村",2,2,"平地農業地域","田畑型"]
["205-08","恋瀬村","中間農業地域","田畑型",null,"石岡市","恋瀬村",3,2,"中間農業地域","田畑型"]
["205-09","瓦会村","平地農業地域","田畑型",null,"石岡市","瓦会村",2,2,"平地農業地域","田畑型"]
["205-10","園部村","平地農業地域","畑地型",null,"石岡市","園部村",2,3,"平地農業地域","畑地型"]
["205-11","林村","平地農業地域","田畑型",null,"石岡市","林村",2,2,"平地農業地域","田畑型"]
["205-12","小桜村","中間農業地域","田畑型",null,"石岡市","小桜村",3,2,"中間農業地域","田畑型"]
["207-00","結城市","都市的地域","田畑型",null,"結城市",null,1,2,"都市的地域","田畑型"]
["207-01","結城町","都市的地域","田畑型",null,"結城市","結城町",1,2,"都市的地域","田畑型"]
["207-02","絹川村","平地農業地域","田畑型",null,"結城市","絹川村",2,2,"平地農業地域","田畑型"]
["207-03","上山川村","平地農業地域","田畑型",null,"結城市","上山川村",2,2,"平地農業地域","田畑型"]
["207-04","山川村","平地農業地域","田畑型",null,"結城市","山川村",2,2,"平地農業地域","田畑型"]
["207-05","江川村","平地農業地域","田畑型",null,"結城市","江川村",2,2,"平地農業地域","田畑型"]
["208-00","龍ケ崎市","都市的地域","水田型",null,"龍ケ崎市",null,1,1,"都市的地域","水田型"]
["208-01","長戸村","平地農業地域","水田型",null,"龍ケ崎市","長戸村",2,1,"平地農業地域","水田型"]
["208-02","竜ケ崎町","都市的地域","水田型",null,"龍ケ崎市","龍ヶ崎町",1,1,"都市的地域","水田型"]
["208-03","川原代村","都市的地域","水田型",null,"龍ケ崎市","川原代村",1,1,"都市的地域","水田型"]
["208-04","馴柴村","都市的地域","水田型",null,"龍ケ崎市","馴柴村",1,1,"都市的地域","水田型"]
["208-05","八原村","都市的地域","田畑型",null,"龍ケ崎市","八原村",1,2,"都市的地域","田畑型"]
["208-06","北文間村","平地農業地域","水田型",null,"龍ケ崎市","北文間村",2,1,"平地農業地域","水田型"]
["208-07","大宮村","平地農業地域","水田型",null,"龍ケ崎市","大宮村",2,1,"平地農業地域","水田型"]
["208-08","高須村２－２","平地農業地域","水田型",null,"龍ケ崎市","高須村２－２",2,1,"平地農業地域","水田型"]
["210-00","下妻市","平地農業地域","水田型",null,"下妻市",null,2,1,"平地農業地域","水田型"]
["210-01","下妻町","都市的地域","田畑型",null,"下妻市","下妻町",1,2,"都市的地域","田畑型"]
["210-02","大宝村","平地農業地域","水田型",null,"下妻市","大宝村",2,1,"平地農業地域","水田型"]
["210-03","騰波ノ江村","平地農業地域","水田型",null,"下妻市","騰波ノ江村",2,1,"平地農業地域","水田型"]
["210-04","上妻村","平地農業地域","田畑型",null,"下妻市","上妻村",2,2,"平地農業地域","田畑型"]
["210-05","総上村","平地農業地域","水田型",null,"下妻市","総上村",2,1,"平地農業地域","水田型"]
["210-06","豊加美村","平地農業地域","水田型",null,"下妻市","豊加美村",2,1,"平地農業地域","水田型"]
["210-07","高道祖村","平地農業地域","水田型",null,"下妻市","高道祖村",2,1,"平地農業地域","水田型"]
["210-08","大形村","平地農業地域","田畑型",null,"下妻市","大形村",2,2,"平地農業地域","田畑型"]
["210-09","蚕飼村","平地農業地域","水田型",null,"下妻市","蚕飼村",2,1,"平地農業地域","水田型"]
["210-10","玉村２－１","平地農業地域","水田型",null,"下妻市","玉村２－１",2,1,"平地農業地域","水田型"]
["210-11","宗道村","平地農業地域","水田型",null,"下妻市","宗道村",2,1,"平地農業地域","水田型"]
["211-00","常総市","平地農業地域","水田型",null,"常総市",null,2,1,"平地農業地域","水田型"]
["211-01","水海道町","都市的地域","田畑型",null,"常総市","水海道町",1,2,"都市的地域","田畑型"]
["211-02","坂手村","平地農業地域","田畑型",null,"常総市","坂手村",2,2,"平地農業地域","田畑型"]
["211-03","豊岡村","都市的地域","水田型",null,"常総市","豊岡村",1,1,"都市的地域","水田型"]
["211-04","菅原村","平地農業地域","水田型",null,"常総市","菅原村",2,1,"平地農業地域","水田型"]
["211-05","大花羽村","平地農業地域","水田型",null,"常総市","大花羽村",2,1,"平地農業地域","水田型"]
["211-06","三妻村","平地農業地域","水田型",null,"常総市","三妻村",2,1,"平地農業地域","水田型"]
["211-07","五箇村","平地農業地域","水田型",null,"常総市","五箇村",2,1,"平地農業地域","水田型"]
["211-08","大生村","平地農業地域","水田型",null,"常総市","大生村",2,1,"平地農業地域","水田型"]
["211-09","内守谷村","都市的地域","田畑型",null,"常総市","内守谷村",1,2,"都市的地域","田畑型"]
["211-10","菅生村","平地農業地域","田畑型",null,"常総市","菅生村",2,2,"平地農業地域","田畑型"]
["211-11","十和村２－２","平地農業地域","水田型",null,"常総市","十和村２－２",2,1,"平地農業地域","水田型"]
["211-12","真瀬村２－２","平地農業地域","水田型",null,"常総市","真瀬村２－２",2,1,"平地農業地域","水田型"]
["211-13","石下町","平地農業地域","水田型",null,"常総市","石下町",2,1,"平地農業地域","水田型"]
["211-14","玉村２－２","平地農業地域","水田型",null,"常総市","玉村２－２",2,1,"平地農業地域","水田型"]
["211-15","豊田村","平地農業地域","水田型",null,"常総市","豊田村",2,1,"平地農業地域","水田型"]
["211-16","岡田村","平地農業地域","田畑型",null,"常総市","岡田村",2,2,"平地農業地域","田畑型"]
["211-17","飯沼村","平地農業地域","田畑型",null,"常総市","飯沼村",2,2,"平地農業地域","田畑型"]
["212-00","常陸太田市","中間農業地域","田畑型",null,"常陸太田市",null,3,2,"中間農業地域","田畑型"]
["212-01","太田町","都市的地域","田畑型",null,"常陸太田市","太田町",1,2,"都市的地域","田畑型"]
["212-02","機初村","平地農業地域","田畑型",null,"常陸太田市","機初村",2,2,"平地農業地域","田畑型"]
["212-03","世矢村","平地農業地域","田畑型",null,"常陸太田市","世矢村",2,2,"平地農業地域","田畑型"]
["212-04","西小沢村","平地農業地域","水田型",null,"常陸太田市","西小沢村",2,1,"平地農業地域","水田型"]
["212-05","幸久村","平地農業地域","水田型",null,"常陸太田市","幸久村",2,1,"平地農業地域","水田型"]
["212-06","佐竹村","平地農業地域","水田型",null,"常陸太田市","佐竹村",2,1,"平地農業地域","水田型"]
["212-07","誉田村","中間農業地域","田畑型",null,"常陸太田市","誉田村",3,2,"中間農業地域","田畑型"]
["212-08","佐都村","中間農業地域","田畑型",null,"常陸太田市","佐都村",3,2,"中間農業地域","田畑型"]
["212-09","河内村２－１","中間農業地域","田畑型",null,"常陸太田市","河内村２－１",3,2,"中間農業地域","田畑型"]
["212-10","郡戸村","平地農業地域","水田型",null,"常陸太田市","郡戸村",2,1,"平地農業地域","水田型"]
["212-11","久米村","平地農業地域","田畑型",null,"常陸太田市","久米村",2,2,"平地農業地域","田畑型"]
["212-12","金郷村","平地農業地域","水田型",null,"常陸太田市","金郷村",2,1,"平地農業地域","水田型"]
["212-13","金砂村","中間農業地域","田畑型",null,"常陸太田市","金砂村",3,2,"中間農業地域","田畑型"]
["212-14","天下野村","中間農業地域","田畑型",null,"常陸太田市","天下野村",3,2,"中間農業地域","田畑型"]
["212-15","染和田村","中間農業地域","田畑型",null,"常陸太田市","染和田村",3,2,"中間農業地域","田畑型"]
["212-16","高倉村","山間農業地域","田畑型",null,"常陸太田市","高倉村",4,2,"山間農業地域","田畑型"]
["212-17","山田村","中間農業地域","田畑型",null,"常陸太田市","山田村",3,2,"中間農業地域","田畑型"]
["212-18","河内村２－２","中間農業地域","田畑型",null,"常陸太田市","河内村２－２",3,2,"中間農業地域","田畑型"]
["212-19","小里村","山間農業地域","田畑型",null,"常陸太田市","小里村",4,2,"山間農業地域","田畑型"]
["212-20","賀美村","山間農業地域","田畑型",null,"常陸太田市","賀美村",4,2,"山間農業地域","田畑型"]
["214-00","高萩市","中間農業地域","水田型",null,"高萩市",null,3,1,"中間農業地域","水田型"]
["214-01","高萩町","都市的地域","水田型",null,"高萩市","高萩町",1,1,"都市的地域","水田型"]
["214-02","松岡町","中間農業地域","水田型",null,"高萩市","松岡町",3,1,"中間農業地域","水田型"]
["214-03","高岡村","山間農業地域","田畑型",null,"高萩市","高岡村",4,2,"山間農業地域","田畑型"]
["214-04","黒前村２－２","山間農業地域","水田型",null,"高萩市","黒前村２－２",4,1,"山間農業地域","水田型"]
["215-00","北茨城市","中間農業地域","水田型",null,"北茨城市",null,3,1,"中間農業地域","水田型"]
["215-01","南中郷村","都市的地域","水田型",null,"北茨城市","南中郷村",1,1,"都市的地域","水田型"]
["215-02","磯原町","中間農業地域","水田型",null,"北茨城市","磯原町",3,1,"中間農業地域","水田型"]
["215-03","華川村","中間農業地域","水田型",null,"北茨城市","華川村",3,1,"中間農業地域","水田型"]
["215-04","関南村","中間農業地域","水田型",null,"北茨城市","関南村",3,1,"中間農業地域","水田型"]
["215-05","大津町","都市的地域","水田型",null,"北茨城市","大津町",1,1,"都市的地域","水田型"]
["215-06","平潟町","都市的地域","畑地型",null,"北茨城市","平潟町",1,3,"都市的地域","畑地型"]
["215-07","関本村","山間農業地域","水田型",null,"北茨城市","関本村",4,1,"山間農業地域","水田型"]
["216-00","笠間市","平地農業地域","田畑型",null,"笠間市",null,2,2,"平地農業地域","田畑型"]
["216-01","笠間町","都市的地域","田畑型",null,"笠間市","笠間町",1,2,"都市的地域","田畑型"]
["216-02","大池田村","中間農業地域","田畑型",null,"笠間市","大池田村",3,2,"中間農業地域","田畑型"]
["216-03","北山内村","中間農業地域","田畑型",null,"笠間市","北山内村",3,2,"中間農業地域","田畑型"]
["216-04","南山内村","中間農業地域","田畑型",null,"笠間市","南山内村",3,2,"中間農業地域","田畑型"]
["216-05","西山内村","中間農業地域","水田型",null,"笠間市","西山内村",3,1,"中間農業地域","水田型"]
["216-06","宍戸町","都市的地域","田畑型",null,"笠間市","宍戸町",1,2,"都市的地域","田畑型"]
["216-07","北川根村","平地農業地域","田畑型",null,"笠間市","北川根村",2,2,"平地農業地域","田畑型"]
["216-08","大原村","平地農業地域","田畑型",null,"笠間市","大原村",2,2,"平地農業地域","田畑型"]
["216-09","鯉渕村２－２","都市的地域","田畑型",null,"笠間市","鯉渕村２－２",1,2,"都市的地域","田畑型"]
["216-10","岩間町","平地農業地域","田畑型",null,"笠間市","岩間町",2,2,"平地農業地域","田畑型"]
["216-11","南川根村","平地農業地域","田畑型",null,"笠間市","南川根村",2,2,"平地農業地域","田畑型"]
["217-00","取手市","都市的地域","水田型",null,"取手市",null,1,1,"都市的地域","水田型"]
["217-01","取手町","都市的地域","水田型",null,"取手市","取手町",1,1,"都市的地域","水田型"]
["217-02","小文間村","平地農業地域","水田型",null,"取手市","小文間村",2,1,"平地農業地域","水田型"]
["217-03","寺原村","都市的地域","水田型",null,"取手市","寺原村",1,1,"都市的地域","水田型"]
["217-04","高井村２－２","都市的地域","水田型",null,"取手市","高井村２－２",1,1,"都市的地域","水田型"]
["217-05","稲戸井村","都市的地域","田畑型",null,"取手市","稲戸井村",1,2,"都市的地域","田畑型"]
["217-06","相馬町","都市的地域","水田型",null,"取手市","相馬町",1,1,"都市的地域","水田型"]
["217-07","山王村","平地農業地域","水田型",null,"取手市","山王村",2,1,"平地農業地域","水田型"]
["217-08","久賀村２－２","平地農業地域","水田型",null,"取手市","久賀村２－２",2,1,"平地農業地域","水田型"]
["217-09","高須村２－１","平地農業地域","水田型",null,"取手市","高須村２－１",2,1,"平地農業地域","水田型"]
["217-10","六郷村","平地農業地域","水田型",null,"取手市","六郷村",2,1,"平地農業地域","水田型"]
["219-00","牛久市","都市的地域","田畑型",null,"牛久市",null,1,2,"都市的地域","田畑型"]
["219-01","牛久町","都市的地域","田畑型",null,"牛久市","牛久町",1,2,"都市的地域","田畑型"]
["219-02","岡田村","都市的地域","田畑型",null,"牛久市","岡田村",1,2,"都市的地域","田畑型"]
["219-03","奥野村","平地農業地域","田畑型",null,"牛久市","奥野村",2,2,"平地農業地域","田畑型"]
["220-00","つくば市","都市的地域","田畑型",null,"つくば市",null,1,2,"都市的地域","田畑型"]
["220-01","栄村","平地農業地域","田畑型",null,"つくば市","栄村",2,2,"平地農業地域","田畑型"]
["220-02","九重村","都市的地域","田畑型",null,"つくば市","九重村",1,2,"都市的地域","田畑型"]
["220-03","栗原村２－１","都市的地域","田畑型",null,"つくば市","栗原村２－１",1,2,"都市的地域","田畑型"]
["220-04","島名村","平地農業地域","田畑型",null,"つくば市","島名村",2,2,"平地農業地域","田畑型"]
["220-05","葛城村","都市的地域","畑地型",null,"つくば市","葛城村",1,3,"都市的地域","畑地型"]
["220-06","小野川村","都市的地域","田畑型",null,"つくば市","小野川村",1,2,"都市的地域","田畑型"]
["220-07","谷田部町","都市的地域","田畑型",null,"つくば市","谷田部町",1,2,"都市的地域","田畑型"]
["220-08","真瀬村２－１","平地農業地域","田畑型",null,"つくば市","真瀬村２－１",2,2,"平地農業地域","田畑型"]
["220-09","上郷村","平地農業地域","田畑型",null,"つくば市","上郷村",2,2,"平地農業地域","田畑型"]
["220-10","旭村２－１","平地農業地域","畑地型",null,"つくば市","旭村２－１",2,3,"平地農業地域","畑地型"]
["220-11","吉沼村２－２","平地農業地域","畑地型",null,"つくば市","吉沼村２－２",2,3,"平地農業地域","畑地型"]
["220-12","筑波町","中間農業地域","水田型",null,"つくば市","筑波町",3,1,"中間農業地域","水田型"]
["220-13","北条町","平地農業地域","水田型",null,"つくば市","北条町",2,1,"平地農業地域","水田型"]
["220-14","小田村","平地農業地域","水田型",null,"つくば市","小田村",2,1,"平地農業地域","水田型"]
["220-15","田井村","平地農業地域","水田型",null,"つくば市","田井村",2,1,"平地農業地域","水田型"]
["220-16","作岡村","平地農業地域","畑地型",null,"つくば市","作岡村",2,3,"平地農業地域","畑地型"]
["220-17","田水山村","平地農業地域","田畑型",null,"つくば市","田水山村",2,2,"平地農業地域","田畑型"]
["220-18","菅間村","平地農業地域","田畑型",null,"つくば市","菅間村",2,2,"平地農業地域","田畑型"]
["220-19","栗原村２－２","平地農業地域","畑地型",null,"つくば市","栗原村２－２",2,3,"平地農業地域","畑地型"]
["220-20","大穂村","都市的地域","田畑型",null,"つくば市","大穂村",1,2,"都市的地域","田畑型"]
["220-21","吉沼村２－１","平地農業地域","畑地型",null,"つくば市","吉沼村２－１",2,3,"平地農業地域","畑地型"]
["220-22","旭村２－２","平地農業地域","畑地型",null,"つくば市","旭村２－２",2,3,"平地農業地域","畑地型"]
["220-23","茎崎町","平地農業地域","田畑型",null,"つくば市","茎崎町",2,2,"平地農業地域","田畑型"]
["221-00","ひたちなか市","都市的地域","田畑型",null,"ひたちなか市",null,1,2,"都市的地域","田畑型"]
["221-01","那珂湊町","都市的地域","田畑型",null,"ひたちなか市","那珂湊町",1,2,"都市的地域","田畑型"]
["221-02","平磯町","都市的地域","畑地型",null,"ひたちなか市","平磯町",1,3,"都市的地域","畑地型"]
["221-03","前渡村２－２","中間農業地域","畑地型",null,"ひたちなか市","前渡村２－２",3,3,"中間農業地域","畑地型"]
["221-04","勝田町","都市的地域","田畑型",null,"ひたちなか市","勝田町",1,2,"都市的地域","田畑型"]
["221-05","佐野村","都市的地域","田畑型",null,"ひたちなか市","佐野村",1,2,"都市的地域","田畑型"]
["221-06","前渡村２－１","都市的地域","田畑型",null,"ひたちなか市","前渡村２－１",1,2,"都市的地域","田畑型"]
["222-00","鹿嶋市","都市的地域","田畑型",null,"鹿嶋市",null,1,2,"都市的地域","田畑型"]
["222-01","大同村","平地農業地域","田畑型",null,"鹿嶋市","大同村",2,2,"平地農業地域","田畑型"]
["222-02","中野村","都市的地域","田畑型",null,"鹿嶋市","中野村",1,2,"都市的地域","田畑型"]
["222-03","波野村","都市的地域","畑地型",null,"鹿嶋市","波野村",1,3,"都市的地域","畑地型"]
["222-04","豊津村","平地農業地域","水田型",null,"鹿嶋市","豊津村",2,1,"平地農業地域","水田型"]
["222-05","鹿島町","都市的地域","田畑型",null,"鹿嶋市","鹿島町",1,2,"都市的地域","田畑型"]
["222-06","高松村","都市的地域","水田型",null,"鹿嶋市","高松村",1,1,"都市的地域","水田型"]
["222-07","豊郷村","平地農業地域","田畑型",null,"鹿嶋市","豊郷村",2,2,"平地農業地域","田畑型"]
["223-00","潮来市","平地農業地域","水田型",null,"潮来市",null,2,1,"平地農業地域","水田型"]
["223-01","潮来町","都市的地域","水田型",null,"潮来市","潮来町",1,1,"都市的地域","水田型"]
["223-02","津知村","都市的地域","水田型",null,"潮来市","津知村",1,1,"都市的地域","水田型"]
["223-03","延方村","平地農業地域","水田型",null,"潮来市","延方村",2,1,"平地農業地域","水田型"]
["223-04","大生原村","平地農業地域","田畑型",null,"潮来市","大生原村",2,2,"平地農業地域","田畑型"]
["223-05","八代村","平地農業地域","水田型",null,"潮来市","八代村",2,1,"平地農業地域","水田型"]
["223-06","香澄村","平地農業地域","水田型",null,"潮来市","香澄村",2,1,"平地農業地域","水田型"]
["224-00","守谷市","都市的地域","田畑型",null,"守谷市",null,1,2,"都市的地域","田畑型"]
["224-01","守谷町","都市的地域","田畑型",null,"守谷市","守谷町",1,2,"都市的地域","田畑型"]
["224-02","大野村","都市的地域","田畑型",null,"守谷市","大野村",1,2,"都市的地域","田畑型"]
["224-03","大井沢村","都市的地域","田畑型",null,"守谷市","大井沢村",1,2,"都市的地域","田畑型"]
["224-04","高野村","都市的地域","田畑型",null,"守谷市","高野村",1,2,"都市的地域","田畑型"]
["224-05","高井村２－１","平地農業地域","水田型",null,"守谷市","高井村２－１",2,1,"平地農業地域","水田型"]
["225-00","常陸大宮市","中間農業地域","田畑型",null,"常陸大宮市",null,3,2,"中間農業地域","田畑型"]
["225-01","大宮町","都市的地域","田畑型",null,"常陸大宮市","大宮町",1,2,"都市的地域","田畑型"]
["225-02","大賀村","平地農業地域","田畑型",null,"常陸大宮市","大賀村",2,2,"平地農業地域","田畑型"]
["225-03","世喜村２－１","平地農業地域","田畑型",null,"常陸大宮市","世喜村２－１",2,2,"平地農業地域","田畑型"]
["225-04","上野村","平地農業地域","田畑型",null,"常陸大宮市","上野村",2,2,"平地農業地域","田畑型"]
["225-05","静村２－１","平地農業地域","田畑型",null,"常陸大宮市","静村２－１",2,2,"平地農業地域","田畑型"]
["225-06","大場村","平地農業地域","田畑型",null,"常陸大宮市","大場村",2,2,"平地農業地域","田畑型"]
["225-07","塩田村２－２","中間農業地域","水田型",null,"常陸大宮市","塩田村２－２",3,1,"中間農業地域","水田型"]
["225-08","玉川村","中間農業地域","田畑型",null,"常陸大宮市","玉川村",3,2,"中間農業地域","田畑型"]
["225-09","伊勢畑村","中間農業地域","畑地型",null,"常陸大宮市","伊勢畑村",3,3,"中間農業地域","畑地型"]
["225-10","野口村","平地農業地域","田畑型",null,"常陸大宮市","野口村",2,2,"平地農業地域","田畑型"]
["225-11","長倉村","中間農業地域","田畑型",null,"常陸大宮市","長倉村",3,2,"中間農業地域","田畑型"]
["225-12","山方町","中間農業地域","畑地型",null,"常陸大宮市","山方町",3,3,"中間農業地域","畑地型"]
["225-13","世喜村２－２","中間農業地域","水田型",null,"常陸大宮市","世喜村２－２",3,1,"中間農業地域","水田型"]
["225-14","塩田村２－１","中間農業地域","田畑型",null,"常陸大宮市","塩田村２－１",3,2,"中間農業地域","田畑型"]
["225-15","諸富野村２－１","中間農業地域","田畑型",null,"常陸大宮市","諸富野村２－１",3,2,"中間農業地域","田畑型"]
["225-16","下小川村２－１","山間農業地域","畑地型",null,"常陸大宮市","下小川村２－１",4,3,"山間農業地域","畑地型"]
["225-17","桧沢村","山間農業地域","畑地型",null,"常陸大宮市","桧沢村",4,3,"山間農業地域","畑地型"]
["225-18","嶐郷村","山間農業地域","田畑型",null,"常陸大宮市","嶐郷村",4,2,"山間農業地域","田畑型"]
["225-19","小瀬村","中間農業地域","田畑型",null,"常陸大宮市","小瀬村",3,2,"中間農業地域","田畑型"]
["225-20","八里村","中間農業地域","田畑型",null,"常陸大宮市","八里村",3,2,"中間農業地域","田畑型"]
["226-00","那珂市","平地農業地域","田畑型",null,"那珂市",null,2,2,"平地農業地域","田畑型"]
["226-01","菅谷町","都市的地域","田畑型",null,"那珂市","菅谷町",1,2,"都市的地域","田畑型"]
["226-02","戸多村","平地農業地域","田畑型",null,"那珂市","戸多村",2,2,"平地農業地域","田畑型"]
["226-03","芳野村","平地農業地域","田畑型",null,"那珂市","芳野村",2,2,"平地農業地域","田畑型"]
["226-04","額田村","平地農業地域","田畑型",null,"那珂市","額田村",2,2,"平地農業地域","田畑型"]
["226-05","神崎村","平地農業地域","田畑型",null,"那珂市","神崎村",2,2,"平地農業地域","田畑型"]
["226-06","五台村","平地農業地域","田畑型",null,"那珂市","五台村",2,2,"平地農業地域","田畑型"]
["226-07","木崎村２－１","平地農業地域","田畑型",null,"那珂市","木崎村２－１",2,2,"平地農業地域","田畑型"]
["226-08","瓜連町","平地農業地域","田畑型",null,"那珂市","瓜連町",2,2,"平地農業地域","田畑型"]
["226-09","静村２－２","平地農業地域","田畑型",null,"那珂市","静村２－２",2,2,"平地農業地域","田畑型"]
["226-10","木崎村２－２","平地農業地域","田畑型",null,"那珂市","木崎村２－２",2,2,"平地農業地域","田畑型"]
["227-00","筑西市","平地農業地域","水田型",null,"筑西市",null,2,1,"平地農業地域","水田型"]
["227-01","下館町","都市的地域","水田型",null,"筑西市","下館町",1,1,"都市的地域","水田型"]
["227-02","伊讃村","平地農業地域","水田型",null,"筑西市","伊讃村",2,1,"平地農業地域","水田型"]
["227-03","竹島村","都市的地域","水田型",null,"筑西市","竹島村",1,1,"都市的地域","水田型"]
["227-04","養蚕村","平地農業地域","水田型",null,"筑西市","養蚕村",2,1,"平地農業地域","水田型"]
["227-05","五所村","平地農業地域","水田型",null,"筑西市","五所村",2,1,"平地農業地域","水田型"]
["227-06","中村","平地農業地域","水田型",null,"筑西市","中村",2,1,"平地農業地域","水田型"]
["227-07","河間村","平地農業地域","水田型",null,"筑西市","河間村",2,1,"平地農業地域","水田型"]
["227-08","大田村","平地農業地域","田畑型",null,"筑西市","大田村",2,2,"平地農業地域","田畑型"]
["227-09","嘉田生崎村","平地農業地域","水田型",null,"筑西市","嘉田生崎村",2,1,"平地農業地域","水田型"]
["227-10","黒子村","平地農業地域","田畑型",null,"筑西市","黒子村",2,2,"平地農業地域","田畑型"]
["227-11","河内村","平地農業地域","田畑型",null,"筑西市","河内村",2,2,"平地農業地域","田畑型"]
["227-12","関本町","平地農業地域","田畑型",null,"筑西市","関本町",2,2,"平地農業地域","田畑型"]
["227-13","上野村","平地農業地域","田畑型",null,"筑西市","上野村",2,2,"平地農業地域","田畑型"]
["227-14","大村","平地農業地域","水田型",null,"筑西市","大村",2,1,"平地農業地域","水田型"]
["227-15","村田村","平地農業地域","水田型",null,"筑西市","村田村",2,1,"平地農業地域","水田型"]
["227-16","長讃村２－１","平地農業地域","水田型",null,"筑西市","長讃村２－１",2,1,"平地農業地域","水田型"]
["227-17","鳥羽村","平地農業地域","水田型",null,"筑西市","鳥羽村",2,1,"平地農業地域","水田型"]
["227-18","小栗村","平地農業地域","水田型",null,"筑西市","小栗村",2,1,"平地農業地域","水田型"]
["227-19","古里村","平地農業地域","水田型",null,"筑西市","古里村",2,1,"平地農業地域","水田型"]
["227-20","新治村","平地農業地域","水田型",null,"筑西市","新治村",2,1,"平地農業地域","水田型"]
["228-00","坂東市","平地農業地域","田畑型",null,"坂東市",null,2,2,"平地農業地域","田畑型"]
["228-01","岩井町","都市的地域","田畑型",null,"坂東市","岩井町",1,2,"都市的地域","田畑型"]
["228-02","弓馬田村","平地農業地域","田畑型",null,"坂東市","弓馬田村",2,2,"平地農業地域","田畑型"]
["228-03","飯島村","平地農業地域","水田型",null,"坂東市","飯島村",2,1,"平地農業地域","水田型"]
["228-04","神大実村","平地農業地域","田畑型",null,"坂東市","神大実村",2,2,"平地農業地域","田畑型"]
["228-05","七郷村","平地農業地域","田畑型",null,"坂東市","七郷村",2,2,"平地農業地域","田畑型"]
["228-06","中川村","平地農業地域","田畑型",null,"坂東市","中川村",2,2,"平地農業地域","田畑型"]
["228-07","長須村","平地農業地域","田畑型",null,"坂東市","長須村",2,2,"平地農業地域","田畑型"]
["228-08","七重村","平地農業地域","田畑型",null,"坂東市","七重村",2,2,"平地農業地域","田畑型"]
["228-09","逆井山村","平地農業地域","田畑型",null,"坂東市","逆井山村",2,2,"平地農業地域","田畑型"]
["228-10","生子菅村","平地農業地域","田畑型",null,"坂東市","生子菅村",2,2,"平地農業地域","田畑型"]
["228-11","沓掛村","平地農業地域","田畑型",null,"坂東市","沓掛村",2,2,"平地農業地域","田畑型"]
["229-00","稲敷市","平地農業地域","水田型",null,"稲敷市",null,2,1,"平地農業地域","水田型"]
["229-01","江戸崎町","平地農業地域","水田型",null,"稲敷市","江戸崎町",2,1,"平地農業地域","水田型"]
["229-02","君賀村","平地農業地域","田畑型",null,"稲敷市","君賀村",2,2,"平地農業地域","田畑型"]
["229-03","沼里村","平地農業地域","田畑型",null,"稲敷市","沼里村",2,2,"平地農業地域","田畑型"]
["229-04","高田村","平地農業地域","水田型",null,"稲敷市","高田村",2,1,"平地農業地域","水田型"]
["229-05","鳩崎村","平地農業地域","水田型",null,"稲敷市","鳩崎村",2,1,"平地農業地域","水田型"]
["229-06","柴崎村","平地農業地域","水田型",null,"稲敷市","柴崎村",2,1,"平地農業地域","水田型"]
["229-07","根本村","平地農業地域","水田型",null,"稲敷市","根本村",2,1,"平地農業地域","水田型"]
["229-08","太田村","平地農業地域","水田型",null,"稲敷市","太田村",2,1,"平地農業地域","水田型"]
["229-09","浮島村","平地農業地域","水田型",null,"稲敷市","浮島村",2,1,"平地農業地域","水田型"]
["229-10","古渡村","平地農業地域","水田型",null,"稲敷市","古渡村",2,1,"平地農業地域","水田型"]
["229-11","阿波村","平地農業地域","水田型",null,"稲敷市","阿波村",2,1,"平地農業地域","水田型"]
["229-12","本新島村","平地農業地域","水田型",null,"稲敷市","本新島村",2,1,"平地農業地域","水田型"]
["229-13","大須賀村","平地農業地域","水田型",null,"稲敷市","大須賀村",2,1,"平地農業地域","水田型"]
["229-14","十余島村２－２","平地農業地域","水田型",null,"稲敷市","十余島村２－２",2,1,"平地農業地域","水田型"]
["229-15","伊崎村","平地農業地域","水田型",null,"稲敷市","伊崎村",2,1,"平地農業地域","水田型"]
["230-00","かすみがうら市","平地農業地域","田畑型",null,"かすみがうら市",null,2,2,"平地農業地域","田畑型"]
["230-01","美並村","平地農業地域","田畑型",null,"かすみがうら市","美並村",2,2,"平地農業地域","田畑型"]
["230-02","志士庫村","平地農業地域","田畑型",null,"かすみがうら市","志士庫村",2,2,"平地農業地域","田畑型"]
["230-03","佐賀村","平地農業地域","水田型",null,"かすみがうら市","佐賀村",2,1,"平地農業地域","水田型"]
["230-04","安飾村","平地農業地域","田畑型",null,"かすみがうら市","安飾村",2,2,"平地農業地域","田畑型"]
["230-05","牛渡村","平地農業地域","田畑型",null,"かすみがうら市","牛渡村",2,2,"平地農業地域","田畑型"]
["230-06","下大津村","平地農業地域","田畑型",null,"かすみがうら市","下大津村",2,2,"平地農業地域","田畑型"]
["230-07","新治村","平地農業地域","田畑型",null,"かすみがうら市","新治村",2,2,"平地農業地域","田畑型"]
["230-08","志筑村","平地農業地域","田畑型",null,"かすみがうら市","志筑村",2,2,"平地農業地域","田畑型"]
["230-09","七会村","都市的地域","田畑型",null,"かすみがうら市","七会村",1,2,"都市的地域","田畑型"]
["231-00","桜川市","平地農業地域","田畑型",null,"桜川市",null,2,2,"平地農業地域","田畑型"]
["231-01","岩瀬町","平地農業地域","田畑型",null,"桜川市","岩瀬町",2,2,"平地農業地域","田畑型"]
["231-02","北那珂村","中間農業地域","田畑型",null,"桜川市","北那珂村",3,2,"中間農業地域","田畑型"]
["231-03","東那珂村","平地農業地域","水田型",null,"桜川市","東那珂村",2,1,"平地農業地域","水田型"]
["231-04","樺穂村","平地農業地域","田畑型",null,"桜川市","樺穂村",2,2,"平地農業地域","田畑型"]
["231-05","紫尾村","平地農業地域","水田型",null,"桜川市","紫尾村",2,1,"平地農業地域","水田型"]
["231-06","谷貝村","平地農業地域","田畑型",null,"桜川市","谷貝村",2,2,"平地農業地域","田畑型"]
["231-07","長讃村２－２","平地農業地域","田畑型",null,"桜川市","長讃村２－２",2,2,"平地農業地域","田畑型"]
["231-08","真壁町","平地農業地域","田畑型",null,"桜川市","真壁町",2,2,"平地農業地域","田畑型"]
["231-09","大国村","平地農業地域","田畑型",null,"桜川市","大国村",2,2,"平地農業地域","田畑型"]
["231-10","雨引村","平地農業地域","水田型",null,"桜川市","雨引村",2,1,"平地農業地域","水田型"]
["232-00","神栖市","都市的地域","田畑型",null,"神栖市",null,1,2,"都市的地域","田畑型"]
["232-01","息栖村","都市的地域","水田型",null,"神栖市","息栖村",1,1,"都市的地域","水田型"]
["232-02","軽野村","都市的地域","水田型",null,"神栖市","軽野村",1,1,"都市的地域","水田型"]
["232-03","若松村２－２","都市的地域","田畑型",null,"神栖市","若松村２－２",1,2,"都市的地域","田畑型"]
["232-04","若松村２－１","中間農業地域","田畑型",null,"神栖市","若松村２－１",3,2,"中間農業地域","田畑型"]
["232-05","矢田部村","都市的地域","田畑型",null,"神栖市","矢田部村",1,2,"都市的地域","田畑型"]
["232-06","波崎町","都市的地域","田畑型",null,"神栖市","波崎町",1,2,"都市的地域","田畑型"]
["233-00","行方市","平地農業地域","田畑型",null,"行方市",null,2,2,"平地農業地域","田畑型"]
["233-01","麻生町","平地農業地域","田畑型",null,"行方市","麻生町",2,2,"平地農業地域","田畑型"]
["233-02","太田村","平地農業地域","水田型",null,"行方市","太田村",2,1,"平地農業地域","水田型"]
["233-03","大和村","平地農業地域","田畑型",null,"行方市","大和村",2,2,"平地農業地域","田畑型"]
["233-04","行方村","平地農業地域","田畑型",null,"行方市","行方村",2,2,"平地農業地域","田畑型"]
["233-05","小高村","平地農業地域","田畑型",null,"行方市","小高村",2,2,"平地農業地域","田畑型"]
["233-06","津澄村","平地農業地域","田畑型",null,"行方市","津澄村",2,2,"平地農業地域","田畑型"]
["233-07","武田村","平地農業地域","畑地型",null,"行方市","武田村",2,3,"平地農業地域","畑地型"]
["233-08","要村","平地農業地域","畑地型",null,"行方市","要村",2,3,"平地農業地域","畑地型"]
["233-09","立花村","平地農業地域","田畑型",null,"行方市","立花村",2,2,"平地農業地域","田畑型"]
["233-10","現原村","平地農業地域","畑地型",null,"行方市","現原村",2,3,"平地農業地域","畑地型"]
["233-11","玉造町","平地農業地域","田畑型",null,"行方市","玉造町",2,2,"平地農業地域","田畑型"]
["233-12","手賀村","平地農業地域","田畑型",null,"行方市","手賀村",2,2,"平地農業地域","田畑型"]
["233-13","玉川村","平地農業地域","田畑型",null,"行方市","玉川村",2,2,"平地農業地域","田畑型"]
["234-00","鉾田市","平地農業地域","畑地型",null,"鉾田市",null,2,3,"平地農業地域","畑地型"]
["234-01","諏訪村２－１","平地農業地域","畑地型",null,"鉾田市","諏訪村２－１",2,3,"平地農業地域","畑地型"]
["234-02","夏海村２－２","平地農業地域","畑地型",null,"鉾田市","夏海村２－２",2,3,"平地農業地域","畑地型"]
["234-03","大谷村","平地農業地域","畑地型",null,"鉾田市","大谷村",2,3,"平地農業地域","畑地型"]
["234-04","徳宿村","平地農業地域","畑地型",null,"鉾田市","徳宿村",2,3,"平地農業地域","畑地型"]
["234-05","巴村","平地農業地域","畑地型",null,"鉾田市","巴村",2,3,"平地農業地域","畑地型"]
["234-06","諏訪村２－２","平地農業地域","畑地型",null,"鉾田市","諏訪村２－２",2,3,"平地農業地域","畑地型"]
["234-07","秋津村","平地農業地域","畑地型",null,"鉾田市","秋津村",2,3,"平地農業地域","畑地型"]
["234-08","鉾田町","都市的地域","田畑型",null,"鉾田市","鉾田町",1,2,"都市的地域","田畑型"]
["234-09","新宮村","平地農業地域","畑地型",null,"鉾田市","新宮村",2,3,"平地農業地域","畑地型"]
["234-10","白鳥村","平地農業地域","田畑型",null,"鉾田市","白鳥村",2,2,"平地農業地域","田畑型"]
["234-11","上島村","平地農業地域","畑地型",null,"鉾田市","上島村",2,3,"平地農業地域","畑地型"]
["235-00","つくばみらい市","平地農業地域","水田型",null,"つくばみらい市",null,2,1,"平地農業地域","水田型"]
["235-01","小張村","都市的地域","水田型",null,"つくばみらい市","小張村",1,1,"都市的地域","水田型"]
["235-02","板橋村","都市的地域","田畑型",null,"つくばみらい市","板橋村",1,2,"都市的地域","田畑型"]
["235-03","三島村","平地農業地域","水田型",null,"つくばみらい市","三島村",2,1,"平地農業地域","水田型"]
["235-04","久賀村２－１","平地農業地域","水田型",null,"つくばみらい市","久賀村２－１",2,1,"平地農業地域","水田型"]
["235-05","谷井田村","平地農業地域","水田型",null,"つくばみらい市","谷井田村",2,1,"平地農業地域","水田型"]
["235-06","豊村","平地農業地域","水田型",null,"つくばみらい市","豊村",2,1,"平地農業地域","水田型"]
["235-07","十和村２－１","平地農業地域","水田型",null,"つくばみらい市","十和村２－１",2,1,"平地農業地域","水田型"]
["235-08","福岡村","平地農業地域","田畑型",null,"つくばみらい市","福岡村",2,2,"平地農業地域","田畑型"]
["235-09","谷原村","平地農業地域","水田型",null,"つくばみらい市","谷原村",2,1,"平地農業地域","水田型"]
["235-10","小絹村","都市的地域","水田型",null,"つくばみらい市","小絹村",1,1,"都市的地域","水田型"]
["236-00","小美玉市","平地農業地域","田畑型",null,"小美玉市",null,2,2,"平地農業地域","田畑型"]
["236-01","小川町","平地農業地域","田畑型",null,"小美玉市","小川町",2,2,"平地農業地域","田畑型"]
["236-02","白河村","平地農業地域","畑地型",null,"小美玉市","白河村",2,3,"平地農業地域","畑地型"]
["236-03","橘村","平地農業地域","田畑型",null,"小美玉市","橘村",2,2,"平地農業地域","田畑型"]
["236-04","堅倉村","平地農業地域","田畑型",null,"小美玉市","堅倉村",2,2,"平地農業地域","田畑型"]
["236-05","竹原村","平地農業地域","田畑型",null,"小美玉市","竹原村",2,2,"平地農業地域","田畑型"]
["236-06","玉川村","平地農業地域","水田型",null,"小美玉市","玉川村",2,1,"平地農業地域","水田型"]
["236-07","田余村","都市的地域","田畑型",null,"小美玉市","田余村",1,2,"都市的地域","田畑型"]
["302-00","茨城町","平地農業地域","田畑型",null,"茨城町",null,2,2,"平地農業地域","田畑型"]
["302-01","長岡村","平地農業地域","田畑型",null,"茨城町","長岡村",2,2,"平地農業地域","田畑型"]
["302-02","川根村","平地農業地域","田畑型",null,"茨城町","川根村",2,2,"平地農業地域","田畑型"]
["302-03","上野合村","平地農業地域","畑地型",null,"茨城町","上野合村",2,3,"平地農業地域","畑地型"]
["302-04","石崎村","平地農業地域","田畑型",null,"茨城町","石崎村",2,2,"平地農業地域","田畑型"]
["302-05","酒門村２－２","平地農業地域","田畑型",null,"茨城町","酒門村２－２",2,2,"平地農業地域","田畑型"]
["302-06","沼前村","平地農業地域","田畑型",null,"茨城町","沼前村",2,2,"平地農業地域","田畑型"]
["309-00","大洗町","都市的地域","田畑型",null,"大洗町",null,1,2,"都市的地域","田畑型"]
["309-01","磯浜町","都市的地域","田畑型",null,"大洗町","磯浜町",1,2,"都市的地域","田畑型"]
["309-02","大貫町","都市的地域","水田型",null,"大洗町","大貫町",1,1,"都市的地域","水田型"]
["309-03","夏海村２－１","平地農業地域","田畑型",null,"大洗町","夏海村２－１",2,2,"平地農業地域","田畑型"]
["310-00","城里町","中間農業地域","田畑型",null,"城里町",null,3,2,"中間農業地域","田畑型"]
["310-01","石塚町","平地農業地域","田畑型",null,"城里町","石塚町",2,2,"平地農業地域","田畑型"]
["310-02","小松村","平地農業地域","田畑型",null,"城里町","小松村",2,2,"平地農業地域","田畑型"]
["310-03","西郷村","中間農業地域","田畑型",null,"城里町","西郷村",3,2,"中間農業地域","田畑型"]
["310-04","圷村","平地農業地域","水田型",null,"城里町","圷村",2,1,"平地農業地域","水田型"]
["310-05","岩船村","中間農業地域","畑地型",null,"城里町","岩船村",3,3,"中間農業地域","畑地型"]
["310-06","沢山村","平地農業地域","田畑型",null,"城里町","沢山村",2,2,"平地農業地域","田畑型"]
["310-07","七会村（城里町）","中間農業地域","田畑型",null,"城里町","七会村",3,2,"中間農業地域","田畑型"]
["341-00","東海村","都市的地域","田畑型",null,"東海村",null,1,2,"都市的地域","田畑型"]
["341-01","石神村","都市的地域","田畑型",null,"東海村","石神村",1,2,"都市的地域","田畑型"]
["341-02","村松村","都市的地域","田畑型",null,"東海村","村松村",1,2,"都市的地域","田畑型"]
["364-00","大子町","中間農業地域","田畑型",null,"大子町",null,3,2,"中間農業地域","田畑型"]
["364-01","大子町","中間農業地域","田畑型",null,"大子町","大子町",3,2,"中間農業地域","田畑型"]
["364-02","依上村","中間農業地域","田畑型",null,"大子町","依上村",3,2,"中間農業地域","田畑型"]
["364-03","佐原村","山間農業地域","田畑型",null,"大子町","佐原村",4,2,"山間農業地域","田畑型"]
["364-04","黒沢村","山間農業地域","田畑型",null,"大子町","黒沢村",4,2,"山間農業地域","田畑型"]
["364-05","宮川村","中間農業地域","田畑型",null,"大子町","宮川村",3,2,"中間農業地域","田畑型"]
["364-06","生瀬村","中間農業地域","田畑型",null,"大子町","生瀬村",3,2,"中間農業地域","田畑型"]
["364-07","袋田村","中間農業地域","畑地型",null,"大子町","袋田村",3,3,"中間農業地域","畑地型"]
["364-08","上小川村","山間農業地域","畑地型",null,"大子町","上小川村",4,3,"山間農業地域","畑地型"]
["364-09","下小川村２－２","中間農業地域","畑地型",null,"大子町","下小川村２－２",3,3,"中間農業地域","畑地型"]
["364-10","諸富野村２－２","山間農業地域","田畑型",null,"大子町","諸富野村２－２",4,2,"山間農業地域","田畑型"]
["442-00","美浦村","中間農業地域","水田型",null,"美浦村",null,3,1,"中間農業地域","水田型"]
["442-01","安中村","平地農業地域","水田型",null,"美浦村","安中村",2,1,"平地農業地域","水田型"]
["442-02","木原村","都市的地域","田畑型",null,"美浦村","木原村",1,2,"都市的地域","田畑型"]
["442-03","舟島村２－２","平地農業地域","水田型",null,"美浦村","舟島村２－２",2,1,"平地農業地域","水田型"]
["443-00","阿見町","都市的地域","田畑型",null,"阿見町",null,1,2,"都市的地域","田畑型"]
["443-01","阿見町","都市的地域","田畑型",null,"阿見町","阿見町",1,2,"都市的地域","田畑型"]
["443-02","朝日村","都市的地域","畑地型",null,"阿見町","朝日村",1,3,"都市的地域","畑地型"]
["443-03","舟島村２－１","都市的地域","田畑型",null,"阿見町","舟島村２－１",1,2,"都市的地域","田畑型"]
["443-04","君原村","平地農業地域","田畑型",null,"阿見町","君原村",2,2,"平地農業地域","田畑型"]
["447-00","河内町","平地農業地域","水田型",null,"河内町",null,2,1,"平地農業地域","水田型"]
["447-01","生板村２－２","平地農業地域","水田型",null,"河内町","生板村２－２",2,1,"平地農業地域","水田型"]
["447-02","源清田村","平地農業地域","水田型",null,"河内町","源清田村",2,1,"平地農業地域","水田型"]
["447-03","瑞穂村","平地農業地域","水田型",null,"河内町","瑞穂村",2,1,"平地農業地域","水田型"]
["447-04","金江津村","平地農業地域","水田型",null,"河内町","金江津村",2,1,"平地農業地域","水田型"]
["521-00","八千代町","平地農業地域","田畑型",null,"八千代町",null,2,2,"平地農業地域","田畑型"]
["521-01","中結城村","平地農業地域","田畑型",null,"八千代町","中結城村",2,2,"平地農業地域","田畑型"]
["521-02","川西村","平地農業地域","水田型",null,"八千代町","川西村",2,1,"平地農業地域","水田型"]
["521-03","西豊田村","平地農業地域","田畑型",null,"八千代町","西豊田村",2,2,"平地農業地域","田畑型"]
["521-04","安静村","平地農業地域","畑地型",null,"八千代町","安静村",2,3,"平地農業地域","畑地型"]
["521-05","下結城村","平地農業地域","田畑型",null,"八千代町","下結城村",2,2,"平地農業地域","田畑型"]
["521-06","名崎村２－２","平地農業地域","水田型",null,"八千代町","名崎村２－２",2,1,"平地農業地域","水田型"]
["542-00","五霞町","平地農業地域","水田型",null,"五霞町",null,2,1,"平地農業地域","水田型"]
[null,"　（五霞町）","平地農業地域","水田型",null,"五霞町",null,2,1,"平地農業地域","水田型"]
["546-00","境町","都市的地域","田畑型",null,"境町",null,1,2,"都市的地域","田畑型"]
["546-01","境町","都市的地域","田畑型",null,"境町","境町",1,2,"都市的地域","田畑型"]
["546-02","長田村","平地農業地域","田畑型",null,"境町","長田村",2,2,"平地農業地域","田畑型"]
["546-03","猿島村","平地農業地域","田畑型",null,"境町","猿島村",2,2,"平地農業地域","田畑型"]
["546-04","森戸村","平地農業地域","田畑型",null,"境町","森戸村",2,2,"平地農業地域","田畑型"]
["546-05","静村","平地農業地域","田畑型",null,"境町","静村",2,2,"平地農業地域","田畑型"]
["564-00","利根町","都市的地域","水田型",null,"利根町",null,1,1,"都市的地域","水田型"]
["564-01","布川町","都市的地域","水田型",null,"利根町","布川町",1,1,"都市的地域","水田型"]
["564-02","文村","平地農業地域","水田型",null,"利根町","文村",2,1,"平地農業地域","水田型"]
["564-03","文間村","平地農業地域","水田型",null,"利根町","文間村",2,1,"平地農業地域","水田型"]
["564-04","東文間村","平地農業地域","水田型",null,"利根町","東文間村",2,1,"平地農業地域","水田型"]

{"sheet":"元データ","index":6,"n_rows":4407,"n_cols":30,"rows_kept":2250,"cut":true,"hidden":true,"merged":[[0,10,0,11],[0,18,0,19],[0,21,0,22],[1,10,1,11],[1,18,1,19],[1,21,1,22],[2,10,2,15],[2,16,2,20],[2,21,2,23],[3,10,3,13],[3,14,3,15],[3,16,3,17],[3,18,3,20],[3,21,3,23]],"bounds":{"rows_first":1000,"rows_last":250,"rows_between":1000,"halvings":1}}
["注意事項",null,"･･･","空欄追記:『調査外(湖､無人島等)』",{"$nulls":21},"別紙 2",null,"市区町村名","旧市区町村","農業集落"]
[null,null,"･･･","全角変換:『2-1』⇒『2-1』",{"$nulls":6},{"$f":"IF(AB2=0,\"\",AB2)","v":""},{"$nulls":7},{"$f":"IF(AC2=0,\"\",AC2)","v":""},{"$nulls":7},"神奈川県",{"$f":"kadft!F5","v":{"v":0,"d":"0 "}},{"$f":"kadft!F5","v":0},{"$f":"#REF!","v":{"$error":"#REF!"}}]
[{"$nulls":10},"市町村",{"$nulls":5},"旧市区町村",{"$nulls":4},"農業集落"]
["農業集落","県","市区町村","旧市区町村","農業集落","県名","市町村名","旧市町村名","農業集落名",null,"判定１",{"$nulls":3},"抽出１",null,"判定2",null,"抽出2",null,null,"抽出3",{"$nulls":3},"通し","都県名","市区町村名","旧区市町村名","農業集落名"]
["ｺｰﾄﾞ","番号","番号","番号","番号",{"$nulls":5},"判定","市区町村名","連番","補記","抽出","名","判定","名","抽出","旧区市町村名","連番","抽出","農業集落名","連番",null,"№"]
[{"$nulls":25},0,null,null,"     "]
[800000000,8,{"v":0,"d":"000 "},{"v":0,"d":"00 "},{"v":0,"d":"000 "},"茨城県",{"$nulls":4},{"$f":"IF(AND($C7>0,$H7=\"\"),\"ﾘｽﾄ１\",\"\")","v":""},{"$f":"IF(K7=\"ﾘｽﾄ１\",G7,\"\")","v":""},{"$f":"IF(K7=\"\",\"\",COUNTIF($K7:K$7,\"ﾘｽﾄ１\"))","v":""},{"$f":"IF(AND(D7=0,E7>0),\"同一区\",\"\")","v":""},{"$f":"IF(AND(EXACT($K$2,G7),H7>0),\"該当１\",\"\")","v":""},{"$f":"IF(O7=\"該当１\",G7,\"\")","v":""},{"$f":"IF(O7=\"該当１\",\"ﾘｽﾄ2\",\"\")","v":""},{"$f":"IF(Q7=\"ﾘｽﾄ2\",H7,\"\")","v":""},{"$f":"IF(AND(Q7=\"ﾘｽﾄ2\",OR(I7=0,AND(N7=\"同一区\",E7=1))),\"該当２\",\"\")","v":""},{"$f":"IF(S7=\"該当２\",H7,\"\")","v":""},{"$f":"IF(S7=\"\",\"\",COUNTIF($S$7:S7,\"該当２\"))","v":""},{"$f":"IF(AND($S$2=H7,E7>0,E7<998),\"該当３\",\"\")","v":""},{"$f":"IF(V7=\"該当３\",I7,\"\")","v":""},{"$f":"IF(V7=\"\",\"\",COUNTIF($V7:V$7,\"該当３\"))","v":""},null,1,"神奈川県","水戸市",{"$f":"IF($Z7>MAX($U$7:$U$4407),\"\",INDEX($T$7:$T$4407,MATCH($Z7,$U$7:$U$4407,0),MATCH($AC$4,$T$5:$U$5,0)))","v":""},{"$f":"IF($Z7>MAX($X$7:$X$4406),\"\",INDEX($W$7:$W$4406,MATCH($Z7,$X$7:$X$4406,0),MATCH($AD$4,$W$5:$X$5,0)))","v":""}]
[820100000,8,{"v":201,"d":"201 "},{"v":0,"d":"00 "},{"v":0,"d":"000 "},"茨城県","水戸市",{"$nulls":3},"ﾘｽﾄ１","水戸市",{"$f":"IF(K8=\"\",\"\",COUNTIF($K$7:K8,\"ﾘｽﾄ１\"))","v":1},"",{"$f":"IF(AND(EXACT($K$2,G8),H8>0),\"該当１\",\"\")","v":""},"","","","","",{"$f":"IF(S8=\"\",\"\",COUNTIF($S$7:S8,\"該当２\"))","v":""},"","",{"$f":"IF(V8=\"\",\"\",COUNTIF($V$7:V8,\"該当３\"))","v":""},null,2,null,"日立市",{"$f":"IF($Z8>MAX($U$7:$U$4407),\"\",INDEX($T$7:$T$4407,MATCH($Z8,$U$7:$U$4407,0),MATCH($AC$4,$T$5:$U$5,0)))","v":""},""]
[820101000,8,{"v":201,"d":"201 "},{"v":1,"d":"01 "},{"v":0,"d":"000 "},"茨城県","水戸市","水戸市（旧）",null,null,"","",{"$f":"IF(K9=\"\",\"\",COUNTIF($K$7:K9,\"ﾘｽﾄ１\"))","v":""},"",{"$f":"IF(AND(EXACT($K$2,G9),H9>0),\"該当１\",\"\")","v":""},"","","","","",{"$f":"IF(S9=\"\",\"\",COUNTIF($S$7:S9,\"該当２\"))","v":""},"","",{"$f":"IF(V9=\"\",\"\",COUNTIF($V$7:V9,\"該当３\"))","v":""},null,3,null,"土浦市","",""]
[820101001,8,{"v":201,"d":"201 "},{"v":1,"d":"01 "},{"v":1,"d":"001 "},"茨城県","水戸市","水戸市（旧）","柵町一、二、三、四町目、大手町",null,"","",{"$f":"IF(K10=\"\",\"\",COUNTIF($K$7:K10,\"ﾘｽﾄ１\"))","v":""},"","","","","","","",{"$f":"IF(S10=\"\",\"\",COUNTIF($S$7:S10,\"該当２\"))","v":""},"","",{"$f":"IF(V10=\"\",\"\",COUNTIF($V$7:V10,\"該当３\"))","v":""},null,4,null,"古河市","",""]
[820101002,8,{"v":201,"d":"201 "},{"v":1,"d":"01 "},{"v":2,"d":"002 "},"茨城県","水戸市","水戸市（旧）","柵町五，六町目",null,"","",{"$f":"IF(K11=\"\",\"\",COUNTIF($K$7:K11,\"ﾘｽﾄ１\"))","v":""},"","","","","","","",{"$f":"IF(S11=\"\",\"\",COUNTIF($S$7:S11,\"該当２\"))","v":""},"","",{"$f":"IF(V11=\"\",\"\",COUNTIF($V$7:V11,\"該当３\"))","v":""},null,5,null,"石岡市","",""]
[820101003,8,{"v":201,"d":"201 "},{"v":1,"d":"01 "},{"v":3,"d":"003 "},"茨城県","水戸市","水戸市（旧）","霞町北三の丸",null,"","",{"$f":"IF(K12=\"\",\"\",COUNTIF($K$7:K12,\"ﾘｽﾄ１\"))","v":""},"","","","","","","",{"$f":"IF(S12=\"\",\"\",COUNTIF($S$7:S12,\"該当２\"))","v":""},"","",{"$f":"IF(V12=\"\",\"\",COUNTIF($V$7:V12,\"該当３\"))","v":""},null,6,null,"結城市","",""]
[820101004,8,{"v":201,"d":"201 "},{"v":1,"d":"01 "},{"v":4,"d":"004 "},"茨城県","水戸市","水戸市（旧）","銀否、宮下、奈良屋町、南三の丸",null,"","",{"$f":"IF(K13=\"\",\"\",COUNTIF($K$7:K13,\"ﾘｽﾄ１\"))","v":""},"","","","","","","",{"$f":"IF(S13=\"\",\"\",COUNTIF($S$7:S13,\"該当２\"))","v":""},"","",{"$f":"IF(V13=\"\",\"\",COUNTIF($V$7:V13,\"該当３\"))","v":""},null,7,null,"龍ケ崎市","",""]
[820101005,8,{"v":201,"d":"201 "},{"v":1,"d":"01 "},{"v":5,"d":"005 "},"茨城県","水戸市","水戸市（旧）","黒羽根，田見小路，その他１０町",null,"","",{"$f":"IF(K14=\"\",\"\",COUNTIF($K$7:K14,\"ﾘｽﾄ１\"))","v":""},"","","","","","","",{"$f":"IF(S14=\"\",\"\",COUNTIF($S$7:S14,\"該当２\"))","v":""},"","",{"$f":"IF(V14=\"\",\"\",COUNTIF($V$7:V14,\"該当３\"))","v":""},null,8,null,"下妻市","",""]
[820101006,8,{"v":201,"d":"201 "},{"v":1,"d":"01 "},{"v":6,"d":"006 "},"茨城県","水戸市","水戸市（旧）","根本町一区",null,"","",{"$f":"IF(K15=\"\",\"\",COUNTIF($K$7:K15,\"ﾘｽﾄ１\"))","v":""},"","","","","","","",{"$f":"IF(S15=\"\",\"\",COUNTIF($S$7:S15,\"該当２\"))","v":""},"","",{"$f":"IF(V15=\"\",\"\",COUNTIF($V$7:V15,\"該当３\"))","v":""},null,9,null,"常総市","",""]
[820101007,8,{"v":201,"d":"201 "},{"v":1,"d":"01 "},{"v":7,"d":"007 "},"茨城県","水戸市","水戸市（旧）","根本町二，三区",null,"","",{"$f":"IF(K16=\"\",\"\",COUNTIF($K$7:K16,\"ﾘｽﾄ１\"))","v":""},"","","","","","","",{"$f":"IF(S16=\"\",\"\",COUNTIF($S$7:S16,\"該当２\"))","v":""},"","",{"$f":"IF(V16=\"\",\"\",COUNTIF($V$7:V16,\"該当３\"))","v":""},null,10,null,"常陸太田市","",""]
[820101008,8,{"v":201,"d":"201 "},{"v":1,"d":"01 "},{"v":8,"d":"008 "},"茨城県","水戸市","水戸市（旧）","泉町、信願寺町、その他１１町",null,"","",{"$f":"IF(K17=\"\",\"\",COUNTIF($K$7:K17,\"ﾘｽﾄ１\"))","v":""},"","","","","","","",{"$f":"IF(S17=\"\",\"\",COUNTIF($S$7:S17,\"該当２\"))","v":""},"","",{"$f":"IF(V17=\"\",\"\",COUNTIF($V$7:V17,\"該当３\"))","v":""},null,11,null,"高萩市","",""]
[820101009,8,{"v":201,"d":"201 "},{"v":1,"d":"01 "},{"v":9,"d":"009 "},"茨城県","水戸市","水戸市（旧）","寺町、八幡町、藤坂、橦木町、並",null,"","",{"$f":"IF(K18=\"\",\"\",COUNTIF($K$7:K18,\"ﾘｽﾄ１\"))","v":""},"","","","","","","",{"$f":"IF(S18=\"\",\"\",COUNTIF($S$7:S18,\"該当２\"))","v":""},"","",{"$f":"IF(V18=\"\",\"\",COUNTIF($V$7:V18,\"該当３\"))","v":""},null,12,null,"北茨城市","",""]
[820101010,8,{"v":201,"d":"201 "},{"v":1,"d":"01 "},{"v":10,"d":"010 "},"茨城県","水戸市","水戸市（旧）","備前町、鈴坂町、その他５町",null,"","",{"$f":"IF(K19=\"\",\"\",COUNTIF($K$7:K19,\"ﾘｽﾄ１\"))","v":""},"","","","","","","",{"$f":"IF(S19=\"\",\"\",COUNTIF($S$7:S19,\"該当２\"))","v":""},"","",{"$f":"IF(V19=\"\",\"\",COUNTIF($V$7:V19,\"該当３\"))","v":""},null,13,null,"笠間市","",""]
[820101011,8,{"v":201,"d":"201 "},{"v":1,"d":"01 "},{"v":11,"d":"011 "},"茨城県","水戸市","水戸市（旧）","常磐町全域、元山町一、二、三区",null,"","",{"$f":"IF(K20=\"\",\"\",COUNTIF($K$7:K20,\"ﾘｽﾄ１\"))","v":""},"","","","","","","",{"$f":"IF(S20=\"\",\"\",COUNTIF($S$7:S20,\"該当２\"))","v":""},"","",{"$f":"IF(V20=\"\",\"\",COUNTIF($V$7:V20,\"該当３\"))","v":""},null,14,null,"取手市","",""]
[820101012,8,{"v":201,"d":"201 "},{"v":1,"d":"01 "},{"v":12,"d":"012 "},"茨城県","水戸市","水戸市（旧）","元山町四区",null,"","",{"$f":"IF(K21=\"\",\"\",COUNTIF($K$7:K21,\"ﾘｽﾄ１\"))","v":""},"","","","","","","",{"$f":"IF(S21=\"\",\"\",COUNTIF($S$7:S21,\"該当２\"))","v":""},"","",{"$f":"IF(V21=\"\",\"\",COUNTIF($V$7:V21,\"該当３\"))","v":""},null,15,null,"牛久市","",""]
[820101013,8,{"v":201,"d":"201 "},{"v":1,"d":"01 "},{"v":13,"d":"013 "},"茨城県","水戸市","水戸市（旧）","新大工町、寿町、向井町一、二",null,"","",{"$f":"IF(K22=\"\",\"\",COUNTIF($K$7:K22,\"ﾘｽﾄ１\"))","v":""},"","","","","","","",{"$f":"IF(S22=\"\",\"\",COUNTIF($S$7:S22,\"該当２\"))","v":""},"","",{"$f":"IF(V22=\"\",\"\",COUNTIF($V$7:V22,\"該当３\"))","v":""},null,16,null,"つくば市","",""]
[820101014,8,{"v":201,"d":"201 "},{"v":1,"d":"01 "},{"v":14,"d":"014 "},"茨城県","水戸市","水戸市（旧）","栄町全域、北町、楓小路",null,"","",{"$f":"IF(K23=\"\",\"\",COUNTIF($K$7:K23,\"ﾘｽﾄ１\"))","v":""},"","","","","","","",{"$f":"IF(S23=\"\",\"\",COUNTIF($S$7:S23,\"該当２\"))","v":""},"","",{"$f":"IF(V23=\"\",\"\",COUNTIF($V$7:V23,\"該当３\"))","v":""},null,17,null,"ひたちなか市","",""]
[820101015,8,{"v":201,"d":"201 "},{"v":1,"d":"01 "},{"v":15,"d":"015 "},"茨城県","水戸市","水戸市（旧）","谷中一、二、三丁目、馬口労町",null,"","",{"$f":"IF(K24=\"\",\"\",COUNTIF($K$7:K24,\"ﾘｽﾄ１\"))","v":""},"","","","","","","",{"$f":"IF(S24=\"\",\"\",COUNTIF($S$7:S24,\"該当２\"))","v":""},"","",{"$f":"IF(V24=\"\",\"\",COUNTIF($V$7:V24,\"該当３\"))","v":""},null,18,null,"鹿嶋市","",""]
[820101016,8,{"v":201,"d":"201 "},{"v":1,"d":"01 "},{"v":16,"d":"016 "},"茨城県","水戸市","水戸市（旧）","砂久保町一，二，三，四，五区",null,"","",{"$f":"IF(K25=\"\",\"\",COUNTIF($K$7:K25,\"ﾘｽﾄ１\"))","v":""},"","","","","","","",{"$f":"IF(S25=\"\",\"\",COUNTIF($S$7:S25,\"該当２\"))","v":""},"","",{"$f":"IF(V25=\"\",\"\",COUNTIF($V$7:V25,\"該当３\"))","v":""},null,19,null,"潮来市","",""]
[820101017,8,{"v":201,"d":"201 "},{"v":1,"d":"01 "},{"v":17,"d":"017 "},"茨城県","水戸市","水戸市（旧）","松本町一，二，三丁目",null,"","",{"$f":"IF(K26=\"\",\"\",COUNTIF($K$7:K26,\"ﾘｽﾄ１\"))","v":""},"","","","","","","",{"$f":"IF(S26=\"\",\"\",COUNTIF($S$7:S26,\"該当２\"))","v":""},"","",{"$f":"IF(V26=\"\",\"\",COUNTIF($V$7:V26,\"該当３\"))","v":""},null,20,null,"守谷市","",""]
[820101018,8,{"v":201,"d":"201 "},{"v":1,"d":"01 "},{"v":18,"d":"018 "},"茨城県","水戸市","水戸市（旧）","松本町四，五丁目",null,"","",{"$f":"IF(K27=\"\",\"\",COUNTIF($K$7:K27,\"ﾘｽﾄ１\"))","v":""},"","","","","","","",{"$f":"IF(S27=\"\",\"\",COUNTIF($S$7:S27,\"該当２\"))","v":""},"","",{"$f":"IF(V27=\"\",\"\",COUNTIF($V$7:V27,\"該当３\"))","v":""},null,21,null,"常陸大宮市","",""]
[820101019,8,{"v":201,"d":"201 "},{"v":1,"d":"01 "},{"v":19,"d":"019 "},"茨城県","水戸市","水戸市（旧）","愛宕町全域",null,"","",{"$f":"IF(K28=\"\",\"\",COUNTIF($K$7:K28,\"ﾘｽﾄ１\"))","v":""},"","","","","","","",{"$f":"IF(S28=\"\",\"\",COUNTIF($S$7:S28,\"該当２\"))","v":""},"","",{"$f":"IF(V28=\"\",\"\",COUNTIF($V$7:V28,\"該当３\"))","v":""},null,22,null,"那珂市","",""]
[820101020,8,{"v":201,"d":"201 "},{"v":1,"d":"01 "},{"v":20,"d":"020 "},"茨城県","水戸市","水戸市（旧）","袴塚一，二丁目",null,"","",{"$f":"IF(K29=\"\",\"\",COUNTIF($K$7:K29,\"ﾘｽﾄ１\"))","v":""},"","","","","","","",{"$f":"IF(S29=\"\",\"\",COUNTIF($S$7:S29,\"該当２\"))","v":""},"","",{"$f":"IF(V29=\"\",\"\",COUNTIF($V$7:V29,\"該当３\"))","v":""},null,23,null,"筑西市","",""]
[820101021,8,{"v":201,"d":"201 "},{"v":1,"d":"01 "},{"v":21,"d":"021 "},"茨城県","水戸市","水戸市（旧）","袴塚三丁目",null,"","",{"$f":"IF(K30=\"\",\"\",COUNTIF($K$7:K30,\"ﾘｽﾄ１\"))","v":""},"","","","","","","",{"$f":"IF(S30=\"\",\"\",COUNTIF($S$7:S30,\"該当２\"))","v":""},"","",{"$f":"IF(V30=\"\",\"\",COUNTIF($V$7:V30,\"該当３\"))","v":""},null,24,null,"坂東市","",""]
[820101022,8,{"v":201,"d":"201 "},{"v":1,"d":"01 "},{"v":22,"d":"022 "},"茨城県","水戸市","水戸市（旧）","袴塚四町目、堀原町、南袴塚町",null,"","",{"$f":"IF(K31=\"\",\"\",COUNTIF($K$7:K31,\"ﾘｽﾄ１\"))","v":""},"","","","","","","",{"$f":"IF(S31=\"\",\"\",COUNTIF($S$7:S31,\"該当２\"))","v":""},"","",{"$f":"IF(V31=\"\",\"\",COUNTIF($V$7:V31,\"該当３\"))","v":""},null,25,null,"稲敷市",null,""]
[820101023,8,{"v":201,"d":"201 "},{"v":1,"d":"01 "},{"v":23,"d":"023 "},"茨城県","水戸市","水戸市（旧）","西原町一，二，三，四，五区",null,"","",{"$f":"IF(K32=\"\",\"\",COUNTIF($K$7:K32,\"ﾘｽﾄ１\"))","v":""},"","","","","","","",{"$f":"IF(S32=\"\",\"\",COUNTIF($S$7:S32,\"該当２\"))","v":""},"","",{"$f":"IF(V32=\"\",\"\",COUNTIF($V$7:V32,\"該当３\"))","v":""},null,26,null,"かすみがうら市",null,""]
[820101024,8,{"v":201,"d":"201 "},{"v":1,"d":"01 "},{"v":24,"d":"024 "},"茨城県","水戸市","水戸市（旧）","西原町六，七区",null,"","",{"$f":"IF(K33=\"\",\"\",COUNTIF($K$7:K33,\"ﾘｽﾄ１\"))","v":""},"","","","","","","",{"$f":"IF(S33=\"\",\"\",COUNTIF($S$7:S33,\"該当２\"))","v":""},"","",{"$f":"IF(V33=\"\",\"\",COUNTIF($V$7:V33,\"該当３\"))","v":""},null,27,null,"桜川市",null,""]
[820101025,8,{"v":201,"d":"201 "},{"v":1,"d":"01 "},{"v":25,"d":"025 "},"茨城県","水戸市","水戸市（旧）","東原町一，二区",null,"","",{"$f":"IF(K34=\"\",\"\",COUNTIF($K$7:K34,\"ﾘｽﾄ１\"))","v":""},"","","","","","","",{"$f":"IF(S34=\"\",\"\",COUNTIF($S$7:S34,\"該当２\"))","v":""},"","",{"$f":"IF(V34=\"\",\"\",COUNTIF($V$7:V34,\"該当３\"))","v":""},null,28,null,"神栖市",null,""]
[820101026,8,{"v":201,"d":"201 "},{"v":1,"d":"01 "},{"v":26,"d":"026 "},"茨城県","水戸市","水戸市（旧）","石川町上区，石川",null,"","",{"$f":"IF(K35=\"\",\"\",COUNTIF($K$7:K35,\"ﾘｽﾄ１\"))","v":""},"","","","","","","",{"$f":"IF(S35=\"\",\"\",COUNTIF($S$7:S35,\"該当２\"))","v":""},"","",{"$f":"IF(V35=\"\",\"\",COUNTIF($V$7:V35,\"該当３\"))","v":""},null,29,null,"行方市",null,""]
[820101027,8,{"v":201,"d":"201 "},{"v":1,"d":"01 "},{"v":27,"d":"027 "},"茨城県","水戸市","水戸市（旧）","石川町下区",null,"","",{"$f":"IF(K36=\"\",\"\",COUNTIF($K$7:K36,\"ﾘｽﾄ１\"))","v":""},"","","","","","","",{"$f":"IF(S36=\"\",\"\",COUNTIF($S$7:S36,\"該当２\"))","v":""},"","",{"$f":"IF(V36=\"\",\"\",COUNTIF($V$7:V36,\"該当３\"))","v":""},null,30,null,"鉾田市",null,""]
[820101028,8,{"v":201,"d":"201 "},{"v":1,"d":"01 "},{"v":28,"d":"028 "},"茨城県","水戸市","水戸市（旧）","東町",null,"","",{"$f":"IF(K37=\"\",\"\",COUNTIF($K$7:K37,\"ﾘｽﾄ１\"))","v":""},"","","","","","","",{"$f":"IF(S37=\"\",\"\",COUNTIF($S$7:S37,\"該当２\"))","v":""},"","",{"$f":"IF(V37=\"\",\"\",COUNTIF($V$7:V37,\"該当３\"))","v":""},null,31,null,"つくばみらい市",null,""]
[820101029,8,{"v":201,"d":"201 "},{"v":1,"d":"01 "},{"v":29,"d":"029 "},"茨城県","水戸市","水戸市（旧）","新原町",null,"","",{"$f":"IF(K38=\"\",\"\",COUNTIF($K$7:K38,\"ﾘｽﾄ１\"))","v":""},"","","","","","","",{"$f":"IF(S38=\"\",\"\",COUNTIF($S$7:S38,\"該当２\"))","v":""},"","",{"$f":"IF(V38=\"\",\"\",COUNTIF($V$7:V38,\"該当３\"))","v":""},null,32,null,"小美玉市",null,""]
[820101030,8,{"v":201,"d":"201 "},{"v":1,"d":"01 "},{"v":30,"d":"030 "},"茨城県","水戸市","水戸市（旧）","曙町一、二、三、四、五丁目、雨",null,"","",{"$f":"IF(K39=\"\",\"\",COUNTIF($K$7:K39,\"ﾘｽﾄ１\"))","v":""},"","","","","","","",{"$f":"IF(S39=\"\",\"\",COUNTIF($S$7:S39,\"該当２\"))","v":""},"","",{"$f":"IF(V39=\"\",\"\",COUNTIF($V$7:V39,\"該当３\"))","v":""},null,33,null,"茨城町",null,{"$f":"IF($Z39>MAX($X$7:$X$4406),\"\",INDEX($W$7:$W$4406,MATCH($Z39,$X$7:$X$4406,0),MATCH($AD$4,$W$5:$X$5,0)))","v":""}]
[820101031,8,{"v":201,"d":"201 "},{"v":1,"d":"01 "},{"v":31,"d":"031 "},"茨城県","水戸市","水戸市（旧）","東柵町、東青柳町、根積町、轟町",null,"","",{"$f":"IF(K40=\"\",\"\",COUNTIF($K$7:K40,\"ﾘｽﾄ１\"))","v":""},"","","","","","","",{"$f":"IF(S40=\"\",\"\",COUNTIF($S$7:S40,\"該当２\"))","v":""},"","",{"$f":"IF(V40=\"\",\"\",COUNTIF($V$7:V40,\"該当３\"))","v":""},null,34,null,"大洗町",null,""]
[820101032,8,{"v":201,"d":"201 "},{"v":1,"d":"01 "},{"v":32,"d":"032 "},"茨城県","水戸市","水戸市（旧）","立浪町、川岸通り、花畑、蔵前",null,"","",{"$f":"IF(K41=\"\",\"\",COUNTIF($K$7:K41,\"ﾘｽﾄ１\"))","v":""},"","","","","","","",{"$f":"IF(S41=\"\",\"\",COUNTIF($S$7:S41,\"該当２\"))","v":""},"","",{"$f":"IF(V41=\"\",\"\",COUNTIF($V$7:V41,\"該当３\"))","v":""},null,35,null,"城里町",null,""]
[820101033,8,{"v":201,"d":"201 "},{"v":1,"d":"01 "},{"v":33,"d":"033 "},"茨城県","水戸市","水戸市（旧）","渋田一、二区、細谷、門前町、杉",null,"","",{"$f":"IF(K42=\"\",\"\",COUNTIF($K$7:K42,\"ﾘｽﾄ１\"))","v":""},"","","","","","","",{"$f":"IF(S42=\"\",\"\",COUNTIF($S$7:S42,\"該当２\"))","v":""},"","",{"$f":"IF(V42=\"\",\"\",COUNTIF($V$7:V42,\"該当３\"))","v":""},null,36,null,"東海村",null,""]
[820101034,8,{"v":201,"d":"201 "},{"v":1,"d":"01 "},{"v":34,"d":"034 "},"茨城県","水戸市","水戸市（旧）","馬場町、川岸通り、代官町、荒神",null,"","",{"$f":"IF(K43=\"\",\"\",COUNTIF($K$7:K43,\"ﾘｽﾄ１\"))","v":""},"","","","","","","",{"$f":"IF(S43=\"\",\"\",COUNTIF($S$7:S43,\"該当２\"))","v":""},"","",{"$f":"IF(V43=\"\",\"\",COUNTIF($V$7:V43,\"該当３\"))","v":""},null,37,null,"大子町",null,""]
[820101035,8,{"v":201,"d":"201 "},{"v":1,"d":"01 "},{"v":35,"d":"035 "},"茨城県","水戸市","水戸市（旧）","蓮池町、蘋町、元仲ノ町九丁目",null,"","",{"$f":"IF(K44=\"\",\"\",COUNTIF($K$7:K44,\"ﾘｽﾄ１\"))","v":""},"","","","","","","",{"$f":"IF(S44=\"\",\"\",COUNTIF($S$7:S44,\"該当２\"))","v":""},"","",{"$f":"IF(V44=\"\",\"\",COUNTIF($V$7:V44,\"該当３\"))","v":""},null,38,null,"美浦村",null,""]
[820101036,8,{"v":201,"d":"201 "},{"v":1,"d":"01 "},{"v":36,"d":"036 "},"茨城県","水戸市","水戸市（旧）","曲尺手町、十軒町、鍛治町、八丁",null,"","",{"$f":"IF(K45=\"\",\"\",COUNTIF($K$7:K45,\"ﾘｽﾄ１\"))","v":""},"","","","","","","",{"$f":"IF(S45=\"\",\"\",COUNTIF($S$7:S45,\"該当２\"))","v":""},"","",{"$f":"IF(V45=\"\",\"\",COUNTIF($V$7:V45,\"該当３\"))","v":""},null,39,null,"阿見町",null,""]
[820101037,8,{"v":201,"d":"201 "},{"v":1,"d":"01 "},{"v":37,"d":"037 "},"茨城県","水戸市","水戸市（旧）","細谷町、蔵脇、細谷本郷町",null,"","",{"$f":"IF(K46=\"\",\"\",COUNTIF($K$7:K46,\"ﾘｽﾄ１\"))","v":""},"","","","","","","",{"$f":"IF(S46=\"\",\"\",COUNTIF($S$7:S46,\"該当２\"))","v":""},"","",{"$f":"IF(V46=\"\",\"\",COUNTIF($V$7:V46,\"該当３\"))","v":""},null,40,null,"河内町",null,""]
[820101038,8,{"v":201,"d":"201 "},{"v":1,"d":"01 "},{"v":38,"d":"038 "},"茨城県","水戸市","水戸市（旧）","新町，十町目",null,"","",{"$f":"IF(K47=\"\",\"\",COUNTIF($K$7:K47,\"ﾘｽﾄ１\"))","v":""},"","","","","","","",{"$f":"IF(S47=\"\",\"\",COUNTIF($S$7:S47,\"該当２\"))","v":""},"","",{"$f":"IF(V47=\"\",\"\",COUNTIF($V$7:V47,\"該当３\"))","v":""},null,41,null,"八千代町",null,""]
[820101039,8,{"v":201,"d":"201 "},{"v":1,"d":"01 "},{"v":39,"d":"039 "},"茨城県","水戸市","水戸市（旧）","若宮町",null,"","",{"$f":"IF(K48=\"\",\"\",COUNTIF($K$7:K48,\"ﾘｽﾄ１\"))","v":""},"","","","","","","",{"$f":"IF(S48=\"\",\"\",COUNTIF($S$7:S48,\"該当２\"))","v":""},"","",{"$f":"IF(V48=\"\",\"\",COUNTIF($V$7:V48,\"該当３\"))","v":""},null,42,null,"五霞町",null,""]
[820101040,8,{"v":201,"d":"201 "},{"v":1,"d":"01 "},{"v":40,"d":"040 "},"茨城県","水戸市","水戸市（旧）","元台町一、二丁目、宮内町",null,"","",{"$f":"IF(K49=\"\",\"\",COUNTIF($K$7:K49,\"ﾘｽﾄ１\"))","v":""},"","","","","","","",{"$f":"IF(S49=\"\",\"\",COUNTIF($S$7:S49,\"該当２\"))","v":""},"","",{"$f":"IF(V49=\"\",\"\",COUNTIF($V$7:V49,\"該当３\"))","v":""},null,43,null,"境町",null,""]
[820101041,8,{"v":201,"d":"201 "},{"v":1,"d":"01 "},{"v":41,"d":"041 "},"茨城県","水戸市","水戸市（旧）","元台町三，四，五，六丁目",null,"","",{"$f":"IF(K50=\"\",\"\",COUNTIF($K$7:K50,\"ﾘｽﾄ１\"))","v":""},"","","","","","","",{"$f":"IF(S50=\"\",\"\",COUNTIF($S$7:S50,\"該当２\"))","v":""},"","",{"$f":"IF(V50=\"\",\"\",COUNTIF($V$7:V50,\"該当３\"))","v":""},null,44,null,"利根町",null,""]
[820101042,8,{"v":201,"d":"201 "},{"v":1,"d":"01 "},{"v":42,"d":"042 "},"茨城県","水戸市","水戸市（旧）","吉田町、七軒町、裡一丁目、藤柄",null,"","",{"$f":"IF(K51=\"\",\"\",COUNTIF($K$7:K51,\"ﾘｽﾄ１\"))","v":""},"","","","","","","",{"$f":"IF(S51=\"\",\"\",COUNTIF($S$7:S51,\"該当２\"))","v":""},"","",{"$f":"IF(V51=\"\",\"\",COUNTIF($V$7:V51,\"該当３\"))","v":""},null,45,null,"",null,""]
[820101043,8,{"v":201,"d":"201 "},{"v":1,"d":"01 "},{"v":43,"d":"043 "},"茨城県","水戸市","水戸市（旧）","水門町、裡二丁目、その他３町",null,"","",{"$f":"IF(K52=\"\",\"\",COUNTIF($K$7:K52,\"ﾘｽﾄ１\"))","v":""},"","","","","","","",{"$f":"IF(S52=\"\",\"\",COUNTIF($S$7:S52,\"該当２\"))","v":""},"","",{"$f":"IF(V52=\"\",\"\",COUNTIF($V$7:V52,\"該当３\"))","v":""},null,46,{"$nulls":3},""]
[820101044,8,{"v":201,"d":"201 "},{"v":1,"d":"01 "},{"v":44,"d":"044 "},"茨城県","水戸市","水戸市（旧）","紺屋町、浜町、亙谷町、檜物町",null,"","",{"$f":"IF(K53=\"\",\"\",COUNTIF($K$7:K53,\"ﾘｽﾄ１\"))","v":""},"","","","","","","",{"$f":"IF(S53=\"\",\"\",COUNTIF($S$7:S53,\"該当２\"))","v":""},"","",{"$f":"IF(V53=\"\",\"\",COUNTIF($V$7:V53,\"該当３\"))","v":""},null,47,{"$nulls":3},""]
[820101045,8,{"v":201,"d":"201 "},{"v":1,"d":"01 "},{"v":45,"d":"045 "},"茨城県","水戸市","水戸市（旧）","裡三丁目、肴町、本三、四丁目",null,"","",{"$f":"IF(K54=\"\",\"\",COUNTIF($K$7:K54,\"ﾘｽﾄ１\"))","v":""},"","","","","","","",{"$f":"IF(S54=\"\",\"\",COUNTIF($S$7:S54,\"該当２\"))","v":""},"","",{"$f":"IF(V54=\"\",\"\",COUNTIF($V$7:V54,\"該当３\"))","v":""},null,48,{"$nulls":3},""]
[820101046,8,{"v":201,"d":"201 "},{"v":1,"d":"01 "},{"v":46,"d":"046 "},"茨城県","水戸市","水戸市（旧）","東台、白銀町、本五、六、七丁目",null,"","",{"$f":"IF(K55=\"\",\"\",COUNTIF($K$7:K55,\"ﾘｽﾄ１\"))","v":""},"","","","","","","",{"$f":"IF(S55=\"\",\"\",COUNTIF($S$7:S55,\"該当２\"))","v":""},"","",{"$f":"IF(V55=\"\",\"\",COUNTIF($V$7:V55,\"該当３\"))","v":""},null,49,{"$nulls":3},""]
[820101047,8,{"v":201,"d":"201 "},{"v":1,"d":"01 "},{"v":47,"d":"047 "},"茨城県","水戸市","水戸市（旧）","裡四～七丁目、銭谷町、青物町",null,"","",{"$f":"IF(K56=\"\",\"\",COUNTIF($K$7:K56,\"ﾘｽﾄ１\"))","v":""},"","","","","","","",{"$f":"IF(S56=\"\",\"\",COUNTIF($S$7:S56,\"該当２\"))","v":""},"","",{"$f":"IF(V56=\"\",\"\",COUNTIF($V$7:V56,\"該当３\"))","v":""},null,50,{"$nulls":3},""]
[820101048,8,{"v":201,"d":"201 "},{"v":1,"d":"01 "},{"v":48,"d":"048 "},"茨城県","水戸市","水戸市（旧）","高橋町，朝日町",null,"","",{"$f":"IF(K57=\"\",\"\",COUNTIF($K$7:K57,\"ﾘｽﾄ１\"))","v":""},"","","","","","","",{"$f":"IF(S57=\"\",\"\",COUNTIF($S$7:S57,\"該当２\"))","v":""},"","",{"$f":"IF(V57=\"\",\"\",COUNTIF($V$7:V57,\"該当３\"))","v":""}]
[820101049,8,{"v":201,"d":"201 "},{"v":1,"d":"01 "},{"v":49,"d":"049 "},"茨城県","水戸市","水戸市（旧）","浜田町",null,"","",{"$f":"IF(K58=\"\",\"\",COUNTIF($K$7:K58,\"ﾘｽﾄ１\"))","v":""},"","","","","","","",{"$f":"IF(S58=\"\",\"\",COUNTIF($S$7:S58,\"該当２\"))","v":""},"","",{"$f":"IF(V58=\"\",\"\",COUNTIF($V$7:V58,\"該当３\"))","v":""}]
[820102000,8,{"v":201,"d":"201 "},{"v":2,"d":"02 "},{"v":0,"d":"000 "},"茨城県","水戸市","国田村",null,null,"","",{"$f":"IF(K59=\"\",\"\",COUNTIF($K$7:K59,\"ﾘｽﾄ１\"))","v":""},"","","","","","","",{"$f":"IF(S59=\"\",\"\",COUNTIF($S$7:S59,\"該当２\"))","v":""},"","",{"$f":"IF(V59=\"\",\"\",COUNTIF($V$7:V59,\"該当３\"))","v":""}]
[820102001,8,{"v":201,"d":"201 "},{"v":2,"d":"02 "},{"v":1,"d":"001 "},"茨城県","水戸市","国田村","舟渡，庄司，台畑",null,"","",{"$f":"IF(K60=\"\",\"\",COUNTIF($K$7:K60,\"ﾘｽﾄ１\"))","v":""},"","","","","","","",{"$f":"IF(S60=\"\",\"\",COUNTIF($S$7:S60,\"該当２\"))","v":""},"","",{"$f":"IF(V60=\"\",\"\",COUNTIF($V$7:V60,\"該当３\"))","v":""}]
[820102002,8,{"v":201,"d":"201 "},{"v":2,"d":"02 "},{"v":2,"d":"002 "},"茨城県","水戸市","国田村","後原東，後原西",null,"","",{"$f":"IF(K61=\"\",\"\",COUNTIF($K$7:K61,\"ﾘｽﾄ１\"))","v":""},"","","","","","","",{"$f":"IF(S61=\"\",\"\",COUNTIF($S$7:S61,\"該当２\"))","v":""},"","",{"$f":"IF(V61=\"\",\"\",COUNTIF($V$7:V61,\"該当３\"))","v":""}]
[820102003,8,{"v":201,"d":"201 "},{"v":2,"d":"02 "},{"v":3,"d":"003 "},"茨城県","水戸市","国田村","南横町，北横町",null,"","",{"$f":"IF(K62=\"\",\"\",COUNTIF($K$7:K62,\"ﾘｽﾄ１\"))","v":""},"","","","","","","",{"$f":"IF(S62=\"\",\"\",COUNTIF($S$7:S62,\"該当２\"))","v":""},"","",{"$f":"IF(V62=\"\",\"\",COUNTIF($V$7:V62,\"該当３\"))","v":""}]
[820102004,8,{"v":201,"d":"201 "},{"v":2,"d":"02 "},{"v":4,"d":"004 "},"茨城県","水戸市","国田村","宮本前，宮本後",null,"","",{"$f":"IF(K63=\"\",\"\",COUNTIF($K$7:K63,\"ﾘｽﾄ１\"))","v":""},"","","","","","","",{"$f":"IF(S63=\"\",\"\",COUNTIF($S$7:S63,\"該当２\"))","v":""},"","",{"$f":"IF(V63=\"\",\"\",COUNTIF($V$7:V63,\"該当３\"))","v":""}]
[820102005,8,{"v":201,"d":"201 "},{"v":2,"d":"02 "},{"v":5,"d":"005 "},"茨城県","水戸市","国田村","田向，仲畑",null,"","",{"$f":"IF(K64=\"\",\"\",COUNTIF($K$7:K64,\"ﾘｽﾄ１\"))","v":""},"","","","","","","",{"$f":"IF(S64=\"\",\"\",COUNTIF($S$7:S64,\"該当２\"))","v":""},"","",{"$f":"IF(V64=\"\",\"\",COUNTIF($V$7:V64,\"該当３\"))","v":""}]
[820102006,8,{"v":201,"d":"201 "},{"v":2,"d":"02 "},{"v":6,"d":"006 "},"茨城県","水戸市","国田村","外の内前，外の内後",null,"","",{"$f":"IF(K65=\"\",\"\",COUNTIF($K$7:K65,\"ﾘｽﾄ１\"))","v":""},"","","","","","","",{"$f":"IF(S65=\"\",\"\",COUNTIF($S$7:S65,\"該当２\"))","v":""},"","",{"$f":"IF(V65=\"\",\"\",COUNTIF($V$7:V65,\"該当３\"))","v":""}]
[820102007,8,{"v":201,"d":"201 "},{"v":2,"d":"02 "},{"v":7,"d":"007 "},"茨城県","水戸市","国田村","柳内西",null,"","",{"$f":"IF(K66=\"\",\"\",COUNTIF($K$7:K66,\"ﾘｽﾄ１\"))","v":""},"","","","","","","",{"$f":"IF(S66=\"\",\"\",COUNTIF($S$7:S66,\"該当２\"))","v":""},"","",{"$f":"IF(V66=\"\",\"\",COUNTIF($V$7:V66,\"該当３\"))","v":""}]
[820102008,8,{"v":201,"d":"201 "},{"v":2,"d":"02 "},{"v":8,"d":"008 "},"茨城県","水戸市","国田村","水戸内西，柳内中",null,"","",{"$f":"IF(K67=\"\",\"\",COUNTIF($K$7:K67,\"ﾘｽﾄ１\"))","v":""},"","","","","","","",{"$f":"IF(S67=\"\",\"\",COUNTIF($S$7:S67,\"該当２\"))","v":""},"","",{"$f":"IF(V67=\"\",\"\",COUNTIF($V$7:V67,\"該当３\"))","v":""}]
[820102009,8,{"v":201,"d":"201 "},{"v":2,"d":"02 "},{"v":9,"d":"009 "},"茨城県","水戸市","国田村","柳内東，水戸内東",null,"","",{"$f":"IF(K68=\"\",\"\",COUNTIF($K$7:K68,\"ﾘｽﾄ１\"))","v":""},"","","","","","","",{"$f":"IF(S68=\"\",\"\",COUNTIF($S$7:S68,\"該当２\"))","v":""},"","",{"$f":"IF(V68=\"\",\"\",COUNTIF($V$7:V68,\"該当３\"))","v":""}]
[820102010,8,{"v":201,"d":"201 "},{"v":2,"d":"02 "},{"v":10,"d":"010 "},"茨城県","水戸市","国田村","沢尻",null,"","",{"$f":"IF(K69=\"\",\"\",COUNTIF($K$7:K69,\"ﾘｽﾄ１\"))","v":""},"","","","","","","",{"$f":"IF(S69=\"\",\"\",COUNTIF($S$7:S69,\"該当２\"))","v":""},"","",{"$f":"IF(V69=\"\",\"\",COUNTIF($V$7:V69,\"該当３\"))","v":""}]
[820102011,8,{"v":201,"d":"201 "},{"v":2,"d":"02 "},{"v":11,"d":"011 "},"茨城県","水戸市","国田村","阿川，泉",null,"","",{"$f":"IF(K70=\"\",\"\",COUNTIF($K$7:K70,\"ﾘｽﾄ１\"))","v":""},"","","","","","","",{"$f":"IF(S70=\"\",\"\",COUNTIF($S$7:S70,\"該当２\"))","v":""},"","",{"$f":"IF(V70=\"\",\"\",COUNTIF($V$7:V70,\"該当３\"))","v":""}]
[820102012,8,{"v":201,"d":"201 "},{"v":2,"d":"02 "},{"v":12,"d":"012 "},"茨城県","水戸市","国田村","合滝の上，根本",null,"","",{"$f":"IF(K71=\"\",\"\",COUNTIF($K$7:K71,\"ﾘｽﾄ１\"))","v":""},"","","","","","","",{"$f":"IF(S71=\"\",\"\",COUNTIF($S$7:S71,\"該当２\"))","v":""},"","",{"$f":"IF(V71=\"\",\"\",COUNTIF($V$7:V71,\"該当３\"))","v":""}]
[820102013,8,{"v":201,"d":"201 "},{"v":2,"d":"02 "},{"v":13,"d":"013 "},"茨城県","水戸市","国田村","南原",null,"","",{"$f":"IF(K72=\"\",\"\",COUNTIF($K$7:K72,\"ﾘｽﾄ１\"))","v":""},"","",{"$f":"IF(O72=\"該当１\",G72,\"\")","v":""},{"$f":"IF(O72=\"該当１\",\"ﾘｽﾄ2\",\"\")","v":""},{"$f":"IF(Q72=\"ﾘｽﾄ2\",H72,\"\")","v":""},"",{"$f":"IF(S72=\"該当２\",H72,\"\")","v":""},{"$f":"IF(S72=\"\",\"\",COUNTIF($S$7:S72,\"該当２\"))","v":""},{"$f":"IF(AND($S$2=H72,E72>0,E72<998),\"該当３\",\"\")","v":""},{"$f":"IF(V72=\"該当３\",I72,\"\")","v":""},{"$f":"IF(V72=\"\",\"\",COUNTIF($V$7:V72,\"該当３\"))","v":""}]
[820102014,8,{"v":201,"d":"201 "},{"v":2,"d":"02 "},{"v":14,"d":"014 "},"茨城県","水戸市","国田村","小原内，更正，平塚",null,{"$f":"IF(AND($C73>0,$H73=\"\"),\"ﾘｽﾄ１\",\"\")","v":""},{"$f":"IF(K73=\"ﾘｽﾄ１\",G73,\"\")","v":""},{"$f":"IF(K73=\"\",\"\",COUNTIF($K$7:K73,\"ﾘｽﾄ１\"))","v":""},{"$f":"IF(AND(D73=0,E73>0),\"同一区\",\"\")","v":""},{"$f":"IF(AND(EXACT($K$2,G73),H73>0),\"該当１\",\"\")","v":""},"","","",{"$f":"IF(AND(Q73=\"ﾘｽﾄ2\",OR(I73=0,AND(N73=\"同一区\",E73=1))),\"該当２\",\"\")","v":""},"",{"$f":"IF(S73=\"\",\"\",COUNTIF($S$7:S73,\"該当２\"))","v":""},"","",{"$f":"IF(V73=\"\",\"\",COUNTIF($V$7:V73,\"該当３\"))","v":""}]
[820102015,8,{"v":201,"d":"201 "},{"v":2,"d":"02 "},{"v":15,"d":"015 "},"茨城県","水戸市","国田村","関戸，山根",null,"","",{"$f":"IF(K74=\"\",\"\",COUNTIF($K$7:K74,\"ﾘｽﾄ１\"))","v":""},"","","","","","","",{"$f":"IF(S74=\"\",\"\",COUNTIF($S$7:S74,\"該当２\"))","v":""},"","",{"$f":"IF(V74=\"\",\"\",COUNTIF($V$7:V74,\"該当３\"))","v":""}]
[820102016,8,{"v":201,"d":"201 "},{"v":2,"d":"02 "},{"v":16,"d":"016 "},"茨城県","水戸市","国田村","圷内前，宿東，上宿",null,"","",{"$f":"IF(K75=\"\",\"\",COUNTIF($K$7:K75,\"ﾘｽﾄ１\"))","v":""},"","","","","","","",{"$f":"IF(S75=\"\",\"\",COUNTIF($S$7:S75,\"該当２\"))","v":""},"","",{"$f":"IF(V75=\"\",\"\",COUNTIF($V$7:V75,\"該当３\"))","v":""}]
[820102017,8,{"v":201,"d":"201 "},{"v":2,"d":"02 "},{"v":17,"d":"017 "},"茨城県","水戸市","国田村","西田谷一，西田谷二",null,"","",{"$f":"IF(K76=\"\",\"\",COUNTIF($K$7:K76,\"ﾘｽﾄ１\"))","v":""},"","","","","","","",{"$f":"IF(S76=\"\",\"\",COUNTIF($S$7:S76,\"該当２\"))","v":""},"","",{"$f":"IF(V76=\"\",\"\",COUNTIF($V$7:V76,\"該当３\"))","v":""}]
[820102018,8,{"v":201,"d":"201 "},{"v":2,"d":"02 "},{"v":18,"d":"018 "},"茨城県","水戸市","国田村","宮本，宿西",null,"","",{"$f":"IF(K77=\"\",\"\",COUNTIF($K$7:K77,\"ﾘｽﾄ１\"))","v":""},"","","","","","","",{"$f":"IF(S77=\"\",\"\",COUNTIF($S$7:S77,\"該当２\"))","v":""},"","",{"$f":"IF(V77=\"\",\"\",COUNTIF($V$7:V77,\"該当３\"))","v":""}]
[820103000,8,{"v":201,"d":"201 "},{"v":3,"d":"03 "},{"v":0,"d":"000 "},"茨城県","水戸市","吉田村",null,null,"","",{"$f":"IF(K78=\"\",\"\",COUNTIF($K$7:K78,\"ﾘｽﾄ１\"))","v":""},"","","","","","","",{"$f":"IF(S78=\"\",\"\",COUNTIF($S$7:S78,\"該当２\"))","v":""},"","",{"$f":"IF(V78=\"\",\"\",COUNTIF($V$7:V78,\"該当３\"))","v":""}]
[820103001,8,{"v":201,"d":"201 "},{"v":3,"d":"03 "},{"v":1,"d":"001 "},"茨城県","水戸市","吉田村","東組，西組",null,"","",{"$f":"IF(K79=\"\",\"\",COUNTIF($K$7:K79,\"ﾘｽﾄ１\"))","v":""},"","","","","","","",{"$f":"IF(S79=\"\",\"\",COUNTIF($S$7:S79,\"該当２\"))","v":""},"","",{"$f":"IF(V79=\"\",\"\",COUNTIF($V$7:V79,\"該当３\"))","v":""}]
[820103002,8,{"v":201,"d":"201 "},{"v":3,"d":"03 "},{"v":2,"d":"002 "},"茨城県","水戸市","吉田村","一本松，荒谷",null,"","",{"$f":"IF(K80=\"\",\"\",COUNTIF($K$7:K80,\"ﾘｽﾄ１\"))","v":""},"","","","","","","",{"$f":"IF(S80=\"\",\"\",COUNTIF($S$7:S80,\"該当２\"))","v":""},"","",{"$f":"IF(V80=\"\",\"\",COUNTIF($V$7:V80,\"該当３\"))","v":""}]
[820103003,8,{"v":201,"d":"201 "},{"v":3,"d":"03 "},{"v":3,"d":"003 "},"茨城県","水戸市","吉田村","同心町，大鋸町，古宿",null,"","",{"$f":"IF(K81=\"\",\"\",COUNTIF($K$7:K81,\"ﾘｽﾄ１\"))","v":""},"","","","","","","",{"$f":"IF(S81=\"\",\"\",COUNTIF($S$7:S81,\"該当２\"))","v":""},"","",{"$f":"IF(V81=\"\",\"\",COUNTIF($V$7:V81,\"該当３\"))","v":""}]
[820103004,8,{"v":201,"d":"201 "},{"v":3,"d":"03 "},{"v":4,"d":"004 "},"茨城県","水戸市","吉田村","一里塚",null,"","",{"$f":"IF(K82=\"\",\"\",COUNTIF($K$7:K82,\"ﾘｽﾄ１\"))","v":""},"","","","","","","",{"$f":"IF(S82=\"\",\"\",COUNTIF($S$7:S82,\"該当２\"))","v":""},"","",{"$f":"IF(V82=\"\",\"\",COUNTIF($V$7:V82,\"該当３\"))","v":""}]
[820103005,8,{"v":201,"d":"201 "},{"v":3,"d":"03 "},{"v":5,"d":"005 "},"茨城県","水戸市","吉田村","吉沢町",null,"","",{"$f":"IF(K83=\"\",\"\",COUNTIF($K$7:K83,\"ﾘｽﾄ１\"))","v":""},"","","","","","","",{"$f":"IF(S83=\"\",\"\",COUNTIF($S$7:S83,\"該当２\"))","v":""},"","",{"$f":"IF(V83=\"\",\"\",COUNTIF($V$7:V83,\"該当３\"))","v":""}]
[820103006,8,{"v":201,"d":"201 "},{"v":3,"d":"03 "},{"v":6,"d":"006 "},"茨城県","水戸市","吉田村","東野町",null,"","",{"$f":"IF(K84=\"\",\"\",COUNTIF($K$7:K84,\"ﾘｽﾄ１\"))","v":""},"","","","","","","",{"$f":"IF(S84=\"\",\"\",COUNTIF($S$7:S84,\"該当２\"))","v":""},"","",{"$f":"IF(V84=\"\",\"\",COUNTIF($V$7:V84,\"該当３\"))","v":""}]
[820103007,8,{"v":201,"d":"201 "},{"v":3,"d":"03 "},{"v":7,"d":"007 "},"茨城県","水戸市","吉田村","米沢町",null,"","",{"$f":"IF(K85=\"\",\"\",COUNTIF($K$7:K85,\"ﾘｽﾄ１\"))","v":""},"","","","","","","",{"$f":"IF(S85=\"\",\"\",COUNTIF($S$7:S85,\"該当２\"))","v":""},"","",{"$f":"IF(V85=\"\",\"\",COUNTIF($V$7:V85,\"該当３\"))","v":""}]
[820103008,8,{"v":201,"d":"201 "},{"v":3,"d":"03 "},{"v":8,"d":"008 "},"茨城県","水戸市","吉田村","住吉町",null,"","",{"$f":"IF(K86=\"\",\"\",COUNTIF($K$7:K86,\"ﾘｽﾄ１\"))","v":""},"","","","","","","",{"$f":"IF(S86=\"\",\"\",COUNTIF($S$7:S86,\"該当２\"))","v":""},"","",{"$f":"IF(V86=\"\",\"\",COUNTIF($V$7:V86,\"該当３\"))","v":""}]
[820104000,8,{"v":201,"d":"201 "},{"v":4,"d":"04 "},{"v":0,"d":"000 "},"茨城県","水戸市","酒門村２－１",null,null,"","",{"$f":"IF(K87=\"\",\"\",COUNTIF($K$7:K87,\"ﾘｽﾄ１\"))","v":""},"","","","","","","",{"$f":"IF(S87=\"\",\"\",COUNTIF($S$7:S87,\"該当２\"))","v":""},"","",{"$f":"IF(V87=\"\",\"\",COUNTIF($V$7:V87,\"該当３\"))","v":""}]
[820104001,8,{"v":201,"d":"201 "},{"v":4,"d":"04 "},{"v":1,"d":"001 "},"茨城県","水戸市","酒門村２－１","大和田",null,"","",{"$f":"IF(K88=\"\",\"\",COUNTIF($K$7:K88,\"ﾘｽﾄ１\"))","v":""},"","","","","","","",{"$f":"IF(S88=\"\",\"\",COUNTIF($S$7:S88,\"該当２\"))","v":""},"","",{"$f":"IF(V88=\"\",\"\",COUNTIF($V$7:V88,\"該当３\"))","v":""}]
[820104002,8,{"v":201,"d":"201 "},{"v":4,"d":"04 "},{"v":2,"d":"002 "},"茨城県","水戸市","酒門村２－１","千束",null,"","",{"$f":"IF(K89=\"\",\"\",COUNTIF($K$7:K89,\"ﾘｽﾄ１\"))","v":""},"","","","","","","",{"$f":"IF(S89=\"\",\"\",COUNTIF($S$7:S89,\"該当２\"))","v":""},"","",{"$f":"IF(V89=\"\",\"\",COUNTIF($V$7:V89,\"該当３\"))","v":""}]
[820104003,8,{"v":201,"d":"201 "},{"v":4,"d":"04 "},{"v":3,"d":"003 "},"茨城県","水戸市","酒門村２－１","酒門",null,"","",{"$f":"IF(K90=\"\",\"\",COUNTIF($K$7:K90,\"ﾘｽﾄ１\"))","v":""},"","","","","","","",{"$f":"IF(S90=\"\",\"\",COUNTIF($S$7:S90,\"該当２\"))","v":""},"","",{"$f":"IF(V90=\"\",\"\",COUNTIF($V$7:V90,\"該当３\"))","v":""}]
[820104004,8,{"v":201,"d":"201 "},{"v":4,"d":"04 "},{"v":4,"d":"004 "},"茨城県","水戸市","酒門村２－１","羅漢",null,"","",{"$f":"IF(K91=\"\",\"\",COUNTIF($K$7:K91,\"ﾘｽﾄ１\"))","v":""},"","","","","","","",{"$f":"IF(S91=\"\",\"\",COUNTIF($S$7:S91,\"該当２\"))","v":""},"","",{"$f":"IF(V91=\"\",\"\",COUNTIF($V$7:V91,\"該当３\"))","v":""}]
[820104005,8,{"v":201,"d":"201 "},{"v":4,"d":"04 "},{"v":5,"d":"005 "},"茨城県","水戸市","酒門村２－１","谷田",null,"","",{"$f":"IF(K92=\"\",\"\",COUNTIF($K$7:K92,\"ﾘｽﾄ１\"))","v":""},"","","","","","","",{"$f":"IF(S92=\"\",\"\",COUNTIF($S$7:S92,\"該当２\"))","v":""},"","",{"$f":"IF(V92=\"\",\"\",COUNTIF($V$7:V92,\"該当３\"))","v":""}]
[820104006,8,{"v":201,"d":"201 "},{"v":4,"d":"04 "},{"v":6,"d":"006 "},"茨城県","水戸市","酒門村２－１","谷田組",null,"","",{"$f":"IF(K93=\"\",\"\",COUNTIF($K$7:K93,\"ﾘｽﾄ１\"))","v":""},"","","","","","","",{"$f":"IF(S93=\"\",\"\",COUNTIF($S$7:S93,\"該当２\"))","v":""},"","",{"$f":"IF(V93=\"\",\"\",COUNTIF($V$7:V93,\"該当３\"))","v":""}]
[820104007,8,{"v":201,"d":"201 "},{"v":4,"d":"04 "},{"v":7,"d":"007 "},"茨城県","水戸市","酒門村２－１","石川",null,"","",{"$f":"IF(K94=\"\",\"\",COUNTIF($K$7:K94,\"ﾘｽﾄ１\"))","v":""},"","","","","","","",{"$f":"IF(S94=\"\",\"\",COUNTIF($S$7:S94,\"該当２\"))","v":""},"","",{"$f":"IF(V94=\"\",\"\",COUNTIF($V$7:V94,\"該当３\"))","v":""}]
[820104008,8,{"v":201,"d":"201 "},{"v":4,"d":"04 "},{"v":8,"d":"008 "},"茨城県","水戸市","酒門村２－１","西割",null,"","",{"$f":"IF(K95=\"\",\"\",COUNTIF($K$7:K95,\"ﾘｽﾄ１\"))","v":""},"","","","","","","",{"$f":"IF(S95=\"\",\"\",COUNTIF($S$7:S95,\"該当２\"))","v":""},"","",{"$f":"IF(V95=\"\",\"\",COUNTIF($V$7:V95,\"該当３\"))","v":""}]
[820105000,8,{"v":201,"d":"201 "},{"v":5,"d":"05 "},{"v":0,"d":"000 "},"茨城県","水戸市","柳河村",null,null,"","",{"$f":"IF(K96=\"\",\"\",COUNTIF($K$7:K96,\"ﾘｽﾄ１\"))","v":""},"","","","","","","",{"$f":"IF(S96=\"\",\"\",COUNTIF($S$7:S96,\"該当２\"))","v":""},"","",{"$f":"IF(V96=\"\",\"\",COUNTIF($V$7:V96,\"該当３\"))","v":""}]
[820105001,8,{"v":201,"d":"201 "},{"v":5,"d":"05 "},{"v":1,"d":"001 "},"茨城県","水戸市","柳河村","上河内町",null,"","",{"$f":"IF(K97=\"\",\"\",COUNTIF($K$7:K97,\"ﾘｽﾄ１\"))","v":""},"","","","","","","",{"$f":"IF(S97=\"\",\"\",COUNTIF($S$7:S97,\"該当２\"))","v":""},"","",{"$f":"IF(V97=\"\",\"\",COUNTIF($V$7:V97,\"該当３\"))","v":""}]
[820105002,8,{"v":201,"d":"201 "},{"v":5,"d":"05 "},{"v":2,"d":"002 "},"茨城県","水戸市","柳河村","中河内町",null,"","",{"$f":"IF(K98=\"\",\"\",COUNTIF($K$7:K98,\"ﾘｽﾄ１\"))","v":""},"","","","","","","",{"$f":"IF(S98=\"\",\"\",COUNTIF($S$7:S98,\"該当２\"))","v":""},"","",{"$f":"IF(V98=\"\",\"\",COUNTIF($V$7:V98,\"該当３\"))","v":""}]
[820105003,8,{"v":201,"d":"201 "},{"v":5,"d":"05 "},{"v":3,"d":"003 "},"茨城県","水戸市","柳河村","柳河町",null,"","",{"$f":"IF(K99=\"\",\"\",COUNTIF($K$7:K99,\"ﾘｽﾄ１\"))","v":""},"","","","","","","",{"$f":"IF(S99=\"\",\"\",COUNTIF($S$7:S99,\"該当２\"))","v":""},"","",{"$f":"IF(V99=\"\",\"\",COUNTIF($V$7:V99,\"該当３\"))","v":""}]
[820105004,8,{"v":201,"d":"201 "},{"v":5,"d":"05 "},{"v":4,"d":"004 "},"茨城県","水戸市","柳河村","青柳町",null,"","",{"$f":"IF(K100=\"\",\"\",COUNTIF($K$7:K100,\"ﾘｽﾄ１\"))","v":""},"","","","","","","",{"$f":"IF(S100=\"\",\"\",COUNTIF($S$7:S100,\"該当２\"))","v":""},"","",{"$f":"IF(V100=\"\",\"\",COUNTIF($V$7:V100,\"該当３\"))","v":""}]
[820106000,8,{"v":201,"d":"201 "},{"v":6,"d":"06 "},{"v":0,"d":"000 "},"茨城県","水戸市","渡里村",null,null,"","",{"$f":"IF(K101=\"\",\"\",COUNTIF($K$7:K101,\"ﾘｽﾄ１\"))","v":""},"","","","","","","",{"$f":"IF(S101=\"\",\"\",COUNTIF($S$7:S101,\"該当２\"))","v":""},"","",{"$f":"IF(V101=\"\",\"\",COUNTIF($V$7:V101,\"該当３\"))","v":""}]
[820106001,8,{"v":201,"d":"201 "},{"v":6,"d":"06 "},{"v":1,"d":"001 "},"茨城県","水戸市","渡里村","圷渡里",null,"","",{"$f":"IF(K102=\"\",\"\",COUNTIF($K$7:K102,\"ﾘｽﾄ１\"))","v":""},"","","","","","","",{"$f":"IF(S102=\"\",\"\",COUNTIF($S$7:S102,\"該当２\"))","v":""},"","",{"$f":"IF(V102=\"\",\"\",COUNTIF($V$7:V102,\"該当３\"))","v":""}]
[820106002,8,{"v":201,"d":"201 "},{"v":6,"d":"06 "},{"v":2,"d":"002 "},"茨城県","水戸市","渡里村","台渡里",null,"","",{"$f":"IF(K103=\"\",\"\",COUNTIF($K$7:K103,\"ﾘｽﾄ１\"))","v":""},"","","","","","","",{"$f":"IF(S103=\"\",\"\",COUNTIF($S$7:S103,\"該当２\"))","v":""},"","",{"$f":"IF(V103=\"\",\"\",COUNTIF($V$7:V103,\"該当３\"))","v":""}]
[820106003,8,{"v":201,"d":"201 "},{"v":6,"d":"06 "},{"v":3,"d":"003 "},"茨城県","水戸市","渡里村","堀町",null,"","",{"$f":"IF(K104=\"\",\"\",COUNTIF($K$7:K104,\"ﾘｽﾄ１\"))","v":""},"","","","","","","",{"$f":"IF(S104=\"\",\"\",COUNTIF($S$7:S104,\"該当２\"))","v":""},"","",{"$f":"IF(V104=\"\",\"\",COUNTIF($V$7:V104,\"該当３\"))","v":""}]
[820106004,8,{"v":201,"d":"201 "},{"v":6,"d":"06 "},{"v":4,"d":"004 "},"茨城県","水戸市","渡里村","田野町",null,"","",{"$f":"IF(K105=\"\",\"\",COUNTIF($K$7:K105,\"ﾘｽﾄ１\"))","v":""},"","","","","","","",{"$f":"IF(S105=\"\",\"\",COUNTIF($S$7:S105,\"該当２\"))","v":""},"","",{"$f":"IF(V105=\"\",\"\",COUNTIF($V$7:V105,\"該当３\"))","v":""}]
[820106005,8,{"v":201,"d":"201 "},{"v":6,"d":"06 "},{"v":5,"d":"005 "},"茨城県","水戸市","渡里村","錦",null,"","",{"$f":"IF(K106=\"\",\"\",COUNTIF($K$7:K106,\"ﾘｽﾄ１\"))","v":""},"","","","","","","",{"$f":"IF(S106=\"\",\"\",COUNTIF($S$7:S106,\"該当２\"))","v":""},"","",{"$f":"IF(V106=\"\",\"\",COUNTIF($V$7:V106,\"該当３\"))","v":""}]
[820106006,8,{"v":201,"d":"201 "},{"v":6,"d":"06 "},{"v":6,"d":"006 "},"茨城県","水戸市","渡里村","堀町の高野下，野田原",null,"","",{"$f":"IF(K107=\"\",\"\",COUNTIF($K$7:K107,\"ﾘｽﾄ１\"))","v":""},"","","","","","","",{"$f":"IF(S107=\"\",\"\",COUNTIF($S$7:S107,\"該当２\"))","v":""},"","",{"$f":"IF(V107=\"\",\"\",COUNTIF($V$7:V107,\"該当３\"))","v":""}]
[820107000,8,{"v":201,"d":"201 "},{"v":7,"d":"07 "},{"v":0,"d":"000 "},"茨城県","水戸市","上大野村",null,null,"","",{"$f":"IF(K108=\"\",\"\",COUNTIF($K$7:K108,\"ﾘｽﾄ１\"))","v":""},"","","","","","","",{"$f":"IF(S108=\"\",\"\",COUNTIF($S$7:S108,\"該当２\"))","v":""},"","",{"$f":"IF(V108=\"\",\"\",COUNTIF($V$7:V108,\"該当３\"))","v":""}]
[820107001,8,{"v":201,"d":"201 "},{"v":7,"d":"07 "},{"v":1,"d":"001 "},"茨城県","水戸市","上大野村","吉沼町",null,"","",{"$f":"IF(K109=\"\",\"\",COUNTIF($K$7:K109,\"ﾘｽﾄ１\"))","v":""},"","","","","","","",{"$f":"IF(S109=\"\",\"\",COUNTIF($S$7:S109,\"該当２\"))","v":""},"","",{"$f":"IF(V109=\"\",\"\",COUNTIF($V$7:V109,\"該当３\"))","v":""}]
[820107002,8,{"v":201,"d":"201 "},{"v":7,"d":"07 "},{"v":2,"d":"002 "},"茨城県","水戸市","上大野村","渋井町",null,"","",{"$f":"IF(K110=\"\",\"\",COUNTIF($K$7:K110,\"ﾘｽﾄ１\"))","v":""},"","","","","","","",{"$f":"IF(S110=\"\",\"\",COUNTIF($S$7:S110,\"該当２\"))","v":""},"","",{"$f":"IF(V110=\"\",\"\",COUNTIF($V$7:V110,\"該当３\"))","v":""}]
[820107003,8,{"v":201,"d":"201 "},{"v":7,"d":"07 "},{"v":3,"d":"003 "},"茨城県","水戸市","上大野村","東大野",null,"","",{"$f":"IF(K111=\"\",\"\",COUNTIF($K$7:K111,\"ﾘｽﾄ１\"))","v":""},"","","","","","","",{"$f":"IF(S111=\"\",\"\",COUNTIF($S$7:S111,\"該当２\"))","v":""},"","",{"$f":"IF(V111=\"\",\"\",COUNTIF($V$7:V111,\"該当３\"))","v":""}]
[820107004,8,{"v":201,"d":"201 "},{"v":7,"d":"07 "},{"v":4,"d":"004 "},"茨城県","水戸市","上大野村","西大野",null,"","",{"$f":"IF(K112=\"\",\"\",COUNTIF($K$7:K112,\"ﾘｽﾄ１\"))","v":""},"","","","","","","",{"$f":"IF(S112=\"\",\"\",COUNTIF($S$7:S112,\"該当２\"))","v":""},"","",{"$f":"IF(V112=\"\",\"\",COUNTIF($V$7:V112,\"該当３\"))","v":""}]
[820107005,8,{"v":201,"d":"201 "},{"v":7,"d":"07 "},{"v":5,"d":"005 "},"茨城県","水戸市","上大野村","圷大野",null,"","",{"$f":"IF(K113=\"\",\"\",COUNTIF($K$7:K113,\"ﾘｽﾄ１\"))","v":""},"","","","","","","",{"$f":"IF(S113=\"\",\"\",COUNTIF($S$7:S113,\"該当２\"))","v":""},"","",{"$f":"IF(V113=\"\",\"\",COUNTIF($V$7:V113,\"該当３\"))","v":""}]
[820107006,8,{"v":201,"d":"201 "},{"v":7,"d":"07 "},{"v":6,"d":"006 "},"茨城県","水戸市","上大野村","中大野",null,"","",{"$f":"IF(K114=\"\",\"\",COUNTIF($K$7:K114,\"ﾘｽﾄ１\"))","v":""},"","","","","","","",{"$f":"IF(S114=\"\",\"\",COUNTIF($S$7:S114,\"該当２\"))","v":""},"","",{"$f":"IF(V114=\"\",\"\",COUNTIF($V$7:V114,\"該当３\"))","v":""}]
[820108000,8,{"v":201,"d":"201 "},{"v":8,"d":"08 "},{"v":0,"d":"000 "},"茨城県","水戸市","緑岡村",null,null,"","",{"$f":"IF(K115=\"\",\"\",COUNTIF($K$7:K115,\"ﾘｽﾄ１\"))","v":""},"","","","","","","",{"$f":"IF(S115=\"\",\"\",COUNTIF($S$7:S115,\"該当２\"))","v":""},"","",{"$f":"IF(V115=\"\",\"\",COUNTIF($V$7:V115,\"該当３\"))","v":""}]
[820108001,8,{"v":201,"d":"201 "},{"v":8,"d":"08 "},{"v":1,"d":"001 "},"茨城県","水戸市","緑岡村","舟付",null,"","",{"$f":"IF(K116=\"\",\"\",COUNTIF($K$7:K116,\"ﾘｽﾄ１\"))","v":""},"","","","","","","",{"$f":"IF(S116=\"\",\"\",COUNTIF($S$7:S116,\"該当２\"))","v":""},"","",{"$f":"IF(V116=\"\",\"\",COUNTIF($V$7:V116,\"該当３\"))","v":""}]
[820108002,8,{"v":201,"d":"201 "},{"v":8,"d":"08 "},{"v":2,"d":"002 "},"茨城県","水戸市","緑岡村","払沢，福沢",null,"","",{"$f":"IF(K117=\"\",\"\",COUNTIF($K$7:K117,\"ﾘｽﾄ１\"))","v":""},"","","","","","","",{"$f":"IF(S117=\"\",\"\",COUNTIF($S$7:S117,\"該当２\"))","v":""},"","",{"$f":"IF(V117=\"\",\"\",COUNTIF($V$7:V117,\"該当３\"))","v":""}]
[820108003,8,{"v":201,"d":"201 "},{"v":8,"d":"08 "},{"v":3,"d":"003 "},"茨城県","水戸市","緑岡村","下本郷，南台",null,"","",{"$f":"IF(K118=\"\",\"\",COUNTIF($K$7:K118,\"ﾘｽﾄ１\"))","v":""},"","","","","","","",{"$f":"IF(S118=\"\",\"\",COUNTIF($S$7:S118,\"該当２\"))","v":""},"","",{"$f":"IF(V118=\"\",\"\",COUNTIF($V$7:V118,\"該当３\"))","v":""}]
[820108004,8,{"v":201,"d":"201 "},{"v":8,"d":"08 "},{"v":4,"d":"004 "},"茨城県","水戸市","緑岡村","千波原，御茶園",null,"","",{"$f":"IF(K119=\"\",\"\",COUNTIF($K$7:K119,\"ﾘｽﾄ１\"))","v":""},"","","","","","","",{"$f":"IF(S119=\"\",\"\",COUNTIF($S$7:S119,\"該当２\"))","v":""},"","",{"$f":"IF(V119=\"\",\"\",COUNTIF($V$7:V119,\"該当３\"))","v":""}]
[820108005,8,{"v":201,"d":"201 "},{"v":8,"d":"08 "},{"v":5,"d":"005 "},"茨城県","水戸市","緑岡村","上本郷，東",null,"","",{"$f":"IF(K120=\"\",\"\",COUNTIF($K$7:K120,\"ﾘｽﾄ１\"))","v":""},"","","","","","","",{"$f":"IF(S120=\"\",\"\",COUNTIF($S$7:S120,\"該当２\"))","v":""},"","",{"$f":"IF(V120=\"\",\"\",COUNTIF($V$7:V120,\"該当３\"))","v":""}]
[820108006,8,{"v":201,"d":"201 "},{"v":8,"d":"08 "},{"v":6,"d":"006 "},"茨城県","水戸市","緑岡村","冨沢，十一軒",null,"","",{"$f":"IF(K121=\"\",\"\",COUNTIF($K$7:K121,\"ﾘｽﾄ１\"))","v":""},"","","","","","","",{"$f":"IF(S121=\"\",\"\",COUNTIF($S$7:S121,\"該当２\"))","v":""},"","",{"$f":"IF(V121=\"\",\"\",COUNTIF($V$7:V121,\"該当３\"))","v":""}]
[820108007,8,{"v":201,"d":"201 "},{"v":8,"d":"08 "},{"v":7,"d":"007 "},"茨城県","水戸市","緑岡村","中山，北葉山",null,"","",{"$f":"IF(K122=\"\",\"\",COUNTIF($K$7:K122,\"ﾘｽﾄ１\"))","v":""},"","","","","","","",{"$f":"IF(S122=\"\",\"\",COUNTIF($S$7:S122,\"該当２\"))","v":""},"","",{"$f":"IF(V122=\"\",\"\",COUNTIF($V$7:V122,\"該当３\"))","v":""}]
[820108008,8,{"v":201,"d":"201 "},{"v":8,"d":"08 "},{"v":8,"d":"008 "},"茨城県","水戸市","緑岡村","下干波",null,"","",{"$f":"IF(K123=\"\",\"\",COUNTIF($K$7:K123,\"ﾘｽﾄ１\"))","v":""},"","","","","","","",{"$f":"IF(S123=\"\",\"\",COUNTIF($S$7:S123,\"該当２\"))","v":""},"","",{"$f":"IF(V123=\"\",\"\",COUNTIF($V$7:V123,\"該当３\"))","v":""}]
[820108009,8,{"v":201,"d":"201 "},{"v":8,"d":"08 "},{"v":9,"d":"009 "},"茨城県","水戸市","緑岡村","笠原",null,"","",{"$f":"IF(K124=\"\",\"\",COUNTIF($K$7:K124,\"ﾘｽﾄ１\"))","v":""},"","","","","","","",{"$f":"IF(S124=\"\",\"\",COUNTIF($S$7:S124,\"該当２\"))","v":""},"","",{"$f":"IF(V124=\"\",\"\",COUNTIF($V$7:V124,\"該当３\"))","v":""}]
[820108010,8,{"v":201,"d":"201 "},{"v":8,"d":"08 "},{"v":10,"d":"010 "},"茨城県","水戸市","緑岡村","第一開拓",null,"","",{"$f":"IF(K125=\"\",\"\",COUNTIF($K$7:K125,\"ﾘｽﾄ１\"))","v":""},"","","","","","","",{"$f":"IF(S125=\"\",\"\",COUNTIF($S$7:S125,\"該当２\"))","v":""},"","",{"$f":"IF(V125=\"\",\"\",COUNTIF($V$7:V125,\"該当３\"))","v":""}]
[820108011,8,{"v":201,"d":"201 "},{"v":8,"d":"08 "},{"v":11,"d":"011 "},"茨城県","水戸市","緑岡村","第二開拓",null,"","",{"$f":"IF(K126=\"\",\"\",COUNTIF($K$7:K126,\"ﾘｽﾄ１\"))","v":""},"","","","","","","",{"$f":"IF(S126=\"\",\"\",COUNTIF($S$7:S126,\"該当２\"))","v":""},"","",{"$f":"IF(V126=\"\",\"\",COUNTIF($V$7:V126,\"該当３\"))","v":""}]
[820108012,8,{"v":201,"d":"201 "},{"v":8,"d":"08 "},{"v":12,"d":"012 "},"茨城県","水戸市","緑岡村","原，新田",null,"","",{"$f":"IF(K127=\"\",\"\",COUNTIF($K$7:K127,\"ﾘｽﾄ１\"))","v":""},"","","","","","","",{"$f":"IF(S127=\"\",\"\",COUNTIF($S$7:S127,\"該当２\"))","v":""},"","",{"$f":"IF(V127=\"\",\"\",COUNTIF($V$7:V127,\"該当３\"))","v":""}]
[820108013,8,{"v":201,"d":"201 "},{"v":8,"d":"08 "},{"v":13,"d":"013 "},"茨城県","水戸市","緑岡村","檜木山，上坪，表原",null,"","",{"$f":"IF(K128=\"\",\"\",COUNTIF($K$7:K128,\"ﾘｽﾄ１\"))","v":""},"","","","","","","",{"$f":"IF(S128=\"\",\"\",COUNTIF($S$7:S128,\"該当２\"))","v":""},"","",{"$f":"IF(V128=\"\",\"\",COUNTIF($V$7:V128,\"該当３\"))","v":""}]
[820108014,8,{"v":201,"d":"201 "},{"v":8,"d":"08 "},{"v":14,"d":"014 "},"茨城県","水戸市","緑岡村","檜木山，中部",null,"","",{"$f":"IF(K129=\"\",\"\",COUNTIF($K$7:K129,\"ﾘｽﾄ１\"))","v":""},"","","","","","","",{"$f":"IF(S129=\"\",\"\",COUNTIF($S$7:S129,\"該当２\"))","v":""},"","",{"$f":"IF(V129=\"\",\"\",COUNTIF($V$7:V129,\"該当３\"))","v":""}]
[820108015,8,{"v":201,"d":"201 "},{"v":8,"d":"08 "},{"v":15,"d":"015 "},"茨城県","水戸市","緑岡村","東，山中",null,"","",{"$f":"IF(K130=\"\",\"\",COUNTIF($K$7:K130,\"ﾘｽﾄ１\"))","v":""},"","","","","","","",{"$f":"IF(S130=\"\",\"\",COUNTIF($S$7:S130,\"該当２\"))","v":""},"","",{"$f":"IF(V130=\"\",\"\",COUNTIF($V$7:V130,\"該当３\"))","v":""}]
[820108016,8,{"v":201,"d":"201 "},{"v":8,"d":"08 "},{"v":16,"d":"016 "},"茨城県","水戸市","緑岡村","田向井",null,"","",{"$f":"IF(K131=\"\",\"\",COUNTIF($K$7:K131,\"ﾘｽﾄ１\"))","v":""},"","","","","","","",{"$f":"IF(S131=\"\",\"\",COUNTIF($S$7:S131,\"該当２\"))","v":""},"","",{"$f":"IF(V131=\"\",\"\",COUNTIF($V$7:V131,\"該当３\"))","v":""}]
[820108017,8,{"v":201,"d":"201 "},{"v":8,"d":"08 "},{"v":17,"d":"017 "},"茨城県","水戸市","緑岡村","向井",null,"","",{"$f":"IF(K132=\"\",\"\",COUNTIF($K$7:K132,\"ﾘｽﾄ１\"))","v":""},"","","","","","","",{"$f":"IF(S132=\"\",\"\",COUNTIF($S$7:S132,\"該当２\"))","v":""},"","",{"$f":"IF(V132=\"\",\"\",COUNTIF($V$7:V132,\"該当３\"))","v":""}]
[820108018,8,{"v":201,"d":"201 "},{"v":8,"d":"08 "},{"v":18,"d":"018 "},"茨城県","水戸市","緑岡村","小吹",null,"","",{"$f":"IF(K133=\"\",\"\",COUNTIF($K$7:K133,\"ﾘｽﾄ１\"))","v":""},"","","","","","","",{"$f":"IF(S133=\"\",\"\",COUNTIF($S$7:S133,\"該当２\"))","v":""},"","",{"$f":"IF(V133=\"\",\"\",COUNTIF($V$7:V133,\"該当３\"))","v":""}]
[820108019,8,{"v":201,"d":"201 "},{"v":8,"d":"08 "},{"v":19,"d":"019 "},"茨城県","水戸市","緑岡村","水源",null,"","",{"$f":"IF(K134=\"\",\"\",COUNTIF($K$7:K134,\"ﾘｽﾄ１\"))","v":""},"","","","","","","",{"$f":"IF(S134=\"\",\"\",COUNTIF($S$7:S134,\"該当２\"))","v":""},"","",{"$f":"IF(V134=\"\",\"\",COUNTIF($V$7:V134,\"該当３\"))","v":""}]
[820108020,8,{"v":201,"d":"201 "},{"v":8,"d":"08 "},{"v":20,"d":"020 "},"茨城県","水戸市","緑岡村","見川町",null,"","",{"$f":"IF(K135=\"\",\"\",COUNTIF($K$7:K135,\"ﾘｽﾄ１\"))","v":""},"","","","","","","",{"$f":"IF(S135=\"\",\"\",COUNTIF($S$7:S135,\"該当２\"))","v":""},"","",{"$f":"IF(V135=\"\",\"\",COUNTIF($V$7:V135,\"該当３\"))","v":""}]
[820108021,8,{"v":201,"d":"201 "},{"v":8,"d":"08 "},{"v":21,"d":"021 "},"茨城県","水戸市","緑岡村","丹下",null,"","",{"$f":"IF(K136=\"\",\"\",COUNTIF($K$7:K136,\"ﾘｽﾄ１\"))","v":""},"","",{"$f":"IF(O136=\"該当１\",G136,\"\")","v":""},{"$f":"IF(O136=\"該当１\",\"ﾘｽﾄ2\",\"\")","v":""},{"$f":"IF(Q136=\"ﾘｽﾄ2\",H136,\"\")","v":""},"",{"$f":"IF(S136=\"該当２\",H136,\"\")","v":""},{"$f":"IF(S136=\"\",\"\",COUNTIF($S$7:S136,\"該当２\"))","v":""},{"$f":"IF(AND($S$2=H136,E136>0,E136<998),\"該当３\",\"\")","v":""},{"$f":"IF(V136=\"該当３\",I136,\"\")","v":""},{"$f":"IF(V136=\"\",\"\",COUNTIF($V$7:V136,\"該当３\"))","v":""}]
[820108022,8,{"v":201,"d":"201 "},{"v":8,"d":"08 "},{"v":22,"d":"022 "},"茨城県","水戸市","緑岡村","裡見和",null,{"$f":"IF(AND($C137>0,$H137=\"\"),\"ﾘｽﾄ１\",\"\")","v":""},{"$f":"IF(K137=\"ﾘｽﾄ１\",G137,\"\")","v":""},{"$f":"IF(K137=\"\",\"\",COUNTIF($K$7:K137,\"ﾘｽﾄ１\"))","v":""},{"$f":"IF(AND(D137=0,E137>0),\"同一区\",\"\")","v":""},{"$f":"IF(AND(EXACT($K$2,G137),H137>0),\"該当１\",\"\")","v":""},"","","",{"$f":"IF(AND(Q137=\"ﾘｽﾄ2\",OR(I137=0,AND(N137=\"同一区\",E137=1))),\"該当２\",\"\")","v":""},"",{"$f":"IF(S137=\"\",\"\",COUNTIF($S$7:S137,\"該当２\"))","v":""},"","",{"$f":"IF(V137=\"\",\"\",COUNTIF($V$7:V137,\"該当３\"))","v":""}]
[820108023,8,{"v":201,"d":"201 "},{"v":8,"d":"08 "},{"v":23,"d":"023 "},"茨城県","水戸市","緑岡村","表見和",null,"","",{"$f":"IF(K138=\"\",\"\",COUNTIF($K$7:K138,\"ﾘｽﾄ１\"))","v":""},"","","","","","","",{"$f":"IF(S138=\"\",\"\",COUNTIF($S$7:S138,\"該当２\"))","v":""},"","",{"$f":"IF(V138=\"\",\"\",COUNTIF($V$7:V138,\"該当３\"))","v":""}]
[820109000,8,{"v":201,"d":"201 "},{"v":9,"d":"09 "},{"v":0,"d":"000 "},"茨城県","水戸市","飯富村",null,null,"","",{"$f":"IF(K139=\"\",\"\",COUNTIF($K$7:K139,\"ﾘｽﾄ１\"))","v":""},"","","","","","","",{"$f":"IF(S139=\"\",\"\",COUNTIF($S$7:S139,\"該当２\"))","v":""},"","",{"$f":"IF(V139=\"\",\"\",COUNTIF($V$7:V139,\"該当３\"))","v":""}]
[820109001,8,{"v":201,"d":"201 "},{"v":9,"d":"09 "},{"v":1,"d":"001 "},"茨城県","水戸市","飯富村","藤井町",null,"","",{"$f":"IF(K140=\"\",\"\",COUNTIF($K$7:K140,\"ﾘｽﾄ１\"))","v":""},"","","","","","","",{"$f":"IF(S140=\"\",\"\",COUNTIF($S$7:S140,\"該当２\"))","v":""},"","",{"$f":"IF(V140=\"\",\"\",COUNTIF($V$7:V140,\"該当３\"))","v":""}]
[820109002,8,{"v":201,"d":"201 "},{"v":9,"d":"09 "},{"v":2,"d":"002 "},"茨城県","水戸市","飯富村","岩根町",null,"","",{"$f":"IF(K141=\"\",\"\",COUNTIF($K$7:K141,\"ﾘｽﾄ１\"))","v":""},"","","","","","","",{"$f":"IF(S141=\"\",\"\",COUNTIF($S$7:S141,\"該当２\"))","v":""},"","",{"$f":"IF(V141=\"\",\"\",COUNTIF($V$7:V141,\"該当３\"))","v":""}]
[820109003,8,{"v":201,"d":"201 "},{"v":9,"d":"09 "},{"v":3,"d":"003 "},"茨城県","水戸市","飯富村","上合，塙",null,"","",{"$f":"IF(K142=\"\",\"\",COUNTIF($K$7:K142,\"ﾘｽﾄ１\"))","v":""},"","","","","","","",{"$f":"IF(S142=\"\",\"\",COUNTIF($S$7:S142,\"該当２\"))","v":""},"","",{"$f":"IF(V142=\"\",\"\",COUNTIF($V$7:V142,\"該当３\"))","v":""}]
[820109004,8,{"v":201,"d":"201 "},{"v":9,"d":"09 "},{"v":4,"d":"004 "},"茨城県","水戸市","飯富村","飯富町上",null,"","",{"$f":"IF(K143=\"\",\"\",COUNTIF($K$7:K143,\"ﾘｽﾄ１\"))","v":""},"","","","","","","",{"$f":"IF(S143=\"\",\"\",COUNTIF($S$7:S143,\"該当２\"))","v":""},"","",{"$f":"IF(V143=\"\",\"\",COUNTIF($V$7:V143,\"該当３\"))","v":""}]
[820109005,8,{"v":201,"d":"201 "},{"v":9,"d":"09 "},{"v":5,"d":"005 "},"茨城県","水戸市","飯富村","睦南，睦北，安戸星",null,"","",{"$f":"IF(K144=\"\",\"\",COUNTIF($K$7:K144,\"ﾘｽﾄ１\"))","v":""},"","","","","","","",{"$f":"IF(S144=\"\",\"\",COUNTIF($S$7:S144,\"該当２\"))","v":""},"","",{"$f":"IF(V144=\"\",\"\",COUNTIF($V$7:V144,\"該当３\"))","v":""}]
[820109006,8,{"v":201,"d":"201 "},{"v":9,"d":"09 "},{"v":6,"d":"006 "},"茨城県","水戸市","飯富村","台",null,"","",{"$f":"IF(K145=\"\",\"\",COUNTIF($K$7:K145,\"ﾘｽﾄ１\"))","v":""},"","","","","","","",{"$f":"IF(S145=\"\",\"\",COUNTIF($S$7:S145,\"該当２\"))","v":""},"","",{"$f":"IF(V145=\"\",\"\",COUNTIF($V$7:V145,\"該当３\"))","v":""}]
[820109007,8,{"v":201,"d":"201 "},{"v":9,"d":"09 "},{"v":7,"d":"007 "},"茨城県","水戸市","飯富村","下宿，高根",null,"","",{"$f":"IF(K146=\"\",\"\",COUNTIF($K$7:K146,\"ﾘｽﾄ１\"))","v":""},"","","","","","","",{"$f":"IF(S146=\"\",\"\",COUNTIF($S$7:S146,\"該当２\"))","v":""},"","",{"$f":"IF(V146=\"\",\"\",COUNTIF($V$7:V146,\"該当３\"))","v":""}]
[820109008,8,{"v":201,"d":"201 "},{"v":9,"d":"09 "},{"v":8,"d":"008 "},"茨城県","水戸市","飯富村","成沢",null,"","",{"$f":"IF(K147=\"\",\"\",COUNTIF($K$7:K147,\"ﾘｽﾄ１\"))","v":""},"","","","","","","",{"$f":"IF(S147=\"\",\"\",COUNTIF($S$7:S147,\"該当２\"))","v":""},"","",{"$f":"IF(V147=\"\",\"\",COUNTIF($V$7:V147,\"該当３\"))","v":""}]
[820110000,8,{"v":201,"d":"201 "},{"v":10,"d":"10 "},{"v":0,"d":"000 "},"茨城県","水戸市","上中妻村",null,null,"","",{"$f":"IF(K148=\"\",\"\",COUNTIF($K$7:K148,\"ﾘｽﾄ１\"))","v":""},"","","","","","","",{"$f":"IF(S148=\"\",\"\",COUNTIF($S$7:S148,\"該当２\"))","v":""},"","",{"$f":"IF(V148=\"\",\"\",COUNTIF($V$7:V148,\"該当３\"))","v":""}]
[820110001,8,{"v":201,"d":"201 "},{"v":10,"d":"10 "},{"v":1,"d":"001 "},"茨城県","水戸市","上中妻村","大塚町",null,"","",{"$f":"IF(K149=\"\",\"\",COUNTIF($K$7:K149,\"ﾘｽﾄ１\"))","v":""},"","","","","","","",{"$f":"IF(S149=\"\",\"\",COUNTIF($S$7:S149,\"該当２\"))","v":""},"","",{"$f":"IF(V149=\"\",\"\",COUNTIF($V$7:V149,\"該当３\"))","v":""}]
[820110002,8,{"v":201,"d":"201 "},{"v":10,"d":"10 "},{"v":2,"d":"002 "},"茨城県","水戸市","上中妻村","加倉井町",null,"","",{"$f":"IF(K150=\"\",\"\",COUNTIF($K$7:K150,\"ﾘｽﾄ１\"))","v":""},"","","","","","","",{"$f":"IF(S150=\"\",\"\",COUNTIF($S$7:S150,\"該当２\"))","v":""},"","",{"$f":"IF(V150=\"\",\"\",COUNTIF($V$7:V150,\"該当３\"))","v":""}]
[820110003,8,{"v":201,"d":"201 "},{"v":10,"d":"10 "},{"v":3,"d":"003 "},"茨城県","水戸市","上中妻村","金谷町",null,"","",{"$f":"IF(K151=\"\",\"\",COUNTIF($K$7:K151,\"ﾘｽﾄ１\"))","v":""},"","","","","","","",{"$f":"IF(S151=\"\",\"\",COUNTIF($S$7:S151,\"該当２\"))","v":""},"","",{"$f":"IF(V151=\"\",\"\",COUNTIF($V$7:V151,\"該当３\"))","v":""}]
[820110004,8,{"v":201,"d":"201 "},{"v":10,"d":"10 "},{"v":4,"d":"004 "},"茨城県","水戸市","上中妻村","飯島町",null,"","",{"$f":"IF(K152=\"\",\"\",COUNTIF($K$7:K152,\"ﾘｽﾄ１\"))","v":""},"","","","","","","",{"$f":"IF(S152=\"\",\"\",COUNTIF($S$7:S152,\"該当２\"))","v":""},"","",{"$f":"IF(V152=\"\",\"\",COUNTIF($V$7:V152,\"該当３\"))","v":""}]
[820111000,8,{"v":201,"d":"201 "},{"v":11,"d":"11 "},{"v":0,"d":"000 "},"茨城県","水戸市","山根村",null,null,"","",{"$f":"IF(K153=\"\",\"\",COUNTIF($K$7:K153,\"ﾘｽﾄ１\"))","v":""},"","","","","","","",{"$f":"IF(S153=\"\",\"\",COUNTIF($S$7:S153,\"該当２\"))","v":""},"","",{"$f":"IF(V153=\"\",\"\",COUNTIF($V$7:V153,\"該当３\"))","v":""}]
[820111001,8,{"v":201,"d":"201 "},{"v":11,"d":"11 "},{"v":1,"d":"001 "},"茨城県","水戸市","山根村","全隈町",null,"","",{"$f":"IF(K154=\"\",\"\",COUNTIF($K$7:K154,\"ﾘｽﾄ１\"))","v":""},"","","","","","","",{"$f":"IF(S154=\"\",\"\",COUNTIF($S$7:S154,\"該当２\"))","v":""},"","",{"$f":"IF(V154=\"\",\"\",COUNTIF($V$7:V154,\"該当３\"))","v":""}]
[820111002,8,{"v":201,"d":"201 "},{"v":11,"d":"11 "},{"v":2,"d":"002 "},"茨城県","水戸市","山根村","開江町",null,"","",{"$f":"IF(K155=\"\",\"\",COUNTIF($K$7:K155,\"ﾘｽﾄ１\"))","v":""},"","","","","","","",{"$f":"IF(S155=\"\",\"\",COUNTIF($S$7:S155,\"該当２\"))","v":""},"","",{"$f":"IF(V155=\"\",\"\",COUNTIF($V$7:V155,\"該当３\"))","v":""}]
[820111003,8,{"v":201,"d":"201 "},{"v":11,"d":"11 "},{"v":3,"d":"003 "},"茨城県","水戸市","山根村","開拓",null,"","",{"$f":"IF(K156=\"\",\"\",COUNTIF($K$7:K156,\"ﾘｽﾄ１\"))","v":""},"","","","","","","",{"$f":"IF(S156=\"\",\"\",COUNTIF($S$7:S156,\"該当２\"))","v":""},"","",{"$f":"IF(V156=\"\",\"\",COUNTIF($V$7:V156,\"該当３\"))","v":""}]
[820111004,8,{"v":201,"d":"201 "},{"v":11,"d":"11 "},{"v":4,"d":"004 "},"茨城県","水戸市","山根村","谷津町",null,"","",{"$f":"IF(K157=\"\",\"\",COUNTIF($K$7:K157,\"ﾘｽﾄ１\"))","v":""},"","","","","","","",{"$f":"IF(S157=\"\",\"\",COUNTIF($S$7:S157,\"該当２\"))","v":""},"","",{"$f":"IF(V157=\"\",\"\",COUNTIF($V$7:V157,\"該当３\"))","v":""}]
[820111005,8,{"v":201,"d":"201 "},{"v":11,"d":"11 "},{"v":5,"d":"005 "},"茨城県","水戸市","山根村","木葉下",null,"","",{"$f":"IF(K158=\"\",\"\",COUNTIF($K$7:K158,\"ﾘｽﾄ１\"))","v":""},"","","","","","","",{"$f":"IF(S158=\"\",\"\",COUNTIF($S$7:S158,\"該当２\"))","v":""},"","",{"$f":"IF(V158=\"\",\"\",COUNTIF($V$7:V158,\"該当３\"))","v":""}]
[820111006,8,{"v":201,"d":"201 "},{"v":11,"d":"11 "},{"v":6,"d":"006 "},"茨城県","水戸市","山根村","前沢",null,"","",{"$f":"IF(K159=\"\",\"\",COUNTIF($K$7:K159,\"ﾘｽﾄ１\"))","v":""},"","","","","","","",{"$f":"IF(S159=\"\",\"\",COUNTIF($S$7:S159,\"該当２\"))","v":""},"","",{"$f":"IF(V159=\"\",\"\",COUNTIF($V$7:V159,\"該当３\"))","v":""}]
[820112000,8,{"v":201,"d":"201 "},{"v":12,"d":"12 "},{"v":0,"d":"000 "},"茨城県","水戸市","河和田村",null,null,"","",{"$f":"IF(K160=\"\",\"\",COUNTIF($K$7:K160,\"ﾘｽﾄ１\"))","v":""},"","","","","","","",{"$f":"IF(S160=\"\",\"\",COUNTIF($S$7:S160,\"該当２\"))","v":""},"","",{"$f":"IF(V160=\"\",\"\",COUNTIF($V$7:V160,\"該当３\"))","v":""}]
[820112001,8,{"v":201,"d":"201 "},{"v":12,"d":"12 "},{"v":1,"d":"001 "},"茨城県","水戸市","河和田村","街道端",null,"","",{"$f":"IF(K161=\"\",\"\",COUNTIF($K$7:K161,\"ﾘｽﾄ１\"))","v":""},"","","","","","","",{"$f":"IF(S161=\"\",\"\",COUNTIF($S$7:S161,\"該当２\"))","v":""},"","",{"$f":"IF(V161=\"\",\"\",COUNTIF($V$7:V161,\"該当３\"))","v":""}]
[820112002,8,{"v":201,"d":"201 "},{"v":12,"d":"12 "},{"v":2,"d":"002 "},"茨城県","水戸市","河和田村","本郷",null,"","",{"$f":"IF(K162=\"\",\"\",COUNTIF($K$7:K162,\"ﾘｽﾄ１\"))","v":""},"","","","","","","",{"$f":"IF(S162=\"\",\"\",COUNTIF($S$7:S162,\"該当２\"))","v":""},"","",{"$f":"IF(V162=\"\",\"\",COUNTIF($V$7:V162,\"該当３\"))","v":""}]
[820112003,8,{"v":201,"d":"201 "},{"v":12,"d":"12 "},{"v":3,"d":"003 "},"茨城県","水戸市","河和田村","東",null,"","",{"$f":"IF(K163=\"\",\"\",COUNTIF($K$7:K163,\"ﾘｽﾄ１\"))","v":""},"","","","","","","",{"$f":"IF(S163=\"\",\"\",COUNTIF($S$7:S163,\"該当２\"))","v":""},"","",{"$f":"IF(V163=\"\",\"\",COUNTIF($V$7:V163,\"該当３\"))","v":""}]
[820112004,8,{"v":201,"d":"201 "},{"v":12,"d":"12 "},{"v":4,"d":"004 "},"茨城県","水戸市","河和田村","丹下",null,"","",{"$f":"IF(K164=\"\",\"\",COUNTIF($K$7:K164,\"ﾘｽﾄ１\"))","v":""},"","","","","","","",{"$f":"IF(S164=\"\",\"\",COUNTIF($S$7:S164,\"該当２\"))","v":""},"","",{"$f":"IF(V164=\"\",\"\",COUNTIF($V$7:V164,\"該当３\"))","v":""}]
[820112005,8,{"v":201,"d":"201 "},{"v":12,"d":"12 "},{"v":5,"d":"005 "},"茨城県","水戸市","河和田村","報徳，相木",null,"","",{"$f":"IF(K165=\"\",\"\",COUNTIF($K$7:K165,\"ﾘｽﾄ１\"))","v":""},"","","","","","","",{"$f":"IF(S165=\"\",\"\",COUNTIF($S$7:S165,\"該当２\"))","v":""},"","",{"$f":"IF(V165=\"\",\"\",COUNTIF($V$7:V165,\"該当３\"))","v":""}]
[820112006,8,{"v":201,"d":"201 "},{"v":12,"d":"12 "},{"v":6,"d":"006 "},"茨城県","水戸市","河和田村","北赤塚",null,"","",{"$f":"IF(K166=\"\",\"\",COUNTIF($K$7:K166,\"ﾘｽﾄ１\"))","v":""},"","","","","","","",{"$f":"IF(S166=\"\",\"\",COUNTIF($S$7:S166,\"該当２\"))","v":""},"","",{"$f":"IF(V166=\"\",\"\",COUNTIF($V$7:V166,\"該当３\"))","v":""}]
[820112007,8,{"v":201,"d":"201 "},{"v":12,"d":"12 "},{"v":7,"d":"007 "},"茨城県","水戸市","河和田村","巡見",null,"","",{"$f":"IF(K167=\"\",\"\",COUNTIF($K$7:K167,\"ﾘｽﾄ１\"))","v":""},"","","","","","","",{"$f":"IF(S167=\"\",\"\",COUNTIF($S$7:S167,\"該当２\"))","v":""},"","",{"$f":"IF(V167=\"\",\"\",COUNTIF($V$7:V167,\"該当３\"))","v":""}]
[820112008,8,{"v":201,"d":"201 "},{"v":12,"d":"12 "},{"v":8,"d":"008 "},"茨城県","水戸市","河和田村","共栄中丸",null,"","",{"$f":"IF(K168=\"\",\"\",COUNTIF($K$7:K168,\"ﾘｽﾄ１\"))","v":""},"","","","","","","",{"$f":"IF(S168=\"\",\"\",COUNTIF($S$7:S168,\"該当２\"))","v":""},"","",{"$f":"IF(V168=\"\",\"\",COUNTIF($V$7:V168,\"該当３\"))","v":""}]
[820112009,8,{"v":201,"d":"201 "},{"v":12,"d":"12 "},{"v":9,"d":"009 "},"茨城県","水戸市","河和田村","赤塚",null,"","",{"$f":"IF(K169=\"\",\"\",COUNTIF($K$7:K169,\"ﾘｽﾄ１\"))","v":""},"","","","","","","",{"$f":"IF(S169=\"\",\"\",COUNTIF($S$7:S169,\"該当２\"))","v":""},"","",{"$f":"IF(V169=\"\",\"\",COUNTIF($V$7:V169,\"該当３\"))","v":""}]
[820112010,8,{"v":201,"d":"201 "},{"v":12,"d":"12 "},{"v":10,"d":"010 "},"茨城県","水戸市","河和田村","萱場",null,"","",{"$f":"IF(K170=\"\",\"\",COUNTIF($K$7:K170,\"ﾘｽﾄ１\"))","v":""},"","","","","","","",{"$f":"IF(S170=\"\",\"\",COUNTIF($S$7:S170,\"該当２\"))","v":""},"","",{"$f":"IF(V170=\"\",\"\",COUNTIF($V$7:V170,\"該当３\"))","v":""}]
[820112011,8,{"v":201,"d":"201 "},{"v":12,"d":"12 "},{"v":11,"d":"011 "},"茨城県","水戸市","河和田村","高間原，若林",null,"","",{"$f":"IF(K171=\"\",\"\",COUNTIF($K$7:K171,\"ﾘｽﾄ１\"))","v":""},"","","","","","","",{"$f":"IF(S171=\"\",\"\",COUNTIF($S$7:S171,\"該当２\"))","v":""},"","",{"$f":"IF(V171=\"\",\"\",COUNTIF($V$7:V171,\"該当３\"))","v":""}]
[820113000,8,{"v":201,"d":"201 "},{"v":13,"d":"13 "},{"v":0,"d":"000 "},"茨城県","水戸市","下大野村",null,null,"","",{"$f":"IF(K172=\"\",\"\",COUNTIF($K$7:K172,\"ﾘｽﾄ１\"))","v":""},"","","","","","","",{"$f":"IF(S172=\"\",\"\",COUNTIF($S$7:S172,\"該当２\"))","v":""},"","",{"$f":"IF(V172=\"\",\"\",COUNTIF($V$7:V172,\"該当３\"))","v":""}]
[820113001,8,{"v":201,"d":"201 "},{"v":13,"d":"13 "},{"v":1,"d":"001 "},"茨城県","水戸市","下大野村","下大野一区",null,"","",{"$f":"IF(K173=\"\",\"\",COUNTIF($K$7:K173,\"ﾘｽﾄ１\"))","v":""},"","","","","","","",{"$f":"IF(S173=\"\",\"\",COUNTIF($S$7:S173,\"該当２\"))","v":""},"","",{"$f":"IF(V173=\"\",\"\",COUNTIF($V$7:V173,\"該当３\"))","v":""}]
[820113002,8,{"v":201,"d":"201 "},{"v":13,"d":"13 "},{"v":2,"d":"002 "},"茨城県","水戸市","下大野村","下大野二区",null,"","",{"$f":"IF(K174=\"\",\"\",COUNTIF($K$7:K174,\"ﾘｽﾄ１\"))","v":""},"","","","","","","",{"$f":"IF(S174=\"\",\"\",COUNTIF($S$7:S174,\"該当２\"))","v":""},"","",{"$f":"IF(V174=\"\",\"\",COUNTIF($V$7:V174,\"該当３\"))","v":""}]
[820113003,8,{"v":201,"d":"201 "},{"v":13,"d":"13 "},{"v":3,"d":"003 "},"茨城県","水戸市","下大野村","小泉",null,"","",{"$f":"IF(K175=\"\",\"\",COUNTIF($K$7:K175,\"ﾘｽﾄ１\"))","v":""},"","","","","","","",{"$f":"IF(S175=\"\",\"\",COUNTIF($S$7:S175,\"該当２\"))","v":""},"","",{"$f":"IF(V175=\"\",\"\",COUNTIF($V$7:V175,\"該当３\"))","v":""}]
[820113004,8,{"v":201,"d":"201 "},{"v":13,"d":"13 "},{"v":4,"d":"004 "},"茨城県","水戸市","下大野村","川又一",null,"","",{"$f":"IF(K176=\"\",\"\",COUNTIF($K$7:K176,\"ﾘｽﾄ１\"))","v":""},"","","","","","","",{"$f":"IF(S176=\"\",\"\",COUNTIF($S$7:S176,\"該当２\"))","v":""},"","",{"$f":"IF(V176=\"\",\"\",COUNTIF($V$7:V176,\"該当３\"))","v":""}]
[820113005,8,{"v":201,"d":"201 "},{"v":13,"d":"13 "},{"v":5,"d":"005 "},"茨城県","水戸市","下大野村","川又二",null,"","",{"$f":"IF(K177=\"\",\"\",COUNTIF($K$7:K177,\"ﾘｽﾄ１\"))","v":""},"","","","","","","",{"$f":"IF(S177=\"\",\"\",COUNTIF($S$7:S177,\"該当２\"))","v":""},"","",{"$f":"IF(V177=\"\",\"\",COUNTIF($V$7:V177,\"該当３\"))","v":""}]
[820113006,8,{"v":201,"d":"201 "},{"v":13,"d":"13 "},{"v":6,"d":"006 "},"茨城県","水戸市","下大野村","平戸",null,"","",{"$f":"IF(K178=\"\",\"\",COUNTIF($K$7:K178,\"ﾘｽﾄ１\"))","v":""},"","","","","","","",{"$f":"IF(S178=\"\",\"\",COUNTIF($S$7:S178,\"該当２\"))","v":""},"","",{"$f":"IF(V178=\"\",\"\",COUNTIF($V$7:V178,\"該当３\"))","v":""}]
[820113007,8,{"v":201,"d":"201 "},{"v":13,"d":"13 "},{"v":7,"d":"007 "},"茨城県","水戸市","下大野村","塩崎一",null,"","",{"$f":"IF(K179=\"\",\"\",COUNTIF($K$7:K179,\"ﾘｽﾄ１\"))","v":""},"","","","","","","",{"$f":"IF(S179=\"\",\"\",COUNTIF($S$7:S179,\"該当２\"))","v":""},"","",{"$f":"IF(V179=\"\",\"\",COUNTIF($V$7:V179,\"該当３\"))","v":""}]
[820113008,8,{"v":201,"d":"201 "},{"v":13,"d":"13 "},{"v":8,"d":"008 "},"茨城県","水戸市","下大野村","塩崎二",null,"","",{"$f":"IF(K180=\"\",\"\",COUNTIF($K$7:K180,\"ﾘｽﾄ１\"))","v":""},"","","","","","","",{"$f":"IF(S180=\"\",\"\",COUNTIF($S$7:S180,\"該当２\"))","v":""},"","",{"$f":"IF(V180=\"\",\"\",COUNTIF($V$7:V180,\"該当３\"))","v":""}]
[820114000,8,{"v":201,"d":"201 "},{"v":14,"d":"14 "},{"v":0,"d":"000 "},"茨城県","水戸市","稲荷村",null,null,"","",{"$f":"IF(K181=\"\",\"\",COUNTIF($K$7:K181,\"ﾘｽﾄ１\"))","v":""},"","","","","","","",{"$f":"IF(S181=\"\",\"\",COUNTIF($S$7:S181,\"該当２\"))","v":""},"","",{"$f":"IF(V181=\"\",\"\",COUNTIF($V$7:V181,\"該当３\"))","v":""}]
[820114001,8,{"v":201,"d":"201 "},{"v":14,"d":"14 "},{"v":1,"d":"001 "},"茨城県","水戸市","稲荷村","六反田",null,"","",{"$f":"IF(K182=\"\",\"\",COUNTIF($K$7:K182,\"ﾘｽﾄ１\"))","v":""},"","","","","","","",{"$f":"IF(S182=\"\",\"\",COUNTIF($S$7:S182,\"該当２\"))","v":""},"","",{"$f":"IF(V182=\"\",\"\",COUNTIF($V$7:V182,\"該当３\"))","v":""}]
[820114002,8,{"v":201,"d":"201 "},{"v":14,"d":"14 "},{"v":2,"d":"002 "},"茨城県","水戸市","稲荷村","栗崎一",null,"","",{"$f":"IF(K183=\"\",\"\",COUNTIF($K$7:K183,\"ﾘｽﾄ１\"))","v":""},"","","","","","","",{"$f":"IF(S183=\"\",\"\",COUNTIF($S$7:S183,\"該当２\"))","v":""},"","",{"$f":"IF(V183=\"\",\"\",COUNTIF($V$7:V183,\"該当３\"))","v":""}]
[820114003,8,{"v":201,"d":"201 "},{"v":14,"d":"14 "},{"v":3,"d":"003 "},"茨城県","水戸市","稲荷村","栗崎二",null,"","",{"$f":"IF(K184=\"\",\"\",COUNTIF($K$7:K184,\"ﾘｽﾄ１\"))","v":""},"","","","","","","",{"$f":"IF(S184=\"\",\"\",COUNTIF($S$7:S184,\"該当２\"))","v":""},"","",{"$f":"IF(V184=\"\",\"\",COUNTIF($V$7:V184,\"該当３\"))","v":""}]
[820114004,8,{"v":201,"d":"201 "},{"v":14,"d":"14 "},{"v":4,"d":"004 "},"茨城県","水戸市","稲荷村","栗崎三",null,"","",{"$f":"IF(K185=\"\",\"\",COUNTIF($K$7:K185,\"ﾘｽﾄ１\"))","v":""},"","","","","","","",{"$f":"IF(S185=\"\",\"\",COUNTIF($S$7:S185,\"該当２\"))","v":""},"","",{"$f":"IF(V185=\"\",\"\",COUNTIF($V$7:V185,\"該当３\"))","v":""}]
[820114005,8,{"v":201,"d":"201 "},{"v":14,"d":"14 "},{"v":5,"d":"005 "},"茨城県","水戸市","稲荷村","東前",null,"","",{"$f":"IF(K186=\"\",\"\",COUNTIF($K$7:K186,\"ﾘｽﾄ１\"))","v":""},"","","","","","","",{"$f":"IF(S186=\"\",\"\",COUNTIF($S$7:S186,\"該当２\"))","v":""},"","",{"$f":"IF(V186=\"\",\"\",COUNTIF($V$7:V186,\"該当３\"))","v":""}]
[820114006,8,{"v":201,"d":"201 "},{"v":14,"d":"14 "},{"v":6,"d":"006 "},"茨城県","水戸市","稲荷村","戌亥",null,"","",{"$f":"IF(K187=\"\",\"\",COUNTIF($K$7:K187,\"ﾘｽﾄ１\"))","v":""},"","","","","","","",{"$f":"IF(S187=\"\",\"\",COUNTIF($S$7:S187,\"該当２\"))","v":""},"","",{"$f":"IF(V187=\"\",\"\",COUNTIF($V$7:V187,\"該当３\"))","v":""}]
[820114007,8,{"v":201,"d":"201 "},{"v":14,"d":"14 "},{"v":7,"d":"007 "},"茨城県","水戸市","稲荷村","原坪，荒谷",null,"","",{"$f":"IF(K188=\"\",\"\",COUNTIF($K$7:K188,\"ﾘｽﾄ１\"))","v":""},"","","","","","","",{"$f":"IF(S188=\"\",\"\",COUNTIF($S$7:S188,\"該当２\"))","v":""},"","",{"$f":"IF(V188=\"\",\"\",COUNTIF($V$7:V188,\"該当３\"))","v":""}]
[820114008,8,{"v":201,"d":"201 "},{"v":14,"d":"14 "},{"v":8,"d":"008 "},"茨城県","水戸市","稲荷村","塙",null,"","",{"$f":"IF(K189=\"\",\"\",COUNTIF($K$7:K189,\"ﾘｽﾄ１\"))","v":""},"","","","","","","",{"$f":"IF(S189=\"\",\"\",COUNTIF($S$7:S189,\"該当２\"))","v":""},"","",{"$f":"IF(V189=\"\",\"\",COUNTIF($V$7:V189,\"該当３\"))","v":""}]
[820114009,8,{"v":201,"d":"201 "},{"v":14,"d":"14 "},{"v":9,"d":"009 "},"茨城県","水戸市","稲荷村","島田一",null,"","",{"$f":"IF(K190=\"\",\"\",COUNTIF($K$7:K190,\"ﾘｽﾄ１\"))","v":""},"","","","","","","",{"$f":"IF(S190=\"\",\"\",COUNTIF($S$7:S190,\"該当２\"))","v":""},"","",{"$f":"IF(V190=\"\",\"\",COUNTIF($V$7:V190,\"該当３\"))","v":""}]
[820114010,8,{"v":201,"d":"201 "},{"v":14,"d":"14 "},{"v":10,"d":"010 "},"茨城県","水戸市","稲荷村","島田二，三",null,"","",{"$f":"IF(K191=\"\",\"\",COUNTIF($K$7:K191,\"ﾘｽﾄ１\"))","v":""},"","","","","","","",{"$f":"IF(S191=\"\",\"\",COUNTIF($S$7:S191,\"該当２\"))","v":""},"","",{"$f":"IF(V191=\"\",\"\",COUNTIF($V$7:V191,\"該当３\"))","v":""}]
[820115000,8,{"v":201,"d":"201 "},{"v":15,"d":"15 "},{"v":0,"d":"000 "},"茨城県","水戸市","大場村（水戸市）",null,null,"","",{"$f":"IF(K192=\"\",\"\",COUNTIF($K$7:K192,\"ﾘｽﾄ１\"))","v":""},"","","","","","","",{"$f":"IF(S192=\"\",\"\",COUNTIF($S$7:S192,\"該当２\"))","v":""},"","",{"$f":"IF(V192=\"\",\"\",COUNTIF($V$7:V192,\"該当３\"))","v":""}]
[820115001,8,{"v":201,"d":"201 "},{"v":15,"d":"15 "},{"v":1,"d":"001 "},"茨城県","水戸市","大場村（水戸市）","高原，根崎",null,"","",{"$f":"IF(K193=\"\",\"\",COUNTIF($K$7:K193,\"ﾘｽﾄ１\"))","v":""},"","","","","","","",{"$f":"IF(S193=\"\",\"\",COUNTIF($S$7:S193,\"該当２\"))","v":""},"","",{"$f":"IF(V193=\"\",\"\",COUNTIF($V$7:V193,\"該当３\"))","v":""}]
[820115002,8,{"v":201,"d":"201 "},{"v":15,"d":"15 "},{"v":2,"d":"002 "},"茨城県","水戸市","大場村（水戸市）","原",null,"","",{"$f":"IF(K194=\"\",\"\",COUNTIF($K$7:K194,\"ﾘｽﾄ１\"))","v":""},"","","","","","","",{"$f":"IF(S194=\"\",\"\",COUNTIF($S$7:S194,\"該当２\"))","v":""},"","",{"$f":"IF(V194=\"\",\"\",COUNTIF($V$7:V194,\"該当３\"))","v":""}]
[820115003,8,{"v":201,"d":"201 "},{"v":15,"d":"15 "},{"v":3,"d":"003 "},"茨城県","水戸市","大場村（水戸市）","別所，山崎",null,"","",{"$f":"IF(K195=\"\",\"\",COUNTIF($K$7:K195,\"ﾘｽﾄ１\"))","v":""},"","","","","","","",{"$f":"IF(S195=\"\",\"\",COUNTIF($S$7:S195,\"該当２\"))","v":""},"","",{"$f":"IF(V195=\"\",\"\",COUNTIF($V$7:V195,\"該当３\"))","v":""}]
[820115004,8,{"v":201,"d":"201 "},{"v":15,"d":"15 "},{"v":4,"d":"004 "},"茨城県","水戸市","大場村（水戸市）","森戸西，東",null,"","",{"$f":"IF(K196=\"\",\"\",COUNTIF($K$7:K196,\"ﾘｽﾄ１\"))","v":""},"","","","","","","",{"$f":"IF(S196=\"\",\"\",COUNTIF($S$7:S196,\"該当２\"))","v":""},"","",{"$f":"IF(V196=\"\",\"\",COUNTIF($V$7:V196,\"該当３\"))","v":""}]
[820115005,8,{"v":201,"d":"201 "},{"v":15,"d":"15 "},{"v":5,"d":"005 "},"茨城県","水戸市","大場村（水戸市）","南，西門",null,"","",{"$f":"IF(K197=\"\",\"\",COUNTIF($K$7:K197,\"ﾘｽﾄ１\"))","v":""},"","","","","","","",{"$f":"IF(S197=\"\",\"\",COUNTIF($S$7:S197,\"該当２\"))","v":""},"","",{"$f":"IF(V197=\"\",\"\",COUNTIF($V$7:V197,\"該当３\"))","v":""}]
[820115006,8,{"v":201,"d":"201 "},{"v":15,"d":"15 "},{"v":6,"d":"006 "},"茨城県","水戸市","大場村（水戸市）","搦",null,"","",{"$f":"IF(K198=\"\",\"\",COUNTIF($K$7:K198,\"ﾘｽﾄ１\"))","v":""},"","","","","","","",{"$f":"IF(S198=\"\",\"\",COUNTIF($S$7:S198,\"該当２\"))","v":""},"","",{"$f":"IF(V198=\"\",\"\",COUNTIF($V$7:V198,\"該当３\"))","v":""}]
[820115007,8,{"v":201,"d":"201 "},{"v":15,"d":"15 "},{"v":7,"d":"007 "},"茨城県","水戸市","大場村（水戸市）","秋成",null,"","",{"$f":"IF(K199=\"\",\"\",COUNTIF($K$7:K199,\"ﾘｽﾄ１\"))","v":""},"","","","","","","",{"$f":"IF(S199=\"\",\"\",COUNTIF($S$7:S199,\"該当２\"))","v":""},"","",{"$f":"IF(V199=\"\",\"\",COUNTIF($V$7:V199,\"該当３\"))","v":""}]
[820115008,8,{"v":201,"d":"201 "},{"v":15,"d":"15 "},{"v":8,"d":"008 "},"茨城県","水戸市","大場村（水戸市）","島",null,"","",{"$f":"IF(K200=\"\",\"\",COUNTIF($K$7:K200,\"ﾘｽﾄ１\"))","v":""},"","",{"$f":"IF(O200=\"該当１\",G200,\"\")","v":""},{"$f":"IF(O200=\"該当１\",\"ﾘｽﾄ2\",\"\")","v":""},{"$f":"IF(Q200=\"ﾘｽﾄ2\",H200,\"\")","v":""},"",{"$f":"IF(S200=\"該当２\",H200,\"\")","v":""},{"$f":"IF(S200=\"\",\"\",COUNTIF($S$7:S200,\"該当２\"))","v":""},{"$f":"IF(AND($S$2=H200,E200>0,E200<998),\"該当３\",\"\")","v":""},{"$f":"IF(V200=\"該当３\",I200,\"\")","v":""},{"$f":"IF(V200=\"\",\"\",COUNTIF($V$7:V200,\"該当３\"))","v":""}]
[820115009,8,{"v":201,"d":"201 "},{"v":15,"d":"15 "},{"v":9,"d":"009 "},"茨城県","水戸市","大場村（水戸市）","前大場",null,{"$f":"IF(AND($C201>0,$H201=\"\"),\"ﾘｽﾄ１\",\"\")","v":""},{"$f":"IF(K201=\"ﾘｽﾄ１\",G201,\"\")","v":""},{"$f":"IF(K201=\"\",\"\",COUNTIF($K$7:K201,\"ﾘｽﾄ１\"))","v":""},{"$f":"IF(AND(D201=0,E201>0),\"同一区\",\"\")","v":""},{"$f":"IF(AND(EXACT($K$2,G201),H201>0),\"該当１\",\"\")","v":""},"","","",{"$f":"IF(AND(Q201=\"ﾘｽﾄ2\",OR(I201=0,AND(N201=\"同一区\",E201=1))),\"該当２\",\"\")","v":""},"",{"$f":"IF(S201=\"\",\"\",COUNTIF($S$7:S201,\"該当２\"))","v":""},"","",{"$f":"IF(V201=\"\",\"\",COUNTIF($V$7:V201,\"該当３\"))","v":""}]
[820116000,8,{"v":201,"d":"201 "},{"v":16,"d":"16 "},{"v":0,"d":"000 "},"茨城県","水戸市","下中妻村",null,null,"","",{"$f":"IF(K202=\"\",\"\",COUNTIF($K$7:K202,\"ﾘｽﾄ１\"))","v":""},"","","","","","","",{"$f":"IF(S202=\"\",\"\",COUNTIF($S$7:S202,\"該当２\"))","v":""},"","",{"$f":"IF(V202=\"\",\"\",COUNTIF($V$7:V202,\"該当３\"))","v":""}]
[820116001,8,{"v":201,"d":"201 "},{"v":16,"d":"16 "},{"v":1,"d":"001 "},"茨城県","水戸市","下中妻村","杉崎",null,"","",{"$f":"IF(K203=\"\",\"\",COUNTIF($K$7:K203,\"ﾘｽﾄ１\"))","v":""},"","","","","","","",{"$f":"IF(S203=\"\",\"\",COUNTIF($S$7:S203,\"該当２\"))","v":""},"","",{"$f":"IF(V203=\"\",\"\",COUNTIF($V$7:V203,\"該当３\"))","v":""}]
[820116002,8,{"v":201,"d":"201 "},{"v":16,"d":"16 "},{"v":2,"d":"002 "},"茨城県","水戸市","下中妻村","中原",null,"","",{"$f":"IF(K204=\"\",\"\",COUNTIF($K$7:K204,\"ﾘｽﾄ１\"))","v":""},"","","","","","","",{"$f":"IF(S204=\"\",\"\",COUNTIF($S$7:S204,\"該当２\"))","v":""},"","",{"$f":"IF(V204=\"\",\"\",COUNTIF($V$7:V204,\"該当３\"))","v":""}]
[820116003,8,{"v":201,"d":"201 "},{"v":16,"d":"16 "},{"v":3,"d":"003 "},"茨城県","水戸市","下中妻村","内原",null,"","",{"$f":"IF(K205=\"\",\"\",COUNTIF($K$7:K205,\"ﾘｽﾄ１\"))","v":""},"","","","","","","",{"$f":"IF(S205=\"\",\"\",COUNTIF($S$7:S205,\"該当２\"))","v":""},"","",{"$f":"IF(V205=\"\",\"\",COUNTIF($V$7:V205,\"該当３\"))","v":""}]
[820116004,8,{"v":201,"d":"201 "},{"v":16,"d":"16 "},{"v":4,"d":"004 "},"茨城県","水戸市","下中妻村","小林",null,"","",{"$f":"IF(K206=\"\",\"\",COUNTIF($K$7:K206,\"ﾘｽﾄ１\"))","v":""},"","","","","","","",{"$f":"IF(S206=\"\",\"\",COUNTIF($S$7:S206,\"該当２\"))","v":""},"","",{"$f":"IF(V206=\"\",\"\",COUNTIF($V$7:V206,\"該当３\"))","v":""}]
[820116005,8,{"v":201,"d":"201 "},{"v":16,"d":"16 "},{"v":5,"d":"005 "},"茨城県","水戸市","下中妻村","三湯",null,"","",{"$f":"IF(K207=\"\",\"\",COUNTIF($K$7:K207,\"ﾘｽﾄ１\"))","v":""},"","","","","","","",{"$f":"IF(S207=\"\",\"\",COUNTIF($S$7:S207,\"該当２\"))","v":""},"","",{"$f":"IF(V207=\"\",\"\",COUNTIF($V$7:V207,\"該当３\"))","v":""}]
[820117000,8,{"v":201,"d":"201 "},{"v":17,"d":"17 "},{"v":0,"d":"000 "},"茨城県","水戸市","中妻村",null,null,"","",{"$f":"IF(K208=\"\",\"\",COUNTIF($K$7:K208,\"ﾘｽﾄ１\"))","v":""},"","","","","","","",{"$f":"IF(S208=\"\",\"\",COUNTIF($S$7:S208,\"該当２\"))","v":""},"","",{"$f":"IF(V208=\"\",\"\",COUNTIF($V$7:V208,\"該当３\"))","v":""}]
[820117001,8,{"v":201,"d":"201 "},{"v":17,"d":"17 "},{"v":1,"d":"001 "},"茨城県","水戸市","中妻村","有賀",null,"","",{"$f":"IF(K209=\"\",\"\",COUNTIF($K$7:K209,\"ﾘｽﾄ１\"))","v":""},"","","","","","","",{"$f":"IF(S209=\"\",\"\",COUNTIF($S$7:S209,\"該当２\"))","v":""},"","",{"$f":"IF(V209=\"\",\"\",COUNTIF($V$7:V209,\"該当３\"))","v":""}]
[820117002,8,{"v":201,"d":"201 "},{"v":17,"d":"17 "},{"v":2,"d":"002 "},"茨城県","水戸市","中妻村","黒磯",null,"","",{"$f":"IF(K210=\"\",\"\",COUNTIF($K$7:K210,\"ﾘｽﾄ１\"))","v":""},"","","","","","","",{"$f":"IF(S210=\"\",\"\",COUNTIF($S$7:S210,\"該当２\"))","v":""},"","",{"$f":"IF(V210=\"\",\"\",COUNTIF($V$7:V210,\"該当３\"))","v":""}]
[820117003,8,{"v":201,"d":"201 "},{"v":17,"d":"17 "},{"v":3,"d":"003 "},"茨城県","水戸市","中妻村","牛伏",null,"","",{"$f":"IF(K211=\"\",\"\",COUNTIF($K$7:K211,\"ﾘｽﾄ１\"))","v":""},"","","","","","","",{"$f":"IF(S211=\"\",\"\",COUNTIF($S$7:S211,\"該当２\"))","v":""},"","",{"$f":"IF(V211=\"\",\"\",COUNTIF($V$7:V211,\"該当３\"))","v":""}]
[820117004,8,{"v":201,"d":"201 "},{"v":17,"d":"17 "},{"v":4,"d":"004 "},"茨城県","水戸市","中妻村","田島",null,"","",{"$f":"IF(K212=\"\",\"\",COUNTIF($K$7:K212,\"ﾘｽﾄ１\"))","v":""},"","","","","","","",{"$f":"IF(S212=\"\",\"\",COUNTIF($S$7:S212,\"該当２\"))","v":""},"","",{"$f":"IF(V212=\"\",\"\",COUNTIF($V$7:V212,\"該当３\"))","v":""}]
[820117005,8,{"v":201,"d":"201 "},{"v":17,"d":"17 "},{"v":5,"d":"005 "},"茨城県","水戸市","中妻村","大足",null,"","",{"$f":"IF(K213=\"\",\"\",COUNTIF($K$7:K213,\"ﾘｽﾄ１\"))","v":""},"","","","","","","",{"$f":"IF(S213=\"\",\"\",COUNTIF($S$7:S213,\"該当２\"))","v":""},"","",{"$f":"IF(V213=\"\",\"\",COUNTIF($V$7:V213,\"該当３\"))","v":""}]
[820117006,8,{"v":201,"d":"201 "},{"v":17,"d":"17 "},{"v":6,"d":"006 "},"茨城県","水戸市","中妻村","筑地",null,"","",{"$f":"IF(K214=\"\",\"\",COUNTIF($K$7:K214,\"ﾘｽﾄ１\"))","v":""},"","","","","","","",{"$f":"IF(S214=\"\",\"\",COUNTIF($S$7:S214,\"該当２\"))","v":""},"","",{"$f":"IF(V214=\"\",\"\",COUNTIF($V$7:V214,\"該当３\"))","v":""}]
[820117007,8,{"v":201,"d":"201 "},{"v":17,"d":"17 "},{"v":7,"d":"007 "},"茨城県","水戸市","中妻村","赤尾関",null,"","",{"$f":"IF(K215=\"\",\"\",COUNTIF($K$7:K215,\"ﾘｽﾄ１\"))","v":""},"","","","","","","",{"$f":"IF(S215=\"\",\"\",COUNTIF($S$7:S215,\"該当２\"))","v":""},"","",{"$f":"IF(V215=\"\",\"\",COUNTIF($V$7:V215,\"該当３\"))","v":""}]
[820118000,8,{"v":201,"d":"201 "},{"v":18,"d":"18 "},{"v":0,"d":"000 "},"茨城県","水戸市","鯉渕村２－１",null,null,"","",{"$f":"IF(K216=\"\",\"\",COUNTIF($K$7:K216,\"ﾘｽﾄ１\"))","v":""},"","","","","","","",{"$f":"IF(S216=\"\",\"\",COUNTIF($S$7:S216,\"該当２\"))","v":""},"","",{"$f":"IF(V216=\"\",\"\",COUNTIF($V$7:V216,\"該当３\"))","v":""}]
[820118001,8,{"v":201,"d":"201 "},{"v":18,"d":"18 "},{"v":1,"d":"001 "},"茨城県","水戸市","鯉渕村２－１","五平",null,"","",{"$f":"IF(K217=\"\",\"\",COUNTIF($K$7:K217,\"ﾘｽﾄ１\"))","v":""},"","","","","","","",{"$f":"IF(S217=\"\",\"\",COUNTIF($S$7:S217,\"該当２\"))","v":""},"","",{"$f":"IF(V217=\"\",\"\",COUNTIF($V$7:V217,\"該当３\"))","v":""}]
[820118002,8,{"v":201,"d":"201 "},{"v":18,"d":"18 "},{"v":2,"d":"002 "},"茨城県","水戸市","鯉渕村２－１","犬塚",null,"","",{"$f":"IF(K218=\"\",\"\",COUNTIF($K$7:K218,\"ﾘｽﾄ１\"))","v":""},"","","","","","","",{"$f":"IF(S218=\"\",\"\",COUNTIF($S$7:S218,\"該当２\"))","v":""},"","",{"$f":"IF(V218=\"\",\"\",COUNTIF($V$7:V218,\"該当３\"))","v":""}]
[820118003,8,{"v":201,"d":"201 "},{"v":18,"d":"18 "},{"v":3,"d":"003 "},"茨城県","水戸市","鯉渕村２－１","万蔵寺",null,"","",{"$f":"IF(K219=\"\",\"\",COUNTIF($K$7:K219,\"ﾘｽﾄ１\"))","v":""},"","","","","","","",{"$f":"IF(S219=\"\",\"\",COUNTIF($S$7:S219,\"該当２\"))","v":""},"","",{"$f":"IF(V219=\"\",\"\",COUNTIF($V$7:V219,\"該当３\"))","v":""}]
[820118004,8,{"v":201,"d":"201 "},{"v":18,"d":"18 "},{"v":4,"d":"004 "},"茨城県","水戸市","鯉渕村２－１","湿気",null,"","",{"$f":"IF(K220=\"\",\"\",COUNTIF($K$7:K220,\"ﾘｽﾄ１\"))","v":""},"","","","","","","",{"$f":"IF(S220=\"\",\"\",COUNTIF($S$7:S220,\"該当２\"))","v":""},"","",{"$f":"IF(V220=\"\",\"\",COUNTIF($V$7:V220,\"該当３\"))","v":""}]
[820118005,8,{"v":201,"d":"201 "},{"v":18,"d":"18 "},{"v":5,"d":"005 "},"茨城県","水戸市","鯉渕村２－１","後原",null,"","",{"$f":"IF(K221=\"\",\"\",COUNTIF($K$7:K221,\"ﾘｽﾄ１\"))","v":""},"","","","","","","",{"$f":"IF(S221=\"\",\"\",COUNTIF($S$7:S221,\"該当２\"))","v":""},"","",{"$f":"IF(V221=\"\",\"\",COUNTIF($V$7:V221,\"該当３\"))","v":""}]
[820118006,8,{"v":201,"d":"201 "},{"v":18,"d":"18 "},{"v":6,"d":"006 "},"茨城県","水戸市","鯉渕村２－１","向古屋",null,"","",{"$f":"IF(K222=\"\",\"\",COUNTIF($K$7:K222,\"ﾘｽﾄ１\"))","v":""},"","","","","","","",{"$f":"IF(S222=\"\",\"\",COUNTIF($S$7:S222,\"該当２\"))","v":""},"","",{"$f":"IF(V222=\"\",\"\",COUNTIF($V$7:V222,\"該当３\"))","v":""}]
[820118007,8,{"v":201,"d":"201 "},{"v":18,"d":"18 "},{"v":7,"d":"007 "},"茨城県","水戸市","鯉渕村２－１","東",null,"","",{"$f":"IF(K223=\"\",\"\",COUNTIF($K$7:K223,\"ﾘｽﾄ１\"))","v":""},"","","","","","","",{"$f":"IF(S223=\"\",\"\",COUNTIF($S$7:S223,\"該当２\"))","v":""},"","",{"$f":"IF(V223=\"\",\"\",COUNTIF($V$7:V223,\"該当３\"))","v":""}]
[820118008,8,{"v":201,"d":"201 "},{"v":18,"d":"18 "},{"v":8,"d":"008 "},"茨城県","水戸市","鯉渕村２－１","根古屋",null,"","",{"$f":"IF(K224=\"\",\"\",COUNTIF($K$7:K224,\"ﾘｽﾄ１\"))","v":""},"","","","","","","",{"$f":"IF(S224=\"\",\"\",COUNTIF($S$7:S224,\"該当２\"))","v":""},"","",{"$f":"IF(V224=\"\",\"\",COUNTIF($V$7:V224,\"該当３\"))","v":""}]
[820118009,8,{"v":201,"d":"201 "},{"v":18,"d":"18 "},{"v":9,"d":"009 "},"茨城県","水戸市","鯉渕村２－１","宿",null,"","",{"$f":"IF(K225=\"\",\"\",COUNTIF($K$7:K225,\"ﾘｽﾄ１\"))","v":""},"","","","","","","",{"$f":"IF(S225=\"\",\"\",COUNTIF($S$7:S225,\"該当２\"))","v":""},"","",{"$f":"IF(V225=\"\",\"\",COUNTIF($V$7:V225,\"該当３\"))","v":""}]
[820118010,8,{"v":201,"d":"201 "},{"v":18,"d":"18 "},{"v":10,"d":"010 "},"茨城県","水戸市","鯉渕村２－１","中台",null,"","",{"$f":"IF(K226=\"\",\"\",COUNTIF($K$7:K226,\"ﾘｽﾄ１\"))","v":""},"","","","","","","",{"$f":"IF(S226=\"\",\"\",COUNTIF($S$7:S226,\"該当２\"))","v":""},"","",{"$f":"IF(V226=\"\",\"\",COUNTIF($V$7:V226,\"該当３\"))","v":""}]
[820118011,8,{"v":201,"d":"201 "},{"v":18,"d":"18 "},{"v":11,"d":"011 "},"茨城県","水戸市","鯉渕村２－１","興国",null,"","",{"$f":"IF(K227=\"\",\"\",COUNTIF($K$7:K227,\"ﾘｽﾄ１\"))","v":""},"","","","","","","",{"$f":"IF(S227=\"\",\"\",COUNTIF($S$7:S227,\"該当２\"))","v":""},"","",{"$f":"IF(V227=\"\",\"\",COUNTIF($V$7:V227,\"該当３\"))","v":""}]
[820118012,8,{"v":201,"d":"201 "},{"v":18,"d":"18 "},{"v":12,"d":"012 "},"茨城県","水戸市","鯉渕村２－１","一の砂",null,"","",{"$f":"IF(K228=\"\",\"\",COUNTIF($K$7:K228,\"ﾘｽﾄ１\"))","v":""},"","","","","","","",{"$f":"IF(S228=\"\",\"\",COUNTIF($S$7:S228,\"該当２\"))","v":""},"","",{"$f":"IF(V228=\"\",\"\",COUNTIF($V$7:V228,\"該当３\"))","v":""}]
[820118013,8,{"v":201,"d":"201 "},{"v":18,"d":"18 "},{"v":13,"d":"013 "},"茨城県","水戸市","鯉渕村２－１","旭ケ丘",null,"","",{"$f":"IF(K229=\"\",\"\",COUNTIF($K$7:K229,\"ﾘｽﾄ１\"))","v":""},"","","","","","","",{"$f":"IF(S229=\"\",\"\",COUNTIF($S$7:S229,\"該当２\"))","v":""},"","",{"$f":"IF(V229=\"\",\"\",COUNTIF($V$7:V229,\"該当３\"))","v":""}]
[820118014,8,{"v":201,"d":"201 "},{"v":18,"d":"18 "},{"v":14,"d":"014 "},"茨城県","水戸市","鯉渕村２－１","播田実",null,"","",{"$f":"IF(K230=\"\",\"\",COUNTIF($K$7:K230,\"ﾘｽﾄ１\"))","v":""},"","","","","","","",{"$f":"IF(S230=\"\",\"\",COUNTIF($S$7:S230,\"該当２\"))","v":""},"","",{"$f":"IF(V230=\"\",\"\",COUNTIF($V$7:V230,\"該当３\"))","v":""}]
[820118015,8,{"v":201,"d":"201 "},{"v":18,"d":"18 "},{"v":15,"d":"015 "},"茨城県","水戸市","鯉渕村２－１","中島",null,"","",{"$f":"IF(K231=\"\",\"\",COUNTIF($K$7:K231,\"ﾘｽﾄ１\"))","v":""},"","","","","","","",{"$f":"IF(S231=\"\",\"\",COUNTIF($S$7:S231,\"該当２\"))","v":""},"","",{"$f":"IF(V231=\"\",\"\",COUNTIF($V$7:V231,\"該当３\"))","v":""}]
[820118016,8,{"v":201,"d":"201 "},{"v":18,"d":"18 "},{"v":16,"d":"016 "},"茨城県","水戸市","鯉渕村２－１","倉田",null,"","",{"$f":"IF(K232=\"\",\"\",COUNTIF($K$7:K232,\"ﾘｽﾄ１\"))","v":""},"","","","","","","",{"$f":"IF(S232=\"\",\"\",COUNTIF($S$7:S232,\"該当２\"))","v":""},"","",{"$f":"IF(V232=\"\",\"\",COUNTIF($V$7:V232,\"該当３\"))","v":""}]
[820118017,8,{"v":201,"d":"201 "},{"v":18,"d":"18 "},{"v":17,"d":"017 "},"茨城県","水戸市","鯉渕村２－１","滝渕",null,"","",{"$f":"IF(K233=\"\",\"\",COUNTIF($K$7:K233,\"ﾘｽﾄ１\"))","v":""},"","","","","","","",{"$f":"IF(S233=\"\",\"\",COUNTIF($S$7:S233,\"該当２\"))","v":""},"","",{"$f":"IF(V233=\"\",\"\",COUNTIF($V$7:V233,\"該当３\"))","v":""}]
[820118018,8,{"v":201,"d":"201 "},{"v":18,"d":"18 "},{"v":18,"d":"018 "},"茨城県","水戸市","鯉渕村２－１","高田",null,"","",{"$f":"IF(K234=\"\",\"\",COUNTIF($K$7:K234,\"ﾘｽﾄ１\"))","v":""},"","","","","","","",{"$f":"IF(S234=\"\",\"\",COUNTIF($S$7:S234,\"該当２\"))","v":""},"","",{"$f":"IF(V234=\"\",\"\",COUNTIF($V$7:V234,\"該当３\"))","v":""}]
[820118019,8,{"v":201,"d":"201 "},{"v":18,"d":"18 "},{"v":19,"d":"019 "},"茨城県","水戸市","鯉渕村２－１","下野",null,"","",{"$f":"IF(K235=\"\",\"\",COUNTIF($K$7:K235,\"ﾘｽﾄ１\"))","v":""},"","","","","","","",{"$f":"IF(S235=\"\",\"\",COUNTIF($S$7:S235,\"該当２\"))","v":""},"","",{"$f":"IF(V235=\"\",\"\",COUNTIF($V$7:V235,\"該当３\"))","v":""}]
[820118020,8,{"v":201,"d":"201 "},{"v":18,"d":"18 "},{"v":20,"d":"020 "},"茨城県","水戸市","鯉渕村２－１","大和",null,"","",{"$f":"IF(K236=\"\",\"\",COUNTIF($K$7:K236,\"ﾘｽﾄ１\"))","v":""},"","","","","","","",{"$f":"IF(S236=\"\",\"\",COUNTIF($S$7:S236,\"該当２\"))","v":""},"","",{"$f":"IF(V236=\"\",\"\",COUNTIF($V$7:V236,\"該当３\"))","v":""}]
[820118021,8,{"v":201,"d":"201 "},{"v":18,"d":"18 "},{"v":21,"d":"021 "},"茨城県","水戸市","鯉渕村２－１","出兵沢",null,"","",{"$f":"IF(K237=\"\",\"\",COUNTIF($K$7:K237,\"ﾘｽﾄ１\"))","v":""},"","","","","","","",{"$f":"IF(S237=\"\",\"\",COUNTIF($S$7:S237,\"該当２\"))","v":""},"","",{"$f":"IF(V237=\"\",\"\",COUNTIF($V$7:V237,\"該当３\"))","v":""}]
[820200000,8,{"v":202,"d":"202 "},{"v":0,"d":"00 "},{"v":0,"d":"000 "},"茨城県","日立市",{"$nulls":3},"ﾘｽﾄ１","日立市",{"$f":"IF(K238=\"\",\"\",COUNTIF($K$7:K238,\"ﾘｽﾄ１\"))","v":2},"","","","","","","",{"$f":"IF(S238=\"\",\"\",COUNTIF($S$7:S238,\"該当２\"))","v":""},"","",{"$f":"IF(V238=\"\",\"\",COUNTIF($V$7:V238,\"該当３\"))","v":""}]
[820201000,8,{"v":202,"d":"202 "},{"v":1,"d":"01 "},{"v":0,"d":"000 "},"茨城県","日立市","中里村",null,null,"","",{"$f":"IF(K239=\"\",\"\",COUNTIF($K$7:K239,\"ﾘｽﾄ１\"))","v":""},"","","","","","","",{"$f":"IF(S239=\"\",\"\",COUNTIF($S$7:S239,\"該当２\"))","v":""},"","",{"$f":"IF(V239=\"\",\"\",COUNTIF($V$7:V239,\"該当３\"))","v":""}]
[820201001,8,{"v":202,"d":"202 "},{"v":1,"d":"01 "},{"v":1,"d":"001 "},"茨城県","日立市","中里村","下深荻",null,"","",{"$f":"IF(K240=\"\",\"\",COUNTIF($K$7:K240,\"ﾘｽﾄ１\"))","v":""},"","","","","","","",{"$f":"IF(S240=\"\",\"\",COUNTIF($S$7:S240,\"該当２\"))","v":""},"","",{"$f":"IF(V240=\"\",\"\",COUNTIF($V$7:V240,\"該当３\"))","v":""}]
[820201002,8,{"v":202,"d":"202 "},{"v":1,"d":"01 "},{"v":2,"d":"002 "},"茨城県","日立市","中里村","東河内",null,"","",{"$f":"IF(K241=\"\",\"\",COUNTIF($K$7:K241,\"ﾘｽﾄ１\"))","v":""},"","","","","","","",{"$f":"IF(S241=\"\",\"\",COUNTIF($S$7:S241,\"該当２\"))","v":""},"","",{"$f":"IF(V241=\"\",\"\",COUNTIF($V$7:V241,\"該当３\"))","v":""}]
[820201003,8,{"v":202,"d":"202 "},{"v":1,"d":"01 "},{"v":3,"d":"003 "},"茨城県","日立市","中里村","中深荻",null,"","",{"$f":"IF(K242=\"\",\"\",COUNTIF($K$7:K242,\"ﾘｽﾄ１\"))","v":""},"","","","","","","",{"$f":"IF(S242=\"\",\"\",COUNTIF($S$7:S242,\"該当２\"))","v":""},"","",{"$f":"IF(V242=\"\",\"\",COUNTIF($V$7:V242,\"該当３\"))","v":""}]
[820201004,8,{"v":202,"d":"202 "},{"v":1,"d":"01 "},{"v":4,"d":"004 "},"茨城県","日立市","中里村","入四間",null,"","",{"$f":"IF(K243=\"\",\"\",COUNTIF($K$7:K243,\"ﾘｽﾄ１\"))","v":""},"","","","","","","",{"$f":"IF(S243=\"\",\"\",COUNTIF($S$7:S243,\"該当２\"))","v":""},"","",{"$f":"IF(V243=\"\",\"\",COUNTIF($V$7:V243,\"該当３\"))","v":""}]
[820202000,8,{"v":202,"d":"202 "},{"v":2,"d":"02 "},{"v":0,"d":"000 "},"茨城県","日立市","豊浦町",null,null,"","",{"$f":"IF(K244=\"\",\"\",COUNTIF($K$7:K244,\"ﾘｽﾄ１\"))","v":""},"","","","","","","",{"$f":"IF(S244=\"\",\"\",COUNTIF($S$7:S244,\"該当２\"))","v":""},"","",{"$f":"IF(V244=\"\",\"\",COUNTIF($V$7:V244,\"該当３\"))","v":""}]
[820202001,8,{"v":202,"d":"202 "},{"v":2,"d":"02 "},{"v":1,"d":"001 "},"茨城県","日立市","豊浦町","砂沢",null,"","",{"$f":"IF(K245=\"\",\"\",COUNTIF($K$7:K245,\"ﾘｽﾄ１\"))","v":""},"","","","","","","",{"$f":"IF(S245=\"\",\"\",COUNTIF($S$7:S245,\"該当２\"))","v":""},"","",{"$f":"IF(V245=\"\",\"\",COUNTIF($V$7:V245,\"該当３\"))","v":""}]
[820202002,8,{"v":202,"d":"202 "},{"v":2,"d":"02 "},{"v":2,"d":"002 "},"茨城県","日立市","豊浦町","折笠",null,"","",{"$f":"IF(K246=\"\",\"\",COUNTIF($K$7:K246,\"ﾘｽﾄ１\"))","v":""},"","","","","","","",{"$f":"IF(S246=\"\",\"\",COUNTIF($S$7:S246,\"該当２\"))","v":""},"","",{"$f":"IF(V246=\"\",\"\",COUNTIF($V$7:V246,\"該当３\"))","v":""}]
[820202003,8,{"v":202,"d":"202 "},{"v":2,"d":"02 "},{"v":3,"d":"003 "},"茨城県","日立市","豊浦町","川尻",null,"","",{"$f":"IF(K247=\"\",\"\",COUNTIF($K$7:K247,\"ﾘｽﾄ１\"))","v":""},"","","","","","","",{"$f":"IF(S247=\"\",\"\",COUNTIF($S$7:S247,\"該当２\"))","v":""},"","",{"$f":"IF(V247=\"\",\"\",COUNTIF($V$7:V247,\"該当３\"))","v":""}]
[820203000,8,{"v":202,"d":"202 "},{"v":3,"d":"03 "},{"v":0,"d":"000 "},"茨城県","日立市","日高村",null,null,"","",{"$f":"IF(K248=\"\",\"\",COUNTIF($K$7:K248,\"ﾘｽﾄ１\"))","v":""},"","","","","","","",{"$f":"IF(S248=\"\",\"\",COUNTIF($S$7:S248,\"該当２\"))","v":""},"","",{"$f":"IF(V248=\"\",\"\",COUNTIF($V$7:V248,\"該当３\"))","v":""}]
[820203001,8,{"v":202,"d":"202 "},{"v":3,"d":"03 "},{"v":1,"d":"001 "},"茨城県","日立市","日高村","小木津西",null,"","",{"$f":"IF(K249=\"\",\"\",COUNTIF($K$7:K249,\"ﾘｽﾄ１\"))","v":""},"","","","","","","",{"$f":"IF(S249=\"\",\"\",COUNTIF($S$7:S249,\"該当２\"))","v":""},"","",{"$f":"IF(V249=\"\",\"\",COUNTIF($V$7:V249,\"該当３\"))","v":""}]
[820203002,8,{"v":202,"d":"202 "},{"v":3,"d":"03 "},{"v":2,"d":"002 "},"茨城県","日立市","日高村","小木津東",null,"","",{"$f":"IF(K250=\"\",\"\",COUNTIF($K$7:K250,\"ﾘｽﾄ１\"))","v":""},"","","","","","","",{"$f":"IF(S250=\"\",\"\",COUNTIF($S$7:S250,\"該当２\"))","v":""},"","",{"$f":"IF(V250=\"\",\"\",COUNTIF($V$7:V250,\"該当３\"))","v":""}]
[820203003,8,{"v":202,"d":"202 "},{"v":3,"d":"03 "},{"v":3,"d":"003 "},"茨城県","日立市","日高村","小木津浜",null,"","",{"$f":"IF(K251=\"\",\"\",COUNTIF($K$7:K251,\"ﾘｽﾄ１\"))","v":""},"","","","","","","",{"$f":"IF(S251=\"\",\"\",COUNTIF($S$7:S251,\"該当２\"))","v":""},"","",{"$f":"IF(V251=\"\",\"\",COUNTIF($V$7:V251,\"該当３\"))","v":""}]
[820203004,8,{"v":202,"d":"202 "},{"v":3,"d":"03 "},{"v":4,"d":"004 "},"茨城県","日立市","日高村","田尻宿",null,"","",{"$f":"IF(K252=\"\",\"\",COUNTIF($K$7:K252,\"ﾘｽﾄ１\"))","v":""},"","","","","","","",{"$f":"IF(S252=\"\",\"\",COUNTIF($S$7:S252,\"該当２\"))","v":""},"","",{"$f":"IF(V252=\"\",\"\",COUNTIF($V$7:V252,\"該当３\"))","v":""}]
[820203005,8,{"v":202,"d":"202 "},{"v":3,"d":"03 "},{"v":5,"d":"005 "},"茨城県","日立市","日高村","田尻浜",null,"","",{"$f":"IF(K253=\"\",\"\",COUNTIF($K$7:K253,\"ﾘｽﾄ１\"))","v":""},"","","","","","","",{"$f":"IF(S253=\"\",\"\",COUNTIF($S$7:S253,\"該当２\"))","v":""},"","",{"$f":"IF(V253=\"\",\"\",COUNTIF($V$7:V253,\"該当３\"))","v":""}]
[820204000,8,{"v":202,"d":"202 "},{"v":4,"d":"04 "},{"v":0,"d":"000 "},"茨城県","日立市","日立市（旧）",null,null,"","",{"$f":"IF(K254=\"\",\"\",COUNTIF($K$7:K254,\"ﾘｽﾄ１\"))","v":""},"","","","","","","",{"$f":"IF(S254=\"\",\"\",COUNTIF($S$7:S254,\"該当２\"))","v":""},"","",{"$f":"IF(V254=\"\",\"\",COUNTIF($V$7:V254,\"該当３\"))","v":""}]
[820204001,8,{"v":202,"d":"202 "},{"v":4,"d":"04 "},{"v":1,"d":"001 "},"茨城県","日立市","日立市（旧）","滑川岡",null,"","",{"$f":"IF(K255=\"\",\"\",COUNTIF($K$7:K255,\"ﾘｽﾄ１\"))","v":""},"","","","","","","",{"$f":"IF(S255=\"\",\"\",COUNTIF($S$7:S255,\"該当２\"))","v":""},"","",{"$f":"IF(V255=\"\",\"\",COUNTIF($V$7:V255,\"該当３\"))","v":""}]
[820204002,8,{"v":202,"d":"202 "},{"v":4,"d":"04 "},{"v":2,"d":"002 "},"茨城県","日立市","日立市（旧）","滑川浜",null,"","",{"$f":"IF(K256=\"\",\"\",COUNTIF($K$7:K256,\"ﾘｽﾄ１\"))","v":""},"","","","","","","",{"$f":"IF(S256=\"\",\"\",COUNTIF($S$7:S256,\"該当２\"))","v":""},"","",{"$f":"IF(V256=\"\",\"\",COUNTIF($V$7:V256,\"該当３\"))","v":""}]
[820204003,8,{"v":202,"d":"202 "},{"v":4,"d":"04 "},{"v":3,"d":"003 "},"茨城県","日立市","日立市（旧）","宮田１",null,"","",{"$f":"IF(K257=\"\",\"\",COUNTIF($K$7:K257,\"ﾘｽﾄ１\"))","v":""},"","","","","","","",{"$f":"IF(S257=\"\",\"\",COUNTIF($S$7:S257,\"該当２\"))","v":""},"","",{"$f":"IF(V257=\"\",\"\",COUNTIF($V$7:V257,\"該当３\"))","v":""}]
[820204004,8,{"v":202,"d":"202 "},{"v":4,"d":"04 "},{"v":4,"d":"004 "},"茨城県","日立市","日立市（旧）","宮田２",null,"","",{"$f":"IF(K258=\"\",\"\",COUNTIF($K$7:K258,\"ﾘｽﾄ１\"))","v":""},"","","","","","","",{"$f":"IF(S258=\"\",\"\",COUNTIF($S$7:S258,\"該当２\"))","v":""},"","",{"$f":"IF(V258=\"\",\"\",COUNTIF($V$7:V258,\"該当３\"))","v":""}]
[820204005,8,{"v":202,"d":"202 "},{"v":4,"d":"04 "},{"v":5,"d":"005 "},"茨城県","日立市","日立市（旧）","助川１",null,"","",{"$f":"IF(K259=\"\",\"\",COUNTIF($K$7:K259,\"ﾘｽﾄ１\"))","v":""},"","","","","","","",{"$f":"IF(S259=\"\",\"\",COUNTIF($S$7:S259,\"該当２\"))","v":""},"","",{"$f":"IF(V259=\"\",\"\",COUNTIF($V$7:V259,\"該当３\"))","v":""}]
[820204006,8,{"v":202,"d":"202 "},{"v":4,"d":"04 "},{"v":6,"d":"006 "},"茨城県","日立市","日立市（旧）","助川２",null,"","",{"$f":"IF(K260=\"\",\"\",COUNTIF($K$7:K260,\"ﾘｽﾄ１\"))","v":""},"","","","","","","",{"$f":"IF(S260=\"\",\"\",COUNTIF($S$7:S260,\"該当２\"))","v":""},"","",{"$f":"IF(V260=\"\",\"\",COUNTIF($V$7:V260,\"該当３\"))","v":""}]
[820204007,8,{"v":202,"d":"202 "},{"v":4,"d":"04 "},{"v":7,"d":"007 "},"茨城県","日立市","日立市（旧）","会瀬",null,"","",{"$f":"IF(K261=\"\",\"\",COUNTIF($K$7:K261,\"ﾘｽﾄ１\"))","v":""},"","","","","","","",{"$f":"IF(S261=\"\",\"\",COUNTIF($S$7:S261,\"該当２\"))","v":""},"","",{"$f":"IF(V261=\"\",\"\",COUNTIF($V$7:V261,\"該当３\"))","v":""}]
[820205000,8,{"v":202,"d":"202 "},{"v":5,"d":"05 "},{"v":0,"d":"000 "},"茨城県","日立市","多賀町",null,null,"","",{"$f":"IF(K262=\"\",\"\",COUNTIF($K$7:K262,\"ﾘｽﾄ１\"))","v":""},"","","","","","","",{"$f":"IF(S262=\"\",\"\",COUNTIF($S$7:S262,\"該当２\"))","v":""},"","",{"$f":"IF(V262=\"\",\"\",COUNTIF($V$7:V262,\"該当３\"))","v":""}]
[820205001,8,{"v":202,"d":"202 "},{"v":5,"d":"05 "},{"v":1,"d":"001 "},"茨城県","日立市","多賀町","鮎川",null,"","",{"$f":"IF(K263=\"\",\"\",COUNTIF($K$7:K263,\"ﾘｽﾄ１\"))","v":""},"","","","","","","",{"$f":"IF(S263=\"\",\"\",COUNTIF($S$7:S263,\"該当２\"))","v":""},"","",{"$f":"IF(V263=\"\",\"\",COUNTIF($V$7:V263,\"該当３\"))","v":""}]
[820205002,8,{"v":202,"d":"202 "},{"v":5,"d":"05 "},{"v":2,"d":"002 "},"茨城県","日立市","多賀町","油繩子",null,"","",{"$f":"IF(K264=\"\",\"\",COUNTIF($K$7:K264,\"ﾘｽﾄ１\"))","v":""},"","",{"$f":"IF(O264=\"該当１\",G264,\"\")","v":""},{"$f":"IF(O264=\"該当１\",\"ﾘｽﾄ2\",\"\")","v":""},{"$f":"IF(Q264=\"ﾘｽﾄ2\",H264,\"\")","v":""},"",{"$f":"IF(S264=\"該当２\",H264,\"\")","v":""},{"$f":"IF(S264=\"\",\"\",COUNTIF($S$7:S264,\"該当２\"))","v":""},{"$f":"IF(AND($S$2=H264,E264>0,E264<998),\"該当３\",\"\")","v":""},{"$f":"IF(V264=\"該当３\",I264,\"\")","v":""},{"$f":"IF(V264=\"\",\"\",COUNTIF($V$7:V264,\"該当３\"))","v":""}]
[820205003,8,{"v":202,"d":"202 "},{"v":5,"d":"05 "},{"v":3,"d":"003 "},"茨城県","日立市","多賀町","諏訪",null,{"$f":"IF(AND($C265>0,$H265=\"\"),\"ﾘｽﾄ１\",\"\")","v":""},{"$f":"IF(K265=\"ﾘｽﾄ１\",G265,\"\")","v":""},{"$f":"IF(K265=\"\",\"\",COUNTIF($K$7:K265,\"ﾘｽﾄ１\"))","v":""},{"$f":"IF(AND(D265=0,E265>0),\"同一区\",\"\")","v":""},{"$f":"IF(AND(EXACT($K$2,G265),H265>0),\"該当１\",\"\")","v":""},"","","",{"$f":"IF(AND(Q265=\"ﾘｽﾄ2\",OR(I265=0,AND(N265=\"同一区\",E265=1))),\"該当２\",\"\")","v":""},"",{"$f":"IF(S265=\"\",\"\",COUNTIF($S$7:S265,\"該当２\"))","v":""},"","",{"$f":"IF(V265=\"\",\"\",COUNTIF($V$7:V265,\"該当３\"))","v":""}]
[820205004,8,{"v":202,"d":"202 "},{"v":5,"d":"05 "},{"v":4,"d":"004 "},"茨城県","日立市","多賀町","多賀１",null,"","",{"$f":"IF(K266=\"\",\"\",COUNTIF($K$7:K266,\"ﾘｽﾄ１\"))","v":""},"","","","","","","",{"$f":"IF(S266=\"\",\"\",COUNTIF($S$7:S266,\"該当２\"))","v":""},"","",{"$f":"IF(V266=\"\",\"\",COUNTIF($V$7:V266,\"該当３\"))","v":""}]
[820205005,8,{"v":202,"d":"202 "},{"v":5,"d":"05 "},{"v":5,"d":"005 "},"茨城県","日立市","多賀町","多賀２",null,"","",{"$f":"IF(K267=\"\",\"\",COUNTIF($K$7:K267,\"ﾘｽﾄ１\"))","v":""},"","","","","","","",{"$f":"IF(S267=\"\",\"\",COUNTIF($S$7:S267,\"該当２\"))","v":""},"","",{"$f":"IF(V267=\"\",\"\",COUNTIF($V$7:V267,\"該当３\"))","v":""}]
[820205006,8,{"v":202,"d":"202 "},{"v":5,"d":"05 "},{"v":6,"d":"006 "},"茨城県","日立市","多賀町","河原子",null,"","",{"$f":"IF(K268=\"\",\"\",COUNTIF($K$7:K268,\"ﾘｽﾄ１\"))","v":""},"","","","","","","",{"$f":"IF(S268=\"\",\"\",COUNTIF($S$7:S268,\"該当２\"))","v":""},"","",{"$f":"IF(V268=\"\",\"\",COUNTIF($V$7:V268,\"該当３\"))","v":""}]
[820205007,8,{"v":202,"d":"202 "},{"v":5,"d":"05 "},{"v":7,"d":"007 "},"茨城県","日立市","多賀町","大沼",null,"","",{"$f":"IF(K269=\"\",\"\",COUNTIF($K$7:K269,\"ﾘｽﾄ１\"))","v":""},"","","","","","","",{"$f":"IF(S269=\"\",\"\",COUNTIF($S$7:S269,\"該当２\"))","v":""},"","",{"$f":"IF(V269=\"\",\"\",COUNTIF($V$7:V269,\"該当３\"))","v":""}]
[820205008,8,{"v":202,"d":"202 "},{"v":5,"d":"05 "},{"v":8,"d":"008 "},"茨城県","日立市","多賀町","水木",null,"","",{"$f":"IF(K270=\"\",\"\",COUNTIF($K$7:K270,\"ﾘｽﾄ１\"))","v":""},"","","","","","","",{"$f":"IF(S270=\"\",\"\",COUNTIF($S$7:S270,\"該当２\"))","v":""},"","",{"$f":"IF(V270=\"\",\"\",COUNTIF($V$7:V270,\"該当３\"))","v":""}]
[820206000,8,{"v":202,"d":"202 "},{"v":6,"d":"06 "},{"v":0,"d":"000 "},"茨城県","日立市","久慈町",null,null,"","",{"$f":"IF(K271=\"\",\"\",COUNTIF($K$7:K271,\"ﾘｽﾄ１\"))","v":""},"","","","","","","",{"$f":"IF(S271=\"\",\"\",COUNTIF($S$7:S271,\"該当２\"))","v":""},"","",{"$f":"IF(V271=\"\",\"\",COUNTIF($V$7:V271,\"該当３\"))","v":""}]
[820206001,8,{"v":202,"d":"202 "},{"v":6,"d":"06 "},{"v":1,"d":"001 "},"茨城県","日立市","久慈町","新宿",null,"","",{"$f":"IF(K272=\"\",\"\",COUNTIF($K$7:K272,\"ﾘｽﾄ１\"))","v":""},"","","","","","","",{"$f":"IF(S272=\"\",\"\",COUNTIF($S$7:S272,\"該当２\"))","v":""},"","",{"$f":"IF(V272=\"\",\"\",COUNTIF($V$7:V272,\"該当３\"))","v":""}]
[820206002,8,{"v":202,"d":"202 "},{"v":6,"d":"06 "},{"v":2,"d":"002 "},"茨城県","日立市","久慈町","明神",null,"","",{"$f":"IF(K273=\"\",\"\",COUNTIF($K$7:K273,\"ﾘｽﾄ１\"))","v":""},"","","","","","","",{"$f":"IF(S273=\"\",\"\",COUNTIF($S$7:S273,\"該当２\"))","v":""},"","",{"$f":"IF(V273=\"\",\"\",COUNTIF($V$7:V273,\"該当３\"))","v":""}]
[820206003,8,{"v":202,"d":"202 "},{"v":6,"d":"06 "},{"v":3,"d":"003 "},"茨城県","日立市","久慈町","本町",null,"","",{"$f":"IF(K274=\"\",\"\",COUNTIF($K$7:K274,\"ﾘｽﾄ１\"))","v":""},"","","","","","","",{"$f":"IF(S274=\"\",\"\",COUNTIF($S$7:S274,\"該当２\"))","v":""},"","",{"$f":"IF(V274=\"\",\"\",COUNTIF($V$7:V274,\"該当３\"))","v":""}]
[820206004,8,{"v":202,"d":"202 "},{"v":6,"d":"06 "},{"v":4,"d":"004 "},"茨城県","日立市","久慈町","泉町",null,"","",{"$f":"IF(K275=\"\",\"\",COUNTIF($K$7:K275,\"ﾘｽﾄ１\"))","v":""},"","","","","","","",{"$f":"IF(S275=\"\",\"\",COUNTIF($S$7:S275,\"該当２\"))","v":""},"","",{"$f":"IF(V275=\"\",\"\",COUNTIF($V$7:V275,\"該当３\"))","v":""}]
[820206005,8,{"v":202,"d":"202 "},{"v":6,"d":"06 "},{"v":5,"d":"005 "},"茨城県","日立市","久慈町","行戸",null,"","",{"$f":"IF(K276=\"\",\"\",COUNTIF($K$7:K276,\"ﾘｽﾄ１\"))","v":""},"","","","","","","",{"$f":"IF(S276=\"\",\"\",COUNTIF($S$7:S276,\"該当２\"))","v":""},"","",{"$f":"IF(V276=\"\",\"\",COUNTIF($V$7:V276,\"該当３\"))","v":""}]
[820206006,8,{"v":202,"d":"202 "},{"v":6,"d":"06 "},{"v":6,"d":"006 "},"茨城県","日立市","久慈町","大みか",null,"","",{"$f":"IF(K277=\"\",\"\",COUNTIF($K$7:K277,\"ﾘｽﾄ１\"))","v":""},"","","","","","","",{"$f":"IF(S277=\"\",\"\",COUNTIF($S$7:S277,\"該当２\"))","v":""},"","",{"$f":"IF(V277=\"\",\"\",COUNTIF($V$7:V277,\"該当３\"))","v":""}]
[820207000,8,{"v":202,"d":"202 "},{"v":7,"d":"07 "},{"v":0,"d":"000 "},"茨城県","日立市","坂本村",null,null,"","",{"$f":"IF(K278=\"\",\"\",COUNTIF($K$7:K278,\"ﾘｽﾄ１\"))","v":""},"","","","","","","",{"$f":"IF(S278=\"\",\"\",COUNTIF($S$7:S278,\"該当２\"))","v":""},"","",{"$f":"IF(V278=\"\",\"\",COUNTIF($V$7:V278,\"該当３\"))","v":""}]
[820207001,8,{"v":202,"d":"202 "},{"v":7,"d":"07 "},{"v":1,"d":"001 "},"茨城県","日立市","坂本村","大橋",null,"","",{"$f":"IF(K279=\"\",\"\",COUNTIF($K$7:K279,\"ﾘｽﾄ１\"))","v":""},"","","","","","","",{"$f":"IF(S279=\"\",\"\",COUNTIF($S$7:S279,\"該当２\"))","v":""},"","",{"$f":"IF(V279=\"\",\"\",COUNTIF($V$7:V279,\"該当３\"))","v":""}]
[820207002,8,{"v":202,"d":"202 "},{"v":7,"d":"07 "},{"v":2,"d":"002 "},"茨城県","日立市","坂本村","田中内",null,"","",{"$f":"IF(K280=\"\",\"\",COUNTIF($K$7:K280,\"ﾘｽﾄ１\"))","v":""},"","","","","","","",{"$f":"IF(S280=\"\",\"\",COUNTIF($S$7:S280,\"該当２\"))","v":""},"","",{"$f":"IF(V280=\"\",\"\",COUNTIF($V$7:V280,\"該当３\"))","v":""}]
[820207003,8,{"v":202,"d":"202 "},{"v":7,"d":"07 "},{"v":3,"d":"003 "},"茨城県","日立市","坂本村","茂宮",null,"","",{"$f":"IF(K281=\"\",\"\",COUNTIF($K$7:K281,\"ﾘｽﾄ１\"))","v":""},"","","","","","","",{"$f":"IF(S281=\"\",\"\",COUNTIF($S$7:S281,\"該当２\"))","v":""},"","",{"$f":"IF(V281=\"\",\"\",COUNTIF($V$7:V281,\"該当３\"))","v":""}]
[820207004,8,{"v":202,"d":"202 "},{"v":7,"d":"07 "},{"v":4,"d":"004 "},"茨城県","日立市","坂本村","石名坂",null,"","",{"$f":"IF(K282=\"\",\"\",COUNTIF($K$7:K282,\"ﾘｽﾄ１\"))","v":""},"","","","","","","",{"$f":"IF(S282=\"\",\"\",COUNTIF($S$7:S282,\"該当２\"))","v":""},"","",{"$f":"IF(V282=\"\",\"\",COUNTIF($V$7:V282,\"該当３\"))","v":""}]
[820207005,8,{"v":202,"d":"202 "},{"v":7,"d":"07 "},{"v":5,"d":"005 "},"茨城県","日立市","坂本村","南高野",null,"","",{"$f":"IF(K283=\"\",\"\",COUNTIF($K$7:K283,\"ﾘｽﾄ１\"))","v":""},"","","","","","","",{"$f":"IF(S283=\"\",\"\",COUNTIF($S$7:S283,\"該当２\"))","v":""},"","",{"$f":"IF(V283=\"\",\"\",COUNTIF($V$7:V283,\"該当３\"))","v":""}]
[820208000,8,{"v":202,"d":"202 "},{"v":8,"d":"08 "},{"v":0,"d":"000 "},"茨城県","日立市","東小沢村",null,null,"","",{"$f":"IF(K284=\"\",\"\",COUNTIF($K$7:K284,\"ﾘｽﾄ１\"))","v":""},"","","","","","","",{"$f":"IF(S284=\"\",\"\",COUNTIF($S$7:S284,\"該当２\"))","v":""},"","",{"$f":"IF(V284=\"\",\"\",COUNTIF($V$7:V284,\"該当３\"))","v":""}]
[820208001,8,{"v":202,"d":"202 "},{"v":8,"d":"08 "},{"v":1,"d":"001 "},"茨城県","日立市","東小沢村","神田",null,"","",{"$f":"IF(K285=\"\",\"\",COUNTIF($K$7:K285,\"ﾘｽﾄ１\"))","v":""},"","","","","","","",{"$f":"IF(S285=\"\",\"\",COUNTIF($S$7:S285,\"該当２\"))","v":""},"","",{"$f":"IF(V285=\"\",\"\",COUNTIF($V$7:V285,\"該当３\"))","v":""}]
[820208002,8,{"v":202,"d":"202 "},{"v":8,"d":"08 "},{"v":2,"d":"002 "},"茨城県","日立市","東小沢村","下土木内",null,"","",{"$f":"IF(K286=\"\",\"\",COUNTIF($K$7:K286,\"ﾘｽﾄ１\"))","v":""},"","","","","","","",{"$f":"IF(S286=\"\",\"\",COUNTIF($S$7:S286,\"該当２\"))","v":""},"","",{"$f":"IF(V286=\"\",\"\",COUNTIF($V$7:V286,\"該当３\"))","v":""}]
[820208003,8,{"v":202,"d":"202 "},{"v":8,"d":"08 "},{"v":3,"d":"003 "},"茨城県","日立市","東小沢村","留",null,"","",{"$f":"IF(K287=\"\",\"\",COUNTIF($K$7:K287,\"ﾘｽﾄ１\"))","v":""},"","","","","","","",{"$f":"IF(S287=\"\",\"\",COUNTIF($S$7:S287,\"該当２\"))","v":""},"","",{"$f":"IF(V287=\"\",\"\",COUNTIF($V$7:V287,\"該当３\"))","v":""}]
[820209000,8,{"v":202,"d":"202 "},{"v":9,"d":"09 "},{"v":0,"d":"000 "},"茨城県","日立市","黒前村２－１",null,null,"","",{"$f":"IF(K288=\"\",\"\",COUNTIF($K$7:K288,\"ﾘｽﾄ１\"))","v":""},"","","","","","","",{"$f":"IF(S288=\"\",\"\",COUNTIF($S$7:S288,\"該当２\"))","v":""},"","",{"$f":"IF(V288=\"\",\"\",COUNTIF($V$7:V288,\"該当３\"))","v":""}]
[820209001,8,{"v":202,"d":"202 "},{"v":9,"d":"09 "},{"v":1,"d":"001 "},"茨城県","日立市","黒前村２－１","高原",null,"","",{"$f":"IF(K289=\"\",\"\",COUNTIF($K$7:K289,\"ﾘｽﾄ１\"))","v":""},"","","","","","","",{"$f":"IF(S289=\"\",\"\",COUNTIF($S$7:S289,\"該当２\"))","v":""},"","",{"$f":"IF(V289=\"\",\"\",COUNTIF($V$7:V289,\"該当３\"))","v":""}]
[820209002,8,{"v":202,"d":"202 "},{"v":9,"d":"09 "},{"v":2,"d":"002 "},"茨城県","日立市","黒前村２－１","黒坂",null,"","",{"$f":"IF(K290=\"\",\"\",COUNTIF($K$7:K290,\"ﾘｽﾄ１\"))","v":""},"","","","","","","",{"$f":"IF(S290=\"\",\"\",COUNTIF($S$7:S290,\"該当２\"))","v":""},"","",{"$f":"IF(V290=\"\",\"\",COUNTIF($V$7:V290,\"該当３\"))","v":""}]
[820209003,8,{"v":202,"d":"202 "},{"v":9,"d":"09 "},{"v":3,"d":"003 "},"茨城県","日立市","黒前村２－１","山部",null,"","",{"$f":"IF(K291=\"\",\"\",COUNTIF($K$7:K291,\"ﾘｽﾄ１\"))","v":""},"","","","","","","",{"$f":"IF(S291=\"\",\"\",COUNTIF($S$7:S291,\"該当２\"))","v":""},"","",{"$f":"IF(V291=\"\",\"\",COUNTIF($V$7:V291,\"該当３\"))","v":""}]
[820210000,8,{"v":202,"d":"202 "},{"v":10,"d":"10 "},{"v":0,"d":"000 "},"茨城県","日立市","櫛形村",null,null,"","",{"$f":"IF(K292=\"\",\"\",COUNTIF($K$7:K292,\"ﾘｽﾄ１\"))","v":""},"","","","","","","",{"$f":"IF(S292=\"\",\"\",COUNTIF($S$7:S292,\"該当２\"))","v":""},"","",{"$f":"IF(V292=\"\",\"\",COUNTIF($V$7:V292,\"該当３\"))","v":""}]
[820210001,8,{"v":202,"d":"202 "},{"v":10,"d":"10 "},{"v":1,"d":"001 "},"茨城県","日立市","櫛形村","友部",null,"","",{"$f":"IF(K293=\"\",\"\",COUNTIF($K$7:K293,\"ﾘｽﾄ１\"))","v":""},"","","","","","","",{"$f":"IF(S293=\"\",\"\",COUNTIF($S$7:S293,\"該当２\"))","v":""},"","",{"$f":"IF(V293=\"\",\"\",COUNTIF($V$7:V293,\"該当３\"))","v":""}]
[820210002,8,{"v":202,"d":"202 "},{"v":10,"d":"10 "},{"v":2,"d":"002 "},"茨城県","日立市","櫛形村","伊師本郷",null,"","",{"$f":"IF(K294=\"\",\"\",COUNTIF($K$7:K294,\"ﾘｽﾄ１\"))","v":""},"","","","","","","",{"$f":"IF(S294=\"\",\"\",COUNTIF($S$7:S294,\"該当２\"))","v":""},"","",{"$f":"IF(V294=\"\",\"\",COUNTIF($V$7:V294,\"該当３\"))","v":""}]
[820210003,8,{"v":202,"d":"202 "},{"v":10,"d":"10 "},{"v":3,"d":"003 "},"茨城県","日立市","櫛形村","伊師町",null,"","",{"$f":"IF(K295=\"\",\"\",COUNTIF($K$7:K295,\"ﾘｽﾄ１\"))","v":""},"","","","","","","",{"$f":"IF(S295=\"\",\"\",COUNTIF($S$7:S295,\"該当２\"))","v":""},"","",{"$f":"IF(V295=\"\",\"\",COUNTIF($V$7:V295,\"該当３\"))","v":""}]
[820210004,8,{"v":202,"d":"202 "},{"v":10,"d":"10 "},{"v":4,"d":"004 "},"茨城県","日立市","櫛形村","伊師浜",null,"","",{"$f":"IF(K296=\"\",\"\",COUNTIF($K$7:K296,\"ﾘｽﾄ１\"))","v":""},"","","","","","","",{"$f":"IF(S296=\"\",\"\",COUNTIF($S$7:S296,\"該当２\"))","v":""},"","",{"$f":"IF(V296=\"\",\"\",COUNTIF($V$7:V296,\"該当３\"))","v":""}]
[820300000,8,{"v":203,"d":"203 "},{"v":0,"d":"00 "},{"v":0,"d":"000 "},"茨城県","土浦市",{"$nulls":3},"ﾘｽﾄ１","土浦市",{"$f":"IF(K297=\"\",\"\",COUNTIF($K$7:K297,\"ﾘｽﾄ１\"))","v":3},"","","","","","","",{"$f":"IF(S297=\"\",\"\",COUNTIF($S$7:S297,\"該当２\"))","v":""},"","",{"$f":"IF(V297=\"\",\"\",COUNTIF($V$7:V297,\"該当３\"))","v":""}]
[820301000,8,{"v":203,"d":"203 "},{"v":1,"d":"01 "},{"v":0,"d":"000 "},"茨城県","土浦市","土浦市（旧）",null,null,"","",{"$f":"IF(K298=\"\",\"\",COUNTIF($K$7:K298,\"ﾘｽﾄ１\"))","v":""},"","","","","","","",{"$f":"IF(S298=\"\",\"\",COUNTIF($S$7:S298,\"該当２\"))","v":""},"","",{"$f":"IF(V298=\"\",\"\",COUNTIF($V$7:V298,\"該当３\"))","v":""}]
[820301001,8,{"v":203,"d":"203 "},{"v":1,"d":"01 "},{"v":1,"d":"001 "},"茨城県","土浦市","土浦市（旧）","小松",null,"","",{"$f":"IF(K299=\"\",\"\",COUNTIF($K$7:K299,\"ﾘｽﾄ１\"))","v":""},"","","","","","","",{"$f":"IF(S299=\"\",\"\",COUNTIF($S$7:S299,\"該当２\"))","v":""},"","",{"$f":"IF(V299=\"\",\"\",COUNTIF($V$7:V299,\"該当３\"))","v":""}]
[820301002,8,{"v":203,"d":"203 "},{"v":1,"d":"01 "},{"v":2,"d":"002 "},"茨城県","土浦市","土浦市（旧）","大岩田",null,"","",{"$f":"IF(K300=\"\",\"\",COUNTIF($K$7:K300,\"ﾘｽﾄ１\"))","v":""},"","","","","","","",{"$f":"IF(S300=\"\",\"\",COUNTIF($S$7:S300,\"該当２\"))","v":""},"","",{"$f":"IF(V300=\"\",\"\",COUNTIF($V$7:V300,\"該当３\"))","v":""}]
[820301003,8,{"v":203,"d":"203 "},{"v":1,"d":"01 "},{"v":3,"d":"003 "},"茨城県","土浦市","土浦市（旧）","小岩田",null,"","",{"$f":"IF(K301=\"\",\"\",COUNTIF($K$7:K301,\"ﾘｽﾄ１\"))","v":""},"","","","","","","",{"$f":"IF(S301=\"\",\"\",COUNTIF($S$7:S301,\"該当２\"))","v":""},"","",{"$f":"IF(V301=\"\",\"\",COUNTIF($V$7:V301,\"該当３\"))","v":""}]
[820301004,8,{"v":203,"d":"203 "},{"v":1,"d":"01 "},{"v":4,"d":"004 "},"茨城県","土浦市","土浦市（旧）","烏山",null,"","",{"$f":"IF(K302=\"\",\"\",COUNTIF($K$7:K302,\"ﾘｽﾄ１\"))","v":""},"","","","","","","",{"$f":"IF(S302=\"\",\"\",COUNTIF($S$7:S302,\"該当２\"))","v":""},"","",{"$f":"IF(V302=\"\",\"\",COUNTIF($V$7:V302,\"該当３\"))","v":""}]
[820301005,8,{"v":203,"d":"203 "},{"v":1,"d":"01 "},{"v":5,"d":"005 "},"茨城県","土浦市","土浦市（旧）","右籾",null,"","",{"$f":"IF(K303=\"\",\"\",COUNTIF($K$7:K303,\"ﾘｽﾄ１\"))","v":""},"","","","","","","",{"$f":"IF(S303=\"\",\"\",COUNTIF($S$7:S303,\"該当２\"))","v":""},"","",{"$f":"IF(V303=\"\",\"\",COUNTIF($V$7:V303,\"該当３\"))","v":""}]
[820301006,8,{"v":203,"d":"203 "},{"v":1,"d":"01 "},{"v":6,"d":"006 "},"茨城県","土浦市","土浦市（旧）","摩利山",null,"","",{"$f":"IF(K304=\"\",\"\",COUNTIF($K$7:K304,\"ﾘｽﾄ１\"))","v":""},"","","","","","","",{"$f":"IF(S304=\"\",\"\",COUNTIF($S$7:S304,\"該当２\"))","v":""},"","",{"$f":"IF(V304=\"\",\"\",COUNTIF($V$7:V304,\"該当３\"))","v":""}]
[820301007,8,{"v":203,"d":"203 "},{"v":1,"d":"01 "},{"v":7,"d":"007 "},"茨城県","土浦市","土浦市（旧）","荒川沖",null,"","",{"$f":"IF(K305=\"\",\"\",COUNTIF($K$7:K305,\"ﾘｽﾄ１\"))","v":""},"","","","","","","",{"$f":"IF(S305=\"\",\"\",COUNTIF($S$7:S305,\"該当２\"))","v":""},"","",{"$f":"IF(V305=\"\",\"\",COUNTIF($V$7:V305,\"該当３\"))","v":""}]
[820301008,8,{"v":203,"d":"203 "},{"v":1,"d":"01 "},{"v":8,"d":"008 "},"茨城県","土浦市","土浦市（旧）","乙戸",null,"","",{"$f":"IF(K306=\"\",\"\",COUNTIF($K$7:K306,\"ﾘｽﾄ１\"))","v":""},"","","","","","","",{"$f":"IF(S306=\"\",\"\",COUNTIF($S$7:S306,\"該当２\"))","v":""},"","",{"$f":"IF(V306=\"\",\"\",COUNTIF($V$7:V306,\"該当３\"))","v":""}]
[820301009,8,{"v":203,"d":"203 "},{"v":1,"d":"01 "},{"v":9,"d":"009 "},"茨城県","土浦市","土浦市（旧）","小山田",null,"","",{"$f":"IF(K307=\"\",\"\",COUNTIF($K$7:K307,\"ﾘｽﾄ１\"))","v":""},"","","","","","","",{"$f":"IF(S307=\"\",\"\",COUNTIF($S$7:S307,\"該当２\"))","v":""},"","",{"$f":"IF(V307=\"\",\"\",COUNTIF($V$7:V307,\"該当３\"))","v":""}]
[820301010,8,{"v":203,"d":"203 "},{"v":1,"d":"01 "},{"v":10,"d":"010 "},"茨城県","土浦市","土浦市（旧）","中",null,"","",{"$f":"IF(K308=\"\",\"\",COUNTIF($K$7:K308,\"ﾘｽﾄ１\"))","v":""},"","","","","","","",{"$f":"IF(S308=\"\",\"\",COUNTIF($S$7:S308,\"該当２\"))","v":""},"","",{"$f":"IF(V308=\"\",\"\",COUNTIF($V$7:V308,\"該当３\"))","v":""}]
[820301011,8,{"v":203,"d":"203 "},{"v":1,"d":"01 "},{"v":11,"d":"011 "},"茨城県","土浦市","土浦市（旧）","西根",null,"","",{"$f":"IF(K309=\"\",\"\",COUNTIF($K$7:K309,\"ﾘｽﾄ１\"))","v":""},"","","","","","","",{"$f":"IF(S309=\"\",\"\",COUNTIF($S$7:S309,\"該当２\"))","v":""},"","",{"$f":"IF(V309=\"\",\"\",COUNTIF($V$7:V309,\"該当３\"))","v":""}]
[820301012,8,{"v":203,"d":"203 "},{"v":1,"d":"01 "},{"v":12,"d":"012 "},"茨城県","土浦市","土浦市（旧）","又城",null,"","",{"$f":"IF(K310=\"\",\"\",COUNTIF($K$7:K310,\"ﾘｽﾄ１\"))","v":""},"","","","","","","",{"$f":"IF(S310=\"\",\"\",COUNTIF($S$7:S310,\"該当２\"))","v":""},"","",{"$f":"IF(V310=\"\",\"\",COUNTIF($V$7:V310,\"該当３\"))","v":""}]
[820301013,8,{"v":203,"d":"203 "},{"v":1,"d":"01 "},{"v":13,"d":"013 "},"茨城県","土浦市","土浦市（旧）","殿山",null,"","",{"$f":"IF(K311=\"\",\"\",COUNTIF($K$7:K311,\"ﾘｽﾄ１\"))","v":""},"","","","","","","",{"$f":"IF(S311=\"\",\"\",COUNTIF($S$7:S311,\"該当２\"))","v":""},"","",{"$f":"IF(V311=\"\",\"\",COUNTIF($V$7:V311,\"該当３\"))","v":""}]
[820301014,8,{"v":203,"d":"203 "},{"v":1,"d":"01 "},{"v":14,"d":"014 "},"茨城県","土浦市","土浦市（旧）","大房",null,"","",{"$f":"IF(K312=\"\",\"\",COUNTIF($K$7:K312,\"ﾘｽﾄ１\"))","v":""},"","","","","","","",{"$f":"IF(S312=\"\",\"\",COUNTIF($S$7:S312,\"該当２\"))","v":""},"","",{"$f":"IF(V312=\"\",\"\",COUNTIF($V$7:V312,\"該当３\"))","v":""}]
[820301015,8,{"v":203,"d":"203 "},{"v":1,"d":"01 "},{"v":15,"d":"015 "},"茨城県","土浦市","土浦市（旧）","永国",null,"","",{"$f":"IF(K313=\"\",\"\",COUNTIF($K$7:K313,\"ﾘｽﾄ１\"))","v":""},"","","","","","","",{"$f":"IF(S313=\"\",\"\",COUNTIF($S$7:S313,\"該当２\"))","v":""},"","",{"$f":"IF(V313=\"\",\"\",COUNTIF($V$7:V313,\"該当３\"))","v":""}]
[820301016,8,{"v":203,"d":"203 "},{"v":1,"d":"01 "},{"v":16,"d":"016 "},"茨城県","土浦市","土浦市（旧）","中高津",null,"","",{"$f":"IF(K314=\"\",\"\",COUNTIF($K$7:K314,\"ﾘｽﾄ１\"))","v":""},"","","","","","","",{"$f":"IF(S314=\"\",\"\",COUNTIF($S$7:S314,\"該当２\"))","v":""},"","",{"$f":"IF(V314=\"\",\"\",COUNTIF($V$7:V314,\"該当３\"))","v":""}]
[820301017,8,{"v":203,"d":"203 "},{"v":1,"d":"01 "},{"v":17,"d":"017 "},"茨城県","土浦市","土浦市（旧）","下高津",null,"","",{"$f":"IF(K315=\"\",\"\",COUNTIF($K$7:K315,\"ﾘｽﾄ１\"))","v":""},"","","","","","","",{"$f":"IF(S315=\"\",\"\",COUNTIF($S$7:S315,\"該当２\"))","v":""},"","",{"$f":"IF(V315=\"\",\"\",COUNTIF($V$7:V315,\"該当３\"))","v":""}]
[820301018,8,{"v":203,"d":"203 "},{"v":1,"d":"01 "},{"v":18,"d":"018 "},"茨城県","土浦市","土浦市（旧）","上高津",null,"","",{"$f":"IF(K316=\"\",\"\",COUNTIF($K$7:K316,\"ﾘｽﾄ１\"))","v":""},"","","","","","","",{"$f":"IF(S316=\"\",\"\",COUNTIF($S$7:S316,\"該当２\"))","v":""},"","",{"$f":"IF(V316=\"\",\"\",COUNTIF($V$7:V316,\"該当３\"))","v":""}]
[820301019,8,{"v":203,"d":"203 "},{"v":1,"d":"01 "},{"v":19,"d":"019 "},"茨城県","土浦市","土浦市（旧）","粕毛",null,"","",{"$f":"IF(K317=\"\",\"\",COUNTIF($K$7:K317,\"ﾘｽﾄ１\"))","v":""},"","","","","","","",{"$f":"IF(S317=\"\",\"\",COUNTIF($S$7:S317,\"該当２\"))","v":""},"","",{"$f":"IF(V317=\"\",\"\",COUNTIF($V$7:V317,\"該当３\"))","v":""}]
[820301020,8,{"v":203,"d":"203 "},{"v":1,"d":"01 "},{"v":20,"d":"020 "},"茨城県","土浦市","土浦市（旧）","宍塚",null,"","",{"$f":"IF(K318=\"\",\"\",COUNTIF($K$7:K318,\"ﾘｽﾄ１\"))","v":""},"","","","","","","",{"$f":"IF(S318=\"\",\"\",COUNTIF($S$7:S318,\"該当２\"))","v":""},"","",{"$f":"IF(V318=\"\",\"\",COUNTIF($V$7:V318,\"該当３\"))","v":""}]
[820301021,8,{"v":203,"d":"203 "},{"v":1,"d":"01 "},{"v":21,"d":"021 "},"茨城県","土浦市","土浦市（旧）","矢作",null,"","",{"$f":"IF(K319=\"\",\"\",COUNTIF($K$7:K319,\"ﾘｽﾄ１\"))","v":""},"","","","","","","",{"$f":"IF(S319=\"\",\"\",COUNTIF($S$7:S319,\"該当２\"))","v":""},"","",{"$f":"IF(V319=\"\",\"\",COUNTIF($V$7:V319,\"該当３\"))","v":""}]
[820301022,8,{"v":203,"d":"203 "},{"v":1,"d":"01 "},{"v":22,"d":"022 "},"茨城県","土浦市","土浦市（旧）","飯田",null,"","",{"$f":"IF(K320=\"\",\"\",COUNTIF($K$7:K320,\"ﾘｽﾄ１\"))","v":""},"","","","","","","",{"$f":"IF(S320=\"\",\"\",COUNTIF($S$7:S320,\"該当２\"))","v":""},"","",{"$f":"IF(V320=\"\",\"\",COUNTIF($V$7:V320,\"該当３\"))","v":""}]
[820301023,8,{"v":203,"d":"203 "},{"v":1,"d":"01 "},{"v":23,"d":"023 "},"茨城県","土浦市","土浦市（旧）","佐野子",null,"","",{"$f":"IF(K321=\"\",\"\",COUNTIF($K$7:K321,\"ﾘｽﾄ１\"))","v":""},"","","","","","","",{"$f":"IF(S321=\"\",\"\",COUNTIF($S$7:S321,\"該当２\"))","v":""},"","",{"$f":"IF(V321=\"\",\"\",COUNTIF($V$7:V321,\"該当３\"))","v":""}]
[820301024,8,{"v":203,"d":"203 "},{"v":1,"d":"01 "},{"v":24,"d":"024 "},"茨城県","土浦市","土浦市（旧）","虫掛",null,"","",{"$f":"IF(K322=\"\",\"\",COUNTIF($K$7:K322,\"ﾘｽﾄ１\"))","v":""},"","","","","","","",{"$f":"IF(S322=\"\",\"\",COUNTIF($S$7:S322,\"該当２\"))","v":""},"","",{"$f":"IF(V322=\"\",\"\",COUNTIF($V$7:V322,\"該当３\"))","v":""}]
[820301025,8,{"v":203,"d":"203 "},{"v":1,"d":"01 "},{"v":25,"d":"025 "},"茨城県","土浦市","土浦市（旧）","常名",null,"","",{"$f":"IF(K323=\"\",\"\",COUNTIF($K$7:K323,\"ﾘｽﾄ１\"))","v":""},"","","","","","","",{"$f":"IF(S323=\"\",\"\",COUNTIF($S$7:S323,\"該当２\"))","v":""},"","",{"$f":"IF(V323=\"\",\"\",COUNTIF($V$7:V323,\"該当３\"))","v":""}]
[820301026,8,{"v":203,"d":"203 "},{"v":1,"d":"01 "},{"v":26,"d":"026 "},"茨城県","土浦市","土浦市（旧）","並木",null,"","",{"$f":"IF(K324=\"\",\"\",COUNTIF($K$7:K324,\"ﾘｽﾄ１\"))","v":""},"","","","","","","",{"$f":"IF(S324=\"\",\"\",COUNTIF($S$7:S324,\"該当２\"))","v":""},"","",{"$f":"IF(V324=\"\",\"\",COUNTIF($V$7:V324,\"該当３\"))","v":""}]
[820301027,8,{"v":203,"d":"203 "},{"v":1,"d":"01 "},{"v":27,"d":"027 "},"茨城県","土浦市","土浦市（旧）","笠師",null,"","",{"$f":"IF(K325=\"\",\"\",COUNTIF($K$7:K325,\"ﾘｽﾄ１\"))","v":""},"","","","","","","",{"$f":"IF(S325=\"\",\"\",COUNTIF($S$7:S325,\"該当２\"))","v":""},"","",{"$f":"IF(V325=\"\",\"\",COUNTIF($V$7:V325,\"該当３\"))","v":""}]
[820301028,8,{"v":203,"d":"203 "},{"v":1,"d":"01 "},{"v":28,"d":"028 "},"茨城県","土浦市","土浦市（旧）","小山崎",null,"","",{"$f":"IF(K326=\"\",\"\",COUNTIF($K$7:K326,\"ﾘｽﾄ１\"))","v":""},"","","","","","","",{"$f":"IF(S326=\"\",\"\",COUNTIF($S$7:S326,\"該当２\"))","v":""},"","",{"$f":"IF(V326=\"\",\"\",COUNTIF($V$7:V326,\"該当３\"))","v":""}]
[820301029,8,{"v":203,"d":"203 "},{"v":1,"d":"01 "},{"v":29,"d":"029 "},"茨城県","土浦市","土浦市（旧）","中都地区",null,"","",{"$f":"IF(K327=\"\",\"\",COUNTIF($K$7:K327,\"ﾘｽﾄ１\"))","v":""},"","","","","","","",{"$f":"IF(S327=\"\",\"\",COUNTIF($S$7:S327,\"該当２\"))","v":""},"","",{"$f":"IF(V327=\"\",\"\",COUNTIF($V$7:V327,\"該当３\"))","v":""}]
[820301030,8,{"v":203,"d":"203 "},{"v":1,"d":"01 "},{"v":30,"d":"030 "},"茨城県","土浦市","土浦市（旧）","今泉",null,"","",{"$f":"IF(K328=\"\",\"\",COUNTIF($K$7:K328,\"ﾘｽﾄ１\"))","v":""},"","",{"$f":"IF(O328=\"該当１\",G328,\"\")","v":""},{"$f":"IF(O328=\"該当１\",\"ﾘｽﾄ2\",\"\")","v":""},{"$f":"IF(Q328=\"ﾘｽﾄ2\",H328,\"\")","v":""},"",{"$f":"IF(S328=\"該当２\",H328,\"\")","v":""},{"$f":"IF(S328=\"\",\"\",COUNTIF($S$7:S328,\"該当２\"))","v":""},{"$f":"IF(AND($S$2=H328,E328>0,E328<998),\"該当３\",\"\")","v":""},{"$f":"IF(V328=\"該当３\",I328,\"\")","v":""},{"$f":"IF(V328=\"\",\"\",COUNTIF($V$7:V328,\"該当３\"))","v":""}]
[820301031,8,{"v":203,"d":"203 "},{"v":1,"d":"01 "},{"v":31,"d":"031 "},"茨城県","土浦市","土浦市（旧）","粟野",null,{"$f":"IF(AND($C329>0,$H329=\"\"),\"ﾘｽﾄ１\",\"\")","v":""},{"$f":"IF(K329=\"ﾘｽﾄ１\",G329,\"\")","v":""},{"$f":"IF(K329=\"\",\"\",COUNTIF($K$7:K329,\"ﾘｽﾄ１\"))","v":""},{"$f":"IF(AND(D329=0,E329>0),\"同一区\",\"\")","v":""},{"$f":"IF(AND(EXACT($K$2,G329),H329>0),\"該当１\",\"\")","v":""},"","","",{"$f":"IF(AND(Q329=\"ﾘｽﾄ2\",OR(I329=0,AND(N329=\"同一区\",E329=1))),\"該当２\",\"\")","v":""},"",{"$f":"IF(S329=\"\",\"\",COUNTIF($S$7:S329,\"該当２\"))","v":""},"","",{"$f":"IF(V329=\"\",\"\",COUNTIF($V$7:V329,\"該当３\"))","v":""}]
[820301032,8,{"v":203,"d":"203 "},{"v":1,"d":"01 "},{"v":32,"d":"032 "},"茨城県","土浦市","土浦市（旧）","中貫",null,"","",{"$f":"IF(K330=\"\",\"\",COUNTIF($K$7:K330,\"ﾘｽﾄ１\"))","v":""},"","","","","","","",{"$f":"IF(S330=\"\",\"\",COUNTIF($S$7:S330,\"該当２\"))","v":""},"","",{"$f":"IF(V330=\"\",\"\",COUNTIF($V$7:V330,\"該当３\"))","v":""}]
[820301033,8,{"v":203,"d":"203 "},{"v":1,"d":"01 "},{"v":33,"d":"033 "},"茨城県","土浦市","土浦市（旧）","板谷",null,"","",{"$f":"IF(K331=\"\",\"\",COUNTIF($K$7:K331,\"ﾘｽﾄ１\"))","v":""},"","","","","","","",{"$f":"IF(S331=\"\",\"\",COUNTIF($S$7:S331,\"該当２\"))","v":""},"","",{"$f":"IF(V331=\"\",\"\",COUNTIF($V$7:V331,\"該当３\"))","v":""}]
[820301034,8,{"v":203,"d":"203 "},{"v":1,"d":"01 "},{"v":34,"d":"034 "},"茨城県","土浦市","土浦市（旧）","木田余",null,"","",{"$f":"IF(K332=\"\",\"\",COUNTIF($K$7:K332,\"ﾘｽﾄ１\"))","v":""},"","","","","","","",{"$f":"IF(S332=\"\",\"\",COUNTIF($S$7:S332,\"該当２\"))","v":""},"","",{"$f":"IF(V332=\"\",\"\",COUNTIF($V$7:V332,\"該当３\"))","v":""}]
[820301035,8,{"v":203,"d":"203 "},{"v":1,"d":"01 "},{"v":35,"d":"035 "},"茨城県","土浦市","土浦市（旧）","真鍋東西",null,"","",{"$f":"IF(K333=\"\",\"\",COUNTIF($K$7:K333,\"ﾘｽﾄ１\"))","v":""},"","","","","","","",{"$f":"IF(S333=\"\",\"\",COUNTIF($S$7:S333,\"該当２\"))","v":""},"","",{"$f":"IF(V333=\"\",\"\",COUNTIF($V$7:V333,\"該当３\"))","v":""}]
[820301036,8,{"v":203,"d":"203 "},{"v":1,"d":"01 "},{"v":36,"d":"036 "},"茨城県","土浦市","土浦市（旧）","殿里",null,"","",{"$f":"IF(K334=\"\",\"\",COUNTIF($K$7:K334,\"ﾘｽﾄ１\"))","v":""},"","","","","","","",{"$f":"IF(S334=\"\",\"\",COUNTIF($S$7:S334,\"該当２\"))","v":""},"","",{"$f":"IF(V334=\"\",\"\",COUNTIF($V$7:V334,\"該当３\"))","v":""}]
[820301037,8,{"v":203,"d":"203 "},{"v":1,"d":"01 "},{"v":37,"d":"037 "},"茨城県","土浦市","土浦市（旧）","田中",null,"","",{"$f":"IF(K335=\"\",\"\",COUNTIF($K$7:K335,\"ﾘｽﾄ１\"))","v":""},"","","","","","","",{"$f":"IF(S335=\"\",\"\",COUNTIF($S$7:S335,\"該当２\"))","v":""},"","",{"$f":"IF(V335=\"\",\"\",COUNTIF($V$7:V335,\"該当３\"))","v":""}]
[820301038,8,{"v":203,"d":"203 "},{"v":1,"d":"01 "},{"v":38,"d":"038 "},"茨城県","土浦市","土浦市（旧）","市街地域",null,"","",{"$f":"IF(K336=\"\",\"\",COUNTIF($K$7:K336,\"ﾘｽﾄ１\"))","v":""},"","","","","","","",{"$f":"IF(S336=\"\",\"\",COUNTIF($S$7:S336,\"該当２\"))","v":""},"","",{"$f":"IF(V336=\"\",\"\",COUNTIF($V$7:V336,\"該当３\"))","v":""}]
[820302000,8,{"v":203,"d":"203 "},{"v":2,"d":"02 "},{"v":0,"d":"000 "},"茨城県","土浦市","上大津村",null,null,"","",{"$f":"IF(K337=\"\",\"\",COUNTIF($K$7:K337,\"ﾘｽﾄ１\"))","v":""},"","","","","","","",{"$f":"IF(S337=\"\",\"\",COUNTIF($S$7:S337,\"該当２\"))","v":""},"","",{"$f":"IF(V337=\"\",\"\",COUNTIF($V$7:V337,\"該当３\"))","v":""}]
[820302001,8,{"v":203,"d":"203 "},{"v":2,"d":"02 "},{"v":1,"d":"001 "},"茨城県","土浦市","上大津村","東神立",null,"","",{"$f":"IF(K338=\"\",\"\",COUNTIF($K$7:K338,\"ﾘｽﾄ１\"))","v":""},"","","","","","","",{"$f":"IF(S338=\"\",\"\",COUNTIF($S$7:S338,\"該当２\"))","v":""},"","",{"$f":"IF(V338=\"\",\"\",COUNTIF($V$7:V338,\"該当３\"))","v":""}]
[820302002,8,{"v":203,"d":"203 "},{"v":2,"d":"02 "},{"v":2,"d":"002 "},"茨城県","土浦市","上大津村","西神立",null,"","",{"$f":"IF(K339=\"\",\"\",COUNTIF($K$7:K339,\"ﾘｽﾄ１\"))","v":""},"","","","","","","",{"$f":"IF(S339=\"\",\"\",COUNTIF($S$7:S339,\"該当２\"))","v":""},"","",{"$f":"IF(V339=\"\",\"\",COUNTIF($V$7:V339,\"該当３\"))","v":""}]
[820302003,8,{"v":203,"d":"203 "},{"v":2,"d":"02 "},{"v":3,"d":"003 "},"茨城県","土浦市","上大津村","神立駅前",null,"","",{"$f":"IF(K340=\"\",\"\",COUNTIF($K$7:K340,\"ﾘｽﾄ１\"))","v":""},"","","","","","","",{"$f":"IF(S340=\"\",\"\",COUNTIF($S$7:S340,\"該当２\"))","v":""},"","",{"$f":"IF(V340=\"\",\"\",COUNTIF($V$7:V340,\"該当３\"))","v":""}]
[820302004,8,{"v":203,"d":"203 "},{"v":2,"d":"02 "},{"v":4,"d":"004 "},"茨城県","土浦市","上大津村","菅谷",null,"","",{"$f":"IF(K341=\"\",\"\",COUNTIF($K$7:K341,\"ﾘｽﾄ１\"))","v":""},"","","","","","","",{"$f":"IF(S341=\"\",\"\",COUNTIF($S$7:S341,\"該当２\"))","v":""},"","",{"$f":"IF(V341=\"\",\"\",COUNTIF($V$7:V341,\"該当３\"))","v":""}]
[820302005,8,{"v":203,"d":"203 "},{"v":2,"d":"02 "},{"v":5,"d":"005 "},"茨城県","土浦市","上大津村","鶴沼",null,"","",{"$f":"IF(K342=\"\",\"\",COUNTIF($K$7:K342,\"ﾘｽﾄ１\"))","v":""},"","","","","","","",{"$f":"IF(S342=\"\",\"\",COUNTIF($S$7:S342,\"該当２\"))","v":""},"","",{"$f":"IF(V342=\"\",\"\",COUNTIF($V$7:V342,\"該当３\"))","v":""}]
[820302006,8,{"v":203,"d":"203 "},{"v":2,"d":"02 "},{"v":6,"d":"006 "},"茨城県","土浦市","上大津村","白鳥",null,"","",{"$f":"IF(K343=\"\",\"\",COUNTIF($K$7:K343,\"ﾘｽﾄ１\"))","v":""},"","","","","","","",{"$f":"IF(S343=\"\",\"\",COUNTIF($S$7:S343,\"該当２\"))","v":""},"","",{"$f":"IF(V343=\"\",\"\",COUNTIF($V$7:V343,\"該当３\"))","v":""}]
[820302007,8,{"v":203,"d":"203 "},{"v":2,"d":"02 "},{"v":7,"d":"007 "},"茨城県","土浦市","上大津村","手野上郷",null,"","",{"$f":"IF(K344=\"\",\"\",COUNTIF($K$7:K344,\"ﾘｽﾄ１\"))","v":""},"","","","","","","",{"$f":"IF(S344=\"\",\"\",COUNTIF($S$7:S344,\"該当２\"))","v":""},"","",{"$f":"IF(V344=\"\",\"\",COUNTIF($V$7:V344,\"該当３\"))","v":""}]
[820302008,8,{"v":203,"d":"203 "},{"v":2,"d":"02 "},{"v":8,"d":"008 "},"茨城県","土浦市","上大津村","手野中郷",null,"","",{"$f":"IF(K345=\"\",\"\",COUNTIF($K$7:K345,\"ﾘｽﾄ１\"))","v":""},"","","","","","","",{"$f":"IF(S345=\"\",\"\",COUNTIF($S$7:S345,\"該当２\"))","v":""},"","",{"$f":"IF(V345=\"\",\"\",COUNTIF($V$7:V345,\"該当３\"))","v":""}]
[820302009,8,{"v":203,"d":"203 "},{"v":2,"d":"02 "},{"v":9,"d":"009 "},"茨城県","土浦市","上大津村","手野下郷",null,"","",{"$f":"IF(K346=\"\",\"\",COUNTIF($K$7:K346,\"ﾘｽﾄ１\"))","v":""},"","","","","","","",{"$f":"IF(S346=\"\",\"\",COUNTIF($S$7:S346,\"該当２\"))","v":""},"","",{"$f":"IF(V346=\"\",\"\",COUNTIF($V$7:V346,\"該当３\"))","v":""}]
[820302010,8,{"v":203,"d":"203 "},{"v":2,"d":"02 "},{"v":10,"d":"010 "},"茨城県","土浦市","上大津村","石田",null,"","",{"$f":"IF(K347=\"\",\"\",COUNTIF($K$7:K347,\"ﾘｽﾄ１\"))","v":""},"","","","","","","",{"$f":"IF(S347=\"\",\"\",COUNTIF($S$7:S347,\"該当２\"))","v":""},"","",{"$f":"IF(V347=\"\",\"\",COUNTIF($V$7:V347,\"該当３\"))","v":""}]
[820302011,8,{"v":203,"d":"203 "},{"v":2,"d":"02 "},{"v":11,"d":"011 "},"茨城県","土浦市","上大津村","田村",null,"","",{"$f":"IF(K348=\"\",\"\",COUNTIF($K$7:K348,\"ﾘｽﾄ１\"))","v":""},"","","","","","","",{"$f":"IF(S348=\"\",\"\",COUNTIF($S$7:S348,\"該当２\"))","v":""},"","",{"$f":"IF(V348=\"\",\"\",COUNTIF($V$7:V348,\"該当３\"))","v":""}]
[820302012,8,{"v":203,"d":"203 "},{"v":2,"d":"02 "},{"v":12,"d":"012 "},"茨城県","土浦市","上大津村","沖宿",null,"","",{"$f":"IF(K349=\"\",\"\",COUNTIF($K$7:K349,\"ﾘｽﾄ１\"))","v":""},"","","","","","","",{"$f":"IF(S349=\"\",\"\",COUNTIF($S$7:S349,\"該当２\"))","v":""},"","",{"$f":"IF(V349=\"\",\"\",COUNTIF($V$7:V349,\"該当３\"))","v":""}]
[820303000,8,{"v":203,"d":"203 "},{"v":3,"d":"03 "},{"v":0,"d":"000 "},"茨城県","土浦市","藤沢村",null,null,"","",{"$f":"IF(K350=\"\",\"\",COUNTIF($K$7:K350,\"ﾘｽﾄ１\"))","v":""},"","","","","","","",{"$f":"IF(S350=\"\",\"\",COUNTIF($S$7:S350,\"該当２\"))","v":""},"","",{"$f":"IF(V350=\"\",\"\",COUNTIF($V$7:V350,\"該当３\"))","v":""}]
[820303001,8,{"v":203,"d":"203 "},{"v":3,"d":"03 "},{"v":1,"d":"001 "},"茨城県","土浦市","藤沢村","藤沢一区",null,"","",{"$f":"IF(K351=\"\",\"\",COUNTIF($K$7:K351,\"ﾘｽﾄ１\"))","v":""},"","","","","","","",{"$f":"IF(S351=\"\",\"\",COUNTIF($S$7:S351,\"該当２\"))","v":""},"","",{"$f":"IF(V351=\"\",\"\",COUNTIF($V$7:V351,\"該当３\"))","v":""}]
[820303002,8,{"v":203,"d":"203 "},{"v":3,"d":"03 "},{"v":2,"d":"002 "},"茨城県","土浦市","藤沢村","藤沢二区",null,"","",{"$f":"IF(K352=\"\",\"\",COUNTIF($K$7:K352,\"ﾘｽﾄ１\"))","v":""},"","","","","","","",{"$f":"IF(S352=\"\",\"\",COUNTIF($S$7:S352,\"該当２\"))","v":""},"","",{"$f":"IF(V352=\"\",\"\",COUNTIF($V$7:V352,\"該当３\"))","v":""}]
[820303003,8,{"v":203,"d":"203 "},{"v":3,"d":"03 "},{"v":3,"d":"003 "},"茨城県","土浦市","藤沢村","東町",null,"","",{"$f":"IF(K353=\"\",\"\",COUNTIF($K$7:K353,\"ﾘｽﾄ１\"))","v":""},"","","","","","","",{"$f":"IF(S353=\"\",\"\",COUNTIF($S$7:S353,\"該当２\"))","v":""},"","",{"$f":"IF(V353=\"\",\"\",COUNTIF($V$7:V353,\"該当３\"))","v":""}]
[820303004,8,{"v":203,"d":"203 "},{"v":3,"d":"03 "},{"v":4,"d":"004 "},"茨城県","土浦市","藤沢村","大畑",null,"","",{"$f":"IF(K354=\"\",\"\",COUNTIF($K$7:K354,\"ﾘｽﾄ１\"))","v":""},"","","","","","","",{"$f":"IF(S354=\"\",\"\",COUNTIF($S$7:S354,\"該当２\"))","v":""},"","",{"$f":"IF(V354=\"\",\"\",COUNTIF($V$7:V354,\"該当３\"))","v":""}]
[820303005,8,{"v":203,"d":"203 "},{"v":3,"d":"03 "},{"v":5,"d":"005 "},"茨城県","土浦市","藤沢村","桃園",null,"","",{"$f":"IF(K355=\"\",\"\",COUNTIF($K$7:K355,\"ﾘｽﾄ１\"))","v":""},"","","","","","","",{"$f":"IF(S355=\"\",\"\",COUNTIF($S$7:S355,\"該当２\"))","v":""},"","",{"$f":"IF(V355=\"\",\"\",COUNTIF($V$7:V355,\"該当３\"))","v":""}]
[820303006,8,{"v":203,"d":"203 "},{"v":3,"d":"03 "},{"v":6,"d":"006 "},"茨城県","土浦市","藤沢村","上坂田",null,"","",{"$f":"IF(K356=\"\",\"\",COUNTIF($K$7:K356,\"ﾘｽﾄ１\"))","v":""},"","","","","","","",{"$f":"IF(S356=\"\",\"\",COUNTIF($S$7:S356,\"該当２\"))","v":""},"","",{"$f":"IF(V356=\"\",\"\",COUNTIF($V$7:V356,\"該当３\"))","v":""}]
[820303007,8,{"v":203,"d":"203 "},{"v":3,"d":"03 "},{"v":7,"d":"007 "},"茨城県","土浦市","藤沢村","下坂田",null,"","",{"$f":"IF(K357=\"\",\"\",COUNTIF($K$7:K357,\"ﾘｽﾄ１\"))","v":""},"","","","","","","",{"$f":"IF(S357=\"\",\"\",COUNTIF($S$7:S357,\"該当２\"))","v":""},"","",{"$f":"IF(V357=\"\",\"\",COUNTIF($V$7:V357,\"該当３\"))","v":""}]
[820304000,8,{"v":203,"d":"203 "},{"v":4,"d":"04 "},{"v":0,"d":"000 "},"茨城県","土浦市","山ノ荘村",null,null,"","",{"$f":"IF(K358=\"\",\"\",COUNTIF($K$7:K358,\"ﾘｽﾄ１\"))","v":""},"","","","","","","",{"$f":"IF(S358=\"\",\"\",COUNTIF($S$7:S358,\"該当２\"))","v":""},"","",{"$f":"IF(V358=\"\",\"\",COUNTIF($V$7:V358,\"該当３\"))","v":""}]
[820304001,8,{"v":203,"d":"203 "},{"v":4,"d":"04 "},{"v":1,"d":"001 "},"茨城県","土浦市","山ノ荘村","永井",null,"","",{"$f":"IF(K359=\"\",\"\",COUNTIF($K$7:K359,\"ﾘｽﾄ１\"))","v":""},"","","","","","","",{"$f":"IF(S359=\"\",\"\",COUNTIF($S$7:S359,\"該当２\"))","v":""},"","",{"$f":"IF(V359=\"\",\"\",COUNTIF($V$7:V359,\"該当３\"))","v":""}]
[820304002,8,{"v":203,"d":"203 "},{"v":4,"d":"04 "},{"v":2,"d":"002 "},"茨城県","土浦市","山ノ荘村","本郷",null,"","",{"$f":"IF(K360=\"\",\"\",COUNTIF($K$7:K360,\"ﾘｽﾄ１\"))","v":""},"","","","","","","",{"$f":"IF(S360=\"\",\"\",COUNTIF($S$7:S360,\"該当２\"))","v":""},"","",{"$f":"IF(V360=\"\",\"\",COUNTIF($V$7:V360,\"該当３\"))","v":""}]
[820304003,8,{"v":203,"d":"203 "},{"v":4,"d":"04 "},{"v":3,"d":"003 "},"茨城県","土浦市","山ノ荘村","大志戸",null,"","",{"$f":"IF(K361=\"\",\"\",COUNTIF($K$7:K361,\"ﾘｽﾄ１\"))","v":""},"","","","","","","",{"$f":"IF(S361=\"\",\"\",COUNTIF($S$7:S361,\"該当２\"))","v":""},"","",{"$f":"IF(V361=\"\",\"\",COUNTIF($V$7:V361,\"該当３\"))","v":""}]
[820304004,8,{"v":203,"d":"203 "},{"v":4,"d":"04 "},{"v":4,"d":"004 "},"茨城県","土浦市","山ノ荘村","小野",null,"","",{"$f":"IF(K362=\"\",\"\",COUNTIF($K$7:K362,\"ﾘｽﾄ１\"))","v":""},"","","","","","","",{"$f":"IF(S362=\"\",\"\",COUNTIF($S$7:S362,\"該当２\"))","v":""},"","",{"$f":"IF(V362=\"\",\"\",COUNTIF($V$7:V362,\"該当３\"))","v":""}]
[820304005,8,{"v":203,"d":"203 "},{"v":4,"d":"04 "},{"v":5,"d":"005 "},"茨城県","土浦市","山ノ荘村","東城寺",null,"","",{"$f":"IF(K363=\"\",\"\",COUNTIF($K$7:K363,\"ﾘｽﾄ１\"))","v":""},"","","","","","","",{"$f":"IF(S363=\"\",\"\",COUNTIF($S$7:S363,\"該当２\"))","v":""},"","",{"$f":"IF(V363=\"\",\"\",COUNTIF($V$7:V363,\"該当３\"))","v":""}]
[820304006,8,{"v":203,"d":"203 "},{"v":4,"d":"04 "},{"v":6,"d":"006 "},"茨城県","土浦市","山ノ荘村","小高",null,"","",{"$f":"IF(K364=\"\",\"\",COUNTIF($K$7:K364,\"ﾘｽﾄ１\"))","v":""},"","","","","","","",{"$f":"IF(S364=\"\",\"\",COUNTIF($S$7:S364,\"該当２\"))","v":""},"","",{"$f":"IF(V364=\"\",\"\",COUNTIF($V$7:V364,\"該当３\"))","v":""}]
[820305000,8,{"v":203,"d":"203 "},{"v":5,"d":"05 "},{"v":0,"d":"000 "},"茨城県","土浦市","斗利出村",null,null,"","",{"$f":"IF(K365=\"\",\"\",COUNTIF($K$7:K365,\"ﾘｽﾄ１\"))","v":""},"","","","","","","",{"$f":"IF(S365=\"\",\"\",COUNTIF($S$7:S365,\"該当２\"))","v":""},"","",{"$f":"IF(V365=\"\",\"\",COUNTIF($V$7:V365,\"該当３\"))","v":""}]
[820305001,8,{"v":203,"d":"203 "},{"v":5,"d":"05 "},{"v":1,"d":"001 "},"茨城県","土浦市","斗利出村","沢辺",null,"","",{"$f":"IF(K366=\"\",\"\",COUNTIF($K$7:K366,\"ﾘｽﾄ１\"))","v":""},"","","","","","","",{"$f":"IF(S366=\"\",\"\",COUNTIF($S$7:S366,\"該当２\"))","v":""},"","",{"$f":"IF(V366=\"\",\"\",COUNTIF($V$7:V366,\"該当３\"))","v":""}]
[820305002,8,{"v":203,"d":"203 "},{"v":5,"d":"05 "},{"v":2,"d":"002 "},"茨城県","土浦市","斗利出村","田宮",null,"","",{"$f":"IF(K367=\"\",\"\",COUNTIF($K$7:K367,\"ﾘｽﾄ１\"))","v":""},"","","","","","","",{"$f":"IF(S367=\"\",\"\",COUNTIF($S$7:S367,\"該当２\"))","v":""},"","",{"$f":"IF(V367=\"\",\"\",COUNTIF($V$7:V367,\"該当３\"))","v":""}]
[820305003,8,{"v":203,"d":"203 "},{"v":5,"d":"05 "},{"v":3,"d":"003 "},"茨城県","土浦市","斗利出村","高岡根",null,"","",{"$f":"IF(K368=\"\",\"\",COUNTIF($K$7:K368,\"ﾘｽﾄ１\"))","v":""},"","","","","","","",{"$f":"IF(S368=\"\",\"\",COUNTIF($S$7:S368,\"該当２\"))","v":""},"","",{"$f":"IF(V368=\"\",\"\",COUNTIF($V$7:V368,\"該当３\"))","v":""}]
[820305004,8,{"v":203,"d":"203 "},{"v":5,"d":"05 "},{"v":4,"d":"004 "},"茨城県","土浦市","斗利出村","高岡沖",null,"","",{"$f":"IF(K369=\"\",\"\",COUNTIF($K$7:K369,\"ﾘｽﾄ１\"))","v":""},"","","","","","","",{"$f":"IF(S369=\"\",\"\",COUNTIF($S$7:S369,\"該当２\"))","v":""},"","",{"$f":"IF(V369=\"\",\"\",COUNTIF($V$7:V369,\"該当３\"))","v":""}]
[820305005,8,{"v":203,"d":"203 "},{"v":5,"d":"05 "},{"v":5,"d":"005 "},"茨城県","土浦市","斗利出村","高岡新田",null,"","",{"$f":"IF(K370=\"\",\"\",COUNTIF($K$7:K370,\"ﾘｽﾄ１\"))","v":""},"","","","","","","",{"$f":"IF(S370=\"\",\"\",COUNTIF($S$7:S370,\"該当２\"))","v":""},"","",{"$f":"IF(V370=\"\",\"\",COUNTIF($V$7:V370,\"該当３\"))","v":""}]
[820305006,8,{"v":203,"d":"203 "},{"v":5,"d":"05 "},{"v":6,"d":"006 "},"茨城県","土浦市","斗利出村","田土部",null,"","",{"$f":"IF(K371=\"\",\"\",COUNTIF($K$7:K371,\"ﾘｽﾄ１\"))","v":""},"","","","","","","",{"$f":"IF(S371=\"\",\"\",COUNTIF($S$7:S371,\"該当２\"))","v":""},"","",{"$f":"IF(V371=\"\",\"\",COUNTIF($V$7:V371,\"該当３\"))","v":""}]
[820305007,8,{"v":203,"d":"203 "},{"v":5,"d":"05 "},{"v":7,"d":"007 "},"茨城県","土浦市","斗利出村","藤沢新田",null,"","",{"$f":"IF(K372=\"\",\"\",COUNTIF($K$7:K372,\"ﾘｽﾄ１\"))","v":""},"","","","","","","",{"$f":"IF(S372=\"\",\"\",COUNTIF($S$7:S372,\"該当２\"))","v":""},"","",{"$f":"IF(V372=\"\",\"\",COUNTIF($V$7:V372,\"該当３\"))","v":""}]
[820400000,8,{"v":204,"d":"204 "},{"v":0,"d":"00 "},{"v":0,"d":"000 "},"茨城県","古河市",{"$nulls":3},"ﾘｽﾄ１","古河市",{"$f":"IF(K373=\"\",\"\",COUNTIF($K$7:K373,\"ﾘｽﾄ１\"))","v":4},"","","","","","","",{"$f":"IF(S373=\"\",\"\",COUNTIF($S$7:S373,\"該当２\"))","v":""},"","",{"$f":"IF(V373=\"\",\"\",COUNTIF($V$7:V373,\"該当３\"))","v":""}]
[820401000,8,{"v":204,"d":"204 "},{"v":1,"d":"01 "},{"v":0,"d":"000 "},"茨城県","古河市","古河町",null,null,"","",{"$f":"IF(K374=\"\",\"\",COUNTIF($K$7:K374,\"ﾘｽﾄ１\"))","v":""},"","","","","","","",{"$f":"IF(S374=\"\",\"\",COUNTIF($S$7:S374,\"該当２\"))","v":""},"","",{"$f":"IF(V374=\"\",\"\",COUNTIF($V$7:V374,\"該当３\"))","v":""}]
[820401001,8,{"v":204,"d":"204 "},{"v":1,"d":"01 "},{"v":1,"d":"001 "},"茨城県","古河市","古河町","原町",null,"","",{"$f":"IF(K375=\"\",\"\",COUNTIF($K$7:K375,\"ﾘｽﾄ１\"))","v":""},"","","","","","","",{"$f":"IF(S375=\"\",\"\",COUNTIF($S$7:S375,\"該当２\"))","v":""},"","",{"$f":"IF(V375=\"\",\"\",COUNTIF($V$7:V375,\"該当３\"))","v":""}]
[820401002,8,{"v":204,"d":"204 "},{"v":1,"d":"01 "},{"v":2,"d":"002 "},"茨城県","古河市","古河町","台町",null,"","",{"$f":"IF(K376=\"\",\"\",COUNTIF($K$7:K376,\"ﾘｽﾄ１\"))","v":""},"","","","","","","",{"$f":"IF(S376=\"\",\"\",COUNTIF($S$7:S376,\"該当２\"))","v":""},"","",{"$f":"IF(V376=\"\",\"\",COUNTIF($V$7:V376,\"該当３\"))","v":""}]
[820401003,8,{"v":204,"d":"204 "},{"v":1,"d":"01 "},{"v":3,"d":"003 "},"茨城県","古河市","古河町","長谷町",null,"","",{"$f":"IF(K377=\"\",\"\",COUNTIF($K$7:K377,\"ﾘｽﾄ１\"))","v":""},"","","","","","","",{"$f":"IF(S377=\"\",\"\",COUNTIF($S$7:S377,\"該当２\"))","v":""},"","",{"$f":"IF(V377=\"\",\"\",COUNTIF($V$7:V377,\"該当３\"))","v":""}]
[820401004,8,{"v":204,"d":"204 "},{"v":1,"d":"01 "},{"v":4,"d":"004 "},"茨城県","古河市","古河町","西部農業協同",null,"","",{"$f":"IF(K378=\"\",\"\",COUNTIF($K$7:K378,\"ﾘｽﾄ１\"))","v":""},"","","","","","","",{"$f":"IF(S378=\"\",\"\",COUNTIF($S$7:S378,\"該当２\"))","v":""},"","",{"$f":"IF(V378=\"\",\"\",COUNTIF($V$7:V378,\"該当３\"))","v":""}]
[820401005,8,{"v":204,"d":"204 "},{"v":1,"d":"01 "},{"v":5,"d":"005 "},"茨城県","古河市","古河町","桜町第一",null,"","",{"$f":"IF(K379=\"\",\"\",COUNTIF($K$7:K379,\"ﾘｽﾄ１\"))","v":""},"","","","","","","",{"$f":"IF(S379=\"\",\"\",COUNTIF($S$7:S379,\"該当２\"))","v":""},"","",{"$f":"IF(V379=\"\",\"\",COUNTIF($V$7:V379,\"該当３\"))","v":""}]
[820401006,8,{"v":204,"d":"204 "},{"v":1,"d":"01 "},{"v":6,"d":"006 "},"茨城県","古河市","古河町","八幡町",null,"","",{"$f":"IF(K380=\"\",\"\",COUNTIF($K$7:K380,\"ﾘｽﾄ１\"))","v":""},"","","","","","","",{"$f":"IF(S380=\"\",\"\",COUNTIF($S$7:S380,\"該当２\"))","v":""},"","",{"$f":"IF(V380=\"\",\"\",COUNTIF($V$7:V380,\"該当３\"))","v":""}]
[820401007,8,{"v":204,"d":"204 "},{"v":1,"d":"01 "},{"v":7,"d":"007 "},"茨城県","古河市","古河町","東部",null,"","",{"$f":"IF(K381=\"\",\"\",COUNTIF($K$7:K381,\"ﾘｽﾄ１\"))","v":""},"","","","","","","",{"$f":"IF(S381=\"\",\"\",COUNTIF($S$7:S381,\"該当２\"))","v":""},"","",{"$f":"IF(V381=\"\",\"\",COUNTIF($V$7:V381,\"該当３\"))","v":""}]
[820401008,8,{"v":204,"d":"204 "},{"v":1,"d":"01 "},{"v":8,"d":"008 "},"茨城県","古河市","古河町","下山南部",null,"","",{"$f":"IF(K382=\"\",\"\",COUNTIF($K$7:K382,\"ﾘｽﾄ１\"))","v":""},"","","","","","","",{"$f":"IF(S382=\"\",\"\",COUNTIF($S$7:S382,\"該当２\"))","v":""},"","",{"$f":"IF(V382=\"\",\"\",COUNTIF($V$7:V382,\"該当３\"))","v":""}]
[820401009,8,{"v":204,"d":"204 "},{"v":1,"d":"01 "},{"v":9,"d":"009 "},"茨城県","古河市","古河町","下山北部",null,"","",{"$f":"IF(K383=\"\",\"\",COUNTIF($K$7:K383,\"ﾘｽﾄ１\"))","v":""},"","","","","","","",{"$f":"IF(S383=\"\",\"\",COUNTIF($S$7:S383,\"該当２\"))","v":""},"","",{"$f":"IF(V383=\"\",\"\",COUNTIF($V$7:V383,\"該当３\"))","v":""}]
[820401010,8,{"v":204,"d":"204 "},{"v":1,"d":"01 "},{"v":10,"d":"010 "},"茨城県","古河市","古河町","旭町南部",null,"","",{"$f":"IF(K384=\"\",\"\",COUNTIF($K$7:K384,\"ﾘｽﾄ１\"))","v":""},"","","","","","","",{"$f":"IF(S384=\"\",\"\",COUNTIF($S$7:S384,\"該当２\"))","v":""},"","",{"$f":"IF(V384=\"\",\"\",COUNTIF($V$7:V384,\"該当３\"))","v":""}]
[820401011,8,{"v":204,"d":"204 "},{"v":1,"d":"01 "},{"v":11,"d":"011 "},"茨城県","古河市","古河町","旭町北部",null,"","",{"$f":"IF(K385=\"\",\"\",COUNTIF($K$7:K385,\"ﾘｽﾄ１\"))","v":""},"","","","","","","",{"$f":"IF(S385=\"\",\"\",COUNTIF($S$7:S385,\"該当２\"))","v":""},"","",{"$f":"IF(V385=\"\",\"\",COUNTIF($V$7:V385,\"該当３\"))","v":""}]
[820401012,8,{"v":204,"d":"204 "},{"v":1,"d":"01 "},{"v":12,"d":"012 "},"茨城県","古河市","古河町","三杉町",null,"","",{"$f":"IF(K386=\"\",\"\",COUNTIF($K$7:K386,\"ﾘｽﾄ１\"))","v":""},"","","","","","","",{"$f":"IF(S386=\"\",\"\",COUNTIF($S$7:S386,\"該当２\"))","v":""},"","",{"$f":"IF(V386=\"\",\"\",COUNTIF($V$7:V386,\"該当３\"))","v":""}]
[820401013,8,{"v":204,"d":"204 "},{"v":1,"d":"01 "},{"v":13,"d":"013 "},"茨城県","古河市","古河町","雷前町",null,"","",{"$f":"IF(K387=\"\",\"\",COUNTIF($K$7:K387,\"ﾘｽﾄ１\"))","v":""},"","","","","","","",{"$f":"IF(S387=\"\",\"\",COUNTIF($S$7:S387,\"該当２\"))","v":""},"","",{"$f":"IF(V387=\"\",\"\",COUNTIF($V$7:V387,\"該当３\"))","v":""}]
[820401014,8,{"v":204,"d":"204 "},{"v":1,"d":"01 "},{"v":14,"d":"014 "},"茨城県","古河市","古河町","雷電東部",null,"","",{"$f":"IF(K388=\"\",\"\",COUNTIF($K$7:K388,\"ﾘｽﾄ１\"))","v":""},"","","","","","","",{"$f":"IF(S388=\"\",\"\",COUNTIF($S$7:S388,\"該当２\"))","v":""},"","",{"$f":"IF(V388=\"\",\"\",COUNTIF($V$7:V388,\"該当３\"))","v":""}]
[820401015,8,{"v":204,"d":"204 "},{"v":1,"d":"01 "},{"v":15,"d":"015 "},"茨城県","古河市","古河町","雷電西部",null,"","",{"$f":"IF(K389=\"\",\"\",COUNTIF($K$7:K389,\"ﾘｽﾄ１\"))","v":""},"","","","","","","",{"$f":"IF(S389=\"\",\"\",COUNTIF($S$7:S389,\"該当２\"))","v":""},"","",{"$f":"IF(V389=\"\",\"\",COUNTIF($V$7:V389,\"該当３\"))","v":""}]
[820401016,8,{"v":204,"d":"204 "},{"v":1,"d":"01 "},{"v":16,"d":"016 "},"茨城県","古河市","古河町","松原町",null,"","",{"$f":"IF(K390=\"\",\"\",COUNTIF($K$7:K390,\"ﾘｽﾄ１\"))","v":""},"","","","","","","",{"$f":"IF(S390=\"\",\"\",COUNTIF($S$7:S390,\"該当２\"))","v":""},"","",{"$f":"IF(V390=\"\",\"\",COUNTIF($V$7:V390,\"該当３\"))","v":""}]
[820401017,8,{"v":204,"d":"204 "},{"v":1,"d":"01 "},{"v":17,"d":"017 "},"茨城県","古河市","古河町","畑中",null,"","",{"$f":"IF(K391=\"\",\"\",COUNTIF($K$7:K391,\"ﾘｽﾄ１\"))","v":""},"","","","","","","",{"$f":"IF(S391=\"\",\"\",COUNTIF($S$7:S391,\"該当２\"))","v":""},"","",{"$f":"IF(V391=\"\",\"\",COUNTIF($V$7:V391,\"該当３\"))","v":""}]
[820401018,8,{"v":204,"d":"204 "},{"v":1,"d":"01 "},{"v":18,"d":"018 "},"茨城県","古河市","古河町","西部",null,"","",{"$f":"IF(K392=\"\",\"\",COUNTIF($K$7:K392,\"ﾘｽﾄ１\"))","v":""},"","",{"$f":"IF(O392=\"該当１\",G392,\"\")","v":""},{"$f":"IF(O392=\"該当１\",\"ﾘｽﾄ2\",\"\")","v":""},{"$f":"IF(Q392=\"ﾘｽﾄ2\",H392,\"\")","v":""},"",{"$f":"IF(S392=\"該当２\",H392,\"\")","v":""},{"$f":"IF(S392=\"\",\"\",COUNTIF($S$7:S392,\"該当２\"))","v":""},{"$f":"IF(AND($S$2=H392,E392>0,E392<998),\"該当３\",\"\")","v":""},{"$f":"IF(V392=\"該当３\",I392,\"\")","v":""},{"$f":"IF(V392=\"\",\"\",COUNTIF($V$7:V392,\"該当３\"))","v":""}]
[820401019,8,{"v":204,"d":"204 "},{"v":1,"d":"01 "},{"v":19,"d":"019 "},"茨城県","古河市","古河町","西部第一",null,{"$f":"IF(AND($C393>0,$H393=\"\"),\"ﾘｽﾄ１\",\"\")","v":""},{"$f":"IF(K393=\"ﾘｽﾄ１\",G393,\"\")","v":""},{"$f":"IF(K393=\"\",\"\",COUNTIF($K$7:K393,\"ﾘｽﾄ１\"))","v":""},{"$f":"IF(AND(D393=0,E393>0),\"同一区\",\"\")","v":""},{"$f":"IF(AND(EXACT($K$2,G393),H393>0),\"該当１\",\"\")","v":""},"","","",{"$f":"IF(AND(Q393=\"ﾘｽﾄ2\",OR(I393=0,AND(N393=\"同一区\",E393=1))),\"該当２\",\"\")","v":""},"",{"$f":"IF(S393=\"\",\"\",COUNTIF($S$7:S393,\"該当２\"))","v":""},"","",{"$f":"IF(V393=\"\",\"\",COUNTIF($V$7:V393,\"該当３\"))","v":""}]
[820402000,8,{"v":204,"d":"204 "},{"v":2,"d":"02 "},{"v":0,"d":"000 "},"茨城県","古河市","新郷村",null,null,"","",{"$f":"IF(K394=\"\",\"\",COUNTIF($K$7:K394,\"ﾘｽﾄ１\"))","v":""},"","","","","","","",{"$f":"IF(S394=\"\",\"\",COUNTIF($S$7:S394,\"該当２\"))","v":""},"","",{"$f":"IF(V394=\"\",\"\",COUNTIF($V$7:V394,\"該当３\"))","v":""}]
[820402001,8,{"v":204,"d":"204 "},{"v":2,"d":"02 "},{"v":1,"d":"001 "},"茨城県","古河市","新郷村","大山",null,"","",{"$f":"IF(K395=\"\",\"\",COUNTIF($K$7:K395,\"ﾘｽﾄ１\"))","v":""},"","","","","","","",{"$f":"IF(S395=\"\",\"\",COUNTIF($S$7:S395,\"該当２\"))","v":""},"","",{"$f":"IF(V395=\"\",\"\",COUNTIF($V$7:V395,\"該当３\"))","v":""}]
[820402002,8,{"v":204,"d":"204 "},{"v":2,"d":"02 "},{"v":2,"d":"002 "},"茨城県","古河市","新郷村","中田",null,"","",{"$f":"IF(K396=\"\",\"\",COUNTIF($K$7:K396,\"ﾘｽﾄ１\"))","v":""},"","","","","","","",{"$f":"IF(S396=\"\",\"\",COUNTIF($S$7:S396,\"該当２\"))","v":""},"","",{"$f":"IF(V396=\"\",\"\",COUNTIF($V$7:V396,\"該当３\"))","v":""}]
[820402003,8,{"v":204,"d":"204 "},{"v":2,"d":"02 "},{"v":3,"d":"003 "},"茨城県","古河市","新郷村","中田本町",null,"","",{"$f":"IF(K397=\"\",\"\",COUNTIF($K$7:K397,\"ﾘｽﾄ１\"))","v":""},"","","","","","","",{"$f":"IF(S397=\"\",\"\",COUNTIF($S$7:S397,\"該当２\"))","v":""},"","",{"$f":"IF(V397=\"\",\"\",COUNTIF($V$7:V397,\"該当３\"))","v":""}]
[820402004,8,{"v":204,"d":"204 "},{"v":2,"d":"02 "},{"v":4,"d":"004 "},"茨城県","古河市","新郷村","中田新田東",null,"","",{"$f":"IF(K398=\"\",\"\",COUNTIF($K$7:K398,\"ﾘｽﾄ１\"))","v":""},"","","","","","","",{"$f":"IF(S398=\"\",\"\",COUNTIF($S$7:S398,\"該当２\"))","v":""},"","",{"$f":"IF(V398=\"\",\"\",COUNTIF($V$7:V398,\"該当３\"))","v":""}]
[820402005,8,{"v":204,"d":"204 "},{"v":2,"d":"02 "},{"v":5,"d":"005 "},"茨城県","古河市","新郷村","中田新田西",null,"","",{"$f":"IF(K399=\"\",\"\",COUNTIF($K$7:K399,\"ﾘｽﾄ１\"))","v":""},"","","","","","","",{"$f":"IF(S399=\"\",\"\",COUNTIF($S$7:S399,\"該当２\"))","v":""},"","",{"$f":"IF(V399=\"\",\"\",COUNTIF($V$7:V399,\"該当３\"))","v":""}]
[820402006,8,{"v":204,"d":"204 "},{"v":2,"d":"02 "},{"v":6,"d":"006 "},"茨城県","古河市","新郷村","茶屋新田",null,"","",{"$f":"IF(K400=\"\",\"\",COUNTIF($K$7:K400,\"ﾘｽﾄ１\"))","v":""},"","","","","","","",{"$f":"IF(S400=\"\",\"\",COUNTIF($S$7:S400,\"該当２\"))","v":""},"","",{"$f":"IF(V400=\"\",\"\",COUNTIF($V$7:V400,\"該当３\"))","v":""}]
[820402007,8,{"v":204,"d":"204 "},{"v":2,"d":"02 "},{"v":7,"d":"007 "},"茨城県","古河市","新郷村","坂間",null,"","",{"$f":"IF(K401=\"\",\"\",COUNTIF($K$7:K401,\"ﾘｽﾄ１\"))","v":""},"","","","","","","",{"$f":"IF(S401=\"\",\"\",COUNTIF($S$7:S401,\"該当２\"))","v":""},"","",{"$f":"IF(V401=\"\",\"\",COUNTIF($V$7:V401,\"該当３\"))","v":""}]
[820402008,8,{"v":204,"d":"204 "},{"v":2,"d":"02 "},{"v":8,"d":"008 "},"茨城県","古河市","新郷村","鳥喰",null,"","",{"$f":"IF(K402=\"\",\"\",COUNTIF($K$7:K402,\"ﾘｽﾄ１\"))","v":""},"","","","","","","",{"$f":"IF(S402=\"\",\"\",COUNTIF($S$7:S402,\"該当２\"))","v":""},"","",{"$f":"IF(V402=\"\",\"\",COUNTIF($V$7:V402,\"該当３\"))","v":""}]
[820402009,8,{"v":204,"d":"204 "},{"v":2,"d":"02 "},{"v":9,"d":"009 "},"茨城県","古河市","新郷村","新久田第一第二",null,"","",{"$f":"IF(K403=\"\",\"\",COUNTIF($K$7:K403,\"ﾘｽﾄ１\"))","v":""},"","","","","","","",{"$f":"IF(S403=\"\",\"\",COUNTIF($S$7:S403,\"該当２\"))","v":""},"","",{"$f":"IF(V403=\"\",\"\",COUNTIF($V$7:V403,\"該当３\"))","v":""}]
[820402010,8,{"v":204,"d":"204 "},{"v":2,"d":"02 "},{"v":10,"d":"010 "},"茨城県","古河市","新郷村","駒ケ崎",null,"","",{"$f":"IF(K404=\"\",\"\",COUNTIF($K$7:K404,\"ﾘｽﾄ１\"))","v":""},"","","","","","","",{"$f":"IF(S404=\"\",\"\",COUNTIF($S$7:S404,\"該当２\"))","v":""},"","",{"$f":"IF(V404=\"\",\"\",COUNTIF($V$7:V404,\"該当３\"))","v":""}]
[820402011,8,{"v":204,"d":"204 "},{"v":2,"d":"02 "},{"v":11,"d":"011 "},"茨城県","古河市","新郷村","鴻巣",null,"","",{"$f":"IF(K405=\"\",\"\",COUNTIF($K$7:K405,\"ﾘｽﾄ１\"))","v":""},"","","","","","","",{"$f":"IF(S405=\"\",\"\",COUNTIF($S$7:S405,\"該当２\"))","v":""},"","",{"$f":"IF(V405=\"\",\"\",COUNTIF($V$7:V405,\"該当３\"))","v":""}]
[820402012,8,{"v":204,"d":"204 "},{"v":2,"d":"02 "},{"v":12,"d":"012 "},"茨城県","古河市","新郷村","牧野地",null,"","",{"$f":"IF(K406=\"\",\"\",COUNTIF($K$7:K406,\"ﾘｽﾄ１\"))","v":""},"","","","","","","",{"$f":"IF(S406=\"\",\"\",COUNTIF($S$7:S406,\"該当２\"))","v":""},"","",{"$f":"IF(V406=\"\",\"\",COUNTIF($V$7:V406,\"該当３\"))","v":""}]
[820402013,8,{"v":204,"d":"204 "},{"v":2,"d":"02 "},{"v":13,"d":"013 "},"茨城県","古河市","新郷村","長谷",null,"","",{"$f":"IF(K407=\"\",\"\",COUNTIF($K$7:K407,\"ﾘｽﾄ１\"))","v":""},"","","","","","","",{"$f":"IF(S407=\"\",\"\",COUNTIF($S$7:S407,\"該当２\"))","v":""},"","",{"$f":"IF(V407=\"\",\"\",COUNTIF($V$7:V407,\"該当３\"))","v":""}]
[820403000,8,{"v":204,"d":"204 "},{"v":3,"d":"03 "},{"v":0,"d":"000 "},"茨城県","古河市","勝鹿村",null,null,"","",{"$f":"IF(K408=\"\",\"\",COUNTIF($K$7:K408,\"ﾘｽﾄ１\"))","v":""},"","","","","","","",{"$f":"IF(S408=\"\",\"\",COUNTIF($S$7:S408,\"該当２\"))","v":""},"","",{"$f":"IF(V408=\"\",\"\",COUNTIF($V$7:V408,\"該当３\"))","v":""}]
[820403001,8,{"v":204,"d":"204 "},{"v":3,"d":"03 "},{"v":1,"d":"001 "},"茨城県","古河市","勝鹿村","上辺見第１",null,"","",{"$f":"IF(K409=\"\",\"\",COUNTIF($K$7:K409,\"ﾘｽﾄ１\"))","v":""},"","","","","","","",{"$f":"IF(S409=\"\",\"\",COUNTIF($S$7:S409,\"該当２\"))","v":""},"","",{"$f":"IF(V409=\"\",\"\",COUNTIF($V$7:V409,\"該当３\"))","v":""}]
[820403002,8,{"v":204,"d":"204 "},{"v":3,"d":"03 "},{"v":2,"d":"002 "},"茨城県","古河市","勝鹿村","上辺見第２",null,"","",{"$f":"IF(K410=\"\",\"\",COUNTIF($K$7:K410,\"ﾘｽﾄ１\"))","v":""},"","","","","","","",{"$f":"IF(S410=\"\",\"\",COUNTIF($S$7:S410,\"該当２\"))","v":""},"","",{"$f":"IF(V410=\"\",\"\",COUNTIF($V$7:V410,\"該当３\"))","v":""}]
[820403003,8,{"v":204,"d":"204 "},{"v":3,"d":"03 "},{"v":3,"d":"003 "},"茨城県","古河市","勝鹿村","西牛ケ谷",null,"","",{"$f":"IF(K411=\"\",\"\",COUNTIF($K$7:K411,\"ﾘｽﾄ１\"))","v":""},"","","","","","","",{"$f":"IF(S411=\"\",\"\",COUNTIF($S$7:S411,\"該当２\"))","v":""},"","",{"$f":"IF(V411=\"\",\"\",COUNTIF($V$7:V411,\"該当３\"))","v":""}]
[820403004,8,{"v":204,"d":"204 "},{"v":3,"d":"03 "},{"v":4,"d":"004 "},"茨城県","古河市","勝鹿村","東牛ケ谷",null,"","",{"$f":"IF(K412=\"\",\"\",COUNTIF($K$7:K412,\"ﾘｽﾄ１\"))","v":""},"","","","","","","",{"$f":"IF(S412=\"\",\"\",COUNTIF($S$7:S412,\"該当２\"))","v":""},"","",{"$f":"IF(V412=\"\",\"\",COUNTIF($V$7:V412,\"該当３\"))","v":""}]
[820403005,8,{"v":204,"d":"204 "},{"v":3,"d":"03 "},{"v":5,"d":"005 "},"茨城県","古河市","勝鹿村","女沼第１",null,"","",{"$f":"IF(K413=\"\",\"\",COUNTIF($K$7:K413,\"ﾘｽﾄ１\"))","v":""},"","","","","","","",{"$f":"IF(S413=\"\",\"\",COUNTIF($S$7:S413,\"該当２\"))","v":""},"","",{"$f":"IF(V413=\"\",\"\",COUNTIF($V$7:V413,\"該当３\"))","v":""}]
[820403006,8,{"v":204,"d":"204 "},{"v":3,"d":"03 "},{"v":6,"d":"006 "},"茨城県","古河市","勝鹿村","女沼第２",null,"","",{"$f":"IF(K414=\"\",\"\",COUNTIF($K$7:K414,\"ﾘｽﾄ１\"))","v":""},"","","","","","","",{"$f":"IF(S414=\"\",\"\",COUNTIF($S$7:S414,\"該当２\"))","v":""},"","",{"$f":"IF(V414=\"\",\"\",COUNTIF($V$7:V414,\"該当３\"))","v":""}]
[820403007,8,{"v":204,"d":"204 "},{"v":3,"d":"03 "},{"v":7,"d":"007 "},"茨城県","古河市","勝鹿村","下辺見仲坪",null,"","",{"$f":"IF(K415=\"\",\"\",COUNTIF($K$7:K415,\"ﾘｽﾄ１\"))","v":""},"","","","","","","",{"$f":"IF(S415=\"\",\"\",COUNTIF($S$7:S415,\"該当２\"))","v":""},"","",{"$f":"IF(V415=\"\",\"\",COUNTIF($V$7:V415,\"該当３\"))","v":""}]
[820403008,8,{"v":204,"d":"204 "},{"v":3,"d":"03 "},{"v":8,"d":"008 "},"茨城県","古河市","勝鹿村","下辺見西坪思案橋",null,"","",{"$f":"IF(K416=\"\",\"\",COUNTIF($K$7:K416,\"ﾘｽﾄ１\"))","v":""},"","","","","","","",{"$f":"IF(S416=\"\",\"\",COUNTIF($S$7:S416,\"該当２\"))","v":""},"","",{"$f":"IF(V416=\"\",\"\",COUNTIF($V$7:V416,\"該当３\"))","v":""}]
[820403009,8,{"v":204,"d":"204 "},{"v":3,"d":"03 "},{"v":9,"d":"009 "},"茨城県","古河市","勝鹿村","下辺見新田",null,"","",{"$f":"IF(K417=\"\",\"\",COUNTIF($K$7:K417,\"ﾘｽﾄ１\"))","v":""},"","","","","","","",{"$f":"IF(S417=\"\",\"\",COUNTIF($S$7:S417,\"該当２\"))","v":""},"","",{"$f":"IF(V417=\"\",\"\",COUNTIF($V$7:V417,\"該当３\"))","v":""}]
[820403010,8,{"v":204,"d":"204 "},{"v":3,"d":"03 "},{"v":10,"d":"010 "},"茨城県","古河市","勝鹿村","大堤本田三軒",null,"","",{"$f":"IF(K418=\"\",\"\",COUNTIF($K$7:K418,\"ﾘｽﾄ１\"))","v":""},"","","","","","","",{"$f":"IF(S418=\"\",\"\",COUNTIF($S$7:S418,\"該当２\"))","v":""},"","",{"$f":"IF(V418=\"\",\"\",COUNTIF($V$7:V418,\"該当３\"))","v":""}]
[820403011,8,{"v":204,"d":"204 "},{"v":3,"d":"03 "},{"v":11,"d":"011 "},"茨城県","古河市","勝鹿村","大堤新田",null,"","",{"$f":"IF(K419=\"\",\"\",COUNTIF($K$7:K419,\"ﾘｽﾄ１\"))","v":""},"","","","","","","",{"$f":"IF(S419=\"\",\"\",COUNTIF($S$7:S419,\"該当２\"))","v":""},"","",{"$f":"IF(V419=\"\",\"\",COUNTIF($V$7:V419,\"該当３\"))","v":""}]
[820404000,8,{"v":204,"d":"204 "},{"v":4,"d":"04 "},{"v":0,"d":"000 "},"茨城県","古河市","香取村",null,null,"","",{"$f":"IF(K420=\"\",\"\",COUNTIF($K$7:K420,\"ﾘｽﾄ１\"))","v":""},"","","","","","","",{"$f":"IF(S420=\"\",\"\",COUNTIF($S$7:S420,\"該当２\"))","v":""},"","",{"$f":"IF(V420=\"\",\"\",COUNTIF($V$7:V420,\"該当３\"))","v":""}]
[820404001,8,{"v":204,"d":"204 "},{"v":4,"d":"04 "},{"v":1,"d":"001 "},"茨城県","古河市","香取村","釈迦",null,"","",{"$f":"IF(K421=\"\",\"\",COUNTIF($K$7:K421,\"ﾘｽﾄ１\"))","v":""},"","","","","","","",{"$f":"IF(S421=\"\",\"\",COUNTIF($S$7:S421,\"該当２\"))","v":""},"","",{"$f":"IF(V421=\"\",\"\",COUNTIF($V$7:V421,\"該当３\"))","v":""}]
[820404002,8,{"v":204,"d":"204 "},{"v":4,"d":"04 "},{"v":2,"d":"002 "},"茨城県","古河市","香取村","内水海",null,"","",{"$f":"IF(K422=\"\",\"\",COUNTIF($K$7:K422,\"ﾘｽﾄ１\"))","v":""},"","","","","","","",{"$f":"IF(S422=\"\",\"\",COUNTIF($S$7:S422,\"該当２\"))","v":""},"","",{"$f":"IF(V422=\"\",\"\",COUNTIF($V$7:V422,\"該当３\"))","v":""}]
[820404003,8,{"v":204,"d":"204 "},{"v":4,"d":"04 "},{"v":3,"d":"003 "},"茨城県","古河市","香取村","町水海",null,"","",{"$f":"IF(K423=\"\",\"\",COUNTIF($K$7:K423,\"ﾘｽﾄ１\"))","v":""},"","","","","","","",{"$f":"IF(S423=\"\",\"\",COUNTIF($S$7:S423,\"該当２\"))","v":""},"","",{"$f":"IF(V423=\"\",\"\",COUNTIF($V$7:V423,\"該当３\"))","v":""}]
[820404004,8,{"v":204,"d":"204 "},{"v":4,"d":"04 "},{"v":4,"d":"004 "},"茨城県","古河市","香取村","前林",null,"","",{"$f":"IF(K424=\"\",\"\",COUNTIF($K$7:K424,\"ﾘｽﾄ１\"))","v":""},"","","","","","","",{"$f":"IF(S424=\"\",\"\",COUNTIF($S$7:S424,\"該当２\"))","v":""},"","",{"$f":"IF(V424=\"\",\"\",COUNTIF($V$7:V424,\"該当３\"))","v":""}]
[820404005,8,{"v":204,"d":"204 "},{"v":4,"d":"04 "},{"v":5,"d":"005 "},"茨城県","古河市","香取村","上砂井",null,"","",{"$f":"IF(K425=\"\",\"\",COUNTIF($K$7:K425,\"ﾘｽﾄ１\"))","v":""},"","","","","","","",{"$f":"IF(S425=\"\",\"\",COUNTIF($S$7:S425,\"該当２\"))","v":""},"","",{"$f":"IF(V425=\"\",\"\",COUNTIF($V$7:V425,\"該当３\"))","v":""}]
[820404006,8,{"v":204,"d":"204 "},{"v":4,"d":"04 "},{"v":6,"d":"006 "},"茨城県","古河市","香取村","砂井新田",null,"","",{"$f":"IF(K426=\"\",\"\",COUNTIF($K$7:K426,\"ﾘｽﾄ１\"))","v":""},"","","","","","","",{"$f":"IF(S426=\"\",\"\",COUNTIF($S$7:S426,\"該当２\"))","v":""},"","",{"$f":"IF(V426=\"\",\"\",COUNTIF($V$7:V426,\"該当３\"))","v":""}]
[820404007,8,{"v":204,"d":"204 "},{"v":4,"d":"04 "},{"v":7,"d":"007 "},"茨城県","古河市","香取村","磯部中西",null,"","",{"$f":"IF(K427=\"\",\"\",COUNTIF($K$7:K427,\"ﾘｽﾄ１\"))","v":""},"","","","","","","",{"$f":"IF(S427=\"\",\"\",COUNTIF($S$7:S427,\"該当２\"))","v":""},"","",{"$f":"IF(V427=\"\",\"\",COUNTIF($V$7:V427,\"該当３\"))","v":""}]
[820404008,8,{"v":204,"d":"204 "},{"v":4,"d":"04 "},{"v":8,"d":"008 "},"茨城県","古河市","香取村","北磯部",null,"","",{"$f":"IF(K428=\"\",\"\",COUNTIF($K$7:K428,\"ﾘｽﾄ１\"))","v":""},"","","","","","","",{"$f":"IF(S428=\"\",\"\",COUNTIF($S$7:S428,\"該当２\"))","v":""},"","",{"$f":"IF(V428=\"\",\"\",COUNTIF($V$7:V428,\"該当３\"))","v":""}]
[820404009,8,{"v":204,"d":"204 "},{"v":4,"d":"04 "},{"v":9,"d":"009 "},"茨城県","古河市","香取村","東磯部",null,"","",{"$f":"IF(K429=\"\",\"\",COUNTIF($K$7:K429,\"ﾘｽﾄ１\"))","v":""},"","","","","","","",{"$f":"IF(S429=\"\",\"\",COUNTIF($S$7:S429,\"該当２\"))","v":""},"","",{"$f":"IF(V429=\"\",\"\",COUNTIF($V$7:V429,\"該当３\"))","v":""}]
[820404010,8,{"v":204,"d":"204 "},{"v":4,"d":"04 "},{"v":10,"d":"010 "},"茨城県","古河市","香取村","駒羽根",null,"","",{"$f":"IF(K430=\"\",\"\",COUNTIF($K$7:K430,\"ﾘｽﾄ１\"))","v":""},"","","","","","","",{"$f":"IF(S430=\"\",\"\",COUNTIF($S$7:S430,\"該当２\"))","v":""},"","",{"$f":"IF(V430=\"\",\"\",COUNTIF($V$7:V430,\"該当３\"))","v":""}]
[820405000,8,{"v":204,"d":"204 "},{"v":5,"d":"05 "},{"v":0,"d":"000 "},"茨城県","古河市","桜井村",null,null,"","",{"$f":"IF(K431=\"\",\"\",COUNTIF($K$7:K431,\"ﾘｽﾄ１\"))","v":""},"","","","","","","",{"$f":"IF(S431=\"\",\"\",COUNTIF($S$7:S431,\"該当２\"))","v":""},"","",{"$f":"IF(V431=\"\",\"\",COUNTIF($V$7:V431,\"該当３\"))","v":""}]
[820405001,8,{"v":204,"d":"204 "},{"v":5,"d":"05 "},{"v":1,"d":"001 "},"茨城県","古河市","桜井村","久能",null,"","",{"$f":"IF(K432=\"\",\"\",COUNTIF($K$7:K432,\"ﾘｽﾄ１\"))","v":""},"","","","","","","",{"$f":"IF(S432=\"\",\"\",COUNTIF($S$7:S432,\"該当２\"))","v":""},"","",{"$f":"IF(V432=\"\",\"\",COUNTIF($V$7:V432,\"該当３\"))","v":""}]
[820405002,8,{"v":204,"d":"204 "},{"v":5,"d":"05 "},{"v":2,"d":"002 "},"茨城県","古河市","桜井村","下大野",null,"","",{"$f":"IF(K433=\"\",\"\",COUNTIF($K$7:K433,\"ﾘｽﾄ１\"))","v":""},"","","","","","","",{"$f":"IF(S433=\"\",\"\",COUNTIF($S$7:S433,\"該当２\"))","v":""},"","",{"$f":"IF(V433=\"\",\"\",COUNTIF($V$7:V433,\"該当３\"))","v":""}]
[820405003,8,{"v":204,"d":"204 "},{"v":5,"d":"05 "},{"v":3,"d":"003 "},"茨城県","古河市","桜井村","柳橋下宿砂久保",null,"","",{"$f":"IF(K434=\"\",\"\",COUNTIF($K$7:K434,\"ﾘｽﾄ１\"))","v":""},"","","","","","","",{"$f":"IF(S434=\"\",\"\",COUNTIF($S$7:S434,\"該当２\"))","v":""},"","",{"$f":"IF(V434=\"\",\"\",COUNTIF($V$7:V434,\"該当３\"))","v":""}]
[820405004,8,{"v":204,"d":"204 "},{"v":5,"d":"05 "},{"v":4,"d":"004 "},"茨城県","古河市","桜井村","柳橋上宿北新田",null,"","",{"$f":"IF(K435=\"\",\"\",COUNTIF($K$7:K435,\"ﾘｽﾄ１\"))","v":""},"","","","","","","",{"$f":"IF(S435=\"\",\"\",COUNTIF($S$7:S435,\"該当２\"))","v":""},"","",{"$f":"IF(V435=\"\",\"\",COUNTIF($V$7:V435,\"該当３\"))","v":""}]
[820405005,8,{"v":204,"d":"204 "},{"v":5,"d":"05 "},{"v":5,"d":"005 "},"茨城県","古河市","桜井村","葛生南",null,"","",{"$f":"IF(K436=\"\",\"\",COUNTIF($K$7:K436,\"ﾘｽﾄ１\"))","v":""},"","","","","","","",{"$f":"IF(S436=\"\",\"\",COUNTIF($S$7:S436,\"該当２\"))","v":""},"","",{"$f":"IF(V436=\"\",\"\",COUNTIF($V$7:V436,\"該当３\"))","v":""}]
[820405006,8,{"v":204,"d":"204 "},{"v":5,"d":"05 "},{"v":6,"d":"006 "},"茨城県","古河市","桜井村","葛生松山",null,"","",{"$f":"IF(K437=\"\",\"\",COUNTIF($K$7:K437,\"ﾘｽﾄ１\"))","v":""},"","","","","","","",{"$f":"IF(S437=\"\",\"\",COUNTIF($S$7:S437,\"該当２\"))","v":""},"","",{"$f":"IF(V437=\"\",\"\",COUNTIF($V$7:V437,\"該当３\"))","v":""}]
[820405007,8,{"v":204,"d":"204 "},{"v":5,"d":"05 "},{"v":7,"d":"007 "},"茨城県","古河市","桜井村","葛生二ツ矢",null,"","",{"$f":"IF(K438=\"\",\"\",COUNTIF($K$7:K438,\"ﾘｽﾄ１\"))","v":""},"","","","","","","",{"$f":"IF(S438=\"\",\"\",COUNTIF($S$7:S438,\"該当２\"))","v":""},"","",{"$f":"IF(V438=\"\",\"\",COUNTIF($V$7:V438,\"該当３\"))","v":""}]
[820405008,8,{"v":204,"d":"204 "},{"v":5,"d":"05 "},{"v":8,"d":"008 "},"茨城県","古河市","桜井村","高野",null,"","",{"$f":"IF(K439=\"\",\"\",COUNTIF($K$7:K439,\"ﾘｽﾄ１\"))","v":""},"","","","","","","",{"$f":"IF(S439=\"\",\"\",COUNTIF($S$7:S439,\"該当２\"))","v":""},"","",{"$f":"IF(V439=\"\",\"\",COUNTIF($V$7:V439,\"該当３\"))","v":""}]
[820406000,8,{"v":204,"d":"204 "},{"v":6,"d":"06 "},{"v":0,"d":"000 "},"茨城県","古河市","岡郷村",null,null,"","",{"$f":"IF(K440=\"\",\"\",COUNTIF($K$7:K440,\"ﾘｽﾄ１\"))","v":""},"","","","","","","",{"$f":"IF(S440=\"\",\"\",COUNTIF($S$7:S440,\"該当２\"))","v":""},"","",{"$f":"IF(V440=\"\",\"\",COUNTIF($V$7:V440,\"該当３\"))","v":""}]
[820406001,8,{"v":204,"d":"204 "},{"v":6,"d":"06 "},{"v":1,"d":"001 "},"茨城県","古河市","岡郷村","小堤上坪",null,"","",{"$f":"IF(K441=\"\",\"\",COUNTIF($K$7:K441,\"ﾘｽﾄ１\"))","v":""},"","","","","","","",{"$f":"IF(S441=\"\",\"\",COUNTIF($S$7:S441,\"該当２\"))","v":""},"","",{"$f":"IF(V441=\"\",\"\",COUNTIF($V$7:V441,\"該当３\"))","v":""}]
[820406002,8,{"v":204,"d":"204 "},{"v":6,"d":"06 "},{"v":2,"d":"002 "},"茨城県","古河市","岡郷村","小堤神明地",null,"","",{"$f":"IF(K442=\"\",\"\",COUNTIF($K$7:K442,\"ﾘｽﾄ１\"))","v":""},"","","","","","","",{"$f":"IF(S442=\"\",\"\",COUNTIF($S$7:S442,\"該当２\"))","v":""},"","",{"$f":"IF(V442=\"\",\"\",COUNTIF($V$7:V442,\"該当３\"))","v":""}]
[820406003,8,{"v":204,"d":"204 "},{"v":6,"d":"06 "},{"v":3,"d":"003 "},"茨城県","古河市","岡郷村","小堤北新田",null,"","",{"$f":"IF(K443=\"\",\"\",COUNTIF($K$7:K443,\"ﾘｽﾄ１\"))","v":""},"","","","","","","",{"$f":"IF(S443=\"\",\"\",COUNTIF($S$7:S443,\"該当２\"))","v":""},"","",{"$f":"IF(V443=\"\",\"\",COUNTIF($V$7:V443,\"該当３\"))","v":""}]
[820406004,8,{"v":204,"d":"204 "},{"v":6,"d":"06 "},{"v":4,"d":"004 "},"茨城県","古河市","岡郷村","小堤本田",null,"","",{"$f":"IF(K444=\"\",\"\",COUNTIF($K$7:K444,\"ﾘｽﾄ１\"))","v":""},"","","","","","","",{"$f":"IF(S444=\"\",\"\",COUNTIF($S$7:S444,\"該当２\"))","v":""},"","",{"$f":"IF(V444=\"\",\"\",COUNTIF($V$7:V444,\"該当３\"))","v":""}]
[820406005,8,{"v":204,"d":"204 "},{"v":6,"d":"06 "},{"v":5,"d":"005 "},"茨城県","古河市","岡郷村","小堤下宿",null,"","",{"$f":"IF(K445=\"\",\"\",COUNTIF($K$7:K445,\"ﾘｽﾄ１\"))","v":""},"","","","","","","",{"$f":"IF(S445=\"\",\"\",COUNTIF($S$7:S445,\"該当２\"))","v":""},"","",{"$f":"IF(V445=\"\",\"\",COUNTIF($V$7:V445,\"該当３\"))","v":""}]
[820406006,8,{"v":204,"d":"204 "},{"v":6,"d":"06 "},{"v":6,"d":"006 "},"茨城県","古河市","岡郷村","関戸上",null,"","",{"$f":"IF(K446=\"\",\"\",COUNTIF($K$7:K446,\"ﾘｽﾄ１\"))","v":""},"","","","","","","",{"$f":"IF(S446=\"\",\"\",COUNTIF($S$7:S446,\"該当２\"))","v":""},"","",{"$f":"IF(V446=\"\",\"\",COUNTIF($V$7:V446,\"該当３\"))","v":""}]
[820406007,8,{"v":204,"d":"204 "},{"v":6,"d":"06 "},{"v":7,"d":"007 "},"茨城県","古河市","岡郷村","関戸北",null,"","",{"$f":"IF(K447=\"\",\"\",COUNTIF($K$7:K447,\"ﾘｽﾄ１\"))","v":""},"","","","","","","",{"$f":"IF(S447=\"\",\"\",COUNTIF($S$7:S447,\"該当２\"))","v":""},"","",{"$f":"IF(V447=\"\",\"\",COUNTIF($V$7:V447,\"該当３\"))","v":""}]
[820406008,8,{"v":204,"d":"204 "},{"v":6,"d":"06 "},{"v":8,"d":"008 "},"茨城県","古河市","岡郷村","関戸下高野",null,"","",{"$f":"IF(K448=\"\",\"\",COUNTIF($K$7:K448,\"ﾘｽﾄ１\"))","v":""},"","","","","","","",{"$f":"IF(S448=\"\",\"\",COUNTIF($S$7:S448,\"該当２\"))","v":""},"","",{"$f":"IF(V448=\"\",\"\",COUNTIF($V$7:V448,\"該当３\"))","v":""}]
[820406009,8,{"v":204,"d":"204 "},{"v":6,"d":"06 "},{"v":9,"d":"009 "},"茨城県","古河市","岡郷村","稲宮",null,"","",{"$f":"IF(K449=\"\",\"\",COUNTIF($K$7:K449,\"ﾘｽﾄ１\"))","v":""},"","","","","","","",{"$f":"IF(S449=\"\",\"\",COUNTIF($S$7:S449,\"該当２\"))","v":""},"","",{"$f":"IF(V449=\"\",\"\",COUNTIF($V$7:V449,\"該当３\"))","v":""}]
[820406010,8,{"v":204,"d":"204 "},{"v":6,"d":"06 "},{"v":10,"d":"010 "},"茨城県","古河市","岡郷村","上大野橋本南部",null,"","",{"$f":"IF(K450=\"\",\"\",COUNTIF($K$7:K450,\"ﾘｽﾄ１\"))","v":""},"","","","","","","",{"$f":"IF(S450=\"\",\"\",COUNTIF($S$7:S450,\"該当２\"))","v":""},"","",{"$f":"IF(V450=\"\",\"\",COUNTIF($V$7:V450,\"該当３\"))","v":""}]
[820406011,8,{"v":204,"d":"204 "},{"v":6,"d":"06 "},{"v":11,"d":"011 "},"茨城県","古河市","岡郷村","上大野片町松原",null,"","",{"$f":"IF(K451=\"\",\"\",COUNTIF($K$7:K451,\"ﾘｽﾄ１\"))","v":""},"","","","","","","",{"$f":"IF(S451=\"\",\"\",COUNTIF($S$7:S451,\"該当２\"))","v":""},"","",{"$f":"IF(V451=\"\",\"\",COUNTIF($V$7:V451,\"該当３\"))","v":""}]
[820406012,8,{"v":204,"d":"204 "},{"v":6,"d":"06 "},{"v":12,"d":"012 "},"茨城県","古河市","岡郷村","上大野原紺屋溜原",null,"","",{"$f":"IF(K452=\"\",\"\",COUNTIF($K$7:K452,\"ﾘｽﾄ１\"))","v":""},"","","","","","","",{"$f":"IF(S452=\"\",\"\",COUNTIF($S$7:S452,\"該当２\"))","v":""},"","",{"$f":"IF(V452=\"\",\"\",COUNTIF($V$7:V452,\"該当３\"))","v":""}]
[820406013,8,{"v":204,"d":"204 "},{"v":6,"d":"06 "},{"v":13,"d":"013 "},"茨城県","古河市","岡郷村","上大野古内",null,"","",{"$f":"IF(K453=\"\",\"\",COUNTIF($K$7:K453,\"ﾘｽﾄ１\"))","v":""},"","","","","","","",{"$f":"IF(S453=\"\",\"\",COUNTIF($S$7:S453,\"該当２\"))","v":""},"","",{"$f":"IF(V453=\"\",\"\",COUNTIF($V$7:V453,\"該当３\"))","v":""}]
[820406014,8,{"v":204,"d":"204 "},{"v":6,"d":"06 "},{"v":14,"d":"014 "},"茨城県","古河市","岡郷村","開拓",null,"","",{"$f":"IF(K454=\"\",\"\",COUNTIF($K$7:K454,\"ﾘｽﾄ１\"))","v":""},"","","","","","","",{"$f":"IF(S454=\"\",\"\",COUNTIF($S$7:S454,\"該当２\"))","v":""},"","",{"$f":"IF(V454=\"\",\"\",COUNTIF($V$7:V454,\"該当３\"))","v":""}]
[820407000,8,{"v":204,"d":"204 "},{"v":7,"d":"07 "},{"v":0,"d":"000 "},"茨城県","古河市","幸島村",null,null,"","",{"$f":"IF(K455=\"\",\"\",COUNTIF($K$7:K455,\"ﾘｽﾄ１\"))","v":""},"","","","","","","",{"$f":"IF(S455=\"\",\"\",COUNTIF($S$7:S455,\"該当２\"))","v":""},"","",{"$f":"IF(V455=\"\",\"\",COUNTIF($V$7:V455,\"該当３\"))","v":""}]
[820407001,8,{"v":204,"d":"204 "},{"v":7,"d":"07 "},{"v":1,"d":"001 "},"茨城県","古河市","幸島村","諸川下町",null,"","",{"$f":"IF(K456=\"\",\"\",COUNTIF($K$7:K456,\"ﾘｽﾄ１\"))","v":""},"","","","","","","",{"$f":"IF(S456=\"\",\"\",COUNTIF($S$7:S456,\"該当２\"))","v":""},"","",{"$f":"IF(V456=\"\",\"\",COUNTIF($V$7:V456,\"該当３\"))","v":""}]
[820407002,8,{"v":204,"d":"204 "},{"v":7,"d":"07 "},{"v":2,"d":"002 "},"茨城県","古河市","幸島村","諸川新町",null,"","",{"$f":"IF(K457=\"\",\"\",COUNTIF($K$7:K457,\"ﾘｽﾄ１\"))","v":""},"","",{"$f":"IF(O457=\"該当１\",G457,\"\")","v":""},{"$f":"IF(O457=\"該当１\",\"ﾘｽﾄ2\",\"\")","v":""},{"$f":"IF(Q457=\"ﾘｽﾄ2\",H457,\"\")","v":""},"",{"$f":"IF(S457=\"該当２\",H457,\"\")","v":""},{"$f":"IF(S457=\"\",\"\",COUNTIF($S$7:S457,\"該当２\"))","v":""},{"$f":"IF(AND($S$2=H457,E457>0,E457<998),\"該当３\",\"\")","v":""},{"$f":"IF(V457=\"該当３\",I457,\"\")","v":""},{"$f":"IF(V457=\"\",\"\",COUNTIF($V$7:V457,\"該当３\"))","v":""}]
[820407003,8,{"v":204,"d":"204 "},{"v":7,"d":"07 "},{"v":3,"d":"003 "},"茨城県","古河市","幸島村","諸川仲町",null,{"$f":"IF(AND($C458>0,$H458=\"\"),\"ﾘｽﾄ１\",\"\")","v":""},{"$f":"IF(K458=\"ﾘｽﾄ１\",G458,\"\")","v":""},{"$f":"IF(K458=\"\",\"\",COUNTIF($K$7:K458,\"ﾘｽﾄ１\"))","v":""},{"$f":"IF(AND(D458=0,E458>0),\"同一区\",\"\")","v":""},{"$f":"IF(AND(EXACT($K$2,G458),H458>0),\"該当１\",\"\")","v":""},"","","",{"$f":"IF(AND(Q458=\"ﾘｽﾄ2\",OR(I458=0,AND(N458=\"同一区\",E458=1))),\"該当２\",\"\")","v":""},"",{"$f":"IF(S458=\"\",\"\",COUNTIF($S$7:S458,\"該当２\"))","v":""},"","",{"$f":"IF(V458=\"\",\"\",COUNTIF($V$7:V458,\"該当３\"))","v":""}]
[820407004,8,{"v":204,"d":"204 "},{"v":7,"d":"07 "},{"v":4,"d":"004 "},"茨城県","古河市","幸島村","諸川上町一",null,"","",{"$f":"IF(K459=\"\",\"\",COUNTIF($K$7:K459,\"ﾘｽﾄ１\"))","v":""},"","","","","","","",{"$f":"IF(S459=\"\",\"\",COUNTIF($S$7:S459,\"該当２\"))","v":""},"","",{"$f":"IF(V459=\"\",\"\",COUNTIF($V$7:V459,\"該当３\"))","v":""}]
[820407005,8,{"v":204,"d":"204 "},{"v":7,"d":"07 "},{"v":5,"d":"005 "},"茨城県","古河市","幸島村","諸川上町",null,"","",{"$f":"IF(K460=\"\",\"\",COUNTIF($K$7:K460,\"ﾘｽﾄ１\"))","v":""},"","","","","","","",{"$f":"IF(S460=\"\",\"\",COUNTIF($S$7:S460,\"該当２\"))","v":""},"","",{"$f":"IF(V460=\"\",\"\",COUNTIF($V$7:V460,\"該当３\"))","v":""}]
[820407006,8,{"v":204,"d":"204 "},{"v":7,"d":"07 "},{"v":6,"d":"006 "},"茨城県","古河市","幸島村","諸川松原",null,"","",{"$f":"IF(K461=\"\",\"\",COUNTIF($K$7:K461,\"ﾘｽﾄ１\"))","v":""},"","","","","","","",{"$f":"IF(S461=\"\",\"\",COUNTIF($S$7:S461,\"該当２\"))","v":""},"","",{"$f":"IF(V461=\"\",\"\",COUNTIF($V$7:V461,\"該当３\"))","v":""}]
[820407007,8,{"v":204,"d":"204 "},{"v":7,"d":"07 "},{"v":7,"d":"007 "},"茨城県","古河市","幸島村","諸川西部",null,"","",{"$f":"IF(K462=\"\",\"\",COUNTIF($K$7:K462,\"ﾘｽﾄ１\"))","v":""},"","","","","","","",{"$f":"IF(S462=\"\",\"\",COUNTIF($S$7:S462,\"該当２\"))","v":""},"","",{"$f":"IF(V462=\"\",\"\",COUNTIF($V$7:V462,\"該当３\"))","v":""}]
[820407008,8,{"v":204,"d":"204 "},{"v":7,"d":"07 "},{"v":8,"d":"008 "},"茨城県","古河市","幸島村","諸川上根",null,"","",{"$f":"IF(K463=\"\",\"\",COUNTIF($K$7:K463,\"ﾘｽﾄ１\"))","v":""},"","","","","","","",{"$f":"IF(S463=\"\",\"\",COUNTIF($S$7:S463,\"該当２\"))","v":""},"","",{"$f":"IF(V463=\"\",\"\",COUNTIF($V$7:V463,\"該当３\"))","v":""}]
[820407009,8,{"v":204,"d":"204 "},{"v":7,"d":"07 "},{"v":9,"d":"009 "},"茨城県","古河市","幸島村","五部",null,"","",{"$f":"IF(K464=\"\",\"\",COUNTIF($K$7:K464,\"ﾘｽﾄ１\"))","v":""},"","","","","","","",{"$f":"IF(S464=\"\",\"\",COUNTIF($S$7:S464,\"該当２\"))","v":""},"","",{"$f":"IF(V464=\"\",\"\",COUNTIF($V$7:V464,\"該当３\"))","v":""}]
[820407010,8,{"v":204,"d":"204 "},{"v":7,"d":"07 "},{"v":10,"d":"010 "},"茨城県","古河市","幸島村","上和田",null,"","",{"$f":"IF(K465=\"\",\"\",COUNTIF($K$7:K465,\"ﾘｽﾄ１\"))","v":""},"","","","","","","",{"$f":"IF(S465=\"\",\"\",COUNTIF($S$7:S465,\"該当２\"))","v":""},"","",{"$f":"IF(V465=\"\",\"\",COUNTIF($V$7:V465,\"該当３\"))","v":""}]
[820407011,8,{"v":204,"d":"204 "},{"v":7,"d":"07 "},{"v":11,"d":"011 "},"茨城県","古河市","幸島村","駒込",null,"","",{"$f":"IF(K466=\"\",\"\",COUNTIF($K$7:K466,\"ﾘｽﾄ１\"))","v":""},"","","","","","","",{"$f":"IF(S466=\"\",\"\",COUNTIF($S$7:S466,\"該当２\"))","v":""},"","",{"$f":"IF(V466=\"\",\"\",COUNTIF($V$7:V466,\"該当３\"))","v":""}]
[820407012,8,{"v":204,"d":"204 "},{"v":7,"d":"07 "},{"v":12,"d":"012 "},"茨城県","古河市","幸島村","上片田",null,"","",{"$f":"IF(K467=\"\",\"\",COUNTIF($K$7:K467,\"ﾘｽﾄ１\"))","v":""},"","","","","","","",{"$f":"IF(S467=\"\",\"\",COUNTIF($S$7:S467,\"該当２\"))","v":""},"","",{"$f":"IF(V467=\"\",\"\",COUNTIF($V$7:V467,\"該当３\"))","v":""}]
[820407013,8,{"v":204,"d":"204 "},{"v":7,"d":"07 "},{"v":13,"d":"013 "},"茨城県","古河市","幸島村","下片田",null,"","",{"$f":"IF(K468=\"\",\"\",COUNTIF($K$7:K468,\"ﾘｽﾄ１\"))","v":""},"","","","","","","",{"$f":"IF(S468=\"\",\"\",COUNTIF($S$7:S468,\"該当２\"))","v":""},"","",{"$f":"IF(V468=\"\",\"\",COUNTIF($V$7:V468,\"該当３\"))","v":""}]
[820407014,8,{"v":204,"d":"204 "},{"v":7,"d":"07 "},{"v":14,"d":"014 "},"茨城県","古河市","幸島村","大和田北",null,"","",{"$f":"IF(K469=\"\",\"\",COUNTIF($K$7:K469,\"ﾘｽﾄ１\"))","v":""},"","","","","","","",{"$f":"IF(S469=\"\",\"\",COUNTIF($S$7:S469,\"該当２\"))","v":""},"","",{"$f":"IF(V469=\"\",\"\",COUNTIF($V$7:V469,\"該当３\"))","v":""}]
[820407015,8,{"v":204,"d":"204 "},{"v":7,"d":"07 "},{"v":15,"d":"015 "},"茨城県","古河市","幸島村","大和田南",null,"","",{"$f":"IF(K470=\"\",\"\",COUNTIF($K$7:K470,\"ﾘｽﾄ１\"))","v":""},"","","","","","","",{"$f":"IF(S470=\"\",\"\",COUNTIF($S$7:S470,\"該当２\"))","v":""},"","",{"$f":"IF(V470=\"\",\"\",COUNTIF($V$7:V470,\"該当３\"))","v":""}]
[820407016,8,{"v":204,"d":"204 "},{"v":7,"d":"07 "},{"v":16,"d":"016 "},"茨城県","古河市","幸島村","新和田",null,"","",{"$f":"IF(K471=\"\",\"\",COUNTIF($K$7:K471,\"ﾘｽﾄ１\"))","v":""},"","","","","","","",{"$f":"IF(S471=\"\",\"\",COUNTIF($S$7:S471,\"該当２\"))","v":""},"","",{"$f":"IF(V471=\"\",\"\",COUNTIF($V$7:V471,\"該当３\"))","v":""}]
[820407017,8,{"v":204,"d":"204 "},{"v":7,"d":"07 "},{"v":17,"d":"017 "},"茨城県","古河市","幸島村","仁連御辺",null,"","",{"$f":"IF(K472=\"\",\"\",COUNTIF($K$7:K472,\"ﾘｽﾄ１\"))","v":""},"","","","","","","",{"$f":"IF(S472=\"\",\"\",COUNTIF($S$7:S472,\"該当２\"))","v":""},"","",{"$f":"IF(V472=\"\",\"\",COUNTIF($V$7:V472,\"該当３\"))","v":""}]
[820407018,8,{"v":204,"d":"204 "},{"v":7,"d":"07 "},{"v":18,"d":"018 "},"茨城県","古河市","幸島村","仁連下町",null,"","",{"$f":"IF(K473=\"\",\"\",COUNTIF($K$7:K473,\"ﾘｽﾄ１\"))","v":""},"","","","","","","",{"$f":"IF(S473=\"\",\"\",COUNTIF($S$7:S473,\"該当２\"))","v":""},"","",{"$f":"IF(V473=\"\",\"\",COUNTIF($V$7:V473,\"該当３\"))","v":""}]
[820407019,8,{"v":204,"d":"204 "},{"v":7,"d":"07 "},{"v":19,"d":"019 "},"茨城県","古河市","幸島村","仁連上町",null,"","",{"$f":"IF(K474=\"\",\"\",COUNTIF($K$7:K474,\"ﾘｽﾄ１\"))","v":""},"","","","","","","",{"$f":"IF(S474=\"\",\"\",COUNTIF($S$7:S474,\"該当２\"))","v":""},"","",{"$f":"IF(V474=\"\",\"\",COUNTIF($V$7:V474,\"該当３\"))","v":""}]
[820407020,8,{"v":204,"d":"204 "},{"v":7,"d":"07 "},{"v":20,"d":"020 "},"茨城県","古河市","幸島村","仁連江口",null,"","",{"$f":"IF(K475=\"\",\"\",COUNTIF($K$7:K475,\"ﾘｽﾄ１\"))","v":""},"","","","","","","",{"$f":"IF(S475=\"\",\"\",COUNTIF($S$7:S475,\"該当２\"))","v":""},"","",{"$f":"IF(V475=\"\",\"\",COUNTIF($V$7:V475,\"該当３\"))","v":""}]
[820407021,8,{"v":204,"d":"204 "},{"v":7,"d":"07 "},{"v":21,"d":"021 "},"茨城県","古河市","幸島村","東諸川",null,"","",{"$f":"IF(K476=\"\",\"\",COUNTIF($K$7:K476,\"ﾘｽﾄ１\"))","v":""},"","","","","","","",{"$f":"IF(S476=\"\",\"\",COUNTIF($S$7:S476,\"該当２\"))","v":""},"","",{"$f":"IF(V476=\"\",\"\",COUNTIF($V$7:V476,\"該当３\"))","v":""}]
[820408000,8,{"v":204,"d":"204 "},{"v":8,"d":"08 "},{"v":0,"d":"000 "},"茨城県","古河市","名崎村２－１",null,null,"","",{"$f":"IF(K477=\"\",\"\",COUNTIF($K$7:K477,\"ﾘｽﾄ１\"))","v":""},"","","","","","","",{"$f":"IF(S477=\"\",\"\",COUNTIF($S$7:S477,\"該当２\"))","v":""},"","",{"$f":"IF(V477=\"\",\"\",COUNTIF($V$7:V477,\"該当３\"))","v":""}]
[820408001,8,{"v":204,"d":"204 "},{"v":8,"d":"08 "},{"v":1,"d":"001 "},"茨城県","古河市","名崎村２－１","瀬戸屋敷",null,"","",{"$f":"IF(K478=\"\",\"\",COUNTIF($K$7:K478,\"ﾘｽﾄ１\"))","v":""},"","","","","","","",{"$f":"IF(S478=\"\",\"\",COUNTIF($S$7:S478,\"該当２\"))","v":""},"","",{"$f":"IF(V478=\"\",\"\",COUNTIF($V$7:V478,\"該当３\"))","v":""}]
[820408002,8,{"v":204,"d":"204 "},{"v":8,"d":"08 "},{"v":2,"d":"002 "},"茨城県","古河市","名崎村２－１","加下間",null,"","",{"$f":"IF(K479=\"\",\"\",COUNTIF($K$7:K479,\"ﾘｽﾄ１\"))","v":""},"","","","","","","",{"$f":"IF(S479=\"\",\"\",COUNTIF($S$7:S479,\"該当２\"))","v":""},"","",{"$f":"IF(V479=\"\",\"\",COUNTIF($V$7:V479,\"該当３\"))","v":""}]
[820408003,8,{"v":204,"d":"204 "},{"v":8,"d":"08 "},{"v":3,"d":"003 "},"茨城県","古河市","名崎村２－１","下内",null,"","",{"$f":"IF(K480=\"\",\"\",COUNTIF($K$7:K480,\"ﾘｽﾄ１\"))","v":""},"","","","","","","",{"$f":"IF(S480=\"\",\"\",COUNTIF($S$7:S480,\"該当２\"))","v":""},"","",{"$f":"IF(V480=\"\",\"\",COUNTIF($V$7:V480,\"該当３\"))","v":""}]
[820408004,8,{"v":204,"d":"204 "},{"v":8,"d":"08 "},{"v":4,"d":"004 "},"茨城県","古河市","名崎村２－１","下尾崎",null,"","",{"$f":"IF(K481=\"\",\"\",COUNTIF($K$7:K481,\"ﾘｽﾄ１\"))","v":""},"","","","","","","",{"$f":"IF(S481=\"\",\"\",COUNTIF($S$7:S481,\"該当２\"))","v":""},"","",{"$f":"IF(V481=\"\",\"\",COUNTIF($V$7:V481,\"該当３\"))","v":""}]
[820408005,8,{"v":204,"d":"204 "},{"v":8,"d":"08 "},{"v":5,"d":"005 "},"茨城県","古河市","名崎村２－１","間中橋",null,"","",{"$f":"IF(K482=\"\",\"\",COUNTIF($K$7:K482,\"ﾘｽﾄ１\"))","v":""},"","","","","","","",{"$f":"IF(S482=\"\",\"\",COUNTIF($S$7:S482,\"該当２\"))","v":""},"","",{"$f":"IF(V482=\"\",\"\",COUNTIF($V$7:V482,\"該当３\"))","v":""}]
[820408006,8,{"v":204,"d":"204 "},{"v":8,"d":"08 "},{"v":6,"d":"006 "},"茨城県","古河市","名崎村２－１","江口",null,"","",{"$f":"IF(K483=\"\",\"\",COUNTIF($K$7:K483,\"ﾘｽﾄ１\"))","v":""},"","","","","","","",{"$f":"IF(S483=\"\",\"\",COUNTIF($S$7:S483,\"該当２\"))","v":""},"","",{"$f":"IF(V483=\"\",\"\",COUNTIF($V$7:V483,\"該当３\"))","v":""}]
[820408007,8,{"v":204,"d":"204 "},{"v":8,"d":"08 "},{"v":7,"d":"007 "},"茨城県","古河市","名崎村２－１","新立",null,"","",{"$f":"IF(K484=\"\",\"\",COUNTIF($K$7:K484,\"ﾘｽﾄ１\"))","v":""},"","","","","","","",{"$f":"IF(S484=\"\",\"\",COUNTIF($S$7:S484,\"該当２\"))","v":""},"","",{"$f":"IF(V484=\"\",\"\",COUNTIF($V$7:V484,\"該当３\"))","v":""}]
[820408008,8,{"v":204,"d":"204 "},{"v":8,"d":"08 "},{"v":8,"d":"008 "},"茨城県","古河市","名崎村２－１","丸山",null,"","",{"$f":"IF(K485=\"\",\"\",COUNTIF($K$7:K485,\"ﾘｽﾄ１\"))","v":""},"","","","","","","",{"$f":"IF(S485=\"\",\"\",COUNTIF($S$7:S485,\"該当２\"))","v":""},"","",{"$f":"IF(V485=\"\",\"\",COUNTIF($V$7:V485,\"該当３\"))","v":""}]
[820408009,8,{"v":204,"d":"204 "},{"v":8,"d":"08 "},{"v":9,"d":"009 "},"茨城県","古河市","名崎村２－１","古屋松山",null,"","",{"$f":"IF(K486=\"\",\"\",COUNTIF($K$7:K486,\"ﾘｽﾄ１\"))","v":""},"","","","","","","",{"$f":"IF(S486=\"\",\"\",COUNTIF($S$7:S486,\"該当２\"))","v":""},"","",{"$f":"IF(V486=\"\",\"\",COUNTIF($V$7:V486,\"該当３\"))","v":""}]
[820408010,8,{"v":204,"d":"204 "},{"v":8,"d":"08 "},{"v":10,"d":"010 "},"茨城県","古河市","名崎村２－１","下坪",null,"","",{"$f":"IF(K487=\"\",\"\",COUNTIF($K$7:K487,\"ﾘｽﾄ１\"))","v":""},"","","","","","","",{"$f":"IF(S487=\"\",\"\",COUNTIF($S$7:S487,\"該当２\"))","v":""},"","",{"$f":"IF(V487=\"\",\"\",COUNTIF($V$7:V487,\"該当３\"))","v":""}]
[820409000,8,{"v":204,"d":"204 "},{"v":9,"d":"09 "},{"v":0,"d":"000 "},"茨城県","古河市","八俣村",null,null,"","",{"$f":"IF(K488=\"\",\"\",COUNTIF($K$7:K488,\"ﾘｽﾄ１\"))","v":""},"","","","","","","",{"$f":"IF(S488=\"\",\"\",COUNTIF($S$7:S488,\"該当２\"))","v":""},"","",{"$f":"IF(V488=\"\",\"\",COUNTIF($V$7:V488,\"該当３\"))","v":""}]
[820409001,8,{"v":204,"d":"204 "},{"v":9,"d":"09 "},{"v":1,"d":"001 "},"茨城県","古河市","八俣村","宿",null,"","",{"$f":"IF(K489=\"\",\"\",COUNTIF($K$7:K489,\"ﾘｽﾄ１\"))","v":""},"","","","","","","",{"$f":"IF(S489=\"\",\"\",COUNTIF($S$7:S489,\"該当２\"))","v":""},"","",{"$f":"IF(V489=\"\",\"\",COUNTIF($V$7:V489,\"該当３\"))","v":""}]
[820409002,8,{"v":204,"d":"204 "},{"v":9,"d":"09 "},{"v":2,"d":"002 "},"茨城県","古河市","八俣村","南笹原",null,"","",{"$f":"IF(K490=\"\",\"\",COUNTIF($K$7:K490,\"ﾘｽﾄ１\"))","v":""},"","","","","","","",{"$f":"IF(S490=\"\",\"\",COUNTIF($S$7:S490,\"該当２\"))","v":""},"","",{"$f":"IF(V490=\"\",\"\",COUNTIF($V$7:V490,\"該当３\"))","v":""}]
[820409003,8,{"v":204,"d":"204 "},{"v":9,"d":"09 "},{"v":3,"d":"003 "},"茨城県","古河市","八俣村","中里，新々田",null,"","",{"$f":"IF(K491=\"\",\"\",COUNTIF($K$7:K491,\"ﾘｽﾄ１\"))","v":""},"","","","","","","",{"$f":"IF(S491=\"\",\"\",COUNTIF($S$7:S491,\"該当２\"))","v":""},"","",{"$f":"IF(V491=\"\",\"\",COUNTIF($V$7:V491,\"該当３\"))","v":""}]
[820409004,8,{"v":204,"d":"204 "},{"v":9,"d":"09 "},{"v":4,"d":"004 "},"茨城県","古河市","八俣村","大綱",null,"","",{"$f":"IF(K492=\"\",\"\",COUNTIF($K$7:K492,\"ﾘｽﾄ１\"))","v":""},"","","","","","","",{"$f":"IF(S492=\"\",\"\",COUNTIF($S$7:S492,\"該当２\"))","v":""},"","",{"$f":"IF(V492=\"\",\"\",COUNTIF($V$7:V492,\"該当３\"))","v":""}]
[820409005,8,{"v":204,"d":"204 "},{"v":9,"d":"09 "},{"v":5,"d":"005 "},"茨城県","古河市","八俣村","米倉",null,"","",{"$f":"IF(K493=\"\",\"\",COUNTIF($K$7:K493,\"ﾘｽﾄ１\"))","v":""},"","","","","","","",{"$f":"IF(S493=\"\",\"\",COUNTIF($S$7:S493,\"該当２\"))","v":""},"","",{"$f":"IF(V493=\"\",\"\",COUNTIF($V$7:V493,\"該当３\"))","v":""}]
[820409006,8,{"v":204,"d":"204 "},{"v":9,"d":"09 "},{"v":6,"d":"006 "},"茨城県","古河市","八俣村","清水",null,"","",{"$f":"IF(K494=\"\",\"\",COUNTIF($K$7:K494,\"ﾘｽﾄ１\"))","v":""},"","","","","","","",{"$f":"IF(S494=\"\",\"\",COUNTIF($S$7:S494,\"該当２\"))","v":""},"","",{"$f":"IF(V494=\"\",\"\",COUNTIF($V$7:V494,\"該当３\"))","v":""}]
[820409007,8,{"v":204,"d":"204 "},{"v":9,"d":"09 "},{"v":7,"d":"007 "},"茨城県","古河市","八俣村","赤松",null,"","",{"$f":"IF(K495=\"\",\"\",COUNTIF($K$7:K495,\"ﾘｽﾄ１\"))","v":""},"","","","","","","",{"$f":"IF(S495=\"\",\"\",COUNTIF($S$7:S495,\"該当２\"))","v":""},"","",{"$f":"IF(V495=\"\",\"\",COUNTIF($V$7:V495,\"該当３\"))","v":""}]
[820409008,8,{"v":204,"d":"204 "},{"v":9,"d":"09 "},{"v":8,"d":"008 "},"茨城県","古河市","八俣村","沼影",null,"","",{"$f":"IF(K496=\"\",\"\",COUNTIF($K$7:K496,\"ﾘｽﾄ１\"))","v":""},"","","","","","","",{"$f":"IF(S496=\"\",\"\",COUNTIF($S$7:S496,\"該当２\"))","v":""},"","",{"$f":"IF(V496=\"\",\"\",COUNTIF($V$7:V496,\"該当３\"))","v":""}]
[820409009,8,{"v":204,"d":"204 "},{"v":9,"d":"09 "},{"v":9,"d":"009 "},"茨城県","古河市","八俣村","福原小立野",null,"","",{"$f":"IF(K497=\"\",\"\",COUNTIF($K$7:K497,\"ﾘｽﾄ１\"))","v":""},"","","","","","","",{"$f":"IF(S497=\"\",\"\",COUNTIF($S$7:S497,\"該当２\"))","v":""},"","",{"$f":"IF(V497=\"\",\"\",COUNTIF($V$7:V497,\"該当３\"))","v":""}]
[820409010,8,{"v":204,"d":"204 "},{"v":9,"d":"09 "},{"v":10,"d":"010 "},"茨城県","古河市","八俣村","谷貝",null,"","",{"$f":"IF(K498=\"\",\"\",COUNTIF($K$7:K498,\"ﾘｽﾄ１\"))","v":""},"","","","","","","",{"$f":"IF(S498=\"\",\"\",COUNTIF($S$7:S498,\"該当２\"))","v":""},"","",{"$f":"IF(V498=\"\",\"\",COUNTIF($V$7:V498,\"該当３\"))","v":""}]
[820409011,8,{"v":204,"d":"204 "},{"v":9,"d":"09 "},{"v":11,"d":"011 "},"茨城県","古河市","八俣村","山田",null,"","",{"$f":"IF(K499=\"\",\"\",COUNTIF($K$7:K499,\"ﾘｽﾄ１\"))","v":""},"","","","","","","",{"$f":"IF(S499=\"\",\"\",COUNTIF($S$7:S499,\"該当２\"))","v":""},"","",{"$f":"IF(V499=\"\",\"\",COUNTIF($V$7:V499,\"該当３\"))","v":""}]
[820409012,8,{"v":204,"d":"204 "},{"v":9,"d":"09 "},{"v":12,"d":"012 "},"茨城県","古河市","八俣村","北山田",null,"","",{"$f":"IF(K500=\"\",\"\",COUNTIF($K$7:K500,\"ﾘｽﾄ１\"))","v":""},"","","","","","","",{"$f":"IF(S500=\"\",\"\",COUNTIF($S$7:S500,\"該当２\"))","v":""},"","",{"$f":"IF(V500=\"\",\"\",COUNTIF($V$7:V500,\"該当３\"))","v":""}]
[820409013,8,{"v":204,"d":"204 "},{"v":9,"d":"09 "},{"v":13,"d":"013 "},"茨城県","古河市","八俣村","長左エ門西十九丁",null,"","",{"$f":"IF(K501=\"\",\"\",COUNTIF($K$7:K501,\"ﾘｽﾄ１\"))","v":""},"","","","","","","",{"$f":"IF(S501=\"\",\"\",COUNTIF($S$7:S501,\"該当２\"))","v":""},"","",{"$f":"IF(V501=\"\",\"\",COUNTIF($V$7:V501,\"該当３\"))","v":""}]
[820409014,8,{"v":204,"d":"204 "},{"v":9,"d":"09 "},{"v":14,"d":"014 "},"茨城県","古河市","八俣村","長左エ門東",null,"","",{"$f":"IF(K502=\"\",\"\",COUNTIF($K$7:K502,\"ﾘｽﾄ１\"))","v":""},"","","","","","","",{"$f":"IF(S502=\"\",\"\",COUNTIF($S$7:S502,\"該当２\"))","v":""},"","",{"$f":"IF(V502=\"\",\"\",COUNTIF($V$7:V502,\"該当３\"))","v":""}]
[820409015,8,{"v":204,"d":"204 "},{"v":9,"d":"09 "},{"v":15,"d":"015 "},"茨城県","古河市","八俣村","八俣新町",null,"","",{"$f":"IF(K503=\"\",\"\",COUNTIF($K$7:K503,\"ﾘｽﾄ１\"))","v":""},"","","","","","","",{"$f":"IF(S503=\"\",\"\",COUNTIF($S$7:S503,\"該当２\"))","v":""},"","",{"$f":"IF(V503=\"\",\"\",COUNTIF($V$7:V503,\"該当３\"))","v":""}]
[820500000,8,{"v":205,"d":"205 "},{"v":0,"d":"00 "},{"v":0,"d":"000 "},"茨城県","石岡市",{"$nulls":3},"ﾘｽﾄ１","石岡市",{"$f":"IF(K504=\"\",\"\",COUNTIF($K$7:K504,\"ﾘｽﾄ１\"))","v":5},"","","","","","","",{"$f":"IF(S504=\"\",\"\",COUNTIF($S$7:S504,\"該当２\"))","v":""},"","",{"$f":"IF(V504=\"\",\"\",COUNTIF($V$7:V504,\"該当３\"))","v":""}]
[820501000,8,{"v":205,"d":"205 "},{"v":1,"d":"01 "},{"v":0,"d":"000 "},"茨城県","石岡市","石岡町",null,null,"","",{"$f":"IF(K505=\"\",\"\",COUNTIF($K$7:K505,\"ﾘｽﾄ１\"))","v":""},"","","","","","","",{"$f":"IF(S505=\"\",\"\",COUNTIF($S$7:S505,\"該当２\"))","v":""},"","",{"$f":"IF(V505=\"\",\"\",COUNTIF($V$7:V505,\"該当３\"))","v":""}]
[820501001,8,{"v":205,"d":"205 "},{"v":1,"d":"01 "},{"v":1,"d":"001 "},"茨城県","石岡市","石岡町","大砂",null,"","",{"$f":"IF(K506=\"\",\"\",COUNTIF($K$7:K506,\"ﾘｽﾄ１\"))","v":""},"","","","","","","",{"$f":"IF(S506=\"\",\"\",COUNTIF($S$7:S506,\"該当２\"))","v":""},"","",{"$f":"IF(V506=\"\",\"\",COUNTIF($V$7:V506,\"該当３\"))","v":""}]
[820501002,8,{"v":205,"d":"205 "},{"v":1,"d":"01 "},{"v":2,"d":"002 "},"茨城県","石岡市","石岡町","正上内",null,"","",{"$f":"IF(K507=\"\",\"\",COUNTIF($K$7:K507,\"ﾘｽﾄ１\"))","v":""},"","","","","","","",{"$f":"IF(S507=\"\",\"\",COUNTIF($S$7:S507,\"該当２\"))","v":""},"","",{"$f":"IF(V507=\"\",\"\",COUNTIF($V$7:V507,\"該当３\"))","v":""}]
[820501003,8,{"v":205,"d":"205 "},{"v":1,"d":"01 "},{"v":3,"d":"003 "},"茨城県","石岡市","石岡町","荒金",null,"","",{"$f":"IF(K508=\"\",\"\",COUNTIF($K$7:K508,\"ﾘｽﾄ１\"))","v":""},"","","","","","","",{"$f":"IF(S508=\"\",\"\",COUNTIF($S$7:S508,\"該当２\"))","v":""},"","",{"$f":"IF(V508=\"\",\"\",COUNTIF($V$7:V508,\"該当３\"))","v":""}]
[820501004,8,{"v":205,"d":"205 "},{"v":1,"d":"01 "},{"v":4,"d":"004 "},"茨城県","石岡市","石岡町","出し山",null,"","",{"$f":"IF(K509=\"\",\"\",COUNTIF($K$7:K509,\"ﾘｽﾄ１\"))","v":""},"","","","","","","",{"$f":"IF(S509=\"\",\"\",COUNTIF($S$7:S509,\"該当２\"))","v":""},"","",{"$f":"IF(V509=\"\",\"\",COUNTIF($V$7:V509,\"該当３\"))","v":""}]
[820501005,8,{"v":205,"d":"205 "},{"v":1,"d":"01 "},{"v":5,"d":"005 "},"茨城県","石岡市","石岡町","染谷",null,"","",{"$f":"IF(K510=\"\",\"\",COUNTIF($K$7:K510,\"ﾘｽﾄ１\"))","v":""},"","","","","","","",{"$f":"IF(S510=\"\",\"\",COUNTIF($S$7:S510,\"該当２\"))","v":""},"","",{"$f":"IF(V510=\"\",\"\",COUNTIF($V$7:V510,\"該当３\"))","v":""}]
[820501006,8,{"v":205,"d":"205 "},{"v":1,"d":"01 "},{"v":6,"d":"006 "},"茨城県","石岡市","石岡町","栄松",null,"","",{"$f":"IF(K511=\"\",\"\",COUNTIF($K$7:K511,\"ﾘｽﾄ１\"))","v":""},"","","","","","","",{"$f":"IF(S511=\"\",\"\",COUNTIF($S$7:S511,\"該当２\"))","v":""},"","",{"$f":"IF(V511=\"\",\"\",COUNTIF($V$7:V511,\"該当３\"))","v":""}]
[820501007,8,{"v":205,"d":"205 "},{"v":1,"d":"01 "},{"v":7,"d":"007 "},"茨城県","石岡市","石岡町","東の辻",null,"","",{"$f":"IF(K512=\"\",\"\",COUNTIF($K$7:K512,\"ﾘｽﾄ１\"))","v":""},"","","","","","","",{"$f":"IF(S512=\"\",\"\",COUNTIF($S$7:S512,\"該当２\"))","v":""},"","",{"$f":"IF(V512=\"\",\"\",COUNTIF($V$7:V512,\"該当３\"))","v":""}]
[820501008,8,{"v":205,"d":"205 "},{"v":1,"d":"01 "},{"v":8,"d":"008 "},"茨城県","石岡市","石岡町","田島",null,"","",{"$f":"IF(K513=\"\",\"\",COUNTIF($K$7:K513,\"ﾘｽﾄ１\"))","v":""},"","","","","","","",{"$f":"IF(S513=\"\",\"\",COUNTIF($S$7:S513,\"該当２\"))","v":""},"","",{"$f":"IF(V513=\"\",\"\",COUNTIF($V$7:V513,\"該当３\"))","v":""}]
[820501009,8,{"v":205,"d":"205 "},{"v":1,"d":"01 "},{"v":9,"d":"009 "},"茨城県","石岡市","石岡町","茨城",null,"","",{"$f":"IF(K514=\"\",\"\",COUNTIF($K$7:K514,\"ﾘｽﾄ１\"))","v":""},"","","","","","","",{"$f":"IF(S514=\"\",\"\",COUNTIF($S$7:S514,\"該当２\"))","v":""},"","",{"$f":"IF(V514=\"\",\"\",COUNTIF($V$7:V514,\"該当３\"))","v":""}]
[820501010,8,{"v":205,"d":"205 "},{"v":1,"d":"01 "},{"v":10,"d":"010 "},"茨城県","石岡市","石岡町","大谷津",null,"","",{"$f":"IF(K515=\"\",\"\",COUNTIF($K$7:K515,\"ﾘｽﾄ１\"))","v":""},"","","","","","","",{"$f":"IF(S515=\"\",\"\",COUNTIF($S$7:S515,\"該当２\"))","v":""},"","",{"$f":"IF(V515=\"\",\"\",COUNTIF($V$7:V515,\"該当３\"))","v":""}]
[820501011,8,{"v":205,"d":"205 "},{"v":1,"d":"01 "},{"v":11,"d":"011 "},"茨城県","石岡市","石岡町","兵崎",null,"","",{"$f":"IF(K516=\"\",\"\",COUNTIF($K$7:K516,\"ﾘｽﾄ１\"))","v":""},"","","","","","","",{"$f":"IF(S516=\"\",\"\",COUNTIF($S$7:S516,\"該当２\"))","v":""},"","",{"$f":"IF(V516=\"\",\"\",COUNTIF($V$7:V516,\"該当３\"))","v":""}]
[820501012,8,{"v":205,"d":"205 "},{"v":1,"d":"01 "},{"v":12,"d":"012 "},"茨城県","石岡市","石岡町","鹿の子",null,"","",{"$f":"IF(K517=\"\",\"\",COUNTIF($K$7:K517,\"ﾘｽﾄ１\"))","v":""},"","","","","","","",{"$f":"IF(S517=\"\",\"\",COUNTIF($S$7:S517,\"該当２\"))","v":""},"","",{"$f":"IF(V517=\"\",\"\",COUNTIF($V$7:V517,\"該当３\"))","v":""}]
[820501013,8,{"v":205,"d":"205 "},{"v":1,"d":"01 "},{"v":13,"d":"013 "},"茨城県","石岡市","石岡町","谷向",null,"","",{"$f":"IF(K518=\"\",\"\",COUNTIF($K$7:K518,\"ﾘｽﾄ１\"))","v":""},"","","","","","","",{"$f":"IF(S518=\"\",\"\",COUNTIF($S$7:S518,\"該当２\"))","v":""},"","",{"$f":"IF(V518=\"\",\"\",COUNTIF($V$7:V518,\"該当３\"))","v":""}]
[820501014,8,{"v":205,"d":"205 "},{"v":1,"d":"01 "},{"v":14,"d":"014 "},"茨城県","石岡市","石岡町","碁石沢",null,"","",{"$f":"IF(K519=\"\",\"\",COUNTIF($K$7:K519,\"ﾘｽﾄ１\"))","v":""},"","","","","","","",{"$f":"IF(S519=\"\",\"\",COUNTIF($S$7:S519,\"該当２\"))","v":""},"","",{"$f":"IF(V519=\"\",\"\",COUNTIF($V$7:V519,\"該当３\"))","v":""}]
[820501015,8,{"v":205,"d":"205 "},{"v":1,"d":"01 "},{"v":15,"d":"015 "},"茨城県","石岡市","石岡町","半の木",null,"","",{"$f":"IF(K520=\"\",\"\",COUNTIF($K$7:K520,\"ﾘｽﾄ１\"))","v":""},"","","","","","","",{"$f":"IF(S520=\"\",\"\",COUNTIF($S$7:S520,\"該当２\"))","v":""},"","",{"$f":"IF(V520=\"\",\"\",COUNTIF($V$7:V520,\"該当３\"))","v":""}]
[820501016,8,{"v":205,"d":"205 "},{"v":1,"d":"01 "},{"v":16,"d":"016 "},"茨城県","石岡市","石岡町","根当",null,"","",{"$f":"IF(K521=\"\",\"\",COUNTIF($K$7:K521,\"ﾘｽﾄ１\"))","v":""},"","",{"$f":"IF(O521=\"該当１\",G521,\"\")","v":""},{"$f":"IF(O521=\"該当１\",\"ﾘｽﾄ2\",\"\")","v":""},{"$f":"IF(Q521=\"ﾘｽﾄ2\",H521,\"\")","v":""},"",{"$f":"IF(S521=\"該当２\",H521,\"\")","v":""},{"$f":"IF(S521=\"\",\"\",COUNTIF($S$7:S521,\"該当２\"))","v":""},{"$f":"IF(AND($S$2=H521,E521>0,E521<998),\"該当３\",\"\")","v":""},{"$f":"IF(V521=\"該当３\",I521,\"\")","v":""},{"$f":"IF(V521=\"\",\"\",COUNTIF($V$7:V521,\"該当３\"))","v":""}]
[820501017,8,{"v":205,"d":"205 "},{"v":1,"d":"01 "},{"v":17,"d":"017 "},"茨城県","石岡市","石岡町","行里川",null,{"$f":"IF(AND($C522>0,$H522=\"\"),\"ﾘｽﾄ１\",\"\")","v":""},{"$f":"IF(K522=\"ﾘｽﾄ１\",G522,\"\")","v":""},{"$f":"IF(K522=\"\",\"\",COUNTIF($K$7:K522,\"ﾘｽﾄ１\"))","v":""},{"$f":"IF(AND(D522=0,E522>0),\"同一区\",\"\")","v":""},{"$f":"IF(AND(EXACT($K$2,G522),H522>0),\"該当１\",\"\")","v":""},"","","",{"$f":"IF(AND(Q522=\"ﾘｽﾄ2\",OR(I522=0,AND(N522=\"同一区\",E522=1))),\"該当２\",\"\")","v":""},"",{"$f":"IF(S522=\"\",\"\",COUNTIF($S$7:S522,\"該当２\"))","v":""},"","",{"$f":"IF(V522=\"\",\"\",COUNTIF($V$7:V522,\"該当３\"))","v":""}]
[820501018,8,{"v":205,"d":"205 "},{"v":1,"d":"01 "},{"v":18,"d":"018 "},"茨城県","石岡市","石岡町","村上",null,"","",{"$f":"IF(K523=\"\",\"\",COUNTIF($K$7:K523,\"ﾘｽﾄ１\"))","v":""},"","","","","","","",{"$f":"IF(S523=\"\",\"\",COUNTIF($S$7:S523,\"該当２\"))","v":""},"","",{"$f":"IF(V523=\"\",\"\",COUNTIF($V$7:V523,\"該当３\"))","v":""}]
[820501019,8,{"v":205,"d":"205 "},{"v":1,"d":"01 "},{"v":19,"d":"019 "},"茨城県","石岡市","石岡町","宮部",null,"","",{"$f":"IF(K524=\"\",\"\",COUNTIF($K$7:K524,\"ﾘｽﾄ１\"))","v":""},"","","","","","","",{"$f":"IF(S524=\"\",\"\",COUNTIF($S$7:S524,\"該当２\"))","v":""},"","",{"$f":"IF(V524=\"\",\"\",COUNTIF($V$7:V524,\"該当３\"))","v":""}]
[820501020,8,{"v":205,"d":"205 "},{"v":1,"d":"01 "},{"v":20,"d":"020 "},"茨城県","石岡市","石岡町","宮下",null,"","",{"$f":"IF(K525=\"\",\"\",COUNTIF($K$7:K525,\"ﾘｽﾄ１\"))","v":""},"","","","","","","",{"$f":"IF(S525=\"\",\"\",COUNTIF($S$7:S525,\"該当２\"))","v":""},"","",{"$f":"IF(V525=\"\",\"\",COUNTIF($V$7:V525,\"該当３\"))","v":""}]
[820501021,8,{"v":205,"d":"205 "},{"v":1,"d":"01 "},{"v":21,"d":"021 "},"茨城県","石岡市","石岡町","貝地",null,"","",{"$f":"IF(K526=\"\",\"\",COUNTIF($K$7:K526,\"ﾘｽﾄ１\"))","v":""},"","","","","","","",{"$f":"IF(S526=\"\",\"\",COUNTIF($S$7:S526,\"該当２\"))","v":""},"","",{"$f":"IF(V526=\"\",\"\",COUNTIF($V$7:V526,\"該当３\"))","v":""}]
[820501022,8,{"v":205,"d":"205 "},{"v":1,"d":"01 "},{"v":22,"d":"022 "},"茨城県","石岡市","石岡町","富田",null,"","",{"$f":"IF(K527=\"\",\"\",COUNTIF($K$7:K527,\"ﾘｽﾄ１\"))","v":""},"","","","","","","",{"$f":"IF(S527=\"\",\"\",COUNTIF($S$7:S527,\"該当２\"))","v":""},"","",{"$f":"IF(V527=\"\",\"\",COUNTIF($V$7:V527,\"該当３\"))","v":""}]
[820501023,8,{"v":205,"d":"205 "},{"v":1,"d":"01 "},{"v":23,"d":"023 "},"茨城県","石岡市","石岡町","守木",null,"","",{"$f":"IF(K528=\"\",\"\",COUNTIF($K$7:K528,\"ﾘｽﾄ１\"))","v":""},"","","","","","","",{"$f":"IF(S528=\"\",\"\",COUNTIF($S$7:S528,\"該当２\"))","v":""},"","",{"$f":"IF(V528=\"\",\"\",COUNTIF($V$7:V528,\"該当３\"))","v":""}]
[820501024,8,{"v":205,"d":"205 "},{"v":1,"d":"01 "},{"v":24,"d":"024 "},"茨城県","石岡市","石岡町","幸町",null,"","",{"$f":"IF(K529=\"\",\"\",COUNTIF($K$7:K529,\"ﾘｽﾄ１\"))","v":""},"","","","","","","",{"$f":"IF(S529=\"\",\"\",COUNTIF($S$7:S529,\"該当２\"))","v":""},"","",{"$f":"IF(V529=\"\",\"\",COUNTIF($V$7:V529,\"該当３\"))","v":""}]
[820501025,8,{"v":205,"d":"205 "},{"v":1,"d":"01 "},{"v":25,"d":"025 "},"茨城県","石岡市","石岡町","元真地",null,"","",{"$f":"IF(K530=\"\",\"\",COUNTIF($K$7:K530,\"ﾘｽﾄ１\"))","v":""},"","","","","","","",{"$f":"IF(S530=\"\",\"\",COUNTIF($S$7:S530,\"該当２\"))","v":""},"","",{"$f":"IF(V530=\"\",\"\",COUNTIF($V$7:V530,\"該当３\"))","v":""}]
[820501026,8,{"v":205,"d":"205 "},{"v":1,"d":"01 "},{"v":26,"d":"026 "},"茨城県","石岡市","石岡町","泉町",null,"","",{"$f":"IF(K531=\"\",\"\",COUNTIF($K$7:K531,\"ﾘｽﾄ１\"))","v":""},"","","","","","","",{"$f":"IF(S531=\"\",\"\",COUNTIF($S$7:S531,\"該当２\"))","v":""},"","",{"$f":"IF(V531=\"\",\"\",COUNTIF($V$7:V531,\"該当３\"))","v":""}]
[820501027,8,{"v":205,"d":"205 "},{"v":1,"d":"01 "},{"v":27,"d":"027 "},"茨城県","石岡市","石岡町","国分",null,"","",{"$f":"IF(K532=\"\",\"\",COUNTIF($K$7:K532,\"ﾘｽﾄ１\"))","v":""},"","","","","","","",{"$f":"IF(S532=\"\",\"\",COUNTIF($S$7:S532,\"該当２\"))","v":""},"","",{"$f":"IF(V532=\"\",\"\",COUNTIF($V$7:V532,\"該当３\"))","v":""}]
[820501028,8,{"v":205,"d":"205 "},{"v":1,"d":"01 "},{"v":28,"d":"028 "},"茨城県","石岡市","石岡町","金丸",null,"","",{"$f":"IF(K533=\"\",\"\",COUNTIF($K$7:K533,\"ﾘｽﾄ１\"))","v":""},"","","","","","","",{"$f":"IF(S533=\"\",\"\",COUNTIF($S$7:S533,\"該当２\"))","v":""},"","",{"$f":"IF(V533=\"\",\"\",COUNTIF($V$7:V533,\"該当３\"))","v":""}]
[820501029,8,{"v":205,"d":"205 "},{"v":1,"d":"01 "},{"v":29,"d":"029 "},"茨城県","石岡市","石岡町","香丸",null,"","",{"$f":"IF(K534=\"\",\"\",COUNTIF($K$7:K534,\"ﾘｽﾄ１\"))","v":""},"","","","","","","",{"$f":"IF(S534=\"\",\"\",COUNTIF($S$7:S534,\"該当２\"))","v":""},"","",{"$f":"IF(V534=\"\",\"\",COUNTIF($V$7:V534,\"該当３\"))","v":""}]
[820501030,8,{"v":205,"d":"205 "},{"v":1,"d":"01 "},{"v":30,"d":"030 "},"茨城県","石岡市","石岡町","若松",null,"","",{"$f":"IF(K535=\"\",\"\",COUNTIF($K$7:K535,\"ﾘｽﾄ１\"))","v":""},"","","","","","","",{"$f":"IF(S535=\"\",\"\",COUNTIF($S$7:S535,\"該当２\"))","v":""},"","",{"$f":"IF(V535=\"\",\"\",COUNTIF($V$7:V535,\"該当３\"))","v":""}]
[820502000,8,{"v":205,"d":"205 "},{"v":2,"d":"02 "},{"v":0,"d":"000 "},"茨城県","石岡市","高浜町",null,null,"","",{"$f":"IF(K536=\"\",\"\",COUNTIF($K$7:K536,\"ﾘｽﾄ１\"))","v":""},"","","","","","","",{"$f":"IF(S536=\"\",\"\",COUNTIF($S$7:S536,\"該当２\"))","v":""},"","",{"$f":"IF(V536=\"\",\"\",COUNTIF($V$7:V536,\"該当３\"))","v":""}]
[820502001,8,{"v":205,"d":"205 "},{"v":2,"d":"02 "},{"v":1,"d":"001 "},"茨城県","石岡市","高浜町","中津川",null,"","",{"$f":"IF(K537=\"\",\"\",COUNTIF($K$7:K537,\"ﾘｽﾄ１\"))","v":""},"","","","","","","",{"$f":"IF(S537=\"\",\"\",COUNTIF($S$7:S537,\"該当２\"))","v":""},"","",{"$f":"IF(V537=\"\",\"\",COUNTIF($V$7:V537,\"該当３\"))","v":""}]
[820502002,8,{"v":205,"d":"205 "},{"v":2,"d":"02 "},{"v":2,"d":"002 "},"茨城県","石岡市","高浜町","北根本",null,"","",{"$f":"IF(K538=\"\",\"\",COUNTIF($K$7:K538,\"ﾘｽﾄ１\"))","v":""},"","","","","","","",{"$f":"IF(S538=\"\",\"\",COUNTIF($S$7:S538,\"該当２\"))","v":""},"","",{"$f":"IF(V538=\"\",\"\",COUNTIF($V$7:V538,\"該当３\"))","v":""}]
[820502003,8,{"v":205,"d":"205 "},{"v":2,"d":"02 "},{"v":3,"d":"003 "},"茨城県","石岡市","高浜町","東田中",null,"","",{"$f":"IF(K539=\"\",\"\",COUNTIF($K$7:K539,\"ﾘｽﾄ１\"))","v":""},"","","","","","","",{"$f":"IF(S539=\"\",\"\",COUNTIF($S$7:S539,\"該当２\"))","v":""},"","",{"$f":"IF(V539=\"\",\"\",COUNTIF($V$7:V539,\"該当３\"))","v":""}]
[820502004,8,{"v":205,"d":"205 "},{"v":2,"d":"02 "},{"v":4,"d":"004 "},"茨城県","石岡市","高浜町","前原",null,"","",{"$f":"IF(K540=\"\",\"\",COUNTIF($K$7:K540,\"ﾘｽﾄ１\"))","v":""},"","","","","","","",{"$f":"IF(S540=\"\",\"\",COUNTIF($S$7:S540,\"該当２\"))","v":""},"","",{"$f":"IF(V540=\"\",\"\",COUNTIF($V$7:V540,\"該当３\"))","v":""}]
[820502005,8,{"v":205,"d":"205 "},{"v":2,"d":"02 "},{"v":5,"d":"005 "},"茨城県","石岡市","高浜町","東大橋",null,"","",{"$f":"IF(K541=\"\",\"\",COUNTIF($K$7:K541,\"ﾘｽﾄ１\"))","v":""},"","","","","","","",{"$f":"IF(S541=\"\",\"\",COUNTIF($S$7:S541,\"該当２\"))","v":""},"","",{"$f":"IF(V541=\"\",\"\",COUNTIF($V$7:V541,\"該当３\"))","v":""}]
[820502006,8,{"v":205,"d":"205 "},{"v":2,"d":"02 "},{"v":6,"d":"006 "},"茨城県","石岡市","高浜町","小井戸",null,"","",{"$f":"IF(K542=\"\",\"\",COUNTIF($K$7:K542,\"ﾘｽﾄ１\"))","v":""},"","","","","","","",{"$f":"IF(S542=\"\",\"\",COUNTIF($S$7:S542,\"該当２\"))","v":""},"","",{"$f":"IF(V542=\"\",\"\",COUNTIF($V$7:V542,\"該当３\"))","v":""}]
[820502007,8,{"v":205,"d":"205 "},{"v":2,"d":"02 "},{"v":7,"d":"007 "},"茨城県","石岡市","高浜町","高浜",null,"","",{"$f":"IF(K543=\"\",\"\",COUNTIF($K$7:K543,\"ﾘｽﾄ１\"))","v":""},"","","","","","","",{"$f":"IF(S543=\"\",\"\",COUNTIF($S$7:S543,\"該当２\"))","v":""},"","",{"$f":"IF(V543=\"\",\"\",COUNTIF($V$7:V543,\"該当３\"))","v":""}]
[820503000,8,{"v":205,"d":"205 "},{"v":3,"d":"03 "},{"v":0,"d":"000 "},"茨城県","石岡市","三村",null,null,"","",{"$f":"IF(K544=\"\",\"\",COUNTIF($K$7:K544,\"ﾘｽﾄ１\"))","v":""},"","","","","","","",{"$f":"IF(S544=\"\",\"\",COUNTIF($S$7:S544,\"該当２\"))","v":""},"","",{"$f":"IF(V544=\"\",\"\",COUNTIF($V$7:V544,\"該当３\"))","v":""}]
[820503001,8,{"v":205,"d":"205 "},{"v":3,"d":"03 "},{"v":1,"d":"001 "},"茨城県","石岡市","三村","長見寿",null,"","",{"$f":"IF(K545=\"\",\"\",COUNTIF($K$7:K545,\"ﾘｽﾄ１\"))","v":""},"","","","","","","",{"$f":"IF(S545=\"\",\"\",COUNTIF($S$7:S545,\"該当２\"))","v":""},"","",{"$f":"IF(V545=\"\",\"\",COUNTIF($V$7:V545,\"該当３\"))","v":""}]
[820503002,8,{"v":205,"d":"205 "},{"v":3,"d":"03 "},{"v":2,"d":"002 "},"茨城県","石岡市","三村","今泉",null,"","",{"$f":"IF(K546=\"\",\"\",COUNTIF($K$7:K546,\"ﾘｽﾄ１\"))","v":""},"","","","","","","",{"$f":"IF(S546=\"\",\"\",COUNTIF($S$7:S546,\"該当２\"))","v":""},"","",{"$f":"IF(V546=\"\",\"\",COUNTIF($V$7:V546,\"該当３\"))","v":""}]
[820503003,8,{"v":205,"d":"205 "},{"v":3,"d":"03 "},{"v":3,"d":"003 "},"茨城県","石岡市","三村","城構内",null,"","",{"$f":"IF(K547=\"\",\"\",COUNTIF($K$7:K547,\"ﾘｽﾄ１\"))","v":""},"","","","","","","",{"$f":"IF(S547=\"\",\"\",COUNTIF($S$7:S547,\"該当２\"))","v":""},"","",{"$f":"IF(V547=\"\",\"\",COUNTIF($V$7:V547,\"該当３\"))","v":""}]
[820503004,8,{"v":205,"d":"205 "},{"v":3,"d":"03 "},{"v":4,"d":"004 "},"茨城県","石岡市","三村","諸土久保",null,"","",{"$f":"IF(K548=\"\",\"\",COUNTIF($K$7:K548,\"ﾘｽﾄ１\"))","v":""},"","","","","","","",{"$f":"IF(S548=\"\",\"\",COUNTIF($S$7:S548,\"該当２\"))","v":""},"","",{"$f":"IF(V548=\"\",\"\",COUNTIF($V$7:V548,\"該当３\"))","v":""}]
[820503005,8,{"v":205,"d":"205 "},{"v":3,"d":"03 "},{"v":5,"d":"005 "},"茨城県","石岡市","三村","羽成子",null,"","",{"$f":"IF(K549=\"\",\"\",COUNTIF($K$7:K549,\"ﾘｽﾄ１\"))","v":""},"","","","","","","",{"$f":"IF(S549=\"\",\"\",COUNTIF($S$7:S549,\"該当２\"))","v":""},"","",{"$f":"IF(V549=\"\",\"\",COUNTIF($V$7:V549,\"該当３\"))","v":""}]
[820503006,8,{"v":205,"d":"205 "},{"v":3,"d":"03 "},{"v":6,"d":"006 "},"茨城県","石岡市","三村","坂井戸",null,"","",{"$f":"IF(K550=\"\",\"\",COUNTIF($K$7:K550,\"ﾘｽﾄ１\"))","v":""},"","","","","","","",{"$f":"IF(S550=\"\",\"\",COUNTIF($S$7:S550,\"該当２\"))","v":""},"","",{"$f":"IF(V550=\"\",\"\",COUNTIF($V$7:V550,\"該当３\"))","v":""}]
[820503007,8,{"v":205,"d":"205 "},{"v":3,"d":"03 "},{"v":7,"d":"007 "},"茨城県","石岡市","三村","御前山",null,"","",{"$f":"IF(K551=\"\",\"\",COUNTIF($K$7:K551,\"ﾘｽﾄ１\"))","v":""},"","","","","","","",{"$f":"IF(S551=\"\",\"\",COUNTIF($S$7:S551,\"該当２\"))","v":""},"","",{"$f":"IF(V551=\"\",\"\",COUNTIF($V$7:V551,\"該当３\"))","v":""}]
[820503008,8,{"v":205,"d":"205 "},{"v":3,"d":"03 "},{"v":8,"d":"008 "},"茨城県","石岡市","三村","正月平",null,"","",{"$f":"IF(K552=\"\",\"\",COUNTIF($K$7:K552,\"ﾘｽﾄ１\"))","v":""},"","","","","","","",{"$f":"IF(S552=\"\",\"\",COUNTIF($S$7:S552,\"該当２\"))","v":""},"","",{"$f":"IF(V552=\"\",\"\",COUNTIF($V$7:V552,\"該当３\"))","v":""}]
[820503009,8,{"v":205,"d":"205 "},{"v":3,"d":"03 "},{"v":9,"d":"009 "},"茨城県","石岡市","三村","大塚",null,"","",{"$f":"IF(K553=\"\",\"\",COUNTIF($K$7:K553,\"ﾘｽﾄ１\"))","v":""},"","","","","","","",{"$f":"IF(S553=\"\",\"\",COUNTIF($S$7:S553,\"該当２\"))","v":""},"","",{"$f":"IF(V553=\"\",\"\",COUNTIF($V$7:V553,\"該当３\"))","v":""}]
[820503010,8,{"v":205,"d":"205 "},{"v":3,"d":"03 "},{"v":10,"d":"010 "},"茨城県","石岡市","三村","八幡",null,"","",{"$f":"IF(K554=\"\",\"\",COUNTIF($K$7:K554,\"ﾘｽﾄ１\"))","v":""},"","","","","","","",{"$f":"IF(S554=\"\",\"\",COUNTIF($S$7:S554,\"該当２\"))","v":""},"","",{"$f":"IF(V554=\"\",\"\",COUNTIF($V$7:V554,\"該当３\"))","v":""}]
[820503011,8,{"v":205,"d":"205 "},{"v":3,"d":"03 "},{"v":11,"d":"011 "},"茨城県","石岡市","三村","大原",null,"","",{"$f":"IF(K555=\"\",\"\",COUNTIF($K$7:K555,\"ﾘｽﾄ１\"))","v":""},"","","","","","","",{"$f":"IF(S555=\"\",\"\",COUNTIF($S$7:S555,\"該当２\"))","v":""},"","",{"$f":"IF(V555=\"\",\"\",COUNTIF($V$7:V555,\"該当３\"))","v":""}]
[820503012,8,{"v":205,"d":"205 "},{"v":3,"d":"03 "},{"v":12,"d":"012 "},"茨城県","石岡市","三村","水内",null,"","",{"$f":"IF(K556=\"\",\"\",COUNTIF($K$7:K556,\"ﾘｽﾄ１\"))","v":""},"","","","","","","",{"$f":"IF(S556=\"\",\"\",COUNTIF($S$7:S556,\"該当２\"))","v":""},"","",{"$f":"IF(V556=\"\",\"\",COUNTIF($V$7:V556,\"該当３\"))","v":""}]
[820503013,8,{"v":205,"d":"205 "},{"v":3,"d":"03 "},{"v":13,"d":"013 "},"茨城県","石岡市","三村","後久保",null,"","",{"$f":"IF(K557=\"\",\"\",COUNTIF($K$7:K557,\"ﾘｽﾄ１\"))","v":""},"","","","","","","",{"$f":"IF(S557=\"\",\"\",COUNTIF($S$7:S557,\"該当２\"))","v":""},"","",{"$f":"IF(V557=\"\",\"\",COUNTIF($V$7:V557,\"該当３\"))","v":""}]
[820503014,8,{"v":205,"d":"205 "},{"v":3,"d":"03 "},{"v":14,"d":"014 "},"茨城県","石岡市","三村","古道",null,"","",{"$f":"IF(K558=\"\",\"\",COUNTIF($K$7:K558,\"ﾘｽﾄ１\"))","v":""},"","","","","","","",{"$f":"IF(S558=\"\",\"\",COUNTIF($S$7:S558,\"該当２\"))","v":""},"","",{"$f":"IF(V558=\"\",\"\",COUNTIF($V$7:V558,\"該当３\"))","v":""}]
[820503015,8,{"v":205,"d":"205 "},{"v":3,"d":"03 "},{"v":15,"d":"015 "},"茨城県","石岡市","三村","吹上",null,"","",{"$f":"IF(K559=\"\",\"\",COUNTIF($K$7:K559,\"ﾘｽﾄ１\"))","v":""},"","","","","","","",{"$f":"IF(S559=\"\",\"\",COUNTIF($S$7:S559,\"該当２\"))","v":""},"","",{"$f":"IF(V559=\"\",\"\",COUNTIF($V$7:V559,\"該当３\"))","v":""}]
[820504000,8,{"v":205,"d":"205 "},{"v":4,"d":"04 "},{"v":0,"d":"000 "},"茨城県","石岡市","関川村",null,null,"","",{"$f":"IF(K560=\"\",\"\",COUNTIF($K$7:K560,\"ﾘｽﾄ１\"))","v":""},"","","","","","","",{"$f":"IF(S560=\"\",\"\",COUNTIF($S$7:S560,\"該当２\"))","v":""},"","",{"$f":"IF(V560=\"\",\"\",COUNTIF($V$7:V560,\"該当３\"))","v":""}]
[820504001,8,{"v":205,"d":"205 "},{"v":4,"d":"04 "},{"v":1,"d":"001 "},"茨城県","石岡市","関川村","坂井戸",null,"","",{"$f":"IF(K561=\"\",\"\",COUNTIF($K$7:K561,\"ﾘｽﾄ１\"))","v":""},"","","","","","","",{"$f":"IF(S561=\"\",\"\",COUNTIF($S$7:S561,\"該当２\"))","v":""},"","",{"$f":"IF(V561=\"\",\"\",COUNTIF($V$7:V561,\"該当３\"))","v":""}]
[820504002,8,{"v":205,"d":"205 "},{"v":4,"d":"04 "},{"v":2,"d":"002 "},"茨城県","石岡市","関川村","台石川",null,"","",{"$f":"IF(K562=\"\",\"\",COUNTIF($K$7:K562,\"ﾘｽﾄ１\"))","v":""},"","","","","","","",{"$f":"IF(S562=\"\",\"\",COUNTIF($S$7:S562,\"該当２\"))","v":""},"","",{"$f":"IF(V562=\"\",\"\",COUNTIF($V$7:V562,\"該当３\"))","v":""}]
[820504003,8,{"v":205,"d":"205 "},{"v":4,"d":"04 "},{"v":3,"d":"003 "},"茨城県","石岡市","関川村","仲丸",null,"","",{"$f":"IF(K563=\"\",\"\",COUNTIF($K$7:K563,\"ﾘｽﾄ１\"))","v":""},"","","","","","","",{"$f":"IF(S563=\"\",\"\",COUNTIF($S$7:S563,\"該当２\"))","v":""},"","",{"$f":"IF(V563=\"\",\"\",COUNTIF($V$7:V563,\"該当３\"))","v":""}]
[820504004,8,{"v":205,"d":"205 "},{"v":4,"d":"04 "},{"v":4,"d":"004 "},"茨城県","石岡市","関川村","代田",null,"","",{"$f":"IF(K564=\"\",\"\",COUNTIF($K$7:K564,\"ﾘｽﾄ１\"))","v":""},"","","","","","","",{"$f":"IF(S564=\"\",\"\",COUNTIF($S$7:S564,\"該当２\"))","v":""},"","",{"$f":"IF(V564=\"\",\"\",COUNTIF($V$7:V564,\"該当３\"))","v":""}]
[820504005,8,{"v":205,"d":"205 "},{"v":4,"d":"04 "},{"v":5,"d":"005 "},"茨城県","石岡市","関川村","井関",null,"","",{"$f":"IF(K565=\"\",\"\",COUNTIF($K$7:K565,\"ﾘｽﾄ１\"))","v":""},"","","","","","","",{"$f":"IF(S565=\"\",\"\",COUNTIF($S$7:S565,\"該当２\"))","v":""},"","",{"$f":"IF(V565=\"\",\"\",COUNTIF($V$7:V565,\"該当３\"))","v":""}]
[820504006,8,{"v":205,"d":"205 "},{"v":4,"d":"04 "},{"v":6,"d":"006 "},"茨城県","石岡市","関川村","仲郷",null,"","",{"$f":"IF(K566=\"\",\"\",COUNTIF($K$7:K566,\"ﾘｽﾄ１\"))","v":""},"","","","","","","",{"$f":"IF(S566=\"\",\"\",COUNTIF($S$7:S566,\"該当２\"))","v":""},"","",{"$f":"IF(V566=\"\",\"\",COUNTIF($V$7:V566,\"該当３\"))","v":""}]
[820504007,8,{"v":205,"d":"205 "},{"v":4,"d":"04 "},{"v":7,"d":"007 "},"茨城県","石岡市","関川村","八木",null,"","",{"$f":"IF(K567=\"\",\"\",COUNTIF($K$7:K567,\"ﾘｽﾄ１\"))","v":""},"","","","","","","",{"$f":"IF(S567=\"\",\"\",COUNTIF($S$7:S567,\"該当２\"))","v":""},"","",{"$f":"IF(V567=\"\",\"\",COUNTIF($V$7:V567,\"該当３\"))","v":""}]
[820505000,8,{"v":205,"d":"205 "},{"v":5,"d":"05 "},{"v":0,"d":"000 "},"茨城県","石岡市","柿岡町",null,null,"","",{"$f":"IF(K568=\"\",\"\",COUNTIF($K$7:K568,\"ﾘｽﾄ１\"))","v":""},"","","","","","","",{"$f":"IF(S568=\"\",\"\",COUNTIF($S$7:S568,\"該当２\"))","v":""},"","",{"$f":"IF(V568=\"\",\"\",COUNTIF($V$7:V568,\"該当３\"))","v":""}]
[820505001,8,{"v":205,"d":"205 "},{"v":5,"d":"05 "},{"v":1,"d":"001 "},"茨城県","石岡市","柿岡町","八重",null,"","",{"$f":"IF(K569=\"\",\"\",COUNTIF($K$7:K569,\"ﾘｽﾄ１\"))","v":""},"","","","","","","",{"$f":"IF(S569=\"\",\"\",COUNTIF($S$7:S569,\"該当２\"))","v":""},"","",{"$f":"IF(V569=\"\",\"\",COUNTIF($V$7:V569,\"該当３\"))","v":""}]
[820505002,8,{"v":205,"d":"205 "},{"v":5,"d":"05 "},{"v":2,"d":"002 "},"茨城県","石岡市","柿岡町","長堀",null,"","",{"$f":"IF(K570=\"\",\"\",COUNTIF($K$7:K570,\"ﾘｽﾄ１\"))","v":""},"","","","","","","",{"$f":"IF(S570=\"\",\"\",COUNTIF($S$7:S570,\"該当２\"))","v":""},"","",{"$f":"IF(V570=\"\",\"\",COUNTIF($V$7:V570,\"該当３\"))","v":""}]
[820505003,8,{"v":205,"d":"205 "},{"v":5,"d":"05 "},{"v":3,"d":"003 "},"茨城県","石岡市","柿岡町","高友",null,"","",{"$f":"IF(K571=\"\",\"\",COUNTIF($K$7:K571,\"ﾘｽﾄ１\"))","v":""},"","","","","","","",{"$f":"IF(S571=\"\",\"\",COUNTIF($S$7:S571,\"該当２\"))","v":""},"","",{"$f":"IF(V571=\"\",\"\",COUNTIF($V$7:V571,\"該当３\"))","v":""}]
[820505004,8,{"v":205,"d":"205 "},{"v":5,"d":"05 "},{"v":4,"d":"004 "},"茨城県","石岡市","柿岡町","北町",null,"","",{"$f":"IF(K572=\"\",\"\",COUNTIF($K$7:K572,\"ﾘｽﾄ１\"))","v":""},"","","","","","","",{"$f":"IF(S572=\"\",\"\",COUNTIF($S$7:S572,\"該当２\"))","v":""},"","",{"$f":"IF(V572=\"\",\"\",COUNTIF($V$7:V572,\"該当３\"))","v":""}]
[820505005,8,{"v":205,"d":"205 "},{"v":5,"d":"05 "},{"v":5,"d":"005 "},"茨城県","石岡市","柿岡町","内宿",null,"","",{"$f":"IF(K573=\"\",\"\",COUNTIF($K$7:K573,\"ﾘｽﾄ１\"))","v":""},"","","","","","","",{"$f":"IF(S573=\"\",\"\",COUNTIF($S$7:S573,\"該当２\"))","v":""},"","",{"$f":"IF(V573=\"\",\"\",COUNTIF($V$7:V573,\"該当３\"))","v":""}]
[820505006,8,{"v":205,"d":"205 "},{"v":5,"d":"05 "},{"v":6,"d":"006 "},"茨城県","石岡市","柿岡町","新宿",null,"","",{"$f":"IF(K574=\"\",\"\",COUNTIF($K$7:K574,\"ﾘｽﾄ１\"))","v":""},"","","","","","","",{"$f":"IF(S574=\"\",\"\",COUNTIF($S$7:S574,\"該当２\"))","v":""},"","",{"$f":"IF(V574=\"\",\"\",COUNTIF($V$7:V574,\"該当３\"))","v":""}]
[820505007,8,{"v":205,"d":"205 "},{"v":5,"d":"05 "},{"v":7,"d":"007 "},"茨城県","石岡市","柿岡町","仲町",null,"","",{"$f":"IF(K575=\"\",\"\",COUNTIF($K$7:K575,\"ﾘｽﾄ１\"))","v":""},"","","","","","","",{"$f":"IF(S575=\"\",\"\",COUNTIF($S$7:S575,\"該当２\"))","v":""},"","",{"$f":"IF(V575=\"\",\"\",COUNTIF($V$7:V575,\"該当３\"))","v":""}]
[820505008,8,{"v":205,"d":"205 "},{"v":5,"d":"05 "},{"v":8,"d":"008 "},"茨城県","石岡市","柿岡町","上宿",null,"","",{"$f":"IF(K576=\"\",\"\",COUNTIF($K$7:K576,\"ﾘｽﾄ１\"))","v":""},"","","","","","","",{"$f":"IF(S576=\"\",\"\",COUNTIF($S$7:S576,\"該当２\"))","v":""},"","",{"$f":"IF(V576=\"\",\"\",COUNTIF($V$7:V576,\"該当３\"))","v":""}]
[820505009,8,{"v":205,"d":"205 "},{"v":5,"d":"05 "},{"v":9,"d":"009 "},"茨城県","石岡市","柿岡町","西町",null,"","",{"$f":"IF(K577=\"\",\"\",COUNTIF($K$7:K577,\"ﾘｽﾄ１\"))","v":""},"","","","","","","",{"$f":"IF(S577=\"\",\"\",COUNTIF($S$7:S577,\"該当２\"))","v":""},"","",{"$f":"IF(V577=\"\",\"\",COUNTIF($V$7:V577,\"該当３\"))","v":""}]
[820505010,8,{"v":205,"d":"205 "},{"v":5,"d":"05 "},{"v":10,"d":"010 "},"茨城県","石岡市","柿岡町","荒宿",null,"","",{"$f":"IF(K578=\"\",\"\",COUNTIF($K$7:K578,\"ﾘｽﾄ１\"))","v":""},"","","","","","","",{"$f":"IF(S578=\"\",\"\",COUNTIF($S$7:S578,\"該当２\"))","v":""},"","",{"$f":"IF(V578=\"\",\"\",COUNTIF($V$7:V578,\"該当３\"))","v":""}]
[820505011,8,{"v":205,"d":"205 "},{"v":5,"d":"05 "},{"v":11,"d":"011 "},"茨城県","石岡市","柿岡町","新地",null,"","",{"$f":"IF(K579=\"\",\"\",COUNTIF($K$7:K579,\"ﾘｽﾄ１\"))","v":""},"","","","","","","",{"$f":"IF(S579=\"\",\"\",COUNTIF($S$7:S579,\"該当２\"))","v":""},"","",{"$f":"IF(V579=\"\",\"\",COUNTIF($V$7:V579,\"該当３\"))","v":""}]
[820505012,8,{"v":205,"d":"205 "},{"v":5,"d":"05 "},{"v":12,"d":"012 "},"茨城県","石岡市","柿岡町","舘",null,"","",{"$f":"IF(K580=\"\",\"\",COUNTIF($K$7:K580,\"ﾘｽﾄ１\"))","v":""},"","","","","","","",{"$f":"IF(S580=\"\",\"\",COUNTIF($S$7:S580,\"該当２\"))","v":""},"","",{"$f":"IF(V580=\"\",\"\",COUNTIF($V$7:V580,\"該当３\"))","v":""}]
[820505013,8,{"v":205,"d":"205 "},{"v":5,"d":"05 "},{"v":13,"d":"013 "},"茨城県","石岡市","柿岡町","下宿",null,"","",{"$f":"IF(K581=\"\",\"\",COUNTIF($K$7:K581,\"ﾘｽﾄ１\"))","v":""},"","","","","","","",{"$f":"IF(S581=\"\",\"\",COUNTIF($S$7:S581,\"該当２\"))","v":""},"","",{"$f":"IF(V581=\"\",\"\",COUNTIF($V$7:V581,\"該当３\"))","v":""}]
[820505014,8,{"v":205,"d":"205 "},{"v":5,"d":"05 "},{"v":14,"d":"014 "},"茨城県","石岡市","柿岡町","金指",null,"","",{"$f":"IF(K582=\"\",\"\",COUNTIF($K$7:K582,\"ﾘｽﾄ１\"))","v":""},"","","","","","","",{"$f":"IF(S582=\"\",\"\",COUNTIF($S$7:S582,\"該当２\"))","v":""},"","",{"$f":"IF(V582=\"\",\"\",COUNTIF($V$7:V582,\"該当３\"))","v":""}]
[820505015,8,{"v":205,"d":"205 "},{"v":5,"d":"05 "},{"v":15,"d":"015 "},"茨城県","石岡市","柿岡町","片野",null,"","",{"$f":"IF(K583=\"\",\"\",COUNTIF($K$7:K583,\"ﾘｽﾄ１\"))","v":""},"","","","","","","",{"$f":"IF(S583=\"\",\"\",COUNTIF($S$7:S583,\"該当２\"))","v":""},"","",{"$f":"IF(V583=\"\",\"\",COUNTIF($V$7:V583,\"該当３\"))","v":""}]
[820506000,8,{"v":205,"d":"205 "},{"v":6,"d":"06 "},{"v":0,"d":"000 "},"茨城県","石岡市","小幡村",null,null,"","",{"$f":"IF(K584=\"\",\"\",COUNTIF($K$7:K584,\"ﾘｽﾄ１\"))","v":""},"","","","","","","",{"$f":"IF(S584=\"\",\"\",COUNTIF($S$7:S584,\"該当２\"))","v":""},"","",{"$f":"IF(V584=\"\",\"\",COUNTIF($V$7:V584,\"該当３\"))","v":""}]
[820506001,8,{"v":205,"d":"205 "},{"v":6,"d":"06 "},{"v":1,"d":"001 "},"茨城県","石岡市","小幡村","十三塚",null,"","",{"$f":"IF(K585=\"\",\"\",COUNTIF($K$7:K585,\"ﾘｽﾄ１\"))","v":""},"","",{"$f":"IF(O585=\"該当１\",G585,\"\")","v":""},{"$f":"IF(O585=\"該当１\",\"ﾘｽﾄ2\",\"\")","v":""},{"$f":"IF(Q585=\"ﾘｽﾄ2\",H585,\"\")","v":""},"",{"$f":"IF(S585=\"該当２\",H585,\"\")","v":""},{"$f":"IF(S585=\"\",\"\",COUNTIF($S$7:S585,\"該当２\"))","v":""},{"$f":"IF(AND($S$2=H585,E585>0,E585<998),\"該当３\",\"\")","v":""},{"$f":"IF(V585=\"該当３\",I585,\"\")","v":""},{"$f":"IF(V585=\"\",\"\",COUNTIF($V$7:V585,\"該当３\"))","v":""}]
[820506002,8,{"v":205,"d":"205 "},{"v":6,"d":"06 "},{"v":2,"d":"002 "},"茨城県","石岡市","小幡村","湯袋",null,{"$f":"IF(AND($C586>0,$H586=\"\"),\"ﾘｽﾄ１\",\"\")","v":""},{"$f":"IF(K586=\"ﾘｽﾄ１\",G586,\"\")","v":""},{"$f":"IF(K586=\"\",\"\",COUNTIF($K$7:K586,\"ﾘｽﾄ１\"))","v":""},{"$f":"IF(AND(D586=0,E586>0),\"同一区\",\"\")","v":""},{"$f":"IF(AND(EXACT($K$2,G586),H586>0),\"該当１\",\"\")","v":""},"","","",{"$f":"IF(AND(Q586=\"ﾘｽﾄ2\",OR(I586=0,AND(N586=\"同一区\",E586=1))),\"該当２\",\"\")","v":""},"",{"$f":"IF(S586=\"\",\"\",COUNTIF($S$7:S586,\"該当２\"))","v":""},"","",{"$f":"IF(V586=\"\",\"\",COUNTIF($V$7:V586,\"該当３\"))","v":""}]
[820506003,8,{"v":205,"d":"205 "},{"v":6,"d":"06 "},{"v":3,"d":"003 "},"茨城県","石岡市","小幡村","一之沢",null,"","",{"$f":"IF(K587=\"\",\"\",COUNTIF($K$7:K587,\"ﾘｽﾄ１\"))","v":""},"","","","","","","",{"$f":"IF(S587=\"\",\"\",COUNTIF($S$7:S587,\"該当２\"))","v":""},"","",{"$f":"IF(V587=\"\",\"\",COUNTIF($V$7:V587,\"該当３\"))","v":""}]
[820506004,8,{"v":205,"d":"205 "},{"v":6,"d":"06 "},{"v":4,"d":"004 "},"茨城県","石岡市","小幡村","細内",null,"","",{"$f":"IF(K588=\"\",\"\",COUNTIF($K$7:K588,\"ﾘｽﾄ１\"))","v":""},"","","","","","","",{"$f":"IF(S588=\"\",\"\",COUNTIF($S$7:S588,\"該当２\"))","v":""},"","",{"$f":"IF(V588=\"\",\"\",COUNTIF($V$7:V588,\"該当３\"))","v":""}]
[820506005,8,{"v":205,"d":"205 "},{"v":6,"d":"06 "},{"v":5,"d":"005 "},"茨城県","石岡市","小幡村","香取",null,"","",{"$f":"IF(K589=\"\",\"\",COUNTIF($K$7:K589,\"ﾘｽﾄ１\"))","v":""},"","","","","","","",{"$f":"IF(S589=\"\",\"\",COUNTIF($S$7:S589,\"該当２\"))","v":""},"","",{"$f":"IF(V589=\"\",\"\",COUNTIF($V$7:V589,\"該当３\"))","v":""}]
[820506006,8,{"v":205,"d":"205 "},{"v":6,"d":"06 "},{"v":6,"d":"006 "},"茨城県","石岡市","小幡村","里",null,"","",{"$f":"IF(K590=\"\",\"\",COUNTIF($K$7:K590,\"ﾘｽﾄ１\"))","v":""},"","","","","","","",{"$f":"IF(S590=\"\",\"\",COUNTIF($S$7:S590,\"該当２\"))","v":""},"","",{"$f":"IF(V590=\"\",\"\",COUNTIF($V$7:V590,\"該当３\"))","v":""}]
[820506007,8,{"v":205,"d":"205 "},{"v":6,"d":"06 "},{"v":7,"d":"007 "},"茨城県","石岡市","小幡村","稲子",null,"","",{"$f":"IF(K591=\"\",\"\",COUNTIF($K$7:K591,\"ﾘｽﾄ１\"))","v":""},"","","","","","","",{"$f":"IF(S591=\"\",\"\",COUNTIF($S$7:S591,\"該当２\"))","v":""},"","",{"$f":"IF(V591=\"\",\"\",COUNTIF($V$7:V591,\"該当３\"))","v":""}]
[820506008,8,{"v":205,"d":"205 "},{"v":6,"d":"06 "},{"v":8,"d":"008 "},"茨城県","石岡市","小幡村","上宿",null,"","",{"$f":"IF(K592=\"\",\"\",COUNTIF($K$7:K592,\"ﾘｽﾄ１\"))","v":""},"","","","","","","",{"$f":"IF(S592=\"\",\"\",COUNTIF($S$7:S592,\"該当２\"))","v":""},"","",{"$f":"IF(V592=\"\",\"\",COUNTIF($V$7:V592,\"該当３\"))","v":""}]
[820506009,8,{"v":205,"d":"205 "},{"v":6,"d":"06 "},{"v":9,"d":"009 "},"茨城県","石岡市","小幡村","中宿",null,"","",{"$f":"IF(K593=\"\",\"\",COUNTIF($K$7:K593,\"ﾘｽﾄ１\"))","v":""},"","","","","","","",{"$f":"IF(S593=\"\",\"\",COUNTIF($S$7:S593,\"該当２\"))","v":""},"","",{"$f":"IF(V593=\"\",\"\",COUNTIF($V$7:V593,\"該当３\"))","v":""}]
[820506010,8,{"v":205,"d":"205 "},{"v":6,"d":"06 "},{"v":10,"d":"010 "},"茨城県","石岡市","小幡村","下宿",null,"","",{"$f":"IF(K594=\"\",\"\",COUNTIF($K$7:K594,\"ﾘｽﾄ１\"))","v":""},"","","","","","","",{"$f":"IF(S594=\"\",\"\",COUNTIF($S$7:S594,\"該当２\"))","v":""},"","",{"$f":"IF(V594=\"\",\"\",COUNTIF($V$7:V594,\"該当３\"))","v":""}]
[820506011,8,{"v":205,"d":"205 "},{"v":6,"d":"06 "},{"v":11,"d":"011 "},"茨城県","石岡市","小幡村","横町",null,"","",{"$f":"IF(K595=\"\",\"\",COUNTIF($K$7:K595,\"ﾘｽﾄ１\"))","v":""},"","","","","","","",{"$f":"IF(S595=\"\",\"\",COUNTIF($S$7:S595,\"該当２\"))","v":""},"","",{"$f":"IF(V595=\"\",\"\",COUNTIF($V$7:V595,\"該当３\"))","v":""}]
[820506012,8,{"v":205,"d":"205 "},{"v":6,"d":"06 "},{"v":12,"d":"012 "},"茨城県","石岡市","小幡村","堀之内",null,"","",{"$f":"IF(K596=\"\",\"\",COUNTIF($K$7:K596,\"ﾘｽﾄ１\"))","v":""},"","","","","","","",{"$f":"IF(S596=\"\",\"\",COUNTIF($S$7:S596,\"該当２\"))","v":""},"","",{"$f":"IF(V596=\"\",\"\",COUNTIF($V$7:V596,\"該当３\"))","v":""}]
[820506013,8,{"v":205,"d":"205 "},{"v":6,"d":"06 "},{"v":13,"d":"013 "},"茨城県","石岡市","小幡村","須釜",null,"","",{"$f":"IF(K597=\"\",\"\",COUNTIF($K$7:K597,\"ﾘｽﾄ１\"))","v":""},"","","","","","","",{"$f":"IF(S597=\"\",\"\",COUNTIF($S$7:S597,\"該当２\"))","v":""},"","",{"$f":"IF(V597=\"\",\"\",COUNTIF($V$7:V597,\"該当３\"))","v":""}]
[820506014,8,{"v":205,"d":"205 "},{"v":6,"d":"06 "},{"v":14,"d":"014 "},"茨城県","石岡市","小幡村","石沢",null,"","",{"$f":"IF(K598=\"\",\"\",COUNTIF($K$7:K598,\"ﾘｽﾄ１\"))","v":""},"","","","","","","",{"$f":"IF(S598=\"\",\"\",COUNTIF($S$7:S598,\"該当２\"))","v":""},"","",{"$f":"IF(V598=\"\",\"\",COUNTIF($V$7:V598,\"該当３\"))","v":""}]
[820506015,8,{"v":205,"d":"205 "},{"v":6,"d":"06 "},{"v":15,"d":"015 "},"茨城県","石岡市","小幡村","細谷",null,"","",{"$f":"IF(K599=\"\",\"\",COUNTIF($K$7:K599,\"ﾘｽﾄ１\"))","v":""},"","","","","","","",{"$f":"IF(S599=\"\",\"\",COUNTIF($S$7:S599,\"該当２\"))","v":""},"","",{"$f":"IF(V599=\"\",\"\",COUNTIF($V$7:V599,\"該当３\"))","v":""}]
[820506016,8,{"v":205,"d":"205 "},{"v":6,"d":"06 "},{"v":16,"d":"016 "},"茨城県","石岡市","小幡村","上青柳",null,"","",{"$f":"IF(K600=\"\",\"\",COUNTIF($K$7:K600,\"ﾘｽﾄ１\"))","v":""},"","","","","","","",{"$f":"IF(S600=\"\",\"\",COUNTIF($S$7:S600,\"該当２\"))","v":""},"","",{"$f":"IF(V600=\"\",\"\",COUNTIF($V$7:V600,\"該当３\"))","v":""}]
[820506017,8,{"v":205,"d":"205 "},{"v":6,"d":"06 "},{"v":17,"d":"017 "},"茨城県","石岡市","小幡村","下青柳西",null,"","",{"$f":"IF(K601=\"\",\"\",COUNTIF($K$7:K601,\"ﾘｽﾄ１\"))","v":""},"","","","","","","",{"$f":"IF(S601=\"\",\"\",COUNTIF($S$7:S601,\"該当２\"))","v":""},"","",{"$f":"IF(V601=\"\",\"\",COUNTIF($V$7:V601,\"該当３\"))","v":""}]
[820506018,8,{"v":205,"d":"205 "},{"v":6,"d":"06 "},{"v":18,"d":"018 "},"茨城県","石岡市","小幡村","下青柳東",null,"","",{"$f":"IF(K602=\"\",\"\",COUNTIF($K$7:K602,\"ﾘｽﾄ１\"))","v":""},"","","","","","","",{"$f":"IF(S602=\"\",\"\",COUNTIF($S$7:S602,\"該当２\"))","v":""},"","",{"$f":"IF(V602=\"\",\"\",COUNTIF($V$7:V602,\"該当３\"))","v":""}]
[820506019,8,{"v":205,"d":"205 "},{"v":6,"d":"06 "},{"v":19,"d":"019 "},"茨城県","石岡市","小幡村","原押越",null,"","",{"$f":"IF(K603=\"\",\"\",COUNTIF($K$7:K603,\"ﾘｽﾄ１\"))","v":""},"","","","","","","",{"$f":"IF(S603=\"\",\"\",COUNTIF($S$7:S603,\"該当２\"))","v":""},"","",{"$f":"IF(V603=\"\",\"\",COUNTIF($V$7:V603,\"該当３\"))","v":""}]
[820506020,8,{"v":205,"d":"205 "},{"v":6,"d":"06 "},{"v":20,"d":"020 "},"茨城県","石岡市","小幡村","加生野",null,"","",{"$f":"IF(K604=\"\",\"\",COUNTIF($K$7:K604,\"ﾘｽﾄ１\"))","v":""},"","","","","","","",{"$f":"IF(S604=\"\",\"\",COUNTIF($S$7:S604,\"該当２\"))","v":""},"","",{"$f":"IF(V604=\"\",\"\",COUNTIF($V$7:V604,\"該当３\"))","v":""}]
[820506021,8,{"v":205,"d":"205 "},{"v":6,"d":"06 "},{"v":21,"d":"021 "},"茨城県","石岡市","小幡村","中山",null,"","",{"$f":"IF(K605=\"\",\"\",COUNTIF($K$7:K605,\"ﾘｽﾄ１\"))","v":""},"","","","","","","",{"$f":"IF(S605=\"\",\"\",COUNTIF($S$7:S605,\"該当２\"))","v":""},"","",{"$f":"IF(V605=\"\",\"\",COUNTIF($V$7:V605,\"該当３\"))","v":""}]
[820507000,8,{"v":205,"d":"205 "},{"v":7,"d":"07 "},{"v":0,"d":"000 "},"茨城県","石岡市","葦穂村",null,null,"","",{"$f":"IF(K606=\"\",\"\",COUNTIF($K$7:K606,\"ﾘｽﾄ１\"))","v":""},"","","","","","","",{"$f":"IF(S606=\"\",\"\",COUNTIF($S$7:S606,\"該当２\"))","v":""},"","",{"$f":"IF(V606=\"\",\"\",COUNTIF($V$7:V606,\"該当３\"))","v":""}]
[820507001,8,{"v":205,"d":"205 "},{"v":7,"d":"07 "},{"v":1,"d":"001 "},"茨城県","石岡市","葦穂村","龍明",null,"","",{"$f":"IF(K607=\"\",\"\",COUNTIF($K$7:K607,\"ﾘｽﾄ１\"))","v":""},"","","","","","","",{"$f":"IF(S607=\"\",\"\",COUNTIF($S$7:S607,\"該当２\"))","v":""},"","",{"$f":"IF(V607=\"\",\"\",COUNTIF($V$7:V607,\"該当３\"))","v":""}]
[820507002,8,{"v":205,"d":"205 "},{"v":7,"d":"07 "},{"v":2,"d":"002 "},"茨城県","石岡市","葦穂村","鯨岡",null,"","",{"$f":"IF(K608=\"\",\"\",COUNTIF($K$7:K608,\"ﾘｽﾄ１\"))","v":""},"","","","","","","",{"$f":"IF(S608=\"\",\"\",COUNTIF($S$7:S608,\"該当２\"))","v":""},"","",{"$f":"IF(V608=\"\",\"\",COUNTIF($V$7:V608,\"該当３\"))","v":""}]
[820507003,8,{"v":205,"d":"205 "},{"v":7,"d":"07 "},{"v":3,"d":"003 "},"茨城県","石岡市","葦穂村","小山田",null,"","",{"$f":"IF(K609=\"\",\"\",COUNTIF($K$7:K609,\"ﾘｽﾄ１\"))","v":""},"","","","","","","",{"$f":"IF(S609=\"\",\"\",COUNTIF($S$7:S609,\"該当２\"))","v":""},"","",{"$f":"IF(V609=\"\",\"\",COUNTIF($V$7:V609,\"該当３\"))","v":""}]
[820507004,8,{"v":205,"d":"205 "},{"v":7,"d":"07 "},{"v":4,"d":"004 "},"茨城県","石岡市","葦穂村","小屋",null,"","",{"$f":"IF(K610=\"\",\"\",COUNTIF($K$7:K610,\"ﾘｽﾄ１\"))","v":""},"","","","","","","",{"$f":"IF(S610=\"\",\"\",COUNTIF($S$7:S610,\"該当２\"))","v":""},"","",{"$f":"IF(V610=\"\",\"\",COUNTIF($V$7:V610,\"該当３\"))","v":""}]
[820507005,8,{"v":205,"d":"205 "},{"v":7,"d":"07 "},{"v":5,"d":"005 "},"茨城県","石岡市","葦穂村","上曽",null,"","",{"$f":"IF(K611=\"\",\"\",COUNTIF($K$7:K611,\"ﾘｽﾄ１\"))","v":""},"","","","","","","",{"$f":"IF(S611=\"\",\"\",COUNTIF($S$7:S611,\"該当２\"))","v":""},"","",{"$f":"IF(V611=\"\",\"\",COUNTIF($V$7:V611,\"該当３\"))","v":""}]
[820507006,8,{"v":205,"d":"205 "},{"v":7,"d":"07 "},{"v":6,"d":"006 "},"茨城県","石岡市","葦穂村","篭田",null,"","",{"$f":"IF(K612=\"\",\"\",COUNTIF($K$7:K612,\"ﾘｽﾄ１\"))","v":""},"","","","","","","",{"$f":"IF(S612=\"\",\"\",COUNTIF($S$7:S612,\"該当２\"))","v":""},"","",{"$f":"IF(V612=\"\",\"\",COUNTIF($V$7:V612,\"該当３\"))","v":""}]
[820507007,8,{"v":205,"d":"205 "},{"v":7,"d":"07 "},{"v":7,"d":"007 "},"茨城県","石岡市","葦穂村","小倉",null,"","",{"$f":"IF(K613=\"\",\"\",COUNTIF($K$7:K613,\"ﾘｽﾄ１\"))","v":""},"","","","","","","",{"$f":"IF(S613=\"\",\"\",COUNTIF($S$7:S613,\"該当２\"))","v":""},"","",{"$f":"IF(V613=\"\",\"\",COUNTIF($V$7:V613,\"該当３\"))","v":""}]
[820507008,8,{"v":205,"d":"205 "},{"v":7,"d":"07 "},{"v":8,"d":"008 "},"茨城県","石岡市","葦穂村","吉生",null,"","",{"$f":"IF(K614=\"\",\"\",COUNTIF($K$7:K614,\"ﾘｽﾄ１\"))","v":""},"","","","","","","",{"$f":"IF(S614=\"\",\"\",COUNTIF($S$7:S614,\"該当２\"))","v":""},"","",{"$f":"IF(V614=\"\",\"\",COUNTIF($V$7:V614,\"該当３\"))","v":""}]
[820508000,8,{"v":205,"d":"205 "},{"v":8,"d":"08 "},{"v":0,"d":"000 "},"茨城県","石岡市","恋瀬村",null,null,"","",{"$f":"IF(K615=\"\",\"\",COUNTIF($K$7:K615,\"ﾘｽﾄ１\"))","v":""},"","","","","","","",{"$f":"IF(S615=\"\",\"\",COUNTIF($S$7:S615,\"該当２\"))","v":""},"","",{"$f":"IF(V615=\"\",\"\",COUNTIF($V$7:V615,\"該当３\"))","v":""}]
[820508001,8,{"v":205,"d":"205 "},{"v":8,"d":"08 "},{"v":1,"d":"001 "},"茨城県","石岡市","恋瀬村","板敷",null,"","",{"$f":"IF(K616=\"\",\"\",COUNTIF($K$7:K616,\"ﾘｽﾄ１\"))","v":""},"","","","","","","",{"$f":"IF(S616=\"\",\"\",COUNTIF($S$7:S616,\"該当２\"))","v":""},"","",{"$f":"IF(V616=\"\",\"\",COUNTIF($V$7:V616,\"該当３\"))","v":""}]
[820508002,8,{"v":205,"d":"205 "},{"v":8,"d":"08 "},{"v":2,"d":"002 "},"茨城県","石岡市","恋瀬村","北浦",null,"","",{"$f":"IF(K617=\"\",\"\",COUNTIF($K$7:K617,\"ﾘｽﾄ１\"))","v":""},"","","","","","","",{"$f":"IF(S617=\"\",\"\",COUNTIF($S$7:S617,\"該当２\"))","v":""},"","",{"$f":"IF(V617=\"\",\"\",COUNTIF($V$7:V617,\"該当３\"))","v":""}]
[820508003,8,{"v":205,"d":"205 "},{"v":8,"d":"08 "},{"v":3,"d":"003 "},"茨城県","石岡市","恋瀬村","古館",null,"","",{"$f":"IF(K618=\"\",\"\",COUNTIF($K$7:K618,\"ﾘｽﾄ１\"))","v":""},"","","","","","","",{"$f":"IF(S618=\"\",\"\",COUNTIF($S$7:S618,\"該当２\"))","v":""},"","",{"$f":"IF(V618=\"\",\"\",COUNTIF($V$7:V618,\"該当３\"))","v":""}]
[820508004,8,{"v":205,"d":"205 "},{"v":8,"d":"08 "},{"v":4,"d":"004 "},"茨城県","石岡市","恋瀬村","荒宿",null,"","",{"$f":"IF(K619=\"\",\"\",COUNTIF($K$7:K619,\"ﾘｽﾄ１\"))","v":""},"","","","","","","",{"$f":"IF(S619=\"\",\"\",COUNTIF($S$7:S619,\"該当２\"))","v":""},"","",{"$f":"IF(V619=\"\",\"\",COUNTIF($V$7:V619,\"該当３\"))","v":""}]
[820508005,8,{"v":205,"d":"205 "},{"v":8,"d":"08 "},{"v":5,"d":"005 "},"茨城県","石岡市","恋瀬村","上宿",null,"","",{"$f":"IF(K620=\"\",\"\",COUNTIF($K$7:K620,\"ﾘｽﾄ１\"))","v":""},"","","","","","","",{"$f":"IF(S620=\"\",\"\",COUNTIF($S$7:S620,\"該当２\"))","v":""},"","",{"$f":"IF(V620=\"\",\"\",COUNTIF($V$7:V620,\"該当３\"))","v":""}]
[820508006,8,{"v":205,"d":"205 "},{"v":8,"d":"08 "},{"v":6,"d":"006 "},"茨城県","石岡市","恋瀬村","本町",null,"","",{"$f":"IF(K621=\"\",\"\",COUNTIF($K$7:K621,\"ﾘｽﾄ１\"))","v":""},"","","","","","","",{"$f":"IF(S621=\"\",\"\",COUNTIF($S$7:S621,\"該当２\"))","v":""},"","",{"$f":"IF(V621=\"\",\"\",COUNTIF($V$7:V621,\"該当３\"))","v":""}]
[820508007,8,{"v":205,"d":"205 "},{"v":8,"d":"08 "},{"v":7,"d":"007 "},"茨城県","石岡市","恋瀬村","金ケ沢",null,"","",{"$f":"IF(K622=\"\",\"\",COUNTIF($K$7:K622,\"ﾘｽﾄ１\"))","v":""},"","","","","","","",{"$f":"IF(S622=\"\",\"\",COUNTIF($S$7:S622,\"該当２\"))","v":""},"","",{"$f":"IF(V622=\"\",\"\",COUNTIF($V$7:V622,\"該当３\"))","v":""}]
[820508008,8,{"v":205,"d":"205 "},{"v":8,"d":"08 "},{"v":8,"d":"008 "},"茨城県","石岡市","恋瀬村","細内",null,"","",{"$f":"IF(K623=\"\",\"\",COUNTIF($K$7:K623,\"ﾘｽﾄ１\"))","v":""},"","","","","","","",{"$f":"IF(S623=\"\",\"\",COUNTIF($S$7:S623,\"該当２\"))","v":""},"","",{"$f":"IF(V623=\"\",\"\",COUNTIF($V$7:V623,\"該当３\"))","v":""}]
[820508009,8,{"v":205,"d":"205 "},{"v":8,"d":"08 "},{"v":9,"d":"009 "},"茨城県","石岡市","恋瀬村","仲内",null,"","",{"$f":"IF(K624=\"\",\"\",COUNTIF($K$7:K624,\"ﾘｽﾄ１\"))","v":""},"","","","","","","",{"$f":"IF(S624=\"\",\"\",COUNTIF($S$7:S624,\"該当２\"))","v":""},"","",{"$f":"IF(V624=\"\",\"\",COUNTIF($V$7:V624,\"該当３\"))","v":""}]
[820508010,8,{"v":205,"d":"205 "},{"v":8,"d":"08 "},{"v":10,"d":"010 "},"茨城県","石岡市","恋瀬村","山根",null,"","",{"$f":"IF(K625=\"\",\"\",COUNTIF($K$7:K625,\"ﾘｽﾄ１\"))","v":""},"","","","","","","",{"$f":"IF(S625=\"\",\"\",COUNTIF($S$7:S625,\"該当２\"))","v":""},"","",{"$f":"IF(V625=\"\",\"\",COUNTIF($V$7:V625,\"該当３\"))","v":""}]
[820508011,8,{"v":205,"d":"205 "},{"v":8,"d":"08 "},{"v":11,"d":"011 "},"茨城県","石岡市","恋瀬村","太田",null,"","",{"$f":"IF(K626=\"\",\"\",COUNTIF($K$7:K626,\"ﾘｽﾄ１\"))","v":""},"","","","","","","",{"$f":"IF(S626=\"\",\"\",COUNTIF($S$7:S626,\"該当２\"))","v":""},"","",{"$f":"IF(V626=\"\",\"\",COUNTIF($V$7:V626,\"該当３\"))","v":""}]
[820508012,8,{"v":205,"d":"205 "},{"v":8,"d":"08 "},{"v":12,"d":"012 "},"茨城県","石岡市","恋瀬村","中戸",null,"","",{"$f":"IF(K627=\"\",\"\",COUNTIF($K$7:K627,\"ﾘｽﾄ１\"))","v":""},"","","","","","","",{"$f":"IF(S627=\"\",\"\",COUNTIF($S$7:S627,\"該当２\"))","v":""},"","",{"$f":"IF(V627=\"\",\"\",COUNTIF($V$7:V627,\"該当３\"))","v":""}]
[820508013,8,{"v":205,"d":"205 "},{"v":8,"d":"08 "},{"v":13,"d":"013 "},"茨城県","石岡市","恋瀬村","向坪",null,"","",{"$f":"IF(K628=\"\",\"\",COUNTIF($K$7:K628,\"ﾘｽﾄ１\"))","v":""},"","","","","","","",{"$f":"IF(S628=\"\",\"\",COUNTIF($S$7:S628,\"該当２\"))","v":""},"","",{"$f":"IF(V628=\"\",\"\",COUNTIF($V$7:V628,\"該当３\"))","v":""}]
[820508014,8,{"v":205,"d":"205 "},{"v":8,"d":"08 "},{"v":14,"d":"014 "},"茨城県","石岡市","恋瀬村","小見",null,"","",{"$f":"IF(K629=\"\",\"\",COUNTIF($K$7:K629,\"ﾘｽﾄ１\"))","v":""},"","","","","","","",{"$f":"IF(S629=\"\",\"\",COUNTIF($S$7:S629,\"該当２\"))","v":""},"","",{"$f":"IF(V629=\"\",\"\",COUNTIF($V$7:V629,\"該当３\"))","v":""}]
[820509000,8,{"v":205,"d":"205 "},{"v":9,"d":"09 "},{"v":0,"d":"000 "},"茨城県","石岡市","瓦会村",null,null,"","",{"$f":"IF(K630=\"\",\"\",COUNTIF($K$7:K630,\"ﾘｽﾄ１\"))","v":""},"","","","","","","",{"$f":"IF(S630=\"\",\"\",COUNTIF($S$7:S630,\"該当２\"))","v":""},"","",{"$f":"IF(V630=\"\",\"\",COUNTIF($V$7:V630,\"該当３\"))","v":""}]
[820509001,8,{"v":205,"d":"205 "},{"v":9,"d":"09 "},{"v":1,"d":"001 "},"茨城県","石岡市","瓦会村","弓張",null,"","",{"$f":"IF(K631=\"\",\"\",COUNTIF($K$7:K631,\"ﾘｽﾄ１\"))","v":""},"","","","","","","",{"$f":"IF(S631=\"\",\"\",COUNTIF($S$7:S631,\"該当２\"))","v":""},"","",{"$f":"IF(V631=\"\",\"\",COUNTIF($V$7:V631,\"該当３\"))","v":""}]
[820509002,8,{"v":205,"d":"205 "},{"v":9,"d":"09 "},{"v":2,"d":"002 "},"茨城県","石岡市","瓦会村","宇治会",null,"","",{"$f":"IF(K632=\"\",\"\",COUNTIF($K$7:K632,\"ﾘｽﾄ１\"))","v":""},"","","","","","","",{"$f":"IF(S632=\"\",\"\",COUNTIF($S$7:S632,\"該当２\"))","v":""},"","",{"$f":"IF(V632=\"\",\"\",COUNTIF($V$7:V632,\"該当３\"))","v":""}]
[820509003,8,{"v":205,"d":"205 "},{"v":9,"d":"09 "},{"v":3,"d":"003 "},"茨城県","石岡市","瓦会村","小塙",null,"","",{"$f":"IF(K633=\"\",\"\",COUNTIF($K$7:K633,\"ﾘｽﾄ１\"))","v":""},"","","","","","","",{"$f":"IF(S633=\"\",\"\",COUNTIF($S$7:S633,\"該当２\"))","v":""},"","",{"$f":"IF(V633=\"\",\"\",COUNTIF($V$7:V633,\"該当３\"))","v":""}]
[820509004,8,{"v":205,"d":"205 "},{"v":9,"d":"09 "},{"v":4,"d":"004 "},"茨城県","石岡市","瓦会村","上宿",null,"","",{"$f":"IF(K634=\"\",\"\",COUNTIF($K$7:K634,\"ﾘｽﾄ１\"))","v":""},"","","","","","","",{"$f":"IF(S634=\"\",\"\",COUNTIF($S$7:S634,\"該当２\"))","v":""},"","",{"$f":"IF(V634=\"\",\"\",COUNTIF($V$7:V634,\"該当３\"))","v":""}]
[820509005,8,{"v":205,"d":"205 "},{"v":9,"d":"09 "},{"v":5,"d":"005 "},"茨城県","石岡市","瓦会村","石野",null,"","",{"$f":"IF(K635=\"\",\"\",COUNTIF($K$7:K635,\"ﾘｽﾄ１\"))","v":""},"","","","","","","",{"$f":"IF(S635=\"\",\"\",COUNTIF($S$7:S635,\"該当２\"))","v":""},"","",{"$f":"IF(V635=\"\",\"\",COUNTIF($V$7:V635,\"該当３\"))","v":""}]
[820509006,8,{"v":205,"d":"205 "},{"v":9,"d":"09 "},{"v":6,"d":"006 "},"茨城県","石岡市","瓦会村","両桁山寺平沢",null,"","",{"$f":"IF(K636=\"\",\"\",COUNTIF($K$7:K636,\"ﾘｽﾄ１\"))","v":""},"","","","","","","",{"$f":"IF(S636=\"\",\"\",COUNTIF($S$7:S636,\"該当２\"))","v":""},"","",{"$f":"IF(V636=\"\",\"\",COUNTIF($V$7:V636,\"該当３\"))","v":""}]
[820509007,8,{"v":205,"d":"205 "},{"v":9,"d":"09 "},{"v":7,"d":"007 "},"茨城県","石岡市","瓦会村","下三郷",null,"","",{"$f":"IF(K637=\"\",\"\",COUNTIF($K$7:K637,\"ﾘｽﾄ１\"))","v":""},"","","","","","","",{"$f":"IF(S637=\"\",\"\",COUNTIF($S$7:S637,\"該当２\"))","v":""},"","",{"$f":"IF(V637=\"\",\"\",COUNTIF($V$7:V637,\"該当３\"))","v":""}]
[820509008,8,{"v":205,"d":"205 "},{"v":9,"d":"09 "},{"v":8,"d":"008 "},"茨城県","石岡市","瓦会村","下宿",null,"","",{"$f":"IF(K638=\"\",\"\",COUNTIF($K$7:K638,\"ﾘｽﾄ１\"))","v":""},"","","","","","","",{"$f":"IF(S638=\"\",\"\",COUNTIF($S$7:S638,\"該当２\"))","v":""},"","",{"$f":"IF(V638=\"\",\"\",COUNTIF($V$7:V638,\"該当３\"))","v":""}]
[820509009,8,{"v":205,"d":"205 "},{"v":9,"d":"09 "},{"v":9,"d":"009 "},"茨城県","石岡市","瓦会村","部原",null,"","",{"$f":"IF(K639=\"\",\"\",COUNTIF($K$7:K639,\"ﾘｽﾄ１\"))","v":""},"","","","","","","",{"$f":"IF(S639=\"\",\"\",COUNTIF($S$7:S639,\"該当２\"))","v":""},"","",{"$f":"IF(V639=\"\",\"\",COUNTIF($V$7:V639,\"該当３\"))","v":""}]
[820509010,8,{"v":205,"d":"205 "},{"v":9,"d":"09 "},{"v":10,"d":"010 "},"茨城県","石岡市","瓦会村","野田",null,"","",{"$f":"IF(K640=\"\",\"\",COUNTIF($K$7:K640,\"ﾘｽﾄ１\"))","v":""},"","","","","","","",{"$f":"IF(S640=\"\",\"\",COUNTIF($S$7:S640,\"該当２\"))","v":""},"","",{"$f":"IF(V640=\"\",\"\",COUNTIF($V$7:V640,\"該当３\"))","v":""}]
[820509011,8,{"v":205,"d":"205 "},{"v":9,"d":"09 "},{"v":11,"d":"011 "},"茨城県","石岡市","瓦会村","佐久",null,"","",{"$f":"IF(K641=\"\",\"\",COUNTIF($K$7:K641,\"ﾘｽﾄ１\"))","v":""},"","","","","","","",{"$f":"IF(S641=\"\",\"\",COUNTIF($S$7:S641,\"該当２\"))","v":""},"","",{"$f":"IF(V641=\"\",\"\",COUNTIF($V$7:V641,\"該当３\"))","v":""}]
[820510000,8,{"v":205,"d":"205 "},{"v":10,"d":"10 "},{"v":0,"d":"000 "},"茨城県","石岡市","園部村",null,null,"","",{"$f":"IF(K642=\"\",\"\",COUNTIF($K$7:K642,\"ﾘｽﾄ１\"))","v":""},"","","","","","","",{"$f":"IF(S642=\"\",\"\",COUNTIF($S$7:S642,\"該当２\"))","v":""},"","",{"$f":"IF(V642=\"\",\"\",COUNTIF($V$7:V642,\"該当３\"))","v":""}]
[820510001,8,{"v":205,"d":"205 "},{"v":10,"d":"10 "},{"v":1,"d":"001 "},"茨城県","石岡市","園部村","柴間",null,"","",{"$f":"IF(K643=\"\",\"\",COUNTIF($K$7:K643,\"ﾘｽﾄ１\"))","v":""},"","","","","","","",{"$f":"IF(S643=\"\",\"\",COUNTIF($S$7:S643,\"該当２\"))","v":""},"","",{"$f":"IF(V643=\"\",\"\",COUNTIF($V$7:V643,\"該当３\"))","v":""}]
[820510002,8,{"v":205,"d":"205 "},{"v":10,"d":"10 "},{"v":2,"d":"002 "},"茨城県","石岡市","園部村","上郷",null,"","",{"$f":"IF(K644=\"\",\"\",COUNTIF($K$7:K644,\"ﾘｽﾄ１\"))","v":""},"","","","","","","",{"$f":"IF(S644=\"\",\"\",COUNTIF($S$7:S644,\"該当２\"))","v":""},"","",{"$f":"IF(V644=\"\",\"\",COUNTIF($V$7:V644,\"該当３\"))","v":""}]
[820510003,8,{"v":205,"d":"205 "},{"v":10,"d":"10 "},{"v":3,"d":"003 "},"茨城県","石岡市","園部村","山崎",null,"","",{"$f":"IF(K645=\"\",\"\",COUNTIF($K$7:K645,\"ﾘｽﾄ１\"))","v":""},"","","","","","","",{"$f":"IF(S645=\"\",\"\",COUNTIF($S$7:S645,\"該当２\"))","v":""},"","",{"$f":"IF(V645=\"\",\"\",COUNTIF($V$7:V645,\"該当３\"))","v":""}]
[820510004,8,{"v":205,"d":"205 "},{"v":10,"d":"10 "},{"v":4,"d":"004 "},"茨城県","石岡市","園部村","南山崎",null,"","",{"$f":"IF(K646=\"\",\"\",COUNTIF($K$7:K646,\"ﾘｽﾄ１\"))","v":""},"","","","","","","",{"$f":"IF(S646=\"\",\"\",COUNTIF($S$7:S646,\"該当２\"))","v":""},"","",{"$f":"IF(V646=\"\",\"\",COUNTIF($V$7:V646,\"該当３\"))","v":""}]
[820510005,8,{"v":205,"d":"205 "},{"v":10,"d":"10 "},{"v":5,"d":"005 "},"茨城県","石岡市","園部村","新谷",null,"","",{"$f":"IF(K647=\"\",\"\",COUNTIF($K$7:K647,\"ﾘｽﾄ１\"))","v":""},"","","","","","","",{"$f":"IF(S647=\"\",\"\",COUNTIF($S$7:S647,\"該当２\"))","v":""},"","",{"$f":"IF(V647=\"\",\"\",COUNTIF($V$7:V647,\"該当３\"))","v":""}]
[820510006,8,{"v":205,"d":"205 "},{"v":10,"d":"10 "},{"v":6,"d":"006 "},"茨城県","石岡市","園部村","東山崎",null,"","",{"$f":"IF(K648=\"\",\"\",COUNTIF($K$7:K648,\"ﾘｽﾄ１\"))","v":""},"","","","","","","",{"$f":"IF(S648=\"\",\"\",COUNTIF($S$7:S648,\"該当２\"))","v":""},"","",{"$f":"IF(V648=\"\",\"\",COUNTIF($V$7:V648,\"該当３\"))","v":""}]
[820510007,8,{"v":205,"d":"205 "},{"v":10,"d":"10 "},{"v":7,"d":"007 "},"茨城県","石岡市","園部村","宮ケ崎",null,"","",{"$f":"IF(K649=\"\",\"\",COUNTIF($K$7:K649,\"ﾘｽﾄ１\"))","v":""},"","","","","","","",{"$f":"IF(S649=\"\",\"\",COUNTIF($S$7:S649,\"該当２\"))","v":""},"","",{"$f":"IF(V649=\"\",\"\",COUNTIF($V$7:V649,\"該当３\"))","v":""}]
[820510008,8,{"v":205,"d":"205 "},{"v":10,"d":"10 "},{"v":8,"d":"008 "},"茨城県","石岡市","園部村","山根",null,"","",{"$f":"IF(K650=\"\",\"\",COUNTIF($K$7:K650,\"ﾘｽﾄ１\"))","v":""},"","",{"$f":"IF(O650=\"該当１\",G650,\"\")","v":""},{"$f":"IF(O650=\"該当１\",\"ﾘｽﾄ2\",\"\")","v":""},{"$f":"IF(Q650=\"ﾘｽﾄ2\",H650,\"\")","v":""},"",{"$f":"IF(S650=\"該当２\",H650,\"\")","v":""},{"$f":"IF(S650=\"\",\"\",COUNTIF($S$7:S650,\"該当２\"))","v":""},{"$f":"IF(AND($S$2=H650,E650>0,E650<998),\"該当３\",\"\")","v":""},{"$f":"IF(V650=\"該当３\",I650,\"\")","v":""},{"$f":"IF(V650=\"\",\"\",COUNTIF($V$7:V650,\"該当３\"))","v":""}]
[820510009,8,{"v":205,"d":"205 "},{"v":10,"d":"10 "},{"v":9,"d":"009 "},"茨城県","石岡市","園部村","真家",null,{"$f":"IF(AND($C651>0,$H651=\"\"),\"ﾘｽﾄ１\",\"\")","v":""},{"$f":"IF(K651=\"ﾘｽﾄ１\",G651,\"\")","v":""},{"$f":"IF(K651=\"\",\"\",COUNTIF($K$7:K651,\"ﾘｽﾄ１\"))","v":""},{"$f":"IF(AND(D651=0,E651>0),\"同一区\",\"\")","v":""},{"$f":"IF(AND(EXACT($K$2,G651),H651>0),\"該当１\",\"\")","v":""},"","","",{"$f":"IF(AND(Q651=\"ﾘｽﾄ2\",OR(I651=0,AND(N651=\"同一区\",E651=1))),\"該当２\",\"\")","v":""},"",{"$f":"IF(S651=\"\",\"\",COUNTIF($S$7:S651,\"該当２\"))","v":""},"","",{"$f":"IF(V651=\"\",\"\",COUNTIF($V$7:V651,\"該当３\"))","v":""}]
[820510010,8,{"v":205,"d":"205 "},{"v":10,"d":"10 "},{"v":10,"d":"010 "},"茨城県","石岡市","園部村","郷中",null,"","",{"$f":"IF(K652=\"\",\"\",COUNTIF($K$7:K652,\"ﾘｽﾄ１\"))","v":""},"","","","","","","",{"$f":"IF(S652=\"\",\"\",COUNTIF($S$7:S652,\"該当２\"))","v":""},"","",{"$f":"IF(V652=\"\",\"\",COUNTIF($V$7:V652,\"該当３\"))","v":""}]
[820510011,8,{"v":205,"d":"205 "},{"v":10,"d":"10 "},{"v":11,"d":"011 "},"茨城県","石岡市","園部村","園中",null,"","",{"$f":"IF(K653=\"\",\"\",COUNTIF($K$7:K653,\"ﾘｽﾄ１\"))","v":""},"","","","","","","",{"$f":"IF(S653=\"\",\"\",COUNTIF($S$7:S653,\"該当２\"))","v":""},"","",{"$f":"IF(V653=\"\",\"\",COUNTIF($V$7:V653,\"該当３\"))","v":""}]
[820510012,8,{"v":205,"d":"205 "},{"v":10,"d":"10 "},{"v":12,"d":"012 "},"茨城県","石岡市","園部村","真家宿",null,"","",{"$f":"IF(K654=\"\",\"\",COUNTIF($K$7:K654,\"ﾘｽﾄ１\"))","v":""},"","","","","","","",{"$f":"IF(S654=\"\",\"\",COUNTIF($S$7:S654,\"該当２\"))","v":""},"","",{"$f":"IF(V654=\"\",\"\",COUNTIF($V$7:V654,\"該当３\"))","v":""}]
[820510013,8,{"v":205,"d":"205 "},{"v":10,"d":"10 "},{"v":13,"d":"013 "},"茨城県","石岡市","園部村","長原",null,"","",{"$f":"IF(K655=\"\",\"\",COUNTIF($K$7:K655,\"ﾘｽﾄ１\"))","v":""},"","","","","","","",{"$f":"IF(S655=\"\",\"\",COUNTIF($S$7:S655,\"該当２\"))","v":""},"","",{"$f":"IF(V655=\"\",\"\",COUNTIF($V$7:V655,\"該当３\"))","v":""}]
[820510014,8,{"v":205,"d":"205 "},{"v":10,"d":"10 "},{"v":14,"d":"014 "},"茨城県","石岡市","園部村","向原，陣場",null,"","",{"$f":"IF(K656=\"\",\"\",COUNTIF($K$7:K656,\"ﾘｽﾄ１\"))","v":""},"","","","","","","",{"$f":"IF(S656=\"\",\"\",COUNTIF($S$7:S656,\"該当２\"))","v":""},"","",{"$f":"IF(V656=\"\",\"\",COUNTIF($V$7:V656,\"該当３\"))","v":""}]
[820510015,8,{"v":205,"d":"205 "},{"v":10,"d":"10 "},{"v":15,"d":"015 "},"茨城県","石岡市","園部村","西久保",null,"","",{"$f":"IF(K657=\"\",\"\",COUNTIF($K$7:K657,\"ﾘｽﾄ１\"))","v":""},"","","","","","","",{"$f":"IF(S657=\"\",\"\",COUNTIF($S$7:S657,\"該当２\"))","v":""},"","",{"$f":"IF(V657=\"\",\"\",COUNTIF($V$7:V657,\"該当３\"))","v":""}]
[820510016,8,{"v":205,"d":"205 "},{"v":10,"d":"10 "},{"v":16,"d":"016 "},"茨城県","石岡市","園部村","西原",null,"","",{"$f":"IF(K658=\"\",\"\",COUNTIF($K$7:K658,\"ﾘｽﾄ１\"))","v":""},"","","","","","","",{"$f":"IF(S658=\"\",\"\",COUNTIF($S$7:S658,\"該当２\"))","v":""},"","",{"$f":"IF(V658=\"\",\"\",COUNTIF($V$7:V658,\"該当３\"))","v":""}]
[820510017,8,{"v":205,"d":"205 "},{"v":10,"d":"10 "},{"v":17,"d":"017 "},"茨城県","石岡市","園部村","上坪",null,"","",{"$f":"IF(K659=\"\",\"\",COUNTIF($K$7:K659,\"ﾘｽﾄ１\"))","v":""},"","","","","","","",{"$f":"IF(S659=\"\",\"\",COUNTIF($S$7:S659,\"該当２\"))","v":""},"","",{"$f":"IF(V659=\"\",\"\",COUNTIF($V$7:V659,\"該当３\"))","v":""}]
[820510018,8,{"v":205,"d":"205 "},{"v":10,"d":"10 "},{"v":18,"d":"018 "},"茨城県","石岡市","園部村","中下坪",null,"","",{"$f":"IF(K660=\"\",\"\",COUNTIF($K$7:K660,\"ﾘｽﾄ１\"))","v":""},"","","","","","","",{"$f":"IF(S660=\"\",\"\",COUNTIF($S$7:S660,\"該当２\"))","v":""},"","",{"$f":"IF(V660=\"\",\"\",COUNTIF($V$7:V660,\"該当３\"))","v":""}]
[820510019,8,{"v":205,"d":"205 "},{"v":10,"d":"10 "},{"v":19,"d":"019 "},"茨城県","石岡市","園部村","鶴沼",null,"","",{"$f":"IF(K661=\"\",\"\",COUNTIF($K$7:K661,\"ﾘｽﾄ１\"))","v":""},"","","","","","","",{"$f":"IF(S661=\"\",\"\",COUNTIF($S$7:S661,\"該当２\"))","v":""},"","",{"$f":"IF(V661=\"\",\"\",COUNTIF($V$7:V661,\"該当３\"))","v":""}]
[820510020,8,{"v":205,"d":"205 "},{"v":10,"d":"10 "},{"v":20,"d":"020 "},"茨城県","石岡市","園部村","塚原",null,"","",{"$f":"IF(K662=\"\",\"\",COUNTIF($K$7:K662,\"ﾘｽﾄ１\"))","v":""},"","","","","","","",{"$f":"IF(S662=\"\",\"\",COUNTIF($S$7:S662,\"該当２\"))","v":""},"","",{"$f":"IF(V662=\"\",\"\",COUNTIF($V$7:V662,\"該当３\"))","v":""}]
[820510021,8,{"v":205,"d":"205 "},{"v":10,"d":"10 "},{"v":21,"d":"021 "},"茨城県","石岡市","園部村","永沼",null,"","",{"$f":"IF(K663=\"\",\"\",COUNTIF($K$7:K663,\"ﾘｽﾄ１\"))","v":""},"","","","","","","",{"$f":"IF(S663=\"\",\"\",COUNTIF($S$7:S663,\"該当２\"))","v":""},"","",{"$f":"IF(V663=\"\",\"\",COUNTIF($V$7:V663,\"該当３\"))","v":""}]
[820511000,8,{"v":205,"d":"205 "},{"v":11,"d":"11 "},{"v":0,"d":"000 "},"茨城県","石岡市","林村",null,null,"","",{"$f":"IF(K664=\"\",\"\",COUNTIF($K$7:K664,\"ﾘｽﾄ１\"))","v":""},"","","","","","","",{"$f":"IF(S664=\"\",\"\",COUNTIF($S$7:S664,\"該当２\"))","v":""},"","",{"$f":"IF(V664=\"\",\"\",COUNTIF($V$7:V664,\"該当３\"))","v":""}]
[820511001,8,{"v":205,"d":"205 "},{"v":11,"d":"11 "},{"v":1,"d":"001 "},"茨城県","石岡市","林村","浦須",null,"","",{"$f":"IF(K665=\"\",\"\",COUNTIF($K$7:K665,\"ﾘｽﾄ１\"))","v":""},"","","","","","","",{"$f":"IF(S665=\"\",\"\",COUNTIF($S$7:S665,\"該当２\"))","v":""},"","",{"$f":"IF(V665=\"\",\"\",COUNTIF($V$7:V665,\"該当３\"))","v":""}]
[820511002,8,{"v":205,"d":"205 "},{"v":11,"d":"11 "},{"v":2,"d":"002 "},"茨城県","石岡市","林村","片岡北",null,"","",{"$f":"IF(K666=\"\",\"\",COUNTIF($K$7:K666,\"ﾘｽﾄ１\"))","v":""},"","","","","","","",{"$f":"IF(S666=\"\",\"\",COUNTIF($S$7:S666,\"該当２\"))","v":""},"","",{"$f":"IF(V666=\"\",\"\",COUNTIF($V$7:V666,\"該当３\"))","v":""}]
[820511003,8,{"v":205,"d":"205 "},{"v":11,"d":"11 "},{"v":3,"d":"003 "},"茨城県","石岡市","林村","片岡南",null,"","",{"$f":"IF(K667=\"\",\"\",COUNTIF($K$7:K667,\"ﾘｽﾄ１\"))","v":""},"","","","","","","",{"$f":"IF(S667=\"\",\"\",COUNTIF($S$7:S667,\"該当２\"))","v":""},"","",{"$f":"IF(V667=\"\",\"\",COUNTIF($V$7:V667,\"該当３\"))","v":""}]
[820511004,8,{"v":205,"d":"205 "},{"v":11,"d":"11 "},{"v":4,"d":"004 "},"茨城県","石岡市","林村","嘉良寿里",null,"","",{"$f":"IF(K668=\"\",\"\",COUNTIF($K$7:K668,\"ﾘｽﾄ１\"))","v":""},"","","","","","","",{"$f":"IF(S668=\"\",\"\",COUNTIF($S$7:S668,\"該当２\"))","v":""},"","",{"$f":"IF(V668=\"\",\"\",COUNTIF($V$7:V668,\"該当３\"))","v":""}]
[820511005,8,{"v":205,"d":"205 "},{"v":11,"d":"11 "},{"v":5,"d":"005 "},"茨城県","石岡市","林村","飯塚",null,"","",{"$f":"IF(K669=\"\",\"\",COUNTIF($K$7:K669,\"ﾘｽﾄ１\"))","v":""},"","","","","","","",{"$f":"IF(S669=\"\",\"\",COUNTIF($S$7:S669,\"該当２\"))","v":""},"","",{"$f":"IF(V669=\"\",\"\",COUNTIF($V$7:V669,\"該当３\"))","v":""}]
[820511006,8,{"v":205,"d":"205 "},{"v":11,"d":"11 "},{"v":6,"d":"006 "},"茨城県","石岡市","林村","里",null,"","",{"$f":"IF(K670=\"\",\"\",COUNTIF($K$7:K670,\"ﾘｽﾄ１\"))","v":""},"","","","","","","",{"$f":"IF(S670=\"\",\"\",COUNTIF($S$7:S670,\"該当２\"))","v":""},"","",{"$f":"IF(V670=\"\",\"\",COUNTIF($V$7:V670,\"該当３\"))","v":""}]
[820511007,8,{"v":205,"d":"205 "},{"v":11,"d":"11 "},{"v":7,"d":"007 "},"茨城県","石岡市","林村","戸の内",null,"","",{"$f":"IF(K671=\"\",\"\",COUNTIF($K$7:K671,\"ﾘｽﾄ１\"))","v":""},"","","","","","","",{"$f":"IF(S671=\"\",\"\",COUNTIF($S$7:S671,\"該当２\"))","v":""},"","",{"$f":"IF(V671=\"\",\"\",COUNTIF($V$7:V671,\"該当３\"))","v":""}]
[820511008,8,{"v":205,"d":"205 "},{"v":11,"d":"11 "},{"v":8,"d":"008 "},"茨城県","石岡市","林村","上林",null,"","",{"$f":"IF(K672=\"\",\"\",COUNTIF($K$7:K672,\"ﾘｽﾄ１\"))","v":""},"","","","","","","",{"$f":"IF(S672=\"\",\"\",COUNTIF($S$7:S672,\"該当２\"))","v":""},"","",{"$f":"IF(V672=\"\",\"\",COUNTIF($V$7:V672,\"該当３\"))","v":""}]
[820511009,8,{"v":205,"d":"205 "},{"v":11,"d":"11 "},{"v":9,"d":"009 "},"茨城県","石岡市","林村","下林",null,"","",{"$f":"IF(K673=\"\",\"\",COUNTIF($K$7:K673,\"ﾘｽﾄ１\"))","v":""},"","","","","","","",{"$f":"IF(S673=\"\",\"\",COUNTIF($S$7:S673,\"該当２\"))","v":""},"","",{"$f":"IF(V673=\"\",\"\",COUNTIF($V$7:V673,\"該当３\"))","v":""}]
[820511010,8,{"v":205,"d":"205 "},{"v":11,"d":"11 "},{"v":10,"d":"010 "},"茨城県","石岡市","林村","大関",null,"","",{"$f":"IF(K674=\"\",\"\",COUNTIF($K$7:K674,\"ﾘｽﾄ１\"))","v":""},"","","","","","","",{"$f":"IF(S674=\"\",\"\",COUNTIF($S$7:S674,\"該当２\"))","v":""},"","",{"$f":"IF(V674=\"\",\"\",COUNTIF($V$7:V674,\"該当３\"))","v":""}]
[820511011,8,{"v":205,"d":"205 "},{"v":11,"d":"11 "},{"v":11,"d":"011 "},"茨城県","石岡市","林村","叶尻",null,"","",{"$f":"IF(K675=\"\",\"\",COUNTIF($K$7:K675,\"ﾘｽﾄ１\"))","v":""},"","","","","","","",{"$f":"IF(S675=\"\",\"\",COUNTIF($S$7:S675,\"該当２\"))","v":""},"","",{"$f":"IF(V675=\"\",\"\",COUNTIF($V$7:V675,\"該当３\"))","v":""}]
[820511012,8,{"v":205,"d":"205 "},{"v":11,"d":"11 "},{"v":12,"d":"012 "},"茨城県","石岡市","林村","新田",null,"","",{"$f":"IF(K676=\"\",\"\",COUNTIF($K$7:K676,\"ﾘｽﾄ１\"))","v":""},"","","","","","","",{"$f":"IF(S676=\"\",\"\",COUNTIF($S$7:S676,\"該当２\"))","v":""},"","",{"$f":"IF(V676=\"\",\"\",COUNTIF($V$7:V676,\"該当３\"))","v":""}]
[820511013,8,{"v":205,"d":"205 "},{"v":11,"d":"11 "},{"v":13,"d":"013 "},"茨城県","石岡市","林村","織戸",null,"","",{"$f":"IF(K677=\"\",\"\",COUNTIF($K$7:K677,\"ﾘｽﾄ１\"))","v":""},"","","","","","","",{"$f":"IF(S677=\"\",\"\",COUNTIF($S$7:S677,\"該当２\"))","v":""},"","",{"$f":"IF(V677=\"\",\"\",COUNTIF($V$7:V677,\"該当３\"))","v":""}]
[820512000,8,{"v":205,"d":"205 "},{"v":12,"d":"12 "},{"v":0,"d":"000 "},"茨城県","石岡市","小桜村",null,null,"","",{"$f":"IF(K678=\"\",\"\",COUNTIF($K$7:K678,\"ﾘｽﾄ１\"))","v":""},"","","","","","","",{"$f":"IF(S678=\"\",\"\",COUNTIF($S$7:S678,\"該当２\"))","v":""},"","",{"$f":"IF(V678=\"\",\"\",COUNTIF($V$7:V678,\"該当３\"))","v":""}]
[820512001,8,{"v":205,"d":"205 "},{"v":12,"d":"12 "},{"v":1,"d":"001 "},"茨城県","石岡市","小桜村","半田",null,"","",{"$f":"IF(K679=\"\",\"\",COUNTIF($K$7:K679,\"ﾘｽﾄ１\"))","v":""},"","","","","","","",{"$f":"IF(S679=\"\",\"\",COUNTIF($S$7:S679,\"該当２\"))","v":""},"","",{"$f":"IF(V679=\"\",\"\",COUNTIF($V$7:V679,\"該当３\"))","v":""}]
[820512002,8,{"v":205,"d":"205 "},{"v":12,"d":"12 "},{"v":2,"d":"002 "},"茨城県","石岡市","小桜村","川又",null,"","",{"$f":"IF(K680=\"\",\"\",COUNTIF($K$7:K680,\"ﾘｽﾄ１\"))","v":""},"","","","","","","",{"$f":"IF(S680=\"\",\"\",COUNTIF($S$7:S680,\"該当２\"))","v":""},"","",{"$f":"IF(V680=\"\",\"\",COUNTIF($V$7:V680,\"該当３\"))","v":""}]
[820512003,8,{"v":205,"d":"205 "},{"v":12,"d":"12 "},{"v":3,"d":"003 "},"茨城県","石岡市","小桜村","月岡",null,"","",{"$f":"IF(K681=\"\",\"\",COUNTIF($K$7:K681,\"ﾘｽﾄ１\"))","v":""},"","","","","","","",{"$f":"IF(S681=\"\",\"\",COUNTIF($S$7:S681,\"該当２\"))","v":""},"","",{"$f":"IF(V681=\"\",\"\",COUNTIF($V$7:V681,\"該当３\"))","v":""}]
[820512004,8,{"v":205,"d":"205 "},{"v":12,"d":"12 "},{"v":4,"d":"004 "},"茨城県","石岡市","小桜村","青田",null,"","",{"$f":"IF(K682=\"\",\"\",COUNTIF($K$7:K682,\"ﾘｽﾄ１\"))","v":""},"","","","","","","",{"$f":"IF(S682=\"\",\"\",COUNTIF($S$7:S682,\"該当２\"))","v":""},"","",{"$f":"IF(V682=\"\",\"\",COUNTIF($V$7:V682,\"該当３\"))","v":""}]
[820512005,8,{"v":205,"d":"205 "},{"v":12,"d":"12 "},{"v":5,"d":"005 "},"茨城県","石岡市","小桜村","弓弦",null,"","",{"$f":"IF(K683=\"\",\"\",COUNTIF($K$7:K683,\"ﾘｽﾄ１\"))","v":""},"","","","","","","",{"$f":"IF(S683=\"\",\"\",COUNTIF($S$7:S683,\"該当２\"))","v":""},"","",{"$f":"IF(V683=\"\",\"\",COUNTIF($V$7:V683,\"該当３\"))","v":""}]
[820512006,8,{"v":205,"d":"205 "},{"v":12,"d":"12 "},{"v":6,"d":"006 "},"茨城県","石岡市","小桜村","柴内",null,"","",{"$f":"IF(K684=\"\",\"\",COUNTIF($K$7:K684,\"ﾘｽﾄ１\"))","v":""},"","","","","","","",{"$f":"IF(S684=\"\",\"\",COUNTIF($S$7:S684,\"該当２\"))","v":""},"","",{"$f":"IF(V684=\"\",\"\",COUNTIF($V$7:V684,\"該当３\"))","v":""}]
[820512007,8,{"v":205,"d":"205 "},{"v":12,"d":"12 "},{"v":7,"d":"007 "},"茨城県","石岡市","小桜村","辻",null,"","",{"$f":"IF(K685=\"\",\"\",COUNTIF($K$7:K685,\"ﾘｽﾄ１\"))","v":""},"","","","","","","",{"$f":"IF(S685=\"\",\"\",COUNTIF($S$7:S685,\"該当２\"))","v":""},"","",{"$f":"IF(V685=\"\",\"\",COUNTIF($V$7:V685,\"該当３\"))","v":""}]
[820512008,8,{"v":205,"d":"205 "},{"v":12,"d":"12 "},{"v":8,"d":"008 "},"茨城県","石岡市","小桜村","菖蒲沢",null,"","",{"$f":"IF(K686=\"\",\"\",COUNTIF($K$7:K686,\"ﾘｽﾄ１\"))","v":""},"","","","","","","",{"$f":"IF(S686=\"\",\"\",COUNTIF($S$7:S686,\"該当２\"))","v":""},"","",{"$f":"IF(V686=\"\",\"\",COUNTIF($V$7:V686,\"該当３\"))","v":""}]
[820512009,8,{"v":205,"d":"205 "},{"v":12,"d":"12 "},{"v":9,"d":"009 "},"茨城県","石岡市","小桜村","小野越",null,"","",{"$f":"IF(K687=\"\",\"\",COUNTIF($K$7:K687,\"ﾘｽﾄ１\"))","v":""},"","","","","","","",{"$f":"IF(S687=\"\",\"\",COUNTIF($S$7:S687,\"該当２\"))","v":""},"","",{"$f":"IF(V687=\"\",\"\",COUNTIF($V$7:V687,\"該当３\"))","v":""}]
[820512010,8,{"v":205,"d":"205 "},{"v":12,"d":"12 "},{"v":10,"d":"010 "},"茨城県","石岡市","小桜村","仏生寺",null,"","",{"$f":"IF(K688=\"\",\"\",COUNTIF($K$7:K688,\"ﾘｽﾄ１\"))","v":""},"","","","","","","",{"$f":"IF(S688=\"\",\"\",COUNTIF($S$7:S688,\"該当２\"))","v":""},"","",{"$f":"IF(V688=\"\",\"\",COUNTIF($V$7:V688,\"該当３\"))","v":""}]
[820700000,8,{"v":207,"d":"207 "},{"v":0,"d":"00 "},{"v":0,"d":"000 "},"茨城県","結城市",{"$nulls":3},"ﾘｽﾄ１","結城市",{"$f":"IF(K689=\"\",\"\",COUNTIF($K$7:K689,\"ﾘｽﾄ１\"))","v":6},"","","","","","","",{"$f":"IF(S689=\"\",\"\",COUNTIF($S$7:S689,\"該当２\"))","v":""},"","",{"$f":"IF(V689=\"\",\"\",COUNTIF($V$7:V689,\"該当３\"))","v":""}]
[820701000,8,{"v":207,"d":"207 "},{"v":1,"d":"01 "},{"v":0,"d":"000 "},"茨城県","結城市","結城町",null,null,"","",{"$f":"IF(K690=\"\",\"\",COUNTIF($K$7:K690,\"ﾘｽﾄ１\"))","v":""},"","","","","","","",{"$f":"IF(S690=\"\",\"\",COUNTIF($S$7:S690,\"該当２\"))","v":""},"","",{"$f":"IF(V690=\"\",\"\",COUNTIF($V$7:V690,\"該当３\"))","v":""}]
[820701001,8,{"v":207,"d":"207 "},{"v":1,"d":"01 "},{"v":1,"d":"001 "},"茨城県","結城市","結城町","上小塙、宮の下",null,"","",{"$f":"IF(K691=\"\",\"\",COUNTIF($K$7:K691,\"ﾘｽﾄ１\"))","v":""},"","","","","","","",{"$f":"IF(S691=\"\",\"\",COUNTIF($S$7:S691,\"該当２\"))","v":""},"","",{"$f":"IF(V691=\"\",\"\",COUNTIF($V$7:V691,\"該当３\"))","v":""}]
[820701002,8,{"v":207,"d":"207 "},{"v":1,"d":"01 "},{"v":2,"d":"002 "},"茨城県","結城市","結城町","下小塙",null,"","",{"$f":"IF(K692=\"\",\"\",COUNTIF($K$7:K692,\"ﾘｽﾄ１\"))","v":""},"","","","","","","",{"$f":"IF(S692=\"\",\"\",COUNTIF($S$7:S692,\"該当２\"))","v":""},"","",{"$f":"IF(V692=\"\",\"\",COUNTIF($V$7:V692,\"該当３\"))","v":""}]
[820701003,8,{"v":207,"d":"207 "},{"v":1,"d":"01 "},{"v":3,"d":"003 "},"茨城県","結城市","結城町","本町",null,"","",{"$f":"IF(K693=\"\",\"\",COUNTIF($K$7:K693,\"ﾘｽﾄ１\"))","v":""},"","","","","","","",{"$f":"IF(S693=\"\",\"\",COUNTIF($S$7:S693,\"該当２\"))","v":""},"","",{"$f":"IF(V693=\"\",\"\",COUNTIF($V$7:V693,\"該当３\"))","v":""}]
[820701004,8,{"v":207,"d":"207 "},{"v":1,"d":"01 "},{"v":4,"d":"004 "},"茨城県","結城市","結城町","見晴町１丁目",null,"","",{"$f":"IF(K694=\"\",\"\",COUNTIF($K$7:K694,\"ﾘｽﾄ１\"))","v":""},"","","","","","","",{"$f":"IF(S694=\"\",\"\",COUNTIF($S$7:S694,\"該当２\"))","v":""},"","",{"$f":"IF(V694=\"\",\"\",COUNTIF($V$7:V694,\"該当３\"))","v":""}]
[820701005,8,{"v":207,"d":"207 "},{"v":1,"d":"01 "},{"v":5,"d":"005 "},"茨城県","結城市","結城町","下り松南西",null,"","",{"$f":"IF(K695=\"\",\"\",COUNTIF($K$7:K695,\"ﾘｽﾄ１\"))","v":""},"","","","","","","",{"$f":"IF(S695=\"\",\"\",COUNTIF($S$7:S695,\"該当２\"))","v":""},"","",{"$f":"IF(V695=\"\",\"\",COUNTIF($V$7:V695,\"該当３\"))","v":""}]
[820701006,8,{"v":207,"d":"207 "},{"v":1,"d":"01 "},{"v":6,"d":"006 "},"茨城県","結城市","結城町","下り松東",null,"","",{"$f":"IF(K696=\"\",\"\",COUNTIF($K$7:K696,\"ﾘｽﾄ１\"))","v":""},"","","","","","","",{"$f":"IF(S696=\"\",\"\",COUNTIF($S$7:S696,\"該当２\"))","v":""},"","",{"$f":"IF(V696=\"\",\"\",COUNTIF($V$7:V696,\"該当３\"))","v":""}]
[820701007,8,{"v":207,"d":"207 "},{"v":1,"d":"01 "},{"v":7,"d":"007 "},"茨城県","結城市","結城町","下り松北",null,"","",{"$f":"IF(K697=\"\",\"\",COUNTIF($K$7:K697,\"ﾘｽﾄ１\"))","v":""},"","","","","","","",{"$f":"IF(S697=\"\",\"\",COUNTIF($S$7:S697,\"該当２\"))","v":""},"","",{"$f":"IF(V697=\"\",\"\",COUNTIF($V$7:V697,\"該当３\"))","v":""}]
[820701008,8,{"v":207,"d":"207 "},{"v":1,"d":"01 "},{"v":8,"d":"008 "},"茨城県","結城市","結城町","辻堂",null,"","",{"$f":"IF(K698=\"\",\"\",COUNTIF($K$7:K698,\"ﾘｽﾄ１\"))","v":""},"","","","","","","",{"$f":"IF(S698=\"\",\"\",COUNTIF($S$7:S698,\"該当２\"))","v":""},"","",{"$f":"IF(V698=\"\",\"\",COUNTIF($V$7:V698,\"該当３\"))","v":""}]
[820701009,8,{"v":207,"d":"207 "},{"v":1,"d":"01 "},{"v":9,"d":"009 "},"茨城県","結城市","結城町","城の内",null,"","",{"$f":"IF(K699=\"\",\"\",COUNTIF($K$7:K699,\"ﾘｽﾄ１\"))","v":""},"","","","","","","",{"$f":"IF(S699=\"\",\"\",COUNTIF($S$7:S699,\"該当２\"))","v":""},"","",{"$f":"IF(V699=\"\",\"\",COUNTIF($V$7:V699,\"該当３\"))","v":""}]
[820701010,8,{"v":207,"d":"207 "},{"v":1,"d":"01 "},{"v":10,"d":"010 "},"茨城県","結城市","結城町","新福寺、大橋町",null,"","",{"$f":"IF(K700=\"\",\"\",COUNTIF($K$7:K700,\"ﾘｽﾄ１\"))","v":""},"","","","","","","",{"$f":"IF(S700=\"\",\"\",COUNTIF($S$7:S700,\"該当２\"))","v":""},"","",{"$f":"IF(V700=\"\",\"\",COUNTIF($V$7:V700,\"該当３\"))","v":""}]
[820701011,8,{"v":207,"d":"207 "},{"v":1,"d":"01 "},{"v":11,"d":"011 "},"茨城県","結城市","結城町","公達、川木谷",null,"","",{"$f":"IF(K701=\"\",\"\",COUNTIF($K$7:K701,\"ﾘｽﾄ１\"))","v":""},"","","","","","","",{"$f":"IF(S701=\"\",\"\",COUNTIF($S$7:S701,\"該当２\"))","v":""},"","",{"$f":"IF(V701=\"\",\"\",COUNTIF($V$7:V701,\"該当３\"))","v":""}]
[820701012,8,{"v":207,"d":"207 "},{"v":1,"d":"01 "},{"v":12,"d":"012 "},"茨城県","結城市","結城町","繁昌塚",null,"","",{"$f":"IF(K702=\"\",\"\",COUNTIF($K$7:K702,\"ﾘｽﾄ１\"))","v":""},"","","","","","","",{"$f":"IF(S702=\"\",\"\",COUNTIF($S$7:S702,\"該当２\"))","v":""},"","",{"$f":"IF(V702=\"\",\"\",COUNTIF($V$7:V702,\"該当３\"))","v":""}]
[820701013,8,{"v":207,"d":"207 "},{"v":1,"d":"01 "},{"v":13,"d":"013 "},"茨城県","結城市","結城町","黒田、寺内",null,"","",{"$f":"IF(K703=\"\",\"\",COUNTIF($K$7:K703,\"ﾘｽﾄ１\"))","v":""},"","","","","","","",{"$f":"IF(S703=\"\",\"\",COUNTIF($S$7:S703,\"該当２\"))","v":""},"","",{"$f":"IF(V703=\"\",\"\",COUNTIF($V$7:V703,\"該当３\"))","v":""}]
[820701014,8,{"v":207,"d":"207 "},{"v":1,"d":"01 "},{"v":14,"d":"014 "},"茨城県","結城市","結城町","逆井、上の宮",null,"","",{"$f":"IF(K704=\"\",\"\",COUNTIF($K$7:K704,\"ﾘｽﾄ１\"))","v":""},"","","","","","","",{"$f":"IF(S704=\"\",\"\",COUNTIF($S$7:S704,\"該当２\"))","v":""},"","",{"$f":"IF(V704=\"\",\"\",COUNTIF($V$7:V704,\"該当３\"))","v":""}]
[820701015,8,{"v":207,"d":"207 "},{"v":1,"d":"01 "},{"v":15,"d":"015 "},"茨城県","結城市","結城町","下の宮",null,"","",{"$f":"IF(K705=\"\",\"\",COUNTIF($K$7:K705,\"ﾘｽﾄ１\"))","v":""},"","","","","","","",{"$f":"IF(S705=\"\",\"\",COUNTIF($S$7:S705,\"該当２\"))","v":""},"","",{"$f":"IF(V705=\"\",\"\",COUNTIF($V$7:V705,\"該当３\"))","v":""}]
[820701016,8,{"v":207,"d":"207 "},{"v":1,"d":"01 "},{"v":16,"d":"016 "},"茨城県","結城市","結城町","猿内",null,"","",{"$f":"IF(K706=\"\",\"\",COUNTIF($K$7:K706,\"ﾘｽﾄ１\"))","v":""},"","","","","","","",{"$f":"IF(S706=\"\",\"\",COUNTIF($S$7:S706,\"該当２\"))","v":""},"","",{"$f":"IF(V706=\"\",\"\",COUNTIF($V$7:V706,\"該当３\"))","v":""}]
[820701017,8,{"v":207,"d":"207 "},{"v":1,"d":"01 "},{"v":17,"d":"017 "},"茨城県","結城市","結城町","古新田",null,"","",{"$f":"IF(K707=\"\",\"\",COUNTIF($K$7:K707,\"ﾘｽﾄ１\"))","v":""},"","","","","","","",{"$f":"IF(S707=\"\",\"\",COUNTIF($S$7:S707,\"該当２\"))","v":""},"","",{"$f":"IF(V707=\"\",\"\",COUNTIF($V$7:V707,\"該当３\"))","v":""}]
[820701018,8,{"v":207,"d":"207 "},{"v":1,"d":"01 "},{"v":18,"d":"018 "},"茨城県","結城市","結城町","本田、上海道",null,"","",{"$f":"IF(K708=\"\",\"\",COUNTIF($K$7:K708,\"ﾘｽﾄ１\"))","v":""},"","","","","","","",{"$f":"IF(S708=\"\",\"\",COUNTIF($S$7:S708,\"該当２\"))","v":""},"","",{"$f":"IF(V708=\"\",\"\",COUNTIF($V$7:V708,\"該当３\"))","v":""}]
[820701019,8,{"v":207,"d":"207 "},{"v":1,"d":"01 "},{"v":19,"d":"019 "},"茨城県","結城市","結城町","松木合、四ツ京",null,"","",{"$f":"IF(K709=\"\",\"\",COUNTIF($K$7:K709,\"ﾘｽﾄ１\"))","v":""},"","","","","","","",{"$f":"IF(S709=\"\",\"\",COUNTIF($S$7:S709,\"該当２\"))","v":""},"","",{"$f":"IF(V709=\"\",\"\",COUNTIF($V$7:V709,\"該当３\"))","v":""}]
[820701020,8,{"v":207,"d":"207 "},{"v":1,"d":"01 "},{"v":20,"d":"020 "},"茨城県","結城市","結城町","五助",null,"","",{"$f":"IF(K710=\"\",\"\",COUNTIF($K$7:K710,\"ﾘｽﾄ１\"))","v":""},"","","","","","","",{"$f":"IF(S710=\"\",\"\",COUNTIF($S$7:S710,\"該当２\"))","v":""},"","",{"$f":"IF(V710=\"\",\"\",COUNTIF($V$7:V710,\"該当３\"))","v":""}]
[820701021,8,{"v":207,"d":"207 "},{"v":1,"d":"01 "},{"v":21,"d":"021 "},"茨城県","結城市","結城町","三ツ谷、本田、大谷瀬",null,"","",{"$f":"IF(K711=\"\",\"\",COUNTIF($K$7:K711,\"ﾘｽﾄ１\"))","v":""},"","","","","","","",{"$f":"IF(S711=\"\",\"\",COUNTIF($S$7:S711,\"該当２\"))","v":""},"","",{"$f":"IF(V711=\"\",\"\",COUNTIF($V$7:V711,\"該当３\"))","v":""}]
[820701022,8,{"v":207,"d":"207 "},{"v":1,"d":"01 "},{"v":22,"d":"022 "},"茨城県","結城市","結城町","通り大谷瀬",null,"","",{"$f":"IF(K712=\"\",\"\",COUNTIF($K$7:K712,\"ﾘｽﾄ１\"))","v":""},"","","","","","","",{"$f":"IF(S712=\"\",\"\",COUNTIF($S$7:S712,\"該当２\"))","v":""},"","",{"$f":"IF(V712=\"\",\"\",COUNTIF($V$7:V712,\"該当３\"))","v":""}]
[820701023,8,{"v":207,"d":"207 "},{"v":1,"d":"01 "},{"v":23,"d":"023 "},"茨城県","結城市","結城町","作の谷",null,"","",{"$f":"IF(K713=\"\",\"\",COUNTIF($K$7:K713,\"ﾘｽﾄ１\"))","v":""},"","","","","","","",{"$f":"IF(S713=\"\",\"\",COUNTIF($S$7:S713,\"該当２\"))","v":""},"","",{"$f":"IF(V713=\"\",\"\",COUNTIF($V$7:V713,\"該当３\"))","v":""}]
[820701024,8,{"v":207,"d":"207 "},{"v":1,"d":"01 "},{"v":24,"d":"024 "},"茨城県","結城市","結城町","塔の下",null,"","",{"$f":"IF(K714=\"\",\"\",COUNTIF($K$7:K714,\"ﾘｽﾄ１\"))","v":""},"","",{"$f":"IF(O714=\"該当１\",G714,\"\")","v":""},{"$f":"IF(O714=\"該当１\",\"ﾘｽﾄ2\",\"\")","v":""},{"$f":"IF(Q714=\"ﾘｽﾄ2\",H714,\"\")","v":""},"",{"$f":"IF(S714=\"該当２\",H714,\"\")","v":""},{"$f":"IF(S714=\"\",\"\",COUNTIF($S$7:S714,\"該当２\"))","v":""},{"$f":"IF(AND($S$2=H714,E714>0,E714<998),\"該当３\",\"\")","v":""},{"$f":"IF(V714=\"該当３\",I714,\"\")","v":""},{"$f":"IF(V714=\"\",\"\",COUNTIF($V$7:V714,\"該当３\"))","v":""}]
[820701025,8,{"v":207,"d":"207 "},{"v":1,"d":"01 "},{"v":25,"d":"025 "},"茨城県","結城市","結城町","栄町",null,{"$f":"IF(AND($C715>0,$H715=\"\"),\"ﾘｽﾄ１\",\"\")","v":""},{"$f":"IF(K715=\"ﾘｽﾄ１\",G715,\"\")","v":""},{"$f":"IF(K715=\"\",\"\",COUNTIF($K$7:K715,\"ﾘｽﾄ１\"))","v":""},{"$f":"IF(AND(D715=0,E715>0),\"同一区\",\"\")","v":""},{"$f":"IF(AND(EXACT($K$2,G715),H715>0),\"該当１\",\"\")","v":""},"","","",{"$f":"IF(AND(Q715=\"ﾘｽﾄ2\",OR(I715=0,AND(N715=\"同一区\",E715=1))),\"該当２\",\"\")","v":""},"",{"$f":"IF(S715=\"\",\"\",COUNTIF($S$7:S715,\"該当２\"))","v":""},"","",{"$f":"IF(V715=\"\",\"\",COUNTIF($V$7:V715,\"該当３\"))","v":""}]
[820702000,8,{"v":207,"d":"207 "},{"v":2,"d":"02 "},{"v":0,"d":"000 "},"茨城県","結城市","絹川村",null,null,"","",{"$f":"IF(K716=\"\",\"\",COUNTIF($K$7:K716,\"ﾘｽﾄ１\"))","v":""},"","","","","","","",{"$f":"IF(S716=\"\",\"\",COUNTIF($S$7:S716,\"該当２\"))","v":""},"","",{"$f":"IF(V716=\"\",\"\",COUNTIF($V$7:V716,\"該当３\"))","v":""}]
[820702001,8,{"v":207,"d":"207 "},{"v":2,"d":"02 "},{"v":1,"d":"001 "},"茨城県","結城市","絹川村","小森上",null,"","",{"$f":"IF(K717=\"\",\"\",COUNTIF($K$7:K717,\"ﾘｽﾄ１\"))","v":""},"","","","","","","",{"$f":"IF(S717=\"\",\"\",COUNTIF($S$7:S717,\"該当２\"))","v":""},"","",{"$f":"IF(V717=\"\",\"\",COUNTIF($V$7:V717,\"該当３\"))","v":""}]
[820702002,8,{"v":207,"d":"207 "},{"v":2,"d":"02 "},{"v":2,"d":"002 "},"茨城県","結城市","絹川村","小森中",null,"","",{"$f":"IF(K718=\"\",\"\",COUNTIF($K$7:K718,\"ﾘｽﾄ１\"))","v":""},"","","","","","","",{"$f":"IF(S718=\"\",\"\",COUNTIF($S$7:S718,\"該当２\"))","v":""},"","",{"$f":"IF(V718=\"\",\"\",COUNTIF($V$7:V718,\"該当３\"))","v":""}]
[820702003,8,{"v":207,"d":"207 "},{"v":2,"d":"02 "},{"v":3,"d":"003 "},"茨城県","結城市","絹川村","小森下",null,"","",{"$f":"IF(K719=\"\",\"\",COUNTIF($K$7:K719,\"ﾘｽﾄ１\"))","v":""},"","","","","","","",{"$f":"IF(S719=\"\",\"\",COUNTIF($S$7:S719,\"該当２\"))","v":""},"","",{"$f":"IF(V719=\"\",\"\",COUNTIF($V$7:V719,\"該当３\"))","v":""}]
[820702004,8,{"v":207,"d":"207 "},{"v":2,"d":"02 "},{"v":4,"d":"004 "},"茨城県","結城市","絹川村","久保田",null,"","",{"$f":"IF(K720=\"\",\"\",COUNTIF($K$7:K720,\"ﾘｽﾄ１\"))","v":""},"","","","","","","",{"$f":"IF(S720=\"\",\"\",COUNTIF($S$7:S720,\"該当２\"))","v":""},"","",{"$f":"IF(V720=\"\",\"\",COUNTIF($V$7:V720,\"該当３\"))","v":""}]
[820702005,8,{"v":207,"d":"207 "},{"v":2,"d":"02 "},{"v":5,"d":"005 "},"茨城県","結城市","絹川村","中東",null,"","",{"$f":"IF(K721=\"\",\"\",COUNTIF($K$7:K721,\"ﾘｽﾄ１\"))","v":""},"","","","","","","",{"$f":"IF(S721=\"\",\"\",COUNTIF($S$7:S721,\"該当２\"))","v":""},"","",{"$f":"IF(V721=\"\",\"\",COUNTIF($V$7:V721,\"該当３\"))","v":""}]
[820702006,8,{"v":207,"d":"207 "},{"v":2,"d":"02 "},{"v":6,"d":"006 "},"茨城県","結城市","絹川村","中西",null,"","",{"$f":"IF(K722=\"\",\"\",COUNTIF($K$7:K722,\"ﾘｽﾄ１\"))","v":""},"","","","","","","",{"$f":"IF(S722=\"\",\"\",COUNTIF($S$7:S722,\"該当２\"))","v":""},"","",{"$f":"IF(V722=\"\",\"\",COUNTIF($V$7:V722,\"該当３\"))","v":""}]
[820702007,8,{"v":207,"d":"207 "},{"v":2,"d":"02 "},{"v":7,"d":"007 "},"茨城県","結城市","絹川村","泉",null,"","",{"$f":"IF(K723=\"\",\"\",COUNTIF($K$7:K723,\"ﾘｽﾄ１\"))","v":""},"","","","","","","",{"$f":"IF(S723=\"\",\"\",COUNTIF($S$7:S723,\"該当２\"))","v":""},"","",{"$f":"IF(V723=\"\",\"\",COUNTIF($V$7:V723,\"該当３\"))","v":""}]
[820702008,8,{"v":207,"d":"207 "},{"v":2,"d":"02 "},{"v":8,"d":"008 "},"茨城県","結城市","絹川村","宮崎",null,"","",{"$f":"IF(K724=\"\",\"\",COUNTIF($K$7:K724,\"ﾘｽﾄ１\"))","v":""},"","","","","","","",{"$f":"IF(S724=\"\",\"\",COUNTIF($S$7:S724,\"該当２\"))","v":""},"","",{"$f":"IF(V724=\"\",\"\",COUNTIF($V$7:V724,\"該当３\"))","v":""}]
[820702009,8,{"v":207,"d":"207 "},{"v":2,"d":"02 "},{"v":9,"d":"009 "},"茨城県","結城市","絹川村","林",null,"","",{"$f":"IF(K725=\"\",\"\",COUNTIF($K$7:K725,\"ﾘｽﾄ１\"))","v":""},"","","","","","","",{"$f":"IF(S725=\"\",\"\",COUNTIF($S$7:S725,\"該当２\"))","v":""},"","",{"$f":"IF(V725=\"\",\"\",COUNTIF($V$7:V725,\"該当３\"))","v":""}]
[820702010,8,{"v":207,"d":"207 "},{"v":2,"d":"02 "},{"v":10,"d":"010 "},"茨城県","結城市","絹川村","鹿窪東南",null,"","",{"$f":"IF(K726=\"\",\"\",COUNTIF($K$7:K726,\"ﾘｽﾄ１\"))","v":""},"","","","","","","",{"$f":"IF(S726=\"\",\"\",COUNTIF($S$7:S726,\"該当２\"))","v":""},"","",{"$f":"IF(V726=\"\",\"\",COUNTIF($V$7:V726,\"該当３\"))","v":""}]
[820702011,8,{"v":207,"d":"207 "},{"v":2,"d":"02 "},{"v":11,"d":"011 "},"茨城県","結城市","絹川村","鹿窪北西",null,"","",{"$f":"IF(K727=\"\",\"\",COUNTIF($K$7:K727,\"ﾘｽﾄ１\"))","v":""},"","","","","","","",{"$f":"IF(S727=\"\",\"\",COUNTIF($S$7:S727,\"該当２\"))","v":""},"","",{"$f":"IF(V727=\"\",\"\",COUNTIF($V$7:V727,\"該当３\"))","v":""}]
[820703000,8,{"v":207,"d":"207 "},{"v":3,"d":"03 "},{"v":0,"d":"000 "},"茨城県","結城市","上山川村",null,null,"","",{"$f":"IF(K728=\"\",\"\",COUNTIF($K$7:K728,\"ﾘｽﾄ１\"))","v":""},"","","","","","","",{"$f":"IF(S728=\"\",\"\",COUNTIF($S$7:S728,\"該当２\"))","v":""},"","",{"$f":"IF(V728=\"\",\"\",COUNTIF($V$7:V728,\"該当３\"))","v":""}]
[820703001,8,{"v":207,"d":"207 "},{"v":3,"d":"03 "},{"v":1,"d":"001 "},"茨城県","結城市","上山川村","片蓋",null,"","",{"$f":"IF(K729=\"\",\"\",COUNTIF($K$7:K729,\"ﾘｽﾄ１\"))","v":""},"","","","","","","",{"$f":"IF(S729=\"\",\"\",COUNTIF($S$7:S729,\"該当２\"))","v":""},"","",{"$f":"IF(V729=\"\",\"\",COUNTIF($V$7:V729,\"該当３\"))","v":""}]
[820703002,8,{"v":207,"d":"207 "},{"v":3,"d":"03 "},{"v":2,"d":"002 "},"茨城県","結城市","上山川村","皿窪",null,"","",{"$f":"IF(K730=\"\",\"\",COUNTIF($K$7:K730,\"ﾘｽﾄ１\"))","v":""},"","","","","","","",{"$f":"IF(S730=\"\",\"\",COUNTIF($S$7:S730,\"該当２\"))","v":""},"","",{"$f":"IF(V730=\"\",\"\",COUNTIF($V$7:V730,\"該当３\"))","v":""}]
[820703003,8,{"v":207,"d":"207 "},{"v":3,"d":"03 "},{"v":3,"d":"003 "},"茨城県","結城市","上山川村","北坪",null,"","",{"$f":"IF(K731=\"\",\"\",COUNTIF($K$7:K731,\"ﾘｽﾄ１\"))","v":""},"","","","","","","",{"$f":"IF(S731=\"\",\"\",COUNTIF($S$7:S731,\"該当２\"))","v":""},"","",{"$f":"IF(V731=\"\",\"\",COUNTIF($V$7:V731,\"該当３\"))","v":""}]
[820703004,8,{"v":207,"d":"207 "},{"v":3,"d":"03 "},{"v":4,"d":"004 "},"茨城県","結城市","上山川村","矢畑",null,"","",{"$f":"IF(K732=\"\",\"\",COUNTIF($K$7:K732,\"ﾘｽﾄ１\"))","v":""},"","","","","","","",{"$f":"IF(S732=\"\",\"\",COUNTIF($S$7:S732,\"該当２\"))","v":""},"","",{"$f":"IF(V732=\"\",\"\",COUNTIF($V$7:V732,\"該当３\"))","v":""}]
[820703005,8,{"v":207,"d":"207 "},{"v":3,"d":"03 "},{"v":5,"d":"005 "},"茨城県","結城市","上山川村","中坪、瓦塚",null,"","",{"$f":"IF(K733=\"\",\"\",COUNTIF($K$7:K733,\"ﾘｽﾄ１\"))","v":""},"","","","","","","",{"$f":"IF(S733=\"\",\"\",COUNTIF($S$7:S733,\"該当２\"))","v":""},"","",{"$f":"IF(V733=\"\",\"\",COUNTIF($V$7:V733,\"該当３\"))","v":""}]
[820703006,8,{"v":207,"d":"207 "},{"v":3,"d":"03 "},{"v":6,"d":"006 "},"茨城県","結城市","上山川村","東坪、古山",null,"","",{"$f":"IF(K734=\"\",\"\",COUNTIF($K$7:K734,\"ﾘｽﾄ１\"))","v":""},"","","","","","","",{"$f":"IF(S734=\"\",\"\",COUNTIF($S$7:S734,\"該当２\"))","v":""},"","",{"$f":"IF(V734=\"\",\"\",COUNTIF($V$7:V734,\"該当３\"))","v":""}]
[820703007,8,{"v":207,"d":"207 "},{"v":3,"d":"03 "},{"v":7,"d":"007 "},"茨城県","結城市","上山川村","我里内、平間",null,"","",{"$f":"IF(K735=\"\",\"\",COUNTIF($K$7:K735,\"ﾘｽﾄ１\"))","v":""},"","","","","","","",{"$f":"IF(S735=\"\",\"\",COUNTIF($S$7:S735,\"該当２\"))","v":""},"","",{"$f":"IF(V735=\"\",\"\",COUNTIF($V$7:V735,\"該当３\"))","v":""}]
[820703008,8,{"v":207,"d":"207 "},{"v":3,"d":"03 "},{"v":8,"d":"008 "},"茨城県","結城市","上山川村","馬場、追立",null,"","",{"$f":"IF(K736=\"\",\"\",COUNTIF($K$7:K736,\"ﾘｽﾄ１\"))","v":""},"","","","","","","",{"$f":"IF(S736=\"\",\"\",COUNTIF($S$7:S736,\"該当２\"))","v":""},"","",{"$f":"IF(V736=\"\",\"\",COUNTIF($V$7:V736,\"該当３\"))","v":""}]
[820703009,8,{"v":207,"d":"207 "},{"v":3,"d":"03 "},{"v":9,"d":"009 "},"茨城県","結城市","上山川村","河岸",null,"","",{"$f":"IF(K737=\"\",\"\",COUNTIF($K$7:K737,\"ﾘｽﾄ１\"))","v":""},"","","","","","","",{"$f":"IF(S737=\"\",\"\",COUNTIF($S$7:S737,\"該当２\"))","v":""},"","",{"$f":"IF(V737=\"\",\"\",COUNTIF($V$7:V737,\"該当３\"))","v":""}]
[820703010,8,{"v":207,"d":"207 "},{"v":3,"d":"03 "},{"v":10,"d":"010 "},"茨城県","結城市","上山川村","南宿",null,"","",{"$f":"IF(K738=\"\",\"\",COUNTIF($K$7:K738,\"ﾘｽﾄ１\"))","v":""},"","","","","","","",{"$f":"IF(S738=\"\",\"\",COUNTIF($S$7:S738,\"該当２\"))","v":""},"","",{"$f":"IF(V738=\"\",\"\",COUNTIF($V$7:V738,\"該当３\"))","v":""}]
[820703011,8,{"v":207,"d":"207 "},{"v":3,"d":"03 "},{"v":11,"d":"011 "},"茨城県","結城市","上山川村","前法内",null,"","",{"$f":"IF(K739=\"\",\"\",COUNTIF($K$7:K739,\"ﾘｽﾄ１\"))","v":""},"","","","","","","",{"$f":"IF(S739=\"\",\"\",COUNTIF($S$7:S739,\"該当２\"))","v":""},"","",{"$f":"IF(V739=\"\",\"\",COUNTIF($V$7:V739,\"該当３\"))","v":""}]
[820703012,8,{"v":207,"d":"207 "},{"v":3,"d":"03 "},{"v":12,"d":"012 "},"茨城県","結城市","上山川村","芝崎",null,"","",{"$f":"IF(K740=\"\",\"\",COUNTIF($K$7:K740,\"ﾘｽﾄ１\"))","v":""},"","","","","","","",{"$f":"IF(S740=\"\",\"\",COUNTIF($S$7:S740,\"該当２\"))","v":""},"","",{"$f":"IF(V740=\"\",\"\",COUNTIF($V$7:V740,\"該当３\"))","v":""}]
[820704000,8,{"v":207,"d":"207 "},{"v":4,"d":"04 "},{"v":0,"d":"000 "},"茨城県","結城市","山川村",null,null,"","",{"$f":"IF(K741=\"\",\"\",COUNTIF($K$7:K741,\"ﾘｽﾄ１\"))","v":""},"","","","","","","",{"$f":"IF(S741=\"\",\"\",COUNTIF($S$7:S741,\"該当２\"))","v":""},"","",{"$f":"IF(V741=\"\",\"\",COUNTIF($V$7:V741,\"該当３\"))","v":""}]
[820704001,8,{"v":207,"d":"207 "},{"v":4,"d":"04 "},{"v":1,"d":"001 "},"茨城県","結城市","山川村","山王上下",null,"","",{"$f":"IF(K742=\"\",\"\",COUNTIF($K$7:K742,\"ﾘｽﾄ１\"))","v":""},"","","","","","","",{"$f":"IF(S742=\"\",\"\",COUNTIF($S$7:S742,\"該当２\"))","v":""},"","",{"$f":"IF(V742=\"\",\"\",COUNTIF($V$7:V742,\"該当３\"))","v":""}]
[820704002,8,{"v":207,"d":"207 "},{"v":4,"d":"04 "},{"v":2,"d":"002 "},"茨城県","結城市","山川村","水海道",null,"","",{"$f":"IF(K743=\"\",\"\",COUNTIF($K$7:K743,\"ﾘｽﾄ１\"))","v":""},"","","","","","","",{"$f":"IF(S743=\"\",\"\",COUNTIF($S$7:S743,\"該当２\"))","v":""},"","",{"$f":"IF(V743=\"\",\"\",COUNTIF($V$7:V743,\"該当３\"))","v":""}]
[820704003,8,{"v":207,"d":"207 "},{"v":4,"d":"04 "},{"v":3,"d":"003 "},"茨城県","結城市","山川村","浜野辺",null,"","",{"$f":"IF(K744=\"\",\"\",COUNTIF($K$7:K744,\"ﾘｽﾄ１\"))","v":""},"","","","","","","",{"$f":"IF(S744=\"\",\"\",COUNTIF($S$7:S744,\"該当２\"))","v":""},"","",{"$f":"IF(V744=\"\",\"\",COUNTIF($V$7:V744,\"該当３\"))","v":""}]
[820704004,8,{"v":207,"d":"207 "},{"v":4,"d":"04 "},{"v":4,"d":"004 "},"茨城県","結城市","山川村","芳賀崎１",null,"","",{"$f":"IF(K745=\"\",\"\",COUNTIF($K$7:K745,\"ﾘｽﾄ１\"))","v":""},"","","","","","","",{"$f":"IF(S745=\"\",\"\",COUNTIF($S$7:S745,\"該当２\"))","v":""},"","",{"$f":"IF(V745=\"\",\"\",COUNTIF($V$7:V745,\"該当３\"))","v":""}]
[820704005,8,{"v":207,"d":"207 "},{"v":4,"d":"04 "},{"v":5,"d":"005 "},"茨城県","結城市","山川村","芳賀崎２",null,"","",{"$f":"IF(K746=\"\",\"\",COUNTIF($K$7:K746,\"ﾘｽﾄ１\"))","v":""},"","","","","","","",{"$f":"IF(S746=\"\",\"\",COUNTIF($S$7:S746,\"該当２\"))","v":""},"","",{"$f":"IF(V746=\"\",\"\",COUNTIF($V$7:V746,\"該当３\"))","v":""}]
[820704006,8,{"v":207,"d":"207 "},{"v":4,"d":"04 "},{"v":6,"d":"006 "},"茨城県","結城市","山川村","粕礼東",null,"","",{"$f":"IF(K747=\"\",\"\",COUNTIF($K$7:K747,\"ﾘｽﾄ１\"))","v":""},"","","","","","","",{"$f":"IF(S747=\"\",\"\",COUNTIF($S$7:S747,\"該当２\"))","v":""},"","",{"$f":"IF(V747=\"\",\"\",COUNTIF($V$7:V747,\"該当３\"))","v":""}]
[820704007,8,{"v":207,"d":"207 "},{"v":4,"d":"04 "},{"v":7,"d":"007 "},"茨城県","結城市","山川村","粕礼西",null,"","",{"$f":"IF(K748=\"\",\"\",COUNTIF($K$7:K748,\"ﾘｽﾄ１\"))","v":""},"","","","","","","",{"$f":"IF(S748=\"\",\"\",COUNTIF($S$7:S748,\"該当２\"))","v":""},"","",{"$f":"IF(V748=\"\",\"\",COUNTIF($V$7:V748,\"該当３\"))","v":""}]
[820704008,8,{"v":207,"d":"207 "},{"v":4,"d":"04 "},{"v":8,"d":"008 "},"茨城県","結城市","山川村","今宿南",null,"","",{"$f":"IF(K749=\"\",\"\",COUNTIF($K$7:K749,\"ﾘｽﾄ１\"))","v":""},"","","","","","","",{"$f":"IF(S749=\"\",\"\",COUNTIF($S$7:S749,\"該当２\"))","v":""},"","",{"$f":"IF(V749=\"\",\"\",COUNTIF($V$7:V749,\"該当３\"))","v":""}]
[820704009,8,{"v":207,"d":"207 "},{"v":4,"d":"04 "},{"v":9,"d":"009 "},"茨城県","結城市","山川村","今宿並木",null,"","",{"$f":"IF(K750=\"\",\"\",COUNTIF($K$7:K750,\"ﾘｽﾄ１\"))","v":""},"","","","","","","",{"$f":"IF(S750=\"\",\"\",COUNTIF($S$7:S750,\"該当２\"))","v":""},"","",{"$f":"IF(V750=\"\",\"\",COUNTIF($V$7:V750,\"該当３\"))","v":""}]
[820704010,8,{"v":207,"d":"207 "},{"v":4,"d":"04 "},{"v":10,"d":"010 "},"茨城県","結城市","山川村","古宿新田",null,"","",{"$f":"IF(K751=\"\",\"\",COUNTIF($K$7:K751,\"ﾘｽﾄ１\"))","v":""},"","","","","","","",{"$f":"IF(S751=\"\",\"\",COUNTIF($S$7:S751,\"該当２\"))","v":""},"","",{"$f":"IF(V751=\"\",\"\",COUNTIF($V$7:V751,\"該当３\"))","v":""}]
[820704011,8,{"v":207,"d":"207 "},{"v":4,"d":"04 "},{"v":11,"d":"011 "},"茨城県","結城市","山川村","門前",null,"","",{"$f":"IF(K752=\"\",\"\",COUNTIF($K$7:K752,\"ﾘｽﾄ１\"))","v":""},"","","","","","","",{"$f":"IF(S752=\"\",\"\",COUNTIF($S$7:S752,\"該当２\"))","v":""},"","",{"$f":"IF(V752=\"\",\"\",COUNTIF($V$7:V752,\"該当３\"))","v":""}]
[820704012,8,{"v":207,"d":"207 "},{"v":4,"d":"04 "},{"v":12,"d":"012 "},"茨城県","結城市","山川村","代の下",null,"","",{"$f":"IF(K753=\"\",\"\",COUNTIF($K$7:K753,\"ﾘｽﾄ１\"))","v":""},"","","","","","","",{"$f":"IF(S753=\"\",\"\",COUNTIF($S$7:S753,\"該当２\"))","v":""},"","",{"$f":"IF(V753=\"\",\"\",COUNTIF($V$7:V753,\"該当３\"))","v":""}]
[820704013,8,{"v":207,"d":"207 "},{"v":4,"d":"04 "},{"v":13,"d":"013 "},"茨城県","結城市","山川村","荒宿",null,"","",{"$f":"IF(K754=\"\",\"\",COUNTIF($K$7:K754,\"ﾘｽﾄ１\"))","v":""},"","","","","","","",{"$f":"IF(S754=\"\",\"\",COUNTIF($S$7:S754,\"該当２\"))","v":""},"","",{"$f":"IF(V754=\"\",\"\",COUNTIF($V$7:V754,\"該当３\"))","v":""}]
[820704014,8,{"v":207,"d":"207 "},{"v":4,"d":"04 "},{"v":14,"d":"014 "},"茨城県","結城市","山川村","辻道",null,"","",{"$f":"IF(K755=\"\",\"\",COUNTIF($K$7:K755,\"ﾘｽﾄ１\"))","v":""},"","","","","","","",{"$f":"IF(S755=\"\",\"\",COUNTIF($S$7:S755,\"該当２\"))","v":""},"","",{"$f":"IF(V755=\"\",\"\",COUNTIF($V$7:V755,\"該当３\"))","v":""}]
[820704015,8,{"v":207,"d":"207 "},{"v":4,"d":"04 "},{"v":15,"d":"015 "},"茨城県","結城市","山川村","陣場",null,"","",{"$f":"IF(K756=\"\",\"\",COUNTIF($K$7:K756,\"ﾘｽﾄ１\"))","v":""},"","","","","","","",{"$f":"IF(S756=\"\",\"\",COUNTIF($S$7:S756,\"該当２\"))","v":""},"","",{"$f":"IF(V756=\"\",\"\",COUNTIF($V$7:V756,\"該当３\"))","v":""}]
[820704016,8,{"v":207,"d":"207 "},{"v":4,"d":"04 "},{"v":16,"d":"016 "},"茨城県","結城市","山川村","新宿新田東",null,"","",{"$f":"IF(K757=\"\",\"\",COUNTIF($K$7:K757,\"ﾘｽﾄ１\"))","v":""},"","","","","","","",{"$f":"IF(S757=\"\",\"\",COUNTIF($S$7:S757,\"該当２\"))","v":""},"","",{"$f":"IF(V757=\"\",\"\",COUNTIF($V$7:V757,\"該当３\"))","v":""}]
[820704017,8,{"v":207,"d":"207 "},{"v":4,"d":"04 "},{"v":17,"d":"017 "},"茨城県","結城市","山川村","新宿新田西",null,"","",{"$f":"IF(K758=\"\",\"\",COUNTIF($K$7:K758,\"ﾘｽﾄ１\"))","v":""},"","","","","","","",{"$f":"IF(S758=\"\",\"\",COUNTIF($S$7:S758,\"該当２\"))","v":""},"","",{"$f":"IF(V758=\"\",\"\",COUNTIF($V$7:V758,\"該当３\"))","v":""}]
[820705000,8,{"v":207,"d":"207 "},{"v":5,"d":"05 "},{"v":0,"d":"000 "},"茨城県","結城市","江川村",null,null,"","",{"$f":"IF(K759=\"\",\"\",COUNTIF($K$7:K759,\"ﾘｽﾄ１\"))","v":""},"","","","","","","",{"$f":"IF(S759=\"\",\"\",COUNTIF($S$7:S759,\"該当２\"))","v":""},"","",{"$f":"IF(V759=\"\",\"\",COUNTIF($V$7:V759,\"該当３\"))","v":""}]
[820705001,8,{"v":207,"d":"207 "},{"v":5,"d":"05 "},{"v":1,"d":"001 "},"茨城県","結城市","江川村","上成",null,"","",{"$f":"IF(K760=\"\",\"\",COUNTIF($K$7:K760,\"ﾘｽﾄ１\"))","v":""},"","","","","","","",{"$f":"IF(S760=\"\",\"\",COUNTIF($S$7:S760,\"該当２\"))","v":""},"","",{"$f":"IF(V760=\"\",\"\",COUNTIF($V$7:V760,\"該当３\"))","v":""}]
[820705002,8,{"v":207,"d":"207 "},{"v":5,"d":"05 "},{"v":2,"d":"002 "},"茨城県","結城市","江川村","田間上",null,"","",{"$f":"IF(K761=\"\",\"\",COUNTIF($K$7:K761,\"ﾘｽﾄ１\"))","v":""},"","","","","","","",{"$f":"IF(S761=\"\",\"\",COUNTIF($S$7:S761,\"該当２\"))","v":""},"","",{"$f":"IF(V761=\"\",\"\",COUNTIF($V$7:V761,\"該当３\"))","v":""}]
[820705003,8,{"v":207,"d":"207 "},{"v":5,"d":"05 "},{"v":3,"d":"003 "},"茨城県","結城市","江川村","田間中",null,"","",{"$f":"IF(K762=\"\",\"\",COUNTIF($K$7:K762,\"ﾘｽﾄ１\"))","v":""},"","","","","","","",{"$f":"IF(S762=\"\",\"\",COUNTIF($S$7:S762,\"該当２\"))","v":""},"","",{"$f":"IF(V762=\"\",\"\",COUNTIF($V$7:V762,\"該当３\"))","v":""}]
[820705004,8,{"v":207,"d":"207 "},{"v":5,"d":"05 "},{"v":4,"d":"004 "},"茨城県","結城市","江川村","田間下",null,"","",{"$f":"IF(K763=\"\",\"\",COUNTIF($K$7:K763,\"ﾘｽﾄ１\"))","v":""},"","","","","","","",{"$f":"IF(S763=\"\",\"\",COUNTIF($S$7:S763,\"該当２\"))","v":""},"","",{"$f":"IF(V763=\"\",\"\",COUNTIF($V$7:V763,\"該当３\"))","v":""}]
[820705005,8,{"v":207,"d":"207 "},{"v":5,"d":"05 "},{"v":5,"d":"005 "},"茨城県","結城市","江川村","武井上",null,"","",{"$f":"IF(K764=\"\",\"\",COUNTIF($K$7:K764,\"ﾘｽﾄ１\"))","v":""},"","","","","","","",{"$f":"IF(S764=\"\",\"\",COUNTIF($S$7:S764,\"該当２\"))","v":""},"","",{"$f":"IF(V764=\"\",\"\",COUNTIF($V$7:V764,\"該当３\"))","v":""}]
[820705006,8,{"v":207,"d":"207 "},{"v":5,"d":"05 "},{"v":6,"d":"006 "},"茨城県","結城市","江川村","武井下",null,"","",{"$f":"IF(K765=\"\",\"\",COUNTIF($K$7:K765,\"ﾘｽﾄ１\"))","v":""},"","","","","","","",{"$f":"IF(S765=\"\",\"\",COUNTIF($S$7:S765,\"該当２\"))","v":""},"","",{"$f":"IF(V765=\"\",\"\",COUNTIF($V$7:V765,\"該当３\"))","v":""}]
[820705007,8,{"v":207,"d":"207 "},{"v":5,"d":"05 "},{"v":7,"d":"007 "},"茨城県","結城市","江川村","武井南",null,"","",{"$f":"IF(K766=\"\",\"\",COUNTIF($K$7:K766,\"ﾘｽﾄ１\"))","v":""},"","","","","","","",{"$f":"IF(S766=\"\",\"\",COUNTIF($S$7:S766,\"該当２\"))","v":""},"","",{"$f":"IF(V766=\"\",\"\",COUNTIF($V$7:V766,\"該当３\"))","v":""}]
[820705008,8,{"v":207,"d":"207 "},{"v":5,"d":"05 "},{"v":8,"d":"008 "},"茨城県","結城市","江川村","大戦防",null,"","",{"$f":"IF(K767=\"\",\"\",COUNTIF($K$7:K767,\"ﾘｽﾄ１\"))","v":""},"","","","","","","",{"$f":"IF(S767=\"\",\"\",COUNTIF($S$7:S767,\"該当２\"))","v":""},"","",{"$f":"IF(V767=\"\",\"\",COUNTIF($V$7:V767,\"該当３\"))","v":""}]
[820705009,8,{"v":207,"d":"207 "},{"v":5,"d":"05 "},{"v":9,"d":"009 "},"茨城県","結城市","江川村","北茂呂",null,"","",{"$f":"IF(K768=\"\",\"\",COUNTIF($K$7:K768,\"ﾘｽﾄ１\"))","v":""},"","","","","","","",{"$f":"IF(S768=\"\",\"\",COUNTIF($S$7:S768,\"該当２\"))","v":""},"","",{"$f":"IF(V768=\"\",\"\",COUNTIF($V$7:V768,\"該当３\"))","v":""}]
[820705010,8,{"v":207,"d":"207 "},{"v":5,"d":"05 "},{"v":10,"d":"010 "},"茨城県","結城市","江川村","南茂呂",null,"","",{"$f":"IF(K769=\"\",\"\",COUNTIF($K$7:K769,\"ﾘｽﾄ１\"))","v":""},"","","","","","","",{"$f":"IF(S769=\"\",\"\",COUNTIF($S$7:S769,\"該当２\"))","v":""},"","",{"$f":"IF(V769=\"\",\"\",COUNTIF($V$7:V769,\"該当３\"))","v":""}]
[820705011,8,{"v":207,"d":"207 "},{"v":5,"d":"05 "},{"v":11,"d":"011 "},"茨城県","結城市","江川村","七五三場",null,"","",{"$f":"IF(K770=\"\",\"\",COUNTIF($K$7:K770,\"ﾘｽﾄ１\"))","v":""},"","","","","","","",{"$f":"IF(S770=\"\",\"\",COUNTIF($S$7:S770,\"該当２\"))","v":""},"","",{"$f":"IF(V770=\"\",\"\",COUNTIF($V$7:V770,\"該当３\"))","v":""}]
[820705012,8,{"v":207,"d":"207 "},{"v":5,"d":"05 "},{"v":12,"d":"012 "},"茨城県","結城市","江川村","蓮縄田",null,"","",{"$f":"IF(K771=\"\",\"\",COUNTIF($K$7:K771,\"ﾘｽﾄ１\"))","v":""},"","","","","","","",{"$f":"IF(S771=\"\",\"\",COUNTIF($S$7:S771,\"該当２\"))","v":""},"","",{"$f":"IF(V771=\"\",\"\",COUNTIF($V$7:V771,\"該当３\"))","v":""}]
[820705013,8,{"v":207,"d":"207 "},{"v":5,"d":"05 "},{"v":13,"d":"013 "},"茨城県","結城市","江川村","江川大町西",null,"","",{"$f":"IF(K772=\"\",\"\",COUNTIF($K$7:K772,\"ﾘｽﾄ１\"))","v":""},"","","","","","","",{"$f":"IF(S772=\"\",\"\",COUNTIF($S$7:S772,\"該当２\"))","v":""},"","",{"$f":"IF(V772=\"\",\"\",COUNTIF($V$7:V772,\"該当３\"))","v":""}]
[820705014,8,{"v":207,"d":"207 "},{"v":5,"d":"05 "},{"v":14,"d":"014 "},"茨城県","結城市","江川村","江川大町東",null,"","",{"$f":"IF(K773=\"\",\"\",COUNTIF($K$7:K773,\"ﾘｽﾄ１\"))","v":""},"","","","","","","",{"$f":"IF(S773=\"\",\"\",COUNTIF($S$7:S773,\"該当２\"))","v":""},"","",{"$f":"IF(V773=\"\",\"\",COUNTIF($V$7:V773,\"該当３\"))","v":""}]
[820705015,8,{"v":207,"d":"207 "},{"v":5,"d":"05 "},{"v":15,"d":"015 "},"茨城県","結城市","江川村","大木東",null,"","",{"$f":"IF(K774=\"\",\"\",COUNTIF($K$7:K774,\"ﾘｽﾄ１\"))","v":""},"","","","","","","",{"$f":"IF(S774=\"\",\"\",COUNTIF($S$7:S774,\"該当２\"))","v":""},"","",{"$f":"IF(V774=\"\",\"\",COUNTIF($V$7:V774,\"該当３\"))","v":""}]
[820705016,8,{"v":207,"d":"207 "},{"v":5,"d":"05 "},{"v":16,"d":"016 "},"茨城県","結城市","江川村","大木西",null,"","",{"$f":"IF(K775=\"\",\"\",COUNTIF($K$7:K775,\"ﾘｽﾄ１\"))","v":""},"","","","","","","",{"$f":"IF(S775=\"\",\"\",COUNTIF($S$7:S775,\"該当２\"))","v":""},"","",{"$f":"IF(V775=\"\",\"\",COUNTIF($V$7:V775,\"該当３\"))","v":""}]
[820705017,8,{"v":207,"d":"207 "},{"v":5,"d":"05 "},{"v":17,"d":"017 "},"茨城県","結城市","江川村","東茂呂",null,"","",{"$f":"IF(K776=\"\",\"\",COUNTIF($K$7:K776,\"ﾘｽﾄ１\"))","v":""},"","","","","","","",{"$f":"IF(S776=\"\",\"\",COUNTIF($S$7:S776,\"該当２\"))","v":""},"","",{"$f":"IF(V776=\"\",\"\",COUNTIF($V$7:V776,\"該当３\"))","v":""}]
[820705018,8,{"v":207,"d":"207 "},{"v":5,"d":"05 "},{"v":18,"d":"018 "},"茨城県","結城市","江川村","一ツ木、前新田",null,"","",{"$f":"IF(K777=\"\",\"\",COUNTIF($K$7:K777,\"ﾘｽﾄ１\"))","v":""},"","","","","","","",{"$f":"IF(S777=\"\",\"\",COUNTIF($S$7:S777,\"該当２\"))","v":""},"","",{"$f":"IF(V777=\"\",\"\",COUNTIF($V$7:V777,\"該当３\"))","v":""}]
[820705019,8,{"v":207,"d":"207 "},{"v":5,"d":"05 "},{"v":19,"d":"019 "},"茨城県","結城市","江川村","大木北",null,"","",{"$f":"IF(K778=\"\",\"\",COUNTIF($K$7:K778,\"ﾘｽﾄ１\"))","v":""},"","",{"$f":"IF(O778=\"該当１\",G778,\"\")","v":""},{"$f":"IF(O778=\"該当１\",\"ﾘｽﾄ2\",\"\")","v":""},{"$f":"IF(Q778=\"ﾘｽﾄ2\",H778,\"\")","v":""},"",{"$f":"IF(S778=\"該当２\",H778,\"\")","v":""},{"$f":"IF(S778=\"\",\"\",COUNTIF($S$7:S778,\"該当２\"))","v":""},{"$f":"IF(AND($S$2=H778,E778>0,E778<998),\"該当３\",\"\")","v":""},{"$f":"IF(V778=\"該当３\",I778,\"\")","v":""},{"$f":"IF(V778=\"\",\"\",COUNTIF($V$7:V778,\"該当３\"))","v":""}]
[820800000,8,{"v":208,"d":"208 "},{"v":0,"d":"00 "},{"v":0,"d":"000 "},"茨城県","龍ケ崎市",{"$nulls":3},{"$f":"IF(AND($C779>0,$H779=\"\"),\"ﾘｽﾄ１\",\"\")","v":"ﾘｽﾄ１"},{"$f":"IF(K779=\"ﾘｽﾄ１\",G779,\"\")","v":"龍ケ崎市"},{"$f":"IF(K779=\"\",\"\",COUNTIF($K$7:K779,\"ﾘｽﾄ１\"))","v":7},{"$f":"IF(AND(D779=0,E779>0),\"同一区\",\"\")","v":""},{"$f":"IF(AND(EXACT($K$2,G779),H779>0),\"該当１\",\"\")","v":""},"","","",{"$f":"IF(AND(Q779=\"ﾘｽﾄ2\",OR(I779=0,AND(N779=\"同一区\",E779=1))),\"該当２\",\"\")","v":""},"",{"$f":"IF(S779=\"\",\"\",COUNTIF($S$7:S779,\"該当２\"))","v":""},"","",{"$f":"IF(V779=\"\",\"\",COUNTIF($V$7:V779,\"該当３\"))","v":""}]
[820801000,8,{"v":208,"d":"208 "},{"v":1,"d":"01 "},{"v":0,"d":"000 "},"茨城県","龍ケ崎市","長戸村",null,null,"","",{"$f":"IF(K780=\"\",\"\",COUNTIF($K$7:K780,\"ﾘｽﾄ１\"))","v":""},"","","","","","","",{"$f":"IF(S780=\"\",\"\",COUNTIF($S$7:S780,\"該当２\"))","v":""},"","",{"$f":"IF(V780=\"\",\"\",COUNTIF($V$7:V780,\"該当３\"))","v":""}]
[820801001,8,{"v":208,"d":"208 "},{"v":1,"d":"01 "},{"v":1,"d":"001 "},"茨城県","龍ケ崎市","長戸村","長峰",null,"","",{"$f":"IF(K781=\"\",\"\",COUNTIF($K$7:K781,\"ﾘｽﾄ１\"))","v":""},"","","","","","","",{"$f":"IF(S781=\"\",\"\",COUNTIF($S$7:S781,\"該当２\"))","v":""},"","",{"$f":"IF(V781=\"\",\"\",COUNTIF($V$7:V781,\"該当３\"))","v":""}]
[820801002,8,{"v":208,"d":"208 "},{"v":1,"d":"01 "},{"v":2,"d":"002 "},"茨城県","龍ケ崎市","長戸村","半田",null,"","",{"$f":"IF(K782=\"\",\"\",COUNTIF($K$7:K782,\"ﾘｽﾄ１\"))","v":""},"","","","","","","",{"$f":"IF(S782=\"\",\"\",COUNTIF($S$7:S782,\"該当２\"))","v":""},"","",{"$f":"IF(V782=\"\",\"\",COUNTIF($V$7:V782,\"該当３\"))","v":""}]
[820801003,8,{"v":208,"d":"208 "},{"v":1,"d":"01 "},{"v":3,"d":"003 "},"茨城県","龍ケ崎市","長戸村","塗高",null,"","",{"$f":"IF(K783=\"\",\"\",COUNTIF($K$7:K783,\"ﾘｽﾄ１\"))","v":""},"","","","","","","",{"$f":"IF(S783=\"\",\"\",COUNTIF($S$7:S783,\"該当２\"))","v":""},"","",{"$f":"IF(V783=\"\",\"\",COUNTIF($V$7:V783,\"該当３\"))","v":""}]
[820801004,8,{"v":208,"d":"208 "},{"v":1,"d":"01 "},{"v":4,"d":"004 "},"茨城県","龍ケ崎市","長戸村","板橋",null,"","",{"$f":"IF(K784=\"\",\"\",COUNTIF($K$7:K784,\"ﾘｽﾄ１\"))","v":""},"","","","","","","",{"$f":"IF(S784=\"\",\"\",COUNTIF($S$7:S784,\"該当２\"))","v":""},"","",{"$f":"IF(V784=\"\",\"\",COUNTIF($V$7:V784,\"該当３\"))","v":""}]
[820801005,8,{"v":208,"d":"208 "},{"v":1,"d":"01 "},{"v":5,"d":"005 "},"茨城県","龍ケ崎市","長戸村","大塚",null,"","",{"$f":"IF(K785=\"\",\"\",COUNTIF($K$7:K785,\"ﾘｽﾄ１\"))","v":""},"","","","","","","",{"$f":"IF(S785=\"\",\"\",COUNTIF($S$7:S785,\"該当２\"))","v":""},"","",{"$f":"IF(V785=\"\",\"\",COUNTIF($V$7:V785,\"該当３\"))","v":""}]
[820802000,8,{"v":208,"d":"208 "},{"v":2,"d":"02 "},{"v":0,"d":"000 "},"茨城県","龍ケ崎市","龍ヶ崎町",null,null,"","",{"$f":"IF(K786=\"\",\"\",COUNTIF($K$7:K786,\"ﾘｽﾄ１\"))","v":""},"","","","","","","",{"$f":"IF(S786=\"\",\"\",COUNTIF($S$7:S786,\"該当２\"))","v":""},"","",{"$f":"IF(V786=\"\",\"\",COUNTIF($V$7:V786,\"該当３\"))","v":""}]
[820802001,8,{"v":208,"d":"208 "},{"v":2,"d":"02 "},{"v":1,"d":"001 "},"茨城県","龍ケ崎市","龍ヶ崎町","根町",null,"","",{"$f":"IF(K787=\"\",\"\",COUNTIF($K$7:K787,\"ﾘｽﾄ１\"))","v":""},"","","","","","","",{"$f":"IF(S787=\"\",\"\",COUNTIF($S$7:S787,\"該当２\"))","v":""},"","",{"$f":"IF(V787=\"\",\"\",COUNTIF($V$7:V787,\"該当３\"))","v":""}]
[820802002,8,{"v":208,"d":"208 "},{"v":2,"d":"02 "},{"v":2,"d":"002 "},"茨城県","龍ケ崎市","龍ヶ崎町","城下",null,"","",{"$f":"IF(K788=\"\",\"\",COUNTIF($K$7:K788,\"ﾘｽﾄ１\"))","v":""},"","","","","","","",{"$f":"IF(S788=\"\",\"\",COUNTIF($S$7:S788,\"該当２\"))","v":""},"","",{"$f":"IF(V788=\"\",\"\",COUNTIF($V$7:V788,\"該当３\"))","v":""}]
[820802003,8,{"v":208,"d":"208 "},{"v":2,"d":"02 "},{"v":3,"d":"003 "},"茨城県","龍ケ崎市","龍ヶ崎町","田町",null,"","",{"$f":"IF(K789=\"\",\"\",COUNTIF($K$7:K789,\"ﾘｽﾄ１\"))","v":""},"","","","","","","",{"$f":"IF(S789=\"\",\"\",COUNTIF($S$7:S789,\"該当２\"))","v":""},"","",{"$f":"IF(V789=\"\",\"\",COUNTIF($V$7:V789,\"該当３\"))","v":""}]
[820802004,8,{"v":208,"d":"208 "},{"v":2,"d":"02 "},{"v":4,"d":"004 "},"茨城県","龍ケ崎市","龍ヶ崎町","米町",null,"","",{"$f":"IF(K790=\"\",\"\",COUNTIF($K$7:K790,\"ﾘｽﾄ１\"))","v":""},"","","","","","","",{"$f":"IF(S790=\"\",\"\",COUNTIF($S$7:S790,\"該当２\"))","v":""},"","",{"$f":"IF(V790=\"\",\"\",COUNTIF($V$7:V790,\"該当３\"))","v":""}]
[820802005,8,{"v":208,"d":"208 "},{"v":2,"d":"02 "},{"v":5,"d":"005 "},"茨城県","龍ケ崎市","龍ヶ崎町","水門",null,"","",{"$f":"IF(K791=\"\",\"\",COUNTIF($K$7:K791,\"ﾘｽﾄ１\"))","v":""},"","","","","","","",{"$f":"IF(S791=\"\",\"\",COUNTIF($S$7:S791,\"該当２\"))","v":""},"","",{"$f":"IF(V791=\"\",\"\",COUNTIF($V$7:V791,\"該当３\"))","v":""}]
[820802006,8,{"v":208,"d":"208 "},{"v":2,"d":"02 "},{"v":6,"d":"006 "},"茨城県","龍ケ崎市","龍ヶ崎町","新町",null,"","",{"$f":"IF(K792=\"\",\"\",COUNTIF($K$7:K792,\"ﾘｽﾄ１\"))","v":""},"","","","","","","",{"$f":"IF(S792=\"\",\"\",COUNTIF($S$7:S792,\"該当２\"))","v":""},"","",{"$f":"IF(V792=\"\",\"\",COUNTIF($V$7:V792,\"該当３\"))","v":""}]
[820802007,8,{"v":208,"d":"208 "},{"v":2,"d":"02 "},{"v":7,"d":"007 "},"茨城県","龍ケ崎市","龍ヶ崎町","上町",null,"","",{"$f":"IF(K793=\"\",\"\",COUNTIF($K$7:K793,\"ﾘｽﾄ１\"))","v":""},"","","","","","","",{"$f":"IF(S793=\"\",\"\",COUNTIF($S$7:S793,\"該当２\"))","v":""},"","",{"$f":"IF(V793=\"\",\"\",COUNTIF($V$7:V793,\"該当３\"))","v":""}]
[820802008,8,{"v":208,"d":"208 "},{"v":2,"d":"02 "},{"v":8,"d":"008 "},"茨城県","龍ケ崎市","龍ヶ崎町","下町",null,"","",{"$f":"IF(K794=\"\",\"\",COUNTIF($K$7:K794,\"ﾘｽﾄ１\"))","v":""},"","","","","","","",{"$f":"IF(S794=\"\",\"\",COUNTIF($S$7:S794,\"該当２\"))","v":""},"","",{"$f":"IF(V794=\"\",\"\",COUNTIF($V$7:V794,\"該当３\"))","v":""}]
[820802009,8,{"v":208,"d":"208 "},{"v":2,"d":"02 "},{"v":9,"d":"009 "},"茨城県","龍ケ崎市","龍ヶ崎町","砂町",null,"","",{"$f":"IF(K795=\"\",\"\",COUNTIF($K$7:K795,\"ﾘｽﾄ１\"))","v":""},"","","","","","","",{"$f":"IF(S795=\"\",\"\",COUNTIF($S$7:S795,\"該当２\"))","v":""},"","",{"$f":"IF(V795=\"\",\"\",COUNTIF($V$7:V795,\"該当３\"))","v":""}]
[820802010,8,{"v":208,"d":"208 "},{"v":2,"d":"02 "},{"v":10,"d":"010 "},"茨城県","龍ケ崎市","龍ヶ崎町","高砂",null,"","",{"$f":"IF(K796=\"\",\"\",COUNTIF($K$7:K796,\"ﾘｽﾄ１\"))","v":""},"","","","","","","",{"$f":"IF(S796=\"\",\"\",COUNTIF($S$7:S796,\"該当２\"))","v":""},"","",{"$f":"IF(V796=\"\",\"\",COUNTIF($V$7:V796,\"該当３\"))","v":""}]
[820802011,8,{"v":208,"d":"208 "},{"v":2,"d":"02 "},{"v":11,"d":"011 "},"茨城県","龍ケ崎市","龍ヶ崎町","直鮒",null,"","",{"$f":"IF(K797=\"\",\"\",COUNTIF($K$7:K797,\"ﾘｽﾄ１\"))","v":""},"","","","","","","",{"$f":"IF(S797=\"\",\"\",COUNTIF($S$7:S797,\"該当２\"))","v":""},"","",{"$f":"IF(V797=\"\",\"\",COUNTIF($V$7:V797,\"該当３\"))","v":""}]
[820803000,8,{"v":208,"d":"208 "},{"v":3,"d":"03 "},{"v":0,"d":"000 "},"茨城県","龍ケ崎市","川原代村",null,null,"","",{"$f":"IF(K798=\"\",\"\",COUNTIF($K$7:K798,\"ﾘｽﾄ１\"))","v":""},"","","","","","","",{"$f":"IF(S798=\"\",\"\",COUNTIF($S$7:S798,\"該当２\"))","v":""},"","",{"$f":"IF(V798=\"\",\"\",COUNTIF($V$7:V798,\"該当３\"))","v":""}]
[820803001,8,{"v":208,"d":"208 "},{"v":3,"d":"03 "},{"v":1,"d":"001 "},"茨城県","龍ケ崎市","川原代村","小屋",null,"","",{"$f":"IF(K799=\"\",\"\",COUNTIF($K$7:K799,\"ﾘｽﾄ１\"))","v":""},"","","","","","","",{"$f":"IF(S799=\"\",\"\",COUNTIF($S$7:S799,\"該当２\"))","v":""},"","",{"$f":"IF(V799=\"\",\"\",COUNTIF($V$7:V799,\"該当３\"))","v":""}]
[820803002,8,{"v":208,"d":"208 "},{"v":3,"d":"03 "},{"v":2,"d":"002 "},"茨城県","龍ケ崎市","川原代村","花丸",null,"","",{"$f":"IF(K800=\"\",\"\",COUNTIF($K$7:K800,\"ﾘｽﾄ１\"))","v":""},"","","","","","","",{"$f":"IF(S800=\"\",\"\",COUNTIF($S$7:S800,\"該当２\"))","v":""},"","",{"$f":"IF(V800=\"\",\"\",COUNTIF($V$7:V800,\"該当３\"))","v":""}]
[820803003,8,{"v":208,"d":"208 "},{"v":3,"d":"03 "},{"v":3,"d":"003 "},"茨城県","龍ケ崎市","川原代村","中坪",null,"","",{"$f":"IF(K801=\"\",\"\",COUNTIF($K$7:K801,\"ﾘｽﾄ１\"))","v":""},"","","","","","","",{"$f":"IF(S801=\"\",\"\",COUNTIF($S$7:S801,\"該当２\"))","v":""},"","",{"$f":"IF(V801=\"\",\"\",COUNTIF($V$7:V801,\"該当３\"))","v":""}]
[820803004,8,{"v":208,"d":"208 "},{"v":3,"d":"03 "},{"v":4,"d":"004 "},"茨城県","龍ケ崎市","川原代村","芳黄",null,"","",{"$f":"IF(K802=\"\",\"\",COUNTIF($K$7:K802,\"ﾘｽﾄ１\"))","v":""},"","","","","","","",{"$f":"IF(S802=\"\",\"\",COUNTIF($S$7:S802,\"該当２\"))","v":""},"","",{"$f":"IF(V802=\"\",\"\",COUNTIF($V$7:V802,\"該当３\"))","v":""}]
[820803005,8,{"v":208,"d":"208 "},{"v":3,"d":"03 "},{"v":5,"d":"005 "},"茨城県","龍ケ崎市","川原代村","知手",null,"","",{"$f":"IF(K803=\"\",\"\",COUNTIF($K$7:K803,\"ﾘｽﾄ１\"))","v":""},"","","","","","","",{"$f":"IF(S803=\"\",\"\",COUNTIF($S$7:S803,\"該当２\"))","v":""},"","",{"$f":"IF(V803=\"\",\"\",COUNTIF($V$7:V803,\"該当３\"))","v":""}]
[820803006,8,{"v":208,"d":"208 "},{"v":3,"d":"03 "},{"v":6,"d":"006 "},"茨城県","龍ケ崎市","川原代村","姫宮",null,"","",{"$f":"IF(K804=\"\",\"\",COUNTIF($K$7:K804,\"ﾘｽﾄ１\"))","v":""},"","","","","","","",{"$f":"IF(S804=\"\",\"\",COUNTIF($S$7:S804,\"該当２\"))","v":""},"","",{"$f":"IF(V804=\"\",\"\",COUNTIF($V$7:V804,\"該当３\"))","v":""}]
[820803007,8,{"v":208,"d":"208 "},{"v":3,"d":"03 "},{"v":7,"d":"007 "},"茨城県","龍ケ崎市","川原代村","道仙田",null,"","",{"$f":"IF(K805=\"\",\"\",COUNTIF($K$7:K805,\"ﾘｽﾄ１\"))","v":""},"","","","","","","",{"$f":"IF(S805=\"\",\"\",COUNTIF($S$7:S805,\"該当２\"))","v":""},"","",{"$f":"IF(V805=\"\",\"\",COUNTIF($V$7:V805,\"該当３\"))","v":""}]
[820803008,8,{"v":208,"d":"208 "},{"v":3,"d":"03 "},{"v":8,"d":"008 "},"茨城県","龍ケ崎市","川原代村","砂波",null,"","",{"$f":"IF(K806=\"\",\"\",COUNTIF($K$7:K806,\"ﾘｽﾄ１\"))","v":""},"","","","","","","",{"$f":"IF(S806=\"\",\"\",COUNTIF($S$7:S806,\"該当２\"))","v":""},"","",{"$f":"IF(V806=\"\",\"\",COUNTIF($V$7:V806,\"該当３\"))","v":""}]
[820804000,8,{"v":208,"d":"208 "},{"v":4,"d":"04 "},{"v":0,"d":"000 "},"茨城県","龍ケ崎市","馴柴村",null,null,"","",{"$f":"IF(K807=\"\",\"\",COUNTIF($K$7:K807,\"ﾘｽﾄ１\"))","v":""},"","","","","","","",{"$f":"IF(S807=\"\",\"\",COUNTIF($S$7:S807,\"該当２\"))","v":""},"","",{"$f":"IF(V807=\"\",\"\",COUNTIF($V$7:V807,\"該当３\"))","v":""}]
[820804001,8,{"v":208,"d":"208 "},{"v":4,"d":"04 "},{"v":1,"d":"001 "},"茨城県","龍ケ崎市","馴柴村","若柴",null,"","",{"$f":"IF(K808=\"\",\"\",COUNTIF($K$7:K808,\"ﾘｽﾄ１\"))","v":""},"","","","","","","",{"$f":"IF(S808=\"\",\"\",COUNTIF($S$7:S808,\"該当２\"))","v":""},"","",{"$f":"IF(V808=\"\",\"\",COUNTIF($V$7:V808,\"該当３\"))","v":""}]
[820804002,8,{"v":208,"d":"208 "},{"v":4,"d":"04 "},{"v":2,"d":"002 "},"茨城県","龍ケ崎市","馴柴村","女化",null,"","",{"$f":"IF(K809=\"\",\"\",COUNTIF($K$7:K809,\"ﾘｽﾄ１\"))","v":""},"","","","","","","",{"$f":"IF(S809=\"\",\"\",COUNTIF($S$7:S809,\"該当２\"))","v":""},"","",{"$f":"IF(V809=\"\",\"\",COUNTIF($V$7:V809,\"該当３\"))","v":""}]
[820804003,8,{"v":208,"d":"208 "},{"v":4,"d":"04 "},{"v":3,"d":"003 "},"茨城県","龍ケ崎市","馴柴村","庄兵衛新田",null,"","",{"$f":"IF(K810=\"\",\"\",COUNTIF($K$7:K810,\"ﾘｽﾄ１\"))","v":""},"","","","","","","",{"$f":"IF(S810=\"\",\"\",COUNTIF($S$7:S810,\"該当２\"))","v":""},"","",{"$f":"IF(V810=\"\",\"\",COUNTIF($V$7:V810,\"該当３\"))","v":""}]
[820804004,8,{"v":208,"d":"208 "},{"v":4,"d":"04 "},{"v":4,"d":"004 "},"茨城県","龍ケ崎市","馴柴村","佐貫",null,"","",{"$f":"IF(K811=\"\",\"\",COUNTIF($K$7:K811,\"ﾘｽﾄ１\"))","v":""},"","","","","","","",{"$f":"IF(S811=\"\",\"\",COUNTIF($S$7:S811,\"該当２\"))","v":""},"","",{"$f":"IF(V811=\"\",\"\",COUNTIF($V$7:V811,\"該当３\"))","v":""}]
[820804005,8,{"v":208,"d":"208 "},{"v":4,"d":"04 "},{"v":5,"d":"005 "},"茨城県","龍ケ崎市","馴柴村","小通幸谷",null,"","",{"$f":"IF(K812=\"\",\"\",COUNTIF($K$7:K812,\"ﾘｽﾄ１\"))","v":""},"","","","","","","",{"$f":"IF(S812=\"\",\"\",COUNTIF($S$7:S812,\"該当２\"))","v":""},"","",{"$f":"IF(V812=\"\",\"\",COUNTIF($V$7:V812,\"該当３\"))","v":""}]
[820804006,8,{"v":208,"d":"208 "},{"v":4,"d":"04 "},{"v":6,"d":"006 "},"茨城県","龍ケ崎市","馴柴村","南中島",null,"","",{"$f":"IF(K813=\"\",\"\",COUNTIF($K$7:K813,\"ﾘｽﾄ１\"))","v":""},"","","","","","","",{"$f":"IF(S813=\"\",\"\",COUNTIF($S$7:S813,\"該当２\"))","v":""},"","",{"$f":"IF(V813=\"\",\"\",COUNTIF($V$7:V813,\"該当３\"))","v":""}]
[820804007,8,{"v":208,"d":"208 "},{"v":4,"d":"04 "},{"v":7,"d":"007 "},"茨城県","龍ケ崎市","馴柴村","入地",null,"","",{"$f":"IF(K814=\"\",\"\",COUNTIF($K$7:K814,\"ﾘｽﾄ１\"))","v":""},"","","","","","","",{"$f":"IF(S814=\"\",\"\",COUNTIF($S$7:S814,\"該当２\"))","v":""},"","",{"$f":"IF(V814=\"\",\"\",COUNTIF($V$7:V814,\"該当３\"))","v":""}]
[820804008,8,{"v":208,"d":"208 "},{"v":4,"d":"04 "},{"v":8,"d":"008 "},"茨城県","龍ケ崎市","馴柴村","稲荷新田",null,"","",{"$f":"IF(K815=\"\",\"\",COUNTIF($K$7:K815,\"ﾘｽﾄ１\"))","v":""},"","","","","","","",{"$f":"IF(S815=\"\",\"\",COUNTIF($S$7:S815,\"該当２\"))","v":""},"","",{"$f":"IF(V815=\"\",\"\",COUNTIF($V$7:V815,\"該当３\"))","v":""}]
[820804009,8,{"v":208,"d":"208 "},{"v":4,"d":"04 "},{"v":9,"d":"009 "},"茨城県","龍ケ崎市","馴柴村","馴馬",null,"","",{"$f":"IF(K816=\"\",\"\",COUNTIF($K$7:K816,\"ﾘｽﾄ１\"))","v":""},"","","","","","","",{"$f":"IF(S816=\"\",\"\",COUNTIF($S$7:S816,\"該当２\"))","v":""},"","",{"$f":"IF(V816=\"\",\"\",COUNTIF($V$7:V816,\"該当３\"))","v":""}]
[820805000,8,{"v":208,"d":"208 "},{"v":5,"d":"05 "},{"v":0,"d":"000 "},"茨城県","龍ケ崎市","八原村",null,null,"","",{"$f":"IF(K817=\"\",\"\",COUNTIF($K$7:K817,\"ﾘｽﾄ１\"))","v":""},"","","","","","","",{"$f":"IF(S817=\"\",\"\",COUNTIF($S$7:S817,\"該当２\"))","v":""},"","",{"$f":"IF(V817=\"\",\"\",COUNTIF($V$7:V817,\"該当３\"))","v":""}]
[820805001,8,{"v":208,"d":"208 "},{"v":5,"d":"05 "},{"v":1,"d":"001 "},"茨城県","龍ケ崎市","八原村","上泉",null,"","",{"$f":"IF(K818=\"\",\"\",COUNTIF($K$7:K818,\"ﾘｽﾄ１\"))","v":""},"","","","","","","",{"$f":"IF(S818=\"\",\"\",COUNTIF($S$7:S818,\"該当２\"))","v":""},"","",{"$f":"IF(V818=\"\",\"\",COUNTIF($V$7:V818,\"該当３\"))","v":""}]
[820805002,8,{"v":208,"d":"208 "},{"v":5,"d":"05 "},{"v":2,"d":"002 "},"茨城県","龍ケ崎市","八原村","下泉",null,"","",{"$f":"IF(K819=\"\",\"\",COUNTIF($K$7:K819,\"ﾘｽﾄ１\"))","v":""},"","","","","","","",{"$f":"IF(S819=\"\",\"\",COUNTIF($S$7:S819,\"該当２\"))","v":""},"","",{"$f":"IF(V819=\"\",\"\",COUNTIF($V$7:V819,\"該当３\"))","v":""}]
[820805003,8,{"v":208,"d":"208 "},{"v":5,"d":"05 "},{"v":3,"d":"003 "},"茨城県","龍ケ崎市","八原村","薄倉",null,"","",{"$f":"IF(K820=\"\",\"\",COUNTIF($K$7:K820,\"ﾘｽﾄ１\"))","v":""},"","","","","","","",{"$f":"IF(S820=\"\",\"\",COUNTIF($S$7:S820,\"該当２\"))","v":""},"","",{"$f":"IF(V820=\"\",\"\",COUNTIF($V$7:V820,\"該当３\"))","v":""}]
[820805004,8,{"v":208,"d":"208 "},{"v":5,"d":"05 "},{"v":4,"d":"004 "},"茨城県","龍ケ崎市","八原村","八代",null,"","",{"$f":"IF(K821=\"\",\"\",COUNTIF($K$7:K821,\"ﾘｽﾄ１\"))","v":""},"","","","","","","",{"$f":"IF(S821=\"\",\"\",COUNTIF($S$7:S821,\"該当２\"))","v":""},"","",{"$f":"IF(V821=\"\",\"\",COUNTIF($V$7:V821,\"該当３\"))","v":""}]
[820805005,8,{"v":208,"d":"208 "},{"v":5,"d":"05 "},{"v":5,"d":"005 "},"茨城県","龍ケ崎市","八原村","羽原",null,"","",{"$f":"IF(K822=\"\",\"\",COUNTIF($K$7:K822,\"ﾘｽﾄ１\"))","v":""},"","","","","","","",{"$f":"IF(S822=\"\",\"\",COUNTIF($S$7:S822,\"該当２\"))","v":""},"","",{"$f":"IF(V822=\"\",\"\",COUNTIF($V$7:V822,\"該当３\"))","v":""}]
[820805006,8,{"v":208,"d":"208 "},{"v":5,"d":"05 "},{"v":6,"d":"006 "},"茨城県","龍ケ崎市","八原村","別所",null,"","",{"$f":"IF(K823=\"\",\"\",COUNTIF($K$7:K823,\"ﾘｽﾄ１\"))","v":""},"","","","","","","",{"$f":"IF(S823=\"\",\"\",COUNTIF($S$7:S823,\"該当２\"))","v":""},"","",{"$f":"IF(V823=\"\",\"\",COUNTIF($V$7:V823,\"該当３\"))","v":""}]
[820805007,8,{"v":208,"d":"208 "},{"v":5,"d":"05 "},{"v":7,"d":"007 "},"茨城県","龍ケ崎市","八原村","貝原塚",null,"","",{"$f":"IF(K824=\"\",\"\",COUNTIF($K$7:K824,\"ﾘｽﾄ１\"))","v":""},"","","","","","","",{"$f":"IF(S824=\"\",\"\",COUNTIF($S$7:S824,\"該当２\"))","v":""},"","",{"$f":"IF(V824=\"\",\"\",COUNTIF($V$7:V824,\"該当３\"))","v":""}]
[820806000,8,{"v":208,"d":"208 "},{"v":6,"d":"06 "},{"v":0,"d":"000 "},"茨城県","龍ケ崎市","北文間村",null,null,"","",{"$f":"IF(K825=\"\",\"\",COUNTIF($K$7:K825,\"ﾘｽﾄ１\"))","v":""},"","","","","","","",{"$f":"IF(S825=\"\",\"\",COUNTIF($S$7:S825,\"該当２\"))","v":""},"","",{"$f":"IF(V825=\"\",\"\",COUNTIF($V$7:V825,\"該当３\"))","v":""}]
[820806001,8,{"v":208,"d":"208 "},{"v":6,"d":"06 "},{"v":1,"d":"001 "},"茨城県","龍ケ崎市","北文間村","長沖",null,"","",{"$f":"IF(K826=\"\",\"\",COUNTIF($K$7:K826,\"ﾘｽﾄ１\"))","v":""},"","","","","","","",{"$f":"IF(S826=\"\",\"\",COUNTIF($S$7:S826,\"該当２\"))","v":""},"","",{"$f":"IF(V826=\"\",\"\",COUNTIF($V$7:V826,\"該当３\"))","v":""}]
[820806002,8,{"v":208,"d":"208 "},{"v":6,"d":"06 "},{"v":2,"d":"002 "},"茨城県","龍ケ崎市","北文間村","長沖新田",null,"","",{"$f":"IF(K827=\"\",\"\",COUNTIF($K$7:K827,\"ﾘｽﾄ１\"))","v":""},"","","","","","","",{"$f":"IF(S827=\"\",\"\",COUNTIF($S$7:S827,\"該当２\"))","v":""},"","",{"$f":"IF(V827=\"\",\"\",COUNTIF($V$7:V827,\"該当３\"))","v":""}]
[820806003,8,{"v":208,"d":"208 "},{"v":6,"d":"06 "},{"v":3,"d":"003 "},"茨城県","龍ケ崎市","北文間村","須藤堀",null,"","",{"$f":"IF(K828=\"\",\"\",COUNTIF($K$7:K828,\"ﾘｽﾄ１\"))","v":""},"","","","","","","",{"$f":"IF(S828=\"\",\"\",COUNTIF($S$7:S828,\"該当２\"))","v":""},"","",{"$f":"IF(V828=\"\",\"\",COUNTIF($V$7:V828,\"該当３\"))","v":""}]
[820806004,8,{"v":208,"d":"208 "},{"v":6,"d":"06 "},{"v":4,"d":"004 "},"茨城県","龍ケ崎市","北文間村","須藤堀新田",null,"","",{"$f":"IF(K829=\"\",\"\",COUNTIF($K$7:K829,\"ﾘｽﾄ１\"))","v":""},"","","","","","","",{"$f":"IF(S829=\"\",\"\",COUNTIF($S$7:S829,\"該当２\"))","v":""},"","",{"$f":"IF(V829=\"\",\"\",COUNTIF($V$7:V829,\"該当３\"))","v":""}]
[820806005,8,{"v":208,"d":"208 "},{"v":6,"d":"06 "},{"v":5,"d":"005 "},"茨城県","龍ケ崎市","北文間村","北方",null,"","",{"$f":"IF(K830=\"\",\"\",COUNTIF($K$7:K830,\"ﾘｽﾄ１\"))","v":""},"","","","","","","",{"$f":"IF(S830=\"\",\"\",COUNTIF($S$7:S830,\"該当２\"))","v":""},"","",{"$f":"IF(V830=\"\",\"\",COUNTIF($V$7:V830,\"該当３\"))","v":""}]
[820806006,8,{"v":208,"d":"208 "},{"v":6,"d":"06 "},{"v":6,"d":"006 "},"茨城県","龍ケ崎市","北文間村","豊田",null,"","",{"$f":"IF(K831=\"\",\"\",COUNTIF($K$7:K831,\"ﾘｽﾄ１\"))","v":""},"","","","","","","",{"$f":"IF(S831=\"\",\"\",COUNTIF($S$7:S831,\"該当２\"))","v":""},"","",{"$f":"IF(V831=\"\",\"\",COUNTIF($V$7:V831,\"該当３\"))","v":""}]
[820806007,8,{"v":208,"d":"208 "},{"v":6,"d":"06 "},{"v":7,"d":"007 "},"茨城県","龍ケ崎市","北文間村","羽黒",null,"","",{"$f":"IF(K832=\"\",\"\",COUNTIF($K$7:K832,\"ﾘｽﾄ１\"))","v":""},"","","","","","","",{"$f":"IF(S832=\"\",\"\",COUNTIF($S$7:S832,\"該当２\"))","v":""},"","",{"$f":"IF(V832=\"\",\"\",COUNTIF($V$7:V832,\"該当３\"))","v":""}]
[820807000,8,{"v":208,"d":"208 "},{"v":7,"d":"07 "},{"v":0,"d":"000 "},"茨城県","龍ケ崎市","大宮村",null,null,"","",{"$f":"IF(K833=\"\",\"\",COUNTIF($K$7:K833,\"ﾘｽﾄ１\"))","v":""},"","","","","","","",{"$f":"IF(S833=\"\",\"\",COUNTIF($S$7:S833,\"該当２\"))","v":""},"","",{"$f":"IF(V833=\"\",\"\",COUNTIF($V$7:V833,\"該当３\"))","v":""}]
[820807001,8,{"v":208,"d":"208 "},{"v":7,"d":"07 "},{"v":1,"d":"001 "},"茨城県","龍ケ崎市","大宮村","戸張",null,"","",{"$f":"IF(K834=\"\",\"\",COUNTIF($K$7:K834,\"ﾘｽﾄ１\"))","v":""},"","","","","","","",{"$f":"IF(S834=\"\",\"\",COUNTIF($S$7:S834,\"該当２\"))","v":""},"","",{"$f":"IF(V834=\"\",\"\",COUNTIF($V$7:V834,\"該当３\"))","v":""}]
[820807002,8,{"v":208,"d":"208 "},{"v":7,"d":"07 "},{"v":2,"d":"002 "},"茨城県","龍ケ崎市","大宮村","上大徳",null,"","",{"$f":"IF(K835=\"\",\"\",COUNTIF($K$7:K835,\"ﾘｽﾄ１\"))","v":""},"","","","","","","",{"$f":"IF(S835=\"\",\"\",COUNTIF($S$7:S835,\"該当２\"))","v":""},"","",{"$f":"IF(V835=\"\",\"\",COUNTIF($V$7:V835,\"該当３\"))","v":""}]
[820807003,8,{"v":208,"d":"208 "},{"v":7,"d":"07 "},{"v":3,"d":"003 "},"茨城県","龍ケ崎市","大宮村","深堀",null,"","",{"$f":"IF(K836=\"\",\"\",COUNTIF($K$7:K836,\"ﾘｽﾄ１\"))","v":""},"","","","","","","",{"$f":"IF(S836=\"\",\"\",COUNTIF($S$7:S836,\"該当２\"))","v":""},"","",{"$f":"IF(V836=\"\",\"\",COUNTIF($V$7:V836,\"該当３\"))","v":""}]
[820807004,8,{"v":208,"d":"208 "},{"v":7,"d":"07 "},{"v":4,"d":"004 "},"茨城県","龍ケ崎市","大宮村","宮前",null,"","",{"$f":"IF(K837=\"\",\"\",COUNTIF($K$7:K837,\"ﾘｽﾄ１\"))","v":""},"","","","","","","",{"$f":"IF(S837=\"\",\"\",COUNTIF($S$7:S837,\"該当２\"))","v":""},"","",{"$f":"IF(V837=\"\",\"\",COUNTIF($V$7:V837,\"該当３\"))","v":""}]
[820807005,8,{"v":208,"d":"208 "},{"v":7,"d":"07 "},{"v":5,"d":"005 "},"茨城県","龍ケ崎市","大宮村","関",null,"","",{"$f":"IF(K838=\"\",\"\",COUNTIF($K$7:K838,\"ﾘｽﾄ１\"))","v":""},"","","","","","","",{"$f":"IF(S838=\"\",\"\",COUNTIF($S$7:S838,\"該当２\"))","v":""},"","",{"$f":"IF(V838=\"\",\"\",COUNTIF($V$7:V838,\"該当３\"))","v":""}]
[820807006,8,{"v":208,"d":"208 "},{"v":7,"d":"07 "},{"v":6,"d":"006 "},"茨城県","龍ケ崎市","大宮村","小山",null,"","",{"$f":"IF(K839=\"\",\"\",COUNTIF($K$7:K839,\"ﾘｽﾄ１\"))","v":""},"","","","","","","",{"$f":"IF(S839=\"\",\"\",COUNTIF($S$7:S839,\"該当２\"))","v":""},"","",{"$f":"IF(V839=\"\",\"\",COUNTIF($V$7:V839,\"該当３\"))","v":""}]
[820807007,8,{"v":208,"d":"208 "},{"v":7,"d":"07 "},{"v":7,"d":"007 "},"茨城県","龍ケ崎市","大宮村","久夫",null,"","",{"$f":"IF(K840=\"\",\"\",COUNTIF($K$7:K840,\"ﾘｽﾄ１\"))","v":""},"","","","","","","",{"$f":"IF(S840=\"\",\"\",COUNTIF($S$7:S840,\"該当２\"))","v":""},"","",{"$f":"IF(V840=\"\",\"\",COUNTIF($V$7:V840,\"該当３\"))","v":""}]
[820807008,8,{"v":208,"d":"208 "},{"v":7,"d":"07 "},{"v":8,"d":"008 "},"茨城県","龍ケ崎市","大宮村","梶内",null,"","",{"$f":"IF(K841=\"\",\"\",COUNTIF($K$7:K841,\"ﾘｽﾄ１\"))","v":""},"","","","","","","",{"$f":"IF(S841=\"\",\"\",COUNTIF($S$7:S841,\"該当２\"))","v":""},"","",{"$f":"IF(V841=\"\",\"\",COUNTIF($V$7:V841,\"該当３\"))","v":""}]
[820807009,8,{"v":208,"d":"208 "},{"v":7,"d":"07 "},{"v":9,"d":"009 "},"茨城県","龍ケ崎市","大宮村","宮渕",null,"","",{"$f":"IF(K842=\"\",\"\",COUNTIF($K$7:K842,\"ﾘｽﾄ１\"))","v":""},"","",{"$f":"IF(O842=\"該当１\",G842,\"\")","v":""},{"$f":"IF(O842=\"該当１\",\"ﾘｽﾄ2\",\"\")","v":""},{"$f":"IF(Q842=\"ﾘｽﾄ2\",H842,\"\")","v":""},"",{"$f":"IF(S842=\"該当２\",H842,\"\")","v":""},{"$f":"IF(S842=\"\",\"\",COUNTIF($S$7:S842,\"該当２\"))","v":""},{"$f":"IF(AND($S$2=H842,E842>0,E842<998),\"該当３\",\"\")","v":""},{"$f":"IF(V842=\"該当３\",I842,\"\")","v":""},{"$f":"IF(V842=\"\",\"\",COUNTIF($V$7:V842,\"該当３\"))","v":""}]
[820807010,8,{"v":208,"d":"208 "},{"v":7,"d":"07 "},{"v":10,"d":"010 "},"茨城県","龍ケ崎市","大宮村","小関",null,{"$f":"IF(AND($C843>0,$H843=\"\"),\"ﾘｽﾄ１\",\"\")","v":""},{"$f":"IF(K843=\"ﾘｽﾄ１\",G843,\"\")","v":""},{"$f":"IF(K843=\"\",\"\",COUNTIF($K$7:K843,\"ﾘｽﾄ１\"))","v":""},{"$f":"IF(AND(D843=0,E843>0),\"同一区\",\"\")","v":""},{"$f":"IF(AND(EXACT($K$2,G843),H843>0),\"該当１\",\"\")","v":""},"","","",{"$f":"IF(AND(Q843=\"ﾘｽﾄ2\",OR(I843=0,AND(N843=\"同一区\",E843=1))),\"該当２\",\"\")","v":""},"",{"$f":"IF(S843=\"\",\"\",COUNTIF($S$7:S843,\"該当２\"))","v":""},"","",{"$f":"IF(V843=\"\",\"\",COUNTIF($V$7:V843,\"該当３\"))","v":""}]
[820807011,8,{"v":208,"d":"208 "},{"v":7,"d":"07 "},{"v":11,"d":"011 "},"茨城県","龍ケ崎市","大宮村","千秋",null,"","",{"$f":"IF(K844=\"\",\"\",COUNTIF($K$7:K844,\"ﾘｽﾄ１\"))","v":""},"","","","","","","",{"$f":"IF(S844=\"\",\"\",COUNTIF($S$7:S844,\"該当２\"))","v":""},"","",{"$f":"IF(V844=\"\",\"\",COUNTIF($V$7:V844,\"該当３\"))","v":""}]
[820807012,8,{"v":208,"d":"208 "},{"v":7,"d":"07 "},{"v":12,"d":"012 "},"茨城県","龍ケ崎市","大宮村","上佐沼",null,"","",{"$f":"IF(K845=\"\",\"\",COUNTIF($K$7:K845,\"ﾘｽﾄ１\"))","v":""},"","","","","","","",{"$f":"IF(S845=\"\",\"\",COUNTIF($S$7:S845,\"該当２\"))","v":""},"","",{"$f":"IF(V845=\"\",\"\",COUNTIF($V$7:V845,\"該当３\"))","v":""}]
[820807013,8,{"v":208,"d":"208 "},{"v":7,"d":"07 "},{"v":13,"d":"013 "},"茨城県","龍ケ崎市","大宮村","下佐沼",null,"","",{"$f":"IF(K846=\"\",\"\",COUNTIF($K$7:K846,\"ﾘｽﾄ１\"))","v":""},"","","","","","","",{"$f":"IF(S846=\"\",\"\",COUNTIF($S$7:S846,\"該当２\"))","v":""},"","",{"$f":"IF(V846=\"\",\"\",COUNTIF($V$7:V846,\"該当３\"))","v":""}]
[820807014,8,{"v":208,"d":"208 "},{"v":7,"d":"07 "},{"v":14,"d":"014 "},"茨城県","龍ケ崎市","大宮村","北河原",null,"","",{"$f":"IF(K847=\"\",\"\",COUNTIF($K$7:K847,\"ﾘｽﾄ１\"))","v":""},"","","","","","","",{"$f":"IF(S847=\"\",\"\",COUNTIF($S$7:S847,\"該当２\"))","v":""},"","",{"$f":"IF(V847=\"\",\"\",COUNTIF($V$7:V847,\"該当３\"))","v":""}]
[820808000,8,{"v":208,"d":"208 "},{"v":8,"d":"08 "},{"v":0,"d":"000 "},"茨城県","龍ケ崎市","高須村２－２",null,null,"","",{"$f":"IF(K848=\"\",\"\",COUNTIF($K$7:K848,\"ﾘｽﾄ１\"))","v":""},"","","","","","","",{"$f":"IF(S848=\"\",\"\",COUNTIF($S$7:S848,\"該当２\"))","v":""},"","",{"$f":"IF(V848=\"\",\"\",COUNTIF($V$7:V848,\"該当３\"))","v":""}]
[820808001,8,{"v":208,"d":"208 "},{"v":8,"d":"08 "},{"v":1,"d":"001 "},"茨城県","龍ケ崎市","高須村２－２","高須",null,"","",{"$f":"IF(K849=\"\",\"\",COUNTIF($K$7:K849,\"ﾘｽﾄ１\"))","v":""},"","","","","","","",{"$f":"IF(S849=\"\",\"\",COUNTIF($S$7:S849,\"該当２\"))","v":""},"","",{"$f":"IF(V849=\"\",\"\",COUNTIF($V$7:V849,\"該当３\"))","v":""}]
[821000000,8,{"v":210,"d":"210 "},{"v":0,"d":"00 "},{"v":0,"d":"000 "},"茨城県","下妻市",{"$nulls":3},"ﾘｽﾄ１","下妻市",{"$f":"IF(K850=\"\",\"\",COUNTIF($K$7:K850,\"ﾘｽﾄ１\"))","v":8},"","","","","","","",{"$f":"IF(S850=\"\",\"\",COUNTIF($S$7:S850,\"該当２\"))","v":""},"","",{"$f":"IF(V850=\"\",\"\",COUNTIF($V$7:V850,\"該当３\"))","v":""}]
[821001000,8,{"v":210,"d":"210 "},{"v":1,"d":"01 "},{"v":0,"d":"000 "},"茨城県","下妻市","下妻町",null,null,"","",{"$f":"IF(K851=\"\",\"\",COUNTIF($K$7:K851,\"ﾘｽﾄ１\"))","v":""},"","","","","","","",{"$f":"IF(S851=\"\",\"\",COUNTIF($S$7:S851,\"該当２\"))","v":""},"","",{"$f":"IF(V851=\"\",\"\",COUNTIF($V$7:V851,\"該当３\"))","v":""}]
[821001001,8,{"v":210,"d":"210 "},{"v":1,"d":"01 "},{"v":1,"d":"001 "},"茨城県","下妻市","下妻町","西町・陣屋・大町",null,"","",{"$f":"IF(K852=\"\",\"\",COUNTIF($K$7:K852,\"ﾘｽﾄ１\"))","v":""},"","","","","","","",{"$f":"IF(S852=\"\",\"\",COUNTIF($S$7:S852,\"該当２\"))","v":""},"","",{"$f":"IF(V852=\"\",\"\",COUNTIF($V$7:V852,\"該当３\"))","v":""}]
[821001002,8,{"v":210,"d":"210 "},{"v":1,"d":"01 "},{"v":2,"d":"002 "},"茨城県","下妻市","下妻町","上本部",null,"","",{"$f":"IF(K853=\"\",\"\",COUNTIF($K$7:K853,\"ﾘｽﾄ１\"))","v":""},"","","","","","","",{"$f":"IF(S853=\"\",\"\",COUNTIF($S$7:S853,\"該当２\"))","v":""},"","",{"$f":"IF(V853=\"\",\"\",COUNTIF($V$7:V853,\"該当３\"))","v":""}]
[821001003,8,{"v":210,"d":"210 "},{"v":1,"d":"01 "},{"v":3,"d":"003 "},"茨城県","下妻市","下妻町","東部峯",null,"","",{"$f":"IF(K854=\"\",\"\",COUNTIF($K$7:K854,\"ﾘｽﾄ１\"))","v":""},"","","","","","","",{"$f":"IF(S854=\"\",\"\",COUNTIF($S$7:S854,\"該当２\"))","v":""},"","",{"$f":"IF(V854=\"\",\"\",COUNTIF($V$7:V854,\"該当３\"))","v":""}]
[821001004,8,{"v":210,"d":"210 "},{"v":1,"d":"01 "},{"v":4,"d":"004 "},"茨城県","下妻市","下妻町","栗山、小野子",null,"","",{"$f":"IF(K855=\"\",\"\",COUNTIF($K$7:K855,\"ﾘｽﾄ１\"))","v":""},"","","","","","","",{"$f":"IF(S855=\"\",\"\",COUNTIF($S$7:S855,\"該当２\"))","v":""},"","",{"$f":"IF(V855=\"\",\"\",COUNTIF($V$7:V855,\"該当３\"))","v":""}]
[821001005,8,{"v":210,"d":"210 "},{"v":1,"d":"01 "},{"v":5,"d":"005 "},"茨城県","下妻市","下妻町","長塚、石の宮",null,"","",{"$f":"IF(K856=\"\",\"\",COUNTIF($K$7:K856,\"ﾘｽﾄ１\"))","v":""},"","","","","","","",{"$f":"IF(S856=\"\",\"\",COUNTIF($S$7:S856,\"該当２\"))","v":""},"","",{"$f":"IF(V856=\"\",\"\",COUNTIF($V$7:V856,\"該当３\"))","v":""}]
[821002000,8,{"v":210,"d":"210 "},{"v":2,"d":"02 "},{"v":0,"d":"000 "},"茨城県","下妻市","大宝村",null,null,"","",{"$f":"IF(K857=\"\",\"\",COUNTIF($K$7:K857,\"ﾘｽﾄ１\"))","v":""},"","","","","","","",{"$f":"IF(S857=\"\",\"\",COUNTIF($S$7:S857,\"該当２\"))","v":""},"","",{"$f":"IF(V857=\"\",\"\",COUNTIF($V$7:V857,\"該当３\"))","v":""}]
[821002001,8,{"v":210,"d":"210 "},{"v":2,"d":"02 "},{"v":1,"d":"001 "},"茨城県","下妻市","大宝村","大宝",null,"","",{"$f":"IF(K858=\"\",\"\",COUNTIF($K$7:K858,\"ﾘｽﾄ１\"))","v":""},"","","","","","","",{"$f":"IF(S858=\"\",\"\",COUNTIF($S$7:S858,\"該当２\"))","v":""},"","",{"$f":"IF(V858=\"\",\"\",COUNTIF($V$7:V858,\"該当３\"))","v":""}]
[821002002,8,{"v":210,"d":"210 "},{"v":2,"d":"02 "},{"v":2,"d":"002 "},"茨城県","下妻市","大宝村","北大宝",null,"","",{"$f":"IF(K859=\"\",\"\",COUNTIF($K$7:K859,\"ﾘｽﾄ１\"))","v":""},"","","","","","","",{"$f":"IF(S859=\"\",\"\",COUNTIF($S$7:S859,\"該当２\"))","v":""},"","",{"$f":"IF(V859=\"\",\"\",COUNTIF($V$7:V859,\"該当３\"))","v":""}]
[821002003,8,{"v":210,"d":"210 "},{"v":2,"d":"02 "},{"v":3,"d":"003 "},"茨城県","下妻市","大宝村","平川戸",null,"","",{"$f":"IF(K860=\"\",\"\",COUNTIF($K$7:K860,\"ﾘｽﾄ１\"))","v":""},"","","","","","","",{"$f":"IF(S860=\"\",\"\",COUNTIF($S$7:S860,\"該当２\"))","v":""},"","",{"$f":"IF(V860=\"\",\"\",COUNTIF($V$7:V860,\"該当３\"))","v":""}]
[821002004,8,{"v":210,"d":"210 "},{"v":2,"d":"02 "},{"v":4,"d":"004 "},"茨城県","下妻市","大宝村","横根",null,"","",{"$f":"IF(K861=\"\",\"\",COUNTIF($K$7:K861,\"ﾘｽﾄ１\"))","v":""},"","","","","","","",{"$f":"IF(S861=\"\",\"\",COUNTIF($S$7:S861,\"該当２\"))","v":""},"","",{"$f":"IF(V861=\"\",\"\",COUNTIF($V$7:V861,\"該当３\"))","v":""}]
[821002005,8,{"v":210,"d":"210 "},{"v":2,"d":"02 "},{"v":5,"d":"005 "},"茨城県","下妻市","大宝村","坂井",null,"","",{"$f":"IF(K862=\"\",\"\",COUNTIF($K$7:K862,\"ﾘｽﾄ１\"))","v":""},"","","","","","","",{"$f":"IF(S862=\"\",\"\",COUNTIF($S$7:S862,\"該当２\"))","v":""},"","",{"$f":"IF(V862=\"\",\"\",COUNTIF($V$7:V862,\"該当３\"))","v":""}]
[821002006,8,{"v":210,"d":"210 "},{"v":2,"d":"02 "},{"v":6,"d":"006 "},"茨城県","下妻市","大宝村","比毛",null,"","",{"$f":"IF(K863=\"\",\"\",COUNTIF($K$7:K863,\"ﾘｽﾄ１\"))","v":""},"","","","","","","",{"$f":"IF(S863=\"\",\"\",COUNTIF($S$7:S863,\"該当２\"))","v":""},"","",{"$f":"IF(V863=\"\",\"\",COUNTIF($V$7:V863,\"該当３\"))","v":""}]
[821002007,8,{"v":210,"d":"210 "},{"v":2,"d":"02 "},{"v":7,"d":"007 "},"茨城県","下妻市","大宝村","堀籠",null,"","",{"$f":"IF(K864=\"\",\"\",COUNTIF($K$7:K864,\"ﾘｽﾄ１\"))","v":""},"","","","","","","",{"$f":"IF(S864=\"\",\"\",COUNTIF($S$7:S864,\"該当２\"))","v":""},"","",{"$f":"IF(V864=\"\",\"\",COUNTIF($V$7:V864,\"該当３\"))","v":""}]
[821002008,8,{"v":210,"d":"210 "},{"v":2,"d":"02 "},{"v":8,"d":"008 "},"茨城県","下妻市","大宝村","大串",null,"","",{"$f":"IF(K865=\"\",\"\",COUNTIF($K$7:K865,\"ﾘｽﾄ１\"))","v":""},"","","","","","","",{"$f":"IF(S865=\"\",\"\",COUNTIF($S$7:S865,\"該当２\"))","v":""},"","",{"$f":"IF(V865=\"\",\"\",COUNTIF($V$7:V865,\"該当３\"))","v":""}]
[821002009,8,{"v":210,"d":"210 "},{"v":2,"d":"02 "},{"v":9,"d":"009 "},"茨城県","下妻市","大宝村","平沼",null,"","",{"$f":"IF(K866=\"\",\"\",COUNTIF($K$7:K866,\"ﾘｽﾄ１\"))","v":""},"","","","","","","",{"$f":"IF(S866=\"\",\"\",COUNTIF($S$7:S866,\"該当２\"))","v":""},"","",{"$f":"IF(V866=\"\",\"\",COUNTIF($V$7:V866,\"該当３\"))","v":""}]
[821002010,8,{"v":210,"d":"210 "},{"v":2,"d":"02 "},{"v":10,"d":"010 "},"茨城県","下妻市","大宝村","福田",null,"","",{"$f":"IF(K867=\"\",\"\",COUNTIF($K$7:K867,\"ﾘｽﾄ１\"))","v":""},"","","","","","","",{"$f":"IF(S867=\"\",\"\",COUNTIF($S$7:S867,\"該当２\"))","v":""},"","",{"$f":"IF(V867=\"\",\"\",COUNTIF($V$7:V867,\"該当３\"))","v":""}]
[821002011,8,{"v":210,"d":"210 "},{"v":2,"d":"02 "},{"v":11,"d":"011 "},"茨城県","下妻市","大宝村","下木戸",null,"","",{"$f":"IF(K868=\"\",\"\",COUNTIF($K$7:K868,\"ﾘｽﾄ１\"))","v":""},"","","","","","","",{"$f":"IF(S868=\"\",\"\",COUNTIF($S$7:S868,\"該当２\"))","v":""},"","",{"$f":"IF(V868=\"\",\"\",COUNTIF($V$7:V868,\"該当３\"))","v":""}]
[821003000,8,{"v":210,"d":"210 "},{"v":3,"d":"03 "},{"v":0,"d":"000 "},"茨城県","下妻市","騰波ノ江村",null,null,"","",{"$f":"IF(K869=\"\",\"\",COUNTIF($K$7:K869,\"ﾘｽﾄ１\"))","v":""},"","","","","","","",{"$f":"IF(S869=\"\",\"\",COUNTIF($S$7:S869,\"該当２\"))","v":""},"","",{"$f":"IF(V869=\"\",\"\",COUNTIF($V$7:V869,\"該当３\"))","v":""}]
[821003001,8,{"v":210,"d":"210 "},{"v":3,"d":"03 "},{"v":1,"d":"001 "},"茨城県","下妻市","騰波ノ江村","神明",null,"","",{"$f":"IF(K870=\"\",\"\",COUNTIF($K$7:K870,\"ﾘｽﾄ１\"))","v":""},"","","","","","","",{"$f":"IF(S870=\"\",\"\",COUNTIF($S$7:S870,\"該当２\"))","v":""},"","",{"$f":"IF(V870=\"\",\"\",COUNTIF($V$7:V870,\"該当３\"))","v":""}]
[821003002,8,{"v":210,"d":"210 "},{"v":3,"d":"03 "},{"v":2,"d":"002 "},"茨城県","下妻市","騰波ノ江村","若柳西宿、上宿",null,"","",{"$f":"IF(K871=\"\",\"\",COUNTIF($K$7:K871,\"ﾘｽﾄ１\"))","v":""},"","","","","","","",{"$f":"IF(S871=\"\",\"\",COUNTIF($S$7:S871,\"該当２\"))","v":""},"","",{"$f":"IF(V871=\"\",\"\",COUNTIF($V$7:V871,\"該当３\"))","v":""}]
[821003003,8,{"v":210,"d":"210 "},{"v":3,"d":"03 "},{"v":3,"d":"003 "},"茨城県","下妻市","騰波ノ江村","若柳久目、本田",null,"","",{"$f":"IF(K872=\"\",\"\",COUNTIF($K$7:K872,\"ﾘｽﾄ１\"))","v":""},"","","","","","","",{"$f":"IF(S872=\"\",\"\",COUNTIF($S$7:S872,\"該当２\"))","v":""},"","",{"$f":"IF(V872=\"\",\"\",COUNTIF($V$7:V872,\"該当３\"))","v":""}]
[821003004,8,{"v":210,"d":"210 "},{"v":3,"d":"03 "},{"v":4,"d":"004 "},"茨城県","下妻市","騰波ノ江村","若柳牧本、福代地",null,"","",{"$f":"IF(K873=\"\",\"\",COUNTIF($K$7:K873,\"ﾘｽﾄ１\"))","v":""},"","","","","","","",{"$f":"IF(S873=\"\",\"\",COUNTIF($S$7:S873,\"該当２\"))","v":""},"","",{"$f":"IF(V873=\"\",\"\",COUNTIF($V$7:V873,\"該当３\"))","v":""}]
[821003005,8,{"v":210,"d":"210 "},{"v":3,"d":"03 "},{"v":5,"d":"005 "},"茨城県","下妻市","騰波ノ江村","若柳下宿、東宿",null,"","",{"$f":"IF(K874=\"\",\"\",COUNTIF($K$7:K874,\"ﾘｽﾄ１\"))","v":""},"","","","","","","",{"$f":"IF(S874=\"\",\"\",COUNTIF($S$7:S874,\"該当２\"))","v":""},"","",{"$f":"IF(V874=\"\",\"\",COUNTIF($V$7:V874,\"該当３\"))","v":""}]
[821003006,8,{"v":210,"d":"210 "},{"v":3,"d":"03 "},{"v":6,"d":"006 "},"茨城県","下妻市","騰波ノ江村","下宮",null,"","",{"$f":"IF(K875=\"\",\"\",COUNTIF($K$7:K875,\"ﾘｽﾄ１\"))","v":""},"","","","","","","",{"$f":"IF(S875=\"\",\"\",COUNTIF($S$7:S875,\"該当２\"))","v":""},"","",{"$f":"IF(V875=\"\",\"\",COUNTIF($V$7:V875,\"該当３\"))","v":""}]
[821003007,8,{"v":210,"d":"210 "},{"v":3,"d":"03 "},{"v":7,"d":"007 "},"茨城県","下妻市","騰波ノ江村","中郷",null,"","",{"$f":"IF(K876=\"\",\"\",COUNTIF($K$7:K876,\"ﾘｽﾄ１\"))","v":""},"","","","","","","",{"$f":"IF(S876=\"\",\"\",COUNTIF($S$7:S876,\"該当２\"))","v":""},"","",{"$f":"IF(V876=\"\",\"\",COUNTIF($V$7:V876,\"該当３\"))","v":""}]
[821003008,8,{"v":210,"d":"210 "},{"v":3,"d":"03 "},{"v":8,"d":"008 "},"茨城県","下妻市","騰波ノ江村","数須",null,"","",{"$f":"IF(K877=\"\",\"\",COUNTIF($K$7:K877,\"ﾘｽﾄ１\"))","v":""},"","","","","","","",{"$f":"IF(S877=\"\",\"\",COUNTIF($S$7:S877,\"該当２\"))","v":""},"","",{"$f":"IF(V877=\"\",\"\",COUNTIF($V$7:V877,\"該当３\"))","v":""}]
[821003009,8,{"v":210,"d":"210 "},{"v":3,"d":"03 "},{"v":9,"d":"009 "},"茨城県","下妻市","騰波ノ江村","筑波島",null,"","",{"$f":"IF(K878=\"\",\"\",COUNTIF($K$7:K878,\"ﾘｽﾄ１\"))","v":""},"","","","","","","",{"$f":"IF(S878=\"\",\"\",COUNTIF($S$7:S878,\"該当２\"))","v":""},"","",{"$f":"IF(V878=\"\",\"\",COUNTIF($V$7:V878,\"該当３\"))","v":""}]
[821003010,8,{"v":210,"d":"210 "},{"v":3,"d":"03 "},{"v":10,"d":"010 "},"茨城県","下妻市","騰波ノ江村","下田",null,"","",{"$f":"IF(K879=\"\",\"\",COUNTIF($K$7:K879,\"ﾘｽﾄ１\"))","v":""},"","","","","","","",{"$f":"IF(S879=\"\",\"\",COUNTIF($S$7:S879,\"該当２\"))","v":""},"","",{"$f":"IF(V879=\"\",\"\",COUNTIF($V$7:V879,\"該当３\"))","v":""}]
[821004000,8,{"v":210,"d":"210 "},{"v":4,"d":"04 "},{"v":0,"d":"000 "},"茨城県","下妻市","上妻村",null,null,"","",{"$f":"IF(K880=\"\",\"\",COUNTIF($K$7:K880,\"ﾘｽﾄ１\"))","v":""},"","","","","","","",{"$f":"IF(S880=\"\",\"\",COUNTIF($S$7:S880,\"該当２\"))","v":""},"","",{"$f":"IF(V880=\"\",\"\",COUNTIF($V$7:V880,\"該当３\"))","v":""}]
[821004001,8,{"v":210,"d":"210 "},{"v":4,"d":"04 "},{"v":1,"d":"001 "},"茨城県","下妻市","上妻村","江",null,"","",{"$f":"IF(K881=\"\",\"\",COUNTIF($K$7:K881,\"ﾘｽﾄ１\"))","v":""},"","","","","","","",{"$f":"IF(S881=\"\",\"\",COUNTIF($S$7:S881,\"該当２\"))","v":""},"","",{"$f":"IF(V881=\"\",\"\",COUNTIF($V$7:V881,\"該当３\"))","v":""}]
[821004002,8,{"v":210,"d":"210 "},{"v":4,"d":"04 "},{"v":2,"d":"002 "},"茨城県","下妻市","上妻村","平方",null,"","",{"$f":"IF(K882=\"\",\"\",COUNTIF($K$7:K882,\"ﾘｽﾄ１\"))","v":""},"","","","","","","",{"$f":"IF(S882=\"\",\"\",COUNTIF($S$7:S882,\"該当２\"))","v":""},"","",{"$f":"IF(V882=\"\",\"\",COUNTIF($V$7:V882,\"該当３\"))","v":""}]
[821004003,8,{"v":210,"d":"210 "},{"v":4,"d":"04 "},{"v":3,"d":"003 "},"茨城県","下妻市","上妻村","黒駒",null,"","",{"$f":"IF(K883=\"\",\"\",COUNTIF($K$7:K883,\"ﾘｽﾄ１\"))","v":""},"","","","","","","",{"$f":"IF(S883=\"\",\"\",COUNTIF($S$7:S883,\"該当２\"))","v":""},"","",{"$f":"IF(V883=\"\",\"\",COUNTIF($V$7:V883,\"該当３\"))","v":""}]
[821004004,8,{"v":210,"d":"210 "},{"v":4,"d":"04 "},{"v":4,"d":"004 "},"茨城県","下妻市","上妻村","尻手",null,"","",{"$f":"IF(K884=\"\",\"\",COUNTIF($K$7:K884,\"ﾘｽﾄ１\"))","v":""},"","","","","","","",{"$f":"IF(S884=\"\",\"\",COUNTIF($S$7:S884,\"該当２\"))","v":""},"","",{"$f":"IF(V884=\"\",\"\",COUNTIF($V$7:V884,\"該当３\"))","v":""}]
[821004005,8,{"v":210,"d":"210 "},{"v":4,"d":"04 "},{"v":5,"d":"005 "},"茨城県","下妻市","上妻村","渋井",null,"","",{"$f":"IF(K885=\"\",\"\",COUNTIF($K$7:K885,\"ﾘｽﾄ１\"))","v":""},"","","","","","","",{"$f":"IF(S885=\"\",\"\",COUNTIF($S$7:S885,\"該当２\"))","v":""},"","",{"$f":"IF(V885=\"\",\"\",COUNTIF($V$7:V885,\"該当３\"))","v":""}]
[821004006,8,{"v":210,"d":"210 "},{"v":4,"d":"04 "},{"v":6,"d":"006 "},"茨城県","下妻市","上妻村","桐ヶ瀬",null,"","",{"$f":"IF(K886=\"\",\"\",COUNTIF($K$7:K886,\"ﾘｽﾄ１\"))","v":""},"","","","","","","",{"$f":"IF(S886=\"\",\"\",COUNTIF($S$7:S886,\"該当２\"))","v":""},"","",{"$f":"IF(V886=\"\",\"\",COUNTIF($V$7:V886,\"該当３\"))","v":""}]
[821004007,8,{"v":210,"d":"210 "},{"v":4,"d":"04 "},{"v":7,"d":"007 "},"茨城県","下妻市","上妻村","赤須",null,"","",{"$f":"IF(K887=\"\",\"\",COUNTIF($K$7:K887,\"ﾘｽﾄ１\"))","v":""},"","","","","","","",{"$f":"IF(S887=\"\",\"\",COUNTIF($S$7:S887,\"該当２\"))","v":""},"","",{"$f":"IF(V887=\"\",\"\",COUNTIF($V$7:V887,\"該当３\"))","v":""}]
[821004008,8,{"v":210,"d":"210 "},{"v":4,"d":"04 "},{"v":8,"d":"008 "},"茨城県","下妻市","上妻村","半谷",null,"","",{"$f":"IF(K888=\"\",\"\",COUNTIF($K$7:K888,\"ﾘｽﾄ１\"))","v":""},"","","","","","","",{"$f":"IF(S888=\"\",\"\",COUNTIF($S$7:S888,\"該当２\"))","v":""},"","",{"$f":"IF(V888=\"\",\"\",COUNTIF($V$7:V888,\"該当３\"))","v":""}]
[821004009,8,{"v":210,"d":"210 "},{"v":4,"d":"04 "},{"v":9,"d":"009 "},"茨城県","下妻市","上妻村","大木北部",null,"","",{"$f":"IF(K889=\"\",\"\",COUNTIF($K$7:K889,\"ﾘｽﾄ１\"))","v":""},"","","","","","","",{"$f":"IF(S889=\"\",\"\",COUNTIF($S$7:S889,\"該当２\"))","v":""},"","",{"$f":"IF(V889=\"\",\"\",COUNTIF($V$7:V889,\"該当３\"))","v":""}]
[821004010,8,{"v":210,"d":"210 "},{"v":4,"d":"04 "},{"v":10,"d":"010 "},"茨城県","下妻市","上妻村","大木田向",null,"","",{"$f":"IF(K890=\"\",\"\",COUNTIF($K$7:K890,\"ﾘｽﾄ１\"))","v":""},"","","","","","","",{"$f":"IF(S890=\"\",\"\",COUNTIF($S$7:S890,\"該当２\"))","v":""},"","",{"$f":"IF(V890=\"\",\"\",COUNTIF($V$7:V890,\"該当３\"))","v":""}]
[821004011,8,{"v":210,"d":"210 "},{"v":4,"d":"04 "},{"v":11,"d":"011 "},"茨城県","下妻市","上妻村","大木南部稲荷山",null,"","",{"$f":"IF(K891=\"\",\"\",COUNTIF($K$7:K891,\"ﾘｽﾄ１\"))","v":""},"","","","","","","",{"$f":"IF(S891=\"\",\"\",COUNTIF($S$7:S891,\"該当２\"))","v":""},"","",{"$f":"IF(V891=\"\",\"\",COUNTIF($V$7:V891,\"該当３\"))","v":""}]
[821004012,8,{"v":210,"d":"210 "},{"v":4,"d":"04 "},{"v":12,"d":"012 "},"茨城県","下妻市","上妻村","前河原",null,"","",{"$f":"IF(K892=\"\",\"\",COUNTIF($K$7:K892,\"ﾘｽﾄ１\"))","v":""},"","","","","","","",{"$f":"IF(S892=\"\",\"\",COUNTIF($S$7:S892,\"該当２\"))","v":""},"","",{"$f":"IF(V892=\"\",\"\",COUNTIF($V$7:V892,\"該当３\"))","v":""}]
[821005000,8,{"v":210,"d":"210 "},{"v":5,"d":"05 "},{"v":0,"d":"000 "},"茨城県","下妻市","総上村",null,null,"","",{"$f":"IF(K893=\"\",\"\",COUNTIF($K$7:K893,\"ﾘｽﾄ１\"))","v":""},"","","","","","","",{"$f":"IF(S893=\"\",\"\",COUNTIF($S$7:S893,\"該当２\"))","v":""},"","",{"$f":"IF(V893=\"\",\"\",COUNTIF($V$7:V893,\"該当３\"))","v":""}]
[821005001,8,{"v":210,"d":"210 "},{"v":5,"d":"05 "},{"v":1,"d":"001 "},"茨城県","下妻市","総上村","袋畑",null,"","",{"$f":"IF(K894=\"\",\"\",COUNTIF($K$7:K894,\"ﾘｽﾄ１\"))","v":""},"","","","","","","",{"$f":"IF(S894=\"\",\"\",COUNTIF($S$7:S894,\"該当２\"))","v":""},"","",{"$f":"IF(V894=\"\",\"\",COUNTIF($V$7:V894,\"該当３\"))","v":""}]
[821005002,8,{"v":210,"d":"210 "},{"v":5,"d":"05 "},{"v":2,"d":"002 "},"茨城県","下妻市","総上村","古沢",null,"","",{"$f":"IF(K895=\"\",\"\",COUNTIF($K$7:K895,\"ﾘｽﾄ１\"))","v":""},"","","","","","","",{"$f":"IF(S895=\"\",\"\",COUNTIF($S$7:S895,\"該当２\"))","v":""},"","",{"$f":"IF(V895=\"\",\"\",COUNTIF($V$7:V895,\"該当３\"))","v":""}]
[821005003,8,{"v":210,"d":"210 "},{"v":5,"d":"05 "},{"v":3,"d":"003 "},"茨城県","下妻市","総上村","小島",null,"","",{"$f":"IF(K896=\"\",\"\",COUNTIF($K$7:K896,\"ﾘｽﾄ１\"))","v":""},"","","","","","","",{"$f":"IF(S896=\"\",\"\",COUNTIF($S$7:S896,\"該当２\"))","v":""},"","",{"$f":"IF(V896=\"\",\"\",COUNTIF($V$7:V896,\"該当３\"))","v":""}]
[821005004,8,{"v":210,"d":"210 "},{"v":5,"d":"05 "},{"v":4,"d":"004 "},"茨城県","下妻市","総上村","二本紀",null,"","",{"$f":"IF(K897=\"\",\"\",COUNTIF($K$7:K897,\"ﾘｽﾄ１\"))","v":""},"","","","","","","",{"$f":"IF(S897=\"\",\"\",COUNTIF($S$7:S897,\"該当２\"))","v":""},"","",{"$f":"IF(V897=\"\",\"\",COUNTIF($V$7:V897,\"該当３\"))","v":""}]
[821005005,8,{"v":210,"d":"210 "},{"v":5,"d":"05 "},{"v":5,"d":"005 "},"茨城県","下妻市","総上村","今泉",null,"","",{"$f":"IF(K898=\"\",\"\",COUNTIF($K$7:K898,\"ﾘｽﾄ１\"))","v":""},"","","","","","","",{"$f":"IF(S898=\"\",\"\",COUNTIF($S$7:S898,\"該当２\"))","v":""},"","",{"$f":"IF(V898=\"\",\"\",COUNTIF($V$7:V898,\"該当３\"))","v":""}]
[821005006,8,{"v":210,"d":"210 "},{"v":5,"d":"05 "},{"v":6,"d":"006 "},"茨城県","下妻市","総上村","中居指",null,"","",{"$f":"IF(K899=\"\",\"\",COUNTIF($K$7:K899,\"ﾘｽﾄ１\"))","v":""},"","","","","","","",{"$f":"IF(S899=\"\",\"\",COUNTIF($S$7:S899,\"該当２\"))","v":""},"","",{"$f":"IF(V899=\"\",\"\",COUNTIF($V$7:V899,\"該当３\"))","v":""}]
[821006000,8,{"v":210,"d":"210 "},{"v":6,"d":"06 "},{"v":0,"d":"000 "},"茨城県","下妻市","豊加美村",null,null,"","",{"$f":"IF(K900=\"\",\"\",COUNTIF($K$7:K900,\"ﾘｽﾄ１\"))","v":""},"","","","","","","",{"$f":"IF(S900=\"\",\"\",COUNTIF($S$7:S900,\"該当２\"))","v":""},"","",{"$f":"IF(V900=\"\",\"\",COUNTIF($V$7:V900,\"該当３\"))","v":""}]
[821006001,8,{"v":210,"d":"210 "},{"v":6,"d":"06 "},{"v":1,"d":"001 "},"茨城県","下妻市","豊加美村","加養",null,"","",{"$f":"IF(K901=\"\",\"\",COUNTIF($K$7:K901,\"ﾘｽﾄ１\"))","v":""},"","","","","","","",{"$f":"IF(S901=\"\",\"\",COUNTIF($S$7:S901,\"該当２\"))","v":""},"","",{"$f":"IF(V901=\"\",\"\",COUNTIF($V$7:V901,\"該当３\"))","v":""}]
[821006002,8,{"v":210,"d":"210 "},{"v":6,"d":"06 "},{"v":2,"d":"002 "},"茨城県","下妻市","豊加美村","新堀",null,"","",{"$f":"IF(K902=\"\",\"\",COUNTIF($K$7:K902,\"ﾘｽﾄ１\"))","v":""},"","","","","","","",{"$f":"IF(S902=\"\",\"\",COUNTIF($S$7:S902,\"該当２\"))","v":""},"","",{"$f":"IF(V902=\"\",\"\",COUNTIF($V$7:V902,\"該当３\"))","v":""}]
[821006003,8,{"v":210,"d":"210 "},{"v":6,"d":"06 "},{"v":3,"d":"003 "},"茨城県","下妻市","豊加美村","樋橋",null,"","",{"$f":"IF(K903=\"\",\"\",COUNTIF($K$7:K903,\"ﾘｽﾄ１\"))","v":""},"","","","","","","",{"$f":"IF(S903=\"\",\"\",COUNTIF($S$7:S903,\"該当２\"))","v":""},"","",{"$f":"IF(V903=\"\",\"\",COUNTIF($V$7:V903,\"該当３\"))","v":""}]
[821006004,8,{"v":210,"d":"210 "},{"v":6,"d":"06 "},{"v":4,"d":"004 "},"茨城県","下妻市","豊加美村","肘谷",null,"","",{"$f":"IF(K904=\"\",\"\",COUNTIF($K$7:K904,\"ﾘｽﾄ１\"))","v":""},"","","","","","","",{"$f":"IF(S904=\"\",\"\",COUNTIF($S$7:S904,\"該当２\"))","v":""},"","",{"$f":"IF(V904=\"\",\"\",COUNTIF($V$7:V904,\"該当３\"))","v":""}]
[821006005,8,{"v":210,"d":"210 "},{"v":6,"d":"06 "},{"v":5,"d":"005 "},"茨城県","下妻市","豊加美村","山尻",null,"","",{"$f":"IF(K905=\"\",\"\",COUNTIF($K$7:K905,\"ﾘｽﾄ１\"))","v":""},"","","","","","","",{"$f":"IF(S905=\"\",\"\",COUNTIF($S$7:S905,\"該当２\"))","v":""},"","",{"$f":"IF(V905=\"\",\"\",COUNTIF($V$7:V905,\"該当３\"))","v":""}]
[821006006,8,{"v":210,"d":"210 "},{"v":6,"d":"06 "},{"v":6,"d":"006 "},"茨城県","下妻市","豊加美村","谷田部",null,"","",{"$f":"IF(K906=\"\",\"\",COUNTIF($K$7:K906,\"ﾘｽﾄ１\"))","v":""},"","",{"$f":"IF(O906=\"該当１\",G906,\"\")","v":""},{"$f":"IF(O906=\"該当１\",\"ﾘｽﾄ2\",\"\")","v":""},{"$f":"IF(Q906=\"ﾘｽﾄ2\",H906,\"\")","v":""},"",{"$f":"IF(S906=\"該当２\",H906,\"\")","v":""},{"$f":"IF(S906=\"\",\"\",COUNTIF($S$7:S906,\"該当２\"))","v":""},{"$f":"IF(AND($S$2=H906,E906>0,E906<998),\"該当３\",\"\")","v":""},{"$f":"IF(V906=\"該当３\",I906,\"\")","v":""},{"$f":"IF(V906=\"\",\"\",COUNTIF($V$7:V906,\"該当３\"))","v":""}]
[821006007,8,{"v":210,"d":"210 "},{"v":6,"d":"06 "},{"v":7,"d":"007 "},"茨城県","下妻市","豊加美村","柳原",null,{"$f":"IF(AND($C907>0,$H907=\"\"),\"ﾘｽﾄ１\",\"\")","v":""},{"$f":"IF(K907=\"ﾘｽﾄ１\",G907,\"\")","v":""},{"$f":"IF(K907=\"\",\"\",COUNTIF($K$7:K907,\"ﾘｽﾄ１\"))","v":""},{"$f":"IF(AND(D907=0,E907>0),\"同一区\",\"\")","v":""},{"$f":"IF(AND(EXACT($K$2,G907),H907>0),\"該当１\",\"\")","v":""},"","","",{"$f":"IF(AND(Q907=\"ﾘｽﾄ2\",OR(I907=0,AND(N907=\"同一区\",E907=1))),\"該当２\",\"\")","v":""},"",{"$f":"IF(S907=\"\",\"\",COUNTIF($S$7:S907,\"該当２\"))","v":""},"","",{"$f":"IF(V907=\"\",\"\",COUNTIF($V$7:V907,\"該当３\"))","v":""}]
[821007000,8,{"v":210,"d":"210 "},{"v":7,"d":"07 "},{"v":0,"d":"000 "},"茨城県","下妻市","高道祖村",null,null,"","",{"$f":"IF(K908=\"\",\"\",COUNTIF($K$7:K908,\"ﾘｽﾄ１\"))","v":""},"","","","","","","",{"$f":"IF(S908=\"\",\"\",COUNTIF($S$7:S908,\"該当２\"))","v":""},"","",{"$f":"IF(V908=\"\",\"\",COUNTIF($V$7:V908,\"該当３\"))","v":""}]
[821007001,8,{"v":210,"d":"210 "},{"v":7,"d":"07 "},{"v":1,"d":"001 "},"茨城県","下妻市","高道祖村","本田",null,"","",{"$f":"IF(K909=\"\",\"\",COUNTIF($K$7:K909,\"ﾘｽﾄ１\"))","v":""},"","","","","","","",{"$f":"IF(S909=\"\",\"\",COUNTIF($S$7:S909,\"該当２\"))","v":""},"","",{"$f":"IF(V909=\"\",\"\",COUNTIF($V$7:V909,\"該当３\"))","v":""}]
[821007002,8,{"v":210,"d":"210 "},{"v":7,"d":"07 "},{"v":2,"d":"002 "},"茨城県","下妻市","高道祖村","原",null,"","",{"$f":"IF(K910=\"\",\"\",COUNTIF($K$7:K910,\"ﾘｽﾄ１\"))","v":""},"","","","","","","",{"$f":"IF(S910=\"\",\"\",COUNTIF($S$7:S910,\"該当２\"))","v":""},"","",{"$f":"IF(V910=\"\",\"\",COUNTIF($V$7:V910,\"該当３\"))","v":""}]
[821007003,8,{"v":210,"d":"210 "},{"v":7,"d":"07 "},{"v":3,"d":"003 "},"茨城県","下妻市","高道祖村","中台",null,"","",{"$f":"IF(K911=\"\",\"\",COUNTIF($K$7:K911,\"ﾘｽﾄ１\"))","v":""},"","","","","","","",{"$f":"IF(S911=\"\",\"\",COUNTIF($S$7:S911,\"該当２\"))","v":""},"","",{"$f":"IF(V911=\"\",\"\",COUNTIF($V$7:V911,\"該当３\"))","v":""}]
[821007004,8,{"v":210,"d":"210 "},{"v":7,"d":"07 "},{"v":4,"d":"004 "},"茨城県","下妻市","高道祖村","小渡",null,"","",{"$f":"IF(K912=\"\",\"\",COUNTIF($K$7:K912,\"ﾘｽﾄ１\"))","v":""},"","","","","","","",{"$f":"IF(S912=\"\",\"\",COUNTIF($S$7:S912,\"該当２\"))","v":""},"","",{"$f":"IF(V912=\"\",\"\",COUNTIF($V$7:V912,\"該当３\"))","v":""}]
[821008000,8,{"v":210,"d":"210 "},{"v":8,"d":"08 "},{"v":0,"d":"000 "},"茨城県","下妻市","大形村",null,null,"","",{"$f":"IF(K913=\"\",\"\",COUNTIF($K$7:K913,\"ﾘｽﾄ１\"))","v":""},"","","","","","","",{"$f":"IF(S913=\"\",\"\",COUNTIF($S$7:S913,\"該当２\"))","v":""},"","",{"$f":"IF(V913=\"\",\"\",COUNTIF($V$7:V913,\"該当３\"))","v":""}]
[821008001,8,{"v":210,"d":"210 "},{"v":8,"d":"08 "},{"v":1,"d":"001 "},"茨城県","下妻市","大形村","鎌庭、新宿",null,"","",{"$f":"IF(K914=\"\",\"\",COUNTIF($K$7:K914,\"ﾘｽﾄ１\"))","v":""},"","","","","","","",{"$f":"IF(S914=\"\",\"\",COUNTIF($S$7:S914,\"該当２\"))","v":""},"","",{"$f":"IF(V914=\"\",\"\",COUNTIF($V$7:V914,\"該当３\"))","v":""}]
[821008002,8,{"v":210,"d":"210 "},{"v":8,"d":"08 "},{"v":2,"d":"002 "},"茨城県","下妻市","大形村","鎌庭、東",null,"","",{"$f":"IF(K915=\"\",\"\",COUNTIF($K$7:K915,\"ﾘｽﾄ１\"))","v":""},"","","","","","","",{"$f":"IF(S915=\"\",\"\",COUNTIF($S$7:S915,\"該当２\"))","v":""},"","",{"$f":"IF(V915=\"\",\"\",COUNTIF($V$7:V915,\"該当３\"))","v":""}]
[821008003,8,{"v":210,"d":"210 "},{"v":8,"d":"08 "},{"v":3,"d":"003 "},"茨城県","下妻市","大形村","鎌庭、西",null,"","",{"$f":"IF(K916=\"\",\"\",COUNTIF($K$7:K916,\"ﾘｽﾄ１\"))","v":""},"","","","","","","",{"$f":"IF(S916=\"\",\"\",COUNTIF($S$7:S916,\"該当２\"))","v":""},"","",{"$f":"IF(V916=\"\",\"\",COUNTIF($V$7:V916,\"該当３\"))","v":""}]
[821008004,8,{"v":210,"d":"210 "},{"v":8,"d":"08 "},{"v":4,"d":"004 "},"茨城県","下妻市","大形村","別府",null,"","",{"$f":"IF(K917=\"\",\"\",COUNTIF($K$7:K917,\"ﾘｽﾄ１\"))","v":""},"","","","","","","",{"$f":"IF(S917=\"\",\"\",COUNTIF($S$7:S917,\"該当２\"))","v":""},"","",{"$f":"IF(V917=\"\",\"\",COUNTIF($V$7:V917,\"該当３\"))","v":""}]
[821008005,8,{"v":210,"d":"210 "},{"v":8,"d":"08 "},{"v":5,"d":"005 "},"茨城県","下妻市","大形村","皆場西",null,"","",{"$f":"IF(K918=\"\",\"\",COUNTIF($K$7:K918,\"ﾘｽﾄ１\"))","v":""},"","","","","","","",{"$f":"IF(S918=\"\",\"\",COUNTIF($S$7:S918,\"該当２\"))","v":""},"","",{"$f":"IF(V918=\"\",\"\",COUNTIF($V$7:V918,\"該当３\"))","v":""}]
[821008006,8,{"v":210,"d":"210 "},{"v":8,"d":"08 "},{"v":6,"d":"006 "},"茨城県","下妻市","大形村","皆場東",null,"","",{"$f":"IF(K919=\"\",\"\",COUNTIF($K$7:K919,\"ﾘｽﾄ１\"))","v":""},"","","","","","","",{"$f":"IF(S919=\"\",\"\",COUNTIF($S$7:S919,\"該当２\"))","v":""},"","",{"$f":"IF(V919=\"\",\"\",COUNTIF($V$7:V919,\"該当３\"))","v":""}]
[821008007,8,{"v":210,"d":"210 "},{"v":8,"d":"08 "},{"v":7,"d":"007 "},"茨城県","下妻市","大形村","五箇",null,"","",{"$f":"IF(K920=\"\",\"\",COUNTIF($K$7:K920,\"ﾘｽﾄ１\"))","v":""},"","","","","","","",{"$f":"IF(S920=\"\",\"\",COUNTIF($S$7:S920,\"該当２\"))","v":""},"","",{"$f":"IF(V920=\"\",\"\",COUNTIF($V$7:V920,\"該当３\"))","v":""}]
[821008008,8,{"v":210,"d":"210 "},{"v":8,"d":"08 "},{"v":8,"d":"008 "},"茨城県","下妻市","大形村","村岡",null,"","",{"$f":"IF(K921=\"\",\"\",COUNTIF($K$7:K921,\"ﾘｽﾄ１\"))","v":""},"","","","","","","",{"$f":"IF(S921=\"\",\"\",COUNTIF($S$7:S921,\"該当２\"))","v":""},"","",{"$f":"IF(V921=\"\",\"\",COUNTIF($V$7:V921,\"該当３\"))","v":""}]
[821009000,8,{"v":210,"d":"210 "},{"v":9,"d":"09 "},{"v":0,"d":"000 "},"茨城県","下妻市","蚕飼村",null,null,"","",{"$f":"IF(K922=\"\",\"\",COUNTIF($K$7:K922,\"ﾘｽﾄ１\"))","v":""},"","","","","","","",{"$f":"IF(S922=\"\",\"\",COUNTIF($S$7:S922,\"該当２\"))","v":""},"","",{"$f":"IF(V922=\"\",\"\",COUNTIF($V$7:V922,\"該当３\"))","v":""}]
[821009001,8,{"v":210,"d":"210 "},{"v":9,"d":"09 "},{"v":1,"d":"001 "},"茨城県","下妻市","蚕飼村","亀崎",null,"","",{"$f":"IF(K923=\"\",\"\",COUNTIF($K$7:K923,\"ﾘｽﾄ１\"))","v":""},"","","","","","","",{"$f":"IF(S923=\"\",\"\",COUNTIF($S$7:S923,\"該当２\"))","v":""},"","",{"$f":"IF(V923=\"\",\"\",COUNTIF($V$7:V923,\"該当３\"))","v":""}]
[821009002,8,{"v":210,"d":"210 "},{"v":9,"d":"09 "},{"v":2,"d":"002 "},"茨城県","下妻市","蚕飼村","大園木",null,"","",{"$f":"IF(K924=\"\",\"\",COUNTIF($K$7:K924,\"ﾘｽﾄ１\"))","v":""},"","","","","","","",{"$f":"IF(S924=\"\",\"\",COUNTIF($S$7:S924,\"該当２\"))","v":""},"","",{"$f":"IF(V924=\"\",\"\",COUNTIF($V$7:V924,\"該当３\"))","v":""}]
[821009003,8,{"v":210,"d":"210 "},{"v":9,"d":"09 "},{"v":3,"d":"003 "},"茨城県","下妻市","蚕飼村","砂子",null,"","",{"$f":"IF(K925=\"\",\"\",COUNTIF($K$7:K925,\"ﾘｽﾄ１\"))","v":""},"","","","","","","",{"$f":"IF(S925=\"\",\"\",COUNTIF($S$7:S925,\"該当２\"))","v":""},"","",{"$f":"IF(V925=\"\",\"\",COUNTIF($V$7:V925,\"該当３\"))","v":""}]
[821009004,8,{"v":210,"d":"210 "},{"v":9,"d":"09 "},{"v":4,"d":"004 "},"茨城県","下妻市","蚕飼村","東鯨",null,"","",{"$f":"IF(K926=\"\",\"\",COUNTIF($K$7:K926,\"ﾘｽﾄ１\"))","v":""},"","","","","","","",{"$f":"IF(S926=\"\",\"\",COUNTIF($S$7:S926,\"該当２\"))","v":""},"","",{"$f":"IF(V926=\"\",\"\",COUNTIF($V$7:V926,\"該当３\"))","v":""}]
[821009005,8,{"v":210,"d":"210 "},{"v":9,"d":"09 "},{"v":5,"d":"005 "},"茨城県","下妻市","蚕飼村","西鯨",null,"","",{"$f":"IF(K927=\"\",\"\",COUNTIF($K$7:K927,\"ﾘｽﾄ１\"))","v":""},"","","","","","","",{"$f":"IF(S927=\"\",\"\",COUNTIF($S$7:S927,\"該当２\"))","v":""},"","",{"$f":"IF(V927=\"\",\"\",COUNTIF($V$7:V927,\"該当３\"))","v":""}]
[821010000,8,{"v":210,"d":"210 "},{"v":10,"d":"10 "},{"v":0,"d":"000 "},"茨城県","下妻市","玉村２－１",null,null,"","",{"$f":"IF(K928=\"\",\"\",COUNTIF($K$7:K928,\"ﾘｽﾄ１\"))","v":""},"","","","","","","",{"$f":"IF(S928=\"\",\"\",COUNTIF($S$7:S928,\"該当２\"))","v":""},"","",{"$f":"IF(V928=\"\",\"\",COUNTIF($V$7:V928,\"該当３\"))","v":""}]
[821010001,8,{"v":210,"d":"210 "},{"v":10,"d":"10 "},{"v":1,"d":"001 "},"茨城県","下妻市","玉村２－１","原",null,"","",{"$f":"IF(K929=\"\",\"\",COUNTIF($K$7:K929,\"ﾘｽﾄ１\"))","v":""},"","","","","","","",{"$f":"IF(S929=\"\",\"\",COUNTIF($S$7:S929,\"該当２\"))","v":""},"","",{"$f":"IF(V929=\"\",\"\",COUNTIF($V$7:V929,\"該当３\"))","v":""}]
[821010002,8,{"v":210,"d":"210 "},{"v":10,"d":"10 "},{"v":2,"d":"002 "},"茨城県","下妻市","玉村２－１","羽子",null,"","",{"$f":"IF(K930=\"\",\"\",COUNTIF($K$7:K930,\"ﾘｽﾄ１\"))","v":""},"","","","","","","",{"$f":"IF(S930=\"\",\"\",COUNTIF($S$7:S930,\"該当２\"))","v":""},"","",{"$f":"IF(V930=\"\",\"\",COUNTIF($V$7:V930,\"該当３\"))","v":""}]
[821010003,8,{"v":210,"d":"210 "},{"v":10,"d":"10 "},{"v":3,"d":"003 "},"茨城県","下妻市","玉村２－１","原新田",null,"","",{"$f":"IF(K931=\"\",\"\",COUNTIF($K$7:K931,\"ﾘｽﾄ１\"))","v":""},"","","","","","","",{"$f":"IF(S931=\"\",\"\",COUNTIF($S$7:S931,\"該当２\"))","v":""},"","",{"$f":"IF(V931=\"\",\"\",COUNTIF($V$7:V931,\"該当３\"))","v":""}]
[821011000,8,{"v":210,"d":"210 "},{"v":11,"d":"11 "},{"v":0,"d":"000 "},"茨城県","下妻市","宗道村",null,null,"","",{"$f":"IF(K932=\"\",\"\",COUNTIF($K$7:K932,\"ﾘｽﾄ１\"))","v":""},"","","","","","","",{"$f":"IF(S932=\"\",\"\",COUNTIF($S$7:S932,\"該当２\"))","v":""},"","",{"$f":"IF(V932=\"\",\"\",COUNTIF($V$7:V932,\"該当３\"))","v":""}]
[821011001,8,{"v":210,"d":"210 "},{"v":11,"d":"11 "},{"v":1,"d":"001 "},"茨城県","下妻市","宗道村","田下",null,"","",{"$f":"IF(K933=\"\",\"\",COUNTIF($K$7:K933,\"ﾘｽﾄ１\"))","v":""},"","","","","","","",{"$f":"IF(S933=\"\",\"\",COUNTIF($S$7:S933,\"該当２\"))","v":""},"","",{"$f":"IF(V933=\"\",\"\",COUNTIF($V$7:V933,\"該当３\"))","v":""}]
[821011002,8,{"v":210,"d":"210 "},{"v":11,"d":"11 "},{"v":2,"d":"002 "},"茨城県","下妻市","宗道村","下栗",null,"","",{"$f":"IF(K934=\"\",\"\",COUNTIF($K$7:K934,\"ﾘｽﾄ１\"))","v":""},"","","","","","","",{"$f":"IF(S934=\"\",\"\",COUNTIF($S$7:S934,\"該当２\"))","v":""},"","",{"$f":"IF(V934=\"\",\"\",COUNTIF($V$7:V934,\"該当３\"))","v":""}]
[821011003,8,{"v":210,"d":"210 "},{"v":11,"d":"11 "},{"v":3,"d":"003 "},"茨城県","下妻市","宗道村","本宗道",null,"","",{"$f":"IF(K935=\"\",\"\",COUNTIF($K$7:K935,\"ﾘｽﾄ１\"))","v":""},"","","","","","","",{"$f":"IF(S935=\"\",\"\",COUNTIF($S$7:S935,\"該当２\"))","v":""},"","",{"$f":"IF(V935=\"\",\"\",COUNTIF($V$7:V935,\"該当３\"))","v":""}]
[821011004,8,{"v":210,"d":"210 "},{"v":11,"d":"11 "},{"v":4,"d":"004 "},"茨城県","下妻市","宗道村","宗道",null,"","",{"$f":"IF(K936=\"\",\"\",COUNTIF($K$7:K936,\"ﾘｽﾄ１\"))","v":""},"","","","","","","",{"$f":"IF(S936=\"\",\"\",COUNTIF($S$7:S936,\"該当２\"))","v":""},"","",{"$f":"IF(V936=\"\",\"\",COUNTIF($V$7:V936,\"該当３\"))","v":""}]
[821011005,8,{"v":210,"d":"210 "},{"v":11,"d":"11 "},{"v":5,"d":"005 "},"茨城県","下妻市","宗道村","見田",null,"","",{"$f":"IF(K937=\"\",\"\",COUNTIF($K$7:K937,\"ﾘｽﾄ１\"))","v":""},"","","","","","","",{"$f":"IF(S937=\"\",\"\",COUNTIF($S$7:S937,\"該当２\"))","v":""},"","",{"$f":"IF(V937=\"\",\"\",COUNTIF($V$7:V937,\"該当３\"))","v":""}]
[821011006,8,{"v":210,"d":"210 "},{"v":11,"d":"11 "},{"v":6,"d":"006 "},"茨城県","下妻市","宗道村","唐崎",null,"","",{"$f":"IF(K938=\"\",\"\",COUNTIF($K$7:K938,\"ﾘｽﾄ１\"))","v":""},"","","","","","","",{"$f":"IF(S938=\"\",\"\",COUNTIF($S$7:S938,\"該当２\"))","v":""},"","",{"$f":"IF(V938=\"\",\"\",COUNTIF($V$7:V938,\"該当３\"))","v":""}]
[821011007,8,{"v":210,"d":"210 "},{"v":11,"d":"11 "},{"v":7,"d":"007 "},"茨城県","下妻市","宗道村","長萱",null,"","",{"$f":"IF(K939=\"\",\"\",COUNTIF($K$7:K939,\"ﾘｽﾄ１\"))","v":""},"","","","","","","",{"$f":"IF(S939=\"\",\"\",COUNTIF($S$7:S939,\"該当２\"))","v":""},"","",{"$f":"IF(V939=\"\",\"\",COUNTIF($V$7:V939,\"該当３\"))","v":""}]
[821011008,8,{"v":210,"d":"210 "},{"v":11,"d":"11 "},{"v":8,"d":"008 "},"茨城県","下妻市","宗道村","伊古立",null,"","",{"$f":"IF(K940=\"\",\"\",COUNTIF($K$7:K940,\"ﾘｽﾄ１\"))","v":""},"","","","","","","",{"$f":"IF(S940=\"\",\"\",COUNTIF($S$7:S940,\"該当２\"))","v":""},"","",{"$f":"IF(V940=\"\",\"\",COUNTIF($V$7:V940,\"該当３\"))","v":""}]
[821100000,8,{"v":211,"d":"211 "},{"v":0,"d":"00 "},{"v":0,"d":"000 "},"茨城県","常総市",{"$nulls":3},"ﾘｽﾄ１","常総市",{"$f":"IF(K941=\"\",\"\",COUNTIF($K$7:K941,\"ﾘｽﾄ１\"))","v":9},"","","","","","","",{"$f":"IF(S941=\"\",\"\",COUNTIF($S$7:S941,\"該当２\"))","v":""},"","",{"$f":"IF(V941=\"\",\"\",COUNTIF($V$7:V941,\"該当３\"))","v":""}]
[821101000,8,{"v":211,"d":"211 "},{"v":1,"d":"01 "},{"v":0,"d":"000 "},"茨城県","常総市","水海道町",null,null,"","",{"$f":"IF(K942=\"\",\"\",COUNTIF($K$7:K942,\"ﾘｽﾄ１\"))","v":""},"","","","","","","",{"$f":"IF(S942=\"\",\"\",COUNTIF($S$7:S942,\"該当２\"))","v":""},"","",{"$f":"IF(V942=\"\",\"\",COUNTIF($V$7:V942,\"該当３\"))","v":""}]
[821101001,8,{"v":211,"d":"211 "},{"v":1,"d":"01 "},{"v":1,"d":"001 "},"茨城県","常総市","水海道町","水海道高野町",null,"","",{"$f":"IF(K943=\"\",\"\",COUNTIF($K$7:K943,\"ﾘｽﾄ１\"))","v":""},"","","","","","","",{"$f":"IF(S943=\"\",\"\",COUNTIF($S$7:S943,\"該当２\"))","v":""},"","",{"$f":"IF(V943=\"\",\"\",COUNTIF($V$7:V943,\"該当３\"))","v":""}]
[821101002,8,{"v":211,"d":"211 "},{"v":1,"d":"01 "},{"v":2,"d":"002 "},"茨城県","常総市","水海道町","水海道天満町",null,"","",{"$f":"IF(K944=\"\",\"\",COUNTIF($K$7:K944,\"ﾘｽﾄ１\"))","v":""},"","","","","","","",{"$f":"IF(S944=\"\",\"\",COUNTIF($S$7:S944,\"該当２\"))","v":""},"","",{"$f":"IF(V944=\"\",\"\",COUNTIF($V$7:V944,\"該当３\"))","v":""}]
[821101003,8,{"v":211,"d":"211 "},{"v":1,"d":"01 "},{"v":3,"d":"003 "},"茨城県","常総市","水海道町","水海道亀岡町、水海道本町、水海道元町",null,"","",{"$f":"IF(K945=\"\",\"\",COUNTIF($K$7:K945,\"ﾘｽﾄ１\"))","v":""},"","","","","","","",{"$f":"IF(S945=\"\",\"\",COUNTIF($S$7:S945,\"該当２\"))","v":""},"","",{"$f":"IF(V945=\"\",\"\",COUNTIF($V$7:V945,\"該当３\"))","v":""}]
[821101004,8,{"v":211,"d":"211 "},{"v":1,"d":"01 "},{"v":4,"d":"004 "},"茨城県","常総市","水海道町","水海道橋本町",null,"","",{"$f":"IF(K946=\"\",\"\",COUNTIF($K$7:K946,\"ﾘｽﾄ１\"))","v":""},"","","","","","","",{"$f":"IF(S946=\"\",\"\",COUNTIF($S$7:S946,\"該当２\"))","v":""},"","",{"$f":"IF(V946=\"\",\"\",COUNTIF($V$7:V946,\"該当３\"))","v":""}]
[821101005,8,{"v":211,"d":"211 "},{"v":1,"d":"01 "},{"v":5,"d":"005 "},"茨城県","常総市","水海道町","水海道森下町",null,"","",{"$f":"IF(K947=\"\",\"\",COUNTIF($K$7:K947,\"ﾘｽﾄ１\"))","v":""},"","","","","","","",{"$f":"IF(S947=\"\",\"\",COUNTIF($S$7:S947,\"該当２\"))","v":""},"","",{"$f":"IF(V947=\"\",\"\",COUNTIF($V$7:V947,\"該当３\"))","v":""}]
[821101006,8,{"v":211,"d":"211 "},{"v":1,"d":"01 "},{"v":6,"d":"006 "},"茨城県","常総市","水海道町","水海道諏訪町、水海道淵頭町",null,"","",{"$f":"IF(K948=\"\",\"\",COUNTIF($K$7:K948,\"ﾘｽﾄ１\"))","v":""},"","","","","","","",{"$f":"IF(S948=\"\",\"\",COUNTIF($S$7:S948,\"該当２\"))","v":""},"","",{"$f":"IF(V948=\"\",\"\",COUNTIF($V$7:V948,\"該当３\"))","v":""}]
[821101007,8,{"v":211,"d":"211 "},{"v":1,"d":"01 "},{"v":7,"d":"007 "},"茨城県","常総市","水海道町","水海道宝町、水海道栄町",null,"","",{"$f":"IF(K949=\"\",\"\",COUNTIF($K$7:K949,\"ﾘｽﾄ１\"))","v":""},"","","","","","","",{"$f":"IF(S949=\"\",\"\",COUNTIF($S$7:S949,\"該当２\"))","v":""},"","",{"$f":"IF(V949=\"\",\"\",COUNTIF($V$7:V949,\"該当３\"))","v":""}]
[821101008,8,{"v":211,"d":"211 "},{"v":1,"d":"01 "},{"v":8,"d":"008 "},"茨城県","常総市","水海道町","水海道山田町",null,"","",{"$f":"IF(K950=\"\",\"\",COUNTIF($K$7:K950,\"ﾘｽﾄ１\"))","v":""},"","","","","","","",{"$f":"IF(S950=\"\",\"\",COUNTIF($S$7:S950,\"該当２\"))","v":""},"","",{"$f":"IF(V950=\"\",\"\",COUNTIF($V$7:V950,\"該当３\"))","v":""}]
[821102000,8,{"v":211,"d":"211 "},{"v":2,"d":"02 "},{"v":0,"d":"000 "},"茨城県","常総市","坂手村",null,null,"","",{"$f":"IF(K951=\"\",\"\",COUNTIF($K$7:K951,\"ﾘｽﾄ１\"))","v":""},"","","","","","","",{"$f":"IF(S951=\"\",\"\",COUNTIF($S$7:S951,\"該当２\"))","v":""},"","",{"$f":"IF(V951=\"\",\"\",COUNTIF($V$7:V951,\"該当３\"))","v":""}]
[821102001,8,{"v":211,"d":"211 "},{"v":2,"d":"02 "},{"v":1,"d":"001 "},"茨城県","常総市","坂手村","樋ノ口、米山",null,"","",{"$f":"IF(K952=\"\",\"\",COUNTIF($K$7:K952,\"ﾘｽﾄ１\"))","v":""},"","","","","","","",{"$f":"IF(S952=\"\",\"\",COUNTIF($S$7:S952,\"該当２\"))","v":""},"","",{"$f":"IF(V952=\"\",\"\",COUNTIF($V$7:V952,\"該当３\"))","v":""}]
[821102002,8,{"v":211,"d":"211 "},{"v":2,"d":"02 "},{"v":2,"d":"002 "},"茨城県","常総市","坂手村","本郷",null,"","",{"$f":"IF(K953=\"\",\"\",COUNTIF($K$7:K953,\"ﾘｽﾄ１\"))","v":""},"","","","","","","",{"$f":"IF(S953=\"\",\"\",COUNTIF($S$7:S953,\"該当２\"))","v":""},"","",{"$f":"IF(V953=\"\",\"\",COUNTIF($V$7:V953,\"該当３\"))","v":""}]
[821102003,8,{"v":211,"d":"211 "},{"v":2,"d":"02 "},{"v":3,"d":"003 "},"茨城県","常総市","坂手村","岡ノ内",null,"","",{"$f":"IF(K954=\"\",\"\",COUNTIF($K$7:K954,\"ﾘｽﾄ１\"))","v":""},"","","","","","","",{"$f":"IF(S954=\"\",\"\",COUNTIF($S$7:S954,\"該当２\"))","v":""},"","",{"$f":"IF(V954=\"\",\"\",COUNTIF($V$7:V954,\"該当３\"))","v":""}]
[821102004,8,{"v":211,"d":"211 "},{"v":2,"d":"02 "},{"v":4,"d":"004 "},"茨城県","常総市","坂手村","島、江島",null,"","",{"$f":"IF(K955=\"\",\"\",COUNTIF($K$7:K955,\"ﾘｽﾄ１\"))","v":""},"","","","","","","",{"$f":"IF(S955=\"\",\"\",COUNTIF($S$7:S955,\"該当２\"))","v":""},"","",{"$f":"IF(V955=\"\",\"\",COUNTIF($V$7:V955,\"該当３\"))","v":""}]
[821102005,8,{"v":211,"d":"211 "},{"v":2,"d":"02 "},{"v":5,"d":"005 "},"茨城県","常総市","坂手村","宿",null,"","",{"$f":"IF(K956=\"\",\"\",COUNTIF($K$7:K956,\"ﾘｽﾄ１\"))","v":""},"","","","","","","",{"$f":"IF(S956=\"\",\"\",COUNTIF($S$7:S956,\"該当２\"))","v":""},"","",{"$f":"IF(V956=\"\",\"\",COUNTIF($V$7:V956,\"該当３\"))","v":""}]
[821102006,8,{"v":211,"d":"211 "},{"v":2,"d":"02 "},{"v":6,"d":"006 "},"茨城県","常総市","坂手村","飯田山",null,"","",{"$f":"IF(K957=\"\",\"\",COUNTIF($K$7:K957,\"ﾘｽﾄ１\"))","v":""},"","","","","","","",{"$f":"IF(S957=\"\",\"\",COUNTIF($S$7:S957,\"該当２\"))","v":""},"","",{"$f":"IF(V957=\"\",\"\",COUNTIF($V$7:V957,\"該当３\"))","v":""}]
[821102007,8,{"v":211,"d":"211 "},{"v":2,"d":"02 "},{"v":7,"d":"007 "},"茨城県","常総市","坂手村","野口",null,"","",{"$f":"IF(K958=\"\",\"\",COUNTIF($K$7:K958,\"ﾘｽﾄ１\"))","v":""},"","","","","","","",{"$f":"IF(S958=\"\",\"\",COUNTIF($S$7:S958,\"該当２\"))","v":""},"","",{"$f":"IF(V958=\"\",\"\",COUNTIF($V$7:V958,\"該当３\"))","v":""}]
[821102008,8,{"v":211,"d":"211 "},{"v":2,"d":"02 "},{"v":8,"d":"008 "},"茨城県","常総市","坂手村","遠大久保",null,"","",{"$f":"IF(K959=\"\",\"\",COUNTIF($K$7:K959,\"ﾘｽﾄ１\"))","v":""},"","","","","","","",{"$f":"IF(S959=\"\",\"\",COUNTIF($S$7:S959,\"該当２\"))","v":""},"","",{"$f":"IF(V959=\"\",\"\",COUNTIF($V$7:V959,\"該当３\"))","v":""}]
[821102009,8,{"v":211,"d":"211 "},{"v":2,"d":"02 "},{"v":9,"d":"009 "},"茨城県","常総市","坂手村","時信、北呂山",null,"","",{"$f":"IF(K960=\"\",\"\",COUNTIF($K$7:K960,\"ﾘｽﾄ１\"))","v":""},"","","","","","","",{"$f":"IF(S960=\"\",\"\",COUNTIF($S$7:S960,\"該当２\"))","v":""},"","",{"$f":"IF(V960=\"\",\"\",COUNTIF($V$7:V960,\"該当３\"))","v":""}]
[821102010,8,{"v":211,"d":"211 "},{"v":2,"d":"02 "},{"v":10,"d":"010 "},"茨城県","常総市","坂手村","篠山",null,"","",{"$f":"IF(K961=\"\",\"\",COUNTIF($K$7:K961,\"ﾘｽﾄ１\"))","v":""},"","","","","","","",{"$f":"IF(S961=\"\",\"\",COUNTIF($S$7:S961,\"該当２\"))","v":""},"","",{"$f":"IF(V961=\"\",\"\",COUNTIF($V$7:V961,\"該当３\"))","v":""}]
[821102011,8,{"v":211,"d":"211 "},{"v":2,"d":"02 "},{"v":11,"d":"011 "},"茨城県","常総市","坂手村","貝置",null,"","",{"$f":"IF(K962=\"\",\"\",COUNTIF($K$7:K962,\"ﾘｽﾄ１\"))","v":""},"","","","","","","",{"$f":"IF(S962=\"\",\"\",COUNTIF($S$7:S962,\"該当２\"))","v":""},"","",{"$f":"IF(V962=\"\",\"\",COUNTIF($V$7:V962,\"該当３\"))","v":""}]
[821103000,8,{"v":211,"d":"211 "},{"v":3,"d":"03 "},{"v":0,"d":"000 "},"茨城県","常総市","豊岡村",null,null,"","",{"$f":"IF(K963=\"\",\"\",COUNTIF($K$7:K963,\"ﾘｽﾄ１\"))","v":""},"","","","","","","",{"$f":"IF(S963=\"\",\"\",COUNTIF($S$7:S963,\"該当２\"))","v":""},"","",{"$f":"IF(V963=\"\",\"\",COUNTIF($V$7:V963,\"該当３\"))","v":""}]
[821103001,8,{"v":211,"d":"211 "},{"v":3,"d":"03 "},{"v":1,"d":"001 "},"茨城県","常総市","豊岡村","北部、飯沼",null,"","",{"$f":"IF(K964=\"\",\"\",COUNTIF($K$7:K964,\"ﾘｽﾄ１\"))","v":""},"","","","","","","",{"$f":"IF(S964=\"\",\"\",COUNTIF($S$7:S964,\"該当２\"))","v":""},"","",{"$f":"IF(V964=\"\",\"\",COUNTIF($V$7:V964,\"該当３\"))","v":""}]
[821103002,8,{"v":211,"d":"211 "},{"v":3,"d":"03 "},{"v":2,"d":"002 "},"茨城県","常総市","豊岡村","横曽根",null,"","",{"$f":"IF(K965=\"\",\"\",COUNTIF($K$7:K965,\"ﾘｽﾄ１\"))","v":""},"","","","","","","",{"$f":"IF(S965=\"\",\"\",COUNTIF($S$7:S965,\"該当２\"))","v":""},"","",{"$f":"IF(V965=\"\",\"\",COUNTIF($V$7:V965,\"該当３\"))","v":""}]
[821103003,8,{"v":211,"d":"211 "},{"v":3,"d":"03 "},{"v":3,"d":"003 "},"茨城県","常総市","豊岡村","前原、河原",null,"","",{"$f":"IF(K966=\"\",\"\",COUNTIF($K$7:K966,\"ﾘｽﾄ１\"))","v":""},"","","","","","","",{"$f":"IF(S966=\"\",\"\",COUNTIF($S$7:S966,\"該当２\"))","v":""},"","",{"$f":"IF(V966=\"\",\"\",COUNTIF($V$7:V966,\"該当３\"))","v":""}]
[821103004,8,{"v":211,"d":"211 "},{"v":3,"d":"03 "},{"v":4,"d":"004 "},"茨城県","常総市","豊岡村","砂原",null,"","",{"$f":"IF(K967=\"\",\"\",COUNTIF($K$7:K967,\"ﾘｽﾄ１\"))","v":""},"","","","","","","",{"$f":"IF(S967=\"\",\"\",COUNTIF($S$7:S967,\"該当２\"))","v":""},"","",{"$f":"IF(V967=\"\",\"\",COUNTIF($V$7:V967,\"該当３\"))","v":""}]
[821103005,8,{"v":211,"d":"211 "},{"v":3,"d":"03 "},{"v":5,"d":"005 "},"茨城県","常総市","豊岡村","浜",null,"","",{"$f":"IF(K968=\"\",\"\",COUNTIF($K$7:K968,\"ﾘｽﾄ１\"))","v":""},"","","","","","","",{"$f":"IF(S968=\"\",\"\",COUNTIF($S$7:S968,\"該当２\"))","v":""},"","",{"$f":"IF(V968=\"\",\"\",COUNTIF($V$7:V968,\"該当３\"))","v":""}]
[821103006,8,{"v":211,"d":"211 "},{"v":3,"d":"03 "},{"v":6,"d":"006 "},"茨城県","常総市","豊岡村","谷津",null,"","",{"$f":"IF(K969=\"\",\"\",COUNTIF($K$7:K969,\"ﾘｽﾄ１\"))","v":""},"","","","","","","",{"$f":"IF(S969=\"\",\"\",COUNTIF($S$7:S969,\"該当２\"))","v":""},"","",{"$f":"IF(V969=\"\",\"\",COUNTIF($V$7:V969,\"該当３\"))","v":""}]
[821103007,8,{"v":211,"d":"211 "},{"v":3,"d":"03 "},{"v":7,"d":"007 "},"茨城県","常総市","豊岡村","報恩寺",null,"","",{"$f":"IF(K970=\"\",\"\",COUNTIF($K$7:K970,\"ﾘｽﾄ１\"))","v":""},"","",{"$f":"IF(O970=\"該当１\",G970,\"\")","v":""},{"$f":"IF(O970=\"該当１\",\"ﾘｽﾄ2\",\"\")","v":""},{"$f":"IF(Q970=\"ﾘｽﾄ2\",H970,\"\")","v":""},"",{"$f":"IF(S970=\"該当２\",H970,\"\")","v":""},{"$f":"IF(S970=\"\",\"\",COUNTIF($S$7:S970,\"該当２\"))","v":""},{"$f":"IF(AND($S$2=H970,E970>0,E970<998),\"該当３\",\"\")","v":""},{"$f":"IF(V970=\"該当３\",I970,\"\")","v":""},{"$f":"IF(V970=\"\",\"\",COUNTIF($V$7:V970,\"該当３\"))","v":""}]
[821103008,8,{"v":211,"d":"211 "},{"v":3,"d":"03 "},{"v":8,"d":"008 "},"茨城県","常総市","豊岡村","芋内",null,{"$f":"IF(AND($C971>0,$H971=\"\"),\"ﾘｽﾄ１\",\"\")","v":""},{"$f":"IF(K971=\"ﾘｽﾄ１\",G971,\"\")","v":""},{"$f":"IF(K971=\"\",\"\",COUNTIF($K$7:K971,\"ﾘｽﾄ１\"))","v":""},{"$f":"IF(AND(D971=0,E971>0),\"同一区\",\"\")","v":""},{"$f":"IF(AND(EXACT($K$2,G971),H971>0),\"該当１\",\"\")","v":""},"","","",{"$f":"IF(AND(Q971=\"ﾘｽﾄ2\",OR(I971=0,AND(N971=\"同一区\",E971=1))),\"該当２\",\"\")","v":""},"",{"$f":"IF(S971=\"\",\"\",COUNTIF($S$7:S971,\"該当２\"))","v":""},"","",{"$f":"IF(V971=\"\",\"\",COUNTIF($V$7:V971,\"該当３\"))","v":""}]
[821103009,8,{"v":211,"d":"211 "},{"v":3,"d":"03 "},{"v":9,"d":"009 "},"茨城県","常総市","豊岡村","下谷原",null,"","",{"$f":"IF(K972=\"\",\"\",COUNTIF($K$7:K972,\"ﾘｽﾄ１\"))","v":""},"","","","","","","",{"$f":"IF(S972=\"\",\"\",COUNTIF($S$7:S972,\"該当２\"))","v":""},"","",{"$f":"IF(V972=\"\",\"\",COUNTIF($V$7:V972,\"該当３\"))","v":""}]
[821103010,8,{"v":211,"d":"211 "},{"v":3,"d":"03 "},{"v":10,"d":"010 "},"茨城県","常総市","豊岡村","六軒",null,"","",{"$f":"IF(K973=\"\",\"\",COUNTIF($K$7:K973,\"ﾘｽﾄ１\"))","v":""},"","","","","","","",{"$f":"IF(S973=\"\",\"\",COUNTIF($S$7:S973,\"該当２\"))","v":""},"","",{"$f":"IF(V973=\"\",\"\",COUNTIF($V$7:V973,\"該当３\"))","v":""}]
[821103011,8,{"v":211,"d":"211 "},{"v":3,"d":"03 "},{"v":11,"d":"011 "},"茨城県","常総市","豊岡村","二ツ谷、細野上",null,"","",{"$f":"IF(K974=\"\",\"\",COUNTIF($K$7:K974,\"ﾘｽﾄ１\"))","v":""},"","","","","","","",{"$f":"IF(S974=\"\",\"\",COUNTIF($S$7:S974,\"該当２\"))","v":""},"","",{"$f":"IF(V974=\"\",\"\",COUNTIF($V$7:V974,\"該当３\"))","v":""}]
[821103012,8,{"v":211,"d":"211 "},{"v":3,"d":"03 "},{"v":12,"d":"012 "},"茨城県","常総市","豊岡村","細野",null,"","",{"$f":"IF(K975=\"\",\"\",COUNTIF($K$7:K975,\"ﾘｽﾄ１\"))","v":""},"","","","","","","",{"$f":"IF(S975=\"\",\"\",COUNTIF($S$7:S975,\"該当２\"))","v":""},"","",{"$f":"IF(V975=\"\",\"\",COUNTIF($V$7:V975,\"該当３\"))","v":""}]
[821104000,8,{"v":211,"d":"211 "},{"v":4,"d":"04 "},{"v":0,"d":"000 "},"茨城県","常総市","菅原村",null,null,"","",{"$f":"IF(K976=\"\",\"\",COUNTIF($K$7:K976,\"ﾘｽﾄ１\"))","v":""},"","","","","","","",{"$f":"IF(S976=\"\",\"\",COUNTIF($S$7:S976,\"該当２\"))","v":""},"","",{"$f":"IF(V976=\"\",\"\",COUNTIF($V$7:V976,\"該当３\"))","v":""}]
[821104001,8,{"v":211,"d":"211 "},{"v":4,"d":"04 "},{"v":1,"d":"001 "},"茨城県","常総市","菅原村","天神下、内久根",null,"","",{"$f":"IF(K977=\"\",\"\",COUNTIF($K$7:K977,\"ﾘｽﾄ１\"))","v":""},"","","","","","","",{"$f":"IF(S977=\"\",\"\",COUNTIF($S$7:S977,\"該当２\"))","v":""},"","",{"$f":"IF(V977=\"\",\"\",COUNTIF($V$7:V977,\"該当３\"))","v":""}]
[821104002,8,{"v":211,"d":"211 "},{"v":4,"d":"04 "},{"v":2,"d":"002 "},"茨城県","常総市","菅原村","駒込、中新田",null,"","",{"$f":"IF(K978=\"\",\"\",COUNTIF($K$7:K978,\"ﾘｽﾄ１\"))","v":""},"","","","","","","",{"$f":"IF(S978=\"\",\"\",COUNTIF($S$7:S978,\"該当２\"))","v":""},"","",{"$f":"IF(V978=\"\",\"\",COUNTIF($V$7:V978,\"該当３\"))","v":""}]
[821104003,8,{"v":211,"d":"211 "},{"v":4,"d":"04 "},{"v":3,"d":"003 "},"茨城県","常総市","菅原村","山口",null,"","",{"$f":"IF(K979=\"\",\"\",COUNTIF($K$7:K979,\"ﾘｽﾄ１\"))","v":""},"","","","","","","",{"$f":"IF(S979=\"\",\"\",COUNTIF($S$7:S979,\"該当２\"))","v":""},"","",{"$f":"IF(V979=\"\",\"\",COUNTIF($V$7:V979,\"該当３\"))","v":""}]
[821104004,8,{"v":211,"d":"211 "},{"v":4,"d":"04 "},{"v":4,"d":"004 "},"茨城県","常総市","菅原村","上口",null,"","",{"$f":"IF(K980=\"\",\"\",COUNTIF($K$7:K980,\"ﾘｽﾄ１\"))","v":""},"","","","","","","",{"$f":"IF(S980=\"\",\"\",COUNTIF($S$7:S980,\"該当２\"))","v":""},"","",{"$f":"IF(V980=\"\",\"\",COUNTIF($V$7:V980,\"該当３\"))","v":""}]
[821104005,8,{"v":211,"d":"211 "},{"v":4,"d":"04 "},{"v":5,"d":"005 "},"茨城県","常総市","菅原村","柏木",null,"","",{"$f":"IF(K981=\"\",\"\",COUNTIF($K$7:K981,\"ﾘｽﾄ１\"))","v":""},"","","","","","","",{"$f":"IF(S981=\"\",\"\",COUNTIF($S$7:S981,\"該当２\"))","v":""},"","",{"$f":"IF(V981=\"\",\"\",COUNTIF($V$7:V981,\"該当３\"))","v":""}]
[821104006,8,{"v":211,"d":"211 "},{"v":4,"d":"04 "},{"v":6,"d":"006 "},"茨城県","常総市","菅原村","上新田",null,"","",{"$f":"IF(K982=\"\",\"\",COUNTIF($K$7:K982,\"ﾘｽﾄ１\"))","v":""},"","","","","","","",{"$f":"IF(S982=\"\",\"\",COUNTIF($S$7:S982,\"該当２\"))","v":""},"","",{"$f":"IF(V982=\"\",\"\",COUNTIF($V$7:V982,\"該当３\"))","v":""}]
[821104007,8,{"v":211,"d":"211 "},{"v":4,"d":"04 "},{"v":7,"d":"007 "},"茨城県","常総市","菅原村","中坪",null,"","",{"$f":"IF(K983=\"\",\"\",COUNTIF($K$7:K983,\"ﾘｽﾄ１\"))","v":""},"","","","","","","",{"$f":"IF(S983=\"\",\"\",COUNTIF($S$7:S983,\"該当２\"))","v":""},"","",{"$f":"IF(V983=\"\",\"\",COUNTIF($V$7:V983,\"該当３\"))","v":""}]
[821104008,8,{"v":211,"d":"211 "},{"v":4,"d":"04 "},{"v":8,"d":"008 "},"茨城県","常総市","菅原村","下新田",null,"","",{"$f":"IF(K984=\"\",\"\",COUNTIF($K$7:K984,\"ﾘｽﾄ１\"))","v":""},"","","","","","","",{"$f":"IF(S984=\"\",\"\",COUNTIF($S$7:S984,\"該当２\"))","v":""},"","",{"$f":"IF(V984=\"\",\"\",COUNTIF($V$7:V984,\"該当３\"))","v":""}]
[821104009,8,{"v":211,"d":"211 "},{"v":4,"d":"04 "},{"v":9,"d":"009 "},"茨城県","常総市","菅原村","五郎兵衛新田",null,"","",{"$f":"IF(K985=\"\",\"\",COUNTIF($K$7:K985,\"ﾘｽﾄ１\"))","v":""},"","","","","","","",{"$f":"IF(S985=\"\",\"\",COUNTIF($S$7:S985,\"該当２\"))","v":""},"","",{"$f":"IF(V985=\"\",\"\",COUNTIF($V$7:V985,\"該当３\"))","v":""}]
[821104010,8,{"v":211,"d":"211 "},{"v":4,"d":"04 "},{"v":10,"d":"010 "},"茨城県","常総市","菅原村","横曽根新田",null,"","",{"$f":"IF(K986=\"\",\"\",COUNTIF($K$7:K986,\"ﾘｽﾄ１\"))","v":""},"","","","","","","",{"$f":"IF(S986=\"\",\"\",COUNTIF($S$7:S986,\"該当２\"))","v":""},"","",{"$f":"IF(V986=\"\",\"\",COUNTIF($V$7:V986,\"該当３\"))","v":""}]
[821104011,8,{"v":211,"d":"211 "},{"v":4,"d":"04 "},{"v":11,"d":"011 "},"茨城県","常総市","菅原村","笹塚",null,"","",{"$f":"IF(K987=\"\",\"\",COUNTIF($K$7:K987,\"ﾘｽﾄ１\"))","v":""},"","","","","","","",{"$f":"IF(S987=\"\",\"\",COUNTIF($S$7:S987,\"該当２\"))","v":""},"","",{"$f":"IF(V987=\"\",\"\",COUNTIF($V$7:V987,\"該当３\"))","v":""}]
[821105000,8,{"v":211,"d":"211 "},{"v":5,"d":"05 "},{"v":0,"d":"000 "},"茨城県","常総市","大花羽村",null,null,"","",{"$f":"IF(K988=\"\",\"\",COUNTIF($K$7:K988,\"ﾘｽﾄ１\"))","v":""},"","","","","","","",{"$f":"IF(S988=\"\",\"\",COUNTIF($S$7:S988,\"該当２\"))","v":""},"","",{"$f":"IF(V988=\"\",\"\",COUNTIF($V$7:V988,\"該当３\"))","v":""}]
[821105001,8,{"v":211,"d":"211 "},{"v":5,"d":"05 "},{"v":1,"d":"001 "},"茨城県","常総市","大花羽村","上花島",null,"","",{"$f":"IF(K989=\"\",\"\",COUNTIF($K$7:K989,\"ﾘｽﾄ１\"))","v":""},"","","","","","","",{"$f":"IF(S989=\"\",\"\",COUNTIF($S$7:S989,\"該当２\"))","v":""},"","",{"$f":"IF(V989=\"\",\"\",COUNTIF($V$7:V989,\"該当３\"))","v":""}]
[821105002,8,{"v":211,"d":"211 "},{"v":5,"d":"05 "},{"v":2,"d":"002 "},"茨城県","常総市","大花羽村","下花島",null,"","",{"$f":"IF(K990=\"\",\"\",COUNTIF($K$7:K990,\"ﾘｽﾄ１\"))","v":""},"","","","","","","",{"$f":"IF(S990=\"\",\"\",COUNTIF($S$7:S990,\"該当２\"))","v":""},"","",{"$f":"IF(V990=\"\",\"\",COUNTIF($V$7:V990,\"該当３\"))","v":""}]
[821105003,8,{"v":211,"d":"211 "},{"v":5,"d":"05 "},{"v":3,"d":"003 "},"茨城県","常総市","大花羽村","築地、金谷",null,"","",{"$f":"IF(K991=\"\",\"\",COUNTIF($K$7:K991,\"ﾘｽﾄ１\"))","v":""},"","","","","","","",{"$f":"IF(S991=\"\",\"\",COUNTIF($S$7:S991,\"該当２\"))","v":""},"","",{"$f":"IF(V991=\"\",\"\",COUNTIF($V$7:V991,\"該当３\"))","v":""}]
[821105004,8,{"v":211,"d":"211 "},{"v":5,"d":"05 "},{"v":4,"d":"004 "},"茨城県","常総市","大花羽村","上大輪",null,"","",{"$f":"IF(K992=\"\",\"\",COUNTIF($K$7:K992,\"ﾘｽﾄ１\"))","v":""},"","","","","","","",{"$f":"IF(S992=\"\",\"\",COUNTIF($S$7:S992,\"該当２\"))","v":""},"","",{"$f":"IF(V992=\"\",\"\",COUNTIF($V$7:V992,\"該当３\"))","v":""}]
[821105005,8,{"v":211,"d":"211 "},{"v":5,"d":"05 "},{"v":5,"d":"005 "},"茨城県","常総市","大花羽村","中、下大輪",null,"","",{"$f":"IF(K993=\"\",\"\",COUNTIF($K$7:K993,\"ﾘｽﾄ１\"))","v":""},"","","","","","","",{"$f":"IF(S993=\"\",\"\",COUNTIF($S$7:S993,\"該当２\"))","v":""},"","",{"$f":"IF(V993=\"\",\"\",COUNTIF($V$7:V993,\"該当３\"))","v":""}]
[821105006,8,{"v":211,"d":"211 "},{"v":5,"d":"05 "},{"v":6,"d":"006 "},"茨城県","常総市","大花羽村","満蔵",null,"","",{"$f":"IF(K994=\"\",\"\",COUNTIF($K$7:K994,\"ﾘｽﾄ１\"))","v":""},"","","","","","","",{"$f":"IF(S994=\"\",\"\",COUNTIF($S$7:S994,\"該当２\"))","v":""},"","",{"$f":"IF(V994=\"\",\"\",COUNTIF($V$7:V994,\"該当３\"))","v":""}]
[821105007,8,{"v":211,"d":"211 "},{"v":5,"d":"05 "},{"v":7,"d":"007 "},"茨城県","常総市","大花羽村","羽生",null,"","",{"$f":"IF(K995=\"\",\"\",COUNTIF($K$7:K995,\"ﾘｽﾄ１\"))","v":""},"","","","","","","",{"$f":"IF(S995=\"\",\"\",COUNTIF($S$7:S995,\"該当２\"))","v":""},"","",{"$f":"IF(V995=\"\",\"\",COUNTIF($V$7:V995,\"該当３\"))","v":""}]
[821106000,8,{"v":211,"d":"211 "},{"v":6,"d":"06 "},{"v":0,"d":"000 "},"茨城県","常総市","三妻村",null,null,"","",{"$f":"IF(K996=\"\",\"\",COUNTIF($K$7:K996,\"ﾘｽﾄ１\"))","v":""},"","","","","","","",{"$f":"IF(S996=\"\",\"\",COUNTIF($S$7:S996,\"該当２\"))","v":""},"","",{"$f":"IF(V996=\"\",\"\",COUNTIF($V$7:V996,\"該当３\"))","v":""}]
[821106001,8,{"v":211,"d":"211 "},{"v":6,"d":"06 "},{"v":1,"d":"001 "},"茨城県","常総市","三妻村","後宿",null,"","",{"$f":"IF(K997=\"\",\"\",COUNTIF($K$7:K997,\"ﾘｽﾄ１\"))","v":""},"","","","","","","",{"$f":"IF(S997=\"\",\"\",COUNTIF($S$7:S997,\"該当２\"))","v":""},"","",{"$f":"IF(V997=\"\",\"\",COUNTIF($V$7:V997,\"該当３\"))","v":""}]
[821106002,8,{"v":211,"d":"211 "},{"v":6,"d":"06 "},{"v":2,"d":"002 "},"茨城県","常総市","三妻村","寺前",null,"","",{"$f":"IF(K998=\"\",\"\",COUNTIF($K$7:K998,\"ﾘｽﾄ１\"))","v":""},"","","","","","","",{"$f":"IF(S998=\"\",\"\",COUNTIF($S$7:S998,\"該当２\"))","v":""},"","",{"$f":"IF(V998=\"\",\"\",COUNTIF($V$7:V998,\"該当３\"))","v":""}]
[821106003,8,{"v":211,"d":"211 "},{"v":6,"d":"06 "},{"v":3,"d":"003 "},"茨城県","常総市","三妻村","根新田",null,"","",{"$f":"IF(K999=\"\",\"\",COUNTIF($K$7:K999,\"ﾘｽﾄ１\"))","v":""},"","","","","","","",{"$f":"IF(S999=\"\",\"\",COUNTIF($S$7:S999,\"該当２\"))","v":""},"","",{"$f":"IF(V999=\"\",\"\",COUNTIF($V$7:V999,\"該当３\"))","v":""}]
[821106004,8,{"v":211,"d":"211 "},{"v":6,"d":"06 "},{"v":4,"d":"004 "},"茨城県","常総市","三妻村","砂場",null,"","",{"$f":"IF(K1000=\"\",\"\",COUNTIF($K$7:K1000,\"ﾘｽﾄ１\"))","v":""},"","","","","","","",{"$f":"IF(S1000=\"\",\"\",COUNTIF($S$7:S1000,\"該当２\"))","v":""},"","",{"$f":"IF(V1000=\"\",\"\",COUNTIF($V$7:V1000,\"該当３\"))","v":""}]
[821106005,8,{"v":211,"d":"211 "},{"v":6,"d":"06 "},{"v":5,"d":"005 "},"茨城県","常総市","三妻村","中部",null,"","",{"$f":"IF(K1001=\"\",\"\",COUNTIF($K$7:K1001,\"ﾘｽﾄ１\"))","v":""},"","","","","","","",{"$f":"IF(S1001=\"\",\"\",COUNTIF($S$7:S1001,\"該当２\"))","v":""},"","",{"$f":"IF(V1001=\"\",\"\",COUNTIF($V$7:V1001,\"該当３\"))","v":""}]
[821106009,8,{"v":211,"d":"211 "},{"v":6,"d":"06 "},{"v":9,"d":"009 "},"茨城県","常総市","三妻村","駅前",null,"","",{"$f":"IF(K1005=\"\",\"\",COUNTIF($K$7:K1005,\"ﾘｽﾄ１\"))","v":""},"","","","","","","",{"$f":"IF(S1005=\"\",\"\",COUNTIF($S$7:S1005,\"該当２\"))","v":""},"","",{"$f":"IF(V1005=\"\",\"\",COUNTIF($V$7:V1005,\"該当３\"))","v":""}]
[821106012,8,{"v":211,"d":"211 "},{"v":6,"d":"06 "},{"v":12,"d":"012 "},"茨城県","常総市","三妻村","中三坂下",null,"","",{"$f":"IF(K1008=\"\",\"\",COUNTIF($K$7:K1008,\"ﾘｽﾄ１\"))","v":""},"","","","","","","",{"$f":"IF(S1008=\"\",\"\",COUNTIF($S$7:S1008,\"該当２\"))","v":""},"","",{"$f":"IF(V1008=\"\",\"\",COUNTIF($V$7:V1008,\"該当３\"))","v":""}]
[821107000,8,{"v":211,"d":"211 "},{"v":7,"d":"07 "},{"v":0,"d":"000 "},"茨城県","常総市","五箇村",null,null,"","",{"$f":"IF(K1012=\"\",\"\",COUNTIF($K$7:K1012,\"ﾘｽﾄ１\"))","v":""},"","","","","","","",{"$f":"IF(S1012=\"\",\"\",COUNTIF($S$7:S1012,\"該当２\"))","v":""},"","",{"$f":"IF(V1012=\"\",\"\",COUNTIF($V$7:V1012,\"該当３\"))","v":""}]
[821107003,8,{"v":211,"d":"211 "},{"v":7,"d":"07 "},{"v":3,"d":"003 "},"茨城県","常総市","五箇村","元上蛇",null,"","",{"$f":"IF(K1015=\"\",\"\",COUNTIF($K$7:K1015,\"ﾘｽﾄ１\"))","v":""},"","","","","","","",{"$f":"IF(S1015=\"\",\"\",COUNTIF($S$7:S1015,\"該当２\"))","v":""},"","",{"$f":"IF(V1015=\"\",\"\",COUNTIF($V$7:V1015,\"該当３\"))","v":""}]
[821107006,8,{"v":211,"d":"211 "},{"v":7,"d":"07 "},{"v":6,"d":"006 "},"茨城県","常総市","五箇村","三坂新田",null,"","",{"$f":"IF(K1018=\"\",\"\",COUNTIF($K$7:K1018,\"ﾘｽﾄ１\"))","v":""},"","","","","","","",{"$f":"IF(S1018=\"\",\"\",COUNTIF($S$7:S1018,\"該当２\"))","v":""},"","",{"$f":"IF(V1018=\"\",\"\",COUNTIF($V$7:V1018,\"該当３\"))","v":""}]
[821108000,8,{"v":211,"d":"211 "},{"v":8,"d":"08 "},{"v":0,"d":"000 "},"茨城県","常総市","大生村",null,null,"","",{"$f":"IF(K1022=\"\",\"\",COUNTIF($K$7:K1022,\"ﾘｽﾄ１\"))","v":""},"","","","","","","",{"$f":"IF(S1022=\"\",\"\",COUNTIF($S$7:S1022,\"該当２\"))","v":""},"","",{"$f":"IF(V1022=\"\",\"\",COUNTIF($V$7:V1022,\"該当３\"))","v":""}]
[821108001,8,{"v":211,"d":"211 "},{"v":8,"d":"08 "},{"v":1,"d":"001 "},"茨城県","常総市","大生村","平",null,"","",{"$f":"IF(K1023=\"\",\"\",COUNTIF($K$7:K1023,\"ﾘｽﾄ１\"))","v":""},"","","","","","","",{"$f":"IF(S1023=\"\",\"\",COUNTIF($S$7:S1023,\"該当２\"))","v":""},"","",{"$f":"IF(V1023=\"\",\"\",COUNTIF($V$7:V1023,\"該当３\"))","v":""}]
[821108005,8,{"v":211,"d":"211 "},{"v":8,"d":"08 "},{"v":5,"d":"005 "},"茨城県","常総市","大生村","箕輪",null,"","",{"$f":"IF(K1027=\"\",\"\",COUNTIF($K$7:K1027,\"ﾘｽﾄ１\"))","v":""},"","","","","","","",{"$f":"IF(S1027=\"\",\"\",COUNTIF($S$7:S1027,\"該当２\"))","v":""},"","",{"$f":"IF(V1027=\"\",\"\",COUNTIF($V$7:V1027,\"該当３\"))","v":""}]
[821108008,8,{"v":211,"d":"211 "},{"v":8,"d":"08 "},{"v":8,"d":"008 "},"茨城県","常総市","大生村","新井木",null,"","",{"$f":"IF(K1030=\"\",\"\",COUNTIF($K$7:K1030,\"ﾘｽﾄ１\"))","v":""},"","","","","","","",{"$f":"IF(S1030=\"\",\"\",COUNTIF($S$7:S1030,\"該当２\"))","v":""},"","",{"$f":"IF(V1030=\"\",\"\",COUNTIF($V$7:V1030,\"該当３\"))","v":""}]
[821108011,8,{"v":211,"d":"211 "},{"v":8,"d":"08 "},{"v":11,"d":"011 "},"茨城県","常総市","大生村","中山",null,"","",{"$f":"IF(K1033=\"\",\"\",COUNTIF($K$7:K1033,\"ﾘｽﾄ１\"))","v":""},"","","","","","","",{"$f":"IF(S1033=\"\",\"\",COUNTIF($S$7:S1033,\"該当２\"))","v":""},"","",{"$f":"IF(V1033=\"\",\"\",COUNTIF($V$7:V1033,\"該当３\"))","v":""}]
[821109003,8,{"v":211,"d":"211 "},{"v":9,"d":"09 "},{"v":3,"d":"003 "},"茨城県","常総市","内守谷村","鹿小路",null,"","",{"$f":"IF(K1037=\"\",\"\",COUNTIF($K$7:K1037,\"ﾘｽﾄ１\"))","v":""},"","","","","","","",{"$f":"IF(S1037=\"\",\"\",COUNTIF($S$7:S1037,\"該当２\"))","v":""},"","",{"$f":"IF(V1037=\"\",\"\",COUNTIF($V$7:V1037,\"該当３\"))","v":""}]
[821110000,8,{"v":211,"d":"211 "},{"v":10,"d":"10 "},{"v":0,"d":"000 "},"茨城県","常総市","菅生村",null,null,"","",{"$f":"IF(K1039=\"\",\"\",COUNTIF($K$7:K1039,\"ﾘｽﾄ１\"))","v":""},"","","","","","","",{"$f":"IF(S1039=\"\",\"\",COUNTIF($S$7:S1039,\"該当２\"))","v":""},"","",{"$f":"IF(V1039=\"\",\"\",COUNTIF($V$7:V1039,\"該当３\"))","v":""}]
[821110005,8,{"v":211,"d":"211 "},{"v":10,"d":"10 "},{"v":5,"d":"005 "},"茨城県","常総市","菅生村","向山",null,"","",{"$f":"IF(K1044=\"\",\"\",COUNTIF($K$7:K1044,\"ﾘｽﾄ１\"))","v":""},"","","","","","","",{"$f":"IF(S1044=\"\",\"\",COUNTIF($S$7:S1044,\"該当２\"))","v":""},"","",{"$f":"IF(V1044=\"\",\"\",COUNTIF($V$7:V1044,\"該当３\"))","v":""}]
[821110006,8,{"v":211,"d":"211 "},{"v":10,"d":"10 "},{"v":6,"d":"006 "},"茨城県","常総市","菅生村","遠久保",null,"","",{"$f":"IF(K1045=\"\",\"\",COUNTIF($K$7:K1045,\"ﾘｽﾄ１\"))","v":""},"","","","","","","",{"$f":"IF(S1045=\"\",\"\",COUNTIF($S$7:S1045,\"該当２\"))","v":""},"","",{"$f":"IF(V1045=\"\",\"\",COUNTIF($V$7:V1045,\"該当３\"))","v":""}]
[821110009,8,{"v":211,"d":"211 "},{"v":10,"d":"10 "},{"v":9,"d":"009 "},"茨城県","常総市","菅生村","平松",null,"","",{"$f":"IF(K1048=\"\",\"\",COUNTIF($K$7:K1048,\"ﾘｽﾄ１\"))","v":""},"","","","","","","",{"$f":"IF(S1048=\"\",\"\",COUNTIF($S$7:S1048,\"該当２\"))","v":""},"","",{"$f":"IF(V1048=\"\",\"\",COUNTIF($V$7:V1048,\"該当３\"))","v":""}]
[821110013,8,{"v":211,"d":"211 "},{"v":10,"d":"10 "},{"v":13,"d":"013 "},"茨城県","常総市","菅生村","下香",null,"","",{"$f":"IF(K1052=\"\",\"\",COUNTIF($K$7:K1052,\"ﾘｽﾄ１\"))","v":""},"","","","","","","",{"$f":"IF(S1052=\"\",\"\",COUNTIF($S$7:S1052,\"該当２\"))","v":""},"","",{"$f":"IF(V1052=\"\",\"\",COUNTIF($V$7:V1052,\"該当３\"))","v":""}]
[821111000,8,{"v":211,"d":"211 "},{"v":11,"d":"11 "},{"v":0,"d":"000 "},"茨城県","常総市","十和村２－２",null,null,"","",{"$f":"IF(K1055=\"\",\"\",COUNTIF($K$7:K1055,\"ﾘｽﾄ１\"))","v":""},"","","","","","","",{"$f":"IF(S1055=\"\",\"\",COUNTIF($S$7:S1055,\"該当２\"))","v":""},"","",{"$f":"IF(V1055=\"\",\"\",COUNTIF($V$7:V1055,\"該当３\"))","v":""}]
[821112001,8,{"v":211,"d":"211 "},{"v":12,"d":"12 "},{"v":1,"d":"001 "},"茨城県","常総市","真瀬村２－２","東町",null,"","",{"$f":"IF(K1058=\"\",\"\",COUNTIF($K$7:K1058,\"ﾘｽﾄ１\"))","v":""},"","","","","","","",{"$f":"IF(S1058=\"\",\"\",COUNTIF($S$7:S1058,\"該当２\"))","v":""},"","",{"$f":"IF(V1058=\"\",\"\",COUNTIF($V$7:V1058,\"該当３\"))","v":""}]
[821113001,8,{"v":211,"d":"211 "},{"v":13,"d":"13 "},{"v":1,"d":"001 "},"茨城県","常総市","石下町","上石下",null,"","",{"$f":"IF(K1060=\"\",\"\",COUNTIF($K$7:K1060,\"ﾘｽﾄ１\"))","v":""},"","","","","","","",{"$f":"IF(S1060=\"\",\"\",COUNTIF($S$7:S1060,\"該当２\"))","v":""},"","",{"$f":"IF(V1060=\"\",\"\",COUNTIF($V$7:V1060,\"該当３\"))","v":""}]
[821113007,8,{"v":211,"d":"211 "},{"v":13,"d":"13 "},{"v":7,"d":"007 "},"茨城県","常総市","石下町","新石下第２",null,"","",{"$f":"IF(K1066=\"\",\"\",COUNTIF($K$7:K1066,\"ﾘｽﾄ１\"))","v":""},"","","","","","","",{"$f":"IF(S1066=\"\",\"\",COUNTIF($S$7:S1066,\"該当２\"))","v":""},"","",{"$f":"IF(V1066=\"\",\"\",COUNTIF($V$7:V1066,\"該当３\"))","v":""}]
[821113008,8,{"v":211,"d":"211 "},{"v":13,"d":"13 "},{"v":8,"d":"008 "},"茨城県","常総市","石下町","新石下第３",null,"","",{"$f":"IF(K1067=\"\",\"\",COUNTIF($K$7:K1067,\"ﾘｽﾄ１\"))","v":""},"","","","","","","",{"$f":"IF(S1067=\"\",\"\",COUNTIF($S$7:S1067,\"該当２\"))","v":""},"","",{"$f":"IF(V1067=\"\",\"\",COUNTIF($V$7:V1067,\"該当３\"))","v":""}]
[821113011,8,{"v":211,"d":"211 "},{"v":13,"d":"13 "},{"v":11,"d":"011 "},"茨城県","常総市","石下町","大房",null,"","",{"$f":"IF(K1070=\"\",\"\",COUNTIF($K$7:K1070,\"ﾘｽﾄ１\"))","v":""},"","","","","","","",{"$f":"IF(S1070=\"\",\"\",COUNTIF($S$7:S1070,\"該当２\"))","v":""},"","",{"$f":"IF(V1070=\"\",\"\",COUNTIF($V$7:V1070,\"該当３\"))","v":""}]
[821113014,8,{"v":211,"d":"211 "},{"v":13,"d":"13 "},{"v":14,"d":"014 "},"茨城県","常総市","石下町","平内",null,"","",{"$f":"IF(K1073=\"\",\"\",COUNTIF($K$7:K1073,\"ﾘｽﾄ１\"))","v":""},"","","","","","","",{"$f":"IF(S1073=\"\",\"\",COUNTIF($S$7:S1073,\"該当２\"))","v":""},"","",{"$f":"IF(V1073=\"\",\"\",COUNTIF($V$7:V1073,\"該当３\"))","v":""}]
[821114002,8,{"v":211,"d":"211 "},{"v":14,"d":"14 "},{"v":2,"d":"002 "},"茨城県","常総市","玉村２－２","小保川",null,"","",{"$f":"IF(K1077=\"\",\"\",COUNTIF($K$7:K1077,\"ﾘｽﾄ１\"))","v":""},"","","","","","","",{"$f":"IF(S1077=\"\",\"\",COUNTIF($S$7:S1077,\"該当２\"))","v":""},"","",{"$f":"IF(V1077=\"\",\"\",COUNTIF($V$7:V1077,\"該当３\"))","v":""}]
[821115002,8,{"v":211,"d":"211 "},{"v":15,"d":"15 "},{"v":2,"d":"002 "},"茨城県","常総市","豊田村","本椎木",null,"","",{"$f":"IF(K1081=\"\",\"\",COUNTIF($K$7:K1081,\"ﾘｽﾄ１\"))","v":""},"","","","","","","",{"$f":"IF(S1081=\"\",\"\",COUNTIF($S$7:S1081,\"該当２\"))","v":""},"","",{"$f":"IF(V1081=\"\",\"\",COUNTIF($V$7:V1081,\"該当３\"))","v":""}]
[821115005,8,{"v":211,"d":"211 "},{"v":15,"d":"15 "},{"v":5,"d":"005 "},"茨城県","常総市","豊田村","南部",null,"","",{"$f":"IF(K1084=\"\",\"\",COUNTIF($K$7:K1084,\"ﾘｽﾄ１\"))","v":""},"","","","","","","",{"$f":"IF(S1084=\"\",\"\",COUNTIF($S$7:S1084,\"該当２\"))","v":""},"","",{"$f":"IF(V1084=\"\",\"\",COUNTIF($V$7:V1084,\"該当３\"))","v":""}]
[821115009,8,{"v":211,"d":"211 "},{"v":15,"d":"15 "},{"v":9,"d":"009 "},"茨城県","常総市","豊田村","曲田",null,"","",{"$f":"IF(K1088=\"\",\"\",COUNTIF($K$7:K1088,\"ﾘｽﾄ１\"))","v":""},"","","","","","","",{"$f":"IF(S1088=\"\",\"\",COUNTIF($S$7:S1088,\"該当２\"))","v":""},"","",{"$f":"IF(V1088=\"\",\"\",COUNTIF($V$7:V1088,\"該当３\"))","v":""}]
[821116002,8,{"v":211,"d":"211 "},{"v":16,"d":"16 "},{"v":2,"d":"002 "},"茨城県","常総市","岡田村（常総市）","国生",null,"","",{"$f":"IF(K1091=\"\",\"\",COUNTIF($K$7:K1091,\"ﾘｽﾄ１\"))","v":""},"","","","","","","",{"$f":"IF(S1091=\"\",\"\",COUNTIF($S$7:S1091,\"該当２\"))","v":""},"","",{"$f":"IF(V1091=\"\",\"\",COUNTIF($V$7:V1091,\"該当３\"))","v":""}]
[821116003,8,{"v":211,"d":"211 "},{"v":16,"d":"16 "},{"v":3,"d":"003 "},"茨城県","常総市","岡田村（常総市）","杉山",null,"","",{"$f":"IF(K1092=\"\",\"\",COUNTIF($K$7:K1092,\"ﾘｽﾄ１\"))","v":""},"","","","","","","",{"$f":"IF(S1092=\"\",\"\",COUNTIF($S$7:S1092,\"該当２\"))","v":""},"","",{"$f":"IF(V1092=\"\",\"\",COUNTIF($V$7:V1092,\"該当３\"))","v":""}]
[821116006,8,{"v":211,"d":"211 "},{"v":16,"d":"16 "},{"v":6,"d":"006 "},"茨城県","常総市","岡田村（常総市）","蔵持",null,"","",{"$f":"IF(K1095=\"\",\"\",COUNTIF($K$7:K1095,\"ﾘｽﾄ１\"))","v":""},"","","","","","","",{"$f":"IF(S1095=\"\",\"\",COUNTIF($S$7:S1095,\"該当２\"))","v":""},"","",{"$f":"IF(V1095=\"\",\"\",COUNTIF($V$7:V1095,\"該当３\"))","v":""}]
[821117001,8,{"v":211,"d":"211 "},{"v":17,"d":"17 "},{"v":1,"d":"001 "},"茨城県","常総市","飯沼村","馬場",null,"","",{"$f":"IF(K1098=\"\",\"\",COUNTIF($K$7:K1098,\"ﾘｽﾄ１\"))","v":""},"","",{"$f":"IF(O1098=\"該当１\",G1098,\"\")","v":""},{"$f":"IF(O1098=\"該当１\",\"ﾘｽﾄ2\",\"\")","v":""},{"$f":"IF(Q1098=\"ﾘｽﾄ2\",H1098,\"\")","v":""},"",{"$f":"IF(S1098=\"該当２\",H1098,\"\")","v":""},{"$f":"IF(S1098=\"\",\"\",COUNTIF($S$7:S1098,\"該当２\"))","v":""},{"$f":"IF(AND($S$2=H1098,E1098>0,E1098<998),\"該当３\",\"\")","v":""},{"$f":"IF(V1098=\"該当３\",I1098,\"\")","v":""},{"$f":"IF(V1098=\"\",\"\",COUNTIF($V$7:V1098,\"該当３\"))","v":""}]
[821117006,8,{"v":211,"d":"211 "},{"v":17,"d":"17 "},{"v":6,"d":"006 "},"茨城県","常総市","飯沼村","鴻野山新田",null,"","",{"$f":"IF(K1103=\"\",\"\",COUNTIF($K$7:K1103,\"ﾘｽﾄ１\"))","v":""},"","","","","","","",{"$f":"IF(S1103=\"\",\"\",COUNTIF($S$7:S1103,\"該当２\"))","v":""},"","",{"$f":"IF(V1103=\"\",\"\",COUNTIF($V$7:V1103,\"該当３\"))","v":""}]
[821117009,8,{"v":211,"d":"211 "},{"v":17,"d":"17 "},{"v":9,"d":"009 "},"茨城県","常総市","飯沼村","左平太新田",null,"","",{"$f":"IF(K1106=\"\",\"\",COUNTIF($K$7:K1106,\"ﾘｽﾄ１\"))","v":""},"","","","","","","",{"$f":"IF(S1106=\"\",\"\",COUNTIF($S$7:S1106,\"該当２\"))","v":""},"","",{"$f":"IF(V1106=\"\",\"\",COUNTIF($V$7:V1106,\"該当３\"))","v":""}]
[821117012,8,{"v":211,"d":"211 "},{"v":17,"d":"17 "},{"v":12,"d":"012 "},"茨城県","常総市","飯沼村","崎房北新田",null,"","",{"$f":"IF(K1109=\"\",\"\",COUNTIF($K$7:K1109,\"ﾘｽﾄ１\"))","v":""},"","","","","","","",{"$f":"IF(S1109=\"\",\"\",COUNTIF($S$7:S1109,\"該当２\"))","v":""},"","",{"$f":"IF(V1109=\"\",\"\",COUNTIF($V$7:V1109,\"該当３\"))","v":""}]
[821117016,8,{"v":211,"d":"211 "},{"v":17,"d":"17 "},{"v":16,"d":"016 "},"茨城県","常総市","飯沼村","鴻野山仲坪",null,"","",{"$f":"IF(K1113=\"\",\"\",COUNTIF($K$7:K1113,\"ﾘｽﾄ１\"))","v":""},"","","","","","","",{"$f":"IF(S1113=\"\",\"\",COUNTIF($S$7:S1113,\"該当２\"))","v":""},"","",{"$f":"IF(V1113=\"\",\"\",COUNTIF($V$7:V1113,\"該当３\"))","v":""}]
[821201001,8,{"v":212,"d":"212 "},{"v":1,"d":"01 "},{"v":1,"d":"001 "},"茨城県","常陸太田市","太田町","太田北部",null,"","",{"$f":"IF(K1116=\"\",\"\",COUNTIF($K$7:K1116,\"ﾘｽﾄ１\"))","v":""},"","","","","","","",{"$f":"IF(S1116=\"\",\"\",COUNTIF($S$7:S1116,\"該当２\"))","v":""},"","",{"$f":"IF(V1116=\"\",\"\",COUNTIF($V$7:V1116,\"該当３\"))","v":""}]
[821201002,8,{"v":212,"d":"212 "},{"v":1,"d":"01 "},{"v":2,"d":"002 "},"茨城県","常陸太田市","太田町","太田中部",null,"","",{"$f":"IF(K1117=\"\",\"\",COUNTIF($K$7:K1117,\"ﾘｽﾄ１\"))","v":""},"","","","","","","",{"$f":"IF(S1117=\"\",\"\",COUNTIF($S$7:S1117,\"該当２\"))","v":""},"","",{"$f":"IF(V1117=\"\",\"\",COUNTIF($V$7:V1117,\"該当３\"))","v":""}]
[821202004,8,{"v":212,"d":"212 "},{"v":2,"d":"02 "},{"v":4,"d":"004 "},"茨城県","常陸太田市","機初村","西宮下",null,"","",{"$f":"IF(K1123=\"\",\"\",COUNTIF($K$7:K1123,\"ﾘｽﾄ１\"))","v":""},"","","","","","","",{"$f":"IF(S1123=\"\",\"\",COUNTIF($S$7:S1123,\"該当２\"))","v":""},"","",{"$f":"IF(V1123=\"\",\"\",COUNTIF($V$7:V1123,\"該当３\"))","v":""}]
[821202005,8,{"v":212,"d":"212 "},{"v":2,"d":"02 "},{"v":5,"d":"005 "},"茨城県","常陸太田市","機初村","幡下台",null,"","",{"$f":"IF(K1124=\"\",\"\",COUNTIF($K$7:K1124,\"ﾘｽﾄ１\"))","v":""},"","","","","","","",{"$f":"IF(S1124=\"\",\"\",COUNTIF($S$7:S1124,\"該当２\"))","v":""},"","",{"$f":"IF(V1124=\"\",\"\",COUNTIF($V$7:V1124,\"該当３\"))","v":""}]
[821202009,8,{"v":212,"d":"212 "},{"v":2,"d":"02 "},{"v":9,"d":"009 "},"茨城県","常陸太田市","機初村","長谷",null,"","",{"$f":"IF(K1128=\"\",\"\",COUNTIF($K$7:K1128,\"ﾘｽﾄ１\"))","v":""},"","","","","","","",{"$f":"IF(S1128=\"\",\"\",COUNTIF($S$7:S1128,\"該当２\"))","v":""},"","",{"$f":"IF(V1128=\"\",\"\",COUNTIF($V$7:V1128,\"該当３\"))","v":""}]
[821203000,8,{"v":212,"d":"212 "},{"v":3,"d":"03 "},{"v":0,"d":"000 "},"茨城県","常陸太田市","世矢村",null,null,"","",{"$f":"IF(K1131=\"\",\"\",COUNTIF($K$7:K1131,\"ﾘｽﾄ１\"))","v":""},"","","","","","","",{"$f":"IF(S1131=\"\",\"\",COUNTIF($S$7:S1131,\"該当２\"))","v":""},"","",{"$f":"IF(V1131=\"\",\"\",COUNTIF($V$7:V1131,\"該当３\"))","v":""}]
[821203004,8,{"v":212,"d":"212 "},{"v":3,"d":"03 "},{"v":4,"d":"004 "},"茨城県","常陸太田市","世矢村","新沼",null,"","",{"$f":"IF(K1135=\"\",\"\",COUNTIF($K$7:K1135,\"ﾘｽﾄ１\"))","v":""},"","","","","","","",{"$f":"IF(S1135=\"\",\"\",COUNTIF($S$7:S1135,\"該当２\"))","v":""},"","",{"$f":"IF(V1135=\"\",\"\",COUNTIF($V$7:V1135,\"該当３\"))","v":""}]
[821203007,8,{"v":212,"d":"212 "},{"v":3,"d":"03 "},{"v":7,"d":"007 "},"茨城県","常陸太田市","世矢村","五所の宮",null,"","",{"$f":"IF(K1138=\"\",\"\",COUNTIF($K$7:K1138,\"ﾘｽﾄ１\"))","v":""},"","","","","","","",{"$f":"IF(S1138=\"\",\"\",COUNTIF($S$7:S1138,\"該当２\"))","v":""},"","",{"$f":"IF(V1138=\"\",\"\",COUNTIF($V$7:V1138,\"該当３\"))","v":""}]
[821203009,8,{"v":212,"d":"212 "},{"v":3,"d":"03 "},{"v":9,"d":"009 "},"茨城県","常陸太田市","世矢村","仲南，中道",null,"","",{"$f":"IF(K1140=\"\",\"\",COUNTIF($K$7:K1140,\"ﾘｽﾄ１\"))","v":""},"","","","","","","",{"$f":"IF(S1140=\"\",\"\",COUNTIF($S$7:S1140,\"該当２\"))","v":""},"","",{"$f":"IF(V1140=\"\",\"\",COUNTIF($V$7:V1140,\"該当３\"))","v":""}]
[821203012,8,{"v":212,"d":"212 "},{"v":3,"d":"03 "},{"v":12,"d":"012 "},"茨城県","常陸太田市","世矢村","亀作北",null,"","",{"$f":"IF(K1143=\"\",\"\",COUNTIF($K$7:K1143,\"ﾘｽﾄ１\"))","v":""},"","","","","","","",{"$f":"IF(S1143=\"\",\"\",COUNTIF($S$7:S1143,\"該当２\"))","v":""},"","",{"$f":"IF(V1143=\"\",\"\",COUNTIF($V$7:V1143,\"該当３\"))","v":""}]
[821203015,8,{"v":212,"d":"212 "},{"v":3,"d":"03 "},{"v":15,"d":"015 "},"茨城県","常陸太田市","世矢村","栄坪",null,"","",{"$f":"IF(K1146=\"\",\"\",COUNTIF($K$7:K1146,\"ﾘｽﾄ１\"))","v":""},"","","","","","","",{"$f":"IF(S1146=\"\",\"\",COUNTIF($S$7:S1146,\"該当２\"))","v":""},"","",{"$f":"IF(V1146=\"\",\"\",COUNTIF($V$7:V1146,\"該当３\"))","v":""}]
[821203018,8,{"v":212,"d":"212 "},{"v":3,"d":"03 "},{"v":18,"d":"018 "},"茨城県","常陸太田市","世矢村","水門",null,"","",{"$f":"IF(K1149=\"\",\"\",COUNTIF($K$7:K1149,\"ﾘｽﾄ１\"))","v":""},"","","","","","","",{"$f":"IF(S1149=\"\",\"\",COUNTIF($S$7:S1149,\"該当２\"))","v":""},"","",{"$f":"IF(V1149=\"\",\"\",COUNTIF($V$7:V1149,\"該当３\"))","v":""}]
[821204001,8,{"v":212,"d":"212 "},{"v":4,"d":"04 "},{"v":1,"d":"001 "},"茨城県","常陸太田市","西小沢村","岡田",null,"","",{"$f":"IF(K1153=\"\",\"\",COUNTIF($K$7:K1153,\"ﾘｽﾄ１\"))","v":""},"","","","","","","",{"$f":"IF(S1153=\"\",\"\",COUNTIF($S$7:S1153,\"該当２\"))","v":""},"","",{"$f":"IF(V1153=\"\",\"\",COUNTIF($V$7:V1153,\"該当３\"))","v":""}]
[821204004,8,{"v":212,"d":"212 "},{"v":4,"d":"04 "},{"v":4,"d":"004 "},"茨城県","常陸太田市","西小沢村","中内田",null,"","",{"$f":"IF(K1156=\"\",\"\",COUNTIF($K$7:K1156,\"ﾘｽﾄ１\"))","v":""},"","","","","","","",{"$f":"IF(S1156=\"\",\"\",COUNTIF($S$7:S1156,\"該当２\"))","v":""},"","",{"$f":"IF(V1156=\"\",\"\",COUNTIF($V$7:V1156,\"該当３\"))","v":""}]
[821204009,8,{"v":212,"d":"212 "},{"v":4,"d":"04 "},{"v":9,"d":"009 "},"茨城県","常陸太田市","西小沢村","沢目",null,"","",{"$f":"IF(K1161=\"\",\"\",COUNTIF($K$7:K1161,\"ﾘｽﾄ１\"))","v":""},"","","","","","","",{"$f":"IF(S1161=\"\",\"\",COUNTIF($S$7:S1161,\"該当２\"))","v":""},"","",{"$f":"IF(V1161=\"\",\"\",COUNTIF($V$7:V1161,\"該当３\"))","v":""}]
[821205002,8,{"v":212,"d":"212 "},{"v":5,"d":"05 "},{"v":2,"d":"002 "},"茨城県","常陸太田市","幸久村","西河内",null,"","",{"$f":"IF(K1164=\"\",\"\",COUNTIF($K$7:K1164,\"ﾘｽﾄ１\"))","v":""},"","","","","","","",{"$f":"IF(S1164=\"\",\"\",COUNTIF($S$7:S1164,\"該当２\"))","v":""},"","",{"$f":"IF(V1164=\"\",\"\",COUNTIF($V$7:V1164,\"該当３\"))","v":""}]
[821205005,8,{"v":212,"d":"212 "},{"v":5,"d":"05 "},{"v":5,"d":"005 "},"茨城県","常陸太田市","幸久村","若宮",null,"","",{"$f":"IF(K1167=\"\",\"\",COUNTIF($K$7:K1167,\"ﾘｽﾄ１\"))","v":""},"","","","","","","",{"$f":"IF(S1167=\"\",\"\",COUNTIF($S$7:S1167,\"該当２\"))","v":""},"","",{"$f":"IF(V1167=\"\",\"\",COUNTIF($V$7:V1167,\"該当３\"))","v":""}]
[821205006,8,{"v":212,"d":"212 "},{"v":5,"d":"05 "},{"v":6,"d":"006 "},"茨城県","常陸太田市","幸久村","粟原",null,"","",{"$f":"IF(K1168=\"\",\"\",COUNTIF($K$7:K1168,\"ﾘｽﾄ１\"))","v":""},"","","","","","","",{"$f":"IF(S1168=\"\",\"\",COUNTIF($S$7:S1168,\"該当２\"))","v":""},"","",{"$f":"IF(V1168=\"\",\"\",COUNTIF($V$7:V1168,\"該当３\"))","v":""}]
[821206000,8,{"v":212,"d":"212 "},{"v":6,"d":"06 "},{"v":0,"d":"000 "},"茨城県","常陸太田市","佐竹村",null,null,"","",{"$f":"IF(K1171=\"\",\"\",COUNTIF($K$7:K1171,\"ﾘｽﾄ１\"))","v":""},"","","","","","","",{"$f":"IF(S1171=\"\",\"\",COUNTIF($S$7:S1171,\"該当２\"))","v":""},"","",{"$f":"IF(V1171=\"\",\"\",COUNTIF($V$7:V1171,\"該当３\"))","v":""}]
[821206004,8,{"v":212,"d":"212 "},{"v":6,"d":"06 "},{"v":4,"d":"004 "},"茨城県","常陸太田市","佐竹村","猪の手",null,"","",{"$f":"IF(K1175=\"\",\"\",COUNTIF($K$7:K1175,\"ﾘｽﾄ１\"))","v":""},"","","","","","","",{"$f":"IF(S1175=\"\",\"\",COUNTIF($S$7:S1175,\"該当２\"))","v":""},"","",{"$f":"IF(V1175=\"\",\"\",COUNTIF($V$7:V1175,\"該当３\"))","v":""}]
[821206007,8,{"v":212,"d":"212 "},{"v":6,"d":"06 "},{"v":7,"d":"007 "},"茨城県","常陸太田市","佐竹村","宮ケ作，山の神",null,"","",{"$f":"IF(K1178=\"\",\"\",COUNTIF($K$7:K1178,\"ﾘｽﾄ１\"))","v":""},"","","","","","","",{"$f":"IF(S1178=\"\",\"\",COUNTIF($S$7:S1178,\"該当２\"))","v":""},"","",{"$f":"IF(V1178=\"\",\"\",COUNTIF($V$7:V1178,\"該当３\"))","v":""}]
[821207002,8,{"v":212,"d":"212 "},{"v":7,"d":"07 "},{"v":2,"d":"002 "},"茨城県","常陸太田市","誉田村","真渕，小野下",null,"","",{"$f":"IF(K1182=\"\",\"\",COUNTIF($K$7:K1182,\"ﾘｽﾄ１\"))","v":""},"","","","","","","",{"$f":"IF(S1182=\"\",\"\",COUNTIF($S$7:S1182,\"該当２\"))","v":""},"","",{"$f":"IF(V1182=\"\",\"\",COUNTIF($V$7:V1182,\"該当３\"))","v":""}]
[821207006,8,{"v":212,"d":"212 "},{"v":7,"d":"07 "},{"v":6,"d":"006 "},"茨城県","常陸太田市","誉田村","下大門一区",null,"","",{"$f":"IF(K1186=\"\",\"\",COUNTIF($K$7:K1186,\"ﾘｽﾄ１\"))","v":""},"","","","","","","",{"$f":"IF(S1186=\"\",\"\",COUNTIF($S$7:S1186,\"該当２\"))","v":""},"","",{"$f":"IF(V1186=\"\",\"\",COUNTIF($V$7:V1186,\"該当３\"))","v":""}]
[821207009,8,{"v":212,"d":"212 "},{"v":7,"d":"07 "},{"v":9,"d":"009 "},"茨城県","常陸太田市","誉田村","上大門一区",null,"","",{"$f":"IF(K1189=\"\",\"\",COUNTIF($K$7:K1189,\"ﾘｽﾄ１\"))","v":""},"","","","","","","",{"$f":"IF(S1189=\"\",\"\",COUNTIF($S$7:S1189,\"該当２\"))","v":""},"","",{"$f":"IF(V1189=\"\",\"\",COUNTIF($V$7:V1189,\"該当３\"))","v":""}]
[821207012,8,{"v":212,"d":"212 "},{"v":7,"d":"07 "},{"v":12,"d":"012 "},"茨城県","常陸太田市","誉田村","元瑞竜",null,"","",{"$f":"IF(K1192=\"\",\"\",COUNTIF($K$7:K1192,\"ﾘｽﾄ１\"))","v":""},"","","","","","","",{"$f":"IF(S1192=\"\",\"\",COUNTIF($S$7:S1192,\"該当２\"))","v":""},"","",{"$f":"IF(V1192=\"\",\"\",COUNTIF($V$7:V1192,\"該当３\"))","v":""}]
[821208000,8,{"v":212,"d":"212 "},{"v":8,"d":"08 "},{"v":0,"d":"000 "},"茨城県","常陸太田市","佐都村",null,null,"","",{"$f":"IF(K1193=\"\",\"\",COUNTIF($K$7:K1193,\"ﾘｽﾄ１\"))","v":""},"","","","","","","",{"$f":"IF(S1193=\"\",\"\",COUNTIF($S$7:S1193,\"該当２\"))","v":""},"","",{"$f":"IF(V1193=\"\",\"\",COUNTIF($V$7:V1193,\"該当３\"))","v":""}]
[821208003,8,{"v":212,"d":"212 "},{"v":8,"d":"08 "},{"v":3,"d":"003 "},"茨城県","常陸太田市","佐都村","元白羽",null,"","",{"$f":"IF(K1196=\"\",\"\",COUNTIF($K$7:K1196,\"ﾘｽﾄ１\"))","v":""},"","","","","","","",{"$f":"IF(S1196=\"\",\"\",COUNTIF($S$7:S1196,\"該当２\"))","v":""},"","",{"$f":"IF(V1196=\"\",\"\",COUNTIF($V$7:V1196,\"該当３\"))","v":""}]
[821208006,8,{"v":212,"d":"212 "},{"v":8,"d":"08 "},{"v":6,"d":"006 "},"茨城県","常陸太田市","佐都村","山根",null,"","",{"$f":"IF(K1199=\"\",\"\",COUNTIF($K$7:K1199,\"ﾘｽﾄ１\"))","v":""},"","","","","","","",{"$f":"IF(S1199=\"\",\"\",COUNTIF($S$7:S1199,\"該当２\"))","v":""},"","",{"$f":"IF(V1199=\"\",\"\",COUNTIF($V$7:V1199,\"該当３\"))","v":""}]
[821208011,8,{"v":212,"d":"212 "},{"v":8,"d":"08 "},{"v":11,"d":"011 "},"茨城県","常陸太田市","佐都村","春友二区",null,"","",{"$f":"IF(K1204=\"\",\"\",COUNTIF($K$7:K1204,\"ﾘｽﾄ１\"))","v":""},"","","","","","","",{"$f":"IF(S1204=\"\",\"\",COUNTIF($S$7:S1204,\"該当２\"))","v":""},"","",{"$f":"IF(V1204=\"\",\"\",COUNTIF($V$7:V1204,\"該当３\"))","v":""}]
[821209002,8,{"v":212,"d":"212 "},{"v":9,"d":"09 "},{"v":2,"d":"002 "},"茨城県","常陸太田市","河内村２－１","上，２",null,"","",{"$f":"IF(K1207=\"\",\"\",COUNTIF($K$7:K1207,\"ﾘｽﾄ１\"))","v":""},"","","","","","","",{"$f":"IF(S1207=\"\",\"\",COUNTIF($S$7:S1207,\"該当２\"))","v":""},"","",{"$f":"IF(V1207=\"\",\"\",COUNTIF($V$7:V1207,\"該当３\"))","v":""}]
[821209006,8,{"v":212,"d":"212 "},{"v":9,"d":"09 "},{"v":6,"d":"006 "},"茨城県","常陸太田市","河内村２－１","下，１",null,"","",{"$f":"IF(K1211=\"\",\"\",COUNTIF($K$7:K1211,\"ﾘｽﾄ１\"))","v":""},"","","","","","","",{"$f":"IF(S1211=\"\",\"\",COUNTIF($S$7:S1211,\"該当２\"))","v":""},"","",{"$f":"IF(V1211=\"\",\"\",COUNTIF($V$7:V1211,\"該当３\"))","v":""}]
[821209009,8,{"v":212,"d":"212 "},{"v":9,"d":"09 "},{"v":9,"d":"009 "},"茨城県","常陸太田市","河内村２－１","宿上",null,"","",{"$f":"IF(K1214=\"\",\"\",COUNTIF($K$7:K1214,\"ﾘｽﾄ１\"))","v":""},"","","","","","","",{"$f":"IF(S1214=\"\",\"\",COUNTIF($S$7:S1214,\"該当２\"))","v":""},"","",{"$f":"IF(V1214=\"\",\"\",COUNTIF($V$7:V1214,\"該当３\"))","v":""}]
[821209012,8,{"v":212,"d":"212 "},{"v":9,"d":"09 "},{"v":12,"d":"012 "},"茨城県","常陸太田市","河内村２－１","地徳",null,"","",{"$f":"IF(K1217=\"\",\"\",COUNTIF($K$7:K1217,\"ﾘｽﾄ１\"))","v":""},"","","","","","","",{"$f":"IF(S1217=\"\",\"\",COUNTIF($S$7:S1217,\"該当２\"))","v":""},"","",{"$f":"IF(V1217=\"\",\"\",COUNTIF($V$7:V1217,\"該当３\"))","v":""}]
[821209013,8,{"v":212,"d":"212 "},{"v":9,"d":"09 "},{"v":13,"d":"013 "},"茨城県","常陸太田市","河内村２－１","新道",null,"","",{"$f":"IF(K1218=\"\",\"\",COUNTIF($K$7:K1218,\"ﾘｽﾄ１\"))","v":""},"","","","","","","",{"$f":"IF(S1218=\"\",\"\",COUNTIF($S$7:S1218,\"該当２\"))","v":""},"","",{"$f":"IF(V1218=\"\",\"\",COUNTIF($V$7:V1218,\"該当３\"))","v":""}]
[821210005,8,{"v":212,"d":"212 "},{"v":10,"d":"10 "},{"v":5,"d":"005 "},"茨城県","常陸太田市","郡戸村","内子",null,"","",{"$f":"IF(K1224=\"\",\"\",COUNTIF($K$7:K1224,\"ﾘｽﾄ１\"))","v":""},"","","","","","","",{"$f":"IF(S1224=\"\",\"\",COUNTIF($S$7:S1224,\"該当２\"))","v":""},"","",{"$f":"IF(V1224=\"\",\"\",COUNTIF($V$7:V1224,\"該当３\"))","v":""}]
[821210007,8,{"v":212,"d":"212 "},{"v":10,"d":"10 "},{"v":7,"d":"007 "},"茨城県","常陸太田市","郡戸村","下組",null,"","",{"$f":"IF(K1226=\"\",\"\",COUNTIF($K$7:K1226,\"ﾘｽﾄ１\"))","v":""},"","",{"$f":"IF(O1226=\"該当１\",G1226,\"\")","v":""},{"$f":"IF(O1226=\"該当１\",\"ﾘｽﾄ2\",\"\")","v":""},{"$f":"IF(Q1226=\"ﾘｽﾄ2\",H1226,\"\")","v":""},"",{"$f":"IF(S1226=\"該当２\",H1226,\"\")","v":""},{"$f":"IF(S1226=\"\",\"\",COUNTIF($S$7:S1226,\"該当２\"))","v":""},{"$f":"IF(AND($S$2=H1226,E1226>0,E1226<998),\"該当３\",\"\")","v":""},{"$f":"IF(V1226=\"該当３\",I1226,\"\")","v":""},{"$f":"IF(V1226=\"\",\"\",COUNTIF($V$7:V1226,\"該当３\"))","v":""}]
[821210010,8,{"v":212,"d":"212 "},{"v":10,"d":"10 "},{"v":10,"d":"010 "},"茨城県","常陸太田市","郡戸村","本郷一",null,"","",{"$f":"IF(K1229=\"\",\"\",COUNTIF($K$7:K1229,\"ﾘｽﾄ１\"))","v":""},"","","","","","","",{"$f":"IF(S1229=\"\",\"\",COUNTIF($S$7:S1229,\"該当２\"))","v":""},"","",{"$f":"IF(V1229=\"\",\"\",COUNTIF($V$7:V1229,\"該当３\"))","v":""}]
[821211001,8,{"v":212,"d":"212 "},{"v":11,"d":"11 "},{"v":1,"d":"001 "},"茨城県","常陸太田市","久米村","久米",null,"","",{"$f":"IF(K1232=\"\",\"\",COUNTIF($K$7:K1232,\"ﾘｽﾄ１\"))","v":""},"","","","","","","",{"$f":"IF(S1232=\"\",\"\",COUNTIF($S$7:S1232,\"該当２\"))","v":""},"","",{"$f":"IF(V1232=\"\",\"\",COUNTIF($V$7:V1232,\"該当３\"))","v":""}]
[821211005,8,{"v":212,"d":"212 "},{"v":11,"d":"11 "},{"v":5,"d":"005 "},"茨城県","常陸太田市","久米村","大里南宿",null,"","",{"$f":"IF(K1236=\"\",\"\",COUNTIF($K$7:K1236,\"ﾘｽﾄ１\"))","v":""},"","","","","","","",{"$f":"IF(S1236=\"\",\"\",COUNTIF($S$7:S1236,\"該当２\"))","v":""},"","",{"$f":"IF(V1236=\"\",\"\",COUNTIF($V$7:V1236,\"該当３\"))","v":""}]
[821211008,8,{"v":212,"d":"212 "},{"v":11,"d":"11 "},{"v":8,"d":"008 "},"茨城県","常陸太田市","久米村","柳沢",null,"","",{"$f":"IF(K1239=\"\",\"\",COUNTIF($K$7:K1239,\"ﾘｽﾄ１\"))","v":""},"","","","","","","",{"$f":"IF(S1239=\"\",\"\",COUNTIF($S$7:S1239,\"該当２\"))","v":""},"","",{"$f":"IF(V1239=\"\",\"\",COUNTIF($V$7:V1239,\"該当３\"))","v":""}]
[821211010,8,{"v":212,"d":"212 "},{"v":11,"d":"11 "},{"v":10,"d":"010 "},"茨城県","常陸太田市","久米村","芦間",null,"","",{"$f":"IF(K1241=\"\",\"\",COUNTIF($K$7:K1241,\"ﾘｽﾄ１\"))","v":""},"","","","","","","",{"$f":"IF(S1241=\"\",\"\",COUNTIF($S$7:S1241,\"該当２\"))","v":""},"","",{"$f":"IF(V1241=\"\",\"\",COUNTIF($V$7:V1241,\"該当３\"))","v":""}]
[821212002,8,{"v":212,"d":"212 "},{"v":12,"d":"12 "},{"v":2,"d":"002 "},"茨城県","常陸太田市","金郷村","大方宿",null,"","",{"$f":"IF(K1244=\"\",\"\",COUNTIF($K$7:K1244,\"ﾘｽﾄ１\"))","v":""},"","","","","","","",{"$f":"IF(S1244=\"\",\"\",COUNTIF($S$7:S1244,\"該当２\"))","v":""},"","",{"$f":"IF(V1244=\"\",\"\",COUNTIF($V$7:V1244,\"該当３\"))","v":""}]
[821212005,8,{"v":212,"d":"212 "},{"v":12,"d":"12 "},{"v":5,"d":"005 "},"茨城県","常陸太田市","金郷村","箕",null,"","",{"$f":"IF(K1247=\"\",\"\",COUNTIF($K$7:K1247,\"ﾘｽﾄ１\"))","v":""},"","","","","","","",{"$f":"IF(S1247=\"\",\"\",COUNTIF($S$7:S1247,\"該当２\"))","v":""},"","",{"$f":"IF(V1247=\"\",\"\",COUNTIF($V$7:V1247,\"該当３\"))","v":""}]
[821212009,8,{"v":212,"d":"212 "},{"v":12,"d":"12 "},{"v":9,"d":"009 "},"茨城県","常陸太田市","金郷村","中利員，中",null,"","",{"$f":"IF(K1251=\"\",\"\",COUNTIF($K$7:K1251,\"ﾘｽﾄ１\"))","v":""},"","","","","","","",{"$f":"IF(S1251=\"\",\"\",COUNTIF($S$7:S1251,\"該当２\"))","v":""},"","",{"$f":"IF(V1251=\"\",\"\",COUNTIF($V$7:V1251,\"該当３\"))","v":""}]
[821212012,8,{"v":212,"d":"212 "},{"v":12,"d":"12 "},{"v":12,"d":"012 "},"茨城県","常陸太田市","金郷村","岩手，上",null,"","",{"$f":"IF(K1254=\"\",\"\",COUNTIF($K$7:K1254,\"ﾘｽﾄ１\"))","v":""},"","","","","","","",{"$f":"IF(S1254=\"\",\"\",COUNTIF($S$7:S1254,\"該当２\"))","v":""},"","",{"$f":"IF(V1254=\"\",\"\",COUNTIF($V$7:V1254,\"該当３\"))","v":""}]
[821213001,8,{"v":212,"d":"212 "},{"v":13,"d":"13 "},{"v":1,"d":"001 "},"茨城県","常陸太田市","金砂村","大草",null,"","",{"$f":"IF(K1257=\"\",\"\",COUNTIF($K$7:K1257,\"ﾘｽﾄ１\"))","v":""},"","","","","","","",{"$f":"IF(S1257=\"\",\"\",COUNTIF($S$7:S1257,\"該当２\"))","v":""},"","",{"$f":"IF(V1257=\"\",\"\",COUNTIF($V$7:V1257,\"該当３\"))","v":""}]
[821213006,8,{"v":212,"d":"212 "},{"v":13,"d":"13 "},{"v":6,"d":"006 "},"茨城県","常陸太田市","金砂村","田代",null,"","",{"$f":"IF(K1262=\"\",\"\",COUNTIF($K$7:K1262,\"ﾘｽﾄ１\"))","v":""},"","","","","","","",{"$f":"IF(S1262=\"\",\"\",COUNTIF($S$7:S1262,\"該当２\"))","v":""},"","",{"$f":"IF(V1262=\"\",\"\",COUNTIF($V$7:V1262,\"該当３\"))","v":""}]
[821213009,8,{"v":212,"d":"212 "},{"v":13,"d":"13 "},{"v":9,"d":"009 "},"茨城県","常陸太田市","金砂村","中沢",null,"","",{"$f":"IF(K1265=\"\",\"\",COUNTIF($K$7:K1265,\"ﾘｽﾄ１\"))","v":""},"","","","","","","",{"$f":"IF(S1265=\"\",\"\",COUNTIF($S$7:S1265,\"該当２\"))","v":""},"","",{"$f":"IF(V1265=\"\",\"\",COUNTIF($V$7:V1265,\"該当３\"))","v":""}]
[821213010,8,{"v":212,"d":"212 "},{"v":13,"d":"13 "},{"v":10,"d":"010 "},"茨城県","常陸太田市","金砂村","竹の内",null,"","",{"$f":"IF(K1266=\"\",\"\",COUNTIF($K$7:K1266,\"ﾘｽﾄ１\"))","v":""},"","","","","","","",{"$f":"IF(S1266=\"\",\"\",COUNTIF($S$7:S1266,\"該当２\"))","v":""},"","",{"$f":"IF(V1266=\"\",\"\",COUNTIF($V$7:V1266,\"該当３\"))","v":""}]
[821213013,8,{"v":212,"d":"212 "},{"v":13,"d":"13 "},{"v":13,"d":"013 "},"茨城県","常陸太田市","金砂村","大野",null,"","",{"$f":"IF(K1269=\"\",\"\",COUNTIF($K$7:K1269,\"ﾘｽﾄ１\"))","v":""},"","","","","","","",{"$f":"IF(S1269=\"\",\"\",COUNTIF($S$7:S1269,\"該当２\"))","v":""},"","",{"$f":"IF(V1269=\"\",\"\",COUNTIF($V$7:V1269,\"該当３\"))","v":""}]
[821213016,8,{"v":212,"d":"212 "},{"v":13,"d":"13 "},{"v":16,"d":"016 "},"茨城県","常陸太田市","金砂村","鳥井戸",null,"","",{"$f":"IF(K1272=\"\",\"\",COUNTIF($K$7:K1272,\"ﾘｽﾄ１\"))","v":""},"","","","","","","",{"$f":"IF(S1272=\"\",\"\",COUNTIF($S$7:S1272,\"該当２\"))","v":""},"","",{"$f":"IF(V1272=\"\",\"\",COUNTIF($V$7:V1272,\"該当３\"))","v":""}]
[821214001,8,{"v":212,"d":"212 "},{"v":14,"d":"14 "},{"v":1,"d":"001 "},"茨城県","常陸太田市","天下野村","後戸屋",null,"","",{"$f":"IF(K1276=\"\",\"\",COUNTIF($K$7:K1276,\"ﾘｽﾄ１\"))","v":""},"","","","","","","",{"$f":"IF(S1276=\"\",\"\",COUNTIF($S$7:S1276,\"該当２\"))","v":""},"","",{"$f":"IF(V1276=\"\",\"\",COUNTIF($V$7:V1276,\"該当３\"))","v":""}]
[821214004,8,{"v":212,"d":"212 "},{"v":14,"d":"14 "},{"v":4,"d":"004 "},"茨城県","常陸太田市","天下野村","追野，滝沢",null,"","",{"$f":"IF(K1279=\"\",\"\",COUNTIF($K$7:K1279,\"ﾘｽﾄ１\"))","v":""},"","","","","","","",{"$f":"IF(S1279=\"\",\"\",COUNTIF($S$7:S1279,\"該当２\"))","v":""},"","",{"$f":"IF(V1279=\"\",\"\",COUNTIF($V$7:V1279,\"該当３\"))","v":""}]
[821214008,8,{"v":212,"d":"212 "},{"v":14,"d":"14 "},{"v":8,"d":"008 "},"茨城県","常陸太田市","天下野村","塙坂",null,"","",{"$f":"IF(K1283=\"\",\"\",COUNTIF($K$7:K1283,\"ﾘｽﾄ１\"))","v":""},"","","","","","","",{"$f":"IF(S1283=\"\",\"\",COUNTIF($S$7:S1283,\"該当２\"))","v":""},"","",{"$f":"IF(V1283=\"\",\"\",COUNTIF($V$7:V1283,\"該当３\"))","v":""}]
[821214012,8,{"v":212,"d":"212 "},{"v":14,"d":"14 "},{"v":12,"d":"012 "},"茨城県","常陸太田市","天下野村","万城内",null,"","",{"$f":"IF(K1287=\"\",\"\",COUNTIF($K$7:K1287,\"ﾘｽﾄ１\"))","v":""},"","","","","","","",{"$f":"IF(S1287=\"\",\"\",COUNTIF($S$7:S1287,\"該当２\"))","v":""},"","",{"$f":"IF(V1287=\"\",\"\",COUNTIF($V$7:V1287,\"該当３\"))","v":""}]
[821215001,8,{"v":212,"d":"212 "},{"v":15,"d":"15 "},{"v":1,"d":"001 "},"茨城県","常陸太田市","染和田村","和久",null,"","",{"$f":"IF(K1290=\"\",\"\",COUNTIF($K$7:K1290,\"ﾘｽﾄ１\"))","v":""},"","",{"$f":"IF(O1290=\"該当１\",G1290,\"\")","v":""},{"$f":"IF(O1290=\"該当１\",\"ﾘｽﾄ2\",\"\")","v":""},{"$f":"IF(Q1290=\"ﾘｽﾄ2\",H1290,\"\")","v":""},"",{"$f":"IF(S1290=\"該当２\",H1290,\"\")","v":""},{"$f":"IF(S1290=\"\",\"\",COUNTIF($S$7:S1290,\"該当２\"))","v":""},{"$f":"IF(AND($S$2=H1290,E1290>0,E1290<998),\"該当３\",\"\")","v":""},{"$f":"IF(V1290=\"該当３\",I1290,\"\")","v":""},{"$f":"IF(V1290=\"\",\"\",COUNTIF($V$7:V1290,\"該当３\"))","v":""}]
[821215002,8,{"v":212,"d":"212 "},{"v":15,"d":"15 "},{"v":2,"d":"002 "},"茨城県","常陸太田市","染和田村","町田",null,{"$f":"IF(AND($C1291>0,$H1291=\"\"),\"ﾘｽﾄ１\",\"\")","v":""},{"$f":"IF(K1291=\"ﾘｽﾄ１\",G1291,\"\")","v":""},{"$f":"IF(K1291=\"\",\"\",COUNTIF($K$7:K1291,\"ﾘｽﾄ１\"))","v":""},{"$f":"IF(AND(D1291=0,E1291>0),\"同一区\",\"\")","v":""},{"$f":"IF(AND(EXACT($K$2,G1291),H1291>0),\"該当１\",\"\")","v":""},"","","",{"$f":"IF(AND(Q1291=\"ﾘｽﾄ2\",OR(I1291=0,AND(N1291=\"同一区\",E1291=1))),\"該当２\",\"\")","v":""},"",{"$f":"IF(S1291=\"\",\"\",COUNTIF($S$7:S1291,\"該当２\"))","v":""},"","",{"$f":"IF(V1291=\"\",\"\",COUNTIF($V$7:V1291,\"該当３\"))","v":""}]
[821215005,8,{"v":212,"d":"212 "},{"v":15,"d":"15 "},{"v":5,"d":"005 "},"茨城県","常陸太田市","染和田村","西染第２",null,"","",{"$f":"IF(K1294=\"\",\"\",COUNTIF($K$7:K1294,\"ﾘｽﾄ１\"))","v":""},"","","","","","","",{"$f":"IF(S1294=\"\",\"\",COUNTIF($S$7:S1294,\"該当２\"))","v":""},"","",{"$f":"IF(V1294=\"\",\"\",COUNTIF($V$7:V1294,\"該当３\"))","v":""}]
[821215008,8,{"v":212,"d":"212 "},{"v":15,"d":"15 "},{"v":8,"d":"008 "},"茨城県","常陸太田市","染和田村","中南第２",null,"","",{"$f":"IF(K1297=\"\",\"\",COUNTIF($K$7:K1297,\"ﾘｽﾄ１\"))","v":""},"","","","","","","",{"$f":"IF(S1297=\"\",\"\",COUNTIF($S$7:S1297,\"該当２\"))","v":""},"","",{"$f":"IF(V1297=\"\",\"\",COUNTIF($V$7:V1297,\"該当３\"))","v":""}]
[821215011,8,{"v":212,"d":"212 "},{"v":15,"d":"15 "},{"v":11,"d":"011 "},"茨城県","常陸太田市","染和田村","中西",null,"","",{"$f":"IF(K1300=\"\",\"\",COUNTIF($K$7:K1300,\"ﾘｽﾄ１\"))","v":""},"","","","","","","",{"$f":"IF(S1300=\"\",\"\",COUNTIF($S$7:S1300,\"該当２\"))","v":""},"","",{"$f":"IF(V1300=\"\",\"\",COUNTIF($V$7:V1300,\"該当３\"))","v":""}]
[821216001,8,{"v":212,"d":"212 "},{"v":16,"d":"16 "},{"v":1,"d":"001 "},"茨城県","常陸太田市","高倉村","持方",null,"","",{"$f":"IF(K1305=\"\",\"\",COUNTIF($K$7:K1305,\"ﾘｽﾄ１\"))","v":""},"","","","","","","",{"$f":"IF(S1305=\"\",\"\",COUNTIF($S$7:S1305,\"該当２\"))","v":""},"","",{"$f":"IF(V1305=\"\",\"\",COUNTIF($V$7:V1305,\"該当３\"))","v":""}]
[821216005,8,{"v":212,"d":"212 "},{"v":16,"d":"16 "},{"v":5,"d":"005 "},"茨城県","常陸太田市","高倉村","圷",null,"","",{"$f":"IF(K1309=\"\",\"\",COUNTIF($K$7:K1309,\"ﾘｽﾄ１\"))","v":""},"","","","","","","",{"$f":"IF(S1309=\"\",\"\",COUNTIF($S$7:S1309,\"該当２\"))","v":""},"","",{"$f":"IF(V1309=\"\",\"\",COUNTIF($V$7:V1309,\"該当３\"))","v":""}]
[821216008,8,{"v":212,"d":"212 "},{"v":16,"d":"16 "},{"v":8,"d":"008 "},"茨城県","常陸太田市","高倉村","畑中",null,"","",{"$f":"IF(K1312=\"\",\"\",COUNTIF($K$7:K1312,\"ﾘｽﾄ１\"))","v":""},"","","","","","","",{"$f":"IF(S1312=\"\",\"\",COUNTIF($S$7:S1312,\"該当２\"))","v":""},"","",{"$f":"IF(V1312=\"\",\"\",COUNTIF($V$7:V1312,\"該当３\"))","v":""}]
[821217000,8,{"v":212,"d":"212 "},{"v":17,"d":"17 "},{"v":0,"d":"000 "},"茨城県","常陸太田市","山田村",null,null,"","",{"$f":"IF(K1315=\"\",\"\",COUNTIF($K$7:K1315,\"ﾘｽﾄ１\"))","v":""},"","","","","","","",{"$f":"IF(S1315=\"\",\"\",COUNTIF($S$7:S1315,\"該当２\"))","v":""},"","",{"$f":"IF(V1315=\"\",\"\",COUNTIF($V$7:V1315,\"該当３\"))","v":""}]
[821217001,8,{"v":212,"d":"212 "},{"v":17,"d":"17 "},{"v":1,"d":"001 "},"茨城県","常陸太田市","山田村","松平宿",null,"","",{"$f":"IF(K1316=\"\",\"\",COUNTIF($K$7:K1316,\"ﾘｽﾄ１\"))","v":""},"","","","","","","",{"$f":"IF(S1316=\"\",\"\",COUNTIF($S$7:S1316,\"該当２\"))","v":""},"","",{"$f":"IF(V1316=\"\",\"\",COUNTIF($V$7:V1316,\"該当３\"))","v":""}]
[821217006,8,{"v":212,"d":"212 "},{"v":17,"d":"17 "},{"v":6,"d":"006 "},"茨城県","常陸太田市","山田村","新道",null,"","",{"$f":"IF(K1321=\"\",\"\",COUNTIF($K$7:K1321,\"ﾘｽﾄ１\"))","v":""},"","","","","","","",{"$f":"IF(S1321=\"\",\"\",COUNTIF($S$7:S1321,\"該当２\"))","v":""},"","",{"$f":"IF(V1321=\"\",\"\",COUNTIF($V$7:V1321,\"該当３\"))","v":""}]
[821217008,8,{"v":212,"d":"212 "},{"v":17,"d":"17 "},{"v":8,"d":"008 "},"茨城県","常陸太田市","山田村","山根",null,"","",{"$f":"IF(K1323=\"\",\"\",COUNTIF($K$7:K1323,\"ﾘｽﾄ１\"))","v":""},"","","","","","","",{"$f":"IF(S1323=\"\",\"\",COUNTIF($S$7:S1323,\"該当２\"))","v":""},"","",{"$f":"IF(V1323=\"\",\"\",COUNTIF($V$7:V1323,\"該当３\"))","v":""}]
[821217012,8,{"v":212,"d":"212 "},{"v":17,"d":"17 "},{"v":12,"d":"012 "},"茨城県","常陸太田市","山田村","滝の上",null,"","",{"$f":"IF(K1327=\"\",\"\",COUNTIF($K$7:K1327,\"ﾘｽﾄ１\"))","v":""},"","","","","","","",{"$f":"IF(S1327=\"\",\"\",COUNTIF($S$7:S1327,\"該当２\"))","v":""},"","",{"$f":"IF(V1327=\"\",\"\",COUNTIF($V$7:V1327,\"該当３\"))","v":""}]
[821217015,8,{"v":212,"d":"212 "},{"v":17,"d":"17 "},{"v":15,"d":"015 "},"茨城県","常陸太田市","山田村","高野",null,"","",{"$f":"IF(K1330=\"\",\"\",COUNTIF($K$7:K1330,\"ﾘｽﾄ１\"))","v":""},"","","","","","","",{"$f":"IF(S1330=\"\",\"\",COUNTIF($S$7:S1330,\"該当２\"))","v":""},"","",{"$f":"IF(V1330=\"\",\"\",COUNTIF($V$7:V1330,\"該当３\"))","v":""}]
[821219000,8,{"v":212,"d":"212 "},{"v":19,"d":"19 "},{"v":0,"d":"000 "},"茨城県","常陸太田市","小里村",null,null,"","",{"$f":"IF(K1334=\"\",\"\",COUNTIF($K$7:K1334,\"ﾘｽﾄ１\"))","v":""},"","","","","","","",{"$f":"IF(S1334=\"\",\"\",COUNTIF($S$7:S1334,\"該当２\"))","v":""},"","",{"$f":"IF(V1334=\"\",\"\",COUNTIF($V$7:V1334,\"該当３\"))","v":""}]
[821219003,8,{"v":212,"d":"212 "},{"v":19,"d":"19 "},{"v":3,"d":"003 "},"茨城県","常陸太田市","小里村","大中東",null,"","",{"$f":"IF(K1337=\"\",\"\",COUNTIF($K$7:K1337,\"ﾘｽﾄ１\"))","v":""},"","","","","","","",{"$f":"IF(S1337=\"\",\"\",COUNTIF($S$7:S1337,\"該当２\"))","v":""},"","",{"$f":"IF(V1337=\"\",\"\",COUNTIF($V$7:V1337,\"該当３\"))","v":""}]
[821219006,8,{"v":212,"d":"212 "},{"v":19,"d":"19 "},{"v":6,"d":"006 "},"茨城県","常陸太田市","小里村","小中宿",null,"","",{"$f":"IF(K1340=\"\",\"\",COUNTIF($K$7:K1340,\"ﾘｽﾄ１\"))","v":""},"","","","","","","",{"$f":"IF(S1340=\"\",\"\",COUNTIF($S$7:S1340,\"該当２\"))","v":""},"","",{"$f":"IF(V1340=\"\",\"\",COUNTIF($V$7:V1340,\"該当３\"))","v":""}]
[821219008,8,{"v":212,"d":"212 "},{"v":19,"d":"19 "},{"v":8,"d":"008 "},"茨城県","常陸太田市","小里村","小妻東",null,"","",{"$f":"IF(K1342=\"\",\"\",COUNTIF($K$7:K1342,\"ﾘｽﾄ１\"))","v":""},"","","","","","","",{"$f":"IF(S1342=\"\",\"\",COUNTIF($S$7:S1342,\"該当２\"))","v":""},"","",{"$f":"IF(V1342=\"\",\"\",COUNTIF($V$7:V1342,\"該当３\"))","v":""}]
[821219011,8,{"v":212,"d":"212 "},{"v":19,"d":"19 "},{"v":11,"d":"011 "},"茨城県","常陸太田市","小里村","中井塚",null,"","",{"$f":"IF(K1345=\"\",\"\",COUNTIF($K$7:K1345,\"ﾘｽﾄ１\"))","v":""},"","","","","","","",{"$f":"IF(S1345=\"\",\"\",COUNTIF($S$7:S1345,\"該当２\"))","v":""},"","",{"$f":"IF(V1345=\"\",\"\",COUNTIF($V$7:V1345,\"該当３\"))","v":""}]
[821219015,8,{"v":212,"d":"212 "},{"v":19,"d":"19 "},{"v":15,"d":"015 "},"茨城県","常陸太田市","小里村","七反",null,"","",{"$f":"IF(K1349=\"\",\"\",COUNTIF($K$7:K1349,\"ﾘｽﾄ１\"))","v":""},"","","","","","","",{"$f":"IF(S1349=\"\",\"\",COUNTIF($S$7:S1349,\"該当２\"))","v":""},"","",{"$f":"IF(V1349=\"\",\"\",COUNTIF($V$7:V1349,\"該当３\"))","v":""}]
[821220001,8,{"v":212,"d":"212 "},{"v":20,"d":"20 "},{"v":1,"d":"001 "},"茨城県","常陸太田市","賀美村","天竜院",null,"","",{"$f":"IF(K1352=\"\",\"\",COUNTIF($K$7:K1352,\"ﾘｽﾄ１\"))","v":""},"","","","","","","",{"$f":"IF(S1352=\"\",\"\",COUNTIF($S$7:S1352,\"該当２\"))","v":""},"","",{"$f":"IF(V1352=\"\",\"\",COUNTIF($V$7:V1352,\"該当３\"))","v":""}]
[821220004,8,{"v":212,"d":"212 "},{"v":20,"d":"20 "},{"v":4,"d":"004 "},"茨城県","常陸太田市","賀美村","折橋宿",null,{"$f":"IF(AND($C1355>0,$H1355=\"\"),\"ﾘｽﾄ１\",\"\")","v":""},{"$f":"IF(K1355=\"ﾘｽﾄ１\",G1355,\"\")","v":""},{"$f":"IF(K1355=\"\",\"\",COUNTIF($K$7:K1355,\"ﾘｽﾄ１\"))","v":""},{"$f":"IF(AND(D1355=0,E1355>0),\"同一区\",\"\")","v":""},{"$f":"IF(AND(EXACT($K$2,G1355),H1355>0),\"該当１\",\"\")","v":""},"","","",{"$f":"IF(AND(Q1355=\"ﾘｽﾄ2\",OR(I1355=0,AND(N1355=\"同一区\",E1355=1))),\"該当２\",\"\")","v":""},"",{"$f":"IF(S1355=\"\",\"\",COUNTIF($S$7:S1355,\"該当２\"))","v":""},"","",{"$f":"IF(V1355=\"\",\"\",COUNTIF($V$7:V1355,\"該当３\"))","v":""}]
[821220008,8,{"v":212,"d":"212 "},{"v":20,"d":"20 "},{"v":8,"d":"008 "},"茨城県","常陸太田市","賀美村","上原",null,"","",{"$f":"IF(K1359=\"\",\"\",COUNTIF($K$7:K1359,\"ﾘｽﾄ１\"))","v":""},"","","","","","","",{"$f":"IF(S1359=\"\",\"\",COUNTIF($S$7:S1359,\"該当２\"))","v":""},"","",{"$f":"IF(V1359=\"\",\"\",COUNTIF($V$7:V1359,\"該当３\"))","v":""}]
[821220012,8,{"v":212,"d":"212 "},{"v":20,"d":"20 "},{"v":12,"d":"012 "},"茨城県","常陸太田市","賀美村","大菅",null,"","",{"$f":"IF(K1363=\"\",\"\",COUNTIF($K$7:K1363,\"ﾘｽﾄ１\"))","v":""},"","","","","","","",{"$f":"IF(S1363=\"\",\"\",COUNTIF($S$7:S1363,\"該当２\"))","v":""},"","",{"$f":"IF(V1363=\"\",\"\",COUNTIF($V$7:V1363,\"該当３\"))","v":""}]
[821220015,8,{"v":212,"d":"212 "},{"v":20,"d":"20 "},{"v":15,"d":"015 "},"茨城県","常陸太田市","賀美村","細田",null,"","",{"$f":"IF(K1366=\"\",\"\",COUNTIF($K$7:K1366,\"ﾘｽﾄ１\"))","v":""},"","","","","","","",{"$f":"IF(S1366=\"\",\"\",COUNTIF($S$7:S1366,\"該当２\"))","v":""},"","",{"$f":"IF(V1366=\"\",\"\",COUNTIF($V$7:V1366,\"該当３\"))","v":""}]
[821220016,8,{"v":212,"d":"212 "},{"v":20,"d":"20 "},{"v":16,"d":"016 "},"茨城県","常陸太田市","賀美村","坂の上",null,"","",{"$f":"IF(K1367=\"\",\"\",COUNTIF($K$7:K1367,\"ﾘｽﾄ１\"))","v":""},"","","","","","","",{"$f":"IF(S1367=\"\",\"\",COUNTIF($S$7:S1367,\"該当２\"))","v":""},"","",{"$f":"IF(V1367=\"\",\"\",COUNTIF($V$7:V1367,\"該当３\"))","v":""}]
[821401001,8,{"v":214,"d":"214 "},{"v":1,"d":"01 "},{"v":1,"d":"001 "},"茨城県","高萩市","高萩町","北方",null,"","",{"$f":"IF(K1370=\"\",\"\",COUNTIF($K$7:K1370,\"ﾘｽﾄ１\"))","v":""},"","","","","","","",{"$f":"IF(S1370=\"\",\"\",COUNTIF($S$7:S1370,\"該当２\"))","v":""},"","",{"$f":"IF(V1370=\"\",\"\",COUNTIF($V$7:V1370,\"該当３\"))","v":""}]
[821401005,8,{"v":214,"d":"214 "},{"v":1,"d":"01 "},{"v":5,"d":"005 "},"茨城県","高萩市","高萩町","安良川",null,"","",{"$f":"IF(K1374=\"\",\"\",COUNTIF($K$7:K1374,\"ﾘｽﾄ１\"))","v":""},"","","","","","","",{"$f":"IF(S1374=\"\",\"\",COUNTIF($S$7:S1374,\"該当２\"))","v":""},"","",{"$f":"IF(V1374=\"\",\"\",COUNTIF($V$7:V1374,\"該当３\"))","v":""}]
[821402001,8,{"v":214,"d":"214 "},{"v":2,"d":"02 "},{"v":1,"d":"001 "},"茨城県","高萩市","松岡町","上手綱",null,"","",{"$f":"IF(K1377=\"\",\"\",COUNTIF($K$7:K1377,\"ﾘｽﾄ１\"))","v":""},"","","","","","","",{"$f":"IF(S1377=\"\",\"\",COUNTIF($S$7:S1377,\"該当２\"))","v":""},"","",{"$f":"IF(V1377=\"\",\"\",COUNTIF($V$7:V1377,\"該当３\"))","v":""}]
[821402004,8,{"v":214,"d":"214 "},{"v":2,"d":"02 "},{"v":4,"d":"004 "},"茨城県","高萩市","松岡町","赤浜",null,"","",{"$f":"IF(K1380=\"\",\"\",COUNTIF($K$7:K1380,\"ﾘｽﾄ１\"))","v":""},"","","","","","","",{"$f":"IF(S1380=\"\",\"\",COUNTIF($S$7:S1380,\"該当２\"))","v":""},"","",{"$f":"IF(V1380=\"\",\"\",COUNTIF($V$7:V1380,\"該当３\"))","v":""}]
[821403003,8,{"v":214,"d":"214 "},{"v":3,"d":"03 "},{"v":3,"d":"003 "},"茨城県","高萩市","高岡村","下君田",null,"","",{"$f":"IF(K1384=\"\",\"\",COUNTIF($K$7:K1384,\"ﾘｽﾄ１\"))","v":""},"","","","","","","",{"$f":"IF(S1384=\"\",\"\",COUNTIF($S$7:S1384,\"該当２\"))","v":""},"","",{"$f":"IF(V1384=\"\",\"\",COUNTIF($V$7:V1384,\"該当３\"))","v":""}]
[821404000,8,{"v":214,"d":"214 "},{"v":4,"d":"04 "},{"v":0,"d":"000 "},"茨城県","高萩市","黒前村２－２",null,null,"","",{"$f":"IF(K1388=\"\",\"\",COUNTIF($K$7:K1388,\"ﾘｽﾄ１\"))","v":""},"","","","","","","",{"$f":"IF(S1388=\"\",\"\",COUNTIF($S$7:S1388,\"該当２\"))","v":""},"","",{"$f":"IF(V1388=\"\",\"\",COUNTIF($V$7:V1388,\"該当３\"))","v":""}]
[821501000,8,{"v":215,"d":"215 "},{"v":1,"d":"01 "},{"v":0,"d":"000 "},"茨城県","北茨城市","南中郷村",null,null,"","",{"$f":"IF(K1391=\"\",\"\",COUNTIF($K$7:K1391,\"ﾘｽﾄ１\"))","v":""},"","","","","","","",{"$f":"IF(S1391=\"\",\"\",COUNTIF($S$7:S1391,\"該当２\"))","v":""},"","",{"$f":"IF(V1391=\"\",\"\",COUNTIF($V$7:V1391,\"該当３\"))","v":""}]
[821501001,8,{"v":215,"d":"215 "},{"v":1,"d":"01 "},{"v":1,"d":"001 "},"茨城県","北茨城市","南中郷村","石岡",null,"","",{"$f":"IF(K1392=\"\",\"\",COUNTIF($K$7:K1392,\"ﾘｽﾄ１\"))","v":""},"","","","","","","",{"$f":"IF(S1392=\"\",\"\",COUNTIF($S$7:S1392,\"該当２\"))","v":""},"","",{"$f":"IF(V1392=\"\",\"\",COUNTIF($V$7:V1392,\"該当３\"))","v":""}]
[821501004,8,{"v":215,"d":"215 "},{"v":1,"d":"01 "},{"v":4,"d":"004 "},"茨城県","北茨城市","南中郷村","足洗",null,"","",{"$f":"IF(K1395=\"\",\"\",COUNTIF($K$7:K1395,\"ﾘｽﾄ１\"))","v":""},"","","","","","","",{"$f":"IF(S1395=\"\",\"\",COUNTIF($S$7:S1395,\"該当２\"))","v":""},"","",{"$f":"IF(V1395=\"\",\"\",COUNTIF($V$7:V1395,\"該当３\"))","v":""}]
[821501008,8,{"v":215,"d":"215 "},{"v":1,"d":"01 "},{"v":8,"d":"008 "},"茨城県","北茨城市","南中郷村","小野矢指",null,"","",{"$f":"IF(K1399=\"\",\"\",COUNTIF($K$7:K1399,\"ﾘｽﾄ１\"))","v":""},"","","","","","","",{"$f":"IF(S1399=\"\",\"\",COUNTIF($S$7:S1399,\"該当２\"))","v":""},"","",{"$f":"IF(V1399=\"\",\"\",COUNTIF($V$7:V1399,\"該当３\"))","v":""}]
[821502001,8,{"v":215,"d":"215 "},{"v":2,"d":"02 "},{"v":1,"d":"001 "},"茨城県","北茨城市","磯原町","内野",null,"","",{"$f":"IF(K1401=\"\",\"\",COUNTIF($K$7:K1401,\"ﾘｽﾄ１\"))","v":""},"","","","","","","",{"$f":"IF(S1401=\"\",\"\",COUNTIF($S$7:S1401,\"該当２\"))","v":""},"","",{"$f":"IF(V1401=\"\",\"\",COUNTIF($V$7:V1401,\"該当３\"))","v":""}]
[821502006,8,{"v":215,"d":"215 "},{"v":2,"d":"02 "},{"v":6,"d":"006 "},"茨城県","北茨城市","磯原町","上相田",null,"","",{"$f":"IF(K1406=\"\",\"\",COUNTIF($K$7:K1406,\"ﾘｽﾄ１\"))","v":""},"","","","","","","",{"$f":"IF(S1406=\"\",\"\",COUNTIF($S$7:S1406,\"該当２\"))","v":""},"","",{"$f":"IF(V1406=\"\",\"\",COUNTIF($V$7:V1406,\"該当３\"))","v":""}]
[821503000,8,{"v":215,"d":"215 "},{"v":3,"d":"03 "},{"v":0,"d":"000 "},"茨城県","北茨城市","華川村",null,null,"","",{"$f":"IF(K1410=\"\",\"\",COUNTIF($K$7:K1410,\"ﾘｽﾄ１\"))","v":""},"","","","","","","",{"$f":"IF(S1410=\"\",\"\",COUNTIF($S$7:S1410,\"該当２\"))","v":""},"","",{"$f":"IF(V1410=\"\",\"\",COUNTIF($V$7:V1410,\"該当３\"))","v":""}]
[821503003,8,{"v":215,"d":"215 "},{"v":3,"d":"03 "},{"v":3,"d":"003 "},"茨城県","北茨城市","華川村","臼場",null,"","",{"$f":"IF(K1413=\"\",\"\",COUNTIF($K$7:K1413,\"ﾘｽﾄ１\"))","v":""},"","","","","","","",{"$f":"IF(S1413=\"\",\"\",COUNTIF($S$7:S1413,\"該当２\"))","v":""},"","",{"$f":"IF(V1413=\"\",\"\",COUNTIF($V$7:V1413,\"該当３\"))","v":""}]
[821503004,8,{"v":215,"d":"215 "},{"v":3,"d":"03 "},{"v":4,"d":"004 "},"茨城県","北茨城市","華川村","車",null,"","",{"$f":"IF(K1414=\"\",\"\",COUNTIF($K$7:K1414,\"ﾘｽﾄ１\"))","v":""},"","","","","","","",{"$f":"IF(S1414=\"\",\"\",COUNTIF($S$7:S1414,\"該当２\"))","v":""},"","",{"$f":"IF(V1414=\"\",\"\",COUNTIF($V$7:V1414,\"該当３\"))","v":""}]
[821503007,8,{"v":215,"d":"215 "},{"v":3,"d":"03 "},{"v":7,"d":"007 "},"茨城県","北茨城市","華川村","小豆畑",null,"","",{"$f":"IF(K1417=\"\",\"\",COUNTIF($K$7:K1417,\"ﾘｽﾄ１\"))","v":""},"","","","","","","",{"$f":"IF(S1417=\"\",\"\",COUNTIF($S$7:S1417,\"該当２\"))","v":""},"","",{"$f":"IF(V1417=\"\",\"\",COUNTIF($V$7:V1417,\"該当３\"))","v":""}]
[821504003,8,{"v":215,"d":"215 "},{"v":4,"d":"04 "},{"v":3,"d":"003 "},"茨城県","北茨城市","関南村","仁井田",null,"","",{"$f":"IF(K1422=\"\",\"\",COUNTIF($K$7:K1422,\"ﾘｽﾄ１\"))","v":""},"","","","","","","",{"$f":"IF(S1422=\"\",\"\",COUNTIF($S$7:S1422,\"該当２\"))","v":""},"","",{"$f":"IF(V1422=\"\",\"\",COUNTIF($V$7:V1422,\"該当３\"))","v":""}]
[821505000,8,{"v":215,"d":"215 "},{"v":5,"d":"05 "},{"v":0,"d":"000 "},"茨城県","北茨城市","大津町",null,null,"","",{"$f":"IF(K1425=\"\",\"\",COUNTIF($K$7:K1425,\"ﾘｽﾄ１\"))","v":""},"","","","","","","",{"$f":"IF(S1425=\"\",\"\",COUNTIF($S$7:S1425,\"該当２\"))","v":""},"","",{"$f":"IF(V1425=\"\",\"\",COUNTIF($V$7:V1425,\"該当３\"))","v":""}]
[821505003,8,{"v":215,"d":"215 "},{"v":5,"d":"05 "},{"v":3,"d":"003 "},"茨城県","北茨城市","大津町","仲町",null,"","",{"$f":"IF(K1428=\"\",\"\",COUNTIF($K$7:K1428,\"ﾘｽﾄ１\"))","v":""},"","","","","","","",{"$f":"IF(S1428=\"\",\"\",COUNTIF($S$7:S1428,\"該当２\"))","v":""},"","",{"$f":"IF(V1428=\"\",\"\",COUNTIF($V$7:V1428,\"該当３\"))","v":""}]
[821506001,8,{"v":215,"d":"215 "},{"v":6,"d":"06 "},{"v":1,"d":"001 "},"茨城県","北茨城市","平潟町","本町",null,"","",{"$f":"IF(K1431=\"\",\"\",COUNTIF($K$7:K1431,\"ﾘｽﾄ１\"))","v":""},"","","","","","","",{"$f":"IF(S1431=\"\",\"\",COUNTIF($S$7:S1431,\"該当２\"))","v":""},"","",{"$f":"IF(V1431=\"\",\"\",COUNTIF($V$7:V1431,\"該当３\"))","v":""}]
[821507001,8,{"v":215,"d":"215 "},{"v":7,"d":"07 "},{"v":1,"d":"001 "},"茨城県","北茨城市","関本村","小川",null,"","",{"$f":"IF(K1435=\"\",\"\",COUNTIF($K$7:K1435,\"ﾘｽﾄ１\"))","v":""},"","","","","","","",{"$f":"IF(S1435=\"\",\"\",COUNTIF($S$7:S1435,\"該当２\"))","v":""},"","",{"$f":"IF(V1435=\"\",\"\",COUNTIF($V$7:V1435,\"該当３\"))","v":""}]
[821507004,8,{"v":215,"d":"215 "},{"v":7,"d":"07 "},{"v":4,"d":"004 "},"茨城県","北茨城市","関本村","八反",null,"","",{"$f":"IF(K1438=\"\",\"\",COUNTIF($K$7:K1438,\"ﾘｽﾄ１\"))","v":""},"","","","","","","",{"$f":"IF(S1438=\"\",\"\",COUNTIF($S$7:S1438,\"該当２\"))","v":""},"","",{"$f":"IF(V1438=\"\",\"\",COUNTIF($V$7:V1438,\"該当３\"))","v":""}]
[821507005,8,{"v":215,"d":"215 "},{"v":7,"d":"07 "},{"v":5,"d":"005 "},"茨城県","北茨城市","関本村","関本上",null,"","",{"$f":"IF(K1439=\"\",\"\",COUNTIF($K$7:K1439,\"ﾘｽﾄ１\"))","v":""},"","","","","","","",{"$f":"IF(S1439=\"\",\"\",COUNTIF($S$7:S1439,\"該当２\"))","v":""},"","",{"$f":"IF(V1439=\"\",\"\",COUNTIF($V$7:V1439,\"該当３\"))","v":""}]
[821601000,8,{"v":216,"d":"216 "},{"v":1,"d":"01 "},{"v":0,"d":"000 "},"茨城県","笠間市","笠間町",null,null,"","",{"$f":"IF(K1443=\"\",\"\",COUNTIF($K$7:K1443,\"ﾘｽﾄ１\"))","v":""},"","","","","","","",{"$f":"IF(S1443=\"\",\"\",COUNTIF($S$7:S1443,\"該当２\"))","v":""},"","",{"$f":"IF(V1443=\"\",\"\",COUNTIF($V$7:V1443,\"該当３\"))","v":""}]
[821601003,8,{"v":216,"d":"216 "},{"v":1,"d":"01 "},{"v":3,"d":"003 "},"茨城県","笠間市","笠間町","大町，田町，愛宕町",null,"","",{"$f":"IF(K1446=\"\",\"\",COUNTIF($K$7:K1446,\"ﾘｽﾄ１\"))","v":""},"","","","","","","",{"$f":"IF(S1446=\"\",\"\",COUNTIF($S$7:S1446,\"該当２\"))","v":""},"","",{"$f":"IF(V1446=\"\",\"\",COUNTIF($V$7:V1446,\"該当３\"))","v":""}]
[821601007,8,{"v":216,"d":"216 "},{"v":1,"d":"01 "},{"v":7,"d":"007 "},"茨城県","笠間市","笠間町","石井上甲の山",null,"","",{"$f":"IF(K1450=\"\",\"\",COUNTIF($K$7:K1450,\"ﾘｽﾄ１\"))","v":""},"","","","","","","",{"$f":"IF(S1450=\"\",\"\",COUNTIF($S$7:S1450,\"該当２\"))","v":""},"","",{"$f":"IF(V1450=\"\",\"\",COUNTIF($V$7:V1450,\"該当３\"))","v":""}]
[821601010,8,{"v":216,"d":"216 "},{"v":1,"d":"01 "},{"v":10,"d":"010 "},"茨城県","笠間市","笠間町","石井上南側",null,"","",{"$f":"IF(K1453=\"\",\"\",COUNTIF($K$7:K1453,\"ﾘｽﾄ１\"))","v":""},"","","","","","","",{"$f":"IF(S1453=\"\",\"\",COUNTIF($S$7:S1453,\"該当２\"))","v":""},"","",{"$f":"IF(V1453=\"\",\"\",COUNTIF($V$7:V1453,\"該当３\"))","v":""}]
[821601014,8,{"v":216,"d":"216 "},{"v":1,"d":"01 "},{"v":14,"d":"014 "},"茨城県","笠間市","笠間町","弁天町",null,"","",{"$f":"IF(K1457=\"\",\"\",COUNTIF($K$7:K1457,\"ﾘｽﾄ１\"))","v":""},"","","","","","","",{"$f":"IF(S1457=\"\",\"\",COUNTIF($S$7:S1457,\"該当２\"))","v":""},"","",{"$f":"IF(V1457=\"\",\"\",COUNTIF($V$7:V1457,\"該当３\"))","v":""}]
[821601017,8,{"v":216,"d":"216 "},{"v":1,"d":"01 "},{"v":17,"d":"017 "},"茨城県","笠間市","笠間町","昭和町，稲荷町",null,"","",{"$f":"IF(K1460=\"\",\"\",COUNTIF($K$7:K1460,\"ﾘｽﾄ１\"))","v":""},"","","","","","","",{"$f":"IF(S1460=\"\",\"\",COUNTIF($S$7:S1460,\"該当２\"))","v":""},"","",{"$f":"IF(V1460=\"\",\"\",COUNTIF($V$7:V1460,\"該当３\"))","v":""}]
[821601021,8,{"v":216,"d":"216 "},{"v":1,"d":"01 "},{"v":21,"d":"021 "},"茨城県","笠間市","笠間町","桂町，桝形",null,"","",{"$f":"IF(K1464=\"\",\"\",COUNTIF($K$7:K1464,\"ﾘｽﾄ１\"))","v":""},"","","","","","","",{"$f":"IF(S1464=\"\",\"\",COUNTIF($S$7:S1464,\"該当２\"))","v":""},"","",{"$f":"IF(V1464=\"\",\"\",COUNTIF($V$7:V1464,\"該当３\"))","v":""}]
[821601022,8,{"v":216,"d":"216 "},{"v":1,"d":"01 "},{"v":22,"d":"022 "},"茨城県","笠間市","笠間町","馬廻り",null,"","",{"$f":"IF(K1465=\"\",\"\",COUNTIF($K$7:K1465,\"ﾘｽﾄ１\"))","v":""},"","","","","","","",{"$f":"IF(S1465=\"\",\"\",COUNTIF($S$7:S1465,\"該当２\"))","v":""},"","",{"$f":"IF(V1465=\"\",\"\",COUNTIF($V$7:V1465,\"該当３\"))","v":""}]
[821602000,8,{"v":216,"d":"216 "},{"v":2,"d":"02 "},{"v":0,"d":"000 "},"茨城県","笠間市","大池田村",null,null,"","",{"$f":"IF(K1468=\"\",\"\",COUNTIF($K$7:K1468,\"ﾘｽﾄ１\"))","v":""},"","","","","","","",{"$f":"IF(S1468=\"\",\"\",COUNTIF($S$7:S1468,\"該当２\"))","v":""},"","",{"$f":"IF(V1468=\"\",\"\",COUNTIF($V$7:V1468,\"該当３\"))","v":""}]
[821602003,8,{"v":216,"d":"216 "},{"v":2,"d":"02 "},{"v":3,"d":"003 "},"茨城県","笠間市","大池田村","八田",null,"","",{"$f":"IF(K1471=\"\",\"\",COUNTIF($K$7:K1471,\"ﾘｽﾄ１\"))","v":""},"","","","","","","",{"$f":"IF(S1471=\"\",\"\",COUNTIF($S$7:S1471,\"該当２\"))","v":""},"","",{"$f":"IF(V1471=\"\",\"\",COUNTIF($V$7:V1471,\"該当３\"))","v":""}]
[821602007,8,{"v":216,"d":"216 "},{"v":2,"d":"02 "},{"v":7,"d":"007 "},"茨城県","笠間市","大池田村","宿向",null,"","",{"$f":"IF(K1475=\"\",\"\",COUNTIF($K$7:K1475,\"ﾘｽﾄ１\"))","v":""},"","","","","","","",{"$f":"IF(S1475=\"\",\"\",COUNTIF($S$7:S1475,\"該当２\"))","v":""},"","",{"$f":"IF(V1475=\"\",\"\",COUNTIF($V$7:V1475,\"該当３\"))","v":""}]
[821602010,8,{"v":216,"d":"216 "},{"v":2,"d":"02 "},{"v":10,"d":"010 "},"茨城県","笠間市","大池田村","寄居",null,"","",{"$f":"IF(K1478=\"\",\"\",COUNTIF($K$7:K1478,\"ﾘｽﾄ１\"))","v":""},"","","","","","","",{"$f":"IF(S1478=\"\",\"\",COUNTIF($S$7:S1478,\"該当２\"))","v":""},"","",{"$f":"IF(V1478=\"\",\"\",COUNTIF($V$7:V1478,\"該当３\"))","v":""}]
[821602013,8,{"v":216,"d":"216 "},{"v":2,"d":"02 "},{"v":13,"d":"013 "},"茨城県","笠間市","大池田村","山口",null,"","",{"$f":"IF(K1481=\"\",\"\",COUNTIF($K$7:K1481,\"ﾘｽﾄ１\"))","v":""},"","","","","","","",{"$f":"IF(S1481=\"\",\"\",COUNTIF($S$7:S1481,\"該当２\"))","v":""},"","",{"$f":"IF(V1481=\"\",\"\",COUNTIF($V$7:V1481,\"該当３\"))","v":""}]
[821603004,8,{"v":216,"d":"216 "},{"v":3,"d":"03 "},{"v":4,"d":"004 "},"茨城県","笠間市","北山内村","入組",null,"","",{"$f":"IF(K1486=\"\",\"\",COUNTIF($K$7:K1486,\"ﾘｽﾄ１\"))","v":""},"","","","","","","",{"$f":"IF(S1486=\"\",\"\",COUNTIF($S$7:S1486,\"該当２\"))","v":""},"","",{"$f":"IF(V1486=\"\",\"\",COUNTIF($V$7:V1486,\"該当３\"))","v":""}]
[821603007,8,{"v":216,"d":"216 "},{"v":3,"d":"03 "},{"v":7,"d":"007 "},"茨城県","笠間市","北山内村","表",null,"","",{"$f":"IF(K1489=\"\",\"\",COUNTIF($K$7:K1489,\"ﾘｽﾄ１\"))","v":""},"","","","","","","",{"$f":"IF(S1489=\"\",\"\",COUNTIF($S$7:S1489,\"該当２\"))","v":""},"","",{"$f":"IF(V1489=\"\",\"\",COUNTIF($V$7:V1489,\"該当３\"))","v":""}]
[821603008,8,{"v":216,"d":"216 "},{"v":3,"d":"03 "},{"v":8,"d":"008 "},"茨城県","笠間市","北山内村","中組",null,"","",{"$f":"IF(K1490=\"\",\"\",COUNTIF($K$7:K1490,\"ﾘｽﾄ１\"))","v":""},"","","","","","","",{"$f":"IF(S1490=\"\",\"\",COUNTIF($S$7:S1490,\"該当２\"))","v":""},"","",{"$f":"IF(V1490=\"\",\"\",COUNTIF($V$7:V1490,\"該当３\"))","v":""}]
[821603011,8,{"v":216,"d":"216 "},{"v":3,"d":"03 "},{"v":11,"d":"011 "},"茨城県","笠間市","北山内村","寺崎",null,"","",{"$f":"IF(K1493=\"\",\"\",COUNTIF($K$7:K1493,\"ﾘｽﾄ１\"))","v":""},"","","","","","","",{"$f":"IF(S1493=\"\",\"\",COUNTIF($S$7:S1493,\"該当２\"))","v":""},"","",{"$f":"IF(V1493=\"\",\"\",COUNTIF($V$7:V1493,\"該当３\"))","v":""}]
[821603014,8,{"v":216,"d":"216 "},{"v":3,"d":"03 "},{"v":14,"d":"014 "},"茨城県","笠間市","北山内村","金井",null,"","",{"$f":"IF(K1496=\"\",\"\",COUNTIF($K$7:K1496,\"ﾘｽﾄ１\"))","v":""},"","","","","","","",{"$f":"IF(S1496=\"\",\"\",COUNTIF($S$7:S1496,\"該当２\"))","v":""},"","",{"$f":"IF(V1496=\"\",\"\",COUNTIF($V$7:V1496,\"該当３\"))","v":""}]
[821604000,8,{"v":216,"d":"216 "},{"v":4,"d":"04 "},{"v":0,"d":"000 "},"茨城県","笠間市","南山内村",null,null,"","",{"$f":"IF(K1500=\"\",\"\",COUNTIF($K$7:K1500,\"ﾘｽﾄ１\"))","v":""},"","","","","","","",{"$f":"IF(S1500=\"\",\"\",COUNTIF($S$7:S1500,\"該当２\"))","v":""},"","",{"$f":"IF(V1500=\"\",\"\",COUNTIF($V$7:V1500,\"該当３\"))","v":""}]
[821604002,8,{"v":216,"d":"216 "},{"v":4,"d":"04 "},{"v":2,"d":"002 "},"茨城県","笠間市","南山内村","中郷",null,"","",{"$f":"IF(K1502=\"\",\"\",COUNTIF($K$7:K1502,\"ﾘｽﾄ１\"))","v":""},"","","","","","","",{"$f":"IF(S1502=\"\",\"\",COUNTIF($S$7:S1502,\"該当２\"))","v":""},"","",{"$f":"IF(V1502=\"\",\"\",COUNTIF($V$7:V1502,\"該当３\"))","v":""}]
[821604008,8,{"v":216,"d":"216 "},{"v":4,"d":"04 "},{"v":8,"d":"008 "},"茨城県","笠間市","南山内村","臼木，神田，窪田，本田",null,"","",{"$f":"IF(K1508=\"\",\"\",COUNTIF($K$7:K1508,\"ﾘｽﾄ１\"))","v":""},"","","","","","","",{"$f":"IF(S1508=\"\",\"\",COUNTIF($S$7:S1508,\"該当２\"))","v":""},"","",{"$f":"IF(V1508=\"\",\"\",COUNTIF($V$7:V1508,\"該当３\"))","v":""}]
[821604011,8,{"v":216,"d":"216 "},{"v":4,"d":"04 "},{"v":11,"d":"011 "},"茨城県","笠間市","南山内村","手越",null,"","",{"$f":"IF(K1511=\"\",\"\",COUNTIF($K$7:K1511,\"ﾘｽﾄ１\"))","v":""},"","","","","","","",{"$f":"IF(S1511=\"\",\"\",COUNTIF($S$7:S1511,\"該当２\"))","v":""},"","",{"$f":"IF(V1511=\"\",\"\",COUNTIF($V$7:V1511,\"該当３\"))","v":""}]
[821604014,8,{"v":216,"d":"216 "},{"v":4,"d":"04 "},{"v":14,"d":"014 "},"茨城県","笠間市","南山内村","谷津，中谷津，下の内",null,"","",{"$f":"IF(K1514=\"\",\"\",COUNTIF($K$7:K1514,\"ﾘｽﾄ１\"))","v":""},"","","","","","","",{"$f":"IF(S1514=\"\",\"\",COUNTIF($S$7:S1514,\"該当２\"))","v":""},"","",{"$f":"IF(V1514=\"\",\"\",COUNTIF($V$7:V1514,\"該当３\"))","v":""}]
[821604015,8,{"v":216,"d":"216 "},{"v":4,"d":"04 "},{"v":15,"d":"015 "},"茨城県","笠間市","南山内村","沢口，下鳥",null,"","",{"$f":"IF(K1515=\"\",\"\",COUNTIF($K$7:K1515,\"ﾘｽﾄ１\"))","v":""},"","","","","","","",{"$f":"IF(S1515=\"\",\"\",COUNTIF($S$7:S1515,\"該当２\"))","v":""},"","",{"$f":"IF(V1515=\"\",\"\",COUNTIF($V$7:V1515,\"該当３\"))","v":""}]
[821605000,8,{"v":216,"d":"216 "},{"v":5,"d":"05 "},{"v":0,"d":"000 "},"茨城県","笠間市","西山内村",null,null,"","",{"$f":"IF(K1518=\"\",\"\",COUNTIF($K$7:K1518,\"ﾘｽﾄ１\"))","v":""},"","","","","","","",{"$f":"IF(S1518=\"\",\"\",COUNTIF($S$7:S1518,\"該当２\"))","v":""},"","",{"$f":"IF(V1518=\"\",\"\",COUNTIF($V$7:V1518,\"該当３\"))","v":""}]
[821605005,8,{"v":216,"d":"216 "},{"v":5,"d":"05 "},{"v":5,"d":"005 "},"茨城県","笠間市","西山内村","南中山２",null,"","",{"$f":"IF(K1523=\"\",\"\",COUNTIF($K$7:K1523,\"ﾘｽﾄ１\"))","v":""},"","","","","","","",{"$f":"IF(S1523=\"\",\"\",COUNTIF($S$7:S1523,\"該当２\"))","v":""},"","",{"$f":"IF(V1523=\"\",\"\",COUNTIF($V$7:V1523,\"該当３\"))","v":""}]
[821605008,8,{"v":216,"d":"216 "},{"v":5,"d":"05 "},{"v":8,"d":"008 "},"茨城県","笠間市","西山内村","南関戸",null,"","",{"$f":"IF(K1526=\"\",\"\",COUNTIF($K$7:K1526,\"ﾘｽﾄ１\"))","v":""},"","","","","","","",{"$f":"IF(S1526=\"\",\"\",COUNTIF($S$7:S1526,\"該当２\"))","v":""},"","",{"$f":"IF(V1526=\"\",\"\",COUNTIF($V$7:V1526,\"該当３\"))","v":""}]
[821605011,8,{"v":216,"d":"216 "},{"v":5,"d":"05 "},{"v":11,"d":"011 "},"茨城県","笠間市","西山内村","上稲田第１の上",null,"","",{"$f":"IF(K1529=\"\",\"\",COUNTIF($K$7:K1529,\"ﾘｽﾄ１\"))","v":""},"","","","","","","",{"$f":"IF(S1529=\"\",\"\",COUNTIF($S$7:S1529,\"該当２\"))","v":""},"","",{"$f":"IF(V1529=\"\",\"\",COUNTIF($V$7:V1529,\"該当３\"))","v":""}]
[821605015,8,{"v":216,"d":"216 "},{"v":5,"d":"05 "},{"v":15,"d":"015 "},"茨城県","笠間市","西山内村","石ケ崎",null,"","",{"$f":"IF(K1533=\"\",\"\",COUNTIF($K$7:K1533,\"ﾘｽﾄ１\"))","v":""},"","","","","","","",{"$f":"IF(S1533=\"\",\"\",COUNTIF($S$7:S1533,\"該当２\"))","v":""},"","",{"$f":"IF(V1533=\"\",\"\",COUNTIF($V$7:V1533,\"該当３\"))","v":""}]
[821605018,8,{"v":216,"d":"216 "},{"v":5,"d":"05 "},{"v":18,"d":"018 "},"茨城県","笠間市","西山内村","島",null,"","",{"$f":"IF(K1536=\"\",\"\",COUNTIF($K$7:K1536,\"ﾘｽﾄ１\"))","v":""},"","","","","","","",{"$f":"IF(S1536=\"\",\"\",COUNTIF($S$7:S1536,\"該当２\"))","v":""},"","",{"$f":"IF(V1536=\"\",\"\",COUNTIF($V$7:V1536,\"該当３\"))","v":""}]
[821606000,8,{"v":216,"d":"216 "},{"v":6,"d":"06 "},{"v":0,"d":"000 "},"茨城県","笠間市","宍戸町",null,null,"","",{"$f":"IF(K1539=\"\",\"\",COUNTIF($K$7:K1539,\"ﾘｽﾄ１\"))","v":""},"","","","","","","",{"$f":"IF(S1539=\"\",\"\",COUNTIF($S$7:S1539,\"該当２\"))","v":""},"","",{"$f":"IF(V1539=\"\",\"\",COUNTIF($V$7:V1539,\"該当３\"))","v":""}]
[821606001,8,{"v":216,"d":"216 "},{"v":6,"d":"06 "},{"v":1,"d":"001 "},"茨城県","笠間市","宍戸町","本町",null,"","",{"$f":"IF(K1540=\"\",\"\",COUNTIF($K$7:K1540,\"ﾘｽﾄ１\"))","v":""},"","","","","","","",{"$f":"IF(S1540=\"\",\"\",COUNTIF($S$7:S1540,\"該当２\"))","v":""},"","",{"$f":"IF(V1540=\"\",\"\",COUNTIF($V$7:V1540,\"該当３\"))","v":""}]
[821606005,8,{"v":216,"d":"216 "},{"v":6,"d":"06 "},{"v":5,"d":"005 "},"茨城県","笠間市","宍戸町","大古山",null,"","",{"$f":"IF(K1544=\"\",\"\",COUNTIF($K$7:K1544,\"ﾘｽﾄ１\"))","v":""},"","","","","","","",{"$f":"IF(S1544=\"\",\"\",COUNTIF($S$7:S1544,\"該当２\"))","v":""},"","",{"$f":"IF(V1544=\"\",\"\",COUNTIF($V$7:V1544,\"該当３\"))","v":""}]
[821606009,8,{"v":216,"d":"216 "},{"v":6,"d":"06 "},{"v":9,"d":"009 "},"茨城県","笠間市","宍戸町","小人町",null,"","",{"$f":"IF(K1548=\"\",\"\",COUNTIF($K$7:K1548,\"ﾘｽﾄ１\"))","v":""},"","","","","","","",{"$f":"IF(S1548=\"\",\"\",COUNTIF($S$7:S1548,\"該当２\"))","v":""},"","",{"$f":"IF(V1548=\"\",\"\",COUNTIF($V$7:V1548,\"該当３\"))","v":""}]
[821606012,8,{"v":216,"d":"216 "},{"v":6,"d":"06 "},{"v":12,"d":"012 "},"茨城県","笠間市","宍戸町","大田町第１",null,"","",{"$f":"IF(K1551=\"\",\"\",COUNTIF($K$7:K1551,\"ﾘｽﾄ１\"))","v":""},"","","","","","","",{"$f":"IF(S1551=\"\",\"\",COUNTIF($S$7:S1551,\"該当２\"))","v":""},"","",{"$f":"IF(V1551=\"\",\"\",COUNTIF($V$7:V1551,\"該当３\"))","v":""}]
[821606015,8,{"v":216,"d":"216 "},{"v":6,"d":"06 "},{"v":15,"d":"015 "},"茨城県","笠間市","宍戸町","宮前",null,"","",{"$f":"IF(K1554=\"\",\"\",COUNTIF($K$7:K1554,\"ﾘｽﾄ１\"))","v":""},"","","","","","","",{"$f":"IF(S1554=\"\",\"\",COUNTIF($S$7:S1554,\"該当２\"))","v":""},"","",{"$f":"IF(V1554=\"\",\"\",COUNTIF($V$7:V1554,\"該当３\"))","v":""}]
[821606019,8,{"v":216,"d":"216 "},{"v":6,"d":"06 "},{"v":19,"d":"019 "},"茨城県","笠間市","宍戸町","東町",null,"","",{"$f":"IF(K1558=\"\",\"\",COUNTIF($K$7:K1558,\"ﾘｽﾄ１\"))","v":""},"","","","","","","",{"$f":"IF(S1558=\"\",\"\",COUNTIF($S$7:S1558,\"該当２\"))","v":""},"","",{"$f":"IF(V1558=\"\",\"\",COUNTIF($V$7:V1558,\"該当３\"))","v":""}]
[821606022,8,{"v":216,"d":"216 "},{"v":6,"d":"06 "},{"v":22,"d":"022 "},"茨城県","笠間市","宍戸町","八幡下",null,"","",{"$f":"IF(K1561=\"\",\"\",COUNTIF($K$7:K1561,\"ﾘｽﾄ１\"))","v":""},"","","","","","","",{"$f":"IF(S1561=\"\",\"\",COUNTIF($S$7:S1561,\"該当２\"))","v":""},"","",{"$f":"IF(V1561=\"\",\"\",COUNTIF($V$7:V1561,\"該当３\"))","v":""}]
[821606026,8,{"v":216,"d":"216 "},{"v":6,"d":"06 "},{"v":26,"d":"026 "},"茨城県","笠間市","宍戸町","旭平",null,"","",{"$f":"IF(K1565=\"\",\"\",COUNTIF($K$7:K1565,\"ﾘｽﾄ１\"))","v":""},"","","","","","","",{"$f":"IF(S1565=\"\",\"\",COUNTIF($S$7:S1565,\"該当２\"))","v":""},"","",{"$f":"IF(V1565=\"\",\"\",COUNTIF($V$7:V1565,\"該当３\"))","v":""}]
[821606027,8,{"v":216,"d":"216 "},{"v":6,"d":"06 "},{"v":27,"d":"027 "},"茨城県","笠間市","宍戸町","旭崎",null,"","",{"$f":"IF(K1566=\"\",\"\",COUNTIF($K$7:K1566,\"ﾘｽﾄ１\"))","v":""},"","","","","","","",{"$f":"IF(S1566=\"\",\"\",COUNTIF($S$7:S1566,\"該当２\"))","v":""},"","",{"$f":"IF(V1566=\"\",\"\",COUNTIF($V$7:V1566,\"該当３\"))","v":""}]
[821607001,8,{"v":216,"d":"216 "},{"v":7,"d":"07 "},{"v":1,"d":"001 "},"茨城県","笠間市","北川根村","石沢",null,"","",{"$f":"IF(K1569=\"\",\"\",COUNTIF($K$7:K1569,\"ﾘｽﾄ１\"))","v":""},"","","","","","","",{"$f":"IF(S1569=\"\",\"\",COUNTIF($S$7:S1569,\"該当２\"))","v":""},"","",{"$f":"IF(V1569=\"\",\"\",COUNTIF($V$7:V1569,\"該当３\"))","v":""}]
[821607005,8,{"v":216,"d":"216 "},{"v":7,"d":"07 "},{"v":5,"d":"005 "},"茨城県","笠間市","北川根村","住吉大沢",null,"","",{"$f":"IF(K1573=\"\",\"\",COUNTIF($K$7:K1573,\"ﾘｽﾄ１\"))","v":""},"","","","","","","",{"$f":"IF(S1573=\"\",\"\",COUNTIF($S$7:S1573,\"該当２\"))","v":""},"","",{"$f":"IF(V1573=\"\",\"\",COUNTIF($V$7:V1573,\"該当３\"))","v":""}]
[821607008,8,{"v":216,"d":"216 "},{"v":7,"d":"07 "},{"v":8,"d":"008 "},"茨城県","笠間市","北川根村","住吉西原",null,"","",{"$f":"IF(K1576=\"\",\"\",COUNTIF($K$7:K1576,\"ﾘｽﾄ１\"))","v":""},"","","","","","","",{"$f":"IF(S1576=\"\",\"\",COUNTIF($S$7:S1576,\"該当２\"))","v":""},"","",{"$f":"IF(V1576=\"\",\"\",COUNTIF($V$7:V1576,\"該当３\"))","v":""}]
[821607011,8,{"v":216,"d":"216 "},{"v":7,"d":"07 "},{"v":11,"d":"011 "},"茨城県","笠間市","北川根村","柏井旭丘",null,"","",{"$f":"IF(K1579=\"\",\"\",COUNTIF($K$7:K1579,\"ﾘｽﾄ１\"))","v":""},"","","","","","","",{"$f":"IF(S1579=\"\",\"\",COUNTIF($S$7:S1579,\"該当２\"))","v":""},"","",{"$f":"IF(V1579=\"\",\"\",COUNTIF($V$7:V1579,\"該当３\"))","v":""}]
[821607014,8,{"v":216,"d":"216 "},{"v":7,"d":"07 "},{"v":14,"d":"014 "},"茨城県","笠間市","北川根村","長兎路下",null,"","",{"$f":"IF(K1582=\"\",\"\",COUNTIF($K$7:K1582,\"ﾘｽﾄ１\"))","v":""},"","","","","","","",{"$f":"IF(S1582=\"\",\"\",COUNTIF($S$7:S1582,\"該当２\"))","v":""},"","",{"$f":"IF(V1582=\"\",\"\",COUNTIF($V$7:V1582,\"該当３\"))","v":""}]
[821608003,8,{"v":216,"d":"216 "},{"v":8,"d":"08 "},{"v":3,"d":"003 "},"茨城県","笠間市","大原村","中市原第２",null,"","",{"$f":"IF(K1587=\"\",\"\",COUNTIF($K$7:K1587,\"ﾘｽﾄ１\"))","v":""},"","","","","","","",{"$f":"IF(S1587=\"\",\"\",COUNTIF($S$7:S1587,\"該当２\"))","v":""},"","",{"$f":"IF(V1587=\"\",\"\",COUNTIF($V$7:V1587,\"該当３\"))","v":""}]
[821608004,8,{"v":216,"d":"216 "},{"v":8,"d":"08 "},{"v":4,"d":"004 "},"茨城県","笠間市","大原村","上市原第１",null,"","",{"$f":"IF(K1588=\"\",\"\",COUNTIF($K$7:K1588,\"ﾘｽﾄ１\"))","v":""},"","","","","","","",{"$f":"IF(S1588=\"\",\"\",COUNTIF($S$7:S1588,\"該当２\"))","v":""},"","",{"$f":"IF(V1588=\"\",\"\",COUNTIF($V$7:V1588,\"該当３\"))","v":""}]
[821608007,8,{"v":216,"d":"216 "},{"v":8,"d":"08 "},{"v":7,"d":"007 "},"茨城県","笠間市","大原村","小原第１",null,"","",{"$f":"IF(K1591=\"\",\"\",COUNTIF($K$7:K1591,\"ﾘｽﾄ１\"))","v":""},"","","","","","","",{"$f":"IF(S1591=\"\",\"\",COUNTIF($S$7:S1591,\"該当２\"))","v":""},"","",{"$f":"IF(V1591=\"\",\"\",COUNTIF($V$7:V1591,\"該当３\"))","v":""}]
[821608010,8,{"v":216,"d":"216 "},{"v":8,"d":"08 "},{"v":10,"d":"010 "},"茨城県","笠間市","大原村","小原第４",null,"","",{"$f":"IF(K1594=\"\",\"\",COUNTIF($K$7:K1594,\"ﾘｽﾄ１\"))","v":""},"","","","","","","",{"$f":"IF(S1594=\"\",\"\",COUNTIF($S$7:S1594,\"該当２\"))","v":""},"","",{"$f":"IF(V1594=\"\",\"\",COUNTIF($V$7:V1594,\"該当３\"))","v":""}]
[821608014,8,{"v":216,"d":"216 "},{"v":8,"d":"08 "},{"v":14,"d":"014 "},"茨城県","笠間市","大原村","小原第８",null,"","",{"$f":"IF(K1598=\"\",\"\",COUNTIF($K$7:K1598,\"ﾘｽﾄ１\"))","v":""},"","","","","","","",{"$f":"IF(S1598=\"\",\"\",COUNTIF($S$7:S1598,\"該当２\"))","v":""},"","",{"$f":"IF(V1598=\"\",\"\",COUNTIF($V$7:V1598,\"該当３\"))","v":""}]
[821609000,8,{"v":216,"d":"216 "},{"v":9,"d":"09 "},{"v":0,"d":"000 "},"茨城県","笠間市","鯉渕村２－２",null,null,"","",{"$f":"IF(K1601=\"\",\"\",COUNTIF($K$7:K1601,\"ﾘｽﾄ１\"))","v":""},"","","","","","","",{"$f":"IF(S1601=\"\",\"\",COUNTIF($S$7:S1601,\"該当２\"))","v":""},"","",{"$f":"IF(V1601=\"\",\"\",COUNTIF($V$7:V1601,\"該当３\"))","v":""}]
[821609002,8,{"v":216,"d":"216 "},{"v":9,"d":"09 "},{"v":2,"d":"002 "},"茨城県","笠間市","鯉渕村２－２","内郷",null,"","",{"$f":"IF(K1603=\"\",\"\",COUNTIF($K$7:K1603,\"ﾘｽﾄ１\"))","v":""},"","","","","","","",{"$f":"IF(S1603=\"\",\"\",COUNTIF($S$7:S1603,\"該当２\"))","v":""},"","",{"$f":"IF(V1603=\"\",\"\",COUNTIF($V$7:V1603,\"該当３\"))","v":""}]
[821610004,8,{"v":216,"d":"216 "},{"v":10,"d":"10 "},{"v":4,"d":"004 "},"茨城県","笠間市","岩間町","春日町",null,"","",{"$f":"IF(K1609=\"\",\"\",COUNTIF($K$7:K1609,\"ﾘｽﾄ１\"))","v":""},"","","","","","","",{"$f":"IF(S1609=\"\",\"\",COUNTIF($S$7:S1609,\"該当２\"))","v":""},"","",{"$f":"IF(V1609=\"\",\"\",COUNTIF($V$7:V1609,\"該当３\"))","v":""}]
[821610007,8,{"v":216,"d":"216 "},{"v":10,"d":"10 "},{"v":7,"d":"007 "},"茨城県","笠間市","岩間町","栄町",null,"","",{"$f":"IF(K1612=\"\",\"\",COUNTIF($K$7:K1612,\"ﾘｽﾄ１\"))","v":""},"","","","","","","",{"$f":"IF(S1612=\"\",\"\",COUNTIF($S$7:S1612,\"該当２\"))","v":""},"","",{"$f":"IF(V1612=\"\",\"\",COUNTIF($V$7:V1612,\"該当３\"))","v":""}]
[821610008,8,{"v":216,"d":"216 "},{"v":10,"d":"10 "},{"v":8,"d":"008 "},"茨城県","笠間市","岩間町","新渡戸",null,"","",{"$f":"IF(K1613=\"\",\"\",COUNTIF($K$7:K1613,\"ﾘｽﾄ１\"))","v":""},"","","","","","","",{"$f":"IF(S1613=\"\",\"\",COUNTIF($S$7:S1613,\"該当２\"))","v":""},"","",{"$f":"IF(V1613=\"\",\"\",COUNTIF($V$7:V1613,\"該当３\"))","v":""}]
[821610011,8,{"v":216,"d":"216 "},{"v":10,"d":"10 "},{"v":11,"d":"011 "},"茨城県","笠間市","岩間町","古山",null,"","",{"$f":"IF(K1616=\"\",\"\",COUNTIF($K$7:K1616,\"ﾘｽﾄ１\"))","v":""},"","","","","","","",{"$f":"IF(S1616=\"\",\"\",COUNTIF($S$7:S1616,\"該当２\"))","v":""},"","",{"$f":"IF(V1616=\"\",\"\",COUNTIF($V$7:V1616,\"該当３\"))","v":""}]
[821610014,8,{"v":216,"d":"216 "},{"v":10,"d":"10 "},{"v":14,"d":"014 "},"茨城県","笠間市","岩間町","東組",null,"","",{"$f":"IF(K1619=\"\",\"\",COUNTIF($K$7:K1619,\"ﾘｽﾄ１\"))","v":""},"","","","","","","",{"$f":"IF(S1619=\"\",\"\",COUNTIF($S$7:S1619,\"該当２\"))","v":""},"","",{"$f":"IF(V1619=\"\",\"\",COUNTIF($V$7:V1619,\"該当３\"))","v":""}]
[821610019,8,{"v":216,"d":"216 "},{"v":10,"d":"10 "},{"v":19,"d":"019 "},"茨城県","笠間市","岩間町","日向",null,"","",{"$f":"IF(K1624=\"\",\"\",COUNTIF($K$7:K1624,\"ﾘｽﾄ１\"))","v":""},"","","","","","","",{"$f":"IF(S1624=\"\",\"\",COUNTIF($S$7:S1624,\"該当２\"))","v":""},"","",{"$f":"IF(V1624=\"\",\"\",COUNTIF($V$7:V1624,\"該当３\"))","v":""}]
[821610022,8,{"v":216,"d":"216 "},{"v":10,"d":"10 "},{"v":22,"d":"022 "},"茨城県","笠間市","岩間町","大網",null,"","",{"$f":"IF(K1627=\"\",\"\",COUNTIF($K$7:K1627,\"ﾘｽﾄ１\"))","v":""},"","","","","","","",{"$f":"IF(S1627=\"\",\"\",COUNTIF($S$7:S1627,\"該当２\"))","v":""},"","",{"$f":"IF(V1627=\"\",\"\",COUNTIF($V$7:V1627,\"該当３\"))","v":""}]
[821610026,8,{"v":216,"d":"216 "},{"v":10,"d":"10 "},{"v":26,"d":"026 "},"茨城県","笠間市","岩間町","北根東",null,"","",{"$f":"IF(K1631=\"\",\"\",COUNTIF($K$7:K1631,\"ﾘｽﾄ１\"))","v":""},"","","","","","","",{"$f":"IF(S1631=\"\",\"\",COUNTIF($S$7:S1631,\"該当２\"))","v":""},"","",{"$f":"IF(V1631=\"\",\"\",COUNTIF($V$7:V1631,\"該当３\"))","v":""}]
[821610029,8,{"v":216,"d":"216 "},{"v":10,"d":"10 "},{"v":29,"d":"029 "},"茨城県","笠間市","岩間町","仲村",null,"","",{"$f":"IF(K1634=\"\",\"\",COUNTIF($K$7:K1634,\"ﾘｽﾄ１\"))","v":""},"","","","","","","",{"$f":"IF(S1634=\"\",\"\",COUNTIF($S$7:S1634,\"該当２\"))","v":""},"","",{"$f":"IF(V1634=\"\",\"\",COUNTIF($V$7:V1634,\"該当３\"))","v":""}]
[821610032,8,{"v":216,"d":"216 "},{"v":10,"d":"10 "},{"v":32,"d":"032 "},"茨城県","笠間市","岩間町","市野谷下",null,"","",{"$f":"IF(K1637=\"\",\"\",COUNTIF($K$7:K1637,\"ﾘｽﾄ１\"))","v":""},"","","","","","","",{"$f":"IF(S1637=\"\",\"\",COUNTIF($S$7:S1637,\"該当２\"))","v":""},"","",{"$f":"IF(V1637=\"\",\"\",COUNTIF($V$7:V1637,\"該当３\"))","v":""}]
[821610033,8,{"v":216,"d":"216 "},{"v":10,"d":"10 "},{"v":33,"d":"033 "},"茨城県","笠間市","岩間町","小島",null,"","",{"$f":"IF(K1638=\"\",\"\",COUNTIF($K$7:K1638,\"ﾘｽﾄ１\"))","v":""},"","","","","","","",{"$f":"IF(S1638=\"\",\"\",COUNTIF($S$7:S1638,\"該当２\"))","v":""},"","",{"$f":"IF(V1638=\"\",\"\",COUNTIF($V$7:V1638,\"該当３\"))","v":""}]
[821611000,8,{"v":216,"d":"216 "},{"v":11,"d":"11 "},{"v":0,"d":"000 "},"茨城県","笠間市","南川根村",null,null,"","",{"$f":"IF(K1641=\"\",\"\",COUNTIF($K$7:K1641,\"ﾘｽﾄ１\"))","v":""},"","","","","","","",{"$f":"IF(S1641=\"\",\"\",COUNTIF($S$7:S1641,\"該当２\"))","v":""},"","",{"$f":"IF(V1641=\"\",\"\",COUNTIF($V$7:V1641,\"該当３\"))","v":""}]
[821611004,8,{"v":216,"d":"216 "},{"v":11,"d":"11 "},{"v":4,"d":"004 "},"茨城県","笠間市","南川根村","上安居",null,"","",{"$f":"IF(K1645=\"\",\"\",COUNTIF($K$7:K1645,\"ﾘｽﾄ１\"))","v":""},"","","","","","","",{"$f":"IF(S1645=\"\",\"\",COUNTIF($S$7:S1645,\"該当２\"))","v":""},"","",{"$f":"IF(V1645=\"\",\"\",COUNTIF($V$7:V1645,\"該当３\"))","v":""}]
[821611008,8,{"v":216,"d":"216 "},{"v":11,"d":"11 "},{"v":8,"d":"008 "},"茨城県","笠間市","南川根村","吉沼",null,"","",{"$f":"IF(K1649=\"\",\"\",COUNTIF($K$7:K1649,\"ﾘｽﾄ１\"))","v":""},"","","","","","","",{"$f":"IF(S1649=\"\",\"\",COUNTIF($S$7:S1649,\"該当２\"))","v":""},"","",{"$f":"IF(V1649=\"\",\"\",COUNTIF($V$7:V1649,\"該当３\"))","v":""}]
[821700000,8,{"v":217,"d":"217 "},{"v":0,"d":"00 "},{"v":0,"d":"000 "},"茨城県","取手市",{"$nulls":3},"ﾘｽﾄ１","取手市",{"$f":"IF(K1652=\"\",\"\",COUNTIF($K$7:K1652,\"ﾘｽﾄ１\"))","v":14},"","","","","","","",{"$f":"IF(S1652=\"\",\"\",COUNTIF($S$7:S1652,\"該当２\"))","v":""},"","",{"$f":"IF(V1652=\"\",\"\",COUNTIF($V$7:V1652,\"該当３\"))","v":""}]
[821701003,8,{"v":217,"d":"217 "},{"v":1,"d":"01 "},{"v":3,"d":"003 "},"茨城県","取手市","取手町","青柳",null,"","",{"$f":"IF(K1656=\"\",\"\",COUNTIF($K$7:K1656,\"ﾘｽﾄ１\"))","v":""},"","","","","","","",{"$f":"IF(S1656=\"\",\"\",COUNTIF($S$7:S1656,\"該当２\"))","v":""},"","",{"$f":"IF(V1656=\"\",\"\",COUNTIF($V$7:V1656,\"該当３\"))","v":""}]
[821701006,8,{"v":217,"d":"217 "},{"v":1,"d":"01 "},{"v":6,"d":"006 "},"茨城県","取手市","取手町","台宿",null,"","",{"$f":"IF(K1659=\"\",\"\",COUNTIF($K$7:K1659,\"ﾘｽﾄ１\"))","v":""},"","","","","","","",{"$f":"IF(S1659=\"\",\"\",COUNTIF($S$7:S1659,\"該当２\"))","v":""},"","",{"$f":"IF(V1659=\"\",\"\",COUNTIF($V$7:V1659,\"該当３\"))","v":""}]
[821702000,8,{"v":217,"d":"217 "},{"v":2,"d":"02 "},{"v":0,"d":"000 "},"茨城県","取手市","小文間村",null,null,"","",{"$f":"IF(K1662=\"\",\"\",COUNTIF($K$7:K1662,\"ﾘｽﾄ１\"))","v":""},"","","","","","","",{"$f":"IF(S1662=\"\",\"\",COUNTIF($S$7:S1662,\"該当２\"))","v":""},"","",{"$f":"IF(V1662=\"\",\"\",COUNTIF($V$7:V1662,\"該当３\"))","v":""}]
[821702004,8,{"v":217,"d":"217 "},{"v":2,"d":"02 "},{"v":4,"d":"004 "},"茨城県","取手市","小文間村","南",null,"","",{"$f":"IF(K1666=\"\",\"\",COUNTIF($K$7:K1666,\"ﾘｽﾄ１\"))","v":""},"","","","","","","",{"$f":"IF(S1666=\"\",\"\",COUNTIF($S$7:S1666,\"該当２\"))","v":""},"","",{"$f":"IF(V1666=\"\",\"\",COUNTIF($V$7:V1666,\"該当３\"))","v":""}]
[821702005,8,{"v":217,"d":"217 "},{"v":2,"d":"02 "},{"v":5,"d":"005 "},"茨城県","取手市","小文間村","新田",null,"","",{"$f":"IF(K1667=\"\",\"\",COUNTIF($K$7:K1667,\"ﾘｽﾄ１\"))","v":""},"","","","","","","",{"$f":"IF(S1667=\"\",\"\",COUNTIF($S$7:S1667,\"該当２\"))","v":""},"","",{"$f":"IF(V1667=\"\",\"\",COUNTIF($V$7:V1667,\"該当３\"))","v":""}]
[821703001,8,{"v":217,"d":"217 "},{"v":3,"d":"03 "},{"v":1,"d":"001 "},"茨城県","取手市","寺原村","小山",null,"","",{"$f":"IF(K1670=\"\",\"\",COUNTIF($K$7:K1670,\"ﾘｽﾄ１\"))","v":""},"","","","","","","",{"$f":"IF(S1670=\"\",\"\",COUNTIF($S$7:S1670,\"該当２\"))","v":""},"","",{"$f":"IF(V1670=\"\",\"\",COUNTIF($V$7:V1670,\"該当３\"))","v":""}]
[821703005,8,{"v":217,"d":"217 "},{"v":3,"d":"03 "},{"v":5,"d":"005 "},"茨城県","取手市","寺原村","茨株",null,"","",{"$f":"IF(K1674=\"\",\"\",COUNTIF($K$7:K1674,\"ﾘｽﾄ１\"))","v":""},"","",{"$f":"IF(O1674=\"該当１\",G1674,\"\")","v":""},{"$f":"IF(O1674=\"該当１\",\"ﾘｽﾄ2\",\"\")","v":""},{"$f":"IF(Q1674=\"ﾘｽﾄ2\",H1674,\"\")","v":""},"",{"$f":"IF(S1674=\"該当２\",H1674,\"\")","v":""},{"$f":"IF(S1674=\"\",\"\",COUNTIF($S$7:S1674,\"該当２\"))","v":""},{"$f":"IF(AND($S$2=H1674,E1674>0,E1674<998),\"該当３\",\"\")","v":""},{"$f":"IF(V1674=\"該当３\",I1674,\"\")","v":""},{"$f":"IF(V1674=\"\",\"\",COUNTIF($V$7:V1674,\"該当３\"))","v":""}]
[821703008,8,{"v":217,"d":"217 "},{"v":3,"d":"03 "},{"v":8,"d":"008 "},"茨城県","取手市","寺原村","桑原",null,"","",{"$f":"IF(K1677=\"\",\"\",COUNTIF($K$7:K1677,\"ﾘｽﾄ１\"))","v":""},"","","","","","","",{"$f":"IF(S1677=\"\",\"\",COUNTIF($S$7:S1677,\"該当２\"))","v":""},"","",{"$f":"IF(V1677=\"\",\"\",COUNTIF($V$7:V1677,\"該当３\"))","v":""}]
[821704002,8,{"v":217,"d":"217 "},{"v":4,"d":"04 "},{"v":2,"d":"002 "},"茨城県","取手市","高井村２－２","永山",null,"","",{"$f":"IF(K1681=\"\",\"\",COUNTIF($K$7:K1681,\"ﾘｽﾄ１\"))","v":""},"","","","","","","",{"$f":"IF(S1681=\"\",\"\",COUNTIF($S$7:S1681,\"該当２\"))","v":""},"","",{"$f":"IF(V1681=\"\",\"\",COUNTIF($V$7:V1681,\"該当３\"))","v":""}]
[821704004,8,{"v":217,"d":"217 "},{"v":4,"d":"04 "},{"v":4,"d":"004 "},"茨城県","取手市","高井村２－２","貝塚",null,"","",{"$f":"IF(K1683=\"\",\"\",COUNTIF($K$7:K1683,\"ﾘｽﾄ１\"))","v":""},"","","","","","","",{"$f":"IF(S1683=\"\",\"\",COUNTIF($S$7:S1683,\"該当２\"))","v":""},"","",{"$f":"IF(V1683=\"\",\"\",COUNTIF($V$7:V1683,\"該当３\"))","v":""}]
[821705003,8,{"v":217,"d":"217 "},{"v":5,"d":"05 "},{"v":3,"d":"003 "},"茨城県","取手市","稲戸井村","米の井",null,"","",{"$f":"IF(K1688=\"\",\"\",COUNTIF($K$7:K1688,\"ﾘｽﾄ１\"))","v":""},"","","","","","","",{"$f":"IF(S1688=\"\",\"\",COUNTIF($S$7:S1688,\"該当２\"))","v":""},"","",{"$f":"IF(V1688=\"\",\"\",COUNTIF($V$7:V1688,\"該当３\"))","v":""}]
[821705004,8,{"v":217,"d":"217 "},{"v":5,"d":"05 "},{"v":4,"d":"004 "},"茨城県","取手市","稲戸井村","野々井",null,"","",{"$f":"IF(K1689=\"\",\"\",COUNTIF($K$7:K1689,\"ﾘｽﾄ１\"))","v":""},"","","","","","","",{"$f":"IF(S1689=\"\",\"\",COUNTIF($S$7:S1689,\"該当２\"))","v":""},"","",{"$f":"IF(V1689=\"\",\"\",COUNTIF($V$7:V1689,\"該当３\"))","v":""}]
[821706000,8,{"v":217,"d":"217 "},{"v":6,"d":"06 "},{"v":0,"d":"000 "},"茨城県","取手市","相馬町",null,null,"","",{"$f":"IF(K1692=\"\",\"\",COUNTIF($K$7:K1692,\"ﾘｽﾄ１\"))","v":""},"","","","","","","",{"$f":"IF(S1692=\"\",\"\",COUNTIF($S$7:S1692,\"該当２\"))","v":""},"","",{"$f":"IF(V1692=\"\",\"\",COUNTIF($V$7:V1692,\"該当３\"))","v":""}]
[821706004,8,{"v":217,"d":"217 "},{"v":6,"d":"06 "},{"v":4,"d":"004 "},"茨城県","取手市","相馬町","藤代新田",null,"","",{"$f":"IF(K1696=\"\",\"\",COUNTIF($K$7:K1696,\"ﾘｽﾄ１\"))","v":""},"","","","","","","",{"$f":"IF(S1696=\"\",\"\",COUNTIF($S$7:S1696,\"該当２\"))","v":""},"","",{"$f":"IF(V1696=\"\",\"\",COUNTIF($V$7:V1696,\"該当３\"))","v":""}]
[821706007,8,{"v":217,"d":"217 "},{"v":6,"d":"06 "},{"v":7,"d":"007 "},"茨城県","取手市","相馬町","宮和田新田",null,"","",{"$f":"IF(K1699=\"\",\"\",COUNTIF($K$7:K1699,\"ﾘｽﾄ１\"))","v":""},"","","","","","","",{"$f":"IF(S1699=\"\",\"\",COUNTIF($S$7:S1699,\"該当２\"))","v":""},"","",{"$f":"IF(V1699=\"\",\"\",COUNTIF($V$7:V1699,\"該当３\"))","v":""}]
[821707003,8,{"v":217,"d":"217 "},{"v":7,"d":"07 "},{"v":3,"d":"003 "},"茨城県","取手市","山王村","山王",null,"","",{"$f":"IF(K1704=\"\",\"\",COUNTIF($K$7:K1704,\"ﾘｽﾄ１\"))","v":""},"","","","","","","",{"$f":"IF(S1704=\"\",\"\",COUNTIF($S$7:S1704,\"該当２\"))","v":""},"","",{"$f":"IF(V1704=\"\",\"\",COUNTIF($V$7:V1704,\"該当３\"))","v":""}]
[821707006,8,{"v":217,"d":"217 "},{"v":7,"d":"07 "},{"v":6,"d":"006 "},"茨城県","取手市","山王村","神住",null,"","",{"$f":"IF(K1707=\"\",\"\",COUNTIF($K$7:K1707,\"ﾘｽﾄ１\"))","v":""},"","","","","","","",{"$f":"IF(S1707=\"\",\"\",COUNTIF($S$7:S1707,\"該当２\"))","v":""},"","",{"$f":"IF(V1707=\"\",\"\",COUNTIF($V$7:V1707,\"該当３\"))","v":""}]
[821708001,8,{"v":217,"d":"217 "},{"v":8,"d":"08 "},{"v":1,"d":"001 "},"茨城県","取手市","久賀村２－２","浜田",null,"","",{"$f":"IF(K1710=\"\",\"\",COUNTIF($K$7:K1710,\"ﾘｽﾄ１\"))","v":""},"","","","","","","",{"$f":"IF(S1710=\"\",\"\",COUNTIF($S$7:S1710,\"該当２\"))","v":""},"","",{"$f":"IF(V1710=\"\",\"\",COUNTIF($V$7:V1710,\"該当３\"))","v":""}]
[821708004,8,{"v":217,"d":"217 "},{"v":8,"d":"08 "},{"v":4,"d":"004 "},"茨城県","取手市","久賀村２－２","萱場",null,"","",{"$f":"IF(K1713=\"\",\"\",COUNTIF($K$7:K1713,\"ﾘｽﾄ１\"))","v":""},"","","","","","","",{"$f":"IF(S1713=\"\",\"\",COUNTIF($S$7:S1713,\"該当２\"))","v":""},"","",{"$f":"IF(V1713=\"\",\"\",COUNTIF($V$7:V1713,\"該当３\"))","v":""}]
[821708005,8,{"v":217,"d":"217 "},{"v":8,"d":"08 "},{"v":5,"d":"005 "},"茨城県","取手市","久賀村２－２","大曲",null,"","",{"$f":"IF(K1714=\"\",\"\",COUNTIF($K$7:K1714,\"ﾘｽﾄ１\"))","v":""},"","","","","","","",{"$f":"IF(S1714=\"\",\"\",COUNTIF($S$7:S1714,\"該当２\"))","v":""},"","",{"$f":"IF(V1714=\"\",\"\",COUNTIF($V$7:V1714,\"該当３\"))","v":""}]
[821709001,8,{"v":217,"d":"217 "},{"v":9,"d":"09 "},{"v":1,"d":"001 "},"茨城県","取手市","高須村２－１","押切",null,"","",{"$f":"IF(K1717=\"\",\"\",COUNTIF($K$7:K1717,\"ﾘｽﾄ１\"))","v":""},"","","","","","","",{"$f":"IF(S1717=\"\",\"\",COUNTIF($S$7:S1717,\"該当２\"))","v":""},"","",{"$f":"IF(V1717=\"\",\"\",COUNTIF($V$7:V1717,\"該当３\"))","v":""}]
[821709005,8,{"v":217,"d":"217 "},{"v":9,"d":"09 "},{"v":5,"d":"005 "},"茨城県","取手市","高須村２－１","大留",null,"","",{"$f":"IF(K1721=\"\",\"\",COUNTIF($K$7:K1721,\"ﾘｽﾄ１\"))","v":""},"","","","","","","",{"$f":"IF(S1721=\"\",\"\",COUNTIF($S$7:S1721,\"該当２\"))","v":""},"","",{"$f":"IF(V1721=\"\",\"\",COUNTIF($V$7:V1721,\"該当３\"))","v":""}]
[821710002,8,{"v":217,"d":"217 "},{"v":10,"d":"10 "},{"v":2,"d":"002 "},"茨城県","取手市","六郷村","酒詰",null,"","",{"$f":"IF(K1725=\"\",\"\",COUNTIF($K$7:K1725,\"ﾘｽﾄ１\"))","v":""},"","","","","","","",{"$f":"IF(S1725=\"\",\"\",COUNTIF($S$7:S1725,\"該当２\"))","v":""},"","",{"$f":"IF(V1725=\"\",\"\",COUNTIF($V$7:V1725,\"該当３\"))","v":""}]
[821710005,8,{"v":217,"d":"217 "},{"v":10,"d":"10 "},{"v":5,"d":"005 "},"茨城県","取手市","六郷村","小浮気",null,"","",{"$f":"IF(K1728=\"\",\"\",COUNTIF($K$7:K1728,\"ﾘｽﾄ１\"))","v":""},"","","","","","","",{"$f":"IF(S1728=\"\",\"\",COUNTIF($S$7:S1728,\"該当２\"))","v":""},"","",{"$f":"IF(V1728=\"\",\"\",COUNTIF($V$7:V1728,\"該当３\"))","v":""}]
[821710009,8,{"v":217,"d":"217 "},{"v":10,"d":"10 "},{"v":9,"d":"009 "},"茨城県","取手市","六郷村","北浦",null,"","",{"$f":"IF(K1732=\"\",\"\",COUNTIF($K$7:K1732,\"ﾘｽﾄ１\"))","v":""},"","","","","","","",{"$f":"IF(S1732=\"\",\"\",COUNTIF($S$7:S1732,\"該当２\"))","v":""},"","",{"$f":"IF(V1732=\"\",\"\",COUNTIF($V$7:V1732,\"該当３\"))","v":""}]
[821901000,8,{"v":219,"d":"219 "},{"v":1,"d":"01 "},{"v":0,"d":"000 "},"茨城県","牛久市","牛久町",null,null,"","",{"$f":"IF(K1735=\"\",\"\",COUNTIF($K$7:K1735,\"ﾘｽﾄ１\"))","v":""},"","","","","","","",{"$f":"IF(S1735=\"\",\"\",COUNTIF($S$7:S1735,\"該当２\"))","v":""},"","",{"$f":"IF(V1735=\"\",\"\",COUNTIF($V$7:V1735,\"該当３\"))","v":""}]
[821901003,8,{"v":219,"d":"219 "},{"v":1,"d":"01 "},{"v":3,"d":"003 "},"茨城県","牛久市","牛久町","上町",null,"","",{"$f":"IF(K1738=\"\",\"\",COUNTIF($K$7:K1738,\"ﾘｽﾄ１\"))","v":""},"","",{"$f":"IF(O1738=\"該当１\",G1738,\"\")","v":""},{"$f":"IF(O1738=\"該当１\",\"ﾘｽﾄ2\",\"\")","v":""},{"$f":"IF(Q1738=\"ﾘｽﾄ2\",H1738,\"\")","v":""},"",{"$f":"IF(S1738=\"該当２\",H1738,\"\")","v":""},{"$f":"IF(S1738=\"\",\"\",COUNTIF($S$7:S1738,\"該当２\"))","v":""},{"$f":"IF(AND($S$2=H1738,E1738>0,E1738<998),\"該当３\",\"\")","v":""},{"$f":"IF(V1738=\"該当３\",I1738,\"\")","v":""},{"$f":"IF(V1738=\"\",\"\",COUNTIF($V$7:V1738,\"該当３\"))","v":""}]
[821901004,8,{"v":219,"d":"219 "},{"v":1,"d":"01 "},{"v":4,"d":"004 "},"茨城県","牛久市","牛久町","下町",null,{"$f":"IF(AND($C1739>0,$H1739=\"\"),\"ﾘｽﾄ１\",\"\")","v":""},{"$f":"IF(K1739=\"ﾘｽﾄ１\",G1739,\"\")","v":""},{"$f":"IF(K1739=\"\",\"\",COUNTIF($K$7:K1739,\"ﾘｽﾄ１\"))","v":""},{"$f":"IF(AND(D1739=0,E1739>0),\"同一区\",\"\")","v":""},{"$f":"IF(AND(EXACT($K$2,G1739),H1739>0),\"該当１\",\"\")","v":""},"","","",{"$f":"IF(AND(Q1739=\"ﾘｽﾄ2\",OR(I1739=0,AND(N1739=\"同一区\",E1739=1))),\"該当２\",\"\")","v":""},"",{"$f":"IF(S1739=\"\",\"\",COUNTIF($S$7:S1739,\"該当２\"))","v":""},"","",{"$f":"IF(V1739=\"\",\"\",COUNTIF($V$7:V1739,\"該当３\"))","v":""}]
[821901007,8,{"v":219,"d":"219 "},{"v":1,"d":"01 "},{"v":7,"d":"007 "},"茨城県","牛久市","牛久町","新地",null,"","",{"$f":"IF(K1742=\"\",\"\",COUNTIF($K$7:K1742,\"ﾘｽﾄ１\"))","v":""},"","","","","","","",{"$f":"IF(S1742=\"\",\"\",COUNTIF($S$7:S1742,\"該当２\"))","v":""},"","",{"$f":"IF(V1742=\"\",\"\",COUNTIF($V$7:V1742,\"該当３\"))","v":""}]
[821902004,8,{"v":219,"d":"219 "},{"v":2,"d":"02 "},{"v":4,"d":"004 "},"茨城県","牛久市","岡田村（牛久市）","東下根",null,"","",{"$f":"IF(K1747=\"\",\"\",COUNTIF($K$7:K1747,\"ﾘｽﾄ１\"))","v":""},"","","","","","","",{"$f":"IF(S1747=\"\",\"\",COUNTIF($S$7:S1747,\"該当２\"))","v":""},"","",{"$f":"IF(V1747=\"\",\"\",COUNTIF($V$7:V1747,\"該当３\"))","v":""}]
[821902007,8,{"v":219,"d":"219 "},{"v":2,"d":"02 "},{"v":7,"d":"007 "},"茨城県","牛久市","岡田村（牛久市）","上太田",null,"","",{"$f":"IF(K1750=\"\",\"\",COUNTIF($K$7:K1750,\"ﾘｽﾄ１\"))","v":""},"","","","","","","",{"$f":"IF(S1750=\"\",\"\",COUNTIF($S$7:S1750,\"該当２\"))","v":""},"","",{"$f":"IF(V1750=\"\",\"\",COUNTIF($V$7:V1750,\"該当３\"))","v":""}]
[821902010,8,{"v":219,"d":"219 "},{"v":2,"d":"02 "},{"v":10,"d":"010 "},"茨城県","牛久市","岡田村（牛久市）","栄町",null,"","",{"$f":"IF(K1753=\"\",\"\",COUNTIF($K$7:K1753,\"ﾘｽﾄ１\"))","v":""},"","","","","","","",{"$f":"IF(S1753=\"\",\"\",COUNTIF($S$7:S1753,\"該当２\"))","v":""},"","",{"$f":"IF(V1753=\"\",\"\",COUNTIF($V$7:V1753,\"該当３\"))","v":""}]
[821902014,8,{"v":219,"d":"219 "},{"v":2,"d":"02 "},{"v":14,"d":"014 "},"茨城県","牛久市","岡田村（牛久市）","一厚",null,"","",{"$f":"IF(K1757=\"\",\"\",COUNTIF($K$7:K1757,\"ﾘｽﾄ１\"))","v":""},"","","","","","","",{"$f":"IF(S1757=\"\",\"\",COUNTIF($S$7:S1757,\"該当２\"))","v":""},"","",{"$f":"IF(V1757=\"\",\"\",COUNTIF($V$7:V1757,\"該当３\"))","v":""}]
[821903001,8,{"v":219,"d":"219 "},{"v":3,"d":"03 "},{"v":1,"d":"001 "},"茨城県","牛久市","奥野村","久野",null,"","",{"$f":"IF(K1760=\"\",\"\",COUNTIF($K$7:K1760,\"ﾘｽﾄ１\"))","v":""},"","","","","","","",{"$f":"IF(S1760=\"\",\"\",COUNTIF($S$7:S1760,\"該当２\"))","v":""},"","",{"$f":"IF(V1760=\"\",\"\",COUNTIF($V$7:V1760,\"該当３\"))","v":""}]
[821903002,8,{"v":219,"d":"219 "},{"v":3,"d":"03 "},{"v":2,"d":"002 "},"茨城県","牛久市","奥野村","大和田",null,"","",{"$f":"IF(K1761=\"\",\"\",COUNTIF($K$7:K1761,\"ﾘｽﾄ１\"))","v":""},"","","","","","","",{"$f":"IF(S1761=\"\",\"\",COUNTIF($S$7:S1761,\"該当２\"))","v":""},"","",{"$f":"IF(V1761=\"\",\"\",COUNTIF($V$7:V1761,\"該当３\"))","v":""}]
[821903008,8,{"v":219,"d":"219 "},{"v":3,"d":"03 "},{"v":8,"d":"008 "},"茨城県","牛久市","奥野村","島田",null,"","",{"$f":"IF(K1767=\"\",\"\",COUNTIF($K$7:K1767,\"ﾘｽﾄ１\"))","v":""},"","","","","","","",{"$f":"IF(S1767=\"\",\"\",COUNTIF($S$7:S1767,\"該当２\"))","v":""},"","",{"$f":"IF(V1767=\"\",\"\",COUNTIF($V$7:V1767,\"該当３\"))","v":""}]
[821903009,8,{"v":219,"d":"219 "},{"v":3,"d":"03 "},{"v":9,"d":"009 "},"茨城県","牛久市","奥野村","正直",null,"","",{"$f":"IF(K1768=\"\",\"\",COUNTIF($K$7:K1768,\"ﾘｽﾄ１\"))","v":""},"","","","","","","",{"$f":"IF(S1768=\"\",\"\",COUNTIF($S$7:S1768,\"該当２\"))","v":""},"","",{"$f":"IF(V1768=\"\",\"\",COUNTIF($V$7:V1768,\"該当３\"))","v":""}]
[822001000,8,{"v":220,"d":"220 "},{"v":1,"d":"01 "},{"v":0,"d":"000 "},"茨城県","つくば市","栄村",null,null,"","",{"$f":"IF(K1772=\"\",\"\",COUNTIF($K$7:K1772,\"ﾘｽﾄ１\"))","v":""},"","","","","","","",{"$f":"IF(S1772=\"\",\"\",COUNTIF($S$7:S1772,\"該当２\"))","v":""},"","",{"$f":"IF(V1772=\"\",\"\",COUNTIF($V$7:V1772,\"該当３\"))","v":""}]
[822001003,8,{"v":220,"d":"220 "},{"v":1,"d":"01 "},{"v":3,"d":"003 "},"茨城県","つくば市","栄村","栄",null,"","",{"$f":"IF(K1775=\"\",\"\",COUNTIF($K$7:K1775,\"ﾘｽﾄ１\"))","v":""},"","","","","","","",{"$f":"IF(S1775=\"\",\"\",COUNTIF($S$7:S1775,\"該当２\"))","v":""},"","",{"$f":"IF(V1775=\"\",\"\",COUNTIF($V$7:V1775,\"該当３\"))","v":""}]
[822001006,8,{"v":220,"d":"220 "},{"v":1,"d":"01 "},{"v":6,"d":"006 "},"茨城県","つくば市","栄村","大下",null,"","",{"$f":"IF(K1778=\"\",\"\",COUNTIF($K$7:K1778,\"ﾘｽﾄ１\"))","v":""},"","","","","","","",{"$f":"IF(S1778=\"\",\"\",COUNTIF($S$7:S1778,\"該当２\"))","v":""},"","",{"$f":"IF(V1778=\"\",\"\",COUNTIF($V$7:V1778,\"該当３\"))","v":""}]
[822001010,8,{"v":220,"d":"220 "},{"v":1,"d":"01 "},{"v":10,"d":"010 "},"茨城県","つくば市","栄村","吉瀬",null,"","",{"$f":"IF(K1782=\"\",\"\",COUNTIF($K$7:K1782,\"ﾘｽﾄ１\"))","v":""},"","","","","","","",{"$f":"IF(S1782=\"\",\"\",COUNTIF($S$7:S1782,\"該当２\"))","v":""},"","",{"$f":"IF(V1782=\"\",\"\",COUNTIF($V$7:V1782,\"該当３\"))","v":""}]
[822002001,8,{"v":220,"d":"220 "},{"v":2,"d":"02 "},{"v":1,"d":"001 "},"茨城県","つくば市","九重村","東岡",null,"","",{"$f":"IF(K1784=\"\",\"\",COUNTIF($K$7:K1784,\"ﾘｽﾄ１\"))","v":""},"","","","","","","",{"$f":"IF(S1784=\"\",\"\",COUNTIF($S$7:S1784,\"該当２\"))","v":""},"","",{"$f":"IF(V1784=\"\",\"\",COUNTIF($V$7:V1784,\"該当３\"))","v":""}]
[822002004,8,{"v":220,"d":"220 "},{"v":2,"d":"02 "},{"v":4,"d":"004 "},"茨城県","つくば市","九重村","倉掛",null,"","",{"$f":"IF(K1787=\"\",\"\",COUNTIF($K$7:K1787,\"ﾘｽﾄ１\"))","v":""},"","","","","","","",{"$f":"IF(S1787=\"\",\"\",COUNTIF($S$7:S1787,\"該当２\"))","v":""},"","",{"$f":"IF(V1787=\"\",\"\",COUNTIF($V$7:V1787,\"該当３\"))","v":""}]
[822002007,8,{"v":220,"d":"220 "},{"v":2,"d":"02 "},{"v":7,"d":"007 "},"茨城県","つくば市","九重村","上ノ室北部",null,"","",{"$f":"IF(K1790=\"\",\"\",COUNTIF($K$7:K1790,\"ﾘｽﾄ１\"))","v":""},"","","","","","","",{"$f":"IF(S1790=\"\",\"\",COUNTIF($S$7:S1790,\"該当２\"))","v":""},"","",{"$f":"IF(V1790=\"\",\"\",COUNTIF($V$7:V1790,\"該当３\"))","v":""}]
[822002010,8,{"v":220,"d":"220 "},{"v":2,"d":"02 "},{"v":10,"d":"010 "},"茨城県","つくば市","九重村","松美",null,"","",{"$f":"IF(K1793=\"\",\"\",COUNTIF($K$7:K1793,\"ﾘｽﾄ１\"))","v":""},"","","","","","","",{"$f":"IF(S1793=\"\",\"\",COUNTIF($S$7:S1793,\"該当２\"))","v":""},"","",{"$f":"IF(V1793=\"\",\"\",COUNTIF($V$7:V1793,\"該当３\"))","v":""}]
[822002014,8,{"v":220,"d":"220 "},{"v":2,"d":"02 "},{"v":14,"d":"014 "},"茨城県","つくば市","九重村","下大角豆",null,"","",{"$f":"IF(K1797=\"\",\"\",COUNTIF($K$7:K1797,\"ﾘｽﾄ１\"))","v":""},"","","","","","","",{"$f":"IF(S1797=\"\",\"\",COUNTIF($S$7:S1797,\"該当２\"))","v":""},"","",{"$f":"IF(V1797=\"\",\"\",COUNTIF($V$7:V1797,\"該当３\"))","v":""}]
[822003001,8,{"v":220,"d":"220 "},{"v":3,"d":"03 "},{"v":1,"d":"001 "},"茨城県","つくば市","栗原村２－１","乾島",null,"","",{"$f":"IF(K1800=\"\",\"\",COUNTIF($K$7:K1800,\"ﾘｽﾄ１\"))","v":""},"","","","","","","",{"$f":"IF(S1800=\"\",\"\",COUNTIF($S$7:S1800,\"該当２\"))","v":""},"","",{"$f":"IF(V1800=\"\",\"\",COUNTIF($V$7:V1800,\"該当３\"))","v":""}]
[822004000,8,{"v":220,"d":"220 "},{"v":4,"d":"04 "},{"v":0,"d":"000 "},"茨城県","つくば市","島名村",null,null,"","",{"$f":"IF(K1805=\"\",\"\",COUNTIF($K$7:K1805,\"ﾘｽﾄ１\"))","v":""},"","","","","","","",{"$f":"IF(S1805=\"\",\"\",COUNTIF($S$7:S1805,\"該当２\"))","v":""},"","",{"$f":"IF(V1805=\"\",\"\",COUNTIF($V$7:V1805,\"該当３\"))","v":""}]
[822004003,8,{"v":220,"d":"220 "},{"v":4,"d":"04 "},{"v":3,"d":"003 "},"茨城県","つくば市","島名村","上河原崎",null,"","",{"$f":"IF(K1808=\"\",\"\",COUNTIF($K$7:K1808,\"ﾘｽﾄ１\"))","v":""},"","","","","","","",{"$f":"IF(S1808=\"\",\"\",COUNTIF($S$7:S1808,\"該当２\"))","v":""},"","",{"$f":"IF(V1808=\"\",\"\",COUNTIF($V$7:V1808,\"該当３\"))","v":""}]
[822004006,8,{"v":220,"d":"220 "},{"v":4,"d":"04 "},{"v":6,"d":"006 "},"茨城県","つくば市","島名村","台面野井",null,"","",{"$f":"IF(K1811=\"\",\"\",COUNTIF($K$7:K1811,\"ﾘｽﾄ１\"))","v":""},"","","","","","","",{"$f":"IF(S1811=\"\",\"\",COUNTIF($S$7:S1811,\"該当２\"))","v":""},"","",{"$f":"IF(V1811=\"\",\"\",COUNTIF($V$7:V1811,\"該当３\"))","v":""}]
[822004007,8,{"v":220,"d":"220 "},{"v":4,"d":"04 "},{"v":7,"d":"007 "},"茨城県","つくば市","島名村","面野井，南中",null,"","",{"$f":"IF(K1812=\"\",\"\",COUNTIF($K$7:K1812,\"ﾘｽﾄ１\"))","v":""},"","","","","","","",{"$f":"IF(S1812=\"\",\"\",COUNTIF($S$7:S1812,\"該当２\"))","v":""},"","",{"$f":"IF(V1812=\"\",\"\",COUNTIF($V$7:V1812,\"該当３\"))","v":""}]
[822004010,8,{"v":220,"d":"220 "},{"v":4,"d":"04 "},{"v":10,"d":"010 "},"茨城県","つくば市","島名村","東坪",null,"","",{"$f":"IF(K1815=\"\",\"\",COUNTIF($K$7:K1815,\"ﾘｽﾄ１\"))","v":""},"","","","","","","",{"$f":"IF(S1815=\"\",\"\",COUNTIF($S$7:S1815,\"該当２\"))","v":""},"","",{"$f":"IF(V1815=\"\",\"\",COUNTIF($V$7:V1815,\"該当３\"))","v":""}]
[822004013,8,{"v":220,"d":"220 "},{"v":4,"d":"04 "},{"v":13,"d":"013 "},"茨城県","つくば市","島名村","下別府",null,"","",{"$f":"IF(K1818=\"\",\"\",COUNTIF($K$7:K1818,\"ﾘｽﾄ１\"))","v":""},"","","","","","","",{"$f":"IF(S1818=\"\",\"\",COUNTIF($S$7:S1818,\"該当２\"))","v":""},"","",{"$f":"IF(V1818=\"\",\"\",COUNTIF($V$7:V1818,\"該当３\"))","v":""}]
[822004017,8,{"v":220,"d":"220 "},{"v":4,"d":"04 "},{"v":17,"d":"017 "},"茨城県","つくば市","島名村","前野",null,"","",{"$f":"IF(K1822=\"\",\"\",COUNTIF($K$7:K1822,\"ﾘｽﾄ１\"))","v":""},"","","","","","","",{"$f":"IF(S1822=\"\",\"\",COUNTIF($S$7:S1822,\"該当２\"))","v":""},"","",{"$f":"IF(V1822=\"\",\"\",COUNTIF($V$7:V1822,\"該当３\"))","v":""}]
[822005002,8,{"v":220,"d":"220 "},{"v":5,"d":"05 "},{"v":2,"d":"002 "},"茨城県","つくば市","葛城村","東平塚",null,"","",{"$f":"IF(K1826=\"\",\"\",COUNTIF($K$7:K1826,\"ﾘｽﾄ１\"))","v":""},"","","","","","","",{"$f":"IF(S1826=\"\",\"\",COUNTIF($S$7:S1826,\"該当２\"))","v":""},"","",{"$f":"IF(V1826=\"\",\"\",COUNTIF($V$7:V1826,\"該当３\"))","v":""}]
[822005006,8,{"v":220,"d":"220 "},{"v":5,"d":"05 "},{"v":6,"d":"006 "},"茨城県","つくば市","葛城村","辻",null,"","",{"$f":"IF(K1830=\"\",\"\",COUNTIF($K$7:K1830,\"ﾘｽﾄ１\"))","v":""},"","","","","","","",{"$f":"IF(S1830=\"\",\"\",COUNTIF($S$7:S1830,\"該当２\"))","v":""},"","",{"$f":"IF(V1830=\"\",\"\",COUNTIF($V$7:V1830,\"該当３\"))","v":""}]
[822005009,8,{"v":220,"d":"220 "},{"v":5,"d":"05 "},{"v":9,"d":"009 "},"茨城県","つくば市","葛城村","西岡",null,"","",{"$f":"IF(K1833=\"\",\"\",COUNTIF($K$7:K1833,\"ﾘｽﾄ１\"))","v":""},"","","","","","","",{"$f":"IF(S1833=\"\",\"\",COUNTIF($S$7:S1833,\"該当２\"))","v":""},"","",{"$f":"IF(V1833=\"\",\"\",COUNTIF($V$7:V1833,\"該当３\"))","v":""}]
[822005012,8,{"v":220,"d":"220 "},{"v":5,"d":"05 "},{"v":12,"d":"012 "},"茨城県","つくば市","葛城村","新井柳橋",null,"","",{"$f":"IF(K1836=\"\",\"\",COUNTIF($K$7:K1836,\"ﾘｽﾄ１\"))","v":""},"","","","","","","",{"$f":"IF(S1836=\"\",\"\",COUNTIF($S$7:S1836,\"該当２\"))","v":""},"","",{"$f":"IF(V1836=\"\",\"\",COUNTIF($V$7:V1836,\"該当３\"))","v":""}]
[822005013,8,{"v":220,"d":"220 "},{"v":5,"d":"05 "},{"v":13,"d":"013 "},"茨城県","つくば市","葛城村","平，大白硲",null,"","",{"$f":"IF(K1837=\"\",\"\",COUNTIF($K$7:K1837,\"ﾘｽﾄ１\"))","v":""},"","","","","","","",{"$f":"IF(S1837=\"\",\"\",COUNTIF($S$7:S1837,\"該当２\"))","v":""},"","",{"$f":"IF(V1837=\"\",\"\",COUNTIF($V$7:V1837,\"該当３\"))","v":""}]
[822006001,8,{"v":220,"d":"220 "},{"v":6,"d":"06 "},{"v":1,"d":"001 "},"茨城県","つくば市","小野川村","小野崎第１",null,"","",{"$f":"IF(K1840=\"\",\"\",COUNTIF($K$7:K1840,\"ﾘｽﾄ１\"))","v":""},"","","","","","","",{"$f":"IF(S1840=\"\",\"\",COUNTIF($S$7:S1840,\"該当２\"))","v":""},"","",{"$f":"IF(V1840=\"\",\"\",COUNTIF($V$7:V1840,\"該当３\"))","v":""}]
[822006004,8,{"v":220,"d":"220 "},{"v":6,"d":"06 "},{"v":4,"d":"004 "},"茨城県","つくば市","小野川村","松の木",null,"","",{"$f":"IF(K1843=\"\",\"\",COUNTIF($K$7:K1843,\"ﾘｽﾄ１\"))","v":""},"","","","","","","",{"$f":"IF(S1843=\"\",\"\",COUNTIF($S$7:S1843,\"該当２\"))","v":""},"","",{"$f":"IF(V1843=\"\",\"\",COUNTIF($V$7:V1843,\"該当３\"))","v":""}]
[822006009,8,{"v":220,"d":"220 "},{"v":6,"d":"06 "},{"v":9,"d":"009 "},"茨城県","つくば市","小野川村","通横場，今泉",null,"","",{"$f":"IF(K1848=\"\",\"\",COUNTIF($K$7:K1848,\"ﾘｽﾄ１\"))","v":""},"","","","","","","",{"$f":"IF(S1848=\"\",\"\",COUNTIF($S$7:S1848,\"該当２\"))","v":""},"","",{"$f":"IF(V1848=\"\",\"\",COUNTIF($V$7:V1848,\"該当３\"))","v":""}]
[822006012,8,{"v":220,"d":"220 "},{"v":6,"d":"06 "},{"v":12,"d":"012 "},"茨城県","つくば市","小野川村","舘野",null,"","",{"$f":"IF(K1851=\"\",\"\",COUNTIF($K$7:K1851,\"ﾘｽﾄ１\"))","v":""},"","","","","","","",{"$f":"IF(S1851=\"\",\"\",COUNTIF($S$7:S1851,\"該当２\"))","v":""},"","",{"$f":"IF(V1851=\"\",\"\",COUNTIF($V$7:V1851,\"該当３\"))","v":""}]
[822006016,8,{"v":220,"d":"220 "},{"v":6,"d":"06 "},{"v":16,"d":"016 "},"茨城県","つくば市","小野川村","南中妻",null,"","",{"$f":"IF(K1855=\"\",\"\",COUNTIF($K$7:K1855,\"ﾘｽﾄ１\"))","v":""},"","","","","","","",{"$f":"IF(S1855=\"\",\"\",COUNTIF($S$7:S1855,\"該当２\"))","v":""},"","",{"$f":"IF(V1855=\"\",\"\",COUNTIF($V$7:V1855,\"該当３\"))","v":""}]
[822006019,8,{"v":220,"d":"220 "},{"v":6,"d":"06 "},{"v":19,"d":"019 "},"茨城県","つくば市","小野川村","稲岡",null,"","",{"$f":"IF(K1858=\"\",\"\",COUNTIF($K$7:K1858,\"ﾘｽﾄ１\"))","v":""},"","","","","","","",{"$f":"IF(S1858=\"\",\"\",COUNTIF($S$7:S1858,\"該当２\"))","v":""},"","",{"$f":"IF(V1858=\"\",\"\",COUNTIF($V$7:V1858,\"該当３\"))","v":""}]
[822007000,8,{"v":220,"d":"220 "},{"v":7,"d":"07 "},{"v":0,"d":"000 "},"茨城県","つくば市","谷田部町",null,null,"","",{"$f":"IF(K1861=\"\",\"\",COUNTIF($K$7:K1861,\"ﾘｽﾄ１\"))","v":""},"","","","","","","",{"$f":"IF(S1861=\"\",\"\",COUNTIF($S$7:S1861,\"該当２\"))","v":""},"","",{"$f":"IF(V1861=\"\",\"\",COUNTIF($V$7:V1861,\"該当３\"))","v":""}]
[822007003,8,{"v":220,"d":"220 "},{"v":7,"d":"07 "},{"v":3,"d":"003 "},"茨城県","つくば市","谷田部町","内町",null,"","",{"$f":"IF(K1864=\"\",\"\",COUNTIF($K$7:K1864,\"ﾘｽﾄ１\"))","v":""},"","","","","","","",{"$f":"IF(S1864=\"\",\"\",COUNTIF($S$7:S1864,\"該当２\"))","v":""},"","",{"$f":"IF(V1864=\"\",\"\",COUNTIF($V$7:V1864,\"該当３\"))","v":""}]
[822007005,8,{"v":220,"d":"220 "},{"v":7,"d":"07 "},{"v":5,"d":"005 "},"茨城県","つくば市","谷田部町","上萱丸",null,"","",{"$f":"IF(K1866=\"\",\"\",COUNTIF($K$7:K1866,\"ﾘｽﾄ１\"))","v":""},"","",{"$f":"IF(O1866=\"該当１\",G1866,\"\")","v":""},{"$f":"IF(O1866=\"該当１\",\"ﾘｽﾄ2\",\"\")","v":""},{"$f":"IF(Q1866=\"ﾘｽﾄ2\",H1866,\"\")","v":""},"",{"$f":"IF(S1866=\"該当２\",H1866,\"\")","v":""},{"$f":"IF(S1866=\"\",\"\",COUNTIF($S$7:S1866,\"該当２\"))","v":""},{"$f":"IF(AND($S$2=H1866,E1866>0,E1866<998),\"該当３\",\"\")","v":""},{"$f":"IF(V1866=\"該当３\",I1866,\"\")","v":""},{"$f":"IF(V1866=\"\",\"\",COUNTIF($V$7:V1866,\"該当３\"))","v":""}]
[822007009,8,{"v":220,"d":"220 "},{"v":7,"d":"07 "},{"v":9,"d":"009 "},"茨城県","つくば市","谷田部町","不動町",null,"","",{"$f":"IF(K1870=\"\",\"\",COUNTIF($K$7:K1870,\"ﾘｽﾄ１\"))","v":""},"","","","","","","",{"$f":"IF(S1870=\"\",\"\",COUNTIF($S$7:S1870,\"該当２\"))","v":""},"","",{"$f":"IF(V1870=\"\",\"\",COUNTIF($V$7:V1870,\"該当３\"))","v":""}]
[822007012,8,{"v":220,"d":"220 "},{"v":7,"d":"07 "},{"v":12,"d":"012 "},"茨城県","つくば市","谷田部町","片田",null,"","",{"$f":"IF(K1873=\"\",\"\",COUNTIF($K$7:K1873,\"ﾘｽﾄ１\"))","v":""},"","","","","","","",{"$f":"IF(S1873=\"\",\"\",COUNTIF($S$7:S1873,\"該当２\"))","v":""},"","",{"$f":"IF(V1873=\"\",\"\",COUNTIF($V$7:V1873,\"該当３\"))","v":""}]
[822007015,8,{"v":220,"d":"220 "},{"v":7,"d":"07 "},{"v":15,"d":"015 "},"茨城県","つくば市","谷田部町","羽成",null,"","",{"$f":"IF(K1876=\"\",\"\",COUNTIF($K$7:K1876,\"ﾘｽﾄ１\"))","v":""},"","","","","","","",{"$f":"IF(S1876=\"\",\"\",COUNTIF($S$7:S1876,\"該当２\"))","v":""},"","",{"$f":"IF(V1876=\"\",\"\",COUNTIF($V$7:V1876,\"該当３\"))","v":""}]
[822007019,8,{"v":220,"d":"220 "},{"v":7,"d":"07 "},{"v":19,"d":"019 "},"茨城県","つくば市","谷田部町","根崎",null,"","",{"$f":"IF(K1880=\"\",\"\",COUNTIF($K$7:K1880,\"ﾘｽﾄ１\"))","v":""},"","","","","","","",{"$f":"IF(S1880=\"\",\"\",COUNTIF($S$7:S1880,\"該当２\"))","v":""},"","",{"$f":"IF(V1880=\"\",\"\",COUNTIF($V$7:V1880,\"該当３\"))","v":""}]
[822008001,8,{"v":220,"d":"220 "},{"v":8,"d":"08 "},{"v":1,"d":"001 "},"茨城県","つくば市","真瀬村２－１","鎌倉本田",null,"","",{"$f":"IF(K1883=\"\",\"\",COUNTIF($K$7:K1883,\"ﾘｽﾄ１\"))","v":""},"","","","","","","",{"$f":"IF(S1883=\"\",\"\",COUNTIF($S$7:S1883,\"該当２\"))","v":""},"","",{"$f":"IF(V1883=\"\",\"\",COUNTIF($V$7:V1883,\"該当３\"))","v":""}]
[822008003,8,{"v":220,"d":"220 "},{"v":8,"d":"08 "},{"v":3,"d":"003 "},"茨城県","つくば市","真瀬村２－１","鍋沼新田",null,"","",{"$f":"IF(K1885=\"\",\"\",COUNTIF($K$7:K1885,\"ﾘｽﾄ１\"))","v":""},"","","","","","","",{"$f":"IF(S1885=\"\",\"\",COUNTIF($S$7:S1885,\"該当２\"))","v":""},"","",{"$f":"IF(V1885=\"\",\"\",COUNTIF($V$7:V1885,\"該当３\"))","v":""}]
[822009000,8,{"v":220,"d":"220 "},{"v":9,"d":"09 "},{"v":0,"d":"000 "},"茨城県","つくば市","上郷村",null,null,"","",{"$f":"IF(K1888=\"\",\"\",COUNTIF($K$7:K1888,\"ﾘｽﾄ１\"))","v":""},"","","","","","","",{"$f":"IF(S1888=\"\",\"\",COUNTIF($S$7:S1888,\"該当２\"))","v":""},"","",{"$f":"IF(V1888=\"\",\"\",COUNTIF($V$7:V1888,\"該当３\"))","v":""}]
[822009003,8,{"v":220,"d":"220 "},{"v":9,"d":"09 "},{"v":3,"d":"003 "},"茨城県","つくば市","上郷村","手子生",null,"","",{"$f":"IF(K1891=\"\",\"\",COUNTIF($K$7:K1891,\"ﾘｽﾄ１\"))","v":""},"","","","","","","",{"$f":"IF(S1891=\"\",\"\",COUNTIF($S$7:S1891,\"該当２\"))","v":""},"","",{"$f":"IF(V1891=\"\",\"\",COUNTIF($V$7:V1891,\"該当３\"))","v":""}]
[822009007,8,{"v":220,"d":"220 "},{"v":9,"d":"09 "},{"v":7,"d":"007 "},"茨城県","つくば市","上郷村","道角",null,"","",{"$f":"IF(K1895=\"\",\"\",COUNTIF($K$7:K1895,\"ﾘｽﾄ１\"))","v":""},"","","","","","","",{"$f":"IF(S1895=\"\",\"\",COUNTIF($S$7:S1895,\"該当２\"))","v":""},"","",{"$f":"IF(V1895=\"\",\"\",COUNTIF($V$7:V1895,\"該当３\"))","v":""}]
[822009010,8,{"v":220,"d":"220 "},{"v":9,"d":"09 "},{"v":10,"d":"010 "},"茨城県","つくば市","上郷村","仕出",null,"","",{"$f":"IF(K1898=\"\",\"\",COUNTIF($K$7:K1898,\"ﾘｽﾄ１\"))","v":""},"","","","","","","",{"$f":"IF(S1898=\"\",\"\",COUNTIF($S$7:S1898,\"該当２\"))","v":""},"","",{"$f":"IF(V1898=\"\",\"\",COUNTIF($V$7:V1898,\"該当３\"))","v":""}]
[822009013,8,{"v":220,"d":"220 "},{"v":9,"d":"09 "},{"v":13,"d":"013 "},"茨城県","つくば市","上郷村","向金",null,"","",{"$f":"IF(K1901=\"\",\"\",COUNTIF($K$7:K1901,\"ﾘｽﾄ１\"))","v":""},"","","","","","","",{"$f":"IF(S1901=\"\",\"\",COUNTIF($S$7:S1901,\"該当２\"))","v":""},"","",{"$f":"IF(V1901=\"\",\"\",COUNTIF($V$7:V1901,\"該当３\"))","v":""}]
[822009018,8,{"v":220,"d":"220 "},{"v":9,"d":"09 "},{"v":18,"d":"018 "},"茨城県","つくば市","上郷村","権下",null,"","",{"$f":"IF(K1906=\"\",\"\",COUNTIF($K$7:K1906,\"ﾘｽﾄ１\"))","v":""},"","","","","","","",{"$f":"IF(S1906=\"\",\"\",COUNTIF($S$7:S1906,\"該当２\"))","v":""},"","",{"$f":"IF(V1906=\"\",\"\",COUNTIF($V$7:V1906,\"該当３\"))","v":""}]
[822009021,8,{"v":220,"d":"220 "},{"v":9,"d":"09 "},{"v":21,"d":"021 "},"茨城県","つくば市","上郷村","横町",null,"","",{"$f":"IF(K1909=\"\",\"\",COUNTIF($K$7:K1909,\"ﾘｽﾄ１\"))","v":""},"","","","","","","",{"$f":"IF(S1909=\"\",\"\",COUNTIF($S$7:S1909,\"該当２\"))","v":""},"","",{"$f":"IF(V1909=\"\",\"\",COUNTIF($V$7:V1909,\"該当３\"))","v":""}]
[822010000,8,{"v":220,"d":"220 "},{"v":10,"d":"10 "},{"v":0,"d":"000 "},"茨城県","つくば市","旭村２－１",null,null,"","",{"$f":"IF(K1910=\"\",\"\",COUNTIF($K$7:K1910,\"ﾘｽﾄ１\"))","v":""},"","","","","","","",{"$f":"IF(S1910=\"\",\"\",COUNTIF($S$7:S1910,\"該当２\"))","v":""},"","",{"$f":"IF(V1910=\"\",\"\",COUNTIF($V$7:V1910,\"該当３\"))","v":""}]
[822010003,8,{"v":220,"d":"220 "},{"v":10,"d":"10 "},{"v":3,"d":"003 "},"茨城県","つくば市","旭村２－１","皆畑",null,"","",{"$f":"IF(K1913=\"\",\"\",COUNTIF($K$7:K1913,\"ﾘｽﾄ１\"))","v":""},"","","","","","","",{"$f":"IF(S1913=\"\",\"\",COUNTIF($S$7:S1913,\"該当２\"))","v":""},"","",{"$f":"IF(V1913=\"\",\"\",COUNTIF($V$7:V1913,\"該当３\"))","v":""}]
[822010006,8,{"v":220,"d":"220 "},{"v":10,"d":"10 "},{"v":6,"d":"006 "},"茨城県","つくば市","旭村２－１","今新田",null,"","",{"$f":"IF(K1916=\"\",\"\",COUNTIF($K$7:K1916,\"ﾘｽﾄ１\"))","v":""},"","","","","","","",{"$f":"IF(S1916=\"\",\"\",COUNTIF($S$7:S1916,\"該当２\"))","v":""},"","",{"$f":"IF(V1916=\"\",\"\",COUNTIF($V$7:V1916,\"該当３\"))","v":""}]
[822010010,8,{"v":220,"d":"220 "},{"v":10,"d":"10 "},{"v":10,"d":"010 "},"茨城県","つくば市","旭村２－１","下宿",null,"","",{"$f":"IF(K1920=\"\",\"\",COUNTIF($K$7:K1920,\"ﾘｽﾄ１\"))","v":""},"","","","","","","",{"$f":"IF(S1920=\"\",\"\",COUNTIF($S$7:S1920,\"該当２\"))","v":""},"","",{"$f":"IF(V1920=\"\",\"\",COUNTIF($V$7:V1920,\"該当３\"))","v":""}]
[822010013,8,{"v":220,"d":"220 "},{"v":10,"d":"10 "},{"v":13,"d":"013 "},"茨城県","つくば市","旭村２－１","北",null,"","",{"$f":"IF(K1923=\"\",\"\",COUNTIF($K$7:K1923,\"ﾘｽﾄ１\"))","v":""},"","","","","","","",{"$f":"IF(S1923=\"\",\"\",COUNTIF($S$7:S1923,\"該当２\"))","v":""},"","",{"$f":"IF(V1923=\"\",\"\",COUNTIF($V$7:V1923,\"該当３\"))","v":""}]
[822010017,8,{"v":220,"d":"220 "},{"v":10,"d":"10 "},{"v":17,"d":"017 "},"茨城県","つくば市","旭村２－１","東原",null,"","",{"$f":"IF(K1927=\"\",\"\",COUNTIF($K$7:K1927,\"ﾘｽﾄ１\"))","v":""},"","","","","","","",{"$f":"IF(S1927=\"\",\"\",COUNTIF($S$7:S1927,\"該当２\"))","v":""},"","",{"$f":"IF(V1927=\"\",\"\",COUNTIF($V$7:V1927,\"該当３\"))","v":""}]
[822010021,8,{"v":220,"d":"220 "},{"v":10,"d":"10 "},{"v":21,"d":"021 "},"茨城県","つくば市","旭村２－１","西谷ケ代",null,{"$f":"IF(AND($C1931>0,$H1931=\"\"),\"ﾘｽﾄ１\",\"\")","v":""},{"$f":"IF(K1931=\"ﾘｽﾄ１\",G1931,\"\")","v":""},{"$f":"IF(K1931=\"\",\"\",COUNTIF($K$7:K1931,\"ﾘｽﾄ１\"))","v":""},{"$f":"IF(AND(D1931=0,E1931>0),\"同一区\",\"\")","v":""},{"$f":"IF(AND(EXACT($K$2,G1931),H1931>0),\"該当１\",\"\")","v":""},"","","",{"$f":"IF(AND(Q1931=\"ﾘｽﾄ2\",OR(I1931=0,AND(N1931=\"同一区\",E1931=1))),\"該当２\",\"\")","v":""},"",{"$f":"IF(S1931=\"\",\"\",COUNTIF($S$7:S1931,\"該当２\"))","v":""},"","",{"$f":"IF(V1931=\"\",\"\",COUNTIF($V$7:V1931,\"該当３\"))","v":""}]
[822011000,8,{"v":220,"d":"220 "},{"v":11,"d":"11 "},{"v":0,"d":"000 "},"茨城県","つくば市","吉沼村２－２",null,null,"","",{"$f":"IF(K1934=\"\",\"\",COUNTIF($K$7:K1934,\"ﾘｽﾄ１\"))","v":""},"","","","","","","",{"$f":"IF(S1934=\"\",\"\",COUNTIF($S$7:S1934,\"該当２\"))","v":""},"","",{"$f":"IF(V1934=\"\",\"\",COUNTIF($V$7:V1934,\"該当３\"))","v":""}]
[822011001,8,{"v":220,"d":"220 "},{"v":11,"d":"11 "},{"v":1,"d":"001 "},"茨城県","つくば市","吉沼村２－２","上里",null,"","",{"$f":"IF(K1935=\"\",\"\",COUNTIF($K$7:K1935,\"ﾘｽﾄ１\"))","v":""},"","","","","","","",{"$f":"IF(S1935=\"\",\"\",COUNTIF($S$7:S1935,\"該当２\"))","v":""},"","",{"$f":"IF(V1935=\"\",\"\",COUNTIF($V$7:V1935,\"該当３\"))","v":""}]
[822012001,8,{"v":220,"d":"220 "},{"v":12,"d":"12 "},{"v":1,"d":"001 "},"茨城県","つくば市","筑波町","筑波",null,"","",{"$f":"IF(K1938=\"\",\"\",COUNTIF($K$7:K1938,\"ﾘｽﾄ１\"))","v":""},"","","","","","","",{"$f":"IF(S1938=\"\",\"\",COUNTIF($S$7:S1938,\"該当２\"))","v":""},"","",{"$f":"IF(V1938=\"\",\"\",COUNTIF($V$7:V1938,\"該当３\"))","v":""}]
[822012004,8,{"v":220,"d":"220 "},{"v":12,"d":"12 "},{"v":4,"d":"004 "},"茨城県","つくば市","筑波町","上大島",null,"","",{"$f":"IF(K1941=\"\",\"\",COUNTIF($K$7:K1941,\"ﾘｽﾄ１\"))","v":""},"","","","","","","",{"$f":"IF(S1941=\"\",\"\",COUNTIF($S$7:S1941,\"該当２\"))","v":""},"","",{"$f":"IF(V1941=\"\",\"\",COUNTIF($V$7:V1941,\"該当３\"))","v":""}]
[822013002,8,{"v":220,"d":"220 "},{"v":13,"d":"13 "},{"v":2,"d":"002 "},"茨城県","つくば市","北条町","北条仲町",null,"","",{"$f":"IF(K1944=\"\",\"\",COUNTIF($K$7:K1944,\"ﾘｽﾄ１\"))","v":""},"","","","","","","",{"$f":"IF(S1944=\"\",\"\",COUNTIF($S$7:S1944,\"該当２\"))","v":""},"","",{"$f":"IF(V1944=\"\",\"\",COUNTIF($V$7:V1944,\"該当３\"))","v":""}]
[822013007,8,{"v":220,"d":"220 "},{"v":13,"d":"13 "},{"v":7,"d":"007 "},"茨城県","つくば市","北条町","泉",null,"","",{"$f":"IF(K1949=\"\",\"\",COUNTIF($K$7:K1949,\"ﾘｽﾄ１\"))","v":""},"","","","","","","",{"$f":"IF(S1949=\"\",\"\",COUNTIF($S$7:S1949,\"該当２\"))","v":""},"","",{"$f":"IF(V1949=\"\",\"\",COUNTIF($V$7:V1949,\"該当３\"))","v":""}]
[822014001,8,{"v":220,"d":"220 "},{"v":14,"d":"14 "},{"v":1,"d":"001 "},"茨城県","つくば市","小田村","平沢",null,"","",{"$f":"IF(K1952=\"\",\"\",COUNTIF($K$7:K1952,\"ﾘｽﾄ１\"))","v":""},"","","","","","","",{"$f":"IF(S1952=\"\",\"\",COUNTIF($S$7:S1952,\"該当２\"))","v":""},"","",{"$f":"IF(V1952=\"\",\"\",COUNTIF($V$7:V1952,\"該当３\"))","v":""}]
[822014005,8,{"v":220,"d":"220 "},{"v":14,"d":"14 "},{"v":5,"d":"005 "},"茨城県","つくば市","小田村","小田西部",null,"","",{"$f":"IF(K1956=\"\",\"\",COUNTIF($K$7:K1956,\"ﾘｽﾄ１\"))","v":""},"","","","","","","",{"$f":"IF(S1956=\"\",\"\",COUNTIF($S$7:S1956,\"該当２\"))","v":""},"","",{"$f":"IF(V1956=\"\",\"\",COUNTIF($V$7:V1956,\"該当３\"))","v":""}]
[822014008,8,{"v":220,"d":"220 "},{"v":14,"d":"14 "},{"v":8,"d":"008 "},"茨城県","つくば市","小田村","大形",null,"","",{"$f":"IF(K1959=\"\",\"\",COUNTIF($K$7:K1959,\"ﾘｽﾄ１\"))","v":""},"","","","","","","",{"$f":"IF(S1959=\"\",\"\",COUNTIF($S$7:S1959,\"該当２\"))","v":""},"","",{"$f":"IF(V1959=\"\",\"\",COUNTIF($V$7:V1959,\"該当３\"))","v":""}]
[822014009,8,{"v":220,"d":"220 "},{"v":14,"d":"14 "},{"v":9,"d":"009 "},"茨城県","つくば市","小田村","下大島",null,"","",{"$f":"IF(K1960=\"\",\"\",COUNTIF($K$7:K1960,\"ﾘｽﾄ１\"))","v":""},"","","","","","","",{"$f":"IF(S1960=\"\",\"\",COUNTIF($S$7:S1960,\"該当２\"))","v":""},"","",{"$f":"IF(V1960=\"\",\"\",COUNTIF($V$7:V1960,\"該当３\"))","v":""}]
[822015004,8,{"v":220,"d":"220 "},{"v":15,"d":"15 "},{"v":4,"d":"004 "},"茨城県","つくば市","田井村","立野",null,"","",{"$f":"IF(K1965=\"\",\"\",COUNTIF($K$7:K1965,\"ﾘｽﾄ１\"))","v":""},"","","","","","","",{"$f":"IF(S1965=\"\",\"\",COUNTIF($S$7:S1965,\"該当２\"))","v":""},"","",{"$f":"IF(V1965=\"\",\"\",COUNTIF($V$7:V1965,\"該当３\"))","v":""}]
[822015006,8,{"v":220,"d":"220 "},{"v":15,"d":"15 "},{"v":6,"d":"006 "},"茨城県","つくば市","田井村","大貫",null,"","",{"$f":"IF(K1967=\"\",\"\",COUNTIF($K$7:K1967,\"ﾘｽﾄ１\"))","v":""},"","","","","","","",{"$f":"IF(S1967=\"\",\"\",COUNTIF($S$7:S1967,\"該当２\"))","v":""},"","",{"$f":"IF(V1967=\"\",\"\",COUNTIF($V$7:V1967,\"該当３\"))","v":""}]
[822016000,8,{"v":220,"d":"220 "},{"v":16,"d":"16 "},{"v":0,"d":"000 "},"茨城県","つくば市","作岡村",null,null,"","",{"$f":"IF(K1971=\"\",\"\",COUNTIF($K$7:K1971,\"ﾘｽﾄ１\"))","v":""},"","","","","","","",{"$f":"IF(S1971=\"\",\"\",COUNTIF($S$7:S1971,\"該当２\"))","v":""},"","",{"$f":"IF(V1971=\"\",\"\",COUNTIF($V$7:V1971,\"該当３\"))","v":""}]
[822016003,8,{"v":220,"d":"220 "},{"v":16,"d":"16 "},{"v":3,"d":"003 "},"茨城県","つくば市","作岡村","西作谷",null,"","",{"$f":"IF(K1974=\"\",\"\",COUNTIF($K$7:K1974,\"ﾘｽﾄ１\"))","v":""},"","","","","","","",{"$f":"IF(S1974=\"\",\"\",COUNTIF($S$7:S1974,\"該当２\"))","v":""},"","",{"$f":"IF(V1974=\"\",\"\",COUNTIF($V$7:V1974,\"該当３\"))","v":""}]
[822016007,8,{"v":220,"d":"220 "},{"v":16,"d":"16 "},{"v":7,"d":"007 "},"茨城県","つくば市","作岡村","下作谷",null,"","",{"$f":"IF(K1978=\"\",\"\",COUNTIF($K$7:K1978,\"ﾘｽﾄ１\"))","v":""},"","","","","","","",{"$f":"IF(S1978=\"\",\"\",COUNTIF($S$7:S1978,\"該当２\"))","v":""},"","",{"$f":"IF(V1978=\"\",\"\",COUNTIF($V$7:V1978,\"該当３\"))","v":""}]
[822017001,8,{"v":220,"d":"220 "},{"v":17,"d":"17 "},{"v":1,"d":"001 "},"茨城県","つくば市","田水山村","上田中",null,"","",{"$f":"IF(K1981=\"\",\"\",COUNTIF($K$7:K1981,\"ﾘｽﾄ１\"))","v":""},"","","","","","","",{"$f":"IF(S1981=\"\",\"\",COUNTIF($S$7:S1981,\"該当２\"))","v":""},"","",{"$f":"IF(V1981=\"\",\"\",COUNTIF($V$7:V1981,\"該当３\"))","v":""}]
[822017004,8,{"v":220,"d":"220 "},{"v":17,"d":"17 "},{"v":4,"d":"004 "},"茨城県","つくば市","田水山村","山木",null,"","",{"$f":"IF(K1984=\"\",\"\",COUNTIF($K$7:K1984,\"ﾘｽﾄ１\"))","v":""},"","","","","","","",{"$f":"IF(S1984=\"\",\"\",COUNTIF($S$7:S1984,\"該当２\"))","v":""},"","",{"$f":"IF(V1984=\"\",\"\",COUNTIF($V$7:V1984,\"該当３\"))","v":""}]
[822018001,8,{"v":220,"d":"220 "},{"v":18,"d":"18 "},{"v":1,"d":"001 "},"茨城県","つくば市","菅間村","上菅間",null,"","",{"$f":"IF(K1986=\"\",\"\",COUNTIF($K$7:K1986,\"ﾘｽﾄ１\"))","v":""},"","","","","","","",{"$f":"IF(S1986=\"\",\"\",COUNTIF($S$7:S1986,\"該当２\"))","v":""},"","",{"$f":"IF(V1986=\"\",\"\",COUNTIF($V$7:V1986,\"該当３\"))","v":""}]
[822018004,8,{"v":220,"d":"220 "},{"v":18,"d":"18 "},{"v":4,"d":"004 "},"茨城県","つくば市","菅間村","磯部",null,"","",{"$f":"IF(K1989=\"\",\"\",COUNTIF($K$7:K1989,\"ﾘｽﾄ１\"))","v":""},"","","","","","","",{"$f":"IF(S1989=\"\",\"\",COUNTIF($S$7:S1989,\"該当２\"))","v":""},"","",{"$f":"IF(V1989=\"\",\"\",COUNTIF($V$7:V1989,\"該当３\"))","v":""}]
[822018007,8,{"v":220,"d":"220 "},{"v":18,"d":"18 "},{"v":7,"d":"007 "},"茨城県","つくば市","菅間村","洞下下宿",null,"","",{"$f":"IF(K1992=\"\",\"\",COUNTIF($K$7:K1992,\"ﾘｽﾄ１\"))","v":""},"","","","","","","",{"$f":"IF(S1992=\"\",\"\",COUNTIF($S$7:S1992,\"該当２\"))","v":""},"","",{"$f":"IF(V1992=\"\",\"\",COUNTIF($V$7:V1992,\"該当３\"))","v":""}]
[822020001,8,{"v":220,"d":"220 "},{"v":20,"d":"20 "},{"v":1,"d":"001 "},"茨城県","つくば市","大穂村","佐",null,"","",{"$f":"IF(K1996=\"\",\"\",COUNTIF($K$7:K1996,\"ﾘｽﾄ１\"))","v":""},"","","","","","","",{"$f":"IF(S1996=\"\",\"\",COUNTIF($S$7:S1996,\"該当２\"))","v":""},"","",{"$f":"IF(V1996=\"\",\"\",COUNTIF($V$7:V1996,\"該当３\"))","v":""}]
[822020004,8,{"v":220,"d":"220 "},{"v":20,"d":"20 "},{"v":4,"d":"004 "},"茨城県","つくば市","大穂村","玉取",null,"","",{"$f":"IF(K1999=\"\",\"\",COUNTIF($K$7:K1999,\"ﾘｽﾄ１\"))","v":""},"","","","","","","",{"$f":"IF(S1999=\"\",\"\",COUNTIF($S$7:S1999,\"該当２\"))","v":""},"","",{"$f":"IF(V1999=\"\",\"\",COUNTIF($V$7:V1999,\"該当３\"))","v":""}]
[822021000,8,{"v":220,"d":"220 "},{"v":21,"d":"21 "},{"v":0,"d":"000 "},"茨城県","つくば市","吉沼村２－１",null,null,"","",{"$f":"IF(K2003=\"\",\"\",COUNTIF($K$7:K2003,\"ﾘｽﾄ１\"))","v":""},"","","","","","","",{"$f":"IF(S2003=\"\",\"\",COUNTIF($S$7:S2003,\"該当２\"))","v":""},"","",{"$f":"IF(V2003=\"\",\"\",COUNTIF($V$7:V2003,\"該当３\"))","v":""}]
[822021004,8,{"v":220,"d":"220 "},{"v":21,"d":"21 "},{"v":4,"d":"004 "},"茨城県","つくば市","吉沼村２－１","坂本",null,"","",{"$f":"IF(K2007=\"\",\"\",COUNTIF($K$7:K2007,\"ﾘｽﾄ１\"))","v":""},"","","","","","","",{"$f":"IF(S2007=\"\",\"\",COUNTIF($S$7:S2007,\"該当２\"))","v":""},"","",{"$f":"IF(V2007=\"\",\"\",COUNTIF($V$7:V2007,\"該当３\"))","v":""}]
[822021007,8,{"v":220,"d":"220 "},{"v":21,"d":"21 "},{"v":7,"d":"007 "},"茨城県","つくば市","吉沼村２－１","上西高野",null,"","",{"$f":"IF(K2010=\"\",\"\",COUNTIF($K$7:K2010,\"ﾘｽﾄ１\"))","v":""},"","","","","","","",{"$f":"IF(S2010=\"\",\"\",COUNTIF($S$7:S2010,\"該当２\"))","v":""},"","",{"$f":"IF(V2010=\"\",\"\",COUNTIF($V$7:V2010,\"該当３\"))","v":""}]
[822021008,8,{"v":220,"d":"220 "},{"v":21,"d":"21 "},{"v":8,"d":"008 "},"茨城県","つくば市","吉沼村２－１","下西高野",null,"","",{"$f":"IF(K2011=\"\",\"\",COUNTIF($K$7:K2011,\"ﾘｽﾄ１\"))","v":""},"","","","","","","",{"$f":"IF(S2011=\"\",\"\",COUNTIF($S$7:S2011,\"該当２\"))","v":""},"","",{"$f":"IF(V2011=\"\",\"\",COUNTIF($V$7:V2011,\"該当３\"))","v":""}]
[822021011,8,{"v":220,"d":"220 "},{"v":21,"d":"21 "},{"v":11,"d":"011 "},"茨城県","つくば市","吉沼村２－１","内町",null,"","",{"$f":"IF(K2014=\"\",\"\",COUNTIF($K$7:K2014,\"ﾘｽﾄ１\"))","v":""},"","","","","","","",{"$f":"IF(S2014=\"\",\"\",COUNTIF($S$7:S2014,\"該当２\"))","v":""},"","",{"$f":"IF(V2014=\"\",\"\",COUNTIF($V$7:V2014,\"該当３\"))","v":""}]
[822022000,8,{"v":220,"d":"220 "},{"v":22,"d":"22 "},{"v":0,"d":"000 "},"茨城県","つくば市","旭村２－２",null,null,"","",{"$f":"IF(K2017=\"\",\"\",COUNTIF($K$7:K2017,\"ﾘｽﾄ１\"))","v":""},"","","","","","","",{"$f":"IF(S2017=\"\",\"\",COUNTIF($S$7:S2017,\"該当２\"))","v":""},"","",{"$f":"IF(V2017=\"\",\"\",COUNTIF($V$7:V2017,\"該当３\"))","v":""}]
[822022004,8,{"v":220,"d":"220 "},{"v":22,"d":"22 "},{"v":4,"d":"004 "},"茨城県","つくば市","旭村２－２","要猿壁",null,"","",{"$f":"IF(K2021=\"\",\"\",COUNTIF($K$7:K2021,\"ﾘｽﾄ１\"))","v":""},"","","","","","","",{"$f":"IF(S2021=\"\",\"\",COUNTIF($S$7:S2021,\"該当２\"))","v":""},"","",{"$f":"IF(V2021=\"\",\"\",COUNTIF($V$7:V2021,\"該当３\"))","v":""}]
[822023001,8,{"v":220,"d":"220 "},{"v":23,"d":"23 "},{"v":1,"d":"001 "},"茨城県","つくば市","茎崎町","中山",null,"","",{"$f":"IF(K2024=\"\",\"\",COUNTIF($K$7:K2024,\"ﾘｽﾄ１\"))","v":""},"","","","","","","",{"$f":"IF(S2024=\"\",\"\",COUNTIF($S$7:S2024,\"該当２\"))","v":""},"","",{"$f":"IF(V2024=\"\",\"\",COUNTIF($V$7:V2024,\"該当３\"))","v":""}]
[822023006,8,{"v":220,"d":"220 "},{"v":23,"d":"23 "},{"v":6,"d":"006 "},"茨城県","つくば市","茎崎町","小山",null,"","",{"$f":"IF(K2029=\"\",\"\",COUNTIF($K$7:K2029,\"ﾘｽﾄ１\"))","v":""},"","","","","","","",{"$f":"IF(S2029=\"\",\"\",COUNTIF($S$7:S2029,\"該当２\"))","v":""},"","",{"$f":"IF(V2029=\"\",\"\",COUNTIF($V$7:V2029,\"該当３\"))","v":""}]
[822023009,8,{"v":220,"d":"220 "},{"v":23,"d":"23 "},{"v":9,"d":"009 "},"茨城県","つくば市","茎崎町","若栗",null,"","",{"$f":"IF(K2032=\"\",\"\",COUNTIF($K$7:K2032,\"ﾘｽﾄ１\"))","v":""},"","","","","","","",{"$f":"IF(S2032=\"\",\"\",COUNTIF($S$7:S2032,\"該当２\"))","v":""},"","",{"$f":"IF(V2032=\"\",\"\",COUNTIF($V$7:V2032,\"該当３\"))","v":""}]
[822023012,8,{"v":220,"d":"220 "},{"v":23,"d":"23 "},{"v":12,"d":"012 "},"茨城県","つくば市","茎崎町","高見原",null,"","",{"$f":"IF(K2035=\"\",\"\",COUNTIF($K$7:K2035,\"ﾘｽﾄ１\"))","v":""},"","","","","","","",{"$f":"IF(S2035=\"\",\"\",COUNTIF($S$7:S2035,\"該当２\"))","v":""},"","",{"$f":"IF(V2035=\"\",\"\",COUNTIF($V$7:V2035,\"該当３\"))","v":""}]
[822023013,8,{"v":220,"d":"220 "},{"v":23,"d":"23 "},{"v":13,"d":"013 "},"茨城県","つくば市","茎崎町","高崎",null,"","",{"$f":"IF(K2036=\"\",\"\",COUNTIF($K$7:K2036,\"ﾘｽﾄ１\"))","v":""},"","","","","","","",{"$f":"IF(S2036=\"\",\"\",COUNTIF($S$7:S2036,\"該当２\"))","v":""},"","",{"$f":"IF(V2036=\"\",\"\",COUNTIF($V$7:V2036,\"該当３\"))","v":""}]
[822023016,8,{"v":220,"d":"220 "},{"v":23,"d":"23 "},{"v":16,"d":"016 "},"茨城県","つくば市","茎崎町","上岩崎",null,"","",{"$f":"IF(K2039=\"\",\"\",COUNTIF($K$7:K2039,\"ﾘｽﾄ１\"))","v":""},"","","","","","","",{"$f":"IF(S2039=\"\",\"\",COUNTIF($S$7:S2039,\"該当２\"))","v":""},"","",{"$f":"IF(V2039=\"\",\"\",COUNTIF($V$7:V2039,\"該当３\"))","v":""}]
[822023020,8,{"v":220,"d":"220 "},{"v":23,"d":"23 "},{"v":20,"d":"020 "},"茨城県","つくば市","茎崎町","六斗",null,"","",{"$f":"IF(K2043=\"\",\"\",COUNTIF($K$7:K2043,\"ﾘｽﾄ１\"))","v":""},"","","","","","","",{"$f":"IF(S2043=\"\",\"\",COUNTIF($S$7:S2043,\"該当２\"))","v":""},"","",{"$f":"IF(V2043=\"\",\"\",COUNTIF($V$7:V2043,\"該当３\"))","v":""}]
[822100000,8,{"v":221,"d":"221 "},{"v":0,"d":"00 "},{"v":0,"d":"000 "},"茨城県","ひたちなか市",{"$nulls":3},"ﾘｽﾄ１","ひたちなか市",{"$f":"IF(K2045=\"\",\"\",COUNTIF($K$7:K2045,\"ﾘｽﾄ１\"))","v":17},"","","","","","","",{"$f":"IF(S2045=\"\",\"\",COUNTIF($S$7:S2045,\"該当２\"))","v":""},"","",{"$f":"IF(V2045=\"\",\"\",COUNTIF($V$7:V2045,\"該当３\"))","v":""}]
[822101004,8,{"v":221,"d":"221 "},{"v":1,"d":"01 "},{"v":4,"d":"004 "},"茨城県","ひたちなか市","那珂湊町","十三奉行",null,"","",{"$f":"IF(K2050=\"\",\"\",COUNTIF($K$7:K2050,\"ﾘｽﾄ１\"))","v":""},"","","","","","","",{"$f":"IF(S2050=\"\",\"\",COUNTIF($S$7:S2050,\"該当２\"))","v":""},"","",{"$f":"IF(V2050=\"\",\"\",COUNTIF($V$7:V2050,\"該当３\"))","v":""}]
[822101008,8,{"v":221,"d":"221 "},{"v":1,"d":"01 "},{"v":8,"d":"008 "},"茨城県","ひたちなか市","那珂湊町","牛久保",null,"","",{"$f":"IF(K2054=\"\",\"\",COUNTIF($K$7:K2054,\"ﾘｽﾄ１\"))","v":""},"","","","","","","",{"$f":"IF(S2054=\"\",\"\",COUNTIF($S$7:S2054,\"該当２\"))","v":""},"","",{"$f":"IF(V2054=\"\",\"\",COUNTIF($V$7:V2054,\"該当３\"))","v":""}]
[822101011,8,{"v":221,"d":"221 "},{"v":1,"d":"01 "},{"v":11,"d":"011 "},"茨城県","ひたちなか市","那珂湊町","七町目",null,"","",{"$f":"IF(K2057=\"\",\"\",COUNTIF($K$7:K2057,\"ﾘｽﾄ１\"))","v":""},"","","","","","","",{"$f":"IF(S2057=\"\",\"\",COUNTIF($S$7:S2057,\"該当２\"))","v":""},"","",{"$f":"IF(V2057=\"\",\"\",COUNTIF($V$7:V2057,\"該当３\"))","v":""}]
[822101014,8,{"v":221,"d":"221 "},{"v":1,"d":"01 "},{"v":14,"d":"014 "},"茨城県","ひたちなか市","那珂湊町","美田多",null,"","",{"$f":"IF(K2060=\"\",\"\",COUNTIF($K$7:K2060,\"ﾘｽﾄ１\"))","v":""},"","","","","","","",{"$f":"IF(S2060=\"\",\"\",COUNTIF($S$7:S2060,\"該当２\"))","v":""},"","",{"$f":"IF(V2060=\"\",\"\",COUNTIF($V$7:V2060,\"該当３\"))","v":""}]
[822101015,8,{"v":221,"d":"221 "},{"v":1,"d":"01 "},{"v":15,"d":"015 "},"茨城県","ひたちなか市","那珂湊町","一町目～六町目",null,"","",{"$f":"IF(K2061=\"\",\"\",COUNTIF($K$7:K2061,\"ﾘｽﾄ１\"))","v":""},"","","","","","","",{"$f":"IF(S2061=\"\",\"\",COUNTIF($S$7:S2061,\"該当２\"))","v":""},"","",{"$f":"IF(V2061=\"\",\"\",COUNTIF($V$7:V2061,\"該当３\"))","v":""}]
[822102002,8,{"v":221,"d":"221 "},{"v":2,"d":"02 "},{"v":2,"d":"002 "},"茨城県","ひたちなか市","平磯町","南町",null,"","",{"$f":"IF(K2066=\"\",\"\",COUNTIF($K$7:K2066,\"ﾘｽﾄ１\"))","v":""},"","","","","","","",{"$f":"IF(S2066=\"\",\"\",COUNTIF($S$7:S2066,\"該当２\"))","v":""},"","",{"$f":"IF(V2066=\"\",\"\",COUNTIF($V$7:V2066,\"該当３\"))","v":""}]
[822102005,8,{"v":221,"d":"221 "},{"v":2,"d":"02 "},{"v":5,"d":"005 "},"茨城県","ひたちなか市","平磯町","圷町",null,"","",{"$f":"IF(K2069=\"\",\"\",COUNTIF($K$7:K2069,\"ﾘｽﾄ１\"))","v":""},"","","","","","","",{"$f":"IF(S2069=\"\",\"\",COUNTIF($S$7:S2069,\"該当２\"))","v":""},"","",{"$f":"IF(V2069=\"\",\"\",COUNTIF($V$7:V2069,\"該当３\"))","v":""}]
[822103001,8,{"v":221,"d":"221 "},{"v":3,"d":"03 "},{"v":1,"d":"001 "},"茨城県","ひたちなか市","前渡村２－２","阿字ケ浦",null,"","",{"$f":"IF(K2072=\"\",\"\",COUNTIF($K$7:K2072,\"ﾘｽﾄ１\"))","v":""},"","","","","","","",{"$f":"IF(S2072=\"\",\"\",COUNTIF($S$7:S2072,\"該当２\"))","v":""},"","",{"$f":"IF(V2072=\"\",\"\",COUNTIF($V$7:V2072,\"該当３\"))","v":""}]
[822104001,8,{"v":221,"d":"221 "},{"v":4,"d":"04 "},{"v":1,"d":"001 "},"茨城県","ひたちなか市","勝田町","津田開拓",null,"","",{"$f":"IF(K2075=\"\",\"\",COUNTIF($K$7:K2075,\"ﾘｽﾄ１\"))","v":""},"","","","","","","",{"$f":"IF(S2075=\"\",\"\",COUNTIF($S$7:S2075,\"該当２\"))","v":""},"","",{"$f":"IF(V2075=\"\",\"\",COUNTIF($V$7:V2075,\"該当３\"))","v":""}]
[822104005,8,{"v":221,"d":"221 "},{"v":4,"d":"04 "},{"v":5,"d":"005 "},"茨城県","ひたちなか市","勝田町","勝倉下",null,"","",{"$f":"IF(K2079=\"\",\"\",COUNTIF($K$7:K2079,\"ﾘｽﾄ１\"))","v":""},"","","","","","","",{"$f":"IF(S2079=\"\",\"\",COUNTIF($S$7:S2079,\"該当２\"))","v":""},"","",{"$f":"IF(V2079=\"\",\"\",COUNTIF($V$7:V2079,\"該当３\"))","v":""}]
[822104008,8,{"v":221,"d":"221 "},{"v":4,"d":"04 "},{"v":8,"d":"008 "},"茨城県","ひたちなか市","勝田町","外野開拓",null,"","",{"$f":"IF(K2082=\"\",\"\",COUNTIF($K$7:K2082,\"ﾘｽﾄ１\"))","v":""},"","","","","","","",{"$f":"IF(S2082=\"\",\"\",COUNTIF($S$7:S2082,\"該当２\"))","v":""},"","",{"$f":"IF(V2082=\"\",\"\",COUNTIF($V$7:V2082,\"該当３\"))","v":""}]
[822104009,8,{"v":221,"d":"221 "},{"v":4,"d":"04 "},{"v":9,"d":"009 "},"茨城県","ひたちなか市","勝田町","外野",null,"","",{"$f":"IF(K2083=\"\",\"\",COUNTIF($K$7:K2083,\"ﾘｽﾄ１\"))","v":""},"","","","","","","",{"$f":"IF(S2083=\"\",\"\",COUNTIF($S$7:S2083,\"該当２\"))","v":""},"","",{"$f":"IF(V2083=\"\",\"\",COUNTIF($V$7:V2083,\"該当３\"))","v":""}]
[822104013,8,{"v":221,"d":"221 "},{"v":4,"d":"04 "},{"v":13,"d":"013 "},"茨城県","ひたちなか市","勝田町","東中根",null,"","",{"$f":"IF(K2087=\"\",\"\",COUNTIF($K$7:K2087,\"ﾘｽﾄ１\"))","v":""},"","","","","","","",{"$f":"IF(S2087=\"\",\"\",COUNTIF($S$7:S2087,\"該当２\"))","v":""},"","",{"$f":"IF(V2087=\"\",\"\",COUNTIF($V$7:V2087,\"該当３\"))","v":""}]
[822104016,8,221,{"v":4,"d":"04"},{"v":16,"d":"016 "},"茨城県","ひたちなか市","勝田町","堀口",null,"","",{"$f":"IF(K2090=\"\",\"\",COUNTIF($K$7:K2090,\"ﾘｽﾄ１\"))","v":""},"","","","","","","",{"$f":"IF(S2090=\"\",\"\",COUNTIF($S$7:S2090,\"該当２\"))","v":""},"","",{"$f":"IF(V2090=\"\",\"\",COUNTIF($V$7:V2090,\"該当３\"))","v":""}]
[822105002,8,221,{"v":5,"d":"05"},{"v":2,"d":"002 "},"茨城県","ひたちなか市","佐野村","高野",null,"","",{"$f":"IF(K2094=\"\",\"\",COUNTIF($K$7:K2094,\"ﾘｽﾄ１\"))","v":""},"","","","","","","",{"$f":"IF(S2094=\"\",\"\",COUNTIF($S$7:S2094,\"該当２\"))","v":""},"","",{"$f":"IF(V2094=\"\",\"\",COUNTIF($V$7:V2094,\"該当３\"))","v":""}]
[822105005,8,221,{"v":5,"d":"05"},{"v":5,"d":"005 "},"茨城県","ひたちなか市","佐野村","下高場",null,"","",{"$f":"IF(K2097=\"\",\"\",COUNTIF($K$7:K2097,\"ﾘｽﾄ１\"))","v":""},"","","","","","","",{"$f":"IF(S2097=\"\",\"\",COUNTIF($S$7:S2097,\"該当２\"))","v":""},"","",{"$f":"IF(V2097=\"\",\"\",COUNTIF($V$7:V2097,\"該当３\"))","v":""}]
[822106001,8,221,{"v":6,"d":"06"},{"v":1,"d":"001 "},"茨城県","ひたちなか市","前渡村２－１","馬渡",null,"","",{"$f":"IF(K2100=\"\",\"\",COUNTIF($K$7:K2100,\"ﾘｽﾄ１\"))","v":""},"","","","","","","",{"$f":"IF(S2100=\"\",\"\",COUNTIF($S$7:S2100,\"該当２\"))","v":""},"","",{"$f":"IF(V2100=\"\",\"\",COUNTIF($V$7:V2100,\"該当３\"))","v":""}]
[822200000,8,222,{"v":0,"d":"00"},{"v":0,"d":"000 "},"茨城県","鹿嶋市",{"$nulls":3},"ﾘｽﾄ１","鹿嶋市",{"$f":"IF(K2104=\"\",\"\",COUNTIF($K$7:K2104,\"ﾘｽﾄ１\"))","v":18},"","","","","","","",{"$f":"IF(S2104=\"\",\"\",COUNTIF($S$7:S2104,\"該当２\"))","v":""},"","",{"$f":"IF(V2104=\"\",\"\",COUNTIF($V$7:V2104,\"該当３\"))","v":""}]
[822201003,8,222,{"v":1,"d":"01"},{"v":3,"d":"003 "},"茨城県","鹿嶋市","大同村","小志崎",null,"","",{"$f":"IF(K2108=\"\",\"\",COUNTIF($K$7:K2108,\"ﾘｽﾄ１\"))","v":""},"","","","","","","",{"$f":"IF(S2108=\"\",\"\",COUNTIF($S$7:S2108,\"該当２\"))","v":""},"","",{"$f":"IF(V2108=\"\",\"\",COUNTIF($V$7:V2108,\"該当３\"))","v":""}]
[822201004,8,222,{"v":1,"d":"01"},{"v":4,"d":"004 "},"茨城県","鹿嶋市","大同村","武井釜",null,"","",{"$f":"IF(K2109=\"\",\"\",COUNTIF($K$7:K2109,\"ﾘｽﾄ１\"))","v":""},"","","","","","","",{"$f":"IF(S2109=\"\",\"\",COUNTIF($S$7:S2109,\"該当２\"))","v":""},"","",{"$f":"IF(V2109=\"\",\"\",COUNTIF($V$7:V2109,\"該当３\"))","v":""}]
[822201007,8,222,{"v":1,"d":"01"},{"v":7,"d":"007 "},"茨城県","鹿嶋市","大同村","額賀",null,"","",{"$f":"IF(K2112=\"\",\"\",COUNTIF($K$7:K2112,\"ﾘｽﾄ１\"))","v":""},"","","","","","","",{"$f":"IF(S2112=\"\",\"\",COUNTIF($S$7:S2112,\"該当２\"))","v":""},"","",{"$f":"IF(V2112=\"\",\"\",COUNTIF($V$7:V2112,\"該当３\"))","v":""}]
[822201010,8,222,{"v":1,"d":"01"},{"v":10,"d":"010 "},"茨城県","鹿嶋市","大同村","天長井戸",null,"","",{"$f":"IF(K2115=\"\",\"\",COUNTIF($K$7:K2115,\"ﾘｽﾄ１\"))","v":""},"","","","","","","",{"$f":"IF(S2115=\"\",\"\",COUNTIF($S$7:S2115,\"該当２\"))","v":""},"","",{"$f":"IF(V2115=\"\",\"\",COUNTIF($V$7:V2115,\"該当３\"))","v":""}]
[822201014,8,222,{"v":1,"d":"01"},{"v":14,"d":"014 "},"茨城県","鹿嶋市","大同村","立原",null,"","",{"$f":"IF(K2119=\"\",\"\",COUNTIF($K$7:K2119,\"ﾘｽﾄ１\"))","v":""},"","","","","","","",{"$f":"IF(S2119=\"\",\"\",COUNTIF($S$7:S2119,\"該当２\"))","v":""},"","",{"$f":"IF(V2119=\"\",\"\",COUNTIF($V$7:V2119,\"該当３\"))","v":""}]
[822201017,8,222,{"v":1,"d":"01"},{"v":17,"d":"017 "},"茨城県","鹿嶋市","大同村","青塚",null,"","",{"$f":"IF(K2122=\"\",\"\",COUNTIF($K$7:K2122,\"ﾘｽﾄ１\"))","v":""},"","",{"$f":"IF(O2122=\"該当１\",G2122,\"\")","v":""},{"$f":"IF(O2122=\"該当１\",\"ﾘｽﾄ2\",\"\")","v":""},{"$f":"IF(Q2122=\"ﾘｽﾄ2\",H2122,\"\")","v":""},"",{"$f":"IF(S2122=\"該当２\",H2122,\"\")","v":""},{"$f":"IF(S2122=\"\",\"\",COUNTIF($S$7:S2122,\"該当２\"))","v":""},{"$f":"IF(AND($S$2=H2122,E2122>0,E2122<998),\"該当３\",\"\")","v":""},{"$f":"IF(V2122=\"該当３\",I2122,\"\")","v":""},{"$f":"IF(V2122=\"\",\"\",COUNTIF($V$7:V2122,\"該当３\"))","v":""}]
[822202001,8,222,{"v":2,"d":"02"},{"v":1,"d":"001 "},"茨城県","鹿嶋市","中野村","居合",null,"","",{"$f":"IF(K2125=\"\",\"\",COUNTIF($K$7:K2125,\"ﾘｽﾄ１\"))","v":""},"","","","","","","",{"$f":"IF(S2125=\"\",\"\",COUNTIF($S$7:S2125,\"該当２\"))","v":""},"","",{"$f":"IF(V2125=\"\",\"\",COUNTIF($V$7:V2125,\"該当３\"))","v":""}]
[822202006,8,222,{"v":2,"d":"02"},{"v":6,"d":"006 "},"茨城県","鹿嶋市","中野村","小山",null,"","",{"$f":"IF(K2130=\"\",\"\",COUNTIF($K$7:K2130,\"ﾘｽﾄ１\"))","v":""},"","","","","","","",{"$f":"IF(S2130=\"\",\"\",COUNTIF($S$7:S2130,\"該当２\"))","v":""},"","",{"$f":"IF(V2130=\"\",\"\",COUNTIF($V$7:V2130,\"該当３\"))","v":""}]
[822203002,8,222,{"v":3,"d":"03"},{"v":2,"d":"002 "},"茨城県","鹿嶋市","波野村","明石",null,"","",{"$f":"IF(K2133=\"\",\"\",COUNTIF($K$7:K2133,\"ﾘｽﾄ１\"))","v":""},"","","","","","","",{"$f":"IF(S2133=\"\",\"\",COUNTIF($S$7:S2133,\"該当２\"))","v":""},"","",{"$f":"IF(V2133=\"\",\"\",COUNTIF($V$7:V2133,\"該当３\"))","v":""}]
[822203003,8,222,{"v":3,"d":"03"},{"v":3,"d":"003 "},"茨城県","鹿嶋市","波野村","神向寺",null,"","",{"$f":"IF(K2134=\"\",\"\",COUNTIF($K$7:K2134,\"ﾘｽﾄ１\"))","v":""},"","","","","","","",{"$f":"IF(S2134=\"\",\"\",COUNTIF($S$7:S2134,\"該当２\"))","v":""},"","",{"$f":"IF(V2134=\"\",\"\",COUNTIF($V$7:V2134,\"該当３\"))","v":""}]
[822203006,8,222,{"v":3,"d":"03"},{"v":6,"d":"006 "},"茨城県","鹿嶋市","波野村","下津",null,"","",{"$f":"IF(K2137=\"\",\"\",COUNTIF($K$7:K2137,\"ﾘｽﾄ１\"))","v":""},"","","","","","","",{"$f":"IF(S2137=\"\",\"\",COUNTIF($S$7:S2137,\"該当２\"))","v":""},"","",{"$f":"IF(V2137=\"\",\"\",COUNTIF($V$7:V2137,\"該当３\"))","v":""}]
[822204002,8,222,{"v":4,"d":"04"},{"v":2,"d":"002 "},"茨城県","鹿嶋市","豊津村","大船津",null,"","",{"$f":"IF(K2140=\"\",\"\",COUNTIF($K$7:K2140,\"ﾘｽﾄ１\"))","v":""},"","","","","","","",{"$f":"IF(S2140=\"\",\"\",COUNTIF($S$7:S2140,\"該当２\"))","v":""},"","",{"$f":"IF(V2140=\"\",\"\",COUNTIF($V$7:V2140,\"該当３\"))","v":""}]
[822205002,8,222,{"v":5,"d":"05"},{"v":2,"d":"002 "},"茨城県","鹿嶋市","鹿島町","角内，新町",null,"","",{"$f":"IF(K2144=\"\",\"\",COUNTIF($K$7:K2144,\"ﾘｽﾄ１\"))","v":""},"","","","","","","",{"$f":"IF(S2144=\"\",\"\",COUNTIF($S$7:S2144,\"該当２\"))","v":""},"","",{"$f":"IF(V2144=\"\",\"\",COUNTIF($V$7:V2144,\"該当３\"))","v":""}]
[822205004,8,222,{"v":5,"d":"05"},{"v":4,"d":"004 "},"茨城県","鹿嶋市","鹿島町","神野",null,"","",{"$f":"IF(K2146=\"\",\"\",COUNTIF($K$7:K2146,\"ﾘｽﾄ１\"))","v":""},"","","","","","","",{"$f":"IF(S2146=\"\",\"\",COUNTIF($S$7:S2146,\"該当２\"))","v":""},"","",{"$f":"IF(V2146=\"\",\"\",COUNTIF($V$7:V2146,\"該当３\"))","v":""}]
[822206001,8,222,{"v":6,"d":"06"},{"v":1,"d":"001 "},"茨城県","鹿嶋市","高松村","佐田",null,"","",{"$f":"IF(K2152=\"\",\"\",COUNTIF($K$7:K2152,\"ﾘｽﾄ１\"))","v":""},"","","","","","","",{"$f":"IF(S2152=\"\",\"\",COUNTIF($S$7:S2152,\"該当２\"))","v":""},"","",{"$f":"IF(V2152=\"\",\"\",COUNTIF($V$7:V2152,\"該当３\"))","v":""}]
[822206004,8,222,{"v":6,"d":"06"},{"v":4,"d":"004 "},"茨城県","鹿嶋市","高松村","粟生浜",null,"","",{"$f":"IF(K2155=\"\",\"\",COUNTIF($K$7:K2155,\"ﾘｽﾄ１\"))","v":""},"","","","","","","",{"$f":"IF(S2155=\"\",\"\",COUNTIF($S$7:S2155,\"該当２\"))","v":""},"","",{"$f":"IF(V2155=\"\",\"\",COUNTIF($V$7:V2155,\"該当３\"))","v":""}]
[822206009,8,222,{"v":6,"d":"06"},{"v":9,"d":"009 "},"茨城県","鹿嶋市","高松村","谷原",null,"","",{"$f":"IF(K2158=\"\",\"\",COUNTIF($K$7:K2158,\"ﾘｽﾄ１\"))","v":""},"","","","","","","",{"$f":"IF(S2158=\"\",\"\",COUNTIF($S$7:S2158,\"該当２\"))","v":""},"","",{"$f":"IF(V2158=\"\",\"\",COUNTIF($V$7:V2158,\"該当３\"))","v":""}]
[822206010,8,222,{"v":6,"d":"06"},{"v":10,"d":"010 "},"茨城県","鹿嶋市","高松村","鰐川",null,"","",{"$f":"IF(K2159=\"\",\"\",COUNTIF($K$7:K2159,\"ﾘｽﾄ１\"))","v":""},"","","","","","","",{"$f":"IF(S2159=\"\",\"\",COUNTIF($S$7:S2159,\"該当２\"))","v":""},"","",{"$f":"IF(V2159=\"\",\"\",COUNTIF($V$7:V2159,\"該当３\"))","v":""}]
[822206013,8,222,{"v":6,"d":"06"},{"v":13,"d":"013 "},"茨城県","鹿嶋市","高松村","粟生",null,"","",{"$f":"IF(K2162=\"\",\"\",COUNTIF($K$7:K2162,\"ﾘｽﾄ１\"))","v":""},"","","","","","","",{"$f":"IF(S2162=\"\",\"\",COUNTIF($S$7:S2162,\"該当２\"))","v":""},"","",{"$f":"IF(V2162=\"\",\"\",COUNTIF($V$7:V2162,\"該当３\"))","v":""}]
[822207003,8,222,{"v":7,"d":"07"},{"v":3,"d":"003 "},"茨城県","鹿嶋市","豊郷村","田谷，神領，清水新田",null,"","",{"$f":"IF(K2167=\"\",\"\",COUNTIF($K$7:K2167,\"ﾘｽﾄ１\"))","v":""},"","","","","","","",{"$f":"IF(S2167=\"\",\"\",COUNTIF($S$7:S2167,\"該当２\"))","v":""},"","",{"$f":"IF(V2167=\"\",\"\",COUNTIF($V$7:V2167,\"該当３\"))","v":""}]
[822300000,8,223,{"v":0,"d":"00"},{"v":0,"d":"000 "},"茨城県","潮来市",{"$nulls":3},"ﾘｽﾄ１","潮来市",{"$f":"IF(K2170=\"\",\"\",COUNTIF($K$7:K2170,\"ﾘｽﾄ１\"))","v":19},"","","","","","","",{"$f":"IF(S2170=\"\",\"\",COUNTIF($S$7:S2170,\"該当２\"))","v":""},"","",{"$f":"IF(V2170=\"\",\"\",COUNTIF($V$7:V2170,\"該当３\"))","v":""}]
[822301002,8,223,{"v":1,"d":"01"},{"v":2,"d":"002 "},"茨城県","潮来市","潮来町","十番",null,"","",{"$f":"IF(K2173=\"\",\"\",COUNTIF($K$7:K2173,\"ﾘｽﾄ１\"))","v":""},"","","","","","","",{"$f":"IF(S2173=\"\",\"\",COUNTIF($S$7:S2173,\"該当２\"))","v":""},"","",{"$f":"IF(V2173=\"\",\"\",COUNTIF($V$7:V2173,\"該当３\"))","v":""}]
[822301006,8,223,{"v":1,"d":"01"},{"v":6,"d":"006 "},"茨城県","潮来市","潮来町","七軒丁",null,"","",{"$f":"IF(K2177=\"\",\"\",COUNTIF($K$7:K2177,\"ﾘｽﾄ１\"))","v":""},"","","","","","","",{"$f":"IF(S2177=\"\",\"\",COUNTIF($S$7:S2177,\"該当２\"))","v":""},"","",{"$f":"IF(V2177=\"\",\"\",COUNTIF($V$7:V2177,\"該当３\"))","v":""}]
[822301009,8,223,{"v":1,"d":"01"},{"v":9,"d":"009 "},"茨城県","潮来市","潮来町","五丁目",null,"","",{"$f":"IF(K2180=\"\",\"\",COUNTIF($K$7:K2180,\"ﾘｽﾄ１\"))","v":""},"","","","","","","",{"$f":"IF(S2180=\"\",\"\",COUNTIF($S$7:S2180,\"該当２\"))","v":""},"","",{"$f":"IF(V2180=\"\",\"\",COUNTIF($V$7:V2180,\"該当３\"))","v":""}]
[822301012,8,223,{"v":1,"d":"01"},{"v":12,"d":"012 "},"茨城県","潮来市","潮来町","二丁目",null,"","",{"$f":"IF(K2183=\"\",\"\",COUNTIF($K$7:K2183,\"ﾘｽﾄ１\"))","v":""},"","","","","","","",{"$f":"IF(S2183=\"\",\"\",COUNTIF($S$7:S2183,\"該当２\"))","v":""},"","",{"$f":"IF(V2183=\"\",\"\",COUNTIF($V$7:V2183,\"該当３\"))","v":""}]
[822301013,8,223,{"v":1,"d":"01"},{"v":13,"d":"013 "},"茨城県","潮来市","潮来町","下丁",null,"","",{"$f":"IF(K2184=\"\",\"\",COUNTIF($K$7:K2184,\"ﾘｽﾄ１\"))","v":""},"","","","","","","",{"$f":"IF(S2184=\"\",\"\",COUNTIF($S$7:S2184,\"該当２\"))","v":""},"","",{"$f":"IF(V2184=\"\",\"\",COUNTIF($V$7:V2184,\"該当３\"))","v":""}]
[822302001,8,223,{"v":2,"d":"02"},{"v":1,"d":"001 "},"茨城県","潮来市","津知村","新町",null,"","",{"$f":"IF(K2188=\"\",\"\",COUNTIF($K$7:K2188,\"ﾘｽﾄ１\"))","v":""},"","","","","","","",{"$f":"IF(S2188=\"\",\"\",COUNTIF($S$7:S2188,\"該当２\"))","v":""},"","",{"$f":"IF(V2188=\"\",\"\",COUNTIF($V$7:V2188,\"該当３\"))","v":""}]
[822302005,8,223,{"v":2,"d":"02"},{"v":5,"d":"005 "},"茨城県","潮来市","津知村","貝塚",null,"","",{"$f":"IF(K2192=\"\",\"\",COUNTIF($K$7:K2192,\"ﾘｽﾄ１\"))","v":""},"","","","","","","",{"$f":"IF(S2192=\"\",\"\",COUNTIF($S$7:S2192,\"該当２\"))","v":""},"","",{"$f":"IF(V2192=\"\",\"\",COUNTIF($V$7:V2192,\"該当３\"))","v":""}]
[822303001,8,223,{"v":3,"d":"03"},{"v":1,"d":"001 "},"茨城県","潮来市","延方村","古高",null,"","",{"$f":"IF(K2195=\"\",\"\",COUNTIF($K$7:K2195,\"ﾘｽﾄ１\"))","v":""},"","","","","","","",{"$f":"IF(S2195=\"\",\"\",COUNTIF($S$7:S2195,\"該当２\"))","v":""},"","",{"$f":"IF(V2195=\"\",\"\",COUNTIF($V$7:V2195,\"該当３\"))","v":""}]
[822303004,8,223,{"v":3,"d":"03"},{"v":4,"d":"004 "},"茨城県","潮来市","延方村","洲崎",null,"","",{"$f":"IF(K2198=\"\",\"\",COUNTIF($K$7:K2198,\"ﾘｽﾄ１\"))","v":""},"","","","","","","",{"$f":"IF(S2198=\"\",\"\",COUNTIF($S$7:S2198,\"該当２\"))","v":""},"","",{"$f":"IF(V2198=\"\",\"\",COUNTIF($V$7:V2198,\"該当３\"))","v":""}]
[822303008,8,223,{"v":3,"d":"03"},{"v":8,"d":"008 "},"茨城県","潮来市","延方村","曲松",null,"","",{"$f":"IF(K2202=\"\",\"\",COUNTIF($K$7:K2202,\"ﾘｽﾄ１\"))","v":""},"","","","","","","",{"$f":"IF(S2202=\"\",\"\",COUNTIF($S$7:S2202,\"該当２\"))","v":""},"","",{"$f":"IF(V2202=\"\",\"\",COUNTIF($V$7:V2202,\"該当３\"))","v":""}]
[822303011,8,223,{"v":3,"d":"03"},{"v":11,"d":"011 "},"茨城県","潮来市","延方村","米島",null,"","",{"$f":"IF(K2205=\"\",\"\",COUNTIF($K$7:K2205,\"ﾘｽﾄ１\"))","v":""},"","","","","","","",{"$f":"IF(S2205=\"\",\"\",COUNTIF($S$7:S2205,\"該当２\"))","v":""},"","",{"$f":"IF(V2205=\"\",\"\",COUNTIF($V$7:V2205,\"該当３\"))","v":""}]
[822304001,8,223,{"v":4,"d":"04"},{"v":1,"d":"001 "},"茨城県","潮来市","大生原村","水原",null,"","",{"$f":"IF(K2209=\"\",\"\",COUNTIF($K$7:K2209,\"ﾘｽﾄ１\"))","v":""},"","","","","","","",{"$f":"IF(S2209=\"\",\"\",COUNTIF($S$7:S2209,\"該当２\"))","v":""},"","",{"$f":"IF(V2209=\"\",\"\",COUNTIF($V$7:V2209,\"該当３\"))","v":""}]
[822304002,8,223,{"v":4,"d":"04"},{"v":2,"d":"002 "},"茨城県","潮来市","大生原村","釜谷",null,"","",{"$f":"IF(K2210=\"\",\"\",COUNTIF($K$7:K2210,\"ﾘｽﾄ１\"))","v":""},"","","","","","","",{"$f":"IF(S2210=\"\",\"\",COUNTIF($S$7:S2210,\"該当２\"))","v":""},"","",{"$f":"IF(V2210=\"\",\"\",COUNTIF($V$7:V2210,\"該当３\"))","v":""}]
[822305000,8,223,{"v":5,"d":"05"},{"v":0,"d":"000 "},"茨城県","潮来市","八代村",null,null,"","",{"$f":"IF(K2213=\"\",\"\",COUNTIF($K$7:K2213,\"ﾘｽﾄ１\"))","v":""},"","","","","","","",{"$f":"IF(S2213=\"\",\"\",COUNTIF($S$7:S2213,\"該当２\"))","v":""},"","",{"$f":"IF(V2213=\"\",\"\",COUNTIF($V$7:V2213,\"該当３\"))","v":""}]
[822305004,8,223,{"v":5,"d":"05"},{"v":4,"d":"004 "},"茨城県","潮来市","八代村","横須賀",null,"","",{"$f":"IF(K2217=\"\",\"\",COUNTIF($K$7:K2217,\"ﾘｽﾄ１\"))","v":""},"","","","","","","",{"$f":"IF(S2217=\"\",\"\",COUNTIF($S$7:S2217,\"該当２\"))","v":""},"","",{"$f":"IF(V2217=\"\",\"\",COUNTIF($V$7:V2217,\"該当３\"))","v":""}]
[822306000,8,223,{"v":6,"d":"06"},{"v":0,"d":"000 "},"茨城県","潮来市","香澄村",null,null,"","",{"$f":"IF(K2220=\"\",\"\",COUNTIF($K$7:K2220,\"ﾘｽﾄ１\"))","v":""},"","","","","","","",{"$f":"IF(S2220=\"\",\"\",COUNTIF($S$7:S2220,\"該当２\"))","v":""},"","",{"$f":"IF(V2220=\"\",\"\",COUNTIF($V$7:V2220,\"該当３\"))","v":""}]
[822306003,8,223,{"v":6,"d":"06"},{"v":3,"d":"003 "},"茨城県","潮来市","香澄村","堀之内",null,"","",{"$f":"IF(K2223=\"\",\"\",COUNTIF($K$7:K2223,\"ﾘｽﾄ１\"))","v":""},"","","","","","","",{"$f":"IF(S2223=\"\",\"\",COUNTIF($S$7:S2223,\"該当２\"))","v":""},"","",{"$f":"IF(V2223=\"\",\"\",COUNTIF($V$7:V2223,\"該当３\"))","v":""}]
[822400000,8,224,{"v":0,"d":"00"},{"v":0,"d":"000 "},"茨城県","守谷市",{"$nulls":3},"ﾘｽﾄ１","守谷市",{"$f":"IF(K2226=\"\",\"\",COUNTIF($K$7:K2226,\"ﾘｽﾄ１\"))","v":20},"","","","","","","",{"$f":"IF(S2226=\"\",\"\",COUNTIF($S$7:S2226,\"該当２\"))","v":""},"","",{"$f":"IF(V2226=\"\",\"\",COUNTIF($V$7:V2226,\"該当３\"))","v":""}]
[822401004,8,224,{"v":1,"d":"01"},{"v":4,"d":"004 "},"茨城県","守谷市","守谷町","守谷３",null,"","",{"$f":"IF(K2231=\"\",\"\",COUNTIF($K$7:K2231,\"ﾘｽﾄ１\"))","v":""},"","","","","","","",{"$f":"IF(S2231=\"\",\"\",COUNTIF($S$7:S2231,\"該当２\"))","v":""},"","",{"$f":"IF(V2231=\"\",\"\",COUNTIF($V$7:V2231,\"該当３\"))","v":""}]
[822402001,8,224,{"v":2,"d":"02"},{"v":1,"d":"001 "},"茨城県","守谷市","大野村","上坪",null,"","",{"$f":"IF(K2234=\"\",\"\",COUNTIF($K$7:K2234,\"ﾘｽﾄ１\"))","v":""},"","","","","","","",{"$f":"IF(S2234=\"\",\"\",COUNTIF($S$7:S2234,\"該当２\"))","v":""},"","",{"$f":"IF(V2234=\"\",\"\",COUNTIF($V$7:V2234,\"該当３\"))","v":""}]
[822402002,8,224,{"v":2,"d":"02"},{"v":2,"d":"002 "},"茨城県","守谷市","大野村","角釜，辺田前",null,"","",{"$f":"IF(K2235=\"\",\"\",COUNTIF($K$7:K2235,\"ﾘｽﾄ１\"))","v":""},"","","","","","","",{"$f":"IF(S2235=\"\",\"\",COUNTIF($S$7:S2235,\"該当２\"))","v":""},"","",{"$f":"IF(V2235=\"\",\"\",COUNTIF($V$7:V2235,\"該当３\"))","v":""}]
[822402005,8,224,{"v":2,"d":"02"},{"v":5,"d":"005 "},"茨城県","守谷市","大野村","大柏新田",null,"","",{"$f":"IF(K2238=\"\",\"\",COUNTIF($K$7:K2238,\"ﾘｽﾄ１\"))","v":""},"","","","","","","",{"$f":"IF(S2238=\"\",\"\",COUNTIF($S$7:S2238,\"該当２\"))","v":""},"","",{"$f":"IF(V2238=\"\",\"\",COUNTIF($V$7:V2238,\"該当３\"))","v":""}]
[822403001,8,224,{"v":3,"d":"03"},{"v":1,"d":"001 "},"茨城県","守谷市","大井沢村","立沢",null,"","",{"$f":"IF(K2242=\"\",\"\",COUNTIF($K$7:K2242,\"ﾘｽﾄ１\"))","v":""},"","","","","","","",{"$f":"IF(S2242=\"\",\"\",COUNTIF($S$7:S2242,\"該当２\"))","v":""},"","",{"$f":"IF(V2242=\"\",\"\",COUNTIF($V$7:V2242,\"該当３\"))","v":""}]
[822404000,8,224,{"v":4,"d":"04"},{"v":0,"d":"000 "},"茨城県","守谷市","高野村",null,null,"","",{"$f":"IF(K2247=\"\",\"\",COUNTIF($K$7:K2247,\"ﾘｽﾄ１\"))","v":""},"","","","","","","",{"$f":"IF(S2247=\"\",\"\",COUNTIF($S$7:S2247,\"該当２\"))","v":""},"","",{"$f":"IF(V2247=\"\",\"\",COUNTIF($V$7:V2247,\"該当３\"))","v":""}]
[822404002,8,224,{"v":4,"d":"04"},{"v":2,"d":"002 "},"茨城県","守谷市","高野村","本宿",null,"","",{"$f":"IF(K2249=\"\",\"\",COUNTIF($K$7:K2249,\"ﾘｽﾄ１\"))","v":""},"","","","","","","",{"$f":"IF(S2249=\"\",\"\",COUNTIF($S$7:S2249,\"該当２\"))","v":""},"","",{"$f":"IF(V2249=\"\",\"\",COUNTIF($V$7:V2249,\"該当３\"))","v":""}]
[822404006,8,224,{"v":4,"d":"04"},{"v":6,"d":"006 "},"茨城県","守谷市","高野村","乙子",null,"","",{"$f":"IF(K2253=\"\",\"\",COUNTIF($K$7:K2253,\"ﾘｽﾄ１\"))","v":""},"","","","","","","",{"$f":"IF(S2253=\"\",\"\",COUNTIF($S$7:S2253,\"該当２\"))","v":""},"","",{"$f":"IF(V2253=\"\",\"\",COUNTIF($V$7:V2253,\"該当３\"))","v":""}]
[822500000,8,225,{"v":0,"d":"00"},{"v":0,"d":"000 "},"茨城県","常陸大宮市",{"$nulls":3},"ﾘｽﾄ１","常陸大宮市",{"$f":"IF(K2256=\"\",\"\",COUNTIF($K$7:K2256,\"ﾘｽﾄ１\"))","v":21},"","","","","","","",{"$f":"IF(S2256=\"\",\"\",COUNTIF($S$7:S2256,\"該当２\"))","v":""},"","",{"$f":"IF(V2256=\"\",\"\",COUNTIF($V$7:V2256,\"該当３\"))","v":""}]
[822501000,8,225,{"v":1,"d":"01"},{"v":0,"d":"000 "},"茨城県","常陸大宮市","大宮町",null,null,"","",{"$f":"IF(K2257=\"\",\"\",COUNTIF($K$7:K2257,\"ﾘｽﾄ１\"))","v":""},"","","","","","","",{"$f":"IF(S2257=\"\",\"\",COUNTIF($S$7:S2257,\"該当２\"))","v":""},"","",{"$f":"IF(V2257=\"\",\"\",COUNTIF($V$7:V2257,\"該当３\"))","v":""}]
[822502000,8,225,{"v":2,"d":"02"},{"v":0,"d":"000 "},"茨城県","常陸大宮市","大賀村",null,null,"","",{"$f":"IF(K2260=\"\",\"\",COUNTIF($K$7:K2260,\"ﾘｽﾄ１\"))","v":""},"","","","","","","",{"$f":"IF(S2260=\"\",\"\",COUNTIF($S$7:S2260,\"該当２\"))","v":""},"","",{"$f":"IF(V2260=\"\",\"\",COUNTIF($V$7:V2260,\"該当３\"))","v":""}]
[822502003,8,225,{"v":2,"d":"02"},{"v":3,"d":"003 "},"茨城県","常陸大宮市","大賀村","小祝",null,"","",{"$f":"IF(K2263=\"\",\"\",COUNTIF($K$7:K2263,\"ﾘｽﾄ１\"))","v":""},"","","","","","","",{"$f":"IF(S2263=\"\",\"\",COUNTIF($S$7:S2263,\"該当２\"))","v":""},"","",{"$f":"IF(V2263=\"\",\"\",COUNTIF($V$7:V2263,\"該当３\"))","v":""}]
[822503003,8,225,{"v":3,"d":"03"},{"v":3,"d":"003 "},"茨城県","常陸大宮市","世喜村２－１","小倉",null,"","",{"$f":"IF(K2268=\"\",\"\",COUNTIF($K$7:K2268,\"ﾘｽﾄ１\"))","v":""},"","","","","","","",{"$f":"IF(S2268=\"\",\"\",COUNTIF($S$7:S2268,\"該当２\"))","v":""},"","",{"$f":"IF(V2268=\"\",\"\",COUNTIF($V$7:V2268,\"該当３\"))","v":""}]
[822504001,8,225,{"v":4,"d":"04"},{"v":1,"d":"001 "},"茨城県","常陸大宮市","上野村（常陸大宮市）","宇留野",null,"","",{"$f":"IF(K2271=\"\",\"\",COUNTIF($K$7:K2271,\"ﾘｽﾄ１\"))","v":""},"","","","","","","",{"$f":"IF(S2271=\"\",\"\",COUNTIF($S$7:S2271,\"該当２\"))","v":""},"","",{"$f":"IF(V2271=\"\",\"\",COUNTIF($V$7:V2271,\"該当３\"))","v":""}]
[822504004,8,225,{"v":4,"d":"04"},{"v":4,"d":"004 "},"茨城県","常陸大宮市","上野村（常陸大宮市）","上岩瀬",null,"","",{"$f":"IF(K2274=\"\",\"\",COUNTIF($K$7:K2274,\"ﾘｽﾄ１\"))","v":""},"","","","","","","",{"$f":"IF(S2274=\"\",\"\",COUNTIF($S$7:S2274,\"該当２\"))","v":""},"","",{"$f":"IF(V2274=\"\",\"\",COUNTIF($V$7:V2274,\"該当３\"))","v":""}]
[822505002,8,225,{"v":5,"d":"05"},{"v":2,"d":"002 "},"茨城県","常陸大宮市","静村２－１","上村田",null,"","",{"$f":"IF(K2278=\"\",\"\",COUNTIF($K$7:K2278,\"ﾘｽﾄ１\"))","v":""},"","","","","","","",{"$f":"IF(S2278=\"\",\"\",COUNTIF($S$7:S2278,\"該当２\"))","v":""},"","",{"$f":"IF(V2278=\"\",\"\",COUNTIF($V$7:V2278,\"該当３\"))","v":""}]
[822506001,8,225,{"v":6,"d":"06"},{"v":1,"d":"001 "},"茨城県","常陸大宮市","大場村（常陸大宮市）","三美",null,"","",{"$f":"IF(K2281=\"\",\"\",COUNTIF($K$7:K2281,\"ﾘｽﾄ１\"))","v":""},"","","","","","","",{"$f":"IF(S2281=\"\",\"\",COUNTIF($S$7:S2281,\"該当２\"))","v":""},"","",{"$f":"IF(V2281=\"\",\"\",COUNTIF($V$7:V2281,\"該当３\"))","v":""}]
[822506002,8,225,{"v":6,"d":"06"},{"v":2,"d":"002 "},"茨城県","常陸大宮市","大場村（常陸大宮市）","小野",null,"","",{"$f":"IF(K2282=\"\",\"\",COUNTIF($K$7:K2282,\"ﾘｽﾄ１\"))","v":""},"","","","","","","",{"$f":"IF(S2282=\"\",\"\",COUNTIF($S$7:S2282,\"該当２\"))","v":""},"","",{"$f":"IF(V2282=\"\",\"\",COUNTIF($V$7:V2282,\"該当３\"))","v":""}]
[822507001,8,225,{"v":7,"d":"07"},{"v":1,"d":"001 "},"茨城県","常陸大宮市","塩田村２－２","照田",null,"","",{"$f":"IF(K2285=\"\",\"\",COUNTIF($K$7:K2285,\"ﾘｽﾄ１\"))","v":""},"","","","","","","",{"$f":"IF(S2285=\"\",\"\",COUNTIF($S$7:S2285,\"該当２\"))","v":""},"","",{"$f":"IF(V2285=\"\",\"\",COUNTIF($V$7:V2285,\"該当３\"))","v":""}]
[822508001,8,225,{"v":8,"d":"08"},{"v":1,"d":"001 "},"茨城県","常陸大宮市","玉川村（常陸大宮市）","東野",null,"","",{"$f":"IF(K2289=\"\",\"\",COUNTIF($K$7:K2289,\"ﾘｽﾄ１\"))","v":""},"","","","","","","",{"$f":"IF(S2289=\"\",\"\",COUNTIF($S$7:S2289,\"該当２\"))","v":""},"","",{"$f":"IF(V2289=\"\",\"\",COUNTIF($V$7:V2289,\"該当３\"))","v":""}]
[822509001,8,225,{"v":9,"d":"09"},{"v":1,"d":"001 "},"茨城県","常陸大宮市","伊勢畑村","下伊勢畑一",null,"","",{"$f":"IF(K2293=\"\",\"\",COUNTIF($K$7:K2293,\"ﾘｽﾄ１\"))","v":""},"","","","","","","",{"$f":"IF(S2293=\"\",\"\",COUNTIF($S$7:S2293,\"該当２\"))","v":""},"","",{"$f":"IF(V2293=\"\",\"\",COUNTIF($V$7:V2293,\"該当３\"))","v":""}]
[822509004,8,225,{"v":9,"d":"09"},{"v":4,"d":"004 "},"茨城県","常陸大宮市","伊勢畑村","相川",null,"","",{"$f":"IF(K2296=\"\",\"\",COUNTIF($K$7:K2296,\"ﾘｽﾄ１\"))","v":""},"","","","","","","",{"$f":"IF(S2296=\"\",\"\",COUNTIF($S$7:S2296,\"該当２\"))","v":""},"","",{"$f":"IF(V2296=\"\",\"\",COUNTIF($V$7:V2296,\"該当３\"))","v":""}]
[822509007,8,225,{"v":9,"d":"09"},{"v":7,"d":"007 "},"茨城県","常陸大宮市","伊勢畑村","檜山",null,"","",{"$f":"IF(K2299=\"\",\"\",COUNTIF($K$7:K2299,\"ﾘｽﾄ１\"))","v":""},"","","","","","","",{"$f":"IF(S2299=\"\",\"\",COUNTIF($S$7:S2299,\"該当２\"))","v":""},"","",{"$f":"IF(V2299=\"\",\"\",COUNTIF($V$7:V2299,\"該当３\"))","v":""}]
[822510003,8,225,10,{"v":3,"d":"003 "},"茨城県","常陸大宮市","野口村","野口一",null,"","",{"$f":"IF(K2303=\"\",\"\",COUNTIF($K$7:K2303,\"ﾘｽﾄ１\"))","v":""},"","","","","","","",{"$f":"IF(S2303=\"\",\"\",COUNTIF($S$7:S2303,\"該当２\"))","v":""},"","",{"$f":"IF(V2303=\"\",\"\",COUNTIF($V$7:V2303,\"該当３\"))","v":""}]
[822511000,8,225,11,{"v":0,"d":"000 "},"茨城県","常陸大宮市","長倉村",null,null,"","",{"$f":"IF(K2306=\"\",\"\",COUNTIF($K$7:K2306,\"ﾘｽﾄ１\"))","v":""},"","","","","","","",{"$f":"IF(S2306=\"\",\"\",COUNTIF($S$7:S2306,\"該当２\"))","v":""},"","",{"$f":"IF(V2306=\"\",\"\",COUNTIF($V$7:V2306,\"該当３\"))","v":""}]
[822511004,8,225,11,{"v":4,"d":"004 "},"茨城県","常陸大宮市","長倉村","長倉",null,"","",{"$f":"IF(K2310=\"\",\"\",COUNTIF($K$7:K2310,\"ﾘｽﾄ１\"))","v":""},"","","","","","","",{"$f":"IF(S2310=\"\",\"\",COUNTIF($S$7:S2310,\"該当２\"))","v":""},"","",{"$f":"IF(V2310=\"\",\"\",COUNTIF($V$7:V2310,\"該当３\"))","v":""}]
[822511005,8,225,11,{"v":5,"d":"005 "},"茨城県","常陸大宮市","長倉村","金井",null,"","",{"$f":"IF(K2311=\"\",\"\",COUNTIF($K$7:K2311,\"ﾘｽﾄ１\"))","v":""},"","","","","","","",{"$f":"IF(S2311=\"\",\"\",COUNTIF($S$7:S2311,\"該当２\"))","v":""},"","",{"$f":"IF(V2311=\"\",\"\",COUNTIF($V$7:V2311,\"該当３\"))","v":""}]
[822512002,8,225,12,{"v":2,"d":"002 "},"茨城県","常陸大宮市","山方町","北皆沢",null,"","",{"$f":"IF(K2314=\"\",\"\",COUNTIF($K$7:K2314,\"ﾘｽﾄ１\"))","v":""},"","",{"$f":"IF(O2314=\"該当１\",G2314,\"\")","v":""},{"$f":"IF(O2314=\"該当１\",\"ﾘｽﾄ2\",\"\")","v":""},{"$f":"IF(Q2314=\"ﾘｽﾄ2\",H2314,\"\")","v":""},"",{"$f":"IF(S2314=\"該当２\",H2314,\"\")","v":""},{"$f":"IF(S2314=\"\",\"\",COUNTIF($S$7:S2314,\"該当２\"))","v":""},{"$f":"IF(AND($S$2=H2314,E2314>0,E2314<998),\"該当３\",\"\")","v":""},{"$f":"IF(V2314=\"該当３\",I2314,\"\")","v":""},{"$f":"IF(V2314=\"\",\"\",COUNTIF($V$7:V2314,\"該当３\"))","v":""}]
[822512006,8,225,12,{"v":6,"d":"006 "},"茨城県","常陸大宮市","山方町","台の内",null,"","",{"$f":"IF(K2318=\"\",\"\",COUNTIF($K$7:K2318,\"ﾘｽﾄ１\"))","v":""},"","","","","","","",{"$f":"IF(S2318=\"\",\"\",COUNTIF($S$7:S2318,\"該当２\"))","v":""},"","",{"$f":"IF(V2318=\"\",\"\",COUNTIF($V$7:V2318,\"該当３\"))","v":""}]
[822512009,8,225,12,{"v":9,"d":"009 "},"茨城県","常陸大宮市","山方町","南皆沢",null,"","",{"$f":"IF(K2321=\"\",\"\",COUNTIF($K$7:K2321,\"ﾘｽﾄ１\"))","v":""},"","","","","","","",{"$f":"IF(S2321=\"\",\"\",COUNTIF($S$7:S2321,\"該当２\"))","v":""},"","",{"$f":"IF(V2321=\"\",\"\",COUNTIF($V$7:V2321,\"該当３\"))","v":""}]
[822513001,8,225,13,{"v":1,"d":"001 "},"茨城県","常陸大宮市","世喜村２－２","小貫",null,"","",{"$f":"IF(K2325=\"\",\"\",COUNTIF($K$7:K2325,\"ﾘｽﾄ１\"))","v":""},"","","","","","","",{"$f":"IF(S2325=\"\",\"\",COUNTIF($S$7:S2325,\"該当２\"))","v":""},"","",{"$f":"IF(V2325=\"\",\"\",COUNTIF($V$7:V2325,\"該当３\"))","v":""}]
[822513003,8,225,13,{"v":3,"d":"003 "},"茨城県","常陸大宮市","世喜村２－２","照山中部",null,"","",{"$f":"IF(K2327=\"\",\"\",COUNTIF($K$7:K2327,\"ﾘｽﾄ１\"))","v":""},"","","","","","","",{"$f":"IF(S2327=\"\",\"\",COUNTIF($S$7:S2327,\"該当２\"))","v":""},"","",{"$f":"IF(V2327=\"\",\"\",COUNTIF($V$7:V2327,\"該当３\"))","v":""}]
[822514003,8,225,14,{"v":3,"d":"003 "},"茨城県","常陸大宮市","塩田村２－１","長沢",null,"","",{"$f":"IF(K2332=\"\",\"\",COUNTIF($K$7:K2332,\"ﾘｽﾄ１\"))","v":""},"","","","","","","",{"$f":"IF(S2332=\"\",\"\",COUNTIF($S$7:S2332,\"該当２\"))","v":""},"","",{"$f":"IF(V2332=\"\",\"\",COUNTIF($V$7:V2332,\"該当３\"))","v":""}]
[822515000,8,225,15,{"v":0,"d":"000 "},"茨城県","常陸大宮市","諸富野村２－１",null,null,"","",{"$f":"IF(K2333=\"\",\"\",COUNTIF($K$7:K2333,\"ﾘｽﾄ１\"))","v":""},"","","","","","","",{"$f":"IF(S2333=\"\",\"\",COUNTIF($S$7:S2333,\"該当２\"))","v":""},"","",{"$f":"IF(V2333=\"\",\"\",COUNTIF($V$7:V2333,\"該当３\"))","v":""}]
[822515003,8,225,15,{"v":3,"d":"003 "},"茨城県","常陸大宮市","諸富野村２－１","諸沢三区",null,"","",{"$f":"IF(K2336=\"\",\"\",COUNTIF($K$7:K2336,\"ﾘｽﾄ１\"))","v":""},"","","","","","","",{"$f":"IF(S2336=\"\",\"\",COUNTIF($S$7:S2336,\"該当２\"))","v":""},"","",{"$f":"IF(V2336=\"\",\"\",COUNTIF($V$7:V2336,\"該当３\"))","v":""}]
[822515006,8,225,15,{"v":6,"d":"006 "},"茨城県","常陸大宮市","諸富野村２－１","西野内一区",null,"","",{"$f":"IF(K2339=\"\",\"\",COUNTIF($K$7:K2339,\"ﾘｽﾄ１\"))","v":""},"","","","","","","",{"$f":"IF(S2339=\"\",\"\",COUNTIF($S$7:S2339,\"該当２\"))","v":""},"","",{"$f":"IF(V2339=\"\",\"\",COUNTIF($V$7:V2339,\"該当３\"))","v":""}]
[822516001,8,225,16,{"v":1,"d":"001 "},"茨城県","常陸大宮市","下小川村２－１","高井釣",null,"","",{"$f":"IF(K2343=\"\",\"\",COUNTIF($K$7:K2343,\"ﾘｽﾄ１\"))","v":""},"","","","","","","",{"$f":"IF(S2343=\"\",\"\",COUNTIF($S$7:S2343,\"該当２\"))","v":""},"","",{"$f":"IF(V2343=\"\",\"\",COUNTIF($V$7:V2343,\"該当３\"))","v":""}]
[822516006,8,225,16,{"v":6,"d":"006 "},"茨城県","常陸大宮市","下小川村２－１","家和楽",null,"","",{"$f":"IF(K2348=\"\",\"\",COUNTIF($K$7:K2348,\"ﾘｽﾄ１\"))","v":""},"","","","","","","",{"$f":"IF(S2348=\"\",\"\",COUNTIF($S$7:S2348,\"該当２\"))","v":""},"","",{"$f":"IF(V2348=\"\",\"\",COUNTIF($V$7:V2348,\"該当３\"))","v":""}]
[822517002,8,225,17,{"v":2,"d":"002 "},"茨城県","常陸大宮市","桧沢村","下檜沢",null,"","",{"$f":"IF(K2351=\"\",\"\",COUNTIF($K$7:K2351,\"ﾘｽﾄ１\"))","v":""},"","","","","","","",{"$f":"IF(S2351=\"\",\"\",COUNTIF($S$7:S2351,\"該当２\"))","v":""},"","",{"$f":"IF(V2351=\"\",\"\",COUNTIF($V$7:V2351,\"該当３\"))","v":""}]
[822518001,8,225,18,{"v":1,"d":"001 "},"茨城県","常陸大宮市","嶐郷村","鷲子",null,"","",{"$f":"IF(K2354=\"\",\"\",COUNTIF($K$7:K2354,\"ﾘｽﾄ１\"))","v":""},"","","","","","","",{"$f":"IF(S2354=\"\",\"\",COUNTIF($S$7:S2354,\"該当２\"))","v":""},"","",{"$f":"IF(V2354=\"\",\"\",COUNTIF($V$7:V2354,\"該当３\"))","v":""}]
[822519000,8,225,19,{"v":0,"d":"000 "},"茨城県","常陸大宮市","小瀬村",null,null,"","",{"$f":"IF(K2357=\"\",\"\",COUNTIF($K$7:K2357,\"ﾘｽﾄ１\"))","v":""},"","","","","","","",{"$f":"IF(S2357=\"\",\"\",COUNTIF($S$7:S2357,\"該当２\"))","v":""},"","",{"$f":"IF(V2357=\"\",\"\",COUNTIF($V$7:V2357,\"該当３\"))","v":""}]
[822519001,8,225,19,{"v":1,"d":"001 "},"茨城県","常陸大宮市","小瀬村","西根",null,"","",{"$f":"IF(K2358=\"\",\"\",COUNTIF($K$7:K2358,\"ﾘｽﾄ１\"))","v":""},"","","","","","","",{"$f":"IF(S2358=\"\",\"\",COUNTIF($S$7:S2358,\"該当２\"))","v":""},"","",{"$f":"IF(V2358=\"\",\"\",COUNTIF($V$7:V2358,\"該当３\"))","v":""}]
[822519004,8,225,19,{"v":4,"d":"004 "},"茨城県","常陸大宮市","小瀬村","宿",null,"","",{"$f":"IF(K2361=\"\",\"\",COUNTIF($K$7:K2361,\"ﾘｽﾄ１\"))","v":""},"","","","","","","",{"$f":"IF(S2361=\"\",\"\",COUNTIF($S$7:S2361,\"該当２\"))","v":""},"","",{"$f":"IF(V2361=\"\",\"\",COUNTIF($V$7:V2361,\"該当３\"))","v":""}]
[822519008,8,225,19,{"v":8,"d":"008 "},"茨城県","常陸大宮市","小瀬村","国長",null,"","",{"$f":"IF(K2365=\"\",\"\",COUNTIF($K$7:K2365,\"ﾘｽﾄ１\"))","v":""},"","","","","","","",{"$f":"IF(S2365=\"\",\"\",COUNTIF($S$7:S2365,\"該当２\"))","v":""},"","",{"$f":"IF(V2365=\"\",\"\",COUNTIF($V$7:V2365,\"該当３\"))","v":""}]
[822520002,8,225,20,{"v":2,"d":"002 "},"茨城県","常陸大宮市","八里村","小舟",null,"","",{"$f":"IF(K2369=\"\",\"\",COUNTIF($K$7:K2369,\"ﾘｽﾄ１\"))","v":""},"","","","","","","",{"$f":"IF(S2369=\"\",\"\",COUNTIF($S$7:S2369,\"該当２\"))","v":""},"","",{"$f":"IF(V2369=\"\",\"\",COUNTIF($V$7:V2369,\"該当３\"))","v":""}]
[822520005,8,225,20,{"v":5,"d":"005 "},"茨城県","常陸大宮市","八里村","小瀬沢",null,"","",{"$f":"IF(K2372=\"\",\"\",COUNTIF($K$7:K2372,\"ﾘｽﾄ１\"))","v":""},"","","","","","","",{"$f":"IF(S2372=\"\",\"\",COUNTIF($S$7:S2372,\"該当２\"))","v":""},"","",{"$f":"IF(V2372=\"\",\"\",COUNTIF($V$7:V2372,\"該当３\"))","v":""}]
[822600000,8,226,{"v":0,"d":"00"},{"v":0,"d":"000 "},"茨城県","那珂市",{"$nulls":3},"ﾘｽﾄ１","那珂市",{"$f":"IF(K2376=\"\",\"\",COUNTIF($K$7:K2376,\"ﾘｽﾄ１\"))","v":22},"","","","","","","",{"$f":"IF(S2376=\"\",\"\",COUNTIF($S$7:S2376,\"該当２\"))","v":""},"","",{"$f":"IF(V2376=\"\",\"\",COUNTIF($V$7:V2376,\"該当３\"))","v":""}]
[822601002,8,226,{"v":1,"d":"01"},{"v":2,"d":"002 "},"茨城県","那珂市","菅谷町","東組",null,{"$f":"IF(AND($C2379>0,$H2379=\"\"),\"ﾘｽﾄ１\",\"\")","v":""},{"$f":"IF(K2379=\"ﾘｽﾄ１\",G2379,\"\")","v":""},{"$f":"IF(K2379=\"\",\"\",COUNTIF($K$7:K2379,\"ﾘｽﾄ１\"))","v":""},{"$f":"IF(AND(D2379=0,E2379>0),\"同一区\",\"\")","v":""},{"$f":"IF(AND(EXACT($K$2,G2379),H2379>0),\"該当１\",\"\")","v":""},"","","",{"$f":"IF(AND(Q2379=\"ﾘｽﾄ2\",OR(I2379=0,AND(N2379=\"同一区\",E2379=1))),\"該当２\",\"\")","v":""},"",{"$f":"IF(S2379=\"\",\"\",COUNTIF($S$7:S2379,\"該当２\"))","v":""},"","",{"$f":"IF(V2379=\"\",\"\",COUNTIF($V$7:V2379,\"該当３\"))","v":""}]
[822601005,8,226,{"v":1,"d":"01"},{"v":5,"d":"005 "},"茨城県","那珂市","菅谷町","堀之内",null,"","",{"$f":"IF(K2382=\"\",\"\",COUNTIF($K$7:K2382,\"ﾘｽﾄ１\"))","v":""},"","","","","","","",{"$f":"IF(S2382=\"\",\"\",COUNTIF($S$7:S2382,\"該当２\"))","v":""},"","",{"$f":"IF(V2382=\"\",\"\",COUNTIF($V$7:V2382,\"該当３\"))","v":""}]
[822601006,8,226,{"v":1,"d":"01"},{"v":6,"d":"006 "},"茨城県","那珂市","菅谷町","下宿",null,"","",{"$f":"IF(K2383=\"\",\"\",COUNTIF($K$7:K2383,\"ﾘｽﾄ１\"))","v":""},"","","","","","","",{"$f":"IF(S2383=\"\",\"\",COUNTIF($S$7:S2383,\"該当２\"))","v":""},"","",{"$f":"IF(V2383=\"\",\"\",COUNTIF($V$7:V2383,\"該当３\"))","v":""}]
[822601009,8,226,{"v":1,"d":"01"},{"v":9,"d":"009 "},"茨城県","那珂市","菅谷町","原福田",null,"","",{"$f":"IF(K2386=\"\",\"\",COUNTIF($K$7:K2386,\"ﾘｽﾄ１\"))","v":""},"","","","","","","",{"$f":"IF(S2386=\"\",\"\",COUNTIF($S$7:S2386,\"該当２\"))","v":""},"","",{"$f":"IF(V2386=\"\",\"\",COUNTIF($V$7:V2386,\"該当３\"))","v":""}]
[822602002,8,226,{"v":2,"d":"02"},{"v":2,"d":"002 "},"茨城県","那珂市","戸多村","大内",null,"","",{"$f":"IF(K2391=\"\",\"\",COUNTIF($K$7:K2391,\"ﾘｽﾄ１\"))","v":""},"","","","","","","",{"$f":"IF(S2391=\"\",\"\",COUNTIF($S$7:S2391,\"該当２\"))","v":""},"","",{"$f":"IF(V2391=\"\",\"\",COUNTIF($V$7:V2391,\"該当３\"))","v":""}]
[822602005,8,226,{"v":2,"d":"02"},{"v":5,"d":"005 "},"茨城県","那珂市","戸多村","宿",null,"","",{"$f":"IF(K2394=\"\",\"\",COUNTIF($K$7:K2394,\"ﾘｽﾄ１\"))","v":""},"","","","","","","",{"$f":"IF(S2394=\"\",\"\",COUNTIF($S$7:S2394,\"該当２\"))","v":""},"","",{"$f":"IF(V2394=\"\",\"\",COUNTIF($V$7:V2394,\"該当３\"))","v":""}]
[822603000,8,226,{"v":3,"d":"03"},{"v":0,"d":"000 "},"茨城県","那珂市","芳野村",null,null,"","",{"$f":"IF(K2397=\"\",\"\",COUNTIF($K$7:K2397,\"ﾘｽﾄ１\"))","v":""},"","","","","","","",{"$f":"IF(S2397=\"\",\"\",COUNTIF($S$7:S2397,\"該当２\"))","v":""},"","",{"$f":"IF(V2397=\"\",\"\",COUNTIF($V$7:V2397,\"該当３\"))","v":""}]
[822603004,8,226,{"v":3,"d":"03"},{"v":4,"d":"004 "},"茨城県","那珂市","芳野村","新田",null,"","",{"$f":"IF(K2401=\"\",\"\",COUNTIF($K$7:K2401,\"ﾘｽﾄ１\"))","v":""},"","","","","","","",{"$f":"IF(S2401=\"\",\"\",COUNTIF($S$7:S2401,\"該当２\"))","v":""},"","",{"$f":"IF(V2401=\"\",\"\",COUNTIF($V$7:V2401,\"該当３\"))","v":""}]
[822604000,8,226,{"v":4,"d":"04"},{"v":0,"d":"000 "},"茨城県","那珂市","額田村",null,null,"","",{"$f":"IF(K2404=\"\",\"\",COUNTIF($K$7:K2404,\"ﾘｽﾄ１\"))","v":""},"","","","","","","",{"$f":"IF(S2404=\"\",\"\",COUNTIF($S$7:S2404,\"該当２\"))","v":""},"","",{"$f":"IF(V2404=\"\",\"\",COUNTIF($V$7:V2404,\"該当３\"))","v":""}]
[822604003,8,226,{"v":4,"d":"04"},{"v":3,"d":"003 "},"茨城県","那珂市","額田村","北郷古宿",null,"","",{"$f":"IF(K2407=\"\",\"\",COUNTIF($K$7:K2407,\"ﾘｽﾄ１\"))","v":""},"","","","","","","",{"$f":"IF(S2407=\"\",\"\",COUNTIF($S$7:S2407,\"該当２\"))","v":""},"","",{"$f":"IF(V2407=\"\",\"\",COUNTIF($V$7:V2407,\"該当３\"))","v":""}]
[822604005,8,226,{"v":4,"d":"04"},{"v":5,"d":"005 "},"茨城県","那珂市","額田村","南郷小堤",null,"","",{"$f":"IF(K2409=\"\",\"\",COUNTIF($K$7:K2409,\"ﾘｽﾄ１\"))","v":""},"","","","","","","",{"$f":"IF(S2409=\"\",\"\",COUNTIF($S$7:S2409,\"該当２\"))","v":""},"","",{"$f":"IF(V2409=\"\",\"\",COUNTIF($V$7:V2409,\"該当３\"))","v":""}]
[822605001,8,226,{"v":5,"d":"05"},{"v":1,"d":"001 "},"茨城県","那珂市","神崎村","本米崎",null,"","",{"$f":"IF(K2412=\"\",\"\",COUNTIF($K$7:K2412,\"ﾘｽﾄ１\"))","v":""},"","","","","","","",{"$f":"IF(S2412=\"\",\"\",COUNTIF($S$7:S2412,\"該当２\"))","v":""},"","",{"$f":"IF(V2412=\"\",\"\",COUNTIF($V$7:V2412,\"該当３\"))","v":""}]
[822605005,8,226,{"v":5,"d":"05"},{"v":5,"d":"005 "},"茨城県","那珂市","神崎村","堤",null,"","",{"$f":"IF(K2416=\"\",\"\",COUNTIF($K$7:K2416,\"ﾘｽﾄ１\"))","v":""},"","","","","","","",{"$f":"IF(S2416=\"\",\"\",COUNTIF($S$7:S2416,\"該当２\"))","v":""},"","",{"$f":"IF(V2416=\"\",\"\",COUNTIF($V$7:V2416,\"該当３\"))","v":""}]
[822606002,8,226,{"v":4,"d":"04"},{"v":2,"d":"002 "},"茨城県","那珂市","五台村","後台二区",null,"","",{"$f":"IF(K2419=\"\",\"\",COUNTIF($K$7:K2419,\"ﾘｽﾄ１\"))","v":""},"","","","","","","",{"$f":"IF(S2419=\"\",\"\",COUNTIF($S$7:S2419,\"該当２\"))","v":""},"","",{"$f":"IF(V2419=\"\",\"\",COUNTIF($V$7:V2419,\"該当３\"))","v":""}]
[822606005,8,226,{"v":4,"d":"04"},{"v":5,"d":"005 "},"茨城県","那珂市","五台村","西木ノ倉",null,"","",{"$f":"IF(K2422=\"\",\"\",COUNTIF($K$7:K2422,\"ﾘｽﾄ１\"))","v":""},"","","","","","","",{"$f":"IF(S2422=\"\",\"\",COUNTIF($S$7:S2422,\"該当２\"))","v":""},"","",{"$f":"IF(V2422=\"\",\"\",COUNTIF($V$7:V2422,\"該当３\"))","v":""}]
[822607002,8,226,{"v":4,"d":"04"},{"v":2,"d":"002 "},"茨城県","那珂市","木崎村２－１","圷",null,"","",{"$f":"IF(K2426=\"\",\"\",COUNTIF($K$7:K2426,\"ﾘｽﾄ１\"))","v":""},"","","","","","","",{"$f":"IF(S2426=\"\",\"\",COUNTIF($S$7:S2426,\"該当２\"))","v":""},"","",{"$f":"IF(V2426=\"\",\"\",COUNTIF($V$7:V2426,\"該当３\"))","v":""}]
[822607004,8,226,{"v":4,"d":"04"},{"v":4,"d":"004 "},"茨城県","那珂市","木崎村２－１","台",null,"","",{"$f":"IF(K2428=\"\",\"\",COUNTIF($K$7:K2428,\"ﾘｽﾄ１\"))","v":""},"","","","","","","",{"$f":"IF(S2428=\"\",\"\",COUNTIF($S$7:S2428,\"該当２\"))","v":""},"","",{"$f":"IF(V2428=\"\",\"\",COUNTIF($V$7:V2428,\"該当３\"))","v":""}]
[822607007,8,226,{"v":4,"d":"04"},{"v":7,"d":"007 "},"茨城県","那珂市","木崎村２－１","内宿",null,"","",{"$f":"IF(K2431=\"\",\"\",COUNTIF($K$7:K2431,\"ﾘｽﾄ１\"))","v":""},"","","","","","","",{"$f":"IF(S2431=\"\",\"\",COUNTIF($S$7:S2431,\"該当２\"))","v":""},"","",{"$f":"IF(V2431=\"\",\"\",COUNTIF($V$7:V2431,\"該当３\"))","v":""}]
[822608001,8,226,{"v":4,"d":"04"},{"v":1,"d":"001 "},"茨城県","那珂市","瓜連町","瓜連上",null,"","",{"$f":"IF(K2434=\"\",\"\",COUNTIF($K$7:K2434,\"ﾘｽﾄ１\"))","v":""},"","","","","","","",{"$f":"IF(S2434=\"\",\"\",COUNTIF($S$7:S2434,\"該当２\"))","v":""},"","",{"$f":"IF(V2434=\"\",\"\",COUNTIF($V$7:V2434,\"該当３\"))","v":""}]
[822608004,8,226,{"v":4,"d":"04"},{"v":4,"d":"004 "},"茨城県","那珂市","瓜連町","中里",null,"","",{"$f":"IF(K2437=\"\",\"\",COUNTIF($K$7:K2437,\"ﾘｽﾄ１\"))","v":""},"","","","","","","",{"$f":"IF(S2437=\"\",\"\",COUNTIF($S$7:S2437,\"該当２\"))","v":""},"","",{"$f":"IF(V2437=\"\",\"\",COUNTIF($V$7:V2437,\"該当３\"))","v":""}]
[822609002,8,226,{"v":4,"d":"04"},{"v":2,"d":"002 "},"茨城県","那珂市","静村２－２","静",null,"","",{"$f":"IF(K2441=\"\",\"\",COUNTIF($K$7:K2441,\"ﾘｽﾄ１\"))","v":""},"","","","","","","",{"$f":"IF(S2441=\"\",\"\",COUNTIF($S$7:S2441,\"該当２\"))","v":""},"","",{"$f":"IF(V2441=\"\",\"\",COUNTIF($V$7:V2441,\"該当３\"))","v":""}]
[822610002,8,226,{"v":4,"d":"04"},{"v":2,"d":"002 "},"茨城県","那珂市","木崎村２－２","鹿島圷",null,"","",{"$f":"IF(K2444=\"\",\"\",COUNTIF($K$7:K2444,\"ﾘｽﾄ１\"))","v":""},"","","","","","","",{"$f":"IF(S2444=\"\",\"\",COUNTIF($S$7:S2444,\"該当２\"))","v":""},"","",{"$f":"IF(V2444=\"\",\"\",COUNTIF($V$7:V2444,\"該当３\"))","v":""}]
[822701003,8,227,{"v":4,"d":"04"},{"v":3,"d":"003 "},"茨城県","筑西市","下館町","下館３",null,"","",{"$f":"IF(K2449=\"\",\"\",COUNTIF($K$7:K2449,\"ﾘｽﾄ１\"))","v":""},"","","","","","","",{"$f":"IF(S2449=\"\",\"\",COUNTIF($S$7:S2449,\"該当２\"))","v":""},"","",{"$f":"IF(V2449=\"\",\"\",COUNTIF($V$7:V2449,\"該当３\"))","v":""}]
[822702002,8,227,{"v":4,"d":"04"},{"v":2,"d":"002 "},"茨城県","筑西市","伊讃村","外塚",null,"","",{"$f":"IF(K2452=\"\",\"\",COUNTIF($K$7:K2452,\"ﾘｽﾄ１\"))","v":""},"","","","","","","",{"$f":"IF(S2452=\"\",\"\",COUNTIF($S$7:S2452,\"該当２\"))","v":""},"","",{"$f":"IF(V2452=\"\",\"\",COUNTIF($V$7:V2452,\"該当３\"))","v":""}]
[822702005,8,227,{"v":4,"d":"04"},{"v":5,"d":"005 "},"茨城県","筑西市","伊讃村","八丁",null,"","",{"$f":"IF(K2455=\"\",\"\",COUNTIF($K$7:K2455,\"ﾘｽﾄ１\"))","v":""},"","","","","","","",{"$f":"IF(S2455=\"\",\"\",COUNTIF($S$7:S2455,\"該当２\"))","v":""},"","",{"$f":"IF(V2455=\"\",\"\",COUNTIF($V$7:V2455,\"該当３\"))","v":""}]
[822702006,8,227,{"v":4,"d":"04"},{"v":6,"d":"006 "},"茨城県","筑西市","伊讃村","猪瀬",null,"","",{"$f":"IF(K2456=\"\",\"\",COUNTIF($K$7:K2456,\"ﾘｽﾄ１\"))","v":""},"","","","","","","",{"$f":"IF(S2456=\"\",\"\",COUNTIF($S$7:S2456,\"該当２\"))","v":""},"","",{"$f":"IF(V2456=\"\",\"\",COUNTIF($V$7:V2456,\"該当３\"))","v":""}]
[822702009,8,227,{"v":4,"d":"04"},{"v":9,"d":"009 "},"茨城県","筑西市","伊讃村","西大島",null,"","",{"$f":"IF(K2459=\"\",\"\",COUNTIF($K$7:K2459,\"ﾘｽﾄ１\"))","v":""},"","","","","","","",{"$f":"IF(S2459=\"\",\"\",COUNTIF($S$7:S2459,\"該当２\"))","v":""},"","",{"$f":"IF(V2459=\"\",\"\",COUNTIF($V$7:V2459,\"該当３\"))","v":""}]
[822702012,8,227,{"v":4,"d":"04"},{"v":12,"d":"012 "},"茨城県","筑西市","伊讃村","下平塚",null,"","",{"$f":"IF(K2462=\"\",\"\",COUNTIF($K$7:K2462,\"ﾘｽﾄ１\"))","v":""},"","","","","","","",{"$f":"IF(S2462=\"\",\"\",COUNTIF($S$7:S2462,\"該当２\"))","v":""},"","",{"$f":"IF(V2462=\"\",\"\",COUNTIF($V$7:V2462,\"該当３\"))","v":""}]
[822702016,8,227,{"v":4,"d":"04"},{"v":16,"d":"016 "},"茨城県","筑西市","伊讃村","小川下",null,"","",{"$f":"IF(K2466=\"\",\"\",COUNTIF($K$7:K2466,\"ﾘｽﾄ１\"))","v":""},"","","","","","","",{"$f":"IF(S2466=\"\",\"\",COUNTIF($S$7:S2466,\"該当２\"))","v":""},"","",{"$f":"IF(V2466=\"\",\"\",COUNTIF($V$7:V2466,\"該当３\"))","v":""}]
[822702020,8,227,{"v":4,"d":"04"},{"v":20,"d":"020 "},"茨城県","筑西市","伊讃村","女方",null,"","",{"$f":"IF(K2470=\"\",\"\",COUNTIF($K$7:K2470,\"ﾘｽﾄ１\"))","v":""},"","","","","","","",{"$f":"IF(S2470=\"\",\"\",COUNTIF($S$7:S2470,\"該当２\"))","v":""},"","",{"$f":"IF(V2470=\"\",\"\",COUNTIF($V$7:V2470,\"該当３\"))","v":""}]
[822703001,8,227,{"v":4,"d":"04"},{"v":1,"d":"001 "},"茨城県","筑西市","竹島村","市野辺",null,"","",{"$f":"IF(K2473=\"\",\"\",COUNTIF($K$7:K2473,\"ﾘｽﾄ１\"))","v":""},"","","","","","","",{"$f":"IF(S2473=\"\",\"\",COUNTIF($S$7:S2473,\"該当２\"))","v":""},"","",{"$f":"IF(V2473=\"\",\"\",COUNTIF($V$7:V2473,\"該当３\"))","v":""}]
[822703005,8,227,{"v":4,"d":"04"},{"v":5,"d":"005 "},"茨城県","筑西市","竹島村","川澄",null,"","",{"$f":"IF(K2477=\"\",\"\",COUNTIF($K$7:K2477,\"ﾘｽﾄ１\"))","v":""},"","","","","","","",{"$f":"IF(S2477=\"\",\"\",COUNTIF($S$7:S2477,\"該当２\"))","v":""},"","",{"$f":"IF(V2477=\"\",\"\",COUNTIF($V$7:V2477,\"該当３\"))","v":""}]
[822703008,8,227,{"v":4,"d":"04"},{"v":8,"d":"008 "},"茨城県","筑西市","竹島村","稲野辺",null,"","",{"$f":"IF(K2480=\"\",\"\",COUNTIF($K$7:K2480,\"ﾘｽﾄ１\"))","v":""},"","","","","","","",{"$f":"IF(S2480=\"\",\"\",COUNTIF($S$7:S2480,\"該当２\"))","v":""},"","",{"$f":"IF(V2480=\"\",\"\",COUNTIF($V$7:V2480,\"該当３\"))","v":""}]
[822703009,8,227,{"v":4,"d":"04"},{"v":9,"d":"009 "},"茨城県","筑西市","竹島村","田宿",null,"","",{"$f":"IF(K2481=\"\",\"\",COUNTIF($K$7:K2481,\"ﾘｽﾄ１\"))","v":""},"","","","","","","",{"$f":"IF(S2481=\"\",\"\",COUNTIF($S$7:S2481,\"該当２\"))","v":""},"","",{"$f":"IF(V2481=\"\",\"\",COUNTIF($V$7:V2481,\"該当３\"))","v":""}]
[822704002,8,227,{"v":4,"d":"04"},{"v":2,"d":"002 "},"茨城県","筑西市","養蚕村","大和町",null,"","",{"$f":"IF(K2484=\"\",\"\",COUNTIF($K$7:K2484,\"ﾘｽﾄ１\"))","v":""},"","","","","","","",{"$f":"IF(S2484=\"\",\"\",COUNTIF($S$7:S2484,\"該当２\"))","v":""},"","",{"$f":"IF(V2484=\"\",\"\",COUNTIF($V$7:V2484,\"該当３\"))","v":""}]
[822704005,8,227,{"v":4,"d":"04"},{"v":5,"d":"005 "},"茨城県","筑西市","養蚕村","深見",null,"","",{"$f":"IF(K2487=\"\",\"\",COUNTIF($K$7:K2487,\"ﾘｽﾄ１\"))","v":""},"","","","","","","",{"$f":"IF(S2487=\"\",\"\",COUNTIF($S$7:S2487,\"該当２\"))","v":""},"","",{"$f":"IF(V2487=\"\",\"\",COUNTIF($V$7:V2487,\"該当３\"))","v":""}]
[822704010,8,227,{"v":4,"d":"04"},{"v":10,"d":"010 "},"茨城県","筑西市","養蚕村","大塚",null,"","",{"$f":"IF(K2492=\"\",\"\",COUNTIF($K$7:K2492,\"ﾘｽﾄ１\"))","v":""},"","","","","","","",{"$f":"IF(S2492=\"\",\"\",COUNTIF($S$7:S2492,\"該当２\"))","v":""},"","",{"$f":"IF(V2492=\"\",\"\",COUNTIF($V$7:V2492,\"該当３\"))","v":""}]
[822705000,8,227,{"v":4,"d":"04"},{"v":0,"d":"000 "},"茨城県","筑西市","五所村",null,null,"","",{"$f":"IF(K2495=\"\",\"\",COUNTIF($K$7:K2495,\"ﾘｽﾄ１\"))","v":""},"","","","","","","",{"$f":"IF(S2495=\"\",\"\",COUNTIF($S$7:S2495,\"該当２\"))","v":""},"","",{"$f":"IF(V2495=\"\",\"\",COUNTIF($V$7:V2495,\"該当３\"))","v":""}]
[822705004,8,227,{"v":4,"d":"04"},{"v":4,"d":"004 "},"茨城県","筑西市","五所村","小塙",null,"","",{"$f":"IF(K2499=\"\",\"\",COUNTIF($K$7:K2499,\"ﾘｽﾄ１\"))","v":""},"","","","","","","",{"$f":"IF(S2499=\"\",\"\",COUNTIF($S$7:S2499,\"該当２\"))","v":""},"","",{"$f":"IF(V2499=\"\",\"\",COUNTIF($V$7:V2499,\"該当３\"))","v":""}]
[822705007,8,227,{"v":4,"d":"04"},{"v":7,"d":"007 "},"茨城県","筑西市","五所村","山崎西",null,"","",{"$f":"IF(K2502=\"\",\"\",COUNTIF($K$7:K2502,\"ﾘｽﾄ１\"))","v":""},"","","","","","","",{"$f":"IF(S2502=\"\",\"\",COUNTIF($S$7:S2502,\"該当２\"))","v":""},"","",{"$f":"IF(V2502=\"\",\"\",COUNTIF($V$7:V2502,\"該当３\"))","v":""}]
[822705010,8,227,{"v":4,"d":"04"},{"v":10,"d":"010 "},"茨城県","筑西市","五所村","開拓地",null,"","",{"$f":"IF(K2505=\"\",\"\",COUNTIF($K$7:K2505,\"ﾘｽﾄ１\"))","v":""},"","","","","","","",{"$f":"IF(S2505=\"\",\"\",COUNTIF($S$7:S2505,\"該当２\"))","v":""},"","",{"$f":"IF(V2505=\"\",\"\",COUNTIF($V$7:V2505,\"該当３\"))","v":""}]
[822705013,8,227,{"v":4,"d":"04"},{"v":13,"d":"013 "},"茨城県","筑西市","五所村","西山田",null,"","",{"$f":"IF(K2508=\"\",\"\",COUNTIF($K$7:K2508,\"ﾘｽﾄ１\"))","v":""},"","","","","","","",{"$f":"IF(S2508=\"\",\"\",COUNTIF($S$7:S2508,\"該当２\"))","v":""},"","",{"$f":"IF(V2508=\"\",\"\",COUNTIF($V$7:V2508,\"該当３\"))","v":""}]
[822706000,8,227,{"v":4,"d":"04"},{"v":0,"d":"000 "},"茨城県","筑西市","中村",null,null,"","",{"$f":"IF(K2510=\"\",\"\",COUNTIF($K$7:K2510,\"ﾘｽﾄ１\"))","v":""},"","","","","","","",{"$f":"IF(S2510=\"\",\"\",COUNTIF($S$7:S2510,\"該当２\"))","v":""},"","",{"$f":"IF(V2510=\"\",\"\",COUNTIF($V$7:V2510,\"該当３\"))","v":""}]
[822706003,8,227,{"v":4,"d":"04"},{"v":3,"d":"003 "},"茨城県","筑西市","中村","林",null,"","",{"$f":"IF(K2513=\"\",\"\",COUNTIF($K$7:K2513,\"ﾘｽﾄ１\"))","v":""},"","","","","","","",{"$f":"IF(S2513=\"\",\"\",COUNTIF($S$7:S2513,\"該当２\"))","v":""},"","",{"$f":"IF(V2513=\"\",\"\",COUNTIF($V$7:V2513,\"該当３\"))","v":""}]
[822706007,8,227,{"v":4,"d":"04"},{"v":7,"d":"007 "},"茨城県","筑西市","中村","上河原",null,"","",{"$f":"IF(K2517=\"\",\"\",COUNTIF($K$7:K2517,\"ﾘｽﾄ１\"))","v":""},"","","","","","","",{"$f":"IF(S2517=\"\",\"\",COUNTIF($S$7:S2517,\"該当２\"))","v":""},"","",{"$f":"IF(V2517=\"\",\"\",COUNTIF($V$7:V2517,\"該当３\"))","v":""}]
[822706010,8,227,{"v":4,"d":"04"},{"v":10,"d":"010 "},"茨城県","筑西市","中村","柴山",null,"","",{"$f":"IF(K2520=\"\",\"\",COUNTIF($K$7:K2520,\"ﾘｽﾄ１\"))","v":""},"","","","","","","",{"$f":"IF(S2520=\"\",\"\",COUNTIF($S$7:S2520,\"該当２\"))","v":""},"","",{"$f":"IF(V2520=\"\",\"\",COUNTIF($V$7:V2520,\"該当３\"))","v":""}]
[822707000,8,227,{"v":4,"d":"04"},{"v":0,"d":"000 "},"茨城県","筑西市","河間村",null,null,"","",{"$f":"IF(K2524=\"\",\"\",COUNTIF($K$7:K2524,\"ﾘｽﾄ１\"))","v":""},"","","","","","","",{"$f":"IF(S2524=\"\",\"\",COUNTIF($S$7:S2524,\"該当２\"))","v":""},"","",{"$f":"IF(V2524=\"\",\"\",COUNTIF($V$7:V2524,\"該当３\"))","v":""}]
[822707003,8,227,{"v":4,"d":"04"},{"v":3,"d":"003 "},"茨城県","筑西市","河間村","奥田",null,"","",{"$f":"IF(K2527=\"\",\"\",COUNTIF($K$7:K2527,\"ﾘｽﾄ１\"))","v":""},"","","","","","","",{"$f":"IF(S2527=\"\",\"\",COUNTIF($S$7:S2527,\"該当２\"))","v":""},"","",{"$f":"IF(V2527=\"\",\"\",COUNTIF($V$7:V2527,\"該当３\"))","v":""}]
[822707005,8,227,{"v":4,"d":"04"},{"v":5,"d":"005 "},"茨城県","筑西市","河間村","羽方",null,"","",{"$f":"IF(K2529=\"\",\"\",COUNTIF($K$7:K2529,\"ﾘｽﾄ１\"))","v":""},"","","","","","","",{"$f":"IF(S2529=\"\",\"\",COUNTIF($S$7:S2529,\"該当２\"))","v":""},"","",{"$f":"IF(V2529=\"\",\"\",COUNTIF($V$7:V2529,\"該当３\"))","v":""}]
[822707008,8,227,{"v":4,"d":"04"},{"v":8,"d":"008 "},"茨城県","筑西市","河間村","大関",null,"","",{"$f":"IF(K2532=\"\",\"\",COUNTIF($K$7:K2532,\"ﾘｽﾄ１\"))","v":""},"","","","","","","",{"$f":"IF(S2532=\"\",\"\",COUNTIF($S$7:S2532,\"該当２\"))","v":""},"","",{"$f":"IF(V2532=\"\",\"\",COUNTIF($V$7:V2532,\"該当３\"))","v":""}]
[822708000,8,227,{"v":4,"d":"04"},{"v":0,"d":"000 "},"茨城県","筑西市","大田村",null,null,"","",{"$f":"IF(K2535=\"\",\"\",COUNTIF($K$7:K2535,\"ﾘｽﾄ１\"))","v":""},"","","","","","","",{"$f":"IF(S2535=\"\",\"\",COUNTIF($S$7:S2535,\"該当２\"))","v":""},"","",{"$f":"IF(V2535=\"\",\"\",COUNTIF($V$7:V2535,\"該当３\"))","v":""}]
[822708004,8,227,{"v":4,"d":"04"},{"v":4,"d":"004 "},"茨城県","筑西市","大田村","房山",null,"","",{"$f":"IF(K2539=\"\",\"\",COUNTIF($K$7:K2539,\"ﾘｽﾄ１\"))","v":""},"","","","","","","",{"$f":"IF(S2539=\"\",\"\",COUNTIF($S$7:S2539,\"該当２\"))","v":""},"","",{"$f":"IF(V2539=\"\",\"\",COUNTIF($V$7:V2539,\"該当３\"))","v":""}]
[822708007,8,227,{"v":4,"d":"04"},{"v":7,"d":"007 "},"茨城県","筑西市","大田村","一本松",null,"","",{"$f":"IF(K2542=\"\",\"\",COUNTIF($K$7:K2542,\"ﾘｽﾄ１\"))","v":""},"","","","","","","",{"$f":"IF(S2542=\"\",\"\",COUNTIF($S$7:S2542,\"該当２\"))","v":""},"","",{"$f":"IF(V2542=\"\",\"\",COUNTIF($V$7:V2542,\"該当３\"))","v":""}]
[822708010,8,227,{"v":4,"d":"04"},{"v":10,"d":"010 "},"茨城県","筑西市","大田村","西方",null,"","",{"$f":"IF(K2545=\"\",\"\",COUNTIF($K$7:K2545,\"ﾘｽﾄ１\"))","v":""},"","","","","","","",{"$f":"IF(S2545=\"\",\"\",COUNTIF($S$7:S2545,\"該当２\"))","v":""},"","",{"$f":"IF(V2545=\"\",\"\",COUNTIF($V$7:V2545,\"該当３\"))","v":""}]
[822709001,8,227,{"v":4,"d":"04"},{"v":1,"d":"001 "},"茨城県","筑西市","嘉田生崎村","嘉家佐和",null,"","",{"$f":"IF(K2550=\"\",\"\",COUNTIF($K$7:K2550,\"ﾘｽﾄ１\"))","v":""},"","","","","","","",{"$f":"IF(S2550=\"\",\"\",COUNTIF($S$7:S2550,\"該当２\"))","v":""},"","",{"$f":"IF(V2550=\"\",\"\",COUNTIF($V$7:V2550,\"該当３\"))","v":""}]
[822709004,8,227,{"v":4,"d":"04"},{"v":4,"d":"004 "},"茨城県","筑西市","嘉田生崎村","旭ヶ丘２",null,"","",{"$f":"IF(K2553=\"\",\"\",COUNTIF($K$7:K2553,\"ﾘｽﾄ１\"))","v":""},"","","","","","","",{"$f":"IF(S2553=\"\",\"\",COUNTIF($S$7:S2553,\"該当２\"))","v":""},"","",{"$f":"IF(V2553=\"\",\"\",COUNTIF($V$7:V2553,\"該当３\"))","v":""}]
[822709007,8,227,{"v":4,"d":"04"},{"v":7,"d":"007 "},"茨城県","筑西市","嘉田生崎村","西石田",null,"","",{"$f":"IF(K2556=\"\",\"\",COUNTIF($K$7:K2556,\"ﾘｽﾄ１\"))","v":""},"","","","","","","",{"$f":"IF(S2556=\"\",\"\",COUNTIF($S$7:S2556,\"該当２\"))","v":""},"","",{"$f":"IF(V2556=\"\",\"\",COUNTIF($V$7:V2556,\"該当３\"))","v":""}]
[822709008,8,227,{"v":4,"d":"04"},{"v":8,"d":"008 "},"茨城県","筑西市","嘉田生崎村","野田・町田",null,"","",{"$f":"IF(K2557=\"\",\"\",COUNTIF($K$7:K2557,\"ﾘｽﾄ１\"))","v":""},"","","","","","","",{"$f":"IF(S2557=\"\",\"\",COUNTIF($S$7:S2557,\"該当２\"))","v":""},"","",{"$f":"IF(V2557=\"\",\"\",COUNTIF($V$7:V2557,\"該当３\"))","v":""}]
[822709011,8,227,{"v":4,"d":"04"},{"v":11,"d":"011 "},"茨城県","筑西市","嘉田生崎村","下岡崎",null,"","",{"$f":"IF(K2560=\"\",\"\",COUNTIF($K$7:K2560,\"ﾘｽﾄ１\"))","v":""},"","","","","","","",{"$f":"IF(S2560=\"\",\"\",COUNTIF($S$7:S2560,\"該当２\"))","v":""},"","",{"$f":"IF(V2560=\"\",\"\",COUNTIF($V$7:V2560,\"該当３\"))","v":""}]
[822710003,8,227,{"v":4,"d":"04"},{"v":3,"d":"003 "},"茨城県","筑西市","黒子村","新地",null,"","",{"$f":"IF(K2564=\"\",\"\",COUNTIF($K$7:K2564,\"ﾘｽﾄ１\"))","v":""},"","","","","","","",{"$f":"IF(S2564=\"\",\"\",COUNTIF($S$7:S2564,\"該当２\"))","v":""},"","",{"$f":"IF(V2564=\"\",\"\",COUNTIF($V$7:V2564,\"該当３\"))","v":""}]
[822710006,8,227,{"v":4,"d":"04"},{"v":6,"d":"006 "},"茨城県","筑西市","黒子村","西保末",null,"","",{"$f":"IF(K2567=\"\",\"\",COUNTIF($K$7:K2567,\"ﾘｽﾄ１\"))","v":""},"","","","","","","",{"$f":"IF(S2567=\"\",\"\",COUNTIF($S$7:S2567,\"該当２\"))","v":""},"","",{"$f":"IF(V2567=\"\",\"\",COUNTIF($V$7:V2567,\"該当３\"))","v":""}]
[822710010,8,227,{"v":4,"d":"04"},{"v":10,"d":"010 "},"茨城県","筑西市","黒子村","木戸２",null,{"$f":"IF(AND($C2571>0,$H2571=\"\"),\"ﾘｽﾄ１\",\"\")","v":""},{"$f":"IF(K2571=\"ﾘｽﾄ１\",G2571,\"\")","v":""},{"$f":"IF(K2571=\"\",\"\",COUNTIF($K$7:K2571,\"ﾘｽﾄ１\"))","v":""},{"$f":"IF(AND(D2571=0,E2571>0),\"同一区\",\"\")","v":""},{"$f":"IF(AND(EXACT($K$2,G2571),H2571>0),\"該当１\",\"\")","v":""},"","","",{"$f":"IF(AND(Q2571=\"ﾘｽﾄ2\",OR(I2571=0,AND(N2571=\"同一区\",E2571=1))),\"該当２\",\"\")","v":""},"",{"$f":"IF(S2571=\"\",\"\",COUNTIF($S$7:S2571,\"該当２\"))","v":""},"","",{"$f":"IF(V2571=\"\",\"\",COUNTIF($V$7:V2571,\"該当３\"))","v":""}]
[822711001,8,227,{"v":4,"d":"04"},{"v":1,"d":"001 "},"茨城県","筑西市","河内村","板橋",null,"","",{"$f":"IF(K2575=\"\",\"\",COUNTIF($K$7:K2575,\"ﾘｽﾄ１\"))","v":""},"","","","","","","",{"$f":"IF(S2575=\"\",\"\",COUNTIF($S$7:S2575,\"該当２\"))","v":""},"","",{"$f":"IF(V2575=\"\",\"\",COUNTIF($V$7:V2575,\"該当３\"))","v":""}]
[822711004,8,227,{"v":4,"d":"04"},{"v":4,"d":"004 "},"茨城県","筑西市","河内村","木有戸",null,"","",{"$f":"IF(K2578=\"\",\"\",COUNTIF($K$7:K2578,\"ﾘｽﾄ１\"))","v":""},"","","","","","","",{"$f":"IF(S2578=\"\",\"\",COUNTIF($S$7:S2578,\"該当２\"))","v":""},"","",{"$f":"IF(V2578=\"\",\"\",COUNTIF($V$7:V2578,\"該当３\"))","v":""}]
[822711007,8,227,{"v":4,"d":"04"},{"v":7,"d":"007 "},"茨城県","筑西市","河内村","藤ケ谷上",null,"","",{"$f":"IF(K2581=\"\",\"\",COUNTIF($K$7:K2581,\"ﾘｽﾄ１\"))","v":""},"","","","","","","",{"$f":"IF(S2581=\"\",\"\",COUNTIF($S$7:S2581,\"該当２\"))","v":""},"","",{"$f":"IF(V2581=\"\",\"\",COUNTIF($V$7:V2581,\"該当３\"))","v":""}]
[822711008,8,227,{"v":4,"d":"04"},{"v":8,"d":"008 "},"茨城県","筑西市","河内村","藤ケ谷中",null,"","",{"$f":"IF(K2582=\"\",\"\",COUNTIF($K$7:K2582,\"ﾘｽﾄ１\"))","v":""},"","","","","","","",{"$f":"IF(S2582=\"\",\"\",COUNTIF($S$7:S2582,\"該当２\"))","v":""},"","",{"$f":"IF(V2582=\"\",\"\",COUNTIF($V$7:V2582,\"該当３\"))","v":""}]
[822711011,8,227,{"v":4,"d":"04"},{"v":11,"d":"011 "},"茨城県","筑西市","河内村","花田",null,"","",{"$f":"IF(K2585=\"\",\"\",COUNTIF($K$7:K2585,\"ﾘｽﾄ１\"))","v":""},"","","","","","","",{"$f":"IF(S2585=\"\",\"\",COUNTIF($S$7:S2585,\"該当２\"))","v":""},"","",{"$f":"IF(V2585=\"\",\"\",COUNTIF($V$7:V2585,\"該当３\"))","v":""}]
[822712002,8,227,{"v":4,"d":"04"},{"v":2,"d":"002 "},"茨城県","筑西市","関本町","三道",null,"","",{"$f":"IF(K2588=\"\",\"\",COUNTIF($K$7:K2588,\"ﾘｽﾄ１\"))","v":""},"","","","","","","",{"$f":"IF(S2588=\"\",\"\",COUNTIF($S$7:S2588,\"該当２\"))","v":""},"","",{"$f":"IF(V2588=\"\",\"\",COUNTIF($V$7:V2588,\"該当３\"))","v":""}]
[822712007,8,227,{"v":4,"d":"04"},{"v":7,"d":"007 "},"茨城県","筑西市","関本町","東館",null,"","",{"$f":"IF(K2593=\"\",\"\",COUNTIF($K$7:K2593,\"ﾘｽﾄ１\"))","v":""},"","","","","","","",{"$f":"IF(S2593=\"\",\"\",COUNTIF($S$7:S2593,\"該当２\"))","v":""},"","",{"$f":"IF(V2593=\"\",\"\",COUNTIF($V$7:V2593,\"該当３\"))","v":""}]
[822712010,8,227,{"v":4,"d":"04"},{"v":10,"d":"010 "},"茨城県","筑西市","関本町","若宮",null,"","",{"$f":"IF(K2596=\"\",\"\",COUNTIF($K$7:K2596,\"ﾘｽﾄ１\"))","v":""},"","","","","","","",{"$f":"IF(S2596=\"\",\"\",COUNTIF($S$7:S2596,\"該当２\"))","v":""},"","",{"$f":"IF(V2596=\"\",\"\",COUNTIF($V$7:V2596,\"該当３\"))","v":""}]
[822712014,8,227,{"v":4,"d":"04"},{"v":14,"d":"014 "},"茨城県","筑西市","関本町","橋本",null,"","",{"$f":"IF(K2600=\"\",\"\",COUNTIF($K$7:K2600,\"ﾘｽﾄ１\"))","v":""},"","","","","","","",{"$f":"IF(S2600=\"\",\"\",COUNTIF($S$7:S2600,\"該当２\"))","v":""},"","",{"$f":"IF(V2600=\"\",\"\",COUNTIF($V$7:V2600,\"該当３\"))","v":""}]
[822713000,8,227,{"v":4,"d":"04"},{"v":0,"d":"000 "},"茨城県","筑西市","上野村（筑西市）",null,null,"","",{"$f":"IF(K2603=\"\",\"\",COUNTIF($K$7:K2603,\"ﾘｽﾄ１\"))","v":""},"","","","","","","",{"$f":"IF(S2603=\"\",\"\",COUNTIF($S$7:S2603,\"該当２\"))","v":""},"","",{"$f":"IF(V2603=\"\",\"\",COUNTIF($V$7:V2603,\"該当３\"))","v":""}]
[822713001,8,227,{"v":4,"d":"04"},{"v":1,"d":"001 "},"茨城県","筑西市","上野村（筑西市）","寺上野",null,"","",{"$f":"IF(K2604=\"\",\"\",COUNTIF($K$7:K2604,\"ﾘｽﾄ１\"))","v":""},"","","","","","","",{"$f":"IF(S2604=\"\",\"\",COUNTIF($S$7:S2604,\"該当２\"))","v":""},"","",{"$f":"IF(V2604=\"\",\"\",COUNTIF($V$7:V2604,\"該当３\"))","v":""}]
[822713006,8,227,{"v":4,"d":"04"},{"v":6,"d":"006 "},"茨城県","筑西市","上野村（筑西市）","向上野西",null,"","",{"$f":"IF(K2609=\"\",\"\",COUNTIF($K$7:K2609,\"ﾘｽﾄ１\"))","v":""},"","","","","","","",{"$f":"IF(S2609=\"\",\"\",COUNTIF($S$7:S2609,\"該当２\"))","v":""},"","",{"$f":"IF(V2609=\"\",\"\",COUNTIF($V$7:V2609,\"該当３\"))","v":""}]
[822713008,8,227,{"v":4,"d":"04"},{"v":8,"d":"008 "},"茨城県","筑西市","上野村（筑西市）","東石田",null,"","",{"$f":"IF(K2611=\"\",\"\",COUNTIF($K$7:K2611,\"ﾘｽﾄ１\"))","v":""},"","","","","","","",{"$f":"IF(S2611=\"\",\"\",COUNTIF($S$7:S2611,\"該当２\"))","v":""},"","",{"$f":"IF(V2611=\"\",\"\",COUNTIF($V$7:V2611,\"該当３\"))","v":""}]
[822714003,8,227,{"v":4,"d":"04"},{"v":3,"d":"003 "},"茨城県","筑西市","大村","石倉",null,"","",{"$f":"IF(K2615=\"\",\"\",COUNTIF($K$7:K2615,\"ﾘｽﾄ１\"))","v":""},"","","","","","","",{"$f":"IF(S2615=\"\",\"\",COUNTIF($S$7:S2615,\"該当２\"))","v":""},"","",{"$f":"IF(V2615=\"\",\"\",COUNTIF($V$7:V2615,\"該当３\"))","v":""}]
[822714006,8,227,{"v":4,"d":"04"},{"v":6,"d":"006 "},"茨城県","筑西市","大村","木間々",null,"","",{"$f":"IF(K2618=\"\",\"\",COUNTIF($K$7:K2618,\"ﾘｽﾄ１\"))","v":""},"","","","","","","",{"$f":"IF(S2618=\"\",\"\",COUNTIF($S$7:S2618,\"該当２\"))","v":""},"","",{"$f":"IF(V2618=\"\",\"\",COUNTIF($V$7:V2618,\"該当３\"))","v":""}]
[822714009,8,227,{"v":4,"d":"04"},{"v":9,"d":"009 "},"茨城県","筑西市","大村","山王堂",null,"","",{"$f":"IF(K2621=\"\",\"\",COUNTIF($K$7:K2621,\"ﾘｽﾄ１\"))","v":""},"","","","","","","",{"$f":"IF(S2621=\"\",\"\",COUNTIF($S$7:S2621,\"該当２\"))","v":""},"","",{"$f":"IF(V2621=\"\",\"\",COUNTIF($V$7:V2621,\"該当３\"))","v":""}]
[822714013,8,227,{"v":4,"d":"04"},{"v":13,"d":"013 "},"茨城県","筑西市","大村","有田",null,"","",{"$f":"IF(K2625=\"\",\"\",COUNTIF($K$7:K2625,\"ﾘｽﾄ１\"))","v":""},"","","","","","","",{"$f":"IF(S2625=\"\",\"\",COUNTIF($S$7:S2625,\"該当２\"))","v":""},"","",{"$f":"IF(V2625=\"\",\"\",COUNTIF($V$7:V2625,\"該当３\"))","v":""}]
[822715000,8,227,{"v":4,"d":"04"},{"v":0,"d":"000 "},"茨城県","筑西市","村田村",null,null,"","",{"$f":"IF(K2626=\"\",\"\",COUNTIF($K$7:K2626,\"ﾘｽﾄ１\"))","v":""},"","","","","","","",{"$f":"IF(S2626=\"\",\"\",COUNTIF($S$7:S2626,\"該当２\"))","v":""},"","",{"$f":"IF(V2626=\"\",\"\",COUNTIF($V$7:V2626,\"該当３\"))","v":""}]
[822715004,8,227,{"v":4,"d":"04"},{"v":4,"d":"004 "},"茨城県","筑西市","村田村","竹垣",null,"","",{"$f":"IF(K2630=\"\",\"\",COUNTIF($K$7:K2630,\"ﾘｽﾄ１\"))","v":""},"","","","","","","",{"$f":"IF(S2630=\"\",\"\",COUNTIF($S$7:S2630,\"該当２\"))","v":""},"","",{"$f":"IF(V2630=\"\",\"\",COUNTIF($V$7:V2630,\"該当３\"))","v":""}]
[822715007,8,227,{"v":4,"d":"04"},{"v":7,"d":"007 "},"茨城県","筑西市","村田村","大林",null,"","",{"$f":"IF(K2633=\"\",\"\",COUNTIF($K$7:K2633,\"ﾘｽﾄ１\"))","v":""},"","","","","","","",{"$f":"IF(S2633=\"\",\"\",COUNTIF($S$7:S2633,\"該当２\"))","v":""},"","",{"$f":"IF(V2633=\"\",\"\",COUNTIF($V$7:V2633,\"該当３\"))","v":""}]
[822716000,8,227,{"v":4,"d":"04"},{"v":0,"d":"000 "},"茨城県","筑西市","長讃村２－１",null,null,"","",{"$f":"IF(K2636=\"\",\"\",COUNTIF($K$7:K2636,\"ﾘｽﾄ１\"))","v":""},"","","","","","","",{"$f":"IF(S2636=\"\",\"\",COUNTIF($S$7:S2636,\"該当２\"))","v":""},"","",{"$f":"IF(V2636=\"\",\"\",COUNTIF($V$7:V2636,\"該当３\"))","v":""}]
[822716004,8,227,{"v":4,"d":"04"},{"v":4,"d":"004 "},"茨城県","筑西市","長讃村２－１","東押尾",null,"","",{"$f":"IF(K2640=\"\",\"\",COUNTIF($K$7:K2640,\"ﾘｽﾄ１\"))","v":""},"","","","","","","",{"$f":"IF(S2640=\"\",\"\",COUNTIF($S$7:S2640,\"該当２\"))","v":""},"","",{"$f":"IF(V2640=\"\",\"\",COUNTIF($V$7:V2640,\"該当３\"))","v":""}]
[822716007,8,227,{"v":4,"d":"04"},{"v":7,"d":"007 "},"茨城県","筑西市","長讃村２－１","猫島",null,"","",{"$f":"IF(K2643=\"\",\"\",COUNTIF($K$7:K2643,\"ﾘｽﾄ１\"))","v":""},"","","","","","","",{"$f":"IF(S2643=\"\",\"\",COUNTIF($S$7:S2643,\"該当２\"))","v":""},"","",{"$f":"IF(V2643=\"\",\"\",COUNTIF($V$7:V2643,\"該当３\"))","v":""}]
[822717002,8,227,{"v":4,"d":"04"},{"v":2,"d":"002 "},"茨城県","筑西市","鳥羽村","東保末",null,"","",{"$f":"IF(K2647=\"\",\"\",COUNTIF($K$7:K2647,\"ﾘｽﾄ１\"))","v":""},"","","","","","","",{"$f":"IF(S2647=\"\",\"\",COUNTIF($S$7:S2647,\"該当２\"))","v":""},"","",{"$f":"IF(V2647=\"\",\"\",COUNTIF($V$7:V2647,\"該当３\"))","v":""}]
[822717006,8,227,{"v":4,"d":"04"},{"v":6,"d":"006 "},"茨城県","筑西市","鳥羽村","高津",null,"","",{"$f":"IF(K2651=\"\",\"\",COUNTIF($K$7:K2651,\"ﾘｽﾄ１\"))","v":""},"","","","","","","",{"$f":"IF(S2651=\"\",\"\",COUNTIF($S$7:S2651,\"該当２\"))","v":""},"","",{"$f":"IF(V2651=\"\",\"\",COUNTIF($V$7:V2651,\"該当３\"))","v":""}]
[822718001,8,227,{"v":4,"d":"04"},{"v":1,"d":"001 "},"茨城県","筑西市","小栗村","宮本",null,"","",{"$f":"IF(K2654=\"\",\"\",COUNTIF($K$7:K2654,\"ﾘｽﾄ１\"))","v":""},"","","","","","","",{"$f":"IF(S2654=\"\",\"\",COUNTIF($S$7:S2654,\"該当２\"))","v":""},"","",{"$f":"IF(V2654=\"\",\"\",COUNTIF($V$7:V2654,\"該当３\"))","v":""}]
[822718002,8,227,{"v":4,"d":"04"},{"v":2,"d":"002 "},"茨城県","筑西市","小栗村","稲荷宿",null,"","",{"$f":"IF(K2655=\"\",\"\",COUNTIF($K$7:K2655,\"ﾘｽﾄ１\"))","v":""},"","","","","","","",{"$f":"IF(S2655=\"\",\"\",COUNTIF($S$7:S2655,\"該当２\"))","v":""},"","",{"$f":"IF(V2655=\"\",\"\",COUNTIF($V$7:V2655,\"該当３\"))","v":""}]
[822718005,8,227,{"v":4,"d":"04"},{"v":5,"d":"005 "},"茨城県","筑西市","小栗村","加草",null,"","",{"$f":"IF(K2658=\"\",\"\",COUNTIF($K$7:K2658,\"ﾘｽﾄ１\"))","v":""},"","","","","","","",{"$f":"IF(S2658=\"\",\"\",COUNTIF($S$7:S2658,\"該当２\"))","v":""},"","",{"$f":"IF(V2658=\"\",\"\",COUNTIF($V$7:V2658,\"該当３\"))","v":""}]
[822718008,8,227,{"v":4,"d":"04"},{"v":8,"d":"008 "},"茨城県","筑西市","小栗村","下小栗２",null,"","",{"$f":"IF(K2661=\"\",\"\",COUNTIF($K$7:K2661,\"ﾘｽﾄ１\"))","v":""},"","","","","","","",{"$f":"IF(S2661=\"\",\"\",COUNTIF($S$7:S2661,\"該当２\"))","v":""},"","",{"$f":"IF(V2661=\"\",\"\",COUNTIF($V$7:V2661,\"該当３\"))","v":""}]
[822719000,8,227,{"v":4,"d":"04"},{"v":0,"d":"000 "},"茨城県","筑西市","古里村",null,null,"","",{"$f":"IF(K2665=\"\",\"\",COUNTIF($K$7:K2665,\"ﾘｽﾄ１\"))","v":""},"","","","","","","",{"$f":"IF(S2665=\"\",\"\",COUNTIF($S$7:S2665,\"該当２\"))","v":""},"","",{"$f":"IF(V2665=\"\",\"\",COUNTIF($V$7:V2665,\"該当３\"))","v":""}]
[822719003,8,227,{"v":4,"d":"04"},{"v":3,"d":"003 "},"茨城県","筑西市","古里村","上星谷",null,"","",{"$f":"IF(K2668=\"\",\"\",COUNTIF($K$7:K2668,\"ﾘｽﾄ１\"))","v":""},"","","","","","","",{"$f":"IF(S2668=\"\",\"\",COUNTIF($S$7:S2668,\"該当２\"))","v":""},"","",{"$f":"IF(V2668=\"\",\"\",COUNTIF($V$7:V2668,\"該当３\"))","v":""}]
[822719008,8,227,{"v":4,"d":"04"},{"v":8,"d":"008 "},"茨城県","筑西市","古里村","大島",null,"","",{"$f":"IF(K2673=\"\",\"\",COUNTIF($K$7:K2673,\"ﾘｽﾄ１\"))","v":""},"","","","","","","",{"$f":"IF(S2673=\"\",\"\",COUNTIF($S$7:S2673,\"該当２\"))","v":""},"","",{"$f":"IF(V2673=\"\",\"\",COUNTIF($V$7:V2673,\"該当３\"))","v":""}]
[822719011,8,227,{"v":4,"d":"04"},{"v":11,"d":"011 "},"茨城県","筑西市","古里村","栗崎",null,"","",{"$f":"IF(K2676=\"\",\"\",COUNTIF($K$7:K2676,\"ﾘｽﾄ１\"))","v":""},"","","","","","","",{"$f":"IF(S2676=\"\",\"\",COUNTIF($S$7:S2676,\"該当２\"))","v":""},"","",{"$f":"IF(V2676=\"\",\"\",COUNTIF($V$7:V2676,\"該当３\"))","v":""}]
[822719014,8,227,{"v":4,"d":"04"},{"v":14,"d":"014 "},"茨城県","筑西市","古里村","十里",null,"","",{"$f":"IF(K2679=\"\",\"\",COUNTIF($K$7:K2679,\"ﾘｽﾄ１\"))","v":""},"","","","","","","",{"$f":"IF(S2679=\"\",\"\",COUNTIF($S$7:S2679,\"該当２\"))","v":""},"","",{"$f":"IF(V2679=\"\",\"\",COUNTIF($V$7:V2679,\"該当３\"))","v":""}]
[822719015,8,227,{"v":4,"d":"04"},{"v":15,"d":"015 "},"茨城県","筑西市","古里村","桑山",null,"","",{"$f":"IF(K2680=\"\",\"\",COUNTIF($K$7:K2680,\"ﾘｽﾄ１\"))","v":""},"","","","","","","",{"$f":"IF(S2680=\"\",\"\",COUNTIF($S$7:S2680,\"該当２\"))","v":""},"","",{"$f":"IF(V2680=\"\",\"\",COUNTIF($V$7:V2680,\"該当３\"))","v":""}]
[822720002,8,227,{"v":4,"d":"04"},{"v":2,"d":"002 "},"茨城県","筑西市","新治村（筑西市）","井出北部",null,"","",{"$f":"IF(K2683=\"\",\"\",COUNTIF($K$7:K2683,\"ﾘｽﾄ１\"))","v":""},"","","","","","","",{"$f":"IF(S2683=\"\",\"\",COUNTIF($S$7:S2683,\"該当２\"))","v":""},"","",{"$f":"IF(V2683=\"\",\"\",COUNTIF($V$7:V2683,\"該当３\"))","v":""}]
[822720005,8,227,{"v":4,"d":"04"},{"v":5,"d":"005 "},"茨城県","筑西市","新治村（筑西市）","横塚",null,"","",{"$f":"IF(K2686=\"\",\"\",COUNTIF($K$7:K2686,\"ﾘｽﾄ１\"))","v":""},"","","","","","","",{"$f":"IF(S2686=\"\",\"\",COUNTIF($S$7:S2686,\"該当２\"))","v":""},"","",{"$f":"IF(V2686=\"\",\"\",COUNTIF($V$7:V2686,\"該当３\"))","v":""}]
[822720008,8,227,{"v":4,"d":"04"},{"v":8,"d":"008 "},"茨城県","筑西市","新治村（筑西市）","門井下",null,"","",{"$f":"IF(K2689=\"\",\"\",COUNTIF($K$7:K2689,\"ﾘｽﾄ１\"))","v":""},"","","","","","","",{"$f":"IF(S2689=\"\",\"\",COUNTIF($S$7:S2689,\"該当２\"))","v":""},"","",{"$f":"IF(V2689=\"\",\"\",COUNTIF($V$7:V2689,\"該当３\"))","v":""}]
[822720013,8,227,{"v":4,"d":"04"},{"v":13,"d":"013 "},"茨城県","筑西市","新治村（筑西市）","新治",null,"","",{"$f":"IF(K2694=\"\",\"\",COUNTIF($K$7:K2694,\"ﾘｽﾄ１\"))","v":""},"","","","","","","",{"$f":"IF(S2694=\"\",\"\",COUNTIF($S$7:S2694,\"該当２\"))","v":""},"","",{"$f":"IF(V2694=\"\",\"\",COUNTIF($V$7:V2694,\"該当３\"))","v":""}]
[822801002,8,228,{"v":4,"d":"04"},{"v":2,"d":"002 "},"茨城県","坂東市","岩井町","中根",null,"","",{"$f":"IF(K2698=\"\",\"\",COUNTIF($K$7:K2698,\"ﾘｽﾄ１\"))","v":""},"","",{"$f":"IF(O2698=\"該当１\",G2698,\"\")","v":""},{"$f":"IF(O2698=\"該当１\",\"ﾘｽﾄ2\",\"\")","v":""},{"$f":"IF(Q2698=\"ﾘｽﾄ2\",H2698,\"\")","v":""},"",{"$f":"IF(S2698=\"該当２\",H2698,\"\")","v":""},{"$f":"IF(S2698=\"\",\"\",COUNTIF($S$7:S2698,\"該当２\"))","v":""},{"$f":"IF(AND($S$2=H2698,E2698>0,E2698<998),\"該当３\",\"\")","v":""},{"$f":"IF(V2698=\"該当３\",I2698,\"\")","v":""},{"$f":"IF(V2698=\"\",\"\",COUNTIF($V$7:V2698,\"該当３\"))","v":""}]
[822801005,8,228,{"v":4,"d":"04"},{"v":5,"d":"005 "},"茨城県","坂東市","岩井町","天王前",null,"","",{"$f":"IF(K2701=\"\",\"\",COUNTIF($K$7:K2701,\"ﾘｽﾄ１\"))","v":""},"","","","","","","",{"$f":"IF(S2701=\"\",\"\",COUNTIF($S$7:S2701,\"該当２\"))","v":""},"","",{"$f":"IF(V2701=\"\",\"\",COUNTIF($V$7:V2701,\"該当３\"))","v":""}]
[822801008,8,228,{"v":4,"d":"04"},{"v":8,"d":"008 "},"茨城県","坂東市","岩井町","辺田上",null,"","",{"$f":"IF(K2704=\"\",\"\",COUNTIF($K$7:K2704,\"ﾘｽﾄ１\"))","v":""},"","","","","","","",{"$f":"IF(S2704=\"\",\"\",COUNTIF($S$7:S2704,\"該当２\"))","v":""},"","",{"$f":"IF(V2704=\"\",\"\",COUNTIF($V$7:V2704,\"該当３\"))","v":""}]
[822801009,8,228,{"v":4,"d":"04"},{"v":9,"d":"009 "},"茨城県","坂東市","岩井町","辺田中",null,"","",{"$f":"IF(K2705=\"\",\"\",COUNTIF($K$7:K2705,\"ﾘｽﾄ１\"))","v":""},"","","","","","","",{"$f":"IF(S2705=\"\",\"\",COUNTIF($S$7:S2705,\"該当２\"))","v":""},"","",{"$f":"IF(V2705=\"\",\"\",COUNTIF($V$7:V2705,\"該当３\"))","v":""}]
[822802002,8,228,{"v":4,"d":"04"},{"v":2,"d":"002 "},"茨城県","坂東市","弓馬田村","向山",null,"","",{"$f":"IF(K2710=\"\",\"\",COUNTIF($K$7:K2710,\"ﾘｽﾄ１\"))","v":""},"","","","","","","",{"$f":"IF(S2710=\"\",\"\",COUNTIF($S$7:S2710,\"該当２\"))","v":""},"","",{"$f":"IF(V2710=\"\",\"\",COUNTIF($V$7:V2710,\"該当３\"))","v":""}]
[822802005,8,228,{"v":4,"d":"04"},{"v":5,"d":"005 "},"茨城県","坂東市","弓馬田村","弓田三区",null,"","",{"$f":"IF(K2713=\"\",\"\",COUNTIF($K$7:K2713,\"ﾘｽﾄ１\"))","v":""},"","","","","","","",{"$f":"IF(S2713=\"\",\"\",COUNTIF($S$7:S2713,\"該当２\"))","v":""},"","",{"$f":"IF(V2713=\"\",\"\",COUNTIF($V$7:V2713,\"該当３\"))","v":""}]
[822802010,8,228,{"v":4,"d":"04"},{"v":10,"d":"010 "},"茨城県","坂東市","弓馬田村","立川",null,"","",{"$f":"IF(K2716=\"\",\"\",COUNTIF($K$7:K2716,\"ﾘｽﾄ１\"))","v":""},"","","","","","","",{"$f":"IF(S2716=\"\",\"\",COUNTIF($S$7:S2716,\"該当２\"))","v":""},"","",{"$f":"IF(V2716=\"\",\"\",COUNTIF($V$7:V2716,\"該当３\"))","v":""}]
[822803001,8,228,{"v":4,"d":"04"},{"v":1,"d":"001 "},"茨城県","坂東市","飯島村","庄右ヱ門新田",null,"","",{"$f":"IF(K2719=\"\",\"\",COUNTIF($K$7:K2719,\"ﾘｽﾄ１\"))","v":""},"","","","","","","",{"$f":"IF(S2719=\"\",\"\",COUNTIF($S$7:S2719,\"該当２\"))","v":""},"","",{"$f":"IF(V2719=\"\",\"\",COUNTIF($V$7:V2719,\"該当３\"))","v":""}]
[822803005,8,228,{"v":4,"d":"04"},{"v":5,"d":"005 "},"茨城県","坂東市","飯島村","幸田新田",null,"","",{"$f":"IF(K2723=\"\",\"\",COUNTIF($K$7:K2723,\"ﾘｽﾄ１\"))","v":""},"","","","","","","",{"$f":"IF(S2723=\"\",\"\",COUNTIF($S$7:S2723,\"該当２\"))","v":""},"","",{"$f":"IF(V2723=\"\",\"\",COUNTIF($V$7:V2723,\"該当３\"))","v":""}]
[822803008,8,228,{"v":4,"d":"04"},{"v":8,"d":"008 "},"茨城県","坂東市","飯島村","大馬新田",null,"","",{"$f":"IF(K2726=\"\",\"\",COUNTIF($K$7:K2726,\"ﾘｽﾄ１\"))","v":""},"","","","","","","",{"$f":"IF(S2726=\"\",\"\",COUNTIF($S$7:S2726,\"該当２\"))","v":""},"","",{"$f":"IF(V2726=\"\",\"\",COUNTIF($V$7:V2726,\"該当３\"))","v":""}]
[822804000,8,228,{"v":4,"d":"04"},{"v":0,"d":"000 "},"茨城県","坂東市","神大実村",null,null,"","",{"$f":"IF(K2727=\"\",\"\",COUNTIF($K$7:K2727,\"ﾘｽﾄ１\"))","v":""},"","","","","","","",{"$f":"IF(S2727=\"\",\"\",COUNTIF($S$7:S2727,\"該当２\"))","v":""},"","",{"$f":"IF(V2727=\"\",\"\",COUNTIF($V$7:V2727,\"該当３\"))","v":""}]
[822804004,8,228,{"v":4,"d":"04"},{"v":4,"d":"004 "},"茨城県","坂東市","神大実村","東原",null,"","",{"$f":"IF(K2731=\"\",\"\",COUNTIF($K$7:K2731,\"ﾘｽﾄ１\"))","v":""},"","","","","","","",{"$f":"IF(S2731=\"\",\"\",COUNTIF($S$7:S2731,\"該当２\"))","v":""},"","",{"$f":"IF(V2731=\"\",\"\",COUNTIF($V$7:V2731,\"該当３\"))","v":""}]
[822804007,8,228,{"v":4,"d":"04"},{"v":7,"d":"007 "},"茨城県","坂東市","神大実村","便無南",null,"","",{"$f":"IF(K2734=\"\",\"\",COUNTIF($K$7:K2734,\"ﾘｽﾄ１\"))","v":""},"","","","","","","",{"$f":"IF(S2734=\"\",\"\",COUNTIF($S$7:S2734,\"該当２\"))","v":""},"","",{"$f":"IF(V2734=\"\",\"\",COUNTIF($V$7:V2734,\"該当３\"))","v":""}]
[822804011,8,228,{"v":4,"d":"04"},{"v":11,"d":"011 "},"茨城県","坂東市","神大実村","山坪",null,"","",{"$f":"IF(K2738=\"\",\"\",COUNTIF($K$7:K2738,\"ﾘｽﾄ１\"))","v":""},"","","","","","","",{"$f":"IF(S2738=\"\",\"\",COUNTIF($S$7:S2738,\"該当２\"))","v":""},"","",{"$f":"IF(V2738=\"\",\"\",COUNTIF($V$7:V2738,\"該当３\"))","v":""}]
[822804014,8,228,{"v":4,"d":"04"},{"v":14,"d":"014 "},"茨城県","坂東市","神大実村","舟付吹上",null,"","",{"$f":"IF(K2741=\"\",\"\",COUNTIF($K$7:K2741,\"ﾘｽﾄ１\"))","v":""},"","","","","","","",{"$f":"IF(S2741=\"\",\"\",COUNTIF($S$7:S2741,\"該当２\"))","v":""},"","",{"$f":"IF(V2741=\"\",\"\",COUNTIF($V$7:V2741,\"該当３\"))","v":""}]
[822805001,8,228,{"v":4,"d":"04"},{"v":1,"d":"001 "},"茨城県","坂東市","七郷村","上矢作",null,"","",{"$f":"IF(K2744=\"\",\"\",COUNTIF($K$7:K2744,\"ﾘｽﾄ１\"))","v":""},"","","","","","","",{"$f":"IF(S2744=\"\",\"\",COUNTIF($S$7:S2744,\"該当２\"))","v":""},"","",{"$f":"IF(V2744=\"\",\"\",COUNTIF($V$7:V2744,\"該当３\"))","v":""}]
[822805005,8,228,{"v":4,"d":"04"},{"v":5,"d":"005 "},"茨城県","坂東市","七郷村","大崎",null,"","",{"$f":"IF(K2748=\"\",\"\",COUNTIF($K$7:K2748,\"ﾘｽﾄ１\"))","v":""},"","","","","","","",{"$f":"IF(S2748=\"\",\"\",COUNTIF($S$7:S2748,\"該当２\"))","v":""},"","",{"$f":"IF(V2748=\"\",\"\",COUNTIF($V$7:V2748,\"該当３\"))","v":""}]
[822805009,8,228,{"v":4,"d":"04"},{"v":9,"d":"009 "},"茨城県","坂東市","七郷村","下出島",null,"","",{"$f":"IF(K2752=\"\",\"\",COUNTIF($K$7:K2752,\"ﾘｽﾄ１\"))","v":""},"","","","","","","",{"$f":"IF(S2752=\"\",\"\",COUNTIF($S$7:S2752,\"該当２\"))","v":""},"","",{"$f":"IF(V2752=\"\",\"\",COUNTIF($V$7:V2752,\"該当３\"))","v":""}]
[822806001,8,228,{"v":4,"d":"04"},{"v":1,"d":"001 "},"茨城県","坂東市","中川村","長谷第一支部",null,"","",{"$f":"IF(K2755=\"\",\"\",COUNTIF($K$7:K2755,\"ﾘｽﾄ１\"))","v":""},"","","","","","","",{"$f":"IF(S2755=\"\",\"\",COUNTIF($S$7:S2755,\"該当２\"))","v":""},"","",{"$f":"IF(V2755=\"\",\"\",COUNTIF($V$7:V2755,\"該当３\"))","v":""}]
[822806002,8,228,{"v":4,"d":"04"},{"v":2,"d":"002 "},"茨城県","坂東市","中川村","長谷第二支部",null,"","",{"$f":"IF(K2756=\"\",\"\",COUNTIF($K$7:K2756,\"ﾘｽﾄ１\"))","v":""},"","","","","","","",{"$f":"IF(S2756=\"\",\"\",COUNTIF($S$7:S2756,\"該当２\"))","v":""},"","",{"$f":"IF(V2756=\"\",\"\",COUNTIF($V$7:V2756,\"該当３\"))","v":""}]
[822806005,8,228,{"v":4,"d":"04"},{"v":5,"d":"005 "},"茨城県","坂東市","中川村","長谷第五支部",null,"","",{"$f":"IF(K2759=\"\",\"\",COUNTIF($K$7:K2759,\"ﾘｽﾄ１\"))","v":""},"","","","","","","",{"$f":"IF(S2759=\"\",\"\",COUNTIF($S$7:S2759,\"該当２\"))","v":""},"","",{"$f":"IF(V2759=\"\",\"\",COUNTIF($V$7:V2759,\"該当３\"))","v":""}]
[822806009,8,228,{"v":4,"d":"04"},{"v":9,"d":"009 "},"茨城県","坂東市","中川村","小山下",null,{"$f":"IF(AND($C2763>0,$H2763=\"\"),\"ﾘｽﾄ１\",\"\")","v":""},{"$f":"IF(K2763=\"ﾘｽﾄ１\",G2763,\"\")","v":""},{"$f":"IF(K2763=\"\",\"\",COUNTIF($K$7:K2763,\"ﾘｽﾄ１\"))","v":""},{"$f":"IF(AND(D2763=0,E2763>0),\"同一区\",\"\")","v":""},{"$f":"IF(AND(EXACT($K$2,G2763),H2763>0),\"該当１\",\"\")","v":""},"","","",{"$f":"IF(AND(Q2763=\"ﾘｽﾄ2\",OR(I2763=0,AND(N2763=\"同一区\",E2763=1))),\"該当２\",\"\")","v":""},"",{"$f":"IF(S2763=\"\",\"\",COUNTIF($S$7:S2763,\"該当２\"))","v":""},"","",{"$f":"IF(V2763=\"\",\"\",COUNTIF($V$7:V2763,\"該当３\"))","v":""}]
[822807001,8,228,{"v":4,"d":"04"},{"v":1,"d":"001 "},"茨城県","坂東市","長須村","羽金小間口",null,"","",{"$f":"IF(K2766=\"\",\"\",COUNTIF($K$7:K2766,\"ﾘｽﾄ１\"))","v":""},"","","","","","","",{"$f":"IF(S2766=\"\",\"\",COUNTIF($S$7:S2766,\"該当２\"))","v":""},"","",{"$f":"IF(V2766=\"\",\"\",COUNTIF($V$7:V2766,\"該当３\"))","v":""}]
[822807004,8,228,{"v":4,"d":"04"},{"v":4,"d":"004 "},"茨城県","坂東市","長須村","古布田内荒久",null,"","",{"$f":"IF(K2769=\"\",\"\",COUNTIF($K$7:K2769,\"ﾘｽﾄ１\"))","v":""},"","","","","","","",{"$f":"IF(S2769=\"\",\"\",COUNTIF($S$7:S2769,\"該当２\"))","v":""},"","",{"$f":"IF(V2769=\"\",\"\",COUNTIF($V$7:V2769,\"該当３\"))","v":""}]
[822807009,8,228,{"v":4,"d":"04"},{"v":9,"d":"009 "},"茨城県","坂東市","長須村","舟戸田向",null,"","",{"$f":"IF(K2774=\"\",\"\",COUNTIF($K$7:K2774,\"ﾘｽﾄ１\"))","v":""},"","","","","","","",{"$f":"IF(S2774=\"\",\"\",COUNTIF($S$7:S2774,\"該当２\"))","v":""},"","",{"$f":"IF(V2774=\"\",\"\",COUNTIF($V$7:V2774,\"該当３\"))","v":""}]
[822807012,8,228,{"v":4,"d":"04"},{"v":12,"d":"012 "},"茨城県","坂東市","長須村","久保",null,"","",{"$f":"IF(K2777=\"\",\"\",COUNTIF($K$7:K2777,\"ﾘｽﾄ１\"))","v":""},"","","","","","","",{"$f":"IF(S2777=\"\",\"\",COUNTIF($S$7:S2777,\"該当２\"))","v":""},"","",{"$f":"IF(V2777=\"\",\"\",COUNTIF($V$7:V2777,\"該当３\"))","v":""}]
[822807013,8,228,{"v":4,"d":"04"},{"v":13,"d":"013 "},"茨城県","坂東市","長須村","松の台",null,"","",{"$f":"IF(K2778=\"\",\"\",COUNTIF($K$7:K2778,\"ﾘｽﾄ１\"))","v":""},"","","","","","","",{"$f":"IF(S2778=\"\",\"\",COUNTIF($S$7:S2778,\"該当２\"))","v":""},"","",{"$f":"IF(V2778=\"\",\"\",COUNTIF($V$7:V2778,\"該当３\"))","v":""}]
[822807016,8,228,{"v":4,"d":"04"},{"v":16,"d":"016 "},"茨城県","坂東市","長須村","西原前，中",null,"","",{"$f":"IF(K2781=\"\",\"\",COUNTIF($K$7:K2781,\"ﾘｽﾄ１\"))","v":""},"","","","","","","",{"$f":"IF(S2781=\"\",\"\",COUNTIF($S$7:S2781,\"該当２\"))","v":""},"","",{"$f":"IF(V2781=\"\",\"\",COUNTIF($V$7:V2781,\"該当３\"))","v":""}]
[822807019,8,228,{"v":4,"d":"04"},{"v":19,"d":"019 "},"茨城県","坂東市","長須村","木間ケ瀬",null,"","",{"$f":"IF(K2784=\"\",\"\",COUNTIF($K$7:K2784,\"ﾘｽﾄ１\"))","v":""},"","","","","","","",{"$f":"IF(S2784=\"\",\"\",COUNTIF($S$7:S2784,\"該当２\"))","v":""},"","",{"$f":"IF(V2784=\"\",\"\",COUNTIF($V$7:V2784,\"該当３\"))","v":""}]
[822808004,8,228,{"v":4,"d":"04"},{"v":4,"d":"004 "},"茨城県","坂東市","七重村","借宿西",null,"","",{"$f":"IF(K2790=\"\",\"\",COUNTIF($K$7:K2790,\"ﾘｽﾄ１\"))","v":""},"","","","","","","",{"$f":"IF(S2790=\"\",\"\",COUNTIF($S$7:S2790,\"該当２\"))","v":""},"","",{"$f":"IF(V2790=\"\",\"\",COUNTIF($V$7:V2790,\"該当３\"))","v":""}]
[822808006,8,228,{"v":4,"d":"04"},{"v":6,"d":"006 "},"茨城県","坂東市","七重村","上出島上",null,"","",{"$f":"IF(K2792=\"\",\"\",COUNTIF($K$7:K2792,\"ﾘｽﾄ１\"))","v":""},"","","","","","","",{"$f":"IF(S2792=\"\",\"\",COUNTIF($S$7:S2792,\"該当２\"))","v":""},"","",{"$f":"IF(V2792=\"\",\"\",COUNTIF($V$7:V2792,\"該当３\"))","v":""}]
[822808009,8,228,{"v":4,"d":"04"},{"v":9,"d":"009 "},"茨城県","坂東市","七重村","寺久",null,"","",{"$f":"IF(K2795=\"\",\"\",COUNTIF($K$7:K2795,\"ﾘｽﾄ１\"))","v":""},"","","","","","","",{"$f":"IF(S2795=\"\",\"\",COUNTIF($S$7:S2795,\"該当２\"))","v":""},"","",{"$f":"IF(V2795=\"\",\"\",COUNTIF($V$7:V2795,\"該当３\"))","v":""}]
[822809003,8,228,{"v":4,"d":"04"},{"v":3,"d":"003 "},"茨城県","坂東市","逆井山村","前原",null,"","",{"$f":"IF(K2799=\"\",\"\",COUNTIF($K$7:K2799,\"ﾘｽﾄ１\"))","v":""},"","","","","","","",{"$f":"IF(S2799=\"\",\"\",COUNTIF($S$7:S2799,\"該当２\"))","v":""},"","",{"$f":"IF(V2799=\"\",\"\",COUNTIF($V$7:V2799,\"該当３\"))","v":""}]
[822809006,8,228,{"v":4,"d":"04"},{"v":6,"d":"006 "},"茨城県","坂東市","逆井山村","上新田",null,"","",{"$f":"IF(K2802=\"\",\"\",COUNTIF($K$7:K2802,\"ﾘｽﾄ１\"))","v":""},"","","","","","","",{"$f":"IF(S2802=\"\",\"\",COUNTIF($S$7:S2802,\"該当２\"))","v":""},"","",{"$f":"IF(V2802=\"\",\"\",COUNTIF($V$7:V2802,\"該当３\"))","v":""}]
[822809007,8,228,{"v":4,"d":"04"},{"v":7,"d":"007 "},"茨城県","坂東市","逆井山村","沼の田",null,"","",{"$f":"IF(K2803=\"\",\"\",COUNTIF($K$7:K2803,\"ﾘｽﾄ１\"))","v":""},"","","","","","","",{"$f":"IF(S2803=\"\",\"\",COUNTIF($S$7:S2803,\"該当２\"))","v":""},"","",{"$f":"IF(V2803=\"\",\"\",COUNTIF($V$7:V2803,\"該当３\"))","v":""}]
[822809010,8,228,{"v":4,"d":"04"},{"v":10,"d":"010 "},"茨城県","坂東市","逆井山村","井岡",null,"","",{"$f":"IF(K2806=\"\",\"\",COUNTIF($K$7:K2806,\"ﾘｽﾄ１\"))","v":""},"","","","","","","",{"$f":"IF(S2806=\"\",\"\",COUNTIF($S$7:S2806,\"該当２\"))","v":""},"","",{"$f":"IF(V2806=\"\",\"\",COUNTIF($V$7:V2806,\"該当３\"))","v":""}]
[822810001,8,228,{"v":4,"d":"04"},{"v":1,"d":"001 "},"茨城県","坂東市","生子菅村","西生子",null,"","",{"$f":"IF(K2811=\"\",\"\",COUNTIF($K$7:K2811,\"ﾘｽﾄ１\"))","v":""},"","","","","","","",{"$f":"IF(S2811=\"\",\"\",COUNTIF($S$7:S2811,\"該当２\"))","v":""},"","",{"$f":"IF(V2811=\"\",\"\",COUNTIF($V$7:V2811,\"該当３\"))","v":""}]
[822810004,8,228,{"v":4,"d":"04"},{"v":4,"d":"004 "},"茨城県","坂東市","生子菅村","道正内",null,"","",{"$f":"IF(K2814=\"\",\"\",COUNTIF($K$7:K2814,\"ﾘｽﾄ１\"))","v":""},"","","","","","","",{"$f":"IF(S2814=\"\",\"\",COUNTIF($S$7:S2814,\"該当２\"))","v":""},"","",{"$f":"IF(V2814=\"\",\"\",COUNTIF($V$7:V2814,\"該当３\"))","v":""}]
[822810007,8,228,{"v":4,"d":"04"},{"v":7,"d":"007 "},"茨城県","坂東市","生子菅村","生子新田",null,"","",{"$f":"IF(K2817=\"\",\"\",COUNTIF($K$7:K2817,\"ﾘｽﾄ１\"))","v":""},"","","","","","","",{"$f":"IF(S2817=\"\",\"\",COUNTIF($S$7:S2817,\"該当２\"))","v":""},"","",{"$f":"IF(V2817=\"\",\"\",COUNTIF($V$7:V2817,\"該当３\"))","v":""}]
[822811001,8,228,{"v":4,"d":"04"},{"v":1,"d":"001 "},"茨城県","坂東市","沓掛村","向原",null,"","",{"$f":"IF(K2821=\"\",\"\",COUNTIF($K$7:K2821,\"ﾘｽﾄ１\"))","v":""},"","","","","","","",{"$f":"IF(S2821=\"\",\"\",COUNTIF($S$7:S2821,\"該当２\"))","v":""},"","",{"$f":"IF(V2821=\"\",\"\",COUNTIF($V$7:V2821,\"該当３\"))","v":""}]
[822811004,8,228,{"v":4,"d":"04"},{"v":4,"d":"004 "},"茨城県","坂東市","沓掛村","西村西",null,"","",{"$f":"IF(K2824=\"\",\"\",COUNTIF($K$7:K2824,\"ﾘｽﾄ１\"))","v":""},"","","","","","","",{"$f":"IF(S2824=\"\",\"\",COUNTIF($S$7:S2824,\"該当２\"))","v":""},"","",{"$f":"IF(V2824=\"\",\"\",COUNTIF($V$7:V2824,\"該当３\"))","v":""}]
[822811007,8,228,{"v":4,"d":"04"},{"v":7,"d":"007 "},"茨城県","坂東市","沓掛村","西村北",null,{"$f":"IF(AND($C2827>0,$H2827=\"\"),\"ﾘｽﾄ１\",\"\")","v":""},{"$f":"IF(K2827=\"ﾘｽﾄ１\",G2827,\"\")","v":""},{"$f":"IF(K2827=\"\",\"\",COUNTIF($K$7:K2827,\"ﾘｽﾄ１\"))","v":""},{"$f":"IF(AND(D2827=0,E2827>0),\"同一区\",\"\")","v":""},{"$f":"IF(AND(EXACT($K$2,G2827),H2827>0),\"該当１\",\"\")","v":""},"","","",{"$f":"IF(AND(Q2827=\"ﾘｽﾄ2\",OR(I2827=0,AND(N2827=\"同一区\",E2827=1))),\"該当２\",\"\")","v":""},"",{"$f":"IF(S2827=\"\",\"\",COUNTIF($S$7:S2827,\"該当２\"))","v":""},"","",{"$f":"IF(V2827=\"\",\"\",COUNTIF($V$7:V2827,\"該当３\"))","v":""}]
[822811008,8,228,{"v":4,"d":"04"},{"v":8,"d":"008 "},"茨城県","坂東市","沓掛村","深井",null,"","",{"$f":"IF(K2828=\"\",\"\",COUNTIF($K$7:K2828,\"ﾘｽﾄ１\"))","v":""},"","","","","","","",{"$f":"IF(S2828=\"\",\"\",COUNTIF($S$7:S2828,\"該当２\"))","v":""},"","",{"$f":"IF(V2828=\"\",\"\",COUNTIF($V$7:V2828,\"該当３\"))","v":""}]
[822811012,8,228,{"v":4,"d":"04"},{"v":12,"d":"012 "},"茨城県","坂東市","沓掛村","刈浜",null,"","",{"$f":"IF(K2832=\"\",\"\",COUNTIF($K$7:K2832,\"ﾘｽﾄ１\"))","v":""},"","","","","","","",{"$f":"IF(S2832=\"\",\"\",COUNTIF($S$7:S2832,\"該当２\"))","v":""},"","",{"$f":"IF(V2832=\"\",\"\",COUNTIF($V$7:V2832,\"該当３\"))","v":""}]
[822811015,8,228,{"v":4,"d":"04"},{"v":15,"d":"015 "},"茨城県","坂東市","沓掛村","釜前",null,"","",{"$f":"IF(K2835=\"\",\"\",COUNTIF($K$7:K2835,\"ﾘｽﾄ１\"))","v":""},"","","","","","","",{"$f":"IF(S2835=\"\",\"\",COUNTIF($S$7:S2835,\"該当２\"))","v":""},"","",{"$f":"IF(V2835=\"\",\"\",COUNTIF($V$7:V2835,\"該当３\"))","v":""}]
[822900000,8,229,{"v":4,"d":"04"},{"v":0,"d":"000 "},"茨城県","稲敷市",{"$nulls":3},"ﾘｽﾄ１","稲敷市",{"$f":"IF(K2839=\"\",\"\",COUNTIF($K$7:K2839,\"ﾘｽﾄ１\"))","v":25},"","","","","","","",{"$f":"IF(S2839=\"\",\"\",COUNTIF($S$7:S2839,\"該当２\"))","v":""},"","",{"$f":"IF(V2839=\"\",\"\",COUNTIF($V$7:V2839,\"該当３\"))","v":""}]
[822901002,8,229,{"v":4,"d":"04"},{"v":2,"d":"002 "},"茨城県","稲敷市","江戸崎町","門前",null,"","",{"$f":"IF(K2842=\"\",\"\",COUNTIF($K$7:K2842,\"ﾘｽﾄ１\"))","v":""},"","","","","","","",{"$f":"IF(S2842=\"\",\"\",COUNTIF($S$7:S2842,\"該当２\"))","v":""},"","",{"$f":"IF(V2842=\"\",\"\",COUNTIF($V$7:V2842,\"該当３\"))","v":""}]
[822901006,8,229,{"v":4,"d":"04"},{"v":6,"d":"006 "},"茨城県","稲敷市","江戸崎町","荒宿、江戸崎本宿",null,"","",{"$f":"IF(K2846=\"\",\"\",COUNTIF($K$7:K2846,\"ﾘｽﾄ１\"))","v":""},"","","","","","","",{"$f":"IF(S2846=\"\",\"\",COUNTIF($S$7:S2846,\"該当２\"))","v":""},"","",{"$f":"IF(V2846=\"\",\"\",COUNTIF($V$7:V2846,\"該当３\"))","v":""}]
[822901009,8,229,{"v":4,"d":"04"},{"v":9,"d":"009 "},"茨城県","稲敷市","江戸崎町","切通，根宿",null,"","",{"$f":"IF(K2849=\"\",\"\",COUNTIF($K$7:K2849,\"ﾘｽﾄ１\"))","v":""},"","","","","","","",{"$f":"IF(S2849=\"\",\"\",COUNTIF($S$7:S2849,\"該当２\"))","v":""},"","",{"$f":"IF(V2849=\"\",\"\",COUNTIF($V$7:V2849,\"該当３\"))","v":""}]
[822901013,8,229,{"v":4,"d":"04"},{"v":13,"d":"013 "},"茨城県","稲敷市","江戸崎町","荒野",null,"","",{"$f":"IF(K2853=\"\",\"\",COUNTIF($K$7:K2853,\"ﾘｽﾄ１\"))","v":""},"","","","","","","",{"$f":"IF(S2853=\"\",\"\",COUNTIF($S$7:S2853,\"該当２\"))","v":""},"","",{"$f":"IF(V2853=\"\",\"\",COUNTIF($V$7:V2853,\"該当３\"))","v":""}]
[822902000,8,229,{"v":4,"d":"04"},{"v":0,"d":"000 "},"茨城県","稲敷市","君賀村",null,null,"","",{"$f":"IF(K2854=\"\",\"\",COUNTIF($K$7:K2854,\"ﾘｽﾄ１\"))","v":""},"","","","","","","",{"$f":"IF(S2854=\"\",\"\",COUNTIF($S$7:S2854,\"該当２\"))","v":""},"","",{"$f":"IF(V2854=\"\",\"\",COUNTIF($V$7:V2854,\"該当３\"))","v":""}]
[822902003,8,229,{"v":4,"d":"04"},{"v":3,"d":"003 "},"茨城県","稲敷市","君賀村","松山",null,"","",{"$f":"IF(K2857=\"\",\"\",COUNTIF($K$7:K2857,\"ﾘｽﾄ１\"))","v":""},"","","","","","","",{"$f":"IF(S2857=\"\",\"\",COUNTIF($S$7:S2857,\"該当２\"))","v":""},"","",{"$f":"IF(V2857=\"\",\"\",COUNTIF($V$7:V2857,\"該当３\"))","v":""}]
[822903000,8,229,{"v":4,"d":"04"},{"v":0,"d":"000 "},"茨城県","稲敷市","沼里村",null,null,"","",{"$f":"IF(K2860=\"\",\"\",COUNTIF($K$7:K2860,\"ﾘｽﾄ１\"))","v":""},"","","","","","","",{"$f":"IF(S2860=\"\",\"\",COUNTIF($S$7:S2860,\"該当２\"))","v":""},"","",{"$f":"IF(V2860=\"\",\"\",COUNTIF($V$7:V2860,\"該当３\"))","v":""}]
[822903004,8,229,{"v":4,"d":"04"},{"v":4,"d":"004 "},"茨城県","稲敷市","沼里村","時崎",null,"","",{"$f":"IF(K2864=\"\",\"\",COUNTIF($K$7:K2864,\"ﾘｽﾄ１\"))","v":""},"","","","","","","",{"$f":"IF(S2864=\"\",\"\",COUNTIF($S$7:S2864,\"該当２\"))","v":""},"","",{"$f":"IF(V2864=\"\",\"\",COUNTIF($V$7:V2864,\"該当３\"))","v":""}]
[822903007,8,229,{"v":4,"d":"04"},{"v":7,"d":"007 "},"茨城県","稲敷市","沼里村","月出里第二",null,"","",{"$f":"IF(K2867=\"\",\"\",COUNTIF($K$7:K2867,\"ﾘｽﾄ１\"))","v":""},"","","","","","","",{"$f":"IF(S2867=\"\",\"\",COUNTIF($S$7:S2867,\"該当２\"))","v":""},"","",{"$f":"IF(V2867=\"\",\"\",COUNTIF($V$7:V2867,\"該当３\"))","v":""}]
[822904000,8,229,{"v":4,"d":"04"},{"v":0,"d":"000 "},"茨城県","稲敷市","高田村",null,null,"","",{"$f":"IF(K2870=\"\",\"\",COUNTIF($K$7:K2870,\"ﾘｽﾄ１\"))","v":""},"","","","","","","",{"$f":"IF(S2870=\"\",\"\",COUNTIF($S$7:S2870,\"該当２\"))","v":""},"","",{"$f":"IF(V2870=\"\",\"\",COUNTIF($V$7:V2870,\"該当３\"))","v":""}]
[822904005,8,229,{"v":4,"d":"04"},{"v":5,"d":"005 "},"茨城県","稲敷市","高田村","桑山",null,"","",{"$f":"IF(K2875=\"\",\"\",COUNTIF($K$7:K2875,\"ﾘｽﾄ１\"))","v":""},"","","","","","","",{"$f":"IF(S2875=\"\",\"\",COUNTIF($S$7:S2875,\"該当２\"))","v":""},"","",{"$f":"IF(V2875=\"\",\"\",COUNTIF($V$7:V2875,\"該当３\"))","v":""}]
[822905002,8,229,{"v":4,"d":"04"},{"v":2,"d":"002 "},"茨城県","稲敷市","鳩崎村","迎",null,"","",{"$f":"IF(K2878=\"\",\"\",COUNTIF($K$7:K2878,\"ﾘｽﾄ１\"))","v":""},"","","","","","","",{"$f":"IF(S2878=\"\",\"\",COUNTIF($S$7:S2878,\"該当２\"))","v":""},"","",{"$f":"IF(V2878=\"\",\"\",COUNTIF($V$7:V2878,\"該当３\"))","v":""}]
[822905003,8,229,{"v":4,"d":"04"},{"v":3,"d":"003 "},"茨城県","稲敷市","鳩崎村","小松川",null,"","",{"$f":"IF(K2879=\"\",\"\",COUNTIF($K$7:K2879,\"ﾘｽﾄ１\"))","v":""},"","","","","","","",{"$f":"IF(S2879=\"\",\"\",COUNTIF($S$7:S2879,\"該当２\"))","v":""},"","",{"$f":"IF(V2879=\"\",\"\",COUNTIF($V$7:V2879,\"該当３\"))","v":""}]
[822905006,8,229,{"v":4,"d":"04"},{"v":6,"d":"006 "},"茨城県","稲敷市","鳩崎村","野原新田",null,"","",{"$f":"IF(K2882=\"\",\"\",COUNTIF($K$7:K2882,\"ﾘｽﾄ１\"))","v":""},"","","","","","","",{"$f":"IF(S2882=\"\",\"\",COUNTIF($S$7:S2882,\"該当２\"))","v":""},"","",{"$f":"IF(V2882=\"\",\"\",COUNTIF($V$7:V2882,\"該当３\"))","v":""}]
[822906001,8,229,{"v":4,"d":"04"},{"v":1,"d":"001 "},"茨城県","稲敷市","柴崎村","寄居",null,"","",{"$f":"IF(K2886=\"\",\"\",COUNTIF($K$7:K2886,\"ﾘｽﾄ１\"))","v":""},"","","","","","","",{"$f":"IF(S2886=\"\",\"\",COUNTIF($S$7:S2886,\"該当２\"))","v":""},"","",{"$f":"IF(V2886=\"\",\"\",COUNTIF($V$7:V2886,\"該当３\"))","v":""}]
[822906006,8,229,{"v":4,"d":"04"},{"v":6,"d":"006 "},"茨城県","稲敷市","柴崎村","伊崎",null,{"$f":"IF(AND($C2891>0,$H2891=\"\"),\"ﾘｽﾄ１\",\"\")","v":""},{"$f":"IF(K2891=\"ﾘｽﾄ１\",G2891,\"\")","v":""},{"$f":"IF(K2891=\"\",\"\",COUNTIF($K$7:K2891,\"ﾘｽﾄ１\"))","v":""},{"$f":"IF(AND(D2891=0,E2891>0),\"同一区\",\"\")","v":""},{"$f":"IF(AND(EXACT($K$2,G2891),H2891>0),\"該当１\",\"\")","v":""},"","","",{"$f":"IF(AND(Q2891=\"ﾘｽﾄ2\",OR(I2891=0,AND(N2891=\"同一区\",E2891=1))),\"該当２\",\"\")","v":""},"",{"$f":"IF(S2891=\"\",\"\",COUNTIF($S$7:S2891,\"該当２\"))","v":""},"","",{"$f":"IF(V2891=\"\",\"\",COUNTIF($V$7:V2891,\"該当３\"))","v":""}]
[822906008,8,229,{"v":4,"d":"04"},{"v":8,"d":"008 "},"茨城県","稲敷市","柴崎村","中山",null,"","",{"$f":"IF(K2893=\"\",\"\",COUNTIF($K$7:K2893,\"ﾘｽﾄ１\"))","v":""},"","","","","","","",{"$f":"IF(S2893=\"\",\"\",COUNTIF($S$7:S2893,\"該当２\"))","v":""},"","",{"$f":"IF(V2893=\"\",\"\",COUNTIF($V$7:V2893,\"該当３\"))","v":""}]
[822907001,8,229,{"v":4,"d":"04"},{"v":1,"d":"001 "},"茨城県","稲敷市","根本村","羽黒",null,"","",{"$f":"IF(K2897=\"\",\"\",COUNTIF($K$7:K2897,\"ﾘｽﾄ１\"))","v":""},"","","","","","","",{"$f":"IF(S2897=\"\",\"\",COUNTIF($S$7:S2897,\"該当２\"))","v":""},"","",{"$f":"IF(V2897=\"\",\"\",COUNTIF($V$7:V2897,\"該当３\"))","v":""}]
[822907004,8,229,{"v":4,"d":"04"},{"v":4,"d":"004 "},"茨城県","稲敷市","根本村","六軒口",null,"","",{"$f":"IF(K2900=\"\",\"\",COUNTIF($K$7:K2900,\"ﾘｽﾄ１\"))","v":""},"","","","","","","",{"$f":"IF(S2900=\"\",\"\",COUNTIF($S$7:S2900,\"該当２\"))","v":""},"","",{"$f":"IF(V2900=\"\",\"\",COUNTIF($V$7:V2900,\"該当３\"))","v":""}]
[822907007,8,229,{"v":4,"d":"04"},{"v":7,"d":"007 "},"茨城県","稲敷市","根本村","中下宿",null,"","",{"$f":"IF(K2903=\"\",\"\",COUNTIF($K$7:K2903,\"ﾘｽﾄ１\"))","v":""},"","","","","","","",{"$f":"IF(S2903=\"\",\"\",COUNTIF($S$7:S2903,\"該当２\"))","v":""},"","",{"$f":"IF(V2903=\"\",\"\",COUNTIF($V$7:V2903,\"該当３\"))","v":""}]
[822907008,8,229,{"v":4,"d":"04"},{"v":8,"d":"008 "},"茨城県","稲敷市","根本村","横町",null,"","",{"$f":"IF(K2904=\"\",\"\",COUNTIF($K$7:K2904,\"ﾘｽﾄ１\"))","v":""},"","","","","","","",{"$f":"IF(S2904=\"\",\"\",COUNTIF($S$7:S2904,\"該当２\"))","v":""},"","",{"$f":"IF(V2904=\"\",\"\",COUNTIF($V$7:V2904,\"該当３\"))","v":""}]
[822907011,8,229,{"v":4,"d":"04"},{"v":11,"d":"011 "},"茨城県","稲敷市","根本村","沓掛",null,"","",{"$f":"IF(K2907=\"\",\"\",COUNTIF($K$7:K2907,\"ﾘｽﾄ１\"))","v":""},"","","","","","","",{"$f":"IF(S2907=\"\",\"\",COUNTIF($S$7:S2907,\"該当２\"))","v":""},"","",{"$f":"IF(V2907=\"\",\"\",COUNTIF($V$7:V2907,\"該当３\"))","v":""}]
[822908002,8,229,{"v":4,"d":"04"},{"v":2,"d":"002 "},"茨城県","稲敷市","太田村（稲敷市）","小野",null,"","",{"$f":"IF(K2912=\"\",\"\",COUNTIF($K$7:K2912,\"ﾘｽﾄ１\"))","v":""},"","","","","","","",{"$f":"IF(S2912=\"\",\"\",COUNTIF($S$7:S2912,\"該当２\"))","v":""},"","",{"$f":"IF(V2912=\"\",\"\",COUNTIF($V$7:V2912,\"該当３\"))","v":""}]
[822908005,8,229,{"v":4,"d":"04"},{"v":5,"d":"005 "},"茨城県","稲敷市","太田村（稲敷市）","仲門",null,"","",{"$f":"IF(K2915=\"\",\"\",COUNTIF($K$7:K2915,\"ﾘｽﾄ１\"))","v":""},"","","","","","","",{"$f":"IF(S2915=\"\",\"\",COUNTIF($S$7:S2915,\"該当２\"))","v":""},"","",{"$f":"IF(V2915=\"\",\"\",COUNTIF($V$7:V2915,\"該当３\"))","v":""}]
[822908008,8,229,{"v":4,"d":"04"},{"v":8,"d":"008 "},"茨城県","稲敷市","太田村（稲敷市）","谷中新宿",null,"","",{"$f":"IF(K2918=\"\",\"\",COUNTIF($K$7:K2918,\"ﾘｽﾄ１\"))","v":""},"","","","","","","",{"$f":"IF(S2918=\"\",\"\",COUNTIF($S$7:S2918,\"該当２\"))","v":""},"","",{"$f":"IF(V2918=\"\",\"\",COUNTIF($V$7:V2918,\"該当３\"))","v":""}]
[822909001,8,229,{"v":4,"d":"04"},{"v":1,"d":"001 "},"茨城県","稲敷市","浮島村","西の洲",null,"","",{"$f":"IF(K2922=\"\",\"\",COUNTIF($K$7:K2922,\"ﾘｽﾄ１\"))","v":""},"","","","","","","",{"$f":"IF(S2922=\"\",\"\",COUNTIF($S$7:S2922,\"該当２\"))","v":""},"","",{"$f":"IF(V2922=\"\",\"\",COUNTIF($V$7:V2922,\"該当３\"))","v":""}]
[822909004,8,229,{"v":4,"d":"04"},{"v":4,"d":"004 "},"茨城県","稲敷市","浮島村","前浦",null,"","",{"$f":"IF(K2925=\"\",\"\",COUNTIF($K$7:K2925,\"ﾘｽﾄ１\"))","v":""},"","","","","","","",{"$f":"IF(S2925=\"\",\"\",COUNTIF($S$7:S2925,\"該当２\"))","v":""},"","",{"$f":"IF(V2925=\"\",\"\",COUNTIF($V$7:V2925,\"該当３\"))","v":""}]
[822909007,8,229,{"v":4,"d":"04"},{"v":7,"d":"007 "},"茨城県","稲敷市","浮島村","原口",null,"","",{"$f":"IF(K2928=\"\",\"\",COUNTIF($K$7:K2928,\"ﾘｽﾄ１\"))","v":""},"","","","","","","",{"$f":"IF(S2928=\"\",\"\",COUNTIF($S$7:S2928,\"該当２\"))","v":""},"","",{"$f":"IF(V2928=\"\",\"\",COUNTIF($V$7:V2928,\"該当３\"))","v":""}]
[822909008,8,229,{"v":4,"d":"04"},{"v":8,"d":"008 "},"茨城県","稲敷市","浮島村","前原",null,"","",{"$f":"IF(K2929=\"\",\"\",COUNTIF($K$7:K2929,\"ﾘｽﾄ１\"))","v":""},"","","","","","","",{"$f":"IF(S2929=\"\",\"\",COUNTIF($S$7:S2929,\"該当２\"))","v":""},"","",{"$f":"IF(V2929=\"\",\"\",COUNTIF($V$7:V2929,\"該当３\"))","v":""}]
[822909012,8,229,{"v":4,"d":"04"},{"v":12,"d":"012 "},"茨城県","稲敷市","浮島村","和田",null,"","",{"$f":"IF(K2933=\"\",\"\",COUNTIF($K$7:K2933,\"ﾘｽﾄ１\"))","v":""},"","","","","","","",{"$f":"IF(S2933=\"\",\"\",COUNTIF($S$7:S2933,\"該当２\"))","v":""},"","",{"$f":"IF(V2933=\"\",\"\",COUNTIF($V$7:V2933,\"該当３\"))","v":""}]
[822910002,8,229,{"v":4,"d":"04"},{"v":2,"d":"002 "},"茨城県","稲敷市","古渡村","上馬渡",null,"","",{"$f":"IF(K2937=\"\",\"\",COUNTIF($K$7:K2937,\"ﾘｽﾄ１\"))","v":""},"","","","","","","",{"$f":"IF(S2937=\"\",\"\",COUNTIF($S$7:S2937,\"該当２\"))","v":""},"","",{"$f":"IF(V2937=\"\",\"\",COUNTIF($V$7:V2937,\"該当３\"))","v":""}]
[822910005,8,229,{"v":4,"d":"04"},{"v":5,"d":"005 "},"茨城県","稲敷市","古渡村","松川",null,"","",{"$f":"IF(K2940=\"\",\"\",COUNTIF($K$7:K2940,\"ﾘｽﾄ１\"))","v":""},"","","","","","","",{"$f":"IF(S2940=\"\",\"\",COUNTIF($S$7:S2940,\"該当２\"))","v":""},"","",{"$f":"IF(V2940=\"\",\"\",COUNTIF($V$7:V2940,\"該当３\"))","v":""}]
[822910008,8,229,{"v":4,"d":"04"},{"v":8,"d":"008 "},"茨城県","稲敷市","古渡村","岡飯出",null,"","",{"$f":"IF(K2943=\"\",\"\",COUNTIF($K$7:K2943,\"ﾘｽﾄ１\"))","v":""},"","","","","","","",{"$f":"IF(S2943=\"\",\"\",COUNTIF($S$7:S2943,\"該当２\"))","v":""},"","",{"$f":"IF(V2943=\"\",\"\",COUNTIF($V$7:V2943,\"該当３\"))","v":""}]
[822910012,8,229,{"v":4,"d":"04"},{"v":12,"d":"012 "},"茨城県","稲敷市","古渡村","古渡第４",null,"","",{"$f":"IF(K2947=\"\",\"\",COUNTIF($K$7:K2947,\"ﾘｽﾄ１\"))","v":""},"","","","","","","",{"$f":"IF(S2947=\"\",\"\",COUNTIF($S$7:S2947,\"該当２\"))","v":""},"","",{"$f":"IF(V2947=\"\",\"\",COUNTIF($V$7:V2947,\"該当３\"))","v":""}]
[822910015,8,229,{"v":4,"d":"04"},{"v":15,"d":"015 "},"茨城県","稲敷市","古渡村","羽生",null,"","",{"$f":"IF(K2950=\"\",\"\",COUNTIF($K$7:K2950,\"ﾘｽﾄ１\"))","v":""},"","","","","","","",{"$f":"IF(S2950=\"\",\"\",COUNTIF($S$7:S2950,\"該当２\"))","v":""},"","",{"$f":"IF(V2950=\"\",\"\",COUNTIF($V$7:V2950,\"該当３\"))","v":""}]
[822911001,8,229,{"v":4,"d":"04"},{"v":1,"d":"001 "},"茨城県","稲敷市","阿波村","阿波",null,"","",{"$f":"IF(K2952=\"\",\"\",COUNTIF($K$7:K2952,\"ﾘｽﾄ１\"))","v":""},"","","","","","","",{"$f":"IF(S2952=\"\",\"\",COUNTIF($S$7:S2952,\"該当２\"))","v":""},"","",{"$f":"IF(V2952=\"\",\"\",COUNTIF($V$7:V2952,\"該当３\"))","v":""}]
[822911004,8,229,{"v":4,"d":"04"},{"v":4,"d":"004 "},"茨城県","稲敷市","阿波村","西大塚",null,{"$f":"IF(AND($C2955>0,$H2955=\"\"),\"ﾘｽﾄ１\",\"\")","v":""},{"$f":"IF(K2955=\"ﾘｽﾄ１\",G2955,\"\")","v":""},{"$f":"IF(K2955=\"\",\"\",COUNTIF($K$7:K2955,\"ﾘｽﾄ１\"))","v":""},{"$f":"IF(AND(D2955=0,E2955>0),\"同一区\",\"\")","v":""},{"$f":"IF(AND(EXACT($K$2,G2955),H2955>0),\"該当１\",\"\")","v":""},"","","",{"$f":"IF(AND(Q2955=\"ﾘｽﾄ2\",OR(I2955=0,AND(N2955=\"同一区\",E2955=1))),\"該当２\",\"\")","v":""},"",{"$f":"IF(S2955=\"\",\"\",COUNTIF($S$7:S2955,\"該当２\"))","v":""},"","",{"$f":"IF(V2955=\"\",\"\",COUNTIF($V$7:V2955,\"該当３\"))","v":""}]
[822911007,8,229,{"v":4,"d":"04"},{"v":7,"d":"007 "},"茨城県","稲敷市","阿波村","酒井，中台",null,"","",{"$f":"IF(K2958=\"\",\"\",COUNTIF($K$7:K2958,\"ﾘｽﾄ１\"))","v":""},"","","","","","","",{"$f":"IF(S2958=\"\",\"\",COUNTIF($S$7:S2958,\"該当２\"))","v":""},"","",{"$f":"IF(V2958=\"\",\"\",COUNTIF($V$7:V2958,\"該当３\"))","v":""}]
[822911011,8,229,{"v":4,"d":"04"},{"v":11,"d":"011 "},"茨城県","稲敷市","阿波村","甘田",null,"","",{"$f":"IF(K2962=\"\",\"\",COUNTIF($K$7:K2962,\"ﾘｽﾄ１\"))","v":""},"","","","","","","",{"$f":"IF(S2962=\"\",\"\",COUNTIF($S$7:S2962,\"該当２\"))","v":""},"","",{"$f":"IF(V2962=\"\",\"\",COUNTIF($V$7:V2962,\"該当３\"))","v":""}]
[822912002,8,229,{"v":4,"d":"04"},{"v":2,"d":"002 "},"茨城県","稲敷市","本新島村","中神，水神",null,"","",{"$f":"IF(K2965=\"\",\"\",COUNTIF($K$7:K2965,\"ﾘｽﾄ１\"))","v":""},"","","","","","","",{"$f":"IF(S2965=\"\",\"\",COUNTIF($S$7:S2965,\"該当２\"))","v":""},"","",{"$f":"IF(V2965=\"\",\"\",COUNTIF($V$7:V2965,\"該当３\"))","v":""}]
[822912005,8,229,{"v":4,"d":"04"},{"v":5,"d":"005 "},"茨城県","稲敷市","本新島村","中新田・役前",null,"","",{"$f":"IF(K2968=\"\",\"\",COUNTIF($K$7:K2968,\"ﾘｽﾄ１\"))","v":""},"","","","","","","",{"$f":"IF(S2968=\"\",\"\",COUNTIF($S$7:S2968,\"該当２\"))","v":""},"","",{"$f":"IF(V2968=\"\",\"\",COUNTIF($V$7:V2968,\"該当３\"))","v":""}]
[822912008,8,229,{"v":4,"d":"04"},{"v":8,"d":"008 "},"茨城県","稲敷市","本新島村","西代",null,"","",{"$f":"IF(K2971=\"\",\"\",COUNTIF($K$7:K2971,\"ﾘｽﾄ１\"))","v":""},"","","","","","","",{"$f":"IF(S2971=\"\",\"\",COUNTIF($S$7:S2971,\"該当２\"))","v":""},"","",{"$f":"IF(V2971=\"\",\"\",COUNTIF($V$7:V2971,\"該当３\"))","v":""}]
[822913001,8,229,{"v":4,"d":"04"},{"v":1,"d":"001 "},"茨城県","稲敷市","大須賀村","清水",null,"","",{"$f":"IF(K2976=\"\",\"\",COUNTIF($K$7:K2976,\"ﾘｽﾄ１\"))","v":""},"","","","","","","",{"$f":"IF(S2976=\"\",\"\",COUNTIF($S$7:S2976,\"該当２\"))","v":""},"","",{"$f":"IF(V2976=\"\",\"\",COUNTIF($V$7:V2976,\"該当３\"))","v":""}]
[822913002,8,229,{"v":4,"d":"04"},{"v":2,"d":"002 "},"茨城県","稲敷市","大須賀村","町田",null,"","",{"$f":"IF(K2977=\"\",\"\",COUNTIF($K$7:K2977,\"ﾘｽﾄ１\"))","v":""},"","","","","","","",{"$f":"IF(S2977=\"\",\"\",COUNTIF($S$7:S2977,\"該当２\"))","v":""},"","",{"$f":"IF(V2977=\"\",\"\",COUNTIF($V$7:V2977,\"該当３\"))","v":""}]
[822913005,8,229,{"v":4,"d":"04"},{"v":5,"d":"005 "},"茨城県","稲敷市","大須賀村","福田",null,"","",{"$f":"IF(K2980=\"\",\"\",COUNTIF($K$7:K2980,\"ﾘｽﾄ１\"))","v":""},"","","","","","","",{"$f":"IF(S2980=\"\",\"\",COUNTIF($S$7:S2980,\"該当２\"))","v":""},"","",{"$f":"IF(V2980=\"\",\"\",COUNTIF($V$7:V2980,\"該当３\"))","v":""}]
[822913008,8,229,{"v":4,"d":"04"},{"v":8,"d":"008 "},"茨城県","稲敷市","大須賀村","脇川",null,"","",{"$f":"IF(K2983=\"\",\"\",COUNTIF($K$7:K2983,\"ﾘｽﾄ１\"))","v":""},"","","","","","","",{"$f":"IF(S2983=\"\",\"\",COUNTIF($S$7:S2983,\"該当２\"))","v":""},"","",{"$f":"IF(V2983=\"\",\"\",COUNTIF($V$7:V2983,\"該当３\"))","v":""}]
[822914000,8,229,{"v":4,"d":"04"},{"v":0,"d":"000 "},"茨城県","稲敷市","十余島村２－２",null,null,"","",{"$f":"IF(K2987=\"\",\"\",COUNTIF($K$7:K2987,\"ﾘｽﾄ１\"))","v":""},"","","","","","","",{"$f":"IF(S2987=\"\",\"\",COUNTIF($S$7:S2987,\"該当２\"))","v":""},"","",{"$f":"IF(V2987=\"\",\"\",COUNTIF($V$7:V2987,\"該当３\"))","v":""}]
[822914005,8,229,{"v":4,"d":"04"},{"v":5,"d":"005 "},"茨城県","稲敷市","十余島村２－２","曲渕",null,"","",{"$f":"IF(K2992=\"\",\"\",COUNTIF($K$7:K2992,\"ﾘｽﾄ１\"))","v":""},"","","","","","","",{"$f":"IF(S2992=\"\",\"\",COUNTIF($S$7:S2992,\"該当２\"))","v":""},"","",{"$f":"IF(V2992=\"\",\"\",COUNTIF($V$7:V2992,\"該当３\"))","v":""}]
[822914008,8,229,{"v":4,"d":"04"},{"v":8,"d":"008 "},"茨城県","稲敷市","十余島村２－２","結佐",null,"","",{"$f":"IF(K2995=\"\",\"\",COUNTIF($K$7:K2995,\"ﾘｽﾄ１\"))","v":""},"","","","","","","",{"$f":"IF(S2995=\"\",\"\",COUNTIF($S$7:S2995,\"該当２\"))","v":""},"","",{"$f":"IF(V2995=\"\",\"\",COUNTIF($V$7:V2995,\"該当３\"))","v":""}]
[822915000,8,229,{"v":4,"d":"04"},{"v":0,"d":"000 "},"茨城県","稲敷市","伊崎村",null,null,"","",{"$f":"IF(K2998=\"\",\"\",COUNTIF($K$7:K2998,\"ﾘｽﾄ１\"))","v":""},"","","","","","","",{"$f":"IF(S2998=\"\",\"\",COUNTIF($S$7:S2998,\"該当２\"))","v":""},"","",{"$f":"IF(V2998=\"\",\"\",COUNTIF($V$7:V2998,\"該当３\"))","v":""}]
[822915003,8,229,{"v":4,"d":"04"},{"v":3,"d":"003 "},"茨城県","稲敷市","伊崎村","阿波崎",null,"","",{"$f":"IF(K3001=\"\",\"\",COUNTIF($K$7:K3001,\"ﾘｽﾄ１\"))","v":""},"","","","","","","",{"$f":"IF(S3001=\"\",\"\",COUNTIF($S$7:S3001,\"該当２\"))","v":""},"","",{"$f":"IF(V3001=\"\",\"\",COUNTIF($V$7:V3001,\"該当３\"))","v":""}]
[822915004,8,229,{"v":4,"d":"04"},{"v":4,"d":"004 "},"茨城県","稲敷市","伊崎村","下須田",null,"","",{"$f":"IF(K3002=\"\",\"\",COUNTIF($K$7:K3002,\"ﾘｽﾄ１\"))","v":""},"","","","","","","",{"$f":"IF(S3002=\"\",\"\",COUNTIF($S$7:S3002,\"該当２\"))","v":""},"","",{"$f":"IF(V3002=\"\",\"\",COUNTIF($V$7:V3002,\"該当３\"))","v":""}]
[823001001,8,230,{"v":4,"d":"04"},{"v":1,"d":"001 "},"茨城県","かすみがうら市","美並村","上大堤",null,"","",{"$f":"IF(K3005=\"\",\"\",COUNTIF($K$7:K3005,\"ﾘｽﾄ１\"))","v":""},"","","","","","","",{"$f":"IF(S3005=\"\",\"\",COUNTIF($S$7:S3005,\"該当２\"))","v":""},"","",{"$f":"IF(V3005=\"\",\"\",COUNTIF($V$7:V3005,\"該当３\"))","v":""}]
[823001005,8,230,{"v":4,"d":"04"},{"v":5,"d":"005 "},"茨城県","かすみがうら市","美並村","大和田",null,"","",{"$f":"IF(K3009=\"\",\"\",COUNTIF($K$7:K3009,\"ﾘｽﾄ１\"))","v":""},"","","","","","","",{"$f":"IF(S3009=\"\",\"\",COUNTIF($S$7:S3009,\"該当２\"))","v":""},"","",{"$f":"IF(V3009=\"\",\"\",COUNTIF($V$7:V3009,\"該当３\"))","v":""}]
[823001009,8,230,{"v":4,"d":"04"},{"v":9,"d":"009 "},"茨城県","かすみがうら市","美並村","深谷上郷",null,"","",{"$f":"IF(K3013=\"\",\"\",COUNTIF($K$7:K3013,\"ﾘｽﾄ１\"))","v":""},"","","","","","","",{"$f":"IF(S3013=\"\",\"\",COUNTIF($S$7:S3013,\"該当２\"))","v":""},"","",{"$f":"IF(V3013=\"\",\"\",COUNTIF($V$7:V3013,\"該当３\"))","v":""}]
[823001012,8,230,{"v":4,"d":"04"},{"v":12,"d":"012 "},"茨城県","かすみがうら市","美並村","深谷東部",null,"","",{"$f":"IF(K3016=\"\",\"\",COUNTIF($K$7:K3016,\"ﾘｽﾄ１\"))","v":""},"","","","","","","",{"$f":"IF(S3016=\"\",\"\",COUNTIF($S$7:S3016,\"該当２\"))","v":""},"","",{"$f":"IF(V3016=\"\",\"\",COUNTIF($V$7:V3016,\"該当３\"))","v":""}]
[823002000,8,230,{"v":4,"d":"04"},{"v":0,"d":"000 "},"茨城県","かすみがうら市","志士庫村",null,null,"","",{"$f":"IF(K3020=\"\",\"\",COUNTIF($K$7:K3020,\"ﾘｽﾄ１\"))","v":""},"","","","","","","",{"$f":"IF(S3020=\"\",\"\",COUNTIF($S$7:S3020,\"該当２\"))","v":""},"","",{"$f":"IF(V3020=\"\",\"\",COUNTIF($V$7:V3020,\"該当３\"))","v":""}]
[823002003,8,230,{"v":4,"d":"04"},{"v":3,"d":"003 "},"茨城県","かすみがうら市","志士庫村","新宿",null,"","",{"$f":"IF(K3023=\"\",\"\",COUNTIF($K$7:K3023,\"ﾘｽﾄ１\"))","v":""},"","","","","","","",{"$f":"IF(S3023=\"\",\"\",COUNTIF($S$7:S3023,\"該当２\"))","v":""},"","",{"$f":"IF(V3023=\"\",\"\",COUNTIF($V$7:V3023,\"該当３\"))","v":""}]
[823002006,8,230,{"v":4,"d":"04"},{"v":6,"d":"006 "},"茨城県","かすみがうら市","志士庫村","上軽部",null,"","",{"$f":"IF(K3026=\"\",\"\",COUNTIF($K$7:K3026,\"ﾘｽﾄ１\"))","v":""},"","","","","","","",{"$f":"IF(S3026=\"\",\"\",COUNTIF($S$7:S3026,\"該当２\"))","v":""},"","",{"$f":"IF(V3026=\"\",\"\",COUNTIF($V$7:V3026,\"該当３\"))","v":""}]
[823002007,8,230,{"v":4,"d":"04"},{"v":7,"d":"007 "},"茨城県","かすみがうら市","志士庫村","西成井",null,"","",{"$f":"IF(K3027=\"\",\"\",COUNTIF($K$7:K3027,\"ﾘｽﾄ１\"))","v":""},"","","","","","","",{"$f":"IF(S3027=\"\",\"\",COUNTIF($S$7:S3027,\"該当２\"))","v":""},"","",{"$f":"IF(V3027=\"\",\"\",COUNTIF($V$7:V3027,\"該当３\"))","v":""}]
[823002010,8,230,{"v":4,"d":"04"},{"v":10,"d":"010 "},"茨城県","かすみがうら市","志士庫村","金川",null,"","",{"$f":"IF(K3030=\"\",\"\",COUNTIF($K$7:K3030,\"ﾘｽﾄ１\"))","v":""},"","","","","","","",{"$f":"IF(S3030=\"\",\"\",COUNTIF($S$7:S3030,\"該当２\"))","v":""},"","",{"$f":"IF(V3030=\"\",\"\",COUNTIF($V$7:V3030,\"該当３\"))","v":""}]
[823002014,8,230,{"v":4,"d":"04"},{"v":14,"d":"014 "},"茨城県","かすみがうら市","志士庫村","小原",null,"","",{"$f":"IF(K3034=\"\",\"\",COUNTIF($K$7:K3034,\"ﾘｽﾄ１\"))","v":""},"","","","","","","",{"$f":"IF(S3034=\"\",\"\",COUNTIF($S$7:S3034,\"該当２\"))","v":""},"","",{"$f":"IF(V3034=\"\",\"\",COUNTIF($V$7:V3034,\"該当３\"))","v":""}]
[823003002,8,230,{"v":4,"d":"04"},{"v":2,"d":"002 "},"茨城県","かすみがうら市","佐賀村","石田，後路",null,"","",{"$f":"IF(K3038=\"\",\"\",COUNTIF($K$7:K3038,\"ﾘｽﾄ１\"))","v":""},"","","","","","","",{"$f":"IF(S3038=\"\",\"\",COUNTIF($S$7:S3038,\"該当２\"))","v":""},"","",{"$f":"IF(V3038=\"\",\"\",COUNTIF($V$7:V3038,\"該当３\"))","v":""}]
[823003005,8,230,{"v":4,"d":"04"},{"v":5,"d":"005 "},"茨城県","かすみがうら市","佐賀村","根本前原",null,"","",{"$f":"IF(K3041=\"\",\"\",COUNTIF($K$7:K3041,\"ﾘｽﾄ１\"))","v":""},"","","","","","","",{"$f":"IF(S3041=\"\",\"\",COUNTIF($S$7:S3041,\"該当２\"))","v":""},"","",{"$f":"IF(V3041=\"\",\"\",COUNTIF($V$7:V3041,\"該当３\"))","v":""}]
[823003009,8,230,{"v":4,"d":"04"},{"v":9,"d":"009 "},"茨城県","かすみがうら市","佐賀村","有河，二ノ宮",null,"","",{"$f":"IF(K3045=\"\",\"\",COUNTIF($K$7:K3045,\"ﾘｽﾄ１\"))","v":""},"","","","","","","",{"$f":"IF(S3045=\"\",\"\",COUNTIF($S$7:S3045,\"該当２\"))","v":""},"","",{"$f":"IF(V3045=\"\",\"\",COUNTIF($V$7:V3045,\"該当３\"))","v":""}]
[823003012,8,230,{"v":4,"d":"04"},{"v":12,"d":"012 "},"茨城県","かすみがうら市","佐賀村","上東",null,"","",{"$f":"IF(K3048=\"\",\"\",COUNTIF($K$7:K3048,\"ﾘｽﾄ１\"))","v":""},"","","","","","","",{"$f":"IF(S3048=\"\",\"\",COUNTIF($S$7:S3048,\"該当２\"))","v":""},"","",{"$f":"IF(V3048=\"\",\"\",COUNTIF($V$7:V3048,\"該当３\"))","v":""}]
[823004000,8,230,{"v":4,"d":"04"},{"v":0,"d":"000 "},"茨城県","かすみがうら市","安飾村",null,null,"","",{"$f":"IF(K3051=\"\",\"\",COUNTIF($K$7:K3051,\"ﾘｽﾄ１\"))","v":""},"","","","","","","",{"$f":"IF(S3051=\"\",\"\",COUNTIF($S$7:S3051,\"該当２\"))","v":""},"","",{"$f":"IF(V3051=\"\",\"\",COUNTIF($V$7:V3051,\"該当３\"))","v":""}]
[823004002,8,230,{"v":4,"d":"04"},{"v":2,"d":"002 "},"茨城県","かすみがうら市","安飾村","高賀津",null,"","",{"$f":"IF(K3053=\"\",\"\",COUNTIF($K$7:K3053,\"ﾘｽﾄ１\"))","v":""},"","","","","","","",{"$f":"IF(S3053=\"\",\"\",COUNTIF($S$7:S3053,\"該当２\"))","v":""},"","",{"$f":"IF(V3053=\"\",\"\",COUNTIF($V$7:V3053,\"該当３\"))","v":""}]
[823004005,8,230,{"v":4,"d":"04"},{"v":5,"d":"005 "},"茨城県","かすみがうら市","安飾村","宮下",null,"","",{"$f":"IF(K3056=\"\",\"\",COUNTIF($K$7:K3056,\"ﾘｽﾄ１\"))","v":""},"","","","","","","",{"$f":"IF(S3056=\"\",\"\",COUNTIF($S$7:S3056,\"該当２\"))","v":""},"","",{"$f":"IF(V3056=\"\",\"\",COUNTIF($V$7:V3056,\"該当３\"))","v":""}]
[823004009,8,230,{"v":4,"d":"04"},{"v":9,"d":"009 "},"茨城県","かすみがうら市","安飾村","柏崎",null,"","",{"$f":"IF(K3060=\"\",\"\",COUNTIF($K$7:K3060,\"ﾘｽﾄ１\"))","v":""},"","","","","","","",{"$f":"IF(S3060=\"\",\"\",COUNTIF($S$7:S3060,\"該当２\"))","v":""},"","",{"$f":"IF(V3060=\"\",\"\",COUNTIF($V$7:V3060,\"該当３\"))","v":""}]
[823004012,8,230,{"v":4,"d":"04"},{"v":12,"d":"012 "},"茨城県","かすみがうら市","安飾村","田端，芝久保",null,"","",{"$f":"IF(K3063=\"\",\"\",COUNTIF($K$7:K3063,\"ﾘｽﾄ１\"))","v":""},"","","","","","","",{"$f":"IF(S3063=\"\",\"\",COUNTIF($S$7:S3063,\"該当２\"))","v":""},"","",{"$f":"IF(V3063=\"\",\"\",COUNTIF($V$7:V3063,\"該当３\"))","v":""}]
[823005000,8,230,{"v":4,"d":"04"},{"v":0,"d":"000 "},"茨城県","かすみがうら市","牛渡村",null,null,"","",{"$f":"IF(K3066=\"\",\"\",COUNTIF($K$7:K3066,\"ﾘｽﾄ１\"))","v":""},"","","","","","","",{"$f":"IF(S3066=\"\",\"\",COUNTIF($S$7:S3066,\"該当２\"))","v":""},"","",{"$f":"IF(V3066=\"\",\"\",COUNTIF($V$7:V3066,\"該当３\"))","v":""}]
[823005004,8,230,{"v":4,"d":"04"},{"v":4,"d":"004 "},"茨城県","かすみがうら市","牛渡村","下郷",null,"","",{"$f":"IF(K3070=\"\",\"\",COUNTIF($K$7:K3070,\"ﾘｽﾄ１\"))","v":""},"","","","","","","",{"$f":"IF(S3070=\"\",\"\",COUNTIF($S$7:S3070,\"該当２\"))","v":""},"","",{"$f":"IF(V3070=\"\",\"\",COUNTIF($V$7:V3070,\"該当３\"))","v":""}]
[823005006,8,230,{"v":4,"d":"04"},{"v":6,"d":"006 "},"茨城県","かすみがうら市","牛渡村","有河",null,"","",{"$f":"IF(K3072=\"\",\"\",COUNTIF($K$7:K3072,\"ﾘｽﾄ１\"))","v":""},"","","","","","","",{"$f":"IF(S3072=\"\",\"\",COUNTIF($S$7:S3072,\"該当２\"))","v":""},"","",{"$f":"IF(V3072=\"\",\"\",COUNTIF($V$7:V3072,\"該当３\"))","v":""}]
[823005011,8,230,{"v":4,"d":"04"},{"v":11,"d":"011 "},"茨城県","かすみがうら市","牛渡村","房中",null,"","",{"$f":"IF(K3077=\"\",\"\",COUNTIF($K$7:K3077,\"ﾘｽﾄ１\"))","v":""},"","","","","","","",{"$f":"IF(S3077=\"\",\"\",COUNTIF($S$7:S3077,\"該当２\"))","v":""},"","",{"$f":"IF(V3077=\"\",\"\",COUNTIF($V$7:V3077,\"該当３\"))","v":""}]
[823006000,8,230,{"v":4,"d":"04"},{"v":0,"d":"000 "},"茨城県","かすみがうら市","下大津村",null,null,"","",{"$f":"IF(K3078=\"\",\"\",COUNTIF($K$7:K3078,\"ﾘｽﾄ１\"))","v":""},"","","","","","","",{"$f":"IF(S3078=\"\",\"\",COUNTIF($S$7:S3078,\"該当２\"))","v":""},"","",{"$f":"IF(V3078=\"\",\"\",COUNTIF($V$7:V3078,\"該当３\"))","v":""}]
[823006003,8,230,{"v":4,"d":"04"},{"v":3,"d":"003 "},"茨城県","かすみがうら市","下大津村","崎浜",null,"","",{"$f":"IF(K3081=\"\",\"\",COUNTIF($K$7:K3081,\"ﾘｽﾄ１\"))","v":""},"","","","","","","",{"$f":"IF(S3081=\"\",\"\",COUNTIF($S$7:S3081,\"該当２\"))","v":""},"","",{"$f":"IF(V3081=\"\",\"\",COUNTIF($V$7:V3081,\"該当３\"))","v":""}]
[823006007,8,230,{"v":4,"d":"04"},{"v":7,"d":"007 "},"茨城県","かすみがうら市","下大津村","内加茂",null,"","",{"$f":"IF(K3085=\"\",\"\",COUNTIF($K$7:K3085,\"ﾘｽﾄ１\"))","v":""},"","","","","","","",{"$f":"IF(S3085=\"\",\"\",COUNTIF($S$7:S3085,\"該当２\"))","v":""},"","",{"$f":"IF(V3085=\"\",\"\",COUNTIF($V$7:V3085,\"該当３\"))","v":""}]
[823006010,8,230,{"v":4,"d":"04"},{"v":10,"d":"010 "},"茨城県","かすみがうら市","下大津村","川尻",null,"","",{"$f":"IF(K3088=\"\",\"\",COUNTIF($K$7:K3088,\"ﾘｽﾄ１\"))","v":""},"","","","","","","",{"$f":"IF(S3088=\"\",\"\",COUNTIF($S$7:S3088,\"該当２\"))","v":""},"","",{"$f":"IF(V3088=\"\",\"\",COUNTIF($V$7:V3088,\"該当３\"))","v":""}]
[823007003,8,230,{"v":4,"d":"04"},{"v":3,"d":"003 "},"茨城県","かすみがうら市","新治村（かすみがうら市）","上土田",null,"","",{"$f":"IF(K3093=\"\",\"\",COUNTIF($K$7:K3093,\"ﾘｽﾄ１\"))","v":""},"","","","","","","",{"$f":"IF(S3093=\"\",\"\",COUNTIF($S$7:S3093,\"該当２\"))","v":""},"","",{"$f":"IF(V3093=\"\",\"\",COUNTIF($V$7:V3093,\"該当３\"))","v":""}]
[823007006,8,230,{"v":4,"d":"04"},{"v":6,"d":"006 "},"茨城県","かすみがうら市","新治村（かすみがうら市）","市川",null,"","",{"$f":"IF(K3096=\"\",\"\",COUNTIF($K$7:K3096,\"ﾘｽﾄ１\"))","v":""},"","","","","","","",{"$f":"IF(S3096=\"\",\"\",COUNTIF($S$7:S3096,\"該当２\"))","v":""},"","",{"$f":"IF(V3096=\"\",\"\",COUNTIF($V$7:V3096,\"該当３\"))","v":""}]
[823007009,8,230,{"v":4,"d":"04"},{"v":9,"d":"009 "},"茨城県","かすみがうら市","新治村（かすみがうら市）","新治",null,"","",{"$f":"IF(K3099=\"\",\"\",COUNTIF($K$7:K3099,\"ﾘｽﾄ１\"))","v":""},"","","","","","","",{"$f":"IF(S3099=\"\",\"\",COUNTIF($S$7:S3099,\"該当２\"))","v":""},"","",{"$f":"IF(V3099=\"\",\"\",COUNTIF($V$7:V3099,\"該当３\"))","v":""}]
[823008000,8,230,{"v":4,"d":"04"},{"v":0,"d":"000 "},"茨城県","かすみがうら市","志筑村",null,null,"","",{"$f":"IF(K3100=\"\",\"\",COUNTIF($K$7:K3100,\"ﾘｽﾄ１\"))","v":""},"","","","","","","",{"$f":"IF(S3100=\"\",\"\",COUNTIF($S$7:S3100,\"該当２\"))","v":""},"","",{"$f":"IF(V3100=\"\",\"\",COUNTIF($V$7:V3100,\"該当３\"))","v":""}]
[823008003,8,230,{"v":4,"d":"04"},{"v":3,"d":"003 "},"茨城県","かすみがうら市","志筑村","中志筑",null,"","",{"$f":"IF(K3103=\"\",\"\",COUNTIF($K$7:K3103,\"ﾘｽﾄ１\"))","v":""},"","","","","","","",{"$f":"IF(S3103=\"\",\"\",COUNTIF($S$7:S3103,\"該当２\"))","v":""},"","",{"$f":"IF(V3103=\"\",\"\",COUNTIF($V$7:V3103,\"該当３\"))","v":""}]
[823008006,8,230,{"v":4,"d":"04"},{"v":6,"d":"006 "},"茨城県","かすみがうら市","志筑村","大峰",null,"","",{"$f":"IF(K3106=\"\",\"\",COUNTIF($K$7:K3106,\"ﾘｽﾄ１\"))","v":""},"","","","","","","",{"$f":"IF(S3106=\"\",\"\",COUNTIF($S$7:S3106,\"該当２\"))","v":""},"","",{"$f":"IF(V3106=\"\",\"\",COUNTIF($V$7:V3106,\"該当３\"))","v":""}]
[823009001,8,230,{"v":4,"d":"04"},{"v":1,"d":"001 "},"茨城県","かすみがうら市","七会村（かすみがうら市）","雪入",null,"","",{"$f":"IF(K3110=\"\",\"\",COUNTIF($K$7:K3110,\"ﾘｽﾄ１\"))","v":""},"","","","","","","",{"$f":"IF(S3110=\"\",\"\",COUNTIF($S$7:S3110,\"該当２\"))","v":""},"","",{"$f":"IF(V3110=\"\",\"\",COUNTIF($V$7:V3110,\"該当３\"))","v":""}]
[823009005,8,230,{"v":4,"d":"04"},{"v":5,"d":"005 "},"茨城県","かすみがうら市","七会村（かすみがうら市）","下佐谷",null,"","",{"$f":"IF(K3114=\"\",\"\",COUNTIF($K$7:K3114,\"ﾘｽﾄ１\"))","v":""},"","","","","","","",{"$f":"IF(S3114=\"\",\"\",COUNTIF($S$7:S3114,\"該当２\"))","v":""},"","",{"$f":"IF(V3114=\"\",\"\",COUNTIF($V$7:V3114,\"該当３\"))","v":""}]
[823009008,8,230,{"v":4,"d":"04"},{"v":8,"d":"008 "},"茨城県","かすみがうら市","七会村（かすみがうら市）","馬立",null,"","",{"$f":"IF(K3117=\"\",\"\",COUNTIF($K$7:K3117,\"ﾘｽﾄ１\"))","v":""},"","","","","","","",{"$f":"IF(S3117=\"\",\"\",COUNTIF($S$7:S3117,\"該当２\"))","v":""},"","",{"$f":"IF(V3117=\"\",\"\",COUNTIF($V$7:V3117,\"該当３\"))","v":""}]
[823009012,8,230,{"v":4,"d":"04"},{"v":12,"d":"012 "},"茨城県","かすみがうら市","七会村（かすみがうら市）","市村",null,"","",{"$f":"IF(K3121=\"\",\"\",COUNTIF($K$7:K3121,\"ﾘｽﾄ１\"))","v":""},"","","","","","","",{"$f":"IF(S3121=\"\",\"\",COUNTIF($S$7:S3121,\"該当２\"))","v":""},"","",{"$f":"IF(V3121=\"\",\"\",COUNTIF($V$7:V3121,\"該当３\"))","v":""}]
[823009015,8,230,{"v":4,"d":"04"},{"v":15,"d":"015 "},"茨城県","かすみがうら市","七会村（かすみがうら市）","逆西",null,"","",{"$f":"IF(K3124=\"\",\"\",COUNTIF($K$7:K3124,\"ﾘｽﾄ１\"))","v":""},"","","","","","","",{"$f":"IF(S3124=\"\",\"\",COUNTIF($S$7:S3124,\"該当２\"))","v":""},"","",{"$f":"IF(V3124=\"\",\"\",COUNTIF($V$7:V3124,\"該当３\"))","v":""}]
[823100000,8,231,{"v":4,"d":"04"},{"v":0,"d":"000 "},"茨城県","桜川市",{"$nulls":3},"ﾘｽﾄ１","桜川市",{"$f":"IF(K3125=\"\",\"\",COUNTIF($K$7:K3125,\"ﾘｽﾄ１\"))","v":27},"","","","","","","",{"$f":"IF(S3125=\"\",\"\",COUNTIF($S$7:S3125,\"該当２\"))","v":""},"","",{"$f":"IF(V3125=\"\",\"\",COUNTIF($V$7:V3125,\"該当３\"))","v":""}]
[823101002,8,231,{"v":4,"d":"04"},{"v":2,"d":"002 "},"茨城県","桜川市","岩瀬町","西区",null,"","",{"$f":"IF(K3128=\"\",\"\",COUNTIF($K$7:K3128,\"ﾘｽﾄ１\"))","v":""},"","","","","","","",{"$f":"IF(S3128=\"\",\"\",COUNTIF($S$7:S3128,\"該当２\"))","v":""},"","",{"$f":"IF(V3128=\"\",\"\",COUNTIF($V$7:V3128,\"該当３\"))","v":""}]
[823101005,8,231,{"v":4,"d":"04"},{"v":5,"d":"005 "},"茨城県","桜川市","岩瀬町","常盤町",null,"","",{"$f":"IF(K3131=\"\",\"\",COUNTIF($K$7:K3131,\"ﾘｽﾄ１\"))","v":""},"","","","","","","",{"$f":"IF(S3131=\"\",\"\",COUNTIF($S$7:S3131,\"該当２\"))","v":""},"","",{"$f":"IF(V3131=\"\",\"\",COUNTIF($V$7:V3131,\"該当３\"))","v":""}]
[823101010,8,231,{"v":4,"d":"04"},{"v":10,"d":"010 "},"茨城県","桜川市","岩瀬町","下泉",null,"","",{"$f":"IF(K3136=\"\",\"\",COUNTIF($K$7:K3136,\"ﾘｽﾄ１\"))","v":""},"","","","","","","",{"$f":"IF(S3136=\"\",\"\",COUNTIF($S$7:S3136,\"該当２\"))","v":""},"","",{"$f":"IF(V3136=\"\",\"\",COUNTIF($V$7:V3136,\"該当３\"))","v":""}]
[823101013,8,231,{"v":4,"d":"04"},{"v":13,"d":"013 "},"茨城県","桜川市","岩瀬町","西飯岡",null,"","",{"$f":"IF(K3139=\"\",\"\",COUNTIF($K$7:K3139,\"ﾘｽﾄ１\"))","v":""},"","","","","","","",{"$f":"IF(S3139=\"\",\"\",COUNTIF($S$7:S3139,\"該当２\"))","v":""},"","",{"$f":"IF(V3139=\"\",\"\",COUNTIF($V$7:V3139,\"該当３\"))","v":""}]
[823101016,8,231,{"v":4,"d":"04"},{"v":16,"d":"016 "},"茨城県","桜川市","岩瀬町","久原",null,"","",{"$f":"IF(K3142=\"\",\"\",COUNTIF($K$7:K3142,\"ﾘｽﾄ１\"))","v":""},"","","","","","","",{"$f":"IF(S3142=\"\",\"\",COUNTIF($S$7:S3142,\"該当２\"))","v":""},"","",{"$f":"IF(V3142=\"\",\"\",COUNTIF($V$7:V3142,\"該当３\"))","v":""}]
[823102001,8,231,{"v":4,"d":"04"},{"v":1,"d":"001 "},"茨城県","桜川市","北那珂村","亀岡",null,"","",{"$f":"IF(K3146=\"\",\"\",COUNTIF($K$7:K3146,\"ﾘｽﾄ１\"))","v":""},"","",{"$f":"IF(O3146=\"該当１\",G3146,\"\")","v":""},{"$f":"IF(O3146=\"該当１\",\"ﾘｽﾄ2\",\"\")","v":""},{"$f":"IF(Q3146=\"ﾘｽﾄ2\",H3146,\"\")","v":""},"",{"$f":"IF(S3146=\"該当２\",H3146,\"\")","v":""},{"$f":"IF(S3146=\"\",\"\",COUNTIF($S$7:S3146,\"該当２\"))","v":""},{"$f":"IF(AND($S$2=H3146,E3146>0,E3146<998),\"該当３\",\"\")","v":""},{"$f":"IF(V3146=\"該当３\",I3146,\"\")","v":""},{"$f":"IF(V3146=\"\",\"\",COUNTIF($V$7:V3146,\"該当３\"))","v":""}]
[823102004,8,231,{"v":4,"d":"04"},{"v":4,"d":"004 "},"茨城県","桜川市","北那珂村","池亀",null,"","",{"$f":"IF(K3149=\"\",\"\",COUNTIF($K$7:K3149,\"ﾘｽﾄ１\"))","v":""},"","","","","","","",{"$f":"IF(S3149=\"\",\"\",COUNTIF($S$7:S3149,\"該当２\"))","v":""},"","",{"$f":"IF(V3149=\"\",\"\",COUNTIF($V$7:V3149,\"該当３\"))","v":""}]
[823102007,8,231,{"v":4,"d":"04"},{"v":7,"d":"007 "},"茨城県","桜川市","北那珂村","大月",null,"","",{"$f":"IF(K3152=\"\",\"\",COUNTIF($K$7:K3152,\"ﾘｽﾄ１\"))","v":""},"","","","","","","",{"$f":"IF(S3152=\"\",\"\",COUNTIF($S$7:S3152,\"該当２\"))","v":""},"","",{"$f":"IF(V3152=\"\",\"\",COUNTIF($V$7:V3152,\"該当３\"))","v":""}]
[823102009,8,231,{"v":4,"d":"04"},{"v":9,"d":"009 "},"茨城県","桜川市","北那珂村","福崎",null,"","",{"$f":"IF(K3154=\"\",\"\",COUNTIF($K$7:K3154,\"ﾘｽﾄ１\"))","v":""},"","","","","","","",{"$f":"IF(S3154=\"\",\"\",COUNTIF($S$7:S3154,\"該当２\"))","v":""},"","",{"$f":"IF(V3154=\"\",\"\",COUNTIF($V$7:V3154,\"該当３\"))","v":""}]
[823102012,8,231,{"v":4,"d":"04"},{"v":12,"d":"012 "},"茨城県","桜川市","北那珂村","門毛１",null,"","",{"$f":"IF(K3157=\"\",\"\",COUNTIF($K$7:K3157,\"ﾘｽﾄ１\"))","v":""},"","","","","","","",{"$f":"IF(S3157=\"\",\"\",COUNTIF($S$7:S3157,\"該当２\"))","v":""},"","",{"$f":"IF(V3157=\"\",\"\",COUNTIF($V$7:V3157,\"該当３\"))","v":""}]
[823102016,8,231,{"v":4,"d":"04"},{"v":16,"d":"016 "},"茨城県","桜川市","北那珂村","入野本田",null,"","",{"$f":"IF(K3161=\"\",\"\",COUNTIF($K$7:K3161,\"ﾘｽﾄ１\"))","v":""},"","","","","","","",{"$f":"IF(S3161=\"\",\"\",COUNTIF($S$7:S3161,\"該当２\"))","v":""},"","",{"$f":"IF(V3161=\"\",\"\",COUNTIF($V$7:V3161,\"該当３\"))","v":""}]
[823102019,8,231,{"v":4,"d":"04"},{"v":19,"d":"019 "},"茨城県","桜川市","北那珂村","富谷東",null,"","",{"$f":"IF(K3164=\"\",\"\",COUNTIF($K$7:K3164,\"ﾘｽﾄ１\"))","v":""},"","","","","","","",{"$f":"IF(S3164=\"\",\"\",COUNTIF($S$7:S3164,\"該当２\"))","v":""},"","",{"$f":"IF(V3164=\"\",\"\",COUNTIF($V$7:V3164,\"該当３\"))","v":""}]
[823103003,8,231,{"v":4,"d":"04"},{"v":3,"d":"003 "},"茨城県","桜川市","東那珂村","西小塙三",null,"","",{"$f":"IF(K3168=\"\",\"\",COUNTIF($K$7:K3168,\"ﾘｽﾄ１\"))","v":""},"","","","","","","",{"$f":"IF(S3168=\"\",\"\",COUNTIF($S$7:S3168,\"該当２\"))","v":""},"","",{"$f":"IF(V3168=\"\",\"\",COUNTIF($V$7:V3168,\"該当３\"))","v":""}]
[823103004,8,231,{"v":4,"d":"04"},{"v":4,"d":"004 "},"茨城県","桜川市","東那珂村","加茂部一",null,"","",{"$f":"IF(K3169=\"\",\"\",COUNTIF($K$7:K3169,\"ﾘｽﾄ１\"))","v":""},"","","","","","","",{"$f":"IF(S3169=\"\",\"\",COUNTIF($S$7:S3169,\"該当２\"))","v":""},"","",{"$f":"IF(V3169=\"\",\"\",COUNTIF($V$7:V3169,\"該当３\"))","v":""}]
[823103010,8,231,{"v":4,"d":"04"},{"v":10,"d":"010 "},"茨城県","桜川市","東那珂村","曽根",null,"","",{"$f":"IF(K3175=\"\",\"\",COUNTIF($K$7:K3175,\"ﾘｽﾄ１\"))","v":""},"","","","","","","",{"$f":"IF(S3175=\"\",\"\",COUNTIF($S$7:S3175,\"該当２\"))","v":""},"","",{"$f":"IF(V3175=\"\",\"\",COUNTIF($V$7:V3175,\"該当３\"))","v":""}]
[823103011,8,231,{"v":4,"d":"04"},{"v":11,"d":"011 "},"茨城県","桜川市","東那珂村","松田",null,"","",{"$f":"IF(K3176=\"\",\"\",COUNTIF($K$7:K3176,\"ﾘｽﾄ１\"))","v":""},"","","","","","","",{"$f":"IF(S3176=\"\",\"\",COUNTIF($S$7:S3176,\"該当２\"))","v":""},"","",{"$f":"IF(V3176=\"\",\"\",COUNTIF($V$7:V3176,\"該当３\"))","v":""}]
[823103014,8,231,{"v":4,"d":"04"},{"v":14,"d":"014 "},"茨城県","桜川市","東那珂村","西友部",null,"","",{"$f":"IF(K3179=\"\",\"\",COUNTIF($K$7:K3179,\"ﾘｽﾄ１\"))","v":""},"","","","","","","",{"$f":"IF(S3179=\"\",\"\",COUNTIF($S$7:S3179,\"該当２\"))","v":""},"","",{"$f":"IF(V3179=\"\",\"\",COUNTIF($V$7:V3179,\"該当３\"))","v":""}]
[823103017,8,231,{"v":4,"d":"04"},{"v":17,"d":"017 "},"茨城県","桜川市","東那珂村","谷中",null,"","",{"$f":"IF(K3182=\"\",\"\",COUNTIF($K$7:K3182,\"ﾘｽﾄ１\"))","v":""},"","","","","","","",{"$f":"IF(S3182=\"\",\"\",COUNTIF($S$7:S3182,\"該当２\"))","v":""},"","",{"$f":"IF(V3182=\"\",\"\",COUNTIF($V$7:V3182,\"該当３\"))","v":""}]
[823103021,8,231,{"v":4,"d":"04"},{"v":21,"d":"021 "},"茨城県","桜川市","東那珂村","稲",null,"","",{"$f":"IF(K3186=\"\",\"\",COUNTIF($K$7:K3186,\"ﾘｽﾄ１\"))","v":""},"","","","","","","",{"$f":"IF(S3186=\"\",\"\",COUNTIF($S$7:S3186,\"該当２\"))","v":""},"","",{"$f":"IF(V3186=\"\",\"\",COUNTIF($V$7:V3186,\"該当３\"))","v":""}]
[823104002,8,231,{"v":4,"d":"04"},{"v":2,"d":"002 "},"茨城県","桜川市","樺穂村","上小幡",null,"","",{"$f":"IF(K3189=\"\",\"\",COUNTIF($K$7:K3189,\"ﾘｽﾄ１\"))","v":""},"","","","","","","",{"$f":"IF(S3189=\"\",\"\",COUNTIF($S$7:S3189,\"該当２\"))","v":""},"","",{"$f":"IF(V3189=\"\",\"\",COUNTIF($V$7:V3189,\"該当３\"))","v":""}]
[823104007,8,231,{"v":4,"d":"04"},{"v":7,"d":"007 "},"茨城県","桜川市","樺穂村","桜井",null,"","",{"$f":"IF(K3194=\"\",\"\",COUNTIF($K$7:K3194,\"ﾘｽﾄ１\"))","v":""},"","","","","","","",{"$f":"IF(S3194=\"\",\"\",COUNTIF($S$7:S3194,\"該当２\"))","v":""},"","",{"$f":"IF(V3194=\"\",\"\",COUNTIF($V$7:V3194,\"該当３\"))","v":""}]
[823105000,8,231,{"v":4,"d":"04"},{"v":0,"d":"000 "},"茨城県","桜川市","紫尾村",null,null,"","",{"$f":"IF(K3197=\"\",\"\",COUNTIF($K$7:K3197,\"ﾘｽﾄ１\"))","v":""},"","","","","","","",{"$f":"IF(S3197=\"\",\"\",COUNTIF($S$7:S3197,\"該当２\"))","v":""},"","",{"$f":"IF(V3197=\"\",\"\",COUNTIF($V$7:V3197,\"該当３\"))","v":""}]
[823105003,8,231,{"v":4,"d":"04"},{"v":3,"d":"003 "},"茨城県","桜川市","紫尾村","堀の内",null,"","",{"$f":"IF(K3200=\"\",\"\",COUNTIF($K$7:K3200,\"ﾘｽﾄ１\"))","v":""},"","","","","","","",{"$f":"IF(S3200=\"\",\"\",COUNTIF($S$7:S3200,\"該当２\"))","v":""},"","",{"$f":"IF(V3200=\"\",\"\",COUNTIF($V$7:V3200,\"該当３\"))","v":""}]
[823105004,8,231,{"v":4,"d":"04"},{"v":4,"d":"004 "},"茨城県","桜川市","紫尾村","中村",null,"","",{"$f":"IF(K3201=\"\",\"\",COUNTIF($K$7:K3201,\"ﾘｽﾄ１\"))","v":""},"","","","","","","",{"$f":"IF(S3201=\"\",\"\",COUNTIF($S$7:S3201,\"該当２\"))","v":""},"","",{"$f":"IF(V3201=\"\",\"\",COUNTIF($V$7:V3201,\"該当３\"))","v":""}]
[823105007,8,231,{"v":4,"d":"04"},{"v":7,"d":"007 "},"茨城県","桜川市","紫尾村","遠西",null,"","",{"$f":"IF(K3204=\"\",\"\",COUNTIF($K$7:K3204,\"ﾘｽﾄ１\"))","v":""},"","","","","","","",{"$f":"IF(S3204=\"\",\"\",COUNTIF($S$7:S3204,\"該当２\"))","v":""},"","",{"$f":"IF(V3204=\"\",\"\",COUNTIF($V$7:V3204,\"該当３\"))","v":""}]
[823106000,8,231,{"v":4,"d":"04"},{"v":0,"d":"000 "},"茨城県","桜川市","谷貝村",null,null,"","",{"$f":"IF(K3207=\"\",\"\",COUNTIF($K$7:K3207,\"ﾘｽﾄ１\"))","v":""},"","","","","","","",{"$f":"IF(S3207=\"\",\"\",COUNTIF($S$7:S3207,\"該当２\"))","v":""},"","",{"$f":"IF(V3207=\"\",\"\",COUNTIF($V$7:V3207,\"該当３\"))","v":""}]
[823106004,8,231,{"v":4,"d":"04"},{"v":4,"d":"004 "},"茨城県","桜川市","谷貝村","下谷貝（上）",null,{"$f":"IF(AND($C3211>0,$H3211=\"\"),\"ﾘｽﾄ１\",\"\")","v":""},{"$f":"IF(K3211=\"ﾘｽﾄ１\",G3211,\"\")","v":""},{"$f":"IF(K3211=\"\",\"\",COUNTIF($K$7:K3211,\"ﾘｽﾄ１\"))","v":""},{"$f":"IF(AND(D3211=0,E3211>0),\"同一区\",\"\")","v":""},{"$f":"IF(AND(EXACT($K$2,G3211),H3211>0),\"該当１\",\"\")","v":""},"","","",{"$f":"IF(AND(Q3211=\"ﾘｽﾄ2\",OR(I3211=0,AND(N3211=\"同一区\",E3211=1))),\"該当２\",\"\")","v":""},"",{"$f":"IF(S3211=\"\",\"\",COUNTIF($S$7:S3211,\"該当２\"))","v":""},"","",{"$f":"IF(V3211=\"\",\"\",COUNTIF($V$7:V3211,\"該当３\"))","v":""}]
[823106008,8,231,{"v":4,"d":"04"},{"v":8,"d":"008 "},"茨城県","桜川市","谷貝村","大塚新田",null,"","",{"$f":"IF(K3215=\"\",\"\",COUNTIF($K$7:K3215,\"ﾘｽﾄ１\"))","v":""},"","","","","","","",{"$f":"IF(S3215=\"\",\"\",COUNTIF($S$7:S3215,\"該当２\"))","v":""},"","",{"$f":"IF(V3215=\"\",\"\",COUNTIF($V$7:V3215,\"該当３\"))","v":""}]
[823108000,8,231,{"v":4,"d":"04"},{"v":0,"d":"000 "},"茨城県","桜川市","真壁町",null,null,"","",{"$f":"IF(K3219=\"\",\"\",COUNTIF($K$7:K3219,\"ﾘｽﾄ１\"))","v":""},"","","","","","","",{"$f":"IF(S3219=\"\",\"\",COUNTIF($S$7:S3219,\"該当２\"))","v":""},"","",{"$f":"IF(V3219=\"\",\"\",COUNTIF($V$7:V3219,\"該当３\"))","v":""}]
[823108003,8,231,{"v":4,"d":"04"},{"v":3,"d":"003 "},"茨城県","桜川市","真壁町","古城",null,"","",{"$f":"IF(K3222=\"\",\"\",COUNTIF($K$7:K3222,\"ﾘｽﾄ１\"))","v":""},"","","","","","","",{"$f":"IF(S3222=\"\",\"\",COUNTIF($S$7:S3222,\"該当２\"))","v":""},"","",{"$f":"IF(V3222=\"\",\"\",COUNTIF($V$7:V3222,\"該当３\"))","v":""}]
[823108006,8,231,{"v":4,"d":"04"},{"v":6,"d":"006 "},"茨城県","桜川市","真壁町","入山尾",null,"","",{"$f":"IF(K3225=\"\",\"\",COUNTIF($K$7:K3225,\"ﾘｽﾄ１\"))","v":""},"","","","","","","",{"$f":"IF(S3225=\"\",\"\",COUNTIF($S$7:S3225,\"該当２\"))","v":""},"","",{"$f":"IF(V3225=\"\",\"\",COUNTIF($V$7:V3225,\"該当３\"))","v":""}]
[823108007,8,231,{"v":4,"d":"04"},{"v":7,"d":"007 "},"茨城県","桜川市","真壁町","山口",null,"","",{"$f":"IF(K3226=\"\",\"\",COUNTIF($K$7:K3226,\"ﾘｽﾄ１\"))","v":""},"","","","","","","",{"$f":"IF(S3226=\"\",\"\",COUNTIF($S$7:S3226,\"該当２\"))","v":""},"","",{"$f":"IF(V3226=\"\",\"\",COUNTIF($V$7:V3226,\"該当３\"))","v":""}]
[823108010,8,231,{"v":4,"d":"04"},{"v":10,"d":"010 "},"茨城県","桜川市","真壁町","伊佐々",null,"","",{"$f":"IF(K3229=\"\",\"\",COUNTIF($K$7:K3229,\"ﾘｽﾄ１\"))","v":""},"","","","","","","",{"$f":"IF(S3229=\"\",\"\",COUNTIF($S$7:S3229,\"該当２\"))","v":""},"","",{"$f":"IF(V3229=\"\",\"\",COUNTIF($V$7:V3229,\"該当３\"))","v":""}]
[823108013,8,231,{"v":4,"d":"04"},{"v":13,"d":"013 "},"茨城県","桜川市","真壁町","飯塚",null,"","",{"$f":"IF(K3232=\"\",\"\",COUNTIF($K$7:K3232,\"ﾘｽﾄ１\"))","v":""},"","","","","","","",{"$f":"IF(S3232=\"\",\"\",COUNTIF($S$7:S3232,\"該当２\"))","v":""},"","",{"$f":"IF(V3232=\"\",\"\",COUNTIF($V$7:V3232,\"該当３\"))","v":""}]
[823109004,8,231,{"v":4,"d":"04"},{"v":4,"d":"004 "},"茨城県","桜川市","大国村","中丸木",null,"","",{"$f":"IF(K3237=\"\",\"\",COUNTIF($K$7:K3237,\"ﾘｽﾄ１\"))","v":""},"","","","","","","",{"$f":"IF(S3237=\"\",\"\",COUNTIF($S$7:S3237,\"該当２\"))","v":""},"","",{"$f":"IF(V3237=\"\",\"\",COUNTIF($V$7:V3237,\"該当３\"))","v":""}]
[823109007,8,231,{"v":4,"d":"04"},{"v":7,"d":"007 "},"茨城県","桜川市","大国村","高久",null,"","",{"$f":"IF(K3240=\"\",\"\",COUNTIF($K$7:K3240,\"ﾘｽﾄ１\"))","v":""},"","","","","","","",{"$f":"IF(S3240=\"\",\"\",COUNTIF($S$7:S3240,\"該当２\"))","v":""},"","",{"$f":"IF(V3240=\"\",\"\",COUNTIF($V$7:V3240,\"該当３\"))","v":""}]
[823109011,8,231,{"v":4,"d":"04"},{"v":11,"d":"011 "},"茨城県","桜川市","大国村","青木",null,"","",{"$f":"IF(K3244=\"\",\"\",COUNTIF($K$7:K3244,\"ﾘｽﾄ１\"))","v":""},"","","","","","","",{"$f":"IF(S3244=\"\",\"\",COUNTIF($S$7:S3244,\"該当２\"))","v":""},"","",{"$f":"IF(V3244=\"\",\"\",COUNTIF($V$7:V3244,\"該当３\"))","v":""}]
[823110002,8,231,{"v":4,"d":"04"},{"v":2,"d":"002 "},"茨城県","桜川市","雨引村","大曽根",null,"","",{"$f":"IF(K3247=\"\",\"\",COUNTIF($K$7:K3247,\"ﾘｽﾄ１\"))","v":""},"","","","","","","",{"$f":"IF(S3247=\"\",\"\",COUNTIF($S$7:S3247,\"該当２\"))","v":""},"","",{"$f":"IF(V3247=\"\",\"\",COUNTIF($V$7:V3247,\"該当３\"))","v":""}]
[823110005,8,231,{"v":4,"d":"04"},{"v":5,"d":"005 "},"茨城県","桜川市","雨引村","阿部田",null,"","",{"$f":"IF(K3250=\"\",\"\",COUNTIF($K$7:K3250,\"ﾘｽﾄ１\"))","v":""},"","","","","","","",{"$f":"IF(S3250=\"\",\"\",COUNTIF($S$7:S3250,\"該当２\"))","v":""},"","",{"$f":"IF(V3250=\"\",\"\",COUNTIF($V$7:V3250,\"該当３\"))","v":""}]
[823201000,8,232,{"v":4,"d":"04"},{"v":0,"d":"000 "},"茨城県","神栖市","息栖村",null,null,"","",{"$f":"IF(K3253=\"\",\"\",COUNTIF($K$7:K3253,\"ﾘｽﾄ１\"))","v":""},"","","","","","","",{"$f":"IF(S3253=\"\",\"\",COUNTIF($S$7:S3253,\"該当２\"))","v":""},"","",{"$f":"IF(V3253=\"\",\"\",COUNTIF($V$7:V3253,\"該当３\"))","v":""}]
[823201002,8,232,{"v":4,"d":"04"},{"v":2,"d":"002 "},"茨城県","神栖市","息栖村","居切",null,"","",{"$f":"IF(K3255=\"\",\"\",COUNTIF($K$7:K3255,\"ﾘｽﾄ１\"))","v":""},"","","","","","","",{"$f":"IF(S3255=\"\",\"\",COUNTIF($S$7:S3255,\"該当２\"))","v":""},"","",{"$f":"IF(V3255=\"\",\"\",COUNTIF($V$7:V3255,\"該当３\"))","v":""}]
[823201006,8,232,{"v":4,"d":"04"},{"v":6,"d":"006 "},"茨城県","神栖市","息栖村","筒井",null,"","",{"$f":"IF(K3259=\"\",\"\",COUNTIF($K$7:K3259,\"ﾘｽﾄ１\"))","v":""},"","","","","","","",{"$f":"IF(S3259=\"\",\"\",COUNTIF($S$7:S3259,\"該当２\"))","v":""},"","",{"$f":"IF(V3259=\"\",\"\",COUNTIF($V$7:V3259,\"該当３\"))","v":""}]
[823201009,8,232,{"v":4,"d":"04"},{"v":9,"d":"009 "},"茨城県","神栖市","息栖村","原",null,"","",{"$f":"IF(K3262=\"\",\"\",COUNTIF($K$7:K3262,\"ﾘｽﾄ１\"))","v":""},"","","","","","","",{"$f":"IF(S3262=\"\",\"\",COUNTIF($S$7:S3262,\"該当２\"))","v":""},"","",{"$f":"IF(V3262=\"\",\"\",COUNTIF($V$7:V3262,\"該当３\"))","v":""}]
[823202000,8,232,{"v":4,"d":"04"},{"v":0,"d":"000 "},"茨城県","神栖市","軽野村",null,null,"","",{"$f":"IF(K3265=\"\",\"\",COUNTIF($K$7:K3265,\"ﾘｽﾄ１\"))","v":""},"","","","","","","",{"$f":"IF(S3265=\"\",\"\",COUNTIF($S$7:S3265,\"該当２\"))","v":""},"","",{"$f":"IF(V3265=\"\",\"\",COUNTIF($V$7:V3265,\"該当３\"))","v":""}]
[823202004,8,232,{"v":4,"d":"04"},{"v":4,"d":"004 "},"茨城県","神栖市","軽野村","石神",null,"","",{"$f":"IF(K3269=\"\",\"\",COUNTIF($K$7:K3269,\"ﾘｽﾄ１\"))","v":""},"","","","","","","",{"$f":"IF(S3269=\"\",\"\",COUNTIF($S$7:S3269,\"該当２\"))","v":""},"","",{"$f":"IF(V3269=\"\",\"\",COUNTIF($V$7:V3269,\"該当３\"))","v":""}]
[823202005,8,232,{"v":4,"d":"04"},{"v":5,"d":"005 "},"茨城県","神栖市","軽野村","高浜",null,"","",{"$f":"IF(K3270=\"\",\"\",COUNTIF($K$7:K3270,\"ﾘｽﾄ１\"))","v":""},"","","","","","","",{"$f":"IF(S3270=\"\",\"\",COUNTIF($S$7:S3270,\"該当２\"))","v":""},"","",{"$f":"IF(V3270=\"\",\"\",COUNTIF($V$7:V3270,\"該当３\"))","v":""}]
[823202009,8,232,{"v":4,"d":"04"},{"v":9,"d":"009 "},"茨城県","神栖市","軽野村","奥野谷",null,"","",{"$f":"IF(K3274=\"\",\"\",COUNTIF($K$7:K3274,\"ﾘｽﾄ１\"))","v":""},"","",{"$f":"IF(O3274=\"該当１\",G3274,\"\")","v":""},{"$f":"IF(O3274=\"該当１\",\"ﾘｽﾄ2\",\"\")","v":""},{"$f":"IF(Q3274=\"ﾘｽﾄ2\",H3274,\"\")","v":""},"",{"$f":"IF(S3274=\"該当２\",H3274,\"\")","v":""},{"$f":"IF(S3274=\"\",\"\",COUNTIF($S$7:S3274,\"該当２\"))","v":""},{"$f":"IF(AND($S$2=H3274,E3274>0,E3274<998),\"該当３\",\"\")","v":""},{"$f":"IF(V3274=\"該当３\",I3274,\"\")","v":""},{"$f":"IF(V3274=\"\",\"\",COUNTIF($V$7:V3274,\"該当３\"))","v":""}]
[823202012,8,232,{"v":4,"d":"04"},{"v":12,"d":"012 "},"茨城県","神栖市","軽野村","一貫野",null,"","",{"$f":"IF(K3277=\"\",\"\",COUNTIF($K$7:K3277,\"ﾘｽﾄ１\"))","v":""},"","","","","","","",{"$f":"IF(S3277=\"\",\"\",COUNTIF($S$7:S3277,\"該当２\"))","v":""},"","",{"$f":"IF(V3277=\"\",\"\",COUNTIF($V$7:V3277,\"該当３\"))","v":""}]
[823202015,8,232,{"v":4,"d":"04"},{"v":15,"d":"015 "},"茨城県","神栖市","軽野村","日川浜",null,"","",{"$f":"IF(K3280=\"\",\"\",COUNTIF($K$7:K3280,\"ﾘｽﾄ１\"))","v":""},"","","","","","","",{"$f":"IF(S3280=\"\",\"\",COUNTIF($S$7:S3280,\"該当２\"))","v":""},"","",{"$f":"IF(V3280=\"\",\"\",COUNTIF($V$7:V3280,\"該当３\"))","v":""}]
[823204000,8,232,{"v":4,"d":"04"},{"v":0,"d":"000 "},"茨城県","神栖市","若松村２－１",null,null,"","",{"$f":"IF(K3284=\"\",\"\",COUNTIF($K$7:K3284,\"ﾘｽﾄ１\"))","v":""},"","","","","","","",{"$f":"IF(S3284=\"\",\"\",COUNTIF($S$7:S3284,\"該当２\"))","v":""},"","",{"$f":"IF(V3284=\"\",\"\",COUNTIF($V$7:V3284,\"該当３\"))","v":""}]
[823204003,8,232,{"v":4,"d":"04"},{"v":3,"d":"003 "},"茨城県","神栖市","若松村２－１","二本松",null,"","",{"$f":"IF(K3287=\"\",\"\",COUNTIF($K$7:K3287,\"ﾘｽﾄ１\"))","v":""},"","","","","","","",{"$f":"IF(S3287=\"\",\"\",COUNTIF($S$7:S3287,\"該当２\"))","v":""},"","",{"$f":"IF(V3287=\"\",\"\",COUNTIF($V$7:V3287,\"該当３\"))","v":""}]
[823204006,8,232,{"v":4,"d":"04"},{"v":6,"d":"006 "},"茨城県","神栖市","若松村２－１","須田浜",null,"","",{"$f":"IF(K3290=\"\",\"\",COUNTIF($K$7:K3290,\"ﾘｽﾄ１\"))","v":""},"","","","","","","",{"$f":"IF(S3290=\"\",\"\",COUNTIF($S$7:S3290,\"該当２\"))","v":""},"","",{"$f":"IF(V3290=\"\",\"\",COUNTIF($V$7:V3290,\"該当３\"))","v":""}]
[823204011,8,232,{"v":4,"d":"04"},{"v":11,"d":"011 "},"茨城県","神栖市","若松村２－１","西押揚",null,"","",{"$f":"IF(K3295=\"\",\"\",COUNTIF($K$7:K3295,\"ﾘｽﾄ１\"))","v":""},"","","","","","","",{"$f":"IF(S3295=\"\",\"\",COUNTIF($S$7:S3295,\"該当２\"))","v":""},"","",{"$f":"IF(V3295=\"\",\"\",COUNTIF($V$7:V3295,\"該当３\"))","v":""}]
[823205000,8,232,{"v":4,"d":"04"},{"v":0,"d":"000 "},"茨城県","神栖市","矢田部村",null,null,"","",{"$f":"IF(K3298=\"\",\"\",COUNTIF($K$7:K3298,\"ﾘｽﾄ１\"))","v":""},"","","","","","","",{"$f":"IF(S3298=\"\",\"\",COUNTIF($S$7:S3298,\"該当２\"))","v":""},"","",{"$f":"IF(V3298=\"\",\"\",COUNTIF($V$7:V3298,\"該当３\"))","v":""}]
[823205001,8,232,{"v":4,"d":"04"},{"v":1,"d":"001 "},"茨城県","神栖市","矢田部村","川尻",null,"","",{"$f":"IF(K3299=\"\",\"\",COUNTIF($K$7:K3299,\"ﾘｽﾄ１\"))","v":""},"","","","","","","",{"$f":"IF(S3299=\"\",\"\",COUNTIF($S$7:S3299,\"該当２\"))","v":""},"","",{"$f":"IF(V3299=\"\",\"\",COUNTIF($V$7:V3299,\"該当３\"))","v":""}]
[823205004,8,232,{"v":4,"d":"04"},{"v":4,"d":"004 "},"茨城県","神栖市","矢田部村","東松下",null,"","",{"$f":"IF(K3302=\"\",\"\",COUNTIF($K$7:K3302,\"ﾘｽﾄ１\"))","v":""},"","","","","","","",{"$f":"IF(S3302=\"\",\"\",COUNTIF($S$7:S3302,\"該当２\"))","v":""},"","",{"$f":"IF(V3302=\"\",\"\",COUNTIF($V$7:V3302,\"該当３\"))","v":""}]
[823205007,8,232,{"v":4,"d":"04"},{"v":7,"d":"007 "},"茨城県","神栖市","矢田部村","清水",null,"","",{"$f":"IF(K3305=\"\",\"\",COUNTIF($K$7:K3305,\"ﾘｽﾄ１\"))","v":""},"","","","","","","",{"$f":"IF(S3305=\"\",\"\",COUNTIF($S$7:S3305,\"該当２\"))","v":""},"","",{"$f":"IF(V3305=\"\",\"\",COUNTIF($V$7:V3305,\"該当３\"))","v":""}]
[823206000,8,232,{"v":4,"d":"04"},{"v":0,"d":"000 "},"茨城県","神栖市","波崎町",null,null,"","",{"$f":"IF(K3309=\"\",\"\",COUNTIF($K$7:K3309,\"ﾘｽﾄ１\"))","v":""},"","","","","","","",{"$f":"IF(S3309=\"\",\"\",COUNTIF($S$7:S3309,\"該当２\"))","v":""},"","",{"$f":"IF(V3309=\"\",\"\",COUNTIF($V$7:V3309,\"該当３\"))","v":""}]
[823206003,8,232,{"v":4,"d":"04"},{"v":3,"d":"003 "},"茨城県","神栖市","波崎町","松本",null,"","",{"$f":"IF(K3312=\"\",\"\",COUNTIF($K$7:K3312,\"ﾘｽﾄ１\"))","v":""},"","","","","","","",{"$f":"IF(S3312=\"\",\"\",COUNTIF($S$7:S3312,\"該当２\"))","v":""},"","",{"$f":"IF(V3312=\"\",\"\",COUNTIF($V$7:V3312,\"該当３\"))","v":""}]
[823206007,8,232,{"v":4,"d":"04"},{"v":7,"d":"007 "},"茨城県","神栖市","波崎町","別所",null,"","",{"$f":"IF(K3316=\"\",\"\",COUNTIF($K$7:K3316,\"ﾘｽﾄ１\"))","v":""},"","","","","","","",{"$f":"IF(S3316=\"\",\"\",COUNTIF($S$7:S3316,\"該当２\"))","v":""},"","",{"$f":"IF(V3316=\"\",\"\",COUNTIF($V$7:V3316,\"該当３\"))","v":""}]
[823206011,8,232,{"v":4,"d":"04"},{"v":11,"d":"011 "},"茨城県","神栖市","波崎町","浜新田",null,"","",{"$f":"IF(K3320=\"\",\"\",COUNTIF($K$7:K3320,\"ﾘｽﾄ１\"))","v":""},"","","","","","","",{"$f":"IF(S3320=\"\",\"\",COUNTIF($S$7:S3320,\"該当２\"))","v":""},"","",{"$f":"IF(V3320=\"\",\"\",COUNTIF($V$7:V3320,\"該当３\"))","v":""}]
[823301001,8,233,{"v":4,"d":"04"},{"v":1,"d":"001 "},"茨城県","行方市","麻生町","仲台",null,"","",{"$f":"IF(K3323=\"\",\"\",COUNTIF($K$7:K3323,\"ﾘｽﾄ１\"))","v":""},"","","","","","","",{"$f":"IF(S3323=\"\",\"\",COUNTIF($S$7:S3323,\"該当２\"))","v":""},"","",{"$f":"IF(V3323=\"\",\"\",COUNTIF($V$7:V3323,\"該当３\"))","v":""}]
[823301002,8,233,{"v":4,"d":"04"},{"v":2,"d":"002 "},"茨城県","行方市","麻生町","仲浜",null,"","",{"$f":"IF(K3324=\"\",\"\",COUNTIF($K$7:K3324,\"ﾘｽﾄ１\"))","v":""},"","","","","","","",{"$f":"IF(S3324=\"\",\"\",COUNTIF($S$7:S3324,\"該当２\"))","v":""},"","",{"$f":"IF(V3324=\"\",\"\",COUNTIF($V$7:V3324,\"該当３\"))","v":""}]
[823301005,8,233,{"v":4,"d":"04"},{"v":5,"d":"005 "},"茨城県","行方市","麻生町","玄通",null,"","",{"$f":"IF(K3327=\"\",\"\",COUNTIF($K$7:K3327,\"ﾘｽﾄ１\"))","v":""},"","","","","","","",{"$f":"IF(S3327=\"\",\"\",COUNTIF($S$7:S3327,\"該当２\"))","v":""},"","",{"$f":"IF(V3327=\"\",\"\",COUNTIF($V$7:V3327,\"該当３\"))","v":""}]
[823301011,8,233,{"v":4,"d":"04"},{"v":11,"d":"011 "},"茨城県","行方市","麻生町","田町",null,"","",{"$f":"IF(K3333=\"\",\"\",COUNTIF($K$7:K3333,\"ﾘｽﾄ１\"))","v":""},"","","","","","","",{"$f":"IF(S3333=\"\",\"\",COUNTIF($S$7:S3333,\"該当２\"))","v":""},"","",{"$f":"IF(V3333=\"\",\"\",COUNTIF($V$7:V3333,\"該当３\"))","v":""}]
[823302000,8,233,{"v":4,"d":"04"},{"v":0,"d":"000 "},"茨城県","行方市","太田村（行方市）",null,null,"","",{"$f":"IF(K3335=\"\",\"\",COUNTIF($K$7:K3335,\"ﾘｽﾄ１\"))","v":""},"","","","","","","",{"$f":"IF(S3335=\"\",\"\",COUNTIF($S$7:S3335,\"該当２\"))","v":""},"","",{"$f":"IF(V3335=\"\",\"\",COUNTIF($V$7:V3335,\"該当３\"))","v":""}]
[823302003,8,233,{"v":4,"d":"04"},{"v":3,"d":"003 "},"茨城県","行方市","太田村（行方市）","根小屋",null,"","",{"$f":"IF(K3338=\"\",\"\",COUNTIF($K$7:K3338,\"ﾘｽﾄ１\"))","v":""},"","",{"$f":"IF(O3338=\"該当１\",G3338,\"\")","v":""},{"$f":"IF(O3338=\"該当１\",\"ﾘｽﾄ2\",\"\")","v":""},{"$f":"IF(Q3338=\"ﾘｽﾄ2\",H3338,\"\")","v":""},"",{"$f":"IF(S3338=\"該当２\",H3338,\"\")","v":""},{"$f":"IF(S3338=\"\",\"\",COUNTIF($S$7:S3338,\"該当２\"))","v":""},{"$f":"IF(AND($S$2=H3338,E3338>0,E3338<998),\"該当３\",\"\")","v":""},{"$f":"IF(V3338=\"該当３\",I3338,\"\")","v":""},{"$f":"IF(V3338=\"\",\"\",COUNTIF($V$7:V3338,\"該当３\"))","v":""}]
[823303003,8,233,{"v":4,"d":"04"},{"v":3,"d":"003 "},"茨城県","行方市","大和村","宇崎",null,"","",{"$f":"IF(K3342=\"\",\"\",COUNTIF($K$7:K3342,\"ﾘｽﾄ１\"))","v":""},"","","","","","","",{"$f":"IF(S3342=\"\",\"\",COUNTIF($S$7:S3342,\"該当２\"))","v":""},"","",{"$f":"IF(V3342=\"\",\"\",COUNTIF($V$7:V3342,\"該当３\"))","v":""}]
[823303006,8,233,{"v":4,"d":"04"},{"v":6,"d":"006 "},"茨城県","行方市","大和村","四鹿",null,"","",{"$f":"IF(K3345=\"\",\"\",COUNTIF($K$7:K3345,\"ﾘｽﾄ１\"))","v":""},"","","","","","","",{"$f":"IF(S3345=\"\",\"\",COUNTIF($S$7:S3345,\"該当２\"))","v":""},"","",{"$f":"IF(V3345=\"\",\"\",COUNTIF($V$7:V3345,\"該当３\"))","v":""}]
[823303009,8,233,{"v":4,"d":"04"},{"v":9,"d":"009 "},"茨城県","行方市","大和村","天掛",null,"","",{"$f":"IF(K3348=\"\",\"\",COUNTIF($K$7:K3348,\"ﾘｽﾄ１\"))","v":""},"","","","","","","",{"$f":"IF(S3348=\"\",\"\",COUNTIF($S$7:S3348,\"該当２\"))","v":""},"","",{"$f":"IF(V3348=\"\",\"\",COUNTIF($V$7:V3348,\"該当３\"))","v":""}]
[823303010,8,233,{"v":4,"d":"04"},{"v":10,"d":"010 "},"茨城県","行方市","大和村","籠田",null,"","",{"$f":"IF(K3349=\"\",\"\",COUNTIF($K$7:K3349,\"ﾘｽﾄ１\"))","v":""},"","","","","","","",{"$f":"IF(S3349=\"\",\"\",COUNTIF($S$7:S3349,\"該当２\"))","v":""},"","",{"$f":"IF(V3349=\"\",\"\",COUNTIF($V$7:V3349,\"該当３\"))","v":""}]
[823304004,8,233,{"v":4,"d":"04"},{"v":4,"d":"004 "},"茨城県","行方市","行方村","行方",null,"","",{"$f":"IF(K3354=\"\",\"\",COUNTIF($K$7:K3354,\"ﾘｽﾄ１\"))","v":""},"","","","","","","",{"$f":"IF(S3354=\"\",\"\",COUNTIF($S$7:S3354,\"該当２\"))","v":""},"","",{"$f":"IF(V3354=\"\",\"\",COUNTIF($V$7:V3354,\"該当３\"))","v":""}]
[823304006,8,233,{"v":4,"d":"04"},{"v":6,"d":"006 "},"茨城県","行方市","行方村","於下",null,"","",{"$f":"IF(K3356=\"\",\"\",COUNTIF($K$7:K3356,\"ﾘｽﾄ１\"))","v":""},"","","","","","","",{"$f":"IF(S3356=\"\",\"\",COUNTIF($S$7:S3356,\"該当２\"))","v":""},"","",{"$f":"IF(V3356=\"\",\"\",COUNTIF($V$7:V3356,\"該当３\"))","v":""}]
[823305003,8,233,{"v":4,"d":"04"},{"v":3,"d":"003 "},"茨城県","行方市","小高村","橋門",null,"","",{"$f":"IF(K3360=\"\",\"\",COUNTIF($K$7:K3360,\"ﾘｽﾄ１\"))","v":""},"","","","","","","",{"$f":"IF(S3360=\"\",\"\",COUNTIF($S$7:S3360,\"該当２\"))","v":""},"","",{"$f":"IF(V3360=\"\",\"\",COUNTIF($V$7:V3360,\"該当３\"))","v":""}]
[823305006,8,233,{"v":4,"d":"04"},{"v":6,"d":"006 "},"茨城県","行方市","小高村","井貝",null,"","",{"$f":"IF(K3363=\"\",\"\",COUNTIF($K$7:K3363,\"ﾘｽﾄ１\"))","v":""},"","","","","","","",{"$f":"IF(S3363=\"\",\"\",COUNTIF($S$7:S3363,\"該当２\"))","v":""},"","",{"$f":"IF(V3363=\"\",\"\",COUNTIF($V$7:V3363,\"該当３\"))","v":""}]
[823306001,8,233,{"v":4,"d":"04"},{"v":1,"d":"001 "},"茨城県","行方市","津澄村","吉川",null,"","",{"$f":"IF(K3367=\"\",\"\",COUNTIF($K$7:K3367,\"ﾘｽﾄ１\"))","v":""},"","","","","","","",{"$f":"IF(S3367=\"\",\"\",COUNTIF($S$7:S3367,\"該当２\"))","v":""},"","",{"$f":"IF(V3367=\"\",\"\",COUNTIF($V$7:V3367,\"該当３\"))","v":""}]
[823306004,8,233,{"v":4,"d":"04"},{"v":4,"d":"004 "},"茨城県","行方市","津澄村","山田",null,"","",{"$f":"IF(K3370=\"\",\"\",COUNTIF($K$7:K3370,\"ﾘｽﾄ１\"))","v":""},"","","","","","","",{"$f":"IF(S3370=\"\",\"\",COUNTIF($S$7:S3370,\"該当２\"))","v":""},"","",{"$f":"IF(V3370=\"\",\"\",COUNTIF($V$7:V3370,\"該当３\"))","v":""}]
[823307000,8,233,{"v":4,"d":"04"},{"v":0,"d":"000 "},"茨城県","行方市","武田村",null,null,"","",{"$f":"IF(K3371=\"\",\"\",COUNTIF($K$7:K3371,\"ﾘｽﾄ１\"))","v":""},"","","","","","","",{"$f":"IF(S3371=\"\",\"\",COUNTIF($S$7:S3371,\"該当２\"))","v":""},"","",{"$f":"IF(V3371=\"\",\"\",COUNTIF($V$7:V3371,\"該当３\"))","v":""}]
[823307004,8,233,{"v":4,"d":"04"},{"v":4,"d":"004 "},"茨城県","行方市","武田村","長野江",null,"","",{"$f":"IF(K3375=\"\",\"\",COUNTIF($K$7:K3375,\"ﾘｽﾄ１\"))","v":""},"","","","","","","",{"$f":"IF(S3375=\"\",\"\",COUNTIF($S$7:S3375,\"該当２\"))","v":""},"","",{"$f":"IF(V3375=\"\",\"\",COUNTIF($V$7:V3375,\"該当３\"))","v":""}]
[823307007,8,233,{"v":4,"d":"04"},{"v":7,"d":"007 "},"茨城県","行方市","武田村","小貫",null,"","",{"$f":"IF(K3378=\"\",\"\",COUNTIF($K$7:K3378,\"ﾘｽﾄ１\"))","v":""},"","","","","","","",{"$f":"IF(S3378=\"\",\"\",COUNTIF($S$7:S3378,\"該当２\"))","v":""},"","",{"$f":"IF(V3378=\"\",\"\",COUNTIF($V$7:V3378,\"該当３\"))","v":""}]
[823308003,8,233,{"v":4,"d":"04"},{"v":3,"d":"003 "},"茨城県","行方市","要村","北高岡",null,"","",{"$f":"IF(K3382=\"\",\"\",COUNTIF($K$7:K3382,\"ﾘｽﾄ１\"))","v":""},"","","","","","","",{"$f":"IF(S3382=\"\",\"\",COUNTIF($S$7:S3382,\"該当２\"))","v":""},"","",{"$f":"IF(V3382=\"\",\"\",COUNTIF($V$7:V3382,\"該当３\"))","v":""}]
[823309001,8,233,{"v":4,"d":"04"},{"v":1,"d":"001 "},"茨城県","行方市","立花村","沖洲",null,"","",{"$f":"IF(K3385=\"\",\"\",COUNTIF($K$7:K3385,\"ﾘｽﾄ１\"))","v":""},"","","","","","","",{"$f":"IF(S3385=\"\",\"\",COUNTIF($S$7:S3385,\"該当２\"))","v":""},"","",{"$f":"IF(V3385=\"\",\"\",COUNTIF($V$7:V3385,\"該当３\"))","v":""}]
[823309004,8,233,{"v":4,"d":"04"},{"v":4,"d":"004 "},"茨城県","行方市","立花村","浜",null,"","",{"$f":"IF(K3388=\"\",\"\",COUNTIF($K$7:K3388,\"ﾘｽﾄ１\"))","v":""},"","","","","","","",{"$f":"IF(S3388=\"\",\"\",COUNTIF($S$7:S3388,\"該当２\"))","v":""},"","",{"$f":"IF(V3388=\"\",\"\",COUNTIF($V$7:V3388,\"該当３\"))","v":""}]
[823310003,8,233,{"v":4,"d":"04"},{"v":3,"d":"003 "},"茨城県","行方市","現原村","中山",null,"","",{"$f":"IF(K3392=\"\",\"\",COUNTIF($K$7:K3392,\"ﾘｽﾄ１\"))","v":""},"","","","","","","",{"$f":"IF(S3392=\"\",\"\",COUNTIF($S$7:S3392,\"該当２\"))","v":""},"","",{"$f":"IF(V3392=\"\",\"\",COUNTIF($V$7:V3392,\"該当３\"))","v":""}]
[823311000,8,233,{"v":4,"d":"04"},{"v":0,"d":"000 "},"茨城県","行方市","玉造町",null,null,"","",{"$f":"IF(K3396=\"\",\"\",COUNTIF($K$7:K3396,\"ﾘｽﾄ１\"))","v":""},"","","","","","","",{"$f":"IF(S3396=\"\",\"\",COUNTIF($S$7:S3396,\"該当２\"))","v":""},"","",{"$f":"IF(V3396=\"\",\"\",COUNTIF($V$7:V3396,\"該当３\"))","v":""}]
[823311003,8,233,{"v":4,"d":"04"},{"v":3,"d":"003 "},"茨城県","行方市","玉造町","泉",null,"","",{"$f":"IF(K3399=\"\",\"\",COUNTIF($K$7:K3399,\"ﾘｽﾄ１\"))","v":""},"","","","","","","",{"$f":"IF(S3399=\"\",\"\",COUNTIF($S$7:S3399,\"該当２\"))","v":""},"","",{"$f":"IF(V3399=\"\",\"\",COUNTIF($V$7:V3399,\"該当３\"))","v":""}]
[823311004,8,233,{"v":4,"d":"04"},{"v":4,"d":"004 "},"茨城県","行方市","玉造町","横須賀",null,"","",{"$f":"IF(K3400=\"\",\"\",COUNTIF($K$7:K3400,\"ﾘｽﾄ１\"))","v":""},"","","","","","","",{"$f":"IF(S3400=\"\",\"\",COUNTIF($S$7:S3400,\"該当２\"))","v":""},"","",{"$f":"IF(V3400=\"\",\"\",COUNTIF($V$7:V3400,\"該当３\"))","v":""}]
[823311007,8,233,{"v":4,"d":"04"},{"v":7,"d":"007 "},"茨城県","行方市","玉造町","柄貝",null,{"$f":"IF(AND($C3403>0,$H3403=\"\"),\"ﾘｽﾄ１\",\"\")","v":""},{"$f":"IF(K3403=\"ﾘｽﾄ１\",G3403,\"\")","v":""},{"$f":"IF(K3403=\"\",\"\",COUNTIF($K$7:K3403,\"ﾘｽﾄ１\"))","v":""},{"$f":"IF(AND(D3403=0,E3403>0),\"同一区\",\"\")","v":""},{"$f":"IF(AND(EXACT($K$2,G3403),H3403>0),\"該当１\",\"\")","v":""},"","","",{"$f":"IF(AND(Q3403=\"ﾘｽﾄ2\",OR(I3403=0,AND(N3403=\"同一区\",E3403=1))),\"該当２\",\"\")","v":""},"",{"$f":"IF(S3403=\"\",\"\",COUNTIF($S$7:S3403,\"該当２\"))","v":""},"","",{"$f":"IF(V3403=\"\",\"\",COUNTIF($V$7:V3403,\"該当３\"))","v":""}]
[823311011,8,233,{"v":4,"d":"04"},{"v":11,"d":"011 "},"茨城県","行方市","玉造町","横町",null,"","",{"$f":"IF(K3407=\"\",\"\",COUNTIF($K$7:K3407,\"ﾘｽﾄ１\"))","v":""},"","","","","","","",{"$f":"IF(S3407=\"\",\"\",COUNTIF($S$7:S3407,\"該当２\"))","v":""},"","",{"$f":"IF(V3407=\"\",\"\",COUNTIF($V$7:V3407,\"該当３\"))","v":""}]
[823312000,8,233,{"v":4,"d":"04"},{"v":0,"d":"000 "},"茨城県","行方市","手賀村",null,null,"","",{"$f":"IF(K3410=\"\",\"\",COUNTIF($K$7:K3410,\"ﾘｽﾄ１\"))","v":""},"","","","","","","",{"$f":"IF(S3410=\"\",\"\",COUNTIF($S$7:S3410,\"該当２\"))","v":""},"","",{"$f":"IF(V3410=\"\",\"\",COUNTIF($V$7:V3410,\"該当３\"))","v":""}]
[823312003,8,233,{"v":4,"d":"04"},{"v":3,"d":"003 "},"茨城県","行方市","手賀村","下の池",null,"","",{"$f":"IF(K3413=\"\",\"\",COUNTIF($K$7:K3413,\"ﾘｽﾄ１\"))","v":""},"","","","","","","",{"$f":"IF(S3413=\"\",\"\",COUNTIF($S$7:S3413,\"該当２\"))","v":""},"","",{"$f":"IF(V3413=\"\",\"\",COUNTIF($V$7:V3413,\"該当３\"))","v":""}]
[823312008,8,233,{"v":4,"d":"04"},{"v":8,"d":"008 "},"茨城県","行方市","手賀村","新宿",null,"","",{"$f":"IF(K3418=\"\",\"\",COUNTIF($K$7:K3418,\"ﾘｽﾄ１\"))","v":""},"","","","","","","",{"$f":"IF(S3418=\"\",\"\",COUNTIF($S$7:S3418,\"該当２\"))","v":""},"","",{"$f":"IF(V3418=\"\",\"\",COUNTIF($V$7:V3418,\"該当３\"))","v":""}]
[823313002,8,233,{"v":4,"d":"04"},{"v":2,"d":"002 "},"茨城県","行方市","玉川村（行方市）","西谷",null,"","",{"$f":"IF(K3421=\"\",\"\",COUNTIF($K$7:K3421,\"ﾘｽﾄ１\"))","v":""},"","","","","","","",{"$f":"IF(S3421=\"\",\"\",COUNTIF($S$7:S3421,\"該当２\"))","v":""},"","",{"$f":"IF(V3421=\"\",\"\",COUNTIF($V$7:V3421,\"該当３\"))","v":""}]
[823313005,8,233,{"v":4,"d":"04"},{"v":5,"d":"005 "},"茨城県","行方市","玉川村（行方市）","藤井",null,"","",{"$f":"IF(K3424=\"\",\"\",COUNTIF($K$7:K3424,\"ﾘｽﾄ１\"))","v":""},"","","","","","","",{"$f":"IF(S3424=\"\",\"\",COUNTIF($S$7:S3424,\"該当２\"))","v":""},"","",{"$f":"IF(V3424=\"\",\"\",COUNTIF($V$7:V3424,\"該当３\"))","v":""}]
[823400000,8,234,{"v":4,"d":"04"},{"v":0,"d":"000 "},"茨城県","鉾田市",{"$nulls":3},"ﾘｽﾄ１","鉾田市",{"$f":"IF(K3425=\"\",\"\",COUNTIF($K$7:K3425,\"ﾘｽﾄ１\"))","v":30},"","","","","","","",{"$f":"IF(S3425=\"\",\"\",COUNTIF($S$7:S3425,\"該当２\"))","v":""},"","",{"$f":"IF(V3425=\"\",\"\",COUNTIF($V$7:V3425,\"該当３\"))","v":""}]
[823401002,8,234,{"v":4,"d":"04"},{"v":2,"d":"002 "},"茨城県","鉾田市","諏訪村２－１","柏熊新田",null,"","",{"$f":"IF(K3428=\"\",\"\",COUNTIF($K$7:K3428,\"ﾘｽﾄ１\"))","v":""},"","","","","","","",{"$f":"IF(S3428=\"\",\"\",COUNTIF($S$7:S3428,\"該当２\"))","v":""},"","",{"$f":"IF(V3428=\"\",\"\",COUNTIF($V$7:V3428,\"該当３\"))","v":""}]
[823401008,8,234,{"v":4,"d":"04"},{"v":8,"d":"008 "},"茨城県","鉾田市","諏訪村２－１","西勝下",null,"","",{"$f":"IF(K3434=\"\",\"\",COUNTIF($K$7:K3434,\"ﾘｽﾄ１\"))","v":""},"","","","","","","",{"$f":"IF(S3434=\"\",\"\",COUNTIF($S$7:S3434,\"該当２\"))","v":""},"","",{"$f":"IF(V3434=\"\",\"\",COUNTIF($V$7:V3434,\"該当３\"))","v":""}]
[823401010,8,234,{"v":4,"d":"04"},{"v":10,"d":"010 "},"茨城県","鉾田市","諏訪村２－１","常磐共栄",null,"","",{"$f":"IF(K3436=\"\",\"\",COUNTIF($K$7:K3436,\"ﾘｽﾄ１\"))","v":""},"","","","","","","",{"$f":"IF(S3436=\"\",\"\",COUNTIF($S$7:S3436,\"該当２\"))","v":""},"","",{"$f":"IF(V3436=\"\",\"\",COUNTIF($V$7:V3436,\"該当３\"))","v":""}]
[823402001,8,234,{"v":4,"d":"04"},{"v":1,"d":"001 "},"茨城県","鉾田市","夏海村２－２","市の沢",null,"","",{"$f":"IF(K3439=\"\",\"\",COUNTIF($K$7:K3439,\"ﾘｽﾄ１\"))","v":""},"","","","","","","",{"$f":"IF(S3439=\"\",\"\",COUNTIF($S$7:S3439,\"該当２\"))","v":""},"","",{"$f":"IF(V3439=\"\",\"\",COUNTIF($V$7:V3439,\"該当３\"))","v":""}]
[823402005,8,234,{"v":4,"d":"04"},{"v":5,"d":"005 "},"茨城県","鉾田市","夏海村２－２","沢尻不動",null,"","",{"$f":"IF(K3443=\"\",\"\",COUNTIF($K$7:K3443,\"ﾘｽﾄ１\"))","v":""},"","","","","","","",{"$f":"IF(S3443=\"\",\"\",COUNTIF($S$7:S3443,\"該当２\"))","v":""},"","",{"$f":"IF(V3443=\"\",\"\",COUNTIF($V$7:V3443,\"該当３\"))","v":""}]
[823402008,8,234,{"v":4,"d":"04"},{"v":8,"d":"008 "},"茨城県","鉾田市","夏海村２－２","荒地本郷",null,"","",{"$f":"IF(K3446=\"\",\"\",COUNTIF($K$7:K3446,\"ﾘｽﾄ１\"))","v":""},"","","","","","","",{"$f":"IF(S3446=\"\",\"\",COUNTIF($S$7:S3446,\"該当２\"))","v":""},"","",{"$f":"IF(V3446=\"\",\"\",COUNTIF($V$7:V3446,\"該当３\"))","v":""}]
[823402009,8,234,{"v":4,"d":"04"},{"v":9,"d":"009 "},"茨城県","鉾田市","夏海村２－２","八観野",null,"","",{"$f":"IF(K3447=\"\",\"\",COUNTIF($K$7:K3447,\"ﾘｽﾄ１\"))","v":""},"","","","","","","",{"$f":"IF(S3447=\"\",\"\",COUNTIF($S$7:S3447,\"該当２\"))","v":""},"","",{"$f":"IF(V3447=\"\",\"\",COUNTIF($V$7:V3447,\"該当３\"))","v":""}]
[823403002,8,234,{"v":4,"d":"04"},{"v":2,"d":"002 "},"茨城県","鉾田市","大谷村","子生宿",null,"","",{"$f":"IF(K3450=\"\",\"\",COUNTIF($K$7:K3450,\"ﾘｽﾄ１\"))","v":""},"","","","","","","",{"$f":"IF(S3450=\"\",\"\",COUNTIF($S$7:S3450,\"該当２\"))","v":""},"","",{"$f":"IF(V3450=\"\",\"\",COUNTIF($V$7:V3450,\"該当３\"))","v":""}]
[823403007,8,234,{"v":4,"d":"04"},{"v":7,"d":"007 "},"茨城県","鉾田市","大谷村","下鹿田",null,"","",{"$f":"IF(K3455=\"\",\"\",COUNTIF($K$7:K3455,\"ﾘｽﾄ１\"))","v":""},"","","","","","","",{"$f":"IF(S3455=\"\",\"\",COUNTIF($S$7:S3455,\"該当２\"))","v":""},"","",{"$f":"IF(V3455=\"\",\"\",COUNTIF($V$7:V3455,\"該当３\"))","v":""}]
[823403010,8,234,{"v":4,"d":"04"},{"v":10,"d":"010 "},"茨城県","鉾田市","大谷村","大沼",null,"","",{"$f":"IF(K3458=\"\",\"\",COUNTIF($K$7:K3458,\"ﾘｽﾄ１\"))","v":""},"","","","","","","",{"$f":"IF(S3458=\"\",\"\",COUNTIF($S$7:S3458,\"該当２\"))","v":""},"","",{"$f":"IF(V3458=\"\",\"\",COUNTIF($V$7:V3458,\"該当３\"))","v":""}]
[823403013,8,234,{"v":4,"d":"04"},{"v":13,"d":"013 "},"茨城県","鉾田市","大谷村","大神",null,"","",{"$f":"IF(K3461=\"\",\"\",COUNTIF($K$7:K3461,\"ﾘｽﾄ１\"))","v":""},"","","","","","","",{"$f":"IF(S3461=\"\",\"\",COUNTIF($S$7:S3461,\"該当２\"))","v":""},"","",{"$f":"IF(V3461=\"\",\"\",COUNTIF($V$7:V3461,\"該当３\"))","v":""}]
[823403016,8,234,{"v":4,"d":"04"},{"v":16,"d":"016 "},"茨城県","鉾田市","大谷村","箕輪東",null,"","",{"$f":"IF(K3464=\"\",\"\",COUNTIF($K$7:K3464,\"ﾘｽﾄ１\"))","v":""},"","","","","","","",{"$f":"IF(S3464=\"\",\"\",COUNTIF($S$7:S3464,\"該当２\"))","v":""},"","",{"$f":"IF(V3464=\"\",\"\",COUNTIF($V$7:V3464,\"該当３\"))","v":""}]
[823404002,8,234,{"v":4,"d":"04"},{"v":2,"d":"002 "},"茨城県","鉾田市","徳宿村","秋山",null,"","",{"$f":"IF(K3468=\"\",\"\",COUNTIF($K$7:K3468,\"ﾘｽﾄ１\"))","v":""},"","","","","","","",{"$f":"IF(S3468=\"\",\"\",COUNTIF($S$7:S3468,\"該当２\"))","v":""},"","",{"$f":"IF(V3468=\"\",\"\",COUNTIF($V$7:V3468,\"該当３\"))","v":""}]
[823404005,8,234,{"v":4,"d":"04"},{"v":5,"d":"005 "},"茨城県","鉾田市","徳宿村","額相",null,"","",{"$f":"IF(K3471=\"\",\"\",COUNTIF($K$7:K3471,\"ﾘｽﾄ１\"))","v":""},"","","","","","","",{"$f":"IF(S3471=\"\",\"\",COUNTIF($S$7:S3471,\"該当２\"))","v":""},"","",{"$f":"IF(V3471=\"\",\"\",COUNTIF($V$7:V3471,\"該当３\"))","v":""}]
[823404006,8,234,{"v":4,"d":"04"},{"v":6,"d":"006 "},"茨城県","鉾田市","徳宿村","大戸本田",null,"","",{"$f":"IF(K3472=\"\",\"\",COUNTIF($K$7:K3472,\"ﾘｽﾄ１\"))","v":""},"","","","","","","",{"$f":"IF(S3472=\"\",\"\",COUNTIF($S$7:S3472,\"該当２\"))","v":""},"","",{"$f":"IF(V3472=\"\",\"\",COUNTIF($V$7:V3472,\"該当３\"))","v":""}]
[823404010,8,234,{"v":4,"d":"04"},{"v":10,"d":"010 "},"茨城県","鉾田市","徳宿村","徳宿本郷",null,"","",{"$f":"IF(K3476=\"\",\"\",COUNTIF($K$7:K3476,\"ﾘｽﾄ１\"))","v":""},"","","","","","","",{"$f":"IF(S3476=\"\",\"\",COUNTIF($S$7:S3476,\"該当２\"))","v":""},"","",{"$f":"IF(V3476=\"\",\"\",COUNTIF($V$7:V3476,\"該当３\"))","v":""}]
[823404013,8,234,{"v":4,"d":"04"},{"v":13,"d":"013 "},"茨城県","鉾田市","徳宿村","土井林",null,"","",{"$f":"IF(K3479=\"\",\"\",COUNTIF($K$7:K3479,\"ﾘｽﾄ１\"))","v":""},"","","","","","","",{"$f":"IF(S3479=\"\",\"\",COUNTIF($S$7:S3479,\"該当２\"))","v":""},"","",{"$f":"IF(V3479=\"\",\"\",COUNTIF($V$7:V3479,\"該当３\"))","v":""}]
[823404017,8,234,{"v":4,"d":"04"},{"v":17,"d":"017 "},"茨城県","鉾田市","徳宿村","東堺",null,"","",{"$f":"IF(K3483=\"\",\"\",COUNTIF($K$7:K3483,\"ﾘｽﾄ１\"))","v":""},"","","","","","","",{"$f":"IF(S3483=\"\",\"\",COUNTIF($S$7:S3483,\"該当２\"))","v":""},"","",{"$f":"IF(V3483=\"\",\"\",COUNTIF($V$7:V3483,\"該当３\"))","v":""}]
[823405002,8,234,{"v":4,"d":"04"},{"v":2,"d":"002 "},"茨城県","鉾田市","巴村","紅葉",null,"","",{"$f":"IF(K3486=\"\",\"\",COUNTIF($K$7:K3486,\"ﾘｽﾄ１\"))","v":""},"","","","","","","",{"$f":"IF(S3486=\"\",\"\",COUNTIF($S$7:S3486,\"該当２\"))","v":""},"","",{"$f":"IF(V3486=\"\",\"\",COUNTIF($V$7:V3486,\"該当３\"))","v":""}]
[823405005,8,234,{"v":4,"d":"04"},{"v":5,"d":"005 "},"茨城県","鉾田市","巴村","菅野谷新田",null,"","",{"$f":"IF(K3489=\"\",\"\",COUNTIF($K$7:K3489,\"ﾘｽﾄ１\"))","v":""},"","","","","","","",{"$f":"IF(S3489=\"\",\"\",COUNTIF($S$7:S3489,\"該当２\"))","v":""},"","",{"$f":"IF(V3489=\"\",\"\",COUNTIF($V$7:V3489,\"該当３\"))","v":""}]
[823405009,8,234,{"v":4,"d":"04"},{"v":9,"d":"009 "},"茨城県","鉾田市","巴村","上冨田第二",null,"","",{"$f":"IF(K3493=\"\",\"\",COUNTIF($K$7:K3493,\"ﾘｽﾄ１\"))","v":""},"","","","","","","",{"$f":"IF(S3493=\"\",\"\",COUNTIF($S$7:S3493,\"該当２\"))","v":""},"","",{"$f":"IF(V3493=\"\",\"\",COUNTIF($V$7:V3493,\"該当３\"))","v":""}]
[823405013,8,234,{"v":4,"d":"04"},{"v":13,"d":"013 "},"茨城県","鉾田市","巴村","鳥栖新田",null,"","",{"$f":"IF(K3497=\"\",\"\",COUNTIF($K$7:K3497,\"ﾘｽﾄ１\"))","v":""},"","","","","","","",{"$f":"IF(S3497=\"\",\"\",COUNTIF($S$7:S3497,\"該当２\"))","v":""},"","",{"$f":"IF(V3497=\"\",\"\",COUNTIF($V$7:V3497,\"該当３\"))","v":""}]
[823405014,8,234,{"v":4,"d":"04"},{"v":14,"d":"014 "},"茨城県","鉾田市","巴村","新里",null,"","",{"$f":"IF(K3498=\"\",\"\",COUNTIF($K$7:K3498,\"ﾘｽﾄ１\"))","v":""},"","","","","","","",{"$f":"IF(S3498=\"\",\"\",COUNTIF($S$7:S3498,\"該当２\"))","v":""},"","",{"$f":"IF(V3498=\"\",\"\",COUNTIF($V$7:V3498,\"該当３\"))","v":""}]
[823405017,8,234,{"v":4,"d":"04"},{"v":17,"d":"017 "},"茨城県","鉾田市","巴村","坂戸",null,"","",{"$f":"IF(K3501=\"\",\"\",COUNTIF($K$7:K3501,\"ﾘｽﾄ１\"))","v":""},"","","","","","","",{"$f":"IF(S3501=\"\",\"\",COUNTIF($S$7:S3501,\"該当２\"))","v":""},"","",{"$f":"IF(V3501=\"\",\"\",COUNTIF($V$7:V3501,\"該当３\"))","v":""}]
[823406002,8,234,{"v":4,"d":"04"},{"v":2,"d":"002 "},"茨城県","鉾田市","諏訪村２－２","靭負",null,"","",{"$f":"IF(K3504=\"\",\"\",COUNTIF($K$7:K3504,\"ﾘｽﾄ１\"))","v":""},"","","","","","","",{"$f":"IF(S3504=\"\",\"\",COUNTIF($S$7:S3504,\"該当２\"))","v":""},"","",{"$f":"IF(V3504=\"\",\"\",COUNTIF($V$7:V3504,\"該当３\"))","v":""}]
[823407001,8,234,{"v":4,"d":"04"},{"v":1,"d":"001 "},"茨城県","鉾田市","秋津村","高田",null,"","",{"$f":"IF(K3508=\"\",\"\",COUNTIF($K$7:K3508,\"ﾘｽﾄ１\"))","v":""},"","","","","","","",{"$f":"IF(S3508=\"\",\"\",COUNTIF($S$7:S3508,\"該当２\"))","v":""},"","",{"$f":"IF(V3508=\"\",\"\",COUNTIF($V$7:V3508,\"該当３\"))","v":""}]
[823407004,8,234,{"v":4,"d":"04"},{"v":4,"d":"004 "},"茨城県","鉾田市","秋津村","本郷根崎",null,"","",{"$f":"IF(K3511=\"\",\"\",COUNTIF($K$7:K3511,\"ﾘｽﾄ１\"))","v":""},"","","","","","","",{"$f":"IF(S3511=\"\",\"\",COUNTIF($S$7:S3511,\"該当２\"))","v":""},"","",{"$f":"IF(V3511=\"\",\"\",COUNTIF($V$7:V3511,\"該当３\"))","v":""}]
[823407007,8,234,{"v":4,"d":"04"},{"v":7,"d":"007 "},"茨城県","鉾田市","秋津村","野友宿台",null,"","",{"$f":"IF(K3514=\"\",\"\",COUNTIF($K$7:K3514,\"ﾘｽﾄ１\"))","v":""},"","","","","","","",{"$f":"IF(S3514=\"\",\"\",COUNTIF($S$7:S3514,\"該当２\"))","v":""},"","",{"$f":"IF(V3514=\"\",\"\",COUNTIF($V$7:V3514,\"該当３\"))","v":""}]
[823407012,8,234,{"v":4,"d":"04"},{"v":12,"d":"012 "},"茨城県","鉾田市","秋津村","下半原",null,"","",{"$f":"IF(K3519=\"\",\"\",COUNTIF($K$7:K3519,\"ﾘｽﾄ１\"))","v":""},"","","","","","","",{"$f":"IF(S3519=\"\",\"\",COUNTIF($S$7:S3519,\"該当２\"))","v":""},"","",{"$f":"IF(V3519=\"\",\"\",COUNTIF($V$7:V3519,\"該当３\"))","v":""}]
[823407015,8,234,{"v":4,"d":"04"},{"v":15,"d":"015 "},"茨城県","鉾田市","秋津村","青柳",null,"","",{"$f":"IF(K3522=\"\",\"\",COUNTIF($K$7:K3522,\"ﾘｽﾄ１\"))","v":""},"","","","","","","",{"$f":"IF(S3522=\"\",\"\",COUNTIF($S$7:S3522,\"該当２\"))","v":""},"","",{"$f":"IF(V3522=\"\",\"\",COUNTIF($V$7:V3522,\"該当３\"))","v":""}]
[823407016,8,234,{"v":4,"d":"04"},{"v":16,"d":"016 "},"茨城県","鉾田市","秋津村","青柳札場",null,"","",{"$f":"IF(K3523=\"\",\"\",COUNTIF($K$7:K3523,\"ﾘｽﾄ１\"))","v":""},"","","","","","","",{"$f":"IF(S3523=\"\",\"\",COUNTIF($S$7:S3523,\"該当２\"))","v":""},"","",{"$f":"IF(V3523=\"\",\"\",COUNTIF($V$7:V3523,\"該当３\"))","v":""}]
[823408001,8,234,{"v":4,"d":"04"},{"v":1,"d":"001 "},"茨城県","鉾田市","鉾田町","櫻本",null,"","",{"$f":"IF(K3526=\"\",\"\",COUNTIF($K$7:K3526,\"ﾘｽﾄ１\"))","v":""},"","","","","","","",{"$f":"IF(S3526=\"\",\"\",COUNTIF($S$7:S3526,\"該当２\"))","v":""},"","",{"$f":"IF(V3526=\"\",\"\",COUNTIF($V$7:V3526,\"該当３\"))","v":""}]
[823408004,8,234,{"v":4,"d":"04"},{"v":4,"d":"004 "},"茨城県","鉾田市","鉾田町","仲須旭町御城",null,"","",{"$f":"IF(K3529=\"\",\"\",COUNTIF($K$7:K3529,\"ﾘｽﾄ１\"))","v":""},"","","","","","","",{"$f":"IF(S3529=\"\",\"\",COUNTIF($S$7:S3529,\"該当２\"))","v":""},"","",{"$f":"IF(V3529=\"\",\"\",COUNTIF($V$7:V3529,\"該当３\"))","v":""}]
[823409002,8,234,{"v":4,"d":"04"},{"v":2,"d":"002 "},"茨城県","鉾田市","新宮村","烟田",null,"","",{"$f":"IF(K3535=\"\",\"\",COUNTIF($K$7:K3535,\"ﾘｽﾄ１\"))","v":""},"","","","","","","",{"$f":"IF(S3535=\"\",\"\",COUNTIF($S$7:S3535,\"該当２\"))","v":""},"","",{"$f":"IF(V3535=\"\",\"\",COUNTIF($V$7:V3535,\"該当３\"))","v":""}]
[823409004,8,234,{"v":4,"d":"04"},{"v":4,"d":"004 "},"茨城県","鉾田市","新宮村","安塚",null,"","",{"$f":"IF(K3537=\"\",\"\",COUNTIF($K$7:K3537,\"ﾘｽﾄ１\"))","v":""},"","","","","","","",{"$f":"IF(S3537=\"\",\"\",COUNTIF($S$7:S3537,\"該当２\"))","v":""},"","",{"$f":"IF(V3537=\"\",\"\",COUNTIF($V$7:V3537,\"該当３\"))","v":""}]
[823409008,8,234,{"v":4,"d":"04"},{"v":8,"d":"008 "},"茨城県","鉾田市","新宮村","岡堀米",null,"","",{"$f":"IF(K3541=\"\",\"\",COUNTIF($K$7:K3541,\"ﾘｽﾄ１\"))","v":""},"","","","","","","",{"$f":"IF(S3541=\"\",\"\",COUNTIF($S$7:S3541,\"該当２\"))","v":""},"","",{"$f":"IF(V3541=\"\",\"\",COUNTIF($V$7:V3541,\"該当３\"))","v":""}]
[823410001,8,234,{"v":4,"d":"04"},{"v":1,"d":"001 "},"茨城県","鉾田市","白鳥村","上沢",null,"","",{"$f":"IF(K3544=\"\",\"\",COUNTIF($K$7:K3544,\"ﾘｽﾄ１\"))","v":""},"","","","","","","",{"$f":"IF(S3544=\"\",\"\",COUNTIF($S$7:S3544,\"該当２\"))","v":""},"","",{"$f":"IF(V3544=\"\",\"\",COUNTIF($V$7:V3544,\"該当３\"))","v":""}]
[823410004,8,234,{"v":4,"d":"04"},{"v":4,"d":"004 "},"茨城県","鉾田市","白鳥村","田子沼",null,"","",{"$f":"IF(K3547=\"\",\"\",COUNTIF($K$7:K3547,\"ﾘｽﾄ１\"))","v":""},"","","","","","","",{"$f":"IF(S3547=\"\",\"\",COUNTIF($S$7:S3547,\"該当２\"))","v":""},"","",{"$f":"IF(V3547=\"\",\"\",COUNTIF($V$7:V3547,\"該当３\"))","v":""}]
[823410005,8,234,{"v":4,"d":"04"},{"v":5,"d":"005 "},"茨城県","鉾田市","白鳥村","高釜",null,"","",{"$f":"IF(K3548=\"\",\"\",COUNTIF($K$7:K3548,\"ﾘｽﾄ１\"))","v":""},"","","","","","","",{"$f":"IF(S3548=\"\",\"\",COUNTIF($S$7:S3548,\"該当２\"))","v":""},"","",{"$f":"IF(V3548=\"\",\"\",COUNTIF($V$7:V3548,\"該当３\"))","v":""}]
[823410009,8,234,{"v":4,"d":"04"},{"v":9,"d":"009 "},"茨城県","鉾田市","白鳥村","下沢",null,"","",{"$f":"IF(K3552=\"\",\"\",COUNTIF($K$7:K3552,\"ﾘｽﾄ１\"))","v":""},"","","","","","","",{"$f":"IF(S3552=\"\",\"\",COUNTIF($S$7:S3552,\"該当２\"))","v":""},"","",{"$f":"IF(V3552=\"\",\"\",COUNTIF($V$7:V3552,\"該当３\"))","v":""}]
[823410013,8,234,{"v":4,"d":"04"},{"v":13,"d":"013 "},"茨城県","鉾田市","白鳥村","札",null,"","",{"$f":"IF(K3556=\"\",\"\",COUNTIF($K$7:K3556,\"ﾘｽﾄ１\"))","v":""},"","","","","","","",{"$f":"IF(S3556=\"\",\"\",COUNTIF($S$7:S3556,\"該当２\"))","v":""},"","",{"$f":"IF(V3556=\"\",\"\",COUNTIF($V$7:V3556,\"該当３\"))","v":""}]
[823410016,8,234,{"v":4,"d":"04"},{"v":16,"d":"016 "},"茨城県","鉾田市","白鳥村","阿玉",null,"","",{"$f":"IF(K3559=\"\",\"\",COUNTIF($K$7:K3559,\"ﾘｽﾄ１\"))","v":""},"","","","","","","",{"$f":"IF(S3559=\"\",\"\",COUNTIF($S$7:S3559,\"該当２\"))","v":""},"","",{"$f":"IF(V3559=\"\",\"\",COUNTIF($V$7:V3559,\"該当３\"))","v":""}]
[823411002,8,234,{"v":4,"d":"04"},{"v":2,"d":"002 "},"茨城県","鉾田市","上島村","椎別",null,"","",{"$f":"IF(K3562=\"\",\"\",COUNTIF($K$7:K3562,\"ﾘｽﾄ１\"))","v":""},"","","","","","","",{"$f":"IF(S3562=\"\",\"\",COUNTIF($S$7:S3562,\"該当２\"))","v":""},"","",{"$f":"IF(V3562=\"\",\"\",COUNTIF($V$7:V3562,\"該当３\"))","v":""}]
[823411006,8,234,{"v":4,"d":"04"},{"v":6,"d":"006 "},"茨城県","鉾田市","上島村","梶山",null,"","",{"$f":"IF(K3566=\"\",\"\",COUNTIF($K$7:K3566,\"ﾘｽﾄ１\"))","v":""},"","","","","","","",{"$f":"IF(S3566=\"\",\"\",COUNTIF($S$7:S3566,\"該当２\"))","v":""},"","",{"$f":"IF(V3566=\"\",\"\",COUNTIF($V$7:V3566,\"該当３\"))","v":""}]
[823411009,8,234,{"v":4,"d":"04"},{"v":9,"d":"009 "},"茨城県","鉾田市","上島村","台の浜",null,"","",{"$f":"IF(K3569=\"\",\"\",COUNTIF($K$7:K3569,\"ﾘｽﾄ１\"))","v":""},"","","","","","","",{"$f":"IF(S3569=\"\",\"\",COUNTIF($S$7:S3569,\"該当２\"))","v":""},"","",{"$f":"IF(V3569=\"\",\"\",COUNTIF($V$7:V3569,\"該当３\"))","v":""}]
[823501000,8,235,{"v":4,"d":"04"},{"v":0,"d":"000 "},"茨城県","つくばみらい市","小張村",null,null,"","",{"$f":"IF(K3572=\"\",\"\",COUNTIF($K$7:K3572,\"ﾘｽﾄ１\"))","v":""},"","","","","","","",{"$f":"IF(S3572=\"\",\"\",COUNTIF($S$7:S3572,\"該当２\"))","v":""},"","",{"$f":"IF(V3572=\"\",\"\",COUNTIF($V$7:V3572,\"該当３\"))","v":""}]
[823501001,8,235,{"v":4,"d":"04"},{"v":1,"d":"001 "},"茨城県","つくばみらい市","小張村","高波",null,"","",{"$f":"IF(K3573=\"\",\"\",COUNTIF($K$7:K3573,\"ﾘｽﾄ１\"))","v":""},"","","","","","","",{"$f":"IF(S3573=\"\",\"\",COUNTIF($S$7:S3573,\"該当２\"))","v":""},"","",{"$f":"IF(V3573=\"\",\"\",COUNTIF($V$7:V3573,\"該当３\"))","v":""}]
[823501005,8,235,{"v":4,"d":"04"},{"v":5,"d":"005 "},"茨城県","つくばみらい市","小張村","新戸",null,"","",{"$f":"IF(K3577=\"\",\"\",COUNTIF($K$7:K3577,\"ﾘｽﾄ１\"))","v":""},"","","","","","","",{"$f":"IF(S3577=\"\",\"\",COUNTIF($S$7:S3577,\"該当２\"))","v":""},"","",{"$f":"IF(V3577=\"\",\"\",COUNTIF($V$7:V3577,\"該当３\"))","v":""}]
[823501009,8,235,{"v":4,"d":"04"},{"v":9,"d":"009 "},"茨城県","つくばみらい市","小張村","奉社下谷口",null,"","",{"$f":"IF(K3581=\"\",\"\",COUNTIF($K$7:K3581,\"ﾘｽﾄ１\"))","v":""},"","","","","","","",{"$f":"IF(S3581=\"\",\"\",COUNTIF($S$7:S3581,\"該当２\"))","v":""},"","",{"$f":"IF(V3581=\"\",\"\",COUNTIF($V$7:V3581,\"該当３\"))","v":""}]
[823502001,8,235,{"v":4,"d":"04"},{"v":1,"d":"001 "},"茨城県","つくばみらい市","板橋村","伊奈東",null,"","",{"$f":"IF(K3584=\"\",\"\",COUNTIF($K$7:K3584,\"ﾘｽﾄ１\"))","v":""},"","","","","","","",{"$f":"IF(S3584=\"\",\"\",COUNTIF($S$7:S3584,\"該当２\"))","v":""},"","",{"$f":"IF(V3584=\"\",\"\",COUNTIF($V$7:V3584,\"該当３\"))","v":""}]
[823502004,8,235,{"v":4,"d":"04"},{"v":4,"d":"004 "},"茨城県","つくばみらい市","板橋村","大和田",null,"","",{"$f":"IF(K3587=\"\",\"\",COUNTIF($K$7:K3587,\"ﾘｽﾄ１\"))","v":""},"","","","","","","",{"$f":"IF(S3587=\"\",\"\",COUNTIF($S$7:S3587,\"該当２\"))","v":""},"","",{"$f":"IF(V3587=\"\",\"\",COUNTIF($V$7:V3587,\"該当３\"))","v":""}]
[823502008,8,235,{"v":4,"d":"04"},{"v":8,"d":"008 "},"茨城県","つくばみらい市","板橋村","鎌田",null,"","",{"$f":"IF(K3591=\"\",\"\",COUNTIF($K$7:K3591,\"ﾘｽﾄ１\"))","v":""},"","","","","","","",{"$f":"IF(S3591=\"\",\"\",COUNTIF($S$7:S3591,\"該当２\"))","v":""},"","",{"$f":"IF(V3591=\"\",\"\",COUNTIF($V$7:V3591,\"該当３\"))","v":""}]
[823502011,8,235,{"v":4,"d":"04"},{"v":11,"d":"011 "},"茨城県","つくばみらい市","板橋村","西山",null,"","",{"$f":"IF(K3594=\"\",\"\",COUNTIF($K$7:K3594,\"ﾘｽﾄ１\"))","v":""},"","",{"$f":"IF(O3594=\"該当１\",G3594,\"\")","v":""},{"$f":"IF(O3594=\"該当１\",\"ﾘｽﾄ2\",\"\")","v":""},{"$f":"IF(Q3594=\"ﾘｽﾄ2\",H3594,\"\")","v":""},"",{"$f":"IF(S3594=\"該当２\",H3594,\"\")","v":""},{"$f":"IF(S3594=\"\",\"\",COUNTIF($S$7:S3594,\"該当２\"))","v":""},{"$f":"IF(AND($S$2=H3594,E3594>0,E3594<998),\"該当３\",\"\")","v":""},{"$f":"IF(V3594=\"該当３\",I3594,\"\")","v":""},{"$f":"IF(V3594=\"\",\"\",COUNTIF($V$7:V3594,\"該当３\"))","v":""}]
[823503001,8,235,{"v":4,"d":"04"},{"v":1,"d":"001 "},"茨城県","つくばみらい市","三島村","福原",null,"","",{"$f":"IF(K3598=\"\",\"\",COUNTIF($K$7:K3598,\"ﾘｽﾄ１\"))","v":""},"","","","","","","",{"$f":"IF(S3598=\"\",\"\",COUNTIF($S$7:S3598,\"該当２\"))","v":""},"","",{"$f":"IF(V3598=\"\",\"\",COUNTIF($V$7:V3598,\"該当３\"))","v":""}]
[823503002,8,235,{"v":4,"d":"04"},{"v":2,"d":"002 "},"茨城県","つくばみらい市","三島村","上島",null,"","",{"$f":"IF(K3599=\"\",\"\",COUNTIF($K$7:K3599,\"ﾘｽﾄ１\"))","v":""},"","","","","","","",{"$f":"IF(S3599=\"\",\"\",COUNTIF($S$7:S3599,\"該当２\"))","v":""},"","",{"$f":"IF(V3599=\"\",\"\",COUNTIF($V$7:V3599,\"該当３\"))","v":""}]
[823503005,8,235,{"v":4,"d":"04"},{"v":5,"d":"005 "},"茨城県","つくばみらい市","三島村","山王新田",null,"","",{"$f":"IF(K3602=\"\",\"\",COUNTIF($K$7:K3602,\"ﾘｽﾄ１\"))","v":""},"","","","","","","",{"$f":"IF(S3602=\"\",\"\",COUNTIF($S$7:S3602,\"該当２\"))","v":""},"","",{"$f":"IF(V3602=\"\",\"\",COUNTIF($V$7:V3602,\"該当３\"))","v":""}]
[823503009,8,235,{"v":4,"d":"04"},{"v":9,"d":"009 "},"茨城県","つくばみらい市","三島村","戸茂",null,"","",{"$f":"IF(K3606=\"\",\"\",COUNTIF($K$7:K3606,\"ﾘｽﾄ１\"))","v":""},"","","","","","","",{"$f":"IF(S3606=\"\",\"\",COUNTIF($S$7:S3606,\"該当２\"))","v":""},"","",{"$f":"IF(V3606=\"\",\"\",COUNTIF($V$7:V3606,\"該当３\"))","v":""}]
[823504001,8,235,{"v":4,"d":"04"},{"v":1,"d":"001 "},"茨城県","つくばみらい市","久賀村２－１","足高",null,"","",{"$f":"IF(K3609=\"\",\"\",COUNTIF($K$7:K3609,\"ﾘｽﾄ１\"))","v":""},"","","","","","","",{"$f":"IF(S3609=\"\",\"\",COUNTIF($S$7:S3609,\"該当２\"))","v":""},"","",{"$f":"IF(V3609=\"\",\"\",COUNTIF($V$7:V3609,\"該当３\"))","v":""}]
[823505000,8,235,{"v":4,"d":"04"},{"v":0,"d":"000 "},"茨城県","つくばみらい市","谷井田村",null,null,"","",{"$f":"IF(K3612=\"\",\"\",COUNTIF($K$7:K3612,\"ﾘｽﾄ１\"))","v":""},"","","","","","","",{"$f":"IF(S3612=\"\",\"\",COUNTIF($S$7:S3612,\"該当２\"))","v":""},"","",{"$f":"IF(V3612=\"\",\"\",COUNTIF($V$7:V3612,\"該当３\"))","v":""}]
[823505003,8,235,{"v":4,"d":"04"},{"v":3,"d":"003 "},"茨城県","つくばみらい市","谷井田村","外記新田",null,"","",{"$f":"IF(K3615=\"\",\"\",COUNTIF($K$7:K3615,\"ﾘｽﾄ１\"))","v":""},"","","","","","","",{"$f":"IF(S3615=\"\",\"\",COUNTIF($S$7:S3615,\"該当２\"))","v":""},"","",{"$f":"IF(V3615=\"\",\"\",COUNTIF($V$7:V3615,\"該当３\"))","v":""}]
[823506000,8,235,{"v":4,"d":"04"},{"v":0,"d":"000 "},"茨城県","つくばみらい市","豊村",null,null,"","",{"$f":"IF(K3620=\"\",\"\",COUNTIF($K$7:K3620,\"ﾘｽﾄ１\"))","v":""},"","","","","","","",{"$f":"IF(S3620=\"\",\"\",COUNTIF($S$7:S3620,\"該当２\"))","v":""},"","",{"$f":"IF(V3620=\"\",\"\",COUNTIF($V$7:V3620,\"該当３\"))","v":""}]
[823506001,8,235,{"v":4,"d":"04"},{"v":1,"d":"001 "},"茨城県","つくばみらい市","豊村","豊体",null,"","",{"$f":"IF(K3621=\"\",\"\",COUNTIF($K$7:K3621,\"ﾘｽﾄ１\"))","v":""},"","","","","","","",{"$f":"IF(S3621=\"\",\"\",COUNTIF($S$7:S3621,\"該当２\"))","v":""},"","",{"$f":"IF(V3621=\"\",\"\",COUNTIF($V$7:V3621,\"該当３\"))","v":""}]
[823506004,8,235,{"v":4,"d":"04"},{"v":4,"d":"004 "},"茨城県","つくばみらい市","豊村","長渡呂",null,"","",{"$f":"IF(K3624=\"\",\"\",COUNTIF($K$7:K3624,\"ﾘｽﾄ１\"))","v":""},"","","","","","","",{"$f":"IF(S3624=\"\",\"\",COUNTIF($S$7:S3624,\"該当２\"))","v":""},"","",{"$f":"IF(V3624=\"\",\"\",COUNTIF($V$7:V3624,\"該当３\"))","v":""}]
[823506007,8,235,{"v":4,"d":"04"},{"v":7,"d":"007 "},"茨城県","つくばみらい市","豊村","弥柳",null,"","",{"$f":"IF(K3627=\"\",\"\",COUNTIF($K$7:K3627,\"ﾘｽﾄ１\"))","v":""},"","","","","","","",{"$f":"IF(S3627=\"\",\"\",COUNTIF($S$7:S3627,\"該当２\"))","v":""},"","",{"$f":"IF(V3627=\"\",\"\",COUNTIF($V$7:V3627,\"該当３\"))","v":""}]
[823507002,8,235,{"v":4,"d":"04"},{"v":2,"d":"002 "},"茨城県","つくばみらい市","十和村２－１","日川上",null,"","",{"$f":"IF(K3631=\"\",\"\",COUNTIF($K$7:K3631,\"ﾘｽﾄ１\"))","v":""},"","","","","","","",{"$f":"IF(S3631=\"\",\"\",COUNTIF($S$7:S3631,\"該当２\"))","v":""},"","",{"$f":"IF(V3631=\"\",\"\",COUNTIF($V$7:V3631,\"該当３\"))","v":""}]
[823507007,8,235,{"v":4,"d":"04"},{"v":7,"d":"007 "},"茨城県","つくばみらい市","十和村２－１","十和",null,"","",{"$f":"IF(K3636=\"\",\"\",COUNTIF($K$7:K3636,\"ﾘｽﾄ１\"))","v":""},"","","","","","","",{"$f":"IF(S3636=\"\",\"\",COUNTIF($S$7:S3636,\"該当２\"))","v":""},"","",{"$f":"IF(V3636=\"\",\"\",COUNTIF($V$7:V3636,\"該当３\"))","v":""}]
[823507009,8,235,{"v":4,"d":"04"},{"v":9,"d":"009 "},"茨城県","つくばみらい市","十和村２－１","北袋東",null,"","",{"$f":"IF(K3638=\"\",\"\",COUNTIF($K$7:K3638,\"ﾘｽﾄ１\"))","v":""},"","","","","","","",{"$f":"IF(S3638=\"\",\"\",COUNTIF($S$7:S3638,\"該当２\"))","v":""},"","",{"$f":"IF(V3638=\"\",\"\",COUNTIF($V$7:V3638,\"該当３\"))","v":""}]
[823507013,8,235,{"v":4,"d":"04"},{"v":13,"d":"013 "},"茨城県","つくばみらい市","十和村２－１","上長沼",null,"","",{"$f":"IF(K3642=\"\",\"\",COUNTIF($K$7:K3642,\"ﾘｽﾄ１\"))","v":""},"","","","","","","",{"$f":"IF(S3642=\"\",\"\",COUNTIF($S$7:S3642,\"該当２\"))","v":""},"","",{"$f":"IF(V3642=\"\",\"\",COUNTIF($V$7:V3642,\"該当３\"))","v":""}]
[823508002,8,235,{"v":4,"d":"04"},{"v":2,"d":"002 "},"茨城県","つくばみらい市","福岡村","中曽根",null,"","",{"$f":"IF(K3645=\"\",\"\",COUNTIF($K$7:K3645,\"ﾘｽﾄ１\"))","v":""},"","","","","","","",{"$f":"IF(S3645=\"\",\"\",COUNTIF($S$7:S3645,\"該当２\"))","v":""},"","",{"$f":"IF(V3645=\"\",\"\",COUNTIF($V$7:V3645,\"該当３\"))","v":""}]
[823508003,8,235,{"v":4,"d":"04"},{"v":3,"d":"003 "},"茨城県","つくばみらい市","福岡村","水門",null,"","",{"$f":"IF(K3646=\"\",\"\",COUNTIF($K$7:K3646,\"ﾘｽﾄ１\"))","v":""},"","","","","","","",{"$f":"IF(S3646=\"\",\"\",COUNTIF($S$7:S3646,\"該当２\"))","v":""},"","",{"$f":"IF(V3646=\"\",\"\",COUNTIF($V$7:V3646,\"該当３\"))","v":""}]
[823508006,8,235,{"v":4,"d":"04"},{"v":6,"d":"006 "},"茨城県","つくばみらい市","福岡村","寺町",null,"","",{"$f":"IF(K3649=\"\",\"\",COUNTIF($K$7:K3649,\"ﾘｽﾄ１\"))","v":""},"","","","","","","",{"$f":"IF(S3649=\"\",\"\",COUNTIF($S$7:S3649,\"該当２\"))","v":""},"","",{"$f":"IF(V3649=\"\",\"\",COUNTIF($V$7:V3649,\"該当３\"))","v":""}]
[823508010,8,235,{"v":4,"d":"04"},{"v":10,"d":"010 "},"茨城県","つくばみらい市","福岡村","春日入",null,"","",{"$f":"IF(K3653=\"\",\"\",COUNTIF($K$7:K3653,\"ﾘｽﾄ１\"))","v":""},"","","","","","","",{"$f":"IF(S3653=\"\",\"\",COUNTIF($S$7:S3653,\"該当２\"))","v":""},"","",{"$f":"IF(V3653=\"\",\"\",COUNTIF($V$7:V3653,\"該当３\"))","v":""}]
[823509000,8,235,{"v":4,"d":"04"},{"v":0,"d":"000 "},"茨城県","つくばみらい市","谷原村",null,null,"","",{"$f":"IF(K3657=\"\",\"\",COUNTIF($K$7:K3657,\"ﾘｽﾄ１\"))","v":""},"","","","","","","",{"$f":"IF(S3657=\"\",\"\",COUNTIF($S$7:S3657,\"該当２\"))","v":""},"","",{"$f":"IF(V3657=\"\",\"\",COUNTIF($V$7:V3657,\"該当３\"))","v":""}]
[823509003,8,235,{"v":4,"d":"04"},{"v":3,"d":"003 "},"茨城県","つくばみらい市","谷原村","西楢戸台",null,"","",{"$f":"IF(K3660=\"\",\"\",COUNTIF($K$7:K3660,\"ﾘｽﾄ１\"))","v":""},"","","","","","","",{"$f":"IF(S3660=\"\",\"\",COUNTIF($S$7:S3660,\"該当２\"))","v":""},"","",{"$f":"IF(V3660=\"\",\"\",COUNTIF($V$7:V3660,\"該当３\"))","v":""}]
[823509006,8,235,{"v":4,"d":"04"},{"v":6,"d":"006 "},"茨城県","つくばみらい市","谷原村","古川本田",null,"","",{"$f":"IF(K3663=\"\",\"\",COUNTIF($K$7:K3663,\"ﾘｽﾄ１\"))","v":""},"","","","","","","",{"$f":"IF(S3663=\"\",\"\",COUNTIF($S$7:S3663,\"該当２\"))","v":""},"","",{"$f":"IF(V3663=\"\",\"\",COUNTIF($V$7:V3663,\"該当３\"))","v":""}]
[823509010,8,235,{"v":4,"d":"04"},{"v":10,"d":"010 "},"茨城県","つくばみらい市","谷原村","加藤",null,"","",{"$f":"IF(K3667=\"\",\"\",COUNTIF($K$7:K3667,\"ﾘｽﾄ１\"))","v":""},"","","","","","","",{"$f":"IF(S3667=\"\",\"\",COUNTIF($S$7:S3667,\"該当２\"))","v":""},"","",{"$f":"IF(V3667=\"\",\"\",COUNTIF($V$7:V3667,\"該当３\"))","v":""}]
[823509013,8,235,{"v":4,"d":"04"},{"v":13,"d":"013 "},"茨城県","つくばみらい市","谷原村","下小目",null,"","",{"$f":"IF(K3670=\"\",\"\",COUNTIF($K$7:K3670,\"ﾘｽﾄ１\"))","v":""},"","","","","","","",{"$f":"IF(S3670=\"\",\"\",COUNTIF($S$7:S3670,\"該当２\"))","v":""},"","",{"$f":"IF(V3670=\"\",\"\",COUNTIF($V$7:V3670,\"該当３\"))","v":""}]
[823509014,8,235,{"v":4,"d":"04"},{"v":14,"d":"014 "},"茨城県","つくばみらい市","谷原村","中表，遠表，曽根，小平沼",null,"","",{"$f":"IF(K3671=\"\",\"\",COUNTIF($K$7:K3671,\"ﾘｽﾄ１\"))","v":""},"","","","","","","",{"$f":"IF(S3671=\"\",\"\",COUNTIF($S$7:S3671,\"該当２\"))","v":""},"","",{"$f":"IF(V3671=\"\",\"\",COUNTIF($V$7:V3671,\"該当３\"))","v":""}]
[823509017,8,235,{"v":4,"d":"04"},{"v":17,"d":"017 "},"茨城県","つくばみらい市","谷原村","中曽根，大袋",null,"","",{"$f":"IF(K3674=\"\",\"\",COUNTIF($K$7:K3674,\"ﾘｽﾄ１\"))","v":""},"","","","","","","",{"$f":"IF(S3674=\"\",\"\",COUNTIF($S$7:S3674,\"該当２\"))","v":""},"","",{"$f":"IF(V3674=\"\",\"\",COUNTIF($V$7:V3674,\"該当３\"))","v":""}]
[823509021,8,235,{"v":4,"d":"04"},{"v":21,"d":"021 "},"茨城県","つくばみらい市","谷原村","舟戸",null,"","",{"$f":"IF(K3678=\"\",\"\",COUNTIF($K$7:K3678,\"ﾘｽﾄ１\"))","v":""},"","","","","","","",{"$f":"IF(S3678=\"\",\"\",COUNTIF($S$7:S3678,\"該当２\"))","v":""},"","",{"$f":"IF(V3678=\"\",\"\",COUNTIF($V$7:V3678,\"該当３\"))","v":""}]
[823510002,8,235,{"v":4,"d":"04"},{"v":2,"d":"002 "},"茨城県","つくばみらい市","小絹村","寺畑",null,"","",{"$f":"IF(K3682=\"\",\"\",COUNTIF($K$7:K3682,\"ﾘｽﾄ１\"))","v":""},"","","","","","","",{"$f":"IF(S3682=\"\",\"\",COUNTIF($S$7:S3682,\"該当２\"))","v":""},"","",{"$f":"IF(V3682=\"\",\"\",COUNTIF($V$7:V3682,\"該当３\"))","v":""}]
[823510005,8,235,{"v":4,"d":"04"},{"v":5,"d":"005 "},"茨城県","つくばみらい市","小絹村","平沼",null,"","",{"$f":"IF(K3685=\"\",\"\",COUNTIF($K$7:K3685,\"ﾘｽﾄ１\"))","v":""},"","","","","","","",{"$f":"IF(S3685=\"\",\"\",COUNTIF($S$7:S3685,\"該当２\"))","v":""},"","",{"$f":"IF(V3685=\"\",\"\",COUNTIF($V$7:V3685,\"該当３\"))","v":""}]
[823510009,8,235,{"v":4,"d":"04"},{"v":9,"d":"009 "},"茨城県","つくばみらい市","小絹村","小絹下",null,"","",{"$f":"IF(K3689=\"\",\"\",COUNTIF($K$7:K3689,\"ﾘｽﾄ１\"))","v":""},"","","","","","","",{"$f":"IF(S3689=\"\",\"\",COUNTIF($S$7:S3689,\"該当２\"))","v":""},"","",{"$f":"IF(V3689=\"\",\"\",COUNTIF($V$7:V3689,\"該当３\"))","v":""}]
[823601000,8,236,{"v":4,"d":"04"},{"v":0,"d":"000 "},"茨城県","小美玉市","小川町",null,null,"","",{"$f":"IF(K3692=\"\",\"\",COUNTIF($K$7:K3692,\"ﾘｽﾄ１\"))","v":""},"","","","","","","",{"$f":"IF(S3692=\"\",\"\",COUNTIF($S$7:S3692,\"該当２\"))","v":""},"","",{"$f":"IF(V3692=\"\",\"\",COUNTIF($V$7:V3692,\"該当３\"))","v":""}]
[823601003,8,236,{"v":4,"d":"04"},{"v":3,"d":"003 "},"茨城県","小美玉市","小川町","隠谷",null,"","",{"$f":"IF(K3695=\"\",\"\",COUNTIF($K$7:K3695,\"ﾘｽﾄ１\"))","v":""},"","","","","","","",{"$f":"IF(S3695=\"\",\"\",COUNTIF($S$7:S3695,\"該当２\"))","v":""},"","",{"$f":"IF(V3695=\"\",\"\",COUNTIF($V$7:V3695,\"該当３\"))","v":""}]
[823601005,8,236,{"v":4,"d":"04"},{"v":5,"d":"005 "},"茨城県","小美玉市","小川町","新林",null,"","",{"$f":"IF(K3697=\"\",\"\",COUNTIF($K$7:K3697,\"ﾘｽﾄ１\"))","v":""},"","","","","","","",{"$f":"IF(S3697=\"\",\"\",COUNTIF($S$7:S3697,\"該当２\"))","v":""},"","",{"$f":"IF(V3697=\"\",\"\",COUNTIF($V$7:V3697,\"該当３\"))","v":""}]
[823601008,8,236,{"v":4,"d":"04"},{"v":8,"d":"008 "},"茨城県","小美玉市","小川町","立延",null,"","",{"$f":"IF(K3700=\"\",\"\",COUNTIF($K$7:K3700,\"ﾘｽﾄ１\"))","v":""},"","","","","","","",{"$f":"IF(S3700=\"\",\"\",COUNTIF($S$7:S3700,\"該当２\"))","v":""},"","",{"$f":"IF(V3700=\"\",\"\",COUNTIF($V$7:V3700,\"該当３\"))","v":""}]
[823601011,8,236,{"v":4,"d":"04"},{"v":11,"d":"011 "},"茨城県","小美玉市","小川町","下馬場",null,"","",{"$f":"IF(K3703=\"\",\"\",COUNTIF($K$7:K3703,\"ﾘｽﾄ１\"))","v":""},"","","","","","","",{"$f":"IF(S3703=\"\",\"\",COUNTIF($S$7:S3703,\"該当２\"))","v":""},"","",{"$f":"IF(V3703=\"\",\"\",COUNTIF($V$7:V3703,\"該当３\"))","v":""}]
[823602002,8,236,{"v":4,"d":"04"},{"v":2,"d":"002 "},"茨城県","小美玉市","白河村","佐才",null,"","",{"$f":"IF(K3707=\"\",\"\",COUNTIF($K$7:K3707,\"ﾘｽﾄ１\"))","v":""},"","","","","","","",{"$f":"IF(S3707=\"\",\"\",COUNTIF($S$7:S3707,\"該当２\"))","v":""},"","",{"$f":"IF(V3707=\"\",\"\",COUNTIF($V$7:V3707,\"該当３\"))","v":""}]
[823602005,8,236,{"v":4,"d":"04"},{"v":5,"d":"005 "},"茨城県","小美玉市","白河村","上合",null,"","",{"$f":"IF(K3710=\"\",\"\",COUNTIF($K$7:K3710,\"ﾘｽﾄ１\"))","v":""},"","","","","","","",{"$f":"IF(S3710=\"\",\"\",COUNTIF($S$7:S3710,\"該当２\"))","v":""},"","",{"$f":"IF(V3710=\"\",\"\",COUNTIF($V$7:V3710,\"該当３\"))","v":""}]
[823602007,8,236,{"v":4,"d":"04"},{"v":7,"d":"007 "},"茨城県","小美玉市","白河村","下吉影（二）",null,"","",{"$f":"IF(K3712=\"\",\"\",COUNTIF($K$7:K3712,\"ﾘｽﾄ１\"))","v":""},"","","","","","","",{"$f":"IF(S3712=\"\",\"\",COUNTIF($S$7:S3712,\"該当２\"))","v":""},"","",{"$f":"IF(V3712=\"\",\"\",COUNTIF($V$7:V3712,\"該当３\"))","v":""}]
[823603003,8,236,{"v":4,"d":"04"},{"v":3,"d":"003 "},"茨城県","小美玉市","橘村","上与沢",null,"","",{"$f":"IF(K3718=\"\",\"\",COUNTIF($K$7:K3718,\"ﾘｽﾄ１\"))","v":""},"","","","","","","",{"$f":"IF(S3718=\"\",\"\",COUNTIF($S$7:S3718,\"該当２\"))","v":""},"","",{"$f":"IF(V3718=\"\",\"\",COUNTIF($V$7:V3718,\"該当３\"))","v":""}]
[823603006,8,236,{"v":4,"d":"04"},{"v":6,"d":"006 "},"茨城県","小美玉市","橘村","倉数（一）",null,"","",{"$f":"IF(K3721=\"\",\"\",COUNTIF($K$7:K3721,\"ﾘｽﾄ１\"))","v":""},"","","","","","","",{"$f":"IF(S3721=\"\",\"\",COUNTIF($S$7:S3721,\"該当２\"))","v":""},"","",{"$f":"IF(V3721=\"\",\"\",COUNTIF($V$7:V3721,\"該当３\"))","v":""}]
[823603007,8,236,{"v":4,"d":"04"},{"v":7,"d":"007 "},"茨城県","小美玉市","橘村","倉数（二）",null,"","",{"$f":"IF(K3722=\"\",\"\",COUNTIF($K$7:K3722,\"ﾘｽﾄ１\"))","v":""},"","",{"$f":"IF(O3722=\"該当１\",G3722,\"\")","v":""},{"$f":"IF(O3722=\"該当１\",\"ﾘｽﾄ2\",\"\")","v":""},{"$f":"IF(Q3722=\"ﾘｽﾄ2\",H3722,\"\")","v":""},"",{"$f":"IF(S3722=\"該当２\",H3722,\"\")","v":""},{"$f":"IF(S3722=\"\",\"\",COUNTIF($S$7:S3722,\"該当２\"))","v":""},{"$f":"IF(AND($S$2=H3722,E3722>0,E3722<998),\"該当３\",\"\")","v":""},{"$f":"IF(V3722=\"該当３\",I3722,\"\")","v":""},{"$f":"IF(V3722=\"\",\"\",COUNTIF($V$7:V3722,\"該当３\"))","v":""}]
[823603010,8,236,{"v":4,"d":"04"},{"v":10,"d":"010 "},"茨城県","小美玉市","橘村","外之内",null,"","",{"$f":"IF(K3725=\"\",\"\",COUNTIF($K$7:K3725,\"ﾘｽﾄ１\"))","v":""},"","","","","","","",{"$f":"IF(S3725=\"\",\"\",COUNTIF($S$7:S3725,\"該当２\"))","v":""},"","",{"$f":"IF(V3725=\"\",\"\",COUNTIF($V$7:V3725,\"該当３\"))","v":""}]
[823603014,8,236,{"v":4,"d":"04"},{"v":14,"d":"014 "},"茨城県","小美玉市","橘村","川戸",null,"","",{"$f":"IF(K3729=\"\",\"\",COUNTIF($K$7:K3729,\"ﾘｽﾄ１\"))","v":""},"","","","","","","",{"$f":"IF(S3729=\"\",\"\",COUNTIF($S$7:S3729,\"該当２\"))","v":""},"","",{"$f":"IF(V3729=\"\",\"\",COUNTIF($V$7:V3729,\"該当３\"))","v":""}]
[823604002,8,236,{"v":4,"d":"04"},{"v":2,"d":"002 "},"茨城県","小美玉市","堅倉村","高田",null,"","",{"$f":"IF(K3732=\"\",\"\",COUNTIF($K$7:K3732,\"ﾘｽﾄ１\"))","v":""},"","","","","","","",{"$f":"IF(S3732=\"\",\"\",COUNTIF($S$7:S3732,\"該当２\"))","v":""},"","",{"$f":"IF(V3732=\"\",\"\",COUNTIF($V$7:V3732,\"該当３\"))","v":""}]
[823604007,8,236,{"v":4,"d":"04"},{"v":7,"d":"007 "},"茨城県","小美玉市","堅倉村","西郷地",null,"","",{"$f":"IF(K3737=\"\",\"\",COUNTIF($K$7:K3737,\"ﾘｽﾄ１\"))","v":""},"","","","","","","",{"$f":"IF(S3737=\"\",\"\",COUNTIF($S$7:S3737,\"該当２\"))","v":""},"","",{"$f":"IF(V3737=\"\",\"\",COUNTIF($V$7:V3737,\"該当３\"))","v":""}]
[823604010,8,236,{"v":4,"d":"04"},{"v":10,"d":"010 "},"茨城県","小美玉市","堅倉村","納場",null,"","",{"$f":"IF(K3740=\"\",\"\",COUNTIF($K$7:K3740,\"ﾘｽﾄ１\"))","v":""},"","","","","","","",{"$f":"IF(S3740=\"\",\"\",COUNTIF($S$7:S3740,\"該当２\"))","v":""},"","",{"$f":"IF(V3740=\"\",\"\",COUNTIF($V$7:V3740,\"該当３\"))","v":""}]
[823604013,8,236,{"v":4,"d":"04"},{"v":13,"d":"013 "},"茨城県","小美玉市","堅倉村","張星",null,"","",{"$f":"IF(K3743=\"\",\"\",COUNTIF($K$7:K3743,\"ﾘｽﾄ１\"))","v":""},"","","","","","","",{"$f":"IF(S3743=\"\",\"\",COUNTIF($S$7:S3743,\"該当２\"))","v":""},"","",{"$f":"IF(V3743=\"\",\"\",COUNTIF($V$7:V3743,\"該当３\"))","v":""}]
[823604016,8,236,{"v":4,"d":"04"},{"v":16,"d":"016 "},"茨城県","小美玉市","堅倉村","鶴田",null,"","",{"$f":"IF(K3746=\"\",\"\",COUNTIF($K$7:K3746,\"ﾘｽﾄ１\"))","v":""},"","","","","","","",{"$f":"IF(S3746=\"\",\"\",COUNTIF($S$7:S3746,\"該当２\"))","v":""},"","",{"$f":"IF(V3746=\"\",\"\",COUNTIF($V$7:V3746,\"該当３\"))","v":""}]
[823604017,8,236,{"v":4,"d":"04"},{"v":17,"d":"017 "},"茨城県","小美玉市","堅倉村","三箇",null,"","",{"$f":"IF(K3747=\"\",\"\",COUNTIF($K$7:K3747,\"ﾘｽﾄ１\"))","v":""},"","","","","","","",{"$f":"IF(S3747=\"\",\"\",COUNTIF($S$7:S3747,\"該当２\"))","v":""},"","",{"$f":"IF(V3747=\"\",\"\",COUNTIF($V$7:V3747,\"該当３\"))","v":""}]
[823605002,8,236,{"v":4,"d":"04"},{"v":2,"d":"002 "},"茨城県","小美玉市","竹原村","中台",null,"","",{"$f":"IF(K3750=\"\",\"\",COUNTIF($K$7:K3750,\"ﾘｽﾄ１\"))","v":""},"","","","","","","",{"$f":"IF(S3750=\"\",\"\",COUNTIF($S$7:S3750,\"該当２\"))","v":""},"","",{"$f":"IF(V3750=\"\",\"\",COUNTIF($V$7:V3750,\"該当３\"))","v":""}]
[823605006,8,236,{"v":4,"d":"04"},{"v":6,"d":"006 "},"茨城県","小美玉市","竹原村","竹原中郷",null,"","",{"$f":"IF(K3754=\"\",\"\",COUNTIF($K$7:K3754,\"ﾘｽﾄ１\"))","v":""},"","","","","","","",{"$f":"IF(S3754=\"\",\"\",COUNTIF($S$7:S3754,\"該当２\"))","v":""},"","",{"$f":"IF(V3754=\"\",\"\",COUNTIF($V$7:V3754,\"該当３\"))","v":""}]
[823605010,8,236,{"v":4,"d":"04"},{"v":10,"d":"010 "},"茨城県","小美玉市","竹原村","羽鳥",null,"","",{"$f":"IF(K3758=\"\",\"\",COUNTIF($K$7:K3758,\"ﾘｽﾄ１\"))","v":""},"","","","","","","",{"$f":"IF(S3758=\"\",\"\",COUNTIF($S$7:S3758,\"該当２\"))","v":""},"","",{"$f":"IF(V3758=\"\",\"\",COUNTIF($V$7:V3758,\"該当３\"))","v":""}]
[823606002,8,236,{"v":4,"d":"04"},{"v":2,"d":"002 "},"茨城県","小美玉市","玉川村（小美玉市）","岡",null,"","",{"$f":"IF(K3761=\"\",\"\",COUNTIF($K$7:K3761,\"ﾘｽﾄ１\"))","v":""},"","","","","","","",{"$f":"IF(S3761=\"\",\"\",COUNTIF($S$7:S3761,\"該当２\"))","v":""},"","",{"$f":"IF(V3761=\"\",\"\",COUNTIF($V$7:V3761,\"該当３\"))","v":""}]
[823607002,8,236,{"v":4,"d":"04"},{"v":2,"d":"002 "},"茨城県","小美玉市","田余村","宮後，辻",null,"","",{"$f":"IF(K3765=\"\",\"\",COUNTIF($K$7:K3765,\"ﾘｽﾄ１\"))","v":""},"","","","","","","",{"$f":"IF(S3765=\"\",\"\",COUNTIF($S$7:S3765,\"該当２\"))","v":""},"","",{"$f":"IF(V3765=\"\",\"\",COUNTIF($V$7:V3765,\"該当３\"))","v":""}]
[823607005,8,236,{"v":4,"d":"04"},{"v":5,"d":"005 "},"茨城県","小美玉市","田余村","飯塚",null,"","",{"$f":"IF(K3768=\"\",\"\",COUNTIF($K$7:K3768,\"ﾘｽﾄ１\"))","v":""},"","","","","","","",{"$f":"IF(S3768=\"\",\"\",COUNTIF($S$7:S3768,\"該当２\"))","v":""},"","",{"$f":"IF(V3768=\"\",\"\",COUNTIF($V$7:V3768,\"該当３\"))","v":""}]
[823607008,8,236,{"v":4,"d":"04"},{"v":8,"d":"008 "},"茨城県","小美玉市","田余村","下高崎",null,"","",{"$f":"IF(K3771=\"\",\"\",COUNTIF($K$7:K3771,\"ﾘｽﾄ１\"))","v":""},"","","","","","","",{"$f":"IF(S3771=\"\",\"\",COUNTIF($S$7:S3771,\"該当２\"))","v":""},"","",{"$f":"IF(V3771=\"\",\"\",COUNTIF($V$7:V3771,\"該当３\"))","v":""}]
[830201001,8,302,{"v":4,"d":"04"},{"v":1,"d":"001 "},"茨城県","茨城町","長岡村","大山原",null,"","",{"$f":"IF(K3775=\"\",\"\",COUNTIF($K$7:K3775,\"ﾘｽﾄ１\"))","v":""},"","","","","","","",{"$f":"IF(S3775=\"\",\"\",COUNTIF($S$7:S3775,\"該当２\"))","v":""},"","",{"$f":"IF(V3775=\"\",\"\",COUNTIF($V$7:V3775,\"該当３\"))","v":""}]
[830201002,8,302,{"v":4,"d":"04"},{"v":2,"d":"002 "},"茨城県","茨城町","長岡村","下郷",null,"","",{"$f":"IF(K3776=\"\",\"\",COUNTIF($K$7:K3776,\"ﾘｽﾄ１\"))","v":""},"","","","","","","",{"$f":"IF(S3776=\"\",\"\",COUNTIF($S$7:S3776,\"該当２\"))","v":""},"","",{"$f":"IF(V3776=\"\",\"\",COUNTIF($V$7:V3776,\"該当３\"))","v":""}]
[830201006,8,302,{"v":4,"d":"04"},{"v":6,"d":"006 "},"茨城県","茨城町","長岡村","前田東",null,"","",{"$f":"IF(K3780=\"\",\"\",COUNTIF($K$7:K3780,\"ﾘｽﾄ１\"))","v":""},"","","","","","","",{"$f":"IF(S3780=\"\",\"\",COUNTIF($S$7:S3780,\"該当２\"))","v":""},"","",{"$f":"IF(V3780=\"\",\"\",COUNTIF($V$7:V3780,\"該当３\"))","v":""}]
[830201009,8,302,{"v":4,"d":"04"},{"v":9,"d":"009 "},"茨城県","茨城町","長岡村","植農東",null,"","",{"$f":"IF(K3783=\"\",\"\",COUNTIF($K$7:K3783,\"ﾘｽﾄ１\"))","v":""},"","","","","","","",{"$f":"IF(S3783=\"\",\"\",COUNTIF($S$7:S3783,\"該当２\"))","v":""},"","",{"$f":"IF(V3783=\"\",\"\",COUNTIF($V$7:V3783,\"該当３\"))","v":""}]
[830201012,8,302,{"v":4,"d":"04"},{"v":12,"d":"012 "},"茨城県","茨城町","長岡村","谷田部",null,"","",{"$f":"IF(K3786=\"\",\"\",COUNTIF($K$7:K3786,\"ﾘｽﾄ１\"))","v":""},"","",{"$f":"IF(O3786=\"該当１\",G3786,\"\")","v":""},{"$f":"IF(O3786=\"該当１\",\"ﾘｽﾄ2\",\"\")","v":""},{"$f":"IF(Q3786=\"ﾘｽﾄ2\",H3786,\"\")","v":""},"",{"$f":"IF(S3786=\"該当２\",H3786,\"\")","v":""},{"$f":"IF(S3786=\"\",\"\",COUNTIF($S$7:S3786,\"該当２\"))","v":""},{"$f":"IF(AND($S$2=H3786,E3786>0,E3786<998),\"該当３\",\"\")","v":""},{"$f":"IF(V3786=\"該当３\",I3786,\"\")","v":""},{"$f":"IF(V3786=\"\",\"\",COUNTIF($V$7:V3786,\"該当３\"))","v":""}]
[830201016,8,302,{"v":4,"d":"04"},{"v":16,"d":"016 "},"茨城県","茨城町","長岡村","近藤",null,"","",{"$f":"IF(K3790=\"\",\"\",COUNTIF($K$7:K3790,\"ﾘｽﾄ１\"))","v":""},"","","","","","","",{"$f":"IF(S3790=\"\",\"\",COUNTIF($S$7:S3790,\"該当２\"))","v":""},"","",{"$f":"IF(V3790=\"\",\"\",COUNTIF($V$7:V3790,\"該当３\"))","v":""}]
[830201019,8,302,{"v":4,"d":"04"},{"v":19,"d":"019 "},"茨城県","茨城町","長岡村","馬渡",null,"","",{"$f":"IF(K3793=\"\",\"\",COUNTIF($K$7:K3793,\"ﾘｽﾄ１\"))","v":""},"","","","","","","",{"$f":"IF(S3793=\"\",\"\",COUNTIF($S$7:S3793,\"該当２\"))","v":""},"","",{"$f":"IF(V3793=\"\",\"\",COUNTIF($V$7:V3793,\"該当３\"))","v":""}]
[830202002,8,302,{"v":4,"d":"04"},{"v":2,"d":"002 "},"茨城県","茨城町","川根村","木部東部",null,"","",{"$f":"IF(K3796=\"\",\"\",COUNTIF($K$7:K3796,\"ﾘｽﾄ１\"))","v":""},"","","","","","","",{"$f":"IF(S3796=\"\",\"\",COUNTIF($S$7:S3796,\"該当２\"))","v":""},"","",{"$f":"IF(V3796=\"\",\"\",COUNTIF($V$7:V3796,\"該当３\"))","v":""}]
[830202004,8,302,{"v":4,"d":"04"},{"v":4,"d":"004 "},"茨城県","茨城町","川根村","飯沼",null,"","",{"$f":"IF(K3798=\"\",\"\",COUNTIF($K$7:K3798,\"ﾘｽﾄ１\"))","v":""},"","","","","","","",{"$f":"IF(S3798=\"\",\"\",COUNTIF($S$7:S3798,\"該当２\"))","v":""},"","",{"$f":"IF(V3798=\"\",\"\",COUNTIF($V$7:V3798,\"該当３\"))","v":""}]
[830202007,8,302,{"v":4,"d":"04"},{"v":7,"d":"007 "},"茨城県","茨城町","川根村","下飯沼",null,"","",{"$f":"IF(K3801=\"\",\"\",COUNTIF($K$7:K3801,\"ﾘｽﾄ１\"))","v":""},"","","","","","","",{"$f":"IF(S3801=\"\",\"\",COUNTIF($S$7:S3801,\"該当２\"))","v":""},"","",{"$f":"IF(V3801=\"\",\"\",COUNTIF($V$7:V3801,\"該当３\"))","v":""}]
[830202011,8,302,{"v":4,"d":"04"},{"v":11,"d":"011 "},"茨城県","茨城町","川根村","赤坂",null,"","",{"$f":"IF(K3805=\"\",\"\",COUNTIF($K$7:K3805,\"ﾘｽﾄ１\"))","v":""},"","","","","","","",{"$f":"IF(S3805=\"\",\"\",COUNTIF($S$7:S3805,\"該当２\"))","v":""},"","",{"$f":"IF(V3805=\"\",\"\",COUNTIF($V$7:V3805,\"該当３\"))","v":""}]
[830202014,8,302,{"v":4,"d":"04"},{"v":14,"d":"014 "},"茨城県","茨城町","川根村","蕎麦原",null,"","",{"$f":"IF(K3808=\"\",\"\",COUNTIF($K$7:K3808,\"ﾘｽﾄ１\"))","v":""},"","","","","","","",{"$f":"IF(S3808=\"\",\"\",COUNTIF($S$7:S3808,\"該当２\"))","v":""},"","",{"$f":"IF(V3808=\"\",\"\",COUNTIF($V$7:V3808,\"該当３\"))","v":""}]
[830202017,8,302,{"v":4,"d":"04"},{"v":17,"d":"017 "},"茨城県","茨城町","川根村","野曽",null,"","",{"$f":"IF(K3811=\"\",\"\",COUNTIF($K$7:K3811,\"ﾘｽﾄ１\"))","v":""},"","","","","","","",{"$f":"IF(S3811=\"\",\"\",COUNTIF($S$7:S3811,\"該当２\"))","v":""},"","",{"$f":"IF(V3811=\"\",\"\",COUNTIF($V$7:V3811,\"該当３\"))","v":""}]
[830202019,8,302,{"v":4,"d":"04"},{"v":19,"d":"019 "},"茨城県","茨城町","川根村","南川又",null,"","",{"$f":"IF(K3813=\"\",\"\",COUNTIF($K$7:K3813,\"ﾘｽﾄ１\"))","v":""},"","","","","","","",{"$f":"IF(S3813=\"\",\"\",COUNTIF($S$7:S3813,\"該当２\"))","v":""},"","",{"$f":"IF(V3813=\"\",\"\",COUNTIF($V$7:V3813,\"該当３\"))","v":""}]
[830203004,8,302,{"v":4,"d":"04"},{"v":4,"d":"004 "},"茨城県","茨城町","上野合村","増山",null,"","",{"$f":"IF(K3819=\"\",\"\",COUNTIF($K$7:K3819,\"ﾘｽﾄ１\"))","v":""},"","","","","","","",{"$f":"IF(S3819=\"\",\"\",COUNTIF($S$7:S3819,\"該当２\"))","v":""},"","",{"$f":"IF(V3819=\"\",\"\",COUNTIF($V$7:V3819,\"該当３\"))","v":""}]
[830203005,8,302,{"v":4,"d":"04"},{"v":5,"d":"005 "},"茨城県","茨城町","上野合村","坂東",null,"","",{"$f":"IF(K3820=\"\",\"\",COUNTIF($K$7:K3820,\"ﾘｽﾄ１\"))","v":""},"","","","","","","",{"$f":"IF(S3820=\"\",\"\",COUNTIF($S$7:S3820,\"該当２\"))","v":""},"","",{"$f":"IF(V3820=\"\",\"\",COUNTIF($V$7:V3820,\"該当３\"))","v":""}]
[830203008,8,302,{"v":4,"d":"04"},{"v":8,"d":"008 "},"茨城県","茨城町","上野合村","鳥羽田西",null,"","",{"$f":"IF(K3823=\"\",\"\",COUNTIF($K$7:K3823,\"ﾘｽﾄ１\"))","v":""},"","","","","","","",{"$f":"IF(S3823=\"\",\"\",COUNTIF($S$7:S3823,\"該当２\"))","v":""},"","",{"$f":"IF(V3823=\"\",\"\",COUNTIF($V$7:V3823,\"該当３\"))","v":""}]
[830203011,8,302,{"v":4,"d":"04"},{"v":11,"d":"011 "},"茨城県","茨城町","上野合村","下雨谷",null,"","",{"$f":"IF(K3826=\"\",\"\",COUNTIF($K$7:K3826,\"ﾘｽﾄ１\"))","v":""},"","","","","","","",{"$f":"IF(S3826=\"\",\"\",COUNTIF($S$7:S3826,\"該当２\"))","v":""},"","",{"$f":"IF(V3826=\"\",\"\",COUNTIF($V$7:V3826,\"該当３\"))","v":""}]
[830203015,8,302,{"v":4,"d":"04"},{"v":15,"d":"015 "},"茨城県","茨城町","上野合村","五里峰東",null,"","",{"$f":"IF(K3830=\"\",\"\",COUNTIF($K$7:K3830,\"ﾘｽﾄ１\"))","v":""},"","","","","","","",{"$f":"IF(S3830=\"\",\"\",COUNTIF($S$7:S3830,\"該当２\"))","v":""},"","",{"$f":"IF(V3830=\"\",\"\",COUNTIF($V$7:V3830,\"該当３\"))","v":""}]
[830203018,8,302,{"v":4,"d":"04"},{"v":18,"d":"018 "},"茨城県","茨城町","上野合村","千貫桜",null,"","",{"$f":"IF(K3833=\"\",\"\",COUNTIF($K$7:K3833,\"ﾘｽﾄ１\"))","v":""},"","","","","","","",{"$f":"IF(S3833=\"\",\"\",COUNTIF($S$7:S3833,\"該当２\"))","v":""},"","",{"$f":"IF(V3833=\"\",\"\",COUNTIF($V$7:V3833,\"該当３\"))","v":""}]
[830204004,8,302,{"v":4,"d":"04"},{"v":4,"d":"004 "},"茨城県","茨城町","石崎村","中山",null,"","",{"$f":"IF(K3838=\"\",\"\",COUNTIF($K$7:K3838,\"ﾘｽﾄ１\"))","v":""},"","","","","","","",{"$f":"IF(S3838=\"\",\"\",COUNTIF($S$7:S3838,\"該当２\"))","v":""},"","",{"$f":"IF(V3838=\"\",\"\",COUNTIF($V$7:V3838,\"該当３\"))","v":""}]
[830204007,8,302,{"v":4,"d":"04"},{"v":7,"d":"007 "},"茨城県","茨城町","石崎村","前原",null,"","",{"$f":"IF(K3841=\"\",\"\",COUNTIF($K$7:K3841,\"ﾘｽﾄ１\"))","v":""},"","","","","","","",{"$f":"IF(S3841=\"\",\"\",COUNTIF($S$7:S3841,\"該当２\"))","v":""},"","",{"$f":"IF(V3841=\"\",\"\",COUNTIF($V$7:V3841,\"該当３\"))","v":""}]
[830204010,8,302,{"v":4,"d":"04"},{"v":10,"d":"010 "},"茨城県","茨城町","石崎村","中石崎福蔵",null,"","",{"$f":"IF(K3844=\"\",\"\",COUNTIF($K$7:K3844,\"ﾘｽﾄ１\"))","v":""},"","","","","","","",{"$f":"IF(S3844=\"\",\"\",COUNTIF($S$7:S3844,\"該当２\"))","v":""},"","",{"$f":"IF(V3844=\"\",\"\",COUNTIF($V$7:V3844,\"該当３\"))","v":""}]
[830204011,8,302,{"v":4,"d":"04"},{"v":11,"d":"011 "},"茨城県","茨城町","石崎村","中石崎三条",null,"","",{"$f":"IF(K3845=\"\",\"\",COUNTIF($K$7:K3845,\"ﾘｽﾄ１\"))","v":""},"","","","","","","",{"$f":"IF(S3845=\"\",\"\",COUNTIF($S$7:S3845,\"該当２\"))","v":""},"","",{"$f":"IF(V3845=\"\",\"\",COUNTIF($V$7:V3845,\"該当３\"))","v":""}]
[830204014,8,302,{"v":4,"d":"04"},{"v":14,"d":"014 "},"茨城県","茨城町","石崎村","遠西",null,"","",{"$f":"IF(K3848=\"\",\"\",COUNTIF($K$7:K3848,\"ﾘｽﾄ１\"))","v":""},"","","","","","","",{"$f":"IF(S3848=\"\",\"\",COUNTIF($S$7:S3848,\"該当２\"))","v":""},"","",{"$f":"IF(V3848=\"\",\"\",COUNTIF($V$7:V3848,\"該当３\"))","v":""}]
[830204017,8,302,{"v":4,"d":"04"},{"v":17,"d":"017 "},"茨城県","茨城町","石崎村","台",null,{"$f":"IF(AND($C3851>0,$H3851=\"\"),\"ﾘｽﾄ１\",\"\")","v":""},{"$f":"IF(K3851=\"ﾘｽﾄ１\",G3851,\"\")","v":""},{"$f":"IF(K3851=\"\",\"\",COUNTIF($K$7:K3851,\"ﾘｽﾄ１\"))","v":""},{"$f":"IF(AND(D3851=0,E3851>0),\"同一区\",\"\")","v":""},{"$f":"IF(AND(EXACT($K$2,G3851),H3851>0),\"該当１\",\"\")","v":""},"","","",{"$f":"IF(AND(Q3851=\"ﾘｽﾄ2\",OR(I3851=0,AND(N3851=\"同一区\",E3851=1))),\"該当２\",\"\")","v":""},"",{"$f":"IF(S3851=\"\",\"\",COUNTIF($S$7:S3851,\"該当２\"))","v":""},"","",{"$f":"IF(V3851=\"\",\"\",COUNTIF($V$7:V3851,\"該当３\"))","v":""}]
[830205003,8,302,{"v":4,"d":"04"},{"v":3,"d":"003 "},"茨城県","茨城町","酒門村２－２","若宮本田",null,"","",{"$f":"IF(K3855=\"\",\"\",COUNTIF($K$7:K3855,\"ﾘｽﾄ１\"))","v":""},"","","","","","","",{"$f":"IF(S3855=\"\",\"\",COUNTIF($S$7:S3855,\"該当２\"))","v":""},"","",{"$f":"IF(V3855=\"\",\"\",COUNTIF($V$7:V3855,\"該当３\"))","v":""}]
[830206003,8,302,{"v":4,"d":"04"},{"v":3,"d":"003 "},"茨城県","茨城町","沼前村","神宿",null,"","",{"$f":"IF(K3859=\"\",\"\",COUNTIF($K$7:K3859,\"ﾘｽﾄ１\"))","v":""},"","","","","","","",{"$f":"IF(S3859=\"\",\"\",COUNTIF($S$7:S3859,\"該当２\"))","v":""},"","",{"$f":"IF(V3859=\"\",\"\",COUNTIF($V$7:V3859,\"該当３\"))","v":""}]
[830206007,8,302,{"v":4,"d":"04"},{"v":7,"d":"007 "},"茨城県","茨城町","沼前村","宮ケ崎宿",null,"","",{"$f":"IF(K3863=\"\",\"\",COUNTIF($K$7:K3863,\"ﾘｽﾄ１\"))","v":""},"","","","","","","",{"$f":"IF(S3863=\"\",\"\",COUNTIF($S$7:S3863,\"該当２\"))","v":""},"","",{"$f":"IF(V3863=\"\",\"\",COUNTIF($V$7:V3863,\"該当３\"))","v":""}]
[830206010,8,302,{"v":4,"d":"04"},{"v":10,"d":"010 "},"茨城県","茨城町","沼前村","綱掛上宿",null,"","",{"$f":"IF(K3866=\"\",\"\",COUNTIF($K$7:K3866,\"ﾘｽﾄ１\"))","v":""},"","","","","","","",{"$f":"IF(S3866=\"\",\"\",COUNTIF($S$7:S3866,\"該当２\"))","v":""},"","",{"$f":"IF(V3866=\"\",\"\",COUNTIF($V$7:V3866,\"該当３\"))","v":""}]
[830900000,8,309,{"v":4,"d":"04"},{"v":0,"d":"000 "},"茨城県","大洗町",{"$nulls":3},"ﾘｽﾄ１","大洗町",{"$f":"IF(K3869=\"\",\"\",COUNTIF($K$7:K3869,\"ﾘｽﾄ１\"))","v":34},"","","","","","","",{"$f":"IF(S3869=\"\",\"\",COUNTIF($S$7:S3869,\"該当２\"))","v":""},"","",{"$f":"IF(V3869=\"\",\"\",COUNTIF($V$7:V3869,\"該当３\"))","v":""}]
[830901000,8,309,{"v":4,"d":"04"},{"v":0,"d":"000 "},"茨城県","大洗町","磯浜町",null,null,"","",{"$f":"IF(K3870=\"\",\"\",COUNTIF($K$7:K3870,\"ﾘｽﾄ１\"))","v":""},"","","","","","","",{"$f":"IF(S3870=\"\",\"\",COUNTIF($S$7:S3870,\"該当２\"))","v":""},"","",{"$f":"IF(V3870=\"\",\"\",COUNTIF($V$7:V3870,\"該当３\"))","v":""}]
[830901006,8,309,{"v":4,"d":"04"},{"v":6,"d":"006 "},"茨城県","大洗町","磯浜町","二丁目",null,"","",{"$f":"IF(K3876=\"\",\"\",COUNTIF($K$7:K3876,\"ﾘｽﾄ１\"))","v":""},"","","","","","","",{"$f":"IF(S3876=\"\",\"\",COUNTIF($S$7:S3876,\"該当２\"))","v":""},"","",{"$f":"IF(V3876=\"\",\"\",COUNTIF($V$7:V3876,\"該当３\"))","v":""}]
[830901007,8,309,{"v":4,"d":"04"},{"v":7,"d":"007 "},"茨城県","大洗町","磯浜町","仲町，金沢町",null,"","",{"$f":"IF(K3877=\"\",\"\",COUNTIF($K$7:K3877,\"ﾘｽﾄ１\"))","v":""},"","","","","","","",{"$f":"IF(S3877=\"\",\"\",COUNTIF($S$7:S3877,\"該当２\"))","v":""},"","",{"$f":"IF(V3877=\"\",\"\",COUNTIF($V$7:V3877,\"該当３\"))","v":""}]
[830901011,8,309,{"v":4,"d":"04"},{"v":11,"d":"011 "},"茨城県","大洗町","磯浜町","髭釜町",null,"","",{"$f":"IF(K3881=\"\",\"\",COUNTIF($K$7:K3881,\"ﾘｽﾄ１\"))","v":""},"","","","","","","",{"$f":"IF(S3881=\"\",\"\",COUNTIF($S$7:S3881,\"該当２\"))","v":""},"","",{"$f":"IF(V3881=\"\",\"\",COUNTIF($V$7:V3881,\"該当３\"))","v":""}]
[830902002,8,309,{"v":4,"d":"04"},{"v":2,"d":"002 "},"茨城県","大洗町","大貫町","寺釜仲坪",null,"","",{"$f":"IF(K3884=\"\",\"\",COUNTIF($K$7:K3884,\"ﾘｽﾄ１\"))","v":""},"","","","","","","",{"$f":"IF(S3884=\"\",\"\",COUNTIF($S$7:S3884,\"該当２\"))","v":""},"","",{"$f":"IF(V3884=\"\",\"\",COUNTIF($V$7:V3884,\"該当３\"))","v":""}]
[830902006,8,309,{"v":4,"d":"04"},{"v":6,"d":"006 "},"茨城県","大洗町","大貫町","上宿",null,"","",{"$f":"IF(K3888=\"\",\"\",COUNTIF($K$7:K3888,\"ﾘｽﾄ１\"))","v":""},"","","","","","","",{"$f":"IF(S3888=\"\",\"\",COUNTIF($S$7:S3888,\"該当２\"))","v":""},"","",{"$f":"IF(V3888=\"\",\"\",COUNTIF($V$7:V3888,\"該当３\"))","v":""}]
[830902009,8,309,{"v":4,"d":"04"},{"v":9,"d":"009 "},"茨城県","大洗町","大貫町","南清水",null,"","",{"$f":"IF(K3891=\"\",\"\",COUNTIF($K$7:K3891,\"ﾘｽﾄ１\"))","v":""},"","","","","","","",{"$f":"IF(S3891=\"\",\"\",COUNTIF($S$7:S3891,\"該当２\"))","v":""},"","",{"$f":"IF(V3891=\"\",\"\",COUNTIF($V$7:V3891,\"該当３\"))","v":""}]
[830903001,8,309,{"v":4,"d":"04"},{"v":1,"d":"001 "},"茨城県","大洗町","夏海村２－１","神山・川口",null,"","",{"$f":"IF(K3894=\"\",\"\",COUNTIF($K$7:K3894,\"ﾘｽﾄ１\"))","v":""},"","","","","","","",{"$f":"IF(S3894=\"\",\"\",COUNTIF($S$7:S3894,\"該当２\"))","v":""},"","",{"$f":"IF(V3894=\"\",\"\",COUNTIF($V$7:V3894,\"該当３\"))","v":""}]
[830903004,8,309,{"v":4,"d":"04"},{"v":4,"d":"004 "},"茨城県","大洗町","夏海村２－１","上宿",null,"","",{"$f":"IF(K3897=\"\",\"\",COUNTIF($K$7:K3897,\"ﾘｽﾄ１\"))","v":""},"","","","","","","",{"$f":"IF(S3897=\"\",\"\",COUNTIF($S$7:S3897,\"該当２\"))","v":""},"","",{"$f":"IF(V3897=\"\",\"\",COUNTIF($V$7:V3897,\"該当３\"))","v":""}]
[830903006,8,309,{"v":4,"d":"04"},{"v":6,"d":"006 "},"茨城県","大洗町","夏海村２－１","下宿",null,"","",{"$f":"IF(K3899=\"\",\"\",COUNTIF($K$7:K3899,\"ﾘｽﾄ１\"))","v":""},"","","","","","","",{"$f":"IF(S3899=\"\",\"\",COUNTIF($S$7:S3899,\"該当２\"))","v":""},"","",{"$f":"IF(V3899=\"\",\"\",COUNTIF($V$7:V3899,\"該当３\"))","v":""}]
[830903010,8,309,{"v":4,"d":"04"},{"v":10,"d":"010 "},"茨城県","大洗町","夏海村２－１","共励第二",null,"","",{"$f":"IF(K3903=\"\",\"\",COUNTIF($K$7:K3903,\"ﾘｽﾄ１\"))","v":""},"","","","","","","",{"$f":"IF(S3903=\"\",\"\",COUNTIF($S$7:S3903,\"該当２\"))","v":""},"","",{"$f":"IF(V3903=\"\",\"\",COUNTIF($V$7:V3903,\"該当３\"))","v":""}]
[831001000,8,310,{"v":4,"d":"04"},{"v":0,"d":"000 "},"茨城県","城里町","石塚町",null,null,"","",{"$f":"IF(K3906=\"\",\"\",COUNTIF($K$7:K3906,\"ﾘｽﾄ１\"))","v":""},"","","","","","","",{"$f":"IF(S3906=\"\",\"\",COUNTIF($S$7:S3906,\"該当２\"))","v":""},"","",{"$f":"IF(V3906=\"\",\"\",COUNTIF($V$7:V3906,\"該当３\"))","v":""}]
[831001003,8,310,{"v":4,"d":"04"},{"v":3,"d":"003 "},"茨城県","城里町","石塚町","石塚四区",null,"","",{"$f":"IF(K3909=\"\",\"\",COUNTIF($K$7:K3909,\"ﾘｽﾄ１\"))","v":""},"","","","","","","",{"$f":"IF(S3909=\"\",\"\",COUNTIF($S$7:S3909,\"該当２\"))","v":""},"","",{"$f":"IF(V3909=\"\",\"\",COUNTIF($V$7:V3909,\"該当３\"))","v":""}]
[831001007,8,310,{"v":4,"d":"04"},{"v":7,"d":"007 "},"茨城県","城里町","石塚町","那珂西上",null,"","",{"$f":"IF(K3913=\"\",\"\",COUNTIF($K$7:K3913,\"ﾘｽﾄ１\"))","v":""},"","","","","","","",{"$f":"IF(S3913=\"\",\"\",COUNTIF($S$7:S3913,\"該当２\"))","v":""},"","",{"$f":"IF(V3913=\"\",\"\",COUNTIF($V$7:V3913,\"該当３\"))","v":""}]
[831001008,8,310,{"v":4,"d":"04"},{"v":8,"d":"008 "},"茨城県","城里町","石塚町","那珂西中",null,"","",{"$f":"IF(K3914=\"\",\"\",COUNTIF($K$7:K3914,\"ﾘｽﾄ１\"))","v":""},"","",{"$f":"IF(O3914=\"該当１\",G3914,\"\")","v":""},{"$f":"IF(O3914=\"該当１\",\"ﾘｽﾄ2\",\"\")","v":""},{"$f":"IF(Q3914=\"ﾘｽﾄ2\",H3914,\"\")","v":""},"",{"$f":"IF(S3914=\"該当２\",H3914,\"\")","v":""},{"$f":"IF(S3914=\"\",\"\",COUNTIF($S$7:S3914,\"該当２\"))","v":""},{"$f":"IF(AND($S$2=H3914,E3914>0,E3914<998),\"該当３\",\"\")","v":""},{"$f":"IF(V3914=\"該当３\",I3914,\"\")","v":""},{"$f":"IF(V3914=\"\",\"\",COUNTIF($V$7:V3914,\"該当３\"))","v":""}]
[831002002,8,310,{"v":4,"d":"04"},{"v":2,"d":"002 "},"茨城県","城里町","小松村","津部，本郷",null,"","",{"$f":"IF(K3920=\"\",\"\",COUNTIF($K$7:K3920,\"ﾘｽﾄ１\"))","v":""},"","","","","","","",{"$f":"IF(S3920=\"\",\"\",COUNTIF($S$7:S3920,\"該当２\"))","v":""},"","",{"$f":"IF(V3920=\"\",\"\",COUNTIF($V$7:V3920,\"該当３\"))","v":""}]
[831002003,8,310,{"v":4,"d":"04"},{"v":3,"d":"003 "},"茨城県","城里町","小松村","磯野",null,"","",{"$f":"IF(K3921=\"\",\"\",COUNTIF($K$7:K3921,\"ﾘｽﾄ１\"))","v":""},"","","","","","","",{"$f":"IF(S3921=\"\",\"\",COUNTIF($S$7:S3921,\"該当２\"))","v":""},"","",{"$f":"IF(V3921=\"\",\"\",COUNTIF($V$7:V3921,\"該当３\"))","v":""}]
[831002006,8,310,{"v":4,"d":"04"},{"v":6,"d":"006 "},"茨城県","城里町","小松村","仲郷",null,"","",{"$f":"IF(K3924=\"\",\"\",COUNTIF($K$7:K3924,\"ﾘｽﾄ１\"))","v":""},"","","","","","","",{"$f":"IF(S3924=\"\",\"\",COUNTIF($S$7:S3924,\"該当２\"))","v":""},"","",{"$f":"IF(V3924=\"\",\"\",COUNTIF($V$7:V3924,\"該当３\"))","v":""}]
[831003002,8,310,{"v":4,"d":"04"},{"v":2,"d":"002 "},"茨城県","城里町","西郷村","下青山",null,"","",{"$f":"IF(K3928=\"\",\"\",COUNTIF($K$7:K3928,\"ﾘｽﾄ１\"))","v":""},"","","","","","","",{"$f":"IF(S3928=\"\",\"\",COUNTIF($S$7:S3928,\"該当２\"))","v":""},"","",{"$f":"IF(V3928=\"\",\"\",COUNTIF($V$7:V3928,\"該当３\"))","v":""}]
[831003005,8,310,{"v":4,"d":"04"},{"v":5,"d":"005 "},"茨城県","城里町","西郷村","勝見沢",null,"","",{"$f":"IF(K3931=\"\",\"\",COUNTIF($K$7:K3931,\"ﾘｽﾄ１\"))","v":""},"","","","","","","",{"$f":"IF(S3931=\"\",\"\",COUNTIF($S$7:S3931,\"該当２\"))","v":""},"","",{"$f":"IF(V3931=\"\",\"\",COUNTIF($V$7:V3931,\"該当３\"))","v":""}]
[831003009,8,310,{"v":4,"d":"04"},{"v":9,"d":"009 "},"茨城県","城里町","西郷村","下古内一区",null,"","",{"$f":"IF(K3935=\"\",\"\",COUNTIF($K$7:K3935,\"ﾘｽﾄ１\"))","v":""},"","","","","","","",{"$f":"IF(S3935=\"\",\"\",COUNTIF($S$7:S3935,\"該当２\"))","v":""},"","",{"$f":"IF(V3935=\"\",\"\",COUNTIF($V$7:V3935,\"該当３\"))","v":""}]
[831004001,8,310,{"v":4,"d":"04"},{"v":1,"d":"001 "},"茨城県","城里町","圷村","上圷１",null,"","",{"$f":"IF(K3939=\"\",\"\",COUNTIF($K$7:K3939,\"ﾘｽﾄ１\"))","v":""},"","","","","","","",{"$f":"IF(S3939=\"\",\"\",COUNTIF($S$7:S3939,\"該当２\"))","v":""},"","",{"$f":"IF(V3939=\"\",\"\",COUNTIF($V$7:V3939,\"該当３\"))","v":""}]
[831004004,8,310,{"v":4,"d":"04"},{"v":4,"d":"004 "},"茨城県","城里町","圷村","堀の内",null,"","",{"$f":"IF(K3942=\"\",\"\",COUNTIF($K$7:K3942,\"ﾘｽﾄ１\"))","v":""},"","","","","","","",{"$f":"IF(S3942=\"\",\"\",COUNTIF($S$7:S3942,\"該当２\"))","v":""},"","",{"$f":"IF(V3942=\"\",\"\",COUNTIF($V$7:V3942,\"該当３\"))","v":""}]
[831004007,8,310,{"v":4,"d":"04"},{"v":7,"d":"007 "},"茨城県","城里町","圷村","粟",null,"","",{"$f":"IF(K3945=\"\",\"\",COUNTIF($K$7:K3945,\"ﾘｽﾄ１\"))","v":""},"","","","","","","",{"$f":"IF(S3945=\"\",\"\",COUNTIF($S$7:S3945,\"該当２\"))","v":""},"","",{"$f":"IF(V3945=\"\",\"\",COUNTIF($V$7:V3945,\"該当３\"))","v":""}]
[831005000,8,310,{"v":4,"d":"04"},{"v":0,"d":"000 "},"茨城県","城里町","岩船村",null,null,"","",{"$f":"IF(K3946=\"\",\"\",COUNTIF($K$7:K3946,\"ﾘｽﾄ１\"))","v":""},"","","","","","","",{"$f":"IF(S3946=\"\",\"\",COUNTIF($S$7:S3946,\"該当２\"))","v":""},"","",{"$f":"IF(V3946=\"\",\"\",COUNTIF($V$7:V3946,\"該当３\"))","v":""}]
[831005003,8,310,{"v":4,"d":"04"},{"v":3,"d":"003 "},"茨城県","城里町","岩船村","台",null,"","",{"$f":"IF(K3949=\"\",\"\",COUNTIF($K$7:K3949,\"ﾘｽﾄ１\"))","v":""},"","","","","","","",{"$f":"IF(S3949=\"\",\"\",COUNTIF($S$7:S3949,\"該当２\"))","v":""},"","",{"$f":"IF(V3949=\"\",\"\",COUNTIF($V$7:V3949,\"該当３\"))","v":""}]
[831005007,8,310,{"v":4,"d":"04"},{"v":7,"d":"007 "},"茨城県","城里町","岩船村","梅ケ沢",null,"","",{"$f":"IF(K3953=\"\",\"\",COUNTIF($K$7:K3953,\"ﾘｽﾄ１\"))","v":""},"","","","","","","",{"$f":"IF(S3953=\"\",\"\",COUNTIF($S$7:S3953,\"該当２\"))","v":""},"","",{"$f":"IF(V3953=\"\",\"\",COUNTIF($V$7:V3953,\"該当３\"))","v":""}]
[831005010,8,310,{"v":4,"d":"04"},{"v":10,"d":"010 "},"茨城県","城里町","岩船村","観世音",null,"","",{"$f":"IF(K3956=\"\",\"\",COUNTIF($K$7:K3956,\"ﾘｽﾄ１\"))","v":""},"","","","","","","",{"$f":"IF(S3956=\"\",\"\",COUNTIF($S$7:S3956,\"該当２\"))","v":""},"","",{"$f":"IF(V3956=\"\",\"\",COUNTIF($V$7:V3956,\"該当３\"))","v":""}]
[831006001,8,310,{"v":4,"d":"04"},{"v":1,"d":"001 "},"茨城県","城里町","沢山村","新更",null,"","",{"$f":"IF(K3960=\"\",\"\",COUNTIF($K$7:K3960,\"ﾘｽﾄ１\"))","v":""},"","","","","","","",{"$f":"IF(S3960=\"\",\"\",COUNTIF($S$7:S3960,\"該当２\"))","v":""},"","",{"$f":"IF(V3960=\"\",\"\",COUNTIF($V$7:V3960,\"該当３\"))","v":""}]
[831006005,8,310,{"v":4,"d":"04"},{"v":5,"d":"005 "},"茨城県","城里町","沢山村","北宿",null,"","",{"$f":"IF(K3964=\"\",\"\",COUNTIF($K$7:K3964,\"ﾘｽﾄ１\"))","v":""},"","","","","","","",{"$f":"IF(S3964=\"\",\"\",COUNTIF($S$7:S3964,\"該当２\"))","v":""},"","",{"$f":"IF(V3964=\"\",\"\",COUNTIF($V$7:V3964,\"該当３\"))","v":""}]
[831006008,8,310,{"v":4,"d":"04"},{"v":8,"d":"008 "},"茨城県","城里町","沢山村","東組",null,"","",{"$f":"IF(K3967=\"\",\"\",COUNTIF($K$7:K3967,\"ﾘｽﾄ１\"))","v":""},"","","","","","","",{"$f":"IF(S3967=\"\",\"\",COUNTIF($S$7:S3967,\"該当２\"))","v":""},"","",{"$f":"IF(V3967=\"\",\"\",COUNTIF($V$7:V3967,\"該当３\"))","v":""}]
[831006009,8,310,{"v":4,"d":"04"},{"v":9,"d":"009 "},"茨城県","城里町","沢山村","北組",null,"","",{"$f":"IF(K3968=\"\",\"\",COUNTIF($K$7:K3968,\"ﾘｽﾄ１\"))","v":""},"","","","","","","",{"$f":"IF(S3968=\"\",\"\",COUNTIF($S$7:S3968,\"該当２\"))","v":""},"","",{"$f":"IF(V3968=\"\",\"\",COUNTIF($V$7:V3968,\"該当３\"))","v":""}]
[831006012,8,310,{"v":4,"d":"04"},{"v":12,"d":"012 "},"茨城県","城里町","沢山村","木の下",null,"","",{"$f":"IF(K3971=\"\",\"\",COUNTIF($K$7:K3971,\"ﾘｽﾄ１\"))","v":""},"","","","","","","",{"$f":"IF(S3971=\"\",\"\",COUNTIF($S$7:S3971,\"該当２\"))","v":""},"","",{"$f":"IF(V3971=\"\",\"\",COUNTIF($V$7:V3971,\"該当３\"))","v":""}]
[831007003,8,310,{"v":4,"d":"04"},{"v":3,"d":"003 "},"茨城県","城里町","七会村（城里町）","押寄木，大藤",null,"","",{"$f":"IF(K3977=\"\",\"\",COUNTIF($K$7:K3977,\"ﾘｽﾄ１\"))","v":""},"","","","","","","",{"$f":"IF(S3977=\"\",\"\",COUNTIF($S$7:S3977,\"該当２\"))","v":""},"","",{"$f":"IF(V3977=\"\",\"\",COUNTIF($V$7:V3977,\"該当３\"))","v":""}]
[831007005,8,310,{"v":4,"d":"04"},{"v":5,"d":"005 "},"茨城県","城里町","七会村（城里町）","中郷",null,{"$f":"IF(AND($C3979>0,$H3979=\"\"),\"ﾘｽﾄ１\",\"\")","v":""},{"$f":"IF(K3979=\"ﾘｽﾄ１\",G3979,\"\")","v":""},{"$f":"IF(K3979=\"\",\"\",COUNTIF($K$7:K3979,\"ﾘｽﾄ１\"))","v":""},{"$f":"IF(AND(D3979=0,E3979>0),\"同一区\",\"\")","v":""},{"$f":"IF(AND(EXACT($K$2,G3979),H3979>0),\"該当１\",\"\")","v":""},"","","",{"$f":"IF(AND(Q3979=\"ﾘｽﾄ2\",OR(I3979=0,AND(N3979=\"同一区\",E3979=1))),\"該当２\",\"\")","v":""},"",{"$f":"IF(S3979=\"\",\"\",COUNTIF($S$7:S3979,\"該当２\"))","v":""},"","",{"$f":"IF(V3979=\"\",\"\",COUNTIF($V$7:V3979,\"該当３\"))","v":""}]
[831007008,8,310,{"v":4,"d":"04"},{"v":8,"d":"008 "},"茨城県","城里町","七会村（城里町）","上宿",null,"","",{"$f":"IF(K3982=\"\",\"\",COUNTIF($K$7:K3982,\"ﾘｽﾄ１\"))","v":""},"","","","","","","",{"$f":"IF(S3982=\"\",\"\",COUNTIF($S$7:S3982,\"該当２\"))","v":""},"","",{"$f":"IF(V3982=\"\",\"\",COUNTIF($V$7:V3982,\"該当３\"))","v":""}]
[831007011,8,310,{"v":4,"d":"04"},{"v":11,"d":"011 "},"茨城県","城里町","七会村（城里町）","道木橋",null,"","",{"$f":"IF(K3985=\"\",\"\",COUNTIF($K$7:K3985,\"ﾘｽﾄ１\"))","v":""},"","","","","","","",{"$f":"IF(S3985=\"\",\"\",COUNTIF($S$7:S3985,\"該当２\"))","v":""},"","",{"$f":"IF(V3985=\"\",\"\",COUNTIF($V$7:V3985,\"該当３\"))","v":""}]
[831007015,8,310,{"v":4,"d":"04"},{"v":15,"d":"015 "},"茨城県","城里町","七会村（城里町）","下赤沢下，大畑",null,"","",{"$f":"IF(K3989=\"\",\"\",COUNTIF($K$7:K3989,\"ﾘｽﾄ１\"))","v":""},"","","","","","","",{"$f":"IF(S3989=\"\",\"\",COUNTIF($S$7:S3989,\"該当２\"))","v":""},"","",{"$f":"IF(V3989=\"\",\"\",COUNTIF($V$7:V3989,\"該当３\"))","v":""}]
[831007018,8,310,{"v":4,"d":"04"},{"v":18,"d":"018 "},"茨城県","城里町","七会村（城里町）","大網",null,"","",{"$f":"IF(K3992=\"\",\"\",COUNTIF($K$7:K3992,\"ﾘｽﾄ１\"))","v":""},"","","","","","","",{"$f":"IF(S3992=\"\",\"\",COUNTIF($S$7:S3992,\"該当２\"))","v":""},"","",{"$f":"IF(V3992=\"\",\"\",COUNTIF($V$7:V3992,\"該当３\"))","v":""}]
[831007019,8,310,{"v":4,"d":"04"},{"v":19,"d":"019 "},"茨城県","城里町","七会村（城里町）","大沢",null,"","",{"$f":"IF(K3993=\"\",\"\",COUNTIF($K$7:K3993,\"ﾘｽﾄ１\"))","v":""},"","","","","","","",{"$f":"IF(S3993=\"\",\"\",COUNTIF($S$7:S3993,\"該当２\"))","v":""},"","",{"$f":"IF(V3993=\"\",\"\",COUNTIF($V$7:V3993,\"該当３\"))","v":""}]
[834101003,8,341,{"v":4,"d":"04"},{"v":3,"d":"003 "},"茨城県","東海村","石神村","竹瓦",null,"","",{"$f":"IF(K3998=\"\",\"\",COUNTIF($K$7:K3998,\"ﾘｽﾄ１\"))","v":""},"","","","","","","",{"$f":"IF(S3998=\"\",\"\",COUNTIF($S$7:S3998,\"該当２\"))","v":""},"","",{"$f":"IF(V3998=\"\",\"\",COUNTIF($V$7:V3998,\"該当３\"))","v":""}]
[834101005,8,341,{"v":4,"d":"04"},{"v":5,"d":"005 "},"茨城県","東海村","石神村","内宿二区",null,"","",{"$f":"IF(K4000=\"\",\"\",COUNTIF($K$7:K4000,\"ﾘｽﾄ１\"))","v":""},"","","","","","","",{"$f":"IF(S4000=\"\",\"\",COUNTIF($S$7:S4000,\"該当２\"))","v":""},"","",{"$f":"IF(V4000=\"\",\"\",COUNTIF($V$7:V4000,\"該当３\"))","v":""}]
[834102000,8,341,{"v":4,"d":"04"},{"v":0,"d":"000 "},"茨城県","東海村","村松村",null,null,"","",{"$f":"IF(K4004=\"\",\"\",COUNTIF($K$7:K4004,\"ﾘｽﾄ１\"))","v":""},"","","","","","","",{"$f":"IF(S4004=\"\",\"\",COUNTIF($S$7:S4004,\"該当２\"))","v":""},"","",{"$f":"IF(V4004=\"\",\"\",COUNTIF($V$7:V4004,\"該当３\"))","v":""}]
[834102003,8,341,{"v":4,"d":"04"},{"v":3,"d":"003 "},"茨城県","東海村","村松村","押延",null,"","",{"$f":"IF(K4007=\"\",\"\",COUNTIF($K$7:K4007,\"ﾘｽﾄ１\"))","v":""},"","","","","","","",{"$f":"IF(S4007=\"\",\"\",COUNTIF($S$7:S4007,\"該当２\"))","v":""},"","",{"$f":"IF(V4007=\"\",\"\",COUNTIF($V$7:V4007,\"該当３\"))","v":""}]
[834102007,8,341,{"v":4,"d":"04"},{"v":7,"d":"007 "},"茨城県","東海村","村松村","豊岡",null,"","",{"$f":"IF(K4011=\"\",\"\",COUNTIF($K$7:K4011,\"ﾘｽﾄ１\"))","v":""},"","","","","","","",{"$f":"IF(S4011=\"\",\"\",COUNTIF($S$7:S4011,\"該当２\"))","v":""},"","",{"$f":"IF(V4011=\"\",\"\",COUNTIF($V$7:V4011,\"該当３\"))","v":""}]
[834102010,8,341,{"v":4,"d":"04"},{"v":10,"d":"010 "},"茨城県","東海村","村松村","照沼",null,"","",{"$f":"IF(K4014=\"\",\"\",COUNTIF($K$7:K4014,\"ﾘｽﾄ１\"))","v":""},"","","","","","","",{"$f":"IF(S4014=\"\",\"\",COUNTIF($S$7:S4014,\"該当２\"))","v":""},"","",{"$f":"IF(V4014=\"\",\"\",COUNTIF($V$7:V4014,\"該当３\"))","v":""}]
[836400000,8,364,{"v":4,"d":"04"},{"v":0,"d":"000 "},"茨城県","大子町",{"$nulls":3},"ﾘｽﾄ１","大子町",{"$f":"IF(K4015=\"\",\"\",COUNTIF($K$7:K4015,\"ﾘｽﾄ１\"))","v":37},"","","","","","","",{"$f":"IF(S4015=\"\",\"\",COUNTIF($S$7:S4015,\"該当２\"))","v":""},"","",{"$f":"IF(V4015=\"\",\"\",COUNTIF($V$7:V4015,\"該当３\"))","v":""}]
[836401003,8,364,{"v":4,"d":"04"},{"v":3,"d":"003 "},"茨城県","大子町","大子町（旧）","近町",null,"","",{"$f":"IF(K4019=\"\",\"\",COUNTIF($K$7:K4019,\"ﾘｽﾄ１\"))","v":""},"","","","","","","",{"$f":"IF(S4019=\"\",\"\",COUNTIF($S$7:S4019,\"該当２\"))","v":""},"","",{"$f":"IF(V4019=\"\",\"\",COUNTIF($V$7:V4019,\"該当３\"))","v":""}]
[836401006,8,364,{"v":4,"d":"04"},{"v":6,"d":"006 "},"茨城県","大子町","大子町（旧）","上岡",null,"","",{"$f":"IF(K4022=\"\",\"\",COUNTIF($K$7:K4022,\"ﾘｽﾄ１\"))","v":""},"","","","","","","",{"$f":"IF(S4022=\"\",\"\",COUNTIF($S$7:S4022,\"該当２\"))","v":""},"","",{"$f":"IF(V4022=\"\",\"\",COUNTIF($V$7:V4022,\"該当３\"))","v":""}]
[836402001,8,364,{"v":4,"d":"04"},{"v":1,"d":"001 "},"茨城県","大子町","依上村","田野沢",null,"","",{"$f":"IF(K4025=\"\",\"\",COUNTIF($K$7:K4025,\"ﾘｽﾄ１\"))","v":""},"","","","","","","",{"$f":"IF(S4025=\"\",\"\",COUNTIF($S$7:S4025,\"該当２\"))","v":""},"","",{"$f":"IF(V4025=\"\",\"\",COUNTIF($V$7:V4025,\"該当３\"))","v":""}]
[836402005,8,364,{"v":4,"d":"04"},{"v":5,"d":"005 "},"茨城県","大子町","依上村","塙",null,"","",{"$f":"IF(K4029=\"\",\"\",COUNTIF($K$7:K4029,\"ﾘｽﾄ１\"))","v":""},"","","","","","","",{"$f":"IF(S4029=\"\",\"\",COUNTIF($S$7:S4029,\"該当２\"))","v":""},"","",{"$f":"IF(V4029=\"\",\"\",COUNTIF($V$7:V4029,\"該当３\"))","v":""}]
[836403001,8,364,{"v":4,"d":"04"},{"v":1,"d":"001 "},"茨城県","大子町","佐原村","初原",null,"","",{"$f":"IF(K4032=\"\",\"\",COUNTIF($K$7:K4032,\"ﾘｽﾄ１\"))","v":""},"","","","","","","",{"$f":"IF(S4032=\"\",\"\",COUNTIF($S$7:S4032,\"該当２\"))","v":""},"","",{"$f":"IF(V4032=\"\",\"\",COUNTIF($V$7:V4032,\"該当３\"))","v":""}]
[836404000,8,364,{"v":4,"d":"04"},{"v":0,"d":"000 "},"茨城県","大子町","黒沢村",null,null,"","",{"$f":"IF(K4036=\"\",\"\",COUNTIF($K$7:K4036,\"ﾘｽﾄ１\"))","v":""},"","","","","","","",{"$f":"IF(S4036=\"\",\"\",COUNTIF($S$7:S4036,\"該当２\"))","v":""},"","",{"$f":"IF(V4036=\"\",\"\",COUNTIF($V$7:V4036,\"該当３\"))","v":""}]
[836404004,8,364,{"v":4,"d":"04"},{"v":4,"d":"004 "},"茨城県","大子町","黒沢村","中郷",null,"","",{"$f":"IF(K4040=\"\",\"\",COUNTIF($K$7:K4040,\"ﾘｽﾄ１\"))","v":""},"","","","","","","",{"$f":"IF(S4040=\"\",\"\",COUNTIF($S$7:S4040,\"該当２\"))","v":""},"","",{"$f":"IF(V4040=\"\",\"\",COUNTIF($V$7:V4040,\"該当３\"))","v":""}]
[836405001,8,364,{"v":4,"d":"04"},{"v":1,"d":"001 "},"茨城県","大子町","宮川村","高田",null,{"$f":"IF(AND($C4043>0,$H4043=\"\"),\"ﾘｽﾄ１\",\"\")","v":""},{"$f":"IF(K4043=\"ﾘｽﾄ１\",G4043,\"\")","v":""},{"$f":"IF(K4043=\"\",\"\",COUNTIF($K$7:K4043,\"ﾘｽﾄ１\"))","v":""},{"$f":"IF(AND(D4043=0,E4043>0),\"同一区\",\"\")","v":""},{"$f":"IF(AND(EXACT($K$2,G4043),H4043>0),\"該当１\",\"\")","v":""},"","","",{"$f":"IF(AND(Q4043=\"ﾘｽﾄ2\",OR(I4043=0,AND(N4043=\"同一区\",E4043=1))),\"該当２\",\"\")","v":""},"",{"$f":"IF(S4043=\"\",\"\",COUNTIF($S$7:S4043,\"該当２\"))","v":""},"","",{"$f":"IF(V4043=\"\",\"\",COUNTIF($V$7:V4043,\"該当３\"))","v":""}]
[836405002,8,364,{"v":4,"d":"04"},{"v":2,"d":"002 "},"茨城県","大子町","宮川村","東坂上",null,"","",{"$f":"IF(K4044=\"\",\"\",COUNTIF($K$7:K4044,\"ﾘｽﾄ１\"))","v":""},"","","","","","","",{"$f":"IF(S4044=\"\",\"\",COUNTIF($S$7:S4044,\"該当２\"))","v":""},"","",{"$f":"IF(V4044=\"\",\"\",COUNTIF($V$7:V4044,\"該当３\"))","v":""}]
[836405005,8,364,{"v":4,"d":"04"},{"v":5,"d":"005 "},"茨城県","大子町","宮川村","郷",null,"","",{"$f":"IF(K4047=\"\",\"\",COUNTIF($K$7:K4047,\"ﾘｽﾄ１\"))","v":""},"","","","","","","",{"$f":"IF(S4047=\"\",\"\",COUNTIF($S$7:S4047,\"該当２\"))","v":""},"","",{"$f":"IF(V4047=\"\",\"\",COUNTIF($V$7:V4047,\"該当３\"))","v":""}]
[836405008,8,364,{"v":4,"d":"04"},{"v":8,"d":"008 "},"茨城県","大子町","宮川村","前冥賀",null,"","",{"$f":"IF(K4050=\"\",\"\",COUNTIF($K$7:K4050,\"ﾘｽﾄ１\"))","v":""},"","","","","","","",{"$f":"IF(S4050=\"\",\"\",COUNTIF($S$7:S4050,\"該当２\"))","v":""},"","",{"$f":"IF(V4050=\"\",\"\",COUNTIF($V$7:V4050,\"該当３\"))","v":""}]
[836406001,8,364,{"v":4,"d":"04"},{"v":1,"d":"001 "},"茨城県","大子町","生瀬村","小生瀬上",null,"","",{"$f":"IF(K4054=\"\",\"\",COUNTIF($K$7:K4054,\"ﾘｽﾄ１\"))","v":""},"","","","","","","",{"$f":"IF(S4054=\"\",\"\",COUNTIF($S$7:S4054,\"該当２\"))","v":""},"","",{"$f":"IF(V4054=\"\",\"\",COUNTIF($V$7:V4054,\"該当３\"))","v":""}]
[836406004,8,364,{"v":4,"d":"04"},{"v":4,"d":"004 "},"茨城県","大子町","生瀬村","高柴下",null,"","",{"$f":"IF(K4057=\"\",\"\",COUNTIF($K$7:K4057,\"ﾘｽﾄ１\"))","v":""},"","","","","","","",{"$f":"IF(S4057=\"\",\"\",COUNTIF($S$7:S4057,\"該当２\"))","v":""},"","",{"$f":"IF(V4057=\"\",\"\",COUNTIF($V$7:V4057,\"該当３\"))","v":""}]
[836407001,8,364,{"v":4,"d":"04"},{"v":1,"d":"001 "},"茨城県","大子町","袋田村","袋田東",null,"","",{"$f":"IF(K4062=\"\",\"\",COUNTIF($K$7:K4062,\"ﾘｽﾄ１\"))","v":""},"","","","","","","",{"$f":"IF(S4062=\"\",\"\",COUNTIF($S$7:S4062,\"該当２\"))","v":""},"","",{"$f":"IF(V4062=\"\",\"\",COUNTIF($V$7:V4062,\"該当３\"))","v":""}]
[836407004,8,364,{"v":4,"d":"04"},{"v":4,"d":"004 "},"茨城県","大子町","袋田村","所谷",null,"","",{"$f":"IF(K4065=\"\",\"\",COUNTIF($K$7:K4065,\"ﾘｽﾄ１\"))","v":""},"","","","","","","",{"$f":"IF(S4065=\"\",\"\",COUNTIF($S$7:S4065,\"該当２\"))","v":""},"","",{"$f":"IF(V4065=\"\",\"\",COUNTIF($V$7:V4065,\"該当３\"))","v":""}]
[836407007,8,364,{"v":4,"d":"04"},{"v":7,"d":"007 "},"茨城県","大子町","袋田村","南田気",null,"","",{"$f":"IF(K4068=\"\",\"\",COUNTIF($K$7:K4068,\"ﾘｽﾄ１\"))","v":""},"","","","","","","",{"$f":"IF(S4068=\"\",\"\",COUNTIF($S$7:S4068,\"該当２\"))","v":""},"","",{"$f":"IF(V4068=\"\",\"\",COUNTIF($V$7:V4068,\"該当３\"))","v":""}]
[836407008,8,364,{"v":4,"d":"04"},{"v":8,"d":"008 "},"茨城県","大子町","袋田村","久野瀬",null,"","",{"$f":"IF(K4069=\"\",\"\",COUNTIF($K$7:K4069,\"ﾘｽﾄ１\"))","v":""},"","","","","","","",{"$f":"IF(S4069=\"\",\"\",COUNTIF($S$7:S4069,\"該当２\"))","v":""},"","",{"$f":"IF(V4069=\"\",\"\",COUNTIF($V$7:V4069,\"該当３\"))","v":""}]
[836408000,8,364,{"v":4,"d":"04"},{"v":0,"d":"000 "},"茨城県","大子町","上小川村",null,null,"","",{"$f":"IF(K4072=\"\",\"\",COUNTIF($K$7:K4072,\"ﾘｽﾄ１\"))","v":""},"","","","","","","",{"$f":"IF(S4072=\"\",\"\",COUNTIF($S$7:S4072,\"該当２\"))","v":""},"","",{"$f":"IF(V4072=\"\",\"\",COUNTIF($V$7:V4072,\"該当３\"))","v":""}]
[836408006,8,364,{"v":4,"d":"04"},{"v":6,"d":"006 "},"茨城県","大子町","上小川村","川西",null,"","",{"$f":"IF(K4078=\"\",\"\",COUNTIF($K$7:K4078,\"ﾘｽﾄ１\"))","v":""},"","","","","","","",{"$f":"IF(S4078=\"\",\"\",COUNTIF($S$7:S4078,\"該当２\"))","v":""},"","",{"$f":"IF(V4078=\"\",\"\",COUNTIF($V$7:V4078,\"該当３\"))","v":""}]
[836408008,8,364,{"v":4,"d":"04"},{"v":8,"d":"008 "},"茨城県","大子町","上小川村","栃原",null,"","",{"$f":"IF(K4080=\"\",\"\",COUNTIF($K$7:K4080,\"ﾘｽﾄ１\"))","v":""},"","","","","","","",{"$f":"IF(S4080=\"\",\"\",COUNTIF($S$7:S4080,\"該当２\"))","v":""},"","",{"$f":"IF(V4080=\"\",\"\",COUNTIF($V$7:V4080,\"該当３\"))","v":""}]
[836409002,8,364,{"v":4,"d":"04"},{"v":2,"d":"002 "},"茨城県","大子町","下小川村２－２","寄居",null,"","",{"$f":"IF(K4083=\"\",\"\",COUNTIF($K$7:K4083,\"ﾘｽﾄ１\"))","v":""},"","","","","","","",{"$f":"IF(S4083=\"\",\"\",COUNTIF($S$7:S4083,\"該当２\"))","v":""},"","",{"$f":"IF(V4083=\"\",\"\",COUNTIF($V$7:V4083,\"該当３\"))","v":""}]
[836409006,8,364,{"v":4,"d":"04"},{"v":6,"d":"006 "},"茨城県","大子町","下小川村２－２","上原",null,"","",{"$f":"IF(K4087=\"\",\"\",COUNTIF($K$7:K4087,\"ﾘｽﾄ１\"))","v":""},"","","","","","","",{"$f":"IF(S4087=\"\",\"\",COUNTIF($S$7:S4087,\"該当２\"))","v":""},"","",{"$f":"IF(V4087=\"\",\"\",COUNTIF($V$7:V4087,\"該当３\"))","v":""}]
[844200000,8,442,{"v":4,"d":"04"},{"v":0,"d":"000 "},"茨城県","美浦村",{"$nulls":3},"ﾘｽﾄ１","美浦村",{"$f":"IF(K4090=\"\",\"\",COUNTIF($K$7:K4090,\"ﾘｽﾄ１\"))","v":38},"","","","","","","",{"$f":"IF(S4090=\"\",\"\",COUNTIF($S$7:S4090,\"該当２\"))","v":""},"","",{"$f":"IF(V4090=\"\",\"\",COUNTIF($V$7:V4090,\"該当３\"))","v":""}]
[844201002,8,442,{"v":4,"d":"04"},{"v":2,"d":"002 "},"茨城県","美浦村","安中村","谷中",null,"","",{"$f":"IF(K4093=\"\",\"\",COUNTIF($K$7:K4093,\"ﾘｽﾄ１\"))","v":""},"","","","","","","",{"$f":"IF(S4093=\"\",\"\",COUNTIF($S$7:S4093,\"該当２\"))","v":""},"","",{"$f":"IF(V4093=\"\",\"\",COUNTIF($V$7:V4093,\"該当３\"))","v":""}]
[844201004,8,442,{"v":4,"d":"04"},{"v":4,"d":"004 "},"茨城県","美浦村","安中村","山内",null,"","",{"$f":"IF(K4095=\"\",\"\",COUNTIF($K$7:K4095,\"ﾘｽﾄ１\"))","v":""},"","","","","","","",{"$f":"IF(S4095=\"\",\"\",COUNTIF($S$7:S4095,\"該当２\"))","v":""},"","",{"$f":"IF(V4095=\"\",\"\",COUNTIF($V$7:V4095,\"該当３\"))","v":""}]
[844201007,8,442,{"v":4,"d":"04"},{"v":7,"d":"007 "},"茨城県","美浦村","安中村","牛込",null,"","",{"$f":"IF(K4098=\"\",\"\",COUNTIF($K$7:K4098,\"ﾘｽﾄ１\"))","v":""},"","","","","","","",{"$f":"IF(S4098=\"\",\"\",COUNTIF($S$7:S4098,\"該当２\"))","v":""},"","",{"$f":"IF(V4098=\"\",\"\",COUNTIF($V$7:V4098,\"該当３\"))","v":""}]
[844201011,8,442,{"v":4,"d":"04"},{"v":11,"d":"011 "},"茨城県","美浦村","安中村","土浦",null,"","",{"$f":"IF(K4102=\"\",\"\",COUNTIF($K$7:K4102,\"ﾘｽﾄ１\"))","v":""},"","","","","","","",{"$f":"IF(S4102=\"\",\"\",COUNTIF($S$7:S4102,\"該当２\"))","v":""},"","",{"$f":"IF(V4102=\"\",\"\",COUNTIF($V$7:V4102,\"該当３\"))","v":""}]
[844201014,8,442,{"v":4,"d":"04"},{"v":14,"d":"014 "},"茨城県","美浦村","安中村","大山",null,"","",{"$f":"IF(K4105=\"\",\"\",COUNTIF($K$7:K4105,\"ﾘｽﾄ１\"))","v":""},"","","","","","","",{"$f":"IF(S4105=\"\",\"\",COUNTIF($S$7:S4105,\"該当２\"))","v":""},"","",{"$f":"IF(V4105=\"\",\"\",COUNTIF($V$7:V4105,\"該当３\"))","v":""}]
[844202001,8,442,{"v":4,"d":"04"},{"v":1,"d":"001 "},"茨城県","美浦村","木原村","木原一区",null,"","",{"$f":"IF(K4108=\"\",\"\",COUNTIF($K$7:K4108,\"ﾘｽﾄ１\"))","v":""},"","","","","","","",{"$f":"IF(S4108=\"\",\"\",COUNTIF($S$7:S4108,\"該当２\"))","v":""},"","",{"$f":"IF(V4108=\"\",\"\",COUNTIF($V$7:V4108,\"該当３\"))","v":""}]
[844202005,8,442,{"v":4,"d":"04"},{"v":5,"d":"005 "},"茨城県","美浦村","木原村","郷中",null,"","",{"$f":"IF(K4112=\"\",\"\",COUNTIF($K$7:K4112,\"ﾘｽﾄ１\"))","v":""},"","","","","","","",{"$f":"IF(S4112=\"\",\"\",COUNTIF($S$7:S4112,\"該当２\"))","v":""},"","",{"$f":"IF(V4112=\"\",\"\",COUNTIF($V$7:V4112,\"該当３\"))","v":""}]
[844202008,8,442,{"v":4,"d":"04"},{"v":8,"d":"008 "},"茨城県","美浦村","木原村","余郷",null,"","",{"$f":"IF(K4115=\"\",\"\",COUNTIF($K$7:K4115,\"ﾘｽﾄ１\"))","v":""},"","","","","","","",{"$f":"IF(S4115=\"\",\"\",COUNTIF($S$7:S4115,\"該当２\"))","v":""},"","",{"$f":"IF(V4115=\"\",\"\",COUNTIF($V$7:V4115,\"該当３\"))","v":""}]
[844202009,8,442,{"v":4,"d":"04"},{"v":9,"d":"009 "},"茨城県","美浦村","木原村","茂呂",null,"","",{"$f":"IF(K4116=\"\",\"\",COUNTIF($K$7:K4116,\"ﾘｽﾄ１\"))","v":""},"","","","","","","",{"$f":"IF(S4116=\"\",\"\",COUNTIF($S$7:S4116,\"該当２\"))","v":""},"","",{"$f":"IF(V4116=\"\",\"\",COUNTIF($V$7:V4116,\"該当３\"))","v":""}]
[844202013,8,442,{"v":4,"d":"04"},{"v":13,"d":"013 "},"茨城県","美浦村","木原村","須賀",null,"","",{"$f":"IF(K4120=\"\",\"\",COUNTIF($K$7:K4120,\"ﾘｽﾄ１\"))","v":""},"","","","","","","",{"$f":"IF(S4120=\"\",\"\",COUNTIF($S$7:S4120,\"該当２\"))","v":""},"","",{"$f":"IF(V4120=\"\",\"\",COUNTIF($V$7:V4120,\"該当３\"))","v":""}]
[844202016,8,442,{"v":4,"d":"04"},{"v":16,"d":"016 "},"茨城県","美浦村","木原村","興津",null,"","",{"$f":"IF(K4123=\"\",\"\",COUNTIF($K$7:K4123,\"ﾘｽﾄ１\"))","v":""},"","","","","","","",{"$f":"IF(S4123=\"\",\"\",COUNTIF($S$7:S4123,\"該当２\"))","v":""},"","",{"$f":"IF(V4123=\"\",\"\",COUNTIF($V$7:V4123,\"該当３\"))","v":""}]
[844203000,8,442,{"v":4,"d":"04"},{"v":0,"d":"000 "},"茨城県","美浦村","舟島村２－２",null,null,"","",{"$f":"IF(K4127=\"\",\"\",COUNTIF($K$7:K4127,\"ﾘｽﾄ１\"))","v":""},"","","","","","","",{"$f":"IF(S4127=\"\",\"\",COUNTIF($S$7:S4127,\"該当２\"))","v":""},"","",{"$f":"IF(V4127=\"\",\"\",COUNTIF($V$7:V4127,\"該当３\"))","v":""}]
[844300000,8,443,{"v":4,"d":"04"},{"v":0,"d":"000 "},"茨城県","阿見町",{"$nulls":3},"ﾘｽﾄ１","阿見町",{"$f":"IF(K4130=\"\",\"\",COUNTIF($K$7:K4130,\"ﾘｽﾄ１\"))","v":39},"","","","","","","",{"$f":"IF(S4130=\"\",\"\",COUNTIF($S$7:S4130,\"該当２\"))","v":""},"","",{"$f":"IF(V4130=\"\",\"\",COUNTIF($V$7:V4130,\"該当３\"))","v":""}]
[844301002,8,443,{"v":4,"d":"04"},{"v":2,"d":"002 "},"茨城県","阿見町","阿見町（旧）","青宿",null,"","",{"$f":"IF(K4133=\"\",\"\",COUNTIF($K$7:K4133,\"ﾘｽﾄ１\"))","v":""},"","","","","","","",{"$f":"IF(S4133=\"\",\"\",COUNTIF($S$7:S4133,\"該当２\"))","v":""},"","",{"$f":"IF(V4133=\"\",\"\",COUNTIF($V$7:V4133,\"該当３\"))","v":""}]
[844301006,8,443,{"v":4,"d":"04"},{"v":6,"d":"006 "},"茨城県","阿見町","阿見町（旧）","岡崎",null,"","",{"$f":"IF(K4137=\"\",\"\",COUNTIF($K$7:K4137,\"ﾘｽﾄ１\"))","v":""},"","","","","","","",{"$f":"IF(S4137=\"\",\"\",COUNTIF($S$7:S4137,\"該当２\"))","v":""},"","",{"$f":"IF(V4137=\"\",\"\",COUNTIF($V$7:V4137,\"該当３\"))","v":""}]
[844301010,8,443,{"v":4,"d":"04"},{"v":10,"d":"010 "},"茨城県","阿見町","阿見町（旧）","学校区",null,"","",{"$f":"IF(K4141=\"\",\"\",COUNTIF($K$7:K4141,\"ﾘｽﾄ１\"))","v":""},"","","","","","","",{"$f":"IF(S4141=\"\",\"\",COUNTIF($S$7:S4141,\"該当２\"))","v":""},"","",{"$f":"IF(V4141=\"\",\"\",COUNTIF($V$7:V4141,\"該当３\"))","v":""}]
[844301011,8,443,{"v":4,"d":"04"},{"v":11,"d":"011 "},"茨城県","阿見町","阿見町（旧）","北",null,"","",{"$f":"IF(K4142=\"\",\"\",COUNTIF($K$7:K4142,\"ﾘｽﾄ１\"))","v":""},"","","","","","","",{"$f":"IF(S4142=\"\",\"\",COUNTIF($S$7:S4142,\"該当２\"))","v":""},"","",{"$f":"IF(V4142=\"\",\"\",COUNTIF($V$7:V4142,\"該当３\"))","v":""}]
[844301014,8,443,{"v":4,"d":"04"},{"v":14,"d":"014 "},"茨城県","阿見町","阿見町（旧）","鈴木",null,"","",{"$f":"IF(K4145=\"\",\"\",COUNTIF($K$7:K4145,\"ﾘｽﾄ１\"))","v":""},"","","","","","","",{"$f":"IF(S4145=\"\",\"\",COUNTIF($S$7:S4145,\"該当２\"))","v":""},"","",{"$f":"IF(V4145=\"\",\"\",COUNTIF($V$7:V4145,\"該当３\"))","v":""}]
[844301017,8,443,{"v":4,"d":"04"},{"v":17,"d":"017 "},"茨城県","阿見町","阿見町（旧）","一区南",null,"","",{"$f":"IF(K4148=\"\",\"\",COUNTIF($K$7:K4148,\"ﾘｽﾄ１\"))","v":""},"","","","","","","",{"$f":"IF(S4148=\"\",\"\",COUNTIF($S$7:S4148,\"該当２\"))","v":""},"","",{"$f":"IF(V4148=\"\",\"\",COUNTIF($V$7:V4148,\"該当３\"))","v":""}]
[844302003,8,443,{"v":4,"d":"04"},{"v":3,"d":"003 "},"茨城県","阿見町","朝日村","上本郷",null,"","",{"$f":"IF(K4152=\"\",\"\",COUNTIF($K$7:K4152,\"ﾘｽﾄ１\"))","v":""},"","","","","","","",{"$f":"IF(S4152=\"\",\"\",COUNTIF($S$7:S4152,\"該当２\"))","v":""},"","",{"$f":"IF(V4152=\"\",\"\",COUNTIF($V$7:V4152,\"該当３\"))","v":""}]
[844302005,8,443,{"v":4,"d":"04"},{"v":5,"d":"005 "},"茨城県","阿見町","朝日村","中根",null,"","",{"$f":"IF(K4154=\"\",\"\",COUNTIF($K$7:K4154,\"ﾘｽﾄ１\"))","v":""},"","","","","","","",{"$f":"IF(S4154=\"\",\"\",COUNTIF($S$7:S4154,\"該当２\"))","v":""},"","",{"$f":"IF(V4154=\"\",\"\",COUNTIF($V$7:V4154,\"該当３\"))","v":""}]
[844302009,8,443,{"v":4,"d":"04"},{"v":9,"d":"009 "},"茨城県","阿見町","朝日村","大砂",null,"","",{"$f":"IF(K4158=\"\",\"\",COUNTIF($K$7:K4158,\"ﾘｽﾄ１\"))","v":""},"","","","","","","",{"$f":"IF(S4158=\"\",\"\",COUNTIF($S$7:S4158,\"該当２\"))","v":""},"","",{"$f":"IF(V4158=\"\",\"\",COUNTIF($V$7:V4158,\"該当３\"))","v":""}]
[844302010,8,443,{"v":4,"d":"04"},{"v":10,"d":"010 "},"茨城県","阿見町","朝日村","上吉原",null,"","",{"$f":"IF(K4159=\"\",\"\",COUNTIF($K$7:K4159,\"ﾘｽﾄ１\"))","v":""},"","","","","","","",{"$f":"IF(S4159=\"\",\"\",COUNTIF($S$7:S4159,\"該当２\"))","v":""},"","",{"$f":"IF(V4159=\"\",\"\",COUNTIF($V$7:V4159,\"該当３\"))","v":""}]
[844302011,8,443,{"v":4,"d":"04"},{"v":11,"d":"011 "},"茨城県","阿見町","朝日村","中吉原",null,"","",{"$f":"IF(K4160=\"\",\"\",COUNTIF($K$7:K4160,\"ﾘｽﾄ１\"))","v":""},"","","","","","","",{"$f":"IF(S4160=\"\",\"\",COUNTIF($S$7:S4160,\"該当２\"))","v":""},"","",{"$f":"IF(V4160=\"\",\"\",COUNTIF($V$7:V4160,\"該当３\"))","v":""}]
[844302012,8,443,{"v":4,"d":"04"},{"v":12,"d":"012 "},"茨城県","阿見町","朝日村","下吉原",null,"","",{"$f":"IF(K4161=\"\",\"\",COUNTIF($K$7:K4161,\"ﾘｽﾄ１\"))","v":""},"","","","","","","",{"$f":"IF(S4161=\"\",\"\",COUNTIF($S$7:S4161,\"該当２\"))","v":""},"","",{"$f":"IF(V4161=\"\",\"\",COUNTIF($V$7:V4161,\"該当３\"))","v":""}]
[844302013,8,443,{"v":4,"d":"04"},{"v":13,"d":"013 "},"茨城県","阿見町","朝日村","新山",null,"","",{"$f":"IF(K4162=\"\",\"\",COUNTIF($K$7:K4162,\"ﾘｽﾄ１\"))","v":""},"","","","","","","",{"$f":"IF(S4162=\"\",\"\",COUNTIF($S$7:S4162,\"該当２\"))","v":""},"","",{"$f":"IF(V4162=\"\",\"\",COUNTIF($V$7:V4162,\"該当３\"))","v":""}]
[844302014,8,443,{"v":4,"d":"04"},{"v":14,"d":"014 "},"茨城県","阿見町","朝日村","福田",null,"","",{"$f":"IF(K4163=\"\",\"\",COUNTIF($K$7:K4163,\"ﾘｽﾄ１\"))","v":""},"","","","","","","",{"$f":"IF(S4163=\"\",\"\",COUNTIF($S$7:S4163,\"該当２\"))","v":""},"","",{"$f":"IF(V4163=\"\",\"\",COUNTIF($V$7:V4163,\"該当３\"))","v":""}]
[844302015,8,443,{"v":4,"d":"04"},{"v":15,"d":"015 "},"茨城県","阿見町","朝日村","下小池",null,"","",{"$f":"IF(K4164=\"\",\"\",COUNTIF($K$7:K4164,\"ﾘｽﾄ１\"))","v":""},"","","","","","","",{"$f":"IF(S4164=\"\",\"\",COUNTIF($S$7:S4164,\"該当２\"))","v":""},"","",{"$f":"IF(V4164=\"\",\"\",COUNTIF($V$7:V4164,\"該当３\"))","v":""}]
[844302016,8,443,{"v":4,"d":"04"},{"v":16,"d":"016 "},"茨城県","阿見町","朝日村","上小池",null,"","",{"$f":"IF(K4165=\"\",\"\",COUNTIF($K$7:K4165,\"ﾘｽﾄ１\"))","v":""},"","","","","","","",{"$f":"IF(S4165=\"\",\"\",COUNTIF($S$7:S4165,\"該当２\"))","v":""},"","",{"$f":"IF(V4165=\"\",\"\",COUNTIF($V$7:V4165,\"該当３\"))","v":""}]
[844303000,8,443,{"v":4,"d":"04"},{"v":0,"d":"000 "},"茨城県","阿見町","舟島村２－１",null,null,"","",{"$f":"IF(K4166=\"\",\"\",COUNTIF($K$7:K4166,\"ﾘｽﾄ１\"))","v":""},"","","","","","","",{"$f":"IF(S4166=\"\",\"\",COUNTIF($S$7:S4166,\"該当２\"))","v":""},"","",{"$f":"IF(V4166=\"\",\"\",COUNTIF($V$7:V4166,\"該当３\"))","v":""}]
[844303001,8,443,{"v":4,"d":"04"},{"v":1,"d":"001 "},"茨城県","阿見町","舟島村２－１","竹来",null,"","",{"$f":"IF(K4167=\"\",\"\",COUNTIF($K$7:K4167,\"ﾘｽﾄ１\"))","v":""},"","","","","","","",{"$f":"IF(S4167=\"\",\"\",COUNTIF($S$7:S4167,\"該当２\"))","v":""},"","",{"$f":"IF(V4167=\"\",\"\",COUNTIF($V$7:V4167,\"該当３\"))","v":""}]
[844303002,8,443,{"v":4,"d":"04"},{"v":2,"d":"002 "},"茨城県","阿見町","舟島村２－１","掛馬",null,"","",{"$f":"IF(K4168=\"\",\"\",COUNTIF($K$7:K4168,\"ﾘｽﾄ１\"))","v":""},"","","","","","","",{"$f":"IF(S4168=\"\",\"\",COUNTIF($S$7:S4168,\"該当２\"))","v":""},"","",{"$f":"IF(V4168=\"\",\"\",COUNTIF($V$7:V4168,\"該当３\"))","v":""}]
[844303003,8,443,{"v":4,"d":"04"},{"v":3,"d":"003 "},"茨城県","阿見町","舟島村２－１","上島津",null,"","",{"$f":"IF(K4169=\"\",\"\",COUNTIF($K$7:K4169,\"ﾘｽﾄ１\"))","v":""},"","","","","","","",{"$f":"IF(S4169=\"\",\"\",COUNTIF($S$7:S4169,\"該当２\"))","v":""},"","",{"$f":"IF(V4169=\"\",\"\",COUNTIF($V$7:V4169,\"該当３\"))","v":""}]
[844303004,8,443,{"v":4,"d":"04"},{"v":4,"d":"004 "},"茨城県","阿見町","舟島村２－１","下島津",null,"","",{"$f":"IF(K4170=\"\",\"\",COUNTIF($K$7:K4170,\"ﾘｽﾄ１\"))","v":""},"","",{"$f":"IF(O4170=\"該当１\",G4170,\"\")","v":""},{"$f":"IF(O4170=\"該当１\",\"ﾘｽﾄ2\",\"\")","v":""},{"$f":"IF(Q4170=\"ﾘｽﾄ2\",H4170,\"\")","v":""},"",{"$f":"IF(S4170=\"該当２\",H4170,\"\")","v":""},{"$f":"IF(S4170=\"\",\"\",COUNTIF($S$7:S4170,\"該当２\"))","v":""},{"$f":"IF(AND($S$2=H4170,E4170>0,E4170<998),\"該当３\",\"\")","v":""},{"$f":"IF(V4170=\"該当３\",I4170,\"\")","v":""},{"$f":"IF(V4170=\"\",\"\",COUNTIF($V$7:V4170,\"該当３\"))","v":""}]
[844303005,8,443,{"v":4,"d":"04"},{"v":5,"d":"005 "},"茨城県","阿見町","舟島村２－１","南島津",null,{"$f":"IF(AND($C4171>0,$H4171=\"\"),\"ﾘｽﾄ１\",\"\")","v":""},{"$f":"IF(K4171=\"ﾘｽﾄ１\",G4171,\"\")","v":""},{"$f":"IF(K4171=\"\",\"\",COUNTIF($K$7:K4171,\"ﾘｽﾄ１\"))","v":""},{"$f":"IF(AND(D4171=0,E4171>0),\"同一区\",\"\")","v":""},{"$f":"IF(AND(EXACT($K$2,G4171),H4171>0),\"該当１\",\"\")","v":""},"","","",{"$f":"IF(AND(Q4171=\"ﾘｽﾄ2\",OR(I4171=0,AND(N4171=\"同一区\",E4171=1))),\"該当２\",\"\")","v":""},"",{"$f":"IF(S4171=\"\",\"\",COUNTIF($S$7:S4171,\"該当２\"))","v":""},"","",{"$f":"IF(V4171=\"\",\"\",COUNTIF($V$7:V4171,\"該当３\"))","v":""}]
[844304000,8,443,{"v":4,"d":"04"},{"v":0,"d":"000 "},"茨城県","阿見町","君原村",null,null,"","",{"$f":"IF(K4172=\"\",\"\",COUNTIF($K$7:K4172,\"ﾘｽﾄ１\"))","v":""},"","","","","","","",{"$f":"IF(S4172=\"\",\"\",COUNTIF($S$7:S4172,\"該当２\"))","v":""},"","",{"$f":"IF(V4172=\"\",\"\",COUNTIF($V$7:V4172,\"該当３\"))","v":""}]
[844304001,8,443,{"v":4,"d":"04"},{"v":1,"d":"001 "},"茨城県","阿見町","君原村","上条",null,"","",{"$f":"IF(K4173=\"\",\"\",COUNTIF($K$7:K4173,\"ﾘｽﾄ１\"))","v":""},"","","","","","","",{"$f":"IF(S4173=\"\",\"\",COUNTIF($S$7:S4173,\"該当２\"))","v":""},"","",{"$f":"IF(V4173=\"\",\"\",COUNTIF($V$7:V4173,\"該当３\"))","v":""}]
[844304002,8,443,{"v":4,"d":"04"},{"v":2,"d":"002 "},"茨城県","阿見町","君原村","追原",null,"","",{"$f":"IF(K4174=\"\",\"\",COUNTIF($K$7:K4174,\"ﾘｽﾄ１\"))","v":""},"","","","","","","",{"$f":"IF(S4174=\"\",\"\",COUNTIF($S$7:S4174,\"該当２\"))","v":""},"","",{"$f":"IF(V4174=\"\",\"\",COUNTIF($V$7:V4174,\"該当３\"))","v":""}]
[844304003,8,443,{"v":4,"d":"04"},{"v":3,"d":"003 "},"茨城県","阿見町","君原村","塙",null,"","",{"$f":"IF(K4175=\"\",\"\",COUNTIF($K$7:K4175,\"ﾘｽﾄ１\"))","v":""},"","","","","","","",{"$f":"IF(S4175=\"\",\"\",COUNTIF($S$7:S4175,\"該当２\"))","v":""},"","",{"$f":"IF(V4175=\"\",\"\",COUNTIF($V$7:V4175,\"該当３\"))","v":""}]
[844304004,8,443,{"v":4,"d":"04"},{"v":4,"d":"004 "},"茨城県","阿見町","君原村","石川",null,"","",{"$f":"IF(K4176=\"\",\"\",COUNTIF($K$7:K4176,\"ﾘｽﾄ１\"))","v":""},"","","","","","","",{"$f":"IF(S4176=\"\",\"\",COUNTIF($S$7:S4176,\"該当２\"))","v":""},"","",{"$f":"IF(V4176=\"\",\"\",COUNTIF($V$7:V4176,\"該当３\"))","v":""}]
[844304005,8,443,{"v":4,"d":"04"},{"v":5,"d":"005 "},"茨城県","阿見町","君原村","君島",null,"","",{"$f":"IF(K4177=\"\",\"\",COUNTIF($K$7:K4177,\"ﾘｽﾄ１\"))","v":""},"","","","","","","",{"$f":"IF(S4177=\"\",\"\",COUNTIF($S$7:S4177,\"該当２\"))","v":""},"","",{"$f":"IF(V4177=\"\",\"\",COUNTIF($V$7:V4177,\"該当３\"))","v":""}]
[844304006,8,443,{"v":4,"d":"04"},{"v":6,"d":"006 "},"茨城県","阿見町","君原村","大形",null,"","",{"$f":"IF(K4178=\"\",\"\",COUNTIF($K$7:K4178,\"ﾘｽﾄ１\"))","v":""},"","","","","","","",{"$f":"IF(S4178=\"\",\"\",COUNTIF($S$7:S4178,\"該当２\"))","v":""},"","",{"$f":"IF(V4178=\"\",\"\",COUNTIF($V$7:V4178,\"該当３\"))","v":""}]
[844304007,8,443,{"v":4,"d":"04"},{"v":7,"d":"007 "},"茨城県","阿見町","君原村","飯倉二区",null,"","",{"$f":"IF(K4179=\"\",\"\",COUNTIF($K$7:K4179,\"ﾘｽﾄ１\"))","v":""},"","","","","","","",{"$f":"IF(S4179=\"\",\"\",COUNTIF($S$7:S4179,\"該当２\"))","v":""},"","",{"$f":"IF(V4179=\"\",\"\",COUNTIF($V$7:V4179,\"該当３\"))","v":""}]
[844304008,8,443,{"v":4,"d":"04"},{"v":8,"d":"008 "},"茨城県","阿見町","君原村","飯倉",null,"","",{"$f":"IF(K4180=\"\",\"\",COUNTIF($K$7:K4180,\"ﾘｽﾄ１\"))","v":""},"","","","","","","",{"$f":"IF(S4180=\"\",\"\",COUNTIF($S$7:S4180,\"該当２\"))","v":""},"","",{"$f":"IF(V4180=\"\",\"\",COUNTIF($V$7:V4180,\"該当３\"))","v":""}]
[844700000,8,447,{"v":4,"d":"04"},{"v":0,"d":"000 "},"茨城県","河内町",{"$nulls":3},"ﾘｽﾄ１","河内町",{"$f":"IF(K4181=\"\",\"\",COUNTIF($K$7:K4181,\"ﾘｽﾄ１\"))","v":40},"","","","","","","",{"$f":"IF(S4181=\"\",\"\",COUNTIF($S$7:S4181,\"該当２\"))","v":""},"","",{"$f":"IF(V4181=\"\",\"\",COUNTIF($V$7:V4181,\"該当３\"))","v":""}]
[844701000,8,447,{"v":4,"d":"04"},{"v":0,"d":"000 "},"茨城県","河内町","生板村２－２",null,null,"","",{"$f":"IF(K4182=\"\",\"\",COUNTIF($K$7:K4182,\"ﾘｽﾄ１\"))","v":""},"","","","","","","",{"$f":"IF(S4182=\"\",\"\",COUNTIF($S$7:S4182,\"該当２\"))","v":""},"","",{"$f":"IF(V4182=\"\",\"\",COUNTIF($V$7:V4182,\"該当３\"))","v":""}]
[844701001,8,447,{"v":4,"d":"04"},{"v":1,"d":"001 "},"茨城県","河内町","生板村２－２","宿",null,"","",{"$f":"IF(K4183=\"\",\"\",COUNTIF($K$7:K4183,\"ﾘｽﾄ１\"))","v":""},"","","","","","","",{"$f":"IF(S4183=\"\",\"\",COUNTIF($S$7:S4183,\"該当２\"))","v":""},"","",{"$f":"IF(V4183=\"\",\"\",COUNTIF($V$7:V4183,\"該当３\"))","v":""}]
[844701002,8,447,{"v":4,"d":"04"},{"v":2,"d":"002 "},"茨城県","河内町","生板村２－２","幸谷",null,"","",{"$f":"IF(K4184=\"\",\"\",COUNTIF($K$7:K4184,\"ﾘｽﾄ１\"))","v":""},"","","","","","","",{"$f":"IF(S4184=\"\",\"\",COUNTIF($S$7:S4184,\"該当２\"))","v":""},"","",{"$f":"IF(V4184=\"\",\"\",COUNTIF($V$7:V4184,\"該当３\"))","v":""}]
[844701003,8,447,{"v":4,"d":"04"},{"v":3,"d":"003 "},"茨城県","河内町","生板村２－２","万年",null,"","",{"$f":"IF(K4185=\"\",\"\",COUNTIF($K$7:K4185,\"ﾘｽﾄ１\"))","v":""},"","","","","","","",{"$f":"IF(S4185=\"\",\"\",COUNTIF($S$7:S4185,\"該当２\"))","v":""},"","",{"$f":"IF(V4185=\"\",\"\",COUNTIF($V$7:V4185,\"該当３\"))","v":""}]
[844701004,8,447,{"v":4,"d":"04"},{"v":4,"d":"004 "},"茨城県","河内町","生板村２－２","早井",null,"","",{"$f":"IF(K4186=\"\",\"\",COUNTIF($K$7:K4186,\"ﾘｽﾄ１\"))","v":""},"","","","","","","",{"$f":"IF(S4186=\"\",\"\",COUNTIF($S$7:S4186,\"該当２\"))","v":""},"","",{"$f":"IF(V4186=\"\",\"\",COUNTIF($V$7:V4186,\"該当３\"))","v":""}]
[844701005,8,447,{"v":4,"d":"04"},{"v":5,"d":"005 "},"茨城県","河内町","生板村２－２","小巻",null,"","",{"$f":"IF(K4187=\"\",\"\",COUNTIF($K$7:K4187,\"ﾘｽﾄ１\"))","v":""},"","","","","","","",{"$f":"IF(S4187=\"\",\"\",COUNTIF($S$7:S4187,\"該当２\"))","v":""},"","",{"$f":"IF(V4187=\"\",\"\",COUNTIF($V$7:V4187,\"該当３\"))","v":""}]
[844701006,8,447,{"v":4,"d":"04"},{"v":6,"d":"006 "},"茨城県","河内町","生板村２－２","浄玄",null,"","",{"$f":"IF(K4188=\"\",\"\",COUNTIF($K$7:K4188,\"ﾘｽﾄ１\"))","v":""},"","","","","","","",{"$f":"IF(S4188=\"\",\"\",COUNTIF($S$7:S4188,\"該当２\"))","v":""},"","",{"$f":"IF(V4188=\"\",\"\",COUNTIF($V$7:V4188,\"該当３\"))","v":""}]
[844701007,8,447,{"v":4,"d":"04"},{"v":7,"d":"007 "},"茨城県","河内町","生板村２－２","内野",null,"","",{"$f":"IF(K4189=\"\",\"\",COUNTIF($K$7:K4189,\"ﾘｽﾄ１\"))","v":""},"","","","","","","",{"$f":"IF(S4189=\"\",\"\",COUNTIF($S$7:S4189,\"該当２\"))","v":""},"","",{"$f":"IF(V4189=\"\",\"\",COUNTIF($V$7:V4189,\"該当３\"))","v":""}]
[844701008,8,447,{"v":4,"d":"04"},{"v":8,"d":"008 "},"茨城県","河内町","生板村２－２","藤蔵",null,"","",{"$f":"IF(K4190=\"\",\"\",COUNTIF($K$7:K4190,\"ﾘｽﾄ１\"))","v":""},"","","","","","","",{"$f":"IF(S4190=\"\",\"\",COUNTIF($S$7:S4190,\"該当２\"))","v":""},"","",{"$f":"IF(V4190=\"\",\"\",COUNTIF($V$7:V4190,\"該当３\"))","v":""}]
[844701009,8,447,{"v":4,"d":"04"},{"v":9,"d":"009 "},"茨城県","河内町","生板村２－２","大徳鍋子新田",null,"","",{"$f":"IF(K4191=\"\",\"\",COUNTIF($K$7:K4191,\"ﾘｽﾄ１\"))","v":""},"","","","","","","",{"$f":"IF(S4191=\"\",\"\",COUNTIF($S$7:S4191,\"該当２\"))","v":""},"","",{"$f":"IF(V4191=\"\",\"\",COUNTIF($V$7:V4191,\"該当３\"))","v":""}]
[844701010,8,447,{"v":4,"d":"04"},{"v":10,"d":"010 "},"茨城県","河内町","生板村２－２","小林町歩",null,"","",{"$f":"IF(K4192=\"\",\"\",COUNTIF($K$7:K4192,\"ﾘｽﾄ１\"))","v":""},"","","","","","","",{"$f":"IF(S4192=\"\",\"\",COUNTIF($S$7:S4192,\"該当２\"))","v":""},"","",{"$f":"IF(V4192=\"\",\"\",COUNTIF($V$7:V4192,\"該当３\"))","v":""}]
[844702000,8,447,{"v":4,"d":"04"},{"v":0,"d":"000 "},"茨城県","河内町","源清田村",null,null,"","",{"$f":"IF(K4193=\"\",\"\",COUNTIF($K$7:K4193,\"ﾘｽﾄ１\"))","v":""},"","","","","","","",{"$f":"IF(S4193=\"\",\"\",COUNTIF($S$7:S4193,\"該当２\"))","v":""},"","",{"$f":"IF(V4193=\"\",\"\",COUNTIF($V$7:V4193,\"該当３\"))","v":""}]
[844702001,8,447,{"v":4,"d":"04"},{"v":1,"d":"001 "},"茨城県","河内町","源清田村","堤",null,"","",{"$f":"IF(K4194=\"\",\"\",COUNTIF($K$7:K4194,\"ﾘｽﾄ１\"))","v":""},"","","","","","","",{"$f":"IF(S4194=\"\",\"\",COUNTIF($S$7:S4194,\"該当２\"))","v":""},"","",{"$f":"IF(V4194=\"\",\"\",COUNTIF($V$7:V4194,\"該当３\"))","v":""}]
[844702002,8,447,{"v":4,"d":"04"},{"v":2,"d":"002 "},"茨城県","河内町","源清田村","新橋",null,"","",{"$f":"IF(K4195=\"\",\"\",COUNTIF($K$7:K4195,\"ﾘｽﾄ１\"))","v":""},"","","","","","","",{"$f":"IF(S4195=\"\",\"\",COUNTIF($S$7:S4195,\"該当２\"))","v":""},"","",{"$f":"IF(V4195=\"\",\"\",COUNTIF($V$7:V4195,\"該当３\"))","v":""}]
[844702003,8,447,{"v":4,"d":"04"},{"v":3,"d":"003 "},"茨城県","河内町","源清田村","広田",null,"","",{"$f":"IF(K4196=\"\",\"\",COUNTIF($K$7:K4196,\"ﾘｽﾄ１\"))","v":""},"","","","","","","",{"$f":"IF(S4196=\"\",\"\",COUNTIF($S$7:S4196,\"該当２\"))","v":""},"","",{"$f":"IF(V4196=\"\",\"\",COUNTIF($V$7:V4196,\"該当３\"))","v":""}]
[844702004,8,447,{"v":4,"d":"04"},{"v":4,"d":"004 "},"茨城県","河内町","源清田村","保村",null,"","",{"$f":"IF(K4197=\"\",\"\",COUNTIF($K$7:K4197,\"ﾘｽﾄ１\"))","v":""},"","","","","","","",{"$f":"IF(S4197=\"\",\"\",COUNTIF($S$7:S4197,\"該当２\"))","v":""},"","",{"$f":"IF(V4197=\"\",\"\",COUNTIF($V$7:V4197,\"該当３\"))","v":""}]
[844702005,8,447,{"v":4,"d":"04"},{"v":5,"d":"005 "},"茨城県","河内町","源清田村","布鎌",null,"","",{"$f":"IF(K4198=\"\",\"\",COUNTIF($K$7:K4198,\"ﾘｽﾄ１\"))","v":""},"","","","","","","",{"$f":"IF(S4198=\"\",\"\",COUNTIF($S$7:S4198,\"該当２\"))","v":""},"","",{"$f":"IF(V4198=\"\",\"\",COUNTIF($V$7:V4198,\"該当３\"))","v":""}]
[844702006,8,447,{"v":4,"d":"04"},{"v":6,"d":"006 "},"茨城県","河内町","源清田村","宮渕",null,"","",{"$f":"IF(K4199=\"\",\"\",COUNTIF($K$7:K4199,\"ﾘｽﾄ１\"))","v":""},"","","","","","","",{"$f":"IF(S4199=\"\",\"\",COUNTIF($S$7:S4199,\"該当２\"))","v":""},"","",{"$f":"IF(V4199=\"\",\"\",COUNTIF($V$7:V4199,\"該当３\"))","v":""}]
[844702007,8,447,{"v":4,"d":"04"},{"v":7,"d":"007 "},"茨城県","河内町","源清田村","猿島",null,"","",{"$f":"IF(K4200=\"\",\"\",COUNTIF($K$7:K4200,\"ﾘｽﾄ１\"))","v":""},"","","","","","","",{"$f":"IF(S4200=\"\",\"\",COUNTIF($S$7:S4200,\"該当２\"))","v":""},"","",{"$f":"IF(V4200=\"\",\"\",COUNTIF($V$7:V4200,\"該当３\"))","v":""}]
[844702008,8,447,{"v":4,"d":"04"},{"v":8,"d":"008 "},"茨城県","河内町","源清田村","羽子騎",null,"","",{"$f":"IF(K4201=\"\",\"\",COUNTIF($K$7:K4201,\"ﾘｽﾄ１\"))","v":""},"","","","","","","",{"$f":"IF(S4201=\"\",\"\",COUNTIF($S$7:S4201,\"該当２\"))","v":""},"","",{"$f":"IF(V4201=\"\",\"\",COUNTIF($V$7:V4201,\"該当３\"))","v":""}]
[844702009,8,447,{"v":4,"d":"04"},{"v":9,"d":"009 "},"茨城県","河内町","源清田村","古河林",null,"","",{"$f":"IF(K4202=\"\",\"\",COUNTIF($K$7:K4202,\"ﾘｽﾄ１\"))","v":""},"","","","","","","",{"$f":"IF(S4202=\"\",\"\",COUNTIF($S$7:S4202,\"該当２\"))","v":""},"","",{"$f":"IF(V4202=\"\",\"\",COUNTIF($V$7:V4202,\"該当３\"))","v":""}]
[844702010,8,447,{"v":4,"d":"04"},{"v":10,"d":"010 "},"茨城県","河内町","源清田村","手栗",null,"","",{"$f":"IF(K4203=\"\",\"\",COUNTIF($K$7:K4203,\"ﾘｽﾄ１\"))","v":""},"","","","","","","",{"$f":"IF(S4203=\"\",\"\",COUNTIF($S$7:S4203,\"該当２\"))","v":""},"","",{"$f":"IF(V4203=\"\",\"\",COUNTIF($V$7:V4203,\"該当３\"))","v":""}]
[844703000,8,447,{"v":4,"d":"04"},{"v":0,"d":"000 "},"茨城県","河内町","瑞穂村",null,null,"","",{"$f":"IF(K4204=\"\",\"\",COUNTIF($K$7:K4204,\"ﾘｽﾄ１\"))","v":""},"","","","","","","",{"$f":"IF(S4204=\"\",\"\",COUNTIF($S$7:S4204,\"該当２\"))","v":""},"","",{"$f":"IF(V4204=\"\",\"\",COUNTIF($V$7:V4204,\"該当３\"))","v":""}]
[844703001,8,447,{"v":4,"d":"04"},{"v":1,"d":"001 "},"茨城県","河内町","瑞穂村","上組",null,"","",{"$f":"IF(K4205=\"\",\"\",COUNTIF($K$7:K4205,\"ﾘｽﾄ１\"))","v":""},"","","","","","","",{"$f":"IF(S4205=\"\",\"\",COUNTIF($S$7:S4205,\"該当２\"))","v":""},"","",{"$f":"IF(V4205=\"\",\"\",COUNTIF($V$7:V4205,\"該当３\"))","v":""}]
[844703002,8,447,{"v":4,"d":"04"},{"v":2,"d":"002 "},"茨城県","河内町","瑞穂村","愛宕町",null,"","",{"$f":"IF(K4206=\"\",\"\",COUNTIF($K$7:K4206,\"ﾘｽﾄ１\"))","v":""},"","","","","","","",{"$f":"IF(S4206=\"\",\"\",COUNTIF($S$7:S4206,\"該当２\"))","v":""},"","",{"$f":"IF(V4206=\"\",\"\",COUNTIF($V$7:V4206,\"該当３\"))","v":""}]
[844703003,8,447,{"v":4,"d":"04"},{"v":3,"d":"003 "},"茨城県","河内町","瑞穂村","下組",null,"","",{"$f":"IF(K4207=\"\",\"\",COUNTIF($K$7:K4207,\"ﾘｽﾄ１\"))","v":""},"","","","","","","",{"$f":"IF(S4207=\"\",\"\",COUNTIF($S$7:S4207,\"該当２\"))","v":""},"","",{"$f":"IF(V4207=\"\",\"\",COUNTIF($V$7:V4207,\"該当３\"))","v":""}]
[844703004,8,447,{"v":4,"d":"04"},{"v":4,"d":"004 "},"茨城県","河内町","瑞穂村","荒地",null,"","",{"$f":"IF(K4208=\"\",\"\",COUNTIF($K$7:K4208,\"ﾘｽﾄ１\"))","v":""},"","","","","","","",{"$f":"IF(S4208=\"\",\"\",COUNTIF($S$7:S4208,\"該当２\"))","v":""},"","",{"$f":"IF(V4208=\"\",\"\",COUNTIF($V$7:V4208,\"該当３\"))","v":""}]
[844703005,8,447,{"v":4,"d":"04"},{"v":5,"d":"005 "},"茨城県","河内町","瑞穂村","十里",null,"","",{"$f":"IF(K4209=\"\",\"\",COUNTIF($K$7:K4209,\"ﾘｽﾄ１\"))","v":""},"","","","","","","",{"$f":"IF(S4209=\"\",\"\",COUNTIF($S$7:S4209,\"該当２\"))","v":""},"","",{"$f":"IF(V4209=\"\",\"\",COUNTIF($V$7:V4209,\"該当３\"))","v":""}]
[844703006,8,447,{"v":4,"d":"04"},{"v":6,"d":"006 "},"茨城県","河内町","瑞穂村","庄布川",null,"","",{"$f":"IF(K4210=\"\",\"\",COUNTIF($K$7:K4210,\"ﾘｽﾄ１\"))","v":""},"","","","","","","",{"$f":"IF(S4210=\"\",\"\",COUNTIF($S$7:S4210,\"該当２\"))","v":""},"","",{"$f":"IF(V4210=\"\",\"\",COUNTIF($V$7:V4210,\"該当３\"))","v":""}]
[844704000,8,447,{"v":4,"d":"04"},{"v":0,"d":"000 "},"茨城県","河内町","金江津村",null,null,"","",{"$f":"IF(K4211=\"\",\"\",COUNTIF($K$7:K4211,\"ﾘｽﾄ１\"))","v":""},"","","","","","","",{"$f":"IF(S4211=\"\",\"\",COUNTIF($S$7:S4211,\"該当２\"))","v":""},"","",{"$f":"IF(V4211=\"\",\"\",COUNTIF($V$7:V4211,\"該当３\"))","v":""}]
[844704001,8,447,{"v":4,"d":"04"},{"v":1,"d":"001 "},"茨城県","河内町","金江津村","田川",null,"","",{"$f":"IF(K4212=\"\",\"\",COUNTIF($K$7:K4212,\"ﾘｽﾄ１\"))","v":""},"","","","","","","",{"$f":"IF(S4212=\"\",\"\",COUNTIF($S$7:S4212,\"該当２\"))","v":""},"","",{"$f":"IF(V4212=\"\",\"\",COUNTIF($V$7:V4212,\"該当３\"))","v":""}]
[844704002,8,447,{"v":4,"d":"04"},{"v":2,"d":"002 "},"茨城県","河内町","金江津村","片巻",null,"","",{"$f":"IF(K4213=\"\",\"\",COUNTIF($K$7:K4213,\"ﾘｽﾄ１\"))","v":""},"","","","","","","",{"$f":"IF(S4213=\"\",\"\",COUNTIF($S$7:S4213,\"該当２\"))","v":""},"","",{"$f":"IF(V4213=\"\",\"\",COUNTIF($V$7:V4213,\"該当３\"))","v":""}]
[844704003,8,447,{"v":4,"d":"04"},{"v":3,"d":"003 "},"茨城県","河内町","金江津村","下加納",null,"","",{"$f":"IF(K4214=\"\",\"\",COUNTIF($K$7:K4214,\"ﾘｽﾄ１\"))","v":""},"","","","","","","",{"$f":"IF(S4214=\"\",\"\",COUNTIF($S$7:S4214,\"該当２\"))","v":""},"","",{"$f":"IF(V4214=\"\",\"\",COUNTIF($V$7:V4214,\"該当３\"))","v":""}]
[844704004,8,447,{"v":4,"d":"04"},{"v":4,"d":"004 "},"茨城県","河内町","金江津村","上金江津",null,"","",{"$f":"IF(K4215=\"\",\"\",COUNTIF($K$7:K4215,\"ﾘｽﾄ１\"))","v":""},"","","","","","","",{"$f":"IF(S4215=\"\",\"\",COUNTIF($S$7:S4215,\"該当２\"))","v":""},"","",{"$f":"IF(V4215=\"\",\"\",COUNTIF($V$7:V4215,\"該当３\"))","v":""}]
[844704005,8,447,{"v":4,"d":"04"},{"v":5,"d":"005 "},"茨城県","河内町","金江津村","中金江津",null,"","",{"$f":"IF(K4216=\"\",\"\",COUNTIF($K$7:K4216,\"ﾘｽﾄ１\"))","v":""},"","","","","","","",{"$f":"IF(S4216=\"\",\"\",COUNTIF($S$7:S4216,\"該当２\"))","v":""},"","",{"$f":"IF(V4216=\"\",\"\",COUNTIF($V$7:V4216,\"該当３\"))","v":""}]
[844704006,8,447,{"v":4,"d":"04"},{"v":6,"d":"006 "},"茨城県","河内町","金江津村","下金江津",null,"","",{"$f":"IF(K4217=\"\",\"\",COUNTIF($K$7:K4217,\"ﾘｽﾄ１\"))","v":""},"","","","","","","",{"$f":"IF(S4217=\"\",\"\",COUNTIF($S$7:S4217,\"該当２\"))","v":""},"","",{"$f":"IF(V4217=\"\",\"\",COUNTIF($V$7:V4217,\"該当３\"))","v":""}]
[844704007,8,447,{"v":4,"d":"04"},{"v":7,"d":"007 "},"茨城県","河内町","金江津村","平川",null,"","",{"$f":"IF(K4218=\"\",\"\",COUNTIF($K$7:K4218,\"ﾘｽﾄ１\"))","v":""},"","","","","","","",{"$f":"IF(S4218=\"\",\"\",COUNTIF($S$7:S4218,\"該当２\"))","v":""},"","",{"$f":"IF(V4218=\"\",\"\",COUNTIF($V$7:V4218,\"該当３\"))","v":""}]
[844704008,8,447,{"v":4,"d":"04"},{"v":8,"d":"008 "},"茨城県","河内町","金江津村","十三間戸",null,"","",{"$f":"IF(K4219=\"\",\"\",COUNTIF($K$7:K4219,\"ﾘｽﾄ１\"))","v":""},"","","","","","","",{"$f":"IF(S4219=\"\",\"\",COUNTIF($S$7:S4219,\"該当２\"))","v":""},"","",{"$f":"IF(V4219=\"\",\"\",COUNTIF($V$7:V4219,\"該当３\"))","v":""}]
[852100000,8,521,{"v":4,"d":"04"},{"v":0,"d":"000 "},"茨城県","八千代町",{"$nulls":3},"ﾘｽﾄ１","八千代町",{"$f":"IF(K4220=\"\",\"\",COUNTIF($K$7:K4220,\"ﾘｽﾄ１\"))","v":41},"","","","","","","",{"$f":"IF(S4220=\"\",\"\",COUNTIF($S$7:S4220,\"該当２\"))","v":""},"","",{"$f":"IF(V4220=\"\",\"\",COUNTIF($V$7:V4220,\"該当３\"))","v":""}]
[852101000,8,521,{"v":4,"d":"04"},{"v":0,"d":"000 "},"茨城県","八千代町","中結城村",null,null,"","",{"$f":"IF(K4221=\"\",\"\",COUNTIF($K$7:K4221,\"ﾘｽﾄ１\"))","v":""},"","","","","","","",{"$f":"IF(S4221=\"\",\"\",COUNTIF($S$7:S4221,\"該当２\"))","v":""},"","",{"$f":"IF(V4221=\"\",\"\",COUNTIF($V$7:V4221,\"該当３\"))","v":""}]
[852101001,8,521,{"v":4,"d":"04"},{"v":1,"d":"001 "},"茨城県","八千代町","中結城村","塩本",null,"","",{"$f":"IF(K4222=\"\",\"\",COUNTIF($K$7:K4222,\"ﾘｽﾄ１\"))","v":""},"","","","","","","",{"$f":"IF(S4222=\"\",\"\",COUNTIF($S$7:S4222,\"該当２\"))","v":""},"","",{"$f":"IF(V4222=\"\",\"\",COUNTIF($V$7:V4222,\"該当３\"))","v":""}]
[852101002,8,521,{"v":4,"d":"04"},{"v":2,"d":"002 "},"茨城県","八千代町","中結城村","下山川",null,"","",{"$f":"IF(K4223=\"\",\"\",COUNTIF($K$7:K4223,\"ﾘｽﾄ１\"))","v":""},"","","","","","","",{"$f":"IF(S4223=\"\",\"\",COUNTIF($S$7:S4223,\"該当２\"))","v":""},"","",{"$f":"IF(V4223=\"\",\"\",COUNTIF($V$7:V4223,\"該当３\"))","v":""}]
[852101003,8,521,{"v":4,"d":"04"},{"v":3,"d":"003 "},"茨城県","八千代町","中結城村","粕礼",null,"","",{"$f":"IF(K4224=\"\",\"\",COUNTIF($K$7:K4224,\"ﾘｽﾄ１\"))","v":""},"","","","","","","",{"$f":"IF(S4224=\"\",\"\",COUNTIF($S$7:S4224,\"該当２\"))","v":""},"","",{"$f":"IF(V4224=\"\",\"\",COUNTIF($V$7:V4224,\"該当３\"))","v":""}]
[852101004,8,521,{"v":4,"d":"04"},{"v":4,"d":"004 "},"茨城県","八千代町","中結城村","西大山",null,"","",{"$f":"IF(K4225=\"\",\"\",COUNTIF($K$7:K4225,\"ﾘｽﾄ１\"))","v":""},"","","","","","","",{"$f":"IF(S4225=\"\",\"\",COUNTIF($S$7:S4225,\"該当２\"))","v":""},"","",{"$f":"IF(V4225=\"\",\"\",COUNTIF($V$7:V4225,\"該当３\"))","v":""}]
[852101005,8,521,{"v":4,"d":"04"},{"v":5,"d":"005 "},"茨城県","八千代町","中結城村","佐野東部",null,"","",{"$f":"IF(K4226=\"\",\"\",COUNTIF($K$7:K4226,\"ﾘｽﾄ１\"))","v":""},"","","","","","","",{"$f":"IF(S4226=\"\",\"\",COUNTIF($S$7:S4226,\"該当２\"))","v":""},"","",{"$f":"IF(V4226=\"\",\"\",COUNTIF($V$7:V4226,\"該当３\"))","v":""}]
[852101006,8,521,{"v":4,"d":"04"},{"v":6,"d":"006 "},"茨城県","八千代町","中結城村","佐野西部",null,"","",{"$f":"IF(K4227=\"\",\"\",COUNTIF($K$7:K4227,\"ﾘｽﾄ１\"))","v":""},"","","","","","","",{"$f":"IF(S4227=\"\",\"\",COUNTIF($S$7:S4227,\"該当２\"))","v":""},"","",{"$f":"IF(V4227=\"\",\"\",COUNTIF($V$7:V4227,\"該当３\"))","v":""}]
[852101007,8,521,{"v":4,"d":"04"},{"v":7,"d":"007 "},"茨城県","八千代町","中結城村","瀬戸井上",null,"","",{"$f":"IF(K4228=\"\",\"\",COUNTIF($K$7:K4228,\"ﾘｽﾄ１\"))","v":""},"","","","","","","",{"$f":"IF(S4228=\"\",\"\",COUNTIF($S$7:S4228,\"該当２\"))","v":""},"","",{"$f":"IF(V4228=\"\",\"\",COUNTIF($V$7:V4228,\"該当３\"))","v":""}]
[852101008,8,521,{"v":4,"d":"04"},{"v":8,"d":"008 "},"茨城県","八千代町","中結城村","瀬戸井下",null,"","",{"$f":"IF(K4229=\"\",\"\",COUNTIF($K$7:K4229,\"ﾘｽﾄ１\"))","v":""},"","","","","","","",{"$f":"IF(S4229=\"\",\"\",COUNTIF($S$7:S4229,\"該当２\"))","v":""},"","",{"$f":"IF(V4229=\"\",\"\",COUNTIF($V$7:V4229,\"該当３\"))","v":""}]
[852101009,8,521,{"v":4,"d":"04"},{"v":9,"d":"009 "},"茨城県","八千代町","中結城村","兵庫、沼端",null,"","",{"$f":"IF(K4230=\"\",\"\",COUNTIF($K$7:K4230,\"ﾘｽﾄ１\"))","v":""},"","","","","","","",{"$f":"IF(S4230=\"\",\"\",COUNTIF($S$7:S4230,\"該当２\"))","v":""},"","",{"$f":"IF(V4230=\"\",\"\",COUNTIF($V$7:V4230,\"該当３\"))","v":""}]
[852101010,8,521,{"v":4,"d":"04"},{"v":10,"d":"010 "},"茨城県","八千代町","中結城村","菅谷、西部",null,"","",{"$f":"IF(K4231=\"\",\"\",COUNTIF($K$7:K4231,\"ﾘｽﾄ１\"))","v":""},"","","","","","","",{"$f":"IF(S4231=\"\",\"\",COUNTIF($S$7:S4231,\"該当２\"))","v":""},"","",{"$f":"IF(V4231=\"\",\"\",COUNTIF($V$7:V4231,\"該当３\"))","v":""}]
[852101011,8,521,{"v":4,"d":"04"},{"v":11,"d":"011 "},"茨城県","八千代町","中結城村","伊勢山",null,"","",{"$f":"IF(K4232=\"\",\"\",COUNTIF($K$7:K4232,\"ﾘｽﾄ１\"))","v":""},"","","","","","","",{"$f":"IF(S4232=\"\",\"\",COUNTIF($S$7:S4232,\"該当２\"))","v":""},"","",{"$f":"IF(V4232=\"\",\"\",COUNTIF($V$7:V4232,\"該当３\"))","v":""}]
[852101012,8,521,{"v":4,"d":"04"},{"v":12,"d":"012 "},"茨城県","八千代町","中結城村","前田",null,"","",{"$f":"IF(K4233=\"\",\"\",COUNTIF($K$7:K4233,\"ﾘｽﾄ１\"))","v":""},"","","","","","","",{"$f":"IF(S4233=\"\",\"\",COUNTIF($S$7:S4233,\"該当２\"))","v":""},"","",{"$f":"IF(V4233=\"\",\"\",COUNTIF($V$7:V4233,\"該当３\"))","v":""}]
[852101013,8,521,{"v":4,"d":"04"},{"v":13,"d":"013 "},"茨城県","八千代町","中結城村","高野",null,"","",{"$f":"IF(K4234=\"\",\"\",COUNTIF($K$7:K4234,\"ﾘｽﾄ１\"))","v":""},"","",{"$f":"IF(O4234=\"該当１\",G4234,\"\")","v":""},{"$f":"IF(O4234=\"該当１\",\"ﾘｽﾄ2\",\"\")","v":""},{"$f":"IF(Q4234=\"ﾘｽﾄ2\",H4234,\"\")","v":""},"",{"$f":"IF(S4234=\"該当２\",H4234,\"\")","v":""},{"$f":"IF(S4234=\"\",\"\",COUNTIF($S$7:S4234,\"該当２\"))","v":""},{"$f":"IF(AND($S$2=H4234,E4234>0,E4234<998),\"該当３\",\"\")","v":""},{"$f":"IF(V4234=\"該当３\",I4234,\"\")","v":""},{"$f":"IF(V4234=\"\",\"\",COUNTIF($V$7:V4234,\"該当３\"))","v":""}]
[852101014,8,521,{"v":4,"d":"04"},{"v":14,"d":"014 "},"茨城県","八千代町","中結城村","根の谷",null,{"$f":"IF(AND($C4235>0,$H4235=\"\"),\"ﾘｽﾄ１\",\"\")","v":""},{"$f":"IF(K4235=\"ﾘｽﾄ１\",G4235,\"\")","v":""},{"$f":"IF(K4235=\"\",\"\",COUNTIF($K$7:K4235,\"ﾘｽﾄ１\"))","v":""},{"$f":"IF(AND(D4235=0,E4235>0),\"同一区\",\"\")","v":""},{"$f":"IF(AND(EXACT($K$2,G4235),H4235>0),\"該当１\",\"\")","v":""},"","","",{"$f":"IF(AND(Q4235=\"ﾘｽﾄ2\",OR(I4235=0,AND(N4235=\"同一区\",E4235=1))),\"該当２\",\"\")","v":""},"",{"$f":"IF(S4235=\"\",\"\",COUNTIF($S$7:S4235,\"該当２\"))","v":""},"","",{"$f":"IF(V4235=\"\",\"\",COUNTIF($V$7:V4235,\"該当３\"))","v":""}]
[852102000,8,521,{"v":4,"d":"04"},{"v":0,"d":"000 "},"茨城県","八千代町","川西村",null,null,"","",{"$f":"IF(K4236=\"\",\"\",COUNTIF($K$7:K4236,\"ﾘｽﾄ１\"))","v":""},"","","","","","","",{"$f":"IF(S4236=\"\",\"\",COUNTIF($S$7:S4236,\"該当２\"))","v":""},"","",{"$f":"IF(V4236=\"\",\"\",COUNTIF($V$7:V4236,\"該当３\"))","v":""}]
[852102001,8,521,{"v":4,"d":"04"},{"v":1,"d":"001 "},"茨城県","八千代町","川西村","久下田",null,"","",{"$f":"IF(K4237=\"\",\"\",COUNTIF($K$7:K4237,\"ﾘｽﾄ１\"))","v":""},"","","","","","","",{"$f":"IF(S4237=\"\",\"\",COUNTIF($S$7:S4237,\"該当２\"))","v":""},"","",{"$f":"IF(V4237=\"\",\"\",COUNTIF($V$7:V4237,\"該当３\"))","v":""}]
[852102002,8,521,{"v":4,"d":"04"},{"v":2,"d":"002 "},"茨城県","八千代町","川西村","新井",null,"","",{"$f":"IF(K4238=\"\",\"\",COUNTIF($K$7:K4238,\"ﾘｽﾄ１\"))","v":""},"","","","","","","",{"$f":"IF(S4238=\"\",\"\",COUNTIF($S$7:S4238,\"該当２\"))","v":""},"","",{"$f":"IF(V4238=\"\",\"\",COUNTIF($V$7:V4238,\"該当３\"))","v":""}]
[852102003,8,521,{"v":4,"d":"04"},{"v":3,"d":"003 "},"茨城県","八千代町","川西村","八町",null,"","",{"$f":"IF(K4239=\"\",\"\",COUNTIF($K$7:K4239,\"ﾘｽﾄ１\"))","v":""},"","","","","","","",{"$f":"IF(S4239=\"\",\"\",COUNTIF($S$7:S4239,\"該当２\"))","v":""},"","",{"$f":"IF(V4239=\"\",\"\",COUNTIF($V$7:V4239,\"該当３\"))","v":""}]
[852102004,8,521,{"v":4,"d":"04"},{"v":4,"d":"004 "},"茨城県","八千代町","川西村","袋",null,"","",{"$f":"IF(K4240=\"\",\"\",COUNTIF($K$7:K4240,\"ﾘｽﾄ１\"))","v":""},"","","","","","","",{"$f":"IF(S4240=\"\",\"\",COUNTIF($S$7:S4240,\"該当２\"))","v":""},"","",{"$f":"IF(V4240=\"\",\"\",COUNTIF($V$7:V4240,\"該当３\"))","v":""}]
[852102005,8,521,{"v":4,"d":"04"},{"v":5,"d":"005 "},"茨城県","八千代町","川西村","野爪",null,"","",{"$f":"IF(K4241=\"\",\"\",COUNTIF($K$7:K4241,\"ﾘｽﾄ１\"))","v":""},"","","","","","","",{"$f":"IF(S4241=\"\",\"\",COUNTIF($S$7:S4241,\"該当２\"))","v":""},"","",{"$f":"IF(V4241=\"\",\"\",COUNTIF($V$7:V4241,\"該当３\"))","v":""}]
[852102006,8,521,{"v":4,"d":"04"},{"v":6,"d":"006 "},"茨城県","八千代町","川西村","坪井",null,"","",{"$f":"IF(K4242=\"\",\"\",COUNTIF($K$7:K4242,\"ﾘｽﾄ１\"))","v":""},"","","","","","","",{"$f":"IF(S4242=\"\",\"\",COUNTIF($S$7:S4242,\"該当２\"))","v":""},"","",{"$f":"IF(V4242=\"\",\"\",COUNTIF($V$7:V4242,\"該当３\"))","v":""}]
[852102007,8,521,{"v":4,"d":"04"},{"v":7,"d":"007 "},"茨城県","八千代町","川西村","高崎",null,"","",{"$f":"IF(K4243=\"\",\"\",COUNTIF($K$7:K4243,\"ﾘｽﾄ１\"))","v":""},"","","","","","","",{"$f":"IF(S4243=\"\",\"\",COUNTIF($S$7:S4243,\"該当２\"))","v":""},"","",{"$f":"IF(V4243=\"\",\"\",COUNTIF($V$7:V4243,\"該当３\"))","v":""}]
[852102008,8,521,{"v":4,"d":"04"},{"v":8,"d":"008 "},"茨城県","八千代町","川西村","大渡戸",null,"","",{"$f":"IF(K4244=\"\",\"\",COUNTIF($K$7:K4244,\"ﾘｽﾄ１\"))","v":""},"","","","","","","",{"$f":"IF(S4244=\"\",\"\",COUNTIF($S$7:S4244,\"該当２\"))","v":""},"","",{"$f":"IF(V4244=\"\",\"\",COUNTIF($V$7:V4244,\"該当３\"))","v":""}]
[852102009,8,521,{"v":4,"d":"04"},{"v":9,"d":"009 "},"茨城県","八千代町","川西村","大里",null,"","",{"$f":"IF(K4245=\"\",\"\",COUNTIF($K$7:K4245,\"ﾘｽﾄ１\"))","v":""},"","","","","","","",{"$f":"IF(S4245=\"\",\"\",COUNTIF($S$7:S4245,\"該当２\"))","v":""},"","",{"$f":"IF(V4245=\"\",\"\",COUNTIF($V$7:V4245,\"該当３\"))","v":""}]
[852102010,8,521,{"v":4,"d":"04"},{"v":10,"d":"010 "},"茨城県","八千代町","川西村","小屋",null,"","",{"$f":"IF(K4246=\"\",\"\",COUNTIF($K$7:K4246,\"ﾘｽﾄ１\"))","v":""},"","","","","","","",{"$f":"IF(S4246=\"\",\"\",COUNTIF($S$7:S4246,\"該当２\"))","v":""},"","",{"$f":"IF(V4246=\"\",\"\",COUNTIF($V$7:V4246,\"該当３\"))","v":""}]
[852103000,8,521,{"v":4,"d":"04"},{"v":0,"d":"000 "},"茨城県","八千代町","西豊田村",null,null,"","",{"$f":"IF(K4247=\"\",\"\",COUNTIF($K$7:K4247,\"ﾘｽﾄ１\"))","v":""},"","","","","","","",{"$f":"IF(S4247=\"\",\"\",COUNTIF($S$7:S4247,\"該当２\"))","v":""},"","",{"$f":"IF(V4247=\"\",\"\",COUNTIF($V$7:V4247,\"該当３\"))","v":""}]
[852103001,8,521,{"v":4,"d":"04"},{"v":1,"d":"001 "},"茨城県","八千代町","西豊田村","若",null,"","",{"$f":"IF(K4248=\"\",\"\",COUNTIF($K$7:K4248,\"ﾘｽﾄ１\"))","v":""},"","","","","","","",{"$f":"IF(S4248=\"\",\"\",COUNTIF($S$7:S4248,\"該当２\"))","v":""},"","",{"$f":"IF(V4248=\"\",\"\",COUNTIF($V$7:V4248,\"該当３\"))","v":""}]
[852103002,8,521,{"v":4,"d":"04"},{"v":2,"d":"002 "},"茨城県","八千代町","西豊田村","沼森",null,"","",{"$f":"IF(K4249=\"\",\"\",COUNTIF($K$7:K4249,\"ﾘｽﾄ１\"))","v":""},"","","","","","","",{"$f":"IF(S4249=\"\",\"\",COUNTIF($S$7:S4249,\"該当２\"))","v":""},"","",{"$f":"IF(V4249=\"\",\"\",COUNTIF($V$7:V4249,\"該当３\"))","v":""}]
[852103003,8,521,{"v":4,"d":"04"},{"v":3,"d":"003 "},"茨城県","八千代町","西豊田村","川尻",null,"","",{"$f":"IF(K4250=\"\",\"\",COUNTIF($K$7:K4250,\"ﾘｽﾄ１\"))","v":""},"","","","","","","",{"$f":"IF(S4250=\"\",\"\",COUNTIF($S$7:S4250,\"該当２\"))","v":""},"","",{"$f":"IF(V4250=\"\",\"\",COUNTIF($V$7:V4250,\"該当３\"))","v":""}]
[852103004,8,521,{"v":4,"d":"04"},{"v":4,"d":"004 "},"茨城県","八千代町","西豊田村","今里",null,"","",{"$f":"IF(K4251=\"\",\"\",COUNTIF($K$7:K4251,\"ﾘｽﾄ１\"))","v":""},"","","","","","","",{"$f":"IF(S4251=\"\",\"\",COUNTIF($S$7:S4251,\"該当２\"))","v":""},"","",{"$f":"IF(V4251=\"\",\"\",COUNTIF($V$7:V4251,\"該当３\"))","v":""}]
[852103005,8,521,{"v":4,"d":"04"},{"v":5,"d":"005 "},"茨城県","八千代町","西豊田村","本郷",null,"","",{"$f":"IF(K4252=\"\",\"\",COUNTIF($K$7:K4252,\"ﾘｽﾄ１\"))","v":""},"","","","","","","",{"$f":"IF(S4252=\"\",\"\",COUNTIF($S$7:S4252,\"該当２\"))","v":""},"","",{"$f":"IF(V4252=\"\",\"\",COUNTIF($V$7:V4252,\"該当３\"))","v":""}]
[852103006,8,521,{"v":4,"d":"04"},{"v":6,"d":"006 "},"茨城県","八千代町","西豊田村","片角",null,"","",{"$f":"IF(K4253=\"\",\"\",COUNTIF($K$7:K4253,\"ﾘｽﾄ１\"))","v":""},"","","","","","","",{"$f":"IF(S4253=\"\",\"\",COUNTIF($S$7:S4253,\"該当２\"))","v":""},"","",{"$f":"IF(V4253=\"\",\"\",COUNTIF($V$7:V4253,\"該当３\"))","v":""}]
[852103007,8,521,{"v":4,"d":"04"},{"v":7,"d":"007 "},"茨城県","八千代町","西豊田村","粟野",null,"","",{"$f":"IF(K4254=\"\",\"\",COUNTIF($K$7:K4254,\"ﾘｽﾄ１\"))","v":""},"","","","","","","",{"$f":"IF(S4254=\"\",\"\",COUNTIF($S$7:S4254,\"該当２\"))","v":""},"","",{"$f":"IF(V4254=\"\",\"\",COUNTIF($V$7:V4254,\"該当３\"))","v":""}]
[852103008,8,521,{"v":4,"d":"04"},{"v":8,"d":"008 "},"茨城県","八千代町","西豊田村","仁江戸東部",null,"","",{"$f":"IF(K4255=\"\",\"\",COUNTIF($K$7:K4255,\"ﾘｽﾄ１\"))","v":""},"","","","","","","",{"$f":"IF(S4255=\"\",\"\",COUNTIF($S$7:S4255,\"該当２\"))","v":""},"","",{"$f":"IF(V4255=\"\",\"\",COUNTIF($V$7:V4255,\"該当３\"))","v":""}]
[852103009,8,521,{"v":4,"d":"04"},{"v":9,"d":"009 "},"茨城県","八千代町","西豊田村","仁江戸中部",null,"","",{"$f":"IF(K4256=\"\",\"\",COUNTIF($K$7:K4256,\"ﾘｽﾄ１\"))","v":""},"","","","","","","",{"$f":"IF(S4256=\"\",\"\",COUNTIF($S$7:S4256,\"該当２\"))","v":""},"","",{"$f":"IF(V4256=\"\",\"\",COUNTIF($V$7:V4256,\"該当３\"))","v":""}]
[852103010,8,521,{"v":4,"d":"04"},{"v":10,"d":"010 "},"茨城県","八千代町","西豊田村","仁江戸西部",null,"","",{"$f":"IF(K4257=\"\",\"\",COUNTIF($K$7:K4257,\"ﾘｽﾄ１\"))","v":""},"","","","","","","",{"$f":"IF(S4257=\"\",\"\",COUNTIF($S$7:S4257,\"該当２\"))","v":""},"","",{"$f":"IF(V4257=\"\",\"\",COUNTIF($V$7:V4257,\"該当３\"))","v":""}]
[852103011,8,521,{"v":4,"d":"04"},{"v":11,"d":"011 "},"茨城県","八千代町","西豊田村","中野",null,"","",{"$f":"IF(K4258=\"\",\"\",COUNTIF($K$7:K4258,\"ﾘｽﾄ１\"))","v":""},"","","","","","","",{"$f":"IF(S4258=\"\",\"\",COUNTIF($S$7:S4258,\"該当２\"))","v":""},"","",{"$f":"IF(V4258=\"\",\"\",COUNTIF($V$7:V4258,\"該当３\"))","v":""}]
[852103012,8,521,{"v":4,"d":"04"},{"v":12,"d":"012 "},"茨城県","八千代町","西豊田村","苅橋",null,"","",{"$f":"IF(K4259=\"\",\"\",COUNTIF($K$7:K4259,\"ﾘｽﾄ１\"))","v":""},"","","","","","","",{"$f":"IF(S4259=\"\",\"\",COUNTIF($S$7:S4259,\"該当２\"))","v":""},"","",{"$f":"IF(V4259=\"\",\"\",COUNTIF($V$7:V4259,\"該当３\"))","v":""}]
[852103013,8,521,{"v":4,"d":"04"},{"v":13,"d":"013 "},"茨城県","八千代町","西豊田村","東大山",null,"","",{"$f":"IF(K4260=\"\",\"\",COUNTIF($K$7:K4260,\"ﾘｽﾄ１\"))","v":""},"","","","","","","",{"$f":"IF(S4260=\"\",\"\",COUNTIF($S$7:S4260,\"該当２\"))","v":""},"","",{"$f":"IF(V4260=\"\",\"\",COUNTIF($V$7:V4260,\"該当３\"))","v":""}]
[852103014,8,521,{"v":4,"d":"04"},{"v":14,"d":"014 "},"茨城県","八千代町","西豊田村","太田",null,"","",{"$f":"IF(K4261=\"\",\"\",COUNTIF($K$7:K4261,\"ﾘｽﾄ１\"))","v":""},"","","","","","","",{"$f":"IF(S4261=\"\",\"\",COUNTIF($S$7:S4261,\"該当２\"))","v":""},"","",{"$f":"IF(V4261=\"\",\"\",COUNTIF($V$7:V4261,\"該当３\"))","v":""}]
[852103015,8,521,{"v":4,"d":"04"},{"v":15,"d":"015 "},"茨城県","八千代町","西豊田村","貝谷",null,"","",{"$f":"IF(K4262=\"\",\"\",COUNTIF($K$7:K4262,\"ﾘｽﾄ１\"))","v":""},"","","","","","","",{"$f":"IF(S4262=\"\",\"\",COUNTIF($S$7:S4262,\"該当２\"))","v":""},"","",{"$f":"IF(V4262=\"\",\"\",COUNTIF($V$7:V4262,\"該当３\"))","v":""}]
[852104000,8,521,{"v":4,"d":"04"},{"v":0,"d":"000 "},"茨城県","八千代町","安静村",null,null,"","",{"$f":"IF(K4263=\"\",\"\",COUNTIF($K$7:K4263,\"ﾘｽﾄ１\"))","v":""},"","","","","","","",{"$f":"IF(S4263=\"\",\"\",COUNTIF($S$7:S4263,\"該当２\"))","v":""},"","",{"$f":"IF(V4263=\"\",\"\",COUNTIF($V$7:V4263,\"該当３\"))","v":""}]
[852104001,8,521,{"v":4,"d":"04"},{"v":1,"d":"001 "},"茨城県","八千代町","安静村","村貫西部",null,"","",{"$f":"IF(K4264=\"\",\"\",COUNTIF($K$7:K4264,\"ﾘｽﾄ１\"))","v":""},"","","","","","","",{"$f":"IF(S4264=\"\",\"\",COUNTIF($S$7:S4264,\"該当２\"))","v":""},"","",{"$f":"IF(V4264=\"\",\"\",COUNTIF($V$7:V4264,\"該当３\"))","v":""}]
[852104002,8,521,{"v":4,"d":"04"},{"v":2,"d":"002 "},"茨城県","八千代町","安静村","村貫東部",null,"","",{"$f":"IF(K4265=\"\",\"\",COUNTIF($K$7:K4265,\"ﾘｽﾄ１\"))","v":""},"","","","","","","",{"$f":"IF(S4265=\"\",\"\",COUNTIF($S$7:S4265,\"該当２\"))","v":""},"","",{"$f":"IF(V4265=\"\",\"\",COUNTIF($V$7:V4265,\"該当３\"))","v":""}]
[852104003,8,521,{"v":4,"d":"04"},{"v":3,"d":"003 "},"茨城県","八千代町","安静村","磯",null,"","",{"$f":"IF(K4266=\"\",\"\",COUNTIF($K$7:K4266,\"ﾘｽﾄ１\"))","v":""},"","","","","","","",{"$f":"IF(S4266=\"\",\"\",COUNTIF($S$7:S4266,\"該当２\"))","v":""},"","",{"$f":"IF(V4266=\"\",\"\",COUNTIF($V$7:V4266,\"該当３\"))","v":""}]
[852104004,8,521,{"v":4,"d":"04"},{"v":4,"d":"004 "},"茨城県","八千代町","安静村","蕗田",null,"","",{"$f":"IF(K4267=\"\",\"\",COUNTIF($K$7:K4267,\"ﾘｽﾄ１\"))","v":""},"","","","","","","",{"$f":"IF(S4267=\"\",\"\",COUNTIF($S$7:S4267,\"該当２\"))","v":""},"","",{"$f":"IF(V4267=\"\",\"\",COUNTIF($V$7:V4267,\"該当３\"))","v":""}]
[852104005,8,521,{"v":4,"d":"04"},{"v":5,"d":"005 "},"茨城県","八千代町","安静村","福岡",null,"","",{"$f":"IF(K4268=\"\",\"\",COUNTIF($K$7:K4268,\"ﾘｽﾄ１\"))","v":""},"","","","","","","",{"$f":"IF(S4268=\"\",\"\",COUNTIF($S$7:S4268,\"該当２\"))","v":""},"","",{"$f":"IF(V4268=\"\",\"\",COUNTIF($V$7:V4268,\"該当３\"))","v":""}]
[852104006,8,521,{"v":4,"d":"04"},{"v":6,"d":"006 "},"茨城県","八千代町","安静村","新地",null,"","",{"$f":"IF(K4269=\"\",\"\",COUNTIF($K$7:K4269,\"ﾘｽﾄ１\"))","v":""},"","","","","","","",{"$f":"IF(S4269=\"\",\"\",COUNTIF($S$7:S4269,\"該当２\"))","v":""},"","",{"$f":"IF(V4269=\"\",\"\",COUNTIF($V$7:V4269,\"該当３\"))","v":""}]
[852104007,8,521,{"v":4,"d":"04"},{"v":7,"d":"007 "},"茨城県","八千代町","安静村","東蕗田",null,"","",{"$f":"IF(K4270=\"\",\"\",COUNTIF($K$7:K4270,\"ﾘｽﾄ１\"))","v":""},"","","","","","","",{"$f":"IF(S4270=\"\",\"\",COUNTIF($S$7:S4270,\"該当２\"))","v":""},"","",{"$f":"IF(V4270=\"\",\"\",COUNTIF($V$7:V4270,\"該当３\"))","v":""}]
[852104008,8,521,{"v":4,"d":"04"},{"v":8,"d":"008 "},"茨城県","八千代町","安静村","栗山",null,"","",{"$f":"IF(K4271=\"\",\"\",COUNTIF($K$7:K4271,\"ﾘｽﾄ１\"))","v":""},"","","","","","","",{"$f":"IF(S4271=\"\",\"\",COUNTIF($S$7:S4271,\"該当２\"))","v":""},"","",{"$f":"IF(V4271=\"\",\"\",COUNTIF($V$7:V4271,\"該当３\"))","v":""}]
[852104009,8,521,{"v":4,"d":"04"},{"v":9,"d":"009 "},"茨城県","八千代町","安静村","尾崎",null,"","",{"$f":"IF(K4272=\"\",\"\",COUNTIF($K$7:K4272,\"ﾘｽﾄ１\"))","v":""},"","","","","","","",{"$f":"IF(S4272=\"\",\"\",COUNTIF($S$7:S4272,\"該当２\"))","v":""},"","",{"$f":"IF(V4272=\"\",\"\",COUNTIF($V$7:V4272,\"該当３\"))","v":""}]
[852104010,8,521,{"v":4,"d":"04"},{"v":10,"d":"010 "},"茨城県","八千代町","安静村","大間木",null,"","",{"$f":"IF(K4273=\"\",\"\",COUNTIF($K$7:K4273,\"ﾘｽﾄ１\"))","v":""},"","","","","","","",{"$f":"IF(S4273=\"\",\"\",COUNTIF($S$7:S4273,\"該当２\"))","v":""},"","",{"$f":"IF(V4273=\"\",\"\",COUNTIF($V$7:V4273,\"該当３\"))","v":""}]
[852104011,8,521,{"v":4,"d":"04"},{"v":11,"d":"011 "},"茨城県","八千代町","安静村","芦ヶ谷新田",null,"","",{"$f":"IF(K4274=\"\",\"\",COUNTIF($K$7:K4274,\"ﾘｽﾄ１\"))","v":""},"","","","","","","",{"$f":"IF(S4274=\"\",\"\",COUNTIF($S$7:S4274,\"該当２\"))","v":""},"","",{"$f":"IF(V4274=\"\",\"\",COUNTIF($V$7:V4274,\"該当３\"))","v":""}]
[852104012,8,521,{"v":4,"d":"04"},{"v":12,"d":"012 "},"茨城県","八千代町","安静村","舟戸",null,"","",{"$f":"IF(K4275=\"\",\"\",COUNTIF($K$7:K4275,\"ﾘｽﾄ１\"))","v":""},"","","","","","","",{"$f":"IF(S4275=\"\",\"\",COUNTIF($S$7:S4275,\"該当２\"))","v":""},"","",{"$f":"IF(V4275=\"\",\"\",COUNTIF($V$7:V4275,\"該当３\"))","v":""}]
[852104013,8,521,{"v":4,"d":"04"},{"v":13,"d":"013 "},"茨城県","八千代町","安静村","仲坪",null,"","",{"$f":"IF(K4276=\"\",\"\",COUNTIF($K$7:K4276,\"ﾘｽﾄ１\"))","v":""},"","","","","","","",{"$f":"IF(S4276=\"\",\"\",COUNTIF($S$7:S4276,\"該当２\"))","v":""},"","",{"$f":"IF(V4276=\"\",\"\",COUNTIF($V$7:V4276,\"該当３\"))","v":""}]
[852104014,8,521,{"v":4,"d":"04"},{"v":14,"d":"014 "},"茨城県","八千代町","安静村","神山",null,"","",{"$f":"IF(K4277=\"\",\"\",COUNTIF($K$7:K4277,\"ﾘｽﾄ１\"))","v":""},"","","","","","","",{"$f":"IF(S4277=\"\",\"\",COUNTIF($S$7:S4277,\"該当２\"))","v":""},"","",{"$f":"IF(V4277=\"\",\"\",COUNTIF($V$7:V4277,\"該当３\"))","v":""}]
[852104015,8,521,{"v":4,"d":"04"},{"v":15,"d":"015 "},"茨城県","八千代町","安静村","山ノ神",null,"","",{"$f":"IF(K4278=\"\",\"\",COUNTIF($K$7:K4278,\"ﾘｽﾄ１\"))","v":""},"","","","","","","",{"$f":"IF(S4278=\"\",\"\",COUNTIF($S$7:S4278,\"該当２\"))","v":""},"","",{"$f":"IF(V4278=\"\",\"\",COUNTIF($V$7:V4278,\"該当３\"))","v":""}]
[852105000,8,521,{"v":4,"d":"04"},{"v":0,"d":"000 "},"茨城県","八千代町","下結城村",null,null,"","",{"$f":"IF(K4279=\"\",\"\",COUNTIF($K$7:K4279,\"ﾘｽﾄ１\"))","v":""},"","","","","","","",{"$f":"IF(S4279=\"\",\"\",COUNTIF($S$7:S4279,\"該当２\"))","v":""},"","",{"$f":"IF(V4279=\"\",\"\",COUNTIF($V$7:V4279,\"該当３\"))","v":""}]
[852105001,8,521,{"v":4,"d":"04"},{"v":1,"d":"001 "},"茨城県","八千代町","下結城村","本田",null,"","",{"$f":"IF(K4280=\"\",\"\",COUNTIF($K$7:K4280,\"ﾘｽﾄ１\"))","v":""},"","","","","","","",{"$f":"IF(S4280=\"\",\"\",COUNTIF($S$7:S4280,\"該当２\"))","v":""},"","",{"$f":"IF(V4280=\"\",\"\",COUNTIF($V$7:V4280,\"該当３\"))","v":""}]
[852105002,8,521,{"v":4,"d":"04"},{"v":2,"d":"002 "},"茨城県","八千代町","下結城村","前山",null,"","",{"$f":"IF(K4281=\"\",\"\",COUNTIF($K$7:K4281,\"ﾘｽﾄ１\"))","v":""},"","","","","","","",{"$f":"IF(S4281=\"\",\"\",COUNTIF($S$7:S4281,\"該当２\"))","v":""},"","",{"$f":"IF(V4281=\"\",\"\",COUNTIF($V$7:V4281,\"該当３\"))","v":""}]
[852105003,8,521,{"v":4,"d":"04"},{"v":3,"d":"003 "},"茨城県","八千代町","下結城村","松山",null,"","",{"$f":"IF(K4282=\"\",\"\",COUNTIF($K$7:K4282,\"ﾘｽﾄ１\"))","v":""},"","","","","","","",{"$f":"IF(S4282=\"\",\"\",COUNTIF($S$7:S4282,\"該当２\"))","v":""},"","",{"$f":"IF(V4282=\"\",\"\",COUNTIF($V$7:V4282,\"該当３\"))","v":""}]
[852105004,8,521,{"v":4,"d":"04"},{"v":4,"d":"004 "},"茨城県","八千代町","下結城村","天王木番田",null,"","",{"$f":"IF(K4283=\"\",\"\",COUNTIF($K$7:K4283,\"ﾘｽﾄ１\"))","v":""},"","","","","","","",{"$f":"IF(S4283=\"\",\"\",COUNTIF($S$7:S4283,\"該当２\"))","v":""},"","",{"$f":"IF(V4283=\"\",\"\",COUNTIF($V$7:V4283,\"該当３\"))","v":""}]
[852105005,8,521,{"v":4,"d":"04"},{"v":5,"d":"005 "},"茨城県","八千代町","下結城村","築越六軒",null,"","",{"$f":"IF(K4284=\"\",\"\",COUNTIF($K$7:K4284,\"ﾘｽﾄ１\"))","v":""},"","","","","","","",{"$f":"IF(S4284=\"\",\"\",COUNTIF($S$7:S4284,\"該当２\"))","v":""},"","",{"$f":"IF(V4284=\"\",\"\",COUNTIF($V$7:V4284,\"該当３\"))","v":""}]
[852105006,8,521,{"v":4,"d":"04"},{"v":6,"d":"006 "},"茨城県","八千代町","下結城村","二ツ釜",null,"","",{"$f":"IF(K4285=\"\",\"\",COUNTIF($K$7:K4285,\"ﾘｽﾄ１\"))","v":""},"","","","","","","",{"$f":"IF(S4285=\"\",\"\",COUNTIF($S$7:S4285,\"該当２\"))","v":""},"","",{"$f":"IF(V4285=\"\",\"\",COUNTIF($V$7:V4285,\"該当３\"))","v":""}]
[852105007,8,521,{"v":4,"d":"04"},{"v":7,"d":"007 "},"茨城県","八千代町","下結城村","道前六保",null,"","",{"$f":"IF(K4286=\"\",\"\",COUNTIF($K$7:K4286,\"ﾘｽﾄ１\"))","v":""},"","","","","","","",{"$f":"IF(S4286=\"\",\"\",COUNTIF($S$7:S4286,\"該当２\"))","v":""},"","",{"$f":"IF(V4286=\"\",\"\",COUNTIF($V$7:V4286,\"該当３\"))","v":""}]
[852105008,8,521,{"v":4,"d":"04"},{"v":8,"d":"008 "},"茨城県","八千代町","下結城村","平塚新田",null,"","",{"$f":"IF(K4287=\"\",\"\",COUNTIF($K$7:K4287,\"ﾘｽﾄ１\"))","v":""},"","","","","","","",{"$f":"IF(S4287=\"\",\"\",COUNTIF($S$7:S4287,\"該当２\"))","v":""},"","",{"$f":"IF(V4287=\"\",\"\",COUNTIF($V$7:V4287,\"該当３\"))","v":""}]
[852105009,8,521,{"v":4,"d":"04"},{"v":9,"d":"009 "},"茨城県","八千代町","下結城村","水口",null,"","",{"$f":"IF(K4288=\"\",\"\",COUNTIF($K$7:K4288,\"ﾘｽﾄ１\"))","v":""},"","","","","","","",{"$f":"IF(S4288=\"\",\"\",COUNTIF($S$7:S4288,\"該当２\"))","v":""},"","",{"$f":"IF(V4288=\"\",\"\",COUNTIF($V$7:V4288,\"該当３\"))","v":""}]
[852105010,8,521,{"v":4,"d":"04"},{"v":10,"d":"010 "},"茨城県","八千代町","下結城村","松本",null,"","",{"$f":"IF(K4289=\"\",\"\",COUNTIF($K$7:K4289,\"ﾘｽﾄ１\"))","v":""},"","","","","","","",{"$f":"IF(S4289=\"\",\"\",COUNTIF($S$7:S4289,\"該当２\"))","v":""},"","",{"$f":"IF(V4289=\"\",\"\",COUNTIF($V$7:V4289,\"該当３\"))","v":""}]
[852105011,8,521,{"v":4,"d":"04"},{"v":11,"d":"011 "},"茨城県","八千代町","下結城村","大戸",null,"","",{"$f":"IF(K4290=\"\",\"\",COUNTIF($K$7:K4290,\"ﾘｽﾄ１\"))","v":""},"","","","","","","",{"$f":"IF(S4290=\"\",\"\",COUNTIF($S$7:S4290,\"該当２\"))","v":""},"","",{"$f":"IF(V4290=\"\",\"\",COUNTIF($V$7:V4290,\"該当３\"))","v":""}]
[852105012,8,521,{"v":4,"d":"04"},{"v":12,"d":"012 "},"茨城県","八千代町","下結城村","札野",null,"","",{"$f":"IF(K4291=\"\",\"\",COUNTIF($K$7:K4291,\"ﾘｽﾄ１\"))","v":""},"","","","","","","",{"$f":"IF(S4291=\"\",\"\",COUNTIF($S$7:S4291,\"該当２\"))","v":""},"","",{"$f":"IF(V4291=\"\",\"\",COUNTIF($V$7:V4291,\"該当３\"))","v":""}]
[852106000,8,521,{"v":4,"d":"04"},{"v":0,"d":"000 "},"茨城県","八千代町","名崎村２－２",null,null,"","",{"$f":"IF(K4292=\"\",\"\",COUNTIF($K$7:K4292,\"ﾘｽﾄ１\"))","v":""},"","","","","","","",{"$f":"IF(S4292=\"\",\"\",COUNTIF($S$7:S4292,\"該当２\"))","v":""},"","",{"$f":"IF(V4292=\"\",\"\",COUNTIF($V$7:V4292,\"該当３\"))","v":""}]
[852106001,8,521,{"v":4,"d":"04"},{"v":1,"d":"001 "},"茨城県","八千代町","名崎村２－２","成田",null,"","",{"$f":"IF(K4293=\"\",\"\",COUNTIF($K$7:K4293,\"ﾘｽﾄ１\"))","v":""},"","","","","","","",{"$f":"IF(S4293=\"\",\"\",COUNTIF($S$7:S4293,\"該当２\"))","v":""},"","",{"$f":"IF(V4293=\"\",\"\",COUNTIF($V$7:V4293,\"該当３\"))","v":""}]
[854200000,8,542,{"v":4,"d":"04"},{"v":0,"d":"000 "},"茨城県","五霞町",{"$nulls":3},{"$f":"IF(AND($C4294>0,$H4294=\"\"),\"ﾘｽﾄ１\",\"\")","v":"ﾘｽﾄ１"},"五霞町",{"$f":"IF(K4294=\"\",\"\",COUNTIF($K$7:K4294,\"ﾘｽﾄ１\"))","v":42},{"$f":"IF(AND(D4294=0,E4294>0),\"同一区\",\"\")","v":""},"","",{"$f":"IF(O4294=\"該当１\",\"ﾘｽﾄ2\",\"\")","v":""},{"$f":"IF(Q4294=\"ﾘｽﾄ2\",H4294,\"\")","v":""},{"$f":"IF(AND(Q4294=\"ﾘｽﾄ2\",OR(I4294=0,AND(N4294=\"同一区\",E4294=1))),\"該当２\",\"\")","v":""},"",{"$f":"IF(S4294=\"\",\"\",COUNTIF($S$7:S4294,\"該当２\"))","v":""},{"$f":"IF(AND($S$2=H4294,E4294>0,E4294<998),\"該当３\",\"\")","v":""},"",{"$f":"IF(V4294=\"\",\"\",COUNTIF($V$7:V4294,\"該当３\"))","v":""}]
[854200000,8,542,{"v":4,"d":"04"},{"v":0,"d":"000 "},"茨城県","五霞町","（五霞町）",null,null,{"$f":"IF(AND($C4295>0,$H4295=\"\"),\"ﾘｽﾄ１\",\"\")","v":""},{"$f":"IF(K4295=\"ﾘｽﾄ１\",G4295,\"\")","v":""},{"$f":"IF(K4295=\"\",\"\",COUNTIF($K$7:K4295,\"ﾘｽﾄ１\"))","v":""},{"$f":"IF(AND(D4295=0,E4295>0),\"同一区\",\"\")","v":""},{"$f":"IF(AND(EXACT($K$2,G4295),H4295>0),\"該当１\",\"\")","v":""},{"$f":"IF(O4295=\"該当１\",G4295,\"\")","v":""},"","",{"$f":"IF(AND(Q4295=\"ﾘｽﾄ2\",OR(I4295=0,AND(N4295=\"同一区\",E4295=1))),\"該当２\",\"\")","v":""},{"$f":"IF(S4295=\"該当２\",H4295,\"\")","v":""},{"$f":"IF(S4295=\"\",\"\",COUNTIF($S$7:S4295,\"該当２\"))","v":""},{"$f":"IF(AND($S$2=H4295,E4295>0,E4295<998),\"該当３\",\"\")","v":""},{"$f":"IF(V4295=\"該当３\",I4295,\"\")","v":""},{"$f":"IF(V4295=\"\",\"\",COUNTIF($V$7:V4295,\"該当３\"))","v":""}]
[854200001,8,542,{"v":4,"d":"04"},{"v":1,"d":"001 "},"茨城県","五霞町","（五霞町）","川妻",null,"","",{"$f":"IF(K4296=\"\",\"\",COUNTIF($K$7:K4296,\"ﾘｽﾄ１\"))","v":""},"","","","","",{"$f":"IF(AND(Q4296=\"ﾘｽﾄ2\",OR(I4296=0,AND(N4296=\"同一区\",E4296=1))),\"該当２\",\"\")","v":""},{"$f":"IF(S4296=\"該当２\",H4296,\"\")","v":""},{"$f":"IF(S4296=\"\",\"\",COUNTIF($S$7:S4296,\"該当２\"))","v":""},{"$f":"IF(AND($S$2=H4296,E4296>0,E4296<998),\"該当３\",\"\")","v":""},{"$f":"IF(V4296=\"該当３\",I4296,\"\")","v":""},{"$f":"IF(V4296=\"\",\"\",COUNTIF($V$7:V4296,\"該当３\"))","v":""}]
[854200002,8,542,{"v":4,"d":"04"},{"v":2,"d":"002 "},"茨城県","五霞町","（五霞町）","小手指",null,"","",{"$f":"IF(K4297=\"\",\"\",COUNTIF($K$7:K4297,\"ﾘｽﾄ１\"))","v":""},"","","","","","","",{"$f":"IF(S4297=\"\",\"\",COUNTIF($S$7:S4297,\"該当２\"))","v":""},"","",{"$f":"IF(V4297=\"\",\"\",COUNTIF($V$7:V4297,\"該当３\"))","v":""}]
[854200003,8,542,{"v":4,"d":"04"},{"v":3,"d":"003 "},"茨城県","五霞町","（五霞町）","両新田",null,"","",{"$f":"IF(K4298=\"\",\"\",COUNTIF($K$7:K4298,\"ﾘｽﾄ１\"))","v":""},"","","","","","","",{"$f":"IF(S4298=\"\",\"\",COUNTIF($S$7:S4298,\"該当２\"))","v":""},"","",{"$f":"IF(V4298=\"\",\"\",COUNTIF($V$7:V4298,\"該当３\"))","v":""}]
[854200004,8,542,{"v":4,"d":"04"},{"v":4,"d":"004 "},"茨城県","五霞町","（五霞町）","大福田",null,"","",{"$f":"IF(K4299=\"\",\"\",COUNTIF($K$7:K4299,\"ﾘｽﾄ１\"))","v":""},"","","","","","","",{"$f":"IF(S4299=\"\",\"\",COUNTIF($S$7:S4299,\"該当２\"))","v":""},"","",{"$f":"IF(V4299=\"\",\"\",COUNTIF($V$7:V4299,\"該当３\"))","v":""}]
[854200005,8,542,{"v":4,"d":"04"},{"v":5,"d":"005 "},"茨城県","五霞町","（五霞町）","小福田",null,"","",{"$f":"IF(K4300=\"\",\"\",COUNTIF($K$7:K4300,\"ﾘｽﾄ１\"))","v":""},"","","","","","","",{"$f":"IF(S4300=\"\",\"\",COUNTIF($S$7:S4300,\"該当２\"))","v":""},"","",{"$f":"IF(V4300=\"\",\"\",COUNTIF($V$7:V4300,\"該当３\"))","v":""}]
[854200006,8,542,{"v":4,"d":"04"},{"v":6,"d":"006 "},"茨城県","五霞町","（五霞町）","新幸谷",null,"","",{"$f":"IF(K4301=\"\",\"\",COUNTIF($K$7:K4301,\"ﾘｽﾄ１\"))","v":""},"","","","","","","",{"$f":"IF(S4301=\"\",\"\",COUNTIF($S$7:S4301,\"該当２\"))","v":""},"","",{"$f":"IF(V4301=\"\",\"\",COUNTIF($V$7:V4301,\"該当３\"))","v":""}]
[854200007,8,542,{"v":4,"d":"04"},{"v":7,"d":"007 "},"茨城県","五霞町","（五霞町）","堀之内",null,"","",{"$f":"IF(K4302=\"\",\"\",COUNTIF($K$7:K4302,\"ﾘｽﾄ１\"))","v":""},"","","","","","","",{"$f":"IF(S4302=\"\",\"\",COUNTIF($S$7:S4302,\"該当２\"))","v":""},"","",{"$f":"IF(V4302=\"\",\"\",COUNTIF($V$7:V4302,\"該当３\"))","v":""}]
[854200008,8,542,{"v":4,"d":"04"},{"v":8,"d":"008 "},"茨城県","五霞町","（五霞町）","元栗橋",null,"","",{"$f":"IF(K4303=\"\",\"\",COUNTIF($K$7:K4303,\"ﾘｽﾄ１\"))","v":""},"","","","","","","",{"$f":"IF(S4303=\"\",\"\",COUNTIF($S$7:S4303,\"該当２\"))","v":""},"","",{"$f":"IF(V4303=\"\",\"\",COUNTIF($V$7:V4303,\"該当３\"))","v":""}]
[854200009,8,542,{"v":4,"d":"04"},{"v":9,"d":"009 "},"茨城県","五霞町","（五霞町）","土与部",null,"","",{"$f":"IF(K4304=\"\",\"\",COUNTIF($K$7:K4304,\"ﾘｽﾄ１\"))","v":""},"","","","","","","",{"$f":"IF(S4304=\"\",\"\",COUNTIF($S$7:S4304,\"該当２\"))","v":""},"","",{"$f":"IF(V4304=\"\",\"\",COUNTIF($V$7:V4304,\"該当３\"))","v":""}]
[854200010,8,542,{"v":4,"d":"04"},{"v":10,"d":"010 "},"茨城県","五霞町","（五霞町）","冬木",null,"","",{"$f":"IF(K4305=\"\",\"\",COUNTIF($K$7:K4305,\"ﾘｽﾄ１\"))","v":""},"","","","","","","",{"$f":"IF(S4305=\"\",\"\",COUNTIF($S$7:S4305,\"該当２\"))","v":""},"","",{"$f":"IF(V4305=\"\",\"\",COUNTIF($V$7:V4305,\"該当３\"))","v":""}]
[854200011,8,542,{"v":4,"d":"04"},{"v":11,"d":"011 "},"茨城県","五霞町","（五霞町）","幸主",null,"","",{"$f":"IF(K4306=\"\",\"\",COUNTIF($K$7:K4306,\"ﾘｽﾄ１\"))","v":""},"","","","","","","",{"$f":"IF(S4306=\"\",\"\",COUNTIF($S$7:S4306,\"該当２\"))","v":""},"","",{"$f":"IF(V4306=\"\",\"\",COUNTIF($V$7:V4306,\"該当３\"))","v":""}]
[854200012,8,542,{"v":4,"d":"04"},{"v":12,"d":"012 "},"茨城県","五霞町","（五霞町）","江川",null,"","",{"$f":"IF(K4307=\"\",\"\",COUNTIF($K$7:K4307,\"ﾘｽﾄ１\"))","v":""},"","","","","","","",{"$f":"IF(S4307=\"\",\"\",COUNTIF($S$7:S4307,\"該当２\"))","v":""},"","",{"$f":"IF(V4307=\"\",\"\",COUNTIF($V$7:V4307,\"該当３\"))","v":""}]
[854200013,8,542,{"v":4,"d":"04"},{"v":13,"d":"013 "},"茨城県","五霞町","（五霞町）","山王",null,"","",{"$f":"IF(K4308=\"\",\"\",COUNTIF($K$7:K4308,\"ﾘｽﾄ１\"))","v":""},"","","","","","","",{"$f":"IF(S4308=\"\",\"\",COUNTIF($S$7:S4308,\"該当２\"))","v":""},"","",{"$f":"IF(V4308=\"\",\"\",COUNTIF($V$7:V4308,\"該当３\"))","v":""}]
[854200014,8,542,{"v":4,"d":"04"},{"v":14,"d":"014 "},"茨城県","五霞町","（五霞町）","山王山",null,"","",{"$f":"IF(K4309=\"\",\"\",COUNTIF($K$7:K4309,\"ﾘｽﾄ１\"))","v":""},"","","","","","","",{"$f":"IF(S4309=\"\",\"\",COUNTIF($S$7:S4309,\"該当２\"))","v":""},"","",{"$f":"IF(V4309=\"\",\"\",COUNTIF($V$7:V4309,\"該当３\"))","v":""}]
[854200015,8,542,{"v":4,"d":"04"},{"v":15,"d":"015 "},"茨城県","五霞町","（五霞町）","原宿台",null,"","",{"$f":"IF(K4310=\"\",\"\",COUNTIF($K$7:K4310,\"ﾘｽﾄ１\"))","v":""},"","","","","","","",{"$f":"IF(S4310=\"\",\"\",COUNTIF($S$7:S4310,\"該当２\"))","v":""},"","",{"$f":"IF(V4310=\"\",\"\",COUNTIF($V$7:V4310,\"該当３\"))","v":""}]
[854600000,8,546,{"v":4,"d":"04"},{"v":0,"d":"000 "},"茨城県","境町",{"$nulls":3},"ﾘｽﾄ１","境町",{"$f":"IF(K4311=\"\",\"\",COUNTIF($K$7:K4311,\"ﾘｽﾄ１\"))","v":43},"","","","","","",{"$f":"IF(S4311=\"該当２\",H4311,\"\")","v":""},{"$f":"IF(S4311=\"\",\"\",COUNTIF($S$7:S4311,\"該当２\"))","v":""},"","",{"$f":"IF(V4311=\"\",\"\",COUNTIF($V$7:V4311,\"該当３\"))","v":""}]
[854601000,8,546,{"v":4,"d":"04"},{"v":0,"d":"000 "},"茨城県","境町","境町（旧）",null,null,"","",{"$f":"IF(K4312=\"\",\"\",COUNTIF($K$7:K4312,\"ﾘｽﾄ１\"))","v":""},"","","","","","","",{"$f":"IF(S4312=\"\",\"\",COUNTIF($S$7:S4312,\"該当２\"))","v":""},"","",{"$f":"IF(V4312=\"\",\"\",COUNTIF($V$7:V4312,\"該当３\"))","v":""}]
[854601001,8,546,{"v":4,"d":"04"},{"v":1,"d":"001 "},"茨城県","境町","境町（旧）","第１農家組合",null,"","",{"$f":"IF(K4313=\"\",\"\",COUNTIF($K$7:K4313,\"ﾘｽﾄ１\"))","v":""},"","","","","","","",{"$f":"IF(S4313=\"\",\"\",COUNTIF($S$7:S4313,\"該当２\"))","v":""},"","",{"$f":"IF(V4313=\"\",\"\",COUNTIF($V$7:V4313,\"該当３\"))","v":""}]
[854601002,8,546,{"v":4,"d":"04"},{"v":2,"d":"002 "},"茨城県","境町","境町（旧）","第２農家組合",null,"","",{"$f":"IF(K4314=\"\",\"\",COUNTIF($K$7:K4314,\"ﾘｽﾄ１\"))","v":""},"","","","","","","",{"$f":"IF(S4314=\"\",\"\",COUNTIF($S$7:S4314,\"該当２\"))","v":""},"","",{"$f":"IF(V4314=\"\",\"\",COUNTIF($V$7:V4314,\"該当３\"))","v":""}]
[854601003,8,546,{"v":4,"d":"04"},{"v":3,"d":"003 "},"茨城県","境町","境町（旧）","第３農家組合",null,"","",{"$f":"IF(K4315=\"\",\"\",COUNTIF($K$7:K4315,\"ﾘｽﾄ１\"))","v":""},"","","","","","","",{"$f":"IF(S4315=\"\",\"\",COUNTIF($S$7:S4315,\"該当２\"))","v":""},"","",{"$f":"IF(V4315=\"\",\"\",COUNTIF($V$7:V4315,\"該当３\"))","v":""}]
[854601004,8,546,{"v":4,"d":"04"},{"v":4,"d":"004 "},"茨城県","境町","境町（旧）","第４農家組合",null,"","",{"$f":"IF(K4316=\"\",\"\",COUNTIF($K$7:K4316,\"ﾘｽﾄ１\"))","v":""},"","","","","","","",{"$f":"IF(S4316=\"\",\"\",COUNTIF($S$7:S4316,\"該当２\"))","v":""},"","",{"$f":"IF(V4316=\"\",\"\",COUNTIF($V$7:V4316,\"該当３\"))","v":""}]
[854601005,8,546,{"v":4,"d":"04"},{"v":5,"d":"005 "},"茨城県","境町","境町（旧）","第５農家組合",null,"","",{"$f":"IF(K4317=\"\",\"\",COUNTIF($K$7:K4317,\"ﾘｽﾄ１\"))","v":""},"","","","","","","",{"$f":"IF(S4317=\"\",\"\",COUNTIF($S$7:S4317,\"該当２\"))","v":""},"","",{"$f":"IF(V4317=\"\",\"\",COUNTIF($V$7:V4317,\"該当３\"))","v":""}]
[854601006,8,546,{"v":4,"d":"04"},{"v":6,"d":"006 "},"茨城県","境町","境町（旧）","第６農家組合",null,"","",{"$f":"IF(K4318=\"\",\"\",COUNTIF($K$7:K4318,\"ﾘｽﾄ１\"))","v":""},"","","","","","","",{"$f":"IF(S4318=\"\",\"\",COUNTIF($S$7:S4318,\"該当２\"))","v":""},"","",{"$f":"IF(V4318=\"\",\"\",COUNTIF($V$7:V4318,\"該当３\"))","v":""}]
[854601007,8,546,{"v":4,"d":"04"},{"v":7,"d":"007 "},"茨城県","境町","境町（旧）","第７農家組合",null,"","",{"$f":"IF(K4319=\"\",\"\",COUNTIF($K$7:K4319,\"ﾘｽﾄ１\"))","v":""},"","","","","","","",{"$f":"IF(S4319=\"\",\"\",COUNTIF($S$7:S4319,\"該当２\"))","v":""},"","",{"$f":"IF(V4319=\"\",\"\",COUNTIF($V$7:V4319,\"該当３\"))","v":""}]
[854601008,8,546,{"v":4,"d":"04"},{"v":8,"d":"008 "},"茨城県","境町","境町（旧）","第８農家組合",null,"","",{"$f":"IF(K4320=\"\",\"\",COUNTIF($K$7:K4320,\"ﾘｽﾄ１\"))","v":""},"","","","","","","",{"$f":"IF(S4320=\"\",\"\",COUNTIF($S$7:S4320,\"該当２\"))","v":""},"","",{"$f":"IF(V4320=\"\",\"\",COUNTIF($V$7:V4320,\"該当３\"))","v":""}]
[854601009,8,546,{"v":4,"d":"04"},{"v":9,"d":"009 "},"茨城県","境町","境町（旧）","第９農家組合",null,"","",{"$f":"IF(K4321=\"\",\"\",COUNTIF($K$7:K4321,\"ﾘｽﾄ１\"))","v":""},"","","","","","","",{"$f":"IF(S4321=\"\",\"\",COUNTIF($S$7:S4321,\"該当２\"))","v":""},"","",{"$f":"IF(V4321=\"\",\"\",COUNTIF($V$7:V4321,\"該当３\"))","v":""}]
[854601010,8,546,{"v":4,"d":"04"},{"v":10,"d":"010 "},"茨城県","境町","境町（旧）","第１０農家組合",null,"","",{"$f":"IF(K4322=\"\",\"\",COUNTIF($K$7:K4322,\"ﾘｽﾄ１\"))","v":""},"","","","","","","",{"$f":"IF(S4322=\"\",\"\",COUNTIF($S$7:S4322,\"該当２\"))","v":""},"","",{"$f":"IF(V4322=\"\",\"\",COUNTIF($V$7:V4322,\"該当３\"))","v":""}]
[854601011,8,546,{"v":4,"d":"04"},{"v":11,"d":"011 "},"茨城県","境町","境町（旧）","第１１農家組合",null,"","",{"$f":"IF(K4323=\"\",\"\",COUNTIF($K$7:K4323,\"ﾘｽﾄ１\"))","v":""},"","","","","","","",{"$f":"IF(S4323=\"\",\"\",COUNTIF($S$7:S4323,\"該当２\"))","v":""},"","",{"$f":"IF(V4323=\"\",\"\",COUNTIF($V$7:V4323,\"該当３\"))","v":""}]
[854602000,8,546,{"v":4,"d":"04"},{"v":0,"d":"000 "},"茨城県","境町","長田村",null,null,"","",{"$f":"IF(K4324=\"\",\"\",COUNTIF($K$7:K4324,\"ﾘｽﾄ１\"))","v":""},"","","","","","","",{"$f":"IF(S4324=\"\",\"\",COUNTIF($S$7:S4324,\"該当２\"))","v":""},"","",{"$f":"IF(V4324=\"\",\"\",COUNTIF($V$7:V4324,\"該当３\"))","v":""}]
[854602001,8,546,{"v":4,"d":"04"},{"v":1,"d":"001 "},"茨城県","境町","長田村","長井戸",null,"","",{"$f":"IF(K4325=\"\",\"\",COUNTIF($K$7:K4325,\"ﾘｽﾄ１\"))","v":""},"","","","","","","",{"$f":"IF(S4325=\"\",\"\",COUNTIF($S$7:S4325,\"該当２\"))","v":""},"","",{"$f":"IF(V4325=\"\",\"\",COUNTIF($V$7:V4325,\"該当３\"))","v":""}]
[854602002,8,546,{"v":4,"d":"04"},{"v":2,"d":"002 "},"茨城県","境町","長田村","猿山西部",null,"","",{"$f":"IF(K4326=\"\",\"\",COUNTIF($K$7:K4326,\"ﾘｽﾄ１\"))","v":""},"","","","","","","",{"$f":"IF(S4326=\"\",\"\",COUNTIF($S$7:S4326,\"該当２\"))","v":""},"","",{"$f":"IF(V4326=\"\",\"\",COUNTIF($V$7:V4326,\"該当３\"))","v":""}]
[854602003,8,546,{"v":4,"d":"04"},{"v":3,"d":"003 "},"茨城県","境町","長田村","猿山東部",null,"","",{"$f":"IF(K4327=\"\",\"\",COUNTIF($K$7:K4327,\"ﾘｽﾄ１\"))","v":""},"","","","","","","",{"$f":"IF(S4327=\"\",\"\",COUNTIF($S$7:S4327,\"該当２\"))","v":""},"","",{"$f":"IF(V4327=\"\",\"\",COUNTIF($V$7:V4327,\"該当３\"))","v":""}]
[854602004,8,546,{"v":4,"d":"04"},{"v":4,"d":"004 "},"茨城県","境町","長田村","下砂井",null,"","",{"$f":"IF(K4328=\"\",\"\",COUNTIF($K$7:K4328,\"ﾘｽﾄ１\"))","v":""},"","","","","","","",{"$f":"IF(S4328=\"\",\"\",COUNTIF($S$7:S4328,\"該当２\"))","v":""},"","",{"$f":"IF(V4328=\"\",\"\",COUNTIF($V$7:V4328,\"該当３\"))","v":""}]
[854602005,8,546,{"v":4,"d":"04"},{"v":5,"d":"005 "},"茨城県","境町","長田村","栗山",null,"","",{"$f":"IF(K4329=\"\",\"\",COUNTIF($K$7:K4329,\"ﾘｽﾄ１\"))","v":""},"","","","","","","",{"$f":"IF(S4329=\"\",\"\",COUNTIF($S$7:S4329,\"該当２\"))","v":""},"","",{"$f":"IF(V4329=\"\",\"\",COUNTIF($V$7:V4329,\"該当３\"))","v":""}]
[854602006,8,546,{"v":4,"d":"04"},{"v":6,"d":"006 "},"茨城県","境町","長田村","蛇池",null,"","",{"$f":"IF(K4330=\"\",\"\",COUNTIF($K$7:K4330,\"ﾘｽﾄ１\"))","v":""},"","","","","","","",{"$f":"IF(S4330=\"\",\"\",COUNTIF($S$7:S4330,\"該当２\"))","v":""},"","",{"$f":"IF(V4330=\"\",\"\",COUNTIF($V$7:V4330,\"該当３\"))","v":""}]
[854602007,8,546,{"v":4,"d":"04"},{"v":7,"d":"007 "},"茨城県","境町","長田村","西泉田",null,"","",{"$f":"IF(K4331=\"\",\"\",COUNTIF($K$7:K4331,\"ﾘｽﾄ１\"))","v":""},"","","","","","","",{"$f":"IF(S4331=\"\",\"\",COUNTIF($S$7:S4331,\"該当２\"))","v":""},"","",{"$f":"IF(V4331=\"\",\"\",COUNTIF($V$7:V4331,\"該当３\"))","v":""}]
[854602008,8,546,{"v":4,"d":"04"},{"v":8,"d":"008 "},"茨城県","境町","長田村","上小橋",null,"","",{"$f":"IF(K4332=\"\",\"\",COUNTIF($K$7:K4332,\"ﾘｽﾄ１\"))","v":""},"","","","","","","",{"$f":"IF(S4332=\"\",\"\",COUNTIF($S$7:S4332,\"該当２\"))","v":""},"","",{"$f":"IF(V4332=\"\",\"\",COUNTIF($V$7:V4332,\"該当３\"))","v":""}]
[854603000,8,546,{"v":4,"d":"04"},{"v":0,"d":"000 "},"茨城県","境町","猿島村",null,null,"","",{"$f":"IF(K4333=\"\",\"\",COUNTIF($K$7:K4333,\"ﾘｽﾄ１\"))","v":""},"","","","","","","",{"$f":"IF(S4333=\"\",\"\",COUNTIF($S$7:S4333,\"該当２\"))","v":""},"","",{"$f":"IF(V4333=\"\",\"\",COUNTIF($V$7:V4333,\"該当３\"))","v":""}]
[854603001,8,546,{"v":4,"d":"04"},{"v":1,"d":"001 "},"茨城県","境町","猿島村","金岡",null,"","",{"$f":"IF(K4334=\"\",\"\",COUNTIF($K$7:K4334,\"ﾘｽﾄ１\"))","v":""},"","","","","","","",{"$f":"IF(S4334=\"\",\"\",COUNTIF($S$7:S4334,\"該当２\"))","v":""},"","",{"$f":"IF(V4334=\"\",\"\",COUNTIF($V$7:V4334,\"該当３\"))","v":""}]
[854603002,8,546,{"v":4,"d":"04"},{"v":2,"d":"002 "},"茨城県","境町","猿島村","浦向",null,"","",{"$f":"IF(K4335=\"\",\"\",COUNTIF($K$7:K4335,\"ﾘｽﾄ１\"))","v":""},"","","","","","","",{"$f":"IF(S4335=\"\",\"\",COUNTIF($S$7:S4335,\"該当２\"))","v":""},"","",{"$f":"IF(V4335=\"\",\"\",COUNTIF($V$7:V4335,\"該当３\"))","v":""}]
[854603003,8,546,{"v":4,"d":"04"},{"v":3,"d":"003 "},"茨城県","境町","猿島村","下小橋",null,"","",{"$f":"IF(K4336=\"\",\"\",COUNTIF($K$7:K4336,\"ﾘｽﾄ１\"))","v":""},"","","","","","","",{"$f":"IF(S4336=\"\",\"\",COUNTIF($S$7:S4336,\"該当２\"))","v":""},"","",{"$f":"IF(V4336=\"\",\"\",COUNTIF($V$7:V4336,\"該当３\"))","v":""}]
[854603004,8,546,{"v":4,"d":"04"},{"v":4,"d":"004 "},"茨城県","境町","猿島村","染谷",null,"","",{"$f":"IF(K4337=\"\",\"\",COUNTIF($K$7:K4337,\"ﾘｽﾄ１\"))","v":""},"","","","","","","",{"$f":"IF(S4337=\"\",\"\",COUNTIF($S$7:S4337,\"該当２\"))","v":""},"","",{"$f":"IF(V4337=\"\",\"\",COUNTIF($V$7:V4337,\"該当３\"))","v":""}]
[854603005,8,546,{"v":4,"d":"04"},{"v":5,"d":"005 "},"茨城県","境町","猿島村","大歩",null,"","",{"$f":"IF(K4338=\"\",\"\",COUNTIF($K$7:K4338,\"ﾘｽﾄ１\"))","v":""},"","","","","","","",{"$f":"IF(S4338=\"\",\"\",COUNTIF($S$7:S4338,\"該当２\"))","v":""},"","",{"$f":"IF(V4338=\"\",\"\",COUNTIF($V$7:V4338,\"該当３\"))","v":""}]
[854603006,8,546,{"v":4,"d":"04"},{"v":6,"d":"006 "},"茨城県","境町","猿島村","中大歩",null,"","",{"$f":"IF(K4339=\"\",\"\",COUNTIF($K$7:K4339,\"ﾘｽﾄ１\"))","v":""},"","","","","","","",{"$f":"IF(S4339=\"\",\"\",COUNTIF($S$7:S4339,\"該当２\"))","v":""},"","",{"$f":"IF(V4339=\"\",\"\",COUNTIF($V$7:V4339,\"該当３\"))","v":""}]
[854603007,8,546,{"v":4,"d":"04"},{"v":7,"d":"007 "},"茨城県","境町","猿島村","内門本田",null,"","",{"$f":"IF(K4340=\"\",\"\",COUNTIF($K$7:K4340,\"ﾘｽﾄ１\"))","v":""},"","","","","","","",{"$f":"IF(S4340=\"\",\"\",COUNTIF($S$7:S4340,\"該当２\"))","v":""},"","",{"$f":"IF(V4340=\"\",\"\",COUNTIF($V$7:V4340,\"該当３\"))","v":""}]
[854603008,8,546,{"v":4,"d":"04"},{"v":8,"d":"008 "},"茨城県","境町","猿島村","内門新田",null,"","",{"$f":"IF(K4341=\"\",\"\",COUNTIF($K$7:K4341,\"ﾘｽﾄ１\"))","v":""},"","","","","","","",{"$f":"IF(S4341=\"\",\"\",COUNTIF($S$7:S4341,\"該当２\"))","v":""},"","",{"$f":"IF(V4341=\"\",\"\",COUNTIF($V$7:V4341,\"該当３\"))","v":""}]
[854603009,8,546,{"v":4,"d":"04"},{"v":9,"d":"009 "},"茨城県","境町","猿島村","井草新田",null,"","",{"$f":"IF(K4342=\"\",\"\",COUNTIF($K$7:K4342,\"ﾘｽﾄ１\"))","v":""},"","","","","","","",{"$f":"IF(S4342=\"\",\"\",COUNTIF($S$7:S4342,\"該当２\"))","v":""},"","",{"$f":"IF(V4342=\"\",\"\",COUNTIF($V$7:V4342,\"該当３\"))","v":""}]
[854603010,8,546,{"v":4,"d":"04"},{"v":10,"d":"010 "},"茨城県","境町","猿島村","井草本田",null,"","",{"$f":"IF(K4343=\"\",\"\",COUNTIF($K$7:K4343,\"ﾘｽﾄ１\"))","v":""},"","","","","","","",{"$f":"IF(S4343=\"\",\"\",COUNTIF($S$7:S4343,\"該当２\"))","v":""},"","",{"$f":"IF(V4343=\"\",\"\",COUNTIF($V$7:V4343,\"該当３\"))","v":""}]
[854603011,8,546,{"v":4,"d":"04"},{"v":11,"d":"011 "},"茨城県","境町","猿島村","七軒",null,"","",{"$f":"IF(K4344=\"\",\"\",COUNTIF($K$7:K4344,\"ﾘｽﾄ１\"))","v":""},"","","","","","","",{"$f":"IF(S4344=\"\",\"\",COUNTIF($S$7:S4344,\"該当２\"))","v":""},"","",{"$f":"IF(V4344=\"\",\"\",COUNTIF($V$7:V4344,\"該当３\"))","v":""}]
[854603012,8,546,{"v":4,"d":"04"},{"v":12,"d":"012 "},"茨城県","境町","猿島村","大房",null,"","",{"$f":"IF(K4345=\"\",\"\",COUNTIF($K$7:K4345,\"ﾘｽﾄ１\"))","v":""},"","","","","","","",{"$f":"IF(S4345=\"\",\"\",COUNTIF($S$7:S4345,\"該当２\"))","v":""},"","",{"$f":"IF(V4345=\"\",\"\",COUNTIF($V$7:V4345,\"該当３\"))","v":""}]
[854603013,8,546,{"v":4,"d":"04"},{"v":13,"d":"013 "},"茨城県","境町","猿島村","内門喜五郎",null,"","",{"$f":"IF(K4346=\"\",\"\",COUNTIF($K$7:K4346,\"ﾘｽﾄ１\"))","v":""},"","","","","","","",{"$f":"IF(S4346=\"\",\"\",COUNTIF($S$7:S4346,\"該当２\"))","v":""},"","",{"$f":"IF(V4346=\"\",\"\",COUNTIF($V$7:V4346,\"該当３\"))","v":""}]
[854603014,8,546,{"v":4,"d":"04"},{"v":14,"d":"014 "},"茨城県","境町","猿島村","大歩喜五郎",null,"","",{"$f":"IF(K4347=\"\",\"\",COUNTIF($K$7:K4347,\"ﾘｽﾄ１\"))","v":""},"","","","","","","",{"$f":"IF(S4347=\"\",\"\",COUNTIF($S$7:S4347,\"該当２\"))","v":""},"","",{"$f":"IF(V4347=\"\",\"\",COUNTIF($V$7:V4347,\"該当３\"))","v":""}]
[854603015,8,546,{"v":4,"d":"04"},{"v":15,"d":"015 "},"茨城県","境町","猿島村","山崎北部",null,"","",{"$f":"IF(K4348=\"\",\"\",COUNTIF($K$7:K4348,\"ﾘｽﾄ１\"))","v":""},"","","","","","","",{"$f":"IF(S4348=\"\",\"\",COUNTIF($S$7:S4348,\"該当２\"))","v":""},"","",{"$f":"IF(V4348=\"\",\"\",COUNTIF($V$7:V4348,\"該当３\"))","v":""}]
[854603016,8,546,{"v":4,"d":"04"},{"v":16,"d":"016 "},"茨城県","境町","猿島村","山崎南部",null,"","",{"$f":"IF(K4349=\"\",\"\",COUNTIF($K$7:K4349,\"ﾘｽﾄ１\"))","v":""},"","","","","","","",{"$f":"IF(S4349=\"\",\"\",COUNTIF($S$7:S4349,\"該当２\"))","v":""},"","",{"$f":"IF(V4349=\"\",\"\",COUNTIF($V$7:V4349,\"該当３\"))","v":""}]
[854604000,8,546,{"v":4,"d":"04"},{"v":0,"d":"000 "},"茨城県","境町","森戸村",null,null,"","",{"$f":"IF(K4350=\"\",\"\",COUNTIF($K$7:K4350,\"ﾘｽﾄ１\"))","v":""},"","","","","","","",{"$f":"IF(S4350=\"\",\"\",COUNTIF($S$7:S4350,\"該当２\"))","v":""},"","",{"$f":"IF(V4350=\"\",\"\",COUNTIF($V$7:V4350,\"該当３\"))","v":""}]
[854604001,8,546,{"v":4,"d":"04"},{"v":1,"d":"001 "},"茨城県","境町","森戸村","北部",null,"","",{"$f":"IF(K4351=\"\",\"\",COUNTIF($K$7:K4351,\"ﾘｽﾄ１\"))","v":""},"","","","","","","",{"$f":"IF(S4351=\"\",\"\",COUNTIF($S$7:S4351,\"該当２\"))","v":""},"","",{"$f":"IF(V4351=\"\",\"\",COUNTIF($V$7:V4351,\"該当３\"))","v":""}]
[854604002,8,546,{"v":4,"d":"04"},{"v":2,"d":"002 "},"茨城県","境町","森戸村","関根",null,"","",{"$f":"IF(K4352=\"\",\"\",COUNTIF($K$7:K4352,\"ﾘｽﾄ１\"))","v":""},"","","","","","","",{"$f":"IF(S4352=\"\",\"\",COUNTIF($S$7:S4352,\"該当２\"))","v":""},"","",{"$f":"IF(V4352=\"\",\"\",COUNTIF($V$7:V4352,\"該当３\"))","v":""}]
[854604003,8,546,{"v":4,"d":"04"},{"v":3,"d":"003 "},"茨城県","境町","森戸村","辻",null,"","",{"$f":"IF(K4353=\"\",\"\",COUNTIF($K$7:K4353,\"ﾘｽﾄ１\"))","v":""},"","","","","","","",{"$f":"IF(S4353=\"\",\"\",COUNTIF($S$7:S4353,\"該当２\"))","v":""},"","",{"$f":"IF(V4353=\"\",\"\",COUNTIF($V$7:V4353,\"該当３\"))","v":""}]
[854604004,8,546,{"v":4,"d":"04"},{"v":4,"d":"004 "},"茨城県","境町","森戸村","宿馬場",null,"","",{"$f":"IF(K4354=\"\",\"\",COUNTIF($K$7:K4354,\"ﾘｽﾄ１\"))","v":""},"","","","","","","",{"$f":"IF(S4354=\"\",\"\",COUNTIF($S$7:S4354,\"該当２\"))","v":""},"","",{"$f":"IF(V4354=\"\",\"\",COUNTIF($V$7:V4354,\"該当３\"))","v":""}]
[854604005,8,546,{"v":4,"d":"04"},{"v":5,"d":"005 "},"茨城県","境町","森戸村","荒井",null,"","",{"$f":"IF(K4355=\"\",\"\",COUNTIF($K$7:K4355,\"ﾘｽﾄ１\"))","v":""},"","","","","","","",{"$f":"IF(S4355=\"\",\"\",COUNTIF($S$7:S4355,\"該当２\"))","v":""},"","",{"$f":"IF(V4355=\"\",\"\",COUNTIF($V$7:V4355,\"該当３\"))","v":""}]
[854604006,8,546,{"v":4,"d":"04"},{"v":6,"d":"006 "},"茨城県","境町","森戸村","荒井新田",null,"","",{"$f":"IF(K4356=\"\",\"\",COUNTIF($K$7:K4356,\"ﾘｽﾄ１\"))","v":""},"","","","","","","",{"$f":"IF(S4356=\"\",\"\",COUNTIF($S$7:S4356,\"該当２\"))","v":""},"","",{"$f":"IF(V4356=\"\",\"\",COUNTIF($V$7:V4356,\"該当３\"))","v":""}]
[854604007,8,546,{"v":4,"d":"04"},{"v":7,"d":"007 "},"茨城県","境町","森戸村","榎戸",null,"","",{"$f":"IF(K4357=\"\",\"\",COUNTIF($K$7:K4357,\"ﾘｽﾄ１\"))","v":""},"","","","","","","",{"$f":"IF(S4357=\"\",\"\",COUNTIF($S$7:S4357,\"該当２\"))","v":""},"","",{"$f":"IF(V4357=\"\",\"\",COUNTIF($V$7:V4357,\"該当３\"))","v":""}]
[854604008,8,546,{"v":4,"d":"04"},{"v":8,"d":"008 "},"茨城県","境町","森戸村","西原",null,"","",{"$f":"IF(K4358=\"\",\"\",COUNTIF($K$7:K4358,\"ﾘｽﾄ１\"))","v":""},"","","",{"$f":"IF(O4358=\"該当１\",\"ﾘｽﾄ2\",\"\")","v":""},{"$f":"IF(Q4358=\"ﾘｽﾄ2\",H4358,\"\")","v":""},"","",{"$f":"IF(S4358=\"\",\"\",COUNTIF($S$7:S4358,\"該当２\"))","v":""},"","",{"$f":"IF(V4358=\"\",\"\",COUNTIF($V$7:V4358,\"該当３\"))","v":""}]
[854604009,8,546,{"v":4,"d":"04"},{"v":9,"d":"009 "},"茨城県","境町","森戸村","一の谷",null,{"$f":"IF(AND($C4359>0,$H4359=\"\"),\"ﾘｽﾄ１\",\"\")","v":""},{"$f":"IF(K4359=\"ﾘｽﾄ１\",G4359,\"\")","v":""},{"$f":"IF(K4359=\"\",\"\",COUNTIF($K$7:K4359,\"ﾘｽﾄ１\"))","v":""},{"$f":"IF(AND(D4359=0,E4359>0),\"同一区\",\"\")","v":""},{"$f":"IF(AND(EXACT($K$2,G4359),H4359>0),\"該当１\",\"\")","v":""},{"$f":"IF(O4359=\"該当１\",G4359,\"\")","v":""},"","","","",{"$f":"IF(S4359=\"\",\"\",COUNTIF($S$7:S4359,\"該当２\"))","v":""},"","",{"$f":"IF(V4359=\"\",\"\",COUNTIF($V$7:V4359,\"該当３\"))","v":""}]
[854604010,8,546,{"v":4,"d":"04"},{"v":10,"d":"010 "},"茨城県","境町","森戸村","間ケ田",null,"","",{"$f":"IF(K4360=\"\",\"\",COUNTIF($K$7:K4360,\"ﾘｽﾄ１\"))","v":""},"","","","","",{"$f":"IF(AND(Q4360=\"ﾘｽﾄ2\",OR(I4360=0,AND(N4360=\"同一区\",E4360=1))),\"該当２\",\"\")","v":""},{"$f":"IF(S4360=\"該当２\",H4360,\"\")","v":""},{"$f":"IF(S4360=\"\",\"\",COUNTIF($S$7:S4360,\"該当２\"))","v":""},{"$f":"IF(AND($S$2=H4360,E4360>0,E4360<998),\"該当３\",\"\")","v":""},{"$f":"IF(V4360=\"該当３\",I4360,\"\")","v":""},{"$f":"IF(V4360=\"\",\"\",COUNTIF($V$7:V4360,\"該当３\"))","v":""}]
[854604011,8,546,{"v":4,"d":"04"},{"v":11,"d":"011 "},"茨城県","境町","森戸村","寺前",null,"","",{"$f":"IF(K4361=\"\",\"\",COUNTIF($K$7:K4361,\"ﾘｽﾄ１\"))","v":""},"","","","","","","",{"$f":"IF(S4361=\"\",\"\",COUNTIF($S$7:S4361,\"該当２\"))","v":""},"","",{"$f":"IF(V4361=\"\",\"\",COUNTIF($V$7:V4361,\"該当３\"))","v":""}]
[854604012,8,546,{"v":4,"d":"04"},{"v":12,"d":"012 "},"茨城県","境町","森戸村","下坪",null,"","",{"$f":"IF(K4362=\"\",\"\",COUNTIF($K$7:K4362,\"ﾘｽﾄ１\"))","v":""},"","","","","","","",{"$f":"IF(S4362=\"\",\"\",COUNTIF($S$7:S4362,\"該当２\"))","v":""},"","",{"$f":"IF(V4362=\"\",\"\",COUNTIF($V$7:V4362,\"該当３\"))","v":""}]
[854604013,8,546,{"v":4,"d":"04"},{"v":13,"d":"013 "},"茨城県","境町","森戸村","蓮台",null,"","",{"$f":"IF(K4363=\"\",\"\",COUNTIF($K$7:K4363,\"ﾘｽﾄ１\"))","v":""},"","","","","","","",{"$f":"IF(S4363=\"\",\"\",COUNTIF($S$7:S4363,\"該当２\"))","v":""},"","",{"$f":"IF(V4363=\"\",\"\",COUNTIF($V$7:V4363,\"該当３\"))","v":""}]
[854604014,8,546,{"v":4,"d":"04"},{"v":14,"d":"014 "},"茨城県","境町","森戸村","新田",null,"","",{"$f":"IF(K4364=\"\",\"\",COUNTIF($K$7:K4364,\"ﾘｽﾄ１\"))","v":""},"","","","","","","",{"$f":"IF(S4364=\"\",\"\",COUNTIF($S$7:S4364,\"該当２\"))","v":""},"","",{"$f":"IF(V4364=\"\",\"\",COUNTIF($V$7:V4364,\"該当３\"))","v":""}]
[854604015,8,546,{"v":4,"d":"04"},{"v":15,"d":"015 "},"茨城県","境町","森戸村","本田",null,"","",{"$f":"IF(K4365=\"\",\"\",COUNTIF($K$7:K4365,\"ﾘｽﾄ１\"))","v":""},"","","","","","","",{"$f":"IF(S4365=\"\",\"\",COUNTIF($S$7:S4365,\"該当２\"))","v":""},"","",{"$f":"IF(V4365=\"\",\"\",COUNTIF($V$7:V4365,\"該当３\"))","v":""}]
[854604016,8,546,{"v":4,"d":"04"},{"v":16,"d":"016 "},"茨城県","境町","森戸村","桐ケ作",null,"","",{"$f":"IF(K4366=\"\",\"\",COUNTIF($K$7:K4366,\"ﾘｽﾄ１\"))","v":""},"","","","","","","",{"$f":"IF(S4366=\"\",\"\",COUNTIF($S$7:S4366,\"該当２\"))","v":""},"","",{"$f":"IF(V4366=\"\",\"\",COUNTIF($V$7:V4366,\"該当３\"))","v":""}]
[854604017,8,546,{"v":4,"d":"04"},{"v":17,"d":"017 "},"茨城県","境町","森戸村","新田戸",null,"","",{"$f":"IF(K4367=\"\",\"\",COUNTIF($K$7:K4367,\"ﾘｽﾄ１\"))","v":""},"","","","","","","",{"$f":"IF(S4367=\"\",\"\",COUNTIF($S$7:S4367,\"該当２\"))","v":""},"","",{"$f":"IF(V4367=\"\",\"\",COUNTIF($V$7:V4367,\"該当３\"))","v":""}]
[854605000,8,546,{"v":4,"d":"04"},{"v":0,"d":"000 "},"茨城県","境町","静村",null,null,"","",{"$f":"IF(K4368=\"\",\"\",COUNTIF($K$7:K4368,\"ﾘｽﾄ１\"))","v":""},"","","","","","","",{"$f":"IF(S4368=\"\",\"\",COUNTIF($S$7:S4368,\"該当２\"))","v":""},"","",{"$f":"IF(V4368=\"\",\"\",COUNTIF($V$7:V4368,\"該当３\"))","v":""}]
[854605001,8,546,{"v":4,"d":"04"},{"v":1,"d":"001 "},"茨城県","境町","静村","正面",null,"","",{"$f":"IF(K4369=\"\",\"\",COUNTIF($K$7:K4369,\"ﾘｽﾄ１\"))","v":""},"","","","","","","",{"$f":"IF(S4369=\"\",\"\",COUNTIF($S$7:S4369,\"該当２\"))","v":""},"","",{"$f":"IF(V4369=\"\",\"\",COUNTIF($V$7:V4369,\"該当３\"))","v":""}]
[854605002,8,546,{"v":4,"d":"04"},{"v":2,"d":"002 "},"茨城県","境町","静村","新田",null,"","",{"$f":"IF(K4370=\"\",\"\",COUNTIF($K$7:K4370,\"ﾘｽﾄ１\"))","v":""},"","","","","","","",{"$f":"IF(S4370=\"\",\"\",COUNTIF($S$7:S4370,\"該当２\"))","v":""},"","",{"$f":"IF(V4370=\"\",\"\",COUNTIF($V$7:V4370,\"該当３\"))","v":""}]
[854605003,8,546,{"v":4,"d":"04"},{"v":3,"d":"003 "},"茨城県","境町","静村","本田",null,"","",{"$f":"IF(K4371=\"\",\"\",COUNTIF($K$7:K4371,\"ﾘｽﾄ１\"))","v":""},"","","","","","","",{"$f":"IF(S4371=\"\",\"\",COUNTIF($S$7:S4371,\"該当２\"))","v":""},"","",{"$f":"IF(V4371=\"\",\"\",COUNTIF($V$7:V4371,\"該当３\"))","v":""}]
[854605004,8,546,{"v":4,"d":"04"},{"v":4,"d":"004 "},"茨城県","境町","静村","上坪",null,"","",{"$f":"IF(K4372=\"\",\"\",COUNTIF($K$7:K4372,\"ﾘｽﾄ１\"))","v":""},"","","","","","","",{"$f":"IF(S4372=\"\",\"\",COUNTIF($S$7:S4372,\"該当２\"))","v":""},"","",{"$f":"IF(V4372=\"\",\"\",COUNTIF($V$7:V4372,\"該当３\"))","v":""}]
[854605005,8,546,{"v":4,"d":"04"},{"v":5,"d":"005 "},"茨城県","境町","静村","六軒",null,"","",{"$f":"IF(K4373=\"\",\"\",COUNTIF($K$7:K4373,\"ﾘｽﾄ１\"))","v":""},"","","","","","","",{"$f":"IF(S4373=\"\",\"\",COUNTIF($S$7:S4373,\"該当２\"))","v":""},"","",{"$f":"IF(V4373=\"\",\"\",COUNTIF($V$7:V4373,\"該当３\"))","v":""}]
[854605006,8,546,{"v":4,"d":"04"},{"v":6,"d":"006 "},"茨城県","境町","静村","横塚",null,"","",{"$f":"IF(K4374=\"\",\"\",COUNTIF($K$7:K4374,\"ﾘｽﾄ１\"))","v":""},"","","","","","","",{"$f":"IF(S4374=\"\",\"\",COUNTIF($S$7:S4374,\"該当２\"))","v":""},"","",{"$f":"IF(V4374=\"\",\"\",COUNTIF($V$7:V4374,\"該当３\"))","v":""}]
[854605007,8,546,{"v":4,"d":"04"},{"v":7,"d":"007 "},"茨城県","境町","静村","志鳥",null,"","",{"$f":"IF(K4375=\"\",\"\",COUNTIF($K$7:K4375,\"ﾘｽﾄ１\"))","v":""},"","","","","","","",{"$f":"IF(S4375=\"\",\"\",COUNTIF($S$7:S4375,\"該当２\"))","v":""},"","",{"$f":"IF(V4375=\"\",\"\",COUNTIF($V$7:V4375,\"該当３\"))","v":""}]
[854605008,8,546,{"v":4,"d":"04"},{"v":8,"d":"008 "},"茨城県","境町","静村","稲尾",null,"","",{"$f":"IF(K4376=\"\",\"\",COUNTIF($K$7:K4376,\"ﾘｽﾄ１\"))","v":""},"","","","","","","",{"$f":"IF(S4376=\"\",\"\",COUNTIF($S$7:S4376,\"該当２\"))","v":""},"","",{"$f":"IF(V4376=\"\",\"\",COUNTIF($V$7:V4376,\"該当３\"))","v":""}]
[856400000,8,564,{"v":4,"d":"04"},{"v":0,"d":"000 "},"茨城県","利根町",{"$nulls":3},"ﾘｽﾄ１","利根町",{"$f":"IF(K4377=\"\",\"\",COUNTIF($K$7:K4377,\"ﾘｽﾄ１\"))","v":44},"","","","","","","",{"$f":"IF(S4377=\"\",\"\",COUNTIF($S$7:S4377,\"該当２\"))","v":""},"","",{"$f":"IF(V4377=\"\",\"\",COUNTIF($V$7:V4377,\"該当３\"))","v":""}]
[856401000,8,564,{"v":4,"d":"04"},{"v":0,"d":"000 "},"茨城県","利根町","布川町",null,null,"","",{"$f":"IF(K4378=\"\",\"\",COUNTIF($K$7:K4378,\"ﾘｽﾄ１\"))","v":""},"","","","","","","",{"$f":"IF(S4378=\"\",\"\",COUNTIF($S$7:S4378,\"該当２\"))","v":""},"","",{"$f":"IF(V4378=\"\",\"\",COUNTIF($V$7:V4378,\"該当３\"))","v":""}]
[856401001,8,564,{"v":4,"d":"04"},{"v":1,"d":"001 "},"茨城県","利根町","布川町","押付本田",null,"","",{"$f":"IF(K4379=\"\",\"\",COUNTIF($K$7:K4379,\"ﾘｽﾄ１\"))","v":""},"","","","","","","",{"$f":"IF(S4379=\"\",\"\",COUNTIF($S$7:S4379,\"該当２\"))","v":""},"","",{"$f":"IF(V4379=\"\",\"\",COUNTIF($V$7:V4379,\"該当３\"))","v":""}]
[856401002,8,564,{"v":4,"d":"04"},{"v":2,"d":"002 "},"茨城県","利根町","布川町","内宿",null,"","",{"$f":"IF(K4380=\"\",\"\",COUNTIF($K$7:K4380,\"ﾘｽﾄ１\"))","v":""},"","","","","","","",{"$f":"IF(S4380=\"\",\"\",COUNTIF($S$7:S4380,\"該当２\"))","v":""},"","",{"$f":"IF(V4380=\"\",\"\",COUNTIF($V$7:V4380,\"該当３\"))","v":""}]
[856401003,8,564,{"v":4,"d":"04"},{"v":3,"d":"003 "},"茨城県","利根町","布川町","上柳宿",null,"","",{"$f":"IF(K4381=\"\",\"\",COUNTIF($K$7:K4381,\"ﾘｽﾄ１\"))","v":""},"","","","","","","",{"$f":"IF(S4381=\"\",\"\",COUNTIF($S$7:S4381,\"該当２\"))","v":""},"","",{"$f":"IF(V4381=\"\",\"\",COUNTIF($V$7:V4381,\"該当３\"))","v":""}]
[856401004,8,564,{"v":4,"d":"04"},{"v":4,"d":"004 "},"茨城県","利根町","布川町","下柳宿",null,"","",{"$f":"IF(K4382=\"\",\"\",COUNTIF($K$7:K4382,\"ﾘｽﾄ１\"))","v":""},"","","","","","","",{"$f":"IF(S4382=\"\",\"\",COUNTIF($S$7:S4382,\"該当２\"))","v":""},"","",{"$f":"IF(V4382=\"\",\"\",COUNTIF($V$7:V4382,\"該当３\"))","v":""}]
[856401005,8,564,{"v":4,"d":"04"},{"v":5,"d":"005 "},"茨城県","利根町","布川町","谷原",null,"","",{"$f":"IF(K4383=\"\",\"\",COUNTIF($K$7:K4383,\"ﾘｽﾄ１\"))","v":""},"","","","","","","",{"$f":"IF(S4383=\"\",\"\",COUNTIF($S$7:S4383,\"該当２\"))","v":""},"","",{"$f":"IF(V4383=\"\",\"\",COUNTIF($V$7:V4383,\"該当３\"))","v":""}]
[856401006,8,564,{"v":4,"d":"04"},{"v":6,"d":"006 "},"茨城県","利根町","布川町","馬場",null,"","",{"$f":"IF(K4384=\"\",\"\",COUNTIF($K$7:K4384,\"ﾘｽﾄ１\"))","v":""},"","","","","","","",{"$f":"IF(S4384=\"\",\"\",COUNTIF($S$7:S4384,\"該当２\"))","v":""},"","",{"$f":"IF(V4384=\"\",\"\",COUNTIF($V$7:V4384,\"該当３\"))","v":""}]
[856402000,8,564,{"v":4,"d":"04"},{"v":0,"d":"000 "},"茨城県","利根町","文村",null,null,"","",{"$f":"IF(K4385=\"\",\"\",COUNTIF($K$7:K4385,\"ﾘｽﾄ１\"))","v":""},"","","","","","","",{"$f":"IF(S4385=\"\",\"\",COUNTIF($S$7:S4385,\"該当２\"))","v":""},"","",{"$f":"IF(V4385=\"\",\"\",COUNTIF($V$7:V4385,\"該当３\"))","v":""}]
[856402001,8,564,{"v":4,"d":"04"},{"v":1,"d":"001 "},"茨城県","利根町","文村","羽根野",null,"","",{"$f":"IF(K4386=\"\",\"\",COUNTIF($K$7:K4386,\"ﾘｽﾄ１\"))","v":""},"","","","","","","",{"$f":"IF(S4386=\"\",\"\",COUNTIF($S$7:S4386,\"該当２\"))","v":""},"","",{"$f":"IF(V4386=\"\",\"\",COUNTIF($V$7:V4386,\"該当３\"))","v":""}]
[856402002,8,564,{"v":4,"d":"04"},{"v":2,"d":"002 "},"茨城県","利根町","文村","早尾",null,"","",{"$f":"IF(K4387=\"\",\"\",COUNTIF($K$7:K4387,\"ﾘｽﾄ１\"))","v":""},"","","","","","","",{"$f":"IF(S4387=\"\",\"\",COUNTIF($S$7:S4387,\"該当２\"))","v":""},"","",{"$f":"IF(V4387=\"\",\"\",COUNTIF($V$7:V4387,\"該当３\"))","v":""}]
[856402003,8,564,{"v":4,"d":"04"},{"v":3,"d":"003 "},"茨城県","利根町","文村","大平",null,"","",{"$f":"IF(K4388=\"\",\"\",COUNTIF($K$7:K4388,\"ﾘｽﾄ１\"))","v":""},"","","","","","","",{"$f":"IF(S4388=\"\",\"\",COUNTIF($S$7:S4388,\"該当２\"))","v":""},"","",{"$f":"IF(V4388=\"\",\"\",COUNTIF($V$7:V4388,\"該当３\"))","v":""}]
[856402004,8,564,{"v":4,"d":"04"},{"v":4,"d":"004 "},"茨城県","利根町","文村","横須賀",null,"","",{"$f":"IF(K4389=\"\",\"\",COUNTIF($K$7:K4389,\"ﾘｽﾄ１\"))","v":""},"","","","","","","",{"$f":"IF(S4389=\"\",\"\",COUNTIF($S$7:S4389,\"該当２\"))","v":""},"","",{"$f":"IF(V4389=\"\",\"\",COUNTIF($V$7:V4389,\"該当３\"))","v":""}]
[856402005,8,564,{"v":4,"d":"04"},{"v":5,"d":"005 "},"茨城県","利根町","文村","下井",null,"","",{"$f":"IF(K4390=\"\",\"\",COUNTIF($K$7:K4390,\"ﾘｽﾄ１\"))","v":""},"","","","","","","",{"$f":"IF(S4390=\"\",\"\",COUNTIF($S$7:S4390,\"該当２\"))","v":""},"","",{"$f":"IF(V4390=\"\",\"\",COUNTIF($V$7:V4390,\"該当３\"))","v":""}]
[856402006,8,564,{"v":4,"d":"04"},{"v":6,"d":"006 "},"茨城県","利根町","文村","下曽根",null,"","",{"$f":"IF(K4391=\"\",\"\",COUNTIF($K$7:K4391,\"ﾘｽﾄ１\"))","v":""},"","","","","","","",{"$f":"IF(S4391=\"\",\"\",COUNTIF($S$7:S4391,\"該当２\"))","v":""},"","",{"$f":"IF(V4391=\"\",\"\",COUNTIF($V$7:V4391,\"該当３\"))","v":""}]
[856402007,8,564,{"v":4,"d":"04"},{"v":7,"d":"007 "},"茨城県","利根町","文村","上曽根",null,"","",{"$f":"IF(K4392=\"\",\"\",COUNTIF($K$7:K4392,\"ﾘｽﾄ１\"))","v":""},"","","","","","","",{"$f":"IF(S4392=\"\",\"\",COUNTIF($S$7:S4392,\"該当２\"))","v":""},"","",{"$f":"IF(V4392=\"\",\"\",COUNTIF($V$7:V4392,\"該当３\"))","v":""}]
[856402008,8,564,{"v":4,"d":"04"},{"v":8,"d":"008 "},"茨城県","利根町","文村","押付新田",null,"","",{"$f":"IF(K4393=\"\",\"\",COUNTIF($K$7:K4393,\"ﾘｽﾄ１\"))","v":""},"","","","","","","",{"$f":"IF(S4393=\"\",\"\",COUNTIF($S$7:S4393,\"該当２\"))","v":""},"","",{"$f":"IF(V4393=\"\",\"\",COUNTIF($V$7:V4393,\"該当３\"))","v":""}]
[856402009,8,564,{"v":4,"d":"04"},{"v":9,"d":"009 "},"茨城県","利根町","文村","中田切",null,"","",{"$f":"IF(K4394=\"\",\"\",COUNTIF($K$7:K4394,\"ﾘｽﾄ１\"))","v":""},"","","","","","","",{"$f":"IF(S4394=\"\",\"\",COUNTIF($S$7:S4394,\"該当２\"))","v":""},"","",{"$f":"IF(V4394=\"\",\"\",COUNTIF($V$7:V4394,\"該当３\"))","v":""}]
[856403000,8,564,{"v":4,"d":"04"},{"v":0,"d":"000 "},"茨城県","利根町","文間村",null,null,"","",{"$f":"IF(K4395=\"\",\"\",COUNTIF($K$7:K4395,\"ﾘｽﾄ１\"))","v":""},"","","","","","","",{"$f":"IF(S4395=\"\",\"\",COUNTIF($S$7:S4395,\"該当２\"))","v":""},"","",{"$f":"IF(V4395=\"\",\"\",COUNTIF($V$7:V4395,\"該当３\"))","v":""}]
[856403001,8,564,{"v":4,"d":"04"},{"v":1,"d":"001 "},"茨城県","利根町","文間村","奥山",null,"","",{"$f":"IF(K4396=\"\",\"\",COUNTIF($K$7:K4396,\"ﾘｽﾄ１\"))","v":""},"","","","","","","",{"$f":"IF(S4396=\"\",\"\",COUNTIF($S$7:S4396,\"該当２\"))","v":""},"","",{"$f":"IF(V4396=\"\",\"\",COUNTIF($V$7:V4396,\"該当３\"))","v":""}]
[856403002,8,564,{"v":4,"d":"04"},{"v":2,"d":"002 "},"茨城県","利根町","文間村","押戸",null,"","",{"$f":"IF(K4397=\"\",\"\",COUNTIF($K$7:K4397,\"ﾘｽﾄ１\"))","v":""},"","","","","","","",{"$f":"IF(S4397=\"\",\"\",COUNTIF($S$7:S4397,\"該当２\"))","v":""},"","",{"$f":"IF(V4397=\"\",\"\",COUNTIF($V$7:V4397,\"該当３\"))","v":""}]
[856403003,8,564,{"v":4,"d":"04"},{"v":3,"d":"003 "},"茨城県","利根町","文間村","大房",null,"","",{"$f":"IF(K4398=\"\",\"\",COUNTIF($K$7:K4398,\"ﾘｽﾄ１\"))","v":""},"","","","","","","",{"$f":"IF(S4398=\"\",\"\",COUNTIF($S$7:S4398,\"該当２\"))","v":""},"","",{"$f":"IF(V4398=\"\",\"\",COUNTIF($V$7:V4398,\"該当３\"))","v":""}]
[856403004,8,564,{"v":4,"d":"04"},{"v":4,"d":"004 "},"茨城県","利根町","文間村","立木",null,"","",{"$f":"IF(K4399=\"\",\"\",COUNTIF($K$7:K4399,\"ﾘｽﾄ１\"))","v":""},"","","","","","","",{"$f":"IF(S4399=\"\",\"\",COUNTIF($S$7:S4399,\"該当２\"))","v":""},"","",{"$f":"IF(V4399=\"\",\"\",COUNTIF($V$7:V4399,\"該当３\"))","v":""}]
[856404000,8,564,{"v":4,"d":"04"},{"v":0,"d":"000 "},"茨城県","利根町","東文間村",null,null,"","",{"$f":"IF(K4400=\"\",\"\",COUNTIF($K$7:K4400,\"ﾘｽﾄ１\"))","v":""},"","","","","","","",{"$f":"IF(S4400=\"\",\"\",COUNTIF($S$7:S4400,\"該当２\"))","v":""},"","",{"$f":"IF(V4400=\"\",\"\",COUNTIF($V$7:V4400,\"該当３\"))","v":""}]
[856404001,8,564,{"v":4,"d":"04"},{"v":1,"d":"001 "},"茨城県","利根町","東文間村","羽中",null,"","",{"$f":"IF(K4401=\"\",\"\",COUNTIF($K$7:K4401,\"ﾘｽﾄ１\"))","v":""},"","","","","","","",{"$f":"IF(S4401=\"\",\"\",COUNTIF($S$7:S4401,\"該当２\"))","v":""},"","",{"$f":"IF(V4401=\"\",\"\",COUNTIF($V$7:V4401,\"該当３\"))","v":""}]
[856404002,8,564,{"v":4,"d":"04"},{"v":2,"d":"002 "},"茨城県","利根町","東文間村","福木",null,"","",{"$f":"IF(K4402=\"\",\"\",COUNTIF($K$7:K4402,\"ﾘｽﾄ１\"))","v":""},"","","","","","","",{"$f":"IF(S4402=\"\",\"\",COUNTIF($S$7:S4402,\"該当２\"))","v":""},"","",{"$f":"IF(V4402=\"\",\"\",COUNTIF($V$7:V4402,\"該当３\"))","v":""}]
[856404003,8,564,{"v":4,"d":"04"},{"v":3,"d":"003 "},"茨城県","利根町","東文間村","中谷",null,"","",{"$f":"IF(K4403=\"\",\"\",COUNTIF($K$7:K4403,\"ﾘｽﾄ１\"))","v":""},"","","","","","","",{"$f":"IF(S4403=\"\",\"\",COUNTIF($S$7:S4403,\"該当２\"))","v":""},"","",{"$f":"IF(V4403=\"\",\"\",COUNTIF($V$7:V4403,\"該当３\"))","v":""}]
[856404004,8,564,{"v":4,"d":"04"},{"v":4,"d":"004 "},"茨城県","利根町","東文間村","立崎",null,"","",{"$f":"IF(K4404=\"\",\"\",COUNTIF($K$7:K4404,\"ﾘｽﾄ１\"))","v":""},"","","","","","","",{"$f":"IF(S4404=\"\",\"\",COUNTIF($S$7:S4404,\"該当２\"))","v":""},"","",{"$f":"IF(V4404=\"\",\"\",COUNTIF($V$7:V4404,\"該当３\"))","v":""}]
[856404005,8,564,{"v":4,"d":"04"},{"v":5,"d":"005 "},"茨城県","利根町","東文間村","惣新田",null,"","",{"$f":"IF(K4405=\"\",\"\",COUNTIF($K$7:K4405,\"ﾘｽﾄ１\"))","v":""},"","","","","","","",{"$f":"IF(S4405=\"\",\"\",COUNTIF($S$7:S4405,\"該当２\"))","v":""},"","",{"$f":"IF(V4405=\"\",\"\",COUNTIF($V$7:V4405,\"該当３\"))","v":""}]
[856404006,8,564,{"v":4,"d":"04"},{"v":6,"d":"006 "},"茨城県","利根町","東文間村","加納新田",null,"","",{"$f":"IF(K4406=\"\",\"\",COUNTIF($K$7:K4406,\"ﾘｽﾄ１\"))","v":""},"","","","","","","",{"$f":"IF(S4406=\"\",\"\",COUNTIF($S$7:S4406,\"該当２\"))","v":""},"","",{"$f":"IF(V4406=\"\",\"\",COUNTIF($V$7:V4406,\"該当３\"))","v":""}]
[856404007,8,564,{"v":4,"d":"04"},{"v":7,"d":"007 "},"茨城県","利根町","東文間村","東奥山新田",null,"","",{"$f":"IF(K4407=\"\",\"\",COUNTIF($K$7:K4407,\"ﾘｽﾄ１\"))","v":""},"","","","","","","",{"$f":"IF(S4407=\"\",\"\",COUNTIF($S$7:S4407,\"該当２\"))","v":""},"","",{"$f":"IF(V4407=\"\",\"\",COUNTIF($V$7:V4407,\"該当３\"))","v":""}]