Workbook
Name G10農家数: OFFSET(Info!$H$12:$K$12,Info!$AC$11,0)
Name G21労働力L: OFFSET(Info!$G$23:$Q$23,Info!$Y$22,0)
Name G22労働力R: OFFSET(Info!$G$23:$Q$23,Info!$Z$22,0)
Name G31後継者L: OFFSET(Info!$H$51,Info!$Y$46,0)
Name G32後継者R: OFFSET(Info!$H$51,Info!$Z$46,0)
Name G33後継者L: OFFSET(Info!$H$51,Info!$Y$47,0)
Name G33後継者R: OFFSET(Info!$H$51,Info!$Z$47,0)
Name G50状態別: OFFSET(Info!$H$90:$M$90,Info!$AE$89,0)
Name G61品目別L: OFFSET(Info!$G$104:$S$104,Info!$W$104,0)
Name G62品目別R: OFFSET(Info!$G$104:$S$104,Info!$X$104,0)
Name 旧市2010: OFFSET('2010年'!$C$1,Info!$X$3-1,0,Info!$W$3+1,1)
Name 旧市2015: OFFSET('2015年'!$C$1,Info!$X$4-1,0,Info!$W$4+1,1)
Name 集落2010: OFFSET('2010年'!$D$1,Info!$AF$3-1,0,Info!$AE$3+1,1)
Name 集落2015: OFFSET('2015年'!$D$1,Info!$AF$4-1,0,Info!$AE$4+1,1)

Sheet Info
D1: -1 | E1: 0 | F1: 1 | G1: 2 | H1: 3 | I1: 4 | J1: 5 | K1: 6 | L1: 7 | M1: 8 | N1: 9 | O1: 10 | P1: 11 | Q1: 12 | R1: 13 | S1: 14 | T1: 15 | Y1: =IF(OR(Z3="",Z4=""),"※ 市町村（左側）から順に選択してください","") -> ※ 市町村（左側）から順に選択してください | AD1: ｖ | AK1: v
V2: 表示行 | W2: 旧市町村数 | X2: 市町村行 | Y2: 参照シート、セル | Z2: check | AA2: 表示名 | AD2: 表示行 | AE2: 集落数 | AF2: 旧市町村行 | AG2: 参照シート | AH2: check | AK2: 表示行 | AL2: 集落数 | AM2: 旧市町村行 | AN2: 参照シート | AO2: check
D3: 県名 | G3: 市町村名 | J3: 旧市町村名 | V3: =IF(M4="",-1,IFERROR(MATCH(M4,OFFSET(集落2010,1,0,ROWS(集落2010),1),0)-1,3000))+AF3 -> 5 | W3: =COUNTIF('2010年'!B:B,Info!G4)-1 -> -1 | X3: =IF(G4="",6,MATCH(G4,'2010年'!B:B,0)) -> 6 | Y3: '2010年'!$A$1 | Z3: =OFFSET(INDIRECT(Y3),V3,1)&OFFSET(INDIRECT(Y3),V3,2)&OFFSET(INDIRECT(Y3),V3,3) | AA3: =IF(OR(ISERROR(G4),ISERROR(J4),ISERROR(M4)),"表示できません",IF(G4&J4&M4="",D4,IF(M4<>"",M4,IF(J4<>"",IF($G$4=$J$4,"（旧）","")&$J$4,IF(J4<>"",J4,G4))))) -> 東京都 | AD3: =IF(M4="",-1,IFERROR(MATCH(M4,OFFSET(集落2010,1,0,ROWS(集落2010),1),0)-1,999))+AF3 -> 5 | AE3: =COUNTIF('2010年'!C:C,Info!J4)-1 -> 1048044 | AF3: =IF(J4="",X3,MATCH(J4,'2010年'!C:C,0)) -> 6 | AG3: '2010年'!$A$1 | AH3: =OFFSET(INDIRECT(AG3),AD3,1)&OFFSET(INDIRECT(AG3),AD3,2)&OFFSET(INDIRECT(AG3),AD3,3) | AI3: =IF(OR(ISERROR(AJ3),ISERROR(AL3)),"表示できません",IF(V4<>"",V4,IF(R4<>"",IF($G$4=$J$4,"（旧）","")&$J$4,IF(O4<>"",O4,L4)))) -> 5 | AK3: =IF(M4="",-1,IFERROR(MATCH(M4,OFFSET(集落2010,1,0,ROWS(集落2010),1),0)-1,999))+AM3 -> 5 | AL3: =COUNTIF('2010年'!C:C,Info!J4)-1 -> 1048044 | AM3: =IF(J4="",X3,MATCH(J4,'2010年'!C:C,0)) -> 6 | AN3: '2010年'!$A$1 | AO3: =OFFSET(INDIRECT(AN3),AK3,1)&OFFSET(INDIRECT(AN3),AK3,2)&OFFSET(INDIRECT(AN3),AK3,3) | AP3: =IF(OR(ISERROR(AQ3),ISERROR(AS3)),"表示できません",IF(AC4<>"",AC4,IF(Y4<>"",IF($G$4=$J$4,"（旧）","")&$J$4,IF(V4<>"",V4,S4)))) -> （旧）
D4: 東京都 | V4: =IF(M4="",-1,IFERROR(MATCH(M4,OFFSET(集落2015,1,0,ROWS(集落2015),1),0)-1,3000))+AF4 -> 5 | W4: =COUNTIF('2015年'!B:B,Info!G4)-1 -> -1 | X4: =IF(G4="",6,MATCH(G4,'2015年'!B:B,0)) -> 6 | Y4: '2015年'!$A$1 | Z4: =OFFSET(INDIRECT(Y4),V4,1)&OFFSET(INDIRECT(Y4),V4,2)&OFFSET(INDIRECT(Y4),V4,3) | AD4: =IF(M4="",-1,IFERROR(MATCH(M4,OFFSET(集落2015,1,0,ROWS(集落2015),1),0)-1,999))+AF4 -> 5 | AE4: =COUNTIF('2015年'!C:C,Info!J4)-1 -> 1048044 | AF4: =IF(J4="",X3,MATCH(J4,'2015年'!C:C,0)) -> 6 | AG4: '2015年'!$A$1 | AH4: =OFFSET(INDIRECT(AG4),AD4,1)&OFFSET(INDIRECT(AG4),AD4,2)&OFFSET(INDIRECT(AG4),AD4,3) | AK4: =IF(M4="",-1,IFERROR(MATCH(M4,OFFSET(集落2015,1,0,ROWS(集落2015),1),0)-1,999))+AM4 -> 5 | AL4: =COUNTIF('2015年'!C:C,Info!J4)-1 -> 1048044 | AM4: =IF(J4="",X4,MATCH(J4,'2010年'!C:C,0)) -> 6 | AN4: '2015年'!$A$1 | AO4: =OFFSET(INDIRECT(AN4),AK4,1)&OFFSET(INDIRECT(AN4),AK4,2)&OFFSET(INDIRECT(AN4),AK4,3)
C6: ="総農家数" -> 総農家数 | G6: =IFERROR("◎ "&W11&IF(LEFT(R8,1)="県","の総農家に占める割合は "&TEXT(G13,"0.0")&"% で、"&D4&"（"&TEXT(G14,"0.0")&"%） "&X13,"は "&TEXT(G12,"#,###戸 で ")&W13&"、"&"総農家の "&TEXT(G13,"0.0")&"% を占める"),"") -> ◎ 販売農家は 5,623戸 で 1,189戸（17.5%） 減少、総農家の 50.1% を占める
K7: 単位：戸 | L7: 《主副業別割合》
F8: 総農家 | L8: =" "&IF(AND(LEFT(R8,1)<>"県",G4=""),D4,IF(LEFT(R8,1)="県",D12,$AA$3)) -> 東京都 | R8: 前回との比較
G9: 販売 農家 | K9: 自給的農家 | R9: ="外円："&IF(AND(LEFT(R8,1)="県",G4=""),D4,IF(LEFT(R8,1)="県",$AA$3,"2015年"))&CHAR(10)&"内円："&IF(LEFT(R8,1)="県",$D$4,"2010年") -> 外円：2015年 内円：2010年
H10: 主業 農家 | I10: 準主業 農家 | J10: 副業的 農家 | V10: 列番号 | W10: 概要 | Y10: 凡例 | AC10: 内円
D11: 2010年 | F11: =IFERROR(OFFSET(INDIRECT($Y$3),$V$3,$V11+E$1),"nc") -> 13099 | G11: =IFERROR(OFFSET(INDIRECT($Y$3),$V$3,$V11+F$1),"nc") -> 6812 | H11: =IFERROR(OFFSET(INDIRECT($Y$3),$V$3,$V11+G$1),"nc") -> 2106 | I11: =IFERROR(OFFSET(INDIRECT($Y$3),$V$3,$V11+I$1),"nc") -> 1943 | J11: =IFERROR(OFFSET(INDIRECT($Y$3),$V$3,$V11+K$1),"nc") -> 2763 | K11: =IFERROR(OFFSET(INDIRECT($Y$3),$V$3,$V11+L$1),"nc") -> 6287 | V11: =CELL("col",'2010年'!E6)-1 -> 4 | W11: 販売農家 | X11: 対県 | Y11: 主業農家 | Z11: 準主業農家 | AA11: 副業的農家 | AB11: 自給的農家 | AC11: =IF(LEFT(R8,1)="県",2,-1) -> -1
D12: 2015年 | F12: =IFERROR(OFFSET(INDIRECT($Y$4),$V$4,$V12+E$1),"nc") -> 11222 | G12: =IFERROR(OFFSET(INDIRECT($Y$4),$V$4,$V12+F$1),"nc") -> 5623 | H12: =IFERROR(OFFSET(INDIRECT($Y$4),$V$4,$V12+G$1),"nc") -> 1871 | I12: =IFERROR(OFFSET(INDIRECT($Y$4),$V$4,$V12+I$1),"nc") -> 1512 | J12: =IFERROR(OFFSET(INDIRECT($Y$4),$V$4,$V12+K$1),"nc") -> 2240 | K12: =IFERROR(OFFSET(INDIRECT($Y$4),$V$4,$V12+L$1),"nc") -> 5599 | V12: =CELL("col",'2015年'!E6)-1 -> 4 | W12: =G12/G11-1 -> -0.17454492 | X12: =G13-G14 -> 0
E13: 構成比(%) | F13: =IF(OR(AND(ISTEXT($F12),$F12<>"X",$F12<>"-"),AND(ISTEXT(F12),F12<>"X",F12<>"-")),"nc",IF(OR($F12="X",F12="X"),"X",IF(ROUND(SUM($F12),0)=0,"nc",SUM(F12)/$F12%))) -> 100 | G13: =IF(OR(AND(ISTEXT($F12),$F12<>"X",$F12<>"-"),AND(ISTEXT(G12),G12<>"X",G12<>"-")),"nc",IF(OR($F12="X",G12="X"),"X",IF(ROUND(SUM($F12),0)=0,"nc",SUM(G12)/$F12%))) -> 50.106933 | H13: =IF(OR(AND(ISTEXT($F12),$F12<>"X",$F12<>"-"),AND(ISTEXT(H12),H12<>"X",H12<>"-")),"nc",IF(OR($F12="X",H12="X"),"X",IF(ROUND(SUM($F12),0)=0,"nc",SUM(H12)/$F12%))) -> 16.672607 | I13: =IF(OR(AND(ISTEXT($F12),$F12<>"X",$F12<>"-"),AND(ISTEXT(I12),I12<>"X",I12<>"-")),"nc",IF(OR($F12="X",I12="X"),"X",IF(ROUND(SUM($F12),0)=0,"nc",SUM(I12)/$F12%))) -> 13.473534 | J13: =IF(OR(AND(ISTEXT($F12),$F12<>"X",$F12<>"-"),AND(ISTEXT(J12),J12<>"X",J12<>"-")),"nc",IF(OR($F12="X",J12="X"),"X",IF(ROUND(SUM($F12),0)=0,"nc",SUM(J12)/$F12%))) -> 19.960791 | K13: =IF(OR(AND(ISTEXT($F12),$F12<>"X",$F12<>"-"),AND(ISTEXT(K12),K12<>"X",K12<>"-")),"nc",IF(OR($F12="X",K12="X"),"X",IF(ROUND(SUM($F12),0)=0,"nc",SUM(K12)/$F12%))) -> 49.893067 | W13: =IF(W12=0,"変化なし",TEXT(ABS(G12-G11),"#,##0")&"戸（"&TEXT(ABS(W12),"0.0%")&"） "&IF(W12>0,"増加","減少")) -> 1,189戸（17.5%） 減少 | X13: =IF(X12=0,"と同率である","を"&TEXT(ABS(X12),"#,##0.0")&"ポイント "&IF(X12>0,"上回る","下回る")) -> と同率である
E14: 県計 構成比(%) | F14: 100 | G14: =IFERROR(OFFSET(INDIRECT($Y$4),5,$V$12+F1)/OFFSET(INDIRECT($Y$4),5,V12)*100,"nc") -> 50.106933 | H14: =IFERROR(OFFSET(INDIRECT($Y$4),5,$V$12+G1)/OFFSET(INDIRECT($Y$4),5,V12)*100,"nc") -> 16.672607 | I14: =IFERROR(OFFSET(INDIRECT($Y$4),5,$V$12+I1)/OFFSET(INDIRECT($Y$4),5,V12)*100,"nc") -> 13.473534 | J14: =IFERROR(OFFSET(INDIRECT($Y$4),5,$V$12+K1)/OFFSET(INDIRECT($Y$4),5,V12)*100,"nc") -> 19.960791 | K14: =IFERROR(OFFSET(INDIRECT($Y$4),5,$V$12+L1)/OFFSET(INDIRECT($Y$4),5,V12)*100,"nc") -> 49.893067
D15: =IFERROR("《参考》"&G4&"の総農家数の全国順位："&TEXT(OFFSET(#REF!,MATCH(Info!G4,#REF!,0),0),"#,##0")&"位","")
C18: 基幹的農業従事者数
D19: =IFERROR(IF(RIGHT(C18,4)="ください","","◎ "&C18&"は "&TEXT(F23,"#,##0人 で ")&W24&IFERROR("、平均年齢 "&TEXT(S23,"0.0歳は")&IF(LEFT(R28,1)="県","県平均","2010年")&X24,"")),"") -> ◎ 基幹的農業従事者数は 9,681人 で 1,005人（9.4%） 減少、平均年齢 64.6歳は2010年を 0.5歳上回る
S20: 単位：人
F21: 計 | G21: 15～39歳 | H21: 40～44 | I21: 45～49 | J21: 50～54 | K21: 55～59 | L21: 60～64 | M21: 65～69 | N21: 70～74 | O21: 75～79 | P21: 80～84 | Q21: 85歳以上 | R21: 65歳以上 | S21: 平均 年齢 （歳） | V21: 列番号 | W21: 概要 | Y21: 縦棒 左 | Z21: 縦棒 右 | AA21: 凡例
D22: 2010年 | F22: =IFERROR(OFFSET(INDIRECT($Y$3),$V$3,V23-1),"nc") -> 10686 | G22: =IFERROR(IF(COUNTIF(OFFSET(INDIRECT($Y$3),$V$3,V23,1,5),"@")>0,"@",IF(COUNTIF(OFFSET(INDIRECT($Y$3),$V$3,V23,1,5),"X")>0,"X",SUM(OFFSET(INDIRECT($Y$3),$V$3,V23,1,5)))),"nc") -> 733 | H22: =IFERROR(OFFSET(INDIRECT($Y$3),$V$3,$V23+J$1),"nc") -> 502 | I22: =IFERROR(OFFSET(INDIRECT($Y$3),$V$3,$V23+K$1),"nc") -> 647 | J22: =IFERROR(OFFSET(INDIRECT($Y$3),$V$3,$V23+L$1),"nc") -> 845 | K22: =IFERROR(OFFSET(INDIRECT($Y$3),$V$3,$V23+M$1),"nc") -> 1070 | L22: =IFERROR(OFFSET(INDIRECT($Y$3),$V$3,$V23+N$1),"nc") -> 1158 | M22: =IFERROR(OFFSET(INDIRECT($Y$3),$V$3,$V23+O$1),"nc") -> 1209 | N22: =IFERROR(OFFSET(INDIRECT($Y$3),$V$3,$V23+P$1),"nc") -> 1435 | O22: =IFERROR(OFFSET(INDIRECT($Y$3),$V$3,$V23+Q$1),"nc") -> 1514 | ... Q22: =IFERROR(OFFSET(INDIRECT($Y$3),$V$3,$V23+S$1),"nc") -> 489 | R22: =IF(COUNTIF(M22:Q22,"@"),"@",(IF(COUNTIF(M22:Q22,"X"),"X",SUM(M22:Q22)))) -> 5731 | S22: =IFERROR(OFFSET(INDIRECT($Y$3),$V$3,V23+15),"nc") -> 64.1 | V22: =IF(C18="農業従事者数",1,IF(C18="農業就業人口",2,IF(C18="基幹的農業従事者数",3,ERROR.TYPE(5)))) -> 3 | W22: 人数 | X22: 平均年齢 | Y22: =IF(LEFT(R28,1)="県",3,-1) -> -1 | Z22: =IF(LEFT(R28,1)="県",1,0) -> 0 | AA22: =IF(LEFT(R28,1)="県",$D$4,$D22) -> 2010年
D23: 2015年 | F23: =IFERROR(OFFSET(INDIRECT($Y$4),$V$4,$V24-1),"nc") -> 9681 | G23: =IFERROR(IF(COUNTIF(OFFSET(INDIRECT($Y$4),$V$4,$V24,1,5),"X")>0,"X",SUM(OFFSET(INDIRECT($Y$4),$V$4,$V24,1,5))),"nc") -> 685 | H23: =IFERROR(OFFSET(INDIRECT($Y$4),$V$4,$V24+5),"nc") -> 408 | I23: =IFERROR(OFFSET(INDIRECT($Y$4),$V$4,$V24+6),"nc") -> 507 | J23: =IFERROR(OFFSET(INDIRECT($Y$4),$V$4,$V24+7),"nc") -> 747 | K23: =IFERROR(OFFSET(INDIRECT($Y$4),$V$4,$V24+8),"nc") -> 920 | L23: =IFERROR(OFFSET(INDIRECT($Y$4),$V$4,$V24+9),"nc") -> 1181 | M23: =IFERROR(OFFSET(INDIRECT($Y$4),$V$4,$V24+10),"nc") -> 1198 | N23: =IFERROR(OFFSET(INDIRECT($Y$4),$V$4,$V24+11),"nc") -> 1137 | O23: =IFERROR(OFFSET(INDIRECT($Y$4),$V$4,$V24+12),"nc") -> 1182 | P23: =IFERROR(OFFSET(INDIRECT($Y$4),$V$4,$V24+13),"nc") -> 1024 | Q23: =IFERROR(OFFSET(INDIRECT($Y$4),$V$4,$V24+14),"nc") -> 692 | R23: =IF(COUNTIF(M23:Q23,"X"),"X",SUM(M23:Q23)) -> 5233 | S23: =IFERROR(OFFSET(INDIRECT($Y$4),$V$4,$V24+15),"nc") -> 64.6 | V23: =IFERROR(CHOOSE(V22,CELL("col",'2010年'!N6),CELL("col",'2010年'!AG6),CELL("col",'2010年'!AZ6))-1,555) -> 51 | W23: =F23/F22-1 -> -0.094048287 | X23: =S23-IF(LEFT(R28,1)="県",S26,S22) -> 0.5 | AA23: =IF(AND(LEFT(R28,1)="県",G4=""),D4,IF(LEFT(R28,1)="県",AA3,D23)) -> 2015年
E24: 構成比(%) | F24: =IF(OR(AND(ISTEXT($F23),$F23<>"X",$F23<>"-"),AND(ISTEXT(F23),F23<>"X",F23<>"-")),"nc",IF(OR($F23="X",F23="X"),"X",IF(ROUND(SUM($F23),0)=0,"nc",SUM(F23)/$F23%))) -> 100 | G24: =IF(OR(AND(ISTEXT($F23),$F23<>"X",$F23<>"-"),AND(ISTEXT(G23),G23<>"X",G23<>"-")),"nc",IF(OR($F23="X",G23="X"),"X",IF(ROUND(SUM($F23),0)=0,"nc",SUM(G23)/$F23%))) -> 7.0757153 | H24: =IF(OR(AND(ISTEXT($F23),$F23<>"X",$F23<>"-"),AND(ISTEXT(H23),H23<>"X",H23<>"-")),"nc",IF(OR($F23="X",H23="X"),"X",IF(ROUND(SUM($F23),0)=0,"nc",SUM(H23)/$F23%))) -> 4.2144407 | I24: =IF(OR(AND(ISTEXT($F23),$F23<>"X",$F23<>"-"),AND(ISTEXT(I23),I23<>"X",I23<>"-")),"nc",IF(OR($F23="X",I23="X"),"X",IF(ROUND(SUM($F23),0)=0,"nc",SUM(I23)/$F23%))) -> 5.2370623 | J24: =IF(OR(AND(ISTEXT($F23),$F23<>"X",$F23<>"-"),AND(ISTEXT(J23),J23<>"X",J23<>"-")),"nc",IF(OR($F23="X",J23="X"),"X",IF(ROUND(SUM($F23),0)=0,"nc",SUM(J23)/$F23%))) -> 7.716145 | K24: =IF(OR(AND(ISTEXT($F23),$F23<>"X",$F23<>"-"),AND(ISTEXT(K23),K23<>"X",K23<>"-")),"nc",IF(OR($F23="X",K23="X"),"X",IF(ROUND(SUM($F23),0)=0,"nc",SUM(K23)/$F23%))) -> 9.5031505 | L24: =IF(OR(AND(ISTEXT($F23),$F23<>"X",$F23<>"-"),AND(ISTEXT(L23),L23<>"X",L23<>"-")),"nc",IF(OR($F23="X",L23="X"),"X",IF(ROUND(SUM($F23),0)=0,"nc",SUM(L23)/$F23%))) -> 12.199153 | M24: =IF(OR(AND(ISTEXT($F23),$F23<>"X",$F23<>"-"),AND(ISTEXT(M23),M23<>"X",M23<>"-")),"nc",IF(OR($F23="X",M23="X"),"X",IF(ROUND(SUM($F23),0)=0,"nc",SUM(M23)/$F23%))) -> 12.374755 | ... R24: =IF(OR(AND(ISTEXT($F23),$F23<>"X",$F23<>"-"),AND(ISTEXT(R23),R23<>"X",R23<>"-")),"nc",IF(OR($F23="X",R23="X"),"X",IF(ROUND(SUM($F23),0)=0,"nc",SUM(R23)/$F23%))) -> 54.054333 | V24: =IFERROR(CHOOSE(V22,CELL("col",'2015年'!N6),CELL("col",'2015年'!AG6),CELL("col",'2015年'!AZ6))-1,555) -> 51 | W24: =IF(W23=0,"変化なし",TEXT(ABS(F23-F22),"#,##0人")&"（"&TEXT(ABS(W23),"0.0%")&"） "&IF(W23>0,"増加","減少")) -> 1,005人（9.4%） 減少 | X24: =IF(X23=0,"と同じである","を "&TEXT(ABS(X23),"0.0歳")&IF(X23>0,"上回る","下回る")) -> を 0.5歳上回る
E25: 2015年 | F25: =IFERROR(OFFSET(INDIRECT($Y$4),5,V24-1),"nc") -> 9681 | G25: =IFERROR(SUM(OFFSET(INDIRECT($Y$4),5,V24,1,5)),"nc") -> 685 | H25: =IFERROR(OFFSET(INDIRECT($Y$4),5,V24+5),"nc") -> 408 | I25: =IFERROR(OFFSET(INDIRECT($Y$4),5,V24+6),"nc") -> 507 | J25: =IFERROR(OFFSET(INDIRECT($Y$4),5,V24+7),"nc") -> 747 | K25: =IFERROR(OFFSET(INDIRECT($Y$4),5,V24+8),"nc") -> 920 | L25: =IFERROR(OFFSET(INDIRECT($Y$4),5,V24+9),"nc") -> 1181 | M25: =IFERROR(OFFSET(INDIRECT($Y$4),5,V24+10),"nc") -> 1198 | N25: =IFERROR(OFFSET(INDIRECT($Y$4),5,V24+11),"nc") -> 1137 | O25: =IFERROR(OFFSET(INDIRECT($Y$4),5,V24+12),"nc") -> 1182 | P25: =IFERROR(OFFSET(INDIRECT($Y$4),5,V24+13),"nc") -> 1024 | Q25: =IFERROR(OFFSET(INDIRECT($Y$4),5,V24+14),"nc") -> 692 | R25: =SUM(M25:Q25) -> 5233
E26: 県計 構成比(%) | F26: 100 | G26: =IFERROR(ROUND(G25/$F25*100,1),"nc") -> 7.1 | H26: =IFERROR(ROUND(H25/$F25*100,1),"nc") -> 4.2 | I26: =IFERROR(ROUND(I25/$F25*100,1),"nc") -> 5.2 | J26: =IFERROR(ROUND(J25/$F25*100,1),"nc") -> 7.7 | K26: =IFERROR(ROUND(K25/$F25*100,1),"nc") -> 9.5 | L26: =IFERROR(ROUND(L25/$F25*100,1),"nc") -> 12.2 | M26: =IFERROR(ROUND(M25/$F25*100,1),"nc") -> 12.4 | N26: =IFERROR(ROUND(N25/$F25*100,1),"nc") -> 11.7 | ... R26: =IFERROR(ROUND(R25/$F25*100,1),"nc") -> 54.1 | S26: =IFERROR(OFFSET(INDIRECT($Y$4),5,V24+15),"nc") -> 64.6
D27: =IF(LEFT(R28,1)="県","（％）","（人）") -> （人） | G27: ="《年齢階層別"&C18&IF(LEFT(R28,1)="県","割合","")&"》 "&IF(AND(LEFT(R28,1)<>"県",G4=""),D4,IF(LEFT(R28,1)="県",D23,AA3)) -> 《年齢階層別基幹的農業従事者数》 東京都
R28: 前回との比較
C41: 後継者がいる農家数（販売農家）
D42: =IFERROR(" ◎ 後継者がいる農家数の割合は "&TEXT(H51,"0.0")&"％（"&TEXT(H50,"#,##0")&"戸）で、"&IF(LEFT(Z48,1)="県","県平均の "&TEXT(H52,"0.0"),"2010年の "&TEXT(H48,"0.0"))&"％"&AB49,"") -> ◎ 後継者がいる農家数の割合は 55.6％（3,126戸）で、県平均の 55.6％と同率である
D43: =IFERROR(IF(LEFT(Z49,1)="県","県平均の "&TEXT(H52,"0.0")," 2010年の "&TEXT(H48,"0.0"))&"％"&AB47,"") -> 2010年の 63.0％ を 7.4ポイント 下回る
H44: 単位：戸 | J44: ="《後継者のいる農家数"&IF(LEFT(Z49,1)="県","割合","")&"》 "&IF(AND(LEFT(Z49,1)<>"県",G4=""),D4,IF(LEFT(Z49,1)="県","2015年",AA3)) -> 《後継者のいる農家数》 東京都 | P44: ="《後継者のいる農家数"&IF(LEFT(Z48,1)="県","割合","")&"》 "&IF(AND(LEFT(Z48,1)<>"県",M4=""),J4,IF(LEFT(Z48,1)="県","2015年",AA3)) -> 《後継者のいる農家数割合》 2015年
H45: 計 | V45: 列番号 | W45: 2015年 | X45: 2010年 | Y45: 縦棒左 | Z45: 縦棒右 | AA45: 凡例 | AB45: 差
D46: 2010年 | E46: 農家数 | H46: =IFERROR(OFFSET(INDIRECT($Y$3),$V$3,X46-1),"nc") -> 6812 | V46: 農家数 | W46: =CELL("col",'2015年'!BS6)-1 -> 70 | X46: =CELL("col",'2010年'!BS6)-1 -> 70 | Y46: 1 | Z46: 0 | AA46: =IF(LEFT(Z49,1)="県",$D$4,$D46) -> 2010年 | AB46: =H51-IF(LEFT(Z49,1)="県",H52,H48) -> -7.3986794
G47: 後継者がいる農家数 | H47: =IFERROR(OFFSET(INDIRECT(Y3),V3,X47-1),"nc") -> 4291 | V47: 後継者有 | W47: =CELL("col",'2015年'!CI5)-1 -> 86 | X47: =CELL("col",'2010年'!CI5)-1 -> 86 | Y47: -4 | Z47: -1 | AA47: =IF(AND(LEFT(Z49,1)="県",G4=""),D4,IF(LEFT(Z49,1)="県",AA3,D49)) -> 2015年 | AB47: =IF(AB46=0,"と同率である"," を "&TEXT(ABS(AB46),"0.0")&"ポイント "&IF(AB46>0,"上回る","下回る")) -> を 7.4ポイント 下回る
G48: 割合(%) | H48: =IF(OR(AND(ISTEXT(H46),H46<>"X",H46<>"-"),AND(ISTEXT(H47),H47<>"X",H47<>"-")),"nc",IF(OR(H46="X",H47="X"),"X",IF(ROUND(SUM(H46),0)=0,"nc",SUM(H47)/H46%))) -> 62.991779 | Z48: 県との比較 | AA48: =IF(LEFT(Z48,1)="県",$D$4,$D46) -> 東京都 | AB48: =H51-IF(LEFT(Z48,1)="県",H52,H48) -> 0
D49: 2015年 | E49: 農家数 | H49: =IFERROR(OFFSET(INDIRECT($Y$4),$V$4,W46-1),"nc") -> 5623 | Z49: 前回との比較 | AA49: =AA3 -> 東京都 | AB49: =IF(AB48=0,"と同率である"," を "&TEXT(ABS(AB48),"0.0")&"ポイント "&IF(AB48>0,"上回る","下回る")) -> と同率である
G50: 後継者がいる農家数 | H50: =IFERROR(OFFSET(INDIRECT($Y$4),$V$4,$W47-1),"nc") -> 3126
G51: 割合(%) | H51: =IF(OR(AND(ISTEXT(H49),H49<>"X",H49<>"-"),AND(ISTEXT(H50),H50<>"X",H50<>"-")),"nc",IF(OR(H49="X",H50="X"),"X",IF(ROUND(SUM(H49),0)=0,"nc",SUM(H50)/H49%))) -> 55.5931
D52: 県計 | G52: 後継者がいる割合(%) | H52: =IFERROR(OFFSET(INDIRECT($Y$4),5,$W$47-1)/OFFSET(INDIRECT($Y$4),5,$W$46-1)*100,"nc") -> 55.5931
D73: =IFERROR(" ◎ 一世代家族経営の割合は "&TEXT(G79/100,"0.0%")&"（"&TEXT(G78,"#,##0")&"戸）で、"&IF(LEFT(R75,1)="県","県平均の "&TEXT(G80/100,"0.0%"),"2010年の "&TEXT(G77/F77,"0.0%"))&W78,"")
L74: 単位：戸
F75: 計 | G75: 一世代家族 経営 | J75: 二世代家族 経営 | L75: 三世代家族 経営 | R75: 前回との比較
...

Sheet 元データ
A1: 注意事項 | C1: ･･･ | D1: 空欄追記:『調査外(湖､無人島等)』 | Z1: 別紙 2 | AB1: 市区町村名 | AC1: 旧市区町村 | AD1: 農業集落
C2: ･･･ | D2: 全角変換:『2-1』⇒『2-1』 | K2: =IF(AB2=0,"",AB2) | S2: =IF(AC2=0,"",AC2) | AA2: 東京都 | AB2: =Info!G4 -> 0 | AC2: =Info!J4 | AD2: =Info!M4 -> 0
K3: 市町村 | Q3: 旧市区町村 | V3: 農業集落
A4: 農業集落 | B4: 県 | C4: 市区町村 | D4: 旧市区町村 | E4: 農業集落 | F4: 県名 | G4: 市町村名 | H4: 旧市町村名 | I4: 農業集落名 | K4: 判定１ | O4: 抽出１ | Q4: 判定2 | S4: 抽出2 | V4: 抽出3 | Z4: 通し | AA4: 都県名 | AB4: 市区町村名 | AC4: 旧区市町村名 | AD4: 農業集落名
A5: ｺｰﾄﾞ | B5: 番号 | C5: 番号 | D5: 番号 | E5: 番号 | K5: 判定 | L5: 市区町村名 | M5: 連番 | N5: 補記 | O5: 抽出 | P5: 名 | Q5: 判定 | R5: 名 | S5: 抽出 | T5: 旧区市町村名 | U5: 連番 | V5: 抽出 | W5: 農業集落名 | X5: 連番 | Z5: №
Z6: 0
A7: 1300000000 | B7: 13 | C7: 0 | D7: 0 | E7: 0 | F7: 東京都 | K7: =IF(AND($C7>0,$H7=""),"ﾘｽﾄ１","") | L7: =IF(K7="ﾘｽﾄ１",G7,"") | M7: =IF(K7="","",COUNTIF($K7:K$7,"ﾘｽﾄ１")) | N7: =IF(AND(D7=0,E7>0),"同一区","") | O7: =IF(AND(EXACT($K$2,G7),H7>0),"該当１","") | P7: =IF(O7="該当１",G7,"") | Q7: =IF(O7="該当１","ﾘｽﾄ2","") | R7: =IF(Q7="ﾘｽﾄ2",H7,"") | S7: =IF(AND(Q7="ﾘｽﾄ2",OR(I7=0,AND(N7="同一区",E7=1))),"該当２","") | T7: =IF(S7="該当２",H7,"") | U7: =IF(S7="","",COUNTIF($S$7:S7,"該当２")) | V7: =IF(AND($S$2=H7,E7>0,E7<998),"該当３","") | W7: =IF(V7="該当３",I7,"") | X7: =IF(V7="","",COUNTIF($V7:V$7,"該当３")) | Z7: 1 | AA7: =AA2 -> 東京都 | AB7: 千代田区 | AC7: =IF($Z7>MAX($U$7:$U$541),"",INDEX($T$7:$T$541,MATCH($Z7,$U$7:$U$541,0),MATCH($AC$4,$T$5:$U$5,0))) | AD7: =IF($Z7>MAX($X$7:$X$541),"",INDEX($W$7:$W$541,MATCH($Z7,$X$7:$X$541,0),MATCH($AD$4,$W$5:$X$5,0)))
A8: 1310100000 | B8: 13 | C8: 101 | D8: 0 | E8: 0 | F8: 東京都 | G8: 千代田区 | K8: =IF(AND($C8>0,$H8=""),"ﾘｽﾄ１","") -> ﾘｽﾄ１ | L8: =IF(K8="ﾘｽﾄ１",G8,"") -> 千代田区 | M8: =IF(K8="","",COUNTIF($K$7:K8,"ﾘｽﾄ１")) -> 1 | N8: =IF(AND(D8=0,E8>0),"同一区","") | O8: =IF(AND(EXACT($K$2,G8),H8>0),"該当１","") | P8: =IF(O8="該当１",G8,"") | Q8: =IF(O8="該当１","ﾘｽﾄ2","") | R8: =IF(Q8="ﾘｽﾄ2",H8,"") | S8: =IF(AND(Q8="ﾘｽﾄ2",OR(I8=0,AND(N8="同一区",E8=1))),"該当２","") | T8: =IF(S8="該当２",H8,"") | U8: =IF(S8="","",COUNTIF($S$7:S8,"該当２")) | V8: =IF(AND($S$2=H8,E8>0,E8<998),"該当３","") | W8: =IF(V8="該当３",I8,"") | X8: =IF(V8="","",COUNTIF($V$7:V8,"該当３")) | Z8: 2 | AB8: 中央区 | AC8: =IF($Z8>MAX($U$7:$U$541),"",INDEX($T$7:$T$541,MATCH($Z8,$U$7:$U$541,0),MATCH($AC$4,$T$5:$U$5,0))) | AD8: =IF($Z8>MAX($X$7:$X$541),"",INDEX($W$7:$W$541,MATCH($Z8,$X$7:$X$541,0),MATCH($AD$4,$W$5:$X$5,0)))
A9: 1310100001 | B9: 13 | C9: 101 | D9: 0 | E9: 1 | F9: 東京都 | G9: 千代田区 | H9: 千代田区 | I9: 千代田区全域 | K9: =IF(AND($C9>0,$H9=""),"ﾘｽﾄ１","") | L9: =IF(K9="ﾘｽﾄ１",G9,"") | M9: =IF(K9="","",COUNTIF($K$7:K9,"ﾘｽﾄ１")) | N9: =IF(AND(D9=0,E9>0),"同一区","") -> 同一区 | O9: =IF(AND(EXACT($K$2,G9),H9>0),"該当１","") | P9: =IF(O9="該当１",G9,"") | Q9: =IF(O9="該当１","ﾘｽﾄ2","") | R9: =IF(Q9="ﾘｽﾄ2",H9,"") | S9: =IF(AND(Q9="ﾘｽﾄ2",OR(I9=0,AND(N9="同一区",E9=1))),"該当２","") | T9: =IF(S9="該当２",H9,"") | U9: =IF(S9="","",COUNTIF($S$7:S9,"該当２")) | V9: =IF(AND($S$2=H9,E9>0,E9<998),"該当３","") | W9: =IF(V9="該当３",I9,"") | X9: =IF(V9="","",COUNTIF($V$7:V9,"該当３")) | Z9: 3 | AB9: 港区 | AC9: =IF($Z9>MAX($U$7:$U$541),"",INDEX($T$7:$T$541,MATCH($Z9,$U$7:$U$541,0),MATCH($AC$4,$T$5:$U$5,0))) | AD9: =IF($Z9>MAX($X$7:$X$541),"",INDEX($W$7:$W$541,MATCH($Z9,$X$7:$X$541,0),MATCH($AD$4,$W$5:$X$5,0)))
A10: 1310200000 | B10: 13 | C10: 102 | D10: 0 | E10: 0 | F10: 東京都 | G10: 中央区 | K10: =IF(AND($C10>0,$H10=""),"ﾘｽﾄ１","") -> ﾘｽﾄ１ | L10: =IF(K10="ﾘｽﾄ１",G10,"") -> 中央区 | M10: =IF(K10="","",COUNTIF($K$7:K10,"ﾘｽﾄ１")) -> 2 | N10: =IF(AND(D10=0,E10>0),"同一区","") | O10: =IF(AND(EXACT($K$2,G10),H10>0),"該当１","") | P10: =IF(O10="該当１",G10,"") | Q10: =IF(O10="該当１","ﾘｽﾄ2","") | R10: =IF(Q10="ﾘｽﾄ2",H10,"") | S10: =IF(AND(Q10="ﾘｽﾄ2",OR(I10=0,AND(N10="同一区",E10=1))),"該当２","") | T10: =IF(S10="該当２",H10,"") | U10: =IF(S10="","",COUNTIF($S$7:S10,"該当２")) | V10: =IF(AND($S$2=H10,E10>0,E10<998),"該当３","") | W10: =IF(V10="該当３",I10,"") | X10: =IF(V10="","",COUNTIF($V$7:V10,"該当３")) | Z10: 4 | AB10: 新宿区 | AC10: =IF($Z10>MAX($U$7:$U$541),"",INDEX($T$7:$T$541,MATCH($Z10,$U$7:$U$541,0),MATCH($AC$4,$T$5:$U$5,0))) | AD10: =IF($Z10>MAX($X$7:$X$541),"",INDEX($W$7:$W$541,MATCH($Z10,$X$7:$X$541,0),MATCH($AD$4,$W$5:$X$5,0)))
A11: 1310200001 | B11: 13 | C11: 102 | D11: 0 | E11: 1 | F11: 東京都 | G11: 中央区 | H11: 中央区 | I11: 中央区全域 | K11: =IF(AND($C11>0,$H11=""),"ﾘｽﾄ１","") | L11: =IF(K11="ﾘｽﾄ１",G11,"") | M11: =IF(K11="","",COUNTIF($K$7:K11,"ﾘｽﾄ１")) | N11: =IF(AND(D11=0,E11>0),"同一区","") -> 同一区 | O11: =IF(AND(EXACT($K$2,G11),H11>0),"該当１","") | P11: =IF(O11="該当１",G11,"") | Q11: =IF(O11="該当１","ﾘｽﾄ2","") | R11: =IF(Q11="ﾘｽﾄ2",H11,"") | S11: =IF(AND(Q11="ﾘｽﾄ2",OR(I11=0,AND(N11="同一区",E11=1))),"該当２","") | T11: =IF(S11="該当２",H11,"") | U11: =IF(S11="","",COUNTIF($S$7:S11,"該当２")) | V11: =IF(AND($S$2=H11,E11>0,E11<998),"該当３","") | W11: =IF(V11="該当３",I11,"") | X11: =IF(V11="","",COUNTIF($V$7:V11,"該当３")) | Z11: 5 | AB11: 文京区 | AC11: =IF($Z11>MAX($U$7:$U$541),"",INDEX($T$7:$T$541,MATCH($Z11,$U$7:$U$541,0),MATCH($AC$4,$T$5:$U$5,0))) | AD11: =IF($Z11>MAX($X$7:$X$541),"",INDEX($W$7:$W$541,MATCH($Z11,$X$7:$X$541,0),MATCH($AD$4,$W$5:$X$5,0)))
A12: 1310300000 | B12: 13 | C12: 103 | D12: 0 | E12: 0 | F12: 東京都 | G12: 港区 | K12: =IF(AND($C12>0,$H12=""),"ﾘｽﾄ１","") -> ﾘｽﾄ１ | L12: =IF(K12="ﾘｽﾄ１",G12,"") -> 港区 | M12: =IF(K12="","",COUNTIF($K$7:K12,"ﾘｽﾄ１")) -> 3 | N12: =IF(AND(D12=0,E12>0),"同一区","") | O12: =IF(AND(EXACT($K$2,G12),H12>0),"該当１","") | P12: =IF(O12="該当１",G12,"") | Q12: =IF(O12="該当１","ﾘｽﾄ2","") | R12: =IF(Q12="ﾘｽﾄ2",H12,"") | S12: =IF(AND(Q12="ﾘｽﾄ2",OR(I12=0,AND(N12="同一区",E12=1))),"該当２","") | T12: =IF(S12="該当２",H12,"") | U12: =IF(S12="","",COUNTIF($S$7:S12,"該当２")) | V12: =IF(AND($S$2=H12,E12>0,E12<998),"該当３","") | W12: =IF(V12="該当３",I12,"") | X12: =IF(V12="","",COUNTIF($V$7:V12,"該当３")) | Z12: 6 | AB12: 台東区 | AC12: =IF($Z12>MAX($U$7:$U$541),"",INDEX($T$7:$T$541,MATCH($Z12,$U$7:$U$541,0),MATCH($AC$4,$T$5:$U$5,0))) | AD12: =IF($Z12>MAX($X$7:$X$541),"",INDEX($W$7:$W$541,MATCH($Z12,$X$7:$X$541,0),MATCH($AD$4,$W$5:$X$5,0)))
A13: 1310300001 | B13: 13 | C13: 103 | D13: 0 | E13: 1 | F13: 東京都 | G13: 港区 | H13: 港区 | I13: 港区全域 | K13: =IF(AND($C13>0,$H13=""),"ﾘｽﾄ１","") | L13: =IF(K13="ﾘｽﾄ１",G13,"") | M13: =IF(K13="","",COUNTIF($K$7:K13,"ﾘｽﾄ１")) | N13: =IF(AND(D13=0,E13>0),"同一区","") -> 同一区 | O13: =IF(AND(EXACT($K$2,G13),H13>0),"該当１","") | P13: =IF(O13="該当１",G13,"") | Q13: =IF(O13="該当１","ﾘｽﾄ2","") | R13: =IF(Q13="ﾘｽﾄ2",H13,"") | S13: =IF(AND(Q13="ﾘｽﾄ2",OR(I13=0,AND(N13="同一区",E13=1))),"該当２","") | T13: =IF(S13="該当２",H13,"") | U13: =IF(S13="","",COUNTIF($S$7:S13,"該当２")) | V13: =IF(AND($S$2=H13,E13>0,E13<998),"該当３","") | W13: =IF(V13="該当３",I13,"") | X13: =IF(V13="","",COUNTIF($V$7:V13,"該当３")) | Z13: 7 | AB13: 墨田区 | AC13: =IF($Z13>MAX($U$7:$U$541),"",INDEX($T$7:$T$541,MATCH($Z13,$U$7:$U$541,0),MATCH($AC$4,$T$5:$U$5,0))) | AD13: =IF($Z13>MAX($X$7:$X$541),"",INDEX($W$7:$W$541,MATCH($Z13,$X$7:$X$541,0),MATCH($AD$4,$W$5:$X$5,0)))
A14: 1310400000 | B14: 13 | C14: 104 | D14: 0 | E14: 0 | F14: 東京都 | G14: 新宿区 | K14: =IF(AND($C14>0,$H14=""),"ﾘｽﾄ１","") -> ﾘｽﾄ１ | L14: =IF(K14="ﾘｽﾄ１",G14,"") -> 新宿区 | M14: =IF(K14="","",COUNTIF($K$7:K14,"ﾘｽﾄ１")) -> 4 | N14: =IF(AND(D14=0,E14>0),"同一区","") | O14: =IF(AND(EXACT($K$2,G14),H14>0),"該当１","") | P14: =IF(O14="該当１",G14,"") | Q14: =IF(O14="該当１","ﾘｽﾄ2","") | R14: =IF(Q14="ﾘｽﾄ2",H14,"") | S14: =IF(AND(Q14="ﾘｽﾄ2",OR(I14=0,AND(N14="同一区",E14=1))),"該当２","") | T14: =IF(S14="該当２",H14,"") | U14: =IF(S14="","",COUNTIF($S$7:S14,"該当２")) | V14: =IF(AND($S$2=H14,E14>0,E14<998),"該当３","") | W14: =IF(V14="該当３",I14,"") | X14: =IF(V14="","",COUNTIF($V$7:V14,"該当３")) | Z14: 8 | AB14: 江東区 | AC14: =IF($Z14>MAX($U$7:$U$541),"",INDEX($T$7:$T$541,MATCH($Z14,$U$7:$U$541,0),MATCH($AC$4,$T$5:$U$5,0))) | AD14: =IF($Z14>MAX($X$7:$X$541),"",INDEX($W$7:$W$541,MATCH($Z14,$X$7:$X$541,0),MATCH($AD$4,$W$5:$X$5,0)))
A15: 1310400001 | B15: 13 | C15: 104 | D15: 0 | E15: 1 | F15: 東京都 | G15: 新宿区 | H15: 新宿区 | I15: 新宿区全域 | K15: =IF(AND($C15>0,$H15=""),"ﾘｽﾄ１","") | L15: =IF(K15="ﾘｽﾄ１",G15,"") | M15: =IF(K15="","",COUNTIF($K$7:K15,"ﾘｽﾄ１")) | N15: =IF(AND(D15=0,E15>0),"同一区","") -> 同一区 | O15: =IF(AND(EXACT($K$2,G15),H15>0),"該当１","") | P15: =IF(O15="該当１",G15,"") | Q15: =IF(O15="該当１","ﾘｽﾄ2","") | R15: =IF(Q15="ﾘｽﾄ2",H15,"") | S15: =IF(AND(Q15="ﾘｽﾄ2",OR(I15=0,AND(N15="同一区",E15=1))),"該当２","") | T15: =IF(S15="該当２",H15,"") | U15: =IF(S15="","",COUNTIF($S$7:S15,"該当２")) | V15: =IF(AND($S$2=H15,E15>0,E15<998),"該当３","") | W15: =IF(V15="該当３",I15,"") | X15: =IF(V15="","",COUNTIF($V$7:V15,"該当３")) | Z15: 9 | AB15: 品川区 | AC15: =IF($Z15>MAX($U$7:$U$541),"",INDEX($T$7:$T$541,MATCH($Z15,$U$7:$U$541,0),MATCH($AC$4,$T$5:$U$5,0))) | AD15: =IF($Z15>MAX($X$7:$X$541),"",INDEX($W$7:$W$541,MATCH($Z15,$X$7:$X$541,0),MATCH($AD$4,$W$5:$X$5,0)))
A16: 1310500000 | B16: 13 | C16: 105 | D16: 0 | E16: 0 | F16: 東京都 | G16: 文京区 | K16: =IF(AND($C16>0,$H16=""),"ﾘｽﾄ１","") -> ﾘｽﾄ１ | L16: =IF(K16="ﾘｽﾄ１",G16,"") -> 文京区 | M16: =IF(K16="","",COUNTIF($K$7:K16,"ﾘｽﾄ１")) -> 5 | N16: =IF(AND(D16=0,E16>0),"同一区","") | O16: =IF(AND(EXACT($K$2,G16),H16>0),"該当１","") | P16: =IF(O16="該当１",G16,"") | Q16: =IF(O16="該当１","ﾘｽﾄ2","") | R16: =IF(Q16="ﾘｽﾄ2",H16,"") | S16: =IF(AND(Q16="ﾘｽﾄ2",OR(I16=0,AND(N16="同一区",E16=1))),"該当２","") | T16: =IF(S16="該当２",H16,"") | U16: =IF(S16="","",COUNTIF($S$7:S16,"該当２")) | V16: =IF(AND($S$2=H16,E16>0,E16<998),"該当３","") | W16: =IF(V16="該当３",I16,"") | X16: =IF(V16="","",COUNTIF($V$7:V16,"該当３")) | Z16: 10 | AB16: 目黒区 | AC16: =IF($Z16>MAX($U$7:$U$541),"",INDEX($T$7:$T$541,MATCH($Z16,$U$7:$U$541,0),MATCH($AC$4,$T$5:$U$5,0))) | AD16: =IF($Z16>MAX($X$7:$X$541),"",INDEX($W$7:$W$541,MATCH($Z16,$X$7:$X$541,0),MATCH($AD$4,$W$5:$X$5,0)))
A17: 1310500001 | B17: 13 | C17: 105 | D17: 0 | E17: 1 | F17: 東京都 | G17: 文京区 | H17: 文京区 | I17: 文京区全域 | K17: =IF(AND($C17>0,$H17=""),"ﾘｽﾄ１","") | L17: =IF(K17="ﾘｽﾄ１",G17,"") | M17: =IF(K17="","",COUNTIF($K$7:K17,"ﾘｽﾄ１")) | N17: =IF(AND(D17=0,E17>0),"同一区","") -> 同一区 | O17: =IF(AND(EXACT($K$2,G17),H17>0),"該当１","") | P17: =IF(O17="該当１",G17,"") | Q17: =IF(O17="該当１","ﾘｽﾄ2","") | R17: =IF(Q17="ﾘｽﾄ2",H17,"") | S17: =IF(AND(Q17="ﾘｽﾄ2",OR(I17=0,AND(N17="同一区",E17=1))),"該当２","") | T17: =IF(S17="該当２",H17,"") | U17: =IF(S17="","",COUNTIF($S$7:S17,"該当２")) | V17: =IF(AND($S$2=H17,E17>0,E17<998),"該当３","") | W17: =IF(V17="該当３",I17,"") | X17: =IF(V17="","",COUNTIF($V$7:V17,"該当３")) | Z17: 11 | AB17: 大田区 | AD17: =IF($Z17>MAX($X$7:$X$541),"",INDEX($W$7:$W$541,MATCH($Z17,$X$7:$X$541,0),MATCH($AD$4,$W$5:$X$5,0)))
A18: 1310600000 | B18: 13 | C18: 106 | D18: 0 | E18: 0 | F18: 東京都 | G18: 台東区 | K18: =IF(AND($C18>0,$H18=""),"ﾘｽﾄ１","") -> ﾘｽﾄ１ | L18: =IF(K18="ﾘｽﾄ１",G18,"") -> 台東区 | M18: =IF(K18="","",COUNTIF($K$7:K18,"ﾘｽﾄ１")) -> 6 | N18: =IF(AND(D18=0,E18>0),"同一区","") | O18: =IF(AND(EXACT($K$2,G18),H18>0),"該当１","") | P18: =IF(O18="該当１",G18,"") | Q18: =IF(O18="該当１","ﾘｽﾄ2","") | R18: =IF(Q18="ﾘｽﾄ2",H18,"") | S18: =IF(AND(Q18="ﾘｽﾄ2",OR(I18=0,AND(N18="同一区",E18=1))),"該当２","") | T18: =IF(S18="該当２",H18,"") | U18: =IF(S18="","",COUNTIF($S$7:S18,"該当２")) | V18: =IF(AND($S$2=H18,E18>0,E18<998),"該当３","") | W18: =IF(V18="該当３",I18,"") | X18: =IF(V18="","",COUNTIF($V$7:V18,"該当３")) | Z18: 12 | AB18: 世田谷区 | AD18: =IF($Z18>MAX($X$7:$X$541),"",INDEX($W$7:$W$541,MATCH($Z18,$X$7:$X$541,0),MATCH($AD$4,$W$5:$X$5,0)))
A19: 1310600001 | B19: 13 | C19: 106 | D19: 0 | E19: 1 | F19: 東京都 | G19: 台東区 | H19: 台東区 | I19: 台東区全域 | K19: =IF(AND($C19>0,$H19=""),"ﾘｽﾄ１","") | L19: =IF(K19="ﾘｽﾄ１",G19,"") | M19: =IF(K19="","",COUNTIF($K$7:K19,"ﾘｽﾄ１")) | N19: =IF(AND(D19=0,E19>0),"同一区","") -> 同一区 | O19: =IF(AND(EXACT($K$2,G19),H19>0),"該当１","") | P19: =IF(O19="該当１",G19,"") | Q19: =IF(O19="該当１","ﾘｽﾄ2","") | R19: =IF(Q19="ﾘｽﾄ2",H19,"") | S19: =IF(AND(Q19="ﾘｽﾄ2",OR(I19=0,AND(N19="同一区",E19=1))),"該当２","") | T19: =IF(S19="該当２",H19,"") | U19: =IF(S19="","",COUNTIF($S$7:S19,"該当２")) | V19: =IF(AND($S$2=H19,E19>0,E19<998),"該当３","") | W19: =IF(V19="該当３",I19,"") | X19: =IF(V19="","",COUNTIF($V$7:V19,"該当３")) | Z19: 13 | AB19: 渋谷区 | AD19: =IF($Z19>MAX($X$7:$X$541),"",INDEX($W$7:$W$541,MATCH($Z19,$X$7:$X$541,0),MATCH($AD$4,$W$5:$X$5,0)))
A20: 1310700000 | B20: 13 | C20: 107 | D20: 0 | E20: 0 | F20: 東京都 | G20: 墨田区 | K20: =IF(AND($C20>0,$H20=""),"ﾘｽﾄ１","") -> ﾘｽﾄ１ | L20: =IF(K20="ﾘｽﾄ１",G20,"") -> 墨田区 | M20: =IF(K20="","",COUNTIF($K$7:K20,"ﾘｽﾄ１")) -> 7 | N20: =IF(AND(D20=0,E20>0),"同一区","") | O20: =IF(AND(EXACT($K$2,G20),H20>0),"該当１","") | P20: =IF(O20="該当１",G20,"") | Q20: =IF(O20="該当１","ﾘｽﾄ2","") | R20: =IF(Q20="ﾘｽﾄ2",H20,"") | S20: =IF(AND(Q20="ﾘｽﾄ2",OR(I20=0,AND(N20="同一区",E20=1))),"該当２","") | T20: =IF(S20="該当２",H20,"") | U20: =IF(S20="","",COUNTIF($S$7:S20,"該当２")) | V20: =IF(AND($S$2=H20,E20>0,E20<998),"該当３","") | W20: =IF(V20="該当３",I20,"") | X20: =IF(V20="","",COUNTIF($V$7:V20,"該当３")) | Z20: 14 | AB20: 中野区 | AD20: =IF($Z20>MAX($X$7:$X$541),"",INDEX($W$7:$W$541,MATCH($Z20,$X$7:$X$541,0),MATCH($AD$4,$W$5:$X$5,0)))
A21: 1310700001 | B21: 13 | C21: 107 | D21: 0 | E21: 1 | F21: 東京都 | G21: 墨田区 | H21: 墨田区 | I21: 墨田区全域 | K21: =IF(AND($C21>0,$H21=""),"ﾘｽﾄ１","") | L21: =IF(K21="ﾘｽﾄ１",G21,"") | M21: =IF(K21="","",COUNTIF($K$7:K21,"ﾘｽﾄ１")) | N21: =IF(AND(D21=0,E21>0),"同一区","") -> 同一区 | O21: =IF(AND(EXACT($K$2,G21),H21>0),"該当１","") | P21: =IF(O21="該当１",G21,"") | Q21: =IF(O21="該当１","ﾘｽﾄ2","") | R21: =IF(Q21="ﾘｽﾄ2",H21,"") | S21: =IF(AND(Q21="ﾘｽﾄ2",OR(I21=0,AND(N21="同一区",E21=1))),"該当２","") | T21: =IF(S21="該当２",H21,"") | U21: =IF(S21="","",COUNTIF($S$7:S21,"該当２")) | V21: =IF(AND($S$2=H21,E21>0,E21<998),"該当３","") | W21: =IF(V21="該当３",I21,"") | X21: =IF(V21="","",COUNTIF($V$7:V21,"該当３")) | Z21: 15 | AB21: 杉並区 | AD21: =IF($Z21>MAX($X$7:$X$541),"",INDEX($W$7:$W$541,MATCH($Z21,$X$7:$X$541,0),MATCH($AD$4,$W$5:$X$5,0)))
A22: 1310800000 | B22: 13 | C22: 108 | D22: 0 | E22: 0 | F22: 東京都 | G22: 江東区 | K22: =IF(AND($C22>0,$H22=""),"ﾘｽﾄ１","") -> ﾘｽﾄ１ | L22: =IF(K22="ﾘｽﾄ１",G22,"") -> 江東区 | M22: =IF(K22="","",COUNTIF($K$7:K22,"ﾘｽﾄ１")) -> 8 | N22: =IF(AND(D22=0,E22>0),"同一区","") | O22: =IF(AND(EXACT($K$2,G22),H22>0),"該当１","") | P22: =IF(O22="該当１",G22,"") | Q22: =IF(O22="該当１","ﾘｽﾄ2","") | R22: =IF(Q22="ﾘｽﾄ2",H22,"") | S22: =IF(AND(Q22="ﾘｽﾄ2",OR(I22=0,AND(N22="同一区",E22=1))),"該当２","") | T22: =IF(S22="該当２",H22,"") | U22: =IF(S22="","",COUNTIF($S$7:S22,"該当２")) | V22: =IF(AND($S$2=H22,E22>0,E22<998),"該当３","") | W22: =IF(V22="該当３",I22,"") | X22: =IF(V22="","",COUNTIF($V$7:V22,"該当３")) | Z22: 16 | AB22: 豊島区 | AD22: =IF($Z22>MAX($X$7:$X$541),"",INDEX($W$7:$W$541,MATCH($Z22,$X$7:$X$541,0),MATCH($AD$4,$W$5:$X$5,0)))
A23: 1310800001 | B23: 13 | C23: 108 | D23: 0 | E23: 1 | F23: 東京都 | G23: 江東区 | H23: 江東区 | I23: 江東区全域 | K23: =IF(AND($C23>0,$H23=""),"ﾘｽﾄ１","") | L23: =IF(K23="ﾘｽﾄ１",G23,"") | M23: =IF(K23="","",COUNTIF($K$7:K23,"ﾘｽﾄ１")) | N23: =IF(AND(D23=0,E23>0),"同一区","") -> 同一区 | O23: =IF(AND(EXACT($K$2,G23),H23>0),"該当１","") | P23: =IF(O23="該当１",G23,"") | Q23: =IF(O23="該当１","ﾘｽﾄ2","") | R23: =IF(Q23="ﾘｽﾄ2",H23,"") | S23: =IF(AND(Q23="ﾘｽﾄ2",OR(I23=0,AND(N23="同一区",E23=1))),"該当２","") | T23: =IF(S23="該当２",H23,"") | U23: =IF(S23="","",COUNTIF($S$7:S23,"該当２")) | V23: =IF(AND($S$2=H23,E23>0,E23<998),"該当３","") | W23: =IF(V23="該当３",I23,"") | X23: =IF(V23="","",COUNTIF($V$7:V23,"該当３")) | Z23: 17 | AB23: 北区 | AD23: =IF($Z23>MAX($X$7:$X$541),"",INDEX($W$7:$W$541,MATCH($Z23,$X$7:$X$541,0),MATCH($AD$4,$W$5:$X$5,0)))
A24: 1310900000 | B24: 13 | C24: 109 | D24: 0 | E24: 0 | F24: 東京都 | G24: 品川区 | K24: =IF(AND($C24>0,$H24=""),"ﾘｽﾄ１","") -> ﾘｽﾄ１ | L24: =IF(K24="ﾘｽﾄ１",G24,"") -> 品川区 | M24: =IF(K24="","",COUNTIF($K$7:K24,"ﾘｽﾄ１")) -> 9 | N24: =IF(AND(D24=0,E24>0),"同一区","") | O24: =IF(AND(EXACT($K$2,G24),H24>0),"該当１","") | P24: =IF(O24="該当１",G24,"") | Q24: =IF(O24="該当１","ﾘｽﾄ2","") | R24: =IF(Q24="ﾘｽﾄ2",H24,"") | S24: =IF(AND(Q24="ﾘｽﾄ2",OR(I24=0,AND(N24="同一区",E24=1))),"該当２","") | T24: =IF(S24="該当２",H24,"") | U24: =IF(S24="","",COUNTIF($S$7:S24,"該当２")) | V24: =IF(AND($S$2=H24,E24>0,E24<998),"該当３","") | W24: =IF(V24="該当３",I24,"") | X24: =IF(V24="","",COUNTIF($V$7:V24,"該当３")) | Z24: 18 | AB24: 荒川区 | AD24: =IF($Z24>MAX($X$7:$X$541),"",INDEX($W$7:$W$541,MATCH($Z24,$X$7:$X$541,0),MATCH($AD$4,$W$5:$X$5,0)))
A25: 1310900001 | B25: 13 | C25: 109 | D25: 0 | E25: 1 | F25: 東京都 | G25: 品川区 | H25: 品川区 | I25: 品川区全域 | K25: =IF(AND($C25>0,$H25=""),"ﾘｽﾄ１","") | L25: =IF(K25="ﾘｽﾄ１",G25,"") | M25: =IF(K25="","",COUNTIF($K$7:K25,"ﾘｽﾄ１")) | N25: =IF(AND(D25=0,E25>0),"同一区","") -> 同一区 | O25: =IF(AND(EXACT($K$2,G25),H25>0),"該当１","") | P25: =IF(O25="該当１",G25,"") | Q25: =IF(O25="該当１","ﾘｽﾄ2","") | R25: =IF(Q25="ﾘｽﾄ2",H25,"") | S25: =IF(AND(Q25="ﾘｽﾄ2",OR(I25=0,AND(N25="同一区",E25=1))),"該当２","") | T25: =IF(S25="該当２",H25,"") | U25: =IF(S25="","",COUNTIF($S$7:S25,"該当２")) | V25: =IF(AND($S$2=H25,E25>0,E25<998),"該当３","") | W25: =IF(V25="該当３",I25,"") | X25: =IF(V25="","",COUNTIF($V$7:V25,"該当３")) | Z25: 19 | AB25: 板橋区 | AD25: =IF($Z25>MAX($X$7:$X$541),"",INDEX($W$7:$W$541,MATCH($Z25,$X$7:$X$541,0),MATCH($AD$4,$W$5:$X$5,0)))
A26: 1311000000 | B26: 13 | C26: 110 | D26: 0 | E26: 0 | F26: 東京都 | G26: 目黒区 | K26: =IF(AND($C26>0,$H26=""),"ﾘｽﾄ１","") -> ﾘｽﾄ１ | L26: =IF(K26="ﾘｽﾄ１",G26,"") -> 目黒区 | M26: =IF(K26="","",COUNTIF($K$7:K26,"ﾘｽﾄ１")) -> 10 | N26: =IF(AND(D26=0,E26>0),"同一区","") | O26: =IF(AND(EXACT($K$2,G26),H26>0),"該当１","") | P26: =IF(O26="該当１",G26,"") | Q26: =IF(O26="該当１","ﾘｽﾄ2","") | R26: =IF(Q26="ﾘｽﾄ2",H26,"") | S26: =IF(AND(Q26="ﾘｽﾄ2",OR(I26=0,AND(N26="同一区",E26=1))),"該当２","") | T26: =IF(S26="該当２",H26,"") | U26: =IF(S26="","",COUNTIF($S$7:S26,"該当２")) | V26: =IF(AND($S$2=H26,E26>0,E26<998),"該当３","") | W26: =IF(V26="該当３",I26,"") | X26: =IF(V26="","",COUNTIF($V$7:V26,"該当３")) | Z26: 20 | AB26: 練馬区 | AD26: =IF($Z26>MAX($X$7:$X$541),"",INDEX($W$7:$W$541,MATCH($Z26,$X$7:$X$541,0),MATCH($AD$4,$W$5:$X$5,0)))
A27: 1311000008 | B27: 13 | C27: 110 | D27: 0 | E27: 8 | F27: 東京都 | G27: 目黒区 | H27: 目黒区 | I27: 目黒区全域 | K27: =IF(AND($C27>0,$H27=""),"ﾘｽﾄ１","") | L27: =IF(K27="ﾘｽﾄ１",G27,"") | M27: =IF(K27="","",COUNTIF($K$7:K27,"ﾘｽﾄ１")) | N27: =IF(AND(D27=0,E27>0),"同一区","") -> 同一区 | O27: =IF(AND(EXACT($K$2,G27),H27>0),"該当１","") | P27: =IF(O27="該当１",G27,"") | Q27: =IF(O27="該当１","ﾘｽﾄ2","") | R27: =IF(Q27="ﾘｽﾄ2",H27,"") | S27: =IF(AND(Q27="ﾘｽﾄ2",OR(I27=0,AND(N27="同一区",E27=8))),"該当２","") | T27: =IF(S27="該当２",H27,"") | U27: =IF(S27="","",COUNTIF($S$7:S27,"該当２")) | V27: =IF(AND($S$2=H27,E27>0,E27<998),"該当３","") | W27: =IF(V27="該当３",I27,"") | X27: =IF(V27="","",COUNTIF($V$7:V27,"該当３")) | Z27: 21 | AB27: 足立区 | AD27: =IF($Z27>MAX($X$7:$X$541),"",INDEX($W$7:$W$541,MATCH($Z27,$X$7:$X$541,0),MATCH($AD$4,$W$5:$X$5,0)))
A28: 1311100000 | B28: 13 | C28: 111 | D28: 0 | E28: 0 | F28: 東京都 | G28: 大田区 | K28: =IF(AND($C28>0,$H28=""),"ﾘｽﾄ１","") -> ﾘｽﾄ１ | L28: =IF(K28="ﾘｽﾄ１",G28,"") -> 大田区 | M28: =IF(K28="","",COUNTIF($K$7:K28,"ﾘｽﾄ１")) -> 11 | N28: =IF(AND(D28=0,E28>0),"同一区","") | O28: =IF(AND(EXACT($K$2,G28),H28>0),"該当１","") | P28: =IF(O28="該当１",G28,"") | Q28: =IF(O28="該当１","ﾘｽﾄ2","") | R28: =IF(Q28="ﾘｽﾄ2",H28,"") | S28: =IF(AND(Q28="ﾘｽﾄ2",OR(I28=0,AND(N28="同一区",E28=1))),"該当２","") | T28: =IF(S28="該当２",H28,"") | U28: =IF(S28="","",COUNTIF($S$7:S28,"該当２")) | V28: =IF(AND($S$2=H28,E28>0,E28<998),"該当３","") | W28: =IF(V28="該当３",I28,"") | X28: =IF(V28="","",COUNTIF($V$7:V28,"該当３")) | Z28: 22 | AB28: 葛飾区 | AD28: =IF($Z28>MAX($X$7:$X$541),"",INDEX($W$7:$W$541,MATCH($Z28,$X$7:$X$541,0),MATCH($AD$4,$W$5:$X$5,0)))
A29: 1311100026 | B29: 13 | C29: 111 | D29: 0 | E29: 26 | F29: 東京都 | G29: 大田区 | H29: 大田区 | I29: 大田区全域 | K29: =IF(AND($C29>0,$H29=""),"ﾘｽﾄ１","") | L29: =IF(K29="ﾘｽﾄ１",G29,"") | M29: =IF(K29="","",COUNTIF($K$7:K29,"ﾘｽﾄ１")) | N29: =IF(AND(D29=0,E29>0),"同一区","") -> 同一区 | O29: =IF(AND(EXACT($K$2,G29),H29>0),"該当１","") | P29: =IF(O29="該当１",G29,"") | Q29: =IF(O29="該当１","ﾘｽﾄ2","") | R29: =IF(Q29="ﾘｽﾄ2",H29,"") | S29: =IF(AND(Q29="ﾘｽﾄ2",OR(I29=0,AND(N29="同一区",E29=26))),"該当２","") | T29: =IF(S29="該当２",H29,"") | U29: =IF(S29="","",COUNTIF($S$7:S29,"該当２")) | V29: =IF(AND($S$2=H29,E29>0,E29<998),"該当３","") | W29: =IF(V29="該当３",I29,"") | X29: =IF(V29="","",COUNTIF($V$7:V29,"該当３")) | Z29: 23 | AB29: 江戸川区 | AD29: =IF($Z29>MAX($X$7:$X$541),"",INDEX($W$7:$W$541,MATCH($Z29,$X$7:$X$541,0),MATCH($AD$4,$W$5:$X$5,0)))
A30: 1311200000 | B30: 13 | C30: 112 | D30: 0 | E30: 0 | F30: 東京都 | G30: 世田谷区 | K30: =IF(AND($C30>0,$H30=""),"ﾘｽﾄ１","") -> ﾘｽﾄ１ | L30: =IF(K30="ﾘｽﾄ１",G30,"") -> 世田谷区 | M30: =IF(K30="","",COUNTIF($K$7:K30,"ﾘｽﾄ１")) -> 12 | N30: =IF(AND(D30=0,E30>0),"同一区","") | O30: =IF(AND(EXACT($K$2,G30),H30>0),"該当１","") | P30: =IF(O30="該当１",G30,"") | Q30: =IF(O30="該当１","ﾘｽﾄ2","") | R30: =IF(Q30="ﾘｽﾄ2",H30,"") | S30: =IF(AND(Q30="ﾘｽﾄ2",OR(I30=0,AND(N30="同一区",E30=1))),"該当２","") | T30: =IF(S30="該当２",H30,"") | U30: =IF(S30="","",COUNTIF($S$7:S30,"該当２")) | V30: =IF(AND($S$2=H30,E30>0,E30<998),"該当３","") | W30: =IF(V30="該当３",I30,"") | X30: =IF(V30="","",COUNTIF($V$7:V30,"該当３")) | Z30: 24 | AB30: 八王子市 | AD30: =IF($Z30>MAX($X$7:$X$541),"",INDEX($W$7:$W$541,MATCH($Z30,$X$7:$X$541,0),MATCH($AD$4,$W$5:$X$5,0)))
A31: 1311200064 | B31: 13 | C31: 112 | D31: 0 | E31: 64 | F31: 東京都 | G31: 世田谷区 | H31: 世田谷区 | I31: 世田谷区全域 | K31: =IF(AND($C31>0,$H31=""),"ﾘｽﾄ１","") | L31: =IF(K31="ﾘｽﾄ１",G31,"") | M31: =IF(K31="","",COUNTIF($K$7:K31,"ﾘｽﾄ１")) | N31: =IF(AND(D31=0,E31>0),"同一区","") -> 同一区 | O31: =IF(AND(EXACT($K$2,G31),H31>0),"該当１","") | P31: =IF(O31="該当１",G31,"") | Q31: =IF(O31="該当１","ﾘｽﾄ2","") | R31: =IF(Q31="ﾘｽﾄ2",H31,"") | S31: =IF(AND(Q31="ﾘｽﾄ2",OR(I31=0,AND(N31="同一区",E31=64))),"該当２","") | T31: =IF(S31="該当２",H31,"") | U31: =IF(S31="","",COUNTIF($S$7:S31,"該当２")) | V31: =IF(AND($S$2=H31,E31>0,E31<998),"該当３","") | W31: =IF(V31="該当３",I31,"") | X31: =IF(V31="","",COUNTIF($V$7:V31,"該当３")) | Z31: 25 | AB31: 立川市 | AD31: =IF($Z31>MAX($X$7:$X$541),"",INDEX($W$7:$W$541,MATCH($Z31,$X$7:$X$541,0),MATCH($AD$4,$W$5:$X$5,0)))
A32: 1311300000 | B32: 13 | C32: 113 | D32: 0 | E32: 0 | F32: 東京都 | G32: 渋谷区 | K32: =IF(AND($C32>0,$H32=""),"ﾘｽﾄ１","") -> ﾘｽﾄ１ | L32: =IF(K32="ﾘｽﾄ１",G32,"") -> 渋谷区 | M32: =IF(K32="","",COUNTIF($K$7:K32,"ﾘｽﾄ１")) -> 13 | N32: =IF(AND(D32=0,E32>0),"同一区","") | O32: =IF(AND(EXACT($K$2,G32),H32>0),"該当１","") | P32: =IF(O32="該当１",G32,"") | Q32: =IF(O32="該当１","ﾘｽﾄ2","") | R32: =IF(Q32="ﾘｽﾄ2",H32,"") | S32: =IF(AND(Q32="ﾘｽﾄ2",OR(I32=0,AND(N32="同一区",E32=1))),"該当２","") | T32: =IF(S32="該当２",H32,"") | U32: =IF(S32="","",COUNTIF($S$7:S32,"該当２")) | V32: =IF(AND($S$2=H32,E32>0,E32<998),"該当３","") | W32: =IF(V32="該当３",I32,"") | X32: =IF(V32="","",COUNTIF($V$7:V32,"該当３")) | Z32: 26 | AB32: 武蔵野市 | AD32: =IF($Z32>MAX($X$7:$X$541),"",INDEX($W$7:$W$541,MATCH($Z32,$X$7:$X$541,0),MATCH($AD$4,$W$5:$X$5,0)))
A33: 1311300001 | B33: 13 | C33: 113 | D33: 0 | E33: 1 | F33: 東京都 | G33: 渋谷区 | H33: 渋谷区 | I33: 渋谷区全域 | K33: =IF(AND($C33>0,$H33=""),"ﾘｽﾄ１","") | L33: =IF(K33="ﾘｽﾄ１",G33,"") | M33: =IF(K33="","",COUNTIF($K$7:K33,"ﾘｽﾄ１")) | N33: =IF(AND(D33=0,E33>0),"同一区","") -> 同一区 | O33: =IF(AND(EXACT($K$2,G33),H33>0),"該当１","") | P33: =IF(O33="該当１",G33,"") | Q33: =IF(O33="該当１","ﾘｽﾄ2","") | R33: =IF(Q33="ﾘｽﾄ2",H33,"") | S33: =IF(AND(Q33="ﾘｽﾄ2",OR(I33=0,AND(N33="同一区",E33=1))),"該当２","") | T33: =IF(S33="該当２",H33,"") | U33: =IF(S33="","",COUNTIF($S$7:S33,"該当２")) | V33: =IF(AND($S$2=H33,E33>0,E33<998),"該当３","") | W33: =IF(V33="該当３",I33,"") | X33: =IF(V33="","",COUNTIF($V$7:V33,"該当３")) | Z33: 27 | AB33: 三鷹市 | AD33: =IF($Z33>MAX($X$7:$X$541),"",INDEX($W$7:$W$541,MATCH($Z33,$X$7:$X$541,0),MATCH($AD$4,$W$5:$X$5,0)))
A34: 1311400000 | B34: 13 | C34: 114 | D34: 0 | E34: 0 | F34: 東京都 | G34: 中野区 | K34: =IF(AND($C34>0,$H34=""),"ﾘｽﾄ１","") -> ﾘｽﾄ１ | L34: =IF(K34="ﾘｽﾄ１",G34,"") -> 中野区 | M34: =IF(K34="","",COUNTIF($K$7:K34,"ﾘｽﾄ１")) -> 14 | N34: =IF(AND(D34=0,E34>0),"同一区","") | O34: =IF(AND(EXACT($K$2,G34),H34>0),"該当１","") | P34: =IF(O34="該当１",G34,"") | Q34: =IF(O34="該当１","ﾘｽﾄ2","") | R34: =IF(Q34="ﾘｽﾄ2",H34,"") | S34: =IF(AND(Q34="ﾘｽﾄ2",OR(I34=0,AND(N34="同一区",E34=1))),"該当２","") | T34: =IF(S34="該当２",H34,"") | U34: =IF(S34="","",COUNTIF($S$7:S34,"該当２")) | V34: =IF(AND($S$2=H34,E34>0,E34<998),"該当３","") | W34: =IF(V34="該当３",I34,"") | X34: =IF(V34="","",COUNTIF($V$7:V34,"該当３")) | Z34: 28 | AB34: 青梅市 | AD34: =IF($Z34>MAX($X$7:$X$541),"",INDEX($W$7:$W$541,MATCH($Z34,$X$7:$X$541,0),MATCH($AD$4,$W$5:$X$5,0)))
A35: 1311400016 | B35: 13 | C35: 114 | D35: 0 | E35: 16 | F35: 東京都 | G35: 中野区 | H35: 中野区 | I35: 中野区全域 | K35: =IF(AND($C35>0,$H35=""),"ﾘｽﾄ１","") | L35: =IF(K35="ﾘｽﾄ１",G35,"") | M35: =IF(K35="","",COUNTIF($K$7:K35,"ﾘｽﾄ１")) | N35: =IF(AND(D35=0,E35>0),"同一区","") -> 同一区 | O35: =IF(AND(EXACT($K$2,G35),H35>0),"該当１","") | P35: =IF(O35="該当１",G35,"") | Q35: =IF(O35="該当１","ﾘｽﾄ2","") | R35: =IF(Q35="ﾘｽﾄ2",H35,"") | S35: =IF(AND(Q35="ﾘｽﾄ2",OR(I35=0,AND(N35="同一区",E35=16))),"該当２","") | T35: =IF(S35="該当２",H35,"") | U35: =IF(S35="","",COUNTIF($S$7:S35,"該当２")) | V35: =IF(AND($S$2=H35,E35>0,E35<998),"該当３","") | W35: =IF(V35="該当３",I35,"") | X35: =IF(V35="","",COUNTIF($V$7:V35,"該当３")) | Z35: 29 | AB35: 府中市 | AD35: =IF($Z35>MAX($X$7:$X$541),"",INDEX($W$7:$W$541,MATCH($Z35,$X$7:$X$541,0),MATCH($AD$4,$W$5:$X$5,0)))
A36: 1311500000 | B36: 13 | C36: 115 | D36: 0 | E36: 0 | F36: 東京都 | G36: 杉並区 | K36: =IF(AND($C36>0,$H36=""),"ﾘｽﾄ１","") -> ﾘｽﾄ１ | L36: =IF(K36="ﾘｽﾄ１",G36,"") -> 杉並区 | M36: =IF(K36="","",COUNTIF($K$7:K36,"ﾘｽﾄ１")) -> 15 | N36: =IF(AND(D36=0,E36>0),"同一区","") | O36: =IF(AND(EXACT($K$2,G36),H36>0),"該当１","") | P36: =IF(O36="該当１",G36,"") | Q36: =IF(O36="該当１","ﾘｽﾄ2","") | R36: =IF(Q36="ﾘｽﾄ2",H36,"") | S36: =IF(AND(Q36="ﾘｽﾄ2",OR(I36=0,AND(N36="同一区",E36=1))),"該当２","") | T36: =IF(S36="該当２",H36,"") | U36: =IF(S36="","",COUNTIF($S$7:S36,"該当２")) | V36: =IF(AND($S$2=H36,E36>0,E36<998),"該当３","") | W36: =IF(V36="該当３",I36,"") | X36: =IF(V36="","",COUNTIF($V$7:V36,"該当３")) | Z36: 30 | AB36: 昭島市 | AD36: =IF($Z36>MAX($X$7:$X$541),"",INDEX($W$7:$W$541,MATCH($Z36,$X$7:$X$541,0),MATCH($AD$4,$W$5:$X$5,0)))
A37: 1311500028 | B37: 13 | C37: 115 | D37: 0 | E37: 28 | F37: 東京都 | G37: 杉並区 | H37: 杉並区 | I37: 杉並区全域 | K37: =IF(AND($C37>0,$H37=""),"ﾘｽﾄ１","") | L37: =IF(K37="ﾘｽﾄ１",G37,"") | M37: =IF(K37="","",COUNTIF($K$7:K37,"ﾘｽﾄ１")) | N37: =IF(AND(D37=0,E37>0),"同一区","") -> 同一区 | O37: =IF(AND(EXACT($K$2,G37),H37>0),"該当１","") | P37: =IF(O37="該当１",G37,"") | Q37: =IF(O37="該当１","ﾘｽﾄ2","") | R37: =IF(Q37="ﾘｽﾄ2",H37,"") | S37: =IF(AND(Q37="ﾘｽﾄ2",OR(I37=0,AND(N37="同一区",E37=28))),"該当２","") | T37: =IF(S37="該当２",H37,"") | U37: =IF(S37="","",COUNTIF($S$7:S37,"該当２")) | V37: =IF(AND($S$2=H37,E37>0,E37<998),"該当３","") | W37: =IF(V37="該当３",I37,"") | X37: =IF(V37="","",COUNTIF($V$7:V37,"該当３")) | Z37: 31 | AB37: 調布市
A38: 1311600000 | B38: 13 | C38: 116 | D38: 0 | E38: 0 | F38: 東京都 | G38: 豊島区 | K38: =IF(AND($C38>0,$H38=""),"ﾘｽﾄ１","") -> ﾘｽﾄ１ | L38: =IF(K38="ﾘｽﾄ１",G38,"") -> 豊島区 | M38: =IF(K38="","",COUNTIF($K$7:K38,"ﾘｽﾄ１")) -> 16 | N38: =IF(AND(D38=0,E38>0),"同一区","") | O38: =IF(AND(EXACT($K$2,G38),H38>0),"該当１","") | P38: =IF(O38="該当１",G38,"") | Q38: =IF(O38="該当１","ﾘｽﾄ2","") | R38: =IF(Q38="ﾘｽﾄ2",H38,"") | S38: =IF(AND(Q38="ﾘｽﾄ2",OR(I38=0,AND(N38="同一区",E38=1))),"該当２","") | T38: =IF(S38="該当２",H38,"") | U38: =IF(S38="","",COUNTIF($S$7:S38,"該当２")) | V38: =IF(AND($S$2=H38,E38>0,E38<998),"該当３","") | W38: =IF(V38="該当３",I38,"") | X38: =IF(V38="","",COUNTIF($V$7:V38,"該当３")) | Z38: 32 | AB38: 町田市
A39: 1311600001 | B39: 13 | C39: 116 | D39: 0 | E39: 1 | F39: 東京都 | G39: 豊島区 | H39: 豊島区 | I39: 豊島区全域 | K39: =IF(AND($C39>0,$H39=""),"ﾘｽﾄ１","") | L39: =IF(K39="ﾘｽﾄ１",G39,"") | M39: =IF(K39="","",COUNTIF($K$7:K39,"ﾘｽﾄ１")) | N39: =IF(AND(D39=0,E39>0),"同一区","") -> 同一区 | O39: =IF(AND(EXACT($K$2,G39),H39>0),"該当１","") | P39: =IF(O39="該当１",G39,"") | Q39: =IF(O39="該当１","ﾘｽﾄ2","") | R39: =IF(Q39="ﾘｽﾄ2",H39,"") | S39: =IF(AND(Q39="ﾘｽﾄ2",OR(I39=0,AND(N39="同一区",E39=1))),"該当２","") | T39: =IF(S39="該当２",H39,"") | U39: =IF(S39="","",COUNTIF($S$7:S39,"該当２")) | V39: =IF(AND($S$2=H39,E39>0,E39<998),"該当３","") | W39: =IF(V39="該当３",I39,"") | X39: =IF(V39="","",COUNTIF($V$7:V39,"該当３")) | Z39: 33 | AB39: 小金井市
A40: 1311700000 | B40: 13 | C40: 117 | D40: 0 | E40: 0 | F40: 東京都 | G40: 北区 | K40: =IF(AND($C40>0,$H40=""),"ﾘｽﾄ１","") -> ﾘｽﾄ１ | L40: =IF(K40="ﾘｽﾄ１",G40,"") -> 北区 | M40: =IF(K40="","",COUNTIF($K$7:K40,"ﾘｽﾄ１")) -> 17 | N40: =IF(AND(D40=0,E40>0),"同一区","") | O40: =IF(AND(EXACT($K$2,G40),H40>0),"該当１","") | P40: =IF(O40="該当１",G40,"") | Q40: =IF(O40="該当１","ﾘｽﾄ2","") | R40: =IF(Q40="ﾘｽﾄ2",H40,"") | S40: =IF(AND(Q40="ﾘｽﾄ2",OR(I40=0,AND(N40="同一区",E40=1))),"該当２","") | T40: =IF(S40="該当２",H40,"") | U40: =IF(S40="","",COUNTIF($S$7:S40,"該当２")) | V40: =IF(AND($S$2=H40,E40>0,E40<998),"該当３","") | W40: =IF(V40="該当３",I40,"") | X40: =IF(V40="","",COUNTIF($V$7:V40,"該当３")) | Z40: 34 | AB40: 小平市
...

Sheet 2010年
A1: 都道府県名（支庁名） | B1: 市区町村名 | C1: 旧市区町村名 | D1: 農業集落名 | E1: 総農家数 | M1: （７）年齢別の農業従事者数（自営農業に従事した世帯員数）男女計 | AC1: 農業従事者の平均年齢 | AF1: 年齢別の農業就業人口（自営農業に主として従事した世帯員数）男女計 | AV1: 農業就業人口 | AY1: （11）年齢別の基幹的農業従事者数（自営農業に主として従事した世帯員のうち仕事が主の世帯員数）男女計 | BO1: 基幹的農業従事者 平均年齢 | BR1: （２）年齢別の経営者数男女計 | CH1: ウ後継者がいる経営者 | CV1: 家族経営構成別農家数 | DC1: （６）過去１年間の生活の主な状態別世帯員数 | DH1: 男女計 | DK1: （４）農産物販売金額１位の部門別農家数 | EA1: （１）経営耕地の状況 | EF1: （６）過去１年間の生活の主な状態別世帯員数(男) | EN1: （６）過去１年間の生活の主な状態別世帯員数(女)
F2: 販売農家数 | L2: 自給的農家 | M2: 計 | N2: 15～19歳 | O2: 20～24 | P2: 25～29 | Q2: 30～34 | R2: 35～39 | S2: 40～44 | T2: 45～49 | U2: 50～54 | V2: 55～59 | W2: 60～64 | X2: 65～69 | Y2: 70～74 | Z2: 75～79 | AA2: 80～84 | AB2: 85歳以上 | AC2: 男女計 | AD2: 男 | AE2: 女 | AF2: 計 | AG2: 15～19歳 | AH2: 20～24 | AI2: 25～29 | AJ2: 30～34 | AK2: 35～39 | AL2: 40～44 | AM2: 45～49 | AN2: 50～54 | AO2: 55～59 | AP2: 60～64 | AQ2: 65～69 | AR2: 70～74 | AS2: 75～79 | AT2: 80～84 | AU2: 85歳以上 | AY2: 計 | AZ2: 15～19歳 | BA2: 20～24 | BB2: 25～29 | BC2: 30～34 | BD2: 35～39 | BE2: 40～44 | BF2: 45～49 | BG2: 50～54 | BH2: 55～59 | BI2: 60～64 | BJ2: 65～69 | BK2: 70～74 | BL2: 75～79 | BM2: 80～84 | BN2: 85歳以上 | BR2: 計 | BS2: 15～19歳 | BT2: 20～24 | BU2: 25～29 | BV2: 30～34 | BW2: 35～39 | BX2: 40～44 | BY2: 45～49 | BZ2: 50～54 | CA2: 55～59 | CB2: 60～64 | CC2: 65～69 | CD2: 70～74 | CE2: 75～79 | CF2: 80～84 | CG2: 85歳以上 | CH2: 計 | CI2: 30歳未満 | CJ2: 30～34 | CK2: 35～39 | CL2: 40～44 | CM2: 45～49 | CN2: 50～54 | CO2: 55～59 | CP2: 60～64 | CQ2: 65～69 | CR2: 70～74 | CS2: 75～79 | CT2: 80～84 | CU2: 85歳以上 | DD2: 主に仕事 | DN2: 雑穀・ | EA2: 経営耕地 のある 農家数 | EB2: 経営耕地 総面積 | EC2: 田 | ED2: 畑（樹園地を除く） | EE2: 樹園地 | EF2: 計 | EG2: 主に仕事 | EK2: 主に家事 ・育児 | EL2: 学生 | EM2: その他 | EN2: 計 | EO2: 主に仕事 | ES2: 主に家事 ・育児 | ET2: 学生 | EU2: その他
G3: 主業農家 | I3: 準主業農家 | K3: 副業的農家 | AV3: 男女計の 平均年齢 | AW3: 男の 平均年齢 | AX3: 女の 平均年齢 | BO3: 男女計 | BP3: 男 | BQ3: 女 | DC3: 計 | DD3: 小計 | DE3: 自営農業 が主 | DF3: 勤務が主 | DG3: 農業以外の | DH3: 主に家事 ・育児 | DI3: 学生 | DJ3: その他 | DK3: 計 | DL3: 稲作 | DM3: 麦類作 | DN3: いも類 | DO3: 工芸農作物 | DP3: 露地野菜 | DQ3: 施設野菜 | DR3: 果樹類 | DS3: 花き・花木 | DT3: その他の 作物 | DU3: 酪農 | DV3: 肉用牛 | DW3: 養豚 | DX3: 養鶏 | DY3: 養蚕 | DZ3: その他の 畜産 | EG3: 小計 | EH3: 自営農業 が主 | EI3: 勤務が主 | EJ3: 農業以外の 自営業が主 | EO3: 小計 | EP3: 自営農業 が主 | EQ3: 勤務が主 | ER3: 農業以外の 自営業が主
H4: 65歳未満の農業専従者がいる | J4: 65歳未満の農業専従者がいる | DG4: 自営業が主 | DN4: ・豆類
A6: 東京都 | E6: 13099 | F6: 6812 | G6: 2106 | H6: 1937 | I6: 1943 | J6: 1302 | K6: 2763 | L6: 6287 | M6: 18428 | N6: 237 | O6: 475 | P6: 524 | Q6: 532 | R6: 827 | S6: 1013 | T6: 1397 | U6: 1648 | V6: 1888 | W6: 1850 | X6: 1714 | Y6: 1948 | Z6: 1992 | AA6: 1551 | AB6: 832 | AC6: 59.7 | AD6: 58.5 | AE6: 61.1 | AF6: 12965 | AG6: 57 | AH6: 93 | AI6: 182 | AJ6: 252 | AK6: 462 | AL6: 629 | AM6: 812 | AN6: 997 | AO6: 1224 | AP6: 1347 | AQ6: 1398 | AR6: 1687 | AS6: 1775 | AT6: 1345 | AU6: 705 | AV6: 63.8 | AW6: 63 | AX6: 64.6 | AY6: 10686 | AZ6: 1 | BA6: 35 | BB6: 152 | BC6: 205 | BD6: 340 | BE6: 502 | BF6: 647 | BG6: 845 | BH6: 1070 | BI6: 1158 | BJ6: 1209 | BK6: 1435 | BL6: 1514 | BM6: 1084 | BN6: 489 | BO6: 64.1 | BP6: 62.9 | BQ6: 66 | BR6: 6812 | BS6: - | BT6: - | BU6: 6 | BV6: 9 | BW6: 47 | BX6: 90 | BY6: 225 | BZ6: 413 | CA6: 704 | CB6: 874 | CC6: 845 | CD6: 1003 | CE6: 1160 | CF6: 894 | CG6: 542 | CH6: 4291 | CI6: - | CJ6: - | CK6: 5 | CL6: 11 | CM6: 62 | CN6: 170 | CO6: 360 | CP6: 537 | CQ6: 531 | CR6: 682 | CS6: 814 | CT6: 662 | CU6: 457 | DC6: 24758 | DD6: 16241 | DE6: 10689 | DF6: 4383 | DG6: 1169 | DH6: 3711 | DI6: 2268 | DJ6: 2538 | DK6: 5977 | DL6: 102 | DM6: 11 | DN6: 182 | DO6: 108 | DP6: 3089 | DQ6: 328 | DR6: 842 | DS6: 1062 | DT6: 128 | DU6: 58 | DV6: 14 | DW6: 13 | DX6: 33 | DY6: 2 | DZ6: 5 | EA6: 6787 | EB6: 479105 | EC6: 28126 | ED6: 314230 | EE6: 136749 | EF6: 12300 | EG6: 10039 | EH6: 6681 | EI6: 2629 | EJ6: 729 | EK6: 34 | EL6: 1194 | EM6: 1033 | EN6: 12458 | EO6: 6202 | EP6: 4008 | EQ6: 1754 | ER6: 440 | ES6: 3677 | ET6: 1074 | EU6: 1505
A7: 東京都 | B7: 千代田区 | C7: 千代田区 | E7: - | F7: - | G7: - | H7: - | I7: - | J7: - | K7: - | L7: - | M7: - | N7: - | O7: - | P7: - | Q7: - | R7: - | S7: - | T7: - | U7: - | V7: - | W7: - | X7: - | Y7: - | Z7: - | AA7: - | AB7: - | AC7: - | AD7: - | AE7: - | AF7: - | AG7: - | AH7: - | AI7: - | AJ7: - | AK7: - | AL7: - | AM7: - | AN7: - | AO7: - | AP7: - | AQ7: - | AR7: - | AS7: - | AT7: - | AU7: - | AV7: - | AW7: - | AX7: - | AY7: - | AZ7: - | BA7: - | BB7: - | BC7: - | BD7: - | BE7: - | BF7: - | BG7: - | BH7: - | BI7: - | BJ7: - | BK7: - | BL7: - | BM7: - | BN7: - | BO7: - | BP7: - | BQ7: - | BR7: - | BS7: - | BT7: - | BU7: - | BV7: - | BW7: - | BX7: - | BY7: - | BZ7: - | CA7: - | CB7: - | CC7: - | CD7: - | CE7: - | CF7: - | CG7: - | CH7: - | CI7: - | CJ7: - | CK7: - | CL7: - | CM7: - | CN7: - | CO7: - | CP7: - | CQ7: - | CR7: - | CS7: - | CT7: - | CU7: - | CV7: - | CW7: - | CX7: - | CY7: - | CZ7: - | DA7: - | DB7: - | DC7: - | DD7: - | DE7: - | DF7: - | DG7: - | DH7: - | DI7: - | DJ7: - | DK7: - | DL7: - | DM7: - | DN7: - | DO7: - | DP7: - | DQ7: - | DR7: - | DS7: - | DT7: - | DU7: - | DV7: - | DW7: - | DX7: - | DY7: - | DZ7: - | EA7: - | EB7: - | EC7: - | ED7: - | EE7: - | EF7: - | EG7: - | EH7: - | EI7: - | EJ7: - | EK7: - | EL7: - | EM7: - | EN7: - | EO7: - | EP7: - | EQ7: - | ER7: - | ES7: - | ET7: - | EU7: -
A8: 東京都 | B8: 千代田区 | C8: 千代田区 | D8: 千代田区全域 | E8: - | F8: - | G8: - | H8: - | I8: - | J8: - | K8: - | L8: - | M8: - | N8: - | O8: - | P8: - | Q8: - | R8: - | S8: - | T8: - | U8: - | V8: - | W8: - | X8: - | Y8: - | Z8: - | AA8: - | AB8: - | AC8: … | AD8: … | AE8: … | AF8: - | AG8: - | AH8: - | AI8: - | AJ8: - | AK8: - | AL8: - | AM8: - | AN8: - | AO8: - | AP8: - | AQ8: - | AR8: - | AS8: - | AT8: - | AU8: - | AV8: … | AW8: … | AX8: … | AY8: - | AZ8: - | BA8: - | BB8: - | BC8: - | BD8: - | BE8: - | BF8: - | BG8: - | BH8: - | BI8: - | BJ8: - | BK8: - | BL8: - | BM8: - | BN8: - | BO8: … | BP8: … | BQ8: … | BR8: - | BS8: - | BT8: - | BU8: - | BV8: - | BW8: - | BX8: - | BY8: - | BZ8: - | CA8: - | CB8: - | CC8: - | CD8: - | CE8: - | CF8: - | CG8: - | CH8: - | CI8: - | CJ8: - | CK8: - | CL8: - | CM8: - | CN8: - | CO8: - | CP8: - | CQ8: - | CR8: - | CS8: - | CT8: - | CU8: - | DC8: - | DD8: - | DE8: - | DF8: - | DG8: - | DH8: - | DI8: - | DJ8: - | DK8: - | DL8: - | DM8: - | DN8: - | DO8: - | DP8: - | DQ8: - | DR8: - | DS8: - | DT8: - | DU8: - | DV8: - | DW8: - | DX8: - | DY8: - | DZ8: - | EA8: - | EB8: - | EC8: - | ED8: - | EE8: - | EF8: - | EG8: - | EH8: - | EI8: - | EJ8: - | EK8: - | EL8: - | EM8: - | EN8: - | EO8: - | EP8: - | EQ8: - | ER8: - | ES8: - | ET8: - | EU8: -
A9: 東京都 | B9: 中央区 | C9: 中央区 | E9: 2 | F9: - | G9: - | H9: - | I9: - | J9: - | K9: - | L9: 2 | M9: - | N9: - | O9: - | P9: - | Q9: - | R9: - | S9: - | T9: - | U9: - | V9: - | W9: - | X9: - | Y9: - | Z9: - | AA9: - | AB9: - | AC9: - | AD9: - | AE9: - | AF9: - | AG9: - | AH9: - | AI9: - | AJ9: - | AK9: - | AL9: - | AM9: - | AN9: - | AO9: - | AP9: - | AQ9: - | AR9: - | AS9: - | AT9: - | AU9: - | AV9: - | AW9: - | AX9: - | AY9: - | AZ9: - | BA9: - | BB9: - | BC9: - | BD9: - | BE9: - | BF9: - | BG9: - | BH9: - | BI9: - | BJ9: - | BK9: - | BL9: - | BM9: - | BN9: - | BO9: - | BP9: - | BQ9: - | BR9: - | BS9: - | BT9: - | BU9: - | BV9: - | BW9: - | BX9: - | BY9: - | BZ9: - | CA9: - | CB9: - | CC9: - | CD9: - | CE9: - | CF9: - | CG9: - | CH9: - | CI9: - | CJ9: - | CK9: - | CL9: - | CM9: - | CN9: - | CO9: - | CP9: - | CQ9: - | CR9: - | CS9: - | CT9: - | CU9: - | CV9: - | CW9: - | CX9: - | CY9: - | CZ9: - | DA9: - | DB9: - | DC9: - | DD9: - | DE9: - | DF9: - | DG9: - | DH9: - | DI9: - | DJ9: - | DK9: - | DL9: - | DM9: - | DN9: - | DO9: - | DP9: - | DQ9: - | DR9: - | DS9: - | DT9: - | DU9: - | DV9: - | DW9: - | DX9: - | DY9: - | DZ9: - | EA9: - | EB9: - | EC9: - | ED9: - | EE9: - | EF9: - | EG9: - | EH9: - | EI9: - | EJ9: - | EK9: - | EL9: - | EM9: - | EN9: - | EO9: - | EP9: - | EQ9: - | ER9: - | ES9: - | ET9: - | EU9: -
A10: 東京都 | B10: 中央区 | C10: 中央区 | D10: 中央区全域 | E10: 2 | F10: - | G10: - | H10: - | I10: - | J10: - | K10: - | L10: 2 | M10: - | N10: - | O10: - | P10: - | Q10: - | R10: - | S10: - | T10: - | U10: - | V10: - | W10: - | X10: - | Y10: - | Z10: - | AA10: - | AB10: - | AC10: … | AD10: … | AE10: … | AF10: - | AG10: - | AH10: - | AI10: - | AJ10: - | AK10: - | AL10: - | AM10: - | AN10: - | AO10: - | AP10: - | AQ10: - | AR10: - | AS10: - | AT10: - | AU10: - | AV10: … | AW10: … | AX10: … | AY10: - | AZ10: - | BA10: - | BB10: - | BC10: - | BD10: - | BE10: - | BF10: - | BG10: - | BH10: - | BI10: - | BJ10: - | BK10: - | BL10: - | BM10: - | BN10: - | BO10: … | BP10: … | BQ10: … | BR10: - | BS10: - | BT10: - | BU10: - | BV10: - | BW10: - | BX10: - | BY10: - | BZ10: - | CA10: - | CB10: - | CC10: - | CD10: - | CE10: - | CF10: - | CG10: - | CH10: - | CI10: - | CJ10: - | CK10: - | CL10: - | CM10: - | CN10: - | CO10: - | CP10: - | CQ10: - | CR10: - | CS10: - | CT10: - | CU10: - | DC10: - | DD10: - | DE10: - | DF10: - | DG10: - | DH10: - | DI10: - | DJ10: - | DK10: - | DL10: - | DM10: - | DN10: - | DO10: - | DP10: - | DQ10: - | DR10: - | DS10: - | DT10: - | DU10: - | DV10: - | DW10: - | DX10: - | DY10: - | DZ10: - | EA10: - | EB10: - | EC10: - | ED10: - | EE10: - | EF10: - | EG10: - | EH10: - | EI10: - | EJ10: - | EK10: - | EL10: - | EM10: - | EN10: - | EO10: - | EP10: - | EQ10: - | ER10: - | ES10: - | ET10: - | EU10: -
A11: 東京都 | B11: 港区 | C11: 港区 | E11: 1 | F11: 1 | G11: x | H11: x | I11: x | J11: x | K11: x | L11: - | M11: x | N11: x | O11: x | P11: x | Q11: x | R11: x | S11: x | T11: x | U11: x | V11: x | W11: x | X11: x | Y11: x | Z11: x | AA11: x | AB11: x | AC11: x | AD11: x | AE11: x | AF11: x | AG11: x | AH11: x | AI11: x | AJ11: x | AK11: x | AL11: x | AM11: x | AN11: x | AO11: x | AP11: x | AQ11: x | AR11: x | AS11: x | AT11: x | AU11: x | AV11: x | AW11: x | AX11: x | AY11: x | AZ11: x | BA11: x | BB11: x | BC11: x | BD11: x | BE11: x | BF11: x | BG11: x | BH11: x | BI11: x | BJ11: x | BK11: x | BL11: x | BM11: x | BN11: x | BO11: x | BP11: x | BQ11: x | BR11: x | BS11: x | BT11: x | BU11: x | BV11: x | BW11: x | BX11: x | BY11: x | BZ11: x | CA11: x | CB11: x | CC11: x | CD11: x | CE11: x | CF11: x | CG11: x | CH11: x | CI11: x | CJ11: x | CK11: x | CL11: x | CM11: x | CN11: x | CO11: x | CP11: x | CQ11: x | CR11: x | CS11: x | CT11: x | CU11: x | DC11: x | DD11: x | DE11: x | DF11: x | DG11: x | DH11: x | DI11: x | DJ11: x | DK11: x | DL11: x | DM11: x | DN11: x | DO11: x | DP11: x | DQ11: x | DR11: x | DS11: x | DT11: x | DU11: x | DV11: x | DW11: x | DX11: x | DY11: x | DZ11: x | EA11: x | EB11: x | EC11: x | ED11: x | EE11: x | EF11: x | EG11: x | EH11: x | EI11: x | EJ11: x | EK11: x | EL11: x | EM11: x | EN11: x | EO11: x | EP11: x | EQ11: x | ER11: x | ES11: x | ET11: x | EU11: x
A12: 東京都 | B12: 港区 | C12: 港区 | D12: 港区全域 | E12: 1 | F12: 1 | G12: x | H12: x | I12: x | J12: x | K12: x | L12: - | M12: x | N12: x | O12: x | P12: x | Q12: x | R12: x | S12: x | T12: x | U12: x | V12: x | W12: x | X12: x | Y12: x | Z12: x | AA12: x | AB12: x | AC12: 65 | AD12: 67 | AE12: 63 | AF12: x | AG12: x | AH12: x | AI12: x | AJ12: x | AK12: x | AL12: x | AM12: x | AN12: x | AO12: x | AP12: x | AQ12: x | AR12: x | AS12: x | AT12: x | AU12: x | AV12: 63 | AW12: … | AX12: 63 | AY12: x | AZ12: x | BA12: x | BB12: x | BC12: x | BD12: x | BE12: x | BF12: x | BG12: x | BH12: x | BI12: x | BJ12: x | BK12: x | BL12: x | BM12: x | BN12: x | BO12: … | BP12: … | BQ12: … | BR12: 1 | BS12: - | BT12: - | BU12: - | BV12: - | BW12: - | BX12: - | BY12: - | BZ12: - | CA12: - | CB12: - | CC12: 1 | CD12: - | CE12: - | CF12: - | CG12: - | CH12: 1 | CI12: - | CJ12: - | CK12: - | CL12: - | CM12: - | CN12: - | CO12: - | CP12: - | CQ12: 1 | CR12: - | CS12: - | CT12: - | CU12: - | DC12: 3 | DD12: 1 | DE12: - | DF12: - | DG12: 1 | DH12: 1 | DI12: 1 | DJ12: - | DK12: 1 | DL12: - | DM12: - | DN12: - | DO12: - | DP12: 1 | DQ12: - | DR12: - | DS12: - | DT12: - | DU12: - | DV12: - | DW12: - | DX12: - | DY12: - | DZ12: - | EA12: 1 | EB12: 40 | EC12: 30 | ED12: 10 | EE12: - | EF12: 2 | EG12: 1 | EH12: - | EI12: - | EJ12: 1 | EK12: - | EL12: 1 | EM12: - | EN12: 1 | EO12: - | EP12: - | EQ12: - | ER12: - | ES12: 1 | ET12: - | EU12: -
A13: 東京都 | B13: 新宿区 | C13: 新宿区 | E13: 1 | F13: - | G13: - | H13: - | I13: - | J13: - | K13: - | L13: 1 | M13: - | N13: - | O13: - | P13: - | Q13: - | R13: - | S13: - | T13: - | U13: - | V13: - | W13: - | X13: - | Y13: - | Z13: - | AA13: - | AB13: - | AC13: - | AD13: - | AE13: - | AF13: - | AG13: - | AH13: - | AI13: - | AJ13: - | AK13: - | AL13: - | AM13: - | AN13: - | AO13: - | AP13: - | AQ13: - | AR13: - | AS13: - | AT13: - | AU13: - | AV13: - | AW13: - | AX13: - | AY13: - | AZ13: - | BA13: - | BB13: - | BC13: - | BD13: - | BE13: - | BF13: - | BG13: - | BH13: - | BI13: - | BJ13: - | BK13: - | BL13: - | BM13: - | BN13: - | BO13: - | BP13: - | BQ13: - | BR13: - | BS13: - | BT13: - | BU13: - | BV13: - | BW13: - | BX13: - | BY13: - | BZ13: - | CA13: - | CB13: - | CC13: - | CD13: - | CE13: - | CF13: - | CG13: - | CH13: - | CI13: - | CJ13: - | CK13: - | CL13: - | CM13: - | CN13: - | CO13: - | CP13: - | CQ13: - | CR13: - | CS13: - | CT13: - | CU13: - | DC13: - | DD13: - | DE13: - | DF13: - | DG13: - | DH13: - | DI13: - | DJ13: - | DK13: - | DL13: - | DM13: - | DN13: - | DO13: - | DP13: - | DQ13: - | DR13: - | DS13: - | DT13: - | DU13: - | DV13: - | DW13: - | DX13: - | DY13: - | DZ13: - | EA13: - | EB13: - | EC13: - | ED13: - | EE13: - | EF13: - | EG13: - | EH13: - | EI13: - | EJ13: - | EK13: - | EL13: - | EM13: - | EN13: - | EO13: - | EP13: - | EQ13: - | ER13: - | ES13: - | ET13: - | EU13: -
A14: 東京都 | B14: 新宿区 | C14: 新宿区 | D14: 新宿区全域 | E14: 1 | F14: - | G14: - | H14: - | I14: - | J14: - | K14: - | L14: 1 | M14: - | N14: - | O14: - | P14: - | Q14: - | R14: - | S14: - | T14: - | U14: - | V14: - | W14: - | X14: - | Y14: - | Z14: - | AA14: - | AB14: - | AC14: … | AD14: … | AE14: … | AF14: - | AG14: - | AH14: - | AI14: - | AJ14: - | AK14: - | AL14: - | AM14: - | AN14: - | AO14: - | AP14: - | AQ14: - | AR14: - | AS14: - | AT14: - | AU14: - | AV14: … | AW14: … | AX14: … | AY14: - | AZ14: - | BA14: - | BB14: - | BC14: - | BD14: - | BE14: - | BF14: - | BG14: - | BH14: - | BI14: - | BJ14: - | BK14: - | BL14: - | BM14: - | BN14: - | BO14: … | BP14: … | BQ14: … | BR14: - | BS14: - | BT14: - | BU14: - | BV14: - | BW14: - | BX14: - | BY14: - | BZ14: - | CA14: - | CB14: - | CC14: - | CD14: - | CE14: - | CF14: - | CG14: - | CH14: - | CI14: - | CJ14: - | CK14: - | CL14: - | CM14: - | CN14: - | CO14: - | CP14: - | CQ14: - | CR14: - | CS14: - | CT14: - | CU14: - | DC14: - | DD14: - | DE14: - | DF14: - | DG14: - | DH14: - | DI14: - | DJ14: - | DK14: - | DL14: - | DM14: - | DN14: - | DO14: - | DP14: - | DQ14: - | DR14: - | DS14: - | DT14: - | DU14: - | DV14: - | DW14: - | DX14: - | DY14: - | DZ14: - | EA14: - | EB14: - | EC14: - | ED14: - | EE14: - | EF14: - | EG14: - | EH14: - | EI14: - | EJ14: - | EK14: - | EL14: - | EM14: - | EN14: - | EO14: - | EP14: - | EQ14: - | ER14: - | ES14: - | ET14: - | EU14: -
