Workbook
Name G10農家数: OFFSET(Info!$H$12:$K$12,Info!$AC$11,0)
Name G21労働力L: OFFSET(Info!$G$23:$Q$23,Info!$Y$22,0)
Name G22労働力R: OFFSET(Info!$G$23:$Q$23,Info!$Z$22,0)
Name G31後継者L: OFFSET(Info!$H$51,Info!$Y$46,0)
Name G32後継者R: OFFSET(Info!$H$51,Info!$Z$46,0)
Name G33後継者L: OFFSET(Info!$H$51,Info!$Y$47,0)
Name G33後継者R: OFFSET(Info!$H$51,Info!$Z$47,0)
Name G50状態別: OFFSET(Info!$H$90:$M$90,Info!$AE$89,0)
Name G61品目別L: OFFSET(Info!$G$104:$S$104,Info!$W$104,0)
Name G62品目別R: OFFSET(Info!$G$104:$S$104,Info!$X$104,0)
Name 旧市2010: OFFSET('2010年'!$C$1,Info!$X$3-1,0,Info!$W$3+1,1)
Name 旧市2015: OFFSET('2015年'!$C$1,Info!$X$4-1,0,Info!$W$4+1,1)
Name 集落2010: OFFSET('2010年'!$D$1,Info!$AF$3-1,0,Info!$AE$3+1,1)
Name 集落2015: OFFSET('2015年'!$D$1,Info!$AF$4-1,0,Info!$AE$4+1,1)

Sheet Info
D1: -1 | E1: 0 | F1: 1 | G1: 2 | H1: 3 | I1: 4 | J1: 5 | K1: 6 | L1: 7 | M1: 8 | N1: 9 | O1: 10 | P1: 11 | Q1: 12 | R1: 13 | S1: 14 | T1: 15 | Y1: =IF(OR(Z3="",Z4=""),"※ 市町村（左側）から順に選択してください","") -> ※ 市町村（左側）から順に選択してください | AD1: ｖ | AK1: v
V2: 表示行 | W2: 旧市町村数 | X2: 市町村行 | Y2: 参照シート、セル | Z2: check | AA2: 表示名 | AD2: 表示行 | AE2: 集落数 | AF2: 旧市町村行 | AG2: 参照シート | AH2: check | AK2: 表示行 | AL2: 集落数 | AM2: 旧市町村行 | AN2: 参照シート | AO2: check
D3: 県名 | G3: 市町村名 | J3: 旧市町村名 | V3: =IF(M4="",-1,IFERROR(MATCH(M4,OFFSET(集落2010,1,0,ROWS(集落2010),1),0)-1,3000))+AF3 -> 5 | W3: =COUNTIF('2010年'!B:B,Info!G4)-1 -> -1 | X3: =IF(G4="",6,MATCH(G4,'2010年'!B:B,0)) -> 6 | Y3: '2010年'!$A$1 | Z3: =OFFSET(INDIRECT(Y3),V3,1)&OFFSET(INDIRECT(Y3),V3,2)&OFFSET(INDIRECT(Y3),V3,3) | AA3: =IF(OR(ISERROR(G4),ISERROR(J4),ISERROR(M4)),"表示できません",IF(G4&J4&M4="",D4,IF(M4<>"",M4,IF(J4<>"",IF($G$4=$J$4,"（旧）","")&$J$4,IF(J4<>"",J4,G4))))) -> 東京都 | AD3: =IF(M4="",-1,IFERROR(MATCH(M4,OFFSET(集落2010,1,0,ROWS(集落2010),1),0)-1,999))+AF3 -> 5 | AE3: =COUNTIF('2010年'!C:C,Info!J4)-1 -> 1048044 | AF3: =IF(J4="",X3,MATCH(J4,'2010年'!C:C,0)) -> 6 | AG3: '2010年'!$A$1 | AH3: =OFFSET(INDIRECT(AG3),AD3,1)&OFFSET(INDIRECT(AG3),AD3,2)&OFFSET(INDIRECT(AG3),AD3,3) | AI3: =IF(OR(ISERROR(AJ3),ISERROR(AL3)),"表示できません",IF(V4<>"",V4,IF(R4<>"",IF($G$4=$J$4,"（旧）","")&$J$4,IF(O4<>"",O4,L4)))) -> 5 | AK3: =IF(M4="",-1,IFERROR(MATCH(M4,OFFSET(集落2010,1,0,ROWS(集落2010),1),0)-1,999))+AM3 -> 5 | AL3: =COUNTIF('2010年'!C:C,Info!J4)-1 -> 1048044 | AM3: =IF(J4="",X3,MATCH(J4,'2010年'!C:C,0)) -> 6 | AN3: '2010年'!$A$1 | AO3: =OFFSET(INDIRECT(AN3),AK3,1)&OFFSET(INDIRECT(AN3),AK3,2)&OFFSET(INDIRECT(AN3),AK3,3) | AP3: =IF(OR(ISERROR(AQ3),ISERROR(AS3)),"表示できません",IF(AC4<>"",AC4,IF(Y4<>"",IF($G$4=$J$4,"（旧）","")&$J$4,IF(V4<>"",V4,S4)))) -> （旧）
D4: 東京都 | V4: =IF(M4="",-1,IFERROR(MATCH(M4,OFFSET(集落2015,1,0,ROWS(集落2015),1),0)-1,3000))+AF4 -> 5 | W4: =COUNTIF('2015年'!B:B,Info!G4)-1 -> -1 | X4: =IF(G4="",6,MATCH(G4,'2015年'!B:B,0)) -> 6 | Y4: '2015年'!$A$1 | Z4: =OFFSET(INDIRECT(Y4),V4,1)&OFFSET(INDIRECT(Y4),V4,2)&OFFSET(INDIRECT(Y4),V4,3) | AD4: =IF(M4="",-1,IFERROR(MATCH(M4,OFFSET(集落2015,1,0,ROWS(集落2015),1),0)-1,999))+AF4 -> 5 | AE4: =COUNTIF('2015年'!C:C,Info!J4)-1 -> 1048044 | AF4: =IF(J4="",X3,MATCH(J4,'2015年'!C:C,0)) -> 6 | AG4: '2015年'!$A$1 | AH4: =OFFSET(INDIRECT(AG4),AD4,1)&OFFSET(INDIRECT(AG4),AD4,2)&OFFSET(INDIRECT(AG4),AD4,3) | AK4: =IF(M4="",-1,IFERROR(MATCH(M4,OFFSET(集落2015,1,0,ROWS(集落2015),1),0)-1,999))+AM4 -> 5 | AL4: =COUNTIF('2015年'!C:C,Info!J4)-1 -> 1048044 | AM4: =IF(J4="",X4,MATCH(J4,'2010年'!C:C,0)) -> 6 | AN4: '2015年'!$A$1 | AO4: =OFFSET(INDIRECT(AN4),AK4,1)&OFFSET(INDIRECT(AN4),AK4,2)&OFFSET(INDIRECT(AN4),AK4,3)
C6: ="総農家数" -> 総農家数 | G6: =IFERROR("◎ "&W11&IF(LEFT(R8,1)="県","の総農家に占める割合は "&TEXT(G13,"0.0")&"% で、"&D4&"（"&TEXT(G14,"0.0")&"%） "&X13,"は "&TEXT(G12,"#,###戸 で ")&W13&"、"&"総農家の "&TEXT(G13,"0.0")&"% を占める"),"") -> ◎ 販売農家は 5,623戸 で 1,189戸（17.5%） 減少、総農家の 50.1% を占める
K7: 単位：戸 | L7: 《主副業別割合》
F8: 総農家 | L8: =" "&IF(AND(LEFT(R8,1)<>"県",G4=""),D4,IF(LEFT(R8,1)="県",D12,$AA$3)) -> 東京都 | R8: 前回との比較
G9: 販売 農家 | K9: 自給的農家 | R9: ="外円："&IF(AND(LEFT(R8,1)="県",G4=""),D4,IF(LEFT(R8,1)="県",$AA$3,"2015年"))&CHAR(10)&"内円："&IF(LEFT(R8,1)="県",$D$4,"2010年") -> 外円：2015年 内円：2010年
H10: 主業 農家 | I10: 準主業 農家 | J10: 副業的 農家 | V10: 列番号 | W10: 概要 | Y10: 凡例 | AC10: 内円
D11: 2010年 | F11: =IFERROR(OFFSET(INDIRECT($Y$3),$V$3,$V11+E$1),"nc") -> 13099 | G11: =IFERROR(OFFSET(INDIRECT($Y$3),$V$3,$V11+F$1),"nc") -> 6812 | H11: =IFERROR(OFFSET(INDIRECT($Y$3),$V$3,$V11+G$1),"nc") -> 2106 | I11: =IFERROR(OFFSET(INDIRECT($Y$3),$V$3,$V11+I$1),"nc") -> 1943 | J11: =IFERROR(OFFSET(INDIRECT($Y$3),$V$3,$V11+K$1),"nc") -> 2763 | K11: =IFERROR(OFFSET(INDIRECT($Y$3),$V$3,$V11+L$1),"nc") -> 6287 | V11: =CELL("col",'2010年'!E6)-1 -> 4 | W11: 販売農家 | X11: 対県 | Y11: 主業農家 | Z11: 準主業農家 | AA11: 副業的農家 | AB11: 自給的農家 | AC11: =IF(LEFT(R8,1)="県",2,-1) -> -1
D12: 2015年 | F12: =IFERROR(OFFSET(INDIRECT($Y$4),$V$4,$V12+E$1),"nc") -> 11222 | G12: =IFERROR(OFFSET(INDIRECT($Y$4),$V$4,$V12+F$1),"nc") -> 5623 | H12: =IFERROR(OFFSET(INDIRECT($Y$4),$V$4,$V12+G$1),"nc") -> 1871 | I12: =IFERROR(OFFSET(INDIRECT($Y$4),$V$4,$V12+I$1),"nc") -> 1512 | J12: =IFERROR(OFFSET(INDIRECT($Y$4),$V$4,$V12+K$1),"nc") -> 2240 | K12: =IFERROR(OFFSET(INDIRECT($Y$4),$V$4,$V12+L$1),"nc") -> 5599 | V12: =CELL("col",'2015年'!E6)-1 -> 4 | W12: =G12/G11-1 -> -0.17454492 | X12: =G13-G14 -> 0
E13: 構成比(%) | F13: =IF(OR(AND(ISTEXT($F12),$F12<>"X",$F12<>"-"),AND(ISTEXT(F12),F12<>"X",F12<>"-")),"nc",IF(OR($F12="X",F12="X"),"X",IF(ROUND(SUM($F12),0)=0,"nc",SUM(F12)/$F12%))) -> 100 | G13: =IF(OR(AND(ISTEXT($F12),$F12<>"X",$F12<>"-"),AND(ISTEXT(G12),G12<>"X",G12<>"-")),"nc",IF(OR($F12="X",G12="X"),"X",IF(ROUND(SUM($F12),0)=0,"nc",SUM(G12)/$F12%))) -> 50.106933 | H13: =IF(OR(AND(ISTEXT($F12),$F12<>"X",$F12<>"-"),AND(ISTEXT(H12),H12<>"X",H12<>"-")),"nc",IF(OR($F12="X",H12="X"),"X",IF(ROUND(SUM($F12),0)=0,"nc",SUM(H12)/$F12%))) -> 16.672607 | I13: =IF(OR(AND(ISTEXT($F12),$F12<>"X",$F12<>"-"),AND(ISTEXT(I12),I12<>"X",I12<>"-")),"nc",IF(OR($F12="X",I12="X"),"X",IF(ROUND(SUM($F12),0)=0,"nc",SUM(I12)/$F12%))) -> 13.473534 | J13: =IF(OR(AND(ISTEXT($F12),$F12<>"X",$F12<>"-"),AND(ISTEXT(J12),J12<>"X",J12<>"-")),"nc",IF(OR($F12="X",J12="X"),"X",IF(ROUND(SUM($F12),0)=0,"nc",SUM(J12)/$F12%))) -> 19.960791 | K13: =IF(OR(AND(ISTEXT($F12),$F12<>"X",$F12<>"-"),AND(ISTEXT(K12),K12<>"X",K12<>"-")),"nc",IF(OR($F12="X",K12="X"),"X",IF(ROUND(SUM($F12),0)=0,"nc",SUM(K12)/$F12%))) -> 49.893067 | W13: =IF(W12=0,"変化なし",TEXT(ABS(G12-G11),"#,##0")&"戸（"&TEXT(ABS(W12),"0.0%")&"） "&IF(W12>0,"増加","減少")) -> 1,189戸（17.5%） 減少 | X13: =IF(X12=0,"と同率である","を"&TEXT(ABS(X12),"#,##0.0")&"ポイント "&IF(X12>0,"上回る","下回る")) -> と同率である
E14: 県計 構成比(%) | F14: 100 | G14: =IFERROR(OFFSET(INDIRECT($Y$4),5,$V$12+F1)/OFFSET(INDIRECT($Y$4),5,V12)*100,"nc") -> 50.106933 | H14: =IFERROR(OFFSET(INDIRECT($Y$4),5,$V$12+G1)/OFFSET(INDIRECT($Y$4),5,V12)*100,"nc") -> 16.672607 | I14: =IFERROR(OFFSET(INDIRECT($Y$4),5,$V$12+I1)/OFFSET(INDIRECT($Y$4),5,V12)*100,"nc") -> 13.473534 | J14: =IFERROR(OFFSET(INDIRECT($Y$4),5,$V$12+K1)/OFFSET(INDIRECT($Y$4),5,V12)*100,"nc") -> 19.960791 | K14: =IFERROR(OFFSET(INDIRECT($Y$4),5,$V$12+L1)/OFFSET(INDIRECT($Y$4),5,V12)*100,"nc") -> 49.893067
D15: =IFERROR("《参考》"&G4&"の総農家数の全国順位："&TEXT(OFFSET(#REF!,MATCH(Info!G4,#REF!,0),0),"#,##0")&"位","")
C18: 基幹的農業従事者数
D19: =IFERROR(IF(RIGHT(C18,4)="ください","","◎ "&C18&"は "&TEXT(F23,"#,##0人 で ")&W24&IFERROR("、平均年齢 "&TEXT(S23,"0.0歳は")&IF(LEFT(R28,1)="県","県平均","2010年")&X24,"")),"") -> ◎ 基幹的農業従事者数は 9,681人 で 1,005人（9.4%） 減少、平均年齢 64.6歳は2010年を 0.5歳上回る
S20: 単位：人
F21: 計 | G21: 15～39歳 | H21: 40～44 | I21: 45～49 | J21: 50～54 | K21: 55～59 | L21: 60～64 | M21: 65～69 | N21: 70～74 | O21: 75～79 | P21: 80～84 | Q21: 85歳以上 | R21: 65歳以上 | S21: 平均 年齢 （歳） | V21: 列番号 | W21: 概要 | Y21: 縦棒 左 | Z21: 縦棒 右 | AA21: 凡例
D22: 2010年 | F22: =IFERROR(OFFSET(INDIRECT($Y$3),$V$3,V23-1),"nc") -> 10686 | G22: =IFERROR(IF(COUNTIF(OFFSET(INDIRECT($Y$3),$V$3,V23,1,5),"@")>0,"@",IF(COUNTIF(OFFSET(INDIRECT($Y$3),$V$3,V23,1,5),"X")>0,"X",SUM(OFFSET(INDIRECT($Y$3),$V$3,V23,1,5)))),"nc") -> 733 | H22: =IFERROR(OFFSET(INDIRECT($Y$3),$V$3,$V23+J$1),"nc") -> 502 | I22: =IFERROR(OFFSET(INDIRECT($Y$3),$V$3,$V23+K$1),"nc") -> 647 | J22: =IFERROR(OFFSET(INDIRECT($Y$3),$V$3,$V23+L$1),"nc") -> 845 | K22: =IFERROR(OFFSET(INDIRECT($Y$3),$V$3,$V23+M$1),"nc") -> 1070 | L22: =IFERROR(OFFSET(INDIRECT($Y$3),$V$3,$V23+N$1),"nc") -> 1158 | M22: =IFERROR(OFFSET(INDIRECT($Y$3),$V$3,$V23+O$1),"nc") -> 1209 | N22: =IFERROR(OFFSET(INDIRECT($Y$3),$V$3,$V23+P$1),"nc") -> 1435 | O22: =IFERROR(OFFSET(INDIRECT($Y$3),$V$3,$V23+Q$1),"nc") -> 1514 | ... Q22: =IFERROR(OFFSET(INDIRECT($Y$3),$V$3,$V23+S$1),"nc") -> 489 | R22: =IF(COUNTIF(M22:Q22,"@"),"@",(IF(COUNTIF(M22:Q22,"X"),"X",SUM(M22:Q22)))) -> 5731 | S22: =IFERROR(OFFSET(INDIRECT($Y$3),$V$3,V23+15),"nc") -> 64.1 | V22: =IF(C18="農業従事者数",1,IF(C18="農業就業人口",2,IF(C18="基幹的農業従事者数",3,ERROR.TYPE(5)))) -> 3 | W22: 人数 | X22: 平均年齢 | Y22: =IF(LEFT(R28,1)="県",3,-1) -> -1 | Z22: =IF(LEFT(R28,1)="県",1,0) -> 0 | AA22: =IF(LEFT(R28,1)="県",$D$4,$D22) -> 2010年
D23: 2015年 | F23: =IFERROR(OFFSET(INDIRECT($Y$4),$V$4,$V24-1),"nc") -> 9681 | G23: =IFERROR(IF(COUNTIF(OFFSET(INDIRECT($Y$4),$V$4,$V24,1,5),"X")>0,"X",SUM(OFFSET(INDIRECT($Y$4),$V$4,$V24,1,5))),"nc") -> 685 | H23: =IFERROR(OFFSET(INDIRECT($Y$4),$V$4,$V24+5),"nc") -> 408 | I23: =IFERROR(OFFSET(INDIRECT($Y$4),$V$4,$V24+6),"nc") -> 507 | J23: =IFERROR(OFFSET(INDIRECT($Y$4),$V$4,$V24+7),"nc") -> 747 | K23: =IFERROR(OFFSET(INDIRECT($Y$4),$V$4,$V24+8),"nc") -> 920 | L23: =IFERROR(OFFSET(INDIRECT($Y$4),$V$4,$V24+9),"nc") -> 1181 | M23: =IFERROR(OFFSET(INDIRECT($Y$4),$V$4,$V24+10),"nc") -> 1198 | N23: =IFERROR(OFFSET(INDIRECT($Y$4),$V$4,$V24+11),"nc") -> 1137 | O23: =IFERROR(OFFSET(INDIRECT($Y$4),$V$4,$V24+12),"nc") -> 1182 | P23: =IFERROR(OFFSET(INDIRECT($Y$4),$V$4,$V24+13),"nc") -> 1024 | Q23: =IFERROR(OFFSET(INDIRECT($Y$4),$V$4,$V24+14),"nc") -> 692 | R23: =IF(COUNTIF(M23:Q23,"X"),"X",SUM(M23:Q23)) -> 5233 | S23: =IFERROR(OFFSET(INDIRECT($Y$4),$V$4,$V24+15),"nc") -> 64.6 | V23: =IFERROR(CHOOSE(V22,CELL("col",'2010年'!N6),CELL("col",'2010年'!AG6),CELL("col",'2010年'!AZ6))-1,555) -> 51 | W23: =F23/F22-1 -> -0.094048287 | X23: =S23-IF(LEFT(R28,1)="県",S26,S22) -> 0.5 | AA23: =IF(AND(LEFT(R28,1)="県",G4=""),D4,IF(LEFT(R28,1)="県",AA3,D23)) -> 2015年
E24: 構成比(%) | F24: =IF(OR(AND(ISTEXT($F23),$F23<>"X",$F23<>"-"),AND(ISTEXT(F23),F23<>"X",F23<>"-")),"nc",IF(OR($F23="X",F23="X"),"X",IF(ROUND(SUM($F23),0)=0,"nc",SUM(F23)/$F23%))) -> 100 | G24: =IF(OR(AND(ISTEXT($F23),$F23<>"X",$F23<>"-"),AND(ISTEXT(G23),G23<>"X",G23<>"-")),"nc",IF(OR($F23="X",G23="X"),"X",IF(ROUND(SUM($F23),0)=0,"nc",SUM(G23)/$F23%))) -> 7.0757153 | H24: =IF(OR(AND(ISTEXT($F23),$F23<>"X",$F23<>"-"),AND(ISTEXT(H23),H23<>"X",H23<>"-")),"nc",IF(OR($F23="X",H23="X"),"X",IF(ROUND(SUM($F23),0)=0,"nc",SUM(H23)/$F23%))) -> 4.2144407 | I24: =IF(OR(AND(ISTEXT($F23),$F23<>"X",$F23<>"-"),AND(ISTEXT(I23),I23<>"X",I23<>"-")),"nc",IF(OR($F23="X",I23="X"),"X",IF(ROUND(SUM($F23),0)=0,"nc",SUM(I23)/$F23%))) -> 5.2370623 | J24: =IF(OR(AND(ISTEXT($F23),$F23<>"X",$F23<>"-"),AND(ISTEXT(J23),J23<>"X",J23<>"-")),"nc",IF(OR($F23="X",J23="X"),"X",IF(ROUND(SUM($F23),0)=0,"nc",SUM(J23)/$F23%))) -> 7.716145 | K24: =IF(OR(AND(ISTEXT($F23),$F23<>"X",$F23<>"-"),AND(ISTEXT(K23),K23<>"X",K23<>"-")),"nc",IF(OR($F23="X",K23="X"),"X",IF(ROUND(SUM($F23),0)=0,"nc",SUM(K23)/$F23%))) -> 9.5031505 | L24: =IF(OR(AND(ISTEXT($F23),$F23<>"X",$F23<>"-"),AND(ISTEXT(L23),L23<>"X",L23<>"-")),"nc",IF(OR($F23="X",L23="X"),"X",IF(ROUND(SUM($F23),0)=0,"nc",SUM(L23)/$F23%))) -> 12.199153 | M24: =IF(OR(AND(ISTEXT($F23),$F23<>"X",$F23<>"-"),AND(ISTEXT(M23),M23<>"X",M23<>"-")),"nc",IF(OR($F23="X",M23="X"),"X",IF(ROUND(SUM($F23),0)=0,"nc",SUM(M23)/$F23%))) -> 12.374755 | ... R24: =IF(OR(AND(ISTEXT($F23),$F23<>"X",$F23<>"-"),AND(ISTEXT(R23),R23<>"X",R23<>"-")),"nc",IF(OR($F23="X",R23="X"),"X",IF(ROUND(SUM($F23),0)=0,"nc",SUM(R23)/$F23%))) -> 54.054333 | V24: =IFERROR(CHOOSE(V22,CELL("col",'2015年'!N6),CELL("col",'2015年'!AG6),CELL("col",'2015年'!AZ6))-1,555) -> 51 | W24: =IF(W23=0,"変化なし",TEXT(ABS(F23-F22),"#,##0人")&"（"&TEXT(ABS(W23),"0.0%")&"） "&IF(W23>0,"増加","減少")) -> 1,005人（9.4%） 減少 | X24: =IF(X23=0,"と同じである","を "&TEXT(ABS(X23),"0.0歳")&IF(X23>0,"上回る","下回る")) -> を 0.5歳上回る
E25: 2015年 | F25: =IFERROR(OFFSET(INDIRECT($Y$4),5,V24-1),"nc") -> 9681 | G25: =IFERROR(SUM(OFFSET(INDIRECT($Y$4),5,V24,1,5)),"nc") -> 685 | H25: =IFERROR(OFFSET(INDIRECT($Y$4),5,V24+5),"nc") -> 408 | I25: =IFERROR(OFFSET(INDIRECT($Y$4),5,V24+6),"nc") -> 507 | J25: =IFERROR(OFFSET(INDIRECT($Y$4),5,V24+7),"nc") -> 747 | K25: =IFERROR(OFFSET(INDIRECT($Y$4),5,V24+8),"nc") -> 920 | L25: =IFERROR(OFFSET(INDIRECT($Y$4),5,V24+9),"nc") -> 1181 | M25: =IFERROR(OFFSET(INDIRECT($Y$4),5,V24+10),"nc") -> 1198 | N25: =IFERROR(OFFSET(INDIRECT($Y$4),5,V24+11),"nc") -> 1137 | O25: =IFERROR(OFFSET(INDIRECT($Y$4),5,V24+12),"nc") -> 1182 | P25: =IFERROR(OFFSET(INDIRECT($Y$4),5,V24+13),"nc") -> 1024 | Q25: =IFERROR(OFFSET(INDIRECT($Y$4),5,V24+14),"nc") -> 692 | R25: =SUM(M25:Q25) -> 5233
E26: 県計 構成比(%) | F26: 100 | G26: =IFERROR(ROUND(G25/$F25*100,1),"nc") -> 7.1 | H26: =IFERROR(ROUND(H25/$F25*100,1),"nc") -> 4.2 | I26: =IFERROR(ROUND(I25/$F25*100,1),"nc") -> 5.2 | J26: =IFERROR(ROUND(J25/$F25*100,1),"nc") -> 7.7 | K26: =IFERROR(ROUND(K25/$F25*100,1),"nc") -> 9.5 | L26: =IFERROR(ROUND(L25/$F25*100,1),"nc") -> 12.2 | M26: =IFERROR(ROUND(M25/$F25*100,1),"nc") -> 12.4 | N26: =IFERROR(ROUND(N25/$F25*100,1),"nc") -> 11.7 | ... R26: =IFERROR(ROUND(R25/$F25*100,1),"nc") -> 54.1 | S26: =IFERROR(OFFSET(INDIRECT($Y$4),5,V24+15),"nc") -> 64.6
D27: =IF(LEFT(R28,1)="県","（％）","（人）") -> （人） | G27: ="《年齢階層別"&C18&IF(LEFT(R28,1)="県","割合","")&"》 "&IF(AND(LEFT(R28,1)<>"県",G4=""),D4,IF(LEFT(R28,1)="県",D23,AA3)) -> 《年齢階層別基幹的農業従事者数》 東京都
R28: 前回との比較
C41: 後継者がいる農家数（販売農家）
D42: =IFERROR(" ◎ 後継者がいる農家数の割合は "&TEXT(H51,"0.0")&"％（"&TEXT(H50,"#,##0")&"戸）で、"&IF(LEFT(Z48,1)="県","県平均の "&TEXT(H52,"0.0"),"2010年の "&TEXT(H48,"0.0"))&"％"&AB49,"") -> ◎ 後継者がいる農家数の割合は 55.6％（3,126戸）で、県平均の 55.6％と同率である
D43: =IFERROR(IF(LEFT(Z49,1)="県","県平均の "&TEXT(H52,"0.0")," 2010年の "&TEXT(H48,"0.0"))&"％"&AB47,"") -> 2010年の 63.0％ を 7.4ポイント 下回る
H44: 単位：戸 | J44: ="《後継者のいる農家数"&IF(LEFT(Z49,1)="県","割合","")&"》 "&IF(AND(LEFT(Z49,1)<>"県",G4=""),D4,IF(LEFT(Z49,1)="県","2015年",AA3)) -> 《後継者のいる農家数》 東京都 | P44: ="《後継者のいる農家数"&IF(LEFT(Z48,1)="県","割合","")&"》 "&IF(AND(LEFT(Z48,1)<>"県",M4=""),J4,IF(LEFT(Z48,1)="県","2015年",AA3)) -> 《後継者のいる農家数割合》 2015年
H45: 計 | V45: 列番号 | W45: 2015年 | X45: 2010年 | Y45: 縦棒左 | Z45: 縦棒右 | AA45: 凡例 | AB45: 差
D46: 2010年 | E46: 農家数 | H46: =IFERROR(OFFSET(INDIRECT($Y$3),$V$3,X46-1),"nc") -> 6812 | V46: 農家数 | W46: =CELL("col",'2015年'!BS6)-1 -> 70 | X46: =CELL("col",'2010年'!BS6)-1 -> 70 | Y46: 1 | Z46: 0 | AA46: =IF(LEFT(Z49,1)="県",$D$4,$D46) -> 2010年 | AB46: =H51-IF(LEFT(Z49,1)="県",H52,H48) -> -7.3986794
G47: 後継者がいる農家数 | H47: =IFERROR(OFFSET(INDIRECT(Y3),V3,X47-1),"nc") -> 4291 | V47: 後継者有 | W47: =CELL("col",'2015年'!CI5)-1 -> 86 | X47: =CELL("col",'2010年'!CI5)-1 -> 86 | Y47: -4 | Z47: -1 | AA47: =IF(AND(LEFT(Z49,1)="県",G4=""),D4,IF(LEFT(Z49,1)="県",AA3,D49)) -> 2015年 | AB47: =IF(AB46=0,"と同率である"," を "&TEXT(ABS(AB46),"0.0")&"ポイント "&IF(AB46>0,"上回る","下回る")) -> を 7.4ポイント 下回る
G48: 割合(%) | H48: =IF(OR(AND(ISTEXT(H46),H46<>"X",H46<>"-"),AND(ISTEXT(H47),H47<>"X",H47<>"-")),"nc",IF(OR(H46="X",H47="X"),"X",IF(ROUND(SUM(H46),0)=0,"nc",SUM(H47)/H46%))) -> 62.991779 | Z48: 県との比較 | AA48: =IF(LEFT(Z48,1)="県",$D$4,$D46) -> 東京都 | AB48: =H51-IF(LEFT(Z48,1)="県",H52,H48) -> 0
D49: 2015年 | E49: 農家数 | H49: =IFERROR(OFFSET(INDIRECT($Y$4),$V$4,W46-1),"nc") -> 5623 | Z49: 前回との比較 | AA49: =AA3 -> 東京都 | AB49: =IF(AB48=0,"と同率である"," を "&TEXT(ABS(AB48),"0.0")&"ポイント "&IF(AB48>0,"上回る","下回る")) -> と同率である
G50: 後継者がいる農家数 | H50: =IFERROR(OFFSET(INDIRECT($Y$4),$V$4,$W47-1),"nc") -> 3126
G51: 割合(%) | H51: =IF(OR(AND(ISTEXT(H49),H49<>"X",H49<>"-"),AND(ISTEXT(H50),H50<>"X",H50<>"-")),"nc",IF(OR(H49="X",H50="X"),"X",IF(ROUND(SUM(H49),0)=0,"nc",SUM(H50)/H49%))) -> 55.5931
D52: 県計 | G52: 後継者がいる割合(%) | H52: =IFERROR(OFFSET(INDIRECT($Y$4),5,$W$47-1)/OFFSET(INDIRECT($Y$4),5,$W$46-1)*100,"nc") -> 55.5931
D73: =IFERROR(" ◎ 一世代家族経営の割合は "&TEXT(G79/100,"0.0%")&"（"&TEXT(G78,"#,##0")&"戸）で、"&IF(LEFT(R75,1)="県","県平均の "&TEXT(G80/100,"0.0%"),"2010年の "&TEXT(G77/F77,"0.0%"))&W78,"")
L74: 単位：戸
F75: 計 | G75: 一世代家族 経営 | J75: 二世代家族 経営 | L75: 三世代家族 経営 | R75: 前回との比較
H76: 一人家族経営 | I76: 夫婦家族経営 | K76: 親子家族経営 | V76: 列番号 | W76: 県、前回との差 | X76: グラフ用 | Y76: 一世代 | Z76: 二世代 | AA76: 三世代
D77: 2010年 | F77: =IFERROR(OFFSET(INDIRECT($Y$3),$V$3,$V77),"nc") -> nc | G77: =IFERROR(OFFSET(INDIRECT($Y$3),$V$3,$V$77+F1),"nc") -> nc | H77: =IFERROR(OFFSET(INDIRECT($Y$3),$V$3,$V$77+G1),"nc") -> nc | I77: =IFERROR(OFFSET(INDIRECT($Y$3),$V$3,$V$77+H1),"nc") -> nc | J77: =IFERROR(OFFSET(INDIRECT($Y$3),$V$3,$V$77+I1),"nc") -> nc | K77: =IFERROR(OFFSET(INDIRECT($Y$3),$V$3,$V$77+J1),"nc") -> nc | L77: =IFERROR(OFFSET(INDIRECT($Y$3),$V$3,$V$77+K1),"nc") -> nc | V77: =CELL("col",#REF!)-1 -> #REF! | W77: =IF(LEFT(R75,1)="県",G79-G80,G79-G77/F77*100) -> #VALUE! | X77: =IF(LEFT($R$75,1)="県",AA3,D77) -> 2010年 | Y77: =IF(LEFT($R$75,1)="県",G79,G77/F77*100) -> #VALUE! | Z77: =IF(LEFT($R$75,1)="県",J79,J77/F77*100) -> #VALUE! | AA77: =IF(LEFT($R$75,1)="県",L79,L77/F77*100) -> #VALUE!
D78: 2015年 | F78: =IFERROR(OFFSET(INDIRECT($Y$4),$V$4,$V78),"nc") -> 0 | G78: =IFERROR(SUM(OFFSET(INDIRECT($Y$4),$V$4,$V$78+F1)),"nc") -> 0 | H78: =IFERROR(SUM(OFFSET(INDIRECT($Y$4),$V$4,$V$78+G1)),"nc") -> 0 | I78: =IFERROR(SUM(OFFSET(INDIRECT($Y$4),$V$4,$V$78+H1)),"nc") -> 0 | J78: =IFERROR(SUM(OFFSET(INDIRECT($Y$4),$V$4,$V$78+I1)),"nc") -> 0 | K78: =IFERROR(SUM(OFFSET(INDIRECT($Y$4),$V$4,$V$78+J1)),"nc") -> 0 | L78: =IFERROR(SUM(OFFSET(INDIRECT($Y$4),$V$4,$V$78+K1)),"nc") -> 0 | V78: =CELL("col",'2015年'!CV6)-1 -> 99 | W78: =IF(W77=0," と同率である"," を "&TEXT(ABS(W77),"0.0")&"ポイント "&IF(W77>0,"上回る","下回る")) -> #VALUE! | X78: =IF(LEFT($R$75,1)="県",D4,D78) -> 2015年 | Y78: =IF(LEFT($R$75,1)="県",G80,G79) -> nc | Z78: =IF(LEFT($R$75,1)="県",J80,J79) -> nc | AA78: =IF(LEFT($R$75,1)="県",L80,L79) -> nc
E79: 構成比(%) | F79: =IF(OR(AND(ISTEXT($F78),$F78<>"X",$F78<>"-"),AND(ISTEXT(F78),F78<>"X",F78<>"-")),"nc",IF(OR($F78="X",F78="X"),"X",IF(ROUND(SUM($F78),0)=0,"nc",SUM(F78)/$F78%))) -> nc | G79: =IF(OR(AND(ISTEXT($F78),$F78<>"X",$F78<>"-"),AND(ISTEXT(G78),G78<>"X",G78<>"-")),"nc",IF(OR($F78="X",G78="X"),"X",IF(ROUND(SUM($F78),0)=0,"nc",SUM(G78)/$F78%))) -> nc | H79: =IF(OR(AND(ISTEXT($F78),$F78<>"X",$F78<>"-"),AND(ISTEXT(H78),H78<>"X",H78<>"-")),"nc",IF(OR($F78="X",H78="X"),"X",IF(ROUND(SUM($F78),0)=0,"nc",SUM(H78)/$F78%))) -> nc | I79: =IF(OR(AND(ISTEXT($F78),$F78<>"X",$F78<>"-"),AND(ISTEXT(I78),I78<>"X",I78<>"-")),"nc",IF(OR($F78="X",I78="X"),"X",IF(ROUND(SUM($F78),0)=0,"nc",SUM(I78)/$F78%))) -> nc | J79: =IF(OR(AND(ISTEXT($F78),$F78<>"X",$F78<>"-"),AND(ISTEXT(J78),J78<>"X",J78<>"-")),"nc",IF(OR($F78="X",J78="X"),"X",IF(ROUND(SUM($F78),0)=0,"nc",SUM(J78)/$F78%))) -> nc | K79: =IF(OR(AND(ISTEXT($F78),$F78<>"X",$F78<>"-"),AND(ISTEXT(K78),K78<>"X",K78<>"-")),"nc",IF(OR($F78="X",K78="X"),"X",IF(ROUND(SUM($F78),0)=0,"nc",SUM(K78)/$F78%))) -> nc | L79: =IF(OR(AND(ISTEXT($F78),$F78<>"X",$F78<>"-"),AND(ISTEXT(L78),L78<>"X",L78<>"-")),"nc",IF(OR($F78="X",L78="X"),"X",IF(ROUND(SUM($F78),0)=0,"nc",SUM(L78)/$F78%))) -> nc
E80: 県計 構成比(%) | F80: 100 | G80: =IFERROR(OFFSET(INDIRECT($Y$4),5,$V$78+F1)/OFFSET(INDIRECT($Y$4),5,$V$78)%,"nc") -> nc | H80: =IFERROR(OFFSET(INDIRECT($Y$4),5,$V$78+G1)/OFFSET(INDIRECT($Y$4),5,$V$78)%,"nc") -> nc | I80: =IFERROR(OFFSET(INDIRECT($Y$4),5,$V$78+H1)/OFFSET(INDIRECT($Y$4),5,$V$78)%,"nc") -> nc | J80: =IFERROR(OFFSET(INDIRECT($Y$4),5,$V$78+I1)/OFFSET(INDIRECT($Y$4),5,$V$78)%,"nc") -> nc | K80: =IFERROR(OFFSET(INDIRECT($Y$4),5,$V$78+J1)/OFFSET(INDIRECT($Y$4),5,$V$78)%,"nc") -> nc | L80: =IFERROR(OFFSET(INDIRECT($Y$4),5,$V$78+K1)/OFFSET(INDIRECT($Y$4),5,$V$78)%,"nc") -> nc
C84: 過去１年間の生活の主な状態別世帯員数（計）
D85: =IFERROR(" ◎ 「自営農業が主」の割合は "&TEXT(H91/100,"0.0%")&"（"&TEXT(H90,"#,###")&"戸）で、"&IF(LEFT(R87,1)="県"," 県平均"&"の "&TEXT(H93/100,"0.0%")&W90,"2010年の "&TEXT(H89/F89,"0.0%")&X90),"") -> ◎ 「自営農業が主」の割合は 49.8%（9,687戸）で、2010年の 43.2% を 6.6ポイント 上回る
M86: 単位：人 | N86: =" 《主な状態別世帯員数割合》 " -> 《主な状態別世帯員数割合》
F87: 計 | G87: 主に仕事 | K87: 主に 家事・育児 | L87: 学生 | M87: その他 | N87: =" "&IF(AND(LEFT(R87,1)<>"県",G4=""),D4,IF(LEFT(R87,1)="県",D90,AA3)) -> 東京都 | R87: 前回との比較 | W87: 自営農業の増減 | Y87: 凡例用 | AE87: 内円
G88: 小計 | H88: 自営農業が主 | I88: 勤務が主 | J88: 農業以外の自営が主 | R88: ="外円："&IF(AND(LEFT(R87,1)="県",G4=""),D4,IF(LEFT(R87,1)="県",$AA$3,"2015年"))&CHAR(10)&"内円："&IF(LEFT(R87,1)="県",$D$4,"2010年") -> 外円：2015年 内円：2010年 | V88: 列番号 | W88: 県 | X88: 前回 | Y88: 自営農業 | Z88: 勤務 | AA88: 農業以外の自営 | AB88: 家事・育児 | AC88: 学生 | AD88: その他 | AE88: offset 行数
A89: 15 | D89: 2010年 | F89: =IFERROR(OFFSET(INDIRECT($Y$3),$V$3,$V95-1),"nc") -> 24758 | G89: =IFERROR(OFFSET(INDIRECT($Y$3),$V$3,$V95),"nc") -> 16241 | H89: =IFERROR(OFFSET(INDIRECT($Y$3),$V$3,$V95+1),"nc") -> 10689 | I89: =IFERROR(OFFSET(INDIRECT($Y$3),$V$3,$V95+2),"nc") -> 4383 | J89: =IFERROR(OFFSET(INDIRECT($Y$3),$V$3,$V95+3),"nc") -> 1169 | K89: =IFERROR(OFFSET(INDIRECT($Y$3),$V$3,$V95+4),"nc") -> 3711 | L89: =IFERROR(OFFSET(INDIRECT($Y$3),$V$3,$V95+5),"nc") -> 2268 | M89: =IFERROR(OFFSET(INDIRECT($Y$3),$V$3,$V95+6),"nc") -> 2538 | V89: =CELL("col",'2010年'!DC6)-1 -> 106 | W89: =H91-H93 -> 0 | X89: =H91-H89/F89*100 -> 6.6102269 | AE89: =IF(LEFT(R87,1)="県",2,-1) -> -1
D90: 2015年 | F90: =IFERROR(OFFSET(INDIRECT($Y$4),$V$4,$V96-1),"nc") -> 19458 | G90: =IFERROR((OFFSET(INDIRECT($Y$4),$V$4,$V96)),"nc") -> 13945 | H90: =IFERROR((OFFSET(INDIRECT($Y$4),$V$4,$V96+1)),"nc") -> 9687 | I90: =IFERROR((OFFSET(INDIRECT($Y$4),$V$4,$V96+2)),"nc") -> 3182 | J90: =IFERROR((OFFSET(INDIRECT($Y$4),$V$4,$V96+3)),"nc") -> 1076 | K90: =IFERROR((OFFSET(INDIRECT($Y$4),$V$4,$V96+4)),"nc") -> 2325 | L90: =IFERROR((OFFSET(INDIRECT($Y$4),$V$4,$V96+5)),"nc") -> 1603 | M90: =IFERROR((OFFSET(INDIRECT($Y$4),$V$4,$V96+6)),"nc") -> 1585 | V90: =CELL("col",'2015年'!DC6)-1 -> 106 | W90: =" "&IF(W89=0,"と同率である"," を "&TEXT(ABS(W89),"0.0")&"ポイント "&IF(W89>0,"上回る","下回る")) -> と同率である | X90: =IF(X89=0,"と同率である"," を "&TEXT(ABS(X89),"0.0")&"ポイント "&IF(X89>0,"上回る","下回る")) -> を 6.6ポイント 上回る
E91: 構成比(%) | F91: =IF(OR(AND(ISTEXT($F90),$F90<>"X",$F90<>"-"),AND(ISTEXT(F90),F90<>"X",F90<>"-")),"nc",IF(OR($F90="X",F90="X"),"X",IF(ROUND(SUM($F90),0)=0,"nc",SUM(F90)/$F90%))) -> 100 | G91: =IF(OR(AND(ISTEXT($F90),$F90<>"X",$F90<>"-"),AND(ISTEXT(G90),G90<>"X",G90<>"-")),"nc",IF(OR($F90="X",G90="X"),"X",IF(ROUND(SUM($F90),0)=0,"nc",SUM(G90)/$F90%))) -> 71.667181 | H91: =IF(OR(AND(ISTEXT($F90),$F90<>"X",$F90<>"-"),AND(ISTEXT(H90),H90<>"X",H90<>"-")),"nc",IF(OR($F90="X",H90="X"),"X",IF(ROUND(SUM($F90),0)=0,"nc",SUM(H90)/$F90%))) -> 49.78415 | I91: =IF(OR(AND(ISTEXT($F90),$F90<>"X",$F90<>"-"),AND(ISTEXT(I90),I90<>"X",I90<>"-")),"nc",IF(OR($F90="X",I90="X"),"X",IF(ROUND(SUM($F90),0)=0,"nc",SUM(I90)/$F90%))) -> 16.353171 | J91: =IF(OR(AND(ISTEXT($F90),$F90<>"X",$F90<>"-"),AND(ISTEXT(J90),J90<>"X",J90<>"-")),"nc",IF(OR($F90="X",J90="X"),"X",IF(ROUND(SUM($F90),0)=0,"nc",SUM(J90)/$F90%))) -> 5.5298592 | K91: =IF(OR(AND(ISTEXT($F90),$F90<>"X",$F90<>"-"),AND(ISTEXT(K90),K90<>"X",K90<>"-")),"nc",IF(OR($F90="X",K90="X"),"X",IF(ROUND(SUM($F90),0)=0,"nc",SUM(K90)/$F90%))) -> 11.948813 | L91: =IF(OR(AND(ISTEXT($F90),$F90<>"X",$F90<>"-"),AND(ISTEXT(L90),L90<>"X",L90<>"-")),"nc",IF(OR($F90="X",L90="X"),"X",IF(ROUND(SUM($F90),0)=0,"nc",SUM(L90)/$F90%))) -> 8.2382568 | M91: =IF(OR(AND(ISTEXT($F90),$F90<>"X",$F90<>"-"),AND(ISTEXT(M90),M90<>"X",M90<>"-")),"nc",IF(OR($F90="X",M90="X"),"X",IF(ROUND(SUM($F90),0)=0,"nc",SUM(M90)/$F90%))) -> 8.1457498
E92: 県計 実数 | F92: =IFERROR(OFFSET(INDIRECT($Y$4),5,V96-1),"nc") -> 19458 | G92: =IFERROR(OFFSET(INDIRECT($Y$4),5,$V$96),"nc") -> 13945 | H92: =IFERROR(OFFSET(INDIRECT($Y$4),5,V96+1),"nc") -> 9687 | I92: =IFERROR(OFFSET(INDIRECT($Y$4),5,V96+2),"nc") -> 3182 | J92: =IFERROR(OFFSET(INDIRECT($Y$4),5,V96+3),"nc") -> 1076 | K92: =IFERROR(OFFSET(INDIRECT($Y$4),5,V96+4),"nc") -> 2325 | L92: =IFERROR(OFFSET(INDIRECT($Y$4),5,V96+5),"nc") -> 1603 | M92: =IFERROR(OFFSET(INDIRECT($Y$4),5,V96+6),"nc") -> 1585
E93: 県計 構成比(%) | F93: 100 | G93: =IFERROR(OFFSET(INDIRECT($Y$4),5,$V$96)/OFFSET(INDIRECT($Y$4),5,$V$96-1)*100,"nc") -> 71.667181 | H93: =IFERROR(OFFSET(INDIRECT($Y$4),5,$V$96+F1)/OFFSET(INDIRECT($Y$4),5,$V$96-1)*100,"nc") -> 49.78415 | I93: =IFERROR(OFFSET(INDIRECT($Y$4),5,$V$96+G1)/OFFSET(INDIRECT($Y$4),5,$V$96-1)*100,"nc") -> 16.353171 | J93: =IFERROR(OFFSET(INDIRECT($Y$4),5,$V$96+H1)/OFFSET(INDIRECT($Y$4),5,$V$96-1)*100,"nc") -> 5.5298592 | K93: =IFERROR(OFFSET(INDIRECT($Y$4),5,$V$96+I1)/OFFSET(INDIRECT($Y$4),5,$V$96-1)*100,"nc") -> 11.948813 | L93: =IFERROR(OFFSET(INDIRECT($Y$4),5,$V$96+J1)/OFFSET(INDIRECT($Y$4),5,$V$96-1)*100,"nc") -> 8.2382568 | M93: =IFERROR(OFFSET(INDIRECT($Y$4),5,$V$96+K1)/OFFSET(INDIRECT($Y$4),5,$V$96-1)*100,"nc") -> 8.1457498 | V93: 列番号 | W93: 概要 | Y93: 縦棒 左 | Z93: 縦棒 右 | AA93: 凡例
V94: =IF(C84="過去１年間の生活の主な状態別世帯員数（計）",1,IF(C84="過去１年間の生活の主な状態別世帯員数（男）",2,IF(C84="過去１年間の生活の主な状態別世帯員数（女）",3,ERROR.TYPE(5)))) -> 1 | W94: 人数 | X94: 平均年齢 | Y94: =IF(LEFT(R100,1)="県",3,-1) -> -1 | Z94: =IF(LEFT(R100,1)="県",1,0) -> 0 | AA94: =IF(LEFT(R100,1)="県",$D$4,$D94) -> 0
V95: =IFERROR(CHOOSE(V94,CELL("col",'2010年'!DD6),CELL("col",'2010年'!EG6),CELL("col",'2010年'!EO6))-1,555) -> 107 | W95: =F95/F94-1 -> #DIV/0! | X95: =S95-IF(LEFT(R100,1)="県",S98,S94) -> 0 | AA95: =IF(LEFT(R100,1)="県",AA75,D95) -> 0
V96: =IFERROR(CHOOSE(V94,CELL("col",'2015年'!DD6),CELL("col",'2015年'!EG6),CELL("col",'2015年'!EO6))-1,555) -> 107 | W96: =IF(W95=0,"変化なし",TEXT(ABS(F95-F94),"#,##0人")&"（"&TEXT(ABS(W95),"0.0%")&"） "&IF(W95>0,"増加","減少")) -> #DIV/0! | X96: =IF(X95=0,"と同じである","を "&TEXT(ABS(X95),"0.0歳")&IF(X95>0,"上回る","下回る")) -> と同じである
C98: 農産物販売金額１位の部門別農家数（販売のあった農家）
D99: =IF(AA105="",""," ◎ "&AA105&"（"&TEXT(Z105,"0.0")&"%） が最も多く、次いで"&SUBSTITUTE(AA106&AA107,"」「","」、「")&"の順で、この"&DBCS(COUNTIF(AB103:AN103,"<4"))&"部門で全体の "&TEXT(Z104,"0.0")&"% を占める") -> ◎ 「露地野菜」（51.5%） が最も多く、次いで「花き・花木」、「果樹類」の順で、この３部門で全体の 83.3% を占める
S100: 単位：戸
F101: 計 | G101: 稲作 | H101: 麦類作 | I101: 雑穀・ いも類・ 豆類 | J101: 工芸農作物 | K101: 野菜類 | M101: 果樹類 | N101: 花き・ 花木 | O101: その他の作物 | P101: 酪農 | Q101: 肉用牛 | R101: 養豚 | S101: 養鶏
K102: 露地 | L102: 施設 | O102: その他の作物 | P102: 畜産 | V102: 列番号 | W102: offset行数 | Y102: 凡例 | Z102: 上位 | AB102: 稲作 | AC102: 麦類作 | AD102: 雑穀・ いも類・ 豆類 | AE102: 工芸 農作物 | AF102: 露地 野菜 | AG102: 施設 野菜 | AH102: 果樹類 | AI102: 花き・ 花木 | AJ102: その他 の作物 | AK102: 酪農 | AL102: 肉用牛 | AM102: 養豚 | AN102: 養鶏
D103: 2010年 | F103: =IFERROR(OFFSET(INDIRECT($Y$3),$V$3,$V103),"nc") -> 5977 | G103: =IFERROR(OFFSET(INDIRECT($Y$3),$V$3,$V103+F$1),"nc") -> 102 | H103: =IFERROR(OFFSET(INDIRECT($Y$3),$V$3,$V103+G$1),"nc") -> 11 | I103: =IFERROR(OFFSET(INDIRECT($Y$3),$V$3,$V103+H$1),"nc") -> 182 | J103: =IFERROR(OFFSET(INDIRECT($Y$3),$V$3,$V103+I$1),"nc") -> 108 | K103: =IFERROR(OFFSET(INDIRECT($Y$3),$V$3,$V103+J$1),"nc") -> 3089 | L103: =IFERROR(OFFSET(INDIRECT($Y$3),$V$3,$V103+K$1),"nc") -> 328 | M103: =IFERROR(OFFSET(INDIRECT($Y$3),$V$3,$V103+L$1),"nc") -> 842 | N103: =IFERROR(OFFSET(INDIRECT($Y$3),$V$3,$V103+M$1),"nc") -> 1062 | ... S103: =IFERROR(OFFSET(INDIRECT($Y$3),$V$3,$V103+R$1),"nc") -> 33 | V103: =CELL("col",'2010年'!DK6)-1 -> 114 | W103: 縦棒左 | X103: 縦棒右 | Y103: =IF(LEFT(R108,1)="県",D4,D103) -> 2010年 | Z103: ３品目計 | AA103: 順位 | AB103: =IFERROR(RANK(G104,$G$104:$S$104,0),99) -> 7 | AC103: =IFERROR(RANK(H104,$G$104:$S$104,0),99) -> 13 | AD103: =IFERROR(RANK(I104,$G$104:$S$104,0),99) -> 5 | AE103: =IFERROR(RANK(J104,$G$104:$S$104,0),99) -> 7 | AF103: =IFERROR(RANK(K104,$G$104:$S$104,0),99) -> 1 | AG103: =IFERROR(RANK(L104,$G$104:$S$104,0),99) -> 4 | AH103: =IFERROR(RANK(M104,$G$104:$S$104,0),99) -> 3 | AI103: =IFERROR(RANK(N104,$G$104:$S$104,0),99) -> 2 | ... AN103: =IFERROR(RANK(S104,$G$104:$S$104,0),99) -> 10
D104: 2015年 | F104: =IFERROR(OFFSET(INDIRECT($Y$4),$V$4,V104),"nc") -> 5028 | G104: =IFERROR(OFFSET(INDIRECT($Y$4),$V$4,$V104+F1),"nc") -> 86 | H104: =IFERROR(OFFSET(INDIRECT($Y$4),$V$4,$V104+G1),"nc") -> 6 | I104: =IFERROR(OFFSET(INDIRECT($Y$4),$V$4,$V104+H1),"nc") -> 139 | J104: =IFERROR(OFFSET(INDIRECT($Y$4),$V$4,$V104+I1),"nc") -> 86 | K104: =IFERROR(OFFSET(INDIRECT($Y$4),$V$4,$V104+J1),"nc") -> 2591 | L104: =IFERROR(OFFSET(INDIRECT($Y$4),$V$4,$V104+K1),"nc") -> 322 | M104: =IFERROR(OFFSET(INDIRECT($Y$4),$V$4,$V104+L1),"nc") -> 774 | N104: =IFERROR(OFFSET(INDIRECT($Y$4),$V$4,$V104+M1),"nc") -> 823 | ... S104: =IFERROR(OFFSET(INDIRECT($Y$4),$V$4,$V104+R1),"nc") -> 17 | V104: =CELL("col",'2015年'!DK6)-1 -> 114 | W104: =IF(LEFT(R108,1)="県",2,-1) -> -1 | X104: =IF(LEFT(R108,1)="県",1,0) -> 0 | Y104: =IF(AND(LEFT(R108,1)="県",G4=""),D4,IF(LEFT(R108,1)="県",AA3,D104)) -> 2015年 | Z104: =SUM(AB104:AN104) -> 83.293556 | AA104: ％ | AB104: =IF(AB103<4,G104/$F$104%,0) -> 0 | AC104: =IF(AC103<4,H104/$F$104%,0) -> 0 | AD104: =IF(AD103<4,I104/$F$104%,0) -> 0 | AE104: =IF(AE103<4,J104/$F$104%,0) -> 0 | AF104: =IF(AF103<4,K104/$F$104%,0) -> 51.531424 | AG104: =IF(AG103<4,L104/$F$104%,0) -> 0 | AH104: =IF(AH103<4,M104/$F$104%,0) -> 15.393795 | AI104: =IF(AI103<4,N104/$F$104%,0) -> 16.368337 | ... AN104: =IF(AN103<4,S104/$F$104%,0) -> 0
E105: 構成比(%) | F105: =IF(OR(AND(ISTEXT($F104),$F104<>"X",$F104<>"-"),AND(ISTEXT(F104),F104<>"X",F104<>"-")),"nc",IF(OR($F104="X",F104="X"),"X",IF(ROUND(SUM($F104),0)=0,"nc",SUM(F104)/$F104%))) -> 100 | G105: =IF(OR(AND(ISTEXT($F104),$F104<>"X",$F104<>"-"),AND(ISTEXT(G104),G104<>"X",G104<>"-")),"nc",IF(OR($F104="X",G104="X"),"X",IF(ROUND(SUM($F104),0)=0,"nc",SUM(G104)/$F104%))) -> 1.7104216 | H105: =IF(OR(AND(ISTEXT($F104),$F104<>"X",$F104<>"-"),AND(ISTEXT(H104),H104<>"X",H104<>"-")),"nc",IF(OR($F104="X",H104="X"),"X",IF(ROUND(SUM($F104),0)=0,"nc",SUM(H104)/$F104%))) -> 0.11933174 | I105: =IF(OR(AND(ISTEXT($F104),$F104<>"X",$F104<>"-"),AND(ISTEXT(I104),I104<>"X",I104<>"-")),"nc",IF(OR($F104="X",I104="X"),"X",IF(ROUND(SUM($F104),0)=0,"nc",SUM(I104)/$F104%))) -> 2.7645187 | J105: =IF(OR(AND(ISTEXT($F104),$F104<>"X",$F104<>"-"),AND(ISTEXT(J104),J104<>"X",J104<>"-")),"nc",IF(OR($F104="X",J104="X"),"X",IF(ROUND(SUM($F104),0)=0,"nc",SUM(J104)/$F104%))) -> 1.7104216 | K105: =IF(OR(AND(ISTEXT($F104),$F104<>"X",$F104<>"-"),AND(ISTEXT(K104),K104<>"X",K104<>"-")),"nc",IF(OR($F104="X",K104="X"),"X",IF(ROUND(SUM($F104),0)=0,"nc",SUM(K104)/$F104%))) -> 51.531424 | L105: =IF(OR(AND(ISTEXT($F104),$F104<>"X",$F104<>"-"),AND(ISTEXT(L104),L104<>"X",L104<>"-")),"nc",IF(OR($F104="X",L104="X"),"X",IF(ROUND(SUM($F104),0)=0,"nc",SUM(L104)/$F104%))) -> 6.4041368 | M105: =IF(OR(AND(ISTEXT($F104),$F104<>"X",$F104<>"-"),AND(ISTEXT(M104),M104<>"X",M104<>"-")),"nc",IF(OR($F104="X",M104="X"),"X",IF(ROUND(SUM($F104),0)=0,"nc",SUM(M104)/$F104%))) -> 15.393795 | ... S105: =IF(OR(AND(ISTEXT($F104),$F104<>"X",$F104<>"-"),AND(ISTEXT(S104),S104<>"X",S104<>"-")),"nc",IF(OR($F104="X",S104="X"),"X",IF(ROUND(SUM($F104),0)=0,"nc",SUM(S104)/$F104%))) -> 0.3381066 | Y105: １位 | Z105: =SUMIF($AB$103:$AN$103,1,AB104:AN104) -> 51.531424 | AA105: =SUBSTITUTE(AB105&AC105&AD105&AE105&AF105&AG105&AH105&AI105&AJ105&AK105&AL105&AM105&AN105,"」「","」と「") -> 「露地野菜」 | AB105: =IF(AB103=1,"「"&CLEAN(AB102)&"」","") | AC105: =IF(AC103=1,"「"&CLEAN(AC102)&"」","") | AD105: =IF(AD103=1,"「"&CLEAN(AD102)&"」","") | AE105: =IF(AE103=1,"「"&CLEAN(AE102)&"」","") | AF105: =IF(AF103=1,"「"&CLEAN(AF102)&"」","") -> 「露地野菜」 | AG105: =IF(AG103=1,"「"&CLEAN(AG102)&"」","") | AH105: =IF(AH103=1,"「"&CLEAN(AH102)&"」","") | AI105: =IF(AI103=1,"「"&CLEAN(AI102)&"」","") | ... AN105: =IF(AN103=1,"「"&CLEAN(AN102)&"」","")
E106: 県計 構成比(%) | F106: 100 | G106: =IFERROR(IF(OFFSET(INDIRECT($Y$4),5,$V$104+F1)="-","-",ROUND(OFFSET(INDIRECT($Y$4),5,$V$104+F1)/OFFSET(INDIRECT($Y$4),5,$V$104)*100,1)),"nc") -> 1.7 | H106: =IFERROR(IF(OFFSET(INDIRECT($Y$4),5,$V$104+G1)="-","-",ROUND(OFFSET(INDIRECT($Y$4),5,$V$104+G1)/OFFSET(INDIRECT($Y$4),5,$V$104)*100,1)),"nc") -> 0.1 | I106: =IFERROR(IF(OFFSET(INDIRECT($Y$4),5,$V$104+H1)="-","-",ROUND(OFFSET(INDIRECT($Y$4),5,$V$104+H1)/OFFSET(INDIRECT($Y$4),5,$V$104)*100,1)),"nc") -> 2.8 | J106: =IFERROR(IF(OFFSET(INDIRECT($Y$4),5,$V$104+I1)="-","-",ROUND(OFFSET(INDIRECT($Y$4),5,$V$104+I1)/OFFSET(INDIRECT($Y$4),5,$V$104)*100,1)),"nc") -> 1.7 | K106: =IFERROR(IF(OFFSET(INDIRECT($Y$4),5,$V$104+J1)="-","-",ROUND(OFFSET(INDIRECT($Y$4),5,$V$104+J1)/OFFSET(INDIRECT($Y$4),5,$V$104)*100,1)),"nc") -> 51.5 | L106: =IFERROR(IF(OFFSET(INDIRECT($Y$4),5,$V$104+K1)="-","-",ROUND(OFFSET(INDIRECT($Y$4),5,$V$104+K1)/OFFSET(INDIRECT($Y$4),5,$V$104)*100,1)),"nc") -> 6.4 | M106: =IFERROR(IF(OFFSET(INDIRECT($Y$4),5,$V$104+L1)="-","-",ROUND(OFFSET(INDIRECT($Y$4),5,$V$104+L1)/OFFSET(INDIRECT($Y$4),5,$V$104)*100,1)),"nc") -> 15.4 | N106: =IFERROR(IF(OFFSET(INDIRECT($Y$4),5,$V$104+M1)="-","-",ROUND(OFFSET(INDIRECT($Y$4),5,$V$104+M1)/OFFSET(INDIRECT($Y$4),5,$V$104)*100,1)),"nc") -> 16.4 | ... S106: =IFERROR(IF(OFFSET(INDIRECT($Y$4),5,$V$104+R1)="-","-",ROUND(OFFSET(INDIRECT($Y$4),5,$V$104+R1)/OFFSET(INDIRECT($Y$4),5,$V$104)*100,1)),"nc") -> 0.3 | Y106: ２位 | Z106: =SUMIF($AB$103:$AN$103,2,$AB$104:$AN$104) -> 16.368337 | AA106: =SUBSTITUTE(AB106&AC106&AD106&AE106&AF106&AG106&AH106&AI106&AJ106&AK106&AL106&AM106&AN106,"」「","」と「") -> 「花き・花木」 | AB106: =IF(AB103=2,"「"&CLEAN(AB102)&"」","") | AC106: =IF(AC103=2,"「"&CLEAN(AC102)&"」","") | AD106: =IF(AD103=2,"「"&CLEAN(AD102)&"」","") | AE106: =IF(AE103=2,"「"&CLEAN(AE102)&"」","") | AF106: =IF(AF103=2,"「"&CLEAN(AF102)&"」","") | AG106: =IF(AG103=2,"「"&CLEAN(AG102)&"」","") | AH106: =IF(AH103=2,"「"&CLEAN(AH102)&"」","") | AI106: =IF(AI103=2,"「"&CLEAN(AI102)&"」","") -> 「花き・花木」 | ... AN106: =IF(AN103=2,"「"&CLEAN(AN102)&"」","")
D107: =IF(LEFT(R108,1)="県","（％）","（戸）") -> （戸） | H107: ="《農産物販売金額１位の部門別農家数"&IF(LEFT(R108,1)="県","割合","")&"》 "&IF(AND(LEFT(R108,1)<>"県",G4=""),D4,IF(LEFT(R108,1)="県","2015年",AA3)) -> 《農産物販売金額１位の部門別農家数》 東京都 | Y107: ３位 | Z107: =SUMIF($AB$103:$AN$103,3,$AB$104:$AN$104) -> 15.393795 | AA107: =SUBSTITUTE(AB107&AC107&AD107&AE107&AF107&AG107&AH107&AI107&AJ107&AK107&AL107&AM107&AN107,"」「","」と「") -> 「果樹類」 | AB107: =IF(AB103=3,"「"&CLEAN(AB102)&"」","") | AC107: =IF(AC103=3,"「"&CLEAN(AC102)&"」","") | AD107: =IF(AD103=3,"「"&CLEAN(AD102)&"」","") | AE107: =IF(AE103=3,"「"&CLEAN(AE102)&"」","") | AF107: =IF(AF103=3,"「"&CLEAN(AF102)&"」","") | AG107: =IF(AG103=3,"「"&CLEAN(AG102)&"」","") | AH107: =IF(AH103=3,"「"&CLEAN(AH102)&"」","") -> 「果樹類」 | AI107: =IF(AI103=3,"「"&CLEAN(AI102)&"」","") | ... AN107: =IF(AN103=3,"「"&CLEAN(AN102)&"」","")
R108: 前回との比較
C121: 経営耕地面積（販売農家） | I121: =IFERROR(" ◎ 経営耕地面積は "&IF(G126=G125,"変化なし",TEXT(ABS(G126-G125),"#,##0")&"ha（"&TEXT(ABS(G126/G125-1),"0.0%"&"） "))&IF(F126=F125,"",IF(G126<G125,"減少","増加"))&"、１戸当たりでは "&IF(X125=0,"変動無し",TEXT(ABS(X125),"0.00")&"ha "&IF(X125>0,"増加","減少")),"") -> ◎ 経営耕地面積は 779ha（16.3%) 減少、１戸当たりでは 0.01ha 増加
D122: =AA3 -> 東京都 | K122: 単位：ha
F123: 経 営 耕 地 のある農家数 | G123: 経 営 耕 地 面 積 | K123: １戸当たり経営耕地面積
H124: 田 | I124: 畑 （樹園地を除く） | J124: 樹園地 | V124: 列番号 | W124: 凡例用 | X124: １戸当たり増減
D125: 2010年 | F125: =IFERROR(OFFSET(INDIRECT($Y$3),$V$3,V125),"nc") -> 6787 | G125: =IFERROR(ROUND(OFFSET(INDIRECT($Y$3),$V$3,$V$125+F1)/100,0),OFFSET(INDIRECT($Y$3),$V$3,$V$125+F1)) -> 4791 | H125: =IFERROR(ROUND(OFFSET(INDIRECT($Y$3),$V$3,$V$125+G1)/100,0),OFFSET(INDIRECT($Y$3),$V$3,$V$125+G1)) -> 281 | I125: =IFERROR(ROUND(OFFSET(INDIRECT($Y$3),$V$3,$V$125+H1)/100,0),OFFSET(INDIRECT($Y$3),$V$3,$V$125+H1)) -> 3142 | J125: =IFERROR(ROUND(OFFSET(INDIRECT($Y$3),$V$3,$V$125+I1)/100,0),OFFSET(INDIRECT($Y$3),$V$3,$V$125+I1)) -> 1367 | K125: =IF(OR(AND(ISTEXT($F125),$F125<>"X",$F125<>"-"),AND(ISTEXT(G125),G125<>"X",G125<>"-")),"nc",IF(OR($F125="X",G125="X"),"X",IF(ROUND(SUM($F125),0)=0,"nc",ROUND(SUM(G125)/$F125,2)))) -> 0.71 | V125: =CELL("col",'2010年'!EA6)-1 -> 130 | W125: 田 | X125: =K126-K125 -> 0.01
D126: 2015年 | F126: =IFERROR(OFFSET(INDIRECT($Y$4),$V$4,$V126),"nc") -> 5591 | G126: =IFERROR(ROUND(OFFSET(INDIRECT($Y$4),$V$4,$V126+F1)/100,0),OFFSET(INDIRECT($Y$4),$V$4,$V126+F1)) -> 4012 | H126: =IFERROR(ROUND(OFFSET(INDIRECT($Y$4),$V$4,$V126+G1)/100,0),OFFSET(INDIRECT($Y$4),$V$4,$V126+G1)) -> 202 | I126: =IFERROR(ROUND(OFFSET(INDIRECT($Y$4),$V$4,$V126+H1)/100,0),OFFSET(INDIRECT($Y$4),$V$4,$V126+H1)) -> 2761 | J126: =IFERROR(ROUND(OFFSET(INDIRECT($Y$4),$V$4,$V126+I1)/100,0),OFFSET(INDIRECT($Y$4),$V$4,$V126+I1)) -> 1049 | K126: =IF(OR(AND(ISTEXT($F126),$F126<>"X",$F126<>"-"),AND(ISTEXT(G126),G126<>"X",G126<>"-")),"nc",IF(OR($F126="X",G126="X"),"X",IF(ROUND(SUM($F126),0)=0,"nc",ROUND(SUM(G126)/$F126,2)))) -> 0.72 | V126: =CELL("col",'2015年'!EA6)-1 -> 130 | W126: 畑
E127: 構成比(%) | G127: =IF(OR(AND(ISTEXT($G126),$G126<>"X",$G126<>"-"),AND(ISTEXT(G126),G126<>"X",G126<>"-")),"nc",IF(OR($G126="X",G126="X"),"X",IF(ROUND(SUM($G126),0)=0,"nc",SUM(G126)/$G126%))) -> 100 | H127: =IF(OR(AND(ISTEXT($G126),$G126<>"X",$G126<>"-"),AND(ISTEXT(H126),H126<>"X",H126<>"-")),"nc",IF(OR($G126="X",H126="X"),"X",IF(ROUND(SUM($G126),0)=0,"nc",SUM(H126)/$G126%))) -> 5.0348953 | I127: =IF(OR(AND(ISTEXT($G126),$G126<>"X",$G126<>"-"),AND(ISTEXT(I126),I126<>"X",I126<>"-")),"nc",IF(OR($G126="X",I126="X"),"X",IF(ROUND(SUM($G126),0)=0,"nc",SUM(I126)/$G126%))) -> 68.818544 | J127: =IF(OR(AND(ISTEXT($G126),$G126<>"X",$G126<>"-"),AND(ISTEXT(J126),J126<>"X",J126<>"-")),"nc",IF(OR($G126="X",J126="X"),"X",IF(ROUND(SUM($G126),0)=0,"nc",SUM(J126)/$G126%))) -> 26.14656 | W127: 樹園地
E128: 県計 構成比(%) | G128: 100 | H128: =IFERROR(ROUND(OFFSET(INDIRECT($Y$4),5,$V$126+G1)/OFFSET(INDIRECT($Y$4),5,$V$126+1)*100,1),"nc") -> 5 | I128: =IFERROR(ROUND(OFFSET(INDIRECT($Y$4),5,$V$126+H1)/OFFSET(INDIRECT($Y$4),5,$V$126+1)*100,1),"nc") -> 68.8 | J128: =IFERROR(ROUND(OFFSET(INDIRECT($Y$4),5,$V$126+I1)/OFFSET(INDIRECT($Y$4),5,$V$126+1)*100,1),"nc") -> 26.1 | K128: =IFERROR(OFFSET(INDIRECT($Y$4),5,V126+1)/OFFSET(INDIRECT($Y$4),5,V126)/100,"nc") -> 0.71753532
D129: =IFERROR("《参考》"&G4&"の経営耕地面積の全国順位："&TEXT(OFFSET(#REF!,MATCH(Info!G4,#REF!,0),0),"#,##0")&"位","")

Sheet 元データ
A1: 注意事項 | C1: ･･･ | D1: 空欄追記:『調査外(湖､無人島等)』 | Z1: 別紙 2 | AB1: 市区町村名 | AC1: 旧市区町村 | AD1: 農業集落
C2: ･･･ | D2: 全角変換:『2-1』⇒『2-1』 | K2: =IF(AB2=0,"",AB2) | S2: =IF(AC2=0,"",AC2) | AA2: 東京都 | AB2: =Info!G4 -> 0 | AC2: =Info!J4 | AD2: =Info!M4 -> 0
K3: 市町村 | Q3: 旧市区町村 | V3: 農業集落
A4: 農業集落 | B4: 県 | C4: 市区町村 | D4: 旧市区町村 | E4: 農業集落 | F4: 県名 | G4: 市町村名 | H4: 旧市町村名 | I4: 農業集落名 | K4: 判定１ | O4: 抽出１ | Q4: 判定2 | S4: 抽出2 | V4: 抽出3 | Z4: 通し | AA4: 都県名 | AB4: 市区町村名 | AC4: 旧区市町村名 | AD4: 農業集落名
A5: ｺｰﾄﾞ | B5: 番号 | C5: 番号 | D5: 番号 | E5: 番号 | K5: 判定 | L5: 市区町村名 | M5: 連番 | N5: 補記 | O5: 抽出 | P5: 名 | Q5: 判定 | R5: 名 | S5: 抽出 | T5: 旧区市町村名 | U5: 連番 | V5: 抽出 | W5: 農業集落名 | X5: 連番 | Z5: №
Z6: 0
A7: 1300000000 | B7: 13 | C7: 0 | D7: 0 | E7: 0 | F7: 東京都 | K7: =IF(AND($C7>0,$H7=""),"ﾘｽﾄ１","") | L7: =IF(K7="ﾘｽﾄ１",G7,"") | M7: =IF(K7="","",COUNTIF($K7:K$7,"ﾘｽﾄ１")) | N7: =IF(AND(D7=0,E7>0),"同一区","") | O7: =IF(AND(EXACT($K$2,G7),H7>0),"該当１","") | P7: =IF(O7="該当１",G7,"") | Q7: =IF(O7="該当１","ﾘｽﾄ2","") | R7: =IF(Q7="ﾘｽﾄ2",H7,"") | S7: =IF(AND(Q7="ﾘｽﾄ2",OR(I7=0,AND(N7="同一区",E7=1))),"該当２","") | T7: =IF(S7="該当２",H7,"") | U7: =IF(S7="","",COUNTIF($S$7:S7,"該当２")) | V7: =IF(AND($S$2=H7,E7>0,E7<998),"該当３","") | W7: =IF(V7="該当３",I7,"") | X7: =IF(V7="","",COUNTIF($V7:V$7,"該当３")) | Z7: 1 | AA7: =AA2 -> 東京都 | AB7: 千代田区 | AC7: =IF($Z7>MAX($U$7:$U$541),"",INDEX($T$7:$T$541,MATCH($Z7,$U$7:$U$541,0),MATCH($AC$4,$T$5:$U$5,0))) | AD7: =IF($Z7>MAX($X$7:$X$541),"",INDEX($W$7:$W$541,MATCH($Z7,$X$7:$X$541,0),MATCH($AD$4,$W$5:$X$5,0)))
A8: 1310100000 | B8: 13 | C8: 101 | D8: 0 | E8: 0 | F8: 東京都 | G8: 千代田区 | K8: =IF(AND($C8>0,$H8=""),"ﾘｽﾄ１","") -> ﾘｽﾄ１ | L8: =IF(K8="ﾘｽﾄ１",G8,"") -> 千代田区 | M8: =IF(K8="","",COUNTIF($K$7:K8,"ﾘｽﾄ１")) -> 1 | N8: =IF(AND(D8=0,E8>0),"同一区","") | O8: =IF(AND(EXACT($K$2,G8),H8>0),"該当１","") | P8: =IF(O8="該当１",G8,"") | Q8: =IF(O8="該当１","ﾘｽﾄ2","") | R8: =IF(Q8="ﾘｽﾄ2",H8,"") | S8: =IF(AND(Q8="ﾘｽﾄ2",OR(I8=0,AND(N8="同一区",E8=1))),"該当２","") | T8: =IF(S8="該当２",H8,"") | U8: =IF(S8="","",COUNTIF($S$7:S8,"該当２")) | V8: =IF(AND($S$2=H8,E8>0,E8<998),"該当３","") | W8: =IF(V8="該当３",I8,"") | X8: =IF(V8="","",COUNTIF($V$7:V8,"該当３")) | Z8: 2 | AB8: 中央区 | AC8: =IF($Z8>MAX($U$7:$U$541),"",INDEX($T$7:$T$541,MATCH($Z8,$U$7:$U$541,0),MATCH($AC$4,$T$5:$U$5,0))) | AD8: =IF($Z8>MAX($X$7:$X$541),"",INDEX($W$7:$W$541,MATCH($Z8,$X$7:$X$541,0),MATCH($AD$4,$W$5:$X$5,0)))
A9: 1310100001 | B9: 13 | C9: 101 | D9: 0 | E9: 1 | F9: 東京都 | G9: 千代田区 | H9: 千代田区 | I9: 千代田区全域 | K9: =IF(AND($C9>0,$H9=""),"ﾘｽﾄ１","") | L9: =IF(K9="ﾘｽﾄ１",G9,"") | M9: =IF(K9="","",COUNTIF($K$7:K9,"ﾘｽﾄ１")) | N9: =IF(AND(D9=0,E9>0),"同一区","") -> 同一区 | O9: =IF(AND(EXACT($K$2,G9),H9>0),"該当１","") | P9: =IF(O9="該当１",G9,"") | Q9: =IF(O9="該当１","ﾘｽﾄ2","") | R9: =IF(Q9="ﾘｽﾄ2",H9,"") | S9: =IF(AND(Q9="ﾘｽﾄ2",OR(I9=0,AND(N9="同一区",E9=1))),"該当２","") | T9: =IF(S9="該当２",H9,"") | U9: =IF(S9="","",COUNTIF($S$7:S9,"該当２")) | V9: =IF(AND($S$2=H9,E9>0,E9<998),"該当３","") | W9: =IF(V9="該当３",I9,"") | X9: =IF(V9="","",COUNTIF($V$7:V9,"該当３")) | Z9: 3 | AB9: 港区 | AC9: =IF($Z9>MAX($U$7:$U$541),"",INDEX($T$7:$T$541,MATCH($Z9,$U$7:$U$541,0),MATCH($AC$4,$T$5:$U$5,0))) | AD9: =IF($Z9>MAX($X$7:$X$541),"",INDEX($W$7:$W$541,MATCH($Z9,$X$7:$X$541,0),MATCH($AD$4,$W$5:$X$5,0)))
A10: 1310200000 | B10: 13 | C10: 102 | D10: 0 | E10: 0 | F10: 東京都 | G10: 中央区 | K10: =IF(AND($C10>0,$H10=""),"ﾘｽﾄ１","") -> ﾘｽﾄ１ | L10: =IF(K10="ﾘｽﾄ１",G10,"") -> 中央区 | M10: =IF(K10="","",COUNTIF($K$7:K10,"ﾘｽﾄ１")) -> 2 | N10: =IF(AND(D10=0,E10>0),"同一区","") | O10: =IF(AND(EXACT($K$2,G10),H10>0),"該当１","") | P10: =IF(O10="該当１",G10,"") | Q10: =IF(O10="該当１","ﾘｽﾄ2","") | R10: =IF(Q10="ﾘｽﾄ2",H10,"") | S10: =IF(AND(Q10="ﾘｽﾄ2",OR(I10=0,AND(N10="同一区",E10=1))),"該当２","") | T10: =IF(S10="該当２",H10,"") | U10: =IF(S10="","",COUNTIF($S$7:S10,"該当２")) | V10: =IF(AND($S$2=H10,E10>0,E10<998),"該当３","") | W10: =IF(V10="該当３",I10,"") | X10: =IF(V10="","",COUNTIF($V$7:V10,"該当３")) | Z10: 4 | AB10: 新宿区 | AC10: =IF($Z10>MAX($U$7:$U$541),"",INDEX($T$7:$T$541,MATCH($Z10,$U$7:$U$541,0),MATCH($AC$4,$T$5:$U$5,0))) | AD10: =IF($Z10>MAX($X$7:$X$541),"",INDEX($W$7:$W$541,MATCH($Z10,$X$7:$X$541,0),MATCH($AD$4,$W$5:$X$5,0)))
A11: 1310200001 | B11: 13 | C11: 102 | D11: 0 | E11: 1 | F11: 東京都 | G11: 中央区 | H11: 中央区 | I11: 中央区全域 | K11: =IF(AND($C11>0,$H11=""),"ﾘｽﾄ１","") | L11: =IF(K11="ﾘｽﾄ１",G11,"") | M11: =IF(K11="","",COUNTIF($K$7:K11,"ﾘｽﾄ１")) | N11: =IF(AND(D11=0,E11>0),"同一区","") -> 同一区 | O11: =IF(AND(EXACT($K$2,G11),H11>0),"該当１","") | P11: =IF(O11="該当１",G11,"") | Q11: =IF(O11="該当１","ﾘｽﾄ2","") | R11: =IF(Q11="ﾘｽﾄ2",H11,"") | S11: =IF(AND(Q11="ﾘｽﾄ2",OR(I11=0,AND(N11="同一区",E11=1))),"該当２","") | T11: =IF(S11="該当２",H11,"") | U11: =IF(S11="","",COUNTIF($S$7:S11,"該当２")) | V11: =IF(AND($S$2=H11,E11>0,E11<998),"該当３","") | W11: =IF(V11="該当３",I11,"") | X11: =IF(V11="","",COUNTIF($V$7:V11,"該当３")) | Z11: 5 | AB11: 文京区 | AC11: =IF($Z11>MAX($U$7:$U$541),"",INDEX($T$7:$T$541,MATCH($Z11,$U$7:$U$541,0),MATCH($AC$4,$T$5:$U$5,0))) | AD11: =IF($Z11>MAX($X$7:$X$541),"",INDEX($W$7:$W$541,MATCH($Z11,$X$7:$X$541,0),MATCH($AD$4,$W$5:$X$5,0)))
A12: 1310300000 | B12: 13 | C12: 103 | D12: 0 | E12: 0 | F12: 東京都 | G12: 港区 | K12: =IF(AND($C12>0,$H12=""),"ﾘｽﾄ１","") -> ﾘｽﾄ１ | L12: =IF(K12="ﾘｽﾄ１",G12,"") -> 港区 | M12: =IF(K12="","",COUNTIF($K$7:K12,"ﾘｽﾄ１")) -> 3 | N12: =IF(AND(D12=0,E12>0),"同一区","") | O12: =IF(AND(EXACT($K$2,G12),H12>0),"該当１","") | P12: =IF(O12="該当１",G12,"") | Q12: =IF(O12="該当１","ﾘｽﾄ2","") | R12: =IF(Q12="ﾘｽﾄ2",H12,"") | S12: =IF(AND(Q12="ﾘｽﾄ2",OR(I12=0,AND(N12="同一区",E12=1))),"該当２","") | T12: =IF(S12="該当２",H12,"") | U12: =IF(S12="","",COUNTIF($S$7:S12,"該当２")) | V12: =IF(AND($S$2=H12,E12>0,E12<998),"該当３","") | W12: =IF(V12="該当３",I12,"") | X12: =IF(V12="","",COUNTIF($V$7:V12,"該当３")) | Z12: 6 | AB12: 台東区 | AC12: =IF($Z12>MAX($U$7:$U$541),"",INDEX($T$7:$T$541,MATCH($Z12,$U$7:$U$541,0),MATCH($AC$4,$T$5:$U$5,0))) | AD12: =IF($Z12>MAX($X$7:$X$541),"",INDEX($W$7:$W$541,MATCH($Z12,$X$7:$X$541,0),MATCH($AD$4,$W$5:$X$5,0)))
A13: 1310300001 | B13: 13 | C13: 103 | D13: 0 | E13: 1 | F13: 東京都 | G13: 港区 | H13: 港区 | I13: 港区全域 | K13: =IF(AND($C13>0,$H13=""),"ﾘｽﾄ１","") | L13: =IF(K13="ﾘｽﾄ１",G13,"") | M13: =IF(K13="","",COUNTIF($K$7:K13,"ﾘｽﾄ１")) | N13: =IF(AND(D13=0,E13>0),"同一区","") -> 同一区 | O13: =IF(AND(EXACT($K$2,G13),H13>0),"該当１","") | P13: =IF(O13="該当１",G13,"") | Q13: =IF(O13="該当１","ﾘｽﾄ2","") | R13: =IF(Q13="ﾘｽﾄ2",H13,"") | S13: =IF(AND(Q13="ﾘｽﾄ2",OR(I13=0,AND(N13="同一区",E13=1))),"該当２","") | T13: =IF(S13="該当２",H13,"") | U13: =IF(S13="","",COUNTIF($S$7:S13,"該当２")) | V13: =IF(AND($S$2=H13,E13>0,E13<998),"該当３","") | W13: =IF(V13="該当３",I13,"") | X13: =IF(V13="","",COUNTIF($V$7:V13,"該当３")) | Z13: 7 | AB13: 墨田区 | AC13: =IF($Z13>MAX($U$7:$U$541),"",INDEX($T$7:$T$541,MATCH($Z13,$U$7:$U$541,0),MATCH($AC$4,$T$5:$U$5,0))) | AD13: =IF($Z13>MAX($X$7:$X$541),"",INDEX($W$7:$W$541,MATCH($Z13,$X$7:$X$541,0),MATCH($AD$4,$W$5:$X$5,0)))
A14: 1310400000 | B14: 13 | C14: 104 | D14: 0 | E14: 0 | F14: 東京都 | G14: 新宿区 | K14: =IF(AND($C14>0,$H14=""),"ﾘｽﾄ１","") -> ﾘｽﾄ１ | L14: =IF(K14="ﾘｽﾄ１",G14,"") -> 新宿区 | M14: =IF(K14="","",COUNTIF($K$7:K14,"ﾘｽﾄ１")) -> 4 | N14: =IF(AND(D14=0,E14>0),"同一区","") | O14: =IF(AND(EXACT($K$2,G14),H14>0),"該当１","") | P14: =IF(O14="該当１",G14,"") | Q14: =IF(O14="該当１","ﾘｽﾄ2","") | R14: =IF(Q14="ﾘｽﾄ2",H14,"") | S14: =IF(AND(Q14="ﾘｽﾄ2",OR(I14=0,AND(N14="同一区",E14=1))),"該当２","") | T14: =IF(S14="該当２",H14,"") | U14: =IF(S14="","",COUNTIF($S$7:S14,"該当２")) | V14: =IF(AND($S$2=H14,E14>0,E14<998),"該当３","") | W14: =IF(V14="該当３",I14,"") | X14: =IF(V14="","",COUNTIF($V$7:V14,"該当３")) | Z14: 8 | AB14: 江東区 | AC14: =IF($Z14>MAX($U$7:$U$541),"",INDEX($T$7:$T$541,MATCH($Z14,$U$7:$U$541,0),MATCH($AC$4,$T$5:$U$5,0))) | AD14: =IF($Z14>MAX($X$7:$X$541),"",INDEX($W$7:$W$541,MATCH($Z14,$X$7:$X$541,0),MATCH($AD$4,$W$5:$X$5,0)))
A15: 1310400001 | B15: 13 | C15: 104 | D15: 0 | E15: 1 | F15: 東京都 | G15: 新宿区 | H15: 新宿区 | I15: 新宿区全域 | K15: =IF(AND($C15>0,$H15=""),"ﾘｽﾄ１","") | L15: =IF(K15="ﾘｽﾄ１",G15,"") | M15: =IF(K15="","",COUNTIF($K$7:K15,"ﾘｽﾄ１")) | N15: =IF(AND(D15=0,E15>0),"同一区","") -> 同一区 | O15: =IF(AND(EXACT($K$2,G15),H15>0),"該当１","") | P15: =IF(O15="該当１",G15,"") | Q15: =IF(O15="該当１","ﾘｽﾄ2","") | R15: =IF(Q15="ﾘｽﾄ2",H15,"") | S15: =IF(AND(Q15="ﾘｽﾄ2",OR(I15=0,AND(N15="同一区",E15=1))),"該当２","") | T15: =IF(S15="該当２",H15,"") | U15: =IF(S15="","",COUNTIF($S$7:S15,"該当２")) | V15: =IF(AND($S$2=H15,E15>0,E15<998),"該当３","") | W15: =IF(V15="該当３",I15,"") | X15: =IF(V15="","",COUNTIF($V$7:V15,"該当３")) | Z15: 9 | AB15: 品川区 | AC15: =IF($Z15>MAX($U$7:$U$541),"",INDEX($T$7:$T$541,MATCH($Z15,$U$7:$U$541,0),MATCH($AC$4,$T$5:$U$5,0))) | AD15: =IF($Z15>MAX($X$7:$X$541),"",INDEX($W$7:$W$541,MATCH($Z15,$X$7:$X$541,0),MATCH($AD$4,$W$5:$X$5,0)))
A16: 1310500000 | B16: 13 | C16: 105 | D16: 0 | E16: 0 | F16: 東京都 | G16: 文京区 | K16: =IF(AND($C16>0,$H16=""),"ﾘｽﾄ１","") -> ﾘｽﾄ１ | L16: =IF(K16="ﾘｽﾄ１",G16,"") -> 文京区 | M16: =IF(K16="","",COUNTIF($K$7:K16,"ﾘｽﾄ１")) -> 5 | N16: =IF(AND(D16=0,E16>0),"同一区","") | O16: =IF(AND(EXACT($K$2,G16),H16>0),"該当１","") | P16: =IF(O16="該当１",G16,"") | Q16: =IF(O16="該当１","ﾘｽﾄ2","") | R16: =IF(Q16="ﾘｽﾄ2",H16,"") | S16: =IF(AND(Q16="ﾘｽﾄ2",OR(I16=0,AND(N16="同一区",E16=1))),"該当２","") | T16: =IF(S16="該当２",H16,"") | U16: =IF(S16="","",COUNTIF($S$7:S16,"該当２")) | V16: =IF(AND($S$2=H16,E16>0,E16<998),"該当３","") | W16: =IF(V16="該当３",I16,"") | X16: =IF(V16="","",COUNTIF($V$7:V16,"該当３")) | Z16: 10 | AB16: 目黒区 | AC16: =IF($Z16>MAX($U$7:$U$541),"",INDEX($T$7:$T$541,MATCH($Z16,$U$7:$U$541,0),MATCH($AC$4,$T$5:$U$5,0))) | AD16: =IF($Z16>MAX($X$7:$X$541),"",INDEX($W$7:$W$541,MATCH($Z16,$X$7:$X$541,0),MATCH($AD$4,$W$5:$X$5,0)))
A17: 1310500001 | B17: 13 | C17: 105 | D17: 0 | E17: 1 | F17: 東京都 | G17: 文京区 | H17: 文京区 | I17: 文京区全域 | K17: =IF(AND($C17>0,$H17=""),"ﾘｽﾄ１","") | L17: =IF(K17="ﾘｽﾄ１",G17,"") | M17: =IF(K17="","",COUNTIF($K$7:K17,"ﾘｽﾄ１")) | N17: =IF(AND(D17=0,E17>0),"同一区","") -> 同一区 | O17: =IF(AND(EXACT($K$2,G17),H17>0),"該当１","") | P17: =IF(O17="該当１",G17,"") | Q17: =IF(O17="該当１","ﾘｽﾄ2","") | R17: =IF(Q17="ﾘｽﾄ2",H17,"") | S17: =IF(AND(Q17="ﾘｽﾄ2",OR(I17=0,AND(N17="同一区",E17=1))),"該当２","") | T17: =IF(S17="該当２",H17,"") | U17: =IF(S17="","",COUNTIF($S$7:S17,"該当２")) | V17: =IF(AND($S$2=H17,E17>0,E17<998),"該当３","") | W17: =IF(V17="該当３",I17,"") | X17: =IF(V17="","",COUNTIF($V$7:V17,"該当３")) | Z17: 11 | AB17: 大田区 | AD17: =IF($Z17>MAX($X$7:$X$541),"",INDEX($W$7:$W$541,MATCH($Z17,$X$7:$X$541,0),MATCH($AD$4,$W$5:$X$5,0)))
A18: 1310600000 | B18: 13 | C18: 106 | D18: 0 | E18: 0 | F18: 東京都 | G18: 台東区 | K18: =IF(AND($C18>0,$H18=""),"ﾘｽﾄ１","") -> ﾘｽﾄ１ | L18: =IF(K18="ﾘｽﾄ１",G18,"") -> 台東区 | M18: =IF(K18="","",COUNTIF($K$7:K18,"ﾘｽﾄ１")) -> 6 | N18: =IF(AND(D18=0,E18>0),"同一区","") | O18: =IF(AND(EXACT($K$2,G18),H18>0),"該当１","") | P18: =IF(O18="該当１",G18,"") | Q18: =IF(O18="該当１","ﾘｽﾄ2","") | R18: =IF(Q18="ﾘｽﾄ2",H18,"") | S18: =IF(AND(Q18="ﾘｽﾄ2",OR(I18=0,AND(N18="同一区",E18=1))),"該当２","") | T18: =IF(S18="該当２",H18,"") | U18: =IF(S18="","",COUNTIF($S$7:S18,"該当２")) | V18: =IF(AND($S$2=H18,E18>0,E18<998),"該当３","") | W18: =IF(V18="該当３",I18,"") | X18: =IF(V18="","",COUNTIF($V$7:V18,"該当３")) | Z18: 12 | AB18: 世田谷区 | AD18: =IF($Z18>MAX($X$7:$X$541),"",INDEX($W$7:$W$541,MATCH($Z18,$X$7:$X$541,0),MATCH($AD$4,$W$5:$X$5,0)))
A19: 1310600001 | B19: 13 | C19: 106 | D19: 0 | E19: 1 | F19: 東京都 | G19: 台東区 | H19: 台東区 | I19: 台東区全域 | K19: =IF(AND($C19>0,$H19=""),"ﾘｽﾄ１","") | L19: =IF(K19="ﾘｽﾄ１",G19,"") | M19: =IF(K19="","",COUNTIF($K$7:K19,"ﾘｽﾄ１")) | N19: =IF(AND(D19=0,E19>0),"同一区","") -> 同一区 | O19: =IF(AND(EXACT($K$2,G19),H19>0),"該当１","") | P19: =IF(O19="該当１",G19,"") | Q19: =IF(O19="該当１","ﾘｽﾄ2","") | R19: =IF(Q19="ﾘｽﾄ2",H19,"") | S19: =IF(AND(Q19="ﾘｽﾄ2",OR(I19=0,AND(N19="同一区",E19=1))),"該当２","") | T19: =IF(S19="該当２",H19,"") | U19: =IF(S19="","",COUNTIF($S$7:S19,"該当２")) | V19: =IF(AND($S$2=H19,E19>0,E19<998),"該当３","") | W19: =IF(V19="該当３",I19,"") | X19: =IF(V19="","",COUNTIF($V$7:V19,"該当３")) | Z19: 13 | AB19: 渋谷区 | AD19: =IF($Z19>MAX($X$7:$X$541),"",INDEX($W$7:$W$541,MATCH($Z19,$X$7:$X$541,0),MATCH($AD$4,$W$5:$X$5,0)))
A20: 1310700000 | B20: 13 | C20: 107 | D20: 0 | E20: 0 | F20: 東京都 | G20: 墨田区 | K20: =IF(AND($C20>0,$H20=""),"ﾘｽﾄ１","") -> ﾘｽﾄ１ | L20: =IF(K20="ﾘｽﾄ１",G20,"") -> 墨田区 | M20: =IF(K20="","",COUNTIF($K$7:K20,"ﾘｽﾄ１")) -> 7 | N20: =IF(AND(D20=0,E20>0),"同一区","") | O20: =IF(AND(EXACT($K$2,G20),H20>0),"該当１","") | P20: =IF(O20="該当１",G20,"") | Q20: =IF(O20="該当１","ﾘｽﾄ2","") | R20: =IF(Q20="ﾘｽﾄ2",H20,"") | S20: =IF(AND(Q20="ﾘｽﾄ2",OR(I20=0,AND(N20="同一区",E20=1))),"該当２","") | T20: =IF(S20="該当２",H20,"") | U20: =IF(S20="","",COUNTIF($S$7:S20,"該当２")) | V20: =IF(AND($S$2=H20,E20>0,E20<998),"該当３","") | W20: =IF(V20="該当３",I20,"") | X20: =IF(V20="","",COUNTIF($V$7:V20,"該当３")) | Z20: 14 | AB20: 中野区 | AD20: =IF($Z20>MAX($X$7:$X$541),"",INDEX($W$7:$W$541,MATCH($Z20,$X$7:$X$541,0),MATCH($AD$4,$W$5:$X$5,0)))
A21: 1310700001 | B21: 13 | C21: 107 | D21: 0 | E21: 1 | F21: 東京都 | G21: 墨田区 | H21: 墨田区 | I21: 墨田区全域 | K21: =IF(AND($C21>0,$H21=""),"ﾘｽﾄ１","") | L21: =IF(K21="ﾘｽﾄ１",G21,"") | M21: =IF(K21="","",COUNTIF($K$7:K21,"ﾘｽﾄ１")) | N21: =IF(AND(D21=0,E21>0),"同一区","") -> 同一区 | O21: =IF(AND(EXACT($K$2,G21),H21>0),"該当１","") | P21: =IF(O21="該当１",G21,"") | Q21: =IF(O21="該当１","ﾘｽﾄ2","") | R21: =IF(Q21="ﾘｽﾄ2",H21,"") | S21: =IF(AND(Q21="ﾘｽﾄ2",OR(I21=0,AND(N21="同一区",E21=1))),"該当２","") | T21: =IF(S21="該当２",H21,"") | U21: =IF(S21="","",COUNTIF($S$7:S21,"該当２")) | V21: =IF(AND($S$2=H21,E21>0,E21<998),"該当３","") | W21: =IF(V21="該当３",I21,"") | X21: =IF(V21="","",COUNTIF($V$7:V21,"該当３")) | Z21: 15 | AB21: 杉並区 | AD21: =IF($Z21>MAX($X$7:$X$541),"",INDEX($W$7:$W$541,MATCH($Z21,$X$7:$X$541,0),MATCH($AD$4,$W$5:$X$5,0)))
A22: 1310800000 | B22: 13 | C22: 108 | D22: 0 | E22: 0 | F22: 東京都 | G22: 江東区 | K22: =IF(AND($C22>0,$H22=""),"ﾘｽﾄ１","") -> ﾘｽﾄ１ | L22: =IF(K22="ﾘｽﾄ１",G22,"") -> 江東区 | M22: =IF(K22="","",COUNTIF($K$7:K22,"ﾘｽﾄ１")) -> 8 | N22: =IF(AND(D22=0,E22>0),"同一区","") | O22: =IF(AND(EXACT($K$2,G22),H22>0),"該当１","") | P22: =IF(O22="該当１",G22,"") | Q22: =IF(O22="該当１","ﾘｽﾄ2","") | R22: =IF(Q22="ﾘｽﾄ2",H22,"") | S22: =IF(AND(Q22="ﾘｽﾄ2",OR(I22=0,AND(N22="同一区",E22=1))),"該当２","") | T22: =IF(S22="該当２",H22,"") | U22: =IF(S22="","",COUNTIF($S$7:S22,"該当２")) | V22: =IF(AND($S$2=H22,E22>0,E22<998),"該当３","") | W22: =IF(V22="該当３",I22,"") | X22: =IF(V22="","",COUNTIF($V$7:V22,"該当３")) | Z22: 16 | AB22: 豊島区 | AD22: =IF($Z22>MAX($X$7:$X$541),"",INDEX($W$7:$W$541,MATCH($Z22,$X$7:$X$541,0),MATCH($AD$4,$W$5:$X$5,0)))
A23: 1310800001 | B23: 13 | C23: 108 | D23: 0 | E23: 1 | F23: 東京都 | G23: 江東区 | H23: 江東区 | I23: 江東区全域 | K23: =IF(AND($C23>0,$H23=""),"ﾘｽﾄ１","") | L23: =IF(K23="ﾘｽﾄ１",G23,"") | M23: =IF(K23="","",COUNTIF($K$7:K23,"ﾘｽﾄ１")) | N23: =IF(AND(D23=0,E23>0),"同一区","") -> 同一区 | O23: =IF(AND(EXACT($K$2,G23),H23>0),"該当１","") | P23: =IF(O23="該当１",G23,"") | Q23: =IF(O23="該当１","ﾘｽﾄ2","") | R23: =IF(Q23="ﾘｽﾄ2",H23,"") | S23: =IF(AND(Q23="ﾘｽﾄ2",OR(I23=0,AND(N23="同一区",E23=1))),"該当２","") | T23: =IF(S23="該当２",H23,"") | U23: =IF(S23="","",COUNTIF($S$7:S23,"該当２")) | V23: =IF(AND($S$2=H23,E23>0,E23<998),"該当３","") | W23: =IF(V23="該当３",I23,"") | X23: =IF(V23="","",COUNTIF($V$7:V23,"該当３")) | Z23: 17 | AB23: 北区 | AD23: =IF($Z23>MAX($X$7:$X$541),"",INDEX($W$7:$W$541,MATCH($Z23,$X$7:$X$541,0),MATCH($AD$4,$W$5:$X$5,0)))
A24: 1310900000 | B24: 13 | C24: 109 | D24: 0 | E24: 0 | F24: 東京都 | G24: 品川区 | K24: =IF(AND($C24>0,$H24=""),"ﾘｽﾄ１","") -> ﾘｽﾄ１ | L24: =IF(K24="ﾘｽﾄ１",G24,"") -> 品川区 | M24: =IF(K24="","",COUNTIF($K$7:K24,"ﾘｽﾄ１")) -> 9 | N24: =IF(AND(D24=0,E24>0),"同一区","") | O24: =IF(AND(EXACT($K$2,G24),H24>0),"該当１","") | P24: =IF(O24="該当１",G24,"") | Q24: =IF(O24="該当１","ﾘｽﾄ2","") | R24: =IF(Q24="ﾘｽﾄ2",H24,"") | S24: =IF(AND(Q24="ﾘｽﾄ2",OR(I24=0,AND(N24="同一区",E24=1))),"該当２","") | T24: =IF(S24="該当２",H24,"") | U24: =IF(S24="","",COUNTIF($S$7:S24,"該当２")) | V24: =IF(AND($S$2=H24,E24>0,E24<998),"該当３","") | W24: =IF(V24="該当３",I24,"") | X24: =IF(V24="","",COUNTIF($V$7:V24,"該当３")) | Z24: 18 | AB24: 荒川区 | AD24: =IF($Z24>MAX($X$7:$X$541),"",INDEX($W$7:$W$541,MATCH($Z24,$X$7:$X$541,0),MATCH($AD$4,$W$5:$X$5,0)))
A25: 1310900001 | B25: 13 | C25: 109 | D25: 0 | E25: 1 | F25: 東京都 | G25: 品川区 | H25: 品川区 | I25: 品川区全域 | K25: =IF(AND($C25>0,$H25=""),"ﾘｽﾄ１","") | L25: =IF(K25="ﾘｽﾄ１",G25,"") | M25: =IF(K25="","",COUNTIF($K$7:K25,"ﾘｽﾄ１")) | N25: =IF(AND(D25=0,E25>0),"同一区","") -> 同一区 | O25: =IF(AND(EXACT($K$2,G25),H25>0),"該当１","") | P25: =IF(O25="該当１",G25,"") | Q25: =IF(O25="該当１","ﾘｽﾄ2","") | R25: =IF(Q25="ﾘｽﾄ2",H25,"") | S25: =IF(AND(Q25="ﾘｽﾄ2",OR(I25=0,AND(N25="同一区",E25=1))),"該当２","") | T25: =IF(S25="該当２",H25,"") | U25: =IF(S25="","",COUNTIF($S$7:S25,"該当２")) | V25: =IF(AND($S$2=H25,E25>0,E25<998),"該当３","") | W25: =IF(V25="該当３",I25,"") | X25: =IF(V25="","",COUNTIF($V$7:V25,"該当３")) | Z25: 19 | AB25: 板橋区 | AD25: =IF($Z25>MAX($X$7:$X$541),"",INDEX($W$7:$W$541,MATCH($Z25,$X$7:$X$541,0),MATCH($AD$4,$W$5:$X$5,0)))
A26: 1311000000 | B26: 13 | C26: 110 | D26: 0 | E26: 0 | F26: 東京都 | G26: 目黒区 | K26: =IF(AND($C26>0,$H26=""),"ﾘｽﾄ１","") -> ﾘｽﾄ１ | L26: =IF(K26="ﾘｽﾄ１",G26,"") -> 目黒区 | M26: =IF(K26="","",COUNTIF($K$7:K26,"ﾘｽﾄ１")) -> 10 | N26: =IF(AND(D26=0,E26>0),"同一区","") | O26: =IF(AND(EXACT($K$2,G26),H26>0),"該当１","") | P26: =IF(O26="該当１",G26,"") | Q26: =IF(O26="該当１","ﾘｽﾄ2","") | R26: =IF(Q26="ﾘｽﾄ2",H26,"") | S26: =IF(AND(Q26="ﾘｽﾄ2",OR(I26=0,AND(N26="同一区",E26=1))),"該当２","") | T26: =IF(S26="該当２",H26,"") | U26: =IF(S26="","",COUNTIF($S$7:S26,"該当２")) | V26: =IF(AND($S$2=H26,E26>0,E26<998),"該当３","") | W26: =IF(V26="該当３",I26,"") | X26: =IF(V26="","",COUNTIF($V$7:V26,"該当３")) | Z26: 20 | AB26: 練馬区 | AD26: =IF($Z26>MAX($X$7:$X$541),"",INDEX($W$7:$W$541,MATCH($Z26,$X$7:$X$541,0),MATCH($AD$4,$W$5:$X$5,0)))
A27: 1311000008 | B27: 13 | C27: 110 | D27: 0 | E27: 8 | F27: 東京都 | G27: 目黒区 | H27: 目黒区 | I27: 目黒区全域 | K27: =IF(AND($C27>0,$H27=""),"ﾘｽﾄ１","") | L27: =IF(K27="ﾘｽﾄ１",G27,"") | M27: =IF(K27="","",COUNTIF($K$7:K27,"ﾘｽﾄ１")) | N27: =IF(AND(D27=0,E27>0),"同一区","") -> 同一区 | O27: =IF(AND(EXACT($K$2,G27),H27>0),"該当１","") | P27: =IF(O27="該当１",G27,"") | Q27: =IF(O27="該当１","ﾘｽﾄ2","") | R27: =IF(Q27="ﾘｽﾄ2",H27,"") | S27: =IF(AND(Q27="ﾘｽﾄ2",OR(I27=0,AND(N27="同一区",E27=8))),"該当２","") | T27: =IF(S27="該当２",H27,"") | U27: =IF(S27="","",COUNTIF($S$7:S27,"該当２")) | V27: =IF(AND($S$2=H27,E27>0,E27<998),"該当３","") | W27: =IF(V27="該当３",I27,"") | X27: =IF(V27="","",COUNTIF($V$7:V27,"該当３")) | Z27: 21 | AB27: 足立区 | AD27: =IF($Z27>MAX($X$7:$X$541),"",INDEX($W$7:$W$541,MATCH($Z27,$X$7:$X$541,0),MATCH($AD$4,$W$5:$X$5,0)))
A28: 1311100000 | B28: 13 | C28: 111 | D28: 0 | E28: 0 | F28: 東京都 | G28: 大田区 | K28: =IF(AND($C28>0,$H28=""),"ﾘｽﾄ１","") -> ﾘｽﾄ１ | L28: =IF(K28="ﾘｽﾄ１",G28,"") -> 大田区 | M28: =IF(K28="","",COUNTIF($K$7:K28,"ﾘｽﾄ１")) -> 11 | N28: =IF(AND(D28=0,E28>0),"同一区","") | O28: =IF(AND(EXACT($K$2,G28),H28>0),"該当１","") | P28: =IF(O28="該当１",G28,"") | Q28: =IF(O28="該当１","ﾘｽﾄ2","") | R28: =IF(Q28="ﾘｽﾄ2",H28,"") | S28: =IF(AND(Q28="ﾘｽﾄ2",OR(I28=0,AND(N28="同一区",E28=1))),"該当２","") | T28: =IF(S28="該当２",H28,"") | U28: =IF(S28="","",COUNTIF($S$7:S28,"該当２")) | V28: =IF(AND($S$2=H28,E28>0,E28<998),"該当３","") | W28: =IF(V28="該当３",I28,"") | X28: =IF(V28="","",COUNTIF($V$7:V28,"該当３")) | Z28: 22 | AB28: 葛飾区 | AD28: =IF($Z28>MAX($X$7:$X$541),"",INDEX($W$7:$W$541,MATCH($Z28,$X$7:$X$541,0),MATCH($AD$4,$W$5:$X$5,0)))
A29: 1311100026 | B29: 13 | C29: 111 | D29: 0 | E29: 26 | F29: 東京都 | G29: 大田区 | H29: 大田区 | I29: 大田区全域 | K29: =IF(AND($C29>0,$H29=""),"ﾘｽﾄ１","") | L29: =IF(K29="ﾘｽﾄ１",G29,"") | M29: =IF(K29="","",COUNTIF($K$7:K29,"ﾘｽﾄ１")) | N29: =IF(AND(D29=0,E29>0),"同一区","") -> 同一区 | O29: =IF(AND(EXACT($K$2,G29),H29>0),"該当１","") | P29: =IF(O29="該当１",G29,"") | Q29: =IF(O29="該当１","ﾘｽﾄ2","") | R29: =IF(Q29="ﾘｽﾄ2",H29,"") | S29: =IF(AND(Q29="ﾘｽﾄ2",OR(I29=0,AND(N29="同一区",E29=26))),"該当２","") | T29: =IF(S29="該当２",H29,"") | U29: =IF(S29="","",COUNTIF($S$7:S29,"該当２")) | V29: =IF(AND($S$2=H29,E29>0,E29<998),"該当３","") | W29: =IF(V29="該当３",I29,"") | X29: =IF(V29="","",COUNTIF($V$7:V29,"該当３")) | Z29: 23 | AB29: 江戸川区 | AD29: =IF($Z29>MAX($X$7:$X$541),"",INDEX($W$7:$W$541,MATCH($Z29,$X$7:$X$541,0),MATCH($AD$4,$W$5:$X$5,0)))
A30: 1311200000 | B30: 13 | C30: 112 | D30: 0 | E30: 0 | F30: 東京都 | G30: 世田谷区 | K30: =IF(AND($C30>0,$H30=""),"ﾘｽﾄ１","") -> ﾘｽﾄ１ | L30: =IF(K30="ﾘｽﾄ１",G30,"") -> 世田谷区 | M30: =IF(K30="","",COUNTIF($K$7:K30,"ﾘｽﾄ１")) -> 12 | N30: =IF(AND(D30=0,E30>0),"同一区","") | O30: =IF(AND(EXACT($K$2,G30),H30>0),"該当１","") | P30: =IF(O30="該当１",G30,"") | Q30: =IF(O30="該当１","ﾘｽﾄ2","") | R30: =IF(Q30="ﾘｽﾄ2",H30,"") | S30: =IF(AND(Q30="ﾘｽﾄ2",OR(I30=0,AND(N30="同一区",E30=1))),"該当２","") | T30: =IF(S30="該当２",H30,"") | U30: =IF(S30="","",COUNTIF($S$7:S30,"該当２")) | V30: =IF(AND($S$2=H30,E30>0,E30<998),"該当３","") | W30: =IF(V30="該当３",I30,"") | X30: =IF(V30="","",COUNTIF($V$7:V30,"該当３")) | Z30: 24 | AB30: 八王子市 | AD30: =IF($Z30>MAX($X$7:$X$541),"",INDEX($W$7:$W$541,MATCH($Z30,$X$7:$X$541,0),MATCH($AD$4,$W$5:$X$5,0)))
A31: 1311200064 | B31: 13 | C31: 112 | D31: 0 | E31: 64 | F31: 東京都 | G31: 世田谷区 | H31: 世田谷区 | I31: 世田谷区全域 | K31: =IF(AND($C31>0,$H31=""),"ﾘｽﾄ１","") | L31: =IF(K31="ﾘｽﾄ１",G31,"") | M31: =IF(K31="","",COUNTIF($K$7:K31,"ﾘｽﾄ１")) | N31: =IF(AND(D31=0,E31>0),"同一区","") -> 同一区 | O31: =IF(AND(EXACT($K$2,G31),H31>0),"該当１","") | P31: =IF(O31="該当１",G31,"") | Q31: =IF(O31="該当１","ﾘｽﾄ2","") | R31: =IF(Q31="ﾘｽﾄ2",H31,"") | S31: =IF(AND(Q31="ﾘｽﾄ2",OR(I31=0,AND(N31="同一区",E31=64))),"該当２","") | T31: =IF(S31="該当２",H31,"") | U31: =IF(S31="","",COUNTIF($S$7:S31,"該当２")) | V31: =IF(AND($S$2=H31,E31>0,E31<998),"該当３","") | W31: =IF(V31="該当３",I31,"") | X31: =IF(V31="","",COUNTIF($V$7:V31,"該当３")) | Z31: 25 | AB31: 立川市 | AD31: =IF($Z31>MAX($X$7:$X$541),"",INDEX($W$7:$W$541,MATCH($Z31,$X$7:$X$541,0),MATCH($AD$4,$W$5:$X$5,0)))
A32: 1311300000 | B32: 13 | C32: 113 | D32: 0 | E32: 0 | F32: 東京都 | G32: 渋谷区 | K32: =IF(AND($C32>0,$H32=""),"ﾘｽﾄ１","") -> ﾘｽﾄ１ | L32: =IF(K32="ﾘｽﾄ１",G32,"") -> 渋谷区 | M32: =IF(K32="","",COUNTIF($K$7:K32,"ﾘｽﾄ１")) -> 13 | N32: =IF(AND(D32=0,E32>0),"同一区","") | O32: =IF(AND(EXACT($K$2,G32),H32>0),"該当１","") | P32: =IF(O32="該当１",G32,"") | Q32: =IF(O32="該当１","ﾘｽﾄ2","") | R32: =IF(Q32="ﾘｽﾄ2",H32,"") | S32: =IF(AND(Q32="ﾘｽﾄ2",OR(I32=0,AND(N32="同一区",E32=1))),"該当２","") | T32: =IF(S32="該当２",H32,"") | U32: =IF(S32="","",COUNTIF($S$7:S32,"該当２")) | V32: =IF(AND($S$2=H32,E32>0,E32<998),"該当３","") | W32: =IF(V32="該当３",I32,"") | X32: =IF(V32="","",COUNTIF($V$7:V32,"該当３")) | Z32: 26 | AB32: 武蔵野市 | AD32: =IF($Z32>MAX($X$7:$X$541),"",INDEX($W$7:$W$541,MATCH($Z32,$X$7:$X$541,0),MATCH($AD$4,$W$5:$X$5,0)))
A33: 1311300001 | B33: 13 | C33: 113 | D33: 0 | E33: 1 | F33: 東京都 | G33: 渋谷区 | H33: 渋谷区 | I33: 渋谷区全域 | K33: =IF(AND($C33>0,$H33=""),"ﾘｽﾄ１","") | L33: =IF(K33="ﾘｽﾄ１",G33,"") | M33: =IF(K33="","",COUNTIF($K$7:K33,"ﾘｽﾄ１")) | N33: =IF(AND(D33=0,E33>0),"同一区","") -> 同一区 | O33: =IF(AND(EXACT($K$2,G33),H33>0),"該当１","") | P33: =IF(O33="該当１",G33,"") | Q33: =IF(O33="該当１","ﾘｽﾄ2","") | R33: =IF(Q33="ﾘｽﾄ2",H33,"") | S33: =IF(AND(Q33="ﾘｽﾄ2",OR(I33=0,AND(N33="同一区",E33=1))),"該当２","") | T33: =IF(S33="該当２",H33,"") | U33: =IF(S33="","",COUNTIF($S$7:S33,"該当２")) | V33: =IF(AND($S$2=H33,E33>0,E33<998),"該当３","") | W33: =IF(V33="該当３",I33,"") | X33: =IF(V33="","",COUNTIF($V$7:V33,"該当３")) | Z33: 27 | AB33: 三鷹市 | AD33: =IF($Z33>MAX($X$7:$X$541),"",INDEX($W$7:$W$541,MATCH($Z33,$X$7:$X$541,0),MATCH($AD$4,$W$5:$X$5,0)))
A34: 1311400000 | B34: 13 | C34: 114 | D34: 0 | E34: 0 | F34: 東京都 | G34: 中野区 | K34: =IF(AND($C34>0,$H34=""),"ﾘｽﾄ１","") -> ﾘｽﾄ１ | L34: =IF(K34="ﾘｽﾄ１",G34,"") -> 中野区 | M34: =IF(K34="","",COUNTIF($K$7:K34,"ﾘｽﾄ１")) -> 14 | N34: =IF(AND(D34=0,E34>0),"同一区","") | O34: =IF(AND(EXACT($K$2,G34),H34>0),"該当１","") | P34: =IF(O34="該当１",G34,"") | Q34: =IF(O34="該当１","ﾘｽﾄ2","") | R34: =IF(Q34="ﾘｽﾄ2",H34,"") | S34: =IF(AND(Q34="ﾘｽﾄ2",OR(I34=0,AND(N34="同一区",E34=1))),"該当２","") | T34: =IF(S34="該当２",H34,"") | U34: =IF(S34="","",COUNTIF($S$7:S34,"該当２")) | V34: =IF(AND($S$2=H34,E34>0,E34<998),"該当３","") | W34: =IF(V34="該当３",I34,"") | X34: =IF(V34="","",COUNTIF($V$7:V34,"該当３")) | Z34: 28 | AB34: 青梅市 | AD34: =IF($Z34>MAX($X$7:$X$541),"",INDEX($W$7:$W$541,MATCH($Z34,$X$7:$X$541,0),MATCH($AD$4,$W$5:$X$5,0)))
A35: 1311400016 | B35: 13 | C35: 114 | D35: 0 | E35: 16 | F35: 東京都 | G35: 中野区 | H35: 中野区 | I35: 中野区全域 | K35: =IF(AND($C35>0,$H35=""),"ﾘｽﾄ１","") | L35: =IF(K35="ﾘｽﾄ１",G35,"") | M35: =IF(K35="","",COUNTIF($K$7:K35,"ﾘｽﾄ１")) | N35: =IF(AND(D35=0,E35>0),"同一区","") -> 同一区 | O35: =IF(AND(EXACT($K$2,G35),H35>0),"該当１","") | P35: =IF(O35="該当１",G35,"") | Q35: =IF(O35="該当１","ﾘｽﾄ2","") | R35: =IF(Q35="ﾘｽﾄ2",H35,"") | S35: =IF(AND(Q35="ﾘｽﾄ2",OR(I35=0,AND(N35="同一区",E35=16))),"該当２","") | T35: =IF(S35="該当２",H35,"") | U35: =IF(S35="","",COUNTIF($S$7:S35,"該当２")) | V35: =IF(AND($S$2=H35,E35>0,E35<998),"該当３","") | W35: =IF(V35="該当３",I35,"") | X35: =IF(V35="","",COUNTIF($V$7:V35,"該当３")) | Z35: 29 | AB35: 府中市 | AD35: =IF($Z35>MAX($X$7:$X$541),"",INDEX($W$7:$W$541,MATCH($Z35,$X$7:$X$541,0),MATCH($AD$4,$W$5:$X$5,0)))
A36: 1311500000 | B36: 13 | C36: 115 | D36: 0 | E36: 0 | F36: 東京都 | G36: 杉並区 | K36: =IF(AND($C36>0,$H36=""),"ﾘｽﾄ１","") -> ﾘｽﾄ１ | L36: =IF(K36="ﾘｽﾄ１",G36,"") -> 杉並区 | M36: =IF(K36="","",COUNTIF($K$7:K36,"ﾘｽﾄ１")) -> 15 | N36: =IF(AND(D36=0,E36>0),"同一区","") | O36: =IF(AND(EXACT($K$2,G36),H36>0),"該当１","") | P36: =IF(O36="該当１",G36,"") | Q36: =IF(O36="該当１","ﾘｽﾄ2","") | R36: =IF(Q36="ﾘｽﾄ2",H36,"") | S36: =IF(AND(Q36="ﾘｽﾄ2",OR(I36=0,AND(N36="同一区",E36=1))),"該当２","") | T36: =IF(S36="該当２",H36,"") | U36: =IF(S36="","",COUNTIF($S$7:S36,"該当２")) | V36: =IF(AND($S$2=H36,E36>0,E36<998),"該当３","") | W36: =IF(V36="該当３",I36,"") | X36: =IF(V36="","",COUNTIF($V$7:V36,"該当３")) | Z36: 30 | AB36: 昭島市 | AD36: =IF($Z36>MAX($X$7:$X$541),"",INDEX($W$7:$W$541,MATCH($Z36,$X$7:$X$541,0),MATCH($AD$4,$W$5:$X$5,0)))
A37: 1311500028 | B37: 13 | C37: 115 | D37: 0 | E37: 28 | F37: 東京都 | G37: 杉並区 | H37: 杉並区 | I37: 杉並区全域 | K37: =IF(AND($C37>0,$H37=""),"ﾘｽﾄ１","") | L37: =IF(K37="ﾘｽﾄ１",G37,"") | M37: =IF(K37="","",COUNTIF($K$7:K37,"ﾘｽﾄ１")) | N37: =IF(AND(D37=0,E37>0),"同一区","") -> 同一区 | O37: =IF(AND(EXACT($K$2,G37),H37>0),"該当１","") | P37: =IF(O37="該当１",G37,"") | Q37: =IF(O37="該当１","ﾘｽﾄ2","") | R37: =IF(Q37="ﾘｽﾄ2",H37,"") | S37: =IF(AND(Q37="ﾘｽﾄ2",OR(I37=0,AND(N37="同一区",E37=28))),"該当２","") | T37: =IF(S37="該当２",H37,"") | U37: =IF(S37="","",COUNTIF($S$7:S37,"該当２")) | V37: =IF(AND($S$2=H37,E37>0,E37<998),"該当３","") | W37: =IF(V37="該当３",I37,"") | X37: =IF(V37="","",COUNTIF($V$7:V37,"該当３")) | Z37: 31 | AB37: 調布市
A38: 1311600000 | B38: 13 | C38: 116 | D38: 0 | E38: 0 | F38: 東京都 | G38: 豊島区 | K38: =IF(AND($C38>0,$H38=""),"ﾘｽﾄ１","") -> ﾘｽﾄ１ | L38: =IF(K38="ﾘｽﾄ１",G38,"") -> 豊島区 | M38: =IF(K38="","",COUNTIF($K$7:K38,"ﾘｽﾄ１")) -> 16 | N38: =IF(AND(D38=0,E38>0),"同一区","") | O38: =IF(AND(EXACT($K$2,G38),H38>0),"該当１","") | P38: =IF(O38="該当１",G38,"") | Q38: =IF(O38="該当１","ﾘｽﾄ2","") | R38: =IF(Q38="ﾘｽﾄ2",H38,"") | S38: =IF(AND(Q38="ﾘｽﾄ2",OR(I38=0,AND(N38="同一区",E38=1))),"該当２","") | T38: =IF(S38="該当２",H38,"") | U38: =IF(S38="","",COUNTIF($S$7:S38,"該当２")) | V38: =IF(AND($S$2=H38,E38>0,E38<998),"該当３","") | W38: =IF(V38="該当３",I38,"") | X38: =IF(V38="","",COUNTIF($V$7:V38,"該当３")) | Z38: 32 | AB38: 町田市
A39: 1311600001 | B39: 13 | C39: 116 | D39: 0 | E39: 1 | F39: 東京都 | G39: 豊島区 | H39: 豊島区 | I39: 豊島区全域 | K39: =IF(AND($C39>0,$H39=""),"ﾘｽﾄ１","") | L39: =IF(K39="ﾘｽﾄ１",G39,"") | M39: =IF(K39="","",COUNTIF($K$7:K39,"ﾘｽﾄ１")) | N39: =IF(AND(D39=0,E39>0),"同一区","") -> 同一区 | O39: =IF(AND(EXACT($K$2,G39),H39>0),"該当１","") | P39: =IF(O39="該当１",G39,"") | Q39: =IF(O39="該当１","ﾘｽﾄ2","") | R39: =IF(Q39="ﾘｽﾄ2",H39,"") | S39: =IF(AND(Q39="ﾘｽﾄ2",OR(I39=0,AND(N39="同一区",E39=1))),"該当２","") | T39: =IF(S39="該当２",H39,"") | U39: =IF(S39="","",COUNTIF($S$7:S39,"該当２")) | V39: =IF(AND($S$2=H39,E39>0,E39<998),"該当３","") | W39: =IF(V39="該当３",I39,"") | X39: =IF(V39="","",COUNTIF($V$7:V39,"該当３")) | Z39: 33 | AB39: 小金井市
A40: 1311700000 | B40: 13 | C40: 117 | D40: 0 | E40: 0 | F40: 東京都 | G40: 北区 | K40: =IF(AND($C40>0,$H40=""),"ﾘｽﾄ１","") -> ﾘｽﾄ１ | L40: =IF(K40="ﾘｽﾄ１",G40,"") -> 北区 | M40: =IF(K40="","",COUNTIF($K$7:K40,"ﾘｽﾄ１")) -> 17 | N40: =IF(AND(D40=0,E40>0),"同一区","") | O40: =IF(AND(EXACT($K$2,G40),H40>0),"該当１","") | P40: =IF(O40="該当１",G40,"") | Q40: =IF(O40="該当１","ﾘｽﾄ2","") | R40: =IF(Q40="ﾘｽﾄ2",H40,"") | S40: =IF(AND(Q40="ﾘｽﾄ2",OR(I40=0,AND(N40="同一区",E40=1))),"該当２","") | T40: =IF(S40="該当２",H40,"") | U40: =IF(S40="","",COUNTIF($S$7:S40,"該当２")) | V40: =IF(AND($S$2=H40,E40>0,E40<998),"該当３","") | W40: =IF(V40="該当３",I40,"") | X40: =IF(V40="","",COUNTIF($V$7:V40,"該当３")) | Z40: 34 | AB40: 小平市
A41: 1311700001 | B41: 13 | C41: 117 | D41: 0 | E41: 1 | F41: 東京都 | G41: 北区 | H41: 北区 | I41: 北区全域 | K41: =IF(AND($C41>0,$H41=""),"ﾘｽﾄ１","") | L41: =IF(K41="ﾘｽﾄ１",G41,"") | M41: =IF(K41="","",COUNTIF($K$7:K41,"ﾘｽﾄ１")) | N41: =IF(AND(D41=0,E41>0),"同一区","") -> 同一区 | O41: =IF(AND(EXACT($K$2,G41),H41>0),"該当１","") | P41: =IF(O41="該当１",G41,"") | Q41: =IF(O41="該当１","ﾘｽﾄ2","") | R41: =IF(Q41="ﾘｽﾄ2",H41,"") | S41: =IF(AND(Q41="ﾘｽﾄ2",OR(I41=0,AND(N41="同一区",E41=1))),"該当２","") | T41: =IF(S41="該当２",H41,"") | U41: =IF(S41="","",COUNTIF($S$7:S41,"該当２")) | V41: =IF(AND($S$2=H41,E41>0,E41<998),"該当３","") | W41: =IF(V41="該当３",I41,"") | X41: =IF(V41="","",COUNTIF($V$7:V41,"該当３")) | Z41: 35 | AB41: 日野市
A42: 1311800000 | B42: 13 | C42: 118 | D42: 0 | E42: 0 | F42: 東京都 | G42: 荒川区 | K42: =IF(AND($C42>0,$H42=""),"ﾘｽﾄ１","") -> ﾘｽﾄ１ | L42: =IF(K42="ﾘｽﾄ１",G42,"") -> 荒川区 | M42: =IF(K42="","",COUNTIF($K$7:K42,"ﾘｽﾄ１")) -> 18 | N42: =IF(AND(D42=0,E42>0),"同一区","") | O42: =IF(AND(EXACT($K$2,G42),H42>0),"該当１","") | P42: =IF(O42="該当１",G42,"") | Q42: =IF(O42="該当１","ﾘｽﾄ2","") | R42: =IF(Q42="ﾘｽﾄ2",H42,"") | S42: =IF(AND(Q42="ﾘｽﾄ2",OR(I42=0,AND(N42="同一区",E42=1))),"該当２","") | T42: =IF(S42="該当２",H42,"") | U42: =IF(S42="","",COUNTIF($S$7:S42,"該当２")) | V42: =IF(AND($S$2=H42,E42>0,E42<998),"該当３","") | W42: =IF(V42="該当３",I42,"") | X42: =IF(V42="","",COUNTIF($V$7:V42,"該当３")) | Z42: 36 | AB42: 東村山市
A43: 1311800001 | B43: 13 | C43: 118 | D43: 0 | E43: 1 | F43: 東京都 | G43: 荒川区 | H43: 荒川区 | I43: 荒川区全域 | K43: =IF(AND($C43>0,$H43=""),"ﾘｽﾄ１","") | L43: =IF(K43="ﾘｽﾄ１",G43,"") | M43: =IF(K43="","",COUNTIF($K$7:K43,"ﾘｽﾄ１")) | N43: =IF(AND(D43=0,E43>0),"同一区","") -> 同一区 | O43: =IF(AND(EXACT($K$2,G43),H43>0),"該当１","") | P43: =IF(O43="該当１",G43,"") | Q43: =IF(O43="該当１","ﾘｽﾄ2","") | R43: =IF(Q43="ﾘｽﾄ2",H43,"") | S43: =IF(AND(Q43="ﾘｽﾄ2",OR(I43=0,AND(N43="同一区",E43=1))),"該当２","") | T43: =IF(S43="該当２",H43,"") | U43: =IF(S43="","",COUNTIF($S$7:S43,"該当２")) | V43: =IF(AND($S$2=H43,E43>0,E43<998),"該当３","") | W43: =IF(V43="該当３",I43,"") | X43: =IF(V43="","",COUNTIF($V$7:V43,"該当３")) | Z43: 37 | AB43: 国分寺市
A44: 1311900000 | B44: 13 | C44: 119 | D44: 0 | E44: 0 | F44: 東京都 | G44: 板橋区 | K44: =IF(AND($C44>0,$H44=""),"ﾘｽﾄ１","") -> ﾘｽﾄ１ | L44: =IF(K44="ﾘｽﾄ１",G44,"") -> 板橋区 | M44: =IF(K44="","",COUNTIF($K$7:K44,"ﾘｽﾄ１")) -> 19 | N44: =IF(AND(D44=0,E44>0),"同一区","") | O44: =IF(AND(EXACT($K$2,G44),H44>0),"該当１","") | P44: =IF(O44="該当１",G44,"") | Q44: =IF(O44="該当１","ﾘｽﾄ2","") | R44: =IF(Q44="ﾘｽﾄ2",H44,"") | S44: =IF(AND(Q44="ﾘｽﾄ2",OR(I44=0,AND(N44="同一区",E44=1))),"該当２","") | T44: =IF(S44="該当２",H44,"") | U44: =IF(S44="","",COUNTIF($S$7:S44,"該当２")) | V44: =IF(AND($S$2=H44,E44>0,E44<998),"該当３","") | W44: =IF(V44="該当３",I44,"") | X44: =IF(V44="","",COUNTIF($V$7:V44,"該当３")) | Z44: 38 | AB44: 国立市
A45: 1311900019 | B45: 13 | C45: 119 | D45: 0 | E45: 19 | F45: 東京都 | G45: 板橋区 | H45: 板橋区 | I45: 板橋区全域 | K45: =IF(AND($C45>0,$H45=""),"ﾘｽﾄ１","") | L45: =IF(K45="ﾘｽﾄ１",G45,"") | M45: =IF(K45="","",COUNTIF($K$7:K45,"ﾘｽﾄ１")) | N45: =IF(AND(D45=0,E45>0),"同一区","") -> 同一区 | O45: =IF(AND(EXACT($K$2,G45),H45>0),"該当１","") | P45: =IF(O45="該当１",G45,"") | Q45: =IF(O45="該当１","ﾘｽﾄ2","") | R45: =IF(Q45="ﾘｽﾄ2",H45,"") | S45: =IF(AND(Q45="ﾘｽﾄ2",OR(I45=0,AND(N45="同一区",E45=19))),"該当２","") | T45: =IF(S45="該当２",H45,"") | U45: =IF(S45="","",COUNTIF($S$7:S45,"該当２")) | V45: =IF(AND($S$2=H45,E45>0,E45<998),"該当３","") | W45: =IF(V45="該当３",I45,"") | X45: =IF(V45="","",COUNTIF($V$7:V45,"該当３")) | Z45: 39 | AB45: 福生市
A46: 1312000000 | B46: 13 | C46: 120 | D46: 0 | E46: 0 | F46: 東京都 | G46: 練馬区 | K46: =IF(AND($C46>0,$H46=""),"ﾘｽﾄ１","") -> ﾘｽﾄ１ | L46: =IF(K46="ﾘｽﾄ１",G46,"") -> 練馬区 | M46: =IF(K46="","",COUNTIF($K$7:K46,"ﾘｽﾄ１")) -> 20 | N46: =IF(AND(D46=0,E46>0),"同一区","") | O46: =IF(AND(EXACT($K$2,G46),H46>0),"該当１","") | P46: =IF(O46="該当１",G46,"") | Q46: =IF(O46="該当１","ﾘｽﾄ2","") | R46: =IF(Q46="ﾘｽﾄ2",H46,"") | S46: =IF(AND(Q46="ﾘｽﾄ2",OR(I46=0,AND(N46="同一区",E46=1))),"該当２","") | T46: =IF(S46="該当２",H46,"") | U46: =IF(S46="","",COUNTIF($S$7:S46,"該当２")) | V46: =IF(AND($S$2=H46,E46>0,E46<998),"該当３","") | W46: =IF(V46="該当３",I46,"") | X46: =IF(V46="","",COUNTIF($V$7:V46,"該当３")) | Z46: 40 | AB46: 狛江市
A47: 1312000034 | B47: 13 | C47: 120 | D47: 0 | E47: 34 | F47: 東京都 | G47: 練馬区 | H47: 練馬区 | I47: 練馬 | K47: =IF(AND($C47>0,$H47=""),"ﾘｽﾄ１","") | L47: =IF(K47="ﾘｽﾄ１",G47,"") | M47: =IF(K47="","",COUNTIF($K$7:K47,"ﾘｽﾄ１")) | N47: =IF(AND(D47=0,E47>0),"同一区","") -> 同一区 | O47: =IF(AND(EXACT($K$2,G47),H47>0),"該当１","") | P47: =IF(O47="該当１",G47,"") | Q47: =IF(O47="該当１","ﾘｽﾄ2","") | R47: =IF(Q47="ﾘｽﾄ2",H47,"") | S47: =IF(AND(Q47="ﾘｽﾄ2",OR(I47=0,AND(N47="同一区",E47=34))),"該当２","") | T47: =IF(S47="該当２",H47,"") | U47: =IF(S47="","",COUNTIF($S$7:S47,"該当２")) | V47: =IF(AND($S$2=H47,E47>0,E47<998),"該当３","") | W47: =IF(V47="該当３",I47,"") | X47: =IF(V47="","",COUNTIF($V$7:V47,"該当３")) | Z47: 41 | AB47: 東大和市
A48: 1312000035 | B48: 13 | C48: 120 | D48: 0 | E48: 35 | F48: 東京都 | G48: 練馬区 | H48: 練馬区 | I48: 大泉 | K48: =IF(AND($C48>0,$H48=""),"ﾘｽﾄ１","") | L48: =IF(K48="ﾘｽﾄ１",G48,"") | M48: =IF(K48="","",COUNTIF($K$7:K48,"ﾘｽﾄ１")) | N48: =IF(AND(D48=0,E48>0),"同一区","") -> 同一区 | O48: =IF(AND(EXACT($K$2,G48),H48>0),"該当１","") | P48: =IF(O48="該当１",G48,"") | Q48: =IF(O48="該当１","ﾘｽﾄ2","") | R48: =IF(Q48="ﾘｽﾄ2",H48,"") | S48: =IF(AND(Q48="ﾘｽﾄ2",OR(I48=0,AND(N48="同一区",E48=1))),"該当２","") | T48: =IF(S48="該当２",H48,"") | U48: =IF(S48="","",COUNTIF($S$7:S48,"該当２")) | V48: =IF(AND($S$2=H48,E48>0,E48<998),"該当３","") | W48: =IF(V48="該当３",I48,"") | X48: =IF(V48="","",COUNTIF($V$7:V48,"該当３")) | Z48: 42 | AB48: 清瀬市
A49: 1312000036 | B49: 13 | C49: 120 | D49: 0 | E49: 36 | F49: 東京都 | G49: 練馬区 | H49: 練馬区 | I49: 石神井 | K49: =IF(AND($C49>0,$H49=""),"ﾘｽﾄ１","") | L49: =IF(K49="ﾘｽﾄ１",G49,"") | M49: =IF(K49="","",COUNTIF($K$7:K49,"ﾘｽﾄ１")) | N49: =IF(AND(D49=0,E49>0),"同一区","") -> 同一区 | O49: =IF(AND(EXACT($K$2,G49),H49>0),"該当１","") | P49: =IF(O49="該当１",G49,"") | Q49: =IF(O49="該当１","ﾘｽﾄ2","") | R49: =IF(Q49="ﾘｽﾄ2",H49,"") | S49: =IF(AND(Q49="ﾘｽﾄ2",OR(I49=0,AND(N49="同一区",E49=1))),"該当２","") | T49: =IF(S49="該当２",H49,"") | U49: =IF(S49="","",COUNTIF($S$7:S49,"該当２")) | V49: =IF(AND($S$2=H49,E49>0,E49<998),"該当３","") | W49: =IF(V49="該当３",I49,"") | X49: =IF(V49="","",COUNTIF($V$7:V49,"該当３")) | Z49: 43 | AB49: 東久留米市
A50: 1312100000 | B50: 13 | C50: 121 | D50: 0 | E50: 0 | F50: 東京都 | G50: 足立区 | K50: =IF(AND($C50>0,$H50=""),"ﾘｽﾄ１","") -> ﾘｽﾄ１ | L50: =IF(K50="ﾘｽﾄ１",G50,"") -> 足立区 | M50: =IF(K50="","",COUNTIF($K$7:K50,"ﾘｽﾄ１")) -> 21 | N50: =IF(AND(D50=0,E50>0),"同一区","") | O50: =IF(AND(EXACT($K$2,G50),H50>0),"該当１","") | P50: =IF(O50="該当１",G50,"") | Q50: =IF(O50="該当１","ﾘｽﾄ2","") | R50: =IF(Q50="ﾘｽﾄ2",H50,"") | S50: =IF(AND(Q50="ﾘｽﾄ2",OR(I50=0,AND(N50="同一区",E50=1))),"該当２","") | T50: =IF(S50="該当２",H50,"") | U50: =IF(S50="","",COUNTIF($S$7:S50,"該当２")) | V50: =IF(AND($S$2=H50,E50>0,E50<998),"該当３","") | W50: =IF(V50="該当３",I50,"") | X50: =IF(V50="","",COUNTIF($V$7:V50,"該当３")) | Z50: 44 | AB50: 武蔵村山市
A51: 1312100129 | B51: 13 | C51: 121 | D51: 0 | E51: 129 | F51: 東京都 | G51: 足立区 | H51: 足立区 | I51: 足立区全域 | K51: =IF(AND($C51>0,$H51=""),"ﾘｽﾄ１","") | L51: =IF(K51="ﾘｽﾄ１",G51,"") | M51: =IF(K51="","",COUNTIF($K$7:K51,"ﾘｽﾄ１")) | N51: =IF(AND(D51=0,E51>0),"同一区","") -> 同一区 | O51: =IF(AND(EXACT($K$2,G51),H51>0),"該当１","") | P51: =IF(O51="該当１",G51,"") | Q51: =IF(O51="該当１","ﾘｽﾄ2","") | R51: =IF(Q51="ﾘｽﾄ2",H51,"") | S51: =IF(AND(Q51="ﾘｽﾄ2",OR(I51=0,AND(N51="同一区",E51=129))),"該当２","") | T51: =IF(S51="該当２",H51,"") | U51: =IF(S51="","",COUNTIF($S$7:S51,"該当２")) | V51: =IF(AND($S$2=H51,E51>0,E51<998),"該当３","") | W51: =IF(V51="該当３",I51,"") | X51: =IF(V51="","",COUNTIF($V$7:V51,"該当３")) | Z51: 45 | AB51: 多摩市
A52: 1312200000 | B52: 13 | C52: 122 | D52: 0 | E52: 0 | F52: 東京都 | G52: 葛飾区 | K52: =IF(AND($C52>0,$H52=""),"ﾘｽﾄ１","") -> ﾘｽﾄ１ | L52: =IF(K52="ﾘｽﾄ１",G52,"") -> 葛飾区 | M52: =IF(K52="","",COUNTIF($K$7:K52,"ﾘｽﾄ１")) -> 22 | N52: =IF(AND(D52=0,E52>0),"同一区","") | O52: =IF(AND(EXACT($K$2,G52),H52>0),"該当１","") | P52: =IF(O52="該当１",G52,"") | Q52: =IF(O52="該当１","ﾘｽﾄ2","") | R52: =IF(Q52="ﾘｽﾄ2",H52,"") | S52: =IF(AND(Q52="ﾘｽﾄ2",OR(I52=0,AND(N52="同一区",E52=1))),"該当２","") | T52: =IF(S52="該当２",H52,"") | U52: =IF(S52="","",COUNTIF($S$7:S52,"該当２")) | V52: =IF(AND($S$2=H52,E52>0,E52<998),"該当３","") | W52: =IF(V52="該当３",I52,"") | X52: =IF(V52="","",COUNTIF($V$7:V52,"該当３")) | Z52: 46 | AB52: 稲城市
A53: 1312200036 | B53: 13 | C53: 122 | D53: 0 | E53: 36 | F53: 東京都 | G53: 葛飾区 | H53: 葛飾区 | I53: 葛飾区全域 | K53: =IF(AND($C53>0,$H53=""),"ﾘｽﾄ１","") | L53: =IF(K53="ﾘｽﾄ１",G53,"") | M53: =IF(K53="","",COUNTIF($K$7:K53,"ﾘｽﾄ１")) | N53: =IF(AND(D53=0,E53>0),"同一区","") -> 同一区 | O53: =IF(AND(EXACT($K$2,G53),H53>0),"該当１","") | P53: =IF(O53="該当１",G53,"") | Q53: =IF(O53="該当１","ﾘｽﾄ2","") | R53: =IF(Q53="ﾘｽﾄ2",H53,"") | S53: =IF(AND(Q53="ﾘｽﾄ2",OR(I53=0,AND(N53="同一区",E53=36))),"該当２","") | T53: =IF(S53="該当２",H53,"") | U53: =IF(S53="","",COUNTIF($S$7:S53,"該当２")) | V53: =IF(AND($S$2=H53,E53>0,E53<998),"該当３","") | W53: =IF(V53="該当３",I53,"") | X53: =IF(V53="","",COUNTIF($V$7:V53,"該当３")) | Z53: 47 | AB53: 羽村市
A54: 1312300000 | B54: 13 | C54: 123 | D54: 0 | E54: 0 | F54: 東京都 | G54: 江戸川区 | K54: =IF(AND($C54>0,$H54=""),"ﾘｽﾄ１","") -> ﾘｽﾄ１ | L54: =IF(K54="ﾘｽﾄ１",G54,"") -> 江戸川区 | M54: =IF(K54="","",COUNTIF($K$7:K54,"ﾘｽﾄ１")) -> 23 | N54: =IF(AND(D54=0,E54>0),"同一区","") | O54: =IF(AND(EXACT($K$2,G54),H54>0),"該当１","") | P54: =IF(O54="該当１",G54,"") | Q54: =IF(O54="該当１","ﾘｽﾄ2","") | R54: =IF(Q54="ﾘｽﾄ2",H54,"") | S54: =IF(AND(Q54="ﾘｽﾄ2",OR(I54=0,AND(N54="同一区",E54=1))),"該当２","") | T54: =IF(S54="該当２",H54,"") | U54: =IF(S54="","",COUNTIF($S$7:S54,"該当２")) | V54: =IF(AND($S$2=H54,E54>0,E54<998),"該当３","") | W54: =IF(V54="該当３",I54,"") | X54: =IF(V54="","",COUNTIF($V$7:V54,"該当３")) | Z54: 48 | AB54: あきる野市
A55: 1312300062 | B55: 13 | C55: 123 | D55: 0 | E55: 62 | F55: 東京都 | G55: 江戸川区 | H55: 江戸川区 | I55: 江戸川区全域 | K55: =IF(AND($C55>0,$H55=""),"ﾘｽﾄ１","") | L55: =IF(K55="ﾘｽﾄ１",G55,"") | M55: =IF(K55="","",COUNTIF($K$7:K55,"ﾘｽﾄ１")) | N55: =IF(AND(D55=0,E55>0),"同一区","") -> 同一区 | O55: =IF(AND(EXACT($K$2,G55),H55>0),"該当１","") | P55: =IF(O55="該当１",G55,"") | Q55: =IF(O55="該当１","ﾘｽﾄ2","") | R55: =IF(Q55="ﾘｽﾄ2",H55,"") | S55: =IF(AND(Q55="ﾘｽﾄ2",OR(I55=0,AND(N55="同一区",E55=62))),"該当２","") | T55: =IF(S55="該当２",H55,"") | U55: =IF(S55="","",COUNTIF($S$7:S55,"該当２")) | V55: =IF(AND($S$2=H55,E55>0,E55<998),"該当３","") | W55: =IF(V55="該当３",I55,"") | X55: =IF(V55="","",COUNTIF($V$7:V55,"該当３")) | Z55: 49 | AB55: 西東京市
A56: 1320100000 | B56: 13 | C56: 201 | D56: 0 | E56: 0 | F56: 東京都 | G56: 八王子市 | K56: =IF(AND($C56>0,$H56=""),"ﾘｽﾄ１","") -> ﾘｽﾄ１ | L56: =IF(K56="ﾘｽﾄ１",G56,"") -> 八王子市 | M56: =IF(K56="","",COUNTIF($K$7:K56,"ﾘｽﾄ１")) -> 24 | N56: =IF(AND(D56=0,E56>0),"同一区","") | O56: =IF(AND(EXACT($K$2,G56),H56>0),"該当１","") | P56: =IF(O56="該当１",G56,"") | Q56: =IF(O56="該当１","ﾘｽﾄ2","") | R56: =IF(Q56="ﾘｽﾄ2",H56,"") | S56: =IF(AND(Q56="ﾘｽﾄ2",OR(I56=0,AND(N56="同一区",E56=1))),"該当２","") | T56: =IF(S56="該当２",H56,"") | U56: =IF(S56="","",COUNTIF($S$7:S56,"該当２")) | V56: =IF(AND($S$2=H56,E56>0,E56<998),"該当３","") | W56: =IF(V56="該当３",I56,"") | X56: =IF(V56="","",COUNTIF($V$7:V56,"該当３")) | Z56: 50 | AB56: 瑞穂町
A57: 1320101000 | B57: 13 | C57: 201 | D57: 1 | E57: 0 | F57: 東京都 | G57: 八王子市 | H57: 八王子市 | K57: =IF(AND($C57>0,$H57=""),"ﾘｽﾄ１","") | L57: =IF(K57="ﾘｽﾄ１",G57,"") | M57: =IF(K57="","",COUNTIF($K$7:K57,"ﾘｽﾄ１")) | N57: =IF(AND(D57=0,E57>0),"同一区","") | O57: =IF(AND(EXACT($K$2,G57),H57>0),"該当１","") | P57: =IF(O57="該当１",G57,"") | Q57: =IF(O57="該当１","ﾘｽﾄ2","") | R57: =IF(Q57="ﾘｽﾄ2",H57,"") | S57: =IF(AND(Q57="ﾘｽﾄ2",OR(I57=0,AND(N57="同一区",E57=1))),"該当２","") | T57: =IF(S57="該当２",H57,"") | U57: =IF(S57="","",COUNTIF($S$7:S57,"該当２")) | V57: =IF(AND($S$2=H57,E57>0,E57<998),"該当３","") | W57: =IF(V57="該当３",I57,"") | X57: =IF(V57="","",COUNTIF($V$7:V57,"該当３")) | Z57: 51 | AB57: 日の出町
A58: 1320101021 | B58: 13 | C58: 201 | D58: 1 | E58: 21 | F58: 東京都 | G58: 八王子市 | H58: 八王子市 | I58: 八王子市 | K58: =IF(AND($C58>0,$H58=""),"ﾘｽﾄ１","") | L58: =IF(K58="ﾘｽﾄ１",G58,"") | M58: =IF(K58="","",COUNTIF($K$7:K58,"ﾘｽﾄ１")) | N58: =IF(AND(D58=0,E58>0),"同一区","") | O58: =IF(AND(EXACT($K$2,G58),H58>0),"該当１","") | P58: =IF(O58="該当１",G58,"") | Q58: =IF(O58="該当１","ﾘｽﾄ2","") | R58: =IF(Q58="ﾘｽﾄ2",H58,"") | S58: =IF(AND(Q58="ﾘｽﾄ2",OR(I58=0,AND(N58="同一区",E58=1))),"該当２","") | T58: =IF(S58="該当２",H58,"") | U58: =IF(S58="","",COUNTIF($S$7:S58,"該当２")) | V58: =IF(AND($S$2=H58,E58>0,E58<998),"該当３","") | W58: =IF(V58="該当３",I58,"") | X58: =IF(V58="","",COUNTIF($V$7:V58,"該当３")) | Z58: 52 | AB58: 檜原村
A59: 1320102000 | B59: 13 | C59: 201 | D59: 2 | E59: 0 | F59: 東京都 | G59: 八王子市 | H59: 横山村 | K59: =IF(AND($C59>0,$H59=""),"ﾘｽﾄ１","") | L59: =IF(K59="ﾘｽﾄ１",G59,"") | M59: =IF(K59="","",COUNTIF($K$7:K59,"ﾘｽﾄ１")) | N59: =IF(AND(D59=0,E59>0),"同一区","") | O59: =IF(AND(EXACT($K$2,G59),H59>0),"該当１","") | P59: =IF(O59="該当１",G59,"") | Q59: =IF(O59="該当１","ﾘｽﾄ2","") | R59: =IF(Q59="ﾘｽﾄ2",H59,"") | S59: =IF(AND(Q59="ﾘｽﾄ2",OR(I59=0,AND(N59="同一区",E59=1))),"該当２","") | T59: =IF(S59="該当２",H59,"") | U59: =IF(S59="","",COUNTIF($S$7:S59,"該当２")) | V59: =IF(AND($S$2=H59,E59>0,E59<998),"該当３","") | W59: =IF(V59="該当３",I59,"") | X59: =IF(V59="","",COUNTIF($V$7:V59,"該当３")) | Z59: 53 | AB59: 奥多摩町
A60: 1320102023 | B60: 13 | C60: 201 | D60: 2 | E60: 23 | F60: 東京都 | G60: 八王子市 | H60: 横山村 | I60: 横山村 | K60: =IF(AND($C60>0,$H60=""),"ﾘｽﾄ１","") | L60: =IF(K60="ﾘｽﾄ１",G60,"") | M60: =IF(K60="","",COUNTIF($K$7:K60,"ﾘｽﾄ１")) | N60: =IF(AND(D60=0,E60>0),"同一区","") | O60: =IF(AND(EXACT($K$2,G60),H60>0),"該当１","") | P60: =IF(O60="該当１",G60,"") | Q60: =IF(O60="該当１","ﾘｽﾄ2","") | R60: =IF(Q60="ﾘｽﾄ2",H60,"") | S60: =IF(AND(Q60="ﾘｽﾄ2",OR(I60=0,AND(N60="同一区",E60=1))),"該当２","") | T60: =IF(S60="該当２",H60,"") | U60: =IF(S60="","",COUNTIF($S$7:S60,"該当２")) | V60: =IF(AND($S$2=H60,E60>0,E60<998),"該当３","") | W60: =IF(V60="該当３",I60,"") | X60: =IF(V60="","",COUNTIF($V$7:V60,"該当３")) | Z60: 54 | AB60: 大島町
A61: 1320103000 | B61: 13 | C61: 201 | D61: 3 | E61: 0 | F61: 東京都 | G61: 八王子市 | H61: 浅川町 | K61: =IF(AND($C61>0,$H61=""),"ﾘｽﾄ１","") | L61: =IF(K61="ﾘｽﾄ１",G61,"") | M61: =IF(K61="","",COUNTIF($K$7:K61,"ﾘｽﾄ１")) | N61: =IF(AND(D61=0,E61>0),"同一区","") | O61: =IF(AND(EXACT($K$2,G61),H61>0),"該当１","") | P61: =IF(O61="該当１",G61,"") | Q61: =IF(O61="該当１","ﾘｽﾄ2","") | R61: =IF(Q61="ﾘｽﾄ2",H61,"") | S61: =IF(AND(Q61="ﾘｽﾄ2",OR(I61=0,AND(N61="同一区",E61=1))),"該当２","") | T61: =IF(S61="該当２",H61,"") | U61: =IF(S61="","",COUNTIF($S$7:S61,"該当２")) | V61: =IF(AND($S$2=H61,E61>0,E61<998),"該当３","") | W61: =IF(V61="該当３",I61,"") | X61: =IF(V61="","",COUNTIF($V$7:V61,"該当３")) | Z61: 55 | AB61: 利島村
A62: 1320103016 | B62: 13 | C62: 201 | D62: 3 | E62: 16 | F62: 東京都 | G62: 八王子市 | H62: 浅川町 | I62: 浅川町 | K62: =IF(AND($C62>0,$H62=""),"ﾘｽﾄ１","") | L62: =IF(K62="ﾘｽﾄ１",G62,"") | M62: =IF(K62="","",COUNTIF($K$7:K62,"ﾘｽﾄ１")) | N62: =IF(AND(D62=0,E62>0),"同一区","") | O62: =IF(AND(EXACT($K$2,G62),H62>0),"該当１","") | P62: =IF(O62="該当１",G62,"") | Q62: =IF(O62="該当１","ﾘｽﾄ2","") | R62: =IF(Q62="ﾘｽﾄ2",H62,"") | S62: =IF(AND(Q62="ﾘｽﾄ2",OR(I62=0,AND(N62="同一区",E62=1))),"該当２","") | T62: =IF(S62="該当２",H62,"") | U62: =IF(S62="","",COUNTIF($S$7:S62,"該当２")) | V62: =IF(AND($S$2=H62,E62>0,E62<998),"該当３","") | W62: =IF(V62="該当３",I62,"") | X62: =IF(V62="","",COUNTIF($V$7:V62,"該当３")) | Z62: 56 | AB62: 新島村
A63: 1320104000 | B63: 13 | C63: 201 | D63: 4 | E63: 0 | F63: 東京都 | G63: 八王子市 | H63: 元八王子村 | K63: =IF(AND($C63>0,$H63=""),"ﾘｽﾄ１","") | L63: =IF(K63="ﾘｽﾄ１",G63,"") | M63: =IF(K63="","",COUNTIF($K$7:K63,"ﾘｽﾄ１")) | N63: =IF(AND(D63=0,E63>0),"同一区","") | O63: =IF(AND(EXACT($K$2,G63),H63>0),"該当１","") | P63: =IF(O63="該当１",G63,"") | Q63: =IF(O63="該当１","ﾘｽﾄ2","") | R63: =IF(Q63="ﾘｽﾄ2",H63,"") | S63: =IF(AND(Q63="ﾘｽﾄ2",OR(I63=0,AND(N63="同一区",E63=1))),"該当２","") | T63: =IF(S63="該当２",H63,"") | U63: =IF(S63="","",COUNTIF($S$7:S63,"該当２")) | V63: =IF(AND($S$2=H63,E63>0,E63<998),"該当３","") | W63: =IF(V63="該当３",I63,"") | X63: =IF(V63="","",COUNTIF($V$7:V63,"該当３")) | Z63: 57 | AB63: 神津島村
A64: 1320104025 | B64: 13 | C64: 201 | D64: 4 | E64: 25 | F64: 東京都 | G64: 八王子市 | H64: 元八王子村 | I64: 元八王子村 | K64: =IF(AND($C64>0,$H64=""),"ﾘｽﾄ１","") | L64: =IF(K64="ﾘｽﾄ１",G64,"") | M64: =IF(K64="","",COUNTIF($K$7:K64,"ﾘｽﾄ１")) | N64: =IF(AND(D64=0,E64>0),"同一区","") | O64: =IF(AND(EXACT($K$2,G64),H64>0),"該当１","") | P64: =IF(O64="該当１",G64,"") | Q64: =IF(O64="該当１","ﾘｽﾄ2","") | R64: =IF(Q64="ﾘｽﾄ2",H64,"") | S64: =IF(AND(Q64="ﾘｽﾄ2",OR(I64=0,AND(N64="同一区",E64=1))),"該当２","") | T64: =IF(S64="該当２",H64,"") | U64: =IF(S64="","",COUNTIF($S$7:S64,"該当２")) | V64: =IF(AND($S$2=H64,E64>0,E64<998),"該当３","") | W64: =IF(V64="該当３",I64,"") | X64: =IF(V64="","",COUNTIF($V$7:V64,"該当３")) | Z64: 58 | AB64: 三宅村
A65: 1320105000 | B65: 13 | C65: 201 | D65: 5 | E65: 0 | F65: 東京都 | G65: 八王子市 | H65: 恩方村 | K65: =IF(AND($C65>0,$H65=""),"ﾘｽﾄ１","") | L65: =IF(K65="ﾘｽﾄ１",G65,"") | M65: =IF(K65="","",COUNTIF($K$7:K65,"ﾘｽﾄ１")) | N65: =IF(AND(D65=0,E65>0),"同一区","") | O65: =IF(AND(EXACT($K$2,G65),H65>0),"該当１","") | P65: =IF(O65="該当１",G65,"") | Q65: =IF(O65="該当１","ﾘｽﾄ2","") | R65: =IF(Q65="ﾘｽﾄ2",H65,"") | S65: =IF(AND(Q65="ﾘｽﾄ2",OR(I65=0,AND(N65="同一区",E65=1))),"該当２","") | T65: =IF(S65="該当２",H65,"") | U65: =IF(S65="","",COUNTIF($S$7:S65,"該当２")) | V65: =IF(AND($S$2=H65,E65>0,E65<998),"該当３","") | W65: =IF(V65="該当３",I65,"") | X65: =IF(V65="","",COUNTIF($V$7:V65,"該当３")) | Z65: 59 | AB65: 御蔵島村
A66: 1320105026 | B66: 13 | C66: 201 | D66: 5 | E66: 26 | F66: 東京都 | G66: 八王子市 | H66: 恩方村 | I66: 恩方村 | K66: =IF(AND($C66>0,$H66=""),"ﾘｽﾄ１","") | L66: =IF(K66="ﾘｽﾄ１",G66,"") | M66: =IF(K66="","",COUNTIF($K$7:K66,"ﾘｽﾄ１")) | N66: =IF(AND(D66=0,E66>0),"同一区","") | O66: =IF(AND(EXACT($K$2,G66),H66>0),"該当１","") | P66: =IF(O66="該当１",G66,"") | Q66: =IF(O66="該当１","ﾘｽﾄ2","") | R66: =IF(Q66="ﾘｽﾄ2",H66,"") | S66: =IF(AND(Q66="ﾘｽﾄ2",OR(I66=0,AND(N66="同一区",E66=1))),"該当２","") | T66: =IF(S66="該当２",H66,"") | U66: =IF(S66="","",COUNTIF($S$7:S66,"該当２")) | V66: =IF(AND($S$2=H66,E66>0,E66<998),"該当３","") | W66: =IF(V66="該当３",I66,"") | X66: =IF(V66="","",COUNTIF($V$7:V66,"該当３")) | Z66: 60 | AB66: 八丈町
A67: 1320106000 | B67: 13 | C67: 201 | D67: 6 | E67: 0 | F67: 東京都 | G67: 八王子市 | H67: 川口村 | K67: =IF(AND($C67>0,$H67=""),"ﾘｽﾄ１","") | L67: =IF(K67="ﾘｽﾄ１",G67,"") | M67: =IF(K67="","",COUNTIF($K$7:K67,"ﾘｽﾄ１")) | N67: =IF(AND(D67=0,E67>0),"同一区","") | O67: =IF(AND(EXACT($K$2,G67),H67>0),"該当１","") | P67: =IF(O67="該当１",G67,"") | Q67: =IF(O67="該当１","ﾘｽﾄ2","") | R67: =IF(Q67="ﾘｽﾄ2",H67,"") | S67: =IF(AND(Q67="ﾘｽﾄ2",OR(I67=0,AND(N67="同一区",E67=1))),"該当２","") | T67: =IF(S67="該当２",H67,"") | U67: =IF(S67="","",COUNTIF($S$7:S67,"該当２")) | V67: =IF(AND($S$2=H67,E67>0,E67<998),"該当３","") | W67: =IF(V67="該当３",I67,"") | X67: =IF(V67="","",COUNTIF($V$7:V67,"該当３")) | Z67: 61 | AB67: 青ヶ島村
A68: 1320106013 | B68: 13 | C68: 201 | D68: 6 | E68: 13 | F68: 東京都 | G68: 八王子市 | H68: 川口村 | I68: 川口村 | K68: =IF(AND($C68>0,$H68=""),"ﾘｽﾄ１","") | L68: =IF(K68="ﾘｽﾄ１",G68,"") | M68: =IF(K68="","",COUNTIF($K$7:K68,"ﾘｽﾄ１")) | N68: =IF(AND(D68=0,E68>0),"同一区","") | O68: =IF(AND(EXACT($K$2,G68),H68>0),"該当１","") | P68: =IF(O68="該当１",G68,"") | Q68: =IF(O68="該当１","ﾘｽﾄ2","") | R68: =IF(Q68="ﾘｽﾄ2",H68,"") | S68: =IF(AND(Q68="ﾘｽﾄ2",OR(I68=0,AND(N68="同一区",E68=1))),"該当２","") | T68: =IF(S68="該当２",H68,"") | U68: =IF(S68="","",COUNTIF($S$7:S68,"該当２")) | V68: =IF(AND($S$2=H68,E68>0,E68<998),"該当３","") | W68: =IF(V68="該当３",I68,"") | X68: =IF(V68="","",COUNTIF($V$7:V68,"該当３")) | Z68: 62 | AB68: 小笠原村
A69: 1320107000 | B69: 13 | C69: 201 | D69: 7 | E69: 0 | F69: 東京都 | G69: 八王子市 | H69: 加住村２－１ | K69: =IF(AND($C69>0,$H69=""),"ﾘｽﾄ１","") | L69: =IF(K69="ﾘｽﾄ１",G69,"") | M69: =IF(K69="","",COUNTIF($K$7:K69,"ﾘｽﾄ１")) | N69: =IF(AND(D69=0,E69>0),"同一区","") | O69: =IF(AND(EXACT($K$2,G69),H69>0),"該当１","") | P69: =IF(O69="該当１",G69,"") | Q69: =IF(O69="該当１","ﾘｽﾄ2","") | R69: =IF(Q69="ﾘｽﾄ2",H69,"") | S69: =IF(AND(Q69="ﾘｽﾄ2",OR(I69=0,AND(N69="同一区",E69=1))),"該当２","") | T69: =IF(S69="該当２",H69,"") | U69: =IF(S69="","",COUNTIF($S$7:S69,"該当２")) | V69: =IF(AND($S$2=H69,E69>0,E69<998),"該当３","") | W69: =IF(V69="該当３",I69,"") | X69: =IF(V69="","",COUNTIF($V$7:V69,"該当３")) | Z69: 63
A70: 1320107014 | B70: 13 | C70: 201 | D70: 7 | E70: 14 | F70: 東京都 | G70: 八王子市 | H70: 加住村２－１ | I70: 加住村 | K70: =IF(AND($C70>0,$H70=""),"ﾘｽﾄ１","") | L70: =IF(K70="ﾘｽﾄ１",G70,"") | M70: =IF(K70="","",COUNTIF($K$7:K70,"ﾘｽﾄ１")) | N70: =IF(AND(D70=0,E70>0),"同一区","") | O70: =IF(AND(EXACT($K$2,G70),H70>0),"該当１","") | P70: =IF(O70="該当１",G70,"") | Q70: =IF(O70="該当１","ﾘｽﾄ2","") | R70: =IF(Q70="ﾘｽﾄ2",H70,"") | S70: =IF(AND(Q70="ﾘｽﾄ2",OR(I70=0,AND(N70="同一区",E70=1))),"該当２","") | T70: =IF(S70="該当２",H70,"") | U70: =IF(S70="","",COUNTIF($S$7:S70,"該当２")) | V70: =IF(AND($S$2=H70,E70>0,E70<998),"該当３","") | W70: =IF(V70="該当３",I70,"") | X70: =IF(V70="","",COUNTIF($V$7:V70,"該当３")) | Z70: 64
A71: 1320108000 | B71: 13 | C71: 201 | D71: 8 | E71: 0 | F71: 東京都 | G71: 八王子市 | H71: 由井村 | K71: =IF(AND($C71>0,$H71=""),"ﾘｽﾄ１","") | L71: =IF(K71="ﾘｽﾄ１",G71,"") | M71: =IF(K71="","",COUNTIF($K$7:K71,"ﾘｽﾄ１")) | N71: =IF(AND(D71=0,E71>0),"同一区","") | O71: =IF(AND(EXACT($K$2,G71),H71>0),"該当１","") | P71: =IF(O71="該当１",G71,"") | Q71: =IF(O71="該当１","ﾘｽﾄ2","") | R71: =IF(Q71="ﾘｽﾄ2",H71,"") | S71: =IF(AND(Q71="ﾘｽﾄ2",OR(I71=0,AND(N71="同一区",E71=1))),"該当２","") | T71: =IF(S71="該当２",H71,"") | U71: =IF(S71="","",COUNTIF($S$7:S71,"該当２")) | V71: =IF(AND($S$2=H71,E71>0,E71<998),"該当３","") | W71: =IF(V71="該当３",I71,"") | X71: =IF(V71="","",COUNTIF($V$7:V71,"該当３")) | Z71: 65
A72: 1320108009 | B72: 13 | C72: 201 | D72: 8 | E72: 9 | F72: 東京都 | G72: 八王子市 | H72: 由井村 | I72: 由井村 | K72: =IF(AND($C72>0,$H72=""),"ﾘｽﾄ１","") | L72: =IF(K72="ﾘｽﾄ１",G72,"") | M72: =IF(K72="","",COUNTIF($K$7:K72,"ﾘｽﾄ１")) | N72: =IF(AND(D72=0,E72>0),"同一区","") | O72: =IF(AND(EXACT($K$2,G72),H72>0),"該当１","") | P72: =IF(O72="該当１",G72,"") | Q72: =IF(O72="該当１","ﾘｽﾄ2","") | R72: =IF(Q72="ﾘｽﾄ2",H72,"") | S72: =IF(AND(Q72="ﾘｽﾄ2",OR(I72=0,AND(N72="同一区",E72=1))),"該当２","") | T72: =IF(S72="該当２",H72,"") | U72: =IF(S72="","",COUNTIF($S$7:S72,"該当２")) | V72: =IF(AND($S$2=H72,E72>0,E72<998),"該当３","") | W72: =IF(V72="該当３",I72,"") | X72: =IF(V72="","",COUNTIF($V$7:V72,"該当３"))
A73: 1320109000 | B73: 13 | C73: 201 | D73: 9 | E73: 0 | F73: 東京都 | G73: 八王子市 | H73: 由木村 | K73: =IF(AND($C73>0,$H73=""),"ﾘｽﾄ１","") | L73: =IF(K73="ﾘｽﾄ１",G73,"") | M73: =IF(K73="","",COUNTIF($K$7:K73,"ﾘｽﾄ１")) | N73: =IF(AND(D73=0,E73>0),"同一区","") | O73: =IF(AND(EXACT($K$2,G73),H73>0),"該当１","") | P73: =IF(O73="該当１",G73,"") | Q73: =IF(O73="該当１","ﾘｽﾄ2","") | R73: =IF(Q73="ﾘｽﾄ2",H73,"") | S73: =IF(AND(Q73="ﾘｽﾄ2",OR(I73=0,AND(N73="同一区",E73=1))),"該当２","") | T73: =IF(S73="該当２",H73,"") | U73: =IF(S73="","",COUNTIF($S$7:S73,"該当２")) | V73: =IF(AND($S$2=H73,E73>0,E73<998),"該当３","") | W73: =IF(V73="該当３",I73,"") | X73: =IF(V73="","",COUNTIF($V$7:V73,"該当３"))
A74: 1320109025 | B74: 13 | C74: 201 | D74: 9 | E74: 25 | F74: 東京都 | G74: 八王子市 | H74: 由木村 | I74: 由木村 | K74: =IF(AND($C74>0,$H74=""),"ﾘｽﾄ１","") | L74: =IF(K74="ﾘｽﾄ１",G74,"") | M74: =IF(K74="","",COUNTIF($K$7:K74,"ﾘｽﾄ１")) | N74: =IF(AND(D74=0,E74>0),"同一区","") | O74: =IF(AND(EXACT($K$2,G74),H74>0),"該当１","") | P74: =IF(O74="該当１",G74,"") | Q74: =IF(O74="該当１","ﾘｽﾄ2","") | R74: =IF(Q74="ﾘｽﾄ2",H74,"") | S74: =IF(AND(Q74="ﾘｽﾄ2",OR(I74=0,AND(N74="同一区",E74=1))),"該当２","") | T74: =IF(S74="該当２",H74,"") | U74: =IF(S74="","",COUNTIF($S$7:S74,"該当２")) | V74: =IF(AND($S$2=H74,E74>0,E74<998),"該当３","") | W74: =IF(V74="該当３",I74,"") | X74: =IF(V74="","",COUNTIF($V$7:V74,"該当３"))
A75: 1320200000 | B75: 13 | C75: 202 | D75: 0 | E75: 0 | F75: 東京都 | G75: 立川市 | K75: =IF(AND($C75>0,$H75=""),"ﾘｽﾄ１","") -> ﾘｽﾄ１ | L75: =IF(K75="ﾘｽﾄ１",G75,"") -> 立川市 | M75: =IF(K75="","",COUNTIF($K$7:K75,"ﾘｽﾄ１")) -> 25 | N75: =IF(AND(D75=0,E75>0),"同一区","") | O75: =IF(AND(EXACT($K$2,G75),H75>0),"該当１","") | P75: =IF(O75="該当１",G75,"") | Q75: =IF(O75="該当１","ﾘｽﾄ2","") | R75: =IF(Q75="ﾘｽﾄ2",H75,"") | S75: =IF(AND(Q75="ﾘｽﾄ2",OR(I75=0,AND(N75="同一区",E75=1))),"該当２","") | T75: =IF(S75="該当２",H75,"") | U75: =IF(S75="","",COUNTIF($S$7:S75,"該当２")) | V75: =IF(AND($S$2=H75,E75>0,E75<998),"該当３","") | W75: =IF(V75="該当３",I75,"") | X75: =IF(V75="","",COUNTIF($V$7:V75,"該当３"))
A76: 1320201000 | B76: 13 | C76: 202 | D76: 1 | E76: 0 | F76: 東京都 | G76: 立川市 | H76: 立川市 | K76: =IF(AND($C76>0,$H76=""),"ﾘｽﾄ１","") | L76: =IF(K76="ﾘｽﾄ１",G76,"") | M76: =IF(K76="","",COUNTIF($K$7:K76,"ﾘｽﾄ１")) | N76: =IF(AND(D76=0,E76>0),"同一区","") | O76: =IF(AND(EXACT($K$2,G76),H76>0),"該当１","") | P76: =IF(O76="該当１",G76,"") | Q76: =IF(O76="該当１","ﾘｽﾄ2","") | R76: =IF(Q76="ﾘｽﾄ2",H76,"") | S76: =IF(AND(Q76="ﾘｽﾄ2",OR(I76=0,AND(N76="同一区",E76=1))),"該当２","") | T76: =IF(S76="該当２",H76,"") | U76: =IF(S76="","",COUNTIF($S$7:S76,"該当２")) | V76: =IF(AND($S$2=H76,E76>0,E76<998),"該当３","") | W76: =IF(V76="該当３",I76,"") | X76: =IF(V76="","",COUNTIF($V$7:V76,"該当３"))
A77: 1320201001 | B77: 13 | C77: 202 | D77: 1 | E77: 1 | F77: 東京都 | G77: 立川市 | H77: 立川市 | I77: 富士見３－６ | K77: =IF(AND($C77>0,$H77=""),"ﾘｽﾄ１","") | L77: =IF(K77="ﾘｽﾄ１",G77,"") | M77: =IF(K77="","",COUNTIF($K$7:K77,"ﾘｽﾄ１")) | N77: =IF(AND(D77=0,E77>0),"同一区","") | O77: =IF(AND(EXACT($K$2,G77),H77>0),"該当１","") | P77: =IF(O77="該当１",G77,"") | Q77: =IF(O77="該当１","ﾘｽﾄ2","") | R77: =IF(Q77="ﾘｽﾄ2",H77,"") | S77: =IF(AND(Q77="ﾘｽﾄ2",OR(I77=0,AND(N77="同一区",E77=1))),"該当２","") | T77: =IF(S77="該当２",H77,"") | U77: =IF(S77="","",COUNTIF($S$7:S77,"該当２")) | V77: =IF(AND($S$2=H77,E77>0,E77<998),"該当３","") | W77: =IF(V77="該当３",I77,"") | X77: =IF(V77="","",COUNTIF($V$7:V77,"該当３"))
A78: 1320201002 | B78: 13 | C78: 202 | D78: 1 | E78: 2 | F78: 東京都 | G78: 立川市 | H78: 立川市 | I78: 富士見４－５ | K78: =IF(AND($C78>0,$H78=""),"ﾘｽﾄ１","") | L78: =IF(K78="ﾘｽﾄ１",G78,"") | M78: =IF(K78="","",COUNTIF($K$7:K78,"ﾘｽﾄ１")) | N78: =IF(AND(D78=0,E78>0),"同一区","") | O78: =IF(AND(EXACT($K$2,G78),H78>0),"該当１","") | P78: =IF(O78="該当１",G78,"") | Q78: =IF(O78="該当１","ﾘｽﾄ2","") | R78: =IF(Q78="ﾘｽﾄ2",H78,"") | S78: =IF(AND(Q78="ﾘｽﾄ2",OR(I78=0,AND(N78="同一区",E78=1))),"該当２","") | T78: =IF(S78="該当２",H78,"") | U78: =IF(S78="","",COUNTIF($S$7:S78,"該当２")) | V78: =IF(AND($S$2=H78,E78>0,E78<998),"該当３","") | W78: =IF(V78="該当３",I78,"") | X78: =IF(V78="","",COUNTIF($V$7:V78,"該当３"))
A79: 1320201003 | B79: 13 | C79: 202 | D79: 1 | E79: 3 | F79: 東京都 | G79: 立川市 | H79: 立川市 | I79: 柴崎１ | K79: =IF(AND($C79>0,$H79=""),"ﾘｽﾄ１","") | L79: =IF(K79="ﾘｽﾄ１",G79,"") | M79: =IF(K79="","",COUNTIF($K$7:K79,"ﾘｽﾄ１")) | N79: =IF(AND(D79=0,E79>0),"同一区","") | O79: =IF(AND(EXACT($K$2,G79),H79>0),"該当１","") | P79: =IF(O79="該当１",G79,"") | Q79: =IF(O79="該当１","ﾘｽﾄ2","") | R79: =IF(Q79="ﾘｽﾄ2",H79,"") | S79: =IF(AND(Q79="ﾘｽﾄ2",OR(I79=0,AND(N79="同一区",E79=1))),"該当２","") | T79: =IF(S79="該当２",H79,"") | U79: =IF(S79="","",COUNTIF($S$7:S79,"該当２")) | V79: =IF(AND($S$2=H79,E79>0,E79<998),"該当３","") | W79: =IF(V79="該当３",I79,"") | X79: =IF(V79="","",COUNTIF($V$7:V79,"該当３"))
A80: 1320201004 | B80: 13 | C80: 202 | D80: 1 | E80: 4 | F80: 東京都 | G80: 立川市 | H80: 立川市 | I80: 柴崎４ | K80: =IF(AND($C80>0,$H80=""),"ﾘｽﾄ１","") | L80: =IF(K80="ﾘｽﾄ１",G80,"") | M80: =IF(K80="","",COUNTIF($K$7:K80,"ﾘｽﾄ１")) | N80: =IF(AND(D80=0,E80>0),"同一区","") | O80: =IF(AND(EXACT($K$2,G80),H80>0),"該当１","") | P80: =IF(O80="該当１",G80,"") | Q80: =IF(O80="該当１","ﾘｽﾄ2","") | R80: =IF(Q80="ﾘｽﾄ2",H80,"") | S80: =IF(AND(Q80="ﾘｽﾄ2",OR(I80=0,AND(N80="同一区",E80=1))),"該当２","") | T80: =IF(S80="該当２",H80,"") | U80: =IF(S80="","",COUNTIF($S$7:S80,"該当２")) | V80: =IF(AND($S$2=H80,E80>0,E80<998),"該当３","") | W80: =IF(V80="該当３",I80,"") | X80: =IF(V80="","",COUNTIF($V$7:V80,"該当３"))
A81: 1320201005 | B81: 13 | C81: 202 | D81: 1 | E81: 5 | F81: 東京都 | G81: 立川市 | H81: 立川市 | I81: 錦５ | K81: =IF(AND($C81>0,$H81=""),"ﾘｽﾄ１","") | L81: =IF(K81="ﾘｽﾄ１",G81,"") | M81: =IF(K81="","",COUNTIF($K$7:K81,"ﾘｽﾄ１")) | N81: =IF(AND(D81=0,E81>0),"同一区","") | O81: =IF(AND(EXACT($K$2,G81),H81>0),"該当１","") | P81: =IF(O81="該当１",G81,"") | Q81: =IF(O81="該当１","ﾘｽﾄ2","") | R81: =IF(Q81="ﾘｽﾄ2",H81,"") | S81: =IF(AND(Q81="ﾘｽﾄ2",OR(I81=0,AND(N81="同一区",E81=1))),"該当２","") | T81: =IF(S81="該当２",H81,"") | U81: =IF(S81="","",COUNTIF($S$7:S81,"該当２")) | V81: =IF(AND($S$2=H81,E81>0,E81<998),"該当３","") | W81: =IF(V81="該当３",I81,"") | X81: =IF(V81="","",COUNTIF($V$7:V81,"該当３"))
A82: 1320201006 | B82: 13 | C82: 202 | D82: 1 | E82: 6 | F82: 東京都 | G82: 立川市 | H82: 立川市 | I82: 錦６ | K82: =IF(AND($C82>0,$H82=""),"ﾘｽﾄ１","") | L82: =IF(K82="ﾘｽﾄ１",G82,"") | M82: =IF(K82="","",COUNTIF($K$7:K82,"ﾘｽﾄ１")) | N82: =IF(AND(D82=0,E82>0),"同一区","") | O82: =IF(AND(EXACT($K$2,G82),H82>0),"該当１","") | P82: =IF(O82="該当１",G82,"") | Q82: =IF(O82="該当１","ﾘｽﾄ2","") | R82: =IF(Q82="ﾘｽﾄ2",H82,"") | S82: =IF(AND(Q82="ﾘｽﾄ2",OR(I82=0,AND(N82="同一区",E82=1))),"該当２","") | T82: =IF(S82="該当２",H82,"") | U82: =IF(S82="","",COUNTIF($S$7:S82,"該当２")) | V82: =IF(AND($S$2=H82,E82>0,E82<998),"該当３","") | W82: =IF(V82="該当３",I82,"") | X82: =IF(V82="","",COUNTIF($V$7:V82,"該当３"))
A83: 1320201007 | B83: 13 | C83: 202 | D83: 1 | E83: 7 | F83: 東京都 | G83: 立川市 | H83: 立川市 | I83: 高松１・錦２ | K83: =IF(AND($C83>0,$H83=""),"ﾘｽﾄ１","") | L83: =IF(K83="ﾘｽﾄ１",G83,"") | M83: =IF(K83="","",COUNTIF($K$7:K83,"ﾘｽﾄ１")) | N83: =IF(AND(D83=0,E83>0),"同一区","") | O83: =IF(AND(EXACT($K$2,G83),H83>0),"該当１","") | P83: =IF(O83="該当１",G83,"") | Q83: =IF(O83="該当１","ﾘｽﾄ2","") | R83: =IF(Q83="ﾘｽﾄ2",H83,"") | S83: =IF(AND(Q83="ﾘｽﾄ2",OR(I83=0,AND(N83="同一区",E83=1))),"該当２","") | T83: =IF(S83="該当２",H83,"") | U83: =IF(S83="","",COUNTIF($S$7:S83,"該当２")) | V83: =IF(AND($S$2=H83,E83>0,E83<998),"該当３","") | W83: =IF(V83="該当３",I83,"") | X83: =IF(V83="","",COUNTIF($V$7:V83,"該当３"))
A84: 1320202000 | B84: 13 | C84: 202 | D84: 2 | E84: 0 | F84: 東京都 | G84: 立川市 | H84: 砂川町 | K84: =IF(AND($C84>0,$H84=""),"ﾘｽﾄ１","") | L84: =IF(K84="ﾘｽﾄ１",G84,"") | M84: =IF(K84="","",COUNTIF($K$7:K84,"ﾘｽﾄ１")) | N84: =IF(AND(D84=0,E84>0),"同一区","") | O84: =IF(AND(EXACT($K$2,G84),H84>0),"該当１","") | P84: =IF(O84="該当１",G84,"") | Q84: =IF(O84="該当１","ﾘｽﾄ2","") | R84: =IF(Q84="ﾘｽﾄ2",H84,"") | S84: =IF(AND(Q84="ﾘｽﾄ2",OR(I84=0,AND(N84="同一区",E84=1))),"該当２","") | T84: =IF(S84="該当２",H84,"") | U84: =IF(S84="","",COUNTIF($S$7:S84,"該当２")) | V84: =IF(AND($S$2=H84,E84>0,E84<998),"該当３","") | W84: =IF(V84="該当３",I84,"") | X84: =IF(V84="","",COUNTIF($V$7:V84,"該当３"))
A85: 1320202001 | B85: 13 | C85: 202 | D85: 2 | E85: 1 | F85: 東京都 | G85: 立川市 | H85: 砂川町 | I85: 中里 | K85: =IF(AND($C85>0,$H85=""),"ﾘｽﾄ１","") | L85: =IF(K85="ﾘｽﾄ１",G85,"") | M85: =IF(K85="","",COUNTIF($K$7:K85,"ﾘｽﾄ１")) | N85: =IF(AND(D85=0,E85>0),"同一区","") | O85: =IF(AND(EXACT($K$2,G85),H85>0),"該当１","") | P85: =IF(O85="該当１",G85,"") | Q85: =IF(O85="該当１","ﾘｽﾄ2","") | R85: =IF(Q85="ﾘｽﾄ2",H85,"") | S85: =IF(AND(Q85="ﾘｽﾄ2",OR(I85=0,AND(N85="同一区",E85=1))),"該当２","") | T85: =IF(S85="該当２",H85,"") | U85: =IF(S85="","",COUNTIF($S$7:S85,"該当２")) | V85: =IF(AND($S$2=H85,E85>0,E85<998),"該当３","") | W85: =IF(V85="該当３",I85,"") | X85: =IF(V85="","",COUNTIF($V$7:V85,"該当３"))
A86: 1320202002 | B86: 13 | C86: 202 | D86: 2 | E86: 2 | F86: 東京都 | G86: 立川市 | H86: 砂川町 | I86: 宮沢 | K86: =IF(AND($C86>0,$H86=""),"ﾘｽﾄ１","") | L86: =IF(K86="ﾘｽﾄ１",G86,"") | M86: =IF(K86="","",COUNTIF($K$7:K86,"ﾘｽﾄ１")) | N86: =IF(AND(D86=0,E86>0),"同一区","") | O86: =IF(AND(EXACT($K$2,G86),H86>0),"該当１","") | P86: =IF(O86="該当１",G86,"") | Q86: =IF(O86="該当１","ﾘｽﾄ2","") | R86: =IF(Q86="ﾘｽﾄ2",H86,"") | S86: =IF(AND(Q86="ﾘｽﾄ2",OR(I86=0,AND(N86="同一区",E86=1))),"該当２","") | T86: =IF(S86="該当２",H86,"") | U86: =IF(S86="","",COUNTIF($S$7:S86,"該当２")) | V86: =IF(AND($S$2=H86,E86>0,E86<998),"該当３","") | W86: =IF(V86="該当３",I86,"") | X86: =IF(V86="","",COUNTIF($V$7:V86,"該当３"))
A87: 1320202003 | B87: 13 | C87: 202 | D87: 2 | E87: 3 | F87: 東京都 | G87: 立川市 | H87: 砂川町 | I87: 殿ケ谷 | K87: =IF(AND($C87>0,$H87=""),"ﾘｽﾄ１","") | L87: =IF(K87="ﾘｽﾄ１",G87,"") | M87: =IF(K87="","",COUNTIF($K$7:K87,"ﾘｽﾄ１")) | N87: =IF(AND(D87=0,E87>0),"同一区","") | O87: =IF(AND(EXACT($K$2,G87),H87>0),"該当１","") | P87: =IF(O87="該当１",G87,"") | Q87: =IF(O87="該当１","ﾘｽﾄ2","") | R87: =IF(Q87="ﾘｽﾄ2",H87,"") | S87: =IF(AND(Q87="ﾘｽﾄ2",OR(I87=0,AND(N87="同一区",E87=1))),"該当２","") | T87: =IF(S87="該当２",H87,"") | U87: =IF(S87="","",COUNTIF($S$7:S87,"該当２")) | V87: =IF(AND($S$2=H87,E87>0,E87<998),"該当３","") | W87: =IF(V87="該当３",I87,"") | X87: =IF(V87="","",COUNTIF($V$7:V87,"該当３"))
A88: 1320202004 | B88: 13 | C88: 202 | D88: 2 | E88: 4 | F88: 東京都 | G88: 立川市 | H88: 砂川町 | I88: 一番組 | K88: =IF(AND($C88>0,$H88=""),"ﾘｽﾄ１","") | L88: =IF(K88="ﾘｽﾄ１",G88,"") | M88: =IF(K88="","",COUNTIF($K$7:K88,"ﾘｽﾄ１")) | N88: =IF(AND(D88=0,E88>0),"同一区","") | O88: =IF(AND(EXACT($K$2,G88),H88>0),"該当１","") | P88: =IF(O88="該当１",G88,"") | Q88: =IF(O88="該当１","ﾘｽﾄ2","") | R88: =IF(Q88="ﾘｽﾄ2",H88,"") | S88: =IF(AND(Q88="ﾘｽﾄ2",OR(I88=0,AND(N88="同一区",E88=1))),"該当２","") | T88: =IF(S88="該当２",H88,"") | U88: =IF(S88="","",COUNTIF($S$7:S88,"該当２")) | V88: =IF(AND($S$2=H88,E88>0,E88<998),"該当３","") | W88: =IF(V88="該当３",I88,"") | X88: =IF(V88="","",COUNTIF($V$7:V88,"該当３"))
A89: 1320202005 | B89: 13 | C89: 202 | D89: 2 | E89: 5 | F89: 東京都 | G89: 立川市 | H89: 砂川町 | I89: 二番組 | K89: =IF(AND($C89>0,$H89=""),"ﾘｽﾄ１","") | L89: =IF(K89="ﾘｽﾄ１",G89,"") | M89: =IF(K89="","",COUNTIF($K$7:K89,"ﾘｽﾄ１")) | N89: =IF(AND(D89=0,E89>0),"同一区","") | O89: =IF(AND(EXACT($K$2,G89),H89>0),"該当１","") | P89: =IF(O89="該当１",G89,"") | Q89: =IF(O89="該当１","ﾘｽﾄ2","") | R89: =IF(Q89="ﾘｽﾄ2",H89,"") | S89: =IF(AND(Q89="ﾘｽﾄ2",OR(I89=0,AND(N89="同一区",E89=1))),"該当２","") | T89: =IF(S89="該当２",H89,"") | U89: =IF(S89="","",COUNTIF($S$7:S89,"該当２")) | V89: =IF(AND($S$2=H89,E89>0,E89<998),"該当３","") | W89: =IF(V89="該当３",I89,"") | X89: =IF(V89="","",COUNTIF($V$7:V89,"該当３"))
A90: 1320202006 | B90: 13 | C90: 202 | D90: 2 | E90: 6 | F90: 東京都 | G90: 立川市 | H90: 砂川町 | I90: 三番組 | K90: =IF(AND($C90>0,$H90=""),"ﾘｽﾄ１","") | L90: =IF(K90="ﾘｽﾄ１",G90,"") | M90: =IF(K90="","",COUNTIF($K$7:K90,"ﾘｽﾄ１")) | N90: =IF(AND(D90=0,E90>0),"同一区","") | O90: =IF(AND(EXACT($K$2,G90),H90>0),"該当１","") | P90: =IF(O90="該当１",G90,"") | Q90: =IF(O90="該当１","ﾘｽﾄ2","") | R90: =IF(Q90="ﾘｽﾄ2",H90,"") | S90: =IF(AND(Q90="ﾘｽﾄ2",OR(I90=0,AND(N90="同一区",E90=1))),"該当２","") | T90: =IF(S90="該当２",H90,"") | U90: =IF(S90="","",COUNTIF($S$7:S90,"該当２")) | V90: =IF(AND($S$2=H90,E90>0,E90<998),"該当３","") | W90: =IF(V90="該当３",I90,"") | X90: =IF(V90="","",COUNTIF($V$7:V90,"該当３"))
A91: 1320202007 | B91: 13 | C91: 202 | D91: 2 | E91: 7 | F91: 東京都 | G91: 立川市 | H91: 砂川町 | I91: 四番組 | K91: =IF(AND($C91>0,$H91=""),"ﾘｽﾄ１","") | L91: =IF(K91="ﾘｽﾄ１",G91,"") | M91: =IF(K91="","",COUNTIF($K$7:K91,"ﾘｽﾄ１")) | N91: =IF(AND(D91=0,E91>0),"同一区","") | O91: =IF(AND(EXACT($K$2,G91),H91>0),"該当１","") | P91: =IF(O91="該当１",G91,"") | Q91: =IF(O91="該当１","ﾘｽﾄ2","") | R91: =IF(Q91="ﾘｽﾄ2",H91,"") | S91: =IF(AND(Q91="ﾘｽﾄ2",OR(I91=0,AND(N91="同一区",E91=1))),"該当２","") | T91: =IF(S91="該当２",H91,"") | U91: =IF(S91="","",COUNTIF($S$7:S91,"該当２")) | V91: =IF(AND($S$2=H91,E91>0,E91<998),"該当３","") | W91: =IF(V91="該当３",I91,"") | X91: =IF(V91="","",COUNTIF($V$7:V91,"該当３"))
A92: 1320202008 | B92: 13 | C92: 202 | D92: 2 | E92: 8 | F92: 東京都 | G92: 立川市 | H92: 砂川町 | I92: 五番組 | K92: =IF(AND($C92>0,$H92=""),"ﾘｽﾄ１","") | L92: =IF(K92="ﾘｽﾄ１",G92,"") | M92: =IF(K92="","",COUNTIF($K$7:K92,"ﾘｽﾄ１")) | N92: =IF(AND(D92=0,E92>0),"同一区","") | O92: =IF(AND(EXACT($K$2,G92),H92>0),"該当１","") | P92: =IF(O92="該当１",G92,"") | Q92: =IF(O92="該当１","ﾘｽﾄ2","") | R92: =IF(Q92="ﾘｽﾄ2",H92,"") | S92: =IF(AND(Q92="ﾘｽﾄ2",OR(I92=0,AND(N92="同一区",E92=1))),"該当２","") | T92: =IF(S92="該当２",H92,"") | U92: =IF(S92="","",COUNTIF($S$7:S92,"該当２")) | V92: =IF(AND($S$2=H92,E92>0,E92<998),"該当３","") | W92: =IF(V92="該当３",I92,"") | X92: =IF(V92="","",COUNTIF($V$7:V92,"該当３"))
A93: 1320202009 | B93: 13 | C93: 202 | D93: 2 | E93: 9 | F93: 東京都 | G93: 立川市 | H93: 砂川町 | I93: 六番組 | K93: =IF(AND($C93>0,$H93=""),"ﾘｽﾄ１","") | L93: =IF(K93="ﾘｽﾄ１",G93,"") | M93: =IF(K93="","",COUNTIF($K$7:K93,"ﾘｽﾄ１")) | N93: =IF(AND(D93=0,E93>0),"同一区","") | O93: =IF(AND(EXACT($K$2,G93),H93>0),"該当１","") | P93: =IF(O93="該当１",G93,"") | Q93: =IF(O93="該当１","ﾘｽﾄ2","") | R93: =IF(Q93="ﾘｽﾄ2",H93,"") | S93: =IF(AND(Q93="ﾘｽﾄ2",OR(I93=0,AND(N93="同一区",E93=1))),"該当２","") | T93: =IF(S93="該当２",H93,"") | U93: =IF(S93="","",COUNTIF($S$7:S93,"該当２")) | V93: =IF(AND($S$2=H93,E93>0,E93<998),"該当３","") | W93: =IF(V93="該当３",I93,"") | X93: =IF(V93="","",COUNTIF($V$7:V93,"該当３"))
A94: 1320202010 | B94: 13 | C94: 202 | D94: 2 | E94: 10 | F94: 東京都 | G94: 立川市 | H94: 砂川町 | I94: 七番組 | K94: =IF(AND($C94>0,$H94=""),"ﾘｽﾄ１","") | L94: =IF(K94="ﾘｽﾄ１",G94,"") | M94: =IF(K94="","",COUNTIF($K$7:K94,"ﾘｽﾄ１")) | N94: =IF(AND(D94=0,E94>0),"同一区","") | O94: =IF(AND(EXACT($K$2,G94),H94>0),"該当１","") | P94: =IF(O94="該当１",G94,"") | Q94: =IF(O94="該当１","ﾘｽﾄ2","") | R94: =IF(Q94="ﾘｽﾄ2",H94,"") | S94: =IF(AND(Q94="ﾘｽﾄ2",OR(I94=0,AND(N94="同一区",E94=1))),"該当２","") | T94: =IF(S94="該当２",H94,"") | U94: =IF(S94="","",COUNTIF($S$7:S94,"該当２")) | V94: =IF(AND($S$2=H94,E94>0,E94<998),"該当３","") | W94: =IF(V94="該当３",I94,"") | X94: =IF(V94="","",COUNTIF($V$7:V94,"該当３"))
A95: 1320202011 | B95: 13 | C95: 202 | D95: 2 | E95: 11 | F95: 東京都 | G95: 立川市 | H95: 砂川町 | I95: 八番組 | K95: =IF(AND($C95>0,$H95=""),"ﾘｽﾄ１","") | L95: =IF(K95="ﾘｽﾄ１",G95,"") | M95: =IF(K95="","",COUNTIF($K$7:K95,"ﾘｽﾄ１")) | N95: =IF(AND(D95=0,E95>0),"同一区","") | O95: =IF(AND(EXACT($K$2,G95),H95>0),"該当１","") | P95: =IF(O95="該当１",G95,"") | Q95: =IF(O95="該当１","ﾘｽﾄ2","") | R95: =IF(Q95="ﾘｽﾄ2",H95,"") | S95: =IF(AND(Q95="ﾘｽﾄ2",OR(I95=0,AND(N95="同一区",E95=1))),"該当２","") | T95: =IF(S95="該当２",H95,"") | U95: =IF(S95="","",COUNTIF($S$7:S95,"該当２")) | V95: =IF(AND($S$2=H95,E95>0,E95<998),"該当３","") | W95: =IF(V95="該当３",I95,"") | X95: =IF(V95="","",COUNTIF($V$7:V95,"該当３"))
A96: 1320202012 | B96: 13 | C96: 202 | D96: 2 | E96: 12 | F96: 東京都 | G96: 立川市 | H96: 砂川町 | I96: 中砂 | K96: =IF(AND($C96>0,$H96=""),"ﾘｽﾄ１","") | L96: =IF(K96="ﾘｽﾄ１",G96,"") | M96: =IF(K96="","",COUNTIF($K$7:K96,"ﾘｽﾄ１")) | N96: =IF(AND(D96=0,E96>0),"同一区","") | O96: =IF(AND(EXACT($K$2,G96),H96>0),"該当１","") | P96: =IF(O96="該当１",G96,"") | Q96: =IF(O96="該当１","ﾘｽﾄ2","") | R96: =IF(Q96="ﾘｽﾄ2",H96,"") | S96: =IF(AND(Q96="ﾘｽﾄ2",OR(I96=0,AND(N96="同一区",E96=1))),"該当２","") | T96: =IF(S96="該当２",H96,"") | U96: =IF(S96="","",COUNTIF($S$7:S96,"該当２")) | V96: =IF(AND($S$2=H96,E96>0,E96<998),"該当３","") | W96: =IF(V96="該当３",I96,"") | X96: =IF(V96="","",COUNTIF($V$7:V96,"該当３"))
... A99: 1320202015 | B99: 13 | C99: 202 | D99: 2 | E99: 15 | F99: 東京都 | G99: 立川市 | H99: 砂川町 | I99: 南砂川 | K99: =IF(AND($C99>0,$H99=""),"ﾘｽﾄ１","") | L99: =IF(K99="ﾘｽﾄ１",G99,"") | M99: =IF(K99="","",COUNTIF($K$7:K99,"ﾘｽﾄ１")) | N99: =IF(AND(D99=0,E99>0),"同一区","") | O99: =IF(AND(EXACT($K$2,G99),H99>0),"該当１","") | P99: =IF(O99="該当１",G99,"") | Q99: =IF(O99="該当１","ﾘｽﾄ2","") | R99: =IF(Q99="ﾘｽﾄ2",H99,"") | S99: =IF(AND(Q99="ﾘｽﾄ2",OR(I99=0,AND(N99="同一区",E99=1))),"該当２","") | T99: =IF(S99="該当２",H99,"") | U99: =IF(S99="","",COUNTIF($S$7:S99,"該当２")) | V99: =IF(AND($S$2=H99,E99>0,E99<998),"該当３","") | W99: =IF(V99="該当３",I99,"") | X99: =IF(V99="","",COUNTIF($V$7:V99,"該当３"))
A100: 1320300000 | B100: 13 | C100: 203 | D100: 0 | E100: 0 | F100: 東京都 | G100: 武蔵野市 | K100: =IF(AND($C100>0,$H100=""),"ﾘｽﾄ１","") -> ﾘｽﾄ１ | L100: =IF(K100="ﾘｽﾄ１",G100,"") -> 武蔵野市 | M100: =IF(K100="","",COUNTIF($K$7:K100,"ﾘｽﾄ１")) -> 26 | N100: =IF(AND(D100=0,E100>0),"同一区","") | O100: =IF(AND(EXACT($K$2,G100),H100>0),"該当１","") | P100: =IF(O100="該当１",G100,"") | Q100: =IF(O100="該当１","ﾘｽﾄ2","") | R100: =IF(Q100="ﾘｽﾄ2",H100,"") | S100: =IF(AND(Q100="ﾘｽﾄ2",OR(I100=0,AND(N100="同一区",E100=1))),"該当２","") | T100: =IF(S100="該当２",H100,"") | U100: =IF(S100="","",COUNTIF($S$7:S100,"該当２")) | V100: =IF(AND($S$2=H100,E100>0,E100<998),"該当３","") | W100: =IF(V100="該当３",I100,"") | X100: =IF(V100="","",COUNTIF($V$7:V100,"該当３"))
A101: 1320300001 | B101: 13 | C101: 203 | D101: 0 | E101: 1 | F101: 東京都 | G101: 武蔵野市 | H101: 武蔵野市 | I101: 本宿 | K101: =IF(AND($C101>0,$H101=""),"ﾘｽﾄ１","") | L101: =IF(K101="ﾘｽﾄ１",G101,"") | M101: =IF(K101="","",COUNTIF($K$7:K101,"ﾘｽﾄ１")) | N101: =IF(AND(D101=0,E101>0),"同一区","") -> 同一区 | O101: =IF(AND(EXACT($K$2,G101),H101>0),"該当１","") | P101: =IF(O101="該当１",G101,"") | Q101: =IF(O101="該当１","ﾘｽﾄ2","") | R101: =IF(Q101="ﾘｽﾄ2",H101,"") | S101: =IF(AND(Q101="ﾘｽﾄ2",OR(I101=0,AND(N101="同一区",E101=1))),"該当２","") | T101: =IF(S101="該当２",H101,"") | U101: =IF(S101="","",COUNTIF($S$7:S101,"該当２")) | V101: =IF(AND($S$2=H101,E101>0,E101<998),"該当３","") | W101: =IF(V101="該当３",I101,"") | X101: =IF(V101="","",COUNTIF($V$7:V101,"該当３"))
A102: 1320300002 | B102: 13 | C102: 203 | D102: 0 | E102: 2 | F102: 東京都 | G102: 武蔵野市 | H102: 武蔵野市 | I102: 野田第１ | K102: =IF(AND($C102>0,$H102=""),"ﾘｽﾄ１","") | L102: =IF(K102="ﾘｽﾄ１",G102,"") | M102: =IF(K102="","",COUNTIF($K$7:K102,"ﾘｽﾄ１")) | N102: =IF(AND(D102=0,E102>0),"同一区","") -> 同一区 | O102: =IF(AND(EXACT($K$2,G102),H102>0),"該当１","") | P102: =IF(O102="該当１",G102,"") | Q102: =IF(O102="該当１","ﾘｽﾄ2","") | R102: =IF(Q102="ﾘｽﾄ2",H102,"") | S102: =IF(AND(Q102="ﾘｽﾄ2",OR(I102=0,AND(N102="同一区",E102=1))),"該当２","") | T102: =IF(S102="該当２",H102,"") | U102: =IF(S102="","",COUNTIF($S$7:S102,"該当２")) | V102: =IF(AND($S$2=H102,E102>0,E102<998),"該当３","") | W102: =IF(V102="該当３",I102,"") | X102: =IF(V102="","",COUNTIF($V$7:V102,"該当３"))
...

Sheet 2010年
A1: 都道府県名（支庁名） | B1: 市区町村名 | C1: 旧市区町村名 | D1: 農業集落名 | E1: 総農家数 | M1: （７）年齢別の農業従事者数（自営農業に従事した世帯員数）男女計 | AC1: 農業従事者の平均年齢 | AF1: 年齢別の農業就業人口（自営農業に主として従事した世帯員数）男女計 | AV1: 農業就業人口 | AY1: （11）年齢別の基幹的農業従事者数（自営農業に主として従事した世帯員のうち仕事が主の世帯員数）男女計 | BO1: 基幹的農業従事者 平均年齢 | BR1: （２）年齢別の経営者数男女計 | CH1: ウ後継者がいる経営者 | CV1: 家族経営構成別農家数 | DC1: （６）過去１年間の生活の主な状態別世帯員数 | DH1: 男女計 | DK1: （４）農産物販売金額１位の部門別農家数 | EA1: （１）経営耕地の状況 | EF1: （６）過去１年間の生活の主な状態別世帯員数(男) | EN1: （６）過去１年間の生活の主な状態別世帯員数(女)
F2: 販売農家数 | L2: 自給的農家 | M2: 計 | N2: 15～19歳 | O2: 20～24 | P2: 25～29 | Q2: 30～34 | R2: 35～39 | S2: 40～44 | T2: 45～49 | U2: 50～54 | V2: 55～59 | W2: 60～64 | X2: 65～69 | Y2: 70～74 | Z2: 75～79 | AA2: 80～84 | AB2: 85歳以上 | AC2: 男女計 | AD2: 男 | AE2: 女 | AF2: 計 | AG2: 15～19歳 | AH2: 20～24 | AI2: 25～29 | AJ2: 30～34 | AK2: 35～39 | AL2: 40～44 | AM2: 45～49 | AN2: 50～54 | AO2: 55～59 | AP2: 60～64 | AQ2: 65～69 | AR2: 70～74 | AS2: 75～79 | AT2: 80～84 | AU2: 85歳以上 | AY2: 計 | AZ2: 15～19歳 | BA2: 20～24 | BB2: 25～29 | BC2: 30～34 | BD2: 35～39 | BE2: 40～44 | BF2: 45～49 | BG2: 50～54 | BH2: 55～59 | BI2: 60～64 | BJ2: 65～69 | BK2: 70～74 | BL2: 75～79 | BM2: 80～84 | BN2: 85歳以上 | BR2: 計 | BS2: 15～19歳 | BT2: 20～24 | BU2: 25～29 | BV2: 30～34 | BW2: 35～39 | BX2: 40～44 | BY2: 45～49 | BZ2: 50～54 | CA2: 55～59 | CB2: 60～64 | CC2: 65～69 | CD2: 70～74 | CE2: 75～79 | CF2: 80～84 | CG2: 85歳以上 | CH2: 計 | CI2: 30歳未満 | CJ2: 30～34 | CK2: 35～39 | CL2: 40～44 | CM2: 45～49 | CN2: 50～54 | CO2: 55～59 | CP2: 60～64 | CQ2: 65～69 | CR2: 70～74 | CS2: 75～79 | CT2: 80～84 | CU2: 85歳以上 | DD2: 主に仕事 | DN2: 雑穀・ | EA2: 経営耕地 のある 農家数 | EB2: 経営耕地 総面積 | EC2: 田 | ED2: 畑（樹園地を除く） | EE2: 樹園地 | EF2: 計 | EG2: 主に仕事 | EK2: 主に家事 ・育児 | EL2: 学生 | EM2: その他 | EN2: 計 | EO2: 主に仕事 | ES2: 主に家事 ・育児 | ET2: 学生 | EU2: その他
G3: 主業農家 | I3: 準主業農家 | K3: 副業的農家 | AV3: 男女計の 平均年齢 | AW3: 男の 平均年齢 | AX3: 女の 平均年齢 | BO3: 男女計 | BP3: 男 | BQ3: 女 | DC3: 計 | DD3: 小計 | DE3: 自営農業 が主 | DF3: 勤務が主 | DG3: 農業以外の | DH3: 主に家事 ・育児 | DI3: 学生 | DJ3: その他 | DK3: 計 | DL3: 稲作 | DM3: 麦類作 | DN3: いも類 | DO3: 工芸農作物 | DP3: 露地野菜 | DQ3: 施設野菜 | DR3: 果樹類 | DS3: 花き・花木 | DT3: その他の 作物 | DU3: 酪農 | DV3: 肉用牛 | DW3: 養豚 | DX3: 養鶏 | DY3: 養蚕 | DZ3: その他の 畜産 | EG3: 小計 | EH3: 自営農業 が主 | EI3: 勤務が主 | EJ3: 農業以外の 自営業が主 | EO3: 小計 | EP3: 自営農業 が主 | EQ3: 勤務が主 | ER3: 農業以外の 自営業が主
H4: 65歳未満の農業専従者がいる | J4: 65歳未満の農業専従者がいる | DG4: 自営業が主 | DN4: ・豆類
A6: 東京都 | E6: 13099 | F6: 6812 | G6: 2106 | H6: 1937 | I6: 1943 | J6: 1302 | K6: 2763 | L6: 6287 | M6: 18428 | N6: 237 | O6: 475 | P6: 524 | Q6: 532 | R6: 827 | S6: 1013 | T6: 1397 | U6: 1648 | V6: 1888 | W6: 1850 | X6: 1714 | Y6: 1948 | Z6: 1992 | AA6: 1551 | AB6: 832 | AC6: 59.7 | AD6: 58.5 | AE6: 61.1 | AF6: 12965 | AG6: 57 | AH6: 93 | AI6: 182 | AJ6: 252 | AK6: 462 | AL6: 629 | AM6: 812 | AN6: 997 | AO6: 1224 | AP6: 1347 | AQ6: 1398 | AR6: 1687 | AS6: 1775 | AT6: 1345 | AU6: 705 | AV6: 63.8 | AW6: 63 | AX6: 64.6 | AY6: 10686 | AZ6: 1 | BA6: 35 | BB6: 152 | BC6: 205 | BD6: 340 | BE6: 502 | BF6: 647 | BG6: 845 | BH6: 1070 | BI6: 1158 | BJ6: 1209 | BK6: 1435 | BL6: 1514 | BM6: 1084 | BN6: 489 | BO6: 64.1 | BP6: 62.9 | BQ6: 66 | BR6: 6812 | BS6: - | BT6: - | BU6: 6 | BV6: 9 | BW6: 47 | BX6: 90 | BY6: 225 | BZ6: 413 | CA6: 704 | CB6: 874 | CC6: 845 | CD6: 1003 | CE6: 1160 | CF6: 894 | CG6: 542 | CH6: 4291 | CI6: - | CJ6: - | CK6: 5 | CL6: 11 | CM6: 62 | CN6: 170 | CO6: 360 | CP6: 537 | CQ6: 531 | CR6: 682 | CS6: 814 | CT6: 662 | CU6: 457 | DC6: 24758 | DD6: 16241 | DE6: 10689 | DF6: 4383 | DG6: 1169 | DH6: 3711 | DI6: 2268 | DJ6: 2538 | DK6: 5977 | DL6: 102 | DM6: 11 | DN6: 182 | DO6: 108 | DP6: 3089 | DQ6: 328 | DR6: 842 | DS6: 1062 | DT6: 128 | DU6: 58 | DV6: 14 | DW6: 13 | DX6: 33 | DY6: 2 | DZ6: 5 | EA6: 6787 | EB6: 479105 | EC6: 28126 | ED6: 314230 | EE6: 136749 | EF6: 12300 | EG6: 10039 | EH6: 6681 | EI6: 2629 | EJ6: 729 | EK6: 34 | EL6: 1194 | EM6: 1033 | EN6: 12458 | EO6: 6202 | EP6: 4008 | EQ6: 1754 | ER6: 440 | ES6: 3677 | ET6: 1074 | EU6: 1505
A7: 東京都 | B7: 千代田区 | C7: 千代田区 | E7: - | F7: - | G7: - | H7: - | I7: - | J7: - | K7: - | L7: - | M7: - | N7: - | O7: - | P7: - | Q7: - | R7: - | S7: - | T7: - | U7: - | V7: - | W7: - | X7: - | Y7: - | Z7: - | AA7: - | AB7: - | AC7: - | AD7: - | AE7: - | AF7: - | AG7: - | AH7: - | AI7: - | AJ7: - | AK7: - | AL7: - | AM7: - | AN7: - | AO7: - | AP7: - | AQ7: - | AR7: - | AS7: - | AT7: - | AU7: - | AV7: - | AW7: - | AX7: - | AY7: - | AZ7: - | BA7: - | BB7: - | BC7: - | BD7: - | BE7: - | BF7: - | BG7: - | BH7: - | BI7: - | BJ7: - | BK7: - | BL7: - | BM7: - | BN7: - | BO7: - | BP7: - | BQ7: - | BR7: - | BS7: - | BT7: - | BU7: - | BV7: - | BW7: - | BX7: - | BY7: - | BZ7: - | CA7: - | CB7: - | CC7: - | CD7: - | CE7: - | CF7: - | CG7: - | CH7: - | CI7: - | CJ7: - | CK7: - | CL7: - | CM7: - | CN7: - | CO7: - | CP7: - | CQ7: - | CR7: - | CS7: - | CT7: - | CU7: - | CV7: - | CW7: - | CX7: - | CY7: - | CZ7: - | DA7: - | DB7: - | DC7: - | DD7: - | DE7: - | DF7: - | DG7: - | DH7: - | DI7: - | DJ7: - | DK7: - | DL7: - | DM7: - | DN7: - | DO7: - | DP7: - | DQ7: - | DR7: - | DS7: - | DT7: - | DU7: - | DV7: - | DW7: - | DX7: - | DY7: - | DZ7: - | EA7: - | EB7: - | EC7: - | ED7: - | EE7: - | EF7: - | EG7: - | EH7: - | EI7: - | EJ7: - | EK7: - | EL7: - | EM7: - | EN7: - | EO7: - | EP7: - | EQ7: - | ER7: - | ES7: - | ET7: - | EU7: -
A8: 東京都 | B8: 千代田区 | C8: 千代田区 | D8: 千代田区全域 | E8: - | F8: - | G8: - | H8: - | I8: - | J8: - | K8: - | L8: - | M8: - | N8: - | O8: - | P8: - | Q8: - | R8: - | S8: - | T8: - | U8: - | V8: - | W8: - | X8: - | Y8: - | Z8: - | AA8: - | AB8: - | AC8: … | AD8: … | AE8: … | AF8: - | AG8: - | AH8: - | AI8: - | AJ8: - | AK8: - | AL8: - | AM8: - | AN8: - | AO8: - | AP8: - | AQ8: - | AR8: - | AS8: - | AT8: - | AU8: - | AV8: … | AW8: … | AX8: … | AY8: - | AZ8: - | BA8: - | BB8: - | BC8: - | BD8: - | BE8: - | BF8: - | BG8: - | BH8: - | BI8: - | BJ8: - | BK8: - | BL8: - | BM8: - | BN8: - | BO8: … | BP8: … | BQ8: … | BR8: - | BS8: - | BT8: - | BU8: - | BV8: - | BW8: - | BX8: - | BY8: - | BZ8: - | CA8: - | CB8: - | CC8: - | CD8: - | CE8: - | CF8: - | CG8: - | CH8: - | CI8: - | CJ8: - | CK8: - | CL8: - | CM8: - | CN8: - | CO8: - | CP8: - | CQ8: - | CR8: - | CS8: - | CT8: - | CU8: - | DC8: - | DD8: - | DE8: - | DF8: - | DG8: - | DH8: - | DI8: - | DJ8: - | DK8: - | DL8: - | DM8: - | DN8: - | DO8: - | DP8: - | DQ8: - | DR8: - | DS8: - | DT8: - | DU8: - | DV8: - | DW8: - | DX8: - | DY8: - | DZ8: - | EA8: - | EB8: - | EC8: - | ED8: - | EE8: - | EF8: - | EG8: - | EH8: - | EI8: - | EJ8: - | EK8: - | EL8: - | EM8: - | EN8: - | EO8: - | EP8: - | EQ8: - | ER8: - | ES8: - | ET8: - | EU8: -
A9: 東京都 | B9: 中央区 | C9: 中央区 | E9: 2 | F9: - | G9: - | H9: - | I9: - | J9: - | K9: - | L9: 2 | M9: - | N9: - | O9: - | P9: - | Q9: - | R9: - | S9: - | T9: - | U9: - | V9: - | W9: - | X9: - | Y9: - | Z9: - | AA9: - | AB9: - | AC9: - | AD9: - | AE9: - | AF9: - | AG9: - | AH9: - | AI9: - | AJ9: - | AK9: - | AL9: - | AM9: - | AN9: - | AO9: - | AP9: - | AQ9: - | AR9: - | AS9: - | AT9: - | AU9: - | AV9: - | AW9: - | AX9: - | AY9: - | AZ9: - | BA9: - | BB9: - | BC9: - | BD9: - | BE9: - | BF9: - | BG9: - | BH9: - | BI9: - | BJ9: - | BK9: - | BL9: - | BM9: - | BN9: - | BO9: - | BP9: - | BQ9: - | BR9: - | BS9: - | BT9: - | BU9: - | BV9: - | BW9: - | BX9: - | BY9: - | BZ9: - | CA9: - | CB9: - | CC9: - | CD9: - | CE9: - | CF9: - | CG9: - | CH9: - | CI9: - | CJ9: - | CK9: - | CL9: - | CM9: - | CN9: - | CO9: - | CP9: - | CQ9: - | CR9: - | CS9: - | CT9: - | CU9: - | CV9: - | CW9: - | CX9: - | CY9: - | CZ9: - | DA9: - | DB9: - | DC9: - | DD9: - | DE9: - | DF9: - | DG9: - | DH9: - | DI9: - | DJ9: - | DK9: - | DL9: - | DM9: - | DN9: - | DO9: - | DP9: - | DQ9: - | DR9: - | DS9: - | DT9: - | DU9: - | DV9: - | DW9: - | DX9: - | DY9: - | DZ9: - | EA9: - | EB9: - | EC9: - | ED9: - | EE9: - | EF9: - | EG9: - | EH9: - | EI9: - | EJ9: - | EK9: - | EL9: - | EM9: - | EN9: - | EO9: - | EP9: - | EQ9: - | ER9: - | ES9: - | ET9: - | EU9: -
A10: 東京都 | B10: 中央区 | C10: 中央区 | D10: 中央区全域 | E10: 2 | F10: - | G10: - | H10: - | I10: - | J10: - | K10: - | L10: 2 | M10: - | N10: - | O10: - | P10: - | Q10: - | R10: - | S10: - | T10: - | U10: - | V10: - | W10: - | X10: - | Y10: - | Z10: - | AA10: - | AB10: - | AC10: … | AD10: … | AE10: … | AF10: - | AG10: - | AH10: - | AI10: - | AJ10: - | AK10: - | AL10: - | AM10: - | AN10: - | AO10: - | AP10: - | AQ10: - | AR10: - | AS10: - | AT10: - | AU10: - | AV10: … | AW10: … | AX10: … | AY10: - | AZ10: - | BA10: - | BB10: - | BC10: - | BD10: - | BE10: - | BF10: - | BG10: - | BH10: - | BI10: - | BJ10: - | BK10: - | BL10: - | BM10: - | BN10: - | BO10: … | BP10: … | BQ10: … | BR10: - | BS10: - | BT10: - | BU10: - | BV10: - | BW10: - | BX10: - | BY10: - | BZ10: - | CA10: - | CB10: - | CC10: - | CD10: - | CE10: - | CF10: - | CG10: - | CH10: - | CI10: - | CJ10: - | CK10: - | CL10: - | CM10: - | CN10: - | CO10: - | CP10: - | CQ10: - | CR10: - | CS10: - | CT10: - | CU10: - | DC10: - | DD10: - | DE10: - | DF10: - | DG10: - | DH10: - | DI10: - | DJ10: - | DK10: - | DL10: - | DM10: - | DN10: - | DO10: - | DP10: - | DQ10: - | DR10: - | DS10: - | DT10: - | DU10: - | DV10: - | DW10: - | DX10: - | DY10: - | DZ10: - | EA10: - | EB10: - | EC10: - | ED10: - | EE10: - | EF10: - | EG10: - | EH10: - | EI10: - | EJ10: - | EK10: - | EL10: - | EM10: - | EN10: - | EO10: - | EP10: - | EQ10: - | ER10: - | ES10: - | ET10: - | EU10: -
A11: 東京都 | B11: 港区 | C11: 港区 | E11: 1 | F11: 1 | G11: x | H11: x | I11: x | J11: x | K11: x | L11: - | M11: x | N11: x | O11: x | P11: x | Q11: x | R11: x | S11: x | T11: x | U11: x | V11: x | W11: x | X11: x | Y11: x | Z11: x | AA11: x | AB11: x | AC11: x | AD11: x | AE11: x | AF11: x | AG11: x | AH11: x | AI11: x | AJ11: x | AK11: x | AL11: x | AM11: x | AN11: x | AO11: x | AP11: x | AQ11: x | AR11: x | AS11: x | AT11: x | AU11: x | AV11: x | AW11: x | AX11: x | AY11: x | AZ11: x | BA11: x | BB11: x | BC11: x | BD11: x | BE11: x | BF11: x | BG11: x | BH11: x | BI11: x | BJ11: x | BK11: x | BL11: x | BM11: x | BN11: x | BO11: x | BP11: x | BQ11: x | BR11: x | BS11: x | BT11: x | BU11: x | BV11: x | BW11: x | BX11: x | BY11: x | BZ11: x | CA11: x | CB11: x | CC11: x | CD11: x | CE11: x | CF11: x | CG11: x | CH11: x | CI11: x | CJ11: x | CK11: x | CL11: x | CM11: x | CN11: x | CO11: x | CP11: x | CQ11: x | CR11: x | CS11: x | CT11: x | CU11: x | DC11: x | DD11: x | DE11: x | DF11: x | DG11: x | DH11: x | DI11: x | DJ11: x | DK11: x | DL11: x | DM11: x | DN11: x | DO11: x | DP11: x | DQ11: x | DR11: x | DS11: x | DT11: x | DU11: x | DV11: x | DW11: x | DX11: x | DY11: x | DZ11: x | EA11: x | EB11: x | EC11: x | ED11: x | EE11: x | EF11: x | EG11: x | EH11: x | EI11: x | EJ11: x | EK11: x | EL11: x | EM11: x | EN11: x | EO11: x | EP11: x | EQ11: x | ER11: x | ES11: x | ET11: x | EU11: x
A12: 東京都 | B12: 港区 | C12: 港区 | D12: 港区全域 | E12: 1 | F12: 1 | G12: x | H12: x | I12: x | J12: x | K12: x | L12: - | M12: x | N12: x | O12: x | P12: x | Q12: x | R12: x | S12: x | T12: x | U12: x | V12: x | W12: x | X12: x | Y12: x | Z12: x | AA12: x | AB12: x | AC12: 65 | AD12: 67 | AE12: 63 | AF12: x | AG12: x | AH12: x | AI12: x | AJ12: x | AK12: x | AL12: x | AM12: x | AN12: x | AO12: x | AP12: x | AQ12: x | AR12: x | AS12: x | AT12: x | AU12: x | AV12: 63 | AW12: … | AX12: 63 | AY12: x | AZ12: x | BA12: x | BB12: x | BC12: x | BD12: x | BE12: x | BF12: x | BG12: x | BH12: x | BI12: x | BJ12: x | BK12: x | BL12: x | BM12: x | BN12: x | BO12: … | BP12: … | BQ12: … | BR12: 1 | BS12: - | BT12: - | BU12: - | BV12: - | BW12: - | BX12: - | BY12: - | BZ12: - | CA12: - | CB12: - | CC12: 1 | CD12: - | CE12: - | CF12: - | CG12: - | CH12: 1 | CI12: - | CJ12: - | CK12: - | CL12: - | CM12: - | CN12: - | CO12: - | CP12: - | CQ12: 1 | CR12: - | CS12: - | CT12: - | CU12: - | DC12: 3 | DD12: 1 | DE12: - | DF12: - | DG12: 1 | DH12: 1 | DI12: 1 | DJ12: - | DK12: 1 | DL12: - | DM12: - | DN12: - | DO12: - | DP12: 1 | DQ12: - | DR12: - | DS12: - | DT12: - | DU12: - | DV12: - | DW12: - | DX12: - | DY12: - | DZ12: - | EA12: 1 | EB12: 40 | EC12: 30 | ED12: 10 | EE12: - | EF12: 2 | EG12: 1 | EH12: - | EI12: - | EJ12: 1 | EK12: - | EL12: 1 | EM12: - | EN12: 1 | EO12: - | EP12: - | EQ12: - | ER12: - | ES12: 1 | ET12: - | EU12: -
A13: 東京都 | B13: 新宿区 | C13: 新宿区 | E13: 1 | F13: - | G13: - | H13: - | I13: - | J13: - | K13: - | L13: 1 | M13: - | N13: - | O13: - | P13: - | Q13: - | R13: - | S13: - | T13: - | U13: - | V13: - | W13: - | X13: - | Y13: - | Z13: - | AA13: - | AB13: - | AC13: - | AD13: - | AE13: - | AF13: - | AG13: - | AH13: - | AI13: - | AJ13: - | AK13: - | AL13: - | AM13: - | AN13: - | AO13: - | AP13: - | AQ13: - | AR13: - | AS13: - | AT13: - | AU13: - | AV13: - | AW13: - | AX13: - | AY13: - | AZ13: - | BA13: - | BB13: - | BC13: - | BD13: - | BE13: - | BF13: - | BG13: - | BH13: - | BI13: - | BJ13: - | BK13: - | BL13: - | BM13: - | BN13: - | BO13: - | BP13: - | BQ13: - | BR13: - | BS13: - | BT13: - | BU13: - | BV13: - | BW13: - | BX13: - | BY13: - | BZ13: - | CA13: - | CB13: - | CC13: - | CD13: - | CE13: - | CF13: - | CG13: - | CH13: - | CI13: - | CJ13: - | CK13: - | CL13: - | CM13: - | CN13: - | CO13: - | CP13: - | CQ13: - | CR13: - | CS13: - | CT13: - | CU13: - | DC13: - | DD13: - | DE13: - | DF13: - | DG13: - | DH13: - | DI13: - | DJ13: - | DK13: - | DL13: - | DM13: - | DN13: - | DO13: - | DP13: - | DQ13: - | DR13: - | DS13: - | DT13: - | DU13: - | DV13: - | DW13: - | DX13: - | DY13: - | DZ13: - | EA13: - | EB13: - | EC13: - | ED13: - | EE13: - | EF13: - | EG13: - | EH13: - | EI13: - | EJ13: - | EK13: - | EL13: - | EM13: - | EN13: - | EO13: - | EP13: - | EQ13: - | ER13: - | ES13: - | ET13: - | EU13: -
A14: 東京都 | B14: 新宿区 | C14: 新宿区 | D14: 新宿区全域 | E14: 1 | F14: - | G14: - | H14: - | I14: - | J14: - | K14: - | L14: 1 | M14: - | N14: - | O14: - | P14: - | Q14: - | R14: - | S14: - | T14: - | U14: - | V14: - | W14: - | X14: - | Y14: - | Z14: - | AA14: - | AB14: - | AC14: … | AD14: … | AE14: … | AF14: - | AG14: - | AH14: - | AI14: - | AJ14: - | AK14: - | AL14: - | AM14: - | AN14: - | AO14: - | AP14: - | AQ14: - | AR14: - | AS14: - | AT14: - | AU14: - | AV14: … | AW14: … | AX14: … | AY14: - | AZ14: - | BA14: - | BB14: - | BC14: - | BD14: - | BE14: - | BF14: - | BG14: - | BH14: - | BI14: - | BJ14: - | BK14: - | BL14: - | BM14: - | BN14: - | BO14: … | BP14: … | BQ14: … | BR14: - | BS14: - | BT14: - | BU14: - | BV14: - | BW14: - | BX14: - | BY14: - | BZ14: - | CA14: - | CB14: - | CC14: - | CD14: - | CE14: - | CF14: - | CG14: - | CH14: - | CI14: - | CJ14: - | CK14: - | CL14: - | CM14: - | CN14: - | CO14: - | CP14: - | CQ14: - | CR14: - | CS14: - | CT14: - | CU14: - | DC14: - | DD14: - | DE14: - | DF14: - | DG14: - | DH14: - | DI14: - | DJ14: - | DK14: - | DL14: - | DM14: - | DN14: - | DO14: - | DP14: - | DQ14: - | DR14: - | DS14: - | DT14: - | DU14: - | DV14: - | DW14: - | DX14: - | DY14: - | DZ14: - | EA14: - | EB14: - | EC14: - | ED14: - | EE14: - | EF14: - | EG14: - | EH14: - | EI14: - | EJ14: - | EK14: - | EL14: - | EM14: - | EN14: - | EO14: - | EP14: - | EQ14: - | ER14: - | ES14: - | ET14: - | EU14: -
A15: 東京都 | B15: 文京区 | C15: 文京区 | E15: 1 | F15: 1 | G15: x | H15: x | I15: x | J15: x | K15: x | L15: - | M15: x | N15: x | O15: x | P15: x | Q15: x | R15: x | S15: x | T15: x | U15: x | V15: x | W15: x | X15: x | Y15: x | Z15: x | AA15: x | AB15: x | AC15: x | AD15: x | AE15: x | AF15: x | AG15: x | AH15: x | AI15: x | AJ15: x | AK15: x | AL15: x | AM15: x | AN15: x | AO15: x | AP15: x | AQ15: x | AR15: x | AS15: x | AT15: x | AU15: x | AV15: x | AW15: x | AX15: x | AY15: x | AZ15: x | BA15: x | BB15: x | BC15: x | BD15: x | BE15: x | BF15: x | BG15: x | BH15: x | BI15: x | BJ15: x | BK15: x | BL15: x | BM15: x | BN15: x | BO15: x | BP15: x | BQ15: x | BR15: x | BS15: x | BT15: x | BU15: x | BV15: x | BW15: x | BX15: x | BY15: x | BZ15: x | CA15: x | CB15: x | CC15: x | CD15: x | CE15: x | CF15: x | CG15: x | CH15: x | CI15: x | CJ15: x | CK15: x | CL15: x | CM15: x | CN15: x | CO15: x | CP15: x | CQ15: x | CR15: x | CS15: x | CT15: x | CU15: x | DC15: x | DD15: x | DE15: x | DF15: x | DG15: x | DH15: x | DI15: x | DJ15: x | DK15: x | DL15: x | DM15: x | DN15: x | DO15: x | DP15: x | DQ15: x | DR15: x | DS15: x | DT15: x | DU15: x | DV15: x | DW15: x | DX15: x | DY15: x | DZ15: x | EA15: x | EB15: x | EC15: x | ED15: x | EE15: x | EF15: x | EG15: x | EH15: x | EI15: x | EJ15: x | EK15: x | EL15: x | EM15: x | EN15: x | EO15: x | EP15: x | EQ15: x | ER15: x | ES15: x | ET15: x | EU15: x
A16: 東京都 | B16: 文京区 | C16: 文京区 | D16: 文京区全域 | E16: 1 | F16: 1 | G16: x | H16: x | I16: x | J16: x | K16: x | L16: - | M16: x | N16: x | O16: x | P16: x | Q16: x | R16: x | S16: x | T16: x | U16: x | V16: x | W16: x | X16: x | Y16: x | Z16: x | AA16: x | AB16: x | AC16: … | AD16: … | AE16: … | AF16: x | AG16: x | AH16: x | AI16: x | AJ16: x | AK16: x | AL16: x | AM16: x | AN16: x | AO16: x | AP16: x | AQ16: x | AR16: x | AS16: x | AT16: x | AU16: x | AV16: … | AW16: … | AX16: … | AY16: x | AZ16: x | BA16: x | BB16: x | BC16: x | BD16: x | BE16: x | BF16: x | BG16: x | BH16: x | BI16: x | BJ16: x | BK16: x | BL16: x | BM16: x | BN16: x | BO16: … | BP16: … | BQ16: … | BR16: 1 | BS16: - | BT16: - | BU16: - | BV16: - | BW16: - | BX16: - | BY16: - | BZ16: - | CA16: - | CB16: - | CC16: 1 | CD16: - | CE16: - | CF16: - | CG16: - | CH16: - | CI16: - | CJ16: - | CK16: - | CL16: - | CM16: - | CN16: - | CO16: - | CP16: - | CQ16: - | CR16: - | CS16: - | CT16: - | CU16: - | DC16: 1 | DD16: 1 | DE16: - | DF16: 1 | DG16: - | DH16: - | DI16: - | DJ16: - | DK16: 1 | DL16: - | DM16: - | DN16: - | DO16: - | DP16: - | DQ16: - | DR16: 1 | DS16: - | DT16: - | DU16: - | DV16: - | DW16: - | DX16: - | DY16: - | DZ16: - | EA16: 1 | EB16: 318 | EC16: - | ED16: - | EE16: 318 | EF16: - | EG16: - | EH16: - | EI16: - | EJ16: - | EK16: - | EL16: - | EM16: - | EN16: 1 | EO16: 1 | EP16: - | EQ16: 1 | ER16: - | ES16: - | ET16: - | EU16: -
A17: 東京都 | B17: 台東区 | C17: 台東区 | E17: 1 | F17: - | G17: - | H17: - | I17: - | J17: - | K17: - | L17: 1 | M17: - | N17: - | O17: - | P17: - | Q17: - | R17: - | S17: - | T17: - | U17: - | V17: - | W17: - | X17: - | Y17: - | Z17: - | AA17: - | AB17: - | AC17: - | AD17: - | AE17: - | AF17: - | AG17: - | AH17: - | AI17: - | AJ17: - | AK17: - | AL17: - | AM17: - | AN17: - | AO17: - | AP17: - | AQ17: - | AR17: - | AS17: - | AT17: - | AU17: - | AV17: - | AW17: - | AX17: - | AY17: - | AZ17: - | BA17: - | BB17: - | BC17: - | BD17: - | BE17: - | BF17: - | BG17: - | BH17: - | BI17: - | BJ17: - | BK17: - | BL17: - | BM17: - | BN17: - | BO17: - | BP17: - | BQ17: - | BR17: - | BS17: - | BT17: - | BU17: - | BV17: - | BW17: - | BX17: - | BY17: - | BZ17: - | CA17: - | CB17: - | CC17: - | CD17: - | CE17: - | CF17: - | CG17: - | CH17: - | CI17: - | CJ17: - | CK17: - | CL17: - | CM17: - | CN17: - | CO17: - | CP17: - | CQ17: - | CR17: - | CS17: - | CT17: - | CU17: - | CV17: - | CW17: - | CX17: - | CY17: - | CZ17: - | DA17: - | DB17: - | DC17: - | DD17: - | DE17: - | DF17: - | DG17: - | DH17: - | DI17: - | DJ17: - | DK17: - | DL17: - | DM17: - | DN17: - | DO17: - | DP17: - | DQ17: - | DR17: - | DS17: - | DT17: - | DU17: - | DV17: - | DW17: - | DX17: - | DY17: - | DZ17: - | EA17: - | EB17: - | EC17: - | ED17: - | EE17: - | EF17: - | EG17: - | EH17: - | EI17: - | EJ17: - | EK17: - | EL17: - | EM17: - | EN17: - | EO17: - | EP17: - | EQ17: - | ER17: - | ES17: - | ET17: - | EU17: -
A18: 東京都 | B18: 台東区 | C18: 台東区 | D18: 台東区全域 | E18: 1 | F18: - | G18: - | H18: - | I18: - | J18: - | K18: - | L18: 1 | M18: - | N18: - | O18: - | P18: - | Q18: - | R18: - | S18: - | T18: - | U18: - | V18: - | W18: - | X18: - | Y18: - | Z18: - | AA18: - | AB18: - | AC18: … | AD18: … | AE18: … | AF18: - | AG18: - | AH18: - | AI18: - | AJ18: - | AK18: - | AL18: - | AM18: - | AN18: - | AO18: - | AP18: - | AQ18: - | AR18: - | AS18: - | AT18: - | AU18: - | AV18: … | AW18: … | AX18: … | AY18: - | AZ18: - | BA18: - | BB18: - | BC18: - | BD18: - | BE18: - | BF18: - | BG18: - | BH18: - | BI18: - | BJ18: - | BK18: - | BL18: - | BM18: - | BN18: - | BO18: … | BP18: … | BQ18: … | BR18: - | BS18: - | BT18: - | BU18: - | BV18: - | BW18: - | BX18: - | BY18: - | BZ18: - | CA18: - | CB18: - | CC18: - | CD18: - | CE18: - | CF18: - | CG18: - | CH18: - | CI18: - | CJ18: - | CK18: - | CL18: - | CM18: - | CN18: - | CO18: - | CP18: - | CQ18: - | CR18: - | CS18: - | CT18: - | CU18: - | DC18: - | DD18: - | DE18: - | DF18: - | DG18: - | DH18: - | DI18: - | DJ18: - | DK18: - | DL18: - | DM18: - | DN18: - | DO18: - | DP18: - | DQ18: - | DR18: - | DS18: - | DT18: - | DU18: - | DV18: - | DW18: - | DX18: - | DY18: - | DZ18: - | EA18: - | EB18: - | EC18: - | ED18: - | EE18: - | EF18: - | EG18: - | EH18: - | EI18: - | EJ18: - | EK18: - | EL18: - | EM18: - | EN18: - | EO18: - | EP18: - | EQ18: - | ER18: - | ES18: - | ET18: - | EU18: -
A19: 東京都 | B19: 墨田区 | C19: 墨田区 | E19: - | F19: - | G19: - | H19: - | I19: - | J19: - | K19: - | L19: - | M19: - | N19: - | O19: - | P19: - | Q19: - | R19: - | S19: - | T19: - | U19: - | V19: - | W19: - | X19: - | Y19: - | Z19: - | AA19: - | AB19: - | AC19: - | AD19: - | AE19: - | AF19: - | AG19: - | AH19: - | AI19: - | AJ19: - | AK19: - | AL19: - | AM19: - | AN19: - | AO19: - | AP19: - | AQ19: - | AR19: - | AS19: - | AT19: - | AU19: - | AV19: - | AW19: - | AX19: - | AY19: - | AZ19: - | BA19: - | BB19: - | BC19: - | BD19: - | BE19: - | BF19: - | BG19: - | BH19: - | BI19: - | BJ19: - | BK19: - | BL19: - | BM19: - | BN19: - | BO19: - | BP19: - | BQ19: - | BR19: - | BS19: - | BT19: - | BU19: - | BV19: - | BW19: - | BX19: - | BY19: - | BZ19: - | CA19: - | CB19: - | CC19: - | CD19: - | CE19: - | CF19: - | CG19: - | CH19: - | CI19: - | CJ19: - | CK19: - | CL19: - | CM19: - | CN19: - | CO19: - | CP19: - | CQ19: - | CR19: - | CS19: - | CT19: - | CU19: - | DC19: - | DD19: - | DE19: - | DF19: - | DG19: - | DH19: - | DI19: - | DJ19: - | DK19: - | DL19: - | DM19: - | DN19: - | DO19: - | DP19: - | DQ19: - | DR19: - | DS19: - | DT19: - | DU19: - | DV19: - | DW19: - | DX19: - | DY19: - | DZ19: - | EA19: - | EB19: - | EC19: - | ED19: - | EE19: - | EF19: - | EG19: - | EH19: - | EI19: - | EJ19: - | EK19: - | EL19: - | EM19: - | EN19: - | EO19: - | EP19: - | EQ19: - | ER19: - | ES19: - | ET19: - | EU19: -
A20: 東京都 | B20: 墨田区 | C20: 墨田区 | D20: 墨田区全域 | E20: - | F20: - | G20: - | H20: - | I20: - | J20: - | K20: - | L20: - | M20: - | N20: - | O20: - | P20: - | Q20: - | R20: - | S20: - | T20: - | U20: - | V20: - | W20: - | X20: - | Y20: - | Z20: - | AA20: - | AB20: - | AC20: … | AD20: … | AE20: … | AF20: - | AG20: - | AH20: - | AI20: - | AJ20: - | AK20: - | AL20: - | AM20: - | AN20: - | AO20: - | AP20: - | AQ20: - | AR20: - | AS20: - | AT20: - | AU20: - | AV20: … | AW20: … | AX20: … | AY20: - | AZ20: - | BA20: - | BB20: - | BC20: - | BD20: - | BE20: - | BF20: - | BG20: - | BH20: - | BI20: - | BJ20: - | BK20: - | BL20: - | BM20: - | BN20: - | BO20: … | BP20: … | BQ20: … | BR20: - | BS20: - | BT20: - | BU20: - | BV20: - | BW20: - | BX20: - | BY20: - | BZ20: - | CA20: - | CB20: - | CC20: - | CD20: - | CE20: - | CF20: - | CG20: - | CH20: - | CI20: - | CJ20: - | CK20: - | CL20: - | CM20: - | CN20: - | CO20: - | CP20: - | CQ20: - | CR20: - | CS20: - | CT20: - | CU20: - | DC20: - | DD20: - | DE20: - | DF20: - | DG20: - | DH20: - | DI20: - | DJ20: - | DK20: - | DL20: - | DM20: - | DN20: - | DO20: - | DP20: - | DQ20: - | DR20: - | DS20: - | DT20: - | DU20: - | DV20: - | DW20: - | DX20: - | DY20: - | DZ20: - | EA20: - | EB20: - | EC20: - | ED20: - | EE20: - | EF20: - | EG20: - | EH20: - | EI20: - | EJ20: - | EK20: - | EL20: - | EM20: - | EN20: - | EO20: - | EP20: - | EQ20: - | ER20: - | ES20: - | ET20: - | EU20: -
A21: 東京都 | B21: 江東区 | C21: 江東区 | E21: 1 | F21: - | G21: - | H21: - | I21: - | J21: - | K21: - | L21: 1 | M21: - | N21: - | O21: - | P21: - | Q21: - | R21: - | S21: - | T21: - | U21: - | V21: - | W21: - | X21: - | Y21: - | Z21: - | AA21: - | AB21: - | AC21: - | AD21: - | AE21: - | AF21: - | AG21: - | AH21: - | AI21: - | AJ21: - | AK21: - | AL21: - | AM21: - | AN21: - | AO21: - | AP21: - | AQ21: - | AR21: - | AS21: - | AT21: - | AU21: - | AV21: - | AW21: - | AX21: - | AY21: - | AZ21: - | BA21: - | BB21: - | BC21: - | BD21: - | BE21: - | BF21: - | BG21: - | BH21: - | BI21: - | BJ21: - | BK21: - | BL21: - | BM21: - | BN21: - | BO21: - | BP21: - | BQ21: - | BR21: - | BS21: - | BT21: - | BU21: - | BV21: - | BW21: - | BX21: - | BY21: - | BZ21: - | CA21: - | CB21: - | CC21: - | CD21: - | CE21: - | CF21: - | CG21: - | CH21: - | CI21: - | CJ21: - | CK21: - | CL21: - | CM21: - | CN21: - | CO21: - | CP21: - | CQ21: - | CR21: - | CS21: - | CT21: - | CU21: - | DC21: - | DD21: - | DE21: - | DF21: - | DG21: - | DH21: - | DI21: - | DJ21: - | DK21: - | DL21: - | DM21: - | DN21: - | DO21: - | DP21: - | DQ21: - | DR21: - | DS21: - | DT21: - | DU21: - | DV21: - | DW21: - | DX21: - | DY21: - | DZ21: - | EA21: - | EB21: - | EC21: - | ED21: - | EE21: - | EF21: - | EG21: - | EH21: - | EI21: - | EJ21: - | EK21: - | EL21: - | EM21: - | EN21: - | EO21: - | EP21: - | EQ21: - | ER21: - | ES21: - | ET21: - | EU21: -
A22: 東京都 | B22: 江東区 | C22: 江東区 | D22: 江東区全域 | E22: 1 | F22: - | G22: - | H22: - | I22: - | J22: - | K22: - | L22: 1 | M22: - | N22: - | O22: - | P22: - | Q22: - | R22: - | S22: - | T22: - | U22: - | V22: - | W22: - | X22: - | Y22: - | Z22: - | AA22: - | AB22: - | AC22: … | AD22: … | AE22: … | AF22: - | AG22: - | AH22: - | AI22: - | AJ22: - | AK22: - | AL22: - | AM22: - | AN22: - | AO22: - | AP22: - | AQ22: - | AR22: - | AS22: - | AT22: - | AU22: - | AV22: … | AW22: … | AX22: … | AY22: - | AZ22: - | BA22: - | BB22: - | BC22: - | BD22: - | BE22: - | BF22: - | BG22: - | BH22: - | BI22: - | BJ22: - | BK22: - | BL22: - | BM22: - | BN22: - | BO22: … | BP22: … | BQ22: … | BR22: - | BS22: - | BT22: - | BU22: - | BV22: - | BW22: - | BX22: - | BY22: - | BZ22: - | CA22: - | CB22: - | CC22: - | CD22: - | CE22: - | CF22: - | CG22: - | CH22: - | CI22: - | CJ22: - | CK22: - | CL22: - | CM22: - | CN22: - | CO22: - | CP22: - | CQ22: - | CR22: - | CS22: - | CT22: - | CU22: - | DC22: - | DD22: - | DE22: - | DF22: - | DG22: - | DH22: - | DI22: - | DJ22: - | DK22: - | DL22: - | DM22: - | DN22: - | DO22: - | DP22: - | DQ22: - | DR22: - | DS22: - | DT22: - | DU22: - | DV22: - | DW22: - | DX22: - | DY22: - | DZ22: - | EA22: - | EB22: - | EC22: - | ED22: - | EE22: - | EF22: - | EG22: - | EH22: - | EI22: - | EJ22: - | EK22: - | EL22: - | EM22: - | EN22: - | EO22: - | EP22: - | EQ22: - | ER22: - | ES22: - | ET22: - | EU22: -
A23: 東京都 | B23: 江東区 | E23: @ | F23: @ | G23: @ | H23: @ | I23: @ | J23: @ | K23: @ | L23: @ | M23: @ | N23: @ | O23: @ | P23: @ | Q23: @ | R23: @ | S23: @ | T23: @ | U23: @ | V23: @ | W23: @ | X23: @ | Y23: @ | Z23: @ | AA23: @ | AB23: @ | AF23: @ | AG23: @ | AH23: @ | AI23: @ | AJ23: @ | AK23: @ | AL23: @ | AM23: @ | AN23: @ | AO23: @ | AP23: @ | AQ23: @ | AR23: @ | AS23: @ | AT23: @ | AU23: @ | AY23: @ | AZ23: @ | BA23: @ | BB23: @ | BC23: @ | BD23: @ | BE23: @ | BF23: @ | BG23: @ | BH23: @ | BI23: @ | BJ23: @ | BK23: @ | BL23: @ | BM23: @ | BN23: @
A24: 東京都 | B24: 江東区 | E24: @ | F24: @ | G24: @ | H24: @ | I24: @ | J24: @ | K24: @ | L24: @ | M24: @ | N24: @ | O24: @ | P24: @ | Q24: @ | R24: @ | S24: @ | T24: @ | U24: @ | V24: @ | W24: @ | X24: @ | Y24: @ | Z24: @ | AA24: @ | AB24: @ | AF24: @ | AG24: @ | AH24: @ | AI24: @ | AJ24: @ | AK24: @ | AL24: @ | AM24: @ | AN24: @ | AO24: @ | AP24: @ | AQ24: @ | AR24: @ | AS24: @ | AT24: @ | AU24: @ | AY24: @ | AZ24: @ | BA24: @ | BB24: @ | BC24: @ | BD24: @ | BE24: @ | BF24: @ | BG24: @ | BH24: @ | BI24: @ | BJ24: @ | BK24: @ | BL24: @ | BM24: @ | BN24: @
A25: 東京都 | B25: 品川区 | C25: 品川区 | E25: 1 | F25: - | G25: - | H25: - | I25: - | J25: - | K25: - | L25: 1 | M25: - | N25: - | O25: - | P25: - | Q25: - | R25: - | S25: - | T25: - | U25: - | V25: - | W25: - | X25: - | Y25: - | Z25: - | AA25: - | AB25: - | AC25: - | AD25: - | AE25: - | AF25: - | AG25: - | AH25: - | AI25: - | AJ25: - | AK25: - | AL25: - | AM25: - | AN25: - | AO25: - | AP25: - | AQ25: - | AR25: - | AS25: - | AT25: - | AU25: - | AV25: - | AW25: - | AX25: - | AY25: - | AZ25: - | BA25: - | BB25: - | BC25: - | BD25: - | BE25: - | BF25: - | BG25: - | BH25: - | BI25: - | BJ25: - | BK25: - | BL25: - | BM25: - | BN25: - | BO25: - | BP25: - | BQ25: - | BR25: - | BS25: - | BT25: - | BU25: - | BV25: - | BW25: - | BX25: - | BY25: - | BZ25: - | CA25: - | CB25: - | CC25: - | CD25: - | CE25: - | CF25: - | CG25: - | CH25: - | CI25: - | CJ25: - | CK25: - | CL25: - | CM25: - | CN25: - | CO25: - | CP25: - | CQ25: - | CR25: - | CS25: - | CT25: - | CU25: - | DC25: - | DD25: - | DE25: - | DF25: - | DG25: - | DH25: - | DI25: - | DJ25: - | DK25: - | DL25: - | DM25: - | DN25: - | DO25: - | DP25: - | DQ25: - | DR25: - | DS25: - | DT25: - | DU25: - | DV25: - | DW25: - | DX25: - | DY25: - | DZ25: - | EA25: - | EB25: - | EC25: - | ED25: - | EE25: - | EF25: - | EG25: - | EH25: - | EI25: - | EJ25: - | EK25: - | EL25: - | EM25: - | EN25: - | EO25: - | EP25: - | EQ25: - | ER25: - | ES25: - | ET25: - | EU25: -
A26: 東京都 | B26: 品川区 | C26: 品川区 | D26: 品川区全域 | E26: 1 | F26: - | G26: - | H26: - | I26: - | J26: - | K26: - | L26: 1 | M26: - | N26: - | O26: - | P26: - | Q26: - | R26: - | S26: - | T26: - | U26: - | V26: - | W26: - | X26: - | Y26: - | Z26: - | AA26: - | AB26: - | AC26: … | AD26: … | AE26: … | AF26: - | AG26: - | AH26: - | AI26: - | AJ26: - | AK26: - | AL26: - | AM26: - | AN26: - | AO26: - | AP26: - | AQ26: - | AR26: - | AS26: - | AT26: - | AU26: - | AV26: … | AW26: … | AX26: … | AY26: - | AZ26: - | BA26: - | BB26: - | BC26: - | BD26: - | BE26: - | BF26: - | BG26: - | BH26: - | BI26: - | BJ26: - | BK26: - | BL26: - | BM26: - | BN26: - | BO26: … | BP26: … | BQ26: … | BR26: - | BS26: - | BT26: - | BU26: - | BV26: - | BW26: - | BX26: - | BY26: - | BZ26: - | CA26: - | CB26: - | CC26: - | CD26: - | CE26: - | CF26: - | CG26: - | CH26: - | CI26: - | CJ26: - | CK26: - | CL26: - | CM26: - | CN26: - | CO26: - | CP26: - | CQ26: - | CR26: - | CS26: - | CT26: - | CU26: - | DC26: - | DD26: - | DE26: - | DF26: - | DG26: - | DH26: - | DI26: - | DJ26: - | DK26: - | DL26: - | DM26: - | DN26: - | DO26: - | DP26: - | DQ26: - | DR26: - | DS26: - | DT26: - | DU26: - | DV26: - | DW26: - | DX26: - | DY26: - | DZ26: - | EA26: - | EB26: - | EC26: - | ED26: - | EE26: - | EF26: - | EG26: - | EH26: - | EI26: - | EJ26: - | EK26: - | EL26: - | EM26: - | EN26: - | EO26: - | EP26: - | EQ26: - | ER26: - | ES26: - | ET26: - | EU26: -
A27: 東京都 | B27: 目黒区 | C27: 目黒区 | E27: 13 | F27: 8 | G27: 2 | H27: - | I27: 3 | J27: 1 | K27: 3 | L27: 5 | M27: 24 | N27: 1 | O27: 2 | P27: 1 | Q27: - | R27: 1 | S27: - | T27: 2 | U27: 3 | V27: 2 | W27: - | X27: 1 | Y27: 2 | Z27: 4 | AA27: 4 | AB27: 1 | AC27: 59 | AD27: 62 | AE27: 56.5 | AF27: 11 | AG27: - | AH27: - | AI27: - | AJ27: - | AK27: - | AL27: - | AM27: - | AN27: 1 | AO27: 1 | AP27: - | AQ27: 1 | AR27: 2 | AS27: 2 | AT27: 3 | AU27: 1 | AV27: 73.1 | AW27: 72 | AX27: 75 | AY27: 10 | AZ27: - | BA27: - | BB27: - | BC27: - | BD27: - | BE27: - | BF27: - | BG27: 1 | BH27: 1 | BI27: - | BJ27: - | BK27: 2 | BL27: 2 | BM27: 3 | BN27: 1 | BO27: 73.5 | BP27: 72 | BQ27: 77 | BR27: 8 | BS27: - | BT27: - | BU27: - | BV27: - | BW27: - | BX27: - | BY27: - | BZ27: - | CA27: 1 | CB27: - | CC27: - | CD27: 1 | CE27: 1 | CF27: 4 | CG27: 1 | CH27: 8 | CI27: - | CJ27: - | CK27: - | CL27: - | CM27: - | CN27: - | CO27: 1 | CP27: - | CQ27: - | CR27: 1 | CS27: 1 | CT27: 4 | CU27: 1 | DC27: 28 | DD27: 16 | DE27: 10 | DF27: 4 | DG27: 2 | DH27: 5 | DI27: 4 | DJ27: 3 | DK27: 8 | DL27: - | DM27: - | DN27: - | DO27: - | DP27: 5 | DQ27: - | DR27: 2 | DS27: 1 | DT27: - | DU27: - | DV27: - | DW27: - | DX27: - | DY27: - | DZ27: - | EA27: 7 | EB27: 222 | EC27: - | ED27: 154 | EE27: 68 | EF27: 12 | EG27: 10 | EH27: 7 | EI27: 2 | EJ27: 1 | EK27: - | EL27: 1 | EM27: 1 | EN27: 16 | EO27: 6 | EP27: 3 | EQ27: 2 | ER27: 1 | ES27: 5 | ET27: 3 | EU27: 2
A28: 東京都 | B28: 目黒区 | C28: 目黒区 | D28: 目黒区全域 | E28: 13 | F28: 8 | G28: 2 | H28: - | I28: 3 | J28: 1 | K28: 3 | L28: 5 | M28: 24 | N28: 1 | O28: 2 | P28: 1 | Q28: - | R28: 1 | S28: - | T28: 2 | U28: 3 | V28: 2 | W28: - | X28: 1 | Y28: 2 | Z28: 4 | AA28: 4 | AB28: 1 | AC28: 59 | AD28: 62 | AE28: 56.5 | AF28: 11 | AG28: - | AH28: - | AI28: - | AJ28: - | AK28: - | AL28: - | AM28: - | AN28: 1 | AO28: 1 | AP28: - | AQ28: 1 | AR28: 2 | AS28: 2 | AT28: 3 | AU28: 1 | AV28: 73.1 | AW28: 72 | AX28: 75 | AY28: 10 | AZ28: - | BA28: - | BB28: - | BC28: - | BD28: - | BE28: - | BF28: - | BG28: 1 | BH28: 1 | BI28: - | BJ28: - | BK28: 2 | BL28: 2 | BM28: 3 | BN28: 1 | BO28: 73.5 | BP28: 72 | BQ28: 77 | BR28: 8 | BS28: - | BT28: - | BU28: - | BV28: - | BW28: - | BX28: - | BY28: - | BZ28: - | CA28: 1 | CB28: - | CC28: - | CD28: 1 | CE28: 1 | CF28: 4 | CG28: 1 | CH28: 8 | CI28: - | CJ28: - | CK28: - | CL28: - | CM28: - | CN28: - | CO28: 1 | CP28: - | CQ28: - | CR28: 1 | CS28: 1 | CT28: 4 | CU28: 1 | DC28: 28 | DD28: 16 | DE28: 10 | DF28: 4 | DG28: 2 | DH28: 5 | DI28: 4 | DJ28: 3 | DK28: 8 | DL28: - | DM28: - | DN28: - | DO28: - | DP28: 5 | DQ28: - | DR28: 2 | DS28: 1 | DT28: - | DU28: - | DV28: - | DW28: - | DX28: - | DY28: - | DZ28: - | EA28: 7 | EB28: 222 | EC28: - | ED28: 154 | EE28: 68 | EF28: 12 | EG28: 10 | EH28: 7 | EI28: 2 | EJ28: 1 | EK28: - | EL28: 1 | EM28: 1 | EN28: 16 | EO28: 6 | EP28: 3 | EQ28: 2 | ER28: 1 | ES28: 5 | ET28: 3 | EU28: 2
A29: 東京都 | B29: 大田区 | C29: 大田区 | E29: 11 | F29: 9 | G29: 4 | H29: 4 | I29: 1 | J29: 1 | K29: 4 | L29: 2 | M29: 24 | N29: - | O29: - | P29: - | Q29: - | R29: 2 | S29: 3 | T29: 5 | U29: 1 | V29: 1 | W29: - | X29: 2 | Y29: 2 | Z29: 6 | AA29: 2 | AB29: - | AC29: 60.3 | AD29: 62.9 | AE29: 57.7 | AF29: 18 | AG29: - | AH29: - | AI29: - | AJ29: - | AK29: 1 | AL29: 1 | AM29: 4 | AN29: - | AO29: 1 | AP29: - | AQ29: 1 | AR29: 2 | AS29: 6 | AT29: 2 | AU29: - | AV29: 64.3 | AW29: 67.4 | AX29: 60.5 | AY29: 16 | AZ29: - | BA29: - | BB29: - | BC29: - | BD29: 1 | BE29: 1 | BF29: 3 | BG29: - | BH29: 1 | BI29: - | BJ29: 1 | BK29: 1 | BL29: 6 | BM29: 2 | BN29: - | BO29: 64.9 | BP29: 67.4 | BQ29: 60.8 | BR29: 9 | BS29: - | BT29: - | BU29: - | BV29: - | BW29: - | BX29: 1 | BY29: 1 | BZ29: - | CA29: - | CB29: - | CC29: - | CD29: 1 | CE29: 4 | CF29: 2 | CG29: - | CH29: 7 | CI29: - | CJ29: - | CK29: - | CL29: - | CM29: - | CN29: - | CO29: - | CP29: - | CQ29: - | CR29: 1 | CS29: 4 | CT29: 2 | CU29: - | DC29: 25 | DD29: 18 | DE29: 16 | DF29: 2 | DG29: - | DH29: 5 | DI29: - | DJ29: 2 | DK29: 9 | DL29: - | DM29: - | DN29: - | DO29: - | DP29: 5 | DQ29: - | DR29: - | DS29: 4 | DT29: - | DU29: - | DV29: - | DW29: - | DX29: - | DY29: - | DZ29: - | EA29: 9 | EB29: 713 | EC29: - | ED29: 345 | EE29: 368 | EF29: 13 | EG29: 12 | EH29: 10 | EI29: 2 | EJ29: - | EK29: - | EL29: - | EM29: 1 | EN29: 12 | EO29: 6 | EP29: 6 | EQ29: - | ER29: - | ES29: 5 | ET29: - | EU29: 1
A30: 東京都 | B30: 大田区 | C30: 大田区 | D30: 大田区全域 | E30: 11 | F30: 9 | G30: 4 | H30: 4 | I30: 1 | J30: 1 | K30: 4 | L30: 2 | M30: 24 | N30: - | O30: - | P30: - | Q30: - | R30: 2 | S30: 3 | T30: 5 | U30: 1 | V30: 1 | W30: - | X30: 2 | Y30: 2 | Z30: 6 | AA30: 2 | AB30: - | AC30: 60.3 | AD30: 62.9 | AE30: 57.7 | AF30: 18 | AG30: - | AH30: - | AI30: - | AJ30: - | AK30: 1 | AL30: 1 | AM30: 4 | AN30: - | AO30: 1 | AP30: - | AQ30: 1 | AR30: 2 | AS30: 6 | AT30: 2 | AU30: - | AV30: 64.3 | AW30: 67.4 | AX30: 60.5 | AY30: 16 | AZ30: - | BA30: - | BB30: - | BC30: - | BD30: 1 | BE30: 1 | BF30: 3 | BG30: - | BH30: 1 | BI30: - | BJ30: 1 | BK30: 1 | BL30: 6 | BM30: 2 | BN30: - | BO30: 64.9 | BP30: 67.4 | BQ30: 60.8 | BR30: 9 | BS30: - | BT30: - | BU30: - | BV30: - | BW30: - | BX30: 1 | BY30: 1 | BZ30: - | CA30: - | CB30: - | CC30: - | CD30: 1 | CE30: 4 | CF30: 2 | CG30: - | CH30: 7 | CI30: - | CJ30: - | CK30: - | CL30: - | CM30: - | CN30: - | CO30: - | CP30: - | CQ30: - | CR30: 1 | CS30: 4 | CT30: 2 | CU30: - | DC30: 25 | DD30: 18 | DE30: 16 | DF30: 2 | DG30: - | DH30: 5 | DI30: - | DJ30: 2 | DK30: 9 | DL30: - | DM30: - | DN30: - | DO30: - | DP30: 5 | DQ30: - | DR30: - | DS30: 4 | DT30: - | DU30: - | DV30: - | DW30: - | DX30: - | DY30: - | DZ30: - | EA30: 9 | EB30: 713 | EC30: - | ED30: 345 | EE30: 368 | EF30: 13 | EG30: 12 | EH30: 10 | EI30: 2 | EJ30: - | EK30: - | EL30: - | EM30: 1 | EN30: 12 | EO30: 6 | EP30: 6 | EQ30: - | ER30: - | ES30: 5 | ET30: - | EU30: 1
A31: 東京都 | B31: 大田区 | E31: @ | F31: @ | G31: @ | H31: @ | I31: @ | J31: @ | K31: @ | L31: @ | M31: @ | N31: @ | O31: @ | P31: @ | Q31: @ | R31: @ | S31: @ | T31: @ | U31: @ | V31: @ | W31: @ | X31: @ | Y31: @ | Z31: @ | AA31: @ | AB31: @ | AF31: @ | AG31: @ | AH31: @ | AI31: @ | AJ31: @ | AK31: @ | AL31: @ | AM31: @ | AN31: @ | AO31: @ | AP31: @ | AQ31: @ | AR31: @ | AS31: @ | AT31: @ | AU31: @ | AY31: @ | AZ31: @ | BA31: @ | BB31: @ | BC31: @ | BD31: @ | BE31: @ | BF31: @ | BG31: @ | BH31: @ | BI31: @ | BJ31: @ | BK31: @ | BL31: @ | BM31: @ | BN31: @
A32: 東京都 | B32: 世田谷区 | C32: 世田谷区 | E32: 418 | F32: 222 | G32: 69 | H32: 65 | I32: 97 | J32: 80 | K32: 56 | L32: 196 | M32: 668 | N32: 8 | O32: 16 | P32: 23 | Q32: 31 | R32: 29 | S32: 33 | T32: 52 | U32: 62 | V32: 79 | W32: 79 | X32: 50 | Y32: 56 | Z32: 44 | AA32: 54 | AB32: 52 | AC32: 59.1 | AD32: 57.3 | AE32: 60.9 | AF32: 444 | AG32: 1 | AH32: 6 | AI32: 4 | AJ32: 17 | AK32: 13 | AL32: 17 | AM32: 28 | AN32: 37 | AO32: 58 | AP32: 57 | AQ32: 39 | AR32: 50 | AS32: 36 | AT32: 41 | AU32: 40 | AV32: 63 | AW32: 61.6 | AX32: 64.8 | AY32: 396 | AZ32: - | BA32: - | BB32: 4 | BC32: 15 | BD32: 10 | BE32: 15 | BF32: 22 | BG32: 34 | BH32: 54 | BI32: 56 | BJ32: 35 | BK32: 48 | BL32: 34 | BM32: 37 | BN32: 32 | BO32: 63.7 | BP32: 61.7 | BQ32: 67.1 | BR32: 222 | BS32: - | BT32: - | BU32: - | BV32: - | BW32: 1 | BX32: - | BY32: 7 | BZ32: 14 | CA32: 27 | CB32: 33 | CC32: 23 | CD32: 32 | CE32: 29 | CF32: 27 | CG32: 29 | CH32: 166 | CI32: - | CJ32: - | CK32: - | CL32: - | CM32: 3 | CN32: 8 | CO32: 17 | CP32: 25 | CQ32: 19 | CR32: 19 | CS32: 25 | CT32: 21 | CU32: 29 | DC32: 888 | DD32: 569 | DE32: 396 | DF32: 136 | DG32: 37 | DH32: 167 | DI32: 83 | DJ32: 69 | DK32: 216 | DL32: - | DM32: - | DN32: 4 | DO32: - | DP32: 156 | DQ32: 2 | DR32: 31 | DS32: 18 | DT32: 5 | DU32: - | DV32: - | DW32: - | DX32: - | DY32: - | DZ32: - | EA32: 222 | EB32: 9473 | EC32: 74 | ED32: 6925 | EE32: 2474 | EF32: 424 | EG32: 350 | EH32: 249 | EI32: 79 | EJ32: 22 | EK32: 1 | EL32: 45 | EM32: 28 | EN32: 464 | EO32: 219 | EP32: 147 | EQ32: 57 | ER32: 15 | ES32: 166 | ET32: 38 | EU32: 41
A33: 東京都 | B33: 世田谷区 | C33: 世田谷区 | D33: 世田谷区全域 | E33: 418 | F33: 222 | G33: 69 | H33: 65 | I33: 97 | J33: 80 | K33: 56 | L33: 196 | M33: 668 | N33: 8 | O33: 16 | P33: 23 | Q33: 31 | R33: 29 | S33: 33 | T33: 52 | U33: 62 | V33: 79 | W33: 79 | X33: 50 | Y33: 56 | Z33: 44 | AA33: 54 | AB33: 52 | AC33: 59.1 | AD33: 57.3 | AE33: 60.9 | AF33: 444 | AG33: 1 | AH33: 6 | AI33: 4 | AJ33: 17 | AK33: 13 | AL33: 17 | AM33: 28 | AN33: 37 | AO33: 58 | AP33: 57 | AQ33: 39 | AR33: 50 | AS33: 36 | AT33: 41 | AU33: 40 | AV33: 63 | AW33: 61.6 | AX33: 64.8 | AY33: 396 | AZ33: - | BA33: - | BB33: 4 | BC33: 15 | BD33: 10 | BE33: 15 | BF33: 22 | BG33: 34 | BH33: 54 | BI33: 56 | BJ33: 35 | BK33: 48 | BL33: 34 | BM33: 37 | BN33: 32 | BO33: 63.7 | BP33: 61.7 | BQ33: 67.1 | BR33: 222 | BS33: - | BT33: - | BU33: - | BV33: - | BW33: 1 | BX33: - | BY33: 7 | BZ33: 14 | CA33: 27 | CB33: 33 | CC33: 23 | CD33: 32 | CE33: 29 | CF33: 27 | CG33: 29 | CH33: 166 | CI33: - | CJ33: - | CK33: - | CL33: - | CM33: 3 | CN33: 8 | CO33: 17 | CP33: 25 | CQ33: 19 | CR33: 19 | CS33: 25 | CT33: 21 | CU33: 29 | DC33: 888 | DD33: 569 | DE33: 396 | DF33: 136 | DG33: 37 | DH33: 167 | DI33: 83 | DJ33: 69 | DK33: 216 | DL33: - | DM33: - | DN33: 4 | DO33: - | DP33: 156 | DQ33: 2 | DR33: 31 | DS33: 18 | DT33: 5 | DU33: - | DV33: - | DW33: - | DX33: - | DY33: - | DZ33: - | EA33: 222 | EB33: 9473 | EC33: 74 | ED33: 6925 | EE33: 2474 | EF33: 424 | EG33: 350 | EH33: 249 | EI33: 79 | EJ33: 22 | EK33: 1 | EL33: 45 | EM33: 28 | EN33: 464 | EO33: 219 | EP33: 147 | EQ33: 57 | ER33: 15 | ES33: 166 | ET33: 38 | EU33: 41
A34: 東京都 | B34: 渋谷区 | C34: 渋谷区 | E34: - | F34: - | G34: - | H34: - | I34: - | J34: - | K34: - | L34: - | M34: - | N34: - | O34: - | P34: - | Q34: - | R34: - | S34: - | T34: - | U34: - | V34: - | W34: - | X34: - | Y34: - | Z34: - | AA34: - | AB34: - | AC34: - | AD34: - | AE34: - | AF34: - | AG34: - | AH34: - | AI34: - | AJ34: - | AK34: - | AL34: - | AM34: - | AN34: - | AO34: - | AP34: - | AQ34: - | AR34: - | AS34: - | AT34: - | AU34: - | AV34: - | AW34: - | AX34: - | AY34: - | AZ34: - | BA34: - | BB34: - | BC34: - | BD34: - | BE34: - | BF34: - | BG34: - | BH34: - | BI34: - | BJ34: - | BK34: - | BL34: - | BM34: - | BN34: - | BO34: - | BP34: - | BQ34: - | BR34: - | BS34: - | BT34: - | BU34: - | BV34: - | BW34: - | BX34: - | BY34: - | BZ34: - | CA34: - | CB34: - | CC34: - | CD34: - | CE34: - | CF34: - | CG34: - | CH34: - | CI34: - | CJ34: - | CK34: - | CL34: - | CM34: - | CN34: - | CO34: - | CP34: - | CQ34: - | CR34: - | CS34: - | CT34: - | CU34: - | DC34: - | DD34: - | DE34: - | DF34: - | DG34: - | DH34: - | DI34: - | DJ34: - | DK34: - | DL34: - | DM34: - | DN34: - | DO34: - | DP34: - | DQ34: - | DR34: - | DS34: - | DT34: - | DU34: - | DV34: - | DW34: - | DX34: - | DY34: - | DZ34: - | EA34: - | EB34: - | EC34: - | ED34: - | EE34: - | EF34: - | EG34: - | EH34: - | EI34: - | EJ34: - | EK34: - | EL34: - | EM34: - | EN34: - | EO34: - | EP34: - | EQ34: - | ER34: - | ES34: - | ET34: - | EU34: -
A35: 東京都 | B35: 渋谷区 | C35: 渋谷区 | D35: 渋谷区全域 | E35: - | F35: - | G35: - | H35: - | I35: - | J35: - | K35: - | L35: - | M35: - | N35: - | O35: - | P35: - | Q35: - | R35: - | S35: - | T35: - | U35: - | V35: - | W35: - | X35: - | Y35: - | Z35: - | AA35: - | AB35: - | AC35: … | AD35: … | AE35: … | AF35: - | AG35: - | AH35: - | AI35: - | AJ35: - | AK35: - | AL35: - | AM35: - | AN35: - | AO35: - | AP35: - | AQ35: - | AR35: - | AS35: - | AT35: - | AU35: - | AV35: … | AW35: … | AX35: … | AY35: - | AZ35: - | BA35: - | BB35: - | BC35: - | BD35: - | BE35: - | BF35: - | BG35: - | BH35: - | BI35: - | BJ35: - | BK35: - | BL35: - | BM35: - | BN35: - | BO35: … | BP35: … | BQ35: … | BR35: - | BS35: - | BT35: - | BU35: - | BV35: - | BW35: - | BX35: - | BY35: - | BZ35: - | CA35: - | CB35: - | CC35: - | CD35: - | CE35: - | CF35: - | CG35: - | CH35: - | CI35: - | CJ35: - | CK35: - | CL35: - | CM35: - | CN35: - | CO35: - | CP35: - | CQ35: - | CR35: - | CS35: - | CT35: - | CU35: - | DC35: - | DD35: - | DE35: - | DF35: - | DG35: - | DH35: - | DI35: - | DJ35: - | DK35: - | DL35: - | DM35: - | DN35: - | DO35: - | DP35: - | DQ35: - | DR35: - | DS35: - | DT35: - | DU35: - | DV35: - | DW35: - | DX35: - | DY35: - | DZ35: - | EA35: - | EB35: - | EC35: - | ED35: - | EE35: - | EF35: - | EG35: - | EH35: - | EI35: - | EJ35: - | EK35: - | EL35: - | EM35: - | EN35: - | EO35: - | EP35: - | EQ35: - | ER35: - | ES35: - | ET35: - | EU35: -
A36: 東京都 | B36: 中野区 | C36: 中野区 | E36: 16 | F36: 4 | G36: 1 | H36: 1 | I36: 2 | J36: - | K36: 1 | L36: 12 | M36: 7 | N36: - | O36: - | P36: - | Q36: - | R36: - | S36: - | T36: - | U36: 1 | V36: - | W36: 2 | X36: 2 | Y36: 2 | Z36: - | AA36: - | AB36: - | AC36: 65.3 | AD36: 64.8 | AE36: 66 | AF36: 4 | AG36: - | AH36: - | AI36: - | AJ36: - | AK36: - | AL36: - | AM36: - | AN36: 1 | AO36: - | AP36: - | AQ36: 1 | AR36: 2 | AS36: - | AT36: - | AU36: - | AV36: 66.5 | AW36: 64 | AX36: 74 | AY36: 3 | AZ36: - | BA36: - | BB36: - | BC36: - | BD36: - | BE36: - | BF36: - | BG36: 1 | BH36: - | BI36: - | BJ36: 1 | BK36: 1 | BL36: - | BM36: - | BN36: - | BO36: 64 | BP36: 64 | BQ36: … | BR36: 4 | BS36: - | BT36: - | BU36: - | BV36: - | BW36: - | BX36: - | BY36: - | BZ36: 1 | CA36: - | CB36: - | CC36: 2 | CD36: 1 | CE36: - | CF36: - | CG36: - | CH36: 4 | CI36: - | CJ36: - | CK36: - | CL36: - | CM36: - | CN36: 1 | CO36: - | CP36: - | CQ36: 2 | CR36: 1 | CS36: - | CT36: - | CU36: - | DC36: 10 | DD36: 7 | DE36: 3 | DF36: 2 | DG36: 2 | DH36: 2 | DI36: 1 | DJ36: - | DK36: 4 | DL36: - | DM36: - | DN36: - | DO36: - | DP36: 1 | DQ36: - | DR36: 1 | DS36: 1 | DT36: 1 | DU36: - | DV36: - | DW36: - | DX36: - | DY36: - | DZ36: - | EA36: 3 | EB36: 270 | EC36: - | ED36: 70 | EE36: 200 | EF36: 5 | EG36: 5 | EH36: 3 | EI36: 1 | EJ36: 1 | EK36: - | EL36: - | EM36: - | EN36: 5 | EO36: 2 | EP36: - | EQ36: 1 | ER36: 1 | ES36: 2 | ET36: 1 | EU36: -
A37: 東京都 | B37: 中野区 | C37: 中野区 | D37: 中野区全域 | E37: 16 | F37: 4 | G37: 1 | H37: 1 | I37: 2 | J37: - | K37: 1 | L37: 12 | M37: 7 | N37: - | O37: - | P37: - | Q37: - | R37: - | S37: - | T37: - | U37: 1 | V37: - | W37: 2 | X37: 2 | Y37: 2 | Z37: - | AA37: - | AB37: - | AC37: 65.3 | AD37: 64.8 | AE37: 66 | AF37: 4 | AG37: - | AH37: - | AI37: - | AJ37: - | AK37: - | AL37: - | AM37: - | AN37: 1 | AO37: - | AP37: - | AQ37: 1 | AR37: 2 | AS37: - | AT37: - | AU37: - | AV37: 66.5 | AW37: 64 | AX37: 74 | AY37: 3 | AZ37: - | BA37: - | BB37: - | BC37: - | BD37: - | BE37: - | BF37: - | BG37: 1 | BH37: - | BI37: - | BJ37: 1 | BK37: 1 | BL37: - | BM37: - | BN37: - | BO37: 64 | BP37: 64 | BQ37: … | BR37: 4 | BS37: - | BT37: - | BU37: - | BV37: - | BW37: - | BX37: - | BY37: - | BZ37: 1 | CA37: - | CB37: - | CC37: 2 | CD37: 1 | CE37: - | CF37: - | CG37: - | CH37: 4 | CI37: - | CJ37: - | CK37: - | CL37: - | CM37: - | CN37: 1 | CO37: - | CP37: - | CQ37: 2 | CR37: 1 | CS37: - | CT37: - | CU37: - | DC37: 10 | DD37: 7 | DE37: 3 | DF37: 2 | DG37: 2 | DH37: 2 | DI37: 1 | DJ37: - | DK37: 4 | DL37: - | DM37: - | DN37: - | DO37: - | DP37: 1 | DQ37: - | DR37: 1 | DS37: 1 | DT37: 1 | DU37: - | DV37: - | DW37: - | DX37: - | DY37: - | DZ37: - | EA37: 3 | EB37: 270 | EC37: - | ED37: 70 | EE37: 200 | EF37: 5 | EG37: 5 | EH37: 3 | EI37: 1 | EJ37: 1 | EK37: - | EL37: - | EM37: - | EN37: 5 | EO37: 2 | EP37: - | EQ37: 1 | ER37: 1 | ES37: 2 | ET37: 1 | EU37: -
A38: 東京都 | B38: 杉並区 | C38: 杉並区 | E38: 119 | F38: 67 | G38: 20 | H38: 13 | I38: 29 | J38: 19 | K38: 18 | L38: 52 | M38: 180 | N38: 3 | O38: - | P38: 9 | Q38: 1 | R38: 13 | S38: 12 | T38: 15 | U38: 15 | V38: 16 | W38: 15 | X38: 18 | Y38: 31 | Z38: 15 | AA38: 10 | AB38: 7 | AC38: 59.3 | AD38: 58.9 | AE38: 59.8 | AF38: 127 | AG38: - | AH38: - | AI38: 7 | AJ38: - | AK38: 9 | AL38: 5 | AM38: 5 | AN38: 12 | AO38: 11 | AP38: 13 | AQ38: 15 | AR38: 23 | AS38: 14 | AT38: 7 | AU38: 6 | AV38: 61.9 | AW38: 61.1 | AX38: 63.2 | AY38: 107 | AZ38: - | BA38: - | BB38: 6 | BC38: - | BD38: 8 | BE38: 3 | BF38: 4 | BG38: 10 | BH38: 10 | BI38: 11 | BJ38: 10 | BK38: 23 | BL38: 12 | BM38: 6 | BN38: 4 | BO38: 62 | BP38: 61.1 | BQ38: 64.2 | BR38: 67 | BS38: - | BT38: - | BU38: - | BV38: - | BW38: 1 | BX38: 1 | BY38: 1 | BZ38: 3 | CA38: 7 | CB38: 7 | CC38: 5 | CD38: 20 | CE38: 12 | CF38: 6 | CG38: 4 | CH38: 50 | CI38: - | CJ38: - | CK38: - | CL38: - | CM38: - | CN38: 2 | CO38: 3 | CP38: 7 | CQ38: 4 | CR38: 14 | CS38: 11 | CT38: 5 | CU38: 4 | DC38: 247 | DD38: 154 | DE38: 107 | DF38: 29 | DG38: 18 | DH38: 49 | DI38: 20 | DJ38: 24 | DK38: 65 | DL38: - | DM38: - | DN38: 3 | DO38: - | DP38: 42 | DQ38: 2 | DR38: 5 | DS38: 11 | DT38: 2 | DU38: - | DV38: - | DW38: - | DX38: - | DY38: - | DZ38: - | EA38: 67 | EB38: 3445 | EC38: - | ED38: 2536 | EE38: 909 | EF38: 126 | EG38: 104 | EH38: 76 | EI38: 18 | EJ38: 10 | EK38: 1 | EL38: 11 | EM38: 10 | EN38: 121 | EO38: 50 | EP38: 31 | EQ38: 11 | ER38: 8 | ES38: 48 | ET38: 9 | EU38: 14
A39: 東京都 | B39: 杉並区 | C39: 杉並区 | D39: 杉並区全域 | E39: 119 | F39: 67 | G39: 20 | H39: 13 | I39: 29 | J39: 19 | K39: 18 | L39: 52 | M39: 180 | N39: 3 | O39: - | P39: 9 | Q39: 1 | R39: 13 | S39: 12 | T39: 15 | U39: 15 | V39: 16 | W39: 15 | X39: 18 | Y39: 31 | Z39: 15 | AA39: 10 | AB39: 7 | AC39: 59.3 | AD39: 58.9 | AE39: 59.8 | AF39: 127 | AG39: - | AH39: - | AI39: 7 | AJ39: - | AK39: 9 | AL39: 5 | AM39: 5 | AN39: 12 | AO39: 11 | AP39: 13 | AQ39: 15 | AR39: 23 | AS39: 14 | AT39: 7 | AU39: 6 | AV39: 61.9 | AW39: 61.1 | AX39: 63.2 | AY39: 107 | AZ39: - | BA39: - | BB39: 6 | BC39: - | BD39: 8 | BE39: 3 | BF39: 4 | BG39: 10 | BH39: 10 | BI39: 11 | BJ39: 10 | BK39: 23 | BL39: 12 | BM39: 6 | BN39: 4 | BO39: 62 | BP39: 61.1 | BQ39: 64.2 | BR39: 67 | BS39: - | BT39: - | BU39: - | BV39: - | BW39: 1 | BX39: 1 | BY39: 1 | BZ39: 3 | CA39: 7 | CB39: 7 | CC39: 5 | CD39: 20 | CE39: 12 | CF39: 6 | CG39: 4 | CH39: 50 | CI39: - | CJ39: - | CK39: - | CL39: - | CM39: - | CN39: 2 | CO39: 3 | CP39: 7 | CQ39: 4 | CR39: 14 | CS39: 11 | CT39: 5 | CU39: 4 | DC39: 247 | DD39: 154 | DE39: 107 | DF39: 29 | DG39: 18 | DH39: 49 | DI39: 20 | DJ39: 24 | DK39: 65 | DL39: - | DM39: - | DN39: 3 | DO39: - | DP39: 42 | DQ39: 2 | DR39: 5 | DS39: 11 | DT39: 2 | DU39: - | DV39: - | DW39: - | DX39: - | DY39: - | DZ39: - | EA39: 67 | EB39: 3445 | EC39: - | ED39: 2536 | EE39: 909 | EF39: 126 | EG39: 104 | EH39: 76 | EI39: 18 | EJ39: 10 | EK39: 1 | EL39: 11 | EM39: 10 | EN39: 121 | EO39: 50 | EP39: 31 | EQ39: 11 | ER39: 8 | ES39: 48 | ET39: 9 | EU39: 14
A40: 東京都 | B40: 豊島区 | C40: 豊島区 | E40: - | F40: - | G40: - | H40: - | I40: - | J40: - | K40: - | L40: - | M40: - | N40: - | O40: - | P40: - | Q40: - | R40: - | S40: - | T40: - | U40: - | V40: - | W40: - | X40: - | Y40: - | Z40: - | AA40: - | AB40: - | AC40: - | AD40: - | AE40: - | AF40: - | AG40: - | AH40: - | AI40: - | AJ40: - | AK40: - | AL40: - | AM40: - | AN40: - | AO40: - | AP40: - | AQ40: - | AR40: - | AS40: - | AT40: - | AU40: - | AV40: - | AW40: - | AX40: - | AY40: - | AZ40: - | BA40: - | BB40: - | BC40: - | BD40: - | BE40: - | BF40: - | BG40: - | BH40: - | BI40: - | BJ40: - | BK40: - | BL40: - | BM40: - | BN40: - | BO40: - | BP40: - | BQ40: - | BR40: - | BS40: - | BT40: - | BU40: - | BV40: - | BW40: - | BX40: - | BY40: - | BZ40: - | CA40: - | CB40: - | CC40: - | CD40: - | CE40: - | CF40: - | CG40: - | CH40: - | CI40: - | CJ40: - | CK40: - | CL40: - | CM40: - | CN40: - | CO40: - | CP40: - | CQ40: - | CR40: - | CS40: - | CT40: - | CU40: - | DC40: - | DD40: - | DE40: - | DF40: - | DG40: - | DH40: - | DI40: - | DJ40: - | DK40: - | DL40: - | DM40: - | DN40: - | DO40: - | DP40: - | DQ40: - | DR40: - | DS40: - | DT40: - | DU40: - | DV40: - | DW40: - | DX40: - | DY40: - | DZ40: - | EA40: - | EB40: - | EC40: - | ED40: - | EE40: - | EF40: - | EG40: - | EH40: - | EI40: - | EJ40: - | EK40: - | EL40: - | EM40: - | EN40: - | EO40: - | EP40: - | EQ40: - | ER40: - | ES40: - | ET40: - | EU40: -
A41: 東京都 | B41: 豊島区 | C41: 豊島区 | D41: 豊島区全域 | E41: - | F41: - | G41: - | H41: - | I41: - | J41: - | K41: - | L41: - | M41: - | N41: - | O41: - | P41: - | Q41: - | R41: - | S41: - | T41: - | U41: - | V41: - | W41: - | X41: - | Y41: - | Z41: - | AA41: - | AB41: - | AC41: … | AD41: … | AE41: … | AF41: - | AG41: - | AH41: - | AI41: - | AJ41: - | AK41: - | AL41: - | AM41: - | AN41: - | AO41: - | AP41: - | AQ41: - | AR41: - | AS41: - | AT41: - | AU41: - | AV41: … | AW41: … | AX41: … | AY41: - | AZ41: - | BA41: - | BB41: - | BC41: - | BD41: - | BE41: - | BF41: - | BG41: - | BH41: - | BI41: - | BJ41: - | BK41: - | BL41: - | BM41: - | BN41: - | BO41: … | BP41: … | BQ41: … | BR41: - | BS41: - | BT41: - | BU41: - | BV41: - | BW41: - | BX41: - | BY41: - | BZ41: - | CA41: - | CB41: - | CC41: - | CD41: - | CE41: - | CF41: - | CG41: - | CH41: - | CI41: - | CJ41: - | CK41: - | CL41: - | CM41: - | CN41: - | CO41: - | CP41: - | CQ41: - | CR41: - | CS41: - | CT41: - | CU41: - | DC41: - | DD41: - | DE41: - | DF41: - | DG41: - | DH41: - | DI41: - | DJ41: - | DK41: - | DL41: - | DM41: - | DN41: - | DO41: - | DP41: - | DQ41: - | DR41: - | DS41: - | DT41: - | DU41: - | DV41: - | DW41: - | DX41: - | DY41: - | DZ41: - | EA41: - | EB41: - | EC41: - | ED41: - | EE41: - | EF41: - | EG41: - | EH41: - | EI41: - | EJ41: - | EK41: - | EL41: - | EM41: - | EN41: - | EO41: - | EP41: - | EQ41: - | ER41: - | ES41: - | ET41: - | EU41: -
A42: 東京都 | B42: 北区 | C42: 北区 | E42: - | F42: - | G42: - | H42: - | I42: - | J42: - | K42: - | L42: - | M42: - | N42: - | O42: - | P42: - | Q42: - | R42: - | S42: - | T42: - | U42: - | V42: - | W42: - | X42: - | Y42: - | Z42: - | AA42: - | AB42: - | AC42: - | AD42: - | AE42: - | AF42: - | AG42: - | AH42: - | AI42: - | AJ42: - | AK42: - | AL42: - | AM42: - | AN42: - | AO42: - | AP42: - | AQ42: - | AR42: - | AS42: - | AT42: - | AU42: - | AV42: - | AW42: - | AX42: - | AY42: - | AZ42: - | BA42: - | BB42: - | BC42: - | BD42: - | BE42: - | BF42: - | BG42: - | BH42: - | BI42: - | BJ42: - | BK42: - | BL42: - | BM42: - | BN42: - | BO42: - | BP42: - | BQ42: - | BR42: - | BS42: - | BT42: - | BU42: - | BV42: - | BW42: - | BX42: - | BY42: - | BZ42: - | CA42: - | CB42: - | CC42: - | CD42: - | CE42: - | CF42: - | CG42: - | CH42: - | CI42: - | CJ42: - | CK42: - | CL42: - | CM42: - | CN42: - | CO42: - | CP42: - | CQ42: - | CR42: - | CS42: - | CT42: - | CU42: - | DC42: - | DD42: - | DE42: - | DF42: - | DG42: - | DH42: - | DI42: - | DJ42: - | DK42: - | DL42: - | DM42: - | DN42: - | DO42: - | DP42: - | DQ42: - | DR42: - | DS42: - | DT42: - | DU42: - | DV42: - | DW42: - | DX42: - | DY42: - | DZ42: - | EA42: - | EB42: - | EC42: - | ED42: - | EE42: - | EF42: - | EG42: - | EH42: - | EI42: - | EJ42: - | EK42: - | EL42: - | EM42: - | EN42: - | EO42: - | EP42: - | EQ42: - | ER42: - | ES42: - | ET42: - | EU42: -
A43: 東京都 | B43: 北区 | C43: 北区 | D43: 北区全域 | E43: - | F43: - | G43: - | H43: - | I43: - | J43: - | K43: - | L43: - | M43: - | N43: - | O43: - | P43: - | Q43: - | R43: - | S43: - | T43: - | U43: - | V43: - | W43: - | X43: - | Y43: - | Z43: - | AA43: - | AB43: - | AC43: … | AD43: … | AE43: … | AF43: - | AG43: - | AH43: - | AI43: - | AJ43: - | AK43: - | AL43: - | AM43: - | AN43: - | AO43: - | AP43: - | AQ43: - | AR43: - | AS43: - | AT43: - | AU43: - | AV43: … | AW43: … | AX43: … | AY43: - | AZ43: - | BA43: - | BB43: - | BC43: - | BD43: - | BE43: - | BF43: - | BG43: - | BH43: - | BI43: - | BJ43: - | BK43: - | BL43: - | BM43: - | BN43: - | BO43: … | BP43: … | BQ43: … | BR43: - | BS43: - | BT43: - | BU43: - | BV43: - | BW43: - | BX43: - | BY43: - | BZ43: - | CA43: - | CB43: - | CC43: - | CD43: - | CE43: - | CF43: - | CG43: - | CH43: - | CI43: - | CJ43: - | CK43: - | CL43: - | CM43: - | CN43: - | CO43: - | CP43: - | CQ43: - | CR43: - | CS43: - | CT43: - | CU43: - | DC43: - | DD43: - | DE43: - | DF43: - | DG43: - | DH43: - | DI43: - | DJ43: - | DK43: - | DL43: - | DM43: - | DN43: - | DO43: - | DP43: - | DQ43: - | DR43: - | DS43: - | DT43: - | DU43: - | DV43: - | DW43: - | DX43: - | DY43: - | DZ43: - | EA43: - | EB43: - | EC43: - | ED43: - | EE43: - | EF43: - | EG43: - | EH43: - | EI43: - | EJ43: - | EK43: - | EL43: - | EM43: - | EN43: - | EO43: - | EP43: - | EQ43: - | ER43: - | ES43: - | ET43: - | EU43: -
A44: 東京都 | B44: 荒川区 | C44: 荒川区 | E44: - | F44: - | G44: - | H44: - | I44: - | J44: - | K44: - | L44: - | M44: - | N44: - | O44: - | P44: - | Q44: - | R44: - | S44: - | T44: - | U44: - | V44: - | W44: - | X44: - | Y44: - | Z44: - | AA44: - | AB44: - | AC44: - | AD44: - | AE44: - | AF44: - | AG44: - | AH44: - | AI44: - | AJ44: - | AK44: - | AL44: - | AM44: - | AN44: - | AO44: - | AP44: - | AQ44: - | AR44: - | AS44: - | AT44: - | AU44: - | AV44: - | AW44: - | AX44: - | AY44: - | AZ44: - | BA44: - | BB44: - | BC44: - | BD44: - | BE44: - | BF44: - | BG44: - | BH44: - | BI44: - | BJ44: - | BK44: - | BL44: - | BM44: - | BN44: - | BO44: - | BP44: - | BQ44: - | BR44: - | BS44: - | BT44: - | BU44: - | BV44: - | BW44: - | BX44: - | BY44: - | BZ44: - | CA44: - | CB44: - | CC44: - | CD44: - | CE44: - | CF44: - | CG44: - | CH44: - | CI44: - | CJ44: - | CK44: - | CL44: - | CM44: - | CN44: - | CO44: - | CP44: - | CQ44: - | CR44: - | CS44: - | CT44: - | CU44: - | DC44: - | DD44: - | DE44: - | DF44: - | DG44: - | DH44: - | DI44: - | DJ44: - | DK44: - | DL44: - | DM44: - | DN44: - | DO44: - | DP44: - | DQ44: - | DR44: - | DS44: - | DT44: - | DU44: - | DV44: - | DW44: - | DX44: - | DY44: - | DZ44: - | EA44: - | EB44: - | EC44: - | ED44: - | EE44: - | EF44: - | EG44: - | EH44: - | EI44: - | EJ44: - | EK44: - | EL44: - | EM44: - | EN44: - | EO44: - | EP44: - | EQ44: - | ER44: - | ES44: - | ET44: - | EU44: -
A45: 東京都 | B45: 荒川区 | C45: 荒川区 | D45: 荒川区全域 | E45: - | F45: - | G45: - | H45: - | I45: - | J45: - | K45: - | L45: - | M45: - | N45: - | O45: - | P45: - | Q45: - | R45: - | S45: - | T45: - | U45: - | V45: - | W45: - | X45: - | Y45: - | Z45: - | AA45: - | AB45: - | AC45: … | AD45: … | AE45: … | AF45: - | AG45: - | AH45: - | AI45: - | AJ45: - | AK45: - | AL45: - | AM45: - | AN45: - | AO45: - | AP45: - | AQ45: - | AR45: - | AS45: - | AT45: - | AU45: - | AV45: … | AW45: … | AX45: … | AY45: - | AZ45: - | BA45: - | BB45: - | BC45: - | BD45: - | BE45: - | BF45: - | BG45: - | BH45: - | BI45: - | BJ45: - | BK45: - | BL45: - | BM45: - | BN45: - | BO45: … | BP45: … | BQ45: … | BR45: - | BS45: - | BT45: - | BU45: - | BV45: - | BW45: - | BX45: - | BY45: - | BZ45: - | CA45: - | CB45: - | CC45: - | CD45: - | CE45: - | CF45: - | CG45: - | CH45: - | CI45: - | CJ45: - | CK45: - | CL45: - | CM45: - | CN45: - | CO45: - | CP45: - | CQ45: - | CR45: - | CS45: - | CT45: - | CU45: - | DC45: - | DD45: - | DE45: - | DF45: - | DG45: - | DH45: - | DI45: - | DJ45: - | DK45: - | DL45: - | DM45: - | DN45: - | DO45: - | DP45: - | DQ45: - | DR45: - | DS45: - | DT45: - | DU45: - | DV45: - | DW45: - | DX45: - | DY45: - | DZ45: - | EA45: - | EB45: - | EC45: - | ED45: - | EE45: - | EF45: - | EG45: - | EH45: - | EI45: - | EJ45: - | EK45: - | EL45: - | EM45: - | EN45: - | EO45: - | EP45: - | EQ45: - | ER45: - | ES45: - | ET45: - | EU45: -
A46: 東京都 | B46: 板橋区 | C46: 板橋区 | E46: 82 | F46: 39 | G46: 5 | H46: 5 | I46: 18 | J46: 9 | K46: 16 | L46: 43 | M46: 110 | N46: - | O46: 1 | P46: 4 | Q46: 3 | R46: 4 | S46: 2 | T46: 9 | U46: 8 | V46: 15 | W46: 13 | X46: 6 | Y46: 9 | Z46: 14 | AA46: 16 | AB46: 6 | AC46: 62.8 | AD46: 62.6 | AE46: 63 | AF46: 71 | AG46: - | AH46: 1 | AI46: 1 | AJ46: 3 | AK46: 3 | AL46: 1 | AM46: 3 | AN46: 3 | AO46: 8 | AP46: 6 | AQ46: 5 | AR46: 5 | AS46: 13 | AT46: 13 | AU46: 6 | AV46: 66.3 | AW46: 66.2 | AX46: 66.5 | AY46: 60 | AZ46: - | BA46: 1 | BB46: - | BC46: 2 | BD46: 3 | BE46: 1 | BF46: 2 | BG46: 3 | BH46: 7 | BI46: 4 | BJ46: 3 | BK46: 5 | BL46: 12 | BM46: 12 | BN46: 5 | BO46: 67.3 | BP46: 65.5 | BQ46: 70.1 | BR46: 39 | BS46: - | BT46: - | BU46: - | BV46: - | BW46: 1 | BX46: - | BY46: 1 | BZ46: 2 | CA46: 1 | CB46: 6 | CC46: 3 | CD46: 3 | CE46: 10 | CF46: 8 | CG46: 4 | CH46: 28 | CI46: - | CJ46: - | CK46: - | CL46: - | CM46: - | CN46: 2 | CO46: 1 | CP46: 2 | CQ46: 2 | CR46: 2 | CS46: 8 | CT46: 7 | CU46: 4 | DC46: 155 | DD46: 104 | DE46: 60 | DF46: 27 | DG46: 17 | DH46: 20 | DI46: 22 | DJ46: 9 | DK46: 37 | DL46: 3 | DM46: - | DN46: 4 | DO46: - | DP46: 23 | DQ46: - | DR46: 3 | DS46: 4 | DT46: - | DU46: - | DV46: - | DW46: - | DX46: - | DY46: - | DZ46: - | EA46: 39 | EB46: 1626 | EC46: 272 | ED46: 1086 | EE46: 268 | EF46: 77 | EG46: 65 | EH46: 37 | EI46: 17 | EJ46: 11 | EK46: - | EL46: 9 | EM46: 3 | EN46: 78 | EO46: 39 | EP46: 23 | EQ46: 10 | ER46: 6 | ES46: 20 | ET46: 13 | EU46: 6
A47: 東京都 | B47: 板橋区 | C47: 板橋区 | D47: 板橋区全域 | E47: 82 | F47: 39 | G47: 5 | H47: 5 | I47: 18 | J47: 9 | K47: 16 | L47: 43 | M47: 110 | N47: - | O47: 1 | P47: 4 | Q47: 3 | R47: 4 | S47: 2 | T47: 9 | U47: 8 | V47: 15 | W47: 13 | X47: 6 | Y47: 9 | Z47: 14 | AA47: 16 | AB47: 6 | AC47: 62.8 | AD47: 62.6 | AE47: 63 | AF47: 71 | AG47: - | AH47: 1 | AI47: 1 | AJ47: 3 | AK47: 3 | AL47: 1 | AM47: 3 | AN47: 3 | AO47: 8 | AP47: 6 | AQ47: 5 | AR47: 5 | AS47: 13 | AT47: 13 | AU47: 6 | AV47: 66.3 | AW47: 66.2 | AX47: 66.5 | AY47: 60 | AZ47: - | BA47: 1 | BB47: - | BC47: 2 | BD47: 3 | BE47: 1 | BF47: 2 | BG47: 3 | BH47: 7 | BI47: 4 | BJ47: 3 | BK47: 5 | BL47: 12 | BM47: 12 | BN47: 5 | BO47: 67.3 | BP47: 65.5 | BQ47: 70.1 | BR47: 39 | BS47: - | BT47: - | BU47: - | BV47: - | BW47: 1 | BX47: - | BY47: 1 | BZ47: 2 | CA47: 1 | CB47: 6 | CC47: 3 | CD47: 3 | CE47: 10 | CF47: 8 | CG47: 4 | CH47: 28 | CI47: - | CJ47: - | CK47: - | CL47: - | CM47: - | CN47: 2 | CO47: 1 | CP47: 2 | CQ47: 2 | CR47: 2 | CS47: 8 | CT47: 7 | CU47: 4 | DC47: 155 | DD47: 104 | DE47: 60 | DF47: 27 | DG47: 17 | DH47: 20 | DI47: 22 | DJ47: 9 | DK47: 37 | DL47: 3 | DM47: - | DN47: 4 | DO47: - | DP47: 23 | DQ47: - | DR47: 3 | DS47: 4 | DT47: - | DU47: - | DV47: - | DW47: - | DX47: - | DY47: - | DZ47: - | EA47: 39 | EB47: 1626 | EC47: 272 | ED47: 1086 | EE47: 268 | EF47: 77 | EG47: 65 | EH47: 37 | EI47: 17 | EJ47: 11 | EK47: - | EL47: 9 | EM47: 3 | EN47: 78 | EO47: 39 | EP47: 23 | EQ47: 10 | ER47: 6 | ES47: 20 | ET47: 13 | EU47: 6
A48: 東京都 | B48: 練馬区 | C48: 練馬区 | E48: 516 | F48: 352 | G48: 136 | H48: 125 | I48: 116 | J48: 75 | K48: 100 | L48: 164 | M48: 1080 | N48: 22 | O48: 31 | P48: 38 | Q48: 25 | R48: 40 | S48: 77 | T48: 100 | U48: 107 | V48: 114 | W48: 97 | X48: 81 | Y48: 105 | Z48: 113 | AA48: 92 | AB48: 38 | AC48: 58.3 | AD48: 56.7 | AE48: 60.1 | AF48: 716 | AG48: - | AH48: 4 | AI48: 12 | AJ48: 10 | AK48: 15 | AL48: 46 | AM48: 50 | AN48: 61 | AO48: 81 | AP48: 72 | AQ48: 65 | AR48: 90 | AS48: 97 | AT48: 79 | AU48: 34 | AV48: 63.8 | AW48: 62.9 | AX48: 65 | AY48: 642 | AZ48: - | BA48: 2 | BB48: 10 | BC48: 9 | BD48: 13 | BE48: 33 | BF48: 45 | BG48: 59 | BH48: 77 | BI48: 67 | BJ48: 63 | BK48: 77 | BL48: 94 | BM48: 69 | BN48: 24 | BO48: 63.9 | BP48: 62.7 | BQ48: 65.7 | BR48: 352 | BS48: - | BT48: - | BU48: - | BV48: - | BW48: - | BX48: 4 | BY48: 14 | BZ48: 27 | CA48: 41 | CB48: 41 | CC48: 36 | CD48: 47 | CE48: 66 | CF48: 47 | CG48: 29 | CH48: 246 | CI48: - | CJ48: - | CK48: - | CL48: - | CM48: 7 | CN48: 8 | CO48: 24 | CP48: 27 | CQ48: 23 | CR48: 38 | CS48: 57 | CT48: 36 | CU48: 26 | DC48: 1404 | DD48: 949 | DE48: 642 | DF48: 235 | DG48: 72 | DH48: 179 | DI48: 141 | DJ48: 135 | DK48: 331 | DL48: 1 | DM48: - | DN48: 10 | DO48: - | DP48: 224 | DQ48: 7 | DR48: 39 | DS48: 43 | DT48: 5 | DU48: 1 | DV48: - | DW48: 1 | DX48: - | DY48: - | DZ48: - | EA48: 352 | EB48: 20855 | EC48: 656 | ED48: 17008 | EE48: 3191 | EF48: 706 | EG48: 573 | EH48: 389 | EI48: 136 | EJ48: 48 | EK48: 4 | EL48: 77 | EM48: 52 | EN48: 698 | EO48: 376 | EP48: 253 | EQ48: 99 | ER48: 24 | ES48: 175 | ET48: 64 | EU48: 83
A49: 東京都 | B49: 練馬区 | C49: 練馬区 | D49: 練馬 | E49: 185 | F49: 125 | G49: 48 | H49: 46 | I49: 34 | J49: 25 | K49: 43 | L49: 60 | M49: 394 | N49: 9 | O49: 14 | P49: 15 | Q49: 9 | R49: 10 | S49: 30 | T49: 43 | U49: 39 | V49: 37 | W49: 34 | X49: 24 | Y49: 42 | Z49: 41 | AA49: 33 | AB49: 14 | AC49: 57.9 | AD49: 56.5 | AE49: 59.5 | AF49: 261 | AG49: - | AH49: - | AI49: 5 | AJ49: 3 | AK49: 4 | AL49: 18 | AM49: 21 | AN49: 21 | AO49: 30 | AP49: 24 | AQ49: 21 | AR49: 36 | AS49: 36 | AT49: 28 | AU49: 14 | AV49: 64.3 | AW49: 63.3 | AX49: 65.6 | AY49: 227 | AZ49: - | BA49: - | BB49: 4 | BC49: 2 | BD49: 4 | BE49: 9 | BF49: 18 | BG49: 19 | BH49: 28 | BI49: 22 | BJ49: 21 | BK49: 30 | BL49: 35 | BM49: 25 | BN49: 10 | BO49: 64.9 | BP49: 62.9 | BQ49: 68.3 | BR49: 125 | BS49: - | BT49: - | BU49: - | BV49: - | BW49: - | BX49: 3 | BY49: 6 | BZ49: 10 | CA49: 12 | CB49: 13 | CC49: 10 | CD49: 21 | CE49: 24 | CF49: 17 | CG49: 9 | CH49: 87 | CI49: - | CJ49: - | CK49: - | CL49: - | CM49: 4 | CN49: 4 | CO49: 6 | CP49: 10 | CQ49: 5 | CR49: 17 | CS49: 20 | CT49: 12 | CU49: 9 | DC49: 513 | DD49: 337 | DE49: 227 | DF49: 89 | DG49: 21 | DH49: 66 | DI49: 58 | DJ49: 52 | DK49: 117 | DL49: - | DM49: - | DN49: 6 | DO49: - | DP49: 82 | DQ49: 3 | DR49: 9 | DS49: 17 | DT49: - | DU49: - | DV49: - | DW49: - | DX49: - | DY49: - | DZ49: - | EA49: 125 | EB49: 6965 | EC49: 374 | ED49: 5686 | EE49: 905 | EF49: 256 | EG49: 210 | EH49: 142 | EI49: 54 | EJ49: 14 | EK49: - | EL49: 28 | EM49: 18 | EN49: 257 | EO49: 127 | EP49: 85 | EQ49: 35 | ER49: 7 | ES49: 66 | ET49: 30 | EU49: 34
A50: 東京都 | B50: 練馬区 | C50: 練馬区 | D50: 大泉 | E50: 195 | F50: 143 | G50: 59 | H50: 53 | I50: 45 | J50: 29 | K50: 39 | L50: 52 | M50: 432 | N50: 7 | O50: 8 | P50: 11 | Q50: 14 | R50: 21 | S50: 34 | T50: 38 | U50: 39 | V50: 48 | W50: 38 | X50: 40 | Y50: 36 | Z50: 46 | AA50: 40 | AB50: 12 | AC50: 58.5 | AD50: 57.4 | AE50: 59.8 | AF50: 298 | AG50: - | AH50: 1 | AI50: 4 | AJ50: 6 | AK50: 8 | AL50: 20 | AM50: 22 | AN50: 22 | AO50: 31 | AP50: 33 | AQ50: 34 | AR50: 33 | AS50: 40 | AT50: 34 | AU50: 10 | AV50: 63.2 | AW50: 62.7 | AX50: 63.9 | AY50: 273 | AZ50: - | BA50: - | BB50: 3 | BC50: 6 | BD50: 6 | BE50: 16 | BF50: 21 | BG50: 22 | BH50: 30 | BI50: 30 | BJ50: 32 | BK50: 30 | BL50: 39 | BM50: 30 | BN50: 8 | BO50: 63.5 | BP50: 62.9 | BQ50: 64.3 | BR50: 143 | BS50: - | BT50: - | BU50: - | BV50: - | BW50: - | BX50: 1 | BY50: 5 | BZ50: 11 | CA50: 19 | CB50: 18 | CC50: 16 | CD50: 17 | CE50: 27 | CF50: 17 | CG50: 12 | CH50: 94 | CI50: - | CJ50: - | CK50: - | CL50: - | CM50: 1 | CN50: 2 | CO50: 10 | CP50: 10 | CQ50: 12 | CR50: 14 | CS50: 22 | CT50: 14 | CU50: 9 | DC50: 541 | DD50: 393 | DE50: 273 | DF50: 91 | DG50: 29 | DH50: 56 | DI50: 47 | DJ50: 45 | DK50: 134 | DL50: - | DM50: - | DN50: 1 | DO50: - | DP50: 93 | DQ50: 1 | DR50: 19 | DS50: 15 | DT50: 3 | DU50: 1 | DV50: - | DW50: 1 | DX50: - | DY50: - | DZ50: - | EA50: 143 | EB50: 8983 | EC50: 40 | ED50: 7311 | EE50: 1632 | EF50: 268 | EG50: 227 | EH50: 154 | EI50: 52 | EJ50: 21 | EK50: 2 | EL50: 26 | EM50: 13 | EN50: 273 | EO50: 166 | EP50: 119 | EQ50: 39 | ER50: 8 | ES50: 54 | ET50: 21 | EU50: 32
A51: 東京都 | B51: 練馬区 | C51: 練馬区 | D51: 石神井 | E51: 136 | F51: 84 | G51: 29 | H51: 26 | I51: 37 | J51: 21 | K51: 18 | L51: 52 | M51: 254 | N51: 6 | O51: 9 | P51: 12 | Q51: 2 | R51: 9 | S51: 13 | T51: 19 | U51: 29 | V51: 29 | W51: 25 | X51: 17 | Y51: 27 | Z51: 26 | AA51: 19 | AB51: 12 | AC51: 58.4 | AD51: 56 | AE51: 61.6 | AF51: 157 | AG51: - | AH51: 3 | AI51: 3 | AJ51: 1 | AK51: 3 | AL51: 8 | AM51: 7 | AN51: 18 | AO51: 20 | AP51: 15 | AQ51: 10 | AR51: 21 | AS51: 21 | AT51: 17 | AU51: 10 | AV51: 63.9 | AW51: 62.5 | AX51: 66.4 | AY51: 142 | AZ51: - | BA51: 2 | BB51: 3 | BC51: 1 | BD51: 3 | BE51: 8 | BF51: 6 | BG51: 18 | BH51: 19 | BI51: 15 | BJ51: 10 | BK51: 17 | BL51: 20 | BM51: 14 | BN51: 6 | BO51: 62.9 | BP51: 62 | BQ51: 64.6 | BR51: 84 | BS51: - | BT51: - | BU51: - | BV51: - | BW51: - | BX51: - | BY51: 3 | BZ51: 6 | CA51: 10 | CB51: 10 | CC51: 10 | CD51: 9 | CE51: 15 | CF51: 13 | CG51: 8 | CH51: 65 | CI51: - | CJ51: - | CK51: - | CL51: - | CM51: 2 | CN51: 2 | CO51: 8 | CP51: 7 | CQ51: 6 | CR51: 7 | CS51: 15 | CT51: 10 | CU51: 8 | DC51: 350 | DD51: 219 | DE51: 142 | DF51: 55 | DG51: 22 | DH51: 57 | DI51: 36 | DJ51: 38 | DK51: 80 | DL51: 1 | DM51: - | DN51: 3 | DO51: - | DP51: 49 | DQ51: 3 | DR51: 11 | DS51: 11 | DT51: 2 | DU51: - | DV51: - | DW51: - | DX51: - | DY51: - | DZ51: - | EA51: 84 | EB51: 4907 | EC51: 242 | ED51: 4011 | EE51: 654 | EF51: 182 | EG51: 136 | EH51: 93 | EI51: 30 | EJ51: 13 | EK51: 2 | EL51: 23 | EM51: 21 | EN51: 168 | EO51: 83 | EP51: 49 | EQ51: 25 | ER51: 9 | ES51: 55 | ET51: 13 | EU51: 17
A52: 東京都 | B52: 足立区 | C52: 足立区 | E52: 224 | F52: 116 | G52: 40 | H52: 37 | I52: 39 | J52: 29 | K52: 37 | L52: 108 | M52: 380 | N52: 4 | O52: 10 | P52: 15 | Q52: 9 | R52: 30 | S52: 21 | T52: 27 | U52: 28 | V52: 37 | W52: 30 | X52: 41 | Y52: 40 | Z52: 38 | AA52: 33 | AB52: 17 | AC52: 58.9 | AD52: 57.2 | AE52: 61 | AF52: 281 | AG52: - | AH52: 2 | AI52: 3 | AJ52: 6 | AK52: 20 | AL52: 10 | AM52: 14 | AN52: 19 | AO52: 26 | AP52: 27 | AQ52: 38 | AR52: 36 | AS52: 35 | AT52: 29 | AU52: 16 | AV52: 63.7 | AW52: 62.7 | AX52: 64.8 | AY52: 248 | AZ52: - | BA52: 2 | BB52: 3 | BC52: 5 | BD52: 15 | BE52: 9 | BF52: 13 | BG52: 18 | BH52: 24 | BI52: 25 | BJ52: 35 | BK52: 32 | BL52: 34 | BM52: 24 | BN52: 9 | BO52: 63.3 | BP52: 62.1 | BQ52: 65 | BR52: 116 | BS52: - | BT52: - | BU52: - | BV52: - | BW52: 1 | BX52: 2 | BY52: 1 | BZ52: 4 | CA52: 10 | CB52: 10 | CC52: 16 | CD52: 21 | CE52: 24 | CF52: 16 | CG52: 11 | CH52: 80 | CI52: - | CJ52: - | CK52: - | CL52: 1 | CM52: - | CN52: 2 | CO52: 6 | CP52: 8 | CQ52: 12 | CR52: 15 | CS52: 14 | CT52: 12 | CU52: 10 | DC52: 502 | DD52: 364 | DE52: 248 | DF52: 92 | DG52: 24 | DH52: 52 | DI52: 38 | DJ52: 48 | DK52: 110 | DL52: 6 | DM52: - | DN52: 1 | DO52: - | DP52: 59 | DQ52: 25 | DR52: 1 | DS52: 18 | DT52: - | DU52: - | DV52: - | DW52: - | DX52: - | DY52: - | DZ52: - | EA52: 116 | EB52: 6067 | EC52: 1583 | ED52: 4413 | EE52: 71 | EF52: 254 | EG52: 215 | EH52: 147 | EI52: 54 | EJ52: 14 | EK52: - | EL52: 22 | EM52: 17 | EN52: 248 | EO52: 149 | EP52: 101 | EQ52: 38 | ER52: 10 | ES52: 52 | ET52: 16 | EU52: 31
A53: 東京都 | B53: 足立区 | C53: 足立区 | D53: 足立区全域 | E53: 224 | F53: 116 | G53: 40 | H53: 37 | I53: 39 | J53: 29 | K53: 37 | L53: 108 | M53: 380 | N53: 4 | O53: 10 | P53: 15 | Q53: 9 | R53: 30 | S53: 21 | T53: 27 | U53: 28 | V53: 37 | W53: 30 | X53: 41 | Y53: 40 | Z53: 38 | AA53: 33 | AB53: 17 | AC53: 58.9 | AD53: 57.2 | AE53: 61 | AF53: 281 | AG53: - | AH53: 2 | AI53: 3 | AJ53: 6 | AK53: 20 | AL53: 10 | AM53: 14 | AN53: 19 | AO53: 26 | AP53: 27 | AQ53: 38 | AR53: 36 | AS53: 35 | AT53: 29 | AU53: 16 | AV53: 63.7 | AW53: 62.7 | AX53: 64.8 | AY53: 248 | AZ53: - | BA53: 2 | BB53: 3 | BC53: 5 | BD53: 15 | BE53: 9 | BF53: 13 | BG53: 18 | BH53: 24 | BI53: 25 | BJ53: 35 | BK53: 32 | BL53: 34 | BM53: 24 | BN53: 9 | BO53: 63.3 | BP53: 62.1 | BQ53: 65 | BR53: 116 | BS53: - | BT53: - | BU53: - | BV53: - | BW53: 1 | BX53: 2 | BY53: 1 | BZ53: 4 | CA53: 10 | CB53: 10 | CC53: 16 | CD53: 21 | CE53: 24 | CF53: 16 | CG53: 11 | CH53: 80 | CI53: - | CJ53: - | CK53: - | CL53: 1 | CM53: - | CN53: 2 | CO53: 6 | CP53: 8 | CQ53: 12 | CR53: 15 | CS53: 14 | CT53: 12 | CU53: 10 | DC53: 502 | DD53: 364 | DE53: 248 | DF53: 92 | DG53: 24 | DH53: 52 | DI53: 38 | DJ53: 48 | DK53: 110 | DL53: 6 | DM53: - | DN53: 1 | DO53: - | DP53: 59 | DQ53: 25 | DR53: 1 | DS53: 18 | DT53: - | DU53: - | DV53: - | DW53: - | DX53: - | DY53: - | DZ53: - | EA53: 116 | EB53: 6067 | EC53: 1583 | ED53: 4413 | EE53: 71 | EF53: 254 | EG53: 215 | EH53: 147 | EI53: 54 | EJ53: 14 | EK53: - | EL53: 22 | EM53: 17 | EN53: 248 | EO53: 149 | EP53: 101 | EQ53: 38 | ER53: 10 | ES53: 52 | ET53: 16 | EU53: 31
A54: 東京都 | B54: 葛飾区 | C54: 葛飾区 | E54: 140 | F54: 96 | G54: 26 | H54: 25 | I54: 41 | J54: 29 | K54: 29 | L54: 44 | M54: 301 | N54: 4 | O54: 8 | P54: 13 | Q54: 9 | R54: 19 | S54: 14 | T54: 22 | U54: 30 | V54: 26 | W54: 26 | X54: 22 | Y54: 32 | Z54: 34 | AA54: 31 | AB54: 11 | AC54: 59 | AD54: 58 | AE54: 60.1 | AF54: 226 | AG54: 1 | AH54: 2 | AI54: 2 | AJ54: 6 | AK54: 13 | AL54: 9 | AM54: 14 | AN54: 22 | AO54: 21 | AP54: 22 | AQ54: 21 | AR54: 27 | AS54: 31 | AT54: 26 | AU54: 9 | AV54: 62.8 | AW54: 62.3 | AX54: 63.3 | AY54: 200 | AZ54: - | BA54: - | BB54: 2 | BC54: 6 | BD54: 7 | BE54: 9 | BF54: 12 | BG54: 22 | BH54: 19 | BI54: 20 | BJ54: 20 | BK54: 23 | BL54: 30 | BM54: 25 | BN54: 5 | BO54: 63.5 | BP54: 62.1 | BQ54: 65.5 | BR54: 96 | BS54: - | BT54: - | BU54: - | BV54: 1 | BW54: 1 | BX54: 1 | BY54: - | BZ54: 5 | CA54: 4 | CB54: 13 | CC54: 10 | CD54: 15 | CE54: 20 | CF54: 17 | CG54: 9 | CH54: 62 | CI54: - | CJ54: - | CK54: - | CL54: - | CM54: - | CN54: 2 | CO54: 1 | CP54: 9 | CQ54: 8 | CR54: 11 | CS54: 12 | CT54: 12 | CU54: 7 | DC54: 410 | DD54: 290 | DE54: 200 | DF54: 73 | DG54: 17 | DH54: 51 | DI54: 38 | DJ54: 31 | DK54: 93 | DL54: 13 | DM54: - | DN54: 2 | DO54: - | DP54: 53 | DQ54: 23 | DR54: - | DS54: 2 | DT54: - | DU54: - | DV54: - | DW54: - | DX54: - | DY54: - | DZ54: - | EA54: 96 | EB54: 8484 | EC54: 4485 | ED54: 3931 | EE54: 68 | EF54: 202 | EG54: 168 | EH54: 117 | EI54: 41 | EJ54: 10 | EK54: 1 | EL54: 18 | EM54: 15 | EN54: 208 | EO54: 122 | EP54: 83 | EQ54: 32 | ER54: 7 | ES54: 50 | ET54: 20 | EU54: 16
A55: 東京都 | B55: 葛飾区 | C55: 葛飾区 | D55: 葛飾区全域 | E55: 140 | F55: 96 | G55: 26 | H55: 25 | I55: 41 | J55: 29 | K55: 29 | L55: 44 | M55: 301 | N55: 4 | O55: 8 | P55: 13 | Q55: 9 | R55: 19 | S55: 14 | T55: 22 | U55: 30 | V55: 26 | W55: 26 | X55: 22 | Y55: 32 | Z55: 34 | AA55: 31 | AB55: 11 | AC55: 59 | AD55: 58 | AE55: 60.1 | AF55: 226 | AG55: 1 | AH55: 2 | AI55: 2 | AJ55: 6 | AK55: 13 | AL55: 9 | AM55: 14 | AN55: 22 | AO55: 21 | AP55: 22 | AQ55: 21 | AR55: 27 | AS55: 31 | AT55: 26 | AU55: 9 | AV55: 62.8 | AW55: 62.3 | AX55: 63.3 | AY55: 200 | AZ55: - | BA55: - | BB55: 2 | BC55: 6 | BD55: 7 | BE55: 9 | BF55: 12 | BG55: 22 | BH55: 19 | BI55: 20 | BJ55: 20 | BK55: 23 | BL55: 30 | BM55: 25 | BN55: 5 | BO55: 63.5 | BP55: 62.1 | BQ55: 65.5 | BR55: 96 | BS55: - | BT55: - | BU55: - | BV55: 1 | BW55: 1 | BX55: 1 | BY55: - | BZ55: 5 | CA55: 4 | CB55: 13 | CC55: 10 | CD55: 15 | CE55: 20 | CF55: 17 | CG55: 9 | CH55: 62 | CI55: - | CJ55: - | CK55: - | CL55: - | CM55: - | CN55: 2 | CO55: 1 | CP55: 9 | CQ55: 8 | CR55: 11 | CS55: 12 | CT55: 12 | CU55: 7 | DC55: 410 | DD55: 290 | DE55: 200 | DF55: 73 | DG55: 17 | DH55: 51 | DI55: 38 | DJ55: 31 | DK55: 93 | DL55: 13 | DM55: - | DN55: 2 | DO55: - | DP55: 53 | DQ55: 23 | DR55: - | DS55: 2 | DT55: - | DU55: - | DV55: - | DW55: - | DX55: - | DY55: - | DZ55: - | EA55: 96 | EB55: 8484 | EC55: 4485 | ED55: 3931 | EE55: 68 | EF55: 202 | EG55: 168 | EH55: 117 | EI55: 41 | EJ55: 10 | EK55: 1 | EL55: 18 | EM55: 15 | EN55: 208 | EO55: 122 | EP55: 83 | EQ55: 32 | ER55: 7 | ES55: 50 | ET55: 20 | EU55: 16
A56: 東京都 | B56: 江戸川区 | C56: 江戸川区 | E56: 220 | F56: 149 | G56: 62 | H56: 58 | I56: 46 | J56: 30 | K56: 41 | L56: 71 | M56: 417 | N56: 6 | O56: 6 | P56: 12 | Q56: 9 | R56: 21 | S56: 29 | T56: 34 | U56: 43 | V56: 26 | W56: 38 | X56: 59 | Y56: 51 | Z56: 42 | AA56: 26 | AB56: 15 | AC56: 59.4 | AD56: 58.6 | AE56: 60.3 | AF56: 341 | AG56: 2 | AH56: 1 | AI56: 8 | AJ56: 4 | AK56: 15 | AL56: 24 | AM56: 30 | AN56: 31 | AO56: 18 | AP56: 32 | AQ56: 55 | AR56: 48 | AS56: 36 | AT56: 23 | AU56: 14 | AV56: 61.4 | AW56: 60.3 | AX56: 62.8 | AY56: 320 | AZ56: - | BA56: - | BB56: 8 | BC56: 4 | BD56: 12 | BE56: 20 | BF56: 25 | BG56: 29 | BH56: 18 | BI56: 31 | BJ56: 55 | BK56: 48 | BL56: 35 | BM56: 23 | BN56: 12 | BO56: 62.4 | BP56: 60.7 | BQ56: 64.7 | BR56: 149 | BS56: - | BT56: - | BU56: 2 | BV56: - | BW56: - | BX56: 4 | BY56: 4 | BZ56: 14 | CA56: 5 | CB56: 16 | CC56: 28 | CD56: 29 | CE56: 22 | CF56: 16 | CG56: 9 | CH56: 89 | CI56: - | CJ56: - | CK56: - | CL56: 1 | CM56: 1 | CN56: 6 | CO56: 2 | CP56: 9 | CQ56: 18 | CR56: 21 | CS56: 13 | CT56: 13 | CU56: 5 | DC56: 585 | DD56: 422 | DE56: 320 | DF56: 79 | DG56: 23 | DH56: 65 | DI56: 52 | DJ56: 46 | DK56: 138 | DL56: 4 | DM56: - | DN56: - | DO56: 1 | DP56: 41 | DQ56: 71 | DR56: 1 | DS56: 20 | DT56: - | DU56: - | DV56: - | DW56: - | DX56: - | DY56: - | DZ56: - | EA56: 147 | EB56: 7482 | EC56: 1171 | ED56: 5653 | EE56: 658 | EF56: 280 | EG56: 241 | EH56: 184 | EI56: 40 | EJ56: 17 | EK56: 1 | EL56: 27 | EM56: 11 | EN56: 305 | EO56: 181 | EP56: 136 | EQ56: 39 | ER56: 6 | ES56: 64 | ET56: 25 | EU56: 35
A57: 東京都 | B57: 江戸川区 | C57: 江戸川区 | D57: 江戸川区全域 | E57: 220 | F57: 149 | G57: 62 | H57: 58 | I57: 46 | J57: 30 | K57: 41 | L57: 71 | M57: 417 | N57: 6 | O57: 6 | P57: 12 | Q57: 9 | R57: 21 | S57: 29 | T57: 34 | U57: 43 | V57: 26 | W57: 38 | X57: 59 | Y57: 51 | Z57: 42 | AA57: 26 | AB57: 15 | AC57: 59.4 | AD57: 58.6 | AE57: 60.3 | AF57: 341 | AG57: 2 | AH57: 1 | AI57: 8 | AJ57: 4 | AK57: 15 | AL57: 24 | AM57: 30 | AN57: 31 | AO57: 18 | AP57: 32 | AQ57: 55 | AR57: 48 | AS57: 36 | AT57: 23 | AU57: 14 | AV57: 61.4 | AW57: 60.3 | AX57: 62.8 | AY57: 320 | AZ57: - | BA57: - | BB57: 8 | BC57: 4 | BD57: 12 | BE57: 20 | BF57: 25 | BG57: 29 | BH57: 18 | BI57: 31 | BJ57: 55 | BK57: 48 | BL57: 35 | BM57: 23 | BN57: 12 | BO57: 62.4 | BP57: 60.7 | BQ57: 64.7 | BR57: 149 | BS57: - | BT57: - | BU57: 2 | BV57: - | BW57: - | BX57: 4 | BY57: 4 | BZ57: 14 | CA57: 5 | CB57: 16 | CC57: 28 | CD57: 29 | CE57: 22 | CF57: 16 | CG57: 9 | CH57: 89 | CI57: - | CJ57: - | CK57: - | CL57: 1 | CM57: 1 | CN57: 6 | CO57: 2 | CP57: 9 | CQ57: 18 | CR57: 21 | CS57: 13 | CT57: 13 | CU57: 5 | DC57: 585 | DD57: 422 | DE57: 320 | DF57: 79 | DG57: 23 | DH57: 65 | DI57: 52 | DJ57: 46 | DK57: 138 | DL57: 4 | DM57: - | DN57: - | DO57: 1 | DP57: 41 | DQ57: 71 | DR57: 1 | DS57: 20 | DT57: - | DU57: - | DV57: - | DW57: - | DX57: - | DY57: - | DZ57: - | EA57: 147 | EB57: 7482 | EC57: 1171 | ED57: 5653 | EE57: 658 | EF57: 280 | EG57: 241 | EH57: 184 | EI57: 40 | EJ57: 17 | EK57: 1 | EL57: 27 | EM57: 11 | EN57: 305 | EO57: 181 | EP57: 136 | EQ57: 39 | ER57: 6 | ES57: 64 | ET57: 25 | EU57: 35
A58: 東京都 | B58: 八王子市 | E58: 1320 | F58: 491 | G58: 132 | H58: 120 | I58: 105 | J58: 61 | K58: 254 | L58: 829 | M58: 1229 | N58: 20 | O58: 36 | P58: 25 | Q58: 23 | R58: 35 | S58: 55 | T58: 89 | U58: 125 | V58: 139 | W58: 116 | X58: 116 | Y58: 114 | Z58: 153 | AA58: 111 | AB58: 72 | AC58: 61.1 | AD58: 60.5 | AE58: 61.9 | AF58: 854 | AG58: 10 | AH58: 9 | AI58: 8 | AJ58: 9 | AK58: 19 | AL58: 35 | AM58: 50 | AN58: 64 | AO58: 78 | AP58: 75 | AQ58: 98 | AR58: 95 | AS58: 134 | AT58: 102 | AU58: 68 | AV58: 65.5 | AW58: 65.1 | AX58: 65.9 | AY58: 697 | AZ58: - | BA58: - | BB58: 7 | BC58: 7 | BD58: 15 | BE58: 32 | BF58: 39 | BG58: 54 | BH58: 66 | BI58: 59 | BJ58: 84 | BK58: 81 | BL58: 116 | BM58: 87 | BN58: 50 | BO58: 66.5 | BP58: 66 | BQ58: 67.2 | BR58: 491 | BS58: - | BT58: - | BU58: - | BV58: - | BW58: 3 | BX58: 9 | BY58: 22 | BZ58: 38 | CA58: 54 | CB58: 59 | CC58: 58 | CD58: 55 | CE58: 78 | CF58: 68 | CG58: 47 | CH58: 283 | CI58: - | CJ58: - | CK58: 1 | CL58: - | CM58: 9 | CN58: 6 | CO58: 25 | CP58: 36 | CQ58: 32 | CR58: 33 | CS58: 56 | CT58: 43 | CU58: 42 | DC58: 1684 | DD58: 1093 | DE58: 697 | DF58: 322 | DG58: 74 | DH58: 260 | DI58: 167 | DJ58: 164 | DK58: 393 | DL58: 14 | DM58: - | DN58: 14 | DO58: 2 | DP58: 215 | DQ58: 14 | DR58: 72 | DS58: 19 | DT58: 11 | DU58: 16 | DV58: 5 | DW58: 2 | DX58: 6 | DY58: 2 | DZ58: 1 | EA58: 488 | EB58: 32872 | EC58: 3390 | ED58: 23129 | EE58: 6353 | EF58: 845 | EG58: 705 | EH58: 448 | EI58: 206 | EJ58: 51 | EK58: 2 | EL58: 86 | EM58: 52 | EN58: 839 | EO58: 388 | EP58: 249 | EQ58: 116 | ER58: 23 | ES58: 258 | ET58: 81 | EU58: 112
A59: 東京都 | B59: 八王子市 | C59: 八王子市 | E59: 183 | F59: 78 | G59: 30 | H59: 27 | I59: 17 | J59: 11 | K59: 31 | L59: 105 | M59: 215 | N59: 5 | O59: 6 | P59: 5 | Q59: 3 | R59: 9 | S59: 10 | T59: 11 | U59: 27 | V59: 26 | W59: 17 | X59: 24 | Y59: 15 | Z59: 25 | AA59: 22 | AB59: 10 | AC59: 60.2 | AD59: 58.7 | AE59: 61.8 | AF59: 164 | AG59: 4 | AH59: 2 | AI59: 3 | AJ59: 1 | AK59: 4 | AL59: 7 | AM59: 9 | AN59: 16 | AO59: 19 | AP59: 12 | AQ59: 21 | AR59: 14 | AS59: 23 | AT59: 19 | AU59: 10 | AV59: 63.3 | AW59: 61.1 | AX59: 65.8 | AY59: 133 | AZ59: - | BA59: - | BB59: 2 | BC59: - | BD59: 2 | BE59: 7 | BF59: 7 | BG59: 12 | BH59: 16 | BI59: 11 | BJ59: 19 | BK59: 14 | BL59: 19 | BM59: 16 | BN59: 8 | BO59: 65.7 | BP59: 63 | BQ59: 70.3 | BR59: 78 | BS59: - | BT59: - | BU59: - | BV59: - | BW59: 1 | BX59: 3 | BY59: 2 | BZ59: 11 | CA59: 8 | CB59: 8 | CC59: 13 | CD59: 6 | CE59: 13 | CF59: 10 | CG59: 3 | CH59: 39 | CI59: - | CJ59: - | CK59: - | CL59: - | CM59: - | CN59: 2 | CO59: 3 | CP59: 6 | CQ59: 7 | CR59: 5 | CS59: 10 | CT59: 4 | CU59: 2 | DC59: 262 | DD59: 176 | DE59: 133 | DF59: 31 | DG59: 12 | DH59: 34 | DI59: 26 | DJ59: 26 | DK59: 69 | DL59: - | DM59: - | DN59: 2 | DO59: 1 | DP59: 45 | DQ59: 5 | DR59: 10 | DS59: 4 | DT59: 2 | DU59: - | DV59: - | DW59: - | DX59: - | DY59: - | DZ59: - | EA59: 78 | EB59: 4883 | EC59: 141 | ED59: 4148 | EE59: 594 | EF59: 127 | EG59: 108 | EH59: 84 | EI59: 17 | EJ59: 7 | EK59: - | EL59: 13 | EM59: 6 | EN59: 135 | EO59: 68 | EP59: 49 | EQ59: 14 | ER59: 5 | ES59: 34 | ET59: 13 | EU59: 20
A60: 東京都 | B60: 八王子市 | C60: 八王子市 | D60: 八王子市 | E60: 183 | F60: 78 | G60: 30 | H60: 27 | I60: 17 | J60: 11 | K60: 31 | L60: 105 | M60: 215 | N60: 5 | O60: 6 | P60: 5 | Q60: 3 | R60: 9 | S60: 10 | T60: 11 | U60: 27 | V60: 26 | W60: 17 | X60: 24 | Y60: 15 | Z60: 25 | AA60: 22 | AB60: 10 | AC60: 60.2 | AD60: 58.7 | AE60: 61.8 | AF60: 164 | AG60: 4 | AH60: 2 | AI60: 3 | AJ60: 1 | AK60: 4 | AL60: 7 | AM60: 9 | AN60: 16 | AO60: 19 | AP60: 12 | AQ60: 21 | AR60: 14 | AS60: 23 | AT60: 19 | AU60: 10 | AV60: 63.3 | AW60: 61.1 | AX60: 65.8 | AY60: 133 | AZ60: - | BA60: - | BB60: 2 | BC60: - | BD60: 2 | BE60: 7 | BF60: 7 | BG60: 12 | BH60: 16 | BI60: 11 | BJ60: 19 | BK60: 14 | BL60: 19 | BM60: 16 | BN60: 8 | BO60: 65.7 | BP60: 63 | BQ60: 70.3 | BR60: 78 | BS60: - | BT60: - | BU60: - | BV60: - | BW60: 1 | BX60: 3 | BY60: 2 | BZ60: 11 | CA60: 8 | CB60: 8 | CC60: 13 | CD60: 6 | CE60: 13 | CF60: 10 | CG60: 3 | CH60: 39 | CI60: - | CJ60: - | CK60: - | CL60: - | CM60: - | CN60: 2 | CO60: 3 | CP60: 6 | CQ60: 7 | CR60: 5 | CS60: 10 | CT60: 4 | CU60: 2 | DC60: 262 | DD60: 176 | DE60: 133 | DF60: 31 | DG60: 12 | DH60: 34 | DI60: 26 | DJ60: 26 | DK60: 69 | DL60: - | DM60: - | DN60: 2 | DO60: 1 | DP60: 45 | DQ60: 5 | DR60: 10 | DS60: 4 | DT60: 2 | DU60: - | DV60: - | DW60: - | DX60: - | DY60: - | DZ60: - | EA60: 78 | EB60: 4883 | EC60: 141 | ED60: 4148 | EE60: 594 | EF60: 127 | EG60: 108 | EH60: 84 | EI60: 17 | EJ60: 7 | EK60: - | EL60: 13 | EM60: 6 | EN60: 135 | EO60: 68 | EP60: 49 | EQ60: 14 | ER60: 5 | ES60: 34 | ET60: 13 | EU60: 20
A61: 東京都 | B61: 八王子市 | C61: 横山村 | E61: 71 | F61: 20 | G61: 3 | H61: 3 | I61: 5 | J61: 3 | K61: 12 | L61: 51 | M61: 45 | N61: - | O61: - | P61: 3 | Q61: - | R61: - | S61: 1 | T61: 4 | U61: 2 | V61: 8 | W61: 3 | X61: 2 | Y61: 11 | Z61: 9 | AA61: - | AB61: 2 | AC61: 63.6 | AD61: 62.8 | AE61: 64.6 | AF61: 33 | AG61: - | AH61: - | AI61: 1 | AJ61: - | AK61: - | AL61: - | AM61: 2 | AN61: 1 | AO61: 6 | AP61: 3 | AQ61: 1 | AR61: 10 | AS61: 7 | AT61: - | AU61: 2 | AV61: 66.8 | AW61: 66.3 | AX61: 67.5 | AY61: 29 | AZ61: - | BA61: - | BB61: 1 | BC61: - | BD61: - | BE61: - | BF61: 2 | BG61: 1 | BH61: 5 | BI61: 3 | BJ61: - | BK61: 9 | BL61: 6 | BM61: - | BN61: 2 | BO61: 66.7 | BP61: 66.3 | BQ61: 67.6 | BR61: 20 | BS61: - | BT61: - | BU61: - | BV61: - | BW61: - | BX61: - | BY61: 1 | BZ61: 1 | CA61: 2 | CB61: 2 | CC61: - | CD61: 6 | CE61: 4 | CF61: - | CG61: 4 | CH61: 15 | CI61: - | CJ61: - | CK61: - | CL61: - | CM61: - | CN61: - | CO61: 1 | CP61: 1 | CQ61: - | CR61: 6 | CS61: 3 | CT61: - | CU61: 4 | DC61: 67 | DD61: 47 | DE61: 29 | DF61: 14 | DG61: 4 | DH61: 11 | DI61: 2 | DJ61: 7 | DK61: 17 | DL61: - | DM61: - | DN61: - | DO61: - | DP61: 10 | DQ61: - | DR61: 2 | DS61: 1 | DT61: - | DU61: 3 | DV61: 1 | DW61: - | DX61: - | DY61: - | DZ61: - | EA61: 20 | EB61: 1383 | EC61: 230 | ED61: 974 | EE61: 179 | EF61: 32 | EG61: 28 | EH61: 20 | EI61: 6 | EJ61: 2 | EK61: - | EL61: 1 | EM61: 3 | EN61: 35 | EO61: 19 | EP61: 9 | EQ61: 8 | ER61: 2 | ES61: 11 | ET61: 1 | EU61: 4
A62: 東京都 | B62: 八王子市 | C62: 横山村 | D62: 横山村 | E62: 71 | F62: 20 | G62: 3 | H62: 3 | I62: 5 | J62: 3 | K62: 12 | L62: 51 | M62: 45 | N62: - | O62: - | P62: 3 | Q62: - | R62: - | S62: 1 | T62: 4 | U62: 2 | V62: 8 | W62: 3 | X62: 2 | Y62: 11 | Z62: 9 | AA62: - | AB62: 2 | AC62: 63.6 | AD62: 62.8 | AE62: 64.6 | AF62: 33 | AG62: - | AH62: - | AI62: 1 | AJ62: - | AK62: - | AL62: - | AM62: 2 | AN62: 1 | AO62: 6 | AP62: 3 | AQ62: 1 | AR62: 10 | AS62: 7 | AT62: - | AU62: 2 | AV62: 66.8 | AW62: 66.3 | AX62: 67.5 | AY62: 29 | AZ62: - | BA62: - | BB62: 1 | BC62: - | BD62: - | BE62: - | BF62: 2 | BG62: 1 | BH62: 5 | BI62: 3 | BJ62: - | BK62: 9 | BL62: 6 | BM62: - | BN62: 2 | BO62: 66.7 | BP62: 66.3 | BQ62: 67.6 | BR62: 20 | BS62: - | BT62: - | BU62: - | BV62: - | BW62: - | BX62: - | BY62: 1 | BZ62: 1 | CA62: 2 | CB62: 2 | CC62: - | CD62: 6 | CE62: 4 | CF62: - | CG62: 4 | CH62: 15 | CI62: - | CJ62: - | CK62: - | CL62: - | CM62: - | CN62: - | CO62: 1 | CP62: 1 | CQ62: - | CR62: 6 | CS62: 3 | CT62: - | CU62: 4 | DC62: 67 | DD62: 47 | DE62: 29 | DF62: 14 | DG62: 4 | DH62: 11 | DI62: 2 | DJ62: 7 | DK62: 17 | DL62: - | DM62: - | DN62: - | DO62: - | DP62: 10 | DQ62: - | DR62: 2 | DS62: 1 | DT62: - | DU62: 3 | DV62: 1 | DW62: - | DX62: - | DY62: - | DZ62: - | EA62: 20 | EB62: 1383 | EC62: 230 | ED62: 974 | EE62: 179 | EF62: 32 | EG62: 28 | EH62: 20 | EI62: 6 | EJ62: 2 | EK62: - | EL62: 1 | EM62: 3 | EN62: 35 | EO62: 19 | EP62: 9 | EQ62: 8 | ER62: 2 | ES62: 11 | ET62: 1 | EU62: 4
A63: 東京都 | B63: 八王子市 | C63: 浅川町 | E63: 56 | F63: 7 | G63: - | H63: - | I63: 2 | J63: 1 | K63: 5 | L63: 49 | M63: 13 | N63: - | O63: - | P63: - | Q63: - | R63: - | S63: - | T63: 3 | U63: - | V63: 1 | W63: 1 | X63: 4 | Y63: 1 | Z63: 1 | AA63: 2 | AB63: - | AC63: 63.9 | AD63: 63.9 | AE63: 64 | AF63: 8 | AG63: - | AH63: - | AI63: - | AJ63: - | AK63: - | AL63: - | AM63: 1 | AN63: - | AO63: 1 | AP63: - | AQ63: 3 | AR63: - | AS63: 1 | AT63: 2 | AU63: - | AV63: 67.8 | AW63: 66.3 | AX63: 78 | AY63: 8 | AZ63: - | BA63: - | BB63: - | BC63: - | BD63: - | BE63: - | BF63: 1 | BG63: - | BH63: 1 | BI63: - | BJ63: 3 | BK63: - | BL63: 1 | BM63: 2 | BN63: - | BO63: 67.8 | BP63: 66.3 | BQ63: 78 | BR63: 7 | BS63: - | BT63: - | BU63: - | BV63: - | BW63: - | BX63: - | BY63: 1 | BZ63: - | CA63: - | CB63: - | CC63: 3 | CD63: - | CE63: - | CF63: 2 | CG63: 1 | CH63: 5 | CI63: - | CJ63: - | CK63: - | CL63: - | CM63: - | CN63: - | CO63: - | CP63: - | CQ63: 3 | CR63: - | CS63: - | CT63: 2 | CU63: - | DC63: 18 | DD63: 13 | DE63: 8 | DF63: 4 | DG63: 1 | DH63: 1 | DI63: 2 | DJ63: 2 | DK63: 5 | DL63: - | DM63: - | DN63: - | DO63: - | DP63: 3 | DQ63: - | DR63: 2 | DS63: - | DT63: - | DU63: - | DV63: - | DW63: - | DX63: - | DY63: - | DZ63: - | EA63: 7 | EB63: 297 | EC63: 21 | ED63: 142 | EE63: 134 | EF63: 10 | EG63: 8 | EH63: 7 | EI63: 1 | EJ63: - | EK63: - | EL63: 1 | EM63: 1 | EN63: 8 | EO63: 5 | EP63: 1 | EQ63: 3 | ER63: 1 | ES63: 1 | ET63: 1 | EU63: 1
A64: 東京都 | B64: 八王子市 | C64: 浅川町 | D64: 浅川町 | E64: 56 | F64: 7 | G64: - | H64: - | I64: 2 | J64: 1 | K64: 5 | L64: 49 | M64: 13 | N64: - | O64: - | P64: - | Q64: - | R64: - | S64: - | T64: 3 | U64: - | V64: 1 | W64: 1 | X64: 4 | Y64: 1 | Z64: 1 | AA64: 2 | AB64: - | AC64: 63.9 | AD64: 63.9 | AE64: 64 | AF64: 8 | AG64: - | AH64: - | AI64: - | AJ64: - | AK64: - | AL64: - | AM64: 1 | AN64: - | AO64: 1 | AP64: - | AQ64: 3 | AR64: - | AS64: 1 | AT64: 2 | AU64: - | AV64: 67.8 | AW64: 66.3 | AX64: 78 | AY64: 8 | AZ64: - | BA64: - | BB64: - | BC64: - | BD64: - | BE64: - | BF64: 1 | BG64: - | BH64: 1 | BI64: - | BJ64: 3 | BK64: - | BL64: 1 | BM64: 2 | BN64: - | BO64: 67.8 | BP64: 66.3 | BQ64: 78 | BR64: 7 | BS64: - | BT64: - | BU64: - | BV64: - | BW64: - | BX64: - | BY64: 1 | BZ64: - | CA64: - | CB64: - | CC64: 3 | CD64: - | CE64: - | CF64: 2 | CG64: 1 | CH64: 5 | CI64: - | CJ64: - | CK64: - | CL64: - | CM64: - | CN64: - | CO64: - | CP64: - | CQ64: 3 | CR64: - | CS64: - | CT64: 2 | CU64: - | DC64: 18 | DD64: 13 | DE64: 8 | DF64: 4 | DG64: 1 | DH64: 1 | DI64: 2 | DJ64: 2 | DK64: 5 | DL64: - | DM64: - | DN64: - | DO64: - | DP64: 3 | DQ64: - | DR64: 2 | DS64: - | DT64: - | DU64: - | DV64: - | DW64: - | DX64: - | DY64: - | DZ64: - | EA64: 7 | EB64: 297 | EC64: 21 | ED64: 142 | EE64: 134 | EF64: 10 | EG64: 8 | EH64: 7 | EI64: 1 | EJ64: - | EK64: - | EL64: 1 | EM64: 1 | EN64: 8 | EO64: 5 | EP64: 1 | EQ64: 3 | ER64: 1 | ES64: 1 | ET64: 1 | EU64: 1
A65: 東京都 | B65: 八王子市 | C65: 元八王子村 | E65: 135 | F65: 43 | G65: 10 | H65: 9 | I65: 13 | J65: 9 | K65: 20 | L65: 92 | M65: 124 | N65: 2 | O65: 4 | P65: 4 | Q65: 4 | R65: 4 | S65: 8 | T65: 11 | U65: 6 | V65: 14 | W65: 19 | X65: 7 | Y65: 5 | Z65: 17 | AA65: 10 | AB65: 9 | AC65: 59.7 | AD65: 58.3 | AE65: 61.4 | AF65: 82 | AG65: 2 | AH65: - | AI65: 1 | AJ65: 2 | AK65: 1 | AL65: 6 | AM65: 6 | AN65: 3 | AO65: 5 | AP65: 11 | AQ65: 6 | AR65: 4 | AS65: 16 | AT65: 10 | AU65: 9 | AV65: 65.3 | AW65: 64.3 | AX65: 66.3 | AY65: 73 | AZ65: - | BA65: - | BB65: 1 | BC65: 1 | BD65: 1 | BE65: 6 | BF65: 6 | BG65: 3 | BH65: 5 | BI65: 10 | BJ65: 5 | BK65: 4 | BL65: 15 | BM65: 9 | BN65: 7 | BO65: 66.1 | BP65: 66.2 | BQ65: 66 | BR65: 43 | BS65: - | BT65: - | BU65: - | BV65: - | BW65: - | BX65: - | BY65: 4 | BZ65: 2 | CA65: 2 | CB65: 9 | CC65: 3 | CD65: 2 | CE65: 6 | CF65: 7 | CG65: 8 | CH65: 34 | CI65: - | CJ65: - | CK65: - | CL65: - | CM65: 3 | CN65: - | CO65: 2 | CP65: 6 | CQ65: 2 | CR65: 2 | CS65: 5 | CT65: 6 | CU65: 8 | DC65: 162 | DD65: 111 | DE65: 73 | DF65: 28 | DG65: 10 | DH65: 17 | DI65: 19 | DJ65: 15 | DK65: 34 | DL65: - | DM65: - | DN65: 4 | DO65: - | DP65: 16 | DQ65: - | DR65: 7 | DS65: 3 | DT65: 3 | DU65: - | DV65: - | DW65: - | DX65: 1 | DY65: - | DZ65: - | EA65: 43 | EB65: 3017 | EC65: 415 | ED65: 1760 | EE65: 842 | EF65: 79 | EG65: 67 | EH65: 40 | EI65: 22 | EJ65: 5 | EK65: - | EL65: 9 | EM65: 3 | EN65: 83 | EO65: 44 | EP65: 33 | EQ65: 6 | ER65: 5 | ES65: 17 | ET65: 10 | EU65: 12
A66: 東京都 | B66: 八王子市 | C66: 元八王子村 | D66: 元八王子村 | E66: 135 | F66: 43 | G66: 10 | H66: 9 | I66: 13 | J66: 9 | K66: 20 | L66: 92 | M66: 124 | N66: 2 | O66: 4 | P66: 4 | Q66: 4 | R66: 4 | S66: 8 | T66: 11 | U66: 6 | V66: 14 | W66: 19 | X66: 7 | Y66: 5 | Z66: 17 | AA66: 10 | AB66: 9 | AC66: 59.7 | AD66: 58.3 | AE66: 61.4 | AF66: 82 | AG66: 2 | AH66: - | AI66: 1 | AJ66: 2 | AK66: 1 | AL66: 6 | AM66: 6 | AN66: 3 | AO66: 5 | AP66: 11 | AQ66: 6 | AR66: 4 | AS66: 16 | AT66: 10 | AU66: 9 | AV66: 65.3 | AW66: 64.3 | AX66: 66.3 | AY66: 73 | AZ66: - | BA66: - | BB66: 1 | BC66: 1 | BD66: 1 | BE66: 6 | BF66: 6 | BG66: 3 | BH66: 5 | BI66: 10 | BJ66: 5 | BK66: 4 | BL66: 15 | BM66: 9 | BN66: 7 | BO66: 66.1 | BP66: 66.2 | BQ66: 66 | BR66: 43 | BS66: - | BT66: - | BU66: - | BV66: - | BW66: - | BX66: - | BY66: 4 | BZ66: 2 | CA66: 2 | CB66: 9 | CC66: 3 | CD66: 2 | CE66: 6 | CF66: 7 | CG66: 8 | CH66: 34 | CI66: - | CJ66: - | CK66: - | CL66: - | CM66: 3 | CN66: - | CO66: 2 | CP66: 6 | CQ66: 2 | CR66: 2 | CS66: 5 | CT66: 6 | CU66: 8 | DC66: 162 | DD66: 111 | DE66: 73 | DF66: 28 | DG66: 10 | DH66: 17 | DI66: 19 | DJ66: 15 | DK66: 34 | DL66: - | DM66: - | DN66: 4 | DO66: - | DP66: 16 | DQ66: - | DR66: 7 | DS66: 3 | DT66: 3 | DU66: - | DV66: - | DW66: - | DX66: 1 | DY66: - | DZ66: - | EA66: 43 | EB66: 3017 | EC66: 415 | ED66: 1760 | EE66: 842 | EF66: 79 | EG66: 67 | EH66: 40 | EI66: 22 | EJ66: 5 | EK66: - | EL66: 9 | EM66: 3 | EN66: 83 | EO66: 44 | EP66: 33 | EQ66: 6 | ER66: 5 | ES66: 17 | ET66: 10 | EU66: 12
A67: 東京都 | B67: 八王子市 | C67: 恩方村 | E67: 198 | F67: 70 | G67: 3 | H67: 2 | I67: 9 | J67: 4 | K67: 58 | L67: 128 | M67: 150 | N67: 3 | O67: 6 | P67: 3 | Q67: 2 | R67: 1 | S67: 4 | T67: 10 | U67: 13 | V67: 24 | W67: 15 | X67: 12 | Y67: 16 | Z67: 12 | AA67: 14 | AB67: 15 | AC67: 62.3 | AD67: 61.7 | AE67: 63 | AF67: 83 | AG67: 2 | AH67: 2 | AI67: - | AJ67: 1 | AK67: - | AL67: - | AM67: 2 | AN67: 3 | AO67: 9 | AP67: 6 | AQ67: 11 | AR67: 11 | AS67: 12 | AT67: 11 | AU67: 13 | AV67: 69.3 | AW67: 70.6 | AX67: 67.7 | AY67: 51 | AZ67: - | BA67: - | BB67: - | BC67: 1 | BD67: - | BE67: - | BF67: 1 | BG67: 1 | BH67: 5 | BI67: 4 | BJ67: 7 | BK67: 8 | BL67: 7 | BM67: 9 | BN67: 8 | BO67: 72.5 | BP67: 73.4 | BQ67: 70.5 | BR67: 70 | BS67: - | BT67: - | BU67: - | BV67: - | BW67: - | BX67: 1 | BY67: 4 | BZ67: 3 | CA67: 12 | CB67: 8 | CC67: 7 | CD67: 9 | CE67: 4 | CF67: 8 | CG67: 14 | CH67: 47 | CI67: - | CJ67: - | CK67: - | CL67: - | CM67: 3 | CN67: 1 | CO67: 5 | CP67: 5 | CQ67: 6 | CR67: 6 | CS67: 3 | CT67: 5 | CU67: 13 | DC67: 223 | DD67: 121 | DE67: 51 | DF67: 61 | DG67: 9 | DH67: 54 | DI67: 25 | DJ67: 23 | DK67: 33 | DL67: 2 | DM67: - | DN67: 2 | DO67: - | DP67: 6 | DQ67: - | DR67: 22 | DS67: 1 | DT67: - | DU67: - | DV67: - | DW67: - | DX67: - | DY67: - | DZ67: - | EA67: 70 | EB67: 3560 | EC67: 151 | ED67: 1866 | EE67: 1543 | EF67: 113 | EG67: 86 | EH67: 36 | EI67: 42 | EJ67: 8 | EK67: 1 | EL67: 17 | EM67: 9 | EN67: 110 | EO67: 35 | EP67: 15 | EQ67: 19 | ER67: 1 | ES67: 53 | ET67: 8 | EU67: 14
A68: 東京都 | B68: 八王子市 | C68: 恩方村 | D68: 恩方村 | E68: 198 | F68: 70 | G68: 3 | H68: 2 | I68: 9 | J68: 4 | K68: 58 | L68: 128 | M68: 150 | N68: 3 | O68: 6 | P68: 3 | Q68: 2 | R68: 1 | S68: 4 | T68: 10 | U68: 13 | V68: 24 | W68: 15 | X68: 12 | Y68: 16 | Z68: 12 | AA68: 14 | AB68: 15 | AC68: 62.3 | AD68: 61.7 | AE68: 63 | AF68: 83 | AG68: 2 | AH68: 2 | AI68: - | AJ68: 1 | AK68: - | AL68: - | AM68: 2 | AN68: 3 | AO68: 9 | AP68: 6 | AQ68: 11 | AR68: 11 | AS68: 12 | AT68: 11 | AU68: 13 | AV68: 69.3 | AW68: 70.6 | AX68: 67.7 | AY68: 51 | AZ68: - | BA68: - | BB68: - | BC68: 1 | BD68: - | BE68: - | BF68: 1 | BG68: 1 | BH68: 5 | BI68: 4 | BJ68: 7 | BK68: 8 | BL68: 7 | BM68: 9 | BN68: 8 | BO68: 72.5 | BP68: 73.4 | BQ68: 70.5 | BR68: 70 | BS68: - | BT68: - | BU68: - | BV68: - | BW68: - | BX68: 1 | BY68: 4 | BZ68: 3 | CA68: 12 | CB68: 8 | CC68: 7 | CD68: 9 | CE68: 4 | CF68: 8 | CG68: 14 | CH68: 47 | CI68: - | CJ68: - | CK68: - | CL68: - | CM68: 3 | CN68: 1 | CO68: 5 | CP68: 5 | CQ68: 6 | CR68: 6 | CS68: 3 | CT68: 5 | CU68: 13 | DC68: 223 | DD68: 121 | DE68: 51 | DF68: 61 | DG68: 9 | DH68: 54 | DI68: 25 | DJ68: 23 | DK68: 33 | DL68: 2 | DM68: - | DN68: 2 | DO68: - | DP68: 6 | DQ68: - | DR68: 22 | DS68: 1 | DT68: - | DU68: - | DV68: - | DW68: - | DX68: - | DY68: - | DZ68: - | EA68: 70 | EB68: 3560 | EC68: 151 | ED68: 1866 | EE68: 1543 | EF68: 113 | EG68: 86 | EH68: 36 | EI68: 42 | EJ68: 8 | EK68: 1 | EL68: 17 | EM68: 9 | EN68: 110 | EO68: 35 | EP68: 15 | EQ68: 19 | ER68: 1 | ES68: 53 | ET68: 8 | EU68: 14
A69: 東京都 | B69: 八王子市 | C69: 川口村 | E69: 217 | F69: 76 | G69: 20 | H69: 18 | I69: 12 | J69: 9 | K69: 44 | L69: 141 | M69: 182 | N69: 1 | O69: 3 | P69: - | Q69: 3 | R69: 9 | S69: 5 | T69: 12 | U69: 22 | V69: 18 | W69: 17 | X69: 18 | Y69: 19 | Z69: 30 | AA69: 14 | AB69: 11 | AC69: 63 | AD69: 63.3 | AE69: 62.6 | AF69: 133 | AG69: - | AH69: 1 | AI69: - | AJ69: 2 | AK69: 4 | AL69: 3 | AM69: 9 | AN69: 9 | AO69: 11 | AP69: 13 | AQ69: 17 | AR69: 16 | AS69: 25 | AT69: 13 | AU69: 10 | AV69: 66.4 | AW69: 66.9 | AX69: 65.6 | AY69: 109 | AZ69: - | BA69: - | BB69: - | BC69: 2 | BD69: 4 | BE69: 2 | BF69: 8 | BG69: 7 | BH69: 11 | BI69: 6 | BJ69: 16 | BK69: 13 | BL69: 25 | BM69: 11 | BN69: 4 | BO69: 66.1 | BP69: 66.6 | BQ69: 65.1 | BR69: 76 | BS69: - | BT69: - | BU69: - | BV69: - | BW69: 1 | BX69: - | BY69: 4 | BZ69: 5 | CA69: 6 | CB69: 8 | CC69: 8 | CD69: 9 | CE69: 20 | CF69: 9 | CG69: 6 | CH69: 39 | CI69: - | CJ69: - | CK69: - | CL69: - | CM69: - | CN69: - | CO69: 4 | CP69: 5 | CQ69: 2 | CR69: 3 | CS69: 14 | CT69: 6 | CU69: 5 | DC69: 277 | DD69: 164 | DE69: 109 | DF69: 51 | DG69: 4 | DH69: 45 | DI69: 30 | DJ69: 38 | DK69: 65 | DL69: - | DM69: - | DN69: 1 | DO69: - | DP69: 45 | DQ69: 4 | DR69: 7 | DS69: 4 | DT69: 1 | DU69: 2 | DV69: - | DW69: - | DX69: 1 | DY69: - | DZ69: - | EA69: 75 | EB69: 4839 | EC69: 309 | ED69: 3963 | EE69: 567 | EF69: 145 | EG69: 112 | EH69: 75 | EI69: 33 | EJ69: 4 | EK69: - | EL69: 19 | EM69: 14 | EN69: 132 | EO69: 52 | EP69: 34 | EQ69: 18 | ER69: - | ES69: 45 | ET69: 11 | EU69: 24
