{"text_format":"3","workbook":"xlsx","n_sheets":7,"sheets":["kadft","グラフ用","2010","2015","指定地域","地域類型区分","元データ"],"not_rendered":{"charts":10,"external_links":2,"defined_names":38},"read":"whole","date_system":"1900"}

{"sheet":"kadft","index":0,"n_rows":102,"n_cols":26,"rows_kept":102,"merged":[[0,23,0,25],[1,0,1,25],[2,0,2,25],[3,1,3,3],[3,5,3,7],[3,8,3,12],[3,19,3,25],[4,1,4,3],[4,5,4,7],[4,9,4,11],[4,19,4,21],[4,22,4,24],[6,20,6,21],[6,22,6,24],[8,22,8,24],[10,1,11,3],[10,4,11,6],[10,7,11,9],[10,10,10,21],[10,22,11,24],[11,10,11,12],[11,13,11,15],[11,16,11,18],[11,19,11,21],[12,1,12,3],[12,4,12,6],[12,7,12,9],[12,10,12,12],[12,13,12,15],[12,16,12,18],[12,19,12,21],[12,22,12,24],[13,1,13,3],[13,4,13,6],[13,7,13,9],[13,10,13,12],[13,13,13,15],[13,16,13,18],[13,19,13,21],[13,22,13,24],[14,1,14,3],[14,5,14,6],[14,8,14,9],[14,11,14,12],[14,14,14,15],[14,17,14,18],[14,20,14,21],[14,23,14,24],[15,1,15,3],[15,5,15,6],[15,8,15,9],[15,11,15,12],[15,14,15,15],[15,17,15,18],[15,20,15,21],[15,23,15,24],[17,3,17,7],[17,10,17,15],[17,16,17,17],[17,20,17,23],[17,24,17,25],[18,16,18,17],[19,0,19,1],[19,16,19,18],[27,13,27,15],[27,20,28,21],[27,22,28,22],[29,1,30,3],[29,4,30,5],[29,6,30,7],[29,8,30,9],[29,10,30,11],[29,12,30,13],[29,14,30,15],[30,16,30,18],[30,23,30,24],[31,1,31,3],[31,4,31,5],[31,6,31,7],[31,8,31,9],[31,10,31,11],[31,12,31,13],[31,14,31,15],[31,17,31,18],[31,23,31,24],[32,1,32,3],[32,4,32,5],[32,6,32,7],[32,8,32,9],[32,10,32,11],[32,12,32,13],[32,14,32,15],[33,1,33,3],[33,4,33,5],[33,6,33,7],[33,8,33,9],[33,10,33,11],[33,12,33,13],[33,14,33,15],[34,1,34,3],[34,4,34,5],[34,6,34,7],[34,8,34,9],[34,10,34,11],[34,12,34,13],[34,14,34,15],[34,16,34,18],[34,23,34,25],[35,1,35,15],[35,17,35,18],[35,23,35,24],[36,1,36,15],[37,1,37,15],[37,19,37,21],[37,22,37,23],[38,19,38,21],[38,22,38,23],[39,19,39,21],[41,1,43,3],[41,4,43,6],[41,7,43,9],[41,10,41,21],[42,10,43,12],[42,13,43,15],[42,16,43,18],[42,19,43,21],[44,1,44,3],[44,4,44,6],[44,7,44,9],[44,10,44,12],[44,13,44,15],[44,16,44,18],[44,19,44,21],[45,1,45,3],[45,4,45,6],[45,7,45,9],[45,10,45,12],[45,13,45,15],[45,16,45,18],[45,19,45,21],[46,1,46,3],[46,4,46,6],[46,7,46,9],[46,10,46,12],[46,13,46,15],[46,16,46,18],[46,19,46,21],[46,22,47,25],[47,1,47,3],[47,4,47,6],[47,7,47,9],[47,10,47,12],[47,13,47,15],[47,16,47,18],[47,19,47,21],[48,1,48,25],[49,1,49,2],[56,24,56,25],[57,21,57,23],[58,21,58,23],[59,1,61,3],[59,4,61,5],[59,6,59,11],[59,12,59,23],[60,6,61,7],[60,8,61,9],[60,10,61,11],[60,12,61,13],[60,14,61,15],[60,16,61,17],[60,18,61,19],[60,20,61,21],[60,22,61,23],[62,1,62,3],[62,4,62,5],[62,6,62,7],[62,8,62,9],[62,10,62,11],[62,12,62,13],[62,14,62,15],[62,16,62,17],[62,18,62,19],[62,20,62,21],[62,22,62,23],[63,1,63,3],[63,4,63,5],[63,6,63,7],[63,8,63,9],[63,10,63,11],[63,12,63,13],[63,14,63,15],[63,16,63,17],[63,18,63,19],[63,20,63,21],[63,22,63,23],[64,1,64,3],[64,4,64,5],[64,6,64,7],[64,8,64,9],[64,10,64,11],[64,12,64,13],[64,14,64,15],[64,16,64,17],[64,18,64,19],[64,20,64,21],[64,22,64,23],[65,1,65,3],[65,4,65,5],[65,6,65,7],[65,8,65,9],[65,10,65,11],[65,12,65,13],[65,14,65,15],[65,16,65,17],[65,18,65,19],[65,20,65,21],[65,22,65,23],[66,2,66,10],[66,11,66,12],[66,14,66,22],[73,11,73,12],[74,22,74,24],[75,22,75,24],[76,1,77,3],[76,4,77,6],[76,7,77,9],[76,10,77,12],[76,13,77,15],[76,16,77,18],[76,19,77,21],[76,22,77,24],[78,1,78,3],[78,4,78,6],[78,7,78,9],[78,10,78,12],[78,13,78,15],[78,16,78,18],[78,19,78,21],[78,22,78,24],[79,1,79,3],[79,4,79,6],[79,7,79,9],[79,10,79,12],[79,13,79,15],[79,16,79,18],[79,19,79,21],[79,22,79,24],[80,1,80,3],[80,4,80,6],[80,7,80,9],[80,10,80,12],[80,13,80,15],[80,16,80,18],[80,19,80,21],[80,22,80,24],[81,1,81,3],[81,4,81,6],[81,7,81,9],[81,10,81,12],[81,13,81,15],[81,16,81,18],[81,19,81,21],[81,22,81,24],[82,11,82,16],[91,24,91,25],[92,21,92,23],[93,21,93,23],[94,1,96,3],[94,4,96,5],[94,6,94,7],[94,8,96,9],[94,10,94,11],[94,12,96,13],[94,14,94,15],[94,16,96,17],[94,18,94,19],[94,20,96,21],[94,22,94,23],[95,6,96,7],[95,10,96,11],[95,14,96,15],[95,18,96,19],[95,22,96,23],[97,1,97,3],[97,4,97,5],[97,6,97,7],[97,8,97,9],[97,10,97,11],[97,12,97,13],[97,14,97,15],[97,16,97,17],[97,18,97,19],[97,20,97,21],[97,22,97,23],[98,1,98,3],[98,4,98,5],[98,6,98,7],[98,8,98,9],[98,10,98,11],[98,12,98,13],[98,14,98,15],[98,16,98,17],[98,18,98,19],[98,20,98,21],[98,22,98,23],[99,1,99,3],[99,4,99,5],[99,6,99,7],[99,8,99,9],[99,10,99,11],[99,12,99,13],[99,14,99,15],[99,16,99,17],[99,18,99,19],[99,20,99,21],[99,22,99,23],[100,1,100,3],[100,4,100,5],[100,6,100,7],[100,8,100,9],[100,10,100,11],[100,12,100,13],[100,14,100,15],[100,16,100,17],[100,18,100,19],[100,20,100,21],[100,22,100,23],[101,0,101,1],[101,6,101,19],[110,1,111,12]]}
[]
[]
[]
[null,"県　　名",{"$nulls":3},"市町村名",null,null,{"$f":"\"\"&IF(グラフ用!$G$6<>\"NO\",グラフ用!G8,グラフ用!$G$10)&\" \"","v":"旧市町村名 "},{"$nulls":10},"地域類型区分"]
[null,"静岡県",{"$nulls":7},"    ",{"$nulls":9},{"$f":"INDEX(地域類型区分!C2:C555,グラフ用!F3)","v":"設定"},null,null,{"$f":"INDEX(地域類型区分!D2:D555,グラフ用!F3)","v":"されていません"}]
[]
[{"$nulls":20},"前回",null,"との比較"]
[]
[null," 土地の状況",{"$nulls":20},"単位：㏊"]
[]
[{"$nulls":4},"総土地面積\n",null,null,"林野面積\n",null,null,"　　耕地面積計（農山村地域調査結果）",{"$nulls":11},"耕作放棄地\n面積"]
[{"$nulls":13},"田面積",null,null,"畑面積",null,null,"樹園地面積"]
[null,"2010年",null,null,{"$f":"INDEX('2010'!$D$6:$AV$550,グラフ用!$F$3,1)","v":{"v":771540,"d":"771,540 "}},null,null,{"$f":"INDEX('2010'!$D$6:$AV$550,グラフ用!$F$3,2)","v":{"v":495556,"d":"495,556 "}},null,null,{"$f":"INDEX('2010'!$D$6:$AV$550,グラフ用!$F$3,3)","v":{"v":68934,"d":"68,934 "}},null,null,{"$f":"INDEX('2010'!$D$6:$AV$550,グラフ用!$F$3,4)","v":{"v":22919,"d":"22,919 "}},null,null,{"$f":"INDEX('2010'!$D$6:$AV$550,グラフ用!$F$3,5)","v":{"v":15856,"d":"15,856 "}},null,null,{"$f":"INDEX('2010'!$D$6:$AV$550,グラフ用!$F$3,6)","v":{"v":30159,"d":"30,159 "}},null,null,{"$f":"INDEX('2010'!$D$6:$AV$550,グラフ用!$F$3,7)","v":{"v":12494.45,"d":"12,494 "}},null,null,"  "]
[null,"2015年",null,null,{"$f":"INDEX('2015'!$D$6:$AV$538,グラフ用!$F$3,1)","v":{"v":777870,"d":"777,870 "}},null,null,{"$f":"INDEX('2015'!$D$6:$AV$538,グラフ用!$F$3,2)","v":{"v":495653,"d":"495,653 "}},null,null,{"$f":"INDEX('2015'!$D$6:$AV$538,グラフ用!$F$3,3)","v":{"v":66589,"d":"66,589 "}},null,null,{"$f":"INDEX('2015'!$D$6:$AV$538,グラフ用!$F$3,4)","v":{"v":22370,"d":"22,370 "}},null,null,{"$f":"INDEX('2015'!$D$6:$AV$538,グラフ用!$F$3,5)","v":{"v":15385,"d":"15,385 "}},null,null,{"$f":"INDEX('2015'!$D$6:$AV$538,グラフ用!$F$3,6)","v":{"v":28834,"d":"28,834 "}},null,null,{"$f":"INDEX('2015'!$D$6:$AV$538,グラフ用!$F$3,7)","v":{"v":12842.5,"d":"12,843 "}}]
[null,"比率(%)",{"$nulls":3},"－",null,"※1",{"$f":"IFERROR(ROUND(H14/$E$14*100,1),\"nc\")","v":63.7},null,"※1",{"$f":"IFERROR(ROUND(K14/$E$14*100,1),\"nc\")","v":8.6},null,"※2",{"$f":"IFERROR(ROUND(N14/$K$14*100,1),\"nc\")","v":33.6},null,"※2",{"$f":"IFERROR(ROUND(Q14/$K$14*100,1),\"nc\")","v":23.1},null,"※2",{"$f":"IFERROR(ROUND(T14/$K$14*100,1),\"nc\")","v":43.3},null,"※3",{"$f":"IFERROR(ROUND(W14/グラフ用!B12*100,1),\"nc\")","v":16.2}]
[null,"県計 比率(%)",{"$nulls":3},"－",null,"※1",63.7,null,"※1",8.6,null,"※2",33.6,null,"※2",23.1,null,"※2",43.3,null,"※3",16.2]
[null,"※1　総土地面積に対する比率　　　※2　耕地面積計に対する比率　　　※3　耕作放棄地率は耕作放棄地面積と耕地面積の和に対する割合 "]
[{"$nulls":3},{"$f":"IF($U$7=\"県計\",[1]グラフ用シート!C13,IF($U$7=\"前回\",[1]グラフ用シート!E13))","v":"林野面積及び耕地面積"},{"$nulls":6},{"$f":"IF($U$7=\"県計\",[1]グラフ用シート!C18,IF($U$7=\"前回\",[1]グラフ用シート!E18))","v":"地目別の耕地面積割合"},{"$nulls":5},"（％）",{"v":63.7,"d":"64 "},null,null,{"$f":"IF($U$7=\"県計\",[1]グラフ用シート!F23,IF($U$7=\"前回\",[1]グラフ用シート!D23))","v":"耕作放棄地面積"},{"$nulls":3},{"$f":"IF(kadft!$U$7=\"県計\",グラフ用!$I$18,IF(kadft!$U$7=\"前回\",グラフ用!$I$16))","v":"(㏊)"},{"$f":"IF([1]練習!$U$7=\"県計\",$I$18,IF([1]練習!$U$7=\"前回\",$I$16))","v":{"v":63.7,"d":"64 "}}]
[{"$nulls":15},"内円",{"$f":"IF($U$7=\"県計\",グラフ用!J15,IF($U$7=\"前回\",グラフ用!G14))","v":"2010年"}]
[{"$f":"IF(kadft!$U$7=\"県計\",グラフ用!$I$18,IF(kadft!$U$7=\"前回\",グラフ用!$I$16))","v":"(㏊)"},{"$f":"IF([1]練習!$U$7=\"県計\",$I$18,IF([1]練習!$U$7=\"前回\",$I$16))","v":{"v":63.7,"d":"64 "}},{"$nulls":13},"外円",{"$f":"IF($U$7=\"県計\",グラフ用!G13,IF($U$7=\"前回\",グラフ用!G15))","v":"2015年"}]
{"$rows_empty":7}
[null,"　法制上の指定地域面積",{"$nulls":11},"単位：㏊",{"$nulls":6},"森林地域",null,{"$f":"E35","v":{"v":1,"d":"(1.0)"}}]
[]
[{"$nulls":4},"森林地域",null,"農業地域",null,"市街化\n区域",null,"市街化\n調整区域",null,"商業関連地域",null,"工業関連地域"]
[{"$nulls":16},"工業関連地域",{"$nulls":6},"農業地域"]
[null,"項目別面積",null,null,{"$f":"INDEX(指定地域!$C$2:$I$550,グラフ用!$F$3,1)","v":{"v":501284.69,"d":"501,285 "}},null,{"$f":"INDEX(指定地域!$C$2:$I$550,グラフ用!$F$3,2)","v":{"v":446248.21,"d":"446,248 "}},null,{"$f":"INDEX(指定地域!$C$2:$I$550,グラフ用!$F$3,3)","v":{"v":46408.99,"d":"46,409 "}},null,{"$f":"INDEX(指定地域!$C$2:$I$550,グラフ用!$F$3,4)","v":{"v":185889.06,"d":"185,889 "}},null,{"$f":"INDEX(指定地域!$C$2:$I$550,グラフ用!$F$3,5)","v":{"v":4318.79,"d":"4,319 "}},null,{"$f":"INDEX(指定地域!$C$2:$I$550,グラフ用!$F$3,6)","v":{"v":14490.06,"d":"14,490 "}},null,null,{"$f":"O35","v":{"v":1,"d":"(1.0)"}},{"$nulls":5},{"$f":"G35","v":{"v":1,"d":"(1.0)"}}]
[null,"比率(%)",null,null,{"$f":"ROUND(E32/$E$14*100,1)","v":64.4},null,{"$f":"ROUND(G32/$E$14*100,1)","v":57.4},null,{"$f":"ROUND(I32/$E$14*100,1)","v":{"v":6,"d":"6.0"}},null,{"$f":"ROUND(K32/$E$14*100,1)","v":23.9},null,{"$f":"ROUND(M32/$E$14*100,1)","v":0.6},null,{"$f":"ROUND(O32/$E$14*100,1)","v":1.9}]
[null,"県計 比率(%)",null,null,64.4,null,57.4,null,{"v":6,"d":"6.0"},null,23.9,null,0.6,null,1.9]
[null,"特化係数",null,null,{"$f":"E33/E34","v":{"v":1,"d":"1.0"}},null,{"$f":"G33/G34","v":{"v":1,"d":"1.0"}},null,{"$f":"I33/I34","v":{"v":1,"d":"1.0"}},null,{"$f":"K33/K34","v":{"v":1,"d":"1.0"}},null,{"$f":"M33/M34","v":{"v":1,"d":"1.0"}},null,{"$f":"O33/O34","v":{"v":1,"d":"1.0"}},null,"商業関連地域",{"$nulls":6},"市街化区域"]
[null,"※　商業関連地域は、近隣商業地域と商業地域の合計。\n　　 工業関連地域は、準工業地域と工業地域及び工業専用地域の合計。",{"$nulls":15},{"$f":"M35","v":{"v":1,"d":"(1.0)"}},{"$nulls":5},{"$f":"I35","v":{"v":1,"d":"(1.0)"}}]
[null,"※　比率は、総土地面積（2015年）に対する比率である。"]
[null,"※　特化係数は、比率／県計比率で算出。1.0を超えるほど特化している。",{"$nulls":17},"市街化調整区域",null,null,{"$f":"K35","v":{"v":1,"d":"(1.0)"}}]
[]
[null,"　農業生産関連事業経営体数",{"$nulls":17},"単位：経営体"]
[]
[{"$nulls":4},"農業経営体\n数計",null,null,"生産関連事業を実施している実経営体数",null,null,"事業種類別経営体数"]
[{"$nulls":10},"農産物の加工",null,null,"消費者に直接販売",null,null,"観光農園",null,null,"その他"]
[]
[null,"2010年",null,null,{"$f":"INDEX('2010'!$D$6:$AV$550,グラフ用!$F$3,8)","v":{"v":40102,"d":"40,102 "}},null,null,{"$f":"INDEX('2010'!$D$6:$AV$550,グラフ用!$F$3,9)","v":{"v":12228,"d":"12,228 "}},null,null,{"$f":"INDEX('2010'!$D$6:$AV$550,グラフ用!$F$3,10)","v":{"v":1995,"d":"1,995 "}},null,null,{"$f":"INDEX('2010'!$D$6:$AV$550,グラフ用!$F$3,11)","v":{"v":11071,"d":"11,071 "}},null,null,{"$f":"INDEX('2010'!$D$6:$AV$550,グラフ用!$F$3,12)","v":{"v":268,"d":"268 "}},null,null,{"$f":"INDEX('2010'!$D$6:$AV$550,グラフ用!$F$3,13)","v":{"v":340,"d":"340 "}}]
[null,"2015年",null,null,{"$f":"INDEX('2015'!$D$6:$AV$538,グラフ用!$F$3,8)","v":{"v":33143,"d":"33,143 "}},null,null,{"$f":"INDEX('2015'!$D$6:$AV$538,グラフ用!$F$3,9)","v":{"v":9423,"d":"9,423 "}},null,null,{"$f":"INDEX('2015'!$D$6:$AV$538,グラフ用!$F$3,10)","v":{"v":1087,"d":"1,087 "}},null,null,{"$f":"INDEX('2015'!$D$6:$AV$538,グラフ用!$F$3,11)","v":{"v":8926,"d":"8,926 "}},null,null,{"$f":"INDEX('2015'!$D$6:$AV$538,グラフ用!$F$3,12)","v":{"v":218,"d":"218 "}},null,null,{"$f":"INDEX('2015'!$D$6:$AV$538,グラフ用!$F$3,13)","v":{"v":270,"d":"270 "}}]
[null,"比率(%)",null,null,"－",null,null,{"$f":"IFERROR(ROUND(H46/$E$46*100,1),\"nc\")","v":28.4},null,null,{"$f":"IFERROR(ROUND(K46/$E$46*100,1),\"nc\")","v":3.3},null,null,{"$f":"IFERROR(ROUND(N46/$E$46*100,1),\"nc\")","v":26.9},null,null,{"$f":"IFERROR(ROUND(Q46/$E$46*100,1),\"nc\")","v":0.7},null,null,{"$f":"IFERROR(ROUND(T46/$E$46*100,1),\"nc\")","v":0.8}]
[null,"県計 比率(%)",null,null,"－",null,null,28.4,null,null,3.3,null,null,26.9,null,null,0.7,null,null,0.8]
[null,"※　比率は、農業経営体数計に対する比率である。　　　※　その他は、貸農園・体験農園、農家民宿、農家レストラン等である。"]
[null,{"$f":"IF(kadft!$U$7=\"県計\",グラフ用!$I$18,IF(kadft!$U$7=\"前回\",グラフ用!$I$17))","v":"(経営体)"},null,{"$f":"IF($U$7=\"県計\",グラフ用!$C$45,IF($U$7=\"前回\",グラフ用!$D$45))","v":"事業実施経営体数"},{"$nulls":10},{"$f":"IF($U$7=\"県計\",グラフ用!$C$51,IF($U$7=\"前回\",グラフ用!$D$51))","v":"事業種類別経営体数"}]
[]
[]
[]
[]
[]
[]
[{"$nulls":24},{"$f":"IF(kadft!$U$7=\"県計\",グラフ用!$I$18,IF(kadft!$U$7=\"前回\",グラフ用!$I$17))","v":"(経営体)"}]
[null,"　農業集落の状況",{"$nulls":19},"単位：集落"]
[]
[{"$nulls":4},"農業集落数計",null,"水田率別農業集落数",{"$nulls":5},"農家率別農業集落数"]
[{"$nulls":6},"水田集落（70％以上）",null,"田畑集落\n（30～70）",null,"畑地集落\n（30％未満）",null,"10％未満",null,"10～30",null,"30～50",null,"50～70",null,"70～90",null,"90％以上"]
[]
[null,"2010年",null,null,{"$f":"INDEX('2010'!$D$6:$AV$550,グラフ用!$F$3,14)","v":{"v":3366,"d":"3,366 "}},null,{"$f":"INDEX('2010'!$D$6:$AV$550,グラフ用!$F$3,15)","v":{"v":662,"d":"662 "}},null,{"$f":"INDEX('2010'!$D$6:$AV$550,グラフ用!$F$3,16)","v":{"v":882,"d":"882 "}},null,{"$f":"INDEX('2010'!$D$6:$AV$550,グラフ用!$F$3,17)","v":{"v":1822,"d":"1,822 "}},null,{"$f":"INDEX('2010'!$D$6:$AV$550,グラフ用!$F$3,18)","v":{"v":1360,"d":"1,360 "}},null,{"$f":"INDEX('2010'!$D$6:$AV$550,グラフ用!$F$3,19)","v":{"v":997,"d":"997 "}},null,{"$f":"INDEX('2010'!$D$6:$AV$550,グラフ用!$F$3,20)","v":{"v":495,"d":"495 "}},null,{"$f":"INDEX('2010'!$D$6:$AV$550,グラフ用!$F$3,21)","v":{"v":325,"d":"325 "}},null,{"$f":"INDEX('2010'!$D$6:$AV$550,グラフ用!$F$3,22)","v":{"v":156,"d":"156 "}},null,{"$f":"INDEX('2010'!$D$6:$AV$550,グラフ用!$F$3,23)","v":{"v":33,"d":"33 "}}]
[null,"2015年",null,null,{"$f":"INDEX('2015'!$D$6:$AV$538,グラフ用!$F$3,14)","v":{"v":3361,"d":"3,361 "}},null,{"$f":"INDEX('2015'!$D$6:$AV$538,グラフ用!$F$3,15)","v":{"v":662,"d":"662 "}},null,{"$f":"INDEX('2015'!$D$6:$AV$538,グラフ用!$F$3,16)","v":{"v":873,"d":"873 "}},null,{"$f":"INDEX('2015'!$D$6:$AV$538,グラフ用!$F$3,17)","v":{"v":1826,"d":"1,826 "}},null,{"$f":"INDEX('2015'!$D$6:$AV$538,グラフ用!$F$3,18)","v":{"v":1526,"d":"1,526 "}},null,{"$f":"INDEX('2015'!$D$6:$AV$538,グラフ用!$F$3,19)","v":{"v":999,"d":"999 "}},null,{"$f":"INDEX('2015'!$D$6:$AV$538,グラフ用!$F$3,20)","v":{"v":484,"d":"484 "}},null,{"$f":"INDEX('2015'!$D$6:$AV$538,グラフ用!$F$3,21)","v":{"v":253,"d":"253 "}},null,{"$f":"INDEX('2015'!$D$6:$AV$538,グラフ用!$F$3,22)","v":{"v":83,"d":"83 "}},null,{"$f":"INDEX('2015'!$D$6:$AV$538,グラフ用!$F$3,23)","v":{"v":16,"d":"16 "}}]
[null,"構成比(%)",null,null,"－",null,{"$f":"IFERROR(ROUND(G64/$E$64*100,1),\"nc\")","v":19.7},null,{"$f":"IFERROR(ROUND(I64/$E$64*100,1),\"nc\")","v":{"v":26,"d":"26.0"}},null,{"$f":"IFERROR(ROUND(K64/$E$64*100,1),\"nc\")","v":54.3},null,{"$f":"IFERROR(ROUND(M64/$E$64*100,1),\"nc\")","v":45.4},null,{"$f":"IFERROR(ROUND(O64/$E$64*100,1),\"nc\")","v":29.7},null,{"$f":"IFERROR(ROUND(Q64/$E$64*100,1),\"nc\")","v":14.4},null,{"$f":"IFERROR(ROUND(S64/$E$64*100,1),\"nc\")","v":7.5},null,{"$f":"IFERROR(ROUND(U64/$E$64*100,1),\"nc\")","v":2.5},null,{"$f":"IFERROR(ROUND(W64/$E$64*100,1),\"nc\")","v":0.5}]
[null,"県計 構成比(%)",null,null,"－",null,19.7,null,{"v":26,"d":"26.0"},null,54.3,null,45.4,null,29.7,null,14.4,null,7.5,null,2.5,null,0.5]
[null,null,{"$f":"IF($U$7=\"県計\",グラフ用!$D$61,IF($U$7=\"前回\",グラフ用!$F$61))","v":"水田率別農業集落数"},{"$f":"IF($T$58=\"県計\",$G$65,IF($T$58=\"前回\",$G$64))","v":false},false,false,false,false,false,false,false,{"$f":"IF(kadft!$U$7=\"県計\",グラフ用!$I$18,IF(kadft!$U$7=\"前回\",グラフ用!$J$16))","v":"（集落）"},null,null,{"$f":"IF($U$7=\"県計\",グラフ用!$D$66,IF($U$7=\"前回\",グラフ用!$F$66))","v":"農家率別農業集落数"},{"$f":"IF($T$58=\"県計\",$G$65,IF($T$58=\"前回\",$G$64))","v":false},false,false,false,false,false,false,false]
[]
[]
[]
[]
[]
[]
[{"$nulls":11},{"$f":"IF(kadft!$U$7=\"県計\",グラフ用!$I$18,IF(kadft!$U$7=\"前回\",グラフ用!$J$16))","v":"（集落）"}]
[null,"　寄り合いの実施状況",{"$nulls":20},"単位：集落"]
[]
[{"$nulls":4},"農業生産にかかる事項",null,null,"農道・水路・ため池等の管理",null,null,"集落共有財産・施設の管理",null,null,"環境美化・自然環境の保全",null,null,"農業集落行事の計画・推進",null,null,"農業集落内の福祉・厚生",null,null,"寄り合いを開催しなかった"]
[]
[null,"2010年",null,null,{"$f":"INDEX('2010'!$D$6:$AV$550,グラフ用!$F$3,24)","v":{"v":1354,"d":"1,354 "}},null,null,{"$f":"INDEX('2010'!$D$6:$AV$550,グラフ用!$F$3,25)","v":{"v":1726,"d":"1,726 "}},null,null,{"$f":"INDEX('2010'!$D$6:$AV$550,グラフ用!$F$3,26)","v":{"v":1737,"d":"1,737 "}},null,null,{"$f":"INDEX('2010'!$D$6:$AV$550,グラフ用!$F$3,27)","v":{"v":2243,"d":"2,243 "}},null,null,{"$f":"INDEX('2010'!$D$6:$AV$550,グラフ用!$F$3,28)","v":{"v":2568,"d":"2,568 "}},null,null,{"$f":"INDEX('2010'!$D$6:$AV$550,グラフ用!$F$3,29)","v":{"v":1641,"d":"1,641 "}},null,null,{"$f":"INDEX('2010'!$D$6:$AV$550,グラフ用!$F$3,30)","v":{"v":382,"d":"382 "}}]
[null,"2015年",null,null,{"$f":"INDEX('2015'!$D$6:$AV$538,グラフ用!$F$3,24)","v":{"v":1395,"d":"1,395 "}},null,null,{"$f":"INDEX('2015'!$D$6:$AV$538,グラフ用!$F$3,25)","v":{"v":2273,"d":"2,273 "}},null,null,{"$f":"INDEX('2015'!$D$6:$AV$538,グラフ用!$F$3,26)","v":{"v":1972,"d":"1,972 "}},null,null,{"$f":"INDEX('2015'!$D$6:$AV$538,グラフ用!$F$3,27)","v":{"v":2844,"d":"2,844 "}},null,null,{"$f":"INDEX('2015'!$D$6:$AV$538,グラフ用!$F$3,28)","v":{"v":2897,"d":"2,897 "}},null,null,{"$f":"INDEX('2015'!$D$6:$AV$538,グラフ用!$F$3,29)","v":{"v":2258,"d":"2,258 "}},null,null,{"$f":"INDEX('2015'!$D$6:$AV$538,グラフ用!$F$3,30)","v":{"v":285,"d":"285 "}}]
[null,"比率(%)",null,null,{"$f":"IFERROR(ROUND(E80/$E$64*100,1),\"nc\")","v":41.5},null,null,{"$f":"IFERROR(ROUND(H80/$E$64*100,1),\"nc\")","v":67.6},null,null,{"$f":"IFERROR(ROUND(K80/$E$64*100,1),\"nc\")","v":58.7},null,null,{"$f":"IFERROR(ROUND(N80/$E$64*100,1),\"nc\")","v":84.6},null,null,{"$f":"IFERROR(ROUND(Q80/$E$64*100,1),\"nc\")","v":86.2},null,null,{"$f":"IFERROR(ROUND(T80/$E$64*100,1),\"nc\")","v":67.2},null,null,{"$f":"IFERROR(ROUND(W80/$E$64*100,1),\"nc\")","v":8.5}]
[null,"県計 比率(%)",null,null,41.5,null,null,67.6,null,null,58.7,null,null,84.6,null,null,86.2,null,null,67.2,null,null,8.5]
[null,"※　比率は、「農業集落の状況」の農業集落数計に対する比率。",{"$nulls":9},{"$f":"IF($U$7=\"県計\",グラフ用!$D$83,IF($U$7=\"前回\",グラフ用!$F$83))","v":"　寄り合いの実施状況"},{"$f":"IF($T$58=\"県計\",$G$65,IF($T$58=\"前回\",$G$64))","v":false},false,false,false,false]
{"$rows_empty":8}
[{"$nulls":24},{"$f":"IF(kadft!$U$7=\"県計\",グラフ用!$I$18,IF(kadft!$U$7=\"前回\",グラフ用!$J$16))","v":"（集落）"}]
[null,"　保全管理の実施状況",{"$nulls":19},"単位：集落"]
[]
[{"$nulls":4},"農地のある集落",{"$nulls":3},"森林のある集落",{"$nulls":3},"ため池・湖沼のある集落",{"$nulls":3},"河川・水路のある集落",{"$nulls":3},"農業用用排水路のある集落"]
[{"$nulls":6},"農地の保全をしている",{"$nulls":3},"森林の保全をしている",{"$nulls":3},"ため池・湖沼の保全をしている",{"$nulls":3},"河川・水路の保全をしている",{"$nulls":3},"農業用用排水路の保全をしている"]
[]
[null,"2010年",null,null,{"$f":"INDEX('2010'!$D$6:$AV$550,グラフ用!$F$3,31)","v":{"v":3225,"d":"3,225 "}},null,{"$f":"INDEX('2010'!$D$6:$AV$550,グラフ用!$F$3,32)","v":{"v":505,"d":"505 "}},null,{"$f":"INDEX('2010'!$D$6:$AV$550,グラフ用!$F$3,33)","v":{"v":2495,"d":"2,495 "}},null,{"$f":"INDEX('2010'!$D$6:$AV$550,グラフ用!$F$3,34)","v":{"v":295,"d":"295 "}},null,{"$f":"INDEX('2010'!$D$6:$AV$550,グラフ用!$F$3,35)","v":{"v":529,"d":"529 "}},null,{"$f":"INDEX('2010'!$D$6:$AV$550,グラフ用!$F$3,36)","v":{"v":168,"d":"168 "}},null,{"$f":"INDEX('2010'!$D$6:$AV$550,グラフ用!$F$3,37)","v":{"v":3048,"d":"3,048 "}},null,{"$f":"INDEX('2010'!$D$6:$AV$550,グラフ用!$F$3,38)","v":{"v":1329,"d":"1,329 "}},null,{"$f":"INDEX('2010'!$D$6:$AV$550,グラフ用!$F$3,39)","v":{"v":2718,"d":"2,718 "}},null,{"$f":"INDEX('2010'!$D$6:$AV$550,グラフ用!$F$3,40)","v":{"v":1417,"d":"1,417 "}}]
[null,"2015年",null,null,{"$f":"INDEX('2015'!$D$6:$AV$538,グラフ用!$F$3,31)","v":{"v":3242,"d":"3,242 "}},null,{"$f":"INDEX('2015'!$D$6:$AV$538,グラフ用!$F$3,32)","v":{"v":788,"d":"788 "}},null,{"$f":"INDEX('2015'!$D$6:$AV$538,グラフ用!$F$3,33)","v":{"v":2466,"d":"2,466 "}},null,{"$f":"INDEX('2015'!$D$6:$AV$538,グラフ用!$F$3,34)","v":{"v":404,"d":"404 "}},null,{"$f":"INDEX('2015'!$D$6:$AV$538,グラフ用!$F$3,35)","v":{"v":552,"d":"552 "}},null,{"$f":"INDEX('2015'!$D$6:$AV$538,グラフ用!$F$3,36)","v":{"v":222,"d":"222 "}},null,{"$f":"INDEX('2015'!$D$6:$AV$538,グラフ用!$F$3,37)","v":{"v":3070,"d":"3,070 "}},null,{"$f":"INDEX('2015'!$D$6:$AV$538,グラフ用!$F$3,38)","v":{"v":1585,"d":"1,585 "}},null,{"$f":"INDEX('2015'!$D$6:$AV$538,グラフ用!$F$3,39)","v":{"v":2734,"d":"2,734 "}},null,{"$f":"INDEX('2015'!$D$6:$AV$538,グラフ用!$F$3,40)","v":{"v":1688,"d":"1,688 "}}]
[null,"比率(%)",{"$nulls":4},{"$f":"IFERROR(ROUND(G99/$E$99*100,1),\"nc\")","v":24.3},{"$nulls":3},{"$f":"IFERROR(ROUND(K99/$I$99*100,1),\"nc\")","v":16.4},{"$nulls":3},{"$f":"IFERROR(ROUND(O99/$M$99*100,1),\"nc\")","v":40.2},{"$nulls":3},{"$f":"IFERROR(ROUND(S99/$Q$99*100,1),\"nc\")","v":51.6},{"$nulls":3},{"$f":"IFERROR(ROUND(W99/$U$99*100,1),\"nc\")","v":61.7}]
[null,"県計 比率(%)",{"$nulls":4},24.3,{"$nulls":3},16.4,{"$nulls":3},40.2,{"$nulls":3},51.6,{"$nulls":3},61.7]
[{"$f":"IF(kadft!$U$7=\"県計\",グラフ用!$I$18,IF(kadft!$U$7=\"前回\",グラフ用!$J$16))","v":"（集落）"},{"$nulls":5},{"$f":"IF($U$7=\"県計\",グラフ用!$C$102,IF($U$7=\"前回\",グラフ用!$F$102))","v":"　保全管理の実施状況"}]

{"sheet":"グラフ用","index":1,"n_rows":105,"n_cols":10,"rows_kept":105,"hidden":true,"merged":[[25,6,25,10],[31,8,31,9],[32,8,32,9],[42,11,42,12],[79,1,79,2],[80,1,80,2]]}
[]
[]
[null,"県計",null,{"$f":"IFERROR(MATCH(kadft!F5,地域類型区分!B2:B553,0),\"1\")","v":"1"},{"$f":"IFERROR(MATCH(kadft!J5,地域類型区分!B2:B553,0),\" \")","v":" "},{"$f":"\"\"&IF(E3<>\" \",E3,D3)&\"\"","v":"1"}]
[null,"前回",null,"市町村列","旧市町村列","優先列"]
[]
[{"$nulls":6},{"$f":"IF(COUNTIF(元データ!AC6:AC35,kadft!J5),\"OK\",\"NO\")","v":"OK"},"市町村に対し旧市町村の該当有無"]
[]
[{"$nulls":6},"旧市町村名"]
[]
[null,null,"林野面積","耕地面積",null,null,"旧市町村を再選択して下さい"]
[]
[null,{"$f":"kadft!W14+kadft!K14","v":{"v":79431.5,"d":"79,432 "}},"林野率","耕地率",null,null,{"$f":"INDEX(地域類型区分!B2:B372,F3,1)","v":"静岡県"}]
[null,null,"林野率及び耕地率",null,"林野面積及び耕地面積",null,{"$f":"G12","v":"静岡県"},"優先表示地域名"]
[{"$nulls":3},{"$f":"IF(kadft!$U$7=\"県計\",$C$12,IF(kadft!$U$7=\"前回\",$C$10))","v":"林野面積"},{"$f":"IF(kadft!$U$7=\"県計\",$D$12,IF(kadft!$U$7=\"前回\",$D$10))","v":"耕地面積"},null,"2010年"]
[null,null,{"$f":"IF(kadft!$U$7=\"県計\",$J$15,IF(kadft!$U$7=\"前回\",$G$14))","v":"2010年"},{"$f":"IF(kadft!$U$7=\"県計\",kadft!$I$16,IF(kadft!$U$7=\"前回\",kadft!$H$13))","v":495556},{"$f":"IF(kadft!$U$7=\"県計\",kadft!$L$16,IF(kadft!$U$7=\"前回\",kadft!$K$13))","v":68934},null,"2015年",null,null,"県　　計"]
[null,null,{"$f":"IF(kadft!$U$7=\"県計\",$G$13,IF(kadft!$U$7=\"前回\",$G$15))","v":"2015年"},{"$f":"IF(kadft!$U$7=\"県計\",kadft!$I$15,IF(kadft!$U$7=\"前回\",kadft!$H$14))","v":495653},{"$f":"IF(kadft!$U$7=\"県計\",kadft!$L$15,IF(kadft!$U$7=\"前回\",kadft!$K$14))","v":66589},{"$nulls":3},"(㏊)","（集落）"]
[{"$nulls":8},"(経営体)"]
[null,null,"地目別の耕地面積割合",null,"地目別の耕地面積割合",{"$nulls":3},"（％）"]
[{"$nulls":3},{"$f":"kadft!N12","v":"田面積"},{"$f":"kadft!Q12","v":"畑面積"},{"$f":"kadft!T12","v":"樹園地面積"}]
[null,null,{"$f":"IF(kadft!$U$7=\"県計\",$G$13,IF(kadft!$U$7=\"前回\",$G$15))","v":"2015年"},{"$f":"IF(kadft!$U$7=\"県計\",kadft!$O$15,IF(kadft!$U$7=\"前回\",ROUND(kadft!$N$14/kadft!K14*100,1)))","v":33.6},{"$f":"IF(kadft!$U$7=\"県計\",kadft!$R$15,IF(kadft!$U$7=\"前回\",ROUND(kadft!$Q$14/kadft!K14*100,1)))","v":23.1},{"$f":"IF(kadft!$U$7=\"県計\",kadft!$U$15,IF(kadft!$U$7=\"前回\",ROUND(kadft!$T$14/kadft!K14*100,1)))","v":43.3}]
[null,null,{"$f":"IF(kadft!$U$7=\"県計\",$J$15,IF(kadft!$U$7=\"前回\",$G$14))","v":"2010年"},{"$f":"IF(kadft!$U$7=\"県計\",kadft!$O$16,IF(kadft!$U$7=\"前回\",ROUND(kadft!$N$13/kadft!K13*100,1)))","v":33.2},{"$f":"IF(kadft!$U$7=\"県計\",kadft!$R$16,IF(kadft!$U$7=\"前回\",ROUND(kadft!$Q$13/kadft!K13*100,1)))","v":23},{"$f":"IF(kadft!$U$7=\"県計\",kadft!$U$16,IF(kadft!$U$7=\"前回\",ROUND(kadft!$T$13/kadft!K13*100,1)))","v":43.8},null,null,"単位１"]
[]
[{"$nulls":3},"耕作放棄地面積",null,"耕作放棄地率"]
[null,null,{"$f":"IF(kadft!$U$7=\"県計\",$J$15,IF(kadft!$U$7=\"前回\",$G$14))","v":"2010年"},{"$f":"IF(kadft!$U$7=\"県計\",kadft!$X$16,IF(kadft!$U$7=\"前回\",ROUND(kadft!$W$13,0)))","v":12494}]
[null,null,{"$f":"IF(kadft!$U$7=\"県計\",$G$13,IF(kadft!$U$7=\"前回\",$G$15))","v":"2015年"},{"$f":"IF(kadft!$U$7=\"県計\",kadft!$X$15,IF(kadft!$U$7=\"前回\",ROUND(kadft!$W$14,0)))","v":12843}]
[{"$nulls":6},"IF($U$6=\"県計\",BH17,IF($U$6=\"前回\",BJ17))"]
[]
[]
[]
[]
[{"$nulls":3},{"$f":"kadft!E30","v":"森林地域"},{"$f":"kadft!G30","v":"農業地域"},"市街化区域","市街化調整区域","商業関連地域","工業関連地域"]
[null,null,{"$f":"G13","v":"静岡県"},{"$f":"IF(kadft!E$35=0,0.001,kadft!E$35)","v":{"v":1,"d":"1.0"}},{"$f":"IF(kadft!G$35=0,0.001,kadft!G$35)","v":{"v":1,"d":"1.0"}},{"$f":"IF(kadft!I$35=0,0.001,kadft!I$35)","v":{"v":1,"d":"1.0"}},{"$f":"IF(kadft!K$35=0,0.001,kadft!K$35)","v":{"v":1,"d":"1.0"}},{"$f":"IF(kadft!M$35=0,0.001,kadft!M$35)","v":{"v":1,"d":"1.0"}},{"$f":"IF(kadft!O$35=0,0.001,kadft!O$35)","v":{"v":1,"d":"1.0"}},{"$f":"IF(kadft!K$35=0,0.01,kadft!K$35)","v":{"v":1,"d":"1.0"}}]
[null,null,"県　　計",{"v":1,"d":"1.0"},{"v":1,"d":"1.0"},{"v":1,"d":"1.0"},{"v":1,"d":"1.0"},{"v":1,"d":"1.0"},{"v":1,"d":"1.0"}]
{"$rows_empty":7}
[{"$nulls":8},"単位１"]
[]
[]
[{"$nulls":8},{"$f":"IF(kadft!$U$7=\"県計\",$I$18,IF(kadft!$U$7=\"前回\",$I$17))","v":"(経営体)"}]
[null,null,"事業実施率","事業実施経営体数"]
[null,null,"事業有り","事業無し"]
[null,{"$f":"IF(kadft!$U$7=\"県計\",$J$15,IF(kadft!$U$7=\"前回\",$G$14))","v":"2010年"},{"$f":"IF(kadft!$U$7=\"県計\",kadft!$H$48,IF(kadft!$U$7=\"前回\",kadft!$H$45))","v":12228},{"$f":"IF(kadft!$U$7=\"県計\",kadft!$H$48,IF(kadft!$U$7=\"前回\",kadft!$H$45))","v":12228}]
[null,{"$f":"IF(kadft!$U$7=\"県計\",$G$13,IF(kadft!$U$7=\"前回\",$G$15))","v":"2015年"},{"$f":"IF(kadft!$U$7=\"県計\",kadft!$H$47,IF(kadft!$U$7=\"前回\",kadft!$H$46))","v":9423},{"$f":"E45/kadft!E46","v":0}]
[]
[]
[null,null,"事業種類別実施率","事業種類別経営体数"]
[null,null,{"$f":"kadft!T43","v":"その他"},{"$f":"kadft!Q43","v":"観光農園"},{"$f":"kadft!N43","v":"消費者に直接販売"},{"$f":"kadft!K43","v":"農産物の加工"}]
[null,{"$f":"IF(kadft!$U$7=\"県計\",$J$15,IF(kadft!$U$7=\"前回\",$G$14))","v":"2010年"},{"$f":"IF(kadft!$U$7=\"県計\",kadft!$T$48,IF(kadft!$U$7=\"前回\",kadft!$T$45))","v":340},{"$f":"IF(kadft!$U$7=\"県計\",kadft!$Q$48,IF(kadft!$U$7=\"前回\",kadft!$Q$45))","v":268},{"$f":"IF(kadft!$U$7=\"県計\",kadft!$N$48,IF(kadft!$U$7=\"前回\",kadft!$N$45))","v":11071},{"$f":"IF(kadft!$U$7=\"県計\",kadft!$K$48,IF(kadft!$U$7=\"前回\",kadft!$K$45))","v":1995}]
[null,{"$f":"IF(kadft!$U$7=\"県計\",$G$13,IF(kadft!$U$7=\"前回\",$G$15))","v":"2015年"},{"$f":"IF(kadft!$U$7=\"県計\",kadft!$T$47,IF(kadft!$U$7=\"前回\",kadft!$T$46))","v":270},{"$f":"IF(kadft!$U$7=\"県計\",kadft!$Q$47,IF(kadft!$U$7=\"前回\",kadft!$Q$46))","v":218},{"$f":"IF(kadft!$U$7=\"県計\",kadft!$N$47,IF(kadft!$U$7=\"前回\",kadft!$N$46))","v":8926},{"$f":"IF(kadft!$U$7=\"県計\",kadft!$K$47,IF(kadft!$U$7=\"前回\",kadft!$K$46))","v":1087}]
[]
[]
[]
[]
[]
[]
[{"$nulls":3},"水田率別農業集落数割合",null,"水田率別農業集落数"]
[{"$nulls":3},"水田集落","田畑集落","畑地集落"]
[null,null,{"$f":"IF(kadft!$U$7=\"県計\",$G$13,IF(kadft!$U$7=\"前回\",$G$15))","v":"2015年"},{"$f":"IF(kadft!$U$7=\"県計\",kadft!$G$65,IF(kadft!$U$7=\"前回\",kadft!$G$64))","v":662},{"$f":"IF(kadft!$U$7=\"県計\",kadft!$I$65,IF(kadft!$U$7=\"前回\",kadft!$I$64))","v":873},{"$f":"IF(kadft!$U$7=\"県計\",kadft!$K$65,IF(kadft!$U$7=\"前回\",kadft!$K$64))","v":1826}]
[null,null,{"$f":"IF(kadft!$U$7=\"県計\",$J$15,IF(kadft!$U$7=\"前回\",$G$14))","v":"2010年"},{"$f":"IF(kadft!$U$7=\"県計\",kadft!$G$66,IF(kadft!$U$7=\"前回\",kadft!$G$63))","v":662},{"$f":"IF(kadft!$U$7=\"県計\",kadft!$I$66,IF(kadft!$U$7=\"前回\",kadft!$I$63))","v":882},{"$f":"IF(kadft!$U$7=\"県計\",kadft!$K$66,IF(kadft!$U$7=\"前回\",kadft!$K$63))","v":1822}]
[]
[{"$nulls":3},"農家率別農業集落数割合",null,"農家率別農業集落数"]
[{"$nulls":3},"１０%未満","10～30","30～50","50～70","70～90","90%以上"]
[null,null,{"$f":"IF(kadft!$U$7=\"県計\",$J$15,IF(kadft!$U$7=\"前回\",$G$14))","v":"2010年"},{"$f":"IF(kadft!$U$7=\"県計\",kadft!$M$66,IF(kadft!$U$7=\"前回\",kadft!$M$63))","v":1360},{"$f":"IF(kadft!$U$7=\"県計\",kadft!$O$66,IF(kadft!$U$7=\"前回\",kadft!$O$63))","v":997},{"$f":"IF(kadft!$U$7=\"県計\",kadft!$Q$66,IF(kadft!$U$7=\"前回\",kadft!$Q$63))","v":495},{"$f":"IF(kadft!$U$7=\"県計\",kadft!$S$66,IF(kadft!$U$7=\"前回\",kadft!$S$63))","v":325},{"$f":"IF(kadft!$U$7=\"県計\",kadft!$U$66,IF(kadft!$U$7=\"前回\",kadft!$U$63))","v":156},{"$f":"IF(kadft!$U$7=\"県計\",kadft!$W$66,IF(kadft!$U$7=\"前回\",kadft!$W$63))","v":33}]
[null,null,{"$f":"IF(kadft!$U$7=\"県計\",$G$13,IF(kadft!$U$7=\"前回\",$G$15))","v":"2015年"},{"$f":"IF(kadft!$U$7=\"県計\",kadft!$M$65,IF(kadft!$U$7=\"前回\",kadft!$M$64))","v":1526},{"$f":"IF(kadft!$U$7=\"県計\",kadft!$O$65,IF(kadft!$U$7=\"前回\",kadft!$O$64))","v":999},{"$f":"IF(kadft!$U$7=\"県計\",kadft!$Q$65,IF(kadft!$U$7=\"前回\",kadft!$Q$64))","v":484},{"$f":"IF(kadft!$U$7=\"県計\",kadft!$S$65,IF(kadft!$U$7=\"前回\",kadft!$S$64))","v":253},{"$f":"IF(kadft!$U$7=\"県計\",kadft!$U$65,IF(kadft!$U$7=\"前回\",kadft!$U$64))","v":83},{"$f":"IF(kadft!$U$7=\"県計\",kadft!$W$65,IF(kadft!$U$7=\"前回\",kadft!$W$64))","v":16}]
[]
[{"$nulls":9},"単位１"]
[{"$nulls":9},{"$f":"IF(kadft!$U$7=\"県計\",$I$18,IF(kadft!$U$7=\"前回\",$J$16))","v":"（集落）"}]
{"$rows_empty":10}
[{"$nulls":3},"　寄り合いの実施率",null,"　寄り合いの実施状況"]
[]
[null,{"$f":"kadft!W77","v":"寄り合いを開催しなかった"},{"$f":"kadft!T77","v":"農業集落内の福祉・厚生"},{"$f":"kadft!Q77","v":"農業集落行事の計画・推進"},{"$f":"kadft!N77","v":"環境美化・自然環境の保全"},{"$f":"kadft!K77","v":"集落共有財産・施設の管理"},{"$f":"kadft!H77","v":"農道・水路・ため池等の管理"},{"$f":"kadft!E77","v":"農業生産にかかる事項"}]
[{"$f":"IF(kadft!$U$7=\"県計\",$J$15,IF(kadft!$U$7=\"前回\",$G$14))","v":"2010年"},{"$f":"IF(kadft!$U$7=\"県計\",kadft!$W$82,IF(kadft!$U$7=\"前回\",kadft!$W$79))","v":382},{"$f":"IF(kadft!$U$7=\"県計\",kadft!$T$82,IF(kadft!$U$7=\"前回\",kadft!$T$79))","v":1641},{"$f":"IF(kadft!$U$7=\"県計\",kadft!$Q$82,IF(kadft!$U$7=\"前回\",kadft!$Q$79))","v":2568},{"$f":"IF(kadft!$U$7=\"県計\",kadft!$N$82,IF(kadft!$U$7=\"前回\",kadft!$N$79))","v":2243},{"$f":"IF(kadft!$U$7=\"県計\",kadft!$K$82,IF(kadft!$U$7=\"前回\",kadft!$K$79))","v":1737},{"$f":"IF(kadft!$U$7=\"県計\",kadft!$H$82,IF(kadft!$U$7=\"前回\",kadft!$H$79))","v":1726},{"$f":"IF(kadft!$U$7=\"県計\",kadft!$E$82,IF(kadft!$U$7=\"前回\",kadft!$E$79))","v":1354}]
[{"$f":"IF(kadft!$U$7=\"県計\",$G$13,IF(kadft!$U$7=\"前回\",$G$15))","v":"2015年"},{"$f":"IF(kadft!$U$7=\"県計\",kadft!$W$81,IF(kadft!$U$7=\"前回\",kadft!$W$80))","v":285},{"$f":"IF(kadft!$U$7=\"県計\",kadft!$T$81,IF(kadft!$U$7=\"前回\",kadft!$T$80))","v":2258},{"$f":"IF(kadft!$U$7=\"県計\",kadft!$Q$81,IF(kadft!$U$7=\"前回\",kadft!$Q$80))","v":2897},{"$f":"IF(kadft!$U$7=\"県計\",kadft!$N$81,IF(kadft!$U$7=\"前回\",kadft!$N$80))","v":2844},{"$f":"IF(kadft!$U$7=\"県計\",kadft!$K$81,IF(kadft!$U$7=\"前回\",kadft!$K$80))","v":1972},{"$f":"IF(kadft!$U$7=\"県計\",kadft!$H$81,IF(kadft!$U$7=\"前回\",kadft!$H$80))","v":2273},{"$f":"IF(kadft!$U$7=\"県計\",kadft!$E$81,IF(kadft!$U$7=\"前回\",kadft!$E$80))","v":1395}]
{"$rows_empty":14}
[null,null,"　保全管理の実施率",null,null,"　保全管理の実施状況"]
[null,null,"農地の保全","森林の保全","ため池・湖沼の保全","河川・水路の保全","農業用用排水路の保全"]
[null,{"$f":"IF(kadft!$U$7=\"県計\",$J$15,IF(kadft!$U$7=\"前回\",$G$14))","v":"2010年"},{"$f":"IF(kadft!$U$7=\"県計\",kadft!$G$101,IF(kadft!$U$7=\"前回\",kadft!$G$98))","v":505},{"$f":"IF(kadft!$U$7=\"県計\",kadft!$K$101,IF(kadft!$U$7=\"前回\",kadft!$K$98))","v":295},{"$f":"IF(kadft!$U$7=\"県計\",kadft!$O$101,IF(kadft!$U$7=\"前回\",kadft!$O$98))","v":168},{"$f":"IF(kadft!$U$7=\"県計\",kadft!$S$101,IF(kadft!$U$7=\"前回\",kadft!$S$98))","v":1329},{"$f":"IF(kadft!$U$7=\"県計\",kadft!$W$101,IF(kadft!$U$7=\"前回\",kadft!$W$98))","v":1417}]
[null,{"$f":"IF(kadft!$U$7=\"県計\",$G$13,IF(kadft!$U$7=\"前回\",$G$15))","v":"2015年"},{"$f":"IF(kadft!$U$7=\"県計\",kadft!$G$100,IF(kadft!$U$7=\"前回\",kadft!$G$99))","v":788},{"$f":"IF(kadft!$U$7=\"県計\",kadft!$K$100,IF(kadft!$U$7=\"前回\",kadft!$K$99))","v":404},{"$f":"IF(kadft!$U$7=\"県計\",kadft!$O$100,IF(kadft!$U$7=\"前回\",kadft!$O$99))","v":222},{"$f":"IF(kadft!$U$7=\"県計\",kadft!$S$100,IF(kadft!$U$7=\"前回\",kadft!$S$99))","v":1585},{"$f":"IF(kadft!$U$7=\"県計\",kadft!$W$100,IF(kadft!$U$7=\"前回\",kadft!$W$99))","v":1688}]

{"sheet":"2010","index":2,"n_rows":505,"n_cols":48,"rows_kept":505,"hidden":true,"merged":[[3,3,3,4],[3,5,3,8],[3,10,3,15],[3,16,3,19],[3,20,3,25],[3,26,3,32],[3,33,3,42],[4,0,4,2]]}
["農山村地域調査"]
["１　総土地面積及び林野面積"]
[{"$nulls":3},1,2,3,4,5,6,7,8,9,10,11,12,13,14,15,16,17,18,19,20,21,22,23,24,25,26,27,28,29,30,31,32,33,34,35,36,37,38,39,40,41,42,43,44,45]
[{"$nulls":3},"総土地面積",null,"耕地面積",{"$nulls":4},"生産関連",{"$nulls":5},"水田率",{"$nulls":3},"農家率",{"$nulls":5},"寄り合いの議題_農業生産にかかる事項",{"$nulls":6},"保全管理"]
["新旧市区町村",null,null,"総土地\n面　積","林野面積","耕地面積","田面積","畑面積","樹園地面積","耕作\n放棄地\n面積","計","農業生産関連事業を行っている実経営体数","事業種類別_農産物の加工","事業種類別_消費者に直接販売","事業種類別_観光農園","その他","計","水田集落\n（70％以上）","田畑集落\n（30～70）","畑地集落\n（30％未満）","10％未満","10～30","30～50","50～70","70～90","90％以上","寄り合いの議題_農業生産にかかる事項","寄り合いの議題_農道・農業用用排水路・ため池の管理","寄り合いの議題_集落共有財産・共用施設の管理","寄り合いの議題_環境美化・自然環境の保全","寄り合いの議題_農業集落行事（祭り・イベント等）の計画・推進","寄り合いの議題_農業集落内の福祉・厚生","寄り合いを開催しなかった","農地_ある","農地_保全している","森林_ある","森林_保全している","ため池・湖沼_ある","ため池・湖沼_保全している","河川・水路_ある","河川・水路_保全している","農業用用排水路_ある","農業用用排水路_保全している"]
[1,"静岡県",null,{"v":771540,"d":"771,540"},{"v":495556,"d":"495,556"},68934,22919,15856,30159,{"v":12494.45,"d":"12494"},{"v":40102,"d":"40,102"},{"v":12228,"d":"12,228"},{"v":1995,"d":"1,995"},{"v":11071,"d":"11,071"},268,340,{"v":3366,"d":"3,366"},662,882,{"v":1822,"d":"1,822"},{"v":1360,"d":"1,360"},997,495,325,156,33,{"v":1354,"d":"1,354"},{"v":1726,"d":"1,726"},{"v":1737,"d":"1,737"},{"v":2243,"d":"2,243"},{"v":2568,"d":"2,568"},{"v":1641,"d":"1,641"},382,{"v":3225,"d":"3,225"},505,{"v":2495,"d":"2,495"},295,529,168,{"v":3048,"d":"3,048"},{"v":1329,"d":"1,329"},{"v":2718,"d":"2,718"},{"v":1417,"d":"1,417"}]
[2,"静岡市",null,{"v":141182,"d":"141,182"},{"v":107055,"d":"107,055"},5460,544,545,4371,{"v":2112.11,"d":"2112"},{"v":4694,"d":"4,694"},{"v":1635,"d":"1,635"},346,{"v":1459,"d":"1,459"},71,44,323,17,29,277,123,74,48,47,26,5,185,147,108,129,195,93,48,317,118,293,30,29,12,296,153,140,103]
[3,"葵区(静岡市)",null,{"v":107332,"d":"107,332"},{"v":92839,"d":"92,839"},2405,395,158,1852,{"v":519.38,"d":"519"},{"v":1917,"d":"1,917"},630,167,522,6,15,168,12,16,140,41,34,32,34,22,5,82,78,57,65,115,61,31,163,84,154,19,14,2,160,71,77,63]
[4,null,"静岡市２－１",{"v":8884,"d":"8,884"},{"v":3049,"d":"3,049"},795,191,53,551,{"v":339.82,"d":"340"},651,278,38,256,2,7,38,7,8,23,23,10,2,2,1,"-",35,29,20,24,31,13,3,36,0,31,1,4,1,37,15,28,21]
[5,null,"美和村",{"v":5545,"d":"5,545"},{"v":3857,"d":"3,857"},443,72,15,356,{"v":39.37,"d":"39"},330,78,23,59,"-",4,29,4,3,22,6,7,10,3,3,"-",11,17,11,11,15,9,7,29,19,25,2,1,0,29,19,15,12]
[6,null,"服織村",{"v":2767,"d":"2,767"},{"v":1740,"d":"1,740"},167,25,7,135,{"v":20.93,"d":"21"},132,50,14,43,2,"-",15,1,"-",14,9,4,1,1,"-","-",11,9,5,5,11,6,0,15,10,13,4,0,0,14,11,13,12]
[7,null,"中藁科村",{"v":3065,"d":"3,065"},{"v":2231,"d":"2,231"},205,39,5,161,{"v":25.62,"d":"26"},178,46,18,33,"-","-",6,"-",2,4,"-",2,2,"-",2,"-",4,4,5,5,6,3,0,6,6,6,4,0,0,6,6,5,5]
[8,null,"南藁科村",{"v":2059,"d":"2,059"},{"v":1416,"d":"1,416"},133,34,7,92,16,105,45,7,40,"-",3,6,"-",2,4,3,2,1,"-","-","-",6,4,5,4,5,4,0,6,2,6,2,0,0,6,5,6,6]
[9,null,"大河内村",{"v":5456,"d":"5,456"},{"v":4763,"d":"4,763"},95,14,4,77,{"v":6.82,"d":"7"},120,23,15,13,"-","-",7,"-","-",7,"-","-","-",3,4,"-",7,7,7,7,6,1,0,7,7,7,4,0,0,7,7,1,0]
[10,null,"梅ヶ島村",{"v":9208,"d":"9,208"},{"v":8263,"d":"8,263"},61,0,2,59,{"v":5.51,"d":"6"},55,25,20,11,2,"-",7,"-","-",7,"-","-",3,3,1,"-",0,5,2,2,7,0,0,7,5,7,0,0,0,7,0,0,0]
[11,null,"玉川村",{"v":9532,"d":"9,532"},{"v":8846,"d":"8,846"},133,4,3,126,{"v":14.66,"d":"15"},98,23,9,18,"-","-",20,"-","-",20,"-",4,5,7,3,1,0,0,0,1,19,18,1,20,12,20,0,0,0,20,2,3,2]
[12,null,"井川村",{"v":50052,"d":"50,052"},{"v":48856,"d":"48,856"},83,3,45,35,{"v":10.54,"d":"11"},22,8,4,7,"-","-",16,"-",1,15,"-",1,4,7,3,1,4,1,0,1,1,0,10,13,2,15,0,9,1,14,3,1,1]
[13,null,"清沢村",{"v":4437,"d":"4,437"},{"v":3949,"d":"3,949"},153,3,9,141,{"v":19.24,"d":"19"},125,34,14,25,"-",1,15,"-","-",15,"-",3,3,4,3,2,1,0,1,3,6,2,9,15,12,15,2,0,0,12,1,2,2]
[14,null,"大川村",{"v":6327,"d":"6,327"},{"v":5869,"d":"5,869"},137,10,8,119,{"v":20.87,"d":"21"},101,20,5,17,"-","-",9,"-","-",9,"-",1,1,4,2,1,3,2,1,2,8,5,1,9,9,9,0,0,0,8,2,3,2]
[15,"駿河区(静岡市)",null,{"v":7289,"d":"7,289"},{"v":1854,"d":"1,854"},699,93,99,507,{"v":177.33,"d":"177"},777,352,46,339,47,14,48,5,7,36,29,13,3,2,1,"-",21,29,9,22,33,10,4,47,4,41,2,2,0,45,24,26,19]
[16,null,"静岡市2-2",{"v":7027,"d":"7,027"},{"v":1793,"d":"1,793"},674,88,94,492,{"v":175.15,"d":"175"},767,344,44,331,46,14,46,5,6,35,28,13,3,2,"-","-",21,27,7,22,32,10,4,45,3,39,1,2,0,43,24,24,17]
[17,null,"有度村２－２",262,61,25,5,5,15,{"v":2.18,"d":"2"},10,8,2,8,1,"-",2,"-",1,1,1,"-","-","-",1,"-",0,2,2,0,1,0,0,2,1,2,1,0,0,2,0,2,2]
[18,"清水区(静岡市)",null,{"v":26561,"d":"26,561"},{"v":12362,"d":"12,362"},2356,56,288,2012,{"v":1415.4,"d":"1415"},{"v":2000,"d":"2,000"},653,133,598,18,15,107,"-",6,101,53,27,13,11,3,"-",82,40,42,42,47,22,13,107,30,98,9,13,10,91,58,37,21]
[19,null,"清水市",{"v":2652,"d":"2,652"},156,219,0,90,129,{"v":78.91,"d":"79"},286,94,9,90,14,1,14,"-","-",14,12,"-","-",2,"-","-",14,4,1,2,2,0,0,14,0,13,0,3,3,9,9,0,0]
[20,null,"飯田村清水区（静岡市）",639,41,49,2,4,43,{"v":75.19,"d":"75"},68,35,6,34,"-","-",4,"-",1,3,4,"-","-","-","-","-",4,0,0,0,1,0,0,4,0,3,0,1,1,4,3,2,0]
[21,null,"高部村",{"v":1010,"d":"1,010"},79,173,9,40,124,{"v":183.12,"d":"183"},134,57,8,54,"-",1,5,"-","-",5,4,1,"-","-","-","-",4,3,2,4,4,0,0,5,2,5,1,2,1,5,4,5,3]
[22,null,"有度村２－１",{"v":1069,"d":"1,069"},78,42,3,5,34,{"v":22.48,"d":"22"},114,69,5,67,"-",3,4,"-",1,3,4,"-","-","-","-","-",4,0,1,0,3,0,0,4,1,4,0,2,1,4,3,3,0]
[23,null,"興津町",{"v":1219,"d":"1,219"},168,241,0,16,225,{"v":173.44,"d":"173"},203,58,8,54,"-",2,8,"-","-",8,3,5,"-","-","-","-",8,8,7,6,4,4,0,8,2,8,0,1,1,7,4,3,3]
[24,null,"小島村",{"v":4110,"d":"4,110"},{"v":2354,"d":"2,354"},254,2,14,238,{"v":185.47,"d":"185"},183,32,11,29,"-","-",9,"-",1,8,1,4,2,2,"-","-",8,2,2,0,4,0,1,9,6,9,2,0,0,9,5,3,1]
[25,null,"両河内村",{"v":8381,"d":"8,381"},{"v":6783,"d":"6,783"},285,33,26,226,{"v":106.96,"d":"107"},218,75,49,53,"-",1,18,"-",1,17,"-",7,4,4,3,"-",16,13,16,16,15,8,0,18,11,18,4,0,0,16,1,12,10]
[26,null,"庵原村",{"v":3243,"d":"3,243"},{"v":1220,"d":"1,220"},687,0,36,651,{"v":280.74,"d":"281"},449,107,30,92,1,5,12,"-","-",12,1,6,3,2,"-","-",12,1,1,2,2,0,0,12,6,12,1,1,1,12,12,1,1]
[27,null,"袖師町",459,3,35,2,6,27,{"v":39.16,"d":"39"},64,23,3,23,"-",1,4,"-",1,3,4,"-","-","-","-","-",4,2,3,0,2,2,0,4,2,1,0,0,0,4,4,3,0]
[28,null,"蒲原町",{"v":1474,"d":"1,474"},419,111,3,34,74,{"v":92.11,"d":"92"},60,17,1,17,"-","-",15,"-",1,14,14,1,"-","-","-","-",3,1,0,1,0,0,11,15,0,13,0,2,2,7,3,4,2]
[29,null,"由比町",{"v":2305,"d":"2,305"},{"v":1061,"d":"1,061"},260,2,17,241,{"v":177.82,"d":"178"},221,86,3,85,3,1,14,"-","-",14,6,3,4,1,"-","-",5,6,9,11,10,8,1,14,0,12,1,1,0,14,10,1,1]
[30,"浜松市",null,{"v":151117,"d":"151,117"},{"v":101854,"d":"101,854"},12862,2629,4275,5958,{"v":2545.58,"d":"2546"},{"v":7784,"d":"7,784"},{"v":1637,"d":"1,637"},237,{"v":1494,"d":"1,494"},44,60,690,38,197,455,297,203,81,69,31,9,287,403,493,580,641,517,18,665,75,464,34,95,43,602,339,585,430]
[31,"中区(浜松市)",null,{"v":4423,"d":"4,423"},160,139,42,60,37,{"v":44.83,"d":"45"},200,53,9,46,"-",3,13,2,1,10,9,4,"-","-","-","-",8,8,10,12,12,12,0,13,0,9,0,0,0,12,6,13,8]
[32,null,"浜松市４－１",{"v":3986,"d":"3,986"},130,56,26,20,10,{"v":36.04,"d":"36"},136,45,8,39,"-",3,4,1,"-",3,4,"-","-","-","-","-",1,1,2,4,4,4,0,4,0,2,0,0,0,3,2,4,1]
[33,null,"入野村２－１",177,8,3,0,1,2,"x",13,4,"-",4,"-","-",1,"-","-",1,1,"-","-","-","-","-",1,1,1,1,1,1,0,1,0,0,0,0,0,1,0,1,0]
[34,null,"吉野村２－１",239,22,69,6,38,25,"x",51,4,1,3,"-","-",7,"-",1,6,3,4,"-","-","-","-",6,6,6,6,6,6,0,7,0,7,0,0,0,7,4,7,7]
[35,null,"新津村２－１",21,"-",11,10,1,0,"-","-","-","-","-","-","-",1,1,"-","-",1,"-","-","-","-","-",0,0,1,1,1,1,0,1,0,0,0,0,0,1,0,1,0]
[36,"東区(浜松市)",null,{"v":4629,"d":"4,629"},34,874,504,301,69,{"v":148.04,"d":"148"},527,174,9,167,1,5,94,23,63,8,70,20,4,"-","-","-",13,77,57,76,83,58,4,92,4,16,0,3,0,76,70,92,84]
[37,null,"浜松市４－３",365,"-","…","…","…","…",{"v":2.49,"d":"2"},11,2,1,1,"-","-","-","-","-","-","-","-","-","-","-","-","…","…","…","…","…","…","…","…","…","…","…","…","…","…","…","…","…"]
[38,null,"飯田村２－１東区（浜松市）",2,"-","…","…","…","…","-","-","-","-","-","-","-","-","-","-","-","-","-","-","-","-","-","…","…","…","…","…","…","…","…","…","…","…","…","…","…","…","…","…"]
[39,null,"和田村東区（浜松市）",508,"-",31,18,10,3,{"v":5.81,"d":"6"},21,5,1,5,"-",1,5,"-",4,1,3,2,"-","-","-","-",0,4,0,5,5,4,0,5,1,0,0,0,0,4,3,5,4]
[40,null,"長上村",909,"-",227,150,61,16,{"v":28.9,"d":"29"},135,57,1,56,"-","-",25,9,15,1,23,2,"-","-","-","-",8,24,18,25,25,15,0,25,1,2,0,0,0,21,21,25,24]
[41,null,"積志村",{"v":1312,"d":"1,312"},34,287,159,92,36,{"v":61.68,"d":"62"},158,47,3,47,"-","-",31,5,24,2,28,3,"-","-","-","-",0,30,30,31,31,31,0,31,0,6,0,0,0,24,24,31,31]
[42,null,"笠井町",251,"-",61,39,19,3,{"v":5.96,"d":"6"},35,11,1,10,"-",1,4,1,3,"-",3,1,"-","-","-","-",0,1,0,0,1,0,3,4,0,4,0,0,0,4,4,4,4]
[43,null,"豊西村",793,"-",183,81,95,7,{"v":34.76,"d":"35"},113,30,1,26,1,3,14,2,10,2,6,7,1,"-","-","-",4,7,6,8,10,5,1,14,1,4,0,3,0,12,7,14,8]
[44,null,"中ノ町村",474,"-",85,57,24,4,{"v":8.44,"d":"8"},54,22,1,22,"-","-",13,6,7,"-",5,5,3,"-","-","-",1,11,1,5,9,1,0,13,1,0,0,0,0,11,11,13,13]
[45,null,"三方原村２－１",15,"-",0,0,0,0,"-","-","-","-","-","-","-",2,"-","-",2,2,"-","-","-","-","-",0,0,2,2,2,2,0,0,0,0,0,0,0,0,0,0,0]
[46,"西区(浜松市)",null,{"v":8549,"d":"8,549"},828,2117,394,1464,259,{"v":649.03,"d":"649"},{"v":1518,"d":"1,518"},211,24,196,15,8,86,5,17,64,41,34,10,1,"-","-",59,58,60,65,76,63,0,86,4,60,9,30,13,77,58,86,60]
[47,null,"神久呂村",{"v":1216,"d":"1,216"},189,380,53,260,67,{"v":98.31,"d":"98"},250,45,6,41,1,2,11,1,1,9,4,5,1,1,"-","-",11,11,11,11,11,11,0,11,1,11,0,5,1,11,11,11,8]
[48,null,"入野村２－２",791,56,90,35,40,15,{"v":50.26,"d":"50"},60,20,1,20,"-","-",11,1,7,3,10,1,"-","-","-","-",8,5,6,9,11,11,0,11,0,5,0,4,0,9,0,11,1]
[49,null,"吉野村２－２",30,"-",4,0,3,1,"-","-","-","-","-","-","-",3,"-","-",3,3,"-","-","-","-","-",3,3,3,3,3,3,0,3,0,3,0,0,0,3,2,3,3]
[50,null,"和地村",903,89,306,38,190,78,{"v":75.56,"d":"76"},223,22,5,19,"-","-",9,1,"-",8,"-",5,4,"-","-","-",0,4,7,9,9,9,0,9,0,5,3,2,1,7,7,9,9]
[51,null,"伊佐見村",{"v":1235,"d":"1,235"},171,404,79,298,27,{"v":153.06,"d":"153"},295,37,5,31,1,3,6,"-",1,5,1,3,2,"-","-","-",6,6,6,6,6,6,0,6,0,6,0,2,1,6,6,6,6]
[52,null,"篠原村",{"v":1004,"d":"1,004"},14,233,33,193,7,{"v":69.35,"d":"69"},234,8,"-",8,"-","-",27,1,4,22,13,14,"-","-","-","-",22,14,9,9,17,4,0,27,0,15,0,1,0,23,19,27,18]
[53,null,"北庄内村",{"v":1030,"d":"1,030"},176,260,26,182,52,{"v":82.55,"d":"83"},266,47,5,45,13,2,5,"-","-",5,1,1,3,"-","-","-",1,5,5,5,5,5,0,5,1,5,3,5,5,5,5,5,5]
[54,null,"南庄内村",419,47,102,21,77,4,{"v":52.36,"d":"52"},40,3,"-",3,"-","-",3,"-",1,2,"-",3,"-","-","-","-",0,3,3,3,3,3,0,3,1,3,3,3,3,3,3,3,3]
[55,null,"村櫛村",505,39,117,24,91,2,{"v":22.28,"d":"22"},29,5,"-",5,"-","-",2,"-","-",2,1,1,"-","-","-","-",2,2,2,2,2,2,0,2,0,1,0,2,0,2,2,2,2]
[56,null,"舞阪町",457,1,32,0,32,0,{"v":2.99,"d":"3"},16,1,"-",1,"-","-",2,"-","-",2,2,"-","-","-","-","-",2,1,2,2,2,2,0,2,0,2,0,0,0,1,1,2,1]
[57,null,"雄踏町",821,45,189,85,98,6,{"v":42.31,"d":"42"},105,23,2,23,"-",1,7,1,3,3,6,1,"-","-","-","-",4,4,6,6,7,7,0,7,1,4,0,6,2,7,2,7,4]
[58,null,"浜松市４－２",138,"-","…","…","…","…","-","-","-","-","-","-","-","-","-","-","-","-","-","-","-","-","-","…","…","…","…","…","…","…","…","…","…","…","…","…","…","…","…","…"]
[59,"南区(浜松市)",null,{"v":4702,"d":"4,702"},191,1061,468,568,25,{"v":223.38,"d":"223"},802,159,6,152,"-",5,74,6,52,16,43,27,2,2,"-","-",39,63,67,68,70,64,3,74,1,16,1,3,3,50,45,74,64]
[60,null,"浜松市４－４",862,56,201,126,69,6,{"v":28.35,"d":"28"},134,31,1,30,"-","-",6,"-",6,"-",5,1,"-","-","-","-",5,6,6,6,6,6,0,6,0,2,0,0,0,4,4,6,6]
[61,null,"芳川村",790,"-",163,83,77,3,{"v":36.7,"d":"37"},121,27,1,26,"-",1,16,"-",12,4,11,4,1,"-","-","-",4,14,15,16,16,16,0,16,0,1,1,2,2,11,10,16,15]
[62,null,"飯田村２－１南区（浜松市）",608,"-",100,31,64,5,{"v":25.4,"d":"25"},79,16,"-",16,"-","-",12,"-",8,4,8,4,"-","-","-","-",2,6,6,6,8,2,3,12,0,0,0,0,0,7,7,12,12]
[63,null,"河輪村",347,"-",75,32,39,4,{"v":26.39,"d":"26"},54,19,"-",19,"-","-",8,"-",6,2,4,4,"-","-","-","-",3,8,8,8,8,8,0,8,1,0,0,0,0,6,6,8,8]
[64,null,"五島村",725,68,194,70,122,2,{"v":28.76,"d":"29"},170,25,3,22,"-",2,18,5,8,5,5,10,1,2,"-","-",18,17,18,18,18,18,0,18,0,6,0,1,1,13,13,18,17]
[65,null,"新津村２－２",971,64,290,107,179,4,{"v":59.66,"d":"60"},221,36,1,34,"-",2,7,1,5,1,4,3,"-","-","-","-",6,6,7,7,7,7,0,7,0,4,0,0,0,3,0,7,4]
[66,null,"可美村",399,2,38,19,18,1,{"v":18.12,"d":"18"},23,5,"-",5,"-","-",7,"-",7,"-",6,1,"-","-","-","-",1,6,7,7,7,7,0,7,0,3,0,0,0,6,5,7,2]
[67,"北区(浜松市)",null,{"v":27763,"d":"27,763"},{"v":13963,"d":"13,963"},5744,747,850,4147,{"v":630.37,"d":"630"},{"v":3273,"d":"3,273"},645,78,586,26,28,139,1,23,115,22,54,21,27,13,2,73,80,110,118,123,106,5,139,19,127,24,46,22,126,101,139,109]
[68,null,"三方原村２－２",{"v":1628,"d":"1,628"},"-",598,4,394,200,{"v":109.19,"d":"109"},315,83,21,68,3,5,21,"-","-",21,10,10,1,"-","-","-",10,15,19,21,21,20,0,21,1,15,4,2,1,16,10,21,13]
[69,null,"都田村",{"v":3016,"d":"3,016"},{"v":1077,"d":"1,077"},758,89,125,544,{"v":77.31,"d":"77"},399,114,14,100,12,7,18,"-",3,15,1,4,5,6,2,"-",1,15,17,18,18,15,0,18,1,18,4,6,2,17,16,18,17]
[70,null,"気賀町",{"v":2241,"d":"2,241"},822,638,114,58,466,{"v":109.42,"d":"109"},371,104,5,100,3,"-",11,"-",2,9,2,6,3,"-","-","-",9,7,5,4,6,3,2,11,4,11,0,5,4,10,9,11,9]
[71,null,"中川村北区（浜松市）",{"v":1176,"d":"1,176"},253,413,176,46,191,{"v":39.78,"d":"40"},252,88,8,86,1,3,8,1,5,2,1,7,"-","-","-","-",5,3,2,5,3,4,0,8,2,6,1,0,0,7,7,8,8]
[72,null,"金指町",98,19,16,1,9,6,{"v":10.44,"d":"10"},16,4,1,4,"-","-",2,"-","-",2,1,1,"-","-","-","-",0,0,1,0,2,0,0,2,0,1,0,0,0,2,2,2,2]
[73,null,"井伊谷村",{"v":1240,"d":"1,240"},534,279,37,47,195,{"v":34.18,"d":"34"},174,26,1,26,"-","-",9,"-",1,8,2,4,2,"-",1,"-",2,1,9,9,9,9,0,9,0,9,2,3,2,9,9,9,7]
[74,null,"奥山村",{"v":2848,"d":"2,848"},{"v":1912,"d":"1,912"},357,73,49,235,{"v":49.62,"d":"50"},183,36,5,34,1,1,14,"-",2,12,"-",6,"-",4,2,2,6,6,13,14,14,14,0,14,2,14,3,1,1,14,13,14,10]
[75,null,"伊平村",{"v":3068,"d":"3,068"},{"v":2522,"d":"2,522"},204,34,29,141,{"v":53.71,"d":"54"},100,13,5,12,"-",1,14,"-",2,12,1,5,2,4,2,"-",5,2,6,7,10,5,2,14,1,14,5,9,1,12,7,14,13]
[76,null,"鎮玉村",{"v":4874,"d":"4,874"},{"v":3716,"d":"3,716"},283,80,30,173,{"v":43.39,"d":"43"},169,29,5,26,"-","-",10,"-",4,6,"-",1,"-",6,3,"-",7,8,8,9,9,7,1,10,3,10,2,2,0,10,6,10,9]
[77,null,"三ヶ日町",{"v":6052,"d":"6,052"},{"v":2525,"d":"2,525"},1819,97,43,1679,{"v":37.14,"d":"37"},953,103,10,91,4,8,20,"-",4,16,4,4,4,6,2,"-",16,16,19,20,19,17,0,20,4,17,3,9,6,19,18,20,16]
[78,null,"東浜名村",{"v":1522,"d":"1,522"},588,379,42,20,317,{"v":66.19,"d":"66"},341,45,3,39,2,3,12,"-","-",12,"-",6,4,1,1,"-",12,7,11,11,12,12,0,12,1,12,0,9,5,10,4,12,5]
[79,"浜北区(浜松市)",null,{"v":6651,"d":"6,651"},{"v":1338,"d":"1,338"},1584,376,586,622,{"v":539.71,"d":"540"},789,224,22,212,2,9,78,1,32,45,52,21,3,1,1,"-",31,57,45,67,78,76,0,78,0,31,0,10,4,65,59,70,61]
[80,null,"小野口村",{"v":1020,"d":"1,020"},79,292,120,75,97,{"v":45.01,"d":"45"},126,34,4,33,"-",1,16,1,10,5,10,6,"-","-","-","-",7,15,16,16,16,15,0,16,0,2,0,0,0,13,13,13,12]
[81,null,"北浜村",948,9,245,42,115,88,{"v":127.48,"d":"127"},138,34,1,33,"-",3,22,"-",6,16,20,2,"-","-","-","-",12,21,22,22,22,22,0,22,0,4,0,0,0,16,15,21,19]
[82,null,"竜池村",624,1,138,49,74,15,{"v":54.73,"d":"55"},44,11,2,10,"-",1,8,"-",6,2,5,2,1,"-","-","-",8,7,1,8,8,8,0,8,0,1,0,0,0,7,7,8,6]
[83,null,"中瀬村",928,17,204,4,165,35,{"v":118.21,"d":"118"},95,14,4,11,"-",1,8,"-","-",8,6,2,"-","-","-","-",0,2,0,7,8,8,0,8,0,8,0,2,0,8,5,4,2]
[84,null,"赤佐村",921,283,179,62,61,56,{"v":74.75,"d":"75"},69,22,"-",22,"-","-",11,"-",5,6,10,1,"-","-","-","-",1,3,1,6,11,10,0,11,0,6,0,3,2,9,7,11,9]
[85,null,"麁玉村",{"v":2210,"d":"2,210"},950,526,99,96,331,{"v":119.53,"d":"120"},317,109,11,103,2,3,13,"-",5,8,1,8,2,1,1,"-",3,9,5,8,13,13,0,13,0,10,0,5,2,12,12,13,13]
[86,"天竜区(浜松市)",null,{"v":94400,"d":"94,400"},{"v":85340,"d":"85,340"},1343,98,446,799,{"v":310.22,"d":"310"},675,171,89,135,"-",2,206,"-",9,197,60,43,41,38,17,7,64,60,144,174,199,138,6,183,47,205,0,3,1,196,0,111,44]
[87,null,"二俣町",747,421,17,0,13,4,"x",2,"x","x","x","x","x",7,"-","-",7,6,"-",1,"-","-","-",0,0,0,3,7,0,0,7,0,7,0,0,0,7,0,0,0]
[88,null,"光明村",{"v":4098,"d":"4,098"},{"v":3638,"d":"3,638"},66,3,27,36,{"v":43.38,"d":"43"},50,8,2,6,"-",1,15,"-",1,14,9,1,2,2,1,"-",0,0,5,13,15,0,0,10,3,14,0,1,1,15,0,5,2]
[89,null,"上阿多古村",{"v":2804,"d":"2,804"},{"v":2231,"d":"2,231"},118,11,27,80,25,54,7,4,4,"-","-",11,"-",1,10,"-",3,3,3,2,"-",0,0,0,11,11,0,0,11,4,11,0,0,0,10,0,9,3]
[90,null,"下阿多古村",{"v":2743,"d":"2,743"},{"v":2076,"d":"2,076"},84,16,49,19,{"v":41.78,"d":"42"},24,7,4,4,"-","-",8,"-",1,7,6,2,"-","-","-","-",0,0,0,7,7,0,1,5,0,8,0,0,0,8,0,5,2]
[91,null,"熊村",{"v":3168,"d":"3,168"},{"v":2777,"d":"2,777"},84,10,38,36,{"v":16.56,"d":"17"},64,8,1,7,"-","-",21,"-",3,18,2,1,2,7,5,4,0,0,3,18,20,0,1,18,12,21,0,0,0,21,0,16,9]
[92,null,"竜川村",{"v":4611,"d":"4,611"},{"v":3811,"d":"3,811"},75,1,44,30,{"v":10.6,"d":"11"},34,9,5,8,"-","-",18,"-","-",18,7,4,5,1,"-",1,1,1,15,4,18,17,0,15,2,18,0,0,0,18,0,3,2]
[93,null,"犬居町",{"v":3146,"d":"3,146"},{"v":2738,"d":"2,738"},104,5,24,75,{"v":17.17,"d":"17"},50,11,7,9,"-","-",10,"-","-",10,3,3,3,1,"-","-",10,0,10,10,10,10,0,10,1,10,0,1,0,9,0,10,1]
[94,null,"気多村",{"v":10914,"d":"10,914"},{"v":9936,"d":"9,936"},134,17,37,80,{"v":36.93,"d":"37"},45,12,2,12,"-","-",19,"-",2,17,5,7,6,1,"-","-",18,1,18,18,18,18,1,18,0,19,0,0,0,16,0,13,0]
[95,null,"熊切村",{"v":11150,"d":"11,150"},{"v":10227,"d":"10,227"},293,18,59,216,{"v":27.14,"d":"27"},205,47,29,36,"-","-",17,"-","-",17,"-",1,1,11,3,1,17,9,17,17,17,17,0,17,11,17,0,1,0,12,0,16,12]
[96,null,"龍山村",{"v":7034,"d":"7,034"},{"v":6541,"d":"6,541"},53,0,8,45,{"v":9.93,"d":"10"},50,14,8,12,"-","-",12,"-","-",12,2,3,4,2,1,"-",0,10,11,11,12,12,0,11,9,12,0,0,0,12,0,9,9]
[97,null,"浦川町",{"v":6941,"d":"6,941"},{"v":6049,"d":"6,049"},63,6,24,33,{"v":28.9,"d":"29"},10,1,1,1,"-","-",15,"-","-",15,4,7,2,"-",2,"-",4,9,15,14,15,15,0,13,0,15,0,0,0,15,0,6,1]
[98,null,"佐久間村",{"v":2623,"d":"2,623"},{"v":2562,"d":"2,562"},27,2,13,12,"x",9,"x","x","x","x","x",7,"-","-",7,2,2,2,"-",1,"-",1,4,7,7,7,7,0,5,0,7,0,0,0,7,0,2,0]
[99,null,"山香村",{"v":4296,"d":"4,296"},{"v":4053,"d":"4,053"},51,0,12,39,{"v":8.15,"d":"8"},26,17,13,9,"-","-",12,"-","-",12,5,2,2,3,"-","-",8,11,11,11,10,10,1,10,0,12,0,0,0,12,0,2,1]
[100,null,"城西村",{"v":3009,"d":"3,009"},{"v":2734,"d":"2,734"},76,5,20,51,{"v":17.69,"d":"18"},24,13,4,11,"-",1,16,"-",1,15,2,3,6,3,2,"-",5,10,16,15,16,16,0,16,0,16,0,0,0,16,0,8,1]
[101,null,"水窪町",{"v":27116,"d":"27,116"},{"v":25546,"d":"25,546"},98,4,51,43,{"v":16.69,"d":"17"},28,15,9,14,"-","-",18,"-","-",18,7,4,2,4,"-",1,0,5,16,15,16,16,2,17,5,18,0,0,0,18,0,7,1]
[102,"沼津市",null,{"v":18711,"d":"18,711"},{"v":9457,"d":"9,457"},2270,464,392,1414,{"v":292.99,"d":"293"},{"v":1223,"d":"1,223"},325,64,291,3,9,112,14,16,82,68,24,7,9,4,"-",36,45,35,61,55,18,33,91,13,90,10,8,4,105,24,65,21]
[103,null,"沼津市（旧）",{"v":5339,"d":"5,339"},{"v":1432,"d":"1,432"},363,42,194,127,{"v":67.95,"d":"68"},255,85,17,75,"-",4,45,1,9,35,43,2,"-","-","-","-",6,12,9,25,22,8,18,29,0,30,3,3,1,43,10,16,1]
[104,null,"愛鷹村",{"v":2107,"d":"2,107"},{"v":1042,"d":"1,042"},450,90,58,302,{"v":37.78,"d":"38"},199,53,26,41,"-",4,8,"-","-",8,4,3,1,"-","-","-",3,3,4,4,3,3,3,7,2,8,1,0,0,8,1,7,0]
[105,null,"大平村",585,283,142,111,29,2,{"v":8.99,"d":"9"},112,48,2,47,"-","-",10,8,1,1,"-",5,3,2,"-","-",4,6,5,7,9,4,0,10,2,8,0,0,0,9,2,10,4]
[106,null,"内浦村",752,434,88,0,4,84,{"v":39.38,"d":"39"},69,9,"-",9,"-","-",5,"-","-",5,3,1,1,"-","-","-",4,4,1,1,2,0,0,5,1,5,2,1,1,5,1,0,0]
[107,null,"西浦村",{"v":3193,"d":"3,193"},{"v":1968,"d":"1,968"},514,0,11,503,{"v":46.51,"d":"47"},328,52,"-",52,"-","-",9,"-","-",9,"-","-","-",6,3,"-",8,6,8,5,6,2,0,9,1,9,0,1,0,9,1,2,2]
[108,null,"原町",819,68,166,119,43,4,{"v":32.88,"d":"33"},22,11,1,10,"-","-",11,4,4,3,9,2,"-","-","-","-",4,5,1,6,5,0,3,11,3,10,2,1,1,10,6,11,6]
[109,null,"浮島村２－１",{"v":2419,"d":"2,419"},{"v":1191,"d":"1,191"},445,88,47,310,{"v":37.02,"d":"37"},165,47,17,37,"-",1,7,"-","-",7,1,6,"-","-","-","-",3,6,3,6,4,1,1,6,1,7,0,1,0,7,1,6,6]
[110,null,"戸田村",{"v":3497,"d":"3,497"},{"v":3039,"d":"3,039"},102,14,6,82,{"v":22.48,"d":"22"},73,20,1,20,3,"-",17,1,2,14,8,5,2,1,1,"-",4,3,4,7,4,0,8,14,3,13,2,1,1,14,2,13,2]
[111,"熱海市",null,{"v":6160,"d":"6,160"},{"v":3885,"d":"3,885"},244,0,38,206,{"v":92.6,"d":"93"},167,84,5,81,2,7,20,"-","-",20,17,3,"-","-","-","-",13,11,5,6,12,6,7,15,0,20,1,0,0,20,1,20,0]
[112,null,"熱海市（旧）",{"v":5986,"d":"5,986"},{"v":3807,"d":"3,807"},237,0,38,199,"x",164,82,5,79,2,7,18,"-","-",18,15,3,"-","-","-","-",12,11,5,6,11,6,6,13,0,18,1,0,0,18,1,18,0]
[113,null,"網代町",174,78,7,0,0,7,"x",3,2,"-",2,"-","-",2,"-","-",2,2,"-","-","-","-","-",1,0,0,0,1,0,1,2,0,2,0,0,0,2,0,2,0]
[114,"三島市",null,{"v":6213,"d":"6,213"},{"v":2378,"d":"2,378"},852,276,523,53,{"v":182.3,"d":"182"},599,183,31,159,2,13,39,17,7,15,24,3,5,2,3,2,29,30,31,27,36,26,1,39,5,24,5,5,1,38,3,32,2]
[115,null,"三島市（旧）",{"v":5293,"d":"5,293"},{"v":2324,"d":"2,324"},630,96,484,50,{"v":160.86,"d":"161"},377,102,26,83,2,8,22,2,5,15,9,1,5,2,3,2,14,14,14,10,19,10,1,22,4,20,5,4,1,21,3,15,2]
[116,null,"中郷村",920,54,222,180,39,3,{"v":21.44,"d":"21"},222,81,5,76,"-",5,17,15,2,"-",15,2,"-","-","-","-",15,16,17,17,17,16,0,17,1,4,0,1,0,17,0,17,0]
[117,"富士宮市",null,{"v":38899,"d":"38,899"},{"v":24851,"d":"24,851"},"@","@","@","@","@","@","@","@","@","@","@",132,18,50,64,27,57,22,22,3,1,"@","@","@","@","@","@","@","@","@","@","@","@","@","@","@","@","@"]
[118,null,"富士宮市（旧）",{"v":3708,"d":"3,708"},862,183,62,80,41,{"v":131.01,"d":"131"},223,76,16,68,1,2,27,6,8,13,12,10,2,3,"-","-",8,14,5,14,18,3,4,26,3,19,1,1,0,26,3,25,20]
[119,null,"富士根村",{"v":5266,"d":"5,266"},{"v":3345,"d":"3,345"},219,9,156,54,{"v":104.56,"d":"105"},225,63,24,48,"-",1,15,"-",2,13,6,5,4,"-","-","-",1,3,6,5,9,5,5,14,0,13,0,1,0,15,11,14,3]
[120,null,"北山村",{"v":7690,"d":"7,690"},{"v":5935,"d":"5,935"},183,50,111,22,{"v":80.22,"d":"80"},131,45,8,38,"-",2,28,1,10,17,3,18,2,4,1,"-",3,7,6,15,25,2,1,27,0,26,0,1,0,28,23,27,26]
[121,null,"上井出村",{"v":11348,"d":"11,348"},{"v":7270,"d":"7,270"},896,19,877,0,{"v":122.88,"d":"123"},109,20,7,13,2,8,21,"-",9,12,4,9,3,4,1,"-",5,6,7,9,16,5,3,21,1,20,1,3,1,20,15,21,14]
[122,null,"白糸村",{"v":2134,"d":"2,134"},{"v":1392,"d":"1,392"},107,73,32,2,{"v":20.48,"d":"20"},69,53,2,53,1,2,5,2,3,"-","-",2,1,2,"-","-",2,3,2,3,5,2,0,5,2,5,2,1,0,5,5,5,5]
[123,null,"上野村",{"v":1335,"d":"1,335"},615,258,179,74,5,{"v":52.87,"d":"53"},172,114,9,112,"-","-",7,4,3,"-","-",5,1,1,"-","-",2,3,0,5,6,1,0,7,0,7,0,0,0,7,3,7,7]
[124,null,"芝富村",{"v":1587,"d":"1,587"},845,213,104,88,21,{"v":84.91,"d":"85"},75,35,"-",35,"-","-",9,2,4,3,2,3,2,2,"-","-",0,5,2,6,7,0,2,9,0,9,0,2,1,9,8,9,1]
[125,null,"柚野村",{"v":3874,"d":"3,874"},{"v":3137,"d":"3,137"},245,152,66,27,{"v":35.94,"d":"36"},166,73,7,71,"-","-",7,2,5,"-","-",2,4,1,"-","-",0,4,2,4,7,1,0,7,0,7,0,0,0,7,5,7,4]
[126,null,"内房村",{"v":1957,"d":"1,957"},{"v":1450,"d":"1,450"},96,38,21,37,{"v":20.95,"d":"21"},31,9,2,9,"-","-",13,1,6,6,"-",3,3,5,1,1,3,6,12,10,12,8,0,13,0,13,3,0,0,12,11,13,2]
[127,"伊東市",null,{"v":12413,"d":"12,413"},{"v":6909,"d":"6,909"},543,27,257,259,{"v":230.55,"d":"231"},370,116,10,112,15,5,41,"-",2,39,35,6,"-","-","-","-",15,14,24,35,39,17,0,38,10,38,7,4,1,40,13,35,7]
[128,null,"伊東市（旧）",{"v":5692,"d":"5,692"},{"v":3311,"d":"3,311"},316,4,184,128,{"v":125.46,"d":"125"},200,53,7,52,2,1,18,"-",1,17,18,"-","-","-","-","-",7,5,8,13,16,10,0,17,5,18,5,4,1,18,5,16,2]
[129,null,"宇佐美村",{"v":2107,"d":"2,107"},{"v":1410,"d":"1,410"},99,0,14,85,{"v":25.11,"d":"25"},90,34,1,34,11,1,10,"-","-",10,9,1,"-","-","-","-",5,6,3,9,10,1,0,9,5,8,2,0,0,10,8,9,4]
[130,null,"対島村",{"v":4614,"d":"4,614"},{"v":2188,"d":"2,188"},128,23,59,46,{"v":79.98,"d":"80"},80,29,2,26,2,3,13,"-",1,12,8,5,"-","-","-","-",3,3,13,13,13,6,0,12,0,12,0,0,0,12,0,10,1]
[131,"島田市",null,{"v":31588,"d":"31,588"},{"v":20953,"d":"20,953"},3393,728,121,2544,{"v":195.84,"d":"196"},{"v":2204,"d":"2,204"},664,163,548,4,14,156,29,30,97,56,32,17,24,26,1,37,44,53,83,90,37,47,143,50,97,17,11,3,156,25,107,22]
[132,null,"島田市（旧）",{"v":1187,"d":"1,187"},"-",92,67,25,0,{"v":14.75,"d":"15"},63,28,2,28,"-","-",23,11,4,8,23,"-","-","-","-","-",2,1,0,0,0,0,21,16,1,0,0,0,0,23,3,16,3]
[133,null,"六合村",{"v":1192,"d":"1,192"},391,232,131,6,95,{"v":17.04,"d":"17"},181,101,7,96,"-",1,14,8,5,1,9,4,"-","-",1,"-",1,3,5,12,13,2,0,14,0,5,0,0,0,14,5,14,4]
[134,null,"大津村",{"v":1482,"d":"1,482"},976,254,63,5,186,{"v":30.4,"d":"30"},149,45,7,40,"-",2,7,"-",3,4,1,3,1,2,"-","-",3,2,4,4,7,0,0,7,6,7,3,3,1,7,2,6,1]
[135,null,"大長村",{"v":2849,"d":"2,849"},{"v":1831,"d":"1,831"},318,36,6,276,{"v":29.29,"d":"29"},138,55,4,51,2,2,4,"-","-",4,1,2,1,"-","-","-",0,2,3,4,4,2,0,4,2,4,2,1,0,4,2,3,1]
[136,null,"伊久身村２－１",{"v":2664,"d":"2,664"},{"v":2183,"d":"2,183"},150,9,7,134,{"v":10.48,"d":"10"},109,23,15,11,"-",1,9,"-","-",9,"-",1,3,4,1,"-",5,3,8,7,9,3,0,9,7,9,3,0,0,9,2,8,2]
[137,null,"笹間村２－１",{"v":1152,"d":"1,152"},{"v":1026,"d":"1,026"},10,0,0,10,"x",13,1,"-",1,"-","-",3,"-","-",3,"-","-","-","-",3,"-",0,2,2,2,3,0,0,3,2,3,1,0,0,3,0,0,0]
[138,null,"初倉村２－１",{"v":2570,"d":"2,570"},488,747,199,15,533,{"v":16.35,"d":"16"},511,169,19,152,"-",3,19,5,5,9,3,10,1,3,2,"-",0,12,19,15,19,19,0,19,0,12,0,0,0,19,4,13,2]
[139,null,"金谷町",{"v":1329,"d":"1,329"},279,393,60,3,330,{"v":17.63,"d":"18"},190,34,15,24,"-",3,24,3,4,17,15,1,2,2,4,"-",7,6,1,17,12,2,4,18,0,14,0,3,1,24,0,16,1]
[140,null,"五和村",{"v":4891,"d":"4,891"},{"v":3141,"d":"3,141"},651,126,14,511,{"v":33.28,"d":"33"},366,102,26,86,1,1,22,2,8,12,3,9,6,3,1,"-",7,5,2,3,4,1,14,22,9,13,3,3,0,22,2,21,4]
[141,null,"初倉村２－２",7,"-",3,0,0,3,{"v":0.22,"d":"0"},8,3,3,2,"-","-",1,"-","-",1,"-","-","-",1,"-","-",1,0,0,1,1,0,0,1,0,0,0,0,0,1,0,0,0]
[142,null,"勝間田村２－２",177,33,75,11,1,63,"x",66,14,11,10,1,1,2,"-","-",2,"-","-",1,"-",1,"-",1,1,1,2,2,1,0,2,0,2,0,0,0,2,0,1,0]
[143,null,"日坂村２－２",40,23,6,1,0,5,{"v":0.94,"d":"1"},7,2,2,1,"-","-",1,"-","-",1,"-","-","-","-",1,"-",1,0,0,0,0,0,0,1,0,1,0,0,0,1,0,1,0]
[144,null,"下川根村",{"v":5012,"d":"5,012"},{"v":4181,"d":"4,181"},249,19,16,214,{"v":8.5,"d":"9"},219,51,38,19,"-","-",11,"-",1,10,1,1,1,2,6,"-",4,3,3,5,5,2,5,11,9,11,3,1,1,11,3,6,4]
[145,null,"笹間村２－２",{"v":5412,"d":"5,412"},{"v":5067,"d":"5,067"},113,0,10,103,{"v":8.94,"d":"9"},98,29,8,24,"-","-",9,"-","-",9,"-","-","-",5,4,"-",4,1,1,9,9,4,0,9,7,9,2,0,0,9,2,0,0]
[146,null,"伊久身村２－２",{"v":1624,"d":"1,624"},{"v":1334,"d":"1,334"},100,6,13,81,3,86,7,6,3,"-","-",7,"-","-",7,"-",1,1,2,2,1,1,3,4,2,2,1,3,7,7,7,0,0,0,7,0,2,0]
[147,"富士市",null,{"v":24502,"d":"24,502"},{"v":12112,"d":"12,112"},1947,656,315,976,{"v":307.52,"d":"308"},{"v":1313,"d":"1,313"},533,80,485,4,13,138,26,25,87,79,41,11,2,3,2,44,40,42,68,97,38,32,134,12,101,18,10,5,109,44,118,41]
[148,null,"吉原市",{"v":2098,"d":"2,098"},182,126,29,25,72,{"v":19.34,"d":"19"},197,74,11,67,"-",3,13,3,2,8,11,2,"-","-","-","-",3,1,1,3,5,1,8,12,0,5,0,1,0,12,1,11,3]
[149,null,"元吉原村",549,88,67,51,16,0,{"v":17.69,"d":"18"},49,24,"-",24,"-","-",9,2,2,5,4,5,"-","-","-","-",3,1,3,4,3,0,4,7,0,8,2,3,0,8,1,8,2]
[150,null,"原田村（富士市）",444,39,37,0,23,14,{"v":5.51,"d":"6"},19,8,3,7,"-","-",4,"-","-",4,4,"-","-","-","-","-",0,0,0,0,0,0,4,4,0,2,0,0,0,4,0,4,0]
[151,null,"吉永村（富士市）",{"v":4804,"d":"4,804"},{"v":4098,"d":"4,098"},171,63,61,47,{"v":21.65,"d":"22"},81,27,4,24,"-","-",10,1,"-",9,6,4,"-","-","-","-",2,0,0,7,8,0,2,10,0,8,1,0,0,10,2,10,0]
[152,null,"須津村",{"v":2410,"d":"2,410"},{"v":1442,"d":"1,442"},428,259,43,126,{"v":34.83,"d":"35"},145,63,8,55,"-",2,16,5,6,5,9,6,"-","-","-",1,9,11,10,9,12,4,1,16,5,12,4,3,3,15,12,15,2]
[153,null,"大淵村（富士市）",{"v":6664,"d":"6,664"},{"v":4275,"d":"4,275"},349,0,59,290,{"v":69.24,"d":"69"},252,54,25,41,2,2,21,"-","-",21,9,10,"-",1,1,"-",6,6,13,14,18,9,2,21,3,19,3,1,0,18,2,20,2]
[154,null,"浮島村２－２",415,148,215,114,2,99,{"v":23.51,"d":"24"},104,26,2,26,"-","-",3,"-",3,"-","-",2,1,"-","-","-",1,3,1,0,2,0,0,3,3,3,1,1,1,3,3,3,3]
[155,null,"富士町",{"v":1134,"d":"1,134"},"-",20,11,4,5,{"v":11.8,"d":"12"},119,73,5,68,"-",5,2,"-",2,"-",1,1,"-","-","-","-",2,2,1,2,2,1,0,2,0,0,0,0,0,2,2,2,1]
[156,null,"岩松村",852,124,194,12,33,149,{"v":7.6,"d":"8"},110,58,6,55,"-","-",9,"-",3,6,5,3,1,"-","-","-",5,5,6,9,9,8,0,9,0,9,0,0,0,9,2,7,1]
[157,null,"田子浦村",{"v":1038,"d":"1,038"},33,40,30,9,1,{"v":4.04,"d":"4"},50,29,"-",29,"-","-",9,5,1,3,8,1,"-","-","-","-",2,2,1,3,8,2,0,8,0,6,6,0,0,9,8,9,7]
[158,null,"鷹岡町",{"v":1003,"d":"1,003"},26,108,26,25,57,{"v":15.89,"d":"16"},76,32,7,26,"-","-",10,2,2,6,6,1,2,"-",1,"-",0,0,0,0,0,0,10,10,1,3,1,0,0,10,3,6,1]
[159,null,"富士川町",{"v":1184,"d":"1,184"},440,83,3,4,76,{"v":40.42,"d":"40"},59,27,7,25,2,1,16,"-",1,15,12,"-",2,1,1,"-",2,1,2,2,14,5,1,16,0,12,0,0,0,0,0,7,4]
[160,null,"松野村",{"v":1907,"d":"1,907"},{"v":1217,"d":"1,217"},109,58,11,40,36,52,38,2,38,"-","-",16,8,3,5,4,6,5,"-","-",1,9,8,4,15,16,8,0,16,0,14,0,1,1,9,8,16,15]
[161,"磐田市",null,{"v":16408,"d":"16,408"},{"v":2702,"d":"2,702"},4614,2350,1363,901,{"v":522.31,"d":"522"},{"v":1955,"d":"1,955"},599,82,555,4,11,228,79,76,73,105,84,28,8,3,"-",81,138,113,151,166,100,29,216,8,93,7,10,2,169,32,201,65]
[162,null,"磐田市（旧）",{"v":1915,"d":"1,915"},64,321,212,60,49,{"v":23.09,"d":"23"},149,56,15,47,"-","-",17,10,1,6,13,4,"-","-","-","-",3,6,15,16,15,15,1,17,0,5,0,1,0,14,0,15,0]
[163,null,"大藤村",708,73,360,0,34,326,{"v":7.15,"d":"7"},187,27,11,21,"-",1,12,"-","-",12,1,8,2,1,"-","-",5,10,4,12,12,11,0,12,0,12,0,0,0,4,0,8,0]
[164,null,"岩田村",692,63,251,80,93,78,{"v":24.75,"d":"25"},88,26,4,25,"-",1,7,"-",4,3,"-",5,2,"-","-","-",3,7,2,7,7,6,0,7,1,7,2,1,0,6,4,7,4]
[165,null,"長野村",692,14,335,241,91,3,{"v":35.11,"d":"35"},109,19,2,18,"-","-",10,6,4,"-",4,5,1,"-","-","-",6,6,4,6,10,3,0,10,1,1,0,0,0,10,6,10,9]
[166,null,"向笠村",{"v":1088,"d":"1,088"},211,347,132,50,165,{"v":9.2,"d":"9"},113,43,8,40,1,2,14,4,4,6,4,7,2,1,"-","-",9,11,10,11,13,3,1,14,1,12,1,1,1,13,4,9,5]
[167,null,"御厨村",506,16,183,146,24,13,{"v":6.86,"d":"7"},64,23,1,23,1,"-",4,4,"-","-",1,2,1,"-","-","-",3,4,3,4,4,0,0,4,0,4,1,1,1,4,3,4,4]
[168,null,"南御厨村２－１",225,"-",100,84,14,2,{"v":3.73,"d":"4"},42,10,1,9,"-","-",5,5,"-","-",2,2,"-",1,"-","-",2,5,1,5,5,0,0,5,0,0,0,0,0,4,4,5,4]
[169,null,"田原村２－１",313,21,113,99,10,4,{"v":6.02,"d":"6"},44,15,1,15,"-","-",5,4,"-",1,4,"-","-",1,"-","-",2,3,4,5,5,4,0,5,0,3,0,0,0,5,0,4,4]
[170,null,"於保村２－２",300,14,137,123,14,0,{"v":5.07,"d":"5"},59,34,"-",34,"-","-",5,5,"-","-",1,4,"-","-","-","-",3,5,2,4,5,0,0,5,0,1,1,0,0,5,5,5,5]
[171,null,"三川村２－２",15,"-",12,0,2,10,"-",10,"-","-","-","-","-",1,"-","-",1,"-",1,"-","-","-","-",0,1,1,1,1,1,0,1,0,0,0,0,0,0,0,1,1]
[172,null,"福田町",738,39,145,104,41,0,{"v":11.01,"d":"11"},19,11,"-",11,"-","-",23,14,2,7,21,1,1,"-","-","-",5,5,8,12,11,10,5,19,2,2,0,0,0,13,0,18,1]
[173,null,"豊浜村",380,7,145,111,34,0,{"v":5.81,"d":"6"},45,5,"-",5,"-","-",4,3,1,"-",3,1,"-","-","-","-",1,1,1,1,3,1,1,4,0,0,0,0,0,3,0,4,0]
[174,null,"於保村２－１",381,13,156,118,38,0,{"v":13.85,"d":"14"},44,8,"-",8,"-","-",8,5,3,"-",1,4,3,"-","-","-",4,6,2,5,7,2,0,8,0,0,0,0,0,6,0,8,0]
[175,null,"南御厨村２－２",166,"-",87,77,10,0,{"v":1.73,"d":"2"},30,12,"-",12,"-","-",3,3,"-","-",1,2,"-","-","-","-",0,0,1,0,2,0,1,3,0,0,0,0,0,1,0,3,0]
[176,null,"掛塚町",782,13,155,63,90,2,{"v":42.52,"d":"43"},66,30,"-",30,"-","-",18,2,9,7,15,3,"-","-","-","-",5,18,18,18,18,6,0,14,0,2,0,0,0,9,0,13,0]
[177,null,"袖浦村",{"v":1146,"d":"1,146"},148,308,147,161,0,{"v":75.26,"d":"75"},130,44,1,44,"-","-",10,2,5,3,1,5,4,"-","-","-",4,5,3,5,6,5,1,10,0,6,0,0,0,7,1,10,3]
[178,null,"十束村２－１",369,2,154,79,74,1,{"v":23.06,"d":"23"},65,30,2,29,"-","-",6,"-",6,"-",4,2,"-","-","-","-",3,4,4,3,3,2,2,6,0,0,0,0,0,3,1,6,2]
[179,null,"富岡村（磐田市）",877,18,324,124,85,115,{"v":22.08,"d":"22"},191,63,11,56,"-","-",13,4,6,3,4,4,4,1,"-","-",6,4,2,2,5,0,3,13,1,8,0,1,0,11,1,13,4]
[180,null,"池田村",145,"-",12,7,5,0,{"v":1.44,"d":"1"},4,"-","-","-","-","-",8,1,1,6,8,"-","-","-","-","-",0,4,0,0,0,0,4,4,0,0,0,0,0,6,0,4,0]
[181,null,"井通村",870,3,281,175,101,5,{"v":24.95,"d":"25"},178,52,3,48,"-",2,18,2,15,1,11,7,"-","-","-","-",6,5,0,0,0,0,9,18,0,1,0,0,0,15,3,18,5]
[182,null,"十束村２－２",106,"-",40,22,18,0,{"v":8.46,"d":"8"},27,8,3,8,"-","-",3,"-",3,"-",3,"-","-","-","-","-",1,2,0,0,0,0,1,3,0,0,0,0,0,2,0,3,0]
[183,null,"広瀬村",{"v":1147,"d":"1,147"},138,352,102,224,26,{"v":42.36,"d":"42"},151,30,10,25,1,2,11,"-",6,5,"-",9,2,"-","-","-",5,8,8,11,11,9,0,11,0,8,0,1,0,9,0,11,6]
[184,null,"野部村",{"v":1426,"d":"1,426"},864,162,49,72,41,{"v":116.24,"d":"116"},62,19,1,19,1,"-",11,1,3,7,3,5,3,"-","-","-",3,8,8,11,11,10,0,11,0,9,0,3,0,9,0,11,0]
[185,null,"敷地村",{"v":1421,"d":"1,421"},981,134,55,18,61,{"v":12.56,"d":"13"},78,34,8,28,"-",3,12,4,3,5,"-",3,3,3,3,"-",2,10,12,12,12,12,0,12,2,12,2,1,0,10,0,11,8]
[186,"焼津市",null,{"v":7055,"d":"7,055"},388,1488,1189,145,154,{"v":154.61,"d":"155"},{"v":1312,"d":"1,312"},781,21,768,2,8,111,81,17,13,56,42,10,3,"-","-",38,58,36,58,64,38,12,107,30,28,9,1,1,110,56,103,59]
[187,null,"焼津町",519,"-",9,3,6,0,{"v":2.43,"d":"2"},20,9,1,9,"-","-",5,"-",2,3,5,"-","-","-","-","-",2,0,0,0,0,3,0,3,0,0,0,0,0,5,1,2,1]
[188,null,"豊田村",516,"-",43,31,7,5,{"v":7.74,"d":"8"},85,56,1,56,"-","-",2,1,1,"-",2,"-","-","-","-","-",2,0,0,0,0,1,0,2,2,0,0,0,0,2,2,2,2]
[189,null,"大富村",925,"-",256,245,11,0,{"v":20.17,"d":"20"},308,194,4,191,"-",3,15,15,"-","-",12,3,"-","-","-","-",6,4,0,2,3,9,0,15,0,0,0,0,0,15,0,15,0]
[190,null,"和田村（焼津市）",722,14,182,164,16,2,{"v":13.85,"d":"14"},175,123,1,122,"-",2,15,13,1,1,10,4,1,"-","-","-",2,2,1,2,1,3,9,14,4,4,1,1,1,14,2,14,5]
[191,null,"小川村",483,2,24,20,4,0,{"v":7.95,"d":"8"},49,32,"-",32,"-",2,3,2,"-",1,3,"-","-","-","-","-",1,1,0,0,0,0,2,3,1,0,0,0,0,3,1,3,1]
[192,null,"東益津村",{"v":1263,"d":"1,263"},355,250,99,43,108,{"v":45.99,"d":"46"},108,58,6,55,1,1,19,4,7,8,11,3,3,2,"-","-",1,10,17,17,17,8,1,18,0,14,0,0,0,19,12,15,10]
[193,null,"広幡村２－２",76,"-",15,15,0,0,{"v":0.87,"d":"1"},10,6,"-",6,1,"-",1,1,"-","-",1,"-","-","-","-","-",1,1,0,0,0,0,0,1,1,0,0,0,0,1,0,1,1]
[194,null,"西益津村２－２",95,"-",8,3,4,1,{"v":1.56,"d":"2"},13,6,"-",6,"-","-",1,"-",1,"-",1,"-","-","-","-","-",0,0,0,0,0,1,0,1,0,0,0,0,0,1,0,1,0]
[195,null,"静浜村",648,7,232,216,16,0,{"v":10.9,"d":"11"},179,103,3,100,"-","-",19,18,1,"-",3,10,5,1,"-","-",10,14,10,16,14,8,0,19,18,3,2,0,0,19,17,19,17]
[196,null,"相川村",832,"-",276,224,18,34,{"v":16.33,"d":"16"},191,121,4,119,"-","-",15,12,3,"-",3,11,1,"-","-","-",9,10,3,5,13,3,0,15,0,0,0,0,0,15,10,15,11]
[197,null,"吉永村（焼津市）",976,9,193,169,20,4,{"v":26.82,"d":"27"},174,73,1,72,"-","-",16,15,1,"-",5,11,"-","-","-","-",4,16,5,16,16,2,0,16,4,7,6,0,0,16,11,16,11]
[198,"掛川市",null,{"v":26563,"d":"26,563"},{"v":11354,"d":"11,354"},5500,2200,870,2430,{"v":698.41,"d":"698"},{"v":2439,"d":"2,439"},617,106,556,13,13,199,27,94,78,56,69,38,22,8,6,40,83,68,101,122,93,48,193,26,177,14,108,17,181,44,177,60]
[199,null,"掛川町",749,41,56,31,10,15,{"v":9.11,"d":"9"},55,17,1,17,"-","-",13,4,2,7,13,"-","-","-","-","-",1,4,0,6,0,0,7,8,0,6,0,4,2,10,1,7,0]
[200,null,"粟本村",919,353,185,73,19,93,{"v":23.04,"d":"23"},75,20,1,19,"-","-",2,"-",2,"-",1,1,"-","-","-","-",0,0,0,0,0,0,2,2,0,2,0,2,0,2,0,2,0]
[201,null,"東山口村",994,372,257,95,9,153,{"v":32.57,"d":"33"},115,39,3,37,"-","-",14,1,8,5,2,6,4,2,"-","-",11,13,14,13,14,13,0,14,0,13,1,13,4,14,4,14,2]
[202,null,"西南郷村",429,130,55,16,5,34,{"v":12.8,"d":"13"},22,1,"-",1,"-","-",5,"-",2,3,4,"-","-",1,"-","-",0,0,0,0,0,0,5,4,0,4,0,4,0,5,0,5,0]
[203,null,"原田村（掛川市）",{"v":2414,"d":"2,414"},{"v":1487,"d":"1,487"},265,93,5,167,{"v":23.17,"d":"23"},123,43,12,37,1,"-",10,"-",6,4,"-",1,4,4,"-",1,5,5,5,8,8,4,2,10,6,10,4,2,0,10,2,9,9]
[204,null,"原泉村２－１",{"v":2993,"d":"2,993"},{"v":2629,"d":"2,629"},81,23,3,55,{"v":22.44,"d":"22"},45,12,1,12,"-",1,7,"-",2,5,1,1,1,3,"-",1,1,4,5,5,6,1,1,7,2,7,1,0,0,7,1,5,1]
[205,null,"原谷村",678,148,188,109,11,68,{"v":16.72,"d":"17"},105,26,3,25,1,"-",4,1,3,"-",1,1,2,"-","-","-",3,2,2,1,2,2,0,4,0,4,0,4,1,4,0,4,1]
[206,null,"東山村",605,288,168,2,1,165,{"v":5.65,"d":"6"},89,10,7,5,"-","-",9,"-","-",9,"-","-","-",1,4,4,5,3,9,4,7,5,0,9,9,9,0,0,0,7,0,2,2]
[207,null,"日坂村２－１",784,347,187,8,2,177,{"v":11.25,"d":"11"},91,16,13,6,"-","-",9,"-","-",9,1,1,2,4,1,"-",0,1,1,2,2,0,7,9,4,9,3,7,0,9,0,9,9]
[208,null,"和田岡村",609,46,354,156,63,135,{"v":11.23,"d":"11"},126,29,7,27,"-",1,3,1,1,1,1,1,1,"-","-","-",3,3,3,3,3,3,0,3,0,3,0,2,0,3,0,3,3]
[209,null,"西山口村",727,114,102,41,7,54,{"v":12.26,"d":"12"},52,18,1,18,"-","-",6,"-",4,2,4,1,1,"-","-","-",1,0,4,4,4,0,2,6,0,6,0,4,1,5,1,6,1]
[210,null,"上内田村",{"v":1105,"d":"1,105"},447,354,76,18,260,{"v":21.36,"d":"21"},164,22,11,15,1,2,9,"-",2,7,1,3,3,2,"-","-",0,2,0,0,1,0,6,9,0,9,0,7,0,9,0,8,0]
[211,null,"桜木村",{"v":1926,"d":"1,926"},{"v":1022,"d":"1,022"},442,219,55,168,{"v":41.88,"d":"42"},190,76,7,74,"-",1,20,3,14,3,7,6,6,1,"-","-",0,7,1,5,5,7,5,20,0,19,0,16,4,18,2,19,2]
[212,null,"曽我村",768,147,192,116,23,53,{"v":31.08,"d":"31"},88,35,2,34,"-","-",10,5,4,1,2,7,1,"-","-","-",1,4,1,1,2,2,4,10,0,5,0,2,0,10,0,9,0]
[213,null,"西郷村",{"v":1272,"d":"1,272"},499,293,127,14,152,{"v":33.58,"d":"34"},143,40,6,37,1,1,13,2,8,3,5,4,3,"-",1,"-",0,9,4,5,9,3,3,13,0,13,0,10,1,13,0,12,9]
[214,null,"倉真村",{"v":1609,"d":"1,609"},{"v":1207,"d":"1,207"},174,74,12,88,{"v":40.99,"d":"41"},79,29,5,26,"-",1,6,"-",4,2,"-",3,2,1,"-","-",2,2,2,3,3,0,1,6,5,6,5,4,2,6,4,5,2]
[215,null,"横須賀町",{"v":1359,"d":"1,359"},320,266,100,86,80,{"v":41.28,"d":"41"},74,11,5,8,2,1,8,4,1,3,5,2,1,"-","-","-",1,2,1,2,5,5,3,8,0,7,0,2,0,8,0,8,2]
[216,null,"大淵村（掛川市）",{"v":1291,"d":"1,291"},365,340,136,109,95,{"v":44.46,"d":"44"},111,43,5,41,6,3,9,"-",7,2,1,6,1,"-",1,"-",0,3,3,4,9,9,0,9,0,9,0,4,0,9,0,9,6]
[217,null,"笠原村２－２",736,365,179,77,8,94,{"v":8.2,"d":"8"},52,11,3,9,1,"-",5,2,1,2,"-",3,1,"-",1,"-",0,0,1,2,5,5,0,5,0,3,0,0,0,3,0,4,0]
[218,null,"佐束村",792,158,234,111,19,104,{"v":31.41,"d":"31"},103,21,1,20,"-","-",4,"-",4,"-","-",3,1,"-","-","-",0,4,3,4,4,4,0,4,0,4,0,4,0,4,4,4,3]
[219,null,"土方村",{"v":1375,"d":"1,375"},565,326,148,52,126,{"v":76.9,"d":"77"},180,35,"-",34,"-",1,8,"-",7,1,"-",3,2,3,"-","-",1,7,3,8,8,7,0,8,0,8,0,6,0,8,8,8,1]
[220,null,"中村３－１",397,21,148,98,26,24,{"v":23.89,"d":"24"},49,12,"-",12,"-","-",6,3,2,1,1,4,1,"-","-","-",0,2,1,5,6,6,0,6,0,6,0,4,0,3,3,6,1]
[221,null,"大坂村",690,160,187,93,37,57,{"v":58.44,"d":"58"},74,9,1,9,"-","-",6,1,4,1,4,2,"-","-","-","-",2,2,2,6,6,5,0,6,0,5,0,5,2,5,5,6,3]
[222,null,"睦浜村",451,71,160,35,124,1,{"v":21.6,"d":"22"},121,24,9,17,"-","-",5,"-",2,3,"-",4,1,"-","-","-",2,3,2,5,5,5,0,5,0,4,0,0,0,3,3,5,1]
[223,null,"千浜村",854,52,298,137,150,11,{"v":41.72,"d":"42"},106,13,2,11,"-",1,7,"-",3,4,1,6,"-","-","-","-",1,1,1,4,7,6,0,7,0,6,0,1,0,5,5,7,2]
[224,null,"中村３－２",37,"-",9,6,2,1,{"v":1.38,"d":"1"},7,5,"-",5,"-","-",1,"-",1,"-",1,"-","-","-","-","-",0,0,0,1,1,1,0,1,0,0,0,1,0,1,1,1,0]
[225,"藤枝市",null,{"v":19403,"d":"19,403"},{"v":9257,"d":"9,257"},{"v":3006,"d":"3,006"},988,255,{"v":1763,"d":"1,763"},{"v":567.24,"d":"567"},{"v":1839,"d":"1,839"},714,85,655,9,24,105,38,12,55,47,22,20,14,1,1,57,79,60,64,71,45,14,105,28,67,4,9,5,105,68,98,85]
[226,null,"藤枝町",520,45,42,2,2,38,{"v":21.86,"d":"22"},24,11,1,10,"-","-",4,1,"-",3,4,"-","-","-","-","-",2,1,0,0,2,0,1,4,0,3,0,1,0,4,0,2,1]
[227,null,"青島町",{"v":1325,"d":"1,325"},159,202,128,22,52,{"v":17.8,"d":"18"},176,102,4,102,1,1,15,10,3,2,11,4,"-","-","-","-",12,13,0,0,1,0,1,15,0,7,1,0,0,15,3,15,11]
[228,null,"葉梨村",{"v":2593,"d":"2,593"},829,569,120,44,405,{"v":197.67,"d":"198"},256,86,16,72,1,10,17,"-",4,13,4,4,6,2,"-",1,7,7,6,7,11,6,3,17,3,17,2,7,5,17,6,16,10]
[229,null,"稲葉村",{"v":1676,"d":"1,676"},638,342,55,13,274,{"v":54.15,"d":"54"},148,52,8,47,"-",4,6,"-",1,5,1,2,3,"-","-","-",5,5,6,6,6,0,0,6,0,5,0,0,0,6,4,6,5]
[230,null,"瀬戸谷村",{"v":5588,"d":"5,588"},{"v":4225,"d":"4,225"},606,71,24,511,{"v":63.83,"d":"64"},248,50,20,34,3,3,11,"-","-",11,"-",1,6,4,"-","-",10,10,10,7,9,6,1,11,3,11,1,0,0,11,5,8,7]
[231,null,"大洲村",644,"-",191,171,20,0,{"v":6.21,"d":"6"},171,87,2,85,"-",2,8,8,"-","-",4,3,1,"-","-","-",0,5,5,5,5,5,3,8,0,0,0,0,0,8,8,8,8]
[232,null,"高洲村",713,"-",163,145,18,0,{"v":8.27,"d":"8"},205,117,4,115,"-","-",8,8,"-","-",7,1,"-","-","-","-",0,6,5,6,6,6,2,8,0,0,0,0,0,8,8,8,8]
[233,null,"西益津村２－１",391,"-",121,104,17,0,{"v":10.06,"d":"10"},102,37,2,37,"-","-",7,7,"-","-",6,1,"-","-","-","-",0,4,4,4,4,4,3,7,0,0,0,1,0,7,6,7,7]
[234,null,"広幡村２－１",624,22,136,93,23,20,{"v":27.19,"d":"27"},103,63,4,59,"-",1,7,4,2,1,5,2,"-","-","-","-",0,7,7,7,7,7,0,7,0,3,0,0,0,7,6,7,7]
[235,null,"岡部町",{"v":2403,"d":"2,403"},{"v":1016,"d":"1,016"},318,50,22,246,{"v":98.89,"d":"99"},194,69,11,62,2,1,13,"-",1,12,5,4,2,2,"-","-",12,12,8,13,11,10,0,13,13,12,0,0,0,13,13,13,13]
[236,null,"朝比奈村（藤枝市）",{"v":2926,"d":"2,926"},{"v":2320,"d":"2,320"},316,49,50,217,{"v":61.31,"d":"61"},212,40,13,32,2,2,9,"-",1,8,"-","-",2,6,1,"-",9,9,9,9,9,1,0,9,9,9,0,0,0,9,9,8,8]
[237,"御殿場市",null,{"v":19463,"d":"19,463"},{"v":11037,"d":"11,037"},{"v":1954,"d":"1,954"},{"v":1368,"d":"1,368"},521,65,{"v":183.63,"d":"184"},{"v":1339,"d":"1,339"},391,47,369,3,8,64,38,16,10,28,22,10,3,1,"-",20,25,45,46,50,44,10,59,3,54,7,10,2,62,13,59,20]
[238,null,"御殿場町",{"v":3914,"d":"3,914"},{"v":1501,"d":"1,501"},470,347,107,16,{"v":25.86,"d":"26"},273,77,11,72,"-","-",14,10,1,3,11,3,"-","-","-","-",2,5,13,13,12,13,1,13,0,11,0,1,0,14,5,13,1]
[239,null,"富士岡村",{"v":3347,"d":"3,347"},{"v":1906,"d":"1,906"},400,252,129,19,{"v":59.34,"d":"59"},276,99,14,92,1,1,12,5,6,1,5,6,1,"-","-","-",3,3,11,11,10,10,1,11,0,12,0,2,0,12,1,11,1]
[240,null,"原里村",{"v":1928,"d":"1,928"},448,418,232,183,3,{"v":41.58,"d":"42"},239,51,7,48,1,3,10,4,4,2,5,5,"-","-","-","-",6,6,6,5,9,6,1,9,1,10,1,3,2,9,0,9,2]
[241,null,"玉穂村",{"v":3603,"d":"3,603"},{"v":1792,"d":"1,792"},214,164,28,22,{"v":15.89,"d":"16"},182,28,3,24,"-",2,10,6,3,1,6,1,1,1,1,"-",7,5,4,5,7,3,2,9,2,9,2,1,0,10,2,9,9]
[242,null,"印野村",{"v":5372,"d":"5,372"},{"v":4975,"d":"4,975"},51,23,27,1,{"v":13.29,"d":"13"},58,11,2,10,1,"-",7,2,2,3,1,2,3,1,"-","-",0,1,0,1,1,1,5,6,0,7,0,2,0,6,0,6,6]
[243,null,"高根村",{"v":1204,"d":"1,204"},376,360,314,43,3,{"v":27.38,"d":"27"},255,108,9,106,"-",2,10,10,"-","-","-",5,4,1,"-","-",2,5,10,10,10,10,0,10,0,4,3,1,0,10,5,10,1]
[244,null,"北郷村２－２",95,39,41,36,4,1,{"v":0.29,"d":"0"},56,17,1,17,"-","-",1,1,"-","-","-","-",1,"-","-","-",0,0,1,1,1,1,0,1,0,1,1,0,0,1,0,1,0]
[245,"袋井市",null,{"v":10856,"d":"10,856"},{"v":2230,"d":"2,230"},{"v":3480,"d":"3,480"},{"v":2360,"d":"2,360"},376,744,{"v":267.78,"d":"268"},{"v":1122,"d":"1,122"},309,57,274,2,8,111,66,24,21,62,36,11,2,"-","-",59,83,90,105,106,69,0,104,2,58,7,25,10,99,71,104,87]
[246,null,"袋井町",{"v":2662,"d":"2,662"},658,393,180,31,182,{"v":36.46,"d":"36"},234,57,12,51,"-",1,30,11,7,12,24,3,3,"-","-","-",8,15,17,29,28,13,0,24,1,15,0,5,1,28,18,23,15]
[247,null,"久努村",{"v":1022,"d":"1,022"},215,278,202,33,43,{"v":33.96,"d":"34"},96,24,2,24,"-","-",12,6,5,1,6,5,1,"-","-","-",11,12,12,12,12,12,0,12,0,9,0,5,2,10,8,12,12]
[248,null,"今井村",477,3,220,186,30,4,{"v":9.39,"d":"9"},70,23,2,22,"-","-",8,8,"-","-",5,1,2,"-","-","-",6,7,7,7,7,6,0,8,0,0,0,0,0,8,3,8,7]
[249,null,"笠原村２－１",{"v":1273,"d":"1,273"},572,399,130,12,257,{"v":15.31,"d":"15"},126,30,13,17,"-",3,10,3,1,6,2,7,"-",1,"-","-",8,7,10,9,10,9,0,10,0,8,1,1,1,10,6,10,8]
[250,null,"田原村２－２",269,1,105,92,12,1,{"v":4.74,"d":"5"},28,15,2,14,"-",1,4,4,"-","-",3,1,"-","-","-","-",1,3,4,4,4,1,0,4,0,0,0,0,0,4,4,4,3]
[251,null,"三川村２－１",{"v":1189,"d":"1,189"},409,389,226,30,133,{"v":25.22,"d":"25"},158,63,16,54,"-",1,7,4,2,1,"-",4,3,"-","-","-",4,6,7,7,7,4,0,7,0,7,3,7,2,7,4,7,6]
[252,null,"山梨町",312,5,120,109,11,0,{"v":3.92,"d":"4"},35,8,2,7,"-","-",7,5,2,"-",6,1,"-","-","-","-",4,5,7,7,7,4,0,7,0,1,0,0,0,5,3,7,5]
[253,null,"宇刈村",797,242,168,128,15,25,{"v":22.81,"d":"23"},64,27,2,27,"-","-",7,5,1,1,3,2,2,"-","-","-",4,7,7,7,7,2,0,6,0,7,1,5,4,7,6,7,7]
[254,null,"東浅羽村",506,"-",334,307,23,4,{"v":9.22,"d":"9"},64,12,2,11,"-","-",4,4,"-","-",1,3,"-","-","-","-",3,3,2,4,4,2,0,4,1,0,0,0,0,2,2,4,4]
[255,null,"西浅羽村",518,"-",287,253,34,0,{"v":12.7,"d":"13"},72,17,"-",17,"-","-",10,8,2,"-",4,5,"-",1,"-","-",6,8,8,7,8,7,0,10,0,0,0,0,0,9,9,10,10]
[256,null,"上浅羽村",894,74,380,238,47,95,{"v":49.74,"d":"50"},89,17,2,14,1,1,4,2,2,"-",3,1,"-","-","-","-",2,4,4,4,4,4,0,4,0,3,0,2,0,1,1,4,4]
[257,null,"幸浦村",937,51,407,309,98,0,{"v":44.31,"d":"44"},86,16,2,16,1,1,8,6,2,"-",5,3,"-","-","-","-",2,6,5,8,8,5,0,8,0,8,2,0,0,8,7,8,6]
[258,"下田市",null,{"v":10470,"d":"10,470"},{"v":7909,"d":"7,909"},289,116,88,85,{"v":196.05,"d":"196"},112,44,8,40,1,3,37,6,15,16,15,15,5,1,"-",1,4,20,7,10,24,6,8,35,1,34,2,1,0,37,5,29,7]
[259,null,"下田町",288,120,3,0,3,0,"x",1,"x","x","x","x","x",4,"-","-",4,4,"-","-","-","-","-",0,0,0,0,0,0,4,2,0,3,0,0,0,4,0,0,0]
[260,null,"稲梓村",{"v":5486,"d":"5,486"},{"v":4646,"d":"4,646"},119,77,27,15,{"v":57.57,"d":"58"},48,13,3,11,"-",1,17,6,10,1,"-",10,5,1,"-",1,0,17,0,0,15,0,0,17,0,17,0,0,0,17,0,17,4]
[261,null,"稲生沢村",{"v":1643,"d":"1,643"},{"v":1263,"d":"1,263"},29,6,11,12,"x",15,4,2,3,"-","-",7,"-",3,4,5,2,"-","-","-","-",1,1,2,2,2,1,4,7,0,6,1,0,0,7,1,5,1]
[262,null,"白浜村",813,474,43,5,17,21,{"v":45.12,"d":"45"},16,10,1,10,"-","-",3,"-","-",3,2,1,"-","-","-","-",0,0,0,2,3,2,0,3,0,2,0,0,0,3,2,3,0]
[263,null,"浜崎村",634,350,17,3,13,1,"x",2,"x","x","x","x","x",3,"-",1,2,3,"-","-","-","-","-",1,0,3,3,2,1,0,3,0,3,0,0,0,3,0,1,0]
[264,null,"朝日村",{"v":1606,"d":"1,606"},{"v":1056,"d":"1,056"},78,25,17,36,{"v":65.81,"d":"66"},30,15,2,14,1,2,3,"-",1,2,1,2,"-","-","-","-",2,2,2,3,2,2,0,3,1,3,1,1,0,3,2,3,2]
[265,"裾野市",null,{"v":13839,"d":"13,839"},{"v":9451,"d":"9,451"},865,303,500,62,{"v":181.95,"d":"182"},451,130,15,123,1,3,66,12,29,25,22,26,12,3,3,"-",35,51,57,60,60,48,4,66,14,52,12,8,3,65,15,66,26]
[266,null,"小泉村",649,229,69,34,30,5,{"v":19.72,"d":"20"},55,19,2,18,1,"-",5,"-",4,1,4,1,"-","-","-","-",5,5,5,5,5,5,0,5,0,3,0,0,0,5,0,5,0]
[267,null,"泉村",{"v":2130,"d":"2,130"},{"v":1581,"d":"1,581"},138,70,60,8,{"v":22.87,"d":"23"},110,36,4,32,"-",1,15,3,11,1,5,6,2,1,1,"-",15,15,15,15,15,15,0,15,0,7,0,1,0,15,0,15,0]
[268,null,"富岡村（裾野市）",{"v":4625,"d":"4,625"},{"v":2209,"d":"2,209"},332,83,216,33,{"v":80.62,"d":"81"},152,34,5,32,"-","-",20,1,6,13,8,10,2,"-","-","-",1,15,17,19,20,12,0,20,0,20,0,3,0,20,0,20,0]
[269,null,"深良村",{"v":1953,"d":"1,953"},{"v":1489,"d":"1,489"},108,74,28,6,{"v":19.45,"d":"19"},85,35,4,35,"-","-",16,8,6,2,3,8,4,1,"-","-",4,6,10,11,10,6,4,16,4,12,2,1,1,15,5,16,16]
[270,null,"須山村",{"v":4482,"d":"4,482"},{"v":3943,"d":"3,943"},218,42,166,10,{"v":39.29,"d":"39"},49,6,"-",6,"-",2,10,"-",2,8,2,1,4,1,2,"-",10,10,10,10,10,10,0,10,10,10,10,3,2,10,10,10,10]
[271,"湖西市",null,{"v":6855,"d":"6,855"},{"v":1903,"d":"1,903"},"@","@","@","@","@","@","@","@","@","@","@",69,"-",15,54,26,33,9,1,"-","-","@","@","@","@","@","@","@","@","@","@","@","@","@","@","@","@","@"]
[272,null,"鷲津町",{"v":1211,"d":"1,211"},225,190,82,63,45,{"v":73.33,"d":"73"},102,29,2,27,"-",2,7,"-",4,3,4,1,2,"-","-","-",6,4,2,6,6,6,0,7,0,7,0,7,4,7,6,6,3]
[273,null,"白須賀町",{"v":1119,"d":"1,119"},210,300,35,260,5,{"v":95.85,"d":"96"},141,13,1,12,"-",1,24,"-",1,23,6,12,6,"-","-","-",2,7,13,16,23,17,0,24,1,19,0,6,2,16,5,17,3]
[274,null,"新所村",{"v":1184,"d":"1,184"},289,261,88,132,41,{"v":73.15,"d":"73"},117,18,1,18,1,1,10,"-",3,7,5,5,"-","-","-","-",10,7,10,10,10,10,0,10,0,10,1,4,3,10,10,10,6]
[275,null,"入出村",163,18,47,1,31,15,{"v":26.7,"d":"27"},49,4,"-",4,"-","-",12,"-","-",12,3,9,"-","-","-","-",1,0,12,12,12,12,0,12,0,4,0,1,0,4,4,9,8]
[276,null,"知波田村",{"v":1831,"d":"1,831"},895,322,41,45,236,{"v":66.57,"d":"67"},153,21,"-",21,"-","-",6,"-",1,5,1,3,1,1,"-","-",6,6,4,5,6,6,0,6,0,6,3,6,4,5,4,6,2]
[277,null,"新居町",{"v":1347,"d":"1,347"},266,122,37,74,11,{"v":216.1,"d":"216"},58,18,1,18,"-","-",10,"-",6,4,7,3,"-","-","-","-",10,5,9,10,10,10,0,10,0,9,0,2,2,9,7,7,3]
[278,"伊豆市",null,{"v":36397,"d":"36,397"},{"v":29966,"d":"29,966"},{"v":1322,"d":"1,322"},760,378,184,{"v":257.9,"d":"258"},876,256,39,242,3,9,107,38,45,24,21,27,32,16,11,"-",48,64,72,73,85,51,11,106,14,105,27,6,1,104,32,96,39]
[279,null,"修善寺町",{"v":3705,"d":"3,705"},{"v":2714,"d":"2,714"},136,69,47,20,{"v":22.77,"d":"23"},83,21,2,21,"-","-",15,3,7,5,5,3,2,2,3,"-",6,8,8,6,9,6,3,14,2,15,2,0,0,15,3,12,4]
[280,null,"下狩野村",{"v":1638,"d":"1,638"},{"v":1037,"d":"1,037"},180,119,39,22,{"v":19.78,"d":"20"},130,32,4,30,"-",1,7,4,2,1,2,2,1,1,1,"-",3,5,4,5,5,2,2,7,1,6,3,1,0,6,2,6,3]
[281,null,"北狩野村２－１",{"v":1589,"d":"1,589"},869,130,54,63,13,{"v":31.79,"d":"32"},85,27,2,25,1,1,5,1,4,"-",2,1,2,"-","-","-",5,5,5,5,5,5,0,5,0,5,0,0,0,5,0,5,2]
[282,null,"土肥町",{"v":3755,"d":"3,755"},{"v":3325,"d":"3,325"},63,22,11,30,{"v":27.24,"d":"27"},36,10,1,9,"-","-",15,1,7,7,6,2,7,"-","-","-",8,5,10,10,14,3,0,15,0,15,5,0,0,14,6,11,1]
[283,null,"西豆村",{"v":1187,"d":"1,187"},796,107,25,59,23,{"v":49.46,"d":"49"},61,10,1,9,"-",2,15,1,6,8,1,6,4,4,"-","-",0,10,11,13,15,15,0,15,0,15,3,3,0,15,2,13,1]
[284,null,"中狩野村",{"v":4249,"d":"4,249"},{"v":3638,"d":"3,638"},126,93,15,18,{"v":26.74,"d":"27"},71,20,1,20,"-",1,9,6,3,"-",1,3,3,1,1,"-",5,6,5,5,4,4,2,9,2,9,3,0,0,9,3,9,3]
[285,null,"上狩野村",{"v":9282,"d":"9,282"},{"v":8473,"d":"8,473"},185,120,45,20,{"v":35.58,"d":"36"},98,22,7,20,"-",1,14,7,6,1,3,6,1,3,1,"-",5,7,10,9,11,4,2,14,3,14,4,0,0,13,4,13,9]
[286,null,"上大見村",{"v":4010,"d":"4,010"},{"v":3904,"d":"3,904"},117,89,19,9,{"v":12.91,"d":"13"},114,33,11,31,1,2,8,5,3,"-","-","-",2,4,2,"-",4,4,5,6,5,3,1,8,2,8,5,1,0,8,5,8,7]
[287,null,"中大見村",{"v":4919,"d":"4,919"},{"v":3639,"d":"3,639"},171,99,56,16,{"v":20.79,"d":"21"},121,51,6,49,1,1,13,7,4,2,"-",3,6,1,3,"-",6,8,8,8,11,3,1,13,3,13,2,1,1,13,5,13,6]
[288,null,"下大見村",{"v":2063,"d":"2,063"},{"v":1571,"d":"1,571"},107,70,24,13,{"v":10.84,"d":"11"},77,30,4,28,"-","-",6,3,3,"-",1,1,4,"-","-","-",6,6,6,6,6,6,0,6,1,5,0,0,0,6,2,6,3]
[289,"御前崎市",null,{"v":6586,"d":"6,586"},{"v":1643,"d":"1,643"},{"v":1632,"d":"1,632"},382,546,704,{"v":428.24,"d":"428"},854,164,34,146,4,4,63,5,22,36,19,19,13,8,4,"-",21,45,31,46,57,52,5,63,3,62,2,26,0,52,30,49,16]
[290,null,"御前崎村",407,37,59,0,36,23,{"v":17.68,"d":"18"},39,2,"-",2,"-","-",6,"-","-",6,5,1,"-","-","-","-",6,6,6,6,6,6,0,6,2,6,1,0,0,2,1,0,0]
[291,null,"白羽村",794,135,308,0,163,145,{"v":38.07,"d":"38"},134,20,9,15,"-","-",6,"-","-",6,2,4,"-","-","-","-",6,6,6,6,6,6,0,6,1,6,1,1,0,5,2,0,0]
[292,null,"池新田町",{"v":1680,"d":"1,680"},277,314,80,212,22,{"v":146.96,"d":"147"},183,30,5,28,4,2,9,1,3,5,6,3,"-","-","-","-",0,3,1,3,5,5,4,9,0,9,0,0,0,7,4,9,1]
[293,null,"佐倉村",919,214,166,27,73,66,{"v":81.06,"d":"81"},62,11,"-",10,"-",1,9,"-",1,8,6,2,1,"-","-","-",3,6,5,6,7,6,1,9,0,8,0,3,0,7,7,9,1]
[294,null,"比木村",797,277,214,69,20,125,{"v":44.81,"d":"45"},138,30,"-",30,"-","-",12,2,6,4,"-",3,1,5,3,"-",3,10,6,10,12,10,0,12,0,12,0,8,0,10,9,12,5]
[295,null,"朝比奈村（御前崎市）",{"v":1132,"d":"1,132"},365,339,116,20,203,{"v":58.99,"d":"59"},187,38,13,32,"-",1,12,2,5,5,"-",2,7,2,1,"-",3,7,3,7,12,11,0,12,0,12,0,6,0,12,0,10,5]
[296,null,"新野村",857,338,232,90,22,120,{"v":40.67,"d":"41"},111,33,7,29,"-","-",9,"-",7,2,"-",4,4,1,"-","-",0,7,4,8,9,8,0,9,0,9,0,8,0,9,7,9,4]
[297,"菊川市",null,{"v":9424,"d":"9,424"},{"v":2229,"d":"2,229"},{"v":3160,"d":"3,160"},{"v":1130,"d":"1,130"},223,{"v":1807,"d":"1,807"},{"v":300.03,"d":"300"},{"v":1607,"d":"1,607"},447,113,373,3,4,87,23,32,32,20,33,16,16,2,"-",11,70,48,76,85,68,2,87,2,69,0,48,0,73,72,83,53]
[298,null,"堀之内町",923,160,271,63,27,181,{"v":45.96,"d":"46"},111,22,8,18,"-","-",7,1,2,4,3,2,1,1,"-","-",0,5,1,5,5,4,2,7,0,7,0,6,0,4,4,7,2]
[299,null,"六郷村",{"v":1308,"d":"1,308"},316,442,99,20,323,{"v":32.3,"d":"32"},216,62,29,40,"-","-",9,"-",4,5,4,2,1,2,"-","-",2,4,5,4,9,8,0,9,0,8,0,5,0,5,5,8,2]
[300,null,"加茂村",387,32,83,28,12,43,{"v":15.47,"d":"15"},54,13,1,13,"-","-",6,"-",4,2,5,1,"-","-","-","-",0,5,2,4,6,4,0,6,0,5,0,1,0,5,5,6,0]
[301,null,"内田村",830,96,401,199,30,172,{"v":25.71,"d":"26"},199,36,6,30,1,1,10,2,6,2,"-",4,2,3,1,"-",2,8,5,10,10,10,0,10,0,8,0,7,0,9,9,10,5]
[302,null,"横地村",665,178,217,104,13,100,{"v":13.55,"d":"14"},119,23,4,19,"-",1,7,3,2,2,"-",4,3,"-","-","-",0,6,3,7,7,7,0,7,0,3,0,2,0,7,7,7,6]
[303,null,"河城村",{"v":2166,"d":"2,166"},687,686,124,29,533,{"v":60.07,"d":"60"},335,104,26,87,"-","-",10,"-",1,9,"-",4,3,3,"-","-",0,8,6,9,10,9,0,10,1,10,0,8,0,9,9,9,3]
[304,null,"小笠村２－２",114,12,71,0,2,69,{"v":0.99,"d":"1"},49,8,5,6,"-","-",1,"-","-",1,"-","-","-",1,"-","-",0,0,0,1,1,1,0,1,0,1,0,0,0,0,0,0,0]
[305,null,"小笠村２－１",{"v":1380,"d":"1,380"},478,441,174,28,239,{"v":24.75,"d":"25"},262,82,23,67,1,"-",11,3,6,2,1,4,1,4,1,"-",2,10,8,11,11,8,0,11,1,11,0,9,0,11,11,11,11]
[306,null,"南山村",861,223,244,116,23,105,{"v":49.42,"d":"49"},128,47,7,43,"-","-",9,3,4,2,1,4,2,2,"-","-",1,8,7,8,9,8,0,9,0,9,0,8,0,9,8,9,8]
[307,null,"平田村",728,47,286,209,36,41,{"v":29.68,"d":"30"},123,45,4,45,1,2,16,10,3,3,6,7,3,"-","-","-",3,15,10,16,16,8,0,16,0,7,0,2,0,13,13,15,15]
[308,null,"中村３－３",62,"-",18,14,3,1,{"v":2.13,"d":"2"},11,5,"-",5,"-","-",1,1,"-","-","-",1,"-","-","-","-",1,1,1,1,1,1,0,1,0,0,0,0,0,1,1,1,1]
[309,"伊豆の国市",null,{"v":9471,"d":"9,471"},{"v":5215,"d":"5,215"},{"v":1136,"d":"1,136"},632,392,112,{"v":135.69,"d":"136"},798,263,37,236,42,8,46,16,20,10,11,15,11,7,2,"-",26,31,28,27,34,11,4,45,13,37,13,10,2,45,24,42,27]
[310,null,"伊豆長岡町",{"v":1080,"d":"1,080"},518,99,25,17,57,{"v":22.73,"d":"23"},77,37,3,35,1,"-",7,"-",2,5,1,3,2,1,"-","-",4,4,3,4,4,2,2,7,3,7,1,4,1,7,1,6,4]
[311,null,"江間村",578,268,114,78,22,14,{"v":6.14,"d":"6"},106,52,3,44,26,"-",8,2,5,1,1,4,3,"-","-","-",6,6,4,6,5,1,1,8,1,6,1,3,0,7,3,8,5]
[312,null,"韮山町",{"v":3455,"d":"3,455"},{"v":1769,"d":"1,769"},501,388,97,16,{"v":31.63,"d":"32"},424,113,14,106,15,5,14,12,1,1,4,5,3,1,1,"-",8,11,7,9,11,6,0,14,4,10,4,2,1,14,11,13,10]
[313,null,"大仁町",{"v":2090,"d":"2,090"},{"v":1180,"d":"1,180"},242,79,142,21,{"v":45.72,"d":"46"},107,28,10,21,"-",1,13,2,9,2,5,3,2,2,1,"-",6,8,10,5,10,1,1,12,3,10,5,0,0,13,6,11,6]
[314,null,"北狩野村２－２",{"v":2268,"d":"2,268"},{"v":1480,"d":"1,480"},180,62,114,4,{"v":29.47,"d":"29"},84,33,7,30,"-",2,4,"-",3,1,"-","-",1,3,"-","-",2,2,4,3,4,1,0,4,2,4,2,1,0,4,3,4,2]
[315,"牧之原市",null,{"v":11168,"d":"11,168"},{"v":3299,"d":"3,299"},{"v":3750,"d":"3,750"},671,311,{"v":2768,"d":"2,768"},{"v":306.74,"d":"307"},{"v":1933,"d":"1,933"},640,165,532,3,7,99,3,17,79,32,22,22,18,4,1,56,33,15,51,36,36,11,95,16,82,6,37,18,99,31,73,36]
[316,null,"相良町",{"v":1716,"d":"1,716"},407,627,97,59,471,{"v":76.77,"d":"77"},299,95,37,69,2,2,17,1,1,15,5,5,3,4,"-","-",7,10,2,4,1,0,1,17,0,17,0,6,2,17,3,15,0]
[317,null,"地頭方村",916,232,225,8,43,174,{"v":54.41,"d":"54"},140,21,4,17,"-","-",6,"-","-",6,1,4,"-",1,"-","-",3,0,1,3,1,0,0,6,0,6,0,3,0,6,0,6,0]
[318,null,"菅山村",818,207,274,65,22,187,{"v":21.75,"d":"22"},142,41,12,32,1,"-",12,"-",6,6,2,2,3,5,"-","-",9,9,6,5,0,3,3,12,0,12,1,5,5,12,7,11,6]
[319,null,"萩間村２－１",{"v":2365,"d":"2,365"},925,721,110,50,561,{"v":43.91,"d":"44"},423,120,39,96,"-",4,13,1,3,9,1,3,2,4,3,"-",7,8,6,7,2,3,5,13,1,13,2,7,4,13,8,13,10]
[320,null,"川崎町",{"v":1814,"d":"1,814"},347,622,117,64,441,{"v":53.74,"d":"54"},323,93,13,82,"-",1,32,1,2,29,22,6,3,1,"-","-",13,5,0,32,32,30,0,28,4,15,1,5,2,32,3,13,9]
[321,null,"勝間田村２－１",{"v":2246,"d":"2,246"},857,806,158,64,584,{"v":33.09,"d":"33"},359,148,40,127,"-","-",12,"-",2,10,1,1,8,2,"-","-",10,1,0,0,0,0,2,12,8,12,2,6,4,12,5,9,8]
[322,null,"坂部村",{"v":1227,"d":"1,227"},295,454,116,9,329,{"v":19.03,"d":"19"},216,110,13,103,"-","-",6,"-",3,3,"-",1,3,1,1,"-",6,0,0,0,0,0,0,6,3,6,0,5,1,6,5,6,3]
[323,null,"萩間村２－２",66,29,21,0,0,21,{"v":4.04,"d":"4"},31,12,7,6,"-","-",1,"-","-",1,"-","-","-","-","-",1,1,0,0,0,0,0,0,1,0,1,0,0,0,1,0,0,0]
[324,"東伊豆町",null,{"v":7783,"d":"7,783"},{"v":5749,"d":"5,749"},320,12,37,271,{"v":151.27,"d":"151"},256,67,7,64,7,3,11,"-","-",11,7,4,"-","-","-","-",4,2,5,4,5,1,6,10,1,11,2,2,1,11,1,11,1]
[325,null,"稲取町",{"v":1338,"d":"1,338"},623,134,1,19,114,{"v":56.84,"d":"57"},112,31,2,31,2,2,5,"-","-",5,3,2,"-","-","-","-",1,1,2,2,2,1,3,4,0,5,1,1,1,5,0,5,0]
[326,null,"城東村",{"v":6445,"d":"6,445"},{"v":5126,"d":"5,126"},186,11,18,157,{"v":94.43,"d":"94"},144,36,5,33,5,1,6,"-","-",6,4,2,"-","-","-","-",3,1,3,2,3,0,3,6,1,6,1,1,0,6,1,6,1]
[327,"河津町",null,{"v":10079,"d":"10,079"},{"v":8352,"d":"8,352"},362,82,76,204,{"v":143.93,"d":"144"},229,63,15,59,5,3,25,3,7,15,8,6,8,3,"-","-",6,6,17,8,11,4,5,23,3,24,7,0,0,21,4,19,9]
[328,null,"上河津村",{"v":6774,"d":"6,774"},{"v":6186,"d":"6,186"},131,48,32,51,{"v":58.84,"d":"59"},70,17,7,15,1,1,14,2,5,7,4,3,5,2,"-","-",1,2,9,3,1,2,5,13,3,14,4,0,0,12,3,12,6]
[329,null,"下河津村",{"v":3305,"d":"3,305"},{"v":2166,"d":"2,166"},231,34,44,153,{"v":85.09,"d":"85"},159,46,8,44,4,2,11,1,2,8,4,3,3,1,"-","-",5,4,8,5,10,2,0,10,0,10,3,0,0,9,1,7,3]
[330,"南伊豆町",null,{"v":11059,"d":"11,059"},{"v":8535,"d":"8,535"},418,167,102,149,{"v":244.06,"d":"244"},187,52,5,43,6,10,34,2,22,10,9,14,10,1,"-","-",18,20,31,32,33,19,1,34,4,34,0,0,0,34,6,31,14]
[331,null,"竹麻村",{"v":1116,"d":"1,116"},743,50,23,13,14,{"v":39.56,"d":"40"},11,3,"-",2,"-",1,3,"-",3,"-",2,1,"-","-","-","-",0,0,1,1,2,0,1,3,1,3,0,0,0,3,1,3,2]
[332,null,"南中村",{"v":2303,"d":"2,303"},{"v":1837,"d":"1,837"},96,32,21,43,{"v":31.8,"d":"32"},28,12,2,11,1,2,6,"-",4,2,2,3,1,"-","-","-",0,2,5,6,6,1,0,6,2,6,0,0,0,6,3,6,5]
[333,null,"南崎村",{"v":1018,"d":"1,018"},738,39,12,15,12,{"v":36.77,"d":"37"},44,11,1,8,1,1,3,"-",1,2,1,"-",2,"-","-","-",0,0,3,3,3,0,0,3,0,3,0,0,0,3,0,3,2]
[334,null,"南上村",{"v":3085,"d":"3,085"},{"v":2455,"d":"2,455"},123,69,15,39,{"v":60.77,"d":"61"},50,15,1,13,3,4,9,1,8,"-","-",5,3,1,"-","-",9,9,9,9,9,9,0,9,0,9,0,0,0,9,1,9,2]
[335,null,"三坂村",{"v":1374,"d":"1,374"},{"v":1063,"d":"1,063"},50,15,14,21,{"v":30.21,"d":"30"},12,7,1,5,1,2,4,"-",2,2,1,2,1,"-","-","-",0,0,4,4,4,0,0,4,0,4,0,0,0,4,0,4,2]
[336,null,"三浜村",{"v":2163,"d":"2,163"},{"v":1699,"d":"1,699"},60,16,24,20,{"v":44.95,"d":"45"},42,4,"-",4,"-","-",9,1,4,4,3,3,3,"-","-","-",9,9,9,9,9,9,0,9,1,9,0,0,0,9,1,6,1]
[337,"松崎町",null,{"v":8523,"d":"8,523"},{"v":7235,"d":"7,235"},328,134,89,105,{"v":98.4,"d":"98"},114,38,4,36,3,2,29,8,8,13,5,9,12,2,1,"-",5,8,20,25,27,13,1,29,5,28,3,1,1,29,11,23,3]
[338,null,"松崎町（旧）",469,296,41,24,11,6,{"v":11.2,"d":"11"},28,11,1,11,"-","-",6,2,2,2,4,2,"-","-","-","-",0,2,2,6,6,2,0,6,0,5,0,0,0,6,0,4,0]
[339,null,"岩科村",{"v":3396,"d":"3,396"},{"v":3033,"d":"3,033"},184,59,59,66,{"v":52.51,"d":"53"},39,12,2,10,3,2,12,2,3,7,"-",4,6,2,"-","-",2,4,8,8,10,3,1,12,2,12,1,0,0,12,6,9,1]
[340,null,"中川村（松崎町）",{"v":4658,"d":"4,658"},{"v":3906,"d":"3,906"},103,51,19,33,{"v":34.69,"d":"35"},47,15,1,15,"-","-",11,4,3,4,1,3,6,"-",1,"-",3,2,10,11,11,8,0,11,3,11,2,1,1,11,5,10,2]
[341,"西伊豆町",null,{"v":10552,"d":"10,552"},{"v":9289,"d":"9,289"},167,58,88,21,{"v":58.88,"d":"59"},40,9,2,7,1,3,36,3,9,24,23,8,4,"-","-",1,3,5,9,35,35,35,0,24,0,27,4,1,1,35,3,17,5]
[342,null,"仁科村",{"v":5858,"d":"5,858"},{"v":5352,"d":"5,352"},82,42,28,12,{"v":35.12,"d":"35"},22,6,2,6,1,1,28,2,8,18,17,7,3,"-","-",1,0,0,1,27,27,27,0,17,0,19,0,1,1,28,2,12,1]
[343,null,"田子村",730,486,5,0,5,0,{"v":9.53,"d":"10"},6,"-","-","-","-","-",2,"-","-",2,2,"-","-","-","-","-",1,1,2,2,2,2,0,1,0,2,1,0,0,2,0,1,1]
[344,null,"安良里村",700,564,4,0,2,2,{"v":4.18,"d":"4"},"-","-","-","-","-","-",1,"-","-",1,1,"-","-","-","-","-",0,0,1,1,1,1,0,1,0,1,0,0,0,1,0,0,0]
[345,null,"宇久須村",{"v":3264,"d":"3,264"},{"v":2887,"d":"2,887"},76,16,53,7,{"v":10.05,"d":"10"},12,3,"-",1,"-",2,5,1,1,3,3,1,1,"-","-","-",2,4,5,5,5,5,0,5,0,5,3,0,0,4,1,4,3]
[346,"函南町",null,{"v":6513,"d":"6,513"},{"v":3591,"d":"3,591"},713,238,435,40,{"v":130.71,"d":"131"},406,132,11,128,"-",2,21,2,9,10,6,4,5,4,1,1,20,21,15,18,19,9,0,21,2,16,10,4,3,21,6,16,4]
[347,null,"(函南町)",{"v":6513,"d":"6,513"},{"v":3591,"d":"3,591"},713,238,435,40,{"v":130.71,"d":"131"},406,132,11,128,"-",2,21,2,9,10,6,4,5,4,1,1,20,21,15,18,19,9,0,21,2,16,10,4,3,21,6,16,4]
[348,"清水町",null,884,89,102,73,28,1,{"v":6.78,"d":"7"},106,29,3,29,1,2,10,6,3,1,10,"-","-","-","-","-",0,2,0,3,7,4,1,10,5,5,1,2,2,9,3,10,5]
[349,null,"(清水町)",884,89,102,73,28,1,{"v":6.78,"d":"7"},106,29,3,29,1,2,10,6,3,1,10,"-","-","-","-","-",0,2,0,3,7,4,1,10,5,5,1,2,2,9,3,10,5]
[350,"長泉町",null,{"v":2651,"d":"2,651"},{"v":1075,"d":"1,075"},205,29,153,23,{"v":22.33,"d":"22"},186,42,4,39,"-",1,5,"-",1,4,2,2,"-","-","-",1,3,4,3,3,5,0,0,5,4,5,4,2,0,5,4,5,4]
[351,null,"(長泉町)",{"v":2651,"d":"2,651"},{"v":1075,"d":"1,075"},205,29,153,23,{"v":22.33,"d":"22"},186,42,4,39,"-",1,5,"-",1,4,2,2,"-","-","-",1,3,4,3,3,5,0,0,5,4,5,4,2,0,5,4,5,4]
[352,"小山町",null,{"v":13613,"d":"13,613"},{"v":9166,"d":"9,166"},597,464,107,26,{"v":84.84,"d":"85"},482,211,30,204,"-",6,31,23,6,2,9,10,5,3,4,"-",25,21,24,26,27,6,0,31,12,30,11,6,6,31,15,30,23]
[353,null,"小山町（旧）",{"v":2970,"d":"2,970"},{"v":2085,"d":"2,085"},110,76,21,13,{"v":31.96,"d":"32"},90,40,11,37,"-",2,13,8,4,1,7,3,2,1,"-","-",10,11,10,13,13,1,0,13,10,13,9,1,1,13,7,13,12]
[354,null,"足柄村",{"v":2093,"d":"2,093"},{"v":1356,"d":"1,356"},64,53,11,0,"x",58,"x","x","x","x","x",5,5,"-","-",1,1,2,1,"-","-",4,3,4,4,5,2,0,5,2,5,2,0,0,5,2,5,3]
[355,null,"須走村",{"v":4150,"d":"4,150"},{"v":3215,"d":"3,215"},3,0,3,0,"x",1,"x","x","x","x","x",1,"-","-",1,1,"-","-","-","-","-",0,0,1,1,1,0,0,1,0,1,0,0,0,1,0,0,0]
[356,null,"北郷村２－１",{"v":4400,"d":"4,400"},{"v":2510,"d":"2,510"},420,335,72,13,{"v":24.45,"d":"24"},333,141,17,138,"-",2,12,10,2,"-","-",6,1,1,4,"-",11,7,9,8,8,3,0,12,0,11,0,5,5,12,6,12,8]
[357,"吉田町",null,{"v":2084,"d":"2,084"},30,427,307,61,59,{"v":30.56,"d":"31"},209,128,7,123,"-",1,21,11,4,6,18,3,"-","-","-","-",21,0,0,21,21,0,0,21,0,10,0,0,0,21,0,20,1]
[358,null,"(吉田町)",{"v":2084,"d":"2,084"},30,427,307,61,59,{"v":30.56,"d":"31"},209,128,7,123,"-",1,21,11,4,6,18,3,"-","-","-","-",21,0,0,21,21,0,0,21,0,10,0,0,0,21,0,20,1]
[359,"川根本町",null,{"v":49672,"d":"49,672"},{"v":44892,"d":"44,892"},692,13,85,594,{"v":36.85,"d":"37"},560,133,60,101,2,7,40,"-","-",40,3,5,12,7,12,1,20,16,30,37,37,32,1,39,11,40,3,2,0,40,18,18,4]
[360,null,"中川根村",{"v":8033,"d":"8,033"},{"v":6929,"d":"6,929"},371,1,41,329,{"v":7.37,"d":"7"},313,68,35,49,1,3,13,"-","-",13,"-",1,4,2,5,1,9,4,9,12,11,10,1,13,5,13,0,0,0,13,3,13,2]
[361,null,"徳山村",{"v":4100,"d":"4,100"},{"v":3353,"d":"3,353"},162,12,12,138,{"v":8.89,"d":"9"},109,29,11,22,"-",2,5,"-","-",5,"-",2,1,1,1,"-",5,3,3,5,5,5,0,5,2,5,1,0,0,5,3,5,2]
[362,null,"上川根村",{"v":29317,"d":"29,317"},{"v":27224,"d":"27,224"},69,0,15,54,{"v":5.07,"d":"5"},62,16,6,14,1,1,9,"-","-",9,2,1,4,2,"-","-",4,4,7,7,8,5,0,8,3,9,0,1,0,9,5,0,0]
[363,null,"東川根村",{"v":8222,"d":"8,222"},{"v":7386,"d":"7,386"},90,0,17,73,{"v":15.52,"d":"16"},76,20,8,16,"-",1,13,"-","-",13,1,1,3,2,6,"-",2,5,11,13,13,12,0,13,1,13,2,1,0,13,7,0,0]
[364,"森町",null,{"v":13384,"d":"13,384"},{"v":9517,"d":"9,517"},{"v":1194,"d":"1,194"},599,51,544,{"v":120.25,"d":"120"},515,201,22,193,3,6,60,13,23,24,14,24,11,8,3,"-",28,27,30,44,44,17,8,57,8,46,7,13,7,44,43,53,31]
[365,null,"森町（旧）",{"v":1550,"d":"1,550"},928,127,58,9,60,{"v":20.76,"d":"21"},61,24,3,24,"-","-",8,"-",6,2,5,1,1,1,"-","-",5,4,6,6,6,2,1,7,0,6,0,3,1,6,6,8,1]
[366,null,"飯田村（森町）",825,130,238,167,7,64,{"v":27.75,"d":"28"},90,30,"-",28,"-",2,11,6,4,1,4,6,"-",1,"-","-",4,6,7,9,9,2,0,11,0,7,0,3,2,10,10,11,9]
[367,null,"園田村",696,101,319,216,11,92,{"v":11.07,"d":"11"},115,58,6,58,1,1,8,5,3,"-","-",8,"-","-","-","-",6,5,6,7,7,2,1,8,0,5,2,2,0,8,8,8,7]
[368,null,"一宮村",{"v":1292,"d":"1,292"},522,206,114,13,79,{"v":19.98,"d":"20"},101,40,6,38,"-",1,7,2,5,"-","-",3,3,1,"-","-",5,5,5,7,6,3,0,7,0,6,0,3,2,7,7,7,5]
[369,null,"天方村",{"v":3674,"d":"3,674"},{"v":3189,"d":"3,189"},157,36,6,115,{"v":26.06,"d":"26"},73,26,3,25,2,"-",11,"-",4,7,2,3,4,2,"-","-",4,6,4,6,7,3,1,10,2,10,1,1,1,8,8,10,8]
[370,null,"三倉村",{"v":4764,"d":"4,764"},{"v":4093,"d":"4,093"},141,8,5,128,{"v":14.38,"d":"14"},75,23,4,20,"-",2,14,"-",1,13,3,3,3,3,2,"-",4,1,2,9,9,5,4,13,6,12,4,1,1,5,4,9,1]
[371,null,"原泉村２－２",583,554,6,0,0,6,{"v":0.25,"d":"0"},"-","-","-","-","-","-",1,"-","-",1,"-","-","-","-",1,"-",0,0,0,0,0,0,1,1,0,0,0,0,0,0,0,0,0]
[372]
[373]
[374]
[375]
[376]
[377]
[378]
[379]
[380]
[381]
[382]
[383]
[384]
[385]
[386]
[387]
[388]
[389]
[390]
[391]
[392]
[393]
[394]
[395]
[396]
[397]
[398]
[399]
[400]
[401]
[402]
[403]
[404]
[405]
[406]
[407]
[408]
[409]
[410]
[411]
[412]
[413]
[414]
[415]
[416]
[417]
[418]
[419]
[420]
[421]
[422]
[423]
[424]
[425]
[426]
[427]
[428]
[429]
[430]
[431]
[432]
[433]
[434]
[435]
[436]
[437]
[438]
[439]
[440]
[441]
[442]
[443]
[444]
[445]
[446]
[447]
[448]
[449]
[450]
[451]
[452]
[453]
[454]
[455]
[456]
[457]
[458]
[459]
[460]
[461]
[462]
[463]
[464]
[465]
[466]
[467]
[468]
[469]
[470]
[471]
[472]
[473]
[474]
[475]
[476]
[477]
[478]
[479]
[480]
[481]
[482]
[483]
[484]
[485]
[486]
[487]
[488]
[489]
[490]
[491]
[492]
[493]
[494]
[495]
[496]
[497]
[498]
[499]
[500]

{"sheet":"2015","index":3,"n_rows":505,"n_cols":48,"rows_kept":505,"hidden":true,"merged":[[3,3,3,4],[3,5,3,8],[3,10,3,15],[3,16,3,19],[3,20,3,23],[3,24,3,32],[3,33,3,42],[4,0,4,2]]}
["農山村地域調査"]
["１　総土地面積及び林野面積"]
[{"$nulls":3},1,2,3,4,5,6,7,8,9,10,11,12,13,14,15,16,17,18,19,20,21,22,23,24,25,26,27,28,29,30,31,32,33,34,35,36,37,38,39,40,41,42,43,44,45]
[{"$nulls":3},"総土地面積",null,"耕地面積",{"$nulls":4},"生産関連",{"$nulls":5},"水田率",{"$nulls":3},"農家率",{"$nulls":3},"寄り合いの議題_農業生産にかかる事項",{"$nulls":8},"保全管理"]
["新旧市区町村",null,null,"総土地\n面　積","林野面積","耕地面積","田面積","畑面積","樹園地面積","耕作\n放棄地\n面積","計","農業生産関連事業を行っている実経営体数","事業種類別_農産物の加工","事業種類別_消費者に直接販売","事業種類別_観光農園","その他","計","水田集落\n（70％以上）","田畑集落\n（30～70）","畑地集落\n（30％未満）","10％未満","10～30","30～50","50～70","70～90","90％以上","寄り合いの議題_農業生産にかかる事項","寄り合いの議題_農道・農業用用排水路・ため池の管理","寄り合いの議題_集落共有財産・共用施設の管理","寄り合いの議題_環境美化・自然環境の保全","寄り合いの議題_農業集落行事（祭り・イベント等）の計画・推進","寄り合いの議題_農業集落内の福祉・厚生","寄り合いを開催しなかった","農地_ある","農地_保全している","森林_ある","森林_保全している","ため池・湖沼_ある","ため池・湖沼_保全している","河川・水路_ある","河川・水路_保全している","農業用用排水路_ある","農業用用排水路_保全している"]
[1,"静岡県",null,777870,495653,66589,22370,15385,28834,12842.5,33143,9423,1087,8926,218,270,3361,662,873,1826,1526,999,484,253,83,16,1395,2273,1972,2844,2897,2258,285,3242,788,2466,404,552,222,3070,1585,2734,1688]
[2,"静岡市",null,141190,108788,5128,535,523,4070,1868.96,3915,1489,212,1407,61,55,321,17,34,270,130,78,55,42,14,2,184,179,147,230,257,162,29,317,137,293,29,28,9,296,151,144,108]
[3,"葵区(静岡市)",null,107376,94603,2284,393,160,1731,491.8,1586,547,90,509,7,28,168,11,19,138,44,39,38,35,10,2,80,96,68,116,137,81,21,165,92,154,17,14,1,159,73,78,63]
[4,null,"静岡市２－１",8897,3098,734,192,51,491,285.56,553,255,26,241,3,9,38,7,8,23,24,9,3,1,1,"-",29,28,18,18,32,13,3,36,2,31,1,3,1,37,17,28,22]
[5,null,"美和村",5547,3918,434,72,19,343,42.07,264,57,11,50,"-",6,29,3,4,22,5,11,10,3,"-","-",15,22,17,26,26,17,2,29,20,25,2,1,0,29,23,15,13]
[6,null,"服織村",2768,1768,160,25,7,128,27.59,123,55,13,50,1,2,15,1,1,13,11,2,1,1,"-","-",10,12,7,13,14,9,0,15,5,13,1,0,0,14,12,14,11]
[7,null,"中藁科村",3066,2550,199,36,5,158,32.15,141,42,8,38,1,2,6,"-",2,4,"-",2,2,1,1,"-",5,5,4,6,6,4,0,6,6,6,3,0,0,6,5,5,5]
[8,null,"南藁科村",2060,1439,133,34,7,92,22.28,86,38,4,37,"-",3,6,"-",2,4,3,"-",2,1,"-","-",5,5,3,4,5,4,1,6,3,6,2,0,0,6,5,6,6]
[9,null,"大河内村",5458,4839,81,14,4,63,10.2,90,30,10,29,"-",1,7,"-",1,6,"-","-","-",5,2,"-",5,6,7,7,6,4,0,7,7,7,4,0,0,7,6,1,0]
[10,null,"梅ヶ島村",9211,8395,60,"-",2,58,6.28,49,13,4,12,2,2,7,"-","-",7,"-",2,1,3,1,"-",1,5,3,6,7,2,0,7,5,7,1,0,0,7,0,0,0]
[11,null,"玉川村",9535,8987,133,4,3,126,11.74,82,16,3,15,"-","-",20,"-","-",20,"-",5,6,7,2,"-",0,3,2,16,19,18,1,20,20,20,0,0,0,20,1,3,2]
[12,null,"井川村",50067,49635,83,3,45,35,8.43,18,7,1,7,"-",1,16,"-",1,15,1,4,6,4,"-",1,3,1,0,0,2,0,11,15,0,15,0,9,0,14,3,1,1]
[13,null,"清沢村",4438,4012,138,3,9,126,26.42,97,16,7,14,"-","-",15,"-","-",15,"-",3,5,6,1,"-",3,3,3,11,12,7,3,15,15,15,3,1,0,11,0,2,2]
[14,null,"大川村",6329,5962,129,10,8,111,19.08,83,18,3,16,"-",2,9,"-","-",9,"-",1,2,3,2,1,4,6,4,9,8,3,0,9,9,9,0,0,0,8,1,3,1]
[15,"駿河区(静岡市)",null,7305,1858,655,90,102,463,171.64,643,305,32,296,33,7,49,5,10,34,33,9,6,"-",1,"-",30,30,12,32,39,18,5,48,3,41,2,2,1,45,24,27,22]
[16,null,"静岡市2-2",7042,1797,630,85,97,448,171.02,634,299,30,290,32,7,47,5,9,33,32,9,6,"-","-","-",29,28,10,30,37,17,5,46,2,39,1,2,1,43,24,25,20]
[17,null,"有度村２－２",263,61,25,5,5,15,0.62,9,6,2,6,1,"-",2,"-",1,1,1,"-","-","-",1,"-",1,2,2,2,2,1,0,2,1,2,1,0,0,2,0,2,2]
[18,"清水区(静岡市)",null,26509,12327,2189,52,261,1876,1205.52,1686,637,90,602,21,20,104,1,5,98,53,30,11,7,3,"-",74,53,67,82,81,63,3,104,42,98,10,12,7,92,54,39,23]
[19,null,"清水市",2650,156,215,"-",90,125,72.55,249,115,13,114,10,2,14,"-","-",14,12,"-",1,1,"-","-",14,6,5,8,9,8,0,14,1,13,0,3,2,8,7,0,0]
[20,null,"飯田村清水区（静岡市）",638,41,42,1,3,38,52.33,62,40,2,40,"-","-",3,"-","-",3,3,"-","-","-","-","-",2,1,2,0,3,2,0,3,0,3,0,1,1,3,2,1,0]
[21,null,"高部村",1004,79,120,8,26,86,127.38,119,56,4,52,"-",2,5,"-",1,4,4,1,"-","-","-","-",5,4,5,4,5,3,0,5,2,5,1,2,1,5,4,5,4]
[22,null,"有度村２－１",1067,78,42,3,5,34,23.25,107,70,7,68,2,4,4,"-",1,3,4,"-","-","-","-","-",4,1,1,1,4,1,0,4,0,4,0,2,1,4,3,3,0]
[23,null,"興津町",1225,167,241,"-",16,225,125.85,162,61,8,59,"-",2,8,"-","-",8,5,3,"-","-","-","-",8,8,6,6,2,0,0,8,4,8,0,1,0,8,3,4,3]
[24,null,"小島村",4102,2347,231,2,13,216,163.85,156,43,11,39,"-","-",9,1,"-",8,1,4,3,1,"-","-",5,4,4,7,7,4,1,9,7,9,1,0,0,9,7,6,3]
[25,null,"両河内村",8363,6764,262,32,25,205,118.07,184,48,17,41,1,3,18,"-",2,16,"-",8,4,4,2,"-",15,14,16,16,14,12,0,18,13,18,2,0,0,16,3,12,9]
[26,null,"庵原村",3231,1216,660,"-",35,625,259.44,380,110,18,97,3,5,12,"-","-",12,2,7,2,1,"-","-",12,6,3,12,11,10,0,12,8,12,2,1,1,12,11,2,2]
[27,null,"袖師町",458,3,28,1,2,25,36.42,59,15,5,13,"-",2,2,"-","-",2,2,"-","-","-","-","-",2,1,1,1,1,0,0,2,1,1,0,0,0,2,2,2,0]
[28,null,"蒲原町",1471,418,104,3,29,72,81.6,50,11,1,11,"-","-",15,"-",1,14,14,1,"-","-","-","-",1,2,14,14,13,14,1,15,5,13,2,1,1,11,4,3,2]
[29,null,"由比町",2300,1058,244,2,17,225,144.78,158,68,4,68,5,"-",14,"-","-",14,6,6,1,"-",1,"-",6,6,10,13,12,9,1,14,1,12,2,1,0,14,8,1,0]
[30,"浜松市",null,155806,101739,12577,2604,4141,5832,2681.59,6453,1294,148,1207,34,54,704,46,199,459,357,179,87,54,19,8,260,513,515,624,649,555,34,687,132,458,86,100,32,616,356,595,426]
[31,"中区(浜松市)",null,4434,145,127,41,63,23,53.15,153,36,5,35,"-","-",21,2,1,18,19,2,"-","-","-","-",6,11,20,21,21,21,0,21,0,13,0,1,0,19,10,18,10]
[32,null,"浜松市４－１",3996,110,68,25,35,8,43.94,116,32,4,31,"-","-",12,1,"-",11,12,"-","-","-","-","-",0,2,12,12,12,12,0,12,0,5,0,1,0,10,4,9,2]
[33,null,"入野村２－１",177,13,1,"-",0,1,"x",11,2,1,2,"-","-",1,"-","-",1,1,"-","-","-","-","-",0,1,1,1,1,1,0,1,0,1,0,0,0,1,0,1,0]
[34,null,"吉野村２－１",240,22,47,6,27,14,7.49,26,2,"-",2,"-","-",7,"-",1,6,5,2,"-","-","-","-",6,7,6,7,7,7,0,7,0,7,0,0,0,7,6,7,7]
[35,null,"新津村２－１",21,"-",11,10,1,0,"x","-","-","-","-","-","-",1,1,"-","-",1,"-","-","-","-","-",0,1,1,1,1,1,0,1,0,0,0,0,0,1,0,1,1]
[36,"東区(浜松市)",null,4629,20,841,492,286,63,185.86,426,129,8,121,2,4,99,28,62,9,78,18,3,"-","-","-",13,88,58,80,87,67,7,99,8,6,0,6,0,84,70,99,84]
[37,null,"浜松市４－３",365,"-","…","…","…","…",3.19,10,5,1,5,1,1,"-","-","-","-","-","-","-","-","-","-","…","…","…","…","…","…","…","…","…","…","…","…","…","…","…","…","…"]
[38,null,"飯田村２－１東区（浜松市）",2,"-","…","…","…","…","-","-","-","-","-","-","-","-","-","-","-","-","-","-","-","-","-","…","…","…","…","…","…","…","…","…","…","…","…","…","…","…","…","…"]
[39,null,"和田村東区（浜松市）",508,"-",25,16,7,2,6.85,13,2,"-",2,"-","-",6,1,3,2,6,"-","-","-","-","-",0,5,6,6,6,6,0,6,0,0,0,1,0,5,4,6,5]
[40,null,"長上村",909,"-",215,145,55,15,27.13,104,32,"-",32,"-","-",25,11,14,"-",23,2,"-","-","-","-",8,24,16,24,24,19,1,25,2,0,0,0,0,22,21,25,24]
[41,null,"積志村",1312,20,289,168,88,33,61.65,122,30,3,26,"-",3,35,8,24,3,30,5,"-","-","-","-",0,34,27,33,34,30,1,35,2,4,0,1,0,28,26,35,34]
[42,null,"笠井町",251,"-",81,39,39,3,8.89,35,13,1,12,"-","-",5,1,3,1,5,"-","-","-","-","-",0,1,0,0,1,0,4,5,1,1,0,1,0,5,3,5,0]
[43,null,"豊西村",793,"-",156,73,76,7,70.6,102,27,2,25,1,"-",14,2,10,2,7,6,1,"-","-","-",4,11,8,10,12,6,1,14,1,1,0,3,0,12,6,14,8]
[44,null,"中ノ町村",474,"-",75,51,21,3,7.55,40,20,1,19,"-","-",14,5,8,1,7,5,2,"-","-","-",1,13,1,7,10,6,0,14,2,0,0,0,0,12,10,14,13]
[45,null,"三方原村２－１",15,"-","…","…","…","…","-","-","-","-","-","-","-","-","-","-","-","-","-","-","-","-","-","…","…","…","…","…","…","…","…","…","…","…","…","…","…","…","…","…"]
[46,"西区(浜松市)",null,11471,843,2005,393,1398,214,652.93,1248,213,22,203,11,5,83,6,16,61,48,25,9,1,"-","-",51,63,57,70,77,65,1,83,10,63,11,28,11,73,51,82,58]
[47,null,"神久呂村",1220,189,356,53,246,57,109.23,214,36,5,35,1,"-",11,1,1,9,4,5,1,1,"-","-",11,11,11,11,11,10,0,11,1,11,2,5,0,11,11,11,9]
[48,null,"入野村２－２",794,56,80,35,34,11,48.56,50,19,2,19,"-",1,11,2,6,3,10,1,"-","-","-","-",7,3,5,10,11,9,0,11,0,6,0,2,0,9,0,11,1]
[49,null,"吉野村２－２",30,"-",3,"-",3,0,0.43,3,1,1,1,"-","-",3,"-","-",3,3,"-","-","-","-","-",2,2,2,2,2,2,1,3,0,3,0,0,0,3,1,3,2]
[50,null,"和地村",927,89,283,38,180,65,75.95,180,30,10,24,1,"-",9,1,"-",8,"-",6,3,"-","-","-",0,9,7,9,9,9,0,9,1,8,3,2,1,7,6,9,9]
[51,null,"伊佐見村",1480,171,390,79,290,21,145.36,252,36,2,34,"-",1,6,"-",1,5,1,3,2,"-","-","-",6,6,6,6,6,6,0,6,0,6,0,2,1,6,6,6,6]
[52,null,"篠原村",1076,14,214,32,177,5,51.68,188,7,"-",6,"-",1,24,1,4,19,18,6,"-","-","-","-",17,16,8,15,20,12,0,24,5,15,0,1,0,20,14,24,16]
[53,null,"北庄内村",1633,176,248,26,179,43,93.66,219,59,"-",59,8,1,5,"-","-",5,1,1,3,"-","-","-",1,5,5,5,5,5,0,5,1,5,3,5,5,5,5,5,5]
[54,null,"南庄内村",652,46,97,21,72,4,54.65,34,8,"-",8,"-","-",3,"-",1,2,"-",3,"-","-","-","-",0,3,3,3,3,3,0,3,1,3,3,3,3,3,3,3,3]
[55,null,"村櫛村",1756,39,114,24,88,2,28.42,20,4,"-",4,"-","-",2,"-","-",2,2,"-","-","-","-","-",2,2,2,2,2,2,0,2,0,1,0,2,0,2,2,2,2]
[56,null,"舞阪町",726,1,35,"-",35,"-",3.36,14,"-","-","-","-","-",3,"-","-",3,3,"-","-","-","-","-",2,1,2,1,2,1,0,3,0,2,0,0,0,1,1,2,1]
[57,null,"雄踏町",1039,62,185,85,94,6,41.63,74,13,2,13,1,1,6,1,3,2,6,"-","-","-","-","-",3,5,6,6,6,6,0,6,1,3,0,6,1,6,2,6,4]
[58,null,"浜松市４－２",138,"-","…","…","…","…","-","-","-","-","-","-","-","-","-","-","-","-","-","-","-","-","-","…","…","…","…","…","…","…","…","…","…","…","…","…","…","…","…","…"]
[59,"南区(浜松市)",null,4684,190,1010,460,527,23,250.38,569,110,4,106,"-",4,78,8,53,17,54,20,4,"-","-","-",32,65,67,70,71,68,6,77,4,10,0,3,2,53,45,77,64]
[60,null,"浜松市４－４",858,56,194,126,62,6,32.62,84,21,1,19,"-",1,8,1,7,"-",7,1,"-","-","-","-",0,8,8,8,8,8,0,8,0,2,0,0,0,5,5,8,8]
[61,null,"芳川村",786,"-",152,81,68,3,44.89,82,26,1,26,"-","-",18,1,12,5,15,2,1,"-","-","-",4,15,13,16,16,15,1,17,1,0,0,2,1,13,10,17,15]
[62,null,"飯田村２－１南区（浜松市）",605,"-",91,31,56,4,25.4,48,11,"-",11,"-","-",12,"-",9,3,9,3,"-","-","-","-",0,7,6,6,7,5,5,12,1,0,0,0,0,7,5,12,7]
[63,null,"河輪村",347,"-",71,32,36,3,25.26,34,9,"-",9,"-","-",8,"-",6,2,6,2,"-","-","-","-",3,8,8,8,8,8,0,8,2,0,0,0,0,6,6,8,8]
[64,null,"五島村",722,68,188,69,117,2,39.03,128,18,2,17,"-","-",18,5,8,5,6,9,3,"-","-","-",18,18,18,18,18,18,0,18,0,5,0,1,1,13,13,18,18]
[65,null,"新津村２－２",967,64,278,104,170,4,67.48,179,23,"-",22,"-",3,7,1,4,2,4,3,"-","-","-","-",6,6,7,7,7,7,0,7,0,3,0,0,0,3,1,7,5]
[66,null,"可美村",399,2,36,17,18,1,15.7,14,2,"-",2,"-","-",7,"-",7,"-",7,"-","-","-","-","-",1,3,7,7,7,7,0,7,0,0,0,0,0,6,5,7,3]
[67,"北区(浜松市)",null,29554,13904,5714,746,848,4120,660.59,2878,501,64,458,17,26,139,1,24,114,35,51,24,20,5,4,77,124,116,133,132,124,2,138,52,127,36,44,13,126,95,138,106]
[68,null,"三方原村２－２",1628,"-",590,4,394,192,121.74,258,96,13,87,1,4,21,"-","-",21,14,7,"-","-","-","-",15,18,20,21,19,18,0,21,1,13,6,2,1,16,8,21,10]
[69,null,"都田村",3015,1055,757,89,125,543,73.84,349,83,16,73,6,5,18,"-",3,15,2,8,4,2,"-",2,3,16,16,16,16,14,1,18,1,18,4,7,2,17,15,18,14]
[70,null,"気賀町",2709,823,638,114,58,466,123.58,329,77,4,75,1,1,12,"-",2,10,5,4,3,"-","-","-",8,10,9,11,11,11,1,11,0,12,0,5,2,11,10,11,9]
[71,null,"中川村北区（浜松市）",1176,252,411,176,44,191,45.47,229,65,7,61,2,2,8,1,5,2,1,7,"-","-","-","-",6,8,6,8,8,8,0,8,1,7,1,0,0,7,7,8,8]
[72,null,"金指町",98,19,16,1,9,6,8.81,11,2,1,2,"-",1,2,"-","-",2,2,"-","-","-","-","-",0,2,1,2,2,2,0,2,0,1,0,0,0,2,1,2,2]
[73,null,"井伊谷村",1240,534,279,37,47,195,33.79,161,29,1,28,"-",1,9,"-",1,8,3,3,2,1,"-","-",2,8,9,9,9,9,0,9,3,9,4,2,1,9,8,9,8]
[74,null,"奥山村",2848,1911,357,73,49,235,47.6,154,36,4,34,2,2,14,"-",2,12,"-",6,2,3,1,2,6,11,12,14,14,14,0,14,9,14,9,1,1,14,13,14,10]
[75,null,"伊平村",3067,2506,192,34,30,128,52.76,96,8,3,6,"-",1,14,"-",3,11,2,5,3,3,1,"-",2,14,5,12,13,10,0,14,9,14,7,8,1,12,6,14,13]
[76,null,"鎮玉村",4873,3700,281,79,30,172,53.37,139,18,3,17,"-",1,10,"-",4,6,"-",1,3,5,1,"-",7,10,10,10,10,9,0,10,9,10,3,2,0,10,7,10,10]
[77,null,"三ヶ日町",6050,2549,1815,97,42,1676,37.78,859,54,8,47,5,6,19,"-",4,15,4,5,4,5,1,"-",16,18,18,18,18,18,0,19,14,17,2,8,2,18,16,19,16]
[78,null,"東浜名村",2850,555,378,42,20,316,61.85,293,33,4,28,"-",2,12,"-","-",12,2,5,3,1,1,"-",12,9,10,12,12,11,0,12,5,12,0,9,3,10,4,12,6]
[79,"浜北区(浜松市)",null,6650,1297,1538,374,569,595,554.44,663,174,14,166,3,9,78,1,34,43,54,21,2,"-",1,"-",20,67,54,78,78,77,0,78,4,34,1,10,3,65,56,70,58]
[80,null,"小野口村",1020,60,283,118,71,94,39.4,103,27,4,27,1,1,16,1,10,5,11,5,"-","-","-","-",3,14,15,16,16,16,0,16,0,5,0,0,0,13,13,13,12]
[81,null,"北浜村",948,7,223,42,103,78,181.63,108,16,2,15,"-","-",22,"-",8,14,20,2,"-","-","-","-",2,20,22,22,22,22,0,22,0,5,0,0,0,16,13,21,18]
[82,null,"竜池村",624,1,136,49,74,13,50.29,29,9,1,8,"-",1,8,"-",6,2,5,3,"-","-","-","-",7,8,4,8,8,8,0,8,0,1,0,0,0,7,6,8,6]
[83,null,"中瀬村",928,16,195,4,163,28,109.66,70,13,"-",13,1,"-",8,"-","-",8,6,2,"-","-","-","-",0,2,0,8,8,8,0,8,1,6,0,2,0,8,5,4,2]
[84,null,"赤佐村",921,282,178,62,62,54,64.83,61,21,1,21,"-",2,11,"-",5,6,10,1,"-","-","-","-",3,10,4,11,11,10,0,11,0,7,0,3,1,9,7,11,8]
[85,null,"麁玉村",2209,931,523,99,96,328,108.63,292,88,6,82,1,5,13,"-",5,8,2,8,2,"-",1,"-",5,13,9,13,13,13,0,13,3,10,1,5,2,12,12,13,12]
[86,"天竜区(浜松市)",null,94384,85340,1342,98,450,794,324.24,516,131,31,118,1,6,206,"-",9,197,69,42,45,33,13,4,61,95,143,172,183,133,18,191,54,205,38,8,3,196,29,111,46]
[87,null,"二俣町",747,419,17,"-",13,4,3.3,4,"-","-","-","-","-",7,"-","-",7,6,"-",1,"-","-","-",0,1,2,4,6,0,1,7,0,7,0,1,0,7,1,0,0]
[88,null,"光明村",4097,3638,66,3,27,36,31.07,40,13,2,12,"-",1,15,"-",1,14,9,3,"-",3,"-","-",0,3,6,15,15,4,0,11,4,14,1,1,1,15,1,5,2]
[89,null,"上阿多古村",2804,2282,118,11,27,80,22.84,46,6,1,5,"-","-",11,"-",1,10,1,4,"-",5,"-",1,0,1,4,10,10,5,1,11,1,11,1,0,0,10,2,9,1]
[90,null,"下阿多古村",2743,2076,84,16,49,19,40.42,18,3,1,3,"-","-",8,"-",1,7,6,2,"-","-","-","-",0,2,0,7,7,3,1,7,0,8,1,0,0,8,1,5,2]
[91,null,"熊村",3168,2779,84,10,40,34,20.07,54,5,1,5,"-","-",21,"-",3,18,3,"-",3,8,6,1,2,10,8,17,19,2,2,20,11,21,10,0,0,21,5,16,10]
[92,null,"竜川村",4610,3765,75,1,44,30,15.78,27,11,2,10,"-","-",18,"-","-",18,8,3,5,"-",1,1,1,2,14,10,15,15,3,15,4,18,3,0,0,18,0,3,2]
[93,null,"犬居町",3146,2737,104,5,24,75,16.59,39,10,3,9,"-",1,10,"-","-",10,2,4,4,"-","-","-",10,8,10,10,10,10,0,10,2,10,0,1,1,9,2,10,1]
[94,null,"気多村",10912,9874,134,17,37,80,37.75,27,7,1,7,"-","-",19,"-",2,17,6,8,4,1,"-","-",18,13,18,18,18,18,1,19,2,19,3,0,0,16,10,13,8]
[95,null,"熊切村",11148,10201,291,18,59,214,40.05,150,40,10,35,1,1,17,"-","-",17,"-",2,8,4,3,"-",17,15,17,17,17,17,0,17,12,17,10,0,0,12,1,16,12]
[96,null,"龍山村",7032,6499,53,"-",8,45,12.65,45,13,5,12,"-","-",12,"-","-",12,2,2,6,1,"-",1,1,8,11,11,11,10,1,11,10,12,2,0,0,12,0,9,3]
[97,null,"浦川町",6939,6075,62,6,23,33,26.15,5,1,"-",1,"-","-",15,"-","-",15,6,5,3,"-",1,"-",3,7,13,11,11,11,1,13,1,15,1,0,0,15,0,6,1]
[98,null,"佐久間村",2623,2562,29,2,15,12,9.16,5,2,"-",1,"-",1,7,"-","-",7,2,3,"-",2,"-","-",2,3,5,5,5,5,1,7,0,7,1,2,1,7,0,2,0]
[99,null,"山香村",4295,4063,51,"-",13,38,8.7,19,6,"-",6,"-","-",12,"-","-",12,6,1,2,2,1,"-",4,11,11,10,11,8,1,10,3,12,2,0,0,12,1,2,1]
[100,null,"城西村",3009,2734,76,5,20,51,23.93,17,10,3,8,"-",2,16,"-",1,15,4,2,5,4,1,"-",3,5,13,13,14,11,1,16,0,16,0,0,0,16,0,8,0]
[101,null,"水窪町",27111,25636,98,4,51,43,15.78,20,4,2,4,"-","-",18,"-","-",18,8,3,4,3,"-","-",0,6,11,14,14,14,4,17,4,18,3,3,0,18,5,7,3]
[102,"沼津市",null,18696,9363,2141,433,370,1338,321.64,1085,259,24,247,6,7,98,13,12,73,57,23,6,9,3,"-",34,54,38,69,69,51,21,82,24,90,14,7,5,93,32,61,29]
[103,null,"沼津市（旧）",5323,1418,319,21,174,124,68.32,213,90,9,85,1,3,31,"-",5,26,29,2,"-","-","-","-",5,9,10,23,23,18,7,21,0,29,3,3,1,30,8,12,2]
[104,null,"愛鷹村",2107,1032,431,87,58,286,50.63,172,32,8,28,"-","-",8,"-","-",8,4,4,"-","-","-","-",4,5,6,4,3,3,2,7,3,8,2,0,0,8,3,7,2]
[105,null,"大平村",585,280,141,110,29,2,10.44,104,27,"-",27,1,"-",10,8,1,1,"-",5,4,1,"-","-",4,8,5,9,10,10,0,10,2,8,0,0,0,9,2,10,4]
[106,null,"内浦村",753,430,84,"-",4,80,43.66,60,14,1,14,"-","-",5,"-","-",5,3,1,1,"-","-","-",4,4,2,3,3,0,0,5,1,5,2,1,1,5,1,0,0]
[107,null,"西浦村",3193,1948,486,"-",10,476,44.07,313,39,2,37,2,2,9,"-","-",9,"-","-","-",6,3,"-",9,8,8,7,9,5,0,9,8,9,3,1,1,9,4,2,2]
[108,null,"原町",819,67,160,115,42,3,27.06,21,6,"-",6,"-","-",11,4,4,3,10,1,"-","-","-","-",3,9,1,11,11,10,0,11,1,11,2,0,0,11,9,11,7]
[109,null,"浮島村２－１",2419,1179,424,86,47,291,55.36,145,35,4,34,"-","-",7,"-","-",7,1,6,"-","-","-","-",3,6,3,6,6,5,1,6,6,7,0,1,1,7,1,6,6]
[110,null,"戸田村",3497,3009,96,14,6,76,22.1,57,16,"-",16,2,2,17,1,2,14,10,4,1,2,"-","-",2,5,3,6,4,0,11,13,3,13,2,1,1,14,4,13,6]
[111,"熱海市",null,6178,3825,202,"-",36,166,89.51,145,95,8,91,2,6,20,"-","-",20,19,1,"-","-","-","-",9,11,6,9,10,4,9,16,7,20,5,0,0,20,5,20,2]
[112,null,"熱海市（旧）",6003,3747,195,"-",36,159,"x",143,"x","x","x","x","x",18,"-","-",18,17,1,"-","-","-","-",9,11,6,9,10,4,7,14,7,18,5,0,0,18,5,18,2]
[113,null,"網代町",175,78,7,"-","-",7,"x",2,"x","x","x","x","x",2,"-","-",2,2,"-","-","-","-","-",0,0,0,0,0,0,2,2,0,2,0,0,0,2,0,2,0]
[114,"三島市",null,6202,2378,828,274,500,54,189.24,544,169,18,159,2,10,39,17,7,15,25,5,3,3,2,1,26,27,29,34,33,28,1,39,3,24,5,4,1,39,8,32,13]
[115,null,"三島市（旧）",5284,2324,607,95,462,50,165.86,350,103,14,96,2,6,22,2,5,15,9,4,3,3,2,1,12,11,14,19,19,14,1,22,2,20,5,3,1,22,4,15,7]
[116,null,"中郷村",918,54,221,179,38,4,23.38,194,66,4,63,"-",4,17,15,2,"-",16,1,"-","-","-","-",14,16,15,15,14,14,0,17,1,4,0,1,0,17,4,17,6]
[117,"富士宮市",null,38908,24766,2392,688,1494,210,603.19,1059,358,58,334,6,18,134,19,50,65,33,60,29,10,2,"-",25,97,41,117,120,40,11,132,8,121,2,10,1,131,81,131,88]
[118,null,"富士宮市（旧）",3708,818,185,62,82,41,114.58,201,66,16,62,3,1,28,6,8,14,14,10,2,2,"-","-",8,20,5,23,23,3,5,28,2,20,1,1,0,27,3,27,20]
[119,null,"富士根村",5269,3338,226,14,157,55,121.45,184,65,16,61,"-","-",16,1,2,13,8,6,2,"-","-","-",2,6,6,13,13,6,2,15,0,14,0,2,0,16,12,15,4]
[120,null,"北山村",7693,5923,183,50,111,22,84.59,108,44,8,38,"-",2,28,1,10,17,3,18,6,"-",1,"-",3,26,6,24,26,5,1,27,0,26,0,1,0,28,23,27,26]
[121,null,"上井出村",11351,7260,882,19,863,"-",115.47,105,20,6,14,1,7,21,"-",9,12,5,10,3,2,1,"-",5,12,7,18,18,5,3,21,0,20,0,3,0,20,12,21,11]
[122,null,"白糸村",2134,1392,107,73,32,2,19.02,67,29,1,28,1,1,5,2,3,"-","-",2,2,1,"-","-",2,5,2,4,5,2,0,5,1,5,0,1,0,5,5,5,5]
[123,null,"上野村",1335,615,257,178,74,5,51.79,158,61,3,61,"-","-",7,4,3,"-","-",5,2,"-","-","-",2,7,0,7,7,7,0,7,0,7,0,0,0,7,3,7,7]
[124,null,"芝富村",1587,833,213,104,88,21,47,65,19,"-",19,1,"-",9,2,4,3,2,3,3,1,"-","-",0,5,2,9,9,0,0,9,1,9,0,1,1,9,8,9,1]
[125,null,"柚野村",3874,3137,243,150,66,27,27.4,155,48,6,46,"-",7,7,2,5,"-","-",3,3,1,"-","-",0,5,2,7,7,5,0,7,4,7,0,0,0,7,5,7,4]
[126,null,"内房村",1957,1450,96,38,21,37,21.89,16,6,2,5,"-","-",13,1,6,6,1,3,6,3,"-","-",3,11,11,12,12,7,0,13,0,13,1,1,0,12,10,13,10]
[127,"伊東市",null,12410,6891,432,24,211,197,246.78,316,99,9,96,14,3,41,"-",2,39,37,4,"-","-","-","-",17,13,21,38,40,31,1,38,11,38,8,4,1,41,16,35,6]
[128,null,"伊東市（旧）",5691,3292,254,4,149,101,140.09,178,49,6,46,2,"-",18,"-",1,17,18,"-","-","-","-","-",7,5,7,16,17,17,1,17,5,18,4,4,1,18,5,16,2]
[129,null,"宇佐美村",2107,1407,74,"-",14,60,30.04,73,31,1,31,10,"-",10,"-","-",10,9,1,"-","-","-","-",6,6,2,9,10,4,0,9,5,8,4,0,0,10,9,9,3]
[130,null,"対島村",4614,2192,104,20,48,36,76.65,65,19,2,19,2,3,13,"-",1,12,10,3,"-","-","-","-",4,2,12,13,13,10,0,12,1,12,0,0,0,13,2,10,1]
[131,"島田市",null,31570,20818,3261,694,117,2450,281.11,1774,388,53,358,2,5,156,28,32,96,62,29,24,26,14,1,59,73,66,109,105,67,39,145,60,96,24,10,3,155,49,107,44]
[132,null,"島田市（旧）",1186,"-",88,64,24,"-",15.55,52,7,1,7,"-","-",23,11,4,8,23,"-","-","-","-","-",3,3,1,4,3,3,19,17,1,0,0,0,0,23,7,16,7]
[133,null,"六合村",1191,392,222,125,5,92,21.91,130,54,3,52,"-",1,14,8,5,1,13,"-","-",1,"-","-",0,8,5,14,14,5,0,14,0,5,0,0,0,14,6,14,6]
[134,null,"大津村",1481,965,243,60,5,178,49.45,104,16,1,16,"-","-",7,"-",3,4,1,4,1,1,"-","-",4,4,6,7,7,4,0,7,5,7,5,4,2,7,5,6,4]
[135,null,"大長村",2848,1837,306,34,5,267,38.08,120,47,3,44,"-","-",4,"-","-",4,1,2,1,"-","-","-",0,2,2,4,4,3,0,4,3,4,1,1,0,4,4,3,1]
[136,null,"伊久身村２－１",2663,2214,145,9,6,130,13.58,87,10,2,9,"-","-",9,"-","-",9,"-",1,5,2,1,"-",7,6,8,9,9,6,0,9,6,9,3,0,0,9,2,8,4]
[137,null,"笹間村２－１",1151,1005,10,"-","-",10,1.11,11,2,1,1,"-","-",3,"-","-",3,"-","-","-","-",2,1,0,2,2,2,3,1,0,3,2,3,1,0,0,3,0,0,0]
[138,null,"初倉村２－１",2569,388,718,190,15,513,15.27,454,118,8,112,"-",1,19,5,5,9,4,10,"-",3,2,"-",12,15,19,17,19,19,0,19,5,11,0,0,0,19,5,13,2]
[139,null,"金谷町",1328,273,380,57,3,320,21.81,153,22,7,18,"-",1,24,2,5,17,15,2,1,2,4,"-",10,8,2,17,10,2,7,19,7,14,0,3,0,24,6,16,5]
[140,null,"五和村",4888,3124,627,120,14,493,51.45,279,60,11,52,1,1,22,2,8,12,4,6,10,2,"-","-",8,8,6,5,8,5,12,22,9,13,6,1,0,22,4,21,9]
[141,null,"初倉村２－２",7,"-",3,"-","-",3,0.22,7,"-","-","-","-","-",1,"-","-",1,"-","-",1,"-","-","-",1,0,0,1,1,0,0,1,0,0,0,0,0,1,0,0,0]
[142,null,"勝間田村２－２",177,36,72,10,1,61,4.31,59,12,8,8,1,1,2,"-","-",2,"-","-",1,1,"-","-",0,1,2,2,2,2,0,2,0,2,0,0,0,1,0,1,0]
[143,null,"日坂村２－２",40,20,6,1,"-",5,2.91,7,2,1,2,"-","-",1,"-","-",1,"-","-","-",1,"-","-",1,0,0,1,0,0,0,1,0,1,0,0,0,1,0,1,0]
[144,null,"下川根村",5009,4160,238,18,16,204,24.02,163,18,3,18,"-","-",11,"-",2,9,1,1,1,6,2,"-",6,10,4,11,11,4,0,11,9,11,4,1,1,11,6,6,5]
[145,null,"笹間村２－２",5409,5127,108,"-",10,98,16.56,75,17,2,17,"-","-",9,"-","-",9,"-",2,1,5,1,"-",6,2,5,9,9,9,0,9,6,9,4,0,0,9,2,0,0]
[146,null,"伊久身村２－２",1623,1277,95,6,13,76,4.88,73,3,2,2,"-","-",7,"-","-",7,"-",1,2,2,2,"-",1,4,4,6,5,4,1,7,7,7,0,0,0,7,2,2,1]
[147,"富士市",null,24495,11945,1873,632,321,920,326.97,1108,352,53,337,3,2,131,24,24,83,83,39,5,4,"-","-",48,70,69,101,102,87,25,129,19,99,15,16,7,124,56,120,52]
[148,null,"吉原市",2097,228,118,26,24,68,23.71,174,51,5,50,"-","-",10,3,"-",7,8,2,"-","-","-","-",4,5,2,5,4,2,5,10,2,4,0,0,0,10,3,9,4]
[149,null,"元吉原村",549,49,65,49,16,"-",21.85,40,14,"-",14,"-","-",9,2,2,5,5,4,"-","-","-","-",2,0,1,3,2,1,6,7,0,9,0,3,0,9,0,9,1]
[150,null,"原田村（富士市）",444,24,35,"-",21,14,2.96,19,7,"-",7,"-","-",4,"-","-",4,4,"-","-","-","-","-",0,0,0,0,0,0,4,4,0,3,0,0,0,4,0,4,0]
[151,null,"吉永村（富士市）",4803,3861,155,61,55,39,21.81,64,14,5,13,"-","-",11,1,"-",10,8,3,"-","-","-","-",2,2,1,4,4,2,6,11,0,10,1,2,0,11,1,11,1]
[152,null,"須津村",2409,1404,417,252,42,123,36.59,120,35,5,35,"-","-",16,5,6,5,11,5,"-","-","-","-",12,13,13,12,14,12,2,16,4,12,0,7,4,16,8,15,4]
[153,null,"大淵村（富士市）",6663,4258,338,"-",59,279,76.72,208,41,15,33,"-","-",21,"-","-",21,11,8,"-",2,"-","-",7,7,17,20,20,14,1,21,2,19,2,1,0,21,1,20,1]
[154,null,"浮島村２－２",415,54,206,110,2,94,28.16,89,16,3,14,"-","-",3,"-",3,"-","-",3,"-","-","-","-",3,3,3,3,3,3,0,3,3,3,0,2,2,3,3,3,3]
[155,null,"富士町",1133,1,35,20,10,5,9.12,97,43,1,43,"-","-",4,"-",4,"-",3,1,"-","-","-","-",3,3,1,3,3,2,0,4,1,0,0,0,0,3,2,3,1]
[156,null,"岩松村",852,108,182,9,30,143,11.69,105,50,5,50,3,1,7,"-",2,5,4,3,"-","-","-","-",3,7,7,7,7,7,0,7,7,5,0,0,0,7,7,7,7]
[157,null,"田子浦村",1038,25,44,33,11,"-",2.18,44,21,1,21,"-","-",8,5,1,2,8,"-","-","-","-","-",0,7,8,8,8,7,0,8,0,7,7,0,0,8,6,8,7]
[158,null,"鷹岡町",1003,48,97,12,37,48,18.17,67,26,5,25,"-","-",11,1,1,9,10,1,"-","-","-","-",1,2,9,9,10,10,1,11,0,1,0,0,0,11,10,7,2]
[159,null,"富士川町",1183,486,73,3,3,67,36.89,43,22,5,20,"-",1,12,"-",2,10,8,1,3,"-","-","-",3,7,2,12,12,12,0,12,0,11,0,0,0,8,4,9,7]
[160,null,"松野村",1906,1399,108,57,11,40,37.12,38,12,3,12,"-","-",15,7,3,5,3,8,2,2,"-","-",8,14,5,15,15,15,0,15,0,15,5,1,1,13,11,15,14]
[161,"磐田市",null,16345,2712,4556,2334,1353,869,480.75,1508,461,51,439,2,9,226,79,73,74,117,81,21,6,1,"-",74,166,130,179,187,162,24,218,49,86,6,13,4,167,63,201,103]
[162,null,"磐田市（旧）",1915,76,321,214,63,44,18.79,117,40,6,39,"-","-",17,10,1,6,15,2,"-","-","-","-",2,8,16,17,17,17,0,17,0,5,0,2,1,14,0,15,4]
[163,null,"大藤村",708,72,361,"-",34,327,6.47,148,29,12,21,"-",1,12,"-","-",12,3,7,2,"-","-","-",3,8,5,10,12,12,0,12,0,12,0,0,0,4,0,8,1]
[164,null,"岩田村",692,62,250,80,101,69,24.76,67,23,3,22,"-",1,7,"-",4,3,3,3,1,"-","-","-",2,5,2,5,5,5,2,7,2,6,0,0,0,6,2,7,3]
[165,null,"長野村",692,14,335,241,91,3,33.64,83,18,1,17,"-","-",10,6,4,"-",5,5,"-","-","-","-",6,10,5,10,9,7,0,10,2,1,0,0,0,10,8,10,10]
[166,null,"向笠村",1088,252,342,130,51,161,7.02,90,28,4,27,1,1,14,4,4,6,4,7,1,2,"-","-",11,12,9,11,12,8,2,14,5,11,1,3,1,13,6,9,7]
[167,null,"御厨村",506,14,178,146,21,11,3.9,46,10,"-",10,"-","-",4,4,"-","-",2,2,"-","-","-","-",3,4,3,4,3,2,0,4,3,2,1,1,1,4,3,4,4]
[168,null,"南御厨村２－１",225,"-",100,85,13,2,4.19,34,7,"-",7,"-","-",5,5,"-","-",2,2,1,"-","-","-",1,5,1,5,5,5,0,5,2,0,0,0,0,4,4,5,4]
[169,null,"田原村２－１",313,19,115,101,10,4,4.26,39,7,"-",7,"-","-",5,4,"-",1,3,1,1,"-","-","-",2,4,3,5,5,4,0,5,0,3,0,0,0,5,0,4,4]
[170,null,"於保村２－２",300,14,136,122,14,"-",5.08,45,17,2,16,"-",1,5,5,"-","-",2,3,"-","-","-","-",2,5,4,5,5,5,0,5,3,1,0,0,0,5,5,5,5]
[171,null,"三川村２－２",15,"-",12,"-",2,10,"x",8,"x","x","x","x","x",1,"-","-",1,"-",1,"-","-","-","-",0,1,1,1,1,1,0,1,0,0,0,0,0,0,0,1,1]
[172,null,"福田町",738,44,147,106,41,0,10.99,13,2,"-",2,"-","-",21,14,2,5,17,4,"-","-","-","-",2,8,6,13,12,9,6,19,2,1,0,0,0,11,4,18,6]
[173,null,"豊浜村",380,9,144,111,33,"-",6.28,33,6,1,5,"-","-",4,3,1,"-",3,1,"-","-","-","-",1,1,1,2,3,1,1,4,0,1,0,0,0,3,0,4,1]
[174,null,"於保村２－１",381,16,156,118,38,"-",13.33,37,2,"-",2,"-","-",8,5,3,"-",1,5,2,"-","-","-",4,7,2,6,7,7,0,8,1,1,0,0,0,6,0,8,2]
[175,null,"南御厨村２－２",166,"-",87,77,10,"-",1.3,20,6,"-",6,"-","-",3,3,"-","-",2,1,"-","-","-","-",0,0,1,1,2,1,1,3,0,0,0,0,0,1,0,3,0]
[176,null,"掛塚町",782,4,152,63,87,2,40.16,44,13,"-",13,"-",1,18,2,9,7,16,2,"-","-","-","-",4,17,16,14,16,16,1,14,3,1,0,0,0,9,0,13,2]
[177,null,"袖浦村",1083,145,310,149,161,0,65.59,108,33,"-",33,"-","-",10,2,5,3,1,6,3,"-","-","-",4,8,6,8,10,7,0,10,1,6,0,0,0,7,4,10,6]
[178,null,"十束村２－１",369,"-",153,78,74,1,23.5,57,15,1,15,"-","-",6,"-",6,"-",4,2,"-","-","-","-",2,4,3,2,1,1,2,6,0,0,0,0,0,3,2,6,3]
[179,null,"富岡村（磐田市）",877,18,310,120,83,107,23.7,156,50,6,48,"-",2,13,4,5,4,6,4,2,1,"-","-",2,9,3,8,8,5,3,13,0,7,0,1,0,11,4,13,8]
[180,null,"池田村",145,"-",12,7,5,"-","x",1,"x","x","x","x","x",8,1,1,6,8,"-","-","-","-","-",4,8,8,8,8,8,0,6,0,0,0,0,0,6,6,4,3]
[181,null,"井通村",870,3,274,171,98,5,19.73,130,50,1,49,"-","-",18,2,15,1,12,6,"-","-","-","-",8,12,4,11,10,10,5,18,1,0,0,0,0,15,5,18,8]
[182,null,"十束村２－２",106,"-",38,21,17,"-",9.99,19,5,1,5,"-","-",3,"-",3,"-",3,"-","-","-","-","-",1,2,1,1,2,1,1,3,0,0,0,0,0,2,0,3,2]
[183,null,"広瀬村",1161,138,342,95,221,26,44.81,112,54,7,53,"-",1,11,"-",5,6,1,9,1,"-","-","-",4,8,9,10,11,9,0,11,1,8,0,1,1,9,3,11,7]
[184,null,"野部村",1412,835,154,46,68,40,96.89,37,14,1,14,1,"-",11,1,2,8,4,5,2,"-","-","-",4,9,9,10,11,9,0,11,11,8,0,3,0,9,4,11,4]
[185,null,"敷地村",1421,977,127,53,17,57,14.91,64,31,4,28,"-",1,12,4,3,5,"-",3,5,3,1,"-",2,11,12,12,12,12,0,12,12,12,4,2,0,10,3,11,8]
[186,"焼津市",null,7031,387,1455,1171,148,136,159.39,1062,646,17,639,2,5,111,82,13,16,61,41,9,"-","-","-",59,91,52,99,75,51,7,105,35,25,2,0,0,111,75,103,76]
[187,null,"焼津町",517,"-",9,3,6,"-",1.9,14,8,1,8,"-","-",5,"-",2,3,5,"-","-","-","-","-",5,2,0,5,0,5,0,4,0,0,0,0,0,5,5,2,2]
[188,null,"豊田村",514,"-",43,31,7,5,7.93,65,37,"-",37,"-","-",2,1,1,"-",2,"-","-","-","-","-",2,2,0,2,0,1,0,2,0,0,0,0,0,2,2,2,0]
[189,null,"大富村",921,"-",254,243,11,"-",22.09,265,162,"-",161,"-",1,15,15,"-","-",12,3,"-","-","-","-",11,15,15,15,15,14,0,15,0,0,0,0,0,15,15,15,15]
[190,null,"和田村（焼津市）",726,14,181,163,16,2,16.83,135,100,"-",100,"-",1,15,13,1,1,12,2,1,"-","-","-",15,15,0,15,0,0,0,14,14,3,0,0,0,15,9,15,15]
[191,null,"小川村",481,"-",24,20,4,0,6,34,17,"-",17,"-","-",3,2,"-",1,3,"-","-","-","-","-",0,0,0,0,0,0,3,2,0,0,0,0,0,3,0,3,0]
[192,null,"東益津村",1256,357,231,95,44,92,47.92,88,57,10,55,1,1,19,4,5,10,11,5,3,"-","-","-",1,11,18,18,16,14,1,16,0,14,0,0,0,19,14,14,11]
[193,null,"広幡村２－２",76,"-",15,15,"-","-",0.8,8,3,"-",3,1,"-",1,1,"-","-",1,"-","-","-","-","-",1,1,0,0,0,0,0,1,0,0,0,0,0,1,0,1,0]
[194,null,"西益津村２－２",95,"-",4,1,2,1,1.34,9,3,"-",3,"-","-",1,"-","-",1,1,"-","-","-","-","-",1,1,0,1,1,0,0,1,0,0,0,0,0,1,1,1,1]
[195,null,"静浜村",645,4,230,214,16,"-",9.4,151,91,"-",91,"-","-",19,18,1,"-",4,10,5,"-","-","-",10,19,10,19,17,7,0,19,18,3,2,0,0,19,17,19,17]
[196,null,"相川村",828,"-",272,218,22,32,19.71,162,108,4,106,"-",1,15,13,2,"-",4,11,"-","-","-","-",8,11,5,10,12,7,1,15,1,0,0,0,0,15,2,15,5]
[197,null,"吉永村（焼津市）",972,12,192,168,20,4,25.47,131,60,2,58,"-",1,16,15,1,"-",6,10,"-","-","-","-",5,14,4,14,14,3,2,16,2,5,0,0,0,16,10,16,10]
[198,"掛川市",null,26569,11277,5320,2140,872,2308,773.8,1933,491,50,470,9,9,199,27,95,77,64,71,39,15,7,3,48,132,85,173,175,159,22,193,48,170,16,110,35,181,88,177,88]
[199,null,"掛川町",749,32,55,28,13,14,10.71,47,14,1,14,"-","-",13,3,3,7,13,"-","-","-","-","-",2,5,2,7,7,4,6,8,0,5,0,4,1,10,1,7,1]
[200,null,"粟本村",919,357,157,67,15,75,27.28,54,16,1,16,"-","-",2,"-",2,"-",1,1,"-","-","-","-",1,1,1,1,2,1,0,2,1,2,1,2,1,2,1,2,1]
[201,null,"東山口村",994,346,238,84,10,144,35.45,87,27,4,27,"-","-",14,1,8,5,3,4,7,"-","-","-",6,13,14,14,14,14,0,14,2,12,2,13,5,14,4,14,4]
[202,null,"西南郷村",429,150,44,10,5,29,11.58,19,3,"-",3,"-","-",5,"-",2,3,4,"-",1,"-","-","-",0,2,1,4,4,4,1,4,0,4,0,4,1,5,1,5,0]
[203,null,"原田村（掛川市）",2415,1637,247,88,6,153,26.28,90,21,2,20,1,2,10,"-",6,4,"-",2,3,4,1,"-",3,7,3,9,9,9,1,10,10,10,1,2,0,10,7,9,7]
[204,null,"原泉村２－１",2994,2445,77,21,3,53,18.29,42,14,3,13,1,"-",7,"-",2,5,1,3,"-",2,"-",1,1,4,2,6,6,6,1,7,0,7,0,0,0,7,4,5,4]
[205,null,"原谷村",678,148,182,109,11,62,18.83,80,22,"-",22,"-","-",4,1,3,"-",1,3,"-","-","-","-",0,3,1,4,4,4,0,4,0,4,0,4,1,4,2,4,2]
[206,null,"東山村",605,288,168,2,1,165,6.92,79,3,1,2,"-","-",9,"-","-",9,"-","-","-",3,4,2,5,5,9,9,9,9,0,9,8,9,0,0,0,7,0,2,2]
[207,null,"日坂村２－１",784,347,185,7,2,176,17.2,75,2,"-",2,"-","-",9,"-","-",9,1,2,4,2,"-","-",0,5,3,5,5,4,3,9,4,9,3,7,0,9,0,9,5]
[208,null,"和田岡村",609,46,347,156,63,128,13.19,100,28,2,27,"-","-",3,1,2,"-",1,2,"-","-","-","-",3,3,3,3,3,3,0,3,0,3,0,2,0,3,1,3,3]
[209,null,"西山口村",727,103,102,41,7,54,14.91,39,15,2,14,"-",1,6,"-",4,2,4,1,1,"-","-","-",2,3,3,4,4,2,2,6,1,6,1,4,3,5,2,6,3]
[210,null,"上内田村",1105,443,340,71,17,252,23.81,144,24,6,23,1,2,9,"-",2,7,1,3,3,2,"-","-",0,5,1,7,7,7,2,9,0,9,0,9,2,9,5,8,1]
[211,null,"桜木村",1927,1022,427,215,52,160,46.48,158,47,1,47,"-","-",20,4,13,3,9,5,6,"-","-","-",2,13,4,19,19,14,0,20,1,19,0,16,6,18,5,19,7]
[212,null,"曽我村",768,146,185,115,22,48,28.1,65,12,2,10,"-","-",10,5,4,1,3,7,"-","-","-","-",0,6,0,10,10,10,0,10,0,5,0,2,1,10,6,9,5]
[213,null,"西郷村",1272,490,277,122,15,140,40.55,113,32,3,31,1,1,13,2,8,3,5,4,3,1,"-","-",2,9,8,10,11,7,2,13,2,13,1,10,3,13,6,12,9]
[214,null,"倉真村",1610,1208,168,71,13,84,42.66,48,16,"-",16,"-","-",6,"-",4,2,"-",4,2,"-","-","-",2,6,3,6,6,6,0,6,6,6,5,4,4,6,6,5,4]
[215,null,"横須賀町",1360,323,259,96,85,78,41.5,65,21,5,18,1,1,8,4,1,3,4,4,"-","-","-","-",1,3,1,5,5,5,3,8,4,7,1,2,0,8,5,8,2]
[216,null,"大淵村（掛川市）",1291,359,340,136,109,95,47.57,96,47,3,46,4,1,9,"-",7,2,1,6,1,"-",1,"-",0,7,3,8,8,8,1,9,1,9,0,4,0,9,2,9,6]
[217,null,"笠原村２－２",736,365,179,77,8,94,11.24,44,13,3,11,"-","-",5,2,1,2,"-",3,1,"-",1,"-",1,1,2,5,5,5,0,5,0,3,0,0,0,3,1,4,1]
[218,null,"佐束村",792,154,233,110,19,104,38.71,68,19,1,18,"-","-",4,"-",4,"-",1,3,"-","-","-","-",2,4,3,4,4,4,0,4,4,4,0,4,2,4,4,4,3]
[219,null,"土方村",1376,558,313,145,50,118,101.85,121,28,2,27,"-","-",8,"-",7,1,"-",3,4,1,"-","-",1,8,5,8,8,8,0,8,2,8,1,6,2,8,8,8,3]
[220,null,"中村３－１",397,25,145,98,26,21,25.14,28,9,"-",9,"-","-",6,3,2,1,2,3,1,"-","-","-",1,5,2,6,6,6,0,6,1,4,0,4,2,3,3,6,4]
[221,null,"大坂村",690,160,187,93,37,57,61.51,65,13,"-",13,"-","-",6,1,4,1,4,2,"-","-","-","-",2,3,2,6,6,6,0,6,0,4,0,5,1,5,5,6,3]
[222,null,"睦浜村",451,71,160,35,124,1,22.51,102,28,4,25,"-",1,5,"-",2,3,2,2,1,"-","-","-",4,4,2,5,5,5,0,5,1,3,0,0,0,3,3,5,1]
[223,null,"千浜村",854,54,296,137,157,2,40.03,100,17,4,16,"-","-",7,"-",3,4,2,4,1,"-","-","-",7,7,7,7,7,7,0,7,0,5,0,1,0,5,5,7,7]
[224,null,"中村３－２",37,"-",9,6,2,1,1.5,4,"-","-","-","-","-",1,"-",1,"-",1,"-","-","-","-","-",0,0,0,1,1,1,0,1,0,0,0,1,0,1,1,1,0]
[225,"藤枝市",null,19406,9257,2828,943,241,1644,675.87,1432,507,41,485,7,18,105,37,12,56,51,26,20,7,1,"-",62,97,64,101,96,68,4,105,35,66,2,9,4,105,74,98,90]
[226,null,"藤枝町",520,41,41,2,2,37,26.36,25,11,2,10,1,"-",4,1,"-",3,4,"-","-","-","-","-",2,1,0,2,2,2,2,4,0,3,0,1,0,4,2,2,2]
[227,null,"青島町",1325,159,197,126,22,49,23.76,137,50,2,50,1,1,15,10,3,2,12,3,"-","-","-","-",13,14,0,15,15,15,0,15,0,6,0,0,0,15,5,15,12]
[228,null,"葉梨村",2593,831,528,109,43,376,189.36,211,64,12,57,"-",4,17,"-",4,13,4,7,5,"-",1,"-",8,16,10,17,16,3,0,17,7,17,0,7,4,17,9,16,15]
[229,null,"稲葉村",1676,639,314,46,12,256,79.22,107,40,9,35,"-",5,6,"-",1,5,1,3,2,"-","-","-",4,6,5,6,6,5,0,6,1,5,0,0,0,6,5,6,6]
[230,null,"瀬戸谷村",5591,4228,561,62,23,476,127.91,178,37,5,34,1,3,11,"-","-",11,"-",2,7,2,"-","-",8,9,9,10,10,7,1,11,7,11,2,0,0,11,6,8,8]
[231,null,"大洲村",644,"-",189,170,19,"-",7.78,145,78,"-",77,"-",1,8,8,"-","-",5,3,"-","-","-","-",4,8,5,8,7,6,0,8,0,0,0,0,0,8,6,8,5]
[232,null,"高洲村",713,"-",151,134,17,"-",11.44,162,69,"-",69,"-","-",8,8,"-","-",7,1,"-","-","-","-",2,7,5,7,7,6,1,8,1,0,0,0,0,8,8,8,8]
[233,null,"西益津村２－１",391,"-",116,100,16,"-",11.7,81,35,1,34,"-","-",7,7,"-","-",7,"-","-","-","-","-",0,7,7,7,7,6,0,7,0,0,0,1,0,7,6,7,7]
[234,null,"広幡村２－１",624,23,142,97,21,24,22.62,80,36,1,35,"-",2,7,3,3,1,5,2,"-","-","-","-",0,7,7,7,7,4,0,7,0,3,0,0,0,7,6,7,7]
[235,null,"岡部町",2403,1016,291,48,20,223,99.03,152,55,3,55,1,"-",13,"-","-",13,6,4,2,1,"-","-",12,13,7,13,10,9,0,13,10,12,0,0,0,13,12,13,12]
[236,null,"朝比奈村（藤枝市）",2926,2320,298,49,46,203,76.69,154,32,6,29,3,2,9,"-",1,8,"-",1,4,4,"-","-",9,9,9,9,9,5,0,9,9,9,0,0,0,9,9,8,8]
[237,"御殿場市",null,19490,11019,1924,1354,518,52,266.54,1201,259,39,236,"-",8,64,37,19,8,30,26,7,1,"-","-",34,46,47,53,54,50,6,59,8,54,9,13,5,62,21,59,29]
[238,null,"御殿場町",3915,1501,421,305,105,11,48.44,234,55,10,51,"-",1,14,10,2,2,11,3,"-","-","-","-",6,8,13,13,13,13,1,13,0,11,0,2,1,14,5,13,5]
[239,null,"富士岡村",3348,1905,399,254,128,17,80.56,255,66,8,63,"-",2,12,5,6,1,5,6,1,"-","-","-",5,6,9,10,9,8,2,11,1,12,1,3,1,12,5,11,4]
[240,null,"原里村",1928,444,455,273,179,3,59.26,215,27,9,20,"-",1,10,3,6,1,6,4,"-","-","-","-",7,7,6,7,9,9,1,9,1,10,1,3,2,9,1,9,2]
[241,null,"玉穂村",3604,1788,205,160,28,17,24.48,157,31,4,27,"-",3,10,6,3,1,6,2,1,1,"-","-",9,9,6,8,8,7,1,9,2,9,2,1,0,10,3,9,9]
[242,null,"印野村",5396,4967,51,23,27,1,18.62,53,8,"-",8,"-","-",7,2,2,3,2,4,1,"-","-","-",0,6,3,4,4,2,1,6,3,7,0,2,0,6,0,6,6]
[243,null,"高根村",1204,375,344,295,47,2,34.31,232,63,8,58,"-",1,10,10,"-","-","-",7,3,"-","-","-",6,10,10,10,10,10,0,10,1,4,4,2,1,10,7,10,3]
[244,null,"北郷村２－２",95,39,49,44,4,1,0.87,55,9,"-",9,"-","-",1,1,"-","-","-","-",1,"-","-","-",1,0,0,1,1,1,0,1,0,1,1,0,0,1,0,1,0]
[245,"袋井市",null,10833,2230,3400,2330,356,714,273.21,885,198,30,183,1,8,111,70,20,21,68,35,7,"-",1,"-",61,96,83,109,108,95,1,105,17,54,10,26,10,99,74,104,89]
[246,null,"袋井町",2656,658,372,177,27,168,40.65,181,38,8,35,"-",2,30,13,5,12,24,5,1,"-","-","-",8,21,17,29,28,22,0,25,4,15,1,6,1,28,20,23,16]
[247,null,"久努村",1019,215,273,202,30,41,32.78,64,12,1,12,"-","-",12,7,4,1,8,3,1,"-","-","-",9,12,11,12,12,12,0,12,1,7,0,5,2,10,8,12,12]
[248,null,"今井村",477,3,211,179,28,4,9.13,56,15,1,13,"-",1,8,8,"-","-",5,2,1,"-","-","-",7,8,7,8,8,6,0,8,2,0,0,0,0,8,6,8,8]
[249,null,"笠原村２－１",1270,573,394,130,12,252,24.34,101,18,5,14,"-","-",10,3,1,6,3,6,"-","-",1,"-",6,9,10,10,10,10,0,10,2,7,1,1,1,10,7,10,9]
[250,null,"田原村２－２",269,1,100,87,12,1,4.17,23,7,1,7,"-","-",4,4,"-","-",2,2,"-","-","-","-",1,3,4,4,4,3,0,4,0,0,0,0,0,4,4,4,3]
[251,null,"三川村２－１",1186,409,385,226,29,130,26.63,141,41,9,39,1,3,7,4,2,1,1,5,1,"-","-","-",6,7,7,7,7,7,0,7,0,7,3,7,2,7,4,7,6]
[252,null,"山梨町",312,5,104,96,8,0,5.59,27,4,"-",4,"-","-",7,6,1,"-",6,1,"-","-","-","-",4,5,5,6,6,5,1,7,2,0,0,0,0,5,3,7,5]
[253,null,"宇刈村",795,242,167,127,15,25,21.63,50,17,2,14,"-",2,7,5,1,1,4,1,2,"-","-","-",5,7,7,7,7,5,0,6,2,7,2,5,4,7,6,7,7]
[254,null,"東浅羽村",506,"-",334,307,23,4,8.37,51,9,"-",9,"-","-",4,4,"-","-",2,2,"-","-","-","-",3,4,0,4,4,3,0,4,1,0,0,0,0,2,1,4,4]
[255,null,"西浅羽村",516,"-",287,253,34,"-",12.53,57,5,"-",5,"-","-",10,8,2,"-",6,3,1,"-","-","-",6,10,9,10,10,10,0,10,2,0,0,0,0,9,8,10,9]
[256,null,"上浅羽村",892,74,373,238,46,89,53.46,62,14,"-",14,"-","-",4,2,2,"-",3,1,"-","-","-","-",3,4,3,4,4,4,0,4,0,3,0,2,0,1,1,4,4]
[257,null,"幸浦村",935,51,400,308,92,"-",33.93,72,18,3,17,"-","-",8,6,2,"-",4,4,"-","-","-","-",3,6,3,8,8,8,0,8,1,8,3,0,0,8,6,8,6]
[258,"下田市",null,10471,7908,268,109,81,78,183.37,93,44,6,44,1,"-",37,4,17,16,16,16,3,2,"-","-",3,21,9,26,28,15,7,35,7,34,6,1,0,37,6,28,14]
[259,null,"下田町",288,114,3,"-",3,"-","x",1,"x","x","x","x","x",4,"-","-",4,4,"-","-","-","-","-",0,0,0,0,0,0,4,2,0,3,0,0,0,4,0,0,0]
[260,null,"稲梓村",5486,4633,112,71,27,14,56.31,47,22,4,22,"-","-",17,4,12,1,"-",12,3,2,"-","-",0,17,4,13,15,4,0,17,7,17,1,0,0,17,0,17,11]
[261,null,"稲生沢村",1643,1276,28,6,11,11,9.69,12,3,"-",3,"-","-",7,"-",3,4,6,1,"-","-","-","-",0,2,2,4,4,3,3,7,0,6,3,0,0,7,1,4,1]
[262,null,"白浜村",814,476,39,5,15,19,"x",10,6,2,6,"-","-",3,"-","-",3,2,1,"-","-","-","-",0,0,0,3,3,2,0,3,0,2,1,0,0,3,2,3,0]
[263,null,"浜崎村",634,349,14,3,10,1,13.99,1,"x","x","x","x","x",3,"-",1,2,3,"-","-","-","-","-",1,0,1,3,3,3,0,3,0,3,0,0,0,3,0,1,0]
[264,null,"朝日村",1606,1060,72,24,15,33,61.33,22,12,"-",12,1,"-",3,"-",1,2,1,2,"-","-","-","-",2,2,2,3,3,3,0,3,0,3,1,1,0,3,3,3,2]
[265,"裾野市",null,13812,9392,859,306,493,60,185.03,387,96,7,93,4,4,66,10,31,25,25,26,12,3,"-","-",30,58,54,61,61,49,4,66,20,52,22,9,4,64,30,63,39]
[266,null,"小泉村",648,198,64,34,29,1,14.72,46,23,2,23,1,"-",5,"-",4,1,4,1,"-","-","-","-",4,5,5,5,5,5,0,5,0,3,0,0,0,5,1,5,3]
[267,null,"泉村",2129,1581,140,72,59,9,24.66,100,22,1,21,"-","-",15,2,12,1,7,4,3,1,"-","-",12,13,12,14,13,12,1,15,0,7,1,1,0,15,3,15,5]
[268,null,"富岡村（裾野市）",4624,2186,329,83,213,33,82.7,134,22,3,21,1,"-",20,1,6,13,8,10,2,"-","-","-",1,17,16,19,20,12,0,20,1,20,5,4,2,18,6,17,6]
[269,null,"深良村",1952,1489,111,75,29,7,22.27,76,23,1,23,"-",1,16,7,7,2,4,8,4,"-","-","-",5,13,11,13,13,10,3,16,9,12,6,1,0,16,10,16,15]
[270,null,"須山村",4459,3938,215,42,163,10,40.68,31,6,"-",5,2,3,10,"-",2,8,2,3,3,2,"-","-",8,10,10,10,10,10,0,10,10,10,10,3,2,10,10,10,10]
[271,"湖西市",null,8656,1893,1233,276,607,350,436.81,546,111,7,108,"-",1,73,"-",15,58,35,33,3,2,"-","-",27,41,56,66,69,65,3,71,5,56,4,26,16,55,40,56,22]
[272,null,"鷲津町",1702,219,189,82,62,45,55.07,87,23,1,23,"-","-",7,"-",4,3,4,2,1,"-","-","-",2,5,3,7,7,7,0,7,0,6,0,6,4,7,6,6,3]
[273,null,"白須賀町",1122,204,293,29,259,5,88.09,120,25,3,24,"-","-",24,"-",1,23,6,15,2,1,"-","-",3,11,14,19,22,18,1,24,1,19,0,6,3,16,4,17,2]
[274,null,"新所村",1882,283,261,88,132,41,69.93,103,17,"-",17,"-","-",10,"-",3,7,7,3,"-","-","-","-",8,9,10,10,10,10,0,10,0,10,1,4,3,10,10,10,7]
[275,null,"入出村",163,18,47,1,31,15,29.08,39,5,1,4,"-","-",12,"-","-",12,6,6,"-","-","-","-",3,5,10,10,10,10,2,12,3,4,0,2,0,4,4,9,5]
[276,null,"知波田村",2050,911,318,41,44,233,65.86,138,28,1,28,"-","-",6,"-",1,5,1,4,"-",1,"-","-",5,6,6,6,6,6,0,6,1,6,3,6,4,5,5,6,2]
[277,null,"新居町",1737,259,125,35,79,11,128.78,59,13,1,12,"-",1,14,"-",6,8,11,3,"-","-","-","-",6,5,13,14,14,14,0,12,0,11,0,2,2,13,11,8,3]
[278,"伊豆市",null,36397,29551,1254,734,348,172,283.27,724,188,33,179,4,4,107,38,43,26,27,25,30,21,4,"-",49,75,72,93,96,82,6,105,34,105,40,6,1,104,40,97,56]
[279,null,"修善寺町",3705,2593,130,68,43,19,23.74,70,9,3,8,"-","-",15,3,7,5,7,2,2,3,1,"-",6,7,7,13,13,9,2,14,5,15,5,0,0,15,5,13,6]
[280,null,"下狩野村",1638,1025,165,110,35,20,21.27,95,22,2,21,"-",1,7,4,2,1,2,2,1,2,"-","-",4,5,5,6,6,5,1,7,2,6,3,1,0,6,2,6,4]
[281,null,"北狩野村２－１",1589,865,121,54,56,11,34.83,76,19,2,18,1,"-",5,1,4,"-",2,1,1,1,"-","-",5,5,5,5,5,5,0,5,3,5,1,0,0,5,2,5,3]
[282,null,"土肥町",3755,3136,58,20,10,28,18.63,33,12,3,11,"-","-",15,1,5,9,7,3,4,1,"-","-",7,7,11,11,13,10,1,14,0,15,8,0,0,14,6,11,5]
[283,null,"西豆村",1187,796,101,25,55,21,58.99,41,15,2,14,1,"-",15,1,6,8,2,5,5,3,"-","-",0,11,12,15,15,15,0,15,1,15,2,3,0,15,2,13,2]
[284,null,"中狩野村",4249,3607,120,88,15,17,30.1,53,12,"-",12,"-","-",9,6,3,"-",1,3,4,1,"-","-",6,6,4,7,8,9,0,9,3,9,3,0,0,9,4,9,4]
[285,null,"上狩野村",9282,8494,179,118,42,19,41.68,83,16,9,15,2,"-",14,7,6,1,4,5,1,3,1,"-",4,10,10,13,13,12,1,14,7,14,4,0,0,13,4,13,9]
[286,null,"上大見村",4191,3893,113,86,18,9,14.14,103,18,7,16,"-",1,8,5,3,"-","-","-",3,4,1,"-",4,7,5,7,5,4,1,8,5,8,6,1,0,8,5,8,8]
[287,null,"中大見村",4715,3562,164,96,52,16,23.77,101,40,2,39,"-",1,13,7,4,2,1,2,6,3,1,"-",7,11,7,10,12,7,0,13,6,13,6,1,1,13,7,13,10]
[288,null,"下大見村",2086,1580,103,69,22,12,16.12,69,25,3,25,"-",1,6,3,3,"-",1,2,3,"-","-","-",6,6,6,6,6,6,0,6,2,5,2,0,0,6,3,6,5]
[289,"御前崎市",null,6556,1639,1576,376,525,675,422.35,643,133,28,119,2,4,63,5,22,36,22,22,13,5,1,"-",28,51,45,62,62,58,1,63,14,61,4,31,14,52,39,49,25]
[290,null,"御前崎村",407,37,57,"-",34,23,22.71,32,5,1,4,"-","-",6,"-","-",6,5,1,"-","-","-","-",6,6,6,6,6,6,0,6,2,6,0,0,0,2,1,0,0]
[291,null,"白羽村",791,135,295,"-",158,137,36.28,100,20,9,15,"-",1,6,"-","-",6,2,3,1,"-","-","-",6,5,6,6,6,6,0,6,2,6,1,1,1,5,2,0,0]
[292,null,"池新田町",1672,275,309,79,208,22,135.42,145,35,6,35,2,1,9,1,3,5,8,1,"-","-","-","-",4,4,5,8,8,7,1,9,4,9,1,1,0,7,4,9,3]
[293,null,"佐倉村",914,212,153,26,67,60,77.4,45,12,1,11,"-","-",9,"-",1,8,6,2,1,"-","-","-",4,6,6,9,9,9,0,9,3,7,1,4,1,7,7,9,1]
[294,null,"比木村",793,277,205,69,18,118,42.61,103,15,1,15,"-","-",12,2,6,4,"-",5,3,3,1,"-",3,11,5,12,12,11,0,12,3,12,1,8,5,10,10,12,10]
[295,null,"朝比奈村（御前崎市）",1126,365,331,114,19,198,62.84,146,29,8,23,"-",1,12,2,5,5,"-",4,6,2,"-","-",2,10,9,12,12,10,0,12,0,12,0,9,5,12,6,10,5]
[296,null,"新野村",853,338,226,88,21,117,45.09,72,17,2,16,"-",1,9,"-",7,2,1,6,2,"-","-","-",3,9,8,9,9,9,0,9,0,9,0,8,2,9,9,9,6]
[297,"菊川市",null,9419,2229,3060,1090,209,1761,372.89,1323,344,25,325,1,2,87,21,30,36,22,41,19,4,1,"-",22,77,60,84,86,68,1,87,10,66,4,49,21,73,71,83,65]
[298,null,"堀之内町",922,160,259,57,21,181,51.89,97,43,2,42,"-","-",7,"-",2,5,2,3,1,1,"-","-",0,6,3,5,6,5,1,7,0,7,1,5,4,4,4,7,5]
[299,null,"六郷村",1307,316,426,92,18,316,45.46,187,27,2,26,"-","-",9,"-",3,6,4,3,2,"-","-","-",4,6,7,9,9,8,0,9,0,8,1,6,5,5,5,8,4]
[300,null,"加茂村",387,32,57,15,7,35,13.64,35,17,"-",17,"-","-",6,"-",2,4,5,1,"-","-","-","-",0,5,2,6,6,3,0,6,0,4,0,1,0,5,5,6,1]
[301,null,"内田村",830,96,401,199,30,172,24.99,163,53,3,51,"-","-",10,2,6,2,"-",4,5,1,"-","-",1,9,5,10,10,9,0,10,4,8,0,7,4,9,9,10,8]
[302,null,"横地村",665,178,216,104,13,99,22.49,103,19,"-",19,"-","-",7,3,2,2,1,6,"-","-","-","-",1,7,5,7,7,5,0,7,0,3,0,3,2,7,7,7,7]
[303,null,"河城村",2164,687,663,116,29,518,83.37,281,66,8,58,"-",1,10,"-",1,9,"-",5,4,1,"-","-",1,8,7,9,10,9,0,10,2,10,0,8,0,9,9,9,5]
[304,null,"小笠村２－２",114,12,71,"-",2,69,"x",43,4,3,1,"-","-",1,"-","-",1,"-","-",1,"-","-","-",1,1,0,1,1,0,0,1,0,1,0,0,0,0,0,0,0]
[305,null,"小笠村２－１",1379,478,431,174,28,229,41.59,213,51,5,47,"-","-",11,3,7,1,1,5,4,"-",1,"-",3,11,10,11,11,9,0,11,0,10,2,9,2,11,11,11,11]
[306,null,"南山村",861,223,235,111,23,101,55.36,98,29,"-",29,"-","-",9,2,4,3,2,5,1,1,"-","-",0,8,8,9,9,9,0,9,1,9,0,8,2,9,8,9,8]
[307,null,"平田村",728,47,283,208,35,40,31.18,94,33,2,33,1,1,16,10,3,3,7,8,1,"-","-","-",10,15,12,16,16,10,0,16,3,6,0,2,2,13,12,15,15]
[308,null,"中村３－３",62,"-",18,14,3,1,"x",9,2,"-",2,"-","-",1,1,"-","-","-",1,"-","-","-","-",1,1,1,1,1,1,0,1,0,0,0,0,0,1,1,1,1]
[309,"伊豆の国市",null,9462,5203,1091,622,363,106,137.24,735,221,25,213,33,5,46,16,21,9,23,14,5,4,"-","-",28,41,30,45,45,42,0,46,4,37,12,9,1,45,25,43,35]
[310,null,"伊豆長岡町",1078,516,94,25,17,52,21.78,73,28,"-",27,3,1,7,"-",3,4,2,3,2,"-","-","-",4,6,3,6,6,5,0,7,2,7,0,3,0,7,0,7,4]
[311,null,"江間村",577,266,112,77,21,14,8.47,101,38,2,36,18,1,8,2,5,1,5,2,1,"-","-","-",6,7,4,8,8,8,0,8,1,6,0,3,0,7,3,8,5]
[312,null,"韮山町",3453,1766,487,381,90,16,31.89,384,81,9,80,12,3,14,12,1,1,9,4,1,"-","-","-",9,12,7,14,14,13,0,14,1,10,5,2,1,14,12,13,12]
[313,null,"大仁町",2088,1178,230,79,131,20,46.75,99,35,12,31,"-","-",13,2,9,2,7,4,"-",2,"-","-",7,12,12,13,13,12,0,13,0,10,6,0,0,13,6,11,10]
[314,null,"北狩野村２－２",2266,1477,168,60,104,4,28.35,78,39,2,39,"-","-",4,"-",3,1,"-",1,1,2,"-","-",2,4,4,4,4,4,0,4,0,4,1,1,0,4,4,4,4]
[315,"牧之原市",null,11169,3275,3686,630,291,2765,417.04,1527,409,23,392,1,10,99,3,14,82,37,25,26,10,1,"-",58,52,55,70,72,54,11,95,25,81,7,38,28,99,49,73,47]
[316,null,"相良町",1716,407,617,90,61,466,82.36,226,50,4,48,"-",2,17,1,1,15,6,5,5,1,"-","-",8,8,4,1,2,1,3,17,0,17,0,6,3,17,4,15,2]
[317,null,"地頭方村",916,232,223,8,38,177,56.36,91,17,4,15,"-","-",6,"-","-",6,2,3,1,"-","-","-",3,1,1,4,3,1,1,6,0,6,0,3,1,6,2,6,1]
[318,null,"菅山村",818,207,275,62,22,191,32.6,110,34,"-",34,1,"-",12,"-",4,8,1,4,5,2,"-","-",6,10,11,10,10,3,1,12,2,12,0,5,5,12,8,11,7]
[319,null,"萩間村２－１",2366,903,718,103,48,567,67.5,341,75,3,70,"-",3,13,1,2,10,2,2,5,3,1,"-",4,7,7,7,8,3,5,13,2,12,2,8,4,13,10,13,12]
[320,null,"川崎町",1814,347,593,110,59,424,75.44,259,68,3,65,"-",4,32,1,2,29,23,7,2,"-","-","-",20,10,15,31,32,29,0,28,5,15,3,5,4,32,12,13,11]
[321,null,"勝間田村２－１",2246,856,792,148,55,589,66.42,290,107,7,103,"-",1,12,"-",2,10,2,2,6,2,"-","-",11,10,11,11,11,11,1,12,10,12,1,6,6,12,7,9,8]
[322,null,"坂部村",1227,294,446,109,8,329,32.22,183,55,2,54,"-","-",6,"-",3,3,1,2,2,1,"-","-",5,6,6,6,6,6,0,6,6,6,1,5,5,6,6,6,6]
[323,null,"萩間村２－２",66,29,22,"-","-",22,4.14,27,3,"-",3,"-","-",1,"-","-",1,"-","-","-",1,"-","-",1,0,0,0,0,0,0,1,0,1,0,0,0,1,0,0,0]
[324,"東伊豆町",null,7786,5742,268,9,32,227,139.13,208,60,9,56,7,3,11,"-","-",11,7,3,1,"-","-","-",4,3,7,7,7,7,4,10,6,11,3,2,1,11,2,11,2]
[325,null,"稲取町",1339,623,113,1,16,96,47.75,99,28,5,25,2,2,5,"-","-",5,3,1,1,"-","-","-",1,1,4,4,4,4,1,4,4,5,1,1,1,5,0,5,0]
[326,null,"城東村",6447,5119,155,8,16,131,91.38,109,32,4,31,5,1,6,"-","-",6,4,2,"-","-","-","-",3,2,3,3,3,3,3,6,2,6,2,1,0,6,2,6,2]
[327,"河津町",null,10074,8172,331,75,69,187,145.29,192,62,8,58,3,3,25,3,7,15,8,10,5,2,"-","-",6,12,23,22,23,20,2,23,5,25,9,0,0,22,5,21,10]
[328,null,"上河津村",6771,5960,122,44,30,48,59.79,61,10,3,9,"-",2,14,2,5,7,4,5,4,1,"-","-",1,6,12,12,12,12,2,13,4,14,5,0,0,12,4,12,5]
[329,null,"下河津村",3303,2212,209,31,39,139,85.5,131,52,5,49,3,1,11,1,2,8,4,5,1,1,"-","-",5,6,11,10,11,8,0,10,1,11,4,0,0,10,1,9,5]
[330,"南伊豆町",null,11049,8535,363,120,104,139,210.85,128,54,6,54,4,2,34,"-",20,14,10,14,9,1,"-","-",18,25,29,34,34,34,0,34,3,34,2,0,0,34,8,31,11]
[331,null,"竹麻村",1114,743,45,17,14,14,31.66,7,3,"-",3,"-","-",3,"-",2,1,3,"-","-","-","-","-",0,2,1,3,3,3,0,3,0,3,0,0,0,3,2,3,2]
[332,null,"南中村",2303,1835,89,25,21,43,31.32,19,17,1,17,1,"-",6,"-",4,2,2,4,"-","-","-","-",0,5,5,6,6,6,0,6,1,6,2,0,0,6,5,6,5]
[333,null,"南崎村",1013,740,32,2,18,12,35.76,30,5,"-",5,"-","-",3,"-","-",3,1,"-",2,"-","-","-",0,0,3,3,3,3,0,3,0,3,0,0,0,3,0,3,0]
[334,null,"南上村",3085,2458,104,55,15,34,56.65,37,18,5,18,2,2,9,"-",9,"-","-",4,4,1,"-","-",8,8,8,9,9,9,0,9,0,9,0,0,0,9,0,9,2]
[335,null,"三坂村",1374,1062,44,13,13,18,30.38,7,4,"-",4,1,"-",4,"-",2,2,1,3,"-","-","-","-",2,2,4,4,4,4,0,4,1,4,0,0,0,4,0,4,1]
[336,null,"三浜村",2160,1698,49,8,23,18,25.08,28,7,"-",7,"-","-",9,"-",3,6,3,3,3,"-","-","-",8,8,8,9,9,9,0,9,1,9,0,0,0,9,1,6,1]
[337,"松崎町",null,8521,7140,313,127,94,92,96.7,95,33,8,30,1,"-",29,7,9,13,7,14,7,1,"-","-",7,20,23,25,29,17,0,28,5,29,7,1,1,29,18,24,19]
[338,null,"松崎町（旧）",470,293,45,27,14,4,15.98,17,6,4,5,"-","-",6,2,2,2,5,1,"-","-","-","-",1,4,1,6,6,2,0,5,0,6,1,0,0,6,3,4,4]
[339,null,"岩科村",3395,2983,171,56,58,57,55.23,36,12,3,10,1,"-",12,2,3,7,"-",8,4,"-","-","-",4,9,11,9,12,8,0,12,2,12,4,0,0,12,8,10,8]
[340,null,"中川村（松崎町）",4656,3864,97,44,22,31,25.49,42,15,1,15,"-","-",11,3,4,4,2,5,3,1,"-","-",2,7,11,10,11,7,0,11,3,11,2,1,1,11,7,10,7]
[341,"西伊豆町",null,10554,9296,152,53,79,20,54.34,29,7,1,5,1,1,36,3,8,25,22,11,3,"-","-","-",1,6,8,32,31,29,3,25,0,27,4,1,0,34,3,17,5]
[342,null,"仁科村",5859,5357,76,38,26,12,30.38,13,4,1,2,"-",1,28,2,7,19,16,9,3,"-","-","-",0,1,1,24,23,21,3,18,0,19,0,1,0,27,1,12,1]
[343,null,"田子村",730,486,4,"-",4,"-",9.44,4,1,"-",1,"-","-",2,"-","-",2,2,"-","-","-","-","-",0,0,1,2,2,2,0,1,0,2,0,0,0,2,0,1,0]
[344,null,"安良里村",700,564,4,"-",2,2,3.54,"-","-","-","-","-","-",1,"-","-",1,1,"-","-","-","-","-",0,0,1,1,1,1,0,1,0,1,0,0,0,1,0,0,0]
[345,null,"宇久須村",3265,2889,68,15,47,6,10.98,12,2,"-",2,1,"-",5,1,1,3,3,2,"-","-","-","-",1,5,5,5,5,5,0,5,0,5,4,0,0,4,2,4,4]
[346,"函南町",null,6516,3586,694,231,426,37,132.06,362,85,8,85,1,2,21,1,10,10,8,5,3,4,1,"-",17,18,15,20,20,20,1,21,7,16,9,3,3,20,15,16,13]
[347,null,"(函南町)",6516,3586,694,231,426,37,132.06,362,85,8,85,1,2,21,1,10,10,8,5,3,4,1,"-",17,18,15,20,20,20,1,21,7,16,9,3,3,20,15,16,13]
[348,"清水町",null,881,89,92,69,22,1,10.88,89,21,3,21,"-",1,10,8,1,1,10,"-","-","-","-","-",0,7,1,5,7,2,2,10,4,3,0,2,2,10,5,10,8]
[349,null,"(清水町)",881,89,92,69,22,1,10.88,89,21,3,21,"-",1,10,8,1,1,10,"-","-","-","-","-",0,7,1,5,7,2,2,10,4,3,0,2,2,10,5,10,8]
[350,"長泉町",null,2663,1054,205,29,153,23,19.11,166,51,2,50,"-","-",5,"-",1,4,3,2,"-","-","-","-",3,4,4,4,5,0,0,5,3,5,3,2,0,5,3,5,4]
[351,null,"(長泉町)",2663,1054,205,29,153,23,19.11,166,51,2,50,"-","-",5,"-",1,4,3,2,"-","-","-","-",3,4,4,4,5,0,0,5,3,5,3,2,0,5,3,5,4]
[352,"小山町",null,13602,9065,580,459,98,23,123.46,441,135,24,126,"-",2,31,23,6,2,11,8,5,5,2,"-",27,29,26,31,29,18,0,31,17,28,20,8,6,31,16,30,25]
[353,null,"小山町（旧）",2968,2063,108,76,21,11,30.62,73,28,10,23,"-","-",13,8,4,1,8,2,2,1,"-","-",10,12,11,13,13,7,0,13,10,13,8,2,1,13,8,13,11]
[354,null,"足柄村",2091,1341,64,53,11,"-","x",53,"x","x","x","x","x",5,5,"-","-",1,1,2,1,"-","-",5,5,4,5,5,3,0,5,4,5,4,0,0,5,1,5,4]
[355,null,"須走村",4147,3177,3,"-",3,"-","x",1,"x","x","x","x","x",1,"-","-",1,1,"-","-","-","-","-",0,0,1,1,1,0,0,1,0,1,0,0,0,1,0,0,0]
[356,null,"北郷村２－１",4396,2484,405,330,63,12,22.66,314,89,11,87,"-",1,12,10,2,"-",1,5,1,3,2,"-",12,12,10,12,10,8,0,12,3,9,8,6,5,12,7,12,10]
[357,"吉田町",null,2073,31,413,296,56,61,40.05,172,64,4,61,"-","-",21,11,4,6,19,2,"-","-","-","-",21,1,0,21,21,0,0,21,0,10,0,0,0,21,0,20,1]
[358,null,"(吉田町)",2073,31,413,296,56,61,40.05,172,64,4,61,"-","-",21,11,4,6,19,2,"-","-","-","-",21,1,0,21,21,0,0,21,0,10,0,0,0,21,0,20,1]
[359,"川根本町",null,49688,44946,663,12,83,568,57.49,433,87,28,75,3,6,40,"-","-",40,3,10,11,7,9,"-",22,21,31,39,39,39,1,39,11,40,4,2,0,40,19,17,7]
[360,null,"中川根村",8033,6650,355,0,39,316,14.19,249,41,14,36,1,1,13,"-","-",13,"-",3,3,2,5,"-",11,9,9,12,12,12,1,13,7,13,2,0,0,13,5,12,5]
[361,null,"徳山村",4100,3301,156,12,12,132,13.07,86,27,6,24,1,4,5,"-","-",5,"-",3,1,"-",1,"-",5,3,4,5,5,5,0,5,1,5,0,0,0,5,3,5,2]
[362,null,"上川根村",29333,27774,66,"-",15,51,10.62,50,12,7,9,1,"-",9,"-","-",9,2,2,4,1,"-","-",4,4,7,9,9,9,0,8,3,9,2,1,0,9,5,0,0]
[363,null,"東川根村",8222,7221,86,"-",17,69,19.61,48,7,1,6,"-",1,13,"-","-",13,1,2,3,4,3,"-",2,5,11,13,13,13,0,13,0,13,0,1,0,13,6,0,0]
[364,"森町",null,13391,9512,1171,591,51,529,136.59,430,153,21,144,1,3,60,13,22,25,17,20,17,5,"-",1,24,46,31,52,53,29,5,57,15,52,11,12,7,44,42,53,37]
[365,null,"森町（旧）",1551,928,133,55,9,69,"x",51,18,4,16,"-","-",8,"-",5,3,5,1,2,"-","-","-",2,4,4,6,7,2,1,7,1,6,2,3,1,6,6,8,4]
[366,null,"飯田村（森町）",825,130,235,166,7,62,29.73,66,24,2,23,"-","-",11,6,4,1,7,3,1,"-","-","-",5,11,7,10,10,5,0,11,0,8,0,3,2,10,10,11,10]
[367,null,"園田村",696,91,315,213,11,91,12,102,43,6,40,"-",1,8,5,3,"-",1,7,"-","-","-","-",7,7,7,7,7,5,0,8,1,6,0,2,1,8,7,8,7]
[368,null,"一宮村",1293,511,206,114,13,79,24.51,89,26,2,25,"-",1,7,2,5,"-","-",3,4,"-","-","-",4,7,6,7,7,7,0,7,6,6,3,3,3,7,7,7,7]
[369,null,"天方村",3675,3216,151,36,6,109,25.72,64,24,5,22,1,1,11,"-",4,7,2,3,4,2,"-","-",3,8,4,11,11,5,0,10,5,11,2,1,0,8,7,10,7]
[370,null,"三倉村",4768,4079,125,7,5,113,18.72,58,18,2,18,"-","-",14,"-",1,13,2,3,5,3,"-",1,3,9,3,10,10,5,4,13,2,14,4,0,0,5,5,9,2]
[371,null,"原泉村２－２",583,557,6,"-","-",6,"x","-","-","-","-","-","-",1,"-","-",1,"-","-",1,"-","-","-",0,0,0,1,1,0,0,1,0,1,0,0,0,0,0,0,0]
[372]
[373]
[374]
[375]
[376]
[377]
[378]
[379]
[380]
[381]
[382]
[383]
[384]
[385]
[386]
[387]
[388]
[389]
[390]
[391]
[392]
[393]
[394]
[395]
[396]
[397]
[398]
[399]
[400]
[401]
[402]
[403]
[404]
[405]
[406]
[407]
[408]
[409]
[410]
[411]
[412]
[413]
[414]
[415]
[416]
[417]
[418]
[419]
[420]
[421]
[422]
[423]
[424]
[425]
[426]
[427]
[428]
[429]
[430]
[431]
[432]
[433]
[434]
[435]
[436]
[437]
[438]
[439]
[440]
[441]
[442]
[443]
[444]
[445]
[446]
[447]
[448]
[449]
[450]
[451]
[452]
[453]
[454]
[455]
[456]
[457]
[458]
[459]
[460]
[461]
[462]
[463]
[464]
[465]
[466]
[467]
[468]
[469]
[470]
[471]
[472]
[473]
[474]
[475]
[476]
[477]
[478]
[479]
[480]
[481]
[482]
[483]
[484]
[485]
[486]
[487]
[488]
[489]
[490]
[491]
[492]
[493]
[494]
[495]
[496]
[497]
[498]
[499]
[500]

{"sheet":"指定地域","index":4,"n_rows":501,"n_cols":8,"rows_kept":501,"hidden":true}
[null,"KCITY_NAME","森林地域_森林地域","農業地域_農業地域","都市地域_市街化区域","都市地域_市街化調整","商業関連","工業関連"]
[1,"静岡県",{"v":501284.69,"d":"501285"},{"v":446248.21,"d":"446248"},{"v":46408.99,"d":"46409"},{"v":185889.06,"d":"185889"},{"v":4318.79,"d":"4319"},{"v":14490.06,"d":"14490"}]
[2,"静岡市",{"v":110499.93,"d":"110500"},{"v":80472.3,"d":"80472"},{"v":10474.3,"d":"10474"},{"v":12728.35,"d":"12728"},{"v":938.3299999999999,"d":"938"},{"v":2908.67,"d":"2909"}]
[3,"葵区(静岡市)",{"v":95346.15,"d":"95346"},{"v":56062.65,"d":"56063"},{"v":2885.21,"d":"2885"},{"v":5632.52,"d":"5633"},{"v":408.03,"d":"408"},{"v":451.13,"d":"451"}]
[4,"静岡市２－１",{"v":3007.96,"d":"3008"},{"v":6546.35,"d":"6546"},{"v":2612.86,"d":"2613"},{"v":2913.16,"d":"2913"},{"v":408.03,"d":"408"},{"v":404.07,"d":"404"}]
[5,"美和村",{"v":4029.44,"d":"4029"},{"v":5303.97,"d":"5304"},0,{"v":1056.82,"d":"1057"},0,0]
[6,"服織村",{"v":1830.15,"d":"1830"},{"v":2513.81,"d":"2514"},{"v":228.88,"d":"229"},{"v":701.03,"d":"701"},0,{"v":11.87,"d":"12"}]
[7,"中藁科村",{"v":2498.26,"d":"2498"},3008,0,{"v":494.52,"d":"495"},0,0]
[8,"南藁科村",{"v":1550.39,"d":"1550"},{"v":2035.29,"d":"2035"},{"v":43.48,"d":"43"},{"v":465.17,"d":"465"},0,{"v":35.18,"d":"35"}]
[9,"大河内村",4899,{"v":4744.53,"d":"4745"},0,0,0,0]
[10,"梅ヶ島村",{"v":8868.91,"d":"8869"},{"v":5004.45,"d":"5004"},0,0,0,0]
[11,"玉川村",{"v":9236.83,"d":"9237"},{"v":9678.43,"d":"9678"},0,{"v":1.83,"d":"2"},0,0]
[12,"井川村",{"v":49136.71,"d":"49137"},{"v":6397.32,"d":"6397"},0,0,0,0]
[13,"清沢村",{"v":4145.69,"d":"4146"},{"v":4470.26,"d":"4470"},0,0,0,0]
[14,"大川村",{"v":6142.81,"d":"6143"},{"v":6360.24,"d":"6360"},0,0,0,0]
[15,"駿河区(静岡市)",{"v":1952.78,"d":"1953"},{"v":3957.05,"d":"3957"},{"v":3248.19,"d":"3248"},{"v":3411.75,"d":"3412"},{"v":243.28,"d":"243"},{"v":871.35,"d":"871"}]
[16,"静岡市2-2",{"v":1888.05,"d":"1888"},{"v":3811.69,"d":"3812"},{"v":3130.44,"d":"3130"},{"v":3266.4,"d":"3266"},{"v":239.83,"d":"240"},{"v":823.3700000000001,"d":"823"}]
[17,"有度村２－２",{"v":64.73,"d":"65"},{"v":145.35,"d":"145"},{"v":117.75,"d":"118"},{"v":145.35,"d":"145"},{"v":3.45,"d":"3"},{"v":47.98,"d":"48"}]
[18,"清水区(静岡市)",13201,{"v":20452.6,"d":"20453"},{"v":4340.9,"d":"4341"},{"v":3684.08,"d":"3684"},{"v":287.02,"d":"287"},{"v":1586.19,"d":"1586"}]
[19,"清水市",{"v":125.86,"d":"126"},{"v":889.05,"d":"889"},{"v":1648.13,"d":"1648"},{"v":912.97,"d":"913"},{"v":231.57,"d":"232"},{"v":497.29999999999995,"d":"497"}]
[20,"飯田村清水区（静岡市）",{"v":35.8,"d":"36"},{"v":276.49,"d":"276"},{"v":367.67,"d":"368"},{"v":73.46,"d":"73"},0,{"v":6.65,"d":"7"}]
[21,"高部村",{"v":81.73,"d":"82"},{"v":731.31,"d":"731"},{"v":252.83,"d":"253"},{"v":511.59,"d":"512"},0,{"v":64.94,"d":"65"}]
[22,"有度村２－１",{"v":108.26,"d":"108"},{"v":311.92,"d":"312"},{"v":789.67,"d":"790"},{"v":311.92,"d":"312"},{"v":36.36,"d":"36"},{"v":374.34000000000003,"d":"374"}]
[23,"興津町",{"v":123.46,"d":"123"},{"v":980.75,"d":"981"},{"v":304.56,"d":"305"},{"v":895.86,"d":"896"},{"v":16.38,"d":"16"},{"v":117.79999999999998,"d":"118"}]
[24,"小島村",{"v":2595.84,"d":"2596"},{"v":3794.56,"d":"3795"},0,{"v":27.14,"d":"27"},0,0]
[25,"両河内村",{"v":7174.8,"d":"7175"},{"v":7284.4,"d":"7284"},0,0,0,0]
[26,"庵原村",{"v":1272.17,"d":"1272"},{"v":3179.29,"d":"3179"},{"v":68.09,"d":"68"},{"v":354.81,"d":"355"},0,{"v":54.7,"d":"55"}]
[27,"袖師町",{"v":2.56,"d":"3"},{"v":81.93,"d":"82"},{"v":376.06,"d":"376"},{"v":73.32,"d":"73"},{"v":2.7,"d":"3"},{"v":224.45,"d":"224"}]
[28,"蒲原町",{"v":500.54,"d":"501"},{"v":831.82,"d":"832"},{"v":394.17,"d":"394"},{"v":292.15,"d":"292"},0,{"v":175.76,"d":"176"}]
[29,"由比町",{"v":1179.98,"d":"1180"},{"v":2091.09,"d":"2091"},{"v":139.72,"d":"140"},{"v":230.87,"d":"231"},0,{"v":70.25,"d":"70"}]
[30,"浜松市",{"v":104080.33,"d":"104080"},{"v":79592.95,"d":"79593"},{"v":9535.44,"d":"9535"},{"v":36700.67,"d":"36701"},{"v":917.44,"d":"917"},{"v":1938.62,"d":"1939"}]
[31,"中区(浜松市)",{"v":154.94,"d":"155"},{"v":546.75,"d":"547"},{"v":3716.43,"d":"3716"},{"v":722.77,"d":"723"},{"v":649.23,"d":"649"},{"v":427.15999999999997,"d":"427"}]
[32,"浜松市４－１",{"v":104.74,"d":"105"},{"v":282.37,"d":"282"},{"v":3543.69,"d":"3544"},{"v":458.15,"d":"458"},{"v":643.9100000000001,"d":"644"},{"v":427.01,"d":"427"}]
[33,"入野村２－１",{"v":12.11,"d":"12"},{"v":8.16,"d":"8"},{"v":171.89,"d":"172"},{"v":8.08,"d":"8"},{"v":5.32,"d":"5"},0]
[34,"吉野村２－１",{"v":38.09,"d":"38"},{"v":237.36,"d":"237"},{"v":0.58,"d":"1"},{"v":237.68,"d":"238"},0,{"v":0.15000000000000002,"d":"0"}]
[35,"新津村２－１",0,{"v":18.86,"d":"19"},{"v":0.27,"d":"0"},{"v":18.86,"d":"19"},0,0]
[36,"東区(浜松市)",{"v":19.67,"d":"20"},{"v":3186.2,"d":"3186"},{"v":1432.16,"d":"1432"},{"v":3196.25,"d":"3196"},{"v":44.94,"d":"45"},{"v":488.52,"d":"489"}]
[37,"浜松市４－３",0,{"v":0.92,"d":"1"},{"v":373.36,"d":"373"},{"v":0.44,"d":"0"},{"v":17.47,"d":"17"},{"v":112.11,"d":"112"}]
[38,"飯田村２－１東区（浜松市）",0,0,{"v":1.81,"d":"2"},0,0,{"v":1.81,"d":"2"}]
[39,"和田村東区（浜松市）",0,{"v":112.86,"d":"113"},{"v":348.62,"d":"349"},{"v":114.13,"d":"114"},{"v":18.57,"d":"19"},{"v":160.41,"d":"160"}]
[40,"長上村",0,{"v":553.49,"d":"553"},{"v":353.74,"d":"354"},{"v":551.02,"d":"551"},{"v":2.13,"d":"2"},{"v":172.78,"d":"173"}]
[41,"積志村",{"v":18.77,"d":"19"},{"v":1121.33,"d":"1121"},{"v":207.72,"d":"208"},{"v":1126.73,"d":"1127"},0,{"v":7.81,"d":"8"}]
[42,"笠井町",{"v":0.9,"d":"1"},{"v":186.27,"d":"186"},{"v":68.36,"d":"68"},{"v":181.75,"d":"182"},{"v":6.03,"d":"6"},0]
[43,"豊西村",0,{"v":782.08,"d":"782"},{"v":3.53,"d":"4"},{"v":787.28,"d":"787"},{"v":0.74,"d":"1"},{"v":0.11,"d":"0"}]
[44,"中ノ町村",0,{"v":424.23,"d":"424"},{"v":64.79,"d":"65"},{"v":429.47,"d":"429"},0,{"v":33.5,"d":"34"}]
[45,"三方原村２－１",0,{"v":5.02,"d":"5"},{"v":10.23,"d":"10"},{"v":5.44,"d":"5"},0,0]
[46,"西区(浜松市)",{"v":1558.09,"d":"1558"},{"v":6720.34,"d":"6720"},{"v":1460.7,"d":"1461"},{"v":7152.24,"d":"7152"},{"v":101.9,"d":"102"},{"v":233.07999999999998,"d":"233"}]
[47,"神久呂村",{"v":301.86,"d":"302"},{"v":1165.06,"d":"1165"},{"v":67.75,"d":"68"},{"v":1170.18,"d":"1170"},{"v":4.07,"d":"4"},{"v":26.01,"d":"26"}]
[48,"入野村２－２",{"v":88.96,"d":"89"},{"v":280.71,"d":"281"},{"v":514.21,"d":"514"},{"v":269.39,"d":"269"},{"v":17.92,"d":"18"},{"v":26.509999999999998,"d":"27"}]
[49,"吉野村２－２",{"v":5.08,"d":"5"},{"v":22.18,"d":"22"},{"v":7.69,"d":"8"},{"v":23.44,"d":"23"},0,{"v":9.58,"d":"10"}]
[50,"和地村",{"v":155.42,"d":"155"},{"v":808.38,"d":"808"},{"v":82.35,"d":"82"},{"v":817.43,"d":"817"},{"v":2.62,"d":"3"},{"v":35.45,"d":"35"}]
[51,"伊佐見村",{"v":260.48,"d":"260"},{"v":1202.99,"d":"1203"},0,{"v":1204.21,"d":"1204"},0,0]
[52,"篠原村",{"v":36.47,"d":"36"},{"v":783.25,"d":"783"},{"v":238.13,"d":"238"},{"v":803.2,"d":"803"},{"v":6.71,"d":"7"},{"v":52.07,"d":"52"}]
[53,"北庄内村",{"v":382.57,"d":"383"},{"v":977.7,"d":"978"},{"v":53.3,"d":"53"},{"v":975.84,"d":"976"},{"v":23.29,"d":"23"},0]
[54,"南庄内村",{"v":129.56,"d":"130"},{"v":404.15,"d":"404"},{"v":5.23,"d":"5"},{"v":403.01,"d":"403"},0,0]
[55,"村櫛村",{"v":80.4,"d":"80"},{"v":462.01,"d":"462"},{"v":52.58,"d":"53"},{"v":464.53,"d":"465"},0,0]
[56,"舞阪町",{"v":13.66,"d":"14"},{"v":26.89,"d":"27"},{"v":245.05,"d":"245"},{"v":240.52,"d":"241"},{"v":37.769999999999996,"d":"38"},{"v":75.89,"d":"76"}]
[57,"雄踏町",{"v":103.24,"d":"103"},{"v":586.22,"d":"586"},{"v":194.43,"d":"194"},{"v":641.98,"d":"642"},{"v":9.5,"d":"10"},{"v":7.56,"d":"8"}]
[58,"浜松市４－２",{"v":0.4,"d":"0"},{"v":0.8,"d":"1"},0,{"v":138.5,"d":"139"},0,0]
[59,"南区(浜松市)",{"v":245.12,"d":"245"},{"v":3559.29,"d":"3559"},{"v":1071.37,"d":"1071"},{"v":3653.27,"d":"3653"},{"v":10.59,"d":"11"},{"v":316.21000000000004,"d":"316"}]
[60,"浜松市４－４",{"v":67.78,"d":"68"},{"v":607.1,"d":"607"},{"v":246.68,"d":"247"},{"v":600.93,"d":"601"},0,{"v":32.32,"d":"32"}]
[61,"芳川村",0,{"v":533.79,"d":"534"},{"v":248.18,"d":"248"},{"v":533.79,"d":"534"},{"v":4.06,"d":"4"},{"v":24.67,"d":"25"}]
[62,"飯田村２－１南区（浜松市）",0,{"v":441.98,"d":"442"},{"v":217.04,"d":"217"},{"v":441.32,"d":"441"},{"v":0.06,"d":"0"},{"v":112.24,"d":"112"}]
[63,"河輪村",0,{"v":364.17,"d":"364"},0,{"v":364.17,"d":"364"},0,0]
[64,"五島村",{"v":85.88,"d":"86"},{"v":638.38,"d":"638"},{"v":66.49,"d":"66"},{"v":638.21,"d":"638"},0,0]
[65,"新津村２－２",{"v":91.47,"d":"91"},{"v":962.18,"d":"962"},{"v":0.83,"d":"1"},{"v":966.89,"d":"967"},0,{"v":0.68,"d":"1"}]
[66,"可美村",0,{"v":11.69,"d":"12"},{"v":292.14,"d":"292"},{"v":107.96,"d":"108"},{"v":6.47,"d":"6"},{"v":146.32,"d":"146"}]
[67,"北区(浜松市)",{"v":14912.71,"d":"14913"},{"v":22638.11,"d":"22638"},{"v":1006.06,"d":"1006"},{"v":15799.13,"d":"15799"},{"v":44.27,"d":"44"},{"v":261.55,"d":"262"}]
[68,"三方原村２－２",{"v":2.82,"d":"3"},{"v":1507.18,"d":"1507"},{"v":116.3,"d":"116"},{"v":1510.78,"d":"1511"},{"v":6.98,"d":"7"},0]
[69,"都田村",{"v":1190.31,"d":"1190"},{"v":2694.43,"d":"2694"},{"v":244.87,"d":"245"},{"v":2764.16,"d":"2764"},{"v":17.26,"d":"17"},{"v":165.71,"d":"166"}]
[70,"気賀町",{"v":887.44,"d":"887"},{"v":1872.81,"d":"1873"},{"v":171.48,"d":"171"},{"v":2069.55,"d":"2070"},{"v":12.03,"d":"12"},{"v":18.43,"d":"18"}]
[71,"中川村北区（浜松市）",{"v":264.28,"d":"264"},{"v":1027.72,"d":"1028"},{"v":159.66,"d":"160"},{"v":1020.73,"d":"1021"},0,{"v":34.900000000000006,"d":"35"}]
[72,"金指町",{"v":14.19,"d":"14"},{"v":31.64,"d":"32"},{"v":66.05,"d":"66"},{"v":30.58,"d":"31"},{"v":1.22,"d":"1"},{"v":3.67,"d":"4"}]
[73,"井伊谷村",{"v":601.15,"d":"601"},{"v":1174.05,"d":"1174"},{"v":99.39,"d":"99"},{"v":769.7,"d":"770"},{"v":2.59,"d":"3"},{"v":25.740000000000002,"d":"26"}]
[74,"奥山村",{"v":2010.74,"d":"2011"},{"v":2490.76,"d":"2491"},0,{"v":197.02,"d":"197"},0,0]
[75,"伊平村",{"v":2364.67,"d":"2365"},{"v":2625.6,"d":"2626"},0,{"v":33.7,"d":"34"},0,0]
[76,"鎮玉村",{"v":4096.28,"d":"4096"},{"v":4322.51,"d":"4323"},0,0,0,0]
[77,"三ヶ日町",{"v":2861.83,"d":"2862"},{"v":3729.99,"d":"3730"},{"v":79.75,"d":"80"},{"v":5956.46,"d":"5956"},{"v":4.19,"d":"4"},{"v":13.11,"d":"13"}]
[78,"東浜名村",{"v":619.01,"d":"619"},{"v":1161.42,"d":"1161"},{"v":68.56,"d":"69"},{"v":1446.47,"d":"1446"},0,0]
[79,"浜北区(浜松市)",{"v":1374.91,"d":"1375"},{"v":5499.13,"d":"5499"},{"v":803.7,"d":"804"},{"v":5842.52,"d":"5843"},{"v":31.43,"d":"31"},{"v":178.62,"d":"179"}]
[80,"小野口村",{"v":101.89,"d":"102"},{"v":758.6,"d":"759"},{"v":264.95,"d":"265"},{"v":757.69,"d":"758"},{"v":4.97,"d":"5"},{"v":52.93,"d":"53"}]
[81,"北浜村",{"v":5.14,"d":"5"},{"v":539.99,"d":"540"},{"v":389.57,"d":"390"},{"v":547.5,"d":"548"},{"v":14.08,"d":"14"},{"v":37.59,"d":"38"}]
[82,"竜池村",{"v":0.38,"d":"0"},{"v":618.35,"d":"618"},0,{"v":624.62,"d":"625"},0,0]
[83,"中瀬村",{"v":8.56,"d":"9"},{"v":791.94,"d":"792"},{"v":103.83,"d":"104"},{"v":828.41,"d":"828"},{"v":12.38,"d":"12"},{"v":41.19,"d":"41"}]
[84,"赤佐村",{"v":322.32,"d":"322"},{"v":663.66,"d":"664"},{"v":45.36,"d":"45"},{"v":886.7,"d":"887"},0,{"v":46.9,"d":"47"}]
[85,"麁玉村",{"v":936.61,"d":"937"},{"v":2126.6,"d":"2127"},0,{"v":2197.6,"d":"2198"},0,0]
[86,"天竜区(浜松市)",{"v":85814.89,"d":"85815"},{"v":37443.13,"d":"37443"},{"v":45.02,"d":"45"},{"v":334.49,"d":"334"},{"v":35.08,"d":"35"},{"v":33.480000000000004,"d":"33"}]
[87,"二俣町",{"v":421.82,"d":"422"},{"v":64.5,"d":"65"},{"v":45.02,"d":"45"},{"v":193.79,"d":"194"},{"v":35.08,"d":"35"},{"v":14.96,"d":"15"}]
[88,"光明村",{"v":3528.02,"d":"3528"},{"v":1205.63,"d":"1206"},0,{"v":106.13,"d":"106"},0,{"v":18.53,"d":"19"}]
[89,"上阿多古村",{"v":2328.89,"d":"2329"},{"v":1735.84,"d":"1736"},0,0,0,0]
[90,"下阿多古村",{"v":2123.79,"d":"2124"},{"v":1386.76,"d":"1387"},0,{"v":34.57,"d":"35"},0,0]
[91,"熊村",{"v":2908.11,"d":"2908"},{"v":1521.71,"d":"1522"},0,0,0,0]
[92,"竜川村",{"v":3730.96,"d":"3731"},{"v":2722.02,"d":"2722"},0,0,0,0]
[93,"犬居町",{"v":2608.62,"d":"2609"},{"v":3156.14,"d":"3156"},0,0,0,0]
[94,"気多村",{"v":10176.32,"d":"10176"},{"v":1955.66,"d":"1956"},0,0,0,0]
[95,"熊切村",{"v":10389.75,"d":"10390"},{"v":8774.48,"d":"8774"},0,0,0,0]
[96,"龍山村",{"v":6347.3,"d":"6347"},{"v":1333.94,"d":"1334"},0,0,0,0]
[97,"浦川町",{"v":6571.86,"d":"6572"},{"v":2381.24,"d":"2381"},0,0,0,0]
[98,"佐久間村",{"v":2101.32,"d":"2101"},{"v":1374.07,"d":"1374"},0,0,0,0]
[99,"山香村",{"v":3887.94,"d":"3888"},{"v":1905.23,"d":"1905"},0,0,0,0]
[100,"城西村",{"v":2611.08,"d":"2611"},{"v":1740.65,"d":"1741"},0,0,0,0]
[101,"水窪町",{"v":26079.11,"d":"26079"},{"v":6185.25,"d":"6185"},0,0,0,0]
[102,"沼津市",{"v":10202.49,"d":"10202"},{"v":10850.45,"d":"10850"},{"v":3339.26,"d":"3339"},{"v":10650.62,"d":"10651"},{"v":296.04,"d":"296"},{"v":697.27,"d":"697"}]
[103,"沼津市（旧）",{"v":1670.67,"d":"1671"},{"v":1118.26,"d":"1118"},{"v":2722.22,"d":"2722"},{"v":2164.08,"d":"2164"},{"v":285.76,"d":"286"},{"v":565.77,"d":"566"}]
[104,"愛鷹村",{"v":954.37,"d":"954"},{"v":1212.12,"d":"1212"},{"v":307.54,"d":"308"},{"v":1552.51,"d":"1553"},0,{"v":55.89,"d":"56"}]
[105,"大平村",{"v":292.51,"d":"293"},{"v":579.62,"d":"580"},0,{"v":584.68,"d":"585"},0,{"v":0.05,"d":"0"}]
[106,"内浦村",{"v":499.94,"d":"500"},{"v":735.31,"d":"735"},0,{"v":732.88,"d":"733"},0,0]
[107,"西浦村",{"v":2163.67,"d":"2164"},{"v":3069.14,"d":"3069"},0,{"v":3173.88,"d":"3174"},0,0]
[108,"原町",{"v":54.81,"d":"55"},{"v":446.4,"d":"446"},{"v":290.03,"d":"290"},{"v":512.68,"d":"513"},{"v":10.27,"d":"10"},{"v":75.57,"d":"76"}]
[109,"浮島村２－１",{"v":1519.03,"d":"1519"},{"v":1877.44,"d":"1877"},{"v":19.47,"d":"19"},{"v":1902.72,"d":"1903"},0,0]
[110,"戸田村",{"v":3033.73,"d":"3034"},{"v":1812.12,"d":"1812"},0,{"v":11.86,"d":"12"},0,0]
[111,"熱海市",{"v":4019.49,"d":"4019"},{"v":760.04,"d":"760"},0,{"v":24.31,"d":"24"},{"v":167.54000000000002,"d":"168"},0]
[112,"熱海市（旧）",{"v":3918.64,"d":"3919"},{"v":756.06,"d":"756"},0,{"v":24.31,"d":"24"},{"v":153.7,"d":"154"},0]
[113,"網代町",{"v":100.78,"d":"101"},{"v":3.98,"d":"4"},0,0,{"v":13.84,"d":"14"},0]
[114,"三島市",{"v":2681.22,"d":"2681"},{"v":4366.02,"d":"4366"},{"v":1386.18,"d":"1386"},{"v":4806.85,"d":"4807"},{"v":147.28,"d":"147"},{"v":175.81,"d":"176"}]
[115,"三島市（旧）",{"v":2607.9,"d":"2608"},{"v":3697.35,"d":"3697"},{"v":1149.07,"d":"1149"},{"v":4128.95,"d":"4129"},{"v":143.96,"d":"144"},{"v":74.04,"d":"74"}]
[116,"中郷村",{"v":73.32,"d":"73"},{"v":668.67,"d":"669"},{"v":237.11,"d":"237"},{"v":677.9,"d":"678"},{"v":3.32,"d":"3"},{"v":101.77,"d":"102"}]
[117,"富士宮市",{"v":25893.04,"d":"25893"},{"v":26492.99,"d":"26493"},{"v":2333.41,"d":"2333"},{"v":21960.26,"d":"21960"},{"v":139.59,"d":"140"},{"v":302.96000000000004,"d":"303"}]
[118,"富士宮市（旧）",{"v":791.95,"d":"792"},{"v":1936.89,"d":"1937"},{"v":1619.16,"d":"1619"},{"v":2026.02,"d":"2026"},{"v":104.77,"d":"105"},{"v":208.35,"d":"208"}]
[119,"富士根村",{"v":3770.41,"d":"3770"},{"v":2971.16,"d":"2971"},{"v":585.65,"d":"586"},{"v":2901.41,"d":"2901"},{"v":34.82,"d":"35"},{"v":47.89,"d":"48"}]
[120,"北山村",{"v":6270.21,"d":"6270"},{"v":4645.71,"d":"4646"},{"v":128.59,"d":"129"},{"v":4639.55,"d":"4640"},0,{"v":46.730000000000004,"d":"47"}]
[121,"上井出村",{"v":8022.71,"d":"8023"},{"v":7252.87,"d":"7253"},0,{"v":9184.38,"d":"9184"},0,0]
[122,"白糸村",{"v":1220.08,"d":"1220"},{"v":1740.84,"d":"1741"},0,{"v":1849.49,"d":"1849"},0,0]
[123,"上野村",{"v":392.56,"d":"393"},{"v":1344.55,"d":"1345"},0,{"v":1330.83,"d":"1331"},0,0]
[124,"芝富村",{"v":711.79,"d":"712"},{"v":1497.21,"d":"1497"},0,{"v":21.27,"d":"21"},0,0]
[125,"柚野村",{"v":3223.34,"d":"3223"},{"v":3266.7,"d":"3267"},0,{"v":7.29,"d":"7"},0,0]
[126,"内房村",{"v":1489.99,"d":"1490"},{"v":1837.05,"d":"1837"},0,0,0,0]
[127,"伊東市",{"v":7174.14,"d":"7174"},{"v":7516.61,"d":"7517"},0,{"v":2.49,"d":"2"},{"v":190.57999999999998,"d":"191"},{"v":5.64,"d":"6"}]
[128,"伊東市（旧）",{"v":3306.53,"d":"3307"},{"v":3529.57,"d":"3530"},0,0,{"v":172.35999999999999,"d":"172"},{"v":5.64,"d":"6"}]
[129,"宇佐美村",{"v":1545.62,"d":"1546"},{"v":1347.59,"d":"1348"},0,{"v":2.49,"d":"2"},{"v":18.23,"d":"18"},0]
[130,"対島村",{"v":2321.99,"d":"2322"},{"v":2639.46,"d":"2639"},0,0,0,0]
[131,"島田市",{"v":20606.88,"d":"20607"},{"v":24716.46,"d":"24716"},{"v":0.15,"d":"0"},{"v":15.1,"d":"15"},{"v":82.97,"d":"83"},{"v":420.29,"d":"420"}]
[132,"島田市（旧）",{"v":0.31,"d":"0"},{"v":22.75,"d":"23"},0,0,{"v":72.55000000000001,"d":"73"},{"v":183.73000000000002,"d":"184"}]
[133,"六合村",{"v":394.36,"d":"394"},{"v":875.62,"d":"876"},{"v":0.15,"d":"0"},{"v":14.98,"d":"15"},0,{"v":59.239999999999995,"d":"59"}]
[134,"大津村",{"v":923.07,"d":"923"},{"v":1438.78,"d":"1439"},0,{"v":0.06,"d":"0"},0,0]
[135,"大長村",{"v":1830.98,"d":"1831"},{"v":2816.43,"d":"2816"},0,0,0,{"v":1.89,"d":"2"}]
[136,"伊久身村２－１",{"v":2137.4,"d":"2137"},{"v":2696.33,"d":"2696"},0,0,0,0]
[137,"笹間村２－１",{"v":1115.35,"d":"1115"},{"v":1149.32,"d":"1149"},0,0,0,0]
[138,"初倉村２－１",{"v":333.66,"d":"334"},{"v":1965.59,"d":"1966"},0,{"v":0.06,"d":"0"},0,{"v":72.23,"d":"72"}]
[139,"金谷町",{"v":269.99,"d":"270"},{"v":1063.55,"d":"1064"},0,0,{"v":10.42,"d":"10"},{"v":77.12,"d":"77"}]
[140,"五和村",{"v":3215.41,"d":"3215"},{"v":3982.28,"d":"3982"},0,0,0,{"v":26.08,"d":"26"}]
[141,"初倉村２－２",0,{"v":5.57,"d":"6"},0,0,0,0]
[142,"勝間田村２－２",{"v":16.89,"d":"17"},{"v":178.16,"d":"178"},0,0,0,0]
[143,"日坂村２－２",{"v":28.09,"d":"28"},{"v":36.43,"d":"36"},0,0,0,0]
[144,"下川根村",{"v":4114.92,"d":"4115"},{"v":3897.06,"d":"3897"},0,0,0,0]
[145,"笹間村２－２",{"v":5014.15,"d":"5014"},{"v":2947.92,"d":"2948"},0,0,0,0]
[146,"伊久身村２－２",{"v":1212.31,"d":"1212"},{"v":1640.67,"d":"1641"},0,0,0,0]
[147,"富士市",{"v":12642.12,"d":"12642"},{"v":10557.03,"d":"10557"},{"v":6014.64,"d":"6015"},{"v":12235.19,"d":"12235"},{"v":318.6,"d":"319"},{"v":1900.65,"d":"1901"}]
[148,"吉原市",{"v":100.54,"d":"101"},{"v":555.97,"d":"556"},{"v":1533.98,"d":"1534"},{"v":622.93,"d":"623"},{"v":155.38,"d":"155"},{"v":515.86,"d":"516"}]
[149,"元吉原村",{"v":46.61,"d":"47"},{"v":75.42,"d":"75"},{"v":339.38,"d":"339"},{"v":174.99,"d":"175"},0,{"v":163.8,"d":"164"}]
[150,"原田村（富士市）",{"v":19.24,"d":"19"},{"v":111.76,"d":"112"},{"v":291.14,"d":"291"},{"v":111.76,"d":"112"},{"v":1.38,"d":"1"},{"v":80.95,"d":"81"}]
[151,"吉永村（富士市）",{"v":4048.6,"d":"4049"},{"v":1005.83,"d":"1006"},{"v":272.38,"d":"272"},{"v":3388.31,"d":"3388"},0,{"v":135.48000000000002,"d":"135"}]
[152,"須津村",{"v":1426.12,"d":"1426"},{"v":978.91,"d":"979"},{"v":192.05,"d":"192"},{"v":1468.08,"d":"1468"},0,{"v":16.92,"d":"17"}]
[153,"大淵村（富士市）",{"v":5118.87,"d":"5119"},{"v":4279.39,"d":"4279"},{"v":225.38,"d":"225"},{"v":4766.79,"d":"4767"},0,{"v":79.78,"d":"80"}]
[154,"浮島村２－２",{"v":77.37,"d":"77"},{"v":464.61,"d":"465"},{"v":0.04,"d":"0"},{"v":464.61,"d":"465"},0,0]
[155,"富士町",0,{"v":17.46,"d":"17"},{"v":942.24,"d":"942"},{"v":186.68,"d":"187"},{"v":145.26999999999998,"d":"145"},{"v":245.44,"d":"245"}]
[156,"岩松村",{"v":68.72,"d":"69"},{"v":339.11,"d":"339"},{"v":364.19,"d":"364"},{"v":468.89,"d":"469"},{"v":4.55,"d":"5"},{"v":30.54,"d":"31"}]
[157,"田子浦村",{"v":14.42,"d":"14"},0,{"v":737.66,"d":"738"},{"v":277.43,"d":"277"},{"v":4.13,"d":"4"},{"v":346.43,"d":"346"}]
[158,"鷹岡町",{"v":36.67,"d":"37"},{"v":293.56,"d":"294"},{"v":699.12,"d":"699"},{"v":293.49,"d":"293"},{"v":7.9,"d":"8"},{"v":187.85,"d":"188"}]
[159,"富士川町",{"v":444.36,"d":"444"},{"v":754.34,"d":"754"},{"v":272.3,"d":"272"},{"v":4.88,"d":"5"},0,{"v":74.53999999999999,"d":"75"}]
[160,"松野村",{"v":1240.61,"d":"1241"},{"v":1680.67,"d":"1681"},{"v":144.77,"d":"145"},{"v":6.37,"d":"6"},0,{"v":23.04,"d":"23"}]
[161,"磐田市",{"v":2654.82,"d":"2655"},{"v":12915.47,"d":"12915"},{"v":2728.47,"d":"2728"},{"v":13319.92,"d":"13320"},{"v":116.25,"d":"116"},{"v":959.0799999999999,"d":"959"}]
[162,"磐田市（旧）",{"v":48.55,"d":"49"},{"v":742.51,"d":"743"},{"v":1174.67,"d":"1175"},{"v":735.64,"d":"736"},{"v":73.17,"d":"73"},{"v":218.85999999999999,"d":"219"}]
[163,"大藤村",{"v":120.4,"d":"120"},{"v":706.42,"d":"706"},0,{"v":702.5,"d":"703"},0,{"v":0.14,"d":"0"}]
[164,"岩田村",{"v":53.07,"d":"53"},{"v":683.18,"d":"683"},0,{"v":683.18,"d":"683"},0,0]
[165,"長野村",{"v":12.21,"d":"12"},{"v":682.78,"d":"683"},0,{"v":682.78,"d":"683"},0,0]
[166,"向笠村",{"v":211.66,"d":"212"},{"v":981.17,"d":"981"},{"v":108.32,"d":"108"},{"v":952.53,"d":"953"},0,{"v":74.03,"d":"74"}]
[167,"御厨村",{"v":4.58,"d":"5"},{"v":335.29,"d":"335"},{"v":159.18,"d":"159"},{"v":341.55,"d":"342"},0,{"v":84.37,"d":"84"}]
[168,"南御厨村２－１",0,{"v":226.48,"d":"226"},0,{"v":225.6,"d":"226"},0,0]
[169,"田原村２－１",{"v":7.05,"d":"7"},{"v":227.72,"d":"228"},73,{"v":234.83,"d":"235"},0,{"v":26.65,"d":"27"}]
[170,"於保村２－２",{"v":13.64,"d":"14"},{"v":289.68,"d":"290"},{"v":19.01,"d":"19"},{"v":288.92,"d":"289"},0,{"v":8.01,"d":"8"}]
[171,"三川村２－２",{"v":1.37,"d":"1"},{"v":27.03,"d":"27"},0,{"v":9.33,"d":"9"},0,0]
[172,"福田町",{"v":40.01,"d":"40"},{"v":428.26,"d":"428"},{"v":310.14,"d":"310"},{"v":424.22,"d":"424"},{"v":3.71,"d":"4"},{"v":65.39,"d":"65"}]
[173,"豊浜村",{"v":11.96,"d":"12"},{"v":317.74,"d":"318"},{"v":60.61,"d":"61"},{"v":312.02,"d":"312"},0,0]
[174,"於保村２－１",{"v":13.44,"d":"13"},{"v":312.9,"d":"313"},{"v":59.98,"d":"60"},{"v":312.61,"d":"313"},0,{"v":60.21,"d":"60"}]
[175,"南御厨村２－２",0,{"v":165.94,"d":"166"},0,{"v":165.94,"d":"166"},0,0]
[176,"掛塚町",{"v":0.4,"d":"0"},{"v":649.61,"d":"650"},{"v":118.49,"d":"118"},{"v":651.3,"d":"651"},{"v":9.62,"d":"10"},{"v":12.26,"d":"12"}]
[177,"袖浦村",{"v":87.07,"d":"87"},{"v":807.87,"d":"808"},{"v":197.5,"d":"198"},{"v":899.05,"d":"899"},{"v":1.32,"d":"1"},{"v":177.26,"d":"177"}]
[178,"十束村２－１",0,{"v":284.34,"d":"284"},{"v":80.02,"d":"80"},{"v":286.88,"d":"287"},0,{"v":40.519999999999996,"d":"41"}]
[179,"富岡村（磐田市）",{"v":14.91,"d":"15"},{"v":801.07,"d":"801"},{"v":70.92,"d":"71"},{"v":799.08,"d":"799"},{"v":9.82,"d":"10"},{"v":50.68000000000001,"d":"51"}]
[180,"池田村",0,{"v":84.76,"d":"85"},{"v":60.03,"d":"60"},{"v":84.5,"d":"85"},0,{"v":6.76,"d":"7"}]
[181,"井通村",0,{"v":706.92,"d":"707"},{"v":163.83,"d":"164"},{"v":699.25,"d":"699"},{"v":12.89,"d":"13"},{"v":81.15,"d":"81"}]
[182,"十束村２－２",0,{"v":88.95,"d":"89"},{"v":17.04,"d":"17"},{"v":90.08,"d":"90"},{"v":5.72,"d":"6"},0]
[183,"広瀬村",{"v":143.6,"d":"144"},{"v":860.87,"d":"861"},0,{"v":1127.23,"d":"1127"},0,0]
[184,"野部村",{"v":878.95,"d":"879"},{"v":1218.37,"d":"1218"},{"v":45.35,"d":"45"},{"v":1361.73,"d":"1362"},0,{"v":42.34,"d":"42"}]
[185,"敷地村",{"v":991.94,"d":"992"},{"v":1285.64,"d":"1286"},{"v":10.37,"d":"10"},{"v":1249.15,"d":"1249"},0,{"v":10.44,"d":"10"}]
[186,"焼津市",{"v":429.49,"d":"429"},{"v":4312.39,"d":"4312"},{"v":2049.63,"d":"2050"},{"v":4899.96,"d":"4900"},{"v":102.19,"d":"102"},{"v":764.9499999999999,"d":"765"}]
[187,"焼津町",0,{"v":53.32,"d":"53"},{"v":440.04,"d":"440"},{"v":56.04,"d":"56"},{"v":78.82,"d":"79"},{"v":183.63,"d":"184"}]
[188,"豊田村",0,{"v":96.71,"d":"97"},{"v":419.78,"d":"420"},{"v":96.71,"d":"97"},0,{"v":162.85,"d":"163"}]
[189,"大富村",0,{"v":779.11,"d":"779"},{"v":135.3,"d":"135"},{"v":786.14,"d":"786"},0,{"v":64.92,"d":"65"}]
[190,"和田村（焼津市）",{"v":34.54,"d":"35"},{"v":529.32,"d":"529"},{"v":148.85,"d":"149"},{"v":567.74,"d":"568"},0,{"v":0.32,"d":"0"}]
[191,"小川村",{"v":6.76,"d":"7"},0,{"v":438.2,"d":"438"},{"v":47.46,"d":"47"},{"v":20.76,"d":"21"},{"v":54.11,"d":"54"}]
[192,"東益津村",{"v":357.98,"d":"358"},{"v":1180.81,"d":"1181"},{"v":60.41,"d":"60"},{"v":1191.57,"d":"1192"},0,{"v":23.59,"d":"24"}]
[193,"広幡村２－２",0,{"v":72.45,"d":"72"},0,{"v":72.45,"d":"72"},0,{"v":0.04,"d":"0"}]
[194,"西益津村２－２",0,{"v":41.13,"d":"41"},{"v":52.58,"d":"53"},{"v":41.13,"d":"41"},0,{"v":47.69,"d":"48"}]
[195,"静浜村",{"v":12.56,"d":"13"},{"v":518.03,"d":"518"},{"v":4.01,"d":"4"},{"v":634.88,"d":"635"},0,0]
[196,"相川村",0,{"v":610.82,"d":"611"},{"v":65.89,"d":"66"},{"v":747.54,"d":"748"},0,{"v":38.46,"d":"38"}]
[197,"吉永村（焼津市）",{"v":17.65,"d":"18"},{"v":430.71,"d":"431"},{"v":284.58,"d":"285"},{"v":658.29,"d":"658"},{"v":2.61,"d":"3"},{"v":189.33999999999997,"d":"189"}]
[198,"掛川市",{"v":10983.33,"d":"10983"},{"v":22665.03,"d":"22665"},0,0,{"v":109.47,"d":"109"},{"v":765.8199999999999,"d":"766"}]
[199,"掛川町",{"v":13.09,"d":"13"},{"v":77.86,"d":"78"},0,0,{"v":64.28999999999999,"d":"64"},{"v":168.04,"d":"168"}]
[200,"粟本村",{"v":400.68,"d":"401"},{"v":772.53,"d":"773"},0,0,0,{"v":35.23,"d":"35"}]
[201,"東山口村",{"v":439.26,"d":"439"},{"v":956.81,"d":"957"},0,0,0,{"v":15.379999999999999,"d":"15"}]
[202,"西南郷村",{"v":103.09,"d":"103"},{"v":220.16,"d":"220"},0,0,{"v":14.969999999999999,"d":"15"},{"v":33.59,"d":"34"}]
[203,"原田村（掛川市）",{"v":1704.38,"d":"1704"},{"v":2308.6,"d":"2309"},0,0,0,0]
[204,"原泉村２－１",{"v":2640.53,"d":"2641"},{"v":2398.39,"d":"2398"},0,0,0,0]
[205,"原谷村",{"v":89.88,"d":"90"},{"v":607.88,"d":"608"},0,0,0,{"v":27.98,"d":"28"}]
[206,"東山村",{"v":354.51,"d":"355"},{"v":605.72,"d":"606"},0,0,0,0]
[207,"日坂村２－１",{"v":405.52,"d":"406"},{"v":770.13,"d":"770"},0,0,0,0]
[208,"和田岡村",{"v":19.83,"d":"20"},{"v":600.16,"d":"600"},0,0,0,{"v":2.37,"d":"2"}]
[209,"西山口村",{"v":43.87,"d":"44"},{"v":299.97,"d":"300"},0,0,{"v":0.07,"d":"0"},{"v":107.89,"d":"108"}]
[210,"上内田村",{"v":355.23,"d":"355"},{"v":1067.26,"d":"1067"},0,0,0,0]
[211,"桜木村",{"v":812.78,"d":"813"},{"v":1623.59,"d":"1624"},0,0,{"v":2.07,"d":"2"},{"v":45.12,"d":"45"}]
[212,"曽我村",{"v":199.69,"d":"200"},{"v":495.79,"d":"496"},0,0,0,{"v":183.59,"d":"184"}]
[213,"西郷村",{"v":428.48,"d":"428"},{"v":1131.21,"d":"1131"},0,0,{"v":3.86,"d":"4"},{"v":15.28,"d":"15"}]
[214,"倉真村",{"v":1007.06,"d":"1007"},{"v":1642.42,"d":"1642"},0,0,0,0]
[215,"横須賀町",{"v":195.2,"d":"195"},{"v":1140.33,"d":"1140"},0,0,{"v":15.77,"d":"16"},{"v":33.84,"d":"34"}]
[216,"大淵村（掛川市）",{"v":285.53,"d":"286"},{"v":1285.6,"d":"1286"},0,0,0,0]
[217,"笠原村２－２",{"v":375.28,"d":"375"},{"v":512.52,"d":"513"},0,0,0,0]
[218,"佐束村",{"v":199.8,"d":"200"},{"v":701.42,"d":"701"},0,0,0,0]
[219,"土方村",{"v":583.19,"d":"583"},{"v":1346.12,"d":"1346"},0,0,0,0]
[220,"中村３－１",{"v":21.89,"d":"22"},{"v":397.29,"d":"397"},0,0,0,0]
[221,"大坂村",{"v":122.09,"d":"122"},{"v":618.2,"d":"618"},0,0,{"v":8.44,"d":"8"},0]
[222,"睦浜村",{"v":115.98,"d":"116"},{"v":410.81,"d":"411"},0,0,0,{"v":16.89,"d":"17"}]
[223,"千浜村",{"v":66.48,"d":"66"},{"v":638.43,"d":"638"},0,0,0,{"v":80.58,"d":"81"}]
[224,"中村３－２",0,{"v":35.85,"d":"36"},0,0,0,0]
[225,"藤枝市",{"v":9432.83,"d":"9433"},{"v":17145.39,"d":"17145"},{"v":2048.31,"d":"2048"},{"v":9006.44,"d":"9006"},{"v":136.79000000000002,"d":"137"},{"v":431.21000000000004,"d":"431"}]
[226,"藤枝町",{"v":55.5,"d":"56"},{"v":202.04,"d":"202"},{"v":321.38,"d":"321"},{"v":201.26,"d":"201"},{"v":36.489999999999995,"d":"36"},{"v":1.46,"d":"1"}]
[227,"青島町",{"v":209.26,"d":"209"},{"v":593.38,"d":"593"},{"v":617.49,"d":"617"},{"v":711.27,"d":"711"},{"v":94.33,"d":"94"},{"v":16.24,"d":"16"}]
[228,"葉梨村",{"v":942.41,"d":"942"},{"v":2481.55,"d":"2482"},{"v":154.55,"d":"155"},{"v":1953.82,"d":"1954"},0,0]
[229,"稲葉村",{"v":668.17,"d":"668"},{"v":1560.22,"d":"1560"},{"v":59.62,"d":"60"},{"v":1550.78,"d":"1551"},0,{"v":23.66,"d":"24"}]
[230,"瀬戸谷村",{"v":4238.92,"d":"4239"},{"v":5564.1,"d":"5564"},0,{"v":1032.05,"d":"1032"},0,0]
[231,"大洲村",0,{"v":493.8,"d":"494"},{"v":75.1,"d":"75"},{"v":572.59,"d":"573"},0,{"v":75.5,"d":"76"}]
[232,"高洲村",0,{"v":346.06,"d":"346"},{"v":376.93,"d":"377"},{"v":346.06,"d":"346"},0,{"v":141.14,"d":"141"}]
[233,"西益津村２－１",0,{"v":306.64,"d":"307"},{"v":75.21,"d":"75"},307,{"v":1.1,"d":"1"},0]
[234,"広幡村２－１",{"v":35.15,"d":"35"},{"v":451.51,"d":"452"},{"v":172.7,"d":"173"},{"v":453.08,"d":"453"},{"v":1.25,"d":"1"},{"v":123.8,"d":"124"}]
[235,"岡部町",{"v":1138.96,"d":"1139"},{"v":2204.63,"d":"2205"},{"v":195.3,"d":"195"},{"v":1863.31,"d":"1863"},{"v":3.62,"d":"4"},{"v":49.41,"d":"49"}]
[236,"朝比奈村（藤枝市）",{"v":2144.47,"d":"2144"},{"v":2941.45,"d":"2941"},0,{"v":15.22,"d":"15"},0,0]
[237,"御殿場市",{"v":6765.1,"d":"6765"},{"v":7199.1,"d":"7199"},{"v":1127.48,"d":"1127"},{"v":10166.71,"d":"10167"},{"v":26.520000000000003,"d":"27"},{"v":360.14,"d":"360"}]
[238,"御殿場町",{"v":1982.76,"d":"1983"},{"v":1828.88,"d":"1829"},{"v":591.74,"d":"592"},{"v":2781.17,"d":"2781"},{"v":23.95,"d":"24"},{"v":40.32,"d":"40"}]
[239,"富士岡村",{"v":1433.76,"d":"1434"},{"v":1704.17,"d":"1704"},{"v":244.5,"d":"245"},{"v":3115.09,"d":"3115"},0,{"v":168.24,"d":"168"}]
[240,"原里村",{"v":381.56,"d":"382"},{"v":1302.61,"d":"1303"},{"v":250.62,"d":"251"},{"v":1668.62,"d":"1669"},{"v":2.21,"d":"2"},{"v":145.81,"d":"146"}]
[241,"玉穂村",{"v":1014.92,"d":"1015"},{"v":808.76,"d":"809"},{"v":35.69,"d":"36"},{"v":801.85,"d":"802"},{"v":0.36,"d":"0"},0]
[242,"印野村",{"v":1591.78,"d":"1592"},{"v":423.17,"d":"423"},{"v":4.89,"d":"5"},{"v":509.67,"d":"510"},0,{"v":5.78,"d":"6"}]
[243,"高根村",{"v":360.32,"d":"360"},{"v":1032.07,"d":"1032"},{"v":0.04,"d":"0"},{"v":1190.85,"d":"1191"},0,0]
[244,"北郷村２－２",0,{"v":99.46,"d":"99"},0,{"v":99.46,"d":"99"},0,0]
[245,"袋井市",{"v":2436.36,"d":"2436"},{"v":8452.17,"d":"8452"},0,{"v":26.46,"d":"26"},{"v":60.88,"d":"61"},{"v":517.11,"d":"517"}]
[246,"袋井町",{"v":773.4,"d":"773"},{"v":1265.42,"d":"1265"},0,{"v":0.02,"d":"0"},{"v":36.53,"d":"37"},{"v":422.85,"d":"423"}]
[247,"久努村",{"v":182.29,"d":"182"},{"v":888.43,"d":"888"},0,0,{"v":4.199999999999999,"d":"4"},0]
[248,"今井村",0,{"v":450.92,"d":"451"},0,{"v":4.54,"d":"5"},0,{"v":18.23,"d":"18"}]
[249,"笠原村２－１",{"v":569.39,"d":"569"},{"v":1040.8,"d":"1041"},0,0,0,0]
[250,"田原村２－２",0,{"v":205.92,"d":"206"},0,{"v":3.08,"d":"3"},0,{"v":46.62,"d":"47"}]
[251,"三川村２－１",{"v":434.73,"d":"435"},{"v":1188.77,"d":"1189"},0,{"v":9.37,"d":"9"},0,0]
[252,"山梨町",0,{"v":200.27,"d":"200"},0,0,{"v":20.14,"d":"20"},{"v":0.44,"d":"0"}]
[253,"宇刈村",{"v":270.72,"d":"271"},{"v":582.42,"d":"582"},0,0,0,0]
[254,"東浅羽村",0,{"v":503.7,"d":"504"},0,0,0,0]
[255,"西浅羽村",0,{"v":503.76,"d":"504"},0,{"v":8.25,"d":"8"},0,{"v":6.53,"d":"7"}]
[256,"上浅羽村",{"v":97.4,"d":"97"},{"v":695.88,"d":"696"},0,0,0,{"v":22.42,"d":"22"}]
[257,"幸浦村",{"v":108.41,"d":"108"},{"v":925.88,"d":"926"},0,{"v":1.2,"d":"1"},0,0]
[258,"下田市",{"v":7773.34,"d":"7773"},{"v":3851.69,"d":"3852"},0,0,{"v":55.21,"d":"55"},{"v":13.54,"d":"14"}]
[259,"下田町",{"v":120.27,"d":"120"},{"v":4.59,"d":"5"},0,0,{"v":28.61,"d":"29"},{"v":5.6,"d":"6"}]
[260,"稲梓村",{"v":4599.33,"d":"4599"},{"v":2226.74,"d":"2227"},0,0,0,0]
[261,"稲生沢村",{"v":1192.81,"d":"1193"},{"v":347.35,"d":"347"},0,0,{"v":22.73,"d":"23"},{"v":7.94,"d":"8"}]
[262,"白浜村",{"v":480.19,"d":"480"},{"v":437.53,"d":"438"},0,0,0,0]
[263,"浜崎村",{"v":359.53,"d":"360"},{"v":118.2,"d":"118"},0,0,{"v":3.88,"d":"4"},0]
[264,"朝日村",{"v":1021.13,"d":"1021"},{"v":715.96,"d":"716"},0,0,0,0]
[265,"裾野市",{"v":8951.59,"d":"8952"},{"v":7061.71,"d":"7062"},{"v":1040.14,"d":"1040"},{"v":10521.56,"d":"10522"},{"v":21.299999999999997,"d":"21"},{"v":438.79999999999995,"d":"439"}]
[266,"小泉村",{"v":226.08,"d":"226"},{"v":293.68,"d":"294"},{"v":290.19,"d":"290"},{"v":344.25,"d":"344"},{"v":10.770000000000001,"d":"11"},{"v":18.41,"d":"18"}]
[267,"泉村",{"v":1643.49,"d":"1643"},{"v":1276.67,"d":"1277"},{"v":169.04,"d":"169"},{"v":1973.31,"d":"1973"},{"v":7.460000000000001,"d":"7"},{"v":28.58,"d":"29"}]
[268,"富岡村（裾野市）",{"v":2780.02,"d":"2780"},{"v":2885.09,"d":"2885"},{"v":507.58,"d":"508"},{"v":3508.09,"d":"3508"},{"v":1.28,"d":"1"},{"v":356.01,"d":"356"}]
[269,"深良村",{"v":1590.5,"d":"1591"},{"v":1511.94,"d":"1512"},25,{"v":1920.38,"d":"1920"},{"v":1.8,"d":"2"},0]
[270,"須山村",{"v":2711.5,"d":"2712"},{"v":1094.33,"d":"1094"},{"v":48.34,"d":"48"},{"v":2775.52,"d":"2776"},0,{"v":35.8,"d":"36"}]
[271,"湖西市",{"v":2272.1,"d":"2272"},{"v":4895.67,"d":"4896"},{"v":1163.57,"d":"1164"},{"v":5686.02,"d":"5686"},{"v":73.2,"d":"73"},{"v":359.43,"d":"359"}]
[272,"鷲津町",{"v":302.13,"d":"302"},{"v":749.18,"d":"749"},{"v":352.3,"d":"352"},{"v":842.81,"d":"843"},{"v":17.34,"d":"17"},{"v":85.50999999999999,"d":"86"}]
[273,"白須賀町",{"v":257.09,"d":"257"},{"v":912.33,"d":"912"},{"v":166.41,"d":"166"},{"v":974.68,"d":"975"},0,{"v":162.82,"d":"163"}]
[274,"新所村",{"v":350.05,"d":"350"},{"v":1049.35,"d":"1049"},{"v":195.87,"d":"196"},{"v":1041.92,"d":"1042"},{"v":4.75,"d":"5"},{"v":29.56,"d":"30"}]
[275,"入出村",{"v":22.15,"d":"22"},{"v":164.11,"d":"164"},0,{"v":163.65,"d":"164"},0,0]
[276,"知波田村",{"v":995.31,"d":"995"},{"v":1315.27,"d":"1315"},0,{"v":1771.89,"d":"1772"},0,0]
[277,"新居町",{"v":345.38,"d":"345"},{"v":705.44,"d":"705"},{"v":448.99,"d":"449"},{"v":891.07,"d":"891"},{"v":51.11,"d":"51"},{"v":81.53999999999999,"d":"82"}]
[278,"伊豆市",{"v":30324.8,"d":"30325"},{"v":16599.35,"d":"16599"},{"v":255.65,"d":"256"},{"v":6665.78,"d":"6666"},{"v":36.19,"d":"36"},{"v":15.73,"d":"16"}]
[279,"修善寺町",{"v":2907.19,"d":"2907"},{"v":3328.97,"d":"3329"},{"v":174.91,"d":"175"},{"v":3523.33,"d":"3523"},{"v":20.29,"d":"20"},{"v":15.73,"d":"16"}]
[280,"下狩野村",{"v":1005.19,"d":"1005"},{"v":1405.13,"d":"1405"},{"v":10.09,"d":"10"},{"v":1590.24,"d":"1590"},0,0]
[281,"北狩野村２－１",{"v":869.89,"d":"870"},{"v":1340.45,"d":"1340"},{"v":70.65,"d":"71"},{"v":1516.76,"d":"1517"},{"v":15.899999999999999,"d":"16"},0]
[282,"土肥町",{"v":3339.85,"d":"3340"},{"v":1554.57,"d":"1555"},0,0,0,0]
[283,"西豆村",{"v":813.62,"d":"814"},{"v":835.09,"d":"835"},0,0,0,0]
[284,"中狩野村",{"v":3656.96,"d":"3657"},{"v":762.21,"d":"762"},0,{"v":27.82,"d":"28"},0,0]
[285,"上狩野村",{"v":8573.58,"d":"8574"},{"v":2743.28,"d":"2743"},0,0,0,0]
[286,"上大見村",{"v":3582.58,"d":"3583"},{"v":1452.52,"d":"1453"},0,0,0,0]
[287,"中大見村",{"v":3987.5,"d":"3988"},{"v":2365.59,"d":"2366"},0,0,0,0]
[288,"下大見村",{"v":1588.44,"d":"1588"},{"v":811.54,"d":"812"},0,{"v":7.64,"d":"8"},0,0]
[289,"御前崎市",{"v":1708.87,"d":"1709"},{"v":5546.25,"d":"5546"},0,0,{"v":14.39,"d":"14"},{"v":38.53,"d":"39"}]
[290,"御前崎村",{"v":48.86,"d":"49"},{"v":55.46,"d":"55"},0,0,0,0]
[291,"白羽村",{"v":162.79,"d":"163"},{"v":700.85,"d":"701"},0,0,0,{"v":0.15,"d":"0"}]
[292,"池新田町",{"v":282.24,"d":"282"},{"v":1272.04,"d":"1272"},0,0,{"v":14.39,"d":"14"},{"v":38.38,"d":"38"}]
[293,"佐倉村",{"v":174.2,"d":"174"},{"v":742.79,"d":"743"},0,0,0,0]
[294,"比木村",{"v":259.14,"d":"259"},{"v":790.65,"d":"791"},0,0,0,0]
[295,"朝比奈村（御前崎市）",{"v":427.29,"d":"427"},{"v":1129.17,"d":"1129"},0,0,0,0]
[296,"新野村",{"v":354.35,"d":"354"},{"v":855.29,"d":"855"},0,0,0,0]
[297,"菊川市",{"v":2293.59,"d":"2294"},{"v":8189.27,"d":"8189"},0,0,{"v":43.73,"d":"44"},{"v":346.15999999999997,"d":"346"}]
[298,"堀之内町",{"v":191.26,"d":"191"},{"v":816.05,"d":"816"},0,0,{"v":7.88,"d":"8"},{"v":45.3,"d":"45"}]
[299,"六郷村",{"v":310.68,"d":"311"},{"v":1042.48,"d":"1042"},0,0,{"v":12.7,"d":"13"},{"v":67.37,"d":"67"}]
[300,"加茂村",21,{"v":204.84,"d":"205"},0,0,0,{"v":96.15,"d":"96"}]
[301,"内田村",{"v":110.24,"d":"110"},{"v":826.51,"d":"827"},0,0,0,{"v":0.34,"d":"0"}]
[302,"横地村",{"v":152.56,"d":"153"},{"v":579.24,"d":"579"},0,0,0,{"v":78.42,"d":"78"}]
[303,"河城村",{"v":679.1,"d":"679"},{"v":1877.26,"d":"1877"},0,0,0,{"v":6.27,"d":"6"}]
[304,"小笠村２－２",{"v":19.79,"d":"20"},{"v":109.71,"d":"110"},0,0,0,0]
[305,"小笠村２－１",{"v":545.05,"d":"545"},{"v":1287.58,"d":"1288"},0,0,{"v":8.5,"d":"9"},{"v":38.099999999999994,"d":"38"}]
[306,"南山村",{"v":217.68,"d":"218"},{"v":776.1,"d":"776"},0,0,0,{"v":4.08,"d":"4"}]
[307,"平田村",{"v":46.24,"d":"46"},{"v":610.46,"d":"610"},0,0,{"v":14.65,"d":"15"},{"v":10.12,"d":"10"}]
[308,"中村３－３",0,{"v":59.03,"d":"59"},0,0,0,0]
[309,"伊豆の国市",{"v":5283.18,"d":"5283"},{"v":5912.02,"d":"5912"},{"v":633.23,"d":"633"},{"v":8803.61,"d":"8804"},{"v":105.94999999999999,"d":"106"},{"v":30.71,"d":"31"}]
[310,"伊豆長岡町",{"v":505.32,"d":"505"},{"v":851.08,"d":"851"},{"v":226.57,"d":"227"},{"v":852.28,"d":"852"},{"v":74.3,"d":"74"},0]
[311,"江間村",{"v":237.69,"d":"238"},{"v":578.14,"d":"578"},0,{"v":578.14,"d":"578"},0,0]
[312,"韮山町",{"v":1785.85,"d":"1786"},{"v":2529.89,"d":"2530"},{"v":184.98,"d":"185"},{"v":3263.92,"d":"3264"},13,0]
[313,"大仁町",{"v":1192.52,"d":"1193"},{"v":783.73,"d":"784"},{"v":221.67,"d":"222"},{"v":1853.52,"d":"1854"},{"v":18.67,"d":"19"},{"v":30.71,"d":"31"}]
[314,"北狩野村２－２",{"v":1561.8,"d":"1562"},{"v":1169.17,"d":"1169"},0,{"v":2255.75,"d":"2256"},0,0]
[315,"牧之原市",{"v":2943.33,"d":"2943"},{"v":10025.49,"d":"10025"},0,0,{"v":66.81,"d":"67"},{"v":303.06,"d":"303"}]
[316,"相良町",{"v":345.43,"d":"345"},{"v":1450.13,"d":"1450"},0,0,{"v":28.169999999999998,"d":"28"},{"v":21.87,"d":"22"}]
[317,"地頭方村",{"v":234.46,"d":"234"},{"v":808.8,"d":"809"},0,0,{"v":4.48,"d":"4"},{"v":11.36,"d":"11"}]
[318,"菅山村",{"v":230.56,"d":"231"},{"v":785.09,"d":"785"},0,0,0,{"v":18.63,"d":"19"}]
[319,"萩間村２－１",{"v":715.32,"d":"715"},{"v":1982.78,"d":"1983"},0,0,0,{"v":251.07,"d":"251"}]
[320,"川崎町",{"v":343.2,"d":"343"},{"v":1470.73,"d":"1471"},0,0,{"v":34.16,"d":"34"},0]
[321,"勝間田村２－１",{"v":807.17,"d":"807"},{"v":2236.5,"d":"2237"},0,0,0,0]
[322,"坂部村",{"v":238.85,"d":"239"},{"v":1223.69,"d":"1224"},0,0,0,0]
[323,"萩間村２－２",{"v":28.32,"d":"28"},{"v":67.77,"d":"68"},0,0,0,{"v":0.13,"d":"0"}]
[324,"東伊豆町",{"v":5905.58,"d":"5906"},{"v":4043.86,"d":"4044"},0,0,0,0]
[325,"稲取町",{"v":581.74,"d":"582"},{"v":982.97,"d":"983"},0,0,0,0]
[326,"城東村",{"v":5323.83,"d":"5324"},{"v":3060.89,"d":"3061"},0,0,0,0]
[327,"河津町",{"v":8259.32,"d":"8259"},{"v":6480.26,"d":"6480"},0,0,{"v":17.99,"d":"18"},0]
[328,"上河津村",{"v":6209.81,"d":"6210"},{"v":3338.89,"d":"3339"},0,0,0,0]
[329,"下河津村",{"v":2049.5,"d":"2050"},{"v":3141.34,"d":"3141"},0,0,{"v":17.99,"d":"18"},0]
[330,"南伊豆町",{"v":8306.58,"d":"8307"},{"v":10440.3,"d":"10440"},0,0,0,0]
[331,"竹麻村",{"v":717.35,"d":"717"},{"v":1091.78,"d":"1092"},0,0,0,0]
[332,"南中村",{"v":1733.78,"d":"1734"},{"v":2282.74,"d":"2283"},0,0,0,0]
[333,"南崎村",{"v":756.51,"d":"757"},{"v":961.58,"d":"962"},0,0,0,0]
[334,"南上村",{"v":2459.02,"d":"2459"},{"v":2702.44,"d":"2702"},0,0,0,0]
[335,"三坂村",{"v":917.89,"d":"918"},{"v":1258.47,"d":"1258"},0,0,0,0]
[336,"三浜村",{"v":1709.87,"d":"1710"},{"v":2142.87,"d":"2143"},0,0,0,0]
[337,"松崎町",{"v":7148.91,"d":"7149"},{"v":4973.68,"d":"4974"},0,0,0,0]
[338,"松崎町（旧）",{"v":233.5,"d":"234"},{"v":466.43,"d":"466"},0,0,0,0]
[339,"岩科村",{"v":2714.44,"d":"2714"},{"v":2393.19,"d":"2393"},0,0,0,0]
[340,"中川村（松崎町）",{"v":4200.96,"d":"4201"},{"v":2113.81,"d":"2114"},0,0,0,0]
[341,"西伊豆町",{"v":9458.1,"d":"9458"},{"v":3914.16,"d":"3914"},0,0,0,0]
[342,"仁科村",{"v":5294.95,"d":"5295"},{"v":2743.46,"d":"2743"},0,0,0,0]
[343,"田子村",{"v":566.54,"d":"567"},{"v":629.83,"d":"630"},0,0,0,0]
[344,"安良里村",{"v":626.44,"d":"626"},{"v":94.99,"d":"95"},0,0,0,0]
[345,"宇久須村",{"v":2966.28,"d":"2966"},{"v":445.53,"d":"446"},0,0,0,0]
[346,"函南町",{"v":3857.81,"d":"3858"},{"v":3705.56,"d":"3706"},{"v":432.11,"d":"432"},{"v":6088.93,"d":"6089"},{"v":14.01,"d":"14"},{"v":31.27,"d":"31"}]
[347,"(函南町)",{"v":3857.81,"d":"3858"},{"v":3705.56,"d":"3706"},{"v":432.11,"d":"432"},{"v":6088.93,"d":"6089"},{"v":14.01,"d":"14"},{"v":31.27,"d":"31"}]
[348,"清水町",{"v":95.3,"d":"95"},{"v":6.97,"d":"7"},{"v":532.58,"d":"533"},{"v":347.48,"d":"347"},{"v":26.450000000000003,"d":"26"},{"v":102.28,"d":"102"}]
[349,"(清水町)",{"v":95.3,"d":"95"},{"v":6.97,"d":"7"},{"v":532.58,"d":"533"},{"v":347.48,"d":"347"},{"v":26.450000000000003,"d":"26"},{"v":102.28,"d":"102"}]
[350,"長泉町",{"v":1162.02,"d":"1162"},{"v":898.34,"d":"898"},{"v":765.42,"d":"765"},{"v":1515.27,"d":"1515"},{"v":38.11,"d":"38"},{"v":271.53,"d":"272"}]
[351,"(長泉町)",{"v":1162.02,"d":"1162"},{"v":898.34,"d":"898"},{"v":765.42,"d":"765"},{"v":1515.27,"d":"1515"},{"v":38.11,"d":"38"},{"v":271.53,"d":"272"}]
[352,"小山町",{"v":8280.55,"d":"8281"},{"v":4662.71,"d":"4663"},549,{"v":9712.77,"d":"9713"},{"v":15.12,"d":"15"},{"v":107.03,"d":"107"}]
[353,"小山町（旧）",{"v":2139.24,"d":"2139"},{"v":1801.43,"d":"1801"},{"v":291.26,"d":"291"},{"v":2588.65,"d":"2589"},{"v":6.22,"d":"6"},{"v":63.63,"d":"64"}]
[354,"足柄村",{"v":1506.8,"d":"1507"},{"v":1491.3,"d":"1491"},{"v":45.87,"d":"46"},{"v":1991.29,"d":"1991"},0,0]
[355,"須走村",{"v":2115.09,"d":"2115"},{"v":5.68,"d":"6"},{"v":113.47,"d":"113"},{"v":937.63,"d":"938"},{"v":6.15,"d":"6"},{"v":4.33,"d":"4"}]
[356,"北郷村２－１",{"v":2519.42,"d":"2519"},{"v":1364.3,"d":"1364"},{"v":98.41,"d":"98"},{"v":4195.2,"d":"4195"},{"v":2.75,"d":"3"},{"v":39.07,"d":"39"}]
[357,"吉田町",{"v":33.06,"d":"33"},{"v":1085.81,"d":"1086"},0,0,{"v":15.35,"d":"15"},{"v":196.38,"d":"196"}]
[358,"(吉田町)",{"v":33.06,"d":"33"},{"v":1085.81,"d":"1086"},0,0,{"v":15.35,"d":"15"},{"v":196.38,"d":"196"}]
[359,"川根本町",{"v":46361.48,"d":"46361"},{"v":14103.39,"d":"14103"},0,0,0,0]
[360,"中川根村",{"v":7051.88,"d":"7052"},{"v":3410.45,"d":"3410"},0,0,0,0]
[361,"徳山村",{"v":3385.94,"d":"3386"},{"v":4053.89,"d":"4054"},0,0,0,0]
[362,"上川根村",{"v":28612.13,"d":"28612"},{"v":2313.92,"d":"2314"},0,0,0,0]
[363,"東川根村",{"v":7311.53,"d":"7312"},{"v":4325.13,"d":"4325"},0,0,0,0]
[364,"森町",{"v":10363.61,"d":"10364"},{"v":11837.31,"d":"11837"},0,{"v":4.32,"d":"4"},{"v":24.5,"d":"25"},{"v":87.39999999999999,"d":"87"}]
[365,"森町（旧）",{"v":945.55,"d":"946"},{"v":1313.83,"d":"1314"},0,{"v":0.22,"d":"0"},{"v":24.5,"d":"25"},0]
[366,"飯田村（森町）",{"v":145.35,"d":"145"},{"v":724.15,"d":"724"},0,0,0,{"v":64.32,"d":"64"}]
[367,"園田村",{"v":84.98,"d":"85"},{"v":632.2,"d":"632"},0,0,0,{"v":23.08,"d":"23"}]
[368,"一宮村",{"v":755.9,"d":"756"},{"v":1155.56,"d":"1156"},0,{"v":4.1,"d":"4"},0,0]
[369,"天方村",{"v":3351.77,"d":"3352"},{"v":3455.12,"d":"3455"},0,0,0,0]
[370,"三倉村",{"v":4516.38,"d":"4516"},{"v":4375.89,"d":"4376"},0,0,0,0]
[371,"原泉村２－２",{"v":563.68,"d":"564"},{"v":180.56,"d":"181"},0,0,0,0]
[372]
[373]
[374]
[375]
[376]
[377]
[378]
[379]
[380]
[381]
[382]
[383]
[384]
[385]
[386]
[387]
[388]
[389]
[390]
[391]
[392]
[393]
[394]
[395]
[396]
[397]
[398]
[399]
[400]
[401]
[402]
[403]
[404]
[405]
[406]
[407]
[408]
[409]
[410]
[411]
[412]
[413]
[414]
[415]
[416]
[417]
[418]
[419]
[420]
[421]
[422]
[423]
[424]
[425]
[426]
[427]
[428]
[429]
[430]
[431]
[432]
[433]
[434]
[435]
[436]
[437]
[438]
[439]
[440]
[441]
[442]
[443]
[444]
[445]
[446]
[447]
[448]
[449]
[450]
[451]
[452]
[453]
[454]
[455]
[456]
[457]
[458]
[459]
[460]
[461]
[462]
[463]
[464]
[465]
[466]
[467]
[468]
[469]
[470]
[471]
[472]
[473]
[474]
[475]
[476]
[477]
[478]
[479]
[480]
[481]
[482]
[483]
[484]
[485]
[486]
[487]
[488]
[489]
[490]
[491]
[492]
[493]
[494]
[495]
[496]
[497]
[498]
[499]
[500]

{"sheet":"地域類型区分","index":5,"n_rows":501,"n_cols":10,"rows_kept":501,"hidden":true}
[]
[1,"静岡県","設定","されていません"]
[2,"静岡市","都市的地域","畑地型","静岡市",null,1,3,"都市的地域","畑地型"]
[3,"葵区(静岡市)","都市的地域","畑地型","葵区",null,1,3,"都市的地域","畑地型"]
[4,"静岡市２－１","都市的地域","畑地型","葵区","静岡市２－１",1,3,"都市的地域","畑地型"]
[5,"美和村","中間農業地域","畑地型","葵区","美和村",3,3,"中間農業地域","畑地型"]
[6,"服織村","都市的地域","畑地型","葵区","服織村",1,3,"都市的地域","畑地型"]
[7,"中藁科村","山間農業地域","畑地型","葵区","中藁科村",4,3,"山間農業地域","畑地型"]
[8,"南藁科村","中間農業地域","畑地型","葵区","南藁科村",3,3,"中間農業地域","畑地型"]
[9,"大河内村","山間農業地域","畑地型","葵区","大河内村",4,3,"山間農業地域","畑地型"]
[10,"梅ヶ島村","山間農業地域","畑地型","葵区","梅ヶ島村",4,3,"山間農業地域","畑地型"]
[11,"玉川村","山間農業地域","畑地型","葵区","玉川村",4,3,"山間農業地域","畑地型"]
[12,"井川村","山間農業地域","畑地型","葵区","井川村",4,3,"山間農業地域","畑地型"]
[13,"清沢村","山間農業地域","畑地型","葵区","清沢村",4,3,"山間農業地域","畑地型"]
[14,"大川村","山間農業地域","畑地型","葵区","大川村",4,3,"山間農業地域","畑地型"]
[15,"駿河区(静岡市)","都市的地域","畑地型","駿河区",null,1,3,"都市的地域","畑地型"]
[16,"静岡市2-2","都市的地域","畑地型","駿河区","静岡市2-2",1,3,"都市的地域","畑地型"]
[17,"有度村２－２","都市的地域","畑地型","駿河区","有度村２－２",1,3,"都市的地域","畑地型"]
[18,"清水区(静岡市)","都市的地域","畑地型","清水区",null,1,3,"都市的地域","畑地型"]
[19,"清水市","都市的地域","畑地型","清水区","清水市",1,3,"都市的地域","畑地型"]
[20,"飯田村清水区（静岡市）","都市的地域","畑地型","清水区","飯田村",1,3,"都市的地域","畑地型"]
[21,"高部村","都市的地域","畑地型","清水区","高部村",1,3,"都市的地域","畑地型"]
[22,"有度村２－１","都市的地域","畑地型","清水区","有度村２－１",1,3,"都市的地域","畑地型"]
[23,"興津町","都市的地域","畑地型","清水区","興津町",1,3,"都市的地域","畑地型"]
[24,"小島村","中間農業地域","畑地型","清水区","小島村",3,3,"中間農業地域","畑地型"]
[25,"両河内村","山間農業地域","畑地型","清水区","両河内村",4,3,"山間農業地域","畑地型"]
[26,"庵原村","中間農業地域","畑地型","清水区","庵原村",3,3,"中間農業地域","畑地型"]
[27,"袖師町","都市的地域","畑地型","清水区","袖師町",1,3,"都市的地域","畑地型"]
[28,"蒲原町","都市的地域","畑地型","清水区","蒲原町",1,3,"都市的地域","畑地型"]
[29,"由比町","中間農業地域","畑地型","清水区","由比町",3,3,"中間農業地域","畑地型"]
[30,"浜松市","都市的地域","畑地型","浜松市",null,1,3,"都市的地域","畑地型"]
[31,"中区(浜松市)","都市的地域","畑地型","中区",null,1,3,"都市的地域","畑地型"]
[32,"浜松市４－１","都市的地域","畑地型","中区","浜松市４－１",1,3,"都市的地域","畑地型"]
[33,"入野村２－１","都市的地域","畑地型","中区","入野村２－１",1,3,"都市的地域","畑地型"]
[34,"吉野村２－１","平地農業地域","畑地型","中区","吉野村２－１",2,3,"平地農業地域","畑地型"]
[35,"新津村２－１","平地農業地域","水田型","中区","新津村２－１",2,1,"平地農業地域","水田型"]
[36,"東区(浜松市)","都市的地域","田畑型","東区",null,1,2,"都市的地域","田畑型"]
[37,"浜松市４－３","都市的地域","畑地型","東区","浜松市４－３",1,3,"都市的地域","畑地型"]
[38,"飯田村２－１東区（浜松市）","都市的地域","畑地型","東区","飯田村２－１",1,3,"都市的地域","畑地型"]
[39,"和田村東区（浜松市）","都市的地域","田畑型","東区","和田村",1,2,"都市的地域","田畑型"]
[40,"長上村","都市的地域","田畑型","東区","長上村",1,2,"都市的地域","田畑型"]
[41,"積志村","都市的地域","田畑型","東区","積志村",1,2,"都市的地域","田畑型"]
[42,"笠井町","都市的地域","田畑型","東区","笠井町",1,2,"都市的地域","田畑型"]
[43,"豊西村","都市的地域","田畑型","東区","豊西村",1,2,"都市的地域","田畑型"]
[44,"中ノ町村","都市的地域","田畑型","東区","中ノ町村",1,2,"都市的地域","田畑型"]
[45,"三方原村２－１","都市的地域","畑地型","東区","三方原村２－１",1,3,"都市的地域","畑地型"]
[46,"西区(浜松市)","都市的地域","畑地型","西区",null,1,3,"都市的地域","畑地型"]
[47,"神久呂村","平地農業地域","畑地型","西区","神久呂村",2,3,"平地農業地域","畑地型"]
[48,"入野村２－２","都市的地域","田畑型","西区","入野村２－２",1,2,"都市的地域","田畑型"]
[49,"吉野村２－２","平地農業地域","畑地型","西区","吉野村２－２",2,3,"平地農業地域","畑地型"]
[50,"和地村","平地農業地域","畑地型","西区","和地村",2,3,"平地農業地域","畑地型"]
[51,"伊佐見村","平地農業地域","畑地型","西区","伊佐見村",2,3,"平地農業地域","畑地型"]
[52,"篠原村","都市的地域","畑地型","西区","篠原村",1,3,"都市的地域","畑地型"]
[53,"北庄内村","中間農業地域","畑地型","西区","北庄内村",3,3,"中間農業地域","畑地型"]
[54,"南庄内村","中間農業地域","畑地型","西区","南庄内村",3,3,"中間農業地域","畑地型"]
[55,"村櫛村","中間農業地域","畑地型","西区","村櫛村",3,3,"中間農業地域","畑地型"]
[56,"舞阪町","都市的地域","畑地型","西区","舞阪町",1,3,"都市的地域","畑地型"]
[57,"雄踏町","都市的地域","田畑型","西区","雄踏町",1,2,"都市的地域","田畑型"]
[58,"浜松市４－２","都市的地域","畑地型","西区","浜松市４－２",1,3,"都市的地域","畑地型"]
[59,"南区(浜松市)","都市的地域","田畑型","南区",null,1,2,"都市的地域","田畑型"]
[60,"浜松市４－４","都市的地域","田畑型","南区","浜松市４－４",1,2,"都市的地域","田畑型"]
[61,"芳川村","都市的地域","田畑型","南区","芳川村",1,2,"都市的地域","田畑型"]
[62,"飯田村２－１南区（浜松市）","都市的地域","田畑型","南区","飯田村２－１",1,2,"都市的地域","田畑型"]
[63,"河輪村","都市的地域","田畑型","南区","河輪村",1,2,"都市的地域","田畑型"]
[64,"五島村","都市的地域","田畑型","南区","五島村",1,2,"都市的地域","田畑型"]
[65,"新津村２－２","都市的地域","田畑型","南区","新津村２－２",1,2,"都市的地域","田畑型"]
[66,"可美村","都市的地域","田畑型","南区","可美村",1,2,"都市的地域","田畑型"]
[67,"北区(浜松市)","中間農業地域","畑地型","北区",null,3,3,"中間農業地域","畑地型"]
[68,"三方原村２－２","都市的地域","畑地型","北区","三方原村２－２",1,3,"都市的地域","畑地型"]
[69,"都田村","平地農業地域","畑地型","北区","都田村",2,3,"平地農業地域","畑地型"]
[70,"気賀町","平地農業地域","畑地型","北区","気賀町",2,3,"平地農業地域","畑地型"]
[71,"中川村北区（浜松市）","平地農業地域","田畑型","北区","中川村",2,2,"平地農業地域","田畑型"]
[72,"金指町","都市的地域","畑地型","北区","金指町",1,3,"都市的地域","畑地型"]
[73,"井伊谷村","平地農業地域","畑地型","北区","井伊谷村",2,3,"平地農業地域","畑地型"]
[74,"奥山村","中間農業地域","畑地型","北区","奥山村",3,3,"中間農業地域","畑地型"]
[75,"伊平村","山間農業地域","畑地型","北区","伊平村",4,3,"山間農業地域","畑地型"]
[76,"鎮玉村","中間農業地域","田畑型","北区","鎮玉村",3,2,"中間農業地域","田畑型"]
[77,"三ヶ日町","平地農業地域","畑地型","北区","三ヶ日町",2,3,"平地農業地域","畑地型"]
[78,"東浜名村","中間農業地域","畑地型","北区","東浜名村",3,3,"中間農業地域","畑地型"]
[79,"浜北区(浜松市)","都市的地域","畑地型","浜北区",null,1,3,"都市的地域","畑地型"]
[80,"小野口村","都市的地域","田畑型","浜北区","小野口村",1,2,"都市的地域","田畑型"]
[81,"北浜村","都市的地域","畑地型","浜北区","北浜村",1,3,"都市的地域","畑地型"]
[82,"竜池村","都市的地域","田畑型","浜北区","竜池村",1,2,"都市的地域","田畑型"]
[83,"中瀬村","都市的地域","畑地型","浜北区","中瀬村",1,3,"都市的地域","畑地型"]
[84,"赤佐村","都市的地域","田畑型","浜北区","赤佐村",1,2,"都市的地域","田畑型"]
[85,"麁玉村","平地農業地域","畑地型","浜北区","麁玉村",2,3,"平地農業地域","畑地型"]
[86,"天竜区(浜松市)","山間農業地域","畑地型","天竜区",null,4,3,"山間農業地域","畑地型"]
[87,"二俣町","都市的地域","畑地型","天竜区","二俣町",1,3,"都市的地域","畑地型"]
[88,"光明村","山間農業地域","畑地型","天竜区","光明村",4,3,"山間農業地域","畑地型"]
[89,"上阿多古村","山間農業地域","畑地型","天竜区","上阿多古村",4,3,"山間農業地域","畑地型"]
[90,"下阿多古村","中間農業地域","畑地型","天竜区","下阿多古村",3,3,"中間農業地域","畑地型"]
[91,"熊村","山間農業地域","畑地型","天竜区","熊村",4,3,"山間農業地域","畑地型"]
[92,"竜川村","山間農業地域","畑地型","天竜区","竜川村",4,3,"山間農業地域","畑地型"]
[93,"犬居町","山間農業地域","畑地型","天竜区","犬居町",4,3,"山間農業地域","畑地型"]
[94,"気多村","山間農業地域","畑地型","天竜区","気多村",4,3,"山間農業地域","畑地型"]
[95,"熊切村","山間農業地域","畑地型","天竜区","熊切村",4,3,"山間農業地域","畑地型"]
[96,"龍山村","山間農業地域","畑地型","天竜区","龍山村",4,3,"山間農業地域","畑地型"]
[97,"浦川町","山間農業地域","畑地型","天竜区","浦川町",4,3,"山間農業地域","畑地型"]
[98,"佐久間村","山間農業地域","畑地型","天竜区","佐久間村",4,3,"山間農業地域","畑地型"]
[99,"山香村","山間農業地域","畑地型","天竜区","山香村",4,3,"山間農業地域","畑地型"]
[100,"城西村","山間農業地域","畑地型","天竜区","城西村",4,3,"山間農業地域","畑地型"]
[101,"水窪町","山間農業地域","畑地型","天竜区","水窪町",4,3,"山間農業地域","畑地型"]
[102,"沼津市","都市的地域","畑地型","沼津市",null,1,3,"都市的地域","畑地型"]
[103,"沼津市（旧）","都市的地域","畑地型","沼津市","沼津市",1,3,"都市的地域","畑地型"]
[104,"愛鷹村","都市的地域","畑地型","沼津市","愛鷹村",1,3,"都市的地域","畑地型"]
[105,"大平村","平地農業地域","水田型","沼津市","大平村",2,1,"平地農業地域","水田型"]
[106,"内浦村","中間農業地域","畑地型","沼津市","内浦村",3,3,"中間農業地域","畑地型"]
[107,"西浦村","中間農業地域","畑地型","沼津市","西浦村",3,3,"中間農業地域","畑地型"]
[108,"原町","都市的地域","水田型","沼津市","原町",1,1,"都市的地域","水田型"]
[109,"浮島村２－１","平地農業地域","畑地型","沼津市","浮島村２－１",2,3,"平地農業地域","畑地型"]
[110,"戸田村","山間農業地域","畑地型","沼津市","戸田村",4,3,"山間農業地域","畑地型"]
[111,"熱海市","都市的地域","畑地型","熱海市",null,1,3,"都市的地域","畑地型"]
[112,"熱海市（旧）","都市的地域","畑地型","熱海市","熱海市",1,3,"都市的地域","畑地型"]
[113,"網代町","都市的地域","畑地型","熱海市","網代町",1,3,"都市的地域","畑地型"]
[114,"三島市","都市的地域","田畑型","三島市",null,1,2,"都市的地域","田畑型"]
[115,"三島市（旧）","都市的地域","畑地型","三島市","三島市",1,3,"都市的地域","畑地型"]
[116,"中郷村","都市的地域","水田型","三島市","中郷村",1,1,"都市的地域","水田型"]
[117,"富士宮市","都市的地域","畑地型","富士宮市",null,1,3,"都市的地域","畑地型"]
[118,"富士宮市（旧）","都市的地域","畑地型","富士宮市","富士宮市",1,3,"都市的地域","畑地型"]
[119,"富士根村","都市的地域","畑地型","富士宮市","富士根村",1,3,"都市的地域","畑地型"]
[120,"北山村","中間農業地域","畑地型","富士宮市","北山村",3,3,"中間農業地域","畑地型"]
[121,"上井出村","中間農業地域","畑地型","富士宮市","上井出村",3,3,"中間農業地域","畑地型"]
[122,"白糸村","中間農業地域","田畑型","富士宮市","白糸村",3,2,"中間農業地域","田畑型"]
[123,"上野村","平地農業地域","田畑型","富士宮市","上野村",2,2,"平地農業地域","田畑型"]
[124,"芝富村","中間農業地域","田畑型","富士宮市","芝富村",3,2,"中間農業地域","田畑型"]
[125,"柚野村","山間農業地域","田畑型","富士宮市","柚野村",4,2,"山間農業地域","田畑型"]
[126,"内房村","中間農業地域","田畑型","富士宮市","内房村",3,2,"中間農業地域","田畑型"]
[127,"伊東市","都市的地域","畑地型","伊東市",null,1,3,"都市的地域","畑地型"]
[128,"伊東市（旧）","都市的地域","畑地型","伊東市","伊東市",1,3,"都市的地域","畑地型"]
[129,"宇佐美村","中間農業地域","畑地型","伊東市","宇佐美村",3,3,"中間農業地域","畑地型"]
[130,"対島村","中間農業地域","畑地型","伊東市","対島村",3,3,"中間農業地域","畑地型"]
[131,"島田市","都市的地域","畑地型","島田市",null,1,3,"都市的地域","畑地型"]
[132,"島田市（旧）","都市的地域","水田型","島田市","島田市",1,1,"都市的地域","水田型"]
[133,"六合村","都市的地域","田畑型","島田市","六合村",1,2,"都市的地域","田畑型"]
[134,"大津村","中間農業地域","田畑型","島田市","大津村",3,2,"中間農業地域","田畑型"]
[135,"大長村","中間農業地域","畑地型","島田市","大長村",3,3,"中間農業地域","畑地型"]
[136,"伊久身村２－１","山間農業地域","畑地型","島田市","伊久身村２－１",4,3,"山間農業地域","畑地型"]
[137,"笹間村２－１","山間農業地域","畑地型","島田市","笹間村２－１",4,3,"山間農業地域","畑地型"]
[138,"初倉村２－１","平地農業地域","畑地型","島田市","初倉村２－１",2,3,"平地農業地域","畑地型"]
[139,"金谷町","都市的地域","畑地型","島田市","金谷町",1,3,"都市的地域","畑地型"]
[140,"五和村","中間農業地域","畑地型","島田市","五和村",3,3,"中間農業地域","畑地型"]
[141,"初倉村２－２","平地農業地域","畑地型","島田市","初倉村２－２",2,3,"平地農業地域","畑地型"]
[142,"勝間田村２－２","平地農業地域","畑地型","島田市","勝間田村２－２",2,3,"平地農業地域","畑地型"]
[143,"日坂村２－２","中間農業地域","畑地型","島田市","日坂村２－２",3,3,"中間農業地域","畑地型"]
[144,"下川根村","山間農業地域","畑地型","島田市","下川根村",4,3,"山間農業地域","畑地型"]
[145,"笹間村２－２","山間農業地域","畑地型","島田市","笹間村２－２",4,3,"山間農業地域","畑地型"]
[146,"伊久身村２－２","中間農業地域","畑地型","島田市","伊久身村２－２",3,3,"中間農業地域","畑地型"]
[147,"富士市","都市的地域","畑地型","富士市",null,1,3,"都市的地域","畑地型"]
[148,"吉原市","都市的地域","畑地型","富士市","吉原市",1,3,"都市的地域","畑地型"]
[149,"元吉原村","都市的地域","田畑型","富士市","元吉原村",1,2,"都市的地域","田畑型"]
[150,"原田村（富士市）","都市的地域","畑地型","富士市","原田村",1,3,"都市的地域","畑地型"]
[151,"吉永村（富士市）","山間農業地域","畑地型","富士市","吉永村",4,3,"山間農業地域","畑地型"]
[152,"須津村","中間農業地域","田畑型","富士市","須津村",3,2,"中間農業地域","田畑型"]
[153,"大淵村（富士市）","中間農業地域","畑地型","富士市","大淵村",3,3,"中間農業地域","畑地型"]
[154,"浮島村２－２","平地農業地域","田畑型","富士市","浮島村２－２",2,2,"平地農業地域","田畑型"]
[155,"富士町","都市的地域","田畑型","富士市","富士町",1,2,"都市的地域","田畑型"]
[156,"岩松村","都市的地域","畑地型","富士市","岩松村",1,3,"都市的地域","畑地型"]
[157,"田子浦村","都市的地域","水田型","富士市","田子浦村",1,1,"都市的地域","水田型"]
[158,"鷹岡町","都市的地域","畑地型","富士市","鷹岡町",1,3,"都市的地域","畑地型"]
[159,"富士川町","都市的地域","畑地型","富士市","富士川町",1,3,"都市的地域","畑地型"]
[160,"松野村","中間農業地域","田畑型","富士市","松野村",3,2,"中間農業地域","田畑型"]
[161,"磐田市","都市的地域","田畑型","磐田市",null,1,2,"都市的地域","田畑型"]
[162,"磐田市（旧）","都市的地域","田畑型","磐田市","磐田市",1,2,"都市的地域","田畑型"]
[163,"大藤村","平地農業地域","畑地型","磐田市","大藤村",2,3,"平地農業地域","畑地型"]
[164,"岩田村","平地農業地域","畑地型","磐田市","岩田村",2,3,"平地農業地域","畑地型"]
[165,"長野村","平地農業地域","水田型","磐田市","長野村",2,1,"平地農業地域","水田型"]
[166,"向笠村","平地農業地域","田畑型","磐田市","向笠村",2,2,"平地農業地域","田畑型"]
[167,"御厨村","都市的地域","水田型","磐田市","御厨村",1,1,"都市的地域","水田型"]
[168,"南御厨村２－１","平地農業地域","水田型","磐田市","南御厨村２－１",2,1,"平地農業地域","水田型"]
[169,"田原村２－１","都市的地域","水田型","磐田市","田原村２－１",1,1,"都市的地域","水田型"]
[170,"於保村２－２","平地農業地域","水田型","磐田市","於保村２－２",2,1,"平地農業地域","水田型"]
[171,"三川村２－２","平地農業地域","畑地型","磐田市","三川村２－２",2,3,"平地農業地域","畑地型"]
[172,"福田町","都市的地域","田畑型","磐田市","福田町",1,2,"都市的地域","田畑型"]
[173,"豊浜村","都市的地域","水田型","磐田市","豊浜村",1,1,"都市的地域","水田型"]
[174,"於保村２－１","平地農業地域","水田型","磐田市","於保村２－１",2,1,"平地農業地域","水田型"]
[175,"南御厨村２－２","平地農業地域","水田型","磐田市","南御厨村２－２",2,1,"平地農業地域","水田型"]
[176,"掛塚町","都市的地域","田畑型","磐田市","掛塚町",1,2,"都市的地域","田畑型"]
[177,"袖浦村","平地農業地域","田畑型","磐田市","袖浦村",2,2,"平地農業地域","田畑型"]
[178,"十束村２－１","都市的地域","田畑型","磐田市","十束村２－１",1,2,"都市的地域","田畑型"]
[179,"富岡村（磐田市）","都市的地域","田畑型","磐田市","富岡村",1,2,"都市的地域","田畑型"]
[180,"池田村","都市的地域","田畑型","磐田市","池田村",1,2,"都市的地域","田畑型"]
[181,"井通村","都市的地域","田畑型","磐田市","井通村",1,2,"都市的地域","田畑型"]
[182,"十束村２－２","都市的地域","田畑型","磐田市","十束村２－２",1,2,"都市的地域","田畑型"]
[183,"広瀬村","都市的地域","畑地型","磐田市","広瀬村",1,3,"都市的地域","畑地型"]
[184,"野部村","中間農業地域","田畑型","磐田市","野部村",3,2,"中間農業地域","田畑型"]
[185,"敷地村","中間農業地域","田畑型","磐田市","敷地村",3,2,"中間農業地域","田畑型"]
[186,"焼津市","都市的地域","水田型","焼津市",null,1,1,"都市的地域","水田型"]
[187,"焼津町","都市的地域","田畑型","焼津市","焼津町",1,2,"都市的地域","田畑型"]
[188,"豊田村","都市的地域","水田型","焼津市","豊田村",1,1,"都市的地域","水田型"]
[189,"大富村","都市的地域","水田型","焼津市","大富村",1,1,"都市的地域","水田型"]
[190,"和田村（焼津市）","都市的地域","水田型","焼津市","和田村",1,1,"都市的地域","水田型"]
[191,"小川村","都市的地域","水田型","焼津市","小川村",1,1,"都市的地域","水田型"]
[192,"東益津村","都市的地域","田畑型","焼津市","東益津村",1,2,"都市的地域","田畑型"]
[193,"広幡村２－２","都市的地域","水田型","焼津市","広幡村２－２",1,1,"都市的地域","水田型"]
[194,"西益津村２－２","都市的地域","田畑型","焼津市","西益津村２－２",1,2,"都市的地域","田畑型"]
[195,"静浜村","平地農業地域","水田型","焼津市","静浜村",2,1,"平地農業地域","水田型"]
[196,"相川村","都市的地域","水田型","焼津市","相川村",1,1,"都市的地域","水田型"]
[197,"吉永村（焼津市）","都市的地域","水田型","焼津市","吉永村",1,1,"都市的地域","水田型"]
[198,"掛川市","中間農業地域","田畑型","掛川市",null,3,2,"中間農業地域","田畑型"]
[199,"掛川町","都市的地域","田畑型","掛川市","掛川町",1,2,"都市的地域","田畑型"]
[200,"粟本村","都市的地域","田畑型","掛川市","粟本村",1,2,"都市的地域","田畑型"]
[201,"東山口村","平地農業地域","田畑型","掛川市","東山口村",2,2,"平地農業地域","田畑型"]
[202,"西南郷村","都市的地域","畑地型","掛川市","西南郷村",1,3,"都市的地域","畑地型"]
[203,"原田村（掛川市）","中間農業地域","田畑型","掛川市","原田村",3,2,"中間農業地域","田畑型"]
[204,"原泉村２－１","山間農業地域","畑地型","掛川市","原泉村２－１",4,3,"山間農業地域","畑地型"]
[205,"原谷村","都市的地域","田畑型","掛川市","原谷村",1,2,"都市的地域","田畑型"]
[206,"東山村","平地農業地域","畑地型","掛川市","東山村",2,3,"平地農業地域","畑地型"]
[207,"日坂村２－１","平地農業地域","畑地型","掛川市","日坂村２－１",2,3,"平地農業地域","畑地型"]
[208,"和田岡村","平地農業地域","田畑型","掛川市","和田岡村",2,2,"平地農業地域","田畑型"]
[209,"西山口村","都市的地域","田畑型","掛川市","西山口村",1,2,"都市的地域","田畑型"]
[210,"上内田村","平地農業地域","畑地型","掛川市","上内田村",2,3,"平地農業地域","畑地型"]
[211,"桜木村","中間農業地域","田畑型","掛川市","桜木村",3,2,"中間農業地域","田畑型"]
[212,"曽我村","平地農業地域","田畑型","掛川市","曽我村",2,2,"平地農業地域","田畑型"]
[213,"西郷村","都市的地域","田畑型","掛川市","西郷村",1,2,"都市的地域","田畑型"]
[214,"倉真村","中間農業地域","田畑型","掛川市","倉真村",3,2,"中間農業地域","田畑型"]
[215,"横須賀町","中間農業地域","田畑型","掛川市","横須賀町",3,2,"中間農業地域","田畑型"]
[216,"大淵村（掛川市）","平地農業地域","田畑型","掛川市","大淵村",2,2,"平地農業地域","田畑型"]
[217,"笠原村２－２","平地農業地域","田畑型","掛川市","笠原村２－２",2,2,"平地農業地域","田畑型"]
[218,"佐束村","平地農業地域","田畑型","掛川市","佐束村",2,2,"平地農業地域","田畑型"]
[219,"土方村","平地農業地域","田畑型","掛川市","土方村",2,2,"平地農業地域","田畑型"]
[220,"中村３－１","平地農業地域","田畑型","掛川市","中村３－１",2,2,"平地農業地域","田畑型"]
[221,"大坂村","都市的地域","田畑型","掛川市","大坂村",1,2,"都市的地域","田畑型"]
[222,"睦浜村","平地農業地域","畑地型","掛川市","睦浜村",2,3,"平地農業地域","畑地型"]
[223,"千浜村","平地農業地域","田畑型","掛川市","千浜村",2,2,"平地農業地域","田畑型"]
[224,"中村３－２","都市的地域","水田型","掛川市","中村３－２",1,1,"都市的地域","水田型"]
[225,"藤枝市","都市的地域","田畑型","藤枝市",null,1,2,"都市的地域","田畑型"]
[226,"藤枝町","都市的地域","畑地型","藤枝市","藤枝町",1,3,"都市的地域","畑地型"]
[227,"青島町","都市的地域","田畑型","藤枝市","青島町",1,2,"都市的地域","田畑型"]
[228,"葉梨村","都市的地域","畑地型","藤枝市","葉梨村",1,3,"都市的地域","畑地型"]
[229,"稲葉村","中間農業地域","畑地型","藤枝市","稲葉村",3,3,"中間農業地域","畑地型"]
[230,"瀬戸谷村","中間農業地域","畑地型","藤枝市","瀬戸谷村",3,3,"中間農業地域","畑地型"]
[231,"大洲村","都市的地域","水田型","藤枝市","大洲村",1,1,"都市的地域","水田型"]
[232,"高洲村","都市的地域","水田型","藤枝市","高洲村",1,1,"都市的地域","水田型"]
[233,"西益津村２－１","都市的地域","水田型","藤枝市","西益津村２－１",1,1,"都市的地域","水田型"]
[234,"広幡村２－１","都市的地域","田畑型","藤枝市","広幡村２－１",1,2,"都市的地域","田畑型"]
[235,"岡部町","中間農業地域","畑地型","藤枝市","岡部町",3,3,"中間農業地域","畑地型"]
[236,"朝比奈村（藤枝市）","中間農業地域","畑地型","藤枝市","朝比奈村",3,3,"中間農業地域","畑地型"]
[237,"御殿場市","都市的地域","水田型","御殿場市",null,1,1,"都市的地域","水田型"]
[238,"御殿場町","都市的地域","水田型","御殿場市","御殿場町",1,1,"都市的地域","水田型"]
[239,"富士岡村","都市的地域","田畑型","御殿場市","富士岡村",1,2,"都市的地域","田畑型"]
[240,"原里村","都市的地域","田畑型","御殿場市","原里村",1,2,"都市的地域","田畑型"]
[241,"玉穂村","中間農業地域","水田型","御殿場市","玉穂村",3,1,"中間農業地域","水田型"]
[242,"印野村","山間農業地域","田畑型","御殿場市","印野村",4,2,"山間農業地域","田畑型"]
[243,"高根村","平地農業地域","水田型","御殿場市","高根村",2,1,"平地農業地域","水田型"]
[244,"北郷村２－２","平地農業地域","水田型","御殿場市","北郷村２－２",2,1,"平地農業地域","水田型"]
[245,"袋井市","都市的地域","田畑型","袋井市",null,1,2,"都市的地域","田畑型"]
[246,"袋井町","都市的地域","田畑型","袋井市","袋井町",1,2,"都市的地域","田畑型"]
[247,"久努村","都市的地域","水田型","袋井市","久努村",1,1,"都市的地域","水田型"]
[248,"今井村","平地農業地域","水田型","袋井市","今井村",2,1,"平地農業地域","水田型"]
[249,"笠原村２－１","平地農業地域","田畑型","袋井市","笠原村２－１",2,2,"平地農業地域","田畑型"]
[250,"田原村２－２","都市的地域","水田型","袋井市","田原村２－２",1,1,"都市的地域","水田型"]
[251,"三川村２－１","平地農業地域","田畑型","袋井市","三川村２－１",2,2,"平地農業地域","田畑型"]
[252,"山梨町","都市的地域","水田型","袋井市","山梨町",1,1,"都市的地域","水田型"]
[253,"宇刈村","都市的地域","水田型","袋井市","宇刈村",1,1,"都市的地域","水田型"]
[254,"東浅羽村","平地農業地域","水田型","袋井市","東浅羽村",2,1,"平地農業地域","水田型"]
[255,"西浅羽村","平地農業地域","水田型","袋井市","西浅羽村",2,1,"平地農業地域","水田型"]
[256,"上浅羽村","都市的地域","田畑型","袋井市","上浅羽村",1,2,"都市的地域","田畑型"]
[257,"幸浦村","平地農業地域","水田型","袋井市","幸浦村",2,1,"平地農業地域","水田型"]
[258,"下田市","中間農業地域","田畑型","下田市",null,3,2,"中間農業地域","田畑型"]
[259,"下田町","都市的地域","畑地型","下田市","下田町",1,3,"都市的地域","畑地型"]
[260,"稲梓村","山間農業地域","田畑型","下田市","稲梓村",4,2,"山間農業地域","田畑型"]
[261,"稲生沢村","中間農業地域","畑地型","下田市","稲生沢村",3,3,"中間農業地域","畑地型"]
[262,"白浜村","中間農業地域","畑地型","下田市","白浜村",3,3,"中間農業地域","畑地型"]
[263,"浜崎村","中間農業地域","畑地型","下田市","浜崎村",3,3,"中間農業地域","畑地型"]
[264,"朝日村","中間農業地域","田畑型","下田市","朝日村",3,2,"中間農業地域","田畑型"]
[265,"裾野市","中間農業地域","田畑型","裾野市",null,3,2,"中間農業地域","田畑型"]
[266,"小泉村","都市的地域","田畑型","裾野市","小泉村",1,2,"都市的地域","田畑型"]
[267,"泉村","都市的地域","田畑型","裾野市","泉村",1,2,"都市的地域","田畑型"]
[268,"富岡村（裾野市）","中間農業地域","田畑型","裾野市","富岡村",3,2,"中間農業地域","田畑型"]
[269,"深良村","中間農業地域","田畑型","裾野市","深良村",3,2,"中間農業地域","田畑型"]
[270,"須山村","山間農業地域","畑地型","裾野市","須山村",4,3,"山間農業地域","畑地型"]
[271,"湖西市","都市的地域","畑地型","湖西市",null,1,3,"都市的地域","畑地型"]
[272,"鷲津町","都市的地域","田畑型","湖西市","鷲津町",1,2,"都市的地域","田畑型"]
[273,"白須賀町","平地農業地域","畑地型","湖西市","白須賀町",2,3,"平地農業地域","畑地型"]
[274,"新所村","都市的地域","田畑型","湖西市","新所村",1,2,"都市的地域","田畑型"]
[275,"入出村","都市的地域","畑地型","湖西市","入出村",1,3,"都市的地域","畑地型"]
[276,"知波田村","中間農業地域","畑地型","湖西市","知波田村",3,3,"中間農業地域","畑地型"]
[277,"新居町","都市的地域","畑地型","湖西市","新居町",1,3,"都市的地域","畑地型"]
[278,"伊豆市","山間農業地域","田畑型","伊豆市",null,4,2,"山間農業地域","田畑型"]
[279,"修善寺町","中間農業地域","田畑型","伊豆市","修善寺町",3,2,"中間農業地域","田畑型"]
[280,"下狩野村","中間農業地域","水田型","伊豆市","下狩野村",3,1,"中間農業地域","水田型"]
[281,"北狩野村２－１","中間農業地域","田畑型","伊豆市","北狩野村２－１",3,2,"中間農業地域","田畑型"]
[282,"土肥町","山間農業地域","田畑型","伊豆市","土肥町",4,2,"山間農業地域","田畑型"]
[283,"西豆村","中間農業地域","畑地型","伊豆市","西豆村",3,3,"中間農業地域","畑地型"]
[284,"中狩野村","山間農業地域","田畑型","伊豆市","中狩野村",4,2,"山間農業地域","田畑型"]
[285,"上狩野村","山間農業地域","田畑型","伊豆市","上狩野村",4,2,"山間農業地域","田畑型"]
[286,"上大見村","山間農業地域","水田型","伊豆市","上大見村",4,1,"山間農業地域","水田型"]
[287,"中大見村","中間農業地域","田畑型","伊豆市","中大見村",3,2,"中間農業地域","田畑型"]
[288,"下大見村","中間農業地域","田畑型","伊豆市","下大見村",3,2,"中間農業地域","田畑型"]
[289,"御前崎市","平地農業地域","畑地型","御前崎市",null,2,3,"平地農業地域","畑地型"]
[290,"御前崎村","都市的地域","畑地型","御前崎市","御前崎村",1,3,"都市的地域","畑地型"]
[291,"白羽村","都市的地域","畑地型","御前崎市","白羽村",1,3,"都市的地域","畑地型"]
[292,"池新田町","都市的地域","畑地型","御前崎市","池新田町",1,3,"都市的地域","畑地型"]
[293,"佐倉村","都市的地域","畑地型","御前崎市","佐倉村",1,3,"都市的地域","畑地型"]
[294,"比木村","平地農業地域","田畑型","御前崎市","比木村",2,2,"平地農業地域","田畑型"]
[295,"朝比奈村（御前崎市）","平地農業地域","田畑型","御前崎市","朝比奈村",2,2,"平地農業地域","田畑型"]
[296,"新野村","平地農業地域","田畑型","御前崎市","新野村",2,2,"平地農業地域","田畑型"]
[297,"菊川市","平地農業地域","田畑型","菊川市",null,2,2,"平地農業地域","田畑型"]
[298,"堀之内町","都市的地域","畑地型","菊川市","堀之内町",1,3,"都市的地域","畑地型"]
[299,"六郷村","都市的地域","畑地型","菊川市","六郷村",1,3,"都市的地域","畑地型"]
[300,"加茂村","都市的地域","田畑型","菊川市","加茂村",1,2,"都市的地域","田畑型"]
[301,"内田村","平地農業地域","田畑型","菊川市","内田村",2,2,"平地農業地域","田畑型"]
[302,"横地村","平地農業地域","田畑型","菊川市","横地村",2,2,"平地農業地域","田畑型"]
[303,"河城村","平地農業地域","畑地型","菊川市","河城村",2,3,"平地農業地域","畑地型"]
[304,"小笠村２－２","平地農業地域","畑地型","菊川市","小笠村２－２",2,3,"平地農業地域","畑地型"]
[305,"小笠村２－１","平地農業地域","田畑型","菊川市","小笠村２－１",2,2,"平地農業地域","田畑型"]
[306,"南山村","平地農業地域","田畑型","菊川市","南山村",2,2,"平地農業地域","田畑型"]
[307,"平田村","平地農業地域","水田型","菊川市","平田村",2,1,"平地農業地域","水田型"]
[308,"中村３－３","平地農業地域","水田型","菊川市","中村３－３",2,1,"平地農業地域","水田型"]
[309,"伊豆の国市","都市的地域","田畑型","伊豆の国市",null,1,2,"都市的地域","田畑型"]
[310,"伊豆長岡町","都市的地域","田畑型","伊豆の国市","伊豆長岡町",1,2,"都市的地域","田畑型"]
[311,"江間村","平地農業地域","田畑型","伊豆の国市","江間村",2,2,"平地農業地域","田畑型"]
[312,"韮山町","都市的地域","田畑型","伊豆の国市","韮山町",1,2,"都市的地域","田畑型"]
[313,"大仁町","都市的地域","田畑型","伊豆の国市","大仁町",1,2,"都市的地域","田畑型"]
[314,"北狩野村２－２","中間農業地域","田畑型","伊豆の国市","北狩野村２－２",3,2,"中間農業地域","田畑型"]
[315,"牧之原市","平地農業地域","畑地型","牧之原市",null,2,3,"平地農業地域","畑地型"]
[316,"相良町","平地農業地域","畑地型","牧之原市","相良町",2,3,"平地農業地域","畑地型"]
[317,"地頭方村","平地農業地域","畑地型","牧之原市","地頭方村",2,3,"平地農業地域","畑地型"]
[318,"菅山村","平地農業地域","畑地型","牧之原市","菅山村",2,3,"平地農業地域","畑地型"]
[319,"萩間村２－１","平地農業地域","畑地型","牧之原市","萩間村２－１",2,3,"平地農業地域","畑地型"]
[320,"川崎町","都市的地域","畑地型","牧之原市","川崎町",1,3,"都市的地域","畑地型"]
[321,"勝間田村２－１","平地農業地域","畑地型","牧之原市","勝間田村２－１",2,3,"平地農業地域","畑地型"]
[322,"坂部村","平地農業地域","畑地型","牧之原市","坂部村",2,3,"平地農業地域","畑地型"]
[323,"萩間村２－２","平地農業地域","畑地型","牧之原市","萩間村２－２",2,3,"平地農業地域","畑地型"]
[324,"東伊豆町","中間農業地域","畑地型","東伊豆町",null,3,3,"中間農業地域","畑地型"]
[325,"稲取町","中間農業地域","畑地型","東伊豆町","稲取町",3,3,"中間農業地域","畑地型"]
[326,"城東村","中間農業地域","畑地型","東伊豆町","城東村",3,3,"中間農業地域","畑地型"]
[327,"河津町","山間農業地域","畑地型","河津町",null,4,3,"山間農業地域","畑地型"]
[328,"上河津村","山間農業地域","田畑型","河津町","上河津村",4,2,"山間農業地域","田畑型"]
[329,"下河津村","中間農業地域","畑地型","河津町","下河津村",3,3,"中間農業地域","畑地型"]
[330,"南伊豆町","中間農業地域","田畑型","南伊豆町",null,3,2,"中間農業地域","田畑型"]
[331,"竹麻村","中間農業地域","田畑型","南伊豆町","竹麻村",3,2,"中間農業地域","田畑型"]
[332,"南中村","中間農業地域","田畑型","南伊豆町","南中村",3,2,"中間農業地域","田畑型"]
[333,"南崎村","中間農業地域","畑地型","南伊豆町","南崎村",3,3,"中間農業地域","畑地型"]
[334,"南上村","中間農業地域","田畑型","南伊豆町","南上村",3,2,"中間農業地域","田畑型"]
[335,"三坂村","中間農業地域","畑地型","南伊豆町","三坂村",3,3,"中間農業地域","畑地型"]
[336,"三浜村","中間農業地域","畑地型","南伊豆町","三浜村",3,3,"中間農業地域","畑地型"]
[337,"松崎町","山間農業地域","田畑型","松崎町",null,4,2,"山間農業地域","田畑型"]
[338,"松崎町（旧）","都市的地域","田畑型","松崎町","松崎町",1,2,"都市的地域","田畑型"]
[339,"岩科村","山間農業地域","田畑型","松崎町","岩科村",4,2,"山間農業地域","田畑型"]
[340,"中川村（松崎町）","山間農業地域","田畑型","松崎町","中川村",4,2,"山間農業地域","田畑型"]
[341,"西伊豆町","山間農業地域","田畑型","西伊豆町",null,4,2,"山間農業地域","田畑型"]
[342,"仁科村","山間農業地域","田畑型","西伊豆町","仁科村",4,2,"山間農業地域","田畑型"]
[343,"田子村","中間農業地域","畑地型","西伊豆町","田子村",3,3,"中間農業地域","畑地型"]
[344,"安良里村","山間農業地域","畑地型","西伊豆町","安良里村",4,3,"山間農業地域","畑地型"]
[345,"宇久須村","山間農業地域","田畑型","西伊豆町","宇久須村",4,2,"山間農業地域","田畑型"]
[346,"函南町","都市的地域","田畑型","函南町",null,1,2,"都市的地域","田畑型"]
[347,"(函南町)","都市的地域","田畑型",null,null,1,2,"都市的地域","田畑型"]
[348,"清水町","都市的地域","水田型","清水町",null,1,1,"都市的地域","水田型"]
[349,"(清水町)","都市的地域","水田型",null,null,1,1,"都市的地域","水田型"]
[350,"長泉町","都市的地域","畑地型","長泉町",null,1,3,"都市的地域","畑地型"]
[351,"(長泉町)","都市的地域","畑地型",null,null,1,3,"都市的地域","畑地型"]
[352,"小山町","中間農業地域","水田型","小山町",null,3,1,"中間農業地域","水田型"]
[353,"小山町（旧）","中間農業地域","田畑型","小山町","小山町",3,2,"中間農業地域","田畑型"]
[354,"足柄村","中間農業地域","水田型","小山町","足柄村",3,1,"中間農業地域","水田型"]
[355,"須走村","中間農業地域","畑地型","小山町","須走村",3,3,"中間農業地域","畑地型"]
[356,"北郷村２－１","中間農業地域","水田型","小山町","北郷村２－１",3,1,"中間農業地域","水田型"]
[357,"吉田町","都市的地域","水田型","吉田町",null,1,1,"都市的地域","水田型"]
[358,"(吉田町)","都市的地域","水田型","吉田町",null,1,1,"都市的地域","水田型"]
[359,"川根本町","山間農業地域","畑地型","川根本町",null,4,3,"山間農業地域","畑地型"]
[360,"中川根村","山間農業地域","畑地型","川根本町","中川根村",4,3,"山間農業地域","畑地型"]
[361,"徳山村","山間農業地域","畑地型","川根本町","徳山村",4,3,"山間農業地域","畑地型"]
[362,"上川根村","山間農業地域","畑地型","川根本町","上川根村",4,3,"山間農業地域","畑地型"]
[363,"東川根村","山間農業地域","畑地型","川根本町","東川根村",4,3,"山間農業地域","畑地型"]
[364,"森町","中間農業地域","田畑型","森町",null,3,2,"中間農業地域","田畑型"]
[365,"森町（旧）","中間農業地域","田畑型","森町","森町",3,2,"中間農業地域","田畑型"]
[366,"飯田村（森町）","平地農業地域","水田型","森町","飯田村",2,1,"平地農業地域","水田型"]
[367,"園田村","平地農業地域","田畑型","森町","園田村",2,2,"平地農業地域","田畑型"]
[368,"一宮村","中間農業地域","田畑型","森町","一宮村",3,2,"中間農業地域","田畑型"]
[369,"天方村","山間農業地域","畑地型","森町","天方村",4,3,"山間農業地域","畑地型"]
[370,"三倉村","山間農業地域","畑地型","森町","三倉村",4,3,"山間農業地域","畑地型"]
[371,"原泉村２－２","山間農業地域","畑地型","森町","原泉村２－２",4,3,"山間農業地域","畑地型"]
[372]
[373]
[374]
[375]
[376]
[377]
[378]
[379]
[380]
[381]
[382]
[383]
[384]
[385]
[386]
[387]
[388]
[389]
[390]
[391]
[392]
[393]
[394]
[395]
[396]
[397]
[398]
[399]
[400]
[401]
[402]
[403]
[404]
[405]
[406]
[407]
[408]
[409]
[410]
[411]
[412]
[413]
[414]
[415]
[416]
[417]
[418]
[419]
[420]
[421]
[422]
[423]
[424]
[425]
[426]
[427]
[428]
[429]
[430]
[431]
[432]
[433]
[434]
[435]
[436]
[437]
[438]
[439]
[440]
[441]
[442]
[443]
[444]
[445]
[446]
[447]
[448]
[449]
[450]
[451]
[452]
[453]
[454]
[455]
[456]
[457]
[458]
[459]
[460]
[461]
[462]
[463]
[464]
[465]
[466]
[467]
[468]
[469]
[470]
[471]
[472]
[473]
[474]
[475]
[476]
[477]
[478]
[479]
[480]
[481]
[482]
[483]
[484]
[485]
[486]
[487]
[488]
[489]
[490]
[491]
[492]
[493]
[494]
[495]
[496]
[497]
[498]
[499]
[500]

{"sheet":"元データ","index":6,"n_rows":5500,"n_cols":30,"rows_kept":4500,"cut":true,"hidden":true,"merged":[[0,10,0,11],[0,18,0,19],[0,21,0,22],[1,10,1,11],[1,18,1,19],[1,21,1,22],[2,10,2,15],[2,16,2,20],[2,21,2,23],[3,10,3,13],[3,14,3,15],[3,16,3,17],[3,18,3,20],[3,21,3,23]],"bounds":{"rows_first":2000,"rows_last":500,"rows_between":2000,"halvings":0}}
["注意事項",null,"･･･","空欄追記:『調査外(湖､無人島等)』",{"$nulls":21},"別紙 2",null,"市区町村名","旧市区町村","農業集落"]
[null,null,"･･･","全角変換:『2-1』⇒『2-1』",{"$nulls":6},{"$f":"IF(AB2=0,\"\",AB2)","v":""},{"$nulls":7},{"$f":"IF(AC2=0,\"\",AC2)","v":"    "},{"$nulls":7},"神奈川県",{"$f":"kadft!F5","v":{"v":0,"d":"0 "}},{"$f":"kadft!J5","v":"    "},{"$f":"#REF!","v":{"$error":"#REF!"}}]
[{"$nulls":10},"市町村",{"$nulls":5},"旧市区町村",{"$nulls":4},"農業集落"]
["農業集落","県","市区町村","旧市区町村","農業集落","県名","市町村名","旧市町村名","農業集落名",null,"判定１",{"$nulls":3},"抽出１",null,"判定2",null,"抽出2",null,null,"抽出3",{"$nulls":3},"通し","都県名","市区町村名","旧区市町村名","農業集落名"]
["ｺｰﾄﾞ","番号","番号","番号","番号",{"$nulls":5},"判定","市区町村名","連番","補記","抽出","名","判定","名","抽出","旧区市町村名","連番","抽出","農業集落名","連番",null,"№"]
[{"$nulls":25},0,null,null,"    "]
[2200000000,"22",{"v":0,"d":"000"},{"v":0,"d":"00"},{"v":0,"d":"000"},"静岡県",{"$nulls":4},{"$f":"IF(AND($C7>0,$H7=\"\"),\"ﾘｽﾄ１\",\"\")","v":""},{"$f":"IF(K7=\"ﾘｽﾄ１\",G7,\"\")","v":""},{"$f":"IF(K7=\"\",\"\",COUNTIF($K7:K$7,\"ﾘｽﾄ１\"))","v":""},{"$f":"IF(AND(D7=0,E7>0),\"同一区\",\"\")","v":""},{"$f":"IF(AND(EXACT($K$2,G7),H7>0),\"該当１\",\"\")","v":""},{"$f":"IF(O7=\"該当１\",G7,\"\")","v":""},{"$f":"IF(O7=\"該当１\",\"ﾘｽﾄ2\",\"\")","v":""},{"$f":"IF(Q7=\"ﾘｽﾄ2\",H7,\"\")","v":""},{"$f":"IF(AND(Q7=\"ﾘｽﾄ2\",OR(I7=0,AND(N7=\"同一区\",E7=1))),\"該当２\",\"\")","v":""},{"$f":"IF(S7=\"該当２\",H7,\"\")","v":""},{"$f":"IF(S7=\"\",\"\",COUNTIF($S$7:S7,\"該当２\"))","v":""},{"$f":"IF(AND($S$2=H7,E7>0,E7<998),\"該当３\",\"\")","v":""},{"$f":"IF(V7=\"該当３\",I7,\"\")","v":""},{"$f":"IF(V7=\"\",\"\",COUNTIF($V7:V$7,\"該当３\"))","v":""},null,1,{"$f":"AA2","v":"神奈川県"},{"$f":"IF($Z7>MAX($M$7:$M$5500),\"\",INDEX($L$7:$L$5500,MATCH($Z7,$M$7:$M$5500,0),MATCH($AB$4,$L$5:$M$5,0)))","v":"静岡市"},{"$f":"IF($Z7>MAX($U$7:$U$5500),\"\",INDEX($T$7:$T$5500,MATCH($Z7,$U$7:$U$5500,0),MATCH($AC$4,$T$5:$U$5,0)))","v":""},{"$f":"IF($Z7>MAX($X$7:$X$3715),\"\",INDEX($W$7:$W$3715,MATCH($Z7,$X$7:$X$3715,0),MATCH($AD$4,$W$5:$X$5,0)))","v":""}]
[2210000000,"22",100,{"v":0,"d":"00"},{"v":0,"d":"000"},"静岡県","静岡市",{"$nulls":3},"ﾘｽﾄ１","静岡市",{"$f":"IF(K8=\"\",\"\",COUNTIF($K$7:K8,\"ﾘｽﾄ１\"))","v":1},"",{"$f":"IF(AND(EXACT($K$2,G8),H8>0),\"該当１\",\"\")","v":""},"","","","","",{"$f":"IF(S8=\"\",\"\",COUNTIF($S$7:S8,\"該当２\"))","v":""},"","",{"$f":"IF(V8=\"\",\"\",COUNTIF($V$7:V8,\"該当３\"))","v":""},null,2,null,"葵区(静岡市)","",{"$f":"IF($Z8>MAX($X$7:$X$3715),\"\",INDEX($W$7:$W$3715,MATCH($Z8,$X$7:$X$3715,0),MATCH($AD$4,$W$5:$X$5,0)))","v":""}]
[2210100000,"22",101,{"v":0,"d":"00"},{"v":0,"d":"000"},"静岡県","葵区(静岡市)",{"$nulls":3},"ﾘｽﾄ１","葵区(静岡市)",{"$f":"IF(K9=\"\",\"\",COUNTIF($K$7:K9,\"ﾘｽﾄ１\"))","v":2},"",{"$f":"IF(AND(EXACT($K$2,G9),H9>0),\"該当１\",\"\")","v":""},"","","","","",{"$f":"IF(S9=\"\",\"\",COUNTIF($S$7:S9,\"該当２\"))","v":""},"","",{"$f":"IF(V9=\"\",\"\",COUNTIF($V$7:V9,\"該当３\"))","v":""},null,3,null,"駿河区(静岡市)","",""]
[2210101000,"22",101,{"v":1,"d":"01"},{"v":0,"d":"000"},"静岡県","葵区(静岡市)","静岡市２－１",null,null,"","",{"$f":"IF(K10=\"\",\"\",COUNTIF($K$7:K10,\"ﾘｽﾄ１\"))","v":""},"","","","","","","",{"$f":"IF(S10=\"\",\"\",COUNTIF($S$7:S10,\"該当２\"))","v":""},"","",{"$f":"IF(V10=\"\",\"\",COUNTIF($V$7:V10,\"該当３\"))","v":""},null,4,null,{"$f":"IF($Z10>MAX($M$7:$M$5500),\"\",INDEX($L$7:$L$5500,MATCH($Z10,$M$7:$M$5500,0),MATCH($AB$4,$L$5:$M$5,0)))","v":"清水区(静岡市)"},"",""]
[2210101001,"22",101,{"v":1,"d":"01"},{"v":1,"d":"001"},"静岡県","葵区(静岡市)","静岡市２－１","田中",null,"","",{"$f":"IF(K11=\"\",\"\",COUNTIF($K$7:K11,\"ﾘｽﾄ１\"))","v":""},"","","","","","","",{"$f":"IF(S11=\"\",\"\",COUNTIF($S$7:S11,\"該当２\"))","v":""},"","",{"$f":"IF(V11=\"\",\"\",COUNTIF($V$7:V11,\"該当３\"))","v":""},null,5,null,"浜松市","",""]
[2210101002,"22",101,{"v":1,"d":"01"},{"v":2,"d":"002"},"静岡県","葵区(静岡市)","静岡市２－１","柳新田",null,"","",{"$f":"IF(K12=\"\",\"\",COUNTIF($K$7:K12,\"ﾘｽﾄ１\"))","v":""},"","","","","","","",{"$f":"IF(S12=\"\",\"\",COUNTIF($S$7:S12,\"該当２\"))","v":""},"","",{"$f":"IF(V12=\"\",\"\",COUNTIF($V$7:V12,\"該当３\"))","v":""},null,6,null,"中区(浜松市)","",""]
[2210101003,"22",101,{"v":1,"d":"01"},{"v":3,"d":"003"},"静岡県","葵区(静岡市)","静岡市２－１","大岩下",null,"","",{"$f":"IF(K13=\"\",\"\",COUNTIF($K$7:K13,\"ﾘｽﾄ１\"))","v":""},"","","","","","","",{"$f":"IF(S13=\"\",\"\",COUNTIF($S$7:S13,\"該当２\"))","v":""},"","",{"$f":"IF(V13=\"\",\"\",COUNTIF($V$7:V13,\"該当３\"))","v":""},null,7,null,"東区(浜松市)","",""]
[2210101004,"22",101,{"v":1,"d":"01"},{"v":4,"d":"004"},"静岡県","葵区(静岡市)","静岡市２－１","本通・田町・安西・柳町",null,"","",{"$f":"IF(K14=\"\",\"\",COUNTIF($K$7:K14,\"ﾘｽﾄ１\"))","v":""},"","","","","","","",{"$f":"IF(S14=\"\",\"\",COUNTIF($S$7:S14,\"該当２\"))","v":""},"","",{"$f":"IF(V14=\"\",\"\",COUNTIF($V$7:V14,\"該当３\"))","v":""},null,8,null,"西区(浜松市)","",""]
[2210101005,"22",101,{"v":1,"d":"01"},{"v":5,"d":"005"},"静岡県","葵区(静岡市)","静岡市２－１","水道・井宮",null,"","",{"$f":"IF(K15=\"\",\"\",COUNTIF($K$7:K15,\"ﾘｽﾄ１\"))","v":""},"","","","","","","",{"$f":"IF(S15=\"\",\"\",COUNTIF($S$7:S15,\"該当２\"))","v":""},"","",{"$f":"IF(V15=\"\",\"\",COUNTIF($V$7:V15,\"該当３\"))","v":""},null,9,null,"南区(浜松市)","",""]
[2210101006,"22",101,{"v":1,"d":"01"},{"v":6,"d":"006"},"静岡県","葵区(静岡市)","静岡市２－１","安東の東",null,"","",{"$f":"IF(K16=\"\",\"\",COUNTIF($K$7:K16,\"ﾘｽﾄ１\"))","v":""},"","","","","","","",{"$f":"IF(S16=\"\",\"\",COUNTIF($S$7:S16,\"該当２\"))","v":""},"","",{"$f":"IF(V16=\"\",\"\",COUNTIF($V$7:V16,\"該当３\"))","v":""},null,10,null,"北区(浜松市)","",""]
[2210101007,"22",101,{"v":1,"d":"01"},{"v":7,"d":"007"},"静岡県","葵区(静岡市)","静岡市２－１","安東の西",null,"","",{"$f":"IF(K17=\"\",\"\",COUNTIF($K$7:K17,\"ﾘｽﾄ１\"))","v":""},"","","","","","","",{"$f":"IF(S17=\"\",\"\",COUNTIF($S$7:S17,\"該当２\"))","v":""},"","",{"$f":"IF(V17=\"\",\"\",COUNTIF($V$7:V17,\"該当３\"))","v":""},null,11,null,"浜北区(浜松市)","",""]
[2210101008,"22",101,{"v":1,"d":"01"},{"v":8,"d":"008"},"静岡県","葵区(静岡市)","静岡市２－１","大岩上",null,"","",{"$f":"IF(K18=\"\",\"\",COUNTIF($K$7:K18,\"ﾘｽﾄ１\"))","v":""},"","","","","","","",{"$f":"IF(S18=\"\",\"\",COUNTIF($S$7:S18,\"該当２\"))","v":""},"","",{"$f":"IF(V18=\"\",\"\",COUNTIF($V$7:V18,\"該当３\"))","v":""},null,12,null,"天竜区(浜松市)","",""]
[2210101009,"22",101,{"v":1,"d":"01"},{"v":9,"d":"009"},"静岡県","葵区(静岡市)","静岡市２－１","長沼南",null,"","",{"$f":"IF(K19=\"\",\"\",COUNTIF($K$7:K19,\"ﾘｽﾄ１\"))","v":""},"","","","","","","",{"$f":"IF(S19=\"\",\"\",COUNTIF($S$7:S19,\"該当２\"))","v":""},"","",{"$f":"IF(V19=\"\",\"\",COUNTIF($V$7:V19,\"該当３\"))","v":""},null,13,null,"沼津市","",""]
[2210101010,"22",101,{"v":1,"d":"01"},{"v":10,"d":"010"},"静岡県","葵区(静岡市)","静岡市２－１","長沼北",null,"","",{"$f":"IF(K20=\"\",\"\",COUNTIF($K$7:K20,\"ﾘｽﾄ１\"))","v":""},"","","","","","","",{"$f":"IF(S20=\"\",\"\",COUNTIF($S$7:S20,\"該当２\"))","v":""},"","",{"$f":"IF(V20=\"\",\"\",COUNTIF($V$7:V20,\"該当３\"))","v":""},null,14,null,"熱海市","",""]
[2210101011,"22",101,{"v":1,"d":"01"},{"v":11,"d":"011"},"静岡県","葵区(静岡市)","静岡市２－１","古庄",null,"","",{"$f":"IF(K21=\"\",\"\",COUNTIF($K$7:K21,\"ﾘｽﾄ１\"))","v":""},"","","","","","","",{"$f":"IF(S21=\"\",\"\",COUNTIF($S$7:S21,\"該当２\"))","v":""},"","",{"$f":"IF(V21=\"\",\"\",COUNTIF($V$7:V21,\"該当３\"))","v":""},null,15,null,"三島市",{"$f":"IF($Z21>MAX($U$7:$U$5500),\"\",INDEX($T$7:$T$5500,MATCH($Z21,$U$7:$U$5500,0),MATCH($AC$4,$T$5:$U$5,0)))","v":""},""]
[2210101012,"22",101,{"v":1,"d":"01"},{"v":12,"d":"012"},"静岡県","葵区(静岡市)","静岡市２－１","柚木",null,"","",{"$f":"IF(K22=\"\",\"\",COUNTIF($K$7:K22,\"ﾘｽﾄ１\"))","v":""},"","","","","","","",{"$f":"IF(S22=\"\",\"\",COUNTIF($S$7:S22,\"該当２\"))","v":""},"","",{"$f":"IF(V22=\"\",\"\",COUNTIF($V$7:V22,\"該当３\"))","v":""},null,16,null,"富士宮市","",""]
[2210101013,"22",101,{"v":1,"d":"01"},{"v":13,"d":"013"},"静岡県","葵区(静岡市)","静岡市２－１","瓦場",null,"","",{"$f":"IF(K23=\"\",\"\",COUNTIF($K$7:K23,\"ﾘｽﾄ１\"))","v":""},"","","","","","","",{"$f":"IF(S23=\"\",\"\",COUNTIF($S$7:S23,\"該当２\"))","v":""},"","",{"$f":"IF(V23=\"\",\"\",COUNTIF($V$7:V23,\"該当３\"))","v":""},null,17,null,"伊東市","",""]
[2210101014,"22",101,{"v":1,"d":"01"},{"v":14,"d":"014"},"静岡県","葵区(静岡市)","静岡市２－１","川辺２－１",null,"","",{"$f":"IF(K24=\"\",\"\",COUNTIF($K$7:K24,\"ﾘｽﾄ１\"))","v":""},"","","","","","","",{"$f":"IF(S24=\"\",\"\",COUNTIF($S$7:S24,\"該当２\"))","v":""},"","",{"$f":"IF(V24=\"\",\"\",COUNTIF($V$7:V24,\"該当３\"))","v":""},null,18,null,"島田市","",""]
[2210101015,"22",101,{"v":1,"d":"01"},{"v":15,"d":"015"},"静岡県","葵区(静岡市)","静岡市２－１","南安倍２－１",null,"","",{"$f":"IF(K25=\"\",\"\",COUNTIF($K$7:K25,\"ﾘｽﾄ１\"))","v":""},"","","","","","","",{"$f":"IF(S25=\"\",\"\",COUNTIF($S$7:S25,\"該当２\"))","v":""},"","",{"$f":"IF(V25=\"\",\"\",COUNTIF($V$7:V25,\"該当３\"))","v":""},null,19,null,{"$f":"IF($Z25>MAX($M$7:$M$5500),\"\",INDEX($L$7:$L$5500,MATCH($Z25,$M$7:$M$5500,0),MATCH($AB$4,$L$5:$M$5,0)))","v":"富士市"},"",""]
[2210101016,"22",101,{"v":1,"d":"01"},{"v":16,"d":"016"},"静岡県","葵区(静岡市)","静岡市２－１","籠上",null,"","",{"$f":"IF(K26=\"\",\"\",COUNTIF($K$7:K26,\"ﾘｽﾄ１\"))","v":""},"","","","","","","",{"$f":"IF(S26=\"\",\"\",COUNTIF($S$7:S26,\"該当２\"))","v":""},"","",{"$f":"IF(V26=\"\",\"\",COUNTIF($V$7:V26,\"該当３\"))","v":""},null,20,null,{"$f":"IF($Z26>MAX($M$7:$M$5500),\"\",INDEX($L$7:$L$5500,MATCH($Z26,$M$7:$M$5500,0),MATCH($AB$4,$L$5:$M$5,0)))","v":"磐田市"},"",""]
[2210101017,"22",101,{"v":1,"d":"01"},{"v":17,"d":"017"},"静岡県","葵区(静岡市)","静岡市２－１","松富下",null,"","",{"$f":"IF(K27=\"\",\"\",COUNTIF($K$7:K27,\"ﾘｽﾄ１\"))","v":""},"","","","","","","",{"$f":"IF(S27=\"\",\"\",COUNTIF($S$7:S27,\"該当２\"))","v":""},"","",{"$f":"IF(V27=\"\",\"\",COUNTIF($V$7:V27,\"該当３\"))","v":""},null,21,null,"焼津市","",""]
[2210101018,"22",101,{"v":1,"d":"01"},{"v":18,"d":"018"},"静岡県","葵区(静岡市)","静岡市２－１","松富上１区",null,"","",{"$f":"IF(K28=\"\",\"\",COUNTIF($K$7:K28,\"ﾘｽﾄ１\"))","v":""},"","","","","","","",{"$f":"IF(S28=\"\",\"\",COUNTIF($S$7:S28,\"該当２\"))","v":""},"","",{"$f":"IF(V28=\"\",\"\",COUNTIF($V$7:V28,\"該当３\"))","v":""},null,22,null,"掛川市","",""]
[2210101019,"22",101,{"v":1,"d":"01"},{"v":19,"d":"019"},"静岡県","葵区(静岡市)","静岡市２－１","松富上",null,"","",{"$f":"IF(K29=\"\",\"\",COUNTIF($K$7:K29,\"ﾘｽﾄ１\"))","v":""},"","","","","","","",{"$f":"IF(S29=\"\",\"\",COUNTIF($S$7:S29,\"該当２\"))","v":""},"","",{"$f":"IF(V29=\"\",\"\",COUNTIF($V$7:V29,\"該当３\"))","v":""},null,23,null,"藤枝市","",""]
[2210101020,"22",101,{"v":1,"d":"01"},{"v":20,"d":"020"},"静岡県","葵区(静岡市)","静岡市２－１","下伝馬町新田",null,"","",{"$f":"IF(K30=\"\",\"\",COUNTIF($K$7:K30,\"ﾘｽﾄ１\"))","v":""},"","","","","","","",{"$f":"IF(S30=\"\",\"\",COUNTIF($S$7:S30,\"該当２\"))","v":""},"","",{"$f":"IF(V30=\"\",\"\",COUNTIF($V$7:V30,\"該当３\"))","v":""},null,24,null,"御殿場市","",""]
[2210101021,"22",101,{"v":1,"d":"01"},{"v":21,"d":"021"},"静岡県","葵区(静岡市)","静岡市２－１","上伝馬町新田",null,"","",{"$f":"IF(K31=\"\",\"\",COUNTIF($K$7:K31,\"ﾘｽﾄ１\"))","v":""},"","","","","","","",{"$f":"IF(S31=\"\",\"\",COUNTIF($S$7:S31,\"該当２\"))","v":""},"","",{"$f":"IF(V31=\"\",\"\",COUNTIF($V$7:V31,\"該当３\"))","v":""},null,25,null,"袋井市","",""]
[2210101022,"22",101,{"v":1,"d":"01"},{"v":22,"d":"022"},"静岡県","葵区(静岡市)","静岡市２－１","与一右衛門新田",null,"","",{"$f":"IF(K32=\"\",\"\",COUNTIF($K$7:K32,\"ﾘｽﾄ１\"))","v":""},"","","","","","","",{"$f":"IF(S32=\"\",\"\",COUNTIF($S$7:S32,\"該当２\"))","v":""},"","",{"$f":"IF(V32=\"\",\"\",COUNTIF($V$7:V32,\"該当３\"))","v":""},null,26,null,"下田市","",""]
[2210101023,"22",101,{"v":1,"d":"01"},{"v":23,"d":"023"},"静岡県","葵区(静岡市)","静岡市２－１","福田ヶ谷",null,"","",{"$f":"IF(K33=\"\",\"\",COUNTIF($K$7:K33,\"ﾘｽﾄ１\"))","v":""},"","","","","","","",{"$f":"IF(S33=\"\",\"\",COUNTIF($S$7:S33,\"該当２\"))","v":""},"","",{"$f":"IF(V33=\"\",\"\",COUNTIF($V$7:V33,\"該当３\"))","v":""},null,27,null,"裾野市","",""]
[2210101024,"22",101,{"v":1,"d":"01"},{"v":24,"d":"024"},"静岡県","葵区(静岡市)","静岡市２－１","下",null,"","",{"$f":"IF(K34=\"\",\"\",COUNTIF($K$7:K34,\"ﾘｽﾄ１\"))","v":""},"","","","","","","",{"$f":"IF(S34=\"\",\"\",COUNTIF($S$7:S34,\"該当２\"))","v":""},"","",{"$f":"IF(V34=\"\",\"\",COUNTIF($V$7:V34,\"該当３\"))","v":""},null,28,null,"湖西市","",""]
[2210101025,"22",101,{"v":1,"d":"01"},{"v":25,"d":"025"},"静岡県","葵区(静岡市)","静岡市２－１","門屋",null,"","",{"$f":"IF(K35=\"\",\"\",COUNTIF($K$7:K35,\"ﾘｽﾄ１\"))","v":""},"","","","","","","",{"$f":"IF(S35=\"\",\"\",COUNTIF($S$7:S35,\"該当２\"))","v":""},"","",{"$f":"IF(V35=\"\",\"\",COUNTIF($V$7:V35,\"該当３\"))","v":""},null,29,null,"伊豆市","",""]
[2210101026,"22",101,{"v":1,"d":"01"},{"v":26,"d":"026"},"静岡県","葵区(静岡市)","静岡市２－１","牛妻",null,"","",{"$f":"IF(K36=\"\",\"\",COUNTIF($K$7:K36,\"ﾘｽﾄ１\"))","v":""},"","","","","","","",{"$f":"IF(S36=\"\",\"\",COUNTIF($S$7:S36,\"該当２\"))","v":""},"","",{"$f":"IF(V36=\"\",\"\",COUNTIF($V$7:V36,\"該当３\"))","v":""},null,30,null,"御前崎市","",""]
[2210101027,"22",101,{"v":1,"d":"01"},{"v":27,"d":"027"},"静岡県","葵区(静岡市)","静岡市２－１","郷島",null,"","",{"$f":"IF(K37=\"\",\"\",COUNTIF($K$7:K37,\"ﾘｽﾄ１\"))","v":""},"","","","","","","",{"$f":"IF(S37=\"\",\"\",COUNTIF($S$7:S37,\"該当２\"))","v":""},"","",{"$f":"IF(V37=\"\",\"\",COUNTIF($V$7:V37,\"該当３\"))","v":""},null,31,null,"菊川市","",""]
[2210101028,"22",101,{"v":1,"d":"01"},{"v":28,"d":"028"},"静岡県","葵区(静岡市)","静岡市２－１","野田平",null,"","",{"$f":"IF(K38=\"\",\"\",COUNTIF($K$7:K38,\"ﾘｽﾄ１\"))","v":""},"","","","","","","",{"$f":"IF(S38=\"\",\"\",COUNTIF($S$7:S38,\"該当２\"))","v":""},"","",{"$f":"IF(V38=\"\",\"\",COUNTIF($V$7:V38,\"該当３\"))","v":""},null,32,null,"伊豆の国市","",""]
[2210101029,"22",101,{"v":1,"d":"01"},{"v":29,"d":"029"},"静岡県","葵区(静岡市)","静岡市２－１","俵沢",null,"","",{"$f":"IF(K39=\"\",\"\",COUNTIF($K$7:K39,\"ﾘｽﾄ１\"))","v":""},"","","","","","","",{"$f":"IF(S39=\"\",\"\",COUNTIF($S$7:S39,\"該当２\"))","v":""},"","",{"$f":"IF(V39=\"\",\"\",COUNTIF($V$7:V39,\"該当３\"))","v":""},null,33,null,"牧之原市","",""]
[2210101030,"22",101,{"v":1,"d":"01"},{"v":30,"d":"030"},"静岡県","葵区(静岡市)","静岡市２－１","俵峰",null,"","",{"$f":"IF(K40=\"\",\"\",COUNTIF($K$7:K40,\"ﾘｽﾄ１\"))","v":""},"","","","","","","",{"$f":"IF(S40=\"\",\"\",COUNTIF($S$7:S40,\"該当２\"))","v":""},"","",{"$f":"IF(V40=\"\",\"\",COUNTIF($V$7:V40,\"該当３\"))","v":""},null,34,null,"東伊豆町","",""]
[2210101031,"22",101,{"v":1,"d":"01"},{"v":31,"d":"031"},"静岡県","葵区(静岡市)","静岡市２－１","油島",null,"","",{"$f":"IF(K41=\"\",\"\",COUNTIF($K$7:K41,\"ﾘｽﾄ１\"))","v":""},"","","","","","","",{"$f":"IF(S41=\"\",\"\",COUNTIF($S$7:S41,\"該当２\"))","v":""},"","",{"$f":"IF(V41=\"\",\"\",COUNTIF($V$7:V41,\"該当３\"))","v":""},null,35,null,"河津町","",""]
[2210101032,"22",101,{"v":1,"d":"01"},{"v":32,"d":"032"},"静岡県","葵区(静岡市)","静岡市２－１","上足洗",null,"","",{"$f":"IF(K42=\"\",\"\",COUNTIF($K$7:K42,\"ﾘｽﾄ１\"))","v":""},"","","","","","","",{"$f":"IF(S42=\"\",\"\",COUNTIF($S$7:S42,\"該当２\"))","v":""},"","",{"$f":"IF(V42=\"\",\"\",COUNTIF($V$7:V42,\"該当３\"))","v":""},null,36,null,"南伊豆町","",""]
[2210101033,"22",101,{"v":1,"d":"01"},{"v":33,"d":"033"},"静岡県","葵区(静岡市)","静岡市２－１","沓谷",null,"","",{"$f":"IF(K43=\"\",\"\",COUNTIF($K$7:K43,\"ﾘｽﾄ１\"))","v":""},"","","","","","","",{"$f":"IF(S43=\"\",\"\",COUNTIF($S$7:S43,\"該当２\"))","v":""},"","",{"$f":"IF(V43=\"\",\"\",COUNTIF($V$7:V43,\"該当３\"))","v":""},null,37,null,"松崎町","",""]
[2210101034,"22",101,{"v":1,"d":"01"},{"v":34,"d":"034"},"静岡県","葵区(静岡市)","静岡市２－１","千代田",null,"","",{"$f":"IF(K44=\"\",\"\",COUNTIF($K$7:K44,\"ﾘｽﾄ１\"))","v":""},"","","","","","","",{"$f":"IF(S44=\"\",\"\",COUNTIF($S$7:S44,\"該当２\"))","v":""},"","",{"$f":"IF(V44=\"\",\"\",COUNTIF($V$7:V44,\"該当３\"))","v":""},null,38,null,"西伊豆町","",""]
[2210101035,"22",101,{"v":1,"d":"01"},{"v":35,"d":"035"},"静岡県","葵区(静岡市)","静岡市２－１","上土",null,"","",{"$f":"IF(K45=\"\",\"\",COUNTIF($K$7:K45,\"ﾘｽﾄ１\"))","v":""},"","","","","","","",{"$f":"IF(S45=\"\",\"\",COUNTIF($S$7:S45,\"該当２\"))","v":""},"","",{"$f":"IF(V45=\"\",\"\",COUNTIF($V$7:V45,\"該当３\"))","v":""},null,39,null,"函南町","",""]
[2210101036,"22",101,{"v":1,"d":"01"},{"v":36,"d":"036"},"静岡県","葵区(静岡市)","静岡市２－１","川合本田",null,"","",{"$f":"IF(K46=\"\",\"\",COUNTIF($K$7:K46,\"ﾘｽﾄ１\"))","v":""},"","","","","","","",{"$f":"IF(S46=\"\",\"\",COUNTIF($S$7:S46,\"該当２\"))","v":""},"","",{"$f":"IF(V46=\"\",\"\",COUNTIF($V$7:V46,\"該当３\"))","v":""},null,40,null,{"$f":"IF($Z46>MAX($M$7:$M$5500),\"\",INDEX($L$7:$L$5500,MATCH($Z46,$M$7:$M$5500,0),MATCH($AB$4,$L$5:$M$5,0)))","v":"清水町"},"",""]
[2210101037,"22",101,{"v":1,"d":"01"},{"v":37,"d":"037"},"静岡県","葵区(静岡市)","静岡市２－１","川合本村",null,"","",{"$f":"IF(K47=\"\",\"\",COUNTIF($K$7:K47,\"ﾘｽﾄ１\"))","v":""},"","","","","","","",{"$f":"IF(S47=\"\",\"\",COUNTIF($S$7:S47,\"該当２\"))","v":""},"","",{"$f":"IF(V47=\"\",\"\",COUNTIF($V$7:V47,\"該当３\"))","v":""},null,41,null,"長泉町","",""]
[2210101038,"22",101,{"v":1,"d":"01"},{"v":38,"d":"038"},"静岡県","葵区(静岡市)","静岡市２－１","南沼上",null,"","",{"$f":"IF(K48=\"\",\"\",COUNTIF($K$7:K48,\"ﾘｽﾄ１\"))","v":""},"","","","","","","",{"$f":"IF(S48=\"\",\"\",COUNTIF($S$7:S48,\"該当２\"))","v":""},"","",{"$f":"IF(V48=\"\",\"\",COUNTIF($V$7:V48,\"該当３\"))","v":""},null,42,null,"小山町","",""]
[2210101039,"22",101,{"v":1,"d":"01"},{"v":39,"d":"039"},"静岡県","葵区(静岡市)","静岡市２－１","北沼上",null,"","",{"$f":"IF(K49=\"\",\"\",COUNTIF($K$7:K49,\"ﾘｽﾄ１\"))","v":""},"","","","","","","",{"$f":"IF(S49=\"\",\"\",COUNTIF($S$7:S49,\"該当２\"))","v":""},"","",{"$f":"IF(V49=\"\",\"\",COUNTIF($V$7:V49,\"該当３\"))","v":""},null,43,null,"吉田町","",""]
[2210101040,"22",101,{"v":1,"d":"01"},{"v":40,"d":"040"},"静岡県","葵区(静岡市)","静岡市２－１","則沢",null,"","",{"$f":"IF(K50=\"\",\"\",COUNTIF($K$7:K50,\"ﾘｽﾄ１\"))","v":""},"","","","","","","",{"$f":"IF(S50=\"\",\"\",COUNTIF($S$7:S50,\"該当２\"))","v":""},"","",{"$f":"IF(V50=\"\",\"\",COUNTIF($V$7:V50,\"該当３\"))","v":""},null,44,null,"川根本町","",""]
[2210101041,"22",101,{"v":1,"d":"01"},{"v":41,"d":"041"},"静岡県","葵区(静岡市)","静岡市２－１","銭座",null,"","",{"$f":"IF(K51=\"\",\"\",COUNTIF($K$7:K51,\"ﾘｽﾄ１\"))","v":""},"","","","","","","",{"$f":"IF(S51=\"\",\"\",COUNTIF($S$7:S51,\"該当２\"))","v":""},"","",{"$f":"IF(V51=\"\",\"\",COUNTIF($V$7:V51,\"該当３\"))","v":""},null,45,null,"森町","",""]
[2210101042,"22",101,{"v":1,"d":"01"},{"v":42,"d":"042"},"静岡県","葵区(静岡市)","静岡市２－１","池ヶ谷",null,"","",{"$f":"IF(K52=\"\",\"\",COUNTIF($K$7:K52,\"ﾘｽﾄ１\"))","v":""},"","","","","","","",{"$f":"IF(S52=\"\",\"\",COUNTIF($S$7:S52,\"該当２\"))","v":""},"","",{"$f":"IF(V52=\"\",\"\",COUNTIF($V$7:V52,\"該当３\"))","v":""},null,46,null,"","",""]
[2210101043,"22",101,{"v":1,"d":"01"},{"v":43,"d":"043"},"静岡県","葵区(静岡市)","静岡市２－１","南口",null,"","",{"$f":"IF(K53=\"\",\"\",COUNTIF($K$7:K53,\"ﾘｽﾄ１\"))","v":""},"","","","","","","",{"$f":"IF(S53=\"\",\"\",COUNTIF($S$7:S53,\"該当２\"))","v":""},"","",{"$f":"IF(V53=\"\",\"\",COUNTIF($V$7:V53,\"該当３\"))","v":""},null,47,null,"","",""]
[2210101044,"22",101,{"v":1,"d":"01"},{"v":44,"d":"044"},"静岡県","葵区(静岡市)","静岡市２－１","南中",null,"","",{"$f":"IF(K54=\"\",\"\",COUNTIF($K$7:K54,\"ﾘｽﾄ１\"))","v":""},"","","","","","","",{"$f":"IF(S54=\"\",\"\",COUNTIF($S$7:S54,\"該当２\"))","v":""},"","",{"$f":"IF(V54=\"\",\"\",COUNTIF($V$7:V54,\"該当３\"))","v":""},null,48,null,"","",""]
[2210101045,"22",101,{"v":1,"d":"01"},{"v":45,"d":"045"},"静岡県","葵区(静岡市)","静岡市２－１","南奥",null,"","",{"$f":"IF(K55=\"\",\"\",COUNTIF($K$7:K55,\"ﾘｽﾄ１\"))","v":""},"","","","","","","",{"$f":"IF(S55=\"\",\"\",COUNTIF($S$7:S55,\"該当２\"))","v":""},"","",{"$f":"IF(V55=\"\",\"\",COUNTIF($V$7:V55,\"該当３\"))","v":""},null,49,null,{"$f":"IF($Z55>MAX($M$7:$M$2080),\"\",INDEX($L$7:$L$2080,MATCH($Z55,$M$7:$M$2080,0),MATCH($AB$4,$L$5:$M$5,0)))","v":""},"",""]
[2210101046,"22",101,{"v":1,"d":"01"},{"v":46,"d":"046"},"静岡県","葵区(静岡市)","静岡市２－１","有永",null,"","",{"$f":"IF(K56=\"\",\"\",COUNTIF($K$7:K56,\"ﾘｽﾄ１\"))","v":""},"","","","","","","",{"$f":"IF(S56=\"\",\"\",COUNTIF($S$7:S56,\"該当２\"))","v":""},"","",{"$f":"IF(V56=\"\",\"\",COUNTIF($V$7:V56,\"該当３\"))","v":""},null,50,null,"","",""]
[2210101047,"22",101,{"v":1,"d":"01"},{"v":47,"d":"047"},"静岡県","葵区(静岡市)","静岡市２－１","羽高",null,"","",{"$f":"IF(K57=\"\",\"\",COUNTIF($K$7:K57,\"ﾘｽﾄ１\"))","v":""},"","","","","","","",{"$f":"IF(S57=\"\",\"\",COUNTIF($S$7:S57,\"該当２\"))","v":""},"","",{"$f":"IF(V57=\"\",\"\",COUNTIF($V$7:V57,\"該当３\"))","v":""},null,51,null,"","",""]
[2210101048,"22",101,{"v":1,"d":"01"},{"v":48,"d":"048"},"静岡県","葵区(静岡市)","静岡市２－１","北一",null,"","",{"$f":"IF(K58=\"\",\"\",COUNTIF($K$7:K58,\"ﾘｽﾄ１\"))","v":""},"","","","","","","",{"$f":"IF(S58=\"\",\"\",COUNTIF($S$7:S58,\"該当２\"))","v":""},"","",{"$f":"IF(V58=\"\",\"\",COUNTIF($V$7:V58,\"該当３\"))","v":""},null,52,null,"","",""]
[2210101049,"22",101,{"v":1,"d":"01"},{"v":49,"d":"049"},"静岡県","葵区(静岡市)","静岡市２－１","北二",null,"","",{"$f":"IF(K59=\"\",\"\",COUNTIF($K$7:K59,\"ﾘｽﾄ１\"))","v":""},"","","","","","","",{"$f":"IF(S59=\"\",\"\",COUNTIF($S$7:S59,\"該当２\"))","v":""},"","",{"$f":"IF(V59=\"\",\"\",COUNTIF($V$7:V59,\"該当３\"))","v":""},null,53,null,"","",""]
[2210101050,"22",101,{"v":1,"d":"01"},{"v":50,"d":"050"},"静岡県","葵区(静岡市)","静岡市２－１","東",null,"","",{"$f":"IF(K60=\"\",\"\",COUNTIF($K$7:K60,\"ﾘｽﾄ１\"))","v":""},"","","","","","","",{"$f":"IF(S60=\"\",\"\",COUNTIF($S$7:S60,\"該当２\"))","v":""},"","",{"$f":"IF(V60=\"\",\"\",COUNTIF($V$7:V60,\"該当３\"))","v":""},null,54,null,"","",""]
[2210101051,"22",101,{"v":1,"d":"01"},{"v":51,"d":"051"},"静岡県","葵区(静岡市)","静岡市２－１","瀬名川",null,"","",{"$f":"IF(K61=\"\",\"\",COUNTIF($K$7:K61,\"ﾘｽﾄ１\"))","v":""},"","","","","","","",{"$f":"IF(S61=\"\",\"\",COUNTIF($S$7:S61,\"該当２\"))","v":""},"","",{"$f":"IF(V61=\"\",\"\",COUNTIF($V$7:V61,\"該当３\"))","v":""},null,55,null,"","",""]
[2210101052,"22",101,{"v":1,"d":"01"},{"v":52,"d":"052"},"静岡県","葵区(静岡市)","静岡市２－１","瀬名",null,"","",{"$f":"IF(K62=\"\",\"\",COUNTIF($K$7:K62,\"ﾘｽﾄ１\"))","v":""},"","","","","","","",{"$f":"IF(S62=\"\",\"\",COUNTIF($S$7:S62,\"該当２\"))","v":""},"","",{"$f":"IF(V62=\"\",\"\",COUNTIF($V$7:V62,\"該当３\"))","v":""},null,56,null,"","",""]
[2210101053,"22",101,{"v":1,"d":"01"},{"v":53,"d":"053"},"静岡県","葵区(静岡市)","静岡市２－１","長尾",null,"","",{"$f":"IF(K63=\"\",\"\",COUNTIF($K$7:K63,\"ﾘｽﾄ１\"))","v":""},"","","","","","","",{"$f":"IF(S63=\"\",\"\",COUNTIF($S$7:S63,\"該当２\"))","v":""},"","",{"$f":"IF(V63=\"\",\"\",COUNTIF($V$7:V63,\"該当３\"))","v":""},null,57,null,"","",""]
[2210101054,"22",101,{"v":1,"d":"01"},{"v":54,"d":"054"},"静岡県","葵区(静岡市)","静岡市２－１","平山",null,"","",{"$f":"IF(K64=\"\",\"\",COUNTIF($K$7:K64,\"ﾘｽﾄ１\"))","v":""},"","","","","","","",{"$f":"IF(S64=\"\",\"\",COUNTIF($S$7:S64,\"該当２\"))","v":""},"","",{"$f":"IF(V64=\"\",\"\",COUNTIF($V$7:V64,\"該当３\"))","v":""},null,58,null,"","",""]
[2210101055,"22",101,{"v":1,"d":"01"},{"v":55,"d":"055"},"静岡県","葵区(静岡市)","静岡市２－１","安倍川河川敷２－１",null,"","",{"$f":"IF(K65=\"\",\"\",COUNTIF($K$7:K65,\"ﾘｽﾄ１\"))","v":""},"","","","","","","",{"$f":"IF(S65=\"\",\"\",COUNTIF($S$7:S65,\"該当２\"))","v":""},"","",{"$f":"IF(V65=\"\",\"\",COUNTIF($V$7:V65,\"該当３\"))","v":""},null,59,null,"","",""]
[2210102000,"22",101,{"v":2,"d":"02"},{"v":0,"d":"000"},"静岡県","葵区(静岡市)","美和村",null,null,"","",{"$f":"IF(K66=\"\",\"\",COUNTIF($K$7:K66,\"ﾘｽﾄ１\"))","v":""},"","","","","","","",{"$f":"IF(S66=\"\",\"\",COUNTIF($S$7:S66,\"該当２\"))","v":""},"","",{"$f":"IF(V66=\"\",\"\",COUNTIF($V$7:V66,\"該当３\"))","v":""},null,60,null,"",{"$f":"IF($Z66>MAX($U$7:$U$5500),\"\",INDEX($T$7:$T$5500,MATCH($Z66,$U$7:$U$5500,0),MATCH($AC$4,$T$5:$U$5,0)))","v":""},""]
[2210102001,"22",101,{"v":2,"d":"02"},{"v":1,"d":"001"},"静岡県","葵区(静岡市)","美和村","西ヶ谷",null,"","",{"$f":"IF(K67=\"\",\"\",COUNTIF($K$7:K67,\"ﾘｽﾄ１\"))","v":""},"","","","","","","",{"$f":"IF(S67=\"\",\"\",COUNTIF($S$7:S67,\"該当２\"))","v":""},"","",{"$f":"IF(V67=\"\",\"\",COUNTIF($V$7:V67,\"該当３\"))","v":""},null,61,null,"",{"$f":"IF($Z67>MAX($U$7:$U$5500),\"\",INDEX($T$7:$T$5500,MATCH($Z67,$U$7:$U$5500,0),MATCH($AC$4,$T$5:$U$5,0)))","v":""},""]
[2210102002,"22",101,{"v":2,"d":"02"},{"v":2,"d":"002"},"静岡県","葵区(静岡市)","美和村","内牧下",null,"","",{"$f":"IF(K68=\"\",\"\",COUNTIF($K$7:K68,\"ﾘｽﾄ１\"))","v":""},"","","","","","","",{"$f":"IF(S68=\"\",\"\",COUNTIF($S$7:S68,\"該当２\"))","v":""},"","",{"$f":"IF(V68=\"\",\"\",COUNTIF($V$7:V68,\"該当３\"))","v":""},null,62,{"$nulls":3},""]
[2210102003,"22",101,{"v":2,"d":"02"},{"v":3,"d":"003"},"静岡県","葵区(静岡市)","美和村","内牧東",null,"","",{"$f":"IF(K69=\"\",\"\",COUNTIF($K$7:K69,\"ﾘｽﾄ１\"))","v":""},"","","","","","","",{"$f":"IF(S69=\"\",\"\",COUNTIF($S$7:S69,\"該当２\"))","v":""},"","",{"$f":"IF(V69=\"\",\"\",COUNTIF($V$7:V69,\"該当３\"))","v":""},null,63,{"$nulls":3},""]
[2210102004,"22",101,{"v":2,"d":"02"},{"v":4,"d":"004"},"静岡県","葵区(静岡市)","美和村","内牧清地",null,"","",{"$f":"IF(K70=\"\",\"\",COUNTIF($K$7:K70,\"ﾘｽﾄ１\"))","v":""},"","","","","","","",{"$f":"IF(S70=\"\",\"\",COUNTIF($S$7:S70,\"該当２\"))","v":""},"","",{"$f":"IF(V70=\"\",\"\",COUNTIF($V$7:V70,\"該当３\"))","v":""},null,64,{"$nulls":3},""]
[2210102005,"22",101,{"v":2,"d":"02"},{"v":5,"d":"005"},"静岡県","葵区(静岡市)","美和村","内牧中",null,"","",{"$f":"IF(K71=\"\",\"\",COUNTIF($K$7:K71,\"ﾘｽﾄ１\"))","v":""},"","","","","","","",{"$f":"IF(S71=\"\",\"\",COUNTIF($S$7:S71,\"該当２\"))","v":""},"","",{"$f":"IF(V71=\"\",\"\",COUNTIF($V$7:V71,\"該当３\"))","v":""},null,65,{"$nulls":3},""]
[2210102006,"22",101,{"v":2,"d":"02"},{"v":6,"d":"006"},"静岡県","葵区(静岡市)","美和村","内牧上",null,"","",{"$f":"IF(K72=\"\",\"\",COUNTIF($K$7:K72,\"ﾘｽﾄ１\"))","v":""},"","",{"$f":"IF(O72=\"該当１\",G72,\"\")","v":""},{"$f":"IF(O72=\"該当１\",\"ﾘｽﾄ2\",\"\")","v":""},{"$f":"IF(Q72=\"ﾘｽﾄ2\",H72,\"\")","v":""},"",{"$f":"IF(S72=\"該当２\",H72,\"\")","v":""},{"$f":"IF(S72=\"\",\"\",COUNTIF($S$7:S72,\"該当２\"))","v":""},{"$f":"IF(AND($S$2=H72,E72>0,E72<998),\"該当３\",\"\")","v":""},{"$f":"IF(V72=\"該当３\",I72,\"\")","v":""},{"$f":"IF(V72=\"\",\"\",COUNTIF($V$7:V72,\"該当３\"))","v":""},null,66,{"$nulls":3},{"$f":"IF($Z72>MAX($X$7:$X$3715),\"\",INDEX($W$7:$W$3715,MATCH($Z72,$X$7:$X$3715,0),MATCH($AD$4,$W$5:$X$5,0)))","v":""}]
[2210102007,"22",101,{"v":2,"d":"02"},{"v":7,"d":"007"},"静岡県","葵区(静岡市)","美和村","下与左衛門新田",null,{"$f":"IF(AND($C73>0,$H73=\"\"),\"ﾘｽﾄ１\",\"\")","v":""},{"$f":"IF(K73=\"ﾘｽﾄ１\",G73,\"\")","v":""},{"$f":"IF(K73=\"\",\"\",COUNTIF($K$7:K73,\"ﾘｽﾄ１\"))","v":""},{"$f":"IF(AND(D73=0,E73>0),\"同一区\",\"\")","v":""},{"$f":"IF(AND(EXACT($K$2,G73),H73>0),\"該当１\",\"\")","v":""},"","","",{"$f":"IF(AND(Q73=\"ﾘｽﾄ2\",OR(I73=0,AND(N73=\"同一区\",E73=1))),\"該当２\",\"\")","v":""},"",{"$f":"IF(S73=\"\",\"\",COUNTIF($S$7:S73,\"該当２\"))","v":""},"","",{"$f":"IF(V73=\"\",\"\",COUNTIF($V$7:V73,\"該当３\"))","v":""},null,67,{"$nulls":3},""]
[2210102008,"22",101,{"v":2,"d":"02"},{"v":8,"d":"008"},"静岡県","葵区(静岡市)","美和村","安倍口新田",null,"","",{"$f":"IF(K74=\"\",\"\",COUNTIF($K$7:K74,\"ﾘｽﾄ１\"))","v":""},"","","","","","","",{"$f":"IF(S74=\"\",\"\",COUNTIF($S$7:S74,\"該当２\"))","v":""},"","",{"$f":"IF(V74=\"\",\"\",COUNTIF($V$7:V74,\"該当３\"))","v":""},null,68,{"$nulls":3},""]
[2210102009,"22",101,{"v":2,"d":"02"},{"v":9,"d":"009"},"静岡県","葵区(静岡市)","美和村","中ノ郷",null,"","",{"$f":"IF(K75=\"\",\"\",COUNTIF($K$7:K75,\"ﾘｽﾄ１\"))","v":""},"","","","","","","",{"$f":"IF(S75=\"\",\"\",COUNTIF($S$7:S75,\"該当２\"))","v":""},"","",{"$f":"IF(V75=\"\",\"\",COUNTIF($V$7:V75,\"該当３\"))","v":""},null,69,{"$nulls":3},""]
[2210102010,"22",101,{"v":2,"d":"02"},{"v":10,"d":"010"},"静岡県","葵区(静岡市)","美和村","上与左衛門新田",null,"","",{"$f":"IF(K76=\"\",\"\",COUNTIF($K$7:K76,\"ﾘｽﾄ１\"))","v":""},"","","","","","","",{"$f":"IF(S76=\"\",\"\",COUNTIF($S$7:S76,\"該当２\"))","v":""},"","",{"$f":"IF(V76=\"\",\"\",COUNTIF($V$7:V76,\"該当３\"))","v":""},null,70,{"$nulls":3},""]
[2210102011,"22",101,{"v":2,"d":"02"},{"v":11,"d":"011"},"静岡県","葵区(静岡市)","美和村","小塚ヶ谷",null,"","",{"$f":"IF(K77=\"\",\"\",COUNTIF($K$7:K77,\"ﾘｽﾄ１\"))","v":""},"","","","","","","",{"$f":"IF(S77=\"\",\"\",COUNTIF($S$7:S77,\"該当２\"))","v":""},"","",{"$f":"IF(V77=\"\",\"\",COUNTIF($V$7:V77,\"該当３\"))","v":""},null,71,{"$nulls":3},""]
[2210102012,"22",101,{"v":2,"d":"02"},{"v":12,"d":"012"},"静岡県","葵区(静岡市)","美和村","遠藤新田",null,"","",{"$f":"IF(K78=\"\",\"\",COUNTIF($K$7:K78,\"ﾘｽﾄ１\"))","v":""},"","","","","","","",{"$f":"IF(S78=\"\",\"\",COUNTIF($S$7:S78,\"該当２\"))","v":""},"","",{"$f":"IF(V78=\"\",\"\",COUNTIF($V$7:V78,\"該当３\"))","v":""},null,72,{"$nulls":3},""]
[2210102013,"22",101,{"v":2,"d":"02"},{"v":13,"d":"013"},"静岡県","葵区(静岡市)","美和村","原田・諸川",null,"","",{"$f":"IF(K79=\"\",\"\",COUNTIF($K$7:K79,\"ﾘｽﾄ１\"))","v":""},"","","","","","","",{"$f":"IF(S79=\"\",\"\",COUNTIF($S$7:S79,\"該当２\"))","v":""},"","",{"$f":"IF(V79=\"\",\"\",COUNTIF($V$7:V79,\"該当３\"))","v":""},null,73,{"$nulls":3},""]
[2210102014,"22",101,{"v":2,"d":"02"},{"v":14,"d":"014"},"静岡県","葵区(静岡市)","美和村","八十岡",null,"","",{"$f":"IF(K80=\"\",\"\",COUNTIF($K$7:K80,\"ﾘｽﾄ１\"))","v":""},"","","","","","","",{"$f":"IF(S80=\"\",\"\",COUNTIF($S$7:S80,\"該当２\"))","v":""},"","",{"$f":"IF(V80=\"\",\"\",COUNTIF($V$7:V80,\"該当３\"))","v":""},null,74,{"$nulls":3},""]
[2210102015,"22",101,{"v":2,"d":"02"},{"v":15,"d":"015"},"静岡県","葵区(静岡市)","美和村","神明原",null,"","",{"$f":"IF(K81=\"\",\"\",COUNTIF($K$7:K81,\"ﾘｽﾄ１\"))","v":""},"","","","","","","",{"$f":"IF(S81=\"\",\"\",COUNTIF($S$7:S81,\"該当２\"))","v":""},"","",{"$f":"IF(V81=\"\",\"\",COUNTIF($V$7:V81,\"該当３\"))","v":""},null,75,{"$nulls":3},""]
[2210102016,"22",101,{"v":2,"d":"02"},{"v":16,"d":"016"},"静岡県","葵区(静岡市)","美和村","舟沢",null,"","",{"$f":"IF(K82=\"\",\"\",COUNTIF($K$7:K82,\"ﾘｽﾄ１\"))","v":""},"","","","","","","",{"$f":"IF(S82=\"\",\"\",COUNTIF($S$7:S82,\"該当２\"))","v":""},"","",{"$f":"IF(V82=\"\",\"\",COUNTIF($V$7:V82,\"該当３\"))","v":""},null,76,{"$nulls":3},""]
[2210102017,"22",101,{"v":2,"d":"02"},{"v":17,"d":"017"},"静岡県","葵区(静岡市)","美和村","敷地",null,"","",{"$f":"IF(K83=\"\",\"\",COUNTIF($K$7:K83,\"ﾘｽﾄ１\"))","v":""},"","","","","","","",{"$f":"IF(S83=\"\",\"\",COUNTIF($S$7:S83,\"該当２\"))","v":""},"","",{"$f":"IF(V83=\"\",\"\",COUNTIF($V$7:V83,\"該当３\"))","v":""},null,77,{"$nulls":3},""]
[2210102018,"22",101,{"v":2,"d":"02"},{"v":18,"d":"018"},"静岡県","葵区(静岡市)","美和村","栗島",null,"","",{"$f":"IF(K84=\"\",\"\",COUNTIF($K$7:K84,\"ﾘｽﾄ１\"))","v":""},"","","","","","","",{"$f":"IF(S84=\"\",\"\",COUNTIF($S$7:S84,\"該当２\"))","v":""},"","",{"$f":"IF(V84=\"\",\"\",COUNTIF($V$7:V84,\"該当３\"))","v":""},null,78,{"$nulls":3},""]
[2210102019,"22",101,{"v":2,"d":"02"},{"v":19,"d":"019"},"静岡県","葵区(静岡市)","美和村","相沢",null,"","",{"$f":"IF(K85=\"\",\"\",COUNTIF($K$7:K85,\"ﾘｽﾄ１\"))","v":""},"","","","","","","",{"$f":"IF(S85=\"\",\"\",COUNTIF($S$7:S85,\"該当２\"))","v":""},"","",{"$f":"IF(V85=\"\",\"\",COUNTIF($V$7:V85,\"該当３\"))","v":""},null,79,{"$nulls":3},""]
[2210102020,"22",101,{"v":2,"d":"02"},{"v":20,"d":"020"},"静岡県","葵区(静岡市)","美和村","谷沢",null,"","",{"$f":"IF(K86=\"\",\"\",COUNTIF($K$7:K86,\"ﾘｽﾄ１\"))","v":""},"","","","","","","",{"$f":"IF(S86=\"\",\"\",COUNTIF($S$7:S86,\"該当２\"))","v":""},"","",{"$f":"IF(V86=\"\",\"\",COUNTIF($V$7:V86,\"該当３\"))","v":""},null,80,{"$nulls":3},""]
[2210102021,"22",101,{"v":2,"d":"02"},{"v":21,"d":"021"},"静岡県","葵区(静岡市)","美和村","口長島",null,"","",{"$f":"IF(K87=\"\",\"\",COUNTIF($K$7:K87,\"ﾘｽﾄ１\"))","v":""},"","","","","","","",{"$f":"IF(S87=\"\",\"\",COUNTIF($S$7:S87,\"該当２\"))","v":""},"","",{"$f":"IF(V87=\"\",\"\",COUNTIF($V$7:V87,\"該当３\"))","v":""},null,81,{"$nulls":3},""]
[2210102022,"22",101,{"v":2,"d":"02"},{"v":22,"d":"022"},"静岡県","葵区(静岡市)","美和村","奥長島",null,"","",{"$f":"IF(K88=\"\",\"\",COUNTIF($K$7:K88,\"ﾘｽﾄ１\"))","v":""},"","","","","","","",{"$f":"IF(S88=\"\",\"\",COUNTIF($S$7:S88,\"該当２\"))","v":""},"","",{"$f":"IF(V88=\"\",\"\",COUNTIF($V$7:V88,\"該当３\"))","v":""}]
[2210102023,"22",101,{"v":2,"d":"02"},{"v":23,"d":"023"},"静岡県","葵区(静岡市)","美和村","油山下",null,"","",{"$f":"IF(K89=\"\",\"\",COUNTIF($K$7:K89,\"ﾘｽﾄ１\"))","v":""},"","","","","","","",{"$f":"IF(S89=\"\",\"\",COUNTIF($S$7:S89,\"該当２\"))","v":""},"","",{"$f":"IF(V89=\"\",\"\",COUNTIF($V$7:V89,\"該当３\"))","v":""}]
[2210102024,"22",101,{"v":2,"d":"02"},{"v":24,"d":"024"},"静岡県","葵区(静岡市)","美和村","油山橋本",null,"","",{"$f":"IF(K90=\"\",\"\",COUNTIF($K$7:K90,\"ﾘｽﾄ１\"))","v":""},"","","","","","","",{"$f":"IF(S90=\"\",\"\",COUNTIF($S$7:S90,\"該当２\"))","v":""},"","",{"$f":"IF(V90=\"\",\"\",COUNTIF($V$7:V90,\"該当３\"))","v":""}]
[2210102025,"22",101,{"v":2,"d":"02"},{"v":25,"d":"025"},"静岡県","葵区(静岡市)","美和村","油山上",null,"","",{"$f":"IF(K91=\"\",\"\",COUNTIF($K$7:K91,\"ﾘｽﾄ１\"))","v":""},"","","","","","","",{"$f":"IF(S91=\"\",\"\",COUNTIF($S$7:S91,\"該当２\"))","v":""},"","",{"$f":"IF(V91=\"\",\"\",COUNTIF($V$7:V91,\"該当３\"))","v":""}]
[2210102026,"22",101,{"v":2,"d":"02"},{"v":26,"d":"026"},"静岡県","葵区(静岡市)","美和村","松野第一",null,"","",{"$f":"IF(K92=\"\",\"\",COUNTIF($K$7:K92,\"ﾘｽﾄ１\"))","v":""},"","","","","","","",{"$f":"IF(S92=\"\",\"\",COUNTIF($S$7:S92,\"該当２\"))","v":""},"","",{"$f":"IF(V92=\"\",\"\",COUNTIF($V$7:V92,\"該当３\"))","v":""}]
[2210102027,"22",101,{"v":2,"d":"02"},{"v":27,"d":"027"},"静岡県","葵区(静岡市)","美和村","松野第二",null,"","",{"$f":"IF(K93=\"\",\"\",COUNTIF($K$7:K93,\"ﾘｽﾄ１\"))","v":""},"","","","","","","",{"$f":"IF(S93=\"\",\"\",COUNTIF($S$7:S93,\"該当２\"))","v":""},"","",{"$f":"IF(V93=\"\",\"\",COUNTIF($V$7:V93,\"該当３\"))","v":""}]
[2210102028,"22",101,{"v":2,"d":"02"},{"v":28,"d":"028"},"静岡県","葵区(静岡市)","美和村","松野第三",null,"","",{"$f":"IF(K94=\"\",\"\",COUNTIF($K$7:K94,\"ﾘｽﾄ１\"))","v":""},"","","","","","","",{"$f":"IF(S94=\"\",\"\",COUNTIF($S$7:S94,\"該当２\"))","v":""},"","",{"$f":"IF(V94=\"\",\"\",COUNTIF($V$7:V94,\"該当３\"))","v":""}]
[2210102029,"22",101,{"v":2,"d":"02"},{"v":29,"d":"029"},"静岡県","葵区(静岡市)","美和村","津渡野",null,"","",{"$f":"IF(K95=\"\",\"\",COUNTIF($K$7:K95,\"ﾘｽﾄ１\"))","v":""},"","","","","","","",{"$f":"IF(S95=\"\",\"\",COUNTIF($S$7:S95,\"該当２\"))","v":""},"","",{"$f":"IF(V95=\"\",\"\",COUNTIF($V$7:V95,\"該当３\"))","v":""}]
[2210103000,"22",101,{"v":3,"d":"03"},{"v":0,"d":"000"},"静岡県","葵区(静岡市)","服織村",null,null,"","",{"$f":"IF(K96=\"\",\"\",COUNTIF($K$7:K96,\"ﾘｽﾄ１\"))","v":""},"","","","","","","",{"$f":"IF(S96=\"\",\"\",COUNTIF($S$7:S96,\"該当２\"))","v":""},"","",{"$f":"IF(V96=\"\",\"\",COUNTIF($V$7:V96,\"該当３\"))","v":""}]
[2210103001,"22",101,{"v":3,"d":"03"},{"v":1,"d":"001"},"静岡県","葵区(静岡市)","服織村","山崎新田",null,"","",{"$f":"IF(K97=\"\",\"\",COUNTIF($K$7:K97,\"ﾘｽﾄ１\"))","v":""},"","","","","","","",{"$f":"IF(S97=\"\",\"\",COUNTIF($S$7:S97,\"該当２\"))","v":""},"","",{"$f":"IF(V97=\"\",\"\",COUNTIF($V$7:V97,\"該当３\"))","v":""}]
[2210103002,"22",101,{"v":3,"d":"03"},{"v":2,"d":"002"},"静岡県","葵区(静岡市)","服織村","千代",null,"","",{"$f":"IF(K98=\"\",\"\",COUNTIF($K$7:K98,\"ﾘｽﾄ１\"))","v":""},"","","","","","","",{"$f":"IF(S98=\"\",\"\",COUNTIF($S$7:S98,\"該当２\"))","v":""},"","",{"$f":"IF(V98=\"\",\"\",COUNTIF($V$7:V98,\"該当３\"))","v":""}]
[2210103003,"22",101,{"v":3,"d":"03"},{"v":3,"d":"003"},"静岡県","葵区(静岡市)","服織村","慈悲尾",null,"","",{"$f":"IF(K99=\"\",\"\",COUNTIF($K$7:K99,\"ﾘｽﾄ１\"))","v":""},"","","","","","","",{"$f":"IF(S99=\"\",\"\",COUNTIF($S$7:S99,\"該当２\"))","v":""},"","",{"$f":"IF(V99=\"\",\"\",COUNTIF($V$7:V99,\"該当３\"))","v":""}]
[2210103004,"22",101,{"v":3,"d":"03"},{"v":4,"d":"004"},"静岡県","葵区(静岡市)","服織村","建穂",null,"","",{"$f":"IF(K100=\"\",\"\",COUNTIF($K$7:K100,\"ﾘｽﾄ１\"))","v":""},"","","","","","","",{"$f":"IF(S100=\"\",\"\",COUNTIF($S$7:S100,\"該当２\"))","v":""},"","",{"$f":"IF(V100=\"\",\"\",COUNTIF($V$7:V100,\"該当３\"))","v":""}]
[2210103005,"22",101,{"v":3,"d":"03"},{"v":5,"d":"005"},"静岡県","葵区(静岡市)","服織村","羽鳥第一",null,"","",{"$f":"IF(K101=\"\",\"\",COUNTIF($K$7:K101,\"ﾘｽﾄ１\"))","v":""},"","","","","","","",{"$f":"IF(S101=\"\",\"\",COUNTIF($S$7:S101,\"該当２\"))","v":""},"","",{"$f":"IF(V101=\"\",\"\",COUNTIF($V$7:V101,\"該当３\"))","v":""}]
[2210103006,"22",101,{"v":3,"d":"03"},{"v":6,"d":"006"},"静岡県","葵区(静岡市)","服織村","羽鳥第二",null,"","",{"$f":"IF(K102=\"\",\"\",COUNTIF($K$7:K102,\"ﾘｽﾄ１\"))","v":""},"","","","","","","",{"$f":"IF(S102=\"\",\"\",COUNTIF($S$7:S102,\"該当２\"))","v":""},"","",{"$f":"IF(V102=\"\",\"\",COUNTIF($V$7:V102,\"該当３\"))","v":""}]
[2210103007,"22",101,{"v":3,"d":"03"},{"v":7,"d":"007"},"静岡県","葵区(静岡市)","服織村","羽鳥第三",null,"","",{"$f":"IF(K103=\"\",\"\",COUNTIF($K$7:K103,\"ﾘｽﾄ１\"))","v":""},"","","","","","","",{"$f":"IF(S103=\"\",\"\",COUNTIF($S$7:S103,\"該当２\"))","v":""},"","",{"$f":"IF(V103=\"\",\"\",COUNTIF($V$7:V103,\"該当３\"))","v":""}]
[2210103008,"22",101,{"v":3,"d":"03"},{"v":8,"d":"008"},"静岡県","葵区(静岡市)","服織村","羽鳥第四下",null,"","",{"$f":"IF(K104=\"\",\"\",COUNTIF($K$7:K104,\"ﾘｽﾄ１\"))","v":""},"","","","","","","",{"$f":"IF(S104=\"\",\"\",COUNTIF($S$7:S104,\"該当２\"))","v":""},"","",{"$f":"IF(V104=\"\",\"\",COUNTIF($V$7:V104,\"該当３\"))","v":""}]
[2210103009,"22",101,{"v":3,"d":"03"},{"v":9,"d":"009"},"静岡県","葵区(静岡市)","服織村","羽鳥第四上",null,"","",{"$f":"IF(K105=\"\",\"\",COUNTIF($K$7:K105,\"ﾘｽﾄ１\"))","v":""},"","","","","","","",{"$f":"IF(S105=\"\",\"\",COUNTIF($S$7:S105,\"該当２\"))","v":""},"","",{"$f":"IF(V105=\"\",\"\",COUNTIF($V$7:V105,\"該当３\"))","v":""}]
[2210103010,"22",101,{"v":3,"d":"03"},{"v":10,"d":"010"},"静岡県","葵区(静岡市)","服織村","羽鳥第五下",null,"","",{"$f":"IF(K106=\"\",\"\",COUNTIF($K$7:K106,\"ﾘｽﾄ１\"))","v":""},"","","","","","","",{"$f":"IF(S106=\"\",\"\",COUNTIF($S$7:S106,\"該当２\"))","v":""},"","",{"$f":"IF(V106=\"\",\"\",COUNTIF($V$7:V106,\"該当３\"))","v":""}]
[2210103011,"22",101,{"v":3,"d":"03"},{"v":11,"d":"011"},"静岡県","葵区(静岡市)","服織村","羽鳥第五上",null,"","",{"$f":"IF(K107=\"\",\"\",COUNTIF($K$7:K107,\"ﾘｽﾄ１\"))","v":""},"","","","","","","",{"$f":"IF(S107=\"\",\"\",COUNTIF($S$7:S107,\"該当２\"))","v":""},"","",{"$f":"IF(V107=\"\",\"\",COUNTIF($V$7:V107,\"該当３\"))","v":""}]
[2210103012,"22",101,{"v":3,"d":"03"},{"v":12,"d":"012"},"静岡県","葵区(静岡市)","服織村","羽鳥第六",null,"","",{"$f":"IF(K108=\"\",\"\",COUNTIF($K$7:K108,\"ﾘｽﾄ１\"))","v":""},"","","","","","","",{"$f":"IF(S108=\"\",\"\",COUNTIF($S$7:S108,\"該当２\"))","v":""},"","",{"$f":"IF(V108=\"\",\"\",COUNTIF($V$7:V108,\"該当３\"))","v":""}]
[2210103013,"22",101,{"v":3,"d":"03"},{"v":13,"d":"013"},"静岡県","葵区(静岡市)","服織村","羽鳥第七",null,"","",{"$f":"IF(K109=\"\",\"\",COUNTIF($K$7:K109,\"ﾘｽﾄ１\"))","v":""},"","","","","","","",{"$f":"IF(S109=\"\",\"\",COUNTIF($S$7:S109,\"該当２\"))","v":""},"","",{"$f":"IF(V109=\"\",\"\",COUNTIF($V$7:V109,\"該当３\"))","v":""}]
[2210103014,"22",101,{"v":3,"d":"03"},{"v":14,"d":"014"},"静岡県","葵区(静岡市)","服織村","新間１",null,"","",{"$f":"IF(K110=\"\",\"\",COUNTIF($K$7:K110,\"ﾘｽﾄ１\"))","v":""},"","","","","","","",{"$f":"IF(S110=\"\",\"\",COUNTIF($S$7:S110,\"該当２\"))","v":""},"","",{"$f":"IF(V110=\"\",\"\",COUNTIF($V$7:V110,\"該当３\"))","v":""}]
[2210103015,"22",101,{"v":3,"d":"03"},{"v":15,"d":"015"},"静岡県","葵区(静岡市)","服織村","新間２",null,"","",{"$f":"IF(K111=\"\",\"\",COUNTIF($K$7:K111,\"ﾘｽﾄ１\"))","v":""},"","","","","","","",{"$f":"IF(S111=\"\",\"\",COUNTIF($S$7:S111,\"該当２\"))","v":""},"","",{"$f":"IF(V111=\"\",\"\",COUNTIF($V$7:V111,\"該当３\"))","v":""}]
[2210103016,"22",101,{"v":3,"d":"03"},{"v":16,"d":"016"},"静岡県","葵区(静岡市)","服織村","新間３",null,"","",{"$f":"IF(K112=\"\",\"\",COUNTIF($K$7:K112,\"ﾘｽﾄ１\"))","v":""},"","","","","","","",{"$f":"IF(S112=\"\",\"\",COUNTIF($S$7:S112,\"該当２\"))","v":""},"","",{"$f":"IF(V112=\"\",\"\",COUNTIF($V$7:V112,\"該当３\"))","v":""}]
[2210103017,"22",101,{"v":3,"d":"03"},{"v":17,"d":"017"},"静岡県","葵区(静岡市)","服織村","新間４",null,"","",{"$f":"IF(K113=\"\",\"\",COUNTIF($K$7:K113,\"ﾘｽﾄ１\"))","v":""},"","","","","","","",{"$f":"IF(S113=\"\",\"\",COUNTIF($S$7:S113,\"該当２\"))","v":""},"","",{"$f":"IF(V113=\"\",\"\",COUNTIF($V$7:V113,\"該当３\"))","v":""}]
[2210103018,"22",101,{"v":3,"d":"03"},{"v":18,"d":"018"},"静岡県","葵区(静岡市)","服織村","谷津",null,"","",{"$f":"IF(K114=\"\",\"\",COUNTIF($K$7:K114,\"ﾘｽﾄ１\"))","v":""},"","","","","","","",{"$f":"IF(S114=\"\",\"\",COUNTIF($S$7:S114,\"該当２\"))","v":""},"","",{"$f":"IF(V114=\"\",\"\",COUNTIF($V$7:V114,\"該当３\"))","v":""}]
[2210104000,"22",101,{"v":4,"d":"04"},{"v":0,"d":"000"},"静岡県","葵区(静岡市)","中藁科村",null,null,"","",{"$f":"IF(K115=\"\",\"\",COUNTIF($K$7:K115,\"ﾘｽﾄ１\"))","v":""},"","","","","","","",{"$f":"IF(S115=\"\",\"\",COUNTIF($S$7:S115,\"該当２\"))","v":""},"","",{"$f":"IF(V115=\"\",\"\",COUNTIF($V$7:V115,\"該当３\"))","v":""}]
[2210104001,"22",101,{"v":4,"d":"04"},{"v":1,"d":"001"},"静岡県","葵区(静岡市)","中藁科村","大原",null,"","",{"$f":"IF(K116=\"\",\"\",COUNTIF($K$7:K116,\"ﾘｽﾄ１\"))","v":""},"","","","","","","",{"$f":"IF(S116=\"\",\"\",COUNTIF($S$7:S116,\"該当２\"))","v":""},"","",{"$f":"IF(V116=\"\",\"\",COUNTIF($V$7:V116,\"該当３\"))","v":""}]
[2210104002,"22",101,{"v":4,"d":"04"},{"v":2,"d":"002"},"静岡県","葵区(静岡市)","中藁科村","水見色",null,"","",{"$f":"IF(K117=\"\",\"\",COUNTIF($K$7:K117,\"ﾘｽﾄ１\"))","v":""},"","","","","","","",{"$f":"IF(S117=\"\",\"\",COUNTIF($S$7:S117,\"該当２\"))","v":""},"","",{"$f":"IF(V117=\"\",\"\",COUNTIF($V$7:V117,\"該当３\"))","v":""}]
[2210104003,"22",101,{"v":4,"d":"04"},{"v":3,"d":"003"},"静岡県","葵区(静岡市)","中藁科村","富厚里",null,"","",{"$f":"IF(K118=\"\",\"\",COUNTIF($K$7:K118,\"ﾘｽﾄ１\"))","v":""},"","","","","","","",{"$f":"IF(S118=\"\",\"\",COUNTIF($S$7:S118,\"該当２\"))","v":""},"","",{"$f":"IF(V118=\"\",\"\",COUNTIF($V$7:V118,\"該当３\"))","v":""}]
[2210104004,"22",101,{"v":4,"d":"04"},{"v":4,"d":"004"},"静岡県","葵区(静岡市)","中藁科村","奈良間",null,"","",{"$f":"IF(K119=\"\",\"\",COUNTIF($K$7:K119,\"ﾘｽﾄ１\"))","v":""},"","","","","","","",{"$f":"IF(S119=\"\",\"\",COUNTIF($S$7:S119,\"該当２\"))","v":""},"","",{"$f":"IF(V119=\"\",\"\",COUNTIF($V$7:V119,\"該当３\"))","v":""}]
[2210104005,"22",101,{"v":4,"d":"04"},{"v":5,"d":"005"},"静岡県","葵区(静岡市)","中藁科村","富沢",null,"","",{"$f":"IF(K120=\"\",\"\",COUNTIF($K$7:K120,\"ﾘｽﾄ１\"))","v":""},"","","","","","","",{"$f":"IF(S120=\"\",\"\",COUNTIF($S$7:S120,\"該当２\"))","v":""},"","",{"$f":"IF(V120=\"\",\"\",COUNTIF($V$7:V120,\"該当３\"))","v":""}]
[2210104006,"22",101,{"v":4,"d":"04"},{"v":6,"d":"006"},"静岡県","葵区(静岡市)","中藁科村","小布杉",null,"","",{"$f":"IF(K121=\"\",\"\",COUNTIF($K$7:K121,\"ﾘｽﾄ１\"))","v":""},"","","","","","","",{"$f":"IF(S121=\"\",\"\",COUNTIF($S$7:S121,\"該当２\"))","v":""},"","",{"$f":"IF(V121=\"\",\"\",COUNTIF($V$7:V121,\"該当３\"))","v":""}]
[2210105000,"22",101,{"v":5,"d":"05"},{"v":0,"d":"000"},"静岡県","葵区(静岡市)","南藁科村",null,null,"","",{"$f":"IF(K122=\"\",\"\",COUNTIF($K$7:K122,\"ﾘｽﾄ１\"))","v":""},"","","","","","","",{"$f":"IF(S122=\"\",\"\",COUNTIF($S$7:S122,\"該当２\"))","v":""},"","",{"$f":"IF(V122=\"\",\"\",COUNTIF($V$7:V122,\"該当３\"))","v":""}]
[2210105001,"22",101,{"v":5,"d":"05"},{"v":1,"d":"001"},"静岡県","葵区(静岡市)","南藁科村","牧ヶ谷",null,"","",{"$f":"IF(K123=\"\",\"\",COUNTIF($K$7:K123,\"ﾘｽﾄ１\"))","v":""},"","","","","","","",{"$f":"IF(S123=\"\",\"\",COUNTIF($S$7:S123,\"該当２\"))","v":""},"","",{"$f":"IF(V123=\"\",\"\",COUNTIF($V$7:V123,\"該当３\"))","v":""}]
[2210105002,"22",101,{"v":5,"d":"05"},{"v":2,"d":"002"},"静岡県","葵区(静岡市)","南藁科村","産女",null,"","",{"$f":"IF(K124=\"\",\"\",COUNTIF($K$7:K124,\"ﾘｽﾄ１\"))","v":""},"","","","","","","",{"$f":"IF(S124=\"\",\"\",COUNTIF($S$7:S124,\"該当２\"))","v":""},"","",{"$f":"IF(V124=\"\",\"\",COUNTIF($V$7:V124,\"該当３\"))","v":""}]
[2210105003,"22",101,{"v":5,"d":"05"},{"v":3,"d":"003"},"静岡県","葵区(静岡市)","南藁科村","吉津",null,"","",{"$f":"IF(K125=\"\",\"\",COUNTIF($K$7:K125,\"ﾘｽﾄ１\"))","v":""},"","","","","","","",{"$f":"IF(S125=\"\",\"\",COUNTIF($S$7:S125,\"該当２\"))","v":""},"","",{"$f":"IF(V125=\"\",\"\",COUNTIF($V$7:V125,\"該当３\"))","v":""}]
[2210105004,"22",101,{"v":5,"d":"05"},{"v":4,"d":"004"},"静岡県","葵区(静岡市)","南藁科村","飯間",null,"","",{"$f":"IF(K126=\"\",\"\",COUNTIF($K$7:K126,\"ﾘｽﾄ１\"))","v":""},"","","","","","","",{"$f":"IF(S126=\"\",\"\",COUNTIF($S$7:S126,\"該当２\"))","v":""},"","",{"$f":"IF(V126=\"\",\"\",COUNTIF($V$7:V126,\"該当３\"))","v":""}]
[2210105005,"22",101,{"v":5,"d":"05"},{"v":5,"d":"005"},"静岡県","葵区(静岡市)","南藁科村","小瀬戸",null,"","",{"$f":"IF(K127=\"\",\"\",COUNTIF($K$7:K127,\"ﾘｽﾄ１\"))","v":""},"","","","","","","",{"$f":"IF(S127=\"\",\"\",COUNTIF($S$7:S127,\"該当２\"))","v":""},"","",{"$f":"IF(V127=\"\",\"\",COUNTIF($V$7:V127,\"該当３\"))","v":""}]
[2210105006,"22",101,{"v":5,"d":"05"},{"v":6,"d":"006"},"静岡県","葵区(静岡市)","南藁科村","西又",null,"","",{"$f":"IF(K128=\"\",\"\",COUNTIF($K$7:K128,\"ﾘｽﾄ１\"))","v":""},"","","","","","","",{"$f":"IF(S128=\"\",\"\",COUNTIF($S$7:S128,\"該当２\"))","v":""},"","",{"$f":"IF(V128=\"\",\"\",COUNTIF($V$7:V128,\"該当３\"))","v":""}]
[2210106000,"22",101,{"v":6,"d":"06"},{"v":0,"d":"000"},"静岡県","葵区(静岡市)","大河内村",null,null,"","",{"$f":"IF(K129=\"\",\"\",COUNTIF($K$7:K129,\"ﾘｽﾄ１\"))","v":""},"","","","","","","",{"$f":"IF(S129=\"\",\"\",COUNTIF($S$7:S129,\"該当２\"))","v":""},"","",{"$f":"IF(V129=\"\",\"\",COUNTIF($V$7:V129,\"該当３\"))","v":""}]
[2210106001,"22",101,{"v":6,"d":"06"},{"v":1,"d":"001"},"静岡県","葵区(静岡市)","大河内村","有東木",null,"","",{"$f":"IF(K130=\"\",\"\",COUNTIF($K$7:K130,\"ﾘｽﾄ１\"))","v":""},"","","","","","","",{"$f":"IF(S130=\"\",\"\",COUNTIF($S$7:S130,\"該当２\"))","v":""},"","",{"$f":"IF(V130=\"\",\"\",COUNTIF($V$7:V130,\"該当３\"))","v":""}]
[2210106002,"22",101,{"v":6,"d":"06"},{"v":2,"d":"002"},"静岡県","葵区(静岡市)","大河内村","渡",null,"","",{"$f":"IF(K131=\"\",\"\",COUNTIF($K$7:K131,\"ﾘｽﾄ１\"))","v":""},"","","","","","","",{"$f":"IF(S131=\"\",\"\",COUNTIF($S$7:S131,\"該当２\"))","v":""},"","",{"$f":"IF(V131=\"\",\"\",COUNTIF($V$7:V131,\"該当３\"))","v":""}]
[2210106003,"22",101,{"v":6,"d":"06"},{"v":3,"d":"003"},"静岡県","葵区(静岡市)","大河内村","中平",null,"","",{"$f":"IF(K132=\"\",\"\",COUNTIF($K$7:K132,\"ﾘｽﾄ１\"))","v":""},"","","","","","","",{"$f":"IF(S132=\"\",\"\",COUNTIF($S$7:S132,\"該当２\"))","v":""},"","",{"$f":"IF(V132=\"\",\"\",COUNTIF($V$7:V132,\"該当３\"))","v":""}]
[2210106004,"22",101,{"v":6,"d":"06"},{"v":4,"d":"004"},"静岡県","葵区(静岡市)","大河内村","平野",null,"","",{"$f":"IF(K133=\"\",\"\",COUNTIF($K$7:K133,\"ﾘｽﾄ１\"))","v":""},"","","","","","","",{"$f":"IF(S133=\"\",\"\",COUNTIF($S$7:S133,\"該当２\"))","v":""},"","",{"$f":"IF(V133=\"\",\"\",COUNTIF($V$7:V133,\"該当３\"))","v":""}]
[2210106005,"22",101,{"v":6,"d":"06"},{"v":5,"d":"005"},"静岡県","葵区(静岡市)","大河内村","横山",null,"","",{"$f":"IF(K134=\"\",\"\",COUNTIF($K$7:K134,\"ﾘｽﾄ１\"))","v":""},"","","","","","","",{"$f":"IF(S134=\"\",\"\",COUNTIF($S$7:S134,\"該当２\"))","v":""},"","",{"$f":"IF(V134=\"\",\"\",COUNTIF($V$7:V134,\"該当３\"))","v":""}]
[2210106006,"22",101,{"v":6,"d":"06"},{"v":6,"d":"006"},"静岡県","葵区(静岡市)","大河内村","蕨野",null,"","",{"$f":"IF(K135=\"\",\"\",COUNTIF($K$7:K135,\"ﾘｽﾄ１\"))","v":""},"","","","","","","",{"$f":"IF(S135=\"\",\"\",COUNTIF($S$7:S135,\"該当２\"))","v":""},"","",{"$f":"IF(V135=\"\",\"\",COUNTIF($V$7:V135,\"該当３\"))","v":""}]
[2210106007,"22",101,{"v":6,"d":"06"},{"v":7,"d":"007"},"静岡県","葵区(静岡市)","大河内村","相渕",null,"","",{"$f":"IF(K136=\"\",\"\",COUNTIF($K$7:K136,\"ﾘｽﾄ１\"))","v":""},"","",{"$f":"IF(O136=\"該当１\",G136,\"\")","v":""},{"$f":"IF(O136=\"該当１\",\"ﾘｽﾄ2\",\"\")","v":""},{"$f":"IF(Q136=\"ﾘｽﾄ2\",H136,\"\")","v":""},"",{"$f":"IF(S136=\"該当２\",H136,\"\")","v":""},{"$f":"IF(S136=\"\",\"\",COUNTIF($S$7:S136,\"該当２\"))","v":""},{"$f":"IF(AND($S$2=H136,E136>0,E136<998),\"該当３\",\"\")","v":""},{"$f":"IF(V136=\"該当３\",I136,\"\")","v":""},{"$f":"IF(V136=\"\",\"\",COUNTIF($V$7:V136,\"該当３\"))","v":""}]
[2210107000,"22",101,{"v":7,"d":"07"},{"v":0,"d":"000"},"静岡県","葵区(静岡市)","梅ヶ島村",null,null,{"$f":"IF(AND($C137>0,$H137=\"\"),\"ﾘｽﾄ１\",\"\")","v":""},{"$f":"IF(K137=\"ﾘｽﾄ１\",G137,\"\")","v":""},{"$f":"IF(K137=\"\",\"\",COUNTIF($K$7:K137,\"ﾘｽﾄ１\"))","v":""},{"$f":"IF(AND(D137=0,E137>0),\"同一区\",\"\")","v":""},{"$f":"IF(AND(EXACT($K$2,G137),H137>0),\"該当１\",\"\")","v":""},"","","",{"$f":"IF(AND(Q137=\"ﾘｽﾄ2\",OR(I137=0,AND(N137=\"同一区\",E137=1))),\"該当２\",\"\")","v":""},"",{"$f":"IF(S137=\"\",\"\",COUNTIF($S$7:S137,\"該当２\"))","v":""},"","",{"$f":"IF(V137=\"\",\"\",COUNTIF($V$7:V137,\"該当３\"))","v":""}]
[2210107001,"22",101,{"v":7,"d":"07"},{"v":1,"d":"001"},"静岡県","葵区(静岡市)","梅ヶ島村","藤代",null,"","",{"$f":"IF(K138=\"\",\"\",COUNTIF($K$7:K138,\"ﾘｽﾄ１\"))","v":""},"","","","","","","",{"$f":"IF(S138=\"\",\"\",COUNTIF($S$7:S138,\"該当２\"))","v":""},"","",{"$f":"IF(V138=\"\",\"\",COUNTIF($V$7:V138,\"該当３\"))","v":""}]
[2210107002,"22",101,{"v":7,"d":"07"},{"v":2,"d":"002"},"静岡県","葵区(静岡市)","梅ヶ島村","入島",null,"","",{"$f":"IF(K139=\"\",\"\",COUNTIF($K$7:K139,\"ﾘｽﾄ１\"))","v":""},"","","","","","","",{"$f":"IF(S139=\"\",\"\",COUNTIF($S$7:S139,\"該当２\"))","v":""},"","",{"$f":"IF(V139=\"\",\"\",COUNTIF($V$7:V139,\"該当３\"))","v":""}]
[2210107003,"22",101,{"v":7,"d":"07"},{"v":3,"d":"003"},"静岡県","葵区(静岡市)","梅ヶ島村","関の沢",null,"","",{"$f":"IF(K140=\"\",\"\",COUNTIF($K$7:K140,\"ﾘｽﾄ１\"))","v":""},"","","","","","","",{"$f":"IF(S140=\"\",\"\",COUNTIF($S$7:S140,\"該当２\"))","v":""},"","",{"$f":"IF(V140=\"\",\"\",COUNTIF($V$7:V140,\"該当３\"))","v":""}]
[2210107004,"22",101,{"v":7,"d":"07"},{"v":4,"d":"004"},"静岡県","葵区(静岡市)","梅ヶ島村","本村",null,"","",{"$f":"IF(K141=\"\",\"\",COUNTIF($K$7:K141,\"ﾘｽﾄ１\"))","v":""},"","","","","","","",{"$f":"IF(S141=\"\",\"\",COUNTIF($S$7:S141,\"該当２\"))","v":""},"","",{"$f":"IF(V141=\"\",\"\",COUNTIF($V$7:V141,\"該当３\"))","v":""}]
[2210107005,"22",101,{"v":7,"d":"07"},{"v":5,"d":"005"},"静岡県","葵区(静岡市)","梅ヶ島村","戸持",null,"","",{"$f":"IF(K142=\"\",\"\",COUNTIF($K$7:K142,\"ﾘｽﾄ１\"))","v":""},"","","","","","","",{"$f":"IF(S142=\"\",\"\",COUNTIF($S$7:S142,\"該当２\"))","v":""},"","",{"$f":"IF(V142=\"\",\"\",COUNTIF($V$7:V142,\"該当３\"))","v":""}]
[2210107006,"22",101,{"v":7,"d":"07"},{"v":6,"d":"006"},"静岡県","葵区(静岡市)","梅ヶ島村","大代",null,"","",{"$f":"IF(K143=\"\",\"\",COUNTIF($K$7:K143,\"ﾘｽﾄ１\"))","v":""},"","","","","","","",{"$f":"IF(S143=\"\",\"\",COUNTIF($S$7:S143,\"該当２\"))","v":""},"","",{"$f":"IF(V143=\"\",\"\",COUNTIF($V$7:V143,\"該当３\"))","v":""}]
[2210107007,"22",101,{"v":7,"d":"07"},{"v":7,"d":"007"},"静岡県","葵区(静岡市)","梅ヶ島村","赤水・温泉・新田",null,"","",{"$f":"IF(K144=\"\",\"\",COUNTIF($K$7:K144,\"ﾘｽﾄ１\"))","v":""},"","","","","","","",{"$f":"IF(S144=\"\",\"\",COUNTIF($S$7:S144,\"該当２\"))","v":""},"","",{"$f":"IF(V144=\"\",\"\",COUNTIF($V$7:V144,\"該当３\"))","v":""}]
[2210108000,"22",101,{"v":8,"d":"08"},{"v":0,"d":"000"},"静岡県","葵区(静岡市)","玉川村",null,null,"","",{"$f":"IF(K145=\"\",\"\",COUNTIF($K$7:K145,\"ﾘｽﾄ１\"))","v":""},"","","","","","","",{"$f":"IF(S145=\"\",\"\",COUNTIF($S$7:S145,\"該当２\"))","v":""},"","",{"$f":"IF(V145=\"\",\"\",COUNTIF($V$7:V145,\"該当３\"))","v":""}]
[2210108001,"22",101,{"v":8,"d":"08"},{"v":1,"d":"001"},"静岡県","葵区(静岡市)","玉川村","中沢",null,"","",{"$f":"IF(K146=\"\",\"\",COUNTIF($K$7:K146,\"ﾘｽﾄ１\"))","v":""},"","","","","","","",{"$f":"IF(S146=\"\",\"\",COUNTIF($S$7:S146,\"該当２\"))","v":""},"","",{"$f":"IF(V146=\"\",\"\",COUNTIF($V$7:V146,\"該当３\"))","v":""}]
[2210108002,"22",101,{"v":8,"d":"08"},{"v":2,"d":"002"},"静岡県","葵区(静岡市)","玉川村","桂山",null,"","",{"$f":"IF(K147=\"\",\"\",COUNTIF($K$7:K147,\"ﾘｽﾄ１\"))","v":""},"","","","","","","",{"$f":"IF(S147=\"\",\"\",COUNTIF($S$7:S147,\"該当２\"))","v":""},"","",{"$f":"IF(V147=\"\",\"\",COUNTIF($V$7:V147,\"該当３\"))","v":""}]
[2210108003,"22",101,{"v":8,"d":"08"},{"v":3,"d":"003"},"静岡県","葵区(静岡市)","玉川村","唯間",null,"","",{"$f":"IF(K148=\"\",\"\",COUNTIF($K$7:K148,\"ﾘｽﾄ１\"))","v":""},"","","","","","","",{"$f":"IF(S148=\"\",\"\",COUNTIF($S$7:S148,\"該当２\"))","v":""},"","",{"$f":"IF(V148=\"\",\"\",COUNTIF($V$7:V148,\"該当３\"))","v":""}]
[2210108004,"22",101,{"v":8,"d":"08"},{"v":4,"d":"004"},"静岡県","葵区(静岡市)","玉川村","上助",null,"","",{"$f":"IF(K149=\"\",\"\",COUNTIF($K$7:K149,\"ﾘｽﾄ１\"))","v":""},"","","","","","","",{"$f":"IF(S149=\"\",\"\",COUNTIF($S$7:S149,\"該当２\"))","v":""},"","",{"$f":"IF(V149=\"\",\"\",COUNTIF($V$7:V149,\"該当３\"))","v":""}]
[2210108005,"22",101,{"v":8,"d":"08"},{"v":5,"d":"005"},"静岡県","葵区(静岡市)","玉川村","奥の原",null,"","",{"$f":"IF(K150=\"\",\"\",COUNTIF($K$7:K150,\"ﾘｽﾄ１\"))","v":""},"","","","","","","",{"$f":"IF(S150=\"\",\"\",COUNTIF($S$7:S150,\"該当２\"))","v":""},"","",{"$f":"IF(V150=\"\",\"\",COUNTIF($V$7:V150,\"該当３\"))","v":""}]
[2210108006,"22",101,{"v":8,"d":"08"},{"v":6,"d":"006"},"静岡県","葵区(静岡市)","玉川村","森腰",null,"","",{"$f":"IF(K151=\"\",\"\",COUNTIF($K$7:K151,\"ﾘｽﾄ１\"))","v":""},"","","","","","","",{"$f":"IF(S151=\"\",\"\",COUNTIF($S$7:S151,\"該当２\"))","v":""},"","",{"$f":"IF(V151=\"\",\"\",COUNTIF($V$7:V151,\"該当３\"))","v":""}]
[2210108007,"22",101,{"v":8,"d":"08"},{"v":7,"d":"007"},"静岡県","葵区(静岡市)","玉川村","長熊",null,"","",{"$f":"IF(K152=\"\",\"\",COUNTIF($K$7:K152,\"ﾘｽﾄ１\"))","v":""},"","","","","","","",{"$f":"IF(S152=\"\",\"\",COUNTIF($S$7:S152,\"該当２\"))","v":""},"","",{"$f":"IF(V152=\"\",\"\",COUNTIF($V$7:V152,\"該当３\"))","v":""}]
[2210108008,"22",101,{"v":8,"d":"08"},{"v":8,"d":"008"},"静岡県","葵区(静岡市)","玉川村","柿島",null,"","",{"$f":"IF(K153=\"\",\"\",COUNTIF($K$7:K153,\"ﾘｽﾄ１\"))","v":""},"","","","","","","",{"$f":"IF(S153=\"\",\"\",COUNTIF($S$7:S153,\"該当２\"))","v":""},"","",{"$f":"IF(V153=\"\",\"\",COUNTIF($V$7:V153,\"該当３\"))","v":""}]
[2210108009,"22",101,{"v":8,"d":"08"},{"v":9,"d":"009"},"静岡県","葵区(静岡市)","玉川村","長妻田",null,"","",{"$f":"IF(K154=\"\",\"\",COUNTIF($K$7:K154,\"ﾘｽﾄ１\"))","v":""},"","","","","","","",{"$f":"IF(S154=\"\",\"\",COUNTIF($S$7:S154,\"該当２\"))","v":""},"","",{"$f":"IF(V154=\"\",\"\",COUNTIF($V$7:V154,\"該当３\"))","v":""}]
[2210108010,"22",101,{"v":8,"d":"08"},{"v":10,"d":"010"},"静岡県","葵区(静岡市)","玉川村","油野",null,"","",{"$f":"IF(K155=\"\",\"\",COUNTIF($K$7:K155,\"ﾘｽﾄ１\"))","v":""},"","","","","","","",{"$f":"IF(S155=\"\",\"\",COUNTIF($S$7:S155,\"該当２\"))","v":""},"","",{"$f":"IF(V155=\"\",\"\",COUNTIF($V$7:V155,\"該当３\"))","v":""}]
[2210108011,"22",101,{"v":8,"d":"08"},{"v":11,"d":"011"},"静岡県","葵区(静岡市)","玉川村","上落合",null,"","",{"$f":"IF(K156=\"\",\"\",COUNTIF($K$7:K156,\"ﾘｽﾄ１\"))","v":""},"","","","","","","",{"$f":"IF(S156=\"\",\"\",COUNTIF($S$7:S156,\"該当２\"))","v":""},"","",{"$f":"IF(V156=\"\",\"\",COUNTIF($V$7:V156,\"該当３\"))","v":""}]
[2210108012,"22",101,{"v":8,"d":"08"},{"v":12,"d":"012"},"静岡県","葵区(静岡市)","玉川村","口仙俣",null,"","",{"$f":"IF(K157=\"\",\"\",COUNTIF($K$7:K157,\"ﾘｽﾄ１\"))","v":""},"","","","","","","",{"$f":"IF(S157=\"\",\"\",COUNTIF($S$7:S157,\"該当２\"))","v":""},"","",{"$f":"IF(V157=\"\",\"\",COUNTIF($V$7:V157,\"該当３\"))","v":""}]
[2210108013,"22",101,{"v":8,"d":"08"},{"v":13,"d":"013"},"静岡県","葵区(静岡市)","玉川村","奥仙俣",null,"","",{"$f":"IF(K158=\"\",\"\",COUNTIF($K$7:K158,\"ﾘｽﾄ１\"))","v":""},"","","","","","","",{"$f":"IF(S158=\"\",\"\",COUNTIF($S$7:S158,\"該当２\"))","v":""},"","",{"$f":"IF(V158=\"\",\"\",COUNTIF($V$7:V158,\"該当３\"))","v":""}]
[2210108014,"22",101,{"v":8,"d":"08"},{"v":14,"d":"014"},"静岡県","葵区(静岡市)","玉川村","平瀬",null,"","",{"$f":"IF(K159=\"\",\"\",COUNTIF($K$7:K159,\"ﾘｽﾄ１\"))","v":""},"","","","","","","",{"$f":"IF(S159=\"\",\"\",COUNTIF($S$7:S159,\"該当２\"))","v":""},"","",{"$f":"IF(V159=\"\",\"\",COUNTIF($V$7:V159,\"該当３\"))","v":""}]
[2210108015,"22",101,{"v":8,"d":"08"},{"v":15,"d":"015"},"静岡県","葵区(静岡市)","玉川村","川島",null,"","",{"$f":"IF(K160=\"\",\"\",COUNTIF($K$7:K160,\"ﾘｽﾄ１\"))","v":""},"","","","","","","",{"$f":"IF(S160=\"\",\"\",COUNTIF($S$7:S160,\"該当２\"))","v":""},"","",{"$f":"IF(V160=\"\",\"\",COUNTIF($V$7:V160,\"該当３\"))","v":""}]
[2210108016,"22",101,{"v":8,"d":"08"},{"v":16,"d":"016"},"静岡県","葵区(静岡市)","玉川村","大和",null,"","",{"$f":"IF(K161=\"\",\"\",COUNTIF($K$7:K161,\"ﾘｽﾄ１\"))","v":""},"","","","","","","",{"$f":"IF(S161=\"\",\"\",COUNTIF($S$7:S161,\"該当２\"))","v":""},"","",{"$f":"IF(V161=\"\",\"\",COUNTIF($V$7:V161,\"該当３\"))","v":""}]
[2210108017,"22",101,{"v":8,"d":"08"},{"v":17,"d":"017"},"静岡県","葵区(静岡市)","玉川村","内匠",null,"","",{"$f":"IF(K162=\"\",\"\",COUNTIF($K$7:K162,\"ﾘｽﾄ１\"))","v":""},"","","","","","","",{"$f":"IF(S162=\"\",\"\",COUNTIF($S$7:S162,\"該当２\"))","v":""},"","",{"$f":"IF(V162=\"\",\"\",COUNTIF($V$7:V162,\"該当３\"))","v":""}]
[2210108018,"22",101,{"v":8,"d":"08"},{"v":18,"d":"018"},"静岡県","葵区(静岡市)","玉川村","腰越",null,"","",{"$f":"IF(K163=\"\",\"\",COUNTIF($K$7:K163,\"ﾘｽﾄ１\"))","v":""},"","","","","","","",{"$f":"IF(S163=\"\",\"\",COUNTIF($S$7:S163,\"該当２\"))","v":""},"","",{"$f":"IF(V163=\"\",\"\",COUNTIF($V$7:V163,\"該当３\"))","v":""}]
[2210108019,"22",101,{"v":8,"d":"08"},{"v":19,"d":"019"},"静岡県","葵区(静岡市)","玉川村","大沢",null,"","",{"$f":"IF(K164=\"\",\"\",COUNTIF($K$7:K164,\"ﾘｽﾄ１\"))","v":""},"","","","","","","",{"$f":"IF(S164=\"\",\"\",COUNTIF($S$7:S164,\"該当２\"))","v":""},"","",{"$f":"IF(V164=\"\",\"\",COUNTIF($V$7:V164,\"該当３\"))","v":""}]
[2210108020,"22",101,{"v":8,"d":"08"},{"v":20,"d":"020"},"静岡県","葵区(静岡市)","玉川村","横沢",null,"","",{"$f":"IF(K165=\"\",\"\",COUNTIF($K$7:K165,\"ﾘｽﾄ１\"))","v":""},"","","","","","","",{"$f":"IF(S165=\"\",\"\",COUNTIF($S$7:S165,\"該当２\"))","v":""},"","",{"$f":"IF(V165=\"\",\"\",COUNTIF($V$7:V165,\"該当３\"))","v":""}]
[2210109000,"22",101,{"v":9,"d":"09"},{"v":0,"d":"000"},"静岡県","葵区(静岡市)","井川村",null,null,"","",{"$f":"IF(K166=\"\",\"\",COUNTIF($K$7:K166,\"ﾘｽﾄ１\"))","v":""},"","","","","","","",{"$f":"IF(S166=\"\",\"\",COUNTIF($S$7:S166,\"該当２\"))","v":""},"","",{"$f":"IF(V166=\"\",\"\",COUNTIF($V$7:V166,\"該当３\"))","v":""}]
[2210109001,"22",101,{"v":9,"d":"09"},{"v":1,"d":"001"},"静岡県","葵区(静岡市)","井川村","西",null,"","",{"$f":"IF(K167=\"\",\"\",COUNTIF($K$7:K167,\"ﾘｽﾄ１\"))","v":""},"","","","","","","",{"$f":"IF(S167=\"\",\"\",COUNTIF($S$7:S167,\"該当２\"))","v":""},"","",{"$f":"IF(V167=\"\",\"\",COUNTIF($V$7:V167,\"該当３\"))","v":""}]
[2210109002,"22",101,{"v":9,"d":"09"},{"v":2,"d":"002"},"静岡県","葵区(静岡市)","井川村","門間",null,"","",{"$f":"IF(K168=\"\",\"\",COUNTIF($K$7:K168,\"ﾘｽﾄ１\"))","v":""},"","","","","","","",{"$f":"IF(S168=\"\",\"\",COUNTIF($S$7:S168,\"該当２\"))","v":""},"","",{"$f":"IF(V168=\"\",\"\",COUNTIF($V$7:V168,\"該当３\"))","v":""}]
[2210109003,"22",101,{"v":9,"d":"09"},{"v":3,"d":"003"},"静岡県","葵区(静岡市)","井川村","薬沢上",null,"","",{"$f":"IF(K169=\"\",\"\",COUNTIF($K$7:K169,\"ﾘｽﾄ１\"))","v":""},"","","","","","","",{"$f":"IF(S169=\"\",\"\",COUNTIF($S$7:S169,\"該当２\"))","v":""},"","",{"$f":"IF(V169=\"\",\"\",COUNTIF($V$7:V169,\"該当３\"))","v":""}]
[2210109004,"22",101,{"v":9,"d":"09"},{"v":4,"d":"004"},"静岡県","葵区(静岡市)","井川村","薬沢下",null,"","",{"$f":"IF(K170=\"\",\"\",COUNTIF($K$7:K170,\"ﾘｽﾄ１\"))","v":""},"","","","","","","",{"$f":"IF(S170=\"\",\"\",COUNTIF($S$7:S170,\"該当２\"))","v":""},"","",{"$f":"IF(V170=\"\",\"\",COUNTIF($V$7:V170,\"該当３\"))","v":""}]
[2210109005,"22",101,{"v":9,"d":"09"},{"v":5,"d":"005"},"静岡県","葵区(静岡市)","井川村","中野上",null,"","",{"$f":"IF(K171=\"\",\"\",COUNTIF($K$7:K171,\"ﾘｽﾄ１\"))","v":""},"","","","","","","",{"$f":"IF(S171=\"\",\"\",COUNTIF($S$7:S171,\"該当２\"))","v":""},"","",{"$f":"IF(V171=\"\",\"\",COUNTIF($V$7:V171,\"該当３\"))","v":""}]
[2210109006,"22",101,{"v":9,"d":"09"},{"v":6,"d":"006"},"静岡県","葵区(静岡市)","井川村","中野下",null,"","",{"$f":"IF(K172=\"\",\"\",COUNTIF($K$7:K172,\"ﾘｽﾄ１\"))","v":""},"","","","","","","",{"$f":"IF(S172=\"\",\"\",COUNTIF($S$7:S172,\"該当２\"))","v":""},"","",{"$f":"IF(V172=\"\",\"\",COUNTIF($V$7:V172,\"該当３\"))","v":""}]
[2210109007,"22",101,{"v":9,"d":"09"},{"v":7,"d":"007"},"静岡県","葵区(静岡市)","井川村","閑蔵",null,"","",{"$f":"IF(K173=\"\",\"\",COUNTIF($K$7:K173,\"ﾘｽﾄ１\"))","v":""},"","","","","","","",{"$f":"IF(S173=\"\",\"\",COUNTIF($S$7:S173,\"該当２\"))","v":""},"","",{"$f":"IF(V173=\"\",\"\",COUNTIF($V$7:V173,\"該当３\"))","v":""}]
[2210109008,"22",101,{"v":9,"d":"09"},{"v":8,"d":"008"},"静岡県","葵区(静岡市)","井川村","田代",null,"","",{"$f":"IF(K174=\"\",\"\",COUNTIF($K$7:K174,\"ﾘｽﾄ１\"))","v":""},"","","","","","","",{"$f":"IF(S174=\"\",\"\",COUNTIF($S$7:S174,\"該当２\"))","v":""},"","",{"$f":"IF(V174=\"\",\"\",COUNTIF($V$7:V174,\"該当３\"))","v":""}]
[2210109009,"22",101,{"v":9,"d":"09"},{"v":9,"d":"009"},"静岡県","葵区(静岡市)","井川村","小河内",null,"","",{"$f":"IF(K175=\"\",\"\",COUNTIF($K$7:K175,\"ﾘｽﾄ１\"))","v":""},"","","","","","","",{"$f":"IF(S175=\"\",\"\",COUNTIF($S$7:S175,\"該当２\"))","v":""},"","",{"$f":"IF(V175=\"\",\"\",COUNTIF($V$7:V175,\"該当３\"))","v":""}]
[2210109010,"22",101,{"v":9,"d":"09"},{"v":10,"d":"010"},"静岡県","葵区(静岡市)","井川村","大島",null,"","",{"$f":"IF(K176=\"\",\"\",COUNTIF($K$7:K176,\"ﾘｽﾄ１\"))","v":""},"","","","","","","",{"$f":"IF(S176=\"\",\"\",COUNTIF($S$7:S176,\"該当２\"))","v":""},"","",{"$f":"IF(V176=\"\",\"\",COUNTIF($V$7:V176,\"該当３\"))","v":""}]
[2210109011,"22",101,{"v":9,"d":"09"},{"v":11,"d":"011"},"静岡県","葵区(静岡市)","井川村","中山",null,"","",{"$f":"IF(K177=\"\",\"\",COUNTIF($K$7:K177,\"ﾘｽﾄ１\"))","v":""},"","","","","","","",{"$f":"IF(S177=\"\",\"\",COUNTIF($S$7:S177,\"該当２\"))","v":""},"","",{"$f":"IF(V177=\"\",\"\",COUNTIF($V$7:V177,\"該当３\"))","v":""}]
[2210109012,"22",101,{"v":9,"d":"09"},{"v":12,"d":"012"},"静岡県","葵区(静岡市)","井川村","上岩",null,"","",{"$f":"IF(K178=\"\",\"\",COUNTIF($K$7:K178,\"ﾘｽﾄ１\"))","v":""},"","","","","","","",{"$f":"IF(S178=\"\",\"\",COUNTIF($S$7:S178,\"該当２\"))","v":""},"","",{"$f":"IF(V178=\"\",\"\",COUNTIF($V$7:V178,\"該当３\"))","v":""}]
[2210109013,"22",101,{"v":9,"d":"09"},{"v":13,"d":"013"},"静岡県","葵区(静岡市)","井川村","口坂本",null,"","",{"$f":"IF(K179=\"\",\"\",COUNTIF($K$7:K179,\"ﾘｽﾄ１\"))","v":""},"","","","","","","",{"$f":"IF(S179=\"\",\"\",COUNTIF($S$7:S179,\"該当２\"))","v":""},"","",{"$f":"IF(V179=\"\",\"\",COUNTIF($V$7:V179,\"該当３\"))","v":""}]
[2210109014,"22",101,{"v":9,"d":"09"},{"v":14,"d":"014"},"静岡県","葵区(静岡市)","井川村","開拓",null,"","",{"$f":"IF(K180=\"\",\"\",COUNTIF($K$7:K180,\"ﾘｽﾄ１\"))","v":""},"","","","","","","",{"$f":"IF(S180=\"\",\"\",COUNTIF($S$7:S180,\"該当２\"))","v":""},"","",{"$f":"IF(V180=\"\",\"\",COUNTIF($V$7:V180,\"該当３\"))","v":""}]
[2210109015,"22",101,{"v":9,"d":"09"},{"v":15,"d":"015"},"静岡県","葵区(静岡市)","井川村","曙",null,"","",{"$f":"IF(K181=\"\",\"\",COUNTIF($K$7:K181,\"ﾘｽﾄ１\"))","v":""},"","","","","","","",{"$f":"IF(S181=\"\",\"\",COUNTIF($S$7:S181,\"該当２\"))","v":""},"","",{"$f":"IF(V181=\"\",\"\",COUNTIF($V$7:V181,\"該当３\"))","v":""}]
[2210109016,"22",101,{"v":9,"d":"09"},{"v":16,"d":"016"},"静岡県","葵区(静岡市)","井川村","西山平",null,"","",{"$f":"IF(K182=\"\",\"\",COUNTIF($K$7:K182,\"ﾘｽﾄ１\"))","v":""},"","","","","","","",{"$f":"IF(S182=\"\",\"\",COUNTIF($S$7:S182,\"該当２\"))","v":""},"","",{"$f":"IF(V182=\"\",\"\",COUNTIF($V$7:V182,\"該当３\"))","v":""}]
[2210110000,"22",101,10,{"v":0,"d":"000"},"静岡県","葵区(静岡市)","清沢村",null,null,"","",{"$f":"IF(K183=\"\",\"\",COUNTIF($K$7:K183,\"ﾘｽﾄ１\"))","v":""},"","","","","","","",{"$f":"IF(S183=\"\",\"\",COUNTIF($S$7:S183,\"該当２\"))","v":""},"","",{"$f":"IF(V183=\"\",\"\",COUNTIF($V$7:V183,\"該当３\"))","v":""}]
[2210110001,"22",101,10,{"v":1,"d":"001"},"静岡県","葵区(静岡市)","清沢村","小島",null,"","",{"$f":"IF(K184=\"\",\"\",COUNTIF($K$7:K184,\"ﾘｽﾄ１\"))","v":""},"","","","","","","",{"$f":"IF(S184=\"\",\"\",COUNTIF($S$7:S184,\"該当２\"))","v":""},"","",{"$f":"IF(V184=\"\",\"\",COUNTIF($V$7:V184,\"該当３\"))","v":""}]
[2210110002,"22",101,10,{"v":2,"d":"002"},"静岡県","葵区(静岡市)","清沢村","鍵穴",null,"","",{"$f":"IF(K185=\"\",\"\",COUNTIF($K$7:K185,\"ﾘｽﾄ１\"))","v":""},"","","","","","","",{"$f":"IF(S185=\"\",\"\",COUNTIF($S$7:S185,\"該当２\"))","v":""},"","",{"$f":"IF(V185=\"\",\"\",COUNTIF($V$7:V185,\"該当３\"))","v":""}]
[2210110003,"22",101,10,{"v":3,"d":"003"},"静岡県","葵区(静岡市)","清沢村","寺島",null,"","",{"$f":"IF(K186=\"\",\"\",COUNTIF($K$7:K186,\"ﾘｽﾄ１\"))","v":""},"","","","","","","",{"$f":"IF(S186=\"\",\"\",COUNTIF($S$7:S186,\"該当２\"))","v":""},"","",{"$f":"IF(V186=\"\",\"\",COUNTIF($V$7:V186,\"該当３\"))","v":""}]
[2210110004,"22",101,10,{"v":4,"d":"004"},"静岡県","葵区(静岡市)","清沢村","坂本",null,"","",{"$f":"IF(K187=\"\",\"\",COUNTIF($K$7:K187,\"ﾘｽﾄ１\"))","v":""},"","","","","","","",{"$f":"IF(S187=\"\",\"\",COUNTIF($S$7:S187,\"該当２\"))","v":""},"","",{"$f":"IF(V187=\"\",\"\",COUNTIF($V$7:V187,\"該当３\"))","v":""}]
[2210110005,"22",101,10,{"v":5,"d":"005"},"静岡県","葵区(静岡市)","清沢村","赤沢",null,"","",{"$f":"IF(K188=\"\",\"\",COUNTIF($K$7:K188,\"ﾘｽﾄ１\"))","v":""},"","","","","","","",{"$f":"IF(S188=\"\",\"\",COUNTIF($S$7:S188,\"該当２\"))","v":""},"","",{"$f":"IF(V188=\"\",\"\",COUNTIF($V$7:V188,\"該当３\"))","v":""}]
[2210110006,"22",101,10,{"v":6,"d":"006"},"静岡県","葵区(静岡市)","清沢村","昼居渡",null,"","",{"$f":"IF(K189=\"\",\"\",COUNTIF($K$7:K189,\"ﾘｽﾄ１\"))","v":""},"","","","","","","",{"$f":"IF(S189=\"\",\"\",COUNTIF($S$7:S189,\"該当２\"))","v":""},"","",{"$f":"IF(V189=\"\",\"\",COUNTIF($V$7:V189,\"該当３\"))","v":""}]
[2210110007,"22",101,10,{"v":7,"d":"007"},"静岡県","葵区(静岡市)","清沢村","下相俣",null,"","",{"$f":"IF(K190=\"\",\"\",COUNTIF($K$7:K190,\"ﾘｽﾄ１\"))","v":""},"","","","","","","",{"$f":"IF(S190=\"\",\"\",COUNTIF($S$7:S190,\"該当２\"))","v":""},"","",{"$f":"IF(V190=\"\",\"\",COUNTIF($V$7:V190,\"該当３\"))","v":""}]
[2210110008,"22",101,10,{"v":8,"d":"008"},"静岡県","葵区(静岡市)","清沢村","上相俣",null,"","",{"$f":"IF(K191=\"\",\"\",COUNTIF($K$7:K191,\"ﾘｽﾄ１\"))","v":""},"","","","","","","",{"$f":"IF(S191=\"\",\"\",COUNTIF($S$7:S191,\"該当２\"))","v":""},"","",{"$f":"IF(V191=\"\",\"\",COUNTIF($V$7:V191,\"該当３\"))","v":""}]
[2210110009,"22",101,10,{"v":9,"d":"009"},"静岡県","葵区(静岡市)","清沢村","久能尾",null,"","",{"$f":"IF(K192=\"\",\"\",COUNTIF($K$7:K192,\"ﾘｽﾄ１\"))","v":""},"","","","","","","",{"$f":"IF(S192=\"\",\"\",COUNTIF($S$7:S192,\"該当２\"))","v":""},"","",{"$f":"IF(V192=\"\",\"\",COUNTIF($V$7:V192,\"該当３\"))","v":""}]
[2210110010,"22",101,10,{"v":10,"d":"010"},"静岡県","葵区(静岡市)","清沢村","黒俣（中村）",null,"","",{"$f":"IF(K193=\"\",\"\",COUNTIF($K$7:K193,\"ﾘｽﾄ１\"))","v":""},"","","","","","","",{"$f":"IF(S193=\"\",\"\",COUNTIF($S$7:S193,\"該当２\"))","v":""},"","",{"$f":"IF(V193=\"\",\"\",COUNTIF($V$7:V193,\"該当３\"))","v":""}]
[2210110011,"22",101,10,{"v":11,"d":"011"},"静岡県","葵区(静岡市)","清沢村","三ッ野",null,"","",{"$f":"IF(K194=\"\",\"\",COUNTIF($K$7:K194,\"ﾘｽﾄ１\"))","v":""},"","","","","","","",{"$f":"IF(S194=\"\",\"\",COUNTIF($S$7:S194,\"該当２\"))","v":""},"","",{"$f":"IF(V194=\"\",\"\",COUNTIF($V$7:V194,\"該当３\"))","v":""}]
[2210110012,"22",101,10,{"v":12,"d":"012"},"静岡県","葵区(静岡市)","清沢村","峰山",null,"","",{"$f":"IF(K195=\"\",\"\",COUNTIF($K$7:K195,\"ﾘｽﾄ１\"))","v":""},"","","","","","","",{"$f":"IF(S195=\"\",\"\",COUNTIF($S$7:S195,\"該当２\"))","v":""},"","",{"$f":"IF(V195=\"\",\"\",COUNTIF($V$7:V195,\"該当３\"))","v":""}]
[2210110013,"22",101,10,{"v":13,"d":"013"},"静岡県","葵区(静岡市)","清沢村","中塚",null,"","",{"$f":"IF(K196=\"\",\"\",COUNTIF($K$7:K196,\"ﾘｽﾄ１\"))","v":""},"","","","","","","",{"$f":"IF(S196=\"\",\"\",COUNTIF($S$7:S196,\"該当２\"))","v":""},"","",{"$f":"IF(V196=\"\",\"\",COUNTIF($V$7:V196,\"該当３\"))","v":""}]
[2210110014,"22",101,10,{"v":14,"d":"014"},"静岡県","葵区(静岡市)","清沢村","蛇塚",null,"","",{"$f":"IF(K197=\"\",\"\",COUNTIF($K$7:K197,\"ﾘｽﾄ１\"))","v":""},"","","","","","","",{"$f":"IF(S197=\"\",\"\",COUNTIF($S$7:S197,\"該当２\"))","v":""},"","",{"$f":"IF(V197=\"\",\"\",COUNTIF($V$7:V197,\"該当３\"))","v":""}]
[2210110015,"22",101,10,{"v":15,"d":"015"},"静岡県","葵区(静岡市)","清沢村","杉尾",null,"","",{"$f":"IF(K198=\"\",\"\",COUNTIF($K$7:K198,\"ﾘｽﾄ１\"))","v":""},"","","","","","","",{"$f":"IF(S198=\"\",\"\",COUNTIF($S$7:S198,\"該当２\"))","v":""},"","",{"$f":"IF(V198=\"\",\"\",COUNTIF($V$7:V198,\"該当３\"))","v":""}]
[2210111000,"22",101,11,{"v":0,"d":"000"},"静岡県","葵区(静岡市)","大川村",null,null,"","",{"$f":"IF(K199=\"\",\"\",COUNTIF($K$7:K199,\"ﾘｽﾄ１\"))","v":""},"","","","","","","",{"$f":"IF(S199=\"\",\"\",COUNTIF($S$7:S199,\"該当２\"))","v":""},"","",{"$f":"IF(V199=\"\",\"\",COUNTIF($V$7:V199,\"該当３\"))","v":""}]
[2210111001,"22",101,11,{"v":1,"d":"001"},"静岡県","葵区(静岡市)","大川村","坂ノ上",null,"","",{"$f":"IF(K200=\"\",\"\",COUNTIF($K$7:K200,\"ﾘｽﾄ１\"))","v":""},"","",{"$f":"IF(O200=\"該当１\",G200,\"\")","v":""},{"$f":"IF(O200=\"該当１\",\"ﾘｽﾄ2\",\"\")","v":""},{"$f":"IF(Q200=\"ﾘｽﾄ2\",H200,\"\")","v":""},"",{"$f":"IF(S200=\"該当２\",H200,\"\")","v":""},{"$f":"IF(S200=\"\",\"\",COUNTIF($S$7:S200,\"該当２\"))","v":""},{"$f":"IF(AND($S$2=H200,E200>0,E200<998),\"該当３\",\"\")","v":""},{"$f":"IF(V200=\"該当３\",I200,\"\")","v":""},{"$f":"IF(V200=\"\",\"\",COUNTIF($V$7:V200,\"該当３\"))","v":""}]
[2210111002,"22",101,11,{"v":2,"d":"002"},"静岡県","葵区(静岡市)","大川村","栃沢",null,{"$f":"IF(AND($C201>0,$H201=\"\"),\"ﾘｽﾄ１\",\"\")","v":""},{"$f":"IF(K201=\"ﾘｽﾄ１\",G201,\"\")","v":""},{"$f":"IF(K201=\"\",\"\",COUNTIF($K$7:K201,\"ﾘｽﾄ１\"))","v":""},{"$f":"IF(AND(D201=0,E201>0),\"同一区\",\"\")","v":""},{"$f":"IF(AND(EXACT($K$2,G201),H201>0),\"該当１\",\"\")","v":""},"","","",{"$f":"IF(AND(Q201=\"ﾘｽﾄ2\",OR(I201=0,AND(N201=\"同一区\",E201=1))),\"該当２\",\"\")","v":""},"",{"$f":"IF(S201=\"\",\"\",COUNTIF($S$7:S201,\"該当２\"))","v":""},"","",{"$f":"IF(V201=\"\",\"\",COUNTIF($V$7:V201,\"該当３\"))","v":""}]
[2210111003,"22",101,11,{"v":3,"d":"003"},"静岡県","葵区(静岡市)","大川村","日向",null,"","",{"$f":"IF(K202=\"\",\"\",COUNTIF($K$7:K202,\"ﾘｽﾄ１\"))","v":""},"","","","","","","",{"$f":"IF(S202=\"\",\"\",COUNTIF($S$7:S202,\"該当２\"))","v":""},"","",{"$f":"IF(V202=\"\",\"\",COUNTIF($V$7:V202,\"該当３\"))","v":""}]
[2210111004,"22",101,11,{"v":4,"d":"004"},"静岡県","葵区(静岡市)","大川村","開拓",null,"","",{"$f":"IF(K203=\"\",\"\",COUNTIF($K$7:K203,\"ﾘｽﾄ１\"))","v":""},"","","","","","","",{"$f":"IF(S203=\"\",\"\",COUNTIF($S$7:S203,\"該当２\"))","v":""},"","",{"$f":"IF(V203=\"\",\"\",COUNTIF($V$7:V203,\"該当３\"))","v":""}]
[2210111005,"22",101,11,{"v":5,"d":"005"},"静岡県","葵区(静岡市)","大川村","諸子沢",null,"","",{"$f":"IF(K204=\"\",\"\",COUNTIF($K$7:K204,\"ﾘｽﾄ１\"))","v":""},"","","","","","","",{"$f":"IF(S204=\"\",\"\",COUNTIF($S$7:S204,\"該当２\"))","v":""},"","",{"$f":"IF(V204=\"\",\"\",COUNTIF($V$7:V204,\"該当３\"))","v":""}]
[2210111006,"22",101,11,{"v":6,"d":"006"},"静岡県","葵区(静岡市)","大川村","湯ノ島",null,"","",{"$f":"IF(K205=\"\",\"\",COUNTIF($K$7:K205,\"ﾘｽﾄ１\"))","v":""},"","","","","","","",{"$f":"IF(S205=\"\",\"\",COUNTIF($S$7:S205,\"該当２\"))","v":""},"","",{"$f":"IF(V205=\"\",\"\",COUNTIF($V$7:V205,\"該当３\"))","v":""}]
[2210111007,"22",101,11,{"v":7,"d":"007"},"静岡県","葵区(静岡市)","大川村","崩野",null,"","",{"$f":"IF(K206=\"\",\"\",COUNTIF($K$7:K206,\"ﾘｽﾄ１\"))","v":""},"","","","","","","",{"$f":"IF(S206=\"\",\"\",COUNTIF($S$7:S206,\"該当２\"))","v":""},"","",{"$f":"IF(V206=\"\",\"\",COUNTIF($V$7:V206,\"該当３\"))","v":""}]
[2210111008,"22",101,11,{"v":8,"d":"008"},"静岡県","葵区(静岡市)","大川村","楢尾",null,"","",{"$f":"IF(K207=\"\",\"\",COUNTIF($K$7:K207,\"ﾘｽﾄ１\"))","v":""},"","","","","","","",{"$f":"IF(S207=\"\",\"\",COUNTIF($S$7:S207,\"該当２\"))","v":""},"","",{"$f":"IF(V207=\"\",\"\",COUNTIF($V$7:V207,\"該当３\"))","v":""}]
[2210111009,"22",101,11,{"v":9,"d":"009"},"静岡県","葵区(静岡市)","大川村","大間",null,"","",{"$f":"IF(K208=\"\",\"\",COUNTIF($K$7:K208,\"ﾘｽﾄ１\"))","v":""},"","","","","","","",{"$f":"IF(S208=\"\",\"\",COUNTIF($S$7:S208,\"該当２\"))","v":""},"","",{"$f":"IF(V208=\"\",\"\",COUNTIF($V$7:V208,\"該当３\"))","v":""}]
[2210200000,"22",102,{"v":0,"d":"00"},{"v":0,"d":"000"},"静岡県","駿河区(静岡市)",{"$nulls":3},"ﾘｽﾄ１","駿河区(静岡市)",{"$f":"IF(K209=\"\",\"\",COUNTIF($K$7:K209,\"ﾘｽﾄ１\"))","v":3},"","","","","","","",{"$f":"IF(S209=\"\",\"\",COUNTIF($S$7:S209,\"該当２\"))","v":""},"","",{"$f":"IF(V209=\"\",\"\",COUNTIF($V$7:V209,\"該当３\"))","v":""}]
[2210201000,"22",102,{"v":1,"d":"01"},{"v":0,"d":"000"},"静岡県","駿河区(静岡市)","静岡市2-2",null,null,"","",{"$f":"IF(K210=\"\",\"\",COUNTIF($K$7:K210,\"ﾘｽﾄ１\"))","v":""},"","","","","","","",{"$f":"IF(S210=\"\",\"\",COUNTIF($S$7:S210,\"該当２\"))","v":""},"","",{"$f":"IF(V210=\"\",\"\",COUNTIF($V$7:V210,\"該当３\"))","v":""}]
[2210201001,"22",102,{"v":1,"d":"01"},{"v":1,"d":"001"},"静岡県","駿河区(静岡市)","静岡市2-2","有東",null,"","",{"$f":"IF(K211=\"\",\"\",COUNTIF($K$7:K211,\"ﾘｽﾄ１\"))","v":""},"","","","","","","",{"$f":"IF(S211=\"\",\"\",COUNTIF($S$7:S211,\"該当２\"))","v":""},"","",{"$f":"IF(V211=\"\",\"\",COUNTIF($V$7:V211,\"該当３\"))","v":""}]
[2210201002,"22",102,{"v":1,"d":"01"},{"v":2,"d":"002"},"静岡県","駿河区(静岡市)","静岡市2-2","小鹿",null,"","",{"$f":"IF(K212=\"\",\"\",COUNTIF($K$7:K212,\"ﾘｽﾄ１\"))","v":""},"","","","","","","",{"$f":"IF(S212=\"\",\"\",COUNTIF($S$7:S212,\"該当２\"))","v":""},"","",{"$f":"IF(V212=\"\",\"\",COUNTIF($V$7:V212,\"該当３\"))","v":""}]
[2210201003,"22",102,{"v":1,"d":"01"},{"v":3,"d":"003"},"静岡県","駿河区(静岡市)","静岡市2-2","池田",null,"","",{"$f":"IF(K213=\"\",\"\",COUNTIF($K$7:K213,\"ﾘｽﾄ１\"))","v":""},"","","","","","","",{"$f":"IF(S213=\"\",\"\",COUNTIF($S$7:S213,\"該当２\"))","v":""},"","",{"$f":"IF(V213=\"\",\"\",COUNTIF($V$7:V213,\"該当３\"))","v":""}]
[2210201004,"22",102,{"v":1,"d":"01"},{"v":4,"d":"004"},"静岡県","駿河区(静岡市)","静岡市2-2","聖一色",null,"","",{"$f":"IF(K214=\"\",\"\",COUNTIF($K$7:K214,\"ﾘｽﾄ１\"))","v":""},"","","","","","","",{"$f":"IF(S214=\"\",\"\",COUNTIF($S$7:S214,\"該当２\"))","v":""},"","",{"$f":"IF(V214=\"\",\"\",COUNTIF($V$7:V214,\"該当３\"))","v":""}]
[2210201005,"22",102,{"v":1,"d":"01"},{"v":5,"d":"005"},"静岡県","駿河区(静岡市)","静岡市2-2","栗原",null,"","",{"$f":"IF(K215=\"\",\"\",COUNTIF($K$7:K215,\"ﾘｽﾄ１\"))","v":""},"","","","","","","",{"$f":"IF(S215=\"\",\"\",COUNTIF($S$7:S215,\"該当２\"))","v":""},"","",{"$f":"IF(V215=\"\",\"\",COUNTIF($V$7:V215,\"該当３\"))","v":""}]
[2210201006,"22",102,{"v":1,"d":"01"},{"v":6,"d":"006"},"静岡県","駿河区(静岡市)","静岡市2-2","国吉田",null,"","",{"$f":"IF(K216=\"\",\"\",COUNTIF($K$7:K216,\"ﾘｽﾄ１\"))","v":""},"","","","","","","",{"$f":"IF(S216=\"\",\"\",COUNTIF($S$7:S216,\"該当２\"))","v":""},"","",{"$f":"IF(V216=\"\",\"\",COUNTIF($V$7:V216,\"該当３\"))","v":""}]
[2210201007,"22",102,{"v":1,"d":"01"},{"v":7,"d":"007"},"静岡県","駿河区(静岡市)","静岡市2-2","曲金",null,"","",{"$f":"IF(K217=\"\",\"\",COUNTIF($K$7:K217,\"ﾘｽﾄ１\"))","v":""},"","","","","","","",{"$f":"IF(S217=\"\",\"\",COUNTIF($S$7:S217,\"該当２\"))","v":""},"","",{"$f":"IF(V217=\"\",\"\",COUNTIF($V$7:V217,\"該当３\"))","v":""}]
[2210201008,"22",102,{"v":1,"d":"01"},{"v":8,"d":"008"},"静岡県","駿河区(静岡市)","静岡市2-2","小黒",null,"","",{"$f":"IF(K218=\"\",\"\",COUNTIF($K$7:K218,\"ﾘｽﾄ１\"))","v":""},"","","","","","","",{"$f":"IF(S218=\"\",\"\",COUNTIF($S$7:S218,\"該当２\"))","v":""},"","",{"$f":"IF(V218=\"\",\"\",COUNTIF($V$7:V218,\"該当３\"))","v":""}]
[2210201009,"22",102,{"v":1,"d":"01"},{"v":9,"d":"009"},"静岡県","駿河区(静岡市)","静岡市2-2","八幡",null,"","",{"$f":"IF(K219=\"\",\"\",COUNTIF($K$7:K219,\"ﾘｽﾄ１\"))","v":""},"","","","","","","",{"$f":"IF(S219=\"\",\"\",COUNTIF($S$7:S219,\"該当２\"))","v":""},"","",{"$f":"IF(V219=\"\",\"\",COUNTIF($V$7:V219,\"該当３\"))","v":""}]
[2210201010,"22",102,{"v":1,"d":"01"},{"v":10,"d":"010"},"静岡県","駿河区(静岡市)","静岡市2-2","中原",null,"","",{"$f":"IF(K220=\"\",\"\",COUNTIF($K$7:K220,\"ﾘｽﾄ１\"))","v":""},"","","","","","","",{"$f":"IF(S220=\"\",\"\",COUNTIF($S$7:S220,\"該当２\"))","v":""},"","",{"$f":"IF(V220=\"\",\"\",COUNTIF($V$7:V220,\"該当３\"))","v":""}]
[2210201011,"22",102,{"v":1,"d":"01"},{"v":11,"d":"011"},"静岡県","駿河区(静岡市)","静岡市2-2","中野新田",null,"","",{"$f":"IF(K221=\"\",\"\",COUNTIF($K$7:K221,\"ﾘｽﾄ１\"))","v":""},"","","","","","","",{"$f":"IF(S221=\"\",\"\",COUNTIF($S$7:S221,\"該当２\"))","v":""},"","",{"$f":"IF(V221=\"\",\"\",COUNTIF($V$7:V221,\"該当３\"))","v":""}]
[2210201012,"22",102,{"v":1,"d":"01"},{"v":12,"d":"012"},"静岡県","駿河区(静岡市)","静岡市2-2","中島上",null,"","",{"$f":"IF(K222=\"\",\"\",COUNTIF($K$7:K222,\"ﾘｽﾄ１\"))","v":""},"","","","","","","",{"$f":"IF(S222=\"\",\"\",COUNTIF($S$7:S222,\"該当２\"))","v":""},"","",{"$f":"IF(V222=\"\",\"\",COUNTIF($V$7:V222,\"該当３\"))","v":""}]
[2210201013,"22",102,{"v":1,"d":"01"},{"v":13,"d":"013"},"静岡県","駿河区(静岡市)","静岡市2-2","中島中",null,"","",{"$f":"IF(K223=\"\",\"\",COUNTIF($K$7:K223,\"ﾘｽﾄ１\"))","v":""},"","","","","","","",{"$f":"IF(S223=\"\",\"\",COUNTIF($S$7:S223,\"該当２\"))","v":""},"","",{"$f":"IF(V223=\"\",\"\",COUNTIF($V$7:V223,\"該当３\"))","v":""}]
[2210201014,"22",102,{"v":1,"d":"01"},{"v":14,"d":"014"},"静岡県","駿河区(静岡市)","静岡市2-2","中島西",null,"","",{"$f":"IF(K224=\"\",\"\",COUNTIF($K$7:K224,\"ﾘｽﾄ１\"))","v":""},"","","","","","","",{"$f":"IF(S224=\"\",\"\",COUNTIF($S$7:S224,\"該当２\"))","v":""},"","",{"$f":"IF(V224=\"\",\"\",COUNTIF($V$7:V224,\"該当３\"))","v":""}]
[2210201015,"22",102,{"v":1,"d":"01"},{"v":15,"d":"015"},"静岡県","駿河区(静岡市)","静岡市2-2","中島浜",null,"","",{"$f":"IF(K225=\"\",\"\",COUNTIF($K$7:K225,\"ﾘｽﾄ１\"))","v":""},"","","","","","","",{"$f":"IF(S225=\"\",\"\",COUNTIF($S$7:S225,\"該当２\"))","v":""},"","",{"$f":"IF(V225=\"\",\"\",COUNTIF($V$7:V225,\"該当３\"))","v":""}]
[2210201016,"22",102,{"v":1,"d":"01"},{"v":16,"d":"016"},"静岡県","駿河区(静岡市)","静岡市2-2","西島",null,"","",{"$f":"IF(K226=\"\",\"\",COUNTIF($K$7:K226,\"ﾘｽﾄ１\"))","v":""},"","","","","","","",{"$f":"IF(S226=\"\",\"\",COUNTIF($S$7:S226,\"該当２\"))","v":""},"","",{"$f":"IF(V226=\"\",\"\",COUNTIF($V$7:V226,\"該当３\"))","v":""}]
[2210201017,"22",102,{"v":1,"d":"01"},{"v":17,"d":"017"},"静岡県","駿河区(静岡市)","静岡市2-2","西脇",null,"","",{"$f":"IF(K227=\"\",\"\",COUNTIF($K$7:K227,\"ﾘｽﾄ１\"))","v":""},"","","","","","","",{"$f":"IF(S227=\"\",\"\",COUNTIF($S$7:S227,\"該当２\"))","v":""},"","",{"$f":"IF(V227=\"\",\"\",COUNTIF($V$7:V227,\"該当３\"))","v":""}]
[2210201018,"22",102,{"v":1,"d":"01"},{"v":18,"d":"018"},"静岡県","駿河区(静岡市)","静岡市2-2","中村",null,"","",{"$f":"IF(K228=\"\",\"\",COUNTIF($K$7:K228,\"ﾘｽﾄ１\"))","v":""},"","","","","","","",{"$f":"IF(S228=\"\",\"\",COUNTIF($S$7:S228,\"該当２\"))","v":""},"","",{"$f":"IF(V228=\"\",\"\",COUNTIF($V$7:V228,\"該当３\"))","v":""}]
[2210201019,"22",102,{"v":1,"d":"01"},{"v":19,"d":"019"},"静岡県","駿河区(静岡市)","静岡市2-2","見瀬",null,"","",{"$f":"IF(K229=\"\",\"\",COUNTIF($K$7:K229,\"ﾘｽﾄ１\"))","v":""},"","","","","","","",{"$f":"IF(S229=\"\",\"\",COUNTIF($S$7:S229,\"該当２\"))","v":""},"","",{"$f":"IF(V229=\"\",\"\",COUNTIF($V$7:V229,\"該当３\"))","v":""}]
[2210201020,"22",102,{"v":1,"d":"01"},{"v":20,"d":"020"},"静岡県","駿河区(静岡市)","静岡市2-2","中田",null,"","",{"$f":"IF(K230=\"\",\"\",COUNTIF($K$7:K230,\"ﾘｽﾄ１\"))","v":""},"","","","","","","",{"$f":"IF(S230=\"\",\"\",COUNTIF($S$7:S230,\"該当２\"))","v":""},"","",{"$f":"IF(V230=\"\",\"\",COUNTIF($V$7:V230,\"該当３\"))","v":""}]
[2210201021,"22",102,{"v":1,"d":"01"},{"v":21,"d":"021"},"静岡県","駿河区(静岡市)","静岡市2-2","石田",null,"","",{"$f":"IF(K231=\"\",\"\",COUNTIF($K$7:K231,\"ﾘｽﾄ１\"))","v":""},"","","","","","","",{"$f":"IF(S231=\"\",\"\",COUNTIF($S$7:S231,\"該当２\"))","v":""},"","",{"$f":"IF(V231=\"\",\"\",COUNTIF($V$7:V231,\"該当３\"))","v":""}]
[2210201022,"22",102,{"v":1,"d":"01"},{"v":22,"d":"022"},"静岡県","駿河区(静岡市)","静岡市2-2","高松",null,"","",{"$f":"IF(K232=\"\",\"\",COUNTIF($K$7:K232,\"ﾘｽﾄ１\"))","v":""},"","","","","","","",{"$f":"IF(S232=\"\",\"\",COUNTIF($S$7:S232,\"該当２\"))","v":""},"","",{"$f":"IF(V232=\"\",\"\",COUNTIF($V$7:V232,\"該当３\"))","v":""}]
[2210201023,"22",102,{"v":1,"d":"01"},{"v":23,"d":"023"},"静岡県","駿河区(静岡市)","静岡市2-2","宮竹",null,"","",{"$f":"IF(K233=\"\",\"\",COUNTIF($K$7:K233,\"ﾘｽﾄ１\"))","v":""},"","","","","","","",{"$f":"IF(S233=\"\",\"\",COUNTIF($S$7:S233,\"該当２\"))","v":""},"","",{"$f":"IF(V233=\"\",\"\",COUNTIF($V$7:V233,\"該当３\"))","v":""}]
[2210201024,"22",102,{"v":1,"d":"01"},{"v":24,"d":"024"},"静岡県","駿河区(静岡市)","静岡市2-2","敷地",null,"","",{"$f":"IF(K234=\"\",\"\",COUNTIF($K$7:K234,\"ﾘｽﾄ１\"))","v":""},"","","","","","","",{"$f":"IF(S234=\"\",\"\",COUNTIF($S$7:S234,\"該当２\"))","v":""},"","",{"$f":"IF(V234=\"\",\"\",COUNTIF($V$7:V234,\"該当３\"))","v":""}]
[2210201025,"22",102,{"v":1,"d":"01"},{"v":25,"d":"025"},"静岡県","駿河区(静岡市)","静岡市2-2","下島",null,"","",{"$f":"IF(K235=\"\",\"\",COUNTIF($K$7:K235,\"ﾘｽﾄ１\"))","v":""},"","","","","","","",{"$f":"IF(S235=\"\",\"\",COUNTIF($S$7:S235,\"該当２\"))","v":""},"","",{"$f":"IF(V235=\"\",\"\",COUNTIF($V$7:V235,\"該当３\"))","v":""}]
[2210201026,"22",102,{"v":1,"d":"01"},{"v":26,"d":"026"},"静岡県","駿河区(静岡市)","静岡市2-2","川辺２－２",null,"","",{"$f":"IF(K236=\"\",\"\",COUNTIF($K$7:K236,\"ﾘｽﾄ１\"))","v":""},"","","","","","","",{"$f":"IF(S236=\"\",\"\",COUNTIF($S$7:S236,\"該当２\"))","v":""},"","",{"$f":"IF(V236=\"\",\"\",COUNTIF($V$7:V236,\"該当３\"))","v":""}]
[2210201027,"22",102,{"v":1,"d":"01"},{"v":27,"d":"027"},"静岡県","駿河区(静岡市)","静岡市2-2","南安倍２－２",null,"","",{"$f":"IF(K237=\"\",\"\",COUNTIF($K$7:K237,\"ﾘｽﾄ１\"))","v":""},"","","","","","","",{"$f":"IF(S237=\"\",\"\",COUNTIF($S$7:S237,\"該当２\"))","v":""},"","",{"$f":"IF(V237=\"\",\"\",COUNTIF($V$7:V237,\"該当３\"))","v":""}]
[2210201028,"22",102,{"v":1,"d":"01"},{"v":28,"d":"028"},"静岡県","駿河区(静岡市)","静岡市2-2","馬渕",null,"","",{"$f":"IF(K238=\"\",\"\",COUNTIF($K$7:K238,\"ﾘｽﾄ１\"))","v":""},"","","","","","","",{"$f":"IF(S238=\"\",\"\",COUNTIF($S$7:S238,\"該当２\"))","v":""},"","",{"$f":"IF(V238=\"\",\"\",COUNTIF($V$7:V238,\"該当３\"))","v":""}]
[2210201029,"22",102,{"v":1,"d":"01"},{"v":29,"d":"029"},"静岡県","駿河区(静岡市)","静岡市2-2","稲川",null,"","",{"$f":"IF(K239=\"\",\"\",COUNTIF($K$7:K239,\"ﾘｽﾄ１\"))","v":""},"","","","","","","",{"$f":"IF(S239=\"\",\"\",COUNTIF($S$7:S239,\"該当２\"))","v":""},"","",{"$f":"IF(V239=\"\",\"\",COUNTIF($V$7:V239,\"該当３\"))","v":""}]
[2210201030,"22",102,{"v":1,"d":"01"},{"v":30,"d":"030"},"静岡県","駿河区(静岡市)","静岡市2-2","西平松",null,"","",{"$f":"IF(K240=\"\",\"\",COUNTIF($K$7:K240,\"ﾘｽﾄ１\"))","v":""},"","","","","","","",{"$f":"IF(S240=\"\",\"\",COUNTIF($S$7:S240,\"該当２\"))","v":""},"","",{"$f":"IF(V240=\"\",\"\",COUNTIF($V$7:V240,\"該当３\"))","v":""}]
[2210201031,"22",102,{"v":1,"d":"01"},{"v":31,"d":"031"},"静岡県","駿河区(静岡市)","静岡市2-2","中平松",null,"","",{"$f":"IF(K241=\"\",\"\",COUNTIF($K$7:K241,\"ﾘｽﾄ１\"))","v":""},"","","","","","","",{"$f":"IF(S241=\"\",\"\",COUNTIF($S$7:S241,\"該当２\"))","v":""},"","",{"$f":"IF(V241=\"\",\"\",COUNTIF($V$7:V241,\"該当３\"))","v":""}]
[2210201032,"22",102,{"v":1,"d":"01"},{"v":32,"d":"032"},"静岡県","駿河区(静岡市)","静岡市2-2","青沢",null,"","",{"$f":"IF(K242=\"\",\"\",COUNTIF($K$7:K242,\"ﾘｽﾄ１\"))","v":""},"","","","","","","",{"$f":"IF(S242=\"\",\"\",COUNTIF($S$7:S242,\"該当２\"))","v":""},"","",{"$f":"IF(V242=\"\",\"\",COUNTIF($V$7:V242,\"該当３\"))","v":""}]
[2210201033,"22",102,{"v":1,"d":"01"},{"v":33,"d":"033"},"静岡県","駿河区(静岡市)","静岡市2-2","古宿",null,"","",{"$f":"IF(K243=\"\",\"\",COUNTIF($K$7:K243,\"ﾘｽﾄ１\"))","v":""},"","","","","","","",{"$f":"IF(S243=\"\",\"\",COUNTIF($S$7:S243,\"該当２\"))","v":""},"","",{"$f":"IF(V243=\"\",\"\",COUNTIF($V$7:V243,\"該当３\"))","v":""}]
[2210201034,"22",102,{"v":1,"d":"01"},{"v":34,"d":"034"},"静岡県","駿河区(静岡市)","静岡市2-2","安居",null,"","",{"$f":"IF(K244=\"\",\"\",COUNTIF($K$7:K244,\"ﾘｽﾄ１\"))","v":""},"","","","","","","",{"$f":"IF(S244=\"\",\"\",COUNTIF($S$7:S244,\"該当２\"))","v":""},"","",{"$f":"IF(V244=\"\",\"\",COUNTIF($V$7:V244,\"該当３\"))","v":""}]
[2210201035,"22",102,{"v":1,"d":"01"},{"v":35,"d":"035"},"静岡県","駿河区(静岡市)","静岡市2-2","根古屋",null,"","",{"$f":"IF(K245=\"\",\"\",COUNTIF($K$7:K245,\"ﾘｽﾄ１\"))","v":""},"","","","","","","",{"$f":"IF(S245=\"\",\"\",COUNTIF($S$7:S245,\"該当２\"))","v":""},"","",{"$f":"IF(V245=\"\",\"\",COUNTIF($V$7:V245,\"該当３\"))","v":""}]
[2210201036,"22",102,{"v":1,"d":"01"},{"v":36,"d":"036"},"静岡県","駿河区(静岡市)","静岡市2-2","片山",null,"","",{"$f":"IF(K246=\"\",\"\",COUNTIF($K$7:K246,\"ﾘｽﾄ１\"))","v":""},"","","","","","","",{"$f":"IF(S246=\"\",\"\",COUNTIF($S$7:S246,\"該当２\"))","v":""},"","",{"$f":"IF(V246=\"\",\"\",COUNTIF($V$7:V246,\"該当３\"))","v":""}]
[2210201037,"22",102,{"v":1,"d":"01"},{"v":37,"d":"037"},"静岡県","駿河区(静岡市)","静岡市2-2","宮川",null,"","",{"$f":"IF(K247=\"\",\"\",COUNTIF($K$7:K247,\"ﾘｽﾄ１\"))","v":""},"","","","","","","",{"$f":"IF(S247=\"\",\"\",COUNTIF($S$7:S247,\"該当２\"))","v":""},"","",{"$f":"IF(V247=\"\",\"\",COUNTIF($V$7:V247,\"該当３\"))","v":""}]
[2210201038,"22",102,{"v":1,"d":"01"},{"v":38,"d":"038"},"静岡県","駿河区(静岡市)","静岡市2-2","西大谷",null,"","",{"$f":"IF(K248=\"\",\"\",COUNTIF($K$7:K248,\"ﾘｽﾄ１\"))","v":""},"","","","","","","",{"$f":"IF(S248=\"\",\"\",COUNTIF($S$7:S248,\"該当２\"))","v":""},"","",{"$f":"IF(V248=\"\",\"\",COUNTIF($V$7:V248,\"該当３\"))","v":""}]
[2210201039,"22",102,{"v":1,"d":"01"},{"v":39,"d":"039"},"静岡県","駿河区(静岡市)","静岡市2-2","東大谷",null,"","",{"$f":"IF(K249=\"\",\"\",COUNTIF($K$7:K249,\"ﾘｽﾄ１\"))","v":""},"","","","","","","",{"$f":"IF(S249=\"\",\"\",COUNTIF($S$7:S249,\"該当２\"))","v":""},"","",{"$f":"IF(V249=\"\",\"\",COUNTIF($V$7:V249,\"該当３\"))","v":""}]
[2210201040,"22",102,{"v":1,"d":"01"},{"v":40,"d":"040"},"静岡県","駿河区(静岡市)","静岡市2-2","宇津ノ谷",null,"","",{"$f":"IF(K250=\"\",\"\",COUNTIF($K$7:K250,\"ﾘｽﾄ１\"))","v":""},"","","","","","","",{"$f":"IF(S250=\"\",\"\",COUNTIF($S$7:S250,\"該当２\"))","v":""},"","",{"$f":"IF(V250=\"\",\"\",COUNTIF($V$7:V250,\"該当３\"))","v":""}]
[2210201041,"22",102,{"v":1,"d":"01"},{"v":41,"d":"041"},"静岡県","駿河区(静岡市)","静岡市2-2","逆川",null,"","",{"$f":"IF(K251=\"\",\"\",COUNTIF($K$7:K251,\"ﾘｽﾄ１\"))","v":""},"","","","","","","",{"$f":"IF(S251=\"\",\"\",COUNTIF($S$7:S251,\"該当２\"))","v":""},"","",{"$f":"IF(V251=\"\",\"\",COUNTIF($V$7:V251,\"該当３\"))","v":""}]
[2210201042,"22",102,{"v":1,"d":"01"},{"v":42,"d":"042"},"静岡県","駿河区(静岡市)","静岡市2-2","赤目ヶ谷",null,"","",{"$f":"IF(K252=\"\",\"\",COUNTIF($K$7:K252,\"ﾘｽﾄ１\"))","v":""},"","","","","","","",{"$f":"IF(S252=\"\",\"\",COUNTIF($S$7:S252,\"該当２\"))","v":""},"","",{"$f":"IF(V252=\"\",\"\",COUNTIF($V$7:V252,\"該当３\"))","v":""}]
[2210201043,"22",102,{"v":1,"d":"01"},{"v":43,"d":"043"},"静岡県","駿河区(静岡市)","静岡市2-2","舟川",null,"","",{"$f":"IF(K253=\"\",\"\",COUNTIF($K$7:K253,\"ﾘｽﾄ１\"))","v":""},"","","","","","","",{"$f":"IF(S253=\"\",\"\",COUNTIF($S$7:S253,\"該当２\"))","v":""},"","",{"$f":"IF(V253=\"\",\"\",COUNTIF($V$7:V253,\"該当３\"))","v":""}]
[2210201044,"22",102,{"v":1,"d":"01"},{"v":44,"d":"044"},"静岡県","駿河区(静岡市)","静岡市2-2","二軒家",null,"","",{"$f":"IF(K254=\"\",\"\",COUNTIF($K$7:K254,\"ﾘｽﾄ１\"))","v":""},"","","","","","","",{"$f":"IF(S254=\"\",\"\",COUNTIF($S$7:S254,\"該当２\"))","v":""},"","",{"$f":"IF(V254=\"\",\"\",COUNTIF($V$7:V254,\"該当３\"))","v":""}]
[2210201045,"22",102,{"v":1,"d":"01"},{"v":45,"d":"045"},"静岡県","駿河区(静岡市)","静岡市2-2","大鈩",null,"","",{"$f":"IF(K255=\"\",\"\",COUNTIF($K$7:K255,\"ﾘｽﾄ１\"))","v":""},"","","","","","","",{"$f":"IF(S255=\"\",\"\",COUNTIF($S$7:S255,\"該当２\"))","v":""},"","",{"$f":"IF(V255=\"\",\"\",COUNTIF($V$7:V255,\"該当３\"))","v":""}]
[2210201046,"22",102,{"v":1,"d":"01"},{"v":46,"d":"046"},"静岡県","駿河区(静岡市)","静岡市2-2","元宿",null,"","",{"$f":"IF(K256=\"\",\"\",COUNTIF($K$7:K256,\"ﾘｽﾄ１\"))","v":""},"","","","","","","",{"$f":"IF(S256=\"\",\"\",COUNTIF($S$7:S256,\"該当２\"))","v":""},"","",{"$f":"IF(V256=\"\",\"\",COUNTIF($V$7:V256,\"該当３\"))","v":""}]
[2210201047,"22",102,{"v":1,"d":"01"},{"v":47,"d":"047"},"静岡県","駿河区(静岡市)","静岡市2-2","泉ヶ谷",null,"","",{"$f":"IF(K257=\"\",\"\",COUNTIF($K$7:K257,\"ﾘｽﾄ１\"))","v":""},"","","","","","","",{"$f":"IF(S257=\"\",\"\",COUNTIF($S$7:S257,\"該当２\"))","v":""},"","",{"$f":"IF(V257=\"\",\"\",COUNTIF($V$7:V257,\"該当３\"))","v":""}]
[2210201048,"22",102,{"v":1,"d":"01"},{"v":48,"d":"048"},"静岡県","駿河区(静岡市)","静岡市2-2","丸子一丁目",null,"","",{"$f":"IF(K258=\"\",\"\",COUNTIF($K$7:K258,\"ﾘｽﾄ１\"))","v":""},"","","","","","","",{"$f":"IF(S258=\"\",\"\",COUNTIF($S$7:S258,\"該当２\"))","v":""},"","",{"$f":"IF(V258=\"\",\"\",COUNTIF($V$7:V258,\"該当３\"))","v":""}]
[2210201049,"22",102,{"v":1,"d":"01"},{"v":49,"d":"049"},"静岡県","駿河区(静岡市)","静岡市2-2","丸子二丁目",null,"","",{"$f":"IF(K259=\"\",\"\",COUNTIF($K$7:K259,\"ﾘｽﾄ１\"))","v":""},"","","","","","","",{"$f":"IF(S259=\"\",\"\",COUNTIF($S$7:S259,\"該当２\"))","v":""},"","",{"$f":"IF(V259=\"\",\"\",COUNTIF($V$7:V259,\"該当３\"))","v":""}]
[2210201050,"22",102,{"v":1,"d":"01"},{"v":50,"d":"050"},"静岡県","駿河区(静岡市)","静岡市2-2","丸子三丁目",null,"","",{"$f":"IF(K260=\"\",\"\",COUNTIF($K$7:K260,\"ﾘｽﾄ１\"))","v":""},"","","","","","","",{"$f":"IF(S260=\"\",\"\",COUNTIF($S$7:S260,\"該当２\"))","v":""},"","",{"$f":"IF(V260=\"\",\"\",COUNTIF($V$7:V260,\"該当３\"))","v":""}]
[2210201051,"22",102,{"v":1,"d":"01"},{"v":51,"d":"051"},"静岡県","駿河区(静岡市)","静岡市2-2","丸子四丁目",null,"","",{"$f":"IF(K261=\"\",\"\",COUNTIF($K$7:K261,\"ﾘｽﾄ１\"))","v":""},"","","","","","","",{"$f":"IF(S261=\"\",\"\",COUNTIF($S$7:S261,\"該当２\"))","v":""},"","",{"$f":"IF(V261=\"\",\"\",COUNTIF($V$7:V261,\"該当３\"))","v":""}]
[2210201052,"22",102,{"v":1,"d":"01"},{"v":52,"d":"052"},"静岡県","駿河区(静岡市)","静岡市2-2","丸子五丁目",null,"","",{"$f":"IF(K262=\"\",\"\",COUNTIF($K$7:K262,\"ﾘｽﾄ１\"))","v":""},"","","","","","","",{"$f":"IF(S262=\"\",\"\",COUNTIF($S$7:S262,\"該当２\"))","v":""},"","",{"$f":"IF(V262=\"\",\"\",COUNTIF($V$7:V262,\"該当３\"))","v":""}]
[2210201053,"22",102,{"v":1,"d":"01"},{"v":53,"d":"053"},"静岡県","駿河区(静岡市)","静岡市2-2","沢川",null,"","",{"$f":"IF(K263=\"\",\"\",COUNTIF($K$7:K263,\"ﾘｽﾄ１\"))","v":""},"","","","","","","",{"$f":"IF(S263=\"\",\"\",COUNTIF($S$7:S263,\"該当２\"))","v":""},"","",{"$f":"IF(V263=\"\",\"\",COUNTIF($V$7:V263,\"該当３\"))","v":""}]
[2210201054,"22",102,{"v":1,"d":"01"},{"v":54,"d":"054"},"静岡県","駿河区(静岡市)","静岡市2-2","戸斗ノ谷",null,"","",{"$f":"IF(K264=\"\",\"\",COUNTIF($K$7:K264,\"ﾘｽﾄ１\"))","v":""},"","",{"$f":"IF(O264=\"該当１\",G264,\"\")","v":""},{"$f":"IF(O264=\"該当１\",\"ﾘｽﾄ2\",\"\")","v":""},{"$f":"IF(Q264=\"ﾘｽﾄ2\",H264,\"\")","v":""},"",{"$f":"IF(S264=\"該当２\",H264,\"\")","v":""},{"$f":"IF(S264=\"\",\"\",COUNTIF($S$7:S264,\"該当２\"))","v":""},{"$f":"IF(AND($S$2=H264,E264>0,E264<998),\"該当３\",\"\")","v":""},{"$f":"IF(V264=\"該当３\",I264,\"\")","v":""},{"$f":"IF(V264=\"\",\"\",COUNTIF($V$7:V264,\"該当３\"))","v":""}]
[2210201055,"22",102,{"v":1,"d":"01"},{"v":55,"d":"055"},"静岡県","駿河区(静岡市)","静岡市2-2","宗小路",null,{"$f":"IF(AND($C265>0,$H265=\"\"),\"ﾘｽﾄ１\",\"\")","v":""},{"$f":"IF(K265=\"ﾘｽﾄ１\",G265,\"\")","v":""},{"$f":"IF(K265=\"\",\"\",COUNTIF($K$7:K265,\"ﾘｽﾄ１\"))","v":""},{"$f":"IF(AND(D265=0,E265>0),\"同一区\",\"\")","v":""},{"$f":"IF(AND(EXACT($K$2,G265),H265>0),\"該当１\",\"\")","v":""},"","","",{"$f":"IF(AND(Q265=\"ﾘｽﾄ2\",OR(I265=0,AND(N265=\"同一区\",E265=1))),\"該当２\",\"\")","v":""},"",{"$f":"IF(S265=\"\",\"\",COUNTIF($S$7:S265,\"該当２\"))","v":""},"","",{"$f":"IF(V265=\"\",\"\",COUNTIF($V$7:V265,\"該当３\"))","v":""}]
[2210201056,"22",102,{"v":1,"d":"01"},{"v":56,"d":"056"},"静岡県","駿河区(静岡市)","静岡市2-2","細工所",null,"","",{"$f":"IF(K266=\"\",\"\",COUNTIF($K$7:K266,\"ﾘｽﾄ１\"))","v":""},"","","","","","","",{"$f":"IF(S266=\"\",\"\",COUNTIF($S$7:S266,\"該当２\"))","v":""},"","",{"$f":"IF(V266=\"\",\"\",COUNTIF($V$7:V266,\"該当３\"))","v":""}]
[2210201057,"22",102,{"v":1,"d":"01"},{"v":57,"d":"057"},"静岡県","駿河区(静岡市)","静岡市2-2","井尻",null,"","",{"$f":"IF(K267=\"\",\"\",COUNTIF($K$7:K267,\"ﾘｽﾄ１\"))","v":""},"","","","","","","",{"$f":"IF(S267=\"\",\"\",COUNTIF($S$7:S267,\"該当２\"))","v":""},"","",{"$f":"IF(V267=\"\",\"\",COUNTIF($V$7:V267,\"該当３\"))","v":""}]
[2210201058,"22",102,{"v":1,"d":"01"},{"v":58,"d":"058"},"静岡県","駿河区(静岡市)","静岡市2-2","佐渡",null,"","",{"$f":"IF(K268=\"\",\"\",COUNTIF($K$7:K268,\"ﾘｽﾄ１\"))","v":""},"","","","","","","",{"$f":"IF(S268=\"\",\"\",COUNTIF($S$7:S268,\"該当２\"))","v":""},"","",{"$f":"IF(V268=\"\",\"\",COUNTIF($V$7:V268,\"該当３\"))","v":""}]
[2210201059,"22",102,{"v":1,"d":"01"},{"v":59,"d":"059"},"静岡県","駿河区(静岡市)","静岡市2-2","向敷地",null,"","",{"$f":"IF(K269=\"\",\"\",COUNTIF($K$7:K269,\"ﾘｽﾄ１\"))","v":""},"","","","","","","",{"$f":"IF(S269=\"\",\"\",COUNTIF($S$7:S269,\"該当２\"))","v":""},"","",{"$f":"IF(V269=\"\",\"\",COUNTIF($V$7:V269,\"該当３\"))","v":""}]
[2210201060,"22",102,{"v":1,"d":"01"},{"v":60,"d":"060"},"静岡県","駿河区(静岡市)","静岡市2-2","手越",null,"","",{"$f":"IF(K270=\"\",\"\",COUNTIF($K$7:K270,\"ﾘｽﾄ１\"))","v":""},"","","","","","","",{"$f":"IF(S270=\"\",\"\",COUNTIF($S$7:S270,\"該当２\"))","v":""},"","",{"$f":"IF(V270=\"\",\"\",COUNTIF($V$7:V270,\"該当３\"))","v":""}]
[2210201061,"22",102,{"v":1,"d":"01"},{"v":61,"d":"061"},"静岡県","駿河区(静岡市)","静岡市2-2","手越原",null,"","",{"$f":"IF(K271=\"\",\"\",COUNTIF($K$7:K271,\"ﾘｽﾄ１\"))","v":""},"","","","","","","",{"$f":"IF(S271=\"\",\"\",COUNTIF($S$7:S271,\"該当２\"))","v":""},"","",{"$f":"IF(V271=\"\",\"\",COUNTIF($V$7:V271,\"該当３\"))","v":""}]
[2210201062,"22",102,{"v":1,"d":"01"},{"v":62,"d":"062"},"静岡県","駿河区(静岡市)","静岡市2-2","寺田",null,"","",{"$f":"IF(K272=\"\",\"\",COUNTIF($K$7:K272,\"ﾘｽﾄ１\"))","v":""},"","","","","","","",{"$f":"IF(S272=\"\",\"\",COUNTIF($S$7:S272,\"該当２\"))","v":""},"","",{"$f":"IF(V272=\"\",\"\",COUNTIF($V$7:V272,\"該当３\"))","v":""}]
[2210201063,"22",102,{"v":1,"d":"01"},{"v":63,"d":"063"},"静岡県","駿河区(静岡市)","静岡市2-2","鎌田",null,"","",{"$f":"IF(K273=\"\",\"\",COUNTIF($K$7:K273,\"ﾘｽﾄ１\"))","v":""},"","","","","","","",{"$f":"IF(S273=\"\",\"\",COUNTIF($S$7:S273,\"該当２\"))","v":""},"","",{"$f":"IF(V273=\"\",\"\",COUNTIF($V$7:V273,\"該当３\"))","v":""}]
[2210201064,"22",102,{"v":1,"d":"01"},{"v":64,"d":"064"},"静岡県","駿河区(静岡市)","静岡市2-2","上川原",null,"","",{"$f":"IF(K274=\"\",\"\",COUNTIF($K$7:K274,\"ﾘｽﾄ１\"))","v":""},"","","","","","","",{"$f":"IF(S274=\"\",\"\",COUNTIF($S$7:S274,\"該当２\"))","v":""},"","",{"$f":"IF(V274=\"\",\"\",COUNTIF($V$7:V274,\"該当３\"))","v":""}]
[2210201065,"22",102,{"v":1,"d":"01"},{"v":65,"d":"065"},"静岡県","駿河区(静岡市)","静岡市2-2","丸子新田",null,"","",{"$f":"IF(K275=\"\",\"\",COUNTIF($K$7:K275,\"ﾘｽﾄ１\"))","v":""},"","","","","","","",{"$f":"IF(S275=\"\",\"\",COUNTIF($S$7:S275,\"該当２\"))","v":""},"","",{"$f":"IF(V275=\"\",\"\",COUNTIF($V$7:V275,\"該当３\"))","v":""}]
[2210201066,"22",102,{"v":1,"d":"01"},{"v":66,"d":"066"},"静岡県","駿河区(静岡市)","静岡市2-2","東新田",null,"","",{"$f":"IF(K276=\"\",\"\",COUNTIF($K$7:K276,\"ﾘｽﾄ１\"))","v":""},"","","","","","","",{"$f":"IF(S276=\"\",\"\",COUNTIF($S$7:S276,\"該当２\"))","v":""},"","",{"$f":"IF(V276=\"\",\"\",COUNTIF($V$7:V276,\"該当３\"))","v":""}]
[2210201067,"22",102,{"v":1,"d":"01"},{"v":67,"d":"067"},"静岡県","駿河区(静岡市)","静岡市2-2","下川原",null,"","",{"$f":"IF(K277=\"\",\"\",COUNTIF($K$7:K277,\"ﾘｽﾄ１\"))","v":""},"","","","","","","",{"$f":"IF(S277=\"\",\"\",COUNTIF($S$7:S277,\"該当２\"))","v":""},"","",{"$f":"IF(V277=\"\",\"\",COUNTIF($V$7:V277,\"該当３\"))","v":""}]
[2210201068,"22",102,{"v":1,"d":"01"},{"v":68,"d":"068"},"静岡県","駿河区(静岡市)","静岡市2-2","広野",null,"","",{"$f":"IF(K278=\"\",\"\",COUNTIF($K$7:K278,\"ﾘｽﾄ１\"))","v":""},"","","","","","","",{"$f":"IF(S278=\"\",\"\",COUNTIF($S$7:S278,\"該当２\"))","v":""},"","",{"$f":"IF(V278=\"\",\"\",COUNTIF($V$7:V278,\"該当３\"))","v":""}]
[2210201069,"22",102,{"v":1,"d":"01"},{"v":69,"d":"069"},"静岡県","駿河区(静岡市)","静岡市2-2","小坂",null,"","",{"$f":"IF(K279=\"\",\"\",COUNTIF($K$7:K279,\"ﾘｽﾄ１\"))","v":""},"","","","","","","",{"$f":"IF(S279=\"\",\"\",COUNTIF($S$7:S279,\"該当２\"))","v":""},"","",{"$f":"IF(V279=\"\",\"\",COUNTIF($V$7:V279,\"該当３\"))","v":""}]
[2210201070,"22",102,{"v":1,"d":"01"},{"v":70,"d":"070"},"静岡県","駿河区(静岡市)","静岡市2-2","大和田",null,"","",{"$f":"IF(K280=\"\",\"\",COUNTIF($K$7:K280,\"ﾘｽﾄ１\"))","v":""},"","","","","","","",{"$f":"IF(S280=\"\",\"\",COUNTIF($S$7:S280,\"該当２\"))","v":""},"","",{"$f":"IF(V280=\"\",\"\",COUNTIF($V$7:V280,\"該当３\"))","v":""}]
[2210201071,"22",102,{"v":1,"d":"01"},{"v":71,"d":"071"},"静岡県","駿河区(静岡市)","静岡市2-2","青木",null,"","",{"$f":"IF(K281=\"\",\"\",COUNTIF($K$7:K281,\"ﾘｽﾄ１\"))","v":""},"","","","","","","",{"$f":"IF(S281=\"\",\"\",COUNTIF($S$7:S281,\"該当２\"))","v":""},"","",{"$f":"IF(V281=\"\",\"\",COUNTIF($V$7:V281,\"該当３\"))","v":""}]
[2210201072,"22",102,{"v":1,"d":"01"},{"v":72,"d":"072"},"静岡県","駿河区(静岡市)","静岡市2-2","石部",null,"","",{"$f":"IF(K282=\"\",\"\",COUNTIF($K$7:K282,\"ﾘｽﾄ１\"))","v":""},"","","","","","","",{"$f":"IF(S282=\"\",\"\",COUNTIF($S$7:S282,\"該当２\"))","v":""},"","",{"$f":"IF(V282=\"\",\"\",COUNTIF($V$7:V282,\"該当３\"))","v":""}]
[2210201073,"22",102,{"v":1,"d":"01"},{"v":73,"d":"073"},"静岡県","駿河区(静岡市)","静岡市2-2","用宗",null,"","",{"$f":"IF(K283=\"\",\"\",COUNTIF($K$7:K283,\"ﾘｽﾄ１\"))","v":""},"","","","","","","",{"$f":"IF(S283=\"\",\"\",COUNTIF($S$7:S283,\"該当２\"))","v":""},"","",{"$f":"IF(V283=\"\",\"\",COUNTIF($V$7:V283,\"該当３\"))","v":""}]
[2210201074,"22",102,{"v":1,"d":"01"},{"v":74,"d":"074"},"静岡県","駿河区(静岡市)","静岡市2-2","安倍川河川敷２－２",null,"","",{"$f":"IF(K284=\"\",\"\",COUNTIF($K$7:K284,\"ﾘｽﾄ１\"))","v":""},"","","","","","","",{"$f":"IF(S284=\"\",\"\",COUNTIF($S$7:S284,\"該当２\"))","v":""},"","",{"$f":"IF(V284=\"\",\"\",COUNTIF($V$7:V284,\"該当３\"))","v":""}]
[2210202000,"22",102,{"v":2,"d":"02"},{"v":0,"d":"000"},"静岡県","駿河区(静岡市)","有度村２－２",null,null,"","",{"$f":"IF(K285=\"\",\"\",COUNTIF($K$7:K285,\"ﾘｽﾄ１\"))","v":""},"","","","","","","",{"$f":"IF(S285=\"\",\"\",COUNTIF($S$7:S285,\"該当２\"))","v":""},"","",{"$f":"IF(V285=\"\",\"\",COUNTIF($V$7:V285,\"該当３\"))","v":""}]
[2210202001,"22",102,{"v":2,"d":"02"},{"v":1,"d":"001"},"静岡県","駿河区(静岡市)","有度村２－２","中吉田",null,"","",{"$f":"IF(K286=\"\",\"\",COUNTIF($K$7:K286,\"ﾘｽﾄ１\"))","v":""},"","","","","","","",{"$f":"IF(S286=\"\",\"\",COUNTIF($S$7:S286,\"該当２\"))","v":""},"","",{"$f":"IF(V286=\"\",\"\",COUNTIF($V$7:V286,\"該当３\"))","v":""}]
[2210202002,"22",102,{"v":2,"d":"02"},{"v":2,"d":"002"},"静岡県","駿河区(静岡市)","有度村２－２","谷田",null,"","",{"$f":"IF(K287=\"\",\"\",COUNTIF($K$7:K287,\"ﾘｽﾄ１\"))","v":""},"","","","","","","",{"$f":"IF(S287=\"\",\"\",COUNTIF($S$7:S287,\"該当２\"))","v":""},"","",{"$f":"IF(V287=\"\",\"\",COUNTIF($V$7:V287,\"該当３\"))","v":""}]
[2210202003,"22",102,{"v":2,"d":"02"},{"v":3,"d":"003"},"静岡県","駿河区(静岡市)","有度村２－２","平沢",null,"","",{"$f":"IF(K288=\"\",\"\",COUNTIF($K$7:K288,\"ﾘｽﾄ１\"))","v":""},"","","","","","","",{"$f":"IF(S288=\"\",\"\",COUNTIF($S$7:S288,\"該当２\"))","v":""},"","",{"$f":"IF(V288=\"\",\"\",COUNTIF($V$7:V288,\"該当３\"))","v":""}]
[2210300000,"22",103,{"v":0,"d":"00"},{"v":0,"d":"000"},"静岡県","清水区(静岡市)",{"$nulls":3},"ﾘｽﾄ１","清水区(静岡市)",{"$f":"IF(K289=\"\",\"\",COUNTIF($K$7:K289,\"ﾘｽﾄ１\"))","v":4},"","","","","","","",{"$f":"IF(S289=\"\",\"\",COUNTIF($S$7:S289,\"該当２\"))","v":""},"","",{"$f":"IF(V289=\"\",\"\",COUNTIF($V$7:V289,\"該当３\"))","v":""}]
[2210301000,"22",103,{"v":1,"d":"01"},{"v":0,"d":"000"},"静岡県","清水区(静岡市)","清水市",null,null,"","",{"$f":"IF(K290=\"\",\"\",COUNTIF($K$7:K290,\"ﾘｽﾄ１\"))","v":""},"","","","","","","",{"$f":"IF(S290=\"\",\"\",COUNTIF($S$7:S290,\"該当２\"))","v":""},"","",{"$f":"IF(V290=\"\",\"\",COUNTIF($V$7:V290,\"該当３\"))","v":""}]
[2210301001,"22",103,{"v":1,"d":"01"},{"v":1,"d":"001"},"静岡県","清水区(静岡市)","清水市","船越",null,"","",{"$f":"IF(K291=\"\",\"\",COUNTIF($K$7:K291,\"ﾘｽﾄ１\"))","v":""},"","","","","","","",{"$f":"IF(S291=\"\",\"\",COUNTIF($S$7:S291,\"該当２\"))","v":""},"","",{"$f":"IF(V291=\"\",\"\",COUNTIF($V$7:V291,\"該当３\"))","v":""}]
[2210301002,"22",103,{"v":1,"d":"01"},{"v":2,"d":"002"},"静岡県","清水区(静岡市)","清水市","南矢部",null,"","",{"$f":"IF(K292=\"\",\"\",COUNTIF($K$7:K292,\"ﾘｽﾄ１\"))","v":""},"","","","","","","",{"$f":"IF(S292=\"\",\"\",COUNTIF($S$7:S292,\"該当２\"))","v":""},"","",{"$f":"IF(V292=\"\",\"\",COUNTIF($V$7:V292,\"該当３\"))","v":""}]
[2210301003,"22",103,{"v":1,"d":"01"},{"v":3,"d":"003"},"静岡県","清水区(静岡市)","清水市","北矢部",null,"","",{"$f":"IF(K293=\"\",\"\",COUNTIF($K$7:K293,\"ﾘｽﾄ１\"))","v":""},"","","","","","","",{"$f":"IF(S293=\"\",\"\",COUNTIF($S$7:S293,\"該当２\"))","v":""},"","",{"$f":"IF(V293=\"\",\"\",COUNTIF($V$7:V293,\"該当３\"))","v":""}]
[2210301004,"22",103,{"v":1,"d":"01"},{"v":4,"d":"004"},"静岡県","清水区(静岡市)","清水市","村松原",null,"","",{"$f":"IF(K294=\"\",\"\",COUNTIF($K$7:K294,\"ﾘｽﾄ１\"))","v":""},"","","","","","","",{"$f":"IF(S294=\"\",\"\",COUNTIF($S$7:S294,\"該当２\"))","v":""},"","",{"$f":"IF(V294=\"\",\"\",COUNTIF($V$7:V294,\"該当３\"))","v":""}]
[2210301005,"22",103,{"v":1,"d":"01"},{"v":5,"d":"005"},"静岡県","清水区(静岡市)","清水市","村松中",null,"","",{"$f":"IF(K295=\"\",\"\",COUNTIF($K$7:K295,\"ﾘｽﾄ１\"))","v":""},"","","","","","","",{"$f":"IF(S295=\"\",\"\",COUNTIF($S$7:S295,\"該当２\"))","v":""},"","",{"$f":"IF(V295=\"\",\"\",COUNTIF($V$7:V295,\"該当３\"))","v":""}]
[2210301006,"22",103,{"v":1,"d":"01"},{"v":6,"d":"006"},"静岡県","清水区(静岡市)","清水市","村松南",null,"","",{"$f":"IF(K296=\"\",\"\",COUNTIF($K$7:K296,\"ﾘｽﾄ１\"))","v":""},"","","","","","","",{"$f":"IF(S296=\"\",\"\",COUNTIF($S$7:S296,\"該当２\"))","v":""},"","",{"$f":"IF(V296=\"\",\"\",COUNTIF($V$7:V296,\"該当３\"))","v":""}]
[2210301007,"22",103,{"v":1,"d":"01"},{"v":7,"d":"007"},"静岡県","清水区(静岡市)","清水市","妙音寺",null,"","",{"$f":"IF(K297=\"\",\"\",COUNTIF($K$7:K297,\"ﾘｽﾄ１\"))","v":""},"","","","","","","",{"$f":"IF(S297=\"\",\"\",COUNTIF($S$7:S297,\"該当２\"))","v":""},"","",{"$f":"IF(V297=\"\",\"\",COUNTIF($V$7:V297,\"該当３\"))","v":""}]
[2210301008,"22",103,{"v":1,"d":"01"},{"v":8,"d":"008"},"静岡県","清水区(静岡市)","清水市","宮加三",null,"","",{"$f":"IF(K298=\"\",\"\",COUNTIF($K$7:K298,\"ﾘｽﾄ１\"))","v":""},"","","","","","","",{"$f":"IF(S298=\"\",\"\",COUNTIF($S$7:S298,\"該当２\"))","v":""},"","",{"$f":"IF(V298=\"\",\"\",COUNTIF($V$7:V298,\"該当３\"))","v":""}]
[2210301009,"22",103,{"v":1,"d":"01"},{"v":9,"d":"009"},"静岡県","清水区(静岡市)","清水市","駒越西",null,"","",{"$f":"IF(K299=\"\",\"\",COUNTIF($K$7:K299,\"ﾘｽﾄ１\"))","v":""},"","","","","","","",{"$f":"IF(S299=\"\",\"\",COUNTIF($S$7:S299,\"該当２\"))","v":""},"","",{"$f":"IF(V299=\"\",\"\",COUNTIF($V$7:V299,\"該当３\"))","v":""}]
[2210301010,"22",103,{"v":1,"d":"01"},{"v":10,"d":"010"},"静岡県","清水区(静岡市)","清水市","駒越東",null,"","",{"$f":"IF(K300=\"\",\"\",COUNTIF($K$7:K300,\"ﾘｽﾄ１\"))","v":""},"","","","","","","",{"$f":"IF(S300=\"\",\"\",COUNTIF($S$7:S300,\"該当２\"))","v":""},"","",{"$f":"IF(V300=\"\",\"\",COUNTIF($V$7:V300,\"該当３\"))","v":""}]
[2210301011,"22",103,{"v":1,"d":"01"},{"v":11,"d":"011"},"静岡県","清水区(静岡市)","清水市","増",null,"","",{"$f":"IF(K301=\"\",\"\",COUNTIF($K$7:K301,\"ﾘｽﾄ１\"))","v":""},"","","","","","","",{"$f":"IF(S301=\"\",\"\",COUNTIF($S$7:S301,\"該当２\"))","v":""},"","",{"$f":"IF(V301=\"\",\"\",COUNTIF($V$7:V301,\"該当３\"))","v":""}]
[2210301012,"22",103,{"v":1,"d":"01"},{"v":12,"d":"012"},"静岡県","清水区(静岡市)","清水市","蛇塚",null,"","",{"$f":"IF(K302=\"\",\"\",COUNTIF($K$7:K302,\"ﾘｽﾄ１\"))","v":""},"","","","","","","",{"$f":"IF(S302=\"\",\"\",COUNTIF($S$7:S302,\"該当２\"))","v":""},"","",{"$f":"IF(V302=\"\",\"\",COUNTIF($V$7:V302,\"該当３\"))","v":""}]
[2210301013,"22",103,{"v":1,"d":"01"},{"v":13,"d":"013"},"静岡県","清水区(静岡市)","清水市","三保一区",null,"","",{"$f":"IF(K303=\"\",\"\",COUNTIF($K$7:K303,\"ﾘｽﾄ１\"))","v":""},"","","","","","","",{"$f":"IF(S303=\"\",\"\",COUNTIF($S$7:S303,\"該当２\"))","v":""},"","",{"$f":"IF(V303=\"\",\"\",COUNTIF($V$7:V303,\"該当３\"))","v":""}]
[2210301014,"22",103,{"v":1,"d":"01"},{"v":14,"d":"014"},"静岡県","清水区(静岡市)","清水市","三保二区",null,"","",{"$f":"IF(K304=\"\",\"\",COUNTIF($K$7:K304,\"ﾘｽﾄ１\"))","v":""},"","","","","","","",{"$f":"IF(S304=\"\",\"\",COUNTIF($S$7:S304,\"該当２\"))","v":""},"","",{"$f":"IF(V304=\"\",\"\",COUNTIF($V$7:V304,\"該当３\"))","v":""}]
[2210301015,"22",103,{"v":1,"d":"01"},{"v":15,"d":"015"},"静岡県","清水区(静岡市)","清水市","三保三区",null,"","",{"$f":"IF(K305=\"\",\"\",COUNTIF($K$7:K305,\"ﾘｽﾄ１\"))","v":""},"","","","","","","",{"$f":"IF(S305=\"\",\"\",COUNTIF($S$7:S305,\"該当２\"))","v":""},"","",{"$f":"IF(V305=\"\",\"\",COUNTIF($V$7:V305,\"該当３\"))","v":""}]
[2210301016,"22",103,{"v":1,"d":"01"},{"v":16,"d":"016"},"静岡県","清水区(静岡市)","清水市","三保四区",null,"","",{"$f":"IF(K306=\"\",\"\",COUNTIF($K$7:K306,\"ﾘｽﾄ１\"))","v":""},"","","","","","","",{"$f":"IF(S306=\"\",\"\",COUNTIF($S$7:S306,\"該当２\"))","v":""},"","",{"$f":"IF(V306=\"\",\"\",COUNTIF($V$7:V306,\"該当３\"))","v":""}]
[2210301017,"22",103,{"v":1,"d":"01"},{"v":17,"d":"017"},"静岡県","清水区(静岡市)","清水市","宮方",null,"","",{"$f":"IF(K307=\"\",\"\",COUNTIF($K$7:K307,\"ﾘｽﾄ１\"))","v":""},"","","","","","","",{"$f":"IF(S307=\"\",\"\",COUNTIF($S$7:S307,\"該当２\"))","v":""},"","",{"$f":"IF(V307=\"\",\"\",COUNTIF($V$7:V307,\"該当３\"))","v":""}]
[2210301018,"22",103,{"v":1,"d":"01"},{"v":18,"d":"018"},"静岡県","清水区(静岡市)","清水市","追分",null,"","",{"$f":"IF(K308=\"\",\"\",COUNTIF($K$7:K308,\"ﾘｽﾄ１\"))","v":""},"","","","","","","",{"$f":"IF(S308=\"\",\"\",COUNTIF($S$7:S308,\"該当２\"))","v":""},"","",{"$f":"IF(V308=\"\",\"\",COUNTIF($V$7:V308,\"該当３\"))","v":""}]
[2210301019,"22",103,{"v":1,"d":"01"},{"v":19,"d":"019"},"静岡県","清水区(静岡市)","清水市","辻",null,"","",{"$f":"IF(K309=\"\",\"\",COUNTIF($K$7:K309,\"ﾘｽﾄ１\"))","v":""},"","","","","","","",{"$f":"IF(S309=\"\",\"\",COUNTIF($S$7:S309,\"該当２\"))","v":""},"","",{"$f":"IF(V309=\"\",\"\",COUNTIF($V$7:V309,\"該当３\"))","v":""}]
[2210301020,"22",103,{"v":1,"d":"01"},{"v":20,"d":"020"},"静岡県","清水区(静岡市)","清水市","入江",null,"","",{"$f":"IF(K310=\"\",\"\",COUNTIF($K$7:K310,\"ﾘｽﾄ１\"))","v":""},"","","","","","","",{"$f":"IF(S310=\"\",\"\",COUNTIF($S$7:S310,\"該当２\"))","v":""},"","",{"$f":"IF(V310=\"\",\"\",COUNTIF($V$7:V310,\"該当３\"))","v":""}]
[2210301021,"22",103,{"v":1,"d":"01"},{"v":21,"d":"021"},"静岡県","清水区(静岡市)","清水市","入江岡",null,"","",{"$f":"IF(K311=\"\",\"\",COUNTIF($K$7:K311,\"ﾘｽﾄ１\"))","v":""},"","","","","","","",{"$f":"IF(S311=\"\",\"\",COUNTIF($S$7:S311,\"該当２\"))","v":""},"","",{"$f":"IF(V311=\"\",\"\",COUNTIF($V$7:V311,\"該当３\"))","v":""}]
[2210301022,"22",103,{"v":1,"d":"01"},{"v":22,"d":"022"},"静岡県","清水区(静岡市)","清水市","上清水",null,"","",{"$f":"IF(K312=\"\",\"\",COUNTIF($K$7:K312,\"ﾘｽﾄ１\"))","v":""},"","","","","","","",{"$f":"IF(S312=\"\",\"\",COUNTIF($S$7:S312,\"該当２\"))","v":""},"","",{"$f":"IF(V312=\"\",\"\",COUNTIF($V$7:V312,\"該当３\"))","v":""}]
[2210301023,"22",103,{"v":1,"d":"01"},{"v":23,"d":"023"},"静岡県","清水区(静岡市)","清水市","下清水北",null,"","",{"$f":"IF(K313=\"\",\"\",COUNTIF($K$7:K313,\"ﾘｽﾄ１\"))","v":""},"","","","","","","",{"$f":"IF(S313=\"\",\"\",COUNTIF($S$7:S313,\"該当２\"))","v":""},"","",{"$f":"IF(V313=\"\",\"\",COUNTIF($V$7:V313,\"該当３\"))","v":""}]
[2210301024,"22",103,{"v":1,"d":"01"},{"v":24,"d":"024"},"静岡県","清水区(静岡市)","清水市","下清水南",null,"","",{"$f":"IF(K314=\"\",\"\",COUNTIF($K$7:K314,\"ﾘｽﾄ１\"))","v":""},"","","","","","","",{"$f":"IF(S314=\"\",\"\",COUNTIF($S$7:S314,\"該当２\"))","v":""},"","",{"$f":"IF(V314=\"\",\"\",COUNTIF($V$7:V314,\"該当３\"))","v":""}]
[2210301025,"22",103,{"v":1,"d":"01"},{"v":25,"d":"025"},"静岡県","清水区(静岡市)","清水市","折戸西",null,"","",{"$f":"IF(K315=\"\",\"\",COUNTIF($K$7:K315,\"ﾘｽﾄ１\"))","v":""},"","","","","","","",{"$f":"IF(S315=\"\",\"\",COUNTIF($S$7:S315,\"該当２\"))","v":""},"","",{"$f":"IF(V315=\"\",\"\",COUNTIF($V$7:V315,\"該当３\"))","v":""}]
[2210301026,"22",103,{"v":1,"d":"01"},{"v":26,"d":"026"},"静岡県","清水区(静岡市)","清水市","折戸東",null,"","",{"$f":"IF(K316=\"\",\"\",COUNTIF($K$7:K316,\"ﾘｽﾄ１\"))","v":""},"","","","","","","",{"$f":"IF(S316=\"\",\"\",COUNTIF($S$7:S316,\"該当２\"))","v":""},"","",{"$f":"IF(V316=\"\",\"\",COUNTIF($V$7:V316,\"該当３\"))","v":""}]
[2210301027,"22",103,{"v":1,"d":"01"},{"v":27,"d":"027"},"静岡県","清水区(静岡市)","清水市","塚間",null,"","",{"$f":"IF(K317=\"\",\"\",COUNTIF($K$7:K317,\"ﾘｽﾄ１\"))","v":""},"","","","","","","",{"$f":"IF(S317=\"\",\"\",COUNTIF($S$7:S317,\"該当２\"))","v":""},"","",{"$f":"IF(V317=\"\",\"\",COUNTIF($V$7:V317,\"該当３\"))","v":""}]
[2210302000,"22",103,{"v":2,"d":"02"},{"v":0,"d":"000"},"静岡県","清水区(静岡市)","飯田村清水区（静岡市）",null,null,"","",{"$f":"IF(K318=\"\",\"\",COUNTIF($K$7:K318,\"ﾘｽﾄ１\"))","v":""},"","","","","","","",{"$f":"IF(S318=\"\",\"\",COUNTIF($S$7:S318,\"該当２\"))","v":""},"","",{"$f":"IF(V318=\"\",\"\",COUNTIF($V$7:V318,\"該当３\"))","v":""}]
[2210302001,"22",103,{"v":2,"d":"02"},{"v":1,"d":"001"},"静岡県","清水区(静岡市)","飯田村清水区（静岡市）","高橋町",null,"","",{"$f":"IF(K319=\"\",\"\",COUNTIF($K$7:K319,\"ﾘｽﾄ１\"))","v":""},"","","","","","","",{"$f":"IF(S319=\"\",\"\",COUNTIF($S$7:S319,\"該当２\"))","v":""},"","",{"$f":"IF(V319=\"\",\"\",COUNTIF($V$7:V319,\"該当３\"))","v":""}]
[2210302002,"22",103,{"v":2,"d":"02"},{"v":2,"d":"002"},"静岡県","清水区(静岡市)","飯田村清水区（静岡市）","天王町",null,"","",{"$f":"IF(K320=\"\",\"\",COUNTIF($K$7:K320,\"ﾘｽﾄ１\"))","v":""},"","","","","","","",{"$f":"IF(S320=\"\",\"\",COUNTIF($S$7:S320,\"該当２\"))","v":""},"","",{"$f":"IF(V320=\"\",\"\",COUNTIF($V$7:V320,\"該当３\"))","v":""}]
[2210302003,"22",103,{"v":2,"d":"02"},{"v":3,"d":"003"},"静岡県","清水区(静岡市)","飯田村清水区（静岡市）","山原",null,"","",{"$f":"IF(K321=\"\",\"\",COUNTIF($K$7:K321,\"ﾘｽﾄ１\"))","v":""},"","","","","","","",{"$f":"IF(S321=\"\",\"\",COUNTIF($S$7:S321,\"該当２\"))","v":""},"","",{"$f":"IF(V321=\"\",\"\",COUNTIF($V$7:V321,\"該当３\"))","v":""}]
[2210302004,"22",103,{"v":2,"d":"02"},{"v":4,"d":"004"},"静岡県","清水区(静岡市)","飯田村清水区（静岡市）","下野",null,"","",{"$f":"IF(K322=\"\",\"\",COUNTIF($K$7:K322,\"ﾘｽﾄ１\"))","v":""},"","","","","","","",{"$f":"IF(S322=\"\",\"\",COUNTIF($S$7:S322,\"該当２\"))","v":""},"","",{"$f":"IF(V322=\"\",\"\",COUNTIF($V$7:V322,\"該当３\"))","v":""}]
[2210302005,"22",103,{"v":2,"d":"02"},{"v":5,"d":"005"},"静岡県","清水区(静岡市)","飯田村清水区（静岡市）","蜂ヶ谷",null,"","",{"$f":"IF(K323=\"\",\"\",COUNTIF($K$7:K323,\"ﾘｽﾄ１\"))","v":""},"","","","","","","",{"$f":"IF(S323=\"\",\"\",COUNTIF($S$7:S323,\"該当２\"))","v":""},"","",{"$f":"IF(V323=\"\",\"\",COUNTIF($V$7:V323,\"該当３\"))","v":""}]
[2210302006,"22",103,{"v":2,"d":"02"},{"v":6,"d":"006"},"静岡県","清水区(静岡市)","飯田村清水区（静岡市）","石川",null,"","",{"$f":"IF(K324=\"\",\"\",COUNTIF($K$7:K324,\"ﾘｽﾄ１\"))","v":""},"","","","","","","",{"$f":"IF(S324=\"\",\"\",COUNTIF($S$7:S324,\"該当２\"))","v":""},"","",{"$f":"IF(V324=\"\",\"\",COUNTIF($V$7:V324,\"該当３\"))","v":""}]
[2210302007,"22",103,{"v":2,"d":"02"},{"v":7,"d":"007"},"静岡県","清水区(静岡市)","飯田村清水区（静岡市）","八坂町",null,"","",{"$f":"IF(K325=\"\",\"\",COUNTIF($K$7:K325,\"ﾘｽﾄ１\"))","v":""},"","","","","","","",{"$f":"IF(S325=\"\",\"\",COUNTIF($S$7:S325,\"該当２\"))","v":""},"","",{"$f":"IF(V325=\"\",\"\",COUNTIF($V$7:V325,\"該当３\"))","v":""}]
[2210303000,"22",103,{"v":3,"d":"03"},{"v":0,"d":"000"},"静岡県","清水区(静岡市)","高部村",null,null,"","",{"$f":"IF(K326=\"\",\"\",COUNTIF($K$7:K326,\"ﾘｽﾄ１\"))","v":""},"","","","","","","",{"$f":"IF(S326=\"\",\"\",COUNTIF($S$7:S326,\"該当２\"))","v":""},"","",{"$f":"IF(V326=\"\",\"\",COUNTIF($V$7:V326,\"該当３\"))","v":""}]
[2210303001,"22",103,{"v":3,"d":"03"},{"v":1,"d":"001"},"静岡県","清水区(静岡市)","高部村","梅ヶ谷",null,"","",{"$f":"IF(K327=\"\",\"\",COUNTIF($K$7:K327,\"ﾘｽﾄ１\"))","v":""},"","","","","","","",{"$f":"IF(S327=\"\",\"\",COUNTIF($S$7:S327,\"該当２\"))","v":""},"","",{"$f":"IF(V327=\"\",\"\",COUNTIF($V$7:V327,\"該当３\"))","v":""}]
[2210303002,"22",103,{"v":3,"d":"03"},{"v":2,"d":"002"},"静岡県","清水区(静岡市)","高部村","柏尾",null,"","",{"$f":"IF(K328=\"\",\"\",COUNTIF($K$7:K328,\"ﾘｽﾄ１\"))","v":""},"","",{"$f":"IF(O328=\"該当１\",G328,\"\")","v":""},{"$f":"IF(O328=\"該当１\",\"ﾘｽﾄ2\",\"\")","v":""},{"$f":"IF(Q328=\"ﾘｽﾄ2\",H328,\"\")","v":""},"",{"$f":"IF(S328=\"該当２\",H328,\"\")","v":""},{"$f":"IF(S328=\"\",\"\",COUNTIF($S$7:S328,\"該当２\"))","v":""},{"$f":"IF(AND($S$2=H328,E328>0,E328<998),\"該当３\",\"\")","v":""},{"$f":"IF(V328=\"該当３\",I328,\"\")","v":""},{"$f":"IF(V328=\"\",\"\",COUNTIF($V$7:V328,\"該当３\"))","v":""}]
[2210303003,"22",103,{"v":3,"d":"03"},{"v":3,"d":"003"},"静岡県","清水区(静岡市)","高部村","押切",null,{"$f":"IF(AND($C329>0,$H329=\"\"),\"ﾘｽﾄ１\",\"\")","v":""},{"$f":"IF(K329=\"ﾘｽﾄ１\",G329,\"\")","v":""},{"$f":"IF(K329=\"\",\"\",COUNTIF($K$7:K329,\"ﾘｽﾄ１\"))","v":""},{"$f":"IF(AND(D329=0,E329>0),\"同一区\",\"\")","v":""},{"$f":"IF(AND(EXACT($K$2,G329),H329>0),\"該当１\",\"\")","v":""},"","","",{"$f":"IF(AND(Q329=\"ﾘｽﾄ2\",OR(I329=0,AND(N329=\"同一区\",E329=1))),\"該当２\",\"\")","v":""},"",{"$f":"IF(S329=\"\",\"\",COUNTIF($S$7:S329,\"該当２\"))","v":""},"","",{"$f":"IF(V329=\"\",\"\",COUNTIF($V$7:V329,\"該当３\"))","v":""}]
[2210303004,"22",103,{"v":3,"d":"03"},{"v":4,"d":"004"},"静岡県","清水区(静岡市)","高部村","大内新田",null,"","",{"$f":"IF(K330=\"\",\"\",COUNTIF($K$7:K330,\"ﾘｽﾄ１\"))","v":""},"","","","","","","",{"$f":"IF(S330=\"\",\"\",COUNTIF($S$7:S330,\"該当２\"))","v":""},"","",{"$f":"IF(V330=\"\",\"\",COUNTIF($V$7:V330,\"該当３\"))","v":""}]
[2210303005,"22",103,{"v":3,"d":"03"},{"v":5,"d":"005"},"静岡県","清水区(静岡市)","高部村","能島",null,"","",{"$f":"IF(K331=\"\",\"\",COUNTIF($K$7:K331,\"ﾘｽﾄ１\"))","v":""},"","","","","","","",{"$f":"IF(S331=\"\",\"\",COUNTIF($S$7:S331,\"該当２\"))","v":""},"","",{"$f":"IF(V331=\"\",\"\",COUNTIF($V$7:V331,\"該当３\"))","v":""}]
[2210303006,"22",103,{"v":3,"d":"03"},{"v":6,"d":"006"},"静岡県","清水区(静岡市)","高部村","大内",null,"","",{"$f":"IF(K332=\"\",\"\",COUNTIF($K$7:K332,\"ﾘｽﾄ１\"))","v":""},"","","","","","","",{"$f":"IF(S332=\"\",\"\",COUNTIF($S$7:S332,\"該当２\"))","v":""},"","",{"$f":"IF(V332=\"\",\"\",COUNTIF($V$7:V332,\"該当３\"))","v":""}]
[2210303007,"22",103,{"v":3,"d":"03"},{"v":7,"d":"007"},"静岡県","清水区(静岡市)","高部村","鳥坂",null,"","",{"$f":"IF(K333=\"\",\"\",COUNTIF($K$7:K333,\"ﾘｽﾄ１\"))","v":""},"","","","","","","",{"$f":"IF(S333=\"\",\"\",COUNTIF($S$7:S333,\"該当２\"))","v":""},"","",{"$f":"IF(V333=\"\",\"\",COUNTIF($V$7:V333,\"該当３\"))","v":""}]
[2210304000,"22",103,{"v":4,"d":"04"},{"v":0,"d":"000"},"静岡県","清水区(静岡市)","有度村２－１",null,null,"","",{"$f":"IF(K334=\"\",\"\",COUNTIF($K$7:K334,\"ﾘｽﾄ１\"))","v":""},"","","","","","","",{"$f":"IF(S334=\"\",\"\",COUNTIF($S$7:S334,\"該当２\"))","v":""},"","",{"$f":"IF(V334=\"\",\"\",COUNTIF($V$7:V334,\"該当３\"))","v":""}]
[2210304001,"22",103,{"v":4,"d":"04"},{"v":1,"d":"001"},"静岡県","清水区(静岡市)","有度村２－１","吉川",null,"","",{"$f":"IF(K335=\"\",\"\",COUNTIF($K$7:K335,\"ﾘｽﾄ１\"))","v":""},"","","","","","","",{"$f":"IF(S335=\"\",\"\",COUNTIF($S$7:S335,\"該当２\"))","v":""},"","",{"$f":"IF(V335=\"\",\"\",COUNTIF($V$7:V335,\"該当３\"))","v":""}]
[2210304002,"22",103,{"v":4,"d":"04"},{"v":2,"d":"002"},"静岡県","清水区(静岡市)","有度村２－１","七ツ新屋",null,"","",{"$f":"IF(K336=\"\",\"\",COUNTIF($K$7:K336,\"ﾘｽﾄ１\"))","v":""},"","","","","","","",{"$f":"IF(S336=\"\",\"\",COUNTIF($S$7:S336,\"該当２\"))","v":""},"","",{"$f":"IF(V336=\"\",\"\",COUNTIF($V$7:V336,\"該当３\"))","v":""}]
[2210304003,"22",103,{"v":4,"d":"04"},{"v":3,"d":"003"},"静岡県","清水区(静岡市)","有度村２－１","長崎新田",null,"","",{"$f":"IF(K337=\"\",\"\",COUNTIF($K$7:K337,\"ﾘｽﾄ１\"))","v":""},"","","","","","","",{"$f":"IF(S337=\"\",\"\",COUNTIF($S$7:S337,\"該当２\"))","v":""},"","",{"$f":"IF(V337=\"\",\"\",COUNTIF($V$7:V337,\"該当３\"))","v":""}]
[2210304004,"22",103,{"v":4,"d":"04"},{"v":4,"d":"004"},"静岡県","清水区(静岡市)","有度村２－１","長崎",null,"","",{"$f":"IF(K338=\"\",\"\",COUNTIF($K$7:K338,\"ﾘｽﾄ１\"))","v":""},"","","","","","","",{"$f":"IF(S338=\"\",\"\",COUNTIF($S$7:S338,\"該当２\"))","v":""},"","",{"$f":"IF(V338=\"\",\"\",COUNTIF($V$7:V338,\"該当３\"))","v":""}]
[2210304005,"22",103,{"v":4,"d":"04"},{"v":5,"d":"005"},"静岡県","清水区(静岡市)","有度村２－１","楠",null,"","",{"$f":"IF(K339=\"\",\"\",COUNTIF($K$7:K339,\"ﾘｽﾄ１\"))","v":""},"","","","","","","",{"$f":"IF(S339=\"\",\"\",COUNTIF($S$7:S339,\"該当２\"))","v":""},"","",{"$f":"IF(V339=\"\",\"\",COUNTIF($V$7:V339,\"該当３\"))","v":""}]
[2210304006,"22",103,{"v":4,"d":"04"},{"v":6,"d":"006"},"静岡県","清水区(静岡市)","有度村２－１","楠新田",null,"","",{"$f":"IF(K340=\"\",\"\",COUNTIF($K$7:K340,\"ﾘｽﾄ１\"))","v":""},"","","","","","","",{"$f":"IF(S340=\"\",\"\",COUNTIF($S$7:S340,\"該当２\"))","v":""},"","",{"$f":"IF(V340=\"\",\"\",COUNTIF($V$7:V340,\"該当３\"))","v":""}]
[2210304007,"22",103,{"v":4,"d":"04"},{"v":7,"d":"007"},"静岡県","清水区(静岡市)","有度村２－１","中之郷",null,"","",{"$f":"IF(K341=\"\",\"\",COUNTIF($K$7:K341,\"ﾘｽﾄ１\"))","v":""},"","","","","","","",{"$f":"IF(S341=\"\",\"\",COUNTIF($S$7:S341,\"該当２\"))","v":""},"","",{"$f":"IF(V341=\"\",\"\",COUNTIF($V$7:V341,\"該当３\"))","v":""}]
[2210304008,"22",103,{"v":4,"d":"04"},{"v":8,"d":"008"},"静岡県","清水区(静岡市)","有度村２－１","谷田",null,"","",{"$f":"IF(K342=\"\",\"\",COUNTIF($K$7:K342,\"ﾘｽﾄ１\"))","v":""},"","","","","","","",{"$f":"IF(S342=\"\",\"\",COUNTIF($S$7:S342,\"該当２\"))","v":""},"","",{"$f":"IF(V342=\"\",\"\",COUNTIF($V$7:V342,\"該当３\"))","v":""}]
[2210304009,"22",103,{"v":4,"d":"04"},{"v":9,"d":"009"},"静岡県","清水区(静岡市)","有度村２－１","一里山",null,"","",{"$f":"IF(K343=\"\",\"\",COUNTIF($K$7:K343,\"ﾘｽﾄ１\"))","v":""},"","","","","","","",{"$f":"IF(S343=\"\",\"\",COUNTIF($S$7:S343,\"該当２\"))","v":""},"","",{"$f":"IF(V343=\"\",\"\",COUNTIF($V$7:V343,\"該当３\"))","v":""}]
[2210304010,"22",103,{"v":4,"d":"04"},{"v":10,"d":"010"},"静岡県","清水区(静岡市)","有度村２－１","草薙街道",null,"","",{"$f":"IF(K344=\"\",\"\",COUNTIF($K$7:K344,\"ﾘｽﾄ１\"))","v":""},"","","","","","","",{"$f":"IF(S344=\"\",\"\",COUNTIF($S$7:S344,\"該当２\"))","v":""},"","",{"$f":"IF(V344=\"\",\"\",COUNTIF($V$7:V344,\"該当３\"))","v":""}]
[2210304011,"22",103,{"v":4,"d":"04"},{"v":11,"d":"011"},"静岡県","清水区(静岡市)","有度村２－１","草薙奥",null,"","",{"$f":"IF(K345=\"\",\"\",COUNTIF($K$7:K345,\"ﾘｽﾄ１\"))","v":""},"","","","","","","",{"$f":"IF(S345=\"\",\"\",COUNTIF($S$7:S345,\"該当２\"))","v":""},"","",{"$f":"IF(V345=\"\",\"\",COUNTIF($V$7:V345,\"該当３\"))","v":""}]
[2210304012,"22",103,{"v":4,"d":"04"},{"v":12,"d":"012"},"静岡県","清水区(静岡市)","有度村２－１","上原",null,"","",{"$f":"IF(K346=\"\",\"\",COUNTIF($K$7:K346,\"ﾘｽﾄ１\"))","v":""},"","","","","","","",{"$f":"IF(S346=\"\",\"\",COUNTIF($S$7:S346,\"該当２\"))","v":""},"","",{"$f":"IF(V346=\"\",\"\",COUNTIF($V$7:V346,\"該当３\"))","v":""}]
[2210304013,"22",103,{"v":4,"d":"04"},{"v":13,"d":"013"},"静岡県","清水区(静岡市)","有度村２－１","馬走",null,"","",{"$f":"IF(K347=\"\",\"\",COUNTIF($K$7:K347,\"ﾘｽﾄ１\"))","v":""},"","","","","","","",{"$f":"IF(S347=\"\",\"\",COUNTIF($S$7:S347,\"該当２\"))","v":""},"","",{"$f":"IF(V347=\"\",\"\",COUNTIF($V$7:V347,\"該当３\"))","v":""}]
[2210304014,"22",103,{"v":4,"d":"04"},{"v":14,"d":"014"},"静岡県","清水区(静岡市)","有度村２－１","有東坂",null,"","",{"$f":"IF(K348=\"\",\"\",COUNTIF($K$7:K348,\"ﾘｽﾄ１\"))","v":""},"","","","","","","",{"$f":"IF(S348=\"\",\"\",COUNTIF($S$7:S348,\"該当２\"))","v":""},"","",{"$f":"IF(V348=\"\",\"\",COUNTIF($V$7:V348,\"該当３\"))","v":""}]
[2210304015,"22",103,{"v":4,"d":"04"},{"v":15,"d":"015"},"静岡県","清水区(静岡市)","有度村２－１","渋川",null,"","",{"$f":"IF(K349=\"\",\"\",COUNTIF($K$7:K349,\"ﾘｽﾄ１\"))","v":""},"","","","","","","",{"$f":"IF(S349=\"\",\"\",COUNTIF($S$7:S349,\"該当２\"))","v":""},"","",{"$f":"IF(V349=\"\",\"\",COUNTIF($V$7:V349,\"該当３\"))","v":""}]
[2210304016,"22",103,{"v":4,"d":"04"},{"v":16,"d":"016"},"静岡県","清水区(静岡市)","有度村２－１","北脇",null,"","",{"$f":"IF(K350=\"\",\"\",COUNTIF($K$7:K350,\"ﾘｽﾄ１\"))","v":""},"","","","","","","",{"$f":"IF(S350=\"\",\"\",COUNTIF($S$7:S350,\"該当２\"))","v":""},"","",{"$f":"IF(V350=\"\",\"\",COUNTIF($V$7:V350,\"該当３\"))","v":""}]
[2210304017,"22",103,{"v":4,"d":"04"},{"v":17,"d":"017"},"静岡県","清水区(静岡市)","有度村２－１","北脇新田",null,"","",{"$f":"IF(K351=\"\",\"\",COUNTIF($K$7:K351,\"ﾘｽﾄ１\"))","v":""},"","","","","","","",{"$f":"IF(S351=\"\",\"\",COUNTIF($S$7:S351,\"該当２\"))","v":""},"","",{"$f":"IF(V351=\"\",\"\",COUNTIF($V$7:V351,\"該当３\"))","v":""}]
[2210304018,"22",103,{"v":4,"d":"04"},{"v":18,"d":"018"},"静岡県","清水区(静岡市)","有度村２－１","堀込",null,"","",{"$f":"IF(K352=\"\",\"\",COUNTIF($K$7:K352,\"ﾘｽﾄ１\"))","v":""},"","","","","","","",{"$f":"IF(S352=\"\",\"\",COUNTIF($S$7:S352,\"該当２\"))","v":""},"","",{"$f":"IF(V352=\"\",\"\",COUNTIF($V$7:V352,\"該当３\"))","v":""}]
[2210305000,"22",103,{"v":5,"d":"05"},{"v":0,"d":"000"},"静岡県","清水区(静岡市)","興津町",null,null,"","",{"$f":"IF(K353=\"\",\"\",COUNTIF($K$7:K353,\"ﾘｽﾄ１\"))","v":""},"","","","","","","",{"$f":"IF(S353=\"\",\"\",COUNTIF($S$7:S353,\"該当２\"))","v":""},"","",{"$f":"IF(V353=\"\",\"\",COUNTIF($V$7:V353,\"該当３\"))","v":""}]
[2210305001,"22",103,{"v":5,"d":"05"},{"v":1,"d":"001"},"静岡県","清水区(静岡市)","興津町","興津清見寺町",null,"","",{"$f":"IF(K354=\"\",\"\",COUNTIF($K$7:K354,\"ﾘｽﾄ１\"))","v":""},"","","","","","","",{"$f":"IF(S354=\"\",\"\",COUNTIF($S$7:S354,\"該当２\"))","v":""},"","",{"$f":"IF(V354=\"\",\"\",COUNTIF($V$7:V354,\"該当３\"))","v":""}]
[2210305002,"22",103,{"v":5,"d":"05"},{"v":2,"d":"002"},"静岡県","清水区(静岡市)","興津町","興津中町",null,"","",{"$f":"IF(K355=\"\",\"\",COUNTIF($K$7:K355,\"ﾘｽﾄ１\"))","v":""},"","","","","","","",{"$f":"IF(S355=\"\",\"\",COUNTIF($S$7:S355,\"該当２\"))","v":""},"","",{"$f":"IF(V355=\"\",\"\",COUNTIF($V$7:V355,\"該当３\"))","v":""}]
[2210305003,"22",103,{"v":5,"d":"05"},{"v":3,"d":"003"},"静岡県","清水区(静岡市)","興津町","興津東町",null,"","",{"$f":"IF(K356=\"\",\"\",COUNTIF($K$7:K356,\"ﾘｽﾄ１\"))","v":""},"","","","","","","",{"$f":"IF(S356=\"\",\"\",COUNTIF($S$7:S356,\"該当２\"))","v":""},"","",{"$f":"IF(V356=\"\",\"\",COUNTIF($V$7:V356,\"該当３\"))","v":""}]
[2210305004,"22",103,{"v":5,"d":"05"},{"v":4,"d":"004"},"静岡県","清水区(静岡市)","興津町","興津井上町",null,"","",{"$f":"IF(K357=\"\",\"\",COUNTIF($K$7:K357,\"ﾘｽﾄ１\"))","v":""},"","","","","","","",{"$f":"IF(S357=\"\",\"\",COUNTIF($S$7:S357,\"該当２\"))","v":""},"","",{"$f":"IF(V357=\"\",\"\",COUNTIF($V$7:V357,\"該当３\"))","v":""}]
[2210305005,"22",103,{"v":5,"d":"05"},{"v":5,"d":"005"},"静岡県","清水区(静岡市)","興津町","承元寺町",null,"","",{"$f":"IF(K358=\"\",\"\",COUNTIF($K$7:K358,\"ﾘｽﾄ１\"))","v":""},"","","","","","","",{"$f":"IF(S358=\"\",\"\",COUNTIF($S$7:S358,\"該当２\"))","v":""},"","",{"$f":"IF(V358=\"\",\"\",COUNTIF($V$7:V358,\"該当３\"))","v":""}]
[2210305006,"22",103,{"v":5,"d":"05"},{"v":6,"d":"006"},"静岡県","清水区(静岡市)","興津町","谷津町",null,"","",{"$f":"IF(K359=\"\",\"\",COUNTIF($K$7:K359,\"ﾘｽﾄ１\"))","v":""},"","","","","","","",{"$f":"IF(S359=\"\",\"\",COUNTIF($S$7:S359,\"該当２\"))","v":""},"","",{"$f":"IF(V359=\"\",\"\",COUNTIF($V$7:V359,\"該当３\"))","v":""}]
[2210305007,"22",103,{"v":5,"d":"05"},{"v":7,"d":"007"},"静岡県","清水区(静岡市)","興津町","八木間町",null,"","",{"$f":"IF(K360=\"\",\"\",COUNTIF($K$7:K360,\"ﾘｽﾄ１\"))","v":""},"","","","","","","",{"$f":"IF(S360=\"\",\"\",COUNTIF($S$7:S360,\"該当２\"))","v":""},"","",{"$f":"IF(V360=\"\",\"\",COUNTIF($V$7:V360,\"該当３\"))","v":""}]
[2210305008,"22",103,{"v":5,"d":"05"},{"v":8,"d":"008"},"静岡県","清水区(静岡市)","興津町","興津本町",null,"","",{"$f":"IF(K361=\"\",\"\",COUNTIF($K$7:K361,\"ﾘｽﾄ１\"))","v":""},"","","","","","","",{"$f":"IF(S361=\"\",\"\",COUNTIF($S$7:S361,\"該当２\"))","v":""},"","",{"$f":"IF(V361=\"\",\"\",COUNTIF($V$7:V361,\"該当３\"))","v":""}]
[2210306000,"22",103,{"v":6,"d":"06"},{"v":0,"d":"000"},"静岡県","清水区(静岡市)","小島村",null,null,"","",{"$f":"IF(K362=\"\",\"\",COUNTIF($K$7:K362,\"ﾘｽﾄ１\"))","v":""},"","","","","","","",{"$f":"IF(S362=\"\",\"\",COUNTIF($S$7:S362,\"該当２\"))","v":""},"","",{"$f":"IF(V362=\"\",\"\",COUNTIF($V$7:V362,\"該当３\"))","v":""}]
[2210306001,"22",103,{"v":6,"d":"06"},{"v":1,"d":"001"},"静岡県","清水区(静岡市)","小島村","後山古住田",null,"","",{"$f":"IF(K363=\"\",\"\",COUNTIF($K$7:K363,\"ﾘｽﾄ１\"))","v":""},"","","","","","","",{"$f":"IF(S363=\"\",\"\",COUNTIF($S$7:S363,\"該当２\"))","v":""},"","",{"$f":"IF(V363=\"\",\"\",COUNTIF($V$7:V363,\"該当３\"))","v":""}]
[2210306002,"22",103,{"v":6,"d":"06"},{"v":2,"d":"002"},"静岡県","清水区(静岡市)","小島村","宍原",null,"","",{"$f":"IF(K364=\"\",\"\",COUNTIF($K$7:K364,\"ﾘｽﾄ１\"))","v":""},"","","","","","","",{"$f":"IF(S364=\"\",\"\",COUNTIF($S$7:S364,\"該当２\"))","v":""},"","",{"$f":"IF(V364=\"\",\"\",COUNTIF($V$7:V364,\"該当３\"))","v":""}]
[2210306003,"22",103,{"v":6,"d":"06"},{"v":3,"d":"003"},"静岡県","清水区(静岡市)","小島村","坂本",null,"","",{"$f":"IF(K365=\"\",\"\",COUNTIF($K$7:K365,\"ﾘｽﾄ１\"))","v":""},"","","","","","","",{"$f":"IF(S365=\"\",\"\",COUNTIF($S$7:S365,\"該当２\"))","v":""},"","",{"$f":"IF(V365=\"\",\"\",COUNTIF($V$7:V365,\"該当３\"))","v":""}]
[2210306004,"22",103,{"v":6,"d":"06"},{"v":4,"d":"004"},"静岡県","清水区(静岡市)","小島村","瀬戸",null,"","",{"$f":"IF(K366=\"\",\"\",COUNTIF($K$7:K366,\"ﾘｽﾄ１\"))","v":""},"","","","","","","",{"$f":"IF(S366=\"\",\"\",COUNTIF($S$7:S366,\"該当２\"))","v":""},"","",{"$f":"IF(V366=\"\",\"\",COUNTIF($V$7:V366,\"該当３\"))","v":""}]
[2210306005,"22",103,{"v":6,"d":"06"},{"v":5,"d":"005"},"静岡県","清水区(静岡市)","小島村","中部",null,"","",{"$f":"IF(K367=\"\",\"\",COUNTIF($K$7:K367,\"ﾘｽﾄ１\"))","v":""},"","","","","","","",{"$f":"IF(S367=\"\",\"\",COUNTIF($S$7:S367,\"該当２\"))","v":""},"","",{"$f":"IF(V367=\"\",\"\",COUNTIF($V$7:V367,\"該当３\"))","v":""}]
[2210306006,"22",103,{"v":6,"d":"06"},{"v":6,"d":"006"},"静岡県","清水区(静岡市)","小島村","南部",null,"","",{"$f":"IF(K368=\"\",\"\",COUNTIF($K$7:K368,\"ﾘｽﾄ１\"))","v":""},"","","","","","","",{"$f":"IF(S368=\"\",\"\",COUNTIF($S$7:S368,\"該当２\"))","v":""},"","",{"$f":"IF(V368=\"\",\"\",COUNTIF($V$7:V368,\"該当３\"))","v":""}]
[2210306007,"22",103,{"v":6,"d":"06"},{"v":7,"d":"007"},"静岡県","清水区(静岡市)","小島村","但沼",null,"","",{"$f":"IF(K369=\"\",\"\",COUNTIF($K$7:K369,\"ﾘｽﾄ１\"))","v":""},"","","","","","","",{"$f":"IF(S369=\"\",\"\",COUNTIF($S$7:S369,\"該当２\"))","v":""},"","",{"$f":"IF(V369=\"\",\"\",COUNTIF($V$7:V369,\"該当３\"))","v":""}]
[2210306008,"22",103,{"v":6,"d":"06"},{"v":8,"d":"008"},"静岡県","清水区(静岡市)","小島村","立花",null,"","",{"$f":"IF(K370=\"\",\"\",COUNTIF($K$7:K370,\"ﾘｽﾄ１\"))","v":""},"","","","","","","",{"$f":"IF(S370=\"\",\"\",COUNTIF($S$7:S370,\"該当２\"))","v":""},"","",{"$f":"IF(V370=\"\",\"\",COUNTIF($V$7:V370,\"該当３\"))","v":""}]
[2210306009,"22",103,{"v":6,"d":"06"},{"v":9,"d":"009"},"静岡県","清水区(静岡市)","小島村","小島",null,"","",{"$f":"IF(K371=\"\",\"\",COUNTIF($K$7:K371,\"ﾘｽﾄ１\"))","v":""},"","","","","","","",{"$f":"IF(S371=\"\",\"\",COUNTIF($S$7:S371,\"該当２\"))","v":""},"","",{"$f":"IF(V371=\"\",\"\",COUNTIF($V$7:V371,\"該当３\"))","v":""}]
[2210307000,"22",103,{"v":7,"d":"07"},{"v":0,"d":"000"},"静岡県","清水区(静岡市)","両河内村",null,null,"","",{"$f":"IF(K372=\"\",\"\",COUNTIF($K$7:K372,\"ﾘｽﾄ１\"))","v":""},"","","","","","","",{"$f":"IF(S372=\"\",\"\",COUNTIF($S$7:S372,\"該当２\"))","v":""},"","",{"$f":"IF(V372=\"\",\"\",COUNTIF($V$7:V372,\"該当３\"))","v":""}]
[2210307001,"22",103,{"v":7,"d":"07"},{"v":1,"d":"001"},"静岡県","清水区(静岡市)","両河内村","清地",null,"","",{"$f":"IF(K373=\"\",\"\",COUNTIF($K$7:K373,\"ﾘｽﾄ１\"))","v":""},"","","","","","","",{"$f":"IF(S373=\"\",\"\",COUNTIF($S$7:S373,\"該当２\"))","v":""},"","",{"$f":"IF(V373=\"\",\"\",COUNTIF($V$7:V373,\"該当３\"))","v":""}]
[2210307002,"22",103,{"v":7,"d":"07"},{"v":2,"d":"002"},"静岡県","清水区(静岡市)","両河内村","高瀬",null,"","",{"$f":"IF(K374=\"\",\"\",COUNTIF($K$7:K374,\"ﾘｽﾄ１\"))","v":""},"","","","","","","",{"$f":"IF(S374=\"\",\"\",COUNTIF($S$7:S374,\"該当２\"))","v":""},"","",{"$f":"IF(V374=\"\",\"\",COUNTIF($V$7:V374,\"該当３\"))","v":""}]
[2210307003,"22",103,{"v":7,"d":"07"},{"v":3,"d":"003"},"静岡県","清水区(静岡市)","両河内村","中河内１区",null,"","",{"$f":"IF(K375=\"\",\"\",COUNTIF($K$7:K375,\"ﾘｽﾄ１\"))","v":""},"","","","","","","",{"$f":"IF(S375=\"\",\"\",COUNTIF($S$7:S375,\"該当２\"))","v":""},"","",{"$f":"IF(V375=\"\",\"\",COUNTIF($V$7:V375,\"該当３\"))","v":""}]
[2210307004,"22",103,{"v":7,"d":"07"},{"v":4,"d":"004"},"静岡県","清水区(静岡市)","両河内村","遠呂島",null,"","",{"$f":"IF(K376=\"\",\"\",COUNTIF($K$7:K376,\"ﾘｽﾄ１\"))","v":""},"","","","","","","",{"$f":"IF(S376=\"\",\"\",COUNTIF($S$7:S376,\"該当２\"))","v":""},"","",{"$f":"IF(V376=\"\",\"\",COUNTIF($V$7:V376,\"該当３\"))","v":""}]
[2210307005,"22",103,{"v":7,"d":"07"},{"v":5,"d":"005"},"静岡県","清水区(静岡市)","両河内村","木山野",null,"","",{"$f":"IF(K377=\"\",\"\",COUNTIF($K$7:K377,\"ﾘｽﾄ１\"))","v":""},"","","","","","","",{"$f":"IF(S377=\"\",\"\",COUNTIF($S$7:S377,\"該当２\"))","v":""},"","",{"$f":"IF(V377=\"\",\"\",COUNTIF($V$7:V377,\"該当３\"))","v":""}]
[2210307006,"22",103,{"v":7,"d":"07"},{"v":6,"d":"006"},"静岡県","清水区(静岡市)","両河内村","神沢原",null,"","",{"$f":"IF(K378=\"\",\"\",COUNTIF($K$7:K378,\"ﾘｽﾄ１\"))","v":""},"","","","","","","",{"$f":"IF(S378=\"\",\"\",COUNTIF($S$7:S378,\"該当２\"))","v":""},"","",{"$f":"IF(V378=\"\",\"\",COUNTIF($V$7:V378,\"該当３\"))","v":""}]
[2210307007,"22",103,{"v":7,"d":"07"},{"v":7,"d":"007"},"静岡県","清水区(静岡市)","両河内村","板井沢",null,"","",{"$f":"IF(K379=\"\",\"\",COUNTIF($K$7:K379,\"ﾘｽﾄ１\"))","v":""},"","","","","","","",{"$f":"IF(S379=\"\",\"\",COUNTIF($S$7:S379,\"該当２\"))","v":""},"","",{"$f":"IF(V379=\"\",\"\",COUNTIF($V$7:V379,\"該当３\"))","v":""}]
[2210307008,"22",103,{"v":7,"d":"07"},{"v":8,"d":"008"},"静岡県","清水区(静岡市)","両河内村","樽",null,"","",{"$f":"IF(K380=\"\",\"\",COUNTIF($K$7:K380,\"ﾘｽﾄ１\"))","v":""},"","","","","","","",{"$f":"IF(S380=\"\",\"\",COUNTIF($S$7:S380,\"該当２\"))","v":""},"","",{"$f":"IF(V380=\"\",\"\",COUNTIF($V$7:V380,\"該当３\"))","v":""}]
[2210307009,"22",103,{"v":7,"d":"07"},{"v":9,"d":"009"},"静岡県","清水区(静岡市)","両河内村","湯沢",null,"","",{"$f":"IF(K381=\"\",\"\",COUNTIF($K$7:K381,\"ﾘｽﾄ１\"))","v":""},"","","","","","","",{"$f":"IF(S381=\"\",\"\",COUNTIF($S$7:S381,\"該当２\"))","v":""},"","",{"$f":"IF(V381=\"\",\"\",COUNTIF($V$7:V381,\"該当３\"))","v":""}]
[2210307010,"22",103,{"v":7,"d":"07"},{"v":10,"d":"010"},"静岡県","清水区(静岡市)","両河内村","和田島",null,"","",{"$f":"IF(K382=\"\",\"\",COUNTIF($K$7:K382,\"ﾘｽﾄ１\"))","v":""},"","","","","","","",{"$f":"IF(S382=\"\",\"\",COUNTIF($S$7:S382,\"該当２\"))","v":""},"","",{"$f":"IF(V382=\"\",\"\",COUNTIF($V$7:V382,\"該当３\"))","v":""}]
[2210307011,"22",103,{"v":7,"d":"07"},{"v":11,"d":"011"},"静岡県","清水区(静岡市)","両河内村","高山",null,"","",{"$f":"IF(K383=\"\",\"\",COUNTIF($K$7:K383,\"ﾘｽﾄ１\"))","v":""},"","","","","","","",{"$f":"IF(S383=\"\",\"\",COUNTIF($S$7:S383,\"該当２\"))","v":""},"","",{"$f":"IF(V383=\"\",\"\",COUNTIF($V$7:V383,\"該当３\"))","v":""}]
[2210307012,"22",103,{"v":7,"d":"07"},{"v":12,"d":"012"},"静岡県","清水区(静岡市)","両河内村","茂野島",null,"","",{"$f":"IF(K384=\"\",\"\",COUNTIF($K$7:K384,\"ﾘｽﾄ１\"))","v":""},"","","","","","","",{"$f":"IF(S384=\"\",\"\",COUNTIF($S$7:S384,\"該当２\"))","v":""},"","",{"$f":"IF(V384=\"\",\"\",COUNTIF($V$7:V384,\"該当３\"))","v":""}]
[2210307013,"22",103,{"v":7,"d":"07"},{"v":13,"d":"013"},"静岡県","清水区(静岡市)","両河内村","葛沢",null,"","",{"$f":"IF(K385=\"\",\"\",COUNTIF($K$7:K385,\"ﾘｽﾄ１\"))","v":""},"","","","","","","",{"$f":"IF(S385=\"\",\"\",COUNTIF($S$7:S385,\"該当２\"))","v":""},"","",{"$f":"IF(V385=\"\",\"\",COUNTIF($V$7:V385,\"該当３\"))","v":""}]
[2210307014,"22",103,{"v":7,"d":"07"},{"v":14,"d":"014"},"静岡県","清水区(静岡市)","両河内村","土",null,"","",{"$f":"IF(K386=\"\",\"\",COUNTIF($K$7:K386,\"ﾘｽﾄ１\"))","v":""},"","","","","","","",{"$f":"IF(S386=\"\",\"\",COUNTIF($S$7:S386,\"該当２\"))","v":""},"","",{"$f":"IF(V386=\"\",\"\",COUNTIF($V$7:V386,\"該当３\"))","v":""}]
[2210307015,"22",103,{"v":7,"d":"07"},{"v":15,"d":"015"},"静岡県","清水区(静岡市)","両河内村","布沢",null,"","",{"$f":"IF(K387=\"\",\"\",COUNTIF($K$7:K387,\"ﾘｽﾄ１\"))","v":""},"","","","","","","",{"$f":"IF(S387=\"\",\"\",COUNTIF($S$7:S387,\"該当２\"))","v":""},"","",{"$f":"IF(V387=\"\",\"\",COUNTIF($V$7:V387,\"該当３\"))","v":""}]
[2210307016,"22",103,{"v":7,"d":"07"},{"v":16,"d":"016"},"静岡県","清水区(静岡市)","両河内村","西里",null,"","",{"$f":"IF(K388=\"\",\"\",COUNTIF($K$7:K388,\"ﾘｽﾄ１\"))","v":""},"","","","","","","",{"$f":"IF(S388=\"\",\"\",COUNTIF($S$7:S388,\"該当２\"))","v":""},"","",{"$f":"IF(V388=\"\",\"\",COUNTIF($V$7:V388,\"該当３\"))","v":""}]
[2210307017,"22",103,{"v":7,"d":"07"},{"v":17,"d":"017"},"静岡県","清水区(静岡市)","両河内村","河内",null,"","",{"$f":"IF(K389=\"\",\"\",COUNTIF($K$7:K389,\"ﾘｽﾄ１\"))","v":""},"","","","","","","",{"$f":"IF(S389=\"\",\"\",COUNTIF($S$7:S389,\"該当２\"))","v":""},"","",{"$f":"IF(V389=\"\",\"\",COUNTIF($V$7:V389,\"該当３\"))","v":""}]
[2210307018,"22",103,{"v":7,"d":"07"},{"v":18,"d":"018"},"静岡県","清水区(静岡市)","両河内村","大平",null,"","",{"$f":"IF(K390=\"\",\"\",COUNTIF($K$7:K390,\"ﾘｽﾄ１\"))","v":""},"","","","","","","",{"$f":"IF(S390=\"\",\"\",COUNTIF($S$7:S390,\"該当２\"))","v":""},"","",{"$f":"IF(V390=\"\",\"\",COUNTIF($V$7:V390,\"該当３\"))","v":""}]
[2210308000,"22",103,{"v":8,"d":"08"},{"v":0,"d":"000"},"静岡県","清水区(静岡市)","庵原村",null,null,"","",{"$f":"IF(K391=\"\",\"\",COUNTIF($K$7:K391,\"ﾘｽﾄ１\"))","v":""},"","","","","","","",{"$f":"IF(S391=\"\",\"\",COUNTIF($S$7:S391,\"該当２\"))","v":""},"","",{"$f":"IF(V391=\"\",\"\",COUNTIF($V$7:V391,\"該当３\"))","v":""}]
[2210308001,"22",103,{"v":8,"d":"08"},{"v":1,"d":"001"},"静岡県","清水区(静岡市)","庵原村","庵原第１",null,"","",{"$f":"IF(K392=\"\",\"\",COUNTIF($K$7:K392,\"ﾘｽﾄ１\"))","v":""},"","",{"$f":"IF(O392=\"該当１\",G392,\"\")","v":""},{"$f":"IF(O392=\"該当１\",\"ﾘｽﾄ2\",\"\")","v":""},{"$f":"IF(Q392=\"ﾘｽﾄ2\",H392,\"\")","v":""},"",{"$f":"IF(S392=\"該当２\",H392,\"\")","v":""},{"$f":"IF(S392=\"\",\"\",COUNTIF($S$7:S392,\"該当２\"))","v":""},{"$f":"IF(AND($S$2=H392,E392>0,E392<998),\"該当３\",\"\")","v":""},{"$f":"IF(V392=\"該当３\",I392,\"\")","v":""},{"$f":"IF(V392=\"\",\"\",COUNTIF($V$7:V392,\"該当３\"))","v":""}]
[2210308002,"22",103,{"v":8,"d":"08"},{"v":2,"d":"002"},"静岡県","清水区(静岡市)","庵原村","庵原第２",null,{"$f":"IF(AND($C393>0,$H393=\"\"),\"ﾘｽﾄ１\",\"\")","v":""},{"$f":"IF(K393=\"ﾘｽﾄ１\",G393,\"\")","v":""},{"$f":"IF(K393=\"\",\"\",COUNTIF($K$7:K393,\"ﾘｽﾄ１\"))","v":""},{"$f":"IF(AND(D393=0,E393>0),\"同一区\",\"\")","v":""},{"$f":"IF(AND(EXACT($K$2,G393),H393>0),\"該当１\",\"\")","v":""},"","","",{"$f":"IF(AND(Q393=\"ﾘｽﾄ2\",OR(I393=0,AND(N393=\"同一区\",E393=1))),\"該当２\",\"\")","v":""},"",{"$f":"IF(S393=\"\",\"\",COUNTIF($S$7:S393,\"該当２\"))","v":""},"","",{"$f":"IF(V393=\"\",\"\",COUNTIF($V$7:V393,\"該当３\"))","v":""}]
[2210308003,"22",103,{"v":8,"d":"08"},{"v":3,"d":"003"},"静岡県","清水区(静岡市)","庵原村","庵原第３",null,"","",{"$f":"IF(K394=\"\",\"\",COUNTIF($K$7:K394,\"ﾘｽﾄ１\"))","v":""},"","","","","","","",{"$f":"IF(S394=\"\",\"\",COUNTIF($S$7:S394,\"該当２\"))","v":""},"","",{"$f":"IF(V394=\"\",\"\",COUNTIF($V$7:V394,\"該当３\"))","v":""}]
[2210308004,"22",103,{"v":8,"d":"08"},{"v":4,"d":"004"},"静岡県","清水区(静岡市)","庵原村","原",null,"","",{"$f":"IF(K395=\"\",\"\",COUNTIF($K$7:K395,\"ﾘｽﾄ１\"))","v":""},"","","","","","","",{"$f":"IF(S395=\"\",\"\",COUNTIF($S$7:S395,\"該当２\"))","v":""},"","",{"$f":"IF(V395=\"\",\"\",COUNTIF($V$7:V395,\"該当３\"))","v":""}]
[2210308005,"22",103,{"v":8,"d":"08"},{"v":5,"d":"005"},"静岡県","清水区(静岡市)","庵原村","伊佐布",null,"","",{"$f":"IF(K396=\"\",\"\",COUNTIF($K$7:K396,\"ﾘｽﾄ１\"))","v":""},"","","","","","","",{"$f":"IF(S396=\"\",\"\",COUNTIF($S$7:S396,\"該当２\"))","v":""},"","",{"$f":"IF(V396=\"\",\"\",COUNTIF($V$7:V396,\"該当３\"))","v":""}]
[2210308006,"22",103,{"v":8,"d":"08"},{"v":6,"d":"006"},"静岡県","清水区(静岡市)","庵原村","吉原",null,"","",{"$f":"IF(K397=\"\",\"\",COUNTIF($K$7:K397,\"ﾘｽﾄ１\"))","v":""},"","","","","","","",{"$f":"IF(S397=\"\",\"\",COUNTIF($S$7:S397,\"該当２\"))","v":""},"","",{"$f":"IF(V397=\"\",\"\",COUNTIF($V$7:V397,\"該当３\"))","v":""}]
[2210308007,"22",103,{"v":8,"d":"08"},{"v":7,"d":"007"},"静岡県","清水区(静岡市)","庵原村","杉山",null,"","",{"$f":"IF(K398=\"\",\"\",COUNTIF($K$7:K398,\"ﾘｽﾄ１\"))","v":""},"","","","","","","",{"$f":"IF(S398=\"\",\"\",COUNTIF($S$7:S398,\"該当２\"))","v":""},"","",{"$f":"IF(V398=\"\",\"\",COUNTIF($V$7:V398,\"該当３\"))","v":""}]
[2210308008,"22",103,{"v":8,"d":"08"},{"v":8,"d":"008"},"静岡県","清水区(静岡市)","庵原村","山切",null,"","",{"$f":"IF(K399=\"\",\"\",COUNTIF($K$7:K399,\"ﾘｽﾄ１\"))","v":""},"","","","","","","",{"$f":"IF(S399=\"\",\"\",COUNTIF($S$7:S399,\"該当２\"))","v":""},"","",{"$f":"IF(V399=\"\",\"\",COUNTIF($V$7:V399,\"該当３\"))","v":""}]
[2210308009,"22",103,{"v":8,"d":"08"},{"v":9,"d":"009"},"静岡県","清水区(静岡市)","庵原村","草ヶ谷",null,"","",{"$f":"IF(K400=\"\",\"\",COUNTIF($K$7:K400,\"ﾘｽﾄ１\"))","v":""},"","","","","","","",{"$f":"IF(S400=\"\",\"\",COUNTIF($S$7:S400,\"該当２\"))","v":""},"","",{"$f":"IF(V400=\"\",\"\",COUNTIF($V$7:V400,\"該当３\"))","v":""}]
[2210308010,"22",103,{"v":8,"d":"08"},{"v":10,"d":"010"},"静岡県","清水区(静岡市)","庵原村","尾羽",null,"","",{"$f":"IF(K401=\"\",\"\",COUNTIF($K$7:K401,\"ﾘｽﾄ１\"))","v":""},"","","","","","","",{"$f":"IF(S401=\"\",\"\",COUNTIF($S$7:S401,\"該当２\"))","v":""},"","",{"$f":"IF(V401=\"\",\"\",COUNTIF($V$7:V401,\"該当３\"))","v":""}]
[2210308011,"22",103,{"v":8,"d":"08"},{"v":11,"d":"011"},"静岡県","清水区(静岡市)","庵原村","広瀬",null,"","",{"$f":"IF(K402=\"\",\"\",COUNTIF($K$7:K402,\"ﾘｽﾄ１\"))","v":""},"","","","","","","",{"$f":"IF(S402=\"\",\"\",COUNTIF($S$7:S402,\"該当２\"))","v":""},"","",{"$f":"IF(V402=\"\",\"\",COUNTIF($V$7:V402,\"該当３\"))","v":""}]
[2210308012,"22",103,{"v":8,"d":"08"},{"v":12,"d":"012"},"静岡県","清水区(静岡市)","庵原村","茂畑",null,"","",{"$f":"IF(K403=\"\",\"\",COUNTIF($K$7:K403,\"ﾘｽﾄ１\"))","v":""},"","","","","","","",{"$f":"IF(S403=\"\",\"\",COUNTIF($S$7:S403,\"該当２\"))","v":""},"","",{"$f":"IF(V403=\"\",\"\",COUNTIF($V$7:V403,\"該当３\"))","v":""}]
[2210309000,"22",103,{"v":9,"d":"09"},{"v":0,"d":"000"},"静岡県","清水区(静岡市)","袖師町",null,null,"","",{"$f":"IF(K404=\"\",\"\",COUNTIF($K$7:K404,\"ﾘｽﾄ１\"))","v":""},"","","","","","","",{"$f":"IF(S404=\"\",\"\",COUNTIF($S$7:S404,\"該当２\"))","v":""},"","",{"$f":"IF(V404=\"\",\"\",COUNTIF($V$7:V404,\"該当３\"))","v":""}]
[2210309001,"22",103,{"v":9,"d":"09"},{"v":1,"d":"001"},"静岡県","清水区(静岡市)","袖師町","西久保",null,"","",{"$f":"IF(K405=\"\",\"\",COUNTIF($K$7:K405,\"ﾘｽﾄ１\"))","v":""},"","","","","","","",{"$f":"IF(S405=\"\",\"\",COUNTIF($S$7:S405,\"該当２\"))","v":""},"","",{"$f":"IF(V405=\"\",\"\",COUNTIF($V$7:V405,\"該当３\"))","v":""}]
[2210309002,"22",103,{"v":9,"d":"09"},{"v":2,"d":"002"},"静岡県","清水区(静岡市)","袖師町","下嶺",null,"","",{"$f":"IF(K406=\"\",\"\",COUNTIF($K$7:K406,\"ﾘｽﾄ１\"))","v":""},"","","","","","","",{"$f":"IF(S406=\"\",\"\",COUNTIF($S$7:S406,\"該当２\"))","v":""},"","",{"$f":"IF(V406=\"\",\"\",COUNTIF($V$7:V406,\"該当３\"))","v":""}]
[2210309003,"22",103,{"v":9,"d":"09"},{"v":3,"d":"003"},"静岡県","清水区(静岡市)","袖師町","横砂",null,"","",{"$f":"IF(K407=\"\",\"\",COUNTIF($K$7:K407,\"ﾘｽﾄ１\"))","v":""},"","","","","","","",{"$f":"IF(S407=\"\",\"\",COUNTIF($S$7:S407,\"該当２\"))","v":""},"","",{"$f":"IF(V407=\"\",\"\",COUNTIF($V$7:V407,\"該当３\"))","v":""}]
[2210309004,"22",103,{"v":9,"d":"09"},{"v":4,"d":"004"},"静岡県","清水区(静岡市)","袖師町","上嶺",null,"","",{"$f":"IF(K408=\"\",\"\",COUNTIF($K$7:K408,\"ﾘｽﾄ１\"))","v":""},"","","","","","","",{"$f":"IF(S408=\"\",\"\",COUNTIF($S$7:S408,\"該当２\"))","v":""},"","",{"$f":"IF(V408=\"\",\"\",COUNTIF($V$7:V408,\"該当３\"))","v":""}]
[2210310000,"22",103,10,{"v":0,"d":"000"},"静岡県","清水区(静岡市)","蒲原町",null,null,"","",{"$f":"IF(K409=\"\",\"\",COUNTIF($K$7:K409,\"ﾘｽﾄ１\"))","v":""},"","","","","","","",{"$f":"IF(S409=\"\",\"\",COUNTIF($S$7:S409,\"該当２\"))","v":""},"","",{"$f":"IF(V409=\"\",\"\",COUNTIF($V$7:V409,\"該当３\"))","v":""}]
[2210310001,"22",103,10,{"v":1,"d":"001"},"静岡県","清水区(静岡市)","蒲原町","神沢",null,"","",{"$f":"IF(K410=\"\",\"\",COUNTIF($K$7:K410,\"ﾘｽﾄ１\"))","v":""},"","","","","","","",{"$f":"IF(S410=\"\",\"\",COUNTIF($S$7:S410,\"該当２\"))","v":""},"","",{"$f":"IF(V410=\"\",\"\",COUNTIF($V$7:V410,\"該当３\"))","v":""}]
[2210310002,"22",103,10,{"v":2,"d":"002"},"静岡県","清水区(静岡市)","蒲原町","堰沢",null,"","",{"$f":"IF(K411=\"\",\"\",COUNTIF($K$7:K411,\"ﾘｽﾄ１\"))","v":""},"","","","","","","",{"$f":"IF(S411=\"\",\"\",COUNTIF($S$7:S411,\"該当２\"))","v":""},"","",{"$f":"IF(V411=\"\",\"\",COUNTIF($V$7:V411,\"該当３\"))","v":""}]
[2210310003,"22",103,10,{"v":3,"d":"003"},"静岡県","清水区(静岡市)","蒲原町","中",null,"","",{"$f":"IF(K412=\"\",\"\",COUNTIF($K$7:K412,\"ﾘｽﾄ１\"))","v":""},"","","","","","","",{"$f":"IF(S412=\"\",\"\",COUNTIF($S$7:S412,\"該当２\"))","v":""},"","",{"$f":"IF(V412=\"\",\"\",COUNTIF($V$7:V412,\"該当３\"))","v":""}]
[2210310004,"22",103,10,{"v":4,"d":"004"},"静岡県","清水区(静岡市)","蒲原町","小金",null,"","",{"$f":"IF(K413=\"\",\"\",COUNTIF($K$7:K413,\"ﾘｽﾄ１\"))","v":""},"","","","","","","",{"$f":"IF(S413=\"\",\"\",COUNTIF($S$7:S413,\"該当２\"))","v":""},"","",{"$f":"IF(V413=\"\",\"\",COUNTIF($V$7:V413,\"該当３\"))","v":""}]
[2210310005,"22",103,10,{"v":5,"d":"005"},"静岡県","清水区(静岡市)","蒲原町","新田",null,"","",{"$f":"IF(K414=\"\",\"\",COUNTIF($K$7:K414,\"ﾘｽﾄ１\"))","v":""},"","","","","","","",{"$f":"IF(S414=\"\",\"\",COUNTIF($S$7:S414,\"該当２\"))","v":""},"","",{"$f":"IF(V414=\"\",\"\",COUNTIF($V$7:V414,\"該当３\"))","v":""}]
[2210310006,"22",103,10,{"v":6,"d":"006"},"静岡県","清水区(静岡市)","蒲原町","西町",null,"","",{"$f":"IF(K415=\"\",\"\",COUNTIF($K$7:K415,\"ﾘｽﾄ１\"))","v":""},"","","","","","","",{"$f":"IF(S415=\"\",\"\",COUNTIF($S$7:S415,\"該当２\"))","v":""},"","",{"$f":"IF(V415=\"\",\"\",COUNTIF($V$7:V415,\"該当３\"))","v":""}]
[2210310007,"22",103,10,{"v":7,"d":"007"},"静岡県","清水区(静岡市)","蒲原町","善福寺",null,"","",{"$f":"IF(K416=\"\",\"\",COUNTIF($K$7:K416,\"ﾘｽﾄ１\"))","v":""},"","","","","","","",{"$f":"IF(S416=\"\",\"\",COUNTIF($S$7:S416,\"該当２\"))","v":""},"","",{"$f":"IF(V416=\"\",\"\",COUNTIF($V$7:V416,\"該当３\"))","v":""}]
[2210310008,"22",103,10,{"v":8,"d":"008"},"静岡県","清水区(静岡市)","蒲原町","堀川",null,"","",{"$f":"IF(K417=\"\",\"\",COUNTIF($K$7:K417,\"ﾘｽﾄ１\"))","v":""},"","","","","","","",{"$f":"IF(S417=\"\",\"\",COUNTIF($S$7:S417,\"該当２\"))","v":""},"","",{"$f":"IF(V417=\"\",\"\",COUNTIF($V$7:V417,\"該当３\"))","v":""}]
[2210310009,"22",103,10,{"v":9,"d":"009"},"静岡県","清水区(静岡市)","蒲原町","棚",null,"","",{"$f":"IF(K418=\"\",\"\",COUNTIF($K$7:K418,\"ﾘｽﾄ１\"))","v":""},"","","","","","","",{"$f":"IF(S418=\"\",\"\",COUNTIF($S$7:S418,\"該当２\"))","v":""},"","",{"$f":"IF(V418=\"\",\"\",COUNTIF($V$7:V418,\"該当３\"))","v":""}]
[2210310010,"22",103,10,{"v":10,"d":"010"},"静岡県","清水区(静岡市)","蒲原町","本町",null,"","",{"$f":"IF(K419=\"\",\"\",COUNTIF($K$7:K419,\"ﾘｽﾄ１\"))","v":""},"","","","","","","",{"$f":"IF(S419=\"\",\"\",COUNTIF($S$7:S419,\"該当２\"))","v":""},"","",{"$f":"IF(V419=\"\",\"\",COUNTIF($V$7:V419,\"該当３\"))","v":""}]
[2210310011,"22",103,10,{"v":11,"d":"011"},"静岡県","清水区(静岡市)","蒲原町","天王町",null,"","",{"$f":"IF(K420=\"\",\"\",COUNTIF($K$7:K420,\"ﾘｽﾄ１\"))","v":""},"","","","","","","",{"$f":"IF(S420=\"\",\"\",COUNTIF($S$7:S420,\"該当２\"))","v":""},"","",{"$f":"IF(V420=\"\",\"\",COUNTIF($V$7:V420,\"該当３\"))","v":""}]
[2210310012,"22",103,10,{"v":12,"d":"012"},"静岡県","清水区(静岡市)","蒲原町","八幡町",null,"","",{"$f":"IF(K421=\"\",\"\",COUNTIF($K$7:K421,\"ﾘｽﾄ１\"))","v":""},"","","","","","","",{"$f":"IF(S421=\"\",\"\",COUNTIF($S$7:S421,\"該当２\"))","v":""},"","",{"$f":"IF(V421=\"\",\"\",COUNTIF($V$7:V421,\"該当３\"))","v":""}]
[2210310013,"22",103,10,{"v":13,"d":"013"},"静岡県","清水区(静岡市)","蒲原町","諏訪町",null,"","",{"$f":"IF(K422=\"\",\"\",COUNTIF($K$7:K422,\"ﾘｽﾄ１\"))","v":""},"","","","","","","",{"$f":"IF(S422=\"\",\"\",COUNTIF($S$7:S422,\"該当２\"))","v":""},"","",{"$f":"IF(V422=\"\",\"\",COUNTIF($V$7:V422,\"該当３\"))","v":""}]
[2210310014,"22",103,10,{"v":14,"d":"014"},"静岡県","清水区(静岡市)","蒲原町","新諏訪",null,"","",{"$f":"IF(K423=\"\",\"\",COUNTIF($K$7:K423,\"ﾘｽﾄ１\"))","v":""},"","","","","","","",{"$f":"IF(S423=\"\",\"\",COUNTIF($S$7:S423,\"該当２\"))","v":""},"","",{"$f":"IF(V423=\"\",\"\",COUNTIF($V$7:V423,\"該当３\"))","v":""}]
[2210310015,"22",103,10,{"v":15,"d":"015"},"静岡県","清水区(静岡市)","蒲原町","蒲原",null,"","",{"$f":"IF(K424=\"\",\"\",COUNTIF($K$7:K424,\"ﾘｽﾄ１\"))","v":""},"","","","","","","",{"$f":"IF(S424=\"\",\"\",COUNTIF($S$7:S424,\"該当２\"))","v":""},"","",{"$f":"IF(V424=\"\",\"\",COUNTIF($V$7:V424,\"該当３\"))","v":""}]
[2210311000,"22",103,11,{"v":0,"d":"000"},"静岡県","清水区(静岡市)","由比町",null,null,"","",{"$f":"IF(K425=\"\",\"\",COUNTIF($K$7:K425,\"ﾘｽﾄ１\"))","v":""},"","","","","","","",{"$f":"IF(S425=\"\",\"\",COUNTIF($S$7:S425,\"該当２\"))","v":""},"","",{"$f":"IF(V425=\"\",\"\",COUNTIF($V$7:V425,\"該当３\"))","v":""}]
[2210311001,"22",103,11,{"v":1,"d":"001"},"静岡県","清水区(静岡市)","由比町","由比",null,"","",{"$f":"IF(K426=\"\",\"\",COUNTIF($K$7:K426,\"ﾘｽﾄ１\"))","v":""},"","","","","","","",{"$f":"IF(S426=\"\",\"\",COUNTIF($S$7:S426,\"該当２\"))","v":""},"","",{"$f":"IF(V426=\"\",\"\",COUNTIF($V$7:V426,\"該当３\"))","v":""}]
[2210311002,"22",103,11,{"v":2,"d":"002"},"静岡県","清水区(静岡市)","由比町","北田",null,"","",{"$f":"IF(K427=\"\",\"\",COUNTIF($K$7:K427,\"ﾘｽﾄ１\"))","v":""},"","","","","","","",{"$f":"IF(S427=\"\",\"\",COUNTIF($S$7:S427,\"該当２\"))","v":""},"","",{"$f":"IF(V427=\"\",\"\",COUNTIF($V$7:V427,\"該当３\"))","v":""}]
[2210311003,"22",103,11,{"v":3,"d":"003"},"静岡県","清水区(静岡市)","由比町","町屋原",null,"","",{"$f":"IF(K428=\"\",\"\",COUNTIF($K$7:K428,\"ﾘｽﾄ１\"))","v":""},"","","","","","","",{"$f":"IF(S428=\"\",\"\",COUNTIF($S$7:S428,\"該当２\"))","v":""},"","",{"$f":"IF(V428=\"\",\"\",COUNTIF($V$7:V428,\"該当３\"))","v":""}]
[2210311004,"22",103,11,{"v":4,"d":"004"},"静岡県","清水区(静岡市)","由比町","今宿",null,"","",{"$f":"IF(K429=\"\",\"\",COUNTIF($K$7:K429,\"ﾘｽﾄ１\"))","v":""},"","","","","","","",{"$f":"IF(S429=\"\",\"\",COUNTIF($S$7:S429,\"該当２\"))","v":""},"","",{"$f":"IF(V429=\"\",\"\",COUNTIF($V$7:V429,\"該当３\"))","v":""}]
[2210311005,"22",103,11,{"v":5,"d":"005"},"静岡県","清水区(静岡市)","由比町","平",null,"","",{"$f":"IF(K430=\"\",\"\",COUNTIF($K$7:K430,\"ﾘｽﾄ１\"))","v":""},"","","","","","","",{"$f":"IF(S430=\"\",\"\",COUNTIF($S$7:S430,\"該当２\"))","v":""},"","",{"$f":"IF(V430=\"\",\"\",COUNTIF($V$7:V430,\"該当３\"))","v":""}]
[2210311006,"22",103,11,{"v":6,"d":"006"},"静岡県","清水区(静岡市)","由比町","寺尾",null,"","",{"$f":"IF(K431=\"\",\"\",COUNTIF($K$7:K431,\"ﾘｽﾄ１\"))","v":""},"","","","","","","",{"$f":"IF(S431=\"\",\"\",COUNTIF($S$7:S431,\"該当２\"))","v":""},"","",{"$f":"IF(V431=\"\",\"\",COUNTIF($V$7:V431,\"該当３\"))","v":""}]
[2210311007,"22",103,11,{"v":7,"d":"007"},"静岡県","清水区(静岡市)","由比町","東倉沢",null,"","",{"$f":"IF(K432=\"\",\"\",COUNTIF($K$7:K432,\"ﾘｽﾄ１\"))","v":""},"","","","","","","",{"$f":"IF(S432=\"\",\"\",COUNTIF($S$7:S432,\"該当２\"))","v":""},"","",{"$f":"IF(V432=\"\",\"\",COUNTIF($V$7:V432,\"該当３\"))","v":""}]
[2210311008,"22",103,11,{"v":8,"d":"008"},"静岡県","清水区(静岡市)","由比町","西倉沢",null,"","",{"$f":"IF(K433=\"\",\"\",COUNTIF($K$7:K433,\"ﾘｽﾄ１\"))","v":""},"","","","","","","",{"$f":"IF(S433=\"\",\"\",COUNTIF($S$7:S433,\"該当２\"))","v":""},"","",{"$f":"IF(V433=\"\",\"\",COUNTIF($V$7:V433,\"該当３\"))","v":""}]
[2210311009,"22",103,11,{"v":9,"d":"009"},"静岡県","清水区(静岡市)","由比町","西山寺",null,"","",{"$f":"IF(K434=\"\",\"\",COUNTIF($K$7:K434,\"ﾘｽﾄ１\"))","v":""},"","","","","","","",{"$f":"IF(S434=\"\",\"\",COUNTIF($S$7:S434,\"該当２\"))","v":""},"","",{"$f":"IF(V434=\"\",\"\",COUNTIF($V$7:V434,\"該当３\"))","v":""}]
[2210311010,"22",103,11,{"v":10,"d":"010"},"静岡県","清水区(静岡市)","由比町","阿僧",null,"","",{"$f":"IF(K435=\"\",\"\",COUNTIF($K$7:K435,\"ﾘｽﾄ１\"))","v":""},"","","","","","","",{"$f":"IF(S435=\"\",\"\",COUNTIF($S$7:S435,\"該当２\"))","v":""},"","",{"$f":"IF(V435=\"\",\"\",COUNTIF($V$7:V435,\"該当３\"))","v":""}]
[2210311011,"22",103,11,{"v":11,"d":"011"},"静岡県","清水区(静岡市)","由比町","白井沢",null,"","",{"$f":"IF(K436=\"\",\"\",COUNTIF($K$7:K436,\"ﾘｽﾄ１\"))","v":""},"","","","","","","",{"$f":"IF(S436=\"\",\"\",COUNTIF($S$7:S436,\"該当２\"))","v":""},"","",{"$f":"IF(V436=\"\",\"\",COUNTIF($V$7:V436,\"該当３\"))","v":""}]
[2210311012,"22",103,11,{"v":12,"d":"012"},"静岡県","清水区(静岡市)","由比町","東山寺",null,"","",{"$f":"IF(K437=\"\",\"\",COUNTIF($K$7:K437,\"ﾘｽﾄ１\"))","v":""},"","","","","","","",{"$f":"IF(S437=\"\",\"\",COUNTIF($S$7:S437,\"該当２\"))","v":""},"","",{"$f":"IF(V437=\"\",\"\",COUNTIF($V$7:V437,\"該当３\"))","v":""}]
[2210311013,"22",103,11,{"v":13,"d":"013"},"静岡県","清水区(静岡市)","由比町","室野",null,"","",{"$f":"IF(K438=\"\",\"\",COUNTIF($K$7:K438,\"ﾘｽﾄ１\"))","v":""},"","","","","","","",{"$f":"IF(S438=\"\",\"\",COUNTIF($S$7:S438,\"該当２\"))","v":""},"","",{"$f":"IF(V438=\"\",\"\",COUNTIF($V$7:V438,\"該当３\"))","v":""}]
[2210311014,"22",103,11,{"v":14,"d":"014"},"静岡県","清水区(静岡市)","由比町","入山",null,"","",{"$f":"IF(K439=\"\",\"\",COUNTIF($K$7:K439,\"ﾘｽﾄ１\"))","v":""},"","","","","","","",{"$f":"IF(S439=\"\",\"\",COUNTIF($S$7:S439,\"該当２\"))","v":""},"","",{"$f":"IF(V439=\"\",\"\",COUNTIF($V$7:V439,\"該当３\"))","v":""}]
[2213000000,"22",130,{"v":0,"d":"00"},{"v":0,"d":"000"},"静岡県","浜松市",{"$nulls":3},"ﾘｽﾄ１","浜松市",{"$f":"IF(K440=\"\",\"\",COUNTIF($K$7:K440,\"ﾘｽﾄ１\"))","v":5},"","","","","","","",{"$f":"IF(S440=\"\",\"\",COUNTIF($S$7:S440,\"該当２\"))","v":""},"","",{"$f":"IF(V440=\"\",\"\",COUNTIF($V$7:V440,\"該当３\"))","v":""}]
[2213100000,"22",131,{"v":0,"d":"00"},{"v":0,"d":"000"},"静岡県","中区(浜松市)",{"$nulls":3},"ﾘｽﾄ１","中区(浜松市)",{"$f":"IF(K441=\"\",\"\",COUNTIF($K$7:K441,\"ﾘｽﾄ１\"))","v":6},"","","","","","","",{"$f":"IF(S441=\"\",\"\",COUNTIF($S$7:S441,\"該当２\"))","v":""},"","",{"$f":"IF(V441=\"\",\"\",COUNTIF($V$7:V441,\"該当３\"))","v":""}]
[2213101000,"22",131,{"v":1,"d":"01"},{"v":0,"d":"000"},"静岡県","中区(浜松市)","浜松市４－１",null,null,"","",{"$f":"IF(K442=\"\",\"\",COUNTIF($K$7:K442,\"ﾘｽﾄ１\"))","v":""},"","","","","","","",{"$f":"IF(S442=\"\",\"\",COUNTIF($S$7:S442,\"該当２\"))","v":""},"","",{"$f":"IF(V442=\"\",\"\",COUNTIF($V$7:V442,\"該当３\"))","v":""}]
[2213101001,"22",131,{"v":1,"d":"01"},{"v":1,"d":"001"},"静岡県","中区(浜松市)","浜松市４－１","萩の原",null,"","",{"$f":"IF(K443=\"\",\"\",COUNTIF($K$7:K443,\"ﾘｽﾄ１\"))","v":""},"","","","","","","",{"$f":"IF(S443=\"\",\"\",COUNTIF($S$7:S443,\"該当２\"))","v":""},"","",{"$f":"IF(V443=\"\",\"\",COUNTIF($V$7:V443,\"該当３\"))","v":""}]
[2213101002,"22",131,{"v":1,"d":"01"},{"v":2,"d":"002"},"静岡県","中区(浜松市)","浜松市４－１","葵西",null,"","",{"$f":"IF(K444=\"\",\"\",COUNTIF($K$7:K444,\"ﾘｽﾄ１\"))","v":""},"","","","","","","",{"$f":"IF(S444=\"\",\"\",COUNTIF($S$7:S444,\"該当２\"))","v":""},"","",{"$f":"IF(V444=\"\",\"\",COUNTIF($V$7:V444,\"該当３\"))","v":""}]
[2213101003,"22",131,{"v":1,"d":"01"},{"v":3,"d":"003"},"静岡県","中区(浜松市)","浜松市４－１","浜松開拓",null,"","",{"$f":"IF(K445=\"\",\"\",COUNTIF($K$7:K445,\"ﾘｽﾄ１\"))","v":""},"","","","","","","",{"$f":"IF(S445=\"\",\"\",COUNTIF($S$7:S445,\"該当２\"))","v":""},"","",{"$f":"IF(V445=\"\",\"\",COUNTIF($V$7:V445,\"該当３\"))","v":""}]
[2213101004,"22",131,{"v":1,"d":"01"},{"v":4,"d":"004"},"静岡県","中区(浜松市)","浜松市４－１","葵東",null,"","",{"$f":"IF(K446=\"\",\"\",COUNTIF($K$7:K446,\"ﾘｽﾄ１\"))","v":""},"","","","","","","",{"$f":"IF(S446=\"\",\"\",COUNTIF($S$7:S446,\"該当２\"))","v":""},"","",{"$f":"IF(V446=\"\",\"\",COUNTIF($V$7:V446,\"該当３\"))","v":""}]
[2213101005,"22",131,{"v":1,"d":"01"},{"v":5,"d":"005"},"静岡県","中区(浜松市)","浜松市４－１","小豆餅開拓",null,"","",{"$f":"IF(K447=\"\",\"\",COUNTIF($K$7:K447,\"ﾘｽﾄ１\"))","v":""},"","","","","","","",{"$f":"IF(S447=\"\",\"\",COUNTIF($S$7:S447,\"該当２\"))","v":""},"","",{"$f":"IF(V447=\"\",\"\",COUNTIF($V$7:V447,\"該当３\"))","v":""}]
[2213101006,"22",131,{"v":1,"d":"01"},{"v":6,"d":"006"},"静岡県","中区(浜松市)","浜松市４－１","萩町",null,"","",{"$f":"IF(K448=\"\",\"\",COUNTIF($K$7:K448,\"ﾘｽﾄ１\"))","v":""},"","","","","","","",{"$f":"IF(S448=\"\",\"\",COUNTIF($S$7:S448,\"該当２\"))","v":""},"","",{"$f":"IF(V448=\"\",\"\",COUNTIF($V$7:V448,\"該当３\"))","v":""}]
[2213101007,"22",131,{"v":1,"d":"01"},{"v":7,"d":"007"},"静岡県","中区(浜松市)","浜松市４－１","幸町",null,"","",{"$f":"IF(K449=\"\",\"\",COUNTIF($K$7:K449,\"ﾘｽﾄ１\"))","v":""},"","","","","","","",{"$f":"IF(S449=\"\",\"\",COUNTIF($S$7:S449,\"該当２\"))","v":""},"","",{"$f":"IF(V449=\"\",\"\",COUNTIF($V$7:V449,\"該当３\"))","v":""}]
[2213101008,"22",131,{"v":1,"d":"01"},{"v":8,"d":"008"},"静岡県","中区(浜松市)","浜松市４－１","泉町西",null,"","",{"$f":"IF(K450=\"\",\"\",COUNTIF($K$7:K450,\"ﾘｽﾄ１\"))","v":""},"","","","","","","",{"$f":"IF(S450=\"\",\"\",COUNTIF($S$7:S450,\"該当２\"))","v":""},"","",{"$f":"IF(V450=\"\",\"\",COUNTIF($V$7:V450,\"該当３\"))","v":""}]
[2213101009,"22",131,{"v":1,"d":"01"},{"v":9,"d":"009"},"静岡県","中区(浜松市)","浜松市４－１","泉町東",null,"","",{"$f":"IF(K451=\"\",\"\",COUNTIF($K$7:K451,\"ﾘｽﾄ１\"))","v":""},"","","","","","","",{"$f":"IF(S451=\"\",\"\",COUNTIF($S$7:S451,\"該当２\"))","v":""},"","",{"$f":"IF(V451=\"\",\"\",COUNTIF($V$7:V451,\"該当３\"))","v":""}]
[2213101010,"22",131,{"v":1,"d":"01"},{"v":10,"d":"010"},"静岡県","中区(浜松市)","浜松市４－１","西脇",null,"","",{"$f":"IF(K452=\"\",\"\",COUNTIF($K$7:K452,\"ﾘｽﾄ１\"))","v":""},"","","","","","","",{"$f":"IF(S452=\"\",\"\",COUNTIF($S$7:S452,\"該当２\"))","v":""},"","",{"$f":"IF(V452=\"\",\"\",COUNTIF($V$7:V452,\"該当３\"))","v":""}]
[2213101011,"22",131,{"v":1,"d":"01"},{"v":11,"d":"011"},"静岡県","中区(浜松市)","浜松市４－１","向平東",null,"","",{"$f":"IF(K453=\"\",\"\",COUNTIF($K$7:K453,\"ﾘｽﾄ１\"))","v":""},"","","","","","","",{"$f":"IF(S453=\"\",\"\",COUNTIF($S$7:S453,\"該当２\"))","v":""},"","",{"$f":"IF(V453=\"\",\"\",COUNTIF($V$7:V453,\"該当３\"))","v":""}]
[2213101012,"22",131,{"v":1,"d":"01"},{"v":12,"d":"012"},"静岡県","中区(浜松市)","浜松市４－１","向平西",null,"","",{"$f":"IF(K454=\"\",\"\",COUNTIF($K$7:K454,\"ﾘｽﾄ１\"))","v":""},"","","","","","","",{"$f":"IF(S454=\"\",\"\",COUNTIF($S$7:S454,\"該当２\"))","v":""},"","",{"$f":"IF(V454=\"\",\"\",COUNTIF($V$7:V454,\"該当３\"))","v":""}]
[2213101013,"22",131,{"v":1,"d":"01"},{"v":13,"d":"013"},"静岡県","中区(浜松市)","浜松市４－１","安座下",null,"","",{"$f":"IF(K455=\"\",\"\",COUNTIF($K$7:K455,\"ﾘｽﾄ１\"))","v":""},"","","","","","","",{"$f":"IF(S455=\"\",\"\",COUNTIF($S$7:S455,\"該当２\"))","v":""},"","",{"$f":"IF(V455=\"\",\"\",COUNTIF($V$7:V455,\"該当３\"))","v":""}]
[2213101014,"22",131,{"v":1,"d":"01"},{"v":14,"d":"014"},"静岡県","中区(浜松市)","浜松市４－１","福江",null,"","",{"$f":"IF(K456=\"\",\"\",COUNTIF($K$7:K456,\"ﾘｽﾄ１\"))","v":""},"","","","","","","",{"$f":"IF(S456=\"\",\"\",COUNTIF($S$7:S456,\"該当２\"))","v":""},"","",{"$f":"IF(V456=\"\",\"\",COUNTIF($V$7:V456,\"該当３\"))","v":""}]
[2213101015,"22",131,{"v":1,"d":"01"},{"v":15,"d":"015"},"静岡県","中区(浜松市)","浜松市４－１","小藪",null,"","",{"$f":"IF(K457=\"\",\"\",COUNTIF($K$7:K457,\"ﾘｽﾄ１\"))","v":""},"","",{"$f":"IF(O457=\"該当１\",G457,\"\")","v":""},{"$f":"IF(O457=\"該当１\",\"ﾘｽﾄ2\",\"\")","v":""},{"$f":"IF(Q457=\"ﾘｽﾄ2\",H457,\"\")","v":""},"",{"$f":"IF(S457=\"該当２\",H457,\"\")","v":""},{"$f":"IF(S457=\"\",\"\",COUNTIF($S$7:S457,\"該当２\"))","v":""},{"$f":"IF(AND($S$2=H457,E457>0,E457<998),\"該当３\",\"\")","v":""},{"$f":"IF(V457=\"該当３\",I457,\"\")","v":""},{"$f":"IF(V457=\"\",\"\",COUNTIF($V$7:V457,\"該当３\"))","v":""}]
[2213101016,"22",131,{"v":1,"d":"01"},{"v":16,"d":"016"},"静岡県","中区(浜松市)","浜松市４－１","上ノ平",null,{"$f":"IF(AND($C458>0,$H458=\"\"),\"ﾘｽﾄ１\",\"\")","v":""},{"$f":"IF(K458=\"ﾘｽﾄ１\",G458,\"\")","v":""},{"$f":"IF(K458=\"\",\"\",COUNTIF($K$7:K458,\"ﾘｽﾄ１\"))","v":""},{"$f":"IF(AND(D458=0,E458>0),\"同一区\",\"\")","v":""},{"$f":"IF(AND(EXACT($K$2,G458),H458>0),\"該当１\",\"\")","v":""},"","","",{"$f":"IF(AND(Q458=\"ﾘｽﾄ2\",OR(I458=0,AND(N458=\"同一区\",E458=1))),\"該当２\",\"\")","v":""},"",{"$f":"IF(S458=\"\",\"\",COUNTIF($S$7:S458,\"該当２\"))","v":""},"","",{"$f":"IF(V458=\"\",\"\",COUNTIF($V$7:V458,\"該当３\"))","v":""}]
[2213101017,"22",131,{"v":1,"d":"01"},{"v":17,"d":"017"},"静岡県","中区(浜松市)","浜松市４－１","安座上",null,"","",{"$f":"IF(K459=\"\",\"\",COUNTIF($K$7:K459,\"ﾘｽﾄ１\"))","v":""},"","","","","","","",{"$f":"IF(S459=\"\",\"\",COUNTIF($S$7:S459,\"該当２\"))","v":""},"","",{"$f":"IF(V459=\"\",\"\",COUNTIF($V$7:V459,\"該当３\"))","v":""}]
[2213101018,"22",131,{"v":1,"d":"01"},{"v":18,"d":"018"},"静岡県","中区(浜松市)","浜松市４－１","中ノ谷",null,"","",{"$f":"IF(K460=\"\",\"\",COUNTIF($K$7:K460,\"ﾘｽﾄ１\"))","v":""},"","","","","","","",{"$f":"IF(S460=\"\",\"\",COUNTIF($S$7:S460,\"該当２\"))","v":""},"","",{"$f":"IF(V460=\"\",\"\",COUNTIF($V$7:V460,\"該当３\"))","v":""}]
[2213101019,"22",131,{"v":1,"d":"01"},{"v":19,"d":"019"},"静岡県","中区(浜松市)","浜松市４－１","東島上",null,"","",{"$f":"IF(K461=\"\",\"\",COUNTIF($K$7:K461,\"ﾘｽﾄ１\"))","v":""},"","","","","","","",{"$f":"IF(S461=\"\",\"\",COUNTIF($S$7:S461,\"該当２\"))","v":""},"","",{"$f":"IF(V461=\"\",\"\",COUNTIF($V$7:V461,\"該当３\"))","v":""}]
[2213101020,"22",131,{"v":1,"d":"01"},{"v":20,"d":"020"},"静岡県","中区(浜松市)","浜松市４－１","東島下",null,"","",{"$f":"IF(K462=\"\",\"\",COUNTIF($K$7:K462,\"ﾘｽﾄ１\"))","v":""},"","","","","","","",{"$f":"IF(S462=\"\",\"\",COUNTIF($S$7:S462,\"該当２\"))","v":""},"","",{"$f":"IF(V462=\"\",\"\",COUNTIF($V$7:V462,\"該当３\"))","v":""}]
[2213101021,"22",131,{"v":1,"d":"01"},{"v":21,"d":"021"},"静岡県","中区(浜松市)","浜松市４－１","権現谷",null,"","",{"$f":"IF(K463=\"\",\"\",COUNTIF($K$7:K463,\"ﾘｽﾄ１\"))","v":""},"","","","","","","",{"$f":"IF(S463=\"\",\"\",COUNTIF($S$7:S463,\"該当２\"))","v":""},"","",{"$f":"IF(V463=\"\",\"\",COUNTIF($V$7:V463,\"該当３\"))","v":""}]
[2213101022,"22",131,{"v":1,"d":"01"},{"v":22,"d":"022"},"静岡県","中区(浜松市)","浜松市４－１","新屋",null,"","",{"$f":"IF(K464=\"\",\"\",COUNTIF($K$7:K464,\"ﾘｽﾄ１\"))","v":""},"","","","","","","",{"$f":"IF(S464=\"\",\"\",COUNTIF($S$7:S464,\"該当２\"))","v":""},"","",{"$f":"IF(V464=\"\",\"\",COUNTIF($V$7:V464,\"該当３\"))","v":""}]
[2213101023,"22",131,{"v":1,"d":"01"},{"v":23,"d":"023"},"静岡県","中区(浜松市)","浜松市４－１","寸田ケ谷",null,"","",{"$f":"IF(K465=\"\",\"\",COUNTIF($K$7:K465,\"ﾘｽﾄ１\"))","v":""},"","","","","","","",{"$f":"IF(S465=\"\",\"\",COUNTIF($S$7:S465,\"該当２\"))","v":""},"","",{"$f":"IF(V465=\"\",\"\",COUNTIF($V$7:V465,\"該当３\"))","v":""}]
[2213101024,"22",131,{"v":1,"d":"01"},{"v":24,"d":"024"},"静岡県","中区(浜松市)","浜松市４－１","西伊場",null,"","",{"$f":"IF(K466=\"\",\"\",COUNTIF($K$7:K466,\"ﾘｽﾄ１\"))","v":""},"","","","","","","",{"$f":"IF(S466=\"\",\"\",COUNTIF($S$7:S466,\"該当２\"))","v":""},"","",{"$f":"IF(V466=\"\",\"\",COUNTIF($V$7:V466,\"該当３\"))","v":""}]
[2213101025,"22",131,{"v":1,"d":"01"},{"v":25,"d":"025"},"静岡県","中区(浜松市)","浜松市４－１","東伊場",null,"","",{"$f":"IF(K467=\"\",\"\",COUNTIF($K$7:K467,\"ﾘｽﾄ１\"))","v":""},"","","","","","","",{"$f":"IF(S467=\"\",\"\",COUNTIF($S$7:S467,\"該当２\"))","v":""},"","",{"$f":"IF(V467=\"\",\"\",COUNTIF($V$7:V467,\"該当３\"))","v":""}]
[2213101026,"22",131,{"v":1,"d":"01"},{"v":26,"d":"026"},"静岡県","中区(浜松市)","浜松市４－１","森田",null,"","",{"$f":"IF(K468=\"\",\"\",COUNTIF($K$7:K468,\"ﾘｽﾄ１\"))","v":""},"","","","","","","",{"$f":"IF(S468=\"\",\"\",COUNTIF($S$7:S468,\"該当２\"))","v":""},"","",{"$f":"IF(V468=\"\",\"\",COUNTIF($V$7:V468,\"該当３\"))","v":""}]
[2213101027,"22",131,{"v":1,"d":"01"},{"v":27,"d":"027"},"静岡県","中区(浜松市)","浜松市４－１","蜆塚",null,"","",{"$f":"IF(K469=\"\",\"\",COUNTIF($K$7:K469,\"ﾘｽﾄ１\"))","v":""},"","","","","","","",{"$f":"IF(S469=\"\",\"\",COUNTIF($S$7:S469,\"該当２\"))","v":""},"","",{"$f":"IF(V469=\"\",\"\",COUNTIF($V$7:V469,\"該当３\"))","v":""}]
[2213101028,"22",131,{"v":1,"d":"01"},{"v":28,"d":"028"},"静岡県","中区(浜松市)","浜松市４－１","住吉",null,"","",{"$f":"IF(K470=\"\",\"\",COUNTIF($K$7:K470,\"ﾘｽﾄ１\"))","v":""},"","","","","","","",{"$f":"IF(S470=\"\",\"\",COUNTIF($S$7:S470,\"該当２\"))","v":""},"","",{"$f":"IF(V470=\"\",\"\",COUNTIF($V$7:V470,\"該当３\"))","v":""}]
[2213101029,"22",131,{"v":1,"d":"01"},{"v":29,"d":"029"},"静岡県","中区(浜松市)","浜松市４－１","馬舟",null,"","",{"$f":"IF(K471=\"\",\"\",COUNTIF($K$7:K471,\"ﾘｽﾄ１\"))","v":""},"","","","","","","",{"$f":"IF(S471=\"\",\"\",COUNTIF($S$7:S471,\"該当２\"))","v":""},"","",{"$f":"IF(V471=\"\",\"\",COUNTIF($V$7:V471,\"該当３\"))","v":""}]
[2213101030,"22",131,{"v":1,"d":"01"},{"v":30,"d":"030"},"静岡県","中区(浜松市)","浜松市４－１","馬生",null,"","",{"$f":"IF(K472=\"\",\"\",COUNTIF($K$7:K472,\"ﾘｽﾄ１\"))","v":""},"","","","","","","",{"$f":"IF(S472=\"\",\"\",COUNTIF($S$7:S472,\"該当２\"))","v":""},"","",{"$f":"IF(V472=\"\",\"\",COUNTIF($V$7:V472,\"該当３\"))","v":""}]
[2213101031,"22",131,{"v":1,"d":"01"},{"v":31,"d":"031"},"静岡県","中区(浜松市)","浜松市４－１","元城・東県居",null,"","",{"$f":"IF(K473=\"\",\"\",COUNTIF($K$7:K473,\"ﾘｽﾄ１\"))","v":""},"","","","","","","",{"$f":"IF(S473=\"\",\"\",COUNTIF($S$7:S473,\"該当２\"))","v":""},"","",{"$f":"IF(V473=\"\",\"\",COUNTIF($V$7:V473,\"該当３\"))","v":""}]
[2213101032,"22",131,{"v":1,"d":"01"},{"v":32,"d":"032"},"静岡県","中区(浜松市)","浜松市４－１","鴨江",null,"","",{"$f":"IF(K474=\"\",\"\",COUNTIF($K$7:K474,\"ﾘｽﾄ１\"))","v":""},"","","","","","","",{"$f":"IF(S474=\"\",\"\",COUNTIF($S$7:S474,\"該当２\"))","v":""},"","",{"$f":"IF(V474=\"\",\"\",COUNTIF($V$7:V474,\"該当３\"))","v":""}]
[2213101033,"22",131,{"v":1,"d":"01"},{"v":33,"d":"033"},"静岡県","中区(浜松市)","浜松市４－１","名残１",null,"","",{"$f":"IF(K475=\"\",\"\",COUNTIF($K$7:K475,\"ﾘｽﾄ１\"))","v":""},"","","","","","","",{"$f":"IF(S475=\"\",\"\",COUNTIF($S$7:S475,\"該当２\"))","v":""},"","",{"$f":"IF(V475=\"\",\"\",COUNTIF($V$7:V475,\"該当３\"))","v":""}]
[2213101034,"22",131,{"v":1,"d":"01"},{"v":34,"d":"034"},"静岡県","中区(浜松市)","浜松市４－１","名残２",null,"","",{"$f":"IF(K476=\"\",\"\",COUNTIF($K$7:K476,\"ﾘｽﾄ１\"))","v":""},"","","","","","","",{"$f":"IF(S476=\"\",\"\",COUNTIF($S$7:S476,\"該当２\"))","v":""},"","",{"$f":"IF(V476=\"\",\"\",COUNTIF($V$7:V476,\"該当３\"))","v":""}]
[2213101035,"22",131,{"v":1,"d":"01"},{"v":35,"d":"035"},"静岡県","中区(浜松市)","浜松市４－１","上池川",null,"","",{"$f":"IF(K477=\"\",\"\",COUNTIF($K$7:K477,\"ﾘｽﾄ１\"))","v":""},"","","","","","","",{"$f":"IF(S477=\"\",\"\",COUNTIF($S$7:S477,\"該当２\"))","v":""},"","",{"$f":"IF(V477=\"\",\"\",COUNTIF($V$7:V477,\"該当３\"))","v":""}]
[2213101036,"22",131,{"v":1,"d":"01"},{"v":36,"d":"036"},"静岡県","中区(浜松市)","浜松市４－１","追分・和地山",null,"","",{"$f":"IF(K478=\"\",\"\",COUNTIF($K$7:K478,\"ﾘｽﾄ１\"))","v":""},"","","","","","","",{"$f":"IF(S478=\"\",\"\",COUNTIF($S$7:S478,\"該当２\"))","v":""},"","",{"$f":"IF(V478=\"\",\"\",COUNTIF($V$7:V478,\"該当３\"))","v":""}]
[2213101037,"22",131,{"v":1,"d":"01"},{"v":37,"d":"037"},"静岡県","中区(浜松市)","浜松市４－１","瓜内２－１",null,"","",{"$f":"IF(K479=\"\",\"\",COUNTIF($K$7:K479,\"ﾘｽﾄ１\"))","v":""},"","","","","","","",{"$f":"IF(S479=\"\",\"\",COUNTIF($S$7:S479,\"該当２\"))","v":""},"","",{"$f":"IF(V479=\"\",\"\",COUNTIF($V$7:V479,\"該当３\"))","v":""}]
[2213101038,"22",131,{"v":1,"d":"01"},{"v":38,"d":"038"},"静岡県","中区(浜松市)","浜松市４－１","神田",null,"","",{"$f":"IF(K480=\"\",\"\",COUNTIF($K$7:K480,\"ﾘｽﾄ１\"))","v":""},"","","","","","","",{"$f":"IF(S480=\"\",\"\",COUNTIF($S$7:S480,\"該当２\"))","v":""},"","",{"$f":"IF(V480=\"\",\"\",COUNTIF($V$7:V480,\"該当３\"))","v":""}]
[2213101039,"22",131,{"v":1,"d":"01"},{"v":39,"d":"039"},"静岡県","中区(浜松市)","浜松市４－１","春日",null,"","",{"$f":"IF(K481=\"\",\"\",COUNTIF($K$7:K481,\"ﾘｽﾄ１\"))","v":""},"","","","","","","",{"$f":"IF(S481=\"\",\"\",COUNTIF($S$7:S481,\"該当２\"))","v":""},"","",{"$f":"IF(V481=\"\",\"\",COUNTIF($V$7:V481,\"該当３\"))","v":""}]
[2213101040,"22",131,{"v":1,"d":"01"},{"v":40,"d":"040"},"静岡県","中区(浜松市)","浜松市４－１","竜禅寺",null,"","",{"$f":"IF(K482=\"\",\"\",COUNTIF($K$7:K482,\"ﾘｽﾄ１\"))","v":""},"","","","","","","",{"$f":"IF(S482=\"\",\"\",COUNTIF($S$7:S482,\"該当２\"))","v":""},"","",{"$f":"IF(V482=\"\",\"\",COUNTIF($V$7:V482,\"該当３\"))","v":""}]
[2213101041,"22",131,{"v":1,"d":"01"},{"v":41,"d":"041"},"静岡県","中区(浜松市)","浜松市４－１","浅田南",null,"","",{"$f":"IF(K483=\"\",\"\",COUNTIF($K$7:K483,\"ﾘｽﾄ１\"))","v":""},"","","","","","","",{"$f":"IF(S483=\"\",\"\",COUNTIF($S$7:S483,\"該当２\"))","v":""},"","",{"$f":"IF(V483=\"\",\"\",COUNTIF($V$7:V483,\"該当３\"))","v":""}]
[2213101042,"22",131,{"v":1,"d":"01"},{"v":42,"d":"042"},"静岡県","中区(浜松市)","浜松市４－１","浅田北",null,"","",{"$f":"IF(K484=\"\",\"\",COUNTIF($K$7:K484,\"ﾘｽﾄ１\"))","v":""},"","","","","","","",{"$f":"IF(S484=\"\",\"\",COUNTIF($S$7:S484,\"該当２\"))","v":""},"","",{"$f":"IF(V484=\"\",\"\",COUNTIF($V$7:V484,\"該当３\"))","v":""}]
[2213101043,"22",131,{"v":1,"d":"01"},{"v":43,"d":"043"},"静岡県","中区(浜松市)","浜松市４－１","名塚",null,"","",{"$f":"IF(K485=\"\",\"\",COUNTIF($K$7:K485,\"ﾘｽﾄ１\"))","v":""},"","","","","","","",{"$f":"IF(S485=\"\",\"\",COUNTIF($S$7:S485,\"該当２\"))","v":""},"","",{"$f":"IF(V485=\"\",\"\",COUNTIF($V$7:V485,\"該当３\"))","v":""}]
[2213101044,"22",131,{"v":1,"d":"01"},{"v":44,"d":"044"},"静岡県","中区(浜松市)","浜松市４－１","領家",null,"","",{"$f":"IF(K486=\"\",\"\",COUNTIF($K$7:K486,\"ﾘｽﾄ１\"))","v":""},"","","","","","","",{"$f":"IF(S486=\"\",\"\",COUNTIF($S$7:S486,\"該当２\"))","v":""},"","",{"$f":"IF(V486=\"\",\"\",COUNTIF($V$7:V486,\"該当３\"))","v":""}]
[2213101045,"22",131,{"v":1,"d":"01"},{"v":45,"d":"045"},"静岡県","中区(浜松市)","浜松市４－１","向宿",null,"","",{"$f":"IF(K487=\"\",\"\",COUNTIF($K$7:K487,\"ﾘｽﾄ１\"))","v":""},"","","","","","","",{"$f":"IF(S487=\"\",\"\",COUNTIF($S$7:S487,\"該当２\"))","v":""},"","",{"$f":"IF(V487=\"\",\"\",COUNTIF($V$7:V487,\"該当３\"))","v":""}]
[2213101046,"22",131,{"v":1,"d":"01"},{"v":46,"d":"046"},"静岡県","中区(浜松市)","浜松市４－１","佐藤",null,"","",{"$f":"IF(K488=\"\",\"\",COUNTIF($K$7:K488,\"ﾘｽﾄ１\"))","v":""},"","","","","","","",{"$f":"IF(S488=\"\",\"\",COUNTIF($S$7:S488,\"該当２\"))","v":""},"","",{"$f":"IF(V488=\"\",\"\",COUNTIF($V$7:V488,\"該当３\"))","v":""}]
[2213101047,"22",131,{"v":1,"d":"01"},{"v":47,"d":"047"},"静岡県","中区(浜松市)","浜松市４－１","中島",null,"","",{"$f":"IF(K489=\"\",\"\",COUNTIF($K$7:K489,\"ﾘｽﾄ１\"))","v":""},"","","","","","","",{"$f":"IF(S489=\"\",\"\",COUNTIF($S$7:S489,\"該当２\"))","v":""},"","",{"$f":"IF(V489=\"\",\"\",COUNTIF($V$7:V489,\"該当３\"))","v":""}]
[2213101048,"22",131,{"v":1,"d":"01"},{"v":48,"d":"048"},"静岡県","中区(浜松市)","浜松市４－１","船越",null,"","",{"$f":"IF(K490=\"\",\"\",COUNTIF($K$7:K490,\"ﾘｽﾄ１\"))","v":""},"","","","","","","",{"$f":"IF(S490=\"\",\"\",COUNTIF($S$7:S490,\"該当２\"))","v":""},"","",{"$f":"IF(V490=\"\",\"\",COUNTIF($V$7:V490,\"該当３\"))","v":""}]
[2213101049,"22",131,{"v":1,"d":"01"},{"v":49,"d":"049"},"静岡県","中区(浜松市)","浜松市４－１","野口",null,"","",{"$f":"IF(K491=\"\",\"\",COUNTIF($K$7:K491,\"ﾘｽﾄ１\"))","v":""},"","","","","","","",{"$f":"IF(S491=\"\",\"\",COUNTIF($S$7:S491,\"該当２\"))","v":""},"","",{"$f":"IF(V491=\"\",\"\",COUNTIF($V$7:V491,\"該当３\"))","v":""}]
[2213101050,"22",131,{"v":1,"d":"01"},{"v":50,"d":"050"},"静岡県","中区(浜松市)","浜松市４－１","茄子",null,"","",{"$f":"IF(K492=\"\",\"\",COUNTIF($K$7:K492,\"ﾘｽﾄ１\"))","v":""},"","","","","","","",{"$f":"IF(S492=\"\",\"\",COUNTIF($S$7:S492,\"該当２\"))","v":""},"","",{"$f":"IF(V492=\"\",\"\",COUNTIF($V$7:V492,\"該当３\"))","v":""}]
[2213101051,"22",131,{"v":1,"d":"01"},{"v":51,"d":"051"},"静岡県","中区(浜松市)","浜松市４－１","新津",null,"","",{"$f":"IF(K493=\"\",\"\",COUNTIF($K$7:K493,\"ﾘｽﾄ１\"))","v":""},"","","","","","","",{"$f":"IF(S493=\"\",\"\",COUNTIF($S$7:S493,\"該当２\"))","v":""},"","",{"$f":"IF(V493=\"\",\"\",COUNTIF($V$7:V493,\"該当３\"))","v":""}]
[2213101052,"22",131,{"v":1,"d":"01"},{"v":52,"d":"052"},"静岡県","中区(浜松市)","浜松市４－１","高林",null,"","",{"$f":"IF(K494=\"\",\"\",COUNTIF($K$7:K494,\"ﾘｽﾄ１\"))","v":""},"","","","","","","",{"$f":"IF(S494=\"\",\"\",COUNTIF($S$7:S494,\"該当２\"))","v":""},"","",{"$f":"IF(V494=\"\",\"\",COUNTIF($V$7:V494,\"該当３\"))","v":""}]
[2213101053,"22",131,{"v":1,"d":"01"},{"v":53,"d":"053"},"静岡県","中区(浜松市)","浜松市４－１","三浦",null,"","",{"$f":"IF(K495=\"\",\"\",COUNTIF($K$7:K495,\"ﾘｽﾄ１\"))","v":""},"","","","","","","",{"$f":"IF(S495=\"\",\"\",COUNTIF($S$7:S495,\"該当２\"))","v":""},"","",{"$f":"IF(V495=\"\",\"\",COUNTIF($V$7:V495,\"該当３\"))","v":""}]
[2213101054,"22",131,{"v":1,"d":"01"},{"v":54,"d":"054"},"静岡県","中区(浜松市)","浜松市４－１","本郷",null,"","",{"$f":"IF(K496=\"\",\"\",COUNTIF($K$7:K496,\"ﾘｽﾄ１\"))","v":""},"","","","","","","",{"$f":"IF(S496=\"\",\"\",COUNTIF($S$7:S496,\"該当２\"))","v":""},"","",{"$f":"IF(V496=\"\",\"\",COUNTIF($V$7:V496,\"該当３\"))","v":""}]
[2213101055,"22",131,{"v":1,"d":"01"},{"v":55,"d":"055"},"静岡県","中区(浜松市)","浜松市４－１","金屋",null,"","",{"$f":"IF(K497=\"\",\"\",COUNTIF($K$7:K497,\"ﾘｽﾄ１\"))","v":""},"","","","","","","",{"$f":"IF(S497=\"\",\"\",COUNTIF($S$7:S497,\"該当２\"))","v":""},"","",{"$f":"IF(V497=\"\",\"\",COUNTIF($V$7:V497,\"該当３\"))","v":""}]
[2213101056,"22",131,{"v":1,"d":"01"},{"v":56,"d":"056"},"静岡県","中区(浜松市)","浜松市４－１","阿弥陀",null,"","",{"$f":"IF(K498=\"\",\"\",COUNTIF($K$7:K498,\"ﾘｽﾄ１\"))","v":""},"","","","","","","",{"$f":"IF(S498=\"\",\"\",COUNTIF($S$7:S498,\"該当２\"))","v":""},"","",{"$f":"IF(V498=\"\",\"\",COUNTIF($V$7:V498,\"該当３\"))","v":""}]
[2213101057,"22",131,{"v":1,"d":"01"},{"v":57,"d":"057"},"静岡県","中区(浜松市)","浜松市４－１","十軒",null,"","",{"$f":"IF(K499=\"\",\"\",COUNTIF($K$7:K499,\"ﾘｽﾄ１\"))","v":""},"","","","","","","",{"$f":"IF(S499=\"\",\"\",COUNTIF($S$7:S499,\"該当２\"))","v":""},"","",{"$f":"IF(V499=\"\",\"\",COUNTIF($V$7:V499,\"該当３\"))","v":""}]
[2213101058,"22",131,{"v":1,"d":"01"},{"v":58,"d":"058"},"静岡県","中区(浜松市)","浜松市４－１","細島",null,"","",{"$f":"IF(K500=\"\",\"\",COUNTIF($K$7:K500,\"ﾘｽﾄ１\"))","v":""},"","","","","","","",{"$f":"IF(S500=\"\",\"\",COUNTIF($S$7:S500,\"該当２\"))","v":""},"","",{"$f":"IF(V500=\"\",\"\",COUNTIF($V$7:V500,\"該当３\"))","v":""}]
[2213101059,"22",131,{"v":1,"d":"01"},{"v":59,"d":"059"},"静岡県","中区(浜松市)","浜松市４－１","早出南",null,"","",{"$f":"IF(K501=\"\",\"\",COUNTIF($K$7:K501,\"ﾘｽﾄ１\"))","v":""},"","","","","","","",{"$f":"IF(S501=\"\",\"\",COUNTIF($S$7:S501,\"該当２\"))","v":""},"","",{"$f":"IF(V501=\"\",\"\",COUNTIF($V$7:V501,\"該当３\"))","v":""}]
[2213101060,"22",131,{"v":1,"d":"01"},{"v":60,"d":"060"},"静岡県","中区(浜松市)","浜松市４－１","早出北",null,"","",{"$f":"IF(K502=\"\",\"\",COUNTIF($K$7:K502,\"ﾘｽﾄ１\"))","v":""},"","","","","","","",{"$f":"IF(S502=\"\",\"\",COUNTIF($S$7:S502,\"該当２\"))","v":""},"","",{"$f":"IF(V502=\"\",\"\",COUNTIF($V$7:V502,\"該当３\"))","v":""}]
[2213101061,"22",131,{"v":1,"d":"01"},{"v":61,"d":"061"},"静岡県","中区(浜松市)","浜松市４－１","上島東",null,"","",{"$f":"IF(K503=\"\",\"\",COUNTIF($K$7:K503,\"ﾘｽﾄ１\"))","v":""},"","","","","","","",{"$f":"IF(S503=\"\",\"\",COUNTIF($S$7:S503,\"該当２\"))","v":""},"","",{"$f":"IF(V503=\"\",\"\",COUNTIF($V$7:V503,\"該当３\"))","v":""}]
[2213101062,"22",131,{"v":1,"d":"01"},{"v":62,"d":"062"},"静岡県","中区(浜松市)","浜松市４－１","上島南",null,"","",{"$f":"IF(K504=\"\",\"\",COUNTIF($K$7:K504,\"ﾘｽﾄ１\"))","v":""},"","","","","","","",{"$f":"IF(S504=\"\",\"\",COUNTIF($S$7:S504,\"該当２\"))","v":""},"","",{"$f":"IF(V504=\"\",\"\",COUNTIF($V$7:V504,\"該当３\"))","v":""}]
[2213101063,"22",131,{"v":1,"d":"01"},{"v":63,"d":"063"},"静岡県","中区(浜松市)","浜松市４－１","上島北２－１",null,"","",{"$f":"IF(K505=\"\",\"\",COUNTIF($K$7:K505,\"ﾘｽﾄ１\"))","v":""},"","","","","","","",{"$f":"IF(S505=\"\",\"\",COUNTIF($S$7:S505,\"該当２\"))","v":""},"","",{"$f":"IF(V505=\"\",\"\",COUNTIF($V$7:V505,\"該当３\"))","v":""}]
[2213101064,"22",131,{"v":1,"d":"01"},{"v":64,"d":"064"},"静岡県","中区(浜松市)","浜松市４－１","助信",null,"","",{"$f":"IF(K506=\"\",\"\",COUNTIF($K$7:K506,\"ﾘｽﾄ１\"))","v":""},"","","","","","","",{"$f":"IF(S506=\"\",\"\",COUNTIF($S$7:S506,\"該当２\"))","v":""},"","",{"$f":"IF(V506=\"\",\"\",COUNTIF($V$7:V506,\"該当３\"))","v":""}]
[2213102000,"22",131,{"v":2,"d":"02"},{"v":0,"d":"000"},"静岡県","中区(浜松市)","入野村２－１",null,null,"","",{"$f":"IF(K507=\"\",\"\",COUNTIF($K$7:K507,\"ﾘｽﾄ１\"))","v":""},"","","","","","","",{"$f":"IF(S507=\"\",\"\",COUNTIF($S$7:S507,\"該当２\"))","v":""},"","",{"$f":"IF(V507=\"\",\"\",COUNTIF($V$7:V507,\"該当３\"))","v":""}]
[2213102001,"22",131,{"v":2,"d":"02"},{"v":1,"d":"001"},"静岡県","中区(浜松市)","入野村２－１","彦尾２－１",null,"","",{"$f":"IF(K508=\"\",\"\",COUNTIF($K$7:K508,\"ﾘｽﾄ１\"))","v":""},"","","","","","","",{"$f":"IF(S508=\"\",\"\",COUNTIF($S$7:S508,\"該当２\"))","v":""},"","",{"$f":"IF(V508=\"\",\"\",COUNTIF($V$7:V508,\"該当３\"))","v":""}]
[2213102002,"22",131,{"v":2,"d":"02"},{"v":2,"d":"002"},"静岡県","中区(浜松市)","入野村２－１","本所２－１",null,"","",{"$f":"IF(K509=\"\",\"\",COUNTIF($K$7:K509,\"ﾘｽﾄ１\"))","v":""},"","","","","","","",{"$f":"IF(S509=\"\",\"\",COUNTIF($S$7:S509,\"該当２\"))","v":""},"","",{"$f":"IF(V509=\"\",\"\",COUNTIF($V$7:V509,\"該当３\"))","v":""}]
[2213102003,"22",131,{"v":2,"d":"02"},{"v":3,"d":"003"},"静岡県","中区(浜松市)","入野村２－１","臨江山２－１",null,"","",{"$f":"IF(K510=\"\",\"\",COUNTIF($K$7:K510,\"ﾘｽﾄ１\"))","v":""},"","","","","","","",{"$f":"IF(S510=\"\",\"\",COUNTIF($S$7:S510,\"該当２\"))","v":""},"","",{"$f":"IF(V510=\"\",\"\",COUNTIF($V$7:V510,\"該当３\"))","v":""}]
[2213103000,"22",131,{"v":3,"d":"03"},{"v":0,"d":"000"},"静岡県","中区(浜松市)","吉野村２－１",null,null,"","",{"$f":"IF(K511=\"\",\"\",COUNTIF($K$7:K511,\"ﾘｽﾄ１\"))","v":""},"","","","","","","",{"$f":"IF(S511=\"\",\"\",COUNTIF($S$7:S511,\"該当２\"))","v":""},"","",{"$f":"IF(V511=\"\",\"\",COUNTIF($V$7:V511,\"該当３\"))","v":""}]
[2213103001,"22",131,{"v":3,"d":"03"},{"v":1,"d":"001"},"静岡県","中区(浜松市)","吉野村２－１","南区",null,"","",{"$f":"IF(K512=\"\",\"\",COUNTIF($K$7:K512,\"ﾘｽﾄ１\"))","v":""},"","","","","","","",{"$f":"IF(S512=\"\",\"\",COUNTIF($S$7:S512,\"該当２\"))","v":""},"","",{"$f":"IF(V512=\"\",\"\",COUNTIF($V$7:V512,\"該当３\"))","v":""}]
[2213103002,"22",131,{"v":3,"d":"03"},{"v":2,"d":"002"},"静岡県","中区(浜松市)","吉野村２－１","中区",null,"","",{"$f":"IF(K513=\"\",\"\",COUNTIF($K$7:K513,\"ﾘｽﾄ１\"))","v":""},"","","","","","","",{"$f":"IF(S513=\"\",\"\",COUNTIF($S$7:S513,\"該当２\"))","v":""},"","",{"$f":"IF(V513=\"\",\"\",COUNTIF($V$7:V513,\"該当３\"))","v":""}]
[2213103003,"22",131,{"v":3,"d":"03"},{"v":3,"d":"003"},"静岡県","中区(浜松市)","吉野村２－１","北区",null,"","",{"$f":"IF(K514=\"\",\"\",COUNTIF($K$7:K514,\"ﾘｽﾄ１\"))","v":""},"","","","","","","",{"$f":"IF(S514=\"\",\"\",COUNTIF($S$7:S514,\"該当２\"))","v":""},"","",{"$f":"IF(V514=\"\",\"\",COUNTIF($V$7:V514,\"該当３\"))","v":""}]
[2213103004,"22",131,{"v":3,"d":"03"},{"v":4,"d":"004"},"静岡県","中区(浜松市)","吉野村２－１","西区2-1",null,"","",{"$f":"IF(K515=\"\",\"\",COUNTIF($K$7:K515,\"ﾘｽﾄ１\"))","v":""},"","","","","","","",{"$f":"IF(S515=\"\",\"\",COUNTIF($S$7:S515,\"該当２\"))","v":""},"","",{"$f":"IF(V515=\"\",\"\",COUNTIF($V$7:V515,\"該当３\"))","v":""}]
[2213103005,"22",131,{"v":3,"d":"03"},{"v":5,"d":"005"},"静岡県","中区(浜松市)","吉野村２－１","旭西区2-1",null,"","",{"$f":"IF(K516=\"\",\"\",COUNTIF($K$7:K516,\"ﾘｽﾄ１\"))","v":""},"","","","","","","",{"$f":"IF(S516=\"\",\"\",COUNTIF($S$7:S516,\"該当２\"))","v":""},"","",{"$f":"IF(V516=\"\",\"\",COUNTIF($V$7:V516,\"該当３\"))","v":""}]
[2213103006,"22",131,{"v":3,"d":"03"},{"v":6,"d":"006"},"静岡県","中区(浜松市)","吉野村２－１","旭東区",null,"","",{"$f":"IF(K517=\"\",\"\",COUNTIF($K$7:K517,\"ﾘｽﾄ１\"))","v":""},"","","","","","","",{"$f":"IF(S517=\"\",\"\",COUNTIF($S$7:S517,\"該当２\"))","v":""},"","",{"$f":"IF(V517=\"\",\"\",COUNTIF($V$7:V517,\"該当３\"))","v":""}]
[2213103007,"22",131,{"v":3,"d":"03"},{"v":7,"d":"007"},"静岡県","中区(浜松市)","吉野村２－１","東区2-1",null,"","",{"$f":"IF(K518=\"\",\"\",COUNTIF($K$7:K518,\"ﾘｽﾄ１\"))","v":""},"","","","","","","",{"$f":"IF(S518=\"\",\"\",COUNTIF($S$7:S518,\"該当２\"))","v":""},"","",{"$f":"IF(V518=\"\",\"\",COUNTIF($V$7:V518,\"該当３\"))","v":""}]
[2213104000,"22",131,{"v":4,"d":"04"},{"v":0,"d":"000"},"静岡県","中区(浜松市)","新津村２－１",null,null,"","",{"$f":"IF(K519=\"\",\"\",COUNTIF($K$7:K519,\"ﾘｽﾄ１\"))","v":""},"","","","","","","",{"$f":"IF(S519=\"\",\"\",COUNTIF($S$7:S519,\"該当２\"))","v":""},"","",{"$f":"IF(V519=\"\",\"\",COUNTIF($V$7:V519,\"該当３\"))","v":""}]
[2213104001,"22",131,{"v":4,"d":"04"},{"v":1,"d":"001"},"静岡県","中区(浜松市)","新津村２－１","田尻2-1",null,"","",{"$f":"IF(K520=\"\",\"\",COUNTIF($K$7:K520,\"ﾘｽﾄ１\"))","v":""},"","","","","","","",{"$f":"IF(S520=\"\",\"\",COUNTIF($S$7:S520,\"該当２\"))","v":""},"","",{"$f":"IF(V520=\"\",\"\",COUNTIF($V$7:V520,\"該当３\"))","v":""}]
[2213200000,"22",132,{"v":0,"d":"00"},{"v":0,"d":"000"},"静岡県","東区(浜松市)",{"$nulls":3},"ﾘｽﾄ１","東区(浜松市)",{"$f":"IF(K521=\"\",\"\",COUNTIF($K$7:K521,\"ﾘｽﾄ１\"))","v":7},"","",{"$f":"IF(O521=\"該当１\",G521,\"\")","v":""},{"$f":"IF(O521=\"該当１\",\"ﾘｽﾄ2\",\"\")","v":""},{"$f":"IF(Q521=\"ﾘｽﾄ2\",H521,\"\")","v":""},"",{"$f":"IF(S521=\"該当２\",H521,\"\")","v":""},{"$f":"IF(S521=\"\",\"\",COUNTIF($S$7:S521,\"該当２\"))","v":""},{"$f":"IF(AND($S$2=H521,E521>0,E521<998),\"該当３\",\"\")","v":""},{"$f":"IF(V521=\"該当３\",I521,\"\")","v":""},{"$f":"IF(V521=\"\",\"\",COUNTIF($V$7:V521,\"該当３\"))","v":""}]
[2213201000,"22",132,{"v":1,"d":"01"},{"v":0,"d":"000"},"静岡県","東区(浜松市)","浜松市４－３",null,null,{"$f":"IF(AND($C522>0,$H522=\"\"),\"ﾘｽﾄ１\",\"\")","v":""},{"$f":"IF(K522=\"ﾘｽﾄ１\",G522,\"\")","v":""},{"$f":"IF(K522=\"\",\"\",COUNTIF($K$7:K522,\"ﾘｽﾄ１\"))","v":""},{"$f":"IF(AND(D522=0,E522>0),\"同一区\",\"\")","v":""},{"$f":"IF(AND(EXACT($K$2,G522),H522>0),\"該当１\",\"\")","v":""},"","","",{"$f":"IF(AND(Q522=\"ﾘｽﾄ2\",OR(I522=0,AND(N522=\"同一区\",E522=1))),\"該当２\",\"\")","v":""},"",{"$f":"IF(S522=\"\",\"\",COUNTIF($S$7:S522,\"該当２\"))","v":""},"","",{"$f":"IF(V522=\"\",\"\",COUNTIF($V$7:V522,\"該当３\"))","v":""}]
[2213201001,"22",132,{"v":1,"d":"01"},{"v":1,"d":"001"},"静岡県","東区(浜松市)","浜松市４－３","上新屋",null,"","",{"$f":"IF(K523=\"\",\"\",COUNTIF($K$7:K523,\"ﾘｽﾄ１\"))","v":""},"","","","","","","",{"$f":"IF(S523=\"\",\"\",COUNTIF($S$7:S523,\"該当２\"))","v":""},"","",{"$f":"IF(V523=\"\",\"\",COUNTIF($V$7:V523,\"該当３\"))","v":""}]
[2213201002,"22",132,{"v":1,"d":"01"},{"v":2,"d":"002"},"静岡県","東区(浜松市)","浜松市４－３","丸塚",null,"","",{"$f":"IF(K524=\"\",\"\",COUNTIF($K$7:K524,\"ﾘｽﾄ１\"))","v":""},"","","","","","","",{"$f":"IF(S524=\"\",\"\",COUNTIF($S$7:S524,\"該当２\"))","v":""},"","",{"$f":"IF(V524=\"\",\"\",COUNTIF($V$7:V524,\"該当３\"))","v":""}]
[2213201003,"22",132,{"v":1,"d":"01"},{"v":3,"d":"003"},"静岡県","東区(浜松市)","浜松市４－３","上西",null,"","",{"$f":"IF(K525=\"\",\"\",COUNTIF($K$7:K525,\"ﾘｽﾄ１\"))","v":""},"","","","","","","",{"$f":"IF(S525=\"\",\"\",COUNTIF($S$7:S525,\"該当２\"))","v":""},"","",{"$f":"IF(V525=\"\",\"\",COUNTIF($V$7:V525,\"該当３\"))","v":""}]
[2213201004,"22",132,{"v":1,"d":"01"},{"v":4,"d":"004"},"静岡県","東区(浜松市)","浜松市４－３","西塚",null,"","",{"$f":"IF(K526=\"\",\"\",COUNTIF($K$7:K526,\"ﾘｽﾄ１\"))","v":""},"","","","","","","",{"$f":"IF(S526=\"\",\"\",COUNTIF($S$7:S526,\"該当２\"))","v":""},"","",{"$f":"IF(V526=\"\",\"\",COUNTIF($V$7:V526,\"該当３\"))","v":""}]
[2213201005,"22",132,{"v":1,"d":"01"},{"v":5,"d":"005"},"静岡県","東区(浜松市)","浜松市４－３","神立",null,"","",{"$f":"IF(K527=\"\",\"\",COUNTIF($K$7:K527,\"ﾘｽﾄ１\"))","v":""},"","","","","","","",{"$f":"IF(S527=\"\",\"\",COUNTIF($S$7:S527,\"該当２\"))","v":""},"","",{"$f":"IF(V527=\"\",\"\",COUNTIF($V$7:V527,\"該当３\"))","v":""}]
[2213201006,"22",132,{"v":1,"d":"01"},{"v":6,"d":"006"},"静岡県","東区(浜松市)","浜松市４－３","将監",null,"","",{"$f":"IF(K528=\"\",\"\",COUNTIF($K$7:K528,\"ﾘｽﾄ１\"))","v":""},"","","","","","","",{"$f":"IF(S528=\"\",\"\",COUNTIF($S$7:S528,\"該当２\"))","v":""},"","",{"$f":"IF(V528=\"\",\"\",COUNTIF($V$7:V528,\"該当３\"))","v":""}]
[2213201007,"22",132,{"v":1,"d":"01"},{"v":7,"d":"007"},"静岡県","東区(浜松市)","浜松市４－３","植松",null,"","",{"$f":"IF(K529=\"\",\"\",COUNTIF($K$7:K529,\"ﾘｽﾄ１\"))","v":""},"","","","","","","",{"$f":"IF(S529=\"\",\"\",COUNTIF($S$7:S529,\"該当２\"))","v":""},"","",{"$f":"IF(V529=\"\",\"\",COUNTIF($V$7:V529,\"該当３\"))","v":""}]
[2213201008,"22",132,{"v":1,"d":"01"},{"v":8,"d":"008"},"静岡県","東区(浜松市)","浜松市４－３","宮竹",null,"","",{"$f":"IF(K530=\"\",\"\",COUNTIF($K$7:K530,\"ﾘｽﾄ１\"))","v":""},"","","","","","","",{"$f":"IF(S530=\"\",\"\",COUNTIF($S$7:S530,\"該当２\"))","v":""},"","",{"$f":"IF(V530=\"\",\"\",COUNTIF($V$7:V530,\"該当３\"))","v":""}]
[2213201009,"22",132,{"v":1,"d":"01"},{"v":9,"d":"009"},"静岡県","東区(浜松市)","浜松市４－３","子安",null,"","",{"$f":"IF(K531=\"\",\"\",COUNTIF($K$7:K531,\"ﾘｽﾄ１\"))","v":""},"","","","","","","",{"$f":"IF(S531=\"\",\"\",COUNTIF($S$7:S531,\"該当２\"))","v":""},"","",{"$f":"IF(V531=\"\",\"\",COUNTIF($V$7:V531,\"該当３\"))","v":""}]
[2213201010,"22",132,{"v":1,"d":"01"},{"v":10,"d":"010"},"静岡県","東区(浜松市)","浜松市４－３","大蒲",null,"","",{"$f":"IF(K532=\"\",\"\",COUNTIF($K$7:K532,\"ﾘｽﾄ１\"))","v":""},"","","","","","","",{"$f":"IF(S532=\"\",\"\",COUNTIF($S$7:S532,\"該当２\"))","v":""},"","",{"$f":"IF(V532=\"\",\"\",COUNTIF($V$7:V532,\"該当３\"))","v":""}]
[2213201011,"22",132,{"v":1,"d":"01"},{"v":11,"d":"011"},"静岡県","東区(浜松市)","浜松市４－３","上島北2-2",null,"","",{"$f":"IF(K533=\"\",\"\",COUNTIF($K$7:K533,\"ﾘｽﾄ１\"))","v":""},"","","","","","","",{"$f":"IF(S533=\"\",\"\",COUNTIF($S$7:S533,\"該当２\"))","v":""},"","",{"$f":"IF(V533=\"\",\"\",COUNTIF($V$7:V533,\"該当３\"))","v":""}]
[2213202000,"22",132,{"v":2,"d":"02"},{"v":0,"d":"000"},"静岡県","東区(浜松市)","飯田村２－１東区（浜松市）",null,null,"","",{"$f":"IF(K534=\"\",\"\",COUNTIF($K$7:K534,\"ﾘｽﾄ１\"))","v":""},"","","","","","","",{"$f":"IF(S534=\"\",\"\",COUNTIF($S$7:S534,\"該当２\"))","v":""},"","",{"$f":"IF(V534=\"\",\"\",COUNTIF($V$7:V534,\"該当３\"))","v":""}]
[2213202001,"22",132,{"v":2,"d":"02"},{"v":1,"d":"001"},"静岡県","東区(浜松市)","飯田村２－１東区（浜松市）","上組２－１",null,"","",{"$f":"IF(K535=\"\",\"\",COUNTIF($K$7:K535,\"ﾘｽﾄ１\"))","v":""},"","","","","","","",{"$f":"IF(S535=\"\",\"\",COUNTIF($S$7:S535,\"該当２\"))","v":""},"","",{"$f":"IF(V535=\"\",\"\",COUNTIF($V$7:V535,\"該当３\"))","v":""}]
[2213203000,"22",132,{"v":3,"d":"03"},{"v":0,"d":"000"},"静岡県","東区(浜松市)","和田村東区（浜松市）",null,null,"","",{"$f":"IF(K536=\"\",\"\",COUNTIF($K$7:K536,\"ﾘｽﾄ１\"))","v":""},"","","","","","","",{"$f":"IF(S536=\"\",\"\",COUNTIF($S$7:S536,\"該当２\"))","v":""},"","",{"$f":"IF(V536=\"\",\"\",COUNTIF($V$7:V536,\"該当３\"))","v":""}]
[2213203001,"22",132,{"v":3,"d":"03"},{"v":1,"d":"001"},"静岡県","東区(浜松市)","和田村東区（浜松市）","和田",null,"","",{"$f":"IF(K537=\"\",\"\",COUNTIF($K$7:K537,\"ﾘｽﾄ１\"))","v":""},"","","","","","","",{"$f":"IF(S537=\"\",\"\",COUNTIF($S$7:S537,\"該当２\"))","v":""},"","",{"$f":"IF(V537=\"\",\"\",COUNTIF($V$7:V537,\"該当３\"))","v":""}]
[2213203002,"22",132,{"v":3,"d":"03"},{"v":2,"d":"002"},"静岡県","東区(浜松市)","和田村東区（浜松市）","天竜川",null,"","",{"$f":"IF(K538=\"\",\"\",COUNTIF($K$7:K538,\"ﾘｽﾄ１\"))","v":""},"","","","","","","",{"$f":"IF(S538=\"\",\"\",COUNTIF($S$7:S538,\"該当２\"))","v":""},"","",{"$f":"IF(V538=\"\",\"\",COUNTIF($V$7:V538,\"該当３\"))","v":""}]
[2213203003,"22",132,{"v":3,"d":"03"},{"v":3,"d":"003"},"静岡県","東区(浜松市)","和田村東区（浜松市）","篠ケ瀬",null,"","",{"$f":"IF(K539=\"\",\"\",COUNTIF($K$7:K539,\"ﾘｽﾄ１\"))","v":""},"","","","","","","",{"$f":"IF(S539=\"\",\"\",COUNTIF($S$7:S539,\"該当２\"))","v":""},"","",{"$f":"IF(V539=\"\",\"\",COUNTIF($V$7:V539,\"該当３\"))","v":""}]
[2213203004,"22",132,{"v":3,"d":"03"},{"v":4,"d":"004"},"静岡県","東区(浜松市)","和田村東区（浜松市）","北島",null,"","",{"$f":"IF(K540=\"\",\"\",COUNTIF($K$7:K540,\"ﾘｽﾄ１\"))","v":""},"","","","","","","",{"$f":"IF(S540=\"\",\"\",COUNTIF($S$7:S540,\"該当２\"))","v":""},"","",{"$f":"IF(V540=\"\",\"\",COUNTIF($V$7:V540,\"該当３\"))","v":""}]
[2213203005,"22",132,{"v":3,"d":"03"},{"v":5,"d":"005"},"静岡県","東区(浜松市)","和田村東区（浜松市）","薬師",null,"","",{"$f":"IF(K541=\"\",\"\",COUNTIF($K$7:K541,\"ﾘｽﾄ１\"))","v":""},"","","","","","","",{"$f":"IF(S541=\"\",\"\",COUNTIF($S$7:S541,\"該当２\"))","v":""},"","",{"$f":"IF(V541=\"\",\"\",COUNTIF($V$7:V541,\"該当３\"))","v":""}]
[2213203006,"22",132,{"v":3,"d":"03"},{"v":6,"d":"006"},"静岡県","東区(浜松市)","和田村東区（浜松市）","薬新",null,"","",{"$f":"IF(K542=\"\",\"\",COUNTIF($K$7:K542,\"ﾘｽﾄ１\"))","v":""},"","","","","","","",{"$f":"IF(S542=\"\",\"\",COUNTIF($S$7:S542,\"該当２\"))","v":""},"","",{"$f":"IF(V542=\"\",\"\",COUNTIF($V$7:V542,\"該当３\"))","v":""}]
[2213203007,"22",132,{"v":3,"d":"03"},{"v":7,"d":"007"},"静岡県","東区(浜松市)","和田村東区（浜松市）","安新",null,"","",{"$f":"IF(K543=\"\",\"\",COUNTIF($K$7:K543,\"ﾘｽﾄ１\"))","v":""},"","","","","","","",{"$f":"IF(S543=\"\",\"\",COUNTIF($S$7:S543,\"該当２\"))","v":""},"","",{"$f":"IF(V543=\"\",\"\",COUNTIF($V$7:V543,\"該当３\"))","v":""}]
[2213203008,"22",132,{"v":3,"d":"03"},{"v":8,"d":"008"},"静岡県","東区(浜松市)","和田村東区（浜松市）","安間",null,"","",{"$f":"IF(K544=\"\",\"\",COUNTIF($K$7:K544,\"ﾘｽﾄ１\"))","v":""},"","","","","","","",{"$f":"IF(S544=\"\",\"\",COUNTIF($S$7:S544,\"該当２\"))","v":""},"","",{"$f":"IF(V544=\"\",\"\",COUNTIF($V$7:V544,\"該当３\"))","v":""}]
[2213203009,"22",132,{"v":3,"d":"03"},{"v":9,"d":"009"},"静岡県","東区(浜松市)","和田村東区（浜松市）","材木",null,"","",{"$f":"IF(K545=\"\",\"\",COUNTIF($K$7:K545,\"ﾘｽﾄ１\"))","v":""},"","","","","","","",{"$f":"IF(S545=\"\",\"\",COUNTIF($S$7:S545,\"該当２\"))","v":""},"","",{"$f":"IF(V545=\"\",\"\",COUNTIF($V$7:V545,\"該当３\"))","v":""}]
[2213203010,"22",132,{"v":3,"d":"03"},{"v":10,"d":"010"},"静岡県","東区(浜松市)","和田村東区（浜松市）","竜光",null,"","",{"$f":"IF(K546=\"\",\"\",COUNTIF($K$7:K546,\"ﾘｽﾄ１\"))","v":""},"","","","","","","",{"$f":"IF(S546=\"\",\"\",COUNTIF($S$7:S546,\"該当２\"))","v":""},"","",{"$f":"IF(V546=\"\",\"\",COUNTIF($V$7:V546,\"該当３\"))","v":""}]
[2213203011,"22",132,{"v":3,"d":"03"},{"v":11,"d":"011"},"静岡県","東区(浜松市)","和田村東区（浜松市）","長鶴",null,"","",{"$f":"IF(K547=\"\",\"\",COUNTIF($K$7:K547,\"ﾘｽﾄ１\"))","v":""},"","","","","","","",{"$f":"IF(S547=\"\",\"\",COUNTIF($S$7:S547,\"該当２\"))","v":""},"","",{"$f":"IF(V547=\"\",\"\",COUNTIF($V$7:V547,\"該当３\"))","v":""}]
[2213204000,"22",132,{"v":4,"d":"04"},{"v":0,"d":"000"},"静岡県","東区(浜松市)","長上村",null,null,"","",{"$f":"IF(K548=\"\",\"\",COUNTIF($K$7:K548,\"ﾘｽﾄ１\"))","v":""},"","","","","","","",{"$f":"IF(S548=\"\",\"\",COUNTIF($S$7:S548,\"該当２\"))","v":""},"","",{"$f":"IF(V548=\"\",\"\",COUNTIF($V$7:V548,\"該当３\"))","v":""}]
[2213204001,"22",132,{"v":4,"d":"04"},{"v":1,"d":"001"},"静岡県","東区(浜松市)","長上村","上河原",null,"","",{"$f":"IF(K549=\"\",\"\",COUNTIF($K$7:K549,\"ﾘｽﾄ１\"))","v":""},"","","","","","","",{"$f":"IF(S549=\"\",\"\",COUNTIF($S$7:S549,\"該当２\"))","v":""},"","",{"$f":"IF(V549=\"\",\"\",COUNTIF($V$7:V549,\"該当３\"))","v":""}]
[2213204002,"22",132,{"v":4,"d":"04"},{"v":2,"d":"002"},"静岡県","東区(浜松市)","長上村","新田",null,"","",{"$f":"IF(K550=\"\",\"\",COUNTIF($K$7:K550,\"ﾘｽﾄ１\"))","v":""},"","","","","","","",{"$f":"IF(S550=\"\",\"\",COUNTIF($S$7:S550,\"該当２\"))","v":""},"","",{"$f":"IF(V550=\"\",\"\",COUNTIF($V$7:V550,\"該当３\"))","v":""}]
[2213204003,"22",132,{"v":4,"d":"04"},{"v":3,"d":"003"},"静岡県","東区(浜松市)","長上村","北河原",null,"","",{"$f":"IF(K551=\"\",\"\",COUNTIF($K$7:K551,\"ﾘｽﾄ１\"))","v":""},"","","","","","","",{"$f":"IF(S551=\"\",\"\",COUNTIF($S$7:S551,\"該当２\"))","v":""},"","",{"$f":"IF(V551=\"\",\"\",COUNTIF($V$7:V551,\"該当３\"))","v":""}]
[2213204004,"22",132,{"v":4,"d":"04"},{"v":4,"d":"004"},"静岡県","東区(浜松市)","長上村","本田北",null,"","",{"$f":"IF(K552=\"\",\"\",COUNTIF($K$7:K552,\"ﾘｽﾄ１\"))","v":""},"","","","","","","",{"$f":"IF(S552=\"\",\"\",COUNTIF($S$7:S552,\"該当２\"))","v":""},"","",{"$f":"IF(V552=\"\",\"\",COUNTIF($V$7:V552,\"該当３\"))","v":""}]
[2213204005,"22",132,{"v":4,"d":"04"},{"v":5,"d":"005"},"静岡県","東区(浜松市)","長上村","本田南",null,"","",{"$f":"IF(K553=\"\",\"\",COUNTIF($K$7:K553,\"ﾘｽﾄ１\"))","v":""},"","","","","","","",{"$f":"IF(S553=\"\",\"\",COUNTIF($S$7:S553,\"該当２\"))","v":""},"","",{"$f":"IF(V553=\"\",\"\",COUNTIF($V$7:V553,\"該当３\"))","v":""}]
[2213204006,"22",132,{"v":4,"d":"04"},{"v":6,"d":"006"},"静岡県","東区(浜松市)","長上村","下河原",null,"","",{"$f":"IF(K554=\"\",\"\",COUNTIF($K$7:K554,\"ﾘｽﾄ１\"))","v":""},"","","","","","","",{"$f":"IF(S554=\"\",\"\",COUNTIF($S$7:S554,\"該当２\"))","v":""},"","",{"$f":"IF(V554=\"\",\"\",COUNTIF($V$7:V554,\"該当３\"))","v":""}]
[2213204007,"22",132,{"v":4,"d":"04"},{"v":7,"d":"007"},"静岡県","東区(浜松市)","長上村","市野第一",null,"","",{"$f":"IF(K555=\"\",\"\",COUNTIF($K$7:K555,\"ﾘｽﾄ１\"))","v":""},"","","","","","","",{"$f":"IF(S555=\"\",\"\",COUNTIF($S$7:S555,\"該当２\"))","v":""},"","",{"$f":"IF(V555=\"\",\"\",COUNTIF($V$7:V555,\"該当３\"))","v":""}]
[2213204008,"22",132,{"v":4,"d":"04"},{"v":8,"d":"008"},"静岡県","東区(浜松市)","長上村","市野第二",null,"","",{"$f":"IF(K556=\"\",\"\",COUNTIF($K$7:K556,\"ﾘｽﾄ１\"))","v":""},"","","","","","","",{"$f":"IF(S556=\"\",\"\",COUNTIF($S$7:S556,\"該当２\"))","v":""},"","",{"$f":"IF(V556=\"\",\"\",COUNTIF($V$7:V556,\"該当３\"))","v":""}]
[2213204009,"22",132,{"v":4,"d":"04"},{"v":9,"d":"009"},"静岡県","東区(浜松市)","長上村","市野第三",null,"","",{"$f":"IF(K557=\"\",\"\",COUNTIF($K$7:K557,\"ﾘｽﾄ１\"))","v":""},"","","","","","","",{"$f":"IF(S557=\"\",\"\",COUNTIF($S$7:S557,\"該当２\"))","v":""},"","",{"$f":"IF(V557=\"\",\"\",COUNTIF($V$7:V557,\"該当３\"))","v":""}]
[2213204010,"22",132,{"v":4,"d":"04"},{"v":10,"d":"010"},"静岡県","東区(浜松市)","長上村","中宿",null,"","",{"$f":"IF(K558=\"\",\"\",COUNTIF($K$7:K558,\"ﾘｽﾄ１\"))","v":""},"","","","","","","",{"$f":"IF(S558=\"\",\"\",COUNTIF($S$7:S558,\"該当２\"))","v":""},"","",{"$f":"IF(V558=\"\",\"\",COUNTIF($V$7:V558,\"該当３\"))","v":""}]
[2213204011,"22",132,{"v":4,"d":"04"},{"v":11,"d":"011"},"静岡県","東区(浜松市)","長上村","新丁",null,"","",{"$f":"IF(K559=\"\",\"\",COUNTIF($K$7:K559,\"ﾘｽﾄ１\"))","v":""},"","","","","","","",{"$f":"IF(S559=\"\",\"\",COUNTIF($S$7:S559,\"該当２\"))","v":""},"","",{"$f":"IF(V559=\"\",\"\",COUNTIF($V$7:V559,\"該当３\"))","v":""}]
[2213204012,"22",132,{"v":4,"d":"04"},{"v":12,"d":"012"},"静岡県","東区(浜松市)","長上村","別所",null,"","",{"$f":"IF(K560=\"\",\"\",COUNTIF($K$7:K560,\"ﾘｽﾄ１\"))","v":""},"","","","","","","",{"$f":"IF(S560=\"\",\"\",COUNTIF($S$7:S560,\"該当２\"))","v":""},"","",{"$f":"IF(V560=\"\",\"\",COUNTIF($V$7:V560,\"該当３\"))","v":""}]
[2213204013,"22",132,{"v":4,"d":"04"},{"v":13,"d":"013"},"静岡県","東区(浜松市)","長上村","本村",null,"","",{"$f":"IF(K561=\"\",\"\",COUNTIF($K$7:K561,\"ﾘｽﾄ１\"))","v":""},"","","","","","","",{"$f":"IF(S561=\"\",\"\",COUNTIF($S$7:S561,\"該当２\"))","v":""},"","",{"$f":"IF(V561=\"\",\"\",COUNTIF($V$7:V561,\"該当３\"))","v":""}]
[2213204014,"22",132,{"v":4,"d":"04"},{"v":14,"d":"014"},"静岡県","東区(浜松市)","長上村","西脇",null,"","",{"$f":"IF(K562=\"\",\"\",COUNTIF($K$7:K562,\"ﾘｽﾄ１\"))","v":""},"","","","","","","",{"$f":"IF(S562=\"\",\"\",COUNTIF($S$7:S562,\"該当２\"))","v":""},"","",{"$f":"IF(V562=\"\",\"\",COUNTIF($V$7:V562,\"該当３\"))","v":""}]
[2213204015,"22",132,{"v":4,"d":"04"},{"v":15,"d":"015"},"静岡県","東区(浜松市)","長上村","小池東部",null,"","",{"$f":"IF(K563=\"\",\"\",COUNTIF($K$7:K563,\"ﾘｽﾄ１\"))","v":""},"","","","","","","",{"$f":"IF(S563=\"\",\"\",COUNTIF($S$7:S563,\"該当２\"))","v":""},"","",{"$f":"IF(V563=\"\",\"\",COUNTIF($V$7:V563,\"該当３\"))","v":""}]
[2213204016,"22",132,{"v":4,"d":"04"},{"v":16,"d":"016"},"静岡県","東区(浜松市)","長上村","小池西部",null,"","",{"$f":"IF(K564=\"\",\"\",COUNTIF($K$7:K564,\"ﾘｽﾄ１\"))","v":""},"","","","","","","",{"$f":"IF(S564=\"\",\"\",COUNTIF($S$7:S564,\"該当２\"))","v":""},"","",{"$f":"IF(V564=\"\",\"\",COUNTIF($V$7:V564,\"該当３\"))","v":""}]
[2213204017,"22",132,{"v":4,"d":"04"},{"v":17,"d":"017"},"静岡県","東区(浜松市)","長上村","小池中央",null,"","",{"$f":"IF(K565=\"\",\"\",COUNTIF($K$7:K565,\"ﾘｽﾄ１\"))","v":""},"","","","","","","",{"$f":"IF(S565=\"\",\"\",COUNTIF($S$7:S565,\"該当２\"))","v":""},"","",{"$f":"IF(V565=\"\",\"\",COUNTIF($V$7:V565,\"該当３\"))","v":""}]
[2213204018,"22",132,{"v":4,"d":"04"},{"v":18,"d":"018"},"静岡県","東区(浜松市)","長上村","一里山",null,"","",{"$f":"IF(K566=\"\",\"\",COUNTIF($K$7:K566,\"ﾘｽﾄ１\"))","v":""},"","","","","","","",{"$f":"IF(S566=\"\",\"\",COUNTIF($S$7:S566,\"該当２\"))","v":""},"","",{"$f":"IF(V566=\"\",\"\",COUNTIF($V$7:V566,\"該当３\"))","v":""}]
[2213204019,"22",132,{"v":4,"d":"04"},{"v":19,"d":"019"},"静岡県","東区(浜松市)","長上村","大道",null,"","",{"$f":"IF(K567=\"\",\"\",COUNTIF($K$7:K567,\"ﾘｽﾄ１\"))","v":""},"","","","","","","",{"$f":"IF(S567=\"\",\"\",COUNTIF($S$7:S567,\"該当２\"))","v":""},"","",{"$f":"IF(V567=\"\",\"\",COUNTIF($V$7:V567,\"該当３\"))","v":""}]
[2213204020,"22",132,{"v":4,"d":"04"},{"v":20,"d":"020"},"静岡県","東区(浜松市)","長上村","江原",null,"","",{"$f":"IF(K568=\"\",\"\",COUNTIF($K$7:K568,\"ﾘｽﾄ１\"))","v":""},"","","","","","","",{"$f":"IF(S568=\"\",\"\",COUNTIF($S$7:S568,\"該当２\"))","v":""},"","",{"$f":"IF(V568=\"\",\"\",COUNTIF($V$7:V568,\"該当３\"))","v":""}]
[2213204021,"22",132,{"v":4,"d":"04"},{"v":21,"d":"021"},"静岡県","東区(浜松市)","長上村","中田",null,"","",{"$f":"IF(K569=\"\",\"\",COUNTIF($K$7:K569,\"ﾘｽﾄ１\"))","v":""},"","","","","","","",{"$f":"IF(S569=\"\",\"\",COUNTIF($S$7:S569,\"該当２\"))","v":""},"","",{"$f":"IF(V569=\"\",\"\",COUNTIF($V$7:V569,\"該当３\"))","v":""}]
[2213204022,"22",132,{"v":4,"d":"04"},{"v":22,"d":"022"},"静岡県","東区(浜松市)","長上村","原島",null,"","",{"$f":"IF(K570=\"\",\"\",COUNTIF($K$7:K570,\"ﾘｽﾄ１\"))","v":""},"","","","","","","",{"$f":"IF(S570=\"\",\"\",COUNTIF($S$7:S570,\"該当２\"))","v":""},"","",{"$f":"IF(V570=\"\",\"\",COUNTIF($V$7:V570,\"該当３\"))","v":""}]
[2213204023,"22",132,{"v":4,"d":"04"},{"v":23,"d":"023"},"静岡県","東区(浜松市)","長上村","天王",null,"","",{"$f":"IF(K571=\"\",\"\",COUNTIF($K$7:K571,\"ﾘｽﾄ１\"))","v":""},"","","","","","","",{"$f":"IF(S571=\"\",\"\",COUNTIF($S$7:S571,\"該当２\"))","v":""},"","",{"$f":"IF(V571=\"\",\"\",COUNTIF($V$7:V571,\"該当３\"))","v":""}]
[2213204024,"22",132,{"v":4,"d":"04"},{"v":24,"d":"024"},"静岡県","東区(浜松市)","長上村","下堀",null,"","",{"$f":"IF(K572=\"\",\"\",COUNTIF($K$7:K572,\"ﾘｽﾄ１\"))","v":""},"","","","","","","",{"$f":"IF(S572=\"\",\"\",COUNTIF($S$7:S572,\"該当２\"))","v":""},"","",{"$f":"IF(V572=\"\",\"\",COUNTIF($V$7:V572,\"該当３\"))","v":""}]
[2213204025,"22",132,{"v":4,"d":"04"},{"v":25,"d":"025"},"静岡県","東区(浜松市)","長上村","天王新田",null,"","",{"$f":"IF(K573=\"\",\"\",COUNTIF($K$7:K573,\"ﾘｽﾄ１\"))","v":""},"","","","","","","",{"$f":"IF(S573=\"\",\"\",COUNTIF($S$7:S573,\"該当２\"))","v":""},"","",{"$f":"IF(V573=\"\",\"\",COUNTIF($V$7:V573,\"該当３\"))","v":""}]
[2213204026,"22",132,{"v":4,"d":"04"},{"v":26,"d":"026"},"静岡県","東区(浜松市)","長上村","下石田南部",null,"","",{"$f":"IF(K574=\"\",\"\",COUNTIF($K$7:K574,\"ﾘｽﾄ１\"))","v":""},"","","","","","","",{"$f":"IF(S574=\"\",\"\",COUNTIF($S$7:S574,\"該当２\"))","v":""},"","",{"$f":"IF(V574=\"\",\"\",COUNTIF($V$7:V574,\"該当３\"))","v":""}]
[2213204027,"22",132,{"v":4,"d":"04"},{"v":27,"d":"027"},"静岡県","東区(浜松市)","長上村","下石田中央",null,"","",{"$f":"IF(K575=\"\",\"\",COUNTIF($K$7:K575,\"ﾘｽﾄ１\"))","v":""},"","","","","","","",{"$f":"IF(S575=\"\",\"\",COUNTIF($S$7:S575,\"該当２\"))","v":""},"","",{"$f":"IF(V575=\"\",\"\",COUNTIF($V$7:V575,\"該当３\"))","v":""}]
[2213204028,"22",132,{"v":4,"d":"04"},{"v":28,"d":"028"},"静岡県","東区(浜松市)","長上村","下石田東部",null,"","",{"$f":"IF(K576=\"\",\"\",COUNTIF($K$7:K576,\"ﾘｽﾄ１\"))","v":""},"","","","","","","",{"$f":"IF(S576=\"\",\"\",COUNTIF($S$7:S576,\"該当２\"))","v":""},"","",{"$f":"IF(V576=\"\",\"\",COUNTIF($V$7:V576,\"該当３\"))","v":""}]
[2213204029,"22",132,{"v":4,"d":"04"},{"v":29,"d":"029"},"静岡県","東区(浜松市)","長上村","下石田西部",null,"","",{"$f":"IF(K577=\"\",\"\",COUNTIF($K$7:K577,\"ﾘｽﾄ１\"))","v":""},"","","","","","","",{"$f":"IF(S577=\"\",\"\",COUNTIF($S$7:S577,\"該当２\"))","v":""},"","",{"$f":"IF(V577=\"\",\"\",COUNTIF($V$7:V577,\"該当３\"))","v":""}]
[2213205000,"22",132,{"v":5,"d":"05"},{"v":0,"d":"000"},"静岡県","東区(浜松市)","積志村",null,null,"","",{"$f":"IF(K578=\"\",\"\",COUNTIF($K$7:K578,\"ﾘｽﾄ１\"))","v":""},"","","","","","","",{"$f":"IF(S578=\"\",\"\",COUNTIF($S$7:S578,\"該当２\"))","v":""},"","",{"$f":"IF(V578=\"\",\"\",COUNTIF($V$7:V578,\"該当３\"))","v":""}]
[2213205001,"22",132,{"v":5,"d":"05"},{"v":1,"d":"001"},"静岡県","東区(浜松市)","積志村","万斛東",null,"","",{"$f":"IF(K579=\"\",\"\",COUNTIF($K$7:K579,\"ﾘｽﾄ１\"))","v":""},"","","","","","","",{"$f":"IF(S579=\"\",\"\",COUNTIF($S$7:S579,\"該当２\"))","v":""},"","",{"$f":"IF(V579=\"\",\"\",COUNTIF($V$7:V579,\"該当３\"))","v":""}]
[2213205002,"22",132,{"v":5,"d":"05"},{"v":2,"d":"002"},"静岡県","東区(浜松市)","積志村","万斛西",null,"","",{"$f":"IF(K580=\"\",\"\",COUNTIF($K$7:K580,\"ﾘｽﾄ１\"))","v":""},"","","","","","","",{"$f":"IF(S580=\"\",\"\",COUNTIF($S$7:S580,\"該当２\"))","v":""},"","",{"$f":"IF(V580=\"\",\"\",COUNTIF($V$7:V580,\"該当３\"))","v":""}]
[2213205003,"22",132,{"v":5,"d":"05"},{"v":3,"d":"003"},"静岡県","東区(浜松市)","積志村","橋爪東",null,"","",{"$f":"IF(K581=\"\",\"\",COUNTIF($K$7:K581,\"ﾘｽﾄ１\"))","v":""},"","","","","","","",{"$f":"IF(S581=\"\",\"\",COUNTIF($S$7:S581,\"該当２\"))","v":""},"","",{"$f":"IF(V581=\"\",\"\",COUNTIF($V$7:V581,\"該当３\"))","v":""}]
[2213205004,"22",132,{"v":5,"d":"05"},{"v":4,"d":"004"},"静岡県","東区(浜松市)","積志村","橋爪新田",null,"","",{"$f":"IF(K582=\"\",\"\",COUNTIF($K$7:K582,\"ﾘｽﾄ１\"))","v":""},"","","","","","","",{"$f":"IF(S582=\"\",\"\",COUNTIF($S$7:S582,\"該当２\"))","v":""},"","",{"$f":"IF(V582=\"\",\"\",COUNTIF($V$7:V582,\"該当３\"))","v":""}]
[2213205005,"22",132,{"v":5,"d":"05"},{"v":5,"d":"005"},"静岡県","東区(浜松市)","積志村","橋爪中",null,"","",{"$f":"IF(K583=\"\",\"\",COUNTIF($K$7:K583,\"ﾘｽﾄ１\"))","v":""},"","","","","","","",{"$f":"IF(S583=\"\",\"\",COUNTIF($S$7:S583,\"該当２\"))","v":""},"","",{"$f":"IF(V583=\"\",\"\",COUNTIF($V$7:V583,\"該当３\"))","v":""}]
[2213205006,"22",132,{"v":5,"d":"05"},{"v":6,"d":"006"},"静岡県","東区(浜松市)","積志村","橋爪西",null,"","",{"$f":"IF(K584=\"\",\"\",COUNTIF($K$7:K584,\"ﾘｽﾄ１\"))","v":""},"","","","","","","",{"$f":"IF(S584=\"\",\"\",COUNTIF($S$7:S584,\"該当２\"))","v":""},"","",{"$f":"IF(V584=\"\",\"\",COUNTIF($V$7:V584,\"該当３\"))","v":""}]
[2213205007,"22",132,{"v":5,"d":"05"},{"v":7,"d":"007"},"静岡県","東区(浜松市)","積志村","西ケ崎吾妻",null,"","",{"$f":"IF(K585=\"\",\"\",COUNTIF($K$7:K585,\"ﾘｽﾄ１\"))","v":""},"","",{"$f":"IF(O585=\"該当１\",G585,\"\")","v":""},{"$f":"IF(O585=\"該当１\",\"ﾘｽﾄ2\",\"\")","v":""},{"$f":"IF(Q585=\"ﾘｽﾄ2\",H585,\"\")","v":""},"",{"$f":"IF(S585=\"該当２\",H585,\"\")","v":""},{"$f":"IF(S585=\"\",\"\",COUNTIF($S$7:S585,\"該当２\"))","v":""},{"$f":"IF(AND($S$2=H585,E585>0,E585<998),\"該当３\",\"\")","v":""},{"$f":"IF(V585=\"該当３\",I585,\"\")","v":""},{"$f":"IF(V585=\"\",\"\",COUNTIF($V$7:V585,\"該当３\"))","v":""}]
[2213205008,"22",132,{"v":5,"d":"05"},{"v":8,"d":"008"},"静岡県","東区(浜松市)","積志村","漆島",null,{"$f":"IF(AND($C586>0,$H586=\"\"),\"ﾘｽﾄ１\",\"\")","v":""},{"$f":"IF(K586=\"ﾘｽﾄ１\",G586,\"\")","v":""},{"$f":"IF(K586=\"\",\"\",COUNTIF($K$7:K586,\"ﾘｽﾄ１\"))","v":""},{"$f":"IF(AND(D586=0,E586>0),\"同一区\",\"\")","v":""},{"$f":"IF(AND(EXACT($K$2,G586),H586>0),\"該当１\",\"\")","v":""},"","","",{"$f":"IF(AND(Q586=\"ﾘｽﾄ2\",OR(I586=0,AND(N586=\"同一区\",E586=1))),\"該当２\",\"\")","v":""},"",{"$f":"IF(S586=\"\",\"\",COUNTIF($S$7:S586,\"該当２\"))","v":""},"","",{"$f":"IF(V586=\"\",\"\",COUNTIF($V$7:V586,\"該当３\"))","v":""}]
[2213205009,"22",132,{"v":5,"d":"05"},{"v":9,"d":"009"},"静岡県","東区(浜松市)","積志村","松木",null,"","",{"$f":"IF(K587=\"\",\"\",COUNTIF($K$7:K587,\"ﾘｽﾄ１\"))","v":""},"","","","","","","",{"$f":"IF(S587=\"\",\"\",COUNTIF($S$7:S587,\"該当２\"))","v":""},"","",{"$f":"IF(V587=\"\",\"\",COUNTIF($V$7:V587,\"該当３\"))","v":""}]
[2213205010,"22",132,{"v":5,"d":"05"},{"v":10,"d":"010"},"静岡県","東区(浜松市)","積志村","西ケ崎旭",null,"","",{"$f":"IF(K588=\"\",\"\",COUNTIF($K$7:K588,\"ﾘｽﾄ１\"))","v":""},"","","","","","","",{"$f":"IF(S588=\"\",\"\",COUNTIF($S$7:S588,\"該当２\"))","v":""},"","",{"$f":"IF(V588=\"\",\"\",COUNTIF($V$7:V588,\"該当３\"))","v":""}]
[2213205011,"22",132,{"v":5,"d":"05"},{"v":11,"d":"011"},"静岡県","東区(浜松市)","積志村","西ケ崎上",null,"","",{"$f":"IF(K589=\"\",\"\",COUNTIF($K$7:K589,\"ﾘｽﾄ１\"))","v":""},"","","","","","","",{"$f":"IF(S589=\"\",\"\",COUNTIF($S$7:S589,\"該当２\"))","v":""},"","",{"$f":"IF(V589=\"\",\"\",COUNTIF($V$7:V589,\"該当３\"))","v":""}]
[2213205012,"22",132,{"v":5,"d":"05"},{"v":12,"d":"012"},"静岡県","東区(浜松市)","積志村","西ケ崎中",null,"","",{"$f":"IF(K590=\"\",\"\",COUNTIF($K$7:K590,\"ﾘｽﾄ１\"))","v":""},"","","","","","","",{"$f":"IF(S590=\"\",\"\",COUNTIF($S$7:S590,\"該当２\"))","v":""},"","",{"$f":"IF(V590=\"\",\"\",COUNTIF($V$7:V590,\"該当３\"))","v":""}]
[2213205013,"22",132,{"v":5,"d":"05"},{"v":13,"d":"013"},"静岡県","東区(浜松市)","積志村","西ケ崎沖",null,"","",{"$f":"IF(K591=\"\",\"\",COUNTIF($K$7:K591,\"ﾘｽﾄ１\"))","v":""},"","","","","","","",{"$f":"IF(S591=\"\",\"\",COUNTIF($S$7:S591,\"該当２\"))","v":""},"","",{"$f":"IF(V591=\"\",\"\",COUNTIF($V$7:V591,\"該当３\"))","v":""}]
[2213205014,"22",132,{"v":5,"d":"05"},{"v":14,"d":"014"},"静岡県","東区(浜松市)","積志村","栩木",null,"","",{"$f":"IF(K592=\"\",\"\",COUNTIF($K$7:K592,\"ﾘｽﾄ１\"))","v":""},"","","","","","","",{"$f":"IF(S592=\"\",\"\",COUNTIF($S$7:S592,\"該当２\"))","v":""},"","",{"$f":"IF(V592=\"\",\"\",COUNTIF($V$7:V592,\"該当３\"))","v":""}]
[2213205015,"22",132,{"v":5,"d":"05"},{"v":15,"d":"015"},"静岡県","東区(浜松市)","積志村","下大瀬東",null,"","",{"$f":"IF(K593=\"\",\"\",COUNTIF($K$7:K593,\"ﾘｽﾄ１\"))","v":""},"","","","","","","",{"$f":"IF(S593=\"\",\"\",COUNTIF($S$7:S593,\"該当２\"))","v":""},"","",{"$f":"IF(V593=\"\",\"\",COUNTIF($V$7:V593,\"該当３\"))","v":""}]
[2213205016,"22",132,{"v":5,"d":"05"},{"v":16,"d":"016"},"静岡県","東区(浜松市)","積志村","下大瀬中",null,"","",{"$f":"IF(K594=\"\",\"\",COUNTIF($K$7:K594,\"ﾘｽﾄ１\"))","v":""},"","","","","","","",{"$f":"IF(S594=\"\",\"\",COUNTIF($S$7:S594,\"該当２\"))","v":""},"","",{"$f":"IF(V594=\"\",\"\",COUNTIF($V$7:V594,\"該当３\"))","v":""}]
[2213205017,"22",132,{"v":5,"d":"05"},{"v":17,"d":"017"},"静岡県","東区(浜松市)","積志村","下大瀬西",null,"","",{"$f":"IF(K595=\"\",\"\",COUNTIF($K$7:K595,\"ﾘｽﾄ１\"))","v":""},"","","","","","","",{"$f":"IF(S595=\"\",\"\",COUNTIF($S$7:S595,\"該当２\"))","v":""},"","",{"$f":"IF(V595=\"\",\"\",COUNTIF($V$7:V595,\"該当３\"))","v":""}]
[2213205018,"22",132,{"v":5,"d":"05"},{"v":18,"d":"018"},"静岡県","東区(浜松市)","積志村","上大瀬東",null,"","",{"$f":"IF(K596=\"\",\"\",COUNTIF($K$7:K596,\"ﾘｽﾄ１\"))","v":""},"","","","","","","",{"$f":"IF(S596=\"\",\"\",COUNTIF($S$7:S596,\"該当２\"))","v":""},"","",{"$f":"IF(V596=\"\",\"\",COUNTIF($V$7:V596,\"該当３\"))","v":""}]
[2213205019,"22",132,{"v":5,"d":"05"},{"v":19,"d":"019"},"静岡県","東区(浜松市)","積志村","上大瀬西",null,"","",{"$f":"IF(K597=\"\",\"\",COUNTIF($K$7:K597,\"ﾘｽﾄ１\"))","v":""},"","","","","","","",{"$f":"IF(S597=\"\",\"\",COUNTIF($S$7:S597,\"該当２\"))","v":""},"","",{"$f":"IF(V597=\"\",\"\",COUNTIF($V$7:V597,\"該当３\"))","v":""}]
[2213205020,"22",132,{"v":5,"d":"05"},{"v":20,"d":"020"},"静岡県","東区(浜松市)","積志村","上前島",null,"","",{"$f":"IF(K598=\"\",\"\",COUNTIF($K$7:K598,\"ﾘｽﾄ１\"))","v":""},"","","","","","","",{"$f":"IF(S598=\"\",\"\",COUNTIF($S$7:S598,\"該当２\"))","v":""},"","",{"$f":"IF(V598=\"\",\"\",COUNTIF($V$7:V598,\"該当３\"))","v":""}]
[2213205021,"22",132,{"v":5,"d":"05"},{"v":21,"d":"021"},"静岡県","東区(浜松市)","積志村","新村",null,"","",{"$f":"IF(K599=\"\",\"\",COUNTIF($K$7:K599,\"ﾘｽﾄ１\"))","v":""},"","","","","","","",{"$f":"IF(S599=\"\",\"\",COUNTIF($S$7:S599,\"該当２\"))","v":""},"","",{"$f":"IF(V599=\"\",\"\",COUNTIF($V$7:V599,\"該当３\"))","v":""}]
[2213205022,"22",132,{"v":5,"d":"05"},{"v":22,"d":"022"},"静岡県","東区(浜松市)","積志村","町田",null,"","",{"$f":"IF(K600=\"\",\"\",COUNTIF($K$7:K600,\"ﾘｽﾄ１\"))","v":""},"","","","","","","",{"$f":"IF(S600=\"\",\"\",COUNTIF($S$7:S600,\"該当２\"))","v":""},"","",{"$f":"IF(V600=\"\",\"\",COUNTIF($V$7:V600,\"該当３\"))","v":""}]
[2213205023,"22",132,{"v":5,"d":"05"},{"v":23,"d":"023"},"静岡県","東区(浜松市)","積志村","上瀬",null,"","",{"$f":"IF(K601=\"\",\"\",COUNTIF($K$7:K601,\"ﾘｽﾄ１\"))","v":""},"","","","","","","",{"$f":"IF(S601=\"\",\"\",COUNTIF($S$7:S601,\"該当２\"))","v":""},"","",{"$f":"IF(V601=\"\",\"\",COUNTIF($V$7:V601,\"該当３\"))","v":""}]
[2213205024,"22",132,{"v":5,"d":"05"},{"v":24,"d":"024"},"静岡県","東区(浜松市)","積志村","小島",null,"","",{"$f":"IF(K602=\"\",\"\",COUNTIF($K$7:K602,\"ﾘｽﾄ１\"))","v":""},"","","","","","","",{"$f":"IF(S602=\"\",\"\",COUNTIF($S$7:S602,\"該当２\"))","v":""},"","",{"$f":"IF(V602=\"\",\"\",COUNTIF($V$7:V602,\"該当３\"))","v":""}]
[2213205025,"22",132,{"v":5,"d":"05"},{"v":25,"d":"025"},"静岡県","東区(浜松市)","積志村","東畑屋",null,"","",{"$f":"IF(K603=\"\",\"\",COUNTIF($K$7:K603,\"ﾘｽﾄ１\"))","v":""},"","","","","","","",{"$f":"IF(S603=\"\",\"\",COUNTIF($S$7:S603,\"該当２\"))","v":""},"","",{"$f":"IF(V603=\"\",\"\",COUNTIF($V$7:V603,\"該当３\"))","v":""}]
[2213205026,"22",132,{"v":5,"d":"05"},{"v":26,"d":"026"},"静岡県","東区(浜松市)","積志村","西畑屋",null,"","",{"$f":"IF(K604=\"\",\"\",COUNTIF($K$7:K604,\"ﾘｽﾄ１\"))","v":""},"","","","","","","",{"$f":"IF(S604=\"\",\"\",COUNTIF($S$7:S604,\"該当２\"))","v":""},"","",{"$f":"IF(V604=\"\",\"\",COUNTIF($V$7:V604,\"該当３\"))","v":""}]
[2213205027,"22",132,{"v":5,"d":"05"},{"v":27,"d":"027"},"静岡県","東区(浜松市)","積志村","川原本村",null,"","",{"$f":"IF(K605=\"\",\"\",COUNTIF($K$7:K605,\"ﾘｽﾄ１\"))","v":""},"","","","","","","",{"$f":"IF(S605=\"\",\"\",COUNTIF($S$7:S605,\"該当２\"))","v":""},"","",{"$f":"IF(V605=\"\",\"\",COUNTIF($V$7:V605,\"該当３\"))","v":""}]
[2213205028,"22",132,{"v":5,"d":"05"},{"v":28,"d":"028"},"静岡県","東区(浜松市)","積志村","市場",null,"","",{"$f":"IF(K606=\"\",\"\",COUNTIF($K$7:K606,\"ﾘｽﾄ１\"))","v":""},"","","","","","","",{"$f":"IF(S606=\"\",\"\",COUNTIF($S$7:S606,\"該当２\"))","v":""},"","",{"$f":"IF(V606=\"\",\"\",COUNTIF($V$7:V606,\"該当３\"))","v":""}]
[2213205029,"22",132,{"v":5,"d":"05"},{"v":29,"d":"029"},"静岡県","東区(浜松市)","積志村","下村新田",null,"","",{"$f":"IF(K607=\"\",\"\",COUNTIF($K$7:K607,\"ﾘｽﾄ１\"))","v":""},"","","","","","","",{"$f":"IF(S607=\"\",\"\",COUNTIF($S$7:S607,\"該当２\"))","v":""},"","",{"$f":"IF(V607=\"\",\"\",COUNTIF($V$7:V607,\"該当３\"))","v":""}]
[2213205030,"22",132,{"v":5,"d":"05"},{"v":30,"d":"030"},"静岡県","東区(浜松市)","積志村","欠下平",null,"","",{"$f":"IF(K608=\"\",\"\",COUNTIF($K$7:K608,\"ﾘｽﾄ１\"))","v":""},"","","","","","","",{"$f":"IF(S608=\"\",\"\",COUNTIF($S$7:S608,\"該当２\"))","v":""},"","",{"$f":"IF(V608=\"\",\"\",COUNTIF($V$7:V608,\"該当３\"))","v":""}]
[2213205031,"22",132,{"v":5,"d":"05"},{"v":31,"d":"031"},"静岡県","東区(浜松市)","積志村","欠下本村",null,"","",{"$f":"IF(K609=\"\",\"\",COUNTIF($K$7:K609,\"ﾘｽﾄ１\"))","v":""},"","","","","","","",{"$f":"IF(S609=\"\",\"\",COUNTIF($S$7:S609,\"該当２\"))","v":""},"","",{"$f":"IF(V609=\"\",\"\",COUNTIF($V$7:V609,\"該当３\"))","v":""}]
[2213205032,"22",132,{"v":5,"d":"05"},{"v":32,"d":"032"},"静岡県","東区(浜松市)","積志村","半田上",null,"","",{"$f":"IF(K610=\"\",\"\",COUNTIF($K$7:K610,\"ﾘｽﾄ１\"))","v":""},"","","","","","","",{"$f":"IF(S610=\"\",\"\",COUNTIF($S$7:S610,\"該当２\"))","v":""},"","",{"$f":"IF(V610=\"\",\"\",COUNTIF($V$7:V610,\"該当３\"))","v":""}]
[2213205033,"22",132,{"v":5,"d":"05"},{"v":33,"d":"033"},"静岡県","東区(浜松市)","積志村","半田北藪",null,"","",{"$f":"IF(K611=\"\",\"\",COUNTIF($K$7:K611,\"ﾘｽﾄ１\"))","v":""},"","","","","","","",{"$f":"IF(S611=\"\",\"\",COUNTIF($S$7:S611,\"該当２\"))","v":""},"","",{"$f":"IF(V611=\"\",\"\",COUNTIF($V$7:V611,\"該当３\"))","v":""}]
[2213205034,"22",132,{"v":5,"d":"05"},{"v":34,"d":"034"},"静岡県","東区(浜松市)","積志村","半田中",null,"","",{"$f":"IF(K612=\"\",\"\",COUNTIF($K$7:K612,\"ﾘｽﾄ１\"))","v":""},"","","","","","","",{"$f":"IF(S612=\"\",\"\",COUNTIF($S$7:S612,\"該当２\"))","v":""},"","",{"$f":"IF(V612=\"\",\"\",COUNTIF($V$7:V612,\"該当３\"))","v":""}]
[2213205035,"22",132,{"v":5,"d":"05"},{"v":35,"d":"035"},"静岡県","東区(浜松市)","積志村","半田下",null,"","",{"$f":"IF(K613=\"\",\"\",COUNTIF($K$7:K613,\"ﾘｽﾄ１\"))","v":""},"","","","","","","",{"$f":"IF(S613=\"\",\"\",COUNTIF($S$7:S613,\"該当２\"))","v":""},"","",{"$f":"IF(V613=\"\",\"\",COUNTIF($V$7:V613,\"該当３\"))","v":""}]
[2213206000,"22",132,{"v":6,"d":"06"},{"v":0,"d":"000"},"静岡県","東区(浜松市)","笠井町",null,null,"","",{"$f":"IF(K614=\"\",\"\",COUNTIF($K$7:K614,\"ﾘｽﾄ１\"))","v":""},"","","","","","","",{"$f":"IF(S614=\"\",\"\",COUNTIF($S$7:S614,\"該当２\"))","v":""},"","",{"$f":"IF(V614=\"\",\"\",COUNTIF($V$7:V614,\"該当３\"))","v":""}]
[2213206001,"22",132,{"v":6,"d":"06"},{"v":1,"d":"001"},"静岡県","東区(浜松市)","笠井町","笠井第一",null,"","",{"$f":"IF(K615=\"\",\"\",COUNTIF($K$7:K615,\"ﾘｽﾄ１\"))","v":""},"","","","","","","",{"$f":"IF(S615=\"\",\"\",COUNTIF($S$7:S615,\"該当２\"))","v":""},"","",{"$f":"IF(V615=\"\",\"\",COUNTIF($V$7:V615,\"該当３\"))","v":""}]
[2213206002,"22",132,{"v":6,"d":"06"},{"v":2,"d":"002"},"静岡県","東区(浜松市)","笠井町","笠井第二",null,"","",{"$f":"IF(K616=\"\",\"\",COUNTIF($K$7:K616,\"ﾘｽﾄ１\"))","v":""},"","","","","","","",{"$f":"IF(S616=\"\",\"\",COUNTIF($S$7:S616,\"該当２\"))","v":""},"","",{"$f":"IF(V616=\"\",\"\",COUNTIF($V$7:V616,\"該当３\"))","v":""}]
[2213206003,"22",132,{"v":6,"d":"06"},{"v":3,"d":"003"},"静岡県","東区(浜松市)","笠井町","笠井第七",null,"","",{"$f":"IF(K617=\"\",\"\",COUNTIF($K$7:K617,\"ﾘｽﾄ１\"))","v":""},"","","","","","","",{"$f":"IF(S617=\"\",\"\",COUNTIF($S$7:S617,\"該当２\"))","v":""},"","",{"$f":"IF(V617=\"\",\"\",COUNTIF($V$7:V617,\"該当３\"))","v":""}]
[2213206004,"22",132,{"v":6,"d":"06"},{"v":4,"d":"004"},"静岡県","東区(浜松市)","笠井町","笠井第三",null,"","",{"$f":"IF(K618=\"\",\"\",COUNTIF($K$7:K618,\"ﾘｽﾄ１\"))","v":""},"","","","","","","",{"$f":"IF(S618=\"\",\"\",COUNTIF($S$7:S618,\"該当２\"))","v":""},"","",{"$f":"IF(V618=\"\",\"\",COUNTIF($V$7:V618,\"該当３\"))","v":""}]
[2213206005,"22",132,{"v":6,"d":"06"},{"v":5,"d":"005"},"静岡県","東区(浜松市)","笠井町","笠井第四",null,"","",{"$f":"IF(K619=\"\",\"\",COUNTIF($K$7:K619,\"ﾘｽﾄ１\"))","v":""},"","","","","","","",{"$f":"IF(S619=\"\",\"\",COUNTIF($S$7:S619,\"該当２\"))","v":""},"","",{"$f":"IF(V619=\"\",\"\",COUNTIF($V$7:V619,\"該当３\"))","v":""}]
[2213206006,"22",132,{"v":6,"d":"06"},{"v":6,"d":"006"},"静岡県","東区(浜松市)","笠井町","笠井第五",null,"","",{"$f":"IF(K620=\"\",\"\",COUNTIF($K$7:K620,\"ﾘｽﾄ１\"))","v":""},"","","","","","","",{"$f":"IF(S620=\"\",\"\",COUNTIF($S$7:S620,\"該当２\"))","v":""},"","",{"$f":"IF(V620=\"\",\"\",COUNTIF($V$7:V620,\"該当３\"))","v":""}]
[2213206007,"22",132,{"v":6,"d":"06"},{"v":7,"d":"007"},"静岡県","東区(浜松市)","笠井町","笠井第六",null,"","",{"$f":"IF(K621=\"\",\"\",COUNTIF($K$7:K621,\"ﾘｽﾄ１\"))","v":""},"","","","","","","",{"$f":"IF(S621=\"\",\"\",COUNTIF($S$7:S621,\"該当２\"))","v":""},"","",{"$f":"IF(V621=\"\",\"\",COUNTIF($V$7:V621,\"該当３\"))","v":""}]
[2213207000,"22",132,{"v":7,"d":"07"},{"v":0,"d":"000"},"静岡県","東区(浜松市)","豊西村",null,null,"","",{"$f":"IF(K622=\"\",\"\",COUNTIF($K$7:K622,\"ﾘｽﾄ１\"))","v":""},"","","","","","","",{"$f":"IF(S622=\"\",\"\",COUNTIF($S$7:S622,\"該当２\"))","v":""},"","",{"$f":"IF(V622=\"\",\"\",COUNTIF($V$7:V622,\"該当３\"))","v":""}]
[2213207001,"22",132,{"v":7,"d":"07"},{"v":1,"d":"001"},"静岡県","東区(浜松市)","豊西村","中善地",null,"","",{"$f":"IF(K623=\"\",\"\",COUNTIF($K$7:K623,\"ﾘｽﾄ１\"))","v":""},"","","","","","","",{"$f":"IF(S623=\"\",\"\",COUNTIF($S$7:S623,\"該当２\"))","v":""},"","",{"$f":"IF(V623=\"\",\"\",COUNTIF($V$7:V623,\"該当３\"))","v":""}]
[2213207002,"22",132,{"v":7,"d":"07"},{"v":2,"d":"002"},"静岡県","東区(浜松市)","豊西村","末島",null,"","",{"$f":"IF(K624=\"\",\"\",COUNTIF($K$7:K624,\"ﾘｽﾄ１\"))","v":""},"","","","","","","",{"$f":"IF(S624=\"\",\"\",COUNTIF($S$7:S624,\"該当２\"))","v":""},"","",{"$f":"IF(V624=\"\",\"\",COUNTIF($V$7:V624,\"該当３\"))","v":""}]
[2213207003,"22",132,{"v":7,"d":"07"},{"v":3,"d":"003"},"静岡県","東区(浜松市)","豊西村","常光",null,"","",{"$f":"IF(K625=\"\",\"\",COUNTIF($K$7:K625,\"ﾘｽﾄ１\"))","v":""},"","","","","","","",{"$f":"IF(S625=\"\",\"\",COUNTIF($S$7:S625,\"該当２\"))","v":""},"","",{"$f":"IF(V625=\"\",\"\",COUNTIF($V$7:V625,\"該当３\"))","v":""}]
[2213207004,"22",132,{"v":7,"d":"07"},{"v":4,"d":"004"},"静岡県","東区(浜松市)","豊西村","貴平上",null,"","",{"$f":"IF(K626=\"\",\"\",COUNTIF($K$7:K626,\"ﾘｽﾄ１\"))","v":""},"","","","","","","",{"$f":"IF(S626=\"\",\"\",COUNTIF($S$7:S626,\"該当２\"))","v":""},"","",{"$f":"IF(V626=\"\",\"\",COUNTIF($V$7:V626,\"該当３\"))","v":""}]
[2213207005,"22",132,{"v":7,"d":"07"},{"v":5,"d":"005"},"静岡県","東区(浜松市)","豊西村","貴平下",null,"","",{"$f":"IF(K627=\"\",\"\",COUNTIF($K$7:K627,\"ﾘｽﾄ１\"))","v":""},"","","","","","","",{"$f":"IF(S627=\"\",\"\",COUNTIF($S$7:S627,\"該当２\"))","v":""},"","",{"$f":"IF(V627=\"\",\"\",COUNTIF($V$7:V627,\"該当３\"))","v":""}]
[2213207006,"22",132,{"v":7,"d":"07"},{"v":6,"d":"006"},"静岡県","東区(浜松市)","豊西村","恒武上",null,"","",{"$f":"IF(K628=\"\",\"\",COUNTIF($K$7:K628,\"ﾘｽﾄ１\"))","v":""},"","","","","","","",{"$f":"IF(S628=\"\",\"\",COUNTIF($S$7:S628,\"該当２\"))","v":""},"","",{"$f":"IF(V628=\"\",\"\",COUNTIF($V$7:V628,\"該当３\"))","v":""}]
[2213207007,"22",132,{"v":7,"d":"07"},{"v":7,"d":"007"},"静岡県","東区(浜松市)","豊西村","恒武下",null,"","",{"$f":"IF(K629=\"\",\"\",COUNTIF($K$7:K629,\"ﾘｽﾄ１\"))","v":""},"","","","","","","",{"$f":"IF(S629=\"\",\"\",COUNTIF($S$7:S629,\"該当２\"))","v":""},"","",{"$f":"IF(V629=\"\",\"\",COUNTIF($V$7:V629,\"該当３\"))","v":""}]
[2213207008,"22",132,{"v":7,"d":"07"},{"v":8,"d":"008"},"静岡県","東区(浜松市)","豊西村","下石原",null,"","",{"$f":"IF(K630=\"\",\"\",COUNTIF($K$7:K630,\"ﾘｽﾄ１\"))","v":""},"","","","","","","",{"$f":"IF(S630=\"\",\"\",COUNTIF($S$7:S630,\"該当２\"))","v":""},"","",{"$f":"IF(V630=\"\",\"\",COUNTIF($V$7:V630,\"該当３\"))","v":""}]
[2213207009,"22",132,{"v":7,"d":"07"},{"v":9,"d":"009"},"静岡県","東区(浜松市)","豊西村","倉中瀬上",null,"","",{"$f":"IF(K631=\"\",\"\",COUNTIF($K$7:K631,\"ﾘｽﾄ１\"))","v":""},"","","","","","","",{"$f":"IF(S631=\"\",\"\",COUNTIF($S$7:S631,\"該当２\"))","v":""},"","",{"$f":"IF(V631=\"\",\"\",COUNTIF($V$7:V631,\"該当３\"))","v":""}]
[2213207010,"22",132,{"v":7,"d":"07"},{"v":10,"d":"010"},"静岡県","東区(浜松市)","豊西村","倉中瀬下",null,"","",{"$f":"IF(K632=\"\",\"\",COUNTIF($K$7:K632,\"ﾘｽﾄ１\"))","v":""},"","","","","","","",{"$f":"IF(S632=\"\",\"\",COUNTIF($S$7:S632,\"該当２\"))","v":""},"","",{"$f":"IF(V632=\"\",\"\",COUNTIF($V$7:V632,\"該当３\"))","v":""}]
[2213207011,"22",132,{"v":7,"d":"07"},{"v":11,"d":"011"},"静岡県","東区(浜松市)","豊西村","羽鳥下",null,"","",{"$f":"IF(K633=\"\",\"\",COUNTIF($K$7:K633,\"ﾘｽﾄ１\"))","v":""},"","","","","","","",{"$f":"IF(S633=\"\",\"\",COUNTIF($S$7:S633,\"該当２\"))","v":""},"","",{"$f":"IF(V633=\"\",\"\",COUNTIF($V$7:V633,\"該当３\"))","v":""}]
[2213207012,"22",132,{"v":7,"d":"07"},{"v":12,"d":"012"},"静岡県","東区(浜松市)","豊西村","羽鳥隨国",null,"","",{"$f":"IF(K634=\"\",\"\",COUNTIF($K$7:K634,\"ﾘｽﾄ１\"))","v":""},"","","","","","","",{"$f":"IF(S634=\"\",\"\",COUNTIF($S$7:S634,\"該当２\"))","v":""},"","",{"$f":"IF(V634=\"\",\"\",COUNTIF($V$7:V634,\"該当３\"))","v":""}]
[2213207013,"22",132,{"v":7,"d":"07"},{"v":13,"d":"013"},"静岡県","東区(浜松市)","豊西村","羽鳥上",null,"","",{"$f":"IF(K635=\"\",\"\",COUNTIF($K$7:K635,\"ﾘｽﾄ１\"))","v":""},"","","","","","","",{"$f":"IF(S635=\"\",\"\",COUNTIF($S$7:S635,\"該当２\"))","v":""},"","",{"$f":"IF(V635=\"\",\"\",COUNTIF($V$7:V635,\"該当３\"))","v":""}]
[2213207014,"22",132,{"v":7,"d":"07"},{"v":14,"d":"014"},"静岡県","東区(浜松市)","豊西村","上石原",null,"","",{"$f":"IF(K636=\"\",\"\",COUNTIF($K$7:K636,\"ﾘｽﾄ１\"))","v":""},"","","","","","","",{"$f":"IF(S636=\"\",\"\",COUNTIF($S$7:S636,\"該当２\"))","v":""},"","",{"$f":"IF(V636=\"\",\"\",COUNTIF($V$7:V636,\"該当３\"))","v":""}]
[2213208000,"22",132,{"v":8,"d":"08"},{"v":0,"d":"000"},"静岡県","東区(浜松市)","中ノ町村",null,null,"","",{"$f":"IF(K637=\"\",\"\",COUNTIF($K$7:K637,\"ﾘｽﾄ１\"))","v":""},"","","","","","","",{"$f":"IF(S637=\"\",\"\",COUNTIF($S$7:S637,\"該当２\"))","v":""},"","",{"$f":"IF(V637=\"\",\"\",COUNTIF($V$7:V637,\"該当３\"))","v":""}]
[2213208001,"22",132,{"v":8,"d":"08"},{"v":1,"d":"001"},"静岡県","東区(浜松市)","中ノ町村","中里上",null,"","",{"$f":"IF(K638=\"\",\"\",COUNTIF($K$7:K638,\"ﾘｽﾄ１\"))","v":""},"","","","","","","",{"$f":"IF(S638=\"\",\"\",COUNTIF($S$7:S638,\"該当２\"))","v":""},"","",{"$f":"IF(V638=\"\",\"\",COUNTIF($V$7:V638,\"該当３\"))","v":""}]
[2213208002,"22",132,{"v":8,"d":"08"},{"v":2,"d":"002"},"静岡県","東区(浜松市)","中ノ町村","中里下",null,"","",{"$f":"IF(K639=\"\",\"\",COUNTIF($K$7:K639,\"ﾘｽﾄ１\"))","v":""},"","","","","","","",{"$f":"IF(S639=\"\",\"\",COUNTIF($S$7:S639,\"該当２\"))","v":""},"","",{"$f":"IF(V639=\"\",\"\",COUNTIF($V$7:V639,\"該当３\"))","v":""}]
[2213208003,"22",132,{"v":8,"d":"08"},{"v":3,"d":"003"},"静岡県","東区(浜松市)","中ノ町村","松小池上",null,"","",{"$f":"IF(K640=\"\",\"\",COUNTIF($K$7:K640,\"ﾘｽﾄ１\"))","v":""},"","","","","","","",{"$f":"IF(S640=\"\",\"\",COUNTIF($S$7:S640,\"該当２\"))","v":""},"","",{"$f":"IF(V640=\"\",\"\",COUNTIF($V$7:V640,\"該当３\"))","v":""}]
[2213208004,"22",132,{"v":8,"d":"08"},{"v":4,"d":"004"},"静岡県","東区(浜松市)","中ノ町村","松小池下",null,"","",{"$f":"IF(K641=\"\",\"\",COUNTIF($K$7:K641,\"ﾘｽﾄ１\"))","v":""},"","","","","","","",{"$f":"IF(S641=\"\",\"\",COUNTIF($S$7:S641,\"該当２\"))","v":""},"","",{"$f":"IF(V641=\"\",\"\",COUNTIF($V$7:V641,\"該当３\"))","v":""}]
[2213208005,"22",132,{"v":8,"d":"08"},{"v":5,"d":"005"},"静岡県","東区(浜松市)","中ノ町村","大明神",null,"","",{"$f":"IF(K642=\"\",\"\",COUNTIF($K$7:K642,\"ﾘｽﾄ１\"))","v":""},"","","","","","","",{"$f":"IF(S642=\"\",\"\",COUNTIF($S$7:S642,\"該当２\"))","v":""},"","",{"$f":"IF(V642=\"\",\"\",COUNTIF($V$7:V642,\"該当３\"))","v":""}]
[2213208006,"22",132,{"v":8,"d":"08"},{"v":6,"d":"006"},"静岡県","東区(浜松市)","中ノ町村","萱場",null,"","",{"$f":"IF(K643=\"\",\"\",COUNTIF($K$7:K643,\"ﾘｽﾄ１\"))","v":""},"","","","","","","",{"$f":"IF(S643=\"\",\"\",COUNTIF($S$7:S643,\"該当２\"))","v":""},"","",{"$f":"IF(V643=\"\",\"\",COUNTIF($V$7:V643,\"該当３\"))","v":""}]
[2213208007,"22",132,{"v":8,"d":"08"},{"v":7,"d":"007"},"静岡県","東区(浜松市)","中ノ町村","中野町東",null,"","",{"$f":"IF(K644=\"\",\"\",COUNTIF($K$7:K644,\"ﾘｽﾄ１\"))","v":""},"","","","","","","",{"$f":"IF(S644=\"\",\"\",COUNTIF($S$7:S644,\"該当２\"))","v":""},"","",{"$f":"IF(V644=\"\",\"\",COUNTIF($V$7:V644,\"該当３\"))","v":""}]
[2213208008,"22",132,{"v":8,"d":"08"},{"v":8,"d":"008"},"静岡県","東区(浜松市)","中ノ町村","中野町西",null,"","",{"$f":"IF(K645=\"\",\"\",COUNTIF($K$7:K645,\"ﾘｽﾄ１\"))","v":""},"","","","","","","",{"$f":"IF(S645=\"\",\"\",COUNTIF($S$7:S645,\"該当２\"))","v":""},"","",{"$f":"IF(V645=\"\",\"\",COUNTIF($V$7:V645,\"該当３\"))","v":""}]
[2213208009,"22",132,{"v":8,"d":"08"},{"v":9,"d":"009"},"静岡県","東区(浜松市)","中ノ町村","一色",null,"","",{"$f":"IF(K646=\"\",\"\",COUNTIF($K$7:K646,\"ﾘｽﾄ１\"))","v":""},"","","","","","","",{"$f":"IF(S646=\"\",\"\",COUNTIF($S$7:S646,\"該当２\"))","v":""},"","",{"$f":"IF(V646=\"\",\"\",COUNTIF($V$7:V646,\"該当３\"))","v":""}]
[2213208010,"22",132,{"v":8,"d":"08"},{"v":10,"d":"010"},"静岡県","東区(浜松市)","中ノ町村","国吉",null,"","",{"$f":"IF(K647=\"\",\"\",COUNTIF($K$7:K647,\"ﾘｽﾄ１\"))","v":""},"","","","","","","",{"$f":"IF(S647=\"\",\"\",COUNTIF($S$7:S647,\"該当２\"))","v":""},"","",{"$f":"IF(V647=\"\",\"\",COUNTIF($V$7:V647,\"該当３\"))","v":""}]
[2213208011,"22",132,{"v":8,"d":"08"},{"v":11,"d":"011"},"静岡県","東区(浜松市)","中ノ町村","富田",null,"","",{"$f":"IF(K648=\"\",\"\",COUNTIF($K$7:K648,\"ﾘｽﾄ１\"))","v":""},"","","","","","","",{"$f":"IF(S648=\"\",\"\",COUNTIF($S$7:S648,\"該当２\"))","v":""},"","",{"$f":"IF(V648=\"\",\"\",COUNTIF($V$7:V648,\"該当３\"))","v":""}]
[2213208012,"22",132,{"v":8,"d":"08"},{"v":12,"d":"012"},"静岡県","東区(浜松市)","中ノ町村","東島",null,"","",{"$f":"IF(K649=\"\",\"\",COUNTIF($K$7:K649,\"ﾘｽﾄ１\"))","v":""},"","","","","","","",{"$f":"IF(S649=\"\",\"\",COUNTIF($S$7:S649,\"該当２\"))","v":""},"","",{"$f":"IF(V649=\"\",\"\",COUNTIF($V$7:V649,\"該当３\"))","v":""}]
[2213208013,"22",132,{"v":8,"d":"08"},{"v":13,"d":"013"},"静岡県","東区(浜松市)","中ノ町村","中島",null,"","",{"$f":"IF(K650=\"\",\"\",COUNTIF($K$7:K650,\"ﾘｽﾄ１\"))","v":""},"","",{"$f":"IF(O650=\"該当１\",G650,\"\")","v":""},{"$f":"IF(O650=\"該当１\",\"ﾘｽﾄ2\",\"\")","v":""},{"$f":"IF(Q650=\"ﾘｽﾄ2\",H650,\"\")","v":""},"",{"$f":"IF(S650=\"該当２\",H650,\"\")","v":""},{"$f":"IF(S650=\"\",\"\",COUNTIF($S$7:S650,\"該当２\"))","v":""},{"$f":"IF(AND($S$2=H650,E650>0,E650<998),\"該当３\",\"\")","v":""},{"$f":"IF(V650=\"該当３\",I650,\"\")","v":""},{"$f":"IF(V650=\"\",\"\",COUNTIF($V$7:V650,\"該当３\"))","v":""}]
[2213208014,"22",132,{"v":8,"d":"08"},{"v":14,"d":"014"},"静岡県","東区(浜松市)","中ノ町村","西島",null,{"$f":"IF(AND($C651>0,$H651=\"\"),\"ﾘｽﾄ１\",\"\")","v":""},{"$f":"IF(K651=\"ﾘｽﾄ１\",G651,\"\")","v":""},{"$f":"IF(K651=\"\",\"\",COUNTIF($K$7:K651,\"ﾘｽﾄ１\"))","v":""},{"$f":"IF(AND(D651=0,E651>0),\"同一区\",\"\")","v":""},{"$f":"IF(AND(EXACT($K$2,G651),H651>0),\"該当１\",\"\")","v":""},"","","",{"$f":"IF(AND(Q651=\"ﾘｽﾄ2\",OR(I651=0,AND(N651=\"同一区\",E651=1))),\"該当２\",\"\")","v":""},"",{"$f":"IF(S651=\"\",\"\",COUNTIF($S$7:S651,\"該当２\"))","v":""},"","",{"$f":"IF(V651=\"\",\"\",COUNTIF($V$7:V651,\"該当３\"))","v":""}]
[2213208015,"22",132,{"v":8,"d":"08"},{"v":15,"d":"015"},"静岡県","東区(浜松市)","中ノ町村","境",null,"","",{"$f":"IF(K652=\"\",\"\",COUNTIF($K$7:K652,\"ﾘｽﾄ１\"))","v":""},"","","","","","","",{"$f":"IF(S652=\"\",\"\",COUNTIF($S$7:S652,\"該当２\"))","v":""},"","",{"$f":"IF(V652=\"\",\"\",COUNTIF($V$7:V652,\"該当３\"))","v":""}]
[2213209000,"22",132,{"v":9,"d":"09"},{"v":0,"d":"000"},"静岡県","東区(浜松市)","三方原村２－１",null,null,"","",{"$f":"IF(K653=\"\",\"\",COUNTIF($K$7:K653,\"ﾘｽﾄ１\"))","v":""},"","","","","","","",{"$f":"IF(S653=\"\",\"\",COUNTIF($S$7:S653,\"該当２\"))","v":""},"","",{"$f":"IF(V653=\"\",\"\",COUNTIF($V$7:V653,\"該当３\"))","v":""}]
[2213209001,"22",132,{"v":9,"d":"09"},{"v":1,"d":"001"},"静岡県","東区(浜松市)","三方原村２－１","一区北２－１",null,"","",{"$f":"IF(K654=\"\",\"\",COUNTIF($K$7:K654,\"ﾘｽﾄ１\"))","v":""},"","","","","","","",{"$f":"IF(S654=\"\",\"\",COUNTIF($S$7:S654,\"該当２\"))","v":""},"","",{"$f":"IF(V654=\"\",\"\",COUNTIF($V$7:V654,\"該当３\"))","v":""}]
[2213209002,"22",132,{"v":9,"d":"09"},{"v":2,"d":"002"},"静岡県","東区(浜松市)","三方原村２－１","東曳馬野２－１",null,"","",{"$f":"IF(K655=\"\",\"\",COUNTIF($K$7:K655,\"ﾘｽﾄ１\"))","v":""},"","","","","","","",{"$f":"IF(S655=\"\",\"\",COUNTIF($S$7:S655,\"該当２\"))","v":""},"","",{"$f":"IF(V655=\"\",\"\",COUNTIF($V$7:V655,\"該当３\"))","v":""}]
[2213300000,"22",133,{"v":0,"d":"00"},{"v":0,"d":"000"},"静岡県","西区(浜松市)",{"$nulls":3},"ﾘｽﾄ１","西区(浜松市)",{"$f":"IF(K656=\"\",\"\",COUNTIF($K$7:K656,\"ﾘｽﾄ１\"))","v":8},"","","","","","","",{"$f":"IF(S656=\"\",\"\",COUNTIF($S$7:S656,\"該当２\"))","v":""},"","",{"$f":"IF(V656=\"\",\"\",COUNTIF($V$7:V656,\"該当３\"))","v":""}]
[2213301000,"22",133,{"v":1,"d":"01"},{"v":0,"d":"000"},"静岡県","西区(浜松市)","神久呂村",null,null,"","",{"$f":"IF(K657=\"\",\"\",COUNTIF($K$7:K657,\"ﾘｽﾄ１\"))","v":""},"","","","","","","",{"$f":"IF(S657=\"\",\"\",COUNTIF($S$7:S657,\"該当２\"))","v":""},"","",{"$f":"IF(V657=\"\",\"\",COUNTIF($V$7:V657,\"該当３\"))","v":""}]
[2213301001,"22",133,{"v":1,"d":"01"},{"v":1,"d":"001"},"静岡県","西区(浜松市)","神久呂村","神田原",null,"","",{"$f":"IF(K658=\"\",\"\",COUNTIF($K$7:K658,\"ﾘｽﾄ１\"))","v":""},"","","","","","","",{"$f":"IF(S658=\"\",\"\",COUNTIF($S$7:S658,\"該当２\"))","v":""},"","",{"$f":"IF(V658=\"\",\"\",COUNTIF($V$7:V658,\"該当３\"))","v":""}]
[2213301002,"22",133,{"v":1,"d":"01"},{"v":2,"d":"002"},"静岡県","西区(浜松市)","神久呂村","神田",null,"","",{"$f":"IF(K659=\"\",\"\",COUNTIF($K$7:K659,\"ﾘｽﾄ１\"))","v":""},"","","","","","","",{"$f":"IF(S659=\"\",\"\",COUNTIF($S$7:S659,\"該当２\"))","v":""},"","",{"$f":"IF(V659=\"\",\"\",COUNTIF($V$7:V659,\"該当３\"))","v":""}]
[2213301003,"22",133,{"v":1,"d":"01"},{"v":3,"d":"003"},"静岡県","西区(浜松市)","神久呂村","山ノ神",null,"","",{"$f":"IF(K660=\"\",\"\",COUNTIF($K$7:K660,\"ﾘｽﾄ１\"))","v":""},"","","","","","","",{"$f":"IF(S660=\"\",\"\",COUNTIF($S$7:S660,\"該当２\"))","v":""},"","",{"$f":"IF(V660=\"\",\"\",COUNTIF($V$7:V660,\"該当３\"))","v":""}]
[2213301004,"22",133,{"v":1,"d":"01"},{"v":4,"d":"004"},"静岡県","西区(浜松市)","神久呂村","神東",null,"","",{"$f":"IF(K661=\"\",\"\",COUNTIF($K$7:K661,\"ﾘｽﾄ１\"))","v":""},"","","","","","","",{"$f":"IF(S661=\"\",\"\",COUNTIF($S$7:S661,\"該当２\"))","v":""},"","",{"$f":"IF(V661=\"\",\"\",COUNTIF($V$7:V661,\"該当３\"))","v":""}]
[2213301005,"22",133,{"v":1,"d":"01"},{"v":5,"d":"005"},"静岡県","西区(浜松市)","神久呂村","神中",null,"","",{"$f":"IF(K662=\"\",\"\",COUNTIF($K$7:K662,\"ﾘｽﾄ１\"))","v":""},"","","","","","","",{"$f":"IF(S662=\"\",\"\",COUNTIF($S$7:S662,\"該当２\"))","v":""},"","",{"$f":"IF(V662=\"\",\"\",COUNTIF($V$7:V662,\"該当３\"))","v":""}]
[2213301006,"22",133,{"v":1,"d":"01"},{"v":6,"d":"006"},"静岡県","西区(浜松市)","神久呂村","神西",null,"","",{"$f":"IF(K663=\"\",\"\",COUNTIF($K$7:K663,\"ﾘｽﾄ１\"))","v":""},"","","","","","","",{"$f":"IF(S663=\"\",\"\",COUNTIF($S$7:S663,\"該当２\"))","v":""},"","",{"$f":"IF(V663=\"\",\"\",COUNTIF($V$7:V663,\"該当３\"))","v":""}]
[2213301007,"22",133,{"v":1,"d":"01"},{"v":7,"d":"007"},"静岡県","西区(浜松市)","神久呂村","神原",null,"","",{"$f":"IF(K664=\"\",\"\",COUNTIF($K$7:K664,\"ﾘｽﾄ１\"))","v":""},"","","","","","","",{"$f":"IF(S664=\"\",\"\",COUNTIF($S$7:S664,\"該当２\"))","v":""},"","",{"$f":"IF(V664=\"\",\"\",COUNTIF($V$7:V664,\"該当３\"))","v":""}]
[2213301008,"22",133,{"v":1,"d":"01"},{"v":8,"d":"008"},"静岡県","西区(浜松市)","神久呂村","大東",null,"","",{"$f":"IF(K665=\"\",\"\",COUNTIF($K$7:K665,\"ﾘｽﾄ１\"))","v":""},"","","","","","","",{"$f":"IF(S665=\"\",\"\",COUNTIF($S$7:S665,\"該当２\"))","v":""},"","",{"$f":"IF(V665=\"\",\"\",COUNTIF($V$7:V665,\"該当３\"))","v":""}]
[2213301009,"22",133,{"v":1,"d":"01"},{"v":9,"d":"009"},"静岡県","西区(浜松市)","神久呂村","国方",null,"","",{"$f":"IF(K666=\"\",\"\",COUNTIF($K$7:K666,\"ﾘｽﾄ１\"))","v":""},"","","","","","","",{"$f":"IF(S666=\"\",\"\",COUNTIF($S$7:S666,\"該当２\"))","v":""},"","",{"$f":"IF(V666=\"\",\"\",COUNTIF($V$7:V666,\"該当３\"))","v":""}]
[2213301010,"22",133,{"v":1,"d":"01"},{"v":10,"d":"010"},"静岡県","西区(浜松市)","神久呂村","大中",null,"","",{"$f":"IF(K667=\"\",\"\",COUNTIF($K$7:K667,\"ﾘｽﾄ１\"))","v":""},"","","","","","","",{"$f":"IF(S667=\"\",\"\",COUNTIF($S$7:S667,\"該当２\"))","v":""},"","",{"$f":"IF(V667=\"\",\"\",COUNTIF($V$7:V667,\"該当３\"))","v":""}]
[2213301011,"22",133,{"v":1,"d":"01"},{"v":11,"d":"011"},"静岡県","西区(浜松市)","神久呂村","大西",null,"","",{"$f":"IF(K668=\"\",\"\",COUNTIF($K$7:K668,\"ﾘｽﾄ１\"))","v":""},"","","","","","","",{"$f":"IF(S668=\"\",\"\",COUNTIF($S$7:S668,\"該当２\"))","v":""},"","",{"$f":"IF(V668=\"\",\"\",COUNTIF($V$7:V668,\"該当３\"))","v":""}]
[2213302000,"22",133,{"v":2,"d":"02"},{"v":0,"d":"000"},"静岡県","西区(浜松市)","入野村２－２",null,null,"","",{"$f":"IF(K669=\"\",\"\",COUNTIF($K$7:K669,\"ﾘｽﾄ１\"))","v":""},"","","","","","","",{"$f":"IF(S669=\"\",\"\",COUNTIF($S$7:S669,\"該当２\"))","v":""},"","",{"$f":"IF(V669=\"\",\"\",COUNTIF($V$7:V669,\"該当３\"))","v":""}]
[2213302001,"22",133,{"v":2,"d":"02"},{"v":1,"d":"001"},"静岡県","西区(浜松市)","入野村２－２","彦尾2-2",null,"","",{"$f":"IF(K670=\"\",\"\",COUNTIF($K$7:K670,\"ﾘｽﾄ１\"))","v":""},"","","","","","","",{"$f":"IF(S670=\"\",\"\",COUNTIF($S$7:S670,\"該当２\"))","v":""},"","",{"$f":"IF(V670=\"\",\"\",COUNTIF($V$7:V670,\"該当３\"))","v":""}]
[2213302002,"22",133,{"v":2,"d":"02"},{"v":2,"d":"002"},"静岡県","西区(浜松市)","入野村２－２","本所2-2",null,"","",{"$f":"IF(K671=\"\",\"\",COUNTIF($K$7:K671,\"ﾘｽﾄ１\"))","v":""},"","","","","","","",{"$f":"IF(S671=\"\",\"\",COUNTIF($S$7:S671,\"該当２\"))","v":""},"","",{"$f":"IF(V671=\"\",\"\",COUNTIF($V$7:V671,\"該当３\"))","v":""}]
[2213302003,"22",133,{"v":2,"d":"02"},{"v":3,"d":"003"},"静岡県","西区(浜松市)","入野村２－２","道陸地",null,"","",{"$f":"IF(K672=\"\",\"\",COUNTIF($K$7:K672,\"ﾘｽﾄ１\"))","v":""},"","","","","","","",{"$f":"IF(S672=\"\",\"\",COUNTIF($S$7:S672,\"該当２\"))","v":""},"","",{"$f":"IF(V672=\"\",\"\",COUNTIF($V$7:V672,\"該当３\"))","v":""}]
[2213302004,"22",133,{"v":2,"d":"02"},{"v":4,"d":"004"},"静岡県","西区(浜松市)","入野村２－２","北脇",null,"","",{"$f":"IF(K673=\"\",\"\",COUNTIF($K$7:K673,\"ﾘｽﾄ１\"))","v":""},"","","","","","","",{"$f":"IF(S673=\"\",\"\",COUNTIF($S$7:S673,\"該当２\"))","v":""},"","",{"$f":"IF(V673=\"\",\"\",COUNTIF($V$7:V673,\"該当３\"))","v":""}]
[2213302005,"22",133,{"v":2,"d":"02"},{"v":5,"d":"005"},"静岡県","西区(浜松市)","入野村２－２","田端東",null,"","",{"$f":"IF(K674=\"\",\"\",COUNTIF($K$7:K674,\"ﾘｽﾄ１\"))","v":""},"","","","","","","",{"$f":"IF(S674=\"\",\"\",COUNTIF($S$7:S674,\"該当２\"))","v":""},"","",{"$f":"IF(V674=\"\",\"\",COUNTIF($V$7:V674,\"該当３\"))","v":""}]
[2213302006,"22",133,{"v":2,"d":"02"},{"v":6,"d":"006"},"静岡県","西区(浜松市)","入野村２－２","田端西",null,"","",{"$f":"IF(K675=\"\",\"\",COUNTIF($K$7:K675,\"ﾘｽﾄ１\"))","v":""},"","","","","","","",{"$f":"IF(S675=\"\",\"\",COUNTIF($S$7:S675,\"該当２\"))","v":""},"","",{"$f":"IF(V675=\"\",\"\",COUNTIF($V$7:V675,\"該当３\"))","v":""}]
[2213302007,"22",133,{"v":2,"d":"02"},{"v":7,"d":"007"},"静岡県","西区(浜松市)","入野村２－２","臨江山2-2",null,"","",{"$f":"IF(K676=\"\",\"\",COUNTIF($K$7:K676,\"ﾘｽﾄ１\"))","v":""},"","","","","","","",{"$f":"IF(S676=\"\",\"\",COUNTIF($S$7:S676,\"該当２\"))","v":""},"","",{"$f":"IF(V676=\"\",\"\",COUNTIF($V$7:V676,\"該当３\"))","v":""}]
[2213302008,"22",133,{"v":2,"d":"02"},{"v":8,"d":"008"},"静岡県","西区(浜松市)","入野村２－２","南平",null,"","",{"$f":"IF(K677=\"\",\"\",COUNTIF($K$7:K677,\"ﾘｽﾄ１\"))","v":""},"","","","","","","",{"$f":"IF(S677=\"\",\"\",COUNTIF($S$7:S677,\"該当２\"))","v":""},"","",{"$f":"IF(V677=\"\",\"\",COUNTIF($V$7:V677,\"該当３\"))","v":""}]
[2213302009,"22",133,{"v":2,"d":"02"},{"v":9,"d":"009"},"静岡県","西区(浜松市)","入野村２－２","西鴨江",null,"","",{"$f":"IF(K678=\"\",\"\",COUNTIF($K$7:K678,\"ﾘｽﾄ１\"))","v":""},"","","","","","","",{"$f":"IF(S678=\"\",\"\",COUNTIF($S$7:S678,\"該当２\"))","v":""},"","",{"$f":"IF(V678=\"\",\"\",COUNTIF($V$7:V678,\"該当３\"))","v":""}]
[2213302010,"22",133,{"v":2,"d":"02"},{"v":10,"d":"010"},"静岡県","西区(浜松市)","入野村２－２","志東",null,"","",{"$f":"IF(K679=\"\",\"\",COUNTIF($K$7:K679,\"ﾘｽﾄ１\"))","v":""},"","","","","","","",{"$f":"IF(S679=\"\",\"\",COUNTIF($S$7:S679,\"該当２\"))","v":""},"","",{"$f":"IF(V679=\"\",\"\",COUNTIF($V$7:V679,\"該当３\"))","v":""}]
[2213302011,"22",133,{"v":2,"d":"02"},{"v":11,"d":"011"},"静岡県","西区(浜松市)","入野村２－２","志中",null,"","",{"$f":"IF(K680=\"\",\"\",COUNTIF($K$7:K680,\"ﾘｽﾄ１\"))","v":""},"","","","","","","",{"$f":"IF(S680=\"\",\"\",COUNTIF($S$7:S680,\"該当２\"))","v":""},"","",{"$f":"IF(V680=\"\",\"\",COUNTIF($V$7:V680,\"該当３\"))","v":""}]
[2213302012,"22",133,{"v":2,"d":"02"},{"v":12,"d":"012"},"静岡県","西区(浜松市)","入野村２－２","志西",null,"","",{"$f":"IF(K681=\"\",\"\",COUNTIF($K$7:K681,\"ﾘｽﾄ１\"))","v":""},"","","","","","","",{"$f":"IF(S681=\"\",\"\",COUNTIF($S$7:S681,\"該当２\"))","v":""},"","",{"$f":"IF(V681=\"\",\"\",COUNTIF($V$7:V681,\"該当３\"))","v":""}]
[2213303000,"22",133,{"v":3,"d":"03"},{"v":0,"d":"000"},"静岡県","西区(浜松市)","吉野村２－２",null,null,"","",{"$f":"IF(K682=\"\",\"\",COUNTIF($K$7:K682,\"ﾘｽﾄ１\"))","v":""},"","","","","","","",{"$f":"IF(S682=\"\",\"\",COUNTIF($S$7:S682,\"該当２\"))","v":""},"","",{"$f":"IF(V682=\"\",\"\",COUNTIF($V$7:V682,\"該当３\"))","v":""}]
[2213303001,"22",133,{"v":3,"d":"03"},{"v":1,"d":"001"},"静岡県","西区(浜松市)","吉野村２－２","西区２－２",null,"","",{"$f":"IF(K683=\"\",\"\",COUNTIF($K$7:K683,\"ﾘｽﾄ１\"))","v":""},"","","","","","","",{"$f":"IF(S683=\"\",\"\",COUNTIF($S$7:S683,\"該当２\"))","v":""},"","",{"$f":"IF(V683=\"\",\"\",COUNTIF($V$7:V683,\"該当３\"))","v":""}]
[2213303002,"22",133,{"v":3,"d":"03"},{"v":2,"d":"002"},"静岡県","西区(浜松市)","吉野村２－２","旭西区２－２",null,"","",{"$f":"IF(K684=\"\",\"\",COUNTIF($K$7:K684,\"ﾘｽﾄ１\"))","v":""},"","","","","","","",{"$f":"IF(S684=\"\",\"\",COUNTIF($S$7:S684,\"該当２\"))","v":""},"","",{"$f":"IF(V684=\"\",\"\",COUNTIF($V$7:V684,\"該当３\"))","v":""}]
[2213303003,"22",133,{"v":3,"d":"03"},{"v":3,"d":"003"},"静岡県","西区(浜松市)","吉野村２－２","東区２－２",null,"","",{"$f":"IF(K685=\"\",\"\",COUNTIF($K$7:K685,\"ﾘｽﾄ１\"))","v":""},"","","","","","","",{"$f":"IF(S685=\"\",\"\",COUNTIF($S$7:S685,\"該当２\"))","v":""},"","",{"$f":"IF(V685=\"\",\"\",COUNTIF($V$7:V685,\"該当３\"))","v":""}]
[2213304000,"22",133,{"v":4,"d":"04"},{"v":0,"d":"000"},"静岡県","西区(浜松市)","和地村",null,null,"","",{"$f":"IF(K686=\"\",\"\",COUNTIF($K$7:K686,\"ﾘｽﾄ１\"))","v":""},"","","","","","","",{"$f":"IF(S686=\"\",\"\",COUNTIF($S$7:S686,\"該当２\"))","v":""},"","",{"$f":"IF(V686=\"\",\"\",COUNTIF($V$7:V686,\"該当３\"))","v":""}]
[2213304001,"22",133,{"v":4,"d":"04"},{"v":1,"d":"001"},"静岡県","西区(浜松市)","和地村","中渡谷",null,"","",{"$f":"IF(K687=\"\",\"\",COUNTIF($K$7:K687,\"ﾘｽﾄ１\"))","v":""},"","","","","","","",{"$f":"IF(S687=\"\",\"\",COUNTIF($S$7:S687,\"該当２\"))","v":""},"","",{"$f":"IF(V687=\"\",\"\",COUNTIF($V$7:V687,\"該当３\"))","v":""}]
[2213304002,"22",133,{"v":4,"d":"04"},{"v":2,"d":"002"},"静岡県","西区(浜松市)","和地村","下之谷",null,"","",{"$f":"IF(K688=\"\",\"\",COUNTIF($K$7:K688,\"ﾘｽﾄ１\"))","v":""},"","","","","","","",{"$f":"IF(S688=\"\",\"\",COUNTIF($S$7:S688,\"該当２\"))","v":""},"","",{"$f":"IF(V688=\"\",\"\",COUNTIF($V$7:V688,\"該当３\"))","v":""}]
[2213304003,"22",133,{"v":4,"d":"04"},{"v":3,"d":"003"},"静岡県","西区(浜松市)","和地村","中久保",null,"","",{"$f":"IF(K689=\"\",\"\",COUNTIF($K$7:K689,\"ﾘｽﾄ１\"))","v":""},"","","","","","","",{"$f":"IF(S689=\"\",\"\",COUNTIF($S$7:S689,\"該当２\"))","v":""},"","",{"$f":"IF(V689=\"\",\"\",COUNTIF($V$7:V689,\"該当３\"))","v":""}]
[2213304004,"22",133,{"v":4,"d":"04"},{"v":4,"d":"004"},"静岡県","西区(浜松市)","和地村","上久保",null,"","",{"$f":"IF(K690=\"\",\"\",COUNTIF($K$7:K690,\"ﾘｽﾄ１\"))","v":""},"","","","","","","",{"$f":"IF(S690=\"\",\"\",COUNTIF($S$7:S690,\"該当２\"))","v":""},"","",{"$f":"IF(V690=\"\",\"\",COUNTIF($V$7:V690,\"該当３\"))","v":""}]
[2213304005,"22",133,{"v":4,"d":"04"},{"v":5,"d":"005"},"静岡県","西区(浜松市)","和地村","向平",null,"","",{"$f":"IF(K691=\"\",\"\",COUNTIF($K$7:K691,\"ﾘｽﾄ１\"))","v":""},"","","","","","","",{"$f":"IF(S691=\"\",\"\",COUNTIF($S$7:S691,\"該当２\"))","v":""},"","",{"$f":"IF(V691=\"\",\"\",COUNTIF($V$7:V691,\"該当３\"))","v":""}]
[2213304006,"22",133,{"v":4,"d":"04"},{"v":6,"d":"006"},"静岡県","西区(浜松市)","和地村","西大山",null,"","",{"$f":"IF(K692=\"\",\"\",COUNTIF($K$7:K692,\"ﾘｽﾄ１\"))","v":""},"","","","","","","",{"$f":"IF(S692=\"\",\"\",COUNTIF($S$7:S692,\"該当２\"))","v":""},"","",{"$f":"IF(V692=\"\",\"\",COUNTIF($V$7:V692,\"該当３\"))","v":""}]
[2213304007,"22",133,{"v":4,"d":"04"},{"v":7,"d":"007"},"静岡県","西区(浜松市)","和地村","裏山",null,"","",{"$f":"IF(K693=\"\",\"\",COUNTIF($K$7:K693,\"ﾘｽﾄ１\"))","v":""},"","","","","","","",{"$f":"IF(S693=\"\",\"\",COUNTIF($S$7:S693,\"該当２\"))","v":""},"","",{"$f":"IF(V693=\"\",\"\",COUNTIF($V$7:V693,\"該当３\"))","v":""}]
[2213304008,"22",133,{"v":4,"d":"04"},{"v":8,"d":"008"},"静岡県","西区(浜松市)","和地村","東大山",null,"","",{"$f":"IF(K694=\"\",\"\",COUNTIF($K$7:K694,\"ﾘｽﾄ１\"))","v":""},"","","","","","","",{"$f":"IF(S694=\"\",\"\",COUNTIF($S$7:S694,\"該当２\"))","v":""},"","",{"$f":"IF(V694=\"\",\"\",COUNTIF($V$7:V694,\"該当３\"))","v":""}]
[2213304009,"22",133,{"v":4,"d":"04"},{"v":9,"d":"009"},"静岡県","西区(浜松市)","和地村","大平山",null,"","",{"$f":"IF(K695=\"\",\"\",COUNTIF($K$7:K695,\"ﾘｽﾄ１\"))","v":""},"","","","","","","",{"$f":"IF(S695=\"\",\"\",COUNTIF($S$7:S695,\"該当２\"))","v":""},"","",{"$f":"IF(V695=\"\",\"\",COUNTIF($V$7:V695,\"該当３\"))","v":""}]
[2213305000,"22",133,{"v":5,"d":"05"},{"v":0,"d":"000"},"静岡県","西区(浜松市)","伊佐見村",null,null,"","",{"$f":"IF(K696=\"\",\"\",COUNTIF($K$7:K696,\"ﾘｽﾄ１\"))","v":""},"","","","","","","",{"$f":"IF(S696=\"\",\"\",COUNTIF($S$7:S696,\"該当２\"))","v":""},"","",{"$f":"IF(V696=\"\",\"\",COUNTIF($V$7:V696,\"該当３\"))","v":""}]
[2213305001,"22",133,{"v":5,"d":"05"},{"v":1,"d":"001"},"静岡県","西区(浜松市)","伊佐見村","佐浜",null,"","",{"$f":"IF(K697=\"\",\"\",COUNTIF($K$7:K697,\"ﾘｽﾄ１\"))","v":""},"","","","","","","",{"$f":"IF(S697=\"\",\"\",COUNTIF($S$7:S697,\"該当２\"))","v":""},"","",{"$f":"IF(V697=\"\",\"\",COUNTIF($V$7:V697,\"該当３\"))","v":""}]
[2213305002,"22",133,{"v":5,"d":"05"},{"v":2,"d":"002"},"静岡県","西区(浜松市)","伊佐見村","新田",null,"","",{"$f":"IF(K698=\"\",\"\",COUNTIF($K$7:K698,\"ﾘｽﾄ１\"))","v":""},"","","","","","","",{"$f":"IF(S698=\"\",\"\",COUNTIF($S$7:S698,\"該当２\"))","v":""},"","",{"$f":"IF(V698=\"\",\"\",COUNTIF($V$7:V698,\"該当３\"))","v":""}]
[2213305003,"22",133,{"v":5,"d":"05"},{"v":3,"d":"003"},"静岡県","西区(浜松市)","伊佐見村","谷上",null,"","",{"$f":"IF(K699=\"\",\"\",COUNTIF($K$7:K699,\"ﾘｽﾄ１\"))","v":""},"","","","","","","",{"$f":"IF(S699=\"\",\"\",COUNTIF($S$7:S699,\"該当２\"))","v":""},"","",{"$f":"IF(V699=\"\",\"\",COUNTIF($V$7:V699,\"該当３\"))","v":""}]
[2213305004,"22",133,{"v":5,"d":"05"},{"v":4,"d":"004"},"静岡県","西区(浜松市)","伊佐見村","伊左地",null,"","",{"$f":"IF(K700=\"\",\"\",COUNTIF($K$7:K700,\"ﾘｽﾄ１\"))","v":""},"","","","","","","",{"$f":"IF(S700=\"\",\"\",COUNTIF($S$7:S700,\"該当２\"))","v":""},"","",{"$f":"IF(V700=\"\",\"\",COUNTIF($V$7:V700,\"該当３\"))","v":""}]
[2213305005,"22",133,{"v":5,"d":"05"},{"v":5,"d":"005"},"静岡県","西区(浜松市)","伊佐見村","大人見",null,"","",{"$f":"IF(K701=\"\",\"\",COUNTIF($K$7:K701,\"ﾘｽﾄ１\"))","v":""},"","","","","","","",{"$f":"IF(S701=\"\",\"\",COUNTIF($S$7:S701,\"該当２\"))","v":""},"","",{"$f":"IF(V701=\"\",\"\",COUNTIF($V$7:V701,\"該当３\"))","v":""}]
[2213305006,"22",133,{"v":5,"d":"05"},{"v":6,"d":"006"},"静岡県","西区(浜松市)","伊佐見村","古人見",null,"","",{"$f":"IF(K702=\"\",\"\",COUNTIF($K$7:K702,\"ﾘｽﾄ１\"))","v":""},"","","","","","","",{"$f":"IF(S702=\"\",\"\",COUNTIF($S$7:S702,\"該当２\"))","v":""},"","",{"$f":"IF(V702=\"\",\"\",COUNTIF($V$7:V702,\"該当３\"))","v":""}]
[2213306000,"22",133,{"v":6,"d":"06"},{"v":0,"d":"000"},"静岡県","西区(浜松市)","篠原村",null,null,"","",{"$f":"IF(K703=\"\",\"\",COUNTIF($K$7:K703,\"ﾘｽﾄ１\"))","v":""},"","","","","","","",{"$f":"IF(S703=\"\",\"\",COUNTIF($S$7:S703,\"該当２\"))","v":""},"","",{"$f":"IF(V703=\"\",\"\",COUNTIF($V$7:V703,\"該当３\"))","v":""}]
[2213306001,"22",133,{"v":6,"d":"06"},{"v":1,"d":"001"},"静岡県","西区(浜松市)","篠原村","柏原",null,"","",{"$f":"IF(K704=\"\",\"\",COUNTIF($K$7:K704,\"ﾘｽﾄ１\"))","v":""},"","","","","","","",{"$f":"IF(S704=\"\",\"\",COUNTIF($S$7:S704,\"該当２\"))","v":""},"","",{"$f":"IF(V704=\"\",\"\",COUNTIF($V$7:V704,\"該当３\"))","v":""}]
[2213306002,"22",133,{"v":6,"d":"06"},{"v":2,"d":"002"},"静岡県","西区(浜松市)","篠原村","東山立場",null,"","",{"$f":"IF(K705=\"\",\"\",COUNTIF($K$7:K705,\"ﾘｽﾄ１\"))","v":""},"","","","","","","",{"$f":"IF(S705=\"\",\"\",COUNTIF($S$7:S705,\"該当２\"))","v":""},"","",{"$f":"IF(V705=\"\",\"\",COUNTIF($V$7:V705,\"該当３\"))","v":""}]
[2213306003,"22",133,{"v":6,"d":"06"},{"v":3,"d":"003"},"静岡県","西区(浜松市)","篠原村","東本村",null,"","",{"$f":"IF(K706=\"\",\"\",COUNTIF($K$7:K706,\"ﾘｽﾄ１\"))","v":""},"","","","","","","",{"$f":"IF(S706=\"\",\"\",COUNTIF($S$7:S706,\"該当２\"))","v":""},"","",{"$f":"IF(V706=\"\",\"\",COUNTIF($V$7:V706,\"該当３\"))","v":""}]
[2213306004,"22",133,{"v":6,"d":"06"},{"v":4,"d":"004"},"静岡県","西区(浜松市)","篠原村","西本村",null,"","",{"$f":"IF(K707=\"\",\"\",COUNTIF($K$7:K707,\"ﾘｽﾄ１\"))","v":""},"","","","","","","",{"$f":"IF(S707=\"\",\"\",COUNTIF($S$7:S707,\"該当２\"))","v":""},"","",{"$f":"IF(V707=\"\",\"\",COUNTIF($V$7:V707,\"該当３\"))","v":""}]
[2213306005,"22",133,{"v":6,"d":"06"},{"v":5,"d":"005"},"静岡県","西区(浜松市)","篠原村","東八幡",null,"","",{"$f":"IF(K708=\"\",\"\",COUNTIF($K$7:K708,\"ﾘｽﾄ１\"))","v":""},"","","","","","","",{"$f":"IF(S708=\"\",\"\",COUNTIF($S$7:S708,\"該当２\"))","v":""},"","",{"$f":"IF(V708=\"\",\"\",COUNTIF($V$7:V708,\"該当３\"))","v":""}]
[2213306006,"22",133,{"v":6,"d":"06"},{"v":6,"d":"006"},"静岡県","西区(浜松市)","篠原村","西八幡",null,"","",{"$f":"IF(K709=\"\",\"\",COUNTIF($K$7:K709,\"ﾘｽﾄ１\"))","v":""},"","","","","","","",{"$f":"IF(S709=\"\",\"\",COUNTIF($S$7:S709,\"該当２\"))","v":""},"","",{"$f":"IF(V709=\"\",\"\",COUNTIF($V$7:V709,\"該当３\"))","v":""}]
[2213306007,"22",133,{"v":6,"d":"06"},{"v":7,"d":"007"},"静岡県","西区(浜松市)","篠原村","又三山",null,"","",{"$f":"IF(K710=\"\",\"\",COUNTIF($K$7:K710,\"ﾘｽﾄ１\"))","v":""},"","","","","","","",{"$f":"IF(S710=\"\",\"\",COUNTIF($S$7:S710,\"該当２\"))","v":""},"","",{"$f":"IF(V710=\"\",\"\",COUNTIF($V$7:V710,\"該当３\"))","v":""}]
[2213306008,"22",133,{"v":6,"d":"06"},{"v":8,"d":"008"},"静岡県","西区(浜松市)","篠原村","三分一",null,"","",{"$f":"IF(K711=\"\",\"\",COUNTIF($K$7:K711,\"ﾘｽﾄ１\"))","v":""},"","","","","","","",{"$f":"IF(S711=\"\",\"\",COUNTIF($S$7:S711,\"該当２\"))","v":""},"","",{"$f":"IF(V711=\"\",\"\",COUNTIF($V$7:V711,\"該当３\"))","v":""}]
[2213306009,"22",133,{"v":6,"d":"06"},{"v":9,"d":"009"},"静岡県","西区(浜松市)","篠原村","札木",null,"","",{"$f":"IF(K712=\"\",\"\",COUNTIF($K$7:K712,\"ﾘｽﾄ１\"))","v":""},"","","","","","","",{"$f":"IF(S712=\"\",\"\",COUNTIF($S$7:S712,\"該当２\"))","v":""},"","",{"$f":"IF(V712=\"\",\"\",COUNTIF($V$7:V712,\"該当３\"))","v":""}]
[2213306010,"22",133,{"v":6,"d":"06"},{"v":10,"d":"010"},"静岡県","西区(浜松市)","篠原村","仲村",null,"","",{"$f":"IF(K713=\"\",\"\",COUNTIF($K$7:K713,\"ﾘｽﾄ１\"))","v":""},"","","","","","","",{"$f":"IF(S713=\"\",\"\",COUNTIF($S$7:S713,\"該当２\"))","v":""},"","",{"$f":"IF(V713=\"\",\"\",COUNTIF($V$7:V713,\"該当３\"))","v":""}]
[2213306011,"22",133,{"v":6,"d":"06"},{"v":11,"d":"011"},"静岡県","西区(浜松市)","篠原村","田畑",null,"","",{"$f":"IF(K714=\"\",\"\",COUNTIF($K$7:K714,\"ﾘｽﾄ１\"))","v":""},"","",{"$f":"IF(O714=\"該当１\",G714,\"\")","v":""},{"$f":"IF(O714=\"該当１\",\"ﾘｽﾄ2\",\"\")","v":""},{"$f":"IF(Q714=\"ﾘｽﾄ2\",H714,\"\")","v":""},"",{"$f":"IF(S714=\"該当２\",H714,\"\")","v":""},{"$f":"IF(S714=\"\",\"\",COUNTIF($S$7:S714,\"該当２\"))","v":""},{"$f":"IF(AND($S$2=H714,E714>0,E714<998),\"該当３\",\"\")","v":""},{"$f":"IF(V714=\"該当３\",I714,\"\")","v":""},{"$f":"IF(V714=\"\",\"\",COUNTIF($V$7:V714,\"該当３\"))","v":""}]
[2213306012,"22",133,{"v":6,"d":"06"},{"v":12,"d":"012"},"静岡県","西区(浜松市)","篠原村","出口",null,{"$f":"IF(AND($C715>0,$H715=\"\"),\"ﾘｽﾄ１\",\"\")","v":""},{"$f":"IF(K715=\"ﾘｽﾄ１\",G715,\"\")","v":""},{"$f":"IF(K715=\"\",\"\",COUNTIF($K$7:K715,\"ﾘｽﾄ１\"))","v":""},{"$f":"IF(AND(D715=0,E715>0),\"同一区\",\"\")","v":""},{"$f":"IF(AND(EXACT($K$2,G715),H715>0),\"該当１\",\"\")","v":""},"","","",{"$f":"IF(AND(Q715=\"ﾘｽﾄ2\",OR(I715=0,AND(N715=\"同一区\",E715=1))),\"該当２\",\"\")","v":""},"",{"$f":"IF(S715=\"\",\"\",COUNTIF($S$7:S715,\"該当２\"))","v":""},"","",{"$f":"IF(V715=\"\",\"\",COUNTIF($V$7:V715,\"該当３\"))","v":""}]
[2213306013,"22",133,{"v":6,"d":"06"},{"v":13,"d":"013"},"静岡県","西区(浜松市)","篠原村","権現",null,"","",{"$f":"IF(K716=\"\",\"\",COUNTIF($K$7:K716,\"ﾘｽﾄ１\"))","v":""},"","","","","","","",{"$f":"IF(S716=\"\",\"\",COUNTIF($S$7:S716,\"該当２\"))","v":""},"","",{"$f":"IF(V716=\"\",\"\",COUNTIF($V$7:V716,\"該当３\"))","v":""}]
[2213306014,"22",133,{"v":6,"d":"06"},{"v":14,"d":"014"},"静岡県","西区(浜松市)","篠原村","東国方",null,"","",{"$f":"IF(K717=\"\",\"\",COUNTIF($K$7:K717,\"ﾘｽﾄ１\"))","v":""},"","","","","","","",{"$f":"IF(S717=\"\",\"\",COUNTIF($S$7:S717,\"該当２\"))","v":""},"","",{"$f":"IF(V717=\"\",\"\",COUNTIF($V$7:V717,\"該当３\"))","v":""}]
[2213306015,"22",133,{"v":6,"d":"06"},{"v":15,"d":"015"},"静岡県","西区(浜松市)","篠原村","西国方",null,"","",{"$f":"IF(K718=\"\",\"\",COUNTIF($K$7:K718,\"ﾘｽﾄ１\"))","v":""},"","","","","","","",{"$f":"IF(S718=\"\",\"\",COUNTIF($S$7:S718,\"該当２\"))","v":""},"","",{"$f":"IF(V718=\"\",\"\",COUNTIF($V$7:V718,\"該当３\"))","v":""}]
[2213306016,"22",133,{"v":6,"d":"06"},{"v":16,"d":"016"},"静岡県","西区(浜松市)","篠原村","鳥守",null,"","",{"$f":"IF(K719=\"\",\"\",COUNTIF($K$7:K719,\"ﾘｽﾄ１\"))","v":""},"","","","","","","",{"$f":"IF(S719=\"\",\"\",COUNTIF($S$7:S719,\"該当２\"))","v":""},"","",{"$f":"IF(V719=\"\",\"\",COUNTIF($V$7:V719,\"該当３\"))","v":""}]
[2213306017,"22",133,{"v":6,"d":"06"},{"v":17,"d":"017"},"静岡県","西区(浜松市)","篠原村","西茶屋",null,"","",{"$f":"IF(K720=\"\",\"\",COUNTIF($K$7:K720,\"ﾘｽﾄ１\"))","v":""},"","","","","","","",{"$f":"IF(S720=\"\",\"\",COUNTIF($S$7:S720,\"該当２\"))","v":""},"","",{"$f":"IF(V720=\"\",\"\",COUNTIF($V$7:V720,\"該当３\"))","v":""}]
[2213306018,"22",133,{"v":6,"d":"06"},{"v":18,"d":"018"},"静岡県","西区(浜松市)","篠原村","太田",null,"","",{"$f":"IF(K721=\"\",\"\",COUNTIF($K$7:K721,\"ﾘｽﾄ１\"))","v":""},"","","","","","","",{"$f":"IF(S721=\"\",\"\",COUNTIF($S$7:S721,\"該当２\"))","v":""},"","",{"$f":"IF(V721=\"\",\"\",COUNTIF($V$7:V721,\"該当３\"))","v":""}]
[2213306019,"22",133,{"v":6,"d":"06"},{"v":19,"d":"019"},"静岡県","西区(浜松市)","篠原村","新田",null,"","",{"$f":"IF(K722=\"\",\"\",COUNTIF($K$7:K722,\"ﾘｽﾄ１\"))","v":""},"","","","","","","",{"$f":"IF(S722=\"\",\"\",COUNTIF($S$7:S722,\"該当２\"))","v":""},"","",{"$f":"IF(V722=\"\",\"\",COUNTIF($V$7:V722,\"該当３\"))","v":""}]
[2213306020,"22",133,{"v":6,"d":"06"},{"v":20,"d":"020"},"静岡県","西区(浜松市)","篠原村","仲山",null,"","",{"$f":"IF(K723=\"\",\"\",COUNTIF($K$7:K723,\"ﾘｽﾄ１\"))","v":""},"","","","","","","",{"$f":"IF(S723=\"\",\"\",COUNTIF($S$7:S723,\"該当２\"))","v":""},"","",{"$f":"IF(V723=\"\",\"\",COUNTIF($V$7:V723,\"該当３\"))","v":""}]
[2213306021,"22",133,{"v":6,"d":"06"},{"v":21,"d":"021"},"静岡県","西区(浜松市)","篠原村","中組",null,"","",{"$f":"IF(K724=\"\",\"\",COUNTIF($K$7:K724,\"ﾘｽﾄ１\"))","v":""},"","","","","","","",{"$f":"IF(S724=\"\",\"\",COUNTIF($S$7:S724,\"該当２\"))","v":""},"","",{"$f":"IF(V724=\"\",\"\",COUNTIF($V$7:V724,\"該当３\"))","v":""}]
[2213306022,"22",133,{"v":6,"d":"06"},{"v":22,"d":"022"},"静岡県","西区(浜松市)","篠原村","西組",null,"","",{"$f":"IF(K725=\"\",\"\",COUNTIF($K$7:K725,\"ﾘｽﾄ１\"))","v":""},"","","","","","","",{"$f":"IF(S725=\"\",\"\",COUNTIF($S$7:S725,\"該当２\"))","v":""},"","",{"$f":"IF(V725=\"\",\"\",COUNTIF($V$7:V725,\"該当３\"))","v":""}]
[2213306023,"22",133,{"v":6,"d":"06"},{"v":23,"d":"023"},"静岡県","西区(浜松市)","篠原村","東馬東",null,"","",{"$f":"IF(K726=\"\",\"\",COUNTIF($K$7:K726,\"ﾘｽﾄ１\"))","v":""},"","","","","","","",{"$f":"IF(S726=\"\",\"\",COUNTIF($S$7:S726,\"該当２\"))","v":""},"","",{"$f":"IF(V726=\"\",\"\",COUNTIF($V$7:V726,\"該当３\"))","v":""}]
[2213306024,"22",133,{"v":6,"d":"06"},{"v":24,"d":"024"},"静岡県","西区(浜松市)","篠原村","東馬西",null,"","",{"$f":"IF(K727=\"\",\"\",COUNTIF($K$7:K727,\"ﾘｽﾄ１\"))","v":""},"","","","","","","",{"$f":"IF(S727=\"\",\"\",COUNTIF($S$7:S727,\"該当２\"))","v":""},"","",{"$f":"IF(V727=\"\",\"\",COUNTIF($V$7:V727,\"該当３\"))","v":""}]
[2213306025,"22",133,{"v":6,"d":"06"},{"v":25,"d":"025"},"静岡県","西区(浜松市)","篠原村","西馬東",null,"","",{"$f":"IF(K728=\"\",\"\",COUNTIF($K$7:K728,\"ﾘｽﾄ１\"))","v":""},"","","","","","","",{"$f":"IF(S728=\"\",\"\",COUNTIF($S$7:S728,\"該当２\"))","v":""},"","",{"$f":"IF(V728=\"\",\"\",COUNTIF($V$7:V728,\"該当３\"))","v":""}]
[2213306026,"22",133,{"v":6,"d":"06"},{"v":26,"d":"026"},"静岡県","西区(浜松市)","篠原村","西馬西",null,"","",{"$f":"IF(K729=\"\",\"\",COUNTIF($K$7:K729,\"ﾘｽﾄ１\"))","v":""},"","","","","","","",{"$f":"IF(S729=\"\",\"\",COUNTIF($S$7:S729,\"該当２\"))","v":""},"","",{"$f":"IF(V729=\"\",\"\",COUNTIF($V$7:V729,\"該当３\"))","v":""}]
[2213306027,"22",133,{"v":6,"d":"06"},{"v":27,"d":"027"},"静岡県","西区(浜松市)","篠原村","停車場",null,"","",{"$f":"IF(K730=\"\",\"\",COUNTIF($K$7:K730,\"ﾘｽﾄ１\"))","v":""},"","","","","","","",{"$f":"IF(S730=\"\",\"\",COUNTIF($S$7:S730,\"該当２\"))","v":""},"","",{"$f":"IF(V730=\"\",\"\",COUNTIF($V$7:V730,\"該当３\"))","v":""}]
[2213307000,"22",133,{"v":7,"d":"07"},{"v":0,"d":"000"},"静岡県","西区(浜松市)","北庄内村",null,null,"","",{"$f":"IF(K731=\"\",\"\",COUNTIF($K$7:K731,\"ﾘｽﾄ１\"))","v":""},"","","","","","","",{"$f":"IF(S731=\"\",\"\",COUNTIF($S$7:S731,\"該当２\"))","v":""},"","",{"$f":"IF(V731=\"\",\"\",COUNTIF($V$7:V731,\"該当３\"))","v":""}]
[2213307001,"22",133,{"v":7,"d":"07"},{"v":1,"d":"001"},"静岡県","西区(浜松市)","北庄内村","呉松",null,"","",{"$f":"IF(K732=\"\",\"\",COUNTIF($K$7:K732,\"ﾘｽﾄ１\"))","v":""},"","","","","","","",{"$f":"IF(S732=\"\",\"\",COUNTIF($S$7:S732,\"該当２\"))","v":""},"","",{"$f":"IF(V732=\"\",\"\",COUNTIF($V$7:V732,\"該当３\"))","v":""}]
[2213307002,"22",133,{"v":7,"d":"07"},{"v":2,"d":"002"},"静岡県","西区(浜松市)","北庄内村","深萩",null,"","",{"$f":"IF(K733=\"\",\"\",COUNTIF($K$7:K733,\"ﾘｽﾄ１\"))","v":""},"","","","","","","",{"$f":"IF(S733=\"\",\"\",COUNTIF($S$7:S733,\"該当２\"))","v":""},"","",{"$f":"IF(V733=\"\",\"\",COUNTIF($V$7:V733,\"該当３\"))","v":""}]
[2213307003,"22",133,{"v":7,"d":"07"},{"v":3,"d":"003"},"静岡県","西区(浜松市)","北庄内村","平松",null,"","",{"$f":"IF(K734=\"\",\"\",COUNTIF($K$7:K734,\"ﾘｽﾄ１\"))","v":""},"","","","","","","",{"$f":"IF(S734=\"\",\"\",COUNTIF($S$7:S734,\"該当２\"))","v":""},"","",{"$f":"IF(V734=\"\",\"\",COUNTIF($V$7:V734,\"該当３\"))","v":""}]
[2213307004,"22",133,{"v":7,"d":"07"},{"v":4,"d":"004"},"静岡県","西区(浜松市)","北庄内村","堀江",null,"","",{"$f":"IF(K735=\"\",\"\",COUNTIF($K$7:K735,\"ﾘｽﾄ１\"))","v":""},"","","","","","","",{"$f":"IF(S735=\"\",\"\",COUNTIF($S$7:S735,\"該当２\"))","v":""},"","",{"$f":"IF(V735=\"\",\"\",COUNTIF($V$7:V735,\"該当３\"))","v":""}]
[2213307005,"22",133,{"v":7,"d":"07"},{"v":5,"d":"005"},"静岡県","西区(浜松市)","北庄内村","白洲",null,"","",{"$f":"IF(K736=\"\",\"\",COUNTIF($K$7:K736,\"ﾘｽﾄ１\"))","v":""},"","","","","","","",{"$f":"IF(S736=\"\",\"\",COUNTIF($S$7:S736,\"該当２\"))","v":""},"","",{"$f":"IF(V736=\"\",\"\",COUNTIF($V$7:V736,\"該当３\"))","v":""}]
[2213308000,"22",133,{"v":8,"d":"08"},{"v":0,"d":"000"},"静岡県","西区(浜松市)","南庄内村",null,null,"","",{"$f":"IF(K737=\"\",\"\",COUNTIF($K$7:K737,\"ﾘｽﾄ１\"))","v":""},"","","","","","","",{"$f":"IF(S737=\"\",\"\",COUNTIF($S$7:S737,\"該当２\"))","v":""},"","",{"$f":"IF(V737=\"\",\"\",COUNTIF($V$7:V737,\"該当３\"))","v":""}]
[2213308001,"22",133,{"v":8,"d":"08"},{"v":1,"d":"001"},"静岡県","西区(浜松市)","南庄内村","協和",null,"","",{"$f":"IF(K738=\"\",\"\",COUNTIF($K$7:K738,\"ﾘｽﾄ１\"))","v":""},"","","","","","","",{"$f":"IF(S738=\"\",\"\",COUNTIF($S$7:S738,\"該当２\"))","v":""},"","",{"$f":"IF(V738=\"\",\"\",COUNTIF($V$7:V738,\"該当３\"))","v":""}]
[2213308002,"22",133,{"v":8,"d":"08"},{"v":2,"d":"002"},"静岡県","西区(浜松市)","南庄内村","内山",null,"","",{"$f":"IF(K739=\"\",\"\",COUNTIF($K$7:K739,\"ﾘｽﾄ１\"))","v":""},"","","","","","","",{"$f":"IF(S739=\"\",\"\",COUNTIF($S$7:S739,\"該当２\"))","v":""},"","",{"$f":"IF(V739=\"\",\"\",COUNTIF($V$7:V739,\"該当３\"))","v":""}]
[2213308003,"22",133,{"v":8,"d":"08"},{"v":3,"d":"003"},"静岡県","西区(浜松市)","南庄内村","和田",null,"","",{"$f":"IF(K740=\"\",\"\",COUNTIF($K$7:K740,\"ﾘｽﾄ１\"))","v":""},"","","","","","","",{"$f":"IF(S740=\"\",\"\",COUNTIF($S$7:S740,\"該当２\"))","v":""},"","",{"$f":"IF(V740=\"\",\"\",COUNTIF($V$7:V740,\"該当３\"))","v":""}]
[2213309000,"22",133,{"v":9,"d":"09"},{"v":0,"d":"000"},"静岡県","西区(浜松市)","村櫛村",null,null,"","",{"$f":"IF(K741=\"\",\"\",COUNTIF($K$7:K741,\"ﾘｽﾄ１\"))","v":""},"","","","","","","",{"$f":"IF(S741=\"\",\"\",COUNTIF($S$7:S741,\"該当２\"))","v":""},"","",{"$f":"IF(V741=\"\",\"\",COUNTIF($V$7:V741,\"該当３\"))","v":""}]
[2213309001,"22",133,{"v":9,"d":"09"},{"v":1,"d":"001"},"静岡県","西区(浜松市)","村櫛村","北明",null,"","",{"$f":"IF(K742=\"\",\"\",COUNTIF($K$7:K742,\"ﾘｽﾄ１\"))","v":""},"","","","","","","",{"$f":"IF(S742=\"\",\"\",COUNTIF($S$7:S742,\"該当２\"))","v":""},"","",{"$f":"IF(V742=\"\",\"\",COUNTIF($V$7:V742,\"該当３\"))","v":""}]
[2213309002,"22",133,{"v":9,"d":"09"},{"v":2,"d":"002"},"静岡県","西区(浜松市)","村櫛村","中町",null,"","",{"$f":"IF(K743=\"\",\"\",COUNTIF($K$7:K743,\"ﾘｽﾄ１\"))","v":""},"","","","","","","",{"$f":"IF(S743=\"\",\"\",COUNTIF($S$7:S743,\"該当２\"))","v":""},"","",{"$f":"IF(V743=\"\",\"\",COUNTIF($V$7:V743,\"該当３\"))","v":""}]
[2213309003,"22",133,{"v":9,"d":"09"},{"v":3,"d":"003"},"静岡県","西区(浜松市)","村櫛村","西明",null,"","",{"$f":"IF(K744=\"\",\"\",COUNTIF($K$7:K744,\"ﾘｽﾄ１\"))","v":""},"","","","","","","",{"$f":"IF(S744=\"\",\"\",COUNTIF($S$7:S744,\"該当２\"))","v":""},"","",{"$f":"IF(V744=\"\",\"\",COUNTIF($V$7:V744,\"該当３\"))","v":""}]
[2213310000,"22",133,10,{"v":0,"d":"000"},"静岡県","西区(浜松市)","舞阪町",null,null,"","",{"$f":"IF(K745=\"\",\"\",COUNTIF($K$7:K745,\"ﾘｽﾄ１\"))","v":""},"","","","","","","",{"$f":"IF(S745=\"\",\"\",COUNTIF($S$7:S745,\"該当２\"))","v":""},"","",{"$f":"IF(V745=\"\",\"\",COUNTIF($V$7:V745,\"該当３\"))","v":""}]
[2213310001,"22",133,10,{"v":1,"d":"001"},"静岡県","西区(浜松市)","舞阪町","西町",null,"","",{"$f":"IF(K746=\"\",\"\",COUNTIF($K$7:K746,\"ﾘｽﾄ１\"))","v":""},"","","","","","","",{"$f":"IF(S746=\"\",\"\",COUNTIF($S$7:S746,\"該当２\"))","v":""},"","",{"$f":"IF(V746=\"\",\"\",COUNTIF($V$7:V746,\"該当３\"))","v":""}]
[2213310002,"22",133,10,{"v":2,"d":"002"},"静岡県","西区(浜松市)","舞阪町","仲町",null,"","",{"$f":"IF(K747=\"\",\"\",COUNTIF($K$7:K747,\"ﾘｽﾄ１\"))","v":""},"","","","","","","",{"$f":"IF(S747=\"\",\"\",COUNTIF($S$7:S747,\"該当２\"))","v":""},"","",{"$f":"IF(V747=\"\",\"\",COUNTIF($V$7:V747,\"該当３\"))","v":""}]
[2213310003,"22",133,10,{"v":3,"d":"003"},"静岡県","西区(浜松市)","舞阪町","新町",null,"","",{"$f":"IF(K748=\"\",\"\",COUNTIF($K$7:K748,\"ﾘｽﾄ１\"))","v":""},"","","","","","","",{"$f":"IF(S748=\"\",\"\",COUNTIF($S$7:S748,\"該当２\"))","v":""},"","",{"$f":"IF(V748=\"\",\"\",COUNTIF($V$7:V748,\"該当３\"))","v":""}]
[2213310004,"22",133,10,{"v":4,"d":"004"},"静岡県","西区(浜松市)","舞阪町","砂町",null,"","",{"$f":"IF(K749=\"\",\"\",COUNTIF($K$7:K749,\"ﾘｽﾄ１\"))","v":""},"","","","","","","",{"$f":"IF(S749=\"\",\"\",COUNTIF($S$7:S749,\"該当２\"))","v":""},"","",{"$f":"IF(V749=\"\",\"\",COUNTIF($V$7:V749,\"該当３\"))","v":""}]
[2213310005,"22",133,10,{"v":5,"d":"005"},"静岡県","西区(浜松市)","舞阪町","吹上",null,"","",{"$f":"IF(K750=\"\",\"\",COUNTIF($K$7:K750,\"ﾘｽﾄ１\"))","v":""},"","","","","","","",{"$f":"IF(S750=\"\",\"\",COUNTIF($S$7:S750,\"該当２\"))","v":""},"","",{"$f":"IF(V750=\"\",\"\",COUNTIF($V$7:V750,\"該当３\"))","v":""}]
[2213311000,"22",133,11,{"v":0,"d":"000"},"静岡県","西区(浜松市)","雄踏町",null,null,"","",{"$f":"IF(K751=\"\",\"\",COUNTIF($K$7:K751,\"ﾘｽﾄ１\"))","v":""},"","","","","","","",{"$f":"IF(S751=\"\",\"\",COUNTIF($S$7:S751,\"該当２\"))","v":""},"","",{"$f":"IF(V751=\"\",\"\",COUNTIF($V$7:V751,\"該当３\"))","v":""}]
[2213311001,"22",133,11,{"v":1,"d":"001"},"静岡県","西区(浜松市)","雄踏町","中村",null,"","",{"$f":"IF(K752=\"\",\"\",COUNTIF($K$7:K752,\"ﾘｽﾄ１\"))","v":""},"","","","","","","",{"$f":"IF(S752=\"\",\"\",COUNTIF($S$7:S752,\"該当２\"))","v":""},"","",{"$f":"IF(V752=\"\",\"\",COUNTIF($V$7:V752,\"該当３\"))","v":""}]
[2213311002,"22",133,11,{"v":2,"d":"002"},"静岡県","西区(浜松市)","雄踏町","田端",null,"","",{"$f":"IF(K753=\"\",\"\",COUNTIF($K$7:K753,\"ﾘｽﾄ１\"))","v":""},"","","","","","","",{"$f":"IF(S753=\"\",\"\",COUNTIF($S$7:S753,\"該当２\"))","v":""},"","",{"$f":"IF(V753=\"\",\"\",COUNTIF($V$7:V753,\"該当３\"))","v":""}]
[2213311003,"22",133,11,{"v":3,"d":"003"},"静岡県","西区(浜松市)","雄踏町","小山",null,"","",{"$f":"IF(K754=\"\",\"\",COUNTIF($K$7:K754,\"ﾘｽﾄ１\"))","v":""},"","","","","","","",{"$f":"IF(S754=\"\",\"\",COUNTIF($S$7:S754,\"該当２\"))","v":""},"","",{"$f":"IF(V754=\"\",\"\",COUNTIF($V$7:V754,\"該当３\"))","v":""}]
[2213311004,"22",133,11,{"v":4,"d":"004"},"静岡県","西区(浜松市)","雄踏町","領家",null,"","",{"$f":"IF(K755=\"\",\"\",COUNTIF($K$7:K755,\"ﾘｽﾄ１\"))","v":""},"","","","","","","",{"$f":"IF(S755=\"\",\"\",COUNTIF($S$7:S755,\"該当２\"))","v":""},"","",{"$f":"IF(V755=\"\",\"\",COUNTIF($V$7:V755,\"該当３\"))","v":""}]
[2213311005,"22",133,11,{"v":5,"d":"005"},"静岡県","西区(浜松市)","雄踏町","浅羽",null,"","",{"$f":"IF(K756=\"\",\"\",COUNTIF($K$7:K756,\"ﾘｽﾄ１\"))","v":""},"","","","","","","",{"$f":"IF(S756=\"\",\"\",COUNTIF($S$7:S756,\"該当２\"))","v":""},"","",{"$f":"IF(V756=\"\",\"\",COUNTIF($V$7:V756,\"該当３\"))","v":""}]
[2213311006,"22",133,11,{"v":6,"d":"006"},"静岡県","西区(浜松市)","雄踏町","西ケ崎",null,"","",{"$f":"IF(K757=\"\",\"\",COUNTIF($K$7:K757,\"ﾘｽﾄ１\"))","v":""},"","","","","","","",{"$f":"IF(S757=\"\",\"\",COUNTIF($S$7:S757,\"該当２\"))","v":""},"","",{"$f":"IF(V757=\"\",\"\",COUNTIF($V$7:V757,\"該当３\"))","v":""}]
[2213311007,"22",133,11,{"v":7,"d":"007"},"静岡県","西区(浜松市)","雄踏町","山崎",null,"","",{"$f":"IF(K758=\"\",\"\",COUNTIF($K$7:K758,\"ﾘｽﾄ１\"))","v":""},"","","","","","","",{"$f":"IF(S758=\"\",\"\",COUNTIF($S$7:S758,\"該当２\"))","v":""},"","",{"$f":"IF(V758=\"\",\"\",COUNTIF($V$7:V758,\"該当３\"))","v":""}]
[2213312000,"22",133,12,{"v":0,"d":"000"},"静岡県","西区(浜松市)","浜松市４－２",null,null,"","",{"$f":"IF(K759=\"\",\"\",COUNTIF($K$7:K759,\"ﾘｽﾄ１\"))","v":""},"","","","","","","",{"$f":"IF(S759=\"\",\"\",COUNTIF($S$7:S759,\"該当２\"))","v":""},"","",{"$f":"IF(V759=\"\",\"\",COUNTIF($V$7:V759,\"該当３\"))","v":""}]
[2213400000,"22",134,{"v":0,"d":"00"},{"v":0,"d":"000"},"静岡県","南区(浜松市)",{"$nulls":3},"ﾘｽﾄ１","南区(浜松市)",{"$f":"IF(K760=\"\",\"\",COUNTIF($K$7:K760,\"ﾘｽﾄ１\"))","v":9},"","","","","","","",{"$f":"IF(S760=\"\",\"\",COUNTIF($S$7:S760,\"該当２\"))","v":""},"","",{"$f":"IF(V760=\"\",\"\",COUNTIF($V$7:V760,\"該当３\"))","v":""}]
[2213401000,"22",134,{"v":1,"d":"01"},{"v":0,"d":"000"},"静岡県","南区(浜松市)","浜松市４－４",null,null,"","",{"$f":"IF(K761=\"\",\"\",COUNTIF($K$7:K761,\"ﾘｽﾄ１\"))","v":""},"","","","","","","",{"$f":"IF(S761=\"\",\"\",COUNTIF($S$7:S761,\"該当２\"))","v":""},"","",{"$f":"IF(V761=\"\",\"\",COUNTIF($V$7:V761,\"該当３\"))","v":""}]
[2213401001,"22",134,{"v":1,"d":"01"},{"v":1,"d":"001"},"静岡県","南区(浜松市)","浜松市４－４","寺脇",null,"","",{"$f":"IF(K762=\"\",\"\",COUNTIF($K$7:K762,\"ﾘｽﾄ１\"))","v":""},"","","","","","","",{"$f":"IF(S762=\"\",\"\",COUNTIF($S$7:S762,\"該当２\"))","v":""},"","",{"$f":"IF(V762=\"\",\"\",COUNTIF($V$7:V762,\"該当３\"))","v":""}]
[2213401002,"22",134,{"v":1,"d":"01"},{"v":2,"d":"002"},"静岡県","南区(浜松市)","浜松市４－４","福塚",null,"","",{"$f":"IF(K763=\"\",\"\",COUNTIF($K$7:K763,\"ﾘｽﾄ１\"))","v":""},"","","","","","","",{"$f":"IF(S763=\"\",\"\",COUNTIF($S$7:S763,\"該当２\"))","v":""},"","",{"$f":"IF(V763=\"\",\"\",COUNTIF($V$7:V763,\"該当３\"))","v":""}]
[2213401003,"22",134,{"v":1,"d":"01"},{"v":3,"d":"003"},"静岡県","南区(浜松市)","浜松市４－４","中田島",null,"","",{"$f":"IF(K764=\"\",\"\",COUNTIF($K$7:K764,\"ﾘｽﾄ１\"))","v":""},"","","","","","","",{"$f":"IF(S764=\"\",\"\",COUNTIF($S$7:S764,\"該当２\"))","v":""},"","",{"$f":"IF(V764=\"\",\"\",COUNTIF($V$7:V764,\"該当３\"))","v":""}]
[2213401004,"22",134,{"v":1,"d":"01"},{"v":4,"d":"004"},"静岡県","南区(浜松市)","浜松市４－４","白羽",null,"","",{"$f":"IF(K765=\"\",\"\",COUNTIF($K$7:K765,\"ﾘｽﾄ１\"))","v":""},"","","","","","","",{"$f":"IF(S765=\"\",\"\",COUNTIF($S$7:S765,\"該当２\"))","v":""},"","",{"$f":"IF(V765=\"\",\"\",COUNTIF($V$7:V765,\"該当３\"))","v":""}]
[2213401005,"22",134,{"v":1,"d":"01"},{"v":5,"d":"005"},"静岡県","南区(浜松市)","浜松市４－４","瓜内2-2",null,"","",{"$f":"IF(K766=\"\",\"\",COUNTIF($K$7:K766,\"ﾘｽﾄ１\"))","v":""},"","","","","","","",{"$f":"IF(S766=\"\",\"\",COUNTIF($S$7:S766,\"該当２\"))","v":""},"","",{"$f":"IF(V766=\"\",\"\",COUNTIF($V$7:V766,\"該当３\"))","v":""}]
[2213401006,"22",134,{"v":1,"d":"01"},{"v":6,"d":"006"},"静岡県","南区(浜松市)","浜松市４－４","三島",null,"","",{"$f":"IF(K767=\"\",\"\",COUNTIF($K$7:K767,\"ﾘｽﾄ１\"))","v":""},"","","","","","","",{"$f":"IF(S767=\"\",\"\",COUNTIF($S$7:S767,\"該当２\"))","v":""},"","",{"$f":"IF(V767=\"\",\"\",COUNTIF($V$7:V767,\"該当３\"))","v":""}]
[2213401007,"22",134,{"v":1,"d":"01"},{"v":7,"d":"007"},"静岡県","南区(浜松市)","浜松市４－４","蟹草",null,"","",{"$f":"IF(K768=\"\",\"\",COUNTIF($K$7:K768,\"ﾘｽﾄ１\"))","v":""},"","","","","","","",{"$f":"IF(S768=\"\",\"\",COUNTIF($S$7:S768,\"該当２\"))","v":""},"","",{"$f":"IF(V768=\"\",\"\",COUNTIF($V$7:V768,\"該当３\"))","v":""}]
[2213401008,"22",134,{"v":1,"d":"01"},{"v":8,"d":"008"},"静岡県","南区(浜松市)","浜松市４－４","楊子",null,"","",{"$f":"IF(K769=\"\",\"\",COUNTIF($K$7:K769,\"ﾘｽﾄ１\"))","v":""},"","","","","","","",{"$f":"IF(S769=\"\",\"\",COUNTIF($S$7:S769,\"該当２\"))","v":""},"","",{"$f":"IF(V769=\"\",\"\",COUNTIF($V$7:V769,\"該当３\"))","v":""}]
[2213402000,"22",134,{"v":2,"d":"02"},{"v":0,"d":"000"},"静岡県","南区(浜松市)","芳川村",null,null,"","",{"$f":"IF(K770=\"\",\"\",COUNTIF($K$7:K770,\"ﾘｽﾄ１\"))","v":""},"","","","","","","",{"$f":"IF(S770=\"\",\"\",COUNTIF($S$7:S770,\"該当２\"))","v":""},"","",{"$f":"IF(V770=\"\",\"\",COUNTIF($V$7:V770,\"該当３\"))","v":""}]
[2213402001,"22",134,{"v":2,"d":"02"},{"v":1,"d":"001"},"静岡県","南区(浜松市)","芳川村","石原",null,"","",{"$f":"IF(K771=\"\",\"\",COUNTIF($K$7:K771,\"ﾘｽﾄ１\"))","v":""},"","","","","","","",{"$f":"IF(S771=\"\",\"\",COUNTIF($S$7:S771,\"該当２\"))","v":""},"","",{"$f":"IF(V771=\"\",\"\",COUNTIF($V$7:V771,\"該当３\"))","v":""}]
[2213402002,"22",134,{"v":2,"d":"02"},{"v":2,"d":"002"},"静岡県","南区(浜松市)","芳川村","安松",null,"","",{"$f":"IF(K772=\"\",\"\",COUNTIF($K$7:K772,\"ﾘｽﾄ１\"))","v":""},"","","","","","","",{"$f":"IF(S772=\"\",\"\",COUNTIF($S$7:S772,\"該当２\"))","v":""},"","",{"$f":"IF(V772=\"\",\"\",COUNTIF($V$7:V772,\"該当３\"))","v":""}]
[2213402003,"22",134,{"v":2,"d":"02"},{"v":3,"d":"003"},"静岡県","南区(浜松市)","芳川村","神出",null,"","",{"$f":"IF(K773=\"\",\"\",COUNTIF($K$7:K773,\"ﾘｽﾄ１\"))","v":""},"","","","","","","",{"$f":"IF(S773=\"\",\"\",COUNTIF($S$7:S773,\"該当２\"))","v":""},"","",{"$f":"IF(V773=\"\",\"\",COUNTIF($V$7:V773,\"該当３\"))","v":""}]
[2213402004,"22",134,{"v":2,"d":"02"},{"v":4,"d":"004"},"静岡県","南区(浜松市)","芳川村","大橋",null,"","",{"$f":"IF(K774=\"\",\"\",COUNTIF($K$7:K774,\"ﾘｽﾄ１\"))","v":""},"","","","","","","",{"$f":"IF(S774=\"\",\"\",COUNTIF($S$7:S774,\"該当２\"))","v":""},"","",{"$f":"IF(V774=\"\",\"\",COUNTIF($V$7:V774,\"該当３\"))","v":""}]
[2213402005,"22",134,{"v":2,"d":"02"},{"v":5,"d":"005"},"静岡県","南区(浜松市)","芳川村","本郷",null,"","",{"$f":"IF(K775=\"\",\"\",COUNTIF($K$7:K775,\"ﾘｽﾄ１\"))","v":""},"","","","","","","",{"$f":"IF(S775=\"\",\"\",COUNTIF($S$7:S775,\"該当２\"))","v":""},"","",{"$f":"IF(V775=\"\",\"\",COUNTIF($V$7:V775,\"該当３\"))","v":""}]
[2213402006,"22",134,{"v":2,"d":"02"},{"v":6,"d":"006"},"静岡県","南区(浜松市)","芳川村","頭陀寺",null,"","",{"$f":"IF(K776=\"\",\"\",COUNTIF($K$7:K776,\"ﾘｽﾄ１\"))","v":""},"","","","","","","",{"$f":"IF(S776=\"\",\"\",COUNTIF($S$7:S776,\"該当２\"))","v":""},"","",{"$f":"IF(V776=\"\",\"\",COUNTIF($V$7:V776,\"該当３\"))","v":""}]
[2213402007,"22",134,{"v":2,"d":"02"},{"v":7,"d":"007"},"静岡県","南区(浜松市)","芳川村","参野",null,"","",{"$f":"IF(K777=\"\",\"\",COUNTIF($K$7:K777,\"ﾘｽﾄ１\"))","v":""},"","","","","","","",{"$f":"IF(S777=\"\",\"\",COUNTIF($S$7:S777,\"該当２\"))","v":""},"","",{"$f":"IF(V777=\"\",\"\",COUNTIF($V$7:V777,\"該当３\"))","v":""}]
[2213402008,"22",134,{"v":2,"d":"02"},{"v":8,"d":"008"},"静岡県","南区(浜松市)","芳川村","恩地",null,"","",{"$f":"IF(K778=\"\",\"\",COUNTIF($K$7:K778,\"ﾘｽﾄ１\"))","v":""},"","",{"$f":"IF(O778=\"該当１\",G778,\"\")","v":""},{"$f":"IF(O778=\"該当１\",\"ﾘｽﾄ2\",\"\")","v":""},{"$f":"IF(Q778=\"ﾘｽﾄ2\",H778,\"\")","v":""},"",{"$f":"IF(S778=\"該当２\",H778,\"\")","v":""},{"$f":"IF(S778=\"\",\"\",COUNTIF($S$7:S778,\"該当２\"))","v":""},{"$f":"IF(AND($S$2=H778,E778>0,E778<998),\"該当３\",\"\")","v":""},{"$f":"IF(V778=\"該当３\",I778,\"\")","v":""},{"$f":"IF(V778=\"\",\"\",COUNTIF($V$7:V778,\"該当３\"))","v":""}]
[2213402009,"22",134,{"v":2,"d":"02"},{"v":9,"d":"009"},"静岡県","南区(浜松市)","芳川村","西恩地",null,{"$f":"IF(AND($C779>0,$H779=\"\"),\"ﾘｽﾄ１\",\"\")","v":""},{"$f":"IF(K779=\"ﾘｽﾄ１\",G779,\"\")","v":""},{"$f":"IF(K779=\"\",\"\",COUNTIF($K$7:K779,\"ﾘｽﾄ１\"))","v":""},{"$f":"IF(AND(D779=0,E779>0),\"同一区\",\"\")","v":""},{"$f":"IF(AND(EXACT($K$2,G779),H779>0),\"該当１\",\"\")","v":""},"","","",{"$f":"IF(AND(Q779=\"ﾘｽﾄ2\",OR(I779=0,AND(N779=\"同一区\",E779=1))),\"該当２\",\"\")","v":""},"",{"$f":"IF(S779=\"\",\"\",COUNTIF($S$7:S779,\"該当２\"))","v":""},"","",{"$f":"IF(V779=\"\",\"\",COUNTIF($V$7:V779,\"該当３\"))","v":""}]
[2213402010,"22",134,{"v":2,"d":"02"},{"v":10,"d":"010"},"静岡県","南区(浜松市)","芳川村","大柳",null,"","",{"$f":"IF(K780=\"\",\"\",COUNTIF($K$7:K780,\"ﾘｽﾄ１\"))","v":""},"","","","","","","",{"$f":"IF(S780=\"\",\"\",COUNTIF($S$7:S780,\"該当２\"))","v":""},"","",{"$f":"IF(V780=\"\",\"\",COUNTIF($V$7:V780,\"該当３\"))","v":""}]
[2213402011,"22",134,{"v":2,"d":"02"},{"v":11,"d":"011"},"静岡県","南区(浜松市)","芳川村","鼠野",null,"","",{"$f":"IF(K781=\"\",\"\",COUNTIF($K$7:K781,\"ﾘｽﾄ１\"))","v":""},"","","","","","","",{"$f":"IF(S781=\"\",\"\",COUNTIF($S$7:S781,\"該当２\"))","v":""},"","",{"$f":"IF(V781=\"\",\"\",COUNTIF($V$7:V781,\"該当３\"))","v":""}]
[2213402012,"22",134,{"v":2,"d":"02"},{"v":12,"d":"012"},"静岡県","南区(浜松市)","芳川村","御給",null,"","",{"$f":"IF(K782=\"\",\"\",COUNTIF($K$7:K782,\"ﾘｽﾄ１\"))","v":""},"","","","","","","",{"$f":"IF(S782=\"\",\"\",COUNTIF($S$7:S782,\"該当２\"))","v":""},"","",{"$f":"IF(V782=\"\",\"\",COUNTIF($V$7:V782,\"該当３\"))","v":""}]
[2213402013,"22",134,{"v":2,"d":"02"},{"v":13,"d":"013"},"静岡県","南区(浜松市)","芳川村","江川",null,"","",{"$f":"IF(K783=\"\",\"\",COUNTIF($K$7:K783,\"ﾘｽﾄ１\"))","v":""},"","","","","","","",{"$f":"IF(S783=\"\",\"\",COUNTIF($S$7:S783,\"該当２\"))","v":""},"","",{"$f":"IF(V783=\"\",\"\",COUNTIF($V$7:V783,\"該当３\"))","v":""}]
[2213402014,"22",134,{"v":2,"d":"02"},{"v":14,"d":"014"},"静岡県","南区(浜松市)","芳川村","下中島",null,"","",{"$f":"IF(K784=\"\",\"\",COUNTIF($K$7:K784,\"ﾘｽﾄ１\"))","v":""},"","","","","","","",{"$f":"IF(S784=\"\",\"\",COUNTIF($S$7:S784,\"該当２\"))","v":""},"","",{"$f":"IF(V784=\"\",\"\",COUNTIF($V$7:V784,\"該当３\"))","v":""}]
[2213402015,"22",134,{"v":2,"d":"02"},{"v":15,"d":"015"},"静岡県","南区(浜松市)","芳川村","下前島",null,"","",{"$f":"IF(K785=\"\",\"\",COUNTIF($K$7:K785,\"ﾘｽﾄ１\"))","v":""},"","","","","","","",{"$f":"IF(S785=\"\",\"\",COUNTIF($S$7:S785,\"該当２\"))","v":""},"","",{"$f":"IF(V785=\"\",\"\",COUNTIF($V$7:V785,\"該当３\"))","v":""}]
[2213402016,"22",134,{"v":2,"d":"02"},{"v":16,"d":"016"},"静岡県","南区(浜松市)","芳川村","四本松",null,"","",{"$f":"IF(K786=\"\",\"\",COUNTIF($K$7:K786,\"ﾘｽﾄ１\"))","v":""},"","","","","","","",{"$f":"IF(S786=\"\",\"\",COUNTIF($S$7:S786,\"該当２\"))","v":""},"","",{"$f":"IF(V786=\"\",\"\",COUNTIF($V$7:V786,\"該当３\"))","v":""}]
[2213402017,"22",134,{"v":2,"d":"02"},{"v":17,"d":"017"},"静岡県","南区(浜松市)","芳川村","立野",null,"","",{"$f":"IF(K787=\"\",\"\",COUNTIF($K$7:K787,\"ﾘｽﾄ１\"))","v":""},"","","","","","","",{"$f":"IF(S787=\"\",\"\",COUNTIF($S$7:S787,\"該当２\"))","v":""},"","",{"$f":"IF(V787=\"\",\"\",COUNTIF($V$7:V787,\"該当３\"))","v":""}]
[2213402018,"22",134,{"v":2,"d":"02"},{"v":18,"d":"018"},"静岡県","南区(浜松市)","芳川村","古川",null,"","",{"$f":"IF(K788=\"\",\"\",COUNTIF($K$7:K788,\"ﾘｽﾄ１\"))","v":""},"","","","","","","",{"$f":"IF(S788=\"\",\"\",COUNTIF($S$7:S788,\"該当２\"))","v":""},"","",{"$f":"IF(V788=\"\",\"\",COUNTIF($V$7:V788,\"該当３\"))","v":""}]
[2213402019,"22",134,{"v":2,"d":"02"},{"v":19,"d":"019"},"静岡県","南区(浜松市)","芳川村","金折",null,"","",{"$f":"IF(K789=\"\",\"\",COUNTIF($K$7:K789,\"ﾘｽﾄ１\"))","v":""},"","","","","","","",{"$f":"IF(S789=\"\",\"\",COUNTIF($S$7:S789,\"該当２\"))","v":""},"","",{"$f":"IF(V789=\"\",\"\",COUNTIF($V$7:V789,\"該当３\"))","v":""}]
[2213402020,"22",134,{"v":2,"d":"02"},{"v":20,"d":"020"},"静岡県","南区(浜松市)","芳川村","東金折",null,"","",{"$f":"IF(K790=\"\",\"\",COUNTIF($K$7:K790,\"ﾘｽﾄ１\"))","v":""},"","","","","","","",{"$f":"IF(S790=\"\",\"\",COUNTIF($S$7:S790,\"該当２\"))","v":""},"","",{"$f":"IF(V790=\"\",\"\",COUNTIF($V$7:V790,\"該当３\"))","v":""}]
[2213402021,"22",134,{"v":2,"d":"02"},{"v":21,"d":"021"},"静岡県","南区(浜松市)","芳川村","老間",null,"","",{"$f":"IF(K791=\"\",\"\",COUNTIF($K$7:K791,\"ﾘｽﾄ１\"))","v":""},"","","","","","","",{"$f":"IF(S791=\"\",\"\",COUNTIF($S$7:S791,\"該当２\"))","v":""},"","",{"$f":"IF(V791=\"\",\"\",COUNTIF($V$7:V791,\"該当３\"))","v":""}]
[2213402022,"22",134,{"v":2,"d":"02"},{"v":22,"d":"022"},"静岡県","南区(浜松市)","芳川村","西伝寺",null,"","",{"$f":"IF(K792=\"\",\"\",COUNTIF($K$7:K792,\"ﾘｽﾄ１\"))","v":""},"","","","","","","",{"$f":"IF(S792=\"\",\"\",COUNTIF($S$7:S792,\"該当２\"))","v":""},"","",{"$f":"IF(V792=\"\",\"\",COUNTIF($V$7:V792,\"該当３\"))","v":""}]
[2213403000,"22",134,{"v":3,"d":"03"},{"v":0,"d":"000"},"静岡県","南区(浜松市)","飯田村２－１南区（浜松市）",null,null,"","",{"$f":"IF(K793=\"\",\"\",COUNTIF($K$7:K793,\"ﾘｽﾄ１\"))","v":""},"","","","","","","",{"$f":"IF(S793=\"\",\"\",COUNTIF($S$7:S793,\"該当２\"))","v":""},"","",{"$f":"IF(V793=\"\",\"\",COUNTIF($V$7:V793,\"該当３\"))","v":""}]
[2213403001,"22",134,{"v":3,"d":"03"},{"v":1,"d":"001"},"静岡県","南区(浜松市)","飯田村２－１南区（浜松市）","上組2-2",null,"","",{"$f":"IF(K794=\"\",\"\",COUNTIF($K$7:K794,\"ﾘｽﾄ１\"))","v":""},"","","","","","","",{"$f":"IF(S794=\"\",\"\",COUNTIF($S$7:S794,\"該当２\"))","v":""},"","",{"$f":"IF(V794=\"\",\"\",COUNTIF($V$7:V794,\"該当３\"))","v":""}]
[2213403002,"22",134,{"v":3,"d":"03"},{"v":2,"d":"002"},"静岡県","南区(浜松市)","飯田村２－１南区（浜松市）","西組",null,"","",{"$f":"IF(K795=\"\",\"\",COUNTIF($K$7:K795,\"ﾘｽﾄ１\"))","v":""},"","","","","","","",{"$f":"IF(S795=\"\",\"\",COUNTIF($S$7:S795,\"該当２\"))","v":""},"","",{"$f":"IF(V795=\"\",\"\",COUNTIF($V$7:V795,\"該当３\"))","v":""}]
[2213403003,"22",134,{"v":3,"d":"03"},{"v":3,"d":"003"},"静岡県","南区(浜松市)","飯田村２－１南区（浜松市）","開戸",null,"","",{"$f":"IF(K796=\"\",\"\",COUNTIF($K$7:K796,\"ﾘｽﾄ１\"))","v":""},"","","","","","","",{"$f":"IF(S796=\"\",\"\",COUNTIF($S$7:S796,\"該当２\"))","v":""},"","",{"$f":"IF(V796=\"\",\"\",COUNTIF($V$7:V796,\"該当３\"))","v":""}]
[2213403004,"22",134,{"v":3,"d":"03"},{"v":4,"d":"004"},"静岡県","南区(浜松市)","飯田村２－１南区（浜松市）","田畑",null,"","",{"$f":"IF(K797=\"\",\"\",COUNTIF($K$7:K797,\"ﾘｽﾄ１\"))","v":""},"","","","","","","",{"$f":"IF(S797=\"\",\"\",COUNTIF($S$7:S797,\"該当２\"))","v":""},"","",{"$f":"IF(V797=\"\",\"\",COUNTIF($V$7:V797,\"該当３\"))","v":""}]
[2213403005,"22",134,{"v":3,"d":"03"},{"v":5,"d":"005"},"静岡県","南区(浜松市)","飯田村２－１南区（浜松市）","新田",null,"","",{"$f":"IF(K798=\"\",\"\",COUNTIF($K$7:K798,\"ﾘｽﾄ１\"))","v":""},"","","","","","","",{"$f":"IF(S798=\"\",\"\",COUNTIF($S$7:S798,\"該当２\"))","v":""},"","",{"$f":"IF(V798=\"\",\"\",COUNTIF($V$7:V798,\"該当３\"))","v":""}]
[2213403006,"22",134,{"v":3,"d":"03"},{"v":6,"d":"006"},"静岡県","南区(浜松市)","飯田村２－１南区（浜松市）","下飯田",null,"","",{"$f":"IF(K799=\"\",\"\",COUNTIF($K$7:K799,\"ﾘｽﾄ１\"))","v":""},"","","","","","","",{"$f":"IF(S799=\"\",\"\",COUNTIF($S$7:S799,\"該当２\"))","v":""},"","",{"$f":"IF(V799=\"\",\"\",COUNTIF($V$7:V799,\"該当３\"))","v":""}]
[2213403007,"22",134,{"v":3,"d":"03"},{"v":7,"d":"007"},"静岡県","南区(浜松市)","飯田村２－１南区（浜松市）","大塚",null,"","",{"$f":"IF(K800=\"\",\"\",COUNTIF($K$7:K800,\"ﾘｽﾄ１\"))","v":""},"","","","","","","",{"$f":"IF(S800=\"\",\"\",COUNTIF($S$7:S800,\"該当２\"))","v":""},"","",{"$f":"IF(V800=\"\",\"\",COUNTIF($V$7:V800,\"該当３\"))","v":""}]
[2213403008,"22",134,{"v":3,"d":"03"},{"v":8,"d":"008"},"静岡県","南区(浜松市)","飯田村２－１南区（浜松市）","新貝",null,"","",{"$f":"IF(K801=\"\",\"\",COUNTIF($K$7:K801,\"ﾘｽﾄ１\"))","v":""},"","","","","","","",{"$f":"IF(S801=\"\",\"\",COUNTIF($S$7:S801,\"該当２\"))","v":""},"","",{"$f":"IF(V801=\"\",\"\",COUNTIF($V$7:V801,\"該当３\"))","v":""}]
[2213403009,"22",134,{"v":3,"d":"03"},{"v":9,"d":"009"},"静岡県","南区(浜松市)","飯田村２－１南区（浜松市）","鶴見東",null,"","",{"$f":"IF(K802=\"\",\"\",COUNTIF($K$7:K802,\"ﾘｽﾄ１\"))","v":""},"","","","","","","",{"$f":"IF(S802=\"\",\"\",COUNTIF($S$7:S802,\"該当２\"))","v":""},"","",{"$f":"IF(V802=\"\",\"\",COUNTIF($V$7:V802,\"該当３\"))","v":""}]
[2213403010,"22",134,{"v":3,"d":"03"},{"v":10,"d":"010"},"静岡県","南区(浜松市)","飯田村２－１南区（浜松市）","鶴見西",null,"","",{"$f":"IF(K803=\"\",\"\",COUNTIF($K$7:K803,\"ﾘｽﾄ１\"))","v":""},"","","","","","","",{"$f":"IF(S803=\"\",\"\",COUNTIF($S$7:S803,\"該当２\"))","v":""},"","",{"$f":"IF(V803=\"\",\"\",COUNTIF($V$7:V803,\"該当３\"))","v":""}]
[2213403011,"22",134,{"v":3,"d":"03"},{"v":11,"d":"011"},"静岡県","南区(浜松市)","飯田村２－１南区（浜松市）","青屋",null,"","",{"$f":"IF(K804=\"\",\"\",COUNTIF($K$7:K804,\"ﾘｽﾄ１\"))","v":""},"","","","","","","",{"$f":"IF(S804=\"\",\"\",COUNTIF($S$7:S804,\"該当２\"))","v":""},"","",{"$f":"IF(V804=\"\",\"\",COUNTIF($V$7:V804,\"該当３\"))","v":""}]
[2213403012,"22",134,{"v":3,"d":"03"},{"v":12,"d":"012"},"静岡県","南区(浜松市)","飯田村２－１南区（浜松市）","小松方",null,"","",{"$f":"IF(K805=\"\",\"\",COUNTIF($K$7:K805,\"ﾘｽﾄ１\"))","v":""},"","","","","","","",{"$f":"IF(S805=\"\",\"\",COUNTIF($S$7:S805,\"該当２\"))","v":""},"","",{"$f":"IF(V805=\"\",\"\",COUNTIF($V$7:V805,\"該当３\"))","v":""}]
[2213403013,"22",134,{"v":3,"d":"03"},{"v":13,"d":"013"},"静岡県","南区(浜松市)","飯田村２－１南区（浜松市）","西之郷",null,"","",{"$f":"IF(K806=\"\",\"\",COUNTIF($K$7:K806,\"ﾘｽﾄ１\"))","v":""},"","","","","","","",{"$f":"IF(S806=\"\",\"\",COUNTIF($S$7:S806,\"該当２\"))","v":""},"","",{"$f":"IF(V806=\"\",\"\",COUNTIF($V$7:V806,\"該当３\"))","v":""}]
[2213403014,"22",134,{"v":3,"d":"03"},{"v":14,"d":"014"},"静岡県","南区(浜松市)","飯田村２－１南区（浜松市）","渡瀬",null,"","",{"$f":"IF(K807=\"\",\"\",COUNTIF($K$7:K807,\"ﾘｽﾄ１\"))","v":""},"","","","","","","",{"$f":"IF(S807=\"\",\"\",COUNTIF($S$7:S807,\"該当２\"))","v":""},"","",{"$f":"IF(V807=\"\",\"\",COUNTIF($V$7:V807,\"該当３\"))","v":""}]
[2213404000,"22",134,{"v":4,"d":"04"},{"v":0,"d":"000"},"静岡県","南区(浜松市)","河輪村",null,null,"","",{"$f":"IF(K808=\"\",\"\",COUNTIF($K$7:K808,\"ﾘｽﾄ１\"))","v":""},"","","","","","","",{"$f":"IF(S808=\"\",\"\",COUNTIF($S$7:S808,\"該当２\"))","v":""},"","",{"$f":"IF(V808=\"\",\"\",COUNTIF($V$7:V808,\"該当３\"))","v":""}]
[2213404001,"22",134,{"v":4,"d":"04"},{"v":1,"d":"001"},"静岡県","南区(浜松市)","河輪村","西町",null,"","",{"$f":"IF(K809=\"\",\"\",COUNTIF($K$7:K809,\"ﾘｽﾄ１\"))","v":""},"","","","","","","",{"$f":"IF(S809=\"\",\"\",COUNTIF($S$7:S809,\"該当２\"))","v":""},"","",{"$f":"IF(V809=\"\",\"\",COUNTIF($V$7:V809,\"該当３\"))","v":""}]
[2213404002,"22",134,{"v":4,"d":"04"},{"v":2,"d":"002"},"静岡県","南区(浜松市)","河輪村","東町",null,"","",{"$f":"IF(K810=\"\",\"\",COUNTIF($K$7:K810,\"ﾘｽﾄ１\"))","v":""},"","","","","","","",{"$f":"IF(S810=\"\",\"\",COUNTIF($S$7:S810,\"該当２\"))","v":""},"","",{"$f":"IF(V810=\"\",\"\",COUNTIF($V$7:V810,\"該当３\"))","v":""}]
[2213404003,"22",134,{"v":4,"d":"04"},{"v":3,"d":"003"},"静岡県","南区(浜松市)","河輪村","河輪町上",null,"","",{"$f":"IF(K811=\"\",\"\",COUNTIF($K$7:K811,\"ﾘｽﾄ１\"))","v":""},"","","","","","","",{"$f":"IF(S811=\"\",\"\",COUNTIF($S$7:S811,\"該当２\"))","v":""},"","",{"$f":"IF(V811=\"\",\"\",COUNTIF($V$7:V811,\"該当３\"))","v":""}]
[2213404004,"22",134,{"v":4,"d":"04"},{"v":4,"d":"004"},"静岡県","南区(浜松市)","河輪村","河輪町下",null,"","",{"$f":"IF(K812=\"\",\"\",COUNTIF($K$7:K812,\"ﾘｽﾄ１\"))","v":""},"","","","","","","",{"$f":"IF(S812=\"\",\"\",COUNTIF($S$7:S812,\"該当２\"))","v":""},"","",{"$f":"IF(V812=\"\",\"\",COUNTIF($V$7:V812,\"該当３\"))","v":""}]
[2213404005,"22",134,{"v":4,"d":"04"},{"v":5,"d":"005"},"静岡県","南区(浜松市)","河輪村","三新町",null,"","",{"$f":"IF(K813=\"\",\"\",COUNTIF($K$7:K813,\"ﾘｽﾄ１\"))","v":""},"","","","","","","",{"$f":"IF(S813=\"\",\"\",COUNTIF($S$7:S813,\"該当２\"))","v":""},"","",{"$f":"IF(V813=\"\",\"\",COUNTIF($V$7:V813,\"該当３\"))","v":""}]
[2213404006,"22",134,{"v":4,"d":"04"},{"v":6,"d":"006"},"静岡県","南区(浜松市)","河輪村","中町",null,"","",{"$f":"IF(K814=\"\",\"\",COUNTIF($K$7:K814,\"ﾘｽﾄ１\"))","v":""},"","","","","","","",{"$f":"IF(S814=\"\",\"\",COUNTIF($S$7:S814,\"該当２\"))","v":""},"","",{"$f":"IF(V814=\"\",\"\",COUNTIF($V$7:V814,\"該当３\"))","v":""}]
[2213404007,"22",134,{"v":4,"d":"04"},{"v":7,"d":"007"},"静岡県","南区(浜松市)","河輪村","長田町",null,"","",{"$f":"IF(K815=\"\",\"\",COUNTIF($K$7:K815,\"ﾘｽﾄ１\"))","v":""},"","","","","","","",{"$f":"IF(S815=\"\",\"\",COUNTIF($S$7:S815,\"該当２\"))","v":""},"","",{"$f":"IF(V815=\"\",\"\",COUNTIF($V$7:V815,\"該当３\"))","v":""}]
[2213404008,"22",134,{"v":4,"d":"04"},{"v":8,"d":"008"},"静岡県","南区(浜松市)","河輪村","富屋町",null,"","",{"$f":"IF(K816=\"\",\"\",COUNTIF($K$7:K816,\"ﾘｽﾄ１\"))","v":""},"","","","","","","",{"$f":"IF(S816=\"\",\"\",COUNTIF($S$7:S816,\"該当２\"))","v":""},"","",{"$f":"IF(V816=\"\",\"\",COUNTIF($V$7:V816,\"該当３\"))","v":""}]
[2213405000,"22",134,{"v":5,"d":"05"},{"v":0,"d":"000"},"静岡県","南区(浜松市)","五島村",null,null,"","",{"$f":"IF(K817=\"\",\"\",COUNTIF($K$7:K817,\"ﾘｽﾄ１\"))","v":""},"","","","","","","",{"$f":"IF(S817=\"\",\"\",COUNTIF($S$7:S817,\"該当２\"))","v":""},"","",{"$f":"IF(V817=\"\",\"\",COUNTIF($V$7:V817,\"該当３\"))","v":""}]
[2213405001,"22",134,{"v":5,"d":"05"},{"v":1,"d":"001"},"静岡県","南区(浜松市)","五島村","鶴島",null,"","",{"$f":"IF(K818=\"\",\"\",COUNTIF($K$7:K818,\"ﾘｽﾄ１\"))","v":""},"","","","","","","",{"$f":"IF(S818=\"\",\"\",COUNTIF($S$7:S818,\"該当２\"))","v":""},"","",{"$f":"IF(V818=\"\",\"\",COUNTIF($V$7:V818,\"該当３\"))","v":""}]
[2213405002,"22",134,{"v":5,"d":"05"},{"v":2,"d":"002"},"静岡県","南区(浜松市)","五島村","松島上",null,"","",{"$f":"IF(K819=\"\",\"\",COUNTIF($K$7:K819,\"ﾘｽﾄ１\"))","v":""},"","","","","","","",{"$f":"IF(S819=\"\",\"\",COUNTIF($S$7:S819,\"該当２\"))","v":""},"","",{"$f":"IF(V819=\"\",\"\",COUNTIF($V$7:V819,\"該当３\"))","v":""}]
[2213405003,"22",134,{"v":5,"d":"05"},{"v":3,"d":"003"},"静岡県","南区(浜松市)","五島村","松島下",null,"","",{"$f":"IF(K820=\"\",\"\",COUNTIF($K$7:K820,\"ﾘｽﾄ１\"))","v":""},"","","","","","","",{"$f":"IF(S820=\"\",\"\",COUNTIF($S$7:S820,\"該当２\"))","v":""},"","",{"$f":"IF(V820=\"\",\"\",COUNTIF($V$7:V820,\"該当３\"))","v":""}]
[2213405004,"22",134,{"v":5,"d":"05"},{"v":4,"d":"004"},"静岡県","南区(浜松市)","五島村","三軒屋",null,"","",{"$f":"IF(K821=\"\",\"\",COUNTIF($K$7:K821,\"ﾘｽﾄ１\"))","v":""},"","","","","","","",{"$f":"IF(S821=\"\",\"\",COUNTIF($S$7:S821,\"該当２\"))","v":""},"","",{"$f":"IF(V821=\"\",\"\",COUNTIF($V$7:V821,\"該当３\"))","v":""}]
[2213405005,"22",134,{"v":5,"d":"05"},{"v":5,"d":"005"},"静岡県","南区(浜松市)","五島村","外野",null,"","",{"$f":"IF(K822=\"\",\"\",COUNTIF($K$7:K822,\"ﾘｽﾄ１\"))","v":""},"","","","","","","",{"$f":"IF(S822=\"\",\"\",COUNTIF($S$7:S822,\"該当２\"))","v":""},"","",{"$f":"IF(V822=\"\",\"\",COUNTIF($V$7:V822,\"該当３\"))","v":""}]
[2213405006,"22",134,{"v":5,"d":"05"},{"v":6,"d":"006"},"静岡県","南区(浜松市)","五島村","浜田",null,"","",{"$f":"IF(K823=\"\",\"\",COUNTIF($K$7:K823,\"ﾘｽﾄ１\"))","v":""},"","","","","","","",{"$f":"IF(S823=\"\",\"\",COUNTIF($S$7:S823,\"該当２\"))","v":""},"","",{"$f":"IF(V823=\"\",\"\",COUNTIF($V$7:V823,\"該当３\"))","v":""}]
[2213405007,"22",134,{"v":5,"d":"05"},{"v":7,"d":"007"},"静岡県","南区(浜松市)","五島村","福島東",null,"","",{"$f":"IF(K824=\"\",\"\",COUNTIF($K$7:K824,\"ﾘｽﾄ１\"))","v":""},"","","","","","","",{"$f":"IF(S824=\"\",\"\",COUNTIF($S$7:S824,\"該当２\"))","v":""},"","",{"$f":"IF(V824=\"\",\"\",COUNTIF($V$7:V824,\"該当３\"))","v":""}]
[2213405008,"22",134,{"v":5,"d":"05"},{"v":8,"d":"008"},"静岡県","南区(浜松市)","五島村","福島西",null,"","",{"$f":"IF(K825=\"\",\"\",COUNTIF($K$7:K825,\"ﾘｽﾄ１\"))","v":""},"","","","","","","",{"$f":"IF(S825=\"\",\"\",COUNTIF($S$7:S825,\"該当２\"))","v":""},"","",{"$f":"IF(V825=\"\",\"\",COUNTIF($V$7:V825,\"該当３\"))","v":""}]
[2213405009,"22",134,{"v":5,"d":"05"},{"v":9,"d":"009"},"静岡県","南区(浜松市)","五島村","江之島東",null,"","",{"$f":"IF(K826=\"\",\"\",COUNTIF($K$7:K826,\"ﾘｽﾄ１\"))","v":""},"","","","","","","",{"$f":"IF(S826=\"\",\"\",COUNTIF($S$7:S826,\"該当２\"))","v":""},"","",{"$f":"IF(V826=\"\",\"\",COUNTIF($V$7:V826,\"該当３\"))","v":""}]
[2213405010,"22",134,{"v":5,"d":"05"},{"v":10,"d":"010"},"静岡県","南区(浜松市)","五島村","四軒屋",null,"","",{"$f":"IF(K827=\"\",\"\",COUNTIF($K$7:K827,\"ﾘｽﾄ１\"))","v":""},"","","","","","","",{"$f":"IF(S827=\"\",\"\",COUNTIF($S$7:S827,\"該当２\"))","v":""},"","",{"$f":"IF(V827=\"\",\"\",COUNTIF($V$7:V827,\"該当３\"))","v":""}]
[2213405011,"22",134,{"v":5,"d":"05"},{"v":11,"d":"011"},"静岡県","南区(浜松市)","五島村","江之島中",null,"","",{"$f":"IF(K828=\"\",\"\",COUNTIF($K$7:K828,\"ﾘｽﾄ１\"))","v":""},"","","","","","","",{"$f":"IF(S828=\"\",\"\",COUNTIF($S$7:S828,\"該当２\"))","v":""},"","",{"$f":"IF(V828=\"\",\"\",COUNTIF($V$7:V828,\"該当３\"))","v":""}]
[2213405012,"22",134,{"v":5,"d":"05"},{"v":12,"d":"012"},"静岡県","南区(浜松市)","五島村","江之島西",null,"","",{"$f":"IF(K829=\"\",\"\",COUNTIF($K$7:K829,\"ﾘｽﾄ１\"))","v":""},"","","","","","","",{"$f":"IF(S829=\"\",\"\",COUNTIF($S$7:S829,\"該当２\"))","v":""},"","",{"$f":"IF(V829=\"\",\"\",COUNTIF($V$7:V829,\"該当３\"))","v":""}]
[2213405013,"22",134,{"v":5,"d":"05"},{"v":13,"d":"013"},"静岡県","南区(浜松市)","五島村","西島平左エ門",null,"","",{"$f":"IF(K830=\"\",\"\",COUNTIF($K$7:K830,\"ﾘｽﾄ１\"))","v":""},"","","","","","","",{"$f":"IF(S830=\"\",\"\",COUNTIF($S$7:S830,\"該当２\"))","v":""},"","",{"$f":"IF(V830=\"\",\"\",COUNTIF($V$7:V830,\"該当３\"))","v":""}]
[2213405014,"22",134,{"v":5,"d":"05"},{"v":14,"d":"014"},"静岡県","南区(浜松市)","五島村","西島東",null,"","",{"$f":"IF(K831=\"\",\"\",COUNTIF($K$7:K831,\"ﾘｽﾄ１\"))","v":""},"","","","","","","",{"$f":"IF(S831=\"\",\"\",COUNTIF($S$7:S831,\"該当２\"))","v":""},"","",{"$f":"IF(V831=\"\",\"\",COUNTIF($V$7:V831,\"該当３\"))","v":""}]
[2213405015,"22",134,{"v":5,"d":"05"},{"v":15,"d":"015"},"静岡県","南区(浜松市)","五島村","西島南",null,"","",{"$f":"IF(K832=\"\",\"\",COUNTIF($K$7:K832,\"ﾘｽﾄ１\"))","v":""},"","","","","","","",{"$f":"IF(S832=\"\",\"\",COUNTIF($S$7:S832,\"該当２\"))","v":""},"","",{"$f":"IF(V832=\"\",\"\",COUNTIF($V$7:V832,\"該当３\"))","v":""}]
[2213405016,"22",134,{"v":5,"d":"05"},{"v":16,"d":"016"},"静岡県","南区(浜松市)","五島村","西島北",null,"","",{"$f":"IF(K833=\"\",\"\",COUNTIF($K$7:K833,\"ﾘｽﾄ１\"))","v":""},"","","","","","","",{"$f":"IF(S833=\"\",\"\",COUNTIF($S$7:S833,\"該当２\"))","v":""},"","",{"$f":"IF(V833=\"\",\"\",COUNTIF($V$7:V833,\"該当３\"))","v":""}]
[2213405017,"22",134,{"v":5,"d":"05"},{"v":17,"d":"017"},"静岡県","南区(浜松市)","五島村","西島四軒屋",null,"","",{"$f":"IF(K834=\"\",\"\",COUNTIF($K$7:K834,\"ﾘｽﾄ１\"))","v":""},"","","","","","","",{"$f":"IF(S834=\"\",\"\",COUNTIF($S$7:S834,\"該当２\"))","v":""},"","",{"$f":"IF(V834=\"\",\"\",COUNTIF($V$7:V834,\"該当３\"))","v":""}]
[2213405018,"22",134,{"v":5,"d":"05"},{"v":18,"d":"018"},"静岡県","南区(浜松市)","五島村","西島本田",null,"","",{"$f":"IF(K835=\"\",\"\",COUNTIF($K$7:K835,\"ﾘｽﾄ１\"))","v":""},"","","","","","","",{"$f":"IF(S835=\"\",\"\",COUNTIF($S$7:S835,\"該当２\"))","v":""},"","",{"$f":"IF(V835=\"\",\"\",COUNTIF($V$7:V835,\"該当３\"))","v":""}]
[2213406000,"22",134,{"v":6,"d":"06"},{"v":0,"d":"000"},"静岡県","南区(浜松市)","新津村２－２",null,null,"","",{"$f":"IF(K836=\"\",\"\",COUNTIF($K$7:K836,\"ﾘｽﾄ１\"))","v":""},"","","","","","","",{"$f":"IF(S836=\"\",\"\",COUNTIF($S$7:S836,\"該当２\"))","v":""},"","",{"$f":"IF(V836=\"\",\"\",COUNTIF($V$7:V836,\"該当３\"))","v":""}]
[2213406002,"22",134,{"v":6,"d":"06"},{"v":2,"d":"002"},"静岡県","南区(浜松市)","新津村２－２","法枝",null,"","",{"$f":"IF(K837=\"\",\"\",COUNTIF($K$7:K837,\"ﾘｽﾄ１\"))","v":""},"","","","","","","",{"$f":"IF(S837=\"\",\"\",COUNTIF($S$7:S837,\"該当２\"))","v":""},"","",{"$f":"IF(V837=\"\",\"\",COUNTIF($V$7:V837,\"該当３\"))","v":""}]
[2213406003,"22",134,{"v":6,"d":"06"},{"v":3,"d":"003"},"静岡県","南区(浜松市)","新津村２－２","新橋",null,"","",{"$f":"IF(K838=\"\",\"\",COUNTIF($K$7:K838,\"ﾘｽﾄ１\"))","v":""},"","","","","","","",{"$f":"IF(S838=\"\",\"\",COUNTIF($S$7:S838,\"該当２\"))","v":""},"","",{"$f":"IF(V838=\"\",\"\",COUNTIF($V$7:V838,\"該当３\"))","v":""}]
[2213406004,"22",134,{"v":6,"d":"06"},{"v":4,"d":"004"},"静岡県","南区(浜松市)","新津村２－２","小沢渡",null,"","",{"$f":"IF(K839=\"\",\"\",COUNTIF($K$7:K839,\"ﾘｽﾄ１\"))","v":""},"","","","","","","",{"$f":"IF(S839=\"\",\"\",COUNTIF($S$7:S839,\"該当２\"))","v":""},"","",{"$f":"IF(V839=\"\",\"\",COUNTIF($V$7:V839,\"該当３\"))","v":""}]
[2213406005,"22",134,{"v":6,"d":"06"},{"v":5,"d":"005"},"静岡県","南区(浜松市)","新津村２－２","倉松",null,"","",{"$f":"IF(K840=\"\",\"\",COUNTIF($K$7:K840,\"ﾘｽﾄ１\"))","v":""},"","","","","","","",{"$f":"IF(S840=\"\",\"\",COUNTIF($S$7:S840,\"該当２\"))","v":""},"","",{"$f":"IF(V840=\"\",\"\",COUNTIF($V$7:V840,\"該当３\"))","v":""}]
[2213406006,"22",134,{"v":6,"d":"06"},{"v":6,"d":"006"},"静岡県","南区(浜松市)","新津村２－２","堤",null,"","",{"$f":"IF(K841=\"\",\"\",COUNTIF($K$7:K841,\"ﾘｽﾄ１\"))","v":""},"","","","","","","",{"$f":"IF(S841=\"\",\"\",COUNTIF($S$7:S841,\"該当２\"))","v":""},"","",{"$f":"IF(V841=\"\",\"\",COUNTIF($V$7:V841,\"該当３\"))","v":""}]
[2213406007,"22",134,{"v":6,"d":"06"},{"v":7,"d":"007"},"静岡県","南区(浜松市)","新津村２－２","米津",null,"","",{"$f":"IF(K842=\"\",\"\",COUNTIF($K$7:K842,\"ﾘｽﾄ１\"))","v":""},"","",{"$f":"IF(O842=\"該当１\",G842,\"\")","v":""},{"$f":"IF(O842=\"該当１\",\"ﾘｽﾄ2\",\"\")","v":""},{"$f":"IF(Q842=\"ﾘｽﾄ2\",H842,\"\")","v":""},"",{"$f":"IF(S842=\"該当２\",H842,\"\")","v":""},{"$f":"IF(S842=\"\",\"\",COUNTIF($S$7:S842,\"該当２\"))","v":""},{"$f":"IF(AND($S$2=H842,E842>0,E842<998),\"該当３\",\"\")","v":""},{"$f":"IF(V842=\"該当３\",I842,\"\")","v":""},{"$f":"IF(V842=\"\",\"\",COUNTIF($V$7:V842,\"該当３\"))","v":""}]
[2213406009,"22",134,{"v":6,"d":"06"},{"v":9,"d":"009"},"静岡県","南区(浜松市)","新津村２－２","田尻2-2",null,{"$f":"IF(AND($C843>0,$H843=\"\"),\"ﾘｽﾄ１\",\"\")","v":""},{"$f":"IF(K843=\"ﾘｽﾄ１\",G843,\"\")","v":""},{"$f":"IF(K843=\"\",\"\",COUNTIF($K$7:K843,\"ﾘｽﾄ１\"))","v":""},{"$f":"IF(AND(D843=0,E843>0),\"同一区\",\"\")","v":""},{"$f":"IF(AND(EXACT($K$2,G843),H843>0),\"該当１\",\"\")","v":""},"","","",{"$f":"IF(AND(Q843=\"ﾘｽﾄ2\",OR(I843=0,AND(N843=\"同一区\",E843=1))),\"該当２\",\"\")","v":""},"",{"$f":"IF(S843=\"\",\"\",COUNTIF($S$7:S843,\"該当２\"))","v":""},"","",{"$f":"IF(V843=\"\",\"\",COUNTIF($V$7:V843,\"該当３\"))","v":""}]
[2213407000,"22",134,{"v":7,"d":"07"},{"v":0,"d":"000"},"静岡県","南区(浜松市)","可美村",null,null,"","",{"$f":"IF(K844=\"\",\"\",COUNTIF($K$7:K844,\"ﾘｽﾄ１\"))","v":""},"","","","","","","",{"$f":"IF(S844=\"\",\"\",COUNTIF($S$7:S844,\"該当２\"))","v":""},"","",{"$f":"IF(V844=\"\",\"\",COUNTIF($V$7:V844,\"該当３\"))","v":""}]
[2213407001,"22",134,{"v":7,"d":"07"},{"v":1,"d":"001"},"静岡県","南区(浜松市)","可美村","高塚西",null,"","",{"$f":"IF(K845=\"\",\"\",COUNTIF($K$7:K845,\"ﾘｽﾄ１\"))","v":""},"","","","","","","",{"$f":"IF(S845=\"\",\"\",COUNTIF($S$7:S845,\"該当２\"))","v":""},"","",{"$f":"IF(V845=\"\",\"\",COUNTIF($V$7:V845,\"該当３\"))","v":""}]
[2213407002,"22",134,{"v":7,"d":"07"},{"v":2,"d":"002"},"静岡県","南区(浜松市)","可美村","高塚中",null,"","",{"$f":"IF(K846=\"\",\"\",COUNTIF($K$7:K846,\"ﾘｽﾄ１\"))","v":""},"","","","","","","",{"$f":"IF(S846=\"\",\"\",COUNTIF($S$7:S846,\"該当２\"))","v":""},"","",{"$f":"IF(V846=\"\",\"\",COUNTIF($V$7:V846,\"該当３\"))","v":""}]
[2213407003,"22",134,{"v":7,"d":"07"},{"v":3,"d":"003"},"静岡県","南区(浜松市)","可美村","高塚東",null,"","",{"$f":"IF(K847=\"\",\"\",COUNTIF($K$7:K847,\"ﾘｽﾄ１\"))","v":""},"","","","","","","",{"$f":"IF(S847=\"\",\"\",COUNTIF($S$7:S847,\"該当２\"))","v":""},"","",{"$f":"IF(V847=\"\",\"\",COUNTIF($V$7:V847,\"該当３\"))","v":""}]
[2213407004,"22",134,{"v":7,"d":"07"},{"v":4,"d":"004"},"静岡県","南区(浜松市)","可美村","増楽",null,"","",{"$f":"IF(K848=\"\",\"\",COUNTIF($K$7:K848,\"ﾘｽﾄ１\"))","v":""},"","","","","","","",{"$f":"IF(S848=\"\",\"\",COUNTIF($S$7:S848,\"該当２\"))","v":""},"","",{"$f":"IF(V848=\"\",\"\",COUNTIF($V$7:V848,\"該当３\"))","v":""}]
[2213407005,"22",134,{"v":7,"d":"07"},{"v":5,"d":"005"},"静岡県","南区(浜松市)","可美村","若林西",null,"","",{"$f":"IF(K849=\"\",\"\",COUNTIF($K$7:K849,\"ﾘｽﾄ１\"))","v":""},"","","","","","","",{"$f":"IF(S849=\"\",\"\",COUNTIF($S$7:S849,\"該当２\"))","v":""},"","",{"$f":"IF(V849=\"\",\"\",COUNTIF($V$7:V849,\"該当３\"))","v":""}]
[2213407006,"22",134,{"v":7,"d":"07"},{"v":6,"d":"006"},"静岡県","南区(浜松市)","可美村","若林東",null,"","",{"$f":"IF(K850=\"\",\"\",COUNTIF($K$7:K850,\"ﾘｽﾄ１\"))","v":""},"","","","","","","",{"$f":"IF(S850=\"\",\"\",COUNTIF($S$7:S850,\"該当２\"))","v":""},"","",{"$f":"IF(V850=\"\",\"\",COUNTIF($V$7:V850,\"該当３\"))","v":""}]
[2213407007,"22",134,{"v":7,"d":"07"},{"v":7,"d":"007"},"静岡県","南区(浜松市)","可美村","東若林",null,"","",{"$f":"IF(K851=\"\",\"\",COUNTIF($K$7:K851,\"ﾘｽﾄ１\"))","v":""},"","","","","","","",{"$f":"IF(S851=\"\",\"\",COUNTIF($S$7:S851,\"該当２\"))","v":""},"","",{"$f":"IF(V851=\"\",\"\",COUNTIF($V$7:V851,\"該当３\"))","v":""}]
[2213500000,"22",135,{"v":0,"d":"00"},{"v":0,"d":"000"},"静岡県","北区(浜松市)",{"$nulls":3},"ﾘｽﾄ１","北区(浜松市)",{"$f":"IF(K852=\"\",\"\",COUNTIF($K$7:K852,\"ﾘｽﾄ１\"))","v":10},"","","","","","","",{"$f":"IF(S852=\"\",\"\",COUNTIF($S$7:S852,\"該当２\"))","v":""},"","",{"$f":"IF(V852=\"\",\"\",COUNTIF($V$7:V852,\"該当３\"))","v":""}]
[2213501000,"22",135,{"v":1,"d":"01"},{"v":0,"d":"000"},"静岡県","北区(浜松市)","三方原村２－２",null,null,"","",{"$f":"IF(K853=\"\",\"\",COUNTIF($K$7:K853,\"ﾘｽﾄ１\"))","v":""},"","","","","","","",{"$f":"IF(S853=\"\",\"\",COUNTIF($S$7:S853,\"該当２\"))","v":""},"","",{"$f":"IF(V853=\"\",\"\",COUNTIF($V$7:V853,\"該当３\"))","v":""}]
[2213501001,"22",135,{"v":1,"d":"01"},{"v":1,"d":"001"},"静岡県","北区(浜松市)","三方原村２－２","一区南",null,"","",{"$f":"IF(K854=\"\",\"\",COUNTIF($K$7:K854,\"ﾘｽﾄ１\"))","v":""},"","","","","","","",{"$f":"IF(S854=\"\",\"\",COUNTIF($S$7:S854,\"該当２\"))","v":""},"","",{"$f":"IF(V854=\"\",\"\",COUNTIF($V$7:V854,\"該当３\"))","v":""}]
[2213501002,"22",135,{"v":1,"d":"01"},{"v":2,"d":"002"},"静岡県","北区(浜松市)","三方原村２－２","一区北２－２",null,"","",{"$f":"IF(K855=\"\",\"\",COUNTIF($K$7:K855,\"ﾘｽﾄ１\"))","v":""},"","","","","","","",{"$f":"IF(S855=\"\",\"\",COUNTIF($S$7:S855,\"該当２\"))","v":""},"","",{"$f":"IF(V855=\"\",\"\",COUNTIF($V$7:V855,\"該当３\"))","v":""}]
[2213501003,"22",135,{"v":1,"d":"01"},{"v":3,"d":"003"},"静岡県","北区(浜松市)","三方原村２－２","二区",null,"","",{"$f":"IF(K856=\"\",\"\",COUNTIF($K$7:K856,\"ﾘｽﾄ１\"))","v":""},"","","","","","","",{"$f":"IF(S856=\"\",\"\",COUNTIF($S$7:S856,\"該当２\"))","v":""},"","",{"$f":"IF(V856=\"\",\"\",COUNTIF($V$7:V856,\"該当３\"))","v":""}]
[2213501004,"22",135,{"v":1,"d":"01"},{"v":4,"d":"004"},"静岡県","北区(浜松市)","三方原村２－２","三区",null,"","",{"$f":"IF(K857=\"\",\"\",COUNTIF($K$7:K857,\"ﾘｽﾄ１\"))","v":""},"","","","","","","",{"$f":"IF(S857=\"\",\"\",COUNTIF($S$7:S857,\"該当２\"))","v":""},"","",{"$f":"IF(V857=\"\",\"\",COUNTIF($V$7:V857,\"該当３\"))","v":""}]
[2213501005,"22",135,{"v":1,"d":"01"},{"v":5,"d":"005"},"静岡県","北区(浜松市)","三方原村２－２","四区南",null,"","",{"$f":"IF(K858=\"\",\"\",COUNTIF($K$7:K858,\"ﾘｽﾄ１\"))","v":""},"","","","","","","",{"$f":"IF(S858=\"\",\"\",COUNTIF($S$7:S858,\"該当２\"))","v":""},"","",{"$f":"IF(V858=\"\",\"\",COUNTIF($V$7:V858,\"該当３\"))","v":""}]
[2213501006,"22",135,{"v":1,"d":"01"},{"v":6,"d":"006"},"静岡県","北区(浜松市)","三方原村２－２","四区中",null,"","",{"$f":"IF(K859=\"\",\"\",COUNTIF($K$7:K859,\"ﾘｽﾄ１\"))","v":""},"","","","","","","",{"$f":"IF(S859=\"\",\"\",COUNTIF($S$7:S859,\"該当２\"))","v":""},"","",{"$f":"IF(V859=\"\",\"\",COUNTIF($V$7:V859,\"該当３\"))","v":""}]
[2213501007,"22",135,{"v":1,"d":"01"},{"v":7,"d":"007"},"静岡県","北区(浜松市)","三方原村２－２","四区北",null,"","",{"$f":"IF(K860=\"\",\"\",COUNTIF($K$7:K860,\"ﾘｽﾄ１\"))","v":""},"","","","","","","",{"$f":"IF(S860=\"\",\"\",COUNTIF($S$7:S860,\"該当２\"))","v":""},"","",{"$f":"IF(V860=\"\",\"\",COUNTIF($V$7:V860,\"該当３\"))","v":""}]
[2213501008,"22",135,{"v":1,"d":"01"},{"v":8,"d":"008"},"静岡県","北区(浜松市)","三方原村２－２","五区",null,"","",{"$f":"IF(K861=\"\",\"\",COUNTIF($K$7:K861,\"ﾘｽﾄ１\"))","v":""},"","","","","","","",{"$f":"IF(S861=\"\",\"\",COUNTIF($S$7:S861,\"該当２\"))","v":""},"","",{"$f":"IF(V861=\"\",\"\",COUNTIF($V$7:V861,\"該当３\"))","v":""}]
[2213501009,"22",135,{"v":1,"d":"01"},{"v":9,"d":"009"},"静岡県","北区(浜松市)","三方原村２－２","東根洗",null,"","",{"$f":"IF(K862=\"\",\"\",COUNTIF($K$7:K862,\"ﾘｽﾄ１\"))","v":""},"","","","","","","",{"$f":"IF(S862=\"\",\"\",COUNTIF($S$7:S862,\"該当２\"))","v":""},"","",{"$f":"IF(V862=\"\",\"\",COUNTIF($V$7:V862,\"該当３\"))","v":""}]
[2213501010,"22",135,{"v":1,"d":"01"},{"v":10,"d":"010"},"静岡県","北区(浜松市)","三方原村２－２","東曳馬野２－２",null,"","",{"$f":"IF(K863=\"\",\"\",COUNTIF($K$7:K863,\"ﾘｽﾄ１\"))","v":""},"","","","","","","",{"$f":"IF(S863=\"\",\"\",COUNTIF($S$7:S863,\"該当２\"))","v":""},"","",{"$f":"IF(V863=\"\",\"\",COUNTIF($V$7:V863,\"該当３\"))","v":""}]
[2213501011,"22",135,{"v":1,"d":"01"},{"v":11,"d":"011"},"静岡県","北区(浜松市)","三方原村２－２","共栄",null,"","",{"$f":"IF(K864=\"\",\"\",COUNTIF($K$7:K864,\"ﾘｽﾄ１\"))","v":""},"","","","","","","",{"$f":"IF(S864=\"\",\"\",COUNTIF($S$7:S864,\"該当２\"))","v":""},"","",{"$f":"IF(V864=\"\",\"\",COUNTIF($V$7:V864,\"該当３\"))","v":""}]
[2213501012,"22",135,{"v":1,"d":"01"},{"v":12,"d":"012"},"静岡県","北区(浜松市)","三方原村２－２","愛隣",null,"","",{"$f":"IF(K865=\"\",\"\",COUNTIF($K$7:K865,\"ﾘｽﾄ１\"))","v":""},"","","","","","","",{"$f":"IF(S865=\"\",\"\",COUNTIF($S$7:S865,\"該当２\"))","v":""},"","",{"$f":"IF(V865=\"\",\"\",COUNTIF($V$7:V865,\"該当３\"))","v":""}]
[2213501013,"22",135,{"v":1,"d":"01"},{"v":13,"d":"013"},"静岡県","北区(浜松市)","三方原村２－２","赤松",null,"","",{"$f":"IF(K866=\"\",\"\",COUNTIF($K$7:K866,\"ﾘｽﾄ１\"))","v":""},"","","","","","","",{"$f":"IF(S866=\"\",\"\",COUNTIF($S$7:S866,\"該当２\"))","v":""},"","",{"$f":"IF(V866=\"\",\"\",COUNTIF($V$7:V866,\"該当３\"))","v":""}]
[2213501014,"22",135,{"v":1,"d":"01"},{"v":14,"d":"014"},"静岡県","北区(浜松市)","三方原村２－２","豊岡",null,"","",{"$f":"IF(K867=\"\",\"\",COUNTIF($K$7:K867,\"ﾘｽﾄ１\"))","v":""},"","","","","","","",{"$f":"IF(S867=\"\",\"\",COUNTIF($S$7:S867,\"該当２\"))","v":""},"","",{"$f":"IF(V867=\"\",\"\",COUNTIF($V$7:V867,\"該当３\"))","v":""}]
[2213501015,"22",135,{"v":1,"d":"01"},{"v":15,"d":"015"},"静岡県","北区(浜松市)","三方原村２－２","新生",null,"","",{"$f":"IF(K868=\"\",\"\",COUNTIF($K$7:K868,\"ﾘｽﾄ１\"))","v":""},"","","","","","","",{"$f":"IF(S868=\"\",\"\",COUNTIF($S$7:S868,\"該当２\"))","v":""},"","",{"$f":"IF(V868=\"\",\"\",COUNTIF($V$7:V868,\"該当３\"))","v":""}]
[2213501016,"22",135,{"v":1,"d":"01"},{"v":16,"d":"016"},"静岡県","北区(浜松市)","三方原村２－２","豊岡組合",null,"","",{"$f":"IF(K869=\"\",\"\",COUNTIF($K$7:K869,\"ﾘｽﾄ１\"))","v":""},"","","","","","","",{"$f":"IF(S869=\"\",\"\",COUNTIF($S$7:S869,\"該当２\"))","v":""},"","",{"$f":"IF(V869=\"\",\"\",COUNTIF($V$7:V869,\"該当３\"))","v":""}]
[2213501017,"22",135,{"v":1,"d":"01"},{"v":17,"d":"017"},"静岡県","北区(浜松市)","三方原村２－２","中之平",null,"","",{"$f":"IF(K870=\"\",\"\",COUNTIF($K$7:K870,\"ﾘｽﾄ１\"))","v":""},"","","","","","","",{"$f":"IF(S870=\"\",\"\",COUNTIF($S$7:S870,\"該当２\"))","v":""},"","",{"$f":"IF(V870=\"\",\"\",COUNTIF($V$7:V870,\"該当３\"))","v":""}]
[2213501018,"22",135,{"v":1,"d":"01"},{"v":18,"d":"018"},"静岡県","北区(浜松市)","三方原村２－２","瑞穂",null,"","",{"$f":"IF(K871=\"\",\"\",COUNTIF($K$7:K871,\"ﾘｽﾄ１\"))","v":""},"","","","","","","",{"$f":"IF(S871=\"\",\"\",COUNTIF($S$7:S871,\"該当２\"))","v":""},"","",{"$f":"IF(V871=\"\",\"\",COUNTIF($V$7:V871,\"該当３\"))","v":""}]
[2213501019,"22",135,{"v":1,"d":"01"},{"v":19,"d":"019"},"静岡県","北区(浜松市)","三方原村２－２","平手塚，千代田",null,"","",{"$f":"IF(K872=\"\",\"\",COUNTIF($K$7:K872,\"ﾘｽﾄ１\"))","v":""},"","","","","","","",{"$f":"IF(S872=\"\",\"\",COUNTIF($S$7:S872,\"該当２\"))","v":""},"","",{"$f":"IF(V872=\"\",\"\",COUNTIF($V$7:V872,\"該当３\"))","v":""}]
[2213501020,"22",135,{"v":1,"d":"01"},{"v":20,"d":"020"},"静岡県","北区(浜松市)","三方原村２－２","大原町南",null,"","",{"$f":"IF(K873=\"\",\"\",COUNTIF($K$7:K873,\"ﾘｽﾄ１\"))","v":""},"","","","","","","",{"$f":"IF(S873=\"\",\"\",COUNTIF($S$7:S873,\"該当２\"))","v":""},"","",{"$f":"IF(V873=\"\",\"\",COUNTIF($V$7:V873,\"該当３\"))","v":""}]
[2213501021,"22",135,{"v":1,"d":"01"},{"v":21,"d":"021"},"静岡県","北区(浜松市)","三方原村２－２","大原町北",null,"","",{"$f":"IF(K874=\"\",\"\",COUNTIF($K$7:K874,\"ﾘｽﾄ１\"))","v":""},"","","","","","","",{"$f":"IF(S874=\"\",\"\",COUNTIF($S$7:S874,\"該当２\"))","v":""},"","",{"$f":"IF(V874=\"\",\"\",COUNTIF($V$7:V874,\"該当３\"))","v":""}]
[2213502000,"22",135,{"v":2,"d":"02"},{"v":0,"d":"000"},"静岡県","北区(浜松市)","都田村",null,null,"","",{"$f":"IF(K875=\"\",\"\",COUNTIF($K$7:K875,\"ﾘｽﾄ１\"))","v":""},"","","","","","","",{"$f":"IF(S875=\"\",\"\",COUNTIF($S$7:S875,\"該当２\"))","v":""},"","",{"$f":"IF(V875=\"\",\"\",COUNTIF($V$7:V875,\"該当３\"))","v":""}]
[2213502001,"22",135,{"v":2,"d":"02"},{"v":1,"d":"001"},"静岡県","北区(浜松市)","都田村","吉影",null,"","",{"$f":"IF(K876=\"\",\"\",COUNTIF($K$7:K876,\"ﾘｽﾄ１\"))","v":""},"","","","","","","",{"$f":"IF(S876=\"\",\"\",COUNTIF($S$7:S876,\"該当２\"))","v":""},"","",{"$f":"IF(V876=\"\",\"\",COUNTIF($V$7:V876,\"該当３\"))","v":""}]
[2213502002,"22",135,{"v":2,"d":"02"},{"v":2,"d":"002"},"静岡県","北区(浜松市)","都田村","中野",null,"","",{"$f":"IF(K877=\"\",\"\",COUNTIF($K$7:K877,\"ﾘｽﾄ１\"))","v":""},"","","","","","","",{"$f":"IF(S877=\"\",\"\",COUNTIF($S$7:S877,\"該当２\"))","v":""},"","",{"$f":"IF(V877=\"\",\"\",COUNTIF($V$7:V877,\"該当３\"))","v":""}]
[2213502003,"22",135,{"v":2,"d":"02"},{"v":3,"d":"003"},"静岡県","北区(浜松市)","都田村","須部",null,"","",{"$f":"IF(K878=\"\",\"\",COUNTIF($K$7:K878,\"ﾘｽﾄ１\"))","v":""},"","","","","","","",{"$f":"IF(S878=\"\",\"\",COUNTIF($S$7:S878,\"該当２\"))","v":""},"","",{"$f":"IF(V878=\"\",\"\",COUNTIF($V$7:V878,\"該当３\"))","v":""}]
[2213502004,"22",135,{"v":2,"d":"02"},{"v":4,"d":"004"},"静岡県","北区(浜松市)","都田村","川山",null,"","",{"$f":"IF(K879=\"\",\"\",COUNTIF($K$7:K879,\"ﾘｽﾄ１\"))","v":""},"","","","","","","",{"$f":"IF(S879=\"\",\"\",COUNTIF($S$7:S879,\"該当２\"))","v":""},"","",{"$f":"IF(V879=\"\",\"\",COUNTIF($V$7:V879,\"該当３\"))","v":""}]
[2213502005,"22",135,{"v":2,"d":"02"},{"v":5,"d":"005"},"静岡県","北区(浜松市)","都田村","沢上",null,"","",{"$f":"IF(K880=\"\",\"\",COUNTIF($K$7:K880,\"ﾘｽﾄ１\"))","v":""},"","","","","","","",{"$f":"IF(S880=\"\",\"\",COUNTIF($S$7:S880,\"該当２\"))","v":""},"","",{"$f":"IF(V880=\"\",\"\",COUNTIF($V$7:V880,\"該当３\"))","v":""}]
[2213502006,"22",135,{"v":2,"d":"02"},{"v":6,"d":"006"},"静岡県","北区(浜松市)","都田村","沢上開拓",null,"","",{"$f":"IF(K881=\"\",\"\",COUNTIF($K$7:K881,\"ﾘｽﾄ１\"))","v":""},"","","","","","","",{"$f":"IF(S881=\"\",\"\",COUNTIF($S$7:S881,\"該当２\"))","v":""},"","",{"$f":"IF(V881=\"\",\"\",COUNTIF($V$7:V881,\"該当３\"))","v":""}]
[2213502007,"22",135,{"v":2,"d":"02"},{"v":7,"d":"007"},"静岡県","北区(浜松市)","都田村","新木",null,"","",{"$f":"IF(K882=\"\",\"\",COUNTIF($K$7:K882,\"ﾘｽﾄ１\"))","v":""},"","","","","","","",{"$f":"IF(S882=\"\",\"\",COUNTIF($S$7:S882,\"該当２\"))","v":""},"","",{"$f":"IF(V882=\"\",\"\",COUNTIF($V$7:V882,\"該当３\"))","v":""}]
[2213502008,"22",135,{"v":2,"d":"02"},{"v":8,"d":"008"},"静岡県","北区(浜松市)","都田村","白昭",null,"","",{"$f":"IF(K883=\"\",\"\",COUNTIF($K$7:K883,\"ﾘｽﾄ１\"))","v":""},"","","","","","","",{"$f":"IF(S883=\"\",\"\",COUNTIF($S$7:S883,\"該当２\"))","v":""},"","",{"$f":"IF(V883=\"\",\"\",COUNTIF($V$7:V883,\"該当３\"))","v":""}]
[2213502009,"22",135,{"v":2,"d":"02"},{"v":9,"d":"009"},"静岡県","北区(浜松市)","都田村","横尾",null,"","",{"$f":"IF(K884=\"\",\"\",COUNTIF($K$7:K884,\"ﾘｽﾄ１\"))","v":""},"","","","","","","",{"$f":"IF(S884=\"\",\"\",COUNTIF($S$7:S884,\"該当２\"))","v":""},"","",{"$f":"IF(V884=\"\",\"\",COUNTIF($V$7:V884,\"該当３\"))","v":""}]
[2213502010,"22",135,{"v":2,"d":"02"},{"v":10,"d":"010"},"静岡県","北区(浜松市)","都田村","谷上",null,"","",{"$f":"IF(K885=\"\",\"\",COUNTIF($K$7:K885,\"ﾘｽﾄ１\"))","v":""},"","","","","","","",{"$f":"IF(S885=\"\",\"\",COUNTIF($S$7:S885,\"該当２\"))","v":""},"","",{"$f":"IF(V885=\"\",\"\",COUNTIF($V$7:V885,\"該当３\"))","v":""}]
[2213502011,"22",135,{"v":2,"d":"02"},{"v":11,"d":"011"},"静岡県","北区(浜松市)","都田村","前原",null,"","",{"$f":"IF(K886=\"\",\"\",COUNTIF($K$7:K886,\"ﾘｽﾄ１\"))","v":""},"","","","","","","",{"$f":"IF(S886=\"\",\"\",COUNTIF($S$7:S886,\"該当２\"))","v":""},"","",{"$f":"IF(V886=\"\",\"\",COUNTIF($V$7:V886,\"該当３\"))","v":""}]
[2213502012,"22",135,{"v":2,"d":"02"},{"v":12,"d":"012"},"静岡県","北区(浜松市)","都田村","中津",null,"","",{"$f":"IF(K887=\"\",\"\",COUNTIF($K$7:K887,\"ﾘｽﾄ１\"))","v":""},"","","","","","","",{"$f":"IF(S887=\"\",\"\",COUNTIF($S$7:S887,\"該当２\"))","v":""},"","",{"$f":"IF(V887=\"\",\"\",COUNTIF($V$7:V887,\"該当３\"))","v":""}]
[2213502013,"22",135,{"v":2,"d":"02"},{"v":13,"d":"013"},"静岡県","北区(浜松市)","都田村","一色",null,"","",{"$f":"IF(K888=\"\",\"\",COUNTIF($K$7:K888,\"ﾘｽﾄ１\"))","v":""},"","","","","","","",{"$f":"IF(S888=\"\",\"\",COUNTIF($S$7:S888,\"該当２\"))","v":""},"","",{"$f":"IF(V888=\"\",\"\",COUNTIF($V$7:V888,\"該当３\"))","v":""}]
[2213502014,"22",135,{"v":2,"d":"02"},{"v":14,"d":"014"},"静岡県","北区(浜松市)","都田村","鷲沢",null,"","",{"$f":"IF(K889=\"\",\"\",COUNTIF($K$7:K889,\"ﾘｽﾄ１\"))","v":""},"","","","","","","",{"$f":"IF(S889=\"\",\"\",COUNTIF($S$7:S889,\"該当２\"))","v":""},"","",{"$f":"IF(V889=\"\",\"\",COUNTIF($V$7:V889,\"該当３\"))","v":""}]
[2213502015,"22",135,{"v":2,"d":"02"},{"v":15,"d":"015"},"静岡県","北区(浜松市)","都田村","滝西",null,"","",{"$f":"IF(K890=\"\",\"\",COUNTIF($K$7:K890,\"ﾘｽﾄ１\"))","v":""},"","","","","","","",{"$f":"IF(S890=\"\",\"\",COUNTIF($S$7:S890,\"該当２\"))","v":""},"","",{"$f":"IF(V890=\"\",\"\",COUNTIF($V$7:V890,\"該当３\"))","v":""}]
[2213502016,"22",135,{"v":2,"d":"02"},{"v":16,"d":"016"},"静岡県","北区(浜松市)","都田村","滝中",null,"","",{"$f":"IF(K891=\"\",\"\",COUNTIF($K$7:K891,\"ﾘｽﾄ１\"))","v":""},"","","","","","","",{"$f":"IF(S891=\"\",\"\",COUNTIF($S$7:S891,\"該当２\"))","v":""},"","",{"$f":"IF(V891=\"\",\"\",COUNTIF($V$7:V891,\"該当３\"))","v":""}]
[2213502017,"22",135,{"v":2,"d":"02"},{"v":17,"d":"017"},"静岡県","北区(浜松市)","都田村","滝東",null,"","",{"$f":"IF(K892=\"\",\"\",COUNTIF($K$7:K892,\"ﾘｽﾄ１\"))","v":""},"","","","","","","",{"$f":"IF(S892=\"\",\"\",COUNTIF($S$7:S892,\"該当２\"))","v":""},"","",{"$f":"IF(V892=\"\",\"\",COUNTIF($V$7:V892,\"該当３\"))","v":""}]
[2213502018,"22",135,{"v":2,"d":"02"},{"v":18,"d":"018"},"静岡県","北区(浜松市)","都田村","東山",null,"","",{"$f":"IF(K893=\"\",\"\",COUNTIF($K$7:K893,\"ﾘｽﾄ１\"))","v":""},"","","","","","","",{"$f":"IF(S893=\"\",\"\",COUNTIF($S$7:S893,\"該当２\"))","v":""},"","",{"$f":"IF(V893=\"\",\"\",COUNTIF($V$7:V893,\"該当３\"))","v":""}]
[2213503000,"22",135,{"v":3,"d":"03"},{"v":0,"d":"000"},"静岡県","北区(浜松市)","気賀町",null,null,"","",{"$f":"IF(K894=\"\",\"\",COUNTIF($K$7:K894,\"ﾘｽﾄ１\"))","v":""},"","","","","","","",{"$f":"IF(S894=\"\",\"\",COUNTIF($S$7:S894,\"該当２\"))","v":""},"","",{"$f":"IF(V894=\"\",\"\",COUNTIF($V$7:V894,\"該当３\"))","v":""}]
[2213503001,"22",135,{"v":3,"d":"03"},{"v":1,"d":"001"},"静岡県","北区(浜松市)","気賀町","伊目",null,"","",{"$f":"IF(K895=\"\",\"\",COUNTIF($K$7:K895,\"ﾘｽﾄ１\"))","v":""},"","","","","","","",{"$f":"IF(S895=\"\",\"\",COUNTIF($S$7:S895,\"該当２\"))","v":""},"","",{"$f":"IF(V895=\"\",\"\",COUNTIF($V$7:V895,\"該当３\"))","v":""}]
[2213503002,"22",135,{"v":3,"d":"03"},{"v":2,"d":"002"},"静岡県","北区(浜松市)","気賀町","老ケ谷",null,"","",{"$f":"IF(K896=\"\",\"\",COUNTIF($K$7:K896,\"ﾘｽﾄ１\"))","v":""},"","","","","","","",{"$f":"IF(S896=\"\",\"\",COUNTIF($S$7:S896,\"該当２\"))","v":""},"","",{"$f":"IF(V896=\"\",\"\",COUNTIF($V$7:V896,\"該当３\"))","v":""}]
[2213503003,"22",135,{"v":3,"d":"03"},{"v":3,"d":"003"},"静岡県","北区(浜松市)","気賀町","油田",null,"","",{"$f":"IF(K897=\"\",\"\",COUNTIF($K$7:K897,\"ﾘｽﾄ１\"))","v":""},"","","","","","","",{"$f":"IF(S897=\"\",\"\",COUNTIF($S$7:S897,\"該当２\"))","v":""},"","",{"$f":"IF(V897=\"\",\"\",COUNTIF($V$7:V897,\"該当３\"))","v":""}]
[2213503004,"22",135,{"v":3,"d":"03"},{"v":4,"d":"004"},"静岡県","北区(浜松市)","気賀町","広岡",null,"","",{"$f":"IF(K898=\"\",\"\",COUNTIF($K$7:K898,\"ﾘｽﾄ１\"))","v":""},"","","","","","","",{"$f":"IF(S898=\"\",\"\",COUNTIF($S$7:S898,\"該当２\"))","v":""},"","",{"$f":"IF(V898=\"\",\"\",COUNTIF($V$7:V898,\"該当３\"))","v":""}]
[2213503005,"22",135,{"v":3,"d":"03"},{"v":5,"d":"005"},"静岡県","北区(浜松市)","気賀町","小野",null,"","",{"$f":"IF(K899=\"\",\"\",COUNTIF($K$7:K899,\"ﾘｽﾄ１\"))","v":""},"","","","","","","",{"$f":"IF(S899=\"\",\"\",COUNTIF($S$7:S899,\"該当２\"))","v":""},"","",{"$f":"IF(V899=\"\",\"\",COUNTIF($V$7:V899,\"該当３\"))","v":""}]
[2213503006,"22",135,{"v":3,"d":"03"},{"v":6,"d":"006"},"静岡県","北区(浜松市)","気賀町","清水",null,"","",{"$f":"IF(K900=\"\",\"\",COUNTIF($K$7:K900,\"ﾘｽﾄ１\"))","v":""},"","","","","","","",{"$f":"IF(S900=\"\",\"\",COUNTIF($S$7:S900,\"該当２\"))","v":""},"","",{"$f":"IF(V900=\"\",\"\",COUNTIF($V$7:V900,\"該当３\"))","v":""}]
[2213503007,"22",135,{"v":3,"d":"03"},{"v":7,"d":"007"},"静岡県","北区(浜松市)","気賀町","上町",null,"","",{"$f":"IF(K901=\"\",\"\",COUNTIF($K$7:K901,\"ﾘｽﾄ１\"))","v":""},"","","","","","","",{"$f":"IF(S901=\"\",\"\",COUNTIF($S$7:S901,\"該当２\"))","v":""},"","",{"$f":"IF(V901=\"\",\"\",COUNTIF($V$7:V901,\"該当３\"))","v":""}]
[2213503008,"22",135,{"v":3,"d":"03"},{"v":8,"d":"008"},"静岡県","北区(浜松市)","気賀町","呉石",null,"","",{"$f":"IF(K902=\"\",\"\",COUNTIF($K$7:K902,\"ﾘｽﾄ１\"))","v":""},"","","","","","","",{"$f":"IF(S902=\"\",\"\",COUNTIF($S$7:S902,\"該当２\"))","v":""},"","",{"$f":"IF(V902=\"\",\"\",COUNTIF($V$7:V902,\"該当３\"))","v":""}]
[2213503009,"22",135,{"v":3,"d":"03"},{"v":9,"d":"009"},"静岡県","北区(浜松市)","気賀町","跡川",null,"","",{"$f":"IF(K903=\"\",\"\",COUNTIF($K$7:K903,\"ﾘｽﾄ１\"))","v":""},"","","","","","","",{"$f":"IF(S903=\"\",\"\",COUNTIF($S$7:S903,\"該当２\"))","v":""},"","",{"$f":"IF(V903=\"\",\"\",COUNTIF($V$7:V903,\"該当３\"))","v":""}]
[2213503010,"22",135,{"v":3,"d":"03"},{"v":10,"d":"010"},"静岡県","北区(浜松市)","気賀町","下村",null,"","",{"$f":"IF(K904=\"\",\"\",COUNTIF($K$7:K904,\"ﾘｽﾄ１\"))","v":""},"","","","","","","",{"$f":"IF(S904=\"\",\"\",COUNTIF($S$7:S904,\"該当２\"))","v":""},"","",{"$f":"IF(V904=\"\",\"\",COUNTIF($V$7:V904,\"該当３\"))","v":""}]
[2213503011,"22",135,{"v":3,"d":"03"},{"v":11,"d":"011"},"静岡県","北区(浜松市)","気賀町","中区",null,"","",{"$f":"IF(K905=\"\",\"\",COUNTIF($K$7:K905,\"ﾘｽﾄ１\"))","v":""},"","","","","","","",{"$f":"IF(S905=\"\",\"\",COUNTIF($S$7:S905,\"該当２\"))","v":""},"","",{"$f":"IF(V905=\"\",\"\",COUNTIF($V$7:V905,\"該当３\"))","v":""}]
[2213503012,"22",135,{"v":3,"d":"03"},{"v":12,"d":"012"},"静岡県","北区(浜松市)","気賀町","寸座",null,"","",{"$f":"IF(K906=\"\",\"\",COUNTIF($K$7:K906,\"ﾘｽﾄ１\"))","v":""},"","",{"$f":"IF(O906=\"該当１\",G906,\"\")","v":""},{"$f":"IF(O906=\"該当１\",\"ﾘｽﾄ2\",\"\")","v":""},{"$f":"IF(Q906=\"ﾘｽﾄ2\",H906,\"\")","v":""},"",{"$f":"IF(S906=\"該当２\",H906,\"\")","v":""},{"$f":"IF(S906=\"\",\"\",COUNTIF($S$7:S906,\"該当２\"))","v":""},{"$f":"IF(AND($S$2=H906,E906>0,E906<998),\"該当３\",\"\")","v":""},{"$f":"IF(V906=\"該当３\",I906,\"\")","v":""},{"$f":"IF(V906=\"\",\"\",COUNTIF($V$7:V906,\"該当３\"))","v":""}]
[2213504000,"22",135,{"v":4,"d":"04"},{"v":0,"d":"000"},"静岡県","北区(浜松市)","中川村北区（浜松市）",null,null,{"$f":"IF(AND($C907>0,$H907=\"\"),\"ﾘｽﾄ１\",\"\")","v":""},{"$f":"IF(K907=\"ﾘｽﾄ１\",G907,\"\")","v":""},{"$f":"IF(K907=\"\",\"\",COUNTIF($K$7:K907,\"ﾘｽﾄ１\"))","v":""},{"$f":"IF(AND(D907=0,E907>0),\"同一区\",\"\")","v":""},{"$f":"IF(AND(EXACT($K$2,G907),H907>0),\"該当１\",\"\")","v":""},"","","",{"$f":"IF(AND(Q907=\"ﾘｽﾄ2\",OR(I907=0,AND(N907=\"同一区\",E907=1))),\"該当２\",\"\")","v":""},"",{"$f":"IF(S907=\"\",\"\",COUNTIF($S$7:S907,\"該当２\"))","v":""},"","",{"$f":"IF(V907=\"\",\"\",COUNTIF($V$7:V907,\"該当３\"))","v":""}]
[2213504001,"22",135,{"v":4,"d":"04"},{"v":1,"d":"001"},"静岡県","北区(浜松市)","中川村北区（浜松市）","１区",null,"","",{"$f":"IF(K908=\"\",\"\",COUNTIF($K$7:K908,\"ﾘｽﾄ１\"))","v":""},"","","","","","","",{"$f":"IF(S908=\"\",\"\",COUNTIF($S$7:S908,\"該当２\"))","v":""},"","",{"$f":"IF(V908=\"\",\"\",COUNTIF($V$7:V908,\"該当３\"))","v":""}]
[2213504002,"22",135,{"v":4,"d":"04"},{"v":2,"d":"002"},"静岡県","北区(浜松市)","中川村北区（浜松市）","石岡",null,"","",{"$f":"IF(K909=\"\",\"\",COUNTIF($K$7:K909,\"ﾘｽﾄ１\"))","v":""},"","","","","","","",{"$f":"IF(S909=\"\",\"\",COUNTIF($S$7:S909,\"該当２\"))","v":""},"","",{"$f":"IF(V909=\"\",\"\",COUNTIF($V$7:V909,\"該当３\"))","v":""}]
[2213504003,"22",135,{"v":4,"d":"04"},{"v":3,"d":"003"},"静岡県","北区(浜松市)","中川村北区（浜松市）","祝田",null,"","",{"$f":"IF(K910=\"\",\"\",COUNTIF($K$7:K910,\"ﾘｽﾄ１\"))","v":""},"","","","","","","",{"$f":"IF(S910=\"\",\"\",COUNTIF($S$7:S910,\"該当２\"))","v":""},"","",{"$f":"IF(V910=\"\",\"\",COUNTIF($V$7:V910,\"該当３\"))","v":""}]
[2213504004,"22",135,{"v":4,"d":"04"},{"v":4,"d":"004"},"静岡県","北区(浜松市)","中川村北区（浜松市）","刑部",null,"","",{"$f":"IF(K911=\"\",\"\",COUNTIF($K$7:K911,\"ﾘｽﾄ１\"))","v":""},"","","","","","","",{"$f":"IF(S911=\"\",\"\",COUNTIF($S$7:S911,\"該当２\"))","v":""},"","",{"$f":"IF(V911=\"\",\"\",COUNTIF($V$7:V911,\"該当３\"))","v":""}]
[2213504005,"22",135,{"v":4,"d":"04"},{"v":5,"d":"005"},"静岡県","北区(浜松市)","中川村北区（浜松市）","７区",null,"","",{"$f":"IF(K912=\"\",\"\",COUNTIF($K$7:K912,\"ﾘｽﾄ１\"))","v":""},"","","","","","","",{"$f":"IF(S912=\"\",\"\",COUNTIF($S$7:S912,\"該当２\"))","v":""},"","",{"$f":"IF(V912=\"\",\"\",COUNTIF($V$7:V912,\"該当３\"))","v":""}]
[2213504006,"22",135,{"v":4,"d":"04"},{"v":6,"d":"006"},"静岡県","北区(浜松市)","中川村北区（浜松市）","８区",null,"","",{"$f":"IF(K913=\"\",\"\",COUNTIF($K$7:K913,\"ﾘｽﾄ１\"))","v":""},"","","","","","","",{"$f":"IF(S913=\"\",\"\",COUNTIF($S$7:S913,\"該当２\"))","v":""},"","",{"$f":"IF(V913=\"\",\"\",COUNTIF($V$7:V913,\"該当３\"))","v":""}]
[2213504007,"22",135,{"v":4,"d":"04"},{"v":7,"d":"007"},"静岡県","北区(浜松市)","中川村北区（浜松市）","９区",null,"","",{"$f":"IF(K914=\"\",\"\",COUNTIF($K$7:K914,\"ﾘｽﾄ１\"))","v":""},"","","","","","","",{"$f":"IF(S914=\"\",\"\",COUNTIF($S$7:S914,\"該当２\"))","v":""},"","",{"$f":"IF(V914=\"\",\"\",COUNTIF($V$7:V914,\"該当３\"))","v":""}]
[2213504008,"22",135,{"v":4,"d":"04"},{"v":8,"d":"008"},"静岡県","北区(浜松市)","中川村北区（浜松市）","湖東",null,"","",{"$f":"IF(K915=\"\",\"\",COUNTIF($K$7:K915,\"ﾘｽﾄ１\"))","v":""},"","","","","","","",{"$f":"IF(S915=\"\",\"\",COUNTIF($S$7:S915,\"該当２\"))","v":""},"","",{"$f":"IF(V915=\"\",\"\",COUNTIF($V$7:V915,\"該当３\"))","v":""}]
[2213505000,"22",135,{"v":5,"d":"05"},{"v":0,"d":"000"},"静岡県","北区(浜松市)","金指町",null,null,"","",{"$f":"IF(K916=\"\",\"\",COUNTIF($K$7:K916,\"ﾘｽﾄ１\"))","v":""},"","","","","","","",{"$f":"IF(S916=\"\",\"\",COUNTIF($S$7:S916,\"該当２\"))","v":""},"","",{"$f":"IF(V916=\"\",\"\",COUNTIF($V$7:V916,\"該当３\"))","v":""}]
[2213505001,"22",135,{"v":5,"d":"05"},{"v":1,"d":"001"},"静岡県","北区(浜松市)","金指町","第１０区",null,"","",{"$f":"IF(K917=\"\",\"\",COUNTIF($K$7:K917,\"ﾘｽﾄ１\"))","v":""},"","","","","","","",{"$f":"IF(S917=\"\",\"\",COUNTIF($S$7:S917,\"該当２\"))","v":""},"","",{"$f":"IF(V917=\"\",\"\",COUNTIF($V$7:V917,\"該当３\"))","v":""}]
[2213505002,"22",135,{"v":5,"d":"05"},{"v":2,"d":"002"},"静岡県","北区(浜松市)","金指町","第１１区",null,"","",{"$f":"IF(K918=\"\",\"\",COUNTIF($K$7:K918,\"ﾘｽﾄ１\"))","v":""},"","","","","","","",{"$f":"IF(S918=\"\",\"\",COUNTIF($S$7:S918,\"該当２\"))","v":""},"","",{"$f":"IF(V918=\"\",\"\",COUNTIF($V$7:V918,\"該当３\"))","v":""}]
[2213505003,"22",135,{"v":5,"d":"05"},{"v":3,"d":"003"},"静岡県","北区(浜松市)","金指町","第１２区",null,"","",{"$f":"IF(K919=\"\",\"\",COUNTIF($K$7:K919,\"ﾘｽﾄ１\"))","v":""},"","","","","","","",{"$f":"IF(S919=\"\",\"\",COUNTIF($S$7:S919,\"該当２\"))","v":""},"","",{"$f":"IF(V919=\"\",\"\",COUNTIF($V$7:V919,\"該当３\"))","v":""}]
[2213505004,"22",135,{"v":5,"d":"05"},{"v":4,"d":"004"},"静岡県","北区(浜松市)","金指町","第１３区",null,"","",{"$f":"IF(K920=\"\",\"\",COUNTIF($K$7:K920,\"ﾘｽﾄ１\"))","v":""},"","","","","","","",{"$f":"IF(S920=\"\",\"\",COUNTIF($S$7:S920,\"該当２\"))","v":""},"","",{"$f":"IF(V920=\"\",\"\",COUNTIF($V$7:V920,\"該当３\"))","v":""}]
[2213505005,"22",135,{"v":5,"d":"05"},{"v":5,"d":"005"},"静岡県","北区(浜松市)","金指町","第１４区",null,"","",{"$f":"IF(K921=\"\",\"\",COUNTIF($K$7:K921,\"ﾘｽﾄ１\"))","v":""},"","","","","","","",{"$f":"IF(S921=\"\",\"\",COUNTIF($S$7:S921,\"該当２\"))","v":""},"","",{"$f":"IF(V921=\"\",\"\",COUNTIF($V$7:V921,\"該当３\"))","v":""}]
[2213506000,"22",135,{"v":6,"d":"06"},{"v":0,"d":"000"},"静岡県","北区(浜松市)","井伊谷村",null,null,"","",{"$f":"IF(K922=\"\",\"\",COUNTIF($K$7:K922,\"ﾘｽﾄ１\"))","v":""},"","","","","","","",{"$f":"IF(S922=\"\",\"\",COUNTIF($S$7:S922,\"該当２\"))","v":""},"","",{"$f":"IF(V922=\"\",\"\",COUNTIF($V$7:V922,\"該当３\"))","v":""}]
[2213506001,"22",135,{"v":6,"d":"06"},{"v":1,"d":"001"},"静岡県","北区(浜松市)","井伊谷村","第１区",null,"","",{"$f":"IF(K923=\"\",\"\",COUNTIF($K$7:K923,\"ﾘｽﾄ１\"))","v":""},"","","","","","","",{"$f":"IF(S923=\"\",\"\",COUNTIF($S$7:S923,\"該当２\"))","v":""},"","",{"$f":"IF(V923=\"\",\"\",COUNTIF($V$7:V923,\"該当３\"))","v":""}]
[2213506002,"22",135,{"v":6,"d":"06"},{"v":2,"d":"002"},"静岡県","北区(浜松市)","井伊谷村","第２区",null,"","",{"$f":"IF(K924=\"\",\"\",COUNTIF($K$7:K924,\"ﾘｽﾄ１\"))","v":""},"","","","","","","",{"$f":"IF(S924=\"\",\"\",COUNTIF($S$7:S924,\"該当２\"))","v":""},"","",{"$f":"IF(V924=\"\",\"\",COUNTIF($V$7:V924,\"該当３\"))","v":""}]
[2213506003,"22",135,{"v":6,"d":"06"},{"v":3,"d":"003"},"静岡県","北区(浜松市)","井伊谷村","第３区",null,"","",{"$f":"IF(K925=\"\",\"\",COUNTIF($K$7:K925,\"ﾘｽﾄ１\"))","v":""},"","","","","","","",{"$f":"IF(S925=\"\",\"\",COUNTIF($S$7:S925,\"該当２\"))","v":""},"","",{"$f":"IF(V925=\"\",\"\",COUNTIF($V$7:V925,\"該当３\"))","v":""}]
[2213506004,"22",135,{"v":6,"d":"06"},{"v":4,"d":"004"},"静岡県","北区(浜松市)","井伊谷村","第４区",null,"","",{"$f":"IF(K926=\"\",\"\",COUNTIF($K$7:K926,\"ﾘｽﾄ１\"))","v":""},"","","","","","","",{"$f":"IF(S926=\"\",\"\",COUNTIF($S$7:S926,\"該当２\"))","v":""},"","",{"$f":"IF(V926=\"\",\"\",COUNTIF($V$7:V926,\"該当３\"))","v":""}]
[2213506005,"22",135,{"v":6,"d":"06"},{"v":5,"d":"005"},"静岡県","北区(浜松市)","井伊谷村","第５区",null,"","",{"$f":"IF(K927=\"\",\"\",COUNTIF($K$7:K927,\"ﾘｽﾄ１\"))","v":""},"","","","","","","",{"$f":"IF(S927=\"\",\"\",COUNTIF($S$7:S927,\"該当２\"))","v":""},"","",{"$f":"IF(V927=\"\",\"\",COUNTIF($V$7:V927,\"該当３\"))","v":""}]
[2213506006,"22",135,{"v":6,"d":"06"},{"v":6,"d":"006"},"静岡県","北区(浜松市)","井伊谷村","第６区",null,"","",{"$f":"IF(K928=\"\",\"\",COUNTIF($K$7:K928,\"ﾘｽﾄ１\"))","v":""},"","","","","","","",{"$f":"IF(S928=\"\",\"\",COUNTIF($S$7:S928,\"該当２\"))","v":""},"","",{"$f":"IF(V928=\"\",\"\",COUNTIF($V$7:V928,\"該当３\"))","v":""}]
[2213506007,"22",135,{"v":6,"d":"06"},{"v":7,"d":"007"},"静岡県","北区(浜松市)","井伊谷村","第７区",null,"","",{"$f":"IF(K929=\"\",\"\",COUNTIF($K$7:K929,\"ﾘｽﾄ１\"))","v":""},"","","","","","","",{"$f":"IF(S929=\"\",\"\",COUNTIF($S$7:S929,\"該当２\"))","v":""},"","",{"$f":"IF(V929=\"\",\"\",COUNTIF($V$7:V929,\"該当３\"))","v":""}]
[2213506008,"22",135,{"v":6,"d":"06"},{"v":8,"d":"008"},"静岡県","北区(浜松市)","井伊谷村","横尾",null,"","",{"$f":"IF(K930=\"\",\"\",COUNTIF($K$7:K930,\"ﾘｽﾄ１\"))","v":""},"","","","","","","",{"$f":"IF(S930=\"\",\"\",COUNTIF($S$7:S930,\"該当２\"))","v":""},"","",{"$f":"IF(V930=\"\",\"\",COUNTIF($V$7:V930,\"該当３\"))","v":""}]
[2213506009,"22",135,{"v":6,"d":"06"},{"v":9,"d":"009"},"静岡県","北区(浜松市)","井伊谷村","白岩",null,"","",{"$f":"IF(K931=\"\",\"\",COUNTIF($K$7:K931,\"ﾘｽﾄ１\"))","v":""},"","","","","","","",{"$f":"IF(S931=\"\",\"\",COUNTIF($S$7:S931,\"該当２\"))","v":""},"","",{"$f":"IF(V931=\"\",\"\",COUNTIF($V$7:V931,\"該当３\"))","v":""}]
[2213507000,"22",135,{"v":7,"d":"07"},{"v":0,"d":"000"},"静岡県","北区(浜松市)","奥山村",null,null,"","",{"$f":"IF(K932=\"\",\"\",COUNTIF($K$7:K932,\"ﾘｽﾄ１\"))","v":""},"","","","","","","",{"$f":"IF(S932=\"\",\"\",COUNTIF($S$7:S932,\"該当２\"))","v":""},"","",{"$f":"IF(V932=\"\",\"\",COUNTIF($V$7:V932,\"該当３\"))","v":""}]
[2213507001,"22",135,{"v":7,"d":"07"},{"v":1,"d":"001"},"静岡県","北区(浜松市)","奥山村","黒渕",null,"","",{"$f":"IF(K933=\"\",\"\",COUNTIF($K$7:K933,\"ﾘｽﾄ１\"))","v":""},"","","","","","","",{"$f":"IF(S933=\"\",\"\",COUNTIF($S$7:S933,\"該当２\"))","v":""},"","",{"$f":"IF(V933=\"\",\"\",COUNTIF($V$7:V933,\"該当３\"))","v":""}]
[2213507002,"22",135,{"v":7,"d":"07"},{"v":2,"d":"002"},"静岡県","北区(浜松市)","奥山村","栃窪",null,"","",{"$f":"IF(K934=\"\",\"\",COUNTIF($K$7:K934,\"ﾘｽﾄ１\"))","v":""},"","","","","","","",{"$f":"IF(S934=\"\",\"\",COUNTIF($S$7:S934,\"該当２\"))","v":""},"","",{"$f":"IF(V934=\"\",\"\",COUNTIF($V$7:V934,\"該当３\"))","v":""}]
[2213507003,"22",135,{"v":7,"d":"07"},{"v":3,"d":"003"},"静岡県","北区(浜松市)","奥山村","田畑",null,"","",{"$f":"IF(K935=\"\",\"\",COUNTIF($K$7:K935,\"ﾘｽﾄ１\"))","v":""},"","","","","","","",{"$f":"IF(S935=\"\",\"\",COUNTIF($S$7:S935,\"該当２\"))","v":""},"","",{"$f":"IF(V935=\"\",\"\",COUNTIF($V$7:V935,\"該当３\"))","v":""}]
[2213507004,"22",135,{"v":7,"d":"07"},{"v":4,"d":"004"},"静岡県","北区(浜松市)","奥山村","馬門",null,"","",{"$f":"IF(K936=\"\",\"\",COUNTIF($K$7:K936,\"ﾘｽﾄ１\"))","v":""},"","","","","","","",{"$f":"IF(S936=\"\",\"\",COUNTIF($S$7:S936,\"該当２\"))","v":""},"","",{"$f":"IF(V936=\"\",\"\",COUNTIF($V$7:V936,\"該当３\"))","v":""}]
[2213507005,"22",135,{"v":7,"d":"07"},{"v":5,"d":"005"},"静岡県","北区(浜松市)","奥山村","中村",null,"","",{"$f":"IF(K937=\"\",\"\",COUNTIF($K$7:K937,\"ﾘｽﾄ１\"))","v":""},"","","","","","","",{"$f":"IF(S937=\"\",\"\",COUNTIF($S$7:S937,\"該当２\"))","v":""},"","",{"$f":"IF(V937=\"\",\"\",COUNTIF($V$7:V937,\"該当３\"))","v":""}]
[2213507006,"22",135,{"v":7,"d":"07"},{"v":6,"d":"006"},"静岡県","北区(浜松市)","奥山村","小斉藤",null,"","",{"$f":"IF(K938=\"\",\"\",COUNTIF($K$7:K938,\"ﾘｽﾄ１\"))","v":""},"","","","","","","",{"$f":"IF(S938=\"\",\"\",COUNTIF($S$7:S938,\"該当２\"))","v":""},"","",{"$f":"IF(V938=\"\",\"\",COUNTIF($V$7:V938,\"該当３\"))","v":""}]
[2213507007,"22",135,{"v":7,"d":"07"},{"v":7,"d":"007"},"静岡県","北区(浜松市)","奥山村","尾沢",null,"","",{"$f":"IF(K939=\"\",\"\",COUNTIF($K$7:K939,\"ﾘｽﾄ１\"))","v":""},"","","","","","","",{"$f":"IF(S939=\"\",\"\",COUNTIF($S$7:S939,\"該当２\"))","v":""},"","",{"$f":"IF(V939=\"\",\"\",COUNTIF($V$7:V939,\"該当３\"))","v":""}]
[2213507008,"22",135,{"v":7,"d":"07"},{"v":8,"d":"008"},"静岡県","北区(浜松市)","奥山村","背山",null,"","",{"$f":"IF(K940=\"\",\"\",COUNTIF($K$7:K940,\"ﾘｽﾄ１\"))","v":""},"","","","","","","",{"$f":"IF(S940=\"\",\"\",COUNTIF($S$7:S940,\"該当２\"))","v":""},"","",{"$f":"IF(V940=\"\",\"\",COUNTIF($V$7:V940,\"該当３\"))","v":""}]
[2213507009,"22",135,{"v":7,"d":"07"},{"v":9,"d":"009"},"静岡県","北区(浜松市)","奥山村","寺中",null,"","",{"$f":"IF(K941=\"\",\"\",COUNTIF($K$7:K941,\"ﾘｽﾄ１\"))","v":""},"","","","","","","",{"$f":"IF(S941=\"\",\"\",COUNTIF($S$7:S941,\"該当２\"))","v":""},"","",{"$f":"IF(V941=\"\",\"\",COUNTIF($V$7:V941,\"該当３\"))","v":""}]
[2213507010,"22",135,{"v":7,"d":"07"},{"v":10,"d":"010"},"静岡県","北区(浜松市)","奥山村","門前",null,"","",{"$f":"IF(K942=\"\",\"\",COUNTIF($K$7:K942,\"ﾘｽﾄ１\"))","v":""},"","","","","","","",{"$f":"IF(S942=\"\",\"\",COUNTIF($S$7:S942,\"該当２\"))","v":""},"","",{"$f":"IF(V942=\"\",\"\",COUNTIF($V$7:V942,\"該当３\"))","v":""}]
[2213507011,"22",135,{"v":7,"d":"07"},{"v":11,"d":"011"},"静岡県","北区(浜松市)","奥山村","富幕",null,"","",{"$f":"IF(K943=\"\",\"\",COUNTIF($K$7:K943,\"ﾘｽﾄ１\"))","v":""},"","","","","","","",{"$f":"IF(S943=\"\",\"\",COUNTIF($S$7:S943,\"該当２\"))","v":""},"","",{"$f":"IF(V943=\"\",\"\",COUNTIF($V$7:V943,\"該当３\"))","v":""}]
[2213507012,"22",135,{"v":7,"d":"07"},{"v":12,"d":"012"},"静岡県","北区(浜松市)","奥山村","狩宿",null,"","",{"$f":"IF(K944=\"\",\"\",COUNTIF($K$7:K944,\"ﾘｽﾄ１\"))","v":""},"","","","","","","",{"$f":"IF(S944=\"\",\"\",COUNTIF($S$7:S944,\"該当２\"))","v":""},"","",{"$f":"IF(V944=\"\",\"\",COUNTIF($V$7:V944,\"該当３\"))","v":""}]
[2213507013,"22",135,{"v":7,"d":"07"},{"v":13,"d":"013"},"静岡県","北区(浜松市)","奥山村","狩宿開拓",null,"","",{"$f":"IF(K945=\"\",\"\",COUNTIF($K$7:K945,\"ﾘｽﾄ１\"))","v":""},"","","","","","","",{"$f":"IF(S945=\"\",\"\",COUNTIF($S$7:S945,\"該当２\"))","v":""},"","",{"$f":"IF(V945=\"\",\"\",COUNTIF($V$7:V945,\"該当３\"))","v":""}]
[2213507014,"22",135,{"v":7,"d":"07"},{"v":14,"d":"014"},"静岡県","北区(浜松市)","奥山村","谷沢",null,"","",{"$f":"IF(K946=\"\",\"\",COUNTIF($K$7:K946,\"ﾘｽﾄ１\"))","v":""},"","","","","","","",{"$f":"IF(S946=\"\",\"\",COUNTIF($S$7:S946,\"該当２\"))","v":""},"","",{"$f":"IF(V946=\"\",\"\",COUNTIF($V$7:V946,\"該当３\"))","v":""}]
[2213508000,"22",135,{"v":8,"d":"08"},{"v":0,"d":"000"},"静岡県","北区(浜松市)","伊平村",null,null,"","",{"$f":"IF(K947=\"\",\"\",COUNTIF($K$7:K947,\"ﾘｽﾄ１\"))","v":""},"","","","","","","",{"$f":"IF(S947=\"\",\"\",COUNTIF($S$7:S947,\"該当２\"))","v":""},"","",{"$f":"IF(V947=\"\",\"\",COUNTIF($V$7:V947,\"該当３\"))","v":""}]
[2213508001,"22",135,{"v":8,"d":"08"},{"v":1,"d":"001"},"静岡県","北区(浜松市)","伊平村","西黒田",null,"","",{"$f":"IF(K948=\"\",\"\",COUNTIF($K$7:K948,\"ﾘｽﾄ１\"))","v":""},"","","","","","","",{"$f":"IF(S948=\"\",\"\",COUNTIF($S$7:S948,\"該当２\"))","v":""},"","",{"$f":"IF(V948=\"\",\"\",COUNTIF($V$7:V948,\"該当３\"))","v":""}]
[2213508002,"22",135,{"v":8,"d":"08"},{"v":2,"d":"002"},"静岡県","北区(浜松市)","伊平村","東黒田",null,"","",{"$f":"IF(K949=\"\",\"\",COUNTIF($K$7:K949,\"ﾘｽﾄ１\"))","v":""},"","","","","","","",{"$f":"IF(S949=\"\",\"\",COUNTIF($S$7:S949,\"該当２\"))","v":""},"","",{"$f":"IF(V949=\"\",\"\",COUNTIF($V$7:V949,\"該当３\"))","v":""}]
[2213508003,"22",135,{"v":8,"d":"08"},{"v":3,"d":"003"},"静岡県","北区(浜松市)","伊平村","伊平３部",null,"","",{"$f":"IF(K950=\"\",\"\",COUNTIF($K$7:K950,\"ﾘｽﾄ１\"))","v":""},"","","","","","","",{"$f":"IF(S950=\"\",\"\",COUNTIF($S$7:S950,\"該当２\"))","v":""},"","",{"$f":"IF(V950=\"\",\"\",COUNTIF($V$7:V950,\"該当３\"))","v":""}]
[2213508004,"22",135,{"v":8,"d":"08"},{"v":4,"d":"004"},"静岡県","北区(浜松市)","伊平村","伊平４部",null,"","",{"$f":"IF(K951=\"\",\"\",COUNTIF($K$7:K951,\"ﾘｽﾄ１\"))","v":""},"","","","","","","",{"$f":"IF(S951=\"\",\"\",COUNTIF($S$7:S951,\"該当２\"))","v":""},"","",{"$f":"IF(V951=\"\",\"\",COUNTIF($V$7:V951,\"該当３\"))","v":""}]
[2213508005,"22",135,{"v":8,"d":"08"},{"v":5,"d":"005"},"静岡県","北区(浜松市)","伊平村","伊平２部",null,"","",{"$f":"IF(K952=\"\",\"\",COUNTIF($K$7:K952,\"ﾘｽﾄ１\"))","v":""},"","","","","","","",{"$f":"IF(S952=\"\",\"\",COUNTIF($S$7:S952,\"該当２\"))","v":""},"","",{"$f":"IF(V952=\"\",\"\",COUNTIF($V$7:V952,\"該当３\"))","v":""}]
[2213508006,"22",135,{"v":8,"d":"08"},{"v":6,"d":"006"},"静岡県","北区(浜松市)","伊平村","伊平１部",null,"","",{"$f":"IF(K953=\"\",\"\",COUNTIF($K$7:K953,\"ﾘｽﾄ１\"))","v":""},"","","","","","","",{"$f":"IF(S953=\"\",\"\",COUNTIF($S$7:S953,\"該当２\"))","v":""},"","",{"$f":"IF(V953=\"\",\"\",COUNTIF($V$7:V953,\"該当３\"))","v":""}]
[2213508007,"22",135,{"v":8,"d":"08"},{"v":7,"d":"007"},"静岡県","北区(浜松市)","伊平村","伊平５部",null,"","",{"$f":"IF(K954=\"\",\"\",COUNTIF($K$7:K954,\"ﾘｽﾄ１\"))","v":""},"","","","","","","",{"$f":"IF(S954=\"\",\"\",COUNTIF($S$7:S954,\"該当２\"))","v":""},"","",{"$f":"IF(V954=\"\",\"\",COUNTIF($V$7:V954,\"該当３\"))","v":""}]
[2213508008,"22",135,{"v":8,"d":"08"},{"v":8,"d":"008"},"静岡県","北区(浜松市)","伊平村","兎荷",null,"","",{"$f":"IF(K955=\"\",\"\",COUNTIF($K$7:K955,\"ﾘｽﾄ１\"))","v":""},"","","","","","","",{"$f":"IF(S955=\"\",\"\",COUNTIF($S$7:S955,\"該当２\"))","v":""},"","",{"$f":"IF(V955=\"\",\"\",COUNTIF($V$7:V955,\"該当３\"))","v":""}]
[2213508009,"22",135,{"v":8,"d":"08"},{"v":9,"d":"009"},"静岡県","北区(浜松市)","伊平村","川名西組",null,"","",{"$f":"IF(K956=\"\",\"\",COUNTIF($K$7:K956,\"ﾘｽﾄ１\"))","v":""},"","","","","","","",{"$f":"IF(S956=\"\",\"\",COUNTIF($S$7:S956,\"該当２\"))","v":""},"","",{"$f":"IF(V956=\"\",\"\",COUNTIF($V$7:V956,\"該当３\"))","v":""}]
[2213508010,"22",135,{"v":8,"d":"08"},{"v":10,"d":"010"},"静岡県","北区(浜松市)","伊平村","川名上組",null,"","",{"$f":"IF(K957=\"\",\"\",COUNTIF($K$7:K957,\"ﾘｽﾄ１\"))","v":""},"","","","","","","",{"$f":"IF(S957=\"\",\"\",COUNTIF($S$7:S957,\"該当２\"))","v":""},"","",{"$f":"IF(V957=\"\",\"\",COUNTIF($V$7:V957,\"該当３\"))","v":""}]
[2213508011,"22",135,{"v":8,"d":"08"},{"v":11,"d":"011"},"静岡県","北区(浜松市)","伊平村","川名中組",null,"","",{"$f":"IF(K958=\"\",\"\",COUNTIF($K$7:K958,\"ﾘｽﾄ１\"))","v":""},"","","","","","","",{"$f":"IF(S958=\"\",\"\",COUNTIF($S$7:S958,\"該当２\"))","v":""},"","",{"$f":"IF(V958=\"\",\"\",COUNTIF($V$7:V958,\"該当３\"))","v":""}]
[2213508012,"22",135,{"v":8,"d":"08"},{"v":12,"d":"012"},"静岡県","北区(浜松市)","伊平村","川名下組",null,"","",{"$f":"IF(K959=\"\",\"\",COUNTIF($K$7:K959,\"ﾘｽﾄ１\"))","v":""},"","","","","","","",{"$f":"IF(S959=\"\",\"\",COUNTIF($S$7:S959,\"該当２\"))","v":""},"","",{"$f":"IF(V959=\"\",\"\",COUNTIF($V$7:V959,\"該当３\"))","v":""}]
[2213508013,"22",135,{"v":8,"d":"08"},{"v":13,"d":"013"},"静岡県","北区(浜松市)","伊平村","川名東組",null,"","",{"$f":"IF(K960=\"\",\"\",COUNTIF($K$7:K960,\"ﾘｽﾄ１\"))","v":""},"","","","","","","",{"$f":"IF(S960=\"\",\"\",COUNTIF($S$7:S960,\"該当２\"))","v":""},"","",{"$f":"IF(V960=\"\",\"\",COUNTIF($V$7:V960,\"該当３\"))","v":""}]
[2213508014,"22",135,{"v":8,"d":"08"},{"v":14,"d":"014"},"静岡県","北区(浜松市)","伊平村","東久留女木",null,"","",{"$f":"IF(K961=\"\",\"\",COUNTIF($K$7:K961,\"ﾘｽﾄ１\"))","v":""},"","","","","","","",{"$f":"IF(S961=\"\",\"\",COUNTIF($S$7:S961,\"該当２\"))","v":""},"","",{"$f":"IF(V961=\"\",\"\",COUNTIF($V$7:V961,\"該当３\"))","v":""}]
[2213509000,"22",135,{"v":9,"d":"09"},{"v":0,"d":"000"},"静岡県","北区(浜松市)","鎮玉村",null,null,"","",{"$f":"IF(K962=\"\",\"\",COUNTIF($K$7:K962,\"ﾘｽﾄ１\"))","v":""},"","","","","","","",{"$f":"IF(S962=\"\",\"\",COUNTIF($S$7:S962,\"該当２\"))","v":""},"","",{"$f":"IF(V962=\"\",\"\",COUNTIF($V$7:V962,\"該当３\"))","v":""}]
[2213509001,"22",135,{"v":9,"d":"09"},{"v":1,"d":"001"},"静岡県","北区(浜松市)","鎮玉村","別所",null,"","",{"$f":"IF(K963=\"\",\"\",COUNTIF($K$7:K963,\"ﾘｽﾄ１\"))","v":""},"","","","","","","",{"$f":"IF(S963=\"\",\"\",COUNTIF($S$7:S963,\"該当２\"))","v":""},"","",{"$f":"IF(V963=\"\",\"\",COUNTIF($V$7:V963,\"該当３\"))","v":""}]
[2213509002,"22",135,{"v":9,"d":"09"},{"v":2,"d":"002"},"静岡県","北区(浜松市)","鎮玉村","的場四方浄",null,"","",{"$f":"IF(K964=\"\",\"\",COUNTIF($K$7:K964,\"ﾘｽﾄ１\"))","v":""},"","","","","","","",{"$f":"IF(S964=\"\",\"\",COUNTIF($S$7:S964,\"該当２\"))","v":""},"","",{"$f":"IF(V964=\"\",\"\",COUNTIF($V$7:V964,\"該当３\"))","v":""}]
[2213509003,"22",135,{"v":9,"d":"09"},{"v":3,"d":"003"},"静岡県","北区(浜松市)","鎮玉村","田沢",null,"","",{"$f":"IF(K965=\"\",\"\",COUNTIF($K$7:K965,\"ﾘｽﾄ１\"))","v":""},"","","","","","","",{"$f":"IF(S965=\"\",\"\",COUNTIF($S$7:S965,\"該当２\"))","v":""},"","",{"$f":"IF(V965=\"\",\"\",COUNTIF($V$7:V965,\"該当３\"))","v":""}]
[2213509004,"22",135,{"v":9,"d":"09"},{"v":4,"d":"004"},"静岡県","北区(浜松市)","鎮玉村","珍久",null,"","",{"$f":"IF(K966=\"\",\"\",COUNTIF($K$7:K966,\"ﾘｽﾄ１\"))","v":""},"","","","","","","",{"$f":"IF(S966=\"\",\"\",COUNTIF($S$7:S966,\"該当２\"))","v":""},"","",{"$f":"IF(V966=\"\",\"\",COUNTIF($V$7:V966,\"該当３\"))","v":""}]
[2213509005,"22",135,{"v":9,"d":"09"},{"v":5,"d":"005"},"静岡県","北区(浜松市)","鎮玉村","西平",null,"","",{"$f":"IF(K967=\"\",\"\",COUNTIF($K$7:K967,\"ﾘｽﾄ１\"))","v":""},"","","","","","","",{"$f":"IF(S967=\"\",\"\",COUNTIF($S$7:S967,\"該当２\"))","v":""},"","",{"$f":"IF(V967=\"\",\"\",COUNTIF($V$7:V967,\"該当３\"))","v":""}]
[2213509006,"22",135,{"v":9,"d":"09"},{"v":6,"d":"006"},"静岡県","北区(浜松市)","鎮玉村","寺野",null,"","",{"$f":"IF(K968=\"\",\"\",COUNTIF($K$7:K968,\"ﾘｽﾄ１\"))","v":""},"","","","","","","",{"$f":"IF(S968=\"\",\"\",COUNTIF($S$7:S968,\"該当２\"))","v":""},"","",{"$f":"IF(V968=\"\",\"\",COUNTIF($V$7:V968,\"該当３\"))","v":""}]
[2213509007,"22",135,{"v":9,"d":"09"},{"v":7,"d":"007"},"静岡県","北区(浜松市)","鎮玉村","大川代",null,"","",{"$f":"IF(K969=\"\",\"\",COUNTIF($K$7:K969,\"ﾘｽﾄ１\"))","v":""},"","","","","","","",{"$f":"IF(S969=\"\",\"\",COUNTIF($S$7:S969,\"該当２\"))","v":""},"","",{"$f":"IF(V969=\"\",\"\",COUNTIF($V$7:V969,\"該当３\"))","v":""}]
[2213509008,"22",135,{"v":9,"d":"09"},{"v":8,"d":"008"},"静岡県","北区(浜松市)","鎮玉村","元組",null,"","",{"$f":"IF(K970=\"\",\"\",COUNTIF($K$7:K970,\"ﾘｽﾄ１\"))","v":""},"","",{"$f":"IF(O970=\"該当１\",G970,\"\")","v":""},{"$f":"IF(O970=\"該当１\",\"ﾘｽﾄ2\",\"\")","v":""},{"$f":"IF(Q970=\"ﾘｽﾄ2\",H970,\"\")","v":""},"",{"$f":"IF(S970=\"該当２\",H970,\"\")","v":""},{"$f":"IF(S970=\"\",\"\",COUNTIF($S$7:S970,\"該当２\"))","v":""},{"$f":"IF(AND($S$2=H970,E970>0,E970<998),\"該当３\",\"\")","v":""},{"$f":"IF(V970=\"該当３\",I970,\"\")","v":""},{"$f":"IF(V970=\"\",\"\",COUNTIF($V$7:V970,\"該当３\"))","v":""}]
[2213509009,"22",135,{"v":9,"d":"09"},{"v":9,"d":"009"},"静岡県","北区(浜松市)","鎮玉村","渋川東",null,{"$f":"IF(AND($C971>0,$H971=\"\"),\"ﾘｽﾄ１\",\"\")","v":""},{"$f":"IF(K971=\"ﾘｽﾄ１\",G971,\"\")","v":""},{"$f":"IF(K971=\"\",\"\",COUNTIF($K$7:K971,\"ﾘｽﾄ１\"))","v":""},{"$f":"IF(AND(D971=0,E971>0),\"同一区\",\"\")","v":""},{"$f":"IF(AND(EXACT($K$2,G971),H971>0),\"該当１\",\"\")","v":""},"","","",{"$f":"IF(AND(Q971=\"ﾘｽﾄ2\",OR(I971=0,AND(N971=\"同一区\",E971=1))),\"該当２\",\"\")","v":""},"",{"$f":"IF(S971=\"\",\"\",COUNTIF($S$7:S971,\"該当２\"))","v":""},"","",{"$f":"IF(V971=\"\",\"\",COUNTIF($V$7:V971,\"該当３\"))","v":""}]
[2213509010,"22",135,{"v":9,"d":"09"},{"v":10,"d":"010"},"静岡県","北区(浜松市)","鎮玉村","久留女木",null,"","",{"$f":"IF(K972=\"\",\"\",COUNTIF($K$7:K972,\"ﾘｽﾄ１\"))","v":""},"","","","","","","",{"$f":"IF(S972=\"\",\"\",COUNTIF($S$7:S972,\"該当２\"))","v":""},"","",{"$f":"IF(V972=\"\",\"\",COUNTIF($V$7:V972,\"該当３\"))","v":""}]
[2213510000,"22",135,10,{"v":0,"d":"000"},"静岡県","北区(浜松市)","三ヶ日町",null,null,"","",{"$f":"IF(K973=\"\",\"\",COUNTIF($K$7:K973,\"ﾘｽﾄ１\"))","v":""},"","","","","","","",{"$f":"IF(S973=\"\",\"\",COUNTIF($S$7:S973,\"該当２\"))","v":""},"","",{"$f":"IF(V973=\"\",\"\",COUNTIF($V$7:V973,\"該当３\"))","v":""}]
[2213510001,"22",135,10,{"v":1,"d":"001"},"静岡県","北区(浜松市)","三ヶ日町","上神明町",null,"","",{"$f":"IF(K974=\"\",\"\",COUNTIF($K$7:K974,\"ﾘｽﾄ１\"))","v":""},"","","","","","","",{"$f":"IF(S974=\"\",\"\",COUNTIF($S$7:S974,\"該当２\"))","v":""},"","",{"$f":"IF(V974=\"\",\"\",COUNTIF($V$7:V974,\"該当３\"))","v":""}]
[2213510002,"22",135,10,{"v":2,"d":"002"},"静岡県","北区(浜松市)","三ヶ日町","下神明町",null,"","",{"$f":"IF(K975=\"\",\"\",COUNTIF($K$7:K975,\"ﾘｽﾄ１\"))","v":""},"","","","","","","",{"$f":"IF(S975=\"\",\"\",COUNTIF($S$7:S975,\"該当２\"))","v":""},"","",{"$f":"IF(V975=\"\",\"\",COUNTIF($V$7:V975,\"該当３\"))","v":""}]
[2213510003,"22",135,10,{"v":3,"d":"003"},"静岡県","北区(浜松市)","三ヶ日町","西町",null,"","",{"$f":"IF(K976=\"\",\"\",COUNTIF($K$7:K976,\"ﾘｽﾄ１\"))","v":""},"","","","","","","",{"$f":"IF(S976=\"\",\"\",COUNTIF($S$7:S976,\"該当２\"))","v":""},"","",{"$f":"IF(V976=\"\",\"\",COUNTIF($V$7:V976,\"該当３\"))","v":""}]
[2213510004,"22",135,10,{"v":4,"d":"004"},"静岡県","北区(浜松市)","三ヶ日町","東町",null,"","",{"$f":"IF(K977=\"\",\"\",COUNTIF($K$7:K977,\"ﾘｽﾄ１\"))","v":""},"","","","","","","",{"$f":"IF(S977=\"\",\"\",COUNTIF($S$7:S977,\"該当２\"))","v":""},"","",{"$f":"IF(V977=\"\",\"\",COUNTIF($V$7:V977,\"該当３\"))","v":""}]
[2213510005,"22",135,10,{"v":5,"d":"005"},"静岡県","北区(浜松市)","三ヶ日町","西天王町",null,"","",{"$f":"IF(K978=\"\",\"\",COUNTIF($K$7:K978,\"ﾘｽﾄ１\"))","v":""},"","","","","","","",{"$f":"IF(S978=\"\",\"\",COUNTIF($S$7:S978,\"該当２\"))","v":""},"","",{"$f":"IF(V978=\"\",\"\",COUNTIF($V$7:V978,\"該当３\"))","v":""}]
[2213510006,"22",135,10,{"v":6,"d":"006"},"静岡県","北区(浜松市)","三ヶ日町","東天王町",null,"","",{"$f":"IF(K979=\"\",\"\",COUNTIF($K$7:K979,\"ﾘｽﾄ１\"))","v":""},"","","","","","","",{"$f":"IF(S979=\"\",\"\",COUNTIF($S$7:S979,\"該当２\"))","v":""},"","",{"$f":"IF(V979=\"\",\"\",COUNTIF($V$7:V979,\"該当３\"))","v":""}]
[2213510007,"22",135,10,{"v":7,"d":"007"},"静岡県","北区(浜松市)","三ヶ日町","宇志",null,"","",{"$f":"IF(K980=\"\",\"\",COUNTIF($K$7:K980,\"ﾘｽﾄ１\"))","v":""},"","","","","","","",{"$f":"IF(S980=\"\",\"\",COUNTIF($S$7:S980,\"該当２\"))","v":""},"","",{"$f":"IF(V980=\"\",\"\",COUNTIF($V$7:V980,\"該当３\"))","v":""}]
[2213510008,"22",135,10,{"v":8,"d":"008"},"静岡県","北区(浜松市)","三ヶ日町","津々崎",null,"","",{"$f":"IF(K981=\"\",\"\",COUNTIF($K$7:K981,\"ﾘｽﾄ１\"))","v":""},"","","","","","","",{"$f":"IF(S981=\"\",\"\",COUNTIF($S$7:S981,\"該当２\"))","v":""},"","",{"$f":"IF(V981=\"\",\"\",COUNTIF($V$7:V981,\"該当３\"))","v":""}]
[2213510009,"22",135,10,{"v":9,"d":"009"},"静岡県","北区(浜松市)","三ヶ日町","岡本",null,"","",{"$f":"IF(K982=\"\",\"\",COUNTIF($K$7:K982,\"ﾘｽﾄ１\"))","v":""},"","","","","","","",{"$f":"IF(S982=\"\",\"\",COUNTIF($S$7:S982,\"該当２\"))","v":""},"","",{"$f":"IF(V982=\"\",\"\",COUNTIF($V$7:V982,\"該当３\"))","v":""}]
[2213510010,"22",135,10,{"v":10,"d":"010"},"静岡県","北区(浜松市)","三ヶ日町","御薗",null,"","",{"$f":"IF(K983=\"\",\"\",COUNTIF($K$7:K983,\"ﾘｽﾄ１\"))","v":""},"","","","","","","",{"$f":"IF(S983=\"\",\"\",COUNTIF($S$7:S983,\"該当２\"))","v":""},"","",{"$f":"IF(V983=\"\",\"\",COUNTIF($V$7:V983,\"該当３\"))","v":""}]
[2213510011,"22",135,10,{"v":11,"d":"011"},"静岡県","北区(浜松市)","三ヶ日町","摩訶耶",null,"","",{"$f":"IF(K984=\"\",\"\",COUNTIF($K$7:K984,\"ﾘｽﾄ１\"))","v":""},"","","","","","","",{"$f":"IF(S984=\"\",\"\",COUNTIF($S$7:S984,\"該当２\"))","v":""},"","",{"$f":"IF(V984=\"\",\"\",COUNTIF($V$7:V984,\"該当３\"))","v":""}]
[2213510012,"22",135,10,{"v":12,"d":"012"},"静岡県","北区(浜松市)","三ヶ日町","只木",null,"","",{"$f":"IF(K985=\"\",\"\",COUNTIF($K$7:K985,\"ﾘｽﾄ１\"))","v":""},"","","","","","","",{"$f":"IF(S985=\"\",\"\",COUNTIF($S$7:S985,\"該当２\"))","v":""},"","",{"$f":"IF(V985=\"\",\"\",COUNTIF($V$7:V985,\"該当３\"))","v":""}]
[2213510013,"22",135,10,{"v":13,"d":"013"},"静岡県","北区(浜松市)","三ヶ日町","大福寺",null,"","",{"$f":"IF(K986=\"\",\"\",COUNTIF($K$7:K986,\"ﾘｽﾄ１\"))","v":""},"","","","","","","",{"$f":"IF(S986=\"\",\"\",COUNTIF($S$7:S986,\"該当２\"))","v":""},"","",{"$f":"IF(V986=\"\",\"\",COUNTIF($V$7:V986,\"該当３\"))","v":""}]
[2213510014,"22",135,10,{"v":14,"d":"014"},"静岡県","北区(浜松市)","三ヶ日町","長根",null,"","",{"$f":"IF(K987=\"\",\"\",COUNTIF($K$7:K987,\"ﾘｽﾄ１\"))","v":""},"","","","","","","",{"$f":"IF(S987=\"\",\"\",COUNTIF($S$7:S987,\"該当２\"))","v":""},"","",{"$f":"IF(V987=\"\",\"\",COUNTIF($V$7:V987,\"該当３\"))","v":""}]
[2213510015,"22",135,10,{"v":15,"d":"015"},"静岡県","北区(浜松市)","三ヶ日町","平山",null,"","",{"$f":"IF(K988=\"\",\"\",COUNTIF($K$7:K988,\"ﾘｽﾄ１\"))","v":""},"","","","","","","",{"$f":"IF(S988=\"\",\"\",COUNTIF($S$7:S988,\"該当２\"))","v":""},"","",{"$f":"IF(V988=\"\",\"\",COUNTIF($V$7:V988,\"該当３\"))","v":""}]
[2213510016,"22",135,10,{"v":16,"d":"016"},"静岡県","北区(浜松市)","三ヶ日町","釣",null,"","",{"$f":"IF(K989=\"\",\"\",COUNTIF($K$7:K989,\"ﾘｽﾄ１\"))","v":""},"","","","","","","",{"$f":"IF(S989=\"\",\"\",COUNTIF($S$7:S989,\"該当２\"))","v":""},"","",{"$f":"IF(V989=\"\",\"\",COUNTIF($V$7:V989,\"該当３\"))","v":""}]
[2213510017,"22",135,10,{"v":17,"d":"017"},"静岡県","北区(浜松市)","三ヶ日町","日比沢",null,"","",{"$f":"IF(K990=\"\",\"\",COUNTIF($K$7:K990,\"ﾘｽﾄ１\"))","v":""},"","","","","","","",{"$f":"IF(S990=\"\",\"\",COUNTIF($S$7:S990,\"該当２\"))","v":""},"","",{"$f":"IF(V990=\"\",\"\",COUNTIF($V$7:V990,\"該当３\"))","v":""}]
[2213510018,"22",135,10,{"v":18,"d":"018"},"静岡県","北区(浜松市)","三ヶ日町","本坂",null,"","",{"$f":"IF(K991=\"\",\"\",COUNTIF($K$7:K991,\"ﾘｽﾄ１\"))","v":""},"","","","","","","",{"$f":"IF(S991=\"\",\"\",COUNTIF($S$7:S991,\"該当２\"))","v":""},"","",{"$f":"IF(V991=\"\",\"\",COUNTIF($V$7:V991,\"該当３\"))","v":""}]
[2213510019,"22",135,10,{"v":19,"d":"019"},"静岡県","北区(浜松市)","三ヶ日町","鵺代",null,"","",{"$f":"IF(K992=\"\",\"\",COUNTIF($K$7:K992,\"ﾘｽﾄ１\"))","v":""},"","","","","","","",{"$f":"IF(S992=\"\",\"\",COUNTIF($S$7:S992,\"該当２\"))","v":""},"","",{"$f":"IF(V992=\"\",\"\",COUNTIF($V$7:V992,\"該当３\"))","v":""}]
[2213510020,"22",135,10,{"v":20,"d":"020"},"静岡県","北区(浜松市)","三ヶ日町","下尾奈",null,"","",{"$f":"IF(K993=\"\",\"\",COUNTIF($K$7:K993,\"ﾘｽﾄ１\"))","v":""},"","","","","","","",{"$f":"IF(S993=\"\",\"\",COUNTIF($S$7:S993,\"該当２\"))","v":""},"","",{"$f":"IF(V993=\"\",\"\",COUNTIF($V$7:V993,\"該当３\"))","v":""}]
[2213510021,"22",135,10,{"v":21,"d":"021"},"静岡県","北区(浜松市)","三ヶ日町","上尾奈",null,"","",{"$f":"IF(K994=\"\",\"\",COUNTIF($K$7:K994,\"ﾘｽﾄ１\"))","v":""},"","","","","","","",{"$f":"IF(S994=\"\",\"\",COUNTIF($S$7:S994,\"該当２\"))","v":""},"","",{"$f":"IF(V994=\"\",\"\",COUNTIF($V$7:V994,\"該当３\"))","v":""}]
[2213511000,"22",135,11,{"v":0,"d":"000"},"静岡県","北区(浜松市)","東浜名村",null,null,"","",{"$f":"IF(K995=\"\",\"\",COUNTIF($K$7:K995,\"ﾘｽﾄ１\"))","v":""},"","","","","","","",{"$f":"IF(S995=\"\",\"\",COUNTIF($S$7:S995,\"該当２\"))","v":""},"","",{"$f":"IF(V995=\"\",\"\",COUNTIF($V$7:V995,\"該当３\"))","v":""}]
[2213511001,"22",135,11,{"v":1,"d":"001"},"静岡県","北区(浜松市)","東浜名村","北平",null,"","",{"$f":"IF(K996=\"\",\"\",COUNTIF($K$7:K996,\"ﾘｽﾄ１\"))","v":""},"","","","","","","",{"$f":"IF(S996=\"\",\"\",COUNTIF($S$7:S996,\"該当２\"))","v":""},"","",{"$f":"IF(V996=\"\",\"\",COUNTIF($V$7:V996,\"該当３\"))","v":""}]
[2213511002,"22",135,11,{"v":2,"d":"002"},"静岡県","北区(浜松市)","東浜名村","野地",null,"","",{"$f":"IF(K997=\"\",\"\",COUNTIF($K$7:K997,\"ﾘｽﾄ１\"))","v":""},"","","","","","","",{"$f":"IF(S997=\"\",\"\",COUNTIF($S$7:S997,\"該当２\"))","v":""},"","",{"$f":"IF(V997=\"\",\"\",COUNTIF($V$7:V997,\"該当３\"))","v":""}]
[2213511003,"22",135,11,{"v":3,"d":"003"},"静岡県","北区(浜松市)","東浜名村","駒場",null,"","",{"$f":"IF(K998=\"\",\"\",COUNTIF($K$7:K998,\"ﾘｽﾄ１\"))","v":""},"","","","","","","",{"$f":"IF(S998=\"\",\"\",COUNTIF($S$7:S998,\"該当２\"))","v":""},"","",{"$f":"IF(V998=\"\",\"\",COUNTIF($V$7:V998,\"該当３\"))","v":""}]
[2213511004,"22",135,11,{"v":4,"d":"004"},"静岡県","北区(浜松市)","東浜名村","大谷南部",null,"","",{"$f":"IF(K999=\"\",\"\",COUNTIF($K$7:K999,\"ﾘｽﾄ１\"))","v":""},"","","","","","","",{"$f":"IF(S999=\"\",\"\",COUNTIF($S$7:S999,\"該当２\"))","v":""},"","",{"$f":"IF(V999=\"\",\"\",COUNTIF($V$7:V999,\"該当３\"))","v":""}]
[2213511005,"22",135,11,{"v":5,"d":"005"},"静岡県","北区(浜松市)","東浜名村","大谷北部",null,"","",{"$f":"IF(K1000=\"\",\"\",COUNTIF($K$7:K1000,\"ﾘｽﾄ１\"))","v":""},"","","","","","","",{"$f":"IF(S1000=\"\",\"\",COUNTIF($S$7:S1000,\"該当２\"))","v":""},"","",{"$f":"IF(V1000=\"\",\"\",COUNTIF($V$7:V1000,\"該当３\"))","v":""}]
[2213511006,"22",135,11,{"v":6,"d":"006"},"静岡県","北区(浜松市)","東浜名村","佐久米",null,"","",{"$f":"IF(K1001=\"\",\"\",COUNTIF($K$7:K1001,\"ﾘｽﾄ１\"))","v":""},"","","","","","","",{"$f":"IF(S1001=\"\",\"\",COUNTIF($S$7:S1001,\"該当２\"))","v":""},"","",{"$f":"IF(V1001=\"\",\"\",COUNTIF($V$7:V1001,\"該当３\"))","v":""}]
[2213511007,"22",135,11,{"v":7,"d":"007"},"静岡県","北区(浜松市)","東浜名村","新田",null,"","",{"$f":"IF(K1002=\"\",\"\",COUNTIF($K$7:K1002,\"ﾘｽﾄ１\"))","v":""},"","","","","","","",{"$f":"IF(S1002=\"\",\"\",COUNTIF($S$7:S1002,\"該当２\"))","v":""},"","",{"$f":"IF(V1002=\"\",\"\",COUNTIF($V$7:V1002,\"該当３\"))","v":""}]
[2213511008,"22",135,11,{"v":8,"d":"008"},"静岡県","北区(浜松市)","東浜名村","南平",null,"","",{"$f":"IF(K1003=\"\",\"\",COUNTIF($K$7:K1003,\"ﾘｽﾄ１\"))","v":""},"","","","","","","",{"$f":"IF(S1003=\"\",\"\",COUNTIF($S$7:S1003,\"該当２\"))","v":""},"","",{"$f":"IF(V1003=\"\",\"\",COUNTIF($V$7:V1003,\"該当３\"))","v":""}]
[2213511009,"22",135,11,{"v":9,"d":"009"},"静岡県","北区(浜松市)","東浜名村","西平",null,"","",{"$f":"IF(K1004=\"\",\"\",COUNTIF($K$7:K1004,\"ﾘｽﾄ１\"))","v":""},"","","","","","","",{"$f":"IF(S1004=\"\",\"\",COUNTIF($S$7:S1004,\"該当２\"))","v":""},"","",{"$f":"IF(V1004=\"\",\"\",COUNTIF($V$7:V1004,\"該当３\"))","v":""}]
[2213511010,"22",135,11,{"v":10,"d":"010"},"静岡県","北区(浜松市)","東浜名村","大崎東部",null,"","",{"$f":"IF(K1005=\"\",\"\",COUNTIF($K$7:K1005,\"ﾘｽﾄ１\"))","v":""},"","","","","","","",{"$f":"IF(S1005=\"\",\"\",COUNTIF($S$7:S1005,\"該当２\"))","v":""},"","",{"$f":"IF(V1005=\"\",\"\",COUNTIF($V$7:V1005,\"該当３\"))","v":""}]
[2213511011,"22",135,11,{"v":11,"d":"011"},"静岡県","北区(浜松市)","東浜名村","大崎南部",null,"","",{"$f":"IF(K1006=\"\",\"\",COUNTIF($K$7:K1006,\"ﾘｽﾄ１\"))","v":""},"","","","","","","",{"$f":"IF(S1006=\"\",\"\",COUNTIF($S$7:S1006,\"該当２\"))","v":""},"","",{"$f":"IF(V1006=\"\",\"\",COUNTIF($V$7:V1006,\"該当３\"))","v":""}]
[2213511012,"22",135,11,{"v":12,"d":"012"},"静岡県","北区(浜松市)","東浜名村","大崎西部",null,"","",{"$f":"IF(K1007=\"\",\"\",COUNTIF($K$7:K1007,\"ﾘｽﾄ１\"))","v":""},"","","","","","","",{"$f":"IF(S1007=\"\",\"\",COUNTIF($S$7:S1007,\"該当２\"))","v":""},"","",{"$f":"IF(V1007=\"\",\"\",COUNTIF($V$7:V1007,\"該当３\"))","v":""}]
[2213600000,"22",136,{"v":0,"d":"00"},{"v":0,"d":"000"},"静岡県","浜北区(浜松市)",{"$nulls":3},"ﾘｽﾄ１","浜北区(浜松市)",{"$f":"IF(K1008=\"\",\"\",COUNTIF($K$7:K1008,\"ﾘｽﾄ１\"))","v":11},"","","","","","","",{"$f":"IF(S1008=\"\",\"\",COUNTIF($S$7:S1008,\"該当２\"))","v":""},"","",{"$f":"IF(V1008=\"\",\"\",COUNTIF($V$7:V1008,\"該当３\"))","v":""}]
[2213601000,"22",136,{"v":1,"d":"01"},{"v":0,"d":"000"},"静岡県","浜北区(浜松市)","小野口村",null,null,"","",{"$f":"IF(K1009=\"\",\"\",COUNTIF($K$7:K1009,\"ﾘｽﾄ１\"))","v":""},"","","","","","","",{"$f":"IF(S1009=\"\",\"\",COUNTIF($S$7:S1009,\"該当２\"))","v":""},"","",{"$f":"IF(V1009=\"\",\"\",COUNTIF($V$7:V1009,\"該当３\"))","v":""}]
[2213601001,"22",136,{"v":1,"d":"01"},{"v":1,"d":"001"},"静岡県","浜北区(浜松市)","小野口村","小松八幡",null,"","",{"$f":"IF(K1010=\"\",\"\",COUNTIF($K$7:K1010,\"ﾘｽﾄ１\"))","v":""},"","","","","","","",{"$f":"IF(S1010=\"\",\"\",COUNTIF($S$7:S1010,\"該当２\"))","v":""},"","",{"$f":"IF(V1010=\"\",\"\",COUNTIF($V$7:V1010,\"該当３\"))","v":""}]
[2213601002,"22",136,{"v":1,"d":"01"},{"v":2,"d":"002"},"静岡県","浜北区(浜松市)","小野口村","本町",null,"","",{"$f":"IF(K1011=\"\",\"\",COUNTIF($K$7:K1011,\"ﾘｽﾄ１\"))","v":""},"","","","","","","",{"$f":"IF(S1011=\"\",\"\",COUNTIF($S$7:S1011,\"該当２\"))","v":""},"","",{"$f":"IF(V1011=\"\",\"\",COUNTIF($V$7:V1011,\"該当３\"))","v":""}]
[2213601003,"22",136,{"v":1,"d":"01"},{"v":3,"d":"003"},"静岡県","浜北区(浜松市)","小野口村","東町",null,"","",{"$f":"IF(K1012=\"\",\"\",COUNTIF($K$7:K1012,\"ﾘｽﾄ１\"))","v":""},"","","","","","","",{"$f":"IF(S1012=\"\",\"\",COUNTIF($S$7:S1012,\"該当２\"))","v":""},"","",{"$f":"IF(V1012=\"\",\"\",COUNTIF($V$7:V1012,\"該当３\"))","v":""}]
[2213601004,"22",136,{"v":1,"d":"01"},{"v":4,"d":"004"},"静岡県","浜北区(浜松市)","小野口村","尾島",null,"","",{"$f":"IF(K1013=\"\",\"\",COUNTIF($K$7:K1013,\"ﾘｽﾄ１\"))","v":""},"","","","","","","",{"$f":"IF(S1013=\"\",\"\",COUNTIF($S$7:S1013,\"該当２\"))","v":""},"","",{"$f":"IF(V1013=\"\",\"\",COUNTIF($V$7:V1013,\"該当３\"))","v":""}]
[2213601005,"22",136,{"v":1,"d":"01"},{"v":5,"d":"005"},"静岡県","浜北区(浜松市)","小野口村","沖",null,"","",{"$f":"IF(K1014=\"\",\"\",COUNTIF($K$7:K1014,\"ﾘｽﾄ１\"))","v":""},"","","","","","","",{"$f":"IF(S1014=\"\",\"\",COUNTIF($S$7:S1014,\"該当２\"))","v":""},"","",{"$f":"IF(V1014=\"\",\"\",COUNTIF($V$7:V1014,\"該当３\"))","v":""}]
[2213601006,"22",136,{"v":1,"d":"01"},{"v":6,"d":"006"},"静岡県","浜北区(浜松市)","小野口村","西向",null,"","",{"$f":"IF(K1015=\"\",\"\",COUNTIF($K$7:K1015,\"ﾘｽﾄ１\"))","v":""},"","","","","","","",{"$f":"IF(S1015=\"\",\"\",COUNTIF($S$7:S1015,\"該当２\"))","v":""},"","",{"$f":"IF(V1015=\"\",\"\",COUNTIF($V$7:V1015,\"該当３\"))","v":""}]
[2213601007,"22",136,{"v":1,"d":"01"},{"v":7,"d":"007"},"静岡県","浜北区(浜松市)","小野口村","内野上",null,"","",{"$f":"IF(K1016=\"\",\"\",COUNTIF($K$7:K1016,\"ﾘｽﾄ１\"))","v":""},"","","","","","","",{"$f":"IF(S1016=\"\",\"\",COUNTIF($S$7:S1016,\"該当２\"))","v":""},"","",{"$f":"IF(V1016=\"\",\"\",COUNTIF($V$7:V1016,\"該当３\"))","v":""}]
[2213601008,"22",136,{"v":1,"d":"01"},{"v":8,"d":"008"},"静岡県","浜北区(浜松市)","小野口村","内野西",null,"","",{"$f":"IF(K1017=\"\",\"\",COUNTIF($K$7:K1017,\"ﾘｽﾄ１\"))","v":""},"","","","","","","",{"$f":"IF(S1017=\"\",\"\",COUNTIF($S$7:S1017,\"該当２\"))","v":""},"","",{"$f":"IF(V1017=\"\",\"\",COUNTIF($V$7:V1017,\"該当３\"))","v":""}]
[2213601009,"22",136,{"v":1,"d":"01"},{"v":9,"d":"009"},"静岡県","浜北区(浜松市)","小野口村","内野下",null,"","",{"$f":"IF(K1018=\"\",\"\",COUNTIF($K$7:K1018,\"ﾘｽﾄ１\"))","v":""},"","","","","","","",{"$f":"IF(S1018=\"\",\"\",COUNTIF($S$7:S1018,\"該当２\"))","v":""},"","",{"$f":"IF(V1018=\"\",\"\",COUNTIF($V$7:V1018,\"該当３\"))","v":""}]
[2213601010,"22",136,{"v":1,"d":"01"},{"v":10,"d":"010"},"静岡県","浜北区(浜松市)","小野口村","内野小島",null,"","",{"$f":"IF(K1019=\"\",\"\",COUNTIF($K$7:K1019,\"ﾘｽﾄ１\"))","v":""},"","","","","","","",{"$f":"IF(S1019=\"\",\"\",COUNTIF($S$7:S1019,\"該当２\"))","v":""},"","",{"$f":"IF(V1019=\"\",\"\",COUNTIF($V$7:V1019,\"該当３\"))","v":""}]
[2213601011,"22",136,{"v":1,"d":"01"},{"v":11,"d":"011"},"静岡県","浜北区(浜松市)","小野口村","富岡",null,"","",{"$f":"IF(K1020=\"\",\"\",COUNTIF($K$7:K1020,\"ﾘｽﾄ１\"))","v":""},"","","","","","","",{"$f":"IF(S1020=\"\",\"\",COUNTIF($S$7:S1020,\"該当２\"))","v":""},"","",{"$f":"IF(V1020=\"\",\"\",COUNTIF($V$7:V1020,\"該当３\"))","v":""}]
[2213601012,"22",136,{"v":1,"d":"01"},{"v":12,"d":"012"},"静岡県","浜北区(浜松市)","小野口村","法師軒",null,"","",{"$f":"IF(K1021=\"\",\"\",COUNTIF($K$7:K1021,\"ﾘｽﾄ１\"))","v":""},"","","","","","","",{"$f":"IF(S1021=\"\",\"\",COUNTIF($S$7:S1021,\"該当２\"))","v":""},"","",{"$f":"IF(V1021=\"\",\"\",COUNTIF($V$7:V1021,\"該当３\"))","v":""}]
[2213601013,"22",136,{"v":1,"d":"01"},{"v":13,"d":"013"},"静岡県","浜北区(浜松市)","小野口村","平口本村",null,"","",{"$f":"IF(K1022=\"\",\"\",COUNTIF($K$7:K1022,\"ﾘｽﾄ１\"))","v":""},"","","","","","","",{"$f":"IF(S1022=\"\",\"\",COUNTIF($S$7:S1022,\"該当２\"))","v":""},"","",{"$f":"IF(V1022=\"\",\"\",COUNTIF($V$7:V1022,\"該当３\"))","v":""}]
[2213601014,"22",136,{"v":1,"d":"01"},{"v":14,"d":"014"},"静岡県","浜北区(浜松市)","小野口村","新田",null,"","",{"$f":"IF(K1023=\"\",\"\",COUNTIF($K$7:K1023,\"ﾘｽﾄ１\"))","v":""},"","","","","","","",{"$f":"IF(S1023=\"\",\"\",COUNTIF($S$7:S1023,\"該当２\"))","v":""},"","",{"$f":"IF(V1023=\"\",\"\",COUNTIF($V$7:V1023,\"該当３\"))","v":""}]
[2213601015,"22",136,{"v":1,"d":"01"},{"v":15,"d":"015"},"静岡県","浜北区(浜松市)","小野口村","姥ケ谷",null,"","",{"$f":"IF(K1024=\"\",\"\",COUNTIF($K$7:K1024,\"ﾘｽﾄ１\"))","v":""},"","","","","","","",{"$f":"IF(S1024=\"\",\"\",COUNTIF($S$7:S1024,\"該当２\"))","v":""},"","",{"$f":"IF(V1024=\"\",\"\",COUNTIF($V$7:V1024,\"該当３\"))","v":""}]
[2213601016,"22",136,{"v":1,"d":"01"},{"v":16,"d":"016"},"静岡県","浜北区(浜松市)","小野口村","南町",null,"","",{"$f":"IF(K1025=\"\",\"\",COUNTIF($K$7:K1025,\"ﾘｽﾄ１\"))","v":""},"","","","","","","",{"$f":"IF(S1025=\"\",\"\",COUNTIF($S$7:S1025,\"該当２\"))","v":""},"","",{"$f":"IF(V1025=\"\",\"\",COUNTIF($V$7:V1025,\"該当３\"))","v":""}]
[2213601017,"22",136,{"v":1,"d":"01"},{"v":17,"d":"017"},"静岡県","浜北区(浜松市)","小野口村","栄町",null,"","",{"$f":"IF(K1026=\"\",\"\",COUNTIF($K$7:K1026,\"ﾘｽﾄ１\"))","v":""},"","","","","","","",{"$f":"IF(S1026=\"\",\"\",COUNTIF($S$7:S1026,\"該当２\"))","v":""},"","",{"$f":"IF(V1026=\"\",\"\",COUNTIF($V$7:V1026,\"該当３\"))","v":""}]
[2213601018,"22",136,{"v":1,"d":"01"},{"v":18,"d":"018"},"静岡県","浜北区(浜松市)","小野口村","西町",null,"","",{"$f":"IF(K1027=\"\",\"\",COUNTIF($K$7:K1027,\"ﾘｽﾄ１\"))","v":""},"","","","","","","",{"$f":"IF(S1027=\"\",\"\",COUNTIF($S$7:S1027,\"該当２\"))","v":""},"","",{"$f":"IF(V1027=\"\",\"\",COUNTIF($V$7:V1027,\"該当３\"))","v":""}]
[2213602000,"22",136,{"v":2,"d":"02"},{"v":0,"d":"000"},"静岡県","浜北区(浜松市)","北浜村",null,null,"","",{"$f":"IF(K1028=\"\",\"\",COUNTIF($K$7:K1028,\"ﾘｽﾄ１\"))","v":""},"","","","","","","",{"$f":"IF(S1028=\"\",\"\",COUNTIF($S$7:S1028,\"該当２\"))","v":""},"","",{"$f":"IF(V1028=\"\",\"\",COUNTIF($V$7:V1028,\"該当３\"))","v":""}]
[2213602001,"22",136,{"v":2,"d":"02"},{"v":1,"d":"001"},"静岡県","浜北区(浜松市)","北浜村","沼",null,"","",{"$f":"IF(K1029=\"\",\"\",COUNTIF($K$7:K1029,\"ﾘｽﾄ１\"))","v":""},"","","","","","","",{"$f":"IF(S1029=\"\",\"\",COUNTIF($S$7:S1029,\"該当２\"))","v":""},"","",{"$f":"IF(V1029=\"\",\"\",COUNTIF($V$7:V1029,\"該当３\"))","v":""}]
[2213602002,"22",136,{"v":2,"d":"02"},{"v":2,"d":"002"},"静岡県","浜北区(浜松市)","北浜村","横須賀東",null,"","",{"$f":"IF(K1030=\"\",\"\",COUNTIF($K$7:K1030,\"ﾘｽﾄ１\"))","v":""},"","","","","","","",{"$f":"IF(S1030=\"\",\"\",COUNTIF($S$7:S1030,\"該当２\"))","v":""},"","",{"$f":"IF(V1030=\"\",\"\",COUNTIF($V$7:V1030,\"該当３\"))","v":""}]
[2213602003,"22",136,{"v":2,"d":"02"},{"v":3,"d":"003"},"静岡県","浜北区(浜松市)","北浜村","横須賀西",null,"","",{"$f":"IF(K1031=\"\",\"\",COUNTIF($K$7:K1031,\"ﾘｽﾄ１\"))","v":""},"","","","","","","",{"$f":"IF(S1031=\"\",\"\",COUNTIF($S$7:S1031,\"該当２\"))","v":""},"","",{"$f":"IF(V1031=\"\",\"\",COUNTIF($V$7:V1031,\"該当３\"))","v":""}]
[2213602004,"22",136,{"v":2,"d":"02"},{"v":4,"d":"004"},"静岡県","浜北区(浜松市)","北浜村","中条北",null,"","",{"$f":"IF(K1032=\"\",\"\",COUNTIF($K$7:K1032,\"ﾘｽﾄ１\"))","v":""},"","","","","","","",{"$f":"IF(S1032=\"\",\"\",COUNTIF($S$7:S1032,\"該当２\"))","v":""},"","",{"$f":"IF(V1032=\"\",\"\",COUNTIF($V$7:V1032,\"該当３\"))","v":""}]
[2213602005,"22",136,{"v":2,"d":"02"},{"v":5,"d":"005"},"静岡県","浜北区(浜松市)","北浜村","中条南",null,"","",{"$f":"IF(K1033=\"\",\"\",COUNTIF($K$7:K1033,\"ﾘｽﾄ１\"))","v":""},"","","","","","","",{"$f":"IF(S1033=\"\",\"\",COUNTIF($S$7:S1033,\"該当２\"))","v":""},"","",{"$f":"IF(V1033=\"\",\"\",COUNTIF($V$7:V1033,\"該当３\"))","v":""}]
[2213602006,"22",136,{"v":2,"d":"02"},{"v":6,"d":"006"},"静岡県","浜北区(浜松市)","北浜村","寺島南",null,"","",{"$f":"IF(K1034=\"\",\"\",COUNTIF($K$7:K1034,\"ﾘｽﾄ１\"))","v":""},"","",{"$f":"IF(O1034=\"該当１\",G1034,\"\")","v":""},{"$f":"IF(O1034=\"該当１\",\"ﾘｽﾄ2\",\"\")","v":""},{"$f":"IF(Q1034=\"ﾘｽﾄ2\",H1034,\"\")","v":""},"",{"$f":"IF(S1034=\"該当２\",H1034,\"\")","v":""},{"$f":"IF(S1034=\"\",\"\",COUNTIF($S$7:S1034,\"該当２\"))","v":""},{"$f":"IF(AND($S$2=H1034,E1034>0,E1034<998),\"該当３\",\"\")","v":""},{"$f":"IF(V1034=\"該当３\",I1034,\"\")","v":""},{"$f":"IF(V1034=\"\",\"\",COUNTIF($V$7:V1034,\"該当３\"))","v":""}]
[2213602007,"22",136,{"v":2,"d":"02"},{"v":7,"d":"007"},"静岡県","浜北区(浜松市)","北浜村","寺島北",null,{"$f":"IF(AND($C1035>0,$H1035=\"\"),\"ﾘｽﾄ１\",\"\")","v":""},{"$f":"IF(K1035=\"ﾘｽﾄ１\",G1035,\"\")","v":""},{"$f":"IF(K1035=\"\",\"\",COUNTIF($K$7:K1035,\"ﾘｽﾄ１\"))","v":""},{"$f":"IF(AND(D1035=0,E1035>0),\"同一区\",\"\")","v":""},{"$f":"IF(AND(EXACT($K$2,G1035),H1035>0),\"該当１\",\"\")","v":""},"","","",{"$f":"IF(AND(Q1035=\"ﾘｽﾄ2\",OR(I1035=0,AND(N1035=\"同一区\",E1035=1))),\"該当２\",\"\")","v":""},"",{"$f":"IF(S1035=\"\",\"\",COUNTIF($S$7:S1035,\"該当２\"))","v":""},"","",{"$f":"IF(V1035=\"\",\"\",COUNTIF($V$7:V1035,\"該当３\"))","v":""}]
[2213602008,"22",136,{"v":2,"d":"02"},{"v":8,"d":"008"},"静岡県","浜北区(浜松市)","北浜村","寺島東",null,"","",{"$f":"IF(K1036=\"\",\"\",COUNTIF($K$7:K1036,\"ﾘｽﾄ１\"))","v":""},"","","","","","","",{"$f":"IF(S1036=\"\",\"\",COUNTIF($S$7:S1036,\"該当２\"))","v":""},"","",{"$f":"IF(V1036=\"\",\"\",COUNTIF($V$7:V1036,\"該当３\"))","v":""}]
[2213602009,"22",136,{"v":2,"d":"02"},{"v":9,"d":"009"},"静岡県","浜北区(浜松市)","北浜村","高畑西",null,"","",{"$f":"IF(K1037=\"\",\"\",COUNTIF($K$7:K1037,\"ﾘｽﾄ１\"))","v":""},"","","","","","","",{"$f":"IF(S1037=\"\",\"\",COUNTIF($S$7:S1037,\"該当２\"))","v":""},"","",{"$f":"IF(V1037=\"\",\"\",COUNTIF($V$7:V1037,\"該当３\"))","v":""}]
[2213602010,"22",136,{"v":2,"d":"02"},{"v":10,"d":"010"},"静岡県","浜北区(浜松市)","北浜村","高畑東",null,"","",{"$f":"IF(K1038=\"\",\"\",COUNTIF($K$7:K1038,\"ﾘｽﾄ１\"))","v":""},"","","","","","","",{"$f":"IF(S1038=\"\",\"\",COUNTIF($S$7:S1038,\"該当２\"))","v":""},"","",{"$f":"IF(V1038=\"\",\"\",COUNTIF($V$7:V1038,\"該当３\"))","v":""}]
[2213602011,"22",136,{"v":2,"d":"02"},{"v":11,"d":"011"},"静岡県","浜北区(浜松市)","北浜村","東美薗南",null,"","",{"$f":"IF(K1039=\"\",\"\",COUNTIF($K$7:K1039,\"ﾘｽﾄ１\"))","v":""},"","","","","","","",{"$f":"IF(S1039=\"\",\"\",COUNTIF($S$7:S1039,\"該当２\"))","v":""},"","",{"$f":"IF(V1039=\"\",\"\",COUNTIF($V$7:V1039,\"該当３\"))","v":""}]
[2213602012,"22",136,{"v":2,"d":"02"},{"v":12,"d":"012"},"静岡県","浜北区(浜松市)","北浜村","東美薗西",null,"","",{"$f":"IF(K1040=\"\",\"\",COUNTIF($K$7:K1040,\"ﾘｽﾄ１\"))","v":""},"","","","","","","",{"$f":"IF(S1040=\"\",\"\",COUNTIF($S$7:S1040,\"該当２\"))","v":""},"","",{"$f":"IF(V1040=\"\",\"\",COUNTIF($V$7:V1040,\"該当３\"))","v":""}]
[2213602013,"22",136,{"v":2,"d":"02"},{"v":13,"d":"013"},"静岡県","浜北区(浜松市)","北浜村","東美薗東",null,"","",{"$f":"IF(K1041=\"\",\"\",COUNTIF($K$7:K1041,\"ﾘｽﾄ１\"))","v":""},"","","","","","","",{"$f":"IF(S1041=\"\",\"\",COUNTIF($S$7:S1041,\"該当２\"))","v":""},"","",{"$f":"IF(V1041=\"\",\"\",COUNTIF($V$7:V1041,\"該当３\"))","v":""}]
[2213602014,"22",136,{"v":2,"d":"02"},{"v":14,"d":"014"},"静岡県","浜北区(浜松市)","北浜村","油一色",null,"","",{"$f":"IF(K1042=\"\",\"\",COUNTIF($K$7:K1042,\"ﾘｽﾄ１\"))","v":""},"","","","","","","",{"$f":"IF(S1042=\"\",\"\",COUNTIF($S$7:S1042,\"該当２\"))","v":""},"","",{"$f":"IF(V1042=\"\",\"\",COUNTIF($V$7:V1042,\"該当３\"))","v":""}]
[2213602015,"22",136,{"v":2,"d":"02"},{"v":15,"d":"015"},"静岡県","浜北区(浜松市)","北浜村","西美薗大上",null,"","",{"$f":"IF(K1043=\"\",\"\",COUNTIF($K$7:K1043,\"ﾘｽﾄ１\"))","v":""},"","","","","","","",{"$f":"IF(S1043=\"\",\"\",COUNTIF($S$7:S1043,\"該当２\"))","v":""},"","",{"$f":"IF(V1043=\"\",\"\",COUNTIF($V$7:V1043,\"該当３\"))","v":""}]
[2213602016,"22",136,{"v":2,"d":"02"},{"v":16,"d":"016"},"静岡県","浜北区(浜松市)","北浜村","西美薗上",null,"","",{"$f":"IF(K1044=\"\",\"\",COUNTIF($K$7:K1044,\"ﾘｽﾄ１\"))","v":""},"","","","","","","",{"$f":"IF(S1044=\"\",\"\",COUNTIF($S$7:S1044,\"該当２\"))","v":""},"","",{"$f":"IF(V1044=\"\",\"\",COUNTIF($V$7:V1044,\"該当３\"))","v":""}]
[2213602017,"22",136,{"v":2,"d":"02"},{"v":17,"d":"017"},"静岡県","浜北区(浜松市)","北浜村","西美薗中",null,"","",{"$f":"IF(K1045=\"\",\"\",COUNTIF($K$7:K1045,\"ﾘｽﾄ１\"))","v":""},"","","","","","","",{"$f":"IF(S1045=\"\",\"\",COUNTIF($S$7:S1045,\"該当２\"))","v":""},"","",{"$f":"IF(V1045=\"\",\"\",COUNTIF($V$7:V1045,\"該当３\"))","v":""}]
[2213602018,"22",136,{"v":2,"d":"02"},{"v":18,"d":"018"},"静岡県","浜北区(浜松市)","北浜村","西美薗下",null,"","",{"$f":"IF(K1046=\"\",\"\",COUNTIF($K$7:K1046,\"ﾘｽﾄ１\"))","v":""},"","","","","","","",{"$f":"IF(S1046=\"\",\"\",COUNTIF($S$7:S1046,\"該当２\"))","v":""},"","",{"$f":"IF(V1046=\"\",\"\",COUNTIF($V$7:V1046,\"該当３\"))","v":""}]
[2213602019,"22",136,{"v":2,"d":"02"},{"v":19,"d":"019"},"静岡県","浜北区(浜松市)","北浜村","本沢合東",null,"","",{"$f":"IF(K1047=\"\",\"\",COUNTIF($K$7:K1047,\"ﾘｽﾄ１\"))","v":""},"","","","","","","",{"$f":"IF(S1047=\"\",\"\",COUNTIF($S$7:S1047,\"該当２\"))","v":""},"","",{"$f":"IF(V1047=\"\",\"\",COUNTIF($V$7:V1047,\"該当３\"))","v":""}]
[2213602020,"22",136,{"v":2,"d":"02"},{"v":20,"d":"020"},"静岡県","浜北区(浜松市)","北浜村","本沢合西",null,"","",{"$f":"IF(K1048=\"\",\"\",COUNTIF($K$7:K1048,\"ﾘｽﾄ１\"))","v":""},"","","","","","","",{"$f":"IF(S1048=\"\",\"\",COUNTIF($S$7:S1048,\"該当２\"))","v":""},"","",{"$f":"IF(V1048=\"\",\"\",COUNTIF($V$7:V1048,\"該当３\"))","v":""}]
[2213602021,"22",136,{"v":2,"d":"02"},{"v":21,"d":"021"},"静岡県","浜北区(浜松市)","北浜村","道本",null,"","",{"$f":"IF(K1049=\"\",\"\",COUNTIF($K$7:K1049,\"ﾘｽﾄ１\"))","v":""},"","","","","","","",{"$f":"IF(S1049=\"\",\"\",COUNTIF($S$7:S1049,\"該当２\"))","v":""},"","",{"$f":"IF(V1049=\"\",\"\",COUNTIF($V$7:V1049,\"該当３\"))","v":""}]
[2213602022,"22",136,{"v":2,"d":"02"},{"v":22,"d":"022"},"静岡県","浜北区(浜松市)","北浜村","上小林",null,"","",{"$f":"IF(K1050=\"\",\"\",COUNTIF($K$7:K1050,\"ﾘｽﾄ１\"))","v":""},"","","","","","","",{"$f":"IF(S1050=\"\",\"\",COUNTIF($S$7:S1050,\"該当２\"))","v":""},"","",{"$f":"IF(V1050=\"\",\"\",COUNTIF($V$7:V1050,\"該当３\"))","v":""}]
[2213602023,"22",136,{"v":2,"d":"02"},{"v":23,"d":"023"},"静岡県","浜北区(浜松市)","北浜村","下小林",null,"","",{"$f":"IF(K1051=\"\",\"\",COUNTIF($K$7:K1051,\"ﾘｽﾄ１\"))","v":""},"","","","","","","",{"$f":"IF(S1051=\"\",\"\",COUNTIF($S$7:S1051,\"該当２\"))","v":""},"","",{"$f":"IF(V1051=\"\",\"\",COUNTIF($V$7:V1051,\"該当３\"))","v":""}]
[2213602024,"22",136,{"v":2,"d":"02"},{"v":24,"d":"024"},"静岡県","浜北区(浜松市)","北浜村","貴１上",null,"","",{"$f":"IF(K1052=\"\",\"\",COUNTIF($K$7:K1052,\"ﾘｽﾄ１\"))","v":""},"","","","","","","",{"$f":"IF(S1052=\"\",\"\",COUNTIF($S$7:S1052,\"該当２\"))","v":""},"","",{"$f":"IF(V1052=\"\",\"\",COUNTIF($V$7:V1052,\"該当３\"))","v":""}]
[2213602025,"22",136,{"v":2,"d":"02"},{"v":25,"d":"025"},"静岡県","浜北区(浜松市)","北浜村","貴１下",null,"","",{"$f":"IF(K1053=\"\",\"\",COUNTIF($K$7:K1053,\"ﾘｽﾄ１\"))","v":""},"","","","","","","",{"$f":"IF(S1053=\"\",\"\",COUNTIF($S$7:S1053,\"該当２\"))","v":""},"","",{"$f":"IF(V1053=\"\",\"\",COUNTIF($V$7:V1053,\"該当３\"))","v":""}]
[2213602026,"22",136,{"v":2,"d":"02"},{"v":26,"d":"026"},"静岡県","浜北区(浜松市)","北浜村","貴３",null,"","",{"$f":"IF(K1054=\"\",\"\",COUNTIF($K$7:K1054,\"ﾘｽﾄ１\"))","v":""},"","","","","","","",{"$f":"IF(S1054=\"\",\"\",COUNTIF($S$7:S1054,\"該当２\"))","v":""},"","",{"$f":"IF(V1054=\"\",\"\",COUNTIF($V$7:V1054,\"該当３\"))","v":""}]
[2213602027,"22",136,{"v":2,"d":"02"},{"v":27,"d":"027"},"静岡県","浜北区(浜松市)","北浜村","貴２",null,"","",{"$f":"IF(K1055=\"\",\"\",COUNTIF($K$7:K1055,\"ﾘｽﾄ１\"))","v":""},"","","","","","","",{"$f":"IF(S1055=\"\",\"\",COUNTIF($S$7:S1055,\"該当２\"))","v":""},"","",{"$f":"IF(V1055=\"\",\"\",COUNTIF($V$7:V1055,\"該当３\"))","v":""}]
[2213603000,"22",136,{"v":3,"d":"03"},{"v":0,"d":"000"},"静岡県","浜北区(浜松市)","竜池村",null,null,"","",{"$f":"IF(K1056=\"\",\"\",COUNTIF($K$7:K1056,\"ﾘｽﾄ１\"))","v":""},"","","","","","","",{"$f":"IF(S1056=\"\",\"\",COUNTIF($S$7:S1056,\"該当２\"))","v":""},"","",{"$f":"IF(V1056=\"\",\"\",COUNTIF($V$7:V1056,\"該当３\"))","v":""}]
[2213603001,"22",136,{"v":3,"d":"03"},{"v":1,"d":"001"},"静岡県","浜北区(浜松市)","竜池村","善地",null,"","",{"$f":"IF(K1057=\"\",\"\",COUNTIF($K$7:K1057,\"ﾘｽﾄ１\"))","v":""},"","","","","","","",{"$f":"IF(S1057=\"\",\"\",COUNTIF($S$7:S1057,\"該当２\"))","v":""},"","",{"$f":"IF(V1057=\"\",\"\",COUNTIF($V$7:V1057,\"該当３\"))","v":""}]
[2213603002,"22",136,{"v":3,"d":"03"},{"v":2,"d":"002"},"静岡県","浜北区(浜松市)","竜池村","上善地",null,"","",{"$f":"IF(K1058=\"\",\"\",COUNTIF($K$7:K1058,\"ﾘｽﾄ１\"))","v":""},"","","","","","","",{"$f":"IF(S1058=\"\",\"\",COUNTIF($S$7:S1058,\"該当２\"))","v":""},"","",{"$f":"IF(V1058=\"\",\"\",COUNTIF($V$7:V1058,\"該当３\"))","v":""}]
[2213603003,"22",136,{"v":3,"d":"03"},{"v":3,"d":"003"},"静岡県","浜北区(浜松市)","竜池村","永島",null,"","",{"$f":"IF(K1059=\"\",\"\",COUNTIF($K$7:K1059,\"ﾘｽﾄ１\"))","v":""},"","","","","","","",{"$f":"IF(S1059=\"\",\"\",COUNTIF($S$7:S1059,\"該当２\"))","v":""},"","",{"$f":"IF(V1059=\"\",\"\",COUNTIF($V$7:V1059,\"該当３\"))","v":""}]
[2213603004,"22",136,{"v":3,"d":"03"},{"v":4,"d":"004"},"静岡県","浜北区(浜松市)","竜池村","八幡",null,"","",{"$f":"IF(K1060=\"\",\"\",COUNTIF($K$7:K1060,\"ﾘｽﾄ１\"))","v":""},"","","","","","","",{"$f":"IF(S1060=\"\",\"\",COUNTIF($S$7:S1060,\"該当２\"))","v":""},"","",{"$f":"IF(V1060=\"\",\"\",COUNTIF($V$7:V1060,\"該当３\"))","v":""}]
[2213603005,"22",136,{"v":3,"d":"03"},{"v":5,"d":"005"},"静岡県","浜北区(浜松市)","竜池村","新堀",null,"","",{"$f":"IF(K1061=\"\",\"\",COUNTIF($K$7:K1061,\"ﾘｽﾄ１\"))","v":""},"","","","","","","",{"$f":"IF(S1061=\"\",\"\",COUNTIF($S$7:S1061,\"該当２\"))","v":""},"","",{"$f":"IF(V1061=\"\",\"\",COUNTIF($V$7:V1061,\"該当３\"))","v":""}]
[2213603006,"22",136,{"v":3,"d":"03"},{"v":6,"d":"006"},"静岡県","浜北区(浜松市)","竜池村","高薗",null,"","",{"$f":"IF(K1062=\"\",\"\",COUNTIF($K$7:K1062,\"ﾘｽﾄ１\"))","v":""},"","","","","","","",{"$f":"IF(S1062=\"\",\"\",COUNTIF($S$7:S1062,\"該当２\"))","v":""},"","",{"$f":"IF(V1062=\"\",\"\",COUNTIF($V$7:V1062,\"該当３\"))","v":""}]
[2213603007,"22",136,{"v":3,"d":"03"},{"v":7,"d":"007"},"静岡県","浜北区(浜松市)","竜池村","新野下八幡",null,"","",{"$f":"IF(K1063=\"\",\"\",COUNTIF($K$7:K1063,\"ﾘｽﾄ１\"))","v":""},"","","","","","","",{"$f":"IF(S1063=\"\",\"\",COUNTIF($S$7:S1063,\"該当２\"))","v":""},"","",{"$f":"IF(V1063=\"\",\"\",COUNTIF($V$7:V1063,\"該当３\"))","v":""}]
[2213603008,"22",136,{"v":3,"d":"03"},{"v":8,"d":"008"},"静岡県","浜北区(浜松市)","竜池村","下高薗",null,"","",{"$f":"IF(K1064=\"\",\"\",COUNTIF($K$7:K1064,\"ﾘｽﾄ１\"))","v":""},"","","","","","","",{"$f":"IF(S1064=\"\",\"\",COUNTIF($S$7:S1064,\"該当２\"))","v":""},"","",{"$f":"IF(V1064=\"\",\"\",COUNTIF($V$7:V1064,\"該当３\"))","v":""}]
[2213604000,"22",136,{"v":4,"d":"04"},{"v":0,"d":"000"},"静岡県","浜北区(浜松市)","中瀬村",null,null,"","",{"$f":"IF(K1065=\"\",\"\",COUNTIF($K$7:K1065,\"ﾘｽﾄ１\"))","v":""},"","","","","","","",{"$f":"IF(S1065=\"\",\"\",COUNTIF($S$7:S1065,\"該当２\"))","v":""},"","",{"$f":"IF(V1065=\"\",\"\",COUNTIF($V$7:V1065,\"該当３\"))","v":""}]
[2213604001,"22",136,{"v":4,"d":"04"},{"v":1,"d":"001"},"静岡県","浜北区(浜松市)","中瀬村","中瀬１区",null,"","",{"$f":"IF(K1066=\"\",\"\",COUNTIF($K$7:K1066,\"ﾘｽﾄ１\"))","v":""},"","","","","","","",{"$f":"IF(S1066=\"\",\"\",COUNTIF($S$7:S1066,\"該当２\"))","v":""},"","",{"$f":"IF(V1066=\"\",\"\",COUNTIF($V$7:V1066,\"該当３\"))","v":""}]
[2213604002,"22",136,{"v":4,"d":"04"},{"v":2,"d":"002"},"静岡県","浜北区(浜松市)","中瀬村","中瀬２区",null,"","",{"$f":"IF(K1067=\"\",\"\",COUNTIF($K$7:K1067,\"ﾘｽﾄ１\"))","v":""},"","","","","","","",{"$f":"IF(S1067=\"\",\"\",COUNTIF($S$7:S1067,\"該当２\"))","v":""},"","",{"$f":"IF(V1067=\"\",\"\",COUNTIF($V$7:V1067,\"該当３\"))","v":""}]
[2213604003,"22",136,{"v":4,"d":"04"},{"v":3,"d":"003"},"静岡県","浜北区(浜松市)","中瀬村","中瀬３区",null,"","",{"$f":"IF(K1068=\"\",\"\",COUNTIF($K$7:K1068,\"ﾘｽﾄ１\"))","v":""},"","","","","","","",{"$f":"IF(S1068=\"\",\"\",COUNTIF($S$7:S1068,\"該当２\"))","v":""},"","",{"$f":"IF(V1068=\"\",\"\",COUNTIF($V$7:V1068,\"該当３\"))","v":""}]
[2213604004,"22",136,{"v":4,"d":"04"},{"v":4,"d":"004"},"静岡県","浜北区(浜松市)","中瀬村","中瀬４区",null,"","",{"$f":"IF(K1069=\"\",\"\",COUNTIF($K$7:K1069,\"ﾘｽﾄ１\"))","v":""},"","","","","","","",{"$f":"IF(S1069=\"\",\"\",COUNTIF($S$7:S1069,\"該当２\"))","v":""},"","",{"$f":"IF(V1069=\"\",\"\",COUNTIF($V$7:V1069,\"該当３\"))","v":""}]
[2213604005,"22",136,{"v":4,"d":"04"},{"v":5,"d":"005"},"静岡県","浜北区(浜松市)","中瀬村","中瀬５区",null,"","",{"$f":"IF(K1070=\"\",\"\",COUNTIF($K$7:K1070,\"ﾘｽﾄ１\"))","v":""},"","","","","","","",{"$f":"IF(S1070=\"\",\"\",COUNTIF($S$7:S1070,\"該当２\"))","v":""},"","",{"$f":"IF(V1070=\"\",\"\",COUNTIF($V$7:V1070,\"該当３\"))","v":""}]
[2213604006,"22",136,{"v":4,"d":"04"},{"v":6,"d":"006"},"静岡県","浜北区(浜松市)","中瀬村","中瀬６区",null,"","",{"$f":"IF(K1071=\"\",\"\",COUNTIF($K$7:K1071,\"ﾘｽﾄ１\"))","v":""},"","","","","","","",{"$f":"IF(S1071=\"\",\"\",COUNTIF($S$7:S1071,\"該当２\"))","v":""},"","",{"$f":"IF(V1071=\"\",\"\",COUNTIF($V$7:V1071,\"該当３\"))","v":""}]
[2213604007,"22",136,{"v":4,"d":"04"},{"v":7,"d":"007"},"静岡県","浜北区(浜松市)","中瀬村","中瀬７区",null,"","",{"$f":"IF(K1072=\"\",\"\",COUNTIF($K$7:K1072,\"ﾘｽﾄ１\"))","v":""},"","","","","","","",{"$f":"IF(S1072=\"\",\"\",COUNTIF($S$7:S1072,\"該当２\"))","v":""},"","",{"$f":"IF(V1072=\"\",\"\",COUNTIF($V$7:V1072,\"該当３\"))","v":""}]
[2213604008,"22",136,{"v":4,"d":"04"},{"v":8,"d":"008"},"静岡県","浜北区(浜松市)","中瀬村","中瀬８区",null,"","",{"$f":"IF(K1073=\"\",\"\",COUNTIF($K$7:K1073,\"ﾘｽﾄ１\"))","v":""},"","","","","","","",{"$f":"IF(S1073=\"\",\"\",COUNTIF($S$7:S1073,\"該当２\"))","v":""},"","",{"$f":"IF(V1073=\"\",\"\",COUNTIF($V$7:V1073,\"該当３\"))","v":""}]
[2213605000,"22",136,{"v":5,"d":"05"},{"v":0,"d":"000"},"静岡県","浜北区(浜松市)","赤佐村",null,null,"","",{"$f":"IF(K1074=\"\",\"\",COUNTIF($K$7:K1074,\"ﾘｽﾄ１\"))","v":""},"","","","","","","",{"$f":"IF(S1074=\"\",\"\",COUNTIF($S$7:S1074,\"該当２\"))","v":""},"","",{"$f":"IF(V1074=\"\",\"\",COUNTIF($V$7:V1074,\"該当３\"))","v":""}]
[2213605001,"22",136,{"v":5,"d":"05"},{"v":1,"d":"001"},"静岡県","浜北区(浜松市)","赤佐村","赤佐１区",null,"","",{"$f":"IF(K1075=\"\",\"\",COUNTIF($K$7:K1075,\"ﾘｽﾄ１\"))","v":""},"","","","","","","",{"$f":"IF(S1075=\"\",\"\",COUNTIF($S$7:S1075,\"該当２\"))","v":""},"","",{"$f":"IF(V1075=\"\",\"\",COUNTIF($V$7:V1075,\"該当３\"))","v":""}]
[2213605002,"22",136,{"v":5,"d":"05"},{"v":2,"d":"002"},"静岡県","浜北区(浜松市)","赤佐村","赤佐２区",null,"","",{"$f":"IF(K1076=\"\",\"\",COUNTIF($K$7:K1076,\"ﾘｽﾄ１\"))","v":""},"","","","","","","",{"$f":"IF(S1076=\"\",\"\",COUNTIF($S$7:S1076,\"該当２\"))","v":""},"","",{"$f":"IF(V1076=\"\",\"\",COUNTIF($V$7:V1076,\"該当３\"))","v":""}]
[2213605003,"22",136,{"v":5,"d":"05"},{"v":3,"d":"003"},"静岡県","浜北区(浜松市)","赤佐村","赤佐３区",null,"","",{"$f":"IF(K1077=\"\",\"\",COUNTIF($K$7:K1077,\"ﾘｽﾄ１\"))","v":""},"","","","","","","",{"$f":"IF(S1077=\"\",\"\",COUNTIF($S$7:S1077,\"該当２\"))","v":""},"","",{"$f":"IF(V1077=\"\",\"\",COUNTIF($V$7:V1077,\"該当３\"))","v":""}]
[2213605004,"22",136,{"v":5,"d":"05"},{"v":4,"d":"004"},"静岡県","浜北区(浜松市)","赤佐村","赤佐４区",null,"","",{"$f":"IF(K1078=\"\",\"\",COUNTIF($K$7:K1078,\"ﾘｽﾄ１\"))","v":""},"","","","","","","",{"$f":"IF(S1078=\"\",\"\",COUNTIF($S$7:S1078,\"該当２\"))","v":""},"","",{"$f":"IF(V1078=\"\",\"\",COUNTIF($V$7:V1078,\"該当３\"))","v":""}]
[2213605005,"22",136,{"v":5,"d":"05"},{"v":5,"d":"005"},"静岡県","浜北区(浜松市)","赤佐村","赤佐５区",null,"","",{"$f":"IF(K1079=\"\",\"\",COUNTIF($K$7:K1079,\"ﾘｽﾄ１\"))","v":""},"","","","","","","",{"$f":"IF(S1079=\"\",\"\",COUNTIF($S$7:S1079,\"該当２\"))","v":""},"","",{"$f":"IF(V1079=\"\",\"\",COUNTIF($V$7:V1079,\"該当３\"))","v":""}]
[2213605006,"22",136,{"v":5,"d":"05"},{"v":6,"d":"006"},"静岡県","浜北区(浜松市)","赤佐村","赤佐６区",null,"","",{"$f":"IF(K1080=\"\",\"\",COUNTIF($K$7:K1080,\"ﾘｽﾄ１\"))","v":""},"","","","","","","",{"$f":"IF(S1080=\"\",\"\",COUNTIF($S$7:S1080,\"該当２\"))","v":""},"","",{"$f":"IF(V1080=\"\",\"\",COUNTIF($V$7:V1080,\"該当３\"))","v":""}]
[2213605007,"22",136,{"v":5,"d":"05"},{"v":7,"d":"007"},"静岡県","浜北区(浜松市)","赤佐村","赤佐７区",null,"","",{"$f":"IF(K1081=\"\",\"\",COUNTIF($K$7:K1081,\"ﾘｽﾄ１\"))","v":""},"","","","","","","",{"$f":"IF(S1081=\"\",\"\",COUNTIF($S$7:S1081,\"該当２\"))","v":""},"","",{"$f":"IF(V1081=\"\",\"\",COUNTIF($V$7:V1081,\"該当３\"))","v":""}]
[2213605008,"22",136,{"v":5,"d":"05"},{"v":8,"d":"008"},"静岡県","浜北区(浜松市)","赤佐村","赤佐８区",null,"","",{"$f":"IF(K1082=\"\",\"\",COUNTIF($K$7:K1082,\"ﾘｽﾄ１\"))","v":""},"","","","","","","",{"$f":"IF(S1082=\"\",\"\",COUNTIF($S$7:S1082,\"該当２\"))","v":""},"","",{"$f":"IF(V1082=\"\",\"\",COUNTIF($V$7:V1082,\"該当３\"))","v":""}]
[2213605009,"22",136,{"v":5,"d":"05"},{"v":9,"d":"009"},"静岡県","浜北区(浜松市)","赤佐村","赤佐９区",null,"","",{"$f":"IF(K1083=\"\",\"\",COUNTIF($K$7:K1083,\"ﾘｽﾄ１\"))","v":""},"","","","","","","",{"$f":"IF(S1083=\"\",\"\",COUNTIF($S$7:S1083,\"該当２\"))","v":""},"","",{"$f":"IF(V1083=\"\",\"\",COUNTIF($V$7:V1083,\"該当３\"))","v":""}]
[2213605010,"22",136,{"v":5,"d":"05"},{"v":10,"d":"010"},"静岡県","浜北区(浜松市)","赤佐村","赤佐１０区",null,"","",{"$f":"IF(K1084=\"\",\"\",COUNTIF($K$7:K1084,\"ﾘｽﾄ１\"))","v":""},"","","","","","","",{"$f":"IF(S1084=\"\",\"\",COUNTIF($S$7:S1084,\"該当２\"))","v":""},"","",{"$f":"IF(V1084=\"\",\"\",COUNTIF($V$7:V1084,\"該当３\"))","v":""}]
[2213605011,"22",136,{"v":5,"d":"05"},{"v":11,"d":"011"},"静岡県","浜北区(浜松市)","赤佐村","赤佐１３区",null,"","",{"$f":"IF(K1085=\"\",\"\",COUNTIF($K$7:K1085,\"ﾘｽﾄ１\"))","v":""},"","","","","","","",{"$f":"IF(S1085=\"\",\"\",COUNTIF($S$7:S1085,\"該当２\"))","v":""},"","",{"$f":"IF(V1085=\"\",\"\",COUNTIF($V$7:V1085,\"該当３\"))","v":""}]
[2213606000,"22",136,{"v":6,"d":"06"},{"v":0,"d":"000"},"静岡県","浜北区(浜松市)","麁玉村",null,null,"","",{"$f":"IF(K1086=\"\",\"\",COUNTIF($K$7:K1086,\"ﾘｽﾄ１\"))","v":""},"","","","","","","",{"$f":"IF(S1086=\"\",\"\",COUNTIF($S$7:S1086,\"該当２\"))","v":""},"","",{"$f":"IF(V1086=\"\",\"\",COUNTIF($V$7:V1086,\"該当３\"))","v":""}]
[2213606001,"22",136,{"v":6,"d":"06"},{"v":1,"d":"001"},"静岡県","浜北区(浜松市)","麁玉村","堀谷",null,"","",{"$f":"IF(K1087=\"\",\"\",COUNTIF($K$7:K1087,\"ﾘｽﾄ１\"))","v":""},"","","","","","","",{"$f":"IF(S1087=\"\",\"\",COUNTIF($S$7:S1087,\"該当２\"))","v":""},"","",{"$f":"IF(V1087=\"\",\"\",COUNTIF($V$7:V1087,\"該当３\"))","v":""}]
[2213606002,"22",136,{"v":6,"d":"06"},{"v":2,"d":"002"},"静岡県","浜北区(浜松市)","麁玉村","大平",null,"","",{"$f":"IF(K1088=\"\",\"\",COUNTIF($K$7:K1088,\"ﾘｽﾄ１\"))","v":""},"","","","","","","",{"$f":"IF(S1088=\"\",\"\",COUNTIF($S$7:S1088,\"該当２\"))","v":""},"","",{"$f":"IF(V1088=\"\",\"\",COUNTIF($V$7:V1088,\"該当３\"))","v":""}]
[2213606003,"22",136,{"v":6,"d":"06"},{"v":3,"d":"003"},"静岡県","浜北区(浜松市)","麁玉村","灰ノ木",null,"","",{"$f":"IF(K1089=\"\",\"\",COUNTIF($K$7:K1089,\"ﾘｽﾄ１\"))","v":""},"","","","","","","",{"$f":"IF(S1089=\"\",\"\",COUNTIF($S$7:S1089,\"該当２\"))","v":""},"","",{"$f":"IF(V1089=\"\",\"\",COUNTIF($V$7:V1089,\"該当３\"))","v":""}]
[2213606004,"22",136,{"v":6,"d":"06"},{"v":4,"d":"004"},"静岡県","浜北区(浜松市)","麁玉村","大屋敷",null,"","",{"$f":"IF(K1090=\"\",\"\",COUNTIF($K$7:K1090,\"ﾘｽﾄ１\"))","v":""},"","","","","","","",{"$f":"IF(S1090=\"\",\"\",COUNTIF($S$7:S1090,\"該当２\"))","v":""},"","",{"$f":"IF(V1090=\"\",\"\",COUNTIF($V$7:V1090,\"該当３\"))","v":""}]
[2213606005,"22",136,{"v":6,"d":"06"},{"v":5,"d":"005"},"静岡県","浜北区(浜松市)","麁玉村","有隣",null,"","",{"$f":"IF(K1091=\"\",\"\",COUNTIF($K$7:K1091,\"ﾘｽﾄ１\"))","v":""},"","","","","","","",{"$f":"IF(S1091=\"\",\"\",COUNTIF($S$7:S1091,\"該当２\"))","v":""},"","",{"$f":"IF(V1091=\"\",\"\",COUNTIF($V$7:V1091,\"該当３\"))","v":""}]
[2213606006,"22",136,{"v":6,"d":"06"},{"v":6,"d":"006"},"静岡県","浜北区(浜松市)","麁玉村","野口",null,"","",{"$f":"IF(K1092=\"\",\"\",COUNTIF($K$7:K1092,\"ﾘｽﾄ１\"))","v":""},"","","","","","","",{"$f":"IF(S1092=\"\",\"\",COUNTIF($S$7:S1092,\"該当２\"))","v":""},"","",{"$f":"IF(V1092=\"\",\"\",COUNTIF($V$7:V1092,\"該当３\"))","v":""}]
[2213606007,"22",136,{"v":6,"d":"06"},{"v":7,"d":"007"},"静岡県","浜北区(浜松市)","麁玉村","梔池",null,"","",{"$f":"IF(K1093=\"\",\"\",COUNTIF($K$7:K1093,\"ﾘｽﾄ１\"))","v":""},"","","","","","","",{"$f":"IF(S1093=\"\",\"\",COUNTIF($S$7:S1093,\"該当２\"))","v":""},"","",{"$f":"IF(V1093=\"\",\"\",COUNTIF($V$7:V1093,\"該当３\"))","v":""}]
[2213606008,"22",136,{"v":6,"d":"06"},{"v":8,"d":"008"},"静岡県","浜北区(浜松市)","麁玉村","譲栄",null,"","",{"$f":"IF(K1094=\"\",\"\",COUNTIF($K$7:K1094,\"ﾘｽﾄ１\"))","v":""},"","","","","","","",{"$f":"IF(S1094=\"\",\"\",COUNTIF($S$7:S1094,\"該当２\"))","v":""},"","",{"$f":"IF(V1094=\"\",\"\",COUNTIF($V$7:V1094,\"該当３\"))","v":""}]
[2213606009,"22",136,{"v":6,"d":"06"},{"v":9,"d":"009"},"静岡県","浜北区(浜松市)","麁玉村","町",null,"","",{"$f":"IF(K1095=\"\",\"\",COUNTIF($K$7:K1095,\"ﾘｽﾄ１\"))","v":""},"","","","","","","",{"$f":"IF(S1095=\"\",\"\",COUNTIF($S$7:S1095,\"該当２\"))","v":""},"","",{"$f":"IF(V1095=\"\",\"\",COUNTIF($V$7:V1095,\"該当３\"))","v":""}]
[2213606010,"22",136,{"v":6,"d":"06"},{"v":10,"d":"010"},"静岡県","浜北区(浜松市)","麁玉村","東原",null,"","",{"$f":"IF(K1096=\"\",\"\",COUNTIF($K$7:K1096,\"ﾘｽﾄ１\"))","v":""},"","","","","","","",{"$f":"IF(S1096=\"\",\"\",COUNTIF($S$7:S1096,\"該当２\"))","v":""},"","",{"$f":"IF(V1096=\"\",\"\",COUNTIF($V$7:V1096,\"該当３\"))","v":""}]
[2213606011,"22",136,{"v":6,"d":"06"},{"v":11,"d":"011"},"静岡県","浜北区(浜松市)","麁玉村","下善",null,"","",{"$f":"IF(K1097=\"\",\"\",COUNTIF($K$7:K1097,\"ﾘｽﾄ１\"))","v":""},"","","","","","","",{"$f":"IF(S1097=\"\",\"\",COUNTIF($S$7:S1097,\"該当２\"))","v":""},"","",{"$f":"IF(V1097=\"\",\"\",COUNTIF($V$7:V1097,\"該当３\"))","v":""}]
[2213606012,"22",136,{"v":6,"d":"06"},{"v":12,"d":"012"},"静岡県","浜北区(浜松市)","麁玉村","本村",null,"","",{"$f":"IF(K1098=\"\",\"\",COUNTIF($K$7:K1098,\"ﾘｽﾄ１\"))","v":""},"","",{"$f":"IF(O1098=\"該当１\",G1098,\"\")","v":""},{"$f":"IF(O1098=\"該当１\",\"ﾘｽﾄ2\",\"\")","v":""},{"$f":"IF(Q1098=\"ﾘｽﾄ2\",H1098,\"\")","v":""},"",{"$f":"IF(S1098=\"該当２\",H1098,\"\")","v":""},{"$f":"IF(S1098=\"\",\"\",COUNTIF($S$7:S1098,\"該当２\"))","v":""},{"$f":"IF(AND($S$2=H1098,E1098>0,E1098<998),\"該当３\",\"\")","v":""},{"$f":"IF(V1098=\"該当３\",I1098,\"\")","v":""},{"$f":"IF(V1098=\"\",\"\",COUNTIF($V$7:V1098,\"該当３\"))","v":""}]
[2213606013,"22",136,{"v":6,"d":"06"},{"v":13,"d":"013"},"静岡県","浜北区(浜松市)","麁玉村","辺田原",null,{"$f":"IF(AND($C1099>0,$H1099=\"\"),\"ﾘｽﾄ１\",\"\")","v":""},{"$f":"IF(K1099=\"ﾘｽﾄ１\",G1099,\"\")","v":""},{"$f":"IF(K1099=\"\",\"\",COUNTIF($K$7:K1099,\"ﾘｽﾄ１\"))","v":""},{"$f":"IF(AND(D1099=0,E1099>0),\"同一区\",\"\")","v":""},{"$f":"IF(AND(EXACT($K$2,G1099),H1099>0),\"該当１\",\"\")","v":""},"","","",{"$f":"IF(AND(Q1099=\"ﾘｽﾄ2\",OR(I1099=0,AND(N1099=\"同一区\",E1099=1))),\"該当２\",\"\")","v":""},"",{"$f":"IF(S1099=\"\",\"\",COUNTIF($S$7:S1099,\"該当２\"))","v":""},"","",{"$f":"IF(V1099=\"\",\"\",COUNTIF($V$7:V1099,\"該当３\"))","v":""}]
[2213700000,"22",137,{"v":0,"d":"00"},{"v":0,"d":"000"},"静岡県","天竜区(浜松市)",{"$nulls":3},"ﾘｽﾄ１","天竜区(浜松市)",{"$f":"IF(K1100=\"\",\"\",COUNTIF($K$7:K1100,\"ﾘｽﾄ１\"))","v":12},"","","","","","","",{"$f":"IF(S1100=\"\",\"\",COUNTIF($S$7:S1100,\"該当２\"))","v":""},"","",{"$f":"IF(V1100=\"\",\"\",COUNTIF($V$7:V1100,\"該当３\"))","v":""}]
[2213701000,"22",137,{"v":1,"d":"01"},{"v":0,"d":"000"},"静岡県","天竜区(浜松市)","二俣町",null,null,"","",{"$f":"IF(K1101=\"\",\"\",COUNTIF($K$7:K1101,\"ﾘｽﾄ１\"))","v":""},"","","","","","","",{"$f":"IF(S1101=\"\",\"\",COUNTIF($S$7:S1101,\"該当２\"))","v":""},"","",{"$f":"IF(V1101=\"\",\"\",COUNTIF($V$7:V1101,\"該当３\"))","v":""}]
[2213701001,"22",137,{"v":1,"d":"01"},{"v":1,"d":"001"},"静岡県","天竜区(浜松市)","二俣町","大園",null,"","",{"$f":"IF(K1102=\"\",\"\",COUNTIF($K$7:K1102,\"ﾘｽﾄ１\"))","v":""},"","","","","","","",{"$f":"IF(S1102=\"\",\"\",COUNTIF($S$7:S1102,\"該当２\"))","v":""},"","",{"$f":"IF(V1102=\"\",\"\",COUNTIF($V$7:V1102,\"該当３\"))","v":""}]
[2213701002,"22",137,{"v":1,"d":"01"},{"v":2,"d":"002"},"静岡県","天竜区(浜松市)","二俣町","阿蔵",null,"","",{"$f":"IF(K1103=\"\",\"\",COUNTIF($K$7:K1103,\"ﾘｽﾄ１\"))","v":""},"","","","","","","",{"$f":"IF(S1103=\"\",\"\",COUNTIF($S$7:S1103,\"該当２\"))","v":""},"","",{"$f":"IF(V1103=\"\",\"\",COUNTIF($V$7:V1103,\"該当３\"))","v":""}]
[2213701003,"22",137,{"v":1,"d":"01"},{"v":3,"d":"003"},"静岡県","天竜区(浜松市)","二俣町","北鹿島",null,"","",{"$f":"IF(K1104=\"\",\"\",COUNTIF($K$7:K1104,\"ﾘｽﾄ１\"))","v":""},"","","","","","","",{"$f":"IF(S1104=\"\",\"\",COUNTIF($S$7:S1104,\"該当２\"))","v":""},"","",{"$f":"IF(V1104=\"\",\"\",COUNTIF($V$7:V1104,\"該当３\"))","v":""}]
[2213701004,"22",137,{"v":1,"d":"01"},{"v":4,"d":"004"},"静岡県","天竜区(浜松市)","二俣町","西鹿島",null,"","",{"$f":"IF(K1105=\"\",\"\",COUNTIF($K$7:K1105,\"ﾘｽﾄ１\"))","v":""},"","","","","","","",{"$f":"IF(S1105=\"\",\"\",COUNTIF($S$7:S1105,\"該当２\"))","v":""},"","",{"$f":"IF(V1105=\"\",\"\",COUNTIF($V$7:V1105,\"該当３\"))","v":""}]
[2213701005,"22",137,{"v":1,"d":"01"},{"v":5,"d":"005"},"静岡県","天竜区(浜松市)","二俣町","川口",null,"","",{"$f":"IF(K1106=\"\",\"\",COUNTIF($K$7:K1106,\"ﾘｽﾄ１\"))","v":""},"","","","","","","",{"$f":"IF(S1106=\"\",\"\",COUNTIF($S$7:S1106,\"該当２\"))","v":""},"","",{"$f":"IF(V1106=\"\",\"\",COUNTIF($V$7:V1106,\"該当３\"))","v":""}]
[2213701006,"22",137,{"v":1,"d":"01"},{"v":6,"d":"006"},"静岡県","天竜区(浜松市)","二俣町","二俣第１",null,"","",{"$f":"IF(K1107=\"\",\"\",COUNTIF($K$7:K1107,\"ﾘｽﾄ１\"))","v":""},"","","","","","","",{"$f":"IF(S1107=\"\",\"\",COUNTIF($S$7:S1107,\"該当２\"))","v":""},"","",{"$f":"IF(V1107=\"\",\"\",COUNTIF($V$7:V1107,\"該当３\"))","v":""}]
[2213701007,"22",137,{"v":1,"d":"01"},{"v":7,"d":"007"},"静岡県","天竜区(浜松市)","二俣町","二俣第２",null,"","",{"$f":"IF(K1108=\"\",\"\",COUNTIF($K$7:K1108,\"ﾘｽﾄ１\"))","v":""},"","","","","","","",{"$f":"IF(S1108=\"\",\"\",COUNTIF($S$7:S1108,\"該当２\"))","v":""},"","",{"$f":"IF(V1108=\"\",\"\",COUNTIF($V$7:V1108,\"該当３\"))","v":""}]
[2213702000,"22",137,{"v":2,"d":"02"},{"v":0,"d":"000"},"静岡県","天竜区(浜松市)","光明村",null,null,"","",{"$f":"IF(K1109=\"\",\"\",COUNTIF($K$7:K1109,\"ﾘｽﾄ１\"))","v":""},"","","","","","","",{"$f":"IF(S1109=\"\",\"\",COUNTIF($S$7:S1109,\"該当２\"))","v":""},"","",{"$f":"IF(V1109=\"\",\"\",COUNTIF($V$7:V1109,\"該当３\"))","v":""}]
[2213702001,"22",137,{"v":2,"d":"02"},{"v":1,"d":"001"},"静岡県","天竜区(浜松市)","光明村","麓・北島",null,"","",{"$f":"IF(K1110=\"\",\"\",COUNTIF($K$7:K1110,\"ﾘｽﾄ１\"))","v":""},"","","","","","","",{"$f":"IF(S1110=\"\",\"\",COUNTIF($S$7:S1110,\"該当２\"))","v":""},"","",{"$f":"IF(V1110=\"\",\"\",COUNTIF($V$7:V1110,\"該当３\"))","v":""}]
[2213702002,"22",137,{"v":2,"d":"02"},{"v":2,"d":"002"},"静岡県","天竜区(浜松市)","光明村","五明・森脇",null,"","",{"$f":"IF(K1111=\"\",\"\",COUNTIF($K$7:K1111,\"ﾘｽﾄ１\"))","v":""},"","","","","","","",{"$f":"IF(S1111=\"\",\"\",COUNTIF($S$7:S1111,\"該当２\"))","v":""},"","",{"$f":"IF(V1111=\"\",\"\",COUNTIF($V$7:V1111,\"該当３\"))","v":""}]
[2213702003,"22",137,{"v":2,"d":"02"},{"v":3,"d":"003"},"静岡県","天竜区(浜松市)","光明村","中道・大渓・鉈付",null,"","",{"$f":"IF(K1112=\"\",\"\",COUNTIF($K$7:K1112,\"ﾘｽﾄ１\"))","v":""},"","","","","","","",{"$f":"IF(S1112=\"\",\"\",COUNTIF($S$7:S1112,\"該当２\"))","v":""},"","",{"$f":"IF(V1112=\"\",\"\",COUNTIF($V$7:V1112,\"該当３\"))","v":""}]
[2213702004,"22",137,{"v":2,"d":"02"},{"v":4,"d":"004"},"静岡県","天竜区(浜松市)","光明村","中村",null,"","",{"$f":"IF(K1113=\"\",\"\",COUNTIF($K$7:K1113,\"ﾘｽﾄ１\"))","v":""},"","","","","","","",{"$f":"IF(S1113=\"\",\"\",COUNTIF($S$7:S1113,\"該当２\"))","v":""},"","",{"$f":"IF(V1113=\"\",\"\",COUNTIF($V$7:V1113,\"該当３\"))","v":""}]
[2213702005,"22",137,{"v":2,"d":"02"},{"v":5,"d":"005"},"静岡県","天竜区(浜松市)","光明村","八幡",null,"","",{"$f":"IF(K1114=\"\",\"\",COUNTIF($K$7:K1114,\"ﾘｽﾄ１\"))","v":""},"","","","","","","",{"$f":"IF(S1114=\"\",\"\",COUNTIF($S$7:S1114,\"該当２\"))","v":""},"","",{"$f":"IF(V1114=\"\",\"\",COUNTIF($V$7:V1114,\"該当３\"))","v":""}]
[2213702006,"22",137,{"v":2,"d":"02"},{"v":6,"d":"006"},"静岡県","天竜区(浜松市)","光明村","土井戸",null,"","",{"$f":"IF(K1115=\"\",\"\",COUNTIF($K$7:K1115,\"ﾘｽﾄ１\"))","v":""},"","","","","","","",{"$f":"IF(S1115=\"\",\"\",COUNTIF($S$7:S1115,\"該当２\"))","v":""},"","",{"$f":"IF(V1115=\"\",\"\",COUNTIF($V$7:V1115,\"該当３\"))","v":""}]
[2213702007,"22",137,{"v":2,"d":"02"},{"v":7,"d":"007"},"静岡県","天竜区(浜松市)","光明村","山王",null,"","",{"$f":"IF(K1116=\"\",\"\",COUNTIF($K$7:K1116,\"ﾘｽﾄ１\"))","v":""},"","","","","","","",{"$f":"IF(S1116=\"\",\"\",COUNTIF($S$7:S1116,\"該当２\"))","v":""},"","",{"$f":"IF(V1116=\"\",\"\",COUNTIF($V$7:V1116,\"該当３\"))","v":""}]
[2213702008,"22",137,{"v":2,"d":"02"},{"v":8,"d":"008"},"静岡県","天竜区(浜松市)","光明村","栄町",null,"","",{"$f":"IF(K1117=\"\",\"\",COUNTIF($K$7:K1117,\"ﾘｽﾄ１\"))","v":""},"","","","","","","",{"$f":"IF(S1117=\"\",\"\",COUNTIF($S$7:S1117,\"該当２\"))","v":""},"","",{"$f":"IF(V1117=\"\",\"\",COUNTIF($V$7:V1117,\"該当３\"))","v":""}]
[2213702009,"22",137,{"v":2,"d":"02"},{"v":9,"d":"009"},"静岡県","天竜区(浜松市)","光明村","大谷",null,"","",{"$f":"IF(K1118=\"\",\"\",COUNTIF($K$7:K1118,\"ﾘｽﾄ１\"))","v":""},"","","","","","","",{"$f":"IF(S1118=\"\",\"\",COUNTIF($S$7:S1118,\"該当２\"))","v":""},"","",{"$f":"IF(V1118=\"\",\"\",COUNTIF($V$7:V1118,\"該当３\"))","v":""}]
[2213702010,"22",137,{"v":2,"d":"02"},{"v":10,"d":"010"},"静岡県","天竜区(浜松市)","光明村","船明",null,"","",{"$f":"IF(K1119=\"\",\"\",COUNTIF($K$7:K1119,\"ﾘｽﾄ１\"))","v":""},"","","","","","","",{"$f":"IF(S1119=\"\",\"\",COUNTIF($S$7:S1119,\"該当２\"))","v":""},"","",{"$f":"IF(V1119=\"\",\"\",COUNTIF($V$7:V1119,\"該当３\"))","v":""}]
[2213702011,"22",137,{"v":2,"d":"02"},{"v":11,"d":"011"},"静岡県","天竜区(浜松市)","光明村","只来",null,"","",{"$f":"IF(K1120=\"\",\"\",COUNTIF($K$7:K1120,\"ﾘｽﾄ１\"))","v":""},"","","","","","","",{"$f":"IF(S1120=\"\",\"\",COUNTIF($S$7:S1120,\"該当２\"))","v":""},"","",{"$f":"IF(V1120=\"\",\"\",COUNTIF($V$7:V1120,\"該当３\"))","v":""}]
[2213702012,"22",137,{"v":2,"d":"02"},{"v":12,"d":"012"},"静岡県","天竜区(浜松市)","光明村","横川",null,"","",{"$f":"IF(K1121=\"\",\"\",COUNTIF($K$7:K1121,\"ﾘｽﾄ１\"))","v":""},"","","","","","","",{"$f":"IF(S1121=\"\",\"\",COUNTIF($S$7:S1121,\"該当２\"))","v":""},"","",{"$f":"IF(V1121=\"\",\"\",COUNTIF($V$7:V1121,\"該当３\"))","v":""}]
[2213702013,"22",137,{"v":2,"d":"02"},{"v":13,"d":"013"},"静岡県","天竜区(浜松市)","光明村","下百古里",null,"","",{"$f":"IF(K1122=\"\",\"\",COUNTIF($K$7:K1122,\"ﾘｽﾄ１\"))","v":""},"","","","","","","",{"$f":"IF(S1122=\"\",\"\",COUNTIF($S$7:S1122,\"該当２\"))","v":""},"","",{"$f":"IF(V1122=\"\",\"\",COUNTIF($V$7:V1122,\"該当３\"))","v":""}]
[2213702014,"22",137,{"v":2,"d":"02"},{"v":14,"d":"014"},"静岡県","天竜区(浜松市)","光明村","上百古里",null,"","",{"$f":"IF(K1123=\"\",\"\",COUNTIF($K$7:K1123,\"ﾘｽﾄ１\"))","v":""},"","","","","","","",{"$f":"IF(S1123=\"\",\"\",COUNTIF($S$7:S1123,\"該当２\"))","v":""},"","",{"$f":"IF(V1123=\"\",\"\",COUNTIF($V$7:V1123,\"該当３\"))","v":""}]
[2213702015,"22",137,{"v":2,"d":"02"},{"v":15,"d":"015"},"静岡県","天竜区(浜松市)","光明村","大平",null,"","",{"$f":"IF(K1124=\"\",\"\",COUNTIF($K$7:K1124,\"ﾘｽﾄ１\"))","v":""},"","","","","","","",{"$f":"IF(S1124=\"\",\"\",COUNTIF($S$7:S1124,\"該当２\"))","v":""},"","",{"$f":"IF(V1124=\"\",\"\",COUNTIF($V$7:V1124,\"該当３\"))","v":""}]
[2213703000,"22",137,{"v":3,"d":"03"},{"v":0,"d":"000"},"静岡県","天竜区(浜松市)","上阿多古村",null,null,"","",{"$f":"IF(K1125=\"\",\"\",COUNTIF($K$7:K1125,\"ﾘｽﾄ１\"))","v":""},"","","","","","","",{"$f":"IF(S1125=\"\",\"\",COUNTIF($S$7:S1125,\"該当２\"))","v":""},"","",{"$f":"IF(V1125=\"\",\"\",COUNTIF($V$7:V1125,\"該当３\"))","v":""}]
[2213703001,"22",137,{"v":3,"d":"03"},{"v":1,"d":"001"},"静岡県","天竜区(浜松市)","上阿多古村","落合",null,"","",{"$f":"IF(K1126=\"\",\"\",COUNTIF($K$7:K1126,\"ﾘｽﾄ１\"))","v":""},"","","","","","","",{"$f":"IF(S1126=\"\",\"\",COUNTIF($S$7:S1126,\"該当２\"))","v":""},"","",{"$f":"IF(V1126=\"\",\"\",COUNTIF($V$7:V1126,\"該当３\"))","v":""}]
[2213703002,"22",137,{"v":3,"d":"03"},{"v":2,"d":"002"},"静岡県","天竜区(浜松市)","上阿多古村","西",null,"","",{"$f":"IF(K1127=\"\",\"\",COUNTIF($K$7:K1127,\"ﾘｽﾄ１\"))","v":""},"","","","","","","",{"$f":"IF(S1127=\"\",\"\",COUNTIF($S$7:S1127,\"該当２\"))","v":""},"","",{"$f":"IF(V1127=\"\",\"\",COUNTIF($V$7:V1127,\"該当３\"))","v":""}]
[2213703003,"22",137,{"v":3,"d":"03"},{"v":3,"d":"003"},"静岡県","天竜区(浜松市)","上阿多古村","西奥",null,"","",{"$f":"IF(K1128=\"\",\"\",COUNTIF($K$7:K1128,\"ﾘｽﾄ１\"))","v":""},"","","","","","","",{"$f":"IF(S1128=\"\",\"\",COUNTIF($S$7:S1128,\"該当２\"))","v":""},"","",{"$f":"IF(V1128=\"\",\"\",COUNTIF($V$7:V1128,\"該当３\"))","v":""}]
[2213703004,"22",137,{"v":3,"d":"03"},{"v":4,"d":"004"},"静岡県","天竜区(浜松市)","上阿多古村","白野",null,"","",{"$f":"IF(K1129=\"\",\"\",COUNTIF($K$7:K1129,\"ﾘｽﾄ１\"))","v":""},"","","","","","","",{"$f":"IF(S1129=\"\",\"\",COUNTIF($S$7:S1129,\"該当２\"))","v":""},"","",{"$f":"IF(V1129=\"\",\"\",COUNTIF($V$7:V1129,\"該当３\"))","v":""}]
[2213703005,"22",137,{"v":3,"d":"03"},{"v":5,"d":"005"},"静岡県","天竜区(浜松市)","上阿多古村","大沢",null,"","",{"$f":"IF(K1130=\"\",\"\",COUNTIF($K$7:K1130,\"ﾘｽﾄ１\"))","v":""},"","","","","","","",{"$f":"IF(S1130=\"\",\"\",COUNTIF($S$7:S1130,\"該当２\"))","v":""},"","",{"$f":"IF(V1130=\"\",\"\",COUNTIF($V$7:V1130,\"該当３\"))","v":""}]
[2213703006,"22",137,{"v":3,"d":"03"},{"v":6,"d":"006"},"静岡県","天竜区(浜松市)","上阿多古村","東藤平",null,"","",{"$f":"IF(K1131=\"\",\"\",COUNTIF($K$7:K1131,\"ﾘｽﾄ１\"))","v":""},"","","","","","","",{"$f":"IF(S1131=\"\",\"\",COUNTIF($S$7:S1131,\"該当２\"))","v":""},"","",{"$f":"IF(V1131=\"\",\"\",COUNTIF($V$7:V1131,\"該当３\"))","v":""}]
[2213703007,"22",137,{"v":3,"d":"03"},{"v":7,"d":"007"},"静岡県","天竜区(浜松市)","上阿多古村","東",null,"","",{"$f":"IF(K1132=\"\",\"\",COUNTIF($K$7:K1132,\"ﾘｽﾄ１\"))","v":""},"","","","","","","",{"$f":"IF(S1132=\"\",\"\",COUNTIF($S$7:S1132,\"該当２\"))","v":""},"","",{"$f":"IF(V1132=\"\",\"\",COUNTIF($V$7:V1132,\"該当３\"))","v":""}]
[2213703008,"22",137,{"v":3,"d":"03"},{"v":8,"d":"008"},"静岡県","天竜区(浜松市)","上阿多古村","阿寺",null,"","",{"$f":"IF(K1133=\"\",\"\",COUNTIF($K$7:K1133,\"ﾘｽﾄ１\"))","v":""},"","","","","","","",{"$f":"IF(S1133=\"\",\"\",COUNTIF($S$7:S1133,\"該当２\"))","v":""},"","",{"$f":"IF(V1133=\"\",\"\",COUNTIF($V$7:V1133,\"該当３\"))","v":""}]
[2213703009,"22",137,{"v":3,"d":"03"},{"v":9,"d":"009"},"静岡県","天竜区(浜松市)","上阿多古村","芦窪",null,"","",{"$f":"IF(K1134=\"\",\"\",COUNTIF($K$7:K1134,\"ﾘｽﾄ１\"))","v":""},"","","","","","","",{"$f":"IF(S1134=\"\",\"\",COUNTIF($S$7:S1134,\"該当２\"))","v":""},"","",{"$f":"IF(V1134=\"\",\"\",COUNTIF($V$7:V1134,\"該当３\"))","v":""}]
[2213703010,"22",137,{"v":3,"d":"03"},{"v":10,"d":"010"},"静岡県","天竜区(浜松市)","上阿多古村","長沢",null,"","",{"$f":"IF(K1135=\"\",\"\",COUNTIF($K$7:K1135,\"ﾘｽﾄ１\"))","v":""},"","","","","","","",{"$f":"IF(S1135=\"\",\"\",COUNTIF($S$7:S1135,\"該当２\"))","v":""},"","",{"$f":"IF(V1135=\"\",\"\",COUNTIF($V$7:V1135,\"該当３\"))","v":""}]
[2213703011,"22",137,{"v":3,"d":"03"},{"v":11,"d":"011"},"静岡県","天竜区(浜松市)","上阿多古村","懐山",null,"","",{"$f":"IF(K1136=\"\",\"\",COUNTIF($K$7:K1136,\"ﾘｽﾄ１\"))","v":""},"","","","","","","",{"$f":"IF(S1136=\"\",\"\",COUNTIF($S$7:S1136,\"該当２\"))","v":""},"","",{"$f":"IF(V1136=\"\",\"\",COUNTIF($V$7:V1136,\"該当３\"))","v":""}]
[2213704000,"22",137,{"v":4,"d":"04"},{"v":0,"d":"000"},"静岡県","天竜区(浜松市)","下阿多古村",null,null,"","",{"$f":"IF(K1137=\"\",\"\",COUNTIF($K$7:K1137,\"ﾘｽﾄ１\"))","v":""},"","","","","","","",{"$f":"IF(S1137=\"\",\"\",COUNTIF($S$7:S1137,\"該当２\"))","v":""},"","",{"$f":"IF(V1137=\"\",\"\",COUNTIF($V$7:V1137,\"該当３\"))","v":""}]
[2213704001,"22",137,{"v":4,"d":"04"},{"v":1,"d":"001"},"静岡県","天竜区(浜松市)","下阿多古村","石神",null,"","",{"$f":"IF(K1138=\"\",\"\",COUNTIF($K$7:K1138,\"ﾘｽﾄ１\"))","v":""},"","","","","","","",{"$f":"IF(S1138=\"\",\"\",COUNTIF($S$7:S1138,\"該当２\"))","v":""},"","",{"$f":"IF(V1138=\"\",\"\",COUNTIF($V$7:V1138,\"該当３\"))","v":""}]
[2213704002,"22",137,{"v":4,"d":"04"},{"v":2,"d":"002"},"静岡県","天竜区(浜松市)","下阿多古村","上野",null,"","",{"$f":"IF(K1139=\"\",\"\",COUNTIF($K$7:K1139,\"ﾘｽﾄ１\"))","v":""},"","","","","","","",{"$f":"IF(S1139=\"\",\"\",COUNTIF($S$7:S1139,\"該当２\"))","v":""},"","",{"$f":"IF(V1139=\"\",\"\",COUNTIF($V$7:V1139,\"該当３\"))","v":""}]
[2213704003,"22",137,{"v":4,"d":"04"},{"v":3,"d":"003"},"静岡県","天竜区(浜松市)","下阿多古村","両島",null,"","",{"$f":"IF(K1140=\"\",\"\",COUNTIF($K$7:K1140,\"ﾘｽﾄ１\"))","v":""},"","","","","","","",{"$f":"IF(S1140=\"\",\"\",COUNTIF($S$7:S1140,\"該当２\"))","v":""},"","",{"$f":"IF(V1140=\"\",\"\",COUNTIF($V$7:V1140,\"該当３\"))","v":""}]
[2213704004,"22",137,{"v":4,"d":"04"},{"v":4,"d":"004"},"静岡県","天竜区(浜松市)","下阿多古村","青谷",null,"","",{"$f":"IF(K1141=\"\",\"\",COUNTIF($K$7:K1141,\"ﾘｽﾄ１\"))","v":""},"","","","","","","",{"$f":"IF(S1141=\"\",\"\",COUNTIF($S$7:S1141,\"該当２\"))","v":""},"","",{"$f":"IF(V1141=\"\",\"\",COUNTIF($V$7:V1141,\"該当３\"))","v":""}]
[2213704005,"22",137,{"v":4,"d":"04"},{"v":5,"d":"005"},"静岡県","天竜区(浜松市)","下阿多古村","平田",null,"","",{"$f":"IF(K1142=\"\",\"\",COUNTIF($K$7:K1142,\"ﾘｽﾄ１\"))","v":""},"","","","","","","",{"$f":"IF(S1142=\"\",\"\",COUNTIF($S$7:S1142,\"該当２\"))","v":""},"","",{"$f":"IF(V1142=\"\",\"\",COUNTIF($V$7:V1142,\"該当３\"))","v":""}]
[2213704006,"22",137,{"v":4,"d":"04"},{"v":6,"d":"006"},"静岡県","天竜区(浜松市)","下阿多古村","渡ケ島",null,"","",{"$f":"IF(K1143=\"\",\"\",COUNTIF($K$7:K1143,\"ﾘｽﾄ１\"))","v":""},"","","","","","","",{"$f":"IF(S1143=\"\",\"\",COUNTIF($S$7:S1143,\"該当２\"))","v":""},"","",{"$f":"IF(V1143=\"\",\"\",COUNTIF($V$7:V1143,\"該当３\"))","v":""}]
[2213704007,"22",137,{"v":4,"d":"04"},{"v":7,"d":"007"},"静岡県","天竜区(浜松市)","下阿多古村","米沢",null,"","",{"$f":"IF(K1144=\"\",\"\",COUNTIF($K$7:K1144,\"ﾘｽﾄ１\"))","v":""},"","","","","","","",{"$f":"IF(S1144=\"\",\"\",COUNTIF($S$7:S1144,\"該当２\"))","v":""},"","",{"$f":"IF(V1144=\"\",\"\",COUNTIF($V$7:V1144,\"該当３\"))","v":""}]
[2213704008,"22",137,{"v":4,"d":"04"},{"v":8,"d":"008"},"静岡県","天竜区(浜松市)","下阿多古村","日明",null,"","",{"$f":"IF(K1145=\"\",\"\",COUNTIF($K$7:K1145,\"ﾘｽﾄ１\"))","v":""},"","","","","","","",{"$f":"IF(S1145=\"\",\"\",COUNTIF($S$7:S1145,\"該当２\"))","v":""},"","",{"$f":"IF(V1145=\"\",\"\",COUNTIF($V$7:V1145,\"該当３\"))","v":""}]
[2213705000,"22",137,{"v":5,"d":"05"},{"v":0,"d":"000"},"静岡県","天竜区(浜松市)","熊村",null,null,"","",{"$f":"IF(K1146=\"\",\"\",COUNTIF($K$7:K1146,\"ﾘｽﾄ１\"))","v":""},"","","","","","","",{"$f":"IF(S1146=\"\",\"\",COUNTIF($S$7:S1146,\"該当２\"))","v":""},"","",{"$f":"IF(V1146=\"\",\"\",COUNTIF($V$7:V1146,\"該当３\"))","v":""}]
[2213705001,"22",137,{"v":5,"d":"05"},{"v":1,"d":"001"},"静岡県","天竜区(浜松市)","熊村","石打",null,"","",{"$f":"IF(K1147=\"\",\"\",COUNTIF($K$7:K1147,\"ﾘｽﾄ１\"))","v":""},"","","","","","","",{"$f":"IF(S1147=\"\",\"\",COUNTIF($S$7:S1147,\"該当２\"))","v":""},"","",{"$f":"IF(V1147=\"\",\"\",COUNTIF($V$7:V1147,\"該当３\"))","v":""}]
[2213705002,"22",137,{"v":5,"d":"05"},{"v":2,"d":"002"},"静岡県","天竜区(浜松市)","熊村","倉野",null,"","",{"$f":"IF(K1148=\"\",\"\",COUNTIF($K$7:K1148,\"ﾘｽﾄ１\"))","v":""},"","","","","","","",{"$f":"IF(S1148=\"\",\"\",COUNTIF($S$7:S1148,\"該当２\"))","v":""},"","",{"$f":"IF(V1148=\"\",\"\",COUNTIF($V$7:V1148,\"該当３\"))","v":""}]
[2213705003,"22",137,{"v":5,"d":"05"},{"v":3,"d":"003"},"静岡県","天竜区(浜松市)","熊村","柴",null,"","",{"$f":"IF(K1149=\"\",\"\",COUNTIF($K$7:K1149,\"ﾘｽﾄ１\"))","v":""},"","","","","","","",{"$f":"IF(S1149=\"\",\"\",COUNTIF($S$7:S1149,\"該当２\"))","v":""},"","",{"$f":"IF(V1149=\"\",\"\",COUNTIF($V$7:V1149,\"該当３\"))","v":""}]
[2213705004,"22",137,{"v":5,"d":"05"},{"v":4,"d":"004"},"静岡県","天竜区(浜松市)","熊村","沢丸",null,"","",{"$f":"IF(K1150=\"\",\"\",COUNTIF($K$7:K1150,\"ﾘｽﾄ１\"))","v":""},"","","","","","","",{"$f":"IF(S1150=\"\",\"\",COUNTIF($S$7:S1150,\"該当２\"))","v":""},"","",{"$f":"IF(V1150=\"\",\"\",COUNTIF($V$7:V1150,\"該当３\"))","v":""}]
[2213705005,"22",137,{"v":5,"d":"05"},{"v":5,"d":"005"},"静岡県","天竜区(浜松市)","熊村","高平",null,"","",{"$f":"IF(K1151=\"\",\"\",COUNTIF($K$7:K1151,\"ﾘｽﾄ１\"))","v":""},"","","","","","","",{"$f":"IF(S1151=\"\",\"\",COUNTIF($S$7:S1151,\"該当２\"))","v":""},"","",{"$f":"IF(V1151=\"\",\"\",COUNTIF($V$7:V1151,\"該当３\"))","v":""}]
[2213705006,"22",137,{"v":5,"d":"05"},{"v":6,"d":"006"},"静岡県","天竜区(浜松市)","熊村","峯中",null,"","",{"$f":"IF(K1152=\"\",\"\",COUNTIF($K$7:K1152,\"ﾘｽﾄ１\"))","v":""},"","","","","","","",{"$f":"IF(S1152=\"\",\"\",COUNTIF($S$7:S1152,\"該当２\"))","v":""},"","",{"$f":"IF(V1152=\"\",\"\",COUNTIF($V$7:V1152,\"該当３\"))","v":""}]
[2213705007,"22",137,{"v":5,"d":"05"},{"v":7,"d":"007"},"静岡県","天竜区(浜松市)","熊村","峯西",null,"","",{"$f":"IF(K1153=\"\",\"\",COUNTIF($K$7:K1153,\"ﾘｽﾄ１\"))","v":""},"","","","","","","",{"$f":"IF(S1153=\"\",\"\",COUNTIF($S$7:S1153,\"該当２\"))","v":""},"","",{"$f":"IF(V1153=\"\",\"\",COUNTIF($V$7:V1153,\"該当３\"))","v":""}]
[2213705008,"22",137,{"v":5,"d":"05"},{"v":8,"d":"008"},"静岡県","天竜区(浜松市)","熊村","熊平",null,"","",{"$f":"IF(K1154=\"\",\"\",COUNTIF($K$7:K1154,\"ﾘｽﾄ１\"))","v":""},"","","","","","","",{"$f":"IF(S1154=\"\",\"\",COUNTIF($S$7:S1154,\"該当２\"))","v":""},"","",{"$f":"IF(V1154=\"\",\"\",COUNTIF($V$7:V1154,\"該当３\"))","v":""}]
[2213705009,"22",137,{"v":5,"d":"05"},{"v":9,"d":"009"},"静岡県","天竜区(浜松市)","熊村","大地野",null,"","",{"$f":"IF(K1155=\"\",\"\",COUNTIF($K$7:K1155,\"ﾘｽﾄ１\"))","v":""},"","","","","","","",{"$f":"IF(S1155=\"\",\"\",COUNTIF($S$7:S1155,\"該当２\"))","v":""},"","",{"$f":"IF(V1155=\"\",\"\",COUNTIF($V$7:V1155,\"該当３\"))","v":""}]
[2213705010,"22",137,{"v":5,"d":"05"},{"v":10,"d":"010"},"静岡県","天竜区(浜松市)","熊村","坂野",null,"","",{"$f":"IF(K1156=\"\",\"\",COUNTIF($K$7:K1156,\"ﾘｽﾄ１\"))","v":""},"","","","","","","",{"$f":"IF(S1156=\"\",\"\",COUNTIF($S$7:S1156,\"該当２\"))","v":""},"","",{"$f":"IF(V1156=\"\",\"\",COUNTIF($V$7:V1156,\"該当３\"))","v":""}]
[2213705011,"22",137,{"v":5,"d":"05"},{"v":11,"d":"011"},"静岡県","天竜区(浜松市)","熊村","向",null,"","",{"$f":"IF(K1157=\"\",\"\",COUNTIF($K$7:K1157,\"ﾘｽﾄ１\"))","v":""},"","","","","","","",{"$f":"IF(S1157=\"\",\"\",COUNTIF($S$7:S1157,\"該当２\"))","v":""},"","",{"$f":"IF(V1157=\"\",\"\",COUNTIF($V$7:V1157,\"該当３\"))","v":""}]
[2213705012,"22",137,{"v":5,"d":"05"},{"v":12,"d":"012"},"静岡県","天竜区(浜松市)","熊村","市場",null,"","",{"$f":"IF(K1158=\"\",\"\",COUNTIF($K$7:K1158,\"ﾘｽﾄ１\"))","v":""},"","","","","","","",{"$f":"IF(S1158=\"\",\"\",COUNTIF($S$7:S1158,\"該当２\"))","v":""},"","",{"$f":"IF(V1158=\"\",\"\",COUNTIF($V$7:V1158,\"該当３\"))","v":""}]
[2213705013,"22",137,{"v":5,"d":"05"},{"v":13,"d":"013"},"静岡県","天竜区(浜松市)","熊村","上神沢",null,"","",{"$f":"IF(K1159=\"\",\"\",COUNTIF($K$7:K1159,\"ﾘｽﾄ１\"))","v":""},"","","","","","","",{"$f":"IF(S1159=\"\",\"\",COUNTIF($S$7:S1159,\"該当２\"))","v":""},"","",{"$f":"IF(V1159=\"\",\"\",COUNTIF($V$7:V1159,\"該当３\"))","v":""}]
[2213705014,"22",137,{"v":5,"d":"05"},{"v":14,"d":"014"},"静岡県","天竜区(浜松市)","熊村","峯神沢",null,"","",{"$f":"IF(K1160=\"\",\"\",COUNTIF($K$7:K1160,\"ﾘｽﾄ１\"))","v":""},"","","","","","","",{"$f":"IF(S1160=\"\",\"\",COUNTIF($S$7:S1160,\"該当２\"))","v":""},"","",{"$f":"IF(V1160=\"\",\"\",COUNTIF($V$7:V1160,\"該当３\"))","v":""}]
[2213705015,"22",137,{"v":5,"d":"05"},{"v":15,"d":"015"},"静岡県","天竜区(浜松市)","熊村","西神沢東",null,"","",{"$f":"IF(K1161=\"\",\"\",COUNTIF($K$7:K1161,\"ﾘｽﾄ１\"))","v":""},"","","","","","","",{"$f":"IF(S1161=\"\",\"\",COUNTIF($S$7:S1161,\"該当２\"))","v":""},"","",{"$f":"IF(V1161=\"\",\"\",COUNTIF($V$7:V1161,\"該当３\"))","v":""}]
[2213705016,"22",137,{"v":5,"d":"05"},{"v":16,"d":"016"},"静岡県","天竜区(浜松市)","熊村","西神沢西",null,"","",{"$f":"IF(K1162=\"\",\"\",COUNTIF($K$7:K1162,\"ﾘｽﾄ１\"))","v":""},"","",{"$f":"IF(O1162=\"該当１\",G1162,\"\")","v":""},{"$f":"IF(O1162=\"該当１\",\"ﾘｽﾄ2\",\"\")","v":""},{"$f":"IF(Q1162=\"ﾘｽﾄ2\",H1162,\"\")","v":""},"",{"$f":"IF(S1162=\"該当２\",H1162,\"\")","v":""},{"$f":"IF(S1162=\"\",\"\",COUNTIF($S$7:S1162,\"該当２\"))","v":""},{"$f":"IF(AND($S$2=H1162,E1162>0,E1162<998),\"該当３\",\"\")","v":""},{"$f":"IF(V1162=\"該当３\",I1162,\"\")","v":""},{"$f":"IF(V1162=\"\",\"\",COUNTIF($V$7:V1162,\"該当３\"))","v":""}]
[2213705017,"22",137,{"v":5,"d":"05"},{"v":17,"d":"017"},"静岡県","天竜区(浜松市)","熊村","六郎沢",null,{"$f":"IF(AND($C1163>0,$H1163=\"\"),\"ﾘｽﾄ１\",\"\")","v":""},{"$f":"IF(K1163=\"ﾘｽﾄ１\",G1163,\"\")","v":""},{"$f":"IF(K1163=\"\",\"\",COUNTIF($K$7:K1163,\"ﾘｽﾄ１\"))","v":""},{"$f":"IF(AND(D1163=0,E1163>0),\"同一区\",\"\")","v":""},{"$f":"IF(AND(EXACT($K$2,G1163),H1163>0),\"該当１\",\"\")","v":""},"","","",{"$f":"IF(AND(Q1163=\"ﾘｽﾄ2\",OR(I1163=0,AND(N1163=\"同一区\",E1163=1))),\"該当２\",\"\")","v":""},"",{"$f":"IF(S1163=\"\",\"\",COUNTIF($S$7:S1163,\"該当２\"))","v":""},"","",{"$f":"IF(V1163=\"\",\"\",COUNTIF($V$7:V1163,\"該当３\"))","v":""}]
[2213705018,"22",137,{"v":5,"d":"05"},{"v":18,"d":"018"},"静岡県","天竜区(浜松市)","熊村","串山",null,"","",{"$f":"IF(K1164=\"\",\"\",COUNTIF($K$7:K1164,\"ﾘｽﾄ１\"))","v":""},"","","","","","","",{"$f":"IF(S1164=\"\",\"\",COUNTIF($S$7:S1164,\"該当２\"))","v":""},"","",{"$f":"IF(V1164=\"\",\"\",COUNTIF($V$7:V1164,\"該当３\"))","v":""}]
[2213705019,"22",137,{"v":5,"d":"05"},{"v":19,"d":"019"},"静岡県","天竜区(浜松市)","熊村","内熊",null,"","",{"$f":"IF(K1165=\"\",\"\",COUNTIF($K$7:K1165,\"ﾘｽﾄ１\"))","v":""},"","","","","","","",{"$f":"IF(S1165=\"\",\"\",COUNTIF($S$7:S1165,\"該当２\"))","v":""},"","",{"$f":"IF(V1165=\"\",\"\",COUNTIF($V$7:V1165,\"該当３\"))","v":""}]
[2213705020,"22",137,{"v":5,"d":"05"},{"v":20,"d":"020"},"静岡県","天竜区(浜松市)","熊村","本村",null,"","",{"$f":"IF(K1166=\"\",\"\",COUNTIF($K$7:K1166,\"ﾘｽﾄ１\"))","v":""},"","","","","","","",{"$f":"IF(S1166=\"\",\"\",COUNTIF($S$7:S1166,\"該当２\"))","v":""},"","",{"$f":"IF(V1166=\"\",\"\",COUNTIF($V$7:V1166,\"該当３\"))","v":""}]
[2213705021,"22",137,{"v":5,"d":"05"},{"v":21,"d":"021"},"静岡県","天竜区(浜松市)","熊村","東組",null,"","",{"$f":"IF(K1167=\"\",\"\",COUNTIF($K$7:K1167,\"ﾘｽﾄ１\"))","v":""},"","","","","","","",{"$f":"IF(S1167=\"\",\"\",COUNTIF($S$7:S1167,\"該当２\"))","v":""},"","",{"$f":"IF(V1167=\"\",\"\",COUNTIF($V$7:V1167,\"該当３\"))","v":""}]
[2213706000,"22",137,{"v":6,"d":"06"},{"v":0,"d":"000"},"静岡県","天竜区(浜松市)","竜川村",null,null,"","",{"$f":"IF(K1168=\"\",\"\",COUNTIF($K$7:K1168,\"ﾘｽﾄ１\"))","v":""},"","","","","","","",{"$f":"IF(S1168=\"\",\"\",COUNTIF($S$7:S1168,\"該当２\"))","v":""},"","",{"$f":"IF(V1168=\"\",\"\",COUNTIF($V$7:V1168,\"該当３\"))","v":""}]
[2213706001,"22",137,{"v":6,"d":"06"},{"v":1,"d":"001"},"静岡県","天竜区(浜松市)","竜川村","東",null,"","",{"$f":"IF(K1169=\"\",\"\",COUNTIF($K$7:K1169,\"ﾘｽﾄ１\"))","v":""},"","","","","","","",{"$f":"IF(S1169=\"\",\"\",COUNTIF($S$7:S1169,\"該当２\"))","v":""},"","",{"$f":"IF(V1169=\"\",\"\",COUNTIF($V$7:V1169,\"該当３\"))","v":""}]
[2213706002,"22",137,{"v":6,"d":"06"},{"v":2,"d":"002"},"静岡県","天竜区(浜松市)","竜川村","中村",null,"","",{"$f":"IF(K1170=\"\",\"\",COUNTIF($K$7:K1170,\"ﾘｽﾄ１\"))","v":""},"","","","","","","",{"$f":"IF(S1170=\"\",\"\",COUNTIF($S$7:S1170,\"該当２\"))","v":""},"","",{"$f":"IF(V1170=\"\",\"\",COUNTIF($V$7:V1170,\"該当３\"))","v":""}]
[2213706003,"22",137,{"v":6,"d":"06"},{"v":3,"d":"003"},"静岡県","天竜区(浜松市)","竜川村","市場",null,"","",{"$f":"IF(K1171=\"\",\"\",COUNTIF($K$7:K1171,\"ﾘｽﾄ１\"))","v":""},"","","","","","","",{"$f":"IF(S1171=\"\",\"\",COUNTIF($S$7:S1171,\"該当２\"))","v":""},"","",{"$f":"IF(V1171=\"\",\"\",COUNTIF($V$7:V1171,\"該当３\"))","v":""}]
[2213706004,"22",137,{"v":6,"d":"06"},{"v":4,"d":"004"},"静岡県","天竜区(浜松市)","竜川村","西区",null,"","",{"$f":"IF(K1172=\"\",\"\",COUNTIF($K$7:K1172,\"ﾘｽﾄ１\"))","v":""},"","","","","","","",{"$f":"IF(S1172=\"\",\"\",COUNTIF($S$7:S1172,\"該当２\"))","v":""},"","",{"$f":"IF(V1172=\"\",\"\",COUNTIF($V$7:V1172,\"該当３\"))","v":""}]
[2213706005,"22",137,{"v":6,"d":"06"},{"v":5,"d":"005"},"静岡県","天竜区(浜松市)","竜川村","大井平",null,"","",{"$f":"IF(K1173=\"\",\"\",COUNTIF($K$7:K1173,\"ﾘｽﾄ１\"))","v":""},"","","","","","","",{"$f":"IF(S1173=\"\",\"\",COUNTIF($S$7:S1173,\"該当２\"))","v":""},"","",{"$f":"IF(V1173=\"\",\"\",COUNTIF($V$7:V1173,\"該当３\"))","v":""}]
[2213706006,"22",137,{"v":6,"d":"06"},{"v":6,"d":"006"},"静岡県","天竜区(浜松市)","竜川村","安蔵",null,"","",{"$f":"IF(K1174=\"\",\"\",COUNTIF($K$7:K1174,\"ﾘｽﾄ１\"))","v":""},"","","","","","","",{"$f":"IF(S1174=\"\",\"\",COUNTIF($S$7:S1174,\"該当２\"))","v":""},"","",{"$f":"IF(V1174=\"\",\"\",COUNTIF($V$7:V1174,\"該当３\"))","v":""}]
[2213706007,"22",137,{"v":6,"d":"06"},{"v":7,"d":"007"},"静岡県","天竜区(浜松市)","竜川村","大白木",null,"","",{"$f":"IF(K1175=\"\",\"\",COUNTIF($K$7:K1175,\"ﾘｽﾄ１\"))","v":""},"","","","","","","",{"$f":"IF(S1175=\"\",\"\",COUNTIF($S$7:S1175,\"該当２\"))","v":""},"","",{"$f":"IF(V1175=\"\",\"\",COUNTIF($V$7:V1175,\"該当３\"))","v":""}]
[2213706008,"22",137,{"v":6,"d":"06"},{"v":8,"d":"008"},"静岡県","天竜区(浜松市)","竜川村","大倉",null,"","",{"$f":"IF(K1176=\"\",\"\",COUNTIF($K$7:K1176,\"ﾘｽﾄ１\"))","v":""},"","","","","","","",{"$f":"IF(S1176=\"\",\"\",COUNTIF($S$7:S1176,\"該当２\"))","v":""},"","",{"$f":"IF(V1176=\"\",\"\",COUNTIF($V$7:V1176,\"該当３\"))","v":""}]
[2213706009,"22",137,{"v":6,"d":"06"},{"v":9,"d":"009"},"静岡県","天竜区(浜松市)","竜川村","月島",null,"","",{"$f":"IF(K1177=\"\",\"\",COUNTIF($K$7:K1177,\"ﾘｽﾄ１\"))","v":""},"","","","","","","",{"$f":"IF(S1177=\"\",\"\",COUNTIF($S$7:S1177,\"該当２\"))","v":""},"","",{"$f":"IF(V1177=\"\",\"\",COUNTIF($V$7:V1177,\"該当３\"))","v":""}]
[2213706010,"22",137,{"v":6,"d":"06"},{"v":10,"d":"010"},"静岡県","天竜区(浜松市)","竜川村","伊砂",null,"","",{"$f":"IF(K1178=\"\",\"\",COUNTIF($K$7:K1178,\"ﾘｽﾄ１\"))","v":""},"","","","","","","",{"$f":"IF(S1178=\"\",\"\",COUNTIF($S$7:S1178,\"該当２\"))","v":""},"","",{"$f":"IF(V1178=\"\",\"\",COUNTIF($V$7:V1178,\"該当３\"))","v":""}]
[2213706011,"22",137,{"v":6,"d":"06"},{"v":11,"d":"011"},"静岡県","天竜区(浜松市)","竜川村","大川",null,"","",{"$f":"IF(K1179=\"\",\"\",COUNTIF($K$7:K1179,\"ﾘｽﾄ１\"))","v":""},"","","","","","","",{"$f":"IF(S1179=\"\",\"\",COUNTIF($S$7:S1179,\"該当２\"))","v":""},"","",{"$f":"IF(V1179=\"\",\"\",COUNTIF($V$7:V1179,\"該当３\"))","v":""}]
[2213706012,"22",137,{"v":6,"d":"06"},{"v":12,"d":"012"},"静岡県","天竜区(浜松市)","竜川村","相津",null,"","",{"$f":"IF(K1180=\"\",\"\",COUNTIF($K$7:K1180,\"ﾘｽﾄ１\"))","v":""},"","","","","","","",{"$f":"IF(S1180=\"\",\"\",COUNTIF($S$7:S1180,\"該当２\"))","v":""},"","",{"$f":"IF(V1180=\"\",\"\",COUNTIF($V$7:V1180,\"該当３\"))","v":""}]
[2213706013,"22",137,{"v":6,"d":"06"},{"v":13,"d":"013"},"静岡県","天竜区(浜松市)","竜川村","佐久",null,"","",{"$f":"IF(K1181=\"\",\"\",COUNTIF($K$7:K1181,\"ﾘｽﾄ１\"))","v":""},"","","","","","","",{"$f":"IF(S1181=\"\",\"\",COUNTIF($S$7:S1181,\"該当２\"))","v":""},"","",{"$f":"IF(V1181=\"\",\"\",COUNTIF($V$7:V1181,\"該当３\"))","v":""}]
[2213706014,"22",137,{"v":6,"d":"06"},{"v":14,"d":"014"},"静岡県","天竜区(浜松市)","竜川村","谷山",null,"","",{"$f":"IF(K1182=\"\",\"\",COUNTIF($K$7:K1182,\"ﾘｽﾄ１\"))","v":""},"","","","","","","",{"$f":"IF(S1182=\"\",\"\",COUNTIF($S$7:S1182,\"該当２\"))","v":""},"","",{"$f":"IF(V1182=\"\",\"\",COUNTIF($V$7:V1182,\"該当３\"))","v":""}]
[2213706015,"22",137,{"v":6,"d":"06"},{"v":15,"d":"015"},"静岡県","天竜区(浜松市)","竜川村","中島",null,"","",{"$f":"IF(K1183=\"\",\"\",COUNTIF($K$7:K1183,\"ﾘｽﾄ１\"))","v":""},"","","","","","","",{"$f":"IF(S1183=\"\",\"\",COUNTIF($S$7:S1183,\"該当２\"))","v":""},"","",{"$f":"IF(V1183=\"\",\"\",COUNTIF($V$7:V1183,\"該当３\"))","v":""}]
[2213706016,"22",137,{"v":6,"d":"06"},{"v":16,"d":"016"},"静岡県","天竜区(浜松市)","竜川村","松間",null,"","",{"$f":"IF(K1184=\"\",\"\",COUNTIF($K$7:K1184,\"ﾘｽﾄ１\"))","v":""},"","","","","","","",{"$f":"IF(S1184=\"\",\"\",COUNTIF($S$7:S1184,\"該当２\"))","v":""},"","",{"$f":"IF(V1184=\"\",\"\",COUNTIF($V$7:V1184,\"該当３\"))","v":""}]
[2213706017,"22",137,{"v":6,"d":"06"},{"v":17,"d":"017"},"静岡県","天竜区(浜松市)","竜川村","東雲名",null,"","",{"$f":"IF(K1185=\"\",\"\",COUNTIF($K$7:K1185,\"ﾘｽﾄ１\"))","v":""},"","","","","","","",{"$f":"IF(S1185=\"\",\"\",COUNTIF($S$7:S1185,\"該当２\"))","v":""},"","",{"$f":"IF(V1185=\"\",\"\",COUNTIF($V$7:V1185,\"該当３\"))","v":""}]
[2213706018,"22",137,{"v":6,"d":"06"},{"v":18,"d":"018"},"静岡県","天竜区(浜松市)","竜川村","西雲名",null,"","",{"$f":"IF(K1186=\"\",\"\",COUNTIF($K$7:K1186,\"ﾘｽﾄ１\"))","v":""},"","","","","","","",{"$f":"IF(S1186=\"\",\"\",COUNTIF($S$7:S1186,\"該当２\"))","v":""},"","",{"$f":"IF(V1186=\"\",\"\",COUNTIF($V$7:V1186,\"該当３\"))","v":""}]
[2213707000,"22",137,{"v":7,"d":"07"},{"v":0,"d":"000"},"静岡県","天竜区(浜松市)","犬居町",null,null,"","",{"$f":"IF(K1187=\"\",\"\",COUNTIF($K$7:K1187,\"ﾘｽﾄ１\"))","v":""},"","","","","","","",{"$f":"IF(S1187=\"\",\"\",COUNTIF($S$7:S1187,\"該当２\"))","v":""},"","",{"$f":"IF(V1187=\"\",\"\",COUNTIF($V$7:V1187,\"該当３\"))","v":""}]
[2213707001,"22",137,{"v":7,"d":"07"},{"v":1,"d":"001"},"静岡県","天竜区(浜松市)","犬居町","和泉平",null,"","",{"$f":"IF(K1188=\"\",\"\",COUNTIF($K$7:K1188,\"ﾘｽﾄ１\"))","v":""},"","","","","","","",{"$f":"IF(S1188=\"\",\"\",COUNTIF($S$7:S1188,\"該当２\"))","v":""},"","",{"$f":"IF(V1188=\"\",\"\",COUNTIF($V$7:V1188,\"該当３\"))","v":""}]
[2213707002,"22",137,{"v":7,"d":"07"},{"v":2,"d":"002"},"静岡県","天竜区(浜松市)","犬居町","静修",null,"","",{"$f":"IF(K1189=\"\",\"\",COUNTIF($K$7:K1189,\"ﾘｽﾄ１\"))","v":""},"","","","","","","",{"$f":"IF(S1189=\"\",\"\",COUNTIF($S$7:S1189,\"該当２\"))","v":""},"","",{"$f":"IF(V1189=\"\",\"\",COUNTIF($V$7:V1189,\"該当３\"))","v":""}]
[2213707003,"22",137,{"v":7,"d":"07"},{"v":3,"d":"003"},"静岡県","天竜区(浜松市)","犬居町","平野",null,"","",{"$f":"IF(K1190=\"\",\"\",COUNTIF($K$7:K1190,\"ﾘｽﾄ１\"))","v":""},"","","","","","","",{"$f":"IF(S1190=\"\",\"\",COUNTIF($S$7:S1190,\"該当２\"))","v":""},"","",{"$f":"IF(V1190=\"\",\"\",COUNTIF($V$7:V1190,\"該当３\"))","v":""}]
[2213707004,"22",137,{"v":7,"d":"07"},{"v":4,"d":"004"},"静岡県","天竜区(浜松市)","犬居町","平尾",null,"","",{"$f":"IF(K1191=\"\",\"\",COUNTIF($K$7:K1191,\"ﾘｽﾄ１\"))","v":""},"","","","","","","",{"$f":"IF(S1191=\"\",\"\",COUNTIF($S$7:S1191,\"該当２\"))","v":""},"","",{"$f":"IF(V1191=\"\",\"\",COUNTIF($V$7:V1191,\"該当３\"))","v":""}]
[2213707005,"22",137,{"v":7,"d":"07"},{"v":5,"d":"005"},"静岡県","天竜区(浜松市)","犬居町","昭和",null,"","",{"$f":"IF(K1192=\"\",\"\",COUNTIF($K$7:K1192,\"ﾘｽﾄ１\"))","v":""},"","","","","","","",{"$f":"IF(S1192=\"\",\"\",COUNTIF($S$7:S1192,\"該当２\"))","v":""},"","",{"$f":"IF(V1192=\"\",\"\",COUNTIF($V$7:V1192,\"該当３\"))","v":""}]
[2213707006,"22",137,{"v":7,"d":"07"},{"v":6,"d":"006"},"静岡県","天竜区(浜松市)","犬居町","若身",null,"","",{"$f":"IF(K1193=\"\",\"\",COUNTIF($K$7:K1193,\"ﾘｽﾄ１\"))","v":""},"","","","","","","",{"$f":"IF(S1193=\"\",\"\",COUNTIF($S$7:S1193,\"該当２\"))","v":""},"","",{"$f":"IF(V1193=\"\",\"\",COUNTIF($V$7:V1193,\"該当３\"))","v":""}]
[2213707007,"22",137,{"v":7,"d":"07"},{"v":7,"d":"007"},"静岡県","天竜区(浜松市)","犬居町","犬居",null,"","",{"$f":"IF(K1194=\"\",\"\",COUNTIF($K$7:K1194,\"ﾘｽﾄ１\"))","v":""},"","","","","","","",{"$f":"IF(S1194=\"\",\"\",COUNTIF($S$7:S1194,\"該当２\"))","v":""},"","",{"$f":"IF(V1194=\"\",\"\",COUNTIF($V$7:V1194,\"該当３\"))","v":""}]
[2213707008,"22",137,{"v":7,"d":"07"},{"v":8,"d":"008"},"静岡県","天竜区(浜松市)","犬居町","東領家",null,"","",{"$f":"IF(K1195=\"\",\"\",COUNTIF($K$7:K1195,\"ﾘｽﾄ１\"))","v":""},"","","","","","","",{"$f":"IF(S1195=\"\",\"\",COUNTIF($S$7:S1195,\"該当２\"))","v":""},"","",{"$f":"IF(V1195=\"\",\"\",COUNTIF($V$7:V1195,\"該当３\"))","v":""}]
[2213707009,"22",137,{"v":7,"d":"07"},{"v":9,"d":"009"},"静岡県","天竜区(浜松市)","犬居町","中山",null,"","",{"$f":"IF(K1196=\"\",\"\",COUNTIF($K$7:K1196,\"ﾘｽﾄ１\"))","v":""},"","","","","","","",{"$f":"IF(S1196=\"\",\"\",COUNTIF($S$7:S1196,\"該当２\"))","v":""},"","",{"$f":"IF(V1196=\"\",\"\",COUNTIF($V$7:V1196,\"該当３\"))","v":""}]
[2213707010,"22",137,{"v":7,"d":"07"},{"v":10,"d":"010"},"静岡県","天竜区(浜松市)","犬居町","西領家",null,"","",{"$f":"IF(K1197=\"\",\"\",COUNTIF($K$7:K1197,\"ﾘｽﾄ１\"))","v":""},"","","","","","","",{"$f":"IF(S1197=\"\",\"\",COUNTIF($S$7:S1197,\"該当２\"))","v":""},"","",{"$f":"IF(V1197=\"\",\"\",COUNTIF($V$7:V1197,\"該当３\"))","v":""}]
[2213708000,"22",137,{"v":8,"d":"08"},{"v":0,"d":"000"},"静岡県","天竜区(浜松市)","気多村",null,null,"","",{"$f":"IF(K1198=\"\",\"\",COUNTIF($K$7:K1198,\"ﾘｽﾄ１\"))","v":""},"","","","","","","",{"$f":"IF(S1198=\"\",\"\",COUNTIF($S$7:S1198,\"該当２\"))","v":""},"","",{"$f":"IF(V1198=\"\",\"\",COUNTIF($V$7:V1198,\"該当３\"))","v":""}]
[2213708001,"22",137,{"v":8,"d":"08"},{"v":1,"d":"001"},"静岡県","天竜区(浜松市)","気多村","河内",null,"","",{"$f":"IF(K1199=\"\",\"\",COUNTIF($K$7:K1199,\"ﾘｽﾄ１\"))","v":""},"","","","","","","",{"$f":"IF(S1199=\"\",\"\",COUNTIF($S$7:S1199,\"該当２\"))","v":""},"","",{"$f":"IF(V1199=\"\",\"\",COUNTIF($V$7:V1199,\"該当３\"))","v":""}]
[2213708002,"22",137,{"v":8,"d":"08"},{"v":2,"d":"002"},"静岡県","天竜区(浜松市)","気多村","高瀬",null,"","",{"$f":"IF(K1200=\"\",\"\",COUNTIF($K$7:K1200,\"ﾘｽﾄ１\"))","v":""},"","","","","","","",{"$f":"IF(S1200=\"\",\"\",COUNTIF($S$7:S1200,\"該当２\"))","v":""},"","",{"$f":"IF(V1200=\"\",\"\",COUNTIF($V$7:V1200,\"該当３\"))","v":""}]
[2213708003,"22",137,{"v":8,"d":"08"},{"v":3,"d":"003"},"静岡県","天竜区(浜松市)","気多村","久保田",null,"","",{"$f":"IF(K1201=\"\",\"\",COUNTIF($K$7:K1201,\"ﾘｽﾄ１\"))","v":""},"","","","","","","",{"$f":"IF(S1201=\"\",\"\",COUNTIF($S$7:S1201,\"該当２\"))","v":""},"","",{"$f":"IF(V1201=\"\",\"\",COUNTIF($V$7:V1201,\"該当３\"))","v":""}]
[2213708004,"22",137,{"v":8,"d":"08"},{"v":4,"d":"004"},"静岡県","天竜区(浜松市)","気多村","里原",null,"","",{"$f":"IF(K1202=\"\",\"\",COUNTIF($K$7:K1202,\"ﾘｽﾄ１\"))","v":""},"","","","","","","",{"$f":"IF(S1202=\"\",\"\",COUNTIF($S$7:S1202,\"該当２\"))","v":""},"","",{"$f":"IF(V1202=\"\",\"\",COUNTIF($V$7:V1202,\"該当３\"))","v":""}]
[2213708005,"22",137,{"v":8,"d":"08"},{"v":5,"d":"005"},"静岡県","天竜区(浜松市)","気多村","平木",null,"","",{"$f":"IF(K1203=\"\",\"\",COUNTIF($K$7:K1203,\"ﾘｽﾄ１\"))","v":""},"","","","","","","",{"$f":"IF(S1203=\"\",\"\",COUNTIF($S$7:S1203,\"該当２\"))","v":""},"","",{"$f":"IF(V1203=\"\",\"\",COUNTIF($V$7:V1203,\"該当３\"))","v":""}]
[2213708006,"22",137,{"v":8,"d":"08"},{"v":6,"d":"006"},"静岡県","天竜区(浜松市)","気多村","仇山",null,"","",{"$f":"IF(K1204=\"\",\"\",COUNTIF($K$7:K1204,\"ﾘｽﾄ１\"))","v":""},"","","","","","","",{"$f":"IF(S1204=\"\",\"\",COUNTIF($S$7:S1204,\"該当２\"))","v":""},"","",{"$f":"IF(V1204=\"\",\"\",COUNTIF($V$7:V1204,\"該当３\"))","v":""}]
[2213708007,"22",137,{"v":8,"d":"08"},{"v":7,"d":"007"},"静岡県","天竜区(浜松市)","気多村","気田下",null,"","",{"$f":"IF(K1205=\"\",\"\",COUNTIF($K$7:K1205,\"ﾘｽﾄ１\"))","v":""},"","","","","","","",{"$f":"IF(S1205=\"\",\"\",COUNTIF($S$7:S1205,\"該当２\"))","v":""},"","",{"$f":"IF(V1205=\"\",\"\",COUNTIF($V$7:V1205,\"該当３\"))","v":""}]
[2213708008,"22",137,{"v":8,"d":"08"},{"v":8,"d":"008"},"静岡県","天竜区(浜松市)","気多村","気田中",null,"","",{"$f":"IF(K1206=\"\",\"\",COUNTIF($K$7:K1206,\"ﾘｽﾄ１\"))","v":""},"","","","","","","",{"$f":"IF(S1206=\"\",\"\",COUNTIF($S$7:S1206,\"該当２\"))","v":""},"","",{"$f":"IF(V1206=\"\",\"\",COUNTIF($V$7:V1206,\"該当３\"))","v":""}]
[2213708009,"22",137,{"v":8,"d":"08"},{"v":9,"d":"009"},"静岡県","天竜区(浜松市)","気多村","気田上",null,"","",{"$f":"IF(K1207=\"\",\"\",COUNTIF($K$7:K1207,\"ﾘｽﾄ１\"))","v":""},"","","","","","","",{"$f":"IF(S1207=\"\",\"\",COUNTIF($S$7:S1207,\"該当２\"))","v":""},"","",{"$f":"IF(V1207=\"\",\"\",COUNTIF($V$7:V1207,\"該当３\"))","v":""}]
[2213708010,"22",137,{"v":8,"d":"08"},{"v":10,"d":"010"},"静岡県","天竜区(浜松市)","気多村","金川",null,"","",{"$f":"IF(K1208=\"\",\"\",COUNTIF($K$7:K1208,\"ﾘｽﾄ１\"))","v":""},"","","","","","","",{"$f":"IF(S1208=\"\",\"\",COUNTIF($S$7:S1208,\"該当２\"))","v":""},"","",{"$f":"IF(V1208=\"\",\"\",COUNTIF($V$7:V1208,\"該当３\"))","v":""}]
[2213708011,"22",137,{"v":8,"d":"08"},{"v":11,"d":"011"},"静岡県","天竜区(浜松市)","気多村","郷島",null,"","",{"$f":"IF(K1209=\"\",\"\",COUNTIF($K$7:K1209,\"ﾘｽﾄ１\"))","v":""},"","","","","","","",{"$f":"IF(S1209=\"\",\"\",COUNTIF($S$7:S1209,\"該当２\"))","v":""},"","",{"$f":"IF(V1209=\"\",\"\",COUNTIF($V$7:V1209,\"該当３\"))","v":""}]
[2213708012,"22",137,{"v":8,"d":"08"},{"v":12,"d":"012"},"静岡県","天竜区(浜松市)","気多村","山路",null,"","",{"$f":"IF(K1210=\"\",\"\",COUNTIF($K$7:K1210,\"ﾘｽﾄ１\"))","v":""},"","","","","","","",{"$f":"IF(S1210=\"\",\"\",COUNTIF($S$7:S1210,\"該当２\"))","v":""},"","",{"$f":"IF(V1210=\"\",\"\",COUNTIF($V$7:V1210,\"該当３\"))","v":""}]
[2213708013,"22",137,{"v":8,"d":"08"},{"v":13,"d":"013"},"静岡県","天竜区(浜松市)","気多村","赤岡",null,"","",{"$f":"IF(K1211=\"\",\"\",COUNTIF($K$7:K1211,\"ﾘｽﾄ１\"))","v":""},"","","","","","","",{"$f":"IF(S1211=\"\",\"\",COUNTIF($S$7:S1211,\"該当２\"))","v":""},"","",{"$f":"IF(V1211=\"\",\"\",COUNTIF($V$7:V1211,\"該当３\"))","v":""}]
[2213708014,"22",137,{"v":8,"d":"08"},{"v":14,"d":"014"},"静岡県","天竜区(浜松市)","気多村","篠原",null,"","",{"$f":"IF(K1212=\"\",\"\",COUNTIF($K$7:K1212,\"ﾘｽﾄ１\"))","v":""},"","","","","","","",{"$f":"IF(S1212=\"\",\"\",COUNTIF($S$7:S1212,\"該当２\"))","v":""},"","",{"$f":"IF(V1212=\"\",\"\",COUNTIF($V$7:V1212,\"該当３\"))","v":""}]
[2213708015,"22",137,{"v":8,"d":"08"},{"v":15,"d":"015"},"静岡県","天竜区(浜松市)","気多村","野尻",null,"","",{"$f":"IF(K1213=\"\",\"\",COUNTIF($K$7:K1213,\"ﾘｽﾄ１\"))","v":""},"","","","","","","",{"$f":"IF(S1213=\"\",\"\",COUNTIF($S$7:S1213,\"該当２\"))","v":""},"","",{"$f":"IF(V1213=\"\",\"\",COUNTIF($V$7:V1213,\"該当３\"))","v":""}]
[2213708016,"22",137,{"v":8,"d":"08"},{"v":16,"d":"016"},"静岡県","天竜区(浜松市)","気多村","植田",null,"","",{"$f":"IF(K1214=\"\",\"\",COUNTIF($K$7:K1214,\"ﾘｽﾄ１\"))","v":""},"","","","","","","",{"$f":"IF(S1214=\"\",\"\",COUNTIF($S$7:S1214,\"該当２\"))","v":""},"","",{"$f":"IF(V1214=\"\",\"\",COUNTIF($V$7:V1214,\"該当３\"))","v":""}]
[2213708017,"22",137,{"v":8,"d":"08"},{"v":17,"d":"017"},"静岡県","天竜区(浜松市)","気多村","勝坂",null,"","",{"$f":"IF(K1215=\"\",\"\",COUNTIF($K$7:K1215,\"ﾘｽﾄ１\"))","v":""},"","","","","","","",{"$f":"IF(S1215=\"\",\"\",COUNTIF($S$7:S1215,\"該当２\"))","v":""},"","",{"$f":"IF(V1215=\"\",\"\",COUNTIF($V$7:V1215,\"該当３\"))","v":""}]
[2213708018,"22",137,{"v":8,"d":"08"},{"v":18,"d":"018"},"静岡県","天竜区(浜松市)","気多村","石切",null,"","",{"$f":"IF(K1216=\"\",\"\",COUNTIF($K$7:K1216,\"ﾘｽﾄ１\"))","v":""},"","","","","","","",{"$f":"IF(S1216=\"\",\"\",COUNTIF($S$7:S1216,\"該当２\"))","v":""},"","",{"$f":"IF(V1216=\"\",\"\",COUNTIF($V$7:V1216,\"該当３\"))","v":""}]
[2213708019,"22",137,{"v":8,"d":"08"},{"v":19,"d":"019"},"静岡県","天竜区(浜松市)","気多村","小俣京丸",null,"","",{"$f":"IF(K1217=\"\",\"\",COUNTIF($K$7:K1217,\"ﾘｽﾄ１\"))","v":""},"","","","","","","",{"$f":"IF(S1217=\"\",\"\",COUNTIF($S$7:S1217,\"該当２\"))","v":""},"","",{"$f":"IF(V1217=\"\",\"\",COUNTIF($V$7:V1217,\"該当３\"))","v":""}]
[2213709000,"22",137,{"v":9,"d":"09"},{"v":0,"d":"000"},"静岡県","天竜区(浜松市)","熊切村",null,null,"","",{"$f":"IF(K1218=\"\",\"\",COUNTIF($K$7:K1218,\"ﾘｽﾄ１\"))","v":""},"","","","","","","",{"$f":"IF(S1218=\"\",\"\",COUNTIF($S$7:S1218,\"該当２\"))","v":""},"","",{"$f":"IF(V1218=\"\",\"\",COUNTIF($V$7:V1218,\"該当３\"))","v":""}]
[2213709001,"22",137,{"v":9,"d":"09"},{"v":1,"d":"001"},"静岡県","天竜区(浜松市)","熊切村","長蔵寺",null,"","",{"$f":"IF(K1219=\"\",\"\",COUNTIF($K$7:K1219,\"ﾘｽﾄ１\"))","v":""},"","","","","","","",{"$f":"IF(S1219=\"\",\"\",COUNTIF($S$7:S1219,\"該当２\"))","v":""},"","",{"$f":"IF(V1219=\"\",\"\",COUNTIF($V$7:V1219,\"該当３\"))","v":""}]
[2213709002,"22",137,{"v":9,"d":"09"},{"v":2,"d":"002"},"静岡県","天竜区(浜松市)","熊切村","石打松下",null,"","",{"$f":"IF(K1220=\"\",\"\",COUNTIF($K$7:K1220,\"ﾘｽﾄ１\"))","v":""},"","","","","","","",{"$f":"IF(S1220=\"\",\"\",COUNTIF($S$7:S1220,\"該当２\"))","v":""},"","",{"$f":"IF(V1220=\"\",\"\",COUNTIF($V$7:V1220,\"該当３\"))","v":""}]
[2213709003,"22",137,{"v":9,"d":"09"},{"v":3,"d":"003"},"静岡県","天竜区(浜松市)","熊切村","田黒",null,"","",{"$f":"IF(K1221=\"\",\"\",COUNTIF($K$7:K1221,\"ﾘｽﾄ１\"))","v":""},"","","","","","","",{"$f":"IF(S1221=\"\",\"\",COUNTIF($S$7:S1221,\"該当２\"))","v":""},"","",{"$f":"IF(V1221=\"\",\"\",COUNTIF($V$7:V1221,\"該当３\"))","v":""}]
[2213709004,"22",137,{"v":9,"d":"09"},{"v":4,"d":"004"},"静岡県","天竜区(浜松市)","熊切村","筏戸大上",null,"","",{"$f":"IF(K1222=\"\",\"\",COUNTIF($K$7:K1222,\"ﾘｽﾄ１\"))","v":""},"","","","","","","",{"$f":"IF(S1222=\"\",\"\",COUNTIF($S$7:S1222,\"該当２\"))","v":""},"","",{"$f":"IF(V1222=\"\",\"\",COUNTIF($V$7:V1222,\"該当３\"))","v":""}]
[2213709005,"22",137,{"v":9,"d":"09"},{"v":5,"d":"005"},"静岡県","天竜区(浜松市)","熊切村","杉第一",null,"","",{"$f":"IF(K1223=\"\",\"\",COUNTIF($K$7:K1223,\"ﾘｽﾄ１\"))","v":""},"","","","","","","",{"$f":"IF(S1223=\"\",\"\",COUNTIF($S$7:S1223,\"該当２\"))","v":""},"","",{"$f":"IF(V1223=\"\",\"\",COUNTIF($V$7:V1223,\"該当３\"))","v":""}]
[2213709006,"22",137,{"v":9,"d":"09"},{"v":6,"d":"006"},"静岡県","天竜区(浜松市)","熊切村","杉第二",null,"","",{"$f":"IF(K1224=\"\",\"\",COUNTIF($K$7:K1224,\"ﾘｽﾄ１\"))","v":""},"","","","","","","",{"$f":"IF(S1224=\"\",\"\",COUNTIF($S$7:S1224,\"該当２\"))","v":""},"","",{"$f":"IF(V1224=\"\",\"\",COUNTIF($V$7:V1224,\"該当３\"))","v":""}]
[2213709007,"22",137,{"v":9,"d":"09"},{"v":7,"d":"007"},"静岡県","天竜区(浜松市)","熊切村","杉第三",null,"","",{"$f":"IF(K1225=\"\",\"\",COUNTIF($K$7:K1225,\"ﾘｽﾄ１\"))","v":""},"","","","","","","",{"$f":"IF(S1225=\"\",\"\",COUNTIF($S$7:S1225,\"該当２\"))","v":""},"","",{"$f":"IF(V1225=\"\",\"\",COUNTIF($V$7:V1225,\"該当３\"))","v":""}]
[2213709008,"22",137,{"v":9,"d":"09"},{"v":8,"d":"008"},"静岡県","天竜区(浜松市)","熊切村","川上第一",null,"","",{"$f":"IF(K1226=\"\",\"\",COUNTIF($K$7:K1226,\"ﾘｽﾄ１\"))","v":""},"","",{"$f":"IF(O1226=\"該当１\",G1226,\"\")","v":""},{"$f":"IF(O1226=\"該当１\",\"ﾘｽﾄ2\",\"\")","v":""},{"$f":"IF(Q1226=\"ﾘｽﾄ2\",H1226,\"\")","v":""},"",{"$f":"IF(S1226=\"該当２\",H1226,\"\")","v":""},{"$f":"IF(S1226=\"\",\"\",COUNTIF($S$7:S1226,\"該当２\"))","v":""},{"$f":"IF(AND($S$2=H1226,E1226>0,E1226<998),\"該当３\",\"\")","v":""},{"$f":"IF(V1226=\"該当３\",I1226,\"\")","v":""},{"$f":"IF(V1226=\"\",\"\",COUNTIF($V$7:V1226,\"該当３\"))","v":""}]
[2213709009,"22",137,{"v":9,"d":"09"},{"v":9,"d":"009"},"静岡県","天竜区(浜松市)","熊切村","川上第二",null,{"$f":"IF(AND($C1227>0,$H1227=\"\"),\"ﾘｽﾄ１\",\"\")","v":""},{"$f":"IF(K1227=\"ﾘｽﾄ１\",G1227,\"\")","v":""},{"$f":"IF(K1227=\"\",\"\",COUNTIF($K$7:K1227,\"ﾘｽﾄ１\"))","v":""},{"$f":"IF(AND(D1227=0,E1227>0),\"同一区\",\"\")","v":""},{"$f":"IF(AND(EXACT($K$2,G1227),H1227>0),\"該当１\",\"\")","v":""},"","","",{"$f":"IF(AND(Q1227=\"ﾘｽﾄ2\",OR(I1227=0,AND(N1227=\"同一区\",E1227=1))),\"該当２\",\"\")","v":""},"",{"$f":"IF(S1227=\"\",\"\",COUNTIF($S$7:S1227,\"該当２\"))","v":""},"","",{"$f":"IF(V1227=\"\",\"\",COUNTIF($V$7:V1227,\"該当３\"))","v":""}]
[2213709010,"22",137,{"v":9,"d":"09"},{"v":10,"d":"010"},"静岡県","天竜区(浜松市)","熊切村","田河内",null,"","",{"$f":"IF(K1228=\"\",\"\",COUNTIF($K$7:K1228,\"ﾘｽﾄ１\"))","v":""},"","","","","","","",{"$f":"IF(S1228=\"\",\"\",COUNTIF($S$7:S1228,\"該当２\"))","v":""},"","",{"$f":"IF(V1228=\"\",\"\",COUNTIF($V$7:V1228,\"該当３\"))","v":""}]
[2213709011,"22",137,{"v":9,"d":"09"},{"v":11,"d":"011"},"静岡県","天竜区(浜松市)","熊切村","越木平",null,"","",{"$f":"IF(K1229=\"\",\"\",COUNTIF($K$7:K1229,\"ﾘｽﾄ１\"))","v":""},"","","","","","","",{"$f":"IF(S1229=\"\",\"\",COUNTIF($S$7:S1229,\"該当２\"))","v":""},"","",{"$f":"IF(V1229=\"\",\"\",COUNTIF($V$7:V1229,\"該当３\"))","v":""}]
[2213709012,"22",137,{"v":9,"d":"09"},{"v":12,"d":"012"},"静岡県","天竜区(浜松市)","熊切村","牧野",null,"","",{"$f":"IF(K1230=\"\",\"\",COUNTIF($K$7:K1230,\"ﾘｽﾄ１\"))","v":""},"","","","","","","",{"$f":"IF(S1230=\"\",\"\",COUNTIF($S$7:S1230,\"該当２\"))","v":""},"","",{"$f":"IF(V1230=\"\",\"\",COUNTIF($V$7:V1230,\"該当３\"))","v":""}]
[2213709013,"22",137,{"v":9,"d":"09"},{"v":13,"d":"013"},"静岡県","天竜区(浜松市)","熊切村","花島",null,"","",{"$f":"IF(K1231=\"\",\"\",COUNTIF($K$7:K1231,\"ﾘｽﾄ１\"))","v":""},"","","","","","","",{"$f":"IF(S1231=\"\",\"\",COUNTIF($S$7:S1231,\"該当２\"))","v":""},"","",{"$f":"IF(V1231=\"\",\"\",COUNTIF($V$7:V1231,\"該当３\"))","v":""}]
[2213709014,"22",137,{"v":9,"d":"09"},{"v":14,"d":"014"},"静岡県","天竜区(浜松市)","熊切村","大時",null,"","",{"$f":"IF(K1232=\"\",\"\",COUNTIF($K$7:K1232,\"ﾘｽﾄ１\"))","v":""},"","","","","","","",{"$f":"IF(S1232=\"\",\"\",COUNTIF($S$7:S1232,\"該当２\"))","v":""},"","",{"$f":"IF(V1232=\"\",\"\",COUNTIF($V$7:V1232,\"該当３\"))","v":""}]
[2213709015,"22",137,{"v":9,"d":"09"},{"v":15,"d":"015"},"静岡県","天竜区(浜松市)","熊切村","砂川",null,"","",{"$f":"IF(K1233=\"\",\"\",COUNTIF($K$7:K1233,\"ﾘｽﾄ１\"))","v":""},"","","","","","","",{"$f":"IF(S1233=\"\",\"\",COUNTIF($S$7:S1233,\"該当２\"))","v":""},"","",{"$f":"IF(V1233=\"\",\"\",COUNTIF($V$7:V1233,\"該当３\"))","v":""}]
[2213709016,"22",137,{"v":9,"d":"09"},{"v":16,"d":"016"},"静岡県","天竜区(浜松市)","熊切村","胡桃平",null,"","",{"$f":"IF(K1234=\"\",\"\",COUNTIF($K$7:K1234,\"ﾘｽﾄ１\"))","v":""},"","","","","","","",{"$f":"IF(S1234=\"\",\"\",COUNTIF($S$7:S1234,\"該当２\"))","v":""},"","",{"$f":"IF(V1234=\"\",\"\",COUNTIF($V$7:V1234,\"該当３\"))","v":""}]
[2213709017,"22",137,{"v":9,"d":"09"},{"v":17,"d":"017"},"静岡県","天竜区(浜松市)","熊切村","五和",null,"","",{"$f":"IF(K1235=\"\",\"\",COUNTIF($K$7:K1235,\"ﾘｽﾄ１\"))","v":""},"","","","","","","",{"$f":"IF(S1235=\"\",\"\",COUNTIF($S$7:S1235,\"該当２\"))","v":""},"","",{"$f":"IF(V1235=\"\",\"\",COUNTIF($V$7:V1235,\"該当３\"))","v":""}]
[2213710000,"22",137,10,{"v":0,"d":"000"},"静岡県","天竜区(浜松市)","龍山村",null,null,"","",{"$f":"IF(K1236=\"\",\"\",COUNTIF($K$7:K1236,\"ﾘｽﾄ１\"))","v":""},"","","","","","","",{"$f":"IF(S1236=\"\",\"\",COUNTIF($S$7:S1236,\"該当２\"))","v":""},"","",{"$f":"IF(V1236=\"\",\"\",COUNTIF($V$7:V1236,\"該当３\"))","v":""}]
[2213710001,"22",137,10,{"v":1,"d":"001"},"静岡県","天竜区(浜松市)","龍山村","西川",null,"","",{"$f":"IF(K1237=\"\",\"\",COUNTIF($K$7:K1237,\"ﾘｽﾄ１\"))","v":""},"","","","","","","",{"$f":"IF(S1237=\"\",\"\",COUNTIF($S$7:S1237,\"該当２\"))","v":""},"","",{"$f":"IF(V1237=\"\",\"\",COUNTIF($V$7:V1237,\"該当３\"))","v":""}]
[2213710002,"22",137,10,{"v":2,"d":"002"},"静岡県","天竜区(浜松市)","龍山村","落合",null,"","",{"$f":"IF(K1238=\"\",\"\",COUNTIF($K$7:K1238,\"ﾘｽﾄ１\"))","v":""},"","","","","","","",{"$f":"IF(S1238=\"\",\"\",COUNTIF($S$7:S1238,\"該当２\"))","v":""},"","",{"$f":"IF(V1238=\"\",\"\",COUNTIF($V$7:V1238,\"該当３\"))","v":""}]
[2213710003,"22",137,10,{"v":3,"d":"003"},"静岡県","天竜区(浜松市)","龍山村","白倉",null,"","",{"$f":"IF(K1239=\"\",\"\",COUNTIF($K$7:K1239,\"ﾘｽﾄ１\"))","v":""},"","","","","","","",{"$f":"IF(S1239=\"\",\"\",COUNTIF($S$7:S1239,\"該当２\"))","v":""},"","",{"$f":"IF(V1239=\"\",\"\",COUNTIF($V$7:V1239,\"該当３\"))","v":""}]
[2213710004,"22",137,10,{"v":4,"d":"004"},"静岡県","天竜区(浜松市)","龍山村","鮎釣",null,"","",{"$f":"IF(K1240=\"\",\"\",COUNTIF($K$7:K1240,\"ﾘｽﾄ１\"))","v":""},"","","","","","","",{"$f":"IF(S1240=\"\",\"\",COUNTIF($S$7:S1240,\"該当２\"))","v":""},"","",{"$f":"IF(V1240=\"\",\"\",COUNTIF($V$7:V1240,\"該当３\"))","v":""}]
[2213710005,"22",137,10,{"v":5,"d":"005"},"静岡県","天竜区(浜松市)","龍山村","戸倉",null,"","",{"$f":"IF(K1241=\"\",\"\",COUNTIF($K$7:K1241,\"ﾘｽﾄ１\"))","v":""},"","","","","","","",{"$f":"IF(S1241=\"\",\"\",COUNTIF($S$7:S1241,\"該当２\"))","v":""},"","",{"$f":"IF(V1241=\"\",\"\",COUNTIF($V$7:V1241,\"該当３\"))","v":""}]
[2213710006,"22",137,10,{"v":6,"d":"006"},"静岡県","天竜区(浜松市)","龍山村","中島",null,"","",{"$f":"IF(K1242=\"\",\"\",COUNTIF($K$7:K1242,\"ﾘｽﾄ１\"))","v":""},"","","","","","","",{"$f":"IF(S1242=\"\",\"\",COUNTIF($S$7:S1242,\"該当２\"))","v":""},"","",{"$f":"IF(V1242=\"\",\"\",COUNTIF($V$7:V1242,\"該当３\"))","v":""}]
[2213710007,"22",137,10,{"v":7,"d":"007"},"静岡県","天竜区(浜松市)","龍山村","雲折",null,"","",{"$f":"IF(K1243=\"\",\"\",COUNTIF($K$7:K1243,\"ﾘｽﾄ１\"))","v":""},"","","","","","","",{"$f":"IF(S1243=\"\",\"\",COUNTIF($S$7:S1243,\"該当２\"))","v":""},"","",{"$f":"IF(V1243=\"\",\"\",COUNTIF($V$7:V1243,\"該当３\"))","v":""}]
[2213710008,"22",137,10,{"v":8,"d":"008"},"静岡県","天竜区(浜松市)","龍山村","下平山",null,"","",{"$f":"IF(K1244=\"\",\"\",COUNTIF($K$7:K1244,\"ﾘｽﾄ１\"))","v":""},"","","","","","","",{"$f":"IF(S1244=\"\",\"\",COUNTIF($S$7:S1244,\"該当２\"))","v":""},"","",{"$f":"IF(V1244=\"\",\"\",COUNTIF($V$7:V1244,\"該当３\"))","v":""}]
[2213710009,"22",137,10,{"v":9,"d":"009"},"静岡県","天竜区(浜松市)","龍山村","瀬尻南１",null,"","",{"$f":"IF(K1245=\"\",\"\",COUNTIF($K$7:K1245,\"ﾘｽﾄ１\"))","v":""},"","","","","","","",{"$f":"IF(S1245=\"\",\"\",COUNTIF($S$7:S1245,\"該当２\"))","v":""},"","",{"$f":"IF(V1245=\"\",\"\",COUNTIF($V$7:V1245,\"該当３\"))","v":""}]
[2213710010,"22",137,10,{"v":10,"d":"010"},"静岡県","天竜区(浜松市)","龍山村","瀬尻南２",null,"","",{"$f":"IF(K1246=\"\",\"\",COUNTIF($K$7:K1246,\"ﾘｽﾄ１\"))","v":""},"","","","","","","",{"$f":"IF(S1246=\"\",\"\",COUNTIF($S$7:S1246,\"該当２\"))","v":""},"","",{"$f":"IF(V1246=\"\",\"\",COUNTIF($V$7:V1246,\"該当３\"))","v":""}]
[2213710011,"22",137,10,{"v":11,"d":"011"},"静岡県","天竜区(浜松市)","龍山村","瀬尻北",null,"","",{"$f":"IF(K1247=\"\",\"\",COUNTIF($K$7:K1247,\"ﾘｽﾄ１\"))","v":""},"","","","","","","",{"$f":"IF(S1247=\"\",\"\",COUNTIF($S$7:S1247,\"該当２\"))","v":""},"","",{"$f":"IF(V1247=\"\",\"\",COUNTIF($V$7:V1247,\"該当３\"))","v":""}]
[2213710012,"22",137,10,{"v":12,"d":"012"},"静岡県","天竜区(浜松市)","龍山村","高誉",null,"","",{"$f":"IF(K1248=\"\",\"\",COUNTIF($K$7:K1248,\"ﾘｽﾄ１\"))","v":""},"","","","","","","",{"$f":"IF(S1248=\"\",\"\",COUNTIF($S$7:S1248,\"該当２\"))","v":""},"","",{"$f":"IF(V1248=\"\",\"\",COUNTIF($V$7:V1248,\"該当３\"))","v":""}]
[2213711000,"22",137,11,{"v":0,"d":"000"},"静岡県","天竜区(浜松市)","浦川町",null,null,"","",{"$f":"IF(K1249=\"\",\"\",COUNTIF($K$7:K1249,\"ﾘｽﾄ１\"))","v":""},"","","","","","","",{"$f":"IF(S1249=\"\",\"\",COUNTIF($S$7:S1249,\"該当２\"))","v":""},"","",{"$f":"IF(V1249=\"\",\"\",COUNTIF($V$7:V1249,\"該当３\"))","v":""}]
[2213711001,"22",137,11,{"v":1,"d":"001"},"静岡県","天竜区(浜松市)","浦川町","吉沢",null,"","",{"$f":"IF(K1250=\"\",\"\",COUNTIF($K$7:K1250,\"ﾘｽﾄ１\"))","v":""},"","","","","","","",{"$f":"IF(S1250=\"\",\"\",COUNTIF($S$7:S1250,\"該当２\"))","v":""},"","",{"$f":"IF(V1250=\"\",\"\",COUNTIF($V$7:V1250,\"該当３\"))","v":""}]
[2213711002,"22",137,11,{"v":2,"d":"002"},"静岡県","天竜区(浜松市)","浦川町","川上",null,"","",{"$f":"IF(K1251=\"\",\"\",COUNTIF($K$7:K1251,\"ﾘｽﾄ１\"))","v":""},"","","","","","","",{"$f":"IF(S1251=\"\",\"\",COUNTIF($S$7:S1251,\"該当２\"))","v":""},"","",{"$f":"IF(V1251=\"\",\"\",COUNTIF($V$7:V1251,\"該当３\"))","v":""}]
[2213711003,"22",137,11,{"v":3,"d":"003"},"静岡県","天竜区(浜松市)","浦川町","出馬",null,"","",{"$f":"IF(K1252=\"\",\"\",COUNTIF($K$7:K1252,\"ﾘｽﾄ１\"))","v":""},"","","","","","","",{"$f":"IF(S1252=\"\",\"\",COUNTIF($S$7:S1252,\"該当２\"))","v":""},"","",{"$f":"IF(V1252=\"\",\"\",COUNTIF($V$7:V1252,\"該当３\"))","v":""}]
[2213711004,"22",137,11,{"v":4,"d":"004"},"静岡県","天竜区(浜松市)","浦川町","沢上",null,"","",{"$f":"IF(K1253=\"\",\"\",COUNTIF($K$7:K1253,\"ﾘｽﾄ１\"))","v":""},"","","","","","","",{"$f":"IF(S1253=\"\",\"\",COUNTIF($S$7:S1253,\"該当２\"))","v":""},"","",{"$f":"IF(V1253=\"\",\"\",COUNTIF($V$7:V1253,\"該当３\"))","v":""}]
[2213711005,"22",137,11,{"v":5,"d":"005"},"静岡県","天竜区(浜松市)","浦川町","上市場",null,"","",{"$f":"IF(K1254=\"\",\"\",COUNTIF($K$7:K1254,\"ﾘｽﾄ１\"))","v":""},"","","","","","","",{"$f":"IF(S1254=\"\",\"\",COUNTIF($S$7:S1254,\"該当２\"))","v":""},"","",{"$f":"IF(V1254=\"\",\"\",COUNTIF($V$7:V1254,\"該当３\"))","v":""}]
[2213711006,"22",137,11,{"v":6,"d":"006"},"静岡県","天竜区(浜松市)","浦川町","町",null,"","",{"$f":"IF(K1255=\"\",\"\",COUNTIF($K$7:K1255,\"ﾘｽﾄ１\"))","v":""},"","","","","","","",{"$f":"IF(S1255=\"\",\"\",COUNTIF($S$7:S1255,\"該当２\"))","v":""},"","",{"$f":"IF(V1255=\"\",\"\",COUNTIF($V$7:V1255,\"該当３\"))","v":""}]
[2213711007,"22",137,11,{"v":7,"d":"007"},"静岡県","天竜区(浜松市)","浦川町","柏古瀬",null,"","",{"$f":"IF(K1256=\"\",\"\",COUNTIF($K$7:K1256,\"ﾘｽﾄ１\"))","v":""},"","","","","","","",{"$f":"IF(S1256=\"\",\"\",COUNTIF($S$7:S1256,\"該当２\"))","v":""},"","",{"$f":"IF(V1256=\"\",\"\",COUNTIF($V$7:V1256,\"該当３\"))","v":""}]
[2213711008,"22",137,11,{"v":8,"d":"008"},"静岡県","天竜区(浜松市)","浦川町","小田敷",null,"","",{"$f":"IF(K1257=\"\",\"\",COUNTIF($K$7:K1257,\"ﾘｽﾄ１\"))","v":""},"","","","","","","",{"$f":"IF(S1257=\"\",\"\",COUNTIF($S$7:S1257,\"該当２\"))","v":""},"","",{"$f":"IF(V1257=\"\",\"\",COUNTIF($V$7:V1257,\"該当３\"))","v":""}]
[2213711009,"22",137,11,{"v":9,"d":"009"},"静岡県","天竜区(浜松市)","浦川町","島中",null,"","",{"$f":"IF(K1258=\"\",\"\",COUNTIF($K$7:K1258,\"ﾘｽﾄ１\"))","v":""},"","","","","","","",{"$f":"IF(S1258=\"\",\"\",COUNTIF($S$7:S1258,\"該当２\"))","v":""},"","",{"$f":"IF(V1258=\"\",\"\",COUNTIF($V$7:V1258,\"該当３\"))","v":""}]
[2213711010,"22",137,11,{"v":10,"d":"010"},"静岡県","天竜区(浜松市)","浦川町","河内",null,"","",{"$f":"IF(K1259=\"\",\"\",COUNTIF($K$7:K1259,\"ﾘｽﾄ１\"))","v":""},"","","","","","","",{"$f":"IF(S1259=\"\",\"\",COUNTIF($S$7:S1259,\"該当２\"))","v":""},"","",{"$f":"IF(V1259=\"\",\"\",COUNTIF($V$7:V1259,\"該当３\"))","v":""}]
[2213711011,"22",137,11,{"v":11,"d":"011"},"静岡県","天竜区(浜松市)","浦川町","地八",null,"","",{"$f":"IF(K1260=\"\",\"\",COUNTIF($K$7:K1260,\"ﾘｽﾄ１\"))","v":""},"","","","","","","",{"$f":"IF(S1260=\"\",\"\",COUNTIF($S$7:S1260,\"該当２\"))","v":""},"","",{"$f":"IF(V1260=\"\",\"\",COUNTIF($V$7:V1260,\"該当３\"))","v":""}]
[2213711012,"22",137,11,{"v":12,"d":"012"},"静岡県","天竜区(浜松市)","浦川町","和山間",null,"","",{"$f":"IF(K1261=\"\",\"\",COUNTIF($K$7:K1261,\"ﾘｽﾄ１\"))","v":""},"","","","","","","",{"$f":"IF(S1261=\"\",\"\",COUNTIF($S$7:S1261,\"該当２\"))","v":""},"","",{"$f":"IF(V1261=\"\",\"\",COUNTIF($V$7:V1261,\"該当３\"))","v":""}]
[2213711013,"22",137,11,{"v":13,"d":"013"},"静岡県","天竜区(浜松市)","浦川町","早瀬",null,"","",{"$f":"IF(K1262=\"\",\"\",COUNTIF($K$7:K1262,\"ﾘｽﾄ１\"))","v":""},"","","","","","","",{"$f":"IF(S1262=\"\",\"\",COUNTIF($S$7:S1262,\"該当２\"))","v":""},"","",{"$f":"IF(V1262=\"\",\"\",COUNTIF($V$7:V1262,\"該当３\"))","v":""}]
[2213711014,"22",137,11,{"v":14,"d":"014"},"静岡県","天竜区(浜松市)","浦川町","神妻",null,"","",{"$f":"IF(K1263=\"\",\"\",COUNTIF($K$7:K1263,\"ﾘｽﾄ１\"))","v":""},"","","","","","","",{"$f":"IF(S1263=\"\",\"\",COUNTIF($S$7:S1263,\"該当２\"))","v":""},"","",{"$f":"IF(V1263=\"\",\"\",COUNTIF($V$7:V1263,\"該当３\"))","v":""}]
[2213711015,"22",137,11,{"v":15,"d":"015"},"静岡県","天竜区(浜松市)","浦川町","川合",null,"","",{"$f":"IF(K1264=\"\",\"\",COUNTIF($K$7:K1264,\"ﾘｽﾄ１\"))","v":""},"","","","","","","",{"$f":"IF(S1264=\"\",\"\",COUNTIF($S$7:S1264,\"該当２\"))","v":""},"","",{"$f":"IF(V1264=\"\",\"\",COUNTIF($V$7:V1264,\"該当３\"))","v":""}]
[2213712000,"22",137,12,{"v":0,"d":"000"},"静岡県","天竜区(浜松市)","佐久間村",null,null,"","",{"$f":"IF(K1265=\"\",\"\",COUNTIF($K$7:K1265,\"ﾘｽﾄ１\"))","v":""},"","","","","","","",{"$f":"IF(S1265=\"\",\"\",COUNTIF($S$7:S1265,\"該当２\"))","v":""},"","",{"$f":"IF(V1265=\"\",\"\",COUNTIF($V$7:V1265,\"該当３\"))","v":""}]
[2213712001,"22",137,12,{"v":1,"d":"001"},"静岡県","天竜区(浜松市)","佐久間村","上野",null,"","",{"$f":"IF(K1266=\"\",\"\",COUNTIF($K$7:K1266,\"ﾘｽﾄ１\"))","v":""},"","","","","","","",{"$f":"IF(S1266=\"\",\"\",COUNTIF($S$7:S1266,\"該当２\"))","v":""},"","",{"$f":"IF(V1266=\"\",\"\",COUNTIF($V$7:V1266,\"該当３\"))","v":""}]
[2213712002,"22",137,12,{"v":2,"d":"002"},"静岡県","天竜区(浜松市)","佐久間村","峯",null,"","",{"$f":"IF(K1267=\"\",\"\",COUNTIF($K$7:K1267,\"ﾘｽﾄ１\"))","v":""},"","","","","","","",{"$f":"IF(S1267=\"\",\"\",COUNTIF($S$7:S1267,\"該当２\"))","v":""},"","",{"$f":"IF(V1267=\"\",\"\",COUNTIF($V$7:V1267,\"該当３\"))","v":""}]
[2213712003,"22",137,12,{"v":3,"d":"003"},"静岡県","天竜区(浜松市)","佐久間村","下平",null,"","",{"$f":"IF(K1268=\"\",\"\",COUNTIF($K$7:K1268,\"ﾘｽﾄ１\"))","v":""},"","","","","","","",{"$f":"IF(S1268=\"\",\"\",COUNTIF($S$7:S1268,\"該当２\"))","v":""},"","",{"$f":"IF(V1268=\"\",\"\",COUNTIF($V$7:V1268,\"該当３\"))","v":""}]
[2213712004,"22",137,12,{"v":4,"d":"004"},"静岡県","天竜区(浜松市)","佐久間村","羽ケ庄",null,"","",{"$f":"IF(K1269=\"\",\"\",COUNTIF($K$7:K1269,\"ﾘｽﾄ１\"))","v":""},"","","","","","","",{"$f":"IF(S1269=\"\",\"\",COUNTIF($S$7:S1269,\"該当２\"))","v":""},"","",{"$f":"IF(V1269=\"\",\"\",COUNTIF($V$7:V1269,\"該当３\"))","v":""}]
[2213712005,"22",137,12,{"v":5,"d":"005"},"静岡県","天竜区(浜松市)","佐久間村","半場",null,"","",{"$f":"IF(K1270=\"\",\"\",COUNTIF($K$7:K1270,\"ﾘｽﾄ１\"))","v":""},"","","","","","","",{"$f":"IF(S1270=\"\",\"\",COUNTIF($S$7:S1270,\"該当２\"))","v":""},"","",{"$f":"IF(V1270=\"\",\"\",COUNTIF($V$7:V1270,\"該当３\"))","v":""}]
[2213712006,"22",137,12,{"v":6,"d":"006"},"静岡県","天竜区(浜松市)","佐久間村","佐久間",null,"","",{"$f":"IF(K1271=\"\",\"\",COUNTIF($K$7:K1271,\"ﾘｽﾄ１\"))","v":""},"","","","","","","",{"$f":"IF(S1271=\"\",\"\",COUNTIF($S$7:S1271,\"該当２\"))","v":""},"","",{"$f":"IF(V1271=\"\",\"\",COUNTIF($V$7:V1271,\"該当３\"))","v":""}]
[2213712007,"22",137,12,{"v":7,"d":"007"},"静岡県","天竜区(浜松市)","佐久間村","中部",null,"","",{"$f":"IF(K1272=\"\",\"\",COUNTIF($K$7:K1272,\"ﾘｽﾄ１\"))","v":""},"","","","","","","",{"$f":"IF(S1272=\"\",\"\",COUNTIF($S$7:S1272,\"該当２\"))","v":""},"","",{"$f":"IF(V1272=\"\",\"\",COUNTIF($V$7:V1272,\"該当３\"))","v":""}]
[2213713000,"22",137,13,{"v":0,"d":"000"},"静岡県","天竜区(浜松市)","山香村",null,null,"","",{"$f":"IF(K1273=\"\",\"\",COUNTIF($K$7:K1273,\"ﾘｽﾄ１\"))","v":""},"","","","","","","",{"$f":"IF(S1273=\"\",\"\",COUNTIF($S$7:S1273,\"該当２\"))","v":""},"","",{"$f":"IF(V1273=\"\",\"\",COUNTIF($V$7:V1273,\"該当３\"))","v":""}]
[2213713001,"22",137,13,{"v":1,"d":"001"},"静岡県","天竜区(浜松市)","山香村","大滝",null,"","",{"$f":"IF(K1274=\"\",\"\",COUNTIF($K$7:K1274,\"ﾘｽﾄ１\"))","v":""},"","","","","","","",{"$f":"IF(S1274=\"\",\"\",COUNTIF($S$7:S1274,\"該当２\"))","v":""},"","",{"$f":"IF(V1274=\"\",\"\",COUNTIF($V$7:V1274,\"該当３\"))","v":""}]
[2213713002,"22",137,13,{"v":2,"d":"002"},"静岡県","天竜区(浜松市)","山香村","平和",null,"","",{"$f":"IF(K1275=\"\",\"\",COUNTIF($K$7:K1275,\"ﾘｽﾄ１\"))","v":""},"","","","","","","",{"$f":"IF(S1275=\"\",\"\",COUNTIF($S$7:S1275,\"該当２\"))","v":""},"","",{"$f":"IF(V1275=\"\",\"\",COUNTIF($V$7:V1275,\"該当３\"))","v":""}]
[2213713003,"22",137,13,{"v":3,"d":"003"},"静岡県","天竜区(浜松市)","山香村","仙戸",null,"","",{"$f":"IF(K1276=\"\",\"\",COUNTIF($K$7:K1276,\"ﾘｽﾄ１\"))","v":""},"","","","","","","",{"$f":"IF(S1276=\"\",\"\",COUNTIF($S$7:S1276,\"該当２\"))","v":""},"","",{"$f":"IF(V1276=\"\",\"\",COUNTIF($V$7:V1276,\"該当３\"))","v":""}]
[2213713004,"22",137,13,{"v":4,"d":"004"},"静岡県","天竜区(浜松市)","山香村","鮎釣",null,"","",{"$f":"IF(K1277=\"\",\"\",COUNTIF($K$7:K1277,\"ﾘｽﾄ１\"))","v":""},"","","","","","","",{"$f":"IF(S1277=\"\",\"\",COUNTIF($S$7:S1277,\"該当２\"))","v":""},"","",{"$f":"IF(V1277=\"\",\"\",COUNTIF($V$7:V1277,\"該当３\"))","v":""}]
[2213713005,"22",137,13,{"v":5,"d":"005"},"静岡県","天竜区(浜松市)","山香村","福沢",null,"","",{"$f":"IF(K1278=\"\",\"\",COUNTIF($K$7:K1278,\"ﾘｽﾄ１\"))","v":""},"","","","","","","",{"$f":"IF(S1278=\"\",\"\",COUNTIF($S$7:S1278,\"該当２\"))","v":""},"","",{"$f":"IF(V1278=\"\",\"\",COUNTIF($V$7:V1278,\"該当３\"))","v":""}]
[2213713006,"22",137,13,{"v":6,"d":"006"},"静岡県","天竜区(浜松市)","山香村","和泉",null,"","",{"$f":"IF(K1279=\"\",\"\",COUNTIF($K$7:K1279,\"ﾘｽﾄ１\"))","v":""},"","","","","","","",{"$f":"IF(S1279=\"\",\"\",COUNTIF($S$7:S1279,\"該当２\"))","v":""},"","",{"$f":"IF(V1279=\"\",\"\",COUNTIF($V$7:V1279,\"該当３\"))","v":""}]
[2213713007,"22",137,13,{"v":7,"d":"007"},"静岡県","天竜区(浜松市)","山香村","間庄",null,"","",{"$f":"IF(K1280=\"\",\"\",COUNTIF($K$7:K1280,\"ﾘｽﾄ１\"))","v":""},"","","","","","","",{"$f":"IF(S1280=\"\",\"\",COUNTIF($S$7:S1280,\"該当２\"))","v":""},"","",{"$f":"IF(V1280=\"\",\"\",COUNTIF($V$7:V1280,\"該当３\"))","v":""}]
[2213713008,"22",137,13,{"v":8,"d":"008"},"静岡県","天竜区(浜松市)","山香村","瀬戸",null,"","",{"$f":"IF(K1281=\"\",\"\",COUNTIF($K$7:K1281,\"ﾘｽﾄ１\"))","v":""},"","","","","","","",{"$f":"IF(S1281=\"\",\"\",COUNTIF($S$7:S1281,\"該当２\"))","v":""},"","",{"$f":"IF(V1281=\"\",\"\",COUNTIF($V$7:V1281,\"該当３\"))","v":""}]
[2213713009,"22",137,13,{"v":9,"d":"009"},"静岡県","天竜区(浜松市)","山香村","西渡",null,"","",{"$f":"IF(K1282=\"\",\"\",COUNTIF($K$7:K1282,\"ﾘｽﾄ１\"))","v":""},"","","","","","","",{"$f":"IF(S1282=\"\",\"\",COUNTIF($S$7:S1282,\"該当２\"))","v":""},"","",{"$f":"IF(V1282=\"\",\"\",COUNTIF($V$7:V1282,\"該当３\"))","v":""}]
[2213713010,"22",137,13,{"v":10,"d":"010"},"静岡県","天竜区(浜松市)","山香村","舟戸",null,"","",{"$f":"IF(K1283=\"\",\"\",COUNTIF($K$7:K1283,\"ﾘｽﾄ１\"))","v":""},"","","","","","","",{"$f":"IF(S1283=\"\",\"\",COUNTIF($S$7:S1283,\"該当２\"))","v":""},"","",{"$f":"IF(V1283=\"\",\"\",COUNTIF($V$7:V1283,\"該当３\"))","v":""}]
[2213713011,"22",137,13,{"v":11,"d":"011"},"静岡県","天竜区(浜松市)","山香村","戸口",null,"","",{"$f":"IF(K1284=\"\",\"\",COUNTIF($K$7:K1284,\"ﾘｽﾄ１\"))","v":""},"","","","","","","",{"$f":"IF(S1284=\"\",\"\",COUNTIF($S$7:S1284,\"該当２\"))","v":""},"","",{"$f":"IF(V1284=\"\",\"\",COUNTIF($V$7:V1284,\"該当３\"))","v":""}]
[2213713012,"22",137,13,{"v":12,"d":"012"},"静岡県","天竜区(浜松市)","山香村","上平山",null,"","",{"$f":"IF(K1285=\"\",\"\",COUNTIF($K$7:K1285,\"ﾘｽﾄ１\"))","v":""},"","","","","","","",{"$f":"IF(S1285=\"\",\"\",COUNTIF($S$7:S1285,\"該当２\"))","v":""},"","",{"$f":"IF(V1285=\"\",\"\",COUNTIF($V$7:V1285,\"該当３\"))","v":""}]
[2213714000,"22",137,14,{"v":0,"d":"000"},"静岡県","天竜区(浜松市)","城西村",null,null,"","",{"$f":"IF(K1286=\"\",\"\",COUNTIF($K$7:K1286,\"ﾘｽﾄ１\"))","v":""},"","","","","","","",{"$f":"IF(S1286=\"\",\"\",COUNTIF($S$7:S1286,\"該当２\"))","v":""},"","",{"$f":"IF(V1286=\"\",\"\",COUNTIF($V$7:V1286,\"該当３\"))","v":""}]
[2213714001,"22",137,14,{"v":1,"d":"001"},"静岡県","天竜区(浜松市)","城西村","南野田",null,"","",{"$f":"IF(K1287=\"\",\"\",COUNTIF($K$7:K1287,\"ﾘｽﾄ１\"))","v":""},"","","","","","","",{"$f":"IF(S1287=\"\",\"\",COUNTIF($S$7:S1287,\"該当２\"))","v":""},"","",{"$f":"IF(V1287=\"\",\"\",COUNTIF($V$7:V1287,\"該当３\"))","v":""}]
[2213714002,"22",137,14,{"v":2,"d":"002"},"静岡県","天竜区(浜松市)","城西村","大沼",null,"","",{"$f":"IF(K1288=\"\",\"\",COUNTIF($K$7:K1288,\"ﾘｽﾄ１\"))","v":""},"","","","","","","",{"$f":"IF(S1288=\"\",\"\",COUNTIF($S$7:S1288,\"該当２\"))","v":""},"","",{"$f":"IF(V1288=\"\",\"\",COUNTIF($V$7:V1288,\"該当３\"))","v":""}]
[2213714003,"22",137,14,{"v":3,"d":"003"},"静岡県","天竜区(浜松市)","城西村","中野田",null,"","",{"$f":"IF(K1289=\"\",\"\",COUNTIF($K$7:K1289,\"ﾘｽﾄ１\"))","v":""},"","","","","","","",{"$f":"IF(S1289=\"\",\"\",COUNTIF($S$7:S1289,\"該当２\"))","v":""},"","",{"$f":"IF(V1289=\"\",\"\",COUNTIF($V$7:V1289,\"該当３\"))","v":""}]
[2213714004,"22",137,14,{"v":4,"d":"004"},"静岡県","天竜区(浜松市)","城西村","沢井",null,"","",{"$f":"IF(K1290=\"\",\"\",COUNTIF($K$7:K1290,\"ﾘｽﾄ１\"))","v":""},"","",{"$f":"IF(O1290=\"該当１\",G1290,\"\")","v":""},{"$f":"IF(O1290=\"該当１\",\"ﾘｽﾄ2\",\"\")","v":""},{"$f":"IF(Q1290=\"ﾘｽﾄ2\",H1290,\"\")","v":""},"",{"$f":"IF(S1290=\"該当２\",H1290,\"\")","v":""},{"$f":"IF(S1290=\"\",\"\",COUNTIF($S$7:S1290,\"該当２\"))","v":""},{"$f":"IF(AND($S$2=H1290,E1290>0,E1290<998),\"該当３\",\"\")","v":""},{"$f":"IF(V1290=\"該当３\",I1290,\"\")","v":""},{"$f":"IF(V1290=\"\",\"\",COUNTIF($V$7:V1290,\"該当３\"))","v":""}]
[2213714005,"22",137,14,{"v":5,"d":"005"},"静岡県","天竜区(浜松市)","城西村","今田",null,{"$f":"IF(AND($C1291>0,$H1291=\"\"),\"ﾘｽﾄ１\",\"\")","v":""},{"$f":"IF(K1291=\"ﾘｽﾄ１\",G1291,\"\")","v":""},{"$f":"IF(K1291=\"\",\"\",COUNTIF($K$7:K1291,\"ﾘｽﾄ１\"))","v":""},{"$f":"IF(AND(D1291=0,E1291>0),\"同一区\",\"\")","v":""},{"$f":"IF(AND(EXACT($K$2,G1291),H1291>0),\"該当１\",\"\")","v":""},"","","",{"$f":"IF(AND(Q1291=\"ﾘｽﾄ2\",OR(I1291=0,AND(N1291=\"同一区\",E1291=1))),\"該当２\",\"\")","v":""},"",{"$f":"IF(S1291=\"\",\"\",COUNTIF($S$7:S1291,\"該当２\"))","v":""},"","",{"$f":"IF(V1291=\"\",\"\",COUNTIF($V$7:V1291,\"該当３\"))","v":""}]
[2213714006,"22",137,14,{"v":6,"d":"006"},"静岡県","天竜区(浜松市)","城西村","芋堀",null,"","",{"$f":"IF(K1292=\"\",\"\",COUNTIF($K$7:K1292,\"ﾘｽﾄ１\"))","v":""},"","","","","","","",{"$f":"IF(S1292=\"\",\"\",COUNTIF($S$7:S1292,\"該当２\"))","v":""},"","",{"$f":"IF(V1292=\"\",\"\",COUNTIF($V$7:V1292,\"該当３\"))","v":""}]
[2213714007,"22",137,14,{"v":7,"d":"007"},"静岡県","天竜区(浜松市)","城西村","中芋堀",null,"","",{"$f":"IF(K1293=\"\",\"\",COUNTIF($K$7:K1293,\"ﾘｽﾄ１\"))","v":""},"","","","","","","",{"$f":"IF(S1293=\"\",\"\",COUNTIF($S$7:S1293,\"該当２\"))","v":""},"","",{"$f":"IF(V1293=\"\",\"\",COUNTIF($V$7:V1293,\"該当３\"))","v":""}]
[2213714008,"22",137,14,{"v":8,"d":"008"},"静岡県","天竜区(浜松市)","城西村","向皆外",null,"","",{"$f":"IF(K1294=\"\",\"\",COUNTIF($K$7:K1294,\"ﾘｽﾄ１\"))","v":""},"","","","","","","",{"$f":"IF(S1294=\"\",\"\",COUNTIF($S$7:S1294,\"該当２\"))","v":""},"","",{"$f":"IF(V1294=\"\",\"\",COUNTIF($V$7:V1294,\"該当３\"))","v":""}]
[2213714009,"22",137,14,{"v":9,"d":"009"},"静岡県","天竜区(浜松市)","城西村","松島",null,"","",{"$f":"IF(K1295=\"\",\"\",COUNTIF($K$7:K1295,\"ﾘｽﾄ１\"))","v":""},"","","","","","","",{"$f":"IF(S1295=\"\",\"\",COUNTIF($S$7:S1295,\"該当２\"))","v":""},"","",{"$f":"IF(V1295=\"\",\"\",COUNTIF($V$7:V1295,\"該当３\"))","v":""}]
[2213714010,"22",137,14,{"v":10,"d":"010"},"静岡県","天竜区(浜松市)","城西村","切開",null,"","",{"$f":"IF(K1296=\"\",\"\",COUNTIF($K$7:K1296,\"ﾘｽﾄ１\"))","v":""},"","","","","","","",{"$f":"IF(S1296=\"\",\"\",COUNTIF($S$7:S1296,\"該当２\"))","v":""},"","",{"$f":"IF(V1296=\"\",\"\",COUNTIF($V$7:V1296,\"該当３\"))","v":""}]
[2213714011,"22",137,14,{"v":11,"d":"011"},"静岡県","天竜区(浜松市)","城西村","横吹",null,"","",{"$f":"IF(K1297=\"\",\"\",COUNTIF($K$7:K1297,\"ﾘｽﾄ１\"))","v":""},"","","","","","","",{"$f":"IF(S1297=\"\",\"\",COUNTIF($S$7:S1297,\"該当２\"))","v":""},"","",{"$f":"IF(V1297=\"\",\"\",COUNTIF($V$7:V1297,\"該当３\"))","v":""}]
[2213714012,"22",137,14,{"v":12,"d":"012"},"静岡県","天竜区(浜松市)","城西村","島",null,"","",{"$f":"IF(K1298=\"\",\"\",COUNTIF($K$7:K1298,\"ﾘｽﾄ１\"))","v":""},"","","","","","","",{"$f":"IF(S1298=\"\",\"\",COUNTIF($S$7:S1298,\"該当２\"))","v":""},"","",{"$f":"IF(V1298=\"\",\"\",COUNTIF($V$7:V1298,\"該当３\"))","v":""}]
[2213714013,"22",137,14,{"v":13,"d":"013"},"静岡県","天竜区(浜松市)","城西村","立原",null,"","",{"$f":"IF(K1299=\"\",\"\",COUNTIF($K$7:K1299,\"ﾘｽﾄ１\"))","v":""},"","","","","","","",{"$f":"IF(S1299=\"\",\"\",COUNTIF($S$7:S1299,\"該当２\"))","v":""},"","",{"$f":"IF(V1299=\"\",\"\",COUNTIF($V$7:V1299,\"該当３\"))","v":""}]
[2213714014,"22",137,14,{"v":14,"d":"014"},"静岡県","天竜区(浜松市)","城西村","相月",null,"","",{"$f":"IF(K1300=\"\",\"\",COUNTIF($K$7:K1300,\"ﾘｽﾄ１\"))","v":""},"","","","","","","",{"$f":"IF(S1300=\"\",\"\",COUNTIF($S$7:S1300,\"該当２\"))","v":""},"","",{"$f":"IF(V1300=\"\",\"\",COUNTIF($V$7:V1300,\"該当３\"))","v":""}]
[2213714015,"22",137,14,{"v":15,"d":"015"},"静岡県","天竜区(浜松市)","城西村","上日余",null,"","",{"$f":"IF(K1301=\"\",\"\",COUNTIF($K$7:K1301,\"ﾘｽﾄ１\"))","v":""},"","","","","","","",{"$f":"IF(S1301=\"\",\"\",COUNTIF($S$7:S1301,\"該当２\"))","v":""},"","",{"$f":"IF(V1301=\"\",\"\",COUNTIF($V$7:V1301,\"該当３\"))","v":""}]
[2213714016,"22",137,14,{"v":16,"d":"016"},"静岡県","天竜区(浜松市)","城西村","下日余",null,"","",{"$f":"IF(K1302=\"\",\"\",COUNTIF($K$7:K1302,\"ﾘｽﾄ１\"))","v":""},"","","","","","","",{"$f":"IF(S1302=\"\",\"\",COUNTIF($S$7:S1302,\"該当２\"))","v":""},"","",{"$f":"IF(V1302=\"\",\"\",COUNTIF($V$7:V1302,\"該当３\"))","v":""}]
[2213715000,"22",137,15,{"v":0,"d":"000"},"静岡県","天竜区(浜松市)","水窪町",null,null,"","",{"$f":"IF(K1303=\"\",\"\",COUNTIF($K$7:K1303,\"ﾘｽﾄ１\"))","v":""},"","","","","","","",{"$f":"IF(S1303=\"\",\"\",COUNTIF($S$7:S1303,\"該当２\"))","v":""},"","",{"$f":"IF(V1303=\"\",\"\",COUNTIF($V$7:V1303,\"該当３\"))","v":""}]
[2213715001,"22",137,15,{"v":1,"d":"001"},"静岡県","天竜区(浜松市)","水窪町","水窪",null,"","",{"$f":"IF(K1304=\"\",\"\",COUNTIF($K$7:K1304,\"ﾘｽﾄ１\"))","v":""},"","","","","","","",{"$f":"IF(S1304=\"\",\"\",COUNTIF($S$7:S1304,\"該当２\"))","v":""},"","",{"$f":"IF(V1304=\"\",\"\",COUNTIF($V$7:V1304,\"該当３\"))","v":""}]
[2213715002,"22",137,15,{"v":2,"d":"002"},"静岡県","天竜区(浜松市)","水窪町","神原",null,"","",{"$f":"IF(K1305=\"\",\"\",COUNTIF($K$7:K1305,\"ﾘｽﾄ１\"))","v":""},"","","","","","","",{"$f":"IF(S1305=\"\",\"\",COUNTIF($S$7:S1305,\"該当２\"))","v":""},"","",{"$f":"IF(V1305=\"\",\"\",COUNTIF($V$7:V1305,\"該当３\"))","v":""}]
[2213715003,"22",137,15,{"v":3,"d":"003"},"静岡県","天竜区(浜松市)","水窪町","門谷",null,"","",{"$f":"IF(K1306=\"\",\"\",COUNTIF($K$7:K1306,\"ﾘｽﾄ１\"))","v":""},"","","","","","","",{"$f":"IF(S1306=\"\",\"\",COUNTIF($S$7:S1306,\"該当２\"))","v":""},"","",{"$f":"IF(V1306=\"\",\"\",COUNTIF($V$7:V1306,\"該当３\"))","v":""}]
[2213715004,"22",137,15,{"v":4,"d":"004"},"静岡県","天竜区(浜松市)","水窪町","小畑",null,"","",{"$f":"IF(K1307=\"\",\"\",COUNTIF($K$7:K1307,\"ﾘｽﾄ１\"))","v":""},"","","","","","","",{"$f":"IF(S1307=\"\",\"\",COUNTIF($S$7:S1307,\"該当２\"))","v":""},"","",{"$f":"IF(V1307=\"\",\"\",COUNTIF($V$7:V1307,\"該当３\"))","v":""}]
[2213715005,"22",137,15,{"v":5,"d":"005"},"静岡県","天竜区(浜松市)","水窪町","竜戸",null,"","",{"$f":"IF(K1308=\"\",\"\",COUNTIF($K$7:K1308,\"ﾘｽﾄ１\"))","v":""},"","","","","","","",{"$f":"IF(S1308=\"\",\"\",COUNTIF($S$7:S1308,\"該当２\"))","v":""},"","",{"$f":"IF(V1308=\"\",\"\",COUNTIF($V$7:V1308,\"該当３\"))","v":""}]
[2213715006,"22",137,15,{"v":6,"d":"006"},"静岡県","天竜区(浜松市)","水窪町","長尾",null,"","",{"$f":"IF(K1309=\"\",\"\",COUNTIF($K$7:K1309,\"ﾘｽﾄ１\"))","v":""},"","","","","","","",{"$f":"IF(S1309=\"\",\"\",COUNTIF($S$7:S1309,\"該当２\"))","v":""},"","",{"$f":"IF(V1309=\"\",\"\",COUNTIF($V$7:V1309,\"該当３\"))","v":""}]
[2213715007,"22",137,15,{"v":7,"d":"007"},"静岡県","天竜区(浜松市)","水窪町","西浦",null,"","",{"$f":"IF(K1310=\"\",\"\",COUNTIF($K$7:K1310,\"ﾘｽﾄ１\"))","v":""},"","","","","","","",{"$f":"IF(S1310=\"\",\"\",COUNTIF($S$7:S1310,\"該当２\"))","v":""},"","",{"$f":"IF(V1310=\"\",\"\",COUNTIF($V$7:V1310,\"該当３\"))","v":""}]
[2213715008,"22",137,15,{"v":8,"d":"008"},"静岡県","天竜区(浜松市)","水窪町","草木",null,"","",{"$f":"IF(K1311=\"\",\"\",COUNTIF($K$7:K1311,\"ﾘｽﾄ１\"))","v":""},"","","","","","","",{"$f":"IF(S1311=\"\",\"\",COUNTIF($S$7:S1311,\"該当２\"))","v":""},"","",{"$f":"IF(V1311=\"\",\"\",COUNTIF($V$7:V1311,\"該当３\"))","v":""}]
[2213715009,"22",137,15,{"v":9,"d":"009"},"静岡県","天竜区(浜松市)","水窪町","大嵐",null,"","",{"$f":"IF(K1312=\"\",\"\",COUNTIF($K$7:K1312,\"ﾘｽﾄ１\"))","v":""},"","","","","","","",{"$f":"IF(S1312=\"\",\"\",COUNTIF($S$7:S1312,\"該当２\"))","v":""},"","",{"$f":"IF(V1312=\"\",\"\",COUNTIF($V$7:V1312,\"該当３\"))","v":""}]
[2213715010,"22",137,15,{"v":10,"d":"010"},"静岡県","天竜区(浜松市)","水窪町","大野",null,"","",{"$f":"IF(K1313=\"\",\"\",COUNTIF($K$7:K1313,\"ﾘｽﾄ１\"))","v":""},"","","","","","","",{"$f":"IF(S1313=\"\",\"\",COUNTIF($S$7:S1313,\"該当２\"))","v":""},"","",{"$f":"IF(V1313=\"\",\"\",COUNTIF($V$7:V1313,\"該当３\"))","v":""}]
[2213715011,"22",137,15,{"v":11,"d":"011"},"静岡県","天竜区(浜松市)","水窪町","向市場",null,"","",{"$f":"IF(K1314=\"\",\"\",COUNTIF($K$7:K1314,\"ﾘｽﾄ１\"))","v":""},"","","","","","","",{"$f":"IF(S1314=\"\",\"\",COUNTIF($S$7:S1314,\"該当２\"))","v":""},"","",{"$f":"IF(V1314=\"\",\"\",COUNTIF($V$7:V1314,\"該当３\"))","v":""}]
[2213715012,"22",137,15,{"v":12,"d":"012"},"静岡県","天竜区(浜松市)","水窪町","上村",null,"","",{"$f":"IF(K1315=\"\",\"\",COUNTIF($K$7:K1315,\"ﾘｽﾄ１\"))","v":""},"","","","","","","",{"$f":"IF(S1315=\"\",\"\",COUNTIF($S$7:S1315,\"該当２\"))","v":""},"","",{"$f":"IF(V1315=\"\",\"\",COUNTIF($V$7:V1315,\"該当３\"))","v":""}]
[2213715013,"22",137,15,{"v":13,"d":"013"},"静岡県","天竜区(浜松市)","水窪町","向島",null,"","",{"$f":"IF(K1316=\"\",\"\",COUNTIF($K$7:K1316,\"ﾘｽﾄ１\"))","v":""},"","","","","","","",{"$f":"IF(S1316=\"\",\"\",COUNTIF($S$7:S1316,\"該当２\"))","v":""},"","",{"$f":"IF(V1316=\"\",\"\",COUNTIF($V$7:V1316,\"該当３\"))","v":""}]
[2213715014,"22",137,15,{"v":14,"d":"014"},"静岡県","天竜区(浜松市)","水窪町","地双",null,"","",{"$f":"IF(K1317=\"\",\"\",COUNTIF($K$7:K1317,\"ﾘｽﾄ１\"))","v":""},"","","","","","","",{"$f":"IF(S1317=\"\",\"\",COUNTIF($S$7:S1317,\"該当２\"))","v":""},"","",{"$f":"IF(V1317=\"\",\"\",COUNTIF($V$7:V1317,\"該当３\"))","v":""}]
[2213715015,"22",137,15,{"v":15,"d":"015"},"静岡県","天竜区(浜松市)","水窪町","有本",null,"","",{"$f":"IF(K1318=\"\",\"\",COUNTIF($K$7:K1318,\"ﾘｽﾄ１\"))","v":""},"","","","","","","",{"$f":"IF(S1318=\"\",\"\",COUNTIF($S$7:S1318,\"該当２\"))","v":""},"","",{"$f":"IF(V1318=\"\",\"\",COUNTIF($V$7:V1318,\"該当３\"))","v":""}]
[2213715016,"22",137,15,{"v":16,"d":"016"},"静岡県","天竜区(浜松市)","水窪町","河内浦",null,"","",{"$f":"IF(K1319=\"\",\"\",COUNTIF($K$7:K1319,\"ﾘｽﾄ１\"))","v":""},"","","","","","","",{"$f":"IF(S1319=\"\",\"\",COUNTIF($S$7:S1319,\"該当２\"))","v":""},"","",{"$f":"IF(V1319=\"\",\"\",COUNTIF($V$7:V1319,\"該当３\"))","v":""}]
[2213715017,"22",137,15,{"v":17,"d":"017"},"静岡県","天竜区(浜松市)","水窪町","門桁",null,"","",{"$f":"IF(K1320=\"\",\"\",COUNTIF($K$7:K1320,\"ﾘｽﾄ１\"))","v":""},"","","","","","","",{"$f":"IF(S1320=\"\",\"\",COUNTIF($S$7:S1320,\"該当２\"))","v":""},"","",{"$f":"IF(V1320=\"\",\"\",COUNTIF($V$7:V1320,\"該当３\"))","v":""}]
[2213715018,"22",137,15,{"v":18,"d":"018"},"静岡県","天竜区(浜松市)","水窪町","国有林",null,"","",{"$f":"IF(K1321=\"\",\"\",COUNTIF($K$7:K1321,\"ﾘｽﾄ１\"))","v":""},"","","","","","","",{"$f":"IF(S1321=\"\",\"\",COUNTIF($S$7:S1321,\"該当２\"))","v":""},"","",{"$f":"IF(V1321=\"\",\"\",COUNTIF($V$7:V1321,\"該当３\"))","v":""}]
[2220300000,"22",203,{"v":0,"d":"00"},{"v":0,"d":"000"},"静岡県","沼津市",{"$nulls":3},"ﾘｽﾄ１","沼津市",{"$f":"IF(K1322=\"\",\"\",COUNTIF($K$7:K1322,\"ﾘｽﾄ１\"))","v":13},"","","","","","","",{"$f":"IF(S1322=\"\",\"\",COUNTIF($S$7:S1322,\"該当２\"))","v":""},"","",{"$f":"IF(V1322=\"\",\"\",COUNTIF($V$7:V1322,\"該当３\"))","v":""}]
[2220301000,"22",203,{"v":1,"d":"01"},{"v":0,"d":"000"},"静岡県","沼津市","沼津市（旧）",null,null,"","",{"$f":"IF(K1323=\"\",\"\",COUNTIF($K$7:K1323,\"ﾘｽﾄ１\"))","v":""},"","","","","","","",{"$f":"IF(S1323=\"\",\"\",COUNTIF($S$7:S1323,\"該当２\"))","v":""},"","",{"$f":"IF(V1323=\"\",\"\",COUNTIF($V$7:V1323,\"該当３\"))","v":""}]
[2220301001,"22",203,{"v":1,"d":"01"},{"v":1,"d":"001"},"静岡県","沼津市","沼津市（旧）","島郷",null,"","",{"$f":"IF(K1324=\"\",\"\",COUNTIF($K$7:K1324,\"ﾘｽﾄ１\"))","v":""},"","","","","","","",{"$f":"IF(S1324=\"\",\"\",COUNTIF($S$7:S1324,\"該当２\"))","v":""},"","",{"$f":"IF(V1324=\"\",\"\",COUNTIF($V$7:V1324,\"該当３\"))","v":""}]
[2220301002,"22",203,{"v":1,"d":"01"},{"v":2,"d":"002"},"静岡県","沼津市","沼津市（旧）","塩場",null,"","",{"$f":"IF(K1325=\"\",\"\",COUNTIF($K$7:K1325,\"ﾘｽﾄ１\"))","v":""},"","","","","","","",{"$f":"IF(S1325=\"\",\"\",COUNTIF($S$7:S1325,\"該当２\"))","v":""},"","",{"$f":"IF(V1325=\"\",\"\",COUNTIF($V$7:V1325,\"該当３\"))","v":""}]
[2220301003,"22",203,{"v":1,"d":"01"},{"v":3,"d":"003"},"静岡県","沼津市","沼津市（旧）","塩満",null,"","",{"$f":"IF(K1326=\"\",\"\",COUNTIF($K$7:K1326,\"ﾘｽﾄ１\"))","v":""},"","","","","","","",{"$f":"IF(S1326=\"\",\"\",COUNTIF($S$7:S1326,\"該当２\"))","v":""},"","",{"$f":"IF(V1326=\"\",\"\",COUNTIF($V$7:V1326,\"該当３\"))","v":""}]
[2220301004,"22",203,{"v":1,"d":"01"},{"v":4,"d":"004"},"静岡県","沼津市","沼津市（旧）","石原",null,"","",{"$f":"IF(K1327=\"\",\"\",COUNTIF($K$7:K1327,\"ﾘｽﾄ１\"))","v":""},"","","","","","","",{"$f":"IF(S1327=\"\",\"\",COUNTIF($S$7:S1327,\"該当２\"))","v":""},"","",{"$f":"IF(V1327=\"\",\"\",COUNTIF($V$7:V1327,\"該当３\"))","v":""}]
[2220301005,"22",203,{"v":1,"d":"01"},{"v":5,"d":"005"},"静岡県","沼津市","沼津市（旧）","楊原",null,"","",{"$f":"IF(K1328=\"\",\"\",COUNTIF($K$7:K1328,\"ﾘｽﾄ１\"))","v":""},"","","","","","","",{"$f":"IF(S1328=\"\",\"\",COUNTIF($S$7:S1328,\"該当２\"))","v":""},"","",{"$f":"IF(V1328=\"\",\"\",COUNTIF($V$7:V1328,\"該当３\"))","v":""}]
[2220301006,"22",203,{"v":1,"d":"01"},{"v":6,"d":"006"},"静岡県","沼津市","沼津市（旧）","宮脇",null,"","",{"$f":"IF(K1329=\"\",\"\",COUNTIF($K$7:K1329,\"ﾘｽﾄ１\"))","v":""},"","","","","","","",{"$f":"IF(S1329=\"\",\"\",COUNTIF($S$7:S1329,\"該当２\"))","v":""},"","",{"$f":"IF(V1329=\"\",\"\",COUNTIF($V$7:V1329,\"該当３\"))","v":""}]
[2220301007,"22",203,{"v":1,"d":"01"},{"v":7,"d":"007"},"静岡県","沼津市","沼津市（旧）","西村",null,"","",{"$f":"IF(K1330=\"\",\"\",COUNTIF($K$7:K1330,\"ﾘｽﾄ１\"))","v":""},"","","","","","","",{"$f":"IF(S1330=\"\",\"\",COUNTIF($S$7:S1330,\"該当２\"))","v":""},"","",{"$f":"IF(V1330=\"\",\"\",COUNTIF($V$7:V1330,\"該当３\"))","v":""}]
[2220301008,"22",203,{"v":1,"d":"01"},{"v":8,"d":"008"},"静岡県","沼津市","沼津市（旧）","二瀬川",null,"","",{"$f":"IF(K1331=\"\",\"\",COUNTIF($K$7:K1331,\"ﾘｽﾄ１\"))","v":""},"","","","","","","",{"$f":"IF(S1331=\"\",\"\",COUNTIF($S$7:S1331,\"該当２\"))","v":""},"","",{"$f":"IF(V1331=\"\",\"\",COUNTIF($V$7:V1331,\"該当３\"))","v":""}]
[2220301009,"22",203,{"v":1,"d":"01"},{"v":9,"d":"009"},"静岡県","沼津市","沼津市（旧）","南本郷東",null,"","",{"$f":"IF(K1332=\"\",\"\",COUNTIF($K$7:K1332,\"ﾘｽﾄ１\"))","v":""},"","","","","","","",{"$f":"IF(S1332=\"\",\"\",COUNTIF($S$7:S1332,\"該当２\"))","v":""},"","",{"$f":"IF(V1332=\"\",\"\",COUNTIF($V$7:V1332,\"該当３\"))","v":""}]
[2220301010,"22",203,{"v":1,"d":"01"},{"v":10,"d":"010"},"静岡県","沼津市","沼津市（旧）","南本郷西",null,"","",{"$f":"IF(K1333=\"\",\"\",COUNTIF($K$7:K1333,\"ﾘｽﾄ１\"))","v":""},"","","","","","","",{"$f":"IF(S1333=\"\",\"\",COUNTIF($S$7:S1333,\"該当２\"))","v":""},"","",{"$f":"IF(V1333=\"\",\"\",COUNTIF($V$7:V1333,\"該当３\"))","v":""}]
[2220301011,"22",203,{"v":1,"d":"01"},{"v":11,"d":"011"},"静岡県","沼津市","沼津市（旧）","東本郷",null,"","",{"$f":"IF(K1334=\"\",\"\",COUNTIF($K$7:K1334,\"ﾘｽﾄ１\"))","v":""},"","","","","","","",{"$f":"IF(S1334=\"\",\"\",COUNTIF($S$7:S1334,\"該当２\"))","v":""},"","",{"$f":"IF(V1334=\"\",\"\",COUNTIF($V$7:V1334,\"該当３\"))","v":""}]
[2220301012,"22",203,{"v":1,"d":"01"},{"v":12,"d":"012"},"静岡県","沼津市","沼津市（旧）","西島",null,"","",{"$f":"IF(K1335=\"\",\"\",COUNTIF($K$7:K1335,\"ﾘｽﾄ１\"))","v":""},"","","","","","","",{"$f":"IF(S1335=\"\",\"\",COUNTIF($S$7:S1335,\"該当２\"))","v":""},"","",{"$f":"IF(V1335=\"\",\"\",COUNTIF($V$7:V1335,\"該当３\"))","v":""}]
[2220301013,"22",203,{"v":1,"d":"01"},{"v":13,"d":"013"},"静岡県","沼津市","沼津市（旧）","我入道中",null,"","",{"$f":"IF(K1336=\"\",\"\",COUNTIF($K$7:K1336,\"ﾘｽﾄ１\"))","v":""},"","","","","","","",{"$f":"IF(S1336=\"\",\"\",COUNTIF($S$7:S1336,\"該当２\"))","v":""},"","",{"$f":"IF(V1336=\"\",\"\",COUNTIF($V$7:V1336,\"該当３\"))","v":""}]
[2220301014,"22",203,{"v":1,"d":"01"},{"v":14,"d":"014"},"静岡県","沼津市","沼津市（旧）","我入道浜",null,"","",{"$f":"IF(K1337=\"\",\"\",COUNTIF($K$7:K1337,\"ﾘｽﾄ１\"))","v":""},"","","","","","","",{"$f":"IF(S1337=\"\",\"\",COUNTIF($S$7:S1337,\"該当２\"))","v":""},"","",{"$f":"IF(V1337=\"\",\"\",COUNTIF($V$7:V1337,\"該当３\"))","v":""}]
[2220301015,"22",203,{"v":1,"d":"01"},{"v":15,"d":"015"},"静岡県","沼津市","沼津市（旧）","馬場",null,"","",{"$f":"IF(K1338=\"\",\"\",COUNTIF($K$7:K1338,\"ﾘｽﾄ１\"))","v":""},"","","","","","","",{"$f":"IF(S1338=\"\",\"\",COUNTIF($S$7:S1338,\"該当２\"))","v":""},"","",{"$f":"IF(V1338=\"\",\"\",COUNTIF($V$7:V1338,\"該当３\"))","v":""}]
[2220301016,"22",203,{"v":1,"d":"01"},{"v":16,"d":"016"},"静岡県","沼津市","沼津市（旧）","中住",null,"","",{"$f":"IF(K1339=\"\",\"\",COUNTIF($K$7:K1339,\"ﾘｽﾄ１\"))","v":""},"","","","","","","",{"$f":"IF(S1339=\"\",\"\",COUNTIF($S$7:S1339,\"該当２\"))","v":""},"","",{"$f":"IF(V1339=\"\",\"\",COUNTIF($V$7:V1339,\"該当３\"))","v":""}]
[2220301017,"22",203,{"v":1,"d":"01"},{"v":17,"d":"017"},"静岡県","沼津市","沼津市（旧）","黒瀬",null,"","",{"$f":"IF(K1340=\"\",\"\",COUNTIF($K$7:K1340,\"ﾘｽﾄ１\"))","v":""},"","","","","","","",{"$f":"IF(S1340=\"\",\"\",COUNTIF($S$7:S1340,\"該当２\"))","v":""},"","",{"$f":"IF(V1340=\"\",\"\",COUNTIF($V$7:V1340,\"該当３\"))","v":""}]
[2220301018,"22",203,{"v":1,"d":"01"},{"v":18,"d":"018"},"静岡県","沼津市","沼津市（旧）","住吉",null,"","",{"$f":"IF(K1341=\"\",\"\",COUNTIF($K$7:K1341,\"ﾘｽﾄ１\"))","v":""},"","","","","","","",{"$f":"IF(S1341=\"\",\"\",COUNTIF($S$7:S1341,\"該当２\"))","v":""},"","",{"$f":"IF(V1341=\"\",\"\",COUNTIF($V$7:V1341,\"該当３\"))","v":""}]
[2220301019,"22",203,{"v":1,"d":"01"},{"v":19,"d":"019"},"静岡県","沼津市","沼津市（旧）","吉田市場",null,"","",{"$f":"IF(K1342=\"\",\"\",COUNTIF($K$7:K1342,\"ﾘｽﾄ１\"))","v":""},"","","","","","","",{"$f":"IF(S1342=\"\",\"\",COUNTIF($S$7:S1342,\"該当２\"))","v":""},"","",{"$f":"IF(V1342=\"\",\"\",COUNTIF($V$7:V1342,\"該当３\"))","v":""}]
[2220301020,"22",203,{"v":1,"d":"01"},{"v":20,"d":"020"},"静岡県","沼津市","沼津市（旧）","我入道東",null,"","",{"$f":"IF(K1343=\"\",\"\",COUNTIF($K$7:K1343,\"ﾘｽﾄ１\"))","v":""},"","","","","","","",{"$f":"IF(S1343=\"\",\"\",COUNTIF($S$7:S1343,\"該当２\"))","v":""},"","",{"$f":"IF(V1343=\"\",\"\",COUNTIF($V$7:V1343,\"該当３\"))","v":""}]
[2220301021,"22",203,{"v":1,"d":"01"},{"v":21,"d":"021"},"静岡県","沼津市","沼津市（旧）","下河原",null,"","",{"$f":"IF(K1344=\"\",\"\",COUNTIF($K$7:K1344,\"ﾘｽﾄ１\"))","v":""},"","","","","","","",{"$f":"IF(S1344=\"\",\"\",COUNTIF($S$7:S1344,\"該当２\"))","v":""},"","",{"$f":"IF(V1344=\"\",\"\",COUNTIF($V$7:V1344,\"該当３\"))","v":""}]
[2220301022,"22",203,{"v":1,"d":"01"},{"v":22,"d":"022"},"静岡県","沼津市","沼津市（旧）","市道",null,"","",{"$f":"IF(K1345=\"\",\"\",COUNTIF($K$7:K1345,\"ﾘｽﾄ１\"))","v":""},"","","","","","","",{"$f":"IF(S1345=\"\",\"\",COUNTIF($S$7:S1345,\"該当２\"))","v":""},"","",{"$f":"IF(V1345=\"\",\"\",COUNTIF($V$7:V1345,\"該当３\"))","v":""}]
[2220301023,"22",203,{"v":1,"d":"01"},{"v":23,"d":"023"},"静岡県","沼津市","沼津市（旧）","本田町",null,"","",{"$f":"IF(K1346=\"\",\"\",COUNTIF($K$7:K1346,\"ﾘｽﾄ１\"))","v":""},"","","","","","","",{"$f":"IF(S1346=\"\",\"\",COUNTIF($S$7:S1346,\"該当２\"))","v":""},"","",{"$f":"IF(V1346=\"\",\"\",COUNTIF($V$7:V1346,\"該当３\"))","v":""}]
[2220301024,"22",203,{"v":1,"d":"01"},{"v":24,"d":"024"},"静岡県","沼津市","沼津市（旧）","高島",null,"","",{"$f":"IF(K1347=\"\",\"\",COUNTIF($K$7:K1347,\"ﾘｽﾄ１\"))","v":""},"","","","","","","",{"$f":"IF(S1347=\"\",\"\",COUNTIF($S$7:S1347,\"該当２\"))","v":""},"","",{"$f":"IF(V1347=\"\",\"\",COUNTIF($V$7:V1347,\"該当３\"))","v":""}]
[2220301025,"22",203,{"v":1,"d":"01"},{"v":25,"d":"025"},"静岡県","沼津市","沼津市（旧）","横宿",null,"","",{"$f":"IF(K1348=\"\",\"\",COUNTIF($K$7:K1348,\"ﾘｽﾄ１\"))","v":""},"","","","","","","",{"$f":"IF(S1348=\"\",\"\",COUNTIF($S$7:S1348,\"該当２\"))","v":""},"","",{"$f":"IF(V1348=\"\",\"\",COUNTIF($V$7:V1348,\"該当３\"))","v":""}]
[2220301026,"22",203,{"v":1,"d":"01"},{"v":26,"d":"026"},"静岡県","沼津市","沼津市（旧）","三芳町",null,"","",{"$f":"IF(K1349=\"\",\"\",COUNTIF($K$7:K1349,\"ﾘｽﾄ１\"))","v":""},"","","","","","","",{"$f":"IF(S1349=\"\",\"\",COUNTIF($S$7:S1349,\"該当２\"))","v":""},"","",{"$f":"IF(V1349=\"\",\"\",COUNTIF($V$7:V1349,\"該当３\"))","v":""}]
[2220301027,"22",203,{"v":1,"d":"01"},{"v":27,"d":"027"},"静岡県","沼津市","沼津市（旧）","岡一色",null,"","",{"$f":"IF(K1350=\"\",\"\",COUNTIF($K$7:K1350,\"ﾘｽﾄ１\"))","v":""},"","","","","","","",{"$f":"IF(S1350=\"\",\"\",COUNTIF($S$7:S1350,\"該当２\"))","v":""},"","",{"$f":"IF(V1350=\"\",\"\",COUNTIF($V$7:V1350,\"該当３\"))","v":""}]
[2220301028,"22",203,{"v":1,"d":"01"},{"v":28,"d":"028"},"静岡県","沼津市","沼津市（旧）","岡宮",null,"","",{"$f":"IF(K1351=\"\",\"\",COUNTIF($K$7:K1351,\"ﾘｽﾄ１\"))","v":""},"","","","","","","",{"$f":"IF(S1351=\"\",\"\",COUNTIF($S$7:S1351,\"該当２\"))","v":""},"","",{"$f":"IF(V1351=\"\",\"\",COUNTIF($V$7:V1351,\"該当３\"))","v":""}]
[2220301029,"22",203,{"v":1,"d":"01"},{"v":29,"d":"029"},"静岡県","沼津市","沼津市（旧）","東熊堂",null,"","",{"$f":"IF(K1352=\"\",\"\",COUNTIF($K$7:K1352,\"ﾘｽﾄ１\"))","v":""},"","","","","","","",{"$f":"IF(S1352=\"\",\"\",COUNTIF($S$7:S1352,\"該当２\"))","v":""},"","",{"$f":"IF(V1352=\"\",\"\",COUNTIF($V$7:V1352,\"該当３\"))","v":""}]
[2220301030,"22",203,{"v":1,"d":"01"},{"v":30,"d":"030"},"静岡県","沼津市","沼津市（旧）","西熊堂",null,"","",{"$f":"IF(K1353=\"\",\"\",COUNTIF($K$7:K1353,\"ﾘｽﾄ１\"))","v":""},"","","","","","","",{"$f":"IF(S1353=\"\",\"\",COUNTIF($S$7:S1353,\"該当２\"))","v":""},"","",{"$f":"IF(V1353=\"\",\"\",COUNTIF($V$7:V1353,\"該当３\"))","v":""}]
[2220301031,"22",203,{"v":1,"d":"01"},{"v":31,"d":"031"},"静岡県","沼津市","沼津市（旧）","東沢田",null,"","",{"$f":"IF(K1354=\"\",\"\",COUNTIF($K$7:K1354,\"ﾘｽﾄ１\"))","v":""},"","",{"$f":"IF(O1354=\"該当１\",G1354,\"\")","v":""},{"$f":"IF(O1354=\"該当１\",\"ﾘｽﾄ2\",\"\")","v":""},{"$f":"IF(Q1354=\"ﾘｽﾄ2\",H1354,\"\")","v":""},"",{"$f":"IF(S1354=\"該当２\",H1354,\"\")","v":""},{"$f":"IF(S1354=\"\",\"\",COUNTIF($S$7:S1354,\"該当２\"))","v":""},{"$f":"IF(AND($S$2=H1354,E1354>0,E1354<998),\"該当３\",\"\")","v":""},{"$f":"IF(V1354=\"該当３\",I1354,\"\")","v":""},{"$f":"IF(V1354=\"\",\"\",COUNTIF($V$7:V1354,\"該当３\"))","v":""}]
[2220301032,"22",203,{"v":1,"d":"01"},{"v":32,"d":"032"},"静岡県","沼津市","沼津市（旧）","中沢田",null,{"$f":"IF(AND($C1355>0,$H1355=\"\"),\"ﾘｽﾄ１\",\"\")","v":""},{"$f":"IF(K1355=\"ﾘｽﾄ１\",G1355,\"\")","v":""},{"$f":"IF(K1355=\"\",\"\",COUNTIF($K$7:K1355,\"ﾘｽﾄ１\"))","v":""},{"$f":"IF(AND(D1355=0,E1355>0),\"同一区\",\"\")","v":""},{"$f":"IF(AND(EXACT($K$2,G1355),H1355>0),\"該当１\",\"\")","v":""},"","","",{"$f":"IF(AND(Q1355=\"ﾘｽﾄ2\",OR(I1355=0,AND(N1355=\"同一区\",E1355=1))),\"該当２\",\"\")","v":""},"",{"$f":"IF(S1355=\"\",\"\",COUNTIF($S$7:S1355,\"該当２\"))","v":""},"","",{"$f":"IF(V1355=\"\",\"\",COUNTIF($V$7:V1355,\"該当３\"))","v":""}]
[2220301033,"22",203,{"v":1,"d":"01"},{"v":33,"d":"033"},"静岡県","沼津市","沼津市（旧）","西沢田",null,"","",{"$f":"IF(K1356=\"\",\"\",COUNTIF($K$7:K1356,\"ﾘｽﾄ１\"))","v":""},"","","","","","","",{"$f":"IF(S1356=\"\",\"\",COUNTIF($S$7:S1356,\"該当２\"))","v":""},"","",{"$f":"IF(V1356=\"\",\"\",COUNTIF($V$7:V1356,\"該当３\"))","v":""}]
[2220301034,"22",203,{"v":1,"d":"01"},{"v":34,"d":"034"},"静岡県","沼津市","沼津市（旧）","沢田",null,"","",{"$f":"IF(K1357=\"\",\"\",COUNTIF($K$7:K1357,\"ﾘｽﾄ１\"))","v":""},"","","","","","","",{"$f":"IF(S1357=\"\",\"\",COUNTIF($S$7:S1357,\"該当２\"))","v":""},"","",{"$f":"IF(V1357=\"\",\"\",COUNTIF($V$7:V1357,\"該当３\"))","v":""}]
[2220301035,"22",203,{"v":1,"d":"01"},{"v":35,"d":"035"},"静岡県","沼津市","沼津市（旧）","拓南",null,"","",{"$f":"IF(K1358=\"\",\"\",COUNTIF($K$7:K1358,\"ﾘｽﾄ１\"))","v":""},"","","","","","","",{"$f":"IF(S1358=\"\",\"\",COUNTIF($S$7:S1358,\"該当２\"))","v":""},"","",{"$f":"IF(V1358=\"\",\"\",COUNTIF($V$7:V1358,\"該当３\"))","v":""}]
[2220301036,"22",203,{"v":1,"d":"01"},{"v":36,"d":"036"},"静岡県","沼津市","沼津市（旧）","黄瀬川",null,"","",{"$f":"IF(K1359=\"\",\"\",COUNTIF($K$7:K1359,\"ﾘｽﾄ１\"))","v":""},"","","","","","","",{"$f":"IF(S1359=\"\",\"\",COUNTIF($S$7:S1359,\"該当２\"))","v":""},"","",{"$f":"IF(V1359=\"\",\"\",COUNTIF($V$7:V1359,\"該当３\"))","v":""}]
[2220301037,"22",203,{"v":1,"d":"01"},{"v":37,"d":"037"},"静岡県","沼津市","沼津市（旧）","下石田",null,"","",{"$f":"IF(K1360=\"\",\"\",COUNTIF($K$7:K1360,\"ﾘｽﾄ１\"))","v":""},"","","","","","","",{"$f":"IF(S1360=\"\",\"\",COUNTIF($S$7:S1360,\"該当２\"))","v":""},"","",{"$f":"IF(V1360=\"\",\"\",COUNTIF($V$7:V1360,\"該当３\"))","v":""}]
[2220301038,"22",203,{"v":1,"d":"01"},{"v":38,"d":"038"},"静岡県","沼津市","沼津市（旧）","高田",null,"","",{"$f":"IF(K1361=\"\",\"\",COUNTIF($K$7:K1361,\"ﾘｽﾄ１\"))","v":""},"","","","","","","",{"$f":"IF(S1361=\"\",\"\",COUNTIF($S$7:S1361,\"該当２\"))","v":""},"","",{"$f":"IF(V1361=\"\",\"\",COUNTIF($V$7:V1361,\"該当３\"))","v":""}]
[2220301039,"22",203,{"v":1,"d":"01"},{"v":39,"d":"039"},"静岡県","沼津市","沼津市（旧）","日吉",null,"","",{"$f":"IF(K1362=\"\",\"\",COUNTIF($K$7:K1362,\"ﾘｽﾄ１\"))","v":""},"","","","","","","",{"$f":"IF(S1362=\"\",\"\",COUNTIF($S$7:S1362,\"該当２\"))","v":""},"","",{"$f":"IF(V1362=\"\",\"\",COUNTIF($V$7:V1362,\"該当３\"))","v":""}]
[2220301040,"22",203,{"v":1,"d":"01"},{"v":40,"d":"040"},"静岡県","沼津市","沼津市（旧）","中石田",null,"","",{"$f":"IF(K1363=\"\",\"\",COUNTIF($K$7:K1363,\"ﾘｽﾄ１\"))","v":""},"","","","","","","",{"$f":"IF(S1363=\"\",\"\",COUNTIF($S$7:S1363,\"該当２\"))","v":""},"","",{"$f":"IF(V1363=\"\",\"\",COUNTIF($V$7:V1363,\"該当３\"))","v":""}]
[2220301041,"22",203,{"v":1,"d":"01"},{"v":41,"d":"041"},"静岡県","沼津市","沼津市（旧）","上石田",null,"","",{"$f":"IF(K1364=\"\",\"\",COUNTIF($K$7:K1364,\"ﾘｽﾄ１\"))","v":""},"","","","","","","",{"$f":"IF(S1364=\"\",\"\",COUNTIF($S$7:S1364,\"該当２\"))","v":""},"","",{"$f":"IF(V1364=\"\",\"\",COUNTIF($V$7:V1364,\"該当３\"))","v":""}]
[2220301042,"22",203,{"v":1,"d":"01"},{"v":42,"d":"042"},"静岡県","沼津市","沼津市（旧）","南小林",null,"","",{"$f":"IF(K1365=\"\",\"\",COUNTIF($K$7:K1365,\"ﾘｽﾄ１\"))","v":""},"","","","","","","",{"$f":"IF(S1365=\"\",\"\",COUNTIF($S$7:S1365,\"該当２\"))","v":""},"","",{"$f":"IF(V1365=\"\",\"\",COUNTIF($V$7:V1365,\"該当３\"))","v":""}]
[2220301043,"22",203,{"v":1,"d":"01"},{"v":43,"d":"043"},"静岡県","沼津市","沼津市（旧）","北小林",null,"","",{"$f":"IF(K1366=\"\",\"\",COUNTIF($K$7:K1366,\"ﾘｽﾄ１\"))","v":""},"","","","","","","",{"$f":"IF(S1366=\"\",\"\",COUNTIF($S$7:S1366,\"該当２\"))","v":""},"","",{"$f":"IF(V1366=\"\",\"\",COUNTIF($V$7:V1366,\"該当３\"))","v":""}]
[2220301044,"22",203,{"v":1,"d":"01"},{"v":44,"d":"044"},"静岡県","沼津市","沼津市（旧）","東間門",null,"","",{"$f":"IF(K1367=\"\",\"\",COUNTIF($K$7:K1367,\"ﾘｽﾄ１\"))","v":""},"","","","","","","",{"$f":"IF(S1367=\"\",\"\",COUNTIF($S$7:S1367,\"該当２\"))","v":""},"","",{"$f":"IF(V1367=\"\",\"\",COUNTIF($V$7:V1367,\"該当３\"))","v":""}]
[2220301045,"22",203,{"v":1,"d":"01"},{"v":45,"d":"045"},"静岡県","沼津市","沼津市（旧）","西間門",null,"","",{"$f":"IF(K1368=\"\",\"\",COUNTIF($K$7:K1368,\"ﾘｽﾄ１\"))","v":""},"","","","","","","",{"$f":"IF(S1368=\"\",\"\",COUNTIF($S$7:S1368,\"該当２\"))","v":""},"","",{"$f":"IF(V1368=\"\",\"\",COUNTIF($V$7:V1368,\"該当３\"))","v":""}]
[2220301046,"22",203,{"v":1,"d":"01"},{"v":46,"d":"046"},"静岡県","沼津市","沼津市（旧）","小諏訪",null,"","",{"$f":"IF(K1369=\"\",\"\",COUNTIF($K$7:K1369,\"ﾘｽﾄ１\"))","v":""},"","","","","","","",{"$f":"IF(S1369=\"\",\"\",COUNTIF($S$7:S1369,\"該当２\"))","v":""},"","",{"$f":"IF(V1369=\"\",\"\",COUNTIF($V$7:V1369,\"該当３\"))","v":""}]
[2220301047,"22",203,{"v":1,"d":"01"},{"v":47,"d":"047"},"静岡県","沼津市","沼津市（旧）","大諏訪",null,"","",{"$f":"IF(K1370=\"\",\"\",COUNTIF($K$7:K1370,\"ﾘｽﾄ１\"))","v":""},"","","","","","","",{"$f":"IF(S1370=\"\",\"\",COUNTIF($S$7:S1370,\"該当２\"))","v":""},"","",{"$f":"IF(V1370=\"\",\"\",COUNTIF($V$7:V1370,\"該当３\"))","v":""}]
[2220301048,"22",203,{"v":1,"d":"01"},{"v":48,"d":"048"},"静岡県","沼津市","沼津市（旧）","松長",null,"","",{"$f":"IF(K1371=\"\",\"\",COUNTIF($K$7:K1371,\"ﾘｽﾄ１\"))","v":""},"","","","","","","",{"$f":"IF(S1371=\"\",\"\",COUNTIF($S$7:S1371,\"該当２\"))","v":""},"","",{"$f":"IF(V1371=\"\",\"\",COUNTIF($V$7:V1371,\"該当３\"))","v":""}]
[2220301049,"22",203,{"v":1,"d":"01"},{"v":49,"d":"049"},"静岡県","沼津市","沼津市（旧）","今沢",null,"","",{"$f":"IF(K1372=\"\",\"\",COUNTIF($K$7:K1372,\"ﾘｽﾄ１\"))","v":""},"","","","","","","",{"$f":"IF(S1372=\"\",\"\",COUNTIF($S$7:S1372,\"該当２\"))","v":""},"","",{"$f":"IF(V1372=\"\",\"\",COUNTIF($V$7:V1372,\"該当３\"))","v":""}]
[2220301050,"22",203,{"v":1,"d":"01"},{"v":50,"d":"050"},"静岡県","沼津市","沼津市（旧）","志下",null,"","",{"$f":"IF(K1373=\"\",\"\",COUNTIF($K$7:K1373,\"ﾘｽﾄ１\"))","v":""},"","","","","","","",{"$f":"IF(S1373=\"\",\"\",COUNTIF($S$7:S1373,\"該当２\"))","v":""},"","",{"$f":"IF(V1373=\"\",\"\",COUNTIF($V$7:V1373,\"該当３\"))","v":""}]
[2220301051,"22",203,{"v":1,"d":"01"},{"v":51,"d":"051"},"静岡県","沼津市","沼津市（旧）","馬込",null,"","",{"$f":"IF(K1374=\"\",\"\",COUNTIF($K$7:K1374,\"ﾘｽﾄ１\"))","v":""},"","","","","","","",{"$f":"IF(S1374=\"\",\"\",COUNTIF($S$7:S1374,\"該当２\"))","v":""},"","",{"$f":"IF(V1374=\"\",\"\",COUNTIF($V$7:V1374,\"該当３\"))","v":""}]
[2220301052,"22",203,{"v":1,"d":"01"},{"v":52,"d":"052"},"静岡県","沼津市","沼津市（旧）","獅子浜",null,"","",{"$f":"IF(K1375=\"\",\"\",COUNTIF($K$7:K1375,\"ﾘｽﾄ１\"))","v":""},"","","","","","","",{"$f":"IF(S1375=\"\",\"\",COUNTIF($S$7:S1375,\"該当２\"))","v":""},"","",{"$f":"IF(V1375=\"\",\"\",COUNTIF($V$7:V1375,\"該当３\"))","v":""}]
[2220301053,"22",203,{"v":1,"d":"01"},{"v":53,"d":"053"},"静岡県","沼津市","沼津市（旧）","江ノ浦",null,"","",{"$f":"IF(K1376=\"\",\"\",COUNTIF($K$7:K1376,\"ﾘｽﾄ１\"))","v":""},"","","","","","","",{"$f":"IF(S1376=\"\",\"\",COUNTIF($S$7:S1376,\"該当２\"))","v":""},"","",{"$f":"IF(V1376=\"\",\"\",COUNTIF($V$7:V1376,\"該当３\"))","v":""}]
[2220301054,"22",203,{"v":1,"d":"01"},{"v":54,"d":"054"},"静岡県","沼津市","沼津市（旧）","多比",null,"","",{"$f":"IF(K1377=\"\",\"\",COUNTIF($K$7:K1377,\"ﾘｽﾄ１\"))","v":""},"","","","","","","",{"$f":"IF(S1377=\"\",\"\",COUNTIF($S$7:S1377,\"該当２\"))","v":""},"","",{"$f":"IF(V1377=\"\",\"\",COUNTIF($V$7:V1377,\"該当３\"))","v":""}]
[2220301055,"22",203,{"v":1,"d":"01"},{"v":55,"d":"055"},"静岡県","沼津市","沼津市（旧）","口野",null,"","",{"$f":"IF(K1378=\"\",\"\",COUNTIF($K$7:K1378,\"ﾘｽﾄ１\"))","v":""},"","","","","","","",{"$f":"IF(S1378=\"\",\"\",COUNTIF($S$7:S1378,\"該当２\"))","v":""},"","",{"$f":"IF(V1378=\"\",\"\",COUNTIF($V$7:V1378,\"該当３\"))","v":""}]
[2220301056,"22",203,{"v":1,"d":"01"},{"v":56,"d":"056"},"静岡県","沼津市","沼津市（旧）","国有林",null,"","",{"$f":"IF(K1379=\"\",\"\",COUNTIF($K$7:K1379,\"ﾘｽﾄ１\"))","v":""},"","","","","","","",{"$f":"IF(S1379=\"\",\"\",COUNTIF($S$7:S1379,\"該当２\"))","v":""},"","",{"$f":"IF(V1379=\"\",\"\",COUNTIF($V$7:V1379,\"該当３\"))","v":""}]
[2220302000,"22",203,{"v":2,"d":"02"},{"v":0,"d":"000"},"静岡県","沼津市","愛鷹村",null,null,"","",{"$f":"IF(K1380=\"\",\"\",COUNTIF($K$7:K1380,\"ﾘｽﾄ１\"))","v":""},"","","","","","","",{"$f":"IF(S1380=\"\",\"\",COUNTIF($S$7:S1380,\"該当２\"))","v":""},"","",{"$f":"IF(V1380=\"\",\"\",COUNTIF($V$7:V1380,\"該当３\"))","v":""}]
[2220302001,"22",203,{"v":2,"d":"02"},{"v":1,"d":"001"},"静岡県","沼津市","愛鷹村","東区",null,"","",{"$f":"IF(K1381=\"\",\"\",COUNTIF($K$7:K1381,\"ﾘｽﾄ１\"))","v":""},"","","","","","","",{"$f":"IF(S1381=\"\",\"\",COUNTIF($S$7:S1381,\"該当２\"))","v":""},"","",{"$f":"IF(V1381=\"\",\"\",COUNTIF($V$7:V1381,\"該当３\"))","v":""}]
[2220302002,"22",203,{"v":2,"d":"02"},{"v":2,"d":"002"},"静岡県","沼津市","愛鷹村","西区",null,"","",{"$f":"IF(K1382=\"\",\"\",COUNTIF($K$7:K1382,\"ﾘｽﾄ１\"))","v":""},"","","","","","","",{"$f":"IF(S1382=\"\",\"\",COUNTIF($S$7:S1382,\"該当２\"))","v":""},"","",{"$f":"IF(V1382=\"\",\"\",COUNTIF($V$7:V1382,\"該当３\"))","v":""}]
[2220302003,"22",203,{"v":2,"d":"02"},{"v":3,"d":"003"},"静岡県","沼津市","愛鷹村","西椎路",null,"","",{"$f":"IF(K1383=\"\",\"\",COUNTIF($K$7:K1383,\"ﾘｽﾄ１\"))","v":""},"","","","","","","",{"$f":"IF(S1383=\"\",\"\",COUNTIF($S$7:S1383,\"該当２\"))","v":""},"","",{"$f":"IF(V1383=\"\",\"\",COUNTIF($V$7:V1383,\"該当３\"))","v":""}]
[2220302004,"22",203,{"v":2,"d":"02"},{"v":4,"d":"004"},"静岡県","沼津市","愛鷹村","東原",null,"","",{"$f":"IF(K1384=\"\",\"\",COUNTIF($K$7:K1384,\"ﾘｽﾄ１\"))","v":""},"","","","","","","",{"$f":"IF(S1384=\"\",\"\",COUNTIF($S$7:S1384,\"該当２\"))","v":""},"","",{"$f":"IF(V1384=\"\",\"\",COUNTIF($V$7:V1384,\"該当３\"))","v":""}]
[2220302005,"22",203,{"v":2,"d":"02"},{"v":5,"d":"005"},"静岡県","沼津市","愛鷹村","鳥谷",null,"","",{"$f":"IF(K1385=\"\",\"\",COUNTIF($K$7:K1385,\"ﾘｽﾄ１\"))","v":""},"","","","","","","",{"$f":"IF(S1385=\"\",\"\",COUNTIF($S$7:S1385,\"該当２\"))","v":""},"","",{"$f":"IF(V1385=\"\",\"\",COUNTIF($V$7:V1385,\"該当３\"))","v":""}]
[2220302006,"22",203,{"v":2,"d":"02"},{"v":6,"d":"006"},"静岡県","沼津市","愛鷹村","柳沢",null,"","",{"$f":"IF(K1386=\"\",\"\",COUNTIF($K$7:K1386,\"ﾘｽﾄ１\"))","v":""},"","","","","","","",{"$f":"IF(S1386=\"\",\"\",COUNTIF($S$7:S1386,\"該当２\"))","v":""},"","",{"$f":"IF(V1386=\"\",\"\",COUNTIF($V$7:V1386,\"該当３\"))","v":""}]
[2220302007,"22",203,{"v":2,"d":"02"},{"v":7,"d":"007"},"静岡県","沼津市","愛鷹村","青野",null,"","",{"$f":"IF(K1387=\"\",\"\",COUNTIF($K$7:K1387,\"ﾘｽﾄ１\"))","v":""},"","","","","","","",{"$f":"IF(S1387=\"\",\"\",COUNTIF($S$7:S1387,\"該当２\"))","v":""},"","",{"$f":"IF(V1387=\"\",\"\",COUNTIF($V$7:V1387,\"該当３\"))","v":""}]
[2220302008,"22",203,{"v":2,"d":"02"},{"v":8,"d":"008"},"静岡県","沼津市","愛鷹村","国有林",null,"","",{"$f":"IF(K1388=\"\",\"\",COUNTIF($K$7:K1388,\"ﾘｽﾄ１\"))","v":""},"","","","","","","",{"$f":"IF(S1388=\"\",\"\",COUNTIF($S$7:S1388,\"該当２\"))","v":""},"","",{"$f":"IF(V1388=\"\",\"\",COUNTIF($V$7:V1388,\"該当３\"))","v":""}]
[2220303000,"22",203,{"v":3,"d":"03"},{"v":0,"d":"000"},"静岡県","沼津市","大平村",null,null,"","",{"$f":"IF(K1389=\"\",\"\",COUNTIF($K$7:K1389,\"ﾘｽﾄ１\"))","v":""},"","","","","","","",{"$f":"IF(S1389=\"\",\"\",COUNTIF($S$7:S1389,\"該当２\"))","v":""},"","",{"$f":"IF(V1389=\"\",\"\",COUNTIF($V$7:V1389,\"該当３\"))","v":""}]
[2220303001,"22",203,{"v":3,"d":"03"},{"v":1,"d":"001"},"静岡県","沼津市","大平村","小山",null,"","",{"$f":"IF(K1390=\"\",\"\",COUNTIF($K$7:K1390,\"ﾘｽﾄ１\"))","v":""},"","","","","","","",{"$f":"IF(S1390=\"\",\"\",COUNTIF($S$7:S1390,\"該当２\"))","v":""},"","",{"$f":"IF(V1390=\"\",\"\",COUNTIF($V$7:V1390,\"該当３\"))","v":""}]
[2220303002,"22",203,{"v":3,"d":"03"},{"v":2,"d":"002"},"静岡県","沼津市","大平村","横松",null,"","",{"$f":"IF(K1391=\"\",\"\",COUNTIF($K$7:K1391,\"ﾘｽﾄ１\"))","v":""},"","","","","","","",{"$f":"IF(S1391=\"\",\"\",COUNTIF($S$7:S1391,\"該当２\"))","v":""},"","",{"$f":"IF(V1391=\"\",\"\",COUNTIF($V$7:V1391,\"該当３\"))","v":""}]
[2220303003,"22",203,{"v":3,"d":"03"},{"v":3,"d":"003"},"静岡県","沼津市","大平村","大井",null,"","",{"$f":"IF(K1392=\"\",\"\",COUNTIF($K$7:K1392,\"ﾘｽﾄ１\"))","v":""},"","","","","","","",{"$f":"IF(S1392=\"\",\"\",COUNTIF($S$7:S1392,\"該当２\"))","v":""},"","",{"$f":"IF(V1392=\"\",\"\",COUNTIF($V$7:V1392,\"該当３\"))","v":""}]
[2220303004,"22",203,{"v":3,"d":"03"},{"v":4,"d":"004"},"静岡県","沼津市","大平村","御小",null,"","",{"$f":"IF(K1393=\"\",\"\",COUNTIF($K$7:K1393,\"ﾘｽﾄ１\"))","v":""},"","","","","","","",{"$f":"IF(S1393=\"\",\"\",COUNTIF($S$7:S1393,\"該当２\"))","v":""},"","",{"$f":"IF(V1393=\"\",\"\",COUNTIF($V$7:V1393,\"該当３\"))","v":""}]
[2220303005,"22",203,{"v":3,"d":"03"},{"v":5,"d":"005"},"静岡県","沼津市","大平村","戸ケ谷",null,"","",{"$f":"IF(K1394=\"\",\"\",COUNTIF($K$7:K1394,\"ﾘｽﾄ１\"))","v":""},"","","","","","","",{"$f":"IF(S1394=\"\",\"\",COUNTIF($S$7:S1394,\"該当２\"))","v":""},"","",{"$f":"IF(V1394=\"\",\"\",COUNTIF($V$7:V1394,\"該当３\"))","v":""}]
[2220303006,"22",203,{"v":3,"d":"03"},{"v":6,"d":"006"},"静岡県","沼津市","大平村","山口",null,"","",{"$f":"IF(K1395=\"\",\"\",COUNTIF($K$7:K1395,\"ﾘｽﾄ１\"))","v":""},"","","","","","","",{"$f":"IF(S1395=\"\",\"\",COUNTIF($S$7:S1395,\"該当２\"))","v":""},"","",{"$f":"IF(V1395=\"\",\"\",COUNTIF($V$7:V1395,\"該当３\"))","v":""}]
[2220303007,"22",203,{"v":3,"d":"03"},{"v":7,"d":"007"},"静岡県","沼津市","大平村","新南",null,"","",{"$f":"IF(K1396=\"\",\"\",COUNTIF($K$7:K1396,\"ﾘｽﾄ１\"))","v":""},"","","","","","","",{"$f":"IF(S1396=\"\",\"\",COUNTIF($S$7:S1396,\"該当２\"))","v":""},"","",{"$f":"IF(V1396=\"\",\"\",COUNTIF($V$7:V1396,\"該当３\"))","v":""}]
[2220303008,"22",203,{"v":3,"d":"03"},{"v":8,"d":"008"},"静岡県","沼津市","大平村","政戸",null,"","",{"$f":"IF(K1397=\"\",\"\",COUNTIF($K$7:K1397,\"ﾘｽﾄ１\"))","v":""},"","","","","","","",{"$f":"IF(S1397=\"\",\"\",COUNTIF($S$7:S1397,\"該当２\"))","v":""},"","",{"$f":"IF(V1397=\"\",\"\",COUNTIF($V$7:V1397,\"該当３\"))","v":""}]
[2220303009,"22",203,{"v":3,"d":"03"},{"v":9,"d":"009"},"静岡県","沼津市","大平村","東三分一",null,"","",{"$f":"IF(K1398=\"\",\"\",COUNTIF($K$7:K1398,\"ﾘｽﾄ１\"))","v":""},"","","","","","","",{"$f":"IF(S1398=\"\",\"\",COUNTIF($S$7:S1398,\"該当２\"))","v":""},"","",{"$f":"IF(V1398=\"\",\"\",COUNTIF($V$7:V1398,\"該当３\"))","v":""}]
[2220303010,"22",203,{"v":3,"d":"03"},{"v":10,"d":"010"},"静岡県","沼津市","大平村","西三分一",null,"","",{"$f":"IF(K1399=\"\",\"\",COUNTIF($K$7:K1399,\"ﾘｽﾄ１\"))","v":""},"","","","","","","",{"$f":"IF(S1399=\"\",\"\",COUNTIF($S$7:S1399,\"該当２\"))","v":""},"","",{"$f":"IF(V1399=\"\",\"\",COUNTIF($V$7:V1399,\"該当３\"))","v":""}]
[2220304000,"22",203,{"v":4,"d":"04"},{"v":0,"d":"000"},"静岡県","沼津市","内浦村",null,null,"","",{"$f":"IF(K1400=\"\",\"\",COUNTIF($K$7:K1400,\"ﾘｽﾄ１\"))","v":""},"","","","","","","",{"$f":"IF(S1400=\"\",\"\",COUNTIF($S$7:S1400,\"該当２\"))","v":""},"","",{"$f":"IF(V1400=\"\",\"\",COUNTIF($V$7:V1400,\"該当３\"))","v":""}]
[2220304001,"22",203,{"v":4,"d":"04"},{"v":1,"d":"001"},"静岡県","沼津市","内浦村","重須",null,"","",{"$f":"IF(K1401=\"\",\"\",COUNTIF($K$7:K1401,\"ﾘｽﾄ１\"))","v":""},"","","","","","","",{"$f":"IF(S1401=\"\",\"\",COUNTIF($S$7:S1401,\"該当２\"))","v":""},"","",{"$f":"IF(V1401=\"\",\"\",COUNTIF($V$7:V1401,\"該当３\"))","v":""}]
[2220304002,"22",203,{"v":4,"d":"04"},{"v":2,"d":"002"},"静岡県","沼津市","内浦村","長浜",null,"","",{"$f":"IF(K1402=\"\",\"\",COUNTIF($K$7:K1402,\"ﾘｽﾄ１\"))","v":""},"","","","","","","",{"$f":"IF(S1402=\"\",\"\",COUNTIF($S$7:S1402,\"該当２\"))","v":""},"","",{"$f":"IF(V1402=\"\",\"\",COUNTIF($V$7:V1402,\"該当３\"))","v":""}]
[2220304003,"22",203,{"v":4,"d":"04"},{"v":3,"d":"003"},"静岡県","沼津市","内浦村","三津",null,"","",{"$f":"IF(K1403=\"\",\"\",COUNTIF($K$7:K1403,\"ﾘｽﾄ１\"))","v":""},"","","","","","","",{"$f":"IF(S1403=\"\",\"\",COUNTIF($S$7:S1403,\"該当２\"))","v":""},"","",{"$f":"IF(V1403=\"\",\"\",COUNTIF($V$7:V1403,\"該当３\"))","v":""}]
[2220304004,"22",203,{"v":4,"d":"04"},{"v":4,"d":"004"},"静岡県","沼津市","内浦村","小海",null,"","",{"$f":"IF(K1404=\"\",\"\",COUNTIF($K$7:K1404,\"ﾘｽﾄ１\"))","v":""},"","","","","","","",{"$f":"IF(S1404=\"\",\"\",COUNTIF($S$7:S1404,\"該当２\"))","v":""},"","",{"$f":"IF(V1404=\"\",\"\",COUNTIF($V$7:V1404,\"該当３\"))","v":""}]
[2220304005,"22",203,{"v":4,"d":"04"},{"v":5,"d":"005"},"静岡県","沼津市","内浦村","重寺",null,"","",{"$f":"IF(K1405=\"\",\"\",COUNTIF($K$7:K1405,\"ﾘｽﾄ１\"))","v":""},"","","","","","","",{"$f":"IF(S1405=\"\",\"\",COUNTIF($S$7:S1405,\"該当２\"))","v":""},"","",{"$f":"IF(V1405=\"\",\"\",COUNTIF($V$7:V1405,\"該当３\"))","v":""}]
[2220305000,"22",203,{"v":5,"d":"05"},{"v":0,"d":"000"},"静岡県","沼津市","西浦村",null,null,"","",{"$f":"IF(K1406=\"\",\"\",COUNTIF($K$7:K1406,\"ﾘｽﾄ１\"))","v":""},"","","","","","","",{"$f":"IF(S1406=\"\",\"\",COUNTIF($S$7:S1406,\"該当２\"))","v":""},"","",{"$f":"IF(V1406=\"\",\"\",COUNTIF($V$7:V1406,\"該当３\"))","v":""}]
[2220305001,"22",203,{"v":5,"d":"05"},{"v":1,"d":"001"},"静岡県","沼津市","西浦村","河内",null,"","",{"$f":"IF(K1407=\"\",\"\",COUNTIF($K$7:K1407,\"ﾘｽﾄ１\"))","v":""},"","","","","","","",{"$f":"IF(S1407=\"\",\"\",COUNTIF($S$7:S1407,\"該当２\"))","v":""},"","",{"$f":"IF(V1407=\"\",\"\",COUNTIF($V$7:V1407,\"該当３\"))","v":""}]
[2220305002,"22",203,{"v":5,"d":"05"},{"v":2,"d":"002"},"静岡県","沼津市","西浦村","木負",null,"","",{"$f":"IF(K1408=\"\",\"\",COUNTIF($K$7:K1408,\"ﾘｽﾄ１\"))","v":""},"","","","","","","",{"$f":"IF(S1408=\"\",\"\",COUNTIF($S$7:S1408,\"該当２\"))","v":""},"","",{"$f":"IF(V1408=\"\",\"\",COUNTIF($V$7:V1408,\"該当３\"))","v":""}]
[2220305003,"22",203,{"v":5,"d":"05"},{"v":3,"d":"003"},"静岡県","沼津市","西浦村","久連",null,"","",{"$f":"IF(K1409=\"\",\"\",COUNTIF($K$7:K1409,\"ﾘｽﾄ１\"))","v":""},"","","","","","","",{"$f":"IF(S1409=\"\",\"\",COUNTIF($S$7:S1409,\"該当２\"))","v":""},"","",{"$f":"IF(V1409=\"\",\"\",COUNTIF($V$7:V1409,\"該当３\"))","v":""}]
[2220305004,"22",203,{"v":5,"d":"05"},{"v":4,"d":"004"},"静岡県","沼津市","西浦村","平沢",null,"","",{"$f":"IF(K1410=\"\",\"\",COUNTIF($K$7:K1410,\"ﾘｽﾄ１\"))","v":""},"","","","","","","",{"$f":"IF(S1410=\"\",\"\",COUNTIF($S$7:S1410,\"該当２\"))","v":""},"","",{"$f":"IF(V1410=\"\",\"\",COUNTIF($V$7:V1410,\"該当３\"))","v":""}]
[2220305005,"22",203,{"v":5,"d":"05"},{"v":5,"d":"005"},"静岡県","沼津市","西浦村","立保",null,"","",{"$f":"IF(K1411=\"\",\"\",COUNTIF($K$7:K1411,\"ﾘｽﾄ１\"))","v":""},"","","","","","","",{"$f":"IF(S1411=\"\",\"\",COUNTIF($S$7:S1411,\"該当２\"))","v":""},"","",{"$f":"IF(V1411=\"\",\"\",COUNTIF($V$7:V1411,\"該当３\"))","v":""}]
[2220305006,"22",203,{"v":5,"d":"05"},{"v":6,"d":"006"},"静岡県","沼津市","西浦村","古宇",null,"","",{"$f":"IF(K1412=\"\",\"\",COUNTIF($K$7:K1412,\"ﾘｽﾄ１\"))","v":""},"","","","","","","",{"$f":"IF(S1412=\"\",\"\",COUNTIF($S$7:S1412,\"該当２\"))","v":""},"","",{"$f":"IF(V1412=\"\",\"\",COUNTIF($V$7:V1412,\"該当３\"))","v":""}]
[2220305007,"22",203,{"v":5,"d":"05"},{"v":7,"d":"007"},"静岡県","沼津市","西浦村","足保",null,"","",{"$f":"IF(K1413=\"\",\"\",COUNTIF($K$7:K1413,\"ﾘｽﾄ１\"))","v":""},"","","","","","","",{"$f":"IF(S1413=\"\",\"\",COUNTIF($S$7:S1413,\"該当２\"))","v":""},"","",{"$f":"IF(V1413=\"\",\"\",COUNTIF($V$7:V1413,\"該当３\"))","v":""}]
[2220305008,"22",203,{"v":5,"d":"05"},{"v":8,"d":"008"},"静岡県","沼津市","西浦村","久料",null,"","",{"$f":"IF(K1414=\"\",\"\",COUNTIF($K$7:K1414,\"ﾘｽﾄ１\"))","v":""},"","","","","","","",{"$f":"IF(S1414=\"\",\"\",COUNTIF($S$7:S1414,\"該当２\"))","v":""},"","",{"$f":"IF(V1414=\"\",\"\",COUNTIF($V$7:V1414,\"該当３\"))","v":""}]
[2220305009,"22",203,{"v":5,"d":"05"},{"v":9,"d":"009"},"静岡県","沼津市","西浦村","江梨",null,"","",{"$f":"IF(K1415=\"\",\"\",COUNTIF($K$7:K1415,\"ﾘｽﾄ１\"))","v":""},"","","","","","","",{"$f":"IF(S1415=\"\",\"\",COUNTIF($S$7:S1415,\"該当２\"))","v":""},"","",{"$f":"IF(V1415=\"\",\"\",COUNTIF($V$7:V1415,\"該当３\"))","v":""}]
[2220306000,"22",203,{"v":6,"d":"06"},{"v":0,"d":"000"},"静岡県","沼津市","原町",null,null,"","",{"$f":"IF(K1416=\"\",\"\",COUNTIF($K$7:K1416,\"ﾘｽﾄ１\"))","v":""},"","","","","","","",{"$f":"IF(S1416=\"\",\"\",COUNTIF($S$7:S1416,\"該当２\"))","v":""},"","",{"$f":"IF(V1416=\"\",\"\",COUNTIF($V$7:V1416,\"該当３\"))","v":""}]
[2220306001,"22",203,{"v":6,"d":"06"},{"v":1,"d":"001"},"静岡県","沼津市","原町","三本松",null,"","",{"$f":"IF(K1417=\"\",\"\",COUNTIF($K$7:K1417,\"ﾘｽﾄ１\"))","v":""},"","","","","","","",{"$f":"IF(S1417=\"\",\"\",COUNTIF($S$7:S1417,\"該当２\"))","v":""},"","",{"$f":"IF(V1417=\"\",\"\",COUNTIF($V$7:V1417,\"該当３\"))","v":""}]
[2220306002,"22",203,{"v":6,"d":"06"},{"v":2,"d":"002"},"静岡県","沼津市","原町","大塚新田",null,"","",{"$f":"IF(K1418=\"\",\"\",COUNTIF($K$7:K1418,\"ﾘｽﾄ１\"))","v":""},"","",{"$f":"IF(O1418=\"該当１\",G1418,\"\")","v":""},{"$f":"IF(O1418=\"該当１\",\"ﾘｽﾄ2\",\"\")","v":""},{"$f":"IF(Q1418=\"ﾘｽﾄ2\",H1418,\"\")","v":""},"",{"$f":"IF(S1418=\"該当２\",H1418,\"\")","v":""},{"$f":"IF(S1418=\"\",\"\",COUNTIF($S$7:S1418,\"該当２\"))","v":""},{"$f":"IF(AND($S$2=H1418,E1418>0,E1418<998),\"該当３\",\"\")","v":""},{"$f":"IF(V1418=\"該当３\",I1418,\"\")","v":""},{"$f":"IF(V1418=\"\",\"\",COUNTIF($V$7:V1418,\"該当３\"))","v":""}]
[2220306003,"22",203,{"v":6,"d":"06"},{"v":3,"d":"003"},"静岡県","沼津市","原町","大塚本田",null,{"$f":"IF(AND($C1419>0,$H1419=\"\"),\"ﾘｽﾄ１\",\"\")","v":""},{"$f":"IF(K1419=\"ﾘｽﾄ１\",G1419,\"\")","v":""},{"$f":"IF(K1419=\"\",\"\",COUNTIF($K$7:K1419,\"ﾘｽﾄ１\"))","v":""},{"$f":"IF(AND(D1419=0,E1419>0),\"同一区\",\"\")","v":""},{"$f":"IF(AND(EXACT($K$2,G1419),H1419>0),\"該当１\",\"\")","v":""},"","","",{"$f":"IF(AND(Q1419=\"ﾘｽﾄ2\",OR(I1419=0,AND(N1419=\"同一区\",E1419=1))),\"該当２\",\"\")","v":""},"",{"$f":"IF(S1419=\"\",\"\",COUNTIF($S$7:S1419,\"該当２\"))","v":""},"","",{"$f":"IF(V1419=\"\",\"\",COUNTIF($V$7:V1419,\"該当３\"))","v":""}]
[2220306004,"22",203,{"v":6,"d":"06"},{"v":4,"d":"004"},"静岡県","沼津市","原町","東町",null,"","",{"$f":"IF(K1420=\"\",\"\",COUNTIF($K$7:K1420,\"ﾘｽﾄ１\"))","v":""},"","","","","","","",{"$f":"IF(S1420=\"\",\"\",COUNTIF($S$7:S1420,\"該当２\"))","v":""},"","",{"$f":"IF(V1420=\"\",\"\",COUNTIF($V$7:V1420,\"該当３\"))","v":""}]
[2220306005,"22",203,{"v":6,"d":"06"},{"v":5,"d":"005"},"静岡県","沼津市","原町","西町一区",null,"","",{"$f":"IF(K1421=\"\",\"\",COUNTIF($K$7:K1421,\"ﾘｽﾄ１\"))","v":""},"","","","","","","",{"$f":"IF(S1421=\"\",\"\",COUNTIF($S$7:S1421,\"該当２\"))","v":""},"","",{"$f":"IF(V1421=\"\",\"\",COUNTIF($V$7:V1421,\"該当３\"))","v":""}]
[2220306006,"22",203,{"v":6,"d":"06"},{"v":6,"d":"006"},"静岡県","沼津市","原町","西町二区",null,"","",{"$f":"IF(K1422=\"\",\"\",COUNTIF($K$7:K1422,\"ﾘｽﾄ１\"))","v":""},"","","","","","","",{"$f":"IF(S1422=\"\",\"\",COUNTIF($S$7:S1422,\"該当２\"))","v":""},"","",{"$f":"IF(V1422=\"\",\"\",COUNTIF($V$7:V1422,\"該当３\"))","v":""}]
[2220306007,"22",203,{"v":6,"d":"06"},{"v":7,"d":"007"},"静岡県","沼津市","原町","六軒町",null,"","",{"$f":"IF(K1423=\"\",\"\",COUNTIF($K$7:K1423,\"ﾘｽﾄ１\"))","v":""},"","","","","","","",{"$f":"IF(S1423=\"\",\"\",COUNTIF($S$7:S1423,\"該当２\"))","v":""},"","",{"$f":"IF(V1423=\"\",\"\",COUNTIF($V$7:V1423,\"該当３\"))","v":""}]
[2220306008,"22",203,{"v":6,"d":"06"},{"v":8,"d":"008"},"静岡県","沼津市","原町","原新田",null,"","",{"$f":"IF(K1424=\"\",\"\",COUNTIF($K$7:K1424,\"ﾘｽﾄ１\"))","v":""},"","","","","","","",{"$f":"IF(S1424=\"\",\"\",COUNTIF($S$7:S1424,\"該当２\"))","v":""},"","",{"$f":"IF(V1424=\"\",\"\",COUNTIF($V$7:V1424,\"該当３\"))","v":""}]
[2220306009,"22",203,{"v":6,"d":"06"},{"v":9,"d":"009"},"静岡県","沼津市","原町","一本松",null,"","",{"$f":"IF(K1425=\"\",\"\",COUNTIF($K$7:K1425,\"ﾘｽﾄ１\"))","v":""},"","","","","","","",{"$f":"IF(S1425=\"\",\"\",COUNTIF($S$7:S1425,\"該当２\"))","v":""},"","",{"$f":"IF(V1425=\"\",\"\",COUNTIF($V$7:V1425,\"該当３\"))","v":""}]
[2220306010,"22",203,{"v":6,"d":"06"},{"v":10,"d":"010"},"静岡県","沼津市","原町","桃里",null,"","",{"$f":"IF(K1426=\"\",\"\",COUNTIF($K$7:K1426,\"ﾘｽﾄ１\"))","v":""},"","","","","","","",{"$f":"IF(S1426=\"\",\"\",COUNTIF($S$7:S1426,\"該当２\"))","v":""},"","",{"$f":"IF(V1426=\"\",\"\",COUNTIF($V$7:V1426,\"該当３\"))","v":""}]
[2220306011,"22",203,{"v":6,"d":"06"},{"v":11,"d":"011"},"静岡県","沼津市","原町","植田",null,"","",{"$f":"IF(K1427=\"\",\"\",COUNTIF($K$7:K1427,\"ﾘｽﾄ１\"))","v":""},"","","","","","","",{"$f":"IF(S1427=\"\",\"\",COUNTIF($S$7:S1427,\"該当２\"))","v":""},"","",{"$f":"IF(V1427=\"\",\"\",COUNTIF($V$7:V1427,\"該当３\"))","v":""}]
[2220307000,"22",203,{"v":7,"d":"07"},{"v":0,"d":"000"},"静岡県","沼津市","浮島村２－１",null,null,"","",{"$f":"IF(K1428=\"\",\"\",COUNTIF($K$7:K1428,\"ﾘｽﾄ１\"))","v":""},"","","","","","","",{"$f":"IF(S1428=\"\",\"\",COUNTIF($S$7:S1428,\"該当２\"))","v":""},"","",{"$f":"IF(V1428=\"\",\"\",COUNTIF($V$7:V1428,\"該当３\"))","v":""}]
[2220307001,"22",203,{"v":7,"d":"07"},{"v":1,"d":"001"},"静岡県","沼津市","浮島村２－１","根古屋",null,"","",{"$f":"IF(K1429=\"\",\"\",COUNTIF($K$7:K1429,\"ﾘｽﾄ１\"))","v":""},"","","","","","","",{"$f":"IF(S1429=\"\",\"\",COUNTIF($S$7:S1429,\"該当２\"))","v":""},"","",{"$f":"IF(V1429=\"\",\"\",COUNTIF($V$7:V1429,\"該当３\"))","v":""}]
[2220307002,"22",203,{"v":7,"d":"07"},{"v":2,"d":"002"},"静岡県","沼津市","浮島村２－１","東井出",null,"","",{"$f":"IF(K1430=\"\",\"\",COUNTIF($K$7:K1430,\"ﾘｽﾄ１\"))","v":""},"","","","","","","",{"$f":"IF(S1430=\"\",\"\",COUNTIF($S$7:S1430,\"該当２\"))","v":""},"","",{"$f":"IF(V1430=\"\",\"\",COUNTIF($V$7:V1430,\"該当３\"))","v":""}]
[2220307003,"22",203,{"v":7,"d":"07"},{"v":3,"d":"003"},"静岡県","沼津市","浮島村２－１","西井出",null,"","",{"$f":"IF(K1431=\"\",\"\",COUNTIF($K$7:K1431,\"ﾘｽﾄ１\"))","v":""},"","","","","","","",{"$f":"IF(S1431=\"\",\"\",COUNTIF($S$7:S1431,\"該当２\"))","v":""},"","",{"$f":"IF(V1431=\"\",\"\",COUNTIF($V$7:V1431,\"該当３\"))","v":""}]
[2220307004,"22",203,{"v":7,"d":"07"},{"v":4,"d":"004"},"静岡県","沼津市","浮島村２－１","平沼",null,"","",{"$f":"IF(K1432=\"\",\"\",COUNTIF($K$7:K1432,\"ﾘｽﾄ１\"))","v":""},"","","","","","","",{"$f":"IF(S1432=\"\",\"\",COUNTIF($S$7:S1432,\"該当２\"))","v":""},"","",{"$f":"IF(V1432=\"\",\"\",COUNTIF($V$7:V1432,\"該当３\"))","v":""}]
[2220307005,"22",203,{"v":7,"d":"07"},{"v":5,"d":"005"},"静岡県","沼津市","浮島村２－１","石川",null,"","",{"$f":"IF(K1433=\"\",\"\",COUNTIF($K$7:K1433,\"ﾘｽﾄ１\"))","v":""},"","","","","","","",{"$f":"IF(S1433=\"\",\"\",COUNTIF($S$7:S1433,\"該当２\"))","v":""},"","",{"$f":"IF(V1433=\"\",\"\",COUNTIF($V$7:V1433,\"該当３\"))","v":""}]
[2220307006,"22",203,{"v":7,"d":"07"},{"v":6,"d":"006"},"静岡県","沼津市","浮島村２－１","荒久",null,"","",{"$f":"IF(K1434=\"\",\"\",COUNTIF($K$7:K1434,\"ﾘｽﾄ１\"))","v":""},"","","","","","","",{"$f":"IF(S1434=\"\",\"\",COUNTIF($S$7:S1434,\"該当２\"))","v":""},"","",{"$f":"IF(V1434=\"\",\"\",COUNTIF($V$7:V1434,\"該当３\"))","v":""}]
[2220307007,"22",203,{"v":7,"d":"07"},{"v":7,"d":"007"},"静岡県","沼津市","浮島村２－１","国有林",null,"","",{"$f":"IF(K1435=\"\",\"\",COUNTIF($K$7:K1435,\"ﾘｽﾄ１\"))","v":""},"","","","","","","",{"$f":"IF(S1435=\"\",\"\",COUNTIF($S$7:S1435,\"該当２\"))","v":""},"","",{"$f":"IF(V1435=\"\",\"\",COUNTIF($V$7:V1435,\"該当３\"))","v":""}]
[2220308000,"22",203,{"v":8,"d":"08"},{"v":0,"d":"000"},"静岡県","沼津市","戸田村",null,null,"","",{"$f":"IF(K1436=\"\",\"\",COUNTIF($K$7:K1436,\"ﾘｽﾄ１\"))","v":""},"","","","","","","",{"$f":"IF(S1436=\"\",\"\",COUNTIF($S$7:S1436,\"該当２\"))","v":""},"","",{"$f":"IF(V1436=\"\",\"\",COUNTIF($V$7:V1436,\"該当３\"))","v":""}]
[2220308001,"22",203,{"v":8,"d":"08"},{"v":1,"d":"001"},"静岡県","沼津市","戸田村","鬼川",null,"","",{"$f":"IF(K1437=\"\",\"\",COUNTIF($K$7:K1437,\"ﾘｽﾄ１\"))","v":""},"","","","","","","",{"$f":"IF(S1437=\"\",\"\",COUNTIF($S$7:S1437,\"該当２\"))","v":""},"","",{"$f":"IF(V1437=\"\",\"\",COUNTIF($V$7:V1437,\"該当３\"))","v":""}]
[2220308002,"22",203,{"v":8,"d":"08"},{"v":2,"d":"002"},"静岡県","沼津市","戸田村","小中島",null,"","",{"$f":"IF(K1438=\"\",\"\",COUNTIF($K$7:K1438,\"ﾘｽﾄ１\"))","v":""},"","","","","","","",{"$f":"IF(S1438=\"\",\"\",COUNTIF($S$7:S1438,\"該当２\"))","v":""},"","",{"$f":"IF(V1438=\"\",\"\",COUNTIF($V$7:V1438,\"該当３\"))","v":""}]
[2220308003,"22",203,{"v":8,"d":"08"},{"v":3,"d":"003"},"静岡県","沼津市","戸田村","大中島",null,"","",{"$f":"IF(K1439=\"\",\"\",COUNTIF($K$7:K1439,\"ﾘｽﾄ１\"))","v":""},"","","","","","","",{"$f":"IF(S1439=\"\",\"\",COUNTIF($S$7:S1439,\"該当２\"))","v":""},"","",{"$f":"IF(V1439=\"\",\"\",COUNTIF($V$7:V1439,\"該当３\"))","v":""}]
[2220308004,"22",203,{"v":8,"d":"08"},{"v":4,"d":"004"},"静岡県","沼津市","戸田村","一色",null,"","",{"$f":"IF(K1440=\"\",\"\",COUNTIF($K$7:K1440,\"ﾘｽﾄ１\"))","v":""},"","","","","","","",{"$f":"IF(S1440=\"\",\"\",COUNTIF($S$7:S1440,\"該当２\"))","v":""},"","",{"$f":"IF(V1440=\"\",\"\",COUNTIF($V$7:V1440,\"該当３\"))","v":""}]
[2220308005,"22",203,{"v":8,"d":"08"},{"v":5,"d":"005"},"静岡県","沼津市","戸田村","入浜",null,"","",{"$f":"IF(K1441=\"\",\"\",COUNTIF($K$7:K1441,\"ﾘｽﾄ１\"))","v":""},"","","","","","","",{"$f":"IF(S1441=\"\",\"\",COUNTIF($S$7:S1441,\"該当２\"))","v":""},"","",{"$f":"IF(V1441=\"\",\"\",COUNTIF($V$7:V1441,\"該当３\"))","v":""}]
[2220308006,"22",203,{"v":8,"d":"08"},{"v":6,"d":"006"},"静岡県","沼津市","戸田村","口南",null,"","",{"$f":"IF(K1442=\"\",\"\",COUNTIF($K$7:K1442,\"ﾘｽﾄ１\"))","v":""},"","","","","","","",{"$f":"IF(S1442=\"\",\"\",COUNTIF($S$7:S1442,\"該当２\"))","v":""},"","",{"$f":"IF(V1442=\"\",\"\",COUNTIF($V$7:V1442,\"該当３\"))","v":""}]
[2220308007,"22",203,{"v":8,"d":"08"},{"v":7,"d":"007"},"静岡県","沼津市","戸田村","奥南",null,"","",{"$f":"IF(K1443=\"\",\"\",COUNTIF($K$7:K1443,\"ﾘｽﾄ１\"))","v":""},"","","","","","","",{"$f":"IF(S1443=\"\",\"\",COUNTIF($S$7:S1443,\"該当２\"))","v":""},"","",{"$f":"IF(V1443=\"\",\"\",COUNTIF($V$7:V1443,\"該当３\"))","v":""}]
[2220308008,"22",203,{"v":8,"d":"08"},{"v":8,"d":"008"},"静岡県","沼津市","戸田村","大浦",null,"","",{"$f":"IF(K1444=\"\",\"\",COUNTIF($K$7:K1444,\"ﾘｽﾄ１\"))","v":""},"","","","","","","",{"$f":"IF(S1444=\"\",\"\",COUNTIF($S$7:S1444,\"該当２\"))","v":""},"","",{"$f":"IF(V1444=\"\",\"\",COUNTIF($V$7:V1444,\"該当３\"))","v":""}]
[2220308009,"22",203,{"v":8,"d":"08"},{"v":9,"d":"009"},"静岡県","沼津市","戸田村","小山田",null,"","",{"$f":"IF(K1445=\"\",\"\",COUNTIF($K$7:K1445,\"ﾘｽﾄ１\"))","v":""},"","","","","","","",{"$f":"IF(S1445=\"\",\"\",COUNTIF($S$7:S1445,\"該当２\"))","v":""},"","",{"$f":"IF(V1445=\"\",\"\",COUNTIF($V$7:V1445,\"該当３\"))","v":""}]
[2220308010,"22",203,{"v":8,"d":"08"},{"v":10,"d":"010"},"静岡県","沼津市","戸田村","上野",null,"","",{"$f":"IF(K1446=\"\",\"\",COUNTIF($K$7:K1446,\"ﾘｽﾄ１\"))","v":""},"","","","","","","",{"$f":"IF(S1446=\"\",\"\",COUNTIF($S$7:S1446,\"該当２\"))","v":""},"","",{"$f":"IF(V1446=\"\",\"\",COUNTIF($V$7:V1446,\"該当３\"))","v":""}]
[2220308011,"22",203,{"v":8,"d":"08"},{"v":11,"d":"011"},"静岡県","沼津市","戸田村","大門",null,"","",{"$f":"IF(K1447=\"\",\"\",COUNTIF($K$7:K1447,\"ﾘｽﾄ１\"))","v":""},"","","","","","","",{"$f":"IF(S1447=\"\",\"\",COUNTIF($S$7:S1447,\"該当２\"))","v":""},"","",{"$f":"IF(V1447=\"\",\"\",COUNTIF($V$7:V1447,\"該当３\"))","v":""}]
[2220308012,"22",203,{"v":8,"d":"08"},{"v":12,"d":"012"},"静岡県","沼津市","戸田村","中上",null,"","",{"$f":"IF(K1448=\"\",\"\",COUNTIF($K$7:K1448,\"ﾘｽﾄ１\"))","v":""},"","","","","","","",{"$f":"IF(S1448=\"\",\"\",COUNTIF($S$7:S1448,\"該当２\"))","v":""},"","",{"$f":"IF(V1448=\"\",\"\",COUNTIF($V$7:V1448,\"該当３\"))","v":""}]
[2220308013,"22",203,{"v":8,"d":"08"},{"v":13,"d":"013"},"静岡県","沼津市","戸田村","大上",null,"","",{"$f":"IF(K1449=\"\",\"\",COUNTIF($K$7:K1449,\"ﾘｽﾄ１\"))","v":""},"","","","","","","",{"$f":"IF(S1449=\"\",\"\",COUNTIF($S$7:S1449,\"該当２\"))","v":""},"","",{"$f":"IF(V1449=\"\",\"\",COUNTIF($V$7:V1449,\"該当３\"))","v":""}]
[2220308014,"22",203,{"v":8,"d":"08"},{"v":14,"d":"014"},"静岡県","沼津市","戸田村","新田",null,"","",{"$f":"IF(K1450=\"\",\"\",COUNTIF($K$7:K1450,\"ﾘｽﾄ１\"))","v":""},"","","","","","","",{"$f":"IF(S1450=\"\",\"\",COUNTIF($S$7:S1450,\"該当２\"))","v":""},"","",{"$f":"IF(V1450=\"\",\"\",COUNTIF($V$7:V1450,\"該当３\"))","v":""}]
[2220308015,"22",203,{"v":8,"d":"08"},{"v":15,"d":"015"},"静岡県","沼津市","戸田村","平戸",null,"","",{"$f":"IF(K1451=\"\",\"\",COUNTIF($K$7:K1451,\"ﾘｽﾄ１\"))","v":""},"","","","","","","",{"$f":"IF(S1451=\"\",\"\",COUNTIF($S$7:S1451,\"該当２\"))","v":""},"","",{"$f":"IF(V1451=\"\",\"\",COUNTIF($V$7:V1451,\"該当３\"))","v":""}]
[2220308016,"22",203,{"v":8,"d":"08"},{"v":16,"d":"016"},"静岡県","沼津市","戸田村","舟山",null,"","",{"$f":"IF(K1452=\"\",\"\",COUNTIF($K$7:K1452,\"ﾘｽﾄ１\"))","v":""},"","","","","","","",{"$f":"IF(S1452=\"\",\"\",COUNTIF($S$7:S1452,\"該当２\"))","v":""},"","",{"$f":"IF(V1452=\"\",\"\",COUNTIF($V$7:V1452,\"該当３\"))","v":""}]
[2220308017,"22",203,{"v":8,"d":"08"},{"v":17,"d":"017"},"静岡県","沼津市","戸田村","井田",null,"","",{"$f":"IF(K1453=\"\",\"\",COUNTIF($K$7:K1453,\"ﾘｽﾄ１\"))","v":""},"","","","","","","",{"$f":"IF(S1453=\"\",\"\",COUNTIF($S$7:S1453,\"該当２\"))","v":""},"","",{"$f":"IF(V1453=\"\",\"\",COUNTIF($V$7:V1453,\"該当３\"))","v":""}]
[2220500000,"22",205,{"v":0,"d":"00"},{"v":0,"d":"000"},"静岡県","熱海市",{"$nulls":3},"ﾘｽﾄ１","熱海市",{"$f":"IF(K1454=\"\",\"\",COUNTIF($K$7:K1454,\"ﾘｽﾄ１\"))","v":14},"","","","","","","",{"$f":"IF(S1454=\"\",\"\",COUNTIF($S$7:S1454,\"該当２\"))","v":""},"","",{"$f":"IF(V1454=\"\",\"\",COUNTIF($V$7:V1454,\"該当３\"))","v":""}]
[2220501000,"22",205,{"v":1,"d":"01"},{"v":0,"d":"000"},"静岡県","熱海市","熱海市（旧）",null,null,"","",{"$f":"IF(K1455=\"\",\"\",COUNTIF($K$7:K1455,\"ﾘｽﾄ１\"))","v":""},"","","","","","","",{"$f":"IF(S1455=\"\",\"\",COUNTIF($S$7:S1455,\"該当２\"))","v":""},"","",{"$f":"IF(V1455=\"\",\"\",COUNTIF($V$7:V1455,\"該当３\"))","v":""}]
[2220501001,"22",205,{"v":1,"d":"01"},{"v":1,"d":"001"},"静岡県","熱海市","熱海市（旧）","和田山",null,"","",{"$f":"IF(K1456=\"\",\"\",COUNTIF($K$7:K1456,\"ﾘｽﾄ１\"))","v":""},"","","","","","","",{"$f":"IF(S1456=\"\",\"\",COUNTIF($S$7:S1456,\"該当２\"))","v":""},"","",{"$f":"IF(V1456=\"\",\"\",COUNTIF($V$7:V1456,\"該当３\"))","v":""}]
[2220501002,"22",205,{"v":1,"d":"01"},{"v":2,"d":"002"},"静岡県","熱海市","熱海市（旧）","小嵐",null,"","",{"$f":"IF(K1457=\"\",\"\",COUNTIF($K$7:K1457,\"ﾘｽﾄ１\"))","v":""},"","","","","","","",{"$f":"IF(S1457=\"\",\"\",COUNTIF($S$7:S1457,\"該当２\"))","v":""},"","",{"$f":"IF(V1457=\"\",\"\",COUNTIF($V$7:V1457,\"該当３\"))","v":""}]
[2220501003,"22",205,{"v":1,"d":"01"},{"v":3,"d":"003"},"静岡県","熱海市","熱海市（旧）","和田",null,"","",{"$f":"IF(K1458=\"\",\"\",COUNTIF($K$7:K1458,\"ﾘｽﾄ１\"))","v":""},"","","","","","","",{"$f":"IF(S1458=\"\",\"\",COUNTIF($S$7:S1458,\"該当２\"))","v":""},"","",{"$f":"IF(V1458=\"\",\"\",COUNTIF($V$7:V1458,\"該当３\"))","v":""}]
[2220501004,"22",205,{"v":1,"d":"01"},{"v":4,"d":"004"},"静岡県","熱海市","熱海市（旧）","相ノ原",null,"","",{"$f":"IF(K1459=\"\",\"\",COUNTIF($K$7:K1459,\"ﾘｽﾄ１\"))","v":""},"","","","","","","",{"$f":"IF(S1459=\"\",\"\",COUNTIF($S$7:S1459,\"該当２\"))","v":""},"","",{"$f":"IF(V1459=\"\",\"\",COUNTIF($V$7:V1459,\"該当３\"))","v":""}]
[2220501005,"22",205,{"v":1,"d":"01"},{"v":5,"d":"005"},"静岡県","熱海市","熱海市（旧）","梅園",null,"","",{"$f":"IF(K1460=\"\",\"\",COUNTIF($K$7:K1460,\"ﾘｽﾄ１\"))","v":""},"","","","","","","",{"$f":"IF(S1460=\"\",\"\",COUNTIF($S$7:S1460,\"該当２\"))","v":""},"","",{"$f":"IF(V1460=\"\",\"\",COUNTIF($V$7:V1460,\"該当３\"))","v":""}]
[2220501006,"22",205,{"v":1,"d":"01"},{"v":6,"d":"006"},"静岡県","熱海市","熱海市（旧）","岸谷",null,"","",{"$f":"IF(K1461=\"\",\"\",COUNTIF($K$7:K1461,\"ﾘｽﾄ１\"))","v":""},"","","","","","","",{"$f":"IF(S1461=\"\",\"\",COUNTIF($S$7:S1461,\"該当２\"))","v":""},"","",{"$f":"IF(V1461=\"\",\"\",COUNTIF($V$7:V1461,\"該当３\"))","v":""}]
[2220501007,"22",205,{"v":1,"d":"01"},{"v":7,"d":"007"},"静岡県","熱海市","熱海市（旧）","仲道",null,"","",{"$f":"IF(K1462=\"\",\"\",COUNTIF($K$7:K1462,\"ﾘｽﾄ１\"))","v":""},"","","","","","","",{"$f":"IF(S1462=\"\",\"\",COUNTIF($S$7:S1462,\"該当２\"))","v":""},"","",{"$f":"IF(V1462=\"\",\"\",COUNTIF($V$7:V1462,\"該当３\"))","v":""}]
[2220501008,"22",205,{"v":1,"d":"01"},{"v":8,"d":"008"},"静岡県","熱海市","熱海市（旧）","七尾",null,"","",{"$f":"IF(K1463=\"\",\"\",COUNTIF($K$7:K1463,\"ﾘｽﾄ１\"))","v":""},"","","","","","","",{"$f":"IF(S1463=\"\",\"\",COUNTIF($S$7:S1463,\"該当２\"))","v":""},"","",{"$f":"IF(V1463=\"\",\"\",COUNTIF($V$7:V1463,\"該当３\"))","v":""}]
[2220501009,"22",205,{"v":1,"d":"01"},{"v":9,"d":"009"},"静岡県","熱海市","熱海市（旧）","稲村",null,"","",{"$f":"IF(K1464=\"\",\"\",COUNTIF($K$7:K1464,\"ﾘｽﾄ１\"))","v":""},"","","","","","","",{"$f":"IF(S1464=\"\",\"\",COUNTIF($S$7:S1464,\"該当２\"))","v":""},"","",{"$f":"IF(V1464=\"\",\"\",COUNTIF($V$7:V1464,\"該当３\"))","v":""}]
[2220501010,"22",205,{"v":1,"d":"01"},{"v":10,"d":"010"},"静岡県","熱海市","熱海市（旧）","浜",null,"","",{"$f":"IF(K1465=\"\",\"\",COUNTIF($K$7:K1465,\"ﾘｽﾄ１\"))","v":""},"","","","","","","",{"$f":"IF(S1465=\"\",\"\",COUNTIF($S$7:S1465,\"該当２\"))","v":""},"","",{"$f":"IF(V1465=\"\",\"\",COUNTIF($V$7:V1465,\"該当３\"))","v":""}]
[2220501011,"22",205,{"v":1,"d":"01"},{"v":11,"d":"011"},"静岡県","熱海市","熱海市（旧）","泉",null,"","",{"$f":"IF(K1466=\"\",\"\",COUNTIF($K$7:K1466,\"ﾘｽﾄ１\"))","v":""},"","","","","","","",{"$f":"IF(S1466=\"\",\"\",COUNTIF($S$7:S1466,\"該当２\"))","v":""},"","",{"$f":"IF(V1466=\"\",\"\",COUNTIF($V$7:V1466,\"該当３\"))","v":""}]
[2220501012,"22",205,{"v":1,"d":"01"},{"v":12,"d":"012"},"静岡県","熱海市","熱海市（旧）","中沢",null,"","",{"$f":"IF(K1467=\"\",\"\",COUNTIF($K$7:K1467,\"ﾘｽﾄ１\"))","v":""},"","","","","","","",{"$f":"IF(S1467=\"\",\"\",COUNTIF($S$7:S1467,\"該当２\"))","v":""},"","",{"$f":"IF(V1467=\"\",\"\",COUNTIF($V$7:V1467,\"該当３\"))","v":""}]
[2220501013,"22",205,{"v":1,"d":"01"},{"v":13,"d":"013"},"静岡県","熱海市","熱海市（旧）","初島",null,"","",{"$f":"IF(K1468=\"\",\"\",COUNTIF($K$7:K1468,\"ﾘｽﾄ１\"))","v":""},"","","","","","","",{"$f":"IF(S1468=\"\",\"\",COUNTIF($S$7:S1468,\"該当２\"))","v":""},"","",{"$f":"IF(V1468=\"\",\"\",COUNTIF($V$7:V1468,\"該当３\"))","v":""}]
[2220501014,"22",205,{"v":1,"d":"01"},{"v":14,"d":"014"},"静岡県","熱海市","熱海市（旧）","上多賀",null,"","",{"$f":"IF(K1469=\"\",\"\",COUNTIF($K$7:K1469,\"ﾘｽﾄ１\"))","v":""},"","","","","","","",{"$f":"IF(S1469=\"\",\"\",COUNTIF($S$7:S1469,\"該当２\"))","v":""},"","",{"$f":"IF(V1469=\"\",\"\",COUNTIF($V$7:V1469,\"該当３\"))","v":""}]
[2220501015,"22",205,{"v":1,"d":"01"},{"v":15,"d":"015"},"静岡県","熱海市","熱海市（旧）","下多賀",null,"","",{"$f":"IF(K1470=\"\",\"\",COUNTIF($K$7:K1470,\"ﾘｽﾄ１\"))","v":""},"","","","","","","",{"$f":"IF(S1470=\"\",\"\",COUNTIF($S$7:S1470,\"該当２\"))","v":""},"","",{"$f":"IF(V1470=\"\",\"\",COUNTIF($V$7:V1470,\"該当３\"))","v":""}]
[2220501016,"22",205,{"v":1,"d":"01"},{"v":16,"d":"016"},"静岡県","熱海市","熱海市（旧）","中野",null,"","",{"$f":"IF(K1471=\"\",\"\",COUNTIF($K$7:K1471,\"ﾘｽﾄ１\"))","v":""},"","","","","","","",{"$f":"IF(S1471=\"\",\"\",COUNTIF($S$7:S1471,\"該当２\"))","v":""},"","",{"$f":"IF(V1471=\"\",\"\",COUNTIF($V$7:V1471,\"該当３\"))","v":""}]
[2220501017,"22",205,{"v":1,"d":"01"},{"v":17,"d":"017"},"静岡県","熱海市","熱海市（旧）","小山",null,"","",{"$f":"IF(K1472=\"\",\"\",COUNTIF($K$7:K1472,\"ﾘｽﾄ１\"))","v":""},"","","","","","","",{"$f":"IF(S1472=\"\",\"\",COUNTIF($S$7:S1472,\"該当２\"))","v":""},"","",{"$f":"IF(V1472=\"\",\"\",COUNTIF($V$7:V1472,\"該当３\"))","v":""}]
[2220501018,"22",205,{"v":1,"d":"01"},{"v":18,"d":"018"},"静岡県","熱海市","熱海市（旧）","和田木",null,"","",{"$f":"IF(K1473=\"\",\"\",COUNTIF($K$7:K1473,\"ﾘｽﾄ１\"))","v":""},"","","","","","","",{"$f":"IF(S1473=\"\",\"\",COUNTIF($S$7:S1473,\"該当２\"))","v":""},"","",{"$f":"IF(V1473=\"\",\"\",COUNTIF($V$7:V1473,\"該当３\"))","v":""}]
[2220502000,"22",205,{"v":2,"d":"02"},{"v":0,"d":"000"},"静岡県","熱海市","網代町",null,null,"","",{"$f":"IF(K1474=\"\",\"\",COUNTIF($K$7:K1474,\"ﾘｽﾄ１\"))","v":""},"","","","","","","",{"$f":"IF(S1474=\"\",\"\",COUNTIF($S$7:S1474,\"該当２\"))","v":""},"","",{"$f":"IF(V1474=\"\",\"\",COUNTIF($V$7:V1474,\"該当３\"))","v":""}]
[2220502001,"22",205,{"v":2,"d":"02"},{"v":1,"d":"001"},"静岡県","熱海市","網代町","網代",null,"","",{"$f":"IF(K1475=\"\",\"\",COUNTIF($K$7:K1475,\"ﾘｽﾄ１\"))","v":""},"","","","","","","",{"$f":"IF(S1475=\"\",\"\",COUNTIF($S$7:S1475,\"該当２\"))","v":""},"","",{"$f":"IF(V1475=\"\",\"\",COUNTIF($V$7:V1475,\"該当３\"))","v":""}]
[2220502002,"22",205,{"v":2,"d":"02"},{"v":2,"d":"002"},"静岡県","熱海市","網代町","開拓地",null,"","",{"$f":"IF(K1476=\"\",\"\",COUNTIF($K$7:K1476,\"ﾘｽﾄ１\"))","v":""},"","","","","","","",{"$f":"IF(S1476=\"\",\"\",COUNTIF($S$7:S1476,\"該当２\"))","v":""},"","",{"$f":"IF(V1476=\"\",\"\",COUNTIF($V$7:V1476,\"該当３\"))","v":""}]
[2220600000,"22",206,{"v":0,"d":"00"},{"v":0,"d":"000"},"静岡県","三島市",{"$nulls":3},"ﾘｽﾄ１","三島市",{"$f":"IF(K1477=\"\",\"\",COUNTIF($K$7:K1477,\"ﾘｽﾄ１\"))","v":15},"","","","","","","",{"$f":"IF(S1477=\"\",\"\",COUNTIF($S$7:S1477,\"該当２\"))","v":""},"","",{"$f":"IF(V1477=\"\",\"\",COUNTIF($V$7:V1477,\"該当３\"))","v":""}]
[2220601000,"22",206,{"v":1,"d":"01"},{"v":0,"d":"000"},"静岡県","三島市","三島市（旧）",null,null,"","",{"$f":"IF(K1478=\"\",\"\",COUNTIF($K$7:K1478,\"ﾘｽﾄ１\"))","v":""},"","","","","","","",{"$f":"IF(S1478=\"\",\"\",COUNTIF($S$7:S1478,\"該当２\"))","v":""},"","",{"$f":"IF(V1478=\"\",\"\",COUNTIF($V$7:V1478,\"該当３\"))","v":""}]
[2220601001,"22",206,{"v":1,"d":"01"},{"v":1,"d":"001"},"静岡県","三島市","三島市（旧）","西町",null,"","",{"$f":"IF(K1479=\"\",\"\",COUNTIF($K$7:K1479,\"ﾘｽﾄ１\"))","v":""},"","","","","","","",{"$f":"IF(S1479=\"\",\"\",COUNTIF($S$7:S1479,\"該当２\"))","v":""},"","",{"$f":"IF(V1479=\"\",\"\",COUNTIF($V$7:V1479,\"該当３\"))","v":""}]
[2220601002,"22",206,{"v":1,"d":"01"},{"v":2,"d":"002"},"静岡県","三島市","三島市（旧）","田町",null,"","",{"$f":"IF(K1480=\"\",\"\",COUNTIF($K$7:K1480,\"ﾘｽﾄ１\"))","v":""},"","","","","","","",{"$f":"IF(S1480=\"\",\"\",COUNTIF($S$7:S1480,\"該当２\"))","v":""},"","",{"$f":"IF(V1480=\"\",\"\",COUNTIF($V$7:V1480,\"該当３\"))","v":""}]
[2220601003,"22",206,{"v":1,"d":"01"},{"v":3,"d":"003"},"静岡県","三島市","三島市（旧）","宮倉",null,"","",{"$f":"IF(K1481=\"\",\"\",COUNTIF($K$7:K1481,\"ﾘｽﾄ１\"))","v":""},"","","","","","","",{"$f":"IF(S1481=\"\",\"\",COUNTIF($S$7:S1481,\"該当２\"))","v":""},"","",{"$f":"IF(V1481=\"\",\"\",COUNTIF($V$7:V1481,\"該当３\"))","v":""}]
[2220601004,"22",206,{"v":1,"d":"01"},{"v":4,"d":"004"},"静岡県","三島市","三島市（旧）","新町",null,"","",{"$f":"IF(K1482=\"\",\"\",COUNTIF($K$7:K1482,\"ﾘｽﾄ１\"))","v":""},"","",{"$f":"IF(O1482=\"該当１\",G1482,\"\")","v":""},{"$f":"IF(O1482=\"該当１\",\"ﾘｽﾄ2\",\"\")","v":""},{"$f":"IF(Q1482=\"ﾘｽﾄ2\",H1482,\"\")","v":""},"",{"$f":"IF(S1482=\"該当２\",H1482,\"\")","v":""},{"$f":"IF(S1482=\"\",\"\",COUNTIF($S$7:S1482,\"該当２\"))","v":""},{"$f":"IF(AND($S$2=H1482,E1482>0,E1482<998),\"該当３\",\"\")","v":""},{"$f":"IF(V1482=\"該当３\",I1482,\"\")","v":""},{"$f":"IF(V1482=\"\",\"\",COUNTIF($V$7:V1482,\"該当３\"))","v":""}]
[2220601005,"22",206,{"v":1,"d":"01"},{"v":5,"d":"005"},"静岡県","三島市","三島市（旧）","宮町西",null,{"$f":"IF(AND($C1483>0,$H1483=\"\"),\"ﾘｽﾄ１\",\"\")","v":""},{"$f":"IF(K1483=\"ﾘｽﾄ１\",G1483,\"\")","v":""},{"$f":"IF(K1483=\"\",\"\",COUNTIF($K$7:K1483,\"ﾘｽﾄ１\"))","v":""},{"$f":"IF(AND(D1483=0,E1483>0),\"同一区\",\"\")","v":""},{"$f":"IF(AND(EXACT($K$2,G1483),H1483>0),\"該当１\",\"\")","v":""},"","","",{"$f":"IF(AND(Q1483=\"ﾘｽﾄ2\",OR(I1483=0,AND(N1483=\"同一区\",E1483=1))),\"該当２\",\"\")","v":""},"",{"$f":"IF(S1483=\"\",\"\",COUNTIF($S$7:S1483,\"該当２\"))","v":""},"","",{"$f":"IF(V1483=\"\",\"\",COUNTIF($V$7:V1483,\"該当３\"))","v":""}]
[2220601006,"22",206,{"v":1,"d":"01"},{"v":6,"d":"006"},"静岡県","三島市","三島市（旧）","宮町東",null,"","",{"$f":"IF(K1484=\"\",\"\",COUNTIF($K$7:K1484,\"ﾘｽﾄ１\"))","v":""},"","","","","","","",{"$f":"IF(S1484=\"\",\"\",COUNTIF($S$7:S1484,\"該当２\"))","v":""},"","",{"$f":"IF(V1484=\"\",\"\",COUNTIF($V$7:V1484,\"該当３\"))","v":""}]
[2220601007,"22",206,{"v":1,"d":"01"},{"v":7,"d":"007"},"静岡県","三島市","三島市（旧）","佐野",null,"","",{"$f":"IF(K1485=\"\",\"\",COUNTIF($K$7:K1485,\"ﾘｽﾄ１\"))","v":""},"","","","","","","",{"$f":"IF(S1485=\"\",\"\",COUNTIF($S$7:S1485,\"該当２\"))","v":""},"","",{"$f":"IF(V1485=\"\",\"\",COUNTIF($V$7:V1485,\"該当３\"))","v":""}]
[2220601008,"22",206,{"v":1,"d":"01"},{"v":8,"d":"008"},"静岡県","三島市","三島市（旧）","萩",null,"","",{"$f":"IF(K1486=\"\",\"\",COUNTIF($K$7:K1486,\"ﾘｽﾄ１\"))","v":""},"","","","","","","",{"$f":"IF(S1486=\"\",\"\",COUNTIF($S$7:S1486,\"該当２\"))","v":""},"","",{"$f":"IF(V1486=\"\",\"\",COUNTIF($V$7:V1486,\"該当３\"))","v":""}]
[2220601009,"22",206,{"v":1,"d":"01"},{"v":9,"d":"009"},"静岡県","三島市","三島市（旧）","徳倉",null,"","",{"$f":"IF(K1487=\"\",\"\",COUNTIF($K$7:K1487,\"ﾘｽﾄ１\"))","v":""},"","","","","","","",{"$f":"IF(S1487=\"\",\"\",COUNTIF($S$7:S1487,\"該当２\"))","v":""},"","",{"$f":"IF(V1487=\"\",\"\",COUNTIF($V$7:V1487,\"該当３\"))","v":""}]
[2220601010,"22",206,{"v":1,"d":"01"},{"v":10,"d":"010"},"静岡県","三島市","三島市（旧）","幸原",null,"","",{"$f":"IF(K1488=\"\",\"\",COUNTIF($K$7:K1488,\"ﾘｽﾄ１\"))","v":""},"","","","","","","",{"$f":"IF(S1488=\"\",\"\",COUNTIF($S$7:S1488,\"該当２\"))","v":""},"","",{"$f":"IF(V1488=\"\",\"\",COUNTIF($V$7:V1488,\"該当３\"))","v":""}]
[2220601011,"22",206,{"v":1,"d":"01"},{"v":11,"d":"011"},"静岡県","三島市","三島市（旧）","沢地",null,"","",{"$f":"IF(K1489=\"\",\"\",COUNTIF($K$7:K1489,\"ﾘｽﾄ１\"))","v":""},"","","","","","","",{"$f":"IF(S1489=\"\",\"\",COUNTIF($S$7:S1489,\"該当２\"))","v":""},"","",{"$f":"IF(V1489=\"\",\"\",COUNTIF($V$7:V1489,\"該当３\"))","v":""}]
[2220601012,"22",206,{"v":1,"d":"01"},{"v":12,"d":"012"},"静岡県","三島市","三島市（旧）","壱町田",null,"","",{"$f":"IF(K1490=\"\",\"\",COUNTIF($K$7:K1490,\"ﾘｽﾄ１\"))","v":""},"","","","","","","",{"$f":"IF(S1490=\"\",\"\",COUNTIF($S$7:S1490,\"該当２\"))","v":""},"","",{"$f":"IF(V1490=\"\",\"\",COUNTIF($V$7:V1490,\"該当３\"))","v":""}]
[2220601013,"22",206,{"v":1,"d":"01"},{"v":13,"d":"013"},"静岡県","三島市","三島市（旧）","小山",null,"","",{"$f":"IF(K1491=\"\",\"\",COUNTIF($K$7:K1491,\"ﾘｽﾄ１\"))","v":""},"","","","","","","",{"$f":"IF(S1491=\"\",\"\",COUNTIF($S$7:S1491,\"該当２\"))","v":""},"","",{"$f":"IF(V1491=\"\",\"\",COUNTIF($V$7:V1491,\"該当３\"))","v":""}]
[2220601014,"22",206,{"v":1,"d":"01"},{"v":14,"d":"014"},"静岡県","三島市","三島市（旧）","川原ケ谷",null,"","",{"$f":"IF(K1492=\"\",\"\",COUNTIF($K$7:K1492,\"ﾘｽﾄ１\"))","v":""},"","","","","","","",{"$f":"IF(S1492=\"\",\"\",COUNTIF($S$7:S1492,\"該当２\"))","v":""},"","",{"$f":"IF(V1492=\"\",\"\",COUNTIF($V$7:V1492,\"該当３\"))","v":""}]
[2220601015,"22",206,{"v":1,"d":"01"},{"v":15,"d":"015"},"静岡県","三島市","三島市（旧）","山田",null,"","",{"$f":"IF(K1493=\"\",\"\",COUNTIF($K$7:K1493,\"ﾘｽﾄ１\"))","v":""},"","","","","","","",{"$f":"IF(S1493=\"\",\"\",COUNTIF($S$7:S1493,\"該当２\"))","v":""},"","",{"$f":"IF(V1493=\"\",\"\",COUNTIF($V$7:V1493,\"該当３\"))","v":""}]
[2220601016,"22",206,{"v":1,"d":"01"},{"v":16,"d":"016"},"静岡県","三島市","三島市（旧）","小沢",null,"","",{"$f":"IF(K1494=\"\",\"\",COUNTIF($K$7:K1494,\"ﾘｽﾄ１\"))","v":""},"","","","","","","",{"$f":"IF(S1494=\"\",\"\",COUNTIF($S$7:S1494,\"該当２\"))","v":""},"","",{"$f":"IF(V1494=\"\",\"\",COUNTIF($V$7:V1494,\"該当３\"))","v":""}]
[2220601017,"22",206,{"v":1,"d":"01"},{"v":17,"d":"017"},"静岡県","三島市","三島市（旧）","元山中",null,"","",{"$f":"IF(K1495=\"\",\"\",COUNTIF($K$7:K1495,\"ﾘｽﾄ１\"))","v":""},"","","","","","","",{"$f":"IF(S1495=\"\",\"\",COUNTIF($S$7:S1495,\"該当２\"))","v":""},"","",{"$f":"IF(V1495=\"\",\"\",COUNTIF($V$7:V1495,\"該当３\"))","v":""}]
[2220601018,"22",206,{"v":1,"d":"01"},{"v":18,"d":"018"},"静岡県","三島市","三島市（旧）","塚原",null,"","",{"$f":"IF(K1496=\"\",\"\",COUNTIF($K$7:K1496,\"ﾘｽﾄ１\"))","v":""},"","","","","","","",{"$f":"IF(S1496=\"\",\"\",COUNTIF($S$7:S1496,\"該当２\"))","v":""},"","",{"$f":"IF(V1496=\"\",\"\",COUNTIF($V$7:V1496,\"該当３\"))","v":""}]
[2220601019,"22",206,{"v":1,"d":"01"},{"v":19,"d":"019"},"静岡県","三島市","三島市（旧）","阿部野",null,"","",{"$f":"IF(K1497=\"\",\"\",COUNTIF($K$7:K1497,\"ﾘｽﾄ１\"))","v":""},"","","","","","","",{"$f":"IF(S1497=\"\",\"\",COUNTIF($S$7:S1497,\"該当２\"))","v":""},"","",{"$f":"IF(V1497=\"\",\"\",COUNTIF($V$7:V1497,\"該当３\"))","v":""}]
[2220601020,"22",206,{"v":1,"d":"01"},{"v":20,"d":"020"},"静岡県","三島市","三島市（旧）","市の山",null,"","",{"$f":"IF(K1498=\"\",\"\",COUNTIF($K$7:K1498,\"ﾘｽﾄ１\"))","v":""},"","","","","","","",{"$f":"IF(S1498=\"\",\"\",COUNTIF($S$7:S1498,\"該当２\"))","v":""},"","",{"$f":"IF(V1498=\"\",\"\",COUNTIF($V$7:V1498,\"該当３\"))","v":""}]
[2220601021,"22",206,{"v":1,"d":"01"},{"v":21,"d":"021"},"静岡県","三島市","三島市（旧）","三ツ谷",null,"","",{"$f":"IF(K1499=\"\",\"\",COUNTIF($K$7:K1499,\"ﾘｽﾄ１\"))","v":""},"","","","","","","",{"$f":"IF(S1499=\"\",\"\",COUNTIF($S$7:S1499,\"該当２\"))","v":""},"","",{"$f":"IF(V1499=\"\",\"\",COUNTIF($V$7:V1499,\"該当３\"))","v":""}]
[2220601022,"22",206,{"v":1,"d":"01"},{"v":22,"d":"022"},"静岡県","三島市","三島市（旧）","笹原",null,"","",{"$f":"IF(K1500=\"\",\"\",COUNTIF($K$7:K1500,\"ﾘｽﾄ１\"))","v":""},"","","","","","","",{"$f":"IF(S1500=\"\",\"\",COUNTIF($S$7:S1500,\"該当２\"))","v":""},"","",{"$f":"IF(V1500=\"\",\"\",COUNTIF($V$7:V1500,\"該当３\"))","v":""}]
[2220601023,"22",206,{"v":1,"d":"01"},{"v":23,"d":"023"},"静岡県","三島市","三島市（旧）","山中",null,"","",{"$f":"IF(K1501=\"\",\"\",COUNTIF($K$7:K1501,\"ﾘｽﾄ１\"))","v":""},"","","","","","","",{"$f":"IF(S1501=\"\",\"\",COUNTIF($S$7:S1501,\"該当２\"))","v":""},"","",{"$f":"IF(V1501=\"\",\"\",COUNTIF($V$7:V1501,\"該当３\"))","v":""}]
[2220601024,"22",206,{"v":1,"d":"01"},{"v":24,"d":"024"},"静岡県","三島市","三島市（旧）","台崎",null,"","",{"$f":"IF(K1502=\"\",\"\",COUNTIF($K$7:K1502,\"ﾘｽﾄ１\"))","v":""},"","","","","","","",{"$f":"IF(S1502=\"\",\"\",COUNTIF($S$7:S1502,\"該当２\"))","v":""},"","",{"$f":"IF(V1502=\"\",\"\",COUNTIF($V$7:V1502,\"該当３\"))","v":""}]
[2220601025,"22",206,{"v":1,"d":"01"},{"v":25,"d":"025"},"静岡県","三島市","三島市（旧）","玉沢",null,"","",{"$f":"IF(K1503=\"\",\"\",COUNTIF($K$7:K1503,\"ﾘｽﾄ１\"))","v":""},"","","","","","","",{"$f":"IF(S1503=\"\",\"\",COUNTIF($S$7:S1503,\"該当２\"))","v":""},"","",{"$f":"IF(V1503=\"\",\"\",COUNTIF($V$7:V1503,\"該当３\"))","v":""}]
[2220601026,"22",206,{"v":1,"d":"01"},{"v":26,"d":"026"},"静岡県","三島市","三島市（旧）","竹倉",null,"","",{"$f":"IF(K1504=\"\",\"\",COUNTIF($K$7:K1504,\"ﾘｽﾄ１\"))","v":""},"","","","","","","",{"$f":"IF(S1504=\"\",\"\",COUNTIF($S$7:S1504,\"該当２\"))","v":""},"","",{"$f":"IF(V1504=\"\",\"\",COUNTIF($V$7:V1504,\"該当３\"))","v":""}]
[2220601027,"22",206,{"v":1,"d":"01"},{"v":27,"d":"027"},"静岡県","三島市","三島市（旧）","夏梅木",null,"","",{"$f":"IF(K1505=\"\",\"\",COUNTIF($K$7:K1505,\"ﾘｽﾄ１\"))","v":""},"","","","","","","",{"$f":"IF(S1505=\"\",\"\",COUNTIF($S$7:S1505,\"該当２\"))","v":""},"","",{"$f":"IF(V1505=\"\",\"\",COUNTIF($V$7:V1505,\"該当３\"))","v":""}]
[2220601028,"22",206,{"v":1,"d":"01"},{"v":28,"d":"028"},"静岡県","三島市","三島市（旧）","谷田",null,"","",{"$f":"IF(K1506=\"\",\"\",COUNTIF($K$7:K1506,\"ﾘｽﾄ１\"))","v":""},"","","","","","","",{"$f":"IF(S1506=\"\",\"\",COUNTIF($S$7:S1506,\"該当２\"))","v":""},"","",{"$f":"IF(V1506=\"\",\"\",COUNTIF($V$7:V1506,\"該当３\"))","v":""}]
[2220601029,"22",206,{"v":1,"d":"01"},{"v":29,"d":"029"},"静岡県","三島市","三島市（旧）","御門",null,"","",{"$f":"IF(K1507=\"\",\"\",COUNTIF($K$7:K1507,\"ﾘｽﾄ１\"))","v":""},"","","","","","","",{"$f":"IF(S1507=\"\",\"\",COUNTIF($S$7:S1507,\"該当２\"))","v":""},"","",{"$f":"IF(V1507=\"\",\"\",COUNTIF($V$7:V1507,\"該当３\"))","v":""}]
[2220601030,"22",206,{"v":1,"d":"01"},{"v":30,"d":"030"},"静岡県","三島市","三島市（旧）","中",null,"","",{"$f":"IF(K1508=\"\",\"\",COUNTIF($K$7:K1508,\"ﾘｽﾄ１\"))","v":""},"","","","","","","",{"$f":"IF(S1508=\"\",\"\",COUNTIF($S$7:S1508,\"該当２\"))","v":""},"","",{"$f":"IF(V1508=\"\",\"\",COUNTIF($V$7:V1508,\"該当３\"))","v":""}]
[2220602000,"22",206,{"v":2,"d":"02"},{"v":0,"d":"000"},"静岡県","三島市","中郷村",null,null,"","",{"$f":"IF(K1509=\"\",\"\",COUNTIF($K$7:K1509,\"ﾘｽﾄ１\"))","v":""},"","","","","","","",{"$f":"IF(S1509=\"\",\"\",COUNTIF($S$7:S1509,\"該当２\"))","v":""},"","",{"$f":"IF(V1509=\"\",\"\",COUNTIF($V$7:V1509,\"該当３\"))","v":""}]
[2220602001,"22",206,{"v":2,"d":"02"},{"v":1,"d":"001"},"静岡県","三島市","中郷村","北沢",null,"","",{"$f":"IF(K1510=\"\",\"\",COUNTIF($K$7:K1510,\"ﾘｽﾄ１\"))","v":""},"","","","","","","",{"$f":"IF(S1510=\"\",\"\",COUNTIF($S$7:S1510,\"該当２\"))","v":""},"","",{"$f":"IF(V1510=\"\",\"\",COUNTIF($V$7:V1510,\"該当３\"))","v":""}]
[2220602002,"22",206,{"v":2,"d":"02"},{"v":2,"d":"002"},"静岡県","三島市","中郷村","多呂",null,"","",{"$f":"IF(K1511=\"\",\"\",COUNTIF($K$7:K1511,\"ﾘｽﾄ１\"))","v":""},"","","","","","","",{"$f":"IF(S1511=\"\",\"\",COUNTIF($S$7:S1511,\"該当２\"))","v":""},"","",{"$f":"IF(V1511=\"\",\"\",COUNTIF($V$7:V1511,\"該当３\"))","v":""}]
[2220602003,"22",206,{"v":2,"d":"02"},{"v":3,"d":"003"},"静岡県","三島市","中郷村","赤王",null,"","",{"$f":"IF(K1512=\"\",\"\",COUNTIF($K$7:K1512,\"ﾘｽﾄ１\"))","v":""},"","","","","","","",{"$f":"IF(S1512=\"\",\"\",COUNTIF($S$7:S1512,\"該当２\"))","v":""},"","",{"$f":"IF(V1512=\"\",\"\",COUNTIF($V$7:V1512,\"該当３\"))","v":""}]
[2220602004,"22",206,{"v":2,"d":"02"},{"v":4,"d":"004"},"静岡県","三島市","中郷村","大場北",null,"","",{"$f":"IF(K1513=\"\",\"\",COUNTIF($K$7:K1513,\"ﾘｽﾄ１\"))","v":""},"","","","","","","",{"$f":"IF(S1513=\"\",\"\",COUNTIF($S$7:S1513,\"該当２\"))","v":""},"","",{"$f":"IF(V1513=\"\",\"\",COUNTIF($V$7:V1513,\"該当３\"))","v":""}]
[2220602005,"22",206,{"v":2,"d":"02"},{"v":5,"d":"005"},"静岡県","三島市","中郷村","大場南",null,"","",{"$f":"IF(K1514=\"\",\"\",COUNTIF($K$7:K1514,\"ﾘｽﾄ１\"))","v":""},"","","","","","","",{"$f":"IF(S1514=\"\",\"\",COUNTIF($S$7:S1514,\"該当２\"))","v":""},"","",{"$f":"IF(V1514=\"\",\"\",COUNTIF($V$7:V1514,\"該当３\"))","v":""}]
[2220602006,"22",206,{"v":2,"d":"02"},{"v":6,"d":"006"},"静岡県","三島市","中郷村","中島",null,"","",{"$f":"IF(K1515=\"\",\"\",COUNTIF($K$7:K1515,\"ﾘｽﾄ１\"))","v":""},"","","","","","","",{"$f":"IF(S1515=\"\",\"\",COUNTIF($S$7:S1515,\"該当２\"))","v":""},"","",{"$f":"IF(V1515=\"\",\"\",COUNTIF($V$7:V1515,\"該当３\"))","v":""}]
[2220602007,"22",206,{"v":2,"d":"02"},{"v":7,"d":"007"},"静岡県","三島市","中郷村","梅名",null,"","",{"$f":"IF(K1516=\"\",\"\",COUNTIF($K$7:K1516,\"ﾘｽﾄ１\"))","v":""},"","","","","","","",{"$f":"IF(S1516=\"\",\"\",COUNTIF($S$7:S1516,\"該当２\"))","v":""},"","",{"$f":"IF(V1516=\"\",\"\",COUNTIF($V$7:V1516,\"該当３\"))","v":""}]
[2220602008,"22",206,{"v":2,"d":"02"},{"v":8,"d":"008"},"静岡県","三島市","中郷村","安久",null,"","",{"$f":"IF(K1517=\"\",\"\",COUNTIF($K$7:K1517,\"ﾘｽﾄ１\"))","v":""},"","","","","","","",{"$f":"IF(S1517=\"\",\"\",COUNTIF($S$7:S1517,\"該当２\"))","v":""},"","",{"$f":"IF(V1517=\"\",\"\",COUNTIF($V$7:V1517,\"該当３\"))","v":""}]
[2220602009,"22",206,{"v":2,"d":"02"},{"v":9,"d":"009"},"静岡県","三島市","中郷村","御園",null,"","",{"$f":"IF(K1518=\"\",\"\",COUNTIF($K$7:K1518,\"ﾘｽﾄ１\"))","v":""},"","","","","","","",{"$f":"IF(S1518=\"\",\"\",COUNTIF($S$7:S1518,\"該当２\"))","v":""},"","",{"$f":"IF(V1518=\"\",\"\",COUNTIF($V$7:V1518,\"該当３\"))","v":""}]
[2220602010,"22",206,{"v":2,"d":"02"},{"v":10,"d":"010"},"静岡県","三島市","中郷村","長伏",null,"","",{"$f":"IF(K1519=\"\",\"\",COUNTIF($K$7:K1519,\"ﾘｽﾄ１\"))","v":""},"","","","","","","",{"$f":"IF(S1519=\"\",\"\",COUNTIF($S$7:S1519,\"該当２\"))","v":""},"","",{"$f":"IF(V1519=\"\",\"\",COUNTIF($V$7:V1519,\"該当３\"))","v":""}]
[2220602011,"22",206,{"v":2,"d":"02"},{"v":11,"d":"011"},"静岡県","三島市","中郷村","松本",null,"","",{"$f":"IF(K1520=\"\",\"\",COUNTIF($K$7:K1520,\"ﾘｽﾄ１\"))","v":""},"","","","","","","",{"$f":"IF(S1520=\"\",\"\",COUNTIF($S$7:S1520,\"該当２\"))","v":""},"","",{"$f":"IF(V1520=\"\",\"\",COUNTIF($V$7:V1520,\"該当３\"))","v":""}]
[2220602012,"22",206,{"v":2,"d":"02"},{"v":12,"d":"012"},"静岡県","三島市","中郷村","平田",null,"","",{"$f":"IF(K1521=\"\",\"\",COUNTIF($K$7:K1521,\"ﾘｽﾄ１\"))","v":""},"","","","","","","",{"$f":"IF(S1521=\"\",\"\",COUNTIF($S$7:S1521,\"該当２\"))","v":""},"","",{"$f":"IF(V1521=\"\",\"\",COUNTIF($V$7:V1521,\"該当３\"))","v":""}]
[2220602013,"22",206,{"v":2,"d":"02"},{"v":13,"d":"013"},"静岡県","三島市","中郷村","玉川",null,"","",{"$f":"IF(K1522=\"\",\"\",COUNTIF($K$7:K1522,\"ﾘｽﾄ１\"))","v":""},"","","","","","","",{"$f":"IF(S1522=\"\",\"\",COUNTIF($S$7:S1522,\"該当２\"))","v":""},"","",{"$f":"IF(V1522=\"\",\"\",COUNTIF($V$7:V1522,\"該当３\"))","v":""}]
[2220602014,"22",206,{"v":2,"d":"02"},{"v":14,"d":"014"},"静岡県","三島市","中郷村","新谷",null,"","",{"$f":"IF(K1523=\"\",\"\",COUNTIF($K$7:K1523,\"ﾘｽﾄ１\"))","v":""},"","","","","","","",{"$f":"IF(S1523=\"\",\"\",COUNTIF($S$7:S1523,\"該当２\"))","v":""},"","",{"$f":"IF(V1523=\"\",\"\",COUNTIF($V$7:V1523,\"該当３\"))","v":""}]
[2220602015,"22",206,{"v":2,"d":"02"},{"v":15,"d":"015"},"静岡県","三島市","中郷村","青木",null,"","",{"$f":"IF(K1524=\"\",\"\",COUNTIF($K$7:K1524,\"ﾘｽﾄ１\"))","v":""},"","","","","","","",{"$f":"IF(S1524=\"\",\"\",COUNTIF($S$7:S1524,\"該当２\"))","v":""},"","",{"$f":"IF(V1524=\"\",\"\",COUNTIF($V$7:V1524,\"該当３\"))","v":""}]
[2220602016,"22",206,{"v":2,"d":"02"},{"v":16,"d":"016"},"静岡県","三島市","中郷村","鶴喰",null,"","",{"$f":"IF(K1525=\"\",\"\",COUNTIF($K$7:K1525,\"ﾘｽﾄ１\"))","v":""},"","","","","","","",{"$f":"IF(S1525=\"\",\"\",COUNTIF($S$7:S1525,\"該当２\"))","v":""},"","",{"$f":"IF(V1525=\"\",\"\",COUNTIF($V$7:V1525,\"該当３\"))","v":""}]
[2220602017,"22",206,{"v":2,"d":"02"},{"v":17,"d":"017"},"静岡県","三島市","中郷村","八反畑",null,"","",{"$f":"IF(K1526=\"\",\"\",COUNTIF($K$7:K1526,\"ﾘｽﾄ１\"))","v":""},"","","","","","","",{"$f":"IF(S1526=\"\",\"\",COUNTIF($S$7:S1526,\"該当２\"))","v":""},"","",{"$f":"IF(V1526=\"\",\"\",COUNTIF($V$7:V1526,\"該当３\"))","v":""}]
[2220700000,"22",207,{"v":0,"d":"00"},{"v":0,"d":"000"},"静岡県","富士宮市",{"$nulls":3},"ﾘｽﾄ１","富士宮市",{"$f":"IF(K1527=\"\",\"\",COUNTIF($K$7:K1527,\"ﾘｽﾄ１\"))","v":16},"","","","","","","",{"$f":"IF(S1527=\"\",\"\",COUNTIF($S$7:S1527,\"該当２\"))","v":""},"","",{"$f":"IF(V1527=\"\",\"\",COUNTIF($V$7:V1527,\"該当３\"))","v":""}]
[2220701000,"22",207,{"v":1,"d":"01"},{"v":0,"d":"000"},"静岡県","富士宮市","富士宮市（旧）",null,null,"","",{"$f":"IF(K1528=\"\",\"\",COUNTIF($K$7:K1528,\"ﾘｽﾄ１\"))","v":""},"","","","","","","",{"$f":"IF(S1528=\"\",\"\",COUNTIF($S$7:S1528,\"該当２\"))","v":""},"","",{"$f":"IF(V1528=\"\",\"\",COUNTIF($V$7:V1528,\"該当３\"))","v":""}]
[2220701001,"22",207,{"v":1,"d":"01"},{"v":1,"d":"001"},"静岡県","富士宮市","富士宮市（旧）","万野東",null,"","",{"$f":"IF(K1529=\"\",\"\",COUNTIF($K$7:K1529,\"ﾘｽﾄ１\"))","v":""},"","","","","","","",{"$f":"IF(S1529=\"\",\"\",COUNTIF($S$7:S1529,\"該当２\"))","v":""},"","",{"$f":"IF(V1529=\"\",\"\",COUNTIF($V$7:V1529,\"該当３\"))","v":""}]
[2220701002,"22",207,{"v":1,"d":"01"},{"v":2,"d":"002"},"静岡県","富士宮市","富士宮市（旧）","万野西",null,"","",{"$f":"IF(K1530=\"\",\"\",COUNTIF($K$7:K1530,\"ﾘｽﾄ１\"))","v":""},"","","","","","","",{"$f":"IF(S1530=\"\",\"\",COUNTIF($S$7:S1530,\"該当２\"))","v":""},"","",{"$f":"IF(V1530=\"\",\"\",COUNTIF($V$7:V1530,\"該当３\"))","v":""}]
[2220701003,"22",207,{"v":1,"d":"01"},{"v":3,"d":"003"},"静岡県","富士宮市","富士宮市（旧）","万野南",null,"","",{"$f":"IF(K1531=\"\",\"\",COUNTIF($K$7:K1531,\"ﾘｽﾄ１\"))","v":""},"","","","","","","",{"$f":"IF(S1531=\"\",\"\",COUNTIF($S$7:S1531,\"該当２\"))","v":""},"","",{"$f":"IF(V1531=\"\",\"\",COUNTIF($V$7:V1531,\"該当３\"))","v":""}]
[2220701004,"22",207,{"v":1,"d":"01"},{"v":4,"d":"004"},"静岡県","富士宮市","富士宮市（旧）","安居山",null,"","",{"$f":"IF(K1532=\"\",\"\",COUNTIF($K$7:K1532,\"ﾘｽﾄ１\"))","v":""},"","","","","","","",{"$f":"IF(S1532=\"\",\"\",COUNTIF($S$7:S1532,\"該当２\"))","v":""},"","",{"$f":"IF(V1532=\"\",\"\",COUNTIF($V$7:V1532,\"該当３\"))","v":""}]
[2220701005,"22",207,{"v":1,"d":"01"},{"v":5,"d":"005"},"静岡県","富士宮市","富士宮市（旧）","沼久保西",null,"","",{"$f":"IF(K1533=\"\",\"\",COUNTIF($K$7:K1533,\"ﾘｽﾄ１\"))","v":""},"","","","","","","",{"$f":"IF(S1533=\"\",\"\",COUNTIF($S$7:S1533,\"該当２\"))","v":""},"","",{"$f":"IF(V1533=\"\",\"\",COUNTIF($V$7:V1533,\"該当３\"))","v":""}]
[2220701006,"22",207,{"v":1,"d":"01"},{"v":6,"d":"006"},"静岡県","富士宮市","富士宮市（旧）","沼久保東",null,"","",{"$f":"IF(K1534=\"\",\"\",COUNTIF($K$7:K1534,\"ﾘｽﾄ１\"))","v":""},"","","","","","","",{"$f":"IF(S1534=\"\",\"\",COUNTIF($S$7:S1534,\"該当２\"))","v":""},"","",{"$f":"IF(V1534=\"\",\"\",COUNTIF($V$7:V1534,\"該当３\"))","v":""}]
[2220701007,"22",207,{"v":1,"d":"01"},{"v":7,"d":"007"},"静岡県","富士宮市","富士宮市（旧）","星山",null,"","",{"$f":"IF(K1535=\"\",\"\",COUNTIF($K$7:K1535,\"ﾘｽﾄ１\"))","v":""},"","","","","","","",{"$f":"IF(S1535=\"\",\"\",COUNTIF($S$7:S1535,\"該当２\"))","v":""},"","",{"$f":"IF(V1535=\"\",\"\",COUNTIF($V$7:V1535,\"該当３\"))","v":""}]
[2220701008,"22",207,{"v":1,"d":"01"},{"v":8,"d":"008"},"静岡県","富士宮市","富士宮市（旧）","野中東",null,"","",{"$f":"IF(K1536=\"\",\"\",COUNTIF($K$7:K1536,\"ﾘｽﾄ１\"))","v":""},"","","","","","","",{"$f":"IF(S1536=\"\",\"\",COUNTIF($S$7:S1536,\"該当２\"))","v":""},"","",{"$f":"IF(V1536=\"\",\"\",COUNTIF($V$7:V1536,\"該当３\"))","v":""}]
[2220701009,"22",207,{"v":1,"d":"01"},{"v":9,"d":"009"},"静岡県","富士宮市","富士宮市（旧）","野中西",null,"","",{"$f":"IF(K1537=\"\",\"\",COUNTIF($K$7:K1537,\"ﾘｽﾄ１\"))","v":""},"","","","","","","",{"$f":"IF(S1537=\"\",\"\",COUNTIF($S$7:S1537,\"該当２\"))","v":""},"","",{"$f":"IF(V1537=\"\",\"\",COUNTIF($V$7:V1537,\"該当３\"))","v":""}]
[2220701010,"22",207,{"v":1,"d":"01"},{"v":10,"d":"010"},"静岡県","富士宮市","富士宮市（旧）","黒田",null,"","",{"$f":"IF(K1538=\"\",\"\",COUNTIF($K$7:K1538,\"ﾘｽﾄ１\"))","v":""},"","","","","","","",{"$f":"IF(S1538=\"\",\"\",COUNTIF($S$7:S1538,\"該当２\"))","v":""},"","",{"$f":"IF(V1538=\"\",\"\",COUNTIF($V$7:V1538,\"該当３\"))","v":""}]
[2220701011,"22",207,{"v":1,"d":"01"},{"v":11,"d":"011"},"静岡県","富士宮市","富士宮市（旧）","田中",null,"","",{"$f":"IF(K1539=\"\",\"\",COUNTIF($K$7:K1539,\"ﾘｽﾄ１\"))","v":""},"","","","","","","",{"$f":"IF(S1539=\"\",\"\",COUNTIF($S$7:S1539,\"該当２\"))","v":""},"","",{"$f":"IF(V1539=\"\",\"\",COUNTIF($V$7:V1539,\"該当３\"))","v":""}]
[2220701012,"22",207,{"v":1,"d":"01"},{"v":12,"d":"012"},"静岡県","富士宮市","富士宮市（旧）","源道寺",null,"","",{"$f":"IF(K1540=\"\",\"\",COUNTIF($K$7:K1540,\"ﾘｽﾄ１\"))","v":""},"","","","","","","",{"$f":"IF(S1540=\"\",\"\",COUNTIF($S$7:S1540,\"該当２\"))","v":""},"","",{"$f":"IF(V1540=\"\",\"\",COUNTIF($V$7:V1540,\"該当３\"))","v":""}]
[2220701013,"22",207,{"v":1,"d":"01"},{"v":13,"d":"013"},"静岡県","富士宮市","富士宮市（旧）","山本",null,"","",{"$f":"IF(K1541=\"\",\"\",COUNTIF($K$7:K1541,\"ﾘｽﾄ１\"))","v":""},"","","","","","","",{"$f":"IF(S1541=\"\",\"\",COUNTIF($S$7:S1541,\"該当２\"))","v":""},"","",{"$f":"IF(V1541=\"\",\"\",COUNTIF($V$7:V1541,\"該当３\"))","v":""}]
[2220701014,"22",207,{"v":1,"d":"01"},{"v":14,"d":"014"},"静岡県","富士宮市","富士宮市（旧）","高原",null,"","",{"$f":"IF(K1542=\"\",\"\",COUNTIF($K$7:K1542,\"ﾘｽﾄ１\"))","v":""},"","","","","","","",{"$f":"IF(S1542=\"\",\"\",COUNTIF($S$7:S1542,\"該当２\"))","v":""},"","",{"$f":"IF(V1542=\"\",\"\",COUNTIF($V$7:V1542,\"該当３\"))","v":""}]
[2220701015,"22",207,{"v":1,"d":"01"},{"v":15,"d":"015"},"静岡県","富士宮市","富士宮市（旧）","阿幸地東",null,"","",{"$f":"IF(K1543=\"\",\"\",COUNTIF($K$7:K1543,\"ﾘｽﾄ１\"))","v":""},"","","","","","","",{"$f":"IF(S1543=\"\",\"\",COUNTIF($S$7:S1543,\"該当２\"))","v":""},"","",{"$f":"IF(V1543=\"\",\"\",COUNTIF($V$7:V1543,\"該当３\"))","v":""}]
[2220701016,"22",207,{"v":1,"d":"01"},{"v":16,"d":"016"},"静岡県","富士宮市","富士宮市（旧）","阿幸地西",null,"","",{"$f":"IF(K1544=\"\",\"\",COUNTIF($K$7:K1544,\"ﾘｽﾄ１\"))","v":""},"","","","","","","",{"$f":"IF(S1544=\"\",\"\",COUNTIF($S$7:S1544,\"該当２\"))","v":""},"","",{"$f":"IF(V1544=\"\",\"\",COUNTIF($V$7:V1544,\"該当３\"))","v":""}]
[2220701017,"22",207,{"v":1,"d":"01"},{"v":17,"d":"017"},"静岡県","富士宮市","富士宮市（旧）","貫戸",null,"","",{"$f":"IF(K1545=\"\",\"\",COUNTIF($K$7:K1545,\"ﾘｽﾄ１\"))","v":""},"","","","","","","",{"$f":"IF(S1545=\"\",\"\",COUNTIF($S$7:S1545,\"該当２\"))","v":""},"","",{"$f":"IF(V1545=\"\",\"\",COUNTIF($V$7:V1545,\"該当３\"))","v":""}]
[2220701018,"22",207,{"v":1,"d":"01"},{"v":18,"d":"018"},"静岡県","富士宮市","富士宮市（旧）","渋沢",null,"","",{"$f":"IF(K1546=\"\",\"\",COUNTIF($K$7:K1546,\"ﾘｽﾄ１\"))","v":""},"","",{"$f":"IF(O1546=\"該当１\",G1546,\"\")","v":""},{"$f":"IF(O1546=\"該当１\",\"ﾘｽﾄ2\",\"\")","v":""},{"$f":"IF(Q1546=\"ﾘｽﾄ2\",H1546,\"\")","v":""},"",{"$f":"IF(S1546=\"該当２\",H1546,\"\")","v":""},{"$f":"IF(S1546=\"\",\"\",COUNTIF($S$7:S1546,\"該当２\"))","v":""},{"$f":"IF(AND($S$2=H1546,E1546>0,E1546<998),\"該当３\",\"\")","v":""},{"$f":"IF(V1546=\"該当３\",I1546,\"\")","v":""},{"$f":"IF(V1546=\"\",\"\",COUNTIF($V$7:V1546,\"該当３\"))","v":""}]
[2220701019,"22",207,{"v":1,"d":"01"},{"v":19,"d":"019"},"静岡県","富士宮市","富士宮市（旧）","金の宮",null,{"$f":"IF(AND($C1547>0,$H1547=\"\"),\"ﾘｽﾄ１\",\"\")","v":""},{"$f":"IF(K1547=\"ﾘｽﾄ１\",G1547,\"\")","v":""},{"$f":"IF(K1547=\"\",\"\",COUNTIF($K$7:K1547,\"ﾘｽﾄ１\"))","v":""},{"$f":"IF(AND(D1547=0,E1547>0),\"同一区\",\"\")","v":""},{"$f":"IF(AND(EXACT($K$2,G1547),H1547>0),\"該当１\",\"\")","v":""},"","","",{"$f":"IF(AND(Q1547=\"ﾘｽﾄ2\",OR(I1547=0,AND(N1547=\"同一区\",E1547=1))),\"該当２\",\"\")","v":""},"",{"$f":"IF(S1547=\"\",\"\",COUNTIF($S$7:S1547,\"該当２\"))","v":""},"","",{"$f":"IF(V1547=\"\",\"\",COUNTIF($V$7:V1547,\"該当３\"))","v":""}]
[2220701020,"22",207,{"v":1,"d":"01"},{"v":20,"d":"020"},"静岡県","富士宮市","富士宮市（旧）","大谷戸",null,"","",{"$f":"IF(K1548=\"\",\"\",COUNTIF($K$7:K1548,\"ﾘｽﾄ１\"))","v":""},"","","","","","","",{"$f":"IF(S1548=\"\",\"\",COUNTIF($S$7:S1548,\"該当２\"))","v":""},"","",{"$f":"IF(V1548=\"\",\"\",COUNTIF($V$7:V1548,\"該当３\"))","v":""}]
[2220701021,"22",207,{"v":1,"d":"01"},{"v":21,"d":"021"},"静岡県","富士宮市","富士宮市（旧）","淀師上中",null,"","",{"$f":"IF(K1549=\"\",\"\",COUNTIF($K$7:K1549,\"ﾘｽﾄ１\"))","v":""},"","","","","","","",{"$f":"IF(S1549=\"\",\"\",COUNTIF($S$7:S1549,\"該当２\"))","v":""},"","",{"$f":"IF(V1549=\"\",\"\",COUNTIF($V$7:V1549,\"該当３\"))","v":""}]
[2220701022,"22",207,{"v":1,"d":"01"},{"v":22,"d":"022"},"静岡県","富士宮市","富士宮市（旧）","淀師下中",null,"","",{"$f":"IF(K1550=\"\",\"\",COUNTIF($K$7:K1550,\"ﾘｽﾄ１\"))","v":""},"","","","","","","",{"$f":"IF(S1550=\"\",\"\",COUNTIF($S$7:S1550,\"該当２\"))","v":""},"","",{"$f":"IF(V1550=\"\",\"\",COUNTIF($V$7:V1550,\"該当３\"))","v":""}]
[2220701023,"22",207,{"v":1,"d":"01"},{"v":23,"d":"023"},"静岡県","富士宮市","富士宮市（旧）","淀師下",null,"","",{"$f":"IF(K1551=\"\",\"\",COUNTIF($K$7:K1551,\"ﾘｽﾄ１\"))","v":""},"","","","","","","",{"$f":"IF(S1551=\"\",\"\",COUNTIF($S$7:S1551,\"該当２\"))","v":""},"","",{"$f":"IF(V1551=\"\",\"\",COUNTIF($V$7:V1551,\"該当３\"))","v":""}]
[2220701024,"22",207,{"v":1,"d":"01"},{"v":24,"d":"024"},"静岡県","富士宮市","富士宮市（旧）","淀師横町",null,"","",{"$f":"IF(K1552=\"\",\"\",COUNTIF($K$7:K1552,\"ﾘｽﾄ１\"))","v":""},"","","","","","","",{"$f":"IF(S1552=\"\",\"\",COUNTIF($S$7:S1552,\"該当２\"))","v":""},"","",{"$f":"IF(V1552=\"\",\"\",COUNTIF($V$7:V1552,\"該当３\"))","v":""}]
[2220701025,"22",207,{"v":1,"d":"01"},{"v":25,"d":"025"},"静岡県","富士宮市","富士宮市（旧）","青見",null,"","",{"$f":"IF(K1553=\"\",\"\",COUNTIF($K$7:K1553,\"ﾘｽﾄ１\"))","v":""},"","","","","","","",{"$f":"IF(S1553=\"\",\"\",COUNTIF($S$7:S1553,\"該当２\"))","v":""},"","",{"$f":"IF(V1553=\"\",\"\",COUNTIF($V$7:V1553,\"該当３\"))","v":""}]
[2220701026,"22",207,{"v":1,"d":"01"},{"v":26,"d":"026"},"静岡県","富士宮市","富士宮市（旧）","大中里上",null,"","",{"$f":"IF(K1554=\"\",\"\",COUNTIF($K$7:K1554,\"ﾘｽﾄ１\"))","v":""},"","","","","","","",{"$f":"IF(S1554=\"\",\"\",COUNTIF($S$7:S1554,\"該当２\"))","v":""},"","",{"$f":"IF(V1554=\"\",\"\",COUNTIF($V$7:V1554,\"該当３\"))","v":""}]
[2220701027,"22",207,{"v":1,"d":"01"},{"v":27,"d":"027"},"静岡県","富士宮市","富士宮市（旧）","大中里中村",null,"","",{"$f":"IF(K1555=\"\",\"\",COUNTIF($K$7:K1555,\"ﾘｽﾄ１\"))","v":""},"","","","","","","",{"$f":"IF(S1555=\"\",\"\",COUNTIF($S$7:S1555,\"該当２\"))","v":""},"","",{"$f":"IF(V1555=\"\",\"\",COUNTIF($V$7:V1555,\"該当３\"))","v":""}]
[2220701028,"22",207,{"v":1,"d":"01"},{"v":28,"d":"028"},"静岡県","富士宮市","富士宮市（旧）","大中里坂下",null,"","",{"$f":"IF(K1556=\"\",\"\",COUNTIF($K$7:K1556,\"ﾘｽﾄ１\"))","v":""},"","","","","","","",{"$f":"IF(S1556=\"\",\"\",COUNTIF($S$7:S1556,\"該当２\"))","v":""},"","",{"$f":"IF(V1556=\"\",\"\",COUNTIF($V$7:V1556,\"該当３\"))","v":""}]
[2220701029,"22",207,{"v":1,"d":"01"},{"v":29,"d":"029"},"静岡県","富士宮市","富士宮市（旧）","大中里下",null,"","",{"$f":"IF(K1557=\"\",\"\",COUNTIF($K$7:K1557,\"ﾘｽﾄ１\"))","v":""},"","","","","","","",{"$f":"IF(S1557=\"\",\"\",COUNTIF($S$7:S1557,\"該当２\"))","v":""},"","",{"$f":"IF(V1557=\"\",\"\",COUNTIF($V$7:V1557,\"該当３\"))","v":""}]
[2220701030,"22",207,{"v":1,"d":"01"},{"v":30,"d":"030"},"静岡県","富士宮市","富士宮市（旧）","大中里沢東",null,"","",{"$f":"IF(K1558=\"\",\"\",COUNTIF($K$7:K1558,\"ﾘｽﾄ１\"))","v":""},"","","","","","","",{"$f":"IF(S1558=\"\",\"\",COUNTIF($S$7:S1558,\"該当２\"))","v":""},"","",{"$f":"IF(V1558=\"\",\"\",COUNTIF($V$7:V1558,\"該当３\"))","v":""}]
[2220701031,"22",207,{"v":1,"d":"01"},{"v":31,"d":"031"},"静岡県","富士宮市","富士宮市（旧）","大中里沢西",null,"","",{"$f":"IF(K1559=\"\",\"\",COUNTIF($K$7:K1559,\"ﾘｽﾄ１\"))","v":""},"","","","","","","",{"$f":"IF(S1559=\"\",\"\",COUNTIF($S$7:S1559,\"該当２\"))","v":""},"","",{"$f":"IF(V1559=\"\",\"\",COUNTIF($V$7:V1559,\"該当３\"))","v":""}]
[2220701032,"22",207,{"v":1,"d":"01"},{"v":32,"d":"032"},"静岡県","富士宮市","富士宮市（旧）","青木上",null,"","",{"$f":"IF(K1560=\"\",\"\",COUNTIF($K$7:K1560,\"ﾘｽﾄ１\"))","v":""},"","","","","","","",{"$f":"IF(S1560=\"\",\"\",COUNTIF($S$7:S1560,\"該当２\"))","v":""},"","",{"$f":"IF(V1560=\"\",\"\",COUNTIF($V$7:V1560,\"該当３\"))","v":""}]
[2220701033,"22",207,{"v":1,"d":"01"},{"v":33,"d":"033"},"静岡県","富士宮市","富士宮市（旧）","青木中",null,"","",{"$f":"IF(K1561=\"\",\"\",COUNTIF($K$7:K1561,\"ﾘｽﾄ１\"))","v":""},"","","","","","","",{"$f":"IF(S1561=\"\",\"\",COUNTIF($S$7:S1561,\"該当２\"))","v":""},"","",{"$f":"IF(V1561=\"\",\"\",COUNTIF($V$7:V1561,\"該当３\"))","v":""}]
[2220701034,"22",207,{"v":1,"d":"01"},{"v":34,"d":"034"},"静岡県","富士宮市","富士宮市（旧）","青木下",null,"","",{"$f":"IF(K1562=\"\",\"\",COUNTIF($K$7:K1562,\"ﾘｽﾄ１\"))","v":""},"","","","","","","",{"$f":"IF(S1562=\"\",\"\",COUNTIF($S$7:S1562,\"該当２\"))","v":""},"","",{"$f":"IF(V1562=\"\",\"\",COUNTIF($V$7:V1562,\"該当３\"))","v":""}]
[2220701035,"22",207,{"v":1,"d":"01"},{"v":35,"d":"035"},"静岡県","富士宮市","富士宮市（旧）","青木阿原口東",null,"","",{"$f":"IF(K1563=\"\",\"\",COUNTIF($K$7:K1563,\"ﾘｽﾄ１\"))","v":""},"","","","","","","",{"$f":"IF(S1563=\"\",\"\",COUNTIF($S$7:S1563,\"該当２\"))","v":""},"","",{"$f":"IF(V1563=\"\",\"\",COUNTIF($V$7:V1563,\"該当３\"))","v":""}]
[2220701036,"22",207,{"v":1,"d":"01"},{"v":36,"d":"036"},"静岡県","富士宮市","富士宮市（旧）","青木阿原口西",null,"","",{"$f":"IF(K1564=\"\",\"\",COUNTIF($K$7:K1564,\"ﾘｽﾄ１\"))","v":""},"","","","","","","",{"$f":"IF(S1564=\"\",\"\",COUNTIF($S$7:S1564,\"該当２\"))","v":""},"","",{"$f":"IF(V1564=\"\",\"\",COUNTIF($V$7:V1564,\"該当３\"))","v":""}]
[2220701037,"22",207,{"v":1,"d":"01"},{"v":37,"d":"037"},"静岡県","富士宮市","富士宮市（旧）","外神東",null,"","",{"$f":"IF(K1565=\"\",\"\",COUNTIF($K$7:K1565,\"ﾘｽﾄ１\"))","v":""},"","","","","","","",{"$f":"IF(S1565=\"\",\"\",COUNTIF($S$7:S1565,\"該当２\"))","v":""},"","",{"$f":"IF(V1565=\"\",\"\",COUNTIF($V$7:V1565,\"該当３\"))","v":""}]
[2220701038,"22",207,{"v":1,"d":"01"},{"v":38,"d":"038"},"静岡県","富士宮市","富士宮市（旧）","外神下谷",null,"","",{"$f":"IF(K1566=\"\",\"\",COUNTIF($K$7:K1566,\"ﾘｽﾄ１\"))","v":""},"","","","","","","",{"$f":"IF(S1566=\"\",\"\",COUNTIF($S$7:S1566,\"該当２\"))","v":""},"","",{"$f":"IF(V1566=\"\",\"\",COUNTIF($V$7:V1566,\"該当３\"))","v":""}]
[2220701039,"22",207,{"v":1,"d":"01"},{"v":39,"d":"039"},"静岡県","富士宮市","富士宮市（旧）","外神中谷",null,"","",{"$f":"IF(K1567=\"\",\"\",COUNTIF($K$7:K1567,\"ﾘｽﾄ１\"))","v":""},"","","","","","","",{"$f":"IF(S1567=\"\",\"\",COUNTIF($S$7:S1567,\"該当２\"))","v":""},"","",{"$f":"IF(V1567=\"\",\"\",COUNTIF($V$7:V1567,\"該当３\"))","v":""}]
[2220701040,"22",207,{"v":1,"d":"01"},{"v":40,"d":"040"},"静岡県","富士宮市","富士宮市（旧）","外神和田",null,"","",{"$f":"IF(K1568=\"\",\"\",COUNTIF($K$7:K1568,\"ﾘｽﾄ１\"))","v":""},"","","","","","","",{"$f":"IF(S1568=\"\",\"\",COUNTIF($S$7:S1568,\"該当２\"))","v":""},"","",{"$f":"IF(V1568=\"\",\"\",COUNTIF($V$7:V1568,\"該当３\"))","v":""}]
[2220701041,"22",207,{"v":1,"d":"01"},{"v":41,"d":"041"},"静岡県","富士宮市","富士宮市（旧）","外神江柏",null,"","",{"$f":"IF(K1569=\"\",\"\",COUNTIF($K$7:K1569,\"ﾘｽﾄ１\"))","v":""},"","","","","","","",{"$f":"IF(S1569=\"\",\"\",COUNTIF($S$7:S1569,\"該当２\"))","v":""},"","",{"$f":"IF(V1569=\"\",\"\",COUNTIF($V$7:V1569,\"該当３\"))","v":""}]
[2220701042,"22",207,{"v":1,"d":"01"},{"v":42,"d":"042"},"静岡県","富士宮市","富士宮市（旧）","宮原上",null,"","",{"$f":"IF(K1570=\"\",\"\",COUNTIF($K$7:K1570,\"ﾘｽﾄ１\"))","v":""},"","","","","","","",{"$f":"IF(S1570=\"\",\"\",COUNTIF($S$7:S1570,\"該当２\"))","v":""},"","",{"$f":"IF(V1570=\"\",\"\",COUNTIF($V$7:V1570,\"該当３\"))","v":""}]
[2220701043,"22",207,{"v":1,"d":"01"},{"v":43,"d":"043"},"静岡県","富士宮市","富士宮市（旧）","宮原下",null,"","",{"$f":"IF(K1571=\"\",\"\",COUNTIF($K$7:K1571,\"ﾘｽﾄ１\"))","v":""},"","","","","","","",{"$f":"IF(S1571=\"\",\"\",COUNTIF($S$7:S1571,\"該当２\"))","v":""},"","",{"$f":"IF(V1571=\"\",\"\",COUNTIF($V$7:V1571,\"該当３\"))","v":""}]
[2220701044,"22",207,{"v":1,"d":"01"},{"v":44,"d":"044"},"静岡県","富士宮市","富士宮市（旧）","三園",null,"","",{"$f":"IF(K1572=\"\",\"\",COUNTIF($K$7:K1572,\"ﾘｽﾄ１\"))","v":""},"","","","","","","",{"$f":"IF(S1572=\"\",\"\",COUNTIF($S$7:S1572,\"該当２\"))","v":""},"","",{"$f":"IF(V1572=\"\",\"\",COUNTIF($V$7:V1572,\"該当３\"))","v":""}]
[2220701045,"22",207,{"v":1,"d":"01"},{"v":45,"d":"045"},"静岡県","富士宮市","富士宮市（旧）","日の出",null,"","",{"$f":"IF(K1573=\"\",\"\",COUNTIF($K$7:K1573,\"ﾘｽﾄ１\"))","v":""},"","","","","","","",{"$f":"IF(S1573=\"\",\"\",COUNTIF($S$7:S1573,\"該当２\"))","v":""},"","",{"$f":"IF(V1573=\"\",\"\",COUNTIF($V$7:V1573,\"該当３\"))","v":""}]
[2220701046,"22",207,{"v":1,"d":"01"},{"v":46,"d":"046"},"静岡県","富士宮市","富士宮市（旧）","常盤",null,"","",{"$f":"IF(K1574=\"\",\"\",COUNTIF($K$7:K1574,\"ﾘｽﾄ１\"))","v":""},"","","","","","","",{"$f":"IF(S1574=\"\",\"\",COUNTIF($S$7:S1574,\"該当２\"))","v":""},"","",{"$f":"IF(V1574=\"\",\"\",COUNTIF($V$7:V1574,\"該当３\"))","v":""}]
[2220701047,"22",207,{"v":1,"d":"01"},{"v":47,"d":"047"},"静岡県","富士宮市","富士宮市（旧）","大和",null,"","",{"$f":"IF(K1575=\"\",\"\",COUNTIF($K$7:K1575,\"ﾘｽﾄ１\"))","v":""},"","","","","","","",{"$f":"IF(S1575=\"\",\"\",COUNTIF($S$7:S1575,\"該当２\"))","v":""},"","",{"$f":"IF(V1575=\"\",\"\",COUNTIF($V$7:V1575,\"該当３\"))","v":""}]
[2220701048,"22",207,{"v":1,"d":"01"},{"v":48,"d":"048"},"静岡県","富士宮市","富士宮市（旧）","神田",null,"","",{"$f":"IF(K1576=\"\",\"\",COUNTIF($K$7:K1576,\"ﾘｽﾄ１\"))","v":""},"","","","","","","",{"$f":"IF(S1576=\"\",\"\",COUNTIF($S$7:S1576,\"該当２\"))","v":""},"","",{"$f":"IF(V1576=\"\",\"\",COUNTIF($V$7:V1576,\"該当３\"))","v":""}]
[2220701049,"22",207,{"v":1,"d":"01"},{"v":49,"d":"049"},"静岡県","富士宮市","富士宮市（旧）","城山",null,"","",{"$f":"IF(K1577=\"\",\"\",COUNTIF($K$7:K1577,\"ﾘｽﾄ１\"))","v":""},"","","","","","","",{"$f":"IF(S1577=\"\",\"\",COUNTIF($S$7:S1577,\"該当２\"))","v":""},"","",{"$f":"IF(V1577=\"\",\"\",COUNTIF($V$7:V1577,\"該当３\"))","v":""}]
[2220701050,"22",207,{"v":1,"d":"01"},{"v":50,"d":"050"},"静岡県","富士宮市","富士宮市（旧）","元町",null,"","",{"$f":"IF(K1578=\"\",\"\",COUNTIF($K$7:K1578,\"ﾘｽﾄ１\"))","v":""},"","","","","","","",{"$f":"IF(S1578=\"\",\"\",COUNTIF($S$7:S1578,\"該当２\"))","v":""},"","",{"$f":"IF(V1578=\"\",\"\",COUNTIF($V$7:V1578,\"該当３\"))","v":""}]
[2220701051,"22",207,{"v":1,"d":"01"},{"v":51,"d":"051"},"静岡県","富士宮市","富士宮市（旧）","羽衣",null,"","",{"$f":"IF(K1579=\"\",\"\",COUNTIF($K$7:K1579,\"ﾘｽﾄ１\"))","v":""},"","","","","","","",{"$f":"IF(S1579=\"\",\"\",COUNTIF($S$7:S1579,\"該当２\"))","v":""},"","",{"$f":"IF(V1579=\"\",\"\",COUNTIF($V$7:V1579,\"該当３\"))","v":""}]
[2220701052,"22",207,{"v":1,"d":"01"},{"v":52,"d":"052"},"静岡県","富士宮市","富士宮市（旧）","琴平",null,"","",{"$f":"IF(K1580=\"\",\"\",COUNTIF($K$7:K1580,\"ﾘｽﾄ１\"))","v":""},"","","","","","","",{"$f":"IF(S1580=\"\",\"\",COUNTIF($S$7:S1580,\"該当２\"))","v":""},"","",{"$f":"IF(V1580=\"\",\"\",COUNTIF($V$7:V1580,\"該当３\"))","v":""}]
[2220701053,"22",207,{"v":1,"d":"01"},{"v":53,"d":"053"},"静岡県","富士宮市","富士宮市（旧）","貴船",null,"","",{"$f":"IF(K1581=\"\",\"\",COUNTIF($K$7:K1581,\"ﾘｽﾄ１\"))","v":""},"","","","","","","",{"$f":"IF(S1581=\"\",\"\",COUNTIF($S$7:S1581,\"該当２\"))","v":""},"","",{"$f":"IF(V1581=\"\",\"\",COUNTIF($V$7:V1581,\"該当３\"))","v":""}]
[2220701054,"22",207,{"v":1,"d":"01"},{"v":54,"d":"054"},"静岡県","富士宮市","富士宮市（旧）","御殿町",null,"","",{"$f":"IF(K1582=\"\",\"\",COUNTIF($K$7:K1582,\"ﾘｽﾄ１\"))","v":""},"","","","","","","",{"$f":"IF(S1582=\"\",\"\",COUNTIF($S$7:S1582,\"該当２\"))","v":""},"","",{"$f":"IF(V1582=\"\",\"\",COUNTIF($V$7:V1582,\"該当３\"))","v":""}]
[2220702000,"22",207,{"v":2,"d":"02"},{"v":0,"d":"000"},"静岡県","富士宮市","富士根村",null,null,"","",{"$f":"IF(K1583=\"\",\"\",COUNTIF($K$7:K1583,\"ﾘｽﾄ１\"))","v":""},"","","","","","","",{"$f":"IF(S1583=\"\",\"\",COUNTIF($S$7:S1583,\"該当２\"))","v":""},"","",{"$f":"IF(V1583=\"\",\"\",COUNTIF($V$7:V1583,\"該当３\"))","v":""}]
[2220702001,"22",207,{"v":2,"d":"02"},{"v":1,"d":"001"},"静岡県","富士宮市","富士根村","小泉２号",null,"","",{"$f":"IF(K1584=\"\",\"\",COUNTIF($K$7:K1584,\"ﾘｽﾄ１\"))","v":""},"","","","","","","",{"$f":"IF(S1584=\"\",\"\",COUNTIF($S$7:S1584,\"該当２\"))","v":""},"","",{"$f":"IF(V1584=\"\",\"\",COUNTIF($V$7:V1584,\"該当３\"))","v":""}]
[2220702002,"22",207,{"v":2,"d":"02"},{"v":2,"d":"002"},"静岡県","富士宮市","富士根村","権現",null,"","",{"$f":"IF(K1585=\"\",\"\",COUNTIF($K$7:K1585,\"ﾘｽﾄ１\"))","v":""},"","","","","","","",{"$f":"IF(S1585=\"\",\"\",COUNTIF($S$7:S1585,\"該当２\"))","v":""},"","",{"$f":"IF(V1585=\"\",\"\",COUNTIF($V$7:V1585,\"該当３\"))","v":""}]
[2220702003,"22",207,{"v":2,"d":"02"},{"v":3,"d":"003"},"静岡県","富士宮市","富士根村","若宮",null,"","",{"$f":"IF(K1586=\"\",\"\",COUNTIF($K$7:K1586,\"ﾘｽﾄ１\"))","v":""},"","","","","","","",{"$f":"IF(S1586=\"\",\"\",COUNTIF($S$7:S1586,\"該当２\"))","v":""},"","",{"$f":"IF(V1586=\"\",\"\",COUNTIF($V$7:V1586,\"該当３\"))","v":""}]
[2220702004,"22",207,{"v":2,"d":"02"},{"v":4,"d":"004"},"静岡県","富士宮市","富士根村","荻間",null,"","",{"$f":"IF(K1587=\"\",\"\",COUNTIF($K$7:K1587,\"ﾘｽﾄ１\"))","v":""},"","","","","","","",{"$f":"IF(S1587=\"\",\"\",COUNTIF($S$7:S1587,\"該当２\"))","v":""},"","",{"$f":"IF(V1587=\"\",\"\",COUNTIF($V$7:V1587,\"該当３\"))","v":""}]
[2220702005,"22",207,{"v":2,"d":"02"},{"v":5,"d":"005"},"静岡県","富士宮市","富士根村","小泉５部会",null,"","",{"$f":"IF(K1588=\"\",\"\",COUNTIF($K$7:K1588,\"ﾘｽﾄ１\"))","v":""},"","","","","","","",{"$f":"IF(S1588=\"\",\"\",COUNTIF($S$7:S1588,\"該当２\"))","v":""},"","",{"$f":"IF(V1588=\"\",\"\",COUNTIF($V$7:V1588,\"該当３\"))","v":""}]
[2220702006,"22",207,{"v":2,"d":"02"},{"v":6,"d":"006"},"静岡県","富士宮市","富士根村","清水",null,"","",{"$f":"IF(K1589=\"\",\"\",COUNTIF($K$7:K1589,\"ﾘｽﾄ１\"))","v":""},"","","","","","","",{"$f":"IF(S1589=\"\",\"\",COUNTIF($S$7:S1589,\"該当２\"))","v":""},"","",{"$f":"IF(V1589=\"\",\"\",COUNTIF($V$7:V1589,\"該当３\"))","v":""}]
[2220702007,"22",207,{"v":2,"d":"02"},{"v":7,"d":"007"},"静岡県","富士宮市","富士根村","上小泉",null,"","",{"$f":"IF(K1590=\"\",\"\",COUNTIF($K$7:K1590,\"ﾘｽﾄ１\"))","v":""},"","","","","","","",{"$f":"IF(S1590=\"\",\"\",COUNTIF($S$7:S1590,\"該当２\"))","v":""},"","",{"$f":"IF(V1590=\"\",\"\",COUNTIF($V$7:V1590,\"該当３\"))","v":""}]
[2220702008,"22",207,{"v":2,"d":"02"},{"v":8,"d":"008"},"静岡県","富士宮市","富士根村","箕輪",null,"","",{"$f":"IF(K1591=\"\",\"\",COUNTIF($K$7:K1591,\"ﾘｽﾄ１\"))","v":""},"","","","","","","",{"$f":"IF(S1591=\"\",\"\",COUNTIF($S$7:S1591,\"該当２\"))","v":""},"","",{"$f":"IF(V1591=\"\",\"\",COUNTIF($V$7:V1591,\"該当３\"))","v":""}]
[2220702009,"22",207,{"v":2,"d":"02"},{"v":9,"d":"009"},"静岡県","富士宮市","富士根村","マル",null,"","",{"$f":"IF(K1592=\"\",\"\",COUNTIF($K$7:K1592,\"ﾘｽﾄ１\"))","v":""},"","","","","","","",{"$f":"IF(S1592=\"\",\"\",COUNTIF($S$7:S1592,\"該当２\"))","v":""},"","",{"$f":"IF(V1592=\"\",\"\",COUNTIF($V$7:V1592,\"該当３\"))","v":""}]
[2220702010,"22",207,{"v":2,"d":"02"},{"v":10,"d":"010"},"静岡県","富士宮市","富士根村","元大岩",null,"","",{"$f":"IF(K1593=\"\",\"\",COUNTIF($K$7:K1593,\"ﾘｽﾄ１\"))","v":""},"","","","","","","",{"$f":"IF(S1593=\"\",\"\",COUNTIF($S$7:S1593,\"該当２\"))","v":""},"","",{"$f":"IF(V1593=\"\",\"\",COUNTIF($V$7:V1593,\"該当３\"))","v":""}]
[2220702011,"22",207,{"v":2,"d":"02"},{"v":11,"d":"011"},"静岡県","富士宮市","富士根村","二又",null,"","",{"$f":"IF(K1594=\"\",\"\",COUNTIF($K$7:K1594,\"ﾘｽﾄ１\"))","v":""},"","","","","","","",{"$f":"IF(S1594=\"\",\"\",COUNTIF($S$7:S1594,\"該当２\"))","v":""},"","",{"$f":"IF(V1594=\"\",\"\",COUNTIF($V$7:V1594,\"該当３\"))","v":""}]
[2220702012,"22",207,{"v":2,"d":"02"},{"v":12,"d":"012"},"静岡県","富士宮市","富士根村","粟倉",null,"","",{"$f":"IF(K1595=\"\",\"\",COUNTIF($K$7:K1595,\"ﾘｽﾄ１\"))","v":""},"","","","","","","",{"$f":"IF(S1595=\"\",\"\",COUNTIF($S$7:S1595,\"該当２\"))","v":""},"","",{"$f":"IF(V1595=\"\",\"\",COUNTIF($V$7:V1595,\"該当３\"))","v":""}]
[2220702013,"22",207,{"v":2,"d":"02"},{"v":13,"d":"013"},"静岡県","富士宮市","富士根村","北粟倉",null,"","",{"$f":"IF(K1596=\"\",\"\",COUNTIF($K$7:K1596,\"ﾘｽﾄ１\"))","v":""},"","","","","","","",{"$f":"IF(S1596=\"\",\"\",COUNTIF($S$7:S1596,\"該当２\"))","v":""},"","",{"$f":"IF(V1596=\"\",\"\",COUNTIF($V$7:V1596,\"該当３\"))","v":""}]
[2220702014,"22",207,{"v":2,"d":"02"},{"v":14,"d":"014"},"静岡県","富士宮市","富士根村","社領",null,"","",{"$f":"IF(K1597=\"\",\"\",COUNTIF($K$7:K1597,\"ﾘｽﾄ１\"))","v":""},"","","","","","","",{"$f":"IF(S1597=\"\",\"\",COUNTIF($S$7:S1597,\"該当２\"))","v":""},"","",{"$f":"IF(V1597=\"\",\"\",COUNTIF($V$7:V1597,\"該当３\"))","v":""}]
[2220702015,"22",207,{"v":2,"d":"02"},{"v":15,"d":"015"},"静岡県","富士宮市","富士根村","元村山",null,"","",{"$f":"IF(K1598=\"\",\"\",COUNTIF($K$7:K1598,\"ﾘｽﾄ１\"))","v":""},"","","","","","","",{"$f":"IF(S1598=\"\",\"\",COUNTIF($S$7:S1598,\"該当２\"))","v":""},"","",{"$f":"IF(V1598=\"\",\"\",COUNTIF($V$7:V1598,\"該当３\"))","v":""}]
[2220702016,"22",207,{"v":2,"d":"02"},{"v":16,"d":"016"},"静岡県","富士宮市","富士根村","神成",null,"","",{"$f":"IF(K1599=\"\",\"\",COUNTIF($K$7:K1599,\"ﾘｽﾄ１\"))","v":""},"","","","","","","",{"$f":"IF(S1599=\"\",\"\",COUNTIF($S$7:S1599,\"該当２\"))","v":""},"","",{"$f":"IF(V1599=\"\",\"\",COUNTIF($V$7:V1599,\"該当３\"))","v":""}]
[2220702017,"22",207,{"v":2,"d":"02"},{"v":17,"d":"017"},"静岡県","富士宮市","富士根村","西原",null,"","",{"$f":"IF(K1600=\"\",\"\",COUNTIF($K$7:K1600,\"ﾘｽﾄ１\"))","v":""},"","","","","","","",{"$f":"IF(S1600=\"\",\"\",COUNTIF($S$7:S1600,\"該当２\"))","v":""},"","",{"$f":"IF(V1600=\"\",\"\",COUNTIF($V$7:V1600,\"該当３\"))","v":""}]
[2220702018,"22",207,{"v":2,"d":"02"},{"v":18,"d":"018"},"静岡県","富士宮市","富士根村","滝の上",null,"","",{"$f":"IF(K1601=\"\",\"\",COUNTIF($K$7:K1601,\"ﾘｽﾄ１\"))","v":""},"","","","","","","",{"$f":"IF(S1601=\"\",\"\",COUNTIF($S$7:S1601,\"該当２\"))","v":""},"","",{"$f":"IF(V1601=\"\",\"\",COUNTIF($V$7:V1601,\"該当３\"))","v":""}]
[2220702019,"22",207,{"v":2,"d":"02"},{"v":19,"d":"019"},"静岡県","富士宮市","富士根村","杉田３部会",null,"","",{"$f":"IF(K1602=\"\",\"\",COUNTIF($K$7:K1602,\"ﾘｽﾄ１\"))","v":""},"","","","","","","",{"$f":"IF(S1602=\"\",\"\",COUNTIF($S$7:S1602,\"該当２\"))","v":""},"","",{"$f":"IF(V1602=\"\",\"\",COUNTIF($V$7:V1602,\"該当３\"))","v":""}]
[2220702020,"22",207,{"v":2,"d":"02"},{"v":20,"d":"020"},"静岡県","富士宮市","富士根村","千貫松",null,"","",{"$f":"IF(K1603=\"\",\"\",COUNTIF($K$7:K1603,\"ﾘｽﾄ１\"))","v":""},"","","","","","","",{"$f":"IF(S1603=\"\",\"\",COUNTIF($S$7:S1603,\"該当２\"))","v":""},"","",{"$f":"IF(V1603=\"\",\"\",COUNTIF($V$7:V1603,\"該当３\"))","v":""}]
[2220702021,"22",207,{"v":2,"d":"02"},{"v":21,"d":"021"},"静岡県","富士宮市","富士根村","国有林３",null,"","",{"$f":"IF(K1604=\"\",\"\",COUNTIF($K$7:K1604,\"ﾘｽﾄ１\"))","v":""},"","","","","","","",{"$f":"IF(S1604=\"\",\"\",COUNTIF($S$7:S1604,\"該当２\"))","v":""},"","",{"$f":"IF(V1604=\"\",\"\",COUNTIF($V$7:V1604,\"該当３\"))","v":""}]
[2220703000,"22",207,{"v":3,"d":"03"},{"v":0,"d":"000"},"静岡県","富士宮市","北山村",null,null,"","",{"$f":"IF(K1605=\"\",\"\",COUNTIF($K$7:K1605,\"ﾘｽﾄ１\"))","v":""},"","","","","","","",{"$f":"IF(S1605=\"\",\"\",COUNTIF($S$7:S1605,\"該当２\"))","v":""},"","",{"$f":"IF(V1605=\"\",\"\",COUNTIF($V$7:V1605,\"該当３\"))","v":""}]
[2220703001,"22",207,{"v":3,"d":"03"},{"v":1,"d":"001"},"静岡県","富士宮市","北山村","中井出",null,"","",{"$f":"IF(K1606=\"\",\"\",COUNTIF($K$7:K1606,\"ﾘｽﾄ１\"))","v":""},"","","","","","","",{"$f":"IF(S1606=\"\",\"\",COUNTIF($S$7:S1606,\"該当２\"))","v":""},"","",{"$f":"IF(V1606=\"\",\"\",COUNTIF($V$7:V1606,\"該当３\"))","v":""}]
[2220703002,"22",207,{"v":3,"d":"03"},{"v":2,"d":"002"},"静岡県","富士宮市","北山村","辻",null,"","",{"$f":"IF(K1607=\"\",\"\",COUNTIF($K$7:K1607,\"ﾘｽﾄ１\"))","v":""},"","","","","","","",{"$f":"IF(S1607=\"\",\"\",COUNTIF($S$7:S1607,\"該当２\"))","v":""},"","",{"$f":"IF(V1607=\"\",\"\",COUNTIF($V$7:V1607,\"該当３\"))","v":""}]
[2220703003,"22",207,{"v":3,"d":"03"},{"v":3,"d":"003"},"静岡県","富士宮市","北山村","桟敷",null,"","",{"$f":"IF(K1608=\"\",\"\",COUNTIF($K$7:K1608,\"ﾘｽﾄ１\"))","v":""},"","","","","","","",{"$f":"IF(S1608=\"\",\"\",COUNTIF($S$7:S1608,\"該当２\"))","v":""},"","",{"$f":"IF(V1608=\"\",\"\",COUNTIF($V$7:V1608,\"該当３\"))","v":""}]
[2220703004,"22",207,{"v":3,"d":"03"},{"v":4,"d":"004"},"静岡県","富士宮市","北山村","坂下",null,"","",{"$f":"IF(K1609=\"\",\"\",COUNTIF($K$7:K1609,\"ﾘｽﾄ１\"))","v":""},"","","","","","","",{"$f":"IF(S1609=\"\",\"\",COUNTIF($S$7:S1609,\"該当２\"))","v":""},"","",{"$f":"IF(V1609=\"\",\"\",COUNTIF($V$7:V1609,\"該当３\"))","v":""}]
[2220703005,"22",207,{"v":3,"d":"03"},{"v":5,"d":"005"},"静岡県","富士宮市","北山村","御園",null,"","",{"$f":"IF(K1610=\"\",\"\",COUNTIF($K$7:K1610,\"ﾘｽﾄ１\"))","v":""},"","",{"$f":"IF(O1610=\"該当１\",G1610,\"\")","v":""},{"$f":"IF(O1610=\"該当１\",\"ﾘｽﾄ2\",\"\")","v":""},{"$f":"IF(Q1610=\"ﾘｽﾄ2\",H1610,\"\")","v":""},"",{"$f":"IF(S1610=\"該当２\",H1610,\"\")","v":""},{"$f":"IF(S1610=\"\",\"\",COUNTIF($S$7:S1610,\"該当２\"))","v":""},{"$f":"IF(AND($S$2=H1610,E1610>0,E1610<998),\"該当３\",\"\")","v":""},{"$f":"IF(V1610=\"該当３\",I1610,\"\")","v":""},{"$f":"IF(V1610=\"\",\"\",COUNTIF($V$7:V1610,\"該当３\"))","v":""}]
[2220703006,"22",207,{"v":3,"d":"03"},{"v":6,"d":"006"},"静岡県","富士宮市","北山村","上組",null,{"$f":"IF(AND($C1611>0,$H1611=\"\"),\"ﾘｽﾄ１\",\"\")","v":""},{"$f":"IF(K1611=\"ﾘｽﾄ１\",G1611,\"\")","v":""},{"$f":"IF(K1611=\"\",\"\",COUNTIF($K$7:K1611,\"ﾘｽﾄ１\"))","v":""},{"$f":"IF(AND(D1611=0,E1611>0),\"同一区\",\"\")","v":""},{"$f":"IF(AND(EXACT($K$2,G1611),H1611>0),\"該当１\",\"\")","v":""},"","","",{"$f":"IF(AND(Q1611=\"ﾘｽﾄ2\",OR(I1611=0,AND(N1611=\"同一区\",E1611=1))),\"該当２\",\"\")","v":""},"",{"$f":"IF(S1611=\"\",\"\",COUNTIF($S$7:S1611,\"該当２\"))","v":""},"","",{"$f":"IF(V1611=\"\",\"\",COUNTIF($V$7:V1611,\"該当３\"))","v":""}]
[2220703007,"22",207,{"v":3,"d":"03"},{"v":7,"d":"007"},"静岡県","富士宮市","北山村","下組",null,"","",{"$f":"IF(K1612=\"\",\"\",COUNTIF($K$7:K1612,\"ﾘｽﾄ１\"))","v":""},"","","","","","","",{"$f":"IF(S1612=\"\",\"\",COUNTIF($S$7:S1612,\"該当２\"))","v":""},"","",{"$f":"IF(V1612=\"\",\"\",COUNTIF($V$7:V1612,\"該当３\"))","v":""}]
[2220703008,"22",207,{"v":3,"d":"03"},{"v":8,"d":"008"},"静岡県","富士宮市","北山村","貫間",null,"","",{"$f":"IF(K1613=\"\",\"\",COUNTIF($K$7:K1613,\"ﾘｽﾄ１\"))","v":""},"","","","","","","",{"$f":"IF(S1613=\"\",\"\",COUNTIF($S$7:S1613,\"該当２\"))","v":""},"","",{"$f":"IF(V1613=\"\",\"\",COUNTIF($V$7:V1613,\"該当３\"))","v":""}]
[2220703009,"22",207,{"v":3,"d":"03"},{"v":9,"d":"009"},"静岡県","富士宮市","北山村","東下組",null,"","",{"$f":"IF(K1614=\"\",\"\",COUNTIF($K$7:K1614,\"ﾘｽﾄ１\"))","v":""},"","","","","","","",{"$f":"IF(S1614=\"\",\"\",COUNTIF($S$7:S1614,\"該当２\"))","v":""},"","",{"$f":"IF(V1614=\"\",\"\",COUNTIF($V$7:V1614,\"該当３\"))","v":""}]
[2220703010,"22",207,{"v":3,"d":"03"},{"v":10,"d":"010"},"静岡県","富士宮市","北山村","大久保",null,"","",{"$f":"IF(K1615=\"\",\"\",COUNTIF($K$7:K1615,\"ﾘｽﾄ１\"))","v":""},"","","","","","","",{"$f":"IF(S1615=\"\",\"\",COUNTIF($S$7:S1615,\"該当２\"))","v":""},"","",{"$f":"IF(V1615=\"\",\"\",COUNTIF($V$7:V1615,\"該当３\"))","v":""}]
[2220703011,"22",207,{"v":3,"d":"03"},{"v":11,"d":"011"},"静岡県","富士宮市","北山村","堀久保",null,"","",{"$f":"IF(K1616=\"\",\"\",COUNTIF($K$7:K1616,\"ﾘｽﾄ１\"))","v":""},"","","","","","","",{"$f":"IF(S1616=\"\",\"\",COUNTIF($S$7:S1616,\"該当２\"))","v":""},"","",{"$f":"IF(V1616=\"\",\"\",COUNTIF($V$7:V1616,\"該当３\"))","v":""}]
[2220703012,"22",207,{"v":3,"d":"03"},{"v":12,"d":"012"},"静岡県","富士宮市","北山村","峯",null,"","",{"$f":"IF(K1617=\"\",\"\",COUNTIF($K$7:K1617,\"ﾘｽﾄ１\"))","v":""},"","","","","","","",{"$f":"IF(S1617=\"\",\"\",COUNTIF($S$7:S1617,\"該当２\"))","v":""},"","",{"$f":"IF(V1617=\"\",\"\",COUNTIF($V$7:V1617,\"該当３\"))","v":""}]
[2220703013,"22",207,{"v":3,"d":"03"},{"v":13,"d":"013"},"静岡県","富士宮市","北山村","中村",null,"","",{"$f":"IF(K1618=\"\",\"\",COUNTIF($K$7:K1618,\"ﾘｽﾄ１\"))","v":""},"","","","","","","",{"$f":"IF(S1618=\"\",\"\",COUNTIF($S$7:S1618,\"該当２\"))","v":""},"","",{"$f":"IF(V1618=\"\",\"\",COUNTIF($V$7:V1618,\"該当３\"))","v":""}]
[2220703014,"22",207,{"v":3,"d":"03"},{"v":14,"d":"014"},"静岡県","富士宮市","北山村","堀の内",null,"","",{"$f":"IF(K1619=\"\",\"\",COUNTIF($K$7:K1619,\"ﾘｽﾄ１\"))","v":""},"","","","","","","",{"$f":"IF(S1619=\"\",\"\",COUNTIF($S$7:S1619,\"該当２\"))","v":""},"","",{"$f":"IF(V1619=\"\",\"\",COUNTIF($V$7:V1619,\"該当３\"))","v":""}]
[2220703015,"22",207,{"v":3,"d":"03"},{"v":15,"d":"015"},"静岡県","富士宮市","北山村","赤焼",null,"","",{"$f":"IF(K1620=\"\",\"\",COUNTIF($K$7:K1620,\"ﾘｽﾄ１\"))","v":""},"","","","","","","",{"$f":"IF(S1620=\"\",\"\",COUNTIF($S$7:S1620,\"該当２\"))","v":""},"","",{"$f":"IF(V1620=\"\",\"\",COUNTIF($V$7:V1620,\"該当３\"))","v":""}]
[2220703016,"22",207,{"v":3,"d":"03"},{"v":16,"d":"016"},"静岡県","富士宮市","北山村","志田水",null,"","",{"$f":"IF(K1621=\"\",\"\",COUNTIF($K$7:K1621,\"ﾘｽﾄ１\"))","v":""},"","","","","","","",{"$f":"IF(S1621=\"\",\"\",COUNTIF($S$7:S1621,\"該当２\"))","v":""},"","",{"$f":"IF(V1621=\"\",\"\",COUNTIF($V$7:V1621,\"該当３\"))","v":""}]
[2220703017,"22",207,{"v":3,"d":"03"},{"v":17,"d":"017"},"静岡県","富士宮市","北山村","東鞍骨",null,"","",{"$f":"IF(K1622=\"\",\"\",COUNTIF($K$7:K1622,\"ﾘｽﾄ１\"))","v":""},"","","","","","","",{"$f":"IF(S1622=\"\",\"\",COUNTIF($S$7:S1622,\"該当２\"))","v":""},"","",{"$f":"IF(V1622=\"\",\"\",COUNTIF($V$7:V1622,\"該当３\"))","v":""}]
[2220703018,"22",207,{"v":3,"d":"03"},{"v":18,"d":"018"},"静岡県","富士宮市","北山村","蒲沢",null,"","",{"$f":"IF(K1623=\"\",\"\",COUNTIF($K$7:K1623,\"ﾘｽﾄ１\"))","v":""},"","","","","","","",{"$f":"IF(S1623=\"\",\"\",COUNTIF($S$7:S1623,\"該当２\"))","v":""},"","",{"$f":"IF(V1623=\"\",\"\",COUNTIF($V$7:V1623,\"該当３\"))","v":""}]
[2220703019,"22",207,{"v":3,"d":"03"},{"v":19,"d":"019"},"静岡県","富士宮市","北山村","西村",null,"","",{"$f":"IF(K1624=\"\",\"\",COUNTIF($K$7:K1624,\"ﾘｽﾄ１\"))","v":""},"","","","","","","",{"$f":"IF(S1624=\"\",\"\",COUNTIF($S$7:S1624,\"該当２\"))","v":""},"","",{"$f":"IF(V1624=\"\",\"\",COUNTIF($V$7:V1624,\"該当３\"))","v":""}]
[2220703020,"22",207,{"v":3,"d":"03"},{"v":20,"d":"020"},"静岡県","富士宮市","北山村","向",null,"","",{"$f":"IF(K1625=\"\",\"\",COUNTIF($K$7:K1625,\"ﾘｽﾄ１\"))","v":""},"","","","","","","",{"$f":"IF(S1625=\"\",\"\",COUNTIF($S$7:S1625,\"該当２\"))","v":""},"","",{"$f":"IF(V1625=\"\",\"\",COUNTIF($V$7:V1625,\"該当３\"))","v":""}]
[2220703021,"22",207,{"v":3,"d":"03"},{"v":21,"d":"021"},"静岡県","富士宮市","北山村","天母台",null,"","",{"$f":"IF(K1626=\"\",\"\",COUNTIF($K$7:K1626,\"ﾘｽﾄ１\"))","v":""},"","","","","","","",{"$f":"IF(S1626=\"\",\"\",COUNTIF($S$7:S1626,\"該当２\"))","v":""},"","",{"$f":"IF(V1626=\"\",\"\",COUNTIF($V$7:V1626,\"該当３\"))","v":""}]
[2220703022,"22",207,{"v":3,"d":"03"},{"v":22,"d":"022"},"静岡県","富士宮市","北山村","久保",null,"","",{"$f":"IF(K1627=\"\",\"\",COUNTIF($K$7:K1627,\"ﾘｽﾄ１\"))","v":""},"","","","","","","",{"$f":"IF(S1627=\"\",\"\",COUNTIF($S$7:S1627,\"該当２\"))","v":""},"","",{"$f":"IF(V1627=\"\",\"\",COUNTIF($V$7:V1627,\"該当３\"))","v":""}]
[2220703023,"22",207,{"v":3,"d":"03"},{"v":23,"d":"023"},"静岡県","富士宮市","北山村","宮本",null,"","",{"$f":"IF(K1628=\"\",\"\",COUNTIF($K$7:K1628,\"ﾘｽﾄ１\"))","v":""},"","","","","","","",{"$f":"IF(S1628=\"\",\"\",COUNTIF($S$7:S1628,\"該当２\"))","v":""},"","",{"$f":"IF(V1628=\"\",\"\",COUNTIF($V$7:V1628,\"該当３\"))","v":""}]
[2220703024,"22",207,{"v":3,"d":"03"},{"v":24,"d":"024"},"静岡県","富士宮市","北山村","中沢",null,"","",{"$f":"IF(K1629=\"\",\"\",COUNTIF($K$7:K1629,\"ﾘｽﾄ１\"))","v":""},"","","","","","","",{"$f":"IF(S1629=\"\",\"\",COUNTIF($S$7:S1629,\"該当２\"))","v":""},"","",{"$f":"IF(V1629=\"\",\"\",COUNTIF($V$7:V1629,\"該当３\"))","v":""}]
[2220703025,"22",207,{"v":3,"d":"03"},{"v":25,"d":"025"},"静岡県","富士宮市","北山村","上宮内",null,"","",{"$f":"IF(K1630=\"\",\"\",COUNTIF($K$7:K1630,\"ﾘｽﾄ１\"))","v":""},"","","","","","","",{"$f":"IF(S1630=\"\",\"\",COUNTIF($S$7:S1630,\"該当２\"))","v":""},"","",{"$f":"IF(V1630=\"\",\"\",COUNTIF($V$7:V1630,\"該当３\"))","v":""}]
[2220703026,"22",207,{"v":3,"d":"03"},{"v":26,"d":"026"},"静岡県","富士宮市","北山村","下宮内",null,"","",{"$f":"IF(K1631=\"\",\"\",COUNTIF($K$7:K1631,\"ﾘｽﾄ１\"))","v":""},"","","","","","","",{"$f":"IF(S1631=\"\",\"\",COUNTIF($S$7:S1631,\"該当２\"))","v":""},"","",{"$f":"IF(V1631=\"\",\"\",COUNTIF($V$7:V1631,\"該当３\"))","v":""}]
[2220703027,"22",207,{"v":3,"d":"03"},{"v":27,"d":"027"},"静岡県","富士宮市","北山村","篠坂",null,"","",{"$f":"IF(K1632=\"\",\"\",COUNTIF($K$7:K1632,\"ﾘｽﾄ１\"))","v":""},"","","","","","","",{"$f":"IF(S1632=\"\",\"\",COUNTIF($S$7:S1632,\"該当２\"))","v":""},"","",{"$f":"IF(V1632=\"\",\"\",COUNTIF($V$7:V1632,\"該当３\"))","v":""}]
[2220703028,"22",207,{"v":3,"d":"03"},{"v":28,"d":"028"},"静岡県","富士宮市","北山村","国有林２",null,"","",{"$f":"IF(K1633=\"\",\"\",COUNTIF($K$7:K1633,\"ﾘｽﾄ１\"))","v":""},"","","","","","","",{"$f":"IF(S1633=\"\",\"\",COUNTIF($S$7:S1633,\"該当２\"))","v":""},"","",{"$f":"IF(V1633=\"\",\"\",COUNTIF($V$7:V1633,\"該当３\"))","v":""}]
[2220704000,"22",207,{"v":4,"d":"04"},{"v":0,"d":"000"},"静岡県","富士宮市","上井出村",null,null,"","",{"$f":"IF(K1634=\"\",\"\",COUNTIF($K$7:K1634,\"ﾘｽﾄ１\"))","v":""},"","","","","","","",{"$f":"IF(S1634=\"\",\"\",COUNTIF($S$7:S1634,\"該当２\"))","v":""},"","",{"$f":"IF(V1634=\"\",\"\",COUNTIF($V$7:V1634,\"該当３\"))","v":""}]
[2220704001,"22",207,{"v":4,"d":"04"},{"v":1,"d":"001"},"静岡県","富士宮市","上井出村","上原",null,"","",{"$f":"IF(K1635=\"\",\"\",COUNTIF($K$7:K1635,\"ﾘｽﾄ１\"))","v":""},"","","","","","","",{"$f":"IF(S1635=\"\",\"\",COUNTIF($S$7:S1635,\"該当２\"))","v":""},"","",{"$f":"IF(V1635=\"\",\"\",COUNTIF($V$7:V1635,\"該当３\"))","v":""}]
[2220704002,"22",207,{"v":4,"d":"04"},{"v":2,"d":"002"},"静岡県","富士宮市","上井出村","新田",null,"","",{"$f":"IF(K1636=\"\",\"\",COUNTIF($K$7:K1636,\"ﾘｽﾄ１\"))","v":""},"","","","","","","",{"$f":"IF(S1636=\"\",\"\",COUNTIF($S$7:S1636,\"該当２\"))","v":""},"","",{"$f":"IF(V1636=\"\",\"\",COUNTIF($V$7:V1636,\"該当３\"))","v":""}]
[2220704003,"22",207,{"v":4,"d":"04"},{"v":3,"d":"003"},"静岡県","富士宮市","上井出村","下宿",null,"","",{"$f":"IF(K1637=\"\",\"\",COUNTIF($K$7:K1637,\"ﾘｽﾄ１\"))","v":""},"","","","","","","",{"$f":"IF(S1637=\"\",\"\",COUNTIF($S$7:S1637,\"該当２\"))","v":""},"","",{"$f":"IF(V1637=\"\",\"\",COUNTIF($V$7:V1637,\"該当３\"))","v":""}]
[2220704004,"22",207,{"v":4,"d":"04"},{"v":4,"d":"004"},"静岡県","富士宮市","上井出村","中宿",null,"","",{"$f":"IF(K1638=\"\",\"\",COUNTIF($K$7:K1638,\"ﾘｽﾄ１\"))","v":""},"","","","","","","",{"$f":"IF(S1638=\"\",\"\",COUNTIF($S$7:S1638,\"該当２\"))","v":""},"","",{"$f":"IF(V1638=\"\",\"\",COUNTIF($V$7:V1638,\"該当３\"))","v":""}]
[2220704005,"22",207,{"v":4,"d":"04"},{"v":5,"d":"005"},"静岡県","富士宮市","上井出村","上宿下",null,"","",{"$f":"IF(K1639=\"\",\"\",COUNTIF($K$7:K1639,\"ﾘｽﾄ１\"))","v":""},"","","","","","","",{"$f":"IF(S1639=\"\",\"\",COUNTIF($S$7:S1639,\"該当２\"))","v":""},"","",{"$f":"IF(V1639=\"\",\"\",COUNTIF($V$7:V1639,\"該当３\"))","v":""}]
[2220704006,"22",207,{"v":4,"d":"04"},{"v":6,"d":"006"},"静岡県","富士宮市","上井出村","上宿上",null,"","",{"$f":"IF(K1640=\"\",\"\",COUNTIF($K$7:K1640,\"ﾘｽﾄ１\"))","v":""},"","","","","","","",{"$f":"IF(S1640=\"\",\"\",COUNTIF($S$7:S1640,\"該当２\"))","v":""},"","",{"$f":"IF(V1640=\"\",\"\",COUNTIF($V$7:V1640,\"該当３\"))","v":""}]
[2220704007,"22",207,{"v":4,"d":"04"},{"v":7,"d":"007"},"静岡県","富士宮市","上井出村","芝山",null,"","",{"$f":"IF(K1641=\"\",\"\",COUNTIF($K$7:K1641,\"ﾘｽﾄ１\"))","v":""},"","","","","","","",{"$f":"IF(S1641=\"\",\"\",COUNTIF($S$7:S1641,\"該当２\"))","v":""},"","",{"$f":"IF(V1641=\"\",\"\",COUNTIF($V$7:V1641,\"該当３\"))","v":""}]
[2220704008,"22",207,{"v":4,"d":"04"},{"v":8,"d":"008"},"静岡県","富士宮市","上井出村","東",null,"","",{"$f":"IF(K1642=\"\",\"\",COUNTIF($K$7:K1642,\"ﾘｽﾄ１\"))","v":""},"","","","","","","",{"$f":"IF(S1642=\"\",\"\",COUNTIF($S$7:S1642,\"該当２\"))","v":""},"","",{"$f":"IF(V1642=\"\",\"\",COUNTIF($V$7:V1642,\"該当３\"))","v":""}]
[2220704009,"22",207,{"v":4,"d":"04"},{"v":9,"d":"009"},"静岡県","富士宮市","上井出村","一の竹",null,"","",{"$f":"IF(K1643=\"\",\"\",COUNTIF($K$7:K1643,\"ﾘｽﾄ１\"))","v":""},"","","","","","","",{"$f":"IF(S1643=\"\",\"\",COUNTIF($S$7:S1643,\"該当２\"))","v":""},"","",{"$f":"IF(V1643=\"\",\"\",COUNTIF($V$7:V1643,\"該当３\"))","v":""}]
[2220704010,"22",207,{"v":4,"d":"04"},{"v":10,"d":"010"},"静岡県","富士宮市","上井出村","見返",null,"","",{"$f":"IF(K1644=\"\",\"\",COUNTIF($K$7:K1644,\"ﾘｽﾄ１\"))","v":""},"","","","","","","",{"$f":"IF(S1644=\"\",\"\",COUNTIF($S$7:S1644,\"該当２\"))","v":""},"","",{"$f":"IF(V1644=\"\",\"\",COUNTIF($V$7:V1644,\"該当３\"))","v":""}]
[2220704011,"22",207,{"v":4,"d":"04"},{"v":11,"d":"011"},"静岡県","富士宮市","上井出村","広見",null,"","",{"$f":"IF(K1645=\"\",\"\",COUNTIF($K$7:K1645,\"ﾘｽﾄ１\"))","v":""},"","","","","","","",{"$f":"IF(S1645=\"\",\"\",COUNTIF($S$7:S1645,\"該当２\"))","v":""},"","",{"$f":"IF(V1645=\"\",\"\",COUNTIF($V$7:V1645,\"該当３\"))","v":""}]
[2220704012,"22",207,{"v":4,"d":"04"},{"v":12,"d":"012"},"静岡県","富士宮市","上井出村","人穴",null,"","",{"$f":"IF(K1646=\"\",\"\",COUNTIF($K$7:K1646,\"ﾘｽﾄ１\"))","v":""},"","","","","","","",{"$f":"IF(S1646=\"\",\"\",COUNTIF($S$7:S1646,\"該当２\"))","v":""},"","",{"$f":"IF(V1646=\"\",\"\",COUNTIF($V$7:V1646,\"該当３\"))","v":""}]
[2220704013,"22",207,{"v":4,"d":"04"},{"v":13,"d":"013"},"静岡県","富士宮市","上井出村","荻平",null,"","",{"$f":"IF(K1647=\"\",\"\",COUNTIF($K$7:K1647,\"ﾘｽﾄ１\"))","v":""},"","","","","","","",{"$f":"IF(S1647=\"\",\"\",COUNTIF($S$7:S1647,\"該当２\"))","v":""},"","",{"$f":"IF(V1647=\"\",\"\",COUNTIF($V$7:V1647,\"該当３\"))","v":""}]
[2220704014,"22",207,{"v":4,"d":"04"},{"v":14,"d":"014"},"静岡県","富士宮市","上井出村","大橋",null,"","",{"$f":"IF(K1648=\"\",\"\",COUNTIF($K$7:K1648,\"ﾘｽﾄ１\"))","v":""},"","","","","","","",{"$f":"IF(S1648=\"\",\"\",COUNTIF($S$7:S1648,\"該当２\"))","v":""},"","",{"$f":"IF(V1648=\"\",\"\",COUNTIF($V$7:V1648,\"該当３\"))","v":""}]
[2220704015,"22",207,{"v":4,"d":"04"},{"v":15,"d":"015"},"静岡県","富士宮市","上井出村","中村",null,"","",{"$f":"IF(K1649=\"\",\"\",COUNTIF($K$7:K1649,\"ﾘｽﾄ１\"))","v":""},"","","","","","","",{"$f":"IF(S1649=\"\",\"\",COUNTIF($S$7:S1649,\"該当２\"))","v":""},"","",{"$f":"IF(V1649=\"\",\"\",COUNTIF($V$7:V1649,\"該当３\"))","v":""}]
[2220704016,"22",207,{"v":4,"d":"04"},{"v":16,"d":"016"},"静岡県","富士宮市","上井出村","上村",null,"","",{"$f":"IF(K1650=\"\",\"\",COUNTIF($K$7:K1650,\"ﾘｽﾄ１\"))","v":""},"","","","","","","",{"$f":"IF(S1650=\"\",\"\",COUNTIF($S$7:S1650,\"該当２\"))","v":""},"","",{"$f":"IF(V1650=\"\",\"\",COUNTIF($V$7:V1650,\"該当３\"))","v":""}]
[2220704017,"22",207,{"v":4,"d":"04"},{"v":17,"d":"017"},"静岡県","富士宮市","上井出村","麓",null,"","",{"$f":"IF(K1651=\"\",\"\",COUNTIF($K$7:K1651,\"ﾘｽﾄ１\"))","v":""},"","","","","","","",{"$f":"IF(S1651=\"\",\"\",COUNTIF($S$7:S1651,\"該当２\"))","v":""},"","",{"$f":"IF(V1651=\"\",\"\",COUNTIF($V$7:V1651,\"該当３\"))","v":""}]
[2220704018,"22",207,{"v":4,"d":"04"},{"v":18,"d":"018"},"静岡県","富士宮市","上井出村","根原",null,"","",{"$f":"IF(K1652=\"\",\"\",COUNTIF($K$7:K1652,\"ﾘｽﾄ１\"))","v":""},"","","","","","","",{"$f":"IF(S1652=\"\",\"\",COUNTIF($S$7:S1652,\"該当２\"))","v":""},"","",{"$f":"IF(V1652=\"\",\"\",COUNTIF($V$7:V1652,\"該当３\"))","v":""}]
[2220704019,"22",207,{"v":4,"d":"04"},{"v":19,"d":"019"},"静岡県","富士宮市","上井出村","富士丘",null,"","",{"$f":"IF(K1653=\"\",\"\",COUNTIF($K$7:K1653,\"ﾘｽﾄ１\"))","v":""},"","","","","","","",{"$f":"IF(S1653=\"\",\"\",COUNTIF($S$7:S1653,\"該当２\"))","v":""},"","",{"$f":"IF(V1653=\"\",\"\",COUNTIF($V$7:V1653,\"該当３\"))","v":""}]
[2220704020,"22",207,{"v":4,"d":"04"},{"v":20,"d":"020"},"静岡県","富士宮市","上井出村","向陽",null,"","",{"$f":"IF(K1654=\"\",\"\",COUNTIF($K$7:K1654,\"ﾘｽﾄ１\"))","v":""},"","","","","","","",{"$f":"IF(S1654=\"\",\"\",COUNTIF($S$7:S1654,\"該当２\"))","v":""},"","",{"$f":"IF(V1654=\"\",\"\",COUNTIF($V$7:V1654,\"該当３\"))","v":""}]
[2220704021,"22",207,{"v":4,"d":"04"},{"v":21,"d":"021"},"静岡県","富士宮市","上井出村","国有林１",null,"","",{"$f":"IF(K1655=\"\",\"\",COUNTIF($K$7:K1655,\"ﾘｽﾄ１\"))","v":""},"","","","","","","",{"$f":"IF(S1655=\"\",\"\",COUNTIF($S$7:S1655,\"該当２\"))","v":""},"","",{"$f":"IF(V1655=\"\",\"\",COUNTIF($V$7:V1655,\"該当３\"))","v":""}]
[2220705000,"22",207,{"v":5,"d":"05"},{"v":0,"d":"000"},"静岡県","富士宮市","白糸村",null,null,"","",{"$f":"IF(K1656=\"\",\"\",COUNTIF($K$7:K1656,\"ﾘｽﾄ１\"))","v":""},"","","","","","","",{"$f":"IF(S1656=\"\",\"\",COUNTIF($S$7:S1656,\"該当２\"))","v":""},"","",{"$f":"IF(V1656=\"\",\"\",COUNTIF($V$7:V1656,\"該当３\"))","v":""}]
[2220705001,"22",207,{"v":5,"d":"05"},{"v":1,"d":"001"},"静岡県","富士宮市","白糸村","内野",null,"","",{"$f":"IF(K1657=\"\",\"\",COUNTIF($K$7:K1657,\"ﾘｽﾄ１\"))","v":""},"","","","","","","",{"$f":"IF(S1657=\"\",\"\",COUNTIF($S$7:S1657,\"該当２\"))","v":""},"","",{"$f":"IF(V1657=\"\",\"\",COUNTIF($V$7:V1657,\"該当３\"))","v":""}]
[2220705002,"22",207,{"v":5,"d":"05"},{"v":2,"d":"002"},"静岡県","富士宮市","白糸村","原",null,"","",{"$f":"IF(K1658=\"\",\"\",COUNTIF($K$7:K1658,\"ﾘｽﾄ１\"))","v":""},"","","","","","","",{"$f":"IF(S1658=\"\",\"\",COUNTIF($S$7:S1658,\"該当２\"))","v":""},"","",{"$f":"IF(V1658=\"\",\"\",COUNTIF($V$7:V1658,\"該当３\"))","v":""}]
[2220705003,"22",207,{"v":5,"d":"05"},{"v":3,"d":"003"},"静岡県","富士宮市","白糸村","佐折",null,"","",{"$f":"IF(K1659=\"\",\"\",COUNTIF($K$7:K1659,\"ﾘｽﾄ１\"))","v":""},"","","","","","","",{"$f":"IF(S1659=\"\",\"\",COUNTIF($S$7:S1659,\"該当２\"))","v":""},"","",{"$f":"IF(V1659=\"\",\"\",COUNTIF($V$7:V1659,\"該当３\"))","v":""}]
[2220705004,"22",207,{"v":5,"d":"05"},{"v":4,"d":"004"},"静岡県","富士宮市","白糸村","半野",null,"","",{"$f":"IF(K1660=\"\",\"\",COUNTIF($K$7:K1660,\"ﾘｽﾄ１\"))","v":""},"","","","","","","",{"$f":"IF(S1660=\"\",\"\",COUNTIF($S$7:S1660,\"該当２\"))","v":""},"","",{"$f":"IF(V1660=\"\",\"\",COUNTIF($V$7:V1660,\"該当３\"))","v":""}]
[2220705005,"22",207,{"v":5,"d":"05"},{"v":5,"d":"005"},"静岡県","富士宮市","白糸村","狩宿",null,"","",{"$f":"IF(K1661=\"\",\"\",COUNTIF($K$7:K1661,\"ﾘｽﾄ１\"))","v":""},"","","","","","","",{"$f":"IF(S1661=\"\",\"\",COUNTIF($S$7:S1661,\"該当２\"))","v":""},"","",{"$f":"IF(V1661=\"\",\"\",COUNTIF($V$7:V1661,\"該当３\"))","v":""}]
[2220706000,"22",207,{"v":6,"d":"06"},{"v":0,"d":"000"},"静岡県","富士宮市","上野村",null,null,"","",{"$f":"IF(K1662=\"\",\"\",COUNTIF($K$7:K1662,\"ﾘｽﾄ１\"))","v":""},"","","","","","","",{"$f":"IF(S1662=\"\",\"\",COUNTIF($S$7:S1662,\"該当２\"))","v":""},"","",{"$f":"IF(V1662=\"\",\"\",COUNTIF($V$7:V1662,\"該当３\"))","v":""}]
[2220706001,"22",207,{"v":6,"d":"06"},{"v":1,"d":"001"},"静岡県","富士宮市","上野村","馬見塚",null,"","",{"$f":"IF(K1663=\"\",\"\",COUNTIF($K$7:K1663,\"ﾘｽﾄ１\"))","v":""},"","","","","","","",{"$f":"IF(S1663=\"\",\"\",COUNTIF($S$7:S1663,\"該当２\"))","v":""},"","",{"$f":"IF(V1663=\"\",\"\",COUNTIF($V$7:V1663,\"該当３\"))","v":""}]
[2220706002,"22",207,{"v":6,"d":"06"},{"v":2,"d":"002"},"静岡県","富士宮市","上野村","上条下",null,"","",{"$f":"IF(K1664=\"\",\"\",COUNTIF($K$7:K1664,\"ﾘｽﾄ１\"))","v":""},"","","","","","","",{"$f":"IF(S1664=\"\",\"\",COUNTIF($S$7:S1664,\"該当２\"))","v":""},"","",{"$f":"IF(V1664=\"\",\"\",COUNTIF($V$7:V1664,\"該当３\"))","v":""}]
[2220706003,"22",207,{"v":6,"d":"06"},{"v":3,"d":"003"},"静岡県","富士宮市","上野村","上条上",null,"","",{"$f":"IF(K1665=\"\",\"\",COUNTIF($K$7:K1665,\"ﾘｽﾄ１\"))","v":""},"","","","","","","",{"$f":"IF(S1665=\"\",\"\",COUNTIF($S$7:S1665,\"該当２\"))","v":""},"","",{"$f":"IF(V1665=\"\",\"\",COUNTIF($V$7:V1665,\"該当３\"))","v":""}]
[2220706004,"22",207,{"v":6,"d":"06"},{"v":4,"d":"004"},"静岡県","富士宮市","上野村","下条上",null,"","",{"$f":"IF(K1666=\"\",\"\",COUNTIF($K$7:K1666,\"ﾘｽﾄ１\"))","v":""},"","","","","","","",{"$f":"IF(S1666=\"\",\"\",COUNTIF($S$7:S1666,\"該当２\"))","v":""},"","",{"$f":"IF(V1666=\"\",\"\",COUNTIF($V$7:V1666,\"該当３\"))","v":""}]
[2220706005,"22",207,{"v":6,"d":"06"},{"v":5,"d":"005"},"静岡県","富士宮市","上野村","下条下",null,"","",{"$f":"IF(K1667=\"\",\"\",COUNTIF($K$7:K1667,\"ﾘｽﾄ１\"))","v":""},"","","","","","","",{"$f":"IF(S1667=\"\",\"\",COUNTIF($S$7:S1667,\"該当２\"))","v":""},"","",{"$f":"IF(V1667=\"\",\"\",COUNTIF($V$7:V1667,\"該当３\"))","v":""}]
[2220706006,"22",207,{"v":6,"d":"06"},{"v":6,"d":"006"},"静岡県","富士宮市","上野村","精進川上",null,"","",{"$f":"IF(K1668=\"\",\"\",COUNTIF($K$7:K1668,\"ﾘｽﾄ１\"))","v":""},"","","","","","","",{"$f":"IF(S1668=\"\",\"\",COUNTIF($S$7:S1668,\"該当２\"))","v":""},"","",{"$f":"IF(V1668=\"\",\"\",COUNTIF($V$7:V1668,\"該当３\"))","v":""}]
[2220706007,"22",207,{"v":6,"d":"06"},{"v":7,"d":"007"},"静岡県","富士宮市","上野村","精進川下",null,"","",{"$f":"IF(K1669=\"\",\"\",COUNTIF($K$7:K1669,\"ﾘｽﾄ１\"))","v":""},"","","","","","","",{"$f":"IF(S1669=\"\",\"\",COUNTIF($S$7:S1669,\"該当２\"))","v":""},"","",{"$f":"IF(V1669=\"\",\"\",COUNTIF($V$7:V1669,\"該当３\"))","v":""}]
[2220707000,"22",207,{"v":7,"d":"07"},{"v":0,"d":"000"},"静岡県","富士宮市","芝富村",null,null,"","",{"$f":"IF(K1670=\"\",\"\",COUNTIF($K$7:K1670,\"ﾘｽﾄ１\"))","v":""},"","","","","","","",{"$f":"IF(S1670=\"\",\"\",COUNTIF($S$7:S1670,\"該当２\"))","v":""},"","",{"$f":"IF(V1670=\"\",\"\",COUNTIF($V$7:V1670,\"該当３\"))","v":""}]
[2220707001,"22",207,{"v":7,"d":"07"},{"v":1,"d":"001"},"静岡県","富士宮市","芝富村","西山上",null,"","",{"$f":"IF(K1671=\"\",\"\",COUNTIF($K$7:K1671,\"ﾘｽﾄ１\"))","v":""},"","","","","","","",{"$f":"IF(S1671=\"\",\"\",COUNTIF($S$7:S1671,\"該当２\"))","v":""},"","",{"$f":"IF(V1671=\"\",\"\",COUNTIF($V$7:V1671,\"該当３\"))","v":""}]
[2220707002,"22",207,{"v":7,"d":"07"},{"v":2,"d":"002"},"静岡県","富士宮市","芝富村","西山中",null,"","",{"$f":"IF(K1672=\"\",\"\",COUNTIF($K$7:K1672,\"ﾘｽﾄ１\"))","v":""},"","","","","","","",{"$f":"IF(S1672=\"\",\"\",COUNTIF($S$7:S1672,\"該当２\"))","v":""},"","",{"$f":"IF(V1672=\"\",\"\",COUNTIF($V$7:V1672,\"該当３\"))","v":""}]
[2220707003,"22",207,{"v":7,"d":"07"},{"v":3,"d":"003"},"静岡県","富士宮市","芝富村","西山下",null,"","",{"$f":"IF(K1673=\"\",\"\",COUNTIF($K$7:K1673,\"ﾘｽﾄ１\"))","v":""},"","","","","","","",{"$f":"IF(S1673=\"\",\"\",COUNTIF($S$7:S1673,\"該当２\"))","v":""},"","",{"$f":"IF(V1673=\"\",\"\",COUNTIF($V$7:V1673,\"該当３\"))","v":""}]
[2220707004,"22",207,{"v":7,"d":"07"},{"v":4,"d":"004"},"静岡県","富士宮市","芝富村","大久保",null,"","",{"$f":"IF(K1674=\"\",\"\",COUNTIF($K$7:K1674,\"ﾘｽﾄ１\"))","v":""},"","",{"$f":"IF(O1674=\"該当１\",G1674,\"\")","v":""},{"$f":"IF(O1674=\"該当１\",\"ﾘｽﾄ2\",\"\")","v":""},{"$f":"IF(Q1674=\"ﾘｽﾄ2\",H1674,\"\")","v":""},"",{"$f":"IF(S1674=\"該当２\",H1674,\"\")","v":""},{"$f":"IF(S1674=\"\",\"\",COUNTIF($S$7:S1674,\"該当２\"))","v":""},{"$f":"IF(AND($S$2=H1674,E1674>0,E1674<998),\"該当３\",\"\")","v":""},{"$f":"IF(V1674=\"該当３\",I1674,\"\")","v":""},{"$f":"IF(V1674=\"\",\"\",COUNTIF($V$7:V1674,\"該当３\"))","v":""}]
[2220707005,"22",207,{"v":7,"d":"07"},{"v":5,"d":"005"},"静岡県","富士宮市","芝富村","長貫上",null,{"$f":"IF(AND($C1675>0,$H1675=\"\"),\"ﾘｽﾄ１\",\"\")","v":""},{"$f":"IF(K1675=\"ﾘｽﾄ１\",G1675,\"\")","v":""},{"$f":"IF(K1675=\"\",\"\",COUNTIF($K$7:K1675,\"ﾘｽﾄ１\"))","v":""},{"$f":"IF(AND(D1675=0,E1675>0),\"同一区\",\"\")","v":""},{"$f":"IF(AND(EXACT($K$2,G1675),H1675>0),\"該当１\",\"\")","v":""},"","","",{"$f":"IF(AND(Q1675=\"ﾘｽﾄ2\",OR(I1675=0,AND(N1675=\"同一区\",E1675=1))),\"該当２\",\"\")","v":""},"",{"$f":"IF(S1675=\"\",\"\",COUNTIF($S$7:S1675,\"該当２\"))","v":""},"","",{"$f":"IF(V1675=\"\",\"\",COUNTIF($V$7:V1675,\"該当３\"))","v":""}]
[2220707006,"22",207,{"v":7,"d":"07"},{"v":6,"d":"006"},"静岡県","富士宮市","芝富村","長貫下",null,"","",{"$f":"IF(K1676=\"\",\"\",COUNTIF($K$7:K1676,\"ﾘｽﾄ１\"))","v":""},"","","","","","","",{"$f":"IF(S1676=\"\",\"\",COUNTIF($S$7:S1676,\"該当２\"))","v":""},"","",{"$f":"IF(V1676=\"\",\"\",COUNTIF($V$7:V1676,\"該当３\"))","v":""}]
[2220707007,"22",207,{"v":7,"d":"07"},{"v":7,"d":"007"},"静岡県","富士宮市","芝富村","稗久保",null,"","",{"$f":"IF(K1677=\"\",\"\",COUNTIF($K$7:K1677,\"ﾘｽﾄ１\"))","v":""},"","","","","","","",{"$f":"IF(S1677=\"\",\"\",COUNTIF($S$7:S1677,\"該当２\"))","v":""},"","",{"$f":"IF(V1677=\"\",\"\",COUNTIF($V$7:V1677,\"該当３\"))","v":""}]
[2220707008,"22",207,{"v":7,"d":"07"},{"v":8,"d":"008"},"静岡県","富士宮市","芝富村","上羽鮒",null,"","",{"$f":"IF(K1678=\"\",\"\",COUNTIF($K$7:K1678,\"ﾘｽﾄ１\"))","v":""},"","","","","","","",{"$f":"IF(S1678=\"\",\"\",COUNTIF($S$7:S1678,\"該当２\"))","v":""},"","",{"$f":"IF(V1678=\"\",\"\",COUNTIF($V$7:V1678,\"該当３\"))","v":""}]
[2220707009,"22",207,{"v":7,"d":"07"},{"v":9,"d":"009"},"静岡県","富士宮市","芝富村","下羽鮒",null,"","",{"$f":"IF(K1679=\"\",\"\",COUNTIF($K$7:K1679,\"ﾘｽﾄ１\"))","v":""},"","","","","","","",{"$f":"IF(S1679=\"\",\"\",COUNTIF($S$7:S1679,\"該当２\"))","v":""},"","",{"$f":"IF(V1679=\"\",\"\",COUNTIF($V$7:V1679,\"該当３\"))","v":""}]
[2220708000,"22",207,{"v":8,"d":"08"},{"v":0,"d":"000"},"静岡県","富士宮市","柚野村",null,null,"","",{"$f":"IF(K1680=\"\",\"\",COUNTIF($K$7:K1680,\"ﾘｽﾄ１\"))","v":""},"","","","","","","",{"$f":"IF(S1680=\"\",\"\",COUNTIF($S$7:S1680,\"該当２\"))","v":""},"","",{"$f":"IF(V1680=\"\",\"\",COUNTIF($V$7:V1680,\"該当３\"))","v":""}]
[2220708001,"22",207,{"v":8,"d":"08"},{"v":1,"d":"001"},"静岡県","富士宮市","柚野村","大鹿窪",null,"","",{"$f":"IF(K1681=\"\",\"\",COUNTIF($K$7:K1681,\"ﾘｽﾄ１\"))","v":""},"","","","","","","",{"$f":"IF(S1681=\"\",\"\",COUNTIF($S$7:S1681,\"該当２\"))","v":""},"","",{"$f":"IF(V1681=\"\",\"\",COUNTIF($V$7:V1681,\"該当３\"))","v":""}]
[2220708002,"22",207,{"v":8,"d":"08"},{"v":2,"d":"002"},"静岡県","富士宮市","柚野村","猫沢",null,"","",{"$f":"IF(K1682=\"\",\"\",COUNTIF($K$7:K1682,\"ﾘｽﾄ１\"))","v":""},"","","","","","","",{"$f":"IF(S1682=\"\",\"\",COUNTIF($S$7:S1682,\"該当２\"))","v":""},"","",{"$f":"IF(V1682=\"\",\"\",COUNTIF($V$7:V1682,\"該当３\"))","v":""}]
[2220708003,"22",207,{"v":8,"d":"08"},{"v":3,"d":"003"},"静岡県","富士宮市","柚野村","鳥並",null,"","",{"$f":"IF(K1683=\"\",\"\",COUNTIF($K$7:K1683,\"ﾘｽﾄ１\"))","v":""},"","","","","","","",{"$f":"IF(S1683=\"\",\"\",COUNTIF($S$7:S1683,\"該当２\"))","v":""},"","",{"$f":"IF(V1683=\"\",\"\",COUNTIF($V$7:V1683,\"該当３\"))","v":""}]
[2220708004,"22",207,{"v":8,"d":"08"},{"v":4,"d":"004"},"静岡県","富士宮市","柚野村","下柚野",null,"","",{"$f":"IF(K1684=\"\",\"\",COUNTIF($K$7:K1684,\"ﾘｽﾄ１\"))","v":""},"","","","","","","",{"$f":"IF(S1684=\"\",\"\",COUNTIF($S$7:S1684,\"該当２\"))","v":""},"","",{"$f":"IF(V1684=\"\",\"\",COUNTIF($V$7:V1684,\"該当３\"))","v":""}]
[2220708005,"22",207,{"v":8,"d":"08"},{"v":5,"d":"005"},"静岡県","富士宮市","柚野村","上柚野",null,"","",{"$f":"IF(K1685=\"\",\"\",COUNTIF($K$7:K1685,\"ﾘｽﾄ１\"))","v":""},"","","","","","","",{"$f":"IF(S1685=\"\",\"\",COUNTIF($S$7:S1685,\"該当２\"))","v":""},"","",{"$f":"IF(V1685=\"\",\"\",COUNTIF($V$7:V1685,\"該当３\"))","v":""}]
[2220708006,"22",207,{"v":8,"d":"08"},{"v":6,"d":"006"},"静岡県","富士宮市","柚野村","下稲子",null,"","",{"$f":"IF(K1686=\"\",\"\",COUNTIF($K$7:K1686,\"ﾘｽﾄ１\"))","v":""},"","","","","","","",{"$f":"IF(S1686=\"\",\"\",COUNTIF($S$7:S1686,\"該当２\"))","v":""},"","",{"$f":"IF(V1686=\"\",\"\",COUNTIF($V$7:V1686,\"該当３\"))","v":""}]
[2220708007,"22",207,{"v":8,"d":"08"},{"v":7,"d":"007"},"静岡県","富士宮市","柚野村","上稲子",null,"","",{"$f":"IF(K1687=\"\",\"\",COUNTIF($K$7:K1687,\"ﾘｽﾄ１\"))","v":""},"","","","","","","",{"$f":"IF(S1687=\"\",\"\",COUNTIF($S$7:S1687,\"該当２\"))","v":""},"","",{"$f":"IF(V1687=\"\",\"\",COUNTIF($V$7:V1687,\"該当３\"))","v":""}]
[2220709000,"22",207,{"v":9,"d":"09"},{"v":0,"d":"000"},"静岡県","富士宮市","内房村",null,null,"","",{"$f":"IF(K1688=\"\",\"\",COUNTIF($K$7:K1688,\"ﾘｽﾄ１\"))","v":""},"","","","","","","",{"$f":"IF(S1688=\"\",\"\",COUNTIF($S$7:S1688,\"該当２\"))","v":""},"","",{"$f":"IF(V1688=\"\",\"\",COUNTIF($V$7:V1688,\"該当３\"))","v":""}]
[2220709001,"22",207,{"v":9,"d":"09"},{"v":1,"d":"001"},"静岡県","富士宮市","内房村","瓜島",null,"","",{"$f":"IF(K1689=\"\",\"\",COUNTIF($K$7:K1689,\"ﾘｽﾄ１\"))","v":""},"","","","","","","",{"$f":"IF(S1689=\"\",\"\",COUNTIF($S$7:S1689,\"該当２\"))","v":""},"","",{"$f":"IF(V1689=\"\",\"\",COUNTIF($V$7:V1689,\"該当３\"))","v":""}]
[2220709002,"22",207,{"v":9,"d":"09"},{"v":2,"d":"002"},"静岡県","富士宮市","内房村","山口",null,"","",{"$f":"IF(K1690=\"\",\"\",COUNTIF($K$7:K1690,\"ﾘｽﾄ１\"))","v":""},"","","","","","","",{"$f":"IF(S1690=\"\",\"\",COUNTIF($S$7:S1690,\"該当２\"))","v":""},"","",{"$f":"IF(V1690=\"\",\"\",COUNTIF($V$7:V1690,\"該当３\"))","v":""}]
[2220709003,"22",207,{"v":9,"d":"09"},{"v":3,"d":"003"},"静岡県","富士宮市","内房村","野下",null,"","",{"$f":"IF(K1691=\"\",\"\",COUNTIF($K$7:K1691,\"ﾘｽﾄ１\"))","v":""},"","","","","","","",{"$f":"IF(S1691=\"\",\"\",COUNTIF($S$7:S1691,\"該当２\"))","v":""},"","",{"$f":"IF(V1691=\"\",\"\",COUNTIF($V$7:V1691,\"該当３\"))","v":""}]
[2220709004,"22",207,{"v":9,"d":"09"},{"v":4,"d":"004"},"静岡県","富士宮市","内房村","竹ノ下",null,"","",{"$f":"IF(K1692=\"\",\"\",COUNTIF($K$7:K1692,\"ﾘｽﾄ１\"))","v":""},"","","","","","","",{"$f":"IF(S1692=\"\",\"\",COUNTIF($S$7:S1692,\"該当２\"))","v":""},"","",{"$f":"IF(V1692=\"\",\"\",COUNTIF($V$7:V1692,\"該当３\"))","v":""}]
[2220709005,"22",207,{"v":9,"d":"09"},{"v":5,"d":"005"},"静岡県","富士宮市","内房村","仲",null,"","",{"$f":"IF(K1693=\"\",\"\",COUNTIF($K$7:K1693,\"ﾘｽﾄ１\"))","v":""},"","","","","","","",{"$f":"IF(S1693=\"\",\"\",COUNTIF($S$7:S1693,\"該当２\"))","v":""},"","",{"$f":"IF(V1693=\"\",\"\",COUNTIF($V$7:V1693,\"該当３\"))","v":""}]
[2220709006,"22",207,{"v":9,"d":"09"},{"v":6,"d":"006"},"静岡県","富士宮市","内房村","大嵐",null,"","",{"$f":"IF(K1694=\"\",\"\",COUNTIF($K$7:K1694,\"ﾘｽﾄ１\"))","v":""},"","","","","","","",{"$f":"IF(S1694=\"\",\"\",COUNTIF($S$7:S1694,\"該当２\"))","v":""},"","",{"$f":"IF(V1694=\"\",\"\",COUNTIF($V$7:V1694,\"該当３\"))","v":""}]
[2220709007,"22",207,{"v":9,"d":"09"},{"v":7,"d":"007"},"静岡県","富士宮市","内房村","大晦日",null,"","",{"$f":"IF(K1695=\"\",\"\",COUNTIF($K$7:K1695,\"ﾘｽﾄ１\"))","v":""},"","","","","","","",{"$f":"IF(S1695=\"\",\"\",COUNTIF($S$7:S1695,\"該当２\"))","v":""},"","",{"$f":"IF(V1695=\"\",\"\",COUNTIF($V$7:V1695,\"該当３\"))","v":""}]
[2220709008,"22",207,{"v":9,"d":"09"},{"v":8,"d":"008"},"静岡県","富士宮市","内房村","廻り沢",null,"","",{"$f":"IF(K1696=\"\",\"\",COUNTIF($K$7:K1696,\"ﾘｽﾄ１\"))","v":""},"","","","","","","",{"$f":"IF(S1696=\"\",\"\",COUNTIF($S$7:S1696,\"該当２\"))","v":""},"","",{"$f":"IF(V1696=\"\",\"\",COUNTIF($V$7:V1696,\"該当３\"))","v":""}]
[2220709009,"22",207,{"v":9,"d":"09"},{"v":9,"d":"009"},"静岡県","富士宮市","内房村","落合",null,"","",{"$f":"IF(K1697=\"\",\"\",COUNTIF($K$7:K1697,\"ﾘｽﾄ１\"))","v":""},"","","","","","","",{"$f":"IF(S1697=\"\",\"\",COUNTIF($S$7:S1697,\"該当２\"))","v":""},"","",{"$f":"IF(V1697=\"\",\"\",COUNTIF($V$7:V1697,\"該当３\"))","v":""}]
[2220709010,"22",207,{"v":9,"d":"09"},{"v":10,"d":"010"},"静岡県","富士宮市","内房村","相沼",null,"","",{"$f":"IF(K1698=\"\",\"\",COUNTIF($K$7:K1698,\"ﾘｽﾄ１\"))","v":""},"","","","","","","",{"$f":"IF(S1698=\"\",\"\",COUNTIF($S$7:S1698,\"該当２\"))","v":""},"","",{"$f":"IF(V1698=\"\",\"\",COUNTIF($V$7:V1698,\"該当３\"))","v":""}]
[2220709011,"22",207,{"v":9,"d":"09"},{"v":11,"d":"011"},"静岡県","富士宮市","内房村","塩出",null,"","",{"$f":"IF(K1699=\"\",\"\",COUNTIF($K$7:K1699,\"ﾘｽﾄ１\"))","v":""},"","","","","","","",{"$f":"IF(S1699=\"\",\"\",COUNTIF($S$7:S1699,\"該当２\"))","v":""},"","",{"$f":"IF(V1699=\"\",\"\",COUNTIF($V$7:V1699,\"該当３\"))","v":""}]
[2220709012,"22",207,{"v":9,"d":"09"},{"v":12,"d":"012"},"静岡県","富士宮市","内房村","尾崎",null,"","",{"$f":"IF(K1700=\"\",\"\",COUNTIF($K$7:K1700,\"ﾘｽﾄ１\"))","v":""},"","","","","","","",{"$f":"IF(S1700=\"\",\"\",COUNTIF($S$7:S1700,\"該当２\"))","v":""},"","",{"$f":"IF(V1700=\"\",\"\",COUNTIF($V$7:V1700,\"該当３\"))","v":""}]
[2220709013,"22",207,{"v":9,"d":"09"},{"v":13,"d":"013"},"静岡県","富士宮市","内房村","橋上",null,"","",{"$f":"IF(K1701=\"\",\"\",COUNTIF($K$7:K1701,\"ﾘｽﾄ１\"))","v":""},"","","","","","","",{"$f":"IF(S1701=\"\",\"\",COUNTIF($S$7:S1701,\"該当２\"))","v":""},"","",{"$f":"IF(V1701=\"\",\"\",COUNTIF($V$7:V1701,\"該当３\"))","v":""}]
[2220800000,"22",208,{"v":0,"d":"00"},{"v":0,"d":"000"},"静岡県","伊東市",{"$nulls":3},"ﾘｽﾄ１","伊東市",{"$f":"IF(K1702=\"\",\"\",COUNTIF($K$7:K1702,\"ﾘｽﾄ１\"))","v":17},"","","","","","","",{"$f":"IF(S1702=\"\",\"\",COUNTIF($S$7:S1702,\"該当２\"))","v":""},"","",{"$f":"IF(V1702=\"\",\"\",COUNTIF($V$7:V1702,\"該当３\"))","v":""}]
[2220801000,"22",208,{"v":1,"d":"01"},{"v":0,"d":"000"},"静岡県","伊東市","伊東市（旧）",null,null,"","",{"$f":"IF(K1703=\"\",\"\",COUNTIF($K$7:K1703,\"ﾘｽﾄ１\"))","v":""},"","","","","","","",{"$f":"IF(S1703=\"\",\"\",COUNTIF($S$7:S1703,\"該当２\"))","v":""},"","",{"$f":"IF(V1703=\"\",\"\",COUNTIF($V$7:V1703,\"該当３\"))","v":""}]
[2220801001,"22",208,{"v":1,"d":"01"},{"v":1,"d":"001"},"静岡県","伊東市","伊東市（旧）","鎌田",null,"","",{"$f":"IF(K1704=\"\",\"\",COUNTIF($K$7:K1704,\"ﾘｽﾄ１\"))","v":""},"","","","","","","",{"$f":"IF(S1704=\"\",\"\",COUNTIF($S$7:S1704,\"該当２\"))","v":""},"","",{"$f":"IF(V1704=\"\",\"\",COUNTIF($V$7:V1704,\"該当３\"))","v":""}]
[2220801002,"22",208,{"v":1,"d":"01"},{"v":2,"d":"002"},"静岡県","伊東市","伊東市（旧）","岡小川",null,"","",{"$f":"IF(K1705=\"\",\"\",COUNTIF($K$7:K1705,\"ﾘｽﾄ１\"))","v":""},"","","","","","","",{"$f":"IF(S1705=\"\",\"\",COUNTIF($S$7:S1705,\"該当２\"))","v":""},"","",{"$f":"IF(V1705=\"\",\"\",COUNTIF($V$7:V1705,\"該当３\"))","v":""}]
[2220801003,"22",208,{"v":1,"d":"01"},{"v":3,"d":"003"},"静岡県","伊東市","伊東市（旧）","岡広野",null,"","",{"$f":"IF(K1706=\"\",\"\",COUNTIF($K$7:K1706,\"ﾘｽﾄ１\"))","v":""},"","","","","","","",{"$f":"IF(S1706=\"\",\"\",COUNTIF($S$7:S1706,\"該当２\"))","v":""},"","",{"$f":"IF(V1706=\"\",\"\",COUNTIF($V$7:V1706,\"該当３\"))","v":""}]
[2220801004,"22",208,{"v":1,"d":"01"},{"v":4,"d":"004"},"静岡県","伊東市","伊東市（旧）","岡泉",null,"","",{"$f":"IF(K1707=\"\",\"\",COUNTIF($K$7:K1707,\"ﾘｽﾄ１\"))","v":""},"","","","","","","",{"$f":"IF(S1707=\"\",\"\",COUNTIF($S$7:S1707,\"該当２\"))","v":""},"","",{"$f":"IF(V1707=\"\",\"\",COUNTIF($V$7:V1707,\"該当３\"))","v":""}]
[2220801005,"22",208,{"v":1,"d":"01"},{"v":5,"d":"005"},"静岡県","伊東市","伊東市（旧）","岡本郷",null,"","",{"$f":"IF(K1708=\"\",\"\",COUNTIF($K$7:K1708,\"ﾘｽﾄ１\"))","v":""},"","","","","","","",{"$f":"IF(S1708=\"\",\"\",COUNTIF($S$7:S1708,\"該当２\"))","v":""},"","",{"$f":"IF(V1708=\"\",\"\",COUNTIF($V$7:V1708,\"該当３\"))","v":""}]
[2220801006,"22",208,{"v":1,"d":"01"},{"v":6,"d":"006"},"静岡県","伊東市","伊東市（旧）","湯川開拓",null,"","",{"$f":"IF(K1709=\"\",\"\",COUNTIF($K$7:K1709,\"ﾘｽﾄ１\"))","v":""},"","","","","","","",{"$f":"IF(S1709=\"\",\"\",COUNTIF($S$7:S1709,\"該当２\"))","v":""},"","",{"$f":"IF(V1709=\"\",\"\",COUNTIF($V$7:V1709,\"該当３\"))","v":""}]
[2220801007,"22",208,{"v":1,"d":"01"},{"v":7,"d":"007"},"静岡県","伊東市","伊東市（旧）","湯川",null,"","",{"$f":"IF(K1710=\"\",\"\",COUNTIF($K$7:K1710,\"ﾘｽﾄ１\"))","v":""},"","","","","","","",{"$f":"IF(S1710=\"\",\"\",COUNTIF($S$7:S1710,\"該当２\"))","v":""},"","",{"$f":"IF(V1710=\"\",\"\",COUNTIF($V$7:V1710,\"該当３\"))","v":""}]
[2220801008,"22",208,{"v":1,"d":"01"},{"v":8,"d":"008"},"静岡県","伊東市","伊東市（旧）","松原",null,"","",{"$f":"IF(K1711=\"\",\"\",COUNTIF($K$7:K1711,\"ﾘｽﾄ１\"))","v":""},"","","","","","","",{"$f":"IF(S1711=\"\",\"\",COUNTIF($S$7:S1711,\"該当２\"))","v":""},"","",{"$f":"IF(V1711=\"\",\"\",COUNTIF($V$7:V1711,\"該当３\"))","v":""}]
[2220801009,"22",208,{"v":1,"d":"01"},{"v":9,"d":"009"},"静岡県","伊東市","伊東市（旧）","玖須美",null,"","",{"$f":"IF(K1712=\"\",\"\",COUNTIF($K$7:K1712,\"ﾘｽﾄ１\"))","v":""},"","","","","","","",{"$f":"IF(S1712=\"\",\"\",COUNTIF($S$7:S1712,\"該当２\"))","v":""},"","",{"$f":"IF(V1712=\"\",\"\",COUNTIF($V$7:V1712,\"該当３\"))","v":""}]
[2220801010,"22",208,{"v":1,"d":"01"},{"v":10,"d":"010"},"静岡県","伊東市","伊東市（旧）","富士見",null,"","",{"$f":"IF(K1713=\"\",\"\",COUNTIF($K$7:K1713,\"ﾘｽﾄ１\"))","v":""},"","","","","","","",{"$f":"IF(S1713=\"\",\"\",COUNTIF($S$7:S1713,\"該当２\"))","v":""},"","",{"$f":"IF(V1713=\"\",\"\",COUNTIF($V$7:V1713,\"該当３\"))","v":""}]
[2220801011,"22",208,{"v":1,"d":"01"},{"v":11,"d":"011"},"静岡県","伊東市","伊東市（旧）","新井",null,"","",{"$f":"IF(K1714=\"\",\"\",COUNTIF($K$7:K1714,\"ﾘｽﾄ１\"))","v":""},"","","","","","","",{"$f":"IF(S1714=\"\",\"\",COUNTIF($S$7:S1714,\"該当２\"))","v":""},"","",{"$f":"IF(V1714=\"\",\"\",COUNTIF($V$7:V1714,\"該当３\"))","v":""}]
[2220801012,"22",208,{"v":1,"d":"01"},{"v":12,"d":"012"},"静岡県","伊東市","伊東市（旧）","川奈口",null,"","",{"$f":"IF(K1715=\"\",\"\",COUNTIF($K$7:K1715,\"ﾘｽﾄ１\"))","v":""},"","","","","","","",{"$f":"IF(S1715=\"\",\"\",COUNTIF($S$7:S1715,\"該当２\"))","v":""},"","",{"$f":"IF(V1715=\"\",\"\",COUNTIF($V$7:V1715,\"該当３\"))","v":""}]
[2220801013,"22",208,{"v":1,"d":"01"},{"v":13,"d":"013"},"静岡県","伊東市","伊東市（旧）","川奈東",null,"","",{"$f":"IF(K1716=\"\",\"\",COUNTIF($K$7:K1716,\"ﾘｽﾄ１\"))","v":""},"","","","","","","",{"$f":"IF(S1716=\"\",\"\",COUNTIF($S$7:S1716,\"該当２\"))","v":""},"","",{"$f":"IF(V1716=\"\",\"\",COUNTIF($V$7:V1716,\"該当３\"))","v":""}]
[2220801014,"22",208,{"v":1,"d":"01"},{"v":14,"d":"014"},"静岡県","伊東市","伊東市（旧）","川奈宮町",null,"","",{"$f":"IF(K1717=\"\",\"\",COUNTIF($K$7:K1717,\"ﾘｽﾄ１\"))","v":""},"","","","","","","",{"$f":"IF(S1717=\"\",\"\",COUNTIF($S$7:S1717,\"該当２\"))","v":""},"","",{"$f":"IF(V1717=\"\",\"\",COUNTIF($V$7:V1717,\"該当３\"))","v":""}]
[2220801015,"22",208,{"v":1,"d":"01"},{"v":15,"d":"015"},"静岡県","伊東市","伊東市（旧）","川奈小浦",null,"","",{"$f":"IF(K1718=\"\",\"\",COUNTIF($K$7:K1718,\"ﾘｽﾄ１\"))","v":""},"","","","","","","",{"$f":"IF(S1718=\"\",\"\",COUNTIF($S$7:S1718,\"該当２\"))","v":""},"","",{"$f":"IF(V1718=\"\",\"\",COUNTIF($V$7:V1718,\"該当３\"))","v":""}]
[2220801016,"22",208,{"v":1,"d":"01"},{"v":16,"d":"016"},"静岡県","伊東市","伊東市（旧）","吉田",null,"","",{"$f":"IF(K1719=\"\",\"\",COUNTIF($K$7:K1719,\"ﾘｽﾄ１\"))","v":""},"","","","","","","",{"$f":"IF(S1719=\"\",\"\",COUNTIF($S$7:S1719,\"該当２\"))","v":""},"","",{"$f":"IF(V1719=\"\",\"\",COUNTIF($V$7:V1719,\"該当３\"))","v":""}]
[2220801017,"22",208,{"v":1,"d":"01"},{"v":17,"d":"017"},"静岡県","伊東市","伊東市（旧）","十足",null,"","",{"$f":"IF(K1720=\"\",\"\",COUNTIF($K$7:K1720,\"ﾘｽﾄ１\"))","v":""},"","","","","","","",{"$f":"IF(S1720=\"\",\"\",COUNTIF($S$7:S1720,\"該当２\"))","v":""},"","",{"$f":"IF(V1720=\"\",\"\",COUNTIF($V$7:V1720,\"該当３\"))","v":""}]
[2220801018,"22",208,{"v":1,"d":"01"},{"v":18,"d":"018"},"静岡県","伊東市","伊東市（旧）","荻",null,"","",{"$f":"IF(K1721=\"\",\"\",COUNTIF($K$7:K1721,\"ﾘｽﾄ１\"))","v":""},"","","","","","","",{"$f":"IF(S1721=\"\",\"\",COUNTIF($S$7:S1721,\"該当２\"))","v":""},"","",{"$f":"IF(V1721=\"\",\"\",COUNTIF($V$7:V1721,\"該当３\"))","v":""}]
[2220802000,"22",208,{"v":2,"d":"02"},{"v":0,"d":"000"},"静岡県","伊東市","宇佐美村",null,null,"","",{"$f":"IF(K1722=\"\",\"\",COUNTIF($K$7:K1722,\"ﾘｽﾄ１\"))","v":""},"","","","","","","",{"$f":"IF(S1722=\"\",\"\",COUNTIF($S$7:S1722,\"該当２\"))","v":""},"","",{"$f":"IF(V1722=\"\",\"\",COUNTIF($V$7:V1722,\"該当３\"))","v":""}]
[2220802001,"22",208,{"v":2,"d":"02"},{"v":1,"d":"001"},"静岡県","伊東市","宇佐美村","初津",null,"","",{"$f":"IF(K1723=\"\",\"\",COUNTIF($K$7:K1723,\"ﾘｽﾄ１\"))","v":""},"","","","","","","",{"$f":"IF(S1723=\"\",\"\",COUNTIF($S$7:S1723,\"該当２\"))","v":""},"","",{"$f":"IF(V1723=\"\",\"\",COUNTIF($V$7:V1723,\"該当３\"))","v":""}]
[2220802002,"22",208,{"v":2,"d":"02"},{"v":2,"d":"002"},"静岡県","伊東市","宇佐美村","八幡",null,"","",{"$f":"IF(K1724=\"\",\"\",COUNTIF($K$7:K1724,\"ﾘｽﾄ１\"))","v":""},"","","","","","","",{"$f":"IF(S1724=\"\",\"\",COUNTIF($S$7:S1724,\"該当２\"))","v":""},"","",{"$f":"IF(V1724=\"\",\"\",COUNTIF($V$7:V1724,\"該当３\"))","v":""}]
[2220802003,"22",208,{"v":2,"d":"02"},{"v":3,"d":"003"},"静岡県","伊東市","宇佐美村","城宿",null,"","",{"$f":"IF(K1725=\"\",\"\",COUNTIF($K$7:K1725,\"ﾘｽﾄ１\"))","v":""},"","","","","","","",{"$f":"IF(S1725=\"\",\"\",COUNTIF($S$7:S1725,\"該当２\"))","v":""},"","",{"$f":"IF(V1725=\"\",\"\",COUNTIF($V$7:V1725,\"該当３\"))","v":""}]
[2220802004,"22",208,{"v":2,"d":"02"},{"v":4,"d":"004"},"静岡県","伊東市","宇佐美村","留田",null,"","",{"$f":"IF(K1726=\"\",\"\",COUNTIF($K$7:K1726,\"ﾘｽﾄ１\"))","v":""},"","","","","","","",{"$f":"IF(S1726=\"\",\"\",COUNTIF($S$7:S1726,\"該当２\"))","v":""},"","",{"$f":"IF(V1726=\"\",\"\",COUNTIF($V$7:V1726,\"該当３\"))","v":""}]
[2220802005,"22",208,{"v":2,"d":"02"},{"v":5,"d":"005"},"静岡県","伊東市","宇佐美村","山田",null,"","",{"$f":"IF(K1727=\"\",\"\",COUNTIF($K$7:K1727,\"ﾘｽﾄ１\"))","v":""},"","","","","","","",{"$f":"IF(S1727=\"\",\"\",COUNTIF($S$7:S1727,\"該当２\"))","v":""},"","",{"$f":"IF(V1727=\"\",\"\",COUNTIF($V$7:V1727,\"該当３\"))","v":""}]
[2220802006,"22",208,{"v":2,"d":"02"},{"v":6,"d":"006"},"静岡県","伊東市","宇佐美村","桑原",null,"","",{"$f":"IF(K1728=\"\",\"\",COUNTIF($K$7:K1728,\"ﾘｽﾄ１\"))","v":""},"","","","","","","",{"$f":"IF(S1728=\"\",\"\",COUNTIF($S$7:S1728,\"該当２\"))","v":""},"","",{"$f":"IF(V1728=\"\",\"\",COUNTIF($V$7:V1728,\"該当３\"))","v":""}]
[2220802007,"22",208,{"v":2,"d":"02"},{"v":7,"d":"007"},"静岡県","伊東市","宇佐美村","阿原田",null,"","",{"$f":"IF(K1729=\"\",\"\",COUNTIF($K$7:K1729,\"ﾘｽﾄ１\"))","v":""},"","","","","","","",{"$f":"IF(S1729=\"\",\"\",COUNTIF($S$7:S1729,\"該当２\"))","v":""},"","",{"$f":"IF(V1729=\"\",\"\",COUNTIF($V$7:V1729,\"該当３\"))","v":""}]
[2220802008,"22",208,{"v":2,"d":"02"},{"v":8,"d":"008"},"静岡県","伊東市","宇佐美村","峰",null,"","",{"$f":"IF(K1730=\"\",\"\",COUNTIF($K$7:K1730,\"ﾘｽﾄ１\"))","v":""},"","","","","","","",{"$f":"IF(S1730=\"\",\"\",COUNTIF($S$7:S1730,\"該当２\"))","v":""},"","",{"$f":"IF(V1730=\"\",\"\",COUNTIF($V$7:V1730,\"該当３\"))","v":""}]
[2220802009,"22",208,{"v":2,"d":"02"},{"v":9,"d":"009"},"静岡県","伊東市","宇佐美村","中里",null,"","",{"$f":"IF(K1731=\"\",\"\",COUNTIF($K$7:K1731,\"ﾘｽﾄ１\"))","v":""},"","","","","","","",{"$f":"IF(S1731=\"\",\"\",COUNTIF($S$7:S1731,\"該当２\"))","v":""},"","",{"$f":"IF(V1731=\"\",\"\",COUNTIF($V$7:V1731,\"該当３\"))","v":""}]
[2220802010,"22",208,{"v":2,"d":"02"},{"v":10,"d":"010"},"静岡県","伊東市","宇佐美村","塩木道",null,"","",{"$f":"IF(K1732=\"\",\"\",COUNTIF($K$7:K1732,\"ﾘｽﾄ１\"))","v":""},"","","","","","","",{"$f":"IF(S1732=\"\",\"\",COUNTIF($S$7:S1732,\"該当２\"))","v":""},"","",{"$f":"IF(V1732=\"\",\"\",COUNTIF($V$7:V1732,\"該当３\"))","v":""}]
[2220803000,"22",208,{"v":3,"d":"03"},{"v":0,"d":"000"},"静岡県","伊東市","対島村",null,null,"","",{"$f":"IF(K1733=\"\",\"\",COUNTIF($K$7:K1733,\"ﾘｽﾄ１\"))","v":""},"","","","","","","",{"$f":"IF(S1733=\"\",\"\",COUNTIF($S$7:S1733,\"該当２\"))","v":""},"","",{"$f":"IF(V1733=\"\",\"\",COUNTIF($V$7:V1733,\"該当３\"))","v":""}]
[2220803001,"22",208,{"v":3,"d":"03"},{"v":1,"d":"001"},"静岡県","伊東市","対島村","池",null,"","",{"$f":"IF(K1734=\"\",\"\",COUNTIF($K$7:K1734,\"ﾘｽﾄ１\"))","v":""},"","","","","","","",{"$f":"IF(S1734=\"\",\"\",COUNTIF($S$7:S1734,\"該当２\"))","v":""},"","",{"$f":"IF(V1734=\"\",\"\",COUNTIF($V$7:V1734,\"該当３\"))","v":""}]
[2220803002,"22",208,{"v":3,"d":"03"},{"v":2,"d":"002"},"静岡県","伊東市","対島村","富戸払",null,"","",{"$f":"IF(K1735=\"\",\"\",COUNTIF($K$7:K1735,\"ﾘｽﾄ１\"))","v":""},"","","","","","","",{"$f":"IF(S1735=\"\",\"\",COUNTIF($S$7:S1735,\"該当２\"))","v":""},"","",{"$f":"IF(V1735=\"\",\"\",COUNTIF($V$7:V1735,\"該当３\"))","v":""}]
[2220803003,"22",208,{"v":3,"d":"03"},{"v":3,"d":"003"},"静岡県","伊東市","対島村","富戸西",null,"","",{"$f":"IF(K1736=\"\",\"\",COUNTIF($K$7:K1736,\"ﾘｽﾄ１\"))","v":""},"","","","","","","",{"$f":"IF(S1736=\"\",\"\",COUNTIF($S$7:S1736,\"該当２\"))","v":""},"","",{"$f":"IF(V1736=\"\",\"\",COUNTIF($V$7:V1736,\"該当３\"))","v":""}]
[2220803004,"22",208,{"v":3,"d":"03"},{"v":4,"d":"004"},"静岡県","伊東市","対島村","富戸東",null,"","",{"$f":"IF(K1737=\"\",\"\",COUNTIF($K$7:K1737,\"ﾘｽﾄ１\"))","v":""},"","","","","","","",{"$f":"IF(S1737=\"\",\"\",COUNTIF($S$7:S1737,\"該当２\"))","v":""},"","",{"$f":"IF(V1737=\"\",\"\",COUNTIF($V$7:V1737,\"該当３\"))","v":""}]
[2220803005,"22",208,{"v":3,"d":"03"},{"v":5,"d":"005"},"静岡県","伊東市","対島村","富戸郷戸",null,"","",{"$f":"IF(K1738=\"\",\"\",COUNTIF($K$7:K1738,\"ﾘｽﾄ１\"))","v":""},"","",{"$f":"IF(O1738=\"該当１\",G1738,\"\")","v":""},{"$f":"IF(O1738=\"該当１\",\"ﾘｽﾄ2\",\"\")","v":""},{"$f":"IF(Q1738=\"ﾘｽﾄ2\",H1738,\"\")","v":""},"",{"$f":"IF(S1738=\"該当２\",H1738,\"\")","v":""},{"$f":"IF(S1738=\"\",\"\",COUNTIF($S$7:S1738,\"該当２\"))","v":""},{"$f":"IF(AND($S$2=H1738,E1738>0,E1738<998),\"該当３\",\"\")","v":""},{"$f":"IF(V1738=\"該当３\",I1738,\"\")","v":""},{"$f":"IF(V1738=\"\",\"\",COUNTIF($V$7:V1738,\"該当３\"))","v":""}]
[2220803006,"22",208,{"v":3,"d":"03"},{"v":6,"d":"006"},"静岡県","伊東市","対島村","富戸岡",null,{"$f":"IF(AND($C1739>0,$H1739=\"\"),\"ﾘｽﾄ１\",\"\")","v":""},{"$f":"IF(K1739=\"ﾘｽﾄ１\",G1739,\"\")","v":""},{"$f":"IF(K1739=\"\",\"\",COUNTIF($K$7:K1739,\"ﾘｽﾄ１\"))","v":""},{"$f":"IF(AND(D1739=0,E1739>0),\"同一区\",\"\")","v":""},{"$f":"IF(AND(EXACT($K$2,G1739),H1739>0),\"該当１\",\"\")","v":""},"","","",{"$f":"IF(AND(Q1739=\"ﾘｽﾄ2\",OR(I1739=0,AND(N1739=\"同一区\",E1739=1))),\"該当２\",\"\")","v":""},"",{"$f":"IF(S1739=\"\",\"\",COUNTIF($S$7:S1739,\"該当２\"))","v":""},"","",{"$f":"IF(V1739=\"\",\"\",COUNTIF($V$7:V1739,\"該当３\"))","v":""}]
[2220803007,"22",208,{"v":3,"d":"03"},{"v":7,"d":"007"},"静岡県","伊東市","対島村","三ノ原",null,"","",{"$f":"IF(K1740=\"\",\"\",COUNTIF($K$7:K1740,\"ﾘｽﾄ１\"))","v":""},"","","","","","","",{"$f":"IF(S1740=\"\",\"\",COUNTIF($S$7:S1740,\"該当２\"))","v":""},"","",{"$f":"IF(V1740=\"\",\"\",COUNTIF($V$7:V1740,\"該当３\"))","v":""}]
[2220803008,"22",208,{"v":3,"d":"03"},{"v":8,"d":"008"},"静岡県","伊東市","対島村","松尾",null,"","",{"$f":"IF(K1741=\"\",\"\",COUNTIF($K$7:K1741,\"ﾘｽﾄ１\"))","v":""},"","","","","","","",{"$f":"IF(S1741=\"\",\"\",COUNTIF($S$7:S1741,\"該当２\"))","v":""},"","",{"$f":"IF(V1741=\"\",\"\",COUNTIF($V$7:V1741,\"該当３\"))","v":""}]
[2220803009,"22",208,{"v":3,"d":"03"},{"v":9,"d":"009"},"静岡県","伊東市","対島村","上野",null,"","",{"$f":"IF(K1742=\"\",\"\",COUNTIF($K$7:K1742,\"ﾘｽﾄ１\"))","v":""},"","","","","","","",{"$f":"IF(S1742=\"\",\"\",COUNTIF($S$7:S1742,\"該当２\"))","v":""},"","",{"$f":"IF(V1742=\"\",\"\",COUNTIF($V$7:V1742,\"該当３\"))","v":""}]
[2220803010,"22",208,{"v":3,"d":"03"},{"v":10,"d":"010"},"静岡県","伊東市","対島村","八幡野岡",null,"","",{"$f":"IF(K1743=\"\",\"\",COUNTIF($K$7:K1743,\"ﾘｽﾄ１\"))","v":""},"","","","","","","",{"$f":"IF(S1743=\"\",\"\",COUNTIF($S$7:S1743,\"該当２\"))","v":""},"","",{"$f":"IF(V1743=\"\",\"\",COUNTIF($V$7:V1743,\"該当３\"))","v":""}]
[2220803011,"22",208,{"v":3,"d":"03"},{"v":11,"d":"011"},"静岡県","伊東市","対島村","大室町",null,"","",{"$f":"IF(K1744=\"\",\"\",COUNTIF($K$7:K1744,\"ﾘｽﾄ１\"))","v":""},"","","","","","","",{"$f":"IF(S1744=\"\",\"\",COUNTIF($S$7:S1744,\"該当２\"))","v":""},"","",{"$f":"IF(V1744=\"\",\"\",COUNTIF($V$7:V1744,\"該当３\"))","v":""}]
[2220803012,"22",208,{"v":3,"d":"03"},{"v":12,"d":"012"},"静岡県","伊東市","対島村","八幡野浜",null,"","",{"$f":"IF(K1745=\"\",\"\",COUNTIF($K$7:K1745,\"ﾘｽﾄ１\"))","v":""},"","","","","","","",{"$f":"IF(S1745=\"\",\"\",COUNTIF($S$7:S1745,\"該当２\"))","v":""},"","",{"$f":"IF(V1745=\"\",\"\",COUNTIF($V$7:V1745,\"該当３\"))","v":""}]
[2220803013,"22",208,{"v":3,"d":"03"},{"v":13,"d":"013"},"静岡県","伊東市","対島村","赤沢",null,"","",{"$f":"IF(K1746=\"\",\"\",COUNTIF($K$7:K1746,\"ﾘｽﾄ１\"))","v":""},"","","","","","","",{"$f":"IF(S1746=\"\",\"\",COUNTIF($S$7:S1746,\"該当２\"))","v":""},"","",{"$f":"IF(V1746=\"\",\"\",COUNTIF($V$7:V1746,\"該当３\"))","v":""}]
[2220900000,"22",209,{"v":0,"d":"00"},{"v":0,"d":"000"},"静岡県","島田市",{"$nulls":3},"ﾘｽﾄ１","島田市",{"$f":"IF(K1747=\"\",\"\",COUNTIF($K$7:K1747,\"ﾘｽﾄ１\"))","v":18},"","","","","","","",{"$f":"IF(S1747=\"\",\"\",COUNTIF($S$7:S1747,\"該当２\"))","v":""},"","",{"$f":"IF(V1747=\"\",\"\",COUNTIF($V$7:V1747,\"該当３\"))","v":""}]
[2220901000,"22",209,{"v":1,"d":"01"},{"v":0,"d":"000"},"静岡県","島田市","島田市（旧）",null,null,"","",{"$f":"IF(K1748=\"\",\"\",COUNTIF($K$7:K1748,\"ﾘｽﾄ１\"))","v":""},"","","","","","","",{"$f":"IF(S1748=\"\",\"\",COUNTIF($S$7:S1748,\"該当２\"))","v":""},"","",{"$f":"IF(V1748=\"\",\"\",COUNTIF($V$7:V1748,\"該当３\"))","v":""}]
[2220901001,"22",209,{"v":1,"d":"01"},{"v":1,"d":"001"},"静岡県","島田市","島田市（旧）","向谷町",null,"","",{"$f":"IF(K1749=\"\",\"\",COUNTIF($K$7:K1749,\"ﾘｽﾄ１\"))","v":""},"","","","","","","",{"$f":"IF(S1749=\"\",\"\",COUNTIF($S$7:S1749,\"該当２\"))","v":""},"","",{"$f":"IF(V1749=\"\",\"\",COUNTIF($V$7:V1749,\"該当３\"))","v":""}]
[2220901002,"22",209,{"v":1,"d":"01"},{"v":2,"d":"002"},"静岡県","島田市","島田市（旧）","三ッ合町",null,"","",{"$f":"IF(K1750=\"\",\"\",COUNTIF($K$7:K1750,\"ﾘｽﾄ１\"))","v":""},"","","","","","","",{"$f":"IF(S1750=\"\",\"\",COUNTIF($S$7:S1750,\"該当２\"))","v":""},"","",{"$f":"IF(V1750=\"\",\"\",COUNTIF($V$7:V1750,\"該当３\"))","v":""}]
[2220901003,"22",209,{"v":1,"d":"01"},{"v":3,"d":"003"},"静岡県","島田市","島田市（旧）","中溝町",null,"","",{"$f":"IF(K1751=\"\",\"\",COUNTIF($K$7:K1751,\"ﾘｽﾄ１\"))","v":""},"","","","","","","",{"$f":"IF(S1751=\"\",\"\",COUNTIF($S$7:S1751,\"該当２\"))","v":""},"","",{"$f":"IF(V1751=\"\",\"\",COUNTIF($V$7:V1751,\"該当３\"))","v":""}]
[2220901004,"22",209,{"v":1,"d":"01"},{"v":4,"d":"004"},"静岡県","島田市","島田市（旧）","若松町",null,"","",{"$f":"IF(K1752=\"\",\"\",COUNTIF($K$7:K1752,\"ﾘｽﾄ１\"))","v":""},"","","","","","","",{"$f":"IF(S1752=\"\",\"\",COUNTIF($S$7:S1752,\"該当２\"))","v":""},"","",{"$f":"IF(V1752=\"\",\"\",COUNTIF($V$7:V1752,\"該当３\"))","v":""}]
[2220901005,"22",209,{"v":1,"d":"01"},{"v":5,"d":"005"},"静岡県","島田市","島田市（旧）","宮川町",null,"","",{"$f":"IF(K1753=\"\",\"\",COUNTIF($K$7:K1753,\"ﾘｽﾄ１\"))","v":""},"","","","","","","",{"$f":"IF(S1753=\"\",\"\",COUNTIF($S$7:S1753,\"該当２\"))","v":""},"","",{"$f":"IF(V1753=\"\",\"\",COUNTIF($V$7:V1753,\"該当３\"))","v":""}]
[2220901006,"22",209,{"v":1,"d":"01"},{"v":6,"d":"006"},"静岡県","島田市","島田市（旧）","中河町",null,"","",{"$f":"IF(K1754=\"\",\"\",COUNTIF($K$7:K1754,\"ﾘｽﾄ１\"))","v":""},"","","","","","","",{"$f":"IF(S1754=\"\",\"\",COUNTIF($S$7:S1754,\"該当２\"))","v":""},"","",{"$f":"IF(V1754=\"\",\"\",COUNTIF($V$7:V1754,\"該当３\"))","v":""}]
[2220901007,"22",209,{"v":1,"d":"01"},{"v":7,"d":"007"},"静岡県","島田市","島田市（旧）","元島田",null,"","",{"$f":"IF(K1755=\"\",\"\",COUNTIF($K$7:K1755,\"ﾘｽﾄ１\"))","v":""},"","","","","","","",{"$f":"IF(S1755=\"\",\"\",COUNTIF($S$7:S1755,\"該当２\"))","v":""},"","",{"$f":"IF(V1755=\"\",\"\",COUNTIF($V$7:V1755,\"該当３\"))","v":""}]
[2220901008,"22",209,{"v":1,"d":"01"},{"v":8,"d":"008"},"静岡県","島田市","島田市（旧）","御仮屋町",null,"","",{"$f":"IF(K1756=\"\",\"\",COUNTIF($K$7:K1756,\"ﾘｽﾄ１\"))","v":""},"","","","","","","",{"$f":"IF(S1756=\"\",\"\",COUNTIF($S$7:S1756,\"該当２\"))","v":""},"","",{"$f":"IF(V1756=\"\",\"\",COUNTIF($V$7:V1756,\"該当３\"))","v":""}]
[2220901009,"22",209,{"v":1,"d":"01"},{"v":9,"d":"009"},"静岡県","島田市","島田市（旧）","旭町",null,"","",{"$f":"IF(K1757=\"\",\"\",COUNTIF($K$7:K1757,\"ﾘｽﾄ１\"))","v":""},"","","","","","","",{"$f":"IF(S1757=\"\",\"\",COUNTIF($S$7:S1757,\"該当２\"))","v":""},"","",{"$f":"IF(V1757=\"\",\"\",COUNTIF($V$7:V1757,\"該当３\"))","v":""}]
[2220901010,"22",209,{"v":1,"d":"01"},{"v":10,"d":"010"},"静岡県","島田市","島田市（旧）","高砂町",null,"","",{"$f":"IF(K1758=\"\",\"\",COUNTIF($K$7:K1758,\"ﾘｽﾄ１\"))","v":""},"","","","","","","",{"$f":"IF(S1758=\"\",\"\",COUNTIF($S$7:S1758,\"該当２\"))","v":""},"","",{"$f":"IF(V1758=\"\",\"\",COUNTIF($V$7:V1758,\"該当３\"))","v":""}]
[2220901011,"22",209,{"v":1,"d":"01"},{"v":11,"d":"011"},"静岡県","島田市","島田市（旧）","南町",null,"","",{"$f":"IF(K1759=\"\",\"\",COUNTIF($K$7:K1759,\"ﾘｽﾄ１\"))","v":""},"","","","","","","",{"$f":"IF(S1759=\"\",\"\",COUNTIF($S$7:S1759,\"該当２\"))","v":""},"","",{"$f":"IF(V1759=\"\",\"\",COUNTIF($V$7:V1759,\"該当３\"))","v":""}]
[2220901012,"22",209,{"v":1,"d":"01"},{"v":12,"d":"012"},"静岡県","島田市","島田市（旧）","横井町",null,"","",{"$f":"IF(K1760=\"\",\"\",COUNTIF($K$7:K1760,\"ﾘｽﾄ１\"))","v":""},"","","","","","","",{"$f":"IF(S1760=\"\",\"\",COUNTIF($S$7:S1760,\"該当２\"))","v":""},"","",{"$f":"IF(V1760=\"\",\"\",COUNTIF($V$7:V1760,\"該当３\"))","v":""}]
[2220901013,"22",209,{"v":1,"d":"01"},{"v":13,"d":"013"},"静岡県","島田市","島田市（旧）","河原町",null,"","",{"$f":"IF(K1761=\"\",\"\",COUNTIF($K$7:K1761,\"ﾘｽﾄ１\"))","v":""},"","","","","","","",{"$f":"IF(S1761=\"\",\"\",COUNTIF($S$7:S1761,\"該当２\"))","v":""},"","",{"$f":"IF(V1761=\"\",\"\",COUNTIF($V$7:V1761,\"該当３\"))","v":""}]
[2220901014,"22",209,{"v":1,"d":"01"},{"v":14,"d":"014"},"静岡県","島田市","島田市（旧）","稲荷町",null,"","",{"$f":"IF(K1762=\"\",\"\",COUNTIF($K$7:K1762,\"ﾘｽﾄ１\"))","v":""},"","","","","","","",{"$f":"IF(S1762=\"\",\"\",COUNTIF($S$7:S1762,\"該当２\"))","v":""},"","",{"$f":"IF(V1762=\"\",\"\",COUNTIF($V$7:V1762,\"該当３\"))","v":""}]
[2220901015,"22",209,{"v":1,"d":"01"},{"v":15,"d":"015"},"静岡県","島田市","島田市（旧）","向島町",null,"","",{"$f":"IF(K1763=\"\",\"\",COUNTIF($K$7:K1763,\"ﾘｽﾄ１\"))","v":""},"","","","","","","",{"$f":"IF(S1763=\"\",\"\",COUNTIF($S$7:S1763,\"該当２\"))","v":""},"","",{"$f":"IF(V1763=\"\",\"\",COUNTIF($V$7:V1763,\"該当３\"))","v":""}]
[2220901016,"22",209,{"v":1,"d":"01"},{"v":16,"d":"016"},"静岡県","島田市","島田市（旧）","大井町",null,"","",{"$f":"IF(K1764=\"\",\"\",COUNTIF($K$7:K1764,\"ﾘｽﾄ１\"))","v":""},"","","","","","","",{"$f":"IF(S1764=\"\",\"\",COUNTIF($S$7:S1764,\"該当２\"))","v":""},"","",{"$f":"IF(V1764=\"\",\"\",COUNTIF($V$7:V1764,\"該当３\"))","v":""}]
[2220901017,"22",209,{"v":1,"d":"01"},{"v":17,"d":"017"},"静岡県","島田市","島田市（旧）","幸町",null,"","",{"$f":"IF(K1765=\"\",\"\",COUNTIF($K$7:K1765,\"ﾘｽﾄ１\"))","v":""},"","","","","","","",{"$f":"IF(S1765=\"\",\"\",COUNTIF($S$7:S1765,\"該当２\"))","v":""},"","",{"$f":"IF(V1765=\"\",\"\",COUNTIF($V$7:V1765,\"該当３\"))","v":""}]
[2220901018,"22",209,{"v":1,"d":"01"},{"v":18,"d":"018"},"静岡県","島田市","島田市（旧）","日之出町",null,"","",{"$f":"IF(K1766=\"\",\"\",COUNTIF($K$7:K1766,\"ﾘｽﾄ１\"))","v":""},"","","","","","","",{"$f":"IF(S1766=\"\",\"\",COUNTIF($S$7:S1766,\"該当２\"))","v":""},"","",{"$f":"IF(V1766=\"\",\"\",COUNTIF($V$7:V1766,\"該当３\"))","v":""}]
[2220901019,"22",209,{"v":1,"d":"01"},{"v":19,"d":"019"},"静岡県","島田市","島田市（旧）","大川町",null,"","",{"$f":"IF(K1767=\"\",\"\",COUNTIF($K$7:K1767,\"ﾘｽﾄ１\"))","v":""},"","","","","","","",{"$f":"IF(S1767=\"\",\"\",COUNTIF($S$7:S1767,\"該当２\"))","v":""},"","",{"$f":"IF(V1767=\"\",\"\",COUNTIF($V$7:V1767,\"該当３\"))","v":""}]
[2220901020,"22",209,{"v":1,"d":"01"},{"v":20,"d":"020"},"静岡県","島田市","島田市（旧）","大津通",null,"","",{"$f":"IF(K1768=\"\",\"\",COUNTIF($K$7:K1768,\"ﾘｽﾄ１\"))","v":""},"","","","","","","",{"$f":"IF(S1768=\"\",\"\",COUNTIF($S$7:S1768,\"該当２\"))","v":""},"","",{"$f":"IF(V1768=\"\",\"\",COUNTIF($V$7:V1768,\"該当３\"))","v":""}]
[2220901021,"22",209,{"v":1,"d":"01"},{"v":21,"d":"021"},"静岡県","島田市","島田市（旧）","新田町",null,"","",{"$f":"IF(K1769=\"\",\"\",COUNTIF($K$7:K1769,\"ﾘｽﾄ１\"))","v":""},"","","","","","","",{"$f":"IF(S1769=\"\",\"\",COUNTIF($S$7:S1769,\"該当２\"))","v":""},"","",{"$f":"IF(V1769=\"\",\"\",COUNTIF($V$7:V1769,\"該当３\"))","v":""}]
[2220901022,"22",209,{"v":1,"d":"01"},{"v":22,"d":"022"},"静岡県","島田市","島田市（旧）","本通七丁目",null,"","",{"$f":"IF(K1770=\"\",\"\",COUNTIF($K$7:K1770,\"ﾘｽﾄ１\"))","v":""},"","","","","","","",{"$f":"IF(S1770=\"\",\"\",COUNTIF($S$7:S1770,\"該当２\"))","v":""},"","",{"$f":"IF(V1770=\"\",\"\",COUNTIF($V$7:V1770,\"該当３\"))","v":""}]
[2220901023,"22",209,{"v":1,"d":"01"},{"v":23,"d":"023"},"静岡県","島田市","島田市（旧）","松葉町",null,"","",{"$f":"IF(K1771=\"\",\"\",COUNTIF($K$7:K1771,\"ﾘｽﾄ１\"))","v":""},"","","","","","","",{"$f":"IF(S1771=\"\",\"\",COUNTIF($S$7:S1771,\"該当２\"))","v":""},"","",{"$f":"IF(V1771=\"\",\"\",COUNTIF($V$7:V1771,\"該当３\"))","v":""}]
[2220902000,"22",209,{"v":2,"d":"02"},{"v":0,"d":"000"},"静岡県","島田市","六合村",null,null,"","",{"$f":"IF(K1772=\"\",\"\",COUNTIF($K$7:K1772,\"ﾘｽﾄ１\"))","v":""},"","","","","","","",{"$f":"IF(S1772=\"\",\"\",COUNTIF($S$7:S1772,\"該当２\"))","v":""},"","",{"$f":"IF(V1772=\"\",\"\",COUNTIF($V$7:V1772,\"該当３\"))","v":""}]
[2220902001,"22",209,{"v":2,"d":"02"},{"v":1,"d":"001"},"静岡県","島田市","六合村","４支部",null,"","",{"$f":"IF(K1773=\"\",\"\",COUNTIF($K$7:K1773,\"ﾘｽﾄ１\"))","v":""},"","","","","","","",{"$f":"IF(S1773=\"\",\"\",COUNTIF($S$7:S1773,\"該当２\"))","v":""},"","",{"$f":"IF(V1773=\"\",\"\",COUNTIF($V$7:V1773,\"該当３\"))","v":""}]
[2220902002,"22",209,{"v":2,"d":"02"},{"v":2,"d":"002"},"静岡県","島田市","六合村","５支部",null,"","",{"$f":"IF(K1774=\"\",\"\",COUNTIF($K$7:K1774,\"ﾘｽﾄ１\"))","v":""},"","","","","","","",{"$f":"IF(S1774=\"\",\"\",COUNTIF($S$7:S1774,\"該当２\"))","v":""},"","",{"$f":"IF(V1774=\"\",\"\",COUNTIF($V$7:V1774,\"該当３\"))","v":""}]
[2220902003,"22",209,{"v":2,"d":"02"},{"v":3,"d":"003"},"静岡県","島田市","六合村","６支部",null,"","",{"$f":"IF(K1775=\"\",\"\",COUNTIF($K$7:K1775,\"ﾘｽﾄ１\"))","v":""},"","","","","","","",{"$f":"IF(S1775=\"\",\"\",COUNTIF($S$7:S1775,\"該当２\"))","v":""},"","",{"$f":"IF(V1775=\"\",\"\",COUNTIF($V$7:V1775,\"該当３\"))","v":""}]
[2220902004,"22",209,{"v":2,"d":"02"},{"v":4,"d":"004"},"静岡県","島田市","六合村","８支部",null,"","",{"$f":"IF(K1776=\"\",\"\",COUNTIF($K$7:K1776,\"ﾘｽﾄ１\"))","v":""},"","","","","","","",{"$f":"IF(S1776=\"\",\"\",COUNTIF($S$7:S1776,\"該当２\"))","v":""},"","",{"$f":"IF(V1776=\"\",\"\",COUNTIF($V$7:V1776,\"該当３\"))","v":""}]
[2220902005,"22",209,{"v":2,"d":"02"},{"v":5,"d":"005"},"静岡県","島田市","六合村","９支部",null,"","",{"$f":"IF(K1777=\"\",\"\",COUNTIF($K$7:K1777,\"ﾘｽﾄ１\"))","v":""},"","","","","","","",{"$f":"IF(S1777=\"\",\"\",COUNTIF($S$7:S1777,\"該当２\"))","v":""},"","",{"$f":"IF(V1777=\"\",\"\",COUNTIF($V$7:V1777,\"該当３\"))","v":""}]
[2220902006,"22",209,{"v":2,"d":"02"},{"v":6,"d":"006"},"静岡県","島田市","六合村","７支部",null,"","",{"$f":"IF(K1778=\"\",\"\",COUNTIF($K$7:K1778,\"ﾘｽﾄ１\"))","v":""},"","","","","","","",{"$f":"IF(S1778=\"\",\"\",COUNTIF($S$7:S1778,\"該当２\"))","v":""},"","",{"$f":"IF(V1778=\"\",\"\",COUNTIF($V$7:V1778,\"該当３\"))","v":""}]
[2220902007,"22",209,{"v":2,"d":"02"},{"v":7,"d":"007"},"静岡県","島田市","六合村","３支部",null,"","",{"$f":"IF(K1779=\"\",\"\",COUNTIF($K$7:K1779,\"ﾘｽﾄ１\"))","v":""},"","","","","","","",{"$f":"IF(S1779=\"\",\"\",COUNTIF($S$7:S1779,\"該当２\"))","v":""},"","",{"$f":"IF(V1779=\"\",\"\",COUNTIF($V$7:V1779,\"該当３\"))","v":""}]
[2220902008,"22",209,{"v":2,"d":"02"},{"v":8,"d":"008"},"静岡県","島田市","六合村","１２支部",null,"","",{"$f":"IF(K1780=\"\",\"\",COUNTIF($K$7:K1780,\"ﾘｽﾄ１\"))","v":""},"","","","","","","",{"$f":"IF(S1780=\"\",\"\",COUNTIF($S$7:S1780,\"該当２\"))","v":""},"","",{"$f":"IF(V1780=\"\",\"\",COUNTIF($V$7:V1780,\"該当３\"))","v":""}]
[2220902009,"22",209,{"v":2,"d":"02"},{"v":9,"d":"009"},"静岡県","島田市","六合村","１３支部",null,"","",{"$f":"IF(K1781=\"\",\"\",COUNTIF($K$7:K1781,\"ﾘｽﾄ１\"))","v":""},"","","","","","","",{"$f":"IF(S1781=\"\",\"\",COUNTIF($S$7:S1781,\"該当２\"))","v":""},"","",{"$f":"IF(V1781=\"\",\"\",COUNTIF($V$7:V1781,\"該当３\"))","v":""}]
[2220902010,"22",209,{"v":2,"d":"02"},{"v":10,"d":"010"},"静岡県","島田市","六合村","１４支部",null,"","",{"$f":"IF(K1782=\"\",\"\",COUNTIF($K$7:K1782,\"ﾘｽﾄ１\"))","v":""},"","","","","","","",{"$f":"IF(S1782=\"\",\"\",COUNTIF($S$7:S1782,\"該当２\"))","v":""},"","",{"$f":"IF(V1782=\"\",\"\",COUNTIF($V$7:V1782,\"該当３\"))","v":""}]
[2220902011,"22",209,{"v":2,"d":"02"},{"v":11,"d":"011"},"静岡県","島田市","六合村","１１支部",null,"","",{"$f":"IF(K1783=\"\",\"\",COUNTIF($K$7:K1783,\"ﾘｽﾄ１\"))","v":""},"","","","","","","",{"$f":"IF(S1783=\"\",\"\",COUNTIF($S$7:S1783,\"該当２\"))","v":""},"","",{"$f":"IF(V1783=\"\",\"\",COUNTIF($V$7:V1783,\"該当３\"))","v":""}]
[2220902012,"22",209,{"v":2,"d":"02"},{"v":12,"d":"012"},"静岡県","島田市","六合村","１０支部",null,"","",{"$f":"IF(K1784=\"\",\"\",COUNTIF($K$7:K1784,\"ﾘｽﾄ１\"))","v":""},"","","","","","","",{"$f":"IF(S1784=\"\",\"\",COUNTIF($S$7:S1784,\"該当２\"))","v":""},"","",{"$f":"IF(V1784=\"\",\"\",COUNTIF($V$7:V1784,\"該当３\"))","v":""}]
[2220902013,"22",209,{"v":2,"d":"02"},{"v":13,"d":"013"},"静岡県","島田市","六合村","２支部",null,"","",{"$f":"IF(K1785=\"\",\"\",COUNTIF($K$7:K1785,\"ﾘｽﾄ１\"))","v":""},"","","","","","","",{"$f":"IF(S1785=\"\",\"\",COUNTIF($S$7:S1785,\"該当２\"))","v":""},"","",{"$f":"IF(V1785=\"\",\"\",COUNTIF($V$7:V1785,\"該当３\"))","v":""}]
[2220902014,"22",209,{"v":2,"d":"02"},{"v":14,"d":"014"},"静岡県","島田市","六合村","１支部",null,"","",{"$f":"IF(K1786=\"\",\"\",COUNTIF($K$7:K1786,\"ﾘｽﾄ１\"))","v":""},"","","","","","","",{"$f":"IF(S1786=\"\",\"\",COUNTIF($S$7:S1786,\"該当２\"))","v":""},"","",{"$f":"IF(V1786=\"\",\"\",COUNTIF($V$7:V1786,\"該当３\"))","v":""}]
[2220903000,"22",209,{"v":3,"d":"03"},{"v":0,"d":"000"},"静岡県","島田市","大津村",null,null,"","",{"$f":"IF(K1787=\"\",\"\",COUNTIF($K$7:K1787,\"ﾘｽﾄ１\"))","v":""},"","","","","","","",{"$f":"IF(S1787=\"\",\"\",COUNTIF($S$7:S1787,\"該当２\"))","v":""},"","",{"$f":"IF(V1787=\"\",\"\",COUNTIF($V$7:V1787,\"該当３\"))","v":""}]
[2220903001,"22",209,{"v":3,"d":"03"},{"v":1,"d":"001"},"静岡県","島田市","大津村","千葉",null,"","",{"$f":"IF(K1788=\"\",\"\",COUNTIF($K$7:K1788,\"ﾘｽﾄ１\"))","v":""},"","","","","","","",{"$f":"IF(S1788=\"\",\"\",COUNTIF($S$7:S1788,\"該当２\"))","v":""},"","",{"$f":"IF(V1788=\"\",\"\",COUNTIF($V$7:V1788,\"該当３\"))","v":""}]
[2220903002,"22",209,{"v":3,"d":"03"},{"v":2,"d":"002"},"静岡県","島田市","大津村","大草",null,"","",{"$f":"IF(K1789=\"\",\"\",COUNTIF($K$7:K1789,\"ﾘｽﾄ１\"))","v":""},"","","","","","","",{"$f":"IF(S1789=\"\",\"\",COUNTIF($S$7:S1789,\"該当２\"))","v":""},"","",{"$f":"IF(V1789=\"\",\"\",COUNTIF($V$7:V1789,\"該当３\"))","v":""}]
[2220903003,"22",209,{"v":3,"d":"03"},{"v":3,"d":"003"},"静岡県","島田市","大津村","尾川",null,"","",{"$f":"IF(K1790=\"\",\"\",COUNTIF($K$7:K1790,\"ﾘｽﾄ１\"))","v":""},"","","","","","","",{"$f":"IF(S1790=\"\",\"\",COUNTIF($S$7:S1790,\"該当２\"))","v":""},"","",{"$f":"IF(V1790=\"\",\"\",COUNTIF($V$7:V1790,\"該当３\"))","v":""}]
[2220903004,"22",209,{"v":3,"d":"03"},{"v":4,"d":"004"},"静岡県","島田市","大津村","落合",null,"","",{"$f":"IF(K1791=\"\",\"\",COUNTIF($K$7:K1791,\"ﾘｽﾄ１\"))","v":""},"","","","","","","",{"$f":"IF(S1791=\"\",\"\",COUNTIF($S$7:S1791,\"該当２\"))","v":""},"","",{"$f":"IF(V1791=\"\",\"\",COUNTIF($V$7:V1791,\"該当３\"))","v":""}]
[2220903005,"22",209,{"v":3,"d":"03"},{"v":5,"d":"005"},"静岡県","島田市","大津村","上野田",null,"","",{"$f":"IF(K1792=\"\",\"\",COUNTIF($K$7:K1792,\"ﾘｽﾄ１\"))","v":""},"","","","","","","",{"$f":"IF(S1792=\"\",\"\",COUNTIF($S$7:S1792,\"該当２\"))","v":""},"","",{"$f":"IF(V1792=\"\",\"\",COUNTIF($V$7:V1792,\"該当３\"))","v":""}]
[2220903006,"22",209,{"v":3,"d":"03"},{"v":6,"d":"006"},"静岡県","島田市","大津村","東野田",null,"","",{"$f":"IF(K1793=\"\",\"\",COUNTIF($K$7:K1793,\"ﾘｽﾄ１\"))","v":""},"","","","","","","",{"$f":"IF(S1793=\"\",\"\",COUNTIF($S$7:S1793,\"該当２\"))","v":""},"","",{"$f":"IF(V1793=\"\",\"\",COUNTIF($V$7:V1793,\"該当３\"))","v":""}]
[2220903007,"22",209,{"v":3,"d":"03"},{"v":7,"d":"007"},"静岡県","島田市","大津村","西野田",null,"","",{"$f":"IF(K1794=\"\",\"\",COUNTIF($K$7:K1794,\"ﾘｽﾄ１\"))","v":""},"","","","","","","",{"$f":"IF(S1794=\"\",\"\",COUNTIF($S$7:S1794,\"該当２\"))","v":""},"","",{"$f":"IF(V1794=\"\",\"\",COUNTIF($V$7:V1794,\"該当３\"))","v":""}]
[2220904000,"22",209,{"v":4,"d":"04"},{"v":0,"d":"000"},"静岡県","島田市","大長村",null,null,"","",{"$f":"IF(K1795=\"\",\"\",COUNTIF($K$7:K1795,\"ﾘｽﾄ１\"))","v":""},"","","","","","","",{"$f":"IF(S1795=\"\",\"\",COUNTIF($S$7:S1795,\"該当２\"))","v":""},"","",{"$f":"IF(V1795=\"\",\"\",COUNTIF($V$7:V1795,\"該当３\"))","v":""}]
[2220904001,"22",209,{"v":4,"d":"04"},{"v":1,"d":"001"},"静岡県","島田市","大長村","伊太",null,"","",{"$f":"IF(K1796=\"\",\"\",COUNTIF($K$7:K1796,\"ﾘｽﾄ１\"))","v":""},"","","","","","","",{"$f":"IF(S1796=\"\",\"\",COUNTIF($S$7:S1796,\"該当２\"))","v":""},"","",{"$f":"IF(V1796=\"\",\"\",COUNTIF($V$7:V1796,\"該当３\"))","v":""}]
[2220904002,"22",209,{"v":4,"d":"04"},{"v":2,"d":"002"},"静岡県","島田市","大長村","相賀",null,"","",{"$f":"IF(K1797=\"\",\"\",COUNTIF($K$7:K1797,\"ﾘｽﾄ１\"))","v":""},"","","","","","","",{"$f":"IF(S1797=\"\",\"\",COUNTIF($S$7:S1797,\"該当２\"))","v":""},"","",{"$f":"IF(V1797=\"\",\"\",COUNTIF($V$7:V1797,\"該当３\"))","v":""}]
[2220904003,"22",209,{"v":4,"d":"04"},{"v":3,"d":"003"},"静岡県","島田市","大長村","神座",null,"","",{"$f":"IF(K1798=\"\",\"\",COUNTIF($K$7:K1798,\"ﾘｽﾄ１\"))","v":""},"","","","","","","",{"$f":"IF(S1798=\"\",\"\",COUNTIF($S$7:S1798,\"該当２\"))","v":""},"","",{"$f":"IF(V1798=\"\",\"\",COUNTIF($V$7:V1798,\"該当３\"))","v":""}]
[2220904004,"22",209,{"v":4,"d":"04"},{"v":4,"d":"004"},"静岡県","島田市","大長村","鵜網",null,"","",{"$f":"IF(K1799=\"\",\"\",COUNTIF($K$7:K1799,\"ﾘｽﾄ１\"))","v":""},"","","","","","","",{"$f":"IF(S1799=\"\",\"\",COUNTIF($S$7:S1799,\"該当２\"))","v":""},"","",{"$f":"IF(V1799=\"\",\"\",COUNTIF($V$7:V1799,\"該当３\"))","v":""}]
[2220905000,"22",209,{"v":5,"d":"05"},{"v":0,"d":"000"},"静岡県","島田市","伊久身村２－１",null,null,"","",{"$f":"IF(K1800=\"\",\"\",COUNTIF($K$7:K1800,\"ﾘｽﾄ１\"))","v":""},"","","","","","","",{"$f":"IF(S1800=\"\",\"\",COUNTIF($S$7:S1800,\"該当２\"))","v":""},"","",{"$f":"IF(V1800=\"\",\"\",COUNTIF($V$7:V1800,\"該当３\"))","v":""}]
[2220905001,"22",209,{"v":5,"d":"05"},{"v":1,"d":"001"},"静岡県","島田市","伊久身村２－１","白井",null,"","",{"$f":"IF(K1801=\"\",\"\",COUNTIF($K$7:K1801,\"ﾘｽﾄ１\"))","v":""},"","","","","","","",{"$f":"IF(S1801=\"\",\"\",COUNTIF($S$7:S1801,\"該当２\"))","v":""},"","",{"$f":"IF(V1801=\"\",\"\",COUNTIF($V$7:V1801,\"該当３\"))","v":""}]
[2220905002,"22",209,{"v":5,"d":"05"},{"v":2,"d":"002"},"静岡県","島田市","伊久身村２－１","二俣",null,"","",{"$f":"IF(K1802=\"\",\"\",COUNTIF($K$7:K1802,\"ﾘｽﾄ１\"))","v":""},"","",{"$f":"IF(O1802=\"該当１\",G1802,\"\")","v":""},{"$f":"IF(O1802=\"該当１\",\"ﾘｽﾄ2\",\"\")","v":""},{"$f":"IF(Q1802=\"ﾘｽﾄ2\",H1802,\"\")","v":""},"",{"$f":"IF(S1802=\"該当２\",H1802,\"\")","v":""},{"$f":"IF(S1802=\"\",\"\",COUNTIF($S$7:S1802,\"該当２\"))","v":""},{"$f":"IF(AND($S$2=H1802,E1802>0,E1802<998),\"該当３\",\"\")","v":""},{"$f":"IF(V1802=\"該当３\",I1802,\"\")","v":""},{"$f":"IF(V1802=\"\",\"\",COUNTIF($V$7:V1802,\"該当３\"))","v":""}]
[2220905003,"22",209,{"v":5,"d":"05"},{"v":3,"d":"003"},"静岡県","島田市","伊久身村２－１","中平",null,{"$f":"IF(AND($C1803>0,$H1803=\"\"),\"ﾘｽﾄ１\",\"\")","v":""},{"$f":"IF(K1803=\"ﾘｽﾄ１\",G1803,\"\")","v":""},{"$f":"IF(K1803=\"\",\"\",COUNTIF($K$7:K1803,\"ﾘｽﾄ１\"))","v":""},{"$f":"IF(AND(D1803=0,E1803>0),\"同一区\",\"\")","v":""},{"$f":"IF(AND(EXACT($K$2,G1803),H1803>0),\"該当１\",\"\")","v":""},"","","",{"$f":"IF(AND(Q1803=\"ﾘｽﾄ2\",OR(I1803=0,AND(N1803=\"同一区\",E1803=1))),\"該当２\",\"\")","v":""},"",{"$f":"IF(S1803=\"\",\"\",COUNTIF($S$7:S1803,\"該当２\"))","v":""},"","",{"$f":"IF(V1803=\"\",\"\",COUNTIF($V$7:V1803,\"該当３\"))","v":""}]
[2220905004,"22",209,{"v":5,"d":"05"},{"v":4,"d":"004"},"静岡県","島田市","伊久身村２－１","小川",null,"","",{"$f":"IF(K1804=\"\",\"\",COUNTIF($K$7:K1804,\"ﾘｽﾄ１\"))","v":""},"","","","","","","",{"$f":"IF(S1804=\"\",\"\",COUNTIF($S$7:S1804,\"該当２\"))","v":""},"","",{"$f":"IF(V1804=\"\",\"\",COUNTIF($V$7:V1804,\"該当３\"))","v":""}]
[2220905005,"22",209,{"v":5,"d":"05"},{"v":5,"d":"005"},"静岡県","島田市","伊久身村２－１","犬間",null,"","",{"$f":"IF(K1805=\"\",\"\",COUNTIF($K$7:K1805,\"ﾘｽﾄ１\"))","v":""},"","","","","","","",{"$f":"IF(S1805=\"\",\"\",COUNTIF($S$7:S1805,\"該当２\"))","v":""},"","",{"$f":"IF(V1805=\"\",\"\",COUNTIF($V$7:V1805,\"該当３\"))","v":""}]
[2220905006,"22",209,{"v":5,"d":"05"},{"v":6,"d":"006"},"静岡県","島田市","伊久身村２－１","長島",null,"","",{"$f":"IF(K1806=\"\",\"\",COUNTIF($K$7:K1806,\"ﾘｽﾄ１\"))","v":""},"","","","","","","",{"$f":"IF(S1806=\"\",\"\",COUNTIF($S$7:S1806,\"該当２\"))","v":""},"","",{"$f":"IF(V1806=\"\",\"\",COUNTIF($V$7:V1806,\"該当３\"))","v":""}]
[2220905007,"22",209,{"v":5,"d":"05"},{"v":7,"d":"007"},"静岡県","島田市","伊久身村２－１","川口",null,"","",{"$f":"IF(K1807=\"\",\"\",COUNTIF($K$7:K1807,\"ﾘｽﾄ１\"))","v":""},"","","","","","","",{"$f":"IF(S1807=\"\",\"\",COUNTIF($S$7:S1807,\"該当２\"))","v":""},"","",{"$f":"IF(V1807=\"\",\"\",COUNTIF($V$7:V1807,\"該当３\"))","v":""}]
[2220905008,"22",209,{"v":5,"d":"05"},{"v":8,"d":"008"},"静岡県","島田市","伊久身村２－１","鍋島",null,"","",{"$f":"IF(K1808=\"\",\"\",COUNTIF($K$7:K1808,\"ﾘｽﾄ１\"))","v":""},"","","","","","","",{"$f":"IF(S1808=\"\",\"\",COUNTIF($S$7:S1808,\"該当２\"))","v":""},"","",{"$f":"IF(V1808=\"\",\"\",COUNTIF($V$7:V1808,\"該当３\"))","v":""}]
[2220905009,"22",209,{"v":5,"d":"05"},{"v":9,"d":"009"},"静岡県","島田市","伊久身村２－１","丹原",null,"","",{"$f":"IF(K1809=\"\",\"\",COUNTIF($K$7:K1809,\"ﾘｽﾄ１\"))","v":""},"","","","","","","",{"$f":"IF(S1809=\"\",\"\",COUNTIF($S$7:S1809,\"該当２\"))","v":""},"","",{"$f":"IF(V1809=\"\",\"\",COUNTIF($V$7:V1809,\"該当３\"))","v":""}]
[2220906000,"22",209,{"v":6,"d":"06"},{"v":0,"d":"000"},"静岡県","島田市","笹間村２－１",null,null,"","",{"$f":"IF(K1810=\"\",\"\",COUNTIF($K$7:K1810,\"ﾘｽﾄ１\"))","v":""},"","","","","","","",{"$f":"IF(S1810=\"\",\"\",COUNTIF($S$7:S1810,\"該当２\"))","v":""},"","",{"$f":"IF(V1810=\"\",\"\",COUNTIF($V$7:V1810,\"該当３\"))","v":""}]
[2220906001,"22",209,{"v":6,"d":"06"},{"v":1,"d":"001"},"静岡県","島田市","笹間村２－１","大森",null,"","",{"$f":"IF(K1811=\"\",\"\",COUNTIF($K$7:K1811,\"ﾘｽﾄ１\"))","v":""},"","","","","","","",{"$f":"IF(S1811=\"\",\"\",COUNTIF($S$7:S1811,\"該当２\"))","v":""},"","",{"$f":"IF(V1811=\"\",\"\",COUNTIF($V$7:V1811,\"該当３\"))","v":""}]
[2220906002,"22",209,{"v":6,"d":"06"},{"v":2,"d":"002"},"静岡県","島田市","笹間村２－１","西向",null,"","",{"$f":"IF(K1812=\"\",\"\",COUNTIF($K$7:K1812,\"ﾘｽﾄ１\"))","v":""},"","","","","","","",{"$f":"IF(S1812=\"\",\"\",COUNTIF($S$7:S1812,\"該当２\"))","v":""},"","",{"$f":"IF(V1812=\"\",\"\",COUNTIF($V$7:V1812,\"該当３\"))","v":""}]
[2220906003,"22",209,{"v":6,"d":"06"},{"v":3,"d":"003"},"静岡県","島田市","笹間村２－１","大平",null,"","",{"$f":"IF(K1813=\"\",\"\",COUNTIF($K$7:K1813,\"ﾘｽﾄ１\"))","v":""},"","","","","","","",{"$f":"IF(S1813=\"\",\"\",COUNTIF($S$7:S1813,\"該当２\"))","v":""},"","",{"$f":"IF(V1813=\"\",\"\",COUNTIF($V$7:V1813,\"該当３\"))","v":""}]
[2220907000,"22",209,{"v":7,"d":"07"},{"v":0,"d":"000"},"静岡県","島田市","初倉村２－１",null,null,"","",{"$f":"IF(K1814=\"\",\"\",COUNTIF($K$7:K1814,\"ﾘｽﾄ１\"))","v":""},"","","","","","","",{"$f":"IF(S1814=\"\",\"\",COUNTIF($S$7:S1814,\"該当２\"))","v":""},"","",{"$f":"IF(V1814=\"\",\"\",COUNTIF($V$7:V1814,\"該当３\"))","v":""}]
[2220907001,"22",209,{"v":7,"d":"07"},{"v":1,"d":"001"},"静岡県","島田市","初倉村２－１","吹木",null,"","",{"$f":"IF(K1815=\"\",\"\",COUNTIF($K$7:K1815,\"ﾘｽﾄ１\"))","v":""},"","","","","","","",{"$f":"IF(S1815=\"\",\"\",COUNTIF($S$7:S1815,\"該当２\"))","v":""},"","",{"$f":"IF(V1815=\"\",\"\",COUNTIF($V$7:V1815,\"該当３\"))","v":""}]
[2220907002,"22",209,{"v":7,"d":"07"},{"v":2,"d":"002"},"静岡県","島田市","初倉村２－１","中講",null,"","",{"$f":"IF(K1816=\"\",\"\",COUNTIF($K$7:K1816,\"ﾘｽﾄ１\"))","v":""},"","","","","","","",{"$f":"IF(S1816=\"\",\"\",COUNTIF($S$7:S1816,\"該当２\"))","v":""},"","",{"$f":"IF(V1816=\"\",\"\",COUNTIF($V$7:V1816,\"該当３\"))","v":""}]
[2220907003,"22",209,{"v":7,"d":"07"},{"v":3,"d":"003"},"静岡県","島田市","初倉村２－１","本村",null,"","",{"$f":"IF(K1817=\"\",\"\",COUNTIF($K$7:K1817,\"ﾘｽﾄ１\"))","v":""},"","","","","","","",{"$f":"IF(S1817=\"\",\"\",COUNTIF($S$7:S1817,\"該当２\"))","v":""},"","",{"$f":"IF(V1817=\"\",\"\",COUNTIF($V$7:V1817,\"該当３\"))","v":""}]
[2220907004,"22",209,{"v":7,"d":"07"},{"v":4,"d":"004"},"静岡県","島田市","初倉村２－１","原の平",null,"","",{"$f":"IF(K1818=\"\",\"\",COUNTIF($K$7:K1818,\"ﾘｽﾄ１\"))","v":""},"","","","","","","",{"$f":"IF(S1818=\"\",\"\",COUNTIF($S$7:S1818,\"該当２\"))","v":""},"","",{"$f":"IF(V1818=\"\",\"\",COUNTIF($V$7:V1818,\"該当３\"))","v":""}]
[2220907005,"22",209,{"v":7,"d":"07"},{"v":5,"d":"005"},"静岡県","島田市","初倉村２－１","下湯日",null,"","",{"$f":"IF(K1819=\"\",\"\",COUNTIF($K$7:K1819,\"ﾘｽﾄ１\"))","v":""},"","","","","","","",{"$f":"IF(S1819=\"\",\"\",COUNTIF($S$7:S1819,\"該当２\"))","v":""},"","",{"$f":"IF(V1819=\"\",\"\",COUNTIF($V$7:V1819,\"該当３\"))","v":""}]
[2220907006,"22",209,{"v":7,"d":"07"},{"v":6,"d":"006"},"静岡県","島田市","初倉村２－１","沼伏",null,"","",{"$f":"IF(K1820=\"\",\"\",COUNTIF($K$7:K1820,\"ﾘｽﾄ１\"))","v":""},"","","","","","","",{"$f":"IF(S1820=\"\",\"\",COUNTIF($S$7:S1820,\"該当２\"))","v":""},"","",{"$f":"IF(V1820=\"\",\"\",COUNTIF($V$7:V1820,\"該当３\"))","v":""}]
[2220907007,"22",209,{"v":7,"d":"07"},{"v":7,"d":"007"},"静岡県","島田市","初倉村２－１","色尾西",null,"","",{"$f":"IF(K1821=\"\",\"\",COUNTIF($K$7:K1821,\"ﾘｽﾄ１\"))","v":""},"","","","","","","",{"$f":"IF(S1821=\"\",\"\",COUNTIF($S$7:S1821,\"該当２\"))","v":""},"","",{"$f":"IF(V1821=\"\",\"\",COUNTIF($V$7:V1821,\"該当３\"))","v":""}]
[2220907008,"22",209,{"v":7,"d":"07"},{"v":8,"d":"008"},"静岡県","島田市","初倉村２－１","色尾東",null,"","",{"$f":"IF(K1822=\"\",\"\",COUNTIF($K$7:K1822,\"ﾘｽﾄ１\"))","v":""},"","","","","","","",{"$f":"IF(S1822=\"\",\"\",COUNTIF($S$7:S1822,\"該当２\"))","v":""},"","",{"$f":"IF(V1822=\"\",\"\",COUNTIF($V$7:V1822,\"該当３\"))","v":""}]
[2220907009,"22",209,{"v":7,"d":"07"},{"v":9,"d":"009"},"静岡県","島田市","初倉村２－１","旧初上",null,"","",{"$f":"IF(K1823=\"\",\"\",COUNTIF($K$7:K1823,\"ﾘｽﾄ１\"))","v":""},"","","","","","","",{"$f":"IF(S1823=\"\",\"\",COUNTIF($S$7:S1823,\"該当２\"))","v":""},"","",{"$f":"IF(V1823=\"\",\"\",COUNTIF($V$7:V1823,\"該当３\"))","v":""}]
[2220907010,"22",209,{"v":7,"d":"07"},{"v":10,"d":"010"},"静岡県","島田市","初倉村２－１","旧初下",null,"","",{"$f":"IF(K1824=\"\",\"\",COUNTIF($K$7:K1824,\"ﾘｽﾄ１\"))","v":""},"","","","","","","",{"$f":"IF(S1824=\"\",\"\",COUNTIF($S$7:S1824,\"該当２\"))","v":""},"","",{"$f":"IF(V1824=\"\",\"\",COUNTIF($V$7:V1824,\"該当３\"))","v":""}]
[2220907011,"22",209,{"v":7,"d":"07"},{"v":11,"d":"011"},"静岡県","島田市","初倉村２－１","谷口上",null,"","",{"$f":"IF(K1825=\"\",\"\",COUNTIF($K$7:K1825,\"ﾘｽﾄ１\"))","v":""},"","","","","","","",{"$f":"IF(S1825=\"\",\"\",COUNTIF($S$7:S1825,\"該当２\"))","v":""},"","",{"$f":"IF(V1825=\"\",\"\",COUNTIF($V$7:V1825,\"該当３\"))","v":""}]
[2220907012,"22",209,{"v":7,"d":"07"},{"v":12,"d":"012"},"静岡県","島田市","初倉村２－１","谷口下",null,"","",{"$f":"IF(K1826=\"\",\"\",COUNTIF($K$7:K1826,\"ﾘｽﾄ１\"))","v":""},"","","","","","","",{"$f":"IF(S1826=\"\",\"\",COUNTIF($S$7:S1826,\"該当２\"))","v":""},"","",{"$f":"IF(V1826=\"\",\"\",COUNTIF($V$7:V1826,\"該当３\"))","v":""}]
[2220907013,"22",209,{"v":7,"d":"07"},{"v":13,"d":"013"},"静岡県","島田市","初倉村２－１","大柳上",null,"","",{"$f":"IF(K1827=\"\",\"\",COUNTIF($K$7:K1827,\"ﾘｽﾄ１\"))","v":""},"","","","","","","",{"$f":"IF(S1827=\"\",\"\",COUNTIF($S$7:S1827,\"該当２\"))","v":""},"","",{"$f":"IF(V1827=\"\",\"\",COUNTIF($V$7:V1827,\"該当３\"))","v":""}]
[2220907014,"22",209,{"v":7,"d":"07"},{"v":14,"d":"014"},"静岡県","島田市","初倉村２－１","大柳下",null,"","",{"$f":"IF(K1828=\"\",\"\",COUNTIF($K$7:K1828,\"ﾘｽﾄ１\"))","v":""},"","","","","","","",{"$f":"IF(S1828=\"\",\"\",COUNTIF($S$7:S1828,\"該当２\"))","v":""},"","",{"$f":"IF(V1828=\"\",\"\",COUNTIF($V$7:V1828,\"該当３\"))","v":""}]
[2220907015,"22",209,{"v":7,"d":"07"},{"v":15,"d":"015"},"静岡県","島田市","初倉村２－１","中河",null,"","",{"$f":"IF(K1829=\"\",\"\",COUNTIF($K$7:K1829,\"ﾘｽﾄ１\"))","v":""},"","","","","","","",{"$f":"IF(S1829=\"\",\"\",COUNTIF($S$7:S1829,\"該当２\"))","v":""},"","",{"$f":"IF(V1829=\"\",\"\",COUNTIF($V$7:V1829,\"該当３\"))","v":""}]
[2220907016,"22",209,{"v":7,"d":"07"},{"v":16,"d":"016"},"静岡県","島田市","初倉村２－１","井口上",null,"","",{"$f":"IF(K1830=\"\",\"\",COUNTIF($K$7:K1830,\"ﾘｽﾄ１\"))","v":""},"","","","","","","",{"$f":"IF(S1830=\"\",\"\",COUNTIF($S$7:S1830,\"該当２\"))","v":""},"","",{"$f":"IF(V1830=\"\",\"\",COUNTIF($V$7:V1830,\"該当３\"))","v":""}]
[2220907017,"22",209,{"v":7,"d":"07"},{"v":17,"d":"017"},"静岡県","島田市","初倉村２－１","井口下",null,"","",{"$f":"IF(K1831=\"\",\"\",COUNTIF($K$7:K1831,\"ﾘｽﾄ１\"))","v":""},"","","","","","","",{"$f":"IF(S1831=\"\",\"\",COUNTIF($S$7:S1831,\"該当２\"))","v":""},"","",{"$f":"IF(V1831=\"\",\"\",COUNTIF($V$7:V1831,\"該当３\"))","v":""}]
[2220907018,"22",209,{"v":7,"d":"07"},{"v":18,"d":"018"},"静岡県","島田市","初倉村２－１","南原",null,"","",{"$f":"IF(K1832=\"\",\"\",COUNTIF($K$7:K1832,\"ﾘｽﾄ１\"))","v":""},"","","","","","","",{"$f":"IF(S1832=\"\",\"\",COUNTIF($S$7:S1832,\"該当２\"))","v":""},"","",{"$f":"IF(V1832=\"\",\"\",COUNTIF($V$7:V1832,\"該当３\"))","v":""}]
[2220907019,"22",209,{"v":7,"d":"07"},{"v":19,"d":"019"},"静岡県","島田市","初倉村２－１","岡田",null,"","",{"$f":"IF(K1833=\"\",\"\",COUNTIF($K$7:K1833,\"ﾘｽﾄ１\"))","v":""},"","","","","","","",{"$f":"IF(S1833=\"\",\"\",COUNTIF($S$7:S1833,\"該当２\"))","v":""},"","",{"$f":"IF(V1833=\"\",\"\",COUNTIF($V$7:V1833,\"該当３\"))","v":""}]
[2220908000,"22",209,{"v":8,"d":"08"},{"v":0,"d":"000"},"静岡県","島田市","金谷町",null,null,"","",{"$f":"IF(K1834=\"\",\"\",COUNTIF($K$7:K1834,\"ﾘｽﾄ１\"))","v":""},"","","","","","","",{"$f":"IF(S1834=\"\",\"\",COUNTIF($S$7:S1834,\"該当２\"))","v":""},"","",{"$f":"IF(V1834=\"\",\"\",COUNTIF($V$7:V1834,\"該当３\"))","v":""}]
[2220908001,"22",209,{"v":8,"d":"08"},{"v":1,"d":"001"},"静岡県","島田市","金谷町","神谷城東",null,"","",{"$f":"IF(K1835=\"\",\"\",COUNTIF($K$7:K1835,\"ﾘｽﾄ１\"))","v":""},"","","","","","","",{"$f":"IF(S1835=\"\",\"\",COUNTIF($S$7:S1835,\"該当２\"))","v":""},"","",{"$f":"IF(V1835=\"\",\"\",COUNTIF($V$7:V1835,\"該当３\"))","v":""}]
[2220908002,"22",209,{"v":8,"d":"08"},{"v":2,"d":"002"},"静岡県","島田市","金谷町","神谷城西",null,"","",{"$f":"IF(K1836=\"\",\"\",COUNTIF($K$7:K1836,\"ﾘｽﾄ１\"))","v":""},"","","","","","","",{"$f":"IF(S1836=\"\",\"\",COUNTIF($S$7:S1836,\"該当２\"))","v":""},"","",{"$f":"IF(V1836=\"\",\"\",COUNTIF($V$7:V1836,\"該当３\"))","v":""}]
[2220908003,"22",209,{"v":8,"d":"08"},{"v":3,"d":"003"},"静岡県","島田市","金谷町","神谷城下",null,"","",{"$f":"IF(K1837=\"\",\"\",COUNTIF($K$7:K1837,\"ﾘｽﾄ１\"))","v":""},"","","","","","","",{"$f":"IF(S1837=\"\",\"\",COUNTIF($S$7:S1837,\"該当２\"))","v":""},"","",{"$f":"IF(V1837=\"\",\"\",COUNTIF($V$7:V1837,\"該当３\"))","v":""}]
[2220908004,"22",209,{"v":8,"d":"08"},{"v":4,"d":"004"},"静岡県","島田市","金谷町","菊川新谷",null,"","",{"$f":"IF(K1838=\"\",\"\",COUNTIF($K$7:K1838,\"ﾘｽﾄ１\"))","v":""},"","","","","","","",{"$f":"IF(S1838=\"\",\"\",COUNTIF($S$7:S1838,\"該当２\"))","v":""},"","",{"$f":"IF(V1838=\"\",\"\",COUNTIF($V$7:V1838,\"該当３\"))","v":""}]
[2220908005,"22",209,{"v":8,"d":"08"},{"v":5,"d":"005"},"静岡県","島田市","金谷町","菊川平",null,"","",{"$f":"IF(K1839=\"\",\"\",COUNTIF($K$7:K1839,\"ﾘｽﾄ１\"))","v":""},"","","","","","","",{"$f":"IF(S1839=\"\",\"\",COUNTIF($S$7:S1839,\"該当２\"))","v":""},"","",{"$f":"IF(V1839=\"\",\"\",COUNTIF($V$7:V1839,\"該当３\"))","v":""}]
[2220908006,"22",209,{"v":8,"d":"08"},{"v":6,"d":"006"},"静岡県","島田市","金谷町","菊川川向",null,"","",{"$f":"IF(K1840=\"\",\"\",COUNTIF($K$7:K1840,\"ﾘｽﾄ１\"))","v":""},"","","","","","","",{"$f":"IF(S1840=\"\",\"\",COUNTIF($S$7:S1840,\"該当２\"))","v":""},"","",{"$f":"IF(V1840=\"\",\"\",COUNTIF($V$7:V1840,\"該当３\"))","v":""}]
[2220908007,"22",209,{"v":8,"d":"08"},{"v":7,"d":"007"},"静岡県","島田市","金谷町","菊川松島",null,"","",{"$f":"IF(K1841=\"\",\"\",COUNTIF($K$7:K1841,\"ﾘｽﾄ１\"))","v":""},"","","","","","","",{"$f":"IF(S1841=\"\",\"\",COUNTIF($S$7:S1841,\"該当２\"))","v":""},"","",{"$f":"IF(V1841=\"\",\"\",COUNTIF($V$7:V1841,\"該当３\"))","v":""}]
[2220908008,"22",209,{"v":8,"d":"08"},{"v":8,"d":"008"},"静岡県","島田市","金谷町","牧之原",null,"","",{"$f":"IF(K1842=\"\",\"\",COUNTIF($K$7:K1842,\"ﾘｽﾄ１\"))","v":""},"","","","","","","",{"$f":"IF(S1842=\"\",\"\",COUNTIF($S$7:S1842,\"該当２\"))","v":""},"","",{"$f":"IF(V1842=\"\",\"\",COUNTIF($V$7:V1842,\"該当３\"))","v":""}]
[2220908009,"22",209,{"v":8,"d":"08"},{"v":9,"d":"009"},"静岡県","島田市","金谷町","泉町",null,"","",{"$f":"IF(K1843=\"\",\"\",COUNTIF($K$7:K1843,\"ﾘｽﾄ１\"))","v":""},"","","","","","","",{"$f":"IF(S1843=\"\",\"\",COUNTIF($S$7:S1843,\"該当２\"))","v":""},"","",{"$f":"IF(V1843=\"\",\"\",COUNTIF($V$7:V1843,\"該当３\"))","v":""}]
[2220908010,"22",209,{"v":8,"d":"08"},{"v":10,"d":"010"},"静岡県","島田市","金谷町","東町",null,"","",{"$f":"IF(K1844=\"\",\"\",COUNTIF($K$7:K1844,\"ﾘｽﾄ１\"))","v":""},"","","","","","","",{"$f":"IF(S1844=\"\",\"\",COUNTIF($S$7:S1844,\"該当２\"))","v":""},"","",{"$f":"IF(V1844=\"\",\"\",COUNTIF($V$7:V1844,\"該当３\"))","v":""}]
[2220908011,"22",209,{"v":8,"d":"08"},{"v":11,"d":"011"},"静岡県","島田市","金谷町","大和町",null,"","",{"$f":"IF(K1845=\"\",\"\",COUNTIF($K$7:K1845,\"ﾘｽﾄ１\"))","v":""},"","","","","","","",{"$f":"IF(S1845=\"\",\"\",COUNTIF($S$7:S1845,\"該当２\"))","v":""},"","",{"$f":"IF(V1845=\"\",\"\",COUNTIF($V$7:V1845,\"該当３\"))","v":""}]
[2220908012,"22",209,{"v":8,"d":"08"},{"v":12,"d":"012"},"静岡県","島田市","金谷町","緑町",null,"","",{"$f":"IF(K1846=\"\",\"\",COUNTIF($K$7:K1846,\"ﾘｽﾄ１\"))","v":""},"","","","","","","",{"$f":"IF(S1846=\"\",\"\",COUNTIF($S$7:S1846,\"該当２\"))","v":""},"","",{"$f":"IF(V1846=\"\",\"\",COUNTIF($V$7:V1846,\"該当３\"))","v":""}]
[2220908013,"22",209,{"v":8,"d":"08"},{"v":13,"d":"013"},"静岡県","島田市","金谷町","古横町",null,"","",{"$f":"IF(K1847=\"\",\"\",COUNTIF($K$7:K1847,\"ﾘｽﾄ１\"))","v":""},"","","","","","","",{"$f":"IF(S1847=\"\",\"\",COUNTIF($S$7:S1847,\"該当２\"))","v":""},"","",{"$f":"IF(V1847=\"\",\"\",COUNTIF($V$7:V1847,\"該当３\"))","v":""}]
[2220908014,"22",209,{"v":8,"d":"08"},{"v":14,"d":"014"},"静岡県","島田市","金谷町","根岸",null,"","",{"$f":"IF(K1848=\"\",\"\",COUNTIF($K$7:K1848,\"ﾘｽﾄ１\"))","v":""},"","","","","","","",{"$f":"IF(S1848=\"\",\"\",COUNTIF($S$7:S1848,\"該当２\"))","v":""},"","",{"$f":"IF(V1848=\"\",\"\",COUNTIF($V$7:V1848,\"該当３\"))","v":""}]
[2220908015,"22",209,{"v":8,"d":"08"},{"v":15,"d":"015"},"静岡県","島田市","金谷町","代官町",null,"","",{"$f":"IF(K1849=\"\",\"\",COUNTIF($K$7:K1849,\"ﾘｽﾄ１\"))","v":""},"","","","","","","",{"$f":"IF(S1849=\"\",\"\",COUNTIF($S$7:S1849,\"該当２\"))","v":""},"","",{"$f":"IF(V1849=\"\",\"\",COUNTIF($V$7:V1849,\"該当３\"))","v":""}]
[2220908016,"22",209,{"v":8,"d":"08"},{"v":16,"d":"016"},"静岡県","島田市","金谷町","清水・横丁",null,"","",{"$f":"IF(K1850=\"\",\"\",COUNTIF($K$7:K1850,\"ﾘｽﾄ１\"))","v":""},"","","","","","","",{"$f":"IF(S1850=\"\",\"\",COUNTIF($S$7:S1850,\"該当２\"))","v":""},"","",{"$f":"IF(V1850=\"\",\"\",COUNTIF($V$7:V1850,\"該当３\"))","v":""}]
[2220908017,"22",209,{"v":8,"d":"08"},{"v":17,"d":"017"},"静岡県","島田市","金谷町","天王町",null,"","",{"$f":"IF(K1851=\"\",\"\",COUNTIF($K$7:K1851,\"ﾘｽﾄ１\"))","v":""},"","","","","","","",{"$f":"IF(S1851=\"\",\"\",COUNTIF($S$7:S1851,\"該当２\"))","v":""},"","",{"$f":"IF(V1851=\"\",\"\",COUNTIF($V$7:V1851,\"該当３\"))","v":""}]
[2220908018,"22",209,{"v":8,"d":"08"},{"v":18,"d":"018"},"静岡県","島田市","金谷町","二軒家",null,"","",{"$f":"IF(K1852=\"\",\"\",COUNTIF($K$7:K1852,\"ﾘｽﾄ１\"))","v":""},"","","","","","","",{"$f":"IF(S1852=\"\",\"\",COUNTIF($S$7:S1852,\"該当２\"))","v":""},"","",{"$f":"IF(V1852=\"\",\"\",COUNTIF($V$7:V1852,\"該当３\"))","v":""}]
[2220908019,"22",209,{"v":8,"d":"08"},{"v":19,"d":"019"},"静岡県","島田市","金谷町","猪土居",null,"","",{"$f":"IF(K1853=\"\",\"\",COUNTIF($K$7:K1853,\"ﾘｽﾄ１\"))","v":""},"","","","","","","",{"$f":"IF(S1853=\"\",\"\",COUNTIF($S$7:S1853,\"該当２\"))","v":""},"","",{"$f":"IF(V1853=\"\",\"\",COUNTIF($V$7:V1853,\"該当３\"))","v":""}]
[2220908020,"22",209,{"v":8,"d":"08"},{"v":20,"d":"020"},"静岡県","島田市","金谷町","坂町",null,"","",{"$f":"IF(K1854=\"\",\"\",COUNTIF($K$7:K1854,\"ﾘｽﾄ１\"))","v":""},"","","","","","","",{"$f":"IF(S1854=\"\",\"\",COUNTIF($S$7:S1854,\"該当２\"))","v":""},"","",{"$f":"IF(V1854=\"\",\"\",COUNTIF($V$7:V1854,\"該当３\"))","v":""}]
[2220908021,"22",209,{"v":8,"d":"08"},{"v":21,"d":"021"},"静岡県","島田市","金谷町","本町",null,"","",{"$f":"IF(K1855=\"\",\"\",COUNTIF($K$7:K1855,\"ﾘｽﾄ１\"))","v":""},"","","","","","","",{"$f":"IF(S1855=\"\",\"\",COUNTIF($S$7:S1855,\"該当２\"))","v":""},"","",{"$f":"IF(V1855=\"\",\"\",COUNTIF($V$7:V1855,\"該当３\"))","v":""}]
[2220908022,"22",209,{"v":8,"d":"08"},{"v":22,"d":"022"},"静岡県","島田市","金谷町","中町",null,"","",{"$f":"IF(K1856=\"\",\"\",COUNTIF($K$7:K1856,\"ﾘｽﾄ１\"))","v":""},"","","","","","","",{"$f":"IF(S1856=\"\",\"\",COUNTIF($S$7:S1856,\"該当２\"))","v":""},"","",{"$f":"IF(V1856=\"\",\"\",COUNTIF($V$7:V1856,\"該当３\"))","v":""}]
[2220908023,"22",209,{"v":8,"d":"08"},{"v":23,"d":"023"},"静岡県","島田市","金谷町","扇町",null,"","",{"$f":"IF(K1857=\"\",\"\",COUNTIF($K$7:K1857,\"ﾘｽﾄ１\"))","v":""},"","","","","","","",{"$f":"IF(S1857=\"\",\"\",COUNTIF($S$7:S1857,\"該当２\"))","v":""},"","",{"$f":"IF(V1857=\"\",\"\",COUNTIF($V$7:V1857,\"該当３\"))","v":""}]
[2220908024,"22",209,{"v":8,"d":"08"},{"v":24,"d":"024"},"静岡県","島田市","金谷町","宮崎町・栄町",null,"","",{"$f":"IF(K1858=\"\",\"\",COUNTIF($K$7:K1858,\"ﾘｽﾄ１\"))","v":""},"","","","","","","",{"$f":"IF(S1858=\"\",\"\",COUNTIF($S$7:S1858,\"該当２\"))","v":""},"","",{"$f":"IF(V1858=\"\",\"\",COUNTIF($V$7:V1858,\"該当３\"))","v":""}]
[2220909000,"22",209,{"v":9,"d":"09"},{"v":0,"d":"000"},"静岡県","島田市","五和村",null,null,"","",{"$f":"IF(K1859=\"\",\"\",COUNTIF($K$7:K1859,\"ﾘｽﾄ１\"))","v":""},"","","","","","","",{"$f":"IF(S1859=\"\",\"\",COUNTIF($S$7:S1859,\"該当２\"))","v":""},"","",{"$f":"IF(V1859=\"\",\"\",COUNTIF($V$7:V1859,\"該当３\"))","v":""}]
[2220909001,"22",209,{"v":9,"d":"09"},{"v":1,"d":"001"},"静岡県","島田市","五和村","高熊",null,"","",{"$f":"IF(K1860=\"\",\"\",COUNTIF($K$7:K1860,\"ﾘｽﾄ１\"))","v":""},"","","","","","","",{"$f":"IF(S1860=\"\",\"\",COUNTIF($S$7:S1860,\"該当２\"))","v":""},"","",{"$f":"IF(V1860=\"\",\"\",COUNTIF($V$7:V1860,\"該当３\"))","v":""}]
[2220909002,"22",209,{"v":9,"d":"09"},{"v":2,"d":"002"},"静岡県","島田市","五和村","福用",null,"","",{"$f":"IF(K1861=\"\",\"\",COUNTIF($K$7:K1861,\"ﾘｽﾄ１\"))","v":""},"","","","","","","",{"$f":"IF(S1861=\"\",\"\",COUNTIF($S$7:S1861,\"該当２\"))","v":""},"","",{"$f":"IF(V1861=\"\",\"\",COUNTIF($V$7:V1861,\"該当３\"))","v":""}]
[2220909003,"22",209,{"v":9,"d":"09"},{"v":3,"d":"003"},"静岡県","島田市","五和村","神尾",null,"","",{"$f":"IF(K1862=\"\",\"\",COUNTIF($K$7:K1862,\"ﾘｽﾄ１\"))","v":""},"","","","","","","",{"$f":"IF(S1862=\"\",\"\",COUNTIF($S$7:S1862,\"該当２\"))","v":""},"","",{"$f":"IF(V1862=\"\",\"\",COUNTIF($V$7:V1862,\"該当３\"))","v":""}]
[2220909004,"22",209,{"v":9,"d":"09"},{"v":4,"d":"004"},"静岡県","島田市","五和村","横岡上",null,"","",{"$f":"IF(K1863=\"\",\"\",COUNTIF($K$7:K1863,\"ﾘｽﾄ１\"))","v":""},"","","","","","","",{"$f":"IF(S1863=\"\",\"\",COUNTIF($S$7:S1863,\"該当２\"))","v":""},"","",{"$f":"IF(V1863=\"\",\"\",COUNTIF($V$7:V1863,\"該当３\"))","v":""}]
[2220909005,"22",209,{"v":9,"d":"09"},{"v":5,"d":"005"},"静岡県","島田市","五和村","横岡中",null,"","",{"$f":"IF(K1864=\"\",\"\",COUNTIF($K$7:K1864,\"ﾘｽﾄ１\"))","v":""},"","","","","","","",{"$f":"IF(S1864=\"\",\"\",COUNTIF($S$7:S1864,\"該当２\"))","v":""},"","",{"$f":"IF(V1864=\"\",\"\",COUNTIF($V$7:V1864,\"該当３\"))","v":""}]
[2220909006,"22",209,{"v":9,"d":"09"},{"v":6,"d":"006"},"静岡県","島田市","五和村","横岡下",null,"","",{"$f":"IF(K1865=\"\",\"\",COUNTIF($K$7:K1865,\"ﾘｽﾄ１\"))","v":""},"","","","","","","",{"$f":"IF(S1865=\"\",\"\",COUNTIF($S$7:S1865,\"該当２\"))","v":""},"","",{"$f":"IF(V1865=\"\",\"\",COUNTIF($V$7:V1865,\"該当３\"))","v":""}]
[2220909007,"22",209,{"v":9,"d":"09"},{"v":7,"d":"007"},"静岡県","島田市","五和村","竹下東",null,"","",{"$f":"IF(K1866=\"\",\"\",COUNTIF($K$7:K1866,\"ﾘｽﾄ１\"))","v":""},"","",{"$f":"IF(O1866=\"該当１\",G1866,\"\")","v":""},{"$f":"IF(O1866=\"該当１\",\"ﾘｽﾄ2\",\"\")","v":""},{"$f":"IF(Q1866=\"ﾘｽﾄ2\",H1866,\"\")","v":""},"",{"$f":"IF(S1866=\"該当２\",H1866,\"\")","v":""},{"$f":"IF(S1866=\"\",\"\",COUNTIF($S$7:S1866,\"該当２\"))","v":""},{"$f":"IF(AND($S$2=H1866,E1866>0,E1866<998),\"該当３\",\"\")","v":""},{"$f":"IF(V1866=\"該当３\",I1866,\"\")","v":""},{"$f":"IF(V1866=\"\",\"\",COUNTIF($V$7:V1866,\"該当３\"))","v":""}]
[2220909008,"22",209,{"v":9,"d":"09"},{"v":8,"d":"008"},"静岡県","島田市","五和村","竹下下",null,{"$f":"IF(AND($C1867>0,$H1867=\"\"),\"ﾘｽﾄ１\",\"\")","v":""},{"$f":"IF(K1867=\"ﾘｽﾄ１\",G1867,\"\")","v":""},{"$f":"IF(K1867=\"\",\"\",COUNTIF($K$7:K1867,\"ﾘｽﾄ１\"))","v":""},{"$f":"IF(AND(D1867=0,E1867>0),\"同一区\",\"\")","v":""},{"$f":"IF(AND(EXACT($K$2,G1867),H1867>0),\"該当１\",\"\")","v":""},"","","",{"$f":"IF(AND(Q1867=\"ﾘｽﾄ2\",OR(I1867=0,AND(N1867=\"同一区\",E1867=1))),\"該当２\",\"\")","v":""},"",{"$f":"IF(S1867=\"\",\"\",COUNTIF($S$7:S1867,\"該当２\"))","v":""},"","",{"$f":"IF(V1867=\"\",\"\",COUNTIF($V$7:V1867,\"該当３\"))","v":""}]
[2220909009,"22",209,{"v":9,"d":"09"},{"v":9,"d":"009"},"静岡県","島田市","五和村","竹下西",null,"","",{"$f":"IF(K1868=\"\",\"\",COUNTIF($K$7:K1868,\"ﾘｽﾄ１\"))","v":""},"","","","","","","",{"$f":"IF(S1868=\"\",\"\",COUNTIF($S$7:S1868,\"該当２\"))","v":""},"","",{"$f":"IF(V1868=\"\",\"\",COUNTIF($V$7:V1868,\"該当３\"))","v":""}]
[2220909010,"22",209,{"v":9,"d":"09"},{"v":10,"d":"010"},"静岡県","島田市","五和村","牛尾上",null,"","",{"$f":"IF(K1869=\"\",\"\",COUNTIF($K$7:K1869,\"ﾘｽﾄ１\"))","v":""},"","","","","","","",{"$f":"IF(S1869=\"\",\"\",COUNTIF($S$7:S1869,\"該当２\"))","v":""},"","",{"$f":"IF(V1869=\"\",\"\",COUNTIF($V$7:V1869,\"該当３\"))","v":""}]
[2220909011,"22",209,{"v":9,"d":"09"},{"v":11,"d":"011"},"静岡県","島田市","五和村","牛尾下",null,"","",{"$f":"IF(K1870=\"\",\"\",COUNTIF($K$7:K1870,\"ﾘｽﾄ１\"))","v":""},"","","","","","","",{"$f":"IF(S1870=\"\",\"\",COUNTIF($S$7:S1870,\"該当２\"))","v":""},"","",{"$f":"IF(V1870=\"\",\"\",COUNTIF($V$7:V1870,\"該当３\"))","v":""}]
[2220909012,"22",209,{"v":9,"d":"09"},{"v":12,"d":"012"},"静岡県","島田市","五和村","島東",null,"","",{"$f":"IF(K1871=\"\",\"\",COUNTIF($K$7:K1871,\"ﾘｽﾄ１\"))","v":""},"","","","","","","",{"$f":"IF(S1871=\"\",\"\",COUNTIF($S$7:S1871,\"該当２\"))","v":""},"","",{"$f":"IF(V1871=\"\",\"\",COUNTIF($V$7:V1871,\"該当３\"))","v":""}]
[2220909013,"22",209,{"v":9,"d":"09"},{"v":13,"d":"013"},"静岡県","島田市","五和村","島西",null,"","",{"$f":"IF(K1872=\"\",\"\",COUNTIF($K$7:K1872,\"ﾘｽﾄ１\"))","v":""},"","","","","","","",{"$f":"IF(S1872=\"\",\"\",COUNTIF($S$7:S1872,\"該当２\"))","v":""},"","",{"$f":"IF(V1872=\"\",\"\",COUNTIF($V$7:V1872,\"該当３\"))","v":""}]
[2220909014,"22",209,{"v":9,"d":"09"},{"v":14,"d":"014"},"静岡県","島田市","五和村","番生寺上",null,"","",{"$f":"IF(K1873=\"\",\"\",COUNTIF($K$7:K1873,\"ﾘｽﾄ１\"))","v":""},"","","","","","","",{"$f":"IF(S1873=\"\",\"\",COUNTIF($S$7:S1873,\"該当２\"))","v":""},"","",{"$f":"IF(V1873=\"\",\"\",COUNTIF($V$7:V1873,\"該当３\"))","v":""}]
[2220909015,"22",209,{"v":9,"d":"09"},{"v":15,"d":"015"},"静岡県","島田市","五和村","番生寺中",null,"","",{"$f":"IF(K1874=\"\",\"\",COUNTIF($K$7:K1874,\"ﾘｽﾄ１\"))","v":""},"","","","","","","",{"$f":"IF(S1874=\"\",\"\",COUNTIF($S$7:S1874,\"該当２\"))","v":""},"","",{"$f":"IF(V1874=\"\",\"\",COUNTIF($V$7:V1874,\"該当３\"))","v":""}]
[2220909016,"22",209,{"v":9,"d":"09"},{"v":16,"d":"016"},"静岡県","島田市","五和村","番生寺下",null,"","",{"$f":"IF(K1875=\"\",\"\",COUNTIF($K$7:K1875,\"ﾘｽﾄ１\"))","v":""},"","","","","","","",{"$f":"IF(S1875=\"\",\"\",COUNTIF($S$7:S1875,\"該当２\"))","v":""},"","",{"$f":"IF(V1875=\"\",\"\",COUNTIF($V$7:V1875,\"該当３\"))","v":""}]
[2220909017,"22",209,{"v":9,"d":"09"},{"v":17,"d":"017"},"静岡県","島田市","五和村","番生寺西",null,"","",{"$f":"IF(K1876=\"\",\"\",COUNTIF($K$7:K1876,\"ﾘｽﾄ１\"))","v":""},"","","","","","","",{"$f":"IF(S1876=\"\",\"\",COUNTIF($S$7:S1876,\"該当２\"))","v":""},"","",{"$f":"IF(V1876=\"\",\"\",COUNTIF($V$7:V1876,\"該当３\"))","v":""}]
[2220909018,"22",209,{"v":9,"d":"09"},{"v":18,"d":"018"},"静岡県","島田市","五和村","志戸呂上",null,"","",{"$f":"IF(K1877=\"\",\"\",COUNTIF($K$7:K1877,\"ﾘｽﾄ１\"))","v":""},"","","","","","","",{"$f":"IF(S1877=\"\",\"\",COUNTIF($S$7:S1877,\"該当２\"))","v":""},"","",{"$f":"IF(V1877=\"\",\"\",COUNTIF($V$7:V1877,\"該当３\"))","v":""}]
[2220909019,"22",209,{"v":9,"d":"09"},{"v":19,"d":"019"},"静岡県","島田市","五和村","志戸呂下",null,"","",{"$f":"IF(K1878=\"\",\"\",COUNTIF($K$7:K1878,\"ﾘｽﾄ１\"))","v":""},"","","","","","","",{"$f":"IF(S1878=\"\",\"\",COUNTIF($S$7:S1878,\"該当２\"))","v":""},"","",{"$f":"IF(V1878=\"\",\"\",COUNTIF($V$7:V1878,\"該当３\"))","v":""}]
[2220909020,"22",209,{"v":9,"d":"09"},{"v":20,"d":"020"},"静岡県","島田市","五和村","大代上",null,"","",{"$f":"IF(K1879=\"\",\"\",COUNTIF($K$7:K1879,\"ﾘｽﾄ１\"))","v":""},"","","","","","","",{"$f":"IF(S1879=\"\",\"\",COUNTIF($S$7:S1879,\"該当２\"))","v":""},"","",{"$f":"IF(V1879=\"\",\"\",COUNTIF($V$7:V1879,\"該当３\"))","v":""}]
[2220909021,"22",209,{"v":9,"d":"09"},{"v":21,"d":"021"},"静岡県","島田市","五和村","大代中",null,"","",{"$f":"IF(K1880=\"\",\"\",COUNTIF($K$7:K1880,\"ﾘｽﾄ１\"))","v":""},"","","","","","","",{"$f":"IF(S1880=\"\",\"\",COUNTIF($S$7:S1880,\"該当２\"))","v":""},"","",{"$f":"IF(V1880=\"\",\"\",COUNTIF($V$7:V1880,\"該当３\"))","v":""}]
[2220909022,"22",209,{"v":9,"d":"09"},{"v":22,"d":"022"},"静岡県","島田市","五和村","大代下",null,"","",{"$f":"IF(K1881=\"\",\"\",COUNTIF($K$7:K1881,\"ﾘｽﾄ１\"))","v":""},"","","","","","","",{"$f":"IF(S1881=\"\",\"\",COUNTIF($S$7:S1881,\"該当２\"))","v":""},"","",{"$f":"IF(V1881=\"\",\"\",COUNTIF($V$7:V1881,\"該当３\"))","v":""}]
[2220910000,"22",209,10,{"v":0,"d":"000"},"静岡県","島田市","初倉村２－２",null,null,"","",{"$f":"IF(K1882=\"\",\"\",COUNTIF($K$7:K1882,\"ﾘｽﾄ１\"))","v":""},"","","","","","","",{"$f":"IF(S1882=\"\",\"\",COUNTIF($S$7:S1882,\"該当２\"))","v":""},"","",{"$f":"IF(V1882=\"\",\"\",COUNTIF($V$7:V1882,\"該当３\"))","v":""}]
[2220910001,"22",209,10,{"v":1,"d":"001"},"静岡県","島田市","初倉村２－２","猪土居",null,"","",{"$f":"IF(K1883=\"\",\"\",COUNTIF($K$7:K1883,\"ﾘｽﾄ１\"))","v":""},"","","","","","","",{"$f":"IF(S1883=\"\",\"\",COUNTIF($S$7:S1883,\"該当２\"))","v":""},"","",{"$f":"IF(V1883=\"\",\"\",COUNTIF($V$7:V1883,\"該当３\"))","v":""}]
[2220911000,"22",209,11,{"v":0,"d":"000"},"静岡県","島田市","勝間田村２－２",null,null,"","",{"$f":"IF(K1884=\"\",\"\",COUNTIF($K$7:K1884,\"ﾘｽﾄ１\"))","v":""},"","","","","","","",{"$f":"IF(S1884=\"\",\"\",COUNTIF($S$7:S1884,\"該当２\"))","v":""},"","",{"$f":"IF(V1884=\"\",\"\",COUNTIF($V$7:V1884,\"該当３\"))","v":""}]
[2220911001,"22",209,11,{"v":1,"d":"001"},"静岡県","島田市","勝間田村２－２","切山",null,"","",{"$f":"IF(K1885=\"\",\"\",COUNTIF($K$7:K1885,\"ﾘｽﾄ１\"))","v":""},"","","","","","","",{"$f":"IF(S1885=\"\",\"\",COUNTIF($S$7:S1885,\"該当２\"))","v":""},"","",{"$f":"IF(V1885=\"\",\"\",COUNTIF($V$7:V1885,\"該当３\"))","v":""}]
[2220911002,"22",209,11,{"v":2,"d":"002"},"静岡県","島田市","勝間田村２－２","猪土居",null,"","",{"$f":"IF(K1886=\"\",\"\",COUNTIF($K$7:K1886,\"ﾘｽﾄ１\"))","v":""},"","","","","","","",{"$f":"IF(S1886=\"\",\"\",COUNTIF($S$7:S1886,\"該当２\"))","v":""},"","",{"$f":"IF(V1886=\"\",\"\",COUNTIF($V$7:V1886,\"該当３\"))","v":""}]
[2220912000,"22",209,12,{"v":0,"d":"000"},"静岡県","島田市","日坂村２－２",null,null,"","",{"$f":"IF(K1887=\"\",\"\",COUNTIF($K$7:K1887,\"ﾘｽﾄ１\"))","v":""},"","","","","","","",{"$f":"IF(S1887=\"\",\"\",COUNTIF($S$7:S1887,\"該当２\"))","v":""},"","",{"$f":"IF(V1887=\"\",\"\",COUNTIF($V$7:V1887,\"該当３\"))","v":""}]
[2220912001,"22",209,12,{"v":1,"d":"001"},"静岡県","島田市","日坂村２－２","小夜鹿",null,"","",{"$f":"IF(K1888=\"\",\"\",COUNTIF($K$7:K1888,\"ﾘｽﾄ１\"))","v":""},"","","","","","","",{"$f":"IF(S1888=\"\",\"\",COUNTIF($S$7:S1888,\"該当２\"))","v":""},"","",{"$f":"IF(V1888=\"\",\"\",COUNTIF($V$7:V1888,\"該当３\"))","v":""}]
[2220913000,"22",209,13,{"v":0,"d":"000"},"静岡県","島田市","下川根村",null,null,"","",{"$f":"IF(K1889=\"\",\"\",COUNTIF($K$7:K1889,\"ﾘｽﾄ１\"))","v":""},"","","","","","","",{"$f":"IF(S1889=\"\",\"\",COUNTIF($S$7:S1889,\"該当２\"))","v":""},"","",{"$f":"IF(V1889=\"\",\"\",COUNTIF($V$7:V1889,\"該当３\"))","v":""}]
[2220913001,"22",209,13,{"v":1,"d":"001"},"静岡県","島田市","下川根村","市場",null,"","",{"$f":"IF(K1890=\"\",\"\",COUNTIF($K$7:K1890,\"ﾘｽﾄ１\"))","v":""},"","","","","","","",{"$f":"IF(S1890=\"\",\"\",COUNTIF($S$7:S1890,\"該当２\"))","v":""},"","",{"$f":"IF(V1890=\"\",\"\",COUNTIF($V$7:V1890,\"該当３\"))","v":""}]
[2220913002,"22",209,13,{"v":2,"d":"002"},"静岡県","島田市","下川根村","西向",null,"","",{"$f":"IF(K1891=\"\",\"\",COUNTIF($K$7:K1891,\"ﾘｽﾄ１\"))","v":""},"","","","","","","",{"$f":"IF(S1891=\"\",\"\",COUNTIF($S$7:S1891,\"該当２\"))","v":""},"","",{"$f":"IF(V1891=\"\",\"\",COUNTIF($V$7:V1891,\"該当３\"))","v":""}]
[2220913003,"22",209,13,{"v":3,"d":"003"},"静岡県","島田市","下川根村","大和田",null,"","",{"$f":"IF(K1892=\"\",\"\",COUNTIF($K$7:K1892,\"ﾘｽﾄ１\"))","v":""},"","","","","","","",{"$f":"IF(S1892=\"\",\"\",COUNTIF($S$7:S1892,\"該当２\"))","v":""},"","",{"$f":"IF(V1892=\"\",\"\",COUNTIF($V$7:V1892,\"該当３\"))","v":""}]
[2220913004,"22",209,13,{"v":4,"d":"004"},"静岡県","島田市","下川根村","前山",null,"","",{"$f":"IF(K1893=\"\",\"\",COUNTIF($K$7:K1893,\"ﾘｽﾄ１\"))","v":""},"","","","","","","",{"$f":"IF(S1893=\"\",\"\",COUNTIF($S$7:S1893,\"該当２\"))","v":""},"","",{"$f":"IF(V1893=\"\",\"\",COUNTIF($V$7:V1893,\"該当３\"))","v":""}]
[2220913005,"22",209,13,{"v":5,"d":"005"},"静岡県","島田市","下川根村","越地",null,"","",{"$f":"IF(K1894=\"\",\"\",COUNTIF($K$7:K1894,\"ﾘｽﾄ１\"))","v":""},"","","","","","","",{"$f":"IF(S1894=\"\",\"\",COUNTIF($S$7:S1894,\"該当２\"))","v":""},"","",{"$f":"IF(V1894=\"\",\"\",COUNTIF($V$7:V1894,\"該当３\"))","v":""}]
[2220913006,"22",209,13,{"v":6,"d":"006"},"静岡県","島田市","下川根村","塩本",null,"","",{"$f":"IF(K1895=\"\",\"\",COUNTIF($K$7:K1895,\"ﾘｽﾄ１\"))","v":""},"","","","","","","",{"$f":"IF(S1895=\"\",\"\",COUNTIF($S$7:S1895,\"該当２\"))","v":""},"","",{"$f":"IF(V1895=\"\",\"\",COUNTIF($V$7:V1895,\"該当３\"))","v":""}]
[2220913007,"22",209,13,{"v":7,"d":"007"},"静岡県","島田市","下川根村","市尾",null,"","",{"$f":"IF(K1896=\"\",\"\",COUNTIF($K$7:K1896,\"ﾘｽﾄ１\"))","v":""},"","","","","","","",{"$f":"IF(S1896=\"\",\"\",COUNTIF($S$7:S1896,\"該当２\"))","v":""},"","",{"$f":"IF(V1896=\"\",\"\",COUNTIF($V$7:V1896,\"該当３\"))","v":""}]
[2220913008,"22",209,13,{"v":8,"d":"008"},"静岡県","島田市","下川根村","峯",null,"","",{"$f":"IF(K1897=\"\",\"\",COUNTIF($K$7:K1897,\"ﾘｽﾄ１\"))","v":""},"","","","","","","",{"$f":"IF(S1897=\"\",\"\",COUNTIF($S$7:S1897,\"該当２\"))","v":""},"","",{"$f":"IF(V1897=\"\",\"\",COUNTIF($V$7:V1897,\"該当３\"))","v":""}]
[2220913009,"22",209,13,{"v":9,"d":"009"},"静岡県","島田市","下川根村","抜里",null,"","",{"$f":"IF(K1898=\"\",\"\",COUNTIF($K$7:K1898,\"ﾘｽﾄ１\"))","v":""},"","","","","","","",{"$f":"IF(S1898=\"\",\"\",COUNTIF($S$7:S1898,\"該当２\"))","v":""},"","",{"$f":"IF(V1898=\"\",\"\",COUNTIF($V$7:V1898,\"該当３\"))","v":""}]
[2220913010,"22",209,13,{"v":10,"d":"010"},"静岡県","島田市","下川根村","石風呂",null,"","",{"$f":"IF(K1899=\"\",\"\",COUNTIF($K$7:K1899,\"ﾘｽﾄ１\"))","v":""},"","","","","","","",{"$f":"IF(S1899=\"\",\"\",COUNTIF($S$7:S1899,\"該当２\"))","v":""},"","",{"$f":"IF(V1899=\"\",\"\",COUNTIF($V$7:V1899,\"該当３\"))","v":""}]
[2220913011,"22",209,13,{"v":11,"d":"011"},"静岡県","島田市","下川根村","葛籠",null,"","",{"$f":"IF(K1900=\"\",\"\",COUNTIF($K$7:K1900,\"ﾘｽﾄ１\"))","v":""},"","","","","","","",{"$f":"IF(S1900=\"\",\"\",COUNTIF($S$7:S1900,\"該当２\"))","v":""},"","",{"$f":"IF(V1900=\"\",\"\",COUNTIF($V$7:V1900,\"該当３\"))","v":""}]
[2220914000,"22",209,14,{"v":0,"d":"000"},"静岡県","島田市","笹間村２－２",null,null,"","",{"$f":"IF(K1901=\"\",\"\",COUNTIF($K$7:K1901,\"ﾘｽﾄ１\"))","v":""},"","","","","","","",{"$f":"IF(S1901=\"\",\"\",COUNTIF($S$7:S1901,\"該当２\"))","v":""},"","",{"$f":"IF(V1901=\"\",\"\",COUNTIF($V$7:V1901,\"該当３\"))","v":""}]
[2220914001,"22",209,14,{"v":1,"d":"001"},"静岡県","島田市","笹間村２－２","日掛",null,"","",{"$f":"IF(K1902=\"\",\"\",COUNTIF($K$7:K1902,\"ﾘｽﾄ１\"))","v":""},"","","","","","","",{"$f":"IF(S1902=\"\",\"\",COUNTIF($S$7:S1902,\"該当２\"))","v":""},"","",{"$f":"IF(V1902=\"\",\"\",COUNTIF($V$7:V1902,\"該当３\"))","v":""}]
[2220914002,"22",209,14,{"v":2,"d":"002"},"静岡県","島田市","笹間村２－２","二俣",null,"","",{"$f":"IF(K1903=\"\",\"\",COUNTIF($K$7:K1903,\"ﾘｽﾄ１\"))","v":""},"","","","","","","",{"$f":"IF(S1903=\"\",\"\",COUNTIF($S$7:S1903,\"該当２\"))","v":""},"","",{"$f":"IF(V1903=\"\",\"\",COUNTIF($V$7:V1903,\"該当３\"))","v":""}]
[2220914003,"22",209,14,{"v":3,"d":"003"},"静岡県","島田市","笹間村２－２","粟原",null,"","",{"$f":"IF(K1904=\"\",\"\",COUNTIF($K$7:K1904,\"ﾘｽﾄ１\"))","v":""},"","","","","","","",{"$f":"IF(S1904=\"\",\"\",COUNTIF($S$7:S1904,\"該当２\"))","v":""},"","",{"$f":"IF(V1904=\"\",\"\",COUNTIF($V$7:V1904,\"該当３\"))","v":""}]
[2220914004,"22",209,14,{"v":4,"d":"004"},"静岡県","島田市","笹間村２－２","石上",null,"","",{"$f":"IF(K1905=\"\",\"\",COUNTIF($K$7:K1905,\"ﾘｽﾄ１\"))","v":""},"","","","","","","",{"$f":"IF(S1905=\"\",\"\",COUNTIF($S$7:S1905,\"該当２\"))","v":""},"","",{"$f":"IF(V1905=\"\",\"\",COUNTIF($V$7:V1905,\"該当３\"))","v":""}]
[2220914005,"22",209,14,{"v":5,"d":"005"},"静岡県","島田市","笹間村２－２","出本",null,"","",{"$f":"IF(K1906=\"\",\"\",COUNTIF($K$7:K1906,\"ﾘｽﾄ１\"))","v":""},"","","","","","","",{"$f":"IF(S1906=\"\",\"\",COUNTIF($S$7:S1906,\"該当２\"))","v":""},"","",{"$f":"IF(V1906=\"\",\"\",COUNTIF($V$7:V1906,\"該当３\"))","v":""}]
[2220914006,"22",209,14,{"v":6,"d":"006"},"静岡県","島田市","笹間村２－２","三並",null,"","",{"$f":"IF(K1907=\"\",\"\",COUNTIF($K$7:K1907,\"ﾘｽﾄ１\"))","v":""},"","","","","","","",{"$f":"IF(S1907=\"\",\"\",COUNTIF($S$7:S1907,\"該当２\"))","v":""},"","",{"$f":"IF(V1907=\"\",\"\",COUNTIF($V$7:V1907,\"該当３\"))","v":""}]
[2220914007,"22",209,14,{"v":7,"d":"007"},"静岡県","島田市","笹間村２－２","日向",null,"","",{"$f":"IF(K1908=\"\",\"\",COUNTIF($K$7:K1908,\"ﾘｽﾄ１\"))","v":""},"","","","","","","",{"$f":"IF(S1908=\"\",\"\",COUNTIF($S$7:S1908,\"該当２\"))","v":""},"","",{"$f":"IF(V1908=\"\",\"\",COUNTIF($V$7:V1908,\"該当３\"))","v":""}]
[2220914008,"22",209,14,{"v":8,"d":"008"},"静岡県","島田市","笹間村２－２","桑ノ山",null,"","",{"$f":"IF(K1909=\"\",\"\",COUNTIF($K$7:K1909,\"ﾘｽﾄ１\"))","v":""},"","","","","","","",{"$f":"IF(S1909=\"\",\"\",COUNTIF($S$7:S1909,\"該当２\"))","v":""},"","",{"$f":"IF(V1909=\"\",\"\",COUNTIF($V$7:V1909,\"該当３\"))","v":""}]
[2220914009,"22",209,14,{"v":9,"d":"009"},"静岡県","島田市","笹間村２－２","上河内",null,"","",{"$f":"IF(K1910=\"\",\"\",COUNTIF($K$7:K1910,\"ﾘｽﾄ１\"))","v":""},"","","","","","","",{"$f":"IF(S1910=\"\",\"\",COUNTIF($S$7:S1910,\"該当２\"))","v":""},"","",{"$f":"IF(V1910=\"\",\"\",COUNTIF($V$7:V1910,\"該当３\"))","v":""}]
[2220915000,"22",209,15,{"v":0,"d":"000"},"静岡県","島田市","伊久身村２－２",null,null,"","",{"$f":"IF(K1911=\"\",\"\",COUNTIF($K$7:K1911,\"ﾘｽﾄ１\"))","v":""},"","","","","","","",{"$f":"IF(S1911=\"\",\"\",COUNTIF($S$7:S1911,\"該当２\"))","v":""},"","",{"$f":"IF(V1911=\"\",\"\",COUNTIF($V$7:V1911,\"該当３\"))","v":""}]
[2220915001,"22",209,15,{"v":1,"d":"001"},"静岡県","島田市","伊久身村２－２","久奈平",null,"","",{"$f":"IF(K1912=\"\",\"\",COUNTIF($K$7:K1912,\"ﾘｽﾄ１\"))","v":""},"","","","","","","",{"$f":"IF(S1912=\"\",\"\",COUNTIF($S$7:S1912,\"該当２\"))","v":""},"","",{"$f":"IF(V1912=\"\",\"\",COUNTIF($V$7:V1912,\"該当３\"))","v":""}]
[2220915002,"22",209,15,{"v":2,"d":"002"},"静岡県","島田市","伊久身村２－２","渡島",null,"","",{"$f":"IF(K1913=\"\",\"\",COUNTIF($K$7:K1913,\"ﾘｽﾄ１\"))","v":""},"","","","","","","",{"$f":"IF(S1913=\"\",\"\",COUNTIF($S$7:S1913,\"該当２\"))","v":""},"","",{"$f":"IF(V1913=\"\",\"\",COUNTIF($V$7:V1913,\"該当３\"))","v":""}]
[2220915003,"22",209,15,{"v":3,"d":"003"},"静岡県","島田市","伊久身村２－２","原八坂",null,"","",{"$f":"IF(K1914=\"\",\"\",COUNTIF($K$7:K1914,\"ﾘｽﾄ１\"))","v":""},"","","","","","","",{"$f":"IF(S1914=\"\",\"\",COUNTIF($S$7:S1914,\"該当２\"))","v":""},"","",{"$f":"IF(V1914=\"\",\"\",COUNTIF($V$7:V1914,\"該当３\"))","v":""}]
[2220915004,"22",209,15,{"v":4,"d":"004"},"静岡県","島田市","伊久身村２－２","堀之内",null,"","",{"$f":"IF(K1915=\"\",\"\",COUNTIF($K$7:K1915,\"ﾘｽﾄ１\"))","v":""},"","","","","","","",{"$f":"IF(S1915=\"\",\"\",COUNTIF($S$7:S1915,\"該当２\"))","v":""},"","",{"$f":"IF(V1915=\"\",\"\",COUNTIF($V$7:V1915,\"該当３\"))","v":""}]
[2220915005,"22",209,15,{"v":5,"d":"005"},"静岡県","島田市","伊久身村２－２","北",null,"","",{"$f":"IF(K1916=\"\",\"\",COUNTIF($K$7:K1916,\"ﾘｽﾄ１\"))","v":""},"","","","","","","",{"$f":"IF(S1916=\"\",\"\",COUNTIF($S$7:S1916,\"該当２\"))","v":""},"","",{"$f":"IF(V1916=\"\",\"\",COUNTIF($V$7:V1916,\"該当３\"))","v":""}]
[2220915006,"22",209,15,{"v":6,"d":"006"},"静岡県","島田市","伊久身村２－２","一色",null,"","",{"$f":"IF(K1917=\"\",\"\",COUNTIF($K$7:K1917,\"ﾘｽﾄ１\"))","v":""},"","","","","","","",{"$f":"IF(S1917=\"\",\"\",COUNTIF($S$7:S1917,\"該当２\"))","v":""},"","",{"$f":"IF(V1917=\"\",\"\",COUNTIF($V$7:V1917,\"該当３\"))","v":""}]
[2220915007,"22",209,15,{"v":7,"d":"007"},"静岡県","島田市","伊久身村２－２","笹間渡",null,"","",{"$f":"IF(K1918=\"\",\"\",COUNTIF($K$7:K1918,\"ﾘｽﾄ１\"))","v":""},"","","","","","","",{"$f":"IF(S1918=\"\",\"\",COUNTIF($S$7:S1918,\"該当２\"))","v":""},"","",{"$f":"IF(V1918=\"\",\"\",COUNTIF($V$7:V1918,\"該当３\"))","v":""}]
[2221000000,"22",210,{"v":0,"d":"00"},{"v":0,"d":"000"},"静岡県","富士市",{"$nulls":3},"ﾘｽﾄ１","富士市",{"$f":"IF(K1919=\"\",\"\",COUNTIF($K$7:K1919,\"ﾘｽﾄ１\"))","v":19},"","","","","","","",{"$f":"IF(S1919=\"\",\"\",COUNTIF($S$7:S1919,\"該当２\"))","v":""},"","",{"$f":"IF(V1919=\"\",\"\",COUNTIF($V$7:V1919,\"該当３\"))","v":""}]
[2221001000,"22",210,{"v":1,"d":"01"},{"v":0,"d":"000"},"静岡県","富士市","吉原市",null,null,"","",{"$f":"IF(K1920=\"\",\"\",COUNTIF($K$7:K1920,\"ﾘｽﾄ１\"))","v":""},"","","","","","","",{"$f":"IF(S1920=\"\",\"\",COUNTIF($S$7:S1920,\"該当２\"))","v":""},"","",{"$f":"IF(V1920=\"\",\"\",COUNTIF($V$7:V1920,\"該当３\"))","v":""}]
[2221001001,"22",210,{"v":1,"d":"01"},{"v":1,"d":"001"},"静岡県","富士市","吉原市","伝法１",null,"","",{"$f":"IF(K1921=\"\",\"\",COUNTIF($K$7:K1921,\"ﾘｽﾄ１\"))","v":""},"","","","","","","",{"$f":"IF(S1921=\"\",\"\",COUNTIF($S$7:S1921,\"該当２\"))","v":""},"","",{"$f":"IF(V1921=\"\",\"\",COUNTIF($V$7:V1921,\"該当３\"))","v":""}]
[2221001002,"22",210,{"v":1,"d":"01"},{"v":2,"d":"002"},"静岡県","富士市","吉原市","伝法２",null,"","",{"$f":"IF(K1922=\"\",\"\",COUNTIF($K$7:K1922,\"ﾘｽﾄ１\"))","v":""},"","","","","","","",{"$f":"IF(S1922=\"\",\"\",COUNTIF($S$7:S1922,\"該当２\"))","v":""},"","",{"$f":"IF(V1922=\"\",\"\",COUNTIF($V$7:V1922,\"該当３\"))","v":""}]
[2221001003,"22",210,{"v":1,"d":"01"},{"v":3,"d":"003"},"静岡県","富士市","吉原市","傘木",null,"","",{"$f":"IF(K1923=\"\",\"\",COUNTIF($K$7:K1923,\"ﾘｽﾄ１\"))","v":""},"","","","","","","",{"$f":"IF(S1923=\"\",\"\",COUNTIF($S$7:S1923,\"該当２\"))","v":""},"","",{"$f":"IF(V1923=\"\",\"\",COUNTIF($V$7:V1923,\"該当３\"))","v":""}]
[2221001004,"22",210,{"v":1,"d":"01"},{"v":4,"d":"004"},"静岡県","富士市","吉原市","片宿",null,"","",{"$f":"IF(K1924=\"\",\"\",COUNTIF($K$7:K1924,\"ﾘｽﾄ１\"))","v":""},"","","","","","","",{"$f":"IF(S1924=\"\",\"\",COUNTIF($S$7:S1924,\"該当２\"))","v":""},"","",{"$f":"IF(V1924=\"\",\"\",COUNTIF($V$7:V1924,\"該当３\"))","v":""}]
[2221001005,"22",210,{"v":1,"d":"01"},{"v":5,"d":"005"},"静岡県","富士市","吉原市","中桁",null,"","",{"$f":"IF(K1925=\"\",\"\",COUNTIF($K$7:K1925,\"ﾘｽﾄ１\"))","v":""},"","","","","","","",{"$f":"IF(S1925=\"\",\"\",COUNTIF($S$7:S1925,\"該当２\"))","v":""},"","",{"$f":"IF(V1925=\"\",\"\",COUNTIF($V$7:V1925,\"該当３\"))","v":""}]
[2221001006,"22",210,{"v":1,"d":"01"},{"v":6,"d":"006"},"静岡県","富士市","吉原市","田端",null,"","",{"$f":"IF(K1926=\"\",\"\",COUNTIF($K$7:K1926,\"ﾘｽﾄ１\"))","v":""},"","","","","","","",{"$f":"IF(S1926=\"\",\"\",COUNTIF($S$7:S1926,\"該当２\"))","v":""},"","",{"$f":"IF(V1926=\"\",\"\",COUNTIF($V$7:V1926,\"該当３\"))","v":""}]
[2221001007,"22",210,{"v":1,"d":"01"},{"v":7,"d":"007"},"静岡県","富士市","吉原市","中村",null,"","",{"$f":"IF(K1927=\"\",\"\",COUNTIF($K$7:K1927,\"ﾘｽﾄ１\"))","v":""},"","","","","","","",{"$f":"IF(S1927=\"\",\"\",COUNTIF($S$7:S1927,\"該当２\"))","v":""},"","",{"$f":"IF(V1927=\"\",\"\",COUNTIF($V$7:V1927,\"該当３\"))","v":""}]
[2221001008,"22",210,{"v":1,"d":"01"},{"v":8,"d":"008"},"静岡県","富士市","吉原市","三日市",null,"","",{"$f":"IF(K1928=\"\",\"\",COUNTIF($K$7:K1928,\"ﾘｽﾄ１\"))","v":""},"","","","","","","",{"$f":"IF(S1928=\"\",\"\",COUNTIF($S$7:S1928,\"該当２\"))","v":""},"","",{"$f":"IF(V1928=\"\",\"\",COUNTIF($V$7:V1928,\"該当３\"))","v":""}]
[2221001009,"22",210,{"v":1,"d":"01"},{"v":9,"d":"009"},"静岡県","富士市","吉原市","瓜島",null,"","",{"$f":"IF(K1929=\"\",\"\",COUNTIF($K$7:K1929,\"ﾘｽﾄ１\"))","v":""},"","","","","","","",{"$f":"IF(S1929=\"\",\"\",COUNTIF($S$7:S1929,\"該当２\"))","v":""},"","",{"$f":"IF(V1929=\"\",\"\",COUNTIF($V$7:V1929,\"該当３\"))","v":""}]
[2221001010,"22",210,{"v":1,"d":"01"},{"v":10,"d":"010"},"静岡県","富士市","吉原市","国久保",null,"","",{"$f":"IF(K1930=\"\",\"\",COUNTIF($K$7:K1930,\"ﾘｽﾄ１\"))","v":""},"","",{"$f":"IF(O1930=\"該当１\",G1930,\"\")","v":""},{"$f":"IF(O1930=\"該当１\",\"ﾘｽﾄ2\",\"\")","v":""},{"$f":"IF(Q1930=\"ﾘｽﾄ2\",H1930,\"\")","v":""},"",{"$f":"IF(S1930=\"該当２\",H1930,\"\")","v":""},{"$f":"IF(S1930=\"\",\"\",COUNTIF($S$7:S1930,\"該当２\"))","v":""},{"$f":"IF(AND($S$2=H1930,E1930>0,E1930<998),\"該当３\",\"\")","v":""},{"$f":"IF(V1930=\"該当３\",I1930,\"\")","v":""},{"$f":"IF(V1930=\"\",\"\",COUNTIF($V$7:V1930,\"該当３\"))","v":""}]
[2221001011,"22",210,{"v":1,"d":"01"},{"v":11,"d":"011"},"静岡県","富士市","吉原市","津田",null,{"$f":"IF(AND($C1931>0,$H1931=\"\"),\"ﾘｽﾄ１\",\"\")","v":""},{"$f":"IF(K1931=\"ﾘｽﾄ１\",G1931,\"\")","v":""},{"$f":"IF(K1931=\"\",\"\",COUNTIF($K$7:K1931,\"ﾘｽﾄ１\"))","v":""},{"$f":"IF(AND(D1931=0,E1931>0),\"同一区\",\"\")","v":""},{"$f":"IF(AND(EXACT($K$2,G1931),H1931>0),\"該当１\",\"\")","v":""},"","","",{"$f":"IF(AND(Q1931=\"ﾘｽﾄ2\",OR(I1931=0,AND(N1931=\"同一区\",E1931=1))),\"該当２\",\"\")","v":""},"",{"$f":"IF(S1931=\"\",\"\",COUNTIF($S$7:S1931,\"該当２\"))","v":""},"","",{"$f":"IF(V1931=\"\",\"\",COUNTIF($V$7:V1931,\"該当３\"))","v":""}]
[2221001012,"22",210,{"v":1,"d":"01"},{"v":12,"d":"012"},"静岡県","富士市","吉原市","荒田島",null,"","",{"$f":"IF(K1932=\"\",\"\",COUNTIF($K$7:K1932,\"ﾘｽﾄ１\"))","v":""},"","","","","","","",{"$f":"IF(S1932=\"\",\"\",COUNTIF($S$7:S1932,\"該当２\"))","v":""},"","",{"$f":"IF(V1932=\"\",\"\",COUNTIF($V$7:V1932,\"該当３\"))","v":""}]
[2221001013,"22",210,{"v":1,"d":"01"},{"v":13,"d":"013"},"静岡県","富士市","吉原市","青島",null,"","",{"$f":"IF(K1933=\"\",\"\",COUNTIF($K$7:K1933,\"ﾘｽﾄ１\"))","v":""},"","","","","","","",{"$f":"IF(S1933=\"\",\"\",COUNTIF($S$7:S1933,\"該当２\"))","v":""},"","",{"$f":"IF(V1933=\"\",\"\",COUNTIF($V$7:V1933,\"該当３\"))","v":""}]
[2221001014,"22",210,{"v":1,"d":"01"},{"v":14,"d":"014"},"静岡県","富士市","吉原市","依田原",null,"","",{"$f":"IF(K1934=\"\",\"\",COUNTIF($K$7:K1934,\"ﾘｽﾄ１\"))","v":""},"","","","","","","",{"$f":"IF(S1934=\"\",\"\",COUNTIF($S$7:S1934,\"該当２\"))","v":""},"","",{"$f":"IF(V1934=\"\",\"\",COUNTIF($V$7:V1934,\"該当３\"))","v":""}]
[2221001015,"22",210,{"v":1,"d":"01"},{"v":15,"d":"015"},"静岡県","富士市","吉原市","吉原",null,"","",{"$f":"IF(K1935=\"\",\"\",COUNTIF($K$7:K1935,\"ﾘｽﾄ１\"))","v":""},"","","","","","","",{"$f":"IF(S1935=\"\",\"\",COUNTIF($S$7:S1935,\"該当２\"))","v":""},"","",{"$f":"IF(V1935=\"\",\"\",COUNTIF($V$7:V1935,\"該当３\"))","v":""}]
[2221001016,"22",210,{"v":1,"d":"01"},{"v":16,"d":"016"},"静岡県","富士市","吉原市","田宿",null,"","",{"$f":"IF(K1936=\"\",\"\",COUNTIF($K$7:K1936,\"ﾘｽﾄ１\"))","v":""},"","","","","","","",{"$f":"IF(S1936=\"\",\"\",COUNTIF($S$7:S1936,\"該当２\"))","v":""},"","",{"$f":"IF(V1936=\"\",\"\",COUNTIF($V$7:V1936,\"該当３\"))","v":""}]
[2221001017,"22",210,{"v":1,"d":"01"},{"v":17,"d":"017"},"静岡県","富士市","吉原市","御殿",null,"","",{"$f":"IF(K1937=\"\",\"\",COUNTIF($K$7:K1937,\"ﾘｽﾄ１\"))","v":""},"","","","","","","",{"$f":"IF(S1937=\"\",\"\",COUNTIF($S$7:S1937,\"該当２\"))","v":""},"","",{"$f":"IF(V1937=\"\",\"\",COUNTIF($V$7:V1937,\"該当３\"))","v":""}]
[2221001018,"22",210,{"v":1,"d":"01"},{"v":18,"d":"018"},"静岡県","富士市","吉原市","吹上",null,"","",{"$f":"IF(K1938=\"\",\"\",COUNTIF($K$7:K1938,\"ﾘｽﾄ１\"))","v":""},"","","","","","","",{"$f":"IF(S1938=\"\",\"\",COUNTIF($S$7:S1938,\"該当２\"))","v":""},"","",{"$f":"IF(V1938=\"\",\"\",COUNTIF($V$7:V1938,\"該当３\"))","v":""}]
[2221001019,"22",210,{"v":1,"d":"01"},{"v":19,"d":"019"},"静岡県","富士市","吉原市","寺市場",null,"","",{"$f":"IF(K1939=\"\",\"\",COUNTIF($K$7:K1939,\"ﾘｽﾄ１\"))","v":""},"","","","","","","",{"$f":"IF(S1939=\"\",\"\",COUNTIF($S$7:S1939,\"該当２\"))","v":""},"","",{"$f":"IF(V1939=\"\",\"\",COUNTIF($V$7:V1939,\"該当３\"))","v":""}]
[2221001020,"22",210,{"v":1,"d":"01"},{"v":20,"d":"020"},"静岡県","富士市","吉原市","一の宮",null,"","",{"$f":"IF(K1940=\"\",\"\",COUNTIF($K$7:K1940,\"ﾘｽﾄ１\"))","v":""},"","","","","","","",{"$f":"IF(S1940=\"\",\"\",COUNTIF($S$7:S1940,\"該当２\"))","v":""},"","",{"$f":"IF(V1940=\"\",\"\",COUNTIF($V$7:V1940,\"該当３\"))","v":""}]
[2221001021,"22",210,{"v":1,"d":"01"},{"v":21,"d":"021"},"静岡県","富士市","吉原市","立小路",null,"","",{"$f":"IF(K1941=\"\",\"\",COUNTIF($K$7:K1941,\"ﾘｽﾄ１\"))","v":""},"","","","","","","",{"$f":"IF(S1941=\"\",\"\",COUNTIF($S$7:S1941,\"該当２\"))","v":""},"","",{"$f":"IF(V1941=\"\",\"\",COUNTIF($V$7:V1941,\"該当３\"))","v":""}]
[2221001022,"22",210,{"v":1,"d":"01"},{"v":22,"d":"022"},"静岡県","富士市","吉原市","水の上",null,"","",{"$f":"IF(K1942=\"\",\"\",COUNTIF($K$7:K1942,\"ﾘｽﾄ１\"))","v":""},"","","","","","","",{"$f":"IF(S1942=\"\",\"\",COUNTIF($S$7:S1942,\"該当２\"))","v":""},"","",{"$f":"IF(V1942=\"\",\"\",COUNTIF($V$7:V1942,\"該当３\"))","v":""}]
[2221001023,"22",210,{"v":1,"d":"01"},{"v":23,"d":"023"},"静岡県","富士市","吉原市","鍛治町",null,"","",{"$f":"IF(K1943=\"\",\"\",COUNTIF($K$7:K1943,\"ﾘｽﾄ１\"))","v":""},"","","","","","","",{"$f":"IF(S1943=\"\",\"\",COUNTIF($S$7:S1943,\"該当２\"))","v":""},"","",{"$f":"IF(V1943=\"\",\"\",COUNTIF($V$7:V1943,\"該当３\"))","v":""}]
[2221001024,"22",210,{"v":1,"d":"01"},{"v":24,"d":"024"},"静岡県","富士市","吉原市","上和田",null,"","",{"$f":"IF(K1944=\"\",\"\",COUNTIF($K$7:K1944,\"ﾘｽﾄ１\"))","v":""},"","","","","","","",{"$f":"IF(S1944=\"\",\"\",COUNTIF($S$7:S1944,\"該当２\"))","v":""},"","",{"$f":"IF(V1944=\"\",\"\",COUNTIF($V$7:V1944,\"該当３\"))","v":""}]
[2221001025,"22",210,{"v":1,"d":"01"},{"v":25,"d":"025"},"静岡県","富士市","吉原市","和田町",null,"","",{"$f":"IF(K1945=\"\",\"\",COUNTIF($K$7:K1945,\"ﾘｽﾄ１\"))","v":""},"","","","","","","",{"$f":"IF(S1945=\"\",\"\",COUNTIF($S$7:S1945,\"該当２\"))","v":""},"","",{"$f":"IF(V1945=\"\",\"\",COUNTIF($V$7:V1945,\"該当３\"))","v":""}]
[2221001026,"22",210,{"v":1,"d":"01"},{"v":26,"d":"026"},"静岡県","富士市","吉原市","依田橋",null,"","",{"$f":"IF(K1946=\"\",\"\",COUNTIF($K$7:K1946,\"ﾘｽﾄ１\"))","v":""},"","","","","","","",{"$f":"IF(S1946=\"\",\"\",COUNTIF($S$7:S1946,\"該当２\"))","v":""},"","",{"$f":"IF(V1946=\"\",\"\",COUNTIF($V$7:V1946,\"該当３\"))","v":""}]
[2221001027,"22",210,{"v":1,"d":"01"},{"v":27,"d":"027"},"静岡県","富士市","吉原市","石坂",null,"","",{"$f":"IF(K1947=\"\",\"\",COUNTIF($K$7:K1947,\"ﾘｽﾄ１\"))","v":""},"","","","","","","",{"$f":"IF(S1947=\"\",\"\",COUNTIF($S$7:S1947,\"該当２\"))","v":""},"","",{"$f":"IF(V1947=\"\",\"\",COUNTIF($V$7:V1947,\"該当３\"))","v":""}]
[2221001028,"22",210,{"v":1,"d":"01"},{"v":28,"d":"028"},"静岡県","富士市","吉原市","神戸１",null,"","",{"$f":"IF(K1948=\"\",\"\",COUNTIF($K$7:K1948,\"ﾘｽﾄ１\"))","v":""},"","","","","","","",{"$f":"IF(S1948=\"\",\"\",COUNTIF($S$7:S1948,\"該当２\"))","v":""},"","",{"$f":"IF(V1948=\"\",\"\",COUNTIF($V$7:V1948,\"該当３\"))","v":""}]
[2221001029,"22",210,{"v":1,"d":"01"},{"v":29,"d":"029"},"静岡県","富士市","吉原市","一色",null,"","",{"$f":"IF(K1949=\"\",\"\",COUNTIF($K$7:K1949,\"ﾘｽﾄ１\"))","v":""},"","","","","","","",{"$f":"IF(S1949=\"\",\"\",COUNTIF($S$7:S1949,\"該当２\"))","v":""},"","",{"$f":"IF(V1949=\"\",\"\",COUNTIF($V$7:V1949,\"該当３\"))","v":""}]
[2221001030,"22",210,{"v":1,"d":"01"},{"v":30,"d":"030"},"静岡県","富士市","吉原市","神戸２",null,"","",{"$f":"IF(K1950=\"\",\"\",COUNTIF($K$7:K1950,\"ﾘｽﾄ１\"))","v":""},"","","","","","","",{"$f":"IF(S1950=\"\",\"\",COUNTIF($S$7:S1950,\"該当２\"))","v":""},"","",{"$f":"IF(V1950=\"\",\"\",COUNTIF($V$7:V1950,\"該当３\"))","v":""}]
[2221001031,"22",210,{"v":1,"d":"01"},{"v":31,"d":"031"},"静岡県","富士市","吉原市","今宮",null,"","",{"$f":"IF(K1951=\"\",\"\",COUNTIF($K$7:K1951,\"ﾘｽﾄ１\"))","v":""},"","","","","","","",{"$f":"IF(S1951=\"\",\"\",COUNTIF($S$7:S1951,\"該当２\"))","v":""},"","",{"$f":"IF(V1951=\"\",\"\",COUNTIF($V$7:V1951,\"該当３\"))","v":""}]
[2221002000,"22",210,{"v":2,"d":"02"},{"v":0,"d":"000"},"静岡県","富士市","元吉原村",null,null,"","",{"$f":"IF(K1952=\"\",\"\",COUNTIF($K$7:K1952,\"ﾘｽﾄ１\"))","v":""},"","","","","","","",{"$f":"IF(S1952=\"\",\"\",COUNTIF($S$7:S1952,\"該当２\"))","v":""},"","",{"$f":"IF(V1952=\"\",\"\",COUNTIF($V$7:V1952,\"該当３\"))","v":""}]
[2221002001,"22",210,{"v":2,"d":"02"},{"v":1,"d":"001"},"静岡県","富士市","元吉原村","鈴川",null,"","",{"$f":"IF(K1953=\"\",\"\",COUNTIF($K$7:K1953,\"ﾘｽﾄ１\"))","v":""},"","","","","","","",{"$f":"IF(S1953=\"\",\"\",COUNTIF($S$7:S1953,\"該当２\"))","v":""},"","",{"$f":"IF(V1953=\"\",\"\",COUNTIF($V$7:V1953,\"該当３\"))","v":""}]
[2221002002,"22",210,{"v":2,"d":"02"},{"v":2,"d":"002"},"静岡県","富士市","元吉原村","今井",null,"","",{"$f":"IF(K1954=\"\",\"\",COUNTIF($K$7:K1954,\"ﾘｽﾄ１\"))","v":""},"","","","","","","",{"$f":"IF(S1954=\"\",\"\",COUNTIF($S$7:S1954,\"該当２\"))","v":""},"","",{"$f":"IF(V1954=\"\",\"\",COUNTIF($V$7:V1954,\"該当３\"))","v":""}]
[2221002003,"22",210,{"v":2,"d":"02"},{"v":3,"d":"003"},"静岡県","富士市","元吉原村","大野新田",null,"","",{"$f":"IF(K1955=\"\",\"\",COUNTIF($K$7:K1955,\"ﾘｽﾄ１\"))","v":""},"","","","","","","",{"$f":"IF(S1955=\"\",\"\",COUNTIF($S$7:S1955,\"該当２\"))","v":""},"","",{"$f":"IF(V1955=\"\",\"\",COUNTIF($V$7:V1955,\"該当３\"))","v":""}]
[2221002004,"22",210,{"v":2,"d":"02"},{"v":4,"d":"004"},"静岡県","富士市","元吉原村","檜",null,"","",{"$f":"IF(K1956=\"\",\"\",COUNTIF($K$7:K1956,\"ﾘｽﾄ１\"))","v":""},"","","","","","","",{"$f":"IF(S1956=\"\",\"\",COUNTIF($S$7:S1956,\"該当２\"))","v":""},"","",{"$f":"IF(V1956=\"\",\"\",COUNTIF($V$7:V1956,\"該当３\"))","v":""}]
[2221002005,"22",210,{"v":2,"d":"02"},{"v":5,"d":"005"},"静岡県","富士市","元吉原村","田中",null,"","",{"$f":"IF(K1957=\"\",\"\",COUNTIF($K$7:K1957,\"ﾘｽﾄ１\"))","v":""},"","","","","","","",{"$f":"IF(S1957=\"\",\"\",COUNTIF($S$7:S1957,\"該当２\"))","v":""},"","",{"$f":"IF(V1957=\"\",\"\",COUNTIF($V$7:V1957,\"該当３\"))","v":""}]
[2221002006,"22",210,{"v":2,"d":"02"},{"v":6,"d":"006"},"静岡県","富士市","元吉原村","西柏原",null,"","",{"$f":"IF(K1958=\"\",\"\",COUNTIF($K$7:K1958,\"ﾘｽﾄ１\"))","v":""},"","","","","","","",{"$f":"IF(S1958=\"\",\"\",COUNTIF($S$7:S1958,\"該当２\"))","v":""},"","",{"$f":"IF(V1958=\"\",\"\",COUNTIF($V$7:V1958,\"該当３\"))","v":""}]
[2221002007,"22",210,{"v":2,"d":"02"},{"v":7,"d":"007"},"静岡県","富士市","元吉原村","沼田",null,"","",{"$f":"IF(K1959=\"\",\"\",COUNTIF($K$7:K1959,\"ﾘｽﾄ１\"))","v":""},"","","","","","","",{"$f":"IF(S1959=\"\",\"\",COUNTIF($S$7:S1959,\"該当２\"))","v":""},"","",{"$f":"IF(V1959=\"\",\"\",COUNTIF($V$7:V1959,\"該当３\"))","v":""}]
[2221002008,"22",210,{"v":2,"d":"02"},{"v":8,"d":"008"},"静岡県","富士市","元吉原村","中柏原",null,"","",{"$f":"IF(K1960=\"\",\"\",COUNTIF($K$7:K1960,\"ﾘｽﾄ１\"))","v":""},"","","","","","","",{"$f":"IF(S1960=\"\",\"\",COUNTIF($S$7:S1960,\"該当２\"))","v":""},"","",{"$f":"IF(V1960=\"\",\"\",COUNTIF($V$7:V1960,\"該当３\"))","v":""}]
[2221002009,"22",210,{"v":2,"d":"02"},{"v":9,"d":"009"},"静岡県","富士市","元吉原村","東柏原",null,"","",{"$f":"IF(K1961=\"\",\"\",COUNTIF($K$7:K1961,\"ﾘｽﾄ１\"))","v":""},"","","","","","","",{"$f":"IF(S1961=\"\",\"\",COUNTIF($S$7:S1961,\"該当２\"))","v":""},"","",{"$f":"IF(V1961=\"\",\"\",COUNTIF($V$7:V1961,\"該当３\"))","v":""}]
[2221003000,"22",210,{"v":3,"d":"03"},{"v":0,"d":"000"},"静岡県","富士市","原田村（富士市）",null,null,"","",{"$f":"IF(K1962=\"\",\"\",COUNTIF($K$7:K1962,\"ﾘｽﾄ１\"))","v":""},"","","","","","","",{"$f":"IF(S1962=\"\",\"\",COUNTIF($S$7:S1962,\"該当２\"))","v":""},"","",{"$f":"IF(V1962=\"\",\"\",COUNTIF($V$7:V1962,\"該当３\"))","v":""}]
[2221003001,"22",210,{"v":3,"d":"03"},{"v":1,"d":"001"},"静岡県","富士市","原田村（富士市）","三ッ沢",null,"","",{"$f":"IF(K1963=\"\",\"\",COUNTIF($K$7:K1963,\"ﾘｽﾄ１\"))","v":""},"","","","","","","",{"$f":"IF(S1963=\"\",\"\",COUNTIF($S$7:S1963,\"該当２\"))","v":""},"","",{"$f":"IF(V1963=\"\",\"\",COUNTIF($V$7:V1963,\"該当３\"))","v":""}]
[2221003002,"22",210,{"v":3,"d":"03"},{"v":2,"d":"002"},"静岡県","富士市","原田村（富士市）","宇東川",null,"","",{"$f":"IF(K1964=\"\",\"\",COUNTIF($K$7:K1964,\"ﾘｽﾄ１\"))","v":""},"","","","","","","",{"$f":"IF(S1964=\"\",\"\",COUNTIF($S$7:S1964,\"該当２\"))","v":""},"","",{"$f":"IF(V1964=\"\",\"\",COUNTIF($V$7:V1964,\"該当３\"))","v":""}]
[2221003003,"22",210,{"v":3,"d":"03"},{"v":3,"d":"003"},"静岡県","富士市","原田村（富士市）","滝川",null,"","",{"$f":"IF(K1965=\"\",\"\",COUNTIF($K$7:K1965,\"ﾘｽﾄ１\"))","v":""},"","","","","","","",{"$f":"IF(S1965=\"\",\"\",COUNTIF($S$7:S1965,\"該当２\"))","v":""},"","",{"$f":"IF(V1965=\"\",\"\",COUNTIF($V$7:V1965,\"該当３\"))","v":""}]
[2221003004,"22",210,{"v":3,"d":"03"},{"v":4,"d":"004"},"静岡県","富士市","原田村（富士市）","原田",null,"","",{"$f":"IF(K1966=\"\",\"\",COUNTIF($K$7:K1966,\"ﾘｽﾄ１\"))","v":""},"","","","","","","",{"$f":"IF(S1966=\"\",\"\",COUNTIF($S$7:S1966,\"該当２\"))","v":""},"","",{"$f":"IF(V1966=\"\",\"\",COUNTIF($V$7:V1966,\"該当３\"))","v":""}]
[2221003005,"22",210,{"v":3,"d":"03"},{"v":5,"d":"005"},"静岡県","富士市","原田村（富士市）","中島",null,"","",{"$f":"IF(K1967=\"\",\"\",COUNTIF($K$7:K1967,\"ﾘｽﾄ１\"))","v":""},"","","","","","","",{"$f":"IF(S1967=\"\",\"\",COUNTIF($S$7:S1967,\"該当２\"))","v":""},"","",{"$f":"IF(V1967=\"\",\"\",COUNTIF($V$7:V1967,\"該当３\"))","v":""}]
[2221004000,"22",210,{"v":4,"d":"04"},{"v":0,"d":"000"},"静岡県","富士市","吉永村（富士市）",null,null,"","",{"$f":"IF(K1968=\"\",\"\",COUNTIF($K$7:K1968,\"ﾘｽﾄ１\"))","v":""},"","","","","","","",{"$f":"IF(S1968=\"\",\"\",COUNTIF($S$7:S1968,\"該当２\"))","v":""},"","",{"$f":"IF(V1968=\"\",\"\",COUNTIF($V$7:V1968,\"該当３\"))","v":""}]
[2221004001,"22",210,{"v":4,"d":"04"},{"v":1,"d":"001"},"静岡県","富士市","吉永村（富士市）","富士岡入り",null,"","",{"$f":"IF(K1969=\"\",\"\",COUNTIF($K$7:K1969,\"ﾘｽﾄ１\"))","v":""},"","","","","","","",{"$f":"IF(S1969=\"\",\"\",COUNTIF($S$7:S1969,\"該当２\"))","v":""},"","",{"$f":"IF(V1969=\"\",\"\",COUNTIF($V$7:V1969,\"該当３\"))","v":""}]
[2221004002,"22",210,{"v":4,"d":"04"},{"v":2,"d":"002"},"静岡県","富士市","吉永村（富士市）","富士岡２",null,"","",{"$f":"IF(K1970=\"\",\"\",COUNTIF($K$7:K1970,\"ﾘｽﾄ１\"))","v":""},"","","","","","","",{"$f":"IF(S1970=\"\",\"\",COUNTIF($S$7:S1970,\"該当２\"))","v":""},"","",{"$f":"IF(V1970=\"\",\"\",COUNTIF($V$7:V1970,\"該当３\"))","v":""}]
[2221004003,"22",210,{"v":4,"d":"04"},{"v":3,"d":"003"},"静岡県","富士市","吉永村（富士市）","富士岡３",null,"","",{"$f":"IF(K1971=\"\",\"\",COUNTIF($K$7:K1971,\"ﾘｽﾄ１\"))","v":""},"","","","","","","",{"$f":"IF(S1971=\"\",\"\",COUNTIF($S$7:S1971,\"該当２\"))","v":""},"","",{"$f":"IF(V1971=\"\",\"\",COUNTIF($V$7:V1971,\"該当３\"))","v":""}]
[2221004004,"22",210,{"v":4,"d":"04"},{"v":4,"d":"004"},"静岡県","富士市","吉永村（富士市）","富士岡１",null,"","",{"$f":"IF(K1972=\"\",\"\",COUNTIF($K$7:K1972,\"ﾘｽﾄ１\"))","v":""},"","","","","","","",{"$f":"IF(S1972=\"\",\"\",COUNTIF($S$7:S1972,\"該当２\"))","v":""},"","",{"$f":"IF(V1972=\"\",\"\",COUNTIF($V$7:V1972,\"該当３\"))","v":""}]
[2221004005,"22",210,{"v":4,"d":"04"},{"v":5,"d":"005"},"静岡県","富士市","吉永村（富士市）","本花守",null,"","",{"$f":"IF(K1973=\"\",\"\",COUNTIF($K$7:K1973,\"ﾘｽﾄ１\"))","v":""},"","","","","","","",{"$f":"IF(S1973=\"\",\"\",COUNTIF($S$7:S1973,\"該当２\"))","v":""},"","",{"$f":"IF(V1973=\"\",\"\",COUNTIF($V$7:V1973,\"該当３\"))","v":""}]
[2221004006,"22",210,{"v":4,"d":"04"},{"v":6,"d":"006"},"静岡県","富士市","吉永村（富士市）","渋脇",null,"","",{"$f":"IF(K1974=\"\",\"\",COUNTIF($K$7:K1974,\"ﾘｽﾄ１\"))","v":""},"","","","","","","",{"$f":"IF(S1974=\"\",\"\",COUNTIF($S$7:S1974,\"該当２\"))","v":""},"","",{"$f":"IF(V1974=\"\",\"\",COUNTIF($V$7:V1974,\"該当３\"))","v":""}]
[2221004007,"22",210,{"v":4,"d":"04"},{"v":7,"d":"007"},"静岡県","富士市","吉永村（富士市）","下花守",null,"","",{"$f":"IF(K1975=\"\",\"\",COUNTIF($K$7:K1975,\"ﾘｽﾄ１\"))","v":""},"","","","","","","",{"$f":"IF(S1975=\"\",\"\",COUNTIF($S$7:S1975,\"該当２\"))","v":""},"","",{"$f":"IF(V1975=\"\",\"\",COUNTIF($V$7:V1975,\"該当３\"))","v":""}]
[2221004008,"22",210,{"v":4,"d":"04"},{"v":8,"d":"008"},"静岡県","富士市","吉永村（富士市）","東比奈１",null,"","",{"$f":"IF(K1976=\"\",\"\",COUNTIF($K$7:K1976,\"ﾘｽﾄ１\"))","v":""},"","","","","","","",{"$f":"IF(S1976=\"\",\"\",COUNTIF($S$7:S1976,\"該当２\"))","v":""},"","",{"$f":"IF(V1976=\"\",\"\",COUNTIF($V$7:V1976,\"該当３\"))","v":""}]
[2221004009,"22",210,{"v":4,"d":"04"},{"v":9,"d":"009"},"静岡県","富士市","吉永村（富士市）","称宣前",null,"","",{"$f":"IF(K1977=\"\",\"\",COUNTIF($K$7:K1977,\"ﾘｽﾄ１\"))","v":""},"","","","","","","",{"$f":"IF(S1977=\"\",\"\",COUNTIF($S$7:S1977,\"該当２\"))","v":""},"","",{"$f":"IF(V1977=\"\",\"\",COUNTIF($V$7:V1977,\"該当３\"))","v":""}]
[2221004010,"22",210,{"v":4,"d":"04"},{"v":10,"d":"010"},"静岡県","富士市","吉永村（富士市）","諏訪宮",null,"","",{"$f":"IF(K1978=\"\",\"\",COUNTIF($K$7:K1978,\"ﾘｽﾄ１\"))","v":""},"","","","","","","",{"$f":"IF(S1978=\"\",\"\",COUNTIF($S$7:S1978,\"該当２\"))","v":""},"","",{"$f":"IF(V1978=\"\",\"\",COUNTIF($V$7:V1978,\"該当３\"))","v":""}]
[2221004011,"22",210,{"v":4,"d":"04"},{"v":11,"d":"011"},"静岡県","富士市","吉永村（富士市）","東比奈３",null,"","",{"$f":"IF(K1979=\"\",\"\",COUNTIF($K$7:K1979,\"ﾘｽﾄ１\"))","v":""},"","","","","","","",{"$f":"IF(S1979=\"\",\"\",COUNTIF($S$7:S1979,\"該当２\"))","v":""},"","",{"$f":"IF(V1979=\"\",\"\",COUNTIF($V$7:V1979,\"該当３\"))","v":""}]
[2221004012,"22",210,{"v":4,"d":"04"},{"v":12,"d":"012"},"静岡県","富士市","吉永村（富士市）","中比奈２",null,"","",{"$f":"IF(K1980=\"\",\"\",COUNTIF($K$7:K1980,\"ﾘｽﾄ１\"))","v":""},"","","","","","","",{"$f":"IF(S1980=\"\",\"\",COUNTIF($S$7:S1980,\"該当２\"))","v":""},"","",{"$f":"IF(V1980=\"\",\"\",COUNTIF($V$7:V1980,\"該当３\"))","v":""}]
[2221004013,"22",210,{"v":4,"d":"04"},{"v":13,"d":"013"},"静岡県","富士市","吉永村（富士市）","中比奈１",null,"","",{"$f":"IF(K1981=\"\",\"\",COUNTIF($K$7:K1981,\"ﾘｽﾄ１\"))","v":""},"","","","","","","",{"$f":"IF(S1981=\"\",\"\",COUNTIF($S$7:S1981,\"該当２\"))","v":""},"","",{"$f":"IF(V1981=\"\",\"\",COUNTIF($V$7:V1981,\"該当３\"))","v":""}]
[2221004014,"22",210,{"v":4,"d":"04"},{"v":14,"d":"014"},"静岡県","富士市","吉永村（富士市）","西比奈２",null,"","",{"$f":"IF(K1982=\"\",\"\",COUNTIF($K$7:K1982,\"ﾘｽﾄ１\"))","v":""},"","","","","","","",{"$f":"IF(S1982=\"\",\"\",COUNTIF($S$7:S1982,\"該当２\"))","v":""},"","",{"$f":"IF(V1982=\"\",\"\",COUNTIF($V$7:V1982,\"該当３\"))","v":""}]
[2221004015,"22",210,{"v":4,"d":"04"},{"v":15,"d":"015"},"静岡県","富士市","吉永村（富士市）","西比奈３",null,"","",{"$f":"IF(K1983=\"\",\"\",COUNTIF($K$7:K1983,\"ﾘｽﾄ１\"))","v":""},"","","","","","","",{"$f":"IF(S1983=\"\",\"\",COUNTIF($S$7:S1983,\"該当２\"))","v":""},"","",{"$f":"IF(V1983=\"\",\"\",COUNTIF($V$7:V1983,\"該当３\"))","v":""}]
[2221004016,"22",210,{"v":4,"d":"04"},{"v":16,"d":"016"},"静岡県","富士市","吉永村（富士市）","西比奈１",null,"","",{"$f":"IF(K1984=\"\",\"\",COUNTIF($K$7:K1984,\"ﾘｽﾄ１\"))","v":""},"","","","","","","",{"$f":"IF(S1984=\"\",\"\",COUNTIF($S$7:S1984,\"該当２\"))","v":""},"","",{"$f":"IF(V1984=\"\",\"\",COUNTIF($V$7:V1984,\"該当３\"))","v":""}]
[2221004017,"22",210,{"v":4,"d":"04"},{"v":17,"d":"017"},"静岡県","富士市","吉永村（富士市）","間門",null,"","",{"$f":"IF(K1985=\"\",\"\",COUNTIF($K$7:K1985,\"ﾘｽﾄ１\"))","v":""},"","","","","","","",{"$f":"IF(S1985=\"\",\"\",COUNTIF($S$7:S1985,\"該当２\"))","v":""},"","",{"$f":"IF(V1985=\"\",\"\",COUNTIF($V$7:V1985,\"該当３\"))","v":""}]
[2221004018,"22",210,{"v":4,"d":"04"},{"v":18,"d":"018"},"静岡県","富士市","吉永村（富士市）","鵜無ケ渕",null,"","",{"$f":"IF(K1986=\"\",\"\",COUNTIF($K$7:K1986,\"ﾘｽﾄ１\"))","v":""},"","","","","","","",{"$f":"IF(S1986=\"\",\"\",COUNTIF($S$7:S1986,\"該当２\"))","v":""},"","",{"$f":"IF(V1986=\"\",\"\",COUNTIF($V$7:V1986,\"該当３\"))","v":""}]
[2221004019,"22",210,{"v":4,"d":"04"},{"v":19,"d":"019"},"静岡県","富士市","吉永村（富士市）","桑崎",null,"","",{"$f":"IF(K1987=\"\",\"\",COUNTIF($K$7:K1987,\"ﾘｽﾄ１\"))","v":""},"","","","","","","",{"$f":"IF(S1987=\"\",\"\",COUNTIF($S$7:S1987,\"該当２\"))","v":""},"","",{"$f":"IF(V1987=\"\",\"\",COUNTIF($V$7:V1987,\"該当３\"))","v":""}]
[2221004020,"22",210,{"v":4,"d":"04"},{"v":20,"d":"020"},"静岡県","富士市","吉永村（富士市）","石井",null,"","",{"$f":"IF(K1988=\"\",\"\",COUNTIF($K$7:K1988,\"ﾘｽﾄ１\"))","v":""},"","","","","","","",{"$f":"IF(S1988=\"\",\"\",COUNTIF($S$7:S1988,\"該当２\"))","v":""},"","",{"$f":"IF(V1988=\"\",\"\",COUNTIF($V$7:V1988,\"該当３\"))","v":""}]
[2221004021,"22",210,{"v":4,"d":"04"},{"v":21,"d":"021"},"静岡県","富士市","吉永村（富士市）","内山",null,"","",{"$f":"IF(K1989=\"\",\"\",COUNTIF($K$7:K1989,\"ﾘｽﾄ１\"))","v":""},"","","","","","","",{"$f":"IF(S1989=\"\",\"\",COUNTIF($S$7:S1989,\"該当２\"))","v":""},"","",{"$f":"IF(V1989=\"\",\"\",COUNTIF($V$7:V1989,\"該当３\"))","v":""}]
[2221005000,"22",210,{"v":5,"d":"05"},{"v":0,"d":"000"},"静岡県","富士市","須津村",null,null,"","",{"$f":"IF(K1990=\"\",\"\",COUNTIF($K$7:K1990,\"ﾘｽﾄ１\"))","v":""},"","","","","","","",{"$f":"IF(S1990=\"\",\"\",COUNTIF($S$7:S1990,\"該当２\"))","v":""},"","",{"$f":"IF(V1990=\"\",\"\",COUNTIF($V$7:V1990,\"該当３\"))","v":""}]
[2221005001,"22",210,{"v":5,"d":"05"},{"v":1,"d":"001"},"静岡県","富士市","須津村","中里１",null,"","",{"$f":"IF(K1991=\"\",\"\",COUNTIF($K$7:K1991,\"ﾘｽﾄ１\"))","v":""},"","","","","","","",{"$f":"IF(S1991=\"\",\"\",COUNTIF($S$7:S1991,\"該当２\"))","v":""},"","",{"$f":"IF(V1991=\"\",\"\",COUNTIF($V$7:V1991,\"該当３\"))","v":""}]
[2221005002,"22",210,{"v":5,"d":"05"},{"v":2,"d":"002"},"静岡県","富士市","須津村","中里２",null,"","",{"$f":"IF(K1992=\"\",\"\",COUNTIF($K$7:K1992,\"ﾘｽﾄ１\"))","v":""},"","","","","","","",{"$f":"IF(S1992=\"\",\"\",COUNTIF($S$7:S1992,\"該当２\"))","v":""},"","",{"$f":"IF(V1992=\"\",\"\",COUNTIF($V$7:V1992,\"該当３\"))","v":""}]
[2221005003,"22",210,{"v":5,"d":"05"},{"v":3,"d":"003"},"静岡県","富士市","須津村","中里３",null,"","",{"$f":"IF(K1993=\"\",\"\",COUNTIF($K$7:K1993,\"ﾘｽﾄ１\"))","v":""},"","","","","","","",{"$f":"IF(S1993=\"\",\"\",COUNTIF($S$7:S1993,\"該当２\"))","v":""},"","",{"$f":"IF(V1993=\"\",\"\",COUNTIF($V$7:V1993,\"該当３\"))","v":""}]
[2221005004,"22",210,{"v":5,"d":"05"},{"v":4,"d":"004"},"静岡県","富士市","須津村","中里４",null,"","",{"$f":"IF(K1994=\"\",\"\",COUNTIF($K$7:K1994,\"ﾘｽﾄ１\"))","v":""},"","",{"$f":"IF(O1994=\"該当１\",G1994,\"\")","v":""},{"$f":"IF(O1994=\"該当１\",\"ﾘｽﾄ2\",\"\")","v":""},{"$f":"IF(Q1994=\"ﾘｽﾄ2\",H1994,\"\")","v":""},"",{"$f":"IF(S1994=\"該当２\",H1994,\"\")","v":""},{"$f":"IF(S1994=\"\",\"\",COUNTIF($S$7:S1994,\"該当２\"))","v":""},{"$f":"IF(AND($S$2=H1994,E1994>0,E1994<998),\"該当３\",\"\")","v":""},{"$f":"IF(V1994=\"該当３\",I1994,\"\")","v":""},{"$f":"IF(V1994=\"\",\"\",COUNTIF($V$7:V1994,\"該当３\"))","v":""}]
[2221005005,"22",210,{"v":5,"d":"05"},{"v":5,"d":"005"},"静岡県","富士市","須津村","新富町",null,{"$f":"IF(AND($C1995>0,$H1995=\"\"),\"ﾘｽﾄ１\",\"\")","v":""},{"$f":"IF(K1995=\"ﾘｽﾄ１\",G1995,\"\")","v":""},{"$f":"IF(K1995=\"\",\"\",COUNTIF($K$7:K1995,\"ﾘｽﾄ１\"))","v":""},{"$f":"IF(AND(D1995=0,E1995>0),\"同一区\",\"\")","v":""},{"$f":"IF(AND(EXACT($K$2,G1995),H1995>0),\"該当１\",\"\")","v":""},"","","",{"$f":"IF(AND(Q1995=\"ﾘｽﾄ2\",OR(I1995=0,AND(N1995=\"同一区\",E1995=1))),\"該当２\",\"\")","v":""},"",{"$f":"IF(S1995=\"\",\"\",COUNTIF($S$7:S1995,\"該当２\"))","v":""},"","",{"$f":"IF(V1995=\"\",\"\",COUNTIF($V$7:V1995,\"該当３\"))","v":""}]
[2221005006,"22",210,{"v":5,"d":"05"},{"v":6,"d":"006"},"静岡県","富士市","須津村","八幡町",null,"","",{"$f":"IF(K1996=\"\",\"\",COUNTIF($K$7:K1996,\"ﾘｽﾄ１\"))","v":""},"","","","","","","",{"$f":"IF(S1996=\"\",\"\",COUNTIF($S$7:S1996,\"該当２\"))","v":""},"","",{"$f":"IF(V1996=\"\",\"\",COUNTIF($V$7:V1996,\"該当３\"))","v":""}]
[2221005007,"22",210,{"v":5,"d":"05"},{"v":7,"d":"007"},"静岡県","富士市","須津村","川尻１",null,"","",{"$f":"IF(K1997=\"\",\"\",COUNTIF($K$7:K1997,\"ﾘｽﾄ１\"))","v":""},"","","","","","","",{"$f":"IF(S1997=\"\",\"\",COUNTIF($S$7:S1997,\"該当２\"))","v":""},"","",{"$f":"IF(V1997=\"\",\"\",COUNTIF($V$7:V1997,\"該当３\"))","v":""}]
[2221005008,"22",210,{"v":5,"d":"05"},{"v":8,"d":"008"},"静岡県","富士市","須津村","川尻２",null,"","",{"$f":"IF(K1998=\"\",\"\",COUNTIF($K$7:K1998,\"ﾘｽﾄ１\"))","v":""},"","","","","","","",{"$f":"IF(S1998=\"\",\"\",COUNTIF($S$7:S1998,\"該当２\"))","v":""},"","",{"$f":"IF(V1998=\"\",\"\",COUNTIF($V$7:V1998,\"該当３\"))","v":""}]
[2221005009,"22",210,{"v":5,"d":"05"},{"v":9,"d":"009"},"静岡県","富士市","須津村","神谷１",null,"","",{"$f":"IF(K1999=\"\",\"\",COUNTIF($K$7:K1999,\"ﾘｽﾄ１\"))","v":""},"","","","","","","",{"$f":"IF(S1999=\"\",\"\",COUNTIF($S$7:S1999,\"該当２\"))","v":""},"","",{"$f":"IF(V1999=\"\",\"\",COUNTIF($V$7:V1999,\"該当３\"))","v":""}]
[2221005010,"22",210,{"v":5,"d":"05"},{"v":10,"d":"010"},"静岡県","富士市","須津村","神谷２",null,"","",{"$f":"IF(K2000=\"\",\"\",COUNTIF($K$7:K2000,\"ﾘｽﾄ１\"))","v":""},"","","","","","","",{"$f":"IF(S2000=\"\",\"\",COUNTIF($S$7:S2000,\"該当２\"))","v":""},"","",{"$f":"IF(V2000=\"\",\"\",COUNTIF($V$7:V2000,\"該当３\"))","v":""}]
[2221005011,"22",210,{"v":5,"d":"05"},{"v":11,"d":"011"},"静岡県","富士市","須津村","神谷３",null,"","",{"$f":"IF(K2001=\"\",\"\",COUNTIF($K$7:K2001,\"ﾘｽﾄ１\"))","v":""},"","","","","","","",{"$f":"IF(S2001=\"\",\"\",COUNTIF($S$7:S2001,\"該当２\"))","v":""},"","",{"$f":"IF(V2001=\"\",\"\",COUNTIF($V$7:V2001,\"該当３\"))","v":""}]
[2221005012,"22",210,{"v":5,"d":"05"},{"v":12,"d":"012"},"静岡県","富士市","須津村","増川１",null,"","",{"$f":"IF(K2002=\"\",\"\",COUNTIF($K$7:K2002,\"ﾘｽﾄ１\"))","v":""},"","","","","","","",{"$f":"IF(S2002=\"\",\"\",COUNTIF($S$7:S2002,\"該当２\"))","v":""},"","",{"$f":"IF(V2002=\"\",\"\",COUNTIF($V$7:V2002,\"該当３\"))","v":""}]
[2221005014,"22",210,{"v":5,"d":"05"},{"v":14,"d":"014"},"静岡県","富士市","須津村","増川３",null,"","",{"$f":"IF(K2004=\"\",\"\",COUNTIF($K$7:K2004,\"ﾘｽﾄ１\"))","v":""},"","","","","","","",{"$f":"IF(S2004=\"\",\"\",COUNTIF($S$7:S2004,\"該当２\"))","v":""},"","",{"$f":"IF(V2004=\"\",\"\",COUNTIF($V$7:V2004,\"該当３\"))","v":""}]
[2221005015,"22",210,{"v":5,"d":"05"},{"v":15,"d":"015"},"静岡県","富士市","須津村","江尾１",null,"","",{"$f":"IF(K2005=\"\",\"\",COUNTIF($K$7:K2005,\"ﾘｽﾄ１\"))","v":""},"","","","","","","",{"$f":"IF(S2005=\"\",\"\",COUNTIF($S$7:S2005,\"該当２\"))","v":""},"","",{"$f":"IF(V2005=\"\",\"\",COUNTIF($V$7:V2005,\"該当３\"))","v":""}]
[2221005017,"22",210,{"v":5,"d":"05"},{"v":17,"d":"017"},"静岡県","富士市","須津村","国有林",null,"","",{"$f":"IF(K2007=\"\",\"\",COUNTIF($K$7:K2007,\"ﾘｽﾄ１\"))","v":""},"","","","","","","",{"$f":"IF(S2007=\"\",\"\",COUNTIF($S$7:S2007,\"該当２\"))","v":""},"","",{"$f":"IF(V2007=\"\",\"\",COUNTIF($V$7:V2007,\"該当３\"))","v":""}]
[2221006000,"22",210,{"v":6,"d":"06"},{"v":0,"d":"000"},"静岡県","富士市","大淵村（富士市）",null,null,"","",{"$f":"IF(K2008=\"\",\"\",COUNTIF($K$7:K2008,\"ﾘｽﾄ１\"))","v":""},"","","","","","","",{"$f":"IF(S2008=\"\",\"\",COUNTIF($S$7:S2008,\"該当２\"))","v":""},"","",{"$f":"IF(V2008=\"\",\"\",COUNTIF($V$7:V2008,\"該当３\"))","v":""}]
[2221006002,"22",210,{"v":6,"d":"06"},{"v":2,"d":"002"},"静岡県","富士市","大淵村（富士市）","中富士本",null,"","",{"$f":"IF(K2010=\"\",\"\",COUNTIF($K$7:K2010,\"ﾘｽﾄ１\"))","v":""},"","","","","","","",{"$f":"IF(S2010=\"\",\"\",COUNTIF($S$7:S2010,\"該当２\"))","v":""},"","",{"$f":"IF(V2010=\"\",\"\",COUNTIF($V$7:V2010,\"該当３\"))","v":""}]
[2221006003,"22",210,{"v":6,"d":"06"},{"v":3,"d":"003"},"静岡県","富士市","大淵村（富士市）","西富士本",null,"","",{"$f":"IF(K2011=\"\",\"\",COUNTIF($K$7:K2011,\"ﾘｽﾄ１\"))","v":""},"","","","","","","",{"$f":"IF(S2011=\"\",\"\",COUNTIF($S$7:S2011,\"該当２\"))","v":""},"","",{"$f":"IF(V2011=\"\",\"\",COUNTIF($V$7:V2011,\"該当３\"))","v":""}]
[2221006005,"22",210,{"v":6,"d":"06"},{"v":5,"d":"005"},"静岡県","富士市","大淵村（富士市）","大富町",null,"","",{"$f":"IF(K2013=\"\",\"\",COUNTIF($K$7:K2013,\"ﾘｽﾄ１\"))","v":""},"","","","","","","",{"$f":"IF(S2013=\"\",\"\",COUNTIF($S$7:S2013,\"該当２\"))","v":""},"","",{"$f":"IF(V2013=\"\",\"\",COUNTIF($V$7:V2013,\"該当３\"))","v":""}]
[2221006006,"22",210,{"v":6,"d":"06"},{"v":6,"d":"006"},"静岡県","富士市","大淵村（富士市）","境",null,"","",{"$f":"IF(K2014=\"\",\"\",COUNTIF($K$7:K2014,\"ﾘｽﾄ１\"))","v":""},"","","","","","","",{"$f":"IF(S2014=\"\",\"\",COUNTIF($S$7:S2014,\"該当２\"))","v":""},"","",{"$f":"IF(V2014=\"\",\"\",COUNTIF($V$7:V2014,\"該当３\"))","v":""}]
[2221006008,"22",210,{"v":6,"d":"06"},{"v":8,"d":"008"},"静岡県","富士市","大淵村（富士市）","八王子２",null,"","",{"$f":"IF(K2016=\"\",\"\",COUNTIF($K$7:K2016,\"ﾘｽﾄ１\"))","v":""},"","","","","","","",{"$f":"IF(S2016=\"\",\"\",COUNTIF($S$7:S2016,\"該当２\"))","v":""},"","",{"$f":"IF(V2016=\"\",\"\",COUNTIF($V$7:V2016,\"該当３\"))","v":""}]
[2221006009,"22",210,{"v":6,"d":"06"},{"v":9,"d":"009"},"静岡県","富士市","大淵村（富士市）","八王子１",null,"","",{"$f":"IF(K2017=\"\",\"\",COUNTIF($K$7:K2017,\"ﾘｽﾄ１\"))","v":""},"","","","","","","",{"$f":"IF(S2017=\"\",\"\",COUNTIF($S$7:S2017,\"該当２\"))","v":""},"","",{"$f":"IF(V2017=\"\",\"\",COUNTIF($V$7:V2017,\"該当３\"))","v":""}]
[2221006011,"22",210,{"v":6,"d":"06"},{"v":11,"d":"011"},"静岡県","富士市","大淵村（富士市）","穴原２",null,"","",{"$f":"IF(K2019=\"\",\"\",COUNTIF($K$7:K2019,\"ﾘｽﾄ１\"))","v":""},"","","","","","","",{"$f":"IF(S2019=\"\",\"\",COUNTIF($S$7:S2019,\"該当２\"))","v":""},"","",{"$f":"IF(V2019=\"\",\"\",COUNTIF($V$7:V2019,\"該当３\"))","v":""}]
[2221006012,"22",210,{"v":6,"d":"06"},{"v":12,"d":"012"},"静岡県","富士市","大淵村（富士市）","大渕２",null,"","",{"$f":"IF(K2020=\"\",\"\",COUNTIF($K$7:K2020,\"ﾘｽﾄ１\"))","v":""},"","","","","","","",{"$f":"IF(S2020=\"\",\"\",COUNTIF($S$7:S2020,\"該当２\"))","v":""},"","",{"$f":"IF(V2020=\"\",\"\",COUNTIF($V$7:V2020,\"該当３\"))","v":""}]
[2221006014,"22",210,{"v":6,"d":"06"},{"v":14,"d":"014"},"静岡県","富士市","大淵村（富士市）","大久保",null,"","",{"$f":"IF(K2022=\"\",\"\",COUNTIF($K$7:K2022,\"ﾘｽﾄ１\"))","v":""},"","","","","","","",{"$f":"IF(S2022=\"\",\"\",COUNTIF($S$7:S2022,\"該当２\"))","v":""},"","",{"$f":"IF(V2022=\"\",\"\",COUNTIF($V$7:V2022,\"該当３\"))","v":""}]
[2221006015,"22",210,{"v":6,"d":"06"},{"v":15,"d":"015"},"静岡県","富士市","大淵村（富士市）","久保",null,"","",{"$f":"IF(K2023=\"\",\"\",COUNTIF($K$7:K2023,\"ﾘｽﾄ１\"))","v":""},"","","","","","","",{"$f":"IF(S2023=\"\",\"\",COUNTIF($S$7:S2023,\"該当２\"))","v":""},"","",{"$f":"IF(V2023=\"\",\"\",COUNTIF($V$7:V2023,\"該当３\"))","v":""}]
[2221006017,"22",210,{"v":6,"d":"06"},{"v":17,"d":"017"},"静岡県","富士市","大淵村（富士市）","中野１",null,"","",{"$f":"IF(K2025=\"\",\"\",COUNTIF($K$7:K2025,\"ﾘｽﾄ１\"))","v":""},"","","","","","","",{"$f":"IF(S2025=\"\",\"\",COUNTIF($S$7:S2025,\"該当２\"))","v":""},"","",{"$f":"IF(V2025=\"\",\"\",COUNTIF($V$7:V2025,\"該当３\"))","v":""}]
[2221006018,"22",210,{"v":6,"d":"06"},{"v":18,"d":"018"},"静岡県","富士市","大淵村（富士市）","落合",null,"","",{"$f":"IF(K2026=\"\",\"\",COUNTIF($K$7:K2026,\"ﾘｽﾄ１\"))","v":""},"","","","","","","",{"$f":"IF(S2026=\"\",\"\",COUNTIF($S$7:S2026,\"該当２\"))","v":""},"","",{"$f":"IF(V2026=\"\",\"\",COUNTIF($V$7:V2026,\"該当３\"))","v":""}]
[2221006020,"22",210,{"v":6,"d":"06"},{"v":20,"d":"020"},"静岡県","富士市","大淵村（富士市）","三ッ倉",null,"","",{"$f":"IF(K2028=\"\",\"\",COUNTIF($K$7:K2028,\"ﾘｽﾄ１\"))","v":""},"","","","","","","",{"$f":"IF(S2028=\"\",\"\",COUNTIF($S$7:S2028,\"該当２\"))","v":""},"","",{"$f":"IF(V2028=\"\",\"\",COUNTIF($V$7:V2028,\"該当３\"))","v":""}]
[2221006021,"22",210,{"v":6,"d":"06"},{"v":21,"d":"021"},"静岡県","富士市","大淵村（富士市）","若松",null,"","",{"$f":"IF(K2029=\"\",\"\",COUNTIF($K$7:K2029,\"ﾘｽﾄ１\"))","v":""},"","","","","","","",{"$f":"IF(S2029=\"\",\"\",COUNTIF($S$7:S2029,\"該当２\"))","v":""},"","",{"$f":"IF(V2029=\"\",\"\",COUNTIF($V$7:V2029,\"該当３\"))","v":""}]
[2221007001,"22",210,{"v":7,"d":"07"},{"v":1,"d":"001"},"静岡県","富士市","浮島村２－２","浮島３",null,"","",{"$f":"IF(K2031=\"\",\"\",COUNTIF($K$7:K2031,\"ﾘｽﾄ１\"))","v":""},"","","","","","","",{"$f":"IF(S2031=\"\",\"\",COUNTIF($S$7:S2031,\"該当２\"))","v":""},"","",{"$f":"IF(V2031=\"\",\"\",COUNTIF($V$7:V2031,\"該当３\"))","v":""}]
[2221007002,"22",210,{"v":7,"d":"07"},{"v":2,"d":"002"},"静岡県","富士市","浮島村２－２","浮島２",null,"","",{"$f":"IF(K2032=\"\",\"\",COUNTIF($K$7:K2032,\"ﾘｽﾄ１\"))","v":""},"","","","","","","",{"$f":"IF(S2032=\"\",\"\",COUNTIF($S$7:S2032,\"該当２\"))","v":""},"","",{"$f":"IF(V2032=\"\",\"\",COUNTIF($V$7:V2032,\"該当３\"))","v":""}]
[2221008000,"22",210,{"v":8,"d":"08"},{"v":0,"d":"000"},"静岡県","富士市","富士町",null,null,"","",{"$f":"IF(K2034=\"\",\"\",COUNTIF($K$7:K2034,\"ﾘｽﾄ１\"))","v":""},"","","","","","","",{"$f":"IF(S2034=\"\",\"\",COUNTIF($S$7:S2034,\"該当２\"))","v":""},"","",{"$f":"IF(V2034=\"\",\"\",COUNTIF($V$7:V2034,\"該当３\"))","v":""}]
[2221008001,"22",210,{"v":8,"d":"08"},{"v":1,"d":"001"},"静岡県","富士市","富士町","国久",null,"","",{"$f":"IF(K2035=\"\",\"\",COUNTIF($K$7:K2035,\"ﾘｽﾄ１\"))","v":""},"","","","","","","",{"$f":"IF(S2035=\"\",\"\",COUNTIF($S$7:S2035,\"該当２\"))","v":""},"","",{"$f":"IF(V2035=\"\",\"\",COUNTIF($V$7:V2035,\"該当３\"))","v":""}]
[2221008003,"22",210,{"v":8,"d":"08"},{"v":3,"d":"003"},"静岡県","富士市","富士町","南本田",null,"","",{"$f":"IF(K2037=\"\",\"\",COUNTIF($K$7:K2037,\"ﾘｽﾄ１\"))","v":""},"","","","","","","",{"$f":"IF(S2037=\"\",\"\",COUNTIF($S$7:S2037,\"該当２\"))","v":""},"","",{"$f":"IF(V2037=\"\",\"\",COUNTIF($V$7:V2037,\"該当３\"))","v":""}]
[2221008004,"22",210,{"v":8,"d":"08"},{"v":4,"d":"004"},"静岡県","富士市","富士町","川原宿",null,"","",{"$f":"IF(K2038=\"\",\"\",COUNTIF($K$7:K2038,\"ﾘｽﾄ１\"))","v":""},"","","","","","","",{"$f":"IF(S2038=\"\",\"\",COUNTIF($S$7:S2038,\"該当２\"))","v":""},"","",{"$f":"IF(V2038=\"\",\"\",COUNTIF($V$7:V2038,\"該当３\"))","v":""}]
[2221008006,"22",210,{"v":8,"d":"08"},{"v":6,"d":"006"},"静岡県","富士市","富士町","高島",null,"","",{"$f":"IF(K2040=\"\",\"\",COUNTIF($K$7:K2040,\"ﾘｽﾄ１\"))","v":""},"","","","","","","",{"$f":"IF(S2040=\"\",\"\",COUNTIF($S$7:S2040,\"該当２\"))","v":""},"","",{"$f":"IF(V2040=\"\",\"\",COUNTIF($V$7:V2040,\"該当３\"))","v":""}]
[2221008007,"22",210,{"v":8,"d":"08"},{"v":7,"d":"007"},"静岡県","富士市","富士町","五味島",null,"","",{"$f":"IF(K2041=\"\",\"\",COUNTIF($K$7:K2041,\"ﾘｽﾄ１\"))","v":""},"","","","","","","",{"$f":"IF(S2041=\"\",\"\",COUNTIF($S$7:S2041,\"該当２\"))","v":""},"","",{"$f":"IF(V2041=\"\",\"\",COUNTIF($V$7:V2041,\"該当３\"))","v":""}]
[2221008009,"22",210,{"v":8,"d":"08"},{"v":9,"d":"009"},"静岡県","富士市","富士町","松本",null,"","",{"$f":"IF(K2043=\"\",\"\",COUNTIF($K$7:K2043,\"ﾘｽﾄ１\"))","v":""},"","","","","","","",{"$f":"IF(S2043=\"\",\"\",COUNTIF($S$7:S2043,\"該当２\"))","v":""},"","",{"$f":"IF(V2043=\"\",\"\",COUNTIF($V$7:V2043,\"該当３\"))","v":""}]
[2221008010,"22",210,{"v":8,"d":"08"},{"v":10,"d":"010"},"静岡県","富士市","富士町","中島上",null,"","",{"$f":"IF(K2044=\"\",\"\",COUNTIF($K$7:K2044,\"ﾘｽﾄ１\"))","v":""},"","","","","","","",{"$f":"IF(S2044=\"\",\"\",COUNTIF($S$7:S2044,\"該当２\"))","v":""},"","",{"$f":"IF(V2044=\"\",\"\",COUNTIF($V$7:V2044,\"該当３\"))","v":""}]
[2221008012,"22",210,{"v":8,"d":"08"},{"v":12,"d":"012"},"静岡県","富士市","富士町","柚木",null,"","",{"$f":"IF(K2046=\"\",\"\",COUNTIF($K$7:K2046,\"ﾘｽﾄ１\"))","v":""},"","","","","","","",{"$f":"IF(S2046=\"\",\"\",COUNTIF($S$7:S2046,\"該当２\"))","v":""},"","",{"$f":"IF(V2046=\"\",\"\",COUNTIF($V$7:V2046,\"該当３\"))","v":""}]
[2221008013,"22",210,{"v":8,"d":"08"},{"v":13,"d":"013"},"静岡県","富士市","富士町","十兵衛",null,"","",{"$f":"IF(K2047=\"\",\"\",COUNTIF($K$7:K2047,\"ﾘｽﾄ１\"))","v":""},"","","","","","","",{"$f":"IF(S2047=\"\",\"\",COUNTIF($S$7:S2047,\"該当２\"))","v":""},"","",{"$f":"IF(V2047=\"\",\"\",COUNTIF($V$7:V2047,\"該当３\"))","v":""}]
[2221008015,"22",210,{"v":8,"d":"08"},{"v":15,"d":"015"},"静岡県","富士市","富士町","水戸島東",null,"","",{"$f":"IF(K2049=\"\",\"\",COUNTIF($K$7:K2049,\"ﾘｽﾄ１\"))","v":""},"","","","","","","",{"$f":"IF(S2049=\"\",\"\",COUNTIF($S$7:S2049,\"該当２\"))","v":""},"","",{"$f":"IF(V2049=\"\",\"\",COUNTIF($V$7:V2049,\"該当３\"))","v":""}]
[2221008016,"22",210,{"v":8,"d":"08"},{"v":16,"d":"016"},"静岡県","富士市","富士町","水戸島下",null,"","",{"$f":"IF(K2050=\"\",\"\",COUNTIF($K$7:K2050,\"ﾘｽﾄ１\"))","v":""},"","","","","","","",{"$f":"IF(S2050=\"\",\"\",COUNTIF($S$7:S2050,\"該当２\"))","v":""},"","",{"$f":"IF(V2050=\"\",\"\",COUNTIF($V$7:V2050,\"該当３\"))","v":""}]
[2221008018,"22",210,{"v":8,"d":"08"},{"v":18,"d":"018"},"静岡県","富士市","富士町","宮下",null,"","",{"$f":"IF(K2052=\"\",\"\",COUNTIF($K$7:K2052,\"ﾘｽﾄ１\"))","v":""},"","","","","","","",{"$f":"IF(S2052=\"\",\"\",COUNTIF($S$7:S2052,\"該当２\"))","v":""},"","",{"$f":"IF(V2052=\"\",\"\",COUNTIF($V$7:V2052,\"該当３\"))","v":""}]
[2221008019,"22",210,{"v":8,"d":"08"},{"v":19,"d":"019"},"静岡県","富士市","富士町","平垣",null,"","",{"$f":"IF(K2053=\"\",\"\",COUNTIF($K$7:K2053,\"ﾘｽﾄ１\"))","v":""},"","","","","","","",{"$f":"IF(S2053=\"\",\"\",COUNTIF($S$7:S2053,\"該当２\"))","v":""},"","",{"$f":"IF(V2053=\"\",\"\",COUNTIF($V$7:V2053,\"該当３\"))","v":""}]
[2221009000,"22",210,{"v":9,"d":"09"},{"v":0,"d":"000"},"静岡県","富士市","岩松村",null,null,"","",{"$f":"IF(K2055=\"\",\"\",COUNTIF($K$7:K2055,\"ﾘｽﾄ１\"))","v":""},"","","","","","","",{"$f":"IF(S2055=\"\",\"\",COUNTIF($S$7:S2055,\"該当２\"))","v":""},"","",{"$f":"IF(V2055=\"\",\"\",COUNTIF($V$7:V2055,\"該当３\"))","v":""}]
[2221009001,"22",210,{"v":9,"d":"09"},{"v":1,"d":"001"},"静岡県","富士市","岩松村","上町",null,"","",{"$f":"IF(K2056=\"\",\"\",COUNTIF($K$7:K2056,\"ﾘｽﾄ１\"))","v":""},"","","","","","","",{"$f":"IF(S2056=\"\",\"\",COUNTIF($S$7:S2056,\"該当２\"))","v":""},"","",{"$f":"IF(V2056=\"\",\"\",COUNTIF($V$7:V2056,\"該当３\"))","v":""}]
[2221009003,"22",210,{"v":9,"d":"09"},{"v":3,"d":"003"},"静岡県","富士市","岩松村","下中",null,"","",{"$f":"IF(K2058=\"\",\"\",COUNTIF($K$7:K2058,\"ﾘｽﾄ１\"))","v":""},"","",{"$f":"IF(O2058=\"該当１\",G2058,\"\")","v":""},{"$f":"IF(O2058=\"該当１\",\"ﾘｽﾄ2\",\"\")","v":""},{"$f":"IF(Q2058=\"ﾘｽﾄ2\",H2058,\"\")","v":""},"",{"$f":"IF(S2058=\"該当２\",H2058,\"\")","v":""},{"$f":"IF(S2058=\"\",\"\",COUNTIF($S$7:S2058,\"該当２\"))","v":""},{"$f":"IF(AND($S$2=H2058,E2058>0,E2058<998),\"該当３\",\"\")","v":""},{"$f":"IF(V2058=\"該当３\",I2058,\"\")","v":""},{"$f":"IF(V2058=\"\",\"\",COUNTIF($V$7:V2058,\"該当３\"))","v":""}]
[2221009004,"22",210,{"v":9,"d":"09"},{"v":4,"d":"004"},"静岡県","富士市","岩松村","瀬戸河原",null,{"$f":"IF(AND($C2059>0,$H2059=\"\"),\"ﾘｽﾄ１\",\"\")","v":""},{"$f":"IF(K2059=\"ﾘｽﾄ１\",G2059,\"\")","v":""},{"$f":"IF(K2059=\"\",\"\",COUNTIF($K$7:K2059,\"ﾘｽﾄ１\"))","v":""},{"$f":"IF(AND(D2059=0,E2059>0),\"同一区\",\"\")","v":""},{"$f":"IF(AND(EXACT($K$2,G2059),H2059>0),\"該当１\",\"\")","v":""},"","","",{"$f":"IF(AND(Q2059=\"ﾘｽﾄ2\",OR(I2059=0,AND(N2059=\"同一区\",E2059=1))),\"該当２\",\"\")","v":""},"",{"$f":"IF(S2059=\"\",\"\",COUNTIF($S$7:S2059,\"該当２\"))","v":""},"","",{"$f":"IF(V2059=\"\",\"\",COUNTIF($V$7:V2059,\"該当３\"))","v":""}]
[2221009006,"22",210,{"v":9,"d":"09"},{"v":6,"d":"006"},"静岡県","富士市","岩松村","滝戸",null,"","",{"$f":"IF(K2061=\"\",\"\",COUNTIF($K$7:K2061,\"ﾘｽﾄ１\"))","v":""},"","","","","","","",{"$f":"IF(S2061=\"\",\"\",COUNTIF($S$7:S2061,\"該当２\"))","v":""},"","",{"$f":"IF(V2061=\"\",\"\",COUNTIF($V$7:V2061,\"該当３\"))","v":""}]
[2221009007,"22",210,{"v":9,"d":"09"},{"v":7,"d":"007"},"静岡県","富士市","岩松村","東田",null,"","",{"$f":"IF(K2062=\"\",\"\",COUNTIF($K$7:K2062,\"ﾘｽﾄ１\"))","v":""},"","","","","","","",{"$f":"IF(S2062=\"\",\"\",COUNTIF($S$7:S2062,\"該当２\"))","v":""},"","",{"$f":"IF(V2062=\"\",\"\",COUNTIF($V$7:V2062,\"該当３\"))","v":""}]
[2221009009,"22",210,{"v":9,"d":"09"},{"v":9,"d":"009"},"静岡県","富士市","岩松村","浦町",null,"","",{"$f":"IF(K2064=\"\",\"\",COUNTIF($K$7:K2064,\"ﾘｽﾄ１\"))","v":""},"","","","","","","",{"$f":"IF(S2064=\"\",\"\",COUNTIF($S$7:S2064,\"該当２\"))","v":""},"","",{"$f":"IF(V2064=\"\",\"\",COUNTIF($V$7:V2064,\"該当３\"))","v":""}]
[2221009010,"22",210,{"v":9,"d":"09"},{"v":10,"d":"010"},"静岡県","富士市","岩松村","林町",null,"","",{"$f":"IF(K2065=\"\",\"\",COUNTIF($K$7:K2065,\"ﾘｽﾄ１\"))","v":""},"","","","","","","",{"$f":"IF(S2065=\"\",\"\",COUNTIF($S$7:S2065,\"該当２\"))","v":""},"","",{"$f":"IF(V2065=\"\",\"\",COUNTIF($V$7:V2065,\"該当３\"))","v":""}]
[2221009012,"22",210,{"v":9,"d":"09"},{"v":12,"d":"012"},"静岡県","富士市","岩松村","橋下",null,"","",{"$f":"IF(K2067=\"\",\"\",COUNTIF($K$7:K2067,\"ﾘｽﾄ１\"))","v":""},"","","","","","","",{"$f":"IF(S2067=\"\",\"\",COUNTIF($S$7:S2067,\"該当２\"))","v":""},"","",{"$f":"IF(V2067=\"\",\"\",COUNTIF($V$7:V2067,\"該当３\"))","v":""}]
[2221009013,"22",210,{"v":9,"d":"09"},{"v":13,"d":"013"},"静岡県","富士市","岩松村","四丁河原",null,"","",{"$f":"IF(K2068=\"\",\"\",COUNTIF($K$7:K2068,\"ﾘｽﾄ１\"))","v":""},"","","","","","","",{"$f":"IF(S2068=\"\",\"\",COUNTIF($S$7:S2068,\"該当２\"))","v":""},"","",{"$f":"IF(V2068=\"\",\"\",COUNTIF($V$7:V2068,\"該当３\"))","v":""}]
[2221010000,"22",210,10,{"v":0,"d":"000"},"静岡県","富士市","田子浦村",null,null,"","",{"$f":"IF(K2070=\"\",\"\",COUNTIF($K$7:K2070,\"ﾘｽﾄ１\"))","v":""},"","","","","","","",{"$f":"IF(S2070=\"\",\"\",COUNTIF($S$7:S2070,\"該当２\"))","v":""},"","",{"$f":"IF(V2070=\"\",\"\",COUNTIF($V$7:V2070,\"該当３\"))","v":""}]
[2221010001,"22",210,10,{"v":1,"d":"001"},"静岡県","富士市","田子浦村","柳島",null,"","",{"$f":"IF(K2071=\"\",\"\",COUNTIF($K$7:K2071,\"ﾘｽﾄ１\"))","v":""},"","","","","","","",{"$f":"IF(S2071=\"\",\"\",COUNTIF($S$7:S2071,\"該当２\"))","v":""},"","",{"$f":"IF(V2071=\"\",\"\",COUNTIF($V$7:V2071,\"該当３\"))","v":""}]
[2221010003,"22",210,10,{"v":3,"d":"003"},"静岡県","富士市","田子浦村","東宮島",null,"","",{"$f":"IF(K2073=\"\",\"\",COUNTIF($K$7:K2073,\"ﾘｽﾄ１\"))","v":""},"","","","","","","",{"$f":"IF(S2073=\"\",\"\",COUNTIF($S$7:S2073,\"該当２\"))","v":""},"","",{"$f":"IF(V2073=\"\",\"\",COUNTIF($V$7:V2073,\"該当３\"))","v":""}]
[2221010004,"22",210,10,{"v":4,"d":"004"},"静岡県","富士市","田子浦村","西宮島",null,"","",{"$f":"IF(K2074=\"\",\"\",COUNTIF($K$7:K2074,\"ﾘｽﾄ１\"))","v":""},"","","","","","","",{"$f":"IF(S2074=\"\",\"\",COUNTIF($S$7:S2074,\"該当２\"))","v":""},"","",{"$f":"IF(V2074=\"\",\"\",COUNTIF($V$7:V2074,\"該当３\"))","v":""}]
[2221010006,"22",210,10,{"v":6,"d":"006"},"静岡県","富士市","田子浦村","下五貫島",null,"","",{"$f":"IF(K2076=\"\",\"\",COUNTIF($K$7:K2076,\"ﾘｽﾄ１\"))","v":""},"","","","","","","",{"$f":"IF(S2076=\"\",\"\",COUNTIF($S$7:S2076,\"該当２\"))","v":""},"","",{"$f":"IF(V2076=\"\",\"\",COUNTIF($V$7:V2076,\"該当３\"))","v":""}]
[2221010007,"22",210,10,{"v":7,"d":"007"},"静岡県","富士市","田子浦村","靖国",null,"","",{"$f":"IF(K2077=\"\",\"\",COUNTIF($K$7:K2077,\"ﾘｽﾄ１\"))","v":""},"","","","","","","",{"$f":"IF(S2077=\"\",\"\",COUNTIF($S$7:S2077,\"該当２\"))","v":""},"","",{"$f":"IF(V2077=\"\",\"\",COUNTIF($V$7:V2077,\"該当３\"))","v":""}]
[2221010009,"22",210,10,{"v":9,"d":"009"},"静岡県","富士市","田子浦村","新田助六",null,"","",{"$f":"IF(K2079=\"\",\"\",COUNTIF($K$7:K2079,\"ﾘｽﾄ１\"))","v":""},"","","","","","","",{"$f":"IF(S2079=\"\",\"\",COUNTIF($S$7:S2079,\"該当２\"))","v":""},"","",{"$f":"IF(V2079=\"\",\"\",COUNTIF($V$7:V2079,\"該当３\"))","v":""}]
[2221010010,"22",210,10,{"v":10,"d":"010"},"静岡県","富士市","田子浦村","新浜",null,"","",{"$f":"IF(K2080=\"\",\"\",COUNTIF($K$7:K2080,\"ﾘｽﾄ１\"))","v":""},"","","","","","","",{"$f":"IF(S2080=\"\",\"\",COUNTIF($S$7:S2080,\"該当２\"))","v":""},"","",{"$f":"IF(V2080=\"\",\"\",COUNTIF($V$7:V2080,\"該当３\"))","v":""}]
[2221010012,"22",210,10,{"v":12,"d":"012"},"静岡県","富士市","田子浦村","小須",null,"","",{"$f":"IF(K2082=\"\",\"\",COUNTIF($K$7:K2082,\"ﾘｽﾄ１\"))","v":""},"","","","","","","",{"$f":"IF(S2082=\"\",\"\",COUNTIF($S$7:S2082,\"該当２\"))","v":""},"","",{"$f":"IF(V2082=\"\",\"\",COUNTIF($V$7:V2082,\"該当３\"))","v":""}]
[2221010013,"22",210,10,{"v":13,"d":"013"},"静岡県","富士市","田子浦村","田子",null,"","",{"$f":"IF(K2083=\"\",\"\",COUNTIF($K$7:K2083,\"ﾘｽﾄ１\"))","v":""},"","","","","","","",{"$f":"IF(S2083=\"\",\"\",COUNTIF($S$7:S2083,\"該当２\"))","v":""},"","",{"$f":"IF(V2083=\"\",\"\",COUNTIF($V$7:V2083,\"該当３\"))","v":""}]
[2221010015,"22",210,10,{"v":15,"d":"015"},"静岡県","富士市","田子浦村","前田新田",null,"","",{"$f":"IF(K2085=\"\",\"\",COUNTIF($K$7:K2085,\"ﾘｽﾄ１\"))","v":""},"","","","","","","",{"$f":"IF(S2085=\"\",\"\",COUNTIF($S$7:S2085,\"該当２\"))","v":""},"","",{"$f":"IF(V2085=\"\",\"\",COUNTIF($V$7:V2085,\"該当３\"))","v":""}]
[2221010016,"22",210,10,{"v":16,"d":"016"},"静岡県","富士市","田子浦村","前田",null,"","",{"$f":"IF(K2086=\"\",\"\",COUNTIF($K$7:K2086,\"ﾘｽﾄ１\"))","v":""},"","","","","","","",{"$f":"IF(S2086=\"\",\"\",COUNTIF($S$7:S2086,\"該当２\"))","v":""},"","",{"$f":"IF(V2086=\"\",\"\",COUNTIF($V$7:V2086,\"該当３\"))","v":""}]
[2221011000,"22",210,11,{"v":0,"d":"000"},"静岡県","富士市","鷹岡町",null,null,"","",{"$f":"IF(K2088=\"\",\"\",COUNTIF($K$7:K2088,\"ﾘｽﾄ１\"))","v":""},"","","","","","","",{"$f":"IF(S2088=\"\",\"\",COUNTIF($S$7:S2088,\"該当２\"))","v":""},"","",{"$f":"IF(V2088=\"\",\"\",COUNTIF($V$7:V2088,\"該当３\"))","v":""}]
[2221011001,"22",210,11,{"v":1,"d":"001"},"静岡県","富士市","鷹岡町","厚原東",null,"","",{"$f":"IF(K2089=\"\",\"\",COUNTIF($K$7:K2089,\"ﾘｽﾄ１\"))","v":""},"","","","","","","",{"$f":"IF(S2089=\"\",\"\",COUNTIF($S$7:S2089,\"該当２\"))","v":""},"","",{"$f":"IF(V2089=\"\",\"\",COUNTIF($V$7:V2089,\"該当３\"))","v":""}]
[2221011003,"22",210,11,{"v":3,"d":"003"},"静岡県","富士市","鷹岡町","厚原西",null,"","",{"$f":"IF(K2091=\"\",\"\",COUNTIF($K$7:K2091,\"ﾘｽﾄ１\"))","v":""},"","","","","","","",{"$f":"IF(S2091=\"\",\"\",COUNTIF($S$7:S2091,\"該当２\"))","v":""},"","",{"$f":"IF(V2091=\"\",\"\",COUNTIF($V$7:V2091,\"該当３\"))","v":""}]
[2221011004,"22",210,11,{"v":4,"d":"004"},"静岡県","富士市","鷹岡町","厚原南",null,"","",{"$f":"IF(K2092=\"\",\"\",COUNTIF($K$7:K2092,\"ﾘｽﾄ１\"))","v":""},"","","","","","","",{"$f":"IF(S2092=\"\",\"\",COUNTIF($S$7:S2092,\"該当２\"))","v":""},"","",{"$f":"IF(V2092=\"\",\"\",COUNTIF($V$7:V2092,\"該当３\"))","v":""}]
[2221011006,"22",210,11,{"v":6,"d":"006"},"静岡県","富士市","鷹岡町","久沢東",null,"","",{"$f":"IF(K2094=\"\",\"\",COUNTIF($K$7:K2094,\"ﾘｽﾄ１\"))","v":""},"","","","","","","",{"$f":"IF(S2094=\"\",\"\",COUNTIF($S$7:S2094,\"該当２\"))","v":""},"","",{"$f":"IF(V2094=\"\",\"\",COUNTIF($V$7:V2094,\"該当３\"))","v":""}]
[2221011007,"22",210,11,{"v":7,"d":"007"},"静岡県","富士市","鷹岡町","久沢西",null,"","",{"$f":"IF(K2095=\"\",\"\",COUNTIF($K$7:K2095,\"ﾘｽﾄ１\"))","v":""},"","","","","","","",{"$f":"IF(S2095=\"\",\"\",COUNTIF($S$7:S2095,\"該当２\"))","v":""},"","",{"$f":"IF(V2095=\"\",\"\",COUNTIF($V$7:V2095,\"該当３\"))","v":""}]
[2221011009,"22",210,11,{"v":9,"d":"009"},"静岡県","富士市","鷹岡町","久沢北",null,"","",{"$f":"IF(K2097=\"\",\"\",COUNTIF($K$7:K2097,\"ﾘｽﾄ１\"))","v":""},"","","","","","","",{"$f":"IF(S2097=\"\",\"\",COUNTIF($S$7:S2097,\"該当２\"))","v":""},"","",{"$f":"IF(V2097=\"\",\"\",COUNTIF($V$7:V2097,\"該当３\"))","v":""}]
[2221011010,"22",210,11,{"v":10,"d":"010"},"静岡県","富士市","鷹岡町","入山瀬東",null,"","",{"$f":"IF(K2098=\"\",\"\",COUNTIF($K$7:K2098,\"ﾘｽﾄ１\"))","v":""},"","","","","","","",{"$f":"IF(S2098=\"\",\"\",COUNTIF($S$7:S2098,\"該当２\"))","v":""},"","",{"$f":"IF(V2098=\"\",\"\",COUNTIF($V$7:V2098,\"該当３\"))","v":""}]
[2221011012,"22",210,11,{"v":12,"d":"012"},"静岡県","富士市","鷹岡町","入山瀬久保",null,"","",{"$f":"IF(K2100=\"\",\"\",COUNTIF($K$7:K2100,\"ﾘｽﾄ１\"))","v":""},"","","","","","","",{"$f":"IF(S2100=\"\",\"\",COUNTIF($S$7:S2100,\"該当２\"))","v":""},"","",{"$f":"IF(V2100=\"\",\"\",COUNTIF($V$7:V2100,\"該当３\"))","v":""}]
[2221011013,"22",210,11,{"v":13,"d":"013"},"静岡県","富士市","鷹岡町","入山瀬天王町",null,"","",{"$f":"IF(K2101=\"\",\"\",COUNTIF($K$7:K2101,\"ﾘｽﾄ１\"))","v":""},"","","","","","","",{"$f":"IF(S2101=\"\",\"\",COUNTIF($S$7:S2101,\"該当２\"))","v":""},"","",{"$f":"IF(V2101=\"\",\"\",COUNTIF($V$7:V2101,\"該当３\"))","v":""}]
[2221011015,"22",210,11,{"v":15,"d":"015"},"静岡県","富士市","鷹岡町","天間北の１",null,"","",{"$f":"IF(K2103=\"\",\"\",COUNTIF($K$7:K2103,\"ﾘｽﾄ１\"))","v":""},"","","","","","","",{"$f":"IF(S2103=\"\",\"\",COUNTIF($S$7:S2103,\"該当２\"))","v":""},"","",{"$f":"IF(V2103=\"\",\"\",COUNTIF($V$7:V2103,\"該当３\"))","v":""}]
[2221011016,"22",210,11,{"v":16,"d":"016"},"静岡県","富士市","鷹岡町","天間北の２",null,"","",{"$f":"IF(K2104=\"\",\"\",COUNTIF($K$7:K2104,\"ﾘｽﾄ１\"))","v":""},"","","","","","","",{"$f":"IF(S2104=\"\",\"\",COUNTIF($S$7:S2104,\"該当２\"))","v":""},"","",{"$f":"IF(V2104=\"\",\"\",COUNTIF($V$7:V2104,\"該当３\"))","v":""}]
[2221011018,"22",210,11,{"v":18,"d":"018"},"静岡県","富士市","鷹岡町","天間田代",null,"","",{"$f":"IF(K2106=\"\",\"\",COUNTIF($K$7:K2106,\"ﾘｽﾄ１\"))","v":""},"","","","","","","",{"$f":"IF(S2106=\"\",\"\",COUNTIF($S$7:S2106,\"該当２\"))","v":""},"","",{"$f":"IF(V2106=\"\",\"\",COUNTIF($V$7:V2106,\"該当３\"))","v":""}]
[2221011019,"22",210,11,{"v":19,"d":"019"},"静岡県","富士市","鷹岡町","本町",null,"","",{"$f":"IF(K2107=\"\",\"\",COUNTIF($K$7:K2107,\"ﾘｽﾄ１\"))","v":""},"","","","","","","",{"$f":"IF(S2107=\"\",\"\",COUNTIF($S$7:S2107,\"該当２\"))","v":""},"","",{"$f":"IF(V2107=\"\",\"\",COUNTIF($V$7:V2107,\"該当３\"))","v":""}]
[2221012001,"22",210,12,{"v":1,"d":"001"},"静岡県","富士市","富士川町","木島",null,"","",{"$f":"IF(K2109=\"\",\"\",COUNTIF($K$7:K2109,\"ﾘｽﾄ１\"))","v":""},"","","","","","","",{"$f":"IF(S2109=\"\",\"\",COUNTIF($S$7:S2109,\"該当２\"))","v":""},"","",{"$f":"IF(V2109=\"\",\"\",COUNTIF($V$7:V2109,\"該当３\"))","v":""}]
[2221012002,"22",210,12,{"v":2,"d":"002"},"静岡県","富士市","富士川町","小山",null,"","",{"$f":"IF(K2110=\"\",\"\",COUNTIF($K$7:K2110,\"ﾘｽﾄ１\"))","v":""},"","","","","","","",{"$f":"IF(S2110=\"\",\"\",COUNTIF($S$7:S2110,\"該当２\"))","v":""},"","",{"$f":"IF(V2110=\"\",\"\",COUNTIF($V$7:V2110,\"該当３\"))","v":""}]
[2221012004,"22",210,12,{"v":4,"d":"004"},"静岡県","富士市","富士川町","岩渕一",null,"","",{"$f":"IF(K2112=\"\",\"\",COUNTIF($K$7:K2112,\"ﾘｽﾄ１\"))","v":""},"","","","","","","",{"$f":"IF(S2112=\"\",\"\",COUNTIF($S$7:S2112,\"該当２\"))","v":""},"","",{"$f":"IF(V2112=\"\",\"\",COUNTIF($V$7:V2112,\"該当３\"))","v":""}]
[2221012005,"22",210,12,{"v":5,"d":"005"},"静岡県","富士市","富士川町","岩渕二",null,"","",{"$f":"IF(K2113=\"\",\"\",COUNTIF($K$7:K2113,\"ﾘｽﾄ１\"))","v":""},"","","","","","","",{"$f":"IF(S2113=\"\",\"\",COUNTIF($S$7:S2113,\"該当２\"))","v":""},"","",{"$f":"IF(V2113=\"\",\"\",COUNTIF($V$7:V2113,\"該当３\"))","v":""}]
[2221012007,"22",210,12,{"v":7,"d":"007"},"静岡県","富士市","富士川町","岩渕四",null,"","",{"$f":"IF(K2115=\"\",\"\",COUNTIF($K$7:K2115,\"ﾘｽﾄ１\"))","v":""},"","","","","","","",{"$f":"IF(S2115=\"\",\"\",COUNTIF($S$7:S2115,\"該当２\"))","v":""},"","",{"$f":"IF(V2115=\"\",\"\",COUNTIF($V$7:V2115,\"該当３\"))","v":""}]
[2221012008,"22",210,12,{"v":8,"d":"008"},"静岡県","富士市","富士川町","中之郷一",null,"","",{"$f":"IF(K2116=\"\",\"\",COUNTIF($K$7:K2116,\"ﾘｽﾄ１\"))","v":""},"","","","","","","",{"$f":"IF(S2116=\"\",\"\",COUNTIF($S$7:S2116,\"該当２\"))","v":""},"","",{"$f":"IF(V2116=\"\",\"\",COUNTIF($V$7:V2116,\"該当３\"))","v":""}]
[2221012010,"22",210,12,{"v":10,"d":"010"},"静岡県","富士市","富士川町","中之郷二",null,"","",{"$f":"IF(K2118=\"\",\"\",COUNTIF($K$7:K2118,\"ﾘｽﾄ１\"))","v":""},"","","","","","","",{"$f":"IF(S2118=\"\",\"\",COUNTIF($S$7:S2118,\"該当２\"))","v":""},"","",{"$f":"IF(V2118=\"\",\"\",COUNTIF($V$7:V2118,\"該当３\"))","v":""}]
[2221012011,"22",210,12,{"v":11,"d":"011"},"静岡県","富士市","富士川町","中之郷三",null,"","",{"$f":"IF(K2119=\"\",\"\",COUNTIF($K$7:K2119,\"ﾘｽﾄ１\"))","v":""},"","","","","","","",{"$f":"IF(S2119=\"\",\"\",COUNTIF($S$7:S2119,\"該当２\"))","v":""},"","",{"$f":"IF(V2119=\"\",\"\",COUNTIF($V$7:V2119,\"該当３\"))","v":""}]
[2221012013,"22",210,12,{"v":13,"d":"013"},"静岡県","富士市","富士川町","中之郷五",null,"","",{"$f":"IF(K2121=\"\",\"\",COUNTIF($K$7:K2121,\"ﾘｽﾄ１\"))","v":""},"","","","","","","",{"$f":"IF(S2121=\"\",\"\",COUNTIF($S$7:S2121,\"該当２\"))","v":""},"","",{"$f":"IF(V2121=\"\",\"\",COUNTIF($V$7:V2121,\"該当３\"))","v":""}]
[2221012014,"22",210,12,{"v":14,"d":"014"},"静岡県","富士市","富士川町","中之郷六",null,"","",{"$f":"IF(K2122=\"\",\"\",COUNTIF($K$7:K2122,\"ﾘｽﾄ１\"))","v":""},"","",{"$f":"IF(O2122=\"該当１\",G2122,\"\")","v":""},{"$f":"IF(O2122=\"該当１\",\"ﾘｽﾄ2\",\"\")","v":""},{"$f":"IF(Q2122=\"ﾘｽﾄ2\",H2122,\"\")","v":""},"",{"$f":"IF(S2122=\"該当２\",H2122,\"\")","v":""},{"$f":"IF(S2122=\"\",\"\",COUNTIF($S$7:S2122,\"該当２\"))","v":""},{"$f":"IF(AND($S$2=H2122,E2122>0,E2122<998),\"該当３\",\"\")","v":""},{"$f":"IF(V2122=\"該当３\",I2122,\"\")","v":""},{"$f":"IF(V2122=\"\",\"\",COUNTIF($V$7:V2122,\"該当３\"))","v":""}]
[2221012016,"22",210,12,{"v":16,"d":"016"},"静岡県","富士市","富士川町","鍵穴",null,"","",{"$f":"IF(K2124=\"\",\"\",COUNTIF($K$7:K2124,\"ﾘｽﾄ１\"))","v":""},"","","","","","","",{"$f":"IF(S2124=\"\",\"\",COUNTIF($S$7:S2124,\"該当２\"))","v":""},"","",{"$f":"IF(V2124=\"\",\"\",COUNTIF($V$7:V2124,\"該当３\"))","v":""}]
[2221013000,"22",210,13,{"v":0,"d":"000"},"静岡県","富士市","松野村",null,null,"","",{"$f":"IF(K2125=\"\",\"\",COUNTIF($K$7:K2125,\"ﾘｽﾄ１\"))","v":""},"","","","","","","",{"$f":"IF(S2125=\"\",\"\",COUNTIF($S$7:S2125,\"該当２\"))","v":""},"","",{"$f":"IF(V2125=\"\",\"\",COUNTIF($V$7:V2125,\"該当３\"))","v":""}]
[2221013002,"22",210,13,{"v":2,"d":"002"},"静岡県","富士市","松野村","市場",null,"","",{"$f":"IF(K2127=\"\",\"\",COUNTIF($K$7:K2127,\"ﾘｽﾄ１\"))","v":""},"","","","","","","",{"$f":"IF(S2127=\"\",\"\",COUNTIF($S$7:S2127,\"該当２\"))","v":""},"","",{"$f":"IF(V2127=\"\",\"\",COUNTIF($V$7:V2127,\"該当３\"))","v":""}]
[2221013003,"22",210,13,{"v":3,"d":"003"},"静岡県","富士市","松野村","水ノ口",null,"","",{"$f":"IF(K2128=\"\",\"\",COUNTIF($K$7:K2128,\"ﾘｽﾄ１\"))","v":""},"","","","","","","",{"$f":"IF(S2128=\"\",\"\",COUNTIF($S$7:S2128,\"該当２\"))","v":""},"","",{"$f":"IF(V2128=\"\",\"\",COUNTIF($V$7:V2128,\"該当３\"))","v":""}]
[2221013005,"22",210,13,{"v":5,"d":"005"},"静岡県","富士市","松野村","矢所",null,"","",{"$f":"IF(K2130=\"\",\"\",COUNTIF($K$7:K2130,\"ﾘｽﾄ１\"))","v":""},"","","","","","","",{"$f":"IF(S2130=\"\",\"\",COUNTIF($S$7:S2130,\"該当２\"))","v":""},"","",{"$f":"IF(V2130=\"\",\"\",COUNTIF($V$7:V2130,\"該当３\"))","v":""}]
[2221013006,"22",210,13,{"v":6,"d":"006"},"静岡県","富士市","松野村","平清水",null,"","",{"$f":"IF(K2131=\"\",\"\",COUNTIF($K$7:K2131,\"ﾘｽﾄ１\"))","v":""},"","","","","","","",{"$f":"IF(S2131=\"\",\"\",COUNTIF($S$7:S2131,\"該当２\"))","v":""},"","",{"$f":"IF(V2131=\"\",\"\",COUNTIF($V$7:V2131,\"該当３\"))","v":""}]
[2221013008,"22",210,13,{"v":8,"d":"008"},"静岡県","富士市","松野村","三十坂",null,"","",{"$f":"IF(K2133=\"\",\"\",COUNTIF($K$7:K2133,\"ﾘｽﾄ１\"))","v":""},"","","","","","","",{"$f":"IF(S2133=\"\",\"\",COUNTIF($S$7:S2133,\"該当２\"))","v":""},"","",{"$f":"IF(V2133=\"\",\"\",COUNTIF($V$7:V2133,\"該当３\"))","v":""}]
[2221013009,"22",210,13,{"v":9,"d":"009"},"静岡県","富士市","松野村","原方",null,"","",{"$f":"IF(K2134=\"\",\"\",COUNTIF($K$7:K2134,\"ﾘｽﾄ１\"))","v":""},"","","","","","","",{"$f":"IF(S2134=\"\",\"\",COUNTIF($S$7:S2134,\"該当２\"))","v":""},"","",{"$f":"IF(V2134=\"\",\"\",COUNTIF($V$7:V2134,\"該当３\"))","v":""}]
[2221013011,"22",210,13,{"v":11,"d":"011"},"静岡県","富士市","松野村","半在家",null,"","",{"$f":"IF(K2136=\"\",\"\",COUNTIF($K$7:K2136,\"ﾘｽﾄ１\"))","v":""},"","","","","","","",{"$f":"IF(S2136=\"\",\"\",COUNTIF($S$7:S2136,\"該当２\"))","v":""},"","",{"$f":"IF(V2136=\"\",\"\",COUNTIF($V$7:V2136,\"該当３\"))","v":""}]
[2221013012,"22",210,13,{"v":12,"d":"012"},"静岡県","富士市","松野村","大北",null,"","",{"$f":"IF(K2137=\"\",\"\",COUNTIF($K$7:K2137,\"ﾘｽﾄ１\"))","v":""},"","","","","","","",{"$f":"IF(S2137=\"\",\"\",COUNTIF($S$7:S2137,\"該当２\"))","v":""},"","",{"$f":"IF(V2137=\"\",\"\",COUNTIF($V$7:V2137,\"該当３\"))","v":""}]
[2221013014,"22",210,13,{"v":14,"d":"014"},"静岡県","富士市","松野村","辻",null,"","",{"$f":"IF(K2139=\"\",\"\",COUNTIF($K$7:K2139,\"ﾘｽﾄ１\"))","v":""},"","","","","","","",{"$f":"IF(S2139=\"\",\"\",COUNTIF($S$7:S2139,\"該当２\"))","v":""},"","",{"$f":"IF(V2139=\"\",\"\",COUNTIF($V$7:V2139,\"該当３\"))","v":""}]
[2221013015,"22",210,13,{"v":15,"d":"015"},"静岡県","富士市","松野村","道上",null,"","",{"$f":"IF(K2140=\"\",\"\",COUNTIF($K$7:K2140,\"ﾘｽﾄ１\"))","v":""},"","","","","","","",{"$f":"IF(S2140=\"\",\"\",COUNTIF($S$7:S2140,\"該当２\"))","v":""},"","",{"$f":"IF(V2140=\"\",\"\",COUNTIF($V$7:V2140,\"該当３\"))","v":""}]
[2221100000,"22",211,{"v":0,"d":"00"},{"v":0,"d":"000"},"静岡県","磐田市",{"$nulls":3},"ﾘｽﾄ１","磐田市",{"$f":"IF(K2142=\"\",\"\",COUNTIF($K$7:K2142,\"ﾘｽﾄ１\"))","v":20},"","","","","","","",{"$f":"IF(S2142=\"\",\"\",COUNTIF($S$7:S2142,\"該当２\"))","v":""},"","",{"$f":"IF(V2142=\"\",\"\",COUNTIF($V$7:V2142,\"該当３\"))","v":""}]
[2221101000,"22",211,{"v":1,"d":"01"},{"v":0,"d":"000"},"静岡県","磐田市","磐田市（旧）",null,null,"","",{"$f":"IF(K2143=\"\",\"\",COUNTIF($K$7:K2143,\"ﾘｽﾄ１\"))","v":""},"","","","","","","",{"$f":"IF(S2143=\"\",\"\",COUNTIF($S$7:S2143,\"該当２\"))","v":""},"","",{"$f":"IF(V2143=\"\",\"\",COUNTIF($V$7:V2143,\"該当３\"))","v":""}]
[2221101002,"22",211,{"v":1,"d":"01"},{"v":2,"d":"002"},"静岡県","磐田市","磐田市（旧）","権現町",null,"","",{"$f":"IF(K2145=\"\",\"\",COUNTIF($K$7:K2145,\"ﾘｽﾄ１\"))","v":""},"","","","","","","",{"$f":"IF(S2145=\"\",\"\",COUNTIF($S$7:S2145,\"該当２\"))","v":""},"","",{"$f":"IF(V2145=\"\",\"\",COUNTIF($V$7:V2145,\"該当３\"))","v":""}]
[2221101003,"22",211,{"v":1,"d":"01"},{"v":3,"d":"003"},"静岡県","磐田市","磐田市（旧）","住吉町",null,"","",{"$f":"IF(K2146=\"\",\"\",COUNTIF($K$7:K2146,\"ﾘｽﾄ１\"))","v":""},"","","","","","","",{"$f":"IF(S2146=\"\",\"\",COUNTIF($S$7:S2146,\"該当２\"))","v":""},"","",{"$f":"IF(V2146=\"\",\"\",COUNTIF($V$7:V2146,\"該当３\"))","v":""}]
[2221101005,"22",211,{"v":1,"d":"01"},{"v":5,"d":"005"},"静岡県","磐田市","磐田市（旧）","二番町",null,"","",{"$f":"IF(K2148=\"\",\"\",COUNTIF($K$7:K2148,\"ﾘｽﾄ１\"))","v":""},"","","","","","","",{"$f":"IF(S2148=\"\",\"\",COUNTIF($S$7:S2148,\"該当２\"))","v":""},"","",{"$f":"IF(V2148=\"\",\"\",COUNTIF($V$7:V2148,\"該当３\"))","v":""}]
[2221101006,"22",211,{"v":1,"d":"01"},{"v":6,"d":"006"},"静岡県","磐田市","磐田市（旧）","幸町上",null,"","",{"$f":"IF(K2149=\"\",\"\",COUNTIF($K$7:K2149,\"ﾘｽﾄ１\"))","v":""},"","","","","","","",{"$f":"IF(S2149=\"\",\"\",COUNTIF($S$7:S2149,\"該当２\"))","v":""},"","",{"$f":"IF(V2149=\"\",\"\",COUNTIF($V$7:V2149,\"該当３\"))","v":""}]
[2221101008,"22",211,{"v":1,"d":"01"},{"v":8,"d":"008"},"静岡県","磐田市","磐田市（旧）","河原町",null,"","",{"$f":"IF(K2151=\"\",\"\",COUNTIF($K$7:K2151,\"ﾘｽﾄ１\"))","v":""},"","","","","","","",{"$f":"IF(S2151=\"\",\"\",COUNTIF($S$7:S2151,\"該当２\"))","v":""},"","",{"$f":"IF(V2151=\"\",\"\",COUNTIF($V$7:V2151,\"該当３\"))","v":""}]
[2221101009,"22",211,{"v":1,"d":"01"},{"v":9,"d":"009"},"静岡県","磐田市","磐田市（旧）","美登里町",null,"","",{"$f":"IF(K2152=\"\",\"\",COUNTIF($K$7:K2152,\"ﾘｽﾄ１\"))","v":""},"","","","","","","",{"$f":"IF(S2152=\"\",\"\",COUNTIF($S$7:S2152,\"該当２\"))","v":""},"","",{"$f":"IF(V2152=\"\",\"\",COUNTIF($V$7:V2152,\"該当３\"))","v":""}]
[2221101011,"22",211,{"v":1,"d":"01"},{"v":11,"d":"011"},"静岡県","磐田市","磐田市（旧）","元天神",null,"","",{"$f":"IF(K2154=\"\",\"\",COUNTIF($K$7:K2154,\"ﾘｽﾄ１\"))","v":""},"","","","","","","",{"$f":"IF(S2154=\"\",\"\",COUNTIF($S$7:S2154,\"該当２\"))","v":""},"","",{"$f":"IF(V2154=\"\",\"\",COUNTIF($V$7:V2154,\"該当３\"))","v":""}]
[2221101012,"22",211,{"v":1,"d":"01"},{"v":12,"d":"012"},"静岡県","磐田市","磐田市（旧）","北見町",null,"","",{"$f":"IF(K2155=\"\",\"\",COUNTIF($K$7:K2155,\"ﾘｽﾄ１\"))","v":""},"","","","","","","",{"$f":"IF(S2155=\"\",\"\",COUNTIF($S$7:S2155,\"該当２\"))","v":""},"","",{"$f":"IF(V2155=\"\",\"\",COUNTIF($V$7:V2155,\"該当３\"))","v":""}]
[2221101014,"22",211,{"v":1,"d":"01"},{"v":14,"d":"014"},"静岡県","磐田市","磐田市（旧）","一番町",null,"","",{"$f":"IF(K2157=\"\",\"\",COUNTIF($K$7:K2157,\"ﾘｽﾄ１\"))","v":""},"","","","","","","",{"$f":"IF(S2157=\"\",\"\",COUNTIF($S$7:S2157,\"該当２\"))","v":""},"","",{"$f":"IF(V2157=\"\",\"\",COUNTIF($V$7:V2157,\"該当３\"))","v":""}]
[2221101015,"22",211,{"v":1,"d":"01"},{"v":15,"d":"015"},"静岡県","磐田市","磐田市（旧）","二之宮",null,"","",{"$f":"IF(K2158=\"\",\"\",COUNTIF($K$7:K2158,\"ﾘｽﾄ１\"))","v":""},"","","","","","","",{"$f":"IF(S2158=\"\",\"\",COUNTIF($S$7:S2158,\"該当２\"))","v":""},"","",{"$f":"IF(V2158=\"\",\"\",COUNTIF($V$7:V2158,\"該当３\"))","v":""}]
[2221101017,"22",211,{"v":1,"d":"01"},{"v":17,"d":"017"},"静岡県","磐田市","磐田市（旧）","久保町",null,"","",{"$f":"IF(K2160=\"\",\"\",COUNTIF($K$7:K2160,\"ﾘｽﾄ１\"))","v":""},"","","","","","","",{"$f":"IF(S2160=\"\",\"\",COUNTIF($S$7:S2160,\"該当２\"))","v":""},"","",{"$f":"IF(V2160=\"\",\"\",COUNTIF($V$7:V2160,\"該当３\"))","v":""}]
[2221101018,"22",211,{"v":1,"d":"01"},{"v":18,"d":"018"},"静岡県","磐田市","磐田市（旧）","中泉西",null,"","",{"$f":"IF(K2161=\"\",\"\",COUNTIF($K$7:K2161,\"ﾘｽﾄ１\"))","v":""},"","","","","","","",{"$f":"IF(S2161=\"\",\"\",COUNTIF($S$7:S2161,\"該当２\"))","v":""},"","",{"$f":"IF(V2161=\"\",\"\",COUNTIF($V$7:V2161,\"該当３\"))","v":""}]
[2221101020,"22",211,{"v":1,"d":"01"},{"v":20,"d":"020"},"静岡県","磐田市","磐田市（旧）","中泉東",null,"","",{"$f":"IF(K2163=\"\",\"\",COUNTIF($K$7:K2163,\"ﾘｽﾄ１\"))","v":""},"","","","","","","",{"$f":"IF(S2163=\"\",\"\",COUNTIF($S$7:S2163,\"該当２\"))","v":""},"","",{"$f":"IF(V2163=\"\",\"\",COUNTIF($V$7:V2163,\"該当３\"))","v":""}]
[2221101021,"22",211,{"v":1,"d":"01"},{"v":21,"d":"021"},"静岡県","磐田市","磐田市（旧）","石原町",null,"","",{"$f":"IF(K2164=\"\",\"\",COUNTIF($K$7:K2164,\"ﾘｽﾄ１\"))","v":""},"","","","","","","",{"$f":"IF(S2164=\"\",\"\",COUNTIF($S$7:S2164,\"該当２\"))","v":""},"","",{"$f":"IF(V2164=\"\",\"\",COUNTIF($V$7:V2164,\"該当３\"))","v":""}]
[2221101023,"22",211,{"v":1,"d":"01"},{"v":23,"d":"023"},"静岡県","磐田市","磐田市（旧）","豊島",null,"","",{"$f":"IF(K2166=\"\",\"\",COUNTIF($K$7:K2166,\"ﾘｽﾄ１\"))","v":""},"","","","","","","",{"$f":"IF(S2166=\"\",\"\",COUNTIF($S$7:S2166,\"該当２\"))","v":""},"","",{"$f":"IF(V2166=\"\",\"\",COUNTIF($V$7:V2166,\"該当３\"))","v":""}]
[2221101024,"22",211,{"v":1,"d":"01"},{"v":24,"d":"024"},"静岡県","磐田市","磐田市（旧）","北島",null,"","",{"$f":"IF(K2167=\"\",\"\",COUNTIF($K$7:K2167,\"ﾘｽﾄ１\"))","v":""},"","","","","","","",{"$f":"IF(S2167=\"\",\"\",COUNTIF($S$7:S2167,\"該当２\"))","v":""},"","",{"$f":"IF(V2167=\"\",\"\",COUNTIF($V$7:V2167,\"該当３\"))","v":""}]
[2221101026,"22",211,{"v":1,"d":"01"},{"v":26,"d":"026"},"静岡県","磐田市","磐田市（旧）","万正寺",null,"","",{"$f":"IF(K2169=\"\",\"\",COUNTIF($K$7:K2169,\"ﾘｽﾄ１\"))","v":""},"","","","","","","",{"$f":"IF(S2169=\"\",\"\",COUNTIF($S$7:S2169,\"該当２\"))","v":""},"","",{"$f":"IF(V2169=\"\",\"\",COUNTIF($V$7:V2169,\"該当３\"))","v":""}]
[2221101027,"22",211,{"v":1,"d":"01"},{"v":27,"d":"027"},"静岡県","磐田市","磐田市（旧）","中野",null,"","",{"$f":"IF(K2170=\"\",\"\",COUNTIF($K$7:K2170,\"ﾘｽﾄ１\"))","v":""},"","","","","","","",{"$f":"IF(S2170=\"\",\"\",COUNTIF($S$7:S2170,\"該当２\"))","v":""},"","",{"$f":"IF(V2170=\"\",\"\",COUNTIF($V$7:V2170,\"該当３\"))","v":""}]
[2221101029,"22",211,{"v":1,"d":"01"},{"v":29,"d":"029"},"静岡県","磐田市","磐田市（旧）","下岡田",null,"","",{"$f":"IF(K2172=\"\",\"\",COUNTIF($K$7:K2172,\"ﾘｽﾄ１\"))","v":""},"","","","","","","",{"$f":"IF(S2172=\"\",\"\",COUNTIF($S$7:S2172,\"該当２\"))","v":""},"","",{"$f":"IF(V2172=\"\",\"\",COUNTIF($V$7:V2172,\"該当３\"))","v":""}]
[2221101030,"22",211,{"v":1,"d":"01"},{"v":30,"d":"030"},"静岡県","磐田市","磐田市（旧）","上岡田",null,"","",{"$f":"IF(K2173=\"\",\"\",COUNTIF($K$7:K2173,\"ﾘｽﾄ１\"))","v":""},"","","","","","","",{"$f":"IF(S2173=\"\",\"\",COUNTIF($S$7:S2173,\"該当２\"))","v":""},"","",{"$f":"IF(V2173=\"\",\"\",COUNTIF($V$7:V2173,\"該当３\"))","v":""}]
[2221101032,"22",211,{"v":1,"d":"01"},{"v":32,"d":"032"},"静岡県","磐田市","磐田市（旧）","上南田",null,"","",{"$f":"IF(K2175=\"\",\"\",COUNTIF($K$7:K2175,\"ﾘｽﾄ１\"))","v":""},"","","","","","","",{"$f":"IF(S2175=\"\",\"\",COUNTIF($S$7:S2175,\"該当２\"))","v":""},"","",{"$f":"IF(V2175=\"\",\"\",COUNTIF($V$7:V2175,\"該当３\"))","v":""}]
[2221101033,"22",211,{"v":1,"d":"01"},{"v":33,"d":"033"},"静岡県","磐田市","磐田市（旧）","城之崎",null,"","",{"$f":"IF(K2176=\"\",\"\",COUNTIF($K$7:K2176,\"ﾘｽﾄ１\"))","v":""},"","","","","","","",{"$f":"IF(S2176=\"\",\"\",COUNTIF($S$7:S2176,\"該当２\"))","v":""},"","",{"$f":"IF(V2176=\"\",\"\",COUNTIF($V$7:V2176,\"該当３\"))","v":""}]
[2221101035,"22",211,{"v":1,"d":"01"},{"v":35,"d":"035"},"静岡県","磐田市","磐田市（旧）","西貝塚",null,"","",{"$f":"IF(K2178=\"\",\"\",COUNTIF($K$7:K2178,\"ﾘｽﾄ１\"))","v":""},"","","","","","","",{"$f":"IF(S2178=\"\",\"\",COUNTIF($S$7:S2178,\"該当２\"))","v":""},"","",{"$f":"IF(V2178=\"\",\"\",COUNTIF($V$7:V2178,\"該当３\"))","v":""}]
[2221102000,"22",211,{"v":2,"d":"02"},{"v":0,"d":"000"},"静岡県","磐田市","大藤村",null,null,"","",{"$f":"IF(K2179=\"\",\"\",COUNTIF($K$7:K2179,\"ﾘｽﾄ１\"))","v":""},"","","","","","","",{"$f":"IF(S2179=\"\",\"\",COUNTIF($S$7:S2179,\"該当２\"))","v":""},"","",{"$f":"IF(V2179=\"\",\"\",COUNTIF($V$7:V2179,\"該当３\"))","v":""}]
[2221102002,"22",211,{"v":2,"d":"02"},{"v":2,"d":"002"},"静岡県","磐田市","大藤村","大藤２区",null,"","",{"$f":"IF(K2181=\"\",\"\",COUNTIF($K$7:K2181,\"ﾘｽﾄ１\"))","v":""},"","","","","","","",{"$f":"IF(S2181=\"\",\"\",COUNTIF($S$7:S2181,\"該当２\"))","v":""},"","",{"$f":"IF(V2181=\"\",\"\",COUNTIF($V$7:V2181,\"該当３\"))","v":""}]
[2221102003,"22",211,{"v":2,"d":"02"},{"v":3,"d":"003"},"静岡県","磐田市","大藤村","大藤３区",null,"","",{"$f":"IF(K2182=\"\",\"\",COUNTIF($K$7:K2182,\"ﾘｽﾄ１\"))","v":""},"","","","","","","",{"$f":"IF(S2182=\"\",\"\",COUNTIF($S$7:S2182,\"該当２\"))","v":""},"","",{"$f":"IF(V2182=\"\",\"\",COUNTIF($V$7:V2182,\"該当３\"))","v":""}]
[2221102005,"22",211,{"v":2,"d":"02"},{"v":5,"d":"005"},"静岡県","磐田市","大藤村","大藤５区",null,"","",{"$f":"IF(K2184=\"\",\"\",COUNTIF($K$7:K2184,\"ﾘｽﾄ１\"))","v":""},"","","","","","","",{"$f":"IF(S2184=\"\",\"\",COUNTIF($S$7:S2184,\"該当２\"))","v":""},"","",{"$f":"IF(V2184=\"\",\"\",COUNTIF($V$7:V2184,\"該当３\"))","v":""}]
[2221102006,"22",211,{"v":2,"d":"02"},{"v":6,"d":"006"},"静岡県","磐田市","大藤村","大藤６区",null,"","",{"$f":"IF(K2185=\"\",\"\",COUNTIF($K$7:K2185,\"ﾘｽﾄ１\"))","v":""},"","","","","","","",{"$f":"IF(S2185=\"\",\"\",COUNTIF($S$7:S2185,\"該当２\"))","v":""},"","",{"$f":"IF(V2185=\"\",\"\",COUNTIF($V$7:V2185,\"該当３\"))","v":""}]
[2221102008,"22",211,{"v":2,"d":"02"},{"v":8,"d":"008"},"静岡県","磐田市","大藤村","大藤８区",null,{"$f":"IF(AND($C2187>0,$H2187=\"\"),\"ﾘｽﾄ１\",\"\")","v":""},{"$f":"IF(K2187=\"ﾘｽﾄ１\",G2187,\"\")","v":""},{"$f":"IF(K2187=\"\",\"\",COUNTIF($K$7:K2187,\"ﾘｽﾄ１\"))","v":""},{"$f":"IF(AND(D2187=0,E2187>0),\"同一区\",\"\")","v":""},{"$f":"IF(AND(EXACT($K$2,G2187),H2187>0),\"該当１\",\"\")","v":""},"","","",{"$f":"IF(AND(Q2187=\"ﾘｽﾄ2\",OR(I2187=0,AND(N2187=\"同一区\",E2187=1))),\"該当２\",\"\")","v":""},"",{"$f":"IF(S2187=\"\",\"\",COUNTIF($S$7:S2187,\"該当２\"))","v":""},"","",{"$f":"IF(V2187=\"\",\"\",COUNTIF($V$7:V2187,\"該当３\"))","v":""}]
[2221102009,"22",211,{"v":2,"d":"02"},{"v":9,"d":"009"},"静岡県","磐田市","大藤村","大藤９区",null,"","",{"$f":"IF(K2188=\"\",\"\",COUNTIF($K$7:K2188,\"ﾘｽﾄ１\"))","v":""},"","","","","","","",{"$f":"IF(S2188=\"\",\"\",COUNTIF($S$7:S2188,\"該当２\"))","v":""},"","",{"$f":"IF(V2188=\"\",\"\",COUNTIF($V$7:V2188,\"該当３\"))","v":""}]
[2221102011,"22",211,{"v":2,"d":"02"},{"v":11,"d":"011"},"静岡県","磐田市","大藤村","大藤１１区",null,"","",{"$f":"IF(K2190=\"\",\"\",COUNTIF($K$7:K2190,\"ﾘｽﾄ１\"))","v":""},"","","","","","","",{"$f":"IF(S2190=\"\",\"\",COUNTIF($S$7:S2190,\"該当２\"))","v":""},"","",{"$f":"IF(V2190=\"\",\"\",COUNTIF($V$7:V2190,\"該当３\"))","v":""}]
[2221102012,"22",211,{"v":2,"d":"02"},{"v":12,"d":"012"},"静岡県","磐田市","大藤村","大藤１２区",null,"","",{"$f":"IF(K2191=\"\",\"\",COUNTIF($K$7:K2191,\"ﾘｽﾄ１\"))","v":""},"","","","","","","",{"$f":"IF(S2191=\"\",\"\",COUNTIF($S$7:S2191,\"該当２\"))","v":""},"","",{"$f":"IF(V2191=\"\",\"\",COUNTIF($V$7:V2191,\"該当３\"))","v":""}]
[2221103001,"22",211,{"v":3,"d":"03"},{"v":1,"d":"001"},"静岡県","磐田市","岩田村","匂坂新",null,"","",{"$f":"IF(K2193=\"\",\"\",COUNTIF($K$7:K2193,\"ﾘｽﾄ１\"))","v":""},"","","","","","","",{"$f":"IF(S2193=\"\",\"\",COUNTIF($S$7:S2193,\"該当２\"))","v":""},"","",{"$f":"IF(V2193=\"\",\"\",COUNTIF($V$7:V2193,\"該当３\"))","v":""}]
[2221103002,"22",211,{"v":3,"d":"03"},{"v":2,"d":"002"},"静岡県","磐田市","岩田村","匂坂中下",null,"","",{"$f":"IF(K2194=\"\",\"\",COUNTIF($K$7:K2194,\"ﾘｽﾄ１\"))","v":""},"","","","","","","",{"$f":"IF(S2194=\"\",\"\",COUNTIF($S$7:S2194,\"該当２\"))","v":""},"","",{"$f":"IF(V2194=\"\",\"\",COUNTIF($V$7:V2194,\"該当３\"))","v":""}]
[2221103004,"22",211,{"v":3,"d":"03"},{"v":4,"d":"004"},"静岡県","磐田市","岩田村","匂坂上",null,"","",{"$f":"IF(K2196=\"\",\"\",COUNTIF($K$7:K2196,\"ﾘｽﾄ１\"))","v":""},"","","","","","","",{"$f":"IF(S2196=\"\",\"\",COUNTIF($S$7:S2196,\"該当２\"))","v":""},"","",{"$f":"IF(V2196=\"\",\"\",COUNTIF($V$7:V2196,\"該当３\"))","v":""}]
[2221103005,"22",211,{"v":3,"d":"03"},{"v":5,"d":"005"},"静岡県","磐田市","岩田村","寺谷圦下",null,"","",{"$f":"IF(K2197=\"\",\"\",COUNTIF($K$7:K2197,\"ﾘｽﾄ１\"))","v":""},"","","","","","","",{"$f":"IF(S2197=\"\",\"\",COUNTIF($S$7:S2197,\"該当２\"))","v":""},"","",{"$f":"IF(V2197=\"\",\"\",COUNTIF($V$7:V2197,\"該当３\"))","v":""}]
[2221103007,"22",211,{"v":3,"d":"03"},{"v":7,"d":"007"},"静岡県","磐田市","岩田村","寺谷新田",null,"","",{"$f":"IF(K2199=\"\",\"\",COUNTIF($K$7:K2199,\"ﾘｽﾄ１\"))","v":""},"","","","","","","",{"$f":"IF(S2199=\"\",\"\",COUNTIF($S$7:S2199,\"該当２\"))","v":""},"","",{"$f":"IF(V2199=\"\",\"\",COUNTIF($V$7:V2199,\"該当３\"))","v":""}]
[2221104000,"22",211,{"v":4,"d":"04"},{"v":0,"d":"000"},"静岡県","磐田市","長野村",null,null,"","",{"$f":"IF(K2200=\"\",\"\",COUNTIF($K$7:K2200,\"ﾘｽﾄ１\"))","v":""},"","","","","","","",{"$f":"IF(S2200=\"\",\"\",COUNTIF($S$7:S2200,\"該当２\"))","v":""},"","",{"$f":"IF(V2200=\"\",\"\",COUNTIF($V$7:V2200,\"該当３\"))","v":""}]
[2221104002,"22",211,{"v":4,"d":"04"},{"v":2,"d":"002"},"静岡県","磐田市","長野村","小島",null,"","",{"$f":"IF(K2202=\"\",\"\",COUNTIF($K$7:K2202,\"ﾘｽﾄ１\"))","v":""},"","","","","","","",{"$f":"IF(S2202=\"\",\"\",COUNTIF($S$7:S2202,\"該当２\"))","v":""},"","",{"$f":"IF(V2202=\"\",\"\",COUNTIF($V$7:V2202,\"該当３\"))","v":""}]
[2221104003,"22",211,{"v":4,"d":"04"},{"v":3,"d":"003"},"静岡県","磐田市","長野村","白拍子",null,"","",{"$f":"IF(K2203=\"\",\"\",COUNTIF($K$7:K2203,\"ﾘｽﾄ１\"))","v":""},"","","","","","","",{"$f":"IF(S2203=\"\",\"\",COUNTIF($S$7:S2203,\"該当２\"))","v":""},"","",{"$f":"IF(V2203=\"\",\"\",COUNTIF($V$7:V2203,\"該当３\"))","v":""}]
[2221104005,"22",211,{"v":4,"d":"04"},{"v":5,"d":"005"},"静岡県","磐田市","長野村","前野",null,"","",{"$f":"IF(K2205=\"\",\"\",COUNTIF($K$7:K2205,\"ﾘｽﾄ１\"))","v":""},"","","","","","","",{"$f":"IF(S2205=\"\",\"\",COUNTIF($S$7:S2205,\"該当２\"))","v":""},"","",{"$f":"IF(V2205=\"\",\"\",COUNTIF($V$7:V2205,\"該当３\"))","v":""}]
[2221104006,"22",211,{"v":4,"d":"04"},{"v":6,"d":"006"},"静岡県","磐田市","長野村","刑部島",null,"","",{"$f":"IF(K2206=\"\",\"\",COUNTIF($K$7:K2206,\"ﾘｽﾄ１\"))","v":""},"","","","","","","",{"$f":"IF(S2206=\"\",\"\",COUNTIF($S$7:S2206,\"該当２\"))","v":""},"","",{"$f":"IF(V2206=\"\",\"\",COUNTIF($V$7:V2206,\"該当３\"))","v":""}]
[2221104008,"22",211,{"v":4,"d":"04"},{"v":8,"d":"008"},"静岡県","磐田市","長野村","長須賀",null,"","",{"$f":"IF(K2208=\"\",\"\",COUNTIF($K$7:K2208,\"ﾘｽﾄ１\"))","v":""},"","","","","","","",{"$f":"IF(S2208=\"\",\"\",COUNTIF($S$7:S2208,\"該当２\"))","v":""},"","",{"$f":"IF(V2208=\"\",\"\",COUNTIF($V$7:V2208,\"該当３\"))","v":""}]
[2221104009,"22",211,{"v":4,"d":"04"},{"v":9,"d":"009"},"静岡県","磐田市","長野村","下新島",null,"","",{"$f":"IF(K2209=\"\",\"\",COUNTIF($K$7:K2209,\"ﾘｽﾄ１\"))","v":""},"","","","","","","",{"$f":"IF(S2209=\"\",\"\",COUNTIF($S$7:S2209,\"該当２\"))","v":""},"","",{"$f":"IF(V2209=\"\",\"\",COUNTIF($V$7:V2209,\"該当３\"))","v":""}]
[2221105000,"22",211,{"v":5,"d":"05"},{"v":0,"d":"000"},"静岡県","磐田市","向笠村",null,null,"","",{"$f":"IF(K2211=\"\",\"\",COUNTIF($K$7:K2211,\"ﾘｽﾄ１\"))","v":""},"","","","","","","",{"$f":"IF(S2211=\"\",\"\",COUNTIF($S$7:S2211,\"該当２\"))","v":""},"","",{"$f":"IF(V2211=\"\",\"\",COUNTIF($V$7:V2211,\"該当３\"))","v":""}]
[2221105001,"22",211,{"v":5,"d":"05"},{"v":1,"d":"001"},"静岡県","磐田市","向笠村","新屋里",null,"","",{"$f":"IF(K2212=\"\",\"\",COUNTIF($K$7:K2212,\"ﾘｽﾄ１\"))","v":""},"","","","","","","",{"$f":"IF(S2212=\"\",\"\",COUNTIF($S$7:S2212,\"該当２\"))","v":""},"","",{"$f":"IF(V2212=\"\",\"\",COUNTIF($V$7:V2212,\"該当３\"))","v":""}]
[2221105003,"22",211,{"v":5,"d":"05"},{"v":3,"d":"003"},"静岡県","磐田市","向笠村","中村",null,"","",{"$f":"IF(K2214=\"\",\"\",COUNTIF($K$7:K2214,\"ﾘｽﾄ１\"))","v":""},"","","","","","","",{"$f":"IF(S2214=\"\",\"\",COUNTIF($S$7:S2214,\"該当２\"))","v":""},"","",{"$f":"IF(V2214=\"\",\"\",COUNTIF($V$7:V2214,\"該当３\"))","v":""}]
[2221105004,"22",211,{"v":5,"d":"05"},{"v":4,"d":"004"},"静岡県","磐田市","向笠村","大海",null,"","",{"$f":"IF(K2215=\"\",\"\",COUNTIF($K$7:K2215,\"ﾘｽﾄ１\"))","v":""},"","","","","","","",{"$f":"IF(S2215=\"\",\"\",COUNTIF($S$7:S2215,\"該当２\"))","v":""},"","",{"$f":"IF(V2215=\"\",\"\",COUNTIF($V$7:V2215,\"該当３\"))","v":""}]
[2221105006,"22",211,{"v":5,"d":"05"},{"v":6,"d":"006"},"静岡県","磐田市","向笠村","向笠西里",null,"","",{"$f":"IF(K2217=\"\",\"\",COUNTIF($K$7:K2217,\"ﾘｽﾄ１\"))","v":""},"","","","","","","",{"$f":"IF(S2217=\"\",\"\",COUNTIF($S$7:S2217,\"該当２\"))","v":""},"","",{"$f":"IF(V2217=\"\",\"\",COUNTIF($V$7:V2217,\"該当３\"))","v":""}]
[2221105007,"22",211,{"v":5,"d":"05"},{"v":7,"d":"007"},"静岡県","磐田市","向笠村","篠原",null,"","",{"$f":"IF(K2218=\"\",\"\",COUNTIF($K$7:K2218,\"ﾘｽﾄ１\"))","v":""},"","","","","","","",{"$f":"IF(S2218=\"\",\"\",COUNTIF($S$7:S2218,\"該当２\"))","v":""},"","",{"$f":"IF(V2218=\"\",\"\",COUNTIF($V$7:V2218,\"該当３\"))","v":""}]
[2221105009,"22",211,{"v":5,"d":"05"},{"v":9,"d":"009"},"静岡県","磐田市","向笠村","笠梅原",null,"","",{"$f":"IF(K2220=\"\",\"\",COUNTIF($K$7:K2220,\"ﾘｽﾄ１\"))","v":""},"","","","","","","",{"$f":"IF(S2220=\"\",\"\",COUNTIF($S$7:S2220,\"該当２\"))","v":""},"","",{"$f":"IF(V2220=\"\",\"\",COUNTIF($V$7:V2220,\"該当３\"))","v":""}]
[2221105010,"22",211,{"v":5,"d":"05"},{"v":10,"d":"010"},"静岡県","磐田市","向笠村","新屋原",null,"","",{"$f":"IF(K2221=\"\",\"\",COUNTIF($K$7:K2221,\"ﾘｽﾄ１\"))","v":""},"","","","","","","",{"$f":"IF(S2221=\"\",\"\",COUNTIF($S$7:S2221,\"該当２\"))","v":""},"","",{"$f":"IF(V2221=\"\",\"\",COUNTIF($V$7:V2221,\"該当３\"))","v":""}]
[2221105012,"22",211,{"v":5,"d":"05"},{"v":12,"d":"012"},"静岡県","磐田市","向笠村","向笠西原",null,"","",{"$f":"IF(K2223=\"\",\"\",COUNTIF($K$7:K2223,\"ﾘｽﾄ１\"))","v":""},"","","","","","","",{"$f":"IF(S2223=\"\",\"\",COUNTIF($S$7:S2223,\"該当２\"))","v":""},"","",{"$f":"IF(V2223=\"\",\"\",COUNTIF($V$7:V2223,\"該当３\"))","v":""}]
[2221105013,"22",211,{"v":5,"d":"05"},{"v":13,"d":"013"},"静岡県","磐田市","向笠村","岩井原",null,"","",{"$f":"IF(K2224=\"\",\"\",COUNTIF($K$7:K2224,\"ﾘｽﾄ１\"))","v":""},"","","","","","","",{"$f":"IF(S2224=\"\",\"\",COUNTIF($S$7:S2224,\"該当２\"))","v":""},"","",{"$f":"IF(V2224=\"\",\"\",COUNTIF($V$7:V2224,\"該当３\"))","v":""}]
[2221106000,"22",211,{"v":6,"d":"06"},{"v":0,"d":"000"},"静岡県","磐田市","御厨村",null,null,"","",{"$f":"IF(K2226=\"\",\"\",COUNTIF($K$7:K2226,\"ﾘｽﾄ１\"))","v":""},"","","","","","","",{"$f":"IF(S2226=\"\",\"\",COUNTIF($S$7:S2226,\"該当２\"))","v":""},"","",{"$f":"IF(V2226=\"\",\"\",COUNTIF($V$7:V2226,\"該当３\"))","v":""}]
[2221106001,"22",211,{"v":6,"d":"06"},{"v":1,"d":"001"},"静岡県","磐田市","御厨村","東貝塚",null,"","",{"$f":"IF(K2227=\"\",\"\",COUNTIF($K$7:K2227,\"ﾘｽﾄ１\"))","v":""},"","","","","","","",{"$f":"IF(S2227=\"\",\"\",COUNTIF($S$7:S2227,\"該当２\"))","v":""},"","",{"$f":"IF(V2227=\"\",\"\",COUNTIF($V$7:V2227,\"該当３\"))","v":""}]
[2221106003,"22",211,{"v":6,"d":"06"},{"v":3,"d":"003"},"静岡県","磐田市","御厨村","新貝",null,"","",{"$f":"IF(K2229=\"\",\"\",COUNTIF($K$7:K2229,\"ﾘｽﾄ１\"))","v":""},"","","","","","","",{"$f":"IF(S2229=\"\",\"\",COUNTIF($S$7:S2229,\"該当２\"))","v":""},"","",{"$f":"IF(V2229=\"\",\"\",COUNTIF($V$7:V2229,\"該当３\"))","v":""}]
[2221106004,"22",211,{"v":6,"d":"06"},{"v":4,"d":"004"},"静岡県","磐田市","御厨村","稗原",null,"","",{"$f":"IF(K2230=\"\",\"\",COUNTIF($K$7:K2230,\"ﾘｽﾄ１\"))","v":""},"","","","","","","",{"$f":"IF(S2230=\"\",\"\",COUNTIF($S$7:S2230,\"該当２\"))","v":""},"","",{"$f":"IF(V2230=\"\",\"\",COUNTIF($V$7:V2230,\"該当３\"))","v":""}]
[2221107001,"22",211,{"v":7,"d":"07"},{"v":1,"d":"001"},"静岡県","磐田市","南御厨村２－１","東脇",null,"","",{"$f":"IF(K2232=\"\",\"\",COUNTIF($K$7:K2232,\"ﾘｽﾄ１\"))","v":""},"","","","","","","",{"$f":"IF(S2232=\"\",\"\",COUNTIF($S$7:S2232,\"該当２\"))","v":""},"","",{"$f":"IF(V2232=\"\",\"\",COUNTIF($V$7:V2232,\"該当３\"))","v":""}]
[2221107002,"22",211,{"v":7,"d":"07"},{"v":2,"d":"002"},"静岡県","磐田市","南御厨村２－１","新出",null,"","",{"$f":"IF(K2233=\"\",\"\",COUNTIF($K$7:K2233,\"ﾘｽﾄ１\"))","v":""},"","","","","","","",{"$f":"IF(S2233=\"\",\"\",COUNTIF($S$7:S2233,\"該当２\"))","v":""},"","",{"$f":"IF(V2233=\"\",\"\",COUNTIF($V$7:V2233,\"該当３\"))","v":""}]
[2221107004,"22",211,{"v":7,"d":"07"},{"v":4,"d":"004"},"静岡県","磐田市","南御厨村２－１","東新屋",null,"","",{"$f":"IF(K2235=\"\",\"\",COUNTIF($K$7:K2235,\"ﾘｽﾄ１\"))","v":""},"","","","","","","",{"$f":"IF(S2235=\"\",\"\",COUNTIF($S$7:S2235,\"該当２\"))","v":""},"","",{"$f":"IF(V2235=\"\",\"\",COUNTIF($V$7:V2235,\"該当３\"))","v":""}]
[2221107005,"22",211,{"v":7,"d":"07"},{"v":5,"d":"005"},"静岡県","磐田市","南御厨村２－１","大立野",null,"","",{"$f":"IF(K2236=\"\",\"\",COUNTIF($K$7:K2236,\"ﾘｽﾄ１\"))","v":""},"","","","","","","",{"$f":"IF(S2236=\"\",\"\",COUNTIF($S$7:S2236,\"該当２\"))","v":""},"","",{"$f":"IF(V2236=\"\",\"\",COUNTIF($V$7:V2236,\"該当３\"))","v":""}]
[2221108001,"22",211,{"v":8,"d":"08"},{"v":1,"d":"001"},"静岡県","磐田市","田原村２－１","玉越",null,"","",{"$f":"IF(K2238=\"\",\"\",COUNTIF($K$7:K2238,\"ﾘｽﾄ１\"))","v":""},"","","","","","","",{"$f":"IF(S2238=\"\",\"\",COUNTIF($S$7:S2238,\"該当２\"))","v":""},"","",{"$f":"IF(V2238=\"\",\"\",COUNTIF($V$7:V2238,\"該当３\"))","v":""}]
[2221108002,"22",211,{"v":8,"d":"08"},{"v":2,"d":"002"},"静岡県","磐田市","田原村２－１","西島",null,"","",{"$f":"IF(K2239=\"\",\"\",COUNTIF($K$7:K2239,\"ﾘｽﾄ１\"))","v":""},"","","","","","","",{"$f":"IF(S2239=\"\",\"\",COUNTIF($S$7:S2239,\"該当２\"))","v":""},"","",{"$f":"IF(V2239=\"\",\"\",COUNTIF($V$7:V2239,\"該当３\"))","v":""}]
[2221108004,"22",211,{"v":8,"d":"08"},{"v":4,"d":"004"},"静岡県","磐田市","田原村２－１","三ケ野本村",null,"","",{"$f":"IF(K2241=\"\",\"\",COUNTIF($K$7:K2241,\"ﾘｽﾄ１\"))","v":""},"","","","","","","",{"$f":"IF(S2241=\"\",\"\",COUNTIF($S$7:S2241,\"該当２\"))","v":""},"","",{"$f":"IF(V2241=\"\",\"\",COUNTIF($V$7:V2241,\"該当３\"))","v":""}]
[2221108005,"22",211,{"v":8,"d":"08"},{"v":5,"d":"005"},"静岡県","磐田市","田原村２－１","明ケ島",null,"","",{"$f":"IF(K2242=\"\",\"\",COUNTIF($K$7:K2242,\"ﾘｽﾄ１\"))","v":""},"","","","","","","",{"$f":"IF(S2242=\"\",\"\",COUNTIF($S$7:S2242,\"該当２\"))","v":""},"","",{"$f":"IF(V2242=\"\",\"\",COUNTIF($V$7:V2242,\"該当３\"))","v":""}]
[2221109001,"22",211,{"v":9,"d":"09"},{"v":1,"d":"001"},"静岡県","磐田市","於保村２－２","大和田",null,"","",{"$f":"IF(K2244=\"\",\"\",COUNTIF($K$7:K2244,\"ﾘｽﾄ１\"))","v":""},"","","","","","","",{"$f":"IF(S2244=\"\",\"\",COUNTIF($S$7:S2244,\"該当２\"))","v":""},"","",{"$f":"IF(V2244=\"\",\"\",COUNTIF($V$7:V2244,\"該当３\"))","v":""}]
[2221109002,"22",211,{"v":9,"d":"09"},{"v":2,"d":"002"},"静岡県","磐田市","於保村２－２","上大原",null,"","",{"$f":"IF(K2245=\"\",\"\",COUNTIF($K$7:K2245,\"ﾘｽﾄ１\"))","v":""},"","","","","","","",{"$f":"IF(S2245=\"\",\"\",COUNTIF($S$7:S2245,\"該当２\"))","v":""},"","",{"$f":"IF(V2245=\"\",\"\",COUNTIF($V$7:V2245,\"該当３\"))","v":""}]
[2221109004,"22",211,{"v":9,"d":"09"},{"v":4,"d":"004"},"静岡県","磐田市","於保村２－２","下大之郷",null,"","",{"$f":"IF(K2247=\"\",\"\",COUNTIF($K$7:K2247,\"ﾘｽﾄ１\"))","v":""},"","","","","","","",{"$f":"IF(S2247=\"\",\"\",COUNTIF($S$7:S2247,\"該当２\"))","v":""},"","",{"$f":"IF(V2247=\"\",\"\",COUNTIF($V$7:V2247,\"該当３\"))","v":""}]
[2221109005,"22",211,{"v":9,"d":"09"},{"v":5,"d":"005"},"静岡県","磐田市","於保村２－２","浜部",null,"","",{"$f":"IF(K2248=\"\",\"\",COUNTIF($K$7:K2248,\"ﾘｽﾄ１\"))","v":""},"","","","","","","",{"$f":"IF(S2248=\"\",\"\",COUNTIF($S$7:S2248,\"該当２\"))","v":""},"","",{"$f":"IF(V2248=\"\",\"\",COUNTIF($V$7:V2248,\"該当３\"))","v":""}]
[2221110001,"22",211,10,{"v":1,"d":"001"},"静岡県","磐田市","三川村２－２","大藤１３区",null,"","",{"$f":"IF(K2250=\"\",\"\",COUNTIF($K$7:K2250,\"ﾘｽﾄ１\"))","v":""},"","",{"$f":"IF(O2250=\"該当１\",G2250,\"\")","v":""},{"$f":"IF(O2250=\"該当１\",\"ﾘｽﾄ2\",\"\")","v":""},{"$f":"IF(Q2250=\"ﾘｽﾄ2\",H2250,\"\")","v":""},"",{"$f":"IF(S2250=\"該当２\",H2250,\"\")","v":""},{"$f":"IF(S2250=\"\",\"\",COUNTIF($S$7:S2250,\"該当２\"))","v":""},{"$f":"IF(AND($S$2=H2250,E2250>0,E2250<998),\"該当３\",\"\")","v":""},{"$f":"IF(V2250=\"該当３\",I2250,\"\")","v":""},{"$f":"IF(V2250=\"\",\"\",COUNTIF($V$7:V2250,\"該当３\"))","v":""}]
[2221111000,"22",211,11,{"v":0,"d":"000"},"静岡県","磐田市","福田町",null,null,{"$f":"IF(AND($C2251>0,$H2251=\"\"),\"ﾘｽﾄ１\",\"\")","v":""},{"$f":"IF(K2251=\"ﾘｽﾄ１\",G2251,\"\")","v":""},{"$f":"IF(K2251=\"\",\"\",COUNTIF($K$7:K2251,\"ﾘｽﾄ１\"))","v":""},{"$f":"IF(AND(D2251=0,E2251>0),\"同一区\",\"\")","v":""},{"$f":"IF(AND(EXACT($K$2,G2251),H2251>0),\"該当１\",\"\")","v":""},"","","",{"$f":"IF(AND(Q2251=\"ﾘｽﾄ2\",OR(I2251=0,AND(N2251=\"同一区\",E2251=1))),\"該当２\",\"\")","v":""},"",{"$f":"IF(S2251=\"\",\"\",COUNTIF($S$7:S2251,\"該当２\"))","v":""},"","",{"$f":"IF(V2251=\"\",\"\",COUNTIF($V$7:V2251,\"該当３\"))","v":""}]
[2221111002,"22",211,11,{"v":2,"d":"002"},"静岡県","磐田市","福田町","２番組",null,"","",{"$f":"IF(K2253=\"\",\"\",COUNTIF($K$7:K2253,\"ﾘｽﾄ１\"))","v":""},"","","","","","","",{"$f":"IF(S2253=\"\",\"\",COUNTIF($S$7:S2253,\"該当２\"))","v":""},"","",{"$f":"IF(V2253=\"\",\"\",COUNTIF($V$7:V2253,\"該当３\"))","v":""}]
[2221111003,"22",211,11,{"v":3,"d":"003"},"静岡県","磐田市","福田町","３番組",null,"","",{"$f":"IF(K2254=\"\",\"\",COUNTIF($K$7:K2254,\"ﾘｽﾄ１\"))","v":""},"","","","","","","",{"$f":"IF(S2254=\"\",\"\",COUNTIF($S$7:S2254,\"該当２\"))","v":""},"","",{"$f":"IF(V2254=\"\",\"\",COUNTIF($V$7:V2254,\"該当３\"))","v":""}]
[2221111005,"22",211,11,{"v":5,"d":"005"},"静岡県","磐田市","福田町","５番組",null,"","",{"$f":"IF(K2256=\"\",\"\",COUNTIF($K$7:K2256,\"ﾘｽﾄ１\"))","v":""},"","","","","","","",{"$f":"IF(S2256=\"\",\"\",COUNTIF($S$7:S2256,\"該当２\"))","v":""},"","",{"$f":"IF(V2256=\"\",\"\",COUNTIF($V$7:V2256,\"該当３\"))","v":""}]
[2221111006,"22",211,11,{"v":6,"d":"006"},"静岡県","磐田市","福田町","６－１番組",null,"","",{"$f":"IF(K2257=\"\",\"\",COUNTIF($K$7:K2257,\"ﾘｽﾄ１\"))","v":""},"","","","","","","",{"$f":"IF(S2257=\"\",\"\",COUNTIF($S$7:S2257,\"該当２\"))","v":""},"","",{"$f":"IF(V2257=\"\",\"\",COUNTIF($V$7:V2257,\"該当３\"))","v":""}]
[2221111008,"22",211,11,{"v":8,"d":"008"},"静岡県","磐田市","福田町","６－３番組",null,"","",{"$f":"IF(K2259=\"\",\"\",COUNTIF($K$7:K2259,\"ﾘｽﾄ１\"))","v":""},"","","","","","","",{"$f":"IF(S2259=\"\",\"\",COUNTIF($S$7:S2259,\"該当２\"))","v":""},"","",{"$f":"IF(V2259=\"\",\"\",COUNTIF($V$7:V2259,\"該当３\"))","v":""}]
[2221111009,"22",211,11,{"v":9,"d":"009"},"静岡県","磐田市","福田町","７番組",null,"","",{"$f":"IF(K2260=\"\",\"\",COUNTIF($K$7:K2260,\"ﾘｽﾄ１\"))","v":""},"","","","","","","",{"$f":"IF(S2260=\"\",\"\",COUNTIF($S$7:S2260,\"該当２\"))","v":""},"","",{"$f":"IF(V2260=\"\",\"\",COUNTIF($V$7:V2260,\"該当３\"))","v":""}]
[2221111011,"22",211,11,{"v":11,"d":"011"},"静岡県","磐田市","福田町","９－１番組",null,"","",{"$f":"IF(K2262=\"\",\"\",COUNTIF($K$7:K2262,\"ﾘｽﾄ１\"))","v":""},"","","","","","","",{"$f":"IF(S2262=\"\",\"\",COUNTIF($S$7:S2262,\"該当２\"))","v":""},"","",{"$f":"IF(V2262=\"\",\"\",COUNTIF($V$7:V2262,\"該当３\"))","v":""}]
[2221111012,"22",211,11,{"v":12,"d":"012"},"静岡県","磐田市","福田町","９－２番組",null,"","",{"$f":"IF(K2263=\"\",\"\",COUNTIF($K$7:K2263,\"ﾘｽﾄ１\"))","v":""},"","","","","","","",{"$f":"IF(S2263=\"\",\"\",COUNTIF($S$7:S2263,\"該当２\"))","v":""},"","",{"$f":"IF(V2263=\"\",\"\",COUNTIF($V$7:V2263,\"該当３\"))","v":""}]
[2221111014,"22",211,11,{"v":14,"d":"014"},"静岡県","磐田市","福田町","１１番組",null,"","",{"$f":"IF(K2265=\"\",\"\",COUNTIF($K$7:K2265,\"ﾘｽﾄ１\"))","v":""},"","","","","","","",{"$f":"IF(S2265=\"\",\"\",COUNTIF($S$7:S2265,\"該当２\"))","v":""},"","",{"$f":"IF(V2265=\"\",\"\",COUNTIF($V$7:V2265,\"該当３\"))","v":""}]
[2221111015,"22",211,11,{"v":15,"d":"015"},"静岡県","磐田市","福田町","１２番組",null,"","",{"$f":"IF(K2266=\"\",\"\",COUNTIF($K$7:K2266,\"ﾘｽﾄ１\"))","v":""},"","","","","","","",{"$f":"IF(S2266=\"\",\"\",COUNTIF($S$7:S2266,\"該当２\"))","v":""},"","",{"$f":"IF(V2266=\"\",\"\",COUNTIF($V$7:V2266,\"該当３\"))","v":""}]
[2221111017,"22",211,11,{"v":17,"d":"017"},"静岡県","磐田市","福田町","１４番組",null,"","",{"$f":"IF(K2268=\"\",\"\",COUNTIF($K$7:K2268,\"ﾘｽﾄ１\"))","v":""},"","","","","","","",{"$f":"IF(S2268=\"\",\"\",COUNTIF($S$7:S2268,\"該当２\"))","v":""},"","",{"$f":"IF(V2268=\"\",\"\",COUNTIF($V$7:V2268,\"該当３\"))","v":""}]
[2221111018,"22",211,11,{"v":18,"d":"018"},"静岡県","磐田市","福田町","下太",null,"","",{"$f":"IF(K2269=\"\",\"\",COUNTIF($K$7:K2269,\"ﾘｽﾄ１\"))","v":""},"","","","","","","",{"$f":"IF(S2269=\"\",\"\",COUNTIF($S$7:S2269,\"該当２\"))","v":""},"","",{"$f":"IF(V2269=\"\",\"\",COUNTIF($V$7:V2269,\"該当３\"))","v":""}]
[2221111020,"22",211,11,{"v":20,"d":"020"},"静岡県","磐田市","福田町","本田東組",null,"","",{"$f":"IF(K2271=\"\",\"\",COUNTIF($K$7:K2271,\"ﾘｽﾄ１\"))","v":""},"","","","","","","",{"$f":"IF(S2271=\"\",\"\",COUNTIF($S$7:S2271,\"該当２\"))","v":""},"","",{"$f":"IF(V2271=\"\",\"\",COUNTIF($V$7:V2271,\"該当３\"))","v":""}]
[2221111021,"22",211,11,{"v":21,"d":"021"},"静岡県","磐田市","福田町","本田中組",null,"","",{"$f":"IF(K2272=\"\",\"\",COUNTIF($K$7:K2272,\"ﾘｽﾄ１\"))","v":""},"","","","","","","",{"$f":"IF(S2272=\"\",\"\",COUNTIF($S$7:S2272,\"該当２\"))","v":""},"","",{"$f":"IF(V2272=\"\",\"\",COUNTIF($V$7:V2272,\"該当３\"))","v":""}]
[2221111023,"22",211,11,{"v":23,"d":"023"},"静岡県","磐田市","福田町","新田東組",null,"","",{"$f":"IF(K2274=\"\",\"\",COUNTIF($K$7:K2274,\"ﾘｽﾄ１\"))","v":""},"","","","","","","",{"$f":"IF(S2274=\"\",\"\",COUNTIF($S$7:S2274,\"該当２\"))","v":""},"","",{"$f":"IF(V2274=\"\",\"\",COUNTIF($V$7:V2274,\"該当３\"))","v":""}]
[2221111024,"22",211,11,{"v":24,"d":"024"},"静岡県","磐田市","福田町","新田中組",null,"","",{"$f":"IF(K2275=\"\",\"\",COUNTIF($K$7:K2275,\"ﾘｽﾄ１\"))","v":""},"","","","","","","",{"$f":"IF(S2275=\"\",\"\",COUNTIF($S$7:S2275,\"該当２\"))","v":""},"","",{"$f":"IF(V2275=\"\",\"\",COUNTIF($V$7:V2275,\"該当３\"))","v":""}]
[2221112000,"22",211,12,{"v":0,"d":"000"},"静岡県","磐田市","豊浜村",null,null,"","",{"$f":"IF(K2277=\"\",\"\",COUNTIF($K$7:K2277,\"ﾘｽﾄ１\"))","v":""},"","","","","","","",{"$f":"IF(S2277=\"\",\"\",COUNTIF($S$7:S2277,\"該当２\"))","v":""},"","",{"$f":"IF(V2277=\"\",\"\",COUNTIF($V$7:V2277,\"該当３\"))","v":""}]
[2221112001,"22",211,12,{"v":1,"d":"001"},"静岡県","磐田市","豊浜村","豊浜中野",null,"","",{"$f":"IF(K2278=\"\",\"\",COUNTIF($K$7:K2278,\"ﾘｽﾄ１\"))","v":""},"","","","","","","",{"$f":"IF(S2278=\"\",\"\",COUNTIF($S$7:S2278,\"該当２\"))","v":""},"","",{"$f":"IF(V2278=\"\",\"\",COUNTIF($V$7:V2278,\"該当３\"))","v":""}]
[2221112003,"22",211,12,{"v":3,"d":"003"},"静岡県","磐田市","豊浜村","雁代",null,"","",{"$f":"IF(K2280=\"\",\"\",COUNTIF($K$7:K2280,\"ﾘｽﾄ１\"))","v":""},"","","","","","","",{"$f":"IF(S2280=\"\",\"\",COUNTIF($S$7:S2280,\"該当２\"))","v":""},"","",{"$f":"IF(V2280=\"\",\"\",COUNTIF($V$7:V2280,\"該当３\"))","v":""}]
[2221112004,"22",211,12,{"v":4,"d":"004"},"静岡県","磐田市","豊浜村","大島",null,"","",{"$f":"IF(K2281=\"\",\"\",COUNTIF($K$7:K2281,\"ﾘｽﾄ１\"))","v":""},"","","","","","","",{"$f":"IF(S2281=\"\",\"\",COUNTIF($S$7:S2281,\"該当２\"))","v":""},"","",{"$f":"IF(V2281=\"\",\"\",COUNTIF($V$7:V2281,\"該当３\"))","v":""}]
[2221113001,"22",211,13,{"v":1,"d":"001"},"静岡県","磐田市","於保村２－１","五十子",null,"","",{"$f":"IF(K2283=\"\",\"\",COUNTIF($K$7:K2283,\"ﾘｽﾄ１\"))","v":""},"","","","","","","",{"$f":"IF(S2283=\"\",\"\",COUNTIF($S$7:S2283,\"該当２\"))","v":""},"","",{"$f":"IF(V2283=\"\",\"\",COUNTIF($V$7:V2283,\"該当３\"))","v":""}]
[2221113002,"22",211,13,{"v":2,"d":"002"},"静岡県","磐田市","於保村２－１","下大原",null,"","",{"$f":"IF(K2284=\"\",\"\",COUNTIF($K$7:K2284,\"ﾘｽﾄ１\"))","v":""},"","","","","","","",{"$f":"IF(S2284=\"\",\"\",COUNTIF($S$7:S2284,\"該当２\"))","v":""},"","",{"$f":"IF(V2284=\"\",\"\",COUNTIF($V$7:V2284,\"該当３\"))","v":""}]
[2221113004,"22",211,13,{"v":4,"d":"004"},"静岡県","磐田市","於保村２－１","南田",null,"","",{"$f":"IF(K2286=\"\",\"\",COUNTIF($K$7:K2286,\"ﾘｽﾄ１\"))","v":""},"","","","","","","",{"$f":"IF(S2286=\"\",\"\",COUNTIF($S$7:S2286,\"該当２\"))","v":""},"","",{"$f":"IF(V2286=\"\",\"\",COUNTIF($V$7:V2286,\"該当３\"))","v":""}]
[2221113005,"22",211,13,{"v":5,"d":"005"},"静岡県","磐田市","於保村２－１","一色",null,"","",{"$f":"IF(K2287=\"\",\"\",COUNTIF($K$7:K2287,\"ﾘｽﾄ１\"))","v":""},"","","","","","","",{"$f":"IF(S2287=\"\",\"\",COUNTIF($S$7:S2287,\"該当２\"))","v":""},"","",{"$f":"IF(V2287=\"\",\"\",COUNTIF($V$7:V2287,\"該当３\"))","v":""}]
[2221113007,"22",211,13,{"v":7,"d":"007"},"静岡県","磐田市","於保村２－１","清庵",null,"","",{"$f":"IF(K2289=\"\",\"\",COUNTIF($K$7:K2289,\"ﾘｽﾄ１\"))","v":""},"","","","","","","",{"$f":"IF(S2289=\"\",\"\",COUNTIF($S$7:S2289,\"該当２\"))","v":""},"","",{"$f":"IF(V2289=\"\",\"\",COUNTIF($V$7:V2289,\"該当３\"))","v":""}]
[2221113008,"22",211,13,{"v":8,"d":"008"},"静岡県","磐田市","於保村２－１","塩新田",null,"","",{"$f":"IF(K2290=\"\",\"\",COUNTIF($K$7:K2290,\"ﾘｽﾄ１\"))","v":""},"","","","","","","",{"$f":"IF(S2290=\"\",\"\",COUNTIF($S$7:S2290,\"該当２\"))","v":""},"","",{"$f":"IF(V2290=\"\",\"\",COUNTIF($V$7:V2290,\"該当３\"))","v":""}]
[2221114001,"22",211,14,{"v":1,"d":"001"},"静岡県","磐田市","南御厨村２－２","蛭池",null,"","",{"$f":"IF(K2292=\"\",\"\",COUNTIF($K$7:K2292,\"ﾘｽﾄ１\"))","v":""},"","","","","","","",{"$f":"IF(S2292=\"\",\"\",COUNTIF($S$7:S2292,\"該当２\"))","v":""},"","",{"$f":"IF(V2292=\"\",\"\",COUNTIF($V$7:V2292,\"該当３\"))","v":""}]
[2221114002,"22",211,14,{"v":2,"d":"002"},"静岡県","磐田市","南御厨村２－２","南島",null,"","",{"$f":"IF(K2293=\"\",\"\",COUNTIF($K$7:K2293,\"ﾘｽﾄ１\"))","v":""},"","","","","","","",{"$f":"IF(S2293=\"\",\"\",COUNTIF($S$7:S2293,\"該当２\"))","v":""},"","",{"$f":"IF(V2293=\"\",\"\",COUNTIF($V$7:V2293,\"該当３\"))","v":""}]
[2221115000,"22",211,15,{"v":0,"d":"000"},"静岡県","磐田市","掛塚町",null,null,"","",{"$f":"IF(K2295=\"\",\"\",COUNTIF($K$7:K2295,\"ﾘｽﾄ１\"))","v":""},"","","","","","","",{"$f":"IF(S2295=\"\",\"\",COUNTIF($S$7:S2295,\"該当２\"))","v":""},"","",{"$f":"IF(V2295=\"\",\"\",COUNTIF($V$7:V2295,\"該当３\"))","v":""}]
[2221115001,"22",211,15,{"v":1,"d":"001"},"静岡県","磐田市","掛塚町","蟹町",null,"","",{"$f":"IF(K2296=\"\",\"\",COUNTIF($K$7:K2296,\"ﾘｽﾄ１\"))","v":""},"","","","","","","",{"$f":"IF(S2296=\"\",\"\",COUNTIF($S$7:S2296,\"該当２\"))","v":""},"","",{"$f":"IF(V2296=\"\",\"\",COUNTIF($V$7:V2296,\"該当３\"))","v":""}]
[2221115003,"22",211,15,{"v":3,"d":"003"},"静岡県","磐田市","掛塚町","大当町",null,"","",{"$f":"IF(K2298=\"\",\"\",COUNTIF($K$7:K2298,\"ﾘｽﾄ１\"))","v":""},"","","","","","","",{"$f":"IF(S2298=\"\",\"\",COUNTIF($S$7:S2298,\"該当２\"))","v":""},"","",{"$f":"IF(V2298=\"\",\"\",COUNTIF($V$7:V2298,\"該当３\"))","v":""}]
[2221115004,"22",211,15,{"v":4,"d":"004"},"静岡県","磐田市","掛塚町","田町",null,"","",{"$f":"IF(K2299=\"\",\"\",COUNTIF($K$7:K2299,\"ﾘｽﾄ１\"))","v":""},"","","","","","","",{"$f":"IF(S2299=\"\",\"\",COUNTIF($S$7:S2299,\"該当２\"))","v":""},"","",{"$f":"IF(V2299=\"\",\"\",COUNTIF($V$7:V2299,\"該当３\"))","v":""}]
[2221115006,"22",211,15,{"v":6,"d":"006"},"静岡県","磐田市","掛塚町","中町",null,"","",{"$f":"IF(K2301=\"\",\"\",COUNTIF($K$7:K2301,\"ﾘｽﾄ１\"))","v":""},"","","","","","","",{"$f":"IF(S2301=\"\",\"\",COUNTIF($S$7:S2301,\"該当２\"))","v":""},"","",{"$f":"IF(V2301=\"\",\"\",COUNTIF($V$7:V2301,\"該当３\"))","v":""}]
[2221115007,"22",211,15,{"v":7,"d":"007"},"静岡県","磐田市","掛塚町","砂町",null,"","",{"$f":"IF(K2302=\"\",\"\",COUNTIF($K$7:K2302,\"ﾘｽﾄ１\"))","v":""},"","","","","","","",{"$f":"IF(S2302=\"\",\"\",COUNTIF($S$7:S2302,\"該当２\"))","v":""},"","",{"$f":"IF(V2302=\"\",\"\",COUNTIF($V$7:V2302,\"該当３\"))","v":""}]
[2221115009,"22",211,15,{"v":9,"d":"009"},"静岡県","磐田市","掛塚町","十郎島",null,"","",{"$f":"IF(K2304=\"\",\"\",COUNTIF($K$7:K2304,\"ﾘｽﾄ１\"))","v":""},"","","","","","","",{"$f":"IF(S2304=\"\",\"\",COUNTIF($S$7:S2304,\"該当２\"))","v":""},"","",{"$f":"IF(V2304=\"\",\"\",COUNTIF($V$7:V2304,\"該当３\"))","v":""}]
[2221115010,"22",211,15,{"v":10,"d":"010"},"静岡県","磐田市","掛塚町","本町",null,"","",{"$f":"IF(K2305=\"\",\"\",COUNTIF($K$7:K2305,\"ﾘｽﾄ１\"))","v":""},"","","","","","","",{"$f":"IF(S2305=\"\",\"\",COUNTIF($S$7:S2305,\"該当２\"))","v":""},"","",{"$f":"IF(V2305=\"\",\"\",COUNTIF($V$7:V2305,\"該当３\"))","v":""}]
[2221115012,"22",211,15,{"v":12,"d":"012"},"静岡県","磐田市","掛塚町","内名",null,"","",{"$f":"IF(K2307=\"\",\"\",COUNTIF($K$7:K2307,\"ﾘｽﾄ１\"))","v":""},"","","","","","","",{"$f":"IF(S2307=\"\",\"\",COUNTIF($S$7:S2307,\"該当２\"))","v":""},"","",{"$f":"IF(V2307=\"\",\"\",COUNTIF($V$7:V2307,\"該当３\"))","v":""}]
[2221115013,"22",211,15,{"v":13,"d":"013"},"静岡県","磐田市","掛塚町","西堀",null,"","",{"$f":"IF(K2308=\"\",\"\",COUNTIF($K$7:K2308,\"ﾘｽﾄ１\"))","v":""},"","","","","","","",{"$f":"IF(S2308=\"\",\"\",COUNTIF($S$7:S2308,\"該当２\"))","v":""},"","",{"$f":"IF(V2308=\"\",\"\",COUNTIF($V$7:V2308,\"該当３\"))","v":""}]
[2221115015,"22",211,15,{"v":15,"d":"015"},"静岡県","磐田市","掛塚町","江口",null,"","",{"$f":"IF(K2310=\"\",\"\",COUNTIF($K$7:K2310,\"ﾘｽﾄ１\"))","v":""},"","","","","","","",{"$f":"IF(S2310=\"\",\"\",COUNTIF($S$7:S2310,\"該当２\"))","v":""},"","",{"$f":"IF(V2310=\"\",\"\",COUNTIF($V$7:V2310,\"該当３\"))","v":""}]
[2221115016,"22",211,15,{"v":16,"d":"016"},"静岡県","磐田市","掛塚町","吹上",null,"","",{"$f":"IF(K2311=\"\",\"\",COUNTIF($K$7:K2311,\"ﾘｽﾄ１\"))","v":""},"","","","","","","",{"$f":"IF(S2311=\"\",\"\",COUNTIF($S$7:S2311,\"該当２\"))","v":""},"","",{"$f":"IF(V2311=\"\",\"\",COUNTIF($V$7:V2311,\"該当３\"))","v":""}]
[2221115018,"22",211,15,{"v":18,"d":"018"},"静岡県","磐田市","掛塚町","金洗",null,"","",{"$f":"IF(K2313=\"\",\"\",COUNTIF($K$7:K2313,\"ﾘｽﾄ１\"))","v":""},"","","","","","","",{"$f":"IF(S2313=\"\",\"\",COUNTIF($S$7:S2313,\"該当２\"))","v":""},"","",{"$f":"IF(V2313=\"\",\"\",COUNTIF($V$7:V2313,\"該当３\"))","v":""}]
[2221115019,"22",211,15,{"v":19,"d":"019"},"静岡県","磐田市","掛塚町","東町",null,"","",{"$f":"IF(K2314=\"\",\"\",COUNTIF($K$7:K2314,\"ﾘｽﾄ１\"))","v":""},"","",{"$f":"IF(O2314=\"該当１\",G2314,\"\")","v":""},{"$f":"IF(O2314=\"該当１\",\"ﾘｽﾄ2\",\"\")","v":""},{"$f":"IF(Q2314=\"ﾘｽﾄ2\",H2314,\"\")","v":""},"",{"$f":"IF(S2314=\"該当２\",H2314,\"\")","v":""},{"$f":"IF(S2314=\"\",\"\",COUNTIF($S$7:S2314,\"該当２\"))","v":""},{"$f":"IF(AND($S$2=H2314,E2314>0,E2314<998),\"該当３\",\"\")","v":""},{"$f":"IF(V2314=\"該当３\",I2314,\"\")","v":""},{"$f":"IF(V2314=\"\",\"\",COUNTIF($V$7:V2314,\"該当３\"))","v":""}]
[2221116001,"22",211,16,{"v":1,"d":"001"},"静岡県","磐田市","袖浦村","駒場",null,"","",{"$f":"IF(K2316=\"\",\"\",COUNTIF($K$7:K2316,\"ﾘｽﾄ１\"))","v":""},"","","","","","","",{"$f":"IF(S2316=\"\",\"\",COUNTIF($S$7:S2316,\"該当２\"))","v":""},"","",{"$f":"IF(V2316=\"\",\"\",COUNTIF($V$7:V2316,\"該当３\"))","v":""}]
[2221116002,"22",211,16,{"v":2,"d":"002"},"静岡県","磐田市","袖浦村","岡",null,"","",{"$f":"IF(K2317=\"\",\"\",COUNTIF($K$7:K2317,\"ﾘｽﾄ１\"))","v":""},"","","","","","","",{"$f":"IF(S2317=\"\",\"\",COUNTIF($S$7:S2317,\"該当２\"))","v":""},"","",{"$f":"IF(V2317=\"\",\"\",COUNTIF($V$7:V2317,\"該当３\"))","v":""}]
[2221116004,"22",211,16,{"v":4,"d":"004"},"静岡県","磐田市","袖浦村","中平松",null,"","",{"$f":"IF(K2319=\"\",\"\",COUNTIF($K$7:K2319,\"ﾘｽﾄ１\"))","v":""},"","","","","","","",{"$f":"IF(S2319=\"\",\"\",COUNTIF($S$7:S2319,\"該当２\"))","v":""},"","",{"$f":"IF(V2319=\"\",\"\",COUNTIF($V$7:V2319,\"該当３\"))","v":""}]
[2221116005,"22",211,16,{"v":5,"d":"005"},"静岡県","磐田市","袖浦村","飛平松",null,"","",{"$f":"IF(K2320=\"\",\"\",COUNTIF($K$7:K2320,\"ﾘｽﾄ１\"))","v":""},"","","","","","","",{"$f":"IF(S2320=\"\",\"\",COUNTIF($S$7:S2320,\"該当２\"))","v":""},"","",{"$f":"IF(V2320=\"\",\"\",COUNTIF($V$7:V2320,\"該当３\"))","v":""}]
[2221116007,"22",211,16,{"v":7,"d":"007"},"静岡県","磐田市","袖浦村","海老島",null,"","",{"$f":"IF(K2322=\"\",\"\",COUNTIF($K$7:K2322,\"ﾘｽﾄ１\"))","v":""},"","","","","","","",{"$f":"IF(S2322=\"\",\"\",COUNTIF($S$7:S2322,\"該当２\"))","v":""},"","",{"$f":"IF(V2322=\"\",\"\",COUNTIF($V$7:V2322,\"該当３\"))","v":""}]
[2221116008,"22",211,16,{"v":8,"d":"008"},"静岡県","磐田市","袖浦村","竜洋稗原",null,"","",{"$f":"IF(K2323=\"\",\"\",COUNTIF($K$7:K2323,\"ﾘｽﾄ１\"))","v":""},"","","","","","","",{"$f":"IF(S2323=\"\",\"\",COUNTIF($S$7:S2323,\"該当２\"))","v":""},"","",{"$f":"IF(V2323=\"\",\"\",COUNTIF($V$7:V2323,\"該当３\"))","v":""}]
[2221116010,"22",211,16,{"v":10,"d":"010"},"静岡県","磐田市","袖浦村","小中瀬",null,"","",{"$f":"IF(K2325=\"\",\"\",COUNTIF($K$7:K2325,\"ﾘｽﾄ１\"))","v":""},"","","","","","","",{"$f":"IF(S2325=\"\",\"\",COUNTIF($S$7:S2325,\"該当２\"))","v":""},"","",{"$f":"IF(V2325=\"\",\"\",COUNTIF($V$7:V2325,\"該当３\"))","v":""}]
[2221117000,"22",211,17,{"v":0,"d":"000"},"静岡県","磐田市","十束村２－１",null,null,"","",{"$f":"IF(K2326=\"\",\"\",COUNTIF($K$7:K2326,\"ﾘｽﾄ１\"))","v":""},"","","","","","","",{"$f":"IF(S2326=\"\",\"\",COUNTIF($S$7:S2326,\"該当２\"))","v":""},"","",{"$f":"IF(V2326=\"\",\"\",COUNTIF($V$7:V2326,\"該当３\"))","v":""}]
[2221117002,"22",211,17,{"v":2,"d":"002"},"静岡県","磐田市","十束村２－１","宮本",null,"","",{"$f":"IF(K2328=\"\",\"\",COUNTIF($K$7:K2328,\"ﾘｽﾄ１\"))","v":""},"","","","","","","",{"$f":"IF(S2328=\"\",\"\",COUNTIF($S$7:S2328,\"該当２\"))","v":""},"","",{"$f":"IF(V2328=\"\",\"\",COUNTIF($V$7:V2328,\"該当３\"))","v":""}]
[2221117003,"22",211,17,{"v":3,"d":"003"},"静岡県","磐田市","十束村２－１","高木",null,"","",{"$f":"IF(K2329=\"\",\"\",COUNTIF($K$7:K2329,\"ﾘｽﾄ１\"))","v":""},"","","","","","","",{"$f":"IF(S2329=\"\",\"\",COUNTIF($S$7:S2329,\"該当２\"))","v":""},"","",{"$f":"IF(V2329=\"\",\"\",COUNTIF($V$7:V2329,\"該当３\"))","v":""}]
[2221117005,"22",211,17,{"v":5,"d":"005"},"静岡県","磐田市","十束村２－１","堀之内",null,"","",{"$f":"IF(K2331=\"\",\"\",COUNTIF($K$7:K2331,\"ﾘｽﾄ１\"))","v":""},"","","","","","","",{"$f":"IF(S2331=\"\",\"\",COUNTIF($S$7:S2331,\"該当２\"))","v":""},"","",{"$f":"IF(V2331=\"\",\"\",COUNTIF($V$7:V2331,\"該当３\"))","v":""}]
[2221117006,"22",211,17,{"v":6,"d":"006"},"静岡県","磐田市","十束村２－１","平間",null,"","",{"$f":"IF(K2332=\"\",\"\",COUNTIF($K$7:K2332,\"ﾘｽﾄ１\"))","v":""},"","","","","","","",{"$f":"IF(S2332=\"\",\"\",COUNTIF($S$7:S2332,\"該当２\"))","v":""},"","",{"$f":"IF(V2332=\"\",\"\",COUNTIF($V$7:V2332,\"該当３\"))","v":""}]
[2221118001,"22",211,18,{"v":1,"d":"001"},"静岡県","磐田市","富岡村（磐田市）","匂坂中之郷",null,"","",{"$f":"IF(K2334=\"\",\"\",COUNTIF($K$7:K2334,\"ﾘｽﾄ１\"))","v":""},"","","","","","","",{"$f":"IF(S2334=\"\",\"\",COUNTIF($S$7:S2334,\"該当２\"))","v":""},"","",{"$f":"IF(V2334=\"\",\"\",COUNTIF($V$7:V2334,\"該当３\"))","v":""}]
[2221118002,"22",211,18,{"v":2,"d":"002"},"静岡県","磐田市","富岡村（磐田市）","気賀西",null,"","",{"$f":"IF(K2335=\"\",\"\",COUNTIF($K$7:K2335,\"ﾘｽﾄ１\"))","v":""},"","","","","","","",{"$f":"IF(S2335=\"\",\"\",COUNTIF($S$7:S2335,\"該当２\"))","v":""},"","",{"$f":"IF(V2335=\"\",\"\",COUNTIF($V$7:V2335,\"該当３\"))","v":""}]
[2221118004,"22",211,18,{"v":4,"d":"004"},"静岡県","磐田市","富岡村（磐田市）","加茂川原",null,"","",{"$f":"IF(K2337=\"\",\"\",COUNTIF($K$7:K2337,\"ﾘｽﾄ１\"))","v":""},"","","","","","","",{"$f":"IF(S2337=\"\",\"\",COUNTIF($S$7:S2337,\"該当２\"))","v":""},"","",{"$f":"IF(V2337=\"\",\"\",COUNTIF($V$7:V2337,\"該当３\"))","v":""}]
[2221118005,"22",211,18,{"v":5,"d":"005"},"静岡県","磐田市","富岡村（磐田市）","上気賀",null,"","",{"$f":"IF(K2338=\"\",\"\",COUNTIF($K$7:K2338,\"ﾘｽﾄ１\"))","v":""},"","","","","","","",{"$f":"IF(S2338=\"\",\"\",COUNTIF($S$7:S2338,\"該当２\"))","v":""},"","",{"$f":"IF(V2338=\"\",\"\",COUNTIF($V$7:V2338,\"該当３\"))","v":""}]
[2221118007,"22",211,18,{"v":7,"d":"007"},"静岡県","磐田市","富岡村（磐田市）","中野戸",null,"","",{"$f":"IF(K2340=\"\",\"\",COUNTIF($K$7:K2340,\"ﾘｽﾄ１\"))","v":""},"","","","","","","",{"$f":"IF(S2340=\"\",\"\",COUNTIF($S$7:S2340,\"該当２\"))","v":""},"","",{"$f":"IF(V2340=\"\",\"\",COUNTIF($V$7:V2340,\"該当３\"))","v":""}]
[2221118008,"22",211,18,{"v":8,"d":"008"},"静岡県","磐田市","富岡村（磐田市）","匂坂西",null,"","",{"$f":"IF(K2341=\"\",\"\",COUNTIF($K$7:K2341,\"ﾘｽﾄ１\"))","v":""},"","","","","","","",{"$f":"IF(S2341=\"\",\"\",COUNTIF($S$7:S2341,\"該当２\"))","v":""},"","",{"$f":"IF(V2341=\"\",\"\",COUNTIF($V$7:V2341,\"該当３\"))","v":""}]
[2221118010,"22",211,18,{"v":10,"d":"010"},"静岡県","磐田市","富岡村（磐田市）","加茂東",null,"","",{"$f":"IF(K2343=\"\",\"\",COUNTIF($K$7:K2343,\"ﾘｽﾄ１\"))","v":""},"","","","","","","",{"$f":"IF(S2343=\"\",\"\",COUNTIF($S$7:S2343,\"該当２\"))","v":""},"","",{"$f":"IF(V2343=\"\",\"\",COUNTIF($V$7:V2343,\"該当３\"))","v":""}]
[2221118011,"22",211,18,{"v":11,"d":"011"},"静岡県","磐田市","富岡村（磐田市）","加茂西",null,"","",{"$f":"IF(K2344=\"\",\"\",COUNTIF($K$7:K2344,\"ﾘｽﾄ１\"))","v":""},"","","","","","","",{"$f":"IF(S2344=\"\",\"\",COUNTIF($S$7:S2344,\"該当２\"))","v":""},"","",{"$f":"IF(V2344=\"\",\"\",COUNTIF($V$7:V2344,\"該当３\"))","v":""}]
[2221118013,"22",211,18,{"v":13,"d":"013"},"静岡県","磐田市","富岡村（磐田市）","東原",null,"","",{"$f":"IF(K2346=\"\",\"\",COUNTIF($K$7:K2346,\"ﾘｽﾄ１\"))","v":""},"","","","","","","",{"$f":"IF(S2346=\"\",\"\",COUNTIF($S$7:S2346,\"該当２\"))","v":""},"","",{"$f":"IF(V2346=\"\",\"\",COUNTIF($V$7:V2346,\"該当３\"))","v":""}]
[2221119000,"22",211,19,{"v":0,"d":"000"},"静岡県","磐田市","池田村",null,null,"","",{"$f":"IF(K2347=\"\",\"\",COUNTIF($K$7:K2347,\"ﾘｽﾄ１\"))","v":""},"","","","","","","",{"$f":"IF(S2347=\"\",\"\",COUNTIF($S$7:S2347,\"該当２\"))","v":""},"","",{"$f":"IF(V2347=\"\",\"\",COUNTIF($V$7:V2347,\"該当３\"))","v":""}]
[2221119002,"22",211,19,{"v":2,"d":"002"},"静岡県","磐田市","池田村","林",null,"","",{"$f":"IF(K2349=\"\",\"\",COUNTIF($K$7:K2349,\"ﾘｽﾄ１\"))","v":""},"","","","","","","",{"$f":"IF(S2349=\"\",\"\",COUNTIF($S$7:S2349,\"該当２\"))","v":""},"","",{"$f":"IF(V2349=\"\",\"\",COUNTIF($V$7:V2349,\"該当３\"))","v":""}]
[2221119003,"22",211,19,{"v":3,"d":"003"},"静岡県","磐田市","池田村","上町",null,"","",{"$f":"IF(K2350=\"\",\"\",COUNTIF($K$7:K2350,\"ﾘｽﾄ１\"))","v":""},"","","","","","","",{"$f":"IF(S2350=\"\",\"\",COUNTIF($S$7:S2350,\"該当２\"))","v":""},"","",{"$f":"IF(V2350=\"\",\"\",COUNTIF($V$7:V2350,\"該当３\"))","v":""}]
[2221119005,"22",211,19,{"v":5,"d":"005"},"静岡県","磐田市","池田村","新町",null,"","",{"$f":"IF(K2352=\"\",\"\",COUNTIF($K$7:K2352,\"ﾘｽﾄ１\"))","v":""},"","","","","","","",{"$f":"IF(S2352=\"\",\"\",COUNTIF($S$7:S2352,\"該当２\"))","v":""},"","",{"$f":"IF(V2352=\"\",\"\",COUNTIF($V$7:V2352,\"該当３\"))","v":""}]
[2221119006,"22",211,19,{"v":6,"d":"006"},"静岡県","磐田市","池田村","下町・八町",null,"","",{"$f":"IF(K2353=\"\",\"\",COUNTIF($K$7:K2353,\"ﾘｽﾄ１\"))","v":""},"","","","","","","",{"$f":"IF(S2353=\"\",\"\",COUNTIF($S$7:S2353,\"該当２\"))","v":""},"","",{"$f":"IF(V2353=\"\",\"\",COUNTIF($V$7:V2353,\"該当３\"))","v":""}]
[2221119008,"22",211,19,{"v":8,"d":"008"},"静岡県","磐田市","池田村","居楽・下横町",null,"","",{"$f":"IF(K2355=\"\",\"\",COUNTIF($K$7:K2355,\"ﾘｽﾄ１\"))","v":""},"","","","","","","",{"$f":"IF(S2355=\"\",\"\",COUNTIF($S$7:S2355,\"該当２\"))","v":""},"","",{"$f":"IF(V2355=\"\",\"\",COUNTIF($V$7:V2355,\"該当３\"))","v":""}]
[2221120000,"22",211,20,{"v":0,"d":"000"},"静岡県","磐田市","井通村",null,null,"","",{"$f":"IF(K2356=\"\",\"\",COUNTIF($K$7:K2356,\"ﾘｽﾄ１\"))","v":""},"","","","","","","",{"$f":"IF(S2356=\"\",\"\",COUNTIF($S$7:S2356,\"該当２\"))","v":""},"","",{"$f":"IF(V2356=\"\",\"\",COUNTIF($V$7:V2356,\"該当３\"))","v":""}]
[2221120002,"22",211,20,{"v":2,"d":"002"},"静岡県","磐田市","井通村","上万能",null,"","",{"$f":"IF(K2358=\"\",\"\",COUNTIF($K$7:K2358,\"ﾘｽﾄ１\"))","v":""},"","","","","","","",{"$f":"IF(S2358=\"\",\"\",COUNTIF($S$7:S2358,\"該当２\"))","v":""},"","",{"$f":"IF(V2358=\"\",\"\",COUNTIF($V$7:V2358,\"該当３\"))","v":""}]
[2221120003,"22",211,20,{"v":3,"d":"003"},"静岡県","磐田市","井通村","弥藤太島",null,"","",{"$f":"IF(K2359=\"\",\"\",COUNTIF($K$7:K2359,\"ﾘｽﾄ１\"))","v":""},"","","","","","","",{"$f":"IF(S2359=\"\",\"\",COUNTIF($S$7:S2359,\"該当２\"))","v":""},"","",{"$f":"IF(V2359=\"\",\"\",COUNTIF($V$7:V2359,\"該当３\"))","v":""}]
[2221120005,"22",211,20,{"v":5,"d":"005"},"静岡県","磐田市","井通村","上新屋",null,"","",{"$f":"IF(K2361=\"\",\"\",COUNTIF($K$7:K2361,\"ﾘｽﾄ１\"))","v":""},"","","","","","","",{"$f":"IF(S2361=\"\",\"\",COUNTIF($S$7:S2361,\"該当２\"))","v":""},"","",{"$f":"IF(V2361=\"\",\"\",COUNTIF($V$7:V2361,\"該当３\"))","v":""}]
[2221120006,"22",211,20,{"v":6,"d":"006"},"静岡県","磐田市","井通村","小立野",null,"","",{"$f":"IF(K2362=\"\",\"\",COUNTIF($K$7:K2362,\"ﾘｽﾄ１\"))","v":""},"","","","","","","",{"$f":"IF(S2362=\"\",\"\",COUNTIF($S$7:S2362,\"該当２\"))","v":""},"","",{"$f":"IF(V2362=\"\",\"\",COUNTIF($V$7:V2362,\"該当３\"))","v":""}]
[2221120008,"22",211,20,{"v":8,"d":"008"},"静岡県","磐田市","井通村","長森",null,"","",{"$f":"IF(K2364=\"\",\"\",COUNTIF($K$7:K2364,\"ﾘｽﾄ１\"))","v":""},"","","","","","","",{"$f":"IF(S2364=\"\",\"\",COUNTIF($S$7:S2364,\"該当２\"))","v":""},"","",{"$f":"IF(V2364=\"\",\"\",COUNTIF($V$7:V2364,\"該当３\"))","v":""}]
[2221120009,"22",211,20,{"v":9,"d":"009"},"静岡県","磐田市","井通村","豊田西之島",null,"","",{"$f":"IF(K2365=\"\",\"\",COUNTIF($K$7:K2365,\"ﾘｽﾄ１\"))","v":""},"","","","","","","",{"$f":"IF(S2365=\"\",\"\",COUNTIF($S$7:S2365,\"該当２\"))","v":""},"","",{"$f":"IF(V2365=\"\",\"\",COUNTIF($V$7:V2365,\"該当３\"))","v":""}]
[2221120011,"22",211,20,{"v":11,"d":"011"},"静岡県","磐田市","井通村","立野",null,"","",{"$f":"IF(K2367=\"\",\"\",COUNTIF($K$7:K2367,\"ﾘｽﾄ１\"))","v":""},"","","","","","","",{"$f":"IF(S2367=\"\",\"\",COUNTIF($S$7:S2367,\"該当２\"))","v":""},"","",{"$f":"IF(V2367=\"\",\"\",COUNTIF($V$7:V2367,\"該当３\"))","v":""}]
[2221120012,"22",211,20,{"v":12,"d":"012"},"静岡県","磐田市","井通村","森下",null,"","",{"$f":"IF(K2368=\"\",\"\",COUNTIF($K$7:K2368,\"ﾘｽﾄ１\"))","v":""},"","","","","","","",{"$f":"IF(S2368=\"\",\"\",COUNTIF($S$7:S2368,\"該当２\"))","v":""},"","",{"$f":"IF(V2368=\"\",\"\",COUNTIF($V$7:V2368,\"該当３\"))","v":""}]
[2221120014,"22",211,20,{"v":14,"d":"014"},"静岡県","磐田市","井通村","気子島",null,"","",{"$f":"IF(K2370=\"\",\"\",COUNTIF($K$7:K2370,\"ﾘｽﾄ１\"))","v":""},"","","","","","","",{"$f":"IF(S2370=\"\",\"\",COUNTIF($S$7:S2370,\"該当２\"))","v":""},"","",{"$f":"IF(V2370=\"\",\"\",COUNTIF($V$7:V2370,\"該当３\"))","v":""}]
[2221120015,"22",211,20,{"v":15,"d":"015"},"静岡県","磐田市","井通村","笹原島",null,"","",{"$f":"IF(K2371=\"\",\"\",COUNTIF($K$7:K2371,\"ﾘｽﾄ１\"))","v":""},"","","","","","","",{"$f":"IF(S2371=\"\",\"\",COUNTIF($S$7:S2371,\"該当２\"))","v":""},"","",{"$f":"IF(V2371=\"\",\"\",COUNTIF($V$7:V2371,\"該当３\"))","v":""}]
[2221120017,"22",211,20,{"v":17,"d":"017"},"静岡県","磐田市","井通村","下万能",null,"","",{"$f":"IF(K2373=\"\",\"\",COUNTIF($K$7:K2373,\"ﾘｽﾄ１\"))","v":""},"","","","","","","",{"$f":"IF(S2373=\"\",\"\",COUNTIF($S$7:S2373,\"該当２\"))","v":""},"","",{"$f":"IF(V2373=\"\",\"\",COUNTIF($V$7:V2373,\"該当３\"))","v":""}]
[2221120018,"22",211,20,{"v":18,"d":"018"},"静岡県","磐田市","井通村","宮之一色",null,"","",{"$f":"IF(K2374=\"\",\"\",COUNTIF($K$7:K2374,\"ﾘｽﾄ１\"))","v":""},"","","","","","","",{"$f":"IF(S2374=\"\",\"\",COUNTIF($S$7:S2374,\"該当２\"))","v":""},"","",{"$f":"IF(V2374=\"\",\"\",COUNTIF($V$7:V2374,\"該当３\"))","v":""}]
[2221121001,"22",211,21,{"v":1,"d":"001"},"静岡県","磐田市","十束村２－２","上本郷",null,"","",{"$f":"IF(K2376=\"\",\"\",COUNTIF($K$7:K2376,\"ﾘｽﾄ１\"))","v":""},"","","","","","","",{"$f":"IF(S2376=\"\",\"\",COUNTIF($S$7:S2376,\"該当２\"))","v":""},"","",{"$f":"IF(V2376=\"\",\"\",COUNTIF($V$7:V2376,\"該当３\"))","v":""}]
[2221121002,"22",211,21,{"v":2,"d":"002"},"静岡県","磐田市","十束村２－２","下本郷",null,"","",{"$f":"IF(K2377=\"\",\"\",COUNTIF($K$7:K2377,\"ﾘｽﾄ１\"))","v":""},"","","","","","","",{"$f":"IF(S2377=\"\",\"\",COUNTIF($S$7:S2377,\"該当２\"))","v":""},"","",{"$f":"IF(V2377=\"\",\"\",COUNTIF($V$7:V2377,\"該当３\"))","v":""}]
[2221122000,"22",211,22,{"v":0,"d":"000"},"静岡県","磐田市","広瀬村",null,null,{"$f":"IF(AND($C2379>0,$H2379=\"\"),\"ﾘｽﾄ１\",\"\")","v":""},{"$f":"IF(K2379=\"ﾘｽﾄ１\",G2379,\"\")","v":""},{"$f":"IF(K2379=\"\",\"\",COUNTIF($K$7:K2379,\"ﾘｽﾄ１\"))","v":""},{"$f":"IF(AND(D2379=0,E2379>0),\"同一区\",\"\")","v":""},{"$f":"IF(AND(EXACT($K$2,G2379),H2379>0),\"該当１\",\"\")","v":""},"","","",{"$f":"IF(AND(Q2379=\"ﾘｽﾄ2\",OR(I2379=0,AND(N2379=\"同一区\",E2379=1))),\"該当２\",\"\")","v":""},"",{"$f":"IF(S2379=\"\",\"\",COUNTIF($S$7:S2379,\"該当２\"))","v":""},"","",{"$f":"IF(V2379=\"\",\"\",COUNTIF($V$7:V2379,\"該当３\"))","v":""}]
[2221122001,"22",211,22,{"v":1,"d":"001"},"静岡県","磐田市","広瀬村","壱貫地",null,"","",{"$f":"IF(K2380=\"\",\"\",COUNTIF($K$7:K2380,\"ﾘｽﾄ１\"))","v":""},"","","","","","","",{"$f":"IF(S2380=\"\",\"\",COUNTIF($S$7:S2380,\"該当２\"))","v":""},"","",{"$f":"IF(V2380=\"\",\"\",COUNTIF($V$7:V2380,\"該当３\"))","v":""}]
[2221122003,"22",211,22,{"v":3,"d":"003"},"静岡県","磐田市","広瀬村","社山",null,"","",{"$f":"IF(K2382=\"\",\"\",COUNTIF($K$7:K2382,\"ﾘｽﾄ１\"))","v":""},"","","","","","","",{"$f":"IF(S2382=\"\",\"\",COUNTIF($S$7:S2382,\"該当２\"))","v":""},"","",{"$f":"IF(V2382=\"\",\"\",COUNTIF($V$7:V2382,\"該当３\"))","v":""}]
[2221122004,"22",211,22,{"v":4,"d":"004"},"静岡県","磐田市","広瀬村","平松",null,"","",{"$f":"IF(K2383=\"\",\"\",COUNTIF($K$7:K2383,\"ﾘｽﾄ１\"))","v":""},"","","","","","","",{"$f":"IF(S2383=\"\",\"\",COUNTIF($S$7:S2383,\"該当２\"))","v":""},"","",{"$f":"IF(V2383=\"\",\"\",COUNTIF($V$7:V2383,\"該当３\"))","v":""}]
[2221122006,"22",211,22,{"v":6,"d":"006"},"静岡県","磐田市","広瀬村","松之木島下",null,"","",{"$f":"IF(K2385=\"\",\"\",COUNTIF($K$7:K2385,\"ﾘｽﾄ１\"))","v":""},"","","","","","","",{"$f":"IF(S2385=\"\",\"\",COUNTIF($S$7:S2385,\"該当２\"))","v":""},"","",{"$f":"IF(V2385=\"\",\"\",COUNTIF($V$7:V2385,\"該当３\"))","v":""}]
[2221122007,"22",211,22,{"v":7,"d":"007"},"静岡県","磐田市","広瀬村","松之木島上",null,"","",{"$f":"IF(K2386=\"\",\"\",COUNTIF($K$7:K2386,\"ﾘｽﾄ１\"))","v":""},"","","","","","","",{"$f":"IF(S2386=\"\",\"\",COUNTIF($S$7:S2386,\"該当２\"))","v":""},"","",{"$f":"IF(V2386=\"\",\"\",COUNTIF($V$7:V2386,\"該当３\"))","v":""}]
[2221122009,"22",211,22,{"v":9,"d":"009"},"静岡県","磐田市","広瀬村","下神増",null,"","",{"$f":"IF(K2388=\"\",\"\",COUNTIF($K$7:K2388,\"ﾘｽﾄ１\"))","v":""},"","","","","","","",{"$f":"IF(S2388=\"\",\"\",COUNTIF($S$7:S2388,\"該当２\"))","v":""},"","",{"$f":"IF(V2388=\"\",\"\",COUNTIF($V$7:V2388,\"該当３\"))","v":""}]
[2221122010,"22",211,22,{"v":10,"d":"010"},"静岡県","磐田市","広瀬村","惣兵衛",null,"","",{"$f":"IF(K2389=\"\",\"\",COUNTIF($K$7:K2389,\"ﾘｽﾄ１\"))","v":""},"","","","","","","",{"$f":"IF(S2389=\"\",\"\",COUNTIF($S$7:S2389,\"該当２\"))","v":""},"","",{"$f":"IF(V2389=\"\",\"\",COUNTIF($V$7:V2389,\"該当３\"))","v":""}]
[2221123000,"22",211,23,{"v":0,"d":"000"},"静岡県","磐田市","野部村",null,null,"","",{"$f":"IF(K2391=\"\",\"\",COUNTIF($K$7:K2391,\"ﾘｽﾄ１\"))","v":""},"","","","","","","",{"$f":"IF(S2391=\"\",\"\",COUNTIF($S$7:S2391,\"該当２\"))","v":""},"","",{"$f":"IF(V2391=\"\",\"\",COUNTIF($V$7:V2391,\"該当３\"))","v":""}]
[2221123001,"22",211,23,{"v":1,"d":"001"},"静岡県","磐田市","野部村","神田",null,"","",{"$f":"IF(K2392=\"\",\"\",COUNTIF($K$7:K2392,\"ﾘｽﾄ１\"))","v":""},"","","","","","","",{"$f":"IF(S2392=\"\",\"\",COUNTIF($S$7:S2392,\"該当２\"))","v":""},"","",{"$f":"IF(V2392=\"\",\"\",COUNTIF($V$7:V2392,\"該当３\"))","v":""}]
[2221123003,"22",211,23,{"v":3,"d":"003"},"静岡県","磐田市","野部村","本村",null,"","",{"$f":"IF(K2394=\"\",\"\",COUNTIF($K$7:K2394,\"ﾘｽﾄ１\"))","v":""},"","","","","","","",{"$f":"IF(S2394=\"\",\"\",COUNTIF($S$7:S2394,\"該当２\"))","v":""},"","",{"$f":"IF(V2394=\"\",\"\",COUNTIF($V$7:V2394,\"該当３\"))","v":""}]
[2221123004,"22",211,23,{"v":4,"d":"004"},"静岡県","磐田市","野部村","太郎馬",null,"","",{"$f":"IF(K2395=\"\",\"\",COUNTIF($K$7:K2395,\"ﾘｽﾄ１\"))","v":""},"","","","","","","",{"$f":"IF(S2395=\"\",\"\",COUNTIF($S$7:S2395,\"該当２\"))","v":""},"","",{"$f":"IF(V2395=\"\",\"\",COUNTIF($V$7:V2395,\"該当３\"))","v":""}]
[2221123006,"22",211,23,{"v":6,"d":"006"},"静岡県","磐田市","野部村","川原",null,"","",{"$f":"IF(K2397=\"\",\"\",COUNTIF($K$7:K2397,\"ﾘｽﾄ１\"))","v":""},"","","","","","","",{"$f":"IF(S2397=\"\",\"\",COUNTIF($S$7:S2397,\"該当２\"))","v":""},"","",{"$f":"IF(V2397=\"\",\"\",COUNTIF($V$7:V2397,\"該当３\"))","v":""}]
[2221123007,"22",211,23,{"v":7,"d":"007"},"静岡県","磐田市","野部村","亀井戸",null,"","",{"$f":"IF(K2398=\"\",\"\",COUNTIF($K$7:K2398,\"ﾘｽﾄ１\"))","v":""},"","","","","","","",{"$f":"IF(S2398=\"\",\"\",COUNTIF($S$7:S2398,\"該当２\"))","v":""},"","",{"$f":"IF(V2398=\"\",\"\",COUNTIF($V$7:V2398,\"該当３\"))","v":""}]
[2221123009,"22",211,23,{"v":9,"d":"009"},"静岡県","磐田市","野部村","合代島上",null,"","",{"$f":"IF(K2400=\"\",\"\",COUNTIF($K$7:K2400,\"ﾘｽﾄ１\"))","v":""},"","","","","","","",{"$f":"IF(S2400=\"\",\"\",COUNTIF($S$7:S2400,\"該当２\"))","v":""},"","",{"$f":"IF(V2400=\"\",\"\",COUNTIF($V$7:V2400,\"該当３\"))","v":""}]
[2221123010,"22",211,23,{"v":10,"d":"010"},"静岡県","磐田市","野部村","合代島下",null,"","",{"$f":"IF(K2401=\"\",\"\",COUNTIF($K$7:K2401,\"ﾘｽﾄ１\"))","v":""},"","","","","","","",{"$f":"IF(S2401=\"\",\"\",COUNTIF($S$7:S2401,\"該当２\"))","v":""},"","",{"$f":"IF(V2401=\"\",\"\",COUNTIF($V$7:V2401,\"該当３\"))","v":""}]
[2221124000,"22",211,24,{"v":0,"d":"000"},"静岡県","磐田市","敷地村",null,null,"","",{"$f":"IF(K2403=\"\",\"\",COUNTIF($K$7:K2403,\"ﾘｽﾄ１\"))","v":""},"","","","","","","",{"$f":"IF(S2403=\"\",\"\",COUNTIF($S$7:S2403,\"該当２\"))","v":""},"","",{"$f":"IF(V2403=\"\",\"\",COUNTIF($V$7:V2403,\"該当３\"))","v":""}]
[2221124001,"22",211,24,{"v":1,"d":"001"},"静岡県","磐田市","敷地村","大当所",null,"","",{"$f":"IF(K2404=\"\",\"\",COUNTIF($K$7:K2404,\"ﾘｽﾄ１\"))","v":""},"","","","","","","",{"$f":"IF(S2404=\"\",\"\",COUNTIF($S$7:S2404,\"該当２\"))","v":""},"","",{"$f":"IF(V2404=\"\",\"\",COUNTIF($V$7:V2404,\"該当３\"))","v":""}]
[2221124003,"22",211,24,{"v":3,"d":"003"},"静岡県","磐田市","敷地村","西ノ谷南",null,"","",{"$f":"IF(K2406=\"\",\"\",COUNTIF($K$7:K2406,\"ﾘｽﾄ１\"))","v":""},"","","","","","","",{"$f":"IF(S2406=\"\",\"\",COUNTIF($S$7:S2406,\"該当２\"))","v":""},"","",{"$f":"IF(V2406=\"\",\"\",COUNTIF($V$7:V2406,\"該当３\"))","v":""}]
[2221124004,"22",211,24,{"v":4,"d":"004"},"静岡県","磐田市","敷地村","西ノ谷北",null,"","",{"$f":"IF(K2407=\"\",\"\",COUNTIF($K$7:K2407,\"ﾘｽﾄ１\"))","v":""},"","","","","","","",{"$f":"IF(S2407=\"\",\"\",COUNTIF($S$7:S2407,\"該当２\"))","v":""},"","",{"$f":"IF(V2407=\"\",\"\",COUNTIF($V$7:V2407,\"該当３\"))","v":""}]
[2221124006,"22",211,24,{"v":6,"d":"006"},"静岡県","磐田市","敷地村","敷地北",null,"","",{"$f":"IF(K2409=\"\",\"\",COUNTIF($K$7:K2409,\"ﾘｽﾄ１\"))","v":""},"","","","","","","",{"$f":"IF(S2409=\"\",\"\",COUNTIF($S$7:S2409,\"該当２\"))","v":""},"","",{"$f":"IF(V2409=\"\",\"\",COUNTIF($V$7:V2409,\"該当３\"))","v":""}]
[2221124007,"22",211,24,{"v":7,"d":"007"},"静岡県","磐田市","敷地村","家田",null,"","",{"$f":"IF(K2410=\"\",\"\",COUNTIF($K$7:K2410,\"ﾘｽﾄ１\"))","v":""},"","","","","","","",{"$f":"IF(S2410=\"\",\"\",COUNTIF($S$7:S2410,\"該当２\"))","v":""},"","",{"$f":"IF(V2410=\"\",\"\",COUNTIF($V$7:V2410,\"該当３\"))","v":""}]
[2221124009,"22",211,24,{"v":9,"d":"009"},"静岡県","磐田市","敷地村","大平南",null,"","",{"$f":"IF(K2412=\"\",\"\",COUNTIF($K$7:K2412,\"ﾘｽﾄ１\"))","v":""},"","","","","","","",{"$f":"IF(S2412=\"\",\"\",COUNTIF($S$7:S2412,\"該当２\"))","v":""},"","",{"$f":"IF(V2412=\"\",\"\",COUNTIF($V$7:V2412,\"該当３\"))","v":""}]
[2221124010,"22",211,24,{"v":10,"d":"010"},"静岡県","磐田市","敷地村","大平北",null,"","",{"$f":"IF(K2413=\"\",\"\",COUNTIF($K$7:K2413,\"ﾘｽﾄ１\"))","v":""},"","","","","","","",{"$f":"IF(S2413=\"\",\"\",COUNTIF($S$7:S2413,\"該当２\"))","v":""},"","",{"$f":"IF(V2413=\"\",\"\",COUNTIF($V$7:V2413,\"該当３\"))","v":""}]
[2221124012,"22",211,24,{"v":12,"d":"012"},"静岡県","磐田市","敷地村","万瀬",null,"","",{"$f":"IF(K2415=\"\",\"\",COUNTIF($K$7:K2415,\"ﾘｽﾄ１\"))","v":""},"","","","","","","",{"$f":"IF(S2415=\"\",\"\",COUNTIF($S$7:S2415,\"該当２\"))","v":""},"","",{"$f":"IF(V2415=\"\",\"\",COUNTIF($V$7:V2415,\"該当３\"))","v":""}]
[2221200000,"22",212,{"v":0,"d":"00"},{"v":0,"d":"000"},"静岡県","焼津市",{"$nulls":3},"ﾘｽﾄ１","焼津市",{"$f":"IF(K2416=\"\",\"\",COUNTIF($K$7:K2416,\"ﾘｽﾄ１\"))","v":21},"","","","","","","",{"$f":"IF(S2416=\"\",\"\",COUNTIF($S$7:S2416,\"該当２\"))","v":""},"","",{"$f":"IF(V2416=\"\",\"\",COUNTIF($V$7:V2416,\"該当３\"))","v":""}]
[2221201001,"22",212,{"v":1,"d":"01"},{"v":1,"d":"001"},"静岡県","焼津市","焼津町","八楠",null,"","",{"$f":"IF(K2418=\"\",\"\",COUNTIF($K$7:K2418,\"ﾘｽﾄ１\"))","v":""},"","","","","","","",{"$f":"IF(S2418=\"\",\"\",COUNTIF($S$7:S2418,\"該当２\"))","v":""},"","",{"$f":"IF(V2418=\"\",\"\",COUNTIF($V$7:V2418,\"該当３\"))","v":""}]
[2221201002,"22",212,{"v":1,"d":"01"},{"v":2,"d":"002"},"静岡県","焼津市","焼津町","牛田",null,"","",{"$f":"IF(K2419=\"\",\"\",COUNTIF($K$7:K2419,\"ﾘｽﾄ１\"))","v":""},"","","","","","","",{"$f":"IF(S2419=\"\",\"\",COUNTIF($S$7:S2419,\"該当２\"))","v":""},"","",{"$f":"IF(V2419=\"\",\"\",COUNTIF($V$7:V2419,\"該当３\"))","v":""}]
[2221201004,"22",212,{"v":1,"d":"01"},{"v":4,"d":"004"},"静岡県","焼津市","焼津町","大村新田",null,"","",{"$f":"IF(K2421=\"\",\"\",COUNTIF($K$7:K2421,\"ﾘｽﾄ１\"))","v":""},"","","","","","","",{"$f":"IF(S2421=\"\",\"\",COUNTIF($S$7:S2421,\"該当２\"))","v":""},"","",{"$f":"IF(V2421=\"\",\"\",COUNTIF($V$7:V2421,\"該当３\"))","v":""}]
[2221201005,"22",212,{"v":1,"d":"01"},{"v":5,"d":"005"},"静岡県","焼津市","焼津町","塩津",null,"","",{"$f":"IF(K2422=\"\",\"\",COUNTIF($K$7:K2422,\"ﾘｽﾄ１\"))","v":""},"","","","","","","",{"$f":"IF(S2422=\"\",\"\",COUNTIF($S$7:S2422,\"該当２\"))","v":""},"","",{"$f":"IF(V2422=\"\",\"\",COUNTIF($V$7:V2422,\"該当３\"))","v":""}]
[2221201007,"22",212,{"v":1,"d":"01"},{"v":7,"d":"007"},"静岡県","焼津市","焼津町","中",null,"","",{"$f":"IF(K2424=\"\",\"\",COUNTIF($K$7:K2424,\"ﾘｽﾄ１\"))","v":""},"","","","","","","",{"$f":"IF(S2424=\"\",\"\",COUNTIF($S$7:S2424,\"該当２\"))","v":""},"","",{"$f":"IF(V2424=\"\",\"\",COUNTIF($V$7:V2424,\"該当３\"))","v":""}]
[2221201008,"22",212,{"v":1,"d":"01"},{"v":8,"d":"008"},"静岡県","焼津市","焼津町","市街地",null,"","",{"$f":"IF(K2425=\"\",\"\",COUNTIF($K$7:K2425,\"ﾘｽﾄ１\"))","v":""},"","","","","","","",{"$f":"IF(S2425=\"\",\"\",COUNTIF($S$7:S2425,\"該当２\"))","v":""},"","",{"$f":"IF(V2425=\"\",\"\",COUNTIF($V$7:V2425,\"該当３\"))","v":""}]
[2221201010,"22",212,{"v":1,"d":"01"},{"v":10,"d":"010"},"静岡県","焼津市","焼津町","焼津１",null,"","",{"$f":"IF(K2427=\"\",\"\",COUNTIF($K$7:K2427,\"ﾘｽﾄ１\"))","v":""},"","","","","","","",{"$f":"IF(S2427=\"\",\"\",COUNTIF($S$7:S2427,\"該当２\"))","v":""},"","",{"$f":"IF(V2427=\"\",\"\",COUNTIF($V$7:V2427,\"該当３\"))","v":""}]
[2221202000,"22",212,{"v":2,"d":"02"},{"v":0,"d":"000"},"静岡県","焼津市","豊田村",null,null,"","",{"$f":"IF(K2428=\"\",\"\",COUNTIF($K$7:K2428,\"ﾘｽﾄ１\"))","v":""},"","","","","","","",{"$f":"IF(S2428=\"\",\"\",COUNTIF($S$7:S2428,\"該当２\"))","v":""},"","",{"$f":"IF(V2428=\"\",\"\",COUNTIF($V$7:V2428,\"該当３\"))","v":""}]
[2221202002,"22",212,{"v":2,"d":"02"},{"v":2,"d":"002"},"静岡県","焼津市","豊田村","小土",null,"","",{"$f":"IF(K2430=\"\",\"\",COUNTIF($K$7:K2430,\"ﾘｽﾄ１\"))","v":""},"","","","","","","",{"$f":"IF(S2430=\"\",\"\",COUNTIF($S$7:S2430,\"該当２\"))","v":""},"","",{"$f":"IF(V2430=\"\",\"\",COUNTIF($V$7:V2430,\"該当３\"))","v":""}]
[2221202003,"22",212,{"v":2,"d":"02"},{"v":3,"d":"003"},"静岡県","焼津市","豊田村","五ケ堀之内",null,"","",{"$f":"IF(K2431=\"\",\"\",COUNTIF($K$7:K2431,\"ﾘｽﾄ１\"))","v":""},"","","","","","","",{"$f":"IF(S2431=\"\",\"\",COUNTIF($S$7:S2431,\"該当２\"))","v":""},"","",{"$f":"IF(V2431=\"\",\"\",COUNTIF($V$7:V2431,\"該当３\"))","v":""}]
[2221202005,"22",212,{"v":2,"d":"02"},{"v":5,"d":"005"},"静岡県","焼津市","豊田村","小柳津",null,"","",{"$f":"IF(K2433=\"\",\"\",COUNTIF($K$7:K2433,\"ﾘｽﾄ１\"))","v":""},"","","","","","","",{"$f":"IF(S2433=\"\",\"\",COUNTIF($S$7:S2433,\"該当２\"))","v":""},"","",{"$f":"IF(V2433=\"\",\"\",COUNTIF($V$7:V2433,\"該当３\"))","v":""}]
[2221202006,"22",212,{"v":2,"d":"02"},{"v":6,"d":"006"},"静岡県","焼津市","豊田村","柳新屋",null,"","",{"$f":"IF(K2434=\"\",\"\",COUNTIF($K$7:K2434,\"ﾘｽﾄ１\"))","v":""},"","","","","","","",{"$f":"IF(S2434=\"\",\"\",COUNTIF($S$7:S2434,\"該当２\"))","v":""},"","",{"$f":"IF(V2434=\"\",\"\",COUNTIF($V$7:V2434,\"該当３\"))","v":""}]
[2221203000,"22",212,{"v":3,"d":"03"},{"v":0,"d":"000"},"静岡県","焼津市","大富村",null,null,"","",{"$f":"IF(K2436=\"\",\"\",COUNTIF($K$7:K2436,\"ﾘｽﾄ１\"))","v":""},"","","","","","","",{"$f":"IF(S2436=\"\",\"\",COUNTIF($S$7:S2436,\"該当２\"))","v":""},"","",{"$f":"IF(V2436=\"\",\"\",COUNTIF($V$7:V2436,\"該当３\"))","v":""}]
[2221203001,"22",212,{"v":3,"d":"03"},{"v":1,"d":"001"},"静岡県","焼津市","大富村","大富第１支部",null,"","",{"$f":"IF(K2437=\"\",\"\",COUNTIF($K$7:K2437,\"ﾘｽﾄ１\"))","v":""},"","","","","","","",{"$f":"IF(S2437=\"\",\"\",COUNTIF($S$7:S2437,\"該当２\"))","v":""},"","",{"$f":"IF(V2437=\"\",\"\",COUNTIF($V$7:V2437,\"該当３\"))","v":""}]
[2221203003,"22",212,{"v":3,"d":"03"},{"v":3,"d":"003"},"静岡県","焼津市","大富村","大富第３支部",null,"","",{"$f":"IF(K2439=\"\",\"\",COUNTIF($K$7:K2439,\"ﾘｽﾄ１\"))","v":""},"","","","","","","",{"$f":"IF(S2439=\"\",\"\",COUNTIF($S$7:S2439,\"該当２\"))","v":""},"","",{"$f":"IF(V2439=\"\",\"\",COUNTIF($V$7:V2439,\"該当３\"))","v":""}]
[2221203004,"22",212,{"v":3,"d":"03"},{"v":4,"d":"004"},"静岡県","焼津市","大富村","大富第４支部",null,"","",{"$f":"IF(K2440=\"\",\"\",COUNTIF($K$7:K2440,\"ﾘｽﾄ１\"))","v":""},"","","","","","","",{"$f":"IF(S2440=\"\",\"\",COUNTIF($S$7:S2440,\"該当２\"))","v":""},"","",{"$f":"IF(V2440=\"\",\"\",COUNTIF($V$7:V2440,\"該当３\"))","v":""}]
[2221203006,"22",212,{"v":3,"d":"03"},{"v":6,"d":"006"},"静岡県","焼津市","大富村","大富第６支部",null,"","",{"$f":"IF(K2442=\"\",\"\",COUNTIF($K$7:K2442,\"ﾘｽﾄ１\"))","v":""},"","",{"$f":"IF(O2442=\"該当１\",G2442,\"\")","v":""},{"$f":"IF(O2442=\"該当１\",\"ﾘｽﾄ2\",\"\")","v":""},{"$f":"IF(Q2442=\"ﾘｽﾄ2\",H2442,\"\")","v":""},"",{"$f":"IF(S2442=\"該当２\",H2442,\"\")","v":""},{"$f":"IF(S2442=\"\",\"\",COUNTIF($S$7:S2442,\"該当２\"))","v":""},{"$f":"IF(AND($S$2=H2442,E2442>0,E2442<998),\"該当３\",\"\")","v":""},{"$f":"IF(V2442=\"該当３\",I2442,\"\")","v":""},{"$f":"IF(V2442=\"\",\"\",COUNTIF($V$7:V2442,\"該当３\"))","v":""}]
[2221203007,"22",212,{"v":3,"d":"03"},{"v":7,"d":"007"},"静岡県","焼津市","大富村","大富第７支部",null,{"$f":"IF(AND($C2443>0,$H2443=\"\"),\"ﾘｽﾄ１\",\"\")","v":""},{"$f":"IF(K2443=\"ﾘｽﾄ１\",G2443,\"\")","v":""},{"$f":"IF(K2443=\"\",\"\",COUNTIF($K$7:K2443,\"ﾘｽﾄ１\"))","v":""},{"$f":"IF(AND(D2443=0,E2443>0),\"同一区\",\"\")","v":""},{"$f":"IF(AND(EXACT($K$2,G2443),H2443>0),\"該当１\",\"\")","v":""},"","","",{"$f":"IF(AND(Q2443=\"ﾘｽﾄ2\",OR(I2443=0,AND(N2443=\"同一区\",E2443=1))),\"該当２\",\"\")","v":""},"",{"$f":"IF(S2443=\"\",\"\",COUNTIF($S$7:S2443,\"該当２\"))","v":""},"","",{"$f":"IF(V2443=\"\",\"\",COUNTIF($V$7:V2443,\"該当３\"))","v":""}]
[2221203009,"22",212,{"v":3,"d":"03"},{"v":9,"d":"009"},"静岡県","焼津市","大富村","大富第９支部",null,"","",{"$f":"IF(K2445=\"\",\"\",COUNTIF($K$7:K2445,\"ﾘｽﾄ１\"))","v":""},"","","","","","","",{"$f":"IF(S2445=\"\",\"\",COUNTIF($S$7:S2445,\"該当２\"))","v":""},"","",{"$f":"IF(V2445=\"\",\"\",COUNTIF($V$7:V2445,\"該当３\"))","v":""}]
[2221203010,"22",212,{"v":3,"d":"03"},{"v":10,"d":"010"},"静岡県","焼津市","大富村","大富第１０支部",null,"","",{"$f":"IF(K2446=\"\",\"\",COUNTIF($K$7:K2446,\"ﾘｽﾄ１\"))","v":""},"","","","","","","",{"$f":"IF(S2446=\"\",\"\",COUNTIF($S$7:S2446,\"該当２\"))","v":""},"","",{"$f":"IF(V2446=\"\",\"\",COUNTIF($V$7:V2446,\"該当３\"))","v":""}]
[2221203012,"22",212,{"v":3,"d":"03"},{"v":12,"d":"012"},"静岡県","焼津市","大富村","大富第１２支部",null,"","",{"$f":"IF(K2448=\"\",\"\",COUNTIF($K$7:K2448,\"ﾘｽﾄ１\"))","v":""},"","","","","","","",{"$f":"IF(S2448=\"\",\"\",COUNTIF($S$7:S2448,\"該当２\"))","v":""},"","",{"$f":"IF(V2448=\"\",\"\",COUNTIF($V$7:V2448,\"該当３\"))","v":""}]
[2221203013,"22",212,{"v":3,"d":"03"},{"v":13,"d":"013"},"静岡県","焼津市","大富村","大富第１３支部",null,"","",{"$f":"IF(K2449=\"\",\"\",COUNTIF($K$7:K2449,\"ﾘｽﾄ１\"))","v":""},"","","","","","","",{"$f":"IF(S2449=\"\",\"\",COUNTIF($S$7:S2449,\"該当２\"))","v":""},"","",{"$f":"IF(V2449=\"\",\"\",COUNTIF($V$7:V2449,\"該当３\"))","v":""}]
[2221203015,"22",212,{"v":3,"d":"03"},{"v":15,"d":"015"},"静岡県","焼津市","大富村","大富第１５支部",null,"","",{"$f":"IF(K2451=\"\",\"\",COUNTIF($K$7:K2451,\"ﾘｽﾄ１\"))","v":""},"","","","","","","",{"$f":"IF(S2451=\"\",\"\",COUNTIF($S$7:S2451,\"該当２\"))","v":""},"","",{"$f":"IF(V2451=\"\",\"\",COUNTIF($V$7:V2451,\"該当３\"))","v":""}]
[2221204000,"22",212,{"v":4,"d":"04"},{"v":0,"d":"000"},"静岡県","焼津市","和田村（焼津市）",null,null,"","",{"$f":"IF(K2452=\"\",\"\",COUNTIF($K$7:K2452,\"ﾘｽﾄ１\"))","v":""},"","","","","","","",{"$f":"IF(S2452=\"\",\"\",COUNTIF($S$7:S2452,\"該当２\"))","v":""},"","",{"$f":"IF(V2452=\"\",\"\",COUNTIF($V$7:V2452,\"該当３\"))","v":""}]
[2221204002,"22",212,{"v":4,"d":"04"},{"v":2,"d":"002"},"静岡県","焼津市","和田村（焼津市）","和田第２支部",null,"","",{"$f":"IF(K2454=\"\",\"\",COUNTIF($K$7:K2454,\"ﾘｽﾄ１\"))","v":""},"","","","","","","",{"$f":"IF(S2454=\"\",\"\",COUNTIF($S$7:S2454,\"該当２\"))","v":""},"","",{"$f":"IF(V2454=\"\",\"\",COUNTIF($V$7:V2454,\"該当３\"))","v":""}]
[2221204003,"22",212,{"v":4,"d":"04"},{"v":3,"d":"003"},"静岡県","焼津市","和田村（焼津市）","和田第３支部",null,"","",{"$f":"IF(K2455=\"\",\"\",COUNTIF($K$7:K2455,\"ﾘｽﾄ１\"))","v":""},"","","","","","","",{"$f":"IF(S2455=\"\",\"\",COUNTIF($S$7:S2455,\"該当２\"))","v":""},"","",{"$f":"IF(V2455=\"\",\"\",COUNTIF($V$7:V2455,\"該当３\"))","v":""}]
[2221204005,"22",212,{"v":4,"d":"04"},{"v":5,"d":"005"},"静岡県","焼津市","和田村（焼津市）","和田第５支部",null,"","",{"$f":"IF(K2457=\"\",\"\",COUNTIF($K$7:K2457,\"ﾘｽﾄ１\"))","v":""},"","","","","","","",{"$f":"IF(S2457=\"\",\"\",COUNTIF($S$7:S2457,\"該当２\"))","v":""},"","",{"$f":"IF(V2457=\"\",\"\",COUNTIF($V$7:V2457,\"該当３\"))","v":""}]
[2221204006,"22",212,{"v":4,"d":"04"},{"v":6,"d":"006"},"静岡県","焼津市","和田村（焼津市）","和田第６支部",null,"","",{"$f":"IF(K2458=\"\",\"\",COUNTIF($K$7:K2458,\"ﾘｽﾄ１\"))","v":""},"","","","","","","",{"$f":"IF(S2458=\"\",\"\",COUNTIF($S$7:S2458,\"該当２\"))","v":""},"","",{"$f":"IF(V2458=\"\",\"\",COUNTIF($V$7:V2458,\"該当３\"))","v":""}]
[2221204008,"22",212,{"v":4,"d":"04"},{"v":8,"d":"008"},"静岡県","焼津市","和田村（焼津市）","和田第８支部",null,"","",{"$f":"IF(K2460=\"\",\"\",COUNTIF($K$7:K2460,\"ﾘｽﾄ１\"))","v":""},"","","","","","","",{"$f":"IF(S2460=\"\",\"\",COUNTIF($S$7:S2460,\"該当２\"))","v":""},"","",{"$f":"IF(V2460=\"\",\"\",COUNTIF($V$7:V2460,\"該当３\"))","v":""}]
[2221204009,"22",212,{"v":4,"d":"04"},{"v":9,"d":"009"},"静岡県","焼津市","和田村（焼津市）","和田第９支部",null,"","",{"$f":"IF(K2461=\"\",\"\",COUNTIF($K$7:K2461,\"ﾘｽﾄ１\"))","v":""},"","","","","","","",{"$f":"IF(S2461=\"\",\"\",COUNTIF($S$7:S2461,\"該当２\"))","v":""},"","",{"$f":"IF(V2461=\"\",\"\",COUNTIF($V$7:V2461,\"該当３\"))","v":""}]
[2221204011,"22",212,{"v":4,"d":"04"},{"v":11,"d":"011"},"静岡県","焼津市","和田村（焼津市）","和田第１１支部",null,"","",{"$f":"IF(K2463=\"\",\"\",COUNTIF($K$7:K2463,\"ﾘｽﾄ１\"))","v":""},"","","","","","","",{"$f":"IF(S2463=\"\",\"\",COUNTIF($S$7:S2463,\"該当２\"))","v":""},"","",{"$f":"IF(V2463=\"\",\"\",COUNTIF($V$7:V2463,\"該当３\"))","v":""}]
[2221204012,"22",212,{"v":4,"d":"04"},{"v":12,"d":"012"},"静岡県","焼津市","和田村（焼津市）","和田第１２支部",null,"","",{"$f":"IF(K2464=\"\",\"\",COUNTIF($K$7:K2464,\"ﾘｽﾄ１\"))","v":""},"","","","","","","",{"$f":"IF(S2464=\"\",\"\",COUNTIF($S$7:S2464,\"該当２\"))","v":""},"","",{"$f":"IF(V2464=\"\",\"\",COUNTIF($V$7:V2464,\"該当３\"))","v":""}]
[2221204014,"22",212,{"v":4,"d":"04"},{"v":14,"d":"014"},"静岡県","焼津市","和田村（焼津市）","和田第１４支部",null,"","",{"$f":"IF(K2466=\"\",\"\",COUNTIF($K$7:K2466,\"ﾘｽﾄ１\"))","v":""},"","","","","","","",{"$f":"IF(S2466=\"\",\"\",COUNTIF($S$7:S2466,\"該当２\"))","v":""},"","",{"$f":"IF(V2466=\"\",\"\",COUNTIF($V$7:V2466,\"該当３\"))","v":""}]
[2221204015,"22",212,{"v":4,"d":"04"},{"v":15,"d":"015"},"静岡県","焼津市","和田村（焼津市）","和田第１５支部",null,"","",{"$f":"IF(K2467=\"\",\"\",COUNTIF($K$7:K2467,\"ﾘｽﾄ１\"))","v":""},"","","","","","","",{"$f":"IF(S2467=\"\",\"\",COUNTIF($S$7:S2467,\"該当２\"))","v":""},"","",{"$f":"IF(V2467=\"\",\"\",COUNTIF($V$7:V2467,\"該当３\"))","v":""}]
[2221205001,"22",212,{"v":5,"d":"05"},{"v":1,"d":"001"},"静岡県","焼津市","小川村","小川第１支部",null,"","",{"$f":"IF(K2469=\"\",\"\",COUNTIF($K$7:K2469,\"ﾘｽﾄ１\"))","v":""},"","","","","","","",{"$f":"IF(S2469=\"\",\"\",COUNTIF($S$7:S2469,\"該当２\"))","v":""},"","",{"$f":"IF(V2469=\"\",\"\",COUNTIF($V$7:V2469,\"該当３\"))","v":""}]
[2221205002,"22",212,{"v":5,"d":"05"},{"v":2,"d":"002"},"静岡県","焼津市","小川村","小川第２支部（Ａ）",null,"","",{"$f":"IF(K2470=\"\",\"\",COUNTIF($K$7:K2470,\"ﾘｽﾄ１\"))","v":""},"","","","","","","",{"$f":"IF(S2470=\"\",\"\",COUNTIF($S$7:S2470,\"該当２\"))","v":""},"","",{"$f":"IF(V2470=\"\",\"\",COUNTIF($V$7:V2470,\"該当３\"))","v":""}]
[2221205004,"22",212,{"v":5,"d":"05"},{"v":4,"d":"004"},"静岡県","焼津市","小川村","小川第２支部（Ｃ）",null,"","",{"$f":"IF(K2472=\"\",\"\",COUNTIF($K$7:K2472,\"ﾘｽﾄ１\"))","v":""},"","","","","","","",{"$f":"IF(S2472=\"\",\"\",COUNTIF($S$7:S2472,\"該当２\"))","v":""},"","",{"$f":"IF(V2472=\"\",\"\",COUNTIF($V$7:V2472,\"該当３\"))","v":""}]
[2221205005,"22",212,{"v":5,"d":"05"},{"v":5,"d":"005"},"静岡県","焼津市","小川村","小川第３支部",null,"","",{"$f":"IF(K2473=\"\",\"\",COUNTIF($K$7:K2473,\"ﾘｽﾄ１\"))","v":""},"","","","","","","",{"$f":"IF(S2473=\"\",\"\",COUNTIF($S$7:S2473,\"該当２\"))","v":""},"","",{"$f":"IF(V2473=\"\",\"\",COUNTIF($V$7:V2473,\"該当３\"))","v":""}]
[2221205007,"22",212,{"v":5,"d":"05"},{"v":7,"d":"007"},"静岡県","焼津市","小川村","小川第８支部",null,"","",{"$f":"IF(K2475=\"\",\"\",COUNTIF($K$7:K2475,\"ﾘｽﾄ１\"))","v":""},"","","","","","","",{"$f":"IF(S2475=\"\",\"\",COUNTIF($S$7:S2475,\"該当２\"))","v":""},"","",{"$f":"IF(V2475=\"\",\"\",COUNTIF($V$7:V2475,\"該当３\"))","v":""}]
[2221205008,"22",212,{"v":5,"d":"05"},{"v":8,"d":"008"},"静岡県","焼津市","小川村","小川第９支部（Ａ）",null,"","",{"$f":"IF(K2476=\"\",\"\",COUNTIF($K$7:K2476,\"ﾘｽﾄ１\"))","v":""},"","","","","","","",{"$f":"IF(S2476=\"\",\"\",COUNTIF($S$7:S2476,\"該当２\"))","v":""},"","",{"$f":"IF(V2476=\"\",\"\",COUNTIF($V$7:V2476,\"該当３\"))","v":""}]
[2221205010,"22",212,{"v":5,"d":"05"},{"v":10,"d":"010"},"静岡県","焼津市","小川村","小川第９支部（Ｂ）",null,"","",{"$f":"IF(K2478=\"\",\"\",COUNTIF($K$7:K2478,\"ﾘｽﾄ１\"))","v":""},"","","","","","","",{"$f":"IF(S2478=\"\",\"\",COUNTIF($S$7:S2478,\"該当２\"))","v":""},"","",{"$f":"IF(V2478=\"\",\"\",COUNTIF($V$7:V2478,\"該当３\"))","v":""}]
[2221206000,"22",212,{"v":6,"d":"06"},{"v":0,"d":"000"},"静岡県","焼津市","東益津村",null,null,"","",{"$f":"IF(K2479=\"\",\"\",COUNTIF($K$7:K2479,\"ﾘｽﾄ１\"))","v":""},"","","","","","","",{"$f":"IF(S2479=\"\",\"\",COUNTIF($S$7:S2479,\"該当２\"))","v":""},"","",{"$f":"IF(V2479=\"\",\"\",COUNTIF($V$7:V2479,\"該当３\"))","v":""}]
[2221206002,"22",212,{"v":6,"d":"06"},{"v":2,"d":"002"},"静岡県","焼津市","東益津村","関方",null,"","",{"$f":"IF(K2481=\"\",\"\",COUNTIF($K$7:K2481,\"ﾘｽﾄ１\"))","v":""},"","","","","","","",{"$f":"IF(S2481=\"\",\"\",COUNTIF($S$7:S2481,\"該当２\"))","v":""},"","",{"$f":"IF(V2481=\"\",\"\",COUNTIF($V$7:V2481,\"該当３\"))","v":""}]
[2221206003,"22",212,{"v":6,"d":"06"},{"v":3,"d":"003"},"静岡県","焼津市","東益津村","方ノ上",null,"","",{"$f":"IF(K2482=\"\",\"\",COUNTIF($K$7:K2482,\"ﾘｽﾄ１\"))","v":""},"","","","","","","",{"$f":"IF(S2482=\"\",\"\",COUNTIF($S$7:S2482,\"該当２\"))","v":""},"","",{"$f":"IF(V2482=\"\",\"\",COUNTIF($V$7:V2482,\"該当３\"))","v":""}]
[2221206005,"22",212,{"v":6,"d":"06"},{"v":5,"d":"005"},"静岡県","焼津市","東益津村","高崎",null,"","",{"$f":"IF(K2484=\"\",\"\",COUNTIF($K$7:K2484,\"ﾘｽﾄ１\"))","v":""},"","","","","","","",{"$f":"IF(S2484=\"\",\"\",COUNTIF($S$7:S2484,\"該当２\"))","v":""},"","",{"$f":"IF(V2484=\"\",\"\",COUNTIF($V$7:V2484,\"該当３\"))","v":""}]
[2221206006,"22",212,{"v":6,"d":"06"},{"v":6,"d":"006"},"静岡県","焼津市","東益津村","吉津",null,"","",{"$f":"IF(K2485=\"\",\"\",COUNTIF($K$7:K2485,\"ﾘｽﾄ１\"))","v":""},"","","","","","","",{"$f":"IF(S2485=\"\",\"\",COUNTIF($S$7:S2485,\"該当２\"))","v":""},"","",{"$f":"IF(V2485=\"\",\"\",COUNTIF($V$7:V2485,\"該当３\"))","v":""}]
[2221206008,"22",212,{"v":6,"d":"06"},{"v":8,"d":"008"},"静岡県","焼津市","東益津村","野秋",null,"","",{"$f":"IF(K2487=\"\",\"\",COUNTIF($K$7:K2487,\"ﾘｽﾄ１\"))","v":""},"","","","","","","",{"$f":"IF(S2487=\"\",\"\",COUNTIF($S$7:S2487,\"該当２\"))","v":""},"","",{"$f":"IF(V2487=\"\",\"\",COUNTIF($V$7:V2487,\"該当３\"))","v":""}]
[2221206009,"22",212,{"v":6,"d":"06"},{"v":9,"d":"009"},"静岡県","焼津市","東益津村","小浜",null,"","",{"$f":"IF(K2488=\"\",\"\",COUNTIF($K$7:K2488,\"ﾘｽﾄ１\"))","v":""},"","","","","","","",{"$f":"IF(S2488=\"\",\"\",COUNTIF($S$7:S2488,\"該当２\"))","v":""},"","",{"$f":"IF(V2488=\"\",\"\",COUNTIF($V$7:V2488,\"該当３\"))","v":""}]
[2221206011,"22",212,{"v":6,"d":"06"},{"v":11,"d":"011"},"静岡県","焼津市","東益津村","浜１",null,"","",{"$f":"IF(K2490=\"\",\"\",COUNTIF($K$7:K2490,\"ﾘｽﾄ１\"))","v":""},"","","","","","","",{"$f":"IF(S2490=\"\",\"\",COUNTIF($S$7:S2490,\"該当２\"))","v":""},"","",{"$f":"IF(V2490=\"\",\"\",COUNTIF($V$7:V2490,\"該当３\"))","v":""}]
[2221206012,"22",212,{"v":6,"d":"06"},{"v":12,"d":"012"},"静岡県","焼津市","東益津村","浜２",null,"","",{"$f":"IF(K2491=\"\",\"\",COUNTIF($K$7:K2491,\"ﾘｽﾄ１\"))","v":""},"","","","","","","",{"$f":"IF(S2491=\"\",\"\",COUNTIF($S$7:S2491,\"該当２\"))","v":""},"","",{"$f":"IF(V2491=\"\",\"\",COUNTIF($V$7:V2491,\"該当３\"))","v":""}]
[2221206014,"22",212,{"v":6,"d":"06"},{"v":14,"d":"014"},"静岡県","焼津市","東益津村","浜４",null,"","",{"$f":"IF(K2493=\"\",\"\",COUNTIF($K$7:K2493,\"ﾘｽﾄ１\"))","v":""},"","","","","","","",{"$f":"IF(S2493=\"\",\"\",COUNTIF($S$7:S2493,\"該当２\"))","v":""},"","",{"$f":"IF(V2493=\"\",\"\",COUNTIF($V$7:V2493,\"該当３\"))","v":""}]
[2221206015,"22",212,{"v":6,"d":"06"},{"v":15,"d":"015"},"静岡県","焼津市","東益津村","浜５",null,"","",{"$f":"IF(K2494=\"\",\"\",COUNTIF($K$7:K2494,\"ﾘｽﾄ１\"))","v":""},"","","","","","","",{"$f":"IF(S2494=\"\",\"\",COUNTIF($S$7:S2494,\"該当２\"))","v":""},"","",{"$f":"IF(V2494=\"\",\"\",COUNTIF($V$7:V2494,\"該当３\"))","v":""}]
[2221206017,"22",212,{"v":6,"d":"06"},{"v":17,"d":"017"},"静岡県","焼津市","東益津村","中里",null,"","",{"$f":"IF(K2496=\"\",\"\",COUNTIF($K$7:K2496,\"ﾘｽﾄ１\"))","v":""},"","","","","","","",{"$f":"IF(S2496=\"\",\"\",COUNTIF($S$7:S2496,\"該当２\"))","v":""},"","",{"$f":"IF(V2496=\"\",\"\",COUNTIF($V$7:V2496,\"該当３\"))","v":""}]
[2221206018,"22",212,{"v":6,"d":"06"},{"v":18,"d":"018"},"静岡県","焼津市","東益津村","石脇上",null,"","",{"$f":"IF(K2497=\"\",\"\",COUNTIF($K$7:K2497,\"ﾘｽﾄ１\"))","v":""},"","","","","","","",{"$f":"IF(S2497=\"\",\"\",COUNTIF($S$7:S2497,\"該当２\"))","v":""},"","",{"$f":"IF(V2497=\"\",\"\",COUNTIF($V$7:V2497,\"該当３\"))","v":""}]
[2221207000,"22",212,{"v":7,"d":"07"},{"v":0,"d":"000"},"静岡県","焼津市","広幡村２－２",null,null,"","",{"$f":"IF(K2499=\"\",\"\",COUNTIF($K$7:K2499,\"ﾘｽﾄ１\"))","v":""},"","","","","","","",{"$f":"IF(S2499=\"\",\"\",COUNTIF($S$7:S2499,\"該当２\"))","v":""},"","",{"$f":"IF(V2499=\"\",\"\",COUNTIF($V$7:V2499,\"該当３\"))","v":""}]
[2221207001,"22",212,{"v":7,"d":"07"},{"v":1,"d":"001"},"静岡県","焼津市","広幡村２－２","越後島",null,"","",{"$f":"IF(K2500=\"\",\"\",COUNTIF($K$7:K2500,\"ﾘｽﾄ１\"))","v":""},"","","","","","","",{"$f":"IF(S2500=\"\",\"\",COUNTIF($S$7:S2500,\"該当２\"))","v":""},"","",{"$f":"IF(V2500=\"\",\"\",COUNTIF($V$7:V2500,\"該当３\"))","v":""}]
[2221208001,"22",212,{"v":8,"d":"08"},{"v":1,"d":"001"},"静岡県","焼津市","西益津村２－２","大覚寺",null,"","",{"$f":"IF(K2502=\"\",\"\",COUNTIF($K$7:K2502,\"ﾘｽﾄ１\"))","v":""},"","","","","","","",{"$f":"IF(S2502=\"\",\"\",COUNTIF($S$7:S2502,\"該当２\"))","v":""},"","",{"$f":"IF(V2502=\"\",\"\",COUNTIF($V$7:V2502,\"該当３\"))","v":""}]
[2221209000,"22",212,{"v":9,"d":"09"},{"v":0,"d":"000"},"静岡県","焼津市","静浜村",null,null,"","",{"$f":"IF(K2503=\"\",\"\",COUNTIF($K$7:K2503,\"ﾘｽﾄ１\"))","v":""},"","","","","","","",{"$f":"IF(S2503=\"\",\"\",COUNTIF($S$7:S2503,\"該当２\"))","v":""},"","",{"$f":"IF(V2503=\"\",\"\",COUNTIF($V$7:V2503,\"該当３\"))","v":""}]
[2221209002,"22",212,{"v":9,"d":"09"},{"v":2,"d":"002"},"静岡県","焼津市","静浜村","中の島",null,"","",{"$f":"IF(K2505=\"\",\"\",COUNTIF($K$7:K2505,\"ﾘｽﾄ１\"))","v":""},"","","","","","","",{"$f":"IF(S2505=\"\",\"\",COUNTIF($S$7:S2505,\"該当２\"))","v":""},"","",{"$f":"IF(V2505=\"\",\"\",COUNTIF($V$7:V2505,\"該当３\"))","v":""}]
[2221209003,"22",212,{"v":9,"d":"09"},{"v":3,"d":"003"},"静岡県","焼津市","静浜村","下の島",null,"","",{"$f":"IF(K2506=\"\",\"\",COUNTIF($K$7:K2506,\"ﾘｽﾄ１\"))","v":""},"","",{"$f":"IF(O2506=\"該当１\",G2506,\"\")","v":""},{"$f":"IF(O2506=\"該当１\",\"ﾘｽﾄ2\",\"\")","v":""},{"$f":"IF(Q2506=\"ﾘｽﾄ2\",H2506,\"\")","v":""},"",{"$f":"IF(S2506=\"該当２\",H2506,\"\")","v":""},{"$f":"IF(S2506=\"\",\"\",COUNTIF($S$7:S2506,\"該当２\"))","v":""},{"$f":"IF(AND($S$2=H2506,E2506>0,E2506<998),\"該当３\",\"\")","v":""},{"$f":"IF(V2506=\"該当３\",I2506,\"\")","v":""},{"$f":"IF(V2506=\"\",\"\",COUNTIF($V$7:V2506,\"該当３\"))","v":""}]
[2221209005,"22",212,{"v":9,"d":"09"},{"v":5,"d":"005"},"静岡県","焼津市","静浜村","後島",null,"","",{"$f":"IF(K2508=\"\",\"\",COUNTIF($K$7:K2508,\"ﾘｽﾄ１\"))","v":""},"","","","","","","",{"$f":"IF(S2508=\"\",\"\",COUNTIF($S$7:S2508,\"該当２\"))","v":""},"","",{"$f":"IF(V2508=\"\",\"\",COUNTIF($V$7:V2508,\"該当３\"))","v":""}]
[2221209006,"22",212,{"v":9,"d":"09"},{"v":6,"d":"006"},"静岡県","焼津市","静浜村","南島",null,"","",{"$f":"IF(K2509=\"\",\"\",COUNTIF($K$7:K2509,\"ﾘｽﾄ１\"))","v":""},"","","","","","","",{"$f":"IF(S2509=\"\",\"\",COUNTIF($S$7:S2509,\"該当２\"))","v":""},"","",{"$f":"IF(V2509=\"\",\"\",COUNTIF($V$7:V2509,\"該当３\"))","v":""}]
[2221209008,"22",212,{"v":9,"d":"09"},{"v":8,"d":"008"},"静岡県","焼津市","静浜村","南浜",null,"","",{"$f":"IF(K2511=\"\",\"\",COUNTIF($K$7:K2511,\"ﾘｽﾄ１\"))","v":""},"","","","","","","",{"$f":"IF(S2511=\"\",\"\",COUNTIF($S$7:S2511,\"該当２\"))","v":""},"","",{"$f":"IF(V2511=\"\",\"\",COUNTIF($V$7:V2511,\"該当３\"))","v":""}]
[2221209009,"22",212,{"v":9,"d":"09"},{"v":9,"d":"009"},"静岡県","焼津市","静浜村","川向",null,"","",{"$f":"IF(K2512=\"\",\"\",COUNTIF($K$7:K2512,\"ﾘｽﾄ１\"))","v":""},"","","","","","","",{"$f":"IF(S2512=\"\",\"\",COUNTIF($S$7:S2512,\"該当２\"))","v":""},"","",{"$f":"IF(V2512=\"\",\"\",COUNTIF($V$7:V2512,\"該当３\"))","v":""}]
[2221209011,"22",212,{"v":9,"d":"09"},{"v":11,"d":"011"},"静岡県","焼津市","静浜村","上向",null,"","",{"$f":"IF(K2514=\"\",\"\",COUNTIF($K$7:K2514,\"ﾘｽﾄ１\"))","v":""},"","","","","","","",{"$f":"IF(S2514=\"\",\"\",COUNTIF($S$7:S2514,\"該当２\"))","v":""},"","",{"$f":"IF(V2514=\"\",\"\",COUNTIF($V$7:V2514,\"該当３\"))","v":""}]
[2221209012,"22",212,{"v":9,"d":"09"},{"v":12,"d":"012"},"静岡県","焼津市","静浜村","御正作",null,"","",{"$f":"IF(K2515=\"\",\"\",COUNTIF($K$7:K2515,\"ﾘｽﾄ１\"))","v":""},"","","","","","","",{"$f":"IF(S2515=\"\",\"\",COUNTIF($S$7:S2515,\"該当２\"))","v":""},"","",{"$f":"IF(V2515=\"\",\"\",COUNTIF($V$7:V2515,\"該当３\"))","v":""}]
[2221209014,"22",212,{"v":9,"d":"09"},{"v":14,"d":"014"},"静岡県","焼津市","静浜村","高徳島",null,"","",{"$f":"IF(K2517=\"\",\"\",COUNTIF($K$7:K2517,\"ﾘｽﾄ１\"))","v":""},"","","","","","","",{"$f":"IF(S2517=\"\",\"\",COUNTIF($S$7:S2517,\"該当２\"))","v":""},"","",{"$f":"IF(V2517=\"\",\"\",COUNTIF($V$7:V2517,\"該当３\"))","v":""}]
[2221209015,"22",212,{"v":9,"d":"09"},{"v":15,"d":"015"},"静岡県","焼津市","静浜村","中川原",null,"","",{"$f":"IF(K2518=\"\",\"\",COUNTIF($K$7:K2518,\"ﾘｽﾄ１\"))","v":""},"","","","","","","",{"$f":"IF(S2518=\"\",\"\",COUNTIF($S$7:S2518,\"該当２\"))","v":""},"","",{"$f":"IF(V2518=\"\",\"\",COUNTIF($V$7:V2518,\"該当３\"))","v":""}]
[2221209017,"22",212,{"v":9,"d":"09"},{"v":17,"d":"017"},"静岡県","焼津市","静浜村","新町",null,"","",{"$f":"IF(K2520=\"\",\"\",COUNTIF($K$7:K2520,\"ﾘｽﾄ１\"))","v":""},"","","","","","","",{"$f":"IF(S2520=\"\",\"\",COUNTIF($S$7:S2520,\"該当２\"))","v":""},"","",{"$f":"IF(V2520=\"\",\"\",COUNTIF($V$7:V2520,\"該当３\"))","v":""}]
[2221209018,"22",212,{"v":9,"d":"09"},{"v":18,"d":"018"},"静岡県","焼津市","静浜村","上本田",null,"","",{"$f":"IF(K2521=\"\",\"\",COUNTIF($K$7:K2521,\"ﾘｽﾄ１\"))","v":""},"","","","","","","",{"$f":"IF(S2521=\"\",\"\",COUNTIF($S$7:S2521,\"該当２\"))","v":""},"","",{"$f":"IF(V2521=\"\",\"\",COUNTIF($V$7:V2521,\"該当３\"))","v":""}]
[2221210000,"22",212,10,{"v":0,"d":"000"},"静岡県","焼津市","相川村",null,null,"","",{"$f":"IF(K2523=\"\",\"\",COUNTIF($K$7:K2523,\"ﾘｽﾄ１\"))","v":""},"","","","","","","",{"$f":"IF(S2523=\"\",\"\",COUNTIF($S$7:S2523,\"該当２\"))","v":""},"","",{"$f":"IF(V2523=\"\",\"\",COUNTIF($V$7:V2523,\"該当３\"))","v":""}]
[2221210001,"22",212,10,{"v":1,"d":"001"},"静岡県","焼津市","相川村","上新田１",null,"","",{"$f":"IF(K2524=\"\",\"\",COUNTIF($K$7:K2524,\"ﾘｽﾄ１\"))","v":""},"","","","","","","",{"$f":"IF(S2524=\"\",\"\",COUNTIF($S$7:S2524,\"該当２\"))","v":""},"","",{"$f":"IF(V2524=\"\",\"\",COUNTIF($V$7:V2524,\"該当３\"))","v":""}]
[2221210003,"22",212,10,{"v":3,"d":"003"},"静岡県","焼津市","相川村","上新田３",null,"","",{"$f":"IF(K2526=\"\",\"\",COUNTIF($K$7:K2526,\"ﾘｽﾄ１\"))","v":""},"","","","","","","",{"$f":"IF(S2526=\"\",\"\",COUNTIF($S$7:S2526,\"該当２\"))","v":""},"","",{"$f":"IF(V2526=\"\",\"\",COUNTIF($V$7:V2526,\"該当３\"))","v":""}]
[2221210004,"22",212,10,{"v":4,"d":"004"},"静岡県","焼津市","相川村","下江留１",null,"","",{"$f":"IF(K2527=\"\",\"\",COUNTIF($K$7:K2527,\"ﾘｽﾄ１\"))","v":""},"","","","","","","",{"$f":"IF(S2527=\"\",\"\",COUNTIF($S$7:S2527,\"該当２\"))","v":""},"","",{"$f":"IF(V2527=\"\",\"\",COUNTIF($V$7:V2527,\"該当３\"))","v":""}]
[2221210006,"22",212,10,{"v":6,"d":"006"},"静岡県","焼津市","相川村","下江留３",null,"","",{"$f":"IF(K2529=\"\",\"\",COUNTIF($K$7:K2529,\"ﾘｽﾄ１\"))","v":""},"","","","","","","",{"$f":"IF(S2529=\"\",\"\",COUNTIF($S$7:S2529,\"該当２\"))","v":""},"","",{"$f":"IF(V2529=\"\",\"\",COUNTIF($V$7:V2529,\"該当３\"))","v":""}]
[2221210007,"22",212,10,{"v":7,"d":"007"},"静岡県","焼津市","相川村","下江留４",null,"","",{"$f":"IF(K2530=\"\",\"\",COUNTIF($K$7:K2530,\"ﾘｽﾄ１\"))","v":""},"","","","","","","",{"$f":"IF(S2530=\"\",\"\",COUNTIF($S$7:S2530,\"該当２\"))","v":""},"","",{"$f":"IF(V2530=\"\",\"\",COUNTIF($V$7:V2530,\"該当３\"))","v":""}]
[2221210009,"22",212,10,{"v":9,"d":"009"},"静岡県","焼津市","相川村","相川３",null,"","",{"$f":"IF(K2532=\"\",\"\",COUNTIF($K$7:K2532,\"ﾘｽﾄ１\"))","v":""},"","","","","","","",{"$f":"IF(S2532=\"\",\"\",COUNTIF($S$7:S2532,\"該当２\"))","v":""},"","",{"$f":"IF(V2532=\"\",\"\",COUNTIF($V$7:V2532,\"該当３\"))","v":""}]
[2221210010,"22",212,10,{"v":10,"d":"010"},"静岡県","焼津市","相川村","西島",null,"","",{"$f":"IF(K2533=\"\",\"\",COUNTIF($K$7:K2533,\"ﾘｽﾄ１\"))","v":""},"","","","","","","",{"$f":"IF(S2533=\"\",\"\",COUNTIF($S$7:S2533,\"該当２\"))","v":""},"","",{"$f":"IF(V2533=\"\",\"\",COUNTIF($V$7:V2533,\"該当３\"))","v":""}]
[2221210012,"22",212,10,{"v":12,"d":"012"},"静岡県","焼津市","相川村","相川１",null,"","",{"$f":"IF(K2535=\"\",\"\",COUNTIF($K$7:K2535,\"ﾘｽﾄ１\"))","v":""},"","","","","","","",{"$f":"IF(S2535=\"\",\"\",COUNTIF($S$7:S2535,\"該当２\"))","v":""},"","",{"$f":"IF(V2535=\"\",\"\",COUNTIF($V$7:V2535,\"該当３\"))","v":""}]
[2221210013,"22",212,10,{"v":13,"d":"013"},"静岡県","焼津市","相川村","上泉２",null,"","",{"$f":"IF(K2536=\"\",\"\",COUNTIF($K$7:K2536,\"ﾘｽﾄ１\"))","v":""},"","","","","","","",{"$f":"IF(S2536=\"\",\"\",COUNTIF($S$7:S2536,\"該当２\"))","v":""},"","",{"$f":"IF(V2536=\"\",\"\",COUNTIF($V$7:V2536,\"該当３\"))","v":""}]
[2221210015,"22",212,10,{"v":15,"d":"015"},"静岡県","焼津市","相川村","上泉１",null,"","",{"$f":"IF(K2538=\"\",\"\",COUNTIF($K$7:K2538,\"ﾘｽﾄ１\"))","v":""},"","","","","","","",{"$f":"IF(S2538=\"\",\"\",COUNTIF($S$7:S2538,\"該当２\"))","v":""},"","",{"$f":"IF(V2538=\"\",\"\",COUNTIF($V$7:V2538,\"該当３\"))","v":""}]
[2221211000,"22",212,11,{"v":0,"d":"000"},"静岡県","焼津市","吉永村（焼津市）",null,null,"","",{"$f":"IF(K2539=\"\",\"\",COUNTIF($K$7:K2539,\"ﾘｽﾄ１\"))","v":""},"","","","","","","",{"$f":"IF(S2539=\"\",\"\",COUNTIF($S$7:S2539,\"該当２\"))","v":""},"","",{"$f":"IF(V2539=\"\",\"\",COUNTIF($V$7:V2539,\"該当３\"))","v":""}]
[2221211002,"22",212,11,{"v":2,"d":"002"},"静岡県","焼津市","吉永村（焼津市）","高新田４",null,"","",{"$f":"IF(K2541=\"\",\"\",COUNTIF($K$7:K2541,\"ﾘｽﾄ１\"))","v":""},"","","","","","","",{"$f":"IF(S2541=\"\",\"\",COUNTIF($S$7:S2541,\"該当２\"))","v":""},"","",{"$f":"IF(V2541=\"\",\"\",COUNTIF($V$7:V2541,\"該当３\"))","v":""}]
[2221211003,"22",212,11,{"v":3,"d":"003"},"静岡県","焼津市","吉永村（焼津市）","高新田３",null,"","",{"$f":"IF(K2542=\"\",\"\",COUNTIF($K$7:K2542,\"ﾘｽﾄ１\"))","v":""},"","","","","","","",{"$f":"IF(S2542=\"\",\"\",COUNTIF($S$7:S2542,\"該当２\"))","v":""},"","",{"$f":"IF(V2542=\"\",\"\",COUNTIF($V$7:V2542,\"該当３\"))","v":""}]
[2221211005,"22",212,11,{"v":5,"d":"005"},"静岡県","焼津市","吉永村（焼津市）","吉永１",null,"","",{"$f":"IF(K2544=\"\",\"\",COUNTIF($K$7:K2544,\"ﾘｽﾄ１\"))","v":""},"","","","","","","",{"$f":"IF(S2544=\"\",\"\",COUNTIF($S$7:S2544,\"該当２\"))","v":""},"","",{"$f":"IF(V2544=\"\",\"\",COUNTIF($V$7:V2544,\"該当３\"))","v":""}]
[2221211006,"22",212,11,{"v":6,"d":"006"},"静岡県","焼津市","吉永村（焼津市）","吉永２",null,"","",{"$f":"IF(K2545=\"\",\"\",COUNTIF($K$7:K2545,\"ﾘｽﾄ１\"))","v":""},"","","","","","","",{"$f":"IF(S2545=\"\",\"\",COUNTIF($S$7:S2545,\"該当２\"))","v":""},"","",{"$f":"IF(V2545=\"\",\"\",COUNTIF($V$7:V2545,\"該当３\"))","v":""}]
[2221211008,"22",212,11,{"v":8,"d":"008"},"静岡県","焼津市","吉永村（焼津市）","利右衛門３",null,"","",{"$f":"IF(K2547=\"\",\"\",COUNTIF($K$7:K2547,\"ﾘｽﾄ１\"))","v":""},"","","","","","","",{"$f":"IF(S2547=\"\",\"\",COUNTIF($S$7:S2547,\"該当２\"))","v":""},"","",{"$f":"IF(V2547=\"\",\"\",COUNTIF($V$7:V2547,\"該当３\"))","v":""}]
[2221211009,"22",212,11,{"v":9,"d":"009"},"静岡県","焼津市","吉永村（焼津市）","利右衛門１",null,"","",{"$f":"IF(K2548=\"\",\"\",COUNTIF($K$7:K2548,\"ﾘｽﾄ１\"))","v":""},"","","","","","","",{"$f":"IF(S2548=\"\",\"\",COUNTIF($S$7:S2548,\"該当２\"))","v":""},"","",{"$f":"IF(V2548=\"\",\"\",COUNTIF($V$7:V2548,\"該当３\"))","v":""}]
[2221211011,"22",212,11,{"v":11,"d":"011"},"静岡県","焼津市","吉永村（焼津市）","飯淵２",null,"","",{"$f":"IF(K2550=\"\",\"\",COUNTIF($K$7:K2550,\"ﾘｽﾄ１\"))","v":""},"","","","","","","",{"$f":"IF(S2550=\"\",\"\",COUNTIF($S$7:S2550,\"該当２\"))","v":""},"","",{"$f":"IF(V2550=\"\",\"\",COUNTIF($V$7:V2550,\"該当３\"))","v":""}]
[2221211012,"22",212,11,{"v":12,"d":"012"},"静岡県","焼津市","吉永村（焼津市）","飯淵１",null,"","",{"$f":"IF(K2551=\"\",\"\",COUNTIF($K$7:K2551,\"ﾘｽﾄ１\"))","v":""},"","","","","","","",{"$f":"IF(S2551=\"\",\"\",COUNTIF($S$7:S2551,\"該当２\"))","v":""},"","",{"$f":"IF(V2551=\"\",\"\",COUNTIF($V$7:V2551,\"該当３\"))","v":""}]
[2221211014,"22",212,11,{"v":14,"d":"014"},"静岡県","焼津市","吉永村（焼津市）","中島１",null,"","",{"$f":"IF(K2553=\"\",\"\",COUNTIF($K$7:K2553,\"ﾘｽﾄ１\"))","v":""},"","","","","","","",{"$f":"IF(S2553=\"\",\"\",COUNTIF($S$7:S2553,\"該当２\"))","v":""},"","",{"$f":"IF(V2553=\"\",\"\",COUNTIF($V$7:V2553,\"該当３\"))","v":""}]
[2221211015,"22",212,11,{"v":15,"d":"015"},"静岡県","焼津市","吉永村（焼津市）","吉永３",null,"","",{"$f":"IF(K2554=\"\",\"\",COUNTIF($K$7:K2554,\"ﾘｽﾄ１\"))","v":""},"","","","","","","",{"$f":"IF(S2554=\"\",\"\",COUNTIF($S$7:S2554,\"該当２\"))","v":""},"","",{"$f":"IF(V2554=\"\",\"\",COUNTIF($V$7:V2554,\"該当３\"))","v":""}]
[2221300000,"22",213,{"v":0,"d":"00"},{"v":0,"d":"000"},"静岡県","掛川市",{"$nulls":3},"ﾘｽﾄ１","掛川市",{"$f":"IF(K2556=\"\",\"\",COUNTIF($K$7:K2556,\"ﾘｽﾄ１\"))","v":22},"","","","","","","",{"$f":"IF(S2556=\"\",\"\",COUNTIF($S$7:S2556,\"該当２\"))","v":""},"","",{"$f":"IF(V2556=\"\",\"\",COUNTIF($V$7:V2556,\"該当３\"))","v":""}]
[2221301000,"22",213,{"v":1,"d":"01"},{"v":0,"d":"000"},"静岡県","掛川市","掛川町",null,null,"","",{"$f":"IF(K2557=\"\",\"\",COUNTIF($K$7:K2557,\"ﾘｽﾄ１\"))","v":""},"","","","","","","",{"$f":"IF(S2557=\"\",\"\",COUNTIF($S$7:S2557,\"該当２\"))","v":""},"","",{"$f":"IF(V2557=\"\",\"\",COUNTIF($V$7:V2557,\"該当３\"))","v":""}]
[2221301002,"22",213,{"v":1,"d":"01"},{"v":2,"d":"002"},"静岡県","掛川市","掛川町","末広",null,"","",{"$f":"IF(K2559=\"\",\"\",COUNTIF($K$7:K2559,\"ﾘｽﾄ１\"))","v":""},"","","","","","","",{"$f":"IF(S2559=\"\",\"\",COUNTIF($S$7:S2559,\"該当２\"))","v":""},"","",{"$f":"IF(V2559=\"\",\"\",COUNTIF($V$7:V2559,\"該当３\"))","v":""}]
[2221301003,"22",213,{"v":1,"d":"01"},{"v":3,"d":"003"},"静岡県","掛川市","掛川町","秋葉通",null,"","",{"$f":"IF(K2560=\"\",\"\",COUNTIF($K$7:K2560,\"ﾘｽﾄ１\"))","v":""},"","","","","","","",{"$f":"IF(S2560=\"\",\"\",COUNTIF($S$7:S2560,\"該当２\"))","v":""},"","",{"$f":"IF(V2560=\"\",\"\",COUNTIF($V$7:V2560,\"該当３\"))","v":""}]
[2221301005,"22",213,{"v":1,"d":"01"},{"v":5,"d":"005"},"静岡県","掛川市","掛川町","上張",null,"","",{"$f":"IF(K2562=\"\",\"\",COUNTIF($K$7:K2562,\"ﾘｽﾄ１\"))","v":""},"","","","","","","",{"$f":"IF(S2562=\"\",\"\",COUNTIF($S$7:S2562,\"該当２\"))","v":""},"","",{"$f":"IF(V2562=\"\",\"\",COUNTIF($V$7:V2562,\"該当３\"))","v":""}]
[2221301006,"22",213,{"v":1,"d":"01"},{"v":6,"d":"006"},"静岡県","掛川市","掛川町","杉谷",null,"","",{"$f":"IF(K2563=\"\",\"\",COUNTIF($K$7:K2563,\"ﾘｽﾄ１\"))","v":""},"","","","","","","",{"$f":"IF(S2563=\"\",\"\",COUNTIF($S$7:S2563,\"該当２\"))","v":""},"","",{"$f":"IF(V2563=\"\",\"\",COUNTIF($V$7:V2563,\"該当３\"))","v":""}]
[2221301008,"22",213,{"v":1,"d":"01"},{"v":8,"d":"008"},"静岡県","掛川市","掛川町","鳥居",null,"","",{"$f":"IF(K2565=\"\",\"\",COUNTIF($K$7:K2565,\"ﾘｽﾄ１\"))","v":""},"","","","","","","",{"$f":"IF(S2565=\"\",\"\",COUNTIF($S$7:S2565,\"該当２\"))","v":""},"","",{"$f":"IF(V2565=\"\",\"\",COUNTIF($V$7:V2565,\"該当３\"))","v":""}]
[2221301009,"22",213,{"v":1,"d":"01"},{"v":9,"d":"009"},"静岡県","掛川市","掛川町","二瀬川",null,"","",{"$f":"IF(K2566=\"\",\"\",COUNTIF($K$7:K2566,\"ﾘｽﾄ１\"))","v":""},"","","","","","","",{"$f":"IF(S2566=\"\",\"\",COUNTIF($S$7:S2566,\"該当２\"))","v":""},"","",{"$f":"IF(V2566=\"\",\"\",COUNTIF($V$7:V2566,\"該当３\"))","v":""}]
[2221301011,"22",213,{"v":1,"d":"01"},{"v":11,"d":"011"},"静岡県","掛川市","掛川町","仁藤",null,"","",{"$f":"IF(K2568=\"\",\"\",COUNTIF($K$7:K2568,\"ﾘｽﾄ１\"))","v":""},"","","","","","","",{"$f":"IF(S2568=\"\",\"\",COUNTIF($S$7:S2568,\"該当２\"))","v":""},"","",{"$f":"IF(V2568=\"\",\"\",COUNTIF($V$7:V2568,\"該当３\"))","v":""}]
[2221301012,"22",213,{"v":1,"d":"01"},{"v":12,"d":"012"},"静岡県","掛川市","掛川町","町東部",null,"","",{"$f":"IF(K2569=\"\",\"\",COUNTIF($K$7:K2569,\"ﾘｽﾄ１\"))","v":""},"","","","","","","",{"$f":"IF(S2569=\"\",\"\",COUNTIF($S$7:S2569,\"該当２\"))","v":""},"","",{"$f":"IF(V2569=\"\",\"\",COUNTIF($V$7:V2569,\"該当３\"))","v":""}]
[2221302000,"22",213,{"v":2,"d":"02"},{"v":0,"d":"000"},"静岡県","掛川市","粟本村",null,null,{"$f":"IF(AND($C2571>0,$H2571=\"\"),\"ﾘｽﾄ１\",\"\")","v":""},{"$f":"IF(K2571=\"ﾘｽﾄ１\",G2571,\"\")","v":""},{"$f":"IF(K2571=\"\",\"\",COUNTIF($K$7:K2571,\"ﾘｽﾄ１\"))","v":""},{"$f":"IF(AND(D2571=0,E2571>0),\"同一区\",\"\")","v":""},{"$f":"IF(AND(EXACT($K$2,G2571),H2571>0),\"該当１\",\"\")","v":""},"","","",{"$f":"IF(AND(Q2571=\"ﾘｽﾄ2\",OR(I2571=0,AND(N2571=\"同一区\",E2571=1))),\"該当２\",\"\")","v":""},"",{"$f":"IF(S2571=\"\",\"\",COUNTIF($S$7:S2571,\"該当２\"))","v":""},"","",{"$f":"IF(V2571=\"\",\"\",COUNTIF($V$7:V2571,\"該当３\"))","v":""}]
[2221302001,"22",213,{"v":2,"d":"02"},{"v":1,"d":"001"},"静岡県","掛川市","粟本村","水垂",null,"","",{"$f":"IF(K2572=\"\",\"\",COUNTIF($K$7:K2572,\"ﾘｽﾄ１\"))","v":""},"","","","","","","",{"$f":"IF(S2572=\"\",\"\",COUNTIF($S$7:S2572,\"該当２\"))","v":""},"","",{"$f":"IF(V2572=\"\",\"\",COUNTIF($V$7:V2572,\"該当３\"))","v":""}]
[2221303000,"22",213,{"v":3,"d":"03"},{"v":0,"d":"000"},"静岡県","掛川市","東山口村",null,null,"","",{"$f":"IF(K2574=\"\",\"\",COUNTIF($K$7:K2574,\"ﾘｽﾄ１\"))","v":""},"","","","","","","",{"$f":"IF(S2574=\"\",\"\",COUNTIF($S$7:S2574,\"該当２\"))","v":""},"","",{"$f":"IF(V2574=\"\",\"\",COUNTIF($V$7:V2574,\"該当３\"))","v":""}]
[2221303001,"22",213,{"v":3,"d":"03"},{"v":1,"d":"001"},"静岡県","掛川市","東山口村","宮村",null,"","",{"$f":"IF(K2575=\"\",\"\",COUNTIF($K$7:K2575,\"ﾘｽﾄ１\"))","v":""},"","","","","","","",{"$f":"IF(S2575=\"\",\"\",COUNTIF($S$7:S2575,\"該当２\"))","v":""},"","",{"$f":"IF(V2575=\"\",\"\",COUNTIF($V$7:V2575,\"該当３\"))","v":""}]
[2221303003,"22",213,{"v":3,"d":"03"},{"v":3,"d":"003"},"静岡県","掛川市","東山口村","影森",null,"","",{"$f":"IF(K2577=\"\",\"\",COUNTIF($K$7:K2577,\"ﾘｽﾄ１\"))","v":""},"","","","","","","",{"$f":"IF(S2577=\"\",\"\",COUNTIF($S$7:S2577,\"該当２\"))","v":""},"","",{"$f":"IF(V2577=\"\",\"\",COUNTIF($V$7:V2577,\"該当３\"))","v":""}]
[2221303004,"22",213,{"v":3,"d":"03"},{"v":4,"d":"004"},"静岡県","掛川市","東山口村","塩井川原",null,"","",{"$f":"IF(K2578=\"\",\"\",COUNTIF($K$7:K2578,\"ﾘｽﾄ１\"))","v":""},"","","","","","","",{"$f":"IF(S2578=\"\",\"\",COUNTIF($S$7:S2578,\"該当２\"))","v":""},"","",{"$f":"IF(V2578=\"\",\"\",COUNTIF($V$7:V2578,\"該当３\"))","v":""}]
[2221303006,"22",213,{"v":3,"d":"03"},{"v":6,"d":"006"},"静岡県","掛川市","東山口村","伊達方",null,"","",{"$f":"IF(K2580=\"\",\"\",COUNTIF($K$7:K2580,\"ﾘｽﾄ１\"))","v":""},"","","","","","","",{"$f":"IF(S2580=\"\",\"\",COUNTIF($S$7:S2580,\"該当２\"))","v":""},"","",{"$f":"IF(V2580=\"\",\"\",COUNTIF($V$7:V2580,\"該当３\"))","v":""}]
[2221303007,"22",213,{"v":3,"d":"03"},{"v":7,"d":"007"},"静岡県","掛川市","東山口村","新田",null,"","",{"$f":"IF(K2581=\"\",\"\",COUNTIF($K$7:K2581,\"ﾘｽﾄ１\"))","v":""},"","","","","","","",{"$f":"IF(S2581=\"\",\"\",COUNTIF($S$7:S2581,\"該当２\"))","v":""},"","",{"$f":"IF(V2581=\"\",\"\",COUNTIF($V$7:V2581,\"該当３\"))","v":""}]
[2221303009,"22",213,{"v":3,"d":"03"},{"v":9,"d":"009"},"静岡県","掛川市","東山口村","原子",null,"","",{"$f":"IF(K2583=\"\",\"\",COUNTIF($K$7:K2583,\"ﾘｽﾄ１\"))","v":""},"","","","","","","",{"$f":"IF(S2583=\"\",\"\",COUNTIF($S$7:S2583,\"該当２\"))","v":""},"","",{"$f":"IF(V2583=\"\",\"\",COUNTIF($V$7:V2583,\"該当３\"))","v":""}]
[2221303010,"22",213,{"v":3,"d":"03"},{"v":10,"d":"010"},"静岡県","掛川市","東山口村","木割",null,"","",{"$f":"IF(K2584=\"\",\"\",COUNTIF($K$7:K2584,\"ﾘｽﾄ１\"))","v":""},"","","","","","","",{"$f":"IF(S2584=\"\",\"\",COUNTIF($S$7:S2584,\"該当２\"))","v":""},"","",{"$f":"IF(V2584=\"\",\"\",COUNTIF($V$7:V2584,\"該当３\"))","v":""}]
[2221303012,"22",213,{"v":3,"d":"03"},{"v":12,"d":"012"},"静岡県","掛川市","東山口村","山鼻",null,"","",{"$f":"IF(K2586=\"\",\"\",COUNTIF($K$7:K2586,\"ﾘｽﾄ１\"))","v":""},"","","","","","","",{"$f":"IF(S2586=\"\",\"\",COUNTIF($S$7:S2586,\"該当２\"))","v":""},"","",{"$f":"IF(V2586=\"\",\"\",COUNTIF($V$7:V2586,\"該当３\"))","v":""}]
[2221303013,"22",213,{"v":3,"d":"03"},{"v":13,"d":"013"},"静岡県","掛川市","東山口村","牛頭",null,"","",{"$f":"IF(K2587=\"\",\"\",COUNTIF($K$7:K2587,\"ﾘｽﾄ１\"))","v":""},"","","","","","","",{"$f":"IF(S2587=\"\",\"\",COUNTIF($S$7:S2587,\"該当２\"))","v":""},"","",{"$f":"IF(V2587=\"\",\"\",COUNTIF($V$7:V2587,\"該当３\"))","v":""}]
[2221304000,"22",213,{"v":4,"d":"04"},{"v":0,"d":"000"},"静岡県","掛川市","西南郷村",null,null,"","",{"$f":"IF(K2589=\"\",\"\",COUNTIF($K$7:K2589,\"ﾘｽﾄ１\"))","v":""},"","","","","","","",{"$f":"IF(S2589=\"\",\"\",COUNTIF($S$7:S2589,\"該当２\"))","v":""},"","",{"$f":"IF(V2589=\"\",\"\",COUNTIF($V$7:V2589,\"該当３\"))","v":""}]
[2221304001,"22",213,{"v":4,"d":"04"},{"v":1,"d":"001"},"静岡県","掛川市","西南郷村","下俣",null,"","",{"$f":"IF(K2590=\"\",\"\",COUNTIF($K$7:K2590,\"ﾘｽﾄ１\"))","v":""},"","","","","","","",{"$f":"IF(S2590=\"\",\"\",COUNTIF($S$7:S2590,\"該当２\"))","v":""},"","",{"$f":"IF(V2590=\"\",\"\",COUNTIF($V$7:V2590,\"該当３\"))","v":""}]
[2221304003,"22",213,{"v":4,"d":"04"},{"v":3,"d":"003"},"静岡県","掛川市","西南郷村","亀の甲",null,"","",{"$f":"IF(K2592=\"\",\"\",COUNTIF($K$7:K2592,\"ﾘｽﾄ１\"))","v":""},"","","","","","","",{"$f":"IF(S2592=\"\",\"\",COUNTIF($S$7:S2592,\"該当２\"))","v":""},"","",{"$f":"IF(V2592=\"\",\"\",COUNTIF($V$7:V2592,\"該当３\"))","v":""}]
[2221304004,"22",213,{"v":4,"d":"04"},{"v":4,"d":"004"},"静岡県","掛川市","西南郷村","神代地",null,"","",{"$f":"IF(K2593=\"\",\"\",COUNTIF($K$7:K2593,\"ﾘｽﾄ１\"))","v":""},"","","","","","","",{"$f":"IF(S2593=\"\",\"\",COUNTIF($S$7:S2593,\"該当２\"))","v":""},"","",{"$f":"IF(V2593=\"\",\"\",COUNTIF($V$7:V2593,\"該当３\"))","v":""}]
[2221305000,"22",213,{"v":5,"d":"05"},{"v":0,"d":"000"},"静岡県","掛川市","原田村（掛川市）",null,null,"","",{"$f":"IF(K2595=\"\",\"\",COUNTIF($K$7:K2595,\"ﾘｽﾄ１\"))","v":""},"","","","","","","",{"$f":"IF(S2595=\"\",\"\",COUNTIF($S$7:S2595,\"該当２\"))","v":""},"","",{"$f":"IF(V2595=\"\",\"\",COUNTIF($V$7:V2595,\"該当３\"))","v":""}]
[2221305001,"22",213,{"v":5,"d":"05"},{"v":1,"d":"001"},"静岡県","掛川市","原田村（掛川市）","桑地",null,"","",{"$f":"IF(K2596=\"\",\"\",COUNTIF($K$7:K2596,\"ﾘｽﾄ１\"))","v":""},"","","","","","","",{"$f":"IF(S2596=\"\",\"\",COUNTIF($S$7:S2596,\"該当２\"))","v":""},"","",{"$f":"IF(V2596=\"\",\"\",COUNTIF($V$7:V2596,\"該当３\"))","v":""}]
[2221305003,"22",213,{"v":5,"d":"05"},{"v":3,"d":"003"},"静岡県","掛川市","原田村（掛川市）","高山",null,"","",{"$f":"IF(K2598=\"\",\"\",COUNTIF($K$7:K2598,\"ﾘｽﾄ１\"))","v":""},"","","","","","","",{"$f":"IF(S2598=\"\",\"\",COUNTIF($S$7:S2598,\"該当２\"))","v":""},"","",{"$f":"IF(V2598=\"\",\"\",COUNTIF($V$7:V2598,\"該当３\"))","v":""}]
[2221305004,"22",213,{"v":5,"d":"05"},{"v":4,"d":"004"},"静岡県","掛川市","原田村（掛川市）","正道",null,"","",{"$f":"IF(K2599=\"\",\"\",COUNTIF($K$7:K2599,\"ﾘｽﾄ１\"))","v":""},"","","","","","","",{"$f":"IF(S2599=\"\",\"\",COUNTIF($S$7:S2599,\"該当２\"))","v":""},"","",{"$f":"IF(V2599=\"\",\"\",COUNTIF($V$7:V2599,\"該当３\"))","v":""}]
[2221305006,"22",213,{"v":5,"d":"05"},{"v":6,"d":"006"},"静岡県","掛川市","原田村（掛川市）","平島",null,"","",{"$f":"IF(K2601=\"\",\"\",COUNTIF($K$7:K2601,\"ﾘｽﾄ１\"))","v":""},"","","","","","","",{"$f":"IF(S2601=\"\",\"\",COUNTIF($S$7:S2601,\"該当２\"))","v":""},"","",{"$f":"IF(V2601=\"\",\"\",COUNTIF($V$7:V2601,\"該当３\"))","v":""}]
[2221305007,"22",213,{"v":5,"d":"05"},{"v":7,"d":"007"},"静岡県","掛川市","原田村（掛川市）","久居島",null,"","",{"$f":"IF(K2602=\"\",\"\",COUNTIF($K$7:K2602,\"ﾘｽﾄ１\"))","v":""},"","","","","","","",{"$f":"IF(S2602=\"\",\"\",COUNTIF($S$7:S2602,\"該当２\"))","v":""},"","",{"$f":"IF(V2602=\"\",\"\",COUNTIF($V$7:V2602,\"該当３\"))","v":""}]
[2221305009,"22",213,{"v":5,"d":"05"},{"v":9,"d":"009"},"静岡県","掛川市","原田村（掛川市）","上西之谷",null,"","",{"$f":"IF(K2604=\"\",\"\",COUNTIF($K$7:K2604,\"ﾘｽﾄ１\"))","v":""},"","","","","","","",{"$f":"IF(S2604=\"\",\"\",COUNTIF($S$7:S2604,\"該当２\"))","v":""},"","",{"$f":"IF(V2604=\"\",\"\",COUNTIF($V$7:V2604,\"該当３\"))","v":""}]
[2221305010,"22",213,{"v":5,"d":"05"},{"v":10,"d":"010"},"静岡県","掛川市","原田村（掛川市）","田代",null,"","",{"$f":"IF(K2605=\"\",\"\",COUNTIF($K$7:K2605,\"ﾘｽﾄ１\"))","v":""},"","","","","","","",{"$f":"IF(S2605=\"\",\"\",COUNTIF($S$7:S2605,\"該当２\"))","v":""},"","",{"$f":"IF(V2605=\"\",\"\",COUNTIF($V$7:V2605,\"該当３\"))","v":""}]
[2221306001,"22",213,{"v":6,"d":"06"},{"v":1,"d":"001"},"静岡県","掛川市","原泉村２－１","大和田",null,"","",{"$f":"IF(K2607=\"\",\"\",COUNTIF($K$7:K2607,\"ﾘｽﾄ１\"))","v":""},"","","","","","","",{"$f":"IF(S2607=\"\",\"\",COUNTIF($S$7:S2607,\"該当２\"))","v":""},"","",{"$f":"IF(V2607=\"\",\"\",COUNTIF($V$7:V2607,\"該当３\"))","v":""}]
[2221306002,"22",213,{"v":6,"d":"06"},{"v":2,"d":"002"},"静岡県","掛川市","原泉村２－１","孕石",null,"","",{"$f":"IF(K2608=\"\",\"\",COUNTIF($K$7:K2608,\"ﾘｽﾄ１\"))","v":""},"","","","","","","",{"$f":"IF(S2608=\"\",\"\",COUNTIF($S$7:S2608,\"該当２\"))","v":""},"","",{"$f":"IF(V2608=\"\",\"\",COUNTIF($V$7:V2608,\"該当３\"))","v":""}]
[2221306004,"22",213,{"v":6,"d":"06"},{"v":4,"d":"004"},"静岡県","掛川市","原泉村２－１","萩間",null,"","",{"$f":"IF(K2610=\"\",\"\",COUNTIF($K$7:K2610,\"ﾘｽﾄ１\"))","v":""},"","","","","","","",{"$f":"IF(S2610=\"\",\"\",COUNTIF($S$7:S2610,\"該当２\"))","v":""},"","",{"$f":"IF(V2610=\"\",\"\",COUNTIF($V$7:V2610,\"該当３\"))","v":""}]
[2221306005,"22",213,{"v":6,"d":"06"},{"v":5,"d":"005"},"静岡県","掛川市","原泉村２－１","居尻",null,"","",{"$f":"IF(K2611=\"\",\"\",COUNTIF($K$7:K2611,\"ﾘｽﾄ１\"))","v":""},"","","","","","","",{"$f":"IF(S2611=\"\",\"\",COUNTIF($S$7:S2611,\"該当２\"))","v":""},"","",{"$f":"IF(V2611=\"\",\"\",COUNTIF($V$7:V2611,\"該当３\"))","v":""}]
[2221306007,"22",213,{"v":6,"d":"06"},{"v":7,"d":"007"},"静岡県","掛川市","原泉村２－１","明ケ島",null,"","",{"$f":"IF(K2613=\"\",\"\",COUNTIF($K$7:K2613,\"ﾘｽﾄ１\"))","v":""},"","","","","","","",{"$f":"IF(S2613=\"\",\"\",COUNTIF($S$7:S2613,\"該当２\"))","v":""},"","",{"$f":"IF(V2613=\"\",\"\",COUNTIF($V$7:V2613,\"該当３\"))","v":""}]
[2221307000,"22",213,{"v":7,"d":"07"},{"v":0,"d":"000"},"静岡県","掛川市","原谷村",null,null,"","",{"$f":"IF(K2614=\"\",\"\",COUNTIF($K$7:K2614,\"ﾘｽﾄ１\"))","v":""},"","","","","","","",{"$f":"IF(S2614=\"\",\"\",COUNTIF($S$7:S2614,\"該当２\"))","v":""},"","",{"$f":"IF(V2614=\"\",\"\",COUNTIF($V$7:V2614,\"該当３\"))","v":""}]
[2221307002,"22",213,{"v":7,"d":"07"},{"v":2,"d":"002"},"静岡県","掛川市","原谷村","本郷",null,"","",{"$f":"IF(K2616=\"\",\"\",COUNTIF($K$7:K2616,\"ﾘｽﾄ１\"))","v":""},"","","","","","","",{"$f":"IF(S2616=\"\",\"\",COUNTIF($S$7:S2616,\"該当２\"))","v":""},"","",{"$f":"IF(V2616=\"\",\"\",COUNTIF($V$7:V2616,\"該当３\"))","v":""}]
[2221307003,"22",213,{"v":7,"d":"07"},{"v":3,"d":"003"},"静岡県","掛川市","原谷村","幡鎌",null,"","",{"$f":"IF(K2617=\"\",\"\",COUNTIF($K$7:K2617,\"ﾘｽﾄ１\"))","v":""},"","","","","","","",{"$f":"IF(S2617=\"\",\"\",COUNTIF($S$7:S2617,\"該当２\"))","v":""},"","",{"$f":"IF(V2617=\"\",\"\",COUNTIF($V$7:V2617,\"該当３\"))","v":""}]
[2221308000,"22",213,{"v":8,"d":"08"},{"v":0,"d":"000"},"静岡県","掛川市","東山村",null,null,"","",{"$f":"IF(K2619=\"\",\"\",COUNTIF($K$7:K2619,\"ﾘｽﾄ１\"))","v":""},"","","","","","","",{"$f":"IF(S2619=\"\",\"\",COUNTIF($S$7:S2619,\"該当２\"))","v":""},"","",{"$f":"IF(V2619=\"\",\"\",COUNTIF($V$7:V2619,\"該当３\"))","v":""}]
[2221308001,"22",213,{"v":8,"d":"08"},{"v":1,"d":"001"},"静岡県","掛川市","東山村","東山１部",null,"","",{"$f":"IF(K2620=\"\",\"\",COUNTIF($K$7:K2620,\"ﾘｽﾄ１\"))","v":""},"","","","","","","",{"$f":"IF(S2620=\"\",\"\",COUNTIF($S$7:S2620,\"該当２\"))","v":""},"","",{"$f":"IF(V2620=\"\",\"\",COUNTIF($V$7:V2620,\"該当３\"))","v":""}]
[2221308003,"22",213,{"v":8,"d":"08"},{"v":3,"d":"003"},"静岡県","掛川市","東山村","東山３部",null,"","",{"$f":"IF(K2622=\"\",\"\",COUNTIF($K$7:K2622,\"ﾘｽﾄ１\"))","v":""},"","","","","","","",{"$f":"IF(S2622=\"\",\"\",COUNTIF($S$7:S2622,\"該当２\"))","v":""},"","",{"$f":"IF(V2622=\"\",\"\",COUNTIF($V$7:V2622,\"該当３\"))","v":""}]
[2221308004,"22",213,{"v":8,"d":"08"},{"v":4,"d":"004"},"静岡県","掛川市","東山村","東山４部",null,"","",{"$f":"IF(K2623=\"\",\"\",COUNTIF($K$7:K2623,\"ﾘｽﾄ１\"))","v":""},"","","","","","","",{"$f":"IF(S2623=\"\",\"\",COUNTIF($S$7:S2623,\"該当２\"))","v":""},"","",{"$f":"IF(V2623=\"\",\"\",COUNTIF($V$7:V2623,\"該当３\"))","v":""}]
[2221308006,"22",213,{"v":8,"d":"08"},{"v":6,"d":"006"},"静岡県","掛川市","東山村","東山６部",null,"","",{"$f":"IF(K2625=\"\",\"\",COUNTIF($K$7:K2625,\"ﾘｽﾄ１\"))","v":""},"","","","","","","",{"$f":"IF(S2625=\"\",\"\",COUNTIF($S$7:S2625,\"該当２\"))","v":""},"","",{"$f":"IF(V2625=\"\",\"\",COUNTIF($V$7:V2625,\"該当３\"))","v":""}]
[2221308007,"22",213,{"v":8,"d":"08"},{"v":7,"d":"007"},"静岡県","掛川市","東山村","東山７部",null,"","",{"$f":"IF(K2626=\"\",\"\",COUNTIF($K$7:K2626,\"ﾘｽﾄ１\"))","v":""},"","","","","","","",{"$f":"IF(S2626=\"\",\"\",COUNTIF($S$7:S2626,\"該当２\"))","v":""},"","",{"$f":"IF(V2626=\"\",\"\",COUNTIF($V$7:V2626,\"該当３\"))","v":""}]
[2221308009,"22",213,{"v":8,"d":"08"},{"v":9,"d":"009"},"静岡県","掛川市","東山村","東山９部",null,"","",{"$f":"IF(K2628=\"\",\"\",COUNTIF($K$7:K2628,\"ﾘｽﾄ１\"))","v":""},"","","","","","","",{"$f":"IF(S2628=\"\",\"\",COUNTIF($S$7:S2628,\"該当２\"))","v":""},"","",{"$f":"IF(V2628=\"\",\"\",COUNTIF($V$7:V2628,\"該当３\"))","v":""}]
[2221309000,"22",213,{"v":9,"d":"09"},{"v":0,"d":"000"},"静岡県","掛川市","日坂村２－１",null,null,"","",{"$f":"IF(K2629=\"\",\"\",COUNTIF($K$7:K2629,\"ﾘｽﾄ１\"))","v":""},"","","","","","","",{"$f":"IF(S2629=\"\",\"\",COUNTIF($S$7:S2629,\"該当２\"))","v":""},"","",{"$f":"IF(V2629=\"\",\"\",COUNTIF($V$7:V2629,\"該当３\"))","v":""}]
[2221309002,"22",213,{"v":9,"d":"09"},{"v":2,"d":"002"},"静岡県","掛川市","日坂村２－１","本町・沓掛",null,"","",{"$f":"IF(K2631=\"\",\"\",COUNTIF($K$7:K2631,\"ﾘｽﾄ１\"))","v":""},"","","","","","","",{"$f":"IF(S2631=\"\",\"\",COUNTIF($S$7:S2631,\"該当２\"))","v":""},"","",{"$f":"IF(V2631=\"\",\"\",COUNTIF($V$7:V2631,\"該当３\"))","v":""}]
[2221309003,"22",213,{"v":9,"d":"09"},{"v":3,"d":"003"},"静岡県","掛川市","日坂村２－１","川向",null,"","",{"$f":"IF(K2632=\"\",\"\",COUNTIF($K$7:K2632,\"ﾘｽﾄ１\"))","v":""},"","","","","","","",{"$f":"IF(S2632=\"\",\"\",COUNTIF($S$7:S2632,\"該当２\"))","v":""},"","",{"$f":"IF(V2632=\"\",\"\",COUNTIF($V$7:V2632,\"該当３\"))","v":""}]
[2221309005,"22",213,{"v":9,"d":"09"},{"v":5,"d":"005"},"静岡県","掛川市","日坂村２－１","大野下１",null,"","",{"$f":"IF(K2634=\"\",\"\",COUNTIF($K$7:K2634,\"ﾘｽﾄ１\"))","v":""},"","",{"$f":"IF(O2634=\"該当１\",G2634,\"\")","v":""},{"$f":"IF(O2634=\"該当１\",\"ﾘｽﾄ2\",\"\")","v":""},{"$f":"IF(Q2634=\"ﾘｽﾄ2\",H2634,\"\")","v":""},"",{"$f":"IF(S2634=\"該当２\",H2634,\"\")","v":""},{"$f":"IF(S2634=\"\",\"\",COUNTIF($S$7:S2634,\"該当２\"))","v":""},{"$f":"IF(AND($S$2=H2634,E2634>0,E2634<998),\"該当３\",\"\")","v":""},{"$f":"IF(V2634=\"該当３\",I2634,\"\")","v":""},{"$f":"IF(V2634=\"\",\"\",COUNTIF($V$7:V2634,\"該当３\"))","v":""}]
[2221309006,"22",213,{"v":9,"d":"09"},{"v":6,"d":"006"},"静岡県","掛川市","日坂村２－１","大野下２",null,{"$f":"IF(AND($C2635>0,$H2635=\"\"),\"ﾘｽﾄ１\",\"\")","v":""},{"$f":"IF(K2635=\"ﾘｽﾄ１\",G2635,\"\")","v":""},{"$f":"IF(K2635=\"\",\"\",COUNTIF($K$7:K2635,\"ﾘｽﾄ１\"))","v":""},{"$f":"IF(AND(D2635=0,E2635>0),\"同一区\",\"\")","v":""},{"$f":"IF(AND(EXACT($K$2,G2635),H2635>0),\"該当１\",\"\")","v":""},"","","",{"$f":"IF(AND(Q2635=\"ﾘｽﾄ2\",OR(I2635=0,AND(N2635=\"同一区\",E2635=1))),\"該当２\",\"\")","v":""},"",{"$f":"IF(S2635=\"\",\"\",COUNTIF($S$7:S2635,\"該当２\"))","v":""},"","",{"$f":"IF(V2635=\"\",\"\",COUNTIF($V$7:V2635,\"該当３\"))","v":""}]
[2221309008,"22",213,{"v":9,"d":"09"},{"v":8,"d":"008"},"静岡県","掛川市","日坂村２－１","大野上",null,"","",{"$f":"IF(K2637=\"\",\"\",COUNTIF($K$7:K2637,\"ﾘｽﾄ１\"))","v":""},"","","","","","","",{"$f":"IF(S2637=\"\",\"\",COUNTIF($S$7:S2637,\"該当２\"))","v":""},"","",{"$f":"IF(V2637=\"\",\"\",COUNTIF($V$7:V2637,\"該当３\"))","v":""}]
[2221309009,"22",213,{"v":9,"d":"09"},{"v":9,"d":"009"},"静岡県","掛川市","日坂村２－１","中山",null,"","",{"$f":"IF(K2638=\"\",\"\",COUNTIF($K$7:K2638,\"ﾘｽﾄ１\"))","v":""},"","","","","","","",{"$f":"IF(S2638=\"\",\"\",COUNTIF($S$7:S2638,\"該当２\"))","v":""},"","",{"$f":"IF(V2638=\"\",\"\",COUNTIF($V$7:V2638,\"該当３\"))","v":""}]
[2221310001,"22",213,10,{"v":1,"d":"001"},"静岡県","掛川市","和田岡村","吉岡",null,"","",{"$f":"IF(K2640=\"\",\"\",COUNTIF($K$7:K2640,\"ﾘｽﾄ１\"))","v":""},"","","","","","","",{"$f":"IF(S2640=\"\",\"\",COUNTIF($S$7:S2640,\"該当２\"))","v":""},"","",{"$f":"IF(V2640=\"\",\"\",COUNTIF($V$7:V2640,\"該当３\"))","v":""}]
[2221310002,"22",213,10,{"v":2,"d":"002"},"静岡県","掛川市","和田岡村","高田",null,"","",{"$f":"IF(K2641=\"\",\"\",COUNTIF($K$7:K2641,\"ﾘｽﾄ１\"))","v":""},"","","","","","","",{"$f":"IF(S2641=\"\",\"\",COUNTIF($S$7:S2641,\"該当２\"))","v":""},"","",{"$f":"IF(V2641=\"\",\"\",COUNTIF($V$7:V2641,\"該当３\"))","v":""}]
[2221311000,"22",213,11,{"v":0,"d":"000"},"静岡県","掛川市","西山口村",null,null,"","",{"$f":"IF(K2643=\"\",\"\",COUNTIF($K$7:K2643,\"ﾘｽﾄ１\"))","v":""},"","","","","","","",{"$f":"IF(S2643=\"\",\"\",COUNTIF($S$7:S2643,\"該当２\"))","v":""},"","",{"$f":"IF(V2643=\"\",\"\",COUNTIF($V$7:V2643,\"該当３\"))","v":""}]
[2221311001,"22",213,11,{"v":1,"d":"001"},"静岡県","掛川市","西山口村","満水",null,"","",{"$f":"IF(K2644=\"\",\"\",COUNTIF($K$7:K2644,\"ﾘｽﾄ１\"))","v":""},"","","","","","","",{"$f":"IF(S2644=\"\",\"\",COUNTIF($S$7:S2644,\"該当２\"))","v":""},"","",{"$f":"IF(V2644=\"\",\"\",COUNTIF($V$7:V2644,\"該当３\"))","v":""}]
[2221311003,"22",213,11,{"v":3,"d":"003"},"静岡県","掛川市","西山口村","安養寺",null,"","",{"$f":"IF(K2646=\"\",\"\",COUNTIF($K$7:K2646,\"ﾘｽﾄ１\"))","v":""},"","","","","","","",{"$f":"IF(S2646=\"\",\"\",COUNTIF($S$7:S2646,\"該当２\"))","v":""},"","",{"$f":"IF(V2646=\"\",\"\",COUNTIF($V$7:V2646,\"該当３\"))","v":""}]
[2221311004,"22",213,11,{"v":4,"d":"004"},"静岡県","掛川市","西山口村","宮脇",null,"","",{"$f":"IF(K2647=\"\",\"\",COUNTIF($K$7:K2647,\"ﾘｽﾄ１\"))","v":""},"","","","","","","",{"$f":"IF(S2647=\"\",\"\",COUNTIF($S$7:S2647,\"該当２\"))","v":""},"","",{"$f":"IF(V2647=\"\",\"\",COUNTIF($V$7:V2647,\"該当３\"))","v":""}]
[2221311006,"22",213,11,{"v":6,"d":"006"},"静岡県","掛川市","西山口村","葛川",null,"","",{"$f":"IF(K2649=\"\",\"\",COUNTIF($K$7:K2649,\"ﾘｽﾄ１\"))","v":""},"","","","","","","",{"$f":"IF(S2649=\"\",\"\",COUNTIF($S$7:S2649,\"該当２\"))","v":""},"","",{"$f":"IF(V2649=\"\",\"\",COUNTIF($V$7:V2649,\"該当３\"))","v":""}]
[2221312000,"22",213,12,{"v":0,"d":"000"},"静岡県","掛川市","上内田村",null,null,"","",{"$f":"IF(K2650=\"\",\"\",COUNTIF($K$7:K2650,\"ﾘｽﾄ１\"))","v":""},"","","","","","","",{"$f":"IF(S2650=\"\",\"\",COUNTIF($S$7:S2650,\"該当２\"))","v":""},"","",{"$f":"IF(V2650=\"\",\"\",COUNTIF($V$7:V2650,\"該当３\"))","v":""}]
[2221312002,"22",213,12,{"v":2,"d":"002"},"静岡県","掛川市","上内田村","五百済",null,"","",{"$f":"IF(K2652=\"\",\"\",COUNTIF($K$7:K2652,\"ﾘｽﾄ１\"))","v":""},"","","","","","","",{"$f":"IF(S2652=\"\",\"\",COUNTIF($S$7:S2652,\"該当２\"))","v":""},"","",{"$f":"IF(V2652=\"\",\"\",COUNTIF($V$7:V2652,\"該当３\"))","v":""}]
[2221312003,"22",213,12,{"v":3,"d":"003"},"静岡県","掛川市","上内田村","段金谷",null,"","",{"$f":"IF(K2653=\"\",\"\",COUNTIF($K$7:K2653,\"ﾘｽﾄ１\"))","v":""},"","","","","","","",{"$f":"IF(S2653=\"\",\"\",COUNTIF($S$7:S2653,\"該当２\"))","v":""},"","",{"$f":"IF(V2653=\"\",\"\",COUNTIF($V$7:V2653,\"該当３\"))","v":""}]
[2221312005,"22",213,12,{"v":5,"d":"005"},"静岡県","掛川市","上内田村","下板沢",null,"","",{"$f":"IF(K2655=\"\",\"\",COUNTIF($K$7:K2655,\"ﾘｽﾄ１\"))","v":""},"","","","","","","",{"$f":"IF(S2655=\"\",\"\",COUNTIF($S$7:S2655,\"該当２\"))","v":""},"","",{"$f":"IF(V2655=\"\",\"\",COUNTIF($V$7:V2655,\"該当３\"))","v":""}]
[2221312006,"22",213,12,{"v":6,"d":"006"},"静岡県","掛川市","上内田村","和田",null,"","",{"$f":"IF(K2656=\"\",\"\",COUNTIF($K$7:K2656,\"ﾘｽﾄ１\"))","v":""},"","","","","","","",{"$f":"IF(S2656=\"\",\"\",COUNTIF($S$7:S2656,\"該当２\"))","v":""},"","",{"$f":"IF(V2656=\"\",\"\",COUNTIF($V$7:V2656,\"該当３\"))","v":""}]
[2221312008,"22",213,12,{"v":8,"d":"008"},"静岡県","掛川市","上内田村","岩井寺",null,"","",{"$f":"IF(K2658=\"\",\"\",COUNTIF($K$7:K2658,\"ﾘｽﾄ１\"))","v":""},"","","","","","","",{"$f":"IF(S2658=\"\",\"\",COUNTIF($S$7:S2658,\"該当２\"))","v":""},"","",{"$f":"IF(V2658=\"\",\"\",COUNTIF($V$7:V2658,\"該当３\"))","v":""}]
[2221312009,"22",213,12,{"v":9,"d":"009"},"静岡県","掛川市","上内田村","大谷",null,"","",{"$f":"IF(K2659=\"\",\"\",COUNTIF($K$7:K2659,\"ﾘｽﾄ１\"))","v":""},"","","","","","","",{"$f":"IF(S2659=\"\",\"\",COUNTIF($S$7:S2659,\"該当２\"))","v":""},"","",{"$f":"IF(V2659=\"\",\"\",COUNTIF($V$7:V2659,\"該当３\"))","v":""}]
[2221313001,"22",213,13,{"v":1,"d":"001"},"静岡県","掛川市","桜木村","小山平",null,"","",{"$f":"IF(K2661=\"\",\"\",COUNTIF($K$7:K2661,\"ﾘｽﾄ１\"))","v":""},"","","","","","","",{"$f":"IF(S2661=\"\",\"\",COUNTIF($S$7:S2661,\"該当２\"))","v":""},"","",{"$f":"IF(V2661=\"\",\"\",COUNTIF($V$7:V2661,\"該当３\"))","v":""}]
[2221313002,"22",213,13,{"v":2,"d":"002"},"静岡県","掛川市","桜木村","新田",null,"","",{"$f":"IF(K2662=\"\",\"\",COUNTIF($K$7:K2662,\"ﾘｽﾄ１\"))","v":""},"","","","","","","",{"$f":"IF(S2662=\"\",\"\",COUNTIF($S$7:S2662,\"該当２\"))","v":""},"","",{"$f":"IF(V2662=\"\",\"\",COUNTIF($V$7:V2662,\"該当３\"))","v":""}]
[2221313004,"22",213,13,{"v":4,"d":"004"},"静岡県","掛川市","桜木村","富部西",null,"","",{"$f":"IF(K2664=\"\",\"\",COUNTIF($K$7:K2664,\"ﾘｽﾄ１\"))","v":""},"","","","","","","",{"$f":"IF(S2664=\"\",\"\",COUNTIF($S$7:S2664,\"該当２\"))","v":""},"","",{"$f":"IF(V2664=\"\",\"\",COUNTIF($V$7:V2664,\"該当３\"))","v":""}]
[2221313005,"22",213,13,{"v":5,"d":"005"},"静岡県","掛川市","桜木村","富部東",null,"","",{"$f":"IF(K2665=\"\",\"\",COUNTIF($K$7:K2665,\"ﾘｽﾄ１\"))","v":""},"","","","","","","",{"$f":"IF(S2665=\"\",\"\",COUNTIF($S$7:S2665,\"該当２\"))","v":""},"","",{"$f":"IF(V2665=\"\",\"\",COUNTIF($V$7:V2665,\"該当３\"))","v":""}]
[2221313007,"22",213,13,{"v":7,"d":"007"},"静岡県","掛川市","桜木村","下垂木南",null,"","",{"$f":"IF(K2667=\"\",\"\",COUNTIF($K$7:K2667,\"ﾘｽﾄ１\"))","v":""},"","","","","","","",{"$f":"IF(S2667=\"\",\"\",COUNTIF($S$7:S2667,\"該当２\"))","v":""},"","",{"$f":"IF(V2667=\"\",\"\",COUNTIF($V$7:V2667,\"該当３\"))","v":""}]
[2221313008,"22",213,13,{"v":8,"d":"008"},"静岡県","掛川市","桜木村","下垂木中",null,"","",{"$f":"IF(K2668=\"\",\"\",COUNTIF($K$7:K2668,\"ﾘｽﾄ１\"))","v":""},"","","","","","","",{"$f":"IF(S2668=\"\",\"\",COUNTIF($S$7:S2668,\"該当２\"))","v":""},"","",{"$f":"IF(V2668=\"\",\"\",COUNTIF($V$7:V2668,\"該当３\"))","v":""}]
[2221313010,"22",213,13,{"v":10,"d":"010"},"静岡県","掛川市","桜木村","鰯原",null,"","",{"$f":"IF(K2670=\"\",\"\",COUNTIF($K$7:K2670,\"ﾘｽﾄ１\"))","v":""},"","","","","","","",{"$f":"IF(S2670=\"\",\"\",COUNTIF($S$7:S2670,\"該当２\"))","v":""},"","",{"$f":"IF(V2670=\"\",\"\",COUNTIF($V$7:V2670,\"該当３\"))","v":""}]
[2221313011,"22",213,13,{"v":11,"d":"011"},"静岡県","掛川市","桜木村","遊家",null,"","",{"$f":"IF(K2671=\"\",\"\",COUNTIF($K$7:K2671,\"ﾘｽﾄ１\"))","v":""},"","","","","","","",{"$f":"IF(S2671=\"\",\"\",COUNTIF($S$7:S2671,\"該当２\"))","v":""},"","",{"$f":"IF(V2671=\"\",\"\",COUNTIF($V$7:V2671,\"該当３\"))","v":""}]
[2221313013,"22",213,13,{"v":13,"d":"013"},"静岡県","掛川市","桜木村","家代中",null,"","",{"$f":"IF(K2673=\"\",\"\",COUNTIF($K$7:K2673,\"ﾘｽﾄ１\"))","v":""},"","","","","","","",{"$f":"IF(S2673=\"\",\"\",COUNTIF($S$7:S2673,\"該当２\"))","v":""},"","",{"$f":"IF(V2673=\"\",\"\",COUNTIF($V$7:V2673,\"該当３\"))","v":""}]
[2221313014,"22",213,13,{"v":14,"d":"014"},"静岡県","掛川市","桜木村","家代北",null,"","",{"$f":"IF(K2674=\"\",\"\",COUNTIF($K$7:K2674,\"ﾘｽﾄ１\"))","v":""},"","","","","","","",{"$f":"IF(S2674=\"\",\"\",COUNTIF($S$7:S2674,\"該当２\"))","v":""},"","",{"$f":"IF(V2674=\"\",\"\",COUNTIF($V$7:V2674,\"該当３\"))","v":""}]
[2221313016,"22",213,13,{"v":16,"d":"016"},"静岡県","掛川市","桜木村","知山",null,"","",{"$f":"IF(K2676=\"\",\"\",COUNTIF($K$7:K2676,\"ﾘｽﾄ１\"))","v":""},"","","","","","","",{"$f":"IF(S2676=\"\",\"\",COUNTIF($S$7:S2676,\"該当２\"))","v":""},"","",{"$f":"IF(V2676=\"\",\"\",COUNTIF($V$7:V2676,\"該当３\"))","v":""}]
[2221313017,"22",213,13,{"v":17,"d":"017"},"静岡県","掛川市","桜木村","上垂木西側",null,"","",{"$f":"IF(K2677=\"\",\"\",COUNTIF($K$7:K2677,\"ﾘｽﾄ１\"))","v":""},"","","","","","","",{"$f":"IF(S2677=\"\",\"\",COUNTIF($S$7:S2677,\"該当２\"))","v":""},"","",{"$f":"IF(V2677=\"\",\"\",COUNTIF($V$7:V2677,\"該当３\"))","v":""}]
[2221313019,"22",213,13,{"v":19,"d":"019"},"静岡県","掛川市","桜木村","上ノ宮",null,"","",{"$f":"IF(K2679=\"\",\"\",COUNTIF($K$7:K2679,\"ﾘｽﾄ１\"))","v":""},"","","","","","","",{"$f":"IF(S2679=\"\",\"\",COUNTIF($S$7:S2679,\"該当２\"))","v":""},"","",{"$f":"IF(V2679=\"\",\"\",COUNTIF($V$7:V2679,\"該当３\"))","v":""}]
[2221313020,"22",213,13,{"v":20,"d":"020"},"静岡県","掛川市","桜木村","坂下",null,"","",{"$f":"IF(K2680=\"\",\"\",COUNTIF($K$7:K2680,\"ﾘｽﾄ１\"))","v":""},"","","","","","","",{"$f":"IF(S2680=\"\",\"\",COUNTIF($S$7:S2680,\"該当２\"))","v":""},"","",{"$f":"IF(V2680=\"\",\"\",COUNTIF($V$7:V2680,\"該当３\"))","v":""}]
[2221314001,"22",213,14,{"v":1,"d":"001"},"静岡県","掛川市","曽我村","細田",null,"","",{"$f":"IF(K2682=\"\",\"\",COUNTIF($K$7:K2682,\"ﾘｽﾄ１\"))","v":""},"","","","","","","",{"$f":"IF(S2682=\"\",\"\",COUNTIF($S$7:S2682,\"該当２\"))","v":""},"","",{"$f":"IF(V2682=\"\",\"\",COUNTIF($V$7:V2682,\"該当３\"))","v":""}]
[2221314002,"22",213,14,{"v":2,"d":"002"},"静岡県","掛川市","曽我村","沢田",null,"","",{"$f":"IF(K2683=\"\",\"\",COUNTIF($K$7:K2683,\"ﾘｽﾄ１\"))","v":""},"","","","","","","",{"$f":"IF(S2683=\"\",\"\",COUNTIF($S$7:S2683,\"該当２\"))","v":""},"","",{"$f":"IF(V2683=\"\",\"\",COUNTIF($V$7:V2683,\"該当３\"))","v":""}]
[2221314004,"22",213,14,{"v":4,"d":"004"},"静岡県","掛川市","曽我村","原川",null,"","",{"$f":"IF(K2685=\"\",\"\",COUNTIF($K$7:K2685,\"ﾘｽﾄ１\"))","v":""},"","","","","","","",{"$f":"IF(S2685=\"\",\"\",COUNTIF($S$7:S2685,\"該当２\"))","v":""},"","",{"$f":"IF(V2685=\"\",\"\",COUNTIF($V$7:V2685,\"該当３\"))","v":""}]
[2221314005,"22",213,14,{"v":5,"d":"005"},"静岡県","掛川市","曽我村","徳泉",null,"","",{"$f":"IF(K2686=\"\",\"\",COUNTIF($K$7:K2686,\"ﾘｽﾄ１\"))","v":""},"","","","","","","",{"$f":"IF(S2686=\"\",\"\",COUNTIF($S$7:S2686,\"該当２\"))","v":""},"","",{"$f":"IF(V2686=\"\",\"\",COUNTIF($V$7:V2686,\"該当３\"))","v":""}]
[2221314007,"22",213,14,{"v":7,"d":"007"},"静岡県","掛川市","曽我村","平野",null,"","",{"$f":"IF(K2688=\"\",\"\",COUNTIF($K$7:K2688,\"ﾘｽﾄ１\"))","v":""},"","","","","","","",{"$f":"IF(S2688=\"\",\"\",COUNTIF($S$7:S2688,\"該当２\"))","v":""},"","",{"$f":"IF(V2688=\"\",\"\",COUNTIF($V$7:V2688,\"該当３\"))","v":""}]
[2221314008,"22",213,14,{"v":8,"d":"008"},"静岡県","掛川市","曽我村","篠場",null,"","",{"$f":"IF(K2689=\"\",\"\",COUNTIF($K$7:K2689,\"ﾘｽﾄ１\"))","v":""},"","","","","","","",{"$f":"IF(S2689=\"\",\"\",COUNTIF($S$7:S2689,\"該当２\"))","v":""},"","",{"$f":"IF(V2689=\"\",\"\",COUNTIF($V$7:V2689,\"該当３\"))","v":""}]
[2221314010,"22",213,14,{"v":10,"d":"010"},"静岡県","掛川市","曽我村","高御所",null,"","",{"$f":"IF(K2691=\"\",\"\",COUNTIF($K$7:K2691,\"ﾘｽﾄ１\"))","v":""},"","","","","","","",{"$f":"IF(S2691=\"\",\"\",COUNTIF($S$7:S2691,\"該当２\"))","v":""},"","",{"$f":"IF(V2691=\"\",\"\",COUNTIF($V$7:V2691,\"該当３\"))","v":""}]
[2221315000,"22",213,15,{"v":0,"d":"000"},"静岡県","掛川市","西郷村",null,null,"","",{"$f":"IF(K2692=\"\",\"\",COUNTIF($K$7:K2692,\"ﾘｽﾄ１\"))","v":""},"","","","","","","",{"$f":"IF(S2692=\"\",\"\",COUNTIF($S$7:S2692,\"該当２\"))","v":""},"","",{"$f":"IF(V2692=\"\",\"\",COUNTIF($V$7:V2692,\"該当３\"))","v":""}]
[2221315002,"22",213,15,{"v":2,"d":"002"},"静岡県","掛川市","西郷村","中宿",null,"","",{"$f":"IF(K2694=\"\",\"\",COUNTIF($K$7:K2694,\"ﾘｽﾄ１\"))","v":""},"","","","","","","",{"$f":"IF(S2694=\"\",\"\",COUNTIF($S$7:S2694,\"該当２\"))","v":""},"","",{"$f":"IF(V2694=\"\",\"\",COUNTIF($V$7:V2694,\"該当３\"))","v":""}]
[2221315003,"22",213,15,{"v":3,"d":"003"},"静岡県","掛川市","西郷村","小市",null,"","",{"$f":"IF(K2695=\"\",\"\",COUNTIF($K$7:K2695,\"ﾘｽﾄ１\"))","v":""},"","","","","","","",{"$f":"IF(S2695=\"\",\"\",COUNTIF($S$7:S2695,\"該当２\"))","v":""},"","",{"$f":"IF(V2695=\"\",\"\",COUNTIF($V$7:V2695,\"該当３\"))","v":""}]
[2221315005,"22",213,15,{"v":5,"d":"005"},"静岡県","掛川市","西郷村","構江",null,"","",{"$f":"IF(K2697=\"\",\"\",COUNTIF($K$7:K2697,\"ﾘｽﾄ１\"))","v":""},"","","","","","","",{"$f":"IF(S2697=\"\",\"\",COUNTIF($S$7:S2697,\"該当２\"))","v":""},"","",{"$f":"IF(V2697=\"\",\"\",COUNTIF($V$7:V2697,\"該当３\"))","v":""}]
[2221315006,"22",213,15,{"v":6,"d":"006"},"静岡県","掛川市","西郷村","石畑",null,"","",{"$f":"IF(K2698=\"\",\"\",COUNTIF($K$7:K2698,\"ﾘｽﾄ１\"))","v":""},"","",{"$f":"IF(O2698=\"該当１\",G2698,\"\")","v":""},{"$f":"IF(O2698=\"該当１\",\"ﾘｽﾄ2\",\"\")","v":""},{"$f":"IF(Q2698=\"ﾘｽﾄ2\",H2698,\"\")","v":""},"",{"$f":"IF(S2698=\"該当２\",H2698,\"\")","v":""},{"$f":"IF(S2698=\"\",\"\",COUNTIF($S$7:S2698,\"該当２\"))","v":""},{"$f":"IF(AND($S$2=H2698,E2698>0,E2698<998),\"該当３\",\"\")","v":""},{"$f":"IF(V2698=\"該当３\",I2698,\"\")","v":""},{"$f":"IF(V2698=\"\",\"\",COUNTIF($V$7:V2698,\"該当３\"))","v":""}]
[2221315008,"22",213,15,{"v":8,"d":"008"},"静岡県","掛川市","西郷村","美人ケ谷",null,"","",{"$f":"IF(K2700=\"\",\"\",COUNTIF($K$7:K2700,\"ﾘｽﾄ１\"))","v":""},"","","","","","","",{"$f":"IF(S2700=\"\",\"\",COUNTIF($S$7:S2700,\"該当２\"))","v":""},"","",{"$f":"IF(V2700=\"\",\"\",COUNTIF($V$7:V2700,\"該当３\"))","v":""}]
[2221315009,"22",213,15,{"v":9,"d":"009"},"静岡県","掛川市","西郷村","滝ノ谷",null,"","",{"$f":"IF(K2701=\"\",\"\",COUNTIF($K$7:K2701,\"ﾘｽﾄ１\"))","v":""},"","","","","","","",{"$f":"IF(S2701=\"\",\"\",COUNTIF($S$7:S2701,\"該当２\"))","v":""},"","",{"$f":"IF(V2701=\"\",\"\",COUNTIF($V$7:V2701,\"該当３\"))","v":""}]
[2221315011,"22",213,15,{"v":11,"d":"011"},"静岡県","掛川市","西郷村","上五明",null,"","",{"$f":"IF(K2703=\"\",\"\",COUNTIF($K$7:K2703,\"ﾘｽﾄ１\"))","v":""},"","","","","","","",{"$f":"IF(S2703=\"\",\"\",COUNTIF($S$7:S2703,\"該当２\"))","v":""},"","",{"$f":"IF(V2703=\"\",\"\",COUNTIF($V$7:V2703,\"該当３\"))","v":""}]
[2221315012,"22",213,15,{"v":12,"d":"012"},"静岡県","掛川市","西郷村","中五明",null,"","",{"$f":"IF(K2704=\"\",\"\",COUNTIF($K$7:K2704,\"ﾘｽﾄ１\"))","v":""},"","","","","","","",{"$f":"IF(S2704=\"\",\"\",COUNTIF($S$7:S2704,\"該当２\"))","v":""},"","",{"$f":"IF(V2704=\"\",\"\",COUNTIF($V$7:V2704,\"該当３\"))","v":""}]
[2221316000,"22",213,16,{"v":0,"d":"000"},"静岡県","掛川市","倉真村",null,null,"","",{"$f":"IF(K2706=\"\",\"\",COUNTIF($K$7:K2706,\"ﾘｽﾄ１\"))","v":""},"","","","","","","",{"$f":"IF(S2706=\"\",\"\",COUNTIF($S$7:S2706,\"該当２\"))","v":""},"","",{"$f":"IF(V2706=\"\",\"\",COUNTIF($V$7:V2706,\"該当３\"))","v":""}]
[2221316001,"22",213,16,{"v":1,"d":"001"},"静岡県","掛川市","倉真村","倉真１区",null,"","",{"$f":"IF(K2707=\"\",\"\",COUNTIF($K$7:K2707,\"ﾘｽﾄ１\"))","v":""},"","","","","","","",{"$f":"IF(S2707=\"\",\"\",COUNTIF($S$7:S2707,\"該当２\"))","v":""},"","",{"$f":"IF(V2707=\"\",\"\",COUNTIF($V$7:V2707,\"該当３\"))","v":""}]
[2221316003,"22",213,16,{"v":3,"d":"003"},"静岡県","掛川市","倉真村","倉真３区",null,"","",{"$f":"IF(K2709=\"\",\"\",COUNTIF($K$7:K2709,\"ﾘｽﾄ１\"))","v":""},"","","","","","","",{"$f":"IF(S2709=\"\",\"\",COUNTIF($S$7:S2709,\"該当２\"))","v":""},"","",{"$f":"IF(V2709=\"\",\"\",COUNTIF($V$7:V2709,\"該当３\"))","v":""}]
[2221316004,"22",213,16,{"v":4,"d":"004"},"静岡県","掛川市","倉真村","倉真４区",null,"","",{"$f":"IF(K2710=\"\",\"\",COUNTIF($K$7:K2710,\"ﾘｽﾄ１\"))","v":""},"","","","","","","",{"$f":"IF(S2710=\"\",\"\",COUNTIF($S$7:S2710,\"該当２\"))","v":""},"","",{"$f":"IF(V2710=\"\",\"\",COUNTIF($V$7:V2710,\"該当３\"))","v":""}]
[2221316006,"22",213,16,{"v":6,"d":"006"},"静岡県","掛川市","倉真村","倉真６区",null,"","",{"$f":"IF(K2712=\"\",\"\",COUNTIF($K$7:K2712,\"ﾘｽﾄ１\"))","v":""},"","","","","","","",{"$f":"IF(S2712=\"\",\"\",COUNTIF($S$7:S2712,\"該当２\"))","v":""},"","",{"$f":"IF(V2712=\"\",\"\",COUNTIF($V$7:V2712,\"該当３\"))","v":""}]
[2221317000,"22",213,17,{"v":0,"d":"000"},"静岡県","掛川市","横須賀町",null,null,"","",{"$f":"IF(K2713=\"\",\"\",COUNTIF($K$7:K2713,\"ﾘｽﾄ１\"))","v":""},"","","","","","","",{"$f":"IF(S2713=\"\",\"\",COUNTIF($S$7:S2713,\"該当２\"))","v":""},"","",{"$f":"IF(V2713=\"\",\"\",COUNTIF($V$7:V2713,\"該当３\"))","v":""}]
[2221317002,"22",213,17,{"v":2,"d":"002"},"静岡県","掛川市","横須賀町","西大渕",null,"","",{"$f":"IF(K2715=\"\",\"\",COUNTIF($K$7:K2715,\"ﾘｽﾄ１\"))","v":""},"","","","","","","",{"$f":"IF(S2715=\"\",\"\",COUNTIF($S$7:S2715,\"該当２\"))","v":""},"","",{"$f":"IF(V2715=\"\",\"\",COUNTIF($V$7:V2715,\"該当３\"))","v":""}]
[2221317003,"22",213,17,{"v":3,"d":"003"},"静岡県","掛川市","横須賀町","西大谷",null,"","",{"$f":"IF(K2716=\"\",\"\",COUNTIF($K$7:K2716,\"ﾘｽﾄ１\"))","v":""},"","","","","","","",{"$f":"IF(S2716=\"\",\"\",COUNTIF($S$7:S2716,\"該当２\"))","v":""},"","",{"$f":"IF(V2716=\"\",\"\",COUNTIF($V$7:V2716,\"該当３\"))","v":""}]
[2221317005,"22",213,17,{"v":5,"d":"005"},"静岡県","掛川市","横須賀町","川原崎",null,"","",{"$f":"IF(K2718=\"\",\"\",COUNTIF($K$7:K2718,\"ﾘｽﾄ１\"))","v":""},"","","","","","","",{"$f":"IF(S2718=\"\",\"\",COUNTIF($S$7:S2718,\"該当２\"))","v":""},"","",{"$f":"IF(V2718=\"\",\"\",COUNTIF($V$7:V2718,\"該当３\"))","v":""}]
[2221317006,"22",213,17,{"v":6,"d":"006"},"静岡県","掛川市","横須賀町","横須賀東",null,"","",{"$f":"IF(K2719=\"\",\"\",COUNTIF($K$7:K2719,\"ﾘｽﾄ１\"))","v":""},"","","","","","","",{"$f":"IF(S2719=\"\",\"\",COUNTIF($S$7:S2719,\"該当２\"))","v":""},"","",{"$f":"IF(V2719=\"\",\"\",COUNTIF($V$7:V2719,\"該当３\"))","v":""}]
[2221317008,"22",213,17,{"v":8,"d":"008"},"静岡県","掛川市","横須賀町","横須賀西",null,"","",{"$f":"IF(K2721=\"\",\"\",COUNTIF($K$7:K2721,\"ﾘｽﾄ１\"))","v":""},"","","","","","","",{"$f":"IF(S2721=\"\",\"\",COUNTIF($S$7:S2721,\"該当２\"))","v":""},"","",{"$f":"IF(V2721=\"\",\"\",COUNTIF($V$7:V2721,\"該当３\"))","v":""}]
[2221318000,"22",213,18,{"v":0,"d":"000"},"静岡県","掛川市","大淵村（掛川市）",null,null,"","",{"$f":"IF(K2722=\"\",\"\",COUNTIF($K$7:K2722,\"ﾘｽﾄ１\"))","v":""},"","","","","","","",{"$f":"IF(S2722=\"\",\"\",COUNTIF($S$7:S2722,\"該当２\"))","v":""},"","",{"$f":"IF(V2722=\"\",\"\",COUNTIF($V$7:V2722,\"該当３\"))","v":""}]
[2221318002,"22",213,18,{"v":2,"d":"002"},"静岡県","掛川市","大淵村（掛川市）","新井",null,"","",{"$f":"IF(K2724=\"\",\"\",COUNTIF($K$7:K2724,\"ﾘｽﾄ１\"))","v":""},"","","","","","","",{"$f":"IF(S2724=\"\",\"\",COUNTIF($S$7:S2724,\"該当２\"))","v":""},"","",{"$f":"IF(V2724=\"\",\"\",COUNTIF($V$7:V2724,\"該当３\"))","v":""}]
[2221318003,"22",213,18,{"v":3,"d":"003"},"静岡県","掛川市","大淵村（掛川市）","中新井",null,"","",{"$f":"IF(K2725=\"\",\"\",COUNTIF($K$7:K2725,\"ﾘｽﾄ１\"))","v":""},"","","","","","","",{"$f":"IF(S2725=\"\",\"\",COUNTIF($S$7:S2725,\"該当２\"))","v":""},"","",{"$f":"IF(V2725=\"\",\"\",COUNTIF($V$7:V2725,\"該当３\"))","v":""}]
[2221318005,"22",213,18,{"v":5,"d":"005"},"静岡県","掛川市","大淵村（掛川市）","東大谷",null,"","",{"$f":"IF(K2727=\"\",\"\",COUNTIF($K$7:K2727,\"ﾘｽﾄ１\"))","v":""},"","","","","","","",{"$f":"IF(S2727=\"\",\"\",COUNTIF($S$7:S2727,\"該当２\"))","v":""},"","",{"$f":"IF(V2727=\"\",\"\",COUNTIF($V$7:V2727,\"該当３\"))","v":""}]
[2221318006,"22",213,18,{"v":6,"d":"006"},"静岡県","掛川市","大淵村（掛川市）","野中",null,"","",{"$f":"IF(K2728=\"\",\"\",COUNTIF($K$7:K2728,\"ﾘｽﾄ１\"))","v":""},"","","","","","","",{"$f":"IF(S2728=\"\",\"\",COUNTIF($S$7:S2728,\"該当２\"))","v":""},"","",{"$f":"IF(V2728=\"\",\"\",COUNTIF($V$7:V2728,\"該当３\"))","v":""}]
[2221318008,"22",213,18,{"v":8,"d":"008"},"静岡県","掛川市","大淵村（掛川市）","浜",null,"","",{"$f":"IF(K2730=\"\",\"\",COUNTIF($K$7:K2730,\"ﾘｽﾄ１\"))","v":""},"","","","","","","",{"$f":"IF(S2730=\"\",\"\",COUNTIF($S$7:S2730,\"該当２\"))","v":""},"","",{"$f":"IF(V2730=\"\",\"\",COUNTIF($V$7:V2730,\"該当３\"))","v":""}]
[2221318009,"22",213,18,{"v":9,"d":"009"},"静岡県","掛川市","大淵村（掛川市）","雨垂",null,"","",{"$f":"IF(K2731=\"\",\"\",COUNTIF($K$7:K2731,\"ﾘｽﾄ１\"))","v":""},"","","","","","","",{"$f":"IF(S2731=\"\",\"\",COUNTIF($S$7:S2731,\"該当２\"))","v":""},"","",{"$f":"IF(V2731=\"\",\"\",COUNTIF($V$7:V2731,\"該当３\"))","v":""}]
[2221319001,"22",213,19,{"v":1,"d":"001"},"静岡県","掛川市","笠原村２－２","石津",null,"","",{"$f":"IF(K2733=\"\",\"\",COUNTIF($K$7:K2733,\"ﾘｽﾄ１\"))","v":""},"","","","","","","",{"$f":"IF(S2733=\"\",\"\",COUNTIF($S$7:S2733,\"該当２\"))","v":""},"","",{"$f":"IF(V2733=\"\",\"\",COUNTIF($V$7:V2733,\"該当３\"))","v":""}]
[2221319002,"22",213,19,{"v":2,"d":"002"},"静岡県","掛川市","笠原村２－２","横砂",null,"","",{"$f":"IF(K2734=\"\",\"\",COUNTIF($K$7:K2734,\"ﾘｽﾄ１\"))","v":""},"","","","","","","",{"$f":"IF(S2734=\"\",\"\",COUNTIF($S$7:S2734,\"該当２\"))","v":""},"","",{"$f":"IF(V2734=\"\",\"\",COUNTIF($V$7:V2734,\"該当３\"))","v":""}]
[2221319004,"22",213,19,{"v":4,"d":"004"},"静岡県","掛川市","笠原村２－２","清ケ谷",null,"","",{"$f":"IF(K2736=\"\",\"\",COUNTIF($K$7:K2736,\"ﾘｽﾄ１\"))","v":""},"","","","","","","",{"$f":"IF(S2736=\"\",\"\",COUNTIF($S$7:S2736,\"該当２\"))","v":""},"","",{"$f":"IF(V2736=\"\",\"\",COUNTIF($V$7:V2736,\"該当３\"))","v":""}]
[2221319005,"22",213,19,{"v":5,"d":"005"},"静岡県","掛川市","笠原村２－２","本谷",null,"","",{"$f":"IF(K2737=\"\",\"\",COUNTIF($K$7:K2737,\"ﾘｽﾄ１\"))","v":""},"","","","","","","",{"$f":"IF(S2737=\"\",\"\",COUNTIF($S$7:S2737,\"該当２\"))","v":""},"","",{"$f":"IF(V2737=\"\",\"\",COUNTIF($V$7:V2737,\"該当３\"))","v":""}]
[2221320001,"22",213,20,{"v":1,"d":"001"},"静岡県","掛川市","佐束村","高瀬",null,"","",{"$f":"IF(K2739=\"\",\"\",COUNTIF($K$7:K2739,\"ﾘｽﾄ１\"))","v":""},"","","","","","","",{"$f":"IF(S2739=\"\",\"\",COUNTIF($S$7:S2739,\"該当２\"))","v":""},"","",{"$f":"IF(V2739=\"\",\"\",COUNTIF($V$7:V2739,\"該当３\"))","v":""}]
[2221320002,"22",213,20,{"v":2,"d":"002"},"静岡県","掛川市","佐束村","小貫",null,"","",{"$f":"IF(K2740=\"\",\"\",COUNTIF($K$7:K2740,\"ﾘｽﾄ１\"))","v":""},"","","","","","","",{"$f":"IF(S2740=\"\",\"\",COUNTIF($S$7:S2740,\"該当２\"))","v":""},"","",{"$f":"IF(V2740=\"\",\"\",COUNTIF($V$7:V2740,\"該当３\"))","v":""}]
[2221320004,"22",213,20,{"v":4,"d":"004"},"静岡県","掛川市","佐束村","岩滑",null,"","",{"$f":"IF(K2742=\"\",\"\",COUNTIF($K$7:K2742,\"ﾘｽﾄ１\"))","v":""},"","","","","","","",{"$f":"IF(S2742=\"\",\"\",COUNTIF($S$7:S2742,\"該当２\"))","v":""},"","",{"$f":"IF(V2742=\"\",\"\",COUNTIF($V$7:V2742,\"該当３\"))","v":""}]
[2221321000,"22",213,21,{"v":0,"d":"000"},"静岡県","掛川市","土方村",null,null,"","",{"$f":"IF(K2743=\"\",\"\",COUNTIF($K$7:K2743,\"ﾘｽﾄ１\"))","v":""},"","","","","","","",{"$f":"IF(S2743=\"\",\"\",COUNTIF($S$7:S2743,\"該当２\"))","v":""},"","",{"$f":"IF(V2743=\"\",\"\",COUNTIF($V$7:V2743,\"該当３\"))","v":""}]
[2221321002,"22",213,21,{"v":2,"d":"002"},"静岡県","掛川市","土方村","今滝",null,"","",{"$f":"IF(K2745=\"\",\"\",COUNTIF($K$7:K2745,\"ﾘｽﾄ１\"))","v":""},"","","","","","","",{"$f":"IF(S2745=\"\",\"\",COUNTIF($S$7:S2745,\"該当２\"))","v":""},"","",{"$f":"IF(V2745=\"\",\"\",COUNTIF($V$7:V2745,\"該当３\"))","v":""}]
[2221321003,"22",213,21,{"v":3,"d":"003"},"静岡県","掛川市","土方村","落合",null,"","",{"$f":"IF(K2746=\"\",\"\",COUNTIF($K$7:K2746,\"ﾘｽﾄ１\"))","v":""},"","","","","","","",{"$f":"IF(S2746=\"\",\"\",COUNTIF($S$7:S2746,\"該当２\"))","v":""},"","",{"$f":"IF(V2746=\"\",\"\",COUNTIF($V$7:V2746,\"該当３\"))","v":""}]
[2221321005,"22",213,21,{"v":5,"d":"005"},"静岡県","掛川市","土方村","下北",null,"","",{"$f":"IF(K2748=\"\",\"\",COUNTIF($K$7:K2748,\"ﾘｽﾄ１\"))","v":""},"","","","","","","",{"$f":"IF(S2748=\"\",\"\",COUNTIF($S$7:S2748,\"該当２\"))","v":""},"","",{"$f":"IF(V2748=\"\",\"\",COUNTIF($V$7:V2748,\"該当３\"))","v":""}]
[2221321006,"22",213,21,{"v":6,"d":"006"},"静岡県","掛川市","土方村","下中",null,"","",{"$f":"IF(K2749=\"\",\"\",COUNTIF($K$7:K2749,\"ﾘｽﾄ１\"))","v":""},"","","","","","","",{"$f":"IF(S2749=\"\",\"\",COUNTIF($S$7:S2749,\"該当２\"))","v":""},"","",{"$f":"IF(V2749=\"\",\"\",COUNTIF($V$7:V2749,\"該当３\"))","v":""}]
[2221321008,"22",213,21,{"v":8,"d":"008"},"静岡県","掛川市","土方村","川久保",null,"","",{"$f":"IF(K2751=\"\",\"\",COUNTIF($K$7:K2751,\"ﾘｽﾄ１\"))","v":""},"","","","","","","",{"$f":"IF(S2751=\"\",\"\",COUNTIF($S$7:S2751,\"該当２\"))","v":""},"","",{"$f":"IF(V2751=\"\",\"\",COUNTIF($V$7:V2751,\"該当３\"))","v":""}]
[2221322000,"22",213,22,{"v":0,"d":"000"},"静岡県","掛川市","中村３－１",null,null,"","",{"$f":"IF(K2752=\"\",\"\",COUNTIF($K$7:K2752,\"ﾘｽﾄ１\"))","v":""},"","","","","","","",{"$f":"IF(S2752=\"\",\"\",COUNTIF($S$7:S2752,\"該当２\"))","v":""},"","",{"$f":"IF(V2752=\"\",\"\",COUNTIF($V$7:V2752,\"該当３\"))","v":""}]
[2221322002,"22",213,22,{"v":2,"d":"002"},"静岡県","掛川市","中村３－１","公文",null,"","",{"$f":"IF(K2754=\"\",\"\",COUNTIF($K$7:K2754,\"ﾘｽﾄ１\"))","v":""},"","","","","","","",{"$f":"IF(S2754=\"\",\"\",COUNTIF($S$7:S2754,\"該当２\"))","v":""},"","",{"$f":"IF(V2754=\"\",\"\",COUNTIF($V$7:V2754,\"該当３\"))","v":""}]
[2221322003,"22",213,22,{"v":3,"d":"003"},"静岡県","掛川市","中村３－１","下方",null,"","",{"$f":"IF(K2755=\"\",\"\",COUNTIF($K$7:K2755,\"ﾘｽﾄ１\"))","v":""},"","","","","","","",{"$f":"IF(S2755=\"\",\"\",COUNTIF($S$7:S2755,\"該当２\"))","v":""},"","",{"$f":"IF(V2755=\"\",\"\",COUNTIF($V$7:V2755,\"該当３\"))","v":""}]
[2221322005,"22",213,22,{"v":5,"d":"005"},"静岡県","掛川市","中村３－１","西之谷",null,"","",{"$f":"IF(K2757=\"\",\"\",COUNTIF($K$7:K2757,\"ﾘｽﾄ１\"))","v":""},"","","","","","","",{"$f":"IF(S2757=\"\",\"\",COUNTIF($S$7:S2757,\"該当２\"))","v":""},"","",{"$f":"IF(V2757=\"\",\"\",COUNTIF($V$7:V2757,\"該当３\"))","v":""}]
[2221322006,"22",213,22,{"v":6,"d":"006"},"静岡県","掛川市","中村３－１","田ケ谷",null,"","",{"$f":"IF(K2758=\"\",\"\",COUNTIF($K$7:K2758,\"ﾘｽﾄ１\"))","v":""},"","","","","","","",{"$f":"IF(S2758=\"\",\"\",COUNTIF($S$7:S2758,\"該当２\"))","v":""},"","",{"$f":"IF(V2758=\"\",\"\",COUNTIF($V$7:V2758,\"該当３\"))","v":""}]
[2221323001,"22",213,23,{"v":1,"d":"001"},"静岡県","掛川市","大坂村","新川",null,"","",{"$f":"IF(K2760=\"\",\"\",COUNTIF($K$7:K2760,\"ﾘｽﾄ１\"))","v":""},"","","","","","","",{"$f":"IF(S2760=\"\",\"\",COUNTIF($S$7:S2760,\"該当２\"))","v":""},"","",{"$f":"IF(V2760=\"\",\"\",COUNTIF($V$7:V2760,\"該当３\"))","v":""}]
[2221323002,"22",213,23,{"v":2,"d":"002"},"静岡県","掛川市","大坂村","中川原",null,"","",{"$f":"IF(K2761=\"\",\"\",COUNTIF($K$7:K2761,\"ﾘｽﾄ１\"))","v":""},"","","","","","","",{"$f":"IF(S2761=\"\",\"\",COUNTIF($S$7:S2761,\"該当２\"))","v":""},"","",{"$f":"IF(V2761=\"\",\"\",COUNTIF($V$7:V2761,\"該当３\"))","v":""}]
[2221323004,"22",213,23,{"v":4,"d":"004"},"静岡県","掛川市","大坂村","太田",null,{"$f":"IF(AND($C2763>0,$H2763=\"\"),\"ﾘｽﾄ１\",\"\")","v":""},{"$f":"IF(K2763=\"ﾘｽﾄ１\",G2763,\"\")","v":""},{"$f":"IF(K2763=\"\",\"\",COUNTIF($K$7:K2763,\"ﾘｽﾄ１\"))","v":""},{"$f":"IF(AND(D2763=0,E2763>0),\"同一区\",\"\")","v":""},{"$f":"IF(AND(EXACT($K$2,G2763),H2763>0),\"該当１\",\"\")","v":""},"","","",{"$f":"IF(AND(Q2763=\"ﾘｽﾄ2\",OR(I2763=0,AND(N2763=\"同一区\",E2763=1))),\"該当２\",\"\")","v":""},"",{"$f":"IF(S2763=\"\",\"\",COUNTIF($S$7:S2763,\"該当２\"))","v":""},"","",{"$f":"IF(V2763=\"\",\"\",COUNTIF($V$7:V2763,\"該当３\"))","v":""}]
[2221323005,"22",213,23,{"v":5,"d":"005"},"静岡県","掛川市","大坂村","報地",null,"","",{"$f":"IF(K2764=\"\",\"\",COUNTIF($K$7:K2764,\"ﾘｽﾄ１\"))","v":""},"","","","","","","",{"$f":"IF(S2764=\"\",\"\",COUNTIF($S$7:S2764,\"該当２\"))","v":""},"","",{"$f":"IF(V2764=\"\",\"\",COUNTIF($V$7:V2764,\"該当３\"))","v":""}]
[2221324000,"22",213,24,{"v":0,"d":"000"},"静岡県","掛川市","睦浜村",null,null,"","",{"$f":"IF(K2766=\"\",\"\",COUNTIF($K$7:K2766,\"ﾘｽﾄ１\"))","v":""},"","","","","","","",{"$f":"IF(S2766=\"\",\"\",COUNTIF($S$7:S2766,\"該当２\"))","v":""},"","",{"$f":"IF(V2766=\"\",\"\",COUNTIF($V$7:V2766,\"該当３\"))","v":""}]
[2221324001,"22",213,24,{"v":1,"d":"001"},"静岡県","掛川市","睦浜村","浜野新田",null,"","",{"$f":"IF(K2767=\"\",\"\",COUNTIF($K$7:K2767,\"ﾘｽﾄ１\"))","v":""},"","","","","","","",{"$f":"IF(S2767=\"\",\"\",COUNTIF($S$7:S2767,\"該当２\"))","v":""},"","",{"$f":"IF(V2767=\"\",\"\",COUNTIF($V$7:V2767,\"該当３\"))","v":""}]
[2221324003,"22",213,24,{"v":3,"d":"003"},"静岡県","掛川市","睦浜村","浜野第二",null,"","",{"$f":"IF(K2769=\"\",\"\",COUNTIF($K$7:K2769,\"ﾘｽﾄ１\"))","v":""},"","","","","","","",{"$f":"IF(S2769=\"\",\"\",COUNTIF($S$7:S2769,\"該当２\"))","v":""},"","",{"$f":"IF(V2769=\"\",\"\",COUNTIF($V$7:V2769,\"該当３\"))","v":""}]
[2221324004,"22",213,24,{"v":4,"d":"004"},"静岡県","掛川市","睦浜村","浜川新田",null,"","",{"$f":"IF(K2770=\"\",\"\",COUNTIF($K$7:K2770,\"ﾘｽﾄ１\"))","v":""},"","","","","","","",{"$f":"IF(S2770=\"\",\"\",COUNTIF($S$7:S2770,\"該当２\"))","v":""},"","",{"$f":"IF(V2770=\"\",\"\",COUNTIF($V$7:V2770,\"該当３\"))","v":""}]
[2221325000,"22",213,25,{"v":0,"d":"000"},"静岡県","掛川市","千浜村",null,null,"","",{"$f":"IF(K2772=\"\",\"\",COUNTIF($K$7:K2772,\"ﾘｽﾄ１\"))","v":""},"","","","","","","",{"$f":"IF(S2772=\"\",\"\",COUNTIF($S$7:S2772,\"該当２\"))","v":""},"","",{"$f":"IF(V2772=\"\",\"\",COUNTIF($V$7:V2772,\"該当３\"))","v":""}]
[2221325001,"22",213,25,{"v":1,"d":"001"},"静岡県","掛川市","千浜村","坂里",null,"","",{"$f":"IF(K2773=\"\",\"\",COUNTIF($K$7:K2773,\"ﾘｽﾄ１\"))","v":""},"","","","","","","",{"$f":"IF(S2773=\"\",\"\",COUNTIF($S$7:S2773,\"該当２\"))","v":""},"","",{"$f":"IF(V2773=\"\",\"\",COUNTIF($V$7:V2773,\"該当３\"))","v":""}]
[2221325003,"22",213,25,{"v":3,"d":"003"},"静岡県","掛川市","千浜村","東部",null,"","",{"$f":"IF(K2775=\"\",\"\",COUNTIF($K$7:K2775,\"ﾘｽﾄ１\"))","v":""},"","","","","","","",{"$f":"IF(S2775=\"\",\"\",COUNTIF($S$7:S2775,\"該当２\"))","v":""},"","",{"$f":"IF(V2775=\"\",\"\",COUNTIF($V$7:V2775,\"該当３\"))","v":""}]
[2221325004,"22",213,25,{"v":4,"d":"004"},"静岡県","掛川市","千浜村","西部",null,"","",{"$f":"IF(K2776=\"\",\"\",COUNTIF($K$7:K2776,\"ﾘｽﾄ１\"))","v":""},"","","","","","","",{"$f":"IF(S2776=\"\",\"\",COUNTIF($S$7:S2776,\"該当２\"))","v":""},"","",{"$f":"IF(V2776=\"\",\"\",COUNTIF($V$7:V2776,\"該当３\"))","v":""}]
[2221325006,"22",213,25,{"v":6,"d":"006"},"静岡県","掛川市","千浜村","国包",null,"","",{"$f":"IF(K2778=\"\",\"\",COUNTIF($K$7:K2778,\"ﾘｽﾄ１\"))","v":""},"","","","","","","",{"$f":"IF(S2778=\"\",\"\",COUNTIF($S$7:S2778,\"該当２\"))","v":""},"","",{"$f":"IF(V2778=\"\",\"\",COUNTIF($V$7:V2778,\"該当３\"))","v":""}]
[2221325007,"22",213,25,{"v":7,"d":"007"},"静岡県","掛川市","千浜村","菊浜",null,"","",{"$f":"IF(K2779=\"\",\"\",COUNTIF($K$7:K2779,\"ﾘｽﾄ１\"))","v":""},"","","","","","","",{"$f":"IF(S2779=\"\",\"\",COUNTIF($S$7:S2779,\"該当２\"))","v":""},"","",{"$f":"IF(V2779=\"\",\"\",COUNTIF($V$7:V2779,\"該当３\"))","v":""}]
[2221326001,"22",213,26,{"v":1,"d":"001"},"静岡県","掛川市","中村３－２","海戸",null,"","",{"$f":"IF(K2781=\"\",\"\",COUNTIF($K$7:K2781,\"ﾘｽﾄ１\"))","v":""},"","","","","","","",{"$f":"IF(S2781=\"\",\"\",COUNTIF($S$7:S2781,\"該当２\"))","v":""},"","",{"$f":"IF(V2781=\"\",\"\",COUNTIF($V$7:V2781,\"該当３\"))","v":""}]
[2221400000,"22",214,{"v":0,"d":"00"},{"v":0,"d":"000"},"静岡県","藤枝市",{"$nulls":3},"ﾘｽﾄ１","藤枝市",{"$f":"IF(K2782=\"\",\"\",COUNTIF($K$7:K2782,\"ﾘｽﾄ１\"))","v":23},"","","","","","","",{"$f":"IF(S2782=\"\",\"\",COUNTIF($S$7:S2782,\"該当２\"))","v":""},"","",{"$f":"IF(V2782=\"\",\"\",COUNTIF($V$7:V2782,\"該当３\"))","v":""}]
[2221401001,"22",214,{"v":1,"d":"01"},{"v":1,"d":"001"},"静岡県","藤枝市","藤枝町","五十海",null,"","",{"$f":"IF(K2784=\"\",\"\",COUNTIF($K$7:K2784,\"ﾘｽﾄ１\"))","v":""},"","","","","","","",{"$f":"IF(S2784=\"\",\"\",COUNTIF($S$7:S2784,\"該当２\"))","v":""},"","",{"$f":"IF(V2784=\"\",\"\",COUNTIF($V$7:V2784,\"該当３\"))","v":""}]
[2221401002,"22",214,{"v":1,"d":"01"},{"v":2,"d":"002"},"静岡県","藤枝市","藤枝町","前原",null,"","",{"$f":"IF(K2785=\"\",\"\",COUNTIF($K$7:K2785,\"ﾘｽﾄ１\"))","v":""},"","","","","","","",{"$f":"IF(S2785=\"\",\"\",COUNTIF($S$7:S2785,\"該当２\"))","v":""},"","",{"$f":"IF(V2785=\"\",\"\",COUNTIF($V$7:V2785,\"該当３\"))","v":""}]
[2221401004,"22",214,{"v":1,"d":"01"},{"v":4,"d":"004"},"静岡県","藤枝市","藤枝町","小平島",null,"","",{"$f":"IF(K2787=\"\",\"\",COUNTIF($K$7:K2787,\"ﾘｽﾄ１\"))","v":""},"","","","","","","",{"$f":"IF(S2787=\"\",\"\",COUNTIF($S$7:S2787,\"該当２\"))","v":""},"","",{"$f":"IF(V2787=\"\",\"\",COUNTIF($V$7:V2787,\"該当３\"))","v":""}]
[2221401005,"22",214,{"v":1,"d":"01"},{"v":5,"d":"005"},"静岡県","藤枝市","藤枝町","益津",null,"","",{"$f":"IF(K2788=\"\",\"\",COUNTIF($K$7:K2788,\"ﾘｽﾄ１\"))","v":""},"","","","","","","",{"$f":"IF(S2788=\"\",\"\",COUNTIF($S$7:S2788,\"該当２\"))","v":""},"","",{"$f":"IF(V2788=\"\",\"\",COUNTIF($V$7:V2788,\"該当３\"))","v":""}]
[2221401007,"22",214,{"v":1,"d":"01"},{"v":7,"d":"007"},"静岡県","藤枝市","藤枝町","原",null,"","",{"$f":"IF(K2790=\"\",\"\",COUNTIF($K$7:K2790,\"ﾘｽﾄ１\"))","v":""},"","","","","","","",{"$f":"IF(S2790=\"\",\"\",COUNTIF($S$7:S2790,\"該当２\"))","v":""},"","",{"$f":"IF(V2790=\"\",\"\",COUNTIF($V$7:V2790,\"該当３\"))","v":""}]
[2221401008,"22",214,{"v":1,"d":"01"},{"v":8,"d":"008"},"静岡県","藤枝市","藤枝町","若王子",null,"","",{"$f":"IF(K2791=\"\",\"\",COUNTIF($K$7:K2791,\"ﾘｽﾄ１\"))","v":""},"","","","","","","",{"$f":"IF(S2791=\"\",\"\",COUNTIF($S$7:S2791,\"該当２\"))","v":""},"","",{"$f":"IF(V2791=\"\",\"\",COUNTIF($V$7:V2791,\"該当３\"))","v":""}]
[2221402001,"22",214,{"v":2,"d":"02"},{"v":1,"d":"001"},"静岡県","藤枝市","青島町","志太二",null,"","",{"$f":"IF(K2793=\"\",\"\",COUNTIF($K$7:K2793,\"ﾘｽﾄ１\"))","v":""},"","","","","","","",{"$f":"IF(S2793=\"\",\"\",COUNTIF($S$7:S2793,\"該当２\"))","v":""},"","",{"$f":"IF(V2793=\"\",\"\",COUNTIF($V$7:V2793,\"該当３\"))","v":""}]
[2221402002,"22",214,{"v":2,"d":"02"},{"v":2,"d":"002"},"静岡県","藤枝市","青島町","志太一",null,"","",{"$f":"IF(K2794=\"\",\"\",COUNTIF($K$7:K2794,\"ﾘｽﾄ１\"))","v":""},"","","","","","","",{"$f":"IF(S2794=\"\",\"\",COUNTIF($S$7:S2794,\"該当２\"))","v":""},"","",{"$f":"IF(V2794=\"\",\"\",COUNTIF($V$7:V2794,\"該当３\"))","v":""}]
[2221402004,"22",214,{"v":2,"d":"02"},{"v":4,"d":"004"},"静岡県","藤枝市","青島町","青木東",null,"","",{"$f":"IF(K2796=\"\",\"\",COUNTIF($K$7:K2796,\"ﾘｽﾄ１\"))","v":""},"","","","","","","",{"$f":"IF(S2796=\"\",\"\",COUNTIF($S$7:S2796,\"該当２\"))","v":""},"","",{"$f":"IF(V2796=\"\",\"\",COUNTIF($V$7:V2796,\"該当３\"))","v":""}]
[2221402005,"22",214,{"v":2,"d":"02"},{"v":5,"d":"005"},"静岡県","藤枝市","青島町","前島東",null,"","",{"$f":"IF(K2797=\"\",\"\",COUNTIF($K$7:K2797,\"ﾘｽﾄ１\"))","v":""},"","","","","","","",{"$f":"IF(S2797=\"\",\"\",COUNTIF($S$7:S2797,\"該当２\"))","v":""},"","",{"$f":"IF(V2797=\"\",\"\",COUNTIF($V$7:V2797,\"該当３\"))","v":""}]
[2221402007,"22",214,{"v":2,"d":"02"},{"v":7,"d":"007"},"静岡県","藤枝市","青島町","前島下",null,"","",{"$f":"IF(K2799=\"\",\"\",COUNTIF($K$7:K2799,\"ﾘｽﾄ１\"))","v":""},"","","","","","","",{"$f":"IF(S2799=\"\",\"\",COUNTIF($S$7:S2799,\"該当２\"))","v":""},"","",{"$f":"IF(V2799=\"\",\"\",COUNTIF($V$7:V2799,\"該当３\"))","v":""}]
[2221402008,"22",214,{"v":2,"d":"02"},{"v":8,"d":"008"},"静岡県","藤枝市","青島町","二区",null,"","",{"$f":"IF(K2800=\"\",\"\",COUNTIF($K$7:K2800,\"ﾘｽﾄ１\"))","v":""},"","","","","","","",{"$f":"IF(S2800=\"\",\"\",COUNTIF($S$7:S2800,\"該当２\"))","v":""},"","",{"$f":"IF(V2800=\"\",\"\",COUNTIF($V$7:V2800,\"該当３\"))","v":""}]
[2221402010,"22",214,{"v":2,"d":"02"},{"v":10,"d":"010"},"静岡県","藤枝市","青島町","前島上",null,"","",{"$f":"IF(K2802=\"\",\"\",COUNTIF($K$7:K2802,\"ﾘｽﾄ１\"))","v":""},"","","","","","","",{"$f":"IF(S2802=\"\",\"\",COUNTIF($S$7:S2802,\"該当２\"))","v":""},"","",{"$f":"IF(V2802=\"\",\"\",COUNTIF($V$7:V2802,\"該当３\"))","v":""}]
[2221402011,"22",214,{"v":2,"d":"02"},{"v":11,"d":"011"},"静岡県","藤枝市","青島町","青葉中",null,"","",{"$f":"IF(K2803=\"\",\"\",COUNTIF($K$7:K2803,\"ﾘｽﾄ１\"))","v":""},"","","","","","","",{"$f":"IF(S2803=\"\",\"\",COUNTIF($S$7:S2803,\"該当２\"))","v":""},"","",{"$f":"IF(V2803=\"\",\"\",COUNTIF($V$7:V2803,\"該当３\"))","v":""}]
[2221402013,"22",214,{"v":2,"d":"02"},{"v":13,"d":"013"},"静岡県","藤枝市","青島町","青南町下",null,"","",{"$f":"IF(K2805=\"\",\"\",COUNTIF($K$7:K2805,\"ﾘｽﾄ１\"))","v":""},"","","","","","","",{"$f":"IF(S2805=\"\",\"\",COUNTIF($S$7:S2805,\"該当２\"))","v":""},"","",{"$f":"IF(V2805=\"\",\"\",COUNTIF($V$7:V2805,\"該当３\"))","v":""}]
[2221402014,"22",214,{"v":2,"d":"02"},{"v":14,"d":"014"},"静岡県","藤枝市","青島町","青南町中",null,"","",{"$f":"IF(K2806=\"\",\"\",COUNTIF($K$7:K2806,\"ﾘｽﾄ１\"))","v":""},"","","","","","","",{"$f":"IF(S2806=\"\",\"\",COUNTIF($S$7:S2806,\"該当２\"))","v":""},"","",{"$f":"IF(V2806=\"\",\"\",COUNTIF($V$7:V2806,\"該当３\"))","v":""}]
[2221402016,"22",214,{"v":2,"d":"02"},{"v":16,"d":"016"},"静岡県","藤枝市","青島町","瀬戸",null,"","",{"$f":"IF(K2808=\"\",\"\",COUNTIF($K$7:K2808,\"ﾘｽﾄ１\"))","v":""},"","","","","","","",{"$f":"IF(S2808=\"\",\"\",COUNTIF($S$7:S2808,\"該当２\"))","v":""},"","",{"$f":"IF(V2808=\"\",\"\",COUNTIF($V$7:V2808,\"該当３\"))","v":""}]
[2221402017,"22",214,{"v":2,"d":"02"},{"v":17,"d":"017"},"静岡県","藤枝市","青島町","三軒屋",null,"","",{"$f":"IF(K2809=\"\",\"\",COUNTIF($K$7:K2809,\"ﾘｽﾄ１\"))","v":""},"","","","","","","",{"$f":"IF(S2809=\"\",\"\",COUNTIF($S$7:S2809,\"該当２\"))","v":""},"","",{"$f":"IF(V2809=\"\",\"\",COUNTIF($V$7:V2809,\"該当３\"))","v":""}]
[2221402019,"22",214,{"v":2,"d":"02"},{"v":19,"d":"019"},"静岡県","藤枝市","青島町","内瀬戸",null,"","",{"$f":"IF(K2811=\"\",\"\",COUNTIF($K$7:K2811,\"ﾘｽﾄ１\"))","v":""},"","","","","","","",{"$f":"IF(S2811=\"\",\"\",COUNTIF($S$7:S2811,\"該当２\"))","v":""},"","",{"$f":"IF(V2811=\"\",\"\",COUNTIF($V$7:V2811,\"該当３\"))","v":""}]
[2221402020,"22",214,{"v":2,"d":"02"},{"v":20,"d":"020"},"静岡県","藤枝市","青島町","追分",null,"","",{"$f":"IF(K2812=\"\",\"\",COUNTIF($K$7:K2812,\"ﾘｽﾄ１\"))","v":""},"","","","","","","",{"$f":"IF(S2812=\"\",\"\",COUNTIF($S$7:S2812,\"該当２\"))","v":""},"","",{"$f":"IF(V2812=\"\",\"\",COUNTIF($V$7:V2812,\"該当３\"))","v":""}]
[2221402022,"22",214,{"v":2,"d":"02"},{"v":22,"d":"022"},"静岡県","藤枝市","青島町","水上",null,"","",{"$f":"IF(K2814=\"\",\"\",COUNTIF($K$7:K2814,\"ﾘｽﾄ１\"))","v":""},"","","","","","","",{"$f":"IF(S2814=\"\",\"\",COUNTIF($S$7:S2814,\"該当２\"))","v":""},"","",{"$f":"IF(V2814=\"\",\"\",COUNTIF($V$7:V2814,\"該当３\"))","v":""}]
[2221402023,"22",214,{"v":2,"d":"02"},{"v":23,"d":"023"},"静岡県","藤枝市","青島町","南新屋",null,"","",{"$f":"IF(K2815=\"\",\"\",COUNTIF($K$7:K2815,\"ﾘｽﾄ１\"))","v":""},"","","","","","","",{"$f":"IF(S2815=\"\",\"\",COUNTIF($S$7:S2815,\"該当２\"))","v":""},"","",{"$f":"IF(V2815=\"\",\"\",COUNTIF($V$7:V2815,\"該当３\"))","v":""}]
[2221403001,"22",214,{"v":3,"d":"03"},{"v":1,"d":"001"},"静岡県","藤枝市","葉梨村","西方第一",null,"","",{"$f":"IF(K2817=\"\",\"\",COUNTIF($K$7:K2817,\"ﾘｽﾄ１\"))","v":""},"","","","","","","",{"$f":"IF(S2817=\"\",\"\",COUNTIF($S$7:S2817,\"該当２\"))","v":""},"","",{"$f":"IF(V2817=\"\",\"\",COUNTIF($V$7:V2817,\"該当３\"))","v":""}]
[2221403002,"22",214,{"v":3,"d":"03"},{"v":2,"d":"002"},"静岡県","藤枝市","葉梨村","西方第二",null,"","",{"$f":"IF(K2818=\"\",\"\",COUNTIF($K$7:K2818,\"ﾘｽﾄ１\"))","v":""},"","","","","","","",{"$f":"IF(S2818=\"\",\"\",COUNTIF($S$7:S2818,\"該当２\"))","v":""},"","",{"$f":"IF(V2818=\"\",\"\",COUNTIF($V$7:V2818,\"該当３\"))","v":""}]
[2221403004,"22",214,{"v":3,"d":"03"},{"v":4,"d":"004"},"静岡県","藤枝市","葉梨村","西方第四",null,"","",{"$f":"IF(K2820=\"\",\"\",COUNTIF($K$7:K2820,\"ﾘｽﾄ１\"))","v":""},"","","","","","","",{"$f":"IF(S2820=\"\",\"\",COUNTIF($S$7:S2820,\"該当２\"))","v":""},"","",{"$f":"IF(V2820=\"\",\"\",COUNTIF($V$7:V2820,\"該当３\"))","v":""}]
[2221403005,"22",214,{"v":3,"d":"03"},{"v":5,"d":"005"},"静岡県","藤枝市","葉梨村","北方南部",null,"","",{"$f":"IF(K2821=\"\",\"\",COUNTIF($K$7:K2821,\"ﾘｽﾄ１\"))","v":""},"","","","","","","",{"$f":"IF(S2821=\"\",\"\",COUNTIF($S$7:S2821,\"該当２\"))","v":""},"","",{"$f":"IF(V2821=\"\",\"\",COUNTIF($V$7:V2821,\"該当３\"))","v":""}]
[2221403007,"22",214,{"v":3,"d":"03"},{"v":7,"d":"007"},"静岡県","藤枝市","葉梨村","北方北部",null,"","",{"$f":"IF(K2823=\"\",\"\",COUNTIF($K$7:K2823,\"ﾘｽﾄ１\"))","v":""},"","","","","","","",{"$f":"IF(S2823=\"\",\"\",COUNTIF($S$7:S2823,\"該当２\"))","v":""},"","",{"$f":"IF(V2823=\"\",\"\",COUNTIF($V$7:V2823,\"該当３\"))","v":""}]
[2221403008,"22",214,{"v":3,"d":"03"},{"v":8,"d":"008"},"静岡県","藤枝市","葉梨村","中の合",null,"","",{"$f":"IF(K2824=\"\",\"\",COUNTIF($K$7:K2824,\"ﾘｽﾄ１\"))","v":""},"","","","","","","",{"$f":"IF(S2824=\"\",\"\",COUNTIF($S$7:S2824,\"該当２\"))","v":""},"","",{"$f":"IF(V2824=\"\",\"\",COUNTIF($V$7:V2824,\"該当３\"))","v":""}]
[2221403010,"22",214,{"v":3,"d":"03"},{"v":10,"d":"010"},"静岡県","藤枝市","葉梨村","中田",null,"","",{"$f":"IF(K2826=\"\",\"\",COUNTIF($K$7:K2826,\"ﾘｽﾄ１\"))","v":""},"","",{"$f":"IF(O2826=\"該当１\",G2826,\"\")","v":""},{"$f":"IF(O2826=\"該当１\",\"ﾘｽﾄ2\",\"\")","v":""},{"$f":"IF(Q2826=\"ﾘｽﾄ2\",H2826,\"\")","v":""},"",{"$f":"IF(S2826=\"該当２\",H2826,\"\")","v":""},{"$f":"IF(S2826=\"\",\"\",COUNTIF($S$7:S2826,\"該当２\"))","v":""},{"$f":"IF(AND($S$2=H2826,E2826>0,E2826<998),\"該当３\",\"\")","v":""},{"$f":"IF(V2826=\"該当３\",I2826,\"\")","v":""},{"$f":"IF(V2826=\"\",\"\",COUNTIF($V$7:V2826,\"該当３\"))","v":""}]
[2221403011,"22",214,{"v":3,"d":"03"},{"v":11,"d":"011"},"静岡県","藤枝市","葉梨村","上川",null,{"$f":"IF(AND($C2827>0,$H2827=\"\"),\"ﾘｽﾄ１\",\"\")","v":""},{"$f":"IF(K2827=\"ﾘｽﾄ１\",G2827,\"\")","v":""},{"$f":"IF(K2827=\"\",\"\",COUNTIF($K$7:K2827,\"ﾘｽﾄ１\"))","v":""},{"$f":"IF(AND(D2827=0,E2827>0),\"同一区\",\"\")","v":""},{"$f":"IF(AND(EXACT($K$2,G2827),H2827>0),\"該当１\",\"\")","v":""},"","","",{"$f":"IF(AND(Q2827=\"ﾘｽﾄ2\",OR(I2827=0,AND(N2827=\"同一区\",E2827=1))),\"該当２\",\"\")","v":""},"",{"$f":"IF(S2827=\"\",\"\",COUNTIF($S$7:S2827,\"該当２\"))","v":""},"","",{"$f":"IF(V2827=\"\",\"\",COUNTIF($V$7:V2827,\"該当３\"))","v":""}]
[2221403013,"22",214,{"v":3,"d":"03"},{"v":13,"d":"013"},"静岡県","藤枝市","葉梨村","時ケ谷",null,"","",{"$f":"IF(K2829=\"\",\"\",COUNTIF($K$7:K2829,\"ﾘｽﾄ１\"))","v":""},"","","","","","","",{"$f":"IF(S2829=\"\",\"\",COUNTIF($S$7:S2829,\"該当２\"))","v":""},"","",{"$f":"IF(V2829=\"\",\"\",COUNTIF($V$7:V2829,\"該当３\"))","v":""}]
[2221403014,"22",214,{"v":3,"d":"03"},{"v":14,"d":"014"},"静岡県","藤枝市","葉梨村","上藪田",null,"","",{"$f":"IF(K2830=\"\",\"\",COUNTIF($K$7:K2830,\"ﾘｽﾄ１\"))","v":""},"","","","","","","",{"$f":"IF(S2830=\"\",\"\",COUNTIF($S$7:S2830,\"該当２\"))","v":""},"","",{"$f":"IF(V2830=\"\",\"\",COUNTIF($V$7:V2830,\"該当３\"))","v":""}]
[2221403016,"22",214,{"v":3,"d":"03"},{"v":16,"d":"016"},"静岡県","藤枝市","葉梨村","中藪田",null,"","",{"$f":"IF(K2832=\"\",\"\",COUNTIF($K$7:K2832,\"ﾘｽﾄ１\"))","v":""},"","","","","","","",{"$f":"IF(S2832=\"\",\"\",COUNTIF($S$7:S2832,\"該当２\"))","v":""},"","",{"$f":"IF(V2832=\"\",\"\",COUNTIF($V$7:V2832,\"該当３\"))","v":""}]
[2221403017,"22",214,{"v":3,"d":"03"},{"v":17,"d":"017"},"静岡県","藤枝市","葉梨村","高田",null,"","",{"$f":"IF(K2833=\"\",\"\",COUNTIF($K$7:K2833,\"ﾘｽﾄ１\"))","v":""},"","","","","","","",{"$f":"IF(S2833=\"\",\"\",COUNTIF($S$7:S2833,\"該当２\"))","v":""},"","",{"$f":"IF(V2833=\"\",\"\",COUNTIF($V$7:V2833,\"該当３\"))","v":""}]
[2221404001,"22",214,{"v":4,"d":"04"},{"v":1,"d":"001"},"静岡県","藤枝市","稲葉村","助宗",null,"","",{"$f":"IF(K2835=\"\",\"\",COUNTIF($K$7:K2835,\"ﾘｽﾄ１\"))","v":""},"","","","","","","",{"$f":"IF(S2835=\"\",\"\",COUNTIF($S$7:S2835,\"該当２\"))","v":""},"","",{"$f":"IF(V2835=\"\",\"\",COUNTIF($V$7:V2835,\"該当３\"))","v":""}]
[2221404002,"22",214,{"v":4,"d":"04"},{"v":2,"d":"002"},"静岡県","藤枝市","稲葉村","堀之内",null,"","",{"$f":"IF(K2836=\"\",\"\",COUNTIF($K$7:K2836,\"ﾘｽﾄ１\"))","v":""},"","","","","","","",{"$f":"IF(S2836=\"\",\"\",COUNTIF($S$7:S2836,\"該当２\"))","v":""},"","",{"$f":"IF(V2836=\"\",\"\",COUNTIF($V$7:V2836,\"該当３\"))","v":""}]
[2221404004,"22",214,{"v":4,"d":"04"},{"v":4,"d":"004"},"静岡県","藤枝市","稲葉村","谷稲葉",null,"","",{"$f":"IF(K2838=\"\",\"\",COUNTIF($K$7:K2838,\"ﾘｽﾄ１\"))","v":""},"","","","","","","",{"$f":"IF(S2838=\"\",\"\",COUNTIF($S$7:S2838,\"該当２\"))","v":""},"","",{"$f":"IF(V2838=\"\",\"\",COUNTIF($V$7:V2838,\"該当３\"))","v":""}]
[2221404005,"22",214,{"v":4,"d":"04"},{"v":5,"d":"005"},"静岡県","藤枝市","稲葉村","寺島",null,"","",{"$f":"IF(K2839=\"\",\"\",COUNTIF($K$7:K2839,\"ﾘｽﾄ１\"))","v":""},"","","","","","","",{"$f":"IF(S2839=\"\",\"\",COUNTIF($S$7:S2839,\"該当２\"))","v":""},"","",{"$f":"IF(V2839=\"\",\"\",COUNTIF($V$7:V2839,\"該当３\"))","v":""}]
[2221405000,"22",214,{"v":5,"d":"05"},{"v":0,"d":"000"},"静岡県","藤枝市","瀬戸谷村",null,null,"","",{"$f":"IF(K2841=\"\",\"\",COUNTIF($K$7:K2841,\"ﾘｽﾄ１\"))","v":""},"","","","","","","",{"$f":"IF(S2841=\"\",\"\",COUNTIF($S$7:S2841,\"該当２\"))","v":""},"","",{"$f":"IF(V2841=\"\",\"\",COUNTIF($V$7:V2841,\"該当３\"))","v":""}]
[2221405001,"22",214,{"v":5,"d":"05"},{"v":1,"d":"001"},"静岡県","藤枝市","瀬戸谷村","滝の谷",null,"","",{"$f":"IF(K2842=\"\",\"\",COUNTIF($K$7:K2842,\"ﾘｽﾄ１\"))","v":""},"","","","","","","",{"$f":"IF(S2842=\"\",\"\",COUNTIF($S$7:S2842,\"該当２\"))","v":""},"","",{"$f":"IF(V2842=\"\",\"\",COUNTIF($V$7:V2842,\"該当３\"))","v":""}]
[2221405003,"22",214,{"v":5,"d":"05"},{"v":3,"d":"003"},"静岡県","藤枝市","瀬戸谷村","蔵田",null,"","",{"$f":"IF(K2844=\"\",\"\",COUNTIF($K$7:K2844,\"ﾘｽﾄ１\"))","v":""},"","","","","","","",{"$f":"IF(S2844=\"\",\"\",COUNTIF($S$7:S2844,\"該当２\"))","v":""},"","",{"$f":"IF(V2844=\"\",\"\",COUNTIF($V$7:V2844,\"該当３\"))","v":""}]
[2221405004,"22",214,{"v":5,"d":"05"},{"v":4,"d":"004"},"静岡県","藤枝市","瀬戸谷村","舟ケ久保",null,"","",{"$f":"IF(K2845=\"\",\"\",COUNTIF($K$7:K2845,\"ﾘｽﾄ１\"))","v":""},"","","","","","","",{"$f":"IF(S2845=\"\",\"\",COUNTIF($S$7:S2845,\"該当２\"))","v":""},"","",{"$f":"IF(V2845=\"\",\"\",COUNTIF($V$7:V2845,\"該当３\"))","v":""}]
[2221405006,"22",214,{"v":5,"d":"05"},{"v":6,"d":"006"},"静岡県","藤枝市","瀬戸谷村","峠",null,"","",{"$f":"IF(K2847=\"\",\"\",COUNTIF($K$7:K2847,\"ﾘｽﾄ１\"))","v":""},"","","","","","","",{"$f":"IF(S2847=\"\",\"\",COUNTIF($S$7:S2847,\"該当２\"))","v":""},"","",{"$f":"IF(V2847=\"\",\"\",COUNTIF($V$7:V2847,\"該当３\"))","v":""}]
[2221405007,"22",214,{"v":5,"d":"05"},{"v":7,"d":"007"},"静岡県","藤枝市","瀬戸谷村","中里",null,"","",{"$f":"IF(K2848=\"\",\"\",COUNTIF($K$7:K2848,\"ﾘｽﾄ１\"))","v":""},"","","","","","","",{"$f":"IF(S2848=\"\",\"\",COUNTIF($S$7:S2848,\"該当２\"))","v":""},"","",{"$f":"IF(V2848=\"\",\"\",COUNTIF($V$7:V2848,\"該当３\"))","v":""}]
[2221405009,"22",214,{"v":5,"d":"05"},{"v":9,"d":"009"},"静岡県","藤枝市","瀬戸谷村","滝沢",null,"","",{"$f":"IF(K2850=\"\",\"\",COUNTIF($K$7:K2850,\"ﾘｽﾄ１\"))","v":""},"","","","","","","",{"$f":"IF(S2850=\"\",\"\",COUNTIF($S$7:S2850,\"該当２\"))","v":""},"","",{"$f":"IF(V2850=\"\",\"\",COUNTIF($V$7:V2850,\"該当３\"))","v":""}]
[2221405010,"22",214,{"v":5,"d":"05"},{"v":10,"d":"010"},"静岡県","藤枝市","瀬戸谷村","中滝沢",null,"","",{"$f":"IF(K2851=\"\",\"\",COUNTIF($K$7:K2851,\"ﾘｽﾄ１\"))","v":""},"","","","","","","",{"$f":"IF(S2851=\"\",\"\",COUNTIF($S$7:S2851,\"該当２\"))","v":""},"","",{"$f":"IF(V2851=\"\",\"\",COUNTIF($V$7:V2851,\"該当３\"))","v":""}]
[2221406000,"22",214,{"v":6,"d":"06"},{"v":0,"d":"000"},"静岡県","藤枝市","大洲村",null,null,"","",{"$f":"IF(K2853=\"\",\"\",COUNTIF($K$7:K2853,\"ﾘｽﾄ１\"))","v":""},"","","","","","","",{"$f":"IF(S2853=\"\",\"\",COUNTIF($S$7:S2853,\"該当２\"))","v":""},"","",{"$f":"IF(V2853=\"\",\"\",COUNTIF($V$7:V2853,\"該当３\"))","v":""}]
[2221406001,"22",214,{"v":6,"d":"06"},{"v":1,"d":"001"},"静岡県","藤枝市","大洲村","忠兵衛",null,"","",{"$f":"IF(K2854=\"\",\"\",COUNTIF($K$7:K2854,\"ﾘｽﾄ１\"))","v":""},"","","","","","","",{"$f":"IF(S2854=\"\",\"\",COUNTIF($S$7:S2854,\"該当２\"))","v":""},"","",{"$f":"IF(V2854=\"\",\"\",COUNTIF($V$7:V2854,\"該当３\"))","v":""}]
[2221406003,"22",214,{"v":6,"d":"06"},{"v":3,"d":"003"},"静岡県","藤枝市","大洲村","土瑞",null,"","",{"$f":"IF(K2856=\"\",\"\",COUNTIF($K$7:K2856,\"ﾘｽﾄ１\"))","v":""},"","","","","","","",{"$f":"IF(S2856=\"\",\"\",COUNTIF($S$7:S2856,\"該当２\"))","v":""},"","",{"$f":"IF(V2856=\"\",\"\",COUNTIF($V$7:V2856,\"該当３\"))","v":""}]
[2221406004,"22",214,{"v":6,"d":"06"},{"v":4,"d":"004"},"静岡県","藤枝市","大洲村","下新田",null,"","",{"$f":"IF(K2857=\"\",\"\",COUNTIF($K$7:K2857,\"ﾘｽﾄ１\"))","v":""},"","","","","","","",{"$f":"IF(S2857=\"\",\"\",COUNTIF($S$7:S2857,\"該当２\"))","v":""},"","",{"$f":"IF(V2857=\"\",\"\",COUNTIF($V$7:V2857,\"該当３\"))","v":""}]
[2221406006,"22",214,{"v":6,"d":"06"},{"v":6,"d":"006"},"静岡県","藤枝市","大洲村","善左衛門上",null,"","",{"$f":"IF(K2859=\"\",\"\",COUNTIF($K$7:K2859,\"ﾘｽﾄ１\"))","v":""},"","","","","","","",{"$f":"IF(S2859=\"\",\"\",COUNTIF($S$7:S2859,\"該当２\"))","v":""},"","",{"$f":"IF(V2859=\"\",\"\",COUNTIF($V$7:V2859,\"該当３\"))","v":""}]
[2221406007,"22",214,{"v":6,"d":"06"},{"v":7,"d":"007"},"静岡県","藤枝市","大洲村","源助",null,"","",{"$f":"IF(K2860=\"\",\"\",COUNTIF($K$7:K2860,\"ﾘｽﾄ１\"))","v":""},"","","","","","","",{"$f":"IF(S2860=\"\",\"\",COUNTIF($S$7:S2860,\"該当２\"))","v":""},"","",{"$f":"IF(V2860=\"\",\"\",COUNTIF($V$7:V2860,\"該当３\"))","v":""}]
[2221407000,"22",214,{"v":7,"d":"07"},{"v":0,"d":"000"},"静岡県","藤枝市","高洲村",null,null,"","",{"$f":"IF(K2862=\"\",\"\",COUNTIF($K$7:K2862,\"ﾘｽﾄ１\"))","v":""},"","","","","","","",{"$f":"IF(S2862=\"\",\"\",COUNTIF($S$7:S2862,\"該当２\"))","v":""},"","",{"$f":"IF(V2862=\"\",\"\",COUNTIF($V$7:V2862,\"該当３\"))","v":""}]
[2221407001,"22",214,{"v":7,"d":"07"},{"v":1,"d":"001"},"静岡県","藤枝市","高洲村","築地上",null,"","",{"$f":"IF(K2863=\"\",\"\",COUNTIF($K$7:K2863,\"ﾘｽﾄ１\"))","v":""},"","","","","","","",{"$f":"IF(S2863=\"\",\"\",COUNTIF($S$7:S2863,\"該当２\"))","v":""},"","",{"$f":"IF(V2863=\"\",\"\",COUNTIF($V$7:V2863,\"該当３\"))","v":""}]
[2221407003,"22",214,{"v":7,"d":"07"},{"v":3,"d":"003"},"静岡県","藤枝市","高洲村","高柳",null,"","",{"$f":"IF(K2865=\"\",\"\",COUNTIF($K$7:K2865,\"ﾘｽﾄ１\"))","v":""},"","","","","","","",{"$f":"IF(S2865=\"\",\"\",COUNTIF($S$7:S2865,\"該当２\"))","v":""},"","",{"$f":"IF(V2865=\"\",\"\",COUNTIF($V$7:V2865,\"該当３\"))","v":""}]
[2221407004,"22",214,{"v":7,"d":"07"},{"v":4,"d":"004"},"静岡県","藤枝市","高洲村","兵太夫下",null,"","",{"$f":"IF(K2866=\"\",\"\",COUNTIF($K$7:K2866,\"ﾘｽﾄ１\"))","v":""},"","","","","","","",{"$f":"IF(S2866=\"\",\"\",COUNTIF($S$7:S2866,\"該当２\"))","v":""},"","",{"$f":"IF(V2866=\"\",\"\",COUNTIF($V$7:V2866,\"該当３\"))","v":""}]
[2221407006,"22",214,{"v":7,"d":"07"},{"v":6,"d":"006"},"静岡県","藤枝市","高洲村","大新島",null,"","",{"$f":"IF(K2868=\"\",\"\",COUNTIF($K$7:K2868,\"ﾘｽﾄ１\"))","v":""},"","","","","","","",{"$f":"IF(S2868=\"\",\"\",COUNTIF($S$7:S2868,\"該当２\"))","v":""},"","",{"$f":"IF(V2868=\"\",\"\",COUNTIF($V$7:V2868,\"該当３\"))","v":""}]
[2221407007,"22",214,{"v":7,"d":"07"},{"v":7,"d":"007"},"静岡県","藤枝市","高洲村","兵太夫中",null,"","",{"$f":"IF(K2869=\"\",\"\",COUNTIF($K$7:K2869,\"ﾘｽﾄ１\"))","v":""},"","","","","","","",{"$f":"IF(S2869=\"\",\"\",COUNTIF($S$7:S2869,\"該当２\"))","v":""},"","",{"$f":"IF(V2869=\"\",\"\",COUNTIF($V$7:V2869,\"該当３\"))","v":""}]
[2221408000,"22",214,{"v":8,"d":"08"},{"v":0,"d":"000"},"静岡県","藤枝市","西益津村２－１",null,null,"","",{"$f":"IF(K2871=\"\",\"\",COUNTIF($K$7:K2871,\"ﾘｽﾄ１\"))","v":""},"","","","","","","",{"$f":"IF(S2871=\"\",\"\",COUNTIF($S$7:S2871,\"該当２\"))","v":""},"","",{"$f":"IF(V2871=\"\",\"\",COUNTIF($V$7:V2871,\"該当３\"))","v":""}]
[2221408001,"22",214,{"v":8,"d":"08"},{"v":1,"d":"001"},"静岡県","藤枝市","西益津村２－１","平島下",null,"","",{"$f":"IF(K2872=\"\",\"\",COUNTIF($K$7:K2872,\"ﾘｽﾄ１\"))","v":""},"","","","","","","",{"$f":"IF(S2872=\"\",\"\",COUNTIF($S$7:S2872,\"該当２\"))","v":""},"","",{"$f":"IF(V2872=\"\",\"\",COUNTIF($V$7:V2872,\"該当３\"))","v":""}]
[2221408003,"22",214,{"v":8,"d":"08"},{"v":3,"d":"003"},"静岡県","藤枝市","西益津村２－１","田中",null,"","",{"$f":"IF(K2874=\"\",\"\",COUNTIF($K$7:K2874,\"ﾘｽﾄ１\"))","v":""},"","","","","","","",{"$f":"IF(S2874=\"\",\"\",COUNTIF($S$7:S2874,\"該当２\"))","v":""},"","",{"$f":"IF(V2874=\"\",\"\",COUNTIF($V$7:V2874,\"該当３\"))","v":""}]
[2221408004,"22",214,{"v":8,"d":"08"},{"v":4,"d":"004"},"静岡県","藤枝市","西益津村２－１","郡",null,"","",{"$f":"IF(K2875=\"\",\"\",COUNTIF($K$7:K2875,\"ﾘｽﾄ１\"))","v":""},"","","","","","","",{"$f":"IF(S2875=\"\",\"\",COUNTIF($S$7:S2875,\"該当２\"))","v":""},"","",{"$f":"IF(V2875=\"\",\"\",COUNTIF($V$7:V2875,\"該当３\"))","v":""}]
[2221408006,"22",214,{"v":8,"d":"08"},{"v":6,"d":"006"},"静岡県","藤枝市","西益津村２－１","益津下",null,"","",{"$f":"IF(K2877=\"\",\"\",COUNTIF($K$7:K2877,\"ﾘｽﾄ１\"))","v":""},"","","","","","","",{"$f":"IF(S2877=\"\",\"\",COUNTIF($S$7:S2877,\"該当２\"))","v":""},"","",{"$f":"IF(V2877=\"\",\"\",COUNTIF($V$7:V2877,\"該当３\"))","v":""}]
[2221408007,"22",214,{"v":8,"d":"08"},{"v":7,"d":"007"},"静岡県","藤枝市","西益津村２－１","稲川",null,"","",{"$f":"IF(K2878=\"\",\"\",COUNTIF($K$7:K2878,\"ﾘｽﾄ１\"))","v":""},"","","","","","","",{"$f":"IF(S2878=\"\",\"\",COUNTIF($S$7:S2878,\"該当２\"))","v":""},"","",{"$f":"IF(V2878=\"\",\"\",COUNTIF($V$7:V2878,\"該当３\"))","v":""}]
[2221409001,"22",214,{"v":9,"d":"09"},{"v":1,"d":"001"},"静岡県","藤枝市","広幡村２－１","横内",null,"","",{"$f":"IF(K2880=\"\",\"\",COUNTIF($K$7:K2880,\"ﾘｽﾄ１\"))","v":""},"","","","","","","",{"$f":"IF(S2880=\"\",\"\",COUNTIF($S$7:S2880,\"該当２\"))","v":""},"","",{"$f":"IF(V2880=\"\",\"\",COUNTIF($V$7:V2880,\"該当３\"))","v":""}]
[2221409002,"22",214,{"v":9,"d":"09"},{"v":2,"d":"002"},"静岡県","藤枝市","広幡村２－１","下当間",null,"","",{"$f":"IF(K2881=\"\",\"\",COUNTIF($K$7:K2881,\"ﾘｽﾄ１\"))","v":""},"","","","","","","",{"$f":"IF(S2881=\"\",\"\",COUNTIF($S$7:S2881,\"該当２\"))","v":""},"","",{"$f":"IF(V2881=\"\",\"\",COUNTIF($V$7:V2881,\"該当３\"))","v":""}]
[2221409004,"22",214,{"v":9,"d":"09"},{"v":4,"d":"004"},"静岡県","藤枝市","広幡村２－１","水守",null,"","",{"$f":"IF(K2883=\"\",\"\",COUNTIF($K$7:K2883,\"ﾘｽﾄ１\"))","v":""},"","","","","","","",{"$f":"IF(S2883=\"\",\"\",COUNTIF($S$7:S2883,\"該当２\"))","v":""},"","",{"$f":"IF(V2883=\"\",\"\",COUNTIF($V$7:V2883,\"該当３\"))","v":""}]
[2221409005,"22",214,{"v":9,"d":"09"},{"v":5,"d":"005"},"静岡県","藤枝市","広幡村２－１","八幡",null,"","",{"$f":"IF(K2884=\"\",\"\",COUNTIF($K$7:K2884,\"ﾘｽﾄ１\"))","v":""},"","","","","","","",{"$f":"IF(S2884=\"\",\"\",COUNTIF($S$7:S2884,\"該当２\"))","v":""},"","",{"$f":"IF(V2884=\"\",\"\",COUNTIF($V$7:V2884,\"該当３\"))","v":""}]
[2221409007,"22",214,{"v":9,"d":"09"},{"v":7,"d":"007"},"静岡県","藤枝市","広幡村２－１","潮",null,"","",{"$f":"IF(K2886=\"\",\"\",COUNTIF($K$7:K2886,\"ﾘｽﾄ１\"))","v":""},"","","","","","","",{"$f":"IF(S2886=\"\",\"\",COUNTIF($S$7:S2886,\"該当２\"))","v":""},"","",{"$f":"IF(V2886=\"\",\"\",COUNTIF($V$7:V2886,\"該当３\"))","v":""}]
[2221409008,"22",214,{"v":9,"d":"09"},{"v":8,"d":"008"},"静岡県","藤枝市","広幡村２－１","仮宿",null,"","",{"$f":"IF(K2887=\"\",\"\",COUNTIF($K$7:K2887,\"ﾘｽﾄ１\"))","v":""},"","","","","","","",{"$f":"IF(S2887=\"\",\"\",COUNTIF($S$7:S2887,\"該当２\"))","v":""},"","",{"$f":"IF(V2887=\"\",\"\",COUNTIF($V$7:V2887,\"該当３\"))","v":""}]
[2221410001,"22",214,10,{"v":1,"d":"001"},"静岡県","藤枝市","岡部町","廻沢",null,"","",{"$f":"IF(K2889=\"\",\"\",COUNTIF($K$7:K2889,\"ﾘｽﾄ１\"))","v":""},"","","","","","","",{"$f":"IF(S2889=\"\",\"\",COUNTIF($S$7:S2889,\"該当２\"))","v":""},"","",{"$f":"IF(V2889=\"\",\"\",COUNTIF($V$7:V2889,\"該当３\"))","v":""}]
[2221410002,"22",214,10,{"v":2,"d":"002"},"静岡県","藤枝市","岡部町","横添",null,"","",{"$f":"IF(K2890=\"\",\"\",COUNTIF($K$7:K2890,\"ﾘｽﾄ１\"))","v":""},"","",{"$f":"IF(O2890=\"該当１\",G2890,\"\")","v":""},{"$f":"IF(O2890=\"該当１\",\"ﾘｽﾄ2\",\"\")","v":""},{"$f":"IF(Q2890=\"ﾘｽﾄ2\",H2890,\"\")","v":""},"",{"$f":"IF(S2890=\"該当２\",H2890,\"\")","v":""},{"$f":"IF(S2890=\"\",\"\",COUNTIF($S$7:S2890,\"該当２\"))","v":""},{"$f":"IF(AND($S$2=H2890,E2890>0,E2890<998),\"該当３\",\"\")","v":""},{"$f":"IF(V2890=\"該当３\",I2890,\"\")","v":""},{"$f":"IF(V2890=\"\",\"\",COUNTIF($V$7:V2890,\"該当３\"))","v":""}]
[2221410004,"22",214,10,{"v":4,"d":"004"},"静岡県","藤枝市","岡部町","岡部",null,"","",{"$f":"IF(K2892=\"\",\"\",COUNTIF($K$7:K2892,\"ﾘｽﾄ１\"))","v":""},"","","","","","","",{"$f":"IF(S2892=\"\",\"\",COUNTIF($S$7:S2892,\"該当２\"))","v":""},"","",{"$f":"IF(V2892=\"\",\"\",COUNTIF($V$7:V2892,\"該当３\"))","v":""}]
[2221410005,"22",214,10,{"v":5,"d":"005"},"静岡県","藤枝市","岡部町","内一",null,"","",{"$f":"IF(K2893=\"\",\"\",COUNTIF($K$7:K2893,\"ﾘｽﾄ１\"))","v":""},"","","","","","","",{"$f":"IF(S2893=\"\",\"\",COUNTIF($S$7:S2893,\"該当２\"))","v":""},"","",{"$f":"IF(V2893=\"\",\"\",COUNTIF($V$7:V2893,\"該当３\"))","v":""}]
[2221410007,"22",214,10,{"v":7,"d":"007"},"静岡県","藤枝市","岡部町","本郷",null,"","",{"$f":"IF(K2895=\"\",\"\",COUNTIF($K$7:K2895,\"ﾘｽﾄ１\"))","v":""},"","","","","","","",{"$f":"IF(S2895=\"\",\"\",COUNTIF($S$7:S2895,\"該当２\"))","v":""},"","",{"$f":"IF(V2895=\"\",\"\",COUNTIF($V$7:V2895,\"該当３\"))","v":""}]
[2221410008,"22",214,10,{"v":8,"d":"008"},"静岡県","藤枝市","岡部町","山東",null,"","",{"$f":"IF(K2896=\"\",\"\",COUNTIF($K$7:K2896,\"ﾘｽﾄ１\"))","v":""},"","","","","","","",{"$f":"IF(S2896=\"\",\"\",COUNTIF($S$7:S2896,\"該当２\"))","v":""},"","",{"$f":"IF(V2896=\"\",\"\",COUNTIF($V$7:V2896,\"該当３\"))","v":""}]
[2221410010,"22",214,10,{"v":10,"d":"010"},"静岡県","藤枝市","岡部町","子持坂",null,"","",{"$f":"IF(K2898=\"\",\"\",COUNTIF($K$7:K2898,\"ﾘｽﾄ１\"))","v":""},"","","","","","","",{"$f":"IF(S2898=\"\",\"\",COUNTIF($S$7:S2898,\"該当２\"))","v":""},"","",{"$f":"IF(V2898=\"\",\"\",COUNTIF($V$7:V2898,\"該当３\"))","v":""}]
[2221410011,"22",214,10,{"v":11,"d":"011"},"静岡県","藤枝市","岡部町","入野",null,"","",{"$f":"IF(K2899=\"\",\"\",COUNTIF($K$7:K2899,\"ﾘｽﾄ１\"))","v":""},"","","","","","","",{"$f":"IF(S2899=\"\",\"\",COUNTIF($S$7:S2899,\"該当２\"))","v":""},"","",{"$f":"IF(V2899=\"\",\"\",COUNTIF($V$7:V2899,\"該当３\"))","v":""}]
[2221410013,"22",214,10,{"v":13,"d":"013"},"静岡県","藤枝市","岡部町","桂島",null,"","",{"$f":"IF(K2901=\"\",\"\",COUNTIF($K$7:K2901,\"ﾘｽﾄ１\"))","v":""},"","","","","","","",{"$f":"IF(S2901=\"\",\"\",COUNTIF($S$7:S2901,\"該当２\"))","v":""},"","",{"$f":"IF(V2901=\"\",\"\",COUNTIF($V$7:V2901,\"該当３\"))","v":""}]
[2221411000,"22",214,11,{"v":0,"d":"000"},"静岡県","藤枝市","朝比奈村（藤枝市）",null,null,"","",{"$f":"IF(K2902=\"\",\"\",COUNTIF($K$7:K2902,\"ﾘｽﾄ１\"))","v":""},"","","","","","","",{"$f":"IF(S2902=\"\",\"\",COUNTIF($S$7:S2902,\"該当２\"))","v":""},"","",{"$f":"IF(V2902=\"\",\"\",COUNTIF($V$7:V2902,\"該当３\"))","v":""}]
[2221411002,"22",214,11,{"v":2,"d":"002"},"静岡県","藤枝市","朝比奈村（藤枝市）","玉取上",null,"","",{"$f":"IF(K2904=\"\",\"\",COUNTIF($K$7:K2904,\"ﾘｽﾄ１\"))","v":""},"","","","","","","",{"$f":"IF(S2904=\"\",\"\",COUNTIF($S$7:S2904,\"該当２\"))","v":""},"","",{"$f":"IF(V2904=\"\",\"\",COUNTIF($V$7:V2904,\"該当３\"))","v":""}]
[2221411003,"22",214,11,{"v":3,"d":"003"},"静岡県","藤枝市","朝比奈村（藤枝市）","玉取下",null,"","",{"$f":"IF(K2905=\"\",\"\",COUNTIF($K$7:K2905,\"ﾘｽﾄ１\"))","v":""},"","","","","","","",{"$f":"IF(S2905=\"\",\"\",COUNTIF($S$7:S2905,\"該当２\"))","v":""},"","",{"$f":"IF(V2905=\"\",\"\",COUNTIF($V$7:V2905,\"該当３\"))","v":""}]
[2221411005,"22",214,11,{"v":5,"d":"005"},"静岡県","藤枝市","朝比奈村（藤枝市）","宮島",null,"","",{"$f":"IF(K2907=\"\",\"\",COUNTIF($K$7:K2907,\"ﾘｽﾄ１\"))","v":""},"","","","","","","",{"$f":"IF(S2907=\"\",\"\",COUNTIF($S$7:S2907,\"該当２\"))","v":""},"","",{"$f":"IF(V2907=\"\",\"\",COUNTIF($V$7:V2907,\"該当３\"))","v":""}]
[2221411006,"22",214,11,{"v":6,"d":"006"},"静岡県","藤枝市","朝比奈村（藤枝市）","野田沢",null,"","",{"$f":"IF(K2908=\"\",\"\",COUNTIF($K$7:K2908,\"ﾘｽﾄ１\"))","v":""},"","","","","","","",{"$f":"IF(S2908=\"\",\"\",COUNTIF($S$7:S2908,\"該当２\"))","v":""},"","",{"$f":"IF(V2908=\"\",\"\",COUNTIF($V$7:V2908,\"該当３\"))","v":""}]
[2221411008,"22",214,11,{"v":8,"d":"008"},"静岡県","藤枝市","朝比奈村（藤枝市）","羽佐間",null,"","",{"$f":"IF(K2910=\"\",\"\",COUNTIF($K$7:K2910,\"ﾘｽﾄ１\"))","v":""},"","","","","","","",{"$f":"IF(S2910=\"\",\"\",COUNTIF($S$7:S2910,\"該当２\"))","v":""},"","",{"$f":"IF(V2910=\"\",\"\",COUNTIF($V$7:V2910,\"該当３\"))","v":""}]
[2221411009,"22",214,11,{"v":9,"d":"009"},"静岡県","藤枝市","朝比奈村（藤枝市）","新舟",null,"","",{"$f":"IF(K2911=\"\",\"\",COUNTIF($K$7:K2911,\"ﾘｽﾄ１\"))","v":""},"","","","","","","",{"$f":"IF(S2911=\"\",\"\",COUNTIF($S$7:S2911,\"該当２\"))","v":""},"","",{"$f":"IF(V2911=\"\",\"\",COUNTIF($V$7:V2911,\"該当３\"))","v":""}]
[2221501000,"22",215,{"v":1,"d":"01"},{"v":0,"d":"000"},"静岡県","御殿場市","御殿場町",null,null,"","",{"$f":"IF(K2913=\"\",\"\",COUNTIF($K$7:K2913,\"ﾘｽﾄ１\"))","v":""},"","","","","","","",{"$f":"IF(S2913=\"\",\"\",COUNTIF($S$7:S2913,\"該当２\"))","v":""},"","",{"$f":"IF(V2913=\"\",\"\",COUNTIF($V$7:V2913,\"該当３\"))","v":""}]
[2221501001,"22",215,{"v":1,"d":"01"},{"v":1,"d":"001"},"静岡県","御殿場市","御殿場町","御殿場",null,"","",{"$f":"IF(K2914=\"\",\"\",COUNTIF($K$7:K2914,\"ﾘｽﾄ１\"))","v":""},"","","","","","","",{"$f":"IF(S2914=\"\",\"\",COUNTIF($S$7:S2914,\"該当２\"))","v":""},"","",{"$f":"IF(V2914=\"\",\"\",COUNTIF($V$7:V2914,\"該当３\"))","v":""}]
[2221501003,"22",215,{"v":1,"d":"01"},{"v":3,"d":"003"},"静岡県","御殿場市","御殿場町","東山",null,"","",{"$f":"IF(K2916=\"\",\"\",COUNTIF($K$7:K2916,\"ﾘｽﾄ１\"))","v":""},"","","","","","","",{"$f":"IF(S2916=\"\",\"\",COUNTIF($S$7:S2916,\"該当２\"))","v":""},"","",{"$f":"IF(V2916=\"\",\"\",COUNTIF($V$7:V2916,\"該当３\"))","v":""}]
[2221501004,"22",215,{"v":1,"d":"01"},{"v":4,"d":"004"},"静岡県","御殿場市","御殿場町","東田中一部",null,"","",{"$f":"IF(K2917=\"\",\"\",COUNTIF($K$7:K2917,\"ﾘｽﾄ１\"))","v":""},"","","","","","","",{"$f":"IF(S2917=\"\",\"\",COUNTIF($S$7:S2917,\"該当２\"))","v":""},"","",{"$f":"IF(V2917=\"\",\"\",COUNTIF($V$7:V2917,\"該当３\"))","v":""}]
[2221501006,"22",215,{"v":1,"d":"01"},{"v":6,"d":"006"},"静岡県","御殿場市","御殿場町","東田中三部",null,"","",{"$f":"IF(K2919=\"\",\"\",COUNTIF($K$7:K2919,\"ﾘｽﾄ１\"))","v":""},"","","","","","","",{"$f":"IF(S2919=\"\",\"\",COUNTIF($S$7:S2919,\"該当２\"))","v":""},"","",{"$f":"IF(V2919=\"\",\"\",COUNTIF($V$7:V2919,\"該当３\"))","v":""}]
[2221501007,"22",215,{"v":1,"d":"01"},{"v":7,"d":"007"},"静岡県","御殿場市","御殿場町","二の岡",null,"","",{"$f":"IF(K2920=\"\",\"\",COUNTIF($K$7:K2920,\"ﾘｽﾄ１\"))","v":""},"","","","","","","",{"$f":"IF(S2920=\"\",\"\",COUNTIF($S$7:S2920,\"該当２\"))","v":""},"","",{"$f":"IF(V2920=\"\",\"\",COUNTIF($V$7:V2920,\"該当３\"))","v":""}]
[2221501009,"22",215,{"v":1,"d":"01"},{"v":9,"d":"009"},"静岡県","御殿場市","御殿場町","新橋",null,"","",{"$f":"IF(K2922=\"\",\"\",COUNTIF($K$7:K2922,\"ﾘｽﾄ１\"))","v":""},"","","","","","","",{"$f":"IF(S2922=\"\",\"\",COUNTIF($S$7:S2922,\"該当２\"))","v":""},"","",{"$f":"IF(V2922=\"\",\"\",COUNTIF($V$7:V2922,\"該当３\"))","v":""}]
[2221501010,"22",215,{"v":1,"d":"01"},{"v":10,"d":"010"},"静岡県","御殿場市","御殿場町","萩原",null,"","",{"$f":"IF(K2923=\"\",\"\",COUNTIF($K$7:K2923,\"ﾘｽﾄ１\"))","v":""},"","","","","","","",{"$f":"IF(S2923=\"\",\"\",COUNTIF($S$7:S2923,\"該当２\"))","v":""},"","",{"$f":"IF(V2923=\"\",\"\",COUNTIF($V$7:V2923,\"該当３\"))","v":""}]
[2221501012,"22",215,{"v":1,"d":"01"},{"v":12,"d":"012"},"静岡県","御殿場市","御殿場町","西田中",null,"","",{"$f":"IF(K2925=\"\",\"\",COUNTIF($K$7:K2925,\"ﾘｽﾄ１\"))","v":""},"","","","","","","",{"$f":"IF(S2925=\"\",\"\",COUNTIF($S$7:S2925,\"該当２\"))","v":""},"","",{"$f":"IF(V2925=\"\",\"\",COUNTIF($V$7:V2925,\"該当３\"))","v":""}]
[2221501013,"22",215,{"v":1,"d":"01"},{"v":13,"d":"013"},"静岡県","御殿場市","御殿場町","北久原",null,"","",{"$f":"IF(K2926=\"\",\"\",COUNTIF($K$7:K2926,\"ﾘｽﾄ１\"))","v":""},"","","","","","","",{"$f":"IF(S2926=\"\",\"\",COUNTIF($S$7:S2926,\"該当２\"))","v":""},"","",{"$f":"IF(V2926=\"\",\"\",COUNTIF($V$7:V2926,\"該当３\"))","v":""}]
[2221501015,"22",215,{"v":1,"d":"01"},{"v":15,"d":"015"},"静岡県","御殿場市","御殿場町","丸獄",null,"","",{"$f":"IF(K2928=\"\",\"\",COUNTIF($K$7:K2928,\"ﾘｽﾄ１\"))","v":""},"","","","","","","",{"$f":"IF(S2928=\"\",\"\",COUNTIF($S$7:S2928,\"該当２\"))","v":""},"","",{"$f":"IF(V2928=\"\",\"\",COUNTIF($V$7:V2928,\"該当３\"))","v":""}]
[2221502000,"22",215,{"v":2,"d":"02"},{"v":0,"d":"000"},"静岡県","御殿場市","富士岡村",null,null,"","",{"$f":"IF(K2929=\"\",\"\",COUNTIF($K$7:K2929,\"ﾘｽﾄ１\"))","v":""},"","","","","","","",{"$f":"IF(S2929=\"\",\"\",COUNTIF($S$7:S2929,\"該当２\"))","v":""},"","",{"$f":"IF(V2929=\"\",\"\",COUNTIF($V$7:V2929,\"該当３\"))","v":""}]
[2221502002,"22",215,{"v":2,"d":"02"},{"v":2,"d":"002"},"静岡県","御殿場市","富士岡村","萩蕪",null,"","",{"$f":"IF(K2931=\"\",\"\",COUNTIF($K$7:K2931,\"ﾘｽﾄ１\"))","v":""},"","","","","","","",{"$f":"IF(S2931=\"\",\"\",COUNTIF($S$7:S2931,\"該当２\"))","v":""},"","",{"$f":"IF(V2931=\"\",\"\",COUNTIF($V$7:V2931,\"該当３\"))","v":""}]
[2221502003,"22",215,{"v":2,"d":"02"},{"v":3,"d":"003"},"静岡県","御殿場市","富士岡村","沼田",null,"","",{"$f":"IF(K2932=\"\",\"\",COUNTIF($K$7:K2932,\"ﾘｽﾄ１\"))","v":""},"","","","","","","",{"$f":"IF(S2932=\"\",\"\",COUNTIF($S$7:S2932,\"該当２\"))","v":""},"","",{"$f":"IF(V2932=\"\",\"\",COUNTIF($V$7:V2932,\"該当３\"))","v":""}]
[2221502005,"22",215,{"v":2,"d":"02"},{"v":5,"d":"005"},"静岡県","御殿場市","富士岡村","中山",null,"","",{"$f":"IF(K2934=\"\",\"\",COUNTIF($K$7:K2934,\"ﾘｽﾄ１\"))","v":""},"","","","","","","",{"$f":"IF(S2934=\"\",\"\",COUNTIF($S$7:S2934,\"該当２\"))","v":""},"","",{"$f":"IF(V2934=\"\",\"\",COUNTIF($V$7:V2934,\"該当３\"))","v":""}]
[2221502006,"22",215,{"v":2,"d":"02"},{"v":6,"d":"006"},"静岡県","御殿場市","富士岡村","中清水",null,"","",{"$f":"IF(K2935=\"\",\"\",COUNTIF($K$7:K2935,\"ﾘｽﾄ１\"))","v":""},"","","","","","","",{"$f":"IF(S2935=\"\",\"\",COUNTIF($S$7:S2935,\"該当２\"))","v":""},"","",{"$f":"IF(V2935=\"\",\"\",COUNTIF($V$7:V2935,\"該当３\"))","v":""}]
[2221502008,"22",215,{"v":2,"d":"02"},{"v":8,"d":"008"},"静岡県","御殿場市","富士岡村","大坂",null,"","",{"$f":"IF(K2937=\"\",\"\",COUNTIF($K$7:K2937,\"ﾘｽﾄ１\"))","v":""},"","","","","","","",{"$f":"IF(S2937=\"\",\"\",COUNTIF($S$7:S2937,\"該当２\"))","v":""},"","",{"$f":"IF(V2937=\"\",\"\",COUNTIF($V$7:V2937,\"該当３\"))","v":""}]
[2221502009,"22",215,{"v":2,"d":"02"},{"v":9,"d":"009"},"静岡県","御殿場市","富士岡村","町屋",null,"","",{"$f":"IF(K2938=\"\",\"\",COUNTIF($K$7:K2938,\"ﾘｽﾄ１\"))","v":""},"","","","","","","",{"$f":"IF(S2938=\"\",\"\",COUNTIF($S$7:S2938,\"該当２\"))","v":""},"","",{"$f":"IF(V2938=\"\",\"\",COUNTIF($V$7:V2938,\"該当３\"))","v":""}]
[2221502011,"22",215,{"v":2,"d":"02"},{"v":11,"d":"011"},"静岡県","御殿場市","富士岡村","尾尻",null,"","",{"$f":"IF(K2940=\"\",\"\",COUNTIF($K$7:K2940,\"ﾘｽﾄ１\"))","v":""},"","","","","","","",{"$f":"IF(S2940=\"\",\"\",COUNTIF($S$7:S2940,\"該当２\"))","v":""},"","",{"$f":"IF(V2940=\"\",\"\",COUNTIF($V$7:V2940,\"該当３\"))","v":""}]
[2221502012,"22",215,{"v":2,"d":"02"},{"v":12,"d":"012"},"静岡県","御殿場市","富士岡村","富士岡山野",null,"","",{"$f":"IF(K2941=\"\",\"\",COUNTIF($K$7:K2941,\"ﾘｽﾄ１\"))","v":""},"","","","","","","",{"$f":"IF(S2941=\"\",\"\",COUNTIF($S$7:S2941,\"該当２\"))","v":""},"","",{"$f":"IF(V2941=\"\",\"\",COUNTIF($V$7:V2941,\"該当３\"))","v":""}]
[2221503001,"22",215,{"v":3,"d":"03"},{"v":1,"d":"001"},"静岡県","御殿場市","原里村","森の腰",null,"","",{"$f":"IF(K2943=\"\",\"\",COUNTIF($K$7:K2943,\"ﾘｽﾄ１\"))","v":""},"","","","","","","",{"$f":"IF(S2943=\"\",\"\",COUNTIF($S$7:S2943,\"該当２\"))","v":""},"","",{"$f":"IF(V2943=\"\",\"\",COUNTIF($V$7:V2943,\"該当３\"))","v":""}]
[2221503002,"22",215,{"v":3,"d":"03"},{"v":2,"d":"002"},"静岡県","御殿場市","原里村","川島田",null,"","",{"$f":"IF(K2944=\"\",\"\",COUNTIF($K$7:K2944,\"ﾘｽﾄ１\"))","v":""},"","","","","","","",{"$f":"IF(S2944=\"\",\"\",COUNTIF($S$7:S2944,\"該当２\"))","v":""},"","",{"$f":"IF(V2944=\"\",\"\",COUNTIF($V$7:V2944,\"該当３\"))","v":""}]
[2221503004,"22",215,{"v":3,"d":"03"},{"v":4,"d":"004"},"静岡県","御殿場市","原里村","神場",null,"","",{"$f":"IF(K2946=\"\",\"\",COUNTIF($K$7:K2946,\"ﾘｽﾄ１\"))","v":""},"","","","","","","",{"$f":"IF(S2946=\"\",\"\",COUNTIF($S$7:S2946,\"該当２\"))","v":""},"","",{"$f":"IF(V2946=\"\",\"\",COUNTIF($V$7:V2946,\"該当３\"))","v":""}]
[2221503005,"22",215,{"v":3,"d":"03"},{"v":5,"d":"005"},"静岡県","御殿場市","原里村","板妻",null,"","",{"$f":"IF(K2947=\"\",\"\",COUNTIF($K$7:K2947,\"ﾘｽﾄ１\"))","v":""},"","","","","","","",{"$f":"IF(S2947=\"\",\"\",COUNTIF($S$7:S2947,\"該当２\"))","v":""},"","",{"$f":"IF(V2947=\"\",\"\",COUNTIF($V$7:V2947,\"該当３\"))","v":""}]
[2221503007,"22",215,{"v":3,"d":"03"},{"v":7,"d":"007"},"静岡県","御殿場市","原里村","永塚",null,"","",{"$f":"IF(K2949=\"\",\"\",COUNTIF($K$7:K2949,\"ﾘｽﾄ１\"))","v":""},"","","","","","","",{"$f":"IF(S2949=\"\",\"\",COUNTIF($S$7:S2949,\"該当２\"))","v":""},"","",{"$f":"IF(V2949=\"\",\"\",COUNTIF($V$7:V2949,\"該当３\"))","v":""}]
[2221503008,"22",215,{"v":3,"d":"03"},{"v":8,"d":"008"},"静岡県","御殿場市","原里村","北畑",null,"","",{"$f":"IF(K2950=\"\",\"\",COUNTIF($K$7:K2950,\"ﾘｽﾄ１\"))","v":""},"","","","","","","",{"$f":"IF(S2950=\"\",\"\",COUNTIF($S$7:S2950,\"該当２\"))","v":""},"","",{"$f":"IF(V2950=\"\",\"\",COUNTIF($V$7:V2950,\"該当３\"))","v":""}]
[2221503010,"22",215,{"v":3,"d":"03"},{"v":10,"d":"010"},"静岡県","御殿場市","原里村","大野原",null,"","",{"$f":"IF(K2952=\"\",\"\",COUNTIF($K$7:K2952,\"ﾘｽﾄ１\"))","v":""},"","","","","","","",{"$f":"IF(S2952=\"\",\"\",COUNTIF($S$7:S2952,\"該当２\"))","v":""},"","",{"$f":"IF(V2952=\"\",\"\",COUNTIF($V$7:V2952,\"該当３\"))","v":""}]
[2221504000,"22",215,{"v":4,"d":"04"},{"v":0,"d":"000"},"静岡県","御殿場市","玉穂村",null,null,"","",{"$f":"IF(K2953=\"\",\"\",COUNTIF($K$7:K2953,\"ﾘｽﾄ１\"))","v":""},"","","","","","","",{"$f":"IF(S2953=\"\",\"\",COUNTIF($S$7:S2953,\"該当２\"))","v":""},"","",{"$f":"IF(V2953=\"\",\"\",COUNTIF($V$7:V2953,\"該当３\"))","v":""}]
[2221504002,"22",215,{"v":4,"d":"04"},{"v":2,"d":"002"},"静岡県","御殿場市","玉穂村","中部",null,{"$f":"IF(AND($C2955>0,$H2955=\"\"),\"ﾘｽﾄ１\",\"\")","v":""},{"$f":"IF(K2955=\"ﾘｽﾄ１\",G2955,\"\")","v":""},{"$f":"IF(K2955=\"\",\"\",COUNTIF($K$7:K2955,\"ﾘｽﾄ１\"))","v":""},{"$f":"IF(AND(D2955=0,E2955>0),\"同一区\",\"\")","v":""},{"$f":"IF(AND(EXACT($K$2,G2955),H2955>0),\"該当１\",\"\")","v":""},"","","",{"$f":"IF(AND(Q2955=\"ﾘｽﾄ2\",OR(I2955=0,AND(N2955=\"同一区\",E2955=1))),\"該当２\",\"\")","v":""},"",{"$f":"IF(S2955=\"\",\"\",COUNTIF($S$7:S2955,\"該当２\"))","v":""},"","",{"$f":"IF(V2955=\"\",\"\",COUNTIF($V$7:V2955,\"該当３\"))","v":""}]
[2221504003,"22",215,{"v":4,"d":"04"},{"v":3,"d":"003"},"静岡県","御殿場市","玉穂村","山権",null,"","",{"$f":"IF(K2956=\"\",\"\",COUNTIF($K$7:K2956,\"ﾘｽﾄ１\"))","v":""},"","","","","","","",{"$f":"IF(S2956=\"\",\"\",COUNTIF($S$7:S2956,\"該当２\"))","v":""},"","",{"$f":"IF(V2956=\"\",\"\",COUNTIF($V$7:V2956,\"該当３\"))","v":""}]
[2221504005,"22",215,{"v":4,"d":"04"},{"v":5,"d":"005"},"静岡県","御殿場市","玉穂村","道上",null,"","",{"$f":"IF(K2958=\"\",\"\",COUNTIF($K$7:K2958,\"ﾘｽﾄ１\"))","v":""},"","","","","","","",{"$f":"IF(S2958=\"\",\"\",COUNTIF($S$7:S2958,\"該当２\"))","v":""},"","",{"$f":"IF(V2958=\"\",\"\",COUNTIF($V$7:V2958,\"該当３\"))","v":""}]
[2221504006,"22",215,{"v":4,"d":"04"},{"v":6,"d":"006"},"静岡県","御殿場市","玉穂村","原",null,"","",{"$f":"IF(K2959=\"\",\"\",COUNTIF($K$7:K2959,\"ﾘｽﾄ１\"))","v":""},"","","","","","","",{"$f":"IF(S2959=\"\",\"\",COUNTIF($S$7:S2959,\"該当２\"))","v":""},"","",{"$f":"IF(V2959=\"\",\"\",COUNTIF($V$7:V2959,\"該当３\"))","v":""}]
[2221504008,"22",215,{"v":4,"d":"04"},{"v":8,"d":"008"},"静岡県","御殿場市","玉穂村","飯塚",null,"","",{"$f":"IF(K2961=\"\",\"\",COUNTIF($K$7:K2961,\"ﾘｽﾄ１\"))","v":""},"","","","","","","",{"$f":"IF(S2961=\"\",\"\",COUNTIF($S$7:S2961,\"該当２\"))","v":""},"","",{"$f":"IF(V2961=\"\",\"\",COUNTIF($V$7:V2961,\"該当３\"))","v":""}]
[2221504009,"22",215,{"v":4,"d":"04"},{"v":9,"d":"009"},"静岡県","御殿場市","玉穂村","川柳",null,"","",{"$f":"IF(K2962=\"\",\"\",COUNTIF($K$7:K2962,\"ﾘｽﾄ１\"))","v":""},"","","","","","","",{"$f":"IF(S2962=\"\",\"\",COUNTIF($S$7:S2962,\"該当２\"))","v":""},"","",{"$f":"IF(V2962=\"\",\"\",COUNTIF($V$7:V2962,\"該当３\"))","v":""}]
[2221505000,"22",215,{"v":5,"d":"05"},{"v":0,"d":"000"},"静岡県","御殿場市","印野村",null,null,"","",{"$f":"IF(K2964=\"\",\"\",COUNTIF($K$7:K2964,\"ﾘｽﾄ１\"))","v":""},"","","","","","","",{"$f":"IF(S2964=\"\",\"\",COUNTIF($S$7:S2964,\"該当２\"))","v":""},"","",{"$f":"IF(V2964=\"\",\"\",COUNTIF($V$7:V2964,\"該当３\"))","v":""}]
[2221505001,"22",215,{"v":5,"d":"05"},{"v":1,"d":"001"},"静岡県","御殿場市","印野村","印野",null,"","",{"$f":"IF(K2965=\"\",\"\",COUNTIF($K$7:K2965,\"ﾘｽﾄ１\"))","v":""},"","","","","","","",{"$f":"IF(S2965=\"\",\"\",COUNTIF($S$7:S2965,\"該当２\"))","v":""},"","",{"$f":"IF(V2965=\"\",\"\",COUNTIF($V$7:V2965,\"該当３\"))","v":""}]
[2221505003,"22",215,{"v":5,"d":"05"},{"v":3,"d":"003"},"静岡県","御殿場市","印野村","時上",null,"","",{"$f":"IF(K2967=\"\",\"\",COUNTIF($K$7:K2967,\"ﾘｽﾄ１\"))","v":""},"","","","","","","",{"$f":"IF(S2967=\"\",\"\",COUNTIF($S$7:S2967,\"該当２\"))","v":""},"","",{"$f":"IF(V2967=\"\",\"\",COUNTIF($V$7:V2967,\"該当３\"))","v":""}]
[2221505004,"22",215,{"v":5,"d":"05"},{"v":4,"d":"004"},"静岡県","御殿場市","印野村","時中",null,"","",{"$f":"IF(K2968=\"\",\"\",COUNTIF($K$7:K2968,\"ﾘｽﾄ１\"))","v":""},"","","","","","","",{"$f":"IF(S2968=\"\",\"\",COUNTIF($S$7:S2968,\"該当２\"))","v":""},"","",{"$f":"IF(V2968=\"\",\"\",COUNTIF($V$7:V2968,\"該当３\"))","v":""}]
[2221505006,"22",215,{"v":5,"d":"05"},{"v":6,"d":"006"},"静岡県","御殿場市","印野村","小木原",null,"","",{"$f":"IF(K2970=\"\",\"\",COUNTIF($K$7:K2970,\"ﾘｽﾄ１\"))","v":""},"","","","","","","",{"$f":"IF(S2970=\"\",\"\",COUNTIF($S$7:S2970,\"該当２\"))","v":""},"","",{"$f":"IF(V2970=\"\",\"\",COUNTIF($V$7:V2970,\"該当３\"))","v":""}]
[2221505007,"22",215,{"v":5,"d":"05"},{"v":7,"d":"007"},"静岡県","御殿場市","印野村","高畑",null,"","",{"$f":"IF(K2971=\"\",\"\",COUNTIF($K$7:K2971,\"ﾘｽﾄ１\"))","v":""},"","","","","","","",{"$f":"IF(S2971=\"\",\"\",COUNTIF($S$7:S2971,\"該当２\"))","v":""},"","",{"$f":"IF(V2971=\"\",\"\",COUNTIF($V$7:V2971,\"該当３\"))","v":""}]
[2221506001,"22",215,{"v":6,"d":"06"},{"v":1,"d":"001"},"静岡県","御殿場市","高根村","塚原",null,"","",{"$f":"IF(K2973=\"\",\"\",COUNTIF($K$7:K2973,\"ﾘｽﾄ１\"))","v":""},"","","","","","","",{"$f":"IF(S2973=\"\",\"\",COUNTIF($S$7:S2973,\"該当２\"))","v":""},"","",{"$f":"IF(V2973=\"\",\"\",COUNTIF($V$7:V2973,\"該当３\"))","v":""}]
[2221506002,"22",215,{"v":6,"d":"06"},{"v":2,"d":"002"},"静岡県","御殿場市","高根村","六日市場",null,"","",{"$f":"IF(K2974=\"\",\"\",COUNTIF($K$7:K2974,\"ﾘｽﾄ１\"))","v":""},"","","","","","","",{"$f":"IF(S2974=\"\",\"\",COUNTIF($S$7:S2974,\"該当２\"))","v":""},"","",{"$f":"IF(V2974=\"\",\"\",COUNTIF($V$7:V2974,\"該当３\"))","v":""}]
[2221506004,"22",215,{"v":6,"d":"06"},{"v":4,"d":"004"},"静岡県","御殿場市","高根村","中丸",null,"","",{"$f":"IF(K2976=\"\",\"\",COUNTIF($K$7:K2976,\"ﾘｽﾄ１\"))","v":""},"","","","","","","",{"$f":"IF(S2976=\"\",\"\",COUNTIF($S$7:S2976,\"該当２\"))","v":""},"","",{"$f":"IF(V2976=\"\",\"\",COUNTIF($V$7:V2976,\"該当３\"))","v":""}]
[2221506005,"22",215,{"v":6,"d":"06"},{"v":5,"d":"005"},"静岡県","御殿場市","高根村","大堰",null,"","",{"$f":"IF(K2977=\"\",\"\",COUNTIF($K$7:K2977,\"ﾘｽﾄ１\"))","v":""},"","","","","","","",{"$f":"IF(S2977=\"\",\"\",COUNTIF($S$7:S2977,\"該当２\"))","v":""},"","",{"$f":"IF(V2977=\"\",\"\",COUNTIF($V$7:V2977,\"該当３\"))","v":""}]
[2221506007,"22",215,{"v":6,"d":"06"},{"v":7,"d":"007"},"静岡県","御殿場市","高根村","山之尻",null,"","",{"$f":"IF(K2979=\"\",\"\",COUNTIF($K$7:K2979,\"ﾘｽﾄ１\"))","v":""},"","","","","","","",{"$f":"IF(S2979=\"\",\"\",COUNTIF($S$7:S2979,\"該当２\"))","v":""},"","",{"$f":"IF(V2979=\"\",\"\",COUNTIF($V$7:V2979,\"該当３\"))","v":""}]
[2221506008,"22",215,{"v":6,"d":"06"},{"v":8,"d":"008"},"静岡県","御殿場市","高根村","上小林",null,"","",{"$f":"IF(K2980=\"\",\"\",COUNTIF($K$7:K2980,\"ﾘｽﾄ１\"))","v":""},"","","","","","","",{"$f":"IF(S2980=\"\",\"\",COUNTIF($S$7:S2980,\"該当２\"))","v":""},"","",{"$f":"IF(V2980=\"\",\"\",COUNTIF($V$7:V2980,\"該当３\"))","v":""}]
[2221506010,"22",215,{"v":6,"d":"06"},{"v":10,"d":"010"},"静岡県","御殿場市","高根村","水土野",null,"","",{"$f":"IF(K2982=\"\",\"\",COUNTIF($K$7:K2982,\"ﾘｽﾄ１\"))","v":""},"","","","","","","",{"$f":"IF(S2982=\"\",\"\",COUNTIF($S$7:S2982,\"該当２\"))","v":""},"","",{"$f":"IF(V2982=\"\",\"\",COUNTIF($V$7:V2982,\"該当３\"))","v":""}]
[2221507000,"22",215,{"v":7,"d":"07"},{"v":0,"d":"000"},"静岡県","御殿場市","北郷村２－２",null,null,"","",{"$f":"IF(K2983=\"\",\"\",COUNTIF($K$7:K2983,\"ﾘｽﾄ１\"))","v":""},"","","","","","","",{"$f":"IF(S2983=\"\",\"\",COUNTIF($S$7:S2983,\"該当２\"))","v":""},"","",{"$f":"IF(V2983=\"\",\"\",COUNTIF($V$7:V2983,\"該当３\"))","v":""}]
[2221600000,"22",216,{"v":0,"d":"00"},{"v":0,"d":"000"},"静岡県","袋井市",{"$nulls":3},"ﾘｽﾄ１","袋井市",{"$f":"IF(K2985=\"\",\"\",COUNTIF($K$7:K2985,\"ﾘｽﾄ１\"))","v":25},"","","","","","","",{"$f":"IF(S2985=\"\",\"\",COUNTIF($S$7:S2985,\"該当２\"))","v":""},"","",{"$f":"IF(V2985=\"\",\"\",COUNTIF($V$7:V2985,\"該当３\"))","v":""}]
[2221601000,"22",216,{"v":1,"d":"01"},{"v":0,"d":"000"},"静岡県","袋井市","袋井町",null,null,"","",{"$f":"IF(K2986=\"\",\"\",COUNTIF($K$7:K2986,\"ﾘｽﾄ１\"))","v":""},"","","","","","","",{"$f":"IF(S2986=\"\",\"\",COUNTIF($S$7:S2986,\"該当２\"))","v":""},"","",{"$f":"IF(V2986=\"\",\"\",COUNTIF($V$7:V2986,\"該当３\"))","v":""}]
[2221601002,"22",216,{"v":1,"d":"01"},{"v":2,"d":"002"},"静岡県","袋井市","袋井町","木原",null,"","",{"$f":"IF(K2988=\"\",\"\",COUNTIF($K$7:K2988,\"ﾘｽﾄ１\"))","v":""},"","","","","","","",{"$f":"IF(S2988=\"\",\"\",COUNTIF($S$7:S2988,\"該当２\"))","v":""},"","",{"$f":"IF(V2988=\"\",\"\",COUNTIF($V$7:V2988,\"該当３\"))","v":""}]
[2221601003,"22",216,{"v":1,"d":"01"},{"v":3,"d":"003"},"静岡県","袋井市","袋井町","川井",null,"","",{"$f":"IF(K2989=\"\",\"\",COUNTIF($K$7:K2989,\"ﾘｽﾄ１\"))","v":""},"","","","","","","",{"$f":"IF(S2989=\"\",\"\",COUNTIF($S$7:S2989,\"該当２\"))","v":""},"","",{"$f":"IF(V2989=\"\",\"\",COUNTIF($V$7:V2989,\"該当３\"))","v":""}]
[2221601005,"22",216,{"v":1,"d":"01"},{"v":5,"d":"005"},"静岡県","袋井市","袋井町","高尾西",null,"","",{"$f":"IF(K2991=\"\",\"\",COUNTIF($K$7:K2991,\"ﾘｽﾄ１\"))","v":""},"","","","","","","",{"$f":"IF(S2991=\"\",\"\",COUNTIF($S$7:S2991,\"該当２\"))","v":""},"","",{"$f":"IF(V2991=\"\",\"\",COUNTIF($V$7:V2991,\"該当３\"))","v":""}]
[2221601006,"22",216,{"v":1,"d":"01"},{"v":6,"d":"006"},"静岡県","袋井市","袋井町","掛の上",null,"","",{"$f":"IF(K2992=\"\",\"\",COUNTIF($K$7:K2992,\"ﾘｽﾄ１\"))","v":""},"","","","","","","",{"$f":"IF(S2992=\"\",\"\",COUNTIF($S$7:S2992,\"該当２\"))","v":""},"","",{"$f":"IF(V2992=\"\",\"\",COUNTIF($V$7:V2992,\"該当３\"))","v":""}]
[2221601008,"22",216,{"v":1,"d":"01"},{"v":8,"d":"008"},"静岡県","袋井市","袋井町","大門",null,"","",{"$f":"IF(K2994=\"\",\"\",COUNTIF($K$7:K2994,\"ﾘｽﾄ１\"))","v":""},"","","","","","","",{"$f":"IF(S2994=\"\",\"\",COUNTIF($S$7:S2994,\"該当２\"))","v":""},"","",{"$f":"IF(V2994=\"\",\"\",COUNTIF($V$7:V2994,\"該当３\"))","v":""}]
[2221601009,"22",216,{"v":1,"d":"01"},{"v":9,"d":"009"},"静岡県","袋井市","袋井町","神長",null,"","",{"$f":"IF(K2995=\"\",\"\",COUNTIF($K$7:K2995,\"ﾘｽﾄ１\"))","v":""},"","","","","","","",{"$f":"IF(S2995=\"\",\"\",COUNTIF($S$7:S2995,\"該当２\"))","v":""},"","",{"$f":"IF(V2995=\"\",\"\",COUNTIF($V$7:V2995,\"該当３\"))","v":""}]
[2221601011,"22",216,{"v":1,"d":"01"},{"v":11,"d":"011"},"静岡県","袋井市","袋井町","菩堤",null,"","",{"$f":"IF(K2997=\"\",\"\",COUNTIF($K$7:K2997,\"ﾘｽﾄ１\"))","v":""},"","","","","","","",{"$f":"IF(S2997=\"\",\"\",COUNTIF($S$7:S2997,\"該当２\"))","v":""},"","",{"$f":"IF(V2997=\"\",\"\",COUNTIF($V$7:V2997,\"該当３\"))","v":""}]
[2221601012,"22",216,{"v":1,"d":"01"},{"v":12,"d":"012"},"静岡県","袋井市","袋井町","法多",null,"","",{"$f":"IF(K2998=\"\",\"\",COUNTIF($K$7:K2998,\"ﾘｽﾄ１\"))","v":""},"","","","","","","",{"$f":"IF(S2998=\"\",\"\",COUNTIF($S$7:S2998,\"該当２\"))","v":""},"","",{"$f":"IF(V2998=\"\",\"\",COUNTIF($V$7:V2998,\"該当３\"))","v":""}]
[2221601014,"22",216,{"v":1,"d":"01"},{"v":14,"d":"014"},"静岡県","袋井市","袋井町","下石野",null,"","",{"$f":"IF(K3000=\"\",\"\",COUNTIF($K$7:K3000,\"ﾘｽﾄ１\"))","v":""},"","","","","","","",{"$f":"IF(S3000=\"\",\"\",COUNTIF($S$7:S3000,\"該当２\"))","v":""},"","",{"$f":"IF(V3000=\"\",\"\",COUNTIF($V$7:V3000,\"該当３\"))","v":""}]
[2221601015,"22",216,{"v":1,"d":"01"},{"v":15,"d":"015"},"静岡県","袋井市","袋井町","ネギヤ",null,"","",{"$f":"IF(K3001=\"\",\"\",COUNTIF($K$7:K3001,\"ﾘｽﾄ１\"))","v":""},"","","","","","","",{"$f":"IF(S3001=\"\",\"\",COUNTIF($S$7:S3001,\"該当２\"))","v":""},"","",{"$f":"IF(V3001=\"\",\"\",COUNTIF($V$7:V3001,\"該当３\"))","v":""}]
[2221601017,"22",216,{"v":1,"d":"01"},{"v":17,"d":"017"},"静岡県","袋井市","袋井町","小野田",null,"","",{"$f":"IF(K3003=\"\",\"\",COUNTIF($K$7:K3003,\"ﾘｽﾄ１\"))","v":""},"","","","","","","",{"$f":"IF(S3003=\"\",\"\",COUNTIF($S$7:S3003,\"該当２\"))","v":""},"","",{"$f":"IF(V3003=\"\",\"\",COUNTIF($V$7:V3003,\"該当３\"))","v":""}]
[2221601018,"22",216,{"v":1,"d":"01"},{"v":18,"d":"018"},"静岡県","袋井市","袋井町","天神町",null,"","",{"$f":"IF(K3004=\"\",\"\",COUNTIF($K$7:K3004,\"ﾘｽﾄ１\"))","v":""},"","","","","","","",{"$f":"IF(S3004=\"\",\"\",COUNTIF($S$7:S3004,\"該当２\"))","v":""},"","",{"$f":"IF(V3004=\"\",\"\",COUNTIF($V$7:V3004,\"該当３\"))","v":""}]
[2221601020,"22",216,{"v":1,"d":"01"},{"v":20,"d":"020"},"静岡県","袋井市","袋井町","堀越上",null,"","",{"$f":"IF(K3006=\"\",\"\",COUNTIF($K$7:K3006,\"ﾘｽﾄ１\"))","v":""},"","","","","","","",{"$f":"IF(S3006=\"\",\"\",COUNTIF($S$7:S3006,\"該当２\"))","v":""},"","",{"$f":"IF(V3006=\"\",\"\",COUNTIF($V$7:V3006,\"該当３\"))","v":""}]
[2221601021,"22",216,{"v":1,"d":"01"},{"v":21,"d":"021"},"静岡県","袋井市","袋井町","山科下",null,"","",{"$f":"IF(K3007=\"\",\"\",COUNTIF($K$7:K3007,\"ﾘｽﾄ１\"))","v":""},"","","","","","","",{"$f":"IF(S3007=\"\",\"\",COUNTIF($S$7:S3007,\"該当２\"))","v":""},"","",{"$f":"IF(V3007=\"\",\"\",COUNTIF($V$7:V3007,\"該当３\"))","v":""}]
[2221601023,"22",216,{"v":1,"d":"01"},{"v":23,"d":"023"},"静岡県","袋井市","袋井町","可睡",null,"","",{"$f":"IF(K3009=\"\",\"\",COUNTIF($K$7:K3009,\"ﾘｽﾄ１\"))","v":""},"","","","","","","",{"$f":"IF(S3009=\"\",\"\",COUNTIF($S$7:S3009,\"該当２\"))","v":""},"","",{"$f":"IF(V3009=\"\",\"\",COUNTIF($V$7:V3009,\"該当３\"))","v":""}]
[2221601024,"22",216,{"v":1,"d":"01"},{"v":24,"d":"024"},"静岡県","袋井市","袋井町","上久能",null,"","",{"$f":"IF(K3010=\"\",\"\",COUNTIF($K$7:K3010,\"ﾘｽﾄ１\"))","v":""},"","","","","","","",{"$f":"IF(S3010=\"\",\"\",COUNTIF($S$7:S3010,\"該当２\"))","v":""},"","",{"$f":"IF(V3010=\"\",\"\",COUNTIF($V$7:V3010,\"該当３\"))","v":""}]
[2221601026,"22",216,{"v":1,"d":"01"},{"v":26,"d":"026"},"静岡県","袋井市","袋井町","下久能",null,"","",{"$f":"IF(K3012=\"\",\"\",COUNTIF($K$7:K3012,\"ﾘｽﾄ１\"))","v":""},"","","","","","","",{"$f":"IF(S3012=\"\",\"\",COUNTIF($S$7:S3012,\"該当２\"))","v":""},"","",{"$f":"IF(V3012=\"\",\"\",COUNTIF($V$7:V3012,\"該当３\"))","v":""}]
[2221601027,"22",216,{"v":1,"d":"01"},{"v":27,"d":"027"},"静岡県","袋井市","袋井町","鷲巣下",null,"","",{"$f":"IF(K3013=\"\",\"\",COUNTIF($K$7:K3013,\"ﾘｽﾄ１\"))","v":""},"","","","","","","",{"$f":"IF(S3013=\"\",\"\",COUNTIF($S$7:S3013,\"該当２\"))","v":""},"","",{"$f":"IF(V3013=\"\",\"\",COUNTIF($V$7:V3013,\"該当３\"))","v":""}]
[2221601029,"22",216,{"v":1,"d":"01"},{"v":29,"d":"029"},"静岡県","袋井市","袋井町","袋井",null,"","",{"$f":"IF(K3015=\"\",\"\",COUNTIF($K$7:K3015,\"ﾘｽﾄ１\"))","v":""},"","","","","","","",{"$f":"IF(S3015=\"\",\"\",COUNTIF($S$7:S3015,\"該当２\"))","v":""},"","",{"$f":"IF(V3015=\"\",\"\",COUNTIF($V$7:V3015,\"該当３\"))","v":""}]
[2221601030,"22",216,{"v":1,"d":"01"},{"v":30,"d":"030"},"静岡県","袋井市","袋井町","駅前",null,"","",{"$f":"IF(K3016=\"\",\"\",COUNTIF($K$7:K3016,\"ﾘｽﾄ１\"))","v":""},"","","","","","","",{"$f":"IF(S3016=\"\",\"\",COUNTIF($S$7:S3016,\"該当２\"))","v":""},"","",{"$f":"IF(V3016=\"\",\"\",COUNTIF($V$7:V3016,\"該当３\"))","v":""}]
[2221602001,"22",216,{"v":2,"d":"02"},{"v":1,"d":"001"},"静岡県","袋井市","久努村","上貫名",null,"","",{"$f":"IF(K3018=\"\",\"\",COUNTIF($K$7:K3018,\"ﾘｽﾄ１\"))","v":""},"","",{"$f":"IF(O3018=\"該当１\",G3018,\"\")","v":""},{"$f":"IF(O3018=\"該当１\",\"ﾘｽﾄ2\",\"\")","v":""},{"$f":"IF(Q3018=\"ﾘｽﾄ2\",H3018,\"\")","v":""},"",{"$f":"IF(S3018=\"該当２\",H3018,\"\")","v":""},{"$f":"IF(S3018=\"\",\"\",COUNTIF($S$7:S3018,\"該当２\"))","v":""},{"$f":"IF(AND($S$2=H3018,E3018>0,E3018<998),\"該当３\",\"\")","v":""},{"$f":"IF(V3018=\"該当３\",I3018,\"\")","v":""},{"$f":"IF(V3018=\"\",\"\",COUNTIF($V$7:V3018,\"該当３\"))","v":""}]
[2221602002,"22",216,{"v":2,"d":"02"},{"v":2,"d":"002"},"静岡県","袋井市","久努村","下貫名",null,{"$f":"IF(AND($C3019>0,$H3019=\"\"),\"ﾘｽﾄ１\",\"\")","v":""},{"$f":"IF(K3019=\"ﾘｽﾄ１\",G3019,\"\")","v":""},{"$f":"IF(K3019=\"\",\"\",COUNTIF($K$7:K3019,\"ﾘｽﾄ１\"))","v":""},{"$f":"IF(AND(D3019=0,E3019>0),\"同一区\",\"\")","v":""},{"$f":"IF(AND(EXACT($K$2,G3019),H3019>0),\"該当１\",\"\")","v":""},"","","",{"$f":"IF(AND(Q3019=\"ﾘｽﾄ2\",OR(I3019=0,AND(N3019=\"同一区\",E3019=1))),\"該当２\",\"\")","v":""},"",{"$f":"IF(S3019=\"\",\"\",COUNTIF($S$7:S3019,\"該当２\"))","v":""},"","",{"$f":"IF(V3019=\"\",\"\",COUNTIF($V$7:V3019,\"該当３\"))","v":""}]
[2221602004,"22",216,{"v":2,"d":"02"},{"v":4,"d":"004"},"静岡県","袋井市","久努村","新屋",null,"","",{"$f":"IF(K3021=\"\",\"\",COUNTIF($K$7:K3021,\"ﾘｽﾄ１\"))","v":""},"","","","","","","",{"$f":"IF(S3021=\"\",\"\",COUNTIF($S$7:S3021,\"該当２\"))","v":""},"","",{"$f":"IF(V3021=\"\",\"\",COUNTIF($V$7:V3021,\"該当３\"))","v":""}]
[2221602005,"22",216,{"v":2,"d":"02"},{"v":5,"d":"005"},"静岡県","袋井市","久努村","久津部西",null,"","",{"$f":"IF(K3022=\"\",\"\",COUNTIF($K$7:K3022,\"ﾘｽﾄ１\"))","v":""},"","","","","","","",{"$f":"IF(S3022=\"\",\"\",COUNTIF($S$7:S3022,\"該当２\"))","v":""},"","",{"$f":"IF(V3022=\"\",\"\",COUNTIF($V$7:V3022,\"該当３\"))","v":""}]
[2221602007,"22",216,{"v":2,"d":"02"},{"v":7,"d":"007"},"静岡県","袋井市","久努村","名栗・北原川",null,"","",{"$f":"IF(K3024=\"\",\"\",COUNTIF($K$7:K3024,\"ﾘｽﾄ１\"))","v":""},"","","","","","","",{"$f":"IF(S3024=\"\",\"\",COUNTIF($S$7:S3024,\"該当２\"))","v":""},"","",{"$f":"IF(V3024=\"\",\"\",COUNTIF($V$7:V3024,\"該当３\"))","v":""}]
[2221602008,"22",216,{"v":2,"d":"02"},{"v":8,"d":"008"},"静岡県","袋井市","久努村","不入斗",null,"","",{"$f":"IF(K3025=\"\",\"\",COUNTIF($K$7:K3025,\"ﾘｽﾄ１\"))","v":""},"","","","","","","",{"$f":"IF(S3025=\"\",\"\",COUNTIF($S$7:S3025,\"該当２\"))","v":""},"","",{"$f":"IF(V3025=\"\",\"\",COUNTIF($V$7:V3025,\"該当３\"))","v":""}]
[2221602010,"22",216,{"v":2,"d":"02"},{"v":10,"d":"010"},"静岡県","袋井市","久努村","村松下",null,"","",{"$f":"IF(K3027=\"\",\"\",COUNTIF($K$7:K3027,\"ﾘｽﾄ１\"))","v":""},"","","","","","","",{"$f":"IF(S3027=\"\",\"\",COUNTIF($S$7:S3027,\"該当２\"))","v":""},"","",{"$f":"IF(V3027=\"\",\"\",COUNTIF($V$7:V3027,\"該当３\"))","v":""}]
[2221602011,"22",216,{"v":2,"d":"02"},{"v":11,"d":"011"},"静岡県","袋井市","久努村","村松上",null,"","",{"$f":"IF(K3028=\"\",\"\",COUNTIF($K$7:K3028,\"ﾘｽﾄ１\"))","v":""},"","","","","","","",{"$f":"IF(S3028=\"\",\"\",COUNTIF($S$7:S3028,\"該当２\"))","v":""},"","",{"$f":"IF(V3028=\"\",\"\",COUNTIF($V$7:V3028,\"該当３\"))","v":""}]
[2221603000,"22",216,{"v":3,"d":"03"},{"v":0,"d":"000"},"静岡県","袋井市","今井村",null,null,"","",{"$f":"IF(K3030=\"\",\"\",COUNTIF($K$7:K3030,\"ﾘｽﾄ１\"))","v":""},"","","","","","","",{"$f":"IF(S3030=\"\",\"\",COUNTIF($S$7:S3030,\"該当２\"))","v":""},"","",{"$f":"IF(V3030=\"\",\"\",COUNTIF($V$7:V3030,\"該当３\"))","v":""}]
[2221603001,"22",216,{"v":3,"d":"03"},{"v":1,"d":"001"},"静岡県","袋井市","今井村","深見一",null,"","",{"$f":"IF(K3031=\"\",\"\",COUNTIF($K$7:K3031,\"ﾘｽﾄ１\"))","v":""},"","","","","","","",{"$f":"IF(S3031=\"\",\"\",COUNTIF($S$7:S3031,\"該当２\"))","v":""},"","",{"$f":"IF(V3031=\"\",\"\",COUNTIF($V$7:V3031,\"該当３\"))","v":""}]
[2221603003,"22",216,{"v":3,"d":"03"},{"v":3,"d":"003"},"静岡県","袋井市","今井村","深見東",null,"","",{"$f":"IF(K3033=\"\",\"\",COUNTIF($K$7:K3033,\"ﾘｽﾄ１\"))","v":""},"","","","","","","",{"$f":"IF(S3033=\"\",\"\",COUNTIF($S$7:S3033,\"該当２\"))","v":""},"","",{"$f":"IF(V3033=\"\",\"\",COUNTIF($V$7:V3033,\"該当３\"))","v":""}]
[2221603004,"22",216,{"v":3,"d":"03"},{"v":4,"d":"004"},"静岡県","袋井市","今井村","太田",null,"","",{"$f":"IF(K3034=\"\",\"\",COUNTIF($K$7:K3034,\"ﾘｽﾄ１\"))","v":""},"","","","","","","",{"$f":"IF(S3034=\"\",\"\",COUNTIF($S$7:S3034,\"該当２\"))","v":""},"","",{"$f":"IF(V3034=\"\",\"\",COUNTIF($V$7:V3034,\"該当３\"))","v":""}]
[2221603006,"22",216,{"v":3,"d":"03"},{"v":6,"d":"006"},"静岡県","袋井市","今井村","横井",null,"","",{"$f":"IF(K3036=\"\",\"\",COUNTIF($K$7:K3036,\"ﾘｽﾄ１\"))","v":""},"","","","","","","",{"$f":"IF(S3036=\"\",\"\",COUNTIF($S$7:S3036,\"該当２\"))","v":""},"","",{"$f":"IF(V3036=\"\",\"\",COUNTIF($V$7:V3036,\"該当３\"))","v":""}]
[2221603007,"22",216,{"v":3,"d":"03"},{"v":7,"d":"007"},"静岡県","袋井市","今井村","徳光",null,"","",{"$f":"IF(K3037=\"\",\"\",COUNTIF($K$7:K3037,\"ﾘｽﾄ１\"))","v":""},"","","","","","","",{"$f":"IF(S3037=\"\",\"\",COUNTIF($S$7:S3037,\"該当２\"))","v":""},"","",{"$f":"IF(V3037=\"\",\"\",COUNTIF($V$7:V3037,\"該当３\"))","v":""}]
[2221604000,"22",216,{"v":4,"d":"04"},{"v":0,"d":"000"},"静岡県","袋井市","笠原村２－１",null,null,"","",{"$f":"IF(K3039=\"\",\"\",COUNTIF($K$7:K3039,\"ﾘｽﾄ１\"))","v":""},"","","","","","","",{"$f":"IF(S3039=\"\",\"\",COUNTIF($S$7:S3039,\"該当２\"))","v":""},"","",{"$f":"IF(V3039=\"\",\"\",COUNTIF($V$7:V3039,\"該当３\"))","v":""}]
[2221604001,"22",216,{"v":4,"d":"04"},{"v":1,"d":"001"},"静岡県","袋井市","笠原村２－１","五十岡",null,"","",{"$f":"IF(K3040=\"\",\"\",COUNTIF($K$7:K3040,\"ﾘｽﾄ１\"))","v":""},"","","","","","","",{"$f":"IF(S3040=\"\",\"\",COUNTIF($S$7:S3040,\"該当２\"))","v":""},"","",{"$f":"IF(V3040=\"\",\"\",COUNTIF($V$7:V3040,\"該当３\"))","v":""}]
[2221604003,"22",216,{"v":4,"d":"04"},{"v":3,"d":"003"},"静岡県","袋井市","笠原村２－１","上区",null,"","",{"$f":"IF(K3042=\"\",\"\",COUNTIF($K$7:K3042,\"ﾘｽﾄ１\"))","v":""},"","","","","","","",{"$f":"IF(S3042=\"\",\"\",COUNTIF($S$7:S3042,\"該当２\"))","v":""},"","",{"$f":"IF(V3042=\"\",\"\",COUNTIF($V$7:V3042,\"該当３\"))","v":""}]
[2221604004,"22",216,{"v":4,"d":"04"},{"v":4,"d":"004"},"静岡県","袋井市","笠原村２－１","東区",null,"","",{"$f":"IF(K3043=\"\",\"\",COUNTIF($K$7:K3043,\"ﾘｽﾄ１\"))","v":""},"","","","","","","",{"$f":"IF(S3043=\"\",\"\",COUNTIF($S$7:S3043,\"該当２\"))","v":""},"","",{"$f":"IF(V3043=\"\",\"\",COUNTIF($V$7:V3043,\"該当３\"))","v":""}]
[2221604006,"22",216,{"v":4,"d":"04"},{"v":6,"d":"006"},"静岡県","袋井市","笠原村２－１","南区",null,"","",{"$f":"IF(K3045=\"\",\"\",COUNTIF($K$7:K3045,\"ﾘｽﾄ１\"))","v":""},"","","","","","","",{"$f":"IF(S3045=\"\",\"\",COUNTIF($S$7:S3045,\"該当２\"))","v":""},"","",{"$f":"IF(V3045=\"\",\"\",COUNTIF($V$7:V3045,\"該当３\"))","v":""}]
[2221604007,"22",216,{"v":4,"d":"04"},{"v":7,"d":"007"},"静岡県","袋井市","笠原村２－１","三輪",null,"","",{"$f":"IF(K3046=\"\",\"\",COUNTIF($K$7:K3046,\"ﾘｽﾄ１\"))","v":""},"","","","","","","",{"$f":"IF(S3046=\"\",\"\",COUNTIF($S$7:S3046,\"該当２\"))","v":""},"","",{"$f":"IF(V3046=\"\",\"\",COUNTIF($V$7:V3046,\"該当３\"))","v":""}]
[2221604009,"22",216,{"v":4,"d":"04"},{"v":9,"d":"009"},"静岡県","袋井市","笠原村２－１","三沢",null,"","",{"$f":"IF(K3048=\"\",\"\",COUNTIF($K$7:K3048,\"ﾘｽﾄ１\"))","v":""},"","","","","","","",{"$f":"IF(S3048=\"\",\"\",COUNTIF($S$7:S3048,\"該当２\"))","v":""},"","",{"$f":"IF(V3048=\"\",\"\",COUNTIF($V$7:V3048,\"該当３\"))","v":""}]
[2221604010,"22",216,{"v":4,"d":"04"},{"v":10,"d":"010"},"静岡県","袋井市","笠原村２－１","開拓",null,"","",{"$f":"IF(K3049=\"\",\"\",COUNTIF($K$7:K3049,\"ﾘｽﾄ１\"))","v":""},"","","","","","","",{"$f":"IF(S3049=\"\",\"\",COUNTIF($S$7:S3049,\"該当２\"))","v":""},"","",{"$f":"IF(V3049=\"\",\"\",COUNTIF($V$7:V3049,\"該当３\"))","v":""}]
[2221605001,"22",216,{"v":5,"d":"05"},{"v":1,"d":"001"},"静岡県","袋井市","田原村２－２","彦島",null,"","",{"$f":"IF(K3051=\"\",\"\",COUNTIF($K$7:K3051,\"ﾘｽﾄ１\"))","v":""},"","","","","","","",{"$f":"IF(S3051=\"\",\"\",COUNTIF($S$7:S3051,\"該当２\"))","v":""},"","",{"$f":"IF(V3051=\"\",\"\",COUNTIF($V$7:V3051,\"該当３\"))","v":""}]
[2221605002,"22",216,{"v":5,"d":"05"},{"v":2,"d":"002"},"静岡県","袋井市","田原村２－２","松袋井",null,"","",{"$f":"IF(K3052=\"\",\"\",COUNTIF($K$7:K3052,\"ﾘｽﾄ１\"))","v":""},"","","","","","","",{"$f":"IF(S3052=\"\",\"\",COUNTIF($S$7:S3052,\"該当２\"))","v":""},"","",{"$f":"IF(V3052=\"\",\"\",COUNTIF($V$7:V3052,\"該当３\"))","v":""}]
[2221605004,"22",216,{"v":5,"d":"05"},{"v":4,"d":"004"},"静岡県","袋井市","田原村２－２","上新池",null,"","",{"$f":"IF(K3054=\"\",\"\",COUNTIF($K$7:K3054,\"ﾘｽﾄ１\"))","v":""},"","","","","","","",{"$f":"IF(S3054=\"\",\"\",COUNTIF($S$7:S3054,\"該当２\"))","v":""},"","",{"$f":"IF(V3054=\"\",\"\",COUNTIF($V$7:V3054,\"該当３\"))","v":""}]
[2221606000,"22",216,{"v":6,"d":"06"},{"v":0,"d":"000"},"静岡県","袋井市","三川村２－１",null,null,"","",{"$f":"IF(K3055=\"\",\"\",COUNTIF($K$7:K3055,\"ﾘｽﾄ１\"))","v":""},"","","","","","","",{"$f":"IF(S3055=\"\",\"\",COUNTIF($S$7:S3055,\"該当２\"))","v":""},"","",{"$f":"IF(V3055=\"\",\"\",COUNTIF($V$7:V3055,\"該当３\"))","v":""}]
[2221606002,"22",216,{"v":6,"d":"06"},{"v":2,"d":"002"},"静岡県","袋井市","三川村２－１","川会",null,"","",{"$f":"IF(K3057=\"\",\"\",COUNTIF($K$7:K3057,\"ﾘｽﾄ１\"))","v":""},"","","","","","","",{"$f":"IF(S3057=\"\",\"\",COUNTIF($S$7:S3057,\"該当２\"))","v":""},"","",{"$f":"IF(V3057=\"\",\"\",COUNTIF($V$7:V3057,\"該当３\"))","v":""}]
[2221606003,"22",216,{"v":6,"d":"06"},{"v":3,"d":"003"},"静岡県","袋井市","三川村２－１","萱間",null,"","",{"$f":"IF(K3058=\"\",\"\",COUNTIF($K$7:K3058,\"ﾘｽﾄ１\"))","v":""},"","","","","","","",{"$f":"IF(S3058=\"\",\"\",COUNTIF($S$7:S3058,\"該当２\"))","v":""},"","",{"$f":"IF(V3058=\"\",\"\",COUNTIF($V$7:V3058,\"該当３\"))","v":""}]
[2221606005,"22",216,{"v":6,"d":"06"},{"v":5,"d":"005"},"静岡県","袋井市","三川村２－１","大谷",null,"","",{"$f":"IF(K3060=\"\",\"\",COUNTIF($K$7:K3060,\"ﾘｽﾄ１\"))","v":""},"","","","","","","",{"$f":"IF(S3060=\"\",\"\",COUNTIF($S$7:S3060,\"該当２\"))","v":""},"","",{"$f":"IF(V3060=\"\",\"\",COUNTIF($V$7:V3060,\"該当３\"))","v":""}]
[2221606006,"22",216,{"v":6,"d":"06"},{"v":6,"d":"006"},"静岡県","袋井市","三川村２－１","見取",null,"","",{"$f":"IF(K3061=\"\",\"\",COUNTIF($K$7:K3061,\"ﾘｽﾄ１\"))","v":""},"","","","","","","",{"$f":"IF(S3061=\"\",\"\",COUNTIF($S$7:S3061,\"該当２\"))","v":""},"","",{"$f":"IF(V3061=\"\",\"\",COUNTIF($V$7:V3061,\"該当３\"))","v":""}]
[2221607000,"22",216,{"v":7,"d":"07"},{"v":0,"d":"000"},"静岡県","袋井市","山梨町",null,null,"","",{"$f":"IF(K3063=\"\",\"\",COUNTIF($K$7:K3063,\"ﾘｽﾄ１\"))","v":""},"","","","","","","",{"$f":"IF(S3063=\"\",\"\",COUNTIF($S$7:S3063,\"該当２\"))","v":""},"","",{"$f":"IF(V3063=\"\",\"\",COUNTIF($V$7:V3063,\"該当３\"))","v":""}]
[2221607001,"22",216,{"v":7,"d":"07"},{"v":1,"d":"001"},"静岡県","袋井市","山梨町","上町",null,"","",{"$f":"IF(K3064=\"\",\"\",COUNTIF($K$7:K3064,\"ﾘｽﾄ１\"))","v":""},"","","","","","","",{"$f":"IF(S3064=\"\",\"\",COUNTIF($S$7:S3064,\"該当２\"))","v":""},"","",{"$f":"IF(V3064=\"\",\"\",COUNTIF($V$7:V3064,\"該当３\"))","v":""}]
[2221607003,"22",216,{"v":7,"d":"07"},{"v":3,"d":"003"},"静岡県","袋井市","山梨町","仲町・下町",null,"","",{"$f":"IF(K3066=\"\",\"\",COUNTIF($K$7:K3066,\"ﾘｽﾄ１\"))","v":""},"","","","","","","",{"$f":"IF(S3066=\"\",\"\",COUNTIF($S$7:S3066,\"該当２\"))","v":""},"","",{"$f":"IF(V3066=\"\",\"\",COUNTIF($V$7:V3066,\"該当３\"))","v":""}]
[2221607004,"22",216,{"v":7,"d":"07"},{"v":4,"d":"004"},"静岡県","袋井市","山梨町","沖山梨",null,"","",{"$f":"IF(K3067=\"\",\"\",COUNTIF($K$7:K3067,\"ﾘｽﾄ１\"))","v":""},"","","","","","","",{"$f":"IF(S3067=\"\",\"\",COUNTIF($S$7:S3067,\"該当２\"))","v":""},"","",{"$f":"IF(V3067=\"\",\"\",COUNTIF($V$7:V3067,\"該当３\"))","v":""}]
[2221607006,"22",216,{"v":7,"d":"07"},{"v":6,"d":"006"},"静岡県","袋井市","山梨町","下山梨下",null,"","",{"$f":"IF(K3069=\"\",\"\",COUNTIF($K$7:K3069,\"ﾘｽﾄ１\"))","v":""},"","","","","","","",{"$f":"IF(S3069=\"\",\"\",COUNTIF($S$7:S3069,\"該当２\"))","v":""},"","",{"$f":"IF(V3069=\"\",\"\",COUNTIF($V$7:V3069,\"該当３\"))","v":""}]
[2221607007,"22",216,{"v":7,"d":"07"},{"v":7,"d":"007"},"静岡県","袋井市","山梨町","平宇",null,"","",{"$f":"IF(K3070=\"\",\"\",COUNTIF($K$7:K3070,\"ﾘｽﾄ１\"))","v":""},"","","","","","","",{"$f":"IF(S3070=\"\",\"\",COUNTIF($S$7:S3070,\"該当２\"))","v":""},"","",{"$f":"IF(V3070=\"\",\"\",COUNTIF($V$7:V3070,\"該当３\"))","v":""}]
[2221608001,"22",216,{"v":8,"d":"08"},{"v":1,"d":"001"},"静岡県","袋井市","宇刈村","春岡上",null,"","",{"$f":"IF(K3072=\"\",\"\",COUNTIF($K$7:K3072,\"ﾘｽﾄ１\"))","v":""},"","","","","","","",{"$f":"IF(S3072=\"\",\"\",COUNTIF($S$7:S3072,\"該当２\"))","v":""},"","",{"$f":"IF(V3072=\"\",\"\",COUNTIF($V$7:V3072,\"該当３\"))","v":""}]
[2221608002,"22",216,{"v":8,"d":"08"},{"v":2,"d":"002"},"静岡県","袋井市","宇刈村","春岡下",null,"","",{"$f":"IF(K3073=\"\",\"\",COUNTIF($K$7:K3073,\"ﾘｽﾄ１\"))","v":""},"","","","","","","",{"$f":"IF(S3073=\"\",\"\",COUNTIF($S$7:S3073,\"該当２\"))","v":""},"","",{"$f":"IF(V3073=\"\",\"\",COUNTIF($V$7:V3073,\"該当３\"))","v":""}]
[2221608004,"22",216,{"v":8,"d":"08"},{"v":4,"d":"004"},"静岡県","袋井市","宇刈村","三沢",null,"","",{"$f":"IF(K3075=\"\",\"\",COUNTIF($K$7:K3075,\"ﾘｽﾄ１\"))","v":""},"","","","","","","",{"$f":"IF(S3075=\"\",\"\",COUNTIF($S$7:S3075,\"該当２\"))","v":""},"","",{"$f":"IF(V3075=\"\",\"\",COUNTIF($V$7:V3075,\"該当３\"))","v":""}]
[2221608005,"22",216,{"v":8,"d":"08"},{"v":5,"d":"005"},"静岡県","袋井市","宇刈村","馬ケ谷",null,"","",{"$f":"IF(K3076=\"\",\"\",COUNTIF($K$7:K3076,\"ﾘｽﾄ１\"))","v":""},"","","","","","","",{"$f":"IF(S3076=\"\",\"\",COUNTIF($S$7:S3076,\"該当２\"))","v":""},"","",{"$f":"IF(V3076=\"\",\"\",COUNTIF($V$7:V3076,\"該当３\"))","v":""}]
[2221608007,"22",216,{"v":8,"d":"08"},{"v":7,"d":"007"},"静岡県","袋井市","宇刈村","大日",null,"","",{"$f":"IF(K3078=\"\",\"\",COUNTIF($K$7:K3078,\"ﾘｽﾄ１\"))","v":""},"","","","","","","",{"$f":"IF(S3078=\"\",\"\",COUNTIF($S$7:S3078,\"該当２\"))","v":""},"","",{"$f":"IF(V3078=\"\",\"\",COUNTIF($V$7:V3078,\"該当３\"))","v":""}]
[2221609000,"22",216,{"v":9,"d":"09"},{"v":0,"d":"000"},"静岡県","袋井市","東浅羽村",null,null,"","",{"$f":"IF(K3079=\"\",\"\",COUNTIF($K$7:K3079,\"ﾘｽﾄ１\"))","v":""},"","","","","","","",{"$f":"IF(S3079=\"\",\"\",COUNTIF($S$7:S3079,\"該当２\"))","v":""},"","",{"$f":"IF(V3079=\"\",\"\",COUNTIF($V$7:V3079,\"該当３\"))","v":""}]
[2221609002,"22",216,{"v":9,"d":"09"},{"v":2,"d":"002"},"静岡県","袋井市","東浅羽村","梅山",null,"","",{"$f":"IF(K3081=\"\",\"\",COUNTIF($K$7:K3081,\"ﾘｽﾄ１\"))","v":""},"","","","","","","",{"$f":"IF(S3081=\"\",\"\",COUNTIF($S$7:S3081,\"該当２\"))","v":""},"","",{"$f":"IF(V3081=\"\",\"\",COUNTIF($V$7:V3081,\"該当３\"))","v":""}]
[2221609003,"22",216,{"v":9,"d":"09"},{"v":3,"d":"003"},"静岡県","袋井市","東浅羽村","松原",null,"","",{"$f":"IF(K3082=\"\",\"\",COUNTIF($K$7:K3082,\"ﾘｽﾄ１\"))","v":""},"","",{"$f":"IF(O3082=\"該当１\",G3082,\"\")","v":""},{"$f":"IF(O3082=\"該当１\",\"ﾘｽﾄ2\",\"\")","v":""},{"$f":"IF(Q3082=\"ﾘｽﾄ2\",H3082,\"\")","v":""},"",{"$f":"IF(S3082=\"該当２\",H3082,\"\")","v":""},{"$f":"IF(S3082=\"\",\"\",COUNTIF($S$7:S3082,\"該当２\"))","v":""},{"$f":"IF(AND($S$2=H3082,E3082>0,E3082<998),\"該当３\",\"\")","v":""},{"$f":"IF(V3082=\"該当３\",I3082,\"\")","v":""},{"$f":"IF(V3082=\"\",\"\",COUNTIF($V$7:V3082,\"該当３\"))","v":""}]
[2221610000,"22",216,10,{"v":0,"d":"000"},"静岡県","袋井市","西浅羽村",null,null,"","",{"$f":"IF(K3084=\"\",\"\",COUNTIF($K$7:K3084,\"ﾘｽﾄ１\"))","v":""},"","","","","","","",{"$f":"IF(S3084=\"\",\"\",COUNTIF($S$7:S3084,\"該当２\"))","v":""},"","",{"$f":"IF(V3084=\"\",\"\",COUNTIF($V$7:V3084,\"該当３\"))","v":""}]
[2221610001,"22",216,10,{"v":1,"d":"001"},"静岡県","袋井市","西浅羽村","富里上",null,"","",{"$f":"IF(K3085=\"\",\"\",COUNTIF($K$7:K3085,\"ﾘｽﾄ１\"))","v":""},"","","","","","","",{"$f":"IF(S3085=\"\",\"\",COUNTIF($S$7:S3085,\"該当２\"))","v":""},"","",{"$f":"IF(V3085=\"\",\"\",COUNTIF($V$7:V3085,\"該当３\"))","v":""}]
[2221610003,"22",216,10,{"v":3,"d":"003"},"静岡県","袋井市","西浅羽村","富里下",null,"","",{"$f":"IF(K3087=\"\",\"\",COUNTIF($K$7:K3087,\"ﾘｽﾄ１\"))","v":""},"","","","","","","",{"$f":"IF(S3087=\"\",\"\",COUNTIF($S$7:S3087,\"該当２\"))","v":""},"","",{"$f":"IF(V3087=\"\",\"\",COUNTIF($V$7:V3087,\"該当３\"))","v":""}]
[2221610004,"22",216,10,{"v":4,"d":"004"},"静岡県","袋井市","西浅羽村","西ケ崎",null,"","",{"$f":"IF(K3088=\"\",\"\",COUNTIF($K$7:K3088,\"ﾘｽﾄ１\"))","v":""},"","","","","","","",{"$f":"IF(S3088=\"\",\"\",COUNTIF($S$7:S3088,\"該当２\"))","v":""},"","",{"$f":"IF(V3088=\"\",\"\",COUNTIF($V$7:V3088,\"該当３\"))","v":""}]
[2221610006,"22",216,10,{"v":6,"d":"006"},"静岡県","袋井市","西浅羽村","中",null,"","",{"$f":"IF(K3090=\"\",\"\",COUNTIF($K$7:K3090,\"ﾘｽﾄ１\"))","v":""},"","","","","","","",{"$f":"IF(S3090=\"\",\"\",COUNTIF($S$7:S3090,\"該当２\"))","v":""},"","",{"$f":"IF(V3090=\"\",\"\",COUNTIF($V$7:V3090,\"該当３\"))","v":""}]
[2221610007,"22",216,10,{"v":7,"d":"007"},"静岡県","袋井市","西浅羽村","長溝上",null,"","",{"$f":"IF(K3091=\"\",\"\",COUNTIF($K$7:K3091,\"ﾘｽﾄ１\"))","v":""},"","","","","","","",{"$f":"IF(S3091=\"\",\"\",COUNTIF($S$7:S3091,\"該当２\"))","v":""},"","",{"$f":"IF(V3091=\"\",\"\",COUNTIF($V$7:V3091,\"該当３\"))","v":""}]
[2221610009,"22",216,10,{"v":9,"d":"009"},"静岡県","袋井市","西浅羽村","浅岡上",null,"","",{"$f":"IF(K3093=\"\",\"\",COUNTIF($K$7:K3093,\"ﾘｽﾄ１\"))","v":""},"","","","","","","",{"$f":"IF(S3093=\"\",\"\",COUNTIF($S$7:S3093,\"該当２\"))","v":""},"","",{"$f":"IF(V3093=\"\",\"\",COUNTIF($V$7:V3093,\"該当３\"))","v":""}]
[2221610010,"22",216,10,{"v":10,"d":"010"},"静岡県","袋井市","西浅羽村","浅岡下",null,"","",{"$f":"IF(K3094=\"\",\"\",COUNTIF($K$7:K3094,\"ﾘｽﾄ１\"))","v":""},"","","","","","","",{"$f":"IF(S3094=\"\",\"\",COUNTIF($S$7:S3094,\"該当２\"))","v":""},"","",{"$f":"IF(V3094=\"\",\"\",COUNTIF($V$7:V3094,\"該当３\"))","v":""}]
[2221611001,"22",216,11,{"v":1,"d":"001"},"静岡県","袋井市","上浅羽村","諸井",null,"","",{"$f":"IF(K3096=\"\",\"\",COUNTIF($K$7:K3096,\"ﾘｽﾄ１\"))","v":""},"","","","","","","",{"$f":"IF(S3096=\"\",\"\",COUNTIF($S$7:S3096,\"該当２\"))","v":""},"","",{"$f":"IF(V3096=\"\",\"\",COUNTIF($V$7:V3096,\"該当３\"))","v":""}]
[2221611002,"22",216,11,{"v":2,"d":"002"},"静岡県","袋井市","上浅羽村","浅羽",null,"","",{"$f":"IF(K3097=\"\",\"\",COUNTIF($K$7:K3097,\"ﾘｽﾄ１\"))","v":""},"","","","","","","",{"$f":"IF(S3097=\"\",\"\",COUNTIF($S$7:S3097,\"該当２\"))","v":""},"","",{"$f":"IF(V3097=\"\",\"\",COUNTIF($V$7:V3097,\"該当３\"))","v":""}]
[2221611004,"22",216,11,{"v":4,"d":"004"},"静岡県","袋井市","上浅羽村","豊住",null,"","",{"$f":"IF(K3099=\"\",\"\",COUNTIF($K$7:K3099,\"ﾘｽﾄ１\"))","v":""},"","","","","","","",{"$f":"IF(S3099=\"\",\"\",COUNTIF($S$7:S3099,\"該当２\"))","v":""},"","",{"$f":"IF(V3099=\"\",\"\",COUNTIF($V$7:V3099,\"該当３\"))","v":""}]
[2221612000,"22",216,12,{"v":0,"d":"000"},"静岡県","袋井市","幸浦村",null,null,"","",{"$f":"IF(K3100=\"\",\"\",COUNTIF($K$7:K3100,\"ﾘｽﾄ１\"))","v":""},"","","","","","","",{"$f":"IF(S3100=\"\",\"\",COUNTIF($S$7:S3100,\"該当２\"))","v":""},"","",{"$f":"IF(V3100=\"\",\"\",COUNTIF($V$7:V3100,\"該当３\"))","v":""}]
[2221612002,"22",216,12,{"v":2,"d":"002"},"静岡県","袋井市","幸浦村","大野",null,"","",{"$f":"IF(K3102=\"\",\"\",COUNTIF($K$7:K3102,\"ﾘｽﾄ１\"))","v":""},"","","","","","","",{"$f":"IF(S3102=\"\",\"\",COUNTIF($S$7:S3102,\"該当２\"))","v":""},"","",{"$f":"IF(V3102=\"\",\"\",COUNTIF($V$7:V3102,\"該当３\"))","v":""}]
[2221612003,"22",216,12,{"v":3,"d":"003"},"静岡県","袋井市","幸浦村","東同笠",null,"","",{"$f":"IF(K3103=\"\",\"\",COUNTIF($K$7:K3103,\"ﾘｽﾄ１\"))","v":""},"","","","","","","",{"$f":"IF(S3103=\"\",\"\",COUNTIF($S$7:S3103,\"該当２\"))","v":""},"","",{"$f":"IF(V3103=\"\",\"\",COUNTIF($V$7:V3103,\"該当３\"))","v":""}]
[2221612005,"22",216,12,{"v":5,"d":"005"},"静岡県","袋井市","幸浦村","太郎助",null,"","",{"$f":"IF(K3105=\"\",\"\",COUNTIF($K$7:K3105,\"ﾘｽﾄ１\"))","v":""},"","","","","","","",{"$f":"IF(S3105=\"\",\"\",COUNTIF($S$7:S3105,\"該当２\"))","v":""},"","",{"$f":"IF(V3105=\"\",\"\",COUNTIF($V$7:V3105,\"該当３\"))","v":""}]
[2221612006,"22",216,12,{"v":6,"d":"006"},"静岡県","袋井市","幸浦村","湊東",null,"","",{"$f":"IF(K3106=\"\",\"\",COUNTIF($K$7:K3106,\"ﾘｽﾄ１\"))","v":""},"","","","","","","",{"$f":"IF(S3106=\"\",\"\",COUNTIF($S$7:S3106,\"該当２\"))","v":""},"","",{"$f":"IF(V3106=\"\",\"\",COUNTIF($V$7:V3106,\"該当３\"))","v":""}]
[2221612008,"22",216,12,{"v":8,"d":"008"},"静岡県","袋井市","幸浦村","湊西",null,"","",{"$f":"IF(K3108=\"\",\"\",COUNTIF($K$7:K3108,\"ﾘｽﾄ１\"))","v":""},"","","","","","","",{"$f":"IF(S3108=\"\",\"\",COUNTIF($S$7:S3108,\"該当２\"))","v":""},"","",{"$f":"IF(V3108=\"\",\"\",COUNTIF($V$7:V3108,\"該当３\"))","v":""}]
[2221900000,"22",219,{"v":0,"d":"00"},{"v":0,"d":"000"},"静岡県","下田市",{"$nulls":3},"ﾘｽﾄ１","下田市",{"$f":"IF(K3109=\"\",\"\",COUNTIF($K$7:K3109,\"ﾘｽﾄ１\"))","v":26},"","","","","","","",{"$f":"IF(S3109=\"\",\"\",COUNTIF($S$7:S3109,\"該当２\"))","v":""},"","",{"$f":"IF(V3109=\"\",\"\",COUNTIF($V$7:V3109,\"該当３\"))","v":""}]
[2221901001,"22",219,{"v":1,"d":"01"},{"v":1,"d":"001"},"静岡県","下田市","下田町","１丁目",null,"","",{"$f":"IF(K3111=\"\",\"\",COUNTIF($K$7:K3111,\"ﾘｽﾄ１\"))","v":""},"","","","","","","",{"$f":"IF(S3111=\"\",\"\",COUNTIF($S$7:S3111,\"該当２\"))","v":""},"","",{"$f":"IF(V3111=\"\",\"\",COUNTIF($V$7:V3111,\"該当３\"))","v":""}]
[2221901002,"22",219,{"v":1,"d":"01"},{"v":2,"d":"002"},"静岡県","下田市","下田町","２丁目",null,"","",{"$f":"IF(K3112=\"\",\"\",COUNTIF($K$7:K3112,\"ﾘｽﾄ１\"))","v":""},"","","","","","","",{"$f":"IF(S3112=\"\",\"\",COUNTIF($S$7:S3112,\"該当２\"))","v":""},"","",{"$f":"IF(V3112=\"\",\"\",COUNTIF($V$7:V3112,\"該当３\"))","v":""}]
[2221901004,"22",219,{"v":1,"d":"01"},{"v":4,"d":"004"},"静岡県","下田市","下田町","４・６丁目",null,"","",{"$f":"IF(K3114=\"\",\"\",COUNTIF($K$7:K3114,\"ﾘｽﾄ１\"))","v":""},"","","","","","","",{"$f":"IF(S3114=\"\",\"\",COUNTIF($S$7:S3114,\"該当２\"))","v":""},"","",{"$f":"IF(V3114=\"\",\"\",COUNTIF($V$7:V3114,\"該当３\"))","v":""}]
[2221902000,"22",219,{"v":2,"d":"02"},{"v":0,"d":"000"},"静岡県","下田市","稲梓村",null,null,"","",{"$f":"IF(K3115=\"\",\"\",COUNTIF($K$7:K3115,\"ﾘｽﾄ１\"))","v":""},"","","","","","","",{"$f":"IF(S3115=\"\",\"\",COUNTIF($S$7:S3115,\"該当２\"))","v":""},"","",{"$f":"IF(V3115=\"\",\"\",COUNTIF($V$7:V3115,\"該当３\"))","v":""}]
[2221902002,"22",219,{"v":2,"d":"02"},{"v":2,"d":"002"},"静岡県","下田市","稲梓村","箕作",null,"","",{"$f":"IF(K3117=\"\",\"\",COUNTIF($K$7:K3117,\"ﾘｽﾄ１\"))","v":""},"","","","","","","",{"$f":"IF(S3117=\"\",\"\",COUNTIF($S$7:S3117,\"該当２\"))","v":""},"","",{"$f":"IF(V3117=\"\",\"\",COUNTIF($V$7:V3117,\"該当３\"))","v":""}]
[2221902003,"22",219,{"v":2,"d":"02"},{"v":3,"d":"003"},"静岡県","下田市","稲梓村","茅原野",null,"","",{"$f":"IF(K3118=\"\",\"\",COUNTIF($K$7:K3118,\"ﾘｽﾄ１\"))","v":""},"","","","","","","",{"$f":"IF(S3118=\"\",\"\",COUNTIF($S$7:S3118,\"該当２\"))","v":""},"","",{"$f":"IF(V3118=\"\",\"\",COUNTIF($V$7:V3118,\"該当３\"))","v":""}]
[2221902005,"22",219,{"v":2,"d":"02"},{"v":5,"d":"005"},"静岡県","下田市","稲梓村","北の沢",null,"","",{"$f":"IF(K3120=\"\",\"\",COUNTIF($K$7:K3120,\"ﾘｽﾄ１\"))","v":""},"","","","","","","",{"$f":"IF(S3120=\"\",\"\",COUNTIF($S$7:S3120,\"該当２\"))","v":""},"","",{"$f":"IF(V3120=\"\",\"\",COUNTIF($V$7:V3120,\"該当３\"))","v":""}]
[2221902006,"22",219,{"v":2,"d":"02"},{"v":6,"d":"006"},"静岡県","下田市","稲梓村","八木山",null,"","",{"$f":"IF(K3121=\"\",\"\",COUNTIF($K$7:K3121,\"ﾘｽﾄ１\"))","v":""},"","","","","","","",{"$f":"IF(S3121=\"\",\"\",COUNTIF($S$7:S3121,\"該当２\"))","v":""},"","",{"$f":"IF(V3121=\"\",\"\",COUNTIF($V$7:V3121,\"該当３\"))","v":""}]
[2221902008,"22",219,{"v":2,"d":"02"},{"v":8,"d":"008"},"静岡県","下田市","稲梓村","中村",null,"","",{"$f":"IF(K3123=\"\",\"\",COUNTIF($K$7:K3123,\"ﾘｽﾄ１\"))","v":""},"","","","","","","",{"$f":"IF(S3123=\"\",\"\",COUNTIF($S$7:S3123,\"該当２\"))","v":""},"","",{"$f":"IF(V3123=\"\",\"\",COUNTIF($V$7:V3123,\"該当３\"))","v":""}]
[2221902009,"22",219,{"v":2,"d":"02"},{"v":9,"d":"009"},"静岡県","下田市","稲梓村","口村",null,"","",{"$f":"IF(K3124=\"\",\"\",COUNTIF($K$7:K3124,\"ﾘｽﾄ１\"))","v":""},"","","","","","","",{"$f":"IF(S3124=\"\",\"\",COUNTIF($S$7:S3124,\"該当２\"))","v":""},"","",{"$f":"IF(V3124=\"\",\"\",COUNTIF($V$7:V3124,\"該当３\"))","v":""}]
[2221902011,"22",219,{"v":2,"d":"02"},{"v":11,"d":"011"},"静岡県","下田市","稲梓村","椎原",null,"","",{"$f":"IF(K3126=\"\",\"\",COUNTIF($K$7:K3126,\"ﾘｽﾄ１\"))","v":""},"","","","","","","",{"$f":"IF(S3126=\"\",\"\",COUNTIF($S$7:S3126,\"該当２\"))","v":""},"","",{"$f":"IF(V3126=\"\",\"\",COUNTIF($V$7:V3126,\"該当３\"))","v":""}]
[2221902012,"22",219,{"v":2,"d":"02"},{"v":12,"d":"012"},"静岡県","下田市","稲梓村","北湯ケ野",null,"","",{"$f":"IF(K3127=\"\",\"\",COUNTIF($K$7:K3127,\"ﾘｽﾄ１\"))","v":""},"","","","","","","",{"$f":"IF(S3127=\"\",\"\",COUNTIF($S$7:S3127,\"該当２\"))","v":""},"","",{"$f":"IF(V3127=\"\",\"\",COUNTIF($V$7:V3127,\"該当３\"))","v":""}]
[2221902014,"22",219,{"v":2,"d":"02"},{"v":14,"d":"014"},"静岡県","下田市","稲梓村","横川",null,"","",{"$f":"IF(K3129=\"\",\"\",COUNTIF($K$7:K3129,\"ﾘｽﾄ１\"))","v":""},"","","","","","","",{"$f":"IF(S3129=\"\",\"\",COUNTIF($S$7:S3129,\"該当２\"))","v":""},"","",{"$f":"IF(V3129=\"\",\"\",COUNTIF($V$7:V3129,\"該当３\"))","v":""}]
[2221902015,"22",219,{"v":2,"d":"02"},{"v":15,"d":"015"},"静岡県","下田市","稲梓村","相玉",null,"","",{"$f":"IF(K3130=\"\",\"\",COUNTIF($K$7:K3130,\"ﾘｽﾄ１\"))","v":""},"","","","","","","",{"$f":"IF(S3130=\"\",\"\",COUNTIF($S$7:S3130,\"該当２\"))","v":""},"","",{"$f":"IF(V3130=\"\",\"\",COUNTIF($V$7:V3130,\"該当３\"))","v":""}]
[2221902017,"22",219,{"v":2,"d":"02"},{"v":17,"d":"017"},"静岡県","下田市","稲梓村","堀の内",null,"","",{"$f":"IF(K3132=\"\",\"\",COUNTIF($K$7:K3132,\"ﾘｽﾄ１\"))","v":""},"","","","","","","",{"$f":"IF(S3132=\"\",\"\",COUNTIF($S$7:S3132,\"該当２\"))","v":""},"","",{"$f":"IF(V3132=\"\",\"\",COUNTIF($V$7:V3132,\"該当３\"))","v":""}]
[2221903000,"22",219,{"v":3,"d":"03"},{"v":0,"d":"000"},"静岡県","下田市","稲生沢村",null,null,"","",{"$f":"IF(K3133=\"\",\"\",COUNTIF($K$7:K3133,\"ﾘｽﾄ１\"))","v":""},"","","","","","","",{"$f":"IF(S3133=\"\",\"\",COUNTIF($S$7:S3133,\"該当２\"))","v":""},"","",{"$f":"IF(V3133=\"\",\"\",COUNTIF($V$7:V3133,\"該当３\"))","v":""}]
[2221903002,"22",219,{"v":3,"d":"03"},{"v":2,"d":"002"},"静岡県","下田市","稲生沢村","中",null,"","",{"$f":"IF(K3135=\"\",\"\",COUNTIF($K$7:K3135,\"ﾘｽﾄ１\"))","v":""},"","","","","","","",{"$f":"IF(S3135=\"\",\"\",COUNTIF($S$7:S3135,\"該当２\"))","v":""},"","",{"$f":"IF(V3135=\"\",\"\",COUNTIF($V$7:V3135,\"該当３\"))","v":""}]
[2221903003,"22",219,{"v":3,"d":"03"},{"v":3,"d":"003"},"静岡県","下田市","稲生沢村","立野",null,"","",{"$f":"IF(K3136=\"\",\"\",COUNTIF($K$7:K3136,\"ﾘｽﾄ１\"))","v":""},"","","","","","","",{"$f":"IF(S3136=\"\",\"\",COUNTIF($S$7:S3136,\"該当２\"))","v":""},"","",{"$f":"IF(V3136=\"\",\"\",COUNTIF($V$7:V3136,\"該当３\"))","v":""}]
[2221903005,"22",219,{"v":3,"d":"03"},{"v":5,"d":"005"},"静岡県","下田市","稲生沢村","蓮台寺",null,"","",{"$f":"IF(K3138=\"\",\"\",COUNTIF($K$7:K3138,\"ﾘｽﾄ１\"))","v":""},"","","","","","","",{"$f":"IF(S3138=\"\",\"\",COUNTIF($S$7:S3138,\"該当２\"))","v":""},"","",{"$f":"IF(V3138=\"\",\"\",COUNTIF($V$7:V3138,\"該当３\"))","v":""}]
[2221903006,"22",219,{"v":3,"d":"03"},{"v":6,"d":"006"},"静岡県","下田市","稲生沢村","上大沢",null,"","",{"$f":"IF(K3139=\"\",\"\",COUNTIF($K$7:K3139,\"ﾘｽﾄ１\"))","v":""},"","","","","","","",{"$f":"IF(S3139=\"\",\"\",COUNTIF($S$7:S3139,\"該当２\"))","v":""},"","",{"$f":"IF(V3139=\"\",\"\",COUNTIF($V$7:V3139,\"該当３\"))","v":""}]
[2221904000,"22",219,{"v":4,"d":"04"},{"v":0,"d":"000"},"静岡県","下田市","白浜村",null,null,"","",{"$f":"IF(K3141=\"\",\"\",COUNTIF($K$7:K3141,\"ﾘｽﾄ１\"))","v":""},"","","","","","","",{"$f":"IF(S3141=\"\",\"\",COUNTIF($S$7:S3141,\"該当２\"))","v":""},"","",{"$f":"IF(V3141=\"\",\"\",COUNTIF($V$7:V3141,\"該当３\"))","v":""}]
[2221904001,"22",219,{"v":4,"d":"04"},{"v":1,"d":"001"},"静岡県","下田市","白浜村","板戸",null,"","",{"$f":"IF(K3142=\"\",\"\",COUNTIF($K$7:K3142,\"ﾘｽﾄ１\"))","v":""},"","","","","","","",{"$f":"IF(S3142=\"\",\"\",COUNTIF($S$7:S3142,\"該当２\"))","v":""},"","",{"$f":"IF(V3142=\"\",\"\",COUNTIF($V$7:V3142,\"該当３\"))","v":""}]
[2221904003,"22",219,{"v":4,"d":"04"},{"v":3,"d":"003"},"静岡県","下田市","白浜村","原田",null,"","",{"$f":"IF(K3144=\"\",\"\",COUNTIF($K$7:K3144,\"ﾘｽﾄ１\"))","v":""},"","","","","","","",{"$f":"IF(S3144=\"\",\"\",COUNTIF($S$7:S3144,\"該当２\"))","v":""},"","",{"$f":"IF(V3144=\"\",\"\",COUNTIF($V$7:V3144,\"該当３\"))","v":""}]
[2221905000,"22",219,{"v":5,"d":"05"},{"v":0,"d":"000"},"静岡県","下田市","浜崎村",null,null,"","",{"$f":"IF(K3145=\"\",\"\",COUNTIF($K$7:K3145,\"ﾘｽﾄ１\"))","v":""},"","","","","","","",{"$f":"IF(S3145=\"\",\"\",COUNTIF($S$7:S3145,\"該当２\"))","v":""},"","",{"$f":"IF(V3145=\"\",\"\",COUNTIF($V$7:V3145,\"該当３\"))","v":""}]
[2221905002,"22",219,{"v":5,"d":"05"},{"v":2,"d":"002"},"静岡県","下田市","浜崎村","柿崎",null,{"$f":"IF(AND($C3147>0,$H3147=\"\"),\"ﾘｽﾄ１\",\"\")","v":""},{"$f":"IF(K3147=\"ﾘｽﾄ１\",G3147,\"\")","v":""},{"$f":"IF(K3147=\"\",\"\",COUNTIF($K$7:K3147,\"ﾘｽﾄ１\"))","v":""},{"$f":"IF(AND(D3147=0,E3147>0),\"同一区\",\"\")","v":""},{"$f":"IF(AND(EXACT($K$2,G3147),H3147>0),\"該当１\",\"\")","v":""},"","","",{"$f":"IF(AND(Q3147=\"ﾘｽﾄ2\",OR(I3147=0,AND(N3147=\"同一区\",E3147=1))),\"該当２\",\"\")","v":""},"",{"$f":"IF(S3147=\"\",\"\",COUNTIF($S$7:S3147,\"該当２\"))","v":""},"","",{"$f":"IF(V3147=\"\",\"\",COUNTIF($V$7:V3147,\"該当３\"))","v":""}]
[2221905003,"22",219,{"v":5,"d":"05"},{"v":3,"d":"003"},"静岡県","下田市","浜崎村","外浦",null,"","",{"$f":"IF(K3148=\"\",\"\",COUNTIF($K$7:K3148,\"ﾘｽﾄ１\"))","v":""},"","","","","","","",{"$f":"IF(S3148=\"\",\"\",COUNTIF($S$7:S3148,\"該当２\"))","v":""},"","",{"$f":"IF(V3148=\"\",\"\",COUNTIF($V$7:V3148,\"該当３\"))","v":""}]
[2221906001,"22",219,{"v":6,"d":"06"},{"v":1,"d":"001"},"静岡県","下田市","朝日村","大賀茂",null,"","",{"$f":"IF(K3150=\"\",\"\",COUNTIF($K$7:K3150,\"ﾘｽﾄ１\"))","v":""},"","","","","","","",{"$f":"IF(S3150=\"\",\"\",COUNTIF($S$7:S3150,\"該当２\"))","v":""},"","",{"$f":"IF(V3150=\"\",\"\",COUNTIF($V$7:V3150,\"該当３\"))","v":""}]
[2221906002,"22",219,{"v":6,"d":"06"},{"v":2,"d":"002"},"静岡県","下田市","朝日村","吉佐美",null,"","",{"$f":"IF(K3151=\"\",\"\",COUNTIF($K$7:K3151,\"ﾘｽﾄ１\"))","v":""},"","","","","","","",{"$f":"IF(S3151=\"\",\"\",COUNTIF($S$7:S3151,\"該当２\"))","v":""},"","",{"$f":"IF(V3151=\"\",\"\",COUNTIF($V$7:V3151,\"該当３\"))","v":""}]
[2222000000,"22",220,{"v":0,"d":"00"},{"v":0,"d":"000"},"静岡県","裾野市",{"$nulls":3},"ﾘｽﾄ１","裾野市",{"$f":"IF(K3153=\"\",\"\",COUNTIF($K$7:K3153,\"ﾘｽﾄ１\"))","v":27},"","","","","","","",{"$f":"IF(S3153=\"\",\"\",COUNTIF($S$7:S3153,\"該当２\"))","v":""},"","",{"$f":"IF(V3153=\"\",\"\",COUNTIF($V$7:V3153,\"該当３\"))","v":""}]
[2222001000,"22",220,{"v":1,"d":"01"},{"v":0,"d":"000"},"静岡県","裾野市","小泉村",null,null,"","",{"$f":"IF(K3154=\"\",\"\",COUNTIF($K$7:K3154,\"ﾘｽﾄ１\"))","v":""},"","","","","","","",{"$f":"IF(S3154=\"\",\"\",COUNTIF($S$7:S3154,\"該当２\"))","v":""},"","",{"$f":"IF(V3154=\"\",\"\",COUNTIF($V$7:V3154,\"該当３\"))","v":""}]
[2222001002,"22",220,{"v":1,"d":"01"},{"v":2,"d":"002"},"静岡県","裾野市","小泉村","佐野一",null,"","",{"$f":"IF(K3156=\"\",\"\",COUNTIF($K$7:K3156,\"ﾘｽﾄ１\"))","v":""},"","","","","","","",{"$f":"IF(S3156=\"\",\"\",COUNTIF($S$7:S3156,\"該当２\"))","v":""},"","",{"$f":"IF(V3156=\"\",\"\",COUNTIF($V$7:V3156,\"該当３\"))","v":""}]
[2222001003,"22",220,{"v":1,"d":"01"},{"v":3,"d":"003"},"静岡県","裾野市","小泉村","佐野二",null,"","",{"$f":"IF(K3157=\"\",\"\",COUNTIF($K$7:K3157,\"ﾘｽﾄ１\"))","v":""},"","","","","","","",{"$f":"IF(S3157=\"\",\"\",COUNTIF($S$7:S3157,\"該当２\"))","v":""},"","",{"$f":"IF(V3157=\"\",\"\",COUNTIF($V$7:V3157,\"該当３\"))","v":""}]
[2222001005,"22",220,{"v":1,"d":"01"},{"v":5,"d":"005"},"静岡県","裾野市","小泉村","二本松二",null,"","",{"$f":"IF(K3159=\"\",\"\",COUNTIF($K$7:K3159,\"ﾘｽﾄ１\"))","v":""},"","","","","","","",{"$f":"IF(S3159=\"\",\"\",COUNTIF($S$7:S3159,\"該当２\"))","v":""},"","",{"$f":"IF(V3159=\"\",\"\",COUNTIF($V$7:V3159,\"該当３\"))","v":""}]
[2222001006,"22",220,{"v":1,"d":"01"},{"v":6,"d":"006"},"静岡県","裾野市","小泉村","二ツ屋",null,"","",{"$f":"IF(K3160=\"\",\"\",COUNTIF($K$7:K3160,\"ﾘｽﾄ１\"))","v":""},"","","","","","","",{"$f":"IF(S3160=\"\",\"\",COUNTIF($S$7:S3160,\"該当２\"))","v":""},"","",{"$f":"IF(V3160=\"\",\"\",COUNTIF($V$7:V3160,\"該当３\"))","v":""}]
[2222001008,"22",220,{"v":1,"d":"01"},{"v":8,"d":"008"},"静岡県","裾野市","小泉村","伊豆島田",null,"","",{"$f":"IF(K3162=\"\",\"\",COUNTIF($K$7:K3162,\"ﾘｽﾄ１\"))","v":""},"","","","","","","",{"$f":"IF(S3162=\"\",\"\",COUNTIF($S$7:S3162,\"該当２\"))","v":""},"","",{"$f":"IF(V3162=\"\",\"\",COUNTIF($V$7:V3162,\"該当３\"))","v":""}]
[2222001009,"22",220,{"v":1,"d":"01"},{"v":9,"d":"009"},"静岡県","裾野市","小泉村","水窪",null,"","",{"$f":"IF(K3163=\"\",\"\",COUNTIF($K$7:K3163,\"ﾘｽﾄ１\"))","v":""},"","","","","","","",{"$f":"IF(S3163=\"\",\"\",COUNTIF($S$7:S3163,\"該当２\"))","v":""},"","",{"$f":"IF(V3163=\"\",\"\",COUNTIF($V$7:V3163,\"該当３\"))","v":""}]
[2222001011,"22",220,{"v":1,"d":"01"},{"v":11,"d":"011"},"静岡県","裾野市","小泉村","富沢二",null,"","",{"$f":"IF(K3165=\"\",\"\",COUNTIF($K$7:K3165,\"ﾘｽﾄ１\"))","v":""},"","","","","","","",{"$f":"IF(S3165=\"\",\"\",COUNTIF($S$7:S3165,\"該当２\"))","v":""},"","",{"$f":"IF(V3165=\"\",\"\",COUNTIF($V$7:V3165,\"該当３\"))","v":""}]
[2222002000,"22",220,{"v":2,"d":"02"},{"v":0,"d":"000"},"静岡県","裾野市","泉村",null,null,"","",{"$f":"IF(K3166=\"\",\"\",COUNTIF($K$7:K3166,\"ﾘｽﾄ１\"))","v":""},"","","","","","","",{"$f":"IF(S3166=\"\",\"\",COUNTIF($S$7:S3166,\"該当２\"))","v":""},"","",{"$f":"IF(V3166=\"\",\"\",COUNTIF($V$7:V3166,\"該当３\"))","v":""}]
[2222002002,"22",220,{"v":2,"d":"02"},{"v":2,"d":"002"},"静岡県","裾野市","泉村","久根西",null,"","",{"$f":"IF(K3168=\"\",\"\",COUNTIF($K$7:K3168,\"ﾘｽﾄ１\"))","v":""},"","","","","","","",{"$f":"IF(S3168=\"\",\"\",COUNTIF($S$7:S3168,\"該当２\"))","v":""},"","",{"$f":"IF(V3168=\"\",\"\",COUNTIF($V$7:V3168,\"該当３\"))","v":""}]
[2222002003,"22",220,{"v":2,"d":"02"},{"v":3,"d":"003"},"静岡県","裾野市","泉村","久根長尾",null,"","",{"$f":"IF(K3169=\"\",\"\",COUNTIF($K$7:K3169,\"ﾘｽﾄ１\"))","v":""},"","","","","","","",{"$f":"IF(S3169=\"\",\"\",COUNTIF($S$7:S3169,\"該当２\"))","v":""},"","",{"$f":"IF(V3169=\"\",\"\",COUNTIF($V$7:V3169,\"該当３\"))","v":""}]
[2222002005,"22",220,{"v":2,"d":"02"},{"v":5,"d":"005"},"静岡県","裾野市","泉村","公文名東",null,"","",{"$f":"IF(K3171=\"\",\"\",COUNTIF($K$7:K3171,\"ﾘｽﾄ１\"))","v":""},"","","","","","","",{"$f":"IF(S3171=\"\",\"\",COUNTIF($S$7:S3171,\"該当２\"))","v":""},"","",{"$f":"IF(V3171=\"\",\"\",COUNTIF($V$7:V3171,\"該当３\"))","v":""}]
[2222002006,"22",220,{"v":2,"d":"02"},{"v":6,"d":"006"},"静岡県","裾野市","泉村","公文名西",null,"","",{"$f":"IF(K3172=\"\",\"\",COUNTIF($K$7:K3172,\"ﾘｽﾄ１\"))","v":""},"","","","","","","",{"$f":"IF(S3172=\"\",\"\",COUNTIF($S$7:S3172,\"該当２\"))","v":""},"","",{"$f":"IF(V3172=\"\",\"\",COUNTIF($V$7:V3172,\"該当３\"))","v":""}]
[2222002008,"22",220,{"v":2,"d":"02"},{"v":8,"d":"008"},"静岡県","裾野市","泉村","公文名下",null,"","",{"$f":"IF(K3174=\"\",\"\",COUNTIF($K$7:K3174,\"ﾘｽﾄ１\"))","v":""},"","","","","","","",{"$f":"IF(S3174=\"\",\"\",COUNTIF($S$7:S3174,\"該当２\"))","v":""},"","",{"$f":"IF(V3174=\"\",\"\",COUNTIF($V$7:V3174,\"該当３\"))","v":""}]
[2222002009,"22",220,{"v":2,"d":"02"},{"v":9,"d":"009"},"静岡県","裾野市","泉村","中丸上",null,"","",{"$f":"IF(K3175=\"\",\"\",COUNTIF($K$7:K3175,\"ﾘｽﾄ１\"))","v":""},"","","","","","","",{"$f":"IF(S3175=\"\",\"\",COUNTIF($S$7:S3175,\"該当２\"))","v":""},"","",{"$f":"IF(V3175=\"\",\"\",COUNTIF($V$7:V3175,\"該当３\"))","v":""}]
[2222002011,"22",220,{"v":2,"d":"02"},{"v":11,"d":"011"},"静岡県","裾野市","泉村","中丸東",null,"","",{"$f":"IF(K3177=\"\",\"\",COUNTIF($K$7:K3177,\"ﾘｽﾄ１\"))","v":""},"","","","","","","",{"$f":"IF(S3177=\"\",\"\",COUNTIF($S$7:S3177,\"該当２\"))","v":""},"","",{"$f":"IF(V3177=\"\",\"\",COUNTIF($V$7:V3177,\"該当３\"))","v":""}]
[2222002012,"22",220,{"v":2,"d":"02"},{"v":12,"d":"012"},"静岡県","裾野市","泉村","中丸西",null,"","",{"$f":"IF(K3178=\"\",\"\",COUNTIF($K$7:K3178,\"ﾘｽﾄ１\"))","v":""},"","","","","","","",{"$f":"IF(S3178=\"\",\"\",COUNTIF($S$7:S3178,\"該当２\"))","v":""},"","",{"$f":"IF(V3178=\"\",\"\",COUNTIF($V$7:V3178,\"該当３\"))","v":""}]
[2222002014,"22",220,{"v":2,"d":"02"},{"v":14,"d":"014"},"静岡県","裾野市","泉村","天理町",null,"","",{"$f":"IF(K3180=\"\",\"\",COUNTIF($K$7:K3180,\"ﾘｽﾄ１\"))","v":""},"","","","","","","",{"$f":"IF(S3180=\"\",\"\",COUNTIF($S$7:S3180,\"該当２\"))","v":""},"","",{"$f":"IF(V3180=\"\",\"\",COUNTIF($V$7:V3180,\"該当３\"))","v":""}]
[2222002015,"22",220,{"v":2,"d":"02"},{"v":15,"d":"015"},"静岡県","裾野市","泉村","本茶",null,"","",{"$f":"IF(K3181=\"\",\"\",COUNTIF($K$7:K3181,\"ﾘｽﾄ１\"))","v":""},"","","","","","","",{"$f":"IF(S3181=\"\",\"\",COUNTIF($S$7:S3181,\"該当２\"))","v":""},"","",{"$f":"IF(V3181=\"\",\"\",COUNTIF($V$7:V3181,\"該当３\"))","v":""}]
[2222002017,"22",220,{"v":2,"d":"02"},{"v":17,"d":"017"},"静岡県","裾野市","泉村","峯下",null,"","",{"$f":"IF(K3183=\"\",\"\",COUNTIF($K$7:K3183,\"ﾘｽﾄ１\"))","v":""},"","","","","","","",{"$f":"IF(S3183=\"\",\"\",COUNTIF($S$7:S3183,\"該当２\"))","v":""},"","",{"$f":"IF(V3183=\"\",\"\",COUNTIF($V$7:V3183,\"該当３\"))","v":""}]
[2222002018,"22",220,{"v":2,"d":"02"},{"v":18,"d":"018"},"静岡県","裾野市","泉村","市の瀬",null,"","",{"$f":"IF(K3184=\"\",\"\",COUNTIF($K$7:K3184,\"ﾘｽﾄ１\"))","v":""},"","","","","","","",{"$f":"IF(S3184=\"\",\"\",COUNTIF($S$7:S3184,\"該当２\"))","v":""},"","",{"$f":"IF(V3184=\"\",\"\",COUNTIF($V$7:V3184,\"該当３\"))","v":""}]
[2222002020,"22",220,{"v":2,"d":"02"},{"v":20,"d":"020"},"静岡県","裾野市","泉村","麦塚下",null,"","",{"$f":"IF(K3186=\"\",\"\",COUNTIF($K$7:K3186,\"ﾘｽﾄ１\"))","v":""},"","","","","","","",{"$f":"IF(S3186=\"\",\"\",COUNTIF($S$7:S3186,\"該当２\"))","v":""},"","",{"$f":"IF(V3186=\"\",\"\",COUNTIF($V$7:V3186,\"該当３\"))","v":""}]
[2222002021,"22",220,{"v":2,"d":"02"},{"v":21,"d":"021"},"静岡県","裾野市","泉村","平松上",null,"","",{"$f":"IF(K3187=\"\",\"\",COUNTIF($K$7:K3187,\"ﾘｽﾄ１\"))","v":""},"","","","","","","",{"$f":"IF(S3187=\"\",\"\",COUNTIF($S$7:S3187,\"該当２\"))","v":""},"","",{"$f":"IF(V3187=\"\",\"\",COUNTIF($V$7:V3187,\"該当３\"))","v":""}]
[2222003000,"22",220,{"v":3,"d":"03"},{"v":0,"d":"000"},"静岡県","裾野市","富岡村（裾野市）",null,null,"","",{"$f":"IF(K3189=\"\",\"\",COUNTIF($K$7:K3189,\"ﾘｽﾄ１\"))","v":""},"","","","","","","",{"$f":"IF(S3189=\"\",\"\",COUNTIF($S$7:S3189,\"該当２\"))","v":""},"","",{"$f":"IF(V3189=\"\",\"\",COUNTIF($V$7:V3189,\"該当３\"))","v":""}]
[2222003001,"22",220,{"v":3,"d":"03"},{"v":1,"d":"001"},"静岡県","裾野市","富岡村（裾野市）","桃園",null,"","",{"$f":"IF(K3190=\"\",\"\",COUNTIF($K$7:K3190,\"ﾘｽﾄ１\"))","v":""},"","","","","","","",{"$f":"IF(S3190=\"\",\"\",COUNTIF($S$7:S3190,\"該当２\"))","v":""},"","",{"$f":"IF(V3190=\"\",\"\",COUNTIF($V$7:V3190,\"該当３\"))","v":""}]
[2222003003,"22",220,{"v":3,"d":"03"},{"v":3,"d":"003"},"静岡県","裾野市","富岡村（裾野市）","谷津",null,"","",{"$f":"IF(K3192=\"\",\"\",COUNTIF($K$7:K3192,\"ﾘｽﾄ１\"))","v":""},"","","","","","","",{"$f":"IF(S3192=\"\",\"\",COUNTIF($S$7:S3192,\"該当２\"))","v":""},"","",{"$f":"IF(V3192=\"\",\"\",COUNTIF($V$7:V3192,\"該当３\"))","v":""}]
[2222003004,"22",220,{"v":3,"d":"03"},{"v":4,"d":"004"},"静岡県","裾野市","富岡村（裾野市）","細野",null,"","",{"$f":"IF(K3193=\"\",\"\",COUNTIF($K$7:K3193,\"ﾘｽﾄ１\"))","v":""},"","","","","","","",{"$f":"IF(S3193=\"\",\"\",COUNTIF($S$7:S3193,\"該当２\"))","v":""},"","",{"$f":"IF(V3193=\"\",\"\",COUNTIF($V$7:V3193,\"該当３\"))","v":""}]
[2222003006,"22",220,{"v":3,"d":"03"},{"v":6,"d":"006"},"静岡県","裾野市","富岡村（裾野市）","平山",null,"","",{"$f":"IF(K3195=\"\",\"\",COUNTIF($K$7:K3195,\"ﾘｽﾄ１\"))","v":""},"","","","","","","",{"$f":"IF(S3195=\"\",\"\",COUNTIF($S$7:S3195,\"該当２\"))","v":""},"","",{"$f":"IF(V3195=\"\",\"\",COUNTIF($V$7:V3195,\"該当３\"))","v":""}]
[2222003007,"22",220,{"v":3,"d":"03"},{"v":7,"d":"007"},"静岡県","裾野市","富岡村（裾野市）","入谷",null,"","",{"$f":"IF(K3196=\"\",\"\",COUNTIF($K$7:K3196,\"ﾘｽﾄ１\"))","v":""},"","","","","","","",{"$f":"IF(S3196=\"\",\"\",COUNTIF($S$7:S3196,\"該当２\"))","v":""},"","",{"$f":"IF(V3196=\"\",\"\",COUNTIF($V$7:V3196,\"該当３\"))","v":""}]
[2222003009,"22",220,{"v":3,"d":"03"},{"v":9,"d":"009"},"静岡県","裾野市","富岡村（裾野市）","御宿新田",null,"","",{"$f":"IF(K3198=\"\",\"\",COUNTIF($K$7:K3198,\"ﾘｽﾄ１\"))","v":""},"","","","","","","",{"$f":"IF(S3198=\"\",\"\",COUNTIF($S$7:S3198,\"該当２\"))","v":""},"","",{"$f":"IF(V3198=\"\",\"\",COUNTIF($V$7:V3198,\"該当３\"))","v":""}]
[2222003010,"22",220,{"v":3,"d":"03"},{"v":10,"d":"010"},"静岡県","裾野市","富岡村（裾野市）","上ケ田",null,"","",{"$f":"IF(K3199=\"\",\"\",COUNTIF($K$7:K3199,\"ﾘｽﾄ１\"))","v":""},"","","","","","","",{"$f":"IF(S3199=\"\",\"\",COUNTIF($S$7:S3199,\"該当２\"))","v":""},"","",{"$f":"IF(V3199=\"\",\"\",COUNTIF($V$7:V3199,\"該当３\"))","v":""}]
[2222003012,"22",220,{"v":3,"d":"03"},{"v":12,"d":"012"},"静岡県","裾野市","富岡村（裾野市）","中村",null,"","",{"$f":"IF(K3201=\"\",\"\",COUNTIF($K$7:K3201,\"ﾘｽﾄ１\"))","v":""},"","","","","","","",{"$f":"IF(S3201=\"\",\"\",COUNTIF($S$7:S3201,\"該当２\"))","v":""},"","",{"$f":"IF(V3201=\"\",\"\",COUNTIF($V$7:V3201,\"該当３\"))","v":""}]
[2222003013,"22",220,{"v":3,"d":"03"},{"v":13,"d":"013"},"静岡県","裾野市","富岡村（裾野市）","上城",null,"","",{"$f":"IF(K3202=\"\",\"\",COUNTIF($K$7:K3202,\"ﾘｽﾄ１\"))","v":""},"","","","","","","",{"$f":"IF(S3202=\"\",\"\",COUNTIF($S$7:S3202,\"該当２\"))","v":""},"","",{"$f":"IF(V3202=\"\",\"\",COUNTIF($V$7:V3202,\"該当３\"))","v":""}]
[2222003015,"22",220,{"v":3,"d":"03"},{"v":15,"d":"015"},"静岡県","裾野市","富岡村（裾野市）","中里",null,"","",{"$f":"IF(K3204=\"\",\"\",COUNTIF($K$7:K3204,\"ﾘｽﾄ１\"))","v":""},"","","","","","","",{"$f":"IF(S3204=\"\",\"\",COUNTIF($S$7:S3204,\"該当２\"))","v":""},"","",{"$f":"IF(V3204=\"\",\"\",COUNTIF($V$7:V3204,\"該当３\"))","v":""}]
[2222003016,"22",220,{"v":3,"d":"03"},{"v":16,"d":"016"},"静岡県","裾野市","富岡村（裾野市）","金沢",null,"","",{"$f":"IF(K3205=\"\",\"\",COUNTIF($K$7:K3205,\"ﾘｽﾄ１\"))","v":""},"","","","","","","",{"$f":"IF(S3205=\"\",\"\",COUNTIF($S$7:S3205,\"該当２\"))","v":""},"","",{"$f":"IF(V3205=\"\",\"\",COUNTIF($V$7:V3205,\"該当３\"))","v":""}]
[2222003018,"22",220,{"v":3,"d":"03"},{"v":18,"d":"018"},"静岡県","裾野市","富岡村（裾野市）","今里",null,"","",{"$f":"IF(K3207=\"\",\"\",COUNTIF($K$7:K3207,\"ﾘｽﾄ１\"))","v":""},"","","","","","","",{"$f":"IF(S3207=\"\",\"\",COUNTIF($S$7:S3207,\"該当２\"))","v":""},"","",{"$f":"IF(V3207=\"\",\"\",COUNTIF($V$7:V3207,\"該当３\"))","v":""}]
[2222003019,"22",220,{"v":3,"d":"03"},{"v":19,"d":"019"},"静岡県","裾野市","富岡村（裾野市）","下和田下",null,"","",{"$f":"IF(K3208=\"\",\"\",COUNTIF($K$7:K3208,\"ﾘｽﾄ１\"))","v":""},"","","","","","","",{"$f":"IF(S3208=\"\",\"\",COUNTIF($S$7:S3208,\"該当２\"))","v":""},"","",{"$f":"IF(V3208=\"\",\"\",COUNTIF($V$7:V3208,\"該当３\"))","v":""}]
[2222004000,"22",220,{"v":4,"d":"04"},{"v":0,"d":"000"},"静岡県","裾野市","深良村",null,null,"","",{"$f":"IF(K3210=\"\",\"\",COUNTIF($K$7:K3210,\"ﾘｽﾄ１\"))","v":""},"","",{"$f":"IF(O3210=\"該当１\",G3210,\"\")","v":""},{"$f":"IF(O3210=\"該当１\",\"ﾘｽﾄ2\",\"\")","v":""},{"$f":"IF(Q3210=\"ﾘｽﾄ2\",H3210,\"\")","v":""},"",{"$f":"IF(S3210=\"該当２\",H3210,\"\")","v":""},{"$f":"IF(S3210=\"\",\"\",COUNTIF($S$7:S3210,\"該当２\"))","v":""},{"$f":"IF(AND($S$2=H3210,E3210>0,E3210<998),\"該当３\",\"\")","v":""},{"$f":"IF(V3210=\"該当３\",I3210,\"\")","v":""},{"$f":"IF(V3210=\"\",\"\",COUNTIF($V$7:V3210,\"該当３\"))","v":""}]
[2222004001,"22",220,{"v":4,"d":"04"},{"v":1,"d":"001"},"静岡県","裾野市","深良村","震橋",null,{"$f":"IF(AND($C3211>0,$H3211=\"\"),\"ﾘｽﾄ１\",\"\")","v":""},{"$f":"IF(K3211=\"ﾘｽﾄ１\",G3211,\"\")","v":""},{"$f":"IF(K3211=\"\",\"\",COUNTIF($K$7:K3211,\"ﾘｽﾄ１\"))","v":""},{"$f":"IF(AND(D3211=0,E3211>0),\"同一区\",\"\")","v":""},{"$f":"IF(AND(EXACT($K$2,G3211),H3211>0),\"該当１\",\"\")","v":""},"","","",{"$f":"IF(AND(Q3211=\"ﾘｽﾄ2\",OR(I3211=0,AND(N3211=\"同一区\",E3211=1))),\"該当２\",\"\")","v":""},"",{"$f":"IF(S3211=\"\",\"\",COUNTIF($S$7:S3211,\"該当２\"))","v":""},"","",{"$f":"IF(V3211=\"\",\"\",COUNTIF($V$7:V3211,\"該当３\"))","v":""}]
[2222004003,"22",220,{"v":4,"d":"04"},{"v":3,"d":"003"},"静岡県","裾野市","深良村","町田上",null,"","",{"$f":"IF(K3213=\"\",\"\",COUNTIF($K$7:K3213,\"ﾘｽﾄ１\"))","v":""},"","","","","","","",{"$f":"IF(S3213=\"\",\"\",COUNTIF($S$7:S3213,\"該当２\"))","v":""},"","",{"$f":"IF(V3213=\"\",\"\",COUNTIF($V$7:V3213,\"該当３\"))","v":""}]
[2222004004,"22",220,{"v":4,"d":"04"},{"v":4,"d":"004"},"静岡県","裾野市","深良村","南堀",null,"","",{"$f":"IF(K3214=\"\",\"\",COUNTIF($K$7:K3214,\"ﾘｽﾄ１\"))","v":""},"","","","","","","",{"$f":"IF(S3214=\"\",\"\",COUNTIF($S$7:S3214,\"該当２\"))","v":""},"","",{"$f":"IF(V3214=\"\",\"\",COUNTIF($V$7:V3214,\"該当３\"))","v":""}]
[2222004006,"22",220,{"v":4,"d":"04"},{"v":6,"d":"006"},"静岡県","裾野市","深良村","遠道原",null,"","",{"$f":"IF(K3216=\"\",\"\",COUNTIF($K$7:K3216,\"ﾘｽﾄ１\"))","v":""},"","","","","","","",{"$f":"IF(S3216=\"\",\"\",COUNTIF($S$7:S3216,\"該当２\"))","v":""},"","",{"$f":"IF(V3216=\"\",\"\",COUNTIF($V$7:V3216,\"該当３\"))","v":""}]
[2222004007,"22",220,{"v":4,"d":"04"},{"v":7,"d":"007"},"静岡県","裾野市","深良村","切久保",null,"","",{"$f":"IF(K3217=\"\",\"\",COUNTIF($K$7:K3217,\"ﾘｽﾄ１\"))","v":""},"","","","","","","",{"$f":"IF(S3217=\"\",\"\",COUNTIF($S$7:S3217,\"該当２\"))","v":""},"","",{"$f":"IF(V3217=\"\",\"\",COUNTIF($V$7:V3217,\"該当３\"))","v":""}]
[2222004009,"22",220,{"v":4,"d":"04"},{"v":9,"d":"009"},"静岡県","裾野市","深良村","上原上",null,"","",{"$f":"IF(K3219=\"\",\"\",COUNTIF($K$7:K3219,\"ﾘｽﾄ１\"))","v":""},"","","","","","","",{"$f":"IF(S3219=\"\",\"\",COUNTIF($S$7:S3219,\"該当２\"))","v":""},"","",{"$f":"IF(V3219=\"\",\"\",COUNTIF($V$7:V3219,\"該当３\"))","v":""}]
[2222004010,"22",220,{"v":4,"d":"04"},{"v":10,"d":"010"},"静岡県","裾野市","深良村","原",null,"","",{"$f":"IF(K3220=\"\",\"\",COUNTIF($K$7:K3220,\"ﾘｽﾄ１\"))","v":""},"","","","","","","",{"$f":"IF(S3220=\"\",\"\",COUNTIF($S$7:S3220,\"該当２\"))","v":""},"","",{"$f":"IF(V3220=\"\",\"\",COUNTIF($V$7:V3220,\"該当３\"))","v":""}]
[2222004012,"22",220,{"v":4,"d":"04"},{"v":12,"d":"012"},"静岡県","裾野市","深良村","須釜",null,"","",{"$f":"IF(K3222=\"\",\"\",COUNTIF($K$7:K3222,\"ﾘｽﾄ１\"))","v":""},"","","","","","","",{"$f":"IF(S3222=\"\",\"\",COUNTIF($S$7:S3222,\"該当２\"))","v":""},"","",{"$f":"IF(V3222=\"\",\"\",COUNTIF($V$7:V3222,\"該当３\"))","v":""}]
[2222004013,"22",220,{"v":4,"d":"04"},{"v":13,"d":"013"},"静岡県","裾野市","深良村","新田下",null,"","",{"$f":"IF(K3223=\"\",\"\",COUNTIF($K$7:K3223,\"ﾘｽﾄ１\"))","v":""},"","","","","","","",{"$f":"IF(S3223=\"\",\"\",COUNTIF($S$7:S3223,\"該当２\"))","v":""},"","",{"$f":"IF(V3223=\"\",\"\",COUNTIF($V$7:V3223,\"該当３\"))","v":""}]
[2222004015,"22",220,{"v":4,"d":"04"},{"v":15,"d":"015"},"静岡県","裾野市","深良村","前の原",null,"","",{"$f":"IF(K3225=\"\",\"\",COUNTIF($K$7:K3225,\"ﾘｽﾄ１\"))","v":""},"","","","","","","",{"$f":"IF(S3225=\"\",\"\",COUNTIF($S$7:S3225,\"該当２\"))","v":""},"","",{"$f":"IF(V3225=\"\",\"\",COUNTIF($V$7:V3225,\"該当３\"))","v":""}]
[2222004016,"22",220,{"v":4,"d":"04"},{"v":16,"d":"016"},"静岡県","裾野市","深良村","岩波",null,"","",{"$f":"IF(K3226=\"\",\"\",COUNTIF($K$7:K3226,\"ﾘｽﾄ１\"))","v":""},"","","","","","","",{"$f":"IF(S3226=\"\",\"\",COUNTIF($S$7:S3226,\"該当２\"))","v":""},"","",{"$f":"IF(V3226=\"\",\"\",COUNTIF($V$7:V3226,\"該当３\"))","v":""}]
[2222005001,"22",220,{"v":5,"d":"05"},{"v":1,"d":"001"},"静岡県","裾野市","須山村","久保",null,"","",{"$f":"IF(K3228=\"\",\"\",COUNTIF($K$7:K3228,\"ﾘｽﾄ１\"))","v":""},"","","","","","","",{"$f":"IF(S3228=\"\",\"\",COUNTIF($S$7:S3228,\"該当２\"))","v":""},"","",{"$f":"IF(V3228=\"\",\"\",COUNTIF($V$7:V3228,\"該当３\"))","v":""}]
[2222005002,"22",220,{"v":5,"d":"05"},{"v":2,"d":"002"},"静岡県","裾野市","須山村","馬場",null,"","",{"$f":"IF(K3229=\"\",\"\",COUNTIF($K$7:K3229,\"ﾘｽﾄ１\"))","v":""},"","","","","","","",{"$f":"IF(S3229=\"\",\"\",COUNTIF($S$7:S3229,\"該当２\"))","v":""},"","",{"$f":"IF(V3229=\"\",\"\",COUNTIF($V$7:V3229,\"該当３\"))","v":""}]
[2222005004,"22",220,{"v":5,"d":"05"},{"v":4,"d":"004"},"静岡県","裾野市","須山村","坂上",null,"","",{"$f":"IF(K3231=\"\",\"\",COUNTIF($K$7:K3231,\"ﾘｽﾄ１\"))","v":""},"","","","","","","",{"$f":"IF(S3231=\"\",\"\",COUNTIF($S$7:S3231,\"該当２\"))","v":""},"","",{"$f":"IF(V3231=\"\",\"\",COUNTIF($V$7:V3231,\"該当３\"))","v":""}]
[2222005005,"22",220,{"v":5,"d":"05"},{"v":5,"d":"005"},"静岡県","裾野市","須山村","中村",null,"","",{"$f":"IF(K3232=\"\",\"\",COUNTIF($K$7:K3232,\"ﾘｽﾄ１\"))","v":""},"","","","","","","",{"$f":"IF(S3232=\"\",\"\",COUNTIF($S$7:S3232,\"該当２\"))","v":""},"","",{"$f":"IF(V3232=\"\",\"\",COUNTIF($V$7:V3232,\"該当３\"))","v":""}]
[2222005007,"22",220,{"v":5,"d":"05"},{"v":7,"d":"007"},"静岡県","裾野市","須山村","原",null,"","",{"$f":"IF(K3234=\"\",\"\",COUNTIF($K$7:K3234,\"ﾘｽﾄ１\"))","v":""},"","","","","","","",{"$f":"IF(S3234=\"\",\"\",COUNTIF($S$7:S3234,\"該当２\"))","v":""},"","",{"$f":"IF(V3234=\"\",\"\",COUNTIF($V$7:V3234,\"該当３\"))","v":""}]
[2222005008,"22",220,{"v":5,"d":"05"},{"v":8,"d":"008"},"静岡県","裾野市","須山村","新井",null,"","",{"$f":"IF(K3235=\"\",\"\",COUNTIF($K$7:K3235,\"ﾘｽﾄ１\"))","v":""},"","","","","","","",{"$f":"IF(S3235=\"\",\"\",COUNTIF($S$7:S3235,\"該当２\"))","v":""},"","",{"$f":"IF(V3235=\"\",\"\",COUNTIF($V$7:V3235,\"該当３\"))","v":""}]
[2222005010,"22",220,{"v":5,"d":"05"},{"v":10,"d":"010"},"静岡県","裾野市","須山村","十里木",null,"","",{"$f":"IF(K3237=\"\",\"\",COUNTIF($K$7:K3237,\"ﾘｽﾄ１\"))","v":""},"","","","","","","",{"$f":"IF(S3237=\"\",\"\",COUNTIF($S$7:S3237,\"該当２\"))","v":""},"","",{"$f":"IF(V3237=\"\",\"\",COUNTIF($V$7:V3237,\"該当３\"))","v":""}]
[2222100000,"22",221,{"v":0,"d":"00"},{"v":0,"d":"000"},"静岡県","湖西市",{"$nulls":3},"ﾘｽﾄ１","湖西市",{"$f":"IF(K3238=\"\",\"\",COUNTIF($K$7:K3238,\"ﾘｽﾄ１\"))","v":28},"","","","","","","",{"$f":"IF(S3238=\"\",\"\",COUNTIF($S$7:S3238,\"該当２\"))","v":""},"","",{"$f":"IF(V3238=\"\",\"\",COUNTIF($V$7:V3238,\"該当３\"))","v":""}]
[2222101001,"22",221,{"v":1,"d":"01"},{"v":1,"d":"001"},"静岡県","湖西市","鷲津町","坊瀬",null,"","",{"$f":"IF(K3240=\"\",\"\",COUNTIF($K$7:K3240,\"ﾘｽﾄ１\"))","v":""},"","","","","","","",{"$f":"IF(S3240=\"\",\"\",COUNTIF($S$7:S3240,\"該当２\"))","v":""},"","",{"$f":"IF(V3240=\"\",\"\",COUNTIF($V$7:V3240,\"該当３\"))","v":""}]
[2222101002,"22",221,{"v":1,"d":"01"},{"v":2,"d":"002"},"静岡県","湖西市","鷲津町","市場",null,"","",{"$f":"IF(K3241=\"\",\"\",COUNTIF($K$7:K3241,\"ﾘｽﾄ１\"))","v":""},"","","","","","","",{"$f":"IF(S3241=\"\",\"\",COUNTIF($S$7:S3241,\"該当２\"))","v":""},"","",{"$f":"IF(V3241=\"\",\"\",COUNTIF($V$7:V3241,\"該当３\"))","v":""}]
[2222101004,"22",221,{"v":1,"d":"01"},{"v":4,"d":"004"},"静岡県","湖西市","鷲津町","山口",null,"","",{"$f":"IF(K3243=\"\",\"\",COUNTIF($K$7:K3243,\"ﾘｽﾄ１\"))","v":""},"","","","","","","",{"$f":"IF(S3243=\"\",\"\",COUNTIF($S$7:S3243,\"該当２\"))","v":""},"","",{"$f":"IF(V3243=\"\",\"\",COUNTIF($V$7:V3243,\"該当３\"))","v":""}]
[2222101005,"22",221,{"v":1,"d":"01"},{"v":5,"d":"005"},"静岡県","湖西市","鷲津町","古見",null,"","",{"$f":"IF(K3244=\"\",\"\",COUNTIF($K$7:K3244,\"ﾘｽﾄ１\"))","v":""},"","","","","","","",{"$f":"IF(S3244=\"\",\"\",COUNTIF($S$7:S3244,\"該当２\"))","v":""},"","",{"$f":"IF(V3244=\"\",\"\",COUNTIF($V$7:V3244,\"該当３\"))","v":""}]
[2222101007,"22",221,{"v":1,"d":"01"},{"v":7,"d":"007"},"静岡県","湖西市","鷲津町","河原",null,"","",{"$f":"IF(K3246=\"\",\"\",COUNTIF($K$7:K3246,\"ﾘｽﾄ１\"))","v":""},"","","","","","","",{"$f":"IF(S3246=\"\",\"\",COUNTIF($S$7:S3246,\"該当２\"))","v":""},"","",{"$f":"IF(V3246=\"\",\"\",COUNTIF($V$7:V3246,\"該当３\"))","v":""}]
[2222101008,"22",221,{"v":1,"d":"01"},{"v":8,"d":"008"},"静岡県","湖西市","鷲津町","鷲津",null,"","",{"$f":"IF(K3247=\"\",\"\",COUNTIF($K$7:K3247,\"ﾘｽﾄ１\"))","v":""},"","","","","","","",{"$f":"IF(S3247=\"\",\"\",COUNTIF($S$7:S3247,\"該当２\"))","v":""},"","",{"$f":"IF(V3247=\"\",\"\",COUNTIF($V$7:V3247,\"該当３\"))","v":""}]
[2222102000,"22",221,{"v":2,"d":"02"},{"v":0,"d":"000"},"静岡県","湖西市","白須賀町",null,null,"","",{"$f":"IF(K3249=\"\",\"\",COUNTIF($K$7:K3249,\"ﾘｽﾄ１\"))","v":""},"","","","","","","",{"$f":"IF(S3249=\"\",\"\",COUNTIF($S$7:S3249,\"該当２\"))","v":""},"","",{"$f":"IF(V3249=\"\",\"\",COUNTIF($V$7:V3249,\"該当３\"))","v":""}]
[2222102001,"22",221,{"v":2,"d":"02"},{"v":1,"d":"001"},"静岡県","湖西市","白須賀町","新町",null,"","",{"$f":"IF(K3250=\"\",\"\",COUNTIF($K$7:K3250,\"ﾘｽﾄ１\"))","v":""},"","","","","","","",{"$f":"IF(S3250=\"\",\"\",COUNTIF($S$7:S3250,\"該当２\"))","v":""},"","",{"$f":"IF(V3250=\"\",\"\",COUNTIF($V$7:V3250,\"該当３\"))","v":""}]
[2222102003,"22",221,{"v":2,"d":"02"},{"v":3,"d":"003"},"静岡県","湖西市","白須賀町","元町２",null,"","",{"$f":"IF(K3252=\"\",\"\",COUNTIF($K$7:K3252,\"ﾘｽﾄ１\"))","v":""},"","","","","","","",{"$f":"IF(S3252=\"\",\"\",COUNTIF($S$7:S3252,\"該当２\"))","v":""},"","",{"$f":"IF(V3252=\"\",\"\",COUNTIF($V$7:V3252,\"該当３\"))","v":""}]
[2222102004,"22",221,{"v":2,"d":"02"},{"v":4,"d":"004"},"静岡県","湖西市","白須賀町","元町３",null,"","",{"$f":"IF(K3253=\"\",\"\",COUNTIF($K$7:K3253,\"ﾘｽﾄ１\"))","v":""},"","","","","","","",{"$f":"IF(S3253=\"\",\"\",COUNTIF($S$7:S3253,\"該当２\"))","v":""},"","",{"$f":"IF(V3253=\"\",\"\",COUNTIF($V$7:V3253,\"該当３\"))","v":""}]
[2222102006,"22",221,{"v":2,"d":"02"},{"v":6,"d":"006"},"静岡県","湖西市","白須賀町","東町１",null,"","",{"$f":"IF(K3255=\"\",\"\",COUNTIF($K$7:K3255,\"ﾘｽﾄ１\"))","v":""},"","","","","","","",{"$f":"IF(S3255=\"\",\"\",COUNTIF($S$7:S3255,\"該当２\"))","v":""},"","",{"$f":"IF(V3255=\"\",\"\",COUNTIF($V$7:V3255,\"該当３\"))","v":""}]
[2222102007,"22",221,{"v":2,"d":"02"},{"v":7,"d":"007"},"静岡県","湖西市","白須賀町","東町２",null,"","",{"$f":"IF(K3256=\"\",\"\",COUNTIF($K$7:K3256,\"ﾘｽﾄ１\"))","v":""},"","","","","","","",{"$f":"IF(S3256=\"\",\"\",COUNTIF($S$7:S3256,\"該当２\"))","v":""},"","",{"$f":"IF(V3256=\"\",\"\",COUNTIF($V$7:V3256,\"該当３\"))","v":""}]
[2222102009,"22",221,{"v":2,"d":"02"},{"v":9,"d":"009"},"静岡県","湖西市","白須賀町","裏町",null,"","",{"$f":"IF(K3258=\"\",\"\",COUNTIF($K$7:K3258,\"ﾘｽﾄ１\"))","v":""},"","","","","","","",{"$f":"IF(S3258=\"\",\"\",COUNTIF($S$7:S3258,\"該当２\"))","v":""},"","",{"$f":"IF(V3258=\"\",\"\",COUNTIF($V$7:V3258,\"該当３\"))","v":""}]
[2222102010,"22",221,{"v":2,"d":"02"},{"v":10,"d":"010"},"静岡県","湖西市","白須賀町","橋町",null,"","",{"$f":"IF(K3259=\"\",\"\",COUNTIF($K$7:K3259,\"ﾘｽﾄ１\"))","v":""},"","","","","","","",{"$f":"IF(S3259=\"\",\"\",COUNTIF($S$7:S3259,\"該当２\"))","v":""},"","",{"$f":"IF(V3259=\"\",\"\",COUNTIF($V$7:V3259,\"該当３\"))","v":""}]
[2222102012,"22",221,{"v":2,"d":"02"},{"v":12,"d":"012"},"静岡県","湖西市","白須賀町","仲町２",null,"","",{"$f":"IF(K3261=\"\",\"\",COUNTIF($K$7:K3261,\"ﾘｽﾄ１\"))","v":""},"","","","","","","",{"$f":"IF(S3261=\"\",\"\",COUNTIF($S$7:S3261,\"該当２\"))","v":""},"","",{"$f":"IF(V3261=\"\",\"\",COUNTIF($V$7:V3261,\"該当３\"))","v":""}]
[2222102013,"22",221,{"v":2,"d":"02"},{"v":13,"d":"013"},"静岡県","湖西市","白須賀町","仲町３",null,"","",{"$f":"IF(K3262=\"\",\"\",COUNTIF($K$7:K3262,\"ﾘｽﾄ１\"))","v":""},"","","","","","","",{"$f":"IF(S3262=\"\",\"\",COUNTIF($S$7:S3262,\"該当２\"))","v":""},"","",{"$f":"IF(V3262=\"\",\"\",COUNTIF($V$7:V3262,\"該当３\"))","v":""}]
[2222102015,"22",221,{"v":2,"d":"02"},{"v":15,"d":"015"},"静岡県","湖西市","白須賀町","西町",null,"","",{"$f":"IF(K3264=\"\",\"\",COUNTIF($K$7:K3264,\"ﾘｽﾄ１\"))","v":""},"","","","","","","",{"$f":"IF(S3264=\"\",\"\",COUNTIF($S$7:S3264,\"該当２\"))","v":""},"","",{"$f":"IF(V3264=\"\",\"\",COUNTIF($V$7:V3264,\"該当３\"))","v":""}]
[2222102016,"22",221,{"v":2,"d":"02"},{"v":16,"d":"016"},"静岡県","湖西市","白須賀町","笠子",null,"","",{"$f":"IF(K3265=\"\",\"\",COUNTIF($K$7:K3265,\"ﾘｽﾄ１\"))","v":""},"","","","","","","",{"$f":"IF(S3265=\"\",\"\",COUNTIF($S$7:S3265,\"該当２\"))","v":""},"","",{"$f":"IF(V3265=\"\",\"\",COUNTIF($V$7:V3265,\"該当３\"))","v":""}]
[2222102018,"22",221,{"v":2,"d":"02"},{"v":18,"d":"018"},"静岡県","湖西市","白須賀町","長谷１",null,"","",{"$f":"IF(K3267=\"\",\"\",COUNTIF($K$7:K3267,\"ﾘｽﾄ１\"))","v":""},"","","","","","","",{"$f":"IF(S3267=\"\",\"\",COUNTIF($S$7:S3267,\"該当２\"))","v":""},"","",{"$f":"IF(V3267=\"\",\"\",COUNTIF($V$7:V3267,\"該当３\"))","v":""}]
[2222102019,"22",221,{"v":2,"d":"02"},{"v":19,"d":"019"},"静岡県","湖西市","白須賀町","長谷２",null,"","",{"$f":"IF(K3268=\"\",\"\",COUNTIF($K$7:K3268,\"ﾘｽﾄ１\"))","v":""},"","","","","","","",{"$f":"IF(S3268=\"\",\"\",COUNTIF($S$7:S3268,\"該当２\"))","v":""},"","",{"$f":"IF(V3268=\"\",\"\",COUNTIF($V$7:V3268,\"該当３\"))","v":""}]
[2222102021,"22",221,{"v":2,"d":"02"},{"v":21,"d":"021"},"静岡県","湖西市","白須賀町","西長谷",null,"","",{"$f":"IF(K3270=\"\",\"\",COUNTIF($K$7:K3270,\"ﾘｽﾄ１\"))","v":""},"","","","","","","",{"$f":"IF(S3270=\"\",\"\",COUNTIF($S$7:S3270,\"該当２\"))","v":""},"","",{"$f":"IF(V3270=\"\",\"\",COUNTIF($V$7:V3270,\"該当３\"))","v":""}]
[2222102022,"22",221,{"v":2,"d":"02"},{"v":22,"d":"022"},"静岡県","湖西市","白須賀町","境宿１",null,"","",{"$f":"IF(K3271=\"\",\"\",COUNTIF($K$7:K3271,\"ﾘｽﾄ１\"))","v":""},"","","","","","","",{"$f":"IF(S3271=\"\",\"\",COUNTIF($S$7:S3271,\"該当２\"))","v":""},"","",{"$f":"IF(V3271=\"\",\"\",COUNTIF($V$7:V3271,\"該当３\"))","v":""}]
[2222102024,"22",221,{"v":2,"d":"02"},{"v":24,"d":"024"},"静岡県","湖西市","白須賀町","境川",null,"","",{"$f":"IF(K3273=\"\",\"\",COUNTIF($K$7:K3273,\"ﾘｽﾄ１\"))","v":""},"","","","","","","",{"$f":"IF(S3273=\"\",\"\",COUNTIF($S$7:S3273,\"該当２\"))","v":""},"","",{"$f":"IF(V3273=\"\",\"\",COUNTIF($V$7:V3273,\"該当３\"))","v":""}]
[2222103000,"22",221,{"v":3,"d":"03"},{"v":0,"d":"000"},"静岡県","湖西市","新所村",null,null,"","",{"$f":"IF(K3274=\"\",\"\",COUNTIF($K$7:K3274,\"ﾘｽﾄ１\"))","v":""},"","",{"$f":"IF(O3274=\"該当１\",G3274,\"\")","v":""},{"$f":"IF(O3274=\"該当１\",\"ﾘｽﾄ2\",\"\")","v":""},{"$f":"IF(Q3274=\"ﾘｽﾄ2\",H3274,\"\")","v":""},"",{"$f":"IF(S3274=\"該当２\",H3274,\"\")","v":""},{"$f":"IF(S3274=\"\",\"\",COUNTIF($S$7:S3274,\"該当２\"))","v":""},{"$f":"IF(AND($S$2=H3274,E3274>0,E3274<998),\"該当３\",\"\")","v":""},{"$f":"IF(V3274=\"該当３\",I3274,\"\")","v":""},{"$f":"IF(V3274=\"\",\"\",COUNTIF($V$7:V3274,\"該当３\"))","v":""}]
[2222103002,"22",221,{"v":3,"d":"03"},{"v":2,"d":"002"},"静岡県","湖西市","新所村","中部",null,"","",{"$f":"IF(K3276=\"\",\"\",COUNTIF($K$7:K3276,\"ﾘｽﾄ１\"))","v":""},"","","","","","","",{"$f":"IF(S3276=\"\",\"\",COUNTIF($S$7:S3276,\"該当２\"))","v":""},"","",{"$f":"IF(V3276=\"\",\"\",COUNTIF($V$7:V3276,\"該当３\"))","v":""}]
[2222103003,"22",221,{"v":3,"d":"03"},{"v":3,"d":"003"},"静岡県","湖西市","新所村","西部",null,"","",{"$f":"IF(K3277=\"\",\"\",COUNTIF($K$7:K3277,\"ﾘｽﾄ１\"))","v":""},"","","","","","","",{"$f":"IF(S3277=\"\",\"\",COUNTIF($S$7:S3277,\"該当２\"))","v":""},"","",{"$f":"IF(V3277=\"\",\"\",COUNTIF($V$7:V3277,\"該当３\"))","v":""}]
[2222103005,"22",221,{"v":3,"d":"03"},{"v":5,"d":"005"},"静岡県","湖西市","新所村","岡崎",null,"","",{"$f":"IF(K3279=\"\",\"\",COUNTIF($K$7:K3279,\"ﾘｽﾄ１\"))","v":""},"","","","","","","",{"$f":"IF(S3279=\"\",\"\",COUNTIF($S$7:S3279,\"該当２\"))","v":""},"","",{"$f":"IF(V3279=\"\",\"\",COUNTIF($V$7:V3279,\"該当３\"))","v":""}]
[2222103006,"22",221,{"v":3,"d":"03"},{"v":6,"d":"006"},"静岡県","湖西市","新所村","大森",null,"","",{"$f":"IF(K3280=\"\",\"\",COUNTIF($K$7:K3280,\"ﾘｽﾄ１\"))","v":""},"","","","","","","",{"$f":"IF(S3280=\"\",\"\",COUNTIF($S$7:S3280,\"該当２\"))","v":""},"","",{"$f":"IF(V3280=\"\",\"\",COUNTIF($V$7:V3280,\"該当３\"))","v":""}]
[2222103008,"22",221,{"v":3,"d":"03"},{"v":8,"d":"008"},"静岡県","湖西市","新所村","南上の原",null,"","",{"$f":"IF(K3282=\"\",\"\",COUNTIF($K$7:K3282,\"ﾘｽﾄ１\"))","v":""},"","","","","","","",{"$f":"IF(S3282=\"\",\"\",COUNTIF($S$7:S3282,\"該当２\"))","v":""},"","",{"$f":"IF(V3282=\"\",\"\",COUNTIF($V$7:V3282,\"該当３\"))","v":""}]
[2222103009,"22",221,{"v":3,"d":"03"},{"v":9,"d":"009"},"静岡県","湖西市","新所村","梅田",null,"","",{"$f":"IF(K3283=\"\",\"\",COUNTIF($K$7:K3283,\"ﾘｽﾄ１\"))","v":""},"","","","","","","",{"$f":"IF(S3283=\"\",\"\",COUNTIF($S$7:S3283,\"該当２\"))","v":""},"","",{"$f":"IF(V3283=\"\",\"\",COUNTIF($V$7:V3283,\"該当３\"))","v":""}]
[2222103011,"22",221,{"v":3,"d":"03"},{"v":11,"d":"011"},"静岡県","湖西市","新所村","板屋",null,"","",{"$f":"IF(K3285=\"\",\"\",COUNTIF($K$7:K3285,\"ﾘｽﾄ１\"))","v":""},"","","","","","","",{"$f":"IF(S3285=\"\",\"\",COUNTIF($S$7:S3285,\"該当２\"))","v":""},"","",{"$f":"IF(V3285=\"\",\"\",COUNTIF($V$7:V3285,\"該当３\"))","v":""}]
[2222104000,"22",221,{"v":4,"d":"04"},{"v":0,"d":"000"},"静岡県","湖西市","入出村",null,null,"","",{"$f":"IF(K3286=\"\",\"\",COUNTIF($K$7:K3286,\"ﾘｽﾄ１\"))","v":""},"","","","","","","",{"$f":"IF(S3286=\"\",\"\",COUNTIF($S$7:S3286,\"該当２\"))","v":""},"","",{"$f":"IF(V3286=\"\",\"\",COUNTIF($V$7:V3286,\"該当３\"))","v":""}]
[2222104002,"22",221,{"v":4,"d":"04"},{"v":2,"d":"002"},"静岡県","湖西市","入出村","第２組",null,"","",{"$f":"IF(K3288=\"\",\"\",COUNTIF($K$7:K3288,\"ﾘｽﾄ１\"))","v":""},"","","","","","","",{"$f":"IF(S3288=\"\",\"\",COUNTIF($S$7:S3288,\"該当２\"))","v":""},"","",{"$f":"IF(V3288=\"\",\"\",COUNTIF($V$7:V3288,\"該当３\"))","v":""}]
[2222104003,"22",221,{"v":4,"d":"04"},{"v":3,"d":"003"},"静岡県","湖西市","入出村","第３組",null,"","",{"$f":"IF(K3289=\"\",\"\",COUNTIF($K$7:K3289,\"ﾘｽﾄ１\"))","v":""},"","","","","","","",{"$f":"IF(S3289=\"\",\"\",COUNTIF($S$7:S3289,\"該当２\"))","v":""},"","",{"$f":"IF(V3289=\"\",\"\",COUNTIF($V$7:V3289,\"該当３\"))","v":""}]
[2222104005,"22",221,{"v":4,"d":"04"},{"v":5,"d":"005"},"静岡県","湖西市","入出村","第５組",null,"","",{"$f":"IF(K3291=\"\",\"\",COUNTIF($K$7:K3291,\"ﾘｽﾄ１\"))","v":""},"","","","","","","",{"$f":"IF(S3291=\"\",\"\",COUNTIF($S$7:S3291,\"該当２\"))","v":""},"","",{"$f":"IF(V3291=\"\",\"\",COUNTIF($V$7:V3291,\"該当３\"))","v":""}]
[2222104006,"22",221,{"v":4,"d":"04"},{"v":6,"d":"006"},"静岡県","湖西市","入出村","第６組",null,"","",{"$f":"IF(K3292=\"\",\"\",COUNTIF($K$7:K3292,\"ﾘｽﾄ１\"))","v":""},"","","","","","","",{"$f":"IF(S3292=\"\",\"\",COUNTIF($S$7:S3292,\"該当２\"))","v":""},"","",{"$f":"IF(V3292=\"\",\"\",COUNTIF($V$7:V3292,\"該当３\"))","v":""}]
[2222104008,"22",221,{"v":4,"d":"04"},{"v":8,"d":"008"},"静岡県","湖西市","入出村","第８組",null,"","",{"$f":"IF(K3294=\"\",\"\",COUNTIF($K$7:K3294,\"ﾘｽﾄ１\"))","v":""},"","","","","","","",{"$f":"IF(S3294=\"\",\"\",COUNTIF($S$7:S3294,\"該当２\"))","v":""},"","",{"$f":"IF(V3294=\"\",\"\",COUNTIF($V$7:V3294,\"該当３\"))","v":""}]
[2222104009,"22",221,{"v":4,"d":"04"},{"v":9,"d":"009"},"静岡県","湖西市","入出村","第９組",null,"","",{"$f":"IF(K3295=\"\",\"\",COUNTIF($K$7:K3295,\"ﾘｽﾄ１\"))","v":""},"","","","","","","",{"$f":"IF(S3295=\"\",\"\",COUNTIF($S$7:S3295,\"該当２\"))","v":""},"","",{"$f":"IF(V3295=\"\",\"\",COUNTIF($V$7:V3295,\"該当３\"))","v":""}]
[2222104011,"22",221,{"v":4,"d":"04"},{"v":11,"d":"011"},"静岡県","湖西市","入出村","第１１組",null,"","",{"$f":"IF(K3297=\"\",\"\",COUNTIF($K$7:K3297,\"ﾘｽﾄ１\"))","v":""},"","","","","","","",{"$f":"IF(S3297=\"\",\"\",COUNTIF($S$7:S3297,\"該当２\"))","v":""},"","",{"$f":"IF(V3297=\"\",\"\",COUNTIF($V$7:V3297,\"該当３\"))","v":""}]
[2222104012,"22",221,{"v":4,"d":"04"},{"v":12,"d":"012"},"静岡県","湖西市","入出村","第１２組",null,"","",{"$f":"IF(K3298=\"\",\"\",COUNTIF($K$7:K3298,\"ﾘｽﾄ１\"))","v":""},"","","","","","","",{"$f":"IF(S3298=\"\",\"\",COUNTIF($S$7:S3298,\"該当２\"))","v":""},"","",{"$f":"IF(V3298=\"\",\"\",COUNTIF($V$7:V3298,\"該当３\"))","v":""}]
[2222105001,"22",221,{"v":5,"d":"05"},{"v":1,"d":"001"},"静岡県","湖西市","知波田村","神座",null,"","",{"$f":"IF(K3300=\"\",\"\",COUNTIF($K$7:K3300,\"ﾘｽﾄ１\"))","v":""},"","","","","","","",{"$f":"IF(S3300=\"\",\"\",COUNTIF($S$7:S3300,\"該当２\"))","v":""},"","",{"$f":"IF(V3300=\"\",\"\",COUNTIF($V$7:V3300,\"該当３\"))","v":""}]
[2222105002,"22",221,{"v":5,"d":"05"},{"v":2,"d":"002"},"静岡県","湖西市","知波田村","太田",null,"","",{"$f":"IF(K3301=\"\",\"\",COUNTIF($K$7:K3301,\"ﾘｽﾄ１\"))","v":""},"","","","","","","",{"$f":"IF(S3301=\"\",\"\",COUNTIF($S$7:S3301,\"該当２\"))","v":""},"","",{"$f":"IF(V3301=\"\",\"\",COUNTIF($V$7:V3301,\"該当３\"))","v":""}]
[2222105004,"22",221,{"v":5,"d":"05"},{"v":4,"d":"004"},"静岡県","湖西市","知波田村","大知波",null,"","",{"$f":"IF(K3303=\"\",\"\",COUNTIF($K$7:K3303,\"ﾘｽﾄ１\"))","v":""},"","","","","","","",{"$f":"IF(S3303=\"\",\"\",COUNTIF($S$7:S3303,\"該当２\"))","v":""},"","",{"$f":"IF(V3303=\"\",\"\",COUNTIF($V$7:V3303,\"該当３\"))","v":""}]
[2222105005,"22",221,{"v":5,"d":"05"},{"v":5,"d":"005"},"静岡県","湖西市","知波田村","利木",null,"","",{"$f":"IF(K3304=\"\",\"\",COUNTIF($K$7:K3304,\"ﾘｽﾄ１\"))","v":""},"","","","","","","",{"$f":"IF(S3304=\"\",\"\",COUNTIF($S$7:S3304,\"該当２\"))","v":""},"","",{"$f":"IF(V3304=\"\",\"\",COUNTIF($V$7:V3304,\"該当３\"))","v":""}]
[2222106000,"22",221,{"v":6,"d":"06"},{"v":0,"d":"000"},"静岡県","湖西市","新居町",null,null,"","",{"$f":"IF(K3306=\"\",\"\",COUNTIF($K$7:K3306,\"ﾘｽﾄ１\"))","v":""},"","","","","","","",{"$f":"IF(S3306=\"\",\"\",COUNTIF($S$7:S3306,\"該当２\"))","v":""},"","",{"$f":"IF(V3306=\"\",\"\",COUNTIF($V$7:V3306,\"該当３\"))","v":""}]
[2222106001,"22",221,{"v":6,"d":"06"},{"v":1,"d":"001"},"静岡県","湖西市","新居町","栄町",null,"","",{"$f":"IF(K3307=\"\",\"\",COUNTIF($K$7:K3307,\"ﾘｽﾄ１\"))","v":""},"","","","","","","",{"$f":"IF(S3307=\"\",\"\",COUNTIF($S$7:S3307,\"該当２\"))","v":""},"","",{"$f":"IF(V3307=\"\",\"\",COUNTIF($V$7:V3307,\"該当３\"))","v":""}]
[2222106003,"22",221,{"v":6,"d":"06"},{"v":3,"d":"003"},"静岡県","湖西市","新居町","中町",null,"","",{"$f":"IF(K3309=\"\",\"\",COUNTIF($K$7:K3309,\"ﾘｽﾄ１\"))","v":""},"","","","","","","",{"$f":"IF(S3309=\"\",\"\",COUNTIF($S$7:S3309,\"該当２\"))","v":""},"","",{"$f":"IF(V3309=\"\",\"\",COUNTIF($V$7:V3309,\"該当３\"))","v":""}]
[2222106004,"22",221,{"v":6,"d":"06"},{"v":4,"d":"004"},"静岡県","湖西市","新居町","高見",null,"","",{"$f":"IF(K3310=\"\",\"\",COUNTIF($K$7:K3310,\"ﾘｽﾄ１\"))","v":""},"","","","","","","",{"$f":"IF(S3310=\"\",\"\",COUNTIF($S$7:S3310,\"該当２\"))","v":""},"","",{"$f":"IF(V3310=\"\",\"\",COUNTIF($V$7:V3310,\"該当３\"))","v":""}]
[2222106006,"22",221,{"v":6,"d":"06"},{"v":6,"d":"006"},"静岡県","湖西市","新居町","上田町",null,"","",{"$f":"IF(K3312=\"\",\"\",COUNTIF($K$7:K3312,\"ﾘｽﾄ１\"))","v":""},"","","","","","","",{"$f":"IF(S3312=\"\",\"\",COUNTIF($S$7:S3312,\"該当２\"))","v":""},"","",{"$f":"IF(V3312=\"\",\"\",COUNTIF($V$7:V3312,\"該当３\"))","v":""}]
[2222106007,"22",221,{"v":6,"d":"06"},{"v":7,"d":"007"},"静岡県","湖西市","新居町","中田町",null,"","",{"$f":"IF(K3313=\"\",\"\",COUNTIF($K$7:K3313,\"ﾘｽﾄ１\"))","v":""},"","","","","","","",{"$f":"IF(S3313=\"\",\"\",COUNTIF($S$7:S3313,\"該当２\"))","v":""},"","",{"$f":"IF(V3313=\"\",\"\",COUNTIF($V$7:V3313,\"該当３\"))","v":""}]
[2222106009,"22",221,{"v":6,"d":"06"},{"v":9,"d":"009"},"静岡県","湖西市","新居町","船町",null,"","",{"$f":"IF(K3315=\"\",\"\",COUNTIF($K$7:K3315,\"ﾘｽﾄ１\"))","v":""},"","","","","","","",{"$f":"IF(S3315=\"\",\"\",COUNTIF($S$7:S3315,\"該当２\"))","v":""},"","",{"$f":"IF(V3315=\"\",\"\",COUNTIF($V$7:V3315,\"該当３\"))","v":""}]
[2222106010,"22",221,{"v":6,"d":"06"},{"v":10,"d":"010"},"静岡県","湖西市","新居町","源太山",null,"","",{"$f":"IF(K3316=\"\",\"\",COUNTIF($K$7:K3316,\"ﾘｽﾄ１\"))","v":""},"","","","","","","",{"$f":"IF(S3316=\"\",\"\",COUNTIF($S$7:S3316,\"該当２\"))","v":""},"","",{"$f":"IF(V3316=\"\",\"\",COUNTIF($V$7:V3316,\"該当３\"))","v":""}]
[2222106012,"22",221,{"v":6,"d":"06"},{"v":12,"d":"012"},"静岡県","湖西市","新居町","若磯",null,"","",{"$f":"IF(K3318=\"\",\"\",COUNTIF($K$7:K3318,\"ﾘｽﾄ１\"))","v":""},"","","","","","","",{"$f":"IF(S3318=\"\",\"\",COUNTIF($S$7:S3318,\"該当２\"))","v":""},"","",{"$f":"IF(V3318=\"\",\"\",COUNTIF($V$7:V3318,\"該当３\"))","v":""}]
[2222106013,"22",221,{"v":6,"d":"06"},{"v":13,"d":"013"},"静岡県","湖西市","新居町","杣川",null,"","",{"$f":"IF(K3319=\"\",\"\",COUNTIF($K$7:K3319,\"ﾘｽﾄ１\"))","v":""},"","","","","","","",{"$f":"IF(S3319=\"\",\"\",COUNTIF($S$7:S3319,\"該当２\"))","v":""},"","",{"$f":"IF(V3319=\"\",\"\",COUNTIF($V$7:V3319,\"該当３\"))","v":""}]
[2222106015,"22",221,{"v":6,"d":"06"},{"v":15,"d":"015"},"静岡県","湖西市","新居町","松山",null,"","",{"$f":"IF(K3321=\"\",\"\",COUNTIF($K$7:K3321,\"ﾘｽﾄ１\"))","v":""},"","","","","","","",{"$f":"IF(S3321=\"\",\"\",COUNTIF($S$7:S3321,\"該当２\"))","v":""},"","",{"$f":"IF(V3321=\"\",\"\",COUNTIF($V$7:V3321,\"該当３\"))","v":""}]
[2222106016,"22",221,{"v":6,"d":"06"},{"v":16,"d":"016"},"静岡県","湖西市","新居町","大倉戸",null,"","",{"$f":"IF(K3322=\"\",\"\",COUNTIF($K$7:K3322,\"ﾘｽﾄ１\"))","v":""},"","","","","","","",{"$f":"IF(S3322=\"\",\"\",COUNTIF($S$7:S3322,\"該当２\"))","v":""},"","",{"$f":"IF(V3322=\"\",\"\",COUNTIF($V$7:V3322,\"該当３\"))","v":""}]
[2222106018,"22",221,{"v":6,"d":"06"},{"v":18,"d":"018"},"静岡県","湖西市","新居町","郷南",null,"","",{"$f":"IF(K3324=\"\",\"\",COUNTIF($K$7:K3324,\"ﾘｽﾄ１\"))","v":""},"","","","","","","",{"$f":"IF(S3324=\"\",\"\",COUNTIF($S$7:S3324,\"該当２\"))","v":""},"","",{"$f":"IF(V3324=\"\",\"\",COUNTIF($V$7:V3324,\"該当３\"))","v":""}]
[2222106019,"22",221,{"v":6,"d":"06"},{"v":19,"d":"019"},"静岡県","湖西市","新居町","郷北",null,"","",{"$f":"IF(K3325=\"\",\"\",COUNTIF($K$7:K3325,\"ﾘｽﾄ１\"))","v":""},"","","","","","","",{"$f":"IF(S3325=\"\",\"\",COUNTIF($S$7:S3325,\"該当２\"))","v":""},"","",{"$f":"IF(V3325=\"\",\"\",COUNTIF($V$7:V3325,\"該当３\"))","v":""}]
[2222106021,"22",221,{"v":6,"d":"06"},{"v":21,"d":"021"},"静岡県","湖西市","新居町","港町",null,"","",{"$f":"IF(K3327=\"\",\"\",COUNTIF($K$7:K3327,\"ﾘｽﾄ１\"))","v":""},"","","","","","","",{"$f":"IF(S3327=\"\",\"\",COUNTIF($S$7:S3327,\"該当２\"))","v":""},"","",{"$f":"IF(V3327=\"\",\"\",COUNTIF($V$7:V3327,\"該当３\"))","v":""}]
[2222200000,"22",222,{"v":0,"d":"00"},{"v":0,"d":"000"},"静岡県","伊豆市",{"$nulls":3},"ﾘｽﾄ１","伊豆市",{"$f":"IF(K3328=\"\",\"\",COUNTIF($K$7:K3328,\"ﾘｽﾄ１\"))","v":29},"","","","","","","",{"$f":"IF(S3328=\"\",\"\",COUNTIF($S$7:S3328,\"該当２\"))","v":""},"","",{"$f":"IF(V3328=\"\",\"\",COUNTIF($V$7:V3328,\"該当３\"))","v":""}]
[2222201001,"22",222,{"v":1,"d":"01"},{"v":1,"d":"001"},"静岡県","伊豆市","修善寺町","横瀬",null,"","",{"$f":"IF(K3330=\"\",\"\",COUNTIF($K$7:K3330,\"ﾘｽﾄ１\"))","v":""},"","","","","","","",{"$f":"IF(S3330=\"\",\"\",COUNTIF($S$7:S3330,\"該当２\"))","v":""},"","",{"$f":"IF(V3330=\"\",\"\",COUNTIF($V$7:V3330,\"該当３\"))","v":""}]
[2222201002,"22",222,{"v":1,"d":"01"},{"v":2,"d":"002"},"静岡県","伊豆市","修善寺町","大下",null,"","",{"$f":"IF(K3331=\"\",\"\",COUNTIF($K$7:K3331,\"ﾘｽﾄ１\"))","v":""},"","","","","","","",{"$f":"IF(S3331=\"\",\"\",COUNTIF($S$7:S3331,\"該当２\"))","v":""},"","",{"$f":"IF(V3331=\"\",\"\",COUNTIF($V$7:V3331,\"該当３\"))","v":""}]
[2222201004,"22",222,{"v":1,"d":"01"},{"v":4,"d":"004"},"静岡県","伊豆市","修善寺町","小山",null,"","",{"$f":"IF(K3333=\"\",\"\",COUNTIF($K$7:K3333,\"ﾘｽﾄ１\"))","v":""},"","","","","","","",{"$f":"IF(S3333=\"\",\"\",COUNTIF($S$7:S3333,\"該当２\"))","v":""},"","",{"$f":"IF(V3333=\"\",\"\",COUNTIF($V$7:V3333,\"該当３\"))","v":""}]
[2222201005,"22",222,{"v":1,"d":"01"},{"v":5,"d":"005"},"静岡県","伊豆市","修善寺町","中里",null,"","",{"$f":"IF(K3334=\"\",\"\",COUNTIF($K$7:K3334,\"ﾘｽﾄ１\"))","v":""},"","","","","","","",{"$f":"IF(S3334=\"\",\"\",COUNTIF($S$7:S3334,\"該当２\"))","v":""},"","",{"$f":"IF(V3334=\"\",\"\",COUNTIF($V$7:V3334,\"該当３\"))","v":""}]
[2222201007,"22",222,{"v":1,"d":"01"},{"v":7,"d":"007"},"静岡県","伊豆市","修善寺町","湯舟",null,"","",{"$f":"IF(K3336=\"\",\"\",COUNTIF($K$7:K3336,\"ﾘｽﾄ１\"))","v":""},"","","","","","","",{"$f":"IF(S3336=\"\",\"\",COUNTIF($S$7:S3336,\"該当２\"))","v":""},"","",{"$f":"IF(V3336=\"\",\"\",COUNTIF($V$7:V3336,\"該当３\"))","v":""}]
[2222201008,"22",222,{"v":1,"d":"01"},{"v":8,"d":"008"},"静岡県","伊豆市","修善寺町","北又",null,"","",{"$f":"IF(K3337=\"\",\"\",COUNTIF($K$7:K3337,\"ﾘｽﾄ１\"))","v":""},"","","","","","","",{"$f":"IF(S3337=\"\",\"\",COUNTIF($S$7:S3337,\"該当２\"))","v":""},"","",{"$f":"IF(V3337=\"\",\"\",COUNTIF($V$7:V3337,\"該当３\"))","v":""}]
[2222201010,"22",222,{"v":1,"d":"01"},{"v":10,"d":"010"},"静岡県","伊豆市","修善寺町","山田",null,{"$f":"IF(AND($C3339>0,$H3339=\"\"),\"ﾘｽﾄ１\",\"\")","v":""},{"$f":"IF(K3339=\"ﾘｽﾄ１\",G3339,\"\")","v":""},{"$f":"IF(K3339=\"\",\"\",COUNTIF($K$7:K3339,\"ﾘｽﾄ１\"))","v":""},{"$f":"IF(AND(D3339=0,E3339>0),\"同一区\",\"\")","v":""},{"$f":"IF(AND(EXACT($K$2,G3339),H3339>0),\"該当１\",\"\")","v":""},"","","",{"$f":"IF(AND(Q3339=\"ﾘｽﾄ2\",OR(I3339=0,AND(N3339=\"同一区\",E3339=1))),\"該当２\",\"\")","v":""},"",{"$f":"IF(S3339=\"\",\"\",COUNTIF($S$7:S3339,\"該当２\"))","v":""},"","",{"$f":"IF(V3339=\"\",\"\",COUNTIF($V$7:V3339,\"該当３\"))","v":""}]
[2222201011,"22",222,{"v":1,"d":"01"},{"v":11,"d":"011"},"静岡県","伊豆市","修善寺町","大沢",null,"","",{"$f":"IF(K3340=\"\",\"\",COUNTIF($K$7:K3340,\"ﾘｽﾄ１\"))","v":""},"","","","","","","",{"$f":"IF(S3340=\"\",\"\",COUNTIF($S$7:S3340,\"該当２\"))","v":""},"","",{"$f":"IF(V3340=\"\",\"\",COUNTIF($V$7:V3340,\"該当３\"))","v":""}]
[2222201013,"22",222,{"v":1,"d":"01"},{"v":13,"d":"013"},"静岡県","伊豆市","修善寺町","熊坂",null,"","",{"$f":"IF(K3342=\"\",\"\",COUNTIF($K$7:K3342,\"ﾘｽﾄ１\"))","v":""},"","","","","","","",{"$f":"IF(S3342=\"\",\"\",COUNTIF($S$7:S3342,\"該当２\"))","v":""},"","",{"$f":"IF(V3342=\"\",\"\",COUNTIF($V$7:V3342,\"該当３\"))","v":""}]
[2222201014,"22",222,{"v":1,"d":"01"},{"v":14,"d":"014"},"静岡県","伊豆市","修善寺町","瓜生野",null,"","",{"$f":"IF(K3343=\"\",\"\",COUNTIF($K$7:K3343,\"ﾘｽﾄ１\"))","v":""},"","","","","","","",{"$f":"IF(S3343=\"\",\"\",COUNTIF($S$7:S3343,\"該当２\"))","v":""},"","",{"$f":"IF(V3343=\"\",\"\",COUNTIF($V$7:V3343,\"該当３\"))","v":""}]
[2222202000,"22",222,{"v":2,"d":"02"},{"v":0,"d":"000"},"静岡県","伊豆市","下狩野村",null,null,"","",{"$f":"IF(K3345=\"\",\"\",COUNTIF($K$7:K3345,\"ﾘｽﾄ１\"))","v":""},"","","","","","","",{"$f":"IF(S3345=\"\",\"\",COUNTIF($S$7:S3345,\"該当２\"))","v":""},"","",{"$f":"IF(V3345=\"\",\"\",COUNTIF($V$7:V3345,\"該当３\"))","v":""}]
[2222202001,"22",222,{"v":2,"d":"02"},{"v":1,"d":"001"},"静岡県","伊豆市","下狩野村","大平",null,"","",{"$f":"IF(K3346=\"\",\"\",COUNTIF($K$7:K3346,\"ﾘｽﾄ１\"))","v":""},"","","","","","","",{"$f":"IF(S3346=\"\",\"\",COUNTIF($S$7:S3346,\"該当２\"))","v":""},"","",{"$f":"IF(V3346=\"\",\"\",COUNTIF($V$7:V3346,\"該当３\"))","v":""}]
[2222202003,"22",222,{"v":2,"d":"02"},{"v":3,"d":"003"},"静岡県","伊豆市","下狩野村","小立野",null,"","",{"$f":"IF(K3348=\"\",\"\",COUNTIF($K$7:K3348,\"ﾘｽﾄ１\"))","v":""},"","","","","","","",{"$f":"IF(S3348=\"\",\"\",COUNTIF($S$7:S3348,\"該当２\"))","v":""},"","",{"$f":"IF(V3348=\"\",\"\",COUNTIF($V$7:V3348,\"該当３\"))","v":""}]
[2222202004,"22",222,{"v":2,"d":"02"},{"v":4,"d":"004"},"静岡県","伊豆市","下狩野村","日向",null,"","",{"$f":"IF(K3349=\"\",\"\",COUNTIF($K$7:K3349,\"ﾘｽﾄ１\"))","v":""},"","","","","","","",{"$f":"IF(S3349=\"\",\"\",COUNTIF($S$7:S3349,\"該当２\"))","v":""},"","",{"$f":"IF(V3349=\"\",\"\",COUNTIF($V$7:V3349,\"該当３\"))","v":""}]
[2222202006,"22",222,{"v":2,"d":"02"},{"v":6,"d":"006"},"静岡県","伊豆市","下狩野村","加殿",null,"","",{"$f":"IF(K3351=\"\",\"\",COUNTIF($K$7:K3351,\"ﾘｽﾄ１\"))","v":""},"","","","","","","",{"$f":"IF(S3351=\"\",\"\",COUNTIF($S$7:S3351,\"該当２\"))","v":""},"","",{"$f":"IF(V3351=\"\",\"\",COUNTIF($V$7:V3351,\"該当３\"))","v":""}]
[2222202007,"22",222,{"v":2,"d":"02"},{"v":7,"d":"007"},"静岡県","伊豆市","下狩野村","田代",null,"","",{"$f":"IF(K3352=\"\",\"\",COUNTIF($K$7:K3352,\"ﾘｽﾄ１\"))","v":""},"","","","","","","",{"$f":"IF(S3352=\"\",\"\",COUNTIF($S$7:S3352,\"該当２\"))","v":""},"","",{"$f":"IF(V3352=\"\",\"\",COUNTIF($V$7:V3352,\"該当３\"))","v":""}]
[2222203001,"22",222,{"v":3,"d":"03"},{"v":1,"d":"001"},"静岡県","伊豆市","北狩野村２－１","柏久保",null,"","",{"$f":"IF(K3354=\"\",\"\",COUNTIF($K$7:K3354,\"ﾘｽﾄ１\"))","v":""},"","","","","","","",{"$f":"IF(S3354=\"\",\"\",COUNTIF($S$7:S3354,\"該当２\"))","v":""},"","",{"$f":"IF(V3354=\"\",\"\",COUNTIF($V$7:V3354,\"該当３\"))","v":""}]
[2222203002,"22",222,{"v":3,"d":"03"},{"v":2,"d":"002"},"静岡県","伊豆市","北狩野村２－１","古川",null,"","",{"$f":"IF(K3355=\"\",\"\",COUNTIF($K$7:K3355,\"ﾘｽﾄ１\"))","v":""},"","","","","","","",{"$f":"IF(S3355=\"\",\"\",COUNTIF($S$7:S3355,\"該当２\"))","v":""},"","",{"$f":"IF(V3355=\"\",\"\",COUNTIF($V$7:V3355,\"該当３\"))","v":""}]
[2222203004,"22",222,{"v":3,"d":"03"},{"v":4,"d":"004"},"静岡県","伊豆市","北狩野村２－１","大野",null,"","",{"$f":"IF(K3357=\"\",\"\",COUNTIF($K$7:K3357,\"ﾘｽﾄ１\"))","v":""},"","","","","","","",{"$f":"IF(S3357=\"\",\"\",COUNTIF($S$7:S3357,\"該当２\"))","v":""},"","",{"$f":"IF(V3357=\"\",\"\",COUNTIF($V$7:V3357,\"該当３\"))","v":""}]
[2222203005,"22",222,{"v":3,"d":"03"},{"v":5,"d":"005"},"静岡県","伊豆市","北狩野村２－１","年川",null,"","",{"$f":"IF(K3358=\"\",\"\",COUNTIF($K$7:K3358,\"ﾘｽﾄ１\"))","v":""},"","","","","","","",{"$f":"IF(S3358=\"\",\"\",COUNTIF($S$7:S3358,\"該当２\"))","v":""},"","",{"$f":"IF(V3358=\"\",\"\",COUNTIF($V$7:V3358,\"該当３\"))","v":""}]
[2222204001,"22",222,{"v":4,"d":"04"},{"v":1,"d":"001"},"静岡県","伊豆市","土肥町","大薮",null,"","",{"$f":"IF(K3360=\"\",\"\",COUNTIF($K$7:K3360,\"ﾘｽﾄ１\"))","v":""},"","","","","","","",{"$f":"IF(S3360=\"\",\"\",COUNTIF($S$7:S3360,\"該当２\"))","v":""},"","",{"$f":"IF(V3360=\"\",\"\",COUNTIF($V$7:V3360,\"該当３\"))","v":""}]
[2222204002,"22",222,{"v":4,"d":"04"},{"v":2,"d":"002"},"静岡県","伊豆市","土肥町","中浜",null,"","",{"$f":"IF(K3361=\"\",\"\",COUNTIF($K$7:K3361,\"ﾘｽﾄ１\"))","v":""},"","","","","","","",{"$f":"IF(S3361=\"\",\"\",COUNTIF($S$7:S3361,\"該当２\"))","v":""},"","",{"$f":"IF(V3361=\"\",\"\",COUNTIF($V$7:V3361,\"該当３\"))","v":""}]
[2222204004,"22",222,{"v":4,"d":"04"},{"v":4,"d":"004"},"静岡県","伊豆市","土肥町","屋形",null,"","",{"$f":"IF(K3363=\"\",\"\",COUNTIF($K$7:K3363,\"ﾘｽﾄ１\"))","v":""},"","","","","","","",{"$f":"IF(S3363=\"\",\"\",COUNTIF($S$7:S3363,\"該当２\"))","v":""},"","",{"$f":"IF(V3363=\"\",\"\",COUNTIF($V$7:V3363,\"該当３\"))","v":""}]
[2222204005,"22",222,{"v":4,"d":"04"},{"v":5,"d":"005"},"静岡県","伊豆市","土肥町","馬場",null,"","",{"$f":"IF(K3364=\"\",\"\",COUNTIF($K$7:K3364,\"ﾘｽﾄ１\"))","v":""},"","","","","","","",{"$f":"IF(S3364=\"\",\"\",COUNTIF($S$7:S3364,\"該当２\"))","v":""},"","",{"$f":"IF(V3364=\"\",\"\",COUNTIF($V$7:V3364,\"該当３\"))","v":""}]
[2222204007,"22",222,{"v":4,"d":"04"},{"v":7,"d":"007"},"静岡県","伊豆市","土肥町","中村",null,"","",{"$f":"IF(K3366=\"\",\"\",COUNTIF($K$7:K3366,\"ﾘｽﾄ１\"))","v":""},"","","","","","","",{"$f":"IF(S3366=\"\",\"\",COUNTIF($S$7:S3366,\"該当２\"))","v":""},"","",{"$f":"IF(V3366=\"\",\"\",COUNTIF($V$7:V3366,\"該当３\"))","v":""}]
[2222204008,"22",222,{"v":4,"d":"04"},{"v":8,"d":"008"},"静岡県","伊豆市","土肥町","横瀬",null,"","",{"$f":"IF(K3367=\"\",\"\",COUNTIF($K$7:K3367,\"ﾘｽﾄ１\"))","v":""},"","","","","","","",{"$f":"IF(S3367=\"\",\"\",COUNTIF($S$7:S3367,\"該当２\"))","v":""},"","",{"$f":"IF(V3367=\"\",\"\",COUNTIF($V$7:V3367,\"該当３\"))","v":""}]
[2222204010,"22",222,{"v":4,"d":"04"},{"v":10,"d":"010"},"静岡県","伊豆市","土肥町","新田",null,"","",{"$f":"IF(K3369=\"\",\"\",COUNTIF($K$7:K3369,\"ﾘｽﾄ１\"))","v":""},"","","","","","","",{"$f":"IF(S3369=\"\",\"\",COUNTIF($S$7:S3369,\"該当２\"))","v":""},"","",{"$f":"IF(V3369=\"\",\"\",COUNTIF($V$7:V3369,\"該当３\"))","v":""}]
[2222204011,"22",222,{"v":4,"d":"04"},{"v":11,"d":"011"},"静岡県","伊豆市","土肥町","平石",null,"","",{"$f":"IF(K3370=\"\",\"\",COUNTIF($K$7:K3370,\"ﾘｽﾄ１\"))","v":""},"","","","","","","",{"$f":"IF(S3370=\"\",\"\",COUNTIF($S$7:S3370,\"該当２\"))","v":""},"","",{"$f":"IF(V3370=\"\",\"\",COUNTIF($V$7:V3370,\"該当３\"))","v":""}]
[2222204013,"22",222,{"v":4,"d":"04"},{"v":13,"d":"013"},"静岡県","伊豆市","土肥町","黒根",null,"","",{"$f":"IF(K3372=\"\",\"\",COUNTIF($K$7:K3372,\"ﾘｽﾄ１\"))","v":""},"","","","","","","",{"$f":"IF(S3372=\"\",\"\",COUNTIF($S$7:S3372,\"該当２\"))","v":""},"","",{"$f":"IF(V3372=\"\",\"\",COUNTIF($V$7:V3372,\"該当３\"))","v":""}]
[2222204014,"22",222,{"v":4,"d":"04"},{"v":14,"d":"014"},"静岡県","伊豆市","土肥町","出口",null,"","",{"$f":"IF(K3373=\"\",\"\",COUNTIF($K$7:K3373,\"ﾘｽﾄ１\"))","v":""},"","","","","","","",{"$f":"IF(S3373=\"\",\"\",COUNTIF($S$7:S3373,\"該当２\"))","v":""},"","",{"$f":"IF(V3373=\"\",\"\",COUNTIF($V$7:V3373,\"該当３\"))","v":""}]
[2222205000,"22",222,{"v":5,"d":"05"},{"v":0,"d":"000"},"静岡県","伊豆市","西豆村",null,null,"","",{"$f":"IF(K3375=\"\",\"\",COUNTIF($K$7:K3375,\"ﾘｽﾄ１\"))","v":""},"","","","","","","",{"$f":"IF(S3375=\"\",\"\",COUNTIF($S$7:S3375,\"該当２\"))","v":""},"","",{"$f":"IF(V3375=\"\",\"\",COUNTIF($V$7:V3375,\"該当３\"))","v":""}]
[2222205001,"22",222,{"v":5,"d":"05"},{"v":1,"d":"001"},"静岡県","伊豆市","西豆村","小池",null,"","",{"$f":"IF(K3376=\"\",\"\",COUNTIF($K$7:K3376,\"ﾘｽﾄ１\"))","v":""},"","","","","","","",{"$f":"IF(S3376=\"\",\"\",COUNTIF($S$7:S3376,\"該当２\"))","v":""},"","",{"$f":"IF(V3376=\"\",\"\",COUNTIF($V$7:V3376,\"該当３\"))","v":""}]
[2222205003,"22",222,{"v":5,"d":"05"},{"v":3,"d":"003"},"静岡県","伊豆市","西豆村","西浜",null,"","",{"$f":"IF(K3378=\"\",\"\",COUNTIF($K$7:K3378,\"ﾘｽﾄ１\"))","v":""},"","","","","","","",{"$f":"IF(S3378=\"\",\"\",COUNTIF($S$7:S3378,\"該当２\"))","v":""},"","",{"$f":"IF(V3378=\"\",\"\",COUNTIF($V$7:V3378,\"該当３\"))","v":""}]
[2222205004,"22",222,{"v":5,"d":"05"},{"v":4,"d":"004"},"静岡県","伊豆市","西豆村","中島",null,"","",{"$f":"IF(K3379=\"\",\"\",COUNTIF($K$7:K3379,\"ﾘｽﾄ１\"))","v":""},"","","","","","","",{"$f":"IF(S3379=\"\",\"\",COUNTIF($S$7:S3379,\"該当２\"))","v":""},"","",{"$f":"IF(V3379=\"\",\"\",COUNTIF($V$7:V3379,\"該当３\"))","v":""}]
[2222205006,"22",222,{"v":5,"d":"05"},{"v":6,"d":"006"},"静岡県","伊豆市","西豆村","上野",null,"","",{"$f":"IF(K3381=\"\",\"\",COUNTIF($K$7:K3381,\"ﾘｽﾄ１\"))","v":""},"","","","","","","",{"$f":"IF(S3381=\"\",\"\",COUNTIF($S$7:S3381,\"該当２\"))","v":""},"","",{"$f":"IF(V3381=\"\",\"\",COUNTIF($V$7:V3381,\"該当３\"))","v":""}]
[2222205007,"22",222,{"v":5,"d":"05"},{"v":7,"d":"007"},"静岡県","伊豆市","西豆村","大久保",null,"","",{"$f":"IF(K3382=\"\",\"\",COUNTIF($K$7:K3382,\"ﾘｽﾄ１\"))","v":""},"","","","","","","",{"$f":"IF(S3382=\"\",\"\",COUNTIF($S$7:S3382,\"該当２\"))","v":""},"","",{"$f":"IF(V3382=\"\",\"\",COUNTIF($V$7:V3382,\"該当３\"))","v":""}]
[2222205009,"22",222,{"v":5,"d":"05"},{"v":9,"d":"009"},"静岡県","伊豆市","西豆村","中村",null,"","",{"$f":"IF(K3384=\"\",\"\",COUNTIF($K$7:K3384,\"ﾘｽﾄ１\"))","v":""},"","","","","","","",{"$f":"IF(S3384=\"\",\"\",COUNTIF($S$7:S3384,\"該当２\"))","v":""},"","",{"$f":"IF(V3384=\"\",\"\",COUNTIF($V$7:V3384,\"該当３\"))","v":""}]
[2222205010,"22",222,{"v":5,"d":"05"},{"v":10,"d":"010"},"静岡県","伊豆市","西豆村","大木山",null,"","",{"$f":"IF(K3385=\"\",\"\",COUNTIF($K$7:K3385,\"ﾘｽﾄ１\"))","v":""},"","","","","","","",{"$f":"IF(S3385=\"\",\"\",COUNTIF($S$7:S3385,\"該当２\"))","v":""},"","",{"$f":"IF(V3385=\"\",\"\",COUNTIF($V$7:V3385,\"該当３\"))","v":""}]
[2222205012,"22",222,{"v":5,"d":"05"},{"v":12,"d":"012"},"静岡県","伊豆市","西豆村","坂ノ上",null,"","",{"$f":"IF(K3387=\"\",\"\",COUNTIF($K$7:K3387,\"ﾘｽﾄ１\"))","v":""},"","","","","","","",{"$f":"IF(S3387=\"\",\"\",COUNTIF($S$7:S3387,\"該当２\"))","v":""},"","",{"$f":"IF(V3387=\"\",\"\",COUNTIF($V$7:V3387,\"該当３\"))","v":""}]
[2222205013,"22",222,{"v":5,"d":"05"},{"v":13,"d":"013"},"静岡県","伊豆市","西豆村","米崎",null,"","",{"$f":"IF(K3388=\"\",\"\",COUNTIF($K$7:K3388,\"ﾘｽﾄ１\"))","v":""},"","","","","","","",{"$f":"IF(S3388=\"\",\"\",COUNTIF($S$7:S3388,\"該当２\"))","v":""},"","",{"$f":"IF(V3388=\"\",\"\",COUNTIF($V$7:V3388,\"該当３\"))","v":""}]
[2222205015,"22",222,{"v":5,"d":"05"},{"v":15,"d":"015"},"静岡県","伊豆市","西豆村","藤沢",null,"","",{"$f":"IF(K3390=\"\",\"\",COUNTIF($K$7:K3390,\"ﾘｽﾄ１\"))","v":""},"","","","","","","",{"$f":"IF(S3390=\"\",\"\",COUNTIF($S$7:S3390,\"該当２\"))","v":""},"","",{"$f":"IF(V3390=\"\",\"\",COUNTIF($V$7:V3390,\"該当３\"))","v":""}]
[2222206000,"22",222,{"v":6,"d":"06"},{"v":0,"d":"000"},"静岡県","伊豆市","中狩野村",null,null,"","",{"$f":"IF(K3391=\"\",\"\",COUNTIF($K$7:K3391,\"ﾘｽﾄ１\"))","v":""},"","","","","","","",{"$f":"IF(S3391=\"\",\"\",COUNTIF($S$7:S3391,\"該当２\"))","v":""},"","",{"$f":"IF(V3391=\"\",\"\",COUNTIF($V$7:V3391,\"該当３\"))","v":""}]
[2222206002,"22",222,{"v":6,"d":"06"},{"v":2,"d":"002"},"静岡県","伊豆市","中狩野村","本村",null,"","",{"$f":"IF(K3393=\"\",\"\",COUNTIF($K$7:K3393,\"ﾘｽﾄ１\"))","v":""},"","","","","","","",{"$f":"IF(S3393=\"\",\"\",COUNTIF($S$7:S3393,\"該当２\"))","v":""},"","",{"$f":"IF(V3393=\"\",\"\",COUNTIF($V$7:V3393,\"該当３\"))","v":""}]
[2222206003,"22",222,{"v":6,"d":"06"},{"v":3,"d":"003"},"静岡県","伊豆市","中狩野村","下船原",null,"","",{"$f":"IF(K3394=\"\",\"\",COUNTIF($K$7:K3394,\"ﾘｽﾄ１\"))","v":""},"","","","","","","",{"$f":"IF(S3394=\"\",\"\",COUNTIF($S$7:S3394,\"該当２\"))","v":""},"","",{"$f":"IF(V3394=\"\",\"\",COUNTIF($V$7:V3394,\"該当３\"))","v":""}]
[2222206005,"22",222,{"v":6,"d":"06"},{"v":5,"d":"005"},"静岡県","伊豆市","中狩野村","本柿木",null,"","",{"$f":"IF(K3396=\"\",\"\",COUNTIF($K$7:K3396,\"ﾘｽﾄ１\"))","v":""},"","","","","","","",{"$f":"IF(S3396=\"\",\"\",COUNTIF($S$7:S3396,\"該当２\"))","v":""},"","",{"$f":"IF(V3396=\"\",\"\",COUNTIF($V$7:V3396,\"該当３\"))","v":""}]
[2222206006,"22",222,{"v":6,"d":"06"},{"v":6,"d":"006"},"静岡県","伊豆市","中狩野村","大平柿木",null,"","",{"$f":"IF(K3397=\"\",\"\",COUNTIF($K$7:K3397,\"ﾘｽﾄ１\"))","v":""},"","","","","","","",{"$f":"IF(S3397=\"\",\"\",COUNTIF($S$7:S3397,\"該当２\"))","v":""},"","",{"$f":"IF(V3397=\"\",\"\",COUNTIF($V$7:V3397,\"該当３\"))","v":""}]
[2222206008,"22",222,{"v":6,"d":"06"},{"v":8,"d":"008"},"静岡県","伊豆市","中狩野村","佐野",null,"","",{"$f":"IF(K3399=\"\",\"\",COUNTIF($K$7:K3399,\"ﾘｽﾄ１\"))","v":""},"","","","","","","",{"$f":"IF(S3399=\"\",\"\",COUNTIF($S$7:S3399,\"該当２\"))","v":""},"","",{"$f":"IF(V3399=\"\",\"\",COUNTIF($V$7:V3399,\"該当３\"))","v":""}]
[2222206009,"22",222,{"v":6,"d":"06"},{"v":9,"d":"009"},"静岡県","伊豆市","中狩野村","雲金",null,"","",{"$f":"IF(K3400=\"\",\"\",COUNTIF($K$7:K3400,\"ﾘｽﾄ１\"))","v":""},"","","","","","","",{"$f":"IF(S3400=\"\",\"\",COUNTIF($S$7:S3400,\"該当２\"))","v":""},"","",{"$f":"IF(V3400=\"\",\"\",COUNTIF($V$7:V3400,\"該当３\"))","v":""}]
[2222207001,"22",222,{"v":7,"d":"07"},{"v":1,"d":"001"},"静岡県","伊豆市","上狩野村","矢熊",null,"","",{"$f":"IF(K3402=\"\",\"\",COUNTIF($K$7:K3402,\"ﾘｽﾄ１\"))","v":""},"","",{"$f":"IF(O3402=\"該当１\",G3402,\"\")","v":""},{"$f":"IF(O3402=\"該当１\",\"ﾘｽﾄ2\",\"\")","v":""},{"$f":"IF(Q3402=\"ﾘｽﾄ2\",H3402,\"\")","v":""},"",{"$f":"IF(S3402=\"該当２\",H3402,\"\")","v":""},{"$f":"IF(S3402=\"\",\"\",COUNTIF($S$7:S3402,\"該当２\"))","v":""},{"$f":"IF(AND($S$2=H3402,E3402>0,E3402<998),\"該当３\",\"\")","v":""},{"$f":"IF(V3402=\"該当３\",I3402,\"\")","v":""},{"$f":"IF(V3402=\"\",\"\",COUNTIF($V$7:V3402,\"該当３\"))","v":""}]
[2222207002,"22",222,{"v":7,"d":"07"},{"v":2,"d":"002"},"静岡県","伊豆市","上狩野村","田沢",null,{"$f":"IF(AND($C3403>0,$H3403=\"\"),\"ﾘｽﾄ１\",\"\")","v":""},{"$f":"IF(K3403=\"ﾘｽﾄ１\",G3403,\"\")","v":""},{"$f":"IF(K3403=\"\",\"\",COUNTIF($K$7:K3403,\"ﾘｽﾄ１\"))","v":""},{"$f":"IF(AND(D3403=0,E3403>0),\"同一区\",\"\")","v":""},{"$f":"IF(AND(EXACT($K$2,G3403),H3403>0),\"該当１\",\"\")","v":""},"","","",{"$f":"IF(AND(Q3403=\"ﾘｽﾄ2\",OR(I3403=0,AND(N3403=\"同一区\",E3403=1))),\"該当２\",\"\")","v":""},"",{"$f":"IF(S3403=\"\",\"\",COUNTIF($S$7:S3403,\"該当２\"))","v":""},"","",{"$f":"IF(V3403=\"\",\"\",COUNTIF($V$7:V3403,\"該当３\"))","v":""}]
[2222207004,"22",222,{"v":7,"d":"07"},{"v":4,"d":"004"},"静岡県","伊豆市","上狩野村","長野",null,"","",{"$f":"IF(K3405=\"\",\"\",COUNTIF($K$7:K3405,\"ﾘｽﾄ１\"))","v":""},"","","","","","","",{"$f":"IF(S3405=\"\",\"\",COUNTIF($S$7:S3405,\"該当２\"))","v":""},"","",{"$f":"IF(V3405=\"\",\"\",COUNTIF($V$7:V3405,\"該当３\"))","v":""}]
[2222207005,"22",222,{"v":7,"d":"07"},{"v":5,"d":"005"},"静岡県","伊豆市","上狩野村","宿",null,"","",{"$f":"IF(K3406=\"\",\"\",COUNTIF($K$7:K3406,\"ﾘｽﾄ１\"))","v":""},"","","","","","","",{"$f":"IF(S3406=\"\",\"\",COUNTIF($S$7:S3406,\"該当２\"))","v":""},"","",{"$f":"IF(V3406=\"\",\"\",COUNTIF($V$7:V3406,\"該当３\"))","v":""}]
[2222207007,"22",222,{"v":7,"d":"07"},{"v":7,"d":"007"},"静岡県","伊豆市","上狩野村","茅野",null,"","",{"$f":"IF(K3408=\"\",\"\",COUNTIF($K$7:K3408,\"ﾘｽﾄ１\"))","v":""},"","","","","","","",{"$f":"IF(S3408=\"\",\"\",COUNTIF($S$7:S3408,\"該当２\"))","v":""},"","",{"$f":"IF(V3408=\"\",\"\",COUNTIF($V$7:V3408,\"該当３\"))","v":""}]
[2222207008,"22",222,{"v":7,"d":"07"},{"v":8,"d":"008"},"静岡県","伊豆市","上狩野村","西平",null,"","",{"$f":"IF(K3409=\"\",\"\",COUNTIF($K$7:K3409,\"ﾘｽﾄ１\"))","v":""},"","","","","","","",{"$f":"IF(S3409=\"\",\"\",COUNTIF($S$7:S3409,\"該当２\"))","v":""},"","",{"$f":"IF(V3409=\"\",\"\",COUNTIF($V$7:V3409,\"該当３\"))","v":""}]
[2222207010,"22",222,{"v":7,"d":"07"},{"v":10,"d":"010"},"静岡県","伊豆市","上狩野村","持越",null,"","",{"$f":"IF(K3411=\"\",\"\",COUNTIF($K$7:K3411,\"ﾘｽﾄ１\"))","v":""},"","","","","","","",{"$f":"IF(S3411=\"\",\"\",COUNTIF($S$7:S3411,\"該当２\"))","v":""},"","",{"$f":"IF(V3411=\"\",\"\",COUNTIF($V$7:V3411,\"該当３\"))","v":""}]
[2222207011,"22",222,{"v":7,"d":"07"},{"v":11,"d":"011"},"静岡県","伊豆市","上狩野村","吉奈",null,"","",{"$f":"IF(K3412=\"\",\"\",COUNTIF($K$7:K3412,\"ﾘｽﾄ１\"))","v":""},"","","","","","","",{"$f":"IF(S3412=\"\",\"\",COUNTIF($S$7:S3412,\"該当２\"))","v":""},"","",{"$f":"IF(V3412=\"\",\"\",COUNTIF($V$7:V3412,\"該当３\"))","v":""}]
[2222207013,"22",222,{"v":7,"d":"07"},{"v":13,"d":"013"},"静岡県","伊豆市","上狩野村","門野原",null,"","",{"$f":"IF(K3414=\"\",\"\",COUNTIF($K$7:K3414,\"ﾘｽﾄ１\"))","v":""},"","","","","","","",{"$f":"IF(S3414=\"\",\"\",COUNTIF($S$7:S3414,\"該当２\"))","v":""},"","",{"$f":"IF(V3414=\"\",\"\",COUNTIF($V$7:V3414,\"該当３\"))","v":""}]
[2222207014,"22",222,{"v":7,"d":"07"},{"v":14,"d":"014"},"静岡県","伊豆市","上狩野村","国有林",null,"","",{"$f":"IF(K3415=\"\",\"\",COUNTIF($K$7:K3415,\"ﾘｽﾄ１\"))","v":""},"","","","","","","",{"$f":"IF(S3415=\"\",\"\",COUNTIF($S$7:S3415,\"該当２\"))","v":""},"","",{"$f":"IF(V3415=\"\",\"\",COUNTIF($V$7:V3415,\"該当３\"))","v":""}]
[2222208001,"22",222,{"v":8,"d":"08"},{"v":1,"d":"001"},"静岡県","伊豆市","上大見村","筏場",null,"","",{"$f":"IF(K3417=\"\",\"\",COUNTIF($K$7:K3417,\"ﾘｽﾄ１\"))","v":""},"","","","","","","",{"$f":"IF(S3417=\"\",\"\",COUNTIF($S$7:S3417,\"該当２\"))","v":""},"","",{"$f":"IF(V3417=\"\",\"\",COUNTIF($V$7:V3417,\"該当３\"))","v":""}]
[2222208002,"22",222,{"v":8,"d":"08"},{"v":2,"d":"002"},"静岡県","伊豆市","上大見村","貴僧坊",null,"","",{"$f":"IF(K3418=\"\",\"\",COUNTIF($K$7:K3418,\"ﾘｽﾄ１\"))","v":""},"","","","","","","",{"$f":"IF(S3418=\"\",\"\",COUNTIF($S$7:S3418,\"該当２\"))","v":""},"","",{"$f":"IF(V3418=\"\",\"\",COUNTIF($V$7:V3418,\"該当３\"))","v":""}]
[2222208004,"22",222,{"v":8,"d":"08"},{"v":4,"d":"004"},"静岡県","伊豆市","上大見村","戸倉野",null,"","",{"$f":"IF(K3420=\"\",\"\",COUNTIF($K$7:K3420,\"ﾘｽﾄ１\"))","v":""},"","","","","","","",{"$f":"IF(S3420=\"\",\"\",COUNTIF($S$7:S3420,\"該当２\"))","v":""},"","",{"$f":"IF(V3420=\"\",\"\",COUNTIF($V$7:V3420,\"該当３\"))","v":""}]
[2222208005,"22",222,{"v":8,"d":"08"},{"v":5,"d":"005"},"静岡県","伊豆市","上大見村","中原戸",null,"","",{"$f":"IF(K3421=\"\",\"\",COUNTIF($K$7:K3421,\"ﾘｽﾄ１\"))","v":""},"","","","","","","",{"$f":"IF(S3421=\"\",\"\",COUNTIF($S$7:S3421,\"該当２\"))","v":""},"","",{"$f":"IF(V3421=\"\",\"\",COUNTIF($V$7:V3421,\"該当３\"))","v":""}]
[2222208007,"22",222,{"v":8,"d":"08"},{"v":7,"d":"007"},"静岡県","伊豆市","上大見村","原保",null,"","",{"$f":"IF(K3423=\"\",\"\",COUNTIF($K$7:K3423,\"ﾘｽﾄ１\"))","v":""},"","","","","","","",{"$f":"IF(S3423=\"\",\"\",COUNTIF($S$7:S3423,\"該当２\"))","v":""},"","",{"$f":"IF(V3423=\"\",\"\",COUNTIF($V$7:V3423,\"該当３\"))","v":""}]
[2222208008,"22",222,{"v":8,"d":"08"},{"v":8,"d":"008"},"静岡県","伊豆市","上大見村","地蔵堂",null,"","",{"$f":"IF(K3424=\"\",\"\",COUNTIF($K$7:K3424,\"ﾘｽﾄ１\"))","v":""},"","","","","","","",{"$f":"IF(S3424=\"\",\"\",COUNTIF($S$7:S3424,\"該当２\"))","v":""},"","",{"$f":"IF(V3424=\"\",\"\",COUNTIF($V$7:V3424,\"該当３\"))","v":""}]
[2222209001,"22",222,{"v":9,"d":"09"},{"v":1,"d":"001"},"静岡県","伊豆市","中大見村","城",null,"","",{"$f":"IF(K3426=\"\",\"\",COUNTIF($K$7:K3426,\"ﾘｽﾄ１\"))","v":""},"","","","","","","",{"$f":"IF(S3426=\"\",\"\",COUNTIF($S$7:S3426,\"該当２\"))","v":""},"","",{"$f":"IF(V3426=\"\",\"\",COUNTIF($V$7:V3426,\"該当３\"))","v":""}]
[2222209002,"22",222,{"v":9,"d":"09"},{"v":2,"d":"002"},"静岡県","伊豆市","中大見村","八幡",null,"","",{"$f":"IF(K3427=\"\",\"\",COUNTIF($K$7:K3427,\"ﾘｽﾄ１\"))","v":""},"","","","","","","",{"$f":"IF(S3427=\"\",\"\",COUNTIF($S$7:S3427,\"該当２\"))","v":""},"","",{"$f":"IF(V3427=\"\",\"\",COUNTIF($V$7:V3427,\"該当３\"))","v":""}]
[2222209004,"22",222,{"v":9,"d":"09"},{"v":4,"d":"004"},"静岡県","伊豆市","中大見村","柳瀬",null,"","",{"$f":"IF(K3429=\"\",\"\",COUNTIF($K$7:K3429,\"ﾘｽﾄ１\"))","v":""},"","","","","","","",{"$f":"IF(S3429=\"\",\"\",COUNTIF($S$7:S3429,\"該当２\"))","v":""},"","",{"$f":"IF(V3429=\"\",\"\",COUNTIF($V$7:V3429,\"該当３\"))","v":""}]
[2222209005,"22",222,{"v":9,"d":"09"},{"v":5,"d":"005"},"静岡県","伊豆市","中大見村","宮上",null,"","",{"$f":"IF(K3430=\"\",\"\",COUNTIF($K$7:K3430,\"ﾘｽﾄ１\"))","v":""},"","","","","","","",{"$f":"IF(S3430=\"\",\"\",COUNTIF($S$7:S3430,\"該当２\"))","v":""},"","",{"$f":"IF(V3430=\"\",\"\",COUNTIF($V$7:V3430,\"該当３\"))","v":""}]
[2222209007,"22",222,{"v":9,"d":"09"},{"v":7,"d":"007"},"静岡県","伊豆市","中大見村","堰",null,"","",{"$f":"IF(K3432=\"\",\"\",COUNTIF($K$7:K3432,\"ﾘｽﾄ１\"))","v":""},"","","","","","","",{"$f":"IF(S3432=\"\",\"\",COUNTIF($S$7:S3432,\"該当２\"))","v":""},"","",{"$f":"IF(V3432=\"\",\"\",COUNTIF($V$7:V3432,\"該当３\"))","v":""}]
[2222209008,"22",222,{"v":9,"d":"09"},{"v":8,"d":"008"},"静岡県","伊豆市","中大見村","向",null,"","",{"$f":"IF(K3433=\"\",\"\",COUNTIF($K$7:K3433,\"ﾘｽﾄ１\"))","v":""},"","","","","","","",{"$f":"IF(S3433=\"\",\"\",COUNTIF($S$7:S3433,\"該当２\"))","v":""},"","",{"$f":"IF(V3433=\"\",\"\",COUNTIF($V$7:V3433,\"該当３\"))","v":""}]
[2222209010,"22",222,{"v":9,"d":"09"},{"v":10,"d":"010"},"静岡県","伊豆市","中大見村","沢口",null,"","",{"$f":"IF(K3435=\"\",\"\",COUNTIF($K$7:K3435,\"ﾘｽﾄ１\"))","v":""},"","","","","","","",{"$f":"IF(S3435=\"\",\"\",COUNTIF($S$7:S3435,\"該当２\"))","v":""},"","",{"$f":"IF(V3435=\"\",\"\",COUNTIF($V$7:V3435,\"該当３\"))","v":""}]
[2222209011,"22",222,{"v":9,"d":"09"},{"v":11,"d":"011"},"静岡県","伊豆市","中大見村","大幡野",null,"","",{"$f":"IF(K3436=\"\",\"\",COUNTIF($K$7:K3436,\"ﾘｽﾄ１\"))","v":""},"","","","","","","",{"$f":"IF(S3436=\"\",\"\",COUNTIF($S$7:S3436,\"該当２\"))","v":""},"","",{"$f":"IF(V3436=\"\",\"\",COUNTIF($V$7:V3436,\"該当３\"))","v":""}]
[2222209013,"22",222,{"v":9,"d":"09"},{"v":13,"d":"013"},"静岡県","伊豆市","中大見村","徳永南",null,"","",{"$f":"IF(K3438=\"\",\"\",COUNTIF($K$7:K3438,\"ﾘｽﾄ１\"))","v":""},"","","","","","","",{"$f":"IF(S3438=\"\",\"\",COUNTIF($S$7:S3438,\"該当２\"))","v":""},"","",{"$f":"IF(V3438=\"\",\"\",COUNTIF($V$7:V3438,\"該当３\"))","v":""}]
[2222210000,"22",222,10,{"v":0,"d":"000"},"静岡県","伊豆市","下大見村",null,null,"","",{"$f":"IF(K3439=\"\",\"\",COUNTIF($K$7:K3439,\"ﾘｽﾄ１\"))","v":""},"","","","","","","",{"$f":"IF(S3439=\"\",\"\",COUNTIF($S$7:S3439,\"該当２\"))","v":""},"","",{"$f":"IF(V3439=\"\",\"\",COUNTIF($V$7:V3439,\"該当３\"))","v":""}]
[2222210002,"22",222,10,{"v":2,"d":"002"},"静岡県","伊豆市","下大見村","元村",null,"","",{"$f":"IF(K3441=\"\",\"\",COUNTIF($K$7:K3441,\"ﾘｽﾄ１\"))","v":""},"","","","","","","",{"$f":"IF(S3441=\"\",\"\",COUNTIF($S$7:S3441,\"該当２\"))","v":""},"","",{"$f":"IF(V3441=\"\",\"\",COUNTIF($V$7:V3441,\"該当３\"))","v":""}]
[2222210003,"22",222,10,{"v":3,"d":"003"},"静岡県","伊豆市","下大見村","小川",null,"","",{"$f":"IF(K3442=\"\",\"\",COUNTIF($K$7:K3442,\"ﾘｽﾄ１\"))","v":""},"","","","","","","",{"$f":"IF(S3442=\"\",\"\",COUNTIF($S$7:S3442,\"該当２\"))","v":""},"","",{"$f":"IF(V3442=\"\",\"\",COUNTIF($V$7:V3442,\"該当３\"))","v":""}]
[2222210005,"22",222,10,{"v":5,"d":"005"},"静岡県","伊豆市","下大見村","西",null,"","",{"$f":"IF(K3444=\"\",\"\",COUNTIF($K$7:K3444,\"ﾘｽﾄ１\"))","v":""},"","","","","","","",{"$f":"IF(S3444=\"\",\"\",COUNTIF($S$7:S3444,\"該当２\"))","v":""},"","",{"$f":"IF(V3444=\"\",\"\",COUNTIF($V$7:V3444,\"該当３\"))","v":""}]
[2222210006,"22",222,10,{"v":6,"d":"006"},"静岡県","伊豆市","下大見村","上和田",null,"","",{"$f":"IF(K3445=\"\",\"\",COUNTIF($K$7:K3445,\"ﾘｽﾄ１\"))","v":""},"","","","","","","",{"$f":"IF(S3445=\"\",\"\",COUNTIF($S$7:S3445,\"該当２\"))","v":""},"","",{"$f":"IF(V3445=\"\",\"\",COUNTIF($V$7:V3445,\"該当３\"))","v":""}]
[2222301000,"22",223,{"v":1,"d":"01"},{"v":0,"d":"000"},"静岡県","御前崎市","御前崎村",null,null,"","",{"$f":"IF(K3447=\"\",\"\",COUNTIF($K$7:K3447,\"ﾘｽﾄ１\"))","v":""},"","","","","","","",{"$f":"IF(S3447=\"\",\"\",COUNTIF($S$7:S3447,\"該当２\"))","v":""},"","",{"$f":"IF(V3447=\"\",\"\",COUNTIF($V$7:V3447,\"該当３\"))","v":""}]
[2222301001,"22",223,{"v":1,"d":"01"},{"v":1,"d":"001"},"静岡県","御前崎市","御前崎村","女岩",null,"","",{"$f":"IF(K3448=\"\",\"\",COUNTIF($K$7:K3448,\"ﾘｽﾄ１\"))","v":""},"","","","","","","",{"$f":"IF(S3448=\"\",\"\",COUNTIF($S$7:S3448,\"該当２\"))","v":""},"","",{"$f":"IF(V3448=\"\",\"\",COUNTIF($V$7:V3448,\"該当３\"))","v":""}]
[2222301003,"22",223,{"v":1,"d":"01"},{"v":3,"d":"003"},"静岡県","御前崎市","御前崎村","大山",null,"","",{"$f":"IF(K3450=\"\",\"\",COUNTIF($K$7:K3450,\"ﾘｽﾄ１\"))","v":""},"","","","","","","",{"$f":"IF(S3450=\"\",\"\",COUNTIF($S$7:S3450,\"該当２\"))","v":""},"","",{"$f":"IF(V3450=\"\",\"\",COUNTIF($V$7:V3450,\"該当３\"))","v":""}]
[2222301004,"22",223,{"v":1,"d":"01"},{"v":4,"d":"004"},"静岡県","御前崎市","御前崎村","下岬",null,"","",{"$f":"IF(K3451=\"\",\"\",COUNTIF($K$7:K3451,\"ﾘｽﾄ１\"))","v":""},"","","","","","","",{"$f":"IF(S3451=\"\",\"\",COUNTIF($S$7:S3451,\"該当２\"))","v":""},"","",{"$f":"IF(V3451=\"\",\"\",COUNTIF($V$7:V3451,\"該当３\"))","v":""}]
[2222301006,"22",223,{"v":1,"d":"01"},{"v":6,"d":"006"},"静岡県","御前崎市","御前崎村","広沢",null,"","",{"$f":"IF(K3453=\"\",\"\",COUNTIF($K$7:K3453,\"ﾘｽﾄ１\"))","v":""},"","","","","","","",{"$f":"IF(S3453=\"\",\"\",COUNTIF($S$7:S3453,\"該当２\"))","v":""},"","",{"$f":"IF(V3453=\"\",\"\",COUNTIF($V$7:V3453,\"該当３\"))","v":""}]
[2222302000,"22",223,{"v":2,"d":"02"},{"v":0,"d":"000"},"静岡県","御前崎市","白羽村",null,null,"","",{"$f":"IF(K3454=\"\",\"\",COUNTIF($K$7:K3454,\"ﾘｽﾄ１\"))","v":""},"","","","","","","",{"$f":"IF(S3454=\"\",\"\",COUNTIF($S$7:S3454,\"該当２\"))","v":""},"","",{"$f":"IF(V3454=\"\",\"\",COUNTIF($V$7:V3454,\"該当３\"))","v":""}]
[2222302002,"22",223,{"v":2,"d":"02"},{"v":2,"d":"002"},"静岡県","御前崎市","白羽村","薄原",null,"","",{"$f":"IF(K3456=\"\",\"\",COUNTIF($K$7:K3456,\"ﾘｽﾄ１\"))","v":""},"","","","","","","",{"$f":"IF(S3456=\"\",\"\",COUNTIF($S$7:S3456,\"該当２\"))","v":""},"","",{"$f":"IF(V3456=\"\",\"\",COUNTIF($V$7:V3456,\"該当３\"))","v":""}]
[2222302003,"22",223,{"v":2,"d":"02"},{"v":3,"d":"003"},"静岡県","御前崎市","白羽村","中原",null,"","",{"$f":"IF(K3457=\"\",\"\",COUNTIF($K$7:K3457,\"ﾘｽﾄ１\"))","v":""},"","","","","","","",{"$f":"IF(S3457=\"\",\"\",COUNTIF($S$7:S3457,\"該当２\"))","v":""},"","",{"$f":"IF(V3457=\"\",\"\",COUNTIF($V$7:V3457,\"該当３\"))","v":""}]
[2222302005,"22",223,{"v":2,"d":"02"},{"v":5,"d":"005"},"静岡県","御前崎市","白羽村","白浜",null,"","",{"$f":"IF(K3459=\"\",\"\",COUNTIF($K$7:K3459,\"ﾘｽﾄ１\"))","v":""},"","","","","","","",{"$f":"IF(S3459=\"\",\"\",COUNTIF($S$7:S3459,\"該当２\"))","v":""},"","",{"$f":"IF(V3459=\"\",\"\",COUNTIF($V$7:V3459,\"該当３\"))","v":""}]
[2222302006,"22",223,{"v":2,"d":"02"},{"v":6,"d":"006"},"静岡県","御前崎市","白羽村","新神子",null,"","",{"$f":"IF(K3460=\"\",\"\",COUNTIF($K$7:K3460,\"ﾘｽﾄ１\"))","v":""},"","","","","","","",{"$f":"IF(S3460=\"\",\"\",COUNTIF($S$7:S3460,\"該当２\"))","v":""},"","",{"$f":"IF(V3460=\"\",\"\",COUNTIF($V$7:V3460,\"該当３\"))","v":""}]
[2222303001,"22",223,{"v":3,"d":"03"},{"v":1,"d":"001"},"静岡県","御前崎市","池新田町","東町",null,"","",{"$f":"IF(K3462=\"\",\"\",COUNTIF($K$7:K3462,\"ﾘｽﾄ１\"))","v":""},"","","","","","","",{"$f":"IF(S3462=\"\",\"\",COUNTIF($S$7:S3462,\"該当２\"))","v":""},"","",{"$f":"IF(V3462=\"\",\"\",COUNTIF($V$7:V3462,\"該当３\"))","v":""}]
[2222303002,"22",223,{"v":3,"d":"03"},{"v":2,"d":"002"},"静岡県","御前崎市","池新田町","早苗町",null,"","",{"$f":"IF(K3463=\"\",\"\",COUNTIF($K$7:K3463,\"ﾘｽﾄ１\"))","v":""},"","","","","","","",{"$f":"IF(S3463=\"\",\"\",COUNTIF($S$7:S3463,\"該当２\"))","v":""},"","",{"$f":"IF(V3463=\"\",\"\",COUNTIF($V$7:V3463,\"該当３\"))","v":""}]
[2222303004,"22",223,{"v":3,"d":"03"},{"v":4,"d":"004"},"静岡県","御前崎市","池新田町","中町",null,"","",{"$f":"IF(K3465=\"\",\"\",COUNTIF($K$7:K3465,\"ﾘｽﾄ１\"))","v":""},"","","","","","","",{"$f":"IF(S3465=\"\",\"\",COUNTIF($S$7:S3465,\"該当２\"))","v":""},"","",{"$f":"IF(V3465=\"\",\"\",COUNTIF($V$7:V3465,\"該当３\"))","v":""}]
[2222303005,"22",223,{"v":3,"d":"03"},{"v":5,"d":"005"},"静岡県","御前崎市","池新田町","大山",null,"","",{"$f":"IF(K3466=\"\",\"\",COUNTIF($K$7:K3466,\"ﾘｽﾄ１\"))","v":""},"","",{"$f":"IF(O3466=\"該当１\",G3466,\"\")","v":""},{"$f":"IF(O3466=\"該当１\",\"ﾘｽﾄ2\",\"\")","v":""},{"$f":"IF(Q3466=\"ﾘｽﾄ2\",H3466,\"\")","v":""},"",{"$f":"IF(S3466=\"該当２\",H3466,\"\")","v":""},{"$f":"IF(S3466=\"\",\"\",COUNTIF($S$7:S3466,\"該当２\"))","v":""},{"$f":"IF(AND($S$2=H3466,E3466>0,E3466<998),\"該当３\",\"\")","v":""},{"$f":"IF(V3466=\"該当３\",I3466,\"\")","v":""},{"$f":"IF(V3466=\"\",\"\",COUNTIF($V$7:V3466,\"該当３\"))","v":""}]
[2222303007,"22",223,{"v":3,"d":"03"},{"v":7,"d":"007"},"静岡県","御前崎市","池新田町","塩原新田",null,"","",{"$f":"IF(K3468=\"\",\"\",COUNTIF($K$7:K3468,\"ﾘｽﾄ１\"))","v":""},"","","","","","","",{"$f":"IF(S3468=\"\",\"\",COUNTIF($S$7:S3468,\"該当２\"))","v":""},"","",{"$f":"IF(V3468=\"\",\"\",COUNTIF($V$7:V3468,\"該当３\"))","v":""}]
[2222303008,"22",223,{"v":3,"d":"03"},{"v":8,"d":"008"},"静岡県","御前崎市","池新田町","合戸",null,"","",{"$f":"IF(K3469=\"\",\"\",COUNTIF($K$7:K3469,\"ﾘｽﾄ１\"))","v":""},"","","","","","","",{"$f":"IF(S3469=\"\",\"\",COUNTIF($S$7:S3469,\"該当２\"))","v":""},"","",{"$f":"IF(V3469=\"\",\"\",COUNTIF($V$7:V3469,\"該当３\"))","v":""}]
[2222304000,"22",223,{"v":4,"d":"04"},{"v":0,"d":"000"},"静岡県","御前崎市","佐倉村",null,null,"","",{"$f":"IF(K3471=\"\",\"\",COUNTIF($K$7:K3471,\"ﾘｽﾄ１\"))","v":""},"","","","","","","",{"$f":"IF(S3471=\"\",\"\",COUNTIF($S$7:S3471,\"該当２\"))","v":""},"","",{"$f":"IF(V3471=\"\",\"\",COUNTIF($V$7:V3471,\"該当３\"))","v":""}]
[2222304001,"22",223,{"v":4,"d":"04"},{"v":1,"d":"001"},"静岡県","御前崎市","佐倉村","洗井",null,"","",{"$f":"IF(K3472=\"\",\"\",COUNTIF($K$7:K3472,\"ﾘｽﾄ１\"))","v":""},"","","","","","","",{"$f":"IF(S3472=\"\",\"\",COUNTIF($S$7:S3472,\"該当２\"))","v":""},"","",{"$f":"IF(V3472=\"\",\"\",COUNTIF($V$7:V3472,\"該当３\"))","v":""}]
[2222304003,"22",223,{"v":4,"d":"04"},{"v":3,"d":"003"},"静岡県","御前崎市","佐倉村","法の沢",null,"","",{"$f":"IF(K3474=\"\",\"\",COUNTIF($K$7:K3474,\"ﾘｽﾄ１\"))","v":""},"","","","","","","",{"$f":"IF(S3474=\"\",\"\",COUNTIF($S$7:S3474,\"該当２\"))","v":""},"","",{"$f":"IF(V3474=\"\",\"\",COUNTIF($V$7:V3474,\"該当３\"))","v":""}]
[2222304004,"22",223,{"v":4,"d":"04"},{"v":4,"d":"004"},"静岡県","御前崎市","佐倉村","上の原",null,"","",{"$f":"IF(K3475=\"\",\"\",COUNTIF($K$7:K3475,\"ﾘｽﾄ１\"))","v":""},"","","","","","","",{"$f":"IF(S3475=\"\",\"\",COUNTIF($S$7:S3475,\"該当２\"))","v":""},"","",{"$f":"IF(V3475=\"\",\"\",COUNTIF($V$7:V3475,\"該当３\"))","v":""}]
[2222304006,"22",223,{"v":4,"d":"04"},{"v":6,"d":"006"},"静岡県","御前崎市","佐倉村","郷",null,"","",{"$f":"IF(K3477=\"\",\"\",COUNTIF($K$7:K3477,\"ﾘｽﾄ１\"))","v":""},"","","","","","","",{"$f":"IF(S3477=\"\",\"\",COUNTIF($S$7:S3477,\"該当２\"))","v":""},"","",{"$f":"IF(V3477=\"\",\"\",COUNTIF($V$7:V3477,\"該当３\"))","v":""}]
[2222304007,"22",223,{"v":4,"d":"04"},{"v":7,"d":"007"},"静岡県","御前崎市","佐倉村","桜ケ池",null,"","",{"$f":"IF(K3478=\"\",\"\",COUNTIF($K$7:K3478,\"ﾘｽﾄ１\"))","v":""},"","","","","","","",{"$f":"IF(S3478=\"\",\"\",COUNTIF($S$7:S3478,\"該当２\"))","v":""},"","",{"$f":"IF(V3478=\"\",\"\",COUNTIF($V$7:V3478,\"該当３\"))","v":""}]
[2222304009,"22",223,{"v":4,"d":"04"},{"v":9,"d":"009"},"静岡県","御前崎市","佐倉村","大兼",null,"","",{"$f":"IF(K3480=\"\",\"\",COUNTIF($K$7:K3480,\"ﾘｽﾄ１\"))","v":""},"","","","","","","",{"$f":"IF(S3480=\"\",\"\",COUNTIF($S$7:S3480,\"該当２\"))","v":""},"","",{"$f":"IF(V3480=\"\",\"\",COUNTIF($V$7:V3480,\"該当３\"))","v":""}]
[2222305000,"22",223,{"v":5,"d":"05"},{"v":0,"d":"000"},"静岡県","御前崎市","比木村",null,null,"","",{"$f":"IF(K3481=\"\",\"\",COUNTIF($K$7:K3481,\"ﾘｽﾄ１\"))","v":""},"","","","","","","",{"$f":"IF(S3481=\"\",\"\",COUNTIF($S$7:S3481,\"該当２\"))","v":""},"","",{"$f":"IF(V3481=\"\",\"\",COUNTIF($V$7:V3481,\"該当３\"))","v":""}]
[2222305002,"22",223,{"v":5,"d":"05"},{"v":2,"d":"002"},"静岡県","御前崎市","比木村","西原",null,"","",{"$f":"IF(K3483=\"\",\"\",COUNTIF($K$7:K3483,\"ﾘｽﾄ１\"))","v":""},"","","","","","","",{"$f":"IF(S3483=\"\",\"\",COUNTIF($S$7:S3483,\"該当２\"))","v":""},"","",{"$f":"IF(V3483=\"\",\"\",COUNTIF($V$7:V3483,\"該当３\"))","v":""}]
[2222305003,"22",223,{"v":5,"d":"05"},{"v":3,"d":"003"},"静岡県","御前崎市","比木村","中田原",null,"","",{"$f":"IF(K3484=\"\",\"\",COUNTIF($K$7:K3484,\"ﾘｽﾄ１\"))","v":""},"","","","","","","",{"$f":"IF(S3484=\"\",\"\",COUNTIF($S$7:S3484,\"該当２\"))","v":""},"","",{"$f":"IF(V3484=\"\",\"\",COUNTIF($V$7:V3484,\"該当３\"))","v":""}]
[2222305005,"22",223,{"v":5,"d":"05"},{"v":5,"d":"005"},"静岡県","御前崎市","比木村","宮木ケ谷",null,"","",{"$f":"IF(K3486=\"\",\"\",COUNTIF($K$7:K3486,\"ﾘｽﾄ１\"))","v":""},"","","","","","","",{"$f":"IF(S3486=\"\",\"\",COUNTIF($S$7:S3486,\"該当２\"))","v":""},"","",{"$f":"IF(V3486=\"\",\"\",COUNTIF($V$7:V3486,\"該当３\"))","v":""}]
[2222305006,"22",223,{"v":5,"d":"05"},{"v":6,"d":"006"},"静岡県","御前崎市","比木村","会下ノ谷",null,"","",{"$f":"IF(K3487=\"\",\"\",COUNTIF($K$7:K3487,\"ﾘｽﾄ１\"))","v":""},"","","","","","","",{"$f":"IF(S3487=\"\",\"\",COUNTIF($S$7:S3487,\"該当２\"))","v":""},"","",{"$f":"IF(V3487=\"\",\"\",COUNTIF($V$7:V3487,\"該当３\"))","v":""}]
[2222305008,"22",223,{"v":5,"d":"05"},{"v":8,"d":"008"},"静岡県","御前崎市","比木村","上比木",null,"","",{"$f":"IF(K3489=\"\",\"\",COUNTIF($K$7:K3489,\"ﾘｽﾄ１\"))","v":""},"","","","","","","",{"$f":"IF(S3489=\"\",\"\",COUNTIF($S$7:S3489,\"該当２\"))","v":""},"","",{"$f":"IF(V3489=\"\",\"\",COUNTIF($V$7:V3489,\"該当３\"))","v":""}]
[2222305009,"22",223,{"v":5,"d":"05"},{"v":9,"d":"009"},"静岡県","御前崎市","比木村","勝佐",null,"","",{"$f":"IF(K3490=\"\",\"\",COUNTIF($K$7:K3490,\"ﾘｽﾄ１\"))","v":""},"","","","","","","",{"$f":"IF(S3490=\"\",\"\",COUNTIF($S$7:S3490,\"該当２\"))","v":""},"","",{"$f":"IF(V3490=\"\",\"\",COUNTIF($V$7:V3490,\"該当３\"))","v":""}]
[2222305011,"22",223,{"v":5,"d":"05"},{"v":11,"d":"011"},"静岡県","御前崎市","比木村","名波",null,"","",{"$f":"IF(K3492=\"\",\"\",COUNTIF($K$7:K3492,\"ﾘｽﾄ１\"))","v":""},"","","","","","","",{"$f":"IF(S3492=\"\",\"\",COUNTIF($S$7:S3492,\"該当２\"))","v":""},"","",{"$f":"IF(V3492=\"\",\"\",COUNTIF($V$7:V3492,\"該当３\"))","v":""}]
[2222305012,"22",223,{"v":5,"d":"05"},{"v":12,"d":"012"},"静岡県","御前崎市","比木村","梶ケ谷",null,"","",{"$f":"IF(K3493=\"\",\"\",COUNTIF($K$7:K3493,\"ﾘｽﾄ１\"))","v":""},"","","","","","","",{"$f":"IF(S3493=\"\",\"\",COUNTIF($S$7:S3493,\"該当２\"))","v":""},"","",{"$f":"IF(V3493=\"\",\"\",COUNTIF($V$7:V3493,\"該当３\"))","v":""}]
[2222306001,"22",223,{"v":6,"d":"06"},{"v":1,"d":"001"},"静岡県","御前崎市","朝比奈村（御前崎市）","下",null,"","",{"$f":"IF(K3495=\"\",\"\",COUNTIF($K$7:K3495,\"ﾘｽﾄ１\"))","v":""},"","","","","","","",{"$f":"IF(S3495=\"\",\"\",COUNTIF($S$7:S3495,\"該当２\"))","v":""},"","",{"$f":"IF(V3495=\"\",\"\",COUNTIF($V$7:V3495,\"該当３\"))","v":""}]
[2222306002,"22",223,{"v":6,"d":"06"},{"v":2,"d":"002"},"静岡県","御前崎市","朝比奈村（御前崎市）","宮ケ谷西",null,"","",{"$f":"IF(K3496=\"\",\"\",COUNTIF($K$7:K3496,\"ﾘｽﾄ１\"))","v":""},"","","","","","","",{"$f":"IF(S3496=\"\",\"\",COUNTIF($S$7:S3496,\"該当２\"))","v":""},"","",{"$f":"IF(V3496=\"\",\"\",COUNTIF($V$7:V3496,\"該当３\"))","v":""}]
[2222306004,"22",223,{"v":6,"d":"06"},{"v":4,"d":"004"},"静岡県","御前崎市","朝比奈村（御前崎市）","宮ケ谷東",null,"","",{"$f":"IF(K3498=\"\",\"\",COUNTIF($K$7:K3498,\"ﾘｽﾄ１\"))","v":""},"","","","","","","",{"$f":"IF(S3498=\"\",\"\",COUNTIF($S$7:S3498,\"該当２\"))","v":""},"","",{"$f":"IF(V3498=\"\",\"\",COUNTIF($V$7:V3498,\"該当３\"))","v":""}]
[2222306005,"22",223,{"v":6,"d":"06"},{"v":5,"d":"005"},"静岡県","御前崎市","朝比奈村（御前崎市）","南",null,"","",{"$f":"IF(K3499=\"\",\"\",COUNTIF($K$7:K3499,\"ﾘｽﾄ１\"))","v":""},"","","","","","","",{"$f":"IF(S3499=\"\",\"\",COUNTIF($S$7:S3499,\"該当２\"))","v":""},"","",{"$f":"IF(V3499=\"\",\"\",COUNTIF($V$7:V3499,\"該当３\"))","v":""}]
[2222306007,"22",223,{"v":6,"d":"06"},{"v":7,"d":"007"},"静岡県","御前崎市","朝比奈村（御前崎市）","北原",null,"","",{"$f":"IF(K3501=\"\",\"\",COUNTIF($K$7:K3501,\"ﾘｽﾄ１\"))","v":""},"","","","","","","",{"$f":"IF(S3501=\"\",\"\",COUNTIF($S$7:S3501,\"該当２\"))","v":""},"","",{"$f":"IF(V3501=\"\",\"\",COUNTIF($V$7:V3501,\"該当３\"))","v":""}]
[2222306008,"22",223,{"v":6,"d":"06"},{"v":8,"d":"008"},"静岡県","御前崎市","朝比奈村（御前崎市）","中原",null,"","",{"$f":"IF(K3502=\"\",\"\",COUNTIF($K$7:K3502,\"ﾘｽﾄ１\"))","v":""},"","","","","","","",{"$f":"IF(S3502=\"\",\"\",COUNTIF($S$7:S3502,\"該当２\"))","v":""},"","",{"$f":"IF(V3502=\"\",\"\",COUNTIF($V$7:V3502,\"該当３\"))","v":""}]
[2222306010,"22",223,{"v":6,"d":"06"},{"v":10,"d":"010"},"静岡県","御前崎市","朝比奈村（御前崎市）","山ケ谷",null,"","",{"$f":"IF(K3504=\"\",\"\",COUNTIF($K$7:K3504,\"ﾘｽﾄ１\"))","v":""},"","","","","","","",{"$f":"IF(S3504=\"\",\"\",COUNTIF($S$7:S3504,\"該当２\"))","v":""},"","",{"$f":"IF(V3504=\"\",\"\",COUNTIF($V$7:V3504,\"該当３\"))","v":""}]
[2222306011,"22",223,{"v":6,"d":"06"},{"v":11,"d":"011"},"静岡県","御前崎市","朝比奈村（御前崎市）","小泉",null,"","",{"$f":"IF(K3505=\"\",\"\",COUNTIF($K$7:K3505,\"ﾘｽﾄ１\"))","v":""},"","","","","","","",{"$f":"IF(S3505=\"\",\"\",COUNTIF($S$7:S3505,\"該当２\"))","v":""},"","",{"$f":"IF(V3505=\"\",\"\",COUNTIF($V$7:V3505,\"該当３\"))","v":""}]
[2222307000,"22",223,{"v":7,"d":"07"},{"v":0,"d":"000"},"静岡県","御前崎市","新野村",null,null,"","",{"$f":"IF(K3507=\"\",\"\",COUNTIF($K$7:K3507,\"ﾘｽﾄ１\"))","v":""},"","","","","","","",{"$f":"IF(S3507=\"\",\"\",COUNTIF($S$7:S3507,\"該当２\"))","v":""},"","",{"$f":"IF(V3507=\"\",\"\",COUNTIF($V$7:V3507,\"該当３\"))","v":""}]
[2222307001,"22",223,{"v":7,"d":"07"},{"v":1,"d":"001"},"静岡県","御前崎市","新野村","新野原",null,"","",{"$f":"IF(K3508=\"\",\"\",COUNTIF($K$7:K3508,\"ﾘｽﾄ１\"))","v":""},"","","","","","","",{"$f":"IF(S3508=\"\",\"\",COUNTIF($S$7:S3508,\"該当２\"))","v":""},"","",{"$f":"IF(V3508=\"\",\"\",COUNTIF($V$7:V3508,\"該当３\"))","v":""}]
[2222307003,"22",223,{"v":7,"d":"07"},{"v":3,"d":"003"},"静岡県","御前崎市","新野村","長ケ谷",null,"","",{"$f":"IF(K3510=\"\",\"\",COUNTIF($K$7:K3510,\"ﾘｽﾄ１\"))","v":""},"","","","","","","",{"$f":"IF(S3510=\"\",\"\",COUNTIF($S$7:S3510,\"該当２\"))","v":""},"","",{"$f":"IF(V3510=\"\",\"\",COUNTIF($V$7:V3510,\"該当３\"))","v":""}]
[2222307004,"22",223,{"v":7,"d":"07"},{"v":4,"d":"004"},"静岡県","御前崎市","新野村","黒田",null,"","",{"$f":"IF(K3511=\"\",\"\",COUNTIF($K$7:K3511,\"ﾘｽﾄ１\"))","v":""},"","","","","","","",{"$f":"IF(S3511=\"\",\"\",COUNTIF($S$7:S3511,\"該当２\"))","v":""},"","",{"$f":"IF(V3511=\"\",\"\",COUNTIF($V$7:V3511,\"該当３\"))","v":""}]
[2222307006,"22",223,{"v":7,"d":"07"},{"v":6,"d":"006"},"静岡県","御前崎市","新野村","山田ケ谷",null,"","",{"$f":"IF(K3513=\"\",\"\",COUNTIF($K$7:K3513,\"ﾘｽﾄ１\"))","v":""},"","","","","","","",{"$f":"IF(S3513=\"\",\"\",COUNTIF($S$7:S3513,\"該当２\"))","v":""},"","",{"$f":"IF(V3513=\"\",\"\",COUNTIF($V$7:V3513,\"該当３\"))","v":""}]
[2222307007,"22",223,{"v":7,"d":"07"},{"v":7,"d":"007"},"静岡県","御前崎市","新野村","中尾",null,"","",{"$f":"IF(K3514=\"\",\"\",COUNTIF($K$7:K3514,\"ﾘｽﾄ１\"))","v":""},"","","","","","","",{"$f":"IF(S3514=\"\",\"\",COUNTIF($S$7:S3514,\"該当２\"))","v":""},"","",{"$f":"IF(V3514=\"\",\"\",COUNTIF($V$7:V3514,\"該当３\"))","v":""}]
[2222307009,"22",223,{"v":7,"d":"07"},{"v":9,"d":"009"},"静岡県","御前崎市","新野村","有ケ谷",null,"","",{"$f":"IF(K3516=\"\",\"\",COUNTIF($K$7:K3516,\"ﾘｽﾄ１\"))","v":""},"","","","","","","",{"$f":"IF(S3516=\"\",\"\",COUNTIF($S$7:S3516,\"該当２\"))","v":""},"","",{"$f":"IF(V3516=\"\",\"\",COUNTIF($V$7:V3516,\"該当３\"))","v":""}]
[2222400000,"22",224,{"v":0,"d":"00"},{"v":0,"d":"000"},"静岡県","菊川市",{"$nulls":3},"ﾘｽﾄ１","菊川市",{"$f":"IF(K3517=\"\",\"\",COUNTIF($K$7:K3517,\"ﾘｽﾄ１\"))","v":31},"","","","","","","",{"$f":"IF(S3517=\"\",\"\",COUNTIF($S$7:S3517,\"該当２\"))","v":""},"","",{"$f":"IF(V3517=\"\",\"\",COUNTIF($V$7:V3517,\"該当３\"))","v":""}]
[2222401001,"22",224,{"v":1,"d":"01"},{"v":1,"d":"001"},"静岡県","菊川市","堀之内町","公文名",null,"","",{"$f":"IF(K3519=\"\",\"\",COUNTIF($K$7:K3519,\"ﾘｽﾄ１\"))","v":""},"","","","","","","",{"$f":"IF(S3519=\"\",\"\",COUNTIF($S$7:S3519,\"該当２\"))","v":""},"","",{"$f":"IF(V3519=\"\",\"\",COUNTIF($V$7:V3519,\"該当３\"))","v":""}]
[2222401002,"22",224,{"v":1,"d":"01"},{"v":2,"d":"002"},"静岡県","菊川市","堀之内町","沢田",null,"","",{"$f":"IF(K3520=\"\",\"\",COUNTIF($K$7:K3520,\"ﾘｽﾄ１\"))","v":""},"","","","","","","",{"$f":"IF(S3520=\"\",\"\",COUNTIF($S$7:S3520,\"該当２\"))","v":""},"","",{"$f":"IF(V3520=\"\",\"\",COUNTIF($V$7:V3520,\"該当３\"))","v":""}]
[2222401004,"22",224,{"v":1,"d":"01"},{"v":4,"d":"004"},"静岡県","菊川市","堀之内町","島川",null,"","",{"$f":"IF(K3522=\"\",\"\",COUNTIF($K$7:K3522,\"ﾘｽﾄ１\"))","v":""},"","","","","","","",{"$f":"IF(S3522=\"\",\"\",COUNTIF($S$7:S3522,\"該当２\"))","v":""},"","",{"$f":"IF(V3522=\"\",\"\",COUNTIF($V$7:V3522,\"該当３\"))","v":""}]
[2222401005,"22",224,{"v":1,"d":"01"},{"v":5,"d":"005"},"静岡県","菊川市","堀之内町","堀田",null,"","",{"$f":"IF(K3523=\"\",\"\",COUNTIF($K$7:K3523,\"ﾘｽﾄ１\"))","v":""},"","","","","","","",{"$f":"IF(S3523=\"\",\"\",COUNTIF($S$7:S3523,\"該当２\"))","v":""},"","",{"$f":"IF(V3523=\"\",\"\",COUNTIF($V$7:V3523,\"該当３\"))","v":""}]
[2222401007,"22",224,{"v":1,"d":"01"},{"v":7,"d":"007"},"静岡県","菊川市","堀之内町","町部",null,"","",{"$f":"IF(K3525=\"\",\"\",COUNTIF($K$7:K3525,\"ﾘｽﾄ１\"))","v":""},"","","","","","","",{"$f":"IF(S3525=\"\",\"\",COUNTIF($S$7:S3525,\"該当２\"))","v":""},"","",{"$f":"IF(V3525=\"\",\"\",COUNTIF($V$7:V3525,\"該当３\"))","v":""}]
[2222402000,"22",224,{"v":2,"d":"02"},{"v":0,"d":"000"},"静岡県","菊川市","六郷村",null,null,"","",{"$f":"IF(K3526=\"\",\"\",COUNTIF($K$7:K3526,\"ﾘｽﾄ１\"))","v":""},"","","","","","","",{"$f":"IF(S3526=\"\",\"\",COUNTIF($S$7:S3526,\"該当２\"))","v":""},"","",{"$f":"IF(V3526=\"\",\"\",COUNTIF($V$7:V3526,\"該当３\"))","v":""}]
[2222402002,"22",224,{"v":2,"d":"02"},{"v":2,"d":"002"},"静岡県","菊川市","六郷村","島",null,"","",{"$f":"IF(K3528=\"\",\"\",COUNTIF($K$7:K3528,\"ﾘｽﾄ１\"))","v":""},"","","","","","","",{"$f":"IF(S3528=\"\",\"\",COUNTIF($S$7:S3528,\"該当２\"))","v":""},"","",{"$f":"IF(V3528=\"\",\"\",COUNTIF($V$7:V3528,\"該当３\"))","v":""}]
[2222402003,"22",224,{"v":2,"d":"02"},{"v":3,"d":"003"},"静岡県","菊川市","六郷村","上本所",null,"","",{"$f":"IF(K3529=\"\",\"\",COUNTIF($K$7:K3529,\"ﾘｽﾄ１\"))","v":""},"","","","","","","",{"$f":"IF(S3529=\"\",\"\",COUNTIF($S$7:S3529,\"該当２\"))","v":""},"","",{"$f":"IF(V3529=\"\",\"\",COUNTIF($V$7:V3529,\"該当３\"))","v":""}]
[2222402005,"22",224,{"v":2,"d":"02"},{"v":5,"d":"005"},"静岡県","菊川市","六郷村","牛渕",null,{"$f":"IF(AND($C3531>0,$H3531=\"\"),\"ﾘｽﾄ１\",\"\")","v":""},{"$f":"IF(K3531=\"ﾘｽﾄ１\",G3531,\"\")","v":""},{"$f":"IF(K3531=\"\",\"\",COUNTIF($K$7:K3531,\"ﾘｽﾄ１\"))","v":""},{"$f":"IF(AND(D3531=0,E3531>0),\"同一区\",\"\")","v":""},{"$f":"IF(AND(EXACT($K$2,G3531),H3531>0),\"該当１\",\"\")","v":""},"","","",{"$f":"IF(AND(Q3531=\"ﾘｽﾄ2\",OR(I3531=0,AND(N3531=\"同一区\",E3531=1))),\"該当２\",\"\")","v":""},"",{"$f":"IF(S3531=\"\",\"\",COUNTIF($S$7:S3531,\"該当２\"))","v":""},"","",{"$f":"IF(V3531=\"\",\"\",COUNTIF($V$7:V3531,\"該当３\"))","v":""}]
[2222402006,"22",224,{"v":2,"d":"02"},{"v":6,"d":"006"},"静岡県","菊川市","六郷村","牧之原上",null,"","",{"$f":"IF(K3532=\"\",\"\",COUNTIF($K$7:K3532,\"ﾘｽﾄ１\"))","v":""},"","","","","","","",{"$f":"IF(S3532=\"\",\"\",COUNTIF($S$7:S3532,\"該当２\"))","v":""},"","",{"$f":"IF(V3532=\"\",\"\",COUNTIF($V$7:V3532,\"該当３\"))","v":""}]
[2222402008,"22",224,{"v":2,"d":"02"},{"v":8,"d":"008"},"静岡県","菊川市","六郷村","下半済",null,"","",{"$f":"IF(K3534=\"\",\"\",COUNTIF($K$7:K3534,\"ﾘｽﾄ１\"))","v":""},"","","","","","","",{"$f":"IF(S3534=\"\",\"\",COUNTIF($S$7:S3534,\"該当２\"))","v":""},"","",{"$f":"IF(V3534=\"\",\"\",COUNTIF($V$7:V3534,\"該当３\"))","v":""}]
[2222402009,"22",224,{"v":2,"d":"02"},{"v":9,"d":"009"},"静岡県","菊川市","六郷村","神尾",null,"","",{"$f":"IF(K3535=\"\",\"\",COUNTIF($K$7:K3535,\"ﾘｽﾄ１\"))","v":""},"","","","","","","",{"$f":"IF(S3535=\"\",\"\",COUNTIF($S$7:S3535,\"該当２\"))","v":""},"","",{"$f":"IF(V3535=\"\",\"\",COUNTIF($V$7:V3535,\"該当３\"))","v":""}]
[2222403001,"22",224,{"v":3,"d":"03"},{"v":1,"d":"001"},"静岡県","菊川市","加茂村","白岩下",null,"","",{"$f":"IF(K3537=\"\",\"\",COUNTIF($K$7:K3537,\"ﾘｽﾄ１\"))","v":""},"","","","","","","",{"$f":"IF(S3537=\"\",\"\",COUNTIF($S$7:S3537,\"該当２\"))","v":""},"","",{"$f":"IF(V3537=\"\",\"\",COUNTIF($V$7:V3537,\"該当３\"))","v":""}]
[2222403002,"22",224,{"v":3,"d":"03"},{"v":2,"d":"002"},"静岡県","菊川市","加茂村","白岩段",null,"","",{"$f":"IF(K3538=\"\",\"\",COUNTIF($K$7:K3538,\"ﾘｽﾄ１\"))","v":""},"","","","","","","",{"$f":"IF(S3538=\"\",\"\",COUNTIF($S$7:S3538,\"該当２\"))","v":""},"","",{"$f":"IF(V3538=\"\",\"\",COUNTIF($V$7:V3538,\"該当３\"))","v":""}]
[2222403004,"22",224,{"v":3,"d":"03"},{"v":4,"d":"004"},"静岡県","菊川市","加茂村","長池",null,"","",{"$f":"IF(K3540=\"\",\"\",COUNTIF($K$7:K3540,\"ﾘｽﾄ１\"))","v":""},"","","","","","","",{"$f":"IF(S3540=\"\",\"\",COUNTIF($S$7:S3540,\"該当２\"))","v":""},"","",{"$f":"IF(V3540=\"\",\"\",COUNTIF($V$7:V3540,\"該当３\"))","v":""}]
[2222403005,"22",224,{"v":3,"d":"03"},{"v":5,"d":"005"},"静岡県","菊川市","加茂村","小川端",null,"","",{"$f":"IF(K3541=\"\",\"\",COUNTIF($K$7:K3541,\"ﾘｽﾄ１\"))","v":""},"","","","","","","",{"$f":"IF(S3541=\"\",\"\",COUNTIF($S$7:S3541,\"該当２\"))","v":""},"","",{"$f":"IF(V3541=\"\",\"\",COUNTIF($V$7:V3541,\"該当３\"))","v":""}]
[2222404000,"22",224,{"v":4,"d":"04"},{"v":0,"d":"000"},"静岡県","菊川市","内田村",null,null,"","",{"$f":"IF(K3543=\"\",\"\",COUNTIF($K$7:K3543,\"ﾘｽﾄ１\"))","v":""},"","","","","","","",{"$f":"IF(S3543=\"\",\"\",COUNTIF($S$7:S3543,\"該当２\"))","v":""},"","",{"$f":"IF(V3543=\"\",\"\",COUNTIF($V$7:V3543,\"該当３\"))","v":""}]
[2222404001,"22",224,{"v":4,"d":"04"},{"v":1,"d":"001"},"静岡県","菊川市","内田村","森",null,"","",{"$f":"IF(K3544=\"\",\"\",COUNTIF($K$7:K3544,\"ﾘｽﾄ１\"))","v":""},"","","","","","","",{"$f":"IF(S3544=\"\",\"\",COUNTIF($S$7:S3544,\"該当２\"))","v":""},"","",{"$f":"IF(V3544=\"\",\"\",COUNTIF($V$7:V3544,\"該当３\"))","v":""}]
[2222404003,"22",224,{"v":4,"d":"04"},{"v":3,"d":"003"},"静岡県","菊川市","内田村","杉森",null,"","",{"$f":"IF(K3546=\"\",\"\",COUNTIF($K$7:K3546,\"ﾘｽﾄ１\"))","v":""},"","","","","","","",{"$f":"IF(S3546=\"\",\"\",COUNTIF($S$7:S3546,\"該当２\"))","v":""},"","",{"$f":"IF(V3546=\"\",\"\",COUNTIF($V$7:V3546,\"該当３\"))","v":""}]
[2222404004,"22",224,{"v":4,"d":"04"},{"v":4,"d":"004"},"静岡県","菊川市","内田村","政所",null,"","",{"$f":"IF(K3547=\"\",\"\",COUNTIF($K$7:K3547,\"ﾘｽﾄ１\"))","v":""},"","","","","","","",{"$f":"IF(S3547=\"\",\"\",COUNTIF($S$7:S3547,\"該当２\"))","v":""},"","",{"$f":"IF(V3547=\"\",\"\",COUNTIF($V$7:V3547,\"該当３\"))","v":""}]
[2222404006,"22",224,{"v":4,"d":"04"},{"v":6,"d":"006"},"静岡県","菊川市","内田村","東平尾",null,"","",{"$f":"IF(K3549=\"\",\"\",COUNTIF($K$7:K3549,\"ﾘｽﾄ１\"))","v":""},"","","","","","","",{"$f":"IF(S3549=\"\",\"\",COUNTIF($S$7:S3549,\"該当２\"))","v":""},"","",{"$f":"IF(V3549=\"\",\"\",COUNTIF($V$7:V3549,\"該当３\"))","v":""}]
[2222404007,"22",224,{"v":4,"d":"04"},{"v":7,"d":"007"},"静岡県","菊川市","内田村","西平尾",null,"","",{"$f":"IF(K3550=\"\",\"\",COUNTIF($K$7:K3550,\"ﾘｽﾄ１\"))","v":""},"","","","","","","",{"$f":"IF(S3550=\"\",\"\",COUNTIF($S$7:S3550,\"該当２\"))","v":""},"","",{"$f":"IF(V3550=\"\",\"\",COUNTIF($V$7:V3550,\"該当３\"))","v":""}]
[2222404009,"22",224,{"v":4,"d":"04"},{"v":9,"d":"009"},"静岡県","菊川市","内田村","稲荷部",null,"","",{"$f":"IF(K3552=\"\",\"\",COUNTIF($K$7:K3552,\"ﾘｽﾄ１\"))","v":""},"","","","","","","",{"$f":"IF(S3552=\"\",\"\",COUNTIF($S$7:S3552,\"該当２\"))","v":""},"","",{"$f":"IF(V3552=\"\",\"\",COUNTIF($V$7:V3552,\"該当３\"))","v":""}]
[2222404010,"22",224,{"v":4,"d":"04"},{"v":10,"d":"010"},"静岡県","菊川市","内田村","段平尾",null,"","",{"$f":"IF(K3553=\"\",\"\",COUNTIF($K$7:K3553,\"ﾘｽﾄ１\"))","v":""},"","","","","","","",{"$f":"IF(S3553=\"\",\"\",COUNTIF($S$7:S3553,\"該当２\"))","v":""},"","",{"$f":"IF(V3553=\"\",\"\",COUNTIF($V$7:V3553,\"該当３\"))","v":""}]
[2222405001,"22",224,{"v":5,"d":"05"},{"v":1,"d":"001"},"静岡県","菊川市","横地村","奈良野",null,"","",{"$f":"IF(K3555=\"\",\"\",COUNTIF($K$7:K3555,\"ﾘｽﾄ１\"))","v":""},"","","","","","","",{"$f":"IF(S3555=\"\",\"\",COUNTIF($S$7:S3555,\"該当２\"))","v":""},"","",{"$f":"IF(V3555=\"\",\"\",COUNTIF($V$7:V3555,\"該当３\"))","v":""}]
[2222405002,"22",224,{"v":5,"d":"05"},{"v":2,"d":"002"},"静岡県","菊川市","横地村","土橋",null,"","",{"$f":"IF(K3556=\"\",\"\",COUNTIF($K$7:K3556,\"ﾘｽﾄ１\"))","v":""},"","","","","","","",{"$f":"IF(S3556=\"\",\"\",COUNTIF($S$7:S3556,\"該当２\"))","v":""},"","",{"$f":"IF(V3556=\"\",\"\",COUNTIF($V$7:V3556,\"該当３\"))","v":""}]
[2222405004,"22",224,{"v":5,"d":"05"},{"v":4,"d":"004"},"静岡県","菊川市","横地村","川島",null,"","",{"$f":"IF(K3558=\"\",\"\",COUNTIF($K$7:K3558,\"ﾘｽﾄ１\"))","v":""},"","","","","","","",{"$f":"IF(S3558=\"\",\"\",COUNTIF($S$7:S3558,\"該当２\"))","v":""},"","",{"$f":"IF(V3558=\"\",\"\",COUNTIF($V$7:V3558,\"該当３\"))","v":""}]
[2222405005,"22",224,{"v":5,"d":"05"},{"v":5,"d":"005"},"静岡県","菊川市","横地村","段横地",null,"","",{"$f":"IF(K3559=\"\",\"\",COUNTIF($K$7:K3559,\"ﾘｽﾄ１\"))","v":""},"","","","","","","",{"$f":"IF(S3559=\"\",\"\",COUNTIF($S$7:S3559,\"該当２\"))","v":""},"","",{"$f":"IF(V3559=\"\",\"\",COUNTIF($V$7:V3559,\"該当３\"))","v":""}]
[2222405007,"22",224,{"v":5,"d":"05"},{"v":7,"d":"007"},"静岡県","菊川市","横地村","三沢",null,"","",{"$f":"IF(K3561=\"\",\"\",COUNTIF($K$7:K3561,\"ﾘｽﾄ１\"))","v":""},"","","","","","","",{"$f":"IF(S3561=\"\",\"\",COUNTIF($S$7:S3561,\"該当２\"))","v":""},"","",{"$f":"IF(V3561=\"\",\"\",COUNTIF($V$7:V3561,\"該当３\"))","v":""}]
[2222406000,"22",224,{"v":6,"d":"06"},{"v":0,"d":"000"},"静岡県","菊川市","河城村",null,null,"","",{"$f":"IF(K3562=\"\",\"\",COUNTIF($K$7:K3562,\"ﾘｽﾄ１\"))","v":""},"","","","","","","",{"$f":"IF(S3562=\"\",\"\",COUNTIF($S$7:S3562,\"該当２\"))","v":""},"","",{"$f":"IF(V3562=\"\",\"\",COUNTIF($V$7:V3562,\"該当３\"))","v":""}]
[2222406002,"22",224,{"v":6,"d":"06"},{"v":2,"d":"002"},"静岡県","菊川市","河城村","上倉沢",null,"","",{"$f":"IF(K3564=\"\",\"\",COUNTIF($K$7:K3564,\"ﾘｽﾄ１\"))","v":""},"","","","","","","",{"$f":"IF(S3564=\"\",\"\",COUNTIF($S$7:S3564,\"該当２\"))","v":""},"","",{"$f":"IF(V3564=\"\",\"\",COUNTIF($V$7:V3564,\"該当３\"))","v":""}]
[2222406003,"22",224,{"v":6,"d":"06"},{"v":3,"d":"003"},"静岡県","菊川市","河城村","下倉沢",null,"","",{"$f":"IF(K3565=\"\",\"\",COUNTIF($K$7:K3565,\"ﾘｽﾄ１\"))","v":""},"","","","","","","",{"$f":"IF(S3565=\"\",\"\",COUNTIF($S$7:S3565,\"該当２\"))","v":""},"","",{"$f":"IF(V3565=\"\",\"\",COUNTIF($V$7:V3565,\"該当３\"))","v":""}]
[2222406005,"22",224,{"v":6,"d":"06"},{"v":5,"d":"005"},"静岡県","菊川市","河城村","友田",null,"","",{"$f":"IF(K3567=\"\",\"\",COUNTIF($K$7:K3567,\"ﾘｽﾄ１\"))","v":""},"","","","","","","",{"$f":"IF(S3567=\"\",\"\",COUNTIF($S$7:S3567,\"該当２\"))","v":""},"","",{"$f":"IF(V3567=\"\",\"\",COUNTIF($V$7:V3567,\"該当３\"))","v":""}]
[2222406006,"22",224,{"v":6,"d":"06"},{"v":6,"d":"006"},"静岡県","菊川市","河城村","東富田",null,"","",{"$f":"IF(K3568=\"\",\"\",COUNTIF($K$7:K3568,\"ﾘｽﾄ１\"))","v":""},"","","","","","","",{"$f":"IF(S3568=\"\",\"\",COUNTIF($S$7:S3568,\"該当２\"))","v":""},"","",{"$f":"IF(V3568=\"\",\"\",COUNTIF($V$7:V3568,\"該当３\"))","v":""}]
[2222406008,"22",224,{"v":6,"d":"06"},{"v":8,"d":"008"},"静岡県","菊川市","河城村","沢水加",null,"","",{"$f":"IF(K3570=\"\",\"\",COUNTIF($K$7:K3570,\"ﾘｽﾄ１\"))","v":""},"","","","","","","",{"$f":"IF(S3570=\"\",\"\",COUNTIF($S$7:S3570,\"該当２\"))","v":""},"","",{"$f":"IF(V3570=\"\",\"\",COUNTIF($V$7:V3570,\"該当３\"))","v":""}]
[2222406009,"22",224,{"v":6,"d":"06"},{"v":9,"d":"009"},"静岡県","菊川市","河城村","和田",null,"","",{"$f":"IF(K3571=\"\",\"\",COUNTIF($K$7:K3571,\"ﾘｽﾄ１\"))","v":""},"","","","","","","",{"$f":"IF(S3571=\"\",\"\",COUNTIF($S$7:S3571,\"該当２\"))","v":""},"","",{"$f":"IF(V3571=\"\",\"\",COUNTIF($V$7:V3571,\"該当３\"))","v":""}]
[2222407000,"22",224,{"v":7,"d":"07"},{"v":0,"d":"000"},"静岡県","菊川市","小笠村２－２",null,null,"","",{"$f":"IF(K3573=\"\",\"\",COUNTIF($K$7:K3573,\"ﾘｽﾄ１\"))","v":""},"","","","","","","",{"$f":"IF(S3573=\"\",\"\",COUNTIF($S$7:S3573,\"該当２\"))","v":""},"","",{"$f":"IF(V3573=\"\",\"\",COUNTIF($V$7:V3573,\"該当３\"))","v":""}]
[2222407001,"22",224,{"v":7,"d":"07"},{"v":1,"d":"001"},"静岡県","菊川市","小笠村２－２","牧之原下",null,"","",{"$f":"IF(K3574=\"\",\"\",COUNTIF($K$7:K3574,\"ﾘｽﾄ１\"))","v":""},"","","","","","","",{"$f":"IF(S3574=\"\",\"\",COUNTIF($S$7:S3574,\"該当２\"))","v":""},"","",{"$f":"IF(V3574=\"\",\"\",COUNTIF($V$7:V3574,\"該当３\"))","v":""}]
[2222408001,"22",224,{"v":8,"d":"08"},{"v":1,"d":"001"},"静岡県","菊川市","小笠村２－１","布引原",null,"","",{"$f":"IF(K3576=\"\",\"\",COUNTIF($K$7:K3576,\"ﾘｽﾄ１\"))","v":""},"","","","","","","",{"$f":"IF(S3576=\"\",\"\",COUNTIF($S$7:S3576,\"該当２\"))","v":""},"","",{"$f":"IF(V3576=\"\",\"\",COUNTIF($V$7:V3576,\"該当３\"))","v":""}]
[2222408002,"22",224,{"v":8,"d":"08"},{"v":2,"d":"002"},"静岡県","菊川市","小笠村２－１","丹野",null,"","",{"$f":"IF(K3577=\"\",\"\",COUNTIF($K$7:K3577,\"ﾘｽﾄ１\"))","v":""},"","","","","","","",{"$f":"IF(S3577=\"\",\"\",COUNTIF($S$7:S3577,\"該当２\"))","v":""},"","",{"$f":"IF(V3577=\"\",\"\",COUNTIF($V$7:V3577,\"該当３\"))","v":""}]
[2222408004,"22",224,{"v":8,"d":"08"},{"v":4,"d":"004"},"静岡県","菊川市","小笠村２－１","川東",null,"","",{"$f":"IF(K3579=\"\",\"\",COUNTIF($K$7:K3579,\"ﾘｽﾄ１\"))","v":""},"","","","","","","",{"$f":"IF(S3579=\"\",\"\",COUNTIF($S$7:S3579,\"該当２\"))","v":""},"","",{"$f":"IF(V3579=\"\",\"\",COUNTIF($V$7:V3579,\"該当３\"))","v":""}]
[2222408005,"22",224,{"v":8,"d":"08"},{"v":5,"d":"005"},"静岡県","菊川市","小笠村２－１","川中",null,"","",{"$f":"IF(K3580=\"\",\"\",COUNTIF($K$7:K3580,\"ﾘｽﾄ１\"))","v":""},"","","","","","","",{"$f":"IF(S3580=\"\",\"\",COUNTIF($S$7:S3580,\"該当２\"))","v":""},"","",{"$f":"IF(V3580=\"\",\"\",COUNTIF($V$7:V3580,\"該当３\"))","v":""}]
[2222408007,"22",224,{"v":8,"d":"08"},{"v":7,"d":"007"},"静岡県","菊川市","小笠村２－１","赤土上",null,"","",{"$f":"IF(K3582=\"\",\"\",COUNTIF($K$7:K3582,\"ﾘｽﾄ１\"))","v":""},"","","","","","","",{"$f":"IF(S3582=\"\",\"\",COUNTIF($S$7:S3582,\"該当２\"))","v":""},"","",{"$f":"IF(V3582=\"\",\"\",COUNTIF($V$7:V3582,\"該当３\"))","v":""}]
[2222408008,"22",224,{"v":8,"d":"08"},{"v":8,"d":"008"},"静岡県","菊川市","小笠村２－１","赤土下",null,"","",{"$f":"IF(K3583=\"\",\"\",COUNTIF($K$7:K3583,\"ﾘｽﾄ１\"))","v":""},"","","","","","","",{"$f":"IF(S3583=\"\",\"\",COUNTIF($S$7:S3583,\"該当２\"))","v":""},"","",{"$f":"IF(V3583=\"\",\"\",COUNTIF($V$7:V3583,\"該当３\"))","v":""}]
[2222408010,"22",224,{"v":8,"d":"08"},{"v":10,"d":"010"},"静岡県","菊川市","小笠村２－１","猿渡",null,"","",{"$f":"IF(K3585=\"\",\"\",COUNTIF($K$7:K3585,\"ﾘｽﾄ１\"))","v":""},"","","","","","","",{"$f":"IF(S3585=\"\",\"\",COUNTIF($S$7:S3585,\"該当２\"))","v":""},"","",{"$f":"IF(V3585=\"\",\"\",COUNTIF($V$7:V3585,\"該当３\"))","v":""}]
[2222408011,"22",224,{"v":8,"d":"08"},{"v":11,"d":"011"},"静岡県","菊川市","小笠村２－１","目木・山東",null,"","",{"$f":"IF(K3586=\"\",\"\",COUNTIF($K$7:K3586,\"ﾘｽﾄ１\"))","v":""},"","","","","","","",{"$f":"IF(S3586=\"\",\"\",COUNTIF($S$7:S3586,\"該当２\"))","v":""},"","",{"$f":"IF(V3586=\"\",\"\",COUNTIF($V$7:V3586,\"該当３\"))","v":""}]
[2222409001,"22",224,{"v":9,"d":"09"},{"v":1,"d":"001"},"静岡県","菊川市","南山村","原磯部",null,"","",{"$f":"IF(K3588=\"\",\"\",COUNTIF($K$7:K3588,\"ﾘｽﾄ１\"))","v":""},"","","","","","","",{"$f":"IF(S3588=\"\",\"\",COUNTIF($S$7:S3588,\"該当２\"))","v":""},"","",{"$f":"IF(V3588=\"\",\"\",COUNTIF($V$7:V3588,\"該当３\"))","v":""}]
[2222409002,"22",224,{"v":9,"d":"09"},{"v":2,"d":"002"},"静岡県","菊川市","南山村","高橋中",null,"","",{"$f":"IF(K3589=\"\",\"\",COUNTIF($K$7:K3589,\"ﾘｽﾄ１\"))","v":""},"","","","","","","",{"$f":"IF(S3589=\"\",\"\",COUNTIF($S$7:S3589,\"該当２\"))","v":""},"","",{"$f":"IF(V3589=\"\",\"\",COUNTIF($V$7:V3589,\"該当３\"))","v":""}]
[2222409004,"22",224,{"v":9,"d":"09"},{"v":4,"d":"004"},"静岡県","菊川市","南山村","南町",null,"","",{"$f":"IF(K3591=\"\",\"\",COUNTIF($K$7:K3591,\"ﾘｽﾄ１\"))","v":""},"","","","","","","",{"$f":"IF(S3591=\"\",\"\",COUNTIF($S$7:S3591,\"該当２\"))","v":""},"","",{"$f":"IF(V3591=\"\",\"\",COUNTIF($V$7:V3591,\"該当３\"))","v":""}]
[2222409005,"22",224,{"v":9,"d":"09"},{"v":5,"d":"005"},"静岡県","菊川市","南山村","山西",null,"","",{"$f":"IF(K3592=\"\",\"\",COUNTIF($K$7:K3592,\"ﾘｽﾄ１\"))","v":""},"","","","","","","",{"$f":"IF(S3592=\"\",\"\",COUNTIF($S$7:S3592,\"該当２\"))","v":""},"","",{"$f":"IF(V3592=\"\",\"\",COUNTIF($V$7:V3592,\"該当３\"))","v":""}]
[2222409007,"22",224,{"v":9,"d":"09"},{"v":7,"d":"007"},"静岡県","菊川市","南山村","堀之内谷",null,"","",{"$f":"IF(K3594=\"\",\"\",COUNTIF($K$7:K3594,\"ﾘｽﾄ１\"))","v":""},"","",{"$f":"IF(O3594=\"該当１\",G3594,\"\")","v":""},{"$f":"IF(O3594=\"該当１\",\"ﾘｽﾄ2\",\"\")","v":""},{"$f":"IF(Q3594=\"ﾘｽﾄ2\",H3594,\"\")","v":""},"",{"$f":"IF(S3594=\"該当２\",H3594,\"\")","v":""},{"$f":"IF(S3594=\"\",\"\",COUNTIF($S$7:S3594,\"該当２\"))","v":""},{"$f":"IF(AND($S$2=H3594,E3594>0,E3594<998),\"該当３\",\"\")","v":""},{"$f":"IF(V3594=\"該当３\",I3594,\"\")","v":""},{"$f":"IF(V3594=\"\",\"\",COUNTIF($V$7:V3594,\"該当３\"))","v":""}]
[2222409008,"22",224,{"v":9,"d":"09"},{"v":8,"d":"008"},"静岡県","菊川市","南山村","今間・一之谷",null,{"$f":"IF(AND($C3595>0,$H3595=\"\"),\"ﾘｽﾄ１\",\"\")","v":""},{"$f":"IF(K3595=\"ﾘｽﾄ１\",G3595,\"\")","v":""},{"$f":"IF(K3595=\"\",\"\",COUNTIF($K$7:K3595,\"ﾘｽﾄ１\"))","v":""},{"$f":"IF(AND(D3595=0,E3595>0),\"同一区\",\"\")","v":""},{"$f":"IF(AND(EXACT($K$2,G3595),H3595>0),\"該当１\",\"\")","v":""},"","","",{"$f":"IF(AND(Q3595=\"ﾘｽﾄ2\",OR(I3595=0,AND(N3595=\"同一区\",E3595=1))),\"該当２\",\"\")","v":""},"",{"$f":"IF(S3595=\"\",\"\",COUNTIF($S$7:S3595,\"該当２\"))","v":""},"","",{"$f":"IF(V3595=\"\",\"\",COUNTIF($V$7:V3595,\"該当３\"))","v":""}]
[2222410000,"22",224,10,{"v":0,"d":"000"},"静岡県","菊川市","平田村",null,null,"","",{"$f":"IF(K3597=\"\",\"\",COUNTIF($K$7:K3597,\"ﾘｽﾄ１\"))","v":""},"","","","","","","",{"$f":"IF(S3597=\"\",\"\",COUNTIF($S$7:S3597,\"該当２\"))","v":""},"","",{"$f":"IF(V3597=\"\",\"\",COUNTIF($V$7:V3597,\"該当３\"))","v":""}]
[2222410001,"22",224,10,{"v":1,"d":"001"},"静岡県","菊川市","平田村","上平川",null,"","",{"$f":"IF(K3598=\"\",\"\",COUNTIF($K$7:K3598,\"ﾘｽﾄ１\"))","v":""},"","","","","","","",{"$f":"IF(S3598=\"\",\"\",COUNTIF($S$7:S3598,\"該当２\"))","v":""},"","",{"$f":"IF(V3598=\"\",\"\",COUNTIF($V$7:V3598,\"該当３\"))","v":""}]
[2222410003,"22",224,10,{"v":3,"d":"003"},"静岡県","菊川市","平田村","堤",null,"","",{"$f":"IF(K3600=\"\",\"\",COUNTIF($K$7:K3600,\"ﾘｽﾄ１\"))","v":""},"","","","","","","",{"$f":"IF(S3600=\"\",\"\",COUNTIF($S$7:S3600,\"該当２\"))","v":""},"","",{"$f":"IF(V3600=\"\",\"\",COUNTIF($V$7:V3600,\"該当３\"))","v":""}]
[2222410004,"22",224,10,{"v":4,"d":"004"},"静岡県","菊川市","平田村","志瑞",null,"","",{"$f":"IF(K3601=\"\",\"\",COUNTIF($K$7:K3601,\"ﾘｽﾄ１\"))","v":""},"","","","","","","",{"$f":"IF(S3601=\"\",\"\",COUNTIF($S$7:S3601,\"該当２\"))","v":""},"","",{"$f":"IF(V3601=\"\",\"\",COUNTIF($V$7:V3601,\"該当３\"))","v":""}]
[2222410006,"22",224,10,{"v":6,"d":"006"},"静岡県","菊川市","平田村","八幡谷",null,"","",{"$f":"IF(K3603=\"\",\"\",COUNTIF($K$7:K3603,\"ﾘｽﾄ１\"))","v":""},"","","","","","","",{"$f":"IF(S3603=\"\",\"\",COUNTIF($S$7:S3603,\"該当２\"))","v":""},"","",{"$f":"IF(V3603=\"\",\"\",COUNTIF($V$7:V3603,\"該当３\"))","v":""}]
[2222410007,"22",224,10,{"v":7,"d":"007"},"静岡県","菊川市","平田村","東組",null,"","",{"$f":"IF(K3604=\"\",\"\",COUNTIF($K$7:K3604,\"ﾘｽﾄ１\"))","v":""},"","","","","","","",{"$f":"IF(S3604=\"\",\"\",COUNTIF($S$7:S3604,\"該当２\"))","v":""},"","",{"$f":"IF(V3604=\"\",\"\",COUNTIF($V$7:V3604,\"該当３\"))","v":""}]
[2222410009,"22",224,10,{"v":9,"d":"009"},"静岡県","菊川市","平田村","新道",null,"","",{"$f":"IF(K3606=\"\",\"\",COUNTIF($K$7:K3606,\"ﾘｽﾄ１\"))","v":""},"","","","","","","",{"$f":"IF(S3606=\"\",\"\",COUNTIF($S$7:S3606,\"該当２\"))","v":""},"","",{"$f":"IF(V3606=\"\",\"\",COUNTIF($V$7:V3606,\"該当３\"))","v":""}]
[2222410010,"22",224,10,{"v":10,"d":"010"},"静岡県","菊川市","平田村","下新道・本町・岳洋",null,"","",{"$f":"IF(K3607=\"\",\"\",COUNTIF($K$7:K3607,\"ﾘｽﾄ１\"))","v":""},"","","","","","","",{"$f":"IF(S3607=\"\",\"\",COUNTIF($S$7:S3607,\"該当２\"))","v":""},"","",{"$f":"IF(V3607=\"\",\"\",COUNTIF($V$7:V3607,\"該当３\"))","v":""}]
[2222410012,"22",224,10,{"v":12,"d":"012"},"静岡県","菊川市","平田村","東嶺田",null,"","",{"$f":"IF(K3609=\"\",\"\",COUNTIF($K$7:K3609,\"ﾘｽﾄ１\"))","v":""},"","","","","","","",{"$f":"IF(S3609=\"\",\"\",COUNTIF($S$7:S3609,\"該当２\"))","v":""},"","",{"$f":"IF(V3609=\"\",\"\",COUNTIF($V$7:V3609,\"該当３\"))","v":""}]
[2222410013,"22",224,10,{"v":13,"d":"013"},"静岡県","菊川市","平田村","中嶺田",null,"","",{"$f":"IF(K3610=\"\",\"\",COUNTIF($K$7:K3610,\"ﾘｽﾄ１\"))","v":""},"","","","","","","",{"$f":"IF(S3610=\"\",\"\",COUNTIF($S$7:S3610,\"該当２\"))","v":""},"","",{"$f":"IF(V3610=\"\",\"\",COUNTIF($V$7:V3610,\"該当３\"))","v":""}]
[2222410015,"22",224,10,{"v":15,"d":"015"},"静岡県","菊川市","平田村","堂山",null,"","",{"$f":"IF(K3612=\"\",\"\",COUNTIF($K$7:K3612,\"ﾘｽﾄ１\"))","v":""},"","","","","","","",{"$f":"IF(S3612=\"\",\"\",COUNTIF($S$7:S3612,\"該当２\"))","v":""},"","",{"$f":"IF(V3612=\"\",\"\",COUNTIF($V$7:V3612,\"該当３\"))","v":""}]
[2222410016,"22",224,10,{"v":16,"d":"016"},"静岡県","菊川市","平田村","西ケ崎",null,"","",{"$f":"IF(K3613=\"\",\"\",COUNTIF($K$7:K3613,\"ﾘｽﾄ１\"))","v":""},"","","","","","","",{"$f":"IF(S3613=\"\",\"\",COUNTIF($S$7:S3613,\"該当２\"))","v":""},"","",{"$f":"IF(V3613=\"\",\"\",COUNTIF($V$7:V3613,\"該当３\"))","v":""}]
[2222411001,"22",224,11,{"v":1,"d":"001"},"静岡県","菊川市","中村３－３","大石",null,"","",{"$f":"IF(K3615=\"\",\"\",COUNTIF($K$7:K3615,\"ﾘｽﾄ１\"))","v":""},"","","","","","","",{"$f":"IF(S3615=\"\",\"\",COUNTIF($S$7:S3615,\"該当２\"))","v":""},"","",{"$f":"IF(V3615=\"\",\"\",COUNTIF($V$7:V3615,\"該当３\"))","v":""}]
[2222500000,"22",225,{"v":0,"d":"00"},{"v":0,"d":"000"},"静岡県","伊豆の国市",{"$nulls":3},"ﾘｽﾄ１","伊豆の国市",{"$f":"IF(K3616=\"\",\"\",COUNTIF($K$7:K3616,\"ﾘｽﾄ１\"))","v":32},"","","","","","","",{"$f":"IF(S3616=\"\",\"\",COUNTIF($S$7:S3616,\"該当２\"))","v":""},"","",{"$f":"IF(V3616=\"\",\"\",COUNTIF($V$7:V3616,\"該当３\"))","v":""}]
[2222501001,"22",225,{"v":1,"d":"01"},{"v":1,"d":"001"},"静岡県","伊豆の国市","伊豆長岡町","墹之上",null,"","",{"$f":"IF(K3618=\"\",\"\",COUNTIF($K$7:K3618,\"ﾘｽﾄ１\"))","v":""},"","","","","","","",{"$f":"IF(S3618=\"\",\"\",COUNTIF($S$7:S3618,\"該当２\"))","v":""},"","",{"$f":"IF(V3618=\"\",\"\",COUNTIF($V$7:V3618,\"該当３\"))","v":""}]
[2222501002,"22",225,{"v":1,"d":"01"},{"v":2,"d":"002"},"静岡県","伊豆の国市","伊豆長岡町","古奈",null,"","",{"$f":"IF(K3619=\"\",\"\",COUNTIF($K$7:K3619,\"ﾘｽﾄ１\"))","v":""},"","","","","","","",{"$f":"IF(S3619=\"\",\"\",COUNTIF($S$7:S3619,\"該当２\"))","v":""},"","",{"$f":"IF(V3619=\"\",\"\",COUNTIF($V$7:V3619,\"該当３\"))","v":""}]
[2222501004,"22",225,{"v":1,"d":"01"},{"v":4,"d":"004"},"静岡県","伊豆の国市","伊豆長岡町","長岡",null,"","",{"$f":"IF(K3621=\"\",\"\",COUNTIF($K$7:K3621,\"ﾘｽﾄ１\"))","v":""},"","","","","","","",{"$f":"IF(S3621=\"\",\"\",COUNTIF($S$7:S3621,\"該当２\"))","v":""},"","",{"$f":"IF(V3621=\"\",\"\",COUNTIF($V$7:V3621,\"該当３\"))","v":""}]
[2222501005,"22",225,{"v":1,"d":"01"},{"v":5,"d":"005"},"静岡県","伊豆の国市","伊豆長岡町","小坂",null,"","",{"$f":"IF(K3622=\"\",\"\",COUNTIF($K$7:K3622,\"ﾘｽﾄ１\"))","v":""},"","","","","","","",{"$f":"IF(S3622=\"\",\"\",COUNTIF($S$7:S3622,\"該当２\"))","v":""},"","",{"$f":"IF(V3622=\"\",\"\",COUNTIF($V$7:V3622,\"該当３\"))","v":""}]
[2222501007,"22",225,{"v":1,"d":"01"},{"v":7,"d":"007"},"静岡県","伊豆の国市","伊豆長岡町","戸沢",null,"","",{"$f":"IF(K3624=\"\",\"\",COUNTIF($K$7:K3624,\"ﾘｽﾄ１\"))","v":""},"","","","","","","",{"$f":"IF(S3624=\"\",\"\",COUNTIF($S$7:S3624,\"該当２\"))","v":""},"","",{"$f":"IF(V3624=\"\",\"\",COUNTIF($V$7:V3624,\"該当３\"))","v":""}]
[2222501008,"22",225,{"v":1,"d":"01"},{"v":8,"d":"008"},"静岡県","伊豆の国市","伊豆長岡町","花坂",null,"","",{"$f":"IF(K3625=\"\",\"\",COUNTIF($K$7:K3625,\"ﾘｽﾄ１\"))","v":""},"","","","","","","",{"$f":"IF(S3625=\"\",\"\",COUNTIF($S$7:S3625,\"該当２\"))","v":""},"","",{"$f":"IF(V3625=\"\",\"\",COUNTIF($V$7:V3625,\"該当３\"))","v":""}]
[2222502001,"22",225,{"v":2,"d":"02"},{"v":1,"d":"001"},"静岡県","伊豆の国市","江間村","大北",null,"","",{"$f":"IF(K3627=\"\",\"\",COUNTIF($K$7:K3627,\"ﾘｽﾄ１\"))","v":""},"","","","","","","",{"$f":"IF(S3627=\"\",\"\",COUNTIF($S$7:S3627,\"該当２\"))","v":""},"","",{"$f":"IF(V3627=\"\",\"\",COUNTIF($V$7:V3627,\"該当３\"))","v":""}]
[2222502002,"22",225,{"v":2,"d":"02"},{"v":2,"d":"002"},"静岡県","伊豆の国市","江間村","町屋",null,"","",{"$f":"IF(K3628=\"\",\"\",COUNTIF($K$7:K3628,\"ﾘｽﾄ１\"))","v":""},"","","","","","","",{"$f":"IF(S3628=\"\",\"\",COUNTIF($S$7:S3628,\"該当２\"))","v":""},"","",{"$f":"IF(V3628=\"\",\"\",COUNTIF($V$7:V3628,\"該当３\"))","v":""}]
[2222502004,"22",225,{"v":2,"d":"02"},{"v":4,"d":"004"},"静岡県","伊豆の国市","江間村","長塚",null,"","",{"$f":"IF(K3630=\"\",\"\",COUNTIF($K$7:K3630,\"ﾘｽﾄ１\"))","v":""},"","","","","","","",{"$f":"IF(S3630=\"\",\"\",COUNTIF($S$7:S3630,\"該当２\"))","v":""},"","",{"$f":"IF(V3630=\"\",\"\",COUNTIF($V$7:V3630,\"該当３\"))","v":""}]
[2222502005,"22",225,{"v":2,"d":"02"},{"v":5,"d":"005"},"静岡県","伊豆の国市","江間村","珍野",null,"","",{"$f":"IF(K3631=\"\",\"\",COUNTIF($K$7:K3631,\"ﾘｽﾄ１\"))","v":""},"","","","","","","",{"$f":"IF(S3631=\"\",\"\",COUNTIF($S$7:S3631,\"該当２\"))","v":""},"","",{"$f":"IF(V3631=\"\",\"\",COUNTIF($V$7:V3631,\"該当３\"))","v":""}]
[2222502007,"22",225,{"v":2,"d":"02"},{"v":7,"d":"007"},"静岡県","伊豆の国市","江間村","仲之台",null,"","",{"$f":"IF(K3633=\"\",\"\",COUNTIF($K$7:K3633,\"ﾘｽﾄ１\"))","v":""},"","","","","","","",{"$f":"IF(S3633=\"\",\"\",COUNTIF($S$7:S3633,\"該当２\"))","v":""},"","",{"$f":"IF(V3633=\"\",\"\",COUNTIF($V$7:V3633,\"該当３\"))","v":""}]
[2222502008,"22",225,{"v":2,"d":"02"},{"v":8,"d":"008"},"静岡県","伊豆の国市","江間村","谷戸",null,"","",{"$f":"IF(K3634=\"\",\"\",COUNTIF($K$7:K3634,\"ﾘｽﾄ１\"))","v":""},"","","","","","","",{"$f":"IF(S3634=\"\",\"\",COUNTIF($S$7:S3634,\"該当２\"))","v":""},"","",{"$f":"IF(V3634=\"\",\"\",COUNTIF($V$7:V3634,\"該当３\"))","v":""}]
[2222503001,"22",225,{"v":3,"d":"03"},{"v":1,"d":"001"},"静岡県","伊豆の国市","韮山町","金谷",null,"","",{"$f":"IF(K3636=\"\",\"\",COUNTIF($K$7:K3636,\"ﾘｽﾄ１\"))","v":""},"","","","","","","",{"$f":"IF(S3636=\"\",\"\",COUNTIF($S$7:S3636,\"該当２\"))","v":""},"","",{"$f":"IF(V3636=\"\",\"\",COUNTIF($V$7:V3636,\"該当３\"))","v":""}]
[2222503002,"22",225,{"v":3,"d":"03"},{"v":2,"d":"002"},"静岡県","伊豆の国市","韮山町","山木",null,"","",{"$f":"IF(K3637=\"\",\"\",COUNTIF($K$7:K3637,\"ﾘｽﾄ１\"))","v":""},"","","","","","","",{"$f":"IF(S3637=\"\",\"\",COUNTIF($S$7:S3637,\"該当２\"))","v":""},"","",{"$f":"IF(V3637=\"\",\"\",COUNTIF($V$7:V3637,\"該当３\"))","v":""}]
[2222503004,"22",225,{"v":3,"d":"03"},{"v":4,"d":"004"},"静岡県","伊豆の国市","韮山町","奈古谷",null,"","",{"$f":"IF(K3639=\"\",\"\",COUNTIF($K$7:K3639,\"ﾘｽﾄ１\"))","v":""},"","","","","","","",{"$f":"IF(S3639=\"\",\"\",COUNTIF($S$7:S3639,\"該当２\"))","v":""},"","",{"$f":"IF(V3639=\"\",\"\",COUNTIF($V$7:V3639,\"該当３\"))","v":""}]
[2222503005,"22",225,{"v":3,"d":"03"},{"v":5,"d":"005"},"静岡県","伊豆の国市","韮山町","長崎",null,"","",{"$f":"IF(K3640=\"\",\"\",COUNTIF($K$7:K3640,\"ﾘｽﾄ１\"))","v":""},"","","","","","","",{"$f":"IF(S3640=\"\",\"\",COUNTIF($S$7:S3640,\"該当２\"))","v":""},"","",{"$f":"IF(V3640=\"\",\"\",COUNTIF($V$7:V3640,\"該当３\"))","v":""}]
[2222503007,"22",225,{"v":3,"d":"03"},{"v":7,"d":"007"},"静岡県","伊豆の国市","韮山町","四日町",null,"","",{"$f":"IF(K3642=\"\",\"\",COUNTIF($K$7:K3642,\"ﾘｽﾄ１\"))","v":""},"","","","","","","",{"$f":"IF(S3642=\"\",\"\",COUNTIF($S$7:S3642,\"該当２\"))","v":""},"","",{"$f":"IF(V3642=\"\",\"\",COUNTIF($V$7:V3642,\"該当３\"))","v":""}]
[2222503008,"22",225,{"v":3,"d":"03"},{"v":8,"d":"008"},"静岡県","伊豆の国市","韮山町","寺家",null,"","",{"$f":"IF(K3643=\"\",\"\",COUNTIF($K$7:K3643,\"ﾘｽﾄ１\"))","v":""},"","","","","","","",{"$f":"IF(S3643=\"\",\"\",COUNTIF($S$7:S3643,\"該当２\"))","v":""},"","",{"$f":"IF(V3643=\"\",\"\",COUNTIF($V$7:V3643,\"該当３\"))","v":""}]
[2222503010,"22",225,{"v":3,"d":"03"},{"v":10,"d":"010"},"静岡県","伊豆の国市","韮山町","南条",null,"","",{"$f":"IF(K3645=\"\",\"\",COUNTIF($K$7:K3645,\"ﾘｽﾄ１\"))","v":""},"","","","","","","",{"$f":"IF(S3645=\"\",\"\",COUNTIF($S$7:S3645,\"該当２\"))","v":""},"","",{"$f":"IF(V3645=\"\",\"\",COUNTIF($V$7:V3645,\"該当３\"))","v":""}]
[2222503011,"22",225,{"v":3,"d":"03"},{"v":11,"d":"011"},"静岡県","伊豆の国市","韮山町","中",null,"","",{"$f":"IF(K3646=\"\",\"\",COUNTIF($K$7:K3646,\"ﾘｽﾄ１\"))","v":""},"","","","","","","",{"$f":"IF(S3646=\"\",\"\",COUNTIF($S$7:S3646,\"該当２\"))","v":""},"","",{"$f":"IF(V3646=\"\",\"\",COUNTIF($V$7:V3646,\"該当３\"))","v":""}]
[2222503013,"22",225,{"v":3,"d":"03"},{"v":13,"d":"013"},"静岡県","伊豆の国市","韮山町","高原",null,"","",{"$f":"IF(K3648=\"\",\"\",COUNTIF($K$7:K3648,\"ﾘｽﾄ１\"))","v":""},"","","","","","","",{"$f":"IF(S3648=\"\",\"\",COUNTIF($S$7:S3648,\"該当２\"))","v":""},"","",{"$f":"IF(V3648=\"\",\"\",COUNTIF($V$7:V3648,\"該当３\"))","v":""}]
[2222503014,"22",225,{"v":3,"d":"03"},{"v":14,"d":"014"},"静岡県","伊豆の国市","韮山町","土手和田",null,"","",{"$f":"IF(K3649=\"\",\"\",COUNTIF($K$7:K3649,\"ﾘｽﾄ１\"))","v":""},"","","","","","","",{"$f":"IF(S3649=\"\",\"\",COUNTIF($S$7:S3649,\"該当２\"))","v":""},"","",{"$f":"IF(V3649=\"\",\"\",COUNTIF($V$7:V3649,\"該当３\"))","v":""}]
[2222504001,"22",225,{"v":4,"d":"04"},{"v":1,"d":"001"},"静岡県","伊豆の国市","大仁町","大仁",null,"","",{"$f":"IF(K3651=\"\",\"\",COUNTIF($K$7:K3651,\"ﾘｽﾄ１\"))","v":""},"","","","","","","",{"$f":"IF(S3651=\"\",\"\",COUNTIF($S$7:S3651,\"該当２\"))","v":""},"","",{"$f":"IF(V3651=\"\",\"\",COUNTIF($V$7:V3651,\"該当３\"))","v":""}]
[2222504002,"22",225,{"v":4,"d":"04"},{"v":2,"d":"002"},"静岡県","伊豆の国市","大仁町","吉田",null,"","",{"$f":"IF(K3652=\"\",\"\",COUNTIF($K$7:K3652,\"ﾘｽﾄ１\"))","v":""},"","","","","","","",{"$f":"IF(S3652=\"\",\"\",COUNTIF($S$7:S3652,\"該当２\"))","v":""},"","",{"$f":"IF(V3652=\"\",\"\",COUNTIF($V$7:V3652,\"該当３\"))","v":""}]
[2222504004,"22",225,{"v":4,"d":"04"},{"v":4,"d":"004"},"静岡県","伊豆の国市","大仁町","中島",null,"","",{"$f":"IF(K3654=\"\",\"\",COUNTIF($K$7:K3654,\"ﾘｽﾄ１\"))","v":""},"","","","","","","",{"$f":"IF(S3654=\"\",\"\",COUNTIF($S$7:S3654,\"該当２\"))","v":""},"","",{"$f":"IF(V3654=\"\",\"\",COUNTIF($V$7:V3654,\"該当３\"))","v":""}]
[2222504005,"22",225,{"v":4,"d":"04"},{"v":5,"d":"005"},"静岡県","伊豆の国市","大仁町","小室",null,"","",{"$f":"IF(K3655=\"\",\"\",COUNTIF($K$7:K3655,\"ﾘｽﾄ１\"))","v":""},"","","","","","","",{"$f":"IF(S3655=\"\",\"\",COUNTIF($S$7:S3655,\"該当２\"))","v":""},"","",{"$f":"IF(V3655=\"\",\"\",COUNTIF($V$7:V3655,\"該当３\"))","v":""}]
[2222504007,"22",225,{"v":4,"d":"04"},{"v":7,"d":"007"},"静岡県","伊豆の国市","大仁町","神島",null,"","",{"$f":"IF(K3657=\"\",\"\",COUNTIF($K$7:K3657,\"ﾘｽﾄ１\"))","v":""},"","","","","","","",{"$f":"IF(S3657=\"\",\"\",COUNTIF($S$7:S3657,\"該当２\"))","v":""},"","",{"$f":"IF(V3657=\"\",\"\",COUNTIF($V$7:V3657,\"該当３\"))","v":""}]
[2222504008,"22",225,{"v":4,"d":"04"},{"v":8,"d":"008"},"静岡県","伊豆の国市","大仁町","田京",null,"","",{"$f":"IF(K3658=\"\",\"\",COUNTIF($K$7:K3658,\"ﾘｽﾄ１\"))","v":""},"","",{"$f":"IF(O3658=\"該当１\",G3658,\"\")","v":""},{"$f":"IF(O3658=\"該当１\",\"ﾘｽﾄ2\",\"\")","v":""},{"$f":"IF(Q3658=\"ﾘｽﾄ2\",H3658,\"\")","v":""},"",{"$f":"IF(S3658=\"該当２\",H3658,\"\")","v":""},{"$f":"IF(S3658=\"\",\"\",COUNTIF($S$7:S3658,\"該当２\"))","v":""},{"$f":"IF(AND($S$2=H3658,E3658>0,E3658<998),\"該当３\",\"\")","v":""},{"$f":"IF(V3658=\"該当３\",I3658,\"\")","v":""},{"$f":"IF(V3658=\"\",\"\",COUNTIF($V$7:V3658,\"該当３\"))","v":""}]
[2222504010,"22",225,{"v":4,"d":"04"},{"v":10,"d":"010"},"静岡県","伊豆の国市","大仁町","白山堂",null,"","",{"$f":"IF(K3660=\"\",\"\",COUNTIF($K$7:K3660,\"ﾘｽﾄ１\"))","v":""},"","","","","","","",{"$f":"IF(S3660=\"\",\"\",COUNTIF($S$7:S3660,\"該当２\"))","v":""},"","",{"$f":"IF(V3660=\"\",\"\",COUNTIF($V$7:V3660,\"該当３\"))","v":""}]
[2222504011,"22",225,{"v":4,"d":"04"},{"v":11,"d":"011"},"静岡県","伊豆の国市","大仁町","守木",null,"","",{"$f":"IF(K3661=\"\",\"\",COUNTIF($K$7:K3661,\"ﾘｽﾄ１\"))","v":""},"","","","","","","",{"$f":"IF(S3661=\"\",\"\",COUNTIF($S$7:S3661,\"該当２\"))","v":""},"","",{"$f":"IF(V3661=\"\",\"\",COUNTIF($V$7:V3661,\"該当３\"))","v":""}]
[2222504013,"22",225,{"v":4,"d":"04"},{"v":13,"d":"013"},"静岡県","伊豆の国市","大仁町","田中山",null,"","",{"$f":"IF(K3663=\"\",\"\",COUNTIF($K$7:K3663,\"ﾘｽﾄ１\"))","v":""},"","","","","","","",{"$f":"IF(S3663=\"\",\"\",COUNTIF($S$7:S3663,\"該当２\"))","v":""},"","",{"$f":"IF(V3663=\"\",\"\",COUNTIF($V$7:V3663,\"該当３\"))","v":""}]
[2222505000,"22",225,{"v":5,"d":"05"},{"v":0,"d":"000"},"静岡県","伊豆の国市","北狩野村２－２",null,null,"","",{"$f":"IF(K3664=\"\",\"\",COUNTIF($K$7:K3664,\"ﾘｽﾄ１\"))","v":""},"","","","","","","",{"$f":"IF(S3664=\"\",\"\",COUNTIF($S$7:S3664,\"該当２\"))","v":""},"","",{"$f":"IF(V3664=\"\",\"\",COUNTIF($V$7:V3664,\"該当３\"))","v":""}]
[2222505002,"22",225,{"v":5,"d":"05"},{"v":2,"d":"002"},"静岡県","伊豆の国市","北狩野村２－２","浮橋",null,"","",{"$f":"IF(K3666=\"\",\"\",COUNTIF($K$7:K3666,\"ﾘｽﾄ１\"))","v":""},"","","","","","","",{"$f":"IF(S3666=\"\",\"\",COUNTIF($S$7:S3666,\"該当２\"))","v":""},"","",{"$f":"IF(V3666=\"\",\"\",COUNTIF($V$7:V3666,\"該当３\"))","v":""}]
[2222505003,"22",225,{"v":5,"d":"05"},{"v":3,"d":"003"},"静岡県","伊豆の国市","北狩野村２－２","田原野",null,"","",{"$f":"IF(K3667=\"\",\"\",COUNTIF($K$7:K3667,\"ﾘｽﾄ１\"))","v":""},"","","","","","","",{"$f":"IF(S3667=\"\",\"\",COUNTIF($S$7:S3667,\"該当２\"))","v":""},"","",{"$f":"IF(V3667=\"\",\"\",COUNTIF($V$7:V3667,\"該当３\"))","v":""}]
[2222600000,"22",226,{"v":0,"d":"00"},{"v":0,"d":"000"},"静岡県","牧之原市",{"$nulls":3},"ﾘｽﾄ１","牧之原市",{"$f":"IF(K3669=\"\",\"\",COUNTIF($K$7:K3669,\"ﾘｽﾄ１\"))","v":33},"","","","","","","",{"$f":"IF(S3669=\"\",\"\",COUNTIF($S$7:S3669,\"該当２\"))","v":""},"","",{"$f":"IF(V3669=\"\",\"\",COUNTIF($V$7:V3669,\"該当３\"))","v":""}]
[2222601000,"22",226,{"v":1,"d":"01"},{"v":0,"d":"000"},"静岡県","牧之原市","相良町",null,null,"","",{"$f":"IF(K3670=\"\",\"\",COUNTIF($K$7:K3670,\"ﾘｽﾄ１\"))","v":""},"","","","","","","",{"$f":"IF(S3670=\"\",\"\",COUNTIF($S$7:S3670,\"該当２\"))","v":""},"","",{"$f":"IF(V3670=\"\",\"\",COUNTIF($V$7:V3670,\"該当３\"))","v":""}]
[2222601002,"22",226,{"v":1,"d":"01"},{"v":2,"d":"002"},"静岡県","牧之原市","相良町","大磯",null,"","",{"$f":"IF(K3672=\"\",\"\",COUNTIF($K$7:K3672,\"ﾘｽﾄ１\"))","v":""},"","","","","","","",{"$f":"IF(S3672=\"\",\"\",COUNTIF($S$7:S3672,\"該当２\"))","v":""},"","",{"$f":"IF(V3672=\"\",\"\",COUNTIF($V$7:V3672,\"該当３\"))","v":""}]
[2222601003,"22",226,{"v":1,"d":"01"},{"v":3,"d":"003"},"静岡県","牧之原市","相良町","坂井",null,"","",{"$f":"IF(K3673=\"\",\"\",COUNTIF($K$7:K3673,\"ﾘｽﾄ１\"))","v":""},"","","","","","","",{"$f":"IF(S3673=\"\",\"\",COUNTIF($S$7:S3673,\"該当２\"))","v":""},"","",{"$f":"IF(V3673=\"\",\"\",COUNTIF($V$7:V3673,\"該当３\"))","v":""}]
[2222601005,"22",226,{"v":1,"d":"01"},{"v":5,"d":"005"},"静岡県","牧之原市","相良町","法京",null,"","",{"$f":"IF(K3675=\"\",\"\",COUNTIF($K$7:K3675,\"ﾘｽﾄ１\"))","v":""},"","","","","","","",{"$f":"IF(S3675=\"\",\"\",COUNTIF($S$7:S3675,\"該当２\"))","v":""},"","",{"$f":"IF(V3675=\"\",\"\",COUNTIF($V$7:V3675,\"該当３\"))","v":""}]
[2222601006,"22",226,{"v":1,"d":"01"},{"v":6,"d":"006"},"静岡県","牧之原市","相良町","久保柄",null,"","",{"$f":"IF(K3676=\"\",\"\",COUNTIF($K$7:K3676,\"ﾘｽﾄ１\"))","v":""},"","","","","","","",{"$f":"IF(S3676=\"\",\"\",COUNTIF($S$7:S3676,\"該当２\"))","v":""},"","",{"$f":"IF(V3676=\"\",\"\",COUNTIF($V$7:V3676,\"該当３\"))","v":""}]
[2222601008,"22",226,{"v":1,"d":"01"},{"v":8,"d":"008"},"静岡県","牧之原市","相良町","大江西",null,"","",{"$f":"IF(K3678=\"\",\"\",COUNTIF($K$7:K3678,\"ﾘｽﾄ１\"))","v":""},"","","","","","","",{"$f":"IF(S3678=\"\",\"\",COUNTIF($S$7:S3678,\"該当２\"))","v":""},"","",{"$f":"IF(V3678=\"\",\"\",COUNTIF($V$7:V3678,\"該当３\"))","v":""}]
[2222601009,"22",226,{"v":1,"d":"01"},{"v":9,"d":"009"},"静岡県","牧之原市","相良町","大江北",null,"","",{"$f":"IF(K3679=\"\",\"\",COUNTIF($K$7:K3679,\"ﾘｽﾄ１\"))","v":""},"","","","","","","",{"$f":"IF(S3679=\"\",\"\",COUNTIF($S$7:S3679,\"該当２\"))","v":""},"","",{"$f":"IF(V3679=\"\",\"\",COUNTIF($V$7:V3679,\"該当３\"))","v":""}]
[2222601011,"22",226,{"v":1,"d":"01"},{"v":11,"d":"011"},"静岡県","牧之原市","相良町","須々木原",null,"","",{"$f":"IF(K3681=\"\",\"\",COUNTIF($K$7:K3681,\"ﾘｽﾄ１\"))","v":""},"","","","","","","",{"$f":"IF(S3681=\"\",\"\",COUNTIF($S$7:S3681,\"該当２\"))","v":""},"","",{"$f":"IF(V3681=\"\",\"\",COUNTIF($V$7:V3681,\"該当３\"))","v":""}]
[2222601012,"22",226,{"v":1,"d":"01"},{"v":12,"d":"012"},"静岡県","牧之原市","相良町","鬼女新田",null,"","",{"$f":"IF(K3682=\"\",\"\",COUNTIF($K$7:K3682,\"ﾘｽﾄ１\"))","v":""},"","","","","","","",{"$f":"IF(S3682=\"\",\"\",COUNTIF($S$7:S3682,\"該当２\"))","v":""},"","",{"$f":"IF(V3682=\"\",\"\",COUNTIF($V$7:V3682,\"該当３\"))","v":""}]
[2222601014,"22",226,{"v":1,"d":"01"},{"v":14,"d":"014"},"静岡県","牧之原市","相良町","須々木中",null,"","",{"$f":"IF(K3684=\"\",\"\",COUNTIF($K$7:K3684,\"ﾘｽﾄ１\"))","v":""},"","","","","","","",{"$f":"IF(S3684=\"\",\"\",COUNTIF($S$7:S3684,\"該当２\"))","v":""},"","",{"$f":"IF(V3684=\"\",\"\",COUNTIF($V$7:V3684,\"該当３\"))","v":""}]
[2222601015,"22",226,{"v":1,"d":"01"},{"v":15,"d":"015"},"静岡県","牧之原市","相良町","須々木東",null,"","",{"$f":"IF(K3685=\"\",\"\",COUNTIF($K$7:K3685,\"ﾘｽﾄ１\"))","v":""},"","","","","","","",{"$f":"IF(S3685=\"\",\"\",COUNTIF($S$7:S3685,\"該当２\"))","v":""},"","",{"$f":"IF(V3685=\"\",\"\",COUNTIF($V$7:V3685,\"該当３\"))","v":""}]
[2222601017,"22",226,{"v":1,"d":"01"},{"v":17,"d":"017"},"静岡県","牧之原市","相良町","福岡・相良",null,"","",{"$f":"IF(K3687=\"\",\"\",COUNTIF($K$7:K3687,\"ﾘｽﾄ１\"))","v":""},"","","","","","","",{"$f":"IF(S3687=\"\",\"\",COUNTIF($S$7:S3687,\"該当２\"))","v":""},"","",{"$f":"IF(V3687=\"\",\"\",COUNTIF($V$7:V3687,\"該当３\"))","v":""}]
[2222602000,"22",226,{"v":2,"d":"02"},{"v":0,"d":"000"},"静岡県","牧之原市","地頭方村",null,null,"","",{"$f":"IF(K3688=\"\",\"\",COUNTIF($K$7:K3688,\"ﾘｽﾄ１\"))","v":""},"","","","","","","",{"$f":"IF(S3688=\"\",\"\",COUNTIF($S$7:S3688,\"該当２\"))","v":""},"","",{"$f":"IF(V3688=\"\",\"\",COUNTIF($V$7:V3688,\"該当３\"))","v":""}]
[2222602002,"22",226,{"v":2,"d":"02"},{"v":2,"d":"002"},"静岡県","牧之原市","地頭方村","地頭方",null,"","",{"$f":"IF(K3690=\"\",\"\",COUNTIF($K$7:K3690,\"ﾘｽﾄ１\"))","v":""},"","","","","","","",{"$f":"IF(S3690=\"\",\"\",COUNTIF($S$7:S3690,\"該当２\"))","v":""},"","",{"$f":"IF(V3690=\"\",\"\",COUNTIF($V$7:V3690,\"該当３\"))","v":""}]
[2222602003,"22",226,{"v":2,"d":"02"},{"v":3,"d":"003"},"静岡県","牧之原市","地頭方村","笠名",null,"","",{"$f":"IF(K3691=\"\",\"\",COUNTIF($K$7:K3691,\"ﾘｽﾄ１\"))","v":""},"","","","","","","",{"$f":"IF(S3691=\"\",\"\",COUNTIF($S$7:S3691,\"該当２\"))","v":""},"","",{"$f":"IF(V3691=\"\",\"\",COUNTIF($V$7:V3691,\"該当３\"))","v":""}]
[2222602005,"22",226,{"v":2,"d":"02"},{"v":5,"d":"005"},"静岡県","牧之原市","地頭方村","新庄",null,"","",{"$f":"IF(K3693=\"\",\"\",COUNTIF($K$7:K3693,\"ﾘｽﾄ１\"))","v":""},"","","","","","","",{"$f":"IF(S3693=\"\",\"\",COUNTIF($S$7:S3693,\"該当２\"))","v":""},"","",{"$f":"IF(V3693=\"\",\"\",COUNTIF($V$7:V3693,\"該当３\"))","v":""}]
[2222602006,"22",226,{"v":2,"d":"02"},{"v":6,"d":"006"},"静岡県","牧之原市","地頭方村","遠渡",null,"","",{"$f":"IF(K3694=\"\",\"\",COUNTIF($K$7:K3694,\"ﾘｽﾄ１\"))","v":""},"","","","","","","",{"$f":"IF(S3694=\"\",\"\",COUNTIF($S$7:S3694,\"該当２\"))","v":""},"","",{"$f":"IF(V3694=\"\",\"\",COUNTIF($V$7:V3694,\"該当３\"))","v":""}]
[2222603001,"22",226,{"v":3,"d":"03"},{"v":1,"d":"001"},"静岡県","牧之原市","菅山村","西堀",null,"","",{"$f":"IF(K3696=\"\",\"\",COUNTIF($K$7:K3696,\"ﾘｽﾄ１\"))","v":""},"","","","","","","",{"$f":"IF(S3696=\"\",\"\",COUNTIF($S$7:S3696,\"該当２\"))","v":""},"","",{"$f":"IF(V3696=\"\",\"\",COUNTIF($V$7:V3696,\"該当３\"))","v":""}]
[2222603002,"22",226,{"v":3,"d":"03"},{"v":2,"d":"002"},"静岡県","牧之原市","菅山村","下谷川",null,"","",{"$f":"IF(K3697=\"\",\"\",COUNTIF($K$7:K3697,\"ﾘｽﾄ１\"))","v":""},"","","","","","","",{"$f":"IF(S3697=\"\",\"\",COUNTIF($S$7:S3697,\"該当２\"))","v":""},"","",{"$f":"IF(V3697=\"\",\"\",COUNTIF($V$7:V3697,\"該当３\"))","v":""}]
[2222603004,"22",226,{"v":3,"d":"03"},{"v":4,"d":"004"},"静岡県","牧之原市","菅山村","高和",null,"","",{"$f":"IF(K3699=\"\",\"\",COUNTIF($K$7:K3699,\"ﾘｽﾄ１\"))","v":""},"","","","","","","",{"$f":"IF(S3699=\"\",\"\",COUNTIF($S$7:S3699,\"該当２\"))","v":""},"","",{"$f":"IF(V3699=\"\",\"\",COUNTIF($V$7:V3699,\"該当３\"))","v":""}]
[2222603005,"22",226,{"v":3,"d":"03"},{"v":5,"d":"005"},"静岡県","牧之原市","菅山村","大向",null,"","",{"$f":"IF(K3700=\"\",\"\",COUNTIF($K$7:K3700,\"ﾘｽﾄ１\"))","v":""},"","","","","","","",{"$f":"IF(S3700=\"\",\"\",COUNTIF($S$7:S3700,\"該当２\"))","v":""},"","",{"$f":"IF(V3700=\"\",\"\",COUNTIF($V$7:V3700,\"該当３\"))","v":""}]
[2222603007,"22",226,{"v":3,"d":"03"},{"v":7,"d":"007"},"静岡県","牧之原市","菅山村","新田",null,"","",{"$f":"IF(K3702=\"\",\"\",COUNTIF($K$7:K3702,\"ﾘｽﾄ１\"))","v":""},"","","","","","","",{"$f":"IF(S3702=\"\",\"\",COUNTIF($S$7:S3702,\"該当２\"))","v":""},"","",{"$f":"IF(V3702=\"\",\"\",COUNTIF($V$7:V3702,\"該当３\"))","v":""}]
[2222603008,"22",226,{"v":3,"d":"03"},{"v":8,"d":"008"},"静岡県","牧之原市","菅山村","大知",null,"","",{"$f":"IF(K3703=\"\",\"\",COUNTIF($K$7:K3703,\"ﾘｽﾄ１\"))","v":""},"","","","","","","",{"$f":"IF(S3703=\"\",\"\",COUNTIF($S$7:S3703,\"該当２\"))","v":""},"","",{"$f":"IF(V3703=\"\",\"\",COUNTIF($V$7:V3703,\"該当３\"))","v":""}]
[2222603010,"22",226,{"v":3,"d":"03"},{"v":10,"d":"010"},"静岡県","牧之原市","菅山村","松本",null,"","",{"$f":"IF(K3705=\"\",\"\",COUNTIF($K$7:K3705,\"ﾘｽﾄ１\"))","v":""},"","","","","","","",{"$f":"IF(S3705=\"\",\"\",COUNTIF($S$7:S3705,\"該当２\"))","v":""},"","",{"$f":"IF(V3705=\"\",\"\",COUNTIF($V$7:V3705,\"該当３\"))","v":""}]
[2222603011,"22",226,{"v":3,"d":"03"},{"v":11,"d":"011"},"静岡県","牧之原市","菅山村","郷ノ谷",null,"","",{"$f":"IF(K3706=\"\",\"\",COUNTIF($K$7:K3706,\"ﾘｽﾄ１\"))","v":""},"","","","","","","",{"$f":"IF(S3706=\"\",\"\",COUNTIF($S$7:S3706,\"該当２\"))","v":""},"","",{"$f":"IF(V3706=\"\",\"\",COUNTIF($V$7:V3706,\"該当３\"))","v":""}]
[2222604000,"22",226,{"v":4,"d":"04"},{"v":0,"d":"000"},"静岡県","牧之原市","萩間村２－１",null,null,"","",{"$f":"IF(K3708=\"\",\"\",COUNTIF($K$7:K3708,\"ﾘｽﾄ１\"))","v":""},"","","","","","","",{"$f":"IF(S3708=\"\",\"\",COUNTIF($S$7:S3708,\"該当２\"))","v":""},"","",{"$f":"IF(V3708=\"\",\"\",COUNTIF($V$7:V3708,\"該当３\"))","v":""}]
[2222604001,"22",226,{"v":4,"d":"04"},{"v":1,"d":"001"},"静岡県","牧之原市","萩間村２－１","中西",null,"","",{"$f":"IF(K3709=\"\",\"\",COUNTIF($K$7:K3709,\"ﾘｽﾄ１\"))","v":""},"","","","","","","",{"$f":"IF(S3709=\"\",\"\",COUNTIF($S$7:S3709,\"該当２\"))","v":""},"","",{"$f":"IF(V3709=\"\",\"\",COUNTIF($V$7:V3709,\"該当３\"))","v":""}]
[2222604003,"22",226,{"v":4,"d":"04"},{"v":3,"d":"003"},"静岡県","牧之原市","萩間村２－１","蛭ケ谷",null,"","",{"$f":"IF(K3711=\"\",\"\",COUNTIF($K$7:K3711,\"ﾘｽﾄ１\"))","v":""},"","","","","","","",{"$f":"IF(S3711=\"\",\"\",COUNTIF($S$7:S3711,\"該当２\"))","v":""},"","",{"$f":"IF(V3711=\"\",\"\",COUNTIF($V$7:V3711,\"該当３\"))","v":""}]
[2222604004,"22",226,{"v":4,"d":"04"},{"v":4,"d":"004"},"静岡県","牧之原市","萩間村２－１","白井下",null,"","",{"$f":"IF(K3712=\"\",\"\",COUNTIF($K$7:K3712,\"ﾘｽﾄ１\"))","v":""},"","","","","","","",{"$f":"IF(S3712=\"\",\"\",COUNTIF($S$7:S3712,\"該当２\"))","v":""},"","",{"$f":"IF(V3712=\"\",\"\",COUNTIF($V$7:V3712,\"該当３\"))","v":""}]
[2222604006,"22",226,{"v":4,"d":"04"},{"v":6,"d":"006"},"静岡県","牧之原市","萩間村２－１","男神",null,"","",{"$f":"IF(K3714=\"\",\"\",COUNTIF($K$7:K3714,\"ﾘｽﾄ１\"))","v":""},"","","","","","","",{"$f":"IF(S3714=\"\",\"\",COUNTIF($S$7:S3714,\"該当２\"))","v":""},"","",{"$f":"IF(V3714=\"\",\"\",COUNTIF($V$7:V3714,\"該当３\"))","v":""}]
[2222604007,"22",226,{"v":4,"d":"04"},{"v":7,"d":"007"},"静岡県","牧之原市","萩間村２－１","女神",null,"","",{"$f":"IF(K3715=\"\",\"\",COUNTIF($K$7:K3715,\"ﾘｽﾄ１\"))","v":""},"","","","","","","",{"$f":"IF(S3715=\"\",\"\",COUNTIF($S$7:S3715,\"該当２\"))","v":""},"","",{"$f":"IF(V3715=\"\",\"\",COUNTIF($V$7:V3715,\"該当３\"))","v":""}]
[2222604009,"22",226,{"v":4,"d":"04"},{"v":9,"d":"009"},"静岡県","牧之原市","萩間村２－１","和田",null,"","",{"$f":"IF(K3717=\"\",\"\",COUNTIF($K$7:K3717,\"ﾘｽﾄ１\"))","v":""},"","","","","","","",{"$f":"IF(S3717=\"\",\"\",COUNTIF($S$7:S3717,\"該当２\"))","v":""},"","",{"$f":"IF(V3717=\"\",\"\",COUNTIF($V$7:V3717,\"該当３\"))","v":""}]
[2222604010,"22",226,{"v":4,"d":"04"},{"v":10,"d":"010"},"静岡県","牧之原市","萩間村２－１","西萩間",null,"","",{"$f":"IF(K3718=\"\",\"\",COUNTIF($K$7:K3718,\"ﾘｽﾄ１\"))","v":""},"","","","","","","",{"$f":"IF(S3718=\"\",\"\",COUNTIF($S$7:S3718,\"該当２\"))","v":""},"","",{"$f":"IF(V3718=\"\",\"\",COUNTIF($V$7:V3718,\"該当３\"))","v":""}]
[2222604012,"22",226,{"v":4,"d":"04"},{"v":12,"d":"012"},"静岡県","牧之原市","萩間村２－１","東萩間原",null,"","",{"$f":"IF(K3720=\"\",\"\",COUNTIF($K$7:K3720,\"ﾘｽﾄ１\"))","v":""},"","","","","","","",{"$f":"IF(S3720=\"\",\"\",COUNTIF($S$7:S3720,\"該当２\"))","v":""},"","",{"$f":"IF(V3720=\"\",\"\",COUNTIF($V$7:V3720,\"該当３\"))","v":""}]
[2222604013,"22",226,{"v":4,"d":"04"},{"v":13,"d":"013"},"静岡県","牧之原市","萩間村２－１","丸尾原",null,"","",{"$f":"IF(K3721=\"\",\"\",COUNTIF($K$7:K3721,\"ﾘｽﾄ１\"))","v":""},"","","","","","","",{"$f":"IF(S3721=\"\",\"\",COUNTIF($S$7:S3721,\"該当２\"))","v":""},"","",{"$f":"IF(V3721=\"\",\"\",COUNTIF($V$7:V3721,\"該当３\"))","v":""}]
[2222605001,"22",226,{"v":5,"d":"05"},{"v":1,"d":"001"},"静岡県","牧之原市","川崎町","１丁目",null,{"$f":"IF(AND($C3723>0,$H3723=\"\"),\"ﾘｽﾄ１\",\"\")","v":""},"",{"$f":"IF(K3723=\"\",\"\",COUNTIF($K$7:K3723,\"ﾘｽﾄ１\"))","v":""},"","","","","","","",{"$f":"IF(S3723=\"\",\"\",COUNTIF($S$7:S3723,\"該当２\"))","v":""},"","",{"$f":"IF(V3723=\"\",\"\",COUNTIF($V$7:V3723,\"該当３\"))","v":""}]
[2222605002,"22",226,{"v":5,"d":"05"},{"v":2,"d":"002"},"静岡県","牧之原市","川崎町","２丁目",null,"","",{"$f":"IF(K3724=\"\",\"\",COUNTIF($K$7:K3724,\"ﾘｽﾄ１\"))","v":""},"","","","","","","",{"$f":"IF(S3724=\"\",\"\",COUNTIF($S$7:S3724,\"該当２\"))","v":""},"","",{"$f":"IF(V3724=\"\",\"\",COUNTIF($V$7:V3724,\"該当３\"))","v":""}]
[2222605004,"22",226,{"v":5,"d":"05"},{"v":4,"d":"004"},"静岡県","牧之原市","川崎町","４丁目",null,"","",{"$f":"IF(K3726=\"\",\"\",COUNTIF($K$7:K3726,\"ﾘｽﾄ１\"))","v":""},"","","","","","","",{"$f":"IF(S3726=\"\",\"\",COUNTIF($S$7:S3726,\"該当２\"))","v":""},"","",{"$f":"IF(V3726=\"\",\"\",COUNTIF($V$7:V3726,\"該当３\"))","v":""}]
[2222605005,"22",226,{"v":5,"d":"05"},{"v":5,"d":"005"},"静岡県","牧之原市","川崎町","東５丁目",null,"","",{"$f":"IF(K3727=\"\",\"\",COUNTIF($K$7:K3727,\"ﾘｽﾄ１\"))","v":""},"","","","","","","",{"$f":"IF(S3727=\"\",\"\",COUNTIF($S$7:S3727,\"該当２\"))","v":""},"","",{"$f":"IF(V3727=\"\",\"\",COUNTIF($V$7:V3727,\"該当３\"))","v":""}]
[2222605007,"22",226,{"v":5,"d":"05"},{"v":7,"d":"007"},"静岡県","牧之原市","川崎町","６丁目",null,"","",{"$f":"IF(K3729=\"\",\"\",COUNTIF($K$7:K3729,\"ﾘｽﾄ１\"))","v":""},"","","","","","","",{"$f":"IF(S3729=\"\",\"\",COUNTIF($S$7:S3729,\"該当２\"))","v":""},"","",{"$f":"IF(V3729=\"\",\"\",COUNTIF($V$7:V3729,\"該当３\"))","v":""}]
[2222605008,"22",226,{"v":5,"d":"05"},{"v":8,"d":"008"},"静岡県","牧之原市","川崎町","７丁目",null,"","",{"$f":"IF(K3730=\"\",\"\",COUNTIF($K$7:K3730,\"ﾘｽﾄ１\"))","v":""},"","","","","","","",{"$f":"IF(S3730=\"\",\"\",COUNTIF($S$7:S3730,\"該当２\"))","v":""},"","",{"$f":"IF(V3730=\"\",\"\",COUNTIF($V$7:V3730,\"該当３\"))","v":""}]
[2222605010,"22",226,{"v":5,"d":"05"},{"v":10,"d":"010"},"静岡県","牧之原市","川崎町","９丁目",null,"","",{"$f":"IF(K3732=\"\",\"\",COUNTIF($K$7:K3732,\"ﾘｽﾄ１\"))","v":""},"","","","","","","",{"$f":"IF(S3732=\"\",\"\",COUNTIF($S$7:S3732,\"該当２\"))","v":""},"","",{"$f":"IF(V3732=\"\",\"\",COUNTIF($V$7:V3732,\"該当３\"))","v":""}]
[2222605011,"22",226,{"v":5,"d":"05"},{"v":11,"d":"011"},"静岡県","牧之原市","川崎町","１０丁目",null,"","",{"$f":"IF(K3733=\"\",\"\",COUNTIF($K$7:K3733,\"ﾘｽﾄ１\"))","v":""},"","","","","","","",{"$f":"IF(S3733=\"\",\"\",COUNTIF($S$7:S3733,\"該当２\"))","v":""},"","",{"$f":"IF(V3733=\"\",\"\",COUNTIF($V$7:V3733,\"該当３\"))","v":""}]
[2222605013,"22",226,{"v":5,"d":"05"},{"v":13,"d":"013"},"静岡県","牧之原市","川崎町","１２丁目",null,"","",{"$f":"IF(K3735=\"\",\"\",COUNTIF($K$7:K3735,\"ﾘｽﾄ１\"))","v":""},"","","","","","","",{"$f":"IF(S3735=\"\",\"\",COUNTIF($S$7:S3735,\"該当２\"))","v":""},"","",{"$f":"IF(V3735=\"\",\"\",COUNTIF($V$7:V3735,\"該当３\"))","v":""}]
[2222605014,"22",226,{"v":5,"d":"05"},{"v":14,"d":"014"},"静岡県","牧之原市","川崎町","東慶林",null,"","",{"$f":"IF(K3736=\"\",\"\",COUNTIF($K$7:K3736,\"ﾘｽﾄ１\"))","v":""},"","","","","","","",{"$f":"IF(S3736=\"\",\"\",COUNTIF($S$7:S3736,\"該当２\"))","v":""},"","",{"$f":"IF(V3736=\"\",\"\",COUNTIF($V$7:V3736,\"該当３\"))","v":""}]
[2222605016,"22",226,{"v":5,"d":"05"},{"v":16,"d":"016"},"静岡県","牧之原市","川崎町","寄子",null,"","",{"$f":"IF(K3738=\"\",\"\",COUNTIF($K$7:K3738,\"ﾘｽﾄ１\"))","v":""},"","","","","","","",{"$f":"IF(S3738=\"\",\"\",COUNTIF($S$7:S3738,\"該当２\"))","v":""},"","",{"$f":"IF(V3738=\"\",\"\",COUNTIF($V$7:V3738,\"該当３\"))","v":""}]
[2222605017,"22",226,{"v":5,"d":"05"},{"v":17,"d":"017"},"静岡県","牧之原市","川崎町","西福田",null,"","",{"$f":"IF(K3739=\"\",\"\",COUNTIF($K$7:K3739,\"ﾘｽﾄ１\"))","v":""},"","","","","","","",{"$f":"IF(S3739=\"\",\"\",COUNTIF($S$7:S3739,\"該当２\"))","v":""},"","",{"$f":"IF(V3739=\"\",\"\",COUNTIF($V$7:V3739,\"該当３\"))","v":""}]
[2222605019,"22",226,{"v":5,"d":"05"},{"v":19,"d":"019"},"静岡県","牧之原市","川崎町","根松",null,"","",{"$f":"IF(K3741=\"\",\"\",COUNTIF($K$7:K3741,\"ﾘｽﾄ１\"))","v":""},"","","","","","","",{"$f":"IF(S3741=\"\",\"\",COUNTIF($S$7:S3741,\"該当２\"))","v":""},"","",{"$f":"IF(V3741=\"\",\"\",COUNTIF($V$7:V3741,\"該当３\"))","v":""}]
[2222605020,"22",226,{"v":5,"d":"05"},{"v":20,"d":"020"},"静岡県","牧之原市","川崎町","道上",null,"","",{"$f":"IF(K3742=\"\",\"\",COUNTIF($K$7:K3742,\"ﾘｽﾄ１\"))","v":""},"","","","","","","",{"$f":"IF(S3742=\"\",\"\",COUNTIF($S$7:S3742,\"該当２\"))","v":""},"","",{"$f":"IF(V3742=\"\",\"\",COUNTIF($V$7:V3742,\"該当３\"))","v":""}]
[2222605022,"22",226,{"v":5,"d":"05"},{"v":22,"d":"022"},"静岡県","牧之原市","川崎町","谷の口",null,"","",{"$f":"IF(K3744=\"\",\"\",COUNTIF($K$7:K3744,\"ﾘｽﾄ１\"))","v":""},"","","","","","","",{"$f":"IF(S3744=\"\",\"\",COUNTIF($S$7:S3744,\"該当２\"))","v":""},"","",{"$f":"IF(V3744=\"\",\"\",COUNTIF($V$7:V3744,\"該当３\"))","v":""}]
[2222605023,"22",226,{"v":5,"d":"05"},{"v":23,"d":"023"},"静岡県","牧之原市","川崎町","時ケ谷",null,"","",{"$f":"IF(K3745=\"\",\"\",COUNTIF($K$7:K3745,\"ﾘｽﾄ１\"))","v":""},"","","","","","","",{"$f":"IF(S3745=\"\",\"\",COUNTIF($S$7:S3745,\"該当２\"))","v":""},"","",{"$f":"IF(V3745=\"\",\"\",COUNTIF($V$7:V3745,\"該当３\"))","v":""}]
[2222605025,"22",226,{"v":5,"d":"05"},{"v":25,"d":"025"},"静岡県","牧之原市","川崎町","橋向",null,"","",{"$f":"IF(K3747=\"\",\"\",COUNTIF($K$7:K3747,\"ﾘｽﾄ１\"))","v":""},"","","","","","","",{"$f":"IF(S3747=\"\",\"\",COUNTIF($S$7:S3747,\"該当２\"))","v":""},"","",{"$f":"IF(V3747=\"\",\"\",COUNTIF($V$7:V3747,\"該当３\"))","v":""}]
[2222605026,"22",226,{"v":5,"d":"05"},{"v":26,"d":"026"},"静岡県","牧之原市","川崎町","藤沢",null,"","",{"$f":"IF(K3748=\"\",\"\",COUNTIF($K$7:K3748,\"ﾘｽﾄ１\"))","v":""},"","","","","","","",{"$f":"IF(S3748=\"\",\"\",COUNTIF($S$7:S3748,\"該当２\"))","v":""},"","",{"$f":"IF(V3748=\"\",\"\",COUNTIF($V$7:V3748,\"該当３\"))","v":""}]
[2222605028,"22",226,{"v":5,"d":"05"},{"v":28,"d":"028"},"静岡県","牧之原市","川崎町","新戸",null,"","",{"$f":"IF(K3750=\"\",\"\",COUNTIF($K$7:K3750,\"ﾘｽﾄ１\"))","v":""},"","","","","","","",{"$f":"IF(S3750=\"\",\"\",COUNTIF($S$7:S3750,\"該当２\"))","v":""},"","",{"$f":"IF(V3750=\"\",\"\",COUNTIF($V$7:V3750,\"該当３\"))","v":""}]
[2222605029,"22",226,{"v":5,"d":"05"},{"v":29,"d":"029"},"静岡県","牧之原市","川崎町","庄内",null,"","",{"$f":"IF(K3751=\"\",\"\",COUNTIF($K$7:K3751,\"ﾘｽﾄ１\"))","v":""},"","","","","","","",{"$f":"IF(S3751=\"\",\"\",COUNTIF($S$7:S3751,\"該当２\"))","v":""},"","",{"$f":"IF(V3751=\"\",\"\",COUNTIF($V$7:V3751,\"該当３\"))","v":""}]
[2222605031,"22",226,{"v":5,"d":"05"},{"v":31,"d":"031"},"静岡県","牧之原市","川崎町","仁田",null,"","",{"$f":"IF(K3753=\"\",\"\",COUNTIF($K$7:K3753,\"ﾘｽﾄ１\"))","v":""},"","","","","","","",{"$f":"IF(S3753=\"\",\"\",COUNTIF($S$7:S3753,\"該当２\"))","v":""},"","",{"$f":"IF(V3753=\"\",\"\",COUNTIF($V$7:V3753,\"該当３\"))","v":""}]
[2222605032,"22",226,{"v":5,"d":"05"},{"v":32,"d":"032"},"静岡県","牧之原市","川崎町","道場",null,"","",{"$f":"IF(K3754=\"\",\"\",COUNTIF($K$7:K3754,\"ﾘｽﾄ１\"))","v":""},"","","","","","","",{"$f":"IF(S3754=\"\",\"\",COUNTIF($S$7:S3754,\"該当２\"))","v":""},"","",{"$f":"IF(V3754=\"\",\"\",COUNTIF($V$7:V3754,\"該当３\"))","v":""}]
[2222606001,"22",226,{"v":6,"d":"06"},{"v":1,"d":"001"},"静岡県","牧之原市","勝間田村２－１","中",null,"","",{"$f":"IF(K3756=\"\",\"\",COUNTIF($K$7:K3756,\"ﾘｽﾄ１\"))","v":""},"","","","","","","",{"$f":"IF(S3756=\"\",\"\",COUNTIF($S$7:S3756,\"該当２\"))","v":""},"","",{"$f":"IF(V3756=\"\",\"\",COUNTIF($V$7:V3756,\"該当３\"))","v":""}]
[2222606002,"22",226,{"v":6,"d":"06"},{"v":2,"d":"002"},"静岡県","牧之原市","勝間田村２－１","勝間下",null,"","",{"$f":"IF(K3757=\"\",\"\",COUNTIF($K$7:K3757,\"ﾘｽﾄ１\"))","v":""},"","","","","","","",{"$f":"IF(S3757=\"\",\"\",COUNTIF($S$7:S3757,\"該当２\"))","v":""},"","",{"$f":"IF(V3757=\"\",\"\",COUNTIF($V$7:V3757,\"該当３\"))","v":""}]
[2222606004,"22",226,{"v":6,"d":"06"},{"v":4,"d":"004"},"静岡県","牧之原市","勝間田村２－１","切山下",null,"","",{"$f":"IF(K3759=\"\",\"\",COUNTIF($K$7:K3759,\"ﾘｽﾄ１\"))","v":""},"","","","","","","",{"$f":"IF(S3759=\"\",\"\",COUNTIF($S$7:S3759,\"該当２\"))","v":""},"","",{"$f":"IF(V3759=\"\",\"\",COUNTIF($V$7:V3759,\"該当３\"))","v":""}]
[2222606005,"22",226,{"v":6,"d":"06"},{"v":5,"d":"005"},"静岡県","牧之原市","勝間田村２－１","切山中",null,"","",{"$f":"IF(K3760=\"\",\"\",COUNTIF($K$7:K3760,\"ﾘｽﾄ１\"))","v":""},"","","","","","","",{"$f":"IF(S3760=\"\",\"\",COUNTIF($S$7:S3760,\"該当２\"))","v":""},"","",{"$f":"IF(V3760=\"\",\"\",COUNTIF($V$7:V3760,\"該当３\"))","v":""}]
[2222606007,"22",226,{"v":6,"d":"06"},{"v":7,"d":"007"},"静岡県","牧之原市","勝間田村２－１","牧の原東",null,"","",{"$f":"IF(K3762=\"\",\"\",COUNTIF($K$7:K3762,\"ﾘｽﾄ１\"))","v":""},"","","","","","","",{"$f":"IF(S3762=\"\",\"\",COUNTIF($S$7:S3762,\"該当２\"))","v":""},"","",{"$f":"IF(V3762=\"\",\"\",COUNTIF($V$7:V3762,\"該当３\"))","v":""}]
[2222606008,"22",226,{"v":6,"d":"06"},{"v":8,"d":"008"},"静岡県","牧之原市","勝間田村２－１","牧の原南",null,"","",{"$f":"IF(K3763=\"\",\"\",COUNTIF($K$7:K3763,\"ﾘｽﾄ１\"))","v":""},"","","","","","","",{"$f":"IF(S3763=\"\",\"\",COUNTIF($S$7:S3763,\"該当２\"))","v":""},"","",{"$f":"IF(V3763=\"\",\"\",COUNTIF($V$7:V3763,\"該当３\"))","v":""}]
[2222606010,"22",226,{"v":6,"d":"06"},{"v":10,"d":"010"},"静岡県","牧之原市","勝間田村２－１","勝田下",null,"","",{"$f":"IF(K3765=\"\",\"\",COUNTIF($K$7:K3765,\"ﾘｽﾄ１\"))","v":""},"","","","","","","",{"$f":"IF(S3765=\"\",\"\",COUNTIF($S$7:S3765,\"該当２\"))","v":""},"","",{"$f":"IF(V3765=\"\",\"\",COUNTIF($V$7:V3765,\"該当３\"))","v":""}]
[2222606011,"22",226,{"v":6,"d":"06"},{"v":11,"d":"011"},"静岡県","牧之原市","勝間田村２－１","三栗",null,"","",{"$f":"IF(K3766=\"\",\"\",COUNTIF($K$7:K3766,\"ﾘｽﾄ１\"))","v":""},"","","","","","","",{"$f":"IF(S3766=\"\",\"\",COUNTIF($S$7:S3766,\"該当２\"))","v":""},"","",{"$f":"IF(V3766=\"\",\"\",COUNTIF($V$7:V3766,\"該当３\"))","v":""}]
[2222607000,"22",226,{"v":7,"d":"07"},{"v":0,"d":"000"},"静岡県","牧之原市","坂部村",null,null,"","",{"$f":"IF(K3768=\"\",\"\",COUNTIF($K$7:K3768,\"ﾘｽﾄ１\"))","v":""},"","","","","","","",{"$f":"IF(S3768=\"\",\"\",COUNTIF($S$7:S3768,\"該当２\"))","v":""},"","",{"$f":"IF(V3768=\"\",\"\",COUNTIF($V$7:V3768,\"該当３\"))","v":""}]
[2222607001,"22",226,{"v":7,"d":"07"},{"v":1,"d":"001"},"静岡県","牧之原市","坂部村","坂部第１",null,"","",{"$f":"IF(K3769=\"\",\"\",COUNTIF($K$7:K3769,\"ﾘｽﾄ１\"))","v":""},"","","","","","","",{"$f":"IF(S3769=\"\",\"\",COUNTIF($S$7:S3769,\"該当２\"))","v":""},"","",{"$f":"IF(V3769=\"\",\"\",COUNTIF($V$7:V3769,\"該当３\"))","v":""}]
[2222607003,"22",226,{"v":7,"d":"07"},{"v":3,"d":"003"},"静岡県","牧之原市","坂部村","坂部第３",null,"","",{"$f":"IF(K3771=\"\",\"\",COUNTIF($K$7:K3771,\"ﾘｽﾄ１\"))","v":""},"","","","","","","",{"$f":"IF(S3771=\"\",\"\",COUNTIF($S$7:S3771,\"該当２\"))","v":""},"","",{"$f":"IF(V3771=\"\",\"\",COUNTIF($V$7:V3771,\"該当３\"))","v":""}]
[2222607004,"22",226,{"v":7,"d":"07"},{"v":4,"d":"004"},"静岡県","牧之原市","坂部村","坂部第４",null,"","",{"$f":"IF(K3772=\"\",\"\",COUNTIF($K$7:K3772,\"ﾘｽﾄ１\"))","v":""},"","","","","","","",{"$f":"IF(S3772=\"\",\"\",COUNTIF($S$7:S3772,\"該当２\"))","v":""},"","",{"$f":"IF(V3772=\"\",\"\",COUNTIF($V$7:V3772,\"該当３\"))","v":""}]
[2222607006,"22",226,{"v":7,"d":"07"},{"v":6,"d":"006"},"静岡県","牧之原市","坂部村","坂部第６",null,"","",{"$f":"IF(K3774=\"\",\"\",COUNTIF($K$7:K3774,\"ﾘｽﾄ１\"))","v":""},"","","","","","","",{"$f":"IF(S3774=\"\",\"\",COUNTIF($S$7:S3774,\"該当２\"))","v":""},"","",{"$f":"IF(V3774=\"\",\"\",COUNTIF($V$7:V3774,\"該当３\"))","v":""}]
[2222608000,"22",226,{"v":8,"d":"08"},{"v":0,"d":"000"},"静岡県","牧之原市","萩間村２－２",null,null,"","",{"$f":"IF(K3775=\"\",\"\",COUNTIF($K$7:K3775,\"ﾘｽﾄ１\"))","v":""},"","","","","","","",{"$f":"IF(S3775=\"\",\"\",COUNTIF($S$7:S3775,\"該当２\"))","v":""},"","",{"$f":"IF(V3775=\"\",\"\",COUNTIF($V$7:V3775,\"該当３\"))","v":""}]
[2230100000,"22",301,{"v":0,"d":"00"},{"v":0,"d":"000"},"静岡県","東伊豆町",{"$nulls":3},"ﾘｽﾄ１","東伊豆町",{"$f":"IF(K3777=\"\",\"\",COUNTIF($K$7:K3777,\"ﾘｽﾄ１\"))","v":34},"","","","","","","",{"$f":"IF(S3777=\"\",\"\",COUNTIF($S$7:S3777,\"該当２\"))","v":""},"","",{"$f":"IF(V3777=\"\",\"\",COUNTIF($V$7:V3777,\"該当３\"))","v":""}]
[2230101000,"22",301,{"v":1,"d":"01"},{"v":0,"d":"000"},"静岡県","東伊豆町","稲取町",null,null,"","",{"$f":"IF(K3778=\"\",\"\",COUNTIF($K$7:K3778,\"ﾘｽﾄ１\"))","v":""},"","","","","","","",{"$f":"IF(S3778=\"\",\"\",COUNTIF($S$7:S3778,\"該当２\"))","v":""},"","",{"$f":"IF(V3778=\"\",\"\",COUNTIF($V$7:V3778,\"該当３\"))","v":""}]
[2230101002,"22",301,{"v":1,"d":"01"},{"v":2,"d":"002"},"静岡県","東伊豆町","稲取町","水下",null,"",{"$f":"IF(K3780=\"ﾘｽﾄ１\",G3780,\"\")","v":""},{"$f":"IF(K3780=\"\",\"\",COUNTIF($K$7:K3780,\"ﾘｽﾄ１\"))","v":""},{"$f":"IF(AND(D3780=0,E3780>0),\"同一区\",\"\")","v":""},{"$f":"IF(AND(EXACT($K$2,G3780),H3780>0),\"該当１\",\"\")","v":""},{"$f":"IF(O3780=\"該当１\",G3780,\"\")","v":""},{"$f":"IF(O3780=\"該当１\",\"ﾘｽﾄ2\",\"\")","v":""},{"$f":"IF(Q3780=\"ﾘｽﾄ2\",H3780,\"\")","v":""},{"$f":"IF(AND(Q3780=\"ﾘｽﾄ2\",OR(I3780=0,AND(N3780=\"同一区\",E3780=1))),\"該当２\",\"\")","v":""},{"$f":"IF(S3780=\"該当２\",H3780,\"\")","v":""},{"$f":"IF(S3780=\"\",\"\",COUNTIF($S$7:S3780,\"該当２\"))","v":""},{"$f":"IF(AND($S$2=H3780,E3780>0,E3780<998),\"該当３\",\"\")","v":""},{"$f":"IF(V3780=\"該当３\",I3780,\"\")","v":""},{"$f":"IF(V3780=\"\",\"\",COUNTIF($V$7:V3780,\"該当３\"))","v":""}]
[2230101003,"22",301,{"v":1,"d":"01"},{"v":3,"d":"003"},"静岡県","東伊豆町","稲取町","田町",null,"","",{"$f":"IF(K3781=\"\",\"\",COUNTIF($K$7:K3781,\"ﾘｽﾄ１\"))","v":""},"","","","","","","",{"$f":"IF(S3781=\"\",\"\",COUNTIF($S$7:S3781,\"該当２\"))","v":""},"","",{"$f":"IF(V3781=\"\",\"\",COUNTIF($V$7:V3781,\"該当３\"))","v":""}]
[2230101005,"22",301,{"v":1,"d":"01"},{"v":5,"d":"005"},"静岡県","東伊豆町","稲取町","東町",null,"","",{"$f":"IF(K3783=\"\",\"\",COUNTIF($K$7:K3783,\"ﾘｽﾄ１\"))","v":""},"","","","","","","",{"$f":"IF(S3783=\"\",\"\",COUNTIF($S$7:S3783,\"該当２\"))","v":""},"","",{"$f":"IF(V3783=\"\",\"\",COUNTIF($V$7:V3783,\"該当３\"))","v":""}]
[2230102000,"22",301,{"v":2,"d":"02"},{"v":0,"d":"000"},"静岡県","東伊豆町","城東村",null,null,"","",{"$f":"IF(K3784=\"\",\"\",COUNTIF($K$7:K3784,\"ﾘｽﾄ１\"))","v":""},"","","","","","","",{"$f":"IF(S3784=\"\",\"\",COUNTIF($S$7:S3784,\"該当２\"))","v":""},"","",{"$f":"IF(V3784=\"\",\"\",COUNTIF($V$7:V3784,\"該当３\"))","v":""}]
[2230102002,"22",301,{"v":2,"d":"02"},{"v":2,"d":"002"},"静岡県","東伊豆町","城東村","北川",null,"","",{"$f":"IF(K3786=\"\",\"\",COUNTIF($K$7:K3786,\"ﾘｽﾄ１\"))","v":""},"","","","","","","",{"$f":"IF(S3786=\"\",\"\",COUNTIF($S$7:S3786,\"該当２\"))","v":""},"","",{"$f":"IF(V3786=\"\",\"\",COUNTIF($V$7:V3786,\"該当３\"))","v":""}]
[2230102003,"22",301,{"v":2,"d":"02"},{"v":3,"d":"003"},"静岡県","東伊豆町","城東村","奈良本",null,{"$f":"IF(AND($C3787>0,$H3787=\"\"),\"ﾘｽﾄ１\",\"\")","v":""},"",{"$f":"IF(K3787=\"\",\"\",COUNTIF($K$7:K3787,\"ﾘｽﾄ１\"))","v":""},"","","","","","","",{"$f":"IF(S3787=\"\",\"\",COUNTIF($S$7:S3787,\"該当２\"))","v":""},"","",{"$f":"IF(V3787=\"\",\"\",COUNTIF($V$7:V3787,\"該当３\"))","v":""}]
[2230102005,"22",301,{"v":2,"d":"02"},{"v":5,"d":"005"},"静岡県","東伊豆町","城東村","湯ケ岡",null,"","",{"$f":"IF(K3789=\"\",\"\",COUNTIF($K$7:K3789,\"ﾘｽﾄ１\"))","v":""},"","","","","","","",{"$f":"IF(S3789=\"\",\"\",COUNTIF($S$7:S3789,\"該当２\"))","v":""},"","",{"$f":"IF(V3789=\"\",\"\",COUNTIF($V$7:V3789,\"該当３\"))","v":""}]
[2230102006,"22",301,{"v":2,"d":"02"},{"v":6,"d":"006"},"静岡県","東伊豆町","城東村","白田浜",null,"","",{"$f":"IF(K3790=\"\",\"\",COUNTIF($K$7:K3790,\"ﾘｽﾄ１\"))","v":""},"","","","","","","",{"$f":"IF(S3790=\"\",\"\",COUNTIF($S$7:S3790,\"該当２\"))","v":""},"","",{"$f":"IF(V3790=\"\",\"\",COUNTIF($V$7:V3790,\"該当３\"))","v":""}]
[2230201000,"22",302,{"v":1,"d":"01"},{"v":0,"d":"000"},"静岡県","河津町","上河津村",null,null,"","",{"$f":"IF(K3792=\"\",\"\",COUNTIF($K$7:K3792,\"ﾘｽﾄ１\"))","v":""},"","","","","","","",{"$f":"IF(S3792=\"\",\"\",COUNTIF($S$7:S3792,\"該当２\"))","v":""},"","",{"$f":"IF(V3792=\"\",\"\",COUNTIF($V$7:V3792,\"該当３\"))","v":""}]
[2230201001,"22",302,{"v":1,"d":"01"},{"v":1,"d":"001"},"静岡県","河津町","上河津村","大堰",null,"","",{"$f":"IF(K3793=\"\",\"\",COUNTIF($K$7:K3793,\"ﾘｽﾄ１\"))","v":""},"","","","","","","",{"$f":"IF(S3793=\"\",\"\",COUNTIF($S$7:S3793,\"該当２\"))","v":""},"","",{"$f":"IF(V3793=\"\",\"\",COUNTIF($V$7:V3793,\"該当３\"))","v":""}]
[2230201003,"22",302,{"v":1,"d":"01"},{"v":3,"d":"003"},"静岡県","河津町","上河津村","天川",null,"","",{"$f":"IF(K3795=\"\",\"\",COUNTIF($K$7:K3795,\"ﾘｽﾄ１\"))","v":""},"","","","","","","",{"$f":"IF(S3795=\"\",\"\",COUNTIF($S$7:S3795,\"該当２\"))","v":""},"","",{"$f":"IF(V3795=\"\",\"\",COUNTIF($V$7:V3795,\"該当３\"))","v":""}]
[2230201004,"22",302,{"v":1,"d":"01"},{"v":4,"d":"004"},"静岡県","河津町","上河津村","上佐ケ野",null,"","",{"$f":"IF(K3796=\"\",\"\",COUNTIF($K$7:K3796,\"ﾘｽﾄ１\"))","v":""},"","","","","","","",{"$f":"IF(S3796=\"\",\"\",COUNTIF($S$7:S3796,\"該当２\"))","v":""},"","",{"$f":"IF(V3796=\"\",\"\",COUNTIF($V$7:V3796,\"該当３\"))","v":""}]
[2230201006,"22",302,{"v":1,"d":"01"},{"v":6,"d":"006"},"静岡県","河津町","上河津村","下佐ケ野",null,"","",{"$f":"IF(K3798=\"\",\"\",COUNTIF($K$7:K3798,\"ﾘｽﾄ１\"))","v":""},"","","","","","","",{"$f":"IF(S3798=\"\",\"\",COUNTIF($S$7:S3798,\"該当２\"))","v":""},"","",{"$f":"IF(V3798=\"\",\"\",COUNTIF($V$7:V3798,\"該当３\"))","v":""}]
[2230201007,"22",302,{"v":1,"d":"01"},{"v":7,"d":"007"},"静岡県","河津町","上河津村","湯ケ野",null,"","",{"$f":"IF(K3799=\"\",\"\",COUNTIF($K$7:K3799,\"ﾘｽﾄ１\"))","v":""},"","","","","","","",{"$f":"IF(S3799=\"\",\"\",COUNTIF($S$7:S3799,\"該当２\"))","v":""},"","",{"$f":"IF(V3799=\"\",\"\",COUNTIF($V$7:V3799,\"該当３\"))","v":""}]
[2230201009,"22",302,{"v":1,"d":"01"},{"v":9,"d":"009"},"静岡県","河津町","上河津村","大鍋",null,"","",{"$f":"IF(K3801=\"\",\"\",COUNTIF($K$7:K3801,\"ﾘｽﾄ１\"))","v":""},"","","","","","","",{"$f":"IF(S3801=\"\",\"\",COUNTIF($S$7:S3801,\"該当２\"))","v":""},"","",{"$f":"IF(V3801=\"\",\"\",COUNTIF($V$7:V3801,\"該当３\"))","v":""}]
[2230201010,"22",302,{"v":1,"d":"01"},{"v":10,"d":"010"},"静岡県","河津町","上河津村","川横",null,"","",{"$f":"IF(K3802=\"\",\"\",COUNTIF($K$7:K3802,\"ﾘｽﾄ１\"))","v":""},"","","","","","","",{"$f":"IF(S3802=\"\",\"\",COUNTIF($S$7:S3802,\"該当２\"))","v":""},"","",{"$f":"IF(V3802=\"\",\"\",COUNTIF($V$7:V3802,\"該当３\"))","v":""}]
[2230201012,"22",302,{"v":1,"d":"01"},{"v":12,"d":"012"},"静岡県","河津町","上河津村","梨本",null,"","",{"$f":"IF(K3804=\"\",\"\",COUNTIF($K$7:K3804,\"ﾘｽﾄ１\"))","v":""},"","","","","","","",{"$f":"IF(S3804=\"\",\"\",COUNTIF($S$7:S3804,\"該当２\"))","v":""},"","",{"$f":"IF(V3804=\"\",\"\",COUNTIF($V$7:V3804,\"該当３\"))","v":""}]
[2230201013,"22",302,{"v":1,"d":"01"},{"v":13,"d":"013"},"静岡県","河津町","上河津村","沼の川",null,"","",{"$f":"IF(K3805=\"\",\"\",COUNTIF($K$7:K3805,\"ﾘｽﾄ１\"))","v":""},"","","","","","","",{"$f":"IF(S3805=\"\",\"\",COUNTIF($S$7:S3805,\"該当２\"))","v":""},"","",{"$f":"IF(V3805=\"\",\"\",COUNTIF($V$7:V3805,\"該当３\"))","v":""}]
[2230202000,"22",302,{"v":2,"d":"02"},{"v":0,"d":"000"},"静岡県","河津町","下河津村",null,null,"","",{"$f":"IF(K3807=\"\",\"\",COUNTIF($K$7:K3807,\"ﾘｽﾄ１\"))","v":""},"","","","","","","",{"$f":"IF(S3807=\"\",\"\",COUNTIF($S$7:S3807,\"該当２\"))","v":""},"","",{"$f":"IF(V3807=\"\",\"\",COUNTIF($V$7:V3807,\"該当３\"))","v":""}]
[2230202001,"22",302,{"v":2,"d":"02"},{"v":1,"d":"001"},"静岡県","河津町","下河津村","浜",null,"","",{"$f":"IF(K3808=\"\",\"\",COUNTIF($K$7:K3808,\"ﾘｽﾄ１\"))","v":""},"","","","","","","",{"$f":"IF(S3808=\"\",\"\",COUNTIF($S$7:S3808,\"該当２\"))","v":""},"","",{"$f":"IF(V3808=\"\",\"\",COUNTIF($V$7:V3808,\"該当３\"))","v":""}]
[2230202003,"22",302,{"v":2,"d":"02"},{"v":3,"d":"003"},"静岡県","河津町","下河津村","田中",null,"","",{"$f":"IF(K3810=\"\",\"\",COUNTIF($K$7:K3810,\"ﾘｽﾄ１\"))","v":""},"","","","","","","",{"$f":"IF(S3810=\"\",\"\",COUNTIF($S$7:S3810,\"該当２\"))","v":""},"","",{"$f":"IF(V3810=\"\",\"\",COUNTIF($V$7:V3810,\"該当３\"))","v":""}]
[2230202004,"22",302,{"v":2,"d":"02"},{"v":4,"d":"004"},"静岡県","河津町","下河津村","沢田",null,"","",{"$f":"IF(K3811=\"\",\"\",COUNTIF($K$7:K3811,\"ﾘｽﾄ１\"))","v":""},"","","","","","","",{"$f":"IF(S3811=\"\",\"\",COUNTIF($S$7:S3811,\"該当２\"))","v":""},"","",{"$f":"IF(V3811=\"\",\"\",COUNTIF($V$7:V3811,\"該当３\"))","v":""}]
[2230202006,"22",302,{"v":2,"d":"02"},{"v":6,"d":"006"},"静岡県","河津町","下河津村","上峰",null,"","",{"$f":"IF(K3813=\"\",\"\",COUNTIF($K$7:K3813,\"ﾘｽﾄ１\"))","v":""},"","","","","","","",{"$f":"IF(S3813=\"\",\"\",COUNTIF($S$7:S3813,\"該当２\"))","v":""},"","",{"$f":"IF(V3813=\"\",\"\",COUNTIF($V$7:V3813,\"該当３\"))","v":""}]
[2230202007,"22",302,{"v":2,"d":"02"},{"v":7,"d":"007"},"静岡県","河津町","下河津村","下峰",null,"","",{"$f":"IF(K3814=\"\",\"\",COUNTIF($K$7:K3814,\"ﾘｽﾄ１\"))","v":""},"","","","","","","",{"$f":"IF(S3814=\"\",\"\",COUNTIF($S$7:S3814,\"該当２\"))","v":""},"","",{"$f":"IF(V3814=\"\",\"\",COUNTIF($V$7:V3814,\"該当３\"))","v":""}]
[2230202009,"22",302,{"v":2,"d":"02"},{"v":9,"d":"009"},"静岡県","河津町","下河津村","繩地",null,"","",{"$f":"IF(K3816=\"\",\"\",COUNTIF($K$7:K3816,\"ﾘｽﾄ１\"))","v":""},"","","","","","","",{"$f":"IF(S3816=\"\",\"\",COUNTIF($S$7:S3816,\"該当２\"))","v":""},"","",{"$f":"IF(V3816=\"\",\"\",COUNTIF($V$7:V3816,\"該当３\"))","v":""}]
[2230202010,"22",302,{"v":2,"d":"02"},{"v":10,"d":"010"},"静岡県","河津町","下河津村","見高浜",null,"","",{"$f":"IF(K3817=\"\",\"\",COUNTIF($K$7:K3817,\"ﾘｽﾄ１\"))","v":""},"","","","","","","",{"$f":"IF(S3817=\"\",\"\",COUNTIF($S$7:S3817,\"該当２\"))","v":""},"","",{"$f":"IF(V3817=\"\",\"\",COUNTIF($V$7:V3817,\"該当３\"))","v":""}]
[2230400000,"22",304,{"v":0,"d":"00"},{"v":0,"d":"000"},"静岡県","南伊豆町",{"$nulls":3},"ﾘｽﾄ１","南伊豆町",{"$f":"IF(K3819=\"\",\"\",COUNTIF($K$7:K3819,\"ﾘｽﾄ１\"))","v":36},"","","","","","","",{"$f":"IF(S3819=\"\",\"\",COUNTIF($S$7:S3819,\"該当２\"))","v":""},"","",{"$f":"IF(V3819=\"\",\"\",COUNTIF($V$7:V3819,\"該当３\"))","v":""}]
[2230401000,"22",304,{"v":1,"d":"01"},{"v":0,"d":"000"},"静岡県","南伊豆町","竹麻村",null,null,"","",{"$f":"IF(K3820=\"\",\"\",COUNTIF($K$7:K3820,\"ﾘｽﾄ１\"))","v":""},"","","","","","","",{"$f":"IF(S3820=\"\",\"\",COUNTIF($S$7:S3820,\"該当２\"))","v":""},"","",{"$f":"IF(V3820=\"\",\"\",COUNTIF($V$7:V3820,\"該当３\"))","v":""}]
[2230401002,"22",304,{"v":1,"d":"01"},{"v":2,"d":"002"},"静岡県","南伊豆町","竹麻村","湊",null,"","",{"$f":"IF(K3822=\"\",\"\",COUNTIF($K$7:K3822,\"ﾘｽﾄ１\"))","v":""},"","","","","","","",{"$f":"IF(S3822=\"\",\"\",COUNTIF($S$7:S3822,\"該当２\"))","v":""},"","",{"$f":"IF(V3822=\"\",\"\",COUNTIF($V$7:V3822,\"該当３\"))","v":""}]
[2230401003,"22",304,{"v":1,"d":"01"},{"v":3,"d":"003"},"静岡県","南伊豆町","竹麻村","手石",null,"","",{"$f":"IF(K3823=\"\",\"\",COUNTIF($K$7:K3823,\"ﾘｽﾄ１\"))","v":""},"","","","","","","",{"$f":"IF(S3823=\"\",\"\",COUNTIF($S$7:S3823,\"該当２\"))","v":""},"","",{"$f":"IF(V3823=\"\",\"\",COUNTIF($V$7:V3823,\"該当３\"))","v":""}]
[2230402001,"22",304,{"v":2,"d":"02"},{"v":1,"d":"001"},"静岡県","南伊豆町","南中村","石井",null,"","",{"$f":"IF(K3825=\"\",\"\",COUNTIF($K$7:K3825,\"ﾘｽﾄ１\"))","v":""},"","","","","","","",{"$f":"IF(S3825=\"\",\"\",COUNTIF($S$7:S3825,\"該当２\"))","v":""},"","",{"$f":"IF(V3825=\"\",\"\",COUNTIF($V$7:V3825,\"該当３\"))","v":""}]
[2230402002,"22",304,{"v":2,"d":"02"},{"v":2,"d":"002"},"静岡県","南伊豆町","南中村","加納",null,"","",{"$f":"IF(K3826=\"\",\"\",COUNTIF($K$7:K3826,\"ﾘｽﾄ１\"))","v":""},"","","","","","","",{"$f":"IF(S3826=\"\",\"\",COUNTIF($S$7:S3826,\"該当２\"))","v":""},"","",{"$f":"IF(V3826=\"\",\"\",COUNTIF($V$7:V3826,\"該当３\"))","v":""}]
[2230402004,"22",304,{"v":2,"d":"02"},{"v":4,"d":"004"},"静岡県","南伊豆町","南中村","下賀茂",null,"","",{"$f":"IF(K3828=\"\",\"\",COUNTIF($K$7:K3828,\"ﾘｽﾄ１\"))","v":""},"","","","","","","",{"$f":"IF(S3828=\"\",\"\",COUNTIF($S$7:S3828,\"該当２\"))","v":""},"","",{"$f":"IF(V3828=\"\",\"\",COUNTIF($V$7:V3828,\"該当３\"))","v":""}]
[2230402005,"22",304,{"v":2,"d":"02"},{"v":5,"d":"005"},"静岡県","南伊豆町","南中村","上賀茂",null,"","",{"$f":"IF(K3829=\"\",\"\",COUNTIF($K$7:K3829,\"ﾘｽﾄ１\"))","v":""},"","","","","","","",{"$f":"IF(S3829=\"\",\"\",COUNTIF($S$7:S3829,\"該当２\"))","v":""},"","",{"$f":"IF(V3829=\"\",\"\",COUNTIF($V$7:V3829,\"該当３\"))","v":""}]
[2230403000,"22",304,{"v":3,"d":"03"},{"v":0,"d":"000"},"静岡県","南伊豆町","南崎村",null,null,"","",{"$f":"IF(K3831=\"\",\"\",COUNTIF($K$7:K3831,\"ﾘｽﾄ１\"))","v":""},"","","","","","","",{"$f":"IF(S3831=\"\",\"\",COUNTIF($S$7:S3831,\"該当２\"))","v":""},"","",{"$f":"IF(V3831=\"\",\"\",COUNTIF($V$7:V3831,\"該当３\"))","v":""}]
[2230403001,"22",304,{"v":3,"d":"03"},{"v":1,"d":"001"},"静岡県","南伊豆町","南崎村","下流",null,"","",{"$f":"IF(K3832=\"\",\"\",COUNTIF($K$7:K3832,\"ﾘｽﾄ１\"))","v":""},"","","","","","","",{"$f":"IF(S3832=\"\",\"\",COUNTIF($S$7:S3832,\"該当２\"))","v":""},"","",{"$f":"IF(V3832=\"\",\"\",COUNTIF($V$7:V3832,\"該当３\"))","v":""}]
[2230403003,"22",304,{"v":3,"d":"03"},{"v":3,"d":"003"},"静岡県","南伊豆町","南崎村","石廊崎",null,"","",{"$f":"IF(K3834=\"\",\"\",COUNTIF($K$7:K3834,\"ﾘｽﾄ１\"))","v":""},"","","","","","","",{"$f":"IF(S3834=\"\",\"\",COUNTIF($S$7:S3834,\"該当２\"))","v":""},"","",{"$f":"IF(V3834=\"\",\"\",COUNTIF($V$7:V3834,\"該当３\"))","v":""}]
[2230404000,"22",304,{"v":4,"d":"04"},{"v":0,"d":"000"},"静岡県","南伊豆町","南上村",null,null,"","",{"$f":"IF(K3835=\"\",\"\",COUNTIF($K$7:K3835,\"ﾘｽﾄ１\"))","v":""},"","","","","","","",{"$f":"IF(S3835=\"\",\"\",COUNTIF($S$7:S3835,\"該当２\"))","v":""},"","",{"$f":"IF(V3835=\"\",\"\",COUNTIF($V$7:V3835,\"該当３\"))","v":""}]
[2230404002,"22",304,{"v":4,"d":"04"},{"v":2,"d":"002"},"静岡県","南伊豆町","南上村","平戸",null,"","",{"$f":"IF(K3837=\"\",\"\",COUNTIF($K$7:K3837,\"ﾘｽﾄ１\"))","v":""},"","","","","","","",{"$f":"IF(S3837=\"\",\"\",COUNTIF($S$7:S3837,\"該当２\"))","v":""},"","",{"$f":"IF(V3837=\"\",\"\",COUNTIF($V$7:V3837,\"該当３\"))","v":""}]
[2230404003,"22",304,{"v":4,"d":"04"},{"v":3,"d":"003"},"静岡県","南伊豆町","南上村","市之瀬",null,"","",{"$f":"IF(K3838=\"\",\"\",COUNTIF($K$7:K3838,\"ﾘｽﾄ１\"))","v":""},"","","","","","","",{"$f":"IF(S3838=\"\",\"\",COUNTIF($S$7:S3838,\"該当２\"))","v":""},"","",{"$f":"IF(V3838=\"\",\"\",COUNTIF($V$7:V3838,\"該当３\"))","v":""}]
[2230404005,"22",304,{"v":4,"d":"04"},{"v":5,"d":"005"},"静岡県","南伊豆町","南上村","青野",null,"","",{"$f":"IF(K3840=\"\",\"\",COUNTIF($K$7:K3840,\"ﾘｽﾄ１\"))","v":""},"","","","","","","",{"$f":"IF(S3840=\"\",\"\",COUNTIF($S$7:S3840,\"該当２\"))","v":""},"","",{"$f":"IF(V3840=\"\",\"\",COUNTIF($V$7:V3840,\"該当３\"))","v":""}]
[2230404006,"22",304,{"v":4,"d":"04"},{"v":6,"d":"006"},"静岡県","南伊豆町","南上村","下小野",null,"","",{"$f":"IF(K3841=\"\",\"\",COUNTIF($K$7:K3841,\"ﾘｽﾄ１\"))","v":""},"","","","","","","",{"$f":"IF(S3841=\"\",\"\",COUNTIF($S$7:S3841,\"該当２\"))","v":""},"","",{"$f":"IF(V3841=\"\",\"\",COUNTIF($V$7:V3841,\"該当３\"))","v":""}]
[2230404008,"22",304,{"v":4,"d":"04"},{"v":8,"d":"008"},"静岡県","南伊豆町","南上村","岩殿",null,"","",{"$f":"IF(K3843=\"\",\"\",COUNTIF($K$7:K3843,\"ﾘｽﾄ１\"))","v":""},"","","","","","","",{"$f":"IF(S3843=\"\",\"\",COUNTIF($S$7:S3843,\"該当２\"))","v":""},"","",{"$f":"IF(V3843=\"\",\"\",COUNTIF($V$7:V3843,\"該当３\"))","v":""}]
[2230404009,"22",304,{"v":4,"d":"04"},{"v":9,"d":"009"},"静岡県","南伊豆町","南上村","毛倉野",null,"",{"$f":"IF(K3844=\"ﾘｽﾄ１\",G3844,\"\")","v":""},{"$f":"IF(K3844=\"\",\"\",COUNTIF($K$7:K3844,\"ﾘｽﾄ１\"))","v":""},{"$f":"IF(AND(D3844=0,E3844>0),\"同一区\",\"\")","v":""},{"$f":"IF(AND(EXACT($K$2,G3844),H3844>0),\"該当１\",\"\")","v":""},{"$f":"IF(O3844=\"該当１\",G3844,\"\")","v":""},{"$f":"IF(O3844=\"該当１\",\"ﾘｽﾄ2\",\"\")","v":""},{"$f":"IF(Q3844=\"ﾘｽﾄ2\",H3844,\"\")","v":""},{"$f":"IF(AND(Q3844=\"ﾘｽﾄ2\",OR(I3844=0,AND(N3844=\"同一区\",E3844=1))),\"該当２\",\"\")","v":""},{"$f":"IF(S3844=\"該当２\",H3844,\"\")","v":""},{"$f":"IF(S3844=\"\",\"\",COUNTIF($S$7:S3844,\"該当２\"))","v":""},{"$f":"IF(AND($S$2=H3844,E3844>0,E3844<998),\"該当３\",\"\")","v":""},{"$f":"IF(V3844=\"該当３\",I3844,\"\")","v":""},{"$f":"IF(V3844=\"\",\"\",COUNTIF($V$7:V3844,\"該当３\"))","v":""}]
[2230405001,"22",304,{"v":5,"d":"05"},{"v":1,"d":"001"},"静岡県","南伊豆町","三坂村","吉祥",null,"","",{"$f":"IF(K3846=\"\",\"\",COUNTIF($K$7:K3846,\"ﾘｽﾄ１\"))","v":""},"","","","","","","",{"$f":"IF(S3846=\"\",\"\",COUNTIF($S$7:S3846,\"該当２\"))","v":""},"","",{"$f":"IF(V3846=\"\",\"\",COUNTIF($V$7:V3846,\"該当３\"))","v":""}]
[2230405002,"22",304,{"v":5,"d":"05"},{"v":2,"d":"002"},"静岡県","南伊豆町","三坂村","差田",null,"","",{"$f":"IF(K3847=\"\",\"\",COUNTIF($K$7:K3847,\"ﾘｽﾄ１\"))","v":""},"","","","","","","",{"$f":"IF(S3847=\"\",\"\",COUNTIF($S$7:S3847,\"該当２\"))","v":""},"","",{"$f":"IF(V3847=\"\",\"\",COUNTIF($V$7:V3847,\"該当３\"))","v":""}]
[2230405004,"22",304,{"v":5,"d":"05"},{"v":4,"d":"004"},"静岡県","南伊豆町","三坂村","中木",null,"","",{"$f":"IF(K3849=\"\",\"\",COUNTIF($K$7:K3849,\"ﾘｽﾄ１\"))","v":""},"","","","","","","",{"$f":"IF(S3849=\"\",\"\",COUNTIF($S$7:S3849,\"該当２\"))","v":""},"","",{"$f":"IF(V3849=\"\",\"\",COUNTIF($V$7:V3849,\"該当３\"))","v":""}]
[2230406000,"22",304,{"v":6,"d":"06"},{"v":0,"d":"000"},"静岡県","南伊豆町","三浜村",null,null,"","",{"$f":"IF(K3850=\"\",\"\",COUNTIF($K$7:K3850,\"ﾘｽﾄ１\"))","v":""},"","","","","","","",{"$f":"IF(S3850=\"\",\"\",COUNTIF($S$7:S3850,\"該当２\"))","v":""},"","",{"$f":"IF(V3850=\"\",\"\",COUNTIF($V$7:V3850,\"該当３\"))","v":""}]
[2230406002,"22",304,{"v":6,"d":"06"},{"v":2,"d":"002"},"静岡県","南伊豆町","三浜村","吉田",null,"","",{"$f":"IF(K3852=\"\",\"\",COUNTIF($K$7:K3852,\"ﾘｽﾄ１\"))","v":""},"","","","","","","",{"$f":"IF(S3852=\"\",\"\",COUNTIF($S$7:S3852,\"該当２\"))","v":""},"","",{"$f":"IF(V3852=\"\",\"\",COUNTIF($V$7:V3852,\"該当３\"))","v":""}]
[2230406003,"22",304,{"v":6,"d":"06"},{"v":3,"d":"003"},"静岡県","南伊豆町","三浜村","妻良",null,"","",{"$f":"IF(K3853=\"\",\"\",COUNTIF($K$7:K3853,\"ﾘｽﾄ１\"))","v":""},"","","","","","","",{"$f":"IF(S3853=\"\",\"\",COUNTIF($S$7:S3853,\"該当２\"))","v":""},"","",{"$f":"IF(V3853=\"\",\"\",COUNTIF($V$7:V3853,\"該当３\"))","v":""}]
[2230406005,"22",304,{"v":6,"d":"06"},{"v":5,"d":"005"},"静岡県","南伊豆町","三浜村","西子浦",null,"","",{"$f":"IF(K3855=\"\",\"\",COUNTIF($K$7:K3855,\"ﾘｽﾄ１\"))","v":""},"","","","","","","",{"$f":"IF(S3855=\"\",\"\",COUNTIF($S$7:S3855,\"該当２\"))","v":""},"","",{"$f":"IF(V3855=\"\",\"\",COUNTIF($V$7:V3855,\"該当３\"))","v":""}]
[2230406006,"22",304,{"v":6,"d":"06"},{"v":6,"d":"006"},"静岡県","南伊豆町","三浜村","落居",null,"","",{"$f":"IF(K3856=\"\",\"\",COUNTIF($K$7:K3856,\"ﾘｽﾄ１\"))","v":""},"","","","","","","",{"$f":"IF(S3856=\"\",\"\",COUNTIF($S$7:S3856,\"該当２\"))","v":""},"","",{"$f":"IF(V3856=\"\",\"\",COUNTIF($V$7:V3856,\"該当３\"))","v":""}]
[2230406008,"22",304,{"v":6,"d":"06"},{"v":8,"d":"008"},"静岡県","南伊豆町","三浜村","伊浜",null,"","",{"$f":"IF(K3858=\"\",\"\",COUNTIF($K$7:K3858,\"ﾘｽﾄ１\"))","v":""},"","","","","","","",{"$f":"IF(S3858=\"\",\"\",COUNTIF($S$7:S3858,\"該当２\"))","v":""},"","",{"$f":"IF(V3858=\"\",\"\",COUNTIF($V$7:V3858,\"該当３\"))","v":""}]
[2230406009,"22",304,{"v":6,"d":"06"},{"v":9,"d":"009"},"静岡県","南伊豆町","三浜村","天神原",null,"","",{"$f":"IF(K3859=\"\",\"\",COUNTIF($K$7:K3859,\"ﾘｽﾄ１\"))","v":""},"","","","","","","",{"$f":"IF(S3859=\"\",\"\",COUNTIF($S$7:S3859,\"該当２\"))","v":""},"","",{"$f":"IF(V3859=\"\",\"\",COUNTIF($V$7:V3859,\"該当３\"))","v":""}]
[2230501000,"22",305,{"v":1,"d":"01"},{"v":0,"d":"000"},"静岡県","松崎町","松崎町（旧）",null,null,"","",{"$f":"IF(K3861=\"\",\"\",COUNTIF($K$7:K3861,\"ﾘｽﾄ１\"))","v":""},"","","","","","","",{"$f":"IF(S3861=\"\",\"\",COUNTIF($S$7:S3861,\"該当２\"))","v":""},"","",{"$f":"IF(V3861=\"\",\"\",COUNTIF($V$7:V3861,\"該当３\"))","v":""}]
[2230501001,"22",305,{"v":1,"d":"01"},{"v":1,"d":"001"},"静岡県","松崎町","松崎町（旧）","松崎",null,"","",{"$f":"IF(K3862=\"\",\"\",COUNTIF($K$7:K3862,\"ﾘｽﾄ１\"))","v":""},"","","","","","","",{"$f":"IF(S3862=\"\",\"\",COUNTIF($S$7:S3862,\"該当２\"))","v":""},"","",{"$f":"IF(V3862=\"\",\"\",COUNTIF($V$7:V3862,\"該当３\"))","v":""}]
[2230501003,"22",305,{"v":1,"d":"01"},{"v":3,"d":"003"},"静岡県","松崎町","松崎町（旧）","伏倉",null,"","",{"$f":"IF(K3864=\"\",\"\",COUNTIF($K$7:K3864,\"ﾘｽﾄ１\"))","v":""},"","","","","","","",{"$f":"IF(S3864=\"\",\"\",COUNTIF($S$7:S3864,\"該当２\"))","v":""},"","",{"$f":"IF(V3864=\"\",\"\",COUNTIF($V$7:V3864,\"該当３\"))","v":""}]
[2230501004,"22",305,{"v":1,"d":"01"},{"v":4,"d":"004"},"静岡県","松崎町","松崎町（旧）","桜田",null,"","",{"$f":"IF(K3865=\"\",\"\",COUNTIF($K$7:K3865,\"ﾘｽﾄ１\"))","v":""},"","","","","","","",{"$f":"IF(S3865=\"\",\"\",COUNTIF($S$7:S3865,\"該当２\"))","v":""},"","",{"$f":"IF(V3865=\"\",\"\",COUNTIF($V$7:V3865,\"該当３\"))","v":""}]
[2230501006,"22",305,{"v":1,"d":"01"},{"v":6,"d":"006"},"静岡県","松崎町","松崎町（旧）","江奈浜",null,"","",{"$f":"IF(K3867=\"\",\"\",COUNTIF($K$7:K3867,\"ﾘｽﾄ１\"))","v":""},"","","","","","","",{"$f":"IF(S3867=\"\",\"\",COUNTIF($S$7:S3867,\"該当２\"))","v":""},"","",{"$f":"IF(V3867=\"\",\"\",COUNTIF($V$7:V3867,\"該当３\"))","v":""}]
[2230502000,"22",305,{"v":2,"d":"02"},{"v":0,"d":"000"},"静岡県","松崎町","岩科村",null,null,"","",{"$f":"IF(K3868=\"\",\"\",COUNTIF($K$7:K3868,\"ﾘｽﾄ１\"))","v":""},"","","","","","","",{"$f":"IF(S3868=\"\",\"\",COUNTIF($S$7:S3868,\"該当２\"))","v":""},"","",{"$f":"IF(V3868=\"\",\"\",COUNTIF($V$7:V3868,\"該当３\"))","v":""}]
[2230502002,"22",305,{"v":2,"d":"02"},{"v":2,"d":"002"},"静岡県","松崎町","岩科村","指川",null,"","",{"$f":"IF(K3870=\"\",\"\",COUNTIF($K$7:K3870,\"ﾘｽﾄ１\"))","v":""},"","","","","","","",{"$f":"IF(S3870=\"\",\"\",COUNTIF($S$7:S3870,\"該当２\"))","v":""},"","",{"$f":"IF(V3870=\"\",\"\",COUNTIF($V$7:V3870,\"該当３\"))","v":""}]
[2230502003,"22",305,{"v":2,"d":"02"},{"v":3,"d":"003"},"静岡県","松崎町","岩科村","松尾",null,"","",{"$f":"IF(K3871=\"\",\"\",COUNTIF($K$7:K3871,\"ﾘｽﾄ１\"))","v":""},"","","","","","","",{"$f":"IF(S3871=\"\",\"\",COUNTIF($S$7:S3871,\"該当２\"))","v":""},"","",{"$f":"IF(V3871=\"\",\"\",COUNTIF($V$7:V3871,\"該当３\"))","v":""}]
[2230502005,"22",305,{"v":2,"d":"02"},{"v":5,"d":"005"},"静岡県","松崎町","岩科村","八木山",null,"","",{"$f":"IF(K3873=\"\",\"\",COUNTIF($K$7:K3873,\"ﾘｽﾄ１\"))","v":""},"","","","","","","",{"$f":"IF(S3873=\"\",\"\",COUNTIF($S$7:S3873,\"該当２\"))","v":""},"","",{"$f":"IF(V3873=\"\",\"\",COUNTIF($V$7:V3873,\"該当３\"))","v":""}]
[2230502006,"22",305,{"v":2,"d":"02"},{"v":6,"d":"006"},"静岡県","松崎町","岩科村","中村",null,"","",{"$f":"IF(K3874=\"\",\"\",COUNTIF($K$7:K3874,\"ﾘｽﾄ１\"))","v":""},"","","","","","","",{"$f":"IF(S3874=\"\",\"\",COUNTIF($S$7:S3874,\"該当２\"))","v":""},"","",{"$f":"IF(V3874=\"\",\"\",COUNTIF($V$7:V3874,\"該当３\"))","v":""}]
[2230502008,"22",305,{"v":2,"d":"02"},{"v":8,"d":"008"},"静岡県","松崎町","岩科村","金沢",null,"","",{"$f":"IF(K3876=\"\",\"\",COUNTIF($K$7:K3876,\"ﾘｽﾄ１\"))","v":""},"","","","","","","",{"$f":"IF(S3876=\"\",\"\",COUNTIF($S$7:S3876,\"該当２\"))","v":""},"","",{"$f":"IF(V3876=\"\",\"\",COUNTIF($V$7:V3876,\"該当３\"))","v":""}]
[2230502009,"22",305,{"v":2,"d":"02"},{"v":9,"d":"009"},"静岡県","松崎町","岩科村","道部",null,"","",{"$f":"IF(K3877=\"\",\"\",COUNTIF($K$7:K3877,\"ﾘｽﾄ１\"))","v":""},"","","","","","","",{"$f":"IF(S3877=\"\",\"\",COUNTIF($S$7:S3877,\"該当２\"))","v":""},"","",{"$f":"IF(V3877=\"\",\"\",COUNTIF($V$7:V3877,\"該当３\"))","v":""}]
[2230502011,"22",305,{"v":2,"d":"02"},{"v":11,"d":"011"},"静岡県","松崎町","岩科村","石部",null,"","",{"$f":"IF(K3879=\"\",\"\",COUNTIF($K$7:K3879,\"ﾘｽﾄ１\"))","v":""},"","","","","","","",{"$f":"IF(S3879=\"\",\"\",COUNTIF($S$7:S3879,\"該当２\"))","v":""},"","",{"$f":"IF(V3879=\"\",\"\",COUNTIF($V$7:V3879,\"該当３\"))","v":""}]
[2230502012,"22",305,{"v":2,"d":"02"},{"v":12,"d":"012"},"静岡県","松崎町","岩科村","雲見",null,"","",{"$f":"IF(K3880=\"\",\"\",COUNTIF($K$7:K3880,\"ﾘｽﾄ１\"))","v":""},"","","","","","","",{"$f":"IF(S3880=\"\",\"\",COUNTIF($S$7:S3880,\"該当２\"))","v":""},"","",{"$f":"IF(V3880=\"\",\"\",COUNTIF($V$7:V3880,\"該当３\"))","v":""}]
[2230503001,"22",305,{"v":3,"d":"03"},{"v":1,"d":"001"},"静岡県","松崎町","中川村（松崎町）","池代",null,"","",{"$f":"IF(K3882=\"\",\"\",COUNTIF($K$7:K3882,\"ﾘｽﾄ１\"))","v":""},"","","","","","","",{"$f":"IF(S3882=\"\",\"\",COUNTIF($S$7:S3882,\"該当２\"))","v":""},"","",{"$f":"IF(V3882=\"\",\"\",COUNTIF($V$7:V3882,\"該当３\"))","v":""}]
[2230503002,"22",305,{"v":3,"d":"03"},{"v":2,"d":"002"},"静岡県","松崎町","中川村（松崎町）","小杉原",null,"","",{"$f":"IF(K3883=\"\",\"\",COUNTIF($K$7:K3883,\"ﾘｽﾄ１\"))","v":""},"","","","","","","",{"$f":"IF(S3883=\"\",\"\",COUNTIF($S$7:S3883,\"該当２\"))","v":""},"","",{"$f":"IF(V3883=\"\",\"\",COUNTIF($V$7:V3883,\"該当３\"))","v":""}]
[2230503004,"22",305,{"v":3,"d":"03"},{"v":4,"d":"004"},"静岡県","松崎町","中川村（松崎町）","大沢",null,"","",{"$f":"IF(K3885=\"\",\"\",COUNTIF($K$7:K3885,\"ﾘｽﾄ１\"))","v":""},"","","","","","","",{"$f":"IF(S3885=\"\",\"\",COUNTIF($S$7:S3885,\"該当２\"))","v":""},"","",{"$f":"IF(V3885=\"\",\"\",COUNTIF($V$7:V3885,\"該当３\"))","v":""}]
[2230503005,"22",305,{"v":3,"d":"03"},{"v":5,"d":"005"},"静岡県","松崎町","中川村（松崎町）","峰輪",null,"","",{"$f":"IF(K3886=\"\",\"\",COUNTIF($K$7:K3886,\"ﾘｽﾄ１\"))","v":""},"","","","","","","",{"$f":"IF(S3886=\"\",\"\",COUNTIF($S$7:S3886,\"該当２\"))","v":""},"","",{"$f":"IF(V3886=\"\",\"\",COUNTIF($V$7:V3886,\"該当３\"))","v":""}]
[2230503007,"22",305,{"v":3,"d":"03"},{"v":7,"d":"007"},"静岡県","松崎町","中川村（松崎町）","船田",null,"","",{"$f":"IF(K3888=\"\",\"\",COUNTIF($K$7:K3888,\"ﾘｽﾄ１\"))","v":""},"","","","","","","",{"$f":"IF(S3888=\"\",\"\",COUNTIF($S$7:S3888,\"該当２\"))","v":""},"","",{"$f":"IF(V3888=\"\",\"\",COUNTIF($V$7:V3888,\"該当３\"))","v":""}]
[2230503008,"22",305,{"v":3,"d":"03"},{"v":8,"d":"008"},"静岡県","松崎町","中川村（松崎町）","吉田",null,"","",{"$f":"IF(K3889=\"\",\"\",COUNTIF($K$7:K3889,\"ﾘｽﾄ１\"))","v":""},"","","","","","","",{"$f":"IF(S3889=\"\",\"\",COUNTIF($S$7:S3889,\"該当２\"))","v":""},"","",{"$f":"IF(V3889=\"\",\"\",COUNTIF($V$7:V3889,\"該当３\"))","v":""}]
[2230503010,"22",305,{"v":3,"d":"03"},{"v":10,"d":"010"},"静岡県","松崎町","中川村（松崎町）","建久寺",null,"","",{"$f":"IF(K3891=\"\",\"\",COUNTIF($K$7:K3891,\"ﾘｽﾄ１\"))","v":""},"","","","","","","",{"$f":"IF(S3891=\"\",\"\",COUNTIF($S$7:S3891,\"該当２\"))","v":""},"","",{"$f":"IF(V3891=\"\",\"\",COUNTIF($V$7:V3891,\"該当３\"))","v":""}]
[2230503011,"22",305,{"v":3,"d":"03"},{"v":11,"d":"011"},"静岡県","松崎町","中川村（松崎町）","那賀",null,"","",{"$f":"IF(K3892=\"\",\"\",COUNTIF($K$7:K3892,\"ﾘｽﾄ１\"))","v":""},"","","","","","","",{"$f":"IF(S3892=\"\",\"\",COUNTIF($S$7:S3892,\"該当２\"))","v":""},"","",{"$f":"IF(V3892=\"\",\"\",COUNTIF($V$7:V3892,\"該当３\"))","v":""}]
[2230601000,"22",306,{"v":1,"d":"01"},{"v":0,"d":"000"},"静岡県","西伊豆町","仁科村",null,null,"","",{"$f":"IF(K3894=\"\",\"\",COUNTIF($K$7:K3894,\"ﾘｽﾄ１\"))","v":""},"","","","","","","",{"$f":"IF(S3894=\"\",\"\",COUNTIF($S$7:S3894,\"該当２\"))","v":""},"","",{"$f":"IF(V3894=\"\",\"\",COUNTIF($V$7:V3894,\"該当３\"))","v":""}]
[2230601001,"22",306,{"v":1,"d":"01"},{"v":1,"d":"001"},"静岡県","西伊豆町","仁科村","大城",null,"","",{"$f":"IF(K3895=\"\",\"\",COUNTIF($K$7:K3895,\"ﾘｽﾄ１\"))","v":""},"","","","","","","",{"$f":"IF(S3895=\"\",\"\",COUNTIF($S$7:S3895,\"該当２\"))","v":""},"","",{"$f":"IF(V3895=\"\",\"\",COUNTIF($V$7:V3895,\"該当３\"))","v":""}]
[2230601003,"22",306,{"v":1,"d":"01"},{"v":3,"d":"003"},"静岡県","西伊豆町","仁科村","祢宜ノ畑",null,"","",{"$f":"IF(K3897=\"\",\"\",COUNTIF($K$7:K3897,\"ﾘｽﾄ１\"))","v":""},"","","","","","","",{"$f":"IF(S3897=\"\",\"\",COUNTIF($S$7:S3897,\"該当２\"))","v":""},"","",{"$f":"IF(V3897=\"\",\"\",COUNTIF($V$7:V3897,\"該当３\"))","v":""}]
[2230601004,"22",306,{"v":1,"d":"01"},{"v":4,"d":"004"},"静岡県","西伊豆町","仁科村","白川",null,"","",{"$f":"IF(K3898=\"\",\"\",COUNTIF($K$7:K3898,\"ﾘｽﾄ１\"))","v":""},"","","","","","","",{"$f":"IF(S3898=\"\",\"\",COUNTIF($S$7:S3898,\"該当２\"))","v":""},"","",{"$f":"IF(V3898=\"\",\"\",COUNTIF($V$7:V3898,\"該当３\"))","v":""}]
[2230601006,"22",306,{"v":1,"d":"01"},{"v":6,"d":"006"},"静岡県","西伊豆町","仁科村","堀坂",null,"","",{"$f":"IF(K3900=\"\",\"\",COUNTIF($K$7:K3900,\"ﾘｽﾄ１\"))","v":""},"","","","","","","",{"$f":"IF(S3900=\"\",\"\",COUNTIF($S$7:S3900,\"該当２\"))","v":""},"","",{"$f":"IF(V3900=\"\",\"\",COUNTIF($V$7:V3900,\"該当３\"))","v":""}]
[2230601007,"22",306,{"v":1,"d":"01"},{"v":7,"d":"007"},"静岡県","西伊豆町","仁科村","岩谷戸",null,"","",{"$f":"IF(K3901=\"\",\"\",COUNTIF($K$7:K3901,\"ﾘｽﾄ１\"))","v":""},"","","","","","","",{"$f":"IF(S3901=\"\",\"\",COUNTIF($S$7:S3901,\"該当２\"))","v":""},"","",{"$f":"IF(V3901=\"\",\"\",COUNTIF($V$7:V3901,\"該当３\"))","v":""}]
[2230601009,"22",306,{"v":1,"d":"01"},{"v":9,"d":"009"},"静岡県","西伊豆町","仁科村","先川",null,"","",{"$f":"IF(K3903=\"\",\"\",COUNTIF($K$7:K3903,\"ﾘｽﾄ１\"))","v":""},"","","","","","","",{"$f":"IF(S3903=\"\",\"\",COUNTIF($S$7:S3903,\"該当２\"))","v":""},"","",{"$f":"IF(V3903=\"\",\"\",COUNTIF($V$7:V3903,\"該当３\"))","v":""}]
[2230601010,"22",306,{"v":1,"d":"01"},{"v":10,"d":"010"},"静岡県","西伊豆町","仁科村","栗原",null,"","",{"$f":"IF(K3904=\"\",\"\",COUNTIF($K$7:K3904,\"ﾘｽﾄ１\"))","v":""},"","","","","","","",{"$f":"IF(S3904=\"\",\"\",COUNTIF($S$7:S3904,\"該当２\"))","v":""},"","",{"$f":"IF(V3904=\"\",\"\",COUNTIF($V$7:V3904,\"該当３\"))","v":""}]
[2230601012,"22",306,{"v":1,"d":"01"},{"v":12,"d":"012"},"静岡県","西伊豆町","仁科村","築出",null,"","",{"$f":"IF(K3906=\"\",\"\",COUNTIF($K$7:K3906,\"ﾘｽﾄ１\"))","v":""},"","","","","","","",{"$f":"IF(S3906=\"\",\"\",COUNTIF($S$7:S3906,\"該当２\"))","v":""},"","",{"$f":"IF(V3906=\"\",\"\",COUNTIF($V$7:V3906,\"該当３\"))","v":""}]
[2230601013,"22",306,{"v":1,"d":"01"},{"v":13,"d":"013"},"静岡県","西伊豆町","仁科村","上築地",null,"","",{"$f":"IF(K3907=\"\",\"\",COUNTIF($K$7:K3907,\"ﾘｽﾄ１\"))","v":""},"","","","","","","",{"$f":"IF(S3907=\"\",\"\",COUNTIF($S$7:S3907,\"該当２\"))","v":""},"","",{"$f":"IF(V3907=\"\",\"\",COUNTIF($V$7:V3907,\"該当３\"))","v":""}]
[2230601015,"22",306,{"v":1,"d":"01"},{"v":15,"d":"015"},"静岡県","西伊豆町","仁科村","野畑",null,"","",{"$f":"IF(K3909=\"\",\"\",COUNTIF($K$7:K3909,\"ﾘｽﾄ１\"))","v":""},"","","","","","","",{"$f":"IF(S3909=\"\",\"\",COUNTIF($S$7:S3909,\"該当２\"))","v":""},"","",{"$f":"IF(V3909=\"\",\"\",COUNTIF($V$7:V3909,\"該当３\"))","v":""}]
[2230601016,"22",306,{"v":1,"d":"01"},{"v":16,"d":"016"},"静岡県","西伊豆町","仁科村","上町",null,"","",{"$f":"IF(K3910=\"\",\"\",COUNTIF($K$7:K3910,\"ﾘｽﾄ１\"))","v":""},"","","","","","","",{"$f":"IF(S3910=\"\",\"\",COUNTIF($S$7:S3910,\"該当２\"))","v":""},"","",{"$f":"IF(V3910=\"\",\"\",COUNTIF($V$7:V3910,\"該当３\"))","v":""}]
[2230601018,"22",306,{"v":1,"d":"01"},{"v":18,"d":"018"},"静岡県","西伊豆町","仁科村","下町",null,"","",{"$f":"IF(K3912=\"\",\"\",COUNTIF($K$7:K3912,\"ﾘｽﾄ１\"))","v":""},"","","","","","","",{"$f":"IF(S3912=\"\",\"\",COUNTIF($S$7:S3912,\"該当２\"))","v":""},"","",{"$f":"IF(V3912=\"\",\"\",COUNTIF($V$7:V3912,\"該当３\"))","v":""}]
[2230601019,"22",306,{"v":1,"d":"01"},{"v":19,"d":"019"},"静岡県","西伊豆町","仁科村","前田",null,"","",{"$f":"IF(K3913=\"\",\"\",COUNTIF($K$7:K3913,\"ﾘｽﾄ１\"))","v":""},"","","","","","","",{"$f":"IF(S3913=\"\",\"\",COUNTIF($S$7:S3913,\"該当２\"))","v":""},"","",{"$f":"IF(V3913=\"\",\"\",COUNTIF($V$7:V3913,\"該当３\"))","v":""}]
[2230601021,"22",306,{"v":1,"d":"01"},{"v":21,"d":"021"},"静岡県","西伊豆町","仁科村","天王町",null,{"$f":"IF(AND($C3915>0,$H3915=\"\"),\"ﾘｽﾄ１\",\"\")","v":""},"",{"$f":"IF(K3915=\"\",\"\",COUNTIF($K$7:K3915,\"ﾘｽﾄ１\"))","v":""},"","","","","","","",{"$f":"IF(S3915=\"\",\"\",COUNTIF($S$7:S3915,\"該当２\"))","v":""},"","",{"$f":"IF(V3915=\"\",\"\",COUNTIF($V$7:V3915,\"該当３\"))","v":""}]
[2230601022,"22",306,{"v":1,"d":"01"},{"v":22,"d":"022"},"静岡県","西伊豆町","仁科村","浜町",null,"","",{"$f":"IF(K3916=\"\",\"\",COUNTIF($K$7:K3916,\"ﾘｽﾄ１\"))","v":""},"","","","","","","",{"$f":"IF(S3916=\"\",\"\",COUNTIF($S$7:S3916,\"該当２\"))","v":""},"","",{"$f":"IF(V3916=\"\",\"\",COUNTIF($V$7:V3916,\"該当３\"))","v":""}]
[2230601024,"22",306,{"v":1,"d":"01"},{"v":24,"d":"024"},"静岡県","西伊豆町","仁科村","宮町",null,"","",{"$f":"IF(K3918=\"\",\"\",COUNTIF($K$7:K3918,\"ﾘｽﾄ１\"))","v":""},"","","","","","","",{"$f":"IF(S3918=\"\",\"\",COUNTIF($S$7:S3918,\"該当２\"))","v":""},"","",{"$f":"IF(V3918=\"\",\"\",COUNTIF($V$7:V3918,\"該当３\"))","v":""}]
[2230601025,"22",306,{"v":1,"d":"01"},{"v":25,"d":"025"},"静岡県","西伊豆町","仁科村","仲町",null,"","",{"$f":"IF(K3919=\"\",\"\",COUNTIF($K$7:K3919,\"ﾘｽﾄ１\"))","v":""},"","","","","","","",{"$f":"IF(S3919=\"\",\"\",COUNTIF($S$7:S3919,\"該当２\"))","v":""},"","",{"$f":"IF(V3919=\"\",\"\",COUNTIF($V$7:V3919,\"該当３\"))","v":""}]
[2230601027,"22",306,{"v":1,"d":"01"},{"v":27,"d":"027"},"静岡県","西伊豆町","仁科村","宮脇",null,"","",{"$f":"IF(K3921=\"\",\"\",COUNTIF($K$7:K3921,\"ﾘｽﾄ１\"))","v":""},"","","","","","","",{"$f":"IF(S3921=\"\",\"\",COUNTIF($S$7:S3921,\"該当２\"))","v":""},"","",{"$f":"IF(V3921=\"\",\"\",COUNTIF($V$7:V3921,\"該当３\"))","v":""}]
[2230601028,"22",306,{"v":1,"d":"01"},{"v":28,"d":"028"},"静岡県","西伊豆町","仁科村","乗浜",null,"","",{"$f":"IF(K3922=\"\",\"\",COUNTIF($K$7:K3922,\"ﾘｽﾄ１\"))","v":""},"","","","","","","",{"$f":"IF(S3922=\"\",\"\",COUNTIF($S$7:S3922,\"該当２\"))","v":""},"","",{"$f":"IF(V3922=\"\",\"\",COUNTIF($V$7:V3922,\"該当３\"))","v":""}]
[2230602001,"22",306,{"v":2,"d":"02"},{"v":1,"d":"001"},"静岡県","西伊豆町","田子村","大田子",null,"","",{"$f":"IF(K3924=\"\",\"\",COUNTIF($K$7:K3924,\"ﾘｽﾄ１\"))","v":""},"","","","","","","",{"$f":"IF(S3924=\"\",\"\",COUNTIF($S$7:S3924,\"該当２\"))","v":""},"","",{"$f":"IF(V3924=\"\",\"\",COUNTIF($V$7:V3924,\"該当３\"))","v":""}]
[2230602002,"22",306,{"v":2,"d":"02"},{"v":2,"d":"002"},"静岡県","西伊豆町","田子村","井田子",null,"","",{"$f":"IF(K3925=\"\",\"\",COUNTIF($K$7:K3925,\"ﾘｽﾄ１\"))","v":""},"","","","","","","",{"$f":"IF(S3925=\"\",\"\",COUNTIF($S$7:S3925,\"該当２\"))","v":""},"","",{"$f":"IF(V3925=\"\",\"\",COUNTIF($V$7:V3925,\"該当３\"))","v":""}]
[2230603001,"22",306,{"v":3,"d":"03"},{"v":1,"d":"001"},"静岡県","西伊豆町","安良里村","安良里",null,"","",{"$f":"IF(K3927=\"\",\"\",COUNTIF($K$7:K3927,\"ﾘｽﾄ１\"))","v":""},"","","","","","","",{"$f":"IF(S3927=\"\",\"\",COUNTIF($S$7:S3927,\"該当２\"))","v":""},"","",{"$f":"IF(V3927=\"\",\"\",COUNTIF($V$7:V3927,\"該当３\"))","v":""}]
[2230604000,"22",306,{"v":4,"d":"04"},{"v":0,"d":"000"},"静岡県","西伊豆町","宇久須村",null,null,"","",{"$f":"IF(K3928=\"\",\"\",COUNTIF($K$7:K3928,\"ﾘｽﾄ１\"))","v":""},"","","","","","","",{"$f":"IF(S3928=\"\",\"\",COUNTIF($S$7:S3928,\"該当２\"))","v":""},"","",{"$f":"IF(V3928=\"\",\"\",COUNTIF($V$7:V3928,\"該当３\"))","v":""}]
[2230604002,"22",306,{"v":4,"d":"04"},{"v":2,"d":"002"},"静岡県","西伊豆町","宇久須村","神田",null,"","",{"$f":"IF(K3930=\"\",\"\",COUNTIF($K$7:K3930,\"ﾘｽﾄ１\"))","v":""},"","","","","","","",{"$f":"IF(S3930=\"\",\"\",COUNTIF($S$7:S3930,\"該当２\"))","v":""},"","",{"$f":"IF(V3930=\"\",\"\",COUNTIF($V$7:V3930,\"該当３\"))","v":""}]
[2230604003,"22",306,{"v":4,"d":"04"},{"v":3,"d":"003"},"静岡県","西伊豆町","宇久須村","月原",null,"","",{"$f":"IF(K3931=\"\",\"\",COUNTIF($K$7:K3931,\"ﾘｽﾄ１\"))","v":""},"","","","","","","",{"$f":"IF(S3931=\"\",\"\",COUNTIF($S$7:S3931,\"該当２\"))","v":""},"","",{"$f":"IF(V3931=\"\",\"\",COUNTIF($V$7:V3931,\"該当３\"))","v":""}]
[2230604005,"22",306,{"v":4,"d":"04"},{"v":5,"d":"005"},"静岡県","西伊豆町","宇久須村","芝",null,"","",{"$f":"IF(K3933=\"\",\"\",COUNTIF($K$7:K3933,\"ﾘｽﾄ１\"))","v":""},"","","","","","","",{"$f":"IF(S3933=\"\",\"\",COUNTIF($S$7:S3933,\"該当２\"))","v":""},"","",{"$f":"IF(V3933=\"\",\"\",COUNTIF($V$7:V3933,\"該当３\"))","v":""}]
[2232500000,"22",325,{"v":0,"d":"00"},{"v":0,"d":"000"},"静岡県","函南町",{"$nulls":3},"ﾘｽﾄ１","函南町",{"$f":"IF(K3934=\"\",\"\",COUNTIF($K$7:K3934,\"ﾘｽﾄ１\"))","v":39},"","","","","","","",{"$f":"IF(S3934=\"\",\"\",COUNTIF($S$7:S3934,\"該当２\"))","v":""},"","",{"$f":"IF(V3934=\"\",\"\",COUNTIF($V$7:V3934,\"該当３\"))","v":""}]
[2232500002,"22",325,{"v":0,"d":"00"},{"v":2,"d":"002"},"静岡県","函南町","(函南町)","大土肥",null,"","",{"$f":"IF(K3936=\"\",\"\",COUNTIF($K$7:K3936,\"ﾘｽﾄ１\"))","v":""},"同一区","","","","","","",{"$f":"IF(S3936=\"\",\"\",COUNTIF($S$7:S3936,\"該当２\"))","v":""},"","",{"$f":"IF(V3936=\"\",\"\",COUNTIF($V$7:V3936,\"該当３\"))","v":""}]
[2232500003,"22",325,{"v":0,"d":"00"},{"v":3,"d":"003"},"静岡県","函南町","(函南町)","柏谷",null,"","",{"$f":"IF(K3937=\"\",\"\",COUNTIF($K$7:K3937,\"ﾘｽﾄ１\"))","v":""},"同一区","","","","","","",{"$f":"IF(S3937=\"\",\"\",COUNTIF($S$7:S3937,\"該当２\"))","v":""},"","",{"$f":"IF(V3937=\"\",\"\",COUNTIF($V$7:V3937,\"該当３\"))","v":""}]
[2232500005,"22",325,{"v":0,"d":"00"},{"v":5,"d":"005"},"静岡県","函南町","(函南町)","平井",null,"","",{"$f":"IF(K3939=\"\",\"\",COUNTIF($K$7:K3939,\"ﾘｽﾄ１\"))","v":""},"同一区","","","","","","",{"$f":"IF(S3939=\"\",\"\",COUNTIF($S$7:S3939,\"該当２\"))","v":""},"","",{"$f":"IF(V3939=\"\",\"\",COUNTIF($V$7:V3939,\"該当３\"))","v":""}]
[2232500006,"22",325,{"v":0,"d":"00"},{"v":6,"d":"006"},"静岡県","函南町","(函南町)","丹那",null,"","",{"$f":"IF(K3940=\"\",\"\",COUNTIF($K$7:K3940,\"ﾘｽﾄ１\"))","v":""},"同一区","","","","","","",{"$f":"IF(S3940=\"\",\"\",COUNTIF($S$7:S3940,\"該当２\"))","v":""},"","",{"$f":"IF(V3940=\"\",\"\",COUNTIF($V$7:V3940,\"該当３\"))","v":""}]
[2232500008,"22",325,{"v":0,"d":"00"},{"v":8,"d":"008"},"静岡県","函南町","(函南町)","軽井沢",null,"","",{"$f":"IF(K3942=\"\",\"\",COUNTIF($K$7:K3942,\"ﾘｽﾄ１\"))","v":""},"同一区","","","","","","",{"$f":"IF(S3942=\"\",\"\",COUNTIF($S$7:S3942,\"該当２\"))","v":""},"","",{"$f":"IF(V3942=\"\",\"\",COUNTIF($V$7:V3942,\"該当３\"))","v":""}]
[2232500009,"22",325,{"v":0,"d":"00"},{"v":9,"d":"009"},"静岡県","函南町","(函南町)","田代",null,"","",{"$f":"IF(K3943=\"\",\"\",COUNTIF($K$7:K3943,\"ﾘｽﾄ１\"))","v":""},"同一区","","","","","","",{"$f":"IF(S3943=\"\",\"\",COUNTIF($S$7:S3943,\"該当２\"))","v":""},"","",{"$f":"IF(V3943=\"\",\"\",COUNTIF($V$7:V3943,\"該当３\"))","v":""}]
[2232500011,"22",325,{"v":0,"d":"00"},{"v":11,"d":"011"},"静岡県","函南町","(函南町)","大竹",null,"","",{"$f":"IF(K3945=\"\",\"\",COUNTIF($K$7:K3945,\"ﾘｽﾄ１\"))","v":""},"同一区","","","","","","",{"$f":"IF(S3945=\"\",\"\",COUNTIF($S$7:S3945,\"該当２\"))","v":""},"","",{"$f":"IF(V3945=\"\",\"\",COUNTIF($V$7:V3945,\"該当３\"))","v":""}]
[2232500012,"22",325,{"v":0,"d":"00"},{"v":12,"d":"012"},"静岡県","函南町","(函南町)","上沢",null,"","",{"$f":"IF(K3946=\"\",\"\",COUNTIF($K$7:K3946,\"ﾘｽﾄ１\"))","v":""},"同一区","","","","","","",{"$f":"IF(S3946=\"\",\"\",COUNTIF($S$7:S3946,\"該当２\"))","v":""},"","",{"$f":"IF(V3946=\"\",\"\",COUNTIF($V$7:V3946,\"該当３\"))","v":""}]
[2232500014,"22",325,{"v":0,"d":"00"},{"v":14,"d":"014"},"静岡県","函南町","(函南町)","塚本",null,"","",{"$f":"IF(K3948=\"\",\"\",COUNTIF($K$7:K3948,\"ﾘｽﾄ１\"))","v":""},"同一区","","","","","","",{"$f":"IF(S3948=\"\",\"\",COUNTIF($S$7:S3948,\"該当２\"))","v":""},"","",{"$f":"IF(V3948=\"\",\"\",COUNTIF($V$7:V3948,\"該当３\"))","v":""}]
[2232500015,"22",325,{"v":0,"d":"00"},{"v":15,"d":"015"},"静岡県","函南町","(函南町)","肥田",null,"","",{"$f":"IF(K3949=\"\",\"\",COUNTIF($K$7:K3949,\"ﾘｽﾄ１\"))","v":""},"同一区","","","","","","",{"$f":"IF(S3949=\"\",\"\",COUNTIF($S$7:S3949,\"該当２\"))","v":""},"","",{"$f":"IF(V3949=\"\",\"\",COUNTIF($V$7:V3949,\"該当３\"))","v":""}]
[2232500017,"22",325,{"v":0,"d":"00"},{"v":17,"d":"017"},"静岡県","函南町","(函南町)","新田",null,"","",{"$f":"IF(K3951=\"\",\"\",COUNTIF($K$7:K3951,\"ﾘｽﾄ１\"))","v":""},"同一区","","","","","","",{"$f":"IF(S3951=\"\",\"\",COUNTIF($S$7:S3951,\"該当２\"))","v":""},"","",{"$f":"IF(V3951=\"\",\"\",COUNTIF($V$7:V3951,\"該当３\"))","v":""}]
[2232500018,"22",325,{"v":0,"d":"00"},{"v":18,"d":"018"},"静岡県","函南町","(函南町)","奴田場",null,"","",{"$f":"IF(K3952=\"\",\"\",COUNTIF($K$7:K3952,\"ﾘｽﾄ１\"))","v":""},"同一区","","","","","","",{"$f":"IF(S3952=\"\",\"\",COUNTIF($S$7:S3952,\"該当２\"))","v":""},"","",{"$f":"IF(V3952=\"\",\"\",COUNTIF($V$7:V3952,\"該当３\"))","v":""}]
[2232500020,"22",325,{"v":0,"d":"00"},{"v":20,"d":"020"},"静岡県","函南町","(函南町)","細沢",null,"","",{"$f":"IF(K3954=\"\",\"\",COUNTIF($K$7:K3954,\"ﾘｽﾄ１\"))","v":""},"同一区","","","","","","",{"$f":"IF(S3954=\"\",\"\",COUNTIF($S$7:S3954,\"該当２\"))","v":""},"","",{"$f":"IF(V3954=\"\",\"\",COUNTIF($V$7:V3954,\"該当３\"))","v":""}]
[2232500021,"22",325,{"v":0,"d":"00"},{"v":21,"d":"021"},"静岡県","函南町","(函南町)","八ツ溝",null,"","",{"$f":"IF(K3955=\"\",\"\",COUNTIF($K$7:K3955,\"ﾘｽﾄ１\"))","v":""},"同一区","","","","","","",{"$f":"IF(S3955=\"\",\"\",COUNTIF($S$7:S3955,\"該当２\"))","v":""},"","",{"$f":"IF(V3955=\"\",\"\",COUNTIF($V$7:V3955,\"該当３\"))","v":""}]
[2232500023,"22",325,{"v":0,"d":"00"},{"v":23,"d":"023"},"静岡県","函南町","(函南町)","六本松",null,"","",{"$f":"IF(K3957=\"\",\"\",COUNTIF($K$7:K3957,\"ﾘｽﾄ１\"))","v":""},"同一区","","","","","","",{"$f":"IF(S3957=\"\",\"\",COUNTIF($S$7:S3957,\"該当２\"))","v":""},"","",{"$f":"IF(V3957=\"\",\"\",COUNTIF($V$7:V3957,\"該当３\"))","v":""}]
[2234100000,"22",341,{"v":0,"d":"00"},{"v":0,"d":"000"},"静岡県","清水町",{"$nulls":3},"ﾘｽﾄ１","清水町",{"$f":"IF(K3958=\"\",\"\",COUNTIF($K$7:K3958,\"ﾘｽﾄ１\"))","v":40},"","","","","","","",{"$f":"IF(S3958=\"\",\"\",COUNTIF($S$7:S3958,\"該当２\"))","v":""},"","",{"$f":"IF(V3958=\"\",\"\",COUNTIF($V$7:V3958,\"該当３\"))","v":""}]
[2234100002,"22",341,{"v":0,"d":"00"},{"v":2,"d":"002"},"静岡県","清水町","(清水町)","新宿",null,"","",{"$f":"IF(K3960=\"\",\"\",COUNTIF($K$7:K3960,\"ﾘｽﾄ１\"))","v":""},"同一区","","","","","","",{"$f":"IF(S3960=\"\",\"\",COUNTIF($S$7:S3960,\"該当２\"))","v":""},"","",{"$f":"IF(V3960=\"\",\"\",COUNTIF($V$7:V3960,\"該当３\"))","v":""}]
[2234100003,"22",341,{"v":0,"d":"00"},{"v":3,"d":"003"},"静岡県","清水町","(清水町)","伏見",null,"","",{"$f":"IF(K3961=\"\",\"\",COUNTIF($K$7:K3961,\"ﾘｽﾄ１\"))","v":""},"同一区","","","","","","",{"$f":"IF(S3961=\"\",\"\",COUNTIF($S$7:S3961,\"該当２\"))","v":""},"","",{"$f":"IF(V3961=\"\",\"\",COUNTIF($V$7:V3961,\"該当３\"))","v":""}]
[2234100005,"22",341,{"v":0,"d":"00"},{"v":5,"d":"005"},"静岡県","清水町","(清水町)","長沢",null,"","",{"$f":"IF(K3963=\"\",\"\",COUNTIF($K$7:K3963,\"ﾘｽﾄ１\"))","v":""},"同一区","","","","","","",{"$f":"IF(S3963=\"\",\"\",COUNTIF($S$7:S3963,\"該当２\"))","v":""},"","",{"$f":"IF(V3963=\"\",\"\",COUNTIF($V$7:V3963,\"該当３\"))","v":""}]
[2234100006,"22",341,{"v":0,"d":"00"},{"v":6,"d":"006"},"静岡県","清水町","(清水町)","柿田",null,"","",{"$f":"IF(K3964=\"\",\"\",COUNTIF($K$7:K3964,\"ﾘｽﾄ１\"))","v":""},"同一区","","","","","","",{"$f":"IF(S3964=\"\",\"\",COUNTIF($S$7:S3964,\"該当２\"))","v":""},"","",{"$f":"IF(V3964=\"\",\"\",COUNTIF($V$7:V3964,\"該当３\"))","v":""}]
[2234100008,"22",341,{"v":0,"d":"00"},{"v":8,"d":"008"},"静岡県","清水町","(清水町)","久米田",null,"","",{"$f":"IF(K3966=\"\",\"\",COUNTIF($K$7:K3966,\"ﾘｽﾄ１\"))","v":""},"同一区","","","","","","",{"$f":"IF(S3966=\"\",\"\",COUNTIF($S$7:S3966,\"該当２\"))","v":""},"","",{"$f":"IF(V3966=\"\",\"\",COUNTIF($V$7:V3966,\"該当３\"))","v":""}]
[2234100009,"22",341,{"v":0,"d":"00"},{"v":9,"d":"009"},"静岡県","清水町","(清水町)","戸畑",null,"","",{"$f":"IF(K3967=\"\",\"\",COUNTIF($K$7:K3967,\"ﾘｽﾄ１\"))","v":""},"同一区","","","","","","",{"$f":"IF(S3967=\"\",\"\",COUNTIF($S$7:S3967,\"該当２\"))","v":""},"","",{"$f":"IF(V3967=\"\",\"\",COUNTIF($V$7:V3967,\"該当３\"))","v":""}]
[2234100011,"22",341,{"v":0,"d":"00"},{"v":11,"d":"011"},"静岡県","清水町","(清水町)","湯川",null,"","",{"$f":"IF(K3969=\"\",\"\",COUNTIF($K$7:K3969,\"ﾘｽﾄ１\"))","v":""},"同一区","","","","","","",{"$f":"IF(S3969=\"\",\"\",COUNTIF($S$7:S3969,\"該当２\"))","v":""},"","",{"$f":"IF(V3969=\"\",\"\",COUNTIF($V$7:V3969,\"該当３\"))","v":""}]
[2234100012,"22",341,{"v":0,"d":"00"},{"v":12,"d":"012"},"静岡県","清水町","(清水町)","下徳倉",null,"","",{"$f":"IF(K3970=\"\",\"\",COUNTIF($K$7:K3970,\"ﾘｽﾄ１\"))","v":""},"同一区","","","","","","",{"$f":"IF(S3970=\"\",\"\",COUNTIF($S$7:S3970,\"該当２\"))","v":""},"","",{"$f":"IF(V3970=\"\",\"\",COUNTIF($V$7:V3970,\"該当３\"))","v":""}]
[2234200000,"22",342,{"v":0,"d":"00"},{"v":0,"d":"000"},"静岡県","長泉町",{"$nulls":3},"ﾘｽﾄ１",{"$f":"IF(K3972=\"ﾘｽﾄ１\",G3972,\"\")","v":"長泉町"},{"$f":"IF(K3972=\"\",\"\",COUNTIF($K$7:K3972,\"ﾘｽﾄ１\"))","v":41},{"$f":"IF(AND(D3972=0,E3972>0),\"同一区\",\"\")","v":""},{"$f":"IF(AND(EXACT($K$2,G3972),H3972>0),\"該当１\",\"\")","v":""},{"$f":"IF(O3972=\"該当１\",G3972,\"\")","v":""},{"$f":"IF(O3972=\"該当１\",\"ﾘｽﾄ2\",\"\")","v":""},{"$f":"IF(Q3972=\"ﾘｽﾄ2\",H3972,\"\")","v":""},{"$f":"IF(AND(Q3972=\"ﾘｽﾄ2\",OR(I3972=0,AND(N3972=\"同一区\",E3972=1))),\"該当２\",\"\")","v":""},{"$f":"IF(S3972=\"該当２\",H3972,\"\")","v":""},{"$f":"IF(S3972=\"\",\"\",COUNTIF($S$7:S3972,\"該当２\"))","v":""},{"$f":"IF(AND($S$2=H3972,E3972>0,E3972<998),\"該当３\",\"\")","v":""},{"$f":"IF(V3972=\"該当３\",I3972,\"\")","v":""},{"$f":"IF(V3972=\"\",\"\",COUNTIF($V$7:V3972,\"該当３\"))","v":""}]
[2234200001,"22",342,{"v":0,"d":"00"},{"v":1,"d":"001"},"静岡県","長泉町","(長泉町)","元長窪",null,"","",{"$f":"IF(K3973=\"\",\"\",COUNTIF($K$7:K3973,\"ﾘｽﾄ１\"))","v":""},"同一区","","","","","","",{"$f":"IF(S3973=\"\",\"\",COUNTIF($S$7:S3973,\"該当２\"))","v":""},"","",{"$f":"IF(V3973=\"\",\"\",COUNTIF($V$7:V3973,\"該当３\"))","v":""}]
[2234200003,"22",342,{"v":0,"d":"00"},{"v":3,"d":"003"},"静岡県","長泉町","(長泉町)","下長窪",null,"","",{"$f":"IF(K3975=\"\",\"\",COUNTIF($K$7:K3975,\"ﾘｽﾄ１\"))","v":""},"同一区","","","","","","",{"$f":"IF(S3975=\"\",\"\",COUNTIF($S$7:S3975,\"該当２\"))","v":""},"","",{"$f":"IF(V3975=\"\",\"\",COUNTIF($V$7:V3975,\"該当３\"))","v":""}]
[2234200004,"22",342,{"v":0,"d":"00"},{"v":4,"d":"004"},"静岡県","長泉町","(長泉町)","南一色",null,"","",{"$f":"IF(K3976=\"\",\"\",COUNTIF($K$7:K3976,\"ﾘｽﾄ１\"))","v":""},"同一区","","","","","","",{"$f":"IF(S3976=\"\",\"\",COUNTIF($S$7:S3976,\"該当２\"))","v":""},"","",{"$f":"IF(V3976=\"\",\"\",COUNTIF($V$7:V3976,\"該当３\"))","v":""}]
[2234200006,"22",342,{"v":0,"d":"00"},{"v":6,"d":"006"},"静岡県","長泉町","(長泉町)","上土狩",null,"","",{"$f":"IF(K3978=\"\",\"\",COUNTIF($K$7:K3978,\"ﾘｽﾄ１\"))","v":""},"同一区","","","","","","",{"$f":"IF(S3978=\"\",\"\",COUNTIF($S$7:S3978,\"該当２\"))","v":""},"","",{"$f":"IF(V3978=\"\",\"\",COUNTIF($V$7:V3978,\"該当３\"))","v":""}]
[2234200007,"22",342,{"v":0,"d":"00"},{"v":7,"d":"007"},"静岡県","長泉町","(長泉町)","中土狩",null,{"$f":"IF(AND($C3979>0,$H3979=\"\"),\"ﾘｽﾄ１\",\"\")","v":""},"",{"$f":"IF(K3979=\"\",\"\",COUNTIF($K$7:K3979,\"ﾘｽﾄ１\"))","v":""},"同一区","","","","","","",{"$f":"IF(S3979=\"\",\"\",COUNTIF($S$7:S3979,\"該当２\"))","v":""},"","",{"$f":"IF(V3979=\"\",\"\",COUNTIF($V$7:V3979,\"該当３\"))","v":""}]
[2234200009,"22",342,{"v":0,"d":"00"},{"v":9,"d":"009"},"静岡県","長泉町","(長泉町)","東",null,"","",{"$f":"IF(K3981=\"\",\"\",COUNTIF($K$7:K3981,\"ﾘｽﾄ１\"))","v":""},"同一区","","","","","","",{"$f":"IF(S3981=\"\",\"\",COUNTIF($S$7:S3981,\"該当２\"))","v":""},"","",{"$f":"IF(V3981=\"\",\"\",COUNTIF($V$7:V3981,\"該当３\"))","v":""}]
[2234200010,"22",342,{"v":0,"d":"00"},{"v":10,"d":"010"},"静岡県","長泉町","(長泉町)","鮎壷",null,"","",{"$f":"IF(K3982=\"\",\"\",COUNTIF($K$7:K3982,\"ﾘｽﾄ１\"))","v":""},"同一区","","","","","","",{"$f":"IF(S3982=\"\",\"\",COUNTIF($S$7:S3982,\"該当２\"))","v":""},"","",{"$f":"IF(V3982=\"\",\"\",COUNTIF($V$7:V3982,\"該当３\"))","v":""}]
[2234200012,"22",342,{"v":0,"d":"00"},{"v":12,"d":"012"},"静岡県","長泉町","(長泉町)","原分",null,"","",{"$f":"IF(K3984=\"\",\"\",COUNTIF($K$7:K3984,\"ﾘｽﾄ１\"))","v":""},"同一区","","","","","","",{"$f":"IF(S3984=\"\",\"\",COUNTIF($S$7:S3984,\"該当２\"))","v":""},"","",{"$f":"IF(V3984=\"\",\"\",COUNTIF($V$7:V3984,\"該当３\"))","v":""}]
[2234200013,"22",342,{"v":0,"d":"00"},{"v":13,"d":"013"},"静岡県","長泉町","(長泉町)","竹原",null,"","",{"$f":"IF(K3985=\"\",\"\",COUNTIF($K$7:K3985,\"ﾘｽﾄ１\"))","v":""},"同一区","","","","","","",{"$f":"IF(S3985=\"\",\"\",COUNTIF($S$7:S3985,\"該当２\"))","v":""},"","",{"$f":"IF(V3985=\"\",\"\",COUNTIF($V$7:V3985,\"該当３\"))","v":""}]
[2234200015,"22",342,{"v":0,"d":"00"},{"v":15,"d":"015"},"静岡県","長泉町","(長泉町)","八分平",null,"","",{"$f":"IF(K3987=\"\",\"\",COUNTIF($K$7:K3987,\"ﾘｽﾄ１\"))","v":""},"同一区","","","","","","",{"$f":"IF(S3987=\"\",\"\",COUNTIF($S$7:S3987,\"該当２\"))","v":""},"","",{"$f":"IF(V3987=\"\",\"\",COUNTIF($V$7:V3987,\"該当３\"))","v":""}]
[2234200016,"22",342,{"v":0,"d":"00"},{"v":16,"d":"016"},"静岡県","長泉町","(長泉町)","新屋町",null,"","",{"$f":"IF(K3988=\"\",\"\",COUNTIF($K$7:K3988,\"ﾘｽﾄ１\"))","v":""},"同一区","","","","","","",{"$f":"IF(S3988=\"\",\"\",COUNTIF($S$7:S3988,\"該当２\"))","v":""},"","",{"$f":"IF(V3988=\"\",\"\",COUNTIF($V$7:V3988,\"該当３\"))","v":""}]
[2234200018,"22",342,{"v":0,"d":"00"},{"v":18,"d":"018"},"静岡県","長泉町","(長泉町)","三軒家",null,"","",{"$f":"IF(K3990=\"\",\"\",COUNTIF($K$7:K3990,\"ﾘｽﾄ１\"))","v":""},"同一区","","","","","","",{"$f":"IF(S3990=\"\",\"\",COUNTIF($S$7:S3990,\"該当２\"))","v":""},"","",{"$f":"IF(V3990=\"\",\"\",COUNTIF($V$7:V3990,\"該当３\"))","v":""}]
[2234400000,"22",344,{"v":0,"d":"00"},{"v":0,"d":"000"},"静岡県","小山町",{"$nulls":3},"ﾘｽﾄ１","小山町",{"$f":"IF(K3991=\"\",\"\",COUNTIF($K$7:K3991,\"ﾘｽﾄ１\"))","v":42},"","","","","","","",{"$f":"IF(S3991=\"\",\"\",COUNTIF($S$7:S3991,\"該当２\"))","v":""},"","",{"$f":"IF(V3991=\"\",\"\",COUNTIF($V$7:V3991,\"該当３\"))","v":""}]
[2234401001,"22",344,{"v":1,"d":"01"},{"v":1,"d":"001"},"静岡県","小山町","小山町（旧）","小山",null,"","",{"$f":"IF(K3993=\"\",\"\",COUNTIF($K$7:K3993,\"ﾘｽﾄ１\"))","v":""},"","","","","","","",{"$f":"IF(S3993=\"\",\"\",COUNTIF($S$7:S3993,\"該当２\"))","v":""},"","",{"$f":"IF(V3993=\"\",\"\",COUNTIF($V$7:V3993,\"該当３\"))","v":""}]
[2234401002,"22",344,{"v":1,"d":"01"},{"v":2,"d":"002"},"静岡県","小山町","小山町（旧）","生土",null,"","",{"$f":"IF(K3994=\"\",\"\",COUNTIF($K$7:K3994,\"ﾘｽﾄ１\"))","v":""},"","","","","","","",{"$f":"IF(S3994=\"\",\"\",COUNTIF($S$7:S3994,\"該当２\"))","v":""},"","",{"$f":"IF(V3994=\"\",\"\",COUNTIF($V$7:V3994,\"該当３\"))","v":""}]
[2234401004,"22",344,{"v":1,"d":"01"},{"v":4,"d":"004"},"静岡県","小山町","小山町（旧）","柳島",null,"","",{"$f":"IF(K3996=\"\",\"\",COUNTIF($K$7:K3996,\"ﾘｽﾄ１\"))","v":""},"","","","","","","",{"$f":"IF(S3996=\"\",\"\",COUNTIF($S$7:S3996,\"該当２\"))","v":""},"","",{"$f":"IF(V3996=\"\",\"\",COUNTIF($V$7:V3996,\"該当３\"))","v":""}]
[2234401005,"22",344,{"v":1,"d":"01"},{"v":5,"d":"005"},"静岡県","小山町","小山町（旧）","湯船",null,"","",{"$f":"IF(K3997=\"\",\"\",COUNTIF($K$7:K3997,\"ﾘｽﾄ１\"))","v":""},"","","","","","","",{"$f":"IF(S3997=\"\",\"\",COUNTIF($S$7:S3997,\"該当２\"))","v":""},"","",{"$f":"IF(V3997=\"\",\"\",COUNTIF($V$7:V3997,\"該当３\"))","v":""}]
[2234401007,"22",344,{"v":1,"d":"01"},{"v":7,"d":"007"},"静岡県","小山町","小山町（旧）","南藤曲",null,"","",{"$f":"IF(K3999=\"\",\"\",COUNTIF($K$7:K3999,\"ﾘｽﾄ１\"))","v":""},"","","","","","","",{"$f":"IF(S3999=\"\",\"\",COUNTIF($S$7:S3999,\"該当２\"))","v":""},"","",{"$f":"IF(V3999=\"\",\"\",COUNTIF($V$7:V3999,\"該当３\"))","v":""}]
[2234401008,"22",344,{"v":1,"d":"01"},{"v":8,"d":"008"},"静岡県","小山町","小山町（旧）","菅沼",null,"","",{"$f":"IF(K4000=\"\",\"\",COUNTIF($K$7:K4000,\"ﾘｽﾄ１\"))","v":""},"","","","","","","",{"$f":"IF(S4000=\"\",\"\",COUNTIF($S$7:S4000,\"該当２\"))","v":""},"","",{"$f":"IF(V4000=\"\",\"\",COUNTIF($V$7:V4000,\"該当３\"))","v":""}]
[2234401010,"22",344,{"v":1,"d":"01"},{"v":10,"d":"010"},"静岡県","小山町","小山町（旧）","谷戸",null,"","",{"$f":"IF(K4002=\"\",\"\",COUNTIF($K$7:K4002,\"ﾘｽﾄ１\"))","v":""},"","","","","","","",{"$f":"IF(S4002=\"\",\"\",COUNTIF($S$7:S4002,\"該当２\"))","v":""},"","",{"$f":"IF(V4002=\"\",\"\",COUNTIF($V$7:V4002,\"該当３\"))","v":""}]
[2234401011,"22",344,{"v":1,"d":"01"},{"v":11,"d":"011"},"静岡県","小山町","小山町（旧）","上合",null,"","",{"$f":"IF(K4003=\"\",\"\",COUNTIF($K$7:K4003,\"ﾘｽﾄ１\"))","v":""},"","","","","","","",{"$f":"IF(S4003=\"\",\"\",COUNTIF($S$7:S4003,\"該当２\"))","v":""},"","",{"$f":"IF(V4003=\"\",\"\",COUNTIF($V$7:V4003,\"該当３\"))","v":""}]
[2234401013,"22",344,{"v":1,"d":"01"},{"v":13,"d":"013"},"静岡県","小山町","小山町（旧）","原向",null,"","",{"$f":"IF(K4005=\"\",\"\",COUNTIF($K$7:K4005,\"ﾘｽﾄ１\"))","v":""},"","","","","","","",{"$f":"IF(S4005=\"\",\"\",COUNTIF($S$7:S4005,\"該当２\"))","v":""},"","",{"$f":"IF(V4005=\"\",\"\",COUNTIF($V$7:V4005,\"該当３\"))","v":""}]
[2234402000,"22",344,{"v":2,"d":"02"},{"v":0,"d":"000"},"静岡県","小山町","足柄村",null,null,"","",{"$f":"IF(K4006=\"\",\"\",COUNTIF($K$7:K4006,\"ﾘｽﾄ１\"))","v":""},"","","","","","","",{"$f":"IF(S4006=\"\",\"\",COUNTIF($S$7:S4006,\"該当２\"))","v":""},"","",{"$f":"IF(V4006=\"\",\"\",COUNTIF($V$7:V4006,\"該当３\"))","v":""}]
[2234402002,"22",344,{"v":2,"d":"02"},{"v":2,"d":"002"},"静岡県","小山町","足柄村","宿",null,"","",{"$f":"IF(K4008=\"\",\"\",COUNTIF($K$7:K4008,\"ﾘｽﾄ１\"))","v":""},"","","","","","","",{"$f":"IF(S4008=\"\",\"\",COUNTIF($S$7:S4008,\"該当２\"))","v":""},"","",{"$f":"IF(V4008=\"\",\"\",COUNTIF($V$7:V4008,\"該当３\"))","v":""}]
[2234402003,"22",344,{"v":2,"d":"02"},{"v":3,"d":"003"},"静岡県","小山町","足柄村","向方",null,"","",{"$f":"IF(K4009=\"\",\"\",COUNTIF($K$7:K4009,\"ﾘｽﾄ１\"))","v":""},"","","","","","","",{"$f":"IF(S4009=\"\",\"\",COUNTIF($S$7:S4009,\"該当２\"))","v":""},"","",{"$f":"IF(V4009=\"\",\"\",COUNTIF($V$7:V4009,\"該当３\"))","v":""}]
[2234402005,"22",344,{"v":2,"d":"02"},{"v":5,"d":"005"},"静岡県","小山町","足柄村","桑木",null,"","",{"$f":"IF(K4011=\"\",\"\",COUNTIF($K$7:K4011,\"ﾘｽﾄ１\"))","v":""},"","","","","","","",{"$f":"IF(S4011=\"\",\"\",COUNTIF($S$7:S4011,\"該当２\"))","v":""},"","",{"$f":"IF(V4011=\"\",\"\",COUNTIF($V$7:V4011,\"該当３\"))","v":""}]
[2234403000,"22",344,{"v":3,"d":"03"},{"v":0,"d":"000"},"静岡県","小山町","須走村",null,null,"","",{"$f":"IF(K4012=\"\",\"\",COUNTIF($K$7:K4012,\"ﾘｽﾄ１\"))","v":""},"","","","","","","",{"$f":"IF(S4012=\"\",\"\",COUNTIF($S$7:S4012,\"該当２\"))","v":""},"","",{"$f":"IF(V4012=\"\",\"\",COUNTIF($V$7:V4012,\"該当３\"))","v":""}]
[2234404000,"22",344,{"v":4,"d":"04"},{"v":0,"d":"000"},"静岡県","小山町","北郷村２－１",null,null,"","",{"$f":"IF(K4014=\"\",\"\",COUNTIF($K$7:K4014,\"ﾘｽﾄ１\"))","v":""},"","","","","","","",{"$f":"IF(S4014=\"\",\"\",COUNTIF($S$7:S4014,\"該当２\"))","v":""},"","",{"$f":"IF(V4014=\"\",\"\",COUNTIF($V$7:V4014,\"該当３\"))","v":""}]
[2234404001,"22",344,{"v":4,"d":"04"},{"v":1,"d":"001"},"静岡県","小山町","北郷村２－１","用沢",null,"","",{"$f":"IF(K4015=\"\",\"\",COUNTIF($K$7:K4015,\"ﾘｽﾄ１\"))","v":""},"","","","","","","",{"$f":"IF(S4015=\"\",\"\",COUNTIF($S$7:S4015,\"該当２\"))","v":""},"","",{"$f":"IF(V4015=\"\",\"\",COUNTIF($V$7:V4015,\"該当３\"))","v":""}]
[2234404003,"22",344,{"v":4,"d":"04"},{"v":3,"d":"003"},"静岡県","小山町","北郷村２－１","大御神",null,"","",{"$f":"IF(K4017=\"\",\"\",COUNTIF($K$7:K4017,\"ﾘｽﾄ１\"))","v":""},"","","","","","","",{"$f":"IF(S4017=\"\",\"\",COUNTIF($S$7:S4017,\"該当２\"))","v":""},"","",{"$f":"IF(V4017=\"\",\"\",COUNTIF($V$7:V4017,\"該当３\"))","v":""}]
[2234404004,"22",344,{"v":4,"d":"04"},{"v":4,"d":"004"},"静岡県","小山町","北郷村２－１","中日向",null,"","",{"$f":"IF(K4018=\"\",\"\",COUNTIF($K$7:K4018,\"ﾘｽﾄ１\"))","v":""},"","","","","","","",{"$f":"IF(S4018=\"\",\"\",COUNTIF($S$7:S4018,\"該当２\"))","v":""},"","",{"$f":"IF(V4018=\"\",\"\",COUNTIF($V$7:V4018,\"該当３\"))","v":""}]
[2234404006,"22",344,{"v":4,"d":"04"},{"v":6,"d":"006"},"静岡県","小山町","北郷村２－１","阿多野",null,"","",{"$f":"IF(K4020=\"\",\"\",COUNTIF($K$7:K4020,\"ﾘｽﾄ１\"))","v":""},"","","","","","","",{"$f":"IF(S4020=\"\",\"\",COUNTIF($S$7:S4020,\"該当２\"))","v":""},"","",{"$f":"IF(V4020=\"\",\"\",COUNTIF($V$7:V4020,\"該当３\"))","v":""}]
[2234404007,"22",344,{"v":4,"d":"04"},{"v":7,"d":"007"},"静岡県","小山町","北郷村２－１","吉久保",null,"","",{"$f":"IF(K4021=\"\",\"\",COUNTIF($K$7:K4021,\"ﾘｽﾄ１\"))","v":""},"","","","","","","",{"$f":"IF(S4021=\"\",\"\",COUNTIF($S$7:S4021,\"該当２\"))","v":""},"","",{"$f":"IF(V4021=\"\",\"\",COUNTIF($V$7:V4021,\"該当３\"))","v":""}]
[2234404009,"22",344,{"v":4,"d":"04"},{"v":9,"d":"009"},"静岡県","小山町","北郷村２－１","大胡田",null,"","",{"$f":"IF(K4023=\"\",\"\",COUNTIF($K$7:K4023,\"ﾘｽﾄ１\"))","v":""},"","","","","","","",{"$f":"IF(S4023=\"\",\"\",COUNTIF($S$7:S4023,\"該当２\"))","v":""},"","",{"$f":"IF(V4023=\"\",\"\",COUNTIF($V$7:V4023,\"該当３\"))","v":""}]
[2234404010,"22",344,{"v":4,"d":"04"},{"v":10,"d":"010"},"静岡県","小山町","北郷村２－１","上古城",null,"","",{"$f":"IF(K4024=\"\",\"\",COUNTIF($K$7:K4024,\"ﾘｽﾄ１\"))","v":""},"","","","","","","",{"$f":"IF(S4024=\"\",\"\",COUNTIF($S$7:S4024,\"該当２\"))","v":""},"","",{"$f":"IF(V4024=\"\",\"\",COUNTIF($V$7:V4024,\"該当３\"))","v":""}]
[2234404012,"22",344,{"v":4,"d":"04"},{"v":12,"d":"012"},"静岡県","小山町","北郷村２－１","一色",null,"","",{"$f":"IF(K4026=\"\",\"\",COUNTIF($K$7:K4026,\"ﾘｽﾄ１\"))","v":""},"","","","","","","",{"$f":"IF(S4026=\"\",\"\",COUNTIF($S$7:S4026,\"該当２\"))","v":""},"","",{"$f":"IF(V4026=\"\",\"\",COUNTIF($V$7:V4026,\"該当３\"))","v":""}]
[2242400000,"22",424,{"v":0,"d":"00"},{"v":0,"d":"000"},"静岡県","吉田町",{"$nulls":3},"ﾘｽﾄ１","吉田町",{"$f":"IF(K4027=\"\",\"\",COUNTIF($K$7:K4027,\"ﾘｽﾄ１\"))","v":43},"","","","","","","",{"$f":"IF(S4027=\"\",\"\",COUNTIF($S$7:S4027,\"該当２\"))","v":""},"","",{"$f":"IF(V4027=\"\",\"\",COUNTIF($V$7:V4027,\"該当３\"))","v":""}]
[2242400002,"22",424,{"v":0,"d":"00"},{"v":2,"d":"002"},"静岡県","吉田町","(吉田町)","住吉２部会",null,"","",{"$f":"IF(K4029=\"\",\"\",COUNTIF($K$7:K4029,\"ﾘｽﾄ１\"))","v":""},"同一区","","","","","","",{"$f":"IF(S4029=\"\",\"\",COUNTIF($S$7:S4029,\"該当２\"))","v":""},"","",{"$f":"IF(V4029=\"\",\"\",COUNTIF($V$7:V4029,\"該当３\"))","v":""}]
[2242400003,"22",424,{"v":0,"d":"00"},{"v":3,"d":"003"},"静岡県","吉田町","(吉田町)","住吉大浜部会",null,"","",{"$f":"IF(K4030=\"\",\"\",COUNTIF($K$7:K4030,\"ﾘｽﾄ１\"))","v":""},"同一区","","","","","","",{"$f":"IF(S4030=\"\",\"\",COUNTIF($S$7:S4030,\"該当２\"))","v":""},"","",{"$f":"IF(V4030=\"\",\"\",COUNTIF($V$7:V4030,\"該当３\"))","v":""}]
[2242400005,"22",424,{"v":0,"d":"00"},{"v":5,"d":"005"},"静岡県","吉田町","(吉田町)","住吉４部会",null,"","",{"$f":"IF(K4032=\"\",\"\",COUNTIF($K$7:K4032,\"ﾘｽﾄ１\"))","v":""},"同一区","","","","","","",{"$f":"IF(S4032=\"\",\"\",COUNTIF($S$7:S4032,\"該当２\"))","v":""},"","",{"$f":"IF(V4032=\"\",\"\",COUNTIF($V$7:V4032,\"該当３\"))","v":""}]
[2242400006,"22",424,{"v":0,"d":"00"},{"v":6,"d":"006"},"静岡県","吉田町","(吉田町)","住吉５部会",null,"","",{"$f":"IF(K4033=\"\",\"\",COUNTIF($K$7:K4033,\"ﾘｽﾄ１\"))","v":""},"同一区","","","","","","",{"$f":"IF(S4033=\"\",\"\",COUNTIF($S$7:S4033,\"該当２\"))","v":""},"","",{"$f":"IF(V4033=\"\",\"\",COUNTIF($V$7:V4033,\"該当３\"))","v":""}]
[2242400008,"22",424,{"v":0,"d":"00"},{"v":8,"d":"008"},"静岡県","吉田町","(吉田町)","住吉７部会",null,"","",{"$f":"IF(K4035=\"\",\"\",COUNTIF($K$7:K4035,\"ﾘｽﾄ１\"))","v":""},"同一区","","","","","","",{"$f":"IF(S4035=\"\",\"\",COUNTIF($S$7:S4035,\"該当２\"))","v":""},"","",{"$f":"IF(V4035=\"\",\"\",COUNTIF($V$7:V4035,\"該当３\"))","v":""}]
[2242400009,"22",424,{"v":0,"d":"00"},{"v":9,"d":"009"},"静岡県","吉田町","(吉田町)","川尻１部会",null,"",{"$f":"IF(K4036=\"ﾘｽﾄ１\",G4036,\"\")","v":""},{"$f":"IF(K4036=\"\",\"\",COUNTIF($K$7:K4036,\"ﾘｽﾄ１\"))","v":""},{"$f":"IF(AND(D4036=0,E4036>0),\"同一区\",\"\")","v":"同一区"},{"$f":"IF(AND(EXACT($K$2,G4036),H4036>0),\"該当１\",\"\")","v":""},{"$f":"IF(O4036=\"該当１\",G4036,\"\")","v":""},{"$f":"IF(O4036=\"該当１\",\"ﾘｽﾄ2\",\"\")","v":""},{"$f":"IF(Q4036=\"ﾘｽﾄ2\",H4036,\"\")","v":""},{"$f":"IF(AND(Q4036=\"ﾘｽﾄ2\",OR(I4036=0,AND(N4036=\"同一区\",E4036=1))),\"該当２\",\"\")","v":""},{"$f":"IF(S4036=\"該当２\",H4036,\"\")","v":""},{"$f":"IF(S4036=\"\",\"\",COUNTIF($S$7:S4036,\"該当２\"))","v":""},{"$f":"IF(AND($S$2=H4036,E4036>0,E4036<998),\"該当３\",\"\")","v":""},{"$f":"IF(V4036=\"該当３\",I4036,\"\")","v":""},{"$f":"IF(V4036=\"\",\"\",COUNTIF($V$7:V4036,\"該当３\"))","v":""}]
[2242400011,"22",424,{"v":0,"d":"00"},{"v":11,"d":"011"},"静岡県","吉田町","(吉田町)","川尻３部会",null,"","",{"$f":"IF(K4038=\"\",\"\",COUNTIF($K$7:K4038,\"ﾘｽﾄ１\"))","v":""},"同一区","","","","","","",{"$f":"IF(S4038=\"\",\"\",COUNTIF($S$7:S4038,\"該当２\"))","v":""},"","",{"$f":"IF(V4038=\"\",\"\",COUNTIF($V$7:V4038,\"該当３\"))","v":""}]
[2242400012,"22",424,{"v":0,"d":"00"},{"v":12,"d":"012"},"静岡県","吉田町","(吉田町)","川尻４部会",null,"","",{"$f":"IF(K4039=\"\",\"\",COUNTIF($K$7:K4039,\"ﾘｽﾄ１\"))","v":""},"同一区","","","","","","",{"$f":"IF(S4039=\"\",\"\",COUNTIF($S$7:S4039,\"該当２\"))","v":""},"","",{"$f":"IF(V4039=\"\",\"\",COUNTIF($V$7:V4039,\"該当３\"))","v":""}]
[2242400014,"22",424,{"v":0,"d":"00"},{"v":14,"d":"014"},"静岡県","吉田町","(吉田町)","片岡２部会",null,"","",{"$f":"IF(K4041=\"\",\"\",COUNTIF($K$7:K4041,\"ﾘｽﾄ１\"))","v":""},"同一区","","","","","","",{"$f":"IF(S4041=\"\",\"\",COUNTIF($S$7:S4041,\"該当２\"))","v":""},"","",{"$f":"IF(V4041=\"\",\"\",COUNTIF($V$7:V4041,\"該当３\"))","v":""}]
[2242400015,"22",424,{"v":0,"d":"00"},{"v":15,"d":"015"},"静岡県","吉田町","(吉田町)","片岡３部会",null,"","",{"$f":"IF(K4042=\"\",\"\",COUNTIF($K$7:K4042,\"ﾘｽﾄ１\"))","v":""},"同一区","","","","","","",{"$f":"IF(S4042=\"\",\"\",COUNTIF($S$7:S4042,\"該当２\"))","v":""},"","",{"$f":"IF(V4042=\"\",\"\",COUNTIF($V$7:V4042,\"該当３\"))","v":""}]
[2242400017,"22",424,{"v":0,"d":"00"},{"v":17,"d":"017"},"静岡県","吉田町","(吉田町)","神戸２部会",null,"","",{"$f":"IF(K4044=\"\",\"\",COUNTIF($K$7:K4044,\"ﾘｽﾄ１\"))","v":""},"同一区","","","","","","",{"$f":"IF(S4044=\"\",\"\",COUNTIF($S$7:S4044,\"該当２\"))","v":""},"","",{"$f":"IF(V4044=\"\",\"\",COUNTIF($V$7:V4044,\"該当３\"))","v":""}]
[2242400018,"22",424,{"v":0,"d":"00"},{"v":18,"d":"018"},"静岡県","吉田町","(吉田町)","神戸３部会",null,"","",{"$f":"IF(K4045=\"\",\"\",COUNTIF($K$7:K4045,\"ﾘｽﾄ１\"))","v":""},"同一区","","","","","","",{"$f":"IF(S4045=\"\",\"\",COUNTIF($S$7:S4045,\"該当２\"))","v":""},"","",{"$f":"IF(V4045=\"\",\"\",COUNTIF($V$7:V4045,\"該当３\"))","v":""}]
[2242400020,"22",424,{"v":0,"d":"00"},{"v":20,"d":"020"},"静岡県","吉田町","(吉田町)","大幡１部会",null,"","",{"$f":"IF(K4047=\"\",\"\",COUNTIF($K$7:K4047,\"ﾘｽﾄ１\"))","v":""},"同一区","","","","","","",{"$f":"IF(S4047=\"\",\"\",COUNTIF($S$7:S4047,\"該当２\"))","v":""},"","",{"$f":"IF(V4047=\"\",\"\",COUNTIF($V$7:V4047,\"該当３\"))","v":""}]
[2242400021,"22",424,{"v":0,"d":"00"},{"v":21,"d":"021"},"静岡県","吉田町","(吉田町)","大幡２部会",null,"","",{"$f":"IF(K4048=\"\",\"\",COUNTIF($K$7:K4048,\"ﾘｽﾄ１\"))","v":""},"同一区","","","","","","",{"$f":"IF(S4048=\"\",\"\",COUNTIF($S$7:S4048,\"該当２\"))","v":""},"","",{"$f":"IF(V4048=\"\",\"\",COUNTIF($V$7:V4048,\"該当３\"))","v":""}]
[2242901000,"22",429,{"v":1,"d":"01"},{"v":0,"d":"000"},"静岡県","川根本町","中川根村",null,null,"","",{"$f":"IF(K4050=\"\",\"\",COUNTIF($K$7:K4050,\"ﾘｽﾄ１\"))","v":""},"","","","","","","",{"$f":"IF(S4050=\"\",\"\",COUNTIF($S$7:S4050,\"該当２\"))","v":""},"","",{"$f":"IF(V4050=\"\",\"\",COUNTIF($V$7:V4050,\"該当３\"))","v":""}]
[2242901001,"22",429,{"v":1,"d":"01"},{"v":1,"d":"001"},"静岡県","川根本町","中川根村","藤川",null,"","",{"$f":"IF(K4051=\"\",\"\",COUNTIF($K$7:K4051,\"ﾘｽﾄ１\"))","v":""},"","","","","","","",{"$f":"IF(S4051=\"\",\"\",COUNTIF($S$7:S4051,\"該当２\"))","v":""},"","",{"$f":"IF(V4051=\"\",\"\",COUNTIF($V$7:V4051,\"該当３\"))","v":""}]
[2242901003,"22",429,{"v":1,"d":"01"},{"v":3,"d":"003"},"静岡県","川根本町","中川根村","尾呂久保，長野，松尾",null,"","",{"$f":"IF(K4053=\"\",\"\",COUNTIF($K$7:K4053,\"ﾘｽﾄ１\"))","v":""},"","","","","","","",{"$f":"IF(S4053=\"\",\"\",COUNTIF($S$7:S4053,\"該当２\"))","v":""},"","",{"$f":"IF(V4053=\"\",\"\",COUNTIF($V$7:V4053,\"該当３\"))","v":""}]
[2242901004,"22",429,{"v":1,"d":"01"},{"v":4,"d":"004"},"静岡県","川根本町","中川根村","上長尾",null,"","",{"$f":"IF(K4054=\"\",\"\",COUNTIF($K$7:K4054,\"ﾘｽﾄ１\"))","v":""},"","","","","","","",{"$f":"IF(S4054=\"\",\"\",COUNTIF($S$7:S4054,\"該当２\"))","v":""},"","",{"$f":"IF(V4054=\"\",\"\",COUNTIF($V$7:V4054,\"該当３\"))","v":""}]
[2242901006,"22",429,{"v":1,"d":"01"},{"v":6,"d":"006"},"静岡県","川根本町","中川根村","八中",null,"","",{"$f":"IF(K4056=\"\",\"\",COUNTIF($K$7:K4056,\"ﾘｽﾄ１\"))","v":""},"","","","","","","",{"$f":"IF(S4056=\"\",\"\",COUNTIF($S$7:S4056,\"該当２\"))","v":""},"","",{"$f":"IF(V4056=\"\",\"\",COUNTIF($V$7:V4056,\"該当３\"))","v":""}]
[2242901007,"22",429,{"v":1,"d":"01"},{"v":7,"d":"007"},"静岡県","川根本町","中川根村","梅高",null,"","",{"$f":"IF(K4057=\"\",\"\",COUNTIF($K$7:K4057,\"ﾘｽﾄ１\"))","v":""},"","","","","","","",{"$f":"IF(S4057=\"\",\"\",COUNTIF($S$7:S4057,\"該当２\"))","v":""},"","",{"$f":"IF(V4057=\"\",\"\",COUNTIF($V$7:V4057,\"該当３\"))","v":""}]
[2242901009,"22",429,{"v":1,"d":"01"},{"v":9,"d":"009"},"静岡県","川根本町","中川根村","瀬平",null,"","",{"$f":"IF(K4059=\"\",\"\",COUNTIF($K$7:K4059,\"ﾘｽﾄ１\"))","v":""},"","","","","","","",{"$f":"IF(S4059=\"\",\"\",COUNTIF($S$7:S4059,\"該当２\"))","v":""},"","",{"$f":"IF(V4059=\"\",\"\",COUNTIF($V$7:V4059,\"該当３\"))","v":""}]
[2242901010,"22",429,{"v":1,"d":"01"},{"v":10,"d":"010"},"静岡県","川根本町","中川根村","久野脇",null,"","",{"$f":"IF(K4060=\"\",\"\",COUNTIF($K$7:K4060,\"ﾘｽﾄ１\"))","v":""},"","","","","","","",{"$f":"IF(S4060=\"\",\"\",COUNTIF($S$7:S4060,\"該当２\"))","v":""},"","",{"$f":"IF(V4060=\"\",\"\",COUNTIF($V$7:V4060,\"該当３\"))","v":""}]
[2242901012,"22",429,{"v":1,"d":"01"},{"v":12,"d":"012"},"静岡県","川根本町","中川根村","久保尾",null,"","",{"$f":"IF(K4062=\"\",\"\",COUNTIF($K$7:K4062,\"ﾘｽﾄ１\"))","v":""},"","","","","","","",{"$f":"IF(S4062=\"\",\"\",COUNTIF($S$7:S4062,\"該当２\"))","v":""},"","",{"$f":"IF(V4062=\"\",\"\",COUNTIF($V$7:V4062,\"該当３\"))","v":""}]
[2242901013,"22",429,{"v":1,"d":"01"},{"v":13,"d":"013"},"静岡県","川根本町","中川根村","原山",null,"","",{"$f":"IF(K4063=\"\",\"\",COUNTIF($K$7:K4063,\"ﾘｽﾄ１\"))","v":""},"","","","","","","",{"$f":"IF(S4063=\"\",\"\",COUNTIF($S$7:S4063,\"該当２\"))","v":""},"","",{"$f":"IF(V4063=\"\",\"\",COUNTIF($V$7:V4063,\"該当３\"))","v":""}]
[2242902001,"22",429,{"v":2,"d":"02"},{"v":1,"d":"001"},"静岡県","川根本町","徳山村","徳山",null,"","",{"$f":"IF(K4065=\"\",\"\",COUNTIF($K$7:K4065,\"ﾘｽﾄ１\"))","v":""},"","","","","","","",{"$f":"IF(S4065=\"\",\"\",COUNTIF($S$7:S4065,\"該当２\"))","v":""},"","",{"$f":"IF(V4065=\"\",\"\",COUNTIF($V$7:V4065,\"該当３\"))","v":""}]
[2242902002,"22",429,{"v":2,"d":"02"},{"v":2,"d":"002"},"静岡県","川根本町","徳山村","田野口",null,"","",{"$f":"IF(K4066=\"\",\"\",COUNTIF($K$7:K4066,\"ﾘｽﾄ１\"))","v":""},"","","","","","","",{"$f":"IF(S4066=\"\",\"\",COUNTIF($S$7:S4066,\"該当２\"))","v":""},"","",{"$f":"IF(V4066=\"\",\"\",COUNTIF($V$7:V4066,\"該当３\"))","v":""}]
[2242902004,"22",429,{"v":2,"d":"02"},{"v":4,"d":"004"},"静岡県","川根本町","徳山村","下泉",null,"","",{"$f":"IF(K4068=\"\",\"\",COUNTIF($K$7:K4068,\"ﾘｽﾄ１\"))","v":""},"","","","","","","",{"$f":"IF(S4068=\"\",\"\",COUNTIF($S$7:S4068,\"該当２\"))","v":""},"","",{"$f":"IF(V4068=\"\",\"\",COUNTIF($V$7:V4068,\"該当３\"))","v":""}]
[2242902005,"22",429,{"v":2,"d":"02"},{"v":5,"d":"005"},"静岡県","川根本町","徳山村","地名",null,"","",{"$f":"IF(K4069=\"\",\"\",COUNTIF($K$7:K4069,\"ﾘｽﾄ１\"))","v":""},"","","","","","","",{"$f":"IF(S4069=\"\",\"\",COUNTIF($S$7:S4069,\"該当２\"))","v":""},"","",{"$f":"IF(V4069=\"\",\"\",COUNTIF($V$7:V4069,\"該当３\"))","v":""}]
[2242903001,"22",429,{"v":3,"d":"03"},{"v":1,"d":"001"},"静岡県","川根本町","上川根村","崎平",null,"","",{"$f":"IF(K4071=\"\",\"\",COUNTIF($K$7:K4071,\"ﾘｽﾄ１\"))","v":""},"","","","","","","",{"$f":"IF(S4071=\"\",\"\",COUNTIF($S$7:S4071,\"該当２\"))","v":""},"","",{"$f":"IF(V4071=\"\",\"\",COUNTIF($V$7:V4071,\"該当３\"))","v":""}]
[2242903002,"22",429,{"v":3,"d":"03"},{"v":2,"d":"002"},"静岡県","川根本町","上川根村","寺馬",null,"","",{"$f":"IF(K4072=\"\",\"\",COUNTIF($K$7:K4072,\"ﾘｽﾄ１\"))","v":""},"","","","","","","",{"$f":"IF(S4072=\"\",\"\",COUNTIF($S$7:S4072,\"該当２\"))","v":""},"","",{"$f":"IF(V4072=\"\",\"\",COUNTIF($V$7:V4072,\"該当３\"))","v":""}]
[2242903004,"22",429,{"v":3,"d":"03"},{"v":4,"d":"004"},"静岡県","川根本町","上川根村","千頭東",null,"","",{"$f":"IF(K4074=\"\",\"\",COUNTIF($K$7:K4074,\"ﾘｽﾄ１\"))","v":""},"","","","","","","",{"$f":"IF(S4074=\"\",\"\",COUNTIF($S$7:S4074,\"該当２\"))","v":""},"","",{"$f":"IF(V4074=\"\",\"\",COUNTIF($V$7:V4074,\"該当３\"))","v":""}]
[2242903005,"22",429,{"v":3,"d":"03"},{"v":5,"d":"005"},"静岡県","川根本町","上川根村","沢間",null,"","",{"$f":"IF(K4075=\"\",\"\",COUNTIF($K$7:K4075,\"ﾘｽﾄ１\"))","v":""},"","","","","","","",{"$f":"IF(S4075=\"\",\"\",COUNTIF($S$7:S4075,\"該当２\"))","v":""},"","",{"$f":"IF(V4075=\"\",\"\",COUNTIF($V$7:V4075,\"該当３\"))","v":""}]
[2242903007,"22",429,{"v":3,"d":"03"},{"v":7,"d":"007"},"静岡県","川根本町","上川根村","小山・八木・土本",null,"","",{"$f":"IF(K4077=\"\",\"\",COUNTIF($K$7:K4077,\"ﾘｽﾄ１\"))","v":""},"","","","","","","",{"$f":"IF(S4077=\"\",\"\",COUNTIF($S$7:S4077,\"該当２\"))","v":""},"","",{"$f":"IF(V4077=\"\",\"\",COUNTIF($V$7:V4077,\"該当３\"))","v":""}]
[2242903008,"22",429,{"v":3,"d":"03"},{"v":8,"d":"008"},"静岡県","川根本町","上川根村","犬間",null,"","",{"$f":"IF(K4078=\"\",\"\",COUNTIF($K$7:K4078,\"ﾘｽﾄ１\"))","v":""},"","","","","","","",{"$f":"IF(S4078=\"\",\"\",COUNTIF($S$7:S4078,\"該当２\"))","v":""},"","",{"$f":"IF(V4078=\"\",\"\",COUNTIF($V$7:V4078,\"該当３\"))","v":""}]
[2242904000,"22",429,{"v":4,"d":"04"},{"v":0,"d":"000"},"静岡県","川根本町","東川根村",null,null,"","",{"$f":"IF(K4080=\"\",\"\",COUNTIF($K$7:K4080,\"ﾘｽﾄ１\"))","v":""},"","","","","","","",{"$f":"IF(S4080=\"\",\"\",COUNTIF($S$7:S4080,\"該当２\"))","v":""},"","",{"$f":"IF(V4080=\"\",\"\",COUNTIF($V$7:V4080,\"該当３\"))","v":""}]
[2242904001,"22",429,{"v":4,"d":"04"},{"v":1,"d":"001"},"静岡県","川根本町","東川根村","梅地",null,"","",{"$f":"IF(K4081=\"\",\"\",COUNTIF($K$7:K4081,\"ﾘｽﾄ１\"))","v":""},"","","","","","","",{"$f":"IF(S4081=\"\",\"\",COUNTIF($S$7:S4081,\"該当２\"))","v":""},"","",{"$f":"IF(V4081=\"\",\"\",COUNTIF($V$7:V4081,\"該当３\"))","v":""}]
[2242904003,"22",429,{"v":4,"d":"04"},{"v":3,"d":"003"},"静岡県","川根本町","東川根村","桑野山",null,"","",{"$f":"IF(K4083=\"\",\"\",COUNTIF($K$7:K4083,\"ﾘｽﾄ１\"))","v":""},"","","","","","","",{"$f":"IF(S4083=\"\",\"\",COUNTIF($S$7:S4083,\"該当２\"))","v":""},"","",{"$f":"IF(V4083=\"\",\"\",COUNTIF($V$7:V4083,\"該当３\"))","v":""}]
[2242904004,"22",429,{"v":4,"d":"04"},{"v":4,"d":"004"},"静岡県","川根本町","東川根村","平栗",null,"","",{"$f":"IF(K4084=\"\",\"\",COUNTIF($K$7:K4084,\"ﾘｽﾄ１\"))","v":""},"","","","","","","",{"$f":"IF(S4084=\"\",\"\",COUNTIF($S$7:S4084,\"該当２\"))","v":""},"","",{"$f":"IF(V4084=\"\",\"\",COUNTIF($V$7:V4084,\"該当３\"))","v":""}]
[2242904006,"22",429,{"v":4,"d":"04"},{"v":6,"d":"006"},"静岡県","川根本町","東川根村","小長井",null,"","",{"$f":"IF(K4086=\"\",\"\",COUNTIF($K$7:K4086,\"ﾘｽﾄ１\"))","v":""},"","","","","","","",{"$f":"IF(S4086=\"\",\"\",COUNTIF($S$7:S4086,\"該当２\"))","v":""},"","",{"$f":"IF(V4086=\"\",\"\",COUNTIF($V$7:V4086,\"該当３\"))","v":""}]
[2242904007,"22",429,{"v":4,"d":"04"},{"v":7,"d":"007"},"静岡県","川根本町","東川根村","上岸",null,"","",{"$f":"IF(K4087=\"\",\"\",COUNTIF($K$7:K4087,\"ﾘｽﾄ１\"))","v":""},"","","","","","","",{"$f":"IF(S4087=\"\",\"\",COUNTIF($S$7:S4087,\"該当２\"))","v":""},"","",{"$f":"IF(V4087=\"\",\"\",COUNTIF($V$7:V4087,\"該当３\"))","v":""}]
[2242904009,"22",429,{"v":4,"d":"04"},{"v":9,"d":"009"},"静岡県","川根本町","東川根村","田代",null,"","",{"$f":"IF(K4089=\"\",\"\",COUNTIF($K$7:K4089,\"ﾘｽﾄ１\"))","v":""},"","","","","","","",{"$f":"IF(S4089=\"\",\"\",COUNTIF($S$7:S4089,\"該当２\"))","v":""},"","",{"$f":"IF(V4089=\"\",\"\",COUNTIF($V$7:V4089,\"該当３\"))","v":""}]
[2242904010,"22",429,{"v":4,"d":"04"},{"v":10,"d":"010"},"静岡県","川根本町","東川根村","柳三",null,"","",{"$f":"IF(K4090=\"\",\"\",COUNTIF($K$7:K4090,\"ﾘｽﾄ１\"))","v":""},"","","","","","","",{"$f":"IF(S4090=\"\",\"\",COUNTIF($S$7:S4090,\"該当２\"))","v":""},"","",{"$f":"IF(V4090=\"\",\"\",COUNTIF($V$7:V4090,\"該当３\"))","v":""}]
[2242904012,"22",429,{"v":4,"d":"04"},{"v":12,"d":"012"},"静岡県","川根本町","東川根村","坂京",null,"","",{"$f":"IF(K4092=\"\",\"\",COUNTIF($K$7:K4092,\"ﾘｽﾄ１\"))","v":""},"","","","","","","",{"$f":"IF(S4092=\"\",\"\",COUNTIF($S$7:S4092,\"該当２\"))","v":""},"","",{"$f":"IF(V4092=\"\",\"\",COUNTIF($V$7:V4092,\"該当３\"))","v":""}]
[2242904013,"22",429,{"v":4,"d":"04"},{"v":13,"d":"013"},"静岡県","川根本町","東川根村","小幡",null,"","",{"$f":"IF(K4093=\"\",\"\",COUNTIF($K$7:K4093,\"ﾘｽﾄ１\"))","v":""},"","","","","","","",{"$f":"IF(S4093=\"\",\"\",COUNTIF($S$7:S4093,\"該当２\"))","v":""},"","",{"$f":"IF(V4093=\"\",\"\",COUNTIF($V$7:V4093,\"該当３\"))","v":""}]
[2246101000,"22",461,{"v":1,"d":"01"},{"v":0,"d":"000"},"静岡県","森町","森町（旧）",null,null,"","",{"$f":"IF(K4095=\"\",\"\",COUNTIF($K$7:K4095,\"ﾘｽﾄ１\"))","v":""},"","","","","","","",{"$f":"IF(S4095=\"\",\"\",COUNTIF($S$7:S4095,\"該当２\"))","v":""},"","",{"$f":"IF(V4095=\"\",\"\",COUNTIF($V$7:V4095,\"該当３\"))","v":""}]
[2246101001,"22",461,{"v":1,"d":"01"},{"v":1,"d":"001"},"静岡県","森町","森町（旧）","下二",null,"","",{"$f":"IF(K4096=\"\",\"\",COUNTIF($K$7:K4096,\"ﾘｽﾄ１\"))","v":""},"","","","","","","",{"$f":"IF(S4096=\"\",\"\",COUNTIF($S$7:S4096,\"該当２\"))","v":""},"","",{"$f":"IF(V4096=\"\",\"\",COUNTIF($V$7:V4096,\"該当３\"))","v":""}]
[2246101003,"22",461,{"v":1,"d":"01"},{"v":3,"d":"003"},"静岡県","森町","森町（旧）","大門",null,"","",{"$f":"IF(K4098=\"\",\"\",COUNTIF($K$7:K4098,\"ﾘｽﾄ１\"))","v":""},"","","","","","","",{"$f":"IF(S4098=\"\",\"\",COUNTIF($S$7:S4098,\"該当２\"))","v":""},"","",{"$f":"IF(V4098=\"\",\"\",COUNTIF($V$7:V4098,\"該当３\"))","v":""}]
[2246101004,"22",461,{"v":1,"d":"01"},{"v":4,"d":"004"},"静岡県","森町","森町（旧）","天宮",null,"","",{"$f":"IF(K4099=\"\",\"\",COUNTIF($K$7:K4099,\"ﾘｽﾄ１\"))","v":""},"","","","","","","",{"$f":"IF(S4099=\"\",\"\",COUNTIF($S$7:S4099,\"該当２\"))","v":""},"","",{"$f":"IF(V4099=\"\",\"\",COUNTIF($V$7:V4099,\"該当３\"))","v":""}]
[2246101006,"22",461,{"v":1,"d":"01"},{"v":6,"d":"006"},"静岡県","森町","森町（旧）","城下",null,"","",{"$f":"IF(K4101=\"\",\"\",COUNTIF($K$7:K4101,\"ﾘｽﾄ１\"))","v":""},"","","","","","","",{"$f":"IF(S4101=\"\",\"\",COUNTIF($S$7:S4101,\"該当２\"))","v":""},"","",{"$f":"IF(V4101=\"\",\"\",COUNTIF($V$7:V4101,\"該当３\"))","v":""}]
[2246101007,"22",461,{"v":1,"d":"01"},{"v":7,"d":"007"},"静岡県","森町","森町（旧）","向天方",null,"","",{"$f":"IF(K4102=\"\",\"\",COUNTIF($K$7:K4102,\"ﾘｽﾄ１\"))","v":""},"","","","","","","",{"$f":"IF(S4102=\"\",\"\",COUNTIF($S$7:S4102,\"該当２\"))","v":""},"","",{"$f":"IF(V4102=\"\",\"\",COUNTIF($V$7:V4102,\"該当３\"))","v":""}]
[2246102000,"22",461,{"v":2,"d":"02"},{"v":0,"d":"000"},"静岡県","森町","飯田村（森町）",null,null,"","",{"$f":"IF(K4104=\"\",\"\",COUNTIF($K$7:K4104,\"ﾘｽﾄ１\"))","v":""},"","","","","","","",{"$f":"IF(S4104=\"\",\"\",COUNTIF($S$7:S4104,\"該当２\"))","v":""},"","",{"$f":"IF(V4104=\"\",\"\",COUNTIF($V$7:V4104,\"該当３\"))","v":""}]
[2246102001,"22",461,{"v":2,"d":"02"},{"v":1,"d":"001"},"静岡県","森町","飯田村（森町）","市場",null,"","",{"$f":"IF(K4105=\"\",\"\",COUNTIF($K$7:K4105,\"ﾘｽﾄ１\"))","v":""},"","","","","","","",{"$f":"IF(S4105=\"\",\"\",COUNTIF($S$7:S4105,\"該当２\"))","v":""},"","",{"$f":"IF(V4105=\"\",\"\",COUNTIF($V$7:V4105,\"該当３\"))","v":""}]
[2246102003,"22",461,{"v":2,"d":"02"},{"v":3,"d":"003"},"静岡県","森町","飯田村（森町）","中飯田",null,{"$f":"IF(AND($C4107>0,$H4107=\"\"),\"ﾘｽﾄ１\",\"\")","v":""},"",{"$f":"IF(K4107=\"\",\"\",COUNTIF($K$7:K4107,\"ﾘｽﾄ１\"))","v":""},"","","","","","","",{"$f":"IF(S4107=\"\",\"\",COUNTIF($S$7:S4107,\"該当２\"))","v":""},"","",{"$f":"IF(V4107=\"\",\"\",COUNTIF($V$7:V4107,\"該当３\"))","v":""}]
[2246102004,"22",461,{"v":2,"d":"02"},{"v":4,"d":"004"},"静岡県","森町","飯田村（森町）","上飯田",null,"","",{"$f":"IF(K4108=\"\",\"\",COUNTIF($K$7:K4108,\"ﾘｽﾄ１\"))","v":""},"","","","","","","",{"$f":"IF(S4108=\"\",\"\",COUNTIF($S$7:S4108,\"該当２\"))","v":""},"","",{"$f":"IF(V4108=\"\",\"\",COUNTIF($V$7:V4108,\"該当３\"))","v":""}]
[2246102006,"22",461,{"v":2,"d":"02"},{"v":6,"d":"006"},"静岡県","森町","飯田村（森町）","西組",null,"","",{"$f":"IF(K4110=\"\",\"\",COUNTIF($K$7:K4110,\"ﾘｽﾄ１\"))","v":""},"","","","","","","",{"$f":"IF(S4110=\"\",\"\",COUNTIF($S$7:S4110,\"該当２\"))","v":""},"","",{"$f":"IF(V4110=\"\",\"\",COUNTIF($V$7:V4110,\"該当３\"))","v":""}]
[2246102007,"22",461,{"v":2,"d":"02"},{"v":7,"d":"007"},"静岡県","森町","飯田村（森町）","鴨谷",null,"","",{"$f":"IF(K4111=\"\",\"\",COUNTIF($K$7:K4111,\"ﾘｽﾄ１\"))","v":""},"","","","","","","",{"$f":"IF(S4111=\"\",\"\",COUNTIF($S$7:S4111,\"該当２\"))","v":""},"","",{"$f":"IF(V4111=\"\",\"\",COUNTIF($V$7:V4111,\"該当３\"))","v":""}]
[2246102009,"22",461,{"v":2,"d":"02"},{"v":9,"d":"009"},"静岡県","森町","飯田村（森町）","戸綿",null,"","",{"$f":"IF(K4113=\"\",\"\",COUNTIF($K$7:K4113,\"ﾘｽﾄ１\"))","v":""},"","","","","","","",{"$f":"IF(S4113=\"\",\"\",COUNTIF($S$7:S4113,\"該当２\"))","v":""},"","",{"$f":"IF(V4113=\"\",\"\",COUNTIF($V$7:V4113,\"該当３\"))","v":""}]
[2246102010,"22",461,{"v":2,"d":"02"},{"v":10,"d":"010"},"静岡県","森町","飯田村（森町）","南戸綿",null,"","",{"$f":"IF(K4114=\"\",\"\",COUNTIF($K$7:K4114,\"ﾘｽﾄ１\"))","v":""},"","","","","","","",{"$f":"IF(S4114=\"\",\"\",COUNTIF($S$7:S4114,\"該当２\"))","v":""},"","",{"$f":"IF(V4114=\"\",\"\",COUNTIF($V$7:V4114,\"該当３\"))","v":""}]
[2246103000,"22",461,{"v":3,"d":"03"},{"v":0,"d":"000"},"静岡県","森町","園田村",null,null,"","",{"$f":"IF(K4116=\"\",\"\",COUNTIF($K$7:K4116,\"ﾘｽﾄ１\"))","v":""},"","","","","","","",{"$f":"IF(S4116=\"\",\"\",COUNTIF($S$7:S4116,\"該当２\"))","v":""},"","",{"$f":"IF(V4116=\"\",\"\",COUNTIF($V$7:V4116,\"該当３\"))","v":""}]
[2246103001,"22",461,{"v":3,"d":"03"},{"v":1,"d":"001"},"静岡県","森町","園田村","草ケ谷",null,"","",{"$f":"IF(K4117=\"\",\"\",COUNTIF($K$7:K4117,\"ﾘｽﾄ１\"))","v":""},"","","","","","","",{"$f":"IF(S4117=\"\",\"\",COUNTIF($S$7:S4117,\"該当２\"))","v":""},"","",{"$f":"IF(V4117=\"\",\"\",COUNTIF($V$7:V4117,\"該当３\"))","v":""}]
[2246103003,"22",461,{"v":3,"d":"03"},{"v":3,"d":"003"},"静岡県","森町","園田村","円田上",null,"","",{"$f":"IF(K4119=\"\",\"\",COUNTIF($K$7:K4119,\"ﾘｽﾄ１\"))","v":""},"","","","","","","",{"$f":"IF(S4119=\"\",\"\",COUNTIF($S$7:S4119,\"該当２\"))","v":""},"","",{"$f":"IF(V4119=\"\",\"\",COUNTIF($V$7:V4119,\"該当３\"))","v":""}]
[2246103004,"22",461,{"v":3,"d":"03"},{"v":4,"d":"004"},"静岡県","森町","園田村","円田下",null,"","",{"$f":"IF(K4120=\"\",\"\",COUNTIF($K$7:K4120,\"ﾘｽﾄ１\"))","v":""},"","","","","","","",{"$f":"IF(S4120=\"\",\"\",COUNTIF($S$7:S4120,\"該当２\"))","v":""},"","",{"$f":"IF(V4120=\"\",\"\",COUNTIF($V$7:V4120,\"該当３\"))","v":""}]
[2246103006,"22",461,{"v":3,"d":"03"},{"v":6,"d":"006"},"静岡県","森町","園田村","中川上",null,"","",{"$f":"IF(K4122=\"\",\"\",COUNTIF($K$7:K4122,\"ﾘｽﾄ１\"))","v":""},"","","","","","","",{"$f":"IF(S4122=\"\",\"\",COUNTIF($S$7:S4122,\"該当２\"))","v":""},"","",{"$f":"IF(V4122=\"\",\"\",COUNTIF($V$7:V4122,\"該当３\"))","v":""}]
[2246103007,"22",461,{"v":3,"d":"03"},{"v":7,"d":"007"},"静岡県","森町","園田村","中川下",null,"","",{"$f":"IF(K4123=\"\",\"\",COUNTIF($K$7:K4123,\"ﾘｽﾄ１\"))","v":""},"","","","","","","",{"$f":"IF(S4123=\"\",\"\",COUNTIF($S$7:S4123,\"該当２\"))","v":""},"","",{"$f":"IF(V4123=\"\",\"\",COUNTIF($V$7:V4123,\"該当３\"))","v":""}]
[2246104000,"22",461,{"v":4,"d":"04"},{"v":0,"d":"000"},"静岡県","森町","一宮村",null,null,"","",{"$f":"IF(K4125=\"\",\"\",COUNTIF($K$7:K4125,\"ﾘｽﾄ１\"))","v":""},"","","","","","","",{"$f":"IF(S4125=\"\",\"\",COUNTIF($S$7:S4125,\"該当２\"))","v":""},"","",{"$f":"IF(V4125=\"\",\"\",COUNTIF($V$7:V4125,\"該当３\"))","v":""}]
[2246104001,"22",461,{"v":4,"d":"04"},{"v":1,"d":"001"},"静岡県","森町","一宮村","米倉",null,"","",{"$f":"IF(K4126=\"\",\"\",COUNTIF($K$7:K4126,\"ﾘｽﾄ１\"))","v":""},"","","","","","","",{"$f":"IF(S4126=\"\",\"\",COUNTIF($S$7:S4126,\"該当２\"))","v":""},"","",{"$f":"IF(V4126=\"\",\"\",COUNTIF($V$7:V4126,\"該当３\"))","v":""}]
[2246104003,"22",461,{"v":4,"d":"04"},{"v":3,"d":"003"},"静岡県","森町","一宮村","片瀬",null,"","",{"$f":"IF(K4128=\"\",\"\",COUNTIF($K$7:K4128,\"ﾘｽﾄ１\"))","v":""},"","","","","","","",{"$f":"IF(S4128=\"\",\"\",COUNTIF($S$7:S4128,\"該当２\"))","v":""},"","",{"$f":"IF(V4128=\"\",\"\",COUNTIF($V$7:V4128,\"該当３\"))","v":""}]
[2246104004,"22",461,{"v":4,"d":"04"},{"v":4,"d":"004"},"静岡県","森町","一宮村","赤根",null,"","",{"$f":"IF(K4129=\"\",\"\",COUNTIF($K$7:K4129,\"ﾘｽﾄ１\"))","v":""},"","","","","","","",{"$f":"IF(S4129=\"\",\"\",COUNTIF($S$7:S4129,\"該当２\"))","v":""},"","",{"$f":"IF(V4129=\"\",\"\",COUNTIF($V$7:V4129,\"該当３\"))","v":""}]
[2246104006,"22",461,{"v":4,"d":"04"},{"v":6,"d":"006"},"静岡県","森町","一宮村","宮代西",null,"","",{"$f":"IF(K4131=\"\",\"\",COUNTIF($K$7:K4131,\"ﾘｽﾄ１\"))","v":""},"","","","","","","",{"$f":"IF(S4131=\"\",\"\",COUNTIF($S$7:S4131,\"該当２\"))","v":""},"","",{"$f":"IF(V4131=\"\",\"\",COUNTIF($V$7:V4131,\"該当３\"))","v":""}]
[2246104007,"22",461,{"v":4,"d":"04"},{"v":7,"d":"007"},"静岡県","森町","一宮村","宮代東",null,"","",{"$f":"IF(K4132=\"\",\"\",COUNTIF($K$7:K4132,\"ﾘｽﾄ１\"))","v":""},"","","","","","","",{"$f":"IF(S4132=\"\",\"\",COUNTIF($S$7:S4132,\"該当２\"))","v":""},"","",{"$f":"IF(V4132=\"\",\"\",COUNTIF($V$7:V4132,\"該当３\"))","v":""}]
[2246105001,"22",461,{"v":5,"d":"05"},{"v":1,"d":"001"},"静岡県","森町","天方村","大鳥居",null,"","",{"$f":"IF(K4134=\"\",\"\",COUNTIF($K$7:K4134,\"ﾘｽﾄ１\"))","v":""},"","","","","","","",{"$f":"IF(S4134=\"\",\"\",COUNTIF($S$7:S4134,\"該当２\"))","v":""},"","",{"$f":"IF(V4134=\"\",\"\",COUNTIF($V$7:V4134,\"該当３\"))","v":""}]
[2246105002,"22",461,{"v":5,"d":"05"},{"v":2,"d":"002"},"静岡県","森町","天方村","葛布",null,"","",{"$f":"IF(K4135=\"\",\"\",COUNTIF($K$7:K4135,\"ﾘｽﾄ１\"))","v":""},"","","","","","","",{"$f":"IF(S4135=\"\",\"\",COUNTIF($S$7:S4135,\"該当２\"))","v":""},"","",{"$f":"IF(V4135=\"\",\"\",COUNTIF($V$7:V4135,\"該当３\"))","v":""}]
[2246105004,"22",461,{"v":5,"d":"05"},{"v":4,"d":"004"},"静岡県","森町","天方村","西俣",null,"","",{"$f":"IF(K4137=\"\",\"\",COUNTIF($K$7:K4137,\"ﾘｽﾄ１\"))","v":""},"","","","","","","",{"$f":"IF(S4137=\"\",\"\",COUNTIF($S$7:S4137,\"該当２\"))","v":""},"","",{"$f":"IF(V4137=\"\",\"\",COUNTIF($V$7:V4137,\"該当３\"))","v":""}]
[2246105005,"22",461,{"v":5,"d":"05"},{"v":5,"d":"005"},"静岡県","森町","天方村","黒石",null,"","",{"$f":"IF(K4138=\"\",\"\",COUNTIF($K$7:K4138,\"ﾘｽﾄ１\"))","v":""},"","","","","","","",{"$f":"IF(S4138=\"\",\"\",COUNTIF($S$7:S4138,\"該当２\"))","v":""},"","",{"$f":"IF(V4138=\"\",\"\",COUNTIF($V$7:V4138,\"該当３\"))","v":""}]
[2246105007,"22",461,{"v":5,"d":"05"},{"v":7,"d":"007"},"静岡県","森町","天方村","上問詰",null,"","",{"$f":"IF(K4140=\"\",\"\",COUNTIF($K$7:K4140,\"ﾘｽﾄ１\"))","v":""},"","","","","","","",{"$f":"IF(S4140=\"\",\"\",COUNTIF($S$7:S4140,\"該当２\"))","v":""},"","",{"$f":"IF(V4140=\"\",\"\",COUNTIF($V$7:V4140,\"該当３\"))","v":""}]
[2246105008,"22",461,{"v":5,"d":"05"},{"v":8,"d":"008"},"静岡県","森町","天方村","鍛治島",null,"","",{"$f":"IF(K4141=\"\",\"\",COUNTIF($K$7:K4141,\"ﾘｽﾄ１\"))","v":""},"","","","","","","",{"$f":"IF(S4141=\"\",\"\",COUNTIF($S$7:S4141,\"該当２\"))","v":""},"","",{"$f":"IF(V4141=\"\",\"\",COUNTIF($V$7:V4141,\"該当３\"))","v":""}]
[2246105010,"22",461,{"v":5,"d":"05"},{"v":10,"d":"010"},"静岡県","森町","天方村","亀久保二区",null,"","",{"$f":"IF(K4143=\"\",\"\",COUNTIF($K$7:K4143,\"ﾘｽﾄ１\"))","v":""},"","","","","","","",{"$f":"IF(S4143=\"\",\"\",COUNTIF($S$7:S4143,\"該当２\"))","v":""},"","",{"$f":"IF(V4143=\"\",\"\",COUNTIF($V$7:V4143,\"該当３\"))","v":""}]
[2246105011,"22",461,{"v":5,"d":"05"},{"v":11,"d":"011"},"静岡県","森町","天方村","亀久保三区",null,"","",{"$f":"IF(K4144=\"\",\"\",COUNTIF($K$7:K4144,\"ﾘｽﾄ１\"))","v":""},"","","","","","","",{"$f":"IF(S4144=\"\",\"\",COUNTIF($S$7:S4144,\"該当２\"))","v":""},"","",{"$f":"IF(V4144=\"\",\"\",COUNTIF($V$7:V4144,\"該当３\"))","v":""}]
[2246106001,"22",461,{"v":6,"d":"06"},{"v":1,"d":"001"},"静岡県","森町","三倉村","黒田",null,"","",{"$f":"IF(K4146=\"\",\"\",COUNTIF($K$7:K4146,\"ﾘｽﾄ１\"))","v":""},"","","","","","","",{"$f":"IF(S4146=\"\",\"\",COUNTIF($S$7:S4146,\"該当２\"))","v":""},"","",{"$f":"IF(V4146=\"\",\"\",COUNTIF($V$7:V4146,\"該当３\"))","v":""}]
[2246106002,"22",461,{"v":6,"d":"06"},{"v":2,"d":"002"},"静岡県","森町","三倉村","西ケ峯",null,"","",{"$f":"IF(K4147=\"\",\"\",COUNTIF($K$7:K4147,\"ﾘｽﾄ１\"))","v":""},"","","","","","","",{"$f":"IF(S4147=\"\",\"\",COUNTIF($S$7:S4147,\"該当２\"))","v":""},"","",{"$f":"IF(V4147=\"\",\"\",COUNTIF($V$7:V4147,\"該当３\"))","v":""}]
[2246106004,"22",461,{"v":6,"d":"06"},{"v":4,"d":"004"},"静岡県","森町","三倉村","三倉",null,"","",{"$f":"IF(K4149=\"\",\"\",COUNTIF($K$7:K4149,\"ﾘｽﾄ１\"))","v":""},"","","","","","","",{"$f":"IF(S4149=\"\",\"\",COUNTIF($S$7:S4149,\"該当２\"))","v":""},"","",{"$f":"IF(V4149=\"\",\"\",COUNTIF($V$7:V4149,\"該当３\"))","v":""}]
[2246106005,"22",461,{"v":6,"d":"06"},{"v":5,"d":"005"},"静岡県","森町","三倉村","中村",null,"","",{"$f":"IF(K4150=\"\",\"\",COUNTIF($K$7:K4150,\"ﾘｽﾄ１\"))","v":""},"","","","","","","",{"$f":"IF(S4150=\"\",\"\",COUNTIF($S$7:S4150,\"該当２\"))","v":""},"","",{"$f":"IF(V4150=\"\",\"\",COUNTIF($V$7:V4150,\"該当３\"))","v":""}]
[2246106007,"22",461,{"v":6,"d":"06"},{"v":7,"d":"007"},"静岡県","森町","三倉村","大河内",null,"","",{"$f":"IF(K4152=\"\",\"\",COUNTIF($K$7:K4152,\"ﾘｽﾄ１\"))","v":""},"","","","","","","",{"$f":"IF(S4152=\"\",\"\",COUNTIF($S$7:S4152,\"該当２\"))","v":""},"","",{"$f":"IF(V4152=\"\",\"\",COUNTIF($V$7:V4152,\"該当３\"))","v":""}]
[2246106008,"22",461,{"v":6,"d":"06"},{"v":8,"d":"008"},"静岡県","森町","三倉村","木根",null,"","",{"$f":"IF(K4153=\"\",\"\",COUNTIF($K$7:K4153,\"ﾘｽﾄ１\"))","v":""},"","","","","","","",{"$f":"IF(S4153=\"\",\"\",COUNTIF($S$7:S4153,\"該当２\"))","v":""},"","",{"$f":"IF(V4153=\"\",\"\",COUNTIF($V$7:V4153,\"該当３\"))","v":""}]
[2246106010,"22",461,{"v":6,"d":"06"},{"v":10,"d":"010"},"静岡県","森町","三倉村","乙丸",null,"","",{"$f":"IF(K4155=\"\",\"\",COUNTIF($K$7:K4155,\"ﾘｽﾄ１\"))","v":""},"","","","","","","",{"$f":"IF(S4155=\"\",\"\",COUNTIF($S$7:S4155,\"該当２\"))","v":""},"","",{"$f":"IF(V4155=\"\",\"\",COUNTIF($V$7:V4155,\"該当３\"))","v":""}]
[2246106011,"22",461,{"v":6,"d":"06"},{"v":11,"d":"011"},"静岡県","森町","三倉村","大府川",null,"","",{"$f":"IF(K4156=\"\",\"\",COUNTIF($K$7:K4156,\"ﾘｽﾄ１\"))","v":""},"","","","","","","",{"$f":"IF(S4156=\"\",\"\",COUNTIF($S$7:S4156,\"該当２\"))","v":""},"","",{"$f":"IF(V4156=\"\",\"\",COUNTIF($V$7:V4156,\"該当３\"))","v":""}]
[2246106013,"22",461,{"v":6,"d":"06"},{"v":13,"d":"013"},"静岡県","森町","三倉村","大久保",null,"","",{"$f":"IF(K4158=\"\",\"\",COUNTIF($K$7:K4158,\"ﾘｽﾄ１\"))","v":""},"","","","","","","",{"$f":"IF(S4158=\"\",\"\",COUNTIF($S$7:S4158,\"該当２\"))","v":""},"","",{"$f":"IF(V4158=\"\",\"\",COUNTIF($V$7:V4158,\"該当３\"))","v":""}]
[2246106014,"22",461,{"v":6,"d":"06"},{"v":14,"d":"014"},"静岡県","森町","三倉村","田能",null,"","",{"$f":"IF(K4159=\"\",\"\",COUNTIF($K$7:K4159,\"ﾘｽﾄ１\"))","v":""},"","","","","","","",{"$f":"IF(S4159=\"\",\"\",COUNTIF($S$7:S4159,\"該当２\"))","v":""},"","",{"$f":"IF(V4159=\"\",\"\",COUNTIF($V$7:V4159,\"該当３\"))","v":""}]
[2246107001,"22",461,{"v":7,"d":"07"},{"v":1,"d":"001"},"静岡県","森町","原泉村２－２","嵯塚",null,"","",{"$f":"IF(K4161=\"\",\"\",COUNTIF($K$7:K4161,\"ﾘｽﾄ１\"))","v":""},"","","","","","","",{"$f":"IF(S4161=\"\",\"\",COUNTIF($S$7:S4161,\"該当２\"))","v":""},"","",{"$f":"IF(V4161=\"\",\"\",COUNTIF($V$7:V4161,\"該当３\"))","v":""}]
[{"$nulls":10},"","",{"$f":"IF(K4162=\"\",\"\",COUNTIF($K$7:K4162,\"ﾘｽﾄ１\"))","v":""},"","","","","","","",{"$f":"IF(S4162=\"\",\"\",COUNTIF($S$7:S4162,\"該当２\"))","v":""},"","",{"$f":"IF(V4162=\"\",\"\",COUNTIF($V$7:V4162,\"該当３\"))","v":""}]
[{"$nulls":10},"","",{"$f":"IF(K4164=\"\",\"\",COUNTIF($K$7:K4164,\"ﾘｽﾄ１\"))","v":""},"","","","","","","",{"$f":"IF(S4164=\"\",\"\",COUNTIF($S$7:S4164,\"該当２\"))","v":""},"","",{"$f":"IF(V4164=\"\",\"\",COUNTIF($V$7:V4164,\"該当３\"))","v":""}]
[{"$nulls":10},"","",{"$f":"IF(K4165=\"\",\"\",COUNTIF($K$7:K4165,\"ﾘｽﾄ１\"))","v":""},"","","","","","","",{"$f":"IF(S4165=\"\",\"\",COUNTIF($S$7:S4165,\"該当２\"))","v":""},"","",{"$f":"IF(V4165=\"\",\"\",COUNTIF($V$7:V4165,\"該当３\"))","v":""}]
[{"$nulls":10},"","",{"$f":"IF(K4167=\"\",\"\",COUNTIF($K$7:K4167,\"ﾘｽﾄ１\"))","v":""},"","","","","","","",{"$f":"IF(S4167=\"\",\"\",COUNTIF($S$7:S4167,\"該当２\"))","v":""},"","",{"$f":"IF(V4167=\"\",\"\",COUNTIF($V$7:V4167,\"該当３\"))","v":""}]
[{"$nulls":10},"","",{"$f":"IF(K4168=\"\",\"\",COUNTIF($K$7:K4168,\"ﾘｽﾄ１\"))","v":""},"","","","","","","",{"$f":"IF(S4168=\"\",\"\",COUNTIF($S$7:S4168,\"該当２\"))","v":""},"","",{"$f":"IF(V4168=\"\",\"\",COUNTIF($V$7:V4168,\"該当３\"))","v":""}]
[{"$nulls":10},"","",{"$f":"IF(K4170=\"\",\"\",COUNTIF($K$7:K4170,\"ﾘｽﾄ１\"))","v":""},"","","","","","","",{"$f":"IF(S4170=\"\",\"\",COUNTIF($S$7:S4170,\"該当２\"))","v":""},"","",{"$f":"IF(V4170=\"\",\"\",COUNTIF($V$7:V4170,\"該当３\"))","v":""}]
[{"$nulls":10},{"$f":"IF(AND($C4171>0,$H4171=\"\"),\"ﾘｽﾄ１\",\"\")","v":""},"",{"$f":"IF(K4171=\"\",\"\",COUNTIF($K$7:K4171,\"ﾘｽﾄ１\"))","v":""},"","","","","","","",{"$f":"IF(S4171=\"\",\"\",COUNTIF($S$7:S4171,\"該当２\"))","v":""},"","",{"$f":"IF(V4171=\"\",\"\",COUNTIF($V$7:V4171,\"該当３\"))","v":""}]
[{"$nulls":10},"","",{"$f":"IF(K4173=\"\",\"\",COUNTIF($K$7:K4173,\"ﾘｽﾄ１\"))","v":""},"","","","","","","",{"$f":"IF(S4173=\"\",\"\",COUNTIF($S$7:S4173,\"該当２\"))","v":""},"","",{"$f":"IF(V4173=\"\",\"\",COUNTIF($V$7:V4173,\"該当３\"))","v":""}]
[{"$nulls":10},"","",{"$f":"IF(K4174=\"\",\"\",COUNTIF($K$7:K4174,\"ﾘｽﾄ１\"))","v":""},"","","","","","","",{"$f":"IF(S4174=\"\",\"\",COUNTIF($S$7:S4174,\"該当２\"))","v":""},"","",{"$f":"IF(V4174=\"\",\"\",COUNTIF($V$7:V4174,\"該当３\"))","v":""}]
[{"$nulls":10},"","",{"$f":"IF(K4176=\"\",\"\",COUNTIF($K$7:K4176,\"ﾘｽﾄ１\"))","v":""},"","","","","","","",{"$f":"IF(S4176=\"\",\"\",COUNTIF($S$7:S4176,\"該当２\"))","v":""},"","",{"$f":"IF(V4176=\"\",\"\",COUNTIF($V$7:V4176,\"該当３\"))","v":""}]
[{"$nulls":10},"","",{"$f":"IF(K4177=\"\",\"\",COUNTIF($K$7:K4177,\"ﾘｽﾄ１\"))","v":""},"","","","","","","",{"$f":"IF(S4177=\"\",\"\",COUNTIF($S$7:S4177,\"該当２\"))","v":""},"","",{"$f":"IF(V4177=\"\",\"\",COUNTIF($V$7:V4177,\"該当３\"))","v":""}]
[{"$nulls":10},"","",{"$f":"IF(K4179=\"\",\"\",COUNTIF($K$7:K4179,\"ﾘｽﾄ１\"))","v":""},"","","","","","","",{"$f":"IF(S4179=\"\",\"\",COUNTIF($S$7:S4179,\"該当２\"))","v":""},"","",{"$f":"IF(V4179=\"\",\"\",COUNTIF($V$7:V4179,\"該当３\"))","v":""}]
[{"$nulls":10},"","",{"$f":"IF(K4180=\"\",\"\",COUNTIF($K$7:K4180,\"ﾘｽﾄ１\"))","v":""},"","","","","","","",{"$f":"IF(S4180=\"\",\"\",COUNTIF($S$7:S4180,\"該当２\"))","v":""},"","",{"$f":"IF(V4180=\"\",\"\",COUNTIF($V$7:V4180,\"該当３\"))","v":""}]
[{"$nulls":10},"","",{"$f":"IF(K4182=\"\",\"\",COUNTIF($K$7:K4182,\"ﾘｽﾄ１\"))","v":""},"","","","","","","",{"$f":"IF(S4182=\"\",\"\",COUNTIF($S$7:S4182,\"該当２\"))","v":""},"","",{"$f":"IF(V4182=\"\",\"\",COUNTIF($V$7:V4182,\"該当３\"))","v":""}]
[{"$nulls":10},"","",{"$f":"IF(K4183=\"\",\"\",COUNTIF($K$7:K4183,\"ﾘｽﾄ１\"))","v":""},"","","","","","","",{"$f":"IF(S4183=\"\",\"\",COUNTIF($S$7:S4183,\"該当２\"))","v":""},"","",{"$f":"IF(V4183=\"\",\"\",COUNTIF($V$7:V4183,\"該当３\"))","v":""}]
[{"$nulls":10},"","",{"$f":"IF(K4185=\"\",\"\",COUNTIF($K$7:K4185,\"ﾘｽﾄ１\"))","v":""},"","","","","","","",{"$f":"IF(S4185=\"\",\"\",COUNTIF($S$7:S4185,\"該当２\"))","v":""},"","",{"$f":"IF(V4185=\"\",\"\",COUNTIF($V$7:V4185,\"該当３\"))","v":""}]
[{"$nulls":10},"","",{"$f":"IF(K4186=\"\",\"\",COUNTIF($K$7:K4186,\"ﾘｽﾄ１\"))","v":""},"","","","","","","",{"$f":"IF(S4186=\"\",\"\",COUNTIF($S$7:S4186,\"該当２\"))","v":""},"","",{"$f":"IF(V4186=\"\",\"\",COUNTIF($V$7:V4186,\"該当３\"))","v":""}]
[{"$nulls":10},"","",{"$f":"IF(K4188=\"\",\"\",COUNTIF($K$7:K4188,\"ﾘｽﾄ１\"))","v":""},"","","","","","","",{"$f":"IF(S4188=\"\",\"\",COUNTIF($S$7:S4188,\"該当２\"))","v":""},"","",{"$f":"IF(V4188=\"\",\"\",COUNTIF($V$7:V4188,\"該当３\"))","v":""}]
[{"$nulls":10},"","",{"$f":"IF(K4189=\"\",\"\",COUNTIF($K$7:K4189,\"ﾘｽﾄ１\"))","v":""},"","","","","","","",{"$f":"IF(S4189=\"\",\"\",COUNTIF($S$7:S4189,\"該当２\"))","v":""},"","",{"$f":"IF(V4189=\"\",\"\",COUNTIF($V$7:V4189,\"該当３\"))","v":""}]
[{"$nulls":10},"","",{"$f":"IF(K4191=\"\",\"\",COUNTIF($K$7:K4191,\"ﾘｽﾄ１\"))","v":""},"","","","","","","",{"$f":"IF(S4191=\"\",\"\",COUNTIF($S$7:S4191,\"該当２\"))","v":""},"","",{"$f":"IF(V4191=\"\",\"\",COUNTIF($V$7:V4191,\"該当３\"))","v":""}]
[{"$nulls":10},"","",{"$f":"IF(K4192=\"\",\"\",COUNTIF($K$7:K4192,\"ﾘｽﾄ１\"))","v":""},"","","","","","","",{"$f":"IF(S4192=\"\",\"\",COUNTIF($S$7:S4192,\"該当２\"))","v":""},"","",{"$f":"IF(V4192=\"\",\"\",COUNTIF($V$7:V4192,\"該当３\"))","v":""}]
[{"$nulls":10},"","",{"$f":"IF(K4194=\"\",\"\",COUNTIF($K$7:K4194,\"ﾘｽﾄ１\"))","v":""},"","","","","","","",{"$f":"IF(S4194=\"\",\"\",COUNTIF($S$7:S4194,\"該当２\"))","v":""},"","",{"$f":"IF(V4194=\"\",\"\",COUNTIF($V$7:V4194,\"該当３\"))","v":""}]
[{"$nulls":10},"","",{"$f":"IF(K4195=\"\",\"\",COUNTIF($K$7:K4195,\"ﾘｽﾄ１\"))","v":""},"","","","","","","",{"$f":"IF(S4195=\"\",\"\",COUNTIF($S$7:S4195,\"該当２\"))","v":""},"","",{"$f":"IF(V4195=\"\",\"\",COUNTIF($V$7:V4195,\"該当３\"))","v":""}]
[{"$nulls":10},"","",{"$f":"IF(K4197=\"\",\"\",COUNTIF($K$7:K4197,\"ﾘｽﾄ１\"))","v":""},"","","","","","","",{"$f":"IF(S4197=\"\",\"\",COUNTIF($S$7:S4197,\"該当２\"))","v":""},"","",{"$f":"IF(V4197=\"\",\"\",COUNTIF($V$7:V4197,\"該当３\"))","v":""}]
[{"$nulls":10},"","",{"$f":"IF(K4198=\"\",\"\",COUNTIF($K$7:K4198,\"ﾘｽﾄ１\"))","v":""},"","","","","","","",{"$f":"IF(S4198=\"\",\"\",COUNTIF($S$7:S4198,\"該当２\"))","v":""},"","",{"$f":"IF(V4198=\"\",\"\",COUNTIF($V$7:V4198,\"該当３\"))","v":""}]
[{"$nulls":10},"","",{"$f":"IF(K4200=\"\",\"\",COUNTIF($K$7:K4200,\"ﾘｽﾄ１\"))","v":""},"","","","","","","",{"$f":"IF(S4200=\"\",\"\",COUNTIF($S$7:S4200,\"該当２\"))","v":""},"","",{"$f":"IF(V4200=\"\",\"\",COUNTIF($V$7:V4200,\"該当３\"))","v":""}]
[{"$nulls":10},"","",{"$f":"IF(K4201=\"\",\"\",COUNTIF($K$7:K4201,\"ﾘｽﾄ１\"))","v":""},"","","","","","","",{"$f":"IF(S4201=\"\",\"\",COUNTIF($S$7:S4201,\"該当２\"))","v":""},"","",{"$f":"IF(V4201=\"\",\"\",COUNTIF($V$7:V4201,\"該当３\"))","v":""}]
[{"$nulls":10},"","",{"$f":"IF(K4203=\"\",\"\",COUNTIF($K$7:K4203,\"ﾘｽﾄ１\"))","v":""},"","","","","","","",{"$f":"IF(S4203=\"\",\"\",COUNTIF($S$7:S4203,\"該当２\"))","v":""},"","",{"$f":"IF(V4203=\"\",\"\",COUNTIF($V$7:V4203,\"該当３\"))","v":""}]
[{"$nulls":10},"","",{"$f":"IF(K4204=\"\",\"\",COUNTIF($K$7:K4204,\"ﾘｽﾄ１\"))","v":""},"","","","","","","",{"$f":"IF(S4204=\"\",\"\",COUNTIF($S$7:S4204,\"該当２\"))","v":""},"","",{"$f":"IF(V4204=\"\",\"\",COUNTIF($V$7:V4204,\"該当３\"))","v":""}]
[{"$nulls":10},"","",{"$f":"IF(K4206=\"\",\"\",COUNTIF($K$7:K4206,\"ﾘｽﾄ１\"))","v":""},"","","","","","","",{"$f":"IF(S4206=\"\",\"\",COUNTIF($S$7:S4206,\"該当２\"))","v":""},"","",{"$f":"IF(V4206=\"\",\"\",COUNTIF($V$7:V4206,\"該当３\"))","v":""}]
[{"$nulls":10},"","",{"$f":"IF(K4207=\"\",\"\",COUNTIF($K$7:K4207,\"ﾘｽﾄ１\"))","v":""},"","","","","","","",{"$f":"IF(S4207=\"\",\"\",COUNTIF($S$7:S4207,\"該当２\"))","v":""},"","",{"$f":"IF(V4207=\"\",\"\",COUNTIF($V$7:V4207,\"該当３\"))","v":""}]
[{"$nulls":10},"","",{"$f":"IF(K4209=\"\",\"\",COUNTIF($K$7:K4209,\"ﾘｽﾄ１\"))","v":""},"","","","","","","",{"$f":"IF(S4209=\"\",\"\",COUNTIF($S$7:S4209,\"該当２\"))","v":""},"","",{"$f":"IF(V4209=\"\",\"\",COUNTIF($V$7:V4209,\"該当３\"))","v":""}]
[{"$nulls":10},"","",{"$f":"IF(K4210=\"\",\"\",COUNTIF($K$7:K4210,\"ﾘｽﾄ１\"))","v":""},"","","","","","","",{"$f":"IF(S4210=\"\",\"\",COUNTIF($S$7:S4210,\"該当２\"))","v":""},"","",{"$f":"IF(V4210=\"\",\"\",COUNTIF($V$7:V4210,\"該当３\"))","v":""}]
[{"$nulls":10},"","",{"$f":"IF(K4212=\"\",\"\",COUNTIF($K$7:K4212,\"ﾘｽﾄ１\"))","v":""},"","","","","","","",{"$f":"IF(S4212=\"\",\"\",COUNTIF($S$7:S4212,\"該当２\"))","v":""},"","",{"$f":"IF(V4212=\"\",\"\",COUNTIF($V$7:V4212,\"該当３\"))","v":""}]
[{"$nulls":10},"","",{"$f":"IF(K4213=\"\",\"\",COUNTIF($K$7:K4213,\"ﾘｽﾄ１\"))","v":""},"","","","","","","",{"$f":"IF(S4213=\"\",\"\",COUNTIF($S$7:S4213,\"該当２\"))","v":""},"","",{"$f":"IF(V4213=\"\",\"\",COUNTIF($V$7:V4213,\"該当３\"))","v":""}]
[{"$nulls":10},"",{"$f":"IF(K4215=\"ﾘｽﾄ１\",G4215,\"\")","v":""},{"$f":"IF(K4215=\"\",\"\",COUNTIF($K$7:K4215,\"ﾘｽﾄ１\"))","v":""},{"$f":"IF(AND(D4215=0,E4215>0),\"同一区\",\"\")","v":""},{"$f":"IF(AND(EXACT($K$2,G4215),H4215>0),\"該当１\",\"\")","v":""},{"$f":"IF(O4215=\"該当１\",G4215,\"\")","v":""},{"$f":"IF(O4215=\"該当１\",\"ﾘｽﾄ2\",\"\")","v":""},{"$f":"IF(Q4215=\"ﾘｽﾄ2\",H4215,\"\")","v":""},{"$f":"IF(AND(Q4215=\"ﾘｽﾄ2\",OR(I4215=0,AND(N4215=\"同一区\",E4215=1))),\"該当２\",\"\")","v":""},{"$f":"IF(S4215=\"該当２\",H4215,\"\")","v":""},{"$f":"IF(S4215=\"\",\"\",COUNTIF($S$7:S4215,\"該当２\"))","v":""},{"$f":"IF(AND($S$2=H4215,E4215>0,E4215<998),\"該当３\",\"\")","v":""},{"$f":"IF(V4215=\"該当３\",I4215,\"\")","v":""},{"$f":"IF(V4215=\"\",\"\",COUNTIF($V$7:V4215,\"該当３\"))","v":""}]
[{"$nulls":10},"","",{"$f":"IF(K4216=\"\",\"\",COUNTIF($K$7:K4216,\"ﾘｽﾄ１\"))","v":""},"","","","","","","",{"$f":"IF(S4216=\"\",\"\",COUNTIF($S$7:S4216,\"該当２\"))","v":""},"","",{"$f":"IF(V4216=\"\",\"\",COUNTIF($V$7:V4216,\"該当３\"))","v":""}]
[{"$nulls":10},"","",{"$f":"IF(K4218=\"\",\"\",COUNTIF($K$7:K4218,\"ﾘｽﾄ１\"))","v":""},"","","","","","","",{"$f":"IF(S4218=\"\",\"\",COUNTIF($S$7:S4218,\"該当２\"))","v":""},"","",{"$f":"IF(V4218=\"\",\"\",COUNTIF($V$7:V4218,\"該当３\"))","v":""}]
[{"$nulls":10},"","",{"$f":"IF(K4219=\"\",\"\",COUNTIF($K$7:K4219,\"ﾘｽﾄ１\"))","v":""},"","","","","","","",{"$f":"IF(S4219=\"\",\"\",COUNTIF($S$7:S4219,\"該当２\"))","v":""},"","",{"$f":"IF(V4219=\"\",\"\",COUNTIF($V$7:V4219,\"該当３\"))","v":""}]
[{"$nulls":10},"","",{"$f":"IF(K4221=\"\",\"\",COUNTIF($K$7:K4221,\"ﾘｽﾄ１\"))","v":""},"","","","","","","",{"$f":"IF(S4221=\"\",\"\",COUNTIF($S$7:S4221,\"該当２\"))","v":""},"","",{"$f":"IF(V4221=\"\",\"\",COUNTIF($V$7:V4221,\"該当３\"))","v":""}]
[{"$nulls":10},"","",{"$f":"IF(K4222=\"\",\"\",COUNTIF($K$7:K4222,\"ﾘｽﾄ１\"))","v":""},"","","","","","","",{"$f":"IF(S4222=\"\",\"\",COUNTIF($S$7:S4222,\"該当２\"))","v":""},"","",{"$f":"IF(V4222=\"\",\"\",COUNTIF($V$7:V4222,\"該当３\"))","v":""}]
[{"$nulls":10},"","",{"$f":"IF(K4224=\"\",\"\",COUNTIF($K$7:K4224,\"ﾘｽﾄ１\"))","v":""},"","","","","","","",{"$f":"IF(S4224=\"\",\"\",COUNTIF($S$7:S4224,\"該当２\"))","v":""},"","",{"$f":"IF(V4224=\"\",\"\",COUNTIF($V$7:V4224,\"該当３\"))","v":""}]
[{"$nulls":10},"","",{"$f":"IF(K4225=\"\",\"\",COUNTIF($K$7:K4225,\"ﾘｽﾄ１\"))","v":""},"","","","","","","",{"$f":"IF(S4225=\"\",\"\",COUNTIF($S$7:S4225,\"該当２\"))","v":""},"","",{"$f":"IF(V4225=\"\",\"\",COUNTIF($V$7:V4225,\"該当３\"))","v":""}]
[{"$nulls":10},"","",{"$f":"IF(K4227=\"\",\"\",COUNTIF($K$7:K4227,\"ﾘｽﾄ１\"))","v":""},"","","","","","","",{"$f":"IF(S4227=\"\",\"\",COUNTIF($S$7:S4227,\"該当２\"))","v":""},"","",{"$f":"IF(V4227=\"\",\"\",COUNTIF($V$7:V4227,\"該当３\"))","v":""}]
[{"$nulls":10},"","",{"$f":"IF(K4228=\"\",\"\",COUNTIF($K$7:K4228,\"ﾘｽﾄ１\"))","v":""},"","","","","","","",{"$f":"IF(S4228=\"\",\"\",COUNTIF($S$7:S4228,\"該当２\"))","v":""},"","",{"$f":"IF(V4228=\"\",\"\",COUNTIF($V$7:V4228,\"該当３\"))","v":""}]
[{"$nulls":10},"","",{"$f":"IF(K4230=\"\",\"\",COUNTIF($K$7:K4230,\"ﾘｽﾄ１\"))","v":""},"","","","","","","",{"$f":"IF(S4230=\"\",\"\",COUNTIF($S$7:S4230,\"該当２\"))","v":""},"","",{"$f":"IF(V4230=\"\",\"\",COUNTIF($V$7:V4230,\"該当３\"))","v":""}]
[{"$nulls":10},"","",{"$f":"IF(K4231=\"\",\"\",COUNTIF($K$7:K4231,\"ﾘｽﾄ１\"))","v":""},"","","","","","","",{"$f":"IF(S4231=\"\",\"\",COUNTIF($S$7:S4231,\"該当２\"))","v":""},"","",{"$f":"IF(V4231=\"\",\"\",COUNTIF($V$7:V4231,\"該当３\"))","v":""}]
[{"$nulls":10},"","",{"$f":"IF(K4233=\"\",\"\",COUNTIF($K$7:K4233,\"ﾘｽﾄ１\"))","v":""},"","","","","","","",{"$f":"IF(S4233=\"\",\"\",COUNTIF($S$7:S4233,\"該当２\"))","v":""},"","",{"$f":"IF(V4233=\"\",\"\",COUNTIF($V$7:V4233,\"該当３\"))","v":""}]
[{"$nulls":10},"","",{"$f":"IF(K4234=\"\",\"\",COUNTIF($K$7:K4234,\"ﾘｽﾄ１\"))","v":""},"","","","","","","",{"$f":"IF(S4234=\"\",\"\",COUNTIF($S$7:S4234,\"該当２\"))","v":""},"","",{"$f":"IF(V4234=\"\",\"\",COUNTIF($V$7:V4234,\"該当３\"))","v":""}]
[{"$nulls":10},"","",{"$f":"IF(K4236=\"\",\"\",COUNTIF($K$7:K4236,\"ﾘｽﾄ１\"))","v":""},"","","","","","","",{"$f":"IF(S4236=\"\",\"\",COUNTIF($S$7:S4236,\"該当２\"))","v":""},"","",{"$f":"IF(V4236=\"\",\"\",COUNTIF($V$7:V4236,\"該当３\"))","v":""}]
[{"$nulls":10},"","",{"$f":"IF(K4237=\"\",\"\",COUNTIF($K$7:K4237,\"ﾘｽﾄ１\"))","v":""},"","","","","","","",{"$f":"IF(S4237=\"\",\"\",COUNTIF($S$7:S4237,\"該当２\"))","v":""},"","",{"$f":"IF(V4237=\"\",\"\",COUNTIF($V$7:V4237,\"該当３\"))","v":""}]
[{"$nulls":10},"","",{"$f":"IF(K4239=\"\",\"\",COUNTIF($K$7:K4239,\"ﾘｽﾄ１\"))","v":""},"","","","","","","",{"$f":"IF(S4239=\"\",\"\",COUNTIF($S$7:S4239,\"該当２\"))","v":""},"","",{"$f":"IF(V4239=\"\",\"\",COUNTIF($V$7:V4239,\"該当３\"))","v":""}]
[{"$nulls":10},"","",{"$f":"IF(K4240=\"\",\"\",COUNTIF($K$7:K4240,\"ﾘｽﾄ１\"))","v":""},"","","","","","","",{"$f":"IF(S4240=\"\",\"\",COUNTIF($S$7:S4240,\"該当２\"))","v":""},"","",{"$f":"IF(V4240=\"\",\"\",COUNTIF($V$7:V4240,\"該当３\"))","v":""}]
[{"$nulls":10},"","",{"$f":"IF(K4242=\"\",\"\",COUNTIF($K$7:K4242,\"ﾘｽﾄ１\"))","v":""},"","","","","","","",{"$f":"IF(S4242=\"\",\"\",COUNTIF($S$7:S4242,\"該当２\"))","v":""},"","",{"$f":"IF(V4242=\"\",\"\",COUNTIF($V$7:V4242,\"該当３\"))","v":""}]
[{"$nulls":10},"","",{"$f":"IF(K4243=\"\",\"\",COUNTIF($K$7:K4243,\"ﾘｽﾄ１\"))","v":""},"","","","","","","",{"$f":"IF(S4243=\"\",\"\",COUNTIF($S$7:S4243,\"該当２\"))","v":""},"","",{"$f":"IF(V4243=\"\",\"\",COUNTIF($V$7:V4243,\"該当３\"))","v":""}]
[{"$nulls":10},"","",{"$f":"IF(K4245=\"\",\"\",COUNTIF($K$7:K4245,\"ﾘｽﾄ１\"))","v":""},"","","","","","","",{"$f":"IF(S4245=\"\",\"\",COUNTIF($S$7:S4245,\"該当２\"))","v":""},"","",{"$f":"IF(V4245=\"\",\"\",COUNTIF($V$7:V4245,\"該当３\"))","v":""}]
[{"$nulls":10},"","",{"$f":"IF(K4246=\"\",\"\",COUNTIF($K$7:K4246,\"ﾘｽﾄ１\"))","v":""},"","","","","","","",{"$f":"IF(S4246=\"\",\"\",COUNTIF($S$7:S4246,\"該当２\"))","v":""},"","",{"$f":"IF(V4246=\"\",\"\",COUNTIF($V$7:V4246,\"該当３\"))","v":""}]
[{"$nulls":10},"","",{"$f":"IF(K4248=\"\",\"\",COUNTIF($K$7:K4248,\"ﾘｽﾄ１\"))","v":""},"","","","","","","",{"$f":"IF(S4248=\"\",\"\",COUNTIF($S$7:S4248,\"該当２\"))","v":""},"","",{"$f":"IF(V4248=\"\",\"\",COUNTIF($V$7:V4248,\"該当３\"))","v":""}]
[{"$nulls":10},"","",{"$f":"IF(K4249=\"\",\"\",COUNTIF($K$7:K4249,\"ﾘｽﾄ１\"))","v":""},"","","","","","","",{"$f":"IF(S4249=\"\",\"\",COUNTIF($S$7:S4249,\"該当２\"))","v":""},"","",{"$f":"IF(V4249=\"\",\"\",COUNTIF($V$7:V4249,\"該当３\"))","v":""}]
[{"$nulls":10},"","",{"$f":"IF(K4251=\"\",\"\",COUNTIF($K$7:K4251,\"ﾘｽﾄ１\"))","v":""},"","","","","","","",{"$f":"IF(S4251=\"\",\"\",COUNTIF($S$7:S4251,\"該当２\"))","v":""},"","",{"$f":"IF(V4251=\"\",\"\",COUNTIF($V$7:V4251,\"該当３\"))","v":""}]
[{"$nulls":10},"","",{"$f":"IF(K4252=\"\",\"\",COUNTIF($K$7:K4252,\"ﾘｽﾄ１\"))","v":""},"","","","","","","",{"$f":"IF(S4252=\"\",\"\",COUNTIF($S$7:S4252,\"該当２\"))","v":""},"","",{"$f":"IF(V4252=\"\",\"\",COUNTIF($V$7:V4252,\"該当３\"))","v":""}]
[{"$nulls":10},"","",{"$f":"IF(K4254=\"\",\"\",COUNTIF($K$7:K4254,\"ﾘｽﾄ１\"))","v":""},"","","","","","","",{"$f":"IF(S4254=\"\",\"\",COUNTIF($S$7:S4254,\"該当２\"))","v":""},"","",{"$f":"IF(V4254=\"\",\"\",COUNTIF($V$7:V4254,\"該当３\"))","v":""}]
[{"$nulls":10},"","",{"$f":"IF(K4255=\"\",\"\",COUNTIF($K$7:K4255,\"ﾘｽﾄ１\"))","v":""},"","","","","","","",{"$f":"IF(S4255=\"\",\"\",COUNTIF($S$7:S4255,\"該当２\"))","v":""},"","",{"$f":"IF(V4255=\"\",\"\",COUNTIF($V$7:V4255,\"該当３\"))","v":""}]
[{"$nulls":10},"","",{"$f":"IF(K4257=\"\",\"\",COUNTIF($K$7:K4257,\"ﾘｽﾄ１\"))","v":""},"","","","","","","",{"$f":"IF(S4257=\"\",\"\",COUNTIF($S$7:S4257,\"該当２\"))","v":""},"","",{"$f":"IF(V4257=\"\",\"\",COUNTIF($V$7:V4257,\"該当３\"))","v":""}]
[{"$nulls":10},"","",{"$f":"IF(K4258=\"\",\"\",COUNTIF($K$7:K4258,\"ﾘｽﾄ１\"))","v":""},"","","","","","","",{"$f":"IF(S4258=\"\",\"\",COUNTIF($S$7:S4258,\"該当２\"))","v":""},"","",{"$f":"IF(V4258=\"\",\"\",COUNTIF($V$7:V4258,\"該当３\"))","v":""}]
[{"$nulls":10},"","",{"$f":"IF(K4260=\"\",\"\",COUNTIF($K$7:K4260,\"ﾘｽﾄ１\"))","v":""},"","","","","","","",{"$f":"IF(S4260=\"\",\"\",COUNTIF($S$7:S4260,\"該当２\"))","v":""},"","",{"$f":"IF(V4260=\"\",\"\",COUNTIF($V$7:V4260,\"該当３\"))","v":""}]
[{"$nulls":10},"","",{"$f":"IF(K4261=\"\",\"\",COUNTIF($K$7:K4261,\"ﾘｽﾄ１\"))","v":""},"","","","","","","",{"$f":"IF(S4261=\"\",\"\",COUNTIF($S$7:S4261,\"該当２\"))","v":""},"","",{"$f":"IF(V4261=\"\",\"\",COUNTIF($V$7:V4261,\"該当３\"))","v":""}]
[{"$nulls":10},"","",{"$f":"IF(K4263=\"\",\"\",COUNTIF($K$7:K4263,\"ﾘｽﾄ１\"))","v":""},"","","","","","","",{"$f":"IF(S4263=\"\",\"\",COUNTIF($S$7:S4263,\"該当２\"))","v":""},"","",{"$f":"IF(V4263=\"\",\"\",COUNTIF($V$7:V4263,\"該当３\"))","v":""}]
[{"$nulls":10},"","",{"$f":"IF(K4264=\"\",\"\",COUNTIF($K$7:K4264,\"ﾘｽﾄ１\"))","v":""},"","","","","","","",{"$f":"IF(S4264=\"\",\"\",COUNTIF($S$7:S4264,\"該当２\"))","v":""},"","",{"$f":"IF(V4264=\"\",\"\",COUNTIF($V$7:V4264,\"該当３\"))","v":""}]
[{"$nulls":10},"","",{"$f":"IF(K4266=\"\",\"\",COUNTIF($K$7:K4266,\"ﾘｽﾄ１\"))","v":""},"","","","","","","",{"$f":"IF(S4266=\"\",\"\",COUNTIF($S$7:S4266,\"該当２\"))","v":""},"","",{"$f":"IF(V4266=\"\",\"\",COUNTIF($V$7:V4266,\"該当３\"))","v":""}]
[{"$nulls":10},"","",{"$f":"IF(K4267=\"\",\"\",COUNTIF($K$7:K4267,\"ﾘｽﾄ１\"))","v":""},"","","","","","","",{"$f":"IF(S4267=\"\",\"\",COUNTIF($S$7:S4267,\"該当２\"))","v":""},"","",{"$f":"IF(V4267=\"\",\"\",COUNTIF($V$7:V4267,\"該当３\"))","v":""}]
[{"$nulls":10},"","",{"$f":"IF(K4269=\"\",\"\",COUNTIF($K$7:K4269,\"ﾘｽﾄ１\"))","v":""},"","","","","","","",{"$f":"IF(S4269=\"\",\"\",COUNTIF($S$7:S4269,\"該当２\"))","v":""},"","",{"$f":"IF(V4269=\"\",\"\",COUNTIF($V$7:V4269,\"該当３\"))","v":""}]
[{"$nulls":10},"","",{"$f":"IF(K4270=\"\",\"\",COUNTIF($K$7:K4270,\"ﾘｽﾄ１\"))","v":""},"","","","","","","",{"$f":"IF(S4270=\"\",\"\",COUNTIF($S$7:S4270,\"該当２\"))","v":""},"","",{"$f":"IF(V4270=\"\",\"\",COUNTIF($V$7:V4270,\"該当３\"))","v":""}]
[{"$nulls":10},"","",{"$f":"IF(K4272=\"\",\"\",COUNTIF($K$7:K4272,\"ﾘｽﾄ１\"))","v":""},"","","","","","","",{"$f":"IF(S4272=\"\",\"\",COUNTIF($S$7:S4272,\"該当２\"))","v":""},"","",{"$f":"IF(V4272=\"\",\"\",COUNTIF($V$7:V4272,\"該当３\"))","v":""}]
[{"$nulls":10},"","",{"$f":"IF(K4273=\"\",\"\",COUNTIF($K$7:K4273,\"ﾘｽﾄ１\"))","v":""},"","","","","","","",{"$f":"IF(S4273=\"\",\"\",COUNTIF($S$7:S4273,\"該当２\"))","v":""},"","",{"$f":"IF(V4273=\"\",\"\",COUNTIF($V$7:V4273,\"該当３\"))","v":""}]
[{"$nulls":10},"","",{"$f":"IF(K4275=\"\",\"\",COUNTIF($K$7:K4275,\"ﾘｽﾄ１\"))","v":""},"","","","","","","",{"$f":"IF(S4275=\"\",\"\",COUNTIF($S$7:S4275,\"該当２\"))","v":""},"","",{"$f":"IF(V4275=\"\",\"\",COUNTIF($V$7:V4275,\"該当３\"))","v":""}]
[{"$nulls":10},"","",{"$f":"IF(K4276=\"\",\"\",COUNTIF($K$7:K4276,\"ﾘｽﾄ１\"))","v":""},"","","","","","","",{"$f":"IF(S4276=\"\",\"\",COUNTIF($S$7:S4276,\"該当２\"))","v":""},"","",{"$f":"IF(V4276=\"\",\"\",COUNTIF($V$7:V4276,\"該当３\"))","v":""}]
[{"$nulls":10},"","",{"$f":"IF(K4278=\"\",\"\",COUNTIF($K$7:K4278,\"ﾘｽﾄ１\"))","v":""},"","","","","","","",{"$f":"IF(S4278=\"\",\"\",COUNTIF($S$7:S4278,\"該当２\"))","v":""},"","",{"$f":"IF(V4278=\"\",\"\",COUNTIF($V$7:V4278,\"該当３\"))","v":""}]
[{"$nulls":10},"",{"$f":"IF(K4279=\"ﾘｽﾄ１\",G4279,\"\")","v":""},{"$f":"IF(K4279=\"\",\"\",COUNTIF($K$7:K4279,\"ﾘｽﾄ１\"))","v":""},{"$f":"IF(AND(D4279=0,E4279>0),\"同一区\",\"\")","v":""},{"$f":"IF(AND(EXACT($K$2,G4279),H4279>0),\"該当１\",\"\")","v":""},{"$f":"IF(O4279=\"該当１\",G4279,\"\")","v":""},{"$f":"IF(O4279=\"該当１\",\"ﾘｽﾄ2\",\"\")","v":""},{"$f":"IF(Q4279=\"ﾘｽﾄ2\",H4279,\"\")","v":""},{"$f":"IF(AND(Q4279=\"ﾘｽﾄ2\",OR(I4279=0,AND(N4279=\"同一区\",E4279=1))),\"該当２\",\"\")","v":""},{"$f":"IF(S4279=\"該当２\",H4279,\"\")","v":""},{"$f":"IF(S4279=\"\",\"\",COUNTIF($S$7:S4279,\"該当２\"))","v":""},{"$f":"IF(AND($S$2=H4279,E4279>0,E4279<998),\"該当３\",\"\")","v":""},{"$f":"IF(V4279=\"該当３\",I4279,\"\")","v":""},{"$f":"IF(V4279=\"\",\"\",COUNTIF($V$7:V4279,\"該当３\"))","v":""}]
[{"$nulls":10},"","",{"$f":"IF(K4281=\"\",\"\",COUNTIF($K$7:K4281,\"ﾘｽﾄ１\"))","v":""},"","","","","","","",{"$f":"IF(S4281=\"\",\"\",COUNTIF($S$7:S4281,\"該当２\"))","v":""},"","",{"$f":"IF(V4281=\"\",\"\",COUNTIF($V$7:V4281,\"該当３\"))","v":""}]
[{"$nulls":10},"","",{"$f":"IF(K4282=\"\",\"\",COUNTIF($K$7:K4282,\"ﾘｽﾄ１\"))","v":""},"","","","","","","",{"$f":"IF(S4282=\"\",\"\",COUNTIF($S$7:S4282,\"該当２\"))","v":""},"","",{"$f":"IF(V4282=\"\",\"\",COUNTIF($V$7:V4282,\"該当３\"))","v":""}]
[{"$nulls":10},"","",{"$f":"IF(K4284=\"\",\"\",COUNTIF($K$7:K4284,\"ﾘｽﾄ１\"))","v":""},"","","","","","","",{"$f":"IF(S4284=\"\",\"\",COUNTIF($S$7:S4284,\"該当２\"))","v":""},"","",{"$f":"IF(V4284=\"\",\"\",COUNTIF($V$7:V4284,\"該当３\"))","v":""}]
[{"$nulls":10},"","",{"$f":"IF(K4285=\"\",\"\",COUNTIF($K$7:K4285,\"ﾘｽﾄ１\"))","v":""},"","","","","","","",{"$f":"IF(S4285=\"\",\"\",COUNTIF($S$7:S4285,\"該当２\"))","v":""},"","",{"$f":"IF(V4285=\"\",\"\",COUNTIF($V$7:V4285,\"該当３\"))","v":""}]
[{"$nulls":10},"","",{"$f":"IF(K4287=\"\",\"\",COUNTIF($K$7:K4287,\"ﾘｽﾄ１\"))","v":""},"","","","","","","",{"$f":"IF(S4287=\"\",\"\",COUNTIF($S$7:S4287,\"該当２\"))","v":""},"","",{"$f":"IF(V4287=\"\",\"\",COUNTIF($V$7:V4287,\"該当３\"))","v":""}]
[{"$nulls":10},"","",{"$f":"IF(K4288=\"\",\"\",COUNTIF($K$7:K4288,\"ﾘｽﾄ１\"))","v":""},"","","","","","","",{"$f":"IF(S4288=\"\",\"\",COUNTIF($S$7:S4288,\"該当２\"))","v":""},"","",{"$f":"IF(V4288=\"\",\"\",COUNTIF($V$7:V4288,\"該当３\"))","v":""}]
[{"$nulls":10},"","",{"$f":"IF(K4290=\"\",\"\",COUNTIF($K$7:K4290,\"ﾘｽﾄ１\"))","v":""},"","","","","","","",{"$f":"IF(S4290=\"\",\"\",COUNTIF($S$7:S4290,\"該当２\"))","v":""},"","",{"$f":"IF(V4290=\"\",\"\",COUNTIF($V$7:V4290,\"該当３\"))","v":""}]
[{"$nulls":10},"","",{"$f":"IF(K4291=\"\",\"\",COUNTIF($K$7:K4291,\"ﾘｽﾄ１\"))","v":""},"","","","","","","",{"$f":"IF(S4291=\"\",\"\",COUNTIF($S$7:S4291,\"該当２\"))","v":""},"","",{"$f":"IF(V4291=\"\",\"\",COUNTIF($V$7:V4291,\"該当３\"))","v":""}]
[{"$nulls":10},"","",{"$f":"IF(K4293=\"\",\"\",COUNTIF($K$7:K4293,\"ﾘｽﾄ１\"))","v":""},"","","","","","","",{"$f":"IF(S4293=\"\",\"\",COUNTIF($S$7:S4293,\"該当２\"))","v":""},"","",{"$f":"IF(V4293=\"\",\"\",COUNTIF($V$7:V4293,\"該当３\"))","v":""}]
[{"$nulls":10},"","",{"$f":"IF(K4294=\"\",\"\",COUNTIF($K$7:K4294,\"ﾘｽﾄ１\"))","v":""},"","","","","","","",{"$f":"IF(S4294=\"\",\"\",COUNTIF($S$7:S4294,\"該当２\"))","v":""},"","",{"$f":"IF(V4294=\"\",\"\",COUNTIF($V$7:V4294,\"該当３\"))","v":""}]
[{"$nulls":10},"","",{"$f":"IF(K4296=\"\",\"\",COUNTIF($K$7:K4296,\"ﾘｽﾄ１\"))","v":""},"","","","","","","",{"$f":"IF(S4296=\"\",\"\",COUNTIF($S$7:S4296,\"該当２\"))","v":""},"","",{"$f":"IF(V4296=\"\",\"\",COUNTIF($V$7:V4296,\"該当３\"))","v":""}]
[{"$nulls":10},"","",{"$f":"IF(K4297=\"\",\"\",COUNTIF($K$7:K4297,\"ﾘｽﾄ１\"))","v":""},"","","","","","","",{"$f":"IF(S4297=\"\",\"\",COUNTIF($S$7:S4297,\"該当２\"))","v":""},"","",{"$f":"IF(V4297=\"\",\"\",COUNTIF($V$7:V4297,\"該当３\"))","v":""}]
[{"$nulls":10},{"$f":"IF(AND($C4299>0,$H4299=\"\"),\"ﾘｽﾄ１\",\"\")","v":""},"",{"$f":"IF(K4299=\"\",\"\",COUNTIF($K$7:K4299,\"ﾘｽﾄ１\"))","v":""},"","","","","","","",{"$f":"IF(S4299=\"\",\"\",COUNTIF($S$7:S4299,\"該当２\"))","v":""},"","",{"$f":"IF(V4299=\"\",\"\",COUNTIF($V$7:V4299,\"該当３\"))","v":""}]
[{"$nulls":10},"","",{"$f":"IF(K4300=\"\",\"\",COUNTIF($K$7:K4300,\"ﾘｽﾄ１\"))","v":""},"","","","","","","",{"$f":"IF(S4300=\"\",\"\",COUNTIF($S$7:S4300,\"該当２\"))","v":""},"","",{"$f":"IF(V4300=\"\",\"\",COUNTIF($V$7:V4300,\"該当３\"))","v":""}]
[{"$nulls":10},"","",{"$f":"IF(K4302=\"\",\"\",COUNTIF($K$7:K4302,\"ﾘｽﾄ１\"))","v":""},"","","","","","","",{"$f":"IF(S4302=\"\",\"\",COUNTIF($S$7:S4302,\"該当２\"))","v":""},"","",{"$f":"IF(V4302=\"\",\"\",COUNTIF($V$7:V4302,\"該当３\"))","v":""}]
[{"$nulls":10},"","",{"$f":"IF(K4303=\"\",\"\",COUNTIF($K$7:K4303,\"ﾘｽﾄ１\"))","v":""},"","","","","","","",{"$f":"IF(S4303=\"\",\"\",COUNTIF($S$7:S4303,\"該当２\"))","v":""},"","",{"$f":"IF(V4303=\"\",\"\",COUNTIF($V$7:V4303,\"該当３\"))","v":""}]
[{"$nulls":10},"","",{"$f":"IF(K4305=\"\",\"\",COUNTIF($K$7:K4305,\"ﾘｽﾄ１\"))","v":""},"","","","","","","",{"$f":"IF(S4305=\"\",\"\",COUNTIF($S$7:S4305,\"該当２\"))","v":""},"","",{"$f":"IF(V4305=\"\",\"\",COUNTIF($V$7:V4305,\"該当３\"))","v":""}]
[{"$nulls":10},"","",{"$f":"IF(K4306=\"\",\"\",COUNTIF($K$7:K4306,\"ﾘｽﾄ１\"))","v":""},"","","","","","","",{"$f":"IF(S4306=\"\",\"\",COUNTIF($S$7:S4306,\"該当２\"))","v":""},"","",{"$f":"IF(V4306=\"\",\"\",COUNTIF($V$7:V4306,\"該当３\"))","v":""}]
[{"$nulls":10},"","",{"$f":"IF(K4308=\"\",\"\",COUNTIF($K$7:K4308,\"ﾘｽﾄ１\"))","v":""},"","","","","","","",{"$f":"IF(S4308=\"\",\"\",COUNTIF($S$7:S4308,\"該当２\"))","v":""},"","",{"$f":"IF(V4308=\"\",\"\",COUNTIF($V$7:V4308,\"該当３\"))","v":""}]
[{"$nulls":10},"","",{"$f":"IF(K4309=\"\",\"\",COUNTIF($K$7:K4309,\"ﾘｽﾄ１\"))","v":""},"","","","","","","",{"$f":"IF(S4309=\"\",\"\",COUNTIF($S$7:S4309,\"該当２\"))","v":""},"","",{"$f":"IF(V4309=\"\",\"\",COUNTIF($V$7:V4309,\"該当３\"))","v":""}]
[{"$nulls":10},"","",{"$f":"IF(K4311=\"\",\"\",COUNTIF($K$7:K4311,\"ﾘｽﾄ１\"))","v":""},"","","","","","","",{"$f":"IF(S4311=\"\",\"\",COUNTIF($S$7:S4311,\"該当２\"))","v":""},"","",{"$f":"IF(V4311=\"\",\"\",COUNTIF($V$7:V4311,\"該当３\"))","v":""}]
[{"$nulls":10},"","",{"$f":"IF(K4312=\"\",\"\",COUNTIF($K$7:K4312,\"ﾘｽﾄ１\"))","v":""},"","","","","","","",{"$f":"IF(S4312=\"\",\"\",COUNTIF($S$7:S4312,\"該当２\"))","v":""},"","",{"$f":"IF(V4312=\"\",\"\",COUNTIF($V$7:V4312,\"該当３\"))","v":""}]
[{"$nulls":10},"","",{"$f":"IF(K4314=\"\",\"\",COUNTIF($K$7:K4314,\"ﾘｽﾄ１\"))","v":""},"","","","","","","",{"$f":"IF(S4314=\"\",\"\",COUNTIF($S$7:S4314,\"該当２\"))","v":""},"","",{"$f":"IF(V4314=\"\",\"\",COUNTIF($V$7:V4314,\"該当３\"))","v":""}]
[{"$nulls":10},"","",{"$f":"IF(K4315=\"\",\"\",COUNTIF($K$7:K4315,\"ﾘｽﾄ１\"))","v":""},"","","","","","","",{"$f":"IF(S4315=\"\",\"\",COUNTIF($S$7:S4315,\"該当２\"))","v":""},"","",{"$f":"IF(V4315=\"\",\"\",COUNTIF($V$7:V4315,\"該当３\"))","v":""}]
[{"$nulls":10},"","",{"$f":"IF(K4317=\"\",\"\",COUNTIF($K$7:K4317,\"ﾘｽﾄ１\"))","v":""},"","","","","","","",{"$f":"IF(S4317=\"\",\"\",COUNTIF($S$7:S4317,\"該当２\"))","v":""},"","",{"$f":"IF(V4317=\"\",\"\",COUNTIF($V$7:V4317,\"該当３\"))","v":""}]
[{"$nulls":10},"","",{"$f":"IF(K4318=\"\",\"\",COUNTIF($K$7:K4318,\"ﾘｽﾄ１\"))","v":""},"","","","","","","",{"$f":"IF(S4318=\"\",\"\",COUNTIF($S$7:S4318,\"該当２\"))","v":""},"","",{"$f":"IF(V4318=\"\",\"\",COUNTIF($V$7:V4318,\"該当３\"))","v":""}]
[{"$nulls":10},"","",{"$f":"IF(K4320=\"\",\"\",COUNTIF($K$7:K4320,\"ﾘｽﾄ１\"))","v":""},"","","","","","","",{"$f":"IF(S4320=\"\",\"\",COUNTIF($S$7:S4320,\"該当２\"))","v":""},"","",{"$f":"IF(V4320=\"\",\"\",COUNTIF($V$7:V4320,\"該当３\"))","v":""}]
[{"$nulls":10},"","",{"$f":"IF(K4321=\"\",\"\",COUNTIF($K$7:K4321,\"ﾘｽﾄ１\"))","v":""},"","","","","","","",{"$f":"IF(S4321=\"\",\"\",COUNTIF($S$7:S4321,\"該当２\"))","v":""},"","",{"$f":"IF(V4321=\"\",\"\",COUNTIF($V$7:V4321,\"該当３\"))","v":""}]
[{"$nulls":10},"","",{"$f":"IF(K4323=\"\",\"\",COUNTIF($K$7:K4323,\"ﾘｽﾄ１\"))","v":""},"","","","","","","",{"$f":"IF(S4323=\"\",\"\",COUNTIF($S$7:S4323,\"該当２\"))","v":""},"","",{"$f":"IF(V4323=\"\",\"\",COUNTIF($V$7:V4323,\"該当３\"))","v":""}]
[{"$nulls":10},"","",{"$f":"IF(K4324=\"\",\"\",COUNTIF($K$7:K4324,\"ﾘｽﾄ１\"))","v":""},"","","","","","","",{"$f":"IF(S4324=\"\",\"\",COUNTIF($S$7:S4324,\"該当２\"))","v":""},"","",{"$f":"IF(V4324=\"\",\"\",COUNTIF($V$7:V4324,\"該当３\"))","v":""}]
[{"$nulls":10},"","",{"$f":"IF(K4326=\"\",\"\",COUNTIF($K$7:K4326,\"ﾘｽﾄ１\"))","v":""},"","","","","","","",{"$f":"IF(S4326=\"\",\"\",COUNTIF($S$7:S4326,\"該当２\"))","v":""},"","",{"$f":"IF(V4326=\"\",\"\",COUNTIF($V$7:V4326,\"該当３\"))","v":""}]
[{"$nulls":10},"","",{"$f":"IF(K4327=\"\",\"\",COUNTIF($K$7:K4327,\"ﾘｽﾄ１\"))","v":""},"","","","","","","",{"$f":"IF(S4327=\"\",\"\",COUNTIF($S$7:S4327,\"該当２\"))","v":""},"","",{"$f":"IF(V4327=\"\",\"\",COUNTIF($V$7:V4327,\"該当３\"))","v":""}]
[{"$nulls":10},"","",{"$f":"IF(K4329=\"\",\"\",COUNTIF($K$7:K4329,\"ﾘｽﾄ１\"))","v":""},"","","","","","","",{"$f":"IF(S4329=\"\",\"\",COUNTIF($S$7:S4329,\"該当２\"))","v":""},"","",{"$f":"IF(V4329=\"\",\"\",COUNTIF($V$7:V4329,\"該当３\"))","v":""}]
[{"$nulls":10},"","",{"$f":"IF(K4330=\"\",\"\",COUNTIF($K$7:K4330,\"ﾘｽﾄ１\"))","v":""},"","","","","","","",{"$f":"IF(S4330=\"\",\"\",COUNTIF($S$7:S4330,\"該当２\"))","v":""},"","",{"$f":"IF(V4330=\"\",\"\",COUNTIF($V$7:V4330,\"該当３\"))","v":""}]
[{"$nulls":10},"","",{"$f":"IF(K4332=\"\",\"\",COUNTIF($K$7:K4332,\"ﾘｽﾄ１\"))","v":""},"","","","","","","",{"$f":"IF(S4332=\"\",\"\",COUNTIF($S$7:S4332,\"該当２\"))","v":""},"","",{"$f":"IF(V4332=\"\",\"\",COUNTIF($V$7:V4332,\"該当３\"))","v":""}]
[{"$nulls":10},"","",{"$f":"IF(K4333=\"\",\"\",COUNTIF($K$7:K4333,\"ﾘｽﾄ１\"))","v":""},"","","","","","","",{"$f":"IF(S4333=\"\",\"\",COUNTIF($S$7:S4333,\"該当２\"))","v":""},"","",{"$f":"IF(V4333=\"\",\"\",COUNTIF($V$7:V4333,\"該当３\"))","v":""}]
[{"$nulls":10},"","",{"$f":"IF(K4335=\"\",\"\",COUNTIF($K$7:K4335,\"ﾘｽﾄ１\"))","v":""},"","","","","","","",{"$f":"IF(S4335=\"\",\"\",COUNTIF($S$7:S4335,\"該当２\"))","v":""},"","",{"$f":"IF(V4335=\"\",\"\",COUNTIF($V$7:V4335,\"該当３\"))","v":""}]
[{"$nulls":10},"","",{"$f":"IF(K4336=\"\",\"\",COUNTIF($K$7:K4336,\"ﾘｽﾄ１\"))","v":""},"","","","","","","",{"$f":"IF(S4336=\"\",\"\",COUNTIF($S$7:S4336,\"該当２\"))","v":""},"","",{"$f":"IF(V4336=\"\",\"\",COUNTIF($V$7:V4336,\"該当３\"))","v":""}]
[{"$nulls":10},"","",{"$f":"IF(K4338=\"\",\"\",COUNTIF($K$7:K4338,\"ﾘｽﾄ１\"))","v":""},"","","","","","","",{"$f":"IF(S4338=\"\",\"\",COUNTIF($S$7:S4338,\"該当２\"))","v":""},"","",{"$f":"IF(V4338=\"\",\"\",COUNTIF($V$7:V4338,\"該当３\"))","v":""}]
[{"$nulls":10},"","",{"$f":"IF(K4339=\"\",\"\",COUNTIF($K$7:K4339,\"ﾘｽﾄ１\"))","v":""},"","","","","","","",{"$f":"IF(S4339=\"\",\"\",COUNTIF($S$7:S4339,\"該当２\"))","v":""},"","",{"$f":"IF(V4339=\"\",\"\",COUNTIF($V$7:V4339,\"該当３\"))","v":""}]
[{"$nulls":10},"","",{"$f":"IF(K4341=\"\",\"\",COUNTIF($K$7:K4341,\"ﾘｽﾄ１\"))","v":""},"","","","","","","",{"$f":"IF(S4341=\"\",\"\",COUNTIF($S$7:S4341,\"該当２\"))","v":""},"","",{"$f":"IF(V4341=\"\",\"\",COUNTIF($V$7:V4341,\"該当３\"))","v":""}]
[{"$nulls":10},"","",{"$f":"IF(K4342=\"\",\"\",COUNTIF($K$7:K4342,\"ﾘｽﾄ１\"))","v":""},"","","","","","","",{"$f":"IF(S4342=\"\",\"\",COUNTIF($S$7:S4342,\"該当２\"))","v":""},"","",{"$f":"IF(V4342=\"\",\"\",COUNTIF($V$7:V4342,\"該当３\"))","v":""}]
[{"$nulls":10},"","",{"$f":"IF(K4344=\"\",\"\",COUNTIF($K$7:K4344,\"ﾘｽﾄ１\"))","v":""},"","","","","","","",{"$f":"IF(S4344=\"\",\"\",COUNTIF($S$7:S4344,\"該当２\"))","v":""},"","",{"$f":"IF(V4344=\"\",\"\",COUNTIF($V$7:V4344,\"該当３\"))","v":""}]
[{"$nulls":10},"","",{"$f":"IF(K4345=\"\",\"\",COUNTIF($K$7:K4345,\"ﾘｽﾄ１\"))","v":""},"","","","","","","",{"$f":"IF(S4345=\"\",\"\",COUNTIF($S$7:S4345,\"該当２\"))","v":""},"","",{"$f":"IF(V4345=\"\",\"\",COUNTIF($V$7:V4345,\"該当３\"))","v":""}]
[{"$nulls":10},"","",{"$f":"IF(K4347=\"\",\"\",COUNTIF($K$7:K4347,\"ﾘｽﾄ１\"))","v":""},"","","","","","","",{"$f":"IF(S4347=\"\",\"\",COUNTIF($S$7:S4347,\"該当２\"))","v":""},"","",{"$f":"IF(V4347=\"\",\"\",COUNTIF($V$7:V4347,\"該当３\"))","v":""}]
[{"$nulls":10},"","",{"$f":"IF(K4348=\"\",\"\",COUNTIF($K$7:K4348,\"ﾘｽﾄ１\"))","v":""},"","","","","","","",{"$f":"IF(S4348=\"\",\"\",COUNTIF($S$7:S4348,\"該当２\"))","v":""},"","",{"$f":"IF(V4348=\"\",\"\",COUNTIF($V$7:V4348,\"該当３\"))","v":""}]
[{"$nulls":10},"","",{"$f":"IF(K4350=\"\",\"\",COUNTIF($K$7:K4350,\"ﾘｽﾄ１\"))","v":""},"","","","","","","",{"$f":"IF(S4350=\"\",\"\",COUNTIF($S$7:S4350,\"該当２\"))","v":""},"","",{"$f":"IF(V4350=\"\",\"\",COUNTIF($V$7:V4350,\"該当３\"))","v":""}]
[{"$nulls":10},"","",{"$f":"IF(K4351=\"\",\"\",COUNTIF($K$7:K4351,\"ﾘｽﾄ１\"))","v":""},"","","","","","","",{"$f":"IF(S4351=\"\",\"\",COUNTIF($S$7:S4351,\"該当２\"))","v":""},"","",{"$f":"IF(V4351=\"\",\"\",COUNTIF($V$7:V4351,\"該当３\"))","v":""}]
[{"$nulls":10},"","",{"$f":"IF(K4353=\"\",\"\",COUNTIF($K$7:K4353,\"ﾘｽﾄ１\"))","v":""},"","","","","","","",{"$f":"IF(S4353=\"\",\"\",COUNTIF($S$7:S4353,\"該当２\"))","v":""},"","",{"$f":"IF(V4353=\"\",\"\",COUNTIF($V$7:V4353,\"該当３\"))","v":""}]
[{"$nulls":10},"","",{"$f":"IF(K4354=\"\",\"\",COUNTIF($K$7:K4354,\"ﾘｽﾄ１\"))","v":""},"","","","","","","",{"$f":"IF(S4354=\"\",\"\",COUNTIF($S$7:S4354,\"該当２\"))","v":""},"","",{"$f":"IF(V4354=\"\",\"\",COUNTIF($V$7:V4354,\"該当３\"))","v":""}]
[{"$nulls":10},"","",{"$f":"IF(K4356=\"\",\"\",COUNTIF($K$7:K4356,\"ﾘｽﾄ１\"))","v":""},"","","","","","","",{"$f":"IF(S4356=\"\",\"\",COUNTIF($S$7:S4356,\"該当２\"))","v":""},"","",{"$f":"IF(V4356=\"\",\"\",COUNTIF($V$7:V4356,\"該当３\"))","v":""}]
[{"$nulls":10},"","",{"$f":"IF(K4357=\"\",\"\",COUNTIF($K$7:K4357,\"ﾘｽﾄ１\"))","v":""},"","","","","","","",{"$f":"IF(S4357=\"\",\"\",COUNTIF($S$7:S4357,\"該当２\"))","v":""},"","",{"$f":"IF(V4357=\"\",\"\",COUNTIF($V$7:V4357,\"該当３\"))","v":""}]
[{"$nulls":10},"","",{"$f":"IF(K4359=\"\",\"\",COUNTIF($K$7:K4359,\"ﾘｽﾄ１\"))","v":""},"","","","","","","",{"$f":"IF(S4359=\"\",\"\",COUNTIF($S$7:S4359,\"該当２\"))","v":""},"","",{"$f":"IF(V4359=\"\",\"\",COUNTIF($V$7:V4359,\"該当３\"))","v":""}]
[{"$nulls":10},"","",{"$f":"IF(K4360=\"\",\"\",COUNTIF($K$7:K4360,\"ﾘｽﾄ１\"))","v":""},"","","","","","","",{"$f":"IF(S4360=\"\",\"\",COUNTIF($S$7:S4360,\"該当２\"))","v":""},"","",{"$f":"IF(V4360=\"\",\"\",COUNTIF($V$7:V4360,\"該当３\"))","v":""}]
[{"$nulls":10},"","",{"$f":"IF(K4362=\"\",\"\",COUNTIF($K$7:K4362,\"ﾘｽﾄ１\"))","v":""},"","","","","","","",{"$f":"IF(S4362=\"\",\"\",COUNTIF($S$7:S4362,\"該当２\"))","v":""},"","",{"$f":"IF(V4362=\"\",\"\",COUNTIF($V$7:V4362,\"該当３\"))","v":""}]
[{"$nulls":10},{"$f":"IF(AND($C4363>0,$H4363=\"\"),\"ﾘｽﾄ１\",\"\")","v":""},"",{"$f":"IF(K4363=\"\",\"\",COUNTIF($K$7:K4363,\"ﾘｽﾄ１\"))","v":""},"","","","","","","",{"$f":"IF(S4363=\"\",\"\",COUNTIF($S$7:S4363,\"該当２\"))","v":""},"","",{"$f":"IF(V4363=\"\",\"\",COUNTIF($V$7:V4363,\"該当３\"))","v":""}]
[{"$nulls":10},"","",{"$f":"IF(K4365=\"\",\"\",COUNTIF($K$7:K4365,\"ﾘｽﾄ１\"))","v":""},"","","","","","","",{"$f":"IF(S4365=\"\",\"\",COUNTIF($S$7:S4365,\"該当２\"))","v":""},"","",{"$f":"IF(V4365=\"\",\"\",COUNTIF($V$7:V4365,\"該当３\"))","v":""}]
[{"$nulls":10},"","",{"$f":"IF(K4366=\"\",\"\",COUNTIF($K$7:K4366,\"ﾘｽﾄ１\"))","v":""},"","","","","","","",{"$f":"IF(S4366=\"\",\"\",COUNTIF($S$7:S4366,\"該当２\"))","v":""},"","",{"$f":"IF(V4366=\"\",\"\",COUNTIF($V$7:V4366,\"該当３\"))","v":""}]
[{"$nulls":10},"","",{"$f":"IF(K4368=\"\",\"\",COUNTIF($K$7:K4368,\"ﾘｽﾄ１\"))","v":""},"","","","","","","",{"$f":"IF(S4368=\"\",\"\",COUNTIF($S$7:S4368,\"該当２\"))","v":""},"","",{"$f":"IF(V4368=\"\",\"\",COUNTIF($V$7:V4368,\"該当３\"))","v":""}]
[{"$nulls":10},"","",{"$f":"IF(K4369=\"\",\"\",COUNTIF($K$7:K4369,\"ﾘｽﾄ１\"))","v":""},"","","","","","","",{"$f":"IF(S4369=\"\",\"\",COUNTIF($S$7:S4369,\"該当２\"))","v":""},"","",{"$f":"IF(V4369=\"\",\"\",COUNTIF($V$7:V4369,\"該当３\"))","v":""}]
[{"$nulls":10},"","",{"$f":"IF(K4371=\"\",\"\",COUNTIF($K$7:K4371,\"ﾘｽﾄ１\"))","v":""},"","","","","","","",{"$f":"IF(S4371=\"\",\"\",COUNTIF($S$7:S4371,\"該当２\"))","v":""},"","",{"$f":"IF(V4371=\"\",\"\",COUNTIF($V$7:V4371,\"該当３\"))","v":""}]
[{"$nulls":10},"","",{"$f":"IF(K4372=\"\",\"\",COUNTIF($K$7:K4372,\"ﾘｽﾄ１\"))","v":""},"","","","","","","",{"$f":"IF(S4372=\"\",\"\",COUNTIF($S$7:S4372,\"該当２\"))","v":""},"","",{"$f":"IF(V4372=\"\",\"\",COUNTIF($V$7:V4372,\"該当３\"))","v":""}]
[{"$nulls":10},"","",{"$f":"IF(K4374=\"\",\"\",COUNTIF($K$7:K4374,\"ﾘｽﾄ１\"))","v":""},"","","","","","","",{"$f":"IF(S4374=\"\",\"\",COUNTIF($S$7:S4374,\"該当２\"))","v":""},"","",{"$f":"IF(V4374=\"\",\"\",COUNTIF($V$7:V4374,\"該当３\"))","v":""}]
[{"$nulls":10},"","",{"$f":"IF(K4375=\"\",\"\",COUNTIF($K$7:K4375,\"ﾘｽﾄ１\"))","v":""},"","","","","","","",{"$f":"IF(S4375=\"\",\"\",COUNTIF($S$7:S4375,\"該当２\"))","v":""},"","",{"$f":"IF(V4375=\"\",\"\",COUNTIF($V$7:V4375,\"該当３\"))","v":""}]
[{"$nulls":10},"","",{"$f":"IF(K4377=\"\",\"\",COUNTIF($K$7:K4377,\"ﾘｽﾄ１\"))","v":""},"","","","","","","",{"$f":"IF(S4377=\"\",\"\",COUNTIF($S$7:S4377,\"該当２\"))","v":""},"","",{"$f":"IF(V4377=\"\",\"\",COUNTIF($V$7:V4377,\"該当３\"))","v":""}]
[{"$nulls":10},"","",{"$f":"IF(K4378=\"\",\"\",COUNTIF($K$7:K4378,\"ﾘｽﾄ１\"))","v":""},"","","","","","","",{"$f":"IF(S4378=\"\",\"\",COUNTIF($S$7:S4378,\"該当２\"))","v":""},"","",{"$f":"IF(V4378=\"\",\"\",COUNTIF($V$7:V4378,\"該当３\"))","v":""}]
[{"$nulls":10},"","",{"$f":"IF(K4380=\"\",\"\",COUNTIF($K$7:K4380,\"ﾘｽﾄ１\"))","v":""},"","","","","","","",{"$f":"IF(S4380=\"\",\"\",COUNTIF($S$7:S4380,\"該当２\"))","v":""},"","",{"$f":"IF(V4380=\"\",\"\",COUNTIF($V$7:V4380,\"該当３\"))","v":""}]
[{"$nulls":10},"","",{"$f":"IF(K4381=\"\",\"\",COUNTIF($K$7:K4381,\"ﾘｽﾄ１\"))","v":""},"","","","","","","",{"$f":"IF(S4381=\"\",\"\",COUNTIF($S$7:S4381,\"該当２\"))","v":""},"","",{"$f":"IF(V4381=\"\",\"\",COUNTIF($V$7:V4381,\"該当３\"))","v":""}]
[{"$nulls":10},"","",{"$f":"IF(K4383=\"\",\"\",COUNTIF($K$7:K4383,\"ﾘｽﾄ１\"))","v":""},"","","","","","","",{"$f":"IF(S4383=\"\",\"\",COUNTIF($S$7:S4383,\"該当２\"))","v":""},"","",{"$f":"IF(V4383=\"\",\"\",COUNTIF($V$7:V4383,\"該当３\"))","v":""}]
[{"$nulls":10},"","",{"$f":"IF(K4384=\"\",\"\",COUNTIF($K$7:K4384,\"ﾘｽﾄ１\"))","v":""},"","","","","","","",{"$f":"IF(S4384=\"\",\"\",COUNTIF($S$7:S4384,\"該当２\"))","v":""},"","",{"$f":"IF(V4384=\"\",\"\",COUNTIF($V$7:V4384,\"該当３\"))","v":""}]
[{"$nulls":10},"","",{"$f":"IF(K4386=\"\",\"\",COUNTIF($K$7:K4386,\"ﾘｽﾄ１\"))","v":""},"","","","","","","",{"$f":"IF(S4386=\"\",\"\",COUNTIF($S$7:S4386,\"該当２\"))","v":""},"","",{"$f":"IF(V4386=\"\",\"\",COUNTIF($V$7:V4386,\"該当３\"))","v":""}]
[{"$nulls":10},"","",{"$f":"IF(K4387=\"\",\"\",COUNTIF($K$7:K4387,\"ﾘｽﾄ１\"))","v":""},"","","","","","","",{"$f":"IF(S4387=\"\",\"\",COUNTIF($S$7:S4387,\"該当２\"))","v":""},"","",{"$f":"IF(V4387=\"\",\"\",COUNTIF($V$7:V4387,\"該当３\"))","v":""}]
[{"$nulls":10},"","",{"$f":"IF(K4389=\"\",\"\",COUNTIF($K$7:K4389,\"ﾘｽﾄ１\"))","v":""},"","","","","","","",{"$f":"IF(S4389=\"\",\"\",COUNTIF($S$7:S4389,\"該当２\"))","v":""},"","",{"$f":"IF(V4389=\"\",\"\",COUNTIF($V$7:V4389,\"該当３\"))","v":""}]
[{"$nulls":10},"","",{"$f":"IF(K4390=\"\",\"\",COUNTIF($K$7:K4390,\"ﾘｽﾄ１\"))","v":""},"","","","","","","",{"$f":"IF(S4390=\"\",\"\",COUNTIF($S$7:S4390,\"該当２\"))","v":""},"","",{"$f":"IF(V4390=\"\",\"\",COUNTIF($V$7:V4390,\"該当３\"))","v":""}]
[{"$nulls":10},"","",{"$f":"IF(K4392=\"\",\"\",COUNTIF($K$7:K4392,\"ﾘｽﾄ１\"))","v":""},"","","","","","","",{"$f":"IF(S4392=\"\",\"\",COUNTIF($S$7:S4392,\"該当２\"))","v":""},"","",{"$f":"IF(V4392=\"\",\"\",COUNTIF($V$7:V4392,\"該当３\"))","v":""}]
[{"$nulls":10},"","",{"$f":"IF(K4393=\"\",\"\",COUNTIF($K$7:K4393,\"ﾘｽﾄ１\"))","v":""},"","","","","","","",{"$f":"IF(S4393=\"\",\"\",COUNTIF($S$7:S4393,\"該当２\"))","v":""},"","",{"$f":"IF(V4393=\"\",\"\",COUNTIF($V$7:V4393,\"該当３\"))","v":""}]
[{"$nulls":10},"","",{"$f":"IF(K4395=\"\",\"\",COUNTIF($K$7:K4395,\"ﾘｽﾄ１\"))","v":""},"","","","","","","",{"$f":"IF(S4395=\"\",\"\",COUNTIF($S$7:S4395,\"該当２\"))","v":""},"","",{"$f":"IF(V4395=\"\",\"\",COUNTIF($V$7:V4395,\"該当３\"))","v":""}]
[{"$nulls":10},"","",{"$f":"IF(K4396=\"\",\"\",COUNTIF($K$7:K4396,\"ﾘｽﾄ１\"))","v":""},"","","","","","","",{"$f":"IF(S4396=\"\",\"\",COUNTIF($S$7:S4396,\"該当２\"))","v":""},"","",{"$f":"IF(V4396=\"\",\"\",COUNTIF($V$7:V4396,\"該当３\"))","v":""}]
[{"$nulls":10},"","",{"$f":"IF(K4398=\"\",\"\",COUNTIF($K$7:K4398,\"ﾘｽﾄ１\"))","v":""},"","","","","","","",{"$f":"IF(S4398=\"\",\"\",COUNTIF($S$7:S4398,\"該当２\"))","v":""},"","",{"$f":"IF(V4398=\"\",\"\",COUNTIF($V$7:V4398,\"該当３\"))","v":""}]
[{"$nulls":10},"","",{"$f":"IF(K4399=\"\",\"\",COUNTIF($K$7:K4399,\"ﾘｽﾄ１\"))","v":""},"","","","","","","",{"$f":"IF(S4399=\"\",\"\",COUNTIF($S$7:S4399,\"該当２\"))","v":""},"","",{"$f":"IF(V4399=\"\",\"\",COUNTIF($V$7:V4399,\"該当３\"))","v":""}]
[{"$nulls":10},"","",{"$f":"IF(K4401=\"\",\"\",COUNTIF($K$7:K4401,\"ﾘｽﾄ１\"))","v":""},"","","","","","","",{"$f":"IF(S4401=\"\",\"\",COUNTIF($S$7:S4401,\"該当２\"))","v":""},"","",{"$f":"IF(V4401=\"\",\"\",COUNTIF($V$7:V4401,\"該当３\"))","v":""}]
[{"$nulls":10},"","",{"$f":"IF(K4402=\"\",\"\",COUNTIF($K$7:K4402,\"ﾘｽﾄ１\"))","v":""},"","","","","","","",{"$f":"IF(S4402=\"\",\"\",COUNTIF($S$7:S4402,\"該当２\"))","v":""},"","",{"$f":"IF(V4402=\"\",\"\",COUNTIF($V$7:V4402,\"該当３\"))","v":""}]
[{"$nulls":10},"","",{"$f":"IF(K4404=\"\",\"\",COUNTIF($K$7:K4404,\"ﾘｽﾄ１\"))","v":""},"","","","","","","",{"$f":"IF(S4404=\"\",\"\",COUNTIF($S$7:S4404,\"該当２\"))","v":""},"","",{"$f":"IF(V4404=\"\",\"\",COUNTIF($V$7:V4404,\"該当３\"))","v":""}]
[{"$nulls":10},"","",{"$f":"IF(K4405=\"\",\"\",COUNTIF($K$7:K4405,\"ﾘｽﾄ１\"))","v":""},"","","","","","","",{"$f":"IF(S4405=\"\",\"\",COUNTIF($S$7:S4405,\"該当２\"))","v":""},"","",{"$f":"IF(V4405=\"\",\"\",COUNTIF($V$7:V4405,\"該当３\"))","v":""}]
[{"$nulls":10},"",{"$f":"IF(K4407=\"ﾘｽﾄ１\",G4407,\"\")","v":""},{"$f":"IF(K4407=\"\",\"\",COUNTIF($K$7:K4407,\"ﾘｽﾄ１\"))","v":""},{"$f":"IF(AND(D4407=0,E4407>0),\"同一区\",\"\")","v":""},{"$f":"IF(AND(EXACT($K$2,G4407),H4407>0),\"該当１\",\"\")","v":""},{"$f":"IF(O4407=\"該当１\",G4407,\"\")","v":""},{"$f":"IF(O4407=\"該当１\",\"ﾘｽﾄ2\",\"\")","v":""},{"$f":"IF(Q4407=\"ﾘｽﾄ2\",H4407,\"\")","v":""},{"$f":"IF(AND(Q4407=\"ﾘｽﾄ2\",OR(I4407=0,AND(N4407=\"同一区\",E4407=1))),\"該当２\",\"\")","v":""},{"$f":"IF(S4407=\"該当２\",H4407,\"\")","v":""},{"$f":"IF(S4407=\"\",\"\",COUNTIF($S$7:S4407,\"該当２\"))","v":""},{"$f":"IF(AND($S$2=H4407,E4407>0,E4407<998),\"該当３\",\"\")","v":""},{"$f":"IF(V4407=\"該当３\",I4407,\"\")","v":""},{"$f":"IF(V4407=\"\",\"\",COUNTIF($V$7:V4407,\"該当３\"))","v":""}]
[{"$nulls":10},"","",{"$f":"IF(K4408=\"\",\"\",COUNTIF($K$7:K4408,\"ﾘｽﾄ１\"))","v":""},"","","","","","","",{"$f":"IF(S4408=\"\",\"\",COUNTIF($S$7:S4408,\"該当２\"))","v":""},"","",{"$f":"IF(V4408=\"\",\"\",COUNTIF($V$7:V4408,\"該当３\"))","v":""}]
[{"$nulls":10},"","",{"$f":"IF(K4410=\"\",\"\",COUNTIF($K$7:K4410,\"ﾘｽﾄ１\"))","v":""},"","","","","","","",{"$f":"IF(S4410=\"\",\"\",COUNTIF($S$7:S4410,\"該当２\"))","v":""},"","",{"$f":"IF(V4410=\"\",\"\",COUNTIF($V$7:V4410,\"該当３\"))","v":""}]
[{"$nulls":10},"","",{"$f":"IF(K4411=\"\",\"\",COUNTIF($K$7:K4411,\"ﾘｽﾄ１\"))","v":""},"","","","","","","",{"$f":"IF(S4411=\"\",\"\",COUNTIF($S$7:S4411,\"該当２\"))","v":""},"","",{"$f":"IF(V4411=\"\",\"\",COUNTIF($V$7:V4411,\"該当３\"))","v":""}]
[{"$nulls":10},"","",{"$f":"IF(K4413=\"\",\"\",COUNTIF($K$7:K4413,\"ﾘｽﾄ１\"))","v":""},"","","","","","","",{"$f":"IF(S4413=\"\",\"\",COUNTIF($S$7:S4413,\"該当２\"))","v":""},"","",{"$f":"IF(V4413=\"\",\"\",COUNTIF($V$7:V4413,\"該当３\"))","v":""}]
[{"$nulls":10},"","",{"$f":"IF(K4414=\"\",\"\",COUNTIF($K$7:K4414,\"ﾘｽﾄ１\"))","v":""},"","","","","","","",{"$f":"IF(S4414=\"\",\"\",COUNTIF($S$7:S4414,\"該当２\"))","v":""},"","",{"$f":"IF(V4414=\"\",\"\",COUNTIF($V$7:V4414,\"該当３\"))","v":""}]
[{"$nulls":10},"","",{"$f":"IF(K4416=\"\",\"\",COUNTIF($K$7:K4416,\"ﾘｽﾄ１\"))","v":""},"","","","","","","",{"$f":"IF(S4416=\"\",\"\",COUNTIF($S$7:S4416,\"該当２\"))","v":""},"","",{"$f":"IF(V4416=\"\",\"\",COUNTIF($V$7:V4416,\"該当３\"))","v":""}]
[{"$nulls":10},"","",{"$f":"IF(K4417=\"\",\"\",COUNTIF($K$7:K4417,\"ﾘｽﾄ１\"))","v":""},"","","","","","","",{"$f":"IF(S4417=\"\",\"\",COUNTIF($S$7:S4417,\"該当２\"))","v":""},"","",{"$f":"IF(V4417=\"\",\"\",COUNTIF($V$7:V4417,\"該当３\"))","v":""}]
[{"$nulls":10},"","",{"$f":"IF(K4419=\"\",\"\",COUNTIF($K$7:K4419,\"ﾘｽﾄ１\"))","v":""},"","","","","","","",{"$f":"IF(S4419=\"\",\"\",COUNTIF($S$7:S4419,\"該当２\"))","v":""},"","",{"$f":"IF(V4419=\"\",\"\",COUNTIF($V$7:V4419,\"該当３\"))","v":""}]
[{"$nulls":10},"","",{"$f":"IF(K4420=\"\",\"\",COUNTIF($K$7:K4420,\"ﾘｽﾄ１\"))","v":""},"","","","","","","",{"$f":"IF(S4420=\"\",\"\",COUNTIF($S$7:S4420,\"該当２\"))","v":""},"","",{"$f":"IF(V4420=\"\",\"\",COUNTIF($V$7:V4420,\"該当３\"))","v":""}]
[{"$nulls":10},"","",{"$f":"IF(K4422=\"\",\"\",COUNTIF($K$7:K4422,\"ﾘｽﾄ１\"))","v":""},"","","","","","","",{"$f":"IF(S4422=\"\",\"\",COUNTIF($S$7:S4422,\"該当２\"))","v":""},"","",{"$f":"IF(V4422=\"\",\"\",COUNTIF($V$7:V4422,\"該当３\"))","v":""}]
[{"$nulls":10},"","",{"$f":"IF(K4423=\"\",\"\",COUNTIF($K$7:K4423,\"ﾘｽﾄ１\"))","v":""},"","","","","","","",{"$f":"IF(S4423=\"\",\"\",COUNTIF($S$7:S4423,\"該当２\"))","v":""},"","",{"$f":"IF(V4423=\"\",\"\",COUNTIF($V$7:V4423,\"該当３\"))","v":""}]
[{"$nulls":10},"","",{"$f":"IF(K4425=\"\",\"\",COUNTIF($K$7:K4425,\"ﾘｽﾄ１\"))","v":""},"","","","","","","",{"$f":"IF(S4425=\"\",\"\",COUNTIF($S$7:S4425,\"該当２\"))","v":""},"","",{"$f":"IF(V4425=\"\",\"\",COUNTIF($V$7:V4425,\"該当３\"))","v":""}]
[{"$nulls":10},"","",{"$f":"IF(K4426=\"\",\"\",COUNTIF($K$7:K4426,\"ﾘｽﾄ１\"))","v":""},"","","","","","","",{"$f":"IF(S4426=\"\",\"\",COUNTIF($S$7:S4426,\"該当２\"))","v":""},"","",{"$f":"IF(V4426=\"\",\"\",COUNTIF($V$7:V4426,\"該当３\"))","v":""}]
[{"$nulls":10},"","",{"$f":"IF(K4428=\"\",\"\",COUNTIF($K$7:K4428,\"ﾘｽﾄ１\"))","v":""},"","","","","","","",{"$f":"IF(S4428=\"\",\"\",COUNTIF($S$7:S4428,\"該当２\"))","v":""},"","",{"$f":"IF(V4428=\"\",\"\",COUNTIF($V$7:V4428,\"該当３\"))","v":""}]
[{"$nulls":10},"","",{"$f":"IF(K4429=\"\",\"\",COUNTIF($K$7:K4429,\"ﾘｽﾄ１\"))","v":""},"","","","","","","",{"$f":"IF(S4429=\"\",\"\",COUNTIF($S$7:S4429,\"該当２\"))","v":""},"","",{"$f":"IF(V4429=\"\",\"\",COUNTIF($V$7:V4429,\"該当３\"))","v":""}]
[{"$nulls":10},"","",{"$f":"IF(K4431=\"\",\"\",COUNTIF($K$7:K4431,\"ﾘｽﾄ１\"))","v":""},"","","","","","","",{"$f":"IF(S4431=\"\",\"\",COUNTIF($S$7:S4431,\"該当２\"))","v":""},"","",{"$f":"IF(V4431=\"\",\"\",COUNTIF($V$7:V4431,\"該当３\"))","v":""}]
[{"$nulls":10},"","",{"$f":"IF(K4432=\"\",\"\",COUNTIF($K$7:K4432,\"ﾘｽﾄ１\"))","v":""},"","","","","","","",{"$f":"IF(S4432=\"\",\"\",COUNTIF($S$7:S4432,\"該当２\"))","v":""},"","",{"$f":"IF(V4432=\"\",\"\",COUNTIF($V$7:V4432,\"該当３\"))","v":""}]
[{"$nulls":10},"","",{"$f":"IF(K4434=\"\",\"\",COUNTIF($K$7:K4434,\"ﾘｽﾄ１\"))","v":""},"","","","","","","",{"$f":"IF(S4434=\"\",\"\",COUNTIF($S$7:S4434,\"該当２\"))","v":""},"","",{"$f":"IF(V4434=\"\",\"\",COUNTIF($V$7:V4434,\"該当３\"))","v":""}]
[{"$nulls":10},"","",{"$f":"IF(K4435=\"\",\"\",COUNTIF($K$7:K4435,\"ﾘｽﾄ１\"))","v":""},"","","","","","","",{"$f":"IF(S4435=\"\",\"\",COUNTIF($S$7:S4435,\"該当２\"))","v":""},"","",{"$f":"IF(V4435=\"\",\"\",COUNTIF($V$7:V4435,\"該当３\"))","v":""}]
[{"$nulls":10},"","",{"$f":"IF(K4437=\"\",\"\",COUNTIF($K$7:K4437,\"ﾘｽﾄ１\"))","v":""},"","","","","","","",{"$f":"IF(S4437=\"\",\"\",COUNTIF($S$7:S4437,\"該当２\"))","v":""},"","",{"$f":"IF(V4437=\"\",\"\",COUNTIF($V$7:V4437,\"該当３\"))","v":""}]
[{"$nulls":10},"","",{"$f":"IF(K4438=\"\",\"\",COUNTIF($K$7:K4438,\"ﾘｽﾄ１\"))","v":""},"","","","","","","",{"$f":"IF(S4438=\"\",\"\",COUNTIF($S$7:S4438,\"該当２\"))","v":""},"","",{"$f":"IF(V4438=\"\",\"\",COUNTIF($V$7:V4438,\"該当３\"))","v":""}]
[{"$nulls":10},"","",{"$f":"IF(K4440=\"\",\"\",COUNTIF($K$7:K4440,\"ﾘｽﾄ１\"))","v":""},"","","","","","","",{"$f":"IF(S4440=\"\",\"\",COUNTIF($S$7:S4440,\"該当２\"))","v":""},"","",{"$f":"IF(V4440=\"\",\"\",COUNTIF($V$7:V4440,\"該当３\"))","v":""}]
[{"$nulls":10},"","",{"$f":"IF(K4441=\"\",\"\",COUNTIF($K$7:K4441,\"ﾘｽﾄ１\"))","v":""},"","","","","","","",{"$f":"IF(S4441=\"\",\"\",COUNTIF($S$7:S4441,\"該当２\"))","v":""},"","",{"$f":"IF(V4441=\"\",\"\",COUNTIF($V$7:V4441,\"該当３\"))","v":""}]
[{"$nulls":10},"","",{"$f":"IF(K4443=\"\",\"\",COUNTIF($K$7:K4443,\"ﾘｽﾄ１\"))","v":""},"","","","","","","",{"$f":"IF(S4443=\"\",\"\",COUNTIF($S$7:S4443,\"該当２\"))","v":""},"","",{"$f":"IF(V4443=\"\",\"\",COUNTIF($V$7:V4443,\"該当３\"))","v":""}]
[{"$nulls":10},"","",{"$f":"IF(K4444=\"\",\"\",COUNTIF($K$7:K4444,\"ﾘｽﾄ１\"))","v":""},"","","","","","","",{"$f":"IF(S4444=\"\",\"\",COUNTIF($S$7:S4444,\"該当２\"))","v":""},"","",{"$f":"IF(V4444=\"\",\"\",COUNTIF($V$7:V4444,\"該当３\"))","v":""}]
[{"$nulls":10},"","",{"$f":"IF(K4446=\"\",\"\",COUNTIF($K$7:K4446,\"ﾘｽﾄ１\"))","v":""},"","","","","","","",{"$f":"IF(S4446=\"\",\"\",COUNTIF($S$7:S4446,\"該当２\"))","v":""},"","",{"$f":"IF(V4446=\"\",\"\",COUNTIF($V$7:V4446,\"該当３\"))","v":""}]
[{"$nulls":10},"","",{"$f":"IF(K4447=\"\",\"\",COUNTIF($K$7:K4447,\"ﾘｽﾄ１\"))","v":""},"","","","","","","",{"$f":"IF(S4447=\"\",\"\",COUNTIF($S$7:S4447,\"該当２\"))","v":""},"","",{"$f":"IF(V4447=\"\",\"\",COUNTIF($V$7:V4447,\"該当３\"))","v":""}]
[{"$nulls":10},"","",{"$f":"IF(K4449=\"\",\"\",COUNTIF($K$7:K4449,\"ﾘｽﾄ１\"))","v":""},"","","","","","","",{"$f":"IF(S4449=\"\",\"\",COUNTIF($S$7:S4449,\"該当２\"))","v":""},"","",{"$f":"IF(V4449=\"\",\"\",COUNTIF($V$7:V4449,\"該当３\"))","v":""}]
[{"$nulls":10},"","",{"$f":"IF(K4450=\"\",\"\",COUNTIF($K$7:K4450,\"ﾘｽﾄ１\"))","v":""},"","","","","","","",{"$f":"IF(S4450=\"\",\"\",COUNTIF($S$7:S4450,\"該当２\"))","v":""},"","",{"$f":"IF(V4450=\"\",\"\",COUNTIF($V$7:V4450,\"該当３\"))","v":""}]
[{"$nulls":10},"","",{"$f":"IF(K4452=\"\",\"\",COUNTIF($K$7:K4452,\"ﾘｽﾄ１\"))","v":""},"","","","","","","",{"$f":"IF(S4452=\"\",\"\",COUNTIF($S$7:S4452,\"該当２\"))","v":""},"","",{"$f":"IF(V4452=\"\",\"\",COUNTIF($V$7:V4452,\"該当３\"))","v":""}]
[{"$nulls":10},"","",{"$f":"IF(K4453=\"\",\"\",COUNTIF($K$7:K4453,\"ﾘｽﾄ１\"))","v":""},"","","","","","","",{"$f":"IF(S4453=\"\",\"\",COUNTIF($S$7:S4453,\"該当２\"))","v":""},"","",{"$f":"IF(V4453=\"\",\"\",COUNTIF($V$7:V4453,\"該当３\"))","v":""}]
[{"$nulls":10},"","",{"$f":"IF(K4455=\"\",\"\",COUNTIF($K$7:K4455,\"ﾘｽﾄ１\"))","v":""},"","","","","","","",{"$f":"IF(S4455=\"\",\"\",COUNTIF($S$7:S4455,\"該当２\"))","v":""},"","",{"$f":"IF(V4455=\"\",\"\",COUNTIF($V$7:V4455,\"該当３\"))","v":""}]
[{"$nulls":10},"","",{"$f":"IF(K4456=\"\",\"\",COUNTIF($K$7:K4456,\"ﾘｽﾄ１\"))","v":""},"","","","","","","",{"$f":"IF(S4456=\"\",\"\",COUNTIF($S$7:S4456,\"該当２\"))","v":""},"","",{"$f":"IF(V4456=\"\",\"\",COUNTIF($V$7:V4456,\"該当３\"))","v":""}]
[{"$nulls":10},"","",{"$f":"IF(K4458=\"\",\"\",COUNTIF($K$7:K4458,\"ﾘｽﾄ１\"))","v":""},"","","","","","","",{"$f":"IF(S4458=\"\",\"\",COUNTIF($S$7:S4458,\"該当２\"))","v":""},"","",{"$f":"IF(V4458=\"\",\"\",COUNTIF($V$7:V4458,\"該当３\"))","v":""}]
[{"$nulls":10},"","",{"$f":"IF(K4459=\"\",\"\",COUNTIF($K$7:K4459,\"ﾘｽﾄ１\"))","v":""},"","","","","","","",{"$f":"IF(S4459=\"\",\"\",COUNTIF($S$7:S4459,\"該当２\"))","v":""},"","",{"$f":"IF(V4459=\"\",\"\",COUNTIF($V$7:V4459,\"該当３\"))","v":""}]
[{"$nulls":10},"","",{"$f":"IF(K4461=\"\",\"\",COUNTIF($K$7:K4461,\"ﾘｽﾄ１\"))","v":""},"","","","","","","",{"$f":"IF(S4461=\"\",\"\",COUNTIF($S$7:S4461,\"該当２\"))","v":""},"","",{"$f":"IF(V4461=\"\",\"\",COUNTIF($V$7:V4461,\"該当３\"))","v":""}]
[{"$nulls":10},"","",{"$f":"IF(K4462=\"\",\"\",COUNTIF($K$7:K4462,\"ﾘｽﾄ１\"))","v":""},"","","","","","","",{"$f":"IF(S4462=\"\",\"\",COUNTIF($S$7:S4462,\"該当２\"))","v":""},"","",{"$f":"IF(V4462=\"\",\"\",COUNTIF($V$7:V4462,\"該当３\"))","v":""}]
[{"$nulls":10},"","",{"$f":"IF(K4464=\"\",\"\",COUNTIF($K$7:K4464,\"ﾘｽﾄ１\"))","v":""},"","","","","","","",{"$f":"IF(S4464=\"\",\"\",COUNTIF($S$7:S4464,\"該当２\"))","v":""},"","",{"$f":"IF(V4464=\"\",\"\",COUNTIF($V$7:V4464,\"該当３\"))","v":""}]
[{"$nulls":10},"","",{"$f":"IF(K4465=\"\",\"\",COUNTIF($K$7:K4465,\"ﾘｽﾄ１\"))","v":""},"","","","","","","",{"$f":"IF(S4465=\"\",\"\",COUNTIF($S$7:S4465,\"該当２\"))","v":""},"","",{"$f":"IF(V4465=\"\",\"\",COUNTIF($V$7:V4465,\"該当３\"))","v":""}]
[{"$nulls":10},"","",{"$f":"IF(K4467=\"\",\"\",COUNTIF($K$7:K4467,\"ﾘｽﾄ１\"))","v":""},"","","","","","","",{"$f":"IF(S4467=\"\",\"\",COUNTIF($S$7:S4467,\"該当２\"))","v":""},"","",{"$f":"IF(V4467=\"\",\"\",COUNTIF($V$7:V4467,\"該当３\"))","v":""}]
[{"$nulls":10},"","",{"$f":"IF(K4468=\"\",\"\",COUNTIF($K$7:K4468,\"ﾘｽﾄ１\"))","v":""},"","","","","","","",{"$f":"IF(S4468=\"\",\"\",COUNTIF($S$7:S4468,\"該当２\"))","v":""},"","",{"$f":"IF(V4468=\"\",\"\",COUNTIF($V$7:V4468,\"該当３\"))","v":""}]
[{"$nulls":10},"","",{"$f":"IF(K4470=\"\",\"\",COUNTIF($K$7:K4470,\"ﾘｽﾄ１\"))","v":""},"","","","","","","",{"$f":"IF(S4470=\"\",\"\",COUNTIF($S$7:S4470,\"該当２\"))","v":""},"","",{"$f":"IF(V4470=\"\",\"\",COUNTIF($V$7:V4470,\"該当３\"))","v":""}]
[{"$nulls":10},"",{"$f":"IF(K4471=\"ﾘｽﾄ１\",G4471,\"\")","v":""},{"$f":"IF(K4471=\"\",\"\",COUNTIF($K$7:K4471,\"ﾘｽﾄ１\"))","v":""},{"$f":"IF(AND(D4471=0,E4471>0),\"同一区\",\"\")","v":""},{"$f":"IF(AND(EXACT($K$2,G4471),H4471>0),\"該当１\",\"\")","v":""},{"$f":"IF(O4471=\"該当１\",G4471,\"\")","v":""},{"$f":"IF(O4471=\"該当１\",\"ﾘｽﾄ2\",\"\")","v":""},{"$f":"IF(Q4471=\"ﾘｽﾄ2\",H4471,\"\")","v":""},{"$f":"IF(AND(Q4471=\"ﾘｽﾄ2\",OR(I4471=0,AND(N4471=\"同一区\",E4471=1))),\"該当２\",\"\")","v":""},{"$f":"IF(S4471=\"該当２\",H4471,\"\")","v":""},{"$f":"IF(S4471=\"\",\"\",COUNTIF($S$7:S4471,\"該当２\"))","v":""},{"$f":"IF(AND($S$2=H4471,E4471>0,E4471<998),\"該当３\",\"\")","v":""},{"$f":"IF(V4471=\"該当３\",I4471,\"\")","v":""},{"$f":"IF(V4471=\"\",\"\",COUNTIF($V$7:V4471,\"該当３\"))","v":""}]
[{"$nulls":10},"","",{"$f":"IF(K4473=\"\",\"\",COUNTIF($K$7:K4473,\"ﾘｽﾄ１\"))","v":""},"","","","","","","",{"$f":"IF(S4473=\"\",\"\",COUNTIF($S$7:S4473,\"該当２\"))","v":""},"","",{"$f":"IF(V4473=\"\",\"\",COUNTIF($V$7:V4473,\"該当３\"))","v":""}]
[{"$nulls":10},"","",{"$f":"IF(K4474=\"\",\"\",COUNTIF($K$7:K4474,\"ﾘｽﾄ１\"))","v":""},"","","","","","","",{"$f":"IF(S4474=\"\",\"\",COUNTIF($S$7:S4474,\"該当２\"))","v":""},"","",{"$f":"IF(V4474=\"\",\"\",COUNTIF($V$7:V4474,\"該当３\"))","v":""}]
[{"$nulls":10},"","",{"$f":"IF(K4476=\"\",\"\",COUNTIF($K$7:K4476,\"ﾘｽﾄ１\"))","v":""},"","","","","","","",{"$f":"IF(S4476=\"\",\"\",COUNTIF($S$7:S4476,\"該当２\"))","v":""},"","",{"$f":"IF(V4476=\"\",\"\",COUNTIF($V$7:V4476,\"該当３\"))","v":""}]
[{"$nulls":10},"","",{"$f":"IF(K4477=\"\",\"\",COUNTIF($K$7:K4477,\"ﾘｽﾄ１\"))","v":""},"","","","","","","",{"$f":"IF(S4477=\"\",\"\",COUNTIF($S$7:S4477,\"該当２\"))","v":""},"","",{"$f":"IF(V4477=\"\",\"\",COUNTIF($V$7:V4477,\"該当３\"))","v":""}]
[{"$nulls":10},"","",{"$f":"IF(K4479=\"\",\"\",COUNTIF($K$7:K4479,\"ﾘｽﾄ１\"))","v":""},"","","","","","","",{"$f":"IF(S4479=\"\",\"\",COUNTIF($S$7:S4479,\"該当２\"))","v":""},"","",{"$f":"IF(V4479=\"\",\"\",COUNTIF($V$7:V4479,\"該当３\"))","v":""}]
[{"$nulls":10},"","",{"$f":"IF(K4480=\"\",\"\",COUNTIF($K$7:K4480,\"ﾘｽﾄ１\"))","v":""},"","","","","","","",{"$f":"IF(S4480=\"\",\"\",COUNTIF($S$7:S4480,\"該当２\"))","v":""},"","",{"$f":"IF(V4480=\"\",\"\",COUNTIF($V$7:V4480,\"該当３\"))","v":""}]
[{"$nulls":10},"","",{"$f":"IF(K4482=\"\",\"\",COUNTIF($K$7:K4482,\"ﾘｽﾄ１\"))","v":""},"","","","","","","",{"$f":"IF(S4482=\"\",\"\",COUNTIF($S$7:S4482,\"該当２\"))","v":""},"","",{"$f":"IF(V4482=\"\",\"\",COUNTIF($V$7:V4482,\"該当３\"))","v":""}]
[{"$nulls":10},"","",{"$f":"IF(K4483=\"\",\"\",COUNTIF($K$7:K4483,\"ﾘｽﾄ１\"))","v":""},"","","","","","","",{"$f":"IF(S4483=\"\",\"\",COUNTIF($S$7:S4483,\"該当２\"))","v":""},"","",{"$f":"IF(V4483=\"\",\"\",COUNTIF($V$7:V4483,\"該当３\"))","v":""}]
[{"$nulls":10},"","",{"$f":"IF(K4485=\"\",\"\",COUNTIF($K$7:K4485,\"ﾘｽﾄ１\"))","v":""},"","","","","","","",{"$f":"IF(S4485=\"\",\"\",COUNTIF($S$7:S4485,\"該当２\"))","v":""},"","",{"$f":"IF(V4485=\"\",\"\",COUNTIF($V$7:V4485,\"該当３\"))","v":""}]
[{"$nulls":10},"","",{"$f":"IF(K4486=\"\",\"\",COUNTIF($K$7:K4486,\"ﾘｽﾄ１\"))","v":""},"","","","","","","",{"$f":"IF(S4486=\"\",\"\",COUNTIF($S$7:S4486,\"該当２\"))","v":""},"","",{"$f":"IF(V4486=\"\",\"\",COUNTIF($V$7:V4486,\"該当３\"))","v":""}]
[{"$nulls":10},"","",{"$f":"IF(K4488=\"\",\"\",COUNTIF($K$7:K4488,\"ﾘｽﾄ１\"))","v":""},"","","","","","","",{"$f":"IF(S4488=\"\",\"\",COUNTIF($S$7:S4488,\"該当２\"))","v":""},"","",{"$f":"IF(V4488=\"\",\"\",COUNTIF($V$7:V4488,\"該当３\"))","v":""}]
[{"$nulls":10},"","",{"$f":"IF(K4489=\"\",\"\",COUNTIF($K$7:K4489,\"ﾘｽﾄ１\"))","v":""},"","","","","","","",{"$f":"IF(S4489=\"\",\"\",COUNTIF($S$7:S4489,\"該当２\"))","v":""},"","",{"$f":"IF(V4489=\"\",\"\",COUNTIF($V$7:V4489,\"該当３\"))","v":""}]
[{"$nulls":10},{"$f":"IF(AND($C4491>0,$H4491=\"\"),\"ﾘｽﾄ１\",\"\")","v":""},"",{"$f":"IF(K4491=\"\",\"\",COUNTIF($K$7:K4491,\"ﾘｽﾄ１\"))","v":""},"","","","","","","",{"$f":"IF(S4491=\"\",\"\",COUNTIF($S$7:S4491,\"該当２\"))","v":""},"","",{"$f":"IF(V4491=\"\",\"\",COUNTIF($V$7:V4491,\"該当３\"))","v":""}]
[{"$nulls":10},"","",{"$f":"IF(K4492=\"\",\"\",COUNTIF($K$7:K4492,\"ﾘｽﾄ１\"))","v":""},"","","","","","","",{"$f":"IF(S4492=\"\",\"\",COUNTIF($S$7:S4492,\"該当２\"))","v":""},"","",{"$f":"IF(V4492=\"\",\"\",COUNTIF($V$7:V4492,\"該当３\"))","v":""}]
[{"$nulls":10},"","",{"$f":"IF(K4494=\"\",\"\",COUNTIF($K$7:K4494,\"ﾘｽﾄ１\"))","v":""},"","","","","","","",{"$f":"IF(S4494=\"\",\"\",COUNTIF($S$7:S4494,\"該当２\"))","v":""},"","",{"$f":"IF(V4494=\"\",\"\",COUNTIF($V$7:V4494,\"該当３\"))","v":""}]
[{"$nulls":10},"","",{"$f":"IF(K4495=\"\",\"\",COUNTIF($K$7:K4495,\"ﾘｽﾄ１\"))","v":""},"","","","","","","",{"$f":"IF(S4495=\"\",\"\",COUNTIF($S$7:S4495,\"該当２\"))","v":""},"","",{"$f":"IF(V4495=\"\",\"\",COUNTIF($V$7:V4495,\"該当３\"))","v":""}]
[{"$nulls":10},"","",{"$f":"IF(K4497=\"\",\"\",COUNTIF($K$7:K4497,\"ﾘｽﾄ１\"))","v":""},"","","","","","","",{"$f":"IF(S4497=\"\",\"\",COUNTIF($S$7:S4497,\"該当２\"))","v":""},"","",{"$f":"IF(V4497=\"\",\"\",COUNTIF($V$7:V4497,\"該当３\"))","v":""}]
[{"$nulls":10},"","",{"$f":"IF(K4498=\"\",\"\",COUNTIF($K$7:K4498,\"ﾘｽﾄ１\"))","v":""},"","","","","","","",{"$f":"IF(S4498=\"\",\"\",COUNTIF($S$7:S4498,\"該当２\"))","v":""},"","",{"$f":"IF(V4498=\"\",\"\",COUNTIF($V$7:V4498,\"該当３\"))","v":""}]
[{"$nulls":10},"","",{"$f":"IF(K4500=\"\",\"\",COUNTIF($K$7:K4500,\"ﾘｽﾄ１\"))","v":""},"","","","","","","",{"$f":"IF(S4500=\"\",\"\",COUNTIF($S$7:S4500,\"該当２\"))","v":""},"","",{"$f":"IF(V4500=\"\",\"\",COUNTIF($V$7:V4500,\"該当３\"))","v":""}]
[{"$nulls":10},"","",{"$f":"IF(K4501=\"\",\"\",COUNTIF($K$7:K4501,\"ﾘｽﾄ１\"))","v":""},"","","","","","","",{"$f":"IF(S4501=\"\",\"\",COUNTIF($S$7:S4501,\"該当２\"))","v":""},"","",{"$f":"IF(V4501=\"\",\"\",COUNTIF($V$7:V4501,\"該当３\"))","v":""}]
[{"$nulls":10},"","",{"$f":"IF(K4503=\"\",\"\",COUNTIF($K$7:K4503,\"ﾘｽﾄ１\"))","v":""},"","","","","","","",{"$f":"IF(S4503=\"\",\"\",COUNTIF($S$7:S4503,\"該当２\"))","v":""},"","",{"$f":"IF(V4503=\"\",\"\",COUNTIF($V$7:V4503,\"該当３\"))","v":""}]
[{"$nulls":10},"","",{"$f":"IF(K4504=\"\",\"\",COUNTIF($K$7:K4504,\"ﾘｽﾄ１\"))","v":""},"","","","","","","",{"$f":"IF(S4504=\"\",\"\",COUNTIF($S$7:S4504,\"該当２\"))","v":""},"","",{"$f":"IF(V4504=\"\",\"\",COUNTIF($V$7:V4504,\"該当３\"))","v":""}]
[{"$nulls":10},"","",{"$f":"IF(K4506=\"\",\"\",COUNTIF($K$7:K4506,\"ﾘｽﾄ１\"))","v":""},"","","","","","","",{"$f":"IF(S4506=\"\",\"\",COUNTIF($S$7:S4506,\"該当２\"))","v":""},"","",{"$f":"IF(V4506=\"\",\"\",COUNTIF($V$7:V4506,\"該当３\"))","v":""}]
[{"$nulls":10},"","",{"$f":"IF(K4507=\"\",\"\",COUNTIF($K$7:K4507,\"ﾘｽﾄ１\"))","v":""},"","","","","","","",{"$f":"IF(S4507=\"\",\"\",COUNTIF($S$7:S4507,\"該当２\"))","v":""},"","",{"$f":"IF(V4507=\"\",\"\",COUNTIF($V$7:V4507,\"該当３\"))","v":""}]
[{"$nulls":10},"","",{"$f":"IF(K4509=\"\",\"\",COUNTIF($K$7:K4509,\"ﾘｽﾄ１\"))","v":""},"","","","","","","",{"$f":"IF(S4509=\"\",\"\",COUNTIF($S$7:S4509,\"該当２\"))","v":""},"","",{"$f":"IF(V4509=\"\",\"\",COUNTIF($V$7:V4509,\"該当３\"))","v":""}]
[{"$nulls":10},"","",{"$f":"IF(K4510=\"\",\"\",COUNTIF($K$7:K4510,\"ﾘｽﾄ１\"))","v":""},"","","","","","","",{"$f":"IF(S4510=\"\",\"\",COUNTIF($S$7:S4510,\"該当２\"))","v":""},"","",{"$f":"IF(V4510=\"\",\"\",COUNTIF($V$7:V4510,\"該当３\"))","v":""}]
[{"$nulls":10},"","",{"$f":"IF(K4512=\"\",\"\",COUNTIF($K$7:K4512,\"ﾘｽﾄ１\"))","v":""},"","","","","","","",{"$f":"IF(S4512=\"\",\"\",COUNTIF($S$7:S4512,\"該当２\"))","v":""},"","",{"$f":"IF(V4512=\"\",\"\",COUNTIF($V$7:V4512,\"該当３\"))","v":""}]
[{"$nulls":10},"","",{"$f":"IF(K4513=\"\",\"\",COUNTIF($K$7:K4513,\"ﾘｽﾄ１\"))","v":""},"","","","","","","",{"$f":"IF(S4513=\"\",\"\",COUNTIF($S$7:S4513,\"該当２\"))","v":""},"","",{"$f":"IF(V4513=\"\",\"\",COUNTIF($V$7:V4513,\"該当３\"))","v":""}]
[{"$nulls":10},"","",{"$f":"IF(K4515=\"\",\"\",COUNTIF($K$7:K4515,\"ﾘｽﾄ１\"))","v":""},"","","","","","","",{"$f":"IF(S4515=\"\",\"\",COUNTIF($S$7:S4515,\"該当２\"))","v":""},"","",{"$f":"IF(V4515=\"\",\"\",COUNTIF($V$7:V4515,\"該当３\"))","v":""}]
[{"$nulls":10},"","",{"$f":"IF(K4516=\"\",\"\",COUNTIF($K$7:K4516,\"ﾘｽﾄ１\"))","v":""},"","","","","","","",{"$f":"IF(S4516=\"\",\"\",COUNTIF($S$7:S4516,\"該当２\"))","v":""},"","",{"$f":"IF(V4516=\"\",\"\",COUNTIF($V$7:V4516,\"該当３\"))","v":""}]
[{"$nulls":10},"","",{"$f":"IF(K4518=\"\",\"\",COUNTIF($K$7:K4518,\"ﾘｽﾄ１\"))","v":""},"","","","","","","",{"$f":"IF(S4518=\"\",\"\",COUNTIF($S$7:S4518,\"該当２\"))","v":""},"","",{"$f":"IF(V4518=\"\",\"\",COUNTIF($V$7:V4518,\"該当３\"))","v":""}]
[{"$nulls":10},"","",{"$f":"IF(K4519=\"\",\"\",COUNTIF($K$7:K4519,\"ﾘｽﾄ１\"))","v":""},"","","","","","","",{"$f":"IF(S4519=\"\",\"\",COUNTIF($S$7:S4519,\"該当２\"))","v":""},"","",{"$f":"IF(V4519=\"\",\"\",COUNTIF($V$7:V4519,\"該当３\"))","v":""}]
[{"$nulls":10},"","",{"$f":"IF(K4521=\"\",\"\",COUNTIF($K$7:K4521,\"ﾘｽﾄ１\"))","v":""},"","","","","","","",{"$f":"IF(S4521=\"\",\"\",COUNTIF($S$7:S4521,\"該当２\"))","v":""},"","",{"$f":"IF(V4521=\"\",\"\",COUNTIF($V$7:V4521,\"該当３\"))","v":""}]
[{"$nulls":10},"","",{"$f":"IF(K4522=\"\",\"\",COUNTIF($K$7:K4522,\"ﾘｽﾄ１\"))","v":""},"","","","","","","",{"$f":"IF(S4522=\"\",\"\",COUNTIF($S$7:S4522,\"該当２\"))","v":""},"","",{"$f":"IF(V4522=\"\",\"\",COUNTIF($V$7:V4522,\"該当３\"))","v":""}]
[{"$nulls":10},"","",{"$f":"IF(K4524=\"\",\"\",COUNTIF($K$7:K4524,\"ﾘｽﾄ１\"))","v":""},"","","","","","","",{"$f":"IF(S4524=\"\",\"\",COUNTIF($S$7:S4524,\"該当２\"))","v":""},"","",{"$f":"IF(V4524=\"\",\"\",COUNTIF($V$7:V4524,\"該当３\"))","v":""}]
[{"$nulls":10},"","",{"$f":"IF(K4525=\"\",\"\",COUNTIF($K$7:K4525,\"ﾘｽﾄ１\"))","v":""},"","","","","","","",{"$f":"IF(S4525=\"\",\"\",COUNTIF($S$7:S4525,\"該当２\"))","v":""},"","",{"$f":"IF(V4525=\"\",\"\",COUNTIF($V$7:V4525,\"該当３\"))","v":""}]
[{"$nulls":10},"","",{"$f":"IF(K4527=\"\",\"\",COUNTIF($K$7:K4527,\"ﾘｽﾄ１\"))","v":""},"","","","","","","",{"$f":"IF(S4527=\"\",\"\",COUNTIF($S$7:S4527,\"該当２\"))","v":""},"","",{"$f":"IF(V4527=\"\",\"\",COUNTIF($V$7:V4527,\"該当３\"))","v":""}]
[{"$nulls":10},"","",{"$f":"IF(K4528=\"\",\"\",COUNTIF($K$7:K4528,\"ﾘｽﾄ１\"))","v":""},"","","","","","","",{"$f":"IF(S4528=\"\",\"\",COUNTIF($S$7:S4528,\"該当２\"))","v":""},"","",{"$f":"IF(V4528=\"\",\"\",COUNTIF($V$7:V4528,\"該当３\"))","v":""}]
[{"$nulls":10},"","",{"$f":"IF(K4530=\"\",\"\",COUNTIF($K$7:K4530,\"ﾘｽﾄ１\"))","v":""},"","","","","","","",{"$f":"IF(S4530=\"\",\"\",COUNTIF($S$7:S4530,\"該当２\"))","v":""},"","",{"$f":"IF(V4530=\"\",\"\",COUNTIF($V$7:V4530,\"該当３\"))","v":""}]
[{"$nulls":10},"","",{"$f":"IF(K4531=\"\",\"\",COUNTIF($K$7:K4531,\"ﾘｽﾄ１\"))","v":""},"","","","","","","",{"$f":"IF(S4531=\"\",\"\",COUNTIF($S$7:S4531,\"該当２\"))","v":""},"","",{"$f":"IF(V4531=\"\",\"\",COUNTIF($V$7:V4531,\"該当３\"))","v":""}]
[{"$nulls":10},"","",{"$f":"IF(K4533=\"\",\"\",COUNTIF($K$7:K4533,\"ﾘｽﾄ１\"))","v":""},"","","","","","","",{"$f":"IF(S4533=\"\",\"\",COUNTIF($S$7:S4533,\"該当２\"))","v":""},"","",{"$f":"IF(V4533=\"\",\"\",COUNTIF($V$7:V4533,\"該当３\"))","v":""}]
[{"$nulls":10},"","",{"$f":"IF(K4534=\"\",\"\",COUNTIF($K$7:K4534,\"ﾘｽﾄ１\"))","v":""},"","","","","","","",{"$f":"IF(S4534=\"\",\"\",COUNTIF($S$7:S4534,\"該当２\"))","v":""},"","",{"$f":"IF(V4534=\"\",\"\",COUNTIF($V$7:V4534,\"該当３\"))","v":""}]
[{"$nulls":10},"","",{"$f":"IF(K4536=\"\",\"\",COUNTIF($K$7:K4536,\"ﾘｽﾄ１\"))","v":""},"","","","","","","",{"$f":"IF(S4536=\"\",\"\",COUNTIF($S$7:S4536,\"該当２\"))","v":""},"","",{"$f":"IF(V4536=\"\",\"\",COUNTIF($V$7:V4536,\"該当３\"))","v":""}]
[{"$nulls":10},"","",{"$f":"IF(K4537=\"\",\"\",COUNTIF($K$7:K4537,\"ﾘｽﾄ１\"))","v":""},"","","","","","","",{"$f":"IF(S4537=\"\",\"\",COUNTIF($S$7:S4537,\"該当２\"))","v":""},"","",{"$f":"IF(V4537=\"\",\"\",COUNTIF($V$7:V4537,\"該当３\"))","v":""}]
[{"$nulls":10},"","",{"$f":"IF(K4539=\"\",\"\",COUNTIF($K$7:K4539,\"ﾘｽﾄ１\"))","v":""},"","","","","","","",{"$f":"IF(S4539=\"\",\"\",COUNTIF($S$7:S4539,\"該当２\"))","v":""},"","",{"$f":"IF(V4539=\"\",\"\",COUNTIF($V$7:V4539,\"該当３\"))","v":""}]
[{"$nulls":10},"","",{"$f":"IF(K4540=\"\",\"\",COUNTIF($K$7:K4540,\"ﾘｽﾄ１\"))","v":""},"","","","","","","",{"$f":"IF(S4540=\"\",\"\",COUNTIF($S$7:S4540,\"該当２\"))","v":""},"","",{"$f":"IF(V4540=\"\",\"\",COUNTIF($V$7:V4540,\"該当３\"))","v":""}]
[{"$nulls":10},"","",{"$f":"IF(K4542=\"\",\"\",COUNTIF($K$7:K4542,\"ﾘｽﾄ１\"))","v":""},"","","","","","","",{"$f":"IF(S4542=\"\",\"\",COUNTIF($S$7:S4542,\"該当２\"))","v":""},"","",{"$f":"IF(V4542=\"\",\"\",COUNTIF($V$7:V4542,\"該当３\"))","v":""}]
[{"$nulls":10},"","",{"$f":"IF(K4543=\"\",\"\",COUNTIF($K$7:K4543,\"ﾘｽﾄ１\"))","v":""},"","","","","","","",{"$f":"IF(S4543=\"\",\"\",COUNTIF($S$7:S4543,\"該当２\"))","v":""},"","",{"$f":"IF(V4543=\"\",\"\",COUNTIF($V$7:V4543,\"該当３\"))","v":""}]
[{"$nulls":10},"","",{"$f":"IF(K4545=\"\",\"\",COUNTIF($K$7:K4545,\"ﾘｽﾄ１\"))","v":""},"","","","","","","",{"$f":"IF(S4545=\"\",\"\",COUNTIF($S$7:S4545,\"該当２\"))","v":""},"","",{"$f":"IF(V4545=\"\",\"\",COUNTIF($V$7:V4545,\"該当３\"))","v":""}]
[{"$nulls":10},"","",{"$f":"IF(K4546=\"\",\"\",COUNTIF($K$7:K4546,\"ﾘｽﾄ１\"))","v":""},"","","","","","","",{"$f":"IF(S4546=\"\",\"\",COUNTIF($S$7:S4546,\"該当２\"))","v":""},"","",{"$f":"IF(V4546=\"\",\"\",COUNTIF($V$7:V4546,\"該当３\"))","v":""}]
[{"$nulls":10},"","",{"$f":"IF(K4548=\"\",\"\",COUNTIF($K$7:K4548,\"ﾘｽﾄ１\"))","v":""},"","","","","","","",{"$f":"IF(S4548=\"\",\"\",COUNTIF($S$7:S4548,\"該当２\"))","v":""},"","",{"$f":"IF(V4548=\"\",\"\",COUNTIF($V$7:V4548,\"該当３\"))","v":""}]
[{"$nulls":10},"","",{"$f":"IF(K4549=\"\",\"\",COUNTIF($K$7:K4549,\"ﾘｽﾄ１\"))","v":""},"","","","","","","",{"$f":"IF(S4549=\"\",\"\",COUNTIF($S$7:S4549,\"該当２\"))","v":""},"","",{"$f":"IF(V4549=\"\",\"\",COUNTIF($V$7:V4549,\"該当３\"))","v":""}]
[{"$nulls":10},"","",{"$f":"IF(K4551=\"\",\"\",COUNTIF($K$7:K4551,\"ﾘｽﾄ１\"))","v":""},"","","","","","","",{"$f":"IF(S4551=\"\",\"\",COUNTIF($S$7:S4551,\"該当２\"))","v":""},"","",{"$f":"IF(V4551=\"\",\"\",COUNTIF($V$7:V4551,\"該当３\"))","v":""}]
[{"$nulls":10},"","",{"$f":"IF(K4552=\"\",\"\",COUNTIF($K$7:K4552,\"ﾘｽﾄ１\"))","v":""},"","","","","","","",{"$f":"IF(S4552=\"\",\"\",COUNTIF($S$7:S4552,\"該当２\"))","v":""},"","",{"$f":"IF(V4552=\"\",\"\",COUNTIF($V$7:V4552,\"該当３\"))","v":""}]
[{"$nulls":10},"","",{"$f":"IF(K4554=\"\",\"\",COUNTIF($K$7:K4554,\"ﾘｽﾄ１\"))","v":""},"","","","","","","",{"$f":"IF(S4554=\"\",\"\",COUNTIF($S$7:S4554,\"該当２\"))","v":""},"","",{"$f":"IF(V4554=\"\",\"\",COUNTIF($V$7:V4554,\"該当３\"))","v":""}]
[{"$nulls":10},{"$f":"IF(AND($C4555>0,$H4555=\"\"),\"ﾘｽﾄ１\",\"\")","v":""},"",{"$f":"IF(K4555=\"\",\"\",COUNTIF($K$7:K4555,\"ﾘｽﾄ１\"))","v":""},"","","","","","","",{"$f":"IF(S4555=\"\",\"\",COUNTIF($S$7:S4555,\"該当２\"))","v":""},"","",{"$f":"IF(V4555=\"\",\"\",COUNTIF($V$7:V4555,\"該当３\"))","v":""}]
[{"$nulls":10},"","",{"$f":"IF(K4557=\"\",\"\",COUNTIF($K$7:K4557,\"ﾘｽﾄ１\"))","v":""},"","","","","","","",{"$f":"IF(S4557=\"\",\"\",COUNTIF($S$7:S4557,\"該当２\"))","v":""},"","",{"$f":"IF(V4557=\"\",\"\",COUNTIF($V$7:V4557,\"該当３\"))","v":""}]
[{"$nulls":10},"","",{"$f":"IF(K4558=\"\",\"\",COUNTIF($K$7:K4558,\"ﾘｽﾄ１\"))","v":""},"","","","","","","",{"$f":"IF(S4558=\"\",\"\",COUNTIF($S$7:S4558,\"該当２\"))","v":""},"","",{"$f":"IF(V4558=\"\",\"\",COUNTIF($V$7:V4558,\"該当３\"))","v":""}]
[{"$nulls":10},"","",{"$f":"IF(K4560=\"\",\"\",COUNTIF($K$7:K4560,\"ﾘｽﾄ１\"))","v":""},"","","","","","","",{"$f":"IF(S4560=\"\",\"\",COUNTIF($S$7:S4560,\"該当２\"))","v":""},"","",{"$f":"IF(V4560=\"\",\"\",COUNTIF($V$7:V4560,\"該当３\"))","v":""}]
[{"$nulls":10},"","",{"$f":"IF(K4561=\"\",\"\",COUNTIF($K$7:K4561,\"ﾘｽﾄ１\"))","v":""},"","","","","","","",{"$f":"IF(S4561=\"\",\"\",COUNTIF($S$7:S4561,\"該当２\"))","v":""},"","",{"$f":"IF(V4561=\"\",\"\",COUNTIF($V$7:V4561,\"該当３\"))","v":""}]
[{"$nulls":10},"","",{"$f":"IF(K4563=\"\",\"\",COUNTIF($K$7:K4563,\"ﾘｽﾄ１\"))","v":""},"","","","","","","",{"$f":"IF(S4563=\"\",\"\",COUNTIF($S$7:S4563,\"該当２\"))","v":""},"","",{"$f":"IF(V4563=\"\",\"\",COUNTIF($V$7:V4563,\"該当３\"))","v":""}]
[{"$nulls":10},"","",{"$f":"IF(K4564=\"\",\"\",COUNTIF($K$7:K4564,\"ﾘｽﾄ１\"))","v":""},"","","","","","","",{"$f":"IF(S4564=\"\",\"\",COUNTIF($S$7:S4564,\"該当２\"))","v":""},"","",{"$f":"IF(V4564=\"\",\"\",COUNTIF($V$7:V4564,\"該当３\"))","v":""}]
[{"$nulls":10},"","",{"$f":"IF(K4566=\"\",\"\",COUNTIF($K$7:K4566,\"ﾘｽﾄ１\"))","v":""},"","","","","","","",{"$f":"IF(S4566=\"\",\"\",COUNTIF($S$7:S4566,\"該当２\"))","v":""},"","",{"$f":"IF(V4566=\"\",\"\",COUNTIF($V$7:V4566,\"該当３\"))","v":""}]
[{"$nulls":10},"","",{"$f":"IF(K4567=\"\",\"\",COUNTIF($K$7:K4567,\"ﾘｽﾄ１\"))","v":""},"","","","","","","",{"$f":"IF(S4567=\"\",\"\",COUNTIF($S$7:S4567,\"該当２\"))","v":""},"","",{"$f":"IF(V4567=\"\",\"\",COUNTIF($V$7:V4567,\"該当３\"))","v":""}]
[{"$nulls":10},"","",{"$f":"IF(K4569=\"\",\"\",COUNTIF($K$7:K4569,\"ﾘｽﾄ１\"))","v":""},"","","","","","","",{"$f":"IF(S4569=\"\",\"\",COUNTIF($S$7:S4569,\"該当２\"))","v":""},"","",{"$f":"IF(V4569=\"\",\"\",COUNTIF($V$7:V4569,\"該当３\"))","v":""}]
[{"$nulls":10},"","",{"$f":"IF(K4570=\"\",\"\",COUNTIF($K$7:K4570,\"ﾘｽﾄ１\"))","v":""},"","","","","","","",{"$f":"IF(S4570=\"\",\"\",COUNTIF($S$7:S4570,\"該当２\"))","v":""},"","",{"$f":"IF(V4570=\"\",\"\",COUNTIF($V$7:V4570,\"該当３\"))","v":""}]
[{"$nulls":10},"","",{"$f":"IF(K4572=\"\",\"\",COUNTIF($K$7:K4572,\"ﾘｽﾄ１\"))","v":""},"","","","","","","",{"$f":"IF(S4572=\"\",\"\",COUNTIF($S$7:S4572,\"該当２\"))","v":""},"","",{"$f":"IF(V4572=\"\",\"\",COUNTIF($V$7:V4572,\"該当３\"))","v":""}]
[{"$nulls":10},"","",{"$f":"IF(K4573=\"\",\"\",COUNTIF($K$7:K4573,\"ﾘｽﾄ１\"))","v":""},"","","","","","","",{"$f":"IF(S4573=\"\",\"\",COUNTIF($S$7:S4573,\"該当２\"))","v":""},"","",{"$f":"IF(V4573=\"\",\"\",COUNTIF($V$7:V4573,\"該当３\"))","v":""}]
[{"$nulls":10},"","",{"$f":"IF(K4575=\"\",\"\",COUNTIF($K$7:K4575,\"ﾘｽﾄ１\"))","v":""},"","","","","","","",{"$f":"IF(S4575=\"\",\"\",COUNTIF($S$7:S4575,\"該当２\"))","v":""},"","",{"$f":"IF(V4575=\"\",\"\",COUNTIF($V$7:V4575,\"該当３\"))","v":""}]
[{"$nulls":10},"","",{"$f":"IF(K4576=\"\",\"\",COUNTIF($K$7:K4576,\"ﾘｽﾄ１\"))","v":""},"","","","","","","",{"$f":"IF(S4576=\"\",\"\",COUNTIF($S$7:S4576,\"該当２\"))","v":""},"","",{"$f":"IF(V4576=\"\",\"\",COUNTIF($V$7:V4576,\"該当３\"))","v":""}]
[{"$nulls":10},"","",{"$f":"IF(K4578=\"\",\"\",COUNTIF($K$7:K4578,\"ﾘｽﾄ１\"))","v":""},"","","","","","","",{"$f":"IF(S4578=\"\",\"\",COUNTIF($S$7:S4578,\"該当２\"))","v":""},"","",{"$f":"IF(V4578=\"\",\"\",COUNTIF($V$7:V4578,\"該当３\"))","v":""}]
[{"$nulls":10},"","",{"$f":"IF(K4579=\"\",\"\",COUNTIF($K$7:K4579,\"ﾘｽﾄ１\"))","v":""},"","","","","","","",{"$f":"IF(S4579=\"\",\"\",COUNTIF($S$7:S4579,\"該当２\"))","v":""},"","",{"$f":"IF(V4579=\"\",\"\",COUNTIF($V$7:V4579,\"該当３\"))","v":""}]
[{"$nulls":10},"","",{"$f":"IF(K4581=\"\",\"\",COUNTIF($K$7:K4581,\"ﾘｽﾄ１\"))","v":""},"","","","","","","",{"$f":"IF(S4581=\"\",\"\",COUNTIF($S$7:S4581,\"該当２\"))","v":""},"","",{"$f":"IF(V4581=\"\",\"\",COUNTIF($V$7:V4581,\"該当３\"))","v":""}]
[{"$nulls":10},"","",{"$f":"IF(K4582=\"\",\"\",COUNTIF($K$7:K4582,\"ﾘｽﾄ１\"))","v":""},"","","","","","","",{"$f":"IF(S4582=\"\",\"\",COUNTIF($S$7:S4582,\"該当２\"))","v":""},"","",{"$f":"IF(V4582=\"\",\"\",COUNTIF($V$7:V4582,\"該当３\"))","v":""}]
[{"$nulls":10},"","",{"$f":"IF(K4584=\"\",\"\",COUNTIF($K$7:K4584,\"ﾘｽﾄ１\"))","v":""},"","","","","","","",{"$f":"IF(S4584=\"\",\"\",COUNTIF($S$7:S4584,\"該当２\"))","v":""},"","",{"$f":"IF(V4584=\"\",\"\",COUNTIF($V$7:V4584,\"該当３\"))","v":""}]
[{"$nulls":10},"","",{"$f":"IF(K4585=\"\",\"\",COUNTIF($K$7:K4585,\"ﾘｽﾄ１\"))","v":""},"","","","","","","",{"$f":"IF(S4585=\"\",\"\",COUNTIF($S$7:S4585,\"該当２\"))","v":""},"","",{"$f":"IF(V4585=\"\",\"\",COUNTIF($V$7:V4585,\"該当３\"))","v":""}]
[{"$nulls":10},"","",{"$f":"IF(K4587=\"\",\"\",COUNTIF($K$7:K4587,\"ﾘｽﾄ１\"))","v":""},"","","","","","","",{"$f":"IF(S4587=\"\",\"\",COUNTIF($S$7:S4587,\"該当２\"))","v":""},"","",{"$f":"IF(V4587=\"\",\"\",COUNTIF($V$7:V4587,\"該当３\"))","v":""}]
[{"$nulls":10},"","",{"$f":"IF(K4588=\"\",\"\",COUNTIF($K$7:K4588,\"ﾘｽﾄ１\"))","v":""},"","","","","","","",{"$f":"IF(S4588=\"\",\"\",COUNTIF($S$7:S4588,\"該当２\"))","v":""},"","",{"$f":"IF(V4588=\"\",\"\",COUNTIF($V$7:V4588,\"該当３\"))","v":""}]
[{"$nulls":10},"","",{"$f":"IF(K4590=\"\",\"\",COUNTIF($K$7:K4590,\"ﾘｽﾄ１\"))","v":""},"","","","","","","",{"$f":"IF(S4590=\"\",\"\",COUNTIF($S$7:S4590,\"該当２\"))","v":""},"","",{"$f":"IF(V4590=\"\",\"\",COUNTIF($V$7:V4590,\"該当３\"))","v":""}]
[{"$nulls":10},"","",{"$f":"IF(K4591=\"\",\"\",COUNTIF($K$7:K4591,\"ﾘｽﾄ１\"))","v":""},"","","","","","","",{"$f":"IF(S4591=\"\",\"\",COUNTIF($S$7:S4591,\"該当２\"))","v":""},"","",{"$f":"IF(V4591=\"\",\"\",COUNTIF($V$7:V4591,\"該当３\"))","v":""}]
[{"$nulls":10},"","",{"$f":"IF(K4593=\"\",\"\",COUNTIF($K$7:K4593,\"ﾘｽﾄ１\"))","v":""},"","","","","","","",{"$f":"IF(S4593=\"\",\"\",COUNTIF($S$7:S4593,\"該当２\"))","v":""},"","",{"$f":"IF(V4593=\"\",\"\",COUNTIF($V$7:V4593,\"該当３\"))","v":""}]
[{"$nulls":10},"","",{"$f":"IF(K4594=\"\",\"\",COUNTIF($K$7:K4594,\"ﾘｽﾄ１\"))","v":""},"","","","","","","",{"$f":"IF(S4594=\"\",\"\",COUNTIF($S$7:S4594,\"該当２\"))","v":""},"","",{"$f":"IF(V4594=\"\",\"\",COUNTIF($V$7:V4594,\"該当３\"))","v":""}]
[{"$nulls":10},"","",{"$f":"IF(K4596=\"\",\"\",COUNTIF($K$7:K4596,\"ﾘｽﾄ１\"))","v":""},"","","","","","","",{"$f":"IF(S4596=\"\",\"\",COUNTIF($S$7:S4596,\"該当２\"))","v":""},"","",{"$f":"IF(V4596=\"\",\"\",COUNTIF($V$7:V4596,\"該当３\"))","v":""}]
[{"$nulls":10},"","",{"$f":"IF(K4597=\"\",\"\",COUNTIF($K$7:K4597,\"ﾘｽﾄ１\"))","v":""},"","","","","","","",{"$f":"IF(S4597=\"\",\"\",COUNTIF($S$7:S4597,\"該当２\"))","v":""},"","",{"$f":"IF(V4597=\"\",\"\",COUNTIF($V$7:V4597,\"該当３\"))","v":""}]
[{"$nulls":10},"",{"$f":"IF(K4599=\"ﾘｽﾄ１\",G4599,\"\")","v":""},{"$f":"IF(K4599=\"\",\"\",COUNTIF($K$7:K4599,\"ﾘｽﾄ１\"))","v":""},{"$f":"IF(AND(D4599=0,E4599>0),\"同一区\",\"\")","v":""},{"$f":"IF(AND(EXACT($K$2,G4599),H4599>0),\"該当１\",\"\")","v":""},{"$f":"IF(O4599=\"該当１\",G4599,\"\")","v":""},{"$f":"IF(O4599=\"該当１\",\"ﾘｽﾄ2\",\"\")","v":""},{"$f":"IF(Q4599=\"ﾘｽﾄ2\",H4599,\"\")","v":""},{"$f":"IF(AND(Q4599=\"ﾘｽﾄ2\",OR(I4599=0,AND(N4599=\"同一区\",E4599=1))),\"該当２\",\"\")","v":""},{"$f":"IF(S4599=\"該当２\",H4599,\"\")","v":""},{"$f":"IF(S4599=\"\",\"\",COUNTIF($S$7:S4599,\"該当２\"))","v":""},{"$f":"IF(AND($S$2=H4599,E4599>0,E4599<998),\"該当３\",\"\")","v":""},{"$f":"IF(V4599=\"該当３\",I4599,\"\")","v":""},{"$f":"IF(V4599=\"\",\"\",COUNTIF($V$7:V4599,\"該当３\"))","v":""}]
[{"$nulls":10},"","",{"$f":"IF(K4600=\"\",\"\",COUNTIF($K$7:K4600,\"ﾘｽﾄ１\"))","v":""},"","","","","","","",{"$f":"IF(S4600=\"\",\"\",COUNTIF($S$7:S4600,\"該当２\"))","v":""},"","",{"$f":"IF(V4600=\"\",\"\",COUNTIF($V$7:V4600,\"該当３\"))","v":""}]
[{"$nulls":10},"","",{"$f":"IF(K4602=\"\",\"\",COUNTIF($K$7:K4602,\"ﾘｽﾄ１\"))","v":""},"","","","","","","",{"$f":"IF(S4602=\"\",\"\",COUNTIF($S$7:S4602,\"該当２\"))","v":""},"","",{"$f":"IF(V4602=\"\",\"\",COUNTIF($V$7:V4602,\"該当３\"))","v":""}]
[{"$nulls":10},"","",{"$f":"IF(K4603=\"\",\"\",COUNTIF($K$7:K4603,\"ﾘｽﾄ１\"))","v":""},"","","","","","","",{"$f":"IF(S4603=\"\",\"\",COUNTIF($S$7:S4603,\"該当２\"))","v":""},"","",{"$f":"IF(V4603=\"\",\"\",COUNTIF($V$7:V4603,\"該当３\"))","v":""}]
[{"$nulls":10},"","",{"$f":"IF(K4605=\"\",\"\",COUNTIF($K$7:K4605,\"ﾘｽﾄ１\"))","v":""},"","","","","","","",{"$f":"IF(S4605=\"\",\"\",COUNTIF($S$7:S4605,\"該当２\"))","v":""},"","",{"$f":"IF(V4605=\"\",\"\",COUNTIF($V$7:V4605,\"該当３\"))","v":""}]
[{"$nulls":10},"","",{"$f":"IF(K4606=\"\",\"\",COUNTIF($K$7:K4606,\"ﾘｽﾄ１\"))","v":""},"","","","","","","",{"$f":"IF(S4606=\"\",\"\",COUNTIF($S$7:S4606,\"該当２\"))","v":""},"","",{"$f":"IF(V4606=\"\",\"\",COUNTIF($V$7:V4606,\"該当３\"))","v":""}]
[{"$nulls":10},"","",{"$f":"IF(K4608=\"\",\"\",COUNTIF($K$7:K4608,\"ﾘｽﾄ１\"))","v":""},"","","","","","","",{"$f":"IF(S4608=\"\",\"\",COUNTIF($S$7:S4608,\"該当２\"))","v":""},"","",{"$f":"IF(V4608=\"\",\"\",COUNTIF($V$7:V4608,\"該当３\"))","v":""}]
[{"$nulls":10},"","",{"$f":"IF(K4609=\"\",\"\",COUNTIF($K$7:K4609,\"ﾘｽﾄ１\"))","v":""},"","","","","","","",{"$f":"IF(S4609=\"\",\"\",COUNTIF($S$7:S4609,\"該当２\"))","v":""},"","",{"$f":"IF(V4609=\"\",\"\",COUNTIF($V$7:V4609,\"該当３\"))","v":""}]
[{"$nulls":10},"","",{"$f":"IF(K4611=\"\",\"\",COUNTIF($K$7:K4611,\"ﾘｽﾄ１\"))","v":""},"","","","","","","",{"$f":"IF(S4611=\"\",\"\",COUNTIF($S$7:S4611,\"該当２\"))","v":""},"","",{"$f":"IF(V4611=\"\",\"\",COUNTIF($V$7:V4611,\"該当３\"))","v":""}]
[{"$nulls":10},"","",{"$f":"IF(K4612=\"\",\"\",COUNTIF($K$7:K4612,\"ﾘｽﾄ１\"))","v":""},"","","","","","","",{"$f":"IF(S4612=\"\",\"\",COUNTIF($S$7:S4612,\"該当２\"))","v":""},"","",{"$f":"IF(V4612=\"\",\"\",COUNTIF($V$7:V4612,\"該当３\"))","v":""}]
[{"$nulls":10},"","",{"$f":"IF(K4614=\"\",\"\",COUNTIF($K$7:K4614,\"ﾘｽﾄ１\"))","v":""},"","","","","","","",{"$f":"IF(S4614=\"\",\"\",COUNTIF($S$7:S4614,\"該当２\"))","v":""},"","",{"$f":"IF(V4614=\"\",\"\",COUNTIF($V$7:V4614,\"該当３\"))","v":""}]
[{"$nulls":10},"","",{"$f":"IF(K4615=\"\",\"\",COUNTIF($K$7:K4615,\"ﾘｽﾄ１\"))","v":""},"","","","","","","",{"$f":"IF(S4615=\"\",\"\",COUNTIF($S$7:S4615,\"該当２\"))","v":""},"","",{"$f":"IF(V4615=\"\",\"\",COUNTIF($V$7:V4615,\"該当３\"))","v":""}]
[{"$nulls":10},"","",{"$f":"IF(K4617=\"\",\"\",COUNTIF($K$7:K4617,\"ﾘｽﾄ１\"))","v":""},"","","","","","","",{"$f":"IF(S4617=\"\",\"\",COUNTIF($S$7:S4617,\"該当２\"))","v":""},"","",{"$f":"IF(V4617=\"\",\"\",COUNTIF($V$7:V4617,\"該当３\"))","v":""}]
[{"$nulls":10},"","",{"$f":"IF(K4618=\"\",\"\",COUNTIF($K$7:K4618,\"ﾘｽﾄ１\"))","v":""},"","","","","","","",{"$f":"IF(S4618=\"\",\"\",COUNTIF($S$7:S4618,\"該当２\"))","v":""},"","",{"$f":"IF(V4618=\"\",\"\",COUNTIF($V$7:V4618,\"該当３\"))","v":""}]
[{"$nulls":10},"","",{"$f":"IF(K4620=\"\",\"\",COUNTIF($K$7:K4620,\"ﾘｽﾄ１\"))","v":""},"","","","","","","",{"$f":"IF(S4620=\"\",\"\",COUNTIF($S$7:S4620,\"該当２\"))","v":""},"","",{"$f":"IF(V4620=\"\",\"\",COUNTIF($V$7:V4620,\"該当３\"))","v":""}]
[{"$nulls":10},"","",{"$f":"IF(K4621=\"\",\"\",COUNTIF($K$7:K4621,\"ﾘｽﾄ１\"))","v":""},"","","","","","","",{"$f":"IF(S4621=\"\",\"\",COUNTIF($S$7:S4621,\"該当２\"))","v":""},"","",{"$f":"IF(V4621=\"\",\"\",COUNTIF($V$7:V4621,\"該当３\"))","v":""}]
[{"$nulls":10},"","",{"$f":"IF(K4623=\"\",\"\",COUNTIF($K$7:K4623,\"ﾘｽﾄ１\"))","v":""},"","","","","","","",{"$f":"IF(S4623=\"\",\"\",COUNTIF($S$7:S4623,\"該当２\"))","v":""},"","",{"$f":"IF(V4623=\"\",\"\",COUNTIF($V$7:V4623,\"該当３\"))","v":""}]
[{"$nulls":10},"","",{"$f":"IF(K4624=\"\",\"\",COUNTIF($K$7:K4624,\"ﾘｽﾄ１\"))","v":""},"","","","","","","",{"$f":"IF(S4624=\"\",\"\",COUNTIF($S$7:S4624,\"該当２\"))","v":""},"","",{"$f":"IF(V4624=\"\",\"\",COUNTIF($V$7:V4624,\"該当３\"))","v":""}]
[{"$nulls":10},"","",{"$f":"IF(K4626=\"\",\"\",COUNTIF($K$7:K4626,\"ﾘｽﾄ１\"))","v":""},"","","","","","","",{"$f":"IF(S4626=\"\",\"\",COUNTIF($S$7:S4626,\"該当２\"))","v":""},"","",{"$f":"IF(V4626=\"\",\"\",COUNTIF($V$7:V4626,\"該当３\"))","v":""}]
[{"$nulls":10},"","",{"$f":"IF(K4627=\"\",\"\",COUNTIF($K$7:K4627,\"ﾘｽﾄ１\"))","v":""},"","","","","","","",{"$f":"IF(S4627=\"\",\"\",COUNTIF($S$7:S4627,\"該当２\"))","v":""},"","",{"$f":"IF(V4627=\"\",\"\",COUNTIF($V$7:V4627,\"該当３\"))","v":""}]
[{"$nulls":10},"","",{"$f":"IF(K4629=\"\",\"\",COUNTIF($K$7:K4629,\"ﾘｽﾄ１\"))","v":""},"","","","","","","",{"$f":"IF(S4629=\"\",\"\",COUNTIF($S$7:S4629,\"該当２\"))","v":""},"","",{"$f":"IF(V4629=\"\",\"\",COUNTIF($V$7:V4629,\"該当３\"))","v":""}]
[{"$nulls":10},"","",{"$f":"IF(K4630=\"\",\"\",COUNTIF($K$7:K4630,\"ﾘｽﾄ１\"))","v":""},"","","","","","","",{"$f":"IF(S4630=\"\",\"\",COUNTIF($S$7:S4630,\"該当２\"))","v":""},"","",{"$f":"IF(V4630=\"\",\"\",COUNTIF($V$7:V4630,\"該当３\"))","v":""}]
[{"$nulls":10},"","",{"$f":"IF(K4632=\"\",\"\",COUNTIF($K$7:K4632,\"ﾘｽﾄ１\"))","v":""},"","","","","","","",{"$f":"IF(S4632=\"\",\"\",COUNTIF($S$7:S4632,\"該当２\"))","v":""},"","",{"$f":"IF(V4632=\"\",\"\",COUNTIF($V$7:V4632,\"該当３\"))","v":""}]
[{"$nulls":10},"","",{"$f":"IF(K4633=\"\",\"\",COUNTIF($K$7:K4633,\"ﾘｽﾄ１\"))","v":""},"","","","","","","",{"$f":"IF(S4633=\"\",\"\",COUNTIF($S$7:S4633,\"該当２\"))","v":""},"","",{"$f":"IF(V4633=\"\",\"\",COUNTIF($V$7:V4633,\"該当３\"))","v":""}]
[{"$nulls":10},"","",{"$f":"IF(K4635=\"\",\"\",COUNTIF($K$7:K4635,\"ﾘｽﾄ１\"))","v":""},"","","","","","","",{"$f":"IF(S4635=\"\",\"\",COUNTIF($S$7:S4635,\"該当２\"))","v":""},"","",{"$f":"IF(V4635=\"\",\"\",COUNTIF($V$7:V4635,\"該当３\"))","v":""}]
[{"$nulls":10},"","",{"$f":"IF(K4636=\"\",\"\",COUNTIF($K$7:K4636,\"ﾘｽﾄ１\"))","v":""},"","","","","","","",{"$f":"IF(S4636=\"\",\"\",COUNTIF($S$7:S4636,\"該当２\"))","v":""},"","",{"$f":"IF(V4636=\"\",\"\",COUNTIF($V$7:V4636,\"該当３\"))","v":""}]
[{"$nulls":10},"","",{"$f":"IF(K4638=\"\",\"\",COUNTIF($K$7:K4638,\"ﾘｽﾄ１\"))","v":""},"","","","","","","",{"$f":"IF(S4638=\"\",\"\",COUNTIF($S$7:S4638,\"該当２\"))","v":""},"","",{"$f":"IF(V4638=\"\",\"\",COUNTIF($V$7:V4638,\"該当３\"))","v":""}]
[{"$nulls":10},"","",{"$f":"IF(K4639=\"\",\"\",COUNTIF($K$7:K4639,\"ﾘｽﾄ１\"))","v":""},"","","","","","","",{"$f":"IF(S4639=\"\",\"\",COUNTIF($S$7:S4639,\"該当２\"))","v":""},"","",{"$f":"IF(V4639=\"\",\"\",COUNTIF($V$7:V4639,\"該当３\"))","v":""}]
[{"$nulls":10},"","",{"$f":"IF(K4641=\"\",\"\",COUNTIF($K$7:K4641,\"ﾘｽﾄ１\"))","v":""},"","","","","","","",{"$f":"IF(S4641=\"\",\"\",COUNTIF($S$7:S4641,\"該当２\"))","v":""},"","",{"$f":"IF(V4641=\"\",\"\",COUNTIF($V$7:V4641,\"該当３\"))","v":""}]
[{"$nulls":10},"","",{"$f":"IF(K4642=\"\",\"\",COUNTIF($K$7:K4642,\"ﾘｽﾄ１\"))","v":""},"","","","","","","",{"$f":"IF(S4642=\"\",\"\",COUNTIF($S$7:S4642,\"該当２\"))","v":""},"","",{"$f":"IF(V4642=\"\",\"\",COUNTIF($V$7:V4642,\"該当３\"))","v":""}]
[{"$nulls":10},"","",{"$f":"IF(K4644=\"\",\"\",COUNTIF($K$7:K4644,\"ﾘｽﾄ１\"))","v":""},"","","","","","","",{"$f":"IF(S4644=\"\",\"\",COUNTIF($S$7:S4644,\"該当２\"))","v":""},"","",{"$f":"IF(V4644=\"\",\"\",COUNTIF($V$7:V4644,\"該当３\"))","v":""}]
[{"$nulls":10},"","",{"$f":"IF(K4645=\"\",\"\",COUNTIF($K$7:K4645,\"ﾘｽﾄ１\"))","v":""},"","","","","","","",{"$f":"IF(S4645=\"\",\"\",COUNTIF($S$7:S4645,\"該当２\"))","v":""},"","",{"$f":"IF(V4645=\"\",\"\",COUNTIF($V$7:V4645,\"該当３\"))","v":""}]
[{"$nulls":10},"","",{"$f":"IF(K4647=\"\",\"\",COUNTIF($K$7:K4647,\"ﾘｽﾄ１\"))","v":""},"","","","","","","",{"$f":"IF(S4647=\"\",\"\",COUNTIF($S$7:S4647,\"該当２\"))","v":""},"","",{"$f":"IF(V4647=\"\",\"\",COUNTIF($V$7:V4647,\"該当３\"))","v":""}]
[{"$nulls":10},"","",{"$f":"IF(K4648=\"\",\"\",COUNTIF($K$7:K4648,\"ﾘｽﾄ１\"))","v":""},"","","","","","","",{"$f":"IF(S4648=\"\",\"\",COUNTIF($S$7:S4648,\"該当２\"))","v":""},"","",{"$f":"IF(V4648=\"\",\"\",COUNTIF($V$7:V4648,\"該当３\"))","v":""}]
[{"$nulls":10},"","",{"$f":"IF(K4650=\"\",\"\",COUNTIF($K$7:K4650,\"ﾘｽﾄ１\"))","v":""},"","","","","","","",{"$f":"IF(S4650=\"\",\"\",COUNTIF($S$7:S4650,\"該当２\"))","v":""},"","",{"$f":"IF(V4650=\"\",\"\",COUNTIF($V$7:V4650,\"該当３\"))","v":""}]
[{"$nulls":10},"","",{"$f":"IF(K4651=\"\",\"\",COUNTIF($K$7:K4651,\"ﾘｽﾄ１\"))","v":""},"","","","","","","",{"$f":"IF(S4651=\"\",\"\",COUNTIF($S$7:S4651,\"該当２\"))","v":""},"","",{"$f":"IF(V4651=\"\",\"\",COUNTIF($V$7:V4651,\"該当３\"))","v":""}]
[{"$nulls":10},"","",{"$f":"IF(K4653=\"\",\"\",COUNTIF($K$7:K4653,\"ﾘｽﾄ１\"))","v":""},"","","","","","","",{"$f":"IF(S4653=\"\",\"\",COUNTIF($S$7:S4653,\"該当２\"))","v":""},"","",{"$f":"IF(V4653=\"\",\"\",COUNTIF($V$7:V4653,\"該当３\"))","v":""}]
[{"$nulls":10},"","",{"$f":"IF(K4654=\"\",\"\",COUNTIF($K$7:K4654,\"ﾘｽﾄ１\"))","v":""},"","","","","","","",{"$f":"IF(S4654=\"\",\"\",COUNTIF($S$7:S4654,\"該当２\"))","v":""},"","",{"$f":"IF(V4654=\"\",\"\",COUNTIF($V$7:V4654,\"該当３\"))","v":""}]
[{"$nulls":10},"","",{"$f":"IF(K4656=\"\",\"\",COUNTIF($K$7:K4656,\"ﾘｽﾄ１\"))","v":""},"","","","","","","",{"$f":"IF(S4656=\"\",\"\",COUNTIF($S$7:S4656,\"該当２\"))","v":""},"","",{"$f":"IF(V4656=\"\",\"\",COUNTIF($V$7:V4656,\"該当３\"))","v":""}]
[{"$nulls":10},"","",{"$f":"IF(K4657=\"\",\"\",COUNTIF($K$7:K4657,\"ﾘｽﾄ１\"))","v":""},"","","","","","","",{"$f":"IF(S4657=\"\",\"\",COUNTIF($S$7:S4657,\"該当２\"))","v":""},"","",{"$f":"IF(V4657=\"\",\"\",COUNTIF($V$7:V4657,\"該当３\"))","v":""}]
[{"$nulls":10},"","",{"$f":"IF(K4659=\"\",\"\",COUNTIF($K$7:K4659,\"ﾘｽﾄ１\"))","v":""},"","","","","","","",{"$f":"IF(S4659=\"\",\"\",COUNTIF($S$7:S4659,\"該当２\"))","v":""},"","",{"$f":"IF(V4659=\"\",\"\",COUNTIF($V$7:V4659,\"該当３\"))","v":""}]
[{"$nulls":10},"","",{"$f":"IF(K4660=\"\",\"\",COUNTIF($K$7:K4660,\"ﾘｽﾄ１\"))","v":""},"","","","","","","",{"$f":"IF(S4660=\"\",\"\",COUNTIF($S$7:S4660,\"該当２\"))","v":""},"","",{"$f":"IF(V4660=\"\",\"\",COUNTIF($V$7:V4660,\"該当３\"))","v":""}]
[{"$nulls":10},"","",{"$f":"IF(K4662=\"\",\"\",COUNTIF($K$7:K4662,\"ﾘｽﾄ１\"))","v":""},"","","","","","","",{"$f":"IF(S4662=\"\",\"\",COUNTIF($S$7:S4662,\"該当２\"))","v":""},"","",{"$f":"IF(V4662=\"\",\"\",COUNTIF($V$7:V4662,\"該当３\"))","v":""}]
[{"$nulls":10},"",{"$f":"IF(K4663=\"ﾘｽﾄ１\",G4663,\"\")","v":""},{"$f":"IF(K4663=\"\",\"\",COUNTIF($K$7:K4663,\"ﾘｽﾄ１\"))","v":""},{"$f":"IF(AND(D4663=0,E4663>0),\"同一区\",\"\")","v":""},{"$f":"IF(AND(EXACT($K$2,G4663),H4663>0),\"該当１\",\"\")","v":""},{"$f":"IF(O4663=\"該当１\",G4663,\"\")","v":""},{"$f":"IF(O4663=\"該当１\",\"ﾘｽﾄ2\",\"\")","v":""},{"$f":"IF(Q4663=\"ﾘｽﾄ2\",H4663,\"\")","v":""},{"$f":"IF(AND(Q4663=\"ﾘｽﾄ2\",OR(I4663=0,AND(N4663=\"同一区\",E4663=1))),\"該当２\",\"\")","v":""},{"$f":"IF(S4663=\"該当２\",H4663,\"\")","v":""},{"$f":"IF(S4663=\"\",\"\",COUNTIF($S$7:S4663,\"該当２\"))","v":""},{"$f":"IF(AND($S$2=H4663,E4663>0,E4663<998),\"該当３\",\"\")","v":""},{"$f":"IF(V4663=\"該当３\",I4663,\"\")","v":""},{"$f":"IF(V4663=\"\",\"\",COUNTIF($V$7:V4663,\"該当３\"))","v":""}]
[{"$nulls":10},"","",{"$f":"IF(K4665=\"\",\"\",COUNTIF($K$7:K4665,\"ﾘｽﾄ１\"))","v":""},"","","","","","","",{"$f":"IF(S4665=\"\",\"\",COUNTIF($S$7:S4665,\"該当２\"))","v":""},"","",{"$f":"IF(V4665=\"\",\"\",COUNTIF($V$7:V4665,\"該当３\"))","v":""}]
[{"$nulls":10},"","",{"$f":"IF(K4666=\"\",\"\",COUNTIF($K$7:K4666,\"ﾘｽﾄ１\"))","v":""},"","","","","","","",{"$f":"IF(S4666=\"\",\"\",COUNTIF($S$7:S4666,\"該当２\"))","v":""},"","",{"$f":"IF(V4666=\"\",\"\",COUNTIF($V$7:V4666,\"該当３\"))","v":""}]
[{"$nulls":10},"","",{"$f":"IF(K4668=\"\",\"\",COUNTIF($K$7:K4668,\"ﾘｽﾄ１\"))","v":""},"","","","","","","",{"$f":"IF(S4668=\"\",\"\",COUNTIF($S$7:S4668,\"該当２\"))","v":""},"","",{"$f":"IF(V4668=\"\",\"\",COUNTIF($V$7:V4668,\"該当３\"))","v":""}]
[{"$nulls":10},"","",{"$f":"IF(K4669=\"\",\"\",COUNTIF($K$7:K4669,\"ﾘｽﾄ１\"))","v":""},"","","","","","","",{"$f":"IF(S4669=\"\",\"\",COUNTIF($S$7:S4669,\"該当２\"))","v":""},"","",{"$f":"IF(V4669=\"\",\"\",COUNTIF($V$7:V4669,\"該当３\"))","v":""}]
[{"$nulls":10},"","",{"$f":"IF(K4671=\"\",\"\",COUNTIF($K$7:K4671,\"ﾘｽﾄ１\"))","v":""},"","","","","","","",{"$f":"IF(S4671=\"\",\"\",COUNTIF($S$7:S4671,\"該当２\"))","v":""},"","",{"$f":"IF(V4671=\"\",\"\",COUNTIF($V$7:V4671,\"該当３\"))","v":""}]
[{"$nulls":10},"","",{"$f":"IF(K4672=\"\",\"\",COUNTIF($K$7:K4672,\"ﾘｽﾄ１\"))","v":""},"","","","","","","",{"$f":"IF(S4672=\"\",\"\",COUNTIF($S$7:S4672,\"該当２\"))","v":""},"","",{"$f":"IF(V4672=\"\",\"\",COUNTIF($V$7:V4672,\"該当３\"))","v":""}]
[{"$nulls":10},"","",{"$f":"IF(K4674=\"\",\"\",COUNTIF($K$7:K4674,\"ﾘｽﾄ１\"))","v":""},"","","","","","","",{"$f":"IF(S4674=\"\",\"\",COUNTIF($S$7:S4674,\"該当２\"))","v":""},"","",{"$f":"IF(V4674=\"\",\"\",COUNTIF($V$7:V4674,\"該当３\"))","v":""}]
[{"$nulls":10},"","",{"$f":"IF(K4675=\"\",\"\",COUNTIF($K$7:K4675,\"ﾘｽﾄ１\"))","v":""},"","","","","","","",{"$f":"IF(S4675=\"\",\"\",COUNTIF($S$7:S4675,\"該当２\"))","v":""},"","",{"$f":"IF(V4675=\"\",\"\",COUNTIF($V$7:V4675,\"該当３\"))","v":""}]
[{"$nulls":10},"","",{"$f":"IF(K4677=\"\",\"\",COUNTIF($K$7:K4677,\"ﾘｽﾄ１\"))","v":""},"","","","","","","",{"$f":"IF(S4677=\"\",\"\",COUNTIF($S$7:S4677,\"該当２\"))","v":""},"","",{"$f":"IF(V4677=\"\",\"\",COUNTIF($V$7:V4677,\"該当３\"))","v":""}]
[{"$nulls":10},"","",{"$f":"IF(K4678=\"\",\"\",COUNTIF($K$7:K4678,\"ﾘｽﾄ１\"))","v":""},"","","","","","","",{"$f":"IF(S4678=\"\",\"\",COUNTIF($S$7:S4678,\"該当２\"))","v":""},"","",{"$f":"IF(V4678=\"\",\"\",COUNTIF($V$7:V4678,\"該当３\"))","v":""}]
[{"$nulls":10},"","",{"$f":"IF(K4680=\"\",\"\",COUNTIF($K$7:K4680,\"ﾘｽﾄ１\"))","v":""},"","","","","","","",{"$f":"IF(S4680=\"\",\"\",COUNTIF($S$7:S4680,\"該当２\"))","v":""},"","",{"$f":"IF(V4680=\"\",\"\",COUNTIF($V$7:V4680,\"該当３\"))","v":""}]
[{"$nulls":10},"","",{"$f":"IF(K4681=\"\",\"\",COUNTIF($K$7:K4681,\"ﾘｽﾄ１\"))","v":""},"","","","","","","",{"$f":"IF(S4681=\"\",\"\",COUNTIF($S$7:S4681,\"該当２\"))","v":""},"","",{"$f":"IF(V4681=\"\",\"\",COUNTIF($V$7:V4681,\"該当３\"))","v":""}]
[{"$nulls":10},{"$f":"IF(AND($C4683>0,$H4683=\"\"),\"ﾘｽﾄ１\",\"\")","v":""},"",{"$f":"IF(K4683=\"\",\"\",COUNTIF($K$7:K4683,\"ﾘｽﾄ１\"))","v":""},"","","","","","","",{"$f":"IF(S4683=\"\",\"\",COUNTIF($S$7:S4683,\"該当２\"))","v":""},"","",{"$f":"IF(V4683=\"\",\"\",COUNTIF($V$7:V4683,\"該当３\"))","v":""}]
[{"$nulls":10},"","",{"$f":"IF(K4684=\"\",\"\",COUNTIF($K$7:K4684,\"ﾘｽﾄ１\"))","v":""},"","","","","","","",{"$f":"IF(S4684=\"\",\"\",COUNTIF($S$7:S4684,\"該当２\"))","v":""},"","",{"$f":"IF(V4684=\"\",\"\",COUNTIF($V$7:V4684,\"該当３\"))","v":""}]
[{"$nulls":10},"","",{"$f":"IF(K4686=\"\",\"\",COUNTIF($K$7:K4686,\"ﾘｽﾄ１\"))","v":""},"","","","","","","",{"$f":"IF(S4686=\"\",\"\",COUNTIF($S$7:S4686,\"該当２\"))","v":""},"","",{"$f":"IF(V4686=\"\",\"\",COUNTIF($V$7:V4686,\"該当３\"))","v":""}]
[{"$nulls":10},"","",{"$f":"IF(K4687=\"\",\"\",COUNTIF($K$7:K4687,\"ﾘｽﾄ１\"))","v":""},"","","","","","","",{"$f":"IF(S4687=\"\",\"\",COUNTIF($S$7:S4687,\"該当２\"))","v":""},"","",{"$f":"IF(V4687=\"\",\"\",COUNTIF($V$7:V4687,\"該当３\"))","v":""}]
[{"$nulls":10},"","",{"$f":"IF(K4689=\"\",\"\",COUNTIF($K$7:K4689,\"ﾘｽﾄ１\"))","v":""},"","","","","","","",{"$f":"IF(S4689=\"\",\"\",COUNTIF($S$7:S4689,\"該当２\"))","v":""},"","",{"$f":"IF(V4689=\"\",\"\",COUNTIF($V$7:V4689,\"該当３\"))","v":""}]
[{"$nulls":10},"","",{"$f":"IF(K4690=\"\",\"\",COUNTIF($K$7:K4690,\"ﾘｽﾄ１\"))","v":""},"","","","","","","",{"$f":"IF(S4690=\"\",\"\",COUNTIF($S$7:S4690,\"該当２\"))","v":""},"","",{"$f":"IF(V4690=\"\",\"\",COUNTIF($V$7:V4690,\"該当３\"))","v":""}]
[{"$nulls":10},"","",{"$f":"IF(K4692=\"\",\"\",COUNTIF($K$7:K4692,\"ﾘｽﾄ１\"))","v":""},"","","","","","","",{"$f":"IF(S4692=\"\",\"\",COUNTIF($S$7:S4692,\"該当２\"))","v":""},"","",{"$f":"IF(V4692=\"\",\"\",COUNTIF($V$7:V4692,\"該当３\"))","v":""}]
[{"$nulls":10},"","",{"$f":"IF(K4693=\"\",\"\",COUNTIF($K$7:K4693,\"ﾘｽﾄ１\"))","v":""},"","","","","","","",{"$f":"IF(S4693=\"\",\"\",COUNTIF($S$7:S4693,\"該当２\"))","v":""},"","",{"$f":"IF(V4693=\"\",\"\",COUNTIF($V$7:V4693,\"該当３\"))","v":""}]
[{"$nulls":10},"","",{"$f":"IF(K4695=\"\",\"\",COUNTIF($K$7:K4695,\"ﾘｽﾄ１\"))","v":""},"","","","","","","",{"$f":"IF(S4695=\"\",\"\",COUNTIF($S$7:S4695,\"該当２\"))","v":""},"","",{"$f":"IF(V4695=\"\",\"\",COUNTIF($V$7:V4695,\"該当３\"))","v":""}]
[{"$nulls":10},"","",{"$f":"IF(K4696=\"\",\"\",COUNTIF($K$7:K4696,\"ﾘｽﾄ１\"))","v":""},"","","","","","","",{"$f":"IF(S4696=\"\",\"\",COUNTIF($S$7:S4696,\"該当２\"))","v":""},"","",{"$f":"IF(V4696=\"\",\"\",COUNTIF($V$7:V4696,\"該当３\"))","v":""}]
[{"$nulls":10},"","",{"$f":"IF(K4698=\"\",\"\",COUNTIF($K$7:K4698,\"ﾘｽﾄ１\"))","v":""},"","","","","","","",{"$f":"IF(S4698=\"\",\"\",COUNTIF($S$7:S4698,\"該当２\"))","v":""},"","",{"$f":"IF(V4698=\"\",\"\",COUNTIF($V$7:V4698,\"該当３\"))","v":""}]
[{"$nulls":10},"","",{"$f":"IF(K4699=\"\",\"\",COUNTIF($K$7:K4699,\"ﾘｽﾄ１\"))","v":""},"","","","","","","",{"$f":"IF(S4699=\"\",\"\",COUNTIF($S$7:S4699,\"該当２\"))","v":""},"","",{"$f":"IF(V4699=\"\",\"\",COUNTIF($V$7:V4699,\"該当３\"))","v":""}]
[{"$nulls":10},"","",{"$f":"IF(K4701=\"\",\"\",COUNTIF($K$7:K4701,\"ﾘｽﾄ１\"))","v":""},"","","","","","","",{"$f":"IF(S4701=\"\",\"\",COUNTIF($S$7:S4701,\"該当２\"))","v":""},"","",{"$f":"IF(V4701=\"\",\"\",COUNTIF($V$7:V4701,\"該当３\"))","v":""}]
[{"$nulls":10},"","",{"$f":"IF(K4702=\"\",\"\",COUNTIF($K$7:K4702,\"ﾘｽﾄ１\"))","v":""},"","","","","","","",{"$f":"IF(S4702=\"\",\"\",COUNTIF($S$7:S4702,\"該当２\"))","v":""},"","",{"$f":"IF(V4702=\"\",\"\",COUNTIF($V$7:V4702,\"該当３\"))","v":""}]
[{"$nulls":10},"","",{"$f":"IF(K4704=\"\",\"\",COUNTIF($K$7:K4704,\"ﾘｽﾄ１\"))","v":""},"","","","","","","",{"$f":"IF(S4704=\"\",\"\",COUNTIF($S$7:S4704,\"該当２\"))","v":""},"","",{"$f":"IF(V4704=\"\",\"\",COUNTIF($V$7:V4704,\"該当３\"))","v":""}]
[{"$nulls":10},"","",{"$f":"IF(K4705=\"\",\"\",COUNTIF($K$7:K4705,\"ﾘｽﾄ１\"))","v":""},"","","","","","","",{"$f":"IF(S4705=\"\",\"\",COUNTIF($S$7:S4705,\"該当２\"))","v":""},"","",{"$f":"IF(V4705=\"\",\"\",COUNTIF($V$7:V4705,\"該当３\"))","v":""}]
[{"$nulls":10},"","",{"$f":"IF(K4707=\"\",\"\",COUNTIF($K$7:K4707,\"ﾘｽﾄ１\"))","v":""},"","","","","","","",{"$f":"IF(S4707=\"\",\"\",COUNTIF($S$7:S4707,\"該当２\"))","v":""},"","",{"$f":"IF(V4707=\"\",\"\",COUNTIF($V$7:V4707,\"該当３\"))","v":""}]
[{"$nulls":10},"","",{"$f":"IF(K4708=\"\",\"\",COUNTIF($K$7:K4708,\"ﾘｽﾄ１\"))","v":""},"","","","","","","",{"$f":"IF(S4708=\"\",\"\",COUNTIF($S$7:S4708,\"該当２\"))","v":""},"","",{"$f":"IF(V4708=\"\",\"\",COUNTIF($V$7:V4708,\"該当３\"))","v":""}]
[{"$nulls":10},"","",{"$f":"IF(K4710=\"\",\"\",COUNTIF($K$7:K4710,\"ﾘｽﾄ１\"))","v":""},"","","","","","","",{"$f":"IF(S4710=\"\",\"\",COUNTIF($S$7:S4710,\"該当２\"))","v":""},"","",{"$f":"IF(V4710=\"\",\"\",COUNTIF($V$7:V4710,\"該当３\"))","v":""}]
[{"$nulls":10},"","",{"$f":"IF(K4711=\"\",\"\",COUNTIF($K$7:K4711,\"ﾘｽﾄ１\"))","v":""},"","","","","","","",{"$f":"IF(S4711=\"\",\"\",COUNTIF($S$7:S4711,\"該当２\"))","v":""},"","",{"$f":"IF(V4711=\"\",\"\",COUNTIF($V$7:V4711,\"該当３\"))","v":""}]
[{"$nulls":10},"","",{"$f":"IF(K4713=\"\",\"\",COUNTIF($K$7:K4713,\"ﾘｽﾄ１\"))","v":""},"","","","","","","",{"$f":"IF(S4713=\"\",\"\",COUNTIF($S$7:S4713,\"該当２\"))","v":""},"","",{"$f":"IF(V4713=\"\",\"\",COUNTIF($V$7:V4713,\"該当３\"))","v":""}]
[{"$nulls":10},"","",{"$f":"IF(K4714=\"\",\"\",COUNTIF($K$7:K4714,\"ﾘｽﾄ１\"))","v":""},"","","","","","","",{"$f":"IF(S4714=\"\",\"\",COUNTIF($S$7:S4714,\"該当２\"))","v":""},"","",{"$f":"IF(V4714=\"\",\"\",COUNTIF($V$7:V4714,\"該当３\"))","v":""}]
[{"$nulls":10},"","",{"$f":"IF(K4716=\"\",\"\",COUNTIF($K$7:K4716,\"ﾘｽﾄ１\"))","v":""},"","","","","","","",{"$f":"IF(S4716=\"\",\"\",COUNTIF($S$7:S4716,\"該当２\"))","v":""},"","",{"$f":"IF(V4716=\"\",\"\",COUNTIF($V$7:V4716,\"該当３\"))","v":""}]
[{"$nulls":10},"","",{"$f":"IF(K4717=\"\",\"\",COUNTIF($K$7:K4717,\"ﾘｽﾄ１\"))","v":""},"","","","","","","",{"$f":"IF(S4717=\"\",\"\",COUNTIF($S$7:S4717,\"該当２\"))","v":""},"","",{"$f":"IF(V4717=\"\",\"\",COUNTIF($V$7:V4717,\"該当３\"))","v":""}]
[{"$nulls":10},"","",{"$f":"IF(K4719=\"\",\"\",COUNTIF($K$7:K4719,\"ﾘｽﾄ１\"))","v":""},"","","","","","","",{"$f":"IF(S4719=\"\",\"\",COUNTIF($S$7:S4719,\"該当２\"))","v":""},"","",{"$f":"IF(V4719=\"\",\"\",COUNTIF($V$7:V4719,\"該当３\"))","v":""}]
[{"$nulls":10},"","",{"$f":"IF(K4720=\"\",\"\",COUNTIF($K$7:K4720,\"ﾘｽﾄ１\"))","v":""},"","","","","","","",{"$f":"IF(S4720=\"\",\"\",COUNTIF($S$7:S4720,\"該当２\"))","v":""},"","",{"$f":"IF(V4720=\"\",\"\",COUNTIF($V$7:V4720,\"該当３\"))","v":""}]
[{"$nulls":10},"","",{"$f":"IF(K4722=\"\",\"\",COUNTIF($K$7:K4722,\"ﾘｽﾄ１\"))","v":""},"","","","","","","",{"$f":"IF(S4722=\"\",\"\",COUNTIF($S$7:S4722,\"該当２\"))","v":""},"","",{"$f":"IF(V4722=\"\",\"\",COUNTIF($V$7:V4722,\"該当３\"))","v":""}]
[{"$nulls":10},"","",{"$f":"IF(K4723=\"\",\"\",COUNTIF($K$7:K4723,\"ﾘｽﾄ１\"))","v":""},"","","","","","","",{"$f":"IF(S4723=\"\",\"\",COUNTIF($S$7:S4723,\"該当２\"))","v":""},"","",{"$f":"IF(V4723=\"\",\"\",COUNTIF($V$7:V4723,\"該当３\"))","v":""}]
[{"$nulls":10},"","",{"$f":"IF(K4725=\"\",\"\",COUNTIF($K$7:K4725,\"ﾘｽﾄ１\"))","v":""},"","","","","","","",{"$f":"IF(S4725=\"\",\"\",COUNTIF($S$7:S4725,\"該当２\"))","v":""},"","",{"$f":"IF(V4725=\"\",\"\",COUNTIF($V$7:V4725,\"該当３\"))","v":""}]
[{"$nulls":10},"","",{"$f":"IF(K4726=\"\",\"\",COUNTIF($K$7:K4726,\"ﾘｽﾄ１\"))","v":""},"","","","","","","",{"$f":"IF(S4726=\"\",\"\",COUNTIF($S$7:S4726,\"該当２\"))","v":""},"","",{"$f":"IF(V4726=\"\",\"\",COUNTIF($V$7:V4726,\"該当３\"))","v":""}]
[{"$nulls":10},"","",{"$f":"IF(K4728=\"\",\"\",COUNTIF($K$7:K4728,\"ﾘｽﾄ１\"))","v":""},"","","","","","","",{"$f":"IF(S4728=\"\",\"\",COUNTIF($S$7:S4728,\"該当２\"))","v":""},"","",{"$f":"IF(V4728=\"\",\"\",COUNTIF($V$7:V4728,\"該当３\"))","v":""}]
[{"$nulls":10},"","",{"$f":"IF(K4729=\"\",\"\",COUNTIF($K$7:K4729,\"ﾘｽﾄ１\"))","v":""},"","","","","","","",{"$f":"IF(S4729=\"\",\"\",COUNTIF($S$7:S4729,\"該当２\"))","v":""},"","",{"$f":"IF(V4729=\"\",\"\",COUNTIF($V$7:V4729,\"該当３\"))","v":""}]
[{"$nulls":10},"","",{"$f":"IF(K4731=\"\",\"\",COUNTIF($K$7:K4731,\"ﾘｽﾄ１\"))","v":""},"","","","","","","",{"$f":"IF(S4731=\"\",\"\",COUNTIF($S$7:S4731,\"該当２\"))","v":""},"","",{"$f":"IF(V4731=\"\",\"\",COUNTIF($V$7:V4731,\"該当３\"))","v":""}]
[{"$nulls":10},"","",{"$f":"IF(K4732=\"\",\"\",COUNTIF($K$7:K4732,\"ﾘｽﾄ１\"))","v":""},"","","","","","","",{"$f":"IF(S4732=\"\",\"\",COUNTIF($S$7:S4732,\"該当２\"))","v":""},"","",{"$f":"IF(V4732=\"\",\"\",COUNTIF($V$7:V4732,\"該当３\"))","v":""}]
[{"$nulls":10},"","",{"$f":"IF(K4734=\"\",\"\",COUNTIF($K$7:K4734,\"ﾘｽﾄ１\"))","v":""},"","","","","","","",{"$f":"IF(S4734=\"\",\"\",COUNTIF($S$7:S4734,\"該当２\"))","v":""},"","",{"$f":"IF(V4734=\"\",\"\",COUNTIF($V$7:V4734,\"該当３\"))","v":""}]
[{"$nulls":10},"","",{"$f":"IF(K4735=\"\",\"\",COUNTIF($K$7:K4735,\"ﾘｽﾄ１\"))","v":""},"","","","","","","",{"$f":"IF(S4735=\"\",\"\",COUNTIF($S$7:S4735,\"該当２\"))","v":""},"","",{"$f":"IF(V4735=\"\",\"\",COUNTIF($V$7:V4735,\"該当３\"))","v":""}]
[{"$nulls":10},"","",{"$f":"IF(K4737=\"\",\"\",COUNTIF($K$7:K4737,\"ﾘｽﾄ１\"))","v":""},"","","","","","","",{"$f":"IF(S4737=\"\",\"\",COUNTIF($S$7:S4737,\"該当２\"))","v":""},"","",{"$f":"IF(V4737=\"\",\"\",COUNTIF($V$7:V4737,\"該当３\"))","v":""}]
[{"$nulls":10},"","",{"$f":"IF(K4738=\"\",\"\",COUNTIF($K$7:K4738,\"ﾘｽﾄ１\"))","v":""},"","","","","","","",{"$f":"IF(S4738=\"\",\"\",COUNTIF($S$7:S4738,\"該当２\"))","v":""},"","",{"$f":"IF(V4738=\"\",\"\",COUNTIF($V$7:V4738,\"該当３\"))","v":""}]
[{"$nulls":10},"","",{"$f":"IF(K4740=\"\",\"\",COUNTIF($K$7:K4740,\"ﾘｽﾄ１\"))","v":""},"","","","","","","",{"$f":"IF(S4740=\"\",\"\",COUNTIF($S$7:S4740,\"該当２\"))","v":""},"","",{"$f":"IF(V4740=\"\",\"\",COUNTIF($V$7:V4740,\"該当３\"))","v":""}]
[{"$nulls":10},"","",{"$f":"IF(K4741=\"\",\"\",COUNTIF($K$7:K4741,\"ﾘｽﾄ１\"))","v":""},"","","","","","","",{"$f":"IF(S4741=\"\",\"\",COUNTIF($S$7:S4741,\"該当２\"))","v":""},"","",{"$f":"IF(V4741=\"\",\"\",COUNTIF($V$7:V4741,\"該当３\"))","v":""}]
[{"$nulls":10},"","",{"$f":"IF(K4743=\"\",\"\",COUNTIF($K$7:K4743,\"ﾘｽﾄ１\"))","v":""},"","","","","","","",{"$f":"IF(S4743=\"\",\"\",COUNTIF($S$7:S4743,\"該当２\"))","v":""},"","",{"$f":"IF(V4743=\"\",\"\",COUNTIF($V$7:V4743,\"該当３\"))","v":""}]
[{"$nulls":10},"","",{"$f":"IF(K4744=\"\",\"\",COUNTIF($K$7:K4744,\"ﾘｽﾄ１\"))","v":""},"","","","","","","",{"$f":"IF(S4744=\"\",\"\",COUNTIF($S$7:S4744,\"該当２\"))","v":""},"","",{"$f":"IF(V4744=\"\",\"\",COUNTIF($V$7:V4744,\"該当３\"))","v":""}]
[{"$nulls":10},"","",{"$f":"IF(K4746=\"\",\"\",COUNTIF($K$7:K4746,\"ﾘｽﾄ１\"))","v":""},"","","","","","","",{"$f":"IF(S4746=\"\",\"\",COUNTIF($S$7:S4746,\"該当２\"))","v":""},"","",{"$f":"IF(V4746=\"\",\"\",COUNTIF($V$7:V4746,\"該当３\"))","v":""}]
[{"$nulls":10},{"$f":"IF(AND($C4747>0,$H4747=\"\"),\"ﾘｽﾄ１\",\"\")","v":""},"",{"$f":"IF(K4747=\"\",\"\",COUNTIF($K$7:K4747,\"ﾘｽﾄ１\"))","v":""},"","","","","","","",{"$f":"IF(S4747=\"\",\"\",COUNTIF($S$7:S4747,\"該当２\"))","v":""},"","",{"$f":"IF(V4747=\"\",\"\",COUNTIF($V$7:V4747,\"該当３\"))","v":""}]
[{"$nulls":10},"","",{"$f":"IF(K4749=\"\",\"\",COUNTIF($K$7:K4749,\"ﾘｽﾄ１\"))","v":""},"","","","","","","",{"$f":"IF(S4749=\"\",\"\",COUNTIF($S$7:S4749,\"該当２\"))","v":""},"","",{"$f":"IF(V4749=\"\",\"\",COUNTIF($V$7:V4749,\"該当３\"))","v":""}]
[{"$nulls":10},"","",{"$f":"IF(K4750=\"\",\"\",COUNTIF($K$7:K4750,\"ﾘｽﾄ１\"))","v":""},"","","","","","","",{"$f":"IF(S4750=\"\",\"\",COUNTIF($S$7:S4750,\"該当２\"))","v":""},"","",{"$f":"IF(V4750=\"\",\"\",COUNTIF($V$7:V4750,\"該当３\"))","v":""}]
[{"$nulls":10},"","",{"$f":"IF(K4752=\"\",\"\",COUNTIF($K$7:K4752,\"ﾘｽﾄ１\"))","v":""},"","","","","","","",{"$f":"IF(S4752=\"\",\"\",COUNTIF($S$7:S4752,\"該当２\"))","v":""},"","",{"$f":"IF(V4752=\"\",\"\",COUNTIF($V$7:V4752,\"該当３\"))","v":""}]
[{"$nulls":10},"","",{"$f":"IF(K4753=\"\",\"\",COUNTIF($K$7:K4753,\"ﾘｽﾄ１\"))","v":""},"","","","","","","",{"$f":"IF(S4753=\"\",\"\",COUNTIF($S$7:S4753,\"該当２\"))","v":""},"","",{"$f":"IF(V4753=\"\",\"\",COUNTIF($V$7:V4753,\"該当３\"))","v":""}]
[{"$nulls":10},"","",{"$f":"IF(K4755=\"\",\"\",COUNTIF($K$7:K4755,\"ﾘｽﾄ１\"))","v":""},"","","","","","","",{"$f":"IF(S4755=\"\",\"\",COUNTIF($S$7:S4755,\"該当２\"))","v":""},"","",{"$f":"IF(V4755=\"\",\"\",COUNTIF($V$7:V4755,\"該当３\"))","v":""}]
[{"$nulls":10},"","",{"$f":"IF(K4756=\"\",\"\",COUNTIF($K$7:K4756,\"ﾘｽﾄ１\"))","v":""},"","","","","","","",{"$f":"IF(S4756=\"\",\"\",COUNTIF($S$7:S4756,\"該当２\"))","v":""},"","",{"$f":"IF(V4756=\"\",\"\",COUNTIF($V$7:V4756,\"該当３\"))","v":""}]
[{"$nulls":10},"","",{"$f":"IF(K4758=\"\",\"\",COUNTIF($K$7:K4758,\"ﾘｽﾄ１\"))","v":""},"","","","","","","",{"$f":"IF(S4758=\"\",\"\",COUNTIF($S$7:S4758,\"該当２\"))","v":""},"","",{"$f":"IF(V4758=\"\",\"\",COUNTIF($V$7:V4758,\"該当３\"))","v":""}]
[{"$nulls":10},"","",{"$f":"IF(K4759=\"\",\"\",COUNTIF($K$7:K4759,\"ﾘｽﾄ１\"))","v":""},"","","","","","","",{"$f":"IF(S4759=\"\",\"\",COUNTIF($S$7:S4759,\"該当２\"))","v":""},"","",{"$f":"IF(V4759=\"\",\"\",COUNTIF($V$7:V4759,\"該当３\"))","v":""}]
[{"$nulls":10},"","",{"$f":"IF(K4761=\"\",\"\",COUNTIF($K$7:K4761,\"ﾘｽﾄ１\"))","v":""},"","","","","","","",{"$f":"IF(S4761=\"\",\"\",COUNTIF($S$7:S4761,\"該当２\"))","v":""},"","",{"$f":"IF(V4761=\"\",\"\",COUNTIF($V$7:V4761,\"該当３\"))","v":""}]
[{"$nulls":10},"","",{"$f":"IF(K4762=\"\",\"\",COUNTIF($K$7:K4762,\"ﾘｽﾄ１\"))","v":""},"","","","","","","",{"$f":"IF(S4762=\"\",\"\",COUNTIF($S$7:S4762,\"該当２\"))","v":""},"","",{"$f":"IF(V4762=\"\",\"\",COUNTIF($V$7:V4762,\"該当３\"))","v":""}]
[{"$nulls":10},"","",{"$f":"IF(K4764=\"\",\"\",COUNTIF($K$7:K4764,\"ﾘｽﾄ１\"))","v":""},"","","","","","","",{"$f":"IF(S4764=\"\",\"\",COUNTIF($S$7:S4764,\"該当２\"))","v":""},"","",{"$f":"IF(V4764=\"\",\"\",COUNTIF($V$7:V4764,\"該当３\"))","v":""}]
[{"$nulls":10},"","",{"$f":"IF(K4765=\"\",\"\",COUNTIF($K$7:K4765,\"ﾘｽﾄ１\"))","v":""},"","","","","","","",{"$f":"IF(S4765=\"\",\"\",COUNTIF($S$7:S4765,\"該当２\"))","v":""},"","",{"$f":"IF(V4765=\"\",\"\",COUNTIF($V$7:V4765,\"該当３\"))","v":""}]
[{"$nulls":10},"","",{"$f":"IF(K4767=\"\",\"\",COUNTIF($K$7:K4767,\"ﾘｽﾄ１\"))","v":""},"","","","","","","",{"$f":"IF(S4767=\"\",\"\",COUNTIF($S$7:S4767,\"該当２\"))","v":""},"","",{"$f":"IF(V4767=\"\",\"\",COUNTIF($V$7:V4767,\"該当３\"))","v":""}]
[{"$nulls":10},"","",{"$f":"IF(K4768=\"\",\"\",COUNTIF($K$7:K4768,\"ﾘｽﾄ１\"))","v":""},"","","","","","","",{"$f":"IF(S4768=\"\",\"\",COUNTIF($S$7:S4768,\"該当２\"))","v":""},"","",{"$f":"IF(V4768=\"\",\"\",COUNTIF($V$7:V4768,\"該当３\"))","v":""}]
[{"$nulls":10},"","",{"$f":"IF(K4770=\"\",\"\",COUNTIF($K$7:K4770,\"ﾘｽﾄ１\"))","v":""},"","","","","","","",{"$f":"IF(S4770=\"\",\"\",COUNTIF($S$7:S4770,\"該当２\"))","v":""},"","",{"$f":"IF(V4770=\"\",\"\",COUNTIF($V$7:V4770,\"該当３\"))","v":""}]
[{"$nulls":10},"","",{"$f":"IF(K4771=\"\",\"\",COUNTIF($K$7:K4771,\"ﾘｽﾄ１\"))","v":""},"","","","","","","",{"$f":"IF(S4771=\"\",\"\",COUNTIF($S$7:S4771,\"該当２\"))","v":""},"","",{"$f":"IF(V4771=\"\",\"\",COUNTIF($V$7:V4771,\"該当３\"))","v":""}]
[{"$nulls":10},"","",{"$f":"IF(K4773=\"\",\"\",COUNTIF($K$7:K4773,\"ﾘｽﾄ１\"))","v":""},"","","","","","","",{"$f":"IF(S4773=\"\",\"\",COUNTIF($S$7:S4773,\"該当２\"))","v":""},"","",{"$f":"IF(V4773=\"\",\"\",COUNTIF($V$7:V4773,\"該当３\"))","v":""}]
[{"$nulls":10},"","",{"$f":"IF(K4774=\"\",\"\",COUNTIF($K$7:K4774,\"ﾘｽﾄ１\"))","v":""},"","","","","","","",{"$f":"IF(S4774=\"\",\"\",COUNTIF($S$7:S4774,\"該当２\"))","v":""},"","",{"$f":"IF(V4774=\"\",\"\",COUNTIF($V$7:V4774,\"該当３\"))","v":""}]
[{"$nulls":10},"","",{"$f":"IF(K4776=\"\",\"\",COUNTIF($K$7:K4776,\"ﾘｽﾄ１\"))","v":""},"","","","","","","",{"$f":"IF(S4776=\"\",\"\",COUNTIF($S$7:S4776,\"該当２\"))","v":""},"","",{"$f":"IF(V4776=\"\",\"\",COUNTIF($V$7:V4776,\"該当３\"))","v":""}]
[{"$nulls":10},"","",{"$f":"IF(K4777=\"\",\"\",COUNTIF($K$7:K4777,\"ﾘｽﾄ１\"))","v":""},"","","","","","","",{"$f":"IF(S4777=\"\",\"\",COUNTIF($S$7:S4777,\"該当２\"))","v":""},"","",{"$f":"IF(V4777=\"\",\"\",COUNTIF($V$7:V4777,\"該当３\"))","v":""}]
[{"$nulls":10},"","",{"$f":"IF(K4779=\"\",\"\",COUNTIF($K$7:K4779,\"ﾘｽﾄ１\"))","v":""},"","","","","","","",{"$f":"IF(S4779=\"\",\"\",COUNTIF($S$7:S4779,\"該当２\"))","v":""},"","",{"$f":"IF(V4779=\"\",\"\",COUNTIF($V$7:V4779,\"該当３\"))","v":""}]
[{"$nulls":10},"","",{"$f":"IF(K4780=\"\",\"\",COUNTIF($K$7:K4780,\"ﾘｽﾄ１\"))","v":""},"","","","","","","",{"$f":"IF(S4780=\"\",\"\",COUNTIF($S$7:S4780,\"該当２\"))","v":""},"","",{"$f":"IF(V4780=\"\",\"\",COUNTIF($V$7:V4780,\"該当３\"))","v":""}]
[{"$nulls":10},"","",{"$f":"IF(K4782=\"\",\"\",COUNTIF($K$7:K4782,\"ﾘｽﾄ１\"))","v":""},"","","","","","","",{"$f":"IF(S4782=\"\",\"\",COUNTIF($S$7:S4782,\"該当２\"))","v":""},"","",{"$f":"IF(V4782=\"\",\"\",COUNTIF($V$7:V4782,\"該当３\"))","v":""}]
[{"$nulls":10},"","",{"$f":"IF(K4783=\"\",\"\",COUNTIF($K$7:K4783,\"ﾘｽﾄ１\"))","v":""},"","","","","","","",{"$f":"IF(S4783=\"\",\"\",COUNTIF($S$7:S4783,\"該当２\"))","v":""},"","",{"$f":"IF(V4783=\"\",\"\",COUNTIF($V$7:V4783,\"該当３\"))","v":""}]
[{"$nulls":10},"","",{"$f":"IF(K4785=\"\",\"\",COUNTIF($K$7:K4785,\"ﾘｽﾄ１\"))","v":""},"","","","","","","",{"$f":"IF(S4785=\"\",\"\",COUNTIF($S$7:S4785,\"該当２\"))","v":""},"","",{"$f":"IF(V4785=\"\",\"\",COUNTIF($V$7:V4785,\"該当３\"))","v":""}]
[{"$nulls":10},"","",{"$f":"IF(K4786=\"\",\"\",COUNTIF($K$7:K4786,\"ﾘｽﾄ１\"))","v":""},"","","","","","","",{"$f":"IF(S4786=\"\",\"\",COUNTIF($S$7:S4786,\"該当２\"))","v":""},"","",{"$f":"IF(V4786=\"\",\"\",COUNTIF($V$7:V4786,\"該当３\"))","v":""}]
[{"$nulls":10},"","",{"$f":"IF(K4788=\"\",\"\",COUNTIF($K$7:K4788,\"ﾘｽﾄ１\"))","v":""},"","","","","","","",{"$f":"IF(S4788=\"\",\"\",COUNTIF($S$7:S4788,\"該当２\"))","v":""},"","",{"$f":"IF(V4788=\"\",\"\",COUNTIF($V$7:V4788,\"該当３\"))","v":""}]
[{"$nulls":10},"","",{"$f":"IF(K4789=\"\",\"\",COUNTIF($K$7:K4789,\"ﾘｽﾄ１\"))","v":""},"","","","","","","",{"$f":"IF(S4789=\"\",\"\",COUNTIF($S$7:S4789,\"該当２\"))","v":""},"","",{"$f":"IF(V4789=\"\",\"\",COUNTIF($V$7:V4789,\"該当３\"))","v":""}]
[{"$nulls":10},"",{"$f":"IF(K4791=\"ﾘｽﾄ１\",G4791,\"\")","v":""},{"$f":"IF(K4791=\"\",\"\",COUNTIF($K$7:K4791,\"ﾘｽﾄ１\"))","v":""},{"$f":"IF(AND(D4791=0,E4791>0),\"同一区\",\"\")","v":""},{"$f":"IF(AND(EXACT($K$2,G4791),H4791>0),\"該当１\",\"\")","v":""},{"$f":"IF(O4791=\"該当１\",G4791,\"\")","v":""},{"$f":"IF(O4791=\"該当１\",\"ﾘｽﾄ2\",\"\")","v":""},{"$f":"IF(Q4791=\"ﾘｽﾄ2\",H4791,\"\")","v":""},{"$f":"IF(AND(Q4791=\"ﾘｽﾄ2\",OR(I4791=0,AND(N4791=\"同一区\",E4791=1))),\"該当２\",\"\")","v":""},{"$f":"IF(S4791=\"該当２\",H4791,\"\")","v":""},{"$f":"IF(S4791=\"\",\"\",COUNTIF($S$7:S4791,\"該当２\"))","v":""},{"$f":"IF(AND($S$2=H4791,E4791>0,E4791<998),\"該当３\",\"\")","v":""},{"$f":"IF(V4791=\"該当３\",I4791,\"\")","v":""},{"$f":"IF(V4791=\"\",\"\",COUNTIF($V$7:V4791,\"該当３\"))","v":""}]
[{"$nulls":10},"","",{"$f":"IF(K4792=\"\",\"\",COUNTIF($K$7:K4792,\"ﾘｽﾄ１\"))","v":""},"","","","","","","",{"$f":"IF(S4792=\"\",\"\",COUNTIF($S$7:S4792,\"該当２\"))","v":""},"","",{"$f":"IF(V4792=\"\",\"\",COUNTIF($V$7:V4792,\"該当３\"))","v":""}]
[{"$nulls":10},"","",{"$f":"IF(K4794=\"\",\"\",COUNTIF($K$7:K4794,\"ﾘｽﾄ１\"))","v":""},"","","","","","","",{"$f":"IF(S4794=\"\",\"\",COUNTIF($S$7:S4794,\"該当２\"))","v":""},"","",{"$f":"IF(V4794=\"\",\"\",COUNTIF($V$7:V4794,\"該当３\"))","v":""}]
[{"$nulls":10},"","",{"$f":"IF(K4795=\"\",\"\",COUNTIF($K$7:K4795,\"ﾘｽﾄ１\"))","v":""},"","","","","","","",{"$f":"IF(S4795=\"\",\"\",COUNTIF($S$7:S4795,\"該当２\"))","v":""},"","",{"$f":"IF(V4795=\"\",\"\",COUNTIF($V$7:V4795,\"該当３\"))","v":""}]
[{"$nulls":10},"","",{"$f":"IF(K4797=\"\",\"\",COUNTIF($K$7:K4797,\"ﾘｽﾄ１\"))","v":""},"","","","","","","",{"$f":"IF(S4797=\"\",\"\",COUNTIF($S$7:S4797,\"該当２\"))","v":""},"","",{"$f":"IF(V4797=\"\",\"\",COUNTIF($V$7:V4797,\"該当３\"))","v":""}]
[{"$nulls":10},"","",{"$f":"IF(K4798=\"\",\"\",COUNTIF($K$7:K4798,\"ﾘｽﾄ１\"))","v":""},"","","","","","","",{"$f":"IF(S4798=\"\",\"\",COUNTIF($S$7:S4798,\"該当２\"))","v":""},"","",{"$f":"IF(V4798=\"\",\"\",COUNTIF($V$7:V4798,\"該当３\"))","v":""}]
[{"$nulls":10},"","",{"$f":"IF(K4800=\"\",\"\",COUNTIF($K$7:K4800,\"ﾘｽﾄ１\"))","v":""},"","","","","","","",{"$f":"IF(S4800=\"\",\"\",COUNTIF($S$7:S4800,\"該当２\"))","v":""},"","",{"$f":"IF(V4800=\"\",\"\",COUNTIF($V$7:V4800,\"該当３\"))","v":""}]
[{"$nulls":10},"","",{"$f":"IF(K4801=\"\",\"\",COUNTIF($K$7:K4801,\"ﾘｽﾄ１\"))","v":""},"","","","","","","",{"$f":"IF(S4801=\"\",\"\",COUNTIF($S$7:S4801,\"該当２\"))","v":""},"","",{"$f":"IF(V4801=\"\",\"\",COUNTIF($V$7:V4801,\"該当３\"))","v":""}]
[{"$nulls":10},"","",{"$f":"IF(K4803=\"\",\"\",COUNTIF($K$7:K4803,\"ﾘｽﾄ１\"))","v":""},"","","","","","","",{"$f":"IF(S4803=\"\",\"\",COUNTIF($S$7:S4803,\"該当２\"))","v":""},"","",{"$f":"IF(V4803=\"\",\"\",COUNTIF($V$7:V4803,\"該当３\"))","v":""}]
[{"$nulls":10},"","",{"$f":"IF(K4804=\"\",\"\",COUNTIF($K$7:K4804,\"ﾘｽﾄ１\"))","v":""},"","","","","","","",{"$f":"IF(S4804=\"\",\"\",COUNTIF($S$7:S4804,\"該当２\"))","v":""},"","",{"$f":"IF(V4804=\"\",\"\",COUNTIF($V$7:V4804,\"該当３\"))","v":""}]
[{"$nulls":10},"","",{"$f":"IF(K4806=\"\",\"\",COUNTIF($K$7:K4806,\"ﾘｽﾄ１\"))","v":""},"","","","","","","",{"$f":"IF(S4806=\"\",\"\",COUNTIF($S$7:S4806,\"該当２\"))","v":""},"","",{"$f":"IF(V4806=\"\",\"\",COUNTIF($V$7:V4806,\"該当３\"))","v":""}]
[{"$nulls":10},"","",{"$f":"IF(K4807=\"\",\"\",COUNTIF($K$7:K4807,\"ﾘｽﾄ１\"))","v":""},"","","","","","","",{"$f":"IF(S4807=\"\",\"\",COUNTIF($S$7:S4807,\"該当２\"))","v":""},"","",{"$f":"IF(V4807=\"\",\"\",COUNTIF($V$7:V4807,\"該当３\"))","v":""}]
[{"$nulls":10},"","",{"$f":"IF(K4809=\"\",\"\",COUNTIF($K$7:K4809,\"ﾘｽﾄ１\"))","v":""},"","","","","","","",{"$f":"IF(S4809=\"\",\"\",COUNTIF($S$7:S4809,\"該当２\"))","v":""},"","",{"$f":"IF(V4809=\"\",\"\",COUNTIF($V$7:V4809,\"該当３\"))","v":""}]
[{"$nulls":10},"","",{"$f":"IF(K4810=\"\",\"\",COUNTIF($K$7:K4810,\"ﾘｽﾄ１\"))","v":""},"","","","","","","",{"$f":"IF(S4810=\"\",\"\",COUNTIF($S$7:S4810,\"該当２\"))","v":""},"","",{"$f":"IF(V4810=\"\",\"\",COUNTIF($V$7:V4810,\"該当３\"))","v":""}]
[{"$nulls":10},"","",{"$f":"IF(K4812=\"\",\"\",COUNTIF($K$7:K4812,\"ﾘｽﾄ１\"))","v":""},"","","","","","","",{"$f":"IF(S4812=\"\",\"\",COUNTIF($S$7:S4812,\"該当２\"))","v":""},"","",{"$f":"IF(V4812=\"\",\"\",COUNTIF($V$7:V4812,\"該当３\"))","v":""}]
[{"$nulls":10},"","",{"$f":"IF(K4813=\"\",\"\",COUNTIF($K$7:K4813,\"ﾘｽﾄ１\"))","v":""},"","","","","","","",{"$f":"IF(S4813=\"\",\"\",COUNTIF($S$7:S4813,\"該当２\"))","v":""},"","",{"$f":"IF(V4813=\"\",\"\",COUNTIF($V$7:V4813,\"該当３\"))","v":""}]
[{"$nulls":10},"","",{"$f":"IF(K4815=\"\",\"\",COUNTIF($K$7:K4815,\"ﾘｽﾄ１\"))","v":""},"","","","","","","",{"$f":"IF(S4815=\"\",\"\",COUNTIF($S$7:S4815,\"該当２\"))","v":""},"","",{"$f":"IF(V4815=\"\",\"\",COUNTIF($V$7:V4815,\"該当３\"))","v":""}]
[{"$nulls":10},"","",{"$f":"IF(K4816=\"\",\"\",COUNTIF($K$7:K4816,\"ﾘｽﾄ１\"))","v":""},"","","","","","","",{"$f":"IF(S4816=\"\",\"\",COUNTIF($S$7:S4816,\"該当２\"))","v":""},"","",{"$f":"IF(V4816=\"\",\"\",COUNTIF($V$7:V4816,\"該当３\"))","v":""}]
[{"$nulls":10},"","",{"$f":"IF(K4818=\"\",\"\",COUNTIF($K$7:K4818,\"ﾘｽﾄ１\"))","v":""},"","","","","","","",{"$f":"IF(S4818=\"\",\"\",COUNTIF($S$7:S4818,\"該当２\"))","v":""},"","",{"$f":"IF(V4818=\"\",\"\",COUNTIF($V$7:V4818,\"該当３\"))","v":""}]
[{"$nulls":10},"","",{"$f":"IF(K4819=\"\",\"\",COUNTIF($K$7:K4819,\"ﾘｽﾄ１\"))","v":""},"","","","","","","",{"$f":"IF(S4819=\"\",\"\",COUNTIF($S$7:S4819,\"該当２\"))","v":""},"","",{"$f":"IF(V4819=\"\",\"\",COUNTIF($V$7:V4819,\"該当３\"))","v":""}]
[{"$nulls":10},"","",{"$f":"IF(K4821=\"\",\"\",COUNTIF($K$7:K4821,\"ﾘｽﾄ１\"))","v":""},"","","","","","","",{"$f":"IF(S4821=\"\",\"\",COUNTIF($S$7:S4821,\"該当２\"))","v":""},"","",{"$f":"IF(V4821=\"\",\"\",COUNTIF($V$7:V4821,\"該当３\"))","v":""}]
[{"$nulls":10},"","",{"$f":"IF(K4822=\"\",\"\",COUNTIF($K$7:K4822,\"ﾘｽﾄ１\"))","v":""},"","","","","","","",{"$f":"IF(S4822=\"\",\"\",COUNTIF($S$7:S4822,\"該当２\"))","v":""},"","",{"$f":"IF(V4822=\"\",\"\",COUNTIF($V$7:V4822,\"該当３\"))","v":""}]
[{"$nulls":10},"","",{"$f":"IF(K4824=\"\",\"\",COUNTIF($K$7:K4824,\"ﾘｽﾄ１\"))","v":""},"","","","","","","",{"$f":"IF(S4824=\"\",\"\",COUNTIF($S$7:S4824,\"該当２\"))","v":""},"","",{"$f":"IF(V4824=\"\",\"\",COUNTIF($V$7:V4824,\"該当３\"))","v":""}]
[{"$nulls":10},"","",{"$f":"IF(K4825=\"\",\"\",COUNTIF($K$7:K4825,\"ﾘｽﾄ１\"))","v":""},"","","","","","","",{"$f":"IF(S4825=\"\",\"\",COUNTIF($S$7:S4825,\"該当２\"))","v":""},"","",{"$f":"IF(V4825=\"\",\"\",COUNTIF($V$7:V4825,\"該当３\"))","v":""}]
[{"$nulls":10},"","",{"$f":"IF(K4827=\"\",\"\",COUNTIF($K$7:K4827,\"ﾘｽﾄ１\"))","v":""},"","","","","","","",{"$f":"IF(S4827=\"\",\"\",COUNTIF($S$7:S4827,\"該当２\"))","v":""},"","",{"$f":"IF(V4827=\"\",\"\",COUNTIF($V$7:V4827,\"該当３\"))","v":""}]
[{"$nulls":10},"","",{"$f":"IF(K4828=\"\",\"\",COUNTIF($K$7:K4828,\"ﾘｽﾄ１\"))","v":""},"","","","","","","",{"$f":"IF(S4828=\"\",\"\",COUNTIF($S$7:S4828,\"該当２\"))","v":""},"","",{"$f":"IF(V4828=\"\",\"\",COUNTIF($V$7:V4828,\"該当３\"))","v":""}]
[{"$nulls":10},"","",{"$f":"IF(K4830=\"\",\"\",COUNTIF($K$7:K4830,\"ﾘｽﾄ１\"))","v":""},"","","","","","","",{"$f":"IF(S4830=\"\",\"\",COUNTIF($S$7:S4830,\"該当２\"))","v":""},"","",{"$f":"IF(V4830=\"\",\"\",COUNTIF($V$7:V4830,\"該当３\"))","v":""}]
[{"$nulls":10},"","",{"$f":"IF(K4831=\"\",\"\",COUNTIF($K$7:K4831,\"ﾘｽﾄ１\"))","v":""},"","","","","","","",{"$f":"IF(S4831=\"\",\"\",COUNTIF($S$7:S4831,\"該当２\"))","v":""},"","",{"$f":"IF(V4831=\"\",\"\",COUNTIF($V$7:V4831,\"該当３\"))","v":""}]
[{"$nulls":10},"","",{"$f":"IF(K4833=\"\",\"\",COUNTIF($K$7:K4833,\"ﾘｽﾄ１\"))","v":""},"","","","","","","",{"$f":"IF(S4833=\"\",\"\",COUNTIF($S$7:S4833,\"該当２\"))","v":""},"","",{"$f":"IF(V4833=\"\",\"\",COUNTIF($V$7:V4833,\"該当３\"))","v":""}]
[{"$nulls":10},"","",{"$f":"IF(K4834=\"\",\"\",COUNTIF($K$7:K4834,\"ﾘｽﾄ１\"))","v":""},"","","","","","","",{"$f":"IF(S4834=\"\",\"\",COUNTIF($S$7:S4834,\"該当２\"))","v":""},"","",{"$f":"IF(V4834=\"\",\"\",COUNTIF($V$7:V4834,\"該当３\"))","v":""}]
[{"$nulls":10},"","",{"$f":"IF(K4836=\"\",\"\",COUNTIF($K$7:K4836,\"ﾘｽﾄ１\"))","v":""},"","","","","","","",{"$f":"IF(S4836=\"\",\"\",COUNTIF($S$7:S4836,\"該当２\"))","v":""},"","",{"$f":"IF(V4836=\"\",\"\",COUNTIF($V$7:V4836,\"該当３\"))","v":""}]
[{"$nulls":10},"","",{"$f":"IF(K4837=\"\",\"\",COUNTIF($K$7:K4837,\"ﾘｽﾄ１\"))","v":""},"","","","","","","",{"$f":"IF(S4837=\"\",\"\",COUNTIF($S$7:S4837,\"該当２\"))","v":""},"","",{"$f":"IF(V4837=\"\",\"\",COUNTIF($V$7:V4837,\"該当３\"))","v":""}]
[{"$nulls":10},"","",{"$f":"IF(K4839=\"\",\"\",COUNTIF($K$7:K4839,\"ﾘｽﾄ１\"))","v":""},"","","","","","","",{"$f":"IF(S4839=\"\",\"\",COUNTIF($S$7:S4839,\"該当２\"))","v":""},"","",{"$f":"IF(V4839=\"\",\"\",COUNTIF($V$7:V4839,\"該当３\"))","v":""}]
[{"$nulls":10},"","",{"$f":"IF(K4840=\"\",\"\",COUNTIF($K$7:K4840,\"ﾘｽﾄ１\"))","v":""},"","","","","","","",{"$f":"IF(S4840=\"\",\"\",COUNTIF($S$7:S4840,\"該当２\"))","v":""},"","",{"$f":"IF(V4840=\"\",\"\",COUNTIF($V$7:V4840,\"該当３\"))","v":""}]
[{"$nulls":10},"","",{"$f":"IF(K4842=\"\",\"\",COUNTIF($K$7:K4842,\"ﾘｽﾄ１\"))","v":""},"","","","","","","",{"$f":"IF(S4842=\"\",\"\",COUNTIF($S$7:S4842,\"該当２\"))","v":""},"","",{"$f":"IF(V4842=\"\",\"\",COUNTIF($V$7:V4842,\"該当３\"))","v":""}]
[{"$nulls":10},"","",{"$f":"IF(K4843=\"\",\"\",COUNTIF($K$7:K4843,\"ﾘｽﾄ１\"))","v":""},"","","","","","","",{"$f":"IF(S4843=\"\",\"\",COUNTIF($S$7:S4843,\"該当２\"))","v":""},"","",{"$f":"IF(V4843=\"\",\"\",COUNTIF($V$7:V4843,\"該当３\"))","v":""}]
[{"$nulls":10},"","",{"$f":"IF(K4845=\"\",\"\",COUNTIF($K$7:K4845,\"ﾘｽﾄ１\"))","v":""},"","","","","","","",{"$f":"IF(S4845=\"\",\"\",COUNTIF($S$7:S4845,\"該当２\"))","v":""},"","",{"$f":"IF(V4845=\"\",\"\",COUNTIF($V$7:V4845,\"該当３\"))","v":""}]
[{"$nulls":10},"","",{"$f":"IF(K4846=\"\",\"\",COUNTIF($K$7:K4846,\"ﾘｽﾄ１\"))","v":""},"","","","","","","",{"$f":"IF(S4846=\"\",\"\",COUNTIF($S$7:S4846,\"該当２\"))","v":""},"","",{"$f":"IF(V4846=\"\",\"\",COUNTIF($V$7:V4846,\"該当３\"))","v":""}]
[{"$nulls":10},"","",{"$f":"IF(K4848=\"\",\"\",COUNTIF($K$7:K4848,\"ﾘｽﾄ１\"))","v":""},"","","","","","","",{"$f":"IF(S4848=\"\",\"\",COUNTIF($S$7:S4848,\"該当２\"))","v":""},"","",{"$f":"IF(V4848=\"\",\"\",COUNTIF($V$7:V4848,\"該当３\"))","v":""}]
[{"$nulls":10},"","",{"$f":"IF(K4849=\"\",\"\",COUNTIF($K$7:K4849,\"ﾘｽﾄ１\"))","v":""},"","","","","","","",{"$f":"IF(S4849=\"\",\"\",COUNTIF($S$7:S4849,\"該当２\"))","v":""},"","",{"$f":"IF(V4849=\"\",\"\",COUNTIF($V$7:V4849,\"該当３\"))","v":""}]
[{"$nulls":10},"","",{"$f":"IF(K4851=\"\",\"\",COUNTIF($K$7:K4851,\"ﾘｽﾄ１\"))","v":""},"","","","","","","",{"$f":"IF(S4851=\"\",\"\",COUNTIF($S$7:S4851,\"該当２\"))","v":""},"","",{"$f":"IF(V4851=\"\",\"\",COUNTIF($V$7:V4851,\"該当３\"))","v":""}]
[{"$nulls":10},"","",{"$f":"IF(K4852=\"\",\"\",COUNTIF($K$7:K4852,\"ﾘｽﾄ１\"))","v":""},"","","","","","","",{"$f":"IF(S4852=\"\",\"\",COUNTIF($S$7:S4852,\"該当２\"))","v":""},"","",{"$f":"IF(V4852=\"\",\"\",COUNTIF($V$7:V4852,\"該当３\"))","v":""}]
[{"$nulls":10},"","",{"$f":"IF(K4854=\"\",\"\",COUNTIF($K$7:K4854,\"ﾘｽﾄ１\"))","v":""},"","","","","","","",{"$f":"IF(S4854=\"\",\"\",COUNTIF($S$7:S4854,\"該当２\"))","v":""},"","",{"$f":"IF(V4854=\"\",\"\",COUNTIF($V$7:V4854,\"該当３\"))","v":""}]
[{"$nulls":10},"",{"$f":"IF(K4855=\"ﾘｽﾄ１\",G4855,\"\")","v":""},{"$f":"IF(K4855=\"\",\"\",COUNTIF($K$7:K4855,\"ﾘｽﾄ１\"))","v":""},{"$f":"IF(AND(D4855=0,E4855>0),\"同一区\",\"\")","v":""},{"$f":"IF(AND(EXACT($K$2,G4855),H4855>0),\"該当１\",\"\")","v":""},{"$f":"IF(O4855=\"該当１\",G4855,\"\")","v":""},{"$f":"IF(O4855=\"該当１\",\"ﾘｽﾄ2\",\"\")","v":""},{"$f":"IF(Q4855=\"ﾘｽﾄ2\",H4855,\"\")","v":""},{"$f":"IF(AND(Q4855=\"ﾘｽﾄ2\",OR(I4855=0,AND(N4855=\"同一区\",E4855=1))),\"該当２\",\"\")","v":""},{"$f":"IF(S4855=\"該当２\",H4855,\"\")","v":""},{"$f":"IF(S4855=\"\",\"\",COUNTIF($S$7:S4855,\"該当２\"))","v":""},{"$f":"IF(AND($S$2=H4855,E4855>0,E4855<998),\"該当３\",\"\")","v":""},{"$f":"IF(V4855=\"該当３\",I4855,\"\")","v":""},{"$f":"IF(V4855=\"\",\"\",COUNTIF($V$7:V4855,\"該当３\"))","v":""}]
[{"$nulls":10},"","",{"$f":"IF(K4857=\"\",\"\",COUNTIF($K$7:K4857,\"ﾘｽﾄ１\"))","v":""},"","","","","","","",{"$f":"IF(S4857=\"\",\"\",COUNTIF($S$7:S4857,\"該当２\"))","v":""},"","",{"$f":"IF(V4857=\"\",\"\",COUNTIF($V$7:V4857,\"該当３\"))","v":""}]
[{"$nulls":10},"","",{"$f":"IF(K4858=\"\",\"\",COUNTIF($K$7:K4858,\"ﾘｽﾄ１\"))","v":""},"","","","","","","",{"$f":"IF(S4858=\"\",\"\",COUNTIF($S$7:S4858,\"該当２\"))","v":""},"","",{"$f":"IF(V4858=\"\",\"\",COUNTIF($V$7:V4858,\"該当３\"))","v":""}]
[{"$nulls":10},"","",{"$f":"IF(K4860=\"\",\"\",COUNTIF($K$7:K4860,\"ﾘｽﾄ１\"))","v":""},"","","","","","","",{"$f":"IF(S4860=\"\",\"\",COUNTIF($S$7:S4860,\"該当２\"))","v":""},"","",{"$f":"IF(V4860=\"\",\"\",COUNTIF($V$7:V4860,\"該当３\"))","v":""}]
[{"$nulls":10},"","",{"$f":"IF(K4861=\"\",\"\",COUNTIF($K$7:K4861,\"ﾘｽﾄ１\"))","v":""},"","","","","","","",{"$f":"IF(S4861=\"\",\"\",COUNTIF($S$7:S4861,\"該当２\"))","v":""},"","",{"$f":"IF(V4861=\"\",\"\",COUNTIF($V$7:V4861,\"該当３\"))","v":""}]
[{"$nulls":10},"","",{"$f":"IF(K4863=\"\",\"\",COUNTIF($K$7:K4863,\"ﾘｽﾄ１\"))","v":""},"","","","","","","",{"$f":"IF(S4863=\"\",\"\",COUNTIF($S$7:S4863,\"該当２\"))","v":""},"","",{"$f":"IF(V4863=\"\",\"\",COUNTIF($V$7:V4863,\"該当３\"))","v":""}]
[{"$nulls":10},"","",{"$f":"IF(K4864=\"\",\"\",COUNTIF($K$7:K4864,\"ﾘｽﾄ１\"))","v":""},"","","","","","","",{"$f":"IF(S4864=\"\",\"\",COUNTIF($S$7:S4864,\"該当２\"))","v":""},"","",{"$f":"IF(V4864=\"\",\"\",COUNTIF($V$7:V4864,\"該当３\"))","v":""}]
[{"$nulls":10},"","",{"$f":"IF(K4866=\"\",\"\",COUNTIF($K$7:K4866,\"ﾘｽﾄ１\"))","v":""},"","","","","","","",{"$f":"IF(S4866=\"\",\"\",COUNTIF($S$7:S4866,\"該当２\"))","v":""},"","",{"$f":"IF(V4866=\"\",\"\",COUNTIF($V$7:V4866,\"該当３\"))","v":""}]
[{"$nulls":10},"","",{"$f":"IF(K4867=\"\",\"\",COUNTIF($K$7:K4867,\"ﾘｽﾄ１\"))","v":""},"","","","","","","",{"$f":"IF(S4867=\"\",\"\",COUNTIF($S$7:S4867,\"該当２\"))","v":""},"","",{"$f":"IF(V4867=\"\",\"\",COUNTIF($V$7:V4867,\"該当３\"))","v":""}]
[{"$nulls":10},"","",{"$f":"IF(K4869=\"\",\"\",COUNTIF($K$7:K4869,\"ﾘｽﾄ１\"))","v":""},"","","","","","","",{"$f":"IF(S4869=\"\",\"\",COUNTIF($S$7:S4869,\"該当２\"))","v":""},"","",{"$f":"IF(V4869=\"\",\"\",COUNTIF($V$7:V4869,\"該当３\"))","v":""}]
[{"$nulls":10},"","",{"$f":"IF(K4870=\"\",\"\",COUNTIF($K$7:K4870,\"ﾘｽﾄ１\"))","v":""},"","","","","","","",{"$f":"IF(S4870=\"\",\"\",COUNTIF($S$7:S4870,\"該当２\"))","v":""},"","",{"$f":"IF(V4870=\"\",\"\",COUNTIF($V$7:V4870,\"該当３\"))","v":""}]
[{"$nulls":10},"","",{"$f":"IF(K4872=\"\",\"\",COUNTIF($K$7:K4872,\"ﾘｽﾄ１\"))","v":""},"","","","","","","",{"$f":"IF(S4872=\"\",\"\",COUNTIF($S$7:S4872,\"該当２\"))","v":""},"","",{"$f":"IF(V4872=\"\",\"\",COUNTIF($V$7:V4872,\"該当３\"))","v":""}]
[{"$nulls":10},"","",{"$f":"IF(K4873=\"\",\"\",COUNTIF($K$7:K4873,\"ﾘｽﾄ１\"))","v":""},"","","","","","","",{"$f":"IF(S4873=\"\",\"\",COUNTIF($S$7:S4873,\"該当２\"))","v":""},"","",{"$f":"IF(V4873=\"\",\"\",COUNTIF($V$7:V4873,\"該当３\"))","v":""}]
[{"$nulls":10},{"$f":"IF(AND($C4875>0,$H4875=\"\"),\"ﾘｽﾄ１\",\"\")","v":""},"",{"$f":"IF(K4875=\"\",\"\",COUNTIF($K$7:K4875,\"ﾘｽﾄ１\"))","v":""},"","","","","","","",{"$f":"IF(S4875=\"\",\"\",COUNTIF($S$7:S4875,\"該当２\"))","v":""},"","",{"$f":"IF(V4875=\"\",\"\",COUNTIF($V$7:V4875,\"該当３\"))","v":""}]
[{"$nulls":10},"","",{"$f":"IF(K4876=\"\",\"\",COUNTIF($K$7:K4876,\"ﾘｽﾄ１\"))","v":""},"","","","","","","",{"$f":"IF(S4876=\"\",\"\",COUNTIF($S$7:S4876,\"該当２\"))","v":""},"","",{"$f":"IF(V4876=\"\",\"\",COUNTIF($V$7:V4876,\"該当３\"))","v":""}]
[{"$nulls":10},"","",{"$f":"IF(K4878=\"\",\"\",COUNTIF($K$7:K4878,\"ﾘｽﾄ１\"))","v":""},"","","","","","","",{"$f":"IF(S4878=\"\",\"\",COUNTIF($S$7:S4878,\"該当２\"))","v":""},"","",{"$f":"IF(V4878=\"\",\"\",COUNTIF($V$7:V4878,\"該当３\"))","v":""}]
[{"$nulls":10},"","",{"$f":"IF(K4879=\"\",\"\",COUNTIF($K$7:K4879,\"ﾘｽﾄ１\"))","v":""},"","","","","","","",{"$f":"IF(S4879=\"\",\"\",COUNTIF($S$7:S4879,\"該当２\"))","v":""},"","",{"$f":"IF(V4879=\"\",\"\",COUNTIF($V$7:V4879,\"該当３\"))","v":""}]
[{"$nulls":10},"","",{"$f":"IF(K4881=\"\",\"\",COUNTIF($K$7:K4881,\"ﾘｽﾄ１\"))","v":""},"","","","","","","",{"$f":"IF(S4881=\"\",\"\",COUNTIF($S$7:S4881,\"該当２\"))","v":""},"","",{"$f":"IF(V4881=\"\",\"\",COUNTIF($V$7:V4881,\"該当３\"))","v":""}]
[{"$nulls":10},"","",{"$f":"IF(K4882=\"\",\"\",COUNTIF($K$7:K4882,\"ﾘｽﾄ１\"))","v":""},"","","","","","","",{"$f":"IF(S4882=\"\",\"\",COUNTIF($S$7:S4882,\"該当２\"))","v":""},"","",{"$f":"IF(V4882=\"\",\"\",COUNTIF($V$7:V4882,\"該当３\"))","v":""}]
[{"$nulls":10},"","",{"$f":"IF(K4884=\"\",\"\",COUNTIF($K$7:K4884,\"ﾘｽﾄ１\"))","v":""},"","","","","","","",{"$f":"IF(S4884=\"\",\"\",COUNTIF($S$7:S4884,\"該当２\"))","v":""},"","",{"$f":"IF(V4884=\"\",\"\",COUNTIF($V$7:V4884,\"該当３\"))","v":""}]
[{"$nulls":10},"","",{"$f":"IF(K4885=\"\",\"\",COUNTIF($K$7:K4885,\"ﾘｽﾄ１\"))","v":""},"","","","","","","",{"$f":"IF(S4885=\"\",\"\",COUNTIF($S$7:S4885,\"該当２\"))","v":""},"","",{"$f":"IF(V4885=\"\",\"\",COUNTIF($V$7:V4885,\"該当３\"))","v":""}]
[{"$nulls":10},"","",{"$f":"IF(K4887=\"\",\"\",COUNTIF($K$7:K4887,\"ﾘｽﾄ１\"))","v":""},"","","","","","","",{"$f":"IF(S4887=\"\",\"\",COUNTIF($S$7:S4887,\"該当２\"))","v":""},"","",{"$f":"IF(V4887=\"\",\"\",COUNTIF($V$7:V4887,\"該当３\"))","v":""}]
[{"$nulls":10},"","",{"$f":"IF(K4888=\"\",\"\",COUNTIF($K$7:K4888,\"ﾘｽﾄ１\"))","v":""},"","","","","","","",{"$f":"IF(S4888=\"\",\"\",COUNTIF($S$7:S4888,\"該当２\"))","v":""},"","",{"$f":"IF(V4888=\"\",\"\",COUNTIF($V$7:V4888,\"該当３\"))","v":""}]
[{"$nulls":10},"","",{"$f":"IF(K4890=\"\",\"\",COUNTIF($K$7:K4890,\"ﾘｽﾄ１\"))","v":""},"","","","","","","",{"$f":"IF(S4890=\"\",\"\",COUNTIF($S$7:S4890,\"該当２\"))","v":""},"","",{"$f":"IF(V4890=\"\",\"\",COUNTIF($V$7:V4890,\"該当３\"))","v":""}]
[{"$nulls":10},"","",{"$f":"IF(K4891=\"\",\"\",COUNTIF($K$7:K4891,\"ﾘｽﾄ１\"))","v":""},"","","","","","","",{"$f":"IF(S4891=\"\",\"\",COUNTIF($S$7:S4891,\"該当２\"))","v":""},"","",{"$f":"IF(V4891=\"\",\"\",COUNTIF($V$7:V4891,\"該当３\"))","v":""}]
[{"$nulls":10},"","",{"$f":"IF(K4893=\"\",\"\",COUNTIF($K$7:K4893,\"ﾘｽﾄ１\"))","v":""},"","","","","","","",{"$f":"IF(S4893=\"\",\"\",COUNTIF($S$7:S4893,\"該当２\"))","v":""},"","",{"$f":"IF(V4893=\"\",\"\",COUNTIF($V$7:V4893,\"該当３\"))","v":""}]
[{"$nulls":10},"","",{"$f":"IF(K4894=\"\",\"\",COUNTIF($K$7:K4894,\"ﾘｽﾄ１\"))","v":""},"","","","","","","",{"$f":"IF(S4894=\"\",\"\",COUNTIF($S$7:S4894,\"該当２\"))","v":""},"","",{"$f":"IF(V4894=\"\",\"\",COUNTIF($V$7:V4894,\"該当３\"))","v":""}]
[{"$nulls":10},"","",{"$f":"IF(K4896=\"\",\"\",COUNTIF($K$7:K4896,\"ﾘｽﾄ１\"))","v":""},"","","","","","","",{"$f":"IF(S4896=\"\",\"\",COUNTIF($S$7:S4896,\"該当２\"))","v":""},"","",{"$f":"IF(V4896=\"\",\"\",COUNTIF($V$7:V4896,\"該当３\"))","v":""}]
[{"$nulls":10},"","",{"$f":"IF(K4897=\"\",\"\",COUNTIF($K$7:K4897,\"ﾘｽﾄ１\"))","v":""},"","","","","","","",{"$f":"IF(S4897=\"\",\"\",COUNTIF($S$7:S4897,\"該当２\"))","v":""},"","",{"$f":"IF(V4897=\"\",\"\",COUNTIF($V$7:V4897,\"該当３\"))","v":""}]
[{"$nulls":10},"","",{"$f":"IF(K4899=\"\",\"\",COUNTIF($K$7:K4899,\"ﾘｽﾄ１\"))","v":""},"","","","","","","",{"$f":"IF(S4899=\"\",\"\",COUNTIF($S$7:S4899,\"該当２\"))","v":""},"","",{"$f":"IF(V4899=\"\",\"\",COUNTIF($V$7:V4899,\"該当３\"))","v":""}]
[{"$nulls":10},"","",{"$f":"IF(K4900=\"\",\"\",COUNTIF($K$7:K4900,\"ﾘｽﾄ１\"))","v":""},"","","","","","","",{"$f":"IF(S4900=\"\",\"\",COUNTIF($S$7:S4900,\"該当２\"))","v":""},"","",{"$f":"IF(V4900=\"\",\"\",COUNTIF($V$7:V4900,\"該当３\"))","v":""}]
[{"$nulls":10},"","",{"$f":"IF(K4902=\"\",\"\",COUNTIF($K$7:K4902,\"ﾘｽﾄ１\"))","v":""},"","","","","","","",{"$f":"IF(S4902=\"\",\"\",COUNTIF($S$7:S4902,\"該当２\"))","v":""},"","",{"$f":"IF(V4902=\"\",\"\",COUNTIF($V$7:V4902,\"該当３\"))","v":""}]
[{"$nulls":10},"","",{"$f":"IF(K4903=\"\",\"\",COUNTIF($K$7:K4903,\"ﾘｽﾄ１\"))","v":""},"","","","","","","",{"$f":"IF(S4903=\"\",\"\",COUNTIF($S$7:S4903,\"該当２\"))","v":""},"","",{"$f":"IF(V4903=\"\",\"\",COUNTIF($V$7:V4903,\"該当３\"))","v":""}]
[{"$nulls":10},"","",{"$f":"IF(K4905=\"\",\"\",COUNTIF($K$7:K4905,\"ﾘｽﾄ１\"))","v":""},"","","","","","","",{"$f":"IF(S4905=\"\",\"\",COUNTIF($S$7:S4905,\"該当２\"))","v":""},"","",{"$f":"IF(V4905=\"\",\"\",COUNTIF($V$7:V4905,\"該当３\"))","v":""}]
[{"$nulls":10},"","",{"$f":"IF(K4906=\"\",\"\",COUNTIF($K$7:K4906,\"ﾘｽﾄ１\"))","v":""},"","","","","","","",{"$f":"IF(S4906=\"\",\"\",COUNTIF($S$7:S4906,\"該当２\"))","v":""},"","",{"$f":"IF(V4906=\"\",\"\",COUNTIF($V$7:V4906,\"該当３\"))","v":""}]
[{"$nulls":10},"","",{"$f":"IF(K4908=\"\",\"\",COUNTIF($K$7:K4908,\"ﾘｽﾄ１\"))","v":""},"","","","","","","",{"$f":"IF(S4908=\"\",\"\",COUNTIF($S$7:S4908,\"該当２\"))","v":""},"","",{"$f":"IF(V4908=\"\",\"\",COUNTIF($V$7:V4908,\"該当３\"))","v":""}]
[{"$nulls":10},"","",{"$f":"IF(K4909=\"\",\"\",COUNTIF($K$7:K4909,\"ﾘｽﾄ１\"))","v":""},"","","","","","","",{"$f":"IF(S4909=\"\",\"\",COUNTIF($S$7:S4909,\"該当２\"))","v":""},"","",{"$f":"IF(V4909=\"\",\"\",COUNTIF($V$7:V4909,\"該当３\"))","v":""}]
[{"$nulls":10},"","",{"$f":"IF(K4911=\"\",\"\",COUNTIF($K$7:K4911,\"ﾘｽﾄ１\"))","v":""},"","","","","","","",{"$f":"IF(S4911=\"\",\"\",COUNTIF($S$7:S4911,\"該当２\"))","v":""},"","",{"$f":"IF(V4911=\"\",\"\",COUNTIF($V$7:V4911,\"該当３\"))","v":""}]
[{"$nulls":10},"","",{"$f":"IF(K4912=\"\",\"\",COUNTIF($K$7:K4912,\"ﾘｽﾄ１\"))","v":""},"","","","","","","",{"$f":"IF(S4912=\"\",\"\",COUNTIF($S$7:S4912,\"該当２\"))","v":""},"","",{"$f":"IF(V4912=\"\",\"\",COUNTIF($V$7:V4912,\"該当３\"))","v":""}]
[{"$nulls":10},"","",{"$f":"IF(K4914=\"\",\"\",COUNTIF($K$7:K4914,\"ﾘｽﾄ１\"))","v":""},"","","","","","","",{"$f":"IF(S4914=\"\",\"\",COUNTIF($S$7:S4914,\"該当２\"))","v":""},"","",{"$f":"IF(V4914=\"\",\"\",COUNTIF($V$7:V4914,\"該当３\"))","v":""}]
[{"$nulls":10},"","",{"$f":"IF(K4915=\"\",\"\",COUNTIF($K$7:K4915,\"ﾘｽﾄ１\"))","v":""},"","","","","","","",{"$f":"IF(S4915=\"\",\"\",COUNTIF($S$7:S4915,\"該当２\"))","v":""},"","",{"$f":"IF(V4915=\"\",\"\",COUNTIF($V$7:V4915,\"該当３\"))","v":""}]
[{"$nulls":10},"","",{"$f":"IF(K4917=\"\",\"\",COUNTIF($K$7:K4917,\"ﾘｽﾄ１\"))","v":""},"","","","","","","",{"$f":"IF(S4917=\"\",\"\",COUNTIF($S$7:S4917,\"該当２\"))","v":""},"","",{"$f":"IF(V4917=\"\",\"\",COUNTIF($V$7:V4917,\"該当３\"))","v":""}]
[{"$nulls":10},"","",{"$f":"IF(K4918=\"\",\"\",COUNTIF($K$7:K4918,\"ﾘｽﾄ１\"))","v":""},"","","","","","","",{"$f":"IF(S4918=\"\",\"\",COUNTIF($S$7:S4918,\"該当２\"))","v":""},"","",{"$f":"IF(V4918=\"\",\"\",COUNTIF($V$7:V4918,\"該当３\"))","v":""}]
[{"$nulls":10},"","",{"$f":"IF(K4920=\"\",\"\",COUNTIF($K$7:K4920,\"ﾘｽﾄ１\"))","v":""},"","","","","","","",{"$f":"IF(S4920=\"\",\"\",COUNTIF($S$7:S4920,\"該当２\"))","v":""},"","",{"$f":"IF(V4920=\"\",\"\",COUNTIF($V$7:V4920,\"該当３\"))","v":""}]
[{"$nulls":10},"","",{"$f":"IF(K4921=\"\",\"\",COUNTIF($K$7:K4921,\"ﾘｽﾄ１\"))","v":""},"","","","","","","",{"$f":"IF(S4921=\"\",\"\",COUNTIF($S$7:S4921,\"該当２\"))","v":""},"","",{"$f":"IF(V4921=\"\",\"\",COUNTIF($V$7:V4921,\"該当３\"))","v":""}]
[{"$nulls":10},"","",{"$f":"IF(K4923=\"\",\"\",COUNTIF($K$7:K4923,\"ﾘｽﾄ１\"))","v":""},"","","","","","","",{"$f":"IF(S4923=\"\",\"\",COUNTIF($S$7:S4923,\"該当２\"))","v":""},"","",{"$f":"IF(V4923=\"\",\"\",COUNTIF($V$7:V4923,\"該当３\"))","v":""}]
[{"$nulls":10},"","",{"$f":"IF(K4924=\"\",\"\",COUNTIF($K$7:K4924,\"ﾘｽﾄ１\"))","v":""},"","","","","","","",{"$f":"IF(S4924=\"\",\"\",COUNTIF($S$7:S4924,\"該当２\"))","v":""},"","",{"$f":"IF(V4924=\"\",\"\",COUNTIF($V$7:V4924,\"該当３\"))","v":""}]
[{"$nulls":10},"","",{"$f":"IF(K4926=\"\",\"\",COUNTIF($K$7:K4926,\"ﾘｽﾄ１\"))","v":""},"","","","","","","",{"$f":"IF(S4926=\"\",\"\",COUNTIF($S$7:S4926,\"該当２\"))","v":""},"","",{"$f":"IF(V4926=\"\",\"\",COUNTIF($V$7:V4926,\"該当３\"))","v":""}]
[{"$nulls":10},"","",{"$f":"IF(K4927=\"\",\"\",COUNTIF($K$7:K4927,\"ﾘｽﾄ１\"))","v":""},"","","","","","","",{"$f":"IF(S4927=\"\",\"\",COUNTIF($S$7:S4927,\"該当２\"))","v":""},"","",{"$f":"IF(V4927=\"\",\"\",COUNTIF($V$7:V4927,\"該当３\"))","v":""}]
[{"$nulls":10},"","",{"$f":"IF(K4929=\"\",\"\",COUNTIF($K$7:K4929,\"ﾘｽﾄ１\"))","v":""},"","","","","","","",{"$f":"IF(S4929=\"\",\"\",COUNTIF($S$7:S4929,\"該当２\"))","v":""},"","",{"$f":"IF(V4929=\"\",\"\",COUNTIF($V$7:V4929,\"該当３\"))","v":""}]
[{"$nulls":10},"","",{"$f":"IF(K4930=\"\",\"\",COUNTIF($K$7:K4930,\"ﾘｽﾄ１\"))","v":""},"","","","","","","",{"$f":"IF(S4930=\"\",\"\",COUNTIF($S$7:S4930,\"該当２\"))","v":""},"","",{"$f":"IF(V4930=\"\",\"\",COUNTIF($V$7:V4930,\"該当３\"))","v":""}]
[{"$nulls":10},"","",{"$f":"IF(K4932=\"\",\"\",COUNTIF($K$7:K4932,\"ﾘｽﾄ１\"))","v":""},"","","","","","","",{"$f":"IF(S4932=\"\",\"\",COUNTIF($S$7:S4932,\"該当２\"))","v":""},"","",{"$f":"IF(V4932=\"\",\"\",COUNTIF($V$7:V4932,\"該当３\"))","v":""}]
[{"$nulls":10},"","",{"$f":"IF(K4933=\"\",\"\",COUNTIF($K$7:K4933,\"ﾘｽﾄ１\"))","v":""},"","","","","","","",{"$f":"IF(S4933=\"\",\"\",COUNTIF($S$7:S4933,\"該当２\"))","v":""},"","",{"$f":"IF(V4933=\"\",\"\",COUNTIF($V$7:V4933,\"該当３\"))","v":""}]
[{"$nulls":10},"","",{"$f":"IF(K4935=\"\",\"\",COUNTIF($K$7:K4935,\"ﾘｽﾄ１\"))","v":""},"","","","","","","",{"$f":"IF(S4935=\"\",\"\",COUNTIF($S$7:S4935,\"該当２\"))","v":""},"","",{"$f":"IF(V4935=\"\",\"\",COUNTIF($V$7:V4935,\"該当３\"))","v":""}]
[{"$nulls":10},"","",{"$f":"IF(K4936=\"\",\"\",COUNTIF($K$7:K4936,\"ﾘｽﾄ１\"))","v":""},"","","","","","","",{"$f":"IF(S4936=\"\",\"\",COUNTIF($S$7:S4936,\"該当２\"))","v":""},"","",{"$f":"IF(V4936=\"\",\"\",COUNTIF($V$7:V4936,\"該当３\"))","v":""}]
[{"$nulls":10},"","",{"$f":"IF(K4938=\"\",\"\",COUNTIF($K$7:K4938,\"ﾘｽﾄ１\"))","v":""},"","","","","","","",{"$f":"IF(S4938=\"\",\"\",COUNTIF($S$7:S4938,\"該当２\"))","v":""},"","",{"$f":"IF(V4938=\"\",\"\",COUNTIF($V$7:V4938,\"該当３\"))","v":""}]
[{"$nulls":10},{"$f":"IF(AND($C4939>0,$H4939=\"\"),\"ﾘｽﾄ１\",\"\")","v":""},"",{"$f":"IF(K4939=\"\",\"\",COUNTIF($K$7:K4939,\"ﾘｽﾄ１\"))","v":""},"","","","","","","",{"$f":"IF(S4939=\"\",\"\",COUNTIF($S$7:S4939,\"該当２\"))","v":""},"","",{"$f":"IF(V4939=\"\",\"\",COUNTIF($V$7:V4939,\"該当３\"))","v":""}]
[{"$nulls":10},"","",{"$f":"IF(K4941=\"\",\"\",COUNTIF($K$7:K4941,\"ﾘｽﾄ１\"))","v":""},"","","","","","","",{"$f":"IF(S4941=\"\",\"\",COUNTIF($S$7:S4941,\"該当２\"))","v":""},"","",{"$f":"IF(V4941=\"\",\"\",COUNTIF($V$7:V4941,\"該当３\"))","v":""}]
[{"$nulls":10},"","",{"$f":"IF(K4942=\"\",\"\",COUNTIF($K$7:K4942,\"ﾘｽﾄ１\"))","v":""},"","","","","","","",{"$f":"IF(S4942=\"\",\"\",COUNTIF($S$7:S4942,\"該当２\"))","v":""},"","",{"$f":"IF(V4942=\"\",\"\",COUNTIF($V$7:V4942,\"該当３\"))","v":""}]
[{"$nulls":10},"","",{"$f":"IF(K4944=\"\",\"\",COUNTIF($K$7:K4944,\"ﾘｽﾄ１\"))","v":""},"","","","","","","",{"$f":"IF(S4944=\"\",\"\",COUNTIF($S$7:S4944,\"該当２\"))","v":""},"","",{"$f":"IF(V4944=\"\",\"\",COUNTIF($V$7:V4944,\"該当３\"))","v":""}]
[{"$nulls":10},"","",{"$f":"IF(K4945=\"\",\"\",COUNTIF($K$7:K4945,\"ﾘｽﾄ１\"))","v":""},"","","","","","","",{"$f":"IF(S4945=\"\",\"\",COUNTIF($S$7:S4945,\"該当２\"))","v":""},"","",{"$f":"IF(V4945=\"\",\"\",COUNTIF($V$7:V4945,\"該当３\"))","v":""}]
[{"$nulls":10},"","",{"$f":"IF(K4947=\"\",\"\",COUNTIF($K$7:K4947,\"ﾘｽﾄ１\"))","v":""},"","","","","","","",{"$f":"IF(S4947=\"\",\"\",COUNTIF($S$7:S4947,\"該当２\"))","v":""},"","",{"$f":"IF(V4947=\"\",\"\",COUNTIF($V$7:V4947,\"該当３\"))","v":""}]
[{"$nulls":10},"","",{"$f":"IF(K4948=\"\",\"\",COUNTIF($K$7:K4948,\"ﾘｽﾄ１\"))","v":""},"","","","","","","",{"$f":"IF(S4948=\"\",\"\",COUNTIF($S$7:S4948,\"該当２\"))","v":""},"","",{"$f":"IF(V4948=\"\",\"\",COUNTIF($V$7:V4948,\"該当３\"))","v":""}]
[{"$nulls":10},"","",{"$f":"IF(K4950=\"\",\"\",COUNTIF($K$7:K4950,\"ﾘｽﾄ１\"))","v":""},"","","","","","","",{"$f":"IF(S4950=\"\",\"\",COUNTIF($S$7:S4950,\"該当２\"))","v":""},"","",{"$f":"IF(V4950=\"\",\"\",COUNTIF($V$7:V4950,\"該当３\"))","v":""}]
[{"$nulls":10},"","",{"$f":"IF(K4951=\"\",\"\",COUNTIF($K$7:K4951,\"ﾘｽﾄ１\"))","v":""},"","","","","","","",{"$f":"IF(S4951=\"\",\"\",COUNTIF($S$7:S4951,\"該当２\"))","v":""},"","",{"$f":"IF(V4951=\"\",\"\",COUNTIF($V$7:V4951,\"該当３\"))","v":""}]
[{"$nulls":10},"","",{"$f":"IF(K4953=\"\",\"\",COUNTIF($K$7:K4953,\"ﾘｽﾄ１\"))","v":""},"","","","","","","",{"$f":"IF(S4953=\"\",\"\",COUNTIF($S$7:S4953,\"該当２\"))","v":""},"","",{"$f":"IF(V4953=\"\",\"\",COUNTIF($V$7:V4953,\"該当３\"))","v":""}]
[{"$nulls":10},"","",{"$f":"IF(K4954=\"\",\"\",COUNTIF($K$7:K4954,\"ﾘｽﾄ１\"))","v":""},"","","","","","","",{"$f":"IF(S4954=\"\",\"\",COUNTIF($S$7:S4954,\"該当２\"))","v":""},"","",{"$f":"IF(V4954=\"\",\"\",COUNTIF($V$7:V4954,\"該当３\"))","v":""}]
[{"$nulls":10},"","",{"$f":"IF(K4956=\"\",\"\",COUNTIF($K$7:K4956,\"ﾘｽﾄ１\"))","v":""},"","","","","","","",{"$f":"IF(S4956=\"\",\"\",COUNTIF($S$7:S4956,\"該当２\"))","v":""},"","",{"$f":"IF(V4956=\"\",\"\",COUNTIF($V$7:V4956,\"該当３\"))","v":""}]
[{"$nulls":10},"","",{"$f":"IF(K4957=\"\",\"\",COUNTIF($K$7:K4957,\"ﾘｽﾄ１\"))","v":""},"","","","","","","",{"$f":"IF(S4957=\"\",\"\",COUNTIF($S$7:S4957,\"該当２\"))","v":""},"","",{"$f":"IF(V4957=\"\",\"\",COUNTIF($V$7:V4957,\"該当３\"))","v":""}]
[{"$nulls":10},"","",{"$f":"IF(K4959=\"\",\"\",COUNTIF($K$7:K4959,\"ﾘｽﾄ１\"))","v":""},"","","","","","","",{"$f":"IF(S4959=\"\",\"\",COUNTIF($S$7:S4959,\"該当２\"))","v":""},"","",{"$f":"IF(V4959=\"\",\"\",COUNTIF($V$7:V4959,\"該当３\"))","v":""}]
[{"$nulls":10},"","",{"$f":"IF(K4960=\"\",\"\",COUNTIF($K$7:K4960,\"ﾘｽﾄ１\"))","v":""},"","","","","","","",{"$f":"IF(S4960=\"\",\"\",COUNTIF($S$7:S4960,\"該当２\"))","v":""},"","",{"$f":"IF(V4960=\"\",\"\",COUNTIF($V$7:V4960,\"該当３\"))","v":""}]
[{"$nulls":10},"","",{"$f":"IF(K4962=\"\",\"\",COUNTIF($K$7:K4962,\"ﾘｽﾄ１\"))","v":""},"","","","","","","",{"$f":"IF(S4962=\"\",\"\",COUNTIF($S$7:S4962,\"該当２\"))","v":""},"","",{"$f":"IF(V4962=\"\",\"\",COUNTIF($V$7:V4962,\"該当３\"))","v":""}]
[{"$nulls":10},"","",{"$f":"IF(K4963=\"\",\"\",COUNTIF($K$7:K4963,\"ﾘｽﾄ１\"))","v":""},"","","","","","","",{"$f":"IF(S4963=\"\",\"\",COUNTIF($S$7:S4963,\"該当２\"))","v":""},"","",{"$f":"IF(V4963=\"\",\"\",COUNTIF($V$7:V4963,\"該当３\"))","v":""}]
[{"$nulls":10},"","",{"$f":"IF(K4965=\"\",\"\",COUNTIF($K$7:K4965,\"ﾘｽﾄ１\"))","v":""},"","","","","","","",{"$f":"IF(S4965=\"\",\"\",COUNTIF($S$7:S4965,\"該当２\"))","v":""},"","",{"$f":"IF(V4965=\"\",\"\",COUNTIF($V$7:V4965,\"該当３\"))","v":""}]
[{"$nulls":10},"","",{"$f":"IF(K4966=\"\",\"\",COUNTIF($K$7:K4966,\"ﾘｽﾄ１\"))","v":""},"","","","","","","",{"$f":"IF(S4966=\"\",\"\",COUNTIF($S$7:S4966,\"該当２\"))","v":""},"","",{"$f":"IF(V4966=\"\",\"\",COUNTIF($V$7:V4966,\"該当３\"))","v":""}]
[{"$nulls":10},"","",{"$f":"IF(K4968=\"\",\"\",COUNTIF($K$7:K4968,\"ﾘｽﾄ１\"))","v":""},"","","","","","","",{"$f":"IF(S4968=\"\",\"\",COUNTIF($S$7:S4968,\"該当２\"))","v":""},"","",{"$f":"IF(V4968=\"\",\"\",COUNTIF($V$7:V4968,\"該当３\"))","v":""}]
[{"$nulls":10},"","",{"$f":"IF(K4969=\"\",\"\",COUNTIF($K$7:K4969,\"ﾘｽﾄ１\"))","v":""},"","","","","","","",{"$f":"IF(S4969=\"\",\"\",COUNTIF($S$7:S4969,\"該当２\"))","v":""},"","",{"$f":"IF(V4969=\"\",\"\",COUNTIF($V$7:V4969,\"該当３\"))","v":""}]
[{"$nulls":10},"","",{"$f":"IF(K4971=\"\",\"\",COUNTIF($K$7:K4971,\"ﾘｽﾄ１\"))","v":""},"","","","","","","",{"$f":"IF(S4971=\"\",\"\",COUNTIF($S$7:S4971,\"該当２\"))","v":""},"","",{"$f":"IF(V4971=\"\",\"\",COUNTIF($V$7:V4971,\"該当３\"))","v":""}]
[{"$nulls":10},"","",{"$f":"IF(K4972=\"\",\"\",COUNTIF($K$7:K4972,\"ﾘｽﾄ１\"))","v":""},"","","","","","","",{"$f":"IF(S4972=\"\",\"\",COUNTIF($S$7:S4972,\"該当２\"))","v":""},"","",{"$f":"IF(V4972=\"\",\"\",COUNTIF($V$7:V4972,\"該当３\"))","v":""}]
[{"$nulls":10},"","",{"$f":"IF(K4974=\"\",\"\",COUNTIF($K$7:K4974,\"ﾘｽﾄ１\"))","v":""},"","","","","","","",{"$f":"IF(S4974=\"\",\"\",COUNTIF($S$7:S4974,\"該当２\"))","v":""},"","",{"$f":"IF(V4974=\"\",\"\",COUNTIF($V$7:V4974,\"該当３\"))","v":""}]
[{"$nulls":10},"","",{"$f":"IF(K4975=\"\",\"\",COUNTIF($K$7:K4975,\"ﾘｽﾄ１\"))","v":""},"","","","","","","",{"$f":"IF(S4975=\"\",\"\",COUNTIF($S$7:S4975,\"該当２\"))","v":""},"","",{"$f":"IF(V4975=\"\",\"\",COUNTIF($V$7:V4975,\"該当３\"))","v":""}]
[{"$nulls":10},"","",{"$f":"IF(K4977=\"\",\"\",COUNTIF($K$7:K4977,\"ﾘｽﾄ１\"))","v":""},"","","","","","","",{"$f":"IF(S4977=\"\",\"\",COUNTIF($S$7:S4977,\"該当２\"))","v":""},"","",{"$f":"IF(V4977=\"\",\"\",COUNTIF($V$7:V4977,\"該当３\"))","v":""}]
[{"$nulls":10},"","",{"$f":"IF(K4978=\"\",\"\",COUNTIF($K$7:K4978,\"ﾘｽﾄ１\"))","v":""},"","","","","","","",{"$f":"IF(S4978=\"\",\"\",COUNTIF($S$7:S4978,\"該当２\"))","v":""},"","",{"$f":"IF(V4978=\"\",\"\",COUNTIF($V$7:V4978,\"該当３\"))","v":""}]
[{"$nulls":10},"","",{"$f":"IF(K4980=\"\",\"\",COUNTIF($K$7:K4980,\"ﾘｽﾄ１\"))","v":""},"","","","","","","",{"$f":"IF(S4980=\"\",\"\",COUNTIF($S$7:S4980,\"該当２\"))","v":""},"","",{"$f":"IF(V4980=\"\",\"\",COUNTIF($V$7:V4980,\"該当３\"))","v":""}]
[{"$nulls":10},"","",{"$f":"IF(K4981=\"\",\"\",COUNTIF($K$7:K4981,\"ﾘｽﾄ１\"))","v":""},"","","","","","","",{"$f":"IF(S4981=\"\",\"\",COUNTIF($S$7:S4981,\"該当２\"))","v":""},"","",{"$f":"IF(V4981=\"\",\"\",COUNTIF($V$7:V4981,\"該当３\"))","v":""}]
[{"$nulls":10},"",{"$f":"IF(K4983=\"ﾘｽﾄ１\",G4983,\"\")","v":""},{"$f":"IF(K4983=\"\",\"\",COUNTIF($K$7:K4983,\"ﾘｽﾄ１\"))","v":""},{"$f":"IF(AND(D4983=0,E4983>0),\"同一区\",\"\")","v":""},{"$f":"IF(AND(EXACT($K$2,G4983),H4983>0),\"該当１\",\"\")","v":""},{"$f":"IF(O4983=\"該当１\",G4983,\"\")","v":""},{"$f":"IF(O4983=\"該当１\",\"ﾘｽﾄ2\",\"\")","v":""},{"$f":"IF(Q4983=\"ﾘｽﾄ2\",H4983,\"\")","v":""},{"$f":"IF(AND(Q4983=\"ﾘｽﾄ2\",OR(I4983=0,AND(N4983=\"同一区\",E4983=1))),\"該当２\",\"\")","v":""},{"$f":"IF(S4983=\"該当２\",H4983,\"\")","v":""},{"$f":"IF(S4983=\"\",\"\",COUNTIF($S$7:S4983,\"該当２\"))","v":""},{"$f":"IF(AND($S$2=H4983,E4983>0,E4983<998),\"該当３\",\"\")","v":""},{"$f":"IF(V4983=\"該当３\",I4983,\"\")","v":""},{"$f":"IF(V4983=\"\",\"\",COUNTIF($V$7:V4983,\"該当３\"))","v":""}]
[{"$nulls":10},"","",{"$f":"IF(K4984=\"\",\"\",COUNTIF($K$7:K4984,\"ﾘｽﾄ１\"))","v":""},"","","","","","","",{"$f":"IF(S4984=\"\",\"\",COUNTIF($S$7:S4984,\"該当２\"))","v":""},"","",{"$f":"IF(V4984=\"\",\"\",COUNTIF($V$7:V4984,\"該当３\"))","v":""}]
[{"$nulls":10},"","",{"$f":"IF(K4986=\"\",\"\",COUNTIF($K$7:K4986,\"ﾘｽﾄ１\"))","v":""},"","","","","","","",{"$f":"IF(S4986=\"\",\"\",COUNTIF($S$7:S4986,\"該当２\"))","v":""},"","",{"$f":"IF(V4986=\"\",\"\",COUNTIF($V$7:V4986,\"該当３\"))","v":""}]
[{"$nulls":10},"","",{"$f":"IF(K4987=\"\",\"\",COUNTIF($K$7:K4987,\"ﾘｽﾄ１\"))","v":""},"","","","","","","",{"$f":"IF(S4987=\"\",\"\",COUNTIF($S$7:S4987,\"該当２\"))","v":""},"","",{"$f":"IF(V4987=\"\",\"\",COUNTIF($V$7:V4987,\"該当３\"))","v":""}]
[{"$nulls":10},"","",{"$f":"IF(K4989=\"\",\"\",COUNTIF($K$7:K4989,\"ﾘｽﾄ１\"))","v":""},"","","","","","","",{"$f":"IF(S4989=\"\",\"\",COUNTIF($S$7:S4989,\"該当２\"))","v":""},"","",{"$f":"IF(V4989=\"\",\"\",COUNTIF($V$7:V4989,\"該当３\"))","v":""}]
[{"$nulls":10},"","",{"$f":"IF(K4990=\"\",\"\",COUNTIF($K$7:K4990,\"ﾘｽﾄ１\"))","v":""},"","","","","","","",{"$f":"IF(S4990=\"\",\"\",COUNTIF($S$7:S4990,\"該当２\"))","v":""},"","",{"$f":"IF(V4990=\"\",\"\",COUNTIF($V$7:V4990,\"該当３\"))","v":""}]
[{"$nulls":10},"","",{"$f":"IF(K4992=\"\",\"\",COUNTIF($K$7:K4992,\"ﾘｽﾄ１\"))","v":""},"","","","","","","",{"$f":"IF(S4992=\"\",\"\",COUNTIF($S$7:S4992,\"該当２\"))","v":""},"","",{"$f":"IF(V4992=\"\",\"\",COUNTIF($V$7:V4992,\"該当３\"))","v":""}]
[{"$nulls":10},"","",{"$f":"IF(K4993=\"\",\"\",COUNTIF($K$7:K4993,\"ﾘｽﾄ１\"))","v":""},"","","","","","","",{"$f":"IF(S4993=\"\",\"\",COUNTIF($S$7:S4993,\"該当２\"))","v":""},"","",{"$f":"IF(V4993=\"\",\"\",COUNTIF($V$7:V4993,\"該当３\"))","v":""}]
[{"$nulls":10},"","",{"$f":"IF(K4995=\"\",\"\",COUNTIF($K$7:K4995,\"ﾘｽﾄ１\"))","v":""},"","","","","","","",{"$f":"IF(S4995=\"\",\"\",COUNTIF($S$7:S4995,\"該当２\"))","v":""},"","",{"$f":"IF(V4995=\"\",\"\",COUNTIF($V$7:V4995,\"該当３\"))","v":""}]
[{"$nulls":10},"","",{"$f":"IF(K4996=\"\",\"\",COUNTIF($K$7:K4996,\"ﾘｽﾄ１\"))","v":""},"","","","","","","",{"$f":"IF(S4996=\"\",\"\",COUNTIF($S$7:S4996,\"該当２\"))","v":""},"","",{"$f":"IF(V4996=\"\",\"\",COUNTIF($V$7:V4996,\"該当３\"))","v":""}]
[{"$nulls":10},"","",{"$f":"IF(K4998=\"\",\"\",COUNTIF($K$7:K4998,\"ﾘｽﾄ１\"))","v":""},"","","","","","","",{"$f":"IF(S4998=\"\",\"\",COUNTIF($S$7:S4998,\"該当２\"))","v":""},"","",{"$f":"IF(V4998=\"\",\"\",COUNTIF($V$7:V4998,\"該当３\"))","v":""}]
[{"$nulls":10},"","",{"$f":"IF(K4999=\"\",\"\",COUNTIF($K$7:K4999,\"ﾘｽﾄ１\"))","v":""},"","","","","","","",{"$f":"IF(S4999=\"\",\"\",COUNTIF($S$7:S4999,\"該当２\"))","v":""},"","",{"$f":"IF(V4999=\"\",\"\",COUNTIF($V$7:V4999,\"該当３\"))","v":""}]
[{"$nulls":10},"","",{"$f":"IF(K5001=\"\",\"\",COUNTIF($K$7:K5001,\"ﾘｽﾄ１\"))","v":""},"","","","","","","",{"$f":"IF(S5001=\"\",\"\",COUNTIF($S$7:S5001,\"該当２\"))","v":""},"","",{"$f":"IF(V5001=\"\",\"\",COUNTIF($V$7:V5001,\"該当３\"))","v":""}]
[{"$nulls":10},"","",{"$f":"IF(K5002=\"\",\"\",COUNTIF($K$7:K5002,\"ﾘｽﾄ１\"))","v":""},"","","","","","","",{"$f":"IF(S5002=\"\",\"\",COUNTIF($S$7:S5002,\"該当２\"))","v":""},"","",{"$f":"IF(V5002=\"\",\"\",COUNTIF($V$7:V5002,\"該当３\"))","v":""}]
[{"$nulls":10},{"$f":"IF(AND($C5003>0,$H5003=\"\"),\"ﾘｽﾄ１\",\"\")","v":""},"",{"$f":"IF(K5003=\"\",\"\",COUNTIF($K$7:K5003,\"ﾘｽﾄ１\"))","v":""},"","","","","","","",{"$f":"IF(S5003=\"\",\"\",COUNTIF($S$7:S5003,\"該当２\"))","v":""},"","",{"$f":"IF(V5003=\"\",\"\",COUNTIF($V$7:V5003,\"該当３\"))","v":""}]
[{"$nulls":10},"","",{"$f":"IF(K5004=\"\",\"\",COUNTIF($K$7:K5004,\"ﾘｽﾄ１\"))","v":""},"","","","","","","",{"$f":"IF(S5004=\"\",\"\",COUNTIF($S$7:S5004,\"該当２\"))","v":""},"","",{"$f":"IF(V5004=\"\",\"\",COUNTIF($V$7:V5004,\"該当３\"))","v":""}]
[{"$nulls":10},"","",{"$f":"IF(K5005=\"\",\"\",COUNTIF($K$7:K5005,\"ﾘｽﾄ１\"))","v":""},"","","","","","","",{"$f":"IF(S5005=\"\",\"\",COUNTIF($S$7:S5005,\"該当２\"))","v":""},"","",{"$f":"IF(V5005=\"\",\"\",COUNTIF($V$7:V5005,\"該当３\"))","v":""}]
[{"$nulls":10},"","",{"$f":"IF(K5006=\"\",\"\",COUNTIF($K$7:K5006,\"ﾘｽﾄ１\"))","v":""},"","","","","","","",{"$f":"IF(S5006=\"\",\"\",COUNTIF($S$7:S5006,\"該当２\"))","v":""},"","",{"$f":"IF(V5006=\"\",\"\",COUNTIF($V$7:V5006,\"該当３\"))","v":""}]
[{"$nulls":10},"","",{"$f":"IF(K5007=\"\",\"\",COUNTIF($K$7:K5007,\"ﾘｽﾄ１\"))","v":""},"","","","","","","",{"$f":"IF(S5007=\"\",\"\",COUNTIF($S$7:S5007,\"該当２\"))","v":""},"","",{"$f":"IF(V5007=\"\",\"\",COUNTIF($V$7:V5007,\"該当３\"))","v":""}]
[{"$nulls":10},"","",{"$f":"IF(K5008=\"\",\"\",COUNTIF($K$7:K5008,\"ﾘｽﾄ１\"))","v":""},"","","","","","","",{"$f":"IF(S5008=\"\",\"\",COUNTIF($S$7:S5008,\"該当２\"))","v":""},"","",{"$f":"IF(V5008=\"\",\"\",COUNTIF($V$7:V5008,\"該当３\"))","v":""}]
[{"$nulls":10},"","",{"$f":"IF(K5009=\"\",\"\",COUNTIF($K$7:K5009,\"ﾘｽﾄ１\"))","v":""},"","","","","","","",{"$f":"IF(S5009=\"\",\"\",COUNTIF($S$7:S5009,\"該当２\"))","v":""},"","",{"$f":"IF(V5009=\"\",\"\",COUNTIF($V$7:V5009,\"該当３\"))","v":""}]
[{"$nulls":10},"","",{"$f":"IF(K5010=\"\",\"\",COUNTIF($K$7:K5010,\"ﾘｽﾄ１\"))","v":""},"","","","","","","",{"$f":"IF(S5010=\"\",\"\",COUNTIF($S$7:S5010,\"該当２\"))","v":""},"","",{"$f":"IF(V5010=\"\",\"\",COUNTIF($V$7:V5010,\"該当３\"))","v":""}]
[{"$nulls":10},"","",{"$f":"IF(K5011=\"\",\"\",COUNTIF($K$7:K5011,\"ﾘｽﾄ１\"))","v":""},"","","","","","","",{"$f":"IF(S5011=\"\",\"\",COUNTIF($S$7:S5011,\"該当２\"))","v":""},"","",{"$f":"IF(V5011=\"\",\"\",COUNTIF($V$7:V5011,\"該当３\"))","v":""}]
[{"$nulls":10},"","",{"$f":"IF(K5012=\"\",\"\",COUNTIF($K$7:K5012,\"ﾘｽﾄ１\"))","v":""},"","","","","","","",{"$f":"IF(S5012=\"\",\"\",COUNTIF($S$7:S5012,\"該当２\"))","v":""},"","",{"$f":"IF(V5012=\"\",\"\",COUNTIF($V$7:V5012,\"該当３\"))","v":""}]
[{"$nulls":10},"","",{"$f":"IF(K5013=\"\",\"\",COUNTIF($K$7:K5013,\"ﾘｽﾄ１\"))","v":""},"","","","","","","",{"$f":"IF(S5013=\"\",\"\",COUNTIF($S$7:S5013,\"該当２\"))","v":""},"","",{"$f":"IF(V5013=\"\",\"\",COUNTIF($V$7:V5013,\"該当３\"))","v":""}]
[{"$nulls":10},"","",{"$f":"IF(K5014=\"\",\"\",COUNTIF($K$7:K5014,\"ﾘｽﾄ１\"))","v":""},"","","","","","","",{"$f":"IF(S5014=\"\",\"\",COUNTIF($S$7:S5014,\"該当２\"))","v":""},"","",{"$f":"IF(V5014=\"\",\"\",COUNTIF($V$7:V5014,\"該当３\"))","v":""}]
[{"$nulls":10},"","",{"$f":"IF(K5015=\"\",\"\",COUNTIF($K$7:K5015,\"ﾘｽﾄ１\"))","v":""},"","","","","","","",{"$f":"IF(S5015=\"\",\"\",COUNTIF($S$7:S5015,\"該当２\"))","v":""},"","",{"$f":"IF(V5015=\"\",\"\",COUNTIF($V$7:V5015,\"該当３\"))","v":""}]
[{"$nulls":10},"","",{"$f":"IF(K5016=\"\",\"\",COUNTIF($K$7:K5016,\"ﾘｽﾄ１\"))","v":""},"","","","","","","",{"$f":"IF(S5016=\"\",\"\",COUNTIF($S$7:S5016,\"該当２\"))","v":""},"","",{"$f":"IF(V5016=\"\",\"\",COUNTIF($V$7:V5016,\"該当３\"))","v":""}]
[{"$nulls":10},"","",{"$f":"IF(K5017=\"\",\"\",COUNTIF($K$7:K5017,\"ﾘｽﾄ１\"))","v":""},"","","","","","","",{"$f":"IF(S5017=\"\",\"\",COUNTIF($S$7:S5017,\"該当２\"))","v":""},"","",{"$f":"IF(V5017=\"\",\"\",COUNTIF($V$7:V5017,\"該当３\"))","v":""}]
[{"$nulls":10},"","",{"$f":"IF(K5018=\"\",\"\",COUNTIF($K$7:K5018,\"ﾘｽﾄ１\"))","v":""},"","","","","","","",{"$f":"IF(S5018=\"\",\"\",COUNTIF($S$7:S5018,\"該当２\"))","v":""},"","",{"$f":"IF(V5018=\"\",\"\",COUNTIF($V$7:V5018,\"該当３\"))","v":""}]
[{"$nulls":10},"","",{"$f":"IF(K5019=\"\",\"\",COUNTIF($K$7:K5019,\"ﾘｽﾄ１\"))","v":""},"","","","","","","",{"$f":"IF(S5019=\"\",\"\",COUNTIF($S$7:S5019,\"該当２\"))","v":""},"","",{"$f":"IF(V5019=\"\",\"\",COUNTIF($V$7:V5019,\"該当３\"))","v":""}]
[{"$nulls":10},"","",{"$f":"IF(K5020=\"\",\"\",COUNTIF($K$7:K5020,\"ﾘｽﾄ１\"))","v":""},"","","","","","","",{"$f":"IF(S5020=\"\",\"\",COUNTIF($S$7:S5020,\"該当２\"))","v":""},"","",{"$f":"IF(V5020=\"\",\"\",COUNTIF($V$7:V5020,\"該当３\"))","v":""}]
[{"$nulls":10},"","",{"$f":"IF(K5021=\"\",\"\",COUNTIF($K$7:K5021,\"ﾘｽﾄ１\"))","v":""},"","","","","","","",{"$f":"IF(S5021=\"\",\"\",COUNTIF($S$7:S5021,\"該当２\"))","v":""},"","",{"$f":"IF(V5021=\"\",\"\",COUNTIF($V$7:V5021,\"該当３\"))","v":""}]
[{"$nulls":10},"","",{"$f":"IF(K5022=\"\",\"\",COUNTIF($K$7:K5022,\"ﾘｽﾄ１\"))","v":""},"","","","","","","",{"$f":"IF(S5022=\"\",\"\",COUNTIF($S$7:S5022,\"該当２\"))","v":""},"","",{"$f":"IF(V5022=\"\",\"\",COUNTIF($V$7:V5022,\"該当３\"))","v":""}]
[{"$nulls":10},"","",{"$f":"IF(K5023=\"\",\"\",COUNTIF($K$7:K5023,\"ﾘｽﾄ１\"))","v":""},"","","","","","","",{"$f":"IF(S5023=\"\",\"\",COUNTIF($S$7:S5023,\"該当２\"))","v":""},"","",{"$f":"IF(V5023=\"\",\"\",COUNTIF($V$7:V5023,\"該当３\"))","v":""}]
[{"$nulls":10},"","",{"$f":"IF(K5024=\"\",\"\",COUNTIF($K$7:K5024,\"ﾘｽﾄ１\"))","v":""},"","","","","","","",{"$f":"IF(S5024=\"\",\"\",COUNTIF($S$7:S5024,\"該当２\"))","v":""},"","",{"$f":"IF(V5024=\"\",\"\",COUNTIF($V$7:V5024,\"該当３\"))","v":""}]
[{"$nulls":10},"","",{"$f":"IF(K5025=\"\",\"\",COUNTIF($K$7:K5025,\"ﾘｽﾄ１\"))","v":""},"","","","","","","",{"$f":"IF(S5025=\"\",\"\",COUNTIF($S$7:S5025,\"該当２\"))","v":""},"","",{"$f":"IF(V5025=\"\",\"\",COUNTIF($V$7:V5025,\"該当３\"))","v":""}]
[{"$nulls":10},"","",{"$f":"IF(K5026=\"\",\"\",COUNTIF($K$7:K5026,\"ﾘｽﾄ１\"))","v":""},"","","","","","","",{"$f":"IF(S5026=\"\",\"\",COUNTIF($S$7:S5026,\"該当２\"))","v":""},"","",{"$f":"IF(V5026=\"\",\"\",COUNTIF($V$7:V5026,\"該当３\"))","v":""}]
[{"$nulls":10},"","",{"$f":"IF(K5027=\"\",\"\",COUNTIF($K$7:K5027,\"ﾘｽﾄ１\"))","v":""},"","","","","","","",{"$f":"IF(S5027=\"\",\"\",COUNTIF($S$7:S5027,\"該当２\"))","v":""},"","",{"$f":"IF(V5027=\"\",\"\",COUNTIF($V$7:V5027,\"該当３\"))","v":""}]
[{"$nulls":10},"","",{"$f":"IF(K5028=\"\",\"\",COUNTIF($K$7:K5028,\"ﾘｽﾄ１\"))","v":""},"","","","","","","",{"$f":"IF(S5028=\"\",\"\",COUNTIF($S$7:S5028,\"該当２\"))","v":""},"","",{"$f":"IF(V5028=\"\",\"\",COUNTIF($V$7:V5028,\"該当３\"))","v":""}]
[{"$nulls":10},"","",{"$f":"IF(K5029=\"\",\"\",COUNTIF($K$7:K5029,\"ﾘｽﾄ１\"))","v":""},"","","","","","","",{"$f":"IF(S5029=\"\",\"\",COUNTIF($S$7:S5029,\"該当２\"))","v":""},"","",{"$f":"IF(V5029=\"\",\"\",COUNTIF($V$7:V5029,\"該当３\"))","v":""}]
[{"$nulls":10},"","",{"$f":"IF(K5030=\"\",\"\",COUNTIF($K$7:K5030,\"ﾘｽﾄ１\"))","v":""},"","","","","","","",{"$f":"IF(S5030=\"\",\"\",COUNTIF($S$7:S5030,\"該当２\"))","v":""},"","",{"$f":"IF(V5030=\"\",\"\",COUNTIF($V$7:V5030,\"該当３\"))","v":""}]
[{"$nulls":10},"","",{"$f":"IF(K5031=\"\",\"\",COUNTIF($K$7:K5031,\"ﾘｽﾄ１\"))","v":""},"","","","","","","",{"$f":"IF(S5031=\"\",\"\",COUNTIF($S$7:S5031,\"該当２\"))","v":""},"","",{"$f":"IF(V5031=\"\",\"\",COUNTIF($V$7:V5031,\"該当３\"))","v":""}]
[{"$nulls":10},"","",{"$f":"IF(K5032=\"\",\"\",COUNTIF($K$7:K5032,\"ﾘｽﾄ１\"))","v":""},"","","","","","","",{"$f":"IF(S5032=\"\",\"\",COUNTIF($S$7:S5032,\"該当２\"))","v":""},"","",{"$f":"IF(V5032=\"\",\"\",COUNTIF($V$7:V5032,\"該当３\"))","v":""}]
[{"$nulls":10},"","",{"$f":"IF(K5033=\"\",\"\",COUNTIF($K$7:K5033,\"ﾘｽﾄ１\"))","v":""},"","","","","","","",{"$f":"IF(S5033=\"\",\"\",COUNTIF($S$7:S5033,\"該当２\"))","v":""},"","",{"$f":"IF(V5033=\"\",\"\",COUNTIF($V$7:V5033,\"該当３\"))","v":""}]
[{"$nulls":10},"","",{"$f":"IF(K5034=\"\",\"\",COUNTIF($K$7:K5034,\"ﾘｽﾄ１\"))","v":""},"","","","","","","",{"$f":"IF(S5034=\"\",\"\",COUNTIF($S$7:S5034,\"該当２\"))","v":""},"","",{"$f":"IF(V5034=\"\",\"\",COUNTIF($V$7:V5034,\"該当３\"))","v":""}]
[{"$nulls":10},"","",{"$f":"IF(K5035=\"\",\"\",COUNTIF($K$7:K5035,\"ﾘｽﾄ１\"))","v":""},"","","","","","","",{"$f":"IF(S5035=\"\",\"\",COUNTIF($S$7:S5035,\"該当２\"))","v":""},"","",{"$f":"IF(V5035=\"\",\"\",COUNTIF($V$7:V5035,\"該当３\"))","v":""}]
[{"$nulls":10},"","",{"$f":"IF(K5036=\"\",\"\",COUNTIF($K$7:K5036,\"ﾘｽﾄ１\"))","v":""},"","","","","","","",{"$f":"IF(S5036=\"\",\"\",COUNTIF($S$7:S5036,\"該当２\"))","v":""},"","",{"$f":"IF(V5036=\"\",\"\",COUNTIF($V$7:V5036,\"該当３\"))","v":""}]
[{"$nulls":10},"","",{"$f":"IF(K5037=\"\",\"\",COUNTIF($K$7:K5037,\"ﾘｽﾄ１\"))","v":""},"","","","","","","",{"$f":"IF(S5037=\"\",\"\",COUNTIF($S$7:S5037,\"該当２\"))","v":""},"","",{"$f":"IF(V5037=\"\",\"\",COUNTIF($V$7:V5037,\"該当３\"))","v":""}]
[{"$nulls":10},"","",{"$f":"IF(K5038=\"\",\"\",COUNTIF($K$7:K5038,\"ﾘｽﾄ１\"))","v":""},"","","","","","","",{"$f":"IF(S5038=\"\",\"\",COUNTIF($S$7:S5038,\"該当２\"))","v":""},"","",{"$f":"IF(V5038=\"\",\"\",COUNTIF($V$7:V5038,\"該当３\"))","v":""}]
[{"$nulls":10},"","",{"$f":"IF(K5039=\"\",\"\",COUNTIF($K$7:K5039,\"ﾘｽﾄ１\"))","v":""},"","","","","","","",{"$f":"IF(S5039=\"\",\"\",COUNTIF($S$7:S5039,\"該当２\"))","v":""},"","",{"$f":"IF(V5039=\"\",\"\",COUNTIF($V$7:V5039,\"該当３\"))","v":""}]
[{"$nulls":10},"","",{"$f":"IF(K5040=\"\",\"\",COUNTIF($K$7:K5040,\"ﾘｽﾄ１\"))","v":""},"","","","","","","",{"$f":"IF(S5040=\"\",\"\",COUNTIF($S$7:S5040,\"該当２\"))","v":""},"","",{"$f":"IF(V5040=\"\",\"\",COUNTIF($V$7:V5040,\"該当３\"))","v":""}]
[{"$nulls":10},"","",{"$f":"IF(K5041=\"\",\"\",COUNTIF($K$7:K5041,\"ﾘｽﾄ１\"))","v":""},"","","","","","","",{"$f":"IF(S5041=\"\",\"\",COUNTIF($S$7:S5041,\"該当２\"))","v":""},"","",{"$f":"IF(V5041=\"\",\"\",COUNTIF($V$7:V5041,\"該当３\"))","v":""}]
[{"$nulls":10},"","",{"$f":"IF(K5042=\"\",\"\",COUNTIF($K$7:K5042,\"ﾘｽﾄ１\"))","v":""},"","","","","","","",{"$f":"IF(S5042=\"\",\"\",COUNTIF($S$7:S5042,\"該当２\"))","v":""},"","",{"$f":"IF(V5042=\"\",\"\",COUNTIF($V$7:V5042,\"該当３\"))","v":""}]
[{"$nulls":10},"","",{"$f":"IF(K5043=\"\",\"\",COUNTIF($K$7:K5043,\"ﾘｽﾄ１\"))","v":""},"","","","","","","",{"$f":"IF(S5043=\"\",\"\",COUNTIF($S$7:S5043,\"該当２\"))","v":""},"","",{"$f":"IF(V5043=\"\",\"\",COUNTIF($V$7:V5043,\"該当３\"))","v":""}]
[{"$nulls":10},"","",{"$f":"IF(K5044=\"\",\"\",COUNTIF($K$7:K5044,\"ﾘｽﾄ１\"))","v":""},"","","","","","","",{"$f":"IF(S5044=\"\",\"\",COUNTIF($S$7:S5044,\"該当２\"))","v":""},"","",{"$f":"IF(V5044=\"\",\"\",COUNTIF($V$7:V5044,\"該当３\"))","v":""}]
[{"$nulls":10},"","",{"$f":"IF(K5045=\"\",\"\",COUNTIF($K$7:K5045,\"ﾘｽﾄ１\"))","v":""},"","","","","","","",{"$f":"IF(S5045=\"\",\"\",COUNTIF($S$7:S5045,\"該当２\"))","v":""},"","",{"$f":"IF(V5045=\"\",\"\",COUNTIF($V$7:V5045,\"該当３\"))","v":""}]
[{"$nulls":10},"","",{"$f":"IF(K5046=\"\",\"\",COUNTIF($K$7:K5046,\"ﾘｽﾄ１\"))","v":""},"","","","","","","",{"$f":"IF(S5046=\"\",\"\",COUNTIF($S$7:S5046,\"該当２\"))","v":""},"","",{"$f":"IF(V5046=\"\",\"\",COUNTIF($V$7:V5046,\"該当３\"))","v":""}]
[{"$nulls":10},"",{"$f":"IF(K5047=\"ﾘｽﾄ１\",G5047,\"\")","v":""},{"$f":"IF(K5047=\"\",\"\",COUNTIF($K$7:K5047,\"ﾘｽﾄ１\"))","v":""},{"$f":"IF(AND(D5047=0,E5047>0),\"同一区\",\"\")","v":""},{"$f":"IF(AND(EXACT($K$2,G5047),H5047>0),\"該当１\",\"\")","v":""},{"$f":"IF(O5047=\"該当１\",G5047,\"\")","v":""},{"$f":"IF(O5047=\"該当１\",\"ﾘｽﾄ2\",\"\")","v":""},{"$f":"IF(Q5047=\"ﾘｽﾄ2\",H5047,\"\")","v":""},{"$f":"IF(AND(Q5047=\"ﾘｽﾄ2\",OR(I5047=0,AND(N5047=\"同一区\",E5047=1))),\"該当２\",\"\")","v":""},{"$f":"IF(S5047=\"該当２\",H5047,\"\")","v":""},{"$f":"IF(S5047=\"\",\"\",COUNTIF($S$7:S5047,\"該当２\"))","v":""},{"$f":"IF(AND($S$2=H5047,E5047>0,E5047<998),\"該当３\",\"\")","v":""},{"$f":"IF(V5047=\"該当３\",I5047,\"\")","v":""},{"$f":"IF(V5047=\"\",\"\",COUNTIF($V$7:V5047,\"該当３\"))","v":""}]
[{"$nulls":10},"","",{"$f":"IF(K5048=\"\",\"\",COUNTIF($K$7:K5048,\"ﾘｽﾄ１\"))","v":""},"","","","","","","",{"$f":"IF(S5048=\"\",\"\",COUNTIF($S$7:S5048,\"該当２\"))","v":""},"","",{"$f":"IF(V5048=\"\",\"\",COUNTIF($V$7:V5048,\"該当３\"))","v":""}]
[{"$nulls":10},"","",{"$f":"IF(K5049=\"\",\"\",COUNTIF($K$7:K5049,\"ﾘｽﾄ１\"))","v":""},"","","","","","","",{"$f":"IF(S5049=\"\",\"\",COUNTIF($S$7:S5049,\"該当２\"))","v":""},"","",{"$f":"IF(V5049=\"\",\"\",COUNTIF($V$7:V5049,\"該当３\"))","v":""}]
[{"$nulls":10},"","",{"$f":"IF(K5050=\"\",\"\",COUNTIF($K$7:K5050,\"ﾘｽﾄ１\"))","v":""},"","","","","","","",{"$f":"IF(S5050=\"\",\"\",COUNTIF($S$7:S5050,\"該当２\"))","v":""},"","",{"$f":"IF(V5050=\"\",\"\",COUNTIF($V$7:V5050,\"該当３\"))","v":""}]
[{"$nulls":10},"","",{"$f":"IF(K5051=\"\",\"\",COUNTIF($K$7:K5051,\"ﾘｽﾄ１\"))","v":""},"","","","","","","",{"$f":"IF(S5051=\"\",\"\",COUNTIF($S$7:S5051,\"該当２\"))","v":""},"","",{"$f":"IF(V5051=\"\",\"\",COUNTIF($V$7:V5051,\"該当３\"))","v":""}]
[{"$nulls":10},"","",{"$f":"IF(K5052=\"\",\"\",COUNTIF($K$7:K5052,\"ﾘｽﾄ１\"))","v":""},"","","","","","","",{"$f":"IF(S5052=\"\",\"\",COUNTIF($S$7:S5052,\"該当２\"))","v":""},"","",{"$f":"IF(V5052=\"\",\"\",COUNTIF($V$7:V5052,\"該当３\"))","v":""}]
[{"$nulls":10},"","",{"$f":"IF(K5053=\"\",\"\",COUNTIF($K$7:K5053,\"ﾘｽﾄ１\"))","v":""},"","","","","","","",{"$f":"IF(S5053=\"\",\"\",COUNTIF($S$7:S5053,\"該当２\"))","v":""},"","",{"$f":"IF(V5053=\"\",\"\",COUNTIF($V$7:V5053,\"該当３\"))","v":""}]
[{"$nulls":10},"","",{"$f":"IF(K5054=\"\",\"\",COUNTIF($K$7:K5054,\"ﾘｽﾄ１\"))","v":""},"","","","","","","",{"$f":"IF(S5054=\"\",\"\",COUNTIF($S$7:S5054,\"該当２\"))","v":""},"","",{"$f":"IF(V5054=\"\",\"\",COUNTIF($V$7:V5054,\"該当３\"))","v":""}]
[{"$nulls":10},"","",{"$f":"IF(K5055=\"\",\"\",COUNTIF($K$7:K5055,\"ﾘｽﾄ１\"))","v":""},"","","","","","","",{"$f":"IF(S5055=\"\",\"\",COUNTIF($S$7:S5055,\"該当２\"))","v":""},"","",{"$f":"IF(V5055=\"\",\"\",COUNTIF($V$7:V5055,\"該当３\"))","v":""}]
[{"$nulls":10},"","",{"$f":"IF(K5056=\"\",\"\",COUNTIF($K$7:K5056,\"ﾘｽﾄ１\"))","v":""},"","","","","","","",{"$f":"IF(S5056=\"\",\"\",COUNTIF($S$7:S5056,\"該当２\"))","v":""},"","",{"$f":"IF(V5056=\"\",\"\",COUNTIF($V$7:V5056,\"該当３\"))","v":""}]
[{"$nulls":10},"","",{"$f":"IF(K5057=\"\",\"\",COUNTIF($K$7:K5057,\"ﾘｽﾄ１\"))","v":""},"","","","","","","",{"$f":"IF(S5057=\"\",\"\",COUNTIF($S$7:S5057,\"該当２\"))","v":""},"","",{"$f":"IF(V5057=\"\",\"\",COUNTIF($V$7:V5057,\"該当３\"))","v":""}]
[{"$nulls":10},"","",{"$f":"IF(K5058=\"\",\"\",COUNTIF($K$7:K5058,\"ﾘｽﾄ１\"))","v":""},"","","","","","","",{"$f":"IF(S5058=\"\",\"\",COUNTIF($S$7:S5058,\"該当２\"))","v":""},"","",{"$f":"IF(V5058=\"\",\"\",COUNTIF($V$7:V5058,\"該当３\"))","v":""}]
[{"$nulls":10},"","",{"$f":"IF(K5059=\"\",\"\",COUNTIF($K$7:K5059,\"ﾘｽﾄ１\"))","v":""},"","","","","","","",{"$f":"IF(S5059=\"\",\"\",COUNTIF($S$7:S5059,\"該当２\"))","v":""},"","",{"$f":"IF(V5059=\"\",\"\",COUNTIF($V$7:V5059,\"該当３\"))","v":""}]
[{"$nulls":10},"","",{"$f":"IF(K5060=\"\",\"\",COUNTIF($K$7:K5060,\"ﾘｽﾄ１\"))","v":""},"","","","","","","",{"$f":"IF(S5060=\"\",\"\",COUNTIF($S$7:S5060,\"該当２\"))","v":""},"","",{"$f":"IF(V5060=\"\",\"\",COUNTIF($V$7:V5060,\"該当３\"))","v":""}]
[{"$nulls":10},"","",{"$f":"IF(K5061=\"\",\"\",COUNTIF($K$7:K5061,\"ﾘｽﾄ１\"))","v":""},"","","","","","","",{"$f":"IF(S5061=\"\",\"\",COUNTIF($S$7:S5061,\"該当２\"))","v":""},"","",{"$f":"IF(V5061=\"\",\"\",COUNTIF($V$7:V5061,\"該当３\"))","v":""}]
[{"$nulls":10},"","",{"$f":"IF(K5062=\"\",\"\",COUNTIF($K$7:K5062,\"ﾘｽﾄ１\"))","v":""},"","","","","","","",{"$f":"IF(S5062=\"\",\"\",COUNTIF($S$7:S5062,\"該当２\"))","v":""},"","",{"$f":"IF(V5062=\"\",\"\",COUNTIF($V$7:V5062,\"該当３\"))","v":""}]
[{"$nulls":10},"","",{"$f":"IF(K5063=\"\",\"\",COUNTIF($K$7:K5063,\"ﾘｽﾄ１\"))","v":""},"","","","","","","",{"$f":"IF(S5063=\"\",\"\",COUNTIF($S$7:S5063,\"該当２\"))","v":""},"","",{"$f":"IF(V5063=\"\",\"\",COUNTIF($V$7:V5063,\"該当３\"))","v":""}]
[{"$nulls":10},"","",{"$f":"IF(K5064=\"\",\"\",COUNTIF($K$7:K5064,\"ﾘｽﾄ１\"))","v":""},"","","","","","","",{"$f":"IF(S5064=\"\",\"\",COUNTIF($S$7:S5064,\"該当２\"))","v":""},"","",{"$f":"IF(V5064=\"\",\"\",COUNTIF($V$7:V5064,\"該当３\"))","v":""}]
[{"$nulls":10},"","",{"$f":"IF(K5065=\"\",\"\",COUNTIF($K$7:K5065,\"ﾘｽﾄ１\"))","v":""},"","","","","","","",{"$f":"IF(S5065=\"\",\"\",COUNTIF($S$7:S5065,\"該当２\"))","v":""},"","",{"$f":"IF(V5065=\"\",\"\",COUNTIF($V$7:V5065,\"該当３\"))","v":""}]
[{"$nulls":10},"","",{"$f":"IF(K5066=\"\",\"\",COUNTIF($K$7:K5066,\"ﾘｽﾄ１\"))","v":""},"","","","","","","",{"$f":"IF(S5066=\"\",\"\",COUNTIF($S$7:S5066,\"該当２\"))","v":""},"","",{"$f":"IF(V5066=\"\",\"\",COUNTIF($V$7:V5066,\"該当３\"))","v":""}]
[{"$nulls":10},{"$f":"IF(AND($C5067>0,$H5067=\"\"),\"ﾘｽﾄ１\",\"\")","v":""},"",{"$f":"IF(K5067=\"\",\"\",COUNTIF($K$7:K5067,\"ﾘｽﾄ１\"))","v":""},"","","","","","","",{"$f":"IF(S5067=\"\",\"\",COUNTIF($S$7:S5067,\"該当２\"))","v":""},"","",{"$f":"IF(V5067=\"\",\"\",COUNTIF($V$7:V5067,\"該当３\"))","v":""}]
[{"$nulls":10},"","",{"$f":"IF(K5068=\"\",\"\",COUNTIF($K$7:K5068,\"ﾘｽﾄ１\"))","v":""},"","","","","","","",{"$f":"IF(S5068=\"\",\"\",COUNTIF($S$7:S5068,\"該当２\"))","v":""},"","",{"$f":"IF(V5068=\"\",\"\",COUNTIF($V$7:V5068,\"該当３\"))","v":""}]
[{"$nulls":10},"","",{"$f":"IF(K5069=\"\",\"\",COUNTIF($K$7:K5069,\"ﾘｽﾄ１\"))","v":""},"","","","","","","",{"$f":"IF(S5069=\"\",\"\",COUNTIF($S$7:S5069,\"該当２\"))","v":""},"","",{"$f":"IF(V5069=\"\",\"\",COUNTIF($V$7:V5069,\"該当３\"))","v":""}]
[{"$nulls":10},"","",{"$f":"IF(K5070=\"\",\"\",COUNTIF($K$7:K5070,\"ﾘｽﾄ１\"))","v":""},"","","","","","","",{"$f":"IF(S5070=\"\",\"\",COUNTIF($S$7:S5070,\"該当２\"))","v":""},"","",{"$f":"IF(V5070=\"\",\"\",COUNTIF($V$7:V5070,\"該当３\"))","v":""}]
[{"$nulls":10},"","",{"$f":"IF(K5071=\"\",\"\",COUNTIF($K$7:K5071,\"ﾘｽﾄ１\"))","v":""},"","","","","","","",{"$f":"IF(S5071=\"\",\"\",COUNTIF($S$7:S5071,\"該当２\"))","v":""},"","",{"$f":"IF(V5071=\"\",\"\",COUNTIF($V$7:V5071,\"該当３\"))","v":""}]
[{"$nulls":10},"","",{"$f":"IF(K5072=\"\",\"\",COUNTIF($K$7:K5072,\"ﾘｽﾄ１\"))","v":""},"","","","","","","",{"$f":"IF(S5072=\"\",\"\",COUNTIF($S$7:S5072,\"該当２\"))","v":""},"","",{"$f":"IF(V5072=\"\",\"\",COUNTIF($V$7:V5072,\"該当３\"))","v":""}]
[{"$nulls":10},"","",{"$f":"IF(K5073=\"\",\"\",COUNTIF($K$7:K5073,\"ﾘｽﾄ１\"))","v":""},"","","","","","","",{"$f":"IF(S5073=\"\",\"\",COUNTIF($S$7:S5073,\"該当２\"))","v":""},"","",{"$f":"IF(V5073=\"\",\"\",COUNTIF($V$7:V5073,\"該当３\"))","v":""}]
[{"$nulls":10},"","",{"$f":"IF(K5074=\"\",\"\",COUNTIF($K$7:K5074,\"ﾘｽﾄ１\"))","v":""},"","","","","","","",{"$f":"IF(S5074=\"\",\"\",COUNTIF($S$7:S5074,\"該当２\"))","v":""},"","",{"$f":"IF(V5074=\"\",\"\",COUNTIF($V$7:V5074,\"該当３\"))","v":""}]
[{"$nulls":10},"","",{"$f":"IF(K5075=\"\",\"\",COUNTIF($K$7:K5075,\"ﾘｽﾄ１\"))","v":""},"","","","","","","",{"$f":"IF(S5075=\"\",\"\",COUNTIF($S$7:S5075,\"該当２\"))","v":""},"","",{"$f":"IF(V5075=\"\",\"\",COUNTIF($V$7:V5075,\"該当３\"))","v":""}]
[{"$nulls":10},"","",{"$f":"IF(K5076=\"\",\"\",COUNTIF($K$7:K5076,\"ﾘｽﾄ１\"))","v":""},"","","","","","","",{"$f":"IF(S5076=\"\",\"\",COUNTIF($S$7:S5076,\"該当２\"))","v":""},"","",{"$f":"IF(V5076=\"\",\"\",COUNTIF($V$7:V5076,\"該当３\"))","v":""}]
[{"$nulls":10},"","",{"$f":"IF(K5077=\"\",\"\",COUNTIF($K$7:K5077,\"ﾘｽﾄ１\"))","v":""},"","","","","","","",{"$f":"IF(S5077=\"\",\"\",COUNTIF($S$7:S5077,\"該当２\"))","v":""},"","",{"$f":"IF(V5077=\"\",\"\",COUNTIF($V$7:V5077,\"該当３\"))","v":""}]
[{"$nulls":10},"","",{"$f":"IF(K5078=\"\",\"\",COUNTIF($K$7:K5078,\"ﾘｽﾄ１\"))","v":""},"","","","","","","",{"$f":"IF(S5078=\"\",\"\",COUNTIF($S$7:S5078,\"該当２\"))","v":""},"","",{"$f":"IF(V5078=\"\",\"\",COUNTIF($V$7:V5078,\"該当３\"))","v":""}]
[{"$nulls":10},"","",{"$f":"IF(K5079=\"\",\"\",COUNTIF($K$7:K5079,\"ﾘｽﾄ１\"))","v":""},"","","","","","","",{"$f":"IF(S5079=\"\",\"\",COUNTIF($S$7:S5079,\"該当２\"))","v":""},"","",{"$f":"IF(V5079=\"\",\"\",COUNTIF($V$7:V5079,\"該当３\"))","v":""}]
[{"$nulls":10},"","",{"$f":"IF(K5080=\"\",\"\",COUNTIF($K$7:K5080,\"ﾘｽﾄ１\"))","v":""},"","","","","","","",{"$f":"IF(S5080=\"\",\"\",COUNTIF($S$7:S5080,\"該当２\"))","v":""},"","",{"$f":"IF(V5080=\"\",\"\",COUNTIF($V$7:V5080,\"該当３\"))","v":""}]
[{"$nulls":10},"","",{"$f":"IF(K5081=\"\",\"\",COUNTIF($K$7:K5081,\"ﾘｽﾄ１\"))","v":""},"","","","","","","",{"$f":"IF(S5081=\"\",\"\",COUNTIF($S$7:S5081,\"該当２\"))","v":""},"","",{"$f":"IF(V5081=\"\",\"\",COUNTIF($V$7:V5081,\"該当３\"))","v":""}]
[{"$nulls":10},"","",{"$f":"IF(K5082=\"\",\"\",COUNTIF($K$7:K5082,\"ﾘｽﾄ１\"))","v":""},"","","","","","","",{"$f":"IF(S5082=\"\",\"\",COUNTIF($S$7:S5082,\"該当２\"))","v":""},"","",{"$f":"IF(V5082=\"\",\"\",COUNTIF($V$7:V5082,\"該当３\"))","v":""}]
[{"$nulls":10},"","",{"$f":"IF(K5083=\"\",\"\",COUNTIF($K$7:K5083,\"ﾘｽﾄ１\"))","v":""},"","","","","","","",{"$f":"IF(S5083=\"\",\"\",COUNTIF($S$7:S5083,\"該当２\"))","v":""},"","",{"$f":"IF(V5083=\"\",\"\",COUNTIF($V$7:V5083,\"該当３\"))","v":""}]
[{"$nulls":10},"","",{"$f":"IF(K5084=\"\",\"\",COUNTIF($K$7:K5084,\"ﾘｽﾄ１\"))","v":""},"","","","","","","",{"$f":"IF(S5084=\"\",\"\",COUNTIF($S$7:S5084,\"該当２\"))","v":""},"","",{"$f":"IF(V5084=\"\",\"\",COUNTIF($V$7:V5084,\"該当３\"))","v":""}]
[{"$nulls":10},"","",{"$f":"IF(K5085=\"\",\"\",COUNTIF($K$7:K5085,\"ﾘｽﾄ１\"))","v":""},"","","","","","","",{"$f":"IF(S5085=\"\",\"\",COUNTIF($S$7:S5085,\"該当２\"))","v":""},"","",{"$f":"IF(V5085=\"\",\"\",COUNTIF($V$7:V5085,\"該当３\"))","v":""}]
[{"$nulls":10},"","",{"$f":"IF(K5086=\"\",\"\",COUNTIF($K$7:K5086,\"ﾘｽﾄ１\"))","v":""},"","","","","","","",{"$f":"IF(S5086=\"\",\"\",COUNTIF($S$7:S5086,\"該当２\"))","v":""},"","",{"$f":"IF(V5086=\"\",\"\",COUNTIF($V$7:V5086,\"該当３\"))","v":""}]
[{"$nulls":10},"","",{"$f":"IF(K5087=\"\",\"\",COUNTIF($K$7:K5087,\"ﾘｽﾄ１\"))","v":""},"","","","","","","",{"$f":"IF(S5087=\"\",\"\",COUNTIF($S$7:S5087,\"該当２\"))","v":""},"","",{"$f":"IF(V5087=\"\",\"\",COUNTIF($V$7:V5087,\"該当３\"))","v":""}]
[{"$nulls":10},"","",{"$f":"IF(K5088=\"\",\"\",COUNTIF($K$7:K5088,\"ﾘｽﾄ１\"))","v":""},"","","","","","","",{"$f":"IF(S5088=\"\",\"\",COUNTIF($S$7:S5088,\"該当２\"))","v":""},"","",{"$f":"IF(V5088=\"\",\"\",COUNTIF($V$7:V5088,\"該当３\"))","v":""}]
[{"$nulls":10},"","",{"$f":"IF(K5089=\"\",\"\",COUNTIF($K$7:K5089,\"ﾘｽﾄ１\"))","v":""},"","","","","","","",{"$f":"IF(S5089=\"\",\"\",COUNTIF($S$7:S5089,\"該当２\"))","v":""},"","",{"$f":"IF(V5089=\"\",\"\",COUNTIF($V$7:V5089,\"該当３\"))","v":""}]
[{"$nulls":10},"","",{"$f":"IF(K5090=\"\",\"\",COUNTIF($K$7:K5090,\"ﾘｽﾄ１\"))","v":""},"","","","","","","",{"$f":"IF(S5090=\"\",\"\",COUNTIF($S$7:S5090,\"該当２\"))","v":""},"","",{"$f":"IF(V5090=\"\",\"\",COUNTIF($V$7:V5090,\"該当３\"))","v":""}]
[{"$nulls":10},"","",{"$f":"IF(K5091=\"\",\"\",COUNTIF($K$7:K5091,\"ﾘｽﾄ１\"))","v":""},"","","","","","","",{"$f":"IF(S5091=\"\",\"\",COUNTIF($S$7:S5091,\"該当２\"))","v":""},"","",{"$f":"IF(V5091=\"\",\"\",COUNTIF($V$7:V5091,\"該当３\"))","v":""}]
[{"$nulls":10},"","",{"$f":"IF(K5092=\"\",\"\",COUNTIF($K$7:K5092,\"ﾘｽﾄ１\"))","v":""},"","","","","","","",{"$f":"IF(S5092=\"\",\"\",COUNTIF($S$7:S5092,\"該当２\"))","v":""},"","",{"$f":"IF(V5092=\"\",\"\",COUNTIF($V$7:V5092,\"該当３\"))","v":""}]
[{"$nulls":10},"","",{"$f":"IF(K5093=\"\",\"\",COUNTIF($K$7:K5093,\"ﾘｽﾄ１\"))","v":""},"","","","","","","",{"$f":"IF(S5093=\"\",\"\",COUNTIF($S$7:S5093,\"該当２\"))","v":""},"","",{"$f":"IF(V5093=\"\",\"\",COUNTIF($V$7:V5093,\"該当３\"))","v":""}]
[{"$nulls":10},"","",{"$f":"IF(K5094=\"\",\"\",COUNTIF($K$7:K5094,\"ﾘｽﾄ１\"))","v":""},"","","","","","","",{"$f":"IF(S5094=\"\",\"\",COUNTIF($S$7:S5094,\"該当２\"))","v":""},"","",{"$f":"IF(V5094=\"\",\"\",COUNTIF($V$7:V5094,\"該当３\"))","v":""}]
[{"$nulls":10},"","",{"$f":"IF(K5095=\"\",\"\",COUNTIF($K$7:K5095,\"ﾘｽﾄ１\"))","v":""},"","","","","","","",{"$f":"IF(S5095=\"\",\"\",COUNTIF($S$7:S5095,\"該当２\"))","v":""},"","",{"$f":"IF(V5095=\"\",\"\",COUNTIF($V$7:V5095,\"該当３\"))","v":""}]
[{"$nulls":10},"","",{"$f":"IF(K5096=\"\",\"\",COUNTIF($K$7:K5096,\"ﾘｽﾄ１\"))","v":""},"","","","","","","",{"$f":"IF(S5096=\"\",\"\",COUNTIF($S$7:S5096,\"該当２\"))","v":""},"","",{"$f":"IF(V5096=\"\",\"\",COUNTIF($V$7:V5096,\"該当３\"))","v":""}]
[{"$nulls":10},"","",{"$f":"IF(K5097=\"\",\"\",COUNTIF($K$7:K5097,\"ﾘｽﾄ１\"))","v":""},"","","","","","","",{"$f":"IF(S5097=\"\",\"\",COUNTIF($S$7:S5097,\"該当２\"))","v":""},"","",{"$f":"IF(V5097=\"\",\"\",COUNTIF($V$7:V5097,\"該当３\"))","v":""}]
[{"$nulls":10},"","",{"$f":"IF(K5098=\"\",\"\",COUNTIF($K$7:K5098,\"ﾘｽﾄ１\"))","v":""},"","","","","","","",{"$f":"IF(S5098=\"\",\"\",COUNTIF($S$7:S5098,\"該当２\"))","v":""},"","",{"$f":"IF(V5098=\"\",\"\",COUNTIF($V$7:V5098,\"該当３\"))","v":""}]
[{"$nulls":10},"","",{"$f":"IF(K5099=\"\",\"\",COUNTIF($K$7:K5099,\"ﾘｽﾄ１\"))","v":""},"","","","","","","",{"$f":"IF(S5099=\"\",\"\",COUNTIF($S$7:S5099,\"該当２\"))","v":""},"","",{"$f":"IF(V5099=\"\",\"\",COUNTIF($V$7:V5099,\"該当３\"))","v":""}]
[{"$nulls":10},"","",{"$f":"IF(K5100=\"\",\"\",COUNTIF($K$7:K5100,\"ﾘｽﾄ１\"))","v":""},"","","","","","","",{"$f":"IF(S5100=\"\",\"\",COUNTIF($S$7:S5100,\"該当２\"))","v":""},"","",{"$f":"IF(V5100=\"\",\"\",COUNTIF($V$7:V5100,\"該当３\"))","v":""}]
[{"$nulls":10},"","",{"$f":"IF(K5101=\"\",\"\",COUNTIF($K$7:K5101,\"ﾘｽﾄ１\"))","v":""},"","","","","","","",{"$f":"IF(S5101=\"\",\"\",COUNTIF($S$7:S5101,\"該当２\"))","v":""},"","",{"$f":"IF(V5101=\"\",\"\",COUNTIF($V$7:V5101,\"該当３\"))","v":""}]
[{"$nulls":10},"","",{"$f":"IF(K5102=\"\",\"\",COUNTIF($K$7:K5102,\"ﾘｽﾄ１\"))","v":""},"","","","","","","",{"$f":"IF(S5102=\"\",\"\",COUNTIF($S$7:S5102,\"該当２\"))","v":""},"","",{"$f":"IF(V5102=\"\",\"\",COUNTIF($V$7:V5102,\"該当３\"))","v":""}]
[{"$nulls":10},"","",{"$f":"IF(K5103=\"\",\"\",COUNTIF($K$7:K5103,\"ﾘｽﾄ１\"))","v":""},"","","","","","","",{"$f":"IF(S5103=\"\",\"\",COUNTIF($S$7:S5103,\"該当２\"))","v":""},"","",{"$f":"IF(V5103=\"\",\"\",COUNTIF($V$7:V5103,\"該当３\"))","v":""}]
[{"$nulls":10},"","",{"$f":"IF(K5104=\"\",\"\",COUNTIF($K$7:K5104,\"ﾘｽﾄ１\"))","v":""},"","","","","","","",{"$f":"IF(S5104=\"\",\"\",COUNTIF($S$7:S5104,\"該当２\"))","v":""},"","",{"$f":"IF(V5104=\"\",\"\",COUNTIF($V$7:V5104,\"該当３\"))","v":""}]
[{"$nulls":10},"","",{"$f":"IF(K5105=\"\",\"\",COUNTIF($K$7:K5105,\"ﾘｽﾄ１\"))","v":""},"","","","","","","",{"$f":"IF(S5105=\"\",\"\",COUNTIF($S$7:S5105,\"該当２\"))","v":""},"","",{"$f":"IF(V5105=\"\",\"\",COUNTIF($V$7:V5105,\"該当３\"))","v":""}]
[{"$nulls":10},"","",{"$f":"IF(K5106=\"\",\"\",COUNTIF($K$7:K5106,\"ﾘｽﾄ１\"))","v":""},"","","","","","","",{"$f":"IF(S5106=\"\",\"\",COUNTIF($S$7:S5106,\"該当２\"))","v":""},"","",{"$f":"IF(V5106=\"\",\"\",COUNTIF($V$7:V5106,\"該当３\"))","v":""}]
[{"$nulls":10},"","",{"$f":"IF(K5107=\"\",\"\",COUNTIF($K$7:K5107,\"ﾘｽﾄ１\"))","v":""},"","","","","","","",{"$f":"IF(S5107=\"\",\"\",COUNTIF($S$7:S5107,\"該当２\"))","v":""},"","",{"$f":"IF(V5107=\"\",\"\",COUNTIF($V$7:V5107,\"該当３\"))","v":""}]
[{"$nulls":10},"","",{"$f":"IF(K5108=\"\",\"\",COUNTIF($K$7:K5108,\"ﾘｽﾄ１\"))","v":""},"","","","","","","",{"$f":"IF(S5108=\"\",\"\",COUNTIF($S$7:S5108,\"該当２\"))","v":""},"","",{"$f":"IF(V5108=\"\",\"\",COUNTIF($V$7:V5108,\"該当３\"))","v":""}]
[{"$nulls":10},"","",{"$f":"IF(K5109=\"\",\"\",COUNTIF($K$7:K5109,\"ﾘｽﾄ１\"))","v":""},"","","","","","","",{"$f":"IF(S5109=\"\",\"\",COUNTIF($S$7:S5109,\"該当２\"))","v":""},"","",{"$f":"IF(V5109=\"\",\"\",COUNTIF($V$7:V5109,\"該当３\"))","v":""}]
[{"$nulls":10},"","",{"$f":"IF(K5110=\"\",\"\",COUNTIF($K$7:K5110,\"ﾘｽﾄ１\"))","v":""},"","","","","","","",{"$f":"IF(S5110=\"\",\"\",COUNTIF($S$7:S5110,\"該当２\"))","v":""},"","",{"$f":"IF(V5110=\"\",\"\",COUNTIF($V$7:V5110,\"該当３\"))","v":""}]
[{"$nulls":10},"",{"$f":"IF(K5111=\"ﾘｽﾄ１\",G5111,\"\")","v":""},{"$f":"IF(K5111=\"\",\"\",COUNTIF($K$7:K5111,\"ﾘｽﾄ１\"))","v":""},{"$f":"IF(AND(D5111=0,E5111>0),\"同一区\",\"\")","v":""},{"$f":"IF(AND(EXACT($K$2,G5111),H5111>0),\"該当１\",\"\")","v":""},{"$f":"IF(O5111=\"該当１\",G5111,\"\")","v":""},{"$f":"IF(O5111=\"該当１\",\"ﾘｽﾄ2\",\"\")","v":""},{"$f":"IF(Q5111=\"ﾘｽﾄ2\",H5111,\"\")","v":""},{"$f":"IF(AND(Q5111=\"ﾘｽﾄ2\",OR(I5111=0,AND(N5111=\"同一区\",E5111=1))),\"該当２\",\"\")","v":""},{"$f":"IF(S5111=\"該当２\",H5111,\"\")","v":""},{"$f":"IF(S5111=\"\",\"\",COUNTIF($S$7:S5111,\"該当２\"))","v":""},{"$f":"IF(AND($S$2=H5111,E5111>0,E5111<998),\"該当３\",\"\")","v":""},{"$f":"IF(V5111=\"該当３\",I5111,\"\")","v":""},{"$f":"IF(V5111=\"\",\"\",COUNTIF($V$7:V5111,\"該当３\"))","v":""}]
[{"$nulls":10},"","",{"$f":"IF(K5112=\"\",\"\",COUNTIF($K$7:K5112,\"ﾘｽﾄ１\"))","v":""},"","","","","","","",{"$f":"IF(S5112=\"\",\"\",COUNTIF($S$7:S5112,\"該当２\"))","v":""},"","",{"$f":"IF(V5112=\"\",\"\",COUNTIF($V$7:V5112,\"該当３\"))","v":""}]
[{"$nulls":10},"","",{"$f":"IF(K5113=\"\",\"\",COUNTIF($K$7:K5113,\"ﾘｽﾄ１\"))","v":""},"","","","","","","",{"$f":"IF(S5113=\"\",\"\",COUNTIF($S$7:S5113,\"該当２\"))","v":""},"","",{"$f":"IF(V5113=\"\",\"\",COUNTIF($V$7:V5113,\"該当３\"))","v":""}]
[{"$nulls":10},"","",{"$f":"IF(K5114=\"\",\"\",COUNTIF($K$7:K5114,\"ﾘｽﾄ１\"))","v":""},"","","","","","","",{"$f":"IF(S5114=\"\",\"\",COUNTIF($S$7:S5114,\"該当２\"))","v":""},"","",{"$f":"IF(V5114=\"\",\"\",COUNTIF($V$7:V5114,\"該当３\"))","v":""}]
[{"$nulls":10},"","",{"$f":"IF(K5115=\"\",\"\",COUNTIF($K$7:K5115,\"ﾘｽﾄ１\"))","v":""},"","","","","","","",{"$f":"IF(S5115=\"\",\"\",COUNTIF($S$7:S5115,\"該当２\"))","v":""},"","",{"$f":"IF(V5115=\"\",\"\",COUNTIF($V$7:V5115,\"該当３\"))","v":""}]
[{"$nulls":10},"","",{"$f":"IF(K5116=\"\",\"\",COUNTIF($K$7:K5116,\"ﾘｽﾄ１\"))","v":""},"","","","","","","",{"$f":"IF(S5116=\"\",\"\",COUNTIF($S$7:S5116,\"該当２\"))","v":""},"","",{"$f":"IF(V5116=\"\",\"\",COUNTIF($V$7:V5116,\"該当３\"))","v":""}]
[{"$nulls":10},"","",{"$f":"IF(K5117=\"\",\"\",COUNTIF($K$7:K5117,\"ﾘｽﾄ１\"))","v":""},"","","","","","","",{"$f":"IF(S5117=\"\",\"\",COUNTIF($S$7:S5117,\"該当２\"))","v":""},"","",{"$f":"IF(V5117=\"\",\"\",COUNTIF($V$7:V5117,\"該当３\"))","v":""}]
[{"$nulls":10},"","",{"$f":"IF(K5118=\"\",\"\",COUNTIF($K$7:K5118,\"ﾘｽﾄ１\"))","v":""},"","","","","","","",{"$f":"IF(S5118=\"\",\"\",COUNTIF($S$7:S5118,\"該当２\"))","v":""},"","",{"$f":"IF(V5118=\"\",\"\",COUNTIF($V$7:V5118,\"該当３\"))","v":""}]
[{"$nulls":10},"","",{"$f":"IF(K5119=\"\",\"\",COUNTIF($K$7:K5119,\"ﾘｽﾄ１\"))","v":""},"","","","","","","",{"$f":"IF(S5119=\"\",\"\",COUNTIF($S$7:S5119,\"該当２\"))","v":""},"","",{"$f":"IF(V5119=\"\",\"\",COUNTIF($V$7:V5119,\"該当３\"))","v":""}]
[{"$nulls":10},"","",{"$f":"IF(K5120=\"\",\"\",COUNTIF($K$7:K5120,\"ﾘｽﾄ１\"))","v":""},"","","","","","","",{"$f":"IF(S5120=\"\",\"\",COUNTIF($S$7:S5120,\"該当２\"))","v":""},"","",{"$f":"IF(V5120=\"\",\"\",COUNTIF($V$7:V5120,\"該当３\"))","v":""}]
[{"$nulls":10},"","",{"$f":"IF(K5121=\"\",\"\",COUNTIF($K$7:K5121,\"ﾘｽﾄ１\"))","v":""},"","","","","","","",{"$f":"IF(S5121=\"\",\"\",COUNTIF($S$7:S5121,\"該当２\"))","v":""},"","",{"$f":"IF(V5121=\"\",\"\",COUNTIF($V$7:V5121,\"該当３\"))","v":""}]
[{"$nulls":10},"","",{"$f":"IF(K5122=\"\",\"\",COUNTIF($K$7:K5122,\"ﾘｽﾄ１\"))","v":""},"","","","","","","",{"$f":"IF(S5122=\"\",\"\",COUNTIF($S$7:S5122,\"該当２\"))","v":""},"","",{"$f":"IF(V5122=\"\",\"\",COUNTIF($V$7:V5122,\"該当３\"))","v":""}]
[{"$nulls":10},"","",{"$f":"IF(K5123=\"\",\"\",COUNTIF($K$7:K5123,\"ﾘｽﾄ１\"))","v":""},"","","","","","","",{"$f":"IF(S5123=\"\",\"\",COUNTIF($S$7:S5123,\"該当２\"))","v":""},"","",{"$f":"IF(V5123=\"\",\"\",COUNTIF($V$7:V5123,\"該当３\"))","v":""}]
[{"$nulls":10},"","",{"$f":"IF(K5124=\"\",\"\",COUNTIF($K$7:K5124,\"ﾘｽﾄ１\"))","v":""},"","","","","","","",{"$f":"IF(S5124=\"\",\"\",COUNTIF($S$7:S5124,\"該当２\"))","v":""},"","",{"$f":"IF(V5124=\"\",\"\",COUNTIF($V$7:V5124,\"該当３\"))","v":""}]
[{"$nulls":10},"","",{"$f":"IF(K5125=\"\",\"\",COUNTIF($K$7:K5125,\"ﾘｽﾄ１\"))","v":""},"","","","","","","",{"$f":"IF(S5125=\"\",\"\",COUNTIF($S$7:S5125,\"該当２\"))","v":""},"","",{"$f":"IF(V5125=\"\",\"\",COUNTIF($V$7:V5125,\"該当３\"))","v":""}]
[{"$nulls":10},"","",{"$f":"IF(K5126=\"\",\"\",COUNTIF($K$7:K5126,\"ﾘｽﾄ１\"))","v":""},"","","","","","","",{"$f":"IF(S5126=\"\",\"\",COUNTIF($S$7:S5126,\"該当２\"))","v":""},"","",{"$f":"IF(V5126=\"\",\"\",COUNTIF($V$7:V5126,\"該当３\"))","v":""}]
[{"$nulls":10},"","",{"$f":"IF(K5127=\"\",\"\",COUNTIF($K$7:K5127,\"ﾘｽﾄ１\"))","v":""},"","","","","","","",{"$f":"IF(S5127=\"\",\"\",COUNTIF($S$7:S5127,\"該当２\"))","v":""},"","",{"$f":"IF(V5127=\"\",\"\",COUNTIF($V$7:V5127,\"該当３\"))","v":""}]
[{"$nulls":10},"","",{"$f":"IF(K5128=\"\",\"\",COUNTIF($K$7:K5128,\"ﾘｽﾄ１\"))","v":""},"","","","","","","",{"$f":"IF(S5128=\"\",\"\",COUNTIF($S$7:S5128,\"該当２\"))","v":""},"","",{"$f":"IF(V5128=\"\",\"\",COUNTIF($V$7:V5128,\"該当３\"))","v":""}]
[{"$nulls":10},"","",{"$f":"IF(K5129=\"\",\"\",COUNTIF($K$7:K5129,\"ﾘｽﾄ１\"))","v":""},"","","","","","","",{"$f":"IF(S5129=\"\",\"\",COUNTIF($S$7:S5129,\"該当２\"))","v":""},"","",{"$f":"IF(V5129=\"\",\"\",COUNTIF($V$7:V5129,\"該当３\"))","v":""}]
[{"$nulls":10},"","",{"$f":"IF(K5130=\"\",\"\",COUNTIF($K$7:K5130,\"ﾘｽﾄ１\"))","v":""},"","","","","","","",{"$f":"IF(S5130=\"\",\"\",COUNTIF($S$7:S5130,\"該当２\"))","v":""},"","",{"$f":"IF(V5130=\"\",\"\",COUNTIF($V$7:V5130,\"該当３\"))","v":""}]
[{"$nulls":10},{"$f":"IF(AND($C5131>0,$H5131=\"\"),\"ﾘｽﾄ１\",\"\")","v":""},"",{"$f":"IF(K5131=\"\",\"\",COUNTIF($K$7:K5131,\"ﾘｽﾄ１\"))","v":""},"","","","","","","",{"$f":"IF(S5131=\"\",\"\",COUNTIF($S$7:S5131,\"該当２\"))","v":""},"","",{"$f":"IF(V5131=\"\",\"\",COUNTIF($V$7:V5131,\"該当３\"))","v":""}]
[{"$nulls":10},"","",{"$f":"IF(K5132=\"\",\"\",COUNTIF($K$7:K5132,\"ﾘｽﾄ１\"))","v":""},"","","","","","","",{"$f":"IF(S5132=\"\",\"\",COUNTIF($S$7:S5132,\"該当２\"))","v":""},"","",{"$f":"IF(V5132=\"\",\"\",COUNTIF($V$7:V5132,\"該当３\"))","v":""}]
[{"$nulls":10},"","",{"$f":"IF(K5133=\"\",\"\",COUNTIF($K$7:K5133,\"ﾘｽﾄ１\"))","v":""},"","","","","","","",{"$f":"IF(S5133=\"\",\"\",COUNTIF($S$7:S5133,\"該当２\"))","v":""},"","",{"$f":"IF(V5133=\"\",\"\",COUNTIF($V$7:V5133,\"該当３\"))","v":""}]
[{"$nulls":10},"","",{"$f":"IF(K5134=\"\",\"\",COUNTIF($K$7:K5134,\"ﾘｽﾄ１\"))","v":""},"","","","","","","",{"$f":"IF(S5134=\"\",\"\",COUNTIF($S$7:S5134,\"該当２\"))","v":""},"","",{"$f":"IF(V5134=\"\",\"\",COUNTIF($V$7:V5134,\"該当３\"))","v":""}]
[{"$nulls":10},"","",{"$f":"IF(K5135=\"\",\"\",COUNTIF($K$7:K5135,\"ﾘｽﾄ１\"))","v":""},"","","","","","","",{"$f":"IF(S5135=\"\",\"\",COUNTIF($S$7:S5135,\"該当２\"))","v":""},"","",{"$f":"IF(V5135=\"\",\"\",COUNTIF($V$7:V5135,\"該当３\"))","v":""}]
[{"$nulls":10},"","",{"$f":"IF(K5136=\"\",\"\",COUNTIF($K$7:K5136,\"ﾘｽﾄ１\"))","v":""},"","","","","","","",{"$f":"IF(S5136=\"\",\"\",COUNTIF($S$7:S5136,\"該当２\"))","v":""},"","",{"$f":"IF(V5136=\"\",\"\",COUNTIF($V$7:V5136,\"該当３\"))","v":""}]
[{"$nulls":10},"","",{"$f":"IF(K5137=\"\",\"\",COUNTIF($K$7:K5137,\"ﾘｽﾄ１\"))","v":""},"","","","","","","",{"$f":"IF(S5137=\"\",\"\",COUNTIF($S$7:S5137,\"該当２\"))","v":""},"","",{"$f":"IF(V5137=\"\",\"\",COUNTIF($V$7:V5137,\"該当３\"))","v":""}]
[{"$nulls":10},"","",{"$f":"IF(K5138=\"\",\"\",COUNTIF($K$7:K5138,\"ﾘｽﾄ１\"))","v":""},"","","","","","","",{"$f":"IF(S5138=\"\",\"\",COUNTIF($S$7:S5138,\"該当２\"))","v":""},"","",{"$f":"IF(V5138=\"\",\"\",COUNTIF($V$7:V5138,\"該当３\"))","v":""}]
[{"$nulls":10},"","",{"$f":"IF(K5139=\"\",\"\",COUNTIF($K$7:K5139,\"ﾘｽﾄ１\"))","v":""},"","","","","","","",{"$f":"IF(S5139=\"\",\"\",COUNTIF($S$7:S5139,\"該当２\"))","v":""},"","",{"$f":"IF(V5139=\"\",\"\",COUNTIF($V$7:V5139,\"該当３\"))","v":""}]
[{"$nulls":10},"","",{"$f":"IF(K5140=\"\",\"\",COUNTIF($K$7:K5140,\"ﾘｽﾄ１\"))","v":""},"","","","","","","",{"$f":"IF(S5140=\"\",\"\",COUNTIF($S$7:S5140,\"該当２\"))","v":""},"","",{"$f":"IF(V5140=\"\",\"\",COUNTIF($V$7:V5140,\"該当３\"))","v":""}]
[{"$nulls":10},"","",{"$f":"IF(K5141=\"\",\"\",COUNTIF($K$7:K5141,\"ﾘｽﾄ１\"))","v":""},"","","","","","","",{"$f":"IF(S5141=\"\",\"\",COUNTIF($S$7:S5141,\"該当２\"))","v":""},"","",{"$f":"IF(V5141=\"\",\"\",COUNTIF($V$7:V5141,\"該当３\"))","v":""}]
[{"$nulls":10},"","",{"$f":"IF(K5142=\"\",\"\",COUNTIF($K$7:K5142,\"ﾘｽﾄ１\"))","v":""},"","","","","","","",{"$f":"IF(S5142=\"\",\"\",COUNTIF($S$7:S5142,\"該当２\"))","v":""},"","",{"$f":"IF(V5142=\"\",\"\",COUNTIF($V$7:V5142,\"該当３\"))","v":""}]
[{"$nulls":10},"","",{"$f":"IF(K5143=\"\",\"\",COUNTIF($K$7:K5143,\"ﾘｽﾄ１\"))","v":""},"","","","","","","",{"$f":"IF(S5143=\"\",\"\",COUNTIF($S$7:S5143,\"該当２\"))","v":""},"","",{"$f":"IF(V5143=\"\",\"\",COUNTIF($V$7:V5143,\"該当３\"))","v":""}]
[{"$nulls":10},"","",{"$f":"IF(K5144=\"\",\"\",COUNTIF($K$7:K5144,\"ﾘｽﾄ１\"))","v":""},"","","","","","","",{"$f":"IF(S5144=\"\",\"\",COUNTIF($S$7:S5144,\"該当２\"))","v":""},"","",{"$f":"IF(V5144=\"\",\"\",COUNTIF($V$7:V5144,\"該当３\"))","v":""}]
[{"$nulls":10},"","",{"$f":"IF(K5145=\"\",\"\",COUNTIF($K$7:K5145,\"ﾘｽﾄ１\"))","v":""},"","","","","","","",{"$f":"IF(S5145=\"\",\"\",COUNTIF($S$7:S5145,\"該当２\"))","v":""},"","",{"$f":"IF(V5145=\"\",\"\",COUNTIF($V$7:V5145,\"該当３\"))","v":""}]
[{"$nulls":10},"","",{"$f":"IF(K5146=\"\",\"\",COUNTIF($K$7:K5146,\"ﾘｽﾄ１\"))","v":""},"","","","","","","",{"$f":"IF(S5146=\"\",\"\",COUNTIF($S$7:S5146,\"該当２\"))","v":""},"","",{"$f":"IF(V5146=\"\",\"\",COUNTIF($V$7:V5146,\"該当３\"))","v":""}]
[{"$nulls":10},"","",{"$f":"IF(K5147=\"\",\"\",COUNTIF($K$7:K5147,\"ﾘｽﾄ１\"))","v":""},"","","","","","","",{"$f":"IF(S5147=\"\",\"\",COUNTIF($S$7:S5147,\"該当２\"))","v":""},"","",{"$f":"IF(V5147=\"\",\"\",COUNTIF($V$7:V5147,\"該当３\"))","v":""}]
[{"$nulls":10},"","",{"$f":"IF(K5148=\"\",\"\",COUNTIF($K$7:K5148,\"ﾘｽﾄ１\"))","v":""},"","","","","","","",{"$f":"IF(S5148=\"\",\"\",COUNTIF($S$7:S5148,\"該当２\"))","v":""},"","",{"$f":"IF(V5148=\"\",\"\",COUNTIF($V$7:V5148,\"該当３\"))","v":""}]
[{"$nulls":10},"","",{"$f":"IF(K5149=\"\",\"\",COUNTIF($K$7:K5149,\"ﾘｽﾄ１\"))","v":""},"","","","","","","",{"$f":"IF(S5149=\"\",\"\",COUNTIF($S$7:S5149,\"該当２\"))","v":""},"","",{"$f":"IF(V5149=\"\",\"\",COUNTIF($V$7:V5149,\"該当３\"))","v":""}]
[{"$nulls":10},"","",{"$f":"IF(K5150=\"\",\"\",COUNTIF($K$7:K5150,\"ﾘｽﾄ１\"))","v":""},"","","","","","","",{"$f":"IF(S5150=\"\",\"\",COUNTIF($S$7:S5150,\"該当２\"))","v":""},"","",{"$f":"IF(V5150=\"\",\"\",COUNTIF($V$7:V5150,\"該当３\"))","v":""}]
[{"$nulls":10},"","",{"$f":"IF(K5151=\"\",\"\",COUNTIF($K$7:K5151,\"ﾘｽﾄ１\"))","v":""},"","","","","","","",{"$f":"IF(S5151=\"\",\"\",COUNTIF($S$7:S5151,\"該当２\"))","v":""},"","",{"$f":"IF(V5151=\"\",\"\",COUNTIF($V$7:V5151,\"該当３\"))","v":""}]
[{"$nulls":10},"","",{"$f":"IF(K5152=\"\",\"\",COUNTIF($K$7:K5152,\"ﾘｽﾄ１\"))","v":""},"","","","","","","",{"$f":"IF(S5152=\"\",\"\",COUNTIF($S$7:S5152,\"該当２\"))","v":""},"","",{"$f":"IF(V5152=\"\",\"\",COUNTIF($V$7:V5152,\"該当３\"))","v":""}]
[{"$nulls":10},"","",{"$f":"IF(K5153=\"\",\"\",COUNTIF($K$7:K5153,\"ﾘｽﾄ１\"))","v":""},"","","","","","","",{"$f":"IF(S5153=\"\",\"\",COUNTIF($S$7:S5153,\"該当２\"))","v":""},"","",{"$f":"IF(V5153=\"\",\"\",COUNTIF($V$7:V5153,\"該当３\"))","v":""}]
[{"$nulls":10},"","",{"$f":"IF(K5154=\"\",\"\",COUNTIF($K$7:K5154,\"ﾘｽﾄ１\"))","v":""},"","","","","","","",{"$f":"IF(S5154=\"\",\"\",COUNTIF($S$7:S5154,\"該当２\"))","v":""},"","",{"$f":"IF(V5154=\"\",\"\",COUNTIF($V$7:V5154,\"該当３\"))","v":""}]
[{"$nulls":10},"","",{"$f":"IF(K5155=\"\",\"\",COUNTIF($K$7:K5155,\"ﾘｽﾄ１\"))","v":""},"","","","","","","",{"$f":"IF(S5155=\"\",\"\",COUNTIF($S$7:S5155,\"該当２\"))","v":""},"","",{"$f":"IF(V5155=\"\",\"\",COUNTIF($V$7:V5155,\"該当３\"))","v":""}]
[{"$nulls":10},"","",{"$f":"IF(K5156=\"\",\"\",COUNTIF($K$7:K5156,\"ﾘｽﾄ１\"))","v":""},"","","","","","","",{"$f":"IF(S5156=\"\",\"\",COUNTIF($S$7:S5156,\"該当２\"))","v":""},"","",{"$f":"IF(V5156=\"\",\"\",COUNTIF($V$7:V5156,\"該当３\"))","v":""}]
[{"$nulls":10},"","",{"$f":"IF(K5157=\"\",\"\",COUNTIF($K$7:K5157,\"ﾘｽﾄ１\"))","v":""},"","","","","","","",{"$f":"IF(S5157=\"\",\"\",COUNTIF($S$7:S5157,\"該当２\"))","v":""},"","",{"$f":"IF(V5157=\"\",\"\",COUNTIF($V$7:V5157,\"該当３\"))","v":""}]
[{"$nulls":10},"","",{"$f":"IF(K5158=\"\",\"\",COUNTIF($K$7:K5158,\"ﾘｽﾄ１\"))","v":""},"","","","","","","",{"$f":"IF(S5158=\"\",\"\",COUNTIF($S$7:S5158,\"該当２\"))","v":""},"","",{"$f":"IF(V5158=\"\",\"\",COUNTIF($V$7:V5158,\"該当３\"))","v":""}]
[{"$nulls":10},"","",{"$f":"IF(K5159=\"\",\"\",COUNTIF($K$7:K5159,\"ﾘｽﾄ１\"))","v":""},"","","","","","","",{"$f":"IF(S5159=\"\",\"\",COUNTIF($S$7:S5159,\"該当２\"))","v":""},"","",{"$f":"IF(V5159=\"\",\"\",COUNTIF($V$7:V5159,\"該当３\"))","v":""}]
[{"$nulls":10},"","",{"$f":"IF(K5160=\"\",\"\",COUNTIF($K$7:K5160,\"ﾘｽﾄ１\"))","v":""},"","","","","","","",{"$f":"IF(S5160=\"\",\"\",COUNTIF($S$7:S5160,\"該当２\"))","v":""},"","",{"$f":"IF(V5160=\"\",\"\",COUNTIF($V$7:V5160,\"該当３\"))","v":""}]
[{"$nulls":10},"","",{"$f":"IF(K5161=\"\",\"\",COUNTIF($K$7:K5161,\"ﾘｽﾄ１\"))","v":""},"","","","","","","",{"$f":"IF(S5161=\"\",\"\",COUNTIF($S$7:S5161,\"該当２\"))","v":""},"","",{"$f":"IF(V5161=\"\",\"\",COUNTIF($V$7:V5161,\"該当３\"))","v":""}]
[{"$nulls":10},"","",{"$f":"IF(K5162=\"\",\"\",COUNTIF($K$7:K5162,\"ﾘｽﾄ１\"))","v":""},"","","","","","","",{"$f":"IF(S5162=\"\",\"\",COUNTIF($S$7:S5162,\"該当２\"))","v":""},"","",{"$f":"IF(V5162=\"\",\"\",COUNTIF($V$7:V5162,\"該当３\"))","v":""}]
[{"$nulls":10},"","",{"$f":"IF(K5163=\"\",\"\",COUNTIF($K$7:K5163,\"ﾘｽﾄ１\"))","v":""},"","","","","","","",{"$f":"IF(S5163=\"\",\"\",COUNTIF($S$7:S5163,\"該当２\"))","v":""},"","",{"$f":"IF(V5163=\"\",\"\",COUNTIF($V$7:V5163,\"該当３\"))","v":""}]
[{"$nulls":10},"","",{"$f":"IF(K5164=\"\",\"\",COUNTIF($K$7:K5164,\"ﾘｽﾄ１\"))","v":""},"","","","","","","",{"$f":"IF(S5164=\"\",\"\",COUNTIF($S$7:S5164,\"該当２\"))","v":""},"","",{"$f":"IF(V5164=\"\",\"\",COUNTIF($V$7:V5164,\"該当３\"))","v":""}]
[{"$nulls":10},"","",{"$f":"IF(K5165=\"\",\"\",COUNTIF($K$7:K5165,\"ﾘｽﾄ１\"))","v":""},"","","","","","","",{"$f":"IF(S5165=\"\",\"\",COUNTIF($S$7:S5165,\"該当２\"))","v":""},"","",{"$f":"IF(V5165=\"\",\"\",COUNTIF($V$7:V5165,\"該当３\"))","v":""}]
[{"$nulls":10},"","",{"$f":"IF(K5166=\"\",\"\",COUNTIF($K$7:K5166,\"ﾘｽﾄ１\"))","v":""},"","","","","","","",{"$f":"IF(S5166=\"\",\"\",COUNTIF($S$7:S5166,\"該当２\"))","v":""},"","",{"$f":"IF(V5166=\"\",\"\",COUNTIF($V$7:V5166,\"該当３\"))","v":""}]
[{"$nulls":10},"","",{"$f":"IF(K5167=\"\",\"\",COUNTIF($K$7:K5167,\"ﾘｽﾄ１\"))","v":""},"","","","","","","",{"$f":"IF(S5167=\"\",\"\",COUNTIF($S$7:S5167,\"該当２\"))","v":""},"","",{"$f":"IF(V5167=\"\",\"\",COUNTIF($V$7:V5167,\"該当３\"))","v":""}]
[{"$nulls":10},"","",{"$f":"IF(K5168=\"\",\"\",COUNTIF($K$7:K5168,\"ﾘｽﾄ１\"))","v":""},"","","","","","","",{"$f":"IF(S5168=\"\",\"\",COUNTIF($S$7:S5168,\"該当２\"))","v":""},"","",{"$f":"IF(V5168=\"\",\"\",COUNTIF($V$7:V5168,\"該当３\"))","v":""}]
[{"$nulls":10},"","",{"$f":"IF(K5169=\"\",\"\",COUNTIF($K$7:K5169,\"ﾘｽﾄ１\"))","v":""},"","","","","","","",{"$f":"IF(S5169=\"\",\"\",COUNTIF($S$7:S5169,\"該当２\"))","v":""},"","",{"$f":"IF(V5169=\"\",\"\",COUNTIF($V$7:V5169,\"該当３\"))","v":""}]
[{"$nulls":10},"","",{"$f":"IF(K5170=\"\",\"\",COUNTIF($K$7:K5170,\"ﾘｽﾄ１\"))","v":""},"","","","","","","",{"$f":"IF(S5170=\"\",\"\",COUNTIF($S$7:S5170,\"該当２\"))","v":""},"","",{"$f":"IF(V5170=\"\",\"\",COUNTIF($V$7:V5170,\"該当３\"))","v":""}]
[{"$nulls":10},"","",{"$f":"IF(K5171=\"\",\"\",COUNTIF($K$7:K5171,\"ﾘｽﾄ１\"))","v":""},"","","","","","","",{"$f":"IF(S5171=\"\",\"\",COUNTIF($S$7:S5171,\"該当２\"))","v":""},"","",{"$f":"IF(V5171=\"\",\"\",COUNTIF($V$7:V5171,\"該当３\"))","v":""}]
[{"$nulls":10},"","",{"$f":"IF(K5172=\"\",\"\",COUNTIF($K$7:K5172,\"ﾘｽﾄ１\"))","v":""},"","","","","","","",{"$f":"IF(S5172=\"\",\"\",COUNTIF($S$7:S5172,\"該当２\"))","v":""},"","",{"$f":"IF(V5172=\"\",\"\",COUNTIF($V$7:V5172,\"該当３\"))","v":""}]
[{"$nulls":10},"","",{"$f":"IF(K5173=\"\",\"\",COUNTIF($K$7:K5173,\"ﾘｽﾄ１\"))","v":""},"","","","","","","",{"$f":"IF(S5173=\"\",\"\",COUNTIF($S$7:S5173,\"該当２\"))","v":""},"","",{"$f":"IF(V5173=\"\",\"\",COUNTIF($V$7:V5173,\"該当３\"))","v":""}]
[{"$nulls":10},"","",{"$f":"IF(K5174=\"\",\"\",COUNTIF($K$7:K5174,\"ﾘｽﾄ１\"))","v":""},"","","","","","","",{"$f":"IF(S5174=\"\",\"\",COUNTIF($S$7:S5174,\"該当２\"))","v":""},"","",{"$f":"IF(V5174=\"\",\"\",COUNTIF($V$7:V5174,\"該当３\"))","v":""}]
[{"$nulls":10},"",{"$f":"IF(K5175=\"ﾘｽﾄ１\",G5175,\"\")","v":""},{"$f":"IF(K5175=\"\",\"\",COUNTIF($K$7:K5175,\"ﾘｽﾄ１\"))","v":""},{"$f":"IF(AND(D5175=0,E5175>0),\"同一区\",\"\")","v":""},{"$f":"IF(AND(EXACT($K$2,G5175),H5175>0),\"該当１\",\"\")","v":""},{"$f":"IF(O5175=\"該当１\",G5175,\"\")","v":""},{"$f":"IF(O5175=\"該当１\",\"ﾘｽﾄ2\",\"\")","v":""},{"$f":"IF(Q5175=\"ﾘｽﾄ2\",H5175,\"\")","v":""},{"$f":"IF(AND(Q5175=\"ﾘｽﾄ2\",OR(I5175=0,AND(N5175=\"同一区\",E5175=1))),\"該当２\",\"\")","v":""},{"$f":"IF(S5175=\"該当２\",H5175,\"\")","v":""},{"$f":"IF(S5175=\"\",\"\",COUNTIF($S$7:S5175,\"該当２\"))","v":""},{"$f":"IF(AND($S$2=H5175,E5175>0,E5175<998),\"該当３\",\"\")","v":""},{"$f":"IF(V5175=\"該当３\",I5175,\"\")","v":""},{"$f":"IF(V5175=\"\",\"\",COUNTIF($V$7:V5175,\"該当３\"))","v":""}]
[{"$nulls":10},"","",{"$f":"IF(K5176=\"\",\"\",COUNTIF($K$7:K5176,\"ﾘｽﾄ１\"))","v":""},"","","","","","","",{"$f":"IF(S5176=\"\",\"\",COUNTIF($S$7:S5176,\"該当２\"))","v":""},"","",{"$f":"IF(V5176=\"\",\"\",COUNTIF($V$7:V5176,\"該当３\"))","v":""}]
[{"$nulls":10},"","",{"$f":"IF(K5177=\"\",\"\",COUNTIF($K$7:K5177,\"ﾘｽﾄ１\"))","v":""},"","","","","","","",{"$f":"IF(S5177=\"\",\"\",COUNTIF($S$7:S5177,\"該当２\"))","v":""},"","",{"$f":"IF(V5177=\"\",\"\",COUNTIF($V$7:V5177,\"該当３\"))","v":""}]
[{"$nulls":10},"","",{"$f":"IF(K5178=\"\",\"\",COUNTIF($K$7:K5178,\"ﾘｽﾄ１\"))","v":""},"","","","","","","",{"$f":"IF(S5178=\"\",\"\",COUNTIF($S$7:S5178,\"該当２\"))","v":""},"","",{"$f":"IF(V5178=\"\",\"\",COUNTIF($V$7:V5178,\"該当３\"))","v":""}]
[{"$nulls":10},"","",{"$f":"IF(K5179=\"\",\"\",COUNTIF($K$7:K5179,\"ﾘｽﾄ１\"))","v":""},"","","","","","","",{"$f":"IF(S5179=\"\",\"\",COUNTIF($S$7:S5179,\"該当２\"))","v":""},"","",{"$f":"IF(V5179=\"\",\"\",COUNTIF($V$7:V5179,\"該当３\"))","v":""}]
[{"$nulls":10},"","",{"$f":"IF(K5180=\"\",\"\",COUNTIF($K$7:K5180,\"ﾘｽﾄ１\"))","v":""},"","","","","","","",{"$f":"IF(S5180=\"\",\"\",COUNTIF($S$7:S5180,\"該当２\"))","v":""},"","",{"$f":"IF(V5180=\"\",\"\",COUNTIF($V$7:V5180,\"該当３\"))","v":""}]
[{"$nulls":10},"","",{"$f":"IF(K5181=\"\",\"\",COUNTIF($K$7:K5181,\"ﾘｽﾄ１\"))","v":""},"","","","","","","",{"$f":"IF(S5181=\"\",\"\",COUNTIF($S$7:S5181,\"該当２\"))","v":""},"","",{"$f":"IF(V5181=\"\",\"\",COUNTIF($V$7:V5181,\"該当３\"))","v":""}]
[{"$nulls":10},"","",{"$f":"IF(K5182=\"\",\"\",COUNTIF($K$7:K5182,\"ﾘｽﾄ１\"))","v":""},"","","","","","","",{"$f":"IF(S5182=\"\",\"\",COUNTIF($S$7:S5182,\"該当２\"))","v":""},"","",{"$f":"IF(V5182=\"\",\"\",COUNTIF($V$7:V5182,\"該当３\"))","v":""}]
[{"$nulls":10},"","",{"$f":"IF(K5183=\"\",\"\",COUNTIF($K$7:K5183,\"ﾘｽﾄ１\"))","v":""},"","","","","","","",{"$f":"IF(S5183=\"\",\"\",COUNTIF($S$7:S5183,\"該当２\"))","v":""},"","",{"$f":"IF(V5183=\"\",\"\",COUNTIF($V$7:V5183,\"該当３\"))","v":""}]
[{"$nulls":10},"","",{"$f":"IF(K5184=\"\",\"\",COUNTIF($K$7:K5184,\"ﾘｽﾄ１\"))","v":""},"","","","","","","",{"$f":"IF(S5184=\"\",\"\",COUNTIF($S$7:S5184,\"該当２\"))","v":""},"","",{"$f":"IF(V5184=\"\",\"\",COUNTIF($V$7:V5184,\"該当３\"))","v":""}]
[{"$nulls":10},"","",{"$f":"IF(K5185=\"\",\"\",COUNTIF($K$7:K5185,\"ﾘｽﾄ１\"))","v":""},"","","","","","","",{"$f":"IF(S5185=\"\",\"\",COUNTIF($S$7:S5185,\"該当２\"))","v":""},"","",{"$f":"IF(V5185=\"\",\"\",COUNTIF($V$7:V5185,\"該当３\"))","v":""}]
[{"$nulls":10},"","",{"$f":"IF(K5186=\"\",\"\",COUNTIF($K$7:K5186,\"ﾘｽﾄ１\"))","v":""},"","","","","","","",{"$f":"IF(S5186=\"\",\"\",COUNTIF($S$7:S5186,\"該当２\"))","v":""},"","",{"$f":"IF(V5186=\"\",\"\",COUNTIF($V$7:V5186,\"該当３\"))","v":""}]
[{"$nulls":10},"","",{"$f":"IF(K5187=\"\",\"\",COUNTIF($K$7:K5187,\"ﾘｽﾄ１\"))","v":""},"","","","","","","",{"$f":"IF(S5187=\"\",\"\",COUNTIF($S$7:S5187,\"該当２\"))","v":""},"","",{"$f":"IF(V5187=\"\",\"\",COUNTIF($V$7:V5187,\"該当３\"))","v":""}]
[{"$nulls":10},"","",{"$f":"IF(K5188=\"\",\"\",COUNTIF($K$7:K5188,\"ﾘｽﾄ１\"))","v":""},"","","","","","","",{"$f":"IF(S5188=\"\",\"\",COUNTIF($S$7:S5188,\"該当２\"))","v":""},"","",{"$f":"IF(V5188=\"\",\"\",COUNTIF($V$7:V5188,\"該当３\"))","v":""}]
[{"$nulls":10},"","",{"$f":"IF(K5189=\"\",\"\",COUNTIF($K$7:K5189,\"ﾘｽﾄ１\"))","v":""},"","","","","","","",{"$f":"IF(S5189=\"\",\"\",COUNTIF($S$7:S5189,\"該当２\"))","v":""},"","",{"$f":"IF(V5189=\"\",\"\",COUNTIF($V$7:V5189,\"該当３\"))","v":""}]
[{"$nulls":10},"","",{"$f":"IF(K5190=\"\",\"\",COUNTIF($K$7:K5190,\"ﾘｽﾄ１\"))","v":""},"","","","","","","",{"$f":"IF(S5190=\"\",\"\",COUNTIF($S$7:S5190,\"該当２\"))","v":""},"","",{"$f":"IF(V5190=\"\",\"\",COUNTIF($V$7:V5190,\"該当３\"))","v":""}]
[{"$nulls":10},"","",{"$f":"IF(K5191=\"\",\"\",COUNTIF($K$7:K5191,\"ﾘｽﾄ１\"))","v":""},"","","","","","","",{"$f":"IF(S5191=\"\",\"\",COUNTIF($S$7:S5191,\"該当２\"))","v":""},"","",{"$f":"IF(V5191=\"\",\"\",COUNTIF($V$7:V5191,\"該当３\"))","v":""}]
[{"$nulls":10},"","",{"$f":"IF(K5192=\"\",\"\",COUNTIF($K$7:K5192,\"ﾘｽﾄ１\"))","v":""},"","","","","","","",{"$f":"IF(S5192=\"\",\"\",COUNTIF($S$7:S5192,\"該当２\"))","v":""},"","",{"$f":"IF(V5192=\"\",\"\",COUNTIF($V$7:V5192,\"該当３\"))","v":""}]
[{"$nulls":10},"","",{"$f":"IF(K5193=\"\",\"\",COUNTIF($K$7:K5193,\"ﾘｽﾄ１\"))","v":""},"","","","","","","",{"$f":"IF(S5193=\"\",\"\",COUNTIF($S$7:S5193,\"該当２\"))","v":""},"","",{"$f":"IF(V5193=\"\",\"\",COUNTIF($V$7:V5193,\"該当３\"))","v":""}]
[{"$nulls":10},"","",{"$f":"IF(K5194=\"\",\"\",COUNTIF($K$7:K5194,\"ﾘｽﾄ１\"))","v":""},"","","","","","","",{"$f":"IF(S5194=\"\",\"\",COUNTIF($S$7:S5194,\"該当２\"))","v":""},"","",{"$f":"IF(V5194=\"\",\"\",COUNTIF($V$7:V5194,\"該当３\"))","v":""}]
[{"$nulls":10},{"$f":"IF(AND($C5195>0,$H5195=\"\"),\"ﾘｽﾄ１\",\"\")","v":""},"",{"$f":"IF(K5195=\"\",\"\",COUNTIF($K$7:K5195,\"ﾘｽﾄ１\"))","v":""},"","","","","","","",{"$f":"IF(S5195=\"\",\"\",COUNTIF($S$7:S5195,\"該当２\"))","v":""},"","",{"$f":"IF(V5195=\"\",\"\",COUNTIF($V$7:V5195,\"該当３\"))","v":""}]
[{"$nulls":10},"","",{"$f":"IF(K5196=\"\",\"\",COUNTIF($K$7:K5196,\"ﾘｽﾄ１\"))","v":""},"","","","","","","",{"$f":"IF(S5196=\"\",\"\",COUNTIF($S$7:S5196,\"該当２\"))","v":""},"","",{"$f":"IF(V5196=\"\",\"\",COUNTIF($V$7:V5196,\"該当３\"))","v":""}]
[{"$nulls":10},"","",{"$f":"IF(K5197=\"\",\"\",COUNTIF($K$7:K5197,\"ﾘｽﾄ１\"))","v":""},"","","","","","","",{"$f":"IF(S5197=\"\",\"\",COUNTIF($S$7:S5197,\"該当２\"))","v":""},"","",{"$f":"IF(V5197=\"\",\"\",COUNTIF($V$7:V5197,\"該当３\"))","v":""}]
[{"$nulls":10},"","",{"$f":"IF(K5198=\"\",\"\",COUNTIF($K$7:K5198,\"ﾘｽﾄ１\"))","v":""},"","","","","","","",{"$f":"IF(S5198=\"\",\"\",COUNTIF($S$7:S5198,\"該当２\"))","v":""},"","",{"$f":"IF(V5198=\"\",\"\",COUNTIF($V$7:V5198,\"該当３\"))","v":""}]
[{"$nulls":10},"","",{"$f":"IF(K5199=\"\",\"\",COUNTIF($K$7:K5199,\"ﾘｽﾄ１\"))","v":""},"","","","","","","",{"$f":"IF(S5199=\"\",\"\",COUNTIF($S$7:S5199,\"該当２\"))","v":""},"","",{"$f":"IF(V5199=\"\",\"\",COUNTIF($V$7:V5199,\"該当３\"))","v":""}]
[{"$nulls":10},"","",{"$f":"IF(K5200=\"\",\"\",COUNTIF($K$7:K5200,\"ﾘｽﾄ１\"))","v":""},"","","","","","","",{"$f":"IF(S5200=\"\",\"\",COUNTIF($S$7:S5200,\"該当２\"))","v":""},"","",{"$f":"IF(V5200=\"\",\"\",COUNTIF($V$7:V5200,\"該当３\"))","v":""}]
[{"$nulls":10},"","",{"$f":"IF(K5201=\"\",\"\",COUNTIF($K$7:K5201,\"ﾘｽﾄ１\"))","v":""},"","","","","","","",{"$f":"IF(S5201=\"\",\"\",COUNTIF($S$7:S5201,\"該当２\"))","v":""},"","",{"$f":"IF(V5201=\"\",\"\",COUNTIF($V$7:V5201,\"該当３\"))","v":""}]
[{"$nulls":10},"","",{"$f":"IF(K5202=\"\",\"\",COUNTIF($K$7:K5202,\"ﾘｽﾄ１\"))","v":""},"","","","","","","",{"$f":"IF(S5202=\"\",\"\",COUNTIF($S$7:S5202,\"該当２\"))","v":""},"","",{"$f":"IF(V5202=\"\",\"\",COUNTIF($V$7:V5202,\"該当３\"))","v":""}]
[{"$nulls":10},"","",{"$f":"IF(K5203=\"\",\"\",COUNTIF($K$7:K5203,\"ﾘｽﾄ１\"))","v":""},"","","","","","","",{"$f":"IF(S5203=\"\",\"\",COUNTIF($S$7:S5203,\"該当２\"))","v":""},"","",{"$f":"IF(V5203=\"\",\"\",COUNTIF($V$7:V5203,\"該当３\"))","v":""}]
[{"$nulls":10},"","",{"$f":"IF(K5204=\"\",\"\",COUNTIF($K$7:K5204,\"ﾘｽﾄ１\"))","v":""},"","","","","","","",{"$f":"IF(S5204=\"\",\"\",COUNTIF($S$7:S5204,\"該当２\"))","v":""},"","",{"$f":"IF(V5204=\"\",\"\",COUNTIF($V$7:V5204,\"該当３\"))","v":""}]
[{"$nulls":10},"","",{"$f":"IF(K5205=\"\",\"\",COUNTIF($K$7:K5205,\"ﾘｽﾄ１\"))","v":""},"","","","","","","",{"$f":"IF(S5205=\"\",\"\",COUNTIF($S$7:S5205,\"該当２\"))","v":""},"","",{"$f":"IF(V5205=\"\",\"\",COUNTIF($V$7:V5205,\"該当３\"))","v":""}]
[{"$nulls":10},"","",{"$f":"IF(K5206=\"\",\"\",COUNTIF($K$7:K5206,\"ﾘｽﾄ１\"))","v":""},"","","","","","","",{"$f":"IF(S5206=\"\",\"\",COUNTIF($S$7:S5206,\"該当２\"))","v":""},"","",{"$f":"IF(V5206=\"\",\"\",COUNTIF($V$7:V5206,\"該当３\"))","v":""}]
[{"$nulls":10},"","",{"$f":"IF(K5207=\"\",\"\",COUNTIF($K$7:K5207,\"ﾘｽﾄ１\"))","v":""},"","","","","","","",{"$f":"IF(S5207=\"\",\"\",COUNTIF($S$7:S5207,\"該当２\"))","v":""},"","",{"$f":"IF(V5207=\"\",\"\",COUNTIF($V$7:V5207,\"該当３\"))","v":""}]
[{"$nulls":10},"","",{"$f":"IF(K5208=\"\",\"\",COUNTIF($K$7:K5208,\"ﾘｽﾄ１\"))","v":""},"","","","","","","",{"$f":"IF(S5208=\"\",\"\",COUNTIF($S$7:S5208,\"該当２\"))","v":""},"","",{"$f":"IF(V5208=\"\",\"\",COUNTIF($V$7:V5208,\"該当３\"))","v":""}]
[{"$nulls":10},"","",{"$f":"IF(K5209=\"\",\"\",COUNTIF($K$7:K5209,\"ﾘｽﾄ１\"))","v":""},"","","","","","","",{"$f":"IF(S5209=\"\",\"\",COUNTIF($S$7:S5209,\"該当２\"))","v":""},"","",{"$f":"IF(V5209=\"\",\"\",COUNTIF($V$7:V5209,\"該当３\"))","v":""}]
[{"$nulls":10},"","",{"$f":"IF(K5210=\"\",\"\",COUNTIF($K$7:K5210,\"ﾘｽﾄ１\"))","v":""},"","","","","","","",{"$f":"IF(S5210=\"\",\"\",COUNTIF($S$7:S5210,\"該当２\"))","v":""},"","",{"$f":"IF(V5210=\"\",\"\",COUNTIF($V$7:V5210,\"該当３\"))","v":""}]
[{"$nulls":10},"","",{"$f":"IF(K5211=\"\",\"\",COUNTIF($K$7:K5211,\"ﾘｽﾄ１\"))","v":""},"","","","","","","",{"$f":"IF(S5211=\"\",\"\",COUNTIF($S$7:S5211,\"該当２\"))","v":""},"","",{"$f":"IF(V5211=\"\",\"\",COUNTIF($V$7:V5211,\"該当３\"))","v":""}]
[{"$nulls":10},"","",{"$f":"IF(K5212=\"\",\"\",COUNTIF($K$7:K5212,\"ﾘｽﾄ１\"))","v":""},"","","","","","","",{"$f":"IF(S5212=\"\",\"\",COUNTIF($S$7:S5212,\"該当２\"))","v":""},"","",{"$f":"IF(V5212=\"\",\"\",COUNTIF($V$7:V5212,\"該当３\"))","v":""}]
[{"$nulls":10},"","",{"$f":"IF(K5213=\"\",\"\",COUNTIF($K$7:K5213,\"ﾘｽﾄ１\"))","v":""},"","","","","","","",{"$f":"IF(S5213=\"\",\"\",COUNTIF($S$7:S5213,\"該当２\"))","v":""},"","",{"$f":"IF(V5213=\"\",\"\",COUNTIF($V$7:V5213,\"該当３\"))","v":""}]
[{"$nulls":10},"","",{"$f":"IF(K5214=\"\",\"\",COUNTIF($K$7:K5214,\"ﾘｽﾄ１\"))","v":""},"","","","","","","",{"$f":"IF(S5214=\"\",\"\",COUNTIF($S$7:S5214,\"該当２\"))","v":""},"","",{"$f":"IF(V5214=\"\",\"\",COUNTIF($V$7:V5214,\"該当３\"))","v":""}]
[{"$nulls":10},"","",{"$f":"IF(K5215=\"\",\"\",COUNTIF($K$7:K5215,\"ﾘｽﾄ１\"))","v":""},"","","","","","","",{"$f":"IF(S5215=\"\",\"\",COUNTIF($S$7:S5215,\"該当２\"))","v":""},"","",{"$f":"IF(V5215=\"\",\"\",COUNTIF($V$7:V5215,\"該当３\"))","v":""}]
[{"$nulls":10},"","",{"$f":"IF(K5216=\"\",\"\",COUNTIF($K$7:K5216,\"ﾘｽﾄ１\"))","v":""},"","","","","","","",{"$f":"IF(S5216=\"\",\"\",COUNTIF($S$7:S5216,\"該当２\"))","v":""},"","",{"$f":"IF(V5216=\"\",\"\",COUNTIF($V$7:V5216,\"該当３\"))","v":""}]
[{"$nulls":10},"","",{"$f":"IF(K5217=\"\",\"\",COUNTIF($K$7:K5217,\"ﾘｽﾄ１\"))","v":""},"","","","","","","",{"$f":"IF(S5217=\"\",\"\",COUNTIF($S$7:S5217,\"該当２\"))","v":""},"","",{"$f":"IF(V5217=\"\",\"\",COUNTIF($V$7:V5217,\"該当３\"))","v":""}]
[{"$nulls":10},"","",{"$f":"IF(K5218=\"\",\"\",COUNTIF($K$7:K5218,\"ﾘｽﾄ１\"))","v":""},"","","","","","","",{"$f":"IF(S5218=\"\",\"\",COUNTIF($S$7:S5218,\"該当２\"))","v":""},"","",{"$f":"IF(V5218=\"\",\"\",COUNTIF($V$7:V5218,\"該当３\"))","v":""}]
[{"$nulls":10},"","",{"$f":"IF(K5219=\"\",\"\",COUNTIF($K$7:K5219,\"ﾘｽﾄ１\"))","v":""},"","","","","","","",{"$f":"IF(S5219=\"\",\"\",COUNTIF($S$7:S5219,\"該当２\"))","v":""},"","",{"$f":"IF(V5219=\"\",\"\",COUNTIF($V$7:V5219,\"該当３\"))","v":""}]
[{"$nulls":10},"","",{"$f":"IF(K5220=\"\",\"\",COUNTIF($K$7:K5220,\"ﾘｽﾄ１\"))","v":""},"","","","","","","",{"$f":"IF(S5220=\"\",\"\",COUNTIF($S$7:S5220,\"該当２\"))","v":""},"","",{"$f":"IF(V5220=\"\",\"\",COUNTIF($V$7:V5220,\"該当３\"))","v":""}]
[{"$nulls":10},"","",{"$f":"IF(K5221=\"\",\"\",COUNTIF($K$7:K5221,\"ﾘｽﾄ１\"))","v":""},"","","","","","","",{"$f":"IF(S5221=\"\",\"\",COUNTIF($S$7:S5221,\"該当２\"))","v":""},"","",{"$f":"IF(V5221=\"\",\"\",COUNTIF($V$7:V5221,\"該当３\"))","v":""}]
[{"$nulls":10},"","",{"$f":"IF(K5222=\"\",\"\",COUNTIF($K$7:K5222,\"ﾘｽﾄ１\"))","v":""},"","","","","","","",{"$f":"IF(S5222=\"\",\"\",COUNTIF($S$7:S5222,\"該当２\"))","v":""},"","",{"$f":"IF(V5222=\"\",\"\",COUNTIF($V$7:V5222,\"該当３\"))","v":""}]
[{"$nulls":10},"","",{"$f":"IF(K5223=\"\",\"\",COUNTIF($K$7:K5223,\"ﾘｽﾄ１\"))","v":""},"","","","","","","",{"$f":"IF(S5223=\"\",\"\",COUNTIF($S$7:S5223,\"該当２\"))","v":""},"","",{"$f":"IF(V5223=\"\",\"\",COUNTIF($V$7:V5223,\"該当３\"))","v":""}]
[{"$nulls":10},"","",{"$f":"IF(K5224=\"\",\"\",COUNTIF($K$7:K5224,\"ﾘｽﾄ１\"))","v":""},"","","","","","","",{"$f":"IF(S5224=\"\",\"\",COUNTIF($S$7:S5224,\"該当２\"))","v":""},"","",{"$f":"IF(V5224=\"\",\"\",COUNTIF($V$7:V5224,\"該当３\"))","v":""}]
[{"$nulls":10},"","",{"$f":"IF(K5225=\"\",\"\",COUNTIF($K$7:K5225,\"ﾘｽﾄ１\"))","v":""},"","","","","","","",{"$f":"IF(S5225=\"\",\"\",COUNTIF($S$7:S5225,\"該当２\"))","v":""},"","",{"$f":"IF(V5225=\"\",\"\",COUNTIF($V$7:V5225,\"該当３\"))","v":""}]
[{"$nulls":10},"","",{"$f":"IF(K5226=\"\",\"\",COUNTIF($K$7:K5226,\"ﾘｽﾄ１\"))","v":""},"","","","","","","",{"$f":"IF(S5226=\"\",\"\",COUNTIF($S$7:S5226,\"該当２\"))","v":""},"","",{"$f":"IF(V5226=\"\",\"\",COUNTIF($V$7:V5226,\"該当３\"))","v":""}]
[{"$nulls":10},"","",{"$f":"IF(K5227=\"\",\"\",COUNTIF($K$7:K5227,\"ﾘｽﾄ１\"))","v":""},"","","","","","","",{"$f":"IF(S5227=\"\",\"\",COUNTIF($S$7:S5227,\"該当２\"))","v":""},"","",{"$f":"IF(V5227=\"\",\"\",COUNTIF($V$7:V5227,\"該当３\"))","v":""}]
[{"$nulls":10},"","",{"$f":"IF(K5228=\"\",\"\",COUNTIF($K$7:K5228,\"ﾘｽﾄ１\"))","v":""},"","","","","","","",{"$f":"IF(S5228=\"\",\"\",COUNTIF($S$7:S5228,\"該当２\"))","v":""},"","",{"$f":"IF(V5228=\"\",\"\",COUNTIF($V$7:V5228,\"該当３\"))","v":""}]
[{"$nulls":10},"","",{"$f":"IF(K5229=\"\",\"\",COUNTIF($K$7:K5229,\"ﾘｽﾄ１\"))","v":""},"","","","","","","",{"$f":"IF(S5229=\"\",\"\",COUNTIF($S$7:S5229,\"該当２\"))","v":""},"","",{"$f":"IF(V5229=\"\",\"\",COUNTIF($V$7:V5229,\"該当３\"))","v":""}]
[{"$nulls":10},"","",{"$f":"IF(K5230=\"\",\"\",COUNTIF($K$7:K5230,\"ﾘｽﾄ１\"))","v":""},"","","","","","","",{"$f":"IF(S5230=\"\",\"\",COUNTIF($S$7:S5230,\"該当２\"))","v":""},"","",{"$f":"IF(V5230=\"\",\"\",COUNTIF($V$7:V5230,\"該当３\"))","v":""}]
[{"$nulls":10},"","",{"$f":"IF(K5231=\"\",\"\",COUNTIF($K$7:K5231,\"ﾘｽﾄ１\"))","v":""},"","","","","","","",{"$f":"IF(S5231=\"\",\"\",COUNTIF($S$7:S5231,\"該当２\"))","v":""},"","",{"$f":"IF(V5231=\"\",\"\",COUNTIF($V$7:V5231,\"該当３\"))","v":""}]
[{"$nulls":10},"","",{"$f":"IF(K5232=\"\",\"\",COUNTIF($K$7:K5232,\"ﾘｽﾄ１\"))","v":""},"","","","","","","",{"$f":"IF(S5232=\"\",\"\",COUNTIF($S$7:S5232,\"該当２\"))","v":""},"","",{"$f":"IF(V5232=\"\",\"\",COUNTIF($V$7:V5232,\"該当３\"))","v":""}]
[{"$nulls":10},"","",{"$f":"IF(K5233=\"\",\"\",COUNTIF($K$7:K5233,\"ﾘｽﾄ１\"))","v":""},"","","","","","","",{"$f":"IF(S5233=\"\",\"\",COUNTIF($S$7:S5233,\"該当２\"))","v":""},"","",{"$f":"IF(V5233=\"\",\"\",COUNTIF($V$7:V5233,\"該当３\"))","v":""}]
[{"$nulls":10},"","",{"$f":"IF(K5234=\"\",\"\",COUNTIF($K$7:K5234,\"ﾘｽﾄ１\"))","v":""},"","","","","","","",{"$f":"IF(S5234=\"\",\"\",COUNTIF($S$7:S5234,\"該当２\"))","v":""},"","",{"$f":"IF(V5234=\"\",\"\",COUNTIF($V$7:V5234,\"該当３\"))","v":""}]
[{"$nulls":10},"","",{"$f":"IF(K5235=\"\",\"\",COUNTIF($K$7:K5235,\"ﾘｽﾄ１\"))","v":""},"","","","","","","",{"$f":"IF(S5235=\"\",\"\",COUNTIF($S$7:S5235,\"該当２\"))","v":""},"","",{"$f":"IF(V5235=\"\",\"\",COUNTIF($V$7:V5235,\"該当３\"))","v":""}]
[{"$nulls":10},"","",{"$f":"IF(K5236=\"\",\"\",COUNTIF($K$7:K5236,\"ﾘｽﾄ１\"))","v":""},"","","","","","","",{"$f":"IF(S5236=\"\",\"\",COUNTIF($S$7:S5236,\"該当２\"))","v":""},"","",{"$f":"IF(V5236=\"\",\"\",COUNTIF($V$7:V5236,\"該当３\"))","v":""}]
[{"$nulls":10},"","",{"$f":"IF(K5237=\"\",\"\",COUNTIF($K$7:K5237,\"ﾘｽﾄ１\"))","v":""},"","","","","","","",{"$f":"IF(S5237=\"\",\"\",COUNTIF($S$7:S5237,\"該当２\"))","v":""},"","",{"$f":"IF(V5237=\"\",\"\",COUNTIF($V$7:V5237,\"該当３\"))","v":""}]
[{"$nulls":10},"","",{"$f":"IF(K5238=\"\",\"\",COUNTIF($K$7:K5238,\"ﾘｽﾄ１\"))","v":""},"","","","","","","",{"$f":"IF(S5238=\"\",\"\",COUNTIF($S$7:S5238,\"該当２\"))","v":""},"","",{"$f":"IF(V5238=\"\",\"\",COUNTIF($V$7:V5238,\"該当３\"))","v":""}]
[{"$nulls":10},"",{"$f":"IF(K5239=\"ﾘｽﾄ１\",G5239,\"\")","v":""},{"$f":"IF(K5239=\"\",\"\",COUNTIF($K$7:K5239,\"ﾘｽﾄ１\"))","v":""},{"$f":"IF(AND(D5239=0,E5239>0),\"同一区\",\"\")","v":""},{"$f":"IF(AND(EXACT($K$2,G5239),H5239>0),\"該当１\",\"\")","v":""},{"$f":"IF(O5239=\"該当１\",G5239,\"\")","v":""},{"$f":"IF(O5239=\"該当１\",\"ﾘｽﾄ2\",\"\")","v":""},{"$f":"IF(Q5239=\"ﾘｽﾄ2\",H5239,\"\")","v":""},{"$f":"IF(AND(Q5239=\"ﾘｽﾄ2\",OR(I5239=0,AND(N5239=\"同一区\",E5239=1))),\"該当２\",\"\")","v":""},{"$f":"IF(S5239=\"該当２\",H5239,\"\")","v":""},{"$f":"IF(S5239=\"\",\"\",COUNTIF($S$7:S5239,\"該当２\"))","v":""},{"$f":"IF(AND($S$2=H5239,E5239>0,E5239<998),\"該当３\",\"\")","v":""},{"$f":"IF(V5239=\"該当３\",I5239,\"\")","v":""},{"$f":"IF(V5239=\"\",\"\",COUNTIF($V$7:V5239,\"該当３\"))","v":""}]
[{"$nulls":10},"","",{"$f":"IF(K5240=\"\",\"\",COUNTIF($K$7:K5240,\"ﾘｽﾄ１\"))","v":""},"","","","","","","",{"$f":"IF(S5240=\"\",\"\",COUNTIF($S$7:S5240,\"該当２\"))","v":""},"","",{"$f":"IF(V5240=\"\",\"\",COUNTIF($V$7:V5240,\"該当３\"))","v":""}]
[{"$nulls":10},"","",{"$f":"IF(K5241=\"\",\"\",COUNTIF($K$7:K5241,\"ﾘｽﾄ１\"))","v":""},"","","","","","","",{"$f":"IF(S5241=\"\",\"\",COUNTIF($S$7:S5241,\"該当２\"))","v":""},"","",{"$f":"IF(V5241=\"\",\"\",COUNTIF($V$7:V5241,\"該当３\"))","v":""}]
[{"$nulls":10},"","",{"$f":"IF(K5242=\"\",\"\",COUNTIF($K$7:K5242,\"ﾘｽﾄ１\"))","v":""},"","","","","","","",{"$f":"IF(S5242=\"\",\"\",COUNTIF($S$7:S5242,\"該当２\"))","v":""},"","",{"$f":"IF(V5242=\"\",\"\",COUNTIF($V$7:V5242,\"該当３\"))","v":""}]
[{"$nulls":10},"","",{"$f":"IF(K5243=\"\",\"\",COUNTIF($K$7:K5243,\"ﾘｽﾄ１\"))","v":""},"","","","","","","",{"$f":"IF(S5243=\"\",\"\",COUNTIF($S$7:S5243,\"該当２\"))","v":""},"","",{"$f":"IF(V5243=\"\",\"\",COUNTIF($V$7:V5243,\"該当３\"))","v":""}]
[{"$nulls":10},"","",{"$f":"IF(K5244=\"\",\"\",COUNTIF($K$7:K5244,\"ﾘｽﾄ１\"))","v":""},"","","","","","","",{"$f":"IF(S5244=\"\",\"\",COUNTIF($S$7:S5244,\"該当２\"))","v":""},"","",{"$f":"IF(V5244=\"\",\"\",COUNTIF($V$7:V5244,\"該当３\"))","v":""}]
[{"$nulls":10},"","",{"$f":"IF(K5245=\"\",\"\",COUNTIF($K$7:K5245,\"ﾘｽﾄ１\"))","v":""},"","","","","","","",{"$f":"IF(S5245=\"\",\"\",COUNTIF($S$7:S5245,\"該当２\"))","v":""},"","",{"$f":"IF(V5245=\"\",\"\",COUNTIF($V$7:V5245,\"該当３\"))","v":""}]
[{"$nulls":10},"","",{"$f":"IF(K5246=\"\",\"\",COUNTIF($K$7:K5246,\"ﾘｽﾄ１\"))","v":""},"","","","","","","",{"$f":"IF(S5246=\"\",\"\",COUNTIF($S$7:S5246,\"該当２\"))","v":""},"","",{"$f":"IF(V5246=\"\",\"\",COUNTIF($V$7:V5246,\"該当３\"))","v":""}]
[{"$nulls":10},"","",{"$f":"IF(K5247=\"\",\"\",COUNTIF($K$7:K5247,\"ﾘｽﾄ１\"))","v":""},"","","","","","","",{"$f":"IF(S5247=\"\",\"\",COUNTIF($S$7:S5247,\"該当２\"))","v":""},"","",{"$f":"IF(V5247=\"\",\"\",COUNTIF($V$7:V5247,\"該当３\"))","v":""}]
[{"$nulls":10},"","",{"$f":"IF(K5248=\"\",\"\",COUNTIF($K$7:K5248,\"ﾘｽﾄ１\"))","v":""},"","","","","","","",{"$f":"IF(S5248=\"\",\"\",COUNTIF($S$7:S5248,\"該当２\"))","v":""},"","",{"$f":"IF(V5248=\"\",\"\",COUNTIF($V$7:V5248,\"該当３\"))","v":""}]
[{"$nulls":10},"","",{"$f":"IF(K5249=\"\",\"\",COUNTIF($K$7:K5249,\"ﾘｽﾄ１\"))","v":""},"","","","","","","",{"$f":"IF(S5249=\"\",\"\",COUNTIF($S$7:S5249,\"該当２\"))","v":""},"","",{"$f":"IF(V5249=\"\",\"\",COUNTIF($V$7:V5249,\"該当３\"))","v":""}]
[{"$nulls":10},"","",{"$f":"IF(K5250=\"\",\"\",COUNTIF($K$7:K5250,\"ﾘｽﾄ１\"))","v":""},"","","","","","","",{"$f":"IF(S5250=\"\",\"\",COUNTIF($S$7:S5250,\"該当２\"))","v":""},"","",{"$f":"IF(V5250=\"\",\"\",COUNTIF($V$7:V5250,\"該当３\"))","v":""}]
[{"$nulls":10},"","",{"$f":"IF(K5251=\"\",\"\",COUNTIF($K$7:K5251,\"ﾘｽﾄ１\"))","v":""},"","","","","","","",{"$f":"IF(S5251=\"\",\"\",COUNTIF($S$7:S5251,\"該当２\"))","v":""},"","",{"$f":"IF(V5251=\"\",\"\",COUNTIF($V$7:V5251,\"該当３\"))","v":""}]
[{"$nulls":10},"","",{"$f":"IF(K5252=\"\",\"\",COUNTIF($K$7:K5252,\"ﾘｽﾄ１\"))","v":""},"","","","","","","",{"$f":"IF(S5252=\"\",\"\",COUNTIF($S$7:S5252,\"該当２\"))","v":""},"","",{"$f":"IF(V5252=\"\",\"\",COUNTIF($V$7:V5252,\"該当３\"))","v":""}]
[{"$nulls":10},"","",{"$f":"IF(K5253=\"\",\"\",COUNTIF($K$7:K5253,\"ﾘｽﾄ１\"))","v":""},"","","","","","","",{"$f":"IF(S5253=\"\",\"\",COUNTIF($S$7:S5253,\"該当２\"))","v":""},"","",{"$f":"IF(V5253=\"\",\"\",COUNTIF($V$7:V5253,\"該当３\"))","v":""}]
[{"$nulls":10},"","",{"$f":"IF(K5254=\"\",\"\",COUNTIF($K$7:K5254,\"ﾘｽﾄ１\"))","v":""},"","","","","","","",{"$f":"IF(S5254=\"\",\"\",COUNTIF($S$7:S5254,\"該当２\"))","v":""},"","",{"$f":"IF(V5254=\"\",\"\",COUNTIF($V$7:V5254,\"該当３\"))","v":""}]
[{"$nulls":10},"","",{"$f":"IF(K5255=\"\",\"\",COUNTIF($K$7:K5255,\"ﾘｽﾄ１\"))","v":""},"","","","","","","",{"$f":"IF(S5255=\"\",\"\",COUNTIF($S$7:S5255,\"該当２\"))","v":""},"","",{"$f":"IF(V5255=\"\",\"\",COUNTIF($V$7:V5255,\"該当３\"))","v":""}]
[{"$nulls":10},"","",{"$f":"IF(K5256=\"\",\"\",COUNTIF($K$7:K5256,\"ﾘｽﾄ１\"))","v":""},"","","","","","","",{"$f":"IF(S5256=\"\",\"\",COUNTIF($S$7:S5256,\"該当２\"))","v":""},"","",{"$f":"IF(V5256=\"\",\"\",COUNTIF($V$7:V5256,\"該当３\"))","v":""}]
[{"$nulls":10},"","",{"$f":"IF(K5257=\"\",\"\",COUNTIF($K$7:K5257,\"ﾘｽﾄ１\"))","v":""},"","","","","","","",{"$f":"IF(S5257=\"\",\"\",COUNTIF($S$7:S5257,\"該当２\"))","v":""},"","",{"$f":"IF(V5257=\"\",\"\",COUNTIF($V$7:V5257,\"該当３\"))","v":""}]
[{"$nulls":10},"","",{"$f":"IF(K5258=\"\",\"\",COUNTIF($K$7:K5258,\"ﾘｽﾄ１\"))","v":""},"","","","","","","",{"$f":"IF(S5258=\"\",\"\",COUNTIF($S$7:S5258,\"該当２\"))","v":""},"","",{"$f":"IF(V5258=\"\",\"\",COUNTIF($V$7:V5258,\"該当３\"))","v":""}]
[{"$nulls":10},{"$f":"IF(AND($C5259>0,$H5259=\"\"),\"ﾘｽﾄ１\",\"\")","v":""},"",{"$f":"IF(K5259=\"\",\"\",COUNTIF($K$7:K5259,\"ﾘｽﾄ１\"))","v":""},"","","","","","","",{"$f":"IF(S5259=\"\",\"\",COUNTIF($S$7:S5259,\"該当２\"))","v":""},"","",{"$f":"IF(V5259=\"\",\"\",COUNTIF($V$7:V5259,\"該当３\"))","v":""}]
[{"$nulls":10},"","",{"$f":"IF(K5260=\"\",\"\",COUNTIF($K$7:K5260,\"ﾘｽﾄ１\"))","v":""},"","","","","","","",{"$f":"IF(S5260=\"\",\"\",COUNTIF($S$7:S5260,\"該当２\"))","v":""},"","",{"$f":"IF(V5260=\"\",\"\",COUNTIF($V$7:V5260,\"該当３\"))","v":""}]
[{"$nulls":10},"","",{"$f":"IF(K5261=\"\",\"\",COUNTIF($K$7:K5261,\"ﾘｽﾄ１\"))","v":""},"","","","","","","",{"$f":"IF(S5261=\"\",\"\",COUNTIF($S$7:S5261,\"該当２\"))","v":""},"","",{"$f":"IF(V5261=\"\",\"\",COUNTIF($V$7:V5261,\"該当３\"))","v":""}]
[{"$nulls":10},"","",{"$f":"IF(K5262=\"\",\"\",COUNTIF($K$7:K5262,\"ﾘｽﾄ１\"))","v":""},"","","","","","","",{"$f":"IF(S5262=\"\",\"\",COUNTIF($S$7:S5262,\"該当２\"))","v":""},"","",{"$f":"IF(V5262=\"\",\"\",COUNTIF($V$7:V5262,\"該当３\"))","v":""}]
[{"$nulls":10},"","",{"$f":"IF(K5263=\"\",\"\",COUNTIF($K$7:K5263,\"ﾘｽﾄ１\"))","v":""},"","","","","","","",{"$f":"IF(S5263=\"\",\"\",COUNTIF($S$7:S5263,\"該当２\"))","v":""},"","",{"$f":"IF(V5263=\"\",\"\",COUNTIF($V$7:V5263,\"該当３\"))","v":""}]
[{"$nulls":10},"","",{"$f":"IF(K5264=\"\",\"\",COUNTIF($K$7:K5264,\"ﾘｽﾄ１\"))","v":""},"","","","","","","",{"$f":"IF(S5264=\"\",\"\",COUNTIF($S$7:S5264,\"該当２\"))","v":""},"","",{"$f":"IF(V5264=\"\",\"\",COUNTIF($V$7:V5264,\"該当３\"))","v":""}]
[{"$nulls":10},"","",{"$f":"IF(K5265=\"\",\"\",COUNTIF($K$7:K5265,\"ﾘｽﾄ１\"))","v":""},"","","","","","","",{"$f":"IF(S5265=\"\",\"\",COUNTIF($S$7:S5265,\"該当２\"))","v":""},"","",{"$f":"IF(V5265=\"\",\"\",COUNTIF($V$7:V5265,\"該当３\"))","v":""}]
[{"$nulls":10},"","",{"$f":"IF(K5266=\"\",\"\",COUNTIF($K$7:K5266,\"ﾘｽﾄ１\"))","v":""},"","","","","","","",{"$f":"IF(S5266=\"\",\"\",COUNTIF($S$7:S5266,\"該当２\"))","v":""},"","",{"$f":"IF(V5266=\"\",\"\",COUNTIF($V$7:V5266,\"該当３\"))","v":""}]
[{"$nulls":10},"","",{"$f":"IF(K5267=\"\",\"\",COUNTIF($K$7:K5267,\"ﾘｽﾄ１\"))","v":""},"","","","","","","",{"$f":"IF(S5267=\"\",\"\",COUNTIF($S$7:S5267,\"該当２\"))","v":""},"","",{"$f":"IF(V5267=\"\",\"\",COUNTIF($V$7:V5267,\"該当３\"))","v":""}]
[{"$nulls":10},"","",{"$f":"IF(K5268=\"\",\"\",COUNTIF($K$7:K5268,\"ﾘｽﾄ１\"))","v":""},"","","","","","","",{"$f":"IF(S5268=\"\",\"\",COUNTIF($S$7:S5268,\"該当２\"))","v":""},"","",{"$f":"IF(V5268=\"\",\"\",COUNTIF($V$7:V5268,\"該当３\"))","v":""}]
[{"$nulls":10},"","",{"$f":"IF(K5269=\"\",\"\",COUNTIF($K$7:K5269,\"ﾘｽﾄ１\"))","v":""},"","","","","","","",{"$f":"IF(S5269=\"\",\"\",COUNTIF($S$7:S5269,\"該当２\"))","v":""},"","",{"$f":"IF(V5269=\"\",\"\",COUNTIF($V$7:V5269,\"該当３\"))","v":""}]
[{"$nulls":10},"","",{"$f":"IF(K5270=\"\",\"\",COUNTIF($K$7:K5270,\"ﾘｽﾄ１\"))","v":""},"","","","","","","",{"$f":"IF(S5270=\"\",\"\",COUNTIF($S$7:S5270,\"該当２\"))","v":""},"","",{"$f":"IF(V5270=\"\",\"\",COUNTIF($V$7:V5270,\"該当３\"))","v":""}]
[{"$nulls":10},"","",{"$f":"IF(K5271=\"\",\"\",COUNTIF($K$7:K5271,\"ﾘｽﾄ１\"))","v":""},"","","","","","","",{"$f":"IF(S5271=\"\",\"\",COUNTIF($S$7:S5271,\"該当２\"))","v":""},"","",{"$f":"IF(V5271=\"\",\"\",COUNTIF($V$7:V5271,\"該当３\"))","v":""}]
[{"$nulls":10},"","",{"$f":"IF(K5272=\"\",\"\",COUNTIF($K$7:K5272,\"ﾘｽﾄ１\"))","v":""},"","","","","","","",{"$f":"IF(S5272=\"\",\"\",COUNTIF($S$7:S5272,\"該当２\"))","v":""},"","",{"$f":"IF(V5272=\"\",\"\",COUNTIF($V$7:V5272,\"該当３\"))","v":""}]
[{"$nulls":10},"","",{"$f":"IF(K5273=\"\",\"\",COUNTIF($K$7:K5273,\"ﾘｽﾄ１\"))","v":""},"","","","","","","",{"$f":"IF(S5273=\"\",\"\",COUNTIF($S$7:S5273,\"該当２\"))","v":""},"","",{"$f":"IF(V5273=\"\",\"\",COUNTIF($V$7:V5273,\"該当３\"))","v":""}]
[{"$nulls":10},"","",{"$f":"IF(K5274=\"\",\"\",COUNTIF($K$7:K5274,\"ﾘｽﾄ１\"))","v":""},"","","","","","","",{"$f":"IF(S5274=\"\",\"\",COUNTIF($S$7:S5274,\"該当２\"))","v":""},"","",{"$f":"IF(V5274=\"\",\"\",COUNTIF($V$7:V5274,\"該当３\"))","v":""}]
[{"$nulls":10},"","",{"$f":"IF(K5275=\"\",\"\",COUNTIF($K$7:K5275,\"ﾘｽﾄ１\"))","v":""},"","","","","","","",{"$f":"IF(S5275=\"\",\"\",COUNTIF($S$7:S5275,\"該当２\"))","v":""},"","",{"$f":"IF(V5275=\"\",\"\",COUNTIF($V$7:V5275,\"該当３\"))","v":""}]
[{"$nulls":10},"","",{"$f":"IF(K5276=\"\",\"\",COUNTIF($K$7:K5276,\"ﾘｽﾄ１\"))","v":""},"","","","","","","",{"$f":"IF(S5276=\"\",\"\",COUNTIF($S$7:S5276,\"該当２\"))","v":""},"","",{"$f":"IF(V5276=\"\",\"\",COUNTIF($V$7:V5276,\"該当３\"))","v":""}]
[{"$nulls":10},"","",{"$f":"IF(K5277=\"\",\"\",COUNTIF($K$7:K5277,\"ﾘｽﾄ１\"))","v":""},"","","","","","","",{"$f":"IF(S5277=\"\",\"\",COUNTIF($S$7:S5277,\"該当２\"))","v":""},"","",{"$f":"IF(V5277=\"\",\"\",COUNTIF($V$7:V5277,\"該当３\"))","v":""}]
[{"$nulls":10},"","",{"$f":"IF(K5278=\"\",\"\",COUNTIF($K$7:K5278,\"ﾘｽﾄ１\"))","v":""},"","","","","","","",{"$f":"IF(S5278=\"\",\"\",COUNTIF($S$7:S5278,\"該当２\"))","v":""},"","",{"$f":"IF(V5278=\"\",\"\",COUNTIF($V$7:V5278,\"該当３\"))","v":""}]
[{"$nulls":10},"","",{"$f":"IF(K5279=\"\",\"\",COUNTIF($K$7:K5279,\"ﾘｽﾄ１\"))","v":""},"","","","","","","",{"$f":"IF(S5279=\"\",\"\",COUNTIF($S$7:S5279,\"該当２\"))","v":""},"","",{"$f":"IF(V5279=\"\",\"\",COUNTIF($V$7:V5279,\"該当３\"))","v":""}]
[{"$nulls":10},"","",{"$f":"IF(K5280=\"\",\"\",COUNTIF($K$7:K5280,\"ﾘｽﾄ１\"))","v":""},"","","","","","","",{"$f":"IF(S5280=\"\",\"\",COUNTIF($S$7:S5280,\"該当２\"))","v":""},"","",{"$f":"IF(V5280=\"\",\"\",COUNTIF($V$7:V5280,\"該当３\"))","v":""}]
[{"$nulls":10},"","",{"$f":"IF(K5281=\"\",\"\",COUNTIF($K$7:K5281,\"ﾘｽﾄ１\"))","v":""},"","","","","","","",{"$f":"IF(S5281=\"\",\"\",COUNTIF($S$7:S5281,\"該当２\"))","v":""},"","",{"$f":"IF(V5281=\"\",\"\",COUNTIF($V$7:V5281,\"該当３\"))","v":""}]
[{"$nulls":10},"","",{"$f":"IF(K5282=\"\",\"\",COUNTIF($K$7:K5282,\"ﾘｽﾄ１\"))","v":""},"","","","","","","",{"$f":"IF(S5282=\"\",\"\",COUNTIF($S$7:S5282,\"該当２\"))","v":""},"","",{"$f":"IF(V5282=\"\",\"\",COUNTIF($V$7:V5282,\"該当３\"))","v":""}]
[{"$nulls":10},"","",{"$f":"IF(K5283=\"\",\"\",COUNTIF($K$7:K5283,\"ﾘｽﾄ１\"))","v":""},"","","","","","","",{"$f":"IF(S5283=\"\",\"\",COUNTIF($S$7:S5283,\"該当２\"))","v":""},"","",{"$f":"IF(V5283=\"\",\"\",COUNTIF($V$7:V5283,\"該当３\"))","v":""}]
[{"$nulls":10},"","",{"$f":"IF(K5284=\"\",\"\",COUNTIF($K$7:K5284,\"ﾘｽﾄ１\"))","v":""},"","","","","","","",{"$f":"IF(S5284=\"\",\"\",COUNTIF($S$7:S5284,\"該当２\"))","v":""},"","",{"$f":"IF(V5284=\"\",\"\",COUNTIF($V$7:V5284,\"該当３\"))","v":""}]
[{"$nulls":10},"","",{"$f":"IF(K5285=\"\",\"\",COUNTIF($K$7:K5285,\"ﾘｽﾄ１\"))","v":""},"","","","","","","",{"$f":"IF(S5285=\"\",\"\",COUNTIF($S$7:S5285,\"該当２\"))","v":""},"","",{"$f":"IF(V5285=\"\",\"\",COUNTIF($V$7:V5285,\"該当３\"))","v":""}]
[{"$nulls":10},"","",{"$f":"IF(K5286=\"\",\"\",COUNTIF($K$7:K5286,\"ﾘｽﾄ１\"))","v":""},"","","","","","","",{"$f":"IF(S5286=\"\",\"\",COUNTIF($S$7:S5286,\"該当２\"))","v":""},"","",{"$f":"IF(V5286=\"\",\"\",COUNTIF($V$7:V5286,\"該当３\"))","v":""}]
[{"$nulls":10},"","",{"$f":"IF(K5287=\"\",\"\",COUNTIF($K$7:K5287,\"ﾘｽﾄ１\"))","v":""},"","","","","","","",{"$f":"IF(S5287=\"\",\"\",COUNTIF($S$7:S5287,\"該当２\"))","v":""},"","",{"$f":"IF(V5287=\"\",\"\",COUNTIF($V$7:V5287,\"該当３\"))","v":""}]
[{"$nulls":10},"","",{"$f":"IF(K5288=\"\",\"\",COUNTIF($K$7:K5288,\"ﾘｽﾄ１\"))","v":""},"","","","","","","",{"$f":"IF(S5288=\"\",\"\",COUNTIF($S$7:S5288,\"該当２\"))","v":""},"","",{"$f":"IF(V5288=\"\",\"\",COUNTIF($V$7:V5288,\"該当３\"))","v":""}]
[{"$nulls":10},"","",{"$f":"IF(K5289=\"\",\"\",COUNTIF($K$7:K5289,\"ﾘｽﾄ１\"))","v":""},"","","","","","","",{"$f":"IF(S5289=\"\",\"\",COUNTIF($S$7:S5289,\"該当２\"))","v":""},"","",{"$f":"IF(V5289=\"\",\"\",COUNTIF($V$7:V5289,\"該当３\"))","v":""}]
[{"$nulls":10},"","",{"$f":"IF(K5290=\"\",\"\",COUNTIF($K$7:K5290,\"ﾘｽﾄ１\"))","v":""},"","","","","","","",{"$f":"IF(S5290=\"\",\"\",COUNTIF($S$7:S5290,\"該当２\"))","v":""},"","",{"$f":"IF(V5290=\"\",\"\",COUNTIF($V$7:V5290,\"該当３\"))","v":""}]
[{"$nulls":10},"","",{"$f":"IF(K5291=\"\",\"\",COUNTIF($K$7:K5291,\"ﾘｽﾄ１\"))","v":""},"","","","","","","",{"$f":"IF(S5291=\"\",\"\",COUNTIF($S$7:S5291,\"該当２\"))","v":""},"","",{"$f":"IF(V5291=\"\",\"\",COUNTIF($V$7:V5291,\"該当３\"))","v":""}]
[{"$nulls":10},"","",{"$f":"IF(K5292=\"\",\"\",COUNTIF($K$7:K5292,\"ﾘｽﾄ１\"))","v":""},"","","","","","","",{"$f":"IF(S5292=\"\",\"\",COUNTIF($S$7:S5292,\"該当２\"))","v":""},"","",{"$f":"IF(V5292=\"\",\"\",COUNTIF($V$7:V5292,\"該当３\"))","v":""}]
[{"$nulls":10},"","",{"$f":"IF(K5293=\"\",\"\",COUNTIF($K$7:K5293,\"ﾘｽﾄ１\"))","v":""},"","","","","","","",{"$f":"IF(S5293=\"\",\"\",COUNTIF($S$7:S5293,\"該当２\"))","v":""},"","",{"$f":"IF(V5293=\"\",\"\",COUNTIF($V$7:V5293,\"該当３\"))","v":""}]
[{"$nulls":10},"","",{"$f":"IF(K5294=\"\",\"\",COUNTIF($K$7:K5294,\"ﾘｽﾄ１\"))","v":""},"","","","","","","",{"$f":"IF(S5294=\"\",\"\",COUNTIF($S$7:S5294,\"該当２\"))","v":""},"","",{"$f":"IF(V5294=\"\",\"\",COUNTIF($V$7:V5294,\"該当３\"))","v":""}]
[{"$nulls":10},"","",{"$f":"IF(K5295=\"\",\"\",COUNTIF($K$7:K5295,\"ﾘｽﾄ１\"))","v":""},"","","","","","","",{"$f":"IF(S5295=\"\",\"\",COUNTIF($S$7:S5295,\"該当２\"))","v":""},"","",{"$f":"IF(V5295=\"\",\"\",COUNTIF($V$7:V5295,\"該当３\"))","v":""}]
[{"$nulls":10},"","",{"$f":"IF(K5296=\"\",\"\",COUNTIF($K$7:K5296,\"ﾘｽﾄ１\"))","v":""},"","","","","","","",{"$f":"IF(S5296=\"\",\"\",COUNTIF($S$7:S5296,\"該当２\"))","v":""},"","",{"$f":"IF(V5296=\"\",\"\",COUNTIF($V$7:V5296,\"該当３\"))","v":""}]
[{"$nulls":10},"","",{"$f":"IF(K5297=\"\",\"\",COUNTIF($K$7:K5297,\"ﾘｽﾄ１\"))","v":""},"","","","","","","",{"$f":"IF(S5297=\"\",\"\",COUNTIF($S$7:S5297,\"該当２\"))","v":""},"","",{"$f":"IF(V5297=\"\",\"\",COUNTIF($V$7:V5297,\"該当３\"))","v":""}]
[{"$nulls":10},"","",{"$f":"IF(K5298=\"\",\"\",COUNTIF($K$7:K5298,\"ﾘｽﾄ１\"))","v":""},"","","","","","","",{"$f":"IF(S5298=\"\",\"\",COUNTIF($S$7:S5298,\"該当２\"))","v":""},"","",{"$f":"IF(V5298=\"\",\"\",COUNTIF($V$7:V5298,\"該当３\"))","v":""}]
[{"$nulls":10},"","",{"$f":"IF(K5299=\"\",\"\",COUNTIF($K$7:K5299,\"ﾘｽﾄ１\"))","v":""},"","","","","","","",{"$f":"IF(S5299=\"\",\"\",COUNTIF($S$7:S5299,\"該当２\"))","v":""},"","",{"$f":"IF(V5299=\"\",\"\",COUNTIF($V$7:V5299,\"該当３\"))","v":""}]
[{"$nulls":10},"","",{"$f":"IF(K5300=\"\",\"\",COUNTIF($K$7:K5300,\"ﾘｽﾄ１\"))","v":""},"","","","","","","",{"$f":"IF(S5300=\"\",\"\",COUNTIF($S$7:S5300,\"該当２\"))","v":""},"","",{"$f":"IF(V5300=\"\",\"\",COUNTIF($V$7:V5300,\"該当３\"))","v":""}]
[{"$nulls":10},"","",{"$f":"IF(K5301=\"\",\"\",COUNTIF($K$7:K5301,\"ﾘｽﾄ１\"))","v":""},"","","","","","","",{"$f":"IF(S5301=\"\",\"\",COUNTIF($S$7:S5301,\"該当２\"))","v":""},"","",{"$f":"IF(V5301=\"\",\"\",COUNTIF($V$7:V5301,\"該当３\"))","v":""}]
[{"$nulls":10},"","",{"$f":"IF(K5302=\"\",\"\",COUNTIF($K$7:K5302,\"ﾘｽﾄ１\"))","v":""},"","","","","","","",{"$f":"IF(S5302=\"\",\"\",COUNTIF($S$7:S5302,\"該当２\"))","v":""},"","",{"$f":"IF(V5302=\"\",\"\",COUNTIF($V$7:V5302,\"該当３\"))","v":""}]
[{"$nulls":10},"",{"$f":"IF(K5303=\"ﾘｽﾄ１\",G5303,\"\")","v":""},{"$f":"IF(K5303=\"\",\"\",COUNTIF($K$7:K5303,\"ﾘｽﾄ１\"))","v":""},{"$f":"IF(AND(D5303=0,E5303>0),\"同一区\",\"\")","v":""},{"$f":"IF(AND(EXACT($K$2,G5303),H5303>0),\"該当１\",\"\")","v":""},{"$f":"IF(O5303=\"該当１\",G5303,\"\")","v":""},{"$f":"IF(O5303=\"該当１\",\"ﾘｽﾄ2\",\"\")","v":""},{"$f":"IF(Q5303=\"ﾘｽﾄ2\",H5303,\"\")","v":""},{"$f":"IF(AND(Q5303=\"ﾘｽﾄ2\",OR(I5303=0,AND(N5303=\"同一区\",E5303=1))),\"該当２\",\"\")","v":""},{"$f":"IF(S5303=\"該当２\",H5303,\"\")","v":""},{"$f":"IF(S5303=\"\",\"\",COUNTIF($S$7:S5303,\"該当２\"))","v":""},{"$f":"IF(AND($S$2=H5303,E5303>0,E5303<998),\"該当３\",\"\")","v":""},{"$f":"IF(V5303=\"該当３\",I5303,\"\")","v":""},{"$f":"IF(V5303=\"\",\"\",COUNTIF($V$7:V5303,\"該当３\"))","v":""}]
[{"$nulls":10},"","",{"$f":"IF(K5304=\"\",\"\",COUNTIF($K$7:K5304,\"ﾘｽﾄ１\"))","v":""},"","","","","","","",{"$f":"IF(S5304=\"\",\"\",COUNTIF($S$7:S5304,\"該当２\"))","v":""},"","",{"$f":"IF(V5304=\"\",\"\",COUNTIF($V$7:V5304,\"該当３\"))","v":""}]
[{"$nulls":10},"","",{"$f":"IF(K5305=\"\",\"\",COUNTIF($K$7:K5305,\"ﾘｽﾄ１\"))","v":""},"","","","","","","",{"$f":"IF(S5305=\"\",\"\",COUNTIF($S$7:S5305,\"該当２\"))","v":""},"","",{"$f":"IF(V5305=\"\",\"\",COUNTIF($V$7:V5305,\"該当３\"))","v":""}]
[{"$nulls":10},"","",{"$f":"IF(K5306=\"\",\"\",COUNTIF($K$7:K5306,\"ﾘｽﾄ１\"))","v":""},"","","","","","","",{"$f":"IF(S5306=\"\",\"\",COUNTIF($S$7:S5306,\"該当２\"))","v":""},"","",{"$f":"IF(V5306=\"\",\"\",COUNTIF($V$7:V5306,\"該当３\"))","v":""}]
[{"$nulls":10},"","",{"$f":"IF(K5307=\"\",\"\",COUNTIF($K$7:K5307,\"ﾘｽﾄ１\"))","v":""},"","","","","","","",{"$f":"IF(S5307=\"\",\"\",COUNTIF($S$7:S5307,\"該当２\"))","v":""},"","",{"$f":"IF(V5307=\"\",\"\",COUNTIF($V$7:V5307,\"該当３\"))","v":""}]
[{"$nulls":10},"","",{"$f":"IF(K5308=\"\",\"\",COUNTIF($K$7:K5308,\"ﾘｽﾄ１\"))","v":""},"","","","","","","",{"$f":"IF(S5308=\"\",\"\",COUNTIF($S$7:S5308,\"該当２\"))","v":""},"","",{"$f":"IF(V5308=\"\",\"\",COUNTIF($V$7:V5308,\"該当３\"))","v":""}]
[{"$nulls":10},"","",{"$f":"IF(K5309=\"\",\"\",COUNTIF($K$7:K5309,\"ﾘｽﾄ１\"))","v":""},"","","","","","","",{"$f":"IF(S5309=\"\",\"\",COUNTIF($S$7:S5309,\"該当２\"))","v":""},"","",{"$f":"IF(V5309=\"\",\"\",COUNTIF($V$7:V5309,\"該当３\"))","v":""}]
[{"$nulls":10},"","",{"$f":"IF(K5310=\"\",\"\",COUNTIF($K$7:K5310,\"ﾘｽﾄ１\"))","v":""},"","","","","","","",{"$f":"IF(S5310=\"\",\"\",COUNTIF($S$7:S5310,\"該当２\"))","v":""},"","",{"$f":"IF(V5310=\"\",\"\",COUNTIF($V$7:V5310,\"該当３\"))","v":""}]
[{"$nulls":10},"","",{"$f":"IF(K5311=\"\",\"\",COUNTIF($K$7:K5311,\"ﾘｽﾄ１\"))","v":""},"","","","","","","",{"$f":"IF(S5311=\"\",\"\",COUNTIF($S$7:S5311,\"該当２\"))","v":""},"","",{"$f":"IF(V5311=\"\",\"\",COUNTIF($V$7:V5311,\"該当３\"))","v":""}]
[{"$nulls":10},"","",{"$f":"IF(K5312=\"\",\"\",COUNTIF($K$7:K5312,\"ﾘｽﾄ１\"))","v":""},"","","","","","","",{"$f":"IF(S5312=\"\",\"\",COUNTIF($S$7:S5312,\"該当２\"))","v":""},"","",{"$f":"IF(V5312=\"\",\"\",COUNTIF($V$7:V5312,\"該当３\"))","v":""}]
[{"$nulls":10},"","",{"$f":"IF(K5313=\"\",\"\",COUNTIF($K$7:K5313,\"ﾘｽﾄ１\"))","v":""},"","","","","","","",{"$f":"IF(S5313=\"\",\"\",COUNTIF($S$7:S5313,\"該当２\"))","v":""},"","",{"$f":"IF(V5313=\"\",\"\",COUNTIF($V$7:V5313,\"該当３\"))","v":""}]
[{"$nulls":10},"","",{"$f":"IF(K5314=\"\",\"\",COUNTIF($K$7:K5314,\"ﾘｽﾄ１\"))","v":""},"","","","","","","",{"$f":"IF(S5314=\"\",\"\",COUNTIF($S$7:S5314,\"該当２\"))","v":""},"","",{"$f":"IF(V5314=\"\",\"\",COUNTIF($V$7:V5314,\"該当３\"))","v":""}]
[{"$nulls":10},"","",{"$f":"IF(K5315=\"\",\"\",COUNTIF($K$7:K5315,\"ﾘｽﾄ１\"))","v":""},"","","","","","","",{"$f":"IF(S5315=\"\",\"\",COUNTIF($S$7:S5315,\"該当２\"))","v":""},"","",{"$f":"IF(V5315=\"\",\"\",COUNTIF($V$7:V5315,\"該当３\"))","v":""}]
[{"$nulls":10},"","",{"$f":"IF(K5316=\"\",\"\",COUNTIF($K$7:K5316,\"ﾘｽﾄ１\"))","v":""},"","","","","","","",{"$f":"IF(S5316=\"\",\"\",COUNTIF($S$7:S5316,\"該当２\"))","v":""},"","",{"$f":"IF(V5316=\"\",\"\",COUNTIF($V$7:V5316,\"該当３\"))","v":""}]
[{"$nulls":10},"","",{"$f":"IF(K5317=\"\",\"\",COUNTIF($K$7:K5317,\"ﾘｽﾄ１\"))","v":""},"","","","","","","",{"$f":"IF(S5317=\"\",\"\",COUNTIF($S$7:S5317,\"該当２\"))","v":""},"","",{"$f":"IF(V5317=\"\",\"\",COUNTIF($V$7:V5317,\"該当３\"))","v":""}]
[{"$nulls":10},"","",{"$f":"IF(K5318=\"\",\"\",COUNTIF($K$7:K5318,\"ﾘｽﾄ１\"))","v":""},"","","","","","","",{"$f":"IF(S5318=\"\",\"\",COUNTIF($S$7:S5318,\"該当２\"))","v":""},"","",{"$f":"IF(V5318=\"\",\"\",COUNTIF($V$7:V5318,\"該当３\"))","v":""}]
[{"$nulls":10},"","",{"$f":"IF(K5319=\"\",\"\",COUNTIF($K$7:K5319,\"ﾘｽﾄ１\"))","v":""},"","","","","","","",{"$f":"IF(S5319=\"\",\"\",COUNTIF($S$7:S5319,\"該当２\"))","v":""},"","",{"$f":"IF(V5319=\"\",\"\",COUNTIF($V$7:V5319,\"該当３\"))","v":""}]
[{"$nulls":10},"","",{"$f":"IF(K5320=\"\",\"\",COUNTIF($K$7:K5320,\"ﾘｽﾄ１\"))","v":""},"","","","","","","",{"$f":"IF(S5320=\"\",\"\",COUNTIF($S$7:S5320,\"該当２\"))","v":""},"","",{"$f":"IF(V5320=\"\",\"\",COUNTIF($V$7:V5320,\"該当３\"))","v":""}]
[{"$nulls":10},"","",{"$f":"IF(K5321=\"\",\"\",COUNTIF($K$7:K5321,\"ﾘｽﾄ１\"))","v":""},"","","","","","","",{"$f":"IF(S5321=\"\",\"\",COUNTIF($S$7:S5321,\"該当２\"))","v":""},"","",{"$f":"IF(V5321=\"\",\"\",COUNTIF($V$7:V5321,\"該当３\"))","v":""}]
[{"$nulls":10},"","",{"$f":"IF(K5322=\"\",\"\",COUNTIF($K$7:K5322,\"ﾘｽﾄ１\"))","v":""},"","","","","","","",{"$f":"IF(S5322=\"\",\"\",COUNTIF($S$7:S5322,\"該当２\"))","v":""},"","",{"$f":"IF(V5322=\"\",\"\",COUNTIF($V$7:V5322,\"該当３\"))","v":""}]
[{"$nulls":10},{"$f":"IF(AND($C5323>0,$H5323=\"\"),\"ﾘｽﾄ１\",\"\")","v":""},"",{"$f":"IF(K5323=\"\",\"\",COUNTIF($K$7:K5323,\"ﾘｽﾄ１\"))","v":""},"","","","","","","",{"$f":"IF(S5323=\"\",\"\",COUNTIF($S$7:S5323,\"該当２\"))","v":""},"","",{"$f":"IF(V5323=\"\",\"\",COUNTIF($V$7:V5323,\"該当３\"))","v":""}]
[{"$nulls":10},"","",{"$f":"IF(K5324=\"\",\"\",COUNTIF($K$7:K5324,\"ﾘｽﾄ１\"))","v":""},"","","","","","","",{"$f":"IF(S5324=\"\",\"\",COUNTIF($S$7:S5324,\"該当２\"))","v":""},"","",{"$f":"IF(V5324=\"\",\"\",COUNTIF($V$7:V5324,\"該当３\"))","v":""}]
[{"$nulls":10},"","",{"$f":"IF(K5325=\"\",\"\",COUNTIF($K$7:K5325,\"ﾘｽﾄ１\"))","v":""},"","","","","","","",{"$f":"IF(S5325=\"\",\"\",COUNTIF($S$7:S5325,\"該当２\"))","v":""},"","",{"$f":"IF(V5325=\"\",\"\",COUNTIF($V$7:V5325,\"該当３\"))","v":""}]
[{"$nulls":10},"","",{"$f":"IF(K5326=\"\",\"\",COUNTIF($K$7:K5326,\"ﾘｽﾄ１\"))","v":""},"","","","","","","",{"$f":"IF(S5326=\"\",\"\",COUNTIF($S$7:S5326,\"該当２\"))","v":""},"","",{"$f":"IF(V5326=\"\",\"\",COUNTIF($V$7:V5326,\"該当３\"))","v":""}]
[{"$nulls":10},"","",{"$f":"IF(K5327=\"\",\"\",COUNTIF($K$7:K5327,\"ﾘｽﾄ１\"))","v":""},"","","","","","","",{"$f":"IF(S5327=\"\",\"\",COUNTIF($S$7:S5327,\"該当２\"))","v":""},"","",{"$f":"IF(V5327=\"\",\"\",COUNTIF($V$7:V5327,\"該当３\"))","v":""}]
[{"$nulls":10},"","",{"$f":"IF(K5328=\"\",\"\",COUNTIF($K$7:K5328,\"ﾘｽﾄ１\"))","v":""},"","","","","","","",{"$f":"IF(S5328=\"\",\"\",COUNTIF($S$7:S5328,\"該当２\"))","v":""},"","",{"$f":"IF(V5328=\"\",\"\",COUNTIF($V$7:V5328,\"該当３\"))","v":""}]
[{"$nulls":10},"","",{"$f":"IF(K5329=\"\",\"\",COUNTIF($K$7:K5329,\"ﾘｽﾄ１\"))","v":""},"","","","","","","",{"$f":"IF(S5329=\"\",\"\",COUNTIF($S$7:S5329,\"該当２\"))","v":""},"","",{"$f":"IF(V5329=\"\",\"\",COUNTIF($V$7:V5329,\"該当３\"))","v":""}]
[{"$nulls":10},"","",{"$f":"IF(K5330=\"\",\"\",COUNTIF($K$7:K5330,\"ﾘｽﾄ１\"))","v":""},"","","","","","","",{"$f":"IF(S5330=\"\",\"\",COUNTIF($S$7:S5330,\"該当２\"))","v":""},"","",{"$f":"IF(V5330=\"\",\"\",COUNTIF($V$7:V5330,\"該当３\"))","v":""}]
[{"$nulls":10},"","",{"$f":"IF(K5331=\"\",\"\",COUNTIF($K$7:K5331,\"ﾘｽﾄ１\"))","v":""},"","","","","","","",{"$f":"IF(S5331=\"\",\"\",COUNTIF($S$7:S5331,\"該当２\"))","v":""},"","",{"$f":"IF(V5331=\"\",\"\",COUNTIF($V$7:V5331,\"該当３\"))","v":""}]
[{"$nulls":10},"","",{"$f":"IF(K5332=\"\",\"\",COUNTIF($K$7:K5332,\"ﾘｽﾄ１\"))","v":""},"","","","","","","",{"$f":"IF(S5332=\"\",\"\",COUNTIF($S$7:S5332,\"該当２\"))","v":""},"","",{"$f":"IF(V5332=\"\",\"\",COUNTIF($V$7:V5332,\"該当３\"))","v":""}]
[{"$nulls":10},"","",{"$f":"IF(K5333=\"\",\"\",COUNTIF($K$7:K5333,\"ﾘｽﾄ１\"))","v":""},"","","","","","","",{"$f":"IF(S5333=\"\",\"\",COUNTIF($S$7:S5333,\"該当２\"))","v":""},"","",{"$f":"IF(V5333=\"\",\"\",COUNTIF($V$7:V5333,\"該当３\"))","v":""}]
[{"$nulls":10},"","",{"$f":"IF(K5334=\"\",\"\",COUNTIF($K$7:K5334,\"ﾘｽﾄ１\"))","v":""},"","","","","","","",{"$f":"IF(S5334=\"\",\"\",COUNTIF($S$7:S5334,\"該当２\"))","v":""},"","",{"$f":"IF(V5334=\"\",\"\",COUNTIF($V$7:V5334,\"該当３\"))","v":""}]
[{"$nulls":10},"","",{"$f":"IF(K5335=\"\",\"\",COUNTIF($K$7:K5335,\"ﾘｽﾄ１\"))","v":""},"","","","","","","",{"$f":"IF(S5335=\"\",\"\",COUNTIF($S$7:S5335,\"該当２\"))","v":""},"","",{"$f":"IF(V5335=\"\",\"\",COUNTIF($V$7:V5335,\"該当３\"))","v":""}]
[{"$nulls":10},"","",{"$f":"IF(K5336=\"\",\"\",COUNTIF($K$7:K5336,\"ﾘｽﾄ１\"))","v":""},"","","","","","","",{"$f":"IF(S5336=\"\",\"\",COUNTIF($S$7:S5336,\"該当２\"))","v":""},"","",{"$f":"IF(V5336=\"\",\"\",COUNTIF($V$7:V5336,\"該当３\"))","v":""}]
[{"$nulls":10},"","",{"$f":"IF(K5337=\"\",\"\",COUNTIF($K$7:K5337,\"ﾘｽﾄ１\"))","v":""},"","","","","","","",{"$f":"IF(S5337=\"\",\"\",COUNTIF($S$7:S5337,\"該当２\"))","v":""},"","",{"$f":"IF(V5337=\"\",\"\",COUNTIF($V$7:V5337,\"該当３\"))","v":""}]
[{"$nulls":10},"","",{"$f":"IF(K5338=\"\",\"\",COUNTIF($K$7:K5338,\"ﾘｽﾄ１\"))","v":""},"","","","","","","",{"$f":"IF(S5338=\"\",\"\",COUNTIF($S$7:S5338,\"該当２\"))","v":""},"","",{"$f":"IF(V5338=\"\",\"\",COUNTIF($V$7:V5338,\"該当３\"))","v":""}]
[{"$nulls":10},"","",{"$f":"IF(K5339=\"\",\"\",COUNTIF($K$7:K5339,\"ﾘｽﾄ１\"))","v":""},"","","","","","","",{"$f":"IF(S5339=\"\",\"\",COUNTIF($S$7:S5339,\"該当２\"))","v":""},"","",{"$f":"IF(V5339=\"\",\"\",COUNTIF($V$7:V5339,\"該当３\"))","v":""}]
[{"$nulls":10},"","",{"$f":"IF(K5340=\"\",\"\",COUNTIF($K$7:K5340,\"ﾘｽﾄ１\"))","v":""},"","","","","","","",{"$f":"IF(S5340=\"\",\"\",COUNTIF($S$7:S5340,\"該当２\"))","v":""},"","",{"$f":"IF(V5340=\"\",\"\",COUNTIF($V$7:V5340,\"該当３\"))","v":""}]
[{"$nulls":10},"","",{"$f":"IF(K5341=\"\",\"\",COUNTIF($K$7:K5341,\"ﾘｽﾄ１\"))","v":""},"","","","","","","",{"$f":"IF(S5341=\"\",\"\",COUNTIF($S$7:S5341,\"該当２\"))","v":""},"","",{"$f":"IF(V5341=\"\",\"\",COUNTIF($V$7:V5341,\"該当３\"))","v":""}]
[{"$nulls":10},"","",{"$f":"IF(K5342=\"\",\"\",COUNTIF($K$7:K5342,\"ﾘｽﾄ１\"))","v":""},"","","","","","","",{"$f":"IF(S5342=\"\",\"\",COUNTIF($S$7:S5342,\"該当２\"))","v":""},"","",{"$f":"IF(V5342=\"\",\"\",COUNTIF($V$7:V5342,\"該当３\"))","v":""}]
[{"$nulls":10},"","",{"$f":"IF(K5343=\"\",\"\",COUNTIF($K$7:K5343,\"ﾘｽﾄ１\"))","v":""},"","","","","","","",{"$f":"IF(S5343=\"\",\"\",COUNTIF($S$7:S5343,\"該当２\"))","v":""},"","",{"$f":"IF(V5343=\"\",\"\",COUNTIF($V$7:V5343,\"該当３\"))","v":""}]
[{"$nulls":10},"","",{"$f":"IF(K5344=\"\",\"\",COUNTIF($K$7:K5344,\"ﾘｽﾄ１\"))","v":""},"","","","","","","",{"$f":"IF(S5344=\"\",\"\",COUNTIF($S$7:S5344,\"該当２\"))","v":""},"","",{"$f":"IF(V5344=\"\",\"\",COUNTIF($V$7:V5344,\"該当３\"))","v":""}]
[{"$nulls":10},"","",{"$f":"IF(K5345=\"\",\"\",COUNTIF($K$7:K5345,\"ﾘｽﾄ１\"))","v":""},"","","","","","","",{"$f":"IF(S5345=\"\",\"\",COUNTIF($S$7:S5345,\"該当２\"))","v":""},"","",{"$f":"IF(V5345=\"\",\"\",COUNTIF($V$7:V5345,\"該当３\"))","v":""}]
[{"$nulls":10},"","",{"$f":"IF(K5346=\"\",\"\",COUNTIF($K$7:K5346,\"ﾘｽﾄ１\"))","v":""},"","","","","","","",{"$f":"IF(S5346=\"\",\"\",COUNTIF($S$7:S5346,\"該当２\"))","v":""},"","",{"$f":"IF(V5346=\"\",\"\",COUNTIF($V$7:V5346,\"該当３\"))","v":""}]
[{"$nulls":10},"","",{"$f":"IF(K5347=\"\",\"\",COUNTIF($K$7:K5347,\"ﾘｽﾄ１\"))","v":""},"","","","","","","",{"$f":"IF(S5347=\"\",\"\",COUNTIF($S$7:S5347,\"該当２\"))","v":""},"","",{"$f":"IF(V5347=\"\",\"\",COUNTIF($V$7:V5347,\"該当３\"))","v":""}]
[{"$nulls":10},"","",{"$f":"IF(K5348=\"\",\"\",COUNTIF($K$7:K5348,\"ﾘｽﾄ１\"))","v":""},"","","","","","","",{"$f":"IF(S5348=\"\",\"\",COUNTIF($S$7:S5348,\"該当２\"))","v":""},"","",{"$f":"IF(V5348=\"\",\"\",COUNTIF($V$7:V5348,\"該当３\"))","v":""}]
[{"$nulls":10},"","",{"$f":"IF(K5349=\"\",\"\",COUNTIF($K$7:K5349,\"ﾘｽﾄ１\"))","v":""},"","","","","","","",{"$f":"IF(S5349=\"\",\"\",COUNTIF($S$7:S5349,\"該当２\"))","v":""},"","",{"$f":"IF(V5349=\"\",\"\",COUNTIF($V$7:V5349,\"該当３\"))","v":""}]
[{"$nulls":10},"","",{"$f":"IF(K5350=\"\",\"\",COUNTIF($K$7:K5350,\"ﾘｽﾄ１\"))","v":""},"","","","","","","",{"$f":"IF(S5350=\"\",\"\",COUNTIF($S$7:S5350,\"該当２\"))","v":""},"","",{"$f":"IF(V5350=\"\",\"\",COUNTIF($V$7:V5350,\"該当３\"))","v":""}]
[{"$nulls":10},"","",{"$f":"IF(K5351=\"\",\"\",COUNTIF($K$7:K5351,\"ﾘｽﾄ１\"))","v":""},"","","","","","","",{"$f":"IF(S5351=\"\",\"\",COUNTIF($S$7:S5351,\"該当２\"))","v":""},"","",{"$f":"IF(V5351=\"\",\"\",COUNTIF($V$7:V5351,\"該当３\"))","v":""}]
[{"$nulls":10},"","",{"$f":"IF(K5352=\"\",\"\",COUNTIF($K$7:K5352,\"ﾘｽﾄ１\"))","v":""},"","","","","","","",{"$f":"IF(S5352=\"\",\"\",COUNTIF($S$7:S5352,\"該当２\"))","v":""},"","",{"$f":"IF(V5352=\"\",\"\",COUNTIF($V$7:V5352,\"該当３\"))","v":""}]
[{"$nulls":10},"","",{"$f":"IF(K5353=\"\",\"\",COUNTIF($K$7:K5353,\"ﾘｽﾄ１\"))","v":""},"","","","","","","",{"$f":"IF(S5353=\"\",\"\",COUNTIF($S$7:S5353,\"該当２\"))","v":""},"","",{"$f":"IF(V5353=\"\",\"\",COUNTIF($V$7:V5353,\"該当３\"))","v":""}]
[{"$nulls":10},"","",{"$f":"IF(K5354=\"\",\"\",COUNTIF($K$7:K5354,\"ﾘｽﾄ１\"))","v":""},"","","","","","","",{"$f":"IF(S5354=\"\",\"\",COUNTIF($S$7:S5354,\"該当２\"))","v":""},"","",{"$f":"IF(V5354=\"\",\"\",COUNTIF($V$7:V5354,\"該当３\"))","v":""}]
[{"$nulls":10},"","",{"$f":"IF(K5355=\"\",\"\",COUNTIF($K$7:K5355,\"ﾘｽﾄ１\"))","v":""},"","","","","","","",{"$f":"IF(S5355=\"\",\"\",COUNTIF($S$7:S5355,\"該当２\"))","v":""},"","",{"$f":"IF(V5355=\"\",\"\",COUNTIF($V$7:V5355,\"該当３\"))","v":""}]
[{"$nulls":10},"","",{"$f":"IF(K5356=\"\",\"\",COUNTIF($K$7:K5356,\"ﾘｽﾄ１\"))","v":""},"","","","","","","",{"$f":"IF(S5356=\"\",\"\",COUNTIF($S$7:S5356,\"該当２\"))","v":""},"","",{"$f":"IF(V5356=\"\",\"\",COUNTIF($V$7:V5356,\"該当３\"))","v":""}]
[{"$nulls":10},"","",{"$f":"IF(K5357=\"\",\"\",COUNTIF($K$7:K5357,\"ﾘｽﾄ１\"))","v":""},"","","","","","","",{"$f":"IF(S5357=\"\",\"\",COUNTIF($S$7:S5357,\"該当２\"))","v":""},"","",{"$f":"IF(V5357=\"\",\"\",COUNTIF($V$7:V5357,\"該当３\"))","v":""}]
[{"$nulls":10},"","",{"$f":"IF(K5358=\"\",\"\",COUNTIF($K$7:K5358,\"ﾘｽﾄ１\"))","v":""},"","","","","","","",{"$f":"IF(S5358=\"\",\"\",COUNTIF($S$7:S5358,\"該当２\"))","v":""},"","",{"$f":"IF(V5358=\"\",\"\",COUNTIF($V$7:V5358,\"該当３\"))","v":""}]
[{"$nulls":10},"","",{"$f":"IF(K5359=\"\",\"\",COUNTIF($K$7:K5359,\"ﾘｽﾄ１\"))","v":""},"","","","","","","",{"$f":"IF(S5359=\"\",\"\",COUNTIF($S$7:S5359,\"該当２\"))","v":""},"","",{"$f":"IF(V5359=\"\",\"\",COUNTIF($V$7:V5359,\"該当３\"))","v":""}]
[{"$nulls":10},"","",{"$f":"IF(K5360=\"\",\"\",COUNTIF($K$7:K5360,\"ﾘｽﾄ１\"))","v":""},"","","","","","","",{"$f":"IF(S5360=\"\",\"\",COUNTIF($S$7:S5360,\"該当２\"))","v":""},"","",{"$f":"IF(V5360=\"\",\"\",COUNTIF($V$7:V5360,\"該当３\"))","v":""}]
[{"$nulls":10},"","",{"$f":"IF(K5361=\"\",\"\",COUNTIF($K$7:K5361,\"ﾘｽﾄ１\"))","v":""},"","","","","","","",{"$f":"IF(S5361=\"\",\"\",COUNTIF($S$7:S5361,\"該当２\"))","v":""},"","",{"$f":"IF(V5361=\"\",\"\",COUNTIF($V$7:V5361,\"該当３\"))","v":""}]
[{"$nulls":10},"","",{"$f":"IF(K5362=\"\",\"\",COUNTIF($K$7:K5362,\"ﾘｽﾄ１\"))","v":""},"","","","","","","",{"$f":"IF(S5362=\"\",\"\",COUNTIF($S$7:S5362,\"該当２\"))","v":""},"","",{"$f":"IF(V5362=\"\",\"\",COUNTIF($V$7:V5362,\"該当３\"))","v":""}]
[{"$nulls":10},"","",{"$f":"IF(K5363=\"\",\"\",COUNTIF($K$7:K5363,\"ﾘｽﾄ１\"))","v":""},"","","","","","","",{"$f":"IF(S5363=\"\",\"\",COUNTIF($S$7:S5363,\"該当２\"))","v":""},"","",{"$f":"IF(V5363=\"\",\"\",COUNTIF($V$7:V5363,\"該当３\"))","v":""}]
[{"$nulls":10},"","",{"$f":"IF(K5364=\"\",\"\",COUNTIF($K$7:K5364,\"ﾘｽﾄ１\"))","v":""},"","","","","","","",{"$f":"IF(S5364=\"\",\"\",COUNTIF($S$7:S5364,\"該当２\"))","v":""},"","",{"$f":"IF(V5364=\"\",\"\",COUNTIF($V$7:V5364,\"該当３\"))","v":""}]
[{"$nulls":10},"","",{"$f":"IF(K5365=\"\",\"\",COUNTIF($K$7:K5365,\"ﾘｽﾄ１\"))","v":""},"","","","","","","",{"$f":"IF(S5365=\"\",\"\",COUNTIF($S$7:S5365,\"該当２\"))","v":""},"","",{"$f":"IF(V5365=\"\",\"\",COUNTIF($V$7:V5365,\"該当３\"))","v":""}]
[{"$nulls":10},"","",{"$f":"IF(K5366=\"\",\"\",COUNTIF($K$7:K5366,\"ﾘｽﾄ１\"))","v":""},"","","","","","","",{"$f":"IF(S5366=\"\",\"\",COUNTIF($S$7:S5366,\"該当２\"))","v":""},"","",{"$f":"IF(V5366=\"\",\"\",COUNTIF($V$7:V5366,\"該当３\"))","v":""}]
[{"$nulls":10},"",{"$f":"IF(K5367=\"ﾘｽﾄ１\",G5367,\"\")","v":""},{"$f":"IF(K5367=\"\",\"\",COUNTIF($K$7:K5367,\"ﾘｽﾄ１\"))","v":""},{"$f":"IF(AND(D5367=0,E5367>0),\"同一区\",\"\")","v":""},{"$f":"IF(AND(EXACT($K$2,G5367),H5367>0),\"該当１\",\"\")","v":""},{"$f":"IF(O5367=\"該当１\",G5367,\"\")","v":""},{"$f":"IF(O5367=\"該当１\",\"ﾘｽﾄ2\",\"\")","v":""},{"$f":"IF(Q5367=\"ﾘｽﾄ2\",H5367,\"\")","v":""},{"$f":"IF(AND(Q5367=\"ﾘｽﾄ2\",OR(I5367=0,AND(N5367=\"同一区\",E5367=1))),\"該当２\",\"\")","v":""},{"$f":"IF(S5367=\"該当２\",H5367,\"\")","v":""},{"$f":"IF(S5367=\"\",\"\",COUNTIF($S$7:S5367,\"該当２\"))","v":""},{"$f":"IF(AND($S$2=H5367,E5367>0,E5367<998),\"該当３\",\"\")","v":""},{"$f":"IF(V5367=\"該当３\",I5367,\"\")","v":""},{"$f":"IF(V5367=\"\",\"\",COUNTIF($V$7:V5367,\"該当３\"))","v":""}]
[{"$nulls":10},"","",{"$f":"IF(K5368=\"\",\"\",COUNTIF($K$7:K5368,\"ﾘｽﾄ１\"))","v":""},"","","","","","","",{"$f":"IF(S5368=\"\",\"\",COUNTIF($S$7:S5368,\"該当２\"))","v":""},"","",{"$f":"IF(V5368=\"\",\"\",COUNTIF($V$7:V5368,\"該当３\"))","v":""}]
[{"$nulls":10},"","",{"$f":"IF(K5369=\"\",\"\",COUNTIF($K$7:K5369,\"ﾘｽﾄ１\"))","v":""},"","","","","","","",{"$f":"IF(S5369=\"\",\"\",COUNTIF($S$7:S5369,\"該当２\"))","v":""},"","",{"$f":"IF(V5369=\"\",\"\",COUNTIF($V$7:V5369,\"該当３\"))","v":""}]
[{"$nulls":10},"","",{"$f":"IF(K5370=\"\",\"\",COUNTIF($K$7:K5370,\"ﾘｽﾄ１\"))","v":""},"","","","","","","",{"$f":"IF(S5370=\"\",\"\",COUNTIF($S$7:S5370,\"該当２\"))","v":""},"","",{"$f":"IF(V5370=\"\",\"\",COUNTIF($V$7:V5370,\"該当３\"))","v":""}]
[{"$nulls":10},"","",{"$f":"IF(K5371=\"\",\"\",COUNTIF($K$7:K5371,\"ﾘｽﾄ１\"))","v":""},"","","","","","","",{"$f":"IF(S5371=\"\",\"\",COUNTIF($S$7:S5371,\"該当２\"))","v":""},"","",{"$f":"IF(V5371=\"\",\"\",COUNTIF($V$7:V5371,\"該当３\"))","v":""}]
[{"$nulls":10},"","",{"$f":"IF(K5372=\"\",\"\",COUNTIF($K$7:K5372,\"ﾘｽﾄ１\"))","v":""},"","","","","","","",{"$f":"IF(S5372=\"\",\"\",COUNTIF($S$7:S5372,\"該当２\"))","v":""},"","",{"$f":"IF(V5372=\"\",\"\",COUNTIF($V$7:V5372,\"該当３\"))","v":""}]
[{"$nulls":10},"","",{"$f":"IF(K5373=\"\",\"\",COUNTIF($K$7:K5373,\"ﾘｽﾄ１\"))","v":""},"","","","","","","",{"$f":"IF(S5373=\"\",\"\",COUNTIF($S$7:S5373,\"該当２\"))","v":""},"","",{"$f":"IF(V5373=\"\",\"\",COUNTIF($V$7:V5373,\"該当３\"))","v":""}]
[{"$nulls":10},"","",{"$f":"IF(K5374=\"\",\"\",COUNTIF($K$7:K5374,\"ﾘｽﾄ１\"))","v":""},"","","","","","","",{"$f":"IF(S5374=\"\",\"\",COUNTIF($S$7:S5374,\"該当２\"))","v":""},"","",{"$f":"IF(V5374=\"\",\"\",COUNTIF($V$7:V5374,\"該当３\"))","v":""}]
[{"$nulls":10},"","",{"$f":"IF(K5375=\"\",\"\",COUNTIF($K$7:K5375,\"ﾘｽﾄ１\"))","v":""},"","","","","","","",{"$f":"IF(S5375=\"\",\"\",COUNTIF($S$7:S5375,\"該当２\"))","v":""},"","",{"$f":"IF(V5375=\"\",\"\",COUNTIF($V$7:V5375,\"該当３\"))","v":""}]
[{"$nulls":10},"","",{"$f":"IF(K5376=\"\",\"\",COUNTIF($K$7:K5376,\"ﾘｽﾄ１\"))","v":""},"","","","","","","",{"$f":"IF(S5376=\"\",\"\",COUNTIF($S$7:S5376,\"該当２\"))","v":""},"","",{"$f":"IF(V5376=\"\",\"\",COUNTIF($V$7:V5376,\"該当３\"))","v":""}]
[{"$nulls":10},"","",{"$f":"IF(K5377=\"\",\"\",COUNTIF($K$7:K5377,\"ﾘｽﾄ１\"))","v":""},"","","","","","","",{"$f":"IF(S5377=\"\",\"\",COUNTIF($S$7:S5377,\"該当２\"))","v":""},"","",{"$f":"IF(V5377=\"\",\"\",COUNTIF($V$7:V5377,\"該当３\"))","v":""}]
[{"$nulls":10},"","",{"$f":"IF(K5378=\"\",\"\",COUNTIF($K$7:K5378,\"ﾘｽﾄ１\"))","v":""},"","","","","","","",{"$f":"IF(S5378=\"\",\"\",COUNTIF($S$7:S5378,\"該当２\"))","v":""},"","",{"$f":"IF(V5378=\"\",\"\",COUNTIF($V$7:V5378,\"該当３\"))","v":""}]
[{"$nulls":10},"","",{"$f":"IF(K5379=\"\",\"\",COUNTIF($K$7:K5379,\"ﾘｽﾄ１\"))","v":""},"","","","","","","",{"$f":"IF(S5379=\"\",\"\",COUNTIF($S$7:S5379,\"該当２\"))","v":""},"","",{"$f":"IF(V5379=\"\",\"\",COUNTIF($V$7:V5379,\"該当３\"))","v":""}]
[{"$nulls":10},"","",{"$f":"IF(K5380=\"\",\"\",COUNTIF($K$7:K5380,\"ﾘｽﾄ１\"))","v":""},"","","","","","","",{"$f":"IF(S5380=\"\",\"\",COUNTIF($S$7:S5380,\"該当２\"))","v":""},"","",{"$f":"IF(V5380=\"\",\"\",COUNTIF($V$7:V5380,\"該当３\"))","v":""}]
[{"$nulls":10},"","",{"$f":"IF(K5381=\"\",\"\",COUNTIF($K$7:K5381,\"ﾘｽﾄ１\"))","v":""},"","","","","","","",{"$f":"IF(S5381=\"\",\"\",COUNTIF($S$7:S5381,\"該当２\"))","v":""},"","",{"$f":"IF(V5381=\"\",\"\",COUNTIF($V$7:V5381,\"該当３\"))","v":""}]
[{"$nulls":10},"","",{"$f":"IF(K5382=\"\",\"\",COUNTIF($K$7:K5382,\"ﾘｽﾄ１\"))","v":""},"","","","","","","",{"$f":"IF(S5382=\"\",\"\",COUNTIF($S$7:S5382,\"該当２\"))","v":""},"","",{"$f":"IF(V5382=\"\",\"\",COUNTIF($V$7:V5382,\"該当３\"))","v":""}]
[{"$nulls":10},"","",{"$f":"IF(K5383=\"\",\"\",COUNTIF($K$7:K5383,\"ﾘｽﾄ１\"))","v":""},"","","","","","","",{"$f":"IF(S5383=\"\",\"\",COUNTIF($S$7:S5383,\"該当２\"))","v":""},"","",{"$f":"IF(V5383=\"\",\"\",COUNTIF($V$7:V5383,\"該当３\"))","v":""}]
[{"$nulls":10},"","",{"$f":"IF(K5384=\"\",\"\",COUNTIF($K$7:K5384,\"ﾘｽﾄ１\"))","v":""},"","","","","","","",{"$f":"IF(S5384=\"\",\"\",COUNTIF($S$7:S5384,\"該当２\"))","v":""},"","",{"$f":"IF(V5384=\"\",\"\",COUNTIF($V$7:V5384,\"該当３\"))","v":""}]
[{"$nulls":10},"","",{"$f":"IF(K5385=\"\",\"\",COUNTIF($K$7:K5385,\"ﾘｽﾄ１\"))","v":""},"","","","","","","",{"$f":"IF(S5385=\"\",\"\",COUNTIF($S$7:S5385,\"該当２\"))","v":""},"","",{"$f":"IF(V5385=\"\",\"\",COUNTIF($V$7:V5385,\"該当３\"))","v":""}]
[{"$nulls":10},"","",{"$f":"IF(K5386=\"\",\"\",COUNTIF($K$7:K5386,\"ﾘｽﾄ１\"))","v":""},"","","","","","","",{"$f":"IF(S5386=\"\",\"\",COUNTIF($S$7:S5386,\"該当２\"))","v":""},"","",{"$f":"IF(V5386=\"\",\"\",COUNTIF($V$7:V5386,\"該当３\"))","v":""}]
[{"$nulls":10},{"$f":"IF(AND($C5387>0,$H5387=\"\"),\"ﾘｽﾄ１\",\"\")","v":""},"",{"$f":"IF(K5387=\"\",\"\",COUNTIF($K$7:K5387,\"ﾘｽﾄ１\"))","v":""},"","","","","","","",{"$f":"IF(S5387=\"\",\"\",COUNTIF($S$7:S5387,\"該当２\"))","v":""},"","",{"$f":"IF(V5387=\"\",\"\",COUNTIF($V$7:V5387,\"該当３\"))","v":""}]
[{"$nulls":10},"","",{"$f":"IF(K5388=\"\",\"\",COUNTIF($K$7:K5388,\"ﾘｽﾄ１\"))","v":""},"","","","","","","",{"$f":"IF(S5388=\"\",\"\",COUNTIF($S$7:S5388,\"該当２\"))","v":""},"","",{"$f":"IF(V5388=\"\",\"\",COUNTIF($V$7:V5388,\"該当３\"))","v":""}]
[{"$nulls":10},"","",{"$f":"IF(K5389=\"\",\"\",COUNTIF($K$7:K5389,\"ﾘｽﾄ１\"))","v":""},"","","","","","","",{"$f":"IF(S5389=\"\",\"\",COUNTIF($S$7:S5389,\"該当２\"))","v":""},"","",{"$f":"IF(V5389=\"\",\"\",COUNTIF($V$7:V5389,\"該当３\"))","v":""}]
[{"$nulls":10},"","",{"$f":"IF(K5390=\"\",\"\",COUNTIF($K$7:K5390,\"ﾘｽﾄ１\"))","v":""},"","","","","","","",{"$f":"IF(S5390=\"\",\"\",COUNTIF($S$7:S5390,\"該当２\"))","v":""},"","",{"$f":"IF(V5390=\"\",\"\",COUNTIF($V$7:V5390,\"該当３\"))","v":""}]
[{"$nulls":10},"","",{"$f":"IF(K5391=\"\",\"\",COUNTIF($K$7:K5391,\"ﾘｽﾄ１\"))","v":""},"","","","","","","",{"$f":"IF(S5391=\"\",\"\",COUNTIF($S$7:S5391,\"該当２\"))","v":""},"","",{"$f":"IF(V5391=\"\",\"\",COUNTIF($V$7:V5391,\"該当３\"))","v":""}]
[{"$nulls":10},"","",{"$f":"IF(K5392=\"\",\"\",COUNTIF($K$7:K5392,\"ﾘｽﾄ１\"))","v":""},"","","","","","","",{"$f":"IF(S5392=\"\",\"\",COUNTIF($S$7:S5392,\"該当２\"))","v":""},"","",{"$f":"IF(V5392=\"\",\"\",COUNTIF($V$7:V5392,\"該当３\"))","v":""}]
[{"$nulls":10},"","",{"$f":"IF(K5393=\"\",\"\",COUNTIF($K$7:K5393,\"ﾘｽﾄ１\"))","v":""},"","","","","","","",{"$f":"IF(S5393=\"\",\"\",COUNTIF($S$7:S5393,\"該当２\"))","v":""},"","",{"$f":"IF(V5393=\"\",\"\",COUNTIF($V$7:V5393,\"該当３\"))","v":""}]
[{"$nulls":10},"","",{"$f":"IF(K5394=\"\",\"\",COUNTIF($K$7:K5394,\"ﾘｽﾄ１\"))","v":""},"","","","","","","",{"$f":"IF(S5394=\"\",\"\",COUNTIF($S$7:S5394,\"該当２\"))","v":""},"","",{"$f":"IF(V5394=\"\",\"\",COUNTIF($V$7:V5394,\"該当３\"))","v":""}]
[{"$nulls":10},"","",{"$f":"IF(K5395=\"\",\"\",COUNTIF($K$7:K5395,\"ﾘｽﾄ１\"))","v":""},"","","","","","","",{"$f":"IF(S5395=\"\",\"\",COUNTIF($S$7:S5395,\"該当２\"))","v":""},"","",{"$f":"IF(V5395=\"\",\"\",COUNTIF($V$7:V5395,\"該当３\"))","v":""}]
[{"$nulls":10},"","",{"$f":"IF(K5396=\"\",\"\",COUNTIF($K$7:K5396,\"ﾘｽﾄ１\"))","v":""},"","","","","","","",{"$f":"IF(S5396=\"\",\"\",COUNTIF($S$7:S5396,\"該当２\"))","v":""},"","",{"$f":"IF(V5396=\"\",\"\",COUNTIF($V$7:V5396,\"該当３\"))","v":""}]
[{"$nulls":10},"","",{"$f":"IF(K5397=\"\",\"\",COUNTIF($K$7:K5397,\"ﾘｽﾄ１\"))","v":""},"","","","","","","",{"$f":"IF(S5397=\"\",\"\",COUNTIF($S$7:S5397,\"該当２\"))","v":""},"","",{"$f":"IF(V5397=\"\",\"\",COUNTIF($V$7:V5397,\"該当３\"))","v":""}]
[{"$nulls":10},"","",{"$f":"IF(K5398=\"\",\"\",COUNTIF($K$7:K5398,\"ﾘｽﾄ１\"))","v":""},"","","","","","","",{"$f":"IF(S5398=\"\",\"\",COUNTIF($S$7:S5398,\"該当２\"))","v":""},"","",{"$f":"IF(V5398=\"\",\"\",COUNTIF($V$7:V5398,\"該当３\"))","v":""}]
[{"$nulls":10},"","",{"$f":"IF(K5399=\"\",\"\",COUNTIF($K$7:K5399,\"ﾘｽﾄ１\"))","v":""},"","","","","","","",{"$f":"IF(S5399=\"\",\"\",COUNTIF($S$7:S5399,\"該当２\"))","v":""},"","",{"$f":"IF(V5399=\"\",\"\",COUNTIF($V$7:V5399,\"該当３\"))","v":""}]
[{"$nulls":10},"","",{"$f":"IF(K5400=\"\",\"\",COUNTIF($K$7:K5400,\"ﾘｽﾄ１\"))","v":""},"","","","","","","",{"$f":"IF(S5400=\"\",\"\",COUNTIF($S$7:S5400,\"該当２\"))","v":""},"","",{"$f":"IF(V5400=\"\",\"\",COUNTIF($V$7:V5400,\"該当３\"))","v":""}]
[{"$nulls":10},"","",{"$f":"IF(K5401=\"\",\"\",COUNTIF($K$7:K5401,\"ﾘｽﾄ１\"))","v":""},"","","","","","","",{"$f":"IF(S5401=\"\",\"\",COUNTIF($S$7:S5401,\"該当２\"))","v":""},"","",{"$f":"IF(V5401=\"\",\"\",COUNTIF($V$7:V5401,\"該当３\"))","v":""}]
[{"$nulls":10},"","",{"$f":"IF(K5402=\"\",\"\",COUNTIF($K$7:K5402,\"ﾘｽﾄ１\"))","v":""},"","","","","","","",{"$f":"IF(S5402=\"\",\"\",COUNTIF($S$7:S5402,\"該当２\"))","v":""},"","",{"$f":"IF(V5402=\"\",\"\",COUNTIF($V$7:V5402,\"該当３\"))","v":""}]
[{"$nulls":10},"","",{"$f":"IF(K5403=\"\",\"\",COUNTIF($K$7:K5403,\"ﾘｽﾄ１\"))","v":""},"","","","","","","",{"$f":"IF(S5403=\"\",\"\",COUNTIF($S$7:S5403,\"該当２\"))","v":""},"","",{"$f":"IF(V5403=\"\",\"\",COUNTIF($V$7:V5403,\"該当３\"))","v":""}]
[{"$nulls":10},"","",{"$f":"IF(K5404=\"\",\"\",COUNTIF($K$7:K5404,\"ﾘｽﾄ１\"))","v":""},"","","","","","","",{"$f":"IF(S5404=\"\",\"\",COUNTIF($S$7:S5404,\"該当２\"))","v":""},"","",{"$f":"IF(V5404=\"\",\"\",COUNTIF($V$7:V5404,\"該当３\"))","v":""}]
[{"$nulls":10},"","",{"$f":"IF(K5405=\"\",\"\",COUNTIF($K$7:K5405,\"ﾘｽﾄ１\"))","v":""},"","","","","","","",{"$f":"IF(S5405=\"\",\"\",COUNTIF($S$7:S5405,\"該当２\"))","v":""},"","",{"$f":"IF(V5405=\"\",\"\",COUNTIF($V$7:V5405,\"該当３\"))","v":""}]
[{"$nulls":10},"","",{"$f":"IF(K5406=\"\",\"\",COUNTIF($K$7:K5406,\"ﾘｽﾄ１\"))","v":""},"","","","","","","",{"$f":"IF(S5406=\"\",\"\",COUNTIF($S$7:S5406,\"該当２\"))","v":""},"","",{"$f":"IF(V5406=\"\",\"\",COUNTIF($V$7:V5406,\"該当３\"))","v":""}]
[{"$nulls":10},"","",{"$f":"IF(K5407=\"\",\"\",COUNTIF($K$7:K5407,\"ﾘｽﾄ１\"))","v":""},"","","","","","","",{"$f":"IF(S5407=\"\",\"\",COUNTIF($S$7:S5407,\"該当２\"))","v":""},"","",{"$f":"IF(V5407=\"\",\"\",COUNTIF($V$7:V5407,\"該当３\"))","v":""}]
[{"$nulls":10},"","",{"$f":"IF(K5408=\"\",\"\",COUNTIF($K$7:K5408,\"ﾘｽﾄ１\"))","v":""},"","","","","","","",{"$f":"IF(S5408=\"\",\"\",COUNTIF($S$7:S5408,\"該当２\"))","v":""},"","",{"$f":"IF(V5408=\"\",\"\",COUNTIF($V$7:V5408,\"該当３\"))","v":""}]
[{"$nulls":10},"","",{"$f":"IF(K5409=\"\",\"\",COUNTIF($K$7:K5409,\"ﾘｽﾄ１\"))","v":""},"","","","","","","",{"$f":"IF(S5409=\"\",\"\",COUNTIF($S$7:S5409,\"該当２\"))","v":""},"","",{"$f":"IF(V5409=\"\",\"\",COUNTIF($V$7:V5409,\"該当３\"))","v":""}]
[{"$nulls":10},"","",{"$f":"IF(K5410=\"\",\"\",COUNTIF($K$7:K5410,\"ﾘｽﾄ１\"))","v":""},"","","","","","","",{"$f":"IF(S5410=\"\",\"\",COUNTIF($S$7:S5410,\"該当２\"))","v":""},"","",{"$f":"IF(V5410=\"\",\"\",COUNTIF($V$7:V5410,\"該当３\"))","v":""}]
[{"$nulls":10},"","",{"$f":"IF(K5411=\"\",\"\",COUNTIF($K$7:K5411,\"ﾘｽﾄ１\"))","v":""},"","","","","","","",{"$f":"IF(S5411=\"\",\"\",COUNTIF($S$7:S5411,\"該当２\"))","v":""},"","",{"$f":"IF(V5411=\"\",\"\",COUNTIF($V$7:V5411,\"該当３\"))","v":""}]
[{"$nulls":10},"","",{"$f":"IF(K5412=\"\",\"\",COUNTIF($K$7:K5412,\"ﾘｽﾄ１\"))","v":""},"","","","","","","",{"$f":"IF(S5412=\"\",\"\",COUNTIF($S$7:S5412,\"該当２\"))","v":""},"","",{"$f":"IF(V5412=\"\",\"\",COUNTIF($V$7:V5412,\"該当３\"))","v":""}]
[{"$nulls":10},"","",{"$f":"IF(K5413=\"\",\"\",COUNTIF($K$7:K5413,\"ﾘｽﾄ１\"))","v":""},"","","","","","","",{"$f":"IF(S5413=\"\",\"\",COUNTIF($S$7:S5413,\"該当２\"))","v":""},"","",{"$f":"IF(V5413=\"\",\"\",COUNTIF($V$7:V5413,\"該当３\"))","v":""}]
[{"$nulls":10},"","",{"$f":"IF(K5414=\"\",\"\",COUNTIF($K$7:K5414,\"ﾘｽﾄ１\"))","v":""},"","","","","","","",{"$f":"IF(S5414=\"\",\"\",COUNTIF($S$7:S5414,\"該当２\"))","v":""},"","",{"$f":"IF(V5414=\"\",\"\",COUNTIF($V$7:V5414,\"該当３\"))","v":""}]
[{"$nulls":10},"","",{"$f":"IF(K5415=\"\",\"\",COUNTIF($K$7:K5415,\"ﾘｽﾄ１\"))","v":""},"","","","","","","",{"$f":"IF(S5415=\"\",\"\",COUNTIF($S$7:S5415,\"該当２\"))","v":""},"","",{"$f":"IF(V5415=\"\",\"\",COUNTIF($V$7:V5415,\"該当３\"))","v":""}]
[{"$nulls":10},"","",{"$f":"IF(K5416=\"\",\"\",COUNTIF($K$7:K5416,\"ﾘｽﾄ１\"))","v":""},"","","","","","","",{"$f":"IF(S5416=\"\",\"\",COUNTIF($S$7:S5416,\"該当２\"))","v":""},"","",{"$f":"IF(V5416=\"\",\"\",COUNTIF($V$7:V5416,\"該当３\"))","v":""}]
[{"$nulls":10},"","",{"$f":"IF(K5417=\"\",\"\",COUNTIF($K$7:K5417,\"ﾘｽﾄ１\"))","v":""},"","","","","","","",{"$f":"IF(S5417=\"\",\"\",COUNTIF($S$7:S5417,\"該当２\"))","v":""},"","",{"$f":"IF(V5417=\"\",\"\",COUNTIF($V$7:V5417,\"該当３\"))","v":""}]
[{"$nulls":10},"","",{"$f":"IF(K5418=\"\",\"\",COUNTIF($K$7:K5418,\"ﾘｽﾄ１\"))","v":""},"","","","","","","",{"$f":"IF(S5418=\"\",\"\",COUNTIF($S$7:S5418,\"該当２\"))","v":""},"","",{"$f":"IF(V5418=\"\",\"\",COUNTIF($V$7:V5418,\"該当３\"))","v":""}]
[{"$nulls":10},"","",{"$f":"IF(K5419=\"\",\"\",COUNTIF($K$7:K5419,\"ﾘｽﾄ１\"))","v":""},"","","","","","","",{"$f":"IF(S5419=\"\",\"\",COUNTIF($S$7:S5419,\"該当２\"))","v":""},"","",{"$f":"IF(V5419=\"\",\"\",COUNTIF($V$7:V5419,\"該当３\"))","v":""}]
[{"$nulls":10},"","",{"$f":"IF(K5420=\"\",\"\",COUNTIF($K$7:K5420,\"ﾘｽﾄ１\"))","v":""},"","","","","","","",{"$f":"IF(S5420=\"\",\"\",COUNTIF($S$7:S5420,\"該当２\"))","v":""},"","",{"$f":"IF(V5420=\"\",\"\",COUNTIF($V$7:V5420,\"該当３\"))","v":""}]
[{"$nulls":10},"","",{"$f":"IF(K5421=\"\",\"\",COUNTIF($K$7:K5421,\"ﾘｽﾄ１\"))","v":""},"","","","","","","",{"$f":"IF(S5421=\"\",\"\",COUNTIF($S$7:S5421,\"該当２\"))","v":""},"","",{"$f":"IF(V5421=\"\",\"\",COUNTIF($V$7:V5421,\"該当３\"))","v":""}]
[{"$nulls":10},"","",{"$f":"IF(K5422=\"\",\"\",COUNTIF($K$7:K5422,\"ﾘｽﾄ１\"))","v":""},"","","","","","","",{"$f":"IF(S5422=\"\",\"\",COUNTIF($S$7:S5422,\"該当２\"))","v":""},"","",{"$f":"IF(V5422=\"\",\"\",COUNTIF($V$7:V5422,\"該当３\"))","v":""}]
[{"$nulls":10},"","",{"$f":"IF(K5423=\"\",\"\",COUNTIF($K$7:K5423,\"ﾘｽﾄ１\"))","v":""},"","","","","","","",{"$f":"IF(S5423=\"\",\"\",COUNTIF($S$7:S5423,\"該当２\"))","v":""},"","",{"$f":"IF(V5423=\"\",\"\",COUNTIF($V$7:V5423,\"該当３\"))","v":""}]
[{"$nulls":10},"","",{"$f":"IF(K5424=\"\",\"\",COUNTIF($K$7:K5424,\"ﾘｽﾄ１\"))","v":""},"","","","","","","",{"$f":"IF(S5424=\"\",\"\",COUNTIF($S$7:S5424,\"該当２\"))","v":""},"","",{"$f":"IF(V5424=\"\",\"\",COUNTIF($V$7:V5424,\"該当３\"))","v":""}]
[{"$nulls":10},"","",{"$f":"IF(K5425=\"\",\"\",COUNTIF($K$7:K5425,\"ﾘｽﾄ１\"))","v":""},"","","","","","","",{"$f":"IF(S5425=\"\",\"\",COUNTIF($S$7:S5425,\"該当２\"))","v":""},"","",{"$f":"IF(V5425=\"\",\"\",COUNTIF($V$7:V5425,\"該当３\"))","v":""}]
[{"$nulls":10},"","",{"$f":"IF(K5426=\"\",\"\",COUNTIF($K$7:K5426,\"ﾘｽﾄ１\"))","v":""},"","","","","","","",{"$f":"IF(S5426=\"\",\"\",COUNTIF($S$7:S5426,\"該当２\"))","v":""},"","",{"$f":"IF(V5426=\"\",\"\",COUNTIF($V$7:V5426,\"該当３\"))","v":""}]
[{"$nulls":10},"","",{"$f":"IF(K5427=\"\",\"\",COUNTIF($K$7:K5427,\"ﾘｽﾄ１\"))","v":""},"","","","","","","",{"$f":"IF(S5427=\"\",\"\",COUNTIF($S$7:S5427,\"該当２\"))","v":""},"","",{"$f":"IF(V5427=\"\",\"\",COUNTIF($V$7:V5427,\"該当３\"))","v":""}]
[{"$nulls":10},"","",{"$f":"IF(K5428=\"\",\"\",COUNTIF($K$7:K5428,\"ﾘｽﾄ１\"))","v":""},"","","","","","","",{"$f":"IF(S5428=\"\",\"\",COUNTIF($S$7:S5428,\"該当２\"))","v":""},"","",{"$f":"IF(V5428=\"\",\"\",COUNTIF($V$7:V5428,\"該当３\"))","v":""}]
[{"$nulls":10},"","",{"$f":"IF(K5429=\"\",\"\",COUNTIF($K$7:K5429,\"ﾘｽﾄ１\"))","v":""},"","","","","","","",{"$f":"IF(S5429=\"\",\"\",COUNTIF($S$7:S5429,\"該当２\"))","v":""},"","",{"$f":"IF(V5429=\"\",\"\",COUNTIF($V$7:V5429,\"該当３\"))","v":""}]
[{"$nulls":10},"","",{"$f":"IF(K5430=\"\",\"\",COUNTIF($K$7:K5430,\"ﾘｽﾄ１\"))","v":""},"","","","","","","",{"$f":"IF(S5430=\"\",\"\",COUNTIF($S$7:S5430,\"該当２\"))","v":""},"","",{"$f":"IF(V5430=\"\",\"\",COUNTIF($V$7:V5430,\"該当３\"))","v":""}]
[{"$nulls":10},"",{"$f":"IF(K5431=\"ﾘｽﾄ１\",G5431,\"\")","v":""},{"$f":"IF(K5431=\"\",\"\",COUNTIF($K$7:K5431,\"ﾘｽﾄ１\"))","v":""},{"$f":"IF(AND(D5431=0,E5431>0),\"同一区\",\"\")","v":""},{"$f":"IF(AND(EXACT($K$2,G5431),H5431>0),\"該当１\",\"\")","v":""},{"$f":"IF(O5431=\"該当１\",G5431,\"\")","v":""},{"$f":"IF(O5431=\"該当１\",\"ﾘｽﾄ2\",\"\")","v":""},{"$f":"IF(Q5431=\"ﾘｽﾄ2\",H5431,\"\")","v":""},{"$f":"IF(AND(Q5431=\"ﾘｽﾄ2\",OR(I5431=0,AND(N5431=\"同一区\",E5431=1))),\"該当２\",\"\")","v":""},{"$f":"IF(S5431=\"該当２\",H5431,\"\")","v":""},{"$f":"IF(S5431=\"\",\"\",COUNTIF($S$7:S5431,\"該当２\"))","v":""},{"$f":"IF(AND($S$2=H5431,E5431>0,E5431<998),\"該当３\",\"\")","v":""},{"$f":"IF(V5431=\"該当３\",I5431,\"\")","v":""},{"$f":"IF(V5431=\"\",\"\",COUNTIF($V$7:V5431,\"該当３\"))","v":""}]
[{"$nulls":10},"","",{"$f":"IF(K5432=\"\",\"\",COUNTIF($K$7:K5432,\"ﾘｽﾄ１\"))","v":""},"","","","","","","",{"$f":"IF(S5432=\"\",\"\",COUNTIF($S$7:S5432,\"該当２\"))","v":""},"","",{"$f":"IF(V5432=\"\",\"\",COUNTIF($V$7:V5432,\"該当３\"))","v":""}]
[{"$nulls":10},"","",{"$f":"IF(K5433=\"\",\"\",COUNTIF($K$7:K5433,\"ﾘｽﾄ１\"))","v":""},"","","","","","","",{"$f":"IF(S5433=\"\",\"\",COUNTIF($S$7:S5433,\"該当２\"))","v":""},"","",{"$f":"IF(V5433=\"\",\"\",COUNTIF($V$7:V5433,\"該当３\"))","v":""}]
[{"$nulls":10},"","",{"$f":"IF(K5434=\"\",\"\",COUNTIF($K$7:K5434,\"ﾘｽﾄ１\"))","v":""},"","","","","","","",{"$f":"IF(S5434=\"\",\"\",COUNTIF($S$7:S5434,\"該当２\"))","v":""},"","",{"$f":"IF(V5434=\"\",\"\",COUNTIF($V$7:V5434,\"該当３\"))","v":""}]
[{"$nulls":10},"","",{"$f":"IF(K5435=\"\",\"\",COUNTIF($K$7:K5435,\"ﾘｽﾄ１\"))","v":""},"","","","","","","",{"$f":"IF(S5435=\"\",\"\",COUNTIF($S$7:S5435,\"該当２\"))","v":""},"","",{"$f":"IF(V5435=\"\",\"\",COUNTIF($V$7:V5435,\"該当３\"))","v":""}]
[{"$nulls":10},"","",{"$f":"IF(K5436=\"\",\"\",COUNTIF($K$7:K5436,\"ﾘｽﾄ１\"))","v":""},"","","","","","","",{"$f":"IF(S5436=\"\",\"\",COUNTIF($S$7:S5436,\"該当２\"))","v":""},"","",{"$f":"IF(V5436=\"\",\"\",COUNTIF($V$7:V5436,\"該当３\"))","v":""}]
[{"$nulls":10},"","",{"$f":"IF(K5437=\"\",\"\",COUNTIF($K$7:K5437,\"ﾘｽﾄ１\"))","v":""},"","","","","","","",{"$f":"IF(S5437=\"\",\"\",COUNTIF($S$7:S5437,\"該当２\"))","v":""},"","",{"$f":"IF(V5437=\"\",\"\",COUNTIF($V$7:V5437,\"該当３\"))","v":""}]
[{"$nulls":10},"","",{"$f":"IF(K5438=\"\",\"\",COUNTIF($K$7:K5438,\"ﾘｽﾄ１\"))","v":""},"","","","","","","",{"$f":"IF(S5438=\"\",\"\",COUNTIF($S$7:S5438,\"該当２\"))","v":""},"","",{"$f":"IF(V5438=\"\",\"\",COUNTIF($V$7:V5438,\"該当３\"))","v":""}]
[{"$nulls":10},"","",{"$f":"IF(K5439=\"\",\"\",COUNTIF($K$7:K5439,\"ﾘｽﾄ１\"))","v":""},"","","","","","","",{"$f":"IF(S5439=\"\",\"\",COUNTIF($S$7:S5439,\"該当２\"))","v":""},"","",{"$f":"IF(V5439=\"\",\"\",COUNTIF($V$7:V5439,\"該当３\"))","v":""}]
[{"$nulls":10},"","",{"$f":"IF(K5440=\"\",\"\",COUNTIF($K$7:K5440,\"ﾘｽﾄ１\"))","v":""},"","","","","","","",{"$f":"IF(S5440=\"\",\"\",COUNTIF($S$7:S5440,\"該当２\"))","v":""},"","",{"$f":"IF(V5440=\"\",\"\",COUNTIF($V$7:V5440,\"該当３\"))","v":""}]
[{"$nulls":10},"","",{"$f":"IF(K5441=\"\",\"\",COUNTIF($K$7:K5441,\"ﾘｽﾄ１\"))","v":""},"","","","","","","",{"$f":"IF(S5441=\"\",\"\",COUNTIF($S$7:S5441,\"該当２\"))","v":""},"","",{"$f":"IF(V5441=\"\",\"\",COUNTIF($V$7:V5441,\"該当３\"))","v":""}]
[{"$nulls":10},"","",{"$f":"IF(K5442=\"\",\"\",COUNTIF($K$7:K5442,\"ﾘｽﾄ１\"))","v":""},"","","","","","","",{"$f":"IF(S5442=\"\",\"\",COUNTIF($S$7:S5442,\"該当２\"))","v":""},"","",{"$f":"IF(V5442=\"\",\"\",COUNTIF($V$7:V5442,\"該当３\"))","v":""}]
[{"$nulls":10},"","",{"$f":"IF(K5443=\"\",\"\",COUNTIF($K$7:K5443,\"ﾘｽﾄ１\"))","v":""},"","","","","","","",{"$f":"IF(S5443=\"\",\"\",COUNTIF($S$7:S5443,\"該当２\"))","v":""},"","",{"$f":"IF(V5443=\"\",\"\",COUNTIF($V$7:V5443,\"該当３\"))","v":""}]
[{"$nulls":10},"","",{"$f":"IF(K5444=\"\",\"\",COUNTIF($K$7:K5444,\"ﾘｽﾄ１\"))","v":""},"","","","","","","",{"$f":"IF(S5444=\"\",\"\",COUNTIF($S$7:S5444,\"該当２\"))","v":""},"","",{"$f":"IF(V5444=\"\",\"\",COUNTIF($V$7:V5444,\"該当３\"))","v":""}]
[{"$nulls":10},"","",{"$f":"IF(K5445=\"\",\"\",COUNTIF($K$7:K5445,\"ﾘｽﾄ１\"))","v":""},"","","","","","","",{"$f":"IF(S5445=\"\",\"\",COUNTIF($S$7:S5445,\"該当２\"))","v":""},"","",{"$f":"IF(V5445=\"\",\"\",COUNTIF($V$7:V5445,\"該当３\"))","v":""}]
[{"$nulls":10},"","",{"$f":"IF(K5446=\"\",\"\",COUNTIF($K$7:K5446,\"ﾘｽﾄ１\"))","v":""},"","","","","","","",{"$f":"IF(S5446=\"\",\"\",COUNTIF($S$7:S5446,\"該当２\"))","v":""},"","",{"$f":"IF(V5446=\"\",\"\",COUNTIF($V$7:V5446,\"該当３\"))","v":""}]
[{"$nulls":10},"","",{"$f":"IF(K5447=\"\",\"\",COUNTIF($K$7:K5447,\"ﾘｽﾄ１\"))","v":""},"","","","","","","",{"$f":"IF(S5447=\"\",\"\",COUNTIF($S$7:S5447,\"該当２\"))","v":""},"","",{"$f":"IF(V5447=\"\",\"\",COUNTIF($V$7:V5447,\"該当３\"))","v":""}]
[{"$nulls":10},"","",{"$f":"IF(K5448=\"\",\"\",COUNTIF($K$7:K5448,\"ﾘｽﾄ１\"))","v":""},"","","","","","","",{"$f":"IF(S5448=\"\",\"\",COUNTIF($S$7:S5448,\"該当２\"))","v":""},"","",{"$f":"IF(V5448=\"\",\"\",COUNTIF($V$7:V5448,\"該当３\"))","v":""}]
[{"$nulls":10},"","",{"$f":"IF(K5449=\"\",\"\",COUNTIF($K$7:K5449,\"ﾘｽﾄ１\"))","v":""},"","","","","","","",{"$f":"IF(S5449=\"\",\"\",COUNTIF($S$7:S5449,\"該当２\"))","v":""},"","",{"$f":"IF(V5449=\"\",\"\",COUNTIF($V$7:V5449,\"該当３\"))","v":""}]
[{"$nulls":10},"","",{"$f":"IF(K5450=\"\",\"\",COUNTIF($K$7:K5450,\"ﾘｽﾄ１\"))","v":""},"","","","","","","",{"$f":"IF(S5450=\"\",\"\",COUNTIF($S$7:S5450,\"該当２\"))","v":""},"","",{"$f":"IF(V5450=\"\",\"\",COUNTIF($V$7:V5450,\"該当３\"))","v":""}]
[{"$nulls":10},{"$f":"IF(AND($C5451>0,$H5451=\"\"),\"ﾘｽﾄ１\",\"\")","v":""},"",{"$f":"IF(K5451=\"\",\"\",COUNTIF($K$7:K5451,\"ﾘｽﾄ１\"))","v":""},"","","","","","","",{"$f":"IF(S5451=\"\",\"\",COUNTIF($S$7:S5451,\"該当２\"))","v":""},"","",{"$f":"IF(V5451=\"\",\"\",COUNTIF($V$7:V5451,\"該当３\"))","v":""}]
[{"$nulls":10},"","",{"$f":"IF(K5452=\"\",\"\",COUNTIF($K$7:K5452,\"ﾘｽﾄ１\"))","v":""},"","","","","","","",{"$f":"IF(S5452=\"\",\"\",COUNTIF($S$7:S5452,\"該当２\"))","v":""},"","",{"$f":"IF(V5452=\"\",\"\",COUNTIF($V$7:V5452,\"該当３\"))","v":""}]
[{"$nulls":10},"","",{"$f":"IF(K5453=\"\",\"\",COUNTIF($K$7:K5453,\"ﾘｽﾄ１\"))","v":""},"","","","","","","",{"$f":"IF(S5453=\"\",\"\",COUNTIF($S$7:S5453,\"該当２\"))","v":""},"","",{"$f":"IF(V5453=\"\",\"\",COUNTIF($V$7:V5453,\"該当３\"))","v":""}]
[{"$nulls":10},"","",{"$f":"IF(K5454=\"\",\"\",COUNTIF($K$7:K5454,\"ﾘｽﾄ１\"))","v":""},"","","","","","","",{"$f":"IF(S5454=\"\",\"\",COUNTIF($S$7:S5454,\"該当２\"))","v":""},"","",{"$f":"IF(V5454=\"\",\"\",COUNTIF($V$7:V5454,\"該当３\"))","v":""}]
[{"$nulls":10},"","",{"$f":"IF(K5455=\"\",\"\",COUNTIF($K$7:K5455,\"ﾘｽﾄ１\"))","v":""},"","","","","","","",{"$f":"IF(S5455=\"\",\"\",COUNTIF($S$7:S5455,\"該当２\"))","v":""},"","",{"$f":"IF(V5455=\"\",\"\",COUNTIF($V$7:V5455,\"該当３\"))","v":""}]
[{"$nulls":10},"","",{"$f":"IF(K5456=\"\",\"\",COUNTIF($K$7:K5456,\"ﾘｽﾄ１\"))","v":""},"","","","","","","",{"$f":"IF(S5456=\"\",\"\",COUNTIF($S$7:S5456,\"該当２\"))","v":""},"","",{"$f":"IF(V5456=\"\",\"\",COUNTIF($V$7:V5456,\"該当３\"))","v":""}]
[{"$nulls":10},"","",{"$f":"IF(K5457=\"\",\"\",COUNTIF($K$7:K5457,\"ﾘｽﾄ１\"))","v":""},"","","","","","","",{"$f":"IF(S5457=\"\",\"\",COUNTIF($S$7:S5457,\"該当２\"))","v":""},"","",{"$f":"IF(V5457=\"\",\"\",COUNTIF($V$7:V5457,\"該当３\"))","v":""}]
[{"$nulls":10},"","",{"$f":"IF(K5458=\"\",\"\",COUNTIF($K$7:K5458,\"ﾘｽﾄ１\"))","v":""},"","","","","","","",{"$f":"IF(S5458=\"\",\"\",COUNTIF($S$7:S5458,\"該当２\"))","v":""},"","",{"$f":"IF(V5458=\"\",\"\",COUNTIF($V$7:V5458,\"該当３\"))","v":""}]
[{"$nulls":10},"","",{"$f":"IF(K5459=\"\",\"\",COUNTIF($K$7:K5459,\"ﾘｽﾄ１\"))","v":""},"","","","","","","",{"$f":"IF(S5459=\"\",\"\",COUNTIF($S$7:S5459,\"該当２\"))","v":""},"","",{"$f":"IF(V5459=\"\",\"\",COUNTIF($V$7:V5459,\"該当３\"))","v":""}]
[{"$nulls":10},"","",{"$f":"IF(K5460=\"\",\"\",COUNTIF($K$7:K5460,\"ﾘｽﾄ１\"))","v":""},"","","","","","","",{"$f":"IF(S5460=\"\",\"\",COUNTIF($S$7:S5460,\"該当２\"))","v":""},"","",{"$f":"IF(V5460=\"\",\"\",COUNTIF($V$7:V5460,\"該当３\"))","v":""}]
[{"$nulls":10},"","",{"$f":"IF(K5461=\"\",\"\",COUNTIF($K$7:K5461,\"ﾘｽﾄ１\"))","v":""},"","","","","","","",{"$f":"IF(S5461=\"\",\"\",COUNTIF($S$7:S5461,\"該当２\"))","v":""},"","",{"$f":"IF(V5461=\"\",\"\",COUNTIF($V$7:V5461,\"該当３\"))","v":""}]
[{"$nulls":10},"","",{"$f":"IF(K5462=\"\",\"\",COUNTIF($K$7:K5462,\"ﾘｽﾄ１\"))","v":""},"","","","","","","",{"$f":"IF(S5462=\"\",\"\",COUNTIF($S$7:S5462,\"該当２\"))","v":""},"","",{"$f":"IF(V5462=\"\",\"\",COUNTIF($V$7:V5462,\"該当３\"))","v":""}]
[{"$nulls":10},"","",{"$f":"IF(K5463=\"\",\"\",COUNTIF($K$7:K5463,\"ﾘｽﾄ１\"))","v":""},"","","","","","","",{"$f":"IF(S5463=\"\",\"\",COUNTIF($S$7:S5463,\"該当２\"))","v":""},"","",{"$f":"IF(V5463=\"\",\"\",COUNTIF($V$7:V5463,\"該当３\"))","v":""}]
[{"$nulls":10},"","",{"$f":"IF(K5464=\"\",\"\",COUNTIF($K$7:K5464,\"ﾘｽﾄ１\"))","v":""},"","","","","","","",{"$f":"IF(S5464=\"\",\"\",COUNTIF($S$7:S5464,\"該当２\"))","v":""},"","",{"$f":"IF(V5464=\"\",\"\",COUNTIF($V$7:V5464,\"該当３\"))","v":""}]
[{"$nulls":10},"","",{"$f":"IF(K5465=\"\",\"\",COUNTIF($K$7:K5465,\"ﾘｽﾄ１\"))","v":""},"","","","","","","",{"$f":"IF(S5465=\"\",\"\",COUNTIF($S$7:S5465,\"該当２\"))","v":""},"","",{"$f":"IF(V5465=\"\",\"\",COUNTIF($V$7:V5465,\"該当３\"))","v":""}]
[{"$nulls":10},"","",{"$f":"IF(K5466=\"\",\"\",COUNTIF($K$7:K5466,\"ﾘｽﾄ１\"))","v":""},"","","","","","","",{"$f":"IF(S5466=\"\",\"\",COUNTIF($S$7:S5466,\"該当２\"))","v":""},"","",{"$f":"IF(V5466=\"\",\"\",COUNTIF($V$7:V5466,\"該当３\"))","v":""}]
[{"$nulls":10},"","",{"$f":"IF(K5467=\"\",\"\",COUNTIF($K$7:K5467,\"ﾘｽﾄ１\"))","v":""},"","","","","","","",{"$f":"IF(S5467=\"\",\"\",COUNTIF($S$7:S5467,\"該当２\"))","v":""},"","",{"$f":"IF(V5467=\"\",\"\",COUNTIF($V$7:V5467,\"該当３\"))","v":""}]
[{"$nulls":10},"","",{"$f":"IF(K5468=\"\",\"\",COUNTIF($K$7:K5468,\"ﾘｽﾄ１\"))","v":""},"","","","","","","",{"$f":"IF(S5468=\"\",\"\",COUNTIF($S$7:S5468,\"該当２\"))","v":""},"","",{"$f":"IF(V5468=\"\",\"\",COUNTIF($V$7:V5468,\"該当３\"))","v":""}]
[{"$nulls":10},"","",{"$f":"IF(K5469=\"\",\"\",COUNTIF($K$7:K5469,\"ﾘｽﾄ１\"))","v":""},"","","","","","","",{"$f":"IF(S5469=\"\",\"\",COUNTIF($S$7:S5469,\"該当２\"))","v":""},"","",{"$f":"IF(V5469=\"\",\"\",COUNTIF($V$7:V5469,\"該当３\"))","v":""}]
[{"$nulls":10},"","",{"$f":"IF(K5470=\"\",\"\",COUNTIF($K$7:K5470,\"ﾘｽﾄ１\"))","v":""},"","","","","","","",{"$f":"IF(S5470=\"\",\"\",COUNTIF($S$7:S5470,\"該当２\"))","v":""},"","",{"$f":"IF(V5470=\"\",\"\",COUNTIF($V$7:V5470,\"該当３\"))","v":""}]
[{"$nulls":10},"","",{"$f":"IF(K5471=\"\",\"\",COUNTIF($K$7:K5471,\"ﾘｽﾄ１\"))","v":""},"","","","","","","",{"$f":"IF(S5471=\"\",\"\",COUNTIF($S$7:S5471,\"該当２\"))","v":""},"","",{"$f":"IF(V5471=\"\",\"\",COUNTIF($V$7:V5471,\"該当３\"))","v":""}]
[{"$nulls":10},"","",{"$f":"IF(K5472=\"\",\"\",COUNTIF($K$7:K5472,\"ﾘｽﾄ１\"))","v":""},"","","","","","","",{"$f":"IF(S5472=\"\",\"\",COUNTIF($S$7:S5472,\"該当２\"))","v":""},"","",{"$f":"IF(V5472=\"\",\"\",COUNTIF($V$7:V5472,\"該当３\"))","v":""}]
[{"$nulls":10},"","",{"$f":"IF(K5473=\"\",\"\",COUNTIF($K$7:K5473,\"ﾘｽﾄ１\"))","v":""},"","","","","","","",{"$f":"IF(S5473=\"\",\"\",COUNTIF($S$7:S5473,\"該当２\"))","v":""},"","",{"$f":"IF(V5473=\"\",\"\",COUNTIF($V$7:V5473,\"該当３\"))","v":""}]
[{"$nulls":10},"","",{"$f":"IF(K5474=\"\",\"\",COUNTIF($K$7:K5474,\"ﾘｽﾄ１\"))","v":""},"","","","","","","",{"$f":"IF(S5474=\"\",\"\",COUNTIF($S$7:S5474,\"該当２\"))","v":""},"","",{"$f":"IF(V5474=\"\",\"\",COUNTIF($V$7:V5474,\"該当３\"))","v":""}]
[{"$nulls":10},"","",{"$f":"IF(K5475=\"\",\"\",COUNTIF($K$7:K5475,\"ﾘｽﾄ１\"))","v":""},"","","","","","","",{"$f":"IF(S5475=\"\",\"\",COUNTIF($S$7:S5475,\"該当２\"))","v":""},"","",{"$f":"IF(V5475=\"\",\"\",COUNTIF($V$7:V5475,\"該当３\"))","v":""}]
[{"$nulls":10},"","",{"$f":"IF(K5476=\"\",\"\",COUNTIF($K$7:K5476,\"ﾘｽﾄ１\"))","v":""},"","","","","","","",{"$f":"IF(S5476=\"\",\"\",COUNTIF($S$7:S5476,\"該当２\"))","v":""},"","",{"$f":"IF(V5476=\"\",\"\",COUNTIF($V$7:V5476,\"該当３\"))","v":""}]
[{"$nulls":10},"","",{"$f":"IF(K5477=\"\",\"\",COUNTIF($K$7:K5477,\"ﾘｽﾄ１\"))","v":""},"","","","","","","",{"$f":"IF(S5477=\"\",\"\",COUNTIF($S$7:S5477,\"該当２\"))","v":""},"","",{"$f":"IF(V5477=\"\",\"\",COUNTIF($V$7:V5477,\"該当３\"))","v":""}]
[{"$nulls":10},"","",{"$f":"IF(K5478=\"\",\"\",COUNTIF($K$7:K5478,\"ﾘｽﾄ１\"))","v":""},"","","","","","","",{"$f":"IF(S5478=\"\",\"\",COUNTIF($S$7:S5478,\"該当２\"))","v":""},"","",{"$f":"IF(V5478=\"\",\"\",COUNTIF($V$7:V5478,\"該当３\"))","v":""}]
[{"$nulls":10},"","",{"$f":"IF(K5479=\"\",\"\",COUNTIF($K$7:K5479,\"ﾘｽﾄ１\"))","v":""},"","","","","","","",{"$f":"IF(S5479=\"\",\"\",COUNTIF($S$7:S5479,\"該当２\"))","v":""},"","",{"$f":"IF(V5479=\"\",\"\",COUNTIF($V$7:V5479,\"該当３\"))","v":""}]
[{"$nulls":10},"","",{"$f":"IF(K5480=\"\",\"\",COUNTIF($K$7:K5480,\"ﾘｽﾄ１\"))","v":""},"","","","","","","",{"$f":"IF(S5480=\"\",\"\",COUNTIF($S$7:S5480,\"該当２\"))","v":""},"","",{"$f":"IF(V5480=\"\",\"\",COUNTIF($V$7:V5480,\"該当３\"))","v":""}]
[{"$nulls":10},"","",{"$f":"IF(K5481=\"\",\"\",COUNTIF($K$7:K5481,\"ﾘｽﾄ１\"))","v":""},"","","","","","","",{"$f":"IF(S5481=\"\",\"\",COUNTIF($S$7:S5481,\"該当２\"))","v":""},"","",{"$f":"IF(V5481=\"\",\"\",COUNTIF($V$7:V5481,\"該当３\"))","v":""}]
[{"$nulls":10},"","",{"$f":"IF(K5482=\"\",\"\",COUNTIF($K$7:K5482,\"ﾘｽﾄ１\"))","v":""},"","","","","","","",{"$f":"IF(S5482=\"\",\"\",COUNTIF($S$7:S5482,\"該当２\"))","v":""},"","",{"$f":"IF(V5482=\"\",\"\",COUNTIF($V$7:V5482,\"該当３\"))","v":""}]
[{"$nulls":10},"","",{"$f":"IF(K5483=\"\",\"\",COUNTIF($K$7:K5483,\"ﾘｽﾄ１\"))","v":""},"","","","","","","",{"$f":"IF(S5483=\"\",\"\",COUNTIF($S$7:S5483,\"該当２\"))","v":""},"","",{"$f":"IF(V5483=\"\",\"\",COUNTIF($V$7:V5483,\"該当３\"))","v":""}]
[{"$nulls":10},"","",{"$f":"IF(K5484=\"\",\"\",COUNTIF($K$7:K5484,\"ﾘｽﾄ１\"))","v":""},"","","","","","","",{"$f":"IF(S5484=\"\",\"\",COUNTIF($S$7:S5484,\"該当２\"))","v":""},"","",{"$f":"IF(V5484=\"\",\"\",COUNTIF($V$7:V5484,\"該当３\"))","v":""}]
[{"$nulls":10},"","",{"$f":"IF(K5485=\"\",\"\",COUNTIF($K$7:K5485,\"ﾘｽﾄ１\"))","v":""},"","","","","","","",{"$f":"IF(S5485=\"\",\"\",COUNTIF($S$7:S5485,\"該当２\"))","v":""},"","",{"$f":"IF(V5485=\"\",\"\",COUNTIF($V$7:V5485,\"該当３\"))","v":""}]
[{"$nulls":10},"","",{"$f":"IF(K5486=\"\",\"\",COUNTIF($K$7:K5486,\"ﾘｽﾄ１\"))","v":""},"","","","","","","",{"$f":"IF(S5486=\"\",\"\",COUNTIF($S$7:S5486,\"該当２\"))","v":""},"","",{"$f":"IF(V5486=\"\",\"\",COUNTIF($V$7:V5486,\"該当３\"))","v":""}]
[{"$nulls":10},"","",{"$f":"IF(K5487=\"\",\"\",COUNTIF($K$7:K5487,\"ﾘｽﾄ１\"))","v":""},"","","","","","","",{"$f":"IF(S5487=\"\",\"\",COUNTIF($S$7:S5487,\"該当２\"))","v":""},"","",{"$f":"IF(V5487=\"\",\"\",COUNTIF($V$7:V5487,\"該当３\"))","v":""}]
[{"$nulls":10},"","",{"$f":"IF(K5488=\"\",\"\",COUNTIF($K$7:K5488,\"ﾘｽﾄ１\"))","v":""},"","","","","","","",{"$f":"IF(S5488=\"\",\"\",COUNTIF($S$7:S5488,\"該当２\"))","v":""},"","",{"$f":"IF(V5488=\"\",\"\",COUNTIF($V$7:V5488,\"該当３\"))","v":""}]
[{"$nulls":10},"","",{"$f":"IF(K5489=\"\",\"\",COUNTIF($K$7:K5489,\"ﾘｽﾄ１\"))","v":""},"","","","","","","",{"$f":"IF(S5489=\"\",\"\",COUNTIF($S$7:S5489,\"該当２\"))","v":""},"","",{"$f":"IF(V5489=\"\",\"\",COUNTIF($V$7:V5489,\"該当３\"))","v":""}]
[{"$nulls":10},"","",{"$f":"IF(K5490=\"\",\"\",COUNTIF($K$7:K5490,\"ﾘｽﾄ１\"))","v":""},"","","","","","","",{"$f":"IF(S5490=\"\",\"\",COUNTIF($S$7:S5490,\"該当２\"))","v":""},"","",{"$f":"IF(V5490=\"\",\"\",COUNTIF($V$7:V5490,\"該当３\"))","v":""}]
[{"$nulls":10},"","",{"$f":"IF(K5491=\"\",\"\",COUNTIF($K$7:K5491,\"ﾘｽﾄ１\"))","v":""},"","","","","","","",{"$f":"IF(S5491=\"\",\"\",COUNTIF($S$7:S5491,\"該当２\"))","v":""},"","",{"$f":"IF(V5491=\"\",\"\",COUNTIF($V$7:V5491,\"該当３\"))","v":""}]
[{"$nulls":10},"","",{"$f":"IF(K5492=\"\",\"\",COUNTIF($K$7:K5492,\"ﾘｽﾄ１\"))","v":""},"","","","","","","",{"$f":"IF(S5492=\"\",\"\",COUNTIF($S$7:S5492,\"該当２\"))","v":""},"","",{"$f":"IF(V5492=\"\",\"\",COUNTIF($V$7:V5492,\"該当３\"))","v":""}]
[{"$nulls":10},"","",{"$f":"IF(K5493=\"\",\"\",COUNTIF($K$7:K5493,\"ﾘｽﾄ１\"))","v":""},"","","","","","","",{"$f":"IF(S5493=\"\",\"\",COUNTIF($S$7:S5493,\"該当２\"))","v":""},"","",{"$f":"IF(V5493=\"\",\"\",COUNTIF($V$7:V5493,\"該当３\"))","v":""}]
[{"$nulls":10},"","",{"$f":"IF(K5494=\"\",\"\",COUNTIF($K$7:K5494,\"ﾘｽﾄ１\"))","v":""},"","","","","","","",{"$f":"IF(S5494=\"\",\"\",COUNTIF($S$7:S5494,\"該当２\"))","v":""},"","",{"$f":"IF(V5494=\"\",\"\",COUNTIF($V$7:V5494,\"該当３\"))","v":""}]
[{"$nulls":10},"",{"$f":"IF(K5495=\"ﾘｽﾄ１\",G5495,\"\")","v":""},{"$f":"IF(K5495=\"\",\"\",COUNTIF($K$7:K5495,\"ﾘｽﾄ１\"))","v":""},{"$f":"IF(AND(D5495=0,E5495>0),\"同一区\",\"\")","v":""},{"$f":"IF(AND(EXACT($K$2,G5495),H5495>0),\"該当１\",\"\")","v":""},{"$f":"IF(O5495=\"該当１\",G5495,\"\")","v":""},{"$f":"IF(O5495=\"該当１\",\"ﾘｽﾄ2\",\"\")","v":""},{"$f":"IF(Q5495=\"ﾘｽﾄ2\",H5495,\"\")","v":""},{"$f":"IF(AND(Q5495=\"ﾘｽﾄ2\",OR(I5495=0,AND(N5495=\"同一区\",E5495=1))),\"該当２\",\"\")","v":""},{"$f":"IF(S5495=\"該当２\",H5495,\"\")","v":""},{"$f":"IF(S5495=\"\",\"\",COUNTIF($S$7:S5495,\"該当２\"))","v":""},{"$f":"IF(AND($S$2=H5495,E5495>0,E5495<998),\"該当３\",\"\")","v":""},{"$f":"IF(V5495=\"該当３\",I5495,\"\")","v":""},{"$f":"IF(V5495=\"\",\"\",COUNTIF($V$7:V5495,\"該当３\"))","v":""}]
[{"$nulls":10},"","",{"$f":"IF(K5496=\"\",\"\",COUNTIF($K$7:K5496,\"ﾘｽﾄ１\"))","v":""},"","","","","","","",{"$f":"IF(S5496=\"\",\"\",COUNTIF($S$7:S5496,\"該当２\"))","v":""},"","",{"$f":"IF(V5496=\"\",\"\",COUNTIF($V$7:V5496,\"該当３\"))","v":""}]
[{"$nulls":10},"","",{"$f":"IF(K5497=\"\",\"\",COUNTIF($K$7:K5497,\"ﾘｽﾄ１\"))","v":""},"","","","","","","",{"$f":"IF(S5497=\"\",\"\",COUNTIF($S$7:S5497,\"該当２\"))","v":""},"","",{"$f":"IF(V5497=\"\",\"\",COUNTIF($V$7:V5497,\"該当３\"))","v":""}]
[{"$nulls":10},"","",{"$f":"IF(K5498=\"\",\"\",COUNTIF($K$7:K5498,\"ﾘｽﾄ１\"))","v":""},"","","","","","","",{"$f":"IF(S5498=\"\",\"\",COUNTIF($S$7:S5498,\"該当２\"))","v":""},"","",{"$f":"IF(V5498=\"\",\"\",COUNTIF($V$7:V5498,\"該当３\"))","v":""}]
[{"$nulls":10},"","",{"$f":"IF(K5499=\"\",\"\",COUNTIF($K$7:K5499,\"ﾘｽﾄ１\"))","v":""},"","","","","","","",{"$f":"IF(S5499=\"\",\"\",COUNTIF($S$7:S5499,\"該当２\"))","v":""},"","",{"$f":"IF(V5499=\"\",\"\",COUNTIF($V$7:V5499,\"該当３\"))","v":""}]
[{"$nulls":10},"","",{"$f":"IF(K5500=\"\",\"\",COUNTIF($K$7:K5500,\"ﾘｽﾄ１\"))","v":""},"","","","","","","",{"$f":"IF(S5500=\"\",\"\",COUNTIF($S$7:S5500,\"該当２\"))","v":""},"","",{"$f":"IF(V5500=\"\",\"\",COUNTIF($V$7:V5500,\"該当３\"))","v":""}]