Workbook
Name DDT: グラフ耕地!$C$1:$R$36

Sheet 16
A1: 農林水産関係市町村別データ
A2: 平成16年
A3: 耕地面積
A4: 静岡県
A5: 都道 | B5: 市町 | D5: 耕地面積 | E5: 田耕地面積 | F5: 田本地面積 | G5: 畑耕地面積 | H5: 普通畑 | I5: 樹園地 | J5: 牧草地 | K5: 田畑計の作 | L5: 田畑計の耕
A6: 府県 | B6: 村 | C6: 市町村名 | K6: 付延べ面積 | L6: 地利用率
A7: ｺｰﾄﾞ | B7: ｺｰﾄﾞ
D8: ha | E8: ha | F8: ha | G8: ha | H8: ha | I8: ha | J8: ha | K8: ha | L8: 0.0%
A9: 22 | B9: 201 | C9: 静岡市 | D9: 6460 | E9: 679 | F9: 650 | G9: 5780 | H9: 510 | I9: 5250 | J9: 23 | K9: 6060 | L9: 93.8
A10: 22 | B10: 202 | C10: 浜松市 | D10: 5580 | E10: 1650 | F10: 1610 | G10: 3930 | H10: 2970 | I10: 967 | J10: - | K10: 5340 | L10: 95.7
A11: 22 | B11: 203 | C11: 沼津市 | D11: 2210 | E11: 471 | F11: 453 | G11: 1740 | H11: 471 | I11: 1260 | J11: 3 | K11: 2030 | L11: 91.7
A12: 22 | B12: 205 | C12: 熱海市 | D12: 253 | E12: 0 | F12: 0 | G12: 253 | H12: 38 | I12: 215 | J12: - | K12: 237 | L12: 93.7
A13: 22 | B13: 206 | C13: 三島市 | D13: 914 | E13: 313 | F13: 299 | G13: 601 | H13: 531 | I13: 55 | J13: 15 | K13: 1000 | L13: 109.7
A14: 22 | B14: 207 | C14: 富士宮市 | D14: 2900 | E14: 650 | F14: 607 | G14: 2250 | H14: 788 | I14: 298 | J14: 1160 | K14: 2600 | L14: 89.5
A15: 22 | B15: 208 | C15: 伊東市 | D15: 645 | E15: 30 | F15: 27 | G15: 615 | H15: 337 | I15: 278 | J15: - | K15: 472 | L15: 73.2
A16: 22 | B16: 209 | C16: 島田市 | D16: 1960 | E16: 597 | F16: 577 | G16: 1360 | H16: 67 | I16: 1290 | J16: - | K16: 2020 | L16: 103.3
A17: 22 | B17: 210 | C17: 富士市 | D17: 2710 | E17: 765 | F17: 728 | G17: 1940 | H17: 773 | I17: 1170 | J17: 2 | K17: 2380 | L17: 87.6
A18: 22 | B18: 211 | C18: 磐田市 | D18: 2210 | E18: 1140 | F18: 1120 | G18: 1070 | H18: 422 | I18: 652 | J18: 0 | K18: 2080 | L18: 94
A19: 22 | B19: 212 | C19: 焼津市 | D19: 996 | E19: 757 | F19: 731 | G19: 239 | H19: 83 | I19: 156 | J19: - | K19: 834 | L19: 83.7
A20: 22 | B20: 213 | C20: 掛川市 | D20: 3410 | E20: 1330 | F20: 1270 | G20: 2080 | H20: 134 | I20: 1940 | J20: 4 | K20: 3060 | L20: 89.7
A21: 22 | B21: 214 | C21: 藤枝市 | D21: 2640 | E21: 1000 | F21: 969 | G21: 1640 | H21: 164 | I21: 1470 | J21: - | K21: 2480 | L21: 93.8
A22: 22 | B22: 215 | C22: 御殿場市 | D22: 2010 | E22: 1400 | F22: 1290 | G22: 612 | H22: 534 | I22: 70 | J22: 8 | K22: 1700 | L22: 84.4
A23: 22 | B23: 216 | C23: 袋井市 | D23: 2280 | E23: 1430 | F23: 1390 | G23: 852 | H23: 73 | I23: 777 | J23: 2 | K23: 2420 | L23: 106.3
A24: 22 | B24: 217 | C24: 天竜市 | D24: 467 | E24: 57 | F24: 52 | G24: 410 | H24: 152 | I24: 258 | J24: - | K24: 317 | L24: 67.9
A25: 22 | B25: 218 | C25: 浜北市 | D25: 1880 | E25: 400 | F25: 388 | G25: 1480 | H25: 1190 | I25: 293 | J25: - | K25: 1370 | L25: 72.6
A26: 22 | B26: 219 | C26: 下田市 | D26: 298 | E26: 120 | F26: 110 | G26: 178 | H26: 86 | I26: 92 | J26: - | K26: 253 | L26: 84.9
A27: 22 | B27: 220 | C27: 裾野市 | D27: 927 | E27: 336 | F27: 315 | G27: 591 | H27: 534 | I27: 57 | J27: 0 | K27: 788 | L27: 85
A28: 22 | B28: 221 | C28: 湖西市 | D28: 1210 | E28: 267 | F28: 258 | G28: 942 | H28: 617 | I28: 325 | J28: - | K28: 996 | L28: 82.3
A29: 22 | B29: 222 | C29: 伊豆市 | D29: 1360 | E29: 765 | F29: 693 | G29: 598 | H29: 365 | I29: 190 | J29: 43 | K29: 1140 | L29: 83.8
A30: 22 | B30: 223 | C30: 御前崎市 | D30: 1810 | E30: 483 | F30: 461 | G30: 1330 | H30: 602 | I30: 725 | J30: - | K30: 1460 | L30: 80.4
A31: 22 | B31: 224 | C31: 菊川市 | D31: 3230 | E31: 1200 | F31: 1160 | G31: 2030 | H31: 213 | I31: 1820 | J31: 2 | K31: 3000 | L31: 92.8
A32: 22 | B32: 301 | C32: 東伊豆町 | D32: 342 | E32: 13 | F32: 12 | G32: 329 | H32: 36 | I32: 293 | J32: - | K32: 329 | L32: 96.2
A33: 22 | B33: 302 | C33: 河津町 | D33: 379 | E33: 84 | F33: 77 | G33: 295 | H33: 75 | I33: 220 | J33: - | K33: 337 | L33: 88.9
A34: 22 | B34: 304 | C34: 南伊豆町 | D34: 440 | E34: 182 | F34: 167 | G34: 258 | H34: 94 | I34: 164 | J34: - | K34: 347 | L34: 78.9
A35: 22 | B35: 305 | C35: 松崎町 | D35: 345 | E35: 141 | F35: 128 | G35: 204 | H35: 88 | I35: 116 | J35: - | K35: 266 | L35: 77.1
A36: 22 | B36: 306 | C36: 西伊豆町 | D36: 84 | E36: 39 | F36: 36 | G36: 45 | H36: 33 | I36: 12 | J36: - | K36: 77 | L36: 91.7
A37: 22 | B37: 307 | C37: 賀茂村 | D37: 93 | E37: 23 | F37: 21 | G37: 70 | H37: 26 | I37: 10 | J37: 34 | K37: 71 | L37: 76.3
A38: 22 | B38: 321 | C38: 伊豆長岡町 | D38: 226 | E38: 105 | F38: 99 | G38: 121 | H38: 44 | I38: 77 | J38: - | K38: 211 | L38: 93.4
A39: 22 | B39: 323 | C39: 戸田村 | D39: 105 | E39: 17 | F39: 15 | G39: 88 | H39: 6 | I39: 82 | J39: - | K39: 106 | L39: 101
A40: 22 | B40: 325 | C40: 函南町 | D40: 725 | E40: 244 | F40: 232 | G40: 481 | H40: 426 | I40: 39 | J40: 16 | K40: 785 | L40: 108.3
A41: 22 | B41: 326 | C41: 韮山町 | D41: 515 | E41: 403 | F41: 392 | G41: 112 | H41: 97 | I41: 15 | J41: 0 | K41: 471 | L41: 91.5
A42: 22 | B42: 327 | C42: 大仁町 | D42: 421 | E42: 146 | F42: 138 | G42: 275 | H42: 243 | I42: 22 | J42: 10 | K42: 320 | L42: 76
A43: 22 | B43: 341 | C43: 清水町 | D43: 125 | E43: 87 | F43: 84 | G43: 38 | H43: 37 | I43: 1 | J43: - | K43: 129 | L43: 103.2
A44: 22 | B44: 342 | C44: 長泉町 | D44: 288 | E44: 70 | F44: 62 | G44: 218 | H44: 183 | I44: 33 | J44: 2 | K44: 320 | L44: 111.1
A45: 22 | B45: 344 | C45: 小山町 | D45: 608 | E45: 468 | F45: 437 | G45: 140 | H45: 113 | I45: 26 | J45: 1 | K45: 558 | L45: 91.8
A46: 22 | B46: 361 | C46: 芝川町 | D46: 579 | E46: 301 | F46: 279 | G46: 278 | H46: 190 | I46: 85 | J46: 3 | K46: 375 | L46: 64.8
A47: 22 | B47: 381 | C47: 富士川町 | D47: 191 | E47: 61 | F47: 58 | G47: 130 | H47: 14 | I47: 116 | J47: - | K47: 178 | L47: 93.2
A48: 22 | B48: 382 | C48: 蒲原町 | D48: 115 | E48: 3 | F48: 3 | G48: 112 | H48: 34 | I48: 78 | J48: - | K48: 72 | L48: 62.6
A49: 22 | B49: 383 | C49: 由比町 | D49: 236 | E49: 2 | F49: 2 | G49: 234 | H49: 18 | I49: 216 | J49: - | K49: 205 | L49: 86.9
A50: 22 | B50: 401 | C50: 岡部町 | D50: 826 | E50: 115 | F50: 108 | G50: 711 | H50: 62 | I50: 649 | J50: - | K50: 777 | L50: 94.1
A51: 22 | B51: 402 | C51: 大井川町 | D51: 745 | E51: 665 | F51: 642 | G51: 80 | H51: 40 | I51: 40 | J51: - | K51: 789 | L51: 105.9
A52: 22 | B52: 422 | C52: 相良町 | D52: 1880 | E52: 337 | F52: 324 | G52: 1540 | H52: 171 | I52: 1370 | J52: - | K52: 1810 | L52: 96.1
A53: 22 | B53: 423 | C53: 榛原町 | D53: 1910 | E53: 402 | F53: 388 | G53: 1510 | H53: 141 | I53: 1370 | J53: - | K53: 2020 | L53: 105.5
A54: 22 | B54: 424 | C54: 吉田町 | D54: 454 | E54: 330 | F54: 318 | G54: 124 | H54: 64 | I54: 60 | J54: - | K54: 542 | L54: 119.4
A55: 22 | B55: 425 | C55: 金谷町 | D55: 1160 | E55: 209 | F55: 197 | G55: 950 | H55: 32 | I55: 918 | J55: - | K55: 1120 | L55: 96.2
A56: 22 | B56: 426 | C56: 川根町 | D56: 456 | E56: 25 | F56: 23 | G56: 431 | H56: 17 | I56: 414 | J56: - | K56: 438 | L56: 96.1
A57: 22 | B57: 427 | C57: 中川根町 | D57: 473 | E57: 14 | F57: 13 | G57: 459 | H57: 20 | I57: 439 | J57: - | K57: 456 | L57: 96.4
A58: 22 | B58: 428 | C58: 本川根町 | D58: 256 | E58: 1 | F58: 1 | G58: 255 | H58: 59 | I58: 196 | J58: - | K58: 214 | L58: 83.6
A59: 22 | B59: 442 | C59: 大須賀町 | D59: 798 | E59: 316 | F59: 304 | G59: 482 | H59: 213 | I59: 268 | J59: 1 | K59: 726 | L59: 91
A60: 22 | B60: 447 | C60: 大東町 | D60: 1430 | E60: 631 | F60: 613 | G60: 798 | H60: 353 | I60: 441 | J60: 4 | K60: 1390 | L60: 97.3
A61: 22 | B61: 461 | C61: 森町 | D61: 1210 | E61: 616 | F61: 593 | G61: 592 | H61: 35 | I61: 557 | J61: - | K61: 1310 | L61: 108.3
A62: 22 | B62: 462 | C62: 春野町 | D62: 505 | E62: 61 | F62: 55 | G62: 444 | H62: 73 | I62: 371 | J62: - | K62: 449 | L62: 88.9
A63: 22 | B63: 481 | C63: 浅羽町 | D63: 1400 | E63: 1100 | F63: 1070 | G63: 301 | H63: 200 | I63: 99 | J63: 2 | K63: 1440 | L63: 103.1
A64: 22 | B64: 482 | C64: 福田町 | D64: 545 | E64: 421 | F64: 410 | G64: 124 | H64: 116 | I64: 0 | J64: 8 | K64: 540 | L64: 99.1
A65: 22 | B65: 483 | C65: 竜洋町 | D65: 622 | E65: 300 | F65: 295 | G65: 322 | H65: 319 | I65: 3 | J65: - | K65: 523 | L65: 84.1
A66: 22 | B66: 484 | C66: 豊田町 | D66: 714 | E66: 337 | F66: 328 | G66: 377 | H66: 220 | I66: 157 | J66: - | K66: 690 | L66: 96.6
A67: 22 | B67: 485 | C67: 豊岡村 | D67: 674 | E67: 211 | F67: 203 | G67: 463 | H67: 319 | I67: 142 | J67: 2 | K67: 542 | L67: 80.4
A68: 22 | B68: 486 | C68: 龍山村 | D68: 51 | E68: - | F68: - | G68: 51 | H68: 8 | I68: 43 | J68: - | K68: 50 | L68: 98
A69: 22 | B69: 487 | C69: 佐久間町 | D69: 189 | E69: 14 | F69: 13 | G69: 175 | H69: 36 | I69: 139 | J69: - | K69: 158 | L69: 83.6
A70: 22 | B70: 488 | C70: 水窪町 | D70: 86 | E70: 6 | F70: 6 | G70: 80 | H70: 43 | I70: 37 | J70: - | K70: 51 | L70: 59.3
A71: 22 | B71: 502 | C71: 舞阪町 | D71: 38 | E71: - | F71: - | G71: 38 | H71: 38 | I71: - | J71: - | K71: 39 | L71: 102.6
A72: 22 | B72: 503 | C72: 新居町 | D72: 168 | E72: 41 | F72: 39 | G72: 127 | H72: 115 | I72: 12 | J72: - | K72: 108 | L72: 64.3
A73: 22 | B73: 505 | C73: 雄踏町 | D73: 262 | E73: 92 | F73: 90 | G73: 170 | H73: 169 | I73: 1 | J73: - | K73: 208 | L73: 79.4
A74: 22 | B74: 521 | C74: 細江町 | D74: 1150 | E74: 308 | F74: 296 | G74: 842 | H74: 197 | I74: 645 | J74: - | K74: 964 | L74: 83.8
A75: 22 | B75: 522 | C75: 引佐町 | D75: 1240 | E75: 262 | F75: 245 | G75: 978 | H75: 372 | I75: 606 | J75: - | K75: 912 | L75: 73.5
A76: 22 | B76: 523 | C76: 三ヶ日町 | D76: 2230 | E76: 173 | F76: 165 | G76: 2050 | H76: 67 | I76: 1990 | J76: - | K76: 2130 | L76: 95.7
A78: 利用上の注意
A79: このデータは「耕地及び作付面積調査」の県計値を当該市町村における調査結果、関係機関・団体からの情報等により作成したものである。

Sheet 17
A1: 農林水産関係市町村別データ
A2: 平成17年
A3: 耕地面積
A4: 静岡県
A5: 都道 | B5: 市町 | D5: 耕地面積 | E5: 田耕地面積 | F5: 田本地面積 | G5: 畑耕地面積 | H5: 普通畑 | I5: 樹園地 | J5: 牧草地 | K5: 田畑計の作 | L5: 田畑計の耕
A6: 府県 | B6: 村 | C6: 市町村名 | K6: 付延べ面積 | L6: 地利用率
A7: ｺｰﾄﾞ | B7: ｺｰﾄﾞ
D8: ha | E8: ha | F8: ha | G8: ha | H8: ha | I8: ha | J8: ha | K8: ha | L8: 0.0%
A9: 22 | B9: 100 | C9: 静岡市 | D9: 6500 | E9: 674 | F9: 645 | G9: 5830 | H9: 544 | I9: 5260 | J9: 23 | K9: 6060 | L9: 93.2
A10: 22 | B10: 202 | C10: 浜松市 | D10: 13600 | E10: 2980 | F10: 2880 | G10: 10600 | H10: 5240 | I10: 5350 | J10: - | K10: 11800 | L10: 86.8
A11: 22 | B11: 203 | C11: 沼津市 | D11: 2320 | E11: 487 | F11: 467 | G11: 1830 | H11: 407 | I11: 1420 | J11: 3 | K11: 2180 | L11: 94
A12: 22 | B12: 205 | C12: 熱海市 | D12: 253 | E12: 0 | F12: 0 | G12: 253 | H12: 41 | I12: 212 | J12: - | K12: 237 | L12: 93.7
A13: 22 | B13: 206 | C13: 三島市 | D13: 910 | E13: 311 | F13: 297 | G13: 599 | H13: 529 | I13: 55 | J13: 15 | K13: 974 | L13: 107
A14: 22 | B14: 207 | C14: 富士宮市 | D14: 2870 | E14: 647 | F14: 604 | G14: 2230 | H14: 783 | I14: 298 | J14: 1150 | K14: 2550 | L14: 88.9
A15: 22 | B15: 208 | C15: 伊東市 | D15: 643 | E15: 30 | F15: 27 | G15: 613 | H15: 336 | I15: 277 | J15: - | K15: 467 | L15: 72.6
A16: 22 | B16: 209 | C16: 島田市 | D16: 3090 | E16: 794 | F16: 763 | G16: 2300 | H16: 109 | I16: 2190 | J16: - | K16: 3090 | L16: 100
A17: 22 | B17: 210 | C17: 富士市 | D17: 2670 | E17: 735 | F17: 700 | G17: 1930 | H17: 766 | I17: 1160 | J17: 2 | K17: 2330 | L17: 87.3
A18: 22 | B18: 211 | C18: 磐田市 | D18: 4760 | E18: 2400 | F18: 2350 | G18: 2360 | H18: 1400 | I18: 951 | J18: 10 | K18: 4330 | L18: 91
A19: 22 | B19: 212 | C19: 焼津市 | D19: 985 | E19: 750 | F19: 724 | G19: 235 | H19: 82 | I19: 153 | J19: - | K19: 822 | L19: 83.5
A20: 22 | B20: 213 | C20: 掛川市 | D20: 5590 | E20: 2250 | F20: 2160 | G20: 3350 | H20: 696 | I20: 2640 | J20: 9 | K20: 5160 | L20: 92.3
A21: 22 | B21: 214 | C21: 藤枝市 | D21: 2610 | E21: 991 | F21: 956 | G21: 1620 | H21: 164 | I21: 1460 | J21: - | K21: 2420 | L21: 92.7
A22: 22 | B22: 215 | C22: 御殿場市 | D22: 2010 | E22: 1400 | F22: 1290 | G22: 610 | H22: 532 | I22: 70 | J22: 8 | K22: 1700 | L22: 84.6
A23: 22 | B23: 216 | C23: 袋井市 | D23: 3660 | E23: 2510 | F23: 2440 | G23: 1150 | H23: 273 | I23: 869 | J23: 4 | K23: 3770 | L23: 103
A24: 22 | B24: 219 | C24: 下田市 | D24: 297 | E24: 119 | F24: 109 | G24: 178 | H24: 87 | I24: 91 | J24: - | K24: 251 | L24: 84.5
A25: 22 | B25: 220 | C25: 裾野市 | D25: 925 | E25: 335 | F25: 314 | G25: 590 | H25: 534 | I25: 56 | J25: 0 | K25: 776 | L25: 83.9
A26: 22 | B26: 221 | C26: 湖西市 | D26: 1200 | E26: 266 | F26: 257 | G26: 938 | H26: 608 | I26: 330 | J26: - | K26: 953 | L26: 79.4
A27: 22 | B27: 222 | C27: 伊豆市 | D27: 1360 | E27: 765 | F27: 693 | G27: 595 | H27: 361 | I27: 191 | J27: 43 | K27: 1120 | L27: 82.4
A28: 22 | B28: 223 | C28: 御前崎市 | D28: 1800 | E28: 476 | F28: 454 | G28: 1320 | H28: 601 | I28: 722 | J28: - | K28: 1440 | L28: 80
A29: 22 | B29: 224 | C29: 菊川市 | D29: 3210 | E29: 1180 | F29: 1140 | G29: 2030 | H29: 214 | I29: 1820 | J29: 2 | K29: 2960 | L29: 92.2
A30: 22 | B30: 225 | C30: 伊豆の国市 | D30: 1160 | E30: 652 | F30: 627 | G30: 508 | H30: 384 | I30: 114 | J30: 10 | K30: 998 | L30: 86
A31: 22 | B31: 226 | C31: 牧之原市 | D31: 3790 | E31: 731 | F31: 704 | G31: 3060 | H31: 314 | I31: 2750 | J31: - | K31: 3770 | L31: 99.5
A32: 22 | B32: 301 | C32: 東伊豆町 | D32: 342 | E32: 13 | F32: 12 | G32: 329 | H32: 36 | I32: 293 | J32: - | K32: 330 | L32: 96.5
A33: 22 | B33: 302 | C33: 河津町 | D33: 379 | E33: 84 | F33: 77 | G33: 295 | H33: 75 | I33: 220 | J33: - | K33: 335 | L33: 88.4
A34: 22 | B34: 304 | C34: 南伊豆町 | D34: 439 | E34: 181 | F34: 166 | G34: 258 | H34: 95 | I34: 163 | J34: - | K34: 344 | L34: 78.4
A35: 22 | B35: 305 | C35: 松崎町 | D35: 344 | E35: 140 | F35: 127 | G35: 204 | H35: 89 | I35: 115 | J35: - | K35: 261 | L35: 75.9
A36: 22 | B36: 306 | C36: 西伊豆町 | D36: 177 | E36: 62 | F36: 57 | G36: 115 | H36: 59 | I36: 22 | J36: 34 | K36: 148 | L36: 83.6
A37: 22 | B37: 325 | C37: 函南町 | D37: 723 | E37: 243 | F37: 231 | G37: 480 | H37: 425 | I37: 39 | J37: 16 | K37: 777 | L37: 107.5
A38: 22 | B38: 341 | C38: 清水町 | D38: 125 | E38: 87 | F38: 84 | G38: 38 | H38: 37 | I38: 1 | J38: - | K38: 128 | L38: 102.4
A39: 22 | B39: 342 | C39: 長泉町 | D39: 286 | E39: 69 | F39: 61 | G39: 217 | H39: 183 | I39: 32 | J39: 2 | K39: 319 | L39: 111.5
A40: 22 | B40: 344 | C40: 小山町 | D40: 608 | E40: 468 | F40: 437 | G40: 140 | H40: 113 | I40: 26 | J40: 1 | K40: 579 | L40: 95.2
A41: 22 | B41: 361 | C41: 芝川町 | D41: 574 | E41: 300 | F41: 278 | G41: 274 | H41: 189 | I41: 82 | J41: 3 | K41: 369 | L41: 64.3
A42: 22 | B42: 381 | C42: 富士川町 | D42: 189 | E42: 60 | F42: 57 | G42: 129 | H42: 14 | I42: 115 | J42: - | K42: 179 | L42: 94.7
A43: 22 | B43: 383 | C43: 由比町 | D43: 231 | E43: 2 | F43: 2 | G43: 229 | H43: 15 | I43: 214 | J43: - | K43: 204 | L43: 88.3
A44: 22 | B44: 401 | C44: 岡部町 | D44: 814 | E44: 108 | F44: 102 | G44: 706 | H44: 61 | I44: 645 | J44: - | K44: 761 | L44: 93.5
A45: 22 | B45: 402 | C45: 大井川町 | D45: 734 | E45: 654 | F45: 632 | G45: 80 | H45: 40 | I45: 40 | J45: - | K45: 780 | L45: 106.3
A46: 22 | B46: 424 | C46: 吉田町 | D46: 449 | E46: 326 | F46: 314 | G46: 123 | H46: 64 | I46: 59 | J46: - | K46: 525 | L46: 116.9
A47: 22 | B47: 426 | C47: 川根町 | D47: 449 | E47: 24 | F47: 22 | G47: 425 | H47: 13 | I47: 412 | J47: - | K47: 435 | L47: 96.9
A48: 22 | B48: 429 | C48: 川根本町 | D48: 720 | E48: 14 | F48: 13 | G48: 706 | H48: 73 | I48: 633 | J48: - | K48: 680 | L48: 94.4
A49: 22 | B49: 461 | C49: 森町 | D49: 1200 | E49: 613 | F49: 590 | G49: 591 | H49: 35 | I49: 556 | J49: - | K49: 1330 | L49: 110.8
A50: 22 | B50: 503 | C50: 新居町 | D50: 150 | E50: 39 | F50: 37 | G50: 111 | H50: 98 | I50: 13 | J50: - | K50: 106 | L50: 70.7
A52: 利用上の注意
A53: このデータは「耕地及び作付面積調査」の県計値を当該市町村における調査結果、関係機関・団体からの情報等により作成したものである。

Sheet 18
A1: 農林水産関係市町村別データ
A2: 平成18年
A3: 耕地面積
A4: 静岡県
A5: 都道 | B5: 市町 | D5: 耕地面積 | E5: 田耕地面積 | F5: 田本地面積 | G5: 畑耕地面積 | H5: 普通畑 | I5: 樹園地 | J5: 牧草地 | K5: 田畑計の作 | L5: 田畑計の耕
A6: 府県 | B6: 村 | C6: 市町村名 | K6: 付延べ面積 | L6: 地利用率
A7: ｺｰﾄﾞ | B7: ｺｰﾄﾞ
D8: ha | E8: ha | F8: ha | G8: ha | H8: ha | I8: ha | J8: ha | K8: ha | L8: 0.0%
A9: 22 | B9: 100 | C9: 静岡市 | D9: 6390 | E9: 662 | F9: 634 | G9: 5730 | H9: 547 | I9: 5160 | J9: 23 | K9: 5950 | L9: 93.1
A10: 22 | B10: 202 | C10: 浜松市 | D10: 13400 | E10: 2920 | F10: 2830 | G10: 10500 | H10: 5160 | I10: 5340 | J10: - | K10: 11600 | L10: 86.6
A11: 22 | B11: 203 | C11: 沼津市 | D11: 2320 | E11: 487 | F11: 467 | G11: 1830 | H11: 406 | I11: 1420 | J11: 3 | K11: 2190 | L11: 94.4
A12: 22 | B12: 205 | C12: 熱海市 | D12: 253 | E12: 0 | F12: 0 | G12: 253 | H12: 41 | I12: 212 | J12: - | K12: 231 | L12: 91.3
A13: 22 | B13: 206 | C13: 三島市 | D13: 903 | E13: 307 | F13: 294 | G13: 596 | H13: 527 | I13: 55 | J13: 14 | K13: 943 | L13: 104.4
A14: 22 | B14: 207 | C14: 富士宮市 | D14: 2850 | E14: 641 | F14: 599 | G14: 2210 | H14: 783 | I14: 297 | J14: 1130 | K14: 2510 | L14: 88.1
A15: 22 | B15: 208 | C15: 伊東市 | D15: 621 | E15: 28 | F15: 25 | G15: 593 | H15: 316 | I15: 277 | J15: - | K15: 441 | L15: 71
A16: 22 | B16: 209 | C16: 島田市 | D16: 3050 | E16: 776 | F16: 746 | G16: 2270 | H16: 98 | I16: 2170 | J16: - | K16: 3050 | L16: 100
A17: 22 | B17: 210 | C17: 富士市 | D17: 2630 | E17: 710 | F17: 677 | G17: 1920 | H17: 760 | I17: 1160 | J17: 1 | K17: 2310 | L17: 87.8
A18: 22 | B18: 211 | C18: 磐田市 | D18: 4760 | E18: 2400 | F18: 2340 | G18: 2360 | H18: 1390 | I18: 953 | J18: 10 | K18: 4280 | L18: 89.9
A19: 22 | B19: 212 | C19: 焼津市 | D19: 964 | E19: 740 | F19: 714 | G19: 224 | H19: 72 | I19: 152 | J19: - | K19: 806 | L19: 83.6
A20: 22 | B20: 213 | C20: 掛川市 | D20: 5580 | E20: 2240 | F20: 2150 | G20: 3340 | H20: 693 | I20: 2640 | J20: 9 | K20: 5120 | L20: 91.8
A21: 22 | B21: 214 | C21: 藤枝市 | D21: 2580 | E21: 975 | F21: 941 | G21: 1600 | H21: 161 | I21: 1440 | J21: - | K21: 2410 | L21: 93.4
A22: 22 | B22: 215 | C22: 御殿場市 | D22: 2010 | E22: 1400 | F22: 1290 | G22: 607 | H22: 530 | I22: 69 | J22: 8 | K22: 1700 | L22: 84.6
A23: 22 | B23: 216 | C23: 袋井市 | D23: 3630 | E23: 2480 | F23: 2410 | G23: 1160 | H23: 308 | I23: 844 | J23: 4 | K23: 3660 | L23: 100.8
A24: 22 | B24: 219 | C24: 下田市 | D24: 297 | E24: 119 | F24: 109 | G24: 178 | H24: 87 | I24: 91 | J24: - | K24: 242 | L24: 81.5
A25: 22 | B25: 220 | C25: 裾野市 | D25: 918 | E25: 332 | F25: 312 | G25: 586 | H25: 533 | I25: 53 | J25: 0 | K25: 765 | L25: 83.3
A26: 22 | B26: 221 | C26: 湖西市 | D26: 1160 | E26: 262 | F26: 253 | G26: 901 | H26: 571 | I26: 330 | J26: - | K26: 938 | L26: 80.9
A27: 22 | B27: 222 | C27: 伊豆市 | D27: 1360 | E27: 768 | F27: 695 | G27: 590 | H27: 358 | I27: 190 | J27: 42 | K27: 1120 | L27: 82.4
A28: 22 | B28: 223 | C28: 御前崎市 | D28: 1760 | E28: 456 | F28: 435 | G28: 1300 | H28: 600 | I28: 704 | J28: - | K28: 1420 | L28: 80.7
A29: 22 | B29: 224 | C29: 菊川市 | D29: 3190 | E29: 1160 | F29: 1120 | G29: 2030 | H29: 217 | I29: 1810 | J29: 2 | K29: 2960 | L29: 92.8
A30: 22 | B30: 225 | C30: 伊豆の国市 | D30: 1160 | E30: 652 | F30: 627 | G30: 508 | H30: 384 | I30: 114 | J30: 10 | K30: 985 | L30: 84.9
A31: 22 | B31: 226 | C31: 牧之原市 | D31: 3790 | E31: 722 | F31: 695 | G31: 3060 | H31: 304 | I31: 2760 | J31: - | K31: 3770 | L31: 99.5
A32: 22 | B32: 301 | C32: 東伊豆町 | D32: 342 | E32: 13 | F32: 12 | G32: 329 | H32: 36 | I32: 293 | J32: - | K32: 327 | L32: 95.6
A33: 22 | B33: 302 | C33: 河津町 | D33: 379 | E33: 84 | F33: 77 | G33: 295 | H33: 75 | I33: 220 | J33: - | K33: 328 | L33: 86.5
A34: 22 | B34: 304 | C34: 南伊豆町 | D34: 439 | E34: 181 | F34: 166 | G34: 258 | H34: 95 | I34: 163 | J34: - | K34: 332 | L34: 75.6
A35: 22 | B35: 305 | C35: 松崎町 | D35: 342 | E35: 138 | F35: 125 | G35: 204 | H35: 89 | I35: 115 | J35: - | K35: 258 | L35: 75.4
A36: 22 | B36: 306 | C36: 西伊豆町 | D36: 176 | E36: 62 | F36: 57 | G36: 114 | H36: 58 | I36: 22 | J36: 34 | K36: 145 | L36: 82.4
A37: 22 | B37: 325 | C37: 函南町 | D37: 723 | E37: 243 | F37: 231 | G37: 480 | H37: 427 | I37: 39 | J37: 14 | K37: 752 | L37: 104
A38: 22 | B38: 341 | C38: 清水町 | D38: 122 | E38: 86 | F38: 83 | G38: 36 | H38: 35 | I38: 1 | J38: - | K38: 124 | L38: 101.6
A39: 22 | B39: 342 | C39: 長泉町 | D39: 281 | E39: 67 | F39: 59 | G39: 214 | H39: 181 | I39: 31 | J39: 2 | K39: 314 | L39: 111.7
A40: 22 | B40: 344 | C40: 小山町 | D40: 606 | E40: 468 | F40: 437 | G40: 138 | H40: 111 | I40: 26 | J40: 1 | K40: 566 | L40: 93.4
A41: 22 | B41: 361 | C41: 芝川町 | D41: 569 | E41: 299 | F41: 277 | G41: 270 | H41: 188 | I41: 82 | J41: 0 | K41: 363 | L41: 63.8
A42: 22 | B42: 381 | C42: 富士川町 | D42: 186 | E42: 60 | F42: 57 | G42: 126 | H42: 14 | I42: 112 | J42: - | K42: 172 | L42: 92.5
A43: 22 | B43: 383 | C43: 由比町 | D43: 227 | E43: 2 | F43: 2 | G43: 225 | H43: 14 | I43: 211 | J43: - | K43: 200 | L43: 88.1
A44: 22 | B44: 401 | C44: 岡部町 | D44: 803 | E44: 103 | F44: 97 | G44: 700 | H44: 59 | I44: 641 | J44: - | K44: 755 | L44: 94
A45: 22 | B45: 402 | C45: 大井川町 | D45: 708 | E45: 628 | F45: 607 | G45: 80 | H45: 40 | I45: 40 | J45: - | K45: 729 | L45: 103
A46: 22 | B46: 424 | C46: 吉田町 | D46: 437 | E46: 316 | F46: 304 | G46: 121 | H46: 62 | I46: 59 | J46: - | K46: 516 | L46: 118.1
A47: 22 | B47: 426 | C47: 川根町 | D47: 449 | E47: 23 | F47: 21 | G47: 426 | H47: 12 | I47: 414 | J47: - | K47: 440 | L47: 98
A48: 22 | B48: 429 | C48: 川根本町 | D48: 715 | E48: 14 | F48: 13 | G48: 701 | H48: 70 | I48: 631 | J48: - | K48: 655 | L48: 91.6
A49: 22 | B49: 461 | C49: 森町 | D49: 1200 | E49: 610 | F49: 586 | G49: 590 | H49: 31 | I49: 559 | J49: - | K49: 1330 | L49: 110.8
A50: 22 | B50: 503 | C50: 新居町 | D50: 133 | E50: 37 | F50: 35 | G50: 96 | H50: 83 | I50: 13 | J50: - | K50: 99 | L50: 74.4
A52: 利用上の注意
A53: この市町村別データは、「耕地面積調査」の県計値を当該市町村における調査結果、関係機関からの情報等
A54: により加工したものである。

Sheet 19
A1: 農林水産関係市町村別データ
A2: 平成19年
A3: 耕地面積
A4: 静岡県
A5: 都道 | B5: 市町 | D5: 耕地面積 | E5: 田耕地面積 | F5: 田本地面積 | G5: 畑耕地面積
A6: 府県 | B6: 村 | C6: 市町村名
A7: ｺｰﾄﾞ | B7: ｺｰﾄﾞ
D8: ha | E8: ha | F8: ha | G8: ha
A9: 22 | B9: 100 | C9: 静岡市 | D9: 6200 | E9: 642 | F9: 615 | G9: 5560
A10: 22 | B10: 130 | C10: 浜松市 | D10: 13300 | E10: 2890 | F10: 2800 | G10: 10400
A11: 22 | B11: 203 | C11: 沼津市 | D11: 2310 | E11: 482 | F11: 462 | G11: 1830
A12: 22 | B12: 205 | C12: 熱海市 | D12: 249 | E12: 0 | F12: 0 | G12: 249
A13: 22 | B13: 206 | C13: 三島市 | D13: 896 | E13: 303 | F13: 291 | G13: 593
A14: 22 | B14: 207 | C14: 富士宮市 | D14: 2800 | E14: 638 | F14: 596 | G14: 2160
A15: 22 | B15: 208 | C15: 伊東市 | D15: 606 | E15: 28 | F15: 25 | G15: 578
A16: 22 | B16: 209 | C16: 島田市 | D16: 3010 | E16: 750 | F16: 721 | G16: 2260
A17: 22 | B17: 210 | C17: 富士市 | D17: 2610 | E17: 699 | F17: 667 | G17: 1920
A18: 22 | B18: 211 | C18: 磐田市 | D18: 4720 | E18: 2390 | F18: 2330 | G18: 2330
A19: 22 | B19: 212 | C19: 焼津市 | D19: 939 | E19: 710 | F19: 686 | G19: 229
A20: 22 | B20: 213 | C20: 掛川市 | D20: 5570 | E20: 2230 | F20: 2140 | G20: 3340
... A50: 22 | B50: 503 | C50: 新居町 | D50: 128 | E50: 35 | F50: 33 | G50: 93
A52: 利用上の注意
A53: １ この市町村別データは、「作物統計調査」を実施する上で把握した地域における標本調査及び現地見積りの結果、
A54: 関係機関からの情報等をもとに都道府県計値の内訳として市町村別に作成した加工統計であり、作成するうえで
A55: 精度を設定しているものではない。
A56: なお、「作物統計調査」は都道府県計値を求めるために設計されている。
A57: ２ 市町村間の出作・入作を考慮していない（属地統計）。
A58: ３ 数値については、四捨五入しており、都道府県計値と市町村別の内訳の計が一致しないことがある。

Sheet 20
A1: 農林水産関係市町村別データ
A2: 平成20年
A3: 耕地面積
A4: 静岡県
A5: 都道 | B5: 市町 | D5: 耕地面積 | E5: 田耕地面積 | G5: 畑耕地面積
A6: 府県 | B6: 村 | C6: 市町村名 | F6: 田本地面積
A7: ｺｰﾄﾞ | B7: ｺｰﾄﾞ
D8: ha | E8: ha | F8: ha | G8: ha
A9: 22 | B9: 100 | C9: 静岡市 | D9: 6040 | E9: 627 | F9: 601 | G9: 5410
A10: 22 | B10: 130 | C10: 浜松市 | D10: 13100 | E10: 2770 | F10: 2680 | G10: 10300
A11: 22 | B11: 203 | C11: 沼津市 | D11: 2300 | E11: 475 | F11: 455 | G11: 1820
A12: 22 | B12: 205 | C12: 熱海市 | D12: 246 | E12: 0 | F12: 0 | G12: 246
A13: 22 | B13: 206 | C13: 三島市 | D13: 888 | E13: 297 | F13: 286 | G13: 591
A14: 22 | B14: 207 | C14: 富士宮市 | D14: 2780 | E14: 634 | F14: 592 | G14: 2150
A15: 22 | B15: 208 | C15: 伊東市 | D15: 575 | E15: 27 | F15: 24 | G15: 548
A16: 22 | B16: 209 | C16: 島田市 | D16: 3410 | E16: 737 | F16: 707 | G16: 2670
A17: 22 | B17: 210 | C17: 富士市 | D17: 2610 | E17: 699 | F17: 667 | G17: 1920
A18: 22 | B18: 211 | C18: 磐田市 | D18: 4700 | E18: 2380 | F18: 2330 | G18: 2320
A19: 22 | B19: 212 | C19: 焼津市 | D19: 927 | E19: 700 | F19: 676 | G19: 227
A20: 22 | B20: 213 | C20: 掛川市 | D20: 5550 | E20: 2210 | F20: 2120 | G20: 3340
... A49: 22 | B49: 503 | C49: 新居町 | D49: 129 | E49: 37 | F49: 35 | G49: 92
A51: 利用上の注意
A52: １ この市町村別データは、「作物統計調査」を実施する上で把握した地域における標本調査及び現地見積りの結果、
A53: 関係機関からの情報等をもとに都道府県計値の内訳として市町村別に作成した加工統計であり、作成するうえで
A54: 精度を設定しているものではない。
A55: なお、「作物統計調査」は都道府県計値を求めるために設計されている。
A56: ２ 市町村間の出作・入作を考慮していない（属地統計）。
A57: ３ 数値については、四捨五入しており、都道府県計値と市町村別の内訳の計が一致しないことがある。

Sheet 21
A1: 農林水産関係市町村別データ
A2: 平成21年産
A3: 耕地面積
A4: 静岡県
A5: 都道 | B5: 市町 | D5: 耕地面積 | E5: 田耕地面積 | G5: 畑耕地面積
A6: 府県 | B6: 村 | C6: 市町村名 | F6: 田本地面積
A7: ｺｰﾄﾞ | B7: ｺｰﾄﾞ
D8: ha | E8: ha | F8: ha | G8: ha
A9: 22 | B9: 100 | C9: 静岡市 | D9: 5630 | E9: 621 | F9: 595 | G9: 5010
A10: 22 | B10: 130 | C10: 浜松市 | D10: 13000 | E10: 2660 | F10: 2580 | G10: 10300
A11: 22 | B11: 203 | C11: 沼津市 | D11: 2280 | E11: 469 | F11: 449 | G11: 1810
A12: 22 | B12: 205 | C12: 熱海市 | D12: 244 | E12: 0 | F12: 0 | G12: 244
A13: 22 | B13: 206 | C13: 三島市 | D13: 882 | E13: 293 | F13: 282 | G13: 589
A14: 22 | B14: 207 | C14: 富士宮市 | D14: 2760 | E14: 631 | F14: 589 | G14: 2130
A15: 22 | B15: 208 | C15: 伊東市 | D15: 543 | E15: 27 | F15: 24 | G15: 516
A16: 22 | B16: 209 | C16: 島田市 | D16: 3390 | E16: 728 | F16: 698 | G16: 2670
A17: 22 | B17: 210 | C17: 富士市 | D17: 2760 | E17: 739 | F17: 706 | G17: 2020
A18: 22 | B18: 211 | C18: 磐田市 | D18: 4670 | E18: 2370 | F18: 2310 | G18: 2310
A19: 22 | B19: 212 | C19: 焼津市 | D19: 1610 | E19: 1310 | F19: 1260 | G19: 303
A20: 22 | B20: 213 | C20: 掛川市 | D20: 5490 | E20: 2200 | F20: 2110 | G20: 3300
... A45: 22 | B45: 503 | C45: 新居町 | D45: 124 | E45: 37 | F45: 35 | G45: 87
A47: 利用上の注意
A48: １ この市町村別データは、「作物統計調査」を実施する上で把握した地域における標本調査及び現地見積りの結果、
A49: 関係機関からの情報等をもとに都道府県計値の内訳として市町村別に作成した加工統計であり、作成するうえで
A50: 精度を設定しているものではない。
A51: なお、「作物統計調査」は都道府県計値を求めるために設計されている。
A52: ２ 市町村間の出作・入作を考慮していない（属地統計）。
A53: ３ 数値については、四捨五入しており、都道府県計値と市町村別の内訳の計が一致しないことがある。

Sheet 22
A1: 農林水産関係市町村別統計
A2: 平成22年
A3: 耕地面積
A4: 静岡県
A5: 都道 | B5: 市町 | D5: 耕地面積 | E5: 田耕地面積 | G5: 畑耕地面積
A6: 府県 | B6: 村 | C6: 市町村名 | F6: 田本地面積
A7: ｺｰﾄﾞ | B7: ｺｰﾄﾞ
D8: ha | E8: ha | F8: ha | G8: ha
A9: 22 | B9: 100 | C9: 静岡市 | D9: 5500 | E9: 616 | F9: 590 | G9: 4890
A10: 22 | B10: 130 | C10: 浜松市 | D10: 12900 | E10: 2640 | F10: 2560 | G10: 10200
A11: 22 | B11: 203 | C11: 沼津市 | D11: 2270 | E11: 465 | F11: 446 | G11: 1800
A12: 22 | B12: 205 | C12: 熱海市 | D12: 243 | E12: 0 | F12: 0 | G12: 243
A13: 22 | B13: 206 | C13: 三島市 | D13: 878 | E13: 290 | F13: 279 | G13: 588
A14: 22 | B14: 207 | C14: 富士宮市 | D14: 3290 | E14: 912 | F14: 848 | G14: 2380
A15: 22 | B15: 208 | C15: 伊東市 | D15: 538 | E15: 27 | F15: 24 | G15: 511
A16: 22 | B16: 209 | C16: 島田市 | D16: 3350 | E16: 723 | F16: 693 | G16: 2630
A17: 22 | B17: 210 | C17: 富士市 | D17: 2740 | E17: 726 | F17: 693 | G17: 2010
A18: 22 | B18: 211 | C18: 磐田市 | D18: 4650 | E18: 2360 | F18: 2300 | G18: 2290
A19: 22 | B19: 212 | C19: 焼津市 | D19: 1600 | E19: 1300 | F19: 1260 | G19: 302
A20: 22 | B20: 213 | C20: 掛川市 | D20: 5460 | E20: 2180 | F20: 2090 | G20: 3280
... A43: 22 | B43: 461 | C43: 森町 | D43: 1190 | E43: 597 | F43: 573 | G43: 597
A45: 利用上の注意
A46: １ この市町村別統計は、「作物統計調査」を実施する上で把握した地域における標本調査及び現地見積りの結果、
A47: 関係機関からの情報等を踏まえ、都道府県計値の内訳として市町村別に作成した加工統計であり、作成するうえで
A48: 精度を設定しているものではない。
A49: なお、「作物統計調査」は都道府県計値を求めるために設計されている。
A50: ２ 耕作者の市町村間の出作・入作を考慮していない（属地統計）。
A51: ３ 数値は四捨五入しており、市町村値の計が都道府県値と一致しないことがある。

Sheet 23
A1: 農林水産関係市町村別統計
A2: 平成23年
A3: 耕地面積
A4: 静岡県
A5: 都道 | B5: 市町 | D5: 耕地面積 | E5: 田耕地面積 | G5: 畑耕地面積
A6: 府県 | B6: 村 | C6: 市町村名 | F6: 田本地面積
A7: ｺｰﾄﾞ | B7: ｺｰﾄﾞ
D8: ha | E8: ha | F8: ha | G8: ha
A9: 22 | B9: 100 | C9: 静岡市 | D9: 5390 | E9: 610 | F9: 584 | G9: 4780
A10: 22 | B10: 130 | C10: 浜松市 | D10: 12800 | E10: 2630 | F10: 2550 | G10: 10200
A11: 22 | B11: 203 | C11: 沼津市 | D11: 2230 | E11: 460 | F11: 442 | G11: 1770
A12: 22 | B12: 205 | C12: 熱海市 | D12: 232 | E12: 0 | F12: 0 | G12: 232
A13: 22 | B13: 206 | C13: 三島市 | D13: 872 | E13: 287 | F13: 276 | G13: 585
A14: 22 | B14: 207 | C14: 富士宮市 | D14: 3270 | E14: 909 | F14: 845 | G14: 2360
A15: 22 | B15: 208 | C15: 伊東市 | D15: 508 | E15: 27 | F15: 24 | G15: 481
A16: 22 | B16: 209 | C16: 島田市 | D16: 3330 | E16: 717 | F16: 688 | G16: 2610
A17: 22 | B17: 210 | C17: 富士市 | D17: 2720 | E17: 717 | F17: 684 | G17: 2000
A18: 22 | B18: 211 | C18: 磐田市 | D18: 4630 | E18: 2350 | F18: 2290 | G18: 2290
A19: 22 | B19: 212 | C19: 焼津市 | D19: 1590 | E19: 1300 | F19: 1250 | G19: 295
A20: 22 | B20: 213 | C20: 掛川市 | D20: 5410 | E20: 2170 | F20: 2090 | G20: 3230
... A43: 22 | B43: 461 | C43: 森町 | D43: 1190 | E43: 597 | F43: 573 | G43: 592
C45: 計 | D45: 70200 | E45: 23300 | F45: 22300 | G45: 46900
A47: 利用上の注意
A48: １ この市町村別統計は、「作物統計調査」を実施する上で把握した地域における標本調査及び現地見積りの結果、
A49: 関係機関からの情報等を踏まえ、都道府県計値の内訳として市町村別に作成した加工統計であり、作成するうえで
A50: 精度を設定しているものではない。
A51: なお、「作物統計調査」は都道府県計値を求めるために設計されている。
A52: ２ 耕作者の市町村間の出作・入作を考慮していない（属地統計）。
A53: ３ 数値は四捨五入しており、市町村値の計が都道府県値と一致しないことがある。

Sheet 24
A1: 農林水産関係市町村別統計
A2: 平成24年
A3: 耕地面積
A4: 静岡県
A5: 都道 | B5: 市町 | D5: 耕地面積 | E5: 田耕地面積 | G5: 畑耕地面積
A6: 府県 | B6: 村 | C6: 市町村名 | F6: 田本地面積
A7: ｺｰﾄﾞ | B7: ｺｰﾄﾞ
D8: ha | E8: ha | F8: ha | G8: ha
A9: 22 | B9: 100 | C9: 静岡市 | D9: 5300 | E9: 602 | F9: 576 | G9: 4700
A10: 22 | B10: 130 | C10: 浜松市 | D10: 12800 | E10: 2620 | F10: 2540 | G10: 10200
A11: 22 | B11: 203 | C11: 沼津市 | D11: 2210 | E11: 457 | F11: 439 | G11: 1750
A12: 22 | B12: 205 | C12: 熱海市 | D12: 212 | E12: - | F12: - | G12: 212
A13: 22 | B13: 206 | C13: 三島市 | D13: 865 | E13: 283 | F13: 272 | G13: 582
A14: 22 | B14: 207 | C14: 富士宮市 | D14: 3250 | E14: 906 | F14: 842 | G14: 2350
A15: 22 | B15: 208 | C15: 伊東市 | D15: 461 | E15: 25 | F15: 23 | G15: 436
A16: 22 | B16: 209 | C16: 島田市 | D16: 3290 | E16: 709 | F16: 680 | G16: 2580
A17: 22 | B17: 210 | C17: 富士市 | D17: 2690 | E17: 707 | F17: 674 | G17: 1990
A18: 22 | B18: 211 | C18: 磐田市 | D18: 4620 | E18: 2340 | F18: 2290 | G18: 2280
A19: 22 | B19: 212 | C19: 焼津市 | D19: 1580 | E19: 1290 | F19: 1250 | G19: 288
A20: 22 | B20: 213 | C20: 掛川市 | D20: 5380 | E20: 2170 | F20: 2080 | G20: 3210
A21: 22 | B21: 214 | C21: 藤枝市 | D21: 2890 | E21: 981 | F21: 945 | G21: 1910
A22: 22 | B22: 215 | C22: 御殿場市 | D22: 1950 | E22: 1360 | F22: 1260 | G22: 587
A23: 22 | B23: 216 | C23: 袋井市 | D23: 3430 | E23: 2340 | F23: 2280 | G23: 1080
A24: 22 | B24: 219 | C24: 下田市 | D24: 280 | E24: 113 | F24: 103 | G24: 167
... A43: 22 | B43: 461 | C43: 森町 | D43: 1190 | E43: 596 | F43: 572 | G43: 591
C45: 計 | D45: 69700 | E45: 23200 | F45: 22200 | G45: 46500
A47: 利用上の注意
A48: １ この市町村別統計は、「作物統計調査」を実施する上で把握した地域における標本調査及び現地見積りの結果、
A49: 関係機関からの情報等を踏まえ、都道府県計値の内訳として市町村別に作成した加工統計であり、作成する上で
A50: 精度を設定しているものではない。
A51: なお、「作物統計調査」は都道府県計値を求めるために設計されている。
A52: ２ 耕作者の市町村間の出作・入作を考慮していない（属地統計）。
A53: ３ 数値は四捨五入しており、市町村値の計が都道府県値と一致しないことがある。

Sheet 25
A1: 農林水産関係市町村別統計
A2: 平成25年
A3: 耕地面積
A4: 静岡県
A5: 都道 | B5: 市町 | D5: 耕地面積 | E5: 田耕地面積 | G5: 畑耕地面積
A6: 府県 | B6: 村 | C6: 市町村名 | F6: 田本地面積
A7: ｺｰﾄﾞ | B7: ｺｰﾄﾞ
D8: ha | E8: ha | F8: ha | G8: ha
A9: 22 | B9: 100 | C9: 静岡市 | D9: 5260 | E9: 593 | F9: 567 | G9: 4670
A10: 22 | B10: 130 | C10: 浜松市 | D10: 12700 | E10: 2610 | F10: 2540 | G10: 10100
A11: 22 | B11: 203 | C11: 沼津市 | D11: 2190 | E11: 451 | F11: 433 | G11: 1740
A12: 22 | B12: 205 | C12: 熱海市 | D12: 204 | E12: 0 | F12: 0 | G12: 204
A13: 22 | B13: 206 | C13: 三島市 | D13: 858 | E13: 280 | F13: 269 | G13: 578
A14: 22 | B14: 207 | C14: 富士宮市 | D14: 3230 | E14: 899 | F14: 835 | G14: 2330
A15: 22 | B15: 208 | C15: 伊東市 | D15: 440 | E15: 24 | F15: 22 | G15: 416
A16: 22 | B16: 209 | C16: 島田市 | D16: 3280 | E16: 702 | F16: 673 | G16: 2580
A17: 22 | B17: 210 | C17: 富士市 | D17: 2650 | E17: 692 | F17: 659 | G17: 1960
A18: 22 | B18: 211 | C18: 磐田市 | D18: 4590 | E18: 2350 | F18: 2290 | G18: 2250
A19: 22 | B19: 212 | C19: 焼津市 | D19: 1570 | E19: 1280 | F19: 1240 | G19: 288
A20: 22 | B20: 213 | C20: 掛川市 | D20: 5350 | E20: 2150 | F20: 2070 | G20: 3200
... A43: 22 | B43: 461 | C43: 森町 | D43: 1190 | E43: 594 | F43: 570 | G43: 591
C45: 計 | D45: 69200 | E45: 23000 | F45: 22000 | G45: 46100
A47: 利用上の注意
A48: １ この市町村別統計は、「作物統計調査」を実施する上で把握した地域における標本調査及び現地見積りの結果、
A49: 関係機関からの情報等を踏まえ、都道府県計値の内訳として市町村別に作成した加工統計であり、作成するうえで
A50: 精度を設定しているものではない。
A51: なお、「作物統計調査」は都道府県計値を求めるために設計されている。
A52: ２ 耕作者の市町村間の出作・入作を考慮していない（属地統計）。
A53: ３ 数値は四捨五入しており、市町村値の計が都道府県値と一致しないことがある。

Sheet 26
A1: 農林水産関係市町村別統計
A2: 平成26年
A3: 耕地面積
A4: 静岡県
A5: 都道 | B5: 市町 | D5: 耕地面積 | E5: 田耕地面積 | G5: 畑耕地面積
A6: 府県 | B6: 村 | C6: 市町村名 | F6: 田本地面積
A7: ｺｰﾄﾞ | B7: ｺｰﾄﾞ
D8: ha | E8: ha | F8: ha | G8: ha
A9: 22 | B9: 100 | C9: 静岡市 | D9: 5200 | E9: 590 | F9: 565 | G9: 4610
A10: 22 | B10: 130 | C10: 浜松市 | D10: 12600 | E10: 2610 | F10: 2530 | G10: 10000
A11: 22 | B11: 203 | C11: 沼津市 | D11: 2170 | E11: 446 | F11: 428 | G11: 1720
A12: 22 | B12: 205 | C12: 熱海市 | D12: 202 | E12: 0 | F12: 0 | G12: 202
A13: 22 | B13: 206 | C13: 三島市 | D13: 845 | E13: 277 | F13: 266 | G13: 568
A14: 22 | B14: 207 | C14: 富士宮市 | D14: 3190 | E14: 891 | F14: 828 | G14: 2300
A15: 22 | B15: 208 | C15: 伊東市 | D15: 432 | E15: 24 | F15: 22 | G15: 408
A16: 22 | B16: 209 | C16: 島田市 | D16: 3260 | E16: 694 | F16: 665 | G16: 2570
A17: 22 | B17: 210 | C17: 富士市 | D17: 2620 | E17: 678 | F17: 645 | G17: 1940
A18: 22 | B18: 211 | C18: 磐田市 | D18: 4570 | E18: 2340 | F18: 2280 | G18: 2230
A19: 22 | B19: 212 | C19: 焼津市 | D19: 1560 | E19: 1270 | F19: 1230 | G19: 286
A20: 22 | B20: 213 | C20: 掛川市 | D20: 5320 | E20: 2140 | F20: 2050 | G20: 3180
... A43: 22 | B43: 461 | C43: 森町 | D43: 1170 | E43: 592 | F43: 568 | G43: 581
C45: 計 | D45: 68500 | E45: 22900 | F45: 21900 | G45: 45700
A47: 利用上の注意
A48: １ この市町村別統計は、「作物統計調査」を実施する上で把握した地域における標本調査及び現地見積りの結果、
A49: 関係機関からの情報等を踏まえ、都道府県計値の内訳として市町村別に作成した加工統計であり、作成する上で
A50: 精度を設定しているものではない。
A51: なお、「作物統計調査」は都道府県計値を求めるために設計されている。
A52: ２ 耕作者の市町村間の出作・入作を考慮していない（属地統計）。
A53: ３ 数値は四捨五入しており、市町村値の計が都道府県値と一致しないことがある。

Sheet 27
A1: 農林水産関係市町村別統計
A2: 平成27年
A3: 耕地面積
A4: 静岡県
A5: 都道 | B5: 市町 | D5: 耕地面積 | E5: 田耕地面積 | G5: 畑耕地面積
A6: 府県 | B6: 村 | C6: 市町村名 | F6: 田本地面積
A7: ｺｰﾄﾞ | B7: ｺｰﾄﾞ
D8: ha | E8: ha | F8: ha | G8: ha
A9: 22 | B9: 100 | C9: 静岡市 | D9: 5130 | E9: 578 | F9: 553 | G9: 4550
A10: 22 | B10: 130 | C10: 浜松市 | D10: 12600 | E10: 2600 | F10: 2520 | G10: 9990
A11: 22 | B11: 203 | C11: 沼津市 | D11: 2130 | E11: 443 | F11: 425 | G11: 1680
A12: 22 | B12: 205 | C12: 熱海市 | D12: 197 | E12: 0 | F12: 0 | G12: 197
A13: 22 | B13: 206 | C13: 三島市 | D13: 839 | E13: 273 | F13: 262 | G13: 566
A14: 22 | B14: 207 | C14: 富士宮市 | D14: 3170 | E14: 886 | F14: 825 | G14: 2280
A15: 22 | B15: 208 | C15: 伊東市 | D15: 429 | E15: 24 | F15: 22 | G15: 405
A16: 22 | B16: 209 | C16: 島田市 | D16: 3240 | E16: 687 | F16: 658 | G16: 2550
A17: 22 | B17: 210 | C17: 富士市 | D17: 2580 | E17: 671 | F17: 638 | G17: 1910
A18: 22 | B18: 211 | C18: 磐田市 | D18: 4550 | E18: 2330 | F18: 2280 | G18: 2210
A19: 22 | B19: 212 | C19: 焼津市 | D19: 1540 | E19: 1270 | F19: 1220 | G19: 271
A20: 22 | B20: 213 | C20: 掛川市 | D20: 5290 | E20: 2130 | F20: 2040 | G20: 3170
... A43: 22 | B43: 461 | C43: 森町 | D43: 1170 | E43: 591 | F43: 567 | G43: 580
C45: 計 | D45: 67900 | E45: 22700 | F45: 21700 | G45: 45200
A47: 利用上の注意
A48: １ この市町村別統計は、「作物統計調査」を実施する上で把握した地域における標本調査及び現地見積りの結果、
A49: 関係機関からの情報等を踏まえ、都道府県計値の内訳として市町村別に作成した加工統計であり、作成するうえで
A50: 精度を設定しているものではない。
A51: なお、「作物統計調査」は都道府県計値を求めるために設計されている。
A52: ２ 耕作者の市町村間の出作・入作を考慮していない（属地統計）。
A53: ３ 数値は四捨五入しており、市町村値の計が都道府県値と一致しないことがある。

Sheet 28
A1: 農林水産関係市町村別統計
A2: 平成28年
A3: 耕地面積
A4: 静岡県
A5: 都道 | B5: 市町 | D5: 耕地面積 | E5: 田耕地面積 | G5: 畑耕地面積
A6: 府県 | B6: 村 | C6: 市町村名 | F6: 田本地面積
A7: ｺｰﾄﾞ | B7: ｺｰﾄﾞ
D8: ha | E8: ha | F8: ha | G8: ha
A9: 22 | B9: 100 | C9: 静岡市 | D9: 5030 | E9: 568 | F9: 543 | G9: 4470
A10: 22 | B10: 130 | C10: 浜松市 | D10: 12500 | E10: 2590 | F10: 2510 | G10: 9890
A11: 22 | B11: 203 | C11: 沼津市 | D11: 2090 | E11: 440 | F11: 422 | G11: 1650
A12: 22 | B12: 205 | C12: 熱海市 | D12: 191 | E12: 0 | F12: 0 | G12: 191
A13: 22 | B13: 206 | C13: 三島市 | D13: 831 | E13: 269 | F13: 258 | G13: 562
A14: 22 | B14: 207 | C14: 富士宮市 | D14: 3150 | E14: 880 | F14: 820 | G14: 2270
A15: 22 | B15: 208 | C15: 伊東市 | D15: 421 | E15: 23 | F15: 21 | G15: 398
A16: 22 | B16: 209 | C16: 島田市 | D16: 3230 | E16: 677 | F16: 648 | G16: 2550
A17: 22 | B17: 210 | C17: 富士市 | D17: 2540 | E17: 657 | F17: 625 | G17: 1890
A18: 22 | B18: 211 | C18: 磐田市 | D18: 4500 | E18: 2330 | F18: 2280 | G18: 2170
A19: 22 | B19: 212 | C19: 焼津市 | D19: 1520 | E19: 1250 | F19: 1210 | G19: 266
A20: 22 | B20: 213 | C20: 掛川市 | D20: 5250 | E20: 2120 | F20: 2030 | G20: 3130
... A43: 22 | B43: 461 | C43: 森町 | D43: 1170 | E43: 590 | F43: 566 | G43: 575
C45: 計 | D45: 67100 | E45: 22500 | F45: 21500 | G45: 44600
A47: 利用上の注意
A48: １ この市町村別統計は、「作物統計調査」を実施する上で把握した地域における標本調査及び現地見積りの結果、
A49: 関係機関からの情報等を踏まえ、都道府県計値の内訳として市町村別に作成した加工統計であり、作成するうえで
A50: 精度を設定しているものではない。
A51: なお、「作物統計調査」は都道府県計値を求めるために設計されている。
A52: ２ 耕作者の市町村間の出作・入作を考慮していない（属地統計）。
A53: ３ 数値は四捨五入しており、市町村値の計が都道府県値と一致しないことがある。

Sheet 29
A1: 農林水産関係市町村別統計
A2: 平成29年
A3: 耕地面積
A4: 静岡県
A5: 都道 | B5: 市町 | D5: 耕地面積 | E5: 田耕地面積 | G5: 畑耕地面積
A6: 府県 | B6: 村 | C6: 市町村名 | F6: 田本地面積
A7: ｺｰﾄﾞ | B7: ｺｰﾄﾞ
D8: ha | E8: ha | F8: ha | G8: ha
A9: 22 | B9: 100 | C9: 静岡市 | D9: 4980 | E9: 558 | F9: 534 | G9: 4420
A10: 22 | B10: 130 | C10: 浜松市 | D10: 12400 | E10: 2590 | F10: 2510 | G10: 9760
A11: 22 | B11: 203 | C11: 沼津市 | D11: 2060 | E11: 435 | F11: 417 | G11: 1630
A12: 22 | B12: 205 | C12: 熱海市 | D12: 180 | E12: 0 | F12: 0 | G12: 180
A13: 22 | B13: 206 | C13: 三島市 | D13: 827 | E13: 267 | F13: 256 | G13: 560
A14: 22 | B14: 207 | C14: 富士宮市 | D14: 3120 | E14: 872 | F14: 813 | G14: 2250
A15: 22 | B15: 208 | C15: 伊東市 | D15: 417 | E15: 23 | F15: 21 | G15: 394
A16: 22 | B16: 209 | C16: 島田市 | D16: 3200 | E16: 669 | F16: 641 | G16: 2530
A17: 22 | B17: 210 | C17: 富士市 | D17: 2510 | E17: 648 | F17: 617 | G17: 1860
A18: 22 | B18: 211 | C18: 磐田市 | D18: 4460 | E18: 2330 | F18: 2280 | G18: 2130
A19: 22 | B19: 212 | C19: 焼津市 | D19: 1500 | E19: 1240 | F19: 1200 | G19: 263
A20: 22 | B20: 213 | C20: 掛川市 | D20: 5220 | E20: 2120 | F20: 2030 | G20: 3100
... A43: 22 | B43: 461 | C43: 森町 | D43: 1140 | E43: 587 | F43: 563 | G43: 556
C45: 計 | D45: 66400 | E45: 22400 | F45: 21400 | G45: 44000
A47: 利用上の注意
A48: １ この市町村別統計は、「作物統計調査」を実施する上で把握した地域における標本調査及び現地見積りの結果、
A49: 関係機関からの情報等を踏まえ、都道府県計値の内訳として市町村別に作成した加工統計であり、作成するうえで
A50: 精度を設定しているものではない。
A51: なお、「作物統計調査」は都道府県計値を求めるために設計されている。
A52: ２ 耕作者の市町村間の出作・入作を考慮していない（属地統計）。
A53: ３ 数値は四捨五入しており、市町村値の計が都道府県値と一致しないことがある。

Sheet 30
A1: 農林水産関係市町村別統計
A2: 平成30年
A3: 耕地面積
A4: 静岡県
A5: 都道 | B5: 市町 | D5: 耕地面積 | E5: 田耕地面積 | G5: 畑耕地面積
A6: 府県 | B6: 村 | C6: 市町村名 | F6: 田本地面積
A7: ｺｰﾄﾞ | B7: ｺｰﾄﾞ
D8: ha | E8: ha | F8: ha | G8: ha
A9: 22 | B9: 100 | C9: 静岡市 | D9: 4800 | E9: 547 | F9: 523 | G9: 4250
A10: 22 | B10: 130 | C10: 浜松市 | D10: 12200 | E10: 2570 | F10: 2490 | G10: 9640
A11: 22 | B11: 203 | C11: 沼津市 | D11: 2030 | E11: 418 | F11: 401 | G11: 1610
A12: 22 | B12: 205 | C12: 熱海市 | D12: 176 | E12: 0 | F12: 0 | G12: 176
A13: 22 | B13: 206 | C13: 三島市 | D13: 820 | E13: 265 | F13: 254 | G13: 555
A14: 22 | B14: 207 | C14: 富士宮市 | D14: 3080 | E14: 861 | F14: 803 | G14: 2220
A15: 22 | B15: 208 | C15: 伊東市 | D15: 408 | E15: 23 | F15: 21 | G15: 385
A16: 22 | B16: 209 | C16: 島田市 | D16: 3180 | E16: 661 | F16: 633 | G16: 2520
A17: 22 | B17: 210 | C17: 富士市 | D17: 2470 | E17: 637 | F17: 607 | G17: 1830
A18: 22 | B18: 211 | C18: 磐田市 | D18: 4440 | E18: 2330 | F18: 2270 | G18: 2120
A19: 22 | B19: 212 | C19: 焼津市 | D19: 1470 | E19: 1230 | F19: 1190 | G19: 238
A20: 22 | B20: 213 | C20: 掛川市 | D20: 5130 | E20: 2090 | F20: 2000 | G20: 3040
... A43: 22 | B43: 461 | C43: 森町 | D43: 1130 | E43: 584 | F43: 560 | G43: 544
C45: 計 | D45: 65300 | E45: 22200 | F45: 21200 | G45: 43100
A47: 利用上の注意
A48: １ この市町村別統計は、「作物統計調査」を実施する上で把握した地域における標本調査及び現地見積りの結果、
A49: 関係機関からの情報等を踏まえ、都道府県計値の内訳として市町村別に作成した加工統計であり、作成するうえで
A50: 精度を設定しているものではない。
A51: なお、「作物統計調査」は都道府県計値を求めるために設計されている。
A52: ２ 耕作者の市町村間の出作・入作を考慮していない（属地統計）。
A53: ３ 数値は四捨五入しており、市町村値の計が都道府県値と一致しないことがある。

Sheet R1
A1: 農林水産関係市町村別統計
A2: 令和元年
A3: 耕地面積
A4: 静岡県
A5: 都道 | B5: 市町 | D5: 耕地面積 | E5: 田耕地面積 | G5: 畑耕地面積
A6: 府県 | B6: 村 | C6: 市町村名 | F6: 田本地面積
A7: ｺｰﾄﾞ | B7: ｺｰﾄﾞ
D8: ha | E8: ha | F8: ha | G8: ha
A9: 22 | B9: 100 | C9: 静岡市 | D9: 4710 | E9: 536 | F9: 512 | G9: 4180
A10: 22 | B10: 130 | C10: 浜松市 | D10: 12100 | E10: 2550 | F10: 2460 | G10: 9520
A11: 22 | B11: 203 | C11: 沼津市 | D11: 1980 | E11: 407 | F11: 390 | G11: 1570
A12: 22 | B12: 205 | C12: 熱海市 | D12: 169 | E12: 0 | F12: 0 | G12: 169
A13: 22 | B13: 206 | C13: 三島市 | D13: 802 | E13: 262 | F13: 251 | G13: 540
A14: 22 | B14: 207 | C14: 富士宮市 | D14: 3040 | E14: 853 | F14: 796 | G14: 2190
A15: 22 | B15: 208 | C15: 伊東市 | D15: 402 | E15: 23 | F15: 21 | G15: 379
A16: 22 | B16: 209 | C16: 島田市 | D16: 3120 | E16: 656 | F16: 628 | G16: 2460
A17: 22 | B17: 210 | C17: 富士市 | D17: 2410 | E17: 621 | F17: 592 | G17: 1790
A18: 22 | B18: 211 | C18: 磐田市 | D18: 4400 | E18: 2320 | F18: 2260 | G18: 2080
A19: 22 | B19: 212 | C19: 焼津市 | D19: 1460 | E19: 1230 | F19: 1180 | G19: 230
A20: 22 | B20: 213 | C20: 掛川市 | D20: 5060 | E20: 2080 | F20: 1990 | G20: 2980
... A43: 22 | B43: 461 | C43: 森町 | D43: 1080 | E43: 583 | F43: 559 | G43: 495
C45: 計 | D45: 64100 | E45: 21900 | F45: 21000 | G45: 42200
A47: 利用上の注意
A48: １ この市町村別統計は、「作物統計調査」を実施する上で把握した地域における標本調査及び現地見積りの結果、
A49: 関係機関からの情報等を踏まえ、都道府県計値の内訳として市町村別に作成した加工統計であり、作成するうえで
A50: 精度を設定しているものではない。
A51: なお、「作物統計調査」は都道府県計値を求めるために設計されている。
A52: ２ 耕作者の市町村間の出作・入作を考慮していない（属地統計）。
A53: ３ 数値は四捨五入しており、市町村値の計が都道府県値と一致しないことがある。

Sheet R2
A1: 農林水産関係市町村別統計
A2: 令和2年
A3: 耕地面積
A4: 静岡県
A5: 都道 | B5: 市町 | D5: 耕地面積 | E5: 田耕地面積 | G5: 畑耕地面積
A6: 府県 | B6: 村 | C6: 市町村名 | F6: 田本地面積
A7: ｺｰﾄﾞ | B7: ｺｰﾄﾞ
D8: ha | E8: ha | F8: ha | G8: ha
A9: 22 | B9: 100 | C9: 静岡市 | D9: 4580 | E9: 529 | F9: 506 | G9: 4050
A10: 22 | B10: 130 | C10: 浜松市 | D10: 12000 | E10: 2520 | F10: 2440 | G10: 9450
A11: 22 | B11: 203 | C11: 沼津市 | D11: 1940 | E11: 397 | F11: 381 | G11: 1540
A12: 22 | B12: 205 | C12: 熱海市 | D12: 162 | E12: 0 | F12: 0 | G12: 162
A13: 22 | B13: 206 | C13: 三島市 | D13: 790 | E13: 260 | F13: 249 | G13: 530
A14: 22 | B14: 207 | C14: 富士宮市 | D14: 3020 | E14: 846 | F14: 789 | G14: 2170
A15: 22 | B15: 208 | C15: 伊東市 | D15: 394 | E15: 23 | F15: 21 | G15: 371
A16: 22 | B16: 209 | C16: 島田市 | D16: 3020 | E16: 639 | F16: 613 | G16: 2380
A17: 22 | B17: 210 | C17: 富士市 | D17: 2380 | E17: 607 | F17: 578 | G17: 1770
A18: 22 | B18: 211 | C18: 磐田市 | D18: 4380 | E18: 2310 | F18: 2260 | G18: 2070
A19: 22 | B19: 212 | C19: 焼津市 | D19: 1450 | E19: 1220 | F19: 1180 | G19: 230
A20: 22 | B20: 213 | C20: 掛川市 | D20: 4850 | E20: 2060 | F20: 1970 | G20: 2790
... A43: 22 | B43: 461 | C43: 森町 | D43: 1030 | E43: 581 | F43: 557 | G43: 452
C45: 計 | D45: 62800 | E45: 21700 | F45: 20800 | G45: 41100
A47: 利用上の注意
A48: １ この市町村別統計は、「作物統計調査」を実施する上で把握した地域における標本調査及び現地見積りの結果、
A49: 関係機関からの情報等を踏まえ、都道府県計値の内訳として市町村別に作成した加工統計であり、作成するうえで
A50: 精度を設定しているものではない。
A51: なお、「作物統計調査」は都道府県計値を求めるために設計されている。
A52: ２ 耕作者の市町村間の出作・入作を考慮していない（属地統計）。
A53: ３ 数値は四捨五入しており、市町村値の計が都道府県値と一致しないことがある。

Sheet R3
A1: 農林水産関係市町村別統計
A2: 令和3年
A3: 耕地面積
A4: 静岡県
A5: 都道 | B5: 市町 | C5: 市町村名 | D5: 耕地面積 | E5: 田耕地面積 | G5: 畑耕地面積
A6: 府県 | B6: 村 | F6: 田本地面積
A7: ｺｰﾄﾞ | B7: ｺｰﾄﾞ
D8: ha | E8: ha | F8: ha | G8: ha
A9: 22 | B9: 100 | C9: 静岡市 | D9: 4450 | E9: 524 | F9: 501 | G9: 3930
A10: 22 | B10: 130 | C10: 浜松市 | D10: 11900 | E10: 2510 | F10: 2420 | G10: 9350
A11: 22 | B11: 203 | C11: 沼津市 | D11: 1910 | E11: 389 | F11: 373 | G11: 1520
A12: 22 | B12: 205 | C12: 熱海市 | D12: 150 | E12: 0 | F12: 0 | G12: 150
A13: 22 | B13: 206 | C13: 三島市 | D13: 773 | E13: 255 | F13: 245 | G13: 518
A14: 22 | B14: 207 | C14: 富士宮市 | D14: 2980 | E14: 841 | F14: 785 | G14: 2130
A15: 22 | B15: 208 | C15: 伊東市 | D15: 383 | E15: 23 | F15: 21 | G15: 360
A16: 22 | B16: 209 | C16: 島田市 | D16: 2930 | E16: 628 | F16: 601 | G16: 2300
A17: 22 | B17: 210 | C17: 富士市 | D17: 2330 | E17: 593 | F17: 565 | G17: 1740
A18: 22 | B18: 211 | C18: 磐田市 | D18: 4320 | E18: 2300 | F18: 2250 | G18: 2020
A19: 22 | B19: 212 | C19: 焼津市 | D19: 1430 | E19: 1210 | F19: 1170 | G19: 222
A20: 22 | B20: 213 | C20: 掛川市 | D20: 4680 | E20: 2050 | F20: 1960 | G20: 2630
... A43: 22 | B43: 461 | C43: 森町 | D43: 990 | E43: 579 | F43: 555 | G43: 411
C45: 計 | D45: 61500 | E45: 21500 | F45: 20600 | G45: 40000
A47: 利用上の注意
A48: １ この市町村別統計は、「作物統計調査」を実施する上で把握した地域における標本調査、現地見積りの結果、関係機関
A49: からの情報等を踏まえ、都道府県計値の内訳として市町村別に配分することにより作成した加工統計であり、市町村別の
A50: 値を目的として設計された調査に基づいて直接得られたものではない。
A51: なお、「作物統計調査」は、都道府県計値を求めるために目標精度を設定し、調査の設計がされている。
A52: ２ 面積は、耕地の存在する市町村に計上しており（属地統計）、耕作者の市町村間の出作・入作を考慮していない。
A53: ３ 数値は四捨五入しており、市町村値の計が都道府県値と一致しないことがある。

Sheet R4
A1: 農林水産関係市町村別統計
A2: 令和4年
A3: 耕地面積
A4: 静岡県
A5: 都道 | B5: 市町 | C5: 市町村名 | D5: 耕地面積 | E5: 田耕地面積 | G5: 畑耕地面積
A6: 府県 | B6: 村 | F6: 田本地面積
A7: ｺｰﾄﾞ | B7: ｺｰﾄﾞ
D8: ha | E8: ha | F8: ha | G8: ha
A9: 22 | B9: 100 | C9: 静岡市 | D9: 4250 | E9: 517 | F9: 494 | G9: 3730
A10: 22 | B10: 130 | C10: 浜松市 | D10: 11700 | E10: 2490 | F10: 2410 | G10: 9260
A11: 22 | B11: 203 | C11: 沼津市 | D11: 1890 | E11: 387 | F11: 371 | G11: 1510
A12: 22 | B12: 205 | C12: 熱海市 | D12: 142 | E12: 0 | F12: 0 | G12: 142
A13: 22 | B13: 206 | C13: 三島市 | D13: 769 | E13: 254 | F13: 244 | G13: 515
A14: 22 | B14: 207 | C14: 富士宮市 | D14: 2950 | E14: 839 | F14: 783 | G14: 2120
A15: 22 | B15: 208 | C15: 伊東市 | D15: 377 | E15: 23 | F15: 21 | G15: 354
A16: 22 | B16: 209 | C16: 島田市 | D16: 2810 | E16: 621 | F16: 594 | G16: 2190
A17: 22 | B17: 210 | C17: 富士市 | D17: 2280 | E17: 586 | F17: 558 | G17: 1690
A18: 22 | B18: 211 | C18: 磐田市 | D18: 4280 | E18: 2300 | F18: 2250 | G18: 1980
A19: 22 | B19: 212 | C19: 焼津市 | D19: 1420 | E19: 1200 | F19: 1160 | G19: 218
A20: 22 | B20: 213 | C20: 掛川市 | D20: 4520 | E20: 2040 | F20: 1950 | G20: 2480
... A43: 22 | B43: 461 | C43: 森町 | D43: 949 | E43: 578 | F43: 554 | G43: 371
C45: 計 | D45: 60400 | E45: 21400 | F45: 20500 | G45: 39000
A47: 利用上の注意
A48: １ この市町村別統計は、「作物統計調査」を実施する上で把握した地域における標本調査、現地見積りの結果、関係機関
A49: からの情報等を踏まえ、都道府県計値の内訳として市町村別に配分することにより作成した加工統計であり、市町村別の
A50: 値を目的として設計された調査に基づいて直接得られたものではない。
A51: なお、「作物統計調査」は、都道府県計値を求めるために目標精度を設定し、調査の設計がされている。
A52: ２ 面積は、耕地の存在する市町村に計上しており（属地統計）、耕作者の市町村間の出作・入作を考慮していない。
A53: ３ 数値は四捨五入しており、市町村値の計が都道府県値と一致しないことがある。

Sheet R5
A1: 農林水産関係市町村別統計
A2: 令和5年
A3: 耕地面積
A4: 静岡県
A5: 都道府県ｺｰﾄﾞ | B5: 市町村 ｺｰﾄﾞ | C5: 市町村名 | D5: 耕地面積 | E5: 田耕地面積 | G5: 畑耕地面積
F6: 田本地面積
D8: ha | E8: ha | F8: ha | G8: ha
A9: 22 | B9: 100 | C9: 静岡市 | D9: 4090 | E9: 512 | F9: 489 | G9: 3580
A10: 22 | B10: 130 | C10: 浜松市 | D10: 11700 | E10: 2480 | F10: 2390 | G10: 9180
A11: 22 | B11: 203 | C11: 沼津市 | D11: 1880 | E11: 384 | F11: 368 | G11: 1500
A12: 22 | B12: 205 | C12: 熱海市 | D12: 140 | E12: 0 | F12: 0 | G12: 140
A13: 22 | B13: 206 | C13: 三島市 | D13: 761 | E13: 252 | F13: 242 | G13: 509
A14: 22 | B14: 207 | C14: 富士宮市 | D14: 2920 | E14: 833 | F14: 778 | G14: 2090
A15: 22 | B15: 208 | C15: 伊東市 | D15: 373 | E15: 22 | F15: 20 | G15: 351
A16: 22 | B16: 209 | C16: 島田市 | D16: 2720 | E16: 614 | F16: 587 | G16: 2110
A17: 22 | B17: 210 | C17: 富士市 | D17: 2240 | E17: 579 | F17: 551 | G17: 1660
A18: 22 | B18: 211 | C18: 磐田市 | D18: 4270 | E18: 2300 | F18: 2240 | G18: 1970
A19: 22 | B19: 212 | C19: 焼津市 | D19: 1410 | E19: 1190 | F19: 1150 | G19: 216
A20: 22 | B20: 213 | C20: 掛川市 | D20: 4390 | E20: 2020 | F20: 1930 | G20: 2370
... A43: 22 | B43: 461 | C43: 森町 | D43: 922 | E43: 577 | F43: 553 | G43: 345
C45: 計 | D45: 59400 | E45: 21300 | F45: 20400 | G45: 38100
A47: 利用上の注意
A48: １ この市町村別統計は、「作物統計調査」を実施する上で把握した地域における標本調査及び現地見積りの結果、関係機関
A49: からの情報等を踏まえ、都道府県計値の内訳として市町村別に配分することにより作成した加工統計であり、市町村別の値
A50: を目的として設計された調査に基づいて直接得られたものではない。
A51: なお、「作物統計調査」は、都道府県計値を求めるために目標精度を設定し、調査の設計がされている。
A52: ２ 面積は、耕地の存在する市町村に計上しており（属地統計）、耕作者の市町村間の出作・入作を考慮していない。
A53: ３ 数値は四捨五入しており、市町村値の計が都道府県値と一致しないことがある。

Sheet R6
A1: 農林水産関係市町村別統計
A2: 令和6年
A3: 耕地面積
A4: 静岡県
A5: 都道府県ｺｰﾄﾞ | B5: 市町村 ｺｰﾄﾞ | C5: 市町村名 | D5: 耕地面積 | E5: 田耕地面積 | G5: 畑耕地面積
F6: 田本地面積
D8: ha | E8: ha | F8: ha | G8: ha
A9: 22 | B9: 100 | C9: 静岡市 | D9: 3940 | E9: 499 | F9: 476 | G9: 3440
A10: 22 | B10: 130 | C10: 浜松市 | D10: 11500 | E10: 2460 | F10: 2370 | G10: 9090
A11: 22 | B11: 203 | C11: 沼津市 | D11: 1850 | E11: 383 | F11: 367 | G11: 1470
A12: 22 | B12: 205 | C12: 熱海市 | D12: 135 | E12: 0 | F12: 0 | G12: 135
A13: 22 | B13: 206 | C13: 三島市 | D13: 749 | E13: 249 | F13: 239 | G13: 500
A14: 22 | B14: 207 | C14: 富士宮市 | D14: 2880 | E14: 824 | F14: 770 | G14: 2060
A15: 22 | B15: 208 | C15: 伊東市 | D15: 362 | E15: 21 | F15: 19 | G15: 341
A16: 22 | B16: 209 | C16: 島田市 | D16: 2640 | E16: 610 | F16: 583 | G16: 2030
A17: 22 | B17: 210 | C17: 富士市 | D17: 2170 | E17: 575 | F17: 547 | G17: 1590
A18: 22 | B18: 211 | C18: 磐田市 | D18: 4230 | E18: 2290 | F18: 2240 | G18: 1940
A19: 22 | B19: 212 | C19: 焼津市 | D19: 1390 | E19: 1190 | F19: 1150 | G19: 208
A20: 22 | B20: 213 | C20: 掛川市 | D20: 4300 | E20: 1990 | F20: 1910 | G20: 2310
... A43: 22 | B43: 461 | C43: 森町 | D43: 907 | E43: 576 | F43: 552 | G43: 331
C45: 計 | D45: 58300 | E45: 21100 | F45: 20200 | G45: 37200
A47: 利用上の注意
A48: １ この市町村別統計は、「作物統計調査」を実施する上で把握した地域における標本調査結果及び現地見積りの結果、関係機関
A49: からの情報等を踏まえ、都道府県計値の内訳として市町村別に配分することにより作成した加工統計であり、市町村別の値
A50: を目的として設計された調査に基づいて直接得られたものではない。
A51: なお、「作物統計調査」は、都道府県計値を求めるために目標精度を設定し、調査の設計がされている。
A52: ２ 面積は、耕地の存在する市町村に計上しており（属地統計）、耕作者の市町村間の出作・入作を考慮していない。
A53: ３ 数値は四捨五入しており、市町村値の計が都道府県値と一致しないことがある。

Sheet 合併
C1: 2003 | D1: 2004 | E1: 2005 | F1: 2006 | G1: 2007 | H1: 2008 | I1: 2009 | J1: 2010 | K1: 2011 | L1: 2012 | M1: 2013 | N1: 2014 | O1: 2015 | P1: 2016 | Q1: 2017 | R1: 2018 | S1: 2019 | T1: 2020 | U1: 2021 | V1: 2022 | W1: 2023 | X1: 2024
C2: H15 | D2: H16 | E2: H17 | F2: H18 | G2: H19 | H2: H20 | I2: H21 | J2: H22 | K2: H23 | L2: H24 | M2: H25 | N2: H26 | O2: H27 | P2: H28 | Q2: H29 | R2: H30 | S2: R1 | T2: R2 | U2: R3 | V2: R4 | W2: R5 | X2: R6
D3: 3 | E3: 2 | F3: 2 | G3: 2 | H3: 2 | I3: 1 | J3: 集計数 | Y3: 100 | Z3: 静岡市
A4: 201 | B4: 静岡市 | H4: 11
B5: 清水市 | C5: 4
A6: 382 | B6: 蒲原町 | F6: 3 | J6: データなし
A7: 383 | B7: 由比町 | H7: 11 | I7: 合併年月
D8: 10 | E8: 1 | Y8: 130 | Z8: 浜松市
A9: 202 | B9: 浜松市 | E9: 7
A10: 217 | B10: 天竜市 | E10: 7
A11: 218 | B11: 浜北市 | E11: 7
A12: 462 | B12: 春野町 | E12: 7
A13: 486 | B13: 龍山村 | E13: 7
A14: 487 | B14: 佐久間町 | E14: 7
A15: 488 | B15: 水窪町 | E15: 7
A16: 502 | B16: 舞阪町 | E16: 7
A17: 505 | B17: 雄踏町 | E17: 7
A18: 521 | B18: 細江町 | E18: 7
A19: 522 | B19: 引佐町 | E19: 7
A20: 523 | B20: 三ヶ日町 | E20: 7
D21: 2 | E21: 1 | Y21: 203 | Z21: 沼津市
A22: 203 | B22: 沼津市 | E22: 4
A23: 323 | B23: 戸田村 | E23: 4
A24: 205 | B24: 熱海市 | Y24: 205 | Z24: 熱海市
A25: 206 | B25: 三島市 | Y25: 206 | Z25: 三島市
I26: 2 | J26: 1 | Y26: 207 | Z26: 富士宮市
A27: 207 | B27: 富士宮市 | J27: 3
A28: 361 | B28: 芝川町 | J28: 3
A29: 208 | B29: 伊東市 | Y29: 208 | Z29: 伊東市
D30: 3 | E30: 2 | F30: 2 | G30: 2 | H30: 1 | Y30: 209 | Z30: 島田市
A31: 209 | B31: 島田市 | H31: 4
A32: 425 | B32: 金谷町 | E32: 5
A33: 426 | B33: 川根町 | H33: 4
H34: 2 | I34: 1 | Y34: 210 | Z34: 富士市
A35: 210 | B35: 富士市 | H35: 11
A36: 381 | B36: 富士川町 | H36: 11
D37: 5 | E37: 1 | Y37: 211 | Z37: 磐田市
A38: 211 | B38: 磐田市 | E38: 4
A39: 482 | B39: 福田町 | E39: 4
A40: 483 | B40: 竜洋町 | E40: 4
A41: 484 | B41: 豊田町 | E41: 4
A42: 485 | B42: 豊岡村 | E42: 4
H43: 2 | I43: 1 | Y43: 212 | Z43: 焼津市
A44: 212 | B44: 焼津市 | H44: 11
A45: 402 | B45: 大井川町 | H45: 11
D46: 3 | E46: 1 | Y46: 213 | Z46: 掛川市
A47: 213 | B47: 掛川市 | E47: 4
A48: 442 | B48: 大須賀町 | E48: 4
A49: 447 | B49: 大東町 | E49: 4
H50: 2 | I50: 1 | Y50: 214 | Z50: 藤枝市
A51: 214 | B51: 藤枝市 | I51: 1
A52: 401 | B52: 岡部町 | I52: 1
A53: 215 | B53: 御殿場市 | Y53: 215 | Z53: 御殿場市
D54: 2 | E54: 1 | Y54: 216 | Z54: 袋井市
A55: 216 | B55: 袋井市 | E55: 4
A56: 481 | B56: 浅羽町 | E56: 4
A57: 219 | B57: 下田市 | Y57: 219 | Z57: 下田市
A58: 220 | B58: 裾野市 | Y58: 220 | Z58: 裾野市
I59: 2 | J59: 1 | Y59: 221 | Z59: 湖西市
A60: 221 | B60: 湖西市 | J60: 3
A61: 503 | B61: 新居町 | J61: 3
D62: 1 | Y62: 222 | Z62: 伊豆市
B63: 修善寺町 | D63: 4
B64: 土肥町 | D64: 4
B65: 天城湯ヶ島町 | D65: 4
B66: 中伊豆町 | D66: 4
D67: 1 | Y67: 223 | Z67: 御前崎市
B68: 御前崎町 | D68: 4
B69: 浜岡町 | D69: 4
A70: 224 | D70: 1 | Y70: 224 | Z70: 菊川市
B71: 菊川町 | E71: 1
B72: 小笠町 | E72: 1
D73: 3 | E73: 1 | Y73: 225 | Z73: 伊豆の国市
A74: 321 | B74: 伊豆長岡町 | E74: 4
A75: 326 | B75: 韮山町 | E75: 4
A76: 327 | B76: 大仁町 | E76: 4
D77: 2 | E77: 1 | Y77: 226 | Z77: 牧之原市
A78: 422 | B78: 相良町 | E78: 7
A79: 423 | B79: 榛原町 | E79: 7
A80: 301 | B80: 東伊豆町 | Y80: 301 | Z80: 東伊豆町
A81: 302 | B81: 河津町 | Y81: 302 | Z81: 河津町
A82: 304 | B82: 南伊豆町 | Y82: 304 | Z82: 南伊豆町
A83: 305 | B83: 松崎町 | Y83: 305 | Z83: 松崎町
D84: 2 | E84: 1 | Y84: 306 | Z84: 西伊豆町
A85: 306 | B85: 西伊豆町 | E85: 4
A86: 307 | B86: 賀茂村 | E86: 4
A87: 325 | B87: 函南町 | Y87: 325 | Z87: 函南町
A88: 341 | B88: 清水町 | Y88: 341 | Z88: 清水町
A89: 342 | B89: 長泉町 | Y89: 342 | Z89: 長泉町
A90: 344 | B90: 小山町 | Y90: 344 | Z90: 小山町
A91: 424 | B91: 吉田町 | Y91: 424 | Z91: 吉田町
D92: 2 | E92: 1 | Y92: 429 | Z92: 川根本町
A93: 427 | B93: 中川根町 | E93: 9
A94: 428 | B94: 本川根町 | E94: 9
A95: 461 | B95: 森町 | Y95: 461 | Z95: 森町

Sheet データ耕地
D1: 2004 | E1: 2005 | F1: 2006 | G1: 2007 | H1: 2008 | I1: 2009 | J1: 2010 | K1: 2011 | L1: 2012 | M1: 2013 | N1: 2014 | O1: 2015 | P1: 2016 | Q1: 2017 | R1: 2018 | S1: 2019 | T1: 2020 | U1: 2021 | V1: 2022 | W1: 2023 | X1: 2024
J2: 70800 | K2: ='23'!D45 -> 70200 | L2: ='24'!D45 -> 69700 | M2: ='25'!D45 -> 69200 | N2: ='26'!D45 -> 68500 | O2: ='27'!D45 -> 67900 | P2: ='28'!D45 -> 67100 | Q2: ='29'!D45 -> 66400 | R2: ='30'!D45 -> 65300 | S2: ='R1'!D45 -> 64100 | T2: ='R2'!D45 -> 62800 | U2: ='R3'!D45 -> 61500 | V2: ='R4'!D45 -> 60400 | W2: ='R5'!D45 -> 59400 | X2: ='R6'!D45 -> 58300
D3: =SUM(D4:D87) -> 75649 | E3: =SUM(E4:E87) -> 75146 | F3: =SUM(F4:F87) -> 74413 | G3: =SUM(G4:G87) -> 73518 | H3: =SUM(H4:H87) -> 72700 | I3: =SUM(I4:I87) -> 71364 | J3: =SUM(J4:J87) -> 70836 | K3: =SUM(K4:K87) -> 70161 | ... X3: =SUM(X4:X87) -> 58261
A4: 1000 | B4: 100 | C4: 静岡市 | I4: ='21'!D9 -> 5630 | J4: ='22'!D9 -> 5500 | K4: ='23'!D9 -> 5390 | L4: ='24'!D9 -> 5300 | M4: ='25'!D9 -> 5260 | N4: ='26'!D9 -> 5200 | O4: ='27'!D9 -> 5130 | P4: ='28'!D9 -> 5030 | Q4: ='29'!D9 -> 4980 | R4: ='30'!D9 -> 4800 | S4: ='R1'!D9 -> 4710 | T4: ='R2'!D9 -> 4580 | U4: ='R3'!D9 -> 4450 | V4: ='R4'!D9 -> 4250 | W4: ='R5'!D9 -> 4090 | X4: ='R6'!D9 -> 3940
B5: 201 | C5: 静岡市 | D5: ='16'!D9 -> 6460 | E5: ='17'!D9 -> 6500 | F5: ='18'!D9 -> 6390 | G5: ='19'!D9 -> 6200 | H5: ='20'!D9 -> 6040
B6: 382 | C6: 蒲原町 | D6: ='16'!D48 -> 115
B7: 383 | C7: 由比町 | D7: ='16'!D49 -> 236 | E7: ='17'!D43 -> 231 | F7: ='18'!D43 -> 227 | G7: ='19'!D43 -> 224 | H7: ='20'!D43 -> 223
A8: 2000 | B8: 130 | C8: 浜松市 | E8: ='17'!D10 -> 13600 | F8: ='18'!D10 -> 13400 | G8: ='19'!D10 -> 13300 | H8: ='20'!D10 -> 13100 | I8: ='21'!D10 -> 13000 | J8: ='22'!D10 -> 12900 | K8: ='23'!D10 -> 12800 | L8: ='24'!D10 -> 12800 | M8: ='25'!D10 -> 12700 | N8: ='26'!D10 -> 12600 | O8: ='27'!D10 -> 12600 | P8: ='28'!D10 -> 12500 | Q8: ='29'!D10 -> 12400 | R8: ='30'!D10 -> 12200 | S8: ='R1'!D10 -> 12100 | T8: ='R2'!D10 -> 12000 | U8: ='R3'!D10 -> 11900 | V8: ='R4'!D10 -> 11700 | W8: ='R5'!D10 -> 11700 | X8: ='R6'!D10 -> 11500
B9: 202 | C9: 浜松市 | D9: ='16'!D10 -> 5580
B10: 217 | C10: 天竜市 | D10: ='16'!D24 -> 467
B11: 218 | C11: 浜北市 | D11: ='16'!D25 -> 1880
B12: 462 | C12: 春野町 | D12: ='16'!D62 -> 505
B13: 486 | C13: 龍山村 | D13: ='16'!D68 -> 51
B14: 487 | C14: 佐久間町 | D14: ='16'!D69 -> 189
B15: 488 | C15: 水窪町 | D15: ='16'!D70 -> 86
B16: 502 | C16: 舞阪町 | D16: ='16'!D71 -> 38
B17: 505 | C17: 雄踏町 | D17: ='16'!D73 -> 262
B18: 521 | C18: 細江町 | D18: ='16'!D74 -> 1150
B19: 522 | C19: 引佐町 | D19: ='16'!D75 -> 1240
B20: 523 | C20: 三ヶ日町 | D20: ='16'!D76 -> 2230
A21: 3000 | B21: 203 | C21: 沼津市 | E21: ='17'!D11 -> 2320 | F21: ='18'!D11 -> 2320 | G21: ='19'!D11 -> 2310 | H21: ='20'!D11 -> 2300 | I21: ='21'!D11 -> 2280 | J21: ='22'!D11 -> 2270 | K21: ='23'!D11 -> 2230 | L21: ='24'!D11 -> 2210 | M21: ='25'!D11 -> 2190 | N21: ='26'!D11 -> 2170 | O21: ='27'!D11 -> 2130 | P21: ='28'!D11 -> 2090 | Q21: ='29'!D11 -> 2060 | R21: ='30'!D11 -> 2030 | S21: ='R1'!D11 -> 1980 | T21: ='R2'!D11 -> 1940 | U21: ='R3'!D11 -> 1910 | V21: ='R4'!D11 -> 1890 | W21: ='R5'!D11 -> 1880 | X21: ='R6'!D11 -> 1850
B22: 203 | C22: 沼津市 | D22: ='16'!D11 -> 2210
B23: 323 | C23: 戸田村 | D23: ='16'!D39 -> 105
A24: 4000 | B24: 205 | C24: 熱海市 | D24: ='16'!D12 -> 253 | E24: ='17'!D12 -> 253 | F24: ='18'!D12 -> 253 | G24: ='19'!D12 -> 249 | H24: ='20'!D12 -> 246 | I24: ='21'!D12 -> 244 | J24: ='22'!D12 -> 243 | K24: ='23'!D12 -> 232 | L24: ='24'!D12 -> 212 | M24: ='25'!D12 -> 204 | N24: ='26'!D12 -> 202 | O24: ='27'!D12 -> 197 | P24: ='28'!D12 -> 191 | Q24: ='29'!D12 -> 180 | R24: ='30'!D12 -> 176 | S24: ='R1'!D12 -> 169 | T24: ='R2'!D12 -> 162 | U24: ='R3'!D12 -> 150 | V24: ='R4'!D12 -> 142 | W24: ='R5'!D12 -> 140 | X24: ='R6'!D12 -> 135
A25: 5000 | B25: 206 | C25: 三島市 | D25: ='16'!D13 -> 914 | E25: ='17'!D13 -> 910 | F25: ='18'!D13 -> 903 | G25: ='19'!D13 -> 896 | H25: ='20'!D13 -> 888 | I25: ='21'!D13 -> 882 | J25: ='22'!D13 -> 878 | K25: ='23'!D13 -> 872 | L25: ='24'!D13 -> 865 | M25: ='25'!D13 -> 858 | N25: ='26'!D13 -> 845 | O25: ='27'!D13 -> 839 | P25: ='28'!D13 -> 831 | Q25: ='29'!D13 -> 827 | R25: ='30'!D13 -> 820 | S25: ='R1'!D13 -> 802 | T25: ='R2'!D13 -> 790 | U25: ='R3'!D13 -> 773 | V25: ='R4'!D13 -> 769 | W25: ='R5'!D13 -> 761 | X25: ='R6'!D13 -> 749
A26: 6000 | B26: 207 | C26: 富士宮市 | J26: ='22'!D14 -> 3290 | K26: ='23'!D14 -> 3270 | L26: ='24'!D14 -> 3250 | M26: ='25'!D14 -> 3230 | N26: ='26'!D14 -> 3190 | O26: ='27'!D14 -> 3170 | P26: ='28'!D14 -> 3150 | Q26: ='29'!D14 -> 3120 | R26: ='30'!D14 -> 3080 | S26: ='R1'!D14 -> 3040 | T26: ='R2'!D14 -> 3020 | U26: ='R3'!D14 -> 2980 | V26: ='R4'!D14 -> 2950 | W26: ='R5'!D14 -> 2920 | X26: ='R6'!D14 -> 2880
B27: 207 | C27: 富士宮市 | D27: ='16'!D14 -> 2900 | E27: ='17'!D14 -> 2870 | F27: ='18'!D14 -> 2850 | G27: ='19'!D14 -> 2800 | H27: ='20'!D14 -> 2780 | I27: ='21'!D14 -> 2760
B28: 361 | C28: 芝川町 | D28: ='16'!D46 -> 579 | E28: ='17'!D41 -> 574 | F28: ='18'!D41 -> 569 | G28: ='19'!D41 -> 566 | H28: ='20'!D41 -> 561 | I28: ='21'!D41 -> 554
A29: 7000 | B29: 208 | C29: 伊東市 | D29: ='16'!D15 -> 645 | E29: ='17'!D15 -> 643 | F29: ='18'!D15 -> 621 | G29: ='19'!D15 -> 606 | H29: ='20'!D15 -> 575 | I29: ='21'!D15 -> 543 | J29: ='22'!D15 -> 538 | K29: ='23'!D15 -> 508 | L29: ='24'!D15 -> 461 | M29: ='25'!D15 -> 440 | N29: ='26'!D15 -> 432 | O29: ='27'!D15 -> 429 | P29: ='28'!D15 -> 421 | Q29: ='29'!D15 -> 417 | R29: ='30'!D15 -> 408 | S29: ='R1'!D15 -> 402 | T29: ='R2'!D15 -> 394 | U29: ='R3'!D15 -> 383 | V29: ='R4'!D15 -> 377 | W29: ='R5'!D15 -> 373 | X29: ='R6'!D15 -> 362
A30: 8000 | B30: 209 | C30: 島田市 | H30: ='20'!D16 -> 3410 | I30: ='21'!D16 -> 3390 | J30: ='22'!D16 -> 3350 | K30: ='23'!D16 -> 3330 | L30: ='24'!D16 -> 3290 | M30: ='25'!D16 -> 3280 | N30: ='26'!D16 -> 3260 | O30: ='27'!D16 -> 3240 | P30: ='28'!D16 -> 3230 | Q30: ='29'!D16 -> 3200 | R30: ='30'!D16 -> 3180 | S30: ='R1'!D16 -> 3120 | T30: ='R2'!D16 -> 3020 | U30: ='R3'!D16 -> 2930 | V30: ='R4'!D16 -> 2810 | W30: ='R5'!D16 -> 2720 | X30: ='R6'!D16 -> 2640
B31: 209 | C31: 島田市 | D31: ='16'!D16 -> 1960 | E31: ='17'!D16 -> 3090 | F31: ='18'!D16 -> 3050 | G31: ='19'!D16 -> 3010
B32: 425 | C32: 金谷町 | D32: ='16'!D55 -> 1160
B33: 426 | C33: 川根町 | D33: ='16'!D56 -> 456 | E33: ='17'!D47 -> 449 | F33: ='18'!D47 -> 449 | G33: ='19'!D47 -> 443
A34: 9000 | B34: 210 | C34: 富士市 | I34: ='21'!D17 -> 2760 | J34: ='22'!D17 -> 2740 | K34: ='23'!D17 -> 2720 | L34: ='24'!D17 -> 2690 | M34: ='25'!D17 -> 2650 | N34: ='26'!D17 -> 2620 | O34: ='27'!D17 -> 2580 | P34: ='28'!D17 -> 2540 | Q34: ='29'!D17 -> 2510 | R34: ='30'!D17 -> 2470 | S34: ='R1'!D17 -> 2410 | T34: ='R2'!D17 -> 2380 | U34: ='R3'!D17 -> 2330 | V34: ='R4'!D17 -> 2280 | W34: ='R5'!D17 -> 2240 | X34: ='R6'!D17 -> 2170
B35: 210 | C35: 富士市 | D35: ='16'!D17 -> 2710 | E35: ='17'!D17 -> 2670 | F35: ='18'!D17 -> 2630 | G35: ='19'!D17 -> 2610 | H35: ='20'!D17 -> 2610
B36: 381 | C36: 富士川町 | D36: ='16'!D47 -> 191 | E36: ='17'!D42 -> 189 | F36: ='18'!D42 -> 186 | G36: ='19'!D42 -> 181 | H36: ='20'!D42 -> 176
A37: 10000 | B37: 211 | C37: 磐田市 | E37: ='17'!D18 -> 4760 | F37: ='18'!D18 -> 4760 | G37: ='19'!D18 -> 4720 | H37: ='20'!D18 -> 4700 | I37: ='21'!D18 -> 4670 | J37: ='22'!D18 -> 4650 | K37: ='23'!D18 -> 4630 | L37: ='24'!D18 -> 4620 | M37: ='25'!D18 -> 4590 | N37: ='26'!D18 -> 4570 | O37: ='27'!D18 -> 4550 | P37: ='28'!D18 -> 4500 | Q37: ='29'!D18 -> 4460 | R37: ='30'!D18 -> 4440 | S37: ='R1'!D18 -> 4400 | T37: ='R2'!D18 -> 4380 | U37: ='R3'!D18 -> 4320 | V37: ='R4'!D18 -> 4280 | W37: ='R5'!D18 -> 4270 | X37: ='R6'!D18 -> 4230
B38: 211 | C38: 磐田市 | D38: ='16'!D18 -> 2210
B39: 482 | C39: 福田町 | D39: ='16'!D64 -> 545
B40: 483 | C40: 竜洋町 | D40: ='16'!D65 -> 622
B41: 484 | C41: 豊田町 | D41: ='16'!D66 -> 714
B42: 485 | C42: 豊岡村 | D42: ='16'!D67 -> 674
A43: 11000 | B43: 212 | C43: 焼津市 | I43: ='21'!D19 -> 1610 | J43: ='22'!D19 -> 1600 | K43: ='23'!D19 -> 1590 | L43: ='24'!D19 -> 1580 | M43: ='25'!D19 -> 1570 | N43: ='26'!D19 -> 1560 | O43: ='27'!D19 -> 1540 | P43: ='28'!D19 -> 1520 | Q43: ='29'!D19 -> 1500 | R43: ='30'!D19 -> 1470 | S43: ='R1'!D19 -> 1460 | T43: ='R2'!D19 -> 1450 | U43: ='R3'!D19 -> 1430 | V43: ='R4'!D19 -> 1420 | W43: ='R5'!D19 -> 1410 | X43: ='R6'!D19 -> 1390
B44: 212 | C44: 焼津市 | D44: ='16'!D19 -> 996 | E44: ='17'!D19 -> 985 | F44: ='18'!D19 -> 964 | G44: ='19'!D19 -> 939 | H44: ='20'!D19 -> 927
B45: 402 | C45: 大井川町 | D45: ='16'!D51 -> 745 | E45: ='17'!D45 -> 734 | F45: ='18'!D45 -> 708 | G45: ='19'!D45 -> 705 | H45: ='20'!D45 -> 701
A46: 12000 | B46: 213 | C46: 掛川市 | E46: ='17'!D20 -> 5590 | F46: ='18'!D20 -> 5580 | G46: ='19'!D20 -> 5570 | H46: ='20'!D20 -> 5550 | I46: ='21'!D20 -> 5490 | J46: ='22'!D20 -> 5460 | K46: ='23'!D20 -> 5410 | L46: ='24'!D20 -> 5380 | M46: ='25'!D20 -> 5350 | N46: ='26'!D20 -> 5320 | O46: ='27'!D20 -> 5290 | P46: ='28'!D20 -> 5250 | Q46: ='29'!D20 -> 5220 | R46: ='30'!D20 -> 5130 | S46: ='R1'!D20 -> 5060 | T46: ='R2'!D20 -> 4850 | U46: ='R3'!D20 -> 4680 | V46: ='R4'!D20 -> 4520 | W46: ='R5'!D20 -> 4390 | X46: ='R6'!D20 -> 4300
B47: 213 | C47: 掛川市 | D47: ='16'!D20 -> 3410
B48: 442 | C48: 大須賀町 | D48: ='16'!D59 -> 798
B49: 447 | C49: 大東町 | D49: ='16'!D60 -> 1430
A50: 13000 | B50: 214 | C50: 藤枝市 | I50: ='21'!D21 -> 3040 | J50: ='22'!D21 -> 2990 | K50: ='23'!D21 -> 2930 | L50: ='24'!D21 -> 2890 | M50: ='25'!D21 -> 2880 | N50: ='26'!D21 -> 2850 | O50: ='27'!D21 -> 2790 | P50: ='28'!D21 -> 2740 | Q50: ='29'!D21 -> 2700 | R50: ='30'!D21 -> 2510 | S50: ='R1'!D21 -> 2400 | T50: ='R2'!D21 -> 2310 | U50: ='R3'!D21 -> 2240 | V50: ='R4'!D21 -> 2170 | W50: ='R5'!D21 -> 2110 | X50: ='R6'!D21 -> 2050
B51: 214 | C51: 藤枝市 | D51: ='16'!D21 -> 2640 | E51: ='17'!D21 -> 2610 | F51: ='18'!D21 -> 2580 | G51: ='19'!D21 -> 2510 | H51: ='20'!D21 -> 2450
B52: 401 | C52: 岡部町 | D52: ='16'!D50 -> 826 | E52: ='17'!D44 -> 814 | F52: ='18'!D44 -> 803 | G52: ='19'!D44 -> 766 | H52: ='20'!D44 -> 754
A53: 14000 | B53: 215 | C53: 御殿場市 | D53: ='16'!D22 -> 2010 | E53: ='17'!D22 -> 2010 | F53: ='18'!D22 -> 2010 | G53: ='19'!D22 -> 1990 | H53: ='20'!D22 -> 1980 | I53: ='21'!D22 -> 1970 | J53: ='22'!D22 -> 1960 | K53: ='23'!D22 -> 1960 | L53: ='24'!D22 -> 1950 | M53: ='25'!D22 -> 1940 | N53: ='26'!D22 -> 1930 | O53: ='27'!D22 -> 1910 | P53: ='28'!D22 -> 1900 | Q53: ='29'!D22 -> 1890 | R53: ='30'!D22 -> 1880 | S53: ='R1'!D22 -> 1860 | T53: ='R2'!D22 -> 1840 | U53: ='R3'!D22 -> 1820 | V53: ='R4'!D22 -> 1820 | W53: ='R5'!D22 -> 1810 | X53: ='R6'!D22 -> 1790
A54: 15000 | B54: 216 | C54: 袋井市 | E54: ='17'!D23 -> 3660 | F54: ='18'!D23 -> 3630 | G54: ='19'!D23 -> 3550 | H54: ='20'!D23 -> 3520 | I54: ='21'!D23 -> 3480 | J54: ='22'!D23 -> 3460 | K54: ='23'!D23 -> 3450 | L54: ='24'!D23 -> 3430 | M54: ='25'!D23 -> 3420 | N54: ='26'!D23 -> 3400 | O54: ='27'!D23 -> 3350 | P54: ='28'!D23 -> 3310 | Q54: ='29'!D23 -> 3300 | R54: ='30'!D23 -> 3280 | S54: ='R1'!D23 -> 3240 | T54: ='R2'!D23 -> 3200 | U54: ='R3'!D23 -> 3170 | V54: ='R4'!D23 -> 3130 | W54: ='R5'!D23 -> 3110 | X54: ='R6'!D23 -> 3090
B55: 216 | C55: 袋井市 | D55: ='16'!D23 -> 2280
B56: 481 | C56: 浅羽町 | D56: ='16'!D63 -> 1400
A57: 16000 | B57: 219 | C57: 下田市 | D57: ='16'!D26 -> 298 | E57: ='17'!D24 -> 297 | F57: ='18'!D24 -> 297 | G57: ='19'!D24 -> 295 | H57: ='20'!D24 -> 290 | I57: ='21'!D24 -> 289 | J57: ='22'!D24 -> 287 | K57: ='23'!D24 -> 283 | L57: ='24'!D24 -> 280 | M57: ='25'!D24 -> 276 | N57: ='26'!D24 -> 268 | O57: ='27'!D24 -> 258 | P57: ='28'!D24 -> 252 | Q57: ='29'!D24 -> 252 | R57: ='30'!D24 -> 250 | S57: ='R1'!D24 -> 244 | T57: ='R2'!D24 -> 241 | U57: ='R3'!D24 -> 236 | V57: ='R4'!D24 -> 233 | W57: ='R5'!D24 -> 233 | X57: ='R6'!D24 -> 228
A58: 17000 | B58: 220 | C58: 裾野市 | D58: ='16'!D27 -> 927 | E58: ='17'!D25 -> 925 | F58: ='18'!D25 -> 918 | G58: ='19'!D25 -> 911 | H58: ='20'!D25 -> 906 | I58: ='21'!D25 -> 901 | J58: ='22'!D25 -> 897 | K58: ='23'!D25 -> 892 | L58: ='24'!D25 -> 888 | M58: ='25'!D25 -> 886 | N58: ='26'!D25 -> 879 | O58: ='27'!D25 -> 867 | P58: ='28'!D25 -> 860 | Q58: ='29'!D25 -> 851 | R58: ='30'!D25 -> 841 | S58: ='R1'!D25 -> 832 | T58: ='R2'!D25 -> 812 | U58: ='R3'!D25 -> 798 | V58: ='R4'!D25 -> 794 | W58: ='R5'!D25 -> 786 | X58: ='R6'!D25 -> 779
A59: 18000 | B59: 221 | C59: 湖西市 | J59: ='22'!D26 -> 1250 | K59: ='23'!D26 -> 1250 | L59: ='24'!D26 -> 1250 | M59: ='25'!D26 -> 1240 | N59: ='26'!D26 -> 1230 | O59: ='27'!D26 -> 1230 | P59: ='28'!D26 -> 1220 | Q59: ='29'!D26 -> 1220 | R59: ='30'!D26 -> 1220 | S59: ='R1'!D26 -> 1200 | T59: ='R2'!D26 -> 1180 | U59: ='R3'!D26 -> 1160 | V59: ='R4'!D26 -> 1160 | W59: ='R5'!D26 -> 1160 | X59: ='R6'!D26 -> 1150
B60: 221 | C60: 湖西市 | D60: ='16'!D28 -> 1210 | E60: ='17'!D26 -> 1200 | F60: ='18'!D26 -> 1160 | G60: ='19'!D26 -> 1160 | H60: ='20'!D26 -> 1140 | I60: ='21'!D26 -> 1130
B61: 503 | C61: 新居町 | D61: ='16'!D72 -> 168 | E61: ='17'!D50 -> 150 | F61: ='18'!D50 -> 133 | G61: ='19'!D50 -> 128 | H61: ='20'!D49 -> 129 | I61: ='21'!D45 -> 124
A62: 19000 | B62: 222 | C62: 伊豆市 | D62: ='16'!D29 -> 1360 | E62: ='17'!D27 -> 1360 | F62: ='18'!D27 -> 1360 | G62: ='19'!D27 -> 1350 | H62: ='20'!D27 -> 1340 | I62: ='21'!D27 -> 1320 | J62: ='22'!D27 -> 1320 | K62: ='23'!D27 -> 1300 | L62: ='24'!D27 -> 1300 | M62: ='25'!D27 -> 1280 | N62: ='26'!D27 -> 1250 | O62: ='27'!D27 -> 1250 | P62: ='28'!D27 -> 1240 | Q62: ='29'!D27 -> 1230 | R62: ='30'!D27 -> 1220 | S62: ='R1'!D27 -> 1190 | T62: ='R2'!D27 -> 1170 | U62: ='R3'!D27 -> 1150 | V62: ='R4'!D27 -> 1140 | W62: ='R5'!D27 -> 1130 | X62: ='R6'!D27 -> 1100
A63: 20000 | B63: 223 | C63: 御前崎市 | D63: ='16'!D30 -> 1810 | E63: ='17'!D28 -> 1800 | F63: ='18'!D28 -> 1760 | G63: ='19'!D28 -> 1700 | H63: ='20'!D28 -> 1650 | I63: ='21'!D28 -> 1630 | J63: ='22'!D28 -> 1630 | K63: ='23'!D28 -> 1620 | L63: ='24'!D28 -> 1620 | M63: ='25'!D28 -> 1580 | N63: ='26'!D28 -> 1580 | O63: ='27'!D28 -> 1550 | P63: ='28'!D28 -> 1530 | Q63: ='29'!D28 -> 1510 | R63: ='30'!D28 -> 1490 | S63: ='R1'!D28 -> 1480 | T63: ='R2'!D28 -> 1450 | U63: ='R3'!D28 -> 1410 | V63: ='R4'!D28 -> 1380 | W63: ='R5'!D28 -> 1350 | X63: ='R6'!D28 -> 1320
A64: 21000 | B64: 224 | C64: 菊川市 | D64: ='16'!D31 -> 3230 | E64: ='17'!D29 -> 3210 | F64: ='18'!D29 -> 3190 | G64: ='19'!D29 -> 3190 | H64: ='20'!D29 -> 3190 | I64: ='21'!D29 -> 3170 | J64: ='22'!D29 -> 3150 | K64: ='23'!D29 -> 3130 | L64: ='24'!D29 -> 3120 | M64: ='25'!D29 -> 3090 | N64: ='26'!D29 -> 3070 | O64: ='27'!D29 -> 3040 | P64: ='28'!D29 -> 3020 | Q64: ='29'!D29 -> 2990 | R64: ='30'!D29 -> 2950 | S64: ='R1'!D29 -> 2860 | T64: ='R2'!D29 -> 2800 | U64: ='R3'!D29 -> 2760 | V64: ='R4'!D29 -> 2740 | W64: ='R5'!D29 -> 2720 | X64: ='R6'!D29 -> 2650
A65: 22000 | B65: 225 | C65: 伊豆の国市 | E65: ='17'!D30 -> 1160 | F65: ='18'!D30 -> 1160 | G65: ='19'!D30 -> 1160 | H65: ='20'!D30 -> 1160 | I65: ='21'!D30 -> 1150 | J65: ='22'!D30 -> 1140 | K65: ='23'!D30 -> 1130 | L65: ='24'!D30 -> 1130 | M65: ='25'!D30 -> 1120 | N65: ='26'!D30 -> 1090 | O65: ='27'!D30 -> 1080 | P65: ='28'!D30 -> 1080 | Q65: ='29'!D30 -> 1070 | R65: ='30'!D30 -> 1050 | S65: ='R1'!D30 -> 1030 | T65: ='R2'!D30 -> 1010 | U65: ='R3'!D30 -> 986 | V65: ='R4'!D30 -> 980 | W65: ='R5'!D30 -> 968 | X65: ='R6'!D30 -> 940
B66: 321 | C66: 伊豆長岡町 | D66: ='16'!D38 -> 226
B67: 326 | C67: 韮山町 | D67: ='16'!D41 -> 515
B68: 327 | C68: 大仁町 | D68: ='16'!D42 -> 421
A69: 23000 | B69: 226 | C69: 牧之原市 | E69: ='17'!D31 -> 3790 | F69: ='18'!D31 -> 3790 | G69: ='19'!D31 -> 3770 | H69: ='20'!D31 -> 3760 | I69: ='21'!D31 -> 3750 | J69: ='22'!D31 -> 3760 | K69: ='23'!D31 -> 3740 | L69: ='24'!D31 -> 3740 | M69: ='25'!D31 -> 3720 | N69: ='26'!D31 -> 3690 | O69: ='27'!D31 -> 3650 | P69: ='28'!D31 -> 3630 | Q69: ='29'!D31 -> 3580 | R69: ='30'!D31 -> 3530 | S69: ='R1'!D31 -> 3440 | T69: ='R2'!D31 -> 3270 | U69: ='R3'!D31 -> 3110 | V69: ='R4'!D31 -> 2990 | W69: ='R5'!D31 -> 2870 | X69: ='R6'!D31 -> 2770
B70: 422 | C70: 相良町 | D70: ='16'!D52 -> 1880
B71: 423 | C71: 榛原町 | D71: ='16'!D53 -> 1910
A72: 24000 | B72: 301 | C72: 東伊豆町 | D72: ='16'!D32 -> 342 | E72: ='17'!D32 -> 342 | F72: ='18'!D32 -> 342 | G72: ='19'!D32 -> 335 | H72: ='20'!D32 -> 330 | I72: ='21'!D32 -> 320 | J72: ='22'!D32 -> 318 | K72: ='23'!D32 -> 311 | L72: ='24'!D32 -> 307 | M72: ='25'!D32 -> 294 | N72: ='26'!D32 -> 268 | O72: ='27'!D32 -> 258 | P72: ='28'!D32 -> 249 | Q72: ='29'!D32 -> 236 | R72: ='30'!D32 -> 229 | S72: ='R1'!D32 -> 227 | T72: ='R2'!D32 -> 225 | U72: ='R3'!D32 -> 223 | V72: ='R4'!D32 -> 221 | W72: ='R5'!D32 -> 220 | X72: ='R6'!D32 -> 217
A73: 25000 | B73: 302 | C73: 河津町 | D73: ='16'!D33 -> 379 | E73: ='17'!D33 -> 379 | F73: ='18'!D33 -> 379 | G73: ='19'!D33 -> 373 | H73: ='20'!D33 -> 367 | I73: ='21'!D33 -> 362 | J73: ='22'!D33 -> 360 | K73: ='23'!D33 -> 356 | L73: ='24'!D33 -> 353 | M73: ='25'!D33 -> 347 | N73: ='26'!D33 -> 331 | O73: ='27'!D33 -> 322 | P73: ='28'!D33 -> 313 | Q73: ='29'!D33 -> 295 | R73: ='30'!D33 -> 288 | S73: ='R1'!D33 -> 278 | T73: ='R2'!D33 -> 267 | U73: ='R3'!D33 -> 259 | V73: ='R4'!D33 -> 256 | W73: ='R5'!D33 -> 250 | X73: ='R6'!D33 -> 243
A74: 26000 | B74: 304 | C74: 南伊豆町 | D74: ='16'!D34 -> 440 | E74: ='17'!D34 -> 439 | F74: ='18'!D34 -> 439 | G74: ='19'!D34 -> 433 | H74: ='20'!D34 -> 422 | I74: ='21'!D34 -> 418 | J74: ='22'!D34 -> 409 | K74: ='23'!D34 -> 396 | L74: ='24'!D34 -> 387 | M74: ='25'!D34 -> 377 | N74: ='26'!D34 -> 363 | O74: ='27'!D34 -> 354 | P74: ='28'!D34 -> 348 | Q74: ='29'!D34 -> 342 | R74: ='30'!D34 -> 333 | S74: ='R1'!D34 -> 321 | T74: ='R2'!D34 -> 314 | U74: ='R3'!D34 -> 304 | V74: ='R4'!D34 -> 299 | W74: ='R5'!D34 -> 295 | X74: ='R6'!D34 -> 287
A75: 27000 | B75: 305 | C75: 松崎町 | D75: ='16'!D35 -> 345 | E75: ='17'!D35 -> 344 | F75: ='18'!D35 -> 342 | G75: ='19'!D35 -> 339 | H75: ='20'!D35 -> 330 | I75: ='21'!D35 -> 328 | J75: ='22'!D35 -> 327 | K75: ='23'!D35 -> 325 | L75: ='24'!D35 -> 323 | M75: ='25'!D35 -> 318 | N75: ='26'!D35 -> 313 | O75: ='27'!D35 -> 309 | P75: ='28'!D35 -> 304 | Q75: ='29'!D35 -> 297 | R75: ='30'!D35 -> 291 | S75: ='R1'!D35 -> 280 | T75: ='R2'!D35 -> 267 | U75: ='R3'!D35 -> 255 | V75: ='R4'!D35 -> 251 | W75: ='R5'!D35 -> 245 | X75: ='R6'!D35 -> 239
A76: 28000 | B76: 306 | C76: 西伊豆町 | E76: ='17'!D36 -> 177 | F76: ='18'!D36 -> 176 | G76: ='19'!D36 -> 175 | H76: ='20'!D36 -> 170 | I76: ='21'!D36 -> 167 | J76: ='22'!D36 -> 166 | K76: ='23'!D36 -> 161 | L76: ='24'!D36 -> 160 | M76: ='25'!D36 -> 156 | N76: ='26'!D36 -> 152 | O76: ='27'!D36 -> 150 | P76: ='28'!D36 -> 147 | Q76: ='29'!D36 -> 146 | R76: ='30'!D36 -> 144 | S76: ='R1'!D36 -> 141 | T76: ='R2'!D36 -> 139 | U76: ='R3'!D36 -> 136 | V76: ='R4'!D36 -> 135 | W76: ='R5'!D36 -> 133 | X76: ='R6'!D36 -> 130
B77: 306 | C77: 西伊豆町 | D77: ='16'!D36 -> 84
B78: 307 | C78: 賀茂村 | D78: ='16'!D37 -> 93
A79: 29000 | B79: 325 | C79: 函南町 | D79: ='16'!D40 -> 725 | E79: ='17'!D37 -> 723 | F79: ='18'!D37 -> 723 | G79: ='19'!D37 -> 721 | H79: ='20'!D37 -> 717 | I79: ='21'!D37 -> 715 | J79: ='22'!D37 -> 713 | K79: ='23'!D37 -> 708 | L79: ='24'!D37 -> 706 | M79: ='25'!D37 -> 699 | N79: ='26'!D37 -> 695 | O79: ='27'!D37 -> 692 | P79: ='28'!D37 -> 687 | Q79: ='29'!D37 -> 684 | R79: ='30'!D37 -> 678 | S79: ='R1'!D37 -> 667 | T79: ='R2'!D37 -> 657 | U79: ='R3'!D37 -> 644 | V79: ='R4'!D37 -> 642 | W79: ='R5'!D37 -> 638 | X79: ='R6'!D37 -> 632
A80: 30000 | B80: 341 | C80: 清水町 | D80: ='16'!D43 -> 125 | E80: ='17'!D38 -> 125 | F80: ='18'!D38 -> 122 | G80: ='19'!D38 -> 120 | H80: ='20'!D38 -> 115 | I80: ='21'!D38 -> 112 | J80: ='22'!D38 -> 110 | K80: ='23'!D38 -> 108 | L80: ='24'!D38 -> 105 | M80: ='25'!D38 -> 102 | N80: ='26'!D38 -> 99 | O80: ='27'!D38 -> 97 | P80: ='28'!D38 -> 92 | Q80: ='29'!D38 -> 91 | R80: ='30'!D38 -> 89 | S80: ='R1'!D38 -> 87 | T80: ='R2'!D38 -> 83 | U80: ='R3'!D38 -> 80 | V80: ='R4'!D38 -> 78 | W80: ='R5'!D38 -> 76 | X80: ='R6'!D38 -> 74
A81: 31000 | B81: 342 | C81: 長泉町 | D81: ='16'!D44 -> 288 | E81: ='17'!D39 -> 286 | F81: ='18'!D39 -> 281 | G81: ='19'!D39 -> 276 | H81: ='20'!D39 -> 272 | I81: ='21'!D39 -> 269 | J81: ='22'!D39 -> 267 | K81: ='23'!D39 -> 261 | L81: ='24'!D39 -> 256 | M81: ='25'!D39 -> 249 | N81: ='26'!D39 -> 245 | O81: ='27'!D39 -> 241 | P81: ='28'!D39 -> 235 | Q81: ='29'!D39 -> 233 | R81: ='30'!D39 -> 228 | S81: ='R1'!D39 -> 221 | T81: ='R2'!D39 -> 216 | U81: ='R3'!D39 -> 209 | V81: ='R4'!D39 -> 205 | W81: ='R5'!D39 -> 204 | X81: ='R6'!D39 -> 198
A82: 32000 | B82: 344 | C82: 小山町 | D82: ='16'!D45 -> 608 | E82: ='17'!D40 -> 608 | F82: ='18'!D40 -> 606 | G82: ='19'!D40 -> 603 | H82: ='20'!D40 -> 599 | I82: ='21'!D40 -> 597 | J82: ='22'!D40 -> 596 | K82: ='23'!D40 -> 579 | L82: ='24'!D40 -> 587 | M82: ='25'!D40 -> 586 | N82: ='26'!D40 -> 580 | O82: ='27'!D40 -> 578 | P82: ='28'!D40 -> 574 | Q82: ='29'!D40 -> 570 | R82: ='30'!D40 -> 563 | S82: ='R1'!D40 -> 546 | T82: ='R2'!D40 -> 535 | U82: ='R3'!D40 -> 531 | V82: ='R4'!D40 -> 525 | W82: ='R5'!D40 -> 519 | X82: ='R6'!D40 -> 516
A83: 33000 | B83: 424 | C83: 吉田町 | D83: ='16'!D54 -> 454 | E83: ='17'!D46 -> 449 | F83: ='18'!D46 -> 437 | G83: ='19'!D46 -> 432 | H83: ='20'!D46 -> 428 | I83: ='21'!D42 -> 427 | J83: ='22'!D41 -> 425 | K83: ='23'!D41 -> 422 | L83: ='24'!D41 -> 420 | M83: ='25'!D41 -> 420 | N83: ='26'!D41 -> 413 | O83: ='27'!D41 -> 404 | P83: ='28'!D41 -> 354 | Q83: ='29'!D41 -> 353 | R83: ='30'!D41 -> 345 | S83: ='R1'!D41 -> 341 | T83: ='R2'!D41 -> 336 | U83: ='R3'!D41 -> 330 | V83: ='R4'!D41 -> 328 | W83: ='R5'!D41 -> 325 | X83: ='R6'!D41 -> 325
A84: 34000 | B84: 429 | C84: 川根本町 | E84: ='17'!D48 -> 720 | F84: ='18'!D48 -> 715 | G84: ='19'!D48 -> 702 | H84: ='20'!D47 -> 694 | I84: ='21'!D43 -> 692 | J84: ='22'!D42 -> 692 | K84: ='23'!D42 -> 677 | L84: ='24'!D42 -> 678 | M84: ='25'!D42 -> 676 | N84: ='26'!D42 -> 663 | O84: ='27'!D42 -> 638 | P84: ='28'!D42 -> 603 | Q84: ='29'!D42 -> 592 | R84: ='30'!D42 -> 545 | S84: ='R1'!D42 -> 531 | T84: ='R2'!D42 -> 520 | U84: ='R3'!D42 -> 510 | V84: ='R4'!D42 -> 505 | W84: ='R5'!D42 -> 502 | X84: ='R6'!D42 -> 480
B85: 427 | C85: 中川根町 | D85: ='16'!D57 -> 473
B86: 428 | C86: 本川根町 | D86: ='16'!D58 -> 256
A87: 35000 | B87: 461 | C87: 森町 | D87: ='16'!D61 -> 1210 | E87: ='17'!D49 -> 1200 | F87: ='18'!D49 -> 1200 | G87: ='19'!D49 -> 1200 | H87: ='20'!D48 -> 1200 | I87: ='21'!D44 -> 1190 | J87: ='22'!D43 -> 1190 | K87: ='23'!D43 -> 1190 | L87: ='24'!D43 -> 1190 | M87: ='25'!D43 -> 1190 | N87: ='26'!D43 -> 1170 | O87: ='27'!D43 -> 1170 | P87: ='28'!D43 -> 1170 | Q87: ='29'!D43 -> 1140 | R87: ='30'!D43 -> 1130 | S87: ='R1'!D43 -> 1080 | T87: ='R2'!D43 -> 1030 | U87: ='R3'!D43 -> 990 | V87: ='R4'!D43 -> 949 | W87: ='R5'!D43 -> 922 | X87: ='R6'!D43 -> 907

Sheet グラフ耕地
D1: =データ耕地!J1 -> 2010 | E1: =データ耕地!K1 -> 2011 | F1: =データ耕地!L1 -> 2012 | G1: =データ耕地!M1 -> 2013 | H1: =データ耕地!N1 -> 2014 | I1: =データ耕地!O1 -> 2015 | J1: =データ耕地!P1 -> 2016 | K1: =データ耕地!Q1 -> 2017 | ... R1: =データ耕地!X1 -> 2024
A2: 1000 | B2: 100 | C2: 静岡市 | D2: =データ耕地!J4 -> 5500 | E2: =データ耕地!K4 -> 5390 | F2: =データ耕地!L4 -> 5300 | G2: =データ耕地!M4 -> 5260 | H2: =データ耕地!N4 -> 5200 | I2: =データ耕地!O4 -> 5130 | J2: =データ耕地!P4 -> 5030 | K2: =データ耕地!Q4 -> 4980 | ... R2: =データ耕地!X4 -> 3940
A3: 2000 | B3: 130 | C3: 浜松市 | D3: =データ耕地!J8 -> 12900 | E3: =データ耕地!K8 -> 12800 | F3: =データ耕地!L8 -> 12800 | G3: =データ耕地!M8 -> 12700 | H3: =データ耕地!N8 -> 12600 | I3: =データ耕地!O8 -> 12600 | J3: =データ耕地!P8 -> 12500 | K3: =データ耕地!Q8 -> 12400 | ... R3: =データ耕地!X8 -> 11500
A4: 3000 | B4: 203 | C4: 沼津市 | D4: =データ耕地!J21 -> 2270 | E4: =データ耕地!K21 -> 2230 | F4: =データ耕地!L21 -> 2210 | G4: =データ耕地!M21 -> 2190 | H4: =データ耕地!N21 -> 2170 | I4: =データ耕地!O21 -> 2130 | J4: =データ耕地!P21 -> 2090 | K4: =データ耕地!Q21 -> 2060 | ... R4: =データ耕地!X21 -> 1850
A5: 4000 | B5: 205 | C5: 熱海市 | D5: =データ耕地!J24 -> 243 | E5: =データ耕地!K24 -> 232 | F5: =データ耕地!L24 -> 212 | G5: =データ耕地!M24 -> 204 | H5: =データ耕地!N24 -> 202 | I5: =データ耕地!O24 -> 197 | J5: =データ耕地!P24 -> 191 | K5: =データ耕地!Q24 -> 180 | ... R5: =データ耕地!X24 -> 135
A6: 5000 | B6: 206 | C6: 三島市 | D6: =データ耕地!J25 -> 878 | E6: =データ耕地!K25 -> 872 | F6: =データ耕地!L25 -> 865 | G6: =データ耕地!M25 -> 858 | H6: =データ耕地!N25 -> 845 | I6: =データ耕地!O25 -> 839 | J6: =データ耕地!P25 -> 831 | K6: =データ耕地!Q25 -> 827 | ... R6: =データ耕地!X25 -> 749
A7: 6000 | B7: 207 | C7: 富士宮市 | D7: =データ耕地!J26 -> 3290 | E7: =データ耕地!K26 -> 3270 | F7: =データ耕地!L26 -> 3250 | G7: =データ耕地!M26 -> 3230 | H7: =データ耕地!N26 -> 3190 | I7: =データ耕地!O26 -> 3170 | J7: =データ耕地!P26 -> 3150 | K7: =データ耕地!Q26 -> 3120 | ... R7: =データ耕地!X26 -> 2880
A8: 7000 | B8: 208 | C8: 伊東市 | D8: =データ耕地!J29 -> 538 | E8: =データ耕地!K29 -> 508 | F8: =データ耕地!L29 -> 461 | G8: =データ耕地!M29 -> 440 | H8: =データ耕地!N29 -> 432 | I8: =データ耕地!O29 -> 429 | J8: =データ耕地!P29 -> 421 | K8: =データ耕地!Q29 -> 417 | ... R8: =データ耕地!X29 -> 362
A9: 8000 | B9: 209 | C9: 島田市 | D9: =データ耕地!J30 -> 3350 | E9: =データ耕地!K30 -> 3330 | F9: =データ耕地!L30 -> 3290 | G9: =データ耕地!M30 -> 3280 | H9: =データ耕地!N30 -> 3260 | I9: =データ耕地!O30 -> 3240 | J9: =データ耕地!P30 -> 3230 | K9: =データ耕地!Q30 -> 3200 | ... R9: =データ耕地!X30 -> 2640
A10: 9000 | B10: 210 | C10: 富士市 | D10: =データ耕地!J34 -> 2740 | E10: =データ耕地!K34 -> 2720 | F10: =データ耕地!L34 -> 2690 | G10: =データ耕地!M34 -> 2650 | H10: =データ耕地!N34 -> 2620 | I10: =データ耕地!O34 -> 2580 | J10: =データ耕地!P34 -> 2540 | K10: =データ耕地!Q34 -> 2510 | ... R10: =データ耕地!X34 -> 2170
A11: 10000 | B11: 211 | C11: 磐田市 | D11: =データ耕地!J37 -> 4650 | E11: =データ耕地!K37 -> 4630 | F11: =データ耕地!L37 -> 4620 | G11: =データ耕地!M37 -> 4590 | H11: =データ耕地!N37 -> 4570 | I11: =データ耕地!O37 -> 4550 | J11: =データ耕地!P37 -> 4500 | K11: =データ耕地!Q37 -> 4460 | ... R11: =データ耕地!X37 -> 4230
A12: 11000 | B12: 212 | C12: 焼津市 | D12: =データ耕地!J43 -> 1600 | E12: =データ耕地!K43 -> 1590 | F12: =データ耕地!L43 -> 1580 | G12: =データ耕地!M43 -> 1570 | H12: =データ耕地!N43 -> 1560 | I12: =データ耕地!O43 -> 1540 | J12: =データ耕地!P43 -> 1520 | K12: =データ耕地!Q43 -> 1500 | ... R12: =データ耕地!X43 -> 1390
A13: 12000 | B13: 213 | C13: 掛川市 | D13: =データ耕地!J46 -> 5460 | E13: =データ耕地!K46 -> 5410 | F13: =データ耕地!L46 -> 5380 | G13: =データ耕地!M46 -> 5350 | H13: =データ耕地!N46 -> 5320 | I13: =データ耕地!O46 -> 5290 | J13: =データ耕地!P46 -> 5250 | K13: =データ耕地!Q46 -> 5220 | ... R13: =データ耕地!X46 -> 4300
A14: 13000 | B14: 214 | C14: 藤枝市 | D14: =データ耕地!J50 -> 2990 | E14: =データ耕地!K50 -> 2930 | F14: =データ耕地!L50 -> 2890 | G14: =データ耕地!M50 -> 2880 | H14: =データ耕地!N50 -> 2850 | I14: =データ耕地!O50 -> 2790 | J14: =データ耕地!P50 -> 2740 | K14: =データ耕地!Q50 -> 2700 | ... R14: =データ耕地!X50 -> 2050
A15: 14000 | B15: 215 | C15: 御殿場市 | D15: =データ耕地!J53 -> 1960 | E15: =データ耕地!K53 -> 1960 | F15: =データ耕地!L53 -> 1950 | G15: =データ耕地!M53 -> 1940 | H15: =データ耕地!N53 -> 1930 | I15: =データ耕地!O53 -> 1910 | J15: =データ耕地!P53 -> 1900 | K15: =データ耕地!Q53 -> 1890 | ... R15: =データ耕地!X53 -> 1790
A16: 15000 | B16: 216 | C16: 袋井市 | D16: =データ耕地!J54 -> 3460 | E16: =データ耕地!K54 -> 3450 | F16: =データ耕地!L54 -> 3430 | G16: =データ耕地!M54 -> 3420 | H16: =データ耕地!N54 -> 3400 | I16: =データ耕地!O54 -> 3350 | J16: =データ耕地!P54 -> 3310 | K16: =データ耕地!Q54 -> 3300 | ... R16: =データ耕地!X54 -> 3090
A17: 16000 | B17: 219 | C17: 下田市 | D17: =データ耕地!J57 -> 287 | E17: =データ耕地!K57 -> 283 | F17: =データ耕地!L57 -> 280 | G17: =データ耕地!M57 -> 276 | H17: =データ耕地!N57 -> 268 | I17: =データ耕地!O57 -> 258 | J17: =データ耕地!P57 -> 252 | K17: =データ耕地!Q57 -> 252 | ... R17: =データ耕地!X57 -> 228
A18: 17000 | B18: 220 | C18: 裾野市 | D18: =データ耕地!J58 -> 897 | E18: =データ耕地!K58 -> 892 | F18: =データ耕地!L58 -> 888 | G18: =データ耕地!M58 -> 886 | H18: =データ耕地!N58 -> 879 | I18: =データ耕地!O58 -> 867 | J18: =データ耕地!P58 -> 860 | K18: =データ耕地!Q58 -> 851 | ... R18: =データ耕地!X58 -> 779
A19: 18000 | B19: 221 | C19: 湖西市 | D19: =データ耕地!J59 -> 1250 | E19: =データ耕地!K59 -> 1250 | F19: =データ耕地!L59 -> 1250 | G19: =データ耕地!M59 -> 1240 | H19: =データ耕地!N59 -> 1230 | I19: =データ耕地!O59 -> 1230 | J19: =データ耕地!P59 -> 1220 | K19: =データ耕地!Q59 -> 1220 | ... R19: =データ耕地!X59 -> 1150
A20: 19000 | B20: 222 | C20: 伊豆市 | D20: =データ耕地!J62 -> 1320 | E20: =データ耕地!K62 -> 1300 | F20: =データ耕地!L62 -> 1300 | G20: =データ耕地!M62 -> 1280 | H20: =データ耕地!N62 -> 1250 | I20: =データ耕地!O62 -> 1250 | J20: =データ耕地!P62 -> 1240 | K20: =データ耕地!Q62 -> 1230 | ... R20: =データ耕地!X62 -> 1100
A21: 20000 | B21: 223 | C21: 御前崎市 | D21: =データ耕地!J63 -> 1630 | E21: =データ耕地!K63 -> 1620 | F21: =データ耕地!L63 -> 1620 | G21: =データ耕地!M63 -> 1580 | H21: =データ耕地!N63 -> 1580 | I21: =データ耕地!O63 -> 1550 | J21: =データ耕地!P63 -> 1530 | K21: =データ耕地!Q63 -> 1510 | ... R21: =データ耕地!X63 -> 1320
A22: 21000 | B22: 224 | C22: 菊川市 | D22: =データ耕地!J64 -> 3150 | E22: =データ耕地!K64 -> 3130 | F22: =データ耕地!L64 -> 3120 | G22: =データ耕地!M64 -> 3090 | H22: =データ耕地!N64 -> 3070 | I22: =データ耕地!O64 -> 3040 | J22: =データ耕地!P64 -> 3020 | K22: =データ耕地!Q64 -> 2990 | ... R22: =データ耕地!X64 -> 2650
A23: 22000 | B23: 225 | C23: 伊豆の国市 | D23: =データ耕地!J65 -> 1140 | E23: =データ耕地!K65 -> 1130 | F23: =データ耕地!L65 -> 1130 | G23: =データ耕地!M65 -> 1120 | H23: =データ耕地!N65 -> 1090 | I23: =データ耕地!O65 -> 1080 | J23: =データ耕地!P65 -> 1080 | K23: =データ耕地!Q65 -> 1070 | ... R23: =データ耕地!X65 -> 940
A24: 23000 | B24: 226 | C24: 牧之原市 | D24: =データ耕地!J69 -> 3760 | E24: =データ耕地!K69 -> 3740 | F24: =データ耕地!L69 -> 3740 | G24: =データ耕地!M69 -> 3720 | H24: =データ耕地!N69 -> 3690 | I24: =データ耕地!O69 -> 3650 | J24: =データ耕地!P69 -> 3630 | K24: =データ耕地!Q69 -> 3580 | ... R24: =データ耕地!X69 -> 2770
A25: 24000 | B25: 301 | C25: 東伊豆町 | D25: =データ耕地!J72 -> 318 | E25: =データ耕地!K72 -> 311 | F25: =データ耕地!L72 -> 307 | G25: =データ耕地!M72 -> 294 | H25: =データ耕地!N72 -> 268 | I25: =データ耕地!O72 -> 258 | J25: =データ耕地!P72 -> 249 | K25: =データ耕地!Q72 -> 236 | ... R25: =データ耕地!X72 -> 217
A26: 25000 | B26: 302 | C26: 河津町 | D26: =データ耕地!J73 -> 360 | E26: =データ耕地!K73 -> 356 | F26: =データ耕地!L73 -> 353 | G26: =データ耕地!M73 -> 347 | H26: =データ耕地!N73 -> 331 | I26: =データ耕地!O73 -> 322 | J26: =データ耕地!P73 -> 313 | K26: =データ耕地!Q73 -> 295 | ... R26: =データ耕地!X73 -> 243
A27: 26000 | B27: 304 | C27: 南伊豆町 | D27: =データ耕地!J74 -> 409 | E27: =データ耕地!K74 -> 396 | F27: =データ耕地!L74 -> 387 | G27: =データ耕地!M74 -> 377 | H27: =データ耕地!N74 -> 363 | I27: =データ耕地!O74 -> 354 | J27: =データ耕地!P74 -> 348 | K27: =データ耕地!Q74 -> 342 | ... R27: =データ耕地!X74 -> 287
A28: 27000 | B28: 305 | C28: 松崎町 | D28: =データ耕地!J75 -> 327 | E28: =データ耕地!K75 -> 325 | F28: =データ耕地!L75 -> 323 | G28: =データ耕地!M75 -> 318 | H28: =データ耕地!N75 -> 313 | I28: =データ耕地!O75 -> 309 | J28: =データ耕地!P75 -> 304 | K28: =データ耕地!Q75 -> 297 | ... R28: =データ耕地!X75 -> 239
A29: 28000 | B29: 306 | C29: 西伊豆町 | D29: =データ耕地!J76 -> 166 | E29: =データ耕地!K76 -> 161 | F29: =データ耕地!L76 -> 160 | G29: =データ耕地!M76 -> 156 | H29: =データ耕地!N76 -> 152 | I29: =データ耕地!O76 -> 150 | J29: =データ耕地!P76 -> 147 | K29: =データ耕地!Q76 -> 146 | ... R29: =データ耕地!X76 -> 130
A30: 29000 | B30: 325 | C30: 函南町 | D30: =データ耕地!J79 -> 713 | E30: =データ耕地!K79 -> 708 | F30: =データ耕地!L79 -> 706 | G30: =データ耕地!M79 -> 699 | H30: =データ耕地!N79 -> 695 | I30: =データ耕地!O79 -> 692 | J30: =データ耕地!P79 -> 687 | K30: =データ耕地!Q79 -> 684 | ... R30: =データ耕地!X79 -> 632
A31: 30000 | B31: 341 | C31: 清水町 | D31: =データ耕地!J80 -> 110 | E31: =データ耕地!K80 -> 108 | F31: =データ耕地!L80 -> 105 | G31: =データ耕地!M80 -> 102 | H31: =データ耕地!N80 -> 99 | I31: =データ耕地!O80 -> 97 | J31: =データ耕地!P80 -> 92 | K31: =データ耕地!Q80 -> 91 | ... R31: =データ耕地!X80 -> 74
A32: 31000 | B32: 342 | C32: 長泉町 | D32: =データ耕地!J81 -> 267 | E32: =データ耕地!K81 -> 261 | F32: =データ耕地!L81 -> 256 | G32: =データ耕地!M81 -> 249 | H32: =データ耕地!N81 -> 245 | I32: =データ耕地!O81 -> 241 | J32: =データ耕地!P81 -> 235 | K32: =データ耕地!Q81 -> 233 | ... R32: =データ耕地!X81 -> 198
A33: 32000 | B33: 344 | C33: 小山町 | D33: =データ耕地!J82 -> 596 | E33: =データ耕地!K82 -> 579 | F33: =データ耕地!L82 -> 587 | G33: =データ耕地!M82 -> 586 | H33: =データ耕地!N82 -> 580 | I33: =データ耕地!O82 -> 578 | J33: =データ耕地!P82 -> 574 | K33: =データ耕地!Q82 -> 570 | ... R33: =データ耕地!X82 -> 516
A34: 33000 | B34: 424 | C34: 吉田町 | D34: =データ耕地!J83 -> 425 | E34: =データ耕地!K83 -> 422 | F34: =データ耕地!L83 -> 420 | G34: =データ耕地!M83 -> 420 | H34: =データ耕地!N83 -> 413 | I34: =データ耕地!O83 -> 404 | J34: =データ耕地!P83 -> 354 | K34: =データ耕地!Q83 -> 353 | ... R34: =データ耕地!X83 -> 325
A35: 34000 | B35: 429 | C35: 川根本町 | D35: =データ耕地!J84 -> 692 | E35: =データ耕地!K84 -> 677 | F35: =データ耕地!L84 -> 678 | G35: =データ耕地!M84 -> 676 | H35: =データ耕地!N84 -> 663 | I35: =データ耕地!O84 -> 638 | J35: =データ耕地!P84 -> 603 | K35: =データ耕地!Q84 -> 592 | ... R35: =データ耕地!X84 -> 480
A36: 35000 | B36: 461 | C36: 森町 | D36: =データ耕地!J87 -> 1190 | E36: =データ耕地!K87 -> 1190 | F36: =データ耕地!L87 -> 1190 | G36: =データ耕地!M87 -> 1190 | H36: =データ耕地!N87 -> 1170 | I36: =データ耕地!O87 -> 1170 | J36: =データ耕地!P87 -> 1170 | K36: =データ耕地!Q87 -> 1140 | ... R36: =データ耕地!X87 -> 907
D38: =D1 -> 2010 | E38: =E1 -> 2011 | F38: =F1 -> 2012 | G38: =G1 -> 2013 | H38: =H1 -> 2014 | I38: =I1 -> 2015 | J38: =J1 -> 2016 | K38: =K1 -> 2017 | ... R38: =R1 -> 2024
C39: 掛川市 | D39: =_xlfn.XLOOKUP($C$39,$C2:$C36,D$2:D$36) -> 5460 | E39: =_xlfn.XLOOKUP($C$39,$C2:$C36,E$2:E$36) -> 5410 | F39: =_xlfn.XLOOKUP($C$39,$C2:$C36,F$2:F$36) -> 5380 | G39: =_xlfn.XLOOKUP($C$39,$C2:$C36,G$2:G$36) -> 5350 | H39: =_xlfn.XLOOKUP($C$39,$C2:$C36,H$2:H$36) -> 5320 | I39: =_xlfn.XLOOKUP($C$39,$C2:$C36,I$2:I$36) -> 5290 | J39: =_xlfn.XLOOKUP($C$39,$C2:$C36,J$2:J$36) -> 5250 | K39: =_xlfn.XLOOKUP($C$39,$C2:$C36,K$2:K$36) -> 5220 | ... R39: =_xlfn.XLOOKUP($C$39,$C2:$C36,R$2:R$36) -> 4300

Sheet データ田
D1: 2004 | E1: 2005 | F1: 2006 | G1: 2007 | H1: 2008 | I1: 2009 | J1: 2010 | K1: 2011 | L1: 2012 | M1: 2013 | N1: 2014 | O1: 2015 | P1: 2016 | Q1: 2017 | R1: 2018 | S1: 2019 | T1: 2020 | U1: 2021 | V1: 2022 | W1: 2023 | X1: 2024
C2: 静岡県 | J2: 23400 | K2: ='23'!E45 -> 23300 | L2: ='24'!E45 -> 23200 | M2: ='25'!E45 -> 23000 | N2: ='26'!E45 -> 22900 | O2: ='27'!E45 -> 22700 | P2: ='28'!E45 -> 22500 | Q2: ='29'!E45 -> 22400 | R2: ='30'!E45 -> 22200 | S2: ='R1'!E45 -> 21900 | T2: ='R2'!E45 -> 21700 | U2: ='R3'!E45 -> 21500 | V2: ='R4'!E45 -> 21400 | W2: ='R5'!E45 -> 21300 | X2: ='R6'!E45 -> 21100
D3: =SUM(D4:D87) -> 25216 | E3: =SUM(E4:E87) -> 24970 | F3: =SUM(F4:F87) -> 24671 | G3: =SUM(G4:G87) -> 24239 | H3: =SUM(H4:H87) -> 23878 | I3: =SUM(I4:I87) -> 23613 | J3: =SUM(J4:J87) -> 23437 | K3: =SUM(K4:K87) -> 23312 | ... X3: =SUM(X4:X87) -> 21115
A4: 1000 | B4: 100 | C4: 静岡市 | I4: ='21'!E9 -> 621 | J4: ='22'!E9 -> 616 | K4: ='23'!E9 -> 610 | L4: ='24'!E9 -> 602 | M4: ='25'!E9 -> 593 | N4: ='26'!E9 -> 590 | O4: ='27'!E9 -> 578 | P4: ='28'!E9 -> 568 | Q4: ='29'!E9 -> 558 | R4: ='30'!E9 -> 547 | S4: ='R1'!E9 -> 536 | T4: ='R2'!E9 -> 529 | U4: ='R3'!E9 -> 524 | V4: ='R4'!E9 -> 517 | W4: ='R5'!E9 -> 512 | X4: ='R6'!E9 -> 499
B5: 201 | C5: 静岡市 | D5: ='16'!E9 -> 679 | E5: ='17'!E9 -> 674 | F5: ='18'!E9 -> 662 | G5: ='19'!E9 -> 642 | H5: ='20'!E9 -> 627
B6: 382 | C6: 蒲原町 | D6: ='16'!E48 -> 3
B7: 383 | C7: 由比町 | D7: ='16'!E49 -> 2 | E7: ='17'!E43 -> 2 | F7: ='18'!E43 -> 2 | G7: ='19'!E43 -> 2 | H7: ='20'!E43 -> 2
A8: 2000 | B8: 130 | C8: 浜松市 | E8: ='17'!E10 -> 2980 | F8: ='18'!E10 -> 2920 | G8: ='19'!E10 -> 2890 | H8: ='20'!E10 -> 2770 | I8: ='21'!E10 -> 2660 | J8: ='22'!E10 -> 2640 | K8: ='23'!E10 -> 2630 | L8: ='24'!E10 -> 2620 | M8: ='25'!E10 -> 2610 | N8: ='26'!E10 -> 2610 | O8: ='27'!E10 -> 2600 | P8: ='28'!E10 -> 2590 | Q8: ='29'!E10 -> 2590 | R8: ='30'!E10 -> 2570 | S8: ='R1'!E10 -> 2550 | T8: ='R2'!E10 -> 2520 | U8: ='R3'!E10 -> 2510 | V8: ='R4'!E10 -> 2490 | W8: ='R5'!E10 -> 2480 | X8: ='R6'!E10 -> 2460
B9: 202 | C9: 浜松市 | D9: ='16'!E10 -> 1650
B10: 217 | C10: 天竜市 | D10: ='16'!E24 -> 57
B11: 218 | C11: 浜北市 | D11: ='16'!E25 -> 400
B12: 462 | C12: 春野町 | D12: ='16'!E62 -> 61
B13: 486 | C13: 龍山村 | D13: ='16'!E68 -> -
B14: 487 | C14: 佐久間町 | D14: ='16'!E69 -> 14
B15: 488 | C15: 水窪町 | D15: ='16'!E70 -> 6
B16: 502 | C16: 舞阪町 | D16: ='16'!E71 -> -
B17: 505 | C17: 雄踏町 | D17: ='16'!E73 -> 92
B18: 521 | C18: 細江町 | D18: ='16'!E74 -> 308
B19: 522 | C19: 引佐町 | D19: ='16'!E75 -> 262
B20: 523 | C20: 三ヶ日町 | D20: ='16'!E76 -> 173
A21: 3000 | B21: 203 | C21: 沼津市 | E21: ='17'!E11 -> 487 | F21: ='18'!E11 -> 487 | G21: ='19'!E11 -> 482 | H21: ='20'!E11 -> 475 | I21: ='21'!E11 -> 469 | J21: ='22'!E11 -> 465 | K21: ='23'!E11 -> 460 | L21: ='24'!E11 -> 457 | M21: ='25'!E11 -> 451 | N21: ='26'!E11 -> 446 | O21: ='27'!E11 -> 443 | P21: ='28'!E11 -> 440 | Q21: ='29'!E11 -> 435 | R21: ='30'!E11 -> 418 | S21: ='R1'!E11 -> 407 | T21: ='R2'!E11 -> 397 | U21: ='R3'!E11 -> 389 | V21: ='R4'!E11 -> 387 | W21: ='R5'!E11 -> 384 | X21: ='R6'!E11 -> 383
B22: 203 | C22: 沼津市 | D22: ='16'!E11 -> 471
B23: 323 | C23: 戸田村 | D23: ='16'!E39 -> 17
A24: 4000 | B24: 205 | C24: 熱海市 | D24: ='16'!E12 -> 0 | E24: ='17'!E12 -> 0 | F24: ='18'!E12 -> 0 | G24: ='19'!E12 -> 0 | H24: ='20'!E12 -> 0 | I24: ='21'!E12 -> 0 | J24: ='22'!E12 -> 0 | K24: ='23'!E12 -> 0 | L24: ='24'!E12 -> - | M24: ='25'!E12 -> 0 | N24: ='26'!E12 -> 0 | O24: ='27'!E12 -> 0 | P24: ='28'!E12 -> 0 | Q24: ='29'!E12 -> 0 | R24: ='30'!E12 -> 0 | S24: ='R1'!E12 -> 0 | T24: ='R2'!E12 -> 0 | U24: ='R3'!E12 -> 0 | V24: ='R4'!E12 -> 0 | W24: ='R5'!E12 -> 0 | X24: ='R6'!E12 -> 0
A25: 5000 | B25: 206 | C25: 三島市 | D25: ='16'!E13 -> 313 | E25: ='17'!E13 -> 311 | F25: ='18'!E13 -> 307 | G25: ='19'!E13 -> 303 | H25: ='20'!E13 -> 297 | I25: ='21'!E13 -> 293 | J25: ='22'!E13 -> 290 | K25: ='23'!E13 -> 287 | L25: ='24'!E13 -> 283 | M25: ='25'!E13 -> 280 | N25: ='26'!E13 -> 277 | O25: ='27'!E13 -> 273 | P25: ='28'!E13 -> 269 | Q25: ='29'!E13 -> 267 | R25: ='30'!E13 -> 265 | S25: ='R1'!E13 -> 262 | T25: ='R2'!E13 -> 260 | U25: ='R3'!E13 -> 255 | V25: ='R4'!E13 -> 254 | W25: ='R5'!E13 -> 252 | X25: ='R6'!E13 -> 249
A26: 6000 | B26: 207 | C26: 富士宮市 | J26: ='22'!E14 -> 912 | K26: ='23'!E14 -> 909 | L26: ='24'!E14 -> 906 | M26: ='25'!E14 -> 899 | N26: ='26'!E14 -> 891 | O26: ='27'!E14 -> 886 | P26: ='28'!E14 -> 880 | Q26: ='29'!E14 -> 872 | R26: ='30'!E14 -> 861 | S26: ='R1'!E14 -> 853 | T26: ='R2'!E14 -> 846 | U26: ='R3'!E14 -> 841 | V26: ='R4'!E14 -> 839 | W26: ='R5'!E14 -> 833 | X26: ='R6'!E14 -> 824
B27: 207 | C27: 富士宮市 | D27: ='16'!E14 -> 650 | E27: ='17'!E14 -> 647 | F27: ='18'!E14 -> 641 | G27: ='19'!E14 -> 638 | H27: ='20'!E14 -> 634 | I27: ='21'!E14 -> 631
B28: 361 | C28: 芝川町 | D28: ='16'!E46 -> 301 | E28: ='17'!E41 -> 300 | F28: ='18'!E41 -> 299 | G28: ='19'!E41 -> 297 | H28: ='20'!E41 -> 295 | I28: ='21'!E41 -> 294
A29: 7000 | B29: 208 | C29: 伊東市 | D29: ='16'!E15 -> 30 | E29: ='17'!E15 -> 30 | F29: ='18'!E15 -> 28 | G29: ='19'!E15 -> 28 | H29: ='20'!E15 -> 27 | I29: ='21'!E15 -> 27 | J29: ='22'!E15 -> 27 | K29: ='23'!E15 -> 27 | L29: ='24'!E15 -> 25 | M29: ='25'!E15 -> 24 | N29: ='26'!E15 -> 24 | O29: ='27'!E15 -> 24 | P29: ='28'!E15 -> 23 | Q29: ='29'!E15 -> 23 | R29: ='30'!E15 -> 23 | S29: ='R1'!E15 -> 23 | T29: ='R2'!E15 -> 23 | U29: ='R3'!E15 -> 23 | V29: ='R4'!E15 -> 23 | W29: ='R5'!E15 -> 22 | X29: ='R6'!E15 -> 21
A30: 8000 | B30: 209 | C30: 島田市 | H30: ='20'!E16 -> 737 | I30: ='21'!E16 -> 728 | J30: ='22'!E16 -> 723 | K30: ='23'!E16 -> 717 | L30: ='24'!E16 -> 709 | M30: ='25'!E16 -> 702 | N30: ='26'!E16 -> 694 | O30: ='27'!E16 -> 687 | P30: ='28'!E16 -> 677 | Q30: ='29'!E16 -> 669 | R30: ='30'!E16 -> 661 | S30: ='R1'!E16 -> 656 | T30: ='R2'!E16 -> 639 | U30: ='R3'!E16 -> 628 | V30: ='R4'!E16 -> 621 | W30: ='R5'!E16 -> 614 | X30: ='R6'!E16 -> 610
B31: 209 | C31: 島田市 | D31: ='16'!E16 -> 597 | E31: ='17'!E16 -> 794 | F31: ='18'!E16 -> 776 | G31: ='19'!E16 -> 750
B32: 425 | C32: 金谷町 | D32: ='16'!E55 -> 209
B33: 426 | C33: 川根町 | D33: ='16'!E56 -> 25 | E33: ='17'!E47 -> 24 | F33: ='18'!E47 -> 23 | G33: ='19'!E47 -> 22
A34: 9000 | B34: 210 | C34: 富士市 | I34: ='21'!E17 -> 739 | J34: ='22'!E17 -> 726 | K34: ='23'!E17 -> 717 | L34: ='24'!E17 -> 707 | M34: ='25'!E17 -> 692 | N34: ='26'!E17 -> 678 | O34: ='27'!E17 -> 671 | P34: ='28'!E17 -> 657 | Q34: ='29'!E17 -> 648 | R34: ='30'!E17 -> 637 | S34: ='R1'!E17 -> 621 | T34: ='R2'!E17 -> 607 | U34: ='R3'!E17 -> 593 | V34: ='R4'!E17 -> 586 | W34: ='R5'!E17 -> 579 | X34: ='R6'!E17 -> 575
B35: 210 | C35: 富士市 | D35: ='16'!E17 -> 765 | E35: ='17'!E17 -> 735 | F35: ='18'!E17 -> 710 | G35: ='19'!E17 -> 699 | H35: ='20'!E17 -> 699
B36: 381 | C36: 富士川町 | D36: ='16'!E47 -> 61 | E36: ='17'!E42 -> 60 | F36: ='18'!E42 -> 60 | G36: ='19'!E42 -> 59 | H36: ='20'!E42 -> 56
A37: 10000 | B37: 211 | C37: 磐田市 | E37: ='17'!E18 -> 2400 | F37: ='18'!E18 -> 2400 | G37: ='19'!E18 -> 2390 | H37: ='20'!E18 -> 2380 | I37: ='21'!E18 -> 2370 | J37: ='22'!E18 -> 2360 | K37: ='23'!E18 -> 2350 | L37: ='24'!E18 -> 2340 | M37: ='25'!E18 -> 2350 | N37: ='26'!E18 -> 2340 | O37: ='27'!E18 -> 2330 | P37: ='28'!E18 -> 2330 | Q37: ='29'!E18 -> 2330 | R37: ='30'!E18 -> 2330 | S37: ='R1'!E18 -> 2320 | T37: ='R2'!E18 -> 2310 | U37: ='R3'!E18 -> 2300 | V37: ='R4'!E18 -> 2300 | W37: ='R5'!E18 -> 2300 | X37: ='R6'!E18 -> 2290
B38: 211 | C38: 磐田市 | D38: ='16'!E18 -> 1140
B39: 482 | C39: 福田町 | D39: ='16'!E64 -> 421
B40: 483 | C40: 竜洋町 | D40: ='16'!E65 -> 300
B41: 484 | C41: 豊田町 | D41: ='16'!E66 -> 337
B42: 485 | C42: 豊岡村 | D42: ='16'!E67 -> 211
A43: 11000 | B43: 212 | C43: 焼津市 | I43: ='21'!E19 -> 1310 | J43: ='22'!E19 -> 1300 | K43: ='23'!E19 -> 1300 | L43: ='24'!E19 -> 1290 | M43: ='25'!E19 -> 1280 | N43: ='26'!E19 -> 1270 | O43: ='27'!E19 -> 1270 | P43: ='28'!E19 -> 1250 | Q43: ='29'!E19 -> 1240 | R43: ='30'!E19 -> 1230 | S43: ='R1'!E19 -> 1230 | T43: ='R2'!E19 -> 1220 | U43: ='R3'!E19 -> 1210 | V43: ='R4'!E19 -> 1200 | W43: ='R5'!E19 -> 1190 | X43: ='R6'!E19 -> 1190
B44: 212 | C44: 焼津市 | D44: ='16'!E19 -> 757 | E44: ='17'!E19 -> 750 | F44: ='18'!E19 -> 740 | G44: ='19'!E19 -> 710 | H44: ='20'!E19 -> 700
B45: 402 | C45: 大井川町 | D45: ='16'!E51 -> 665 | E45: ='17'!E45 -> 654 | F45: ='18'!E45 -> 628 | G45: ='19'!E45 -> 627 | H45: ='20'!E45 -> 625
A46: 12000 | B46: 213 | C46: 掛川市 | E46: ='17'!E20 -> 2250 | F46: ='18'!E20 -> 2240 | G46: ='19'!E20 -> 2230 | H46: ='20'!E20 -> 2210 | I46: ='21'!E20 -> 2200 | J46: ='22'!E20 -> 2180 | K46: ='23'!E20 -> 2170 | L46: ='24'!E20 -> 2170 | M46: ='25'!E20 -> 2150 | N46: ='26'!E20 -> 2140 | O46: ='27'!E20 -> 2130 | P46: ='28'!E20 -> 2120 | Q46: ='29'!E20 -> 2120 | R46: ='30'!E20 -> 2090 | S46: ='R1'!E20 -> 2080 | T46: ='R2'!E20 -> 2060 | U46: ='R3'!E20 -> 2050 | V46: ='R4'!E20 -> 2040 | W46: ='R5'!E20 -> 2020 | X46: ='R6'!E20 -> 1990
B47: 213 | C47: 掛川市 | D47: ='16'!E20 -> 1330
B48: 442 | C48: 大須賀町 | D48: ='16'!E59 -> 316
B49: 447 | C49: 大東町 | D49: ='16'!E60 -> 631
A50: 13000 | B50: 214 | C50: 藤枝市 | I50: ='21'!E21 -> 1020 | J50: ='22'!E21 -> 1000 | K50: ='23'!E21 -> 994 | L50: ='24'!E21 -> 981 | M50: ='25'!E21 -> 969 | N50: ='26'!E21 -> 959 | O50: ='27'!E21 -> 941 | P50: ='28'!E21 -> 922 | Q50: ='29'!E21 -> 919 | R50: ='30'!E21 -> 911 | S50: ='R1'!E21 -> 898 | T50: ='R2'!E21 -> 883 | U50: ='R3'!E21 -> 873 | V50: ='R4'!E21 -> 866 | W50: ='R5'!E21 -> 859 | X50: ='R6'!E21 -> 853
B51: 214 | C51: 藤枝市 | D51: ='16'!E21 -> 1000 | E51: ='17'!E21 -> 991 | F51: ='18'!E21 -> 975 | G51: ='19'!E21 -> 945 | H51: ='20'!E21 -> 925
B52: 401 | C52: 岡部町 | D52: ='16'!E50 -> 115 | E52: ='17'!E44 -> 108 | F52: ='18'!E44 -> 103 | G52: ='19'!E44 -> 100 | H52: ='20'!E44 -> 98
A53: 14000 | B53: 215 | C53: 御殿場市 | D53: ='16'!E22 -> 1400 | E53: ='17'!E22 -> 1400 | F53: ='18'!E22 -> 1400 | G53: ='19'!E22 -> 1390 | H53: ='20'!E22 -> 1380 | I53: ='21'!E22 -> 1370 | J53: ='22'!E22 -> 1370 | K53: ='23'!E22 -> 1370 | L53: ='24'!E22 -> 1360 | M53: ='25'!E22 -> 1360 | N53: ='26'!E22 -> 1350 | O53: ='27'!E22 -> 1350 | P53: ='28'!E22 -> 1340 | Q53: ='29'!E22 -> 1330 | R53: ='30'!E22 -> 1330 | S53: ='R1'!E22 -> 1320 | T53: ='R2'!E22 -> 1320 | U53: ='R3'!E22 -> 1310 | V53: ='R4'!E22 -> 1310 | W53: ='R5'!E22 -> 1300 | X53: ='R6'!E22 -> 1290
A54: 15000 | B54: 216 | C54: 袋井市 | E54: ='17'!E23 -> 2510 | F54: ='18'!E23 -> 2480 | G54: ='19'!E23 -> 2390 | H54: ='20'!E23 -> 2370 | I54: ='21'!E23 -> 2360 | J54: ='22'!E23 -> 2350 | K54: ='23'!E23 -> 2350 | L54: ='24'!E23 -> 2340 | M54: ='25'!E23 -> 2340 | N54: ='26'!E23 -> 2330 | O54: ='27'!E23 -> 2320 | P54: ='28'!E23 -> 2300 | Q54: ='29'!E23 -> 2300 | R54: ='30'!E23 -> 2290 | S54: ='R1'!E23 -> 2280 | T54: ='R2'!E23 -> 2270 | U54: ='R3'!E23 -> 2260 | V54: ='R4'!E23 -> 2250 | W54: ='R5'!E23 -> 2250 | X54: ='R6'!E23 -> 2240
B55: 216 | C55: 袋井市 | D55: ='16'!E23 -> 1430
B56: 481 | C56: 浅羽町 | D56: ='16'!E63 -> 1100
A57: 16000 | B57: 219 | C57: 下田市 | D57: ='16'!E26 -> 120 | E57: ='17'!E24 -> 119 | F57: ='18'!E24 -> 119 | G57: ='19'!E24 -> 118 | H57: ='20'!E24 -> 117 | I57: ='21'!E24 -> 116 | J57: ='22'!E24 -> 115 | K57: ='23'!E24 -> 114 | L57: ='24'!E24 -> 113 | M57: ='25'!E24 -> 111 | N57: ='26'!E24 -> 109 | O57: ='27'!E24 -> 101 | P57: ='28'!E24 -> 99 | Q57: ='29'!E24 -> 99 | R57: ='30'!E24 -> 98 | S57: ='R1'!E24 -> 96 | T57: ='R2'!E24 -> 95 | U57: ='R3'!E24 -> 93 | V57: ='R4'!E24 -> 92 | W57: ='R5'!E24 -> 92 | X57: ='R6'!E24 -> 91
A58: 17000 | B58: 220 | C58: 裾野市 | D58: ='16'!E27 -> 336 | E58: ='17'!E25 -> 335 | F58: ='18'!E25 -> 332 | G58: ='19'!E25 -> 328 | H58: ='20'!E25 -> 326 | I58: ='21'!E25 -> 324 | J58: ='22'!E25 -> 322 | K58: ='23'!E25 -> 320 | L58: ='24'!E25 -> 318 | M58: ='25'!E25 -> 317 | N58: ='26'!E25 -> 314 | O58: ='27'!E25 -> 310 | P58: ='28'!E25 -> 307 | Q58: ='29'!E25 -> 304 | R58: ='30'!E25 -> 300 | S58: ='R1'!E25 -> 299 | T58: ='R2'!E25 -> 291 | U58: ='R3'!E25 -> 288 | V58: ='R4'!E25 -> 287 | W58: ='R5'!E25 -> 285 | X58: ='R6'!E25 -> 283
A59: 18000 | B59: 221 | C59: 湖西市 | J59: ='22'!E26 -> 283 | K59: ='23'!E26 -> 281 | L59: ='24'!E26 -> 281 | M59: ='25'!E26 -> 280 | N59: ='26'!E26 -> 276 | O59: ='27'!E26 -> 272 | P59: ='28'!E26 -> 271 | Q59: ='29'!E26 -> 267 | R59: ='30'!E26 -> 266 | S59: ='R1'!E26 -> 255 | T59: ='R2'!E26 -> 246 | U59: ='R3'!E26 -> 239 | V59: ='R4'!E26 -> 243 | W59: ='R5'!E26 -> 245 | X59: ='R6'!E26 -> 247
B60: 221 | C60: 湖西市 | D60: ='16'!E28 -> 267 | E60: ='17'!E26 -> 266 | F60: ='18'!E26 -> 262 | G60: ='19'!E26 -> 260 | H60: ='20'!E26 -> 248 | I60: ='21'!E26 -> 247
B61: 503 | C61: 新居町 | D61: ='16'!E72 -> 41 | E61: ='17'!E50 -> 39 | F61: ='18'!E50 -> 37 | G61: ='19'!E50 -> 35 | H61: ='20'!E49 -> 37 | I61: ='21'!E45 -> 37
A62: 19000 | B62: 222 | C62: 伊豆市 | D62: ='16'!E29 -> 765 | E62: ='17'!E27 -> 765 | F62: ='18'!E27 -> 768 | G62: ='19'!E27 -> 766 | H62: ='20'!E27 -> 762 | I62: ='21'!E27 -> 760 | J62: ='22'!E27 -> 757 | K62: ='23'!E27 -> 755 | L62: ='24'!E27 -> 752 | M62: ='25'!E27 -> 744 | N62: ='26'!E27 -> 734 | O62: ='27'!E27 -> 731 | P62: ='28'!E27 -> 726 | Q62: ='29'!E27 -> 725 | R62: ='30'!E27 -> 722 | S62: ='R1'!E27 -> 714 | T62: ='R2'!E27 -> 708 | U62: ='R3'!E27 -> 699 | V62: ='R4'!E27 -> 696 | W62: ='R5'!E27 -> 693 | X62: ='R6'!E27 -> 679
A63: 20000 | B63: 223 | C63: 御前崎市 | D63: ='16'!E30 -> 483 | E63: ='17'!E28 -> 476 | F63: ='18'!E28 -> 456 | G63: ='19'!E28 -> 394 | H63: ='20'!E28 -> 384 | I63: ='21'!E28 -> 382 | J63: ='22'!E28 -> 381 | K63: ='23'!E28 -> 380 | L63: ='24'!E28 -> 380 | M63: ='25'!E28 -> 378 | N63: ='26'!E28 -> 376 | O63: ='27'!E28 -> 372 | P63: ='28'!E28 -> 371 | Q63: ='29'!E28 -> 358 | R63: ='30'!E28 -> 352 | S63: ='R1'!E28 -> 350 | T63: ='R2'!E28 -> 347 | U63: ='R3'!E28 -> 337 | V63: ='R4'!E28 -> 336 | W63: ='R5'!E28 -> 336 | X63: ='R6'!E28 -> 332
A64: 21000 | B64: 224 | C64: 菊川市 | D64: ='16'!E31 -> 1200 | E64: ='17'!E29 -> 1180 | F64: ='18'!E29 -> 1160 | G64: ='19'!E29 -> 1150 | H64: ='20'!E29 -> 1140 | I64: ='21'!E29 -> 1130 | J64: ='22'!E29 -> 1120 | K64: ='23'!E29 -> 1120 | L64: ='24'!E29 -> 1110 | M64: ='25'!E29 -> 1100 | N64: ='26'!E29 -> 1090 | O64: ='27'!E29 -> 1090 | P64: ='28'!E29 -> 1080 | Q64: ='29'!E29 -> 1080 | R64: ='30'!E29 -> 1070 | S64: ='R1'!E29 -> 1070 | T64: ='R2'!E29 -> 1060 | U64: ='R3'!E29 -> 1060 | V64: ='R4'!E29 -> 1050 | W64: ='R5'!E29 -> 1050 | X64: ='R6'!E29 -> 1050
A65: 22000 | B65: 225 | C65: 伊豆の国市 | E65: ='17'!E30 -> 652 | F65: ='18'!E30 -> 652 | G65: ='19'!E30 -> 649 | H65: ='20'!E30 -> 646 | I65: ='21'!E30 -> 640 | J65: ='22'!E30 -> 636 | K65: ='23'!E30 -> 634 | L65: ='24'!E30 -> 631 | M65: ='25'!E30 -> 626 | N65: ='26'!E30 -> 622 | O65: ='27'!E30 -> 617 | P65: ='28'!E30 -> 613 | Q65: ='29'!E30 -> 606 | R65: ='30'!E30 -> 597 | S65: ='R1'!E30 -> 592 | T65: ='R2'!E30 -> 582 | U65: ='R3'!E30 -> 575 | V65: ='R4'!E30 -> 572 | W65: ='R5'!E30 -> 568 | X65: ='R6'!E30 -> 551
B66: 321 | C66: 伊豆長岡町 | D66: ='16'!E38 -> 105
B67: 326 | C67: 韮山町 | D67: ='16'!E41 -> 403
B68: 327 | C68: 大仁町 | D68: ='16'!E42 -> 146
A69: 23000 | B69: 226 | C69: 牧之原市 | E69: ='17'!E31 -> 731 | F69: ='18'!E31 -> 722 | G69: ='19'!E31 -> 686 | H69: ='20'!E31 -> 676 | I69: ='21'!E31 -> 671 | J69: ='22'!E31 -> 668 | K69: ='23'!E31 -> 655 | L69: ='24'!E31 -> 651 | M69: ='25'!E31 -> 639 | N69: ='26'!E31 -> 630 | O69: ='27'!E31 -> 625 | P69: ='28'!E31 -> 623 | Q69: ='29'!E31 -> 610 | R69: ='30'!E31 -> 601 | S69: ='R1'!E31 -> 596 | T69: ='R2'!E31 -> 589 | U69: ='R3'!E31 -> 584 | V69: ='R4'!E31 -> 579 | W69: ='R5'!E31 -> 574 | X69: ='R6'!E31 -> 565
B70: 422 | C70: 相良町 | D70: ='16'!E52 -> 337
B71: 423 | C71: 榛原町 | D71: ='16'!E53 -> 402
A72: 24000 | B72: 301 | C72: 東伊豆町 | D72: ='16'!E32 -> 13 | E72: ='17'!E32 -> 13 | F72: ='18'!E32 -> 13 | G72: ='19'!E32 -> 12 | H72: ='20'!E32 -> 12 | I72: ='21'!E32 -> 12 | J72: ='22'!E32 -> 12 | K72: ='23'!E32 -> 12 | L72: ='24'!E32 -> 11 | M72: ='25'!E32 -> 9 | N72: ='26'!E32 -> 9 | O72: ='27'!E32 -> 9 | P72: ='28'!E32 -> 8 | Q72: ='29'!E32 -> 7 | R72: ='30'!E32 -> 7 | S72: ='R1'!E32 -> 7 | T72: ='R2'!E32 -> 7 | U72: ='R3'!E32 -> 6 | V72: ='R4'!E32 -> 5 | W72: ='R5'!E32 -> 5 | X72: ='R6'!E32 -> 5
A73: 25000 | B73: 302 | C73: 河津町 | D73: ='16'!E33 -> 84 | E73: ='17'!E33 -> 84 | F73: ='18'!E33 -> 84 | G73: ='19'!E33 -> 83 | H73: ='20'!E33 -> 82 | I73: ='21'!E33 -> 82 | J73: ='22'!E33 -> 82 | K73: ='23'!E33 -> 81 | L73: ='24'!E33 -> 79 | M73: ='25'!E33 -> 77 | N73: ='26'!E33 -> 75 | O73: ='27'!E33 -> 74 | P73: ='28'!E33 -> 72 | Q73: ='29'!E33 -> 64 | R73: ='30'!E33 -> 60 | S73: ='R1'!E33 -> 56 | T73: ='R2'!E33 -> 47 | U73: ='R3'!E33 -> 43 | V73: ='R4'!E33 -> 41 | W73: ='R5'!E33 -> 40 | X73: ='R6'!E33 -> 39
A74: 26000 | B74: 304 | C74: 南伊豆町 | D74: ='16'!E34 -> 182 | E74: ='17'!E34 -> 181 | F74: ='18'!E34 -> 181 | G74: ='19'!E34 -> 178 | H74: ='20'!E34 -> 173 | I74: ='21'!E34 -> 167 | J74: ='22'!E34 -> 158 | K74: ='23'!E34 -> 149 | L74: ='24'!E34 -> 138 | M74: ='25'!E34 -> 128 | N74: ='26'!E34 -> 120 | O74: ='27'!E34 -> 117 | P74: ='28'!E34 -> 115 | Q74: ='29'!E34 -> 111 | R74: ='30'!E34 -> 106 | S74: ='R1'!E34 -> 100 | T74: ='R2'!E34 -> 94 | U74: ='R3'!E34 -> 87 | V74: ='R4'!E34 -> 85 | W74: ='R5'!E34 -> 83 | X74: ='R6'!E34 -> 81
A75: 27000 | B75: 305 | C75: 松崎町 | D75: ='16'!E35 -> 141 | E75: ='17'!E35 -> 140 | F75: ='18'!E35 -> 138 | G75: ='19'!E35 -> 137 | H75: ='20'!E35 -> 135 | I75: ='21'!E35 -> 134 | J75: ='22'!E35 -> 133 | K75: ='23'!E35 -> 132 | L75: ='24'!E35 -> 131 | M75: ='25'!E35 -> 129 | N75: ='26'!E35 -> 127 | O75: ='27'!E35 -> 125 | P75: ='28'!E35 -> 123 | Q75: ='29'!E35 -> 122 | R75: ='30'!E35 -> 117 | S75: ='R1'!E35 -> 108 | T75: ='R2'!E35 -> 101 | U75: ='R3'!E35 -> 98 | V75: ='R4'!E35 -> 96 | W75: ='R5'!E35 -> 94 | X75: ='R6'!E35 -> 92
A76: 28000 | B76: 306 | C76: 西伊豆町 | E76: ='17'!E36 -> 62 | F76: ='18'!E36 -> 62 | G76: ='19'!E36 -> 61 | H76: ='20'!E36 -> 59 | I76: ='21'!E36 -> 58 | J76: ='22'!E36 -> 58 | K76: ='23'!E36 -> 57 | L76: ='24'!E36 -> 57 | M76: ='25'!E36 -> 55 | N76: ='26'!E36 -> 53 | O76: ='27'!E36 -> 52 | P76: ='28'!E36 -> 51 | Q76: ='29'!E36 -> 50 | R76: ='30'!E36 -> 49 | S76: ='R1'!E36 -> 46 | T76: ='R2'!E36 -> 45 | U76: ='R3'!E36 -> 43 | V76: ='R4'!E36 -> 42 | W76: ='R5'!E36 -> 41 | X76: ='R6'!E36 -> 40
B77: 306 | C77: 西伊豆町 | D77: ='16'!E36 -> 39
B78: 307 | C78: 賀茂村 | D78: ='16'!E37 -> 23
A79: 29000 | B79: 325 | C79: 函南町 | D79: ='16'!E40 -> 244 | E79: ='17'!E37 -> 243 | F79: ='18'!E37 -> 243 | G79: ='19'!E37 -> 242 | H79: ='20'!E37 -> 240 | I79: ='21'!E37 -> 239 | J79: ='22'!E37 -> 238 | K79: ='23'!E37 -> 237 | L79: ='24'!E37 -> 236 | M79: ='25'!E37 -> 233 | N79: ='26'!E37 -> 231 | O79: ='27'!E37 -> 230 | P79: ='28'!E37 -> 228 | Q79: ='29'!E37 -> 227 | R79: ='30'!E37 -> 226 | S79: ='R1'!E37 -> 224 | T79: ='R2'!E37 -> 223 | U79: ='R3'!E37 -> 220 | V79: ='R4'!E37 -> 219 | W79: ='R5'!E37 -> 218 | X79: ='R6'!E37 -> 216
A80: 30000 | B80: 341 | C80: 清水町 | D80: ='16'!E43 -> 87 | E80: ='17'!E38 -> 87 | F80: ='18'!E38 -> 86 | G80: ='19'!E38 -> 85 | H80: ='20'!E38 -> 81 | I80: ='21'!E38 -> 79 | J80: ='22'!E38 -> 78 | K80: ='23'!E38 -> 77 | L80: ='24'!E38 -> 76 | M80: ='25'!E38 -> 73 | N80: ='26'!E38 -> 72 | O80: ='27'!E38 -> 71 | P80: ='28'!E38 -> 67 | Q80: ='29'!E38 -> 66 | R80: ='30'!E38 -> 65 | S80: ='R1'!E38 -> 64 | T80: ='R2'!E38 -> 61 | U80: ='R3'!E38 -> 59 | V80: ='R4'!E38 -> 58 | W80: ='R5'!E38 -> 56 | X80: ='R6'!E38 -> 54
A81: 31000 | B81: 342 | C81: 長泉町 | D81: ='16'!E44 -> 70 | E81: ='17'!E39 -> 69 | F81: ='18'!E39 -> 67 | G81: ='19'!E39 -> 64 | H81: ='20'!E39 -> 62 | I81: ='21'!E39 -> 60 | J81: ='22'!E39 -> 59 | K81: ='23'!E39 -> 57 | L81: ='24'!E39 -> 54 | M81: ='25'!E39 -> 51 | N81: ='26'!E39 -> 50 | O81: ='27'!E39 -> 48 | P81: ='28'!E39 -> 45 | Q81: ='29'!E39 -> 43 | R81: ='30'!E39 -> 40 | S81: ='R1'!E39 -> 40 | T81: ='R2'!E39 -> 38 | U81: ='R3'!E39 -> 38 | V81: ='R4'!E39 -> 37 | W81: ='R5'!E39 -> 37 | X81: ='R6'!E39 -> 36
A82: 32000 | B82: 344 | C82: 小山町 | D82: ='16'!E45 -> 468 | E82: ='17'!E40 -> 468 | F82: ='18'!E40 -> 468 | G82: ='19'!E40 -> 466 | H82: ='20'!E40 -> 465 | I82: ='21'!E40 -> 464 | J82: ='22'!E40 -> 463 | K82: ='23'!E40 -> 448 | L82: ='24'!E40 -> 457 | M82: ='25'!E40 -> 460 | N82: ='26'!E40 -> 459 | O82: ='27'!E40 -> 458 | P82: ='28'!E40 -> 456 | Q82: ='29'!E40 -> 454 | R82: ='30'!E40 -> 449 | S82: ='R1'!E40 -> 441 | T82: ='R2'!E40 -> 437 | U82: ='R3'!E40 -> 437 | V82: ='R4'!E40 -> 436 | W82: ='R5'!E40 -> 433 | X82: ='R6'!E40 -> 432
A83: 33000 | B83: 424 | C83: 吉田町 | D83: ='16'!E54 -> 330 | E83: ='17'!E46 -> 326 | F83: ='18'!E46 -> 316 | G83: ='19'!E46 -> 313 | H83: ='20'!E46 -> 310 | I83: ='21'!E42 -> 307 | J83: ='22'!E41 -> 305 | K83: ='23'!E41 -> 303 | L83: ='24'!E41 -> 301 | M83: ='25'!E41 -> 301 | N83: ='26'!E41 -> 296 | O83: ='27'!E41 -> 292 | P83: ='28'!E41 -> 281 | Q83: ='29'!E41 -> 281 | R83: ='30'!E41 -> 275 | S83: ='R1'!E41 -> 272 | T83: ='R2'!E41 -> 269 | U83: ='R3'!E41 -> 263 | V83: ='R4'!E41 -> 261 | W83: ='R5'!E41 -> 259 | X83: ='R6'!E41 -> 261
A84: 34000 | B84: 429 | C84: 川根本町 | E84: ='17'!E48 -> 14 | F84: ='18'!E48 -> 14 | G84: ='19'!E48 -> 13 | H84: ='20'!E47 -> 13 | I84: ='21'!E43 -> 13 | J84: ='22'!E42 -> 13 | K84: ='23'!E42 -> 12 | L84: ='24'!E42 -> 12 | M84: ='25'!E42 -> 12 | N84: ='26'!E42 -> 12 | O84: ='27'!E42 -> 12 | P84: ='28'!E42 -> 11 | Q84: ='29'!E42 -> 11 | R84: ='30'!E42 -> 11 | S84: ='R1'!E42 -> 11 | T84: ='R2'!E42 -> 11 | U84: ='R3'!E42 -> 11 | V84: ='R4'!E42 -> 11 | W84: ='R5'!E42 -> 11 | X84: ='R6'!E42 -> 11
B85: 427 | C85: 中川根町 | D85: ='16'!E57 -> 14
B86: 428 | C86: 本川根町 | D86: ='16'!E58 -> 1
A87: 35000 | B87: 461 | C87: 森町 | D87: ='16'!E61 -> 616 | E87: ='17'!E49 -> 613 | F87: ='18'!E49 -> 610 | G87: ='19'!E49 -> 605 | H87: ='20'!E48 -> 603 | I87: ='21'!E44 -> 599 | J87: ='22'!E43 -> 597 | K87: ='23'!E43 -> 597 | L87: ='24'!E43 -> 596 | M87: ='25'!E43 -> 594 | N87: ='26'!E43 -> 592 | O87: ='27'!E43 -> 591 | P87: ='28'!E43 -> 590 | Q87: ='29'!E43 -> 587 | R87: ='30'!E43 -> 584 | S87: ='R1'!E43 -> 583 | T87: ='R2'!E43 -> 581 | U87: ='R3'!E43 -> 579 | V87: ='R4'!E43 -> 578 | W87: ='R5'!E43 -> 577 | X87: ='R6'!E43 -> 576

Sheet グラフ田 
D1: =データ田!J1 -> 2010 | E1: =データ田!K1 -> 2011 | F1: =データ田!L1 -> 2012 | G1: =データ田!M1 -> 2013 | H1: =データ田!N1 -> 2014 | I1: =データ田!O1 -> 2015 | J1: =データ田!P1 -> 2016 | K1: =データ田!Q1 -> 2017 | ... R1: =データ田!X1 -> 2024
A2: 1000 | B2: 100 | C2: 静岡市 | D2: =データ田!J4 -> 616 | E2: =データ田!K4 -> 610 | F2: =データ田!L4 -> 602 | G2: =データ田!M4 -> 593 | H2: =データ田!N4 -> 590 | I2: =データ田!O4 -> 578 | J2: =データ田!P4 -> 568 | K2: =データ田!Q4 -> 558 | ... R2: =データ田!X4 -> 499
A3: 2000 | B3: 130 | C3: 浜松市 | D3: =データ田!J8 -> 2640 | E3: =データ田!K8 -> 2630 | F3: =データ田!L8 -> 2620 | G3: =データ田!M8 -> 2610 | H3: =データ田!N8 -> 2610 | I3: =データ田!O8 -> 2600 | J3: =データ田!P8 -> 2590 | K3: =データ田!Q8 -> 2590 | ... R3: =データ田!X8 -> 2460
A4: 3000 | B4: 203 | C4: 沼津市 | D4: =データ田!J21 -> 465 | E4: =データ田!K21 -> 460 | F4: =データ田!L21 -> 457 | G4: =データ田!M21 -> 451 | H4: =データ田!N21 -> 446 | I4: =データ田!O21 -> 443 | J4: =データ田!P21 -> 440 | K4: =データ田!Q21 -> 435 | ... R4: =データ田!X21 -> 383
A5: 4000 | B5: 205 | C5: 熱海市 | D5: =データ田!J24 -> 0 | E5: =データ田!K24 -> 0 | F5: =データ田!L24 -> - | G5: =データ田!M24 -> 0 | H5: =データ田!N24 -> 0 | I5: =データ田!O24 -> 0 | J5: =データ田!P24 -> 0 | K5: =データ田!Q24 -> 0 | ... R5: =データ田!X24 -> 0
A6: 5000 | B6: 206 | C6: 三島市 | D6: =データ田!J25 -> 290 | E6: =データ田!K25 -> 287 | F6: =データ田!L25 -> 283 | G6: =データ田!M25 -> 280 | H6: =データ田!N25 -> 277 | I6: =データ田!O25 -> 273 | J6: =データ田!P25 -> 269 | K6: =データ田!Q25 -> 267 | ... R6: =データ田!X25 -> 249
A7: 6000 | B7: 207 | C7: 富士宮市 | D7: =データ田!J26 -> 912 | E7: =データ田!K26 -> 909 | F7: =データ田!L26 -> 906 | G7: =データ田!M26 -> 899 | H7: =データ田!N26 -> 891 | I7: =データ田!O26 -> 886 | J7: =データ田!P26 -> 880 | K7: =データ田!Q26 -> 872 | ... R7: =データ田!X26 -> 824
A8: 7000 | B8: 208 | C8: 伊東市 | D8: =データ田!J29 -> 27 | E8: =データ田!K29 -> 27 | F8: =データ田!L29 -> 25 | G8: =データ田!M29 -> 24 | H8: =データ田!N29 -> 24 | I8: =データ田!O29 -> 24 | J8: =データ田!P29 -> 23 | K8: =データ田!Q29 -> 23 | ... R8: =データ田!X29 -> 21
A9: 8000 | B9: 209 | C9: 島田市 | D9: =データ田!J30 -> 723 | E9: =データ田!K30 -> 717 | F9: =データ田!L30 -> 709 | G9: =データ田!M30 -> 702 | H9: =データ田!N30 -> 694 | I9: =データ田!O30 -> 687 | J9: =データ田!P30 -> 677 | K9: =データ田!Q30 -> 669 | ... R9: =データ田!X30 -> 610
A10: 9000 | B10: 210 | C10: 富士市 | D10: =データ田!J34 -> 726 | E10: =データ田!K34 -> 717 | F10: =データ田!L34 -> 707 | G10: =データ田!M34 -> 692 | H10: =データ田!N34 -> 678 | I10: =データ田!O34 -> 671 | J10: =データ田!P34 -> 657 | K10: =データ田!Q34 -> 648 | ... R10: =データ田!X34 -> 575
A11: 10000 | B11: 211 | C11: 磐田市 | D11: =データ田!J37 -> 2360 | E11: =データ田!K37 -> 2350 | F11: =データ田!L37 -> 2340 | G11: =データ田!M37 -> 2350 | H11: =データ田!N37 -> 2340 | I11: =データ田!O37 -> 2330 | J11: =データ田!P37 -> 2330 | K11: =データ田!Q37 -> 2330 | ... R11: =データ田!X37 -> 2290
A12: 11000 | B12: 212 | C12: 焼津市 | D12: =データ田!J43 -> 1300 | E12: =データ田!K43 -> 1300 | F12: =データ田!L43 -> 1290 | G12: =データ田!M43 -> 1280 | H12: =データ田!N43 -> 1270 | I12: =データ田!O43 -> 1270 | J12: =データ田!P43 -> 1250 | K12: =データ田!Q43 -> 1240 | ... R12: =データ田!X43 -> 1190
A13: 12000 | B13: 213 | C13: 掛川市 | D13: =データ田!J46 -> 2180 | E13: =データ田!K46 -> 2170 | F13: =データ田!L46 -> 2170 | G13: =データ田!M46 -> 2150 | H13: =データ田!N46 -> 2140 | I13: =データ田!O46 -> 2130 | J13: =データ田!P46 -> 2120 | K13: =データ田!Q46 -> 2120 | ... R13: =データ田!X46 -> 1990
A14: 13000 | B14: 214 | C14: 藤枝市 | D14: =データ田!J50 -> 1000 | E14: =データ田!K50 -> 994 | F14: =データ田!L50 -> 981 | G14: =データ田!M50 -> 969 | H14: =データ田!N50 -> 959 | I14: =データ田!O50 -> 941 | J14: =データ田!P50 -> 922 | K14: =データ田!Q50 -> 919 | ... R14: =データ田!X50 -> 853
A15: 14000 | B15: 215 | C15: 御殿場市 | D15: =データ田!J53 -> 1370 | E15: =データ田!K53 -> 1370 | F15: =データ田!L53 -> 1360 | G15: =データ田!M53 -> 1360 | H15: =データ田!N53 -> 1350 | I15: =データ田!O53 -> 1350 | J15: =データ田!P53 -> 1340 | K15: =データ田!Q53 -> 1330 | ... R15: =データ田!X53 -> 1290
A16: 15000 | B16: 216 | C16: 袋井市 | D16: =データ田!J54 -> 2350 | E16: =データ田!K54 -> 2350 | F16: =データ田!L54 -> 2340 | G16: =データ田!M54 -> 2340 | H16: =データ田!N54 -> 2330 | I16: =データ田!O54 -> 2320 | J16: =データ田!P54 -> 2300 | K16: =データ田!Q54 -> 2300 | ... R16: =データ田!X54 -> 2240
A17: 16000 | B17: 219 | C17: 下田市 | D17: =データ田!J57 -> 115 | E17: =データ田!K57 -> 114 | F17: =データ田!L57 -> 113 | G17: =データ田!M57 -> 111 | H17: =データ田!N57 -> 109 | I17: =データ田!O57 -> 101 | J17: =データ田!P57 -> 99 | K17: =データ田!Q57 -> 99 | ... R17: =データ田!X57 -> 91
A18: 17000 | B18: 220 | C18: 裾野市 | D18: =データ田!J58 -> 322 | E18: =データ田!K58 -> 320 | F18: =データ田!L58 -> 318 | G18: =データ田!M58 -> 317 | H18: =データ田!N58 -> 314 | I18: =データ田!O58 -> 310 | J18: =データ田!P58 -> 307 | K18: =データ田!Q58 -> 304 | ... R18: =データ田!X58 -> 283
A19: 18000 | B19: 221 | C19: 湖西市 | D19: =データ田!J59 -> 283 | E19: =データ田!K59 -> 281 | F19: =データ田!L59 -> 281 | G19: =データ田!M59 -> 280 | H19: =データ田!N59 -> 276 | I19: =データ田!O59 -> 272 | J19: =データ田!P59 -> 271 | K19: =データ田!Q59 -> 267 | ... R19: =データ田!X59 -> 247
A20: 19000 | B20: 222 | C20: 伊豆市 | D20: =データ田!J62 -> 757 | E20: =データ田!K62 -> 755 | F20: =データ田!L62 -> 752 | G20: =データ田!M62 -> 744 | H20: =データ田!N62 -> 734 | I20: =データ田!O62 -> 731 | J20: =データ田!P62 -> 726 | K20: =データ田!Q62 -> 725 | ... R20: =データ田!X62 -> 679
A21: 20000 | B21: 223 | C21: 御前崎市 | D21: =データ田!J63 -> 381 | E21: =データ田!K63 -> 380 | F21: =データ田!L63 -> 380 | G21: =データ田!M63 -> 378 | H21: =データ田!N63 -> 376 | I21: =データ田!O63 -> 372 | J21: =データ田!P63 -> 371 | K21: =データ田!Q63 -> 358 | ... R21: =データ田!X63 -> 332
A22: 21000 | B22: 224 | C22: 菊川市 | D22: =データ田!J64 -> 1120 | E22: =データ田!K64 -> 1120 | F22: =データ田!L64 -> 1110 | G22: =データ田!M64 -> 1100 | H22: =データ田!N64 -> 1090 | I22: =データ田!O64 -> 1090 | J22: =データ田!P64 -> 1080 | K22: =データ田!Q64 -> 1080 | ... R22: =データ田!X64 -> 1050
A23: 22000 | B23: 225 | C23: 伊豆の国市 | D23: =データ田!J65 -> 636 | E23: =データ田!K65 -> 634 | F23: =データ田!L65 -> 631 | G23: =データ田!M65 -> 626 | H23: =データ田!N65 -> 622 | I23: =データ田!O65 -> 617 | J23: =データ田!P65 -> 613 | K23: =データ田!Q65 -> 606 | ... R23: =データ田!X65 -> 551
A24: 23000 | B24: 226 | C24: 牧之原市 | D24: =データ田!J69 -> 668 | E24: =データ田!K69 -> 655 | F24: =データ田!L69 -> 651 | G24: =データ田!M69 -> 639 | H24: =データ田!N69 -> 630 | I24: =データ田!O69 -> 625 | J24: =データ田!P69 -> 623 | K24: =データ田!Q69 -> 610 | ... R24: =データ田!X69 -> 565
A25: 24000 | B25: 301 | C25: 東伊豆町 | D25: =データ田!J72 -> 12 | E25: =データ田!K72 -> 12 | F25: =データ田!L72 -> 11 | G25: =データ田!M72 -> 9 | H25: =データ田!N72 -> 9 | I25: =データ田!O72 -> 9 | J25: =データ田!P72 -> 8 | K25: =データ田!Q72 -> 7 | ... R25: =データ田!X72 -> 5
A26: 25000 | B26: 302 | C26: 河津町 | D26: =データ田!J73 -> 82 | E26: =データ田!K73 -> 81 | F26: =データ田!L73 -> 79 | G26: =データ田!M73 -> 77 | H26: =データ田!N73 -> 75 | I26: =データ田!O73 -> 74 | J26: =データ田!P73 -> 72 | K26: =データ田!Q73 -> 64 | ... R26: =データ田!X73 -> 39
A27: 26000 | B27: 304 | C27: 南伊豆町 | D27: =データ田!J74 -> 158 | E27: =データ田!K74 -> 149 | F27: =データ田!L74 -> 138 | G27: =データ田!M74 -> 128 | H27: =データ田!N74 -> 120 | I27: =データ田!O74 -> 117 | J27: =データ田!P74 -> 115 | K27: =データ田!Q74 -> 111 | ... R27: =データ田!X74 -> 81
A28: 27000 | B28: 305 | C28: 松崎町 | D28: =データ田!J75 -> 133 | E28: =データ田!K75 -> 132 | F28: =データ田!L75 -> 131 | G28: =データ田!M75 -> 129 | H28: =データ田!N75 -> 127 | I28: =データ田!O75 -> 125 | J28: =データ田!P75 -> 123 | K28: =データ田!Q75 -> 122 | ... R28: =データ田!X75 -> 92
A29: 28000 | B29: 306 | C29: 西伊豆町 | D29: =データ田!J76 -> 58 | E29: =データ田!K76 -> 57 | F29: =データ田!L76 -> 57 | G29: =データ田!M76 -> 55 | H29: =データ田!N76 -> 53 | I29: =データ田!O76 -> 52 | J29: =データ田!P76 -> 51 | K29: =データ田!Q76 -> 50 | ... R29: =データ田!X76 -> 40
A30: 29000 | B30: 325 | C30: 函南町 | D30: =データ田!J79 -> 238 | E30: =データ田!K79 -> 237 | F30: =データ田!L79 -> 236 | G30: =データ田!M79 -> 233 | H30: =データ田!N79 -> 231 | I30: =データ田!O79 -> 230 | J30: =データ田!P79 -> 228 | K30: =データ田!Q79 -> 227 | ... R30: =データ田!X79 -> 216
A31: 30000 | B31: 341 | C31: 清水町 | D31: =データ田!J80 -> 78 | E31: =データ田!K80 -> 77 | F31: =データ田!L80 -> 76 | G31: =データ田!M80 -> 73 | H31: =データ田!N80 -> 72 | I31: =データ田!O80 -> 71 | J31: =データ田!P80 -> 67 | K31: =データ田!Q80 -> 66 | ... R31: =データ田!X80 -> 54
A32: 31000 | B32: 342 | C32: 長泉町 | D32: =データ田!J81 -> 59 | E32: =データ田!K81 -> 57 | F32: =データ田!L81 -> 54 | G32: =データ田!M81 -> 51 | H32: =データ田!N81 -> 50 | I32: =データ田!O81 -> 48 | J32: =データ田!P81 -> 45 | K32: =データ田!Q81 -> 43 | ... R32: =データ田!X81 -> 36
A33: 32000 | B33: 344 | C33: 小山町 | D33: =データ田!J82 -> 463 | E33: =データ田!K82 -> 448 | F33: =データ田!L82 -> 457 | G33: =データ田!M82 -> 460 | H33: =データ田!N82 -> 459 | I33: =データ田!O82 -> 458 | J33: =データ田!P82 -> 456 | K33: =データ田!Q82 -> 454 | ... R33: =データ田!X82 -> 432
A34: 33000 | B34: 424 | C34: 吉田町 | D34: =データ田!J83 -> 305 | E34: =データ田!K83 -> 303 | F34: =データ田!L83 -> 301 | G34: =データ田!M83 -> 301 | H34: =データ田!N83 -> 296 | I34: =データ田!O83 -> 292 | J34: =データ田!P83 -> 281 | K34: =データ田!Q83 -> 281 | ... R34: =データ田!X83 -> 261
A35: 34000 | B35: 429 | C35: 川根本町 | D35: =データ田!J84 -> 13 | E35: =データ田!K84 -> 12 | F35: =データ田!L84 -> 12 | G35: =データ田!M84 -> 12 | H35: =データ田!N84 -> 12 | I35: =データ田!O84 -> 12 | J35: =データ田!P84 -> 11 | K35: =データ田!Q84 -> 11 | ... R35: =データ田!X84 -> 11
A36: 35000 | B36: 461 | C36: 森町 | D36: =データ田!J87 -> 597 | E36: =データ田!K87 -> 597 | F36: =データ田!L87 -> 596 | G36: =データ田!M87 -> 594 | H36: =データ田!N87 -> 592 | I36: =データ田!O87 -> 591 | J36: =データ田!P87 -> 590 | K36: =データ田!Q87 -> 587 | ... R36: =データ田!X87 -> 576
C37: 静岡県 | D37: =データ田!J2 -> 23400 | E37: =データ田!K2 -> 23300 | F37: =データ田!L2 -> 23200 | G37: =データ田!M2 -> 23000 | H37: =データ田!N2 -> 22900 | I37: =データ田!O2 -> 22700 | J37: =データ田!P2 -> 22500 | K37: =データ田!Q2 -> 22400 | ... R37: =データ田!X2 -> 21100
D38: =D1 -> 2010 | E38: =E1 -> 2011 | F38: =F1 -> 2012 | G38: =G1 -> 2013 | H38: =H1 -> 2014 | I38: =I1 -> 2015 | J38: =J1 -> 2016 | K38: =K1 -> 2017 | ... R38: =R1 -> 2024
C39: =グラフ!D2 -> 静岡県 | D39: =_xlfn.XLOOKUP($C$39,$C2:$C37,D$2:D$37) -> 23400 | E39: =_xlfn.XLOOKUP($C$39,$C2:$C37,E$2:E$37) -> 23300 | F39: =_xlfn.XLOOKUP($C$39,$C2:$C37,F$2:F$37) -> 23200 | G39: =_xlfn.XLOOKUP($C$39,$C2:$C37,G$2:G$37) -> 23000 | H39: =_xlfn.XLOOKUP($C$39,$C2:$C37,H$2:H$37) -> 22900 | I39: =_xlfn.XLOOKUP($C$39,$C2:$C37,I$2:I$37) -> 22700 | J39: =_xlfn.XLOOKUP($C$39,$C2:$C37,J$2:J$37) -> 22500 | K39: =_xlfn.XLOOKUP($C$39,$C2:$C37,K$2:K$37) -> 22400 | ... R39: =_xlfn.XLOOKUP($C$39,$C2:$C37,R$2:R$37) -> 21100

Sheet データ畑
D1: 2004 | E1: 2005 | F1: 2006 | G1: 2007 | H1: 2008 | I1: 2009 | J1: 2010 | K1: 2011 | L1: 2012 | M1: 2013 | N1: 2014 | O1: 2015 | P1: 2016 | Q1: 2017 | R1: 2018 | S1: 2019 | T1: 2020 | U1: 2021 | V1: 2022 | W1: 2023 | X1: 2024
C2: 静岡県 | J2: 47400 | K2: ='23'!G45 -> 46900 | L2: ='24'!G45 -> 46500 | M2: ='25'!G45 -> 46100 | N2: ='26'!G45 -> 45700 | O2: ='27'!G45 -> 45200 | P2: ='28'!G45 -> 44600 | Q2: ='29'!G45 -> 44000 | R2: ='30'!G45 -> 43100 | S2: ='R1'!G45 -> 42200 | T2: ='R2'!G45 -> 41100 | U2: ='R3'!G45 -> 40000 | V2: ='R4'!G45 -> 39000 | W2: ='R5'!G45 -> 38100 | X2: ='R6'!G45 -> 37200
D3: =SUM(D4:D87) -> 50423 | E3: =SUM(E4:E87) -> 50179 | F3: =SUM(F4:F87) -> 49749 | G3: =SUM(G4:G87) -> 49279 | H3: =SUM(H4:H87) -> 48769 | I3: =SUM(I4:I87) -> 47734 | J3: =SUM(J4:J87) -> 47339 | K3: =SUM(K4:K87) -> 46888 | ... X3: =SUM(X4:X87) -> 37204
A4: 1000 | B4: 100 | C4: 静岡市 | I4: ='21'!G9 -> 5010 | J4: ='22'!G9 -> 4890 | K4: ='23'!G9 -> 4780 | L4: ='24'!G9 -> 4700 | M4: ='25'!G9 -> 4670 | N4: ='26'!G9 -> 4610 | O4: ='27'!G9 -> 4550 | P4: ='28'!G9 -> 4470 | Q4: ='29'!G9 -> 4420 | R4: ='30'!G9 -> 4250 | S4: ='R1'!G9 -> 4180 | T4: ='R2'!G9 -> 4050 | U4: ='R3'!G9 -> 3930 | V4: ='R4'!G9 -> 3730 | W4: ='R5'!G9 -> 3580 | X4: ='R6'!G9 -> 3440
B5: 201 | C5: 静岡市 | D5: ='16'!G9 -> 5780 | E5: ='17'!G9 -> 5830 | F5: ='18'!G9 -> 5730 | G5: ='19'!G9 -> 5560 | H5: ='20'!G9 -> 5410
B6: 382 | C6: 蒲原町 | D6: ='16'!G48 -> 112
B7: 383 | C7: 由比町 | D7: ='16'!G49 -> 234 | E7: ='17'!G43 -> 229 | F7: ='18'!G43 -> 225 | G7: ='19'!G43 -> 222 | H7: ='20'!G43 -> 221
A8: 2000 | B8: 130 | C8: 浜松市 | E8: ='17'!G10 -> 10600 | F8: ='18'!G10 -> 10500 | G8: ='19'!G10 -> 10400 | H8: ='20'!G10 -> 10300 | I8: ='21'!G10 -> 10300 | J8: ='22'!G10 -> 10200 | K8: ='23'!G10 -> 10200 | L8: ='24'!G10 -> 10200 | M8: ='25'!G10 -> 10100 | N8: ='26'!G10 -> 10000 | O8: ='27'!G10 -> 9990 | P8: ='28'!G10 -> 9890 | Q8: ='29'!G10 -> 9760 | R8: ='30'!G10 -> 9640 | S8: ='R1'!G10 -> 9520 | T8: ='R2'!G10 -> 9450 | U8: ='R3'!G10 -> 9350 | V8: ='R4'!G10 -> 9260 | W8: ='R5'!G10 -> 9180 | X8: ='R6'!G10 -> 9090
B9: 202 | C9: 浜松市 | D9: ='16'!G10 -> 3930
B10: 217 | C10: 天竜市 | D10: ='16'!G24 -> 410
B11: 218 | C11: 浜北市 | D11: ='16'!G25 -> 1480
B12: 462 | C12: 春野町 | D12: ='16'!G62 -> 444
B13: 486 | C13: 龍山村 | D13: ='16'!G68 -> 51
B14: 487 | C14: 佐久間町 | D14: ='16'!G69 -> 175
B15: 488 | C15: 水窪町 | D15: ='16'!G70 -> 80
B16: 502 | C16: 舞阪町 | D16: ='16'!G71 -> 38
B17: 505 | C17: 雄踏町 | D17: ='16'!G73 -> 170
B18: 521 | C18: 細江町 | D18: ='16'!G74 -> 842
B19: 522 | C19: 引佐町 | D19: ='16'!G75 -> 978
B20: 523 | C20: 三ヶ日町 | D20: ='16'!G76 -> 2050
A21: 3000 | B21: 203 | C21: 沼津市 | E21: ='17'!G11 -> 1830 | F21: ='18'!G11 -> 1830 | G21: ='19'!G11 -> 1830 | H21: ='20'!G11 -> 1820 | I21: ='21'!G11 -> 1810 | J21: ='22'!G11 -> 1800 | K21: ='23'!G11 -> 1770 | L21: ='24'!G11 -> 1750 | M21: ='25'!G11 -> 1740 | N21: ='26'!G11 -> 1720 | O21: ='27'!G11 -> 1680 | P21: ='28'!G11 -> 1650 | Q21: ='29'!G11 -> 1630 | R21: ='30'!G11 -> 1610 | S21: ='R1'!G11 -> 1570 | T21: ='R2'!G11 -> 1540 | U21: ='R3'!G11 -> 1520 | V21: ='R4'!G11 -> 1510 | W21: ='R5'!G11 -> 1500 | X21: ='R6'!G11 -> 1470
B22: 203 | C22: 沼津市 | D22: ='16'!G11 -> 1740
B23: 323 | C23: 戸田村 | D23: ='16'!G39 -> 88
A24: 4000 | B24: 205 | C24: 熱海市 | D24: ='16'!G12 -> 253 | E24: ='17'!G12 -> 253 | F24: ='18'!G12 -> 253 | G24: ='19'!G12 -> 249 | H24: ='20'!G12 -> 246 | I24: ='21'!G12 -> 244 | J24: ='22'!G12 -> 243 | K24: ='23'!G12 -> 232 | L24: ='24'!G12 -> 212 | M24: ='25'!G12 -> 204 | N24: ='26'!G12 -> 202 | O24: ='27'!G12 -> 197 | P24: ='28'!G12 -> 191 | Q24: ='29'!G12 -> 180 | R24: ='30'!G12 -> 176 | S24: ='R1'!G12 -> 169 | T24: ='R2'!G12 -> 162 | U24: ='R3'!G12 -> 150 | V24: ='R4'!G12 -> 142 | W24: ='R5'!G12 -> 140 | X24: ='R6'!G12 -> 135
A25: 5000 | B25: 206 | C25: 三島市 | D25: ='16'!G13 -> 601 | E25: ='17'!G13 -> 599 | F25: ='18'!G13 -> 596 | G25: ='19'!G13 -> 593 | H25: ='20'!G13 -> 591 | I25: ='21'!G13 -> 589 | J25: ='22'!G13 -> 588 | K25: ='23'!G13 -> 585 | L25: ='24'!G13 -> 582 | M25: ='25'!G13 -> 578 | N25: ='26'!G13 -> 568 | O25: ='27'!G13 -> 566 | P25: ='28'!G13 -> 562 | Q25: ='29'!G13 -> 560 | R25: ='30'!G13 -> 555 | S25: ='R1'!G13 -> 540 | T25: ='R2'!G13 -> 530 | U25: ='R3'!G13 -> 518 | V25: ='R4'!G13 -> 515 | W25: ='R5'!G13 -> 509 | X25: ='R6'!G13 -> 500
A26: 6000 | B26: 207 | C26: 富士宮市 | J26: ='22'!G14 -> 2380 | K26: ='23'!G14 -> 2360 | L26: ='24'!G14 -> 2350 | M26: ='25'!G14 -> 2330 | N26: ='26'!G14 -> 2300 | O26: ='27'!G14 -> 2280 | P26: ='28'!G14 -> 2270 | Q26: ='29'!G14 -> 2250 | R26: ='30'!G14 -> 2220 | S26: ='R1'!G14 -> 2190 | T26: ='R2'!G14 -> 2170 | U26: ='R3'!G14 -> 2130 | V26: ='R4'!G14 -> 2120 | W26: ='R5'!G14 -> 2090 | X26: ='R6'!G14 -> 2060
B27: 207 | C27: 富士宮市 | D27: ='16'!G14 -> 2250 | E27: ='17'!G14 -> 2230 | F27: ='18'!G14 -> 2210 | G27: ='19'!G14 -> 2160 | H27: ='20'!G14 -> 2150 | I27: ='21'!G14 -> 2130
B28: 361 | C28: 芝川町 | D28: ='16'!G46 -> 278 | E28: ='17'!G41 -> 274 | F28: ='18'!G41 -> 270 | G28: ='19'!G41 -> 269 | H28: ='20'!G41 -> 266 | I28: ='21'!G41 -> 260
A29: 7000 | B29: 208 | C29: 伊東市 | D29: ='16'!G15 -> 615 | E29: ='17'!G15 -> 613 | F29: ='18'!G15 -> 593 | G29: ='19'!G15 -> 578 | H29: ='20'!G15 -> 548 | I29: ='21'!G15 -> 516 | J29: ='22'!G15 -> 511 | K29: ='23'!G15 -> 481 | L29: ='24'!G15 -> 436 | M29: ='25'!G15 -> 416 | N29: ='26'!G15 -> 408 | O29: ='27'!G15 -> 405 | P29: ='28'!G15 -> 398 | Q29: ='29'!G15 -> 394 | R29: ='30'!G15 -> 385 | S29: ='R1'!G15 -> 379 | T29: ='R2'!G15 -> 371 | U29: ='R3'!G15 -> 360 | V29: ='R4'!G15 -> 354 | W29: ='R5'!G15 -> 351 | X29: ='R6'!G15 -> 341
A30: 8000 | B30: 209 | C30: 島田市 | H30: ='20'!G16 -> 2670 | I30: ='21'!G16 -> 2670 | J30: ='22'!G16 -> 2630 | K30: ='23'!G16 -> 2610 | L30: ='24'!G16 -> 2580 | M30: ='25'!G16 -> 2580 | N30: ='26'!G16 -> 2570 | O30: ='27'!G16 -> 2550 | P30: ='28'!G16 -> 2550 | Q30: ='29'!G16 -> 2530 | R30: ='30'!G16 -> 2520 | S30: ='R1'!G16 -> 2460 | T30: ='R2'!G16 -> 2380 | U30: ='R3'!G16 -> 2300 | V30: ='R4'!G16 -> 2190 | W30: ='R5'!G16 -> 2110 | X30: ='R6'!G16 -> 2030
B31: 209 | C31: 島田市 | D31: ='16'!G16 -> 1360 | E31: ='17'!G16 -> 2300 | F31: ='18'!G16 -> 2270 | G31: ='19'!G16 -> 2260
B32: 425 | C32: 金谷町 | D32: ='16'!G55 -> 950
B33: 426 | C33: 川根町 | D33: ='16'!G56 -> 431 | E33: ='17'!G47 -> 425 | F33: ='18'!G47 -> 426 | G33: ='19'!G47 -> 421
A34: 9000 | B34: 210 | C34: 富士市 | I34: ='21'!G17 -> 2020 | J34: ='22'!G17 -> 2010 | K34: ='23'!G17 -> 2000 | L34: ='24'!G17 -> 1990 | M34: ='25'!G17 -> 1960 | N34: ='26'!G17 -> 1940 | O34: ='27'!G17 -> 1910 | P34: ='28'!G17 -> 1890 | Q34: ='29'!G17 -> 1860 | R34: ='30'!G17 -> 1830 | S34: ='R1'!G17 -> 1790 | T34: ='R2'!G17 -> 1770 | U34: ='R3'!G17 -> 1740 | V34: ='R4'!G17 -> 1690 | W34: ='R5'!G17 -> 1660 | X34: ='R6'!G17 -> 1590
B35: 210 | C35: 富士市 | D35: ='16'!G17 -> 1940 | E35: ='17'!G17 -> 1930 | F35: ='18'!G17 -> 1920 | G35: ='19'!G17 -> 1920 | H35: ='20'!G17 -> 1920
B36: 381 | C36: 富士川町 | D36: ='16'!G47 -> 130 | E36: ='17'!G42 -> 129 | F36: ='18'!G42 -> 126 | G36: ='19'!G42 -> 122 | H36: ='20'!G42 -> 120
A37: 10000 | B37: 211 | C37: 磐田市 | E37: ='17'!G18 -> 2360 | F37: ='18'!G18 -> 2360 | G37: ='19'!G18 -> 2330 | H37: ='20'!G18 -> 2320 | I37: ='21'!G18 -> 2310 | J37: ='22'!G18 -> 2290 | K37: ='23'!G18 -> 2290 | L37: ='24'!G18 -> 2280 | M37: ='25'!G18 -> 2250 | N37: ='26'!G18 -> 2230 | O37: ='27'!G18 -> 2210 | P37: ='28'!G18 -> 2170 | Q37: ='29'!G18 -> 2130 | R37: ='30'!G18 -> 2120 | S37: ='R1'!G18 -> 2080 | T37: ='R2'!G18 -> 2070 | U37: ='R3'!G18 -> 2020 | V37: ='R4'!G18 -> 1980 | W37: ='R5'!G18 -> 1970 | X37: ='R6'!G18 -> 1940
B38: 211 | C38: 磐田市 | D38: ='16'!G18 -> 1070
B39: 482 | C39: 福田町 | D39: ='16'!G64 -> 124
B40: 483 | C40: 竜洋町 | D40: ='16'!G65 -> 322
B41: 484 | C41: 豊田町 | D41: ='16'!G66 -> 377
B42: 485 | C42: 豊岡村 | D42: ='16'!G67 -> 463
A43: 11000 | B43: 212 | C43: 焼津市 | I43: ='21'!G19 -> 303 | J43: ='22'!G19 -> 302 | K43: ='23'!G19 -> 295 | L43: ='24'!G19 -> 288 | M43: ='25'!G19 -> 288 | N43: ='26'!G19 -> 286 | O43: ='27'!G19 -> 271 | P43: ='28'!G19 -> 266 | Q43: ='29'!G19 -> 263 | R43: ='30'!G19 -> 238 | S43: ='R1'!G19 -> 230 | T43: ='R2'!G19 -> 230 | U43: ='R3'!G19 -> 222 | V43: ='R4'!G19 -> 218 | W43: ='R5'!G19 -> 216 | X43: ='R6'!G19 -> 208
B44: 212 | C44: 焼津市 | D44: ='16'!G19 -> 239 | E44: ='17'!G19 -> 235 | F44: ='18'!G19 -> 224 | G44: ='19'!G19 -> 229 | H44: ='20'!G19 -> 227
B45: 402 | C45: 大井川町 | D45: ='16'!G51 -> 80 | E45: ='17'!G45 -> 80 | F45: ='18'!G45 -> 80 | G45: ='19'!G45 -> 78 | H45: ='20'!G45 -> 76
A46: 12000 | B46: 213 | C46: 掛川市 | E46: ='17'!G20 -> 3350 | F46: ='18'!G20 -> 3340 | G46: ='19'!G20 -> 3340 | H46: ='20'!G20 -> 3340 | I46: ='21'!G20 -> 3300 | J46: ='22'!G20 -> 3280 | K46: ='23'!G20 -> 3230 | L46: ='24'!G20 -> 3210 | M46: ='25'!G20 -> 3200 | N46: ='26'!G20 -> 3180 | O46: ='27'!G20 -> 3170 | P46: ='28'!G20 -> 3130 | Q46: ='29'!G20 -> 3100 | R46: ='30'!G20 -> 3040 | S46: ='R1'!G20 -> 2980 | T46: ='R2'!G20 -> 2790 | U46: ='R3'!G20 -> 2630 | V46: ='R4'!G20 -> 2480 | W46: ='R5'!G20 -> 2370 | X46: ='R6'!G20 -> 2310
B47: 213 | C47: 掛川市 | D47: ='16'!G20 -> 2080
B48: 442 | C48: 大須賀町 | D48: ='16'!G59 -> 482
B49: 447 | C49: 大東町 | D49: ='16'!G60 -> 798
A50: 13000 | B50: 214 | C50: 藤枝市 | I50: ='21'!G21 -> 2020 | J50: ='22'!G21 -> 1980 | K50: ='23'!G21 -> 1930 | L50: ='24'!G21 -> 1910 | M50: ='25'!G21 -> 1910 | N50: ='26'!G21 -> 1890 | O50: ='27'!G21 -> 1850 | P50: ='28'!G21 -> 1820 | Q50: ='29'!G21 -> 1780 | R50: ='30'!G21 -> 1600 | S50: ='R1'!G21 -> 1510 | T50: ='R2'!G21 -> 1430 | U50: ='R3'!G21 -> 1370 | V50: ='R4'!G21 -> 1300 | W50: ='R5'!G21 -> 1250 | X50: ='R6'!G21 -> 1200
B51: 214 | C51: 藤枝市 | D51: ='16'!G21 -> 1640 | E51: ='17'!G21 -> 1620 | F51: ='18'!G21 -> 1600 | G51: ='19'!G21 -> 1560 | H51: ='20'!G21 -> 1530
B52: 401 | C52: 岡部町 | D52: ='16'!G50 -> 711 | E52: ='17'!G44 -> 706 | F52: ='18'!G44 -> 700 | G52: ='19'!G44 -> 666 | H52: ='20'!G44 -> 656
A53: 14000 | B53: 215 | C53: 御殿場市 | D53: ='16'!G22 -> 612 | E53: ='17'!G22 -> 610 | F53: ='18'!G22 -> 607 | G53: ='19'!G22 -> 604 | H53: ='20'!G22 -> 600 | I53: ='21'!G22 -> 595 | J53: ='22'!G22 -> 593 | K53: ='23'!G22 -> 590 | L53: ='24'!G22 -> 587 | M53: ='25'!G22 -> 579 | N53: ='26'!G22 -> 571 | O53: ='27'!G22 -> 565 | P53: ='28'!G22 -> 560 | Q53: ='29'!G22 -> 552 | R53: ='30'!G22 -> 547 | S53: ='R1'!G22 -> 535 | T53: ='R2'!G22 -> 525 | U53: ='R3'!G22 -> 515 | V53: ='R4'!G22 -> 510 | W53: ='R5'!G22 -> 506 | X53: ='R6'!G22 -> 500
A54: 15000 | B54: 216 | C54: 袋井市 | E54: ='17'!G23 -> 1150 | F54: ='18'!G23 -> 1160 | G54: ='19'!G23 -> 1160 | H54: ='20'!G23 -> 1150 | I54: ='21'!G23 -> 1120 | J54: ='22'!G23 -> 1110 | K54: ='23'!G23 -> 1100 | L54: ='24'!G23 -> 1080 | M54: ='25'!G23 -> 1080 | N54: ='26'!G23 -> 1070 | O54: ='27'!G23 -> 1030 | P54: ='28'!G23 -> 1010 | Q54: ='29'!G23 -> 999 | R54: ='30'!G23 -> 985 | S54: ='R1'!G23 -> 957 | T54: ='R2'!G23 -> 930 | U54: ='R3'!G23 -> 908 | V54: ='R4'!G23 -> 878 | W54: ='R5'!G23 -> 859 | X54: ='R6'!G23 -> 844
B55: 216 | C55: 袋井市 | D55: ='16'!G23 -> 852
B56: 481 | C56: 浅羽町 | D56: ='16'!G63 -> 301
A57: 16000 | B57: 219 | C57: 下田市 | D57: ='16'!G26 -> 178 | E57: ='17'!G24 -> 178 | F57: ='18'!G24 -> 178 | G57: ='19'!G24 -> 177 | H57: ='20'!G24 -> 173 | I57: ='21'!G24 -> 173 | J57: ='22'!G24 -> 172 | K57: ='23'!G24 -> 169 | L57: ='24'!G24 -> 167 | M57: ='25'!G24 -> 165 | N57: ='26'!G24 -> 159 | O57: ='27'!G24 -> 157 | P57: ='28'!G24 -> 153 | Q57: ='29'!G24 -> 153 | R57: ='30'!G24 -> 152 | S57: ='R1'!G24 -> 148 | T57: ='R2'!G24 -> 146 | U57: ='R3'!G24 -> 143 | V57: ='R4'!G24 -> 141 | W57: ='R5'!G24 -> 141 | X57: ='R6'!G24 -> 137
A58: 17000 | B58: 220 | C58: 裾野市 | D58: ='16'!G27 -> 591 | E58: ='17'!G25 -> 590 | F58: ='18'!G25 -> 586 | G58: ='19'!G25 -> 583 | H58: ='20'!G25 -> 580 | I58: ='21'!G25 -> 577 | J58: ='22'!G25 -> 575 | K58: ='23'!G25 -> 572 | L58: ='24'!G25 -> 570 | M58: ='25'!G25 -> 569 | N58: ='26'!G25 -> 565 | O58: ='27'!G25 -> 557 | P58: ='28'!G25 -> 553 | Q58: ='29'!G25 -> 547 | R58: ='30'!G25 -> 541 | S58: ='R1'!G25 -> 533 | T58: ='R2'!G25 -> 521 | U58: ='R3'!G25 -> 510 | V58: ='R4'!G25 -> 507 | W58: ='R5'!G25 -> 501 | X58: ='R6'!G25 -> 496
A59: 18000 | B59: 221 | C59: 湖西市 | J59: ='22'!G26 -> 970 | K59: ='23'!G26 -> 966 | L59: ='24'!G26 -> 965 | M59: ='25'!G26 -> 963 | N59: ='26'!G26 -> 958 | O59: ='27'!G26 -> 954 | P59: ='28'!G26 -> 950 | Q59: ='29'!G26 -> 950 | R59: ='30'!G26 -> 950 | S59: ='R1'!G26 -> 940 | T59: ='R2'!G26 -> 934 | U59: ='R3'!G26 -> 923 | V59: ='R4'!G26 -> 915 | W59: ='R5'!G26 -> 917 | X59: ='R6'!G26 -> 901
B60: 221 | C60: 湖西市 | D60: ='16'!G28 -> 942 | E60: ='17'!G26 -> 938 | F60: ='18'!G26 -> 901 | G60: ='19'!G26 -> 896 | H60: ='20'!G26 -> 892 | I60: ='21'!G26 -> 885
B61: 503 | C61: 新居町 | D61: ='16'!G72 -> 127 | E61: ='17'!G50 -> 111 | F61: ='18'!G50 -> 96 | G61: ='19'!G50 -> 93 | H61: ='20'!G49 -> 92 | I61: ='21'!G45 -> 87
A62: 19000 | B62: 222 | C62: 伊豆市 | D62: ='16'!G29 -> 598 | E62: ='17'!G27 -> 595 | F62: ='18'!G27 -> 590 | G62: ='19'!G27 -> 586 | H62: ='20'!G27 -> 574 | I62: ='21'!G27 -> 562 | J62: ='22'!G27 -> 560 | K62: ='23'!G27 -> 549 | L62: ='24'!G27 -> 547 | M62: ='25'!G27 -> 538 | N62: ='26'!G27 -> 520 | O62: ='27'!G27 -> 517 | P62: ='28'!G27 -> 511 | Q62: ='29'!G27 -> 503 | R62: ='30'!G27 -> 497 | S62: ='R1'!G27 -> 474 | T62: ='R2'!G27 -> 457 | U62: ='R3'!G27 -> 447 | V62: ='R4'!G27 -> 445 | W62: ='R5'!G27 -> 440 | X62: ='R6'!G27 -> 423
A63: 20000 | B63: 223 | C63: 御前崎市 | D63: ='16'!G30 -> 1330 | E63: ='17'!G28 -> 1320 | F63: ='18'!G28 -> 1300 | G63: ='19'!G28 -> 1300 | H63: ='20'!G28 -> 1260 | I63: ='21'!G28 -> 1250 | J63: ='22'!G28 -> 1250 | K63: ='23'!G28 -> 1240 | L63: ='24'!G28 -> 1240 | M63: ='25'!G28 -> 1200 | N63: ='26'!G28 -> 1200 | O63: ='27'!G28 -> 1180 | P63: ='28'!G28 -> 1160 | Q63: ='29'!G28 -> 1150 | R63: ='30'!G28 -> 1140 | S63: ='R1'!G28 -> 1130 | T63: ='R2'!G28 -> 1100 | U63: ='R3'!G28 -> 1070 | V63: ='R4'!G28 -> 1040 | W63: ='R5'!G28 -> 1010 | X63: ='R6'!G28 -> 985
A64: 21000 | B64: 224 | C64: 菊川市 | D64: ='16'!G31 -> 2030 | E64: ='17'!G29 -> 2030 | F64: ='18'!G29 -> 2030 | G64: ='19'!G29 -> 2040 | H64: ='20'!G29 -> 2040 | I64: ='21'!G29 -> 2030 | J64: ='22'!G29 -> 2030 | K64: ='23'!G29 -> 2020 | L64: ='24'!G29 -> 2010 | M64: ='25'!G29 -> 1980 | N64: ='26'!G29 -> 1970 | O64: ='27'!G29 -> 1950 | P64: ='28'!G29 -> 1940 | Q64: ='29'!G29 -> 1910 | R64: ='30'!G29 -> 1880 | S64: ='R1'!G29 -> 1800 | T64: ='R2'!G29 -> 1740 | U64: ='R3'!G29 -> 1700 | V64: ='R4'!G29 -> 1680 | W64: ='R5'!G29 -> 1670 | X64: ='R6'!G29 -> 1600
A65: 22000 | B65: 225 | C65: 伊豆の国市 | E65: ='17'!G30 -> 508 | F65: ='18'!G30 -> 508 | G65: ='19'!G30 -> 509 | H65: ='20'!G30 -> 509 | I65: ='21'!G30 -> 506 | J65: ='22'!G30 -> 504 | K65: ='23'!G30 -> 498 | L65: ='24'!G30 -> 494 | M65: ='25'!G30 -> 489 | N65: ='26'!G30 -> 471 | O65: ='27'!G30 -> 467 | P65: ='28'!G30 -> 463 | Q65: ='29'!G30 -> 460 | R65: ='30'!G30 -> 455 | S65: ='R1'!G30 -> 441 | T65: ='R2'!G30 -> 427 | U65: ='R3'!G30 -> 411 | V65: ='R4'!G30 -> 408 | W65: ='R5'!G30 -> 400 | X65: ='R6'!G30 -> 389
B66: 321 | C66: 伊豆長岡町 | D66: ='16'!G38 -> 121
B67: 326 | C67: 韮山町 | D67: ='16'!G41 -> 112
B68: 327 | C68: 大仁町 | D68: ='16'!G42 -> 275
A69: 23000 | B69: 226 | C69: 牧之原市 | E69: ='17'!G31 -> 3060 | F69: ='18'!G31 -> 3060 | G69: ='19'!G31 -> 3090 | H69: ='20'!G31 -> 3080 | I69: ='21'!G31 -> 3080 | J69: ='22'!G31 -> 3090 | K69: ='23'!G31 -> 3090 | L69: ='24'!G31 -> 3090 | M69: ='25'!G31 -> 3080 | N69: ='26'!G31 -> 3060 | O69: ='27'!G31 -> 3030 | P69: ='28'!G31 -> 3010 | Q69: ='29'!G31 -> 2970 | R69: ='30'!G31 -> 2930 | S69: ='R1'!G31 -> 2850 | T69: ='R2'!G31 -> 2680 | U69: ='R3'!G31 -> 2520 | V69: ='R4'!G31 -> 2410 | W69: ='R5'!G31 -> 2300 | X69: ='R6'!G31 -> 2210
B70: 422 | C70: 相良町 | D70: ='16'!G52 -> 1540
B71: 423 | C71: 榛原町 | D71: ='16'!G53 -> 1510
A72: 24000 | B72: 301 | C72: 東伊豆町 | D72: ='16'!G32 -> 329 | E72: ='17'!G32 -> 329 | F72: ='18'!G32 -> 329 | G72: ='19'!G32 -> 323 | H72: ='20'!G32 -> 318 | I72: ='21'!G32 -> 308 | J72: ='22'!G32 -> 306 | K72: ='23'!G32 -> 299 | L72: ='24'!G32 -> 296 | M72: ='25'!G32 -> 285 | N72: ='26'!G32 -> 259 | O72: ='27'!G32 -> 249 | P72: ='28'!G32 -> 241 | Q72: ='29'!G32 -> 229 | R72: ='30'!G32 -> 222 | S72: ='R1'!G32 -> 220 | T72: ='R2'!G32 -> 218 | U72: ='R3'!G32 -> 217 | V72: ='R4'!G32 -> 216 | W72: ='R5'!G32 -> 215 | X72: ='R6'!G32 -> 212
A73: 25000 | B73: 302 | C73: 河津町 | D73: ='16'!G33 -> 295 | E73: ='17'!G33 -> 295 | F73: ='18'!G33 -> 295 | G73: ='19'!G33 -> 290 | H73: ='20'!G33 -> 285 | I73: ='21'!G33 -> 280 | J73: ='22'!G33 -> 278 | K73: ='23'!G33 -> 275 | L73: ='24'!G33 -> 274 | M73: ='25'!G33 -> 270 | N73: ='26'!G33 -> 256 | O73: ='27'!G33 -> 248 | P73: ='28'!G33 -> 241 | Q73: ='29'!G33 -> 231 | R73: ='30'!G33 -> 228 | S73: ='R1'!G33 -> 222 | T73: ='R2'!G33 -> 220 | U73: ='R3'!G33 -> 216 | V73: ='R4'!G33 -> 215 | W73: ='R5'!G33 -> 210 | X73: ='R6'!G33 -> 204
A74: 26000 | B74: 304 | C74: 南伊豆町 | D74: ='16'!G34 -> 258 | E74: ='17'!G34 -> 258 | F74: ='18'!G34 -> 258 | G74: ='19'!G34 -> 255 | H74: ='20'!G34 -> 249 | I74: ='21'!G34 -> 251 | J74: ='22'!G34 -> 251 | K74: ='23'!G34 -> 247 | L74: ='24'!G34 -> 249 | M74: ='25'!G34 -> 249 | N74: ='26'!G34 -> 243 | O74: ='27'!G34 -> 237 | P74: ='28'!G34 -> 233 | Q74: ='29'!G34 -> 231 | R74: ='30'!G34 -> 227 | S74: ='R1'!G34 -> 221 | T74: ='R2'!G34 -> 220 | U74: ='R3'!G34 -> 217 | V74: ='R4'!G34 -> 214 | W74: ='R5'!G34 -> 212 | X74: ='R6'!G34 -> 206
A75: 27000 | B75: 305 | C75: 松崎町 | D75: ='16'!G35 -> 204 | E75: ='17'!G35 -> 204 | F75: ='18'!G35 -> 204 | G75: ='19'!G35 -> 202 | H75: ='20'!G35 -> 195 | I75: ='21'!G35 -> 194 | J75: ='22'!G35 -> 194 | K75: ='23'!G35 -> 193 | L75: ='24'!G35 -> 192 | M75: ='25'!G35 -> 189 | N75: ='26'!G35 -> 186 | O75: ='27'!G35 -> 184 | P75: ='28'!G35 -> 181 | Q75: ='29'!G35 -> 175 | R75: ='30'!G35 -> 174 | S75: ='R1'!G35 -> 172 | T75: ='R2'!G35 -> 166 | U75: ='R3'!G35 -> 157 | V75: ='R4'!G35 -> 155 | W75: ='R5'!G35 -> 151 | X75: ='R6'!G35 -> 147
A76: 28000 | B76: 306 | C76: 西伊豆町 | E76: ='17'!G36 -> 115 | F76: ='18'!G36 -> 114 | G76: ='19'!G36 -> 114 | H76: ='20'!G36 -> 111 | I76: ='21'!G36 -> 109 | J76: ='22'!G36 -> 108 | K76: ='23'!G36 -> 104 | L76: ='24'!G36 -> 103 | M76: ='25'!G36 -> 101 | N76: ='26'!G36 -> 99 | O76: ='27'!G36 -> 98 | P76: ='28'!G36 -> 96 | Q76: ='29'!G36 -> 96 | R76: ='30'!G36 -> 95 | S76: ='R1'!G36 -> 95 | T76: ='R2'!G36 -> 94 | U76: ='R3'!G36 -> 93 | V76: ='R4'!G36 -> 93 | W76: ='R5'!G36 -> 92 | X76: ='R6'!G36 -> 90
B77: 306 | C77: 西伊豆町 | D77: ='16'!G36 -> 45
B78: 307 | C78: 賀茂村 | D78: ='16'!G37 -> 70
A79: 29000 | B79: 325 | C79: 函南町 | D79: ='16'!G40 -> 481 | E79: ='17'!G37 -> 480 | F79: ='18'!G37 -> 480 | G79: ='19'!G37 -> 479 | H79: ='20'!G37 -> 477 | I79: ='21'!G37 -> 476 | J79: ='22'!G37 -> 475 | K79: ='23'!G37 -> 471 | L79: ='24'!G37 -> 470 | M79: ='25'!G37 -> 466 | N79: ='26'!G37 -> 464 | O79: ='27'!G37 -> 462 | P79: ='28'!G37 -> 459 | Q79: ='29'!G37 -> 457 | R79: ='30'!G37 -> 452 | S79: ='R1'!G37 -> 443 | T79: ='R2'!G37 -> 434 | U79: ='R3'!G37 -> 424 | V79: ='R4'!G37 -> 423 | W79: ='R5'!G37 -> 420 | X79: ='R6'!G37 -> 416
A80: 30000 | B80: 341 | C80: 清水町 | D80: ='16'!G43 -> 38 | E80: ='17'!G38 -> 38 | F80: ='18'!G38 -> 36 | G80: ='19'!G38 -> 35 | H80: ='20'!G38 -> 34 | I80: ='21'!G38 -> 33 | J80: ='22'!G38 -> 32 | K80: ='23'!G38 -> 31 | L80: ='24'!G38 -> 29 | M80: ='25'!G38 -> 29 | N80: ='26'!G38 -> 27 | O80: ='27'!G38 -> 26 | P80: ='28'!G38 -> 25 | Q80: ='29'!G38 -> 25 | R80: ='30'!G38 -> 24 | S80: ='R1'!G38 -> 23 | T80: ='R2'!G38 -> 22 | U80: ='R3'!G38 -> 21 | V80: ='R4'!G38 -> 20 | W80: ='R5'!G38 -> 20 | X80: ='R6'!G38 -> 20
A81: 31000 | B81: 342 | C81: 長泉町 | D81: ='16'!G44 -> 218 | E81: ='17'!G39 -> 217 | F81: ='18'!G39 -> 214 | G81: ='19'!G39 -> 212 | H81: ='20'!G39 -> 210 | I81: ='21'!G39 -> 209 | J81: ='22'!G39 -> 208 | K81: ='23'!G39 -> 204 | L81: ='24'!G39 -> 202 | M81: ='25'!G39 -> 198 | N81: ='26'!G39 -> 195 | O81: ='27'!G39 -> 193 | P81: ='28'!G39 -> 190 | Q81: ='29'!G39 -> 190 | R81: ='30'!G39 -> 188 | S81: ='R1'!G39 -> 181 | T81: ='R2'!G39 -> 178 | U81: ='R3'!G39 -> 171 | V81: ='R4'!G39 -> 168 | W81: ='R5'!G39 -> 167 | X81: ='R6'!G39 -> 162
A82: 32000 | B82: 344 | C82: 小山町 | D82: ='16'!G45 -> 140 | E82: ='17'!G40 -> 140 | F82: ='18'!G40 -> 138 | G82: ='19'!G40 -> 137 | H82: ='20'!G40 -> 134 | I82: ='21'!G40 -> 133 | J82: ='22'!G40 -> 133 | K82: ='23'!G40 -> 131 | L82: ='24'!G40 -> 130 | M82: ='25'!G40 -> 126 | N82: ='26'!G40 -> 121 | O82: ='27'!G40 -> 120 | P82: ='28'!G40 -> 118 | Q82: ='29'!G40 -> 116 | R82: ='30'!G40 -> 114 | S82: ='R1'!G40 -> 105 | T82: ='R2'!G40 -> 98 | U82: ='R3'!G40 -> 94 | V82: ='R4'!G40 -> 89 | W82: ='R5'!G40 -> 86 | X82: ='R6'!G40 -> 84
A83: 33000 | B83: 424 | C83: 吉田町 | D83: ='16'!G54 -> 124 | E83: ='17'!G46 -> 123 | F83: ='18'!G46 -> 121 | G83: ='19'!G46 -> 119 | H83: ='20'!G46 -> 118 | I83: ='21'!G42 -> 120 | J83: ='22'!G41 -> 120 | K83: ='23'!G41 -> 119 | L83: ='24'!G41 -> 119 | M83: ='25'!G41 -> 119 | N83: ='26'!G41 -> 117 | O83: ='27'!G41 -> 112 | P83: ='28'!G41 -> 73 | Q83: ='29'!G41 -> 72 | R83: ='30'!G41 -> 70 | S83: ='R1'!G41 -> 69 | T83: ='R2'!G41 -> 67 | U83: ='R3'!G41 -> 67 | V83: ='R4'!G41 -> 67 | W83: ='R5'!G41 -> 66 | X83: ='R6'!G41 -> 64
A84: 34000 | B84: 429 | C84: 川根本町 | E84: ='17'!G48 -> 706 | F84: ='18'!G48 -> 701 | G84: ='19'!G48 -> 689 | H84: ='20'!G47 -> 681 | I84: ='21'!G43 -> 679 | J84: ='22'!G42 -> 679 | K84: ='23'!G42 -> 665 | L84: ='24'!G42 -> 666 | M84: ='25'!G42 -> 664 | N84: ='26'!G42 -> 651 | O84: ='27'!G42 -> 626 | P84: ='28'!G42 -> 592 | Q84: ='29'!G42 -> 581 | R84: ='30'!G42 -> 534 | S84: ='R1'!G42 -> 520 | T84: ='R2'!G42 -> 509 | U84: ='R3'!G42 -> 499 | V84: ='R4'!G42 -> 494 | W84: ='R5'!G42 -> 491 | X84: ='R6'!G42 -> 469
B85: 427 | C85: 中川根町 | D85: ='16'!G57 -> 459
B86: 428 | C86: 本川根町 | D86: ='16'!G58 -> 255
A87: 35000 | B87: 461 | C87: 森町 | D87: ='16'!G61 -> 592 | E87: ='17'!G49 -> 591 | F87: ='18'!G49 -> 590 | G87: ='19'!G49 -> 599 | H87: ='20'!G48 -> 596 | I87: ='21'!G44 -> 595 | J87: ='22'!G43 -> 597 | K87: ='23'!G43 -> 592 | L87: ='24'!G43 -> 591 | M87: ='25'!G43 -> 591 | N87: ='26'!G43 -> 581 | O87: ='27'!G43 -> 580 | P87: ='28'!G43 -> 575 | Q87: ='29'!G43 -> 556 | R87: ='30'!G43 -> 544 | S87: ='R1'!G43 -> 495 | T87: ='R2'!G43 -> 452 | U87: ='R3'!G43 -> 411 | V87: ='R4'!G43 -> 371 | W87: ='R5'!G43 -> 345 | X87: ='R6'!G43 -> 331

Sheet グラフ畑
D1: =データ畑!J1 -> 2010 | E1: =データ畑!K1 -> 2011 | F1: =データ畑!L1 -> 2012 | G1: =データ畑!M1 -> 2013 | H1: =データ畑!N1 -> 2014 | I1: =データ畑!O1 -> 2015 | J1: =データ畑!P1 -> 2016 | K1: =データ畑!Q1 -> 2017 | ... R1: =データ畑!X1 -> 2024
A2: 1000 | B2: 100 | C2: 静岡市 | D2: =データ畑!J4 -> 4890 | E2: =データ畑!K4 -> 4780 | F2: =データ畑!L4 -> 4700 | G2: =データ畑!M4 -> 4670 | H2: =データ畑!N4 -> 4610 | I2: =データ畑!O4 -> 4550 | J2: =データ畑!P4 -> 4470 | K2: =データ畑!Q4 -> 4420 | ... R2: =データ畑!X4 -> 3440
A3: 2000 | B3: 130 | C3: 浜松市 | D3: =データ畑!J8 -> 10200 | E3: =データ畑!K8 -> 10200 | F3: =データ畑!L8 -> 10200 | G3: =データ畑!M8 -> 10100 | H3: =データ畑!N8 -> 10000 | I3: =データ畑!O8 -> 9990 | J3: =データ畑!P8 -> 9890 | K3: =データ畑!Q8 -> 9760 | ... R3: =データ畑!X8 -> 9090
A4: 3000 | B4: 203 | C4: 沼津市 | D4: =データ畑!J21 -> 1800 | E4: =データ畑!K21 -> 1770 | F4: =データ畑!L21 -> 1750 | G4: =データ畑!M21 -> 1740 | H4: =データ畑!N21 -> 1720 | I4: =データ畑!O21 -> 1680 | J4: =データ畑!P21 -> 1650 | K4: =データ畑!Q21 -> 1630 | ... R4: =データ畑!X21 -> 1470
A5: 4000 | B5: 205 | C5: 熱海市 | D5: =データ畑!J24 -> 243 | E5: =データ畑!K24 -> 232 | F5: =データ畑!L24 -> 212 | G5: =データ畑!M24 -> 204 | H5: =データ畑!N24 -> 202 | I5: =データ畑!O24 -> 197 | J5: =データ畑!P24 -> 191 | K5: =データ畑!Q24 -> 180 | ... R5: =データ畑!X24 -> 135
A6: 5000 | B6: 206 | C6: 三島市 | D6: =データ畑!J25 -> 588 | E6: =データ畑!K25 -> 585 | F6: =データ畑!L25 -> 582 | G6: =データ畑!M25 -> 578 | H6: =データ畑!N25 -> 568 | I6: =データ畑!O25 -> 566 | J6: =データ畑!P25 -> 562 | K6: =データ畑!Q25 -> 560 | ... R6: =データ畑!X25 -> 500
A7: 6000 | B7: 207 | C7: 富士宮市 | D7: =データ畑!J26 -> 2380 | E7: =データ畑!K26 -> 2360 | F7: =データ畑!L26 -> 2350 | G7: =データ畑!M26 -> 2330 | H7: =データ畑!N26 -> 2300 | I7: =データ畑!O26 -> 2280 | J7: =データ畑!P26 -> 2270 | K7: =データ畑!Q26 -> 2250 | ... R7: =データ畑!X26 -> 2060
A8: 7000 | B8: 208 | C8: 伊東市 | D8: =データ畑!J29 -> 511 | E8: =データ畑!K29 -> 481 | F8: =データ畑!L29 -> 436 | G8: =データ畑!M29 -> 416 | H8: =データ畑!N29 -> 408 | I8: =データ畑!O29 -> 405 | J8: =データ畑!P29 -> 398 | K8: =データ畑!Q29 -> 394 | ... R8: =データ畑!X29 -> 341
A9: 8000 | B9: 209 | C9: 島田市 | D9: =データ畑!J30 -> 2630 | E9: =データ畑!K30 -> 2610 | F9: =データ畑!L30 -> 2580 | G9: =データ畑!M30 -> 2580 | H9: =データ畑!N30 -> 2570 | I9: =データ畑!O30 -> 2550 | J9: =データ畑!P30 -> 2550 | K9: =データ畑!Q30 -> 2530 | ... R9: =データ畑!X30 -> 2030
A10: 9000 | B10: 210 | C10: 富士市 | D10: =データ畑!J34 -> 2010 | E10: =データ畑!K34 -> 2000 | F10: =データ畑!L34 -> 1990 | G10: =データ畑!M34 -> 1960 | H10: =データ畑!N34 -> 1940 | I10: =データ畑!O34 -> 1910 | J10: =データ畑!P34 -> 1890 | K10: =データ畑!Q34 -> 1860 | ... R10: =データ畑!X34 -> 1590
A11: 10000 | B11: 211 | C11: 磐田市 | D11: =データ畑!J37 -> 2290 | E11: =データ畑!K37 -> 2290 | F11: =データ畑!L37 -> 2280 | G11: =データ畑!M37 -> 2250 | H11: =データ畑!N37 -> 2230 | I11: =データ畑!O37 -> 2210 | J11: =データ畑!P37 -> 2170 | K11: =データ畑!Q37 -> 2130 | ... R11: =データ畑!X37 -> 1940
A12: 11000 | B12: 212 | C12: 焼津市 | D12: =データ畑!J43 -> 302 | E12: =データ畑!K43 -> 295 | F12: =データ畑!L43 -> 288 | G12: =データ畑!M43 -> 288 | H12: =データ畑!N43 -> 286 | I12: =データ畑!O43 -> 271 | J12: =データ畑!P43 -> 266 | K12: =データ畑!Q43 -> 263 | ... R12: =データ畑!X43 -> 208
A13: 12000 | B13: 213 | C13: 掛川市 | D13: =データ畑!J46 -> 3280 | E13: =データ畑!K46 -> 3230 | F13: =データ畑!L46 -> 3210 | G13: =データ畑!M46 -> 3200 | H13: =データ畑!N46 -> 3180 | I13: =データ畑!O46 -> 3170 | J13: =データ畑!P46 -> 3130 | K13: =データ畑!Q46 -> 3100 | ... R13: =データ畑!X46 -> 2310
A14: 13000 | B14: 214 | C14: 藤枝市 | D14: =データ畑!J50 -> 1980 | E14: =データ畑!K50 -> 1930 | F14: =データ畑!L50 -> 1910 | G14: =データ畑!M50 -> 1910 | H14: =データ畑!N50 -> 1890 | I14: =データ畑!O50 -> 1850 | J14: =データ畑!P50 -> 1820 | K14: =データ畑!Q50 -> 1780 | ... R14: =データ畑!X50 -> 1200
A15: 14000 | B15: 215 | C15: 御殿場市 | D15: =データ畑!J53 -> 593 | E15: =データ畑!K53 -> 590 | F15: =データ畑!L53 -> 587 | G15: =データ畑!M53 -> 579 | H15: =データ畑!N53 -> 571 | I15: =データ畑!O53 -> 565 | J15: =データ畑!P53 -> 560 | K15: =データ畑!Q53 -> 552 | ... R15: =データ畑!X53 -> 500
A16: 15000 | B16: 216 | C16: 袋井市 | D16: =データ畑!J54 -> 1110 | E16: =データ畑!K54 -> 1100 | F16: =データ畑!L54 -> 1080 | G16: =データ畑!M54 -> 1080 | H16: =データ畑!N54 -> 1070 | I16: =データ畑!O54 -> 1030 | J16: =データ畑!P54 -> 1010 | K16: =データ畑!Q54 -> 999 | ... R16: =データ畑!X54 -> 844
A17: 16000 | B17: 219 | C17: 下田市 | D17: =データ畑!J57 -> 172 | E17: =データ畑!K57 -> 169 | F17: =データ畑!L57 -> 167 | G17: =データ畑!M57 -> 165 | H17: =データ畑!N57 -> 159 | I17: =データ畑!O57 -> 157 | J17: =データ畑!P57 -> 153 | K17: =データ畑!Q57 -> 153 | ... R17: =データ畑!X57 -> 137
A18: 17000 | B18: 220 | C18: 裾野市 | D18: =データ畑!J58 -> 575 | E18: =データ畑!K58 -> 572 | F18: =データ畑!L58 -> 570 | G18: =データ畑!M58 -> 569 | H18: =データ畑!N58 -> 565 | I18: =データ畑!O58 -> 557 | J18: =データ畑!P58 -> 553 | K18: =データ畑!Q58 -> 547 | ... R18: =データ畑!X58 -> 496
A19: 18000 | B19: 221 | C19: 湖西市 | D19: =データ畑!J59 -> 970 | E19: =データ畑!K59 -> 966 | F19: =データ畑!L59 -> 965 | G19: =データ畑!M59 -> 963 | H19: =データ畑!N59 -> 958 | I19: =データ畑!O59 -> 954 | J19: =データ畑!P59 -> 950 | K19: =データ畑!Q59 -> 950 | ... R19: =データ畑!X59 -> 901
A20: 19000 | B20: 222 | C20: 伊豆市 | D20: =データ畑!J62 -> 560 | E20: =データ畑!K62 -> 549 | F20: =データ畑!L62 -> 547 | G20: =データ畑!M62 -> 538 | H20: =データ畑!N62 -> 520 | I20: =データ畑!O62 -> 517 | J20: =データ畑!P62 -> 511 | K20: =データ畑!Q62 -> 503 | ... R20: =データ畑!X62 -> 423
A21: 20000 | B21: 223 | C21: 御前崎市 | D21: =データ畑!J63 -> 1250 | E21: =データ畑!K63 -> 1240 | F21: =データ畑!L63 -> 1240 | G21: =データ畑!M63 -> 1200 | H21: =データ畑!N63 -> 1200 | I21: =データ畑!O63 -> 1180 | J21: =データ畑!P63 -> 1160 | K21: =データ畑!Q63 -> 1150 | ... R21: =データ畑!X63 -> 985
A22: 21000 | B22: 224 | C22: 菊川市 | D22: =データ畑!J64 -> 2030 | E22: =データ畑!K64 -> 2020 | F22: =データ畑!L64 -> 2010 | G22: =データ畑!M64 -> 1980 | H22: =データ畑!N64 -> 1970 | I22: =データ畑!O64 -> 1950 | J22: =データ畑!P64 -> 1940 | K22: =データ畑!Q64 -> 1910 | ... R22: =データ畑!X64 -> 1600
A23: 22000 | B23: 225 | C23: 伊豆の国市 | D23: =データ畑!J65 -> 504 | E23: =データ畑!K65 -> 498 | F23: =データ畑!L65 -> 494 | G23: =データ畑!M65 -> 489 | H23: =データ畑!N65 -> 471 | I23: =データ畑!O65 -> 467 | J23: =データ畑!P65 -> 463 | K23: =データ畑!Q65 -> 460 | ... R23: =データ畑!X65 -> 389
A24: 23000 | B24: 226 | C24: 牧之原市 | D24: =データ畑!J69 -> 3090 | E24: =データ畑!K69 -> 3090 | F24: =データ畑!L69 -> 3090 | G24: =データ畑!M69 -> 3080 | H24: =データ畑!N69 -> 3060 | I24: =データ畑!O69 -> 3030 | J24: =データ畑!P69 -> 3010 | K24: =データ畑!Q69 -> 2970 | ... R24: =データ畑!X69 -> 2210
A25: 24000 | B25: 301 | C25: 東伊豆町 | D25: =データ畑!J72 -> 306 | E25: =データ畑!K72 -> 299 | F25: =データ畑!L72 -> 296 | G25: =データ畑!M72 -> 285 | H25: =データ畑!N72 -> 259 | I25: =データ畑!O72 -> 249 | J25: =データ畑!P72 -> 241 | K25: =データ畑!Q72 -> 229 | ... R25: =データ畑!X72 -> 212
A26: 25000 | B26: 302 | C26: 河津町 | D26: =データ畑!J73 -> 278 | E26: =データ畑!K73 -> 275 | F26: =データ畑!L73 -> 274 | G26: =データ畑!M73 -> 270 | H26: =データ畑!N73 -> 256 | I26: =データ畑!O73 -> 248 | J26: =データ畑!P73 -> 241 | K26: =データ畑!Q73 -> 231 | ... R26: =データ畑!X73 -> 204
A27: 26000 | B27: 304 | C27: 南伊豆町 | D27: =データ畑!J74 -> 251 | E27: =データ畑!K74 -> 247 | F27: =データ畑!L74 -> 249 | G27: =データ畑!M74 -> 249 | H27: =データ畑!N74 -> 243 | I27: =データ畑!O74 -> 237 | J27: =データ畑!P74 -> 233 | K27: =データ畑!Q74 -> 231 | ... R27: =データ畑!X74 -> 206
A28: 27000 | B28: 305 | C28: 松崎町 | D28: =データ畑!J75 -> 194 | E28: =データ畑!K75 -> 193 | F28: =データ畑!L75 -> 192 | G28: =データ畑!M75 -> 189 | H28: =データ畑!N75 -> 186 | I28: =データ畑!O75 -> 184 | J28: =データ畑!P75 -> 181 | K28: =データ畑!Q75 -> 175 | ... R28: =データ畑!X75 -> 147
A29: 28000 | B29: 306 | C29: 西伊豆町 | D29: =データ畑!J76 -> 108 | E29: =データ畑!K76 -> 104 | F29: =データ畑!L76 -> 103 | G29: =データ畑!M76 -> 101 | H29: =データ畑!N76 -> 99 | I29: =データ畑!O76 -> 98 | J29: =データ畑!P76 -> 96 | K29: =データ畑!Q76 -> 96 | ... R29: =データ畑!X76 -> 90
A30: 29000 | B30: 325 | C30: 函南町 | D30: =データ畑!J79 -> 475 | E30: =データ畑!K79 -> 471 | F30: =データ畑!L79 -> 470 | G30: =データ畑!M79 -> 466 | H30: =データ畑!N79 -> 464 | I30: =データ畑!O79 -> 462 | J30: =データ畑!P79 -> 459 | K30: =データ畑!Q79 -> 457 | ... R30: =データ畑!X79 -> 416
A31: 30000 | B31: 341 | C31: 清水町 | D31: =データ畑!J80 -> 32 | E31: =データ畑!K80 -> 31 | F31: =データ畑!L80 -> 29 | G31: =データ畑!M80 -> 29 | H31: =データ畑!N80 -> 27 | I31: =データ畑!O80 -> 26 | J31: =データ畑!P80 -> 25 | K31: =データ畑!Q80 -> 25 | ... R31: =データ畑!X80 -> 20
A32: 31000 | B32: 342 | C32: 長泉町 | D32: =データ畑!J81 -> 208 | E32: =データ畑!K81 -> 204 | F32: =データ畑!L81 -> 202 | G32: =データ畑!M81 -> 198 | H32: =データ畑!N81 -> 195 | I32: =データ畑!O81 -> 193 | J32: =データ畑!P81 -> 190 | K32: =データ畑!Q81 -> 190 | ... R32: =データ畑!X81 -> 162
A33: 32000 | B33: 344 | C33: 小山町 | D33: =データ畑!J82 -> 133 | E33: =データ畑!K82 -> 131 | F33: =データ畑!L82 -> 130 | G33: =データ畑!M82 -> 126 | H33: =データ畑!N82 -> 121 | I33: =データ畑!O82 -> 120 | J33: =データ畑!P82 -> 118 | K33: =データ畑!Q82 -> 116 | ... R33: =データ畑!X82 -> 84
A34: 33000 | B34: 424 | C34: 吉田町 | D34: =データ畑!J83 -> 120 | E34: =データ畑!K83 -> 119 | F34: =データ畑!L83 -> 119 | G34: =データ畑!M83 -> 119 | H34: =データ畑!N83 -> 117 | I34: =データ畑!O83 -> 112 | J34: =データ畑!P83 -> 73 | K34: =データ畑!Q83 -> 72 | ... R34: =データ畑!X83 -> 64
A35: 34000 | B35: 429 | C35: 川根本町 | D35: =データ畑!J84 -> 679 | E35: =データ畑!K84 -> 665 | F35: =データ畑!L84 -> 666 | G35: =データ畑!M84 -> 664 | H35: =データ畑!N84 -> 651 | I35: =データ畑!O84 -> 626 | J35: =データ畑!P84 -> 592 | K35: =データ畑!Q84 -> 581 | ... R35: =データ畑!X84 -> 469
A36: 35000 | B36: 461 | C36: 森町 | D36: =データ畑!J87 -> 597 | E36: =データ畑!K87 -> 592 | F36: =データ畑!L87 -> 591 | G36: =データ畑!M87 -> 591 | H36: =データ畑!N87 -> 581 | I36: =データ畑!O87 -> 580 | J36: =データ畑!P87 -> 575 | K36: =データ畑!Q87 -> 556 | ... R36: =データ畑!X87 -> 331
C37: 静岡県 | D37: =データ畑!J2 -> 47400 | E37: =データ畑!K2 -> 46900 | F37: =データ畑!L2 -> 46500 | G37: =データ畑!M2 -> 46100 | H37: =データ畑!N2 -> 45700 | I37: =データ畑!O2 -> 45200 | J37: =データ畑!P2 -> 44600 | K37: =データ畑!Q2 -> 44000 | ... R37: =データ畑!X2 -> 37200
D38: =D1 -> 2010 | E38: =E1 -> 2011 | F38: =F1 -> 2012 | G38: =G1 -> 2013 | H38: =H1 -> 2014 | I38: =I1 -> 2015 | J38: =J1 -> 2016 | K38: =K1 -> 2017 | ... R38: =R1 -> 2024
C39: =グラフ!D2 -> 静岡県 | D39: =_xlfn.XLOOKUP($C$39,$C2:$C37,D$2:D$37) -> 47400 | E39: =_xlfn.XLOOKUP($C$39,$C2:$C37,E$2:E$37) -> 46900 | F39: =_xlfn.XLOOKUP($C$39,$C2:$C37,F$2:F$37) -> 46500 | G39: =_xlfn.XLOOKUP($C$39,$C2:$C37,G$2:G$37) -> 46100 | H39: =_xlfn.XLOOKUP($C$39,$C2:$C37,H$2:H$37) -> 45700 | I39: =_xlfn.XLOOKUP($C$39,$C2:$C37,I$2:I$37) -> 45200 | J39: =_xlfn.XLOOKUP($C$39,$C2:$C37,J$2:J$37) -> 44600 | K39: =_xlfn.XLOOKUP($C$39,$C2:$C37,K$2:K$37) -> 44000 | ... R39: =_xlfn.XLOOKUP($C$39,$C2:$C37,R$2:R$37) -> 37200

Sheet グラフ
D1: ↓こちらのタブからご覧になりたい市町を選択してください。
D2: 静岡県
B3: (ha）
R26: (ha)
C28: 年 | D28: ='グラフ田 '!D1 -> 2010 | E28: ='グラフ田 '!E1 -> 2011 | F28: ='グラフ田 '!F1 -> 2012 | G28: ='グラフ田 '!G1 -> 2013 | H28: ='グラフ田 '!H1 -> 2014 | I28: ='グラフ田 '!I1 -> 2015 | J28: ='グラフ田 '!J1 -> 2016 | K28: ='グラフ田 '!K1 -> 2017 | ... R28: ='グラフ田 '!R1 -> 2024
B29: =D2 -> 静岡県 | C29: 田 | D29: =_xlfn.XLOOKUP($D$2,'グラフ田 '!$C2:$C37,'グラフ田 '!D$2:D$37) -> 23400 | E29: =_xlfn.XLOOKUP($D$2,'グラフ田 '!$C2:$C37,'グラフ田 '!E$2:E$37) -> 23300 | F29: =_xlfn.XLOOKUP($D$2,'グラフ田 '!$C2:$C37,'グラフ田 '!F$2:F$37) -> 23200 | G29: =_xlfn.XLOOKUP($D$2,'グラフ田 '!$C2:$C37,'グラフ田 '!G$2:G$37) -> 23000 | H29: =_xlfn.XLOOKUP($D$2,'グラフ田 '!$C2:$C37,'グラフ田 '!H$2:H$37) -> 22900 | I29: =_xlfn.XLOOKUP($D$2,'グラフ田 '!$C2:$C37,'グラフ田 '!I$2:I$37) -> 22700 | J29: =_xlfn.XLOOKUP($D$2,'グラフ田 '!$C2:$C37,'グラフ田 '!J$2:J$37) -> 22500 | K29: =_xlfn.XLOOKUP($D$2,'グラフ田 '!$C2:$C37,'グラフ田 '!K$2:K$37) -> 22400 | ... R29: =_xlfn.XLOOKUP($D$2,'グラフ田 '!$C2:$C37,'グラフ田 '!R$2:R$37) -> 21100
C30: 畑 | D30: =グラフ畑!D39 -> 47400 | E30: =グラフ畑!E39 -> 46900 | F30: =グラフ畑!F39 -> 46500 | G30: =グラフ畑!G39 -> 46100 | H30: =グラフ畑!H39 -> 45700 | I30: =グラフ畑!I39 -> 45200 | J30: =グラフ畑!J39 -> 44600 | K30: =グラフ畑!K39 -> 44000 | ... R30: =グラフ畑!R39 -> 37200
C31: 調査の概要、利用上の注意 | H31: 10年前の2014年から田は、 | K31: =H29-R29 -> 1800 | L31: 減少 | M31: 5年前2019年から | O31: 田は、 | P31: =M29-R29 -> 800 | Q31: 減少
B32: 出典： | C32: 面積調査：農林水産省 | H32: 10年前の2014年から畑は、 | K32: =H30-R30 -> 8500 | L32: 減少 | M32: 5年前2019年から | O32: 畑は、 | P32: =M30-R30 -> 5000 | Q32: 減少
