Workbook
Name DDT: グラフ耕地!$C$1:$R$36

Sheet 16
A1: 農林水産関係市町村別データ
A2: 平成16年
A3: 耕地面積
A4: 静岡県
A5: 都道 | B5: 市町 | D5: 耕地面積 | E5: 田耕地面積 | F5: 田本地面積 | G5: 畑耕地面積 | H5: 普通畑 | I5: 樹園地 | J5: 牧草地 | K5: 田畑計の作 | L5: 田畑計の耕
A6: 府県 | B6: 村 | C6: 市町村名 | K6: 付延べ面積 | L6: 地利用率
A7: ｺｰﾄﾞ | B7: ｺｰﾄﾞ
D8: ha | E8: ha | F8: ha | G8: ha | H8: ha | I8: ha | J8: ha | K8: ha | L8: 0.0%
A9: 22 | B9: 201 | C9: 静岡市 | D9: 6460 | E9: 679 | F9: 650 | G9: 5780 | H9: 510 | I9: 5250 | J9: 23 | K9: 6060 | L9: 93.8
A10: 22 | B10: 202 | C10: 浜松市 | D10: 5580 | E10: 1650 | F10: 1610 | G10: 3930 | H10: 2970 | I10: 967 | J10: - | K10: 5340 | L10: 95.7
A11: 22 | B11: 203 | C11: 沼津市 | D11: 2210 | E11: 471 | F11: 453 | G11: 1740 | H11: 471 | I11: 1260 | J11: 3 | K11: 2030 | L11: 91.7
A12: 22 | B12: 205 | C12: 熱海市 | D12: 253 | E12: 0 | F12: 0 | G12: 253 | H12: 38 | I12: 215 | J12: - | K12: 237 | L12: 93.7
A13: 22 | B13: 206 | C13: 三島市 | D13: 914 | E13: 313 | F13: 299 | G13: 601 | H13: 531 | I13: 55 | J13: 15 | K13: 1000 | L13: 109.7
A14: 22 | B14: 207 | C14: 富士宮市 | D14: 2900 | E14: 650 | F14: 607 | G14: 2250 | H14: 788 | I14: 298 | J14: 1160 | K14: 2600 | L14: 89.5
A15: 22 | B15: 208 | C15: 伊東市 | D15: 645 | E15: 30 | F15: 27 | G15: 615 | H15: 337 | I15: 278 | J15: - | K15: 472 | L15: 73.2
A16: 22 | B16: 209 | C16: 島田市 | D16: 1960 | E16: 597 | F16: 577 | G16: 1360 | H16: 67 | I16: 1290 | J16: - | K16: 2020 | L16: 103.3
A17: 22 | B17: 210 | C17: 富士市 | D17: 2710 | E17: 765 | F17: 728 | G17: 1940 | H17: 773 | I17: 1170 | J17: 2 | K17: 2380 | L17: 87.6
A18: 22 | B18: 211 | C18: 磐田市 | D18: 2210 | E18: 1140 | F18: 1120 | G18: 1070 | H18: 422 | I18: 652 | J18: 0 | K18: 2080 | L18: 94
A19: 22 | B19: 212 | C19: 焼津市 | D19: 996 | E19: 757 | F19: 731 | G19: 239 | H19: 83 | I19: 156 | J19: - | K19: 834 | L19: 83.7
A20: 22 | B20: 213 | C20: 掛川市 | D20: 3410 | E20: 1330 | F20: 1270 | G20: 2080 | H20: 134 | I20: 1940 | J20: 4 | K20: 3060 | L20: 89.7
A21: 22 | B21: 214 | C21: 藤枝市 | D21: 2640 | E21: 1000 | F21: 969 | G21: 1640 | H21: 164 | I21: 1470 | J21: - | K21: 2480 | L21: 93.8
A22: 22 | B22: 215 | C22: 御殿場市 | D22: 2010 | E22: 1400 | F22: 1290 | G22: 612 | H22: 534 | I22: 70 | J22: 8 | K22: 1700 | L22: 84.4
A23: 22 | B23: 216 | C23: 袋井市 | D23: 2280 | E23: 1430 | F23: 1390 | G23: 852 | H23: 73 | I23: 777 | J23: 2 | K23: 2420 | L23: 106.3
A24: 22 | B24: 217 | C24: 天竜市 | D24: 467 | E24: 57 | F24: 52 | G24: 410 | H24: 152 | I24: 258 | J24: - | K24: 317 | L24: 67.9
A25: 22 | B25: 218 | C25: 浜北市 | D25: 1880 | E25: 400 | F25: 388 | G25: 1480 | H25: 1190 | I25: 293 | J25: - | K25: 1370 | L25: 72.6
A26: 22 | B26: 219 | C26: 下田市 | D26: 298 | E26: 120 | F26: 110 | G26: 178 | H26: 86 | I26: 92 | J26: - | K26: 253 | L26: 84.9
A27: 22 | B27: 220 | C27: 裾野市 | D27: 927 | E27: 336 | F27: 315 | G27: 591 | H27: 534 | I27: 57 | J27: 0 | K27: 788 | L27: 85
A28: 22 | B28: 221 | C28: 湖西市 | D28: 1210 | E28: 267 | F28: 258 | G28: 942 | H28: 617 | I28: 325 | J28: - | K28: 996 | L28: 82.3
A29: 22 | B29: 222 | C29: 伊豆市 | D29: 1360 | E29: 765 | F29: 693 | G29: 598 | H29: 365 | I29: 190 | J29: 43 | K29: 1140 | L29: 83.8
A30: 22 | B30: 223 | C30: 御前崎市 | D30: 1810 | E30: 483 | F30: 461 | G30: 1330 | H30: 602 | I30: 725 | J30: - | K30: 1460 | L30: 80.4
A31: 22 | B31: 224 | C31: 菊川市 | D31: 3230 | E31: 1200 | F31: 1160 | G31: 2030 | H31: 213 | I31: 1820 | J31: 2 | K31: 3000 | L31: 92.8
A32: 22 | B32: 301 | C32: 東伊豆町 | D32: 342 | E32: 13 | F32: 12 | G32: 329 | H32: 36 | I32: 293 | J32: - | K32: 329 | L32: 96.2
A33: 22 | B33: 302 | C33: 河津町 | D33: 379 | E33: 84 | F33: 77 | G33: 295 | H33: 75 | I33: 220 | J33: - | K33: 337 | L33: 88.9
A34: 22 | B34: 304 | C34: 南伊豆町 | D34: 440 | E34: 182 | F34: 167 | G34: 258 | H34: 94 | I34: 164 | J34: - | K34: 347 | L34: 78.9
A35: 22 | B35: 305 | C35: 松崎町 | D35: 345 | E35: 141 | F35: 128 | G35: 204 | H35: 88 | I35: 116 | J35: - | K35: 266 | L35: 77.1
A36: 22 | B36: 306 | C36: 西伊豆町 | D36: 84 | E36: 39 | F36: 36 | G36: 45 | H36: 33 | I36: 12 | J36: - | K36: 77 | L36: 91.7
A37: 22 | B37: 307 | C37: 賀茂村 | D37: 93 | E37: 23 | F37: 21 | G37: 70 | H37: 26 | I37: 10 | J37: 34 | K37: 71 | L37: 76.3
A38: 22 | B38: 321 | C38: 伊豆長岡町 | D38: 226 | E38: 105 | F38: 99 | G38: 121 | H38: 44 | I38: 77 | J38: - | K38: 211 | L38: 93.4
A39: 22 | B39: 323 | C39: 戸田村 | D39: 105 | E39: 17 | F39: 15 | G39: 88 | H39: 6 | I39: 82 | J39: - | K39: 106 | L39: 101
A40: 22 | B40: 325 | C40: 函南町 | D40: 725 | E40: 244 | F40: 232 | G40: 481 | H40: 426 | I40: 39 | J40: 16 | K40: 785 | L40: 108.3
...

Sheet 17
A1: 農林水産関係市町村別データ
A2: 平成17年
A3: 耕地面積
A4: 静岡県
A5: 都道 | B5: 市町 | D5: 耕地面積 | E5: 田耕地面積 | F5: 田本地面積 | G5: 畑耕地面積 | H5: 普通畑 | I5: 樹園地 | J5: 牧草地 | K5: 田畑計の作 | L5: 田畑計の耕
A6: 府県 | B6: 村 | C6: 市町村名 | K6: 付延べ面積 | L6: 地利用率
A7: ｺｰﾄﾞ | B7: ｺｰﾄﾞ
D8: ha | E8: ha | F8: ha | G8: ha | H8: ha | I8: ha | J8: ha | K8: ha | L8: 0.0%
A9: 22 | B9: 100 | C9: 静岡市 | D9: 6500 | E9: 674 | F9: 645 | G9: 5830 | H9: 544 | I9: 5260 | J9: 23 | K9: 6060 | L9: 93.2
A10: 22 | B10: 202 | C10: 浜松市 | D10: 13600 | E10: 2980 | F10: 2880 | G10: 10600 | H10: 5240 | I10: 5350 | J10: - | K10: 11800 | L10: 86.8
A11: 22 | B11: 203 | C11: 沼津市 | D11: 2320 | E11: 487 | F11: 467 | G11: 1830 | H11: 407 | I11: 1420 | J11: 3 | K11: 2180 | L11: 94
A12: 22 | B12: 205 | C12: 熱海市 | D12: 253 | E12: 0 | F12: 0 | G12: 253 | H12: 41 | I12: 212 | J12: - | K12: 237 | L12: 93.7
A13: 22 | B13: 206 | C13: 三島市 | D13: 910 | E13: 311 | F13: 297 | G13: 599 | H13: 529 | I13: 55 | J13: 15 | K13: 974 | L13: 107
A14: 22 | B14: 207 | C14: 富士宮市 | D14: 2870 | E14: 647 | F14: 604 | G14: 2230 | H14: 783 | I14: 298 | J14: 1150 | K14: 2550 | L14: 88.9
A15: 22 | B15: 208 | C15: 伊東市 | D15: 643 | E15: 30 | F15: 27 | G15: 613 | H15: 336 | I15: 277 | J15: - | K15: 467 | L15: 72.6
A16: 22 | B16: 209 | C16: 島田市 | D16: 3090 | E16: 794 | F16: 763 | G16: 2300 | H16: 109 | I16: 2190 | J16: - | K16: 3090 | L16: 100
A17: 22 | B17: 210 | C17: 富士市 | D17: 2670 | E17: 735 | F17: 700 | G17: 1930 | H17: 766 | I17: 1160 | J17: 2 | K17: 2330 | L17: 87.3
A18: 22 | B18: 211 | C18: 磐田市 | D18: 4760 | E18: 2400 | F18: 2350 | G18: 2360 | H18: 1400 | I18: 951 | J18: 10 | K18: 4330 | L18: 91
A19: 22 | B19: 212 | C19: 焼津市 | D19: 985 | E19: 750 | F19: 724 | G19: 235 | H19: 82 | I19: 153 | J19: - | K19: 822 | L19: 83.5
A20: 22 | B20: 213 | C20: 掛川市 | D20: 5590 | E20: 2250 | F20: 2160 | G20: 3350 | H20: 696 | I20: 2640 | J20: 9 | K20: 5160 | L20: 92.3
A21: 22 | B21: 214 | C21: 藤枝市 | D21: 2610 | E21: 991 | F21: 956 | G21: 1620 | H21: 164 | I21: 1460 | J21: - | K21: 2420 | L21: 92.7
A22: 22 | B22: 215 | C22: 御殿場市 | D22: 2010 | E22: 1400 | F22: 1290 | G22: 610 | H22: 532 | I22: 70 | J22: 8 | K22: 1700 | L22: 84.6
A23: 22 | B23: 216 | C23: 袋井市 | D23: 3660 | E23: 2510 | F23: 2440 | G23: 1150 | H23: 273 | I23: 869 | J23: 4 | K23: 3770 | L23: 103
A24: 22 | B24: 219 | C24: 下田市 | D24: 297 | E24: 119 | F24: 109 | G24: 178 | H24: 87 | I24: 91 | J24: - | K24: 251 | L24: 84.5
A25: 22 | B25: 220 | C25: 裾野市 | D25: 925 | E25: 335 | F25: 314 | G25: 590 | H25: 534 | I25: 56 | J25: 0 | K25: 776 | L25: 83.9
A26: 22 | B26: 221 | C26: 湖西市 | D26: 1200 | E26: 266 | F26: 257 | G26: 938 | H26: 608 | I26: 330 | J26: - | K26: 953 | L26: 79.4
A27: 22 | B27: 222 | C27: 伊豆市 | D27: 1360 | E27: 765 | F27: 693 | G27: 595 | H27: 361 | I27: 191 | J27: 43 | K27: 1120 | L27: 82.4
A28: 22 | B28: 223 | C28: 御前崎市 | D28: 1800 | E28: 476 | F28: 454 | G28: 1320 | H28: 601 | I28: 722 | J28: - | K28: 1440 | L28: 80
A29: 22 | B29: 224 | C29: 菊川市 | D29: 3210 | E29: 1180 | F29: 1140 | G29: 2030 | H29: 214 | I29: 1820 | J29: 2 | K29: 2960 | L29: 92.2
A30: 22 | B30: 225 | C30: 伊豆の国市 | D30: 1160 | E30: 652 | F30: 627 | G30: 508 | H30: 384 | I30: 114 | J30: 10 | K30: 998 | L30: 86
A31: 22 | B31: 226 | C31: 牧之原市 | D31: 3790 | E31: 731 | F31: 704 | G31: 3060 | H31: 314 | I31: 2750 | J31: - | K31: 3770 | L31: 99.5
A32: 22 | B32: 301 | C32: 東伊豆町 | D32: 342 | E32: 13 | F32: 12 | G32: 329 | H32: 36 | I32: 293 | J32: - | K32: 330 | L32: 96.5
A33: 22 | B33: 302 | C33: 河津町 | D33: 379 | E33: 84 | F33: 77 | G33: 295 | H33: 75 | I33: 220 | J33: - | K33: 335 | L33: 88.4
A34: 22 | B34: 304 | C34: 南伊豆町 | D34: 439 | E34: 181 | F34: 166 | G34: 258 | H34: 95 | I34: 163 | J34: - | K34: 344 | L34: 78.4
A35: 22 | B35: 305 | C35: 松崎町 | D35: 344 | E35: 140 | F35: 127 | G35: 204 | H35: 89 | I35: 115 | J35: - | K35: 261 | L35: 75.9
A36: 22 | B36: 306 | C36: 西伊豆町 | D36: 177 | E36: 62 | F36: 57 | G36: 115 | H36: 59 | I36: 22 | J36: 34 | K36: 148 | L36: 83.6
A37: 22 | B37: 325 | C37: 函南町 | D37: 723 | E37: 243 | F37: 231 | G37: 480 | H37: 425 | I37: 39 | J37: 16 | K37: 777 | L37: 107.5
A38: 22 | B38: 341 | C38: 清水町 | D38: 125 | E38: 87 | F38: 84 | G38: 38 | H38: 37 | I38: 1 | J38: - | K38: 128 | L38: 102.4
A39: 22 | B39: 342 | C39: 長泉町 | D39: 286 | E39: 69 | F39: 61 | G39: 217 | H39: 183 | I39: 32 | J39: 2 | K39: 319 | L39: 111.5
A40: 22 | B40: 344 | C40: 小山町 | D40: 608 | E40: 468 | F40: 437 | G40: 140 | H40: 113 | I40: 26 | J40: 1 | K40: 579 | L40: 95.2
...

Sheet 18
A1: 農林水産関係市町村別データ
A2: 平成18年
A3: 耕地面積
A4: 静岡県
A5: 都道 | B5: 市町 | D5: 耕地面積 | E5: 田耕地面積 | F5: 田本地面積 | G5: 畑耕地面積 | H5: 普通畑 | I5: 樹園地 | J5: 牧草地 | K5: 田畑計の作 | L5: 田畑計の耕
A6: 府県 | B6: 村 | C6: 市町村名 | K6: 付延べ面積 | L6: 地利用率
A7: ｺｰﾄﾞ | B7: ｺｰﾄﾞ
D8: ha | E8: ha | F8: ha | G8: ha | H8: ha | I8: ha | J8: ha | K8: ha | L8: 0.0%
A9: 22 | B9: 100 | C9: 静岡市 | D9: 6390 | E9: 662 | F9: 634 | G9: 5730 | H9: 547 | I9: 5160 | J9: 23 | K9: 5950 | L9: 93.1
A10: 22 | B10: 202 | C10: 浜松市 | D10: 13400 | E10: 2920 | F10: 2830 | G10: 10500 | H10: 5160 | I10: 5340 | J10: - | K10: 11600 | L10: 86.6
A11: 22 | B11: 203 | C11: 沼津市 | D11: 2320 | E11: 487 | F11: 467 | G11: 1830 | H11: 406 | I11: 1420 | J11: 3 | K11: 2190 | L11: 94.4
A12: 22 | B12: 205 | C12: 熱海市 | D12: 253 | E12: 0 | F12: 0 | G12: 253 | H12: 41 | I12: 212 | J12: - | K12: 231 | L12: 91.3
A13: 22 | B13: 206 | C13: 三島市 | D13: 903 | E13: 307 | F13: 294 | G13: 596 | H13: 527 | I13: 55 | J13: 14 | K13: 943 | L13: 104.4
A14: 22 | B14: 207 | C14: 富士宮市 | D14: 2850 | E14: 641 | F14: 599 | G14: 2210 | H14: 783 | I14: 297 | J14: 1130 | K14: 2510 | L14: 88.1
A15: 22 | B15: 208 | C15: 伊東市 | D15: 621 | E15: 28 | F15: 25 | G15: 593 | H15: 316 | I15: 277 | J15: - | K15: 441 | L15: 71
A16: 22 | B16: 209 | C16: 島田市 | D16: 3050 | E16: 776 | F16: 746 | G16: 2270 | H16: 98 | I16: 2170 | J16: - | K16: 3050 | L16: 100
A17: 22 | B17: 210 | C17: 富士市 | D17: 2630 | E17: 710 | F17: 677 | G17: 1920 | H17: 760 | I17: 1160 | J17: 1 | K17: 2310 | L17: 87.8
A18: 22 | B18: 211 | C18: 磐田市 | D18: 4760 | E18: 2400 | F18: 2340 | G18: 2360 | H18: 1390 | I18: 953 | J18: 10 | K18: 4280 | L18: 89.9
A19: 22 | B19: 212 | C19: 焼津市 | D19: 964 | E19: 740 | F19: 714 | G19: 224 | H19: 72 | I19: 152 | J19: - | K19: 806 | L19: 83.6
A20: 22 | B20: 213 | C20: 掛川市 | D20: 5580 | E20: 2240 | F20: 2150 | G20: 3340 | H20: 693 | I20: 2640 | J20: 9 | K20: 5120 | L20: 91.8
A21: 22 | B21: 214 | C21: 藤枝市 | D21: 2580 | E21: 975 | F21: 941 | G21: 1600 | H21: 161 | I21: 1440 | J21: - | K21: 2410 | L21: 93.4
A22: 22 | B22: 215 | C22: 御殿場市 | D22: 2010 | E22: 1400 | F22: 1290 | G22: 607 | H22: 530 | I22: 69 | J22: 8 | K22: 1700 | L22: 84.6
A23: 22 | B23: 216 | C23: 袋井市 | D23: 3630 | E23: 2480 | F23: 2410 | G23: 1160 | H23: 308 | I23: 844 | J23: 4 | K23: 3660 | L23: 100.8
A24: 22 | B24: 219 | C24: 下田市 | D24: 297 | E24: 119 | F24: 109 | G24: 178 | H24: 87 | I24: 91 | J24: - | K24: 242 | L24: 81.5
A25: 22 | B25: 220 | C25: 裾野市 | D25: 918 | E25: 332 | F25: 312 | G25: 586 | H25: 533 | I25: 53 | J25: 0 | K25: 765 | L25: 83.3
A26: 22 | B26: 221 | C26: 湖西市 | D26: 1160 | E26: 262 | F26: 253 | G26: 901 | H26: 571 | I26: 330 | J26: - | K26: 938 | L26: 80.9
A27: 22 | B27: 222 | C27: 伊豆市 | D27: 1360 | E27: 768 | F27: 695 | G27: 590 | H27: 358 | I27: 190 | J27: 42 | K27: 1120 | L27: 82.4
A28: 22 | B28: 223 | C28: 御前崎市 | D28: 1760 | E28: 456 | F28: 435 | G28: 1300 | H28: 600 | I28: 704 | J28: - | K28: 1420 | L28: 80.7
A29: 22 | B29: 224 | C29: 菊川市 | D29: 3190 | E29: 1160 | F29: 1120 | G29: 2030 | H29: 217 | I29: 1810 | J29: 2 | K29: 2960 | L29: 92.8
A30: 22 | B30: 225 | C30: 伊豆の国市 | D30: 1160 | E30: 652 | F30: 627 | G30: 508 | H30: 384 | I30: 114 | J30: 10 | K30: 985 | L30: 84.9
A31: 22 | B31: 226 | C31: 牧之原市 | D31: 3790 | E31: 722 | F31: 695 | G31: 3060 | H31: 304 | I31: 2760 | J31: - | K31: 3770 | L31: 99.5
A32: 22 | B32: 301 | C32: 東伊豆町 | D32: 342 | E32: 13 | F32: 12 | G32: 329 | H32: 36 | I32: 293 | J32: - | K32: 327 | L32: 95.6
A33: 22 | B33: 302 | C33: 河津町 | D33: 379 | E33: 84 | F33: 77 | G33: 295 | H33: 75 | I33: 220 | J33: - | K33: 328 | L33: 86.5
A34: 22 | B34: 304 | C34: 南伊豆町 | D34: 439 | E34: 181 | F34: 166 | G34: 258 | H34: 95 | I34: 163 | J34: - | K34: 332 | L34: 75.6
A35: 22 | B35: 305 | C35: 松崎町 | D35: 342 | E35: 138 | F35: 125 | G35: 204 | H35: 89 | I35: 115 | J35: - | K35: 258 | L35: 75.4
A36: 22 | B36: 306 | C36: 西伊豆町 | D36: 176 | E36: 62 | F36: 57 | G36: 114 | H36: 58 | I36: 22 | J36: 34 | K36: 145 | L36: 82.4
A37: 22 | B37: 325 | C37: 函南町 | D37: 723 | E37: 243 | F37: 231 | G37: 480 | H37: 427 | I37: 39 | J37: 14 | K37: 752 | L37: 104
A38: 22 | B38: 341 | C38: 清水町 | D38: 122 | E38: 86 | F38: 83 | G38: 36 | H38: 35 | I38: 1 | J38: - | K38: 124 | L38: 101.6
A39: 22 | B39: 342 | C39: 長泉町 | D39: 281 | E39: 67 | F39: 59 | G39: 214 | H39: 181 | I39: 31 | J39: 2 | K39: 314 | L39: 111.7
A40: 22 | B40: 344 | C40: 小山町 | D40: 606 | E40: 468 | F40: 437 | G40: 138 | H40: 111 | I40: 26 | J40: 1 | K40: 566 | L40: 93.4
...

Sheet 19
A1: 農林水産関係市町村別データ
A2: 平成19年
A3: 耕地面積
A4: 静岡県
A5: 都道 | B5: 市町 | D5: 耕地面積 | E5: 田耕地面積 | F5: 田本地面積 | G5: 畑耕地面積
A6: 府県 | B6: 村 | C6: 市町村名
A7: ｺｰﾄﾞ | B7: ｺｰﾄﾞ
D8: ha | E8: ha | F8: ha | G8: ha
A9: 22 | B9: 100 | C9: 静岡市 | D9: 6200 | E9: 642 | F9: 615 | G9: 5560
A10: 22 | B10: 130 | C10: 浜松市 | D10: 13300 | E10: 2890 | F10: 2800 | G10: 10400
A11: 22 | B11: 203 | C11: 沼津市 | D11: 2310 | E11: 482 | F11: 462 | G11: 1830
A12: 22 | B12: 205 | C12: 熱海市 | D12: 249 | E12: 0 | F12: 0 | G12: 249
A13: 22 | B13: 206 | C13: 三島市 | D13: 896 | E13: 303 | F13: 291 | G13: 593
A14: 22 | B14: 207 | C14: 富士宮市 | D14: 2800 | E14: 638 | F14: 596 | G14: 2160
A15: 22 | B15: 208 | C15: 伊東市 | D15: 606 | E15: 28 | F15: 25 | G15: 578
A16: 22 | B16: 209 | C16: 島田市 | D16: 3010 | E16: 750 | F16: 721 | G16: 2260
A17: 22 | B17: 210 | C17: 富士市 | D17: 2610 | E17: 699 | F17: 667 | G17: 1920
A18: 22 | B18: 211 | C18: 磐田市 | D18: 4720 | E18: 2390 | F18: 2330 | G18: 2330
A19: 22 | B19: 212 | C19: 焼津市 | D19: 939 | E19: 710 | F19: 686 | G19: 229
A20: 22 | B20: 213 | C20: 掛川市 | D20: 5570 | E20: 2230 | F20: 2140 | G20: 3340
... A50: 22 | B50: 503 | C50: 新居町 | D50: 128 | E50: 35 | F50: 33 | G50: 93
A52: 利用上の注意
A53: １ この市町村別データは、「作物統計調査」を実施する上で把握した地域における標本調査及び現地見積りの結果、
A54: 関係機関からの情報等をもとに都道府県計値の内訳として市町村別に作成した加工統計であり、作成するうえで
A55: 精度を設定しているものではない。
A56: なお、「作物統計調査」は都道府県計値を求めるために設計されている。
A57: ２ 市町村間の出作・入作を考慮していない（属地統計）。
A58: ３ 数値については、四捨五入しており、都道府県計値と市町村別の内訳の計が一致しないことがある。

Sheet 20
A1: 農林水産関係市町村別データ
A2: 平成20年
A3: 耕地面積
A4: 静岡県
A5: 都道 | B5: 市町 | D5: 耕地面積 | E5: 田耕地面積 | G5: 畑耕地面積
A6: 府県 | B6: 村 | C6: 市町村名 | F6: 田本地面積
A7: ｺｰﾄﾞ | B7: ｺｰﾄﾞ
D8: ha | E8: ha | F8: ha | G8: ha
A9: 22 | B9: 100 | C9: 静岡市 | D9: 6040 | E9: 627 | F9: 601 | G9: 5410
A10: 22 | B10: 130 | C10: 浜松市 | D10: 13100 | E10: 2770 | F10: 2680 | G10: 10300
A11: 22 | B11: 203 | C11: 沼津市 | D11: 2300 | E11: 475 | F11: 455 | G11: 1820
A12: 22 | B12: 205 | C12: 熱海市 | D12: 246 | E12: 0 | F12: 0 | G12: 246
A13: 22 | B13: 206 | C13: 三島市 | D13: 888 | E13: 297 | F13: 286 | G13: 591
A14: 22 | B14: 207 | C14: 富士宮市 | D14: 2780 | E14: 634 | F14: 592 | G14: 2150
A15: 22 | B15: 208 | C15: 伊東市 | D15: 575 | E15: 27 | F15: 24 | G15: 548
A16: 22 | B16: 209 | C16: 島田市 | D16: 3410 | E16: 737 | F16: 707 | G16: 2670
A17: 22 | B17: 210 | C17: 富士市 | D17: 2610 | E17: 699 | F17: 667 | G17: 1920
A18: 22 | B18: 211 | C18: 磐田市 | D18: 4700 | E18: 2380 | F18: 2330 | G18: 2320
A19: 22 | B19: 212 | C19: 焼津市 | D19: 927 | E19: 700 | F19: 676 | G19: 227
A20: 22 | B20: 213 | C20: 掛川市 | D20: 5550 | E20: 2210 | F20: 2120 | G20: 3340
... A49: 22 | B49: 503 | C49: 新居町 | D49: 129 | E49: 37 | F49: 35 | G49: 92
A51: 利用上の注意
A52: １ この市町村別データは、「作物統計調査」を実施する上で把握した地域における標本調査及び現地見積りの結果、
A53: 関係機関からの情報等をもとに都道府県計値の内訳として市町村別に作成した加工統計であり、作成するうえで
A54: 精度を設定しているものではない。
A55: なお、「作物統計調査」は都道府県計値を求めるために設計されている。
A56: ２ 市町村間の出作・入作を考慮していない（属地統計）。
A57: ３ 数値については、四捨五入しており、都道府県計値と市町村別の内訳の計が一致しないことがある。

Sheet 21
A1: 農林水産関係市町村別データ
A2: 平成21年産
A3: 耕地面積
A4: 静岡県
A5: 都道 | B5: 市町 | D5: 耕地面積 | E5: 田耕地面積 | G5: 畑耕地面積
A6: 府県 | B6: 村 | C6: 市町村名 | F6: 田本地面積
A7: ｺｰﾄﾞ | B7: ｺｰﾄﾞ
D8: ha | E8: ha | F8: ha | G8: ha
A9: 22 | B9: 100 | C9: 静岡市 | D9: 5630 | E9: 621 | F9: 595 | G9: 5010
A10: 22 | B10: 130 | C10: 浜松市 | D10: 13000 | E10: 2660 | F10: 2580 | G10: 10300
A11: 22 | B11: 203 | C11: 沼津市 | D11: 2280 | E11: 469 | F11: 449 | G11: 1810
A12: 22 | B12: 205 | C12: 熱海市 | D12: 244 | E12: 0 | F12: 0 | G12: 244
A13: 22 | B13: 206 | C13: 三島市 | D13: 882 | E13: 293 | F13: 282 | G13: 589
A14: 22 | B14: 207 | C14: 富士宮市 | D14: 2760 | E14: 631 | F14: 589 | G14: 2130
A15: 22 | B15: 208 | C15: 伊東市 | D15: 543 | E15: 27 | F15: 24 | G15: 516
A16: 22 | B16: 209 | C16: 島田市 | D16: 3390 | E16: 728 | F16: 698 | G16: 2670
A17: 22 | B17: 210 | C17: 富士市 | D17: 2760 | E17: 739 | F17: 706 | G17: 2020
A18: 22 | B18: 211 | C18: 磐田市 | D18: 4670 | E18: 2370 | F18: 2310 | G18: 2310
A19: 22 | B19: 212 | C19: 焼津市 | D19: 1610 | E19: 1310 | F19: 1260 | G19: 303
A20: 22 | B20: 213 | C20: 掛川市 | D20: 5490 | E20: 2200 | F20: 2110 | G20: 3300
... A45: 22 | B45: 503 | C45: 新居町 | D45: 124 | E45: 37 | F45: 35 | G45: 87
A47: 利用上の注意
A48: １ この市町村別データは、「作物統計調査」を実施する上で把握した地域における標本調査及び現地見積りの結果、
A49: 関係機関からの情報等をもとに都道府県計値の内訳として市町村別に作成した加工統計であり、作成するうえで
A50: 精度を設定しているものではない。
A51: なお、「作物統計調査」は都道府県計値を求めるために設計されている。
A52: ２ 市町村間の出作・入作を考慮していない（属地統計）。
A53: ３ 数値については、四捨五入しており、都道府県計値と市町村別の内訳の計が一致しないことがある。

Sheet 22
A1: 農林水産関係市町村別統計
A2: 平成22年
A3: 耕地面積
A4: 静岡県
A5: 都道 | B5: 市町 | D5: 耕地面積 | E5: 田耕地面積 | G5: 畑耕地面積
A6: 府県 | B6: 村 | C6: 市町村名 | F6: 田本地面積
A7: ｺｰﾄﾞ | B7: ｺｰﾄﾞ
D8: ha | E8: ha | F8: ha | G8: ha
A9: 22 | B9: 100 | C9: 静岡市 | D9: 5500 | E9: 616 | F9: 590 | G9: 4890
A10: 22 | B10: 130 | C10: 浜松市 | D10: 12900 | E10: 2640 | F10: 2560 | G10: 10200
A11: 22 | B11: 203 | C11: 沼津市 | D11: 2270 | E11: 465 | F11: 446 | G11: 1800
A12: 22 | B12: 205 | C12: 熱海市 | D12: 243 | E12: 0 | F12: 0 | G12: 243
A13: 22 | B13: 206 | C13: 三島市 | D13: 878 | E13: 290 | F13: 279 | G13: 588
A14: 22 | B14: 207 | C14: 富士宮市 | D14: 3290 | E14: 912 | F14: 848 | G14: 2380
A15: 22 | B15: 208 | C15: 伊東市 | D15: 538 | E15: 27 | F15: 24 | G15: 511
A16: 22 | B16: 209 | C16: 島田市 | D16: 3350 | E16: 723 | F16: 693 | G16: 2630
A17: 22 | B17: 210 | C17: 富士市 | D17: 2740 | E17: 726 | F17: 693 | G17: 2010
A18: 22 | B18: 211 | C18: 磐田市 | D18: 4650 | E18: 2360 | F18: 2300 | G18: 2290
A19: 22 | B19: 212 | C19: 焼津市 | D19: 1600 | E19: 1300 | F19: 1260 | G19: 302
A20: 22 | B20: 213 | C20: 掛川市 | D20: 5460 | E20: 2180 | F20: 2090 | G20: 3280
... A43: 22 | B43: 461 | C43: 森町 | D43: 1190 | E43: 597 | F43: 573 | G43: 597
A45: 利用上の注意
A46: １ この市町村別統計は、「作物統計調査」を実施する上で把握した地域における標本調査及び現地見積りの結果、
A47: 関係機関からの情報等を踏まえ、都道府県計値の内訳として市町村別に作成した加工統計であり、作成するうえで
A48: 精度を設定しているものではない。
A49: なお、「作物統計調査」は都道府県計値を求めるために設計されている。
A50: ２ 耕作者の市町村間の出作・入作を考慮していない（属地統計）。
A51: ３ 数値は四捨五入しており、市町村値の計が都道府県値と一致しないことがある。

Sheet 23
A1: 農林水産関係市町村別統計
A2: 平成23年
A3: 耕地面積
A4: 静岡県
A5: 都道 | B5: 市町 | D5: 耕地面積 | E5: 田耕地面積 | G5: 畑耕地面積
A6: 府県 | B6: 村 | C6: 市町村名 | F6: 田本地面積
A7: ｺｰﾄﾞ | B7: ｺｰﾄﾞ
D8: ha | E8: ha | F8: ha | G8: ha
A9: 22 | B9: 100 | C9: 静岡市 | D9: 5390 | E9: 610 | F9: 584 | G9: 4780
A10: 22 | B10: 130 | C10: 浜松市 | D10: 12800 | E10: 2630 | F10: 2550 | G10: 10200
A11: 22 | B11: 203 | C11: 沼津市 | D11: 2230 | E11: 460 | F11: 442 | G11: 1770
A12: 22 | B12: 205 | C12: 熱海市 | D12: 232 | E12: 0 | F12: 0 | G12: 232
A13: 22 | B13: 206 | C13: 三島市 | D13: 872 | E13: 287 | F13: 276 | G13: 585
A14: 22 | B14: 207 | C14: 富士宮市 | D14: 3270 | E14: 909 | F14: 845 | G14: 2360
A15: 22 | B15: 208 | C15: 伊東市 | D15: 508 | E15: 27 | F15: 24 | G15: 481
A16: 22 | B16: 209 | C16: 島田市 | D16: 3330 | E16: 717 | F16: 688 | G16: 2610
A17: 22 | B17: 210 | C17: 富士市 | D17: 2720 | E17: 717 | F17: 684 | G17: 2000
A18: 22 | B18: 211 | C18: 磐田市 | D18: 4630 | E18: 2350 | F18: 2290 | G18: 2290
A19: 22 | B19: 212 | C19: 焼津市 | D19: 1590 | E19: 1300 | F19: 1250 | G19: 295
A20: 22 | B20: 213 | C20: 掛川市 | D20: 5410 | E20: 2170 | F20: 2090 | G20: 3230
... A43: 22 | B43: 461 | C43: 森町 | D43: 1190 | E43: 597 | F43: 573 | G43: 592
C45: 計 | D45: 70200 | E45: 23300 | F45: 22300 | G45: 46900
A47: 利用上の注意
A48: １ この市町村別統計は、「作物統計調査」を実施する上で把握した地域における標本調査及び現地見積りの結果、
A49: 関係機関からの情報等を踏まえ、都道府県計値の内訳として市町村別に作成した加工統計であり、作成するうえで
A50: 精度を設定しているものではない。
A51: なお、「作物統計調査」は都道府県計値を求めるために設計されている。
A52: ２ 耕作者の市町村間の出作・入作を考慮していない（属地統計）。
A53: ３ 数値は四捨五入しており、市町村値の計が都道府県値と一致しないことがある。

Sheet 24
A1: 農林水産関係市町村別統計
A2: 平成24年
A3: 耕地面積
A4: 静岡県
A5: 都道 | B5: 市町 | D5: 耕地面積 | E5: 田耕地面積 | G5: 畑耕地面積
A6: 府県 | B6: 村 | C6: 市町村名 | F6: 田本地面積
A7: ｺｰﾄﾞ | B7: ｺｰﾄﾞ
D8: ha | E8: ha | F8: ha | G8: ha
A9: 22 | B9: 100 | C9: 静岡市 | D9: 5300 | E9: 602 | F9: 576 | G9: 4700
A10: 22 | B10: 130 | C10: 浜松市 | D10: 12800 | E10: 2620 | F10: 2540 | G10: 10200
A11: 22 | B11: 203 | C11: 沼津市 | D11: 2210 | E11: 457 | F11: 439 | G11: 1750
A12: 22 | B12: 205 | C12: 熱海市 | D12: 212 | E12: - | F12: - | G12: 212
A13: 22 | B13: 206 | C13: 三島市 | D13: 865 | E13: 283 | F13: 272 | G13: 582
A14: 22 | B14: 207 | C14: 富士宮市 | D14: 3250 | E14: 906 | F14: 842 | G14: 2350
A15: 22 | B15: 208 | C15: 伊東市 | D15: 461 | E15: 25 | F15: 23 | G15: 436
A16: 22 | B16: 209 | C16: 島田市 | D16: 3290 | E16: 709 | F16: 680 | G16: 2580
A17: 22 | B17: 210 | C17: 富士市 | D17: 2690 | E17: 707 | F17: 674 | G17: 1990
A18: 22 | B18: 211 | C18: 磐田市 | D18: 4620 | E18: 2340 | F18: 2290 | G18: 2280
A19: 22 | B19: 212 | C19: 焼津市 | D19: 1580 | E19: 1290 | F19: 1250 | G19: 288
A20: 22 | B20: 213 | C20: 掛川市 | D20: 5380 | E20: 2170 | F20: 2080 | G20: 3210
A21: 22 | B21: 214 | C21: 藤枝市 | D21: 2890 | E21: 981 | F21: 945 | G21: 1910
A22: 22 | B22: 215 | C22: 御殿場市 | D22: 1950 | E22: 1360 | F22: 1260 | G22: 587
A23: 22 | B23: 216 | C23: 袋井市 | D23: 3430 | E23: 2340 | F23: 2280 | G23: 1080
A24: 22 | B24: 219 | C24: 下田市 | D24: 280 | E24: 113 | F24: 103 | G24: 167
... A43: 22 | B43: 461 | C43: 森町 | D43: 1190 | E43: 596 | F43: 572 | G43: 591
C45: 計 | D45: 69700 | E45: 23200 | F45: 22200 | G45: 46500
A47: 利用上の注意
A48: １ この市町村別統計は、「作物統計調査」を実施する上で把握した地域における標本調査及び現地見積りの結果、
A49: 関係機関からの情報等を踏まえ、都道府県計値の内訳として市町村別に作成した加工統計であり、作成する上で
A50: 精度を設定しているものではない。
A51: なお、「作物統計調査」は都道府県計値を求めるために設計されている。
A52: ２ 耕作者の市町村間の出作・入作を考慮していない（属地統計）。
A53: ３ 数値は四捨五入しており、市町村値の計が都道府県値と一致しないことがある。

Sheet 25
A1: 農林水産関係市町村別統計
A2: 平成25年
A3: 耕地面積
A4: 静岡県
A5: 都道 | B5: 市町 | D5: 耕地面積 | E5: 田耕地面積 | G5: 畑耕地面積
A6: 府県 | B6: 村 | C6: 市町村名 | F6: 田本地面積
A7: ｺｰﾄﾞ | B7: ｺｰﾄﾞ
D8: ha | E8: ha | F8: ha | G8: ha
A9: 22 | B9: 100 | C9: 静岡市 | D9: 5260 | E9: 593 | F9: 567 | G9: 4670
A10: 22 | B10: 130 | C10: 浜松市 | D10: 12700 | E10: 2610 | F10: 2540 | G10: 10100
A11: 22 | B11: 203 | C11: 沼津市 | D11: 2190 | E11: 451 | F11: 433 | G11: 1740
A12: 22 | B12: 205 | C12: 熱海市 | D12: 204 | E12: 0 | F12: 0 | G12: 204
A13: 22 | B13: 206 | C13: 三島市 | D13: 858 | E13: 280 | F13: 269 | G13: 578
A14: 22 | B14: 207 | C14: 富士宮市 | D14: 3230 | E14: 899 | F14: 835 | G14: 2330
A15: 22 | B15: 208 | C15: 伊東市 | D15: 440 | E15: 24 | F15: 22 | G15: 416
A16: 22 | B16: 209 | C16: 島田市 | D16: 3280 | E16: 702 | F16: 673 | G16: 2580
A17: 22 | B17: 210 | C17: 富士市 | D17: 2650 | E17: 692 | F17: 659 | G17: 1960
A18: 22 | B18: 211 | C18: 磐田市 | D18: 4590 | E18: 2350 | F18: 2290 | G18: 2250
A19: 22 | B19: 212 | C19: 焼津市 | D19: 1570 | E19: 1280 | F19: 1240 | G19: 288
A20: 22 | B20: 213 | C20: 掛川市 | D20: 5350 | E20: 2150 | F20: 2070 | G20: 3200
... A43: 22 | B43: 461 | C43: 森町 | D43: 1190 | E43: 594 | F43: 570 | G43: 591
C45: 計 | D45: 69200 | E45: 23000 | F45: 22000 | G45: 46100
A47: 利用上の注意
A48: １ この市町村別統計は、「作物統計調査」を実施する上で把握した地域における標本調査及び現地見積りの結果、
A49: 関係機関からの情報等を踏まえ、都道府県計値の内訳として市町村別に作成した加工統計であり、作成するうえで
A50: 精度を設定しているものではない。
A51: なお、「作物統計調査」は都道府県計値を求めるために設計されている。
A52: ２ 耕作者の市町村間の出作・入作を考慮していない（属地統計）。
A53: ３ 数値は四捨五入しており、市町村値の計が都道府県値と一致しないことがある。

Sheet 26
A1: 農林水産関係市町村別統計
A2: 平成26年
A3: 耕地面積
A4: 静岡県
A5: 都道 | B5: 市町 | D5: 耕地面積 | E5: 田耕地面積 | G5: 畑耕地面積
A6: 府県 | B6: 村 | C6: 市町村名 | F6: 田本地面積
A7: ｺｰﾄﾞ | B7: ｺｰﾄﾞ
D8: ha | E8: ha | F8: ha | G8: ha
A9: 22 | B9: 100 | C9: 静岡市 | D9: 5200 | E9: 590 | F9: 565 | G9: 4610
A10: 22 | B10: 130 | C10: 浜松市 | D10: 12600 | E10: 2610 | F10: 2530 | G10: 10000
A11: 22 | B11: 203 | C11: 沼津市 | D11: 2170 | E11: 446 | F11: 428 | G11: 1720
A12: 22 | B12: 205 | C12: 熱海市 | D12: 202 | E12: 0 | F12: 0 | G12: 202
A13: 22 | B13: 206 | C13: 三島市 | D13: 845 | E13: 277 | F13: 266 | G13: 568
A14: 22 | B14: 207 | C14: 富士宮市 | D14: 3190 | E14: 891 | F14: 828 | G14: 2300
A15: 22 | B15: 208 | C15: 伊東市 | D15: 432 | E15: 24 | F15: 22 | G15: 408
A16: 22 | B16: 209 | C16: 島田市 | D16: 3260 | E16: 694 | F16: 665 | G16: 2570
A17: 22 | B17: 210 | C17: 富士市 | D17: 2620 | E17: 678 | F17: 645 | G17: 1940
A18: 22 | B18: 211 | C18: 磐田市 | D18: 4570 | E18: 2340 | F18: 2280 | G18: 2230
A19: 22 | B19: 212 | C19: 焼津市 | D19: 1560 | E19: 1270 | F19: 1230 | G19: 286
A20: 22 | B20: 213 | C20: 掛川市 | D20: 5320 | E20: 2140 | F20: 2050 | G20: 3180
... A43: 22 | B43: 461 | C43: 森町 | D43: 1170 | E43: 592 | F43: 568 | G43: 581
C45: 計 | D45: 68500 | E45: 22900 | F45: 21900 | G45: 45700
A47: 利用上の注意
A48: １ この市町村別統計は、「作物統計調査」を実施する上で把握した地域における標本調査及び現地見積りの結果、
A49: 関係機関からの情報等を踏まえ、都道府県計値の内訳として市町村別に作成した加工統計であり、作成する上で
A50: 精度を設定しているものではない。
A51: なお、「作物統計調査」は都道府県計値を求めるために設計されている。
A52: ２ 耕作者の市町村間の出作・入作を考慮していない（属地統計）。
A53: ３ 数値は四捨五入しており、市町村値の計が都道府県値と一致しないことがある。

Sheet 27
A1: 農林水産関係市町村別統計
A2: 平成27年
A3: 耕地面積
A4: 静岡県
A5: 都道 | B5: 市町 | D5: 耕地面積 | E5: 田耕地面積 | G5: 畑耕地面積
A6: 府県 | B6: 村 | C6: 市町村名 | F6: 田本地面積
A7: ｺｰﾄﾞ | B7: ｺｰﾄﾞ
D8: ha | E8: ha | F8: ha | G8: ha
A9: 22 | B9: 100 | C9: 静岡市 | D9: 5130 | E9: 578 | F9: 553 | G9: 4550
A10: 22 | B10: 130 | C10: 浜松市 | D10: 12600 | E10: 2600 | F10: 2520 | G10: 9990
A11: 22 | B11: 203 | C11: 沼津市 | D11: 2130 | E11: 443 | F11: 425 | G11: 1680
A12: 22 | B12: 205 | C12: 熱海市 | D12: 197 | E12: 0 | F12: 0 | G12: 197
A13: 22 | B13: 206 | C13: 三島市 | D13: 839 | E13: 273 | F13: 262 | G13: 566
A14: 22 | B14: 207 | C14: 富士宮市 | D14: 3170 | E14: 886 | F14: 825 | G14: 2280
A15: 22 | B15: 208 | C15: 伊東市 | D15: 429 | E15: 24 | F15: 22 | G15: 405
A16: 22 | B16: 209 | C16: 島田市 | D16: 3240 | E16: 687 | F16: 658 | G16: 2550
A17: 22 | B17: 210 | C17: 富士市 | D17: 2580 | E17: 671 | F17: 638 | G17: 1910
A18: 22 | B18: 211 | C18: 磐田市 | D18: 4550 | E18: 2330 | F18: 2280 | G18: 2210
A19: 22 | B19: 212 | C19: 焼津市 | D19: 1540 | E19: 1270 | F19: 1220 | G19: 271
A20: 22 | B20: 213 | C20: 掛川市 | D20: 5290 | E20: 2130 | F20: 2040 | G20: 3170
... A43: 22 | B43: 461 | C43: 森町 | D43: 1170 | E43: 591 | F43: 567 | G43: 580
C45: 計 | D45: 67900 | E45: 22700 | F45: 21700 | G45: 45200
A47: 利用上の注意
A48: １ この市町村別統計は、「作物統計調査」を実施する上で把握した地域における標本調査及び現地見積りの結果、
A49: 関係機関からの情報等を踏まえ、都道府県計値の内訳として市町村別に作成した加工統計であり、作成するうえで
A50: 精度を設定しているものではない。
A51: なお、「作物統計調査」は都道府県計値を求めるために設計されている。
A52: ２ 耕作者の市町村間の出作・入作を考慮していない（属地統計）。
A53: ３ 数値は四捨五入しており、市町村値の計が都道府県値と一致しないことがある。

Sheet 28
A1: 農林水産関係市町村別統計
A2: 平成28年
A3: 耕地面積
A4: 静岡県
A5: 都道 | B5: 市町 | D5: 耕地面積 | E5: 田耕地面積 | G5: 畑耕地面積
A6: 府県 | B6: 村 | C6: 市町村名 | F6: 田本地面積
A7: ｺｰﾄﾞ | B7: ｺｰﾄﾞ
D8: ha | E8: ha | F8: ha | G8: ha
A9: 22 | B9: 100 | C9: 静岡市 | D9: 5030 | E9: 568 | F9: 543 | G9: 4470
A10: 22 | B10: 130 | C10: 浜松市 | D10: 12500 | E10: 2590 | F10: 2510 | G10: 9890
A11: 22 | B11: 203 | C11: 沼津市 | D11: 2090 | E11: 440 | F11: 422 | G11: 1650
A12: 22 | B12: 205 | C12: 熱海市 | D12: 191 | E12: 0 | F12: 0 | G12: 191
A13: 22 | B13: 206 | C13: 三島市 | D13: 831 | E13: 269 | F13: 258 | G13: 562
A14: 22 | B14: 207 | C14: 富士宮市 | D14: 3150 | E14: 880 | F14: 820 | G14: 2270
A15: 22 | B15: 208 | C15: 伊東市 | D15: 421 | E15: 23 | F15: 21 | G15: 398
A16: 22 | B16: 209 | C16: 島田市 | D16: 3230 | E16: 677 | F16: 648 | G16: 2550
A17: 22 | B17: 210 | C17: 富士市 | D17: 2540 | E17: 657 | F17: 625 | G17: 1890
A18: 22 | B18: 211 | C18: 磐田市 | D18: 4500 | E18: 2330 | F18: 2280 | G18: 2170
A19: 22 | B19: 212 | C19: 焼津市 | D19: 1520 | E19: 1250 | F19: 1210 | G19: 266
A20: 22 | B20: 213 | C20: 掛川市 | D20: 5250 | E20: 2120 | F20: 2030 | G20: 3130
... A43: 22 | B43: 461 | C43: 森町 | D43: 1170 | E43: 590 | F43: 566 | G43: 575
C45: 計 | D45: 67100 | E45: 22500 | F45: 21500 | G45: 44600
A47: 利用上の注意
A48: １ この市町村別統計は、「作物統計調査」を実施する上で把握した地域における標本調査及び現地見積りの結果、
A49: 関係機関からの情報等を踏まえ、都道府県計値の内訳として市町村別に作成した加工統計であり、作成するうえで
A50: 精度を設定しているものではない。
A51: なお、「作物統計調査」は都道府県計値を求めるために設計されている。
A52: ２ 耕作者の市町村間の出作・入作を考慮していない（属地統計）。
A53: ３ 数値は四捨五入しており、市町村値の計が都道府県値と一致しないことがある。

Sheet 29
A1: 農林水産関係市町村別統計
A2: 平成29年
A3: 耕地面積
A4: 静岡県
A5: 都道 | B5: 市町 | D5: 耕地面積 | E5: 田耕地面積 | G5: 畑耕地面積
A6: 府県 | B6: 村 | C6: 市町村名 | F6: 田本地面積
A7: ｺｰﾄﾞ | B7: ｺｰﾄﾞ
D8: ha | E8: ha | F8: ha | G8: ha
A9: 22 | B9: 100 | C9: 静岡市 | D9: 4980 | E9: 558 | F9: 534 | G9: 4420
A10: 22 | B10: 130 | C10: 浜松市 | D10: 12400 | E10: 2590 | F10: 2510 | G10: 9760
A11: 22 | B11: 203 | C11: 沼津市 | D11: 2060 | E11: 435 | F11: 417 | G11: 1630
A12: 22 | B12: 205 | C12: 熱海市 | D12: 180 | E12: 0 | F12: 0 | G12: 180
A13: 22 | B13: 206 | C13: 三島市 | D13: 827 | E13: 267 | F13: 256 | G13: 560
A14: 22 | B14: 207 | C14: 富士宮市 | D14: 3120 | E14: 872 | F14: 813 | G14: 2250
A15: 22 | B15: 208 | C15: 伊東市 | D15: 417 | E15: 23 | F15: 21 | G15: 394
A16: 22 | B16: 209 | C16: 島田市 | D16: 3200 | E16: 669 | F16: 641 | G16: 2530
A17: 22 | B17: 210 | C17: 富士市 | D17: 2510 | E17: 648 | F17: 617 | G17: 1860
A18: 22 | B18: 211 | C18: 磐田市 | D18: 4460 | E18: 2330 | F18: 2280 | G18: 2130
A19: 22 | B19: 212 | C19: 焼津市 | D19: 1500 | E19: 1240 | F19: 1200 | G19: 263
A20: 22 | B20: 213 | C20: 掛川市 | D20: 5220 | E20: 2120 | F20: 2030 | G20: 3100
... A43: 22 | B43: 461 | C43: 森町 | D43: 1140 | E43: 587 | F43: 563 | G43: 556
C45: 計 | D45: 66400 | E45: 22400 | F45: 21400 | G45: 44000
A47: 利用上の注意
A48: １ この市町村別統計は、「作物統計調査」を実施する上で把握した地域における標本調査及び現地見積りの結果、
A49: 関係機関からの情報等を踏まえ、都道府県計値の内訳として市町村別に作成した加工統計であり、作成するうえで
A50: 精度を設定しているものではない。
A51: なお、「作物統計調査」は都道府県計値を求めるために設計されている。
A52: ２ 耕作者の市町村間の出作・入作を考慮していない（属地統計）。
A53: ３ 数値は四捨五入しており、市町村値の計が都道府県値と一致しないことがある。

Sheet 30
A1: 農林水産関係市町村別統計
A2: 平成30年
A3: 耕地面積
A4: 静岡県
A5: 都道 | B5: 市町 | D5: 耕地面積 | E5: 田耕地面積 | G5: 畑耕地面積
A6: 府県 | B6: 村 | C6: 市町村名 | F6: 田本地面積
A7: ｺｰﾄﾞ | B7: ｺｰﾄﾞ
D8: ha | E8: ha | F8: ha | G8: ha
A9: 22 | B9: 100 | C9: 静岡市 | D9: 4800 | E9: 547 | F9: 523 | G9: 4250
A10: 22 | B10: 130 | C10: 浜松市 | D10: 12200 | E10: 2570 | F10: 2490 | G10: 9640
A11: 22 | B11: 203 | C11: 沼津市 | D11: 2030 | E11: 418 | F11: 401 | G11: 1610
A12: 22 | B12: 205 | C12: 熱海市 | D12: 176 | E12: 0 | F12: 0 | G12: 176
A13: 22 | B13: 206 | C13: 三島市 | D13: 820 | E13: 265 | F13: 254 | G13: 555
A14: 22 | B14: 207 | C14: 富士宮市 | D14: 3080 | E14: 861 | F14: 803 | G14: 2220
A15: 22 | B15: 208 | C15: 伊東市 | D15: 408 | E15: 23 | F15: 21 | G15: 385
A16: 22 | B16: 209 | C16: 島田市 | D16: 3180 | E16: 661 | F16: 633 | G16: 2520
A17: 22 | B17: 210 | C17: 富士市 | D17: 2470 | E17: 637 | F17: 607 | G17: 1830
A18: 22 | B18: 211 | C18: 磐田市 | D18: 4440 | E18: 2330 | F18: 2270 | G18: 2120
A19: 22 | B19: 212 | C19: 焼津市 | D19: 1470 | E19: 1230 | F19: 1190 | G19: 238
A20: 22 | B20: 213 | C20: 掛川市 | D20: 5130 | E20: 2090 | F20: 2000 | G20: 3040
... A43: 22 | B43: 461 | C43: 森町 | D43: 1130 | E43: 584 | F43: 560 | G43: 544
C45: 計 | D45: 65300 | E45: 22200 | F45: 21200 | G45: 43100
A47: 利用上の注意
A48: １ この市町村別統計は、「作物統計調査」を実施する上で把握した地域における標本調査及び現地見積りの結果、
A49: 関係機関からの情報等を踏まえ、都道府県計値の内訳として市町村別に作成した加工統計であり、作成するうえで
A50: 精度を設定しているものではない。
A51: なお、「作物統計調査」は都道府県計値を求めるために設計されている。
A52: ２ 耕作者の市町村間の出作・入作を考慮していない（属地統計）。
A53: ３ 数値は四捨五入しており、市町村値の計が都道府県値と一致しないことがある。

Sheet R1
A1: 農林水産関係市町村別統計
A2: 令和元年
A3: 耕地面積
A4: 静岡県
A5: 都道 | B5: 市町 | D5: 耕地面積 | E5: 田耕地面積 | G5: 畑耕地面積
A6: 府県 | B6: 村 | C6: 市町村名 | F6: 田本地面積
A7: ｺｰﾄﾞ | B7: ｺｰﾄﾞ
D8: ha | E8: ha | F8: ha | G8: ha
A9: 22 | B9: 100 | C9: 静岡市 | D9: 4710 | E9: 536 | F9: 512 | G9: 4180
A10: 22 | B10: 130 | C10: 浜松市 | D10: 12100 | E10: 2550 | F10: 2460 | G10: 9520
A11: 22 | B11: 203 | C11: 沼津市 | D11: 1980 | E11: 407 | F11: 390 | G11: 1570
A12: 22 | B12: 205 | C12: 熱海市 | D12: 169 | E12: 0 | F12: 0 | G12: 169
A13: 22 | B13: 206 | C13: 三島市 | D13: 802 | E13: 262 | F13: 251 | G13: 540
A14: 22 | B14: 207 | C14: 富士宮市 | D14: 3040 | E14: 853 | F14: 796 | G14: 2190
A15: 22 | B15: 208 | C15: 伊東市 | D15: 402 | E15: 23 | F15: 21 | G15: 379
A16: 22 | B16: 209 | C16: 島田市 | D16: 3120 | E16: 656 | F16: 628 | G16: 2460
A17: 22 | B17: 210 | C17: 富士市 | D17: 2410 | E17: 621 | F17: 592 | G17: 1790
A18: 22 | B18: 211 | C18: 磐田市 | D18: 4400 | E18: 2320 | F18: 2260 | G18: 2080
A19: 22 | B19: 212 | C19: 焼津市 | D19: 1460 | E19: 1230 | F19: 1180 | G19: 230
A20: 22 | B20: 213 | C20: 掛川市 | D20: 5060 | E20: 2080 | F20: 1990 | G20: 2980
... A43: 22 | B43: 461 | C43: 森町 | D43: 1080 | E43: 583 | F43: 559 | G43: 495
C45: 計 | D45: 64100 | E45: 21900 | F45: 21000 | G45: 42200
A47: 利用上の注意
A48: １ この市町村別統計は、「作物統計調査」を実施する上で把握した地域における標本調査及び現地見積りの結果、
A49: 関係機関からの情報等を踏まえ、都道府県計値の内訳として市町村別に作成した加工統計であり、作成するうえで
A50: 精度を設定しているものではない。
A51: なお、「作物統計調査」は都道府県計値を求めるために設計されている。
A52: ２ 耕作者の市町村間の出作・入作を考慮していない（属地統計）。
A53: ３ 数値は四捨五入しており、市町村値の計が都道府県値と一致しないことがある。

Sheet R2
A1: 農林水産関係市町村別統計
A2: 令和2年
A3: 耕地面積
A4: 静岡県
A5: 都道 | B5: 市町 | D5: 耕地面積 | E5: 田耕地面積 | G5: 畑耕地面積
A6: 府県 | B6: 村 | C6: 市町村名 | F6: 田本地面積
A7: ｺｰﾄﾞ | B7: ｺｰﾄﾞ
D8: ha | E8: ha | F8: ha | G8: ha
A9: 22 | B9: 100 | C9: 静岡市 | D9: 4580 | E9: 529 | F9: 506 | G9: 4050
A10: 22 | B10: 130 | C10: 浜松市 | D10: 12000 | E10: 2520 | F10: 2440 | G10: 9450
A11: 22 | B11: 203 | C11: 沼津市 | D11: 1940 | E11: 397 | F11: 381 | G11: 1540
A12: 22 | B12: 205 | C12: 熱海市 | D12: 162 | E12: 0 | F12: 0 | G12: 162
A13: 22 | B13: 206 | C13: 三島市 | D13: 790 | E13: 260 | F13: 249 | G13: 530
A14: 22 | B14: 207 | C14: 富士宮市 | D14: 3020 | E14: 846 | F14: 789 | G14: 2170
A15: 22 | B15: 208 | C15: 伊東市 | D15: 394 | E15: 23 | F15: 21 | G15: 371
A16: 22 | B16: 209 | C16: 島田市 | D16: 3020 | E16: 639 | F16: 613 | G16: 2380
A17: 22 | B17: 210 | C17: 富士市 | D17: 2380 | E17: 607 | F17: 578 | G17: 1770
A18: 22 | B18: 211 | C18: 磐田市 | D18: 4380 | E18: 2310 | F18: 2260 | G18: 2070
A19: 22 | B19: 212 | C19: 焼津市 | D19: 1450 | E19: 1220 | F19: 1180 | G19: 230
A20: 22 | B20: 213 | C20: 掛川市 | D20: 4850 | E20: 2060 | F20: 1970 | G20: 2790
... A43: 22 | B43: 461 | C43: 森町 | D43: 1030 | E43: 581 | F43: 557 | G43: 452
C45: 計 | D45: 62800 | E45: 21700 | F45: 20800 | G45: 41100
A47: 利用上の注意
A48: １ この市町村別統計は、「作物統計調査」を実施する上で把握した地域における標本調査及び現地見積りの結果、
A49: 関係機関からの情報等を踏まえ、都道府県計値の内訳として市町村別に作成した加工統計であり、作成するうえで
A50: 精度を設定しているものではない。
A51: なお、「作物統計調査」は都道府県計値を求めるために設計されている。
A52: ２ 耕作者の市町村間の出作・入作を考慮していない（属地統計）。
A53: ３ 数値は四捨五入しており、市町村値の計が都道府県値と一致しないことがある。

Sheet R3
A1: 農林水産関係市町村別統計
A2: 令和3年
A3: 耕地面積
A4: 静岡県
A5: 都道 | B5: 市町 | C5: 市町村名 | D5: 耕地面積 | E5: 田耕地面積 | G5: 畑耕地面積
A6: 府県 | B6: 村 | F6: 田本地面積
A7: ｺｰﾄﾞ | B7: ｺｰﾄﾞ
D8: ha | E8: ha | F8: ha | G8: ha
A9: 22 | B9: 100 | C9: 静岡市 | D9: 4450 | E9: 524 | F9: 501 | G9: 3930
A10: 22 | B10: 130 | C10: 浜松市 | D10: 11900 | E10: 2510 | F10: 2420 | G10: 9350
A11: 22 | B11: 203 | C11: 沼津市 | D11: 1910 | E11: 389 | F11: 373 | G11: 1520
A12: 22 | B12: 205 | C12: 熱海市 | D12: 150 | E12: 0 | F12: 0 | G12: 150
A13: 22 | B13: 206 | C13: 三島市 | D13: 773 | E13: 255 | F13: 245 | G13: 518
A14: 22 | B14: 207 | C14: 富士宮市 | D14: 2980 | E14: 841 | F14: 785 | G14: 2130
A15: 22 | B15: 208 | C15: 伊東市 | D15: 383 | E15: 23 | F15: 21 | G15: 360
A16: 22 | B16: 209 | C16: 島田市 | D16: 2930 | E16: 628 | F16: 601 | G16: 2300
A17: 22 | B17: 210 | C17: 富士市 | D17: 2330 | E17: 593 | F17: 565 | G17: 1740
A18: 22 | B18: 211 | C18: 磐田市 | D18: 4320 | E18: 2300 | F18: 2250 | G18: 2020
A19: 22 | B19: 212 | C19: 焼津市 | D19: 1430 | E19: 1210 | F19: 1170 | G19: 222
A20: 22 | B20: 213 | C20: 掛川市 | D20: 4680 | E20: 2050 | F20: 1960 | G20: 2630
... A43: 22 | B43: 461 | C43: 森町 | D43: 990 | E43: 579 | F43: 555 | G43: 411
C45: 計 | D45: 61500 | E45: 21500 | F45: 20600 | G45: 40000
A47: 利用上の注意
A48: １ この市町村別統計は、「作物統計調査」を実施する上で把握した地域における標本調査、現地見積りの結果、関係機関
A49: からの情報等を踏まえ、都道府県計値の内訳として市町村別に配分することにより作成した加工統計であり、市町村別の
A50: 値を目的として設計された調査に基づいて直接得られたものではない。
A51: なお、「作物統計調査」は、都道府県計値を求めるために目標精度を設定し、調査の設計がされている。
A52: ２ 面積は、耕地の存在する市町村に計上しており（属地統計）、耕作者の市町村間の出作・入作を考慮していない。
A53: ３ 数値は四捨五入しており、市町村値の計が都道府県値と一致しないことがある。

Sheet R4
A1: 農林水産関係市町村別統計
A2: 令和4年
A3: 耕地面積
A4: 静岡県
A5: 都道 | B5: 市町 | C5: 市町村名 | D5: 耕地面積 | E5: 田耕地面積 | G5: 畑耕地面積
A6: 府県 | B6: 村 | F6: 田本地面積
A7: ｺｰﾄﾞ | B7: ｺｰﾄﾞ
D8: ha | E8: ha | F8: ha | G8: ha
A9: 22 | B9: 100 | C9: 静岡市 | D9: 4250 | E9: 517 | F9: 494 | G9: 3730
A10: 22 | B10: 130 | C10: 浜松市 | D10: 11700 | E10: 2490 | F10: 2410 | G10: 9260
A11: 22 | B11: 203 | C11: 沼津市 | D11: 1890 | E11: 387 | F11: 371 | G11: 1510
A12: 22 | B12: 205 | C12: 熱海市 | D12: 142 | E12: 0 | F12: 0 | G12: 142
A13: 22 | B13: 206 | C13: 三島市 | D13: 769 | E13: 254 | F13: 244 | G13: 515
A14: 22 | B14: 207 | C14: 富士宮市 | D14: 2950 | E14: 839 | F14: 783 | G14: 2120
A15: 22 | B15: 208 | C15: 伊東市 | D15: 377 | E15: 23 | F15: 21 | G15: 354
A16: 22 | B16: 209 | C16: 島田市 | D16: 2810 | E16: 621 | F16: 594 | G16: 2190
A17: 22 | B17: 210 | C17: 富士市 | D17: 2280 | E17: 586 | F17: 558 | G17: 1690
A18: 22 | B18: 211 | C18: 磐田市 | D18: 4280 | E18: 2300 | F18: 2250 | G18: 1980
A19: 22 | B19: 212 | C19: 焼津市 | D19: 1420 | E19: 1200 | F19: 1160 | G19: 218
A20: 22 | B20: 213 | C20: 掛川市 | D20: 4520 | E20: 2040 | F20: 1950 | G20: 2480
... A43: 22 | B43: 461 | C43: 森町 | D43: 949 | E43: 578 | F43: 554 | G43: 371
C45: 計 | D45: 60400 | E45: 21400 | F45: 20500 | G45: 39000
A47: 利用上の注意
A48: １ この市町村別統計は、「作物統計調査」を実施する上で把握した地域における標本調査、現地見積りの結果、関係機関
A49: からの情報等を踏まえ、都道府県計値の内訳として市町村別に配分することにより作成した加工統計であり、市町村別の
A50: 値を目的として設計された調査に基づいて直接得られたものではない。
A51: なお、「作物統計調査」は、都道府県計値を求めるために目標精度を設定し、調査の設計がされている。
A52: ２ 面積は、耕地の存在する市町村に計上しており（属地統計）、耕作者の市町村間の出作・入作を考慮していない。
A53: ３ 数値は四捨五入しており、市町村値の計が都道府県値と一致しないことがある。

Sheet R5
A1: 農林水産関係市町村別統計
A2: 令和5年
A3: 耕地面積
A4: 静岡県
A5: 都道府県ｺｰﾄﾞ | B5: 市町村 ｺｰﾄﾞ | C5: 市町村名 | D5: 耕地面積 | E5: 田耕地面積 | G5: 畑耕地面積
F6: 田本地面積
D8: ha | E8: ha | F8: ha | G8: ha
A9: 22 | B9: 100 | C9: 静岡市 | D9: 4090 | E9: 512 | F9: 489 | G9: 3580
A10: 22 | B10: 130 | C10: 浜松市 | D10: 11700 | E10: 2480 | F10: 2390 | G10: 9180
A11: 22 | B11: 203 | C11: 沼津市 | D11: 1880 | E11: 384 | F11: 368 | G11: 1500
A12: 22 | B12: 205 | C12: 熱海市 | D12: 140 | E12: 0 | F12: 0 | G12: 140
A13: 22 | B13: 206 | C13: 三島市 | D13: 761 | E13: 252 | F13: 242 | G13: 509
A14: 22 | B14: 207 | C14: 富士宮市 | D14: 2920 | E14: 833 | F14: 778 | G14: 2090
A15: 22 | B15: 208 | C15: 伊東市 | D15: 373 | E15: 22 | F15: 20 | G15: 351
A16: 22 | B16: 209 | C16: 島田市 | D16: 2720 | E16: 614 | F16: 587 | G16: 2110
A17: 22 | B17: 210 | C17: 富士市 | D17: 2240 | E17: 579 | F17: 551 | G17: 1660
A18: 22 | B18: 211 | C18: 磐田市 | D18: 4270 | E18: 2300 | F18: 2240 | G18: 1970
A19: 22 | B19: 212 | C19: 焼津市 | D19: 1410 | E19: 1190 | F19: 1150 | G19: 216
A20: 22 | B20: 213 | C20: 掛川市 | D20: 4390 | E20: 2020 | F20: 1930 | G20: 2370
... A43: 22 | B43: 461 | C43: 森町 | D43: 922 | E43: 577 | F43: 553 | G43: 345
C45: 計 | D45: 59400 | E45: 21300 | F45: 20400 | G45: 38100
A47: 利用上の注意
A48: １ この市町村別統計は、「作物統計調査」を実施する上で把握した地域における標本調査及び現地見積りの結果、関係機関
A49: からの情報等を踏まえ、都道府県計値の内訳として市町村別に配分することにより作成した加工統計であり、市町村別の値
A50: を目的として設計された調査に基づいて直接得られたものではない。
A51: なお、「作物統計調査」は、都道府県計値を求めるために目標精度を設定し、調査の設計がされている。
A52: ２ 面積は、耕地の存在する市町村に計上しており（属地統計）、耕作者の市町村間の出作・入作を考慮していない。
A53: ３ 数値は四捨五入しており、市町村値の計が都道府県値と一致しないことがある。

Sheet R6
A1: 農林水産関係市町村別統計
A2: 令和6年
A3: 耕地面積
A4: 静岡県
A5: 都道府県ｺｰﾄﾞ | B5: 市町村 ｺｰﾄﾞ | C5: 市町村名 | D5: 耕地面積 | E5: 田耕地面積 | G5: 畑耕地面積
F6: 田本地面積
D8: ha | E8: ha | F8: ha | G8: ha
A9: 22 | B9: 100 | C9: 静岡市 | D9: 3940 | E9: 499 | F9: 476 | G9: 3440
A10: 22 | B10: 130 | C10: 浜松市 | D10: 11500 | E10: 2460 | F10: 2370 | G10: 9090
A11: 22 | B11: 203 | C11: 沼津市 | D11: 1850 | E11: 383 | F11: 367 | G11: 1470
A12: 22 | B12: 205 | C12: 熱海市 | D12: 135 | E12: 0 | F12: 0 | G12: 135
A13: 22 | B13: 206 | C13: 三島市 | D13: 749 | E13: 249 | F13: 239 | G13: 500
A14: 22 | B14: 207 | C14: 富士宮市 | D14: 2880 | E14: 824 | F14: 770 | G14: 2060
A15: 22 | B15: 208 | C15: 伊東市 | D15: 362 | E15: 21 | F15: 19 | G15: 341
A16: 22 | B16: 209 | C16: 島田市 | D16: 2640 | E16: 610 | F16: 583 | G16: 2030
A17: 22 | B17: 210 | C17: 富士市 | D17: 2170 | E17: 575 | F17: 547 | G17: 1590
A18: 22 | B18: 211 | C18: 磐田市 | D18: 4230 | E18: 2290 | F18: 2240 | G18: 1940
A19: 22 | B19: 212 | C19: 焼津市 | D19: 1390 | E19: 1190 | F19: 1150 | G19: 208
A20: 22 | B20: 213 | C20: 掛川市 | D20: 4300 | E20: 1990 | F20: 1910 | G20: 2310
... A43: 22 | B43: 461 | C43: 森町 | D43: 907 | E43: 576 | F43: 552 | G43: 331
C45: 計 | D45: 58300 | E45: 21100 | F45: 20200 | G45: 37200
A47: 利用上の注意
A48: １ この市町村別統計は、「作物統計調査」を実施する上で把握した地域における標本調査結果及び現地見積りの結果、関係機関
A49: からの情報等を踏まえ、都道府県計値の内訳として市町村別に配分することにより作成した加工統計であり、市町村別の値
A50: を目的として設計された調査に基づいて直接得られたものではない。
A51: なお、「作物統計調査」は、都道府県計値を求めるために目標精度を設定し、調査の設計がされている。
A52: ２ 面積は、耕地の存在する市町村に計上しており（属地統計）、耕作者の市町村間の出作・入作を考慮していない。
A53: ３ 数値は四捨五入しており、市町村値の計が都道府県値と一致しないことがある。

Sheet 合併
C1: 2003 | D1: 2004 | E1: 2005 | F1: 2006 | G1: 2007 | H1: 2008 | I1: 2009 | J1: 2010 | K1: 2011 | L1: 2012 | M1: 2013 | N1: 2014 | O1: 2015 | P1: 2016 | Q1: 2017 | R1: 2018 | S1: 2019 | T1: 2020 | U1: 2021 | V1: 2022 | W1: 2023 | X1: 2024
C2: H15 | D2: H16 | E2: H17 | F2: H18 | G2: H19 | H2: H20 | I2: H21 | J2: H22 | K2: H23 | L2: H24 | M2: H25 | N2: H26 | O2: H27 | P2: H28 | Q2: H29 | R2: H30 | S2: R1 | T2: R2 | U2: R3 | V2: R4 | W2: R5 | X2: R6
D3: 3 | E3: 2 | F3: 2 | G3: 2 | H3: 2 | I3: 1 | J3: 集計数 | Y3: 100 | Z3: 静岡市
A4: 201 | B4: 静岡市 | H4: 11
B5: 清水市 | C5: 4
A6: 382 | B6: 蒲原町 | F6: 3 | J6: データなし
A7: 383 | B7: 由比町 | H7: 11 | I7: 合併年月
D8: 10 | E8: 1 | Y8: 130 | Z8: 浜松市
A9: 202 | B9: 浜松市 | E9: 7
A10: 217 | B10: 天竜市 | E10: 7
A11: 218 | B11: 浜北市 | E11: 7
A12: 462 | B12: 春野町 | E12: 7
A13: 486 | B13: 龍山村 | E13: 7
A14: 487 | B14: 佐久間町 | E14: 7
A15: 488 | B15: 水窪町 | E15: 7
A16: 502 | B16: 舞阪町 | E16: 7
A17: 505 | B17: 雄踏町 | E17: 7
A18: 521 | B18: 細江町 | E18: 7
A19: 522 | B19: 引佐町 | E19: 7
A20: 523 | B20: 三ヶ日町 | E20: 7
D21: 2 | E21: 1 | Y21: 203 | Z21: 沼津市
A22: 203 | B22: 沼津市 | E22: 4
A23: 323 | B23: 戸田村 | E23: 4
A24: 205 | B24: 熱海市 | Y24: 205 | Z24: 熱海市
A25: 206 | B25: 三島市 | Y25: 206 | Z25: 三島市
I26: 2 | J26: 1 | Y26: 207 | Z26: 富士宮市
A27: 207 | B27: 富士宮市 | J27: 3
A28: 361 | B28: 芝川町 | J28: 3
A29: 208 | B29: 伊東市 | Y29: 208 | Z29: 伊東市
D30: 3 | E30: 2 | F30: 2 | G30: 2 | H30: 1 | Y30: 209 | Z30: 島田市
A31: 209 | B31: 島田市 | H31: 4
A32: 425 | B32: 金谷町 | E32: 5
A33: 426 | B33: 川根町 | H33: 4
H34: 2 | I34: 1 | Y34: 210 | Z34: 富士市
A35: 210 | B35: 富士市 | H35: 11
A36: 381 | B36: 富士川町 | H36: 11
D37: 5 | E37: 1 | Y37: 211 | Z37: 磐田市
A38: 211 | B38: 磐田市 | E38: 4
A39: 482 | B39: 福田町 | E39: 4
A40: 483 | B40: 竜洋町 | E40: 4
...

Sheet データ耕地
D1: 2004 | E1: 2005 | F1: 2006 | G1: 2007 | H1: 2008 | I1: 2009 | J1: 2010 | K1: 2011 | L1: 2012 | M1: 2013 | N1: 2014 | O1: 2015 | P1: 2016 | Q1: 2017 | R1: 2018 | S1: 2019 | T1: 2020 | U1: 2021 | V1: 2022 | W1: 2023 | X1: 2024
J2: 70800 | K2: ='23'!D45 -> 70200 | L2: ='24'!D45 -> 69700 | M2: ='25'!D45 -> 69200 | N2: ='26'!D45 -> 68500 | O2: ='27'!D45 -> 67900 | P2: ='28'!D45 -> 67100 | Q2: ='29'!D45 -> 66400 | R2: ='30'!D45 -> 65300 | S2: ='R1'!D45 -> 64100 | T2: ='R2'!D45 -> 62800 | U2: ='R3'!D45 -> 61500 | V2: ='R4'!D45 -> 60400 | W2: ='R5'!D45 -> 59400 | X2: ='R6'!D45 -> 58300
D3: =SUM(D4:D87) -> 75649 | E3: =SUM(E4:E87) -> 75146 | F3: =SUM(F4:F87) -> 74413 | G3: =SUM(G4:G87) -> 73518 | H3: =SUM(H4:H87) -> 72700 | I3: =SUM(I4:I87) -> 71364 | J3: =SUM(J4:J87) -> 70836 | K3: =SUM(K4:K87) -> 70161 | ... X3: =SUM(X4:X87) -> 58261
A4: 1000 | B4: 100 | C4: 静岡市 | I4: ='21'!D9 -> 5630 | J4: ='22'!D9 -> 5500 | K4: ='23'!D9 -> 5390 | L4: ='24'!D9 -> 5300 | M4: ='25'!D9 -> 5260 | N4: ='26'!D9 -> 5200 | O4: ='27'!D9 -> 5130 | P4: ='28'!D9 -> 5030 | Q4: ='29'!D9 -> 4980 | R4: ='30'!D9 -> 4800 | S4: ='R1'!D9 -> 4710 | T4: ='R2'!D9 -> 4580 | U4: ='R3'!D9 -> 4450 | V4: ='R4'!D9 -> 4250 | W4: ='R5'!D9 -> 4090 | X4: ='R6'!D9 -> 3940
B5: 201 | C5: 静岡市 | D5: ='16'!D9 -> 6460 | E5: ='17'!D9 -> 6500 | F5: ='18'!D9 -> 6390 | G5: ='19'!D9 -> 6200 | H5: ='20'!D9 -> 6040
B6: 382 | C6: 蒲原町 | D6: ='16'!D48 -> 115
B7: 383 | C7: 由比町 | D7: ='16'!D49 -> 236 | E7: ='17'!D43 -> 231 | F7: ='18'!D43 -> 227 | G7: ='19'!D43 -> 224 | H7: ='20'!D43 -> 223
A8: 2000 | B8: 130 | C8: 浜松市 | E8: ='17'!D10 -> 13600 | F8: ='18'!D10 -> 13400 | G8: ='19'!D10 -> 13300 | H8: ='20'!D10 -> 13100 | I8: ='21'!D10 -> 13000 | J8: ='22'!D10 -> 12900 | K8: ='23'!D10 -> 12800 | L8: ='24'!D10 -> 12800 | M8: ='25'!D10 -> 12700 | N8: ='26'!D10 -> 12600 | O8: ='27'!D10 -> 12600 | P8: ='28'!D10 -> 12500 | Q8: ='29'!D10 -> 12400 | R8: ='30'!D10 -> 12200 | S8: ='R1'!D10 -> 12100 | T8: ='R2'!D10 -> 12000 | U8: ='R3'!D10 -> 11900 | V8: ='R4'!D10 -> 11700 | W8: ='R5'!D10 -> 11700 | X8: ='R6'!D10 -> 11500
B9: 202 | C9: 浜松市 | D9: ='16'!D10 -> 5580
B10: 217 | C10: 天竜市 | D10: ='16'!D24 -> 467
B11: 218 | C11: 浜北市 | D11: ='16'!D25 -> 1880
B12: 462 | C12: 春野町 | D12: ='16'!D62 -> 505
B13: 486 | C13: 龍山村 | D13: ='16'!D68 -> 51
B14: 487 | C14: 佐久間町 | D14: ='16'!D69 -> 189
B15: 488 | C15: 水窪町 | D15: ='16'!D70 -> 86
B16: 502 | C16: 舞阪町 | D16: ='16'!D71 -> 38
B17: 505 | C17: 雄踏町 | D17: ='16'!D73 -> 262
B18: 521 | C18: 細江町 | D18: ='16'!D74 -> 1150
B19: 522 | C19: 引佐町 | D19: ='16'!D75 -> 1240
B20: 523 | C20: 三ヶ日町 | D20: ='16'!D76 -> 2230
A21: 3000 | B21: 203 | C21: 沼津市 | E21: ='17'!D11 -> 2320 | F21: ='18'!D11 -> 2320 | G21: ='19'!D11 -> 2310 | H21: ='20'!D11 -> 2300 | I21: ='21'!D11 -> 2280 | J21: ='22'!D11 -> 2270 | K21: ='23'!D11 -> 2230 | L21: ='24'!D11 -> 2210 | M21: ='25'!D11 -> 2190 | N21: ='26'!D11 -> 2170 | O21: ='27'!D11 -> 2130 | P21: ='28'!D11 -> 2090 | Q21: ='29'!D11 -> 2060 | R21: ='30'!D11 -> 2030 | S21: ='R1'!D11 -> 1980 | T21: ='R2'!D11 -> 1940 | U21: ='R3'!D11 -> 1910 | V21: ='R4'!D11 -> 1890 | W21: ='R5'!D11 -> 1880 | X21: ='R6'!D11 -> 1850
B22: 203 | C22: 沼津市 | D22: ='16'!D11 -> 2210
B23: 323 | C23: 戸田村 | D23: ='16'!D39 -> 105
A24: 4000 | B24: 205 | C24: 熱海市 | D24: ='16'!D12 -> 253 | E24: ='17'!D12 -> 253 | F24: ='18'!D12 -> 253 | G24: ='19'!D12 -> 249 | H24: ='20'!D12 -> 246 | I24: ='21'!D12 -> 244 | J24: ='22'!D12 -> 243 | K24: ='23'!D12 -> 232 | L24: ='24'!D12 -> 212 | M24: ='25'!D12 -> 204 | N24: ='26'!D12 -> 202 | O24: ='27'!D12 -> 197 | P24: ='28'!D12 -> 191 | Q24: ='29'!D12 -> 180 | R24: ='30'!D12 -> 176 | S24: ='R1'!D12 -> 169 | T24: ='R2'!D12 -> 162 | U24: ='R3'!D12 -> 150 | V24: ='R4'!D12 -> 142 | W24: ='R5'!D12 -> 140 | X24: ='R6'!D12 -> 135
A25: 5000 | B25: 206 | C25: 三島市 | D25: ='16'!D13 -> 914 | E25: ='17'!D13 -> 910 | F25: ='18'!D13 -> 903 | G25: ='19'!D13 -> 896 | H25: ='20'!D13 -> 888 | I25: ='21'!D13 -> 882 | J25: ='22'!D13 -> 878 | K25: ='23'!D13 -> 872 | L25: ='24'!D13 -> 865 | M25: ='25'!D13 -> 858 | N25: ='26'!D13 -> 845 | O25: ='27'!D13 -> 839 | P25: ='28'!D13 -> 831 | Q25: ='29'!D13 -> 827 | R25: ='30'!D13 -> 820 | S25: ='R1'!D13 -> 802 | T25: ='R2'!D13 -> 790 | U25: ='R3'!D13 -> 773 | V25: ='R4'!D13 -> 769 | W25: ='R5'!D13 -> 761 | X25: ='R6'!D13 -> 749
A26: 6000 | B26: 207 | C26: 富士宮市 | J26: ='22'!D14 -> 3290 | K26: ='23'!D14 -> 3270 | L26: ='24'!D14 -> 3250 | M26: ='25'!D14 -> 3230 | N26: ='26'!D14 -> 3190 | O26: ='27'!D14 -> 3170 | P26: ='28'!D14 -> 3150 | Q26: ='29'!D14 -> 3120 | R26: ='30'!D14 -> 3080 | S26: ='R1'!D14 -> 3040 | T26: ='R2'!D14 -> 3020 | U26: ='R3'!D14 -> 2980 | V26: ='R4'!D14 -> 2950 | W26: ='R5'!D14 -> 2920 | X26: ='R6'!D14 -> 2880
B27: 207 | C27: 富士宮市 | D27: ='16'!D14 -> 2900 | E27: ='17'!D14 -> 2870 | F27: ='18'!D14 -> 2850 | G27: ='19'!D14 -> 2800 | H27: ='20'!D14 -> 2780 | I27: ='21'!D14 -> 2760
B28: 361 | C28: 芝川町 | D28: ='16'!D46 -> 579 | E28: ='17'!D41 -> 574 | F28: ='18'!D41 -> 569 | G28: ='19'!D41 -> 566 | H28: ='20'!D41 -> 561 | I28: ='21'!D41 -> 554
A29: 7000 | B29: 208 | C29: 伊東市 | D29: ='16'!D15 -> 645 | E29: ='17'!D15 -> 643 | F29: ='18'!D15 -> 621 | G29: ='19'!D15 -> 606 | H29: ='20'!D15 -> 575 | I29: ='21'!D15 -> 543 | J29: ='22'!D15 -> 538 | K29: ='23'!D15 -> 508 | L29: ='24'!D15 -> 461 | M29: ='25'!D15 -> 440 | N29: ='26'!D15 -> 432 | O29: ='27'!D15 -> 429 | P29: ='28'!D15 -> 421 | Q29: ='29'!D15 -> 417 | R29: ='30'!D15 -> 408 | S29: ='R1'!D15 -> 402 | T29: ='R2'!D15 -> 394 | U29: ='R3'!D15 -> 383 | V29: ='R4'!D15 -> 377 | W29: ='R5'!D15 -> 373 | X29: ='R6'!D15 -> 362
A30: 8000 | B30: 209 | C30: 島田市 | H30: ='20'!D16 -> 3410 | I30: ='21'!D16 -> 3390 | J30: ='22'!D16 -> 3350 | K30: ='23'!D16 -> 3330 | L30: ='24'!D16 -> 3290 | M30: ='25'!D16 -> 3280 | N30: ='26'!D16 -> 3260 | O30: ='27'!D16 -> 3240 | P30: ='28'!D16 -> 3230 | Q30: ='29'!D16 -> 3200 | R30: ='30'!D16 -> 3180 | S30: ='R1'!D16 -> 3120 | T30: ='R2'!D16 -> 3020 | U30: ='R3'!D16 -> 2930 | V30: ='R4'!D16 -> 2810 | W30: ='R5'!D16 -> 2720 | X30: ='R6'!D16 -> 2640
B31: 209 | C31: 島田市 | D31: ='16'!D16 -> 1960 | E31: ='17'!D16 -> 3090 | F31: ='18'!D16 -> 3050 | G31: ='19'!D16 -> 3010
B32: 425 | C32: 金谷町 | D32: ='16'!D55 -> 1160
B33: 426 | C33: 川根町 | D33: ='16'!D56 -> 456 | E33: ='17'!D47 -> 449 | F33: ='18'!D47 -> 449 | G33: ='19'!D47 -> 443
A34: 9000 | B34: 210 | C34: 富士市 | I34: ='21'!D17 -> 2760 | J34: ='22'!D17 -> 2740 | K34: ='23'!D17 -> 2720 | L34: ='24'!D17 -> 2690 | M34: ='25'!D17 -> 2650 | N34: ='26'!D17 -> 2620 | O34: ='27'!D17 -> 2580 | P34: ='28'!D17 -> 2540 | Q34: ='29'!D17 -> 2510 | R34: ='30'!D17 -> 2470 | S34: ='R1'!D17 -> 2410 | T34: ='R2'!D17 -> 2380 | U34: ='R3'!D17 -> 2330 | V34: ='R4'!D17 -> 2280 | W34: ='R5'!D17 -> 2240 | X34: ='R6'!D17 -> 2170
B35: 210 | C35: 富士市 | D35: ='16'!D17 -> 2710 | E35: ='17'!D17 -> 2670 | F35: ='18'!D17 -> 2630 | G35: ='19'!D17 -> 2610 | H35: ='20'!D17 -> 2610
B36: 381 | C36: 富士川町 | D36: ='16'!D47 -> 191 | E36: ='17'!D42 -> 189 | F36: ='18'!D42 -> 186 | G36: ='19'!D42 -> 181 | H36: ='20'!D42 -> 176
A37: 10000 | B37: 211 | C37: 磐田市 | E37: ='17'!D18 -> 4760 | F37: ='18'!D18 -> 4760 | G37: ='19'!D18 -> 4720 | H37: ='20'!D18 -> 4700 | I37: ='21'!D18 -> 4670 | J37: ='22'!D18 -> 4650 | K37: ='23'!D18 -> 4630 | L37: ='24'!D18 -> 4620 | M37: ='25'!D18 -> 4590 | N37: ='26'!D18 -> 4570 | O37: ='27'!D18 -> 4550 | P37: ='28'!D18 -> 4500 | Q37: ='29'!D18 -> 4460 | R37: ='30'!D18 -> 4440 | S37: ='R1'!D18 -> 4400 | T37: ='R2'!D18 -> 4380 | U37: ='R3'!D18 -> 4320 | V37: ='R4'!D18 -> 4280 | W37: ='R5'!D18 -> 4270 | X37: ='R6'!D18 -> 4230
B38: 211 | C38: 磐田市 | D38: ='16'!D18 -> 2210
B39: 482 | C39: 福田町 | D39: ='16'!D64 -> 545
B40: 483 | C40: 竜洋町 | D40: ='16'!D65 -> 622
...

Sheet グラフ耕地
D1: =データ耕地!J1 -> 2010 | E1: =データ耕地!K1 -> 2011 | F1: =データ耕地!L1 -> 2012 | G1: =データ耕地!M1 -> 2013 | H1: =データ耕地!N1 -> 2014 | I1: =データ耕地!O1 -> 2015 | J1: =データ耕地!P1 -> 2016 | K1: =データ耕地!Q1 -> 2017 | ... R1: =データ耕地!X1 -> 2024
A2: 1000 | B2: 100 | C2: 静岡市 | D2: =データ耕地!J4 -> 5500 | E2: =データ耕地!K4 -> 5390 | F2: =データ耕地!L4 -> 5300 | G2: =データ耕地!M4 -> 5260 | H2: =データ耕地!N4 -> 5200 | I2: =データ耕地!O4 -> 5130 | J2: =データ耕地!P4 -> 5030 | K2: =データ耕地!Q4 -> 4980 | ... R2: =データ耕地!X4 -> 3940
A3: 2000 | B3: 130 | C3: 浜松市 | D3: =データ耕地!J8 -> 12900 | E3: =データ耕地!K8 -> 12800 | F3: =データ耕地!L8 -> 12800 | G3: =データ耕地!M8 -> 12700 | H3: =データ耕地!N8 -> 12600 | I3: =データ耕地!O8 -> 12600 | J3: =データ耕地!P8 -> 12500 | K3: =データ耕地!Q8 -> 12400 | ... R3: =データ耕地!X8 -> 11500
A4: 3000 | B4: 203 | C4: 沼津市 | D4: =データ耕地!J21 -> 2270 | E4: =データ耕地!K21 -> 2230 | F4: =データ耕地!L21 -> 2210 | G4: =データ耕地!M21 -> 2190 | H4: =データ耕地!N21 -> 2170 | I4: =データ耕地!O21 -> 2130 | J4: =データ耕地!P21 -> 2090 | K4: =データ耕地!Q21 -> 2060 | ... R4: =データ耕地!X21 -> 1850
A5: 4000 | B5: 205 | C5: 熱海市 | D5: =データ耕地!J24 -> 243 | E5: =データ耕地!K24 -> 232 | F5: =データ耕地!L24 -> 212 | G5: =データ耕地!M24 -> 204 | H5: =データ耕地!N24 -> 202 | I5: =データ耕地!O24 -> 197 | J5: =データ耕地!P24 -> 191 | K5: =データ耕地!Q24 -> 180 | ... R5: =データ耕地!X24 -> 135
A6: 5000 | B6: 206 | C6: 三島市 | D6: =データ耕地!J25 -> 878 | E6: =データ耕地!K25 -> 872 | F6: =データ耕地!L25 -> 865 | G6: =データ耕地!M25 -> 858 | H6: =データ耕地!N25 -> 845 | I6: =データ耕地!O25 -> 839 | J6: =データ耕地!P25 -> 831 | K6: =データ耕地!Q25 -> 827 | ... R6: =データ耕地!X25 -> 749
A7: 6000 | B7: 207 | C7: 富士宮市 | D7: =データ耕地!J26 -> 3290 | E7: =データ耕地!K26 -> 3270 | F7: =データ耕地!L26 -> 3250 | G7: =データ耕地!M26 -> 3230 | H7: =データ耕地!N26 -> 3190 | I7: =データ耕地!O26 -> 3170 | J7: =データ耕地!P26 -> 3150 | K7: =データ耕地!Q26 -> 3120 | ... R7: =データ耕地!X26 -> 2880
A8: 7000 | B8: 208 | C8: 伊東市 | D8: =データ耕地!J29 -> 538 | E8: =データ耕地!K29 -> 508 | F8: =データ耕地!L29 -> 461 | G8: =データ耕地!M29 -> 440 | H8: =データ耕地!N29 -> 432 | I8: =データ耕地!O29 -> 429 | J8: =データ耕地!P29 -> 421 | K8: =データ耕地!Q29 -> 417 | ... R8: =データ耕地!X29 -> 362
A9: 8000 | B9: 209 | C9: 島田市 | D9: =データ耕地!J30 -> 3350 | E9: =データ耕地!K30 -> 3330 | F9: =データ耕地!L30 -> 3290 | G9: =データ耕地!M30 -> 3280 | H9: =データ耕地!N30 -> 3260 | I9: =データ耕地!O30 -> 3240 | J9: =データ耕地!P30 -> 3230 | K9: =データ耕地!Q30 -> 3200 | ... R9: =データ耕地!X30 -> 2640
A10: 9000 | B10: 210 | C10: 富士市 | D10: =データ耕地!J34 -> 2740 | E10: =データ耕地!K34 -> 2720 | F10: =データ耕地!L34 -> 2690 | G10: =データ耕地!M34 -> 2650 | H10: =データ耕地!N34 -> 2620 | I10: =データ耕地!O34 -> 2580 | J10: =データ耕地!P34 -> 2540 | K10: =データ耕地!Q34 -> 2510 | ... R10: =データ耕地!X34 -> 2170
A11: 10000 | B11: 211 | C11: 磐田市 | D11: =データ耕地!J37 -> 4650 | E11: =データ耕地!K37 -> 4630 | F11: =データ耕地!L37 -> 4620 | G11: =データ耕地!M37 -> 4590 | H11: =データ耕地!N37 -> 4570 | I11: =データ耕地!O37 -> 4550 | J11: =データ耕地!P37 -> 4500 | K11: =データ耕地!Q37 -> 4460 | ... R11: =データ耕地!X37 -> 4230
A12: 11000 | B12: 212 | C12: 焼津市 | D12: =データ耕地!J43 -> 1600 | E12: =データ耕地!K43 -> 1590 | F12: =データ耕地!L43 -> 1580 | G12: =データ耕地!M43 -> 1570 | H12: =データ耕地!N43 -> 1560 | I12: =データ耕地!O43 -> 1540 | J12: =データ耕地!P43 -> 1520 | K12: =データ耕地!Q43 -> 1500 | ... R12: =データ耕地!X43 -> 1390
A13: 12000 | B13: 213 | C13: 掛川市 | D13: =データ耕地!J46 -> 5460 | E13: =データ耕地!K46 -> 5410 | F13: =データ耕地!L46 -> 5380 | G13: =データ耕地!M46 -> 5350 | H13: =データ耕地!N46 -> 5320 | I13: =データ耕地!O46 -> 5290 | J13: =データ耕地!P46 -> 5250 | K13: =データ耕地!Q46 -> 5220 | ... R13: =データ耕地!X46 -> 4300
A14: 13000 | B14: 214 | C14: 藤枝市 | D14: =データ耕地!J50 -> 2990 | E14: =データ耕地!K50 -> 2930 | F14: =データ耕地!L50 -> 2890 | G14: =データ耕地!M50 -> 2880 | H14: =データ耕地!N50 -> 2850 | I14: =データ耕地!O50 -> 2790 | J14: =データ耕地!P50 -> 2740 | K14: =データ耕地!Q50 -> 2700 | ... R14: =データ耕地!X50 -> 2050
A15: 14000 | B15: 215 | C15: 御殿場市 | D15: =データ耕地!J53 -> 1960 | E15: =データ耕地!K53 -> 1960 | F15: =データ耕地!L53 -> 1950 | G15: =データ耕地!M53 -> 1940 | H15: =データ耕地!N53 -> 1930 | I15: =データ耕地!O53 -> 1910 | J15: =データ耕地!P53 -> 1900 | K15: =データ耕地!Q53 -> 1890 | ... R15: =データ耕地!X53 -> 1790
A16: 15000 | B16: 216 | C16: 袋井市 | D16: =データ耕地!J54 -> 3460 | E16: =データ耕地!K54 -> 3450 | F16: =データ耕地!L54 -> 3430 | G16: =データ耕地!M54 -> 3420 | H16: =データ耕地!N54 -> 3400 | I16: =データ耕地!O54 -> 3350 | J16: =データ耕地!P54 -> 3310 | K16: =データ耕地!Q54 -> 3300 | ... R16: =データ耕地!X54 -> 3090
A17: 16000 | B17: 219 | C17: 下田市 | D17: =データ耕地!J57 -> 287 | E17: =データ耕地!K57 -> 283 | F17: =データ耕地!L57 -> 280 | G17: =データ耕地!M57 -> 276 | H17: =データ耕地!N57 -> 268 | I17: =データ耕地!O57 -> 258 | J17: =データ耕地!P57 -> 252 | K17: =データ耕地!Q57 -> 252 | ... R17: =データ耕地!X57 -> 228
A18: 17000 | B18: 220 | C18: 裾野市 | D18: =データ耕地!J58 -> 897 | E18: =データ耕地!K58 -> 892 | F18: =データ耕地!L58 -> 888 | G18: =データ耕地!M58 -> 886 | H18: =データ耕地!N58 -> 879 | I18: =データ耕地!O58 -> 867 | J18: =データ耕地!P58 -> 860 | K18: =データ耕地!Q58 -> 851 | ... R18: =データ耕地!X58 -> 779
A19: 18000 | B19: 221 | C19: 湖西市 | D19: =データ耕地!J59 -> 1250 | E19: =データ耕地!K59 -> 1250 | F19: =データ耕地!L59 -> 1250 | G19: =データ耕地!M59 -> 1240 | H19: =データ耕地!N59 -> 1230 | I19: =データ耕地!O59 -> 1230 | J19: =データ耕地!P59 -> 1220 | K19: =データ耕地!Q59 -> 1220 | ... R19: =データ耕地!X59 -> 1150
A20: 19000 | B20: 222 | C20: 伊豆市 | D20: =データ耕地!J62 -> 1320 | E20: =データ耕地!K62 -> 1300 | F20: =データ耕地!L62 -> 1300 | G20: =データ耕地!M62 -> 1280 | H20: =データ耕地!N62 -> 1250 | I20: =データ耕地!O62 -> 1250 | J20: =データ耕地!P62 -> 1240 | K20: =データ耕地!Q62 -> 1230 | ... R20: =データ耕地!X62 -> 1100
A21: 20000 | B21: 223 | C21: 御前崎市 | D21: =データ耕地!J63 -> 1630 | E21: =データ耕地!K63 -> 1620 | F21: =データ耕地!L63 -> 1620 | G21: =データ耕地!M63 -> 1580 | H21: =データ耕地!N63 -> 1580 | I21: =データ耕地!O63 -> 1550 | J21: =データ耕地!P63 -> 1530 | K21: =データ耕地!Q63 -> 1510 | ... R21: =データ耕地!X63 -> 1320
A22: 21000 | B22: 224 | C22: 菊川市 | D22: =データ耕地!J64 -> 3150 | E22: =データ耕地!K64 -> 3130 | F22: =データ耕地!L64 -> 3120 | G22: =データ耕地!M64 -> 3090 | H22: =データ耕地!N64 -> 3070 | I22: =データ耕地!O64 -> 3040 | J22: =データ耕地!P64 -> 3020 | K22: =データ耕地!Q64 -> 2990 | ... R22: =データ耕地!X64 -> 2650
A23: 22000 | B23: 225 | C23: 伊豆の国市 | D23: =データ耕地!J65 -> 1140 | E23: =データ耕地!K65 -> 1130 | F23: =データ耕地!L65 -> 1130 | G23: =データ耕地!M65 -> 1120 | H23: =データ耕地!N65 -> 1090 | I23: =データ耕地!O65 -> 1080 | J23: =データ耕地!P65 -> 1080 | K23: =データ耕地!Q65 -> 1070 | ... R23: =データ耕地!X65 -> 940
A24: 23000 | B24: 226 | C24: 牧之原市 | D24: =データ耕地!J69 -> 3760 | E24: =データ耕地!K69 -> 3740 | F24: =データ耕地!L69 -> 3740 | G24: =データ耕地!M69 -> 3720 | H24: =データ耕地!N69 -> 3690 | I24: =データ耕地!O69 -> 3650 | J24: =データ耕地!P69 -> 3630 | K24: =データ耕地!Q69 -> 3580 | ... R24: =データ耕地!X69 -> 2770
A25: 24000 | B25: 301 | C25: 東伊豆町 | D25: =データ耕地!J72 -> 318 | E25: =データ耕地!K72 -> 311 | F25: =データ耕地!L72 -> 307 | G25: =データ耕地!M72 -> 294 | H25: =データ耕地!N72 -> 268 | I25: =データ耕地!O72 -> 258 | J25: =データ耕地!P72 -> 249 | K25: =データ耕地!Q72 -> 236 | ... R25: =データ耕地!X72 -> 217
A26: 25000 | B26: 302 | C26: 河津町 | D26: =データ耕地!J73 -> 360 | E26: =データ耕地!K73 -> 356 | F26: =データ耕地!L73 -> 353 | G26: =データ耕地!M73 -> 347 | H26: =データ耕地!N73 -> 331 | I26: =データ耕地!O73 -> 322 | J26: =データ耕地!P73 -> 313 | K26: =データ耕地!Q73 -> 295 | ... R26: =データ耕地!X73 -> 243
A27: 26000 | B27: 304 | C27: 南伊豆町 | D27: =データ耕地!J74 -> 409 | E27: =データ耕地!K74 -> 396 | F27: =データ耕地!L74 -> 387 | G27: =データ耕地!M74 -> 377 | H27: =データ耕地!N74 -> 363 | I27: =データ耕地!O74 -> 354 | J27: =データ耕地!P74 -> 348 | K27: =データ耕地!Q74 -> 342 | ... R27: =データ耕地!X74 -> 287
A28: 27000 | B28: 305 | C28: 松崎町 | D28: =データ耕地!J75 -> 327 | E28: =データ耕地!K75 -> 325 | F28: =データ耕地!L75 -> 323 | G28: =データ耕地!M75 -> 318 | H28: =データ耕地!N75 -> 313 | I28: =データ耕地!O75 -> 309 | J28: =データ耕地!P75 -> 304 | K28: =データ耕地!Q75 -> 297 | ... R28: =データ耕地!X75 -> 239
A29: 28000 | B29: 306 | C29: 西伊豆町 | D29: =データ耕地!J76 -> 166 | E29: =データ耕地!K76 -> 161 | F29: =データ耕地!L76 -> 160 | G29: =データ耕地!M76 -> 156 | H29: =データ耕地!N76 -> 152 | I29: =データ耕地!O76 -> 150 | J29: =データ耕地!P76 -> 147 | K29: =データ耕地!Q76 -> 146 | ... R29: =データ耕地!X76 -> 130
A30: 29000 | B30: 325 | C30: 函南町 | D30: =データ耕地!J79 -> 713 | E30: =データ耕地!K79 -> 708 | F30: =データ耕地!L79 -> 706 | G30: =データ耕地!M79 -> 699 | H30: =データ耕地!N79 -> 695 | I30: =データ耕地!O79 -> 692 | J30: =データ耕地!P79 -> 687 | K30: =データ耕地!Q79 -> 684 | ... R30: =データ耕地!X79 -> 632
A31: 30000 | B31: 341 | C31: 清水町 | D31: =データ耕地!J80 -> 110 | E31: =データ耕地!K80 -> 108 | F31: =データ耕地!L80 -> 105 | G31: =データ耕地!M80 -> 102 | H31: =データ耕地!N80 -> 99 | I31: =データ耕地!O80 -> 97 | J31: =データ耕地!P80 -> 92 | K31: =データ耕地!Q80 -> 91 | ... R31: =データ耕地!X80 -> 74
A32: 31000 | B32: 342 | C32: 長泉町 | D32: =データ耕地!J81 -> 267 | E32: =データ耕地!K81 -> 261 | F32: =データ耕地!L81 -> 256 | G32: =データ耕地!M81 -> 249 | H32: =データ耕地!N81 -> 245 | I32: =データ耕地!O81 -> 241 | J32: =データ耕地!P81 -> 235 | K32: =データ耕地!Q81 -> 233 | ... R32: =データ耕地!X81 -> 198
A33: 32000 | B33: 344 | C33: 小山町 | D33: =データ耕地!J82 -> 596 | E33: =データ耕地!K82 -> 579 | F33: =データ耕地!L82 -> 587 | G33: =データ耕地!M82 -> 586 | H33: =データ耕地!N82 -> 580 | I33: =データ耕地!O82 -> 578 | J33: =データ耕地!P82 -> 574 | K33: =データ耕地!Q82 -> 570 | ... R33: =データ耕地!X82 -> 516
A34: 33000 | B34: 424 | C34: 吉田町 | D34: =データ耕地!J83 -> 425 | E34: =データ耕地!K83 -> 422 | F34: =データ耕地!L83 -> 420 | G34: =データ耕地!M83 -> 420 | H34: =データ耕地!N83 -> 413 | I34: =データ耕地!O83 -> 404 | J34: =データ耕地!P83 -> 354 | K34: =データ耕地!Q83 -> 353 | ... R34: =データ耕地!X83 -> 325
A35: 34000 | B35: 429 | C35: 川根本町 | D35: =データ耕地!J84 -> 692 | E35: =データ耕地!K84 -> 677 | F35: =データ耕地!L84 -> 678 | G35: =データ耕地!M84 -> 676 | H35: =データ耕地!N84 -> 663 | I35: =データ耕地!O84 -> 638 | J35: =データ耕地!P84 -> 603 | K35: =データ耕地!Q84 -> 592 | ... R35: =データ耕地!X84 -> 480
A36: 35000 | B36: 461 | C36: 森町 | D36: =データ耕地!J87 -> 1190 | E36: =データ耕地!K87 -> 1190 | F36: =データ耕地!L87 -> 1190 | G36: =データ耕地!M87 -> 1190 | H36: =データ耕地!N87 -> 1170 | I36: =データ耕地!O87 -> 1170 | J36: =データ耕地!P87 -> 1170 | K36: =データ耕地!Q87 -> 1140 | ... R36: =データ耕地!X87 -> 907
D38: =D1 -> 2010 | E38: =E1 -> 2011 | F38: =F1 -> 2012 | G38: =G1 -> 2013 | H38: =H1 -> 2014 | I38: =I1 -> 2015 | J38: =J1 -> 2016 | K38: =K1 -> 2017 | ... R38: =R1 -> 2024
