Workbook

Sheet 法定県別
A1: １．家畜伝染病の県別発生状況（平成１２年）
A3: 伝染病の | C3: 口蹄疫 | E3: 流行性 | G3: 炭疽 | I3: 結核病 | K3: ヨーネ病 | M3: ヨーネ病 | O3: ヨーネ病 | Q3: 伝染性海 | S3: ニューカッスル | U3: 家きんサル | W3: 腐蛆病
A4: 種 類 | E4: 脳炎 | Q4: 綿状脳症 | S4: 病 | U4: モネラ感染症
A5: 家畜の種類 | C5: 牛 | E5: 豚 | G5: 牛 | I5: 牛 | K5: 牛 | M5: めん羊 | O5: 山羊 | Q5: めん羊 | S5: 鶏 | U5: 鶏 | W5: みつばち
C6: 戸 | D6: 頭 | E6: 戸 | F6: 頭 | G6: 戸 | H6: 頭 | I6: 戸 | J6: 頭 | K6: 戸 | L6: 頭 | M6: 戸 | N6: 頭 | O6: 戸 | P6: 頭 | Q6: 戸 | R6: 頭 | S6: 戸 | T6: 羽 | U6: 戸 | V6: 羽 | W6: 戸 | X6: 群
C7: 数 | D7: 数 | E7: 数 | F7: 数 | G7: 数 | H7: 数 | I7: 数 | J7: 数 | K7: 数 | L7: 数 | M7: 数 | N7: 数 | O7: 数 | P7: 数 | Q7: 数 | R7: 数 | S7: 数 | T7: 数 | U7: 数 | V7: 数 | W7: 数 | X7: 数
A8: 01 | B8: 北海道 | C8: =[1]法定・北海道!$Z$3 -> 1 | D8: =[1]法定・北海道!$AA$3 -> 2 | E8: =[1]法定・北海道!$Z$4 -> 0 | F8: =[1]法定・北海道!$AA$4 -> 0 | G8: =[1]法定・北海道!$Z$5 -> 0 | H8: =[1]法定・北海道!$AA$5 -> 0 | I8: =[1]法定・北海道!$Z$7 -> 0 | J8: =[1]法定・北海道!$AA$7 -> 0 | K8: =[1]法定・北海道!$Z$8 -> 256 | L8: =[1]法定・北海道!$AA$8 -> 601 | M8: =[1]法定・北海道!$Z$9 -> 0 | N8: =[1]法定・北海道!$AA$9 -> 0 | O8: =[1]法定・北海道!$Z$10 -> 0 | P8: =[1]法定・北海道!$AA$10 -> 0 | Q8: =[1]法定・北海道!$Z$13 -> 0 | R8: =[1]法定・北海道!$AA$13 -> 0 | S8: =[1]法定・北海道!$Z$16 -> 0 | T8: =[1]法定・北海道!$AA$16 -> 0 | U8: =[1]法定・北海道!$Z$17 -> 0 | V8: =[1]法定・北海道!$AA$17 -> 0 | W8: =[1]法定・北海道!$Z$18 -> 1 | X8: =[1]法定・北海道!$AA$18 -> 28
A9: 02 | B9: 青森 | C9: =[2]法定・青森県!$Z$3 -> 0 | D9: =[2]法定・青森県!$AA$3 -> 0 | E9: =[2]法定・青森県!$Z$4 -> 0 | F9: =[2]法定・青森県!$AA$4 -> 0 | G9: =[2]法定・青森県!$Z$5 -> 0 | H9: =[2]法定・青森県!$AA$5 -> 0 | I9: =[2]法定・青森県!$Z$7 -> 0 | J9: =[2]法定・青森県!$AA$7 -> 0 | K9: =[2]法定・青森県!$Z$8 -> 12 | L9: =[2]法定・青森県!$AA$8 -> 15 | M9: =[2]法定・青森県!$Z$9 -> 0 | N9: =[2]法定・青森県!$AA$9 -> 0 | O9: =[2]法定・青森県!$Z$10 -> 0 | P9: =[2]法定・青森県!$AA$10 -> 0 | Q9: =[2]法定・青森県!$Z$13 -> 0 | R9: =[2]法定・青森県!$AA$13 -> 0 | S9: =[2]法定・青森県!$Z$16 -> 0 | T9: =[2]法定・青森県!$AA$16 -> 0 | U9: =[2]法定・青森県!$Z$17 -> 0 | V9: =[2]法定・青森県!$AA$17 -> 0 | W9: =[2]法定・青森県!$Z$18 -> 0 | X9: =[2]法定・青森県!$AA$18 -> 0
A10: 03 | B10: 岩手 | C10: =[3]法定・岩手県!$Z$3 -> 0 | D10: =[3]法定・岩手県!$AA$3 -> 0 | E10: =[3]法定・岩手県!$Z$4 -> 0 | F10: =[3]法定・岩手県!$AA$4 -> 0 | G10: =[3]法定・岩手県!$Z$5 -> 0 | H10: =[3]法定・岩手県!$AA$5 -> 0 | I10: =[3]法定・岩手県!$Z$7 -> 0 | J10: =[3]法定・岩手県!$AA$7 -> 0 | K10: =[3]法定・岩手県!$Z$8 -> 7 | L10: =[3]法定・岩手県!$AA$8 -> 7 | M10: =[3]法定・岩手県!$Z$9 -> 0 | N10: =[3]法定・岩手県!$AA$9 -> 0 | O10: =[3]法定・岩手県!$Z$10 -> 0 | P10: =[3]法定・岩手県!$AA$10 -> 0 | Q10: =[3]法定・岩手県!$Z$13 -> 0 | R10: =[3]法定・岩手県!$AA$13 -> 0 | S10: =[3]法定・岩手県!$Z$16 -> 0 | T10: =[3]法定・岩手県!$AA$16 -> 0 | U10: =[3]法定・岩手県!$Z$17 -> 0 | V10: =[3]法定・岩手県!$AA$17 -> 0 | W10: =[3]法定・岩手県!$Z$18 -> 0 | X10: =[3]法定・岩手県!$AA$18 -> 0
A11: 04 | B11: 宮城 | C11: =[4]法定・宮城県!$Z$3 -> 0 | D11: =[4]法定・宮城県!$AA$3 -> 0 | E11: =[4]法定・宮城県!$Z$4 -> 0 | F11: =[4]法定・宮城県!$AA$4 -> 0 | G11: =[4]法定・宮城県!$Z$5 -> 0 | H11: =[4]法定・宮城県!$AA$5 -> 0 | I11: =[4]法定・宮城県!$Z$7 -> 1 | J11: =[4]法定・宮城県!$AA$7 -> 1 | K11: =[4]法定・宮城県!$Z$8 -> 3 | L11: =[4]法定・宮城県!$AA$8 -> 11 | M11: =[4]法定・宮城県!$Z$9 -> 0 | N11: =[4]法定・宮城県!$AA$9 -> 0 | O11: =[4]法定・宮城県!$Z$10 -> 0 | P11: =[4]法定・宮城県!$AA$10 -> 0 | Q11: =[4]法定・宮城県!$Z$13 -> 0 | R11: =[4]法定・宮城県!$AA$13 -> 0 | S11: =[4]法定・宮城県!$Z$16 -> 0 | T11: =[4]法定・宮城県!$AA$16 -> 0 | U11: =[4]法定・宮城県!$Z$17 -> 1 | V11: =[4]法定・宮城県!$AA$17 -> 30 | W11: =[4]法定・宮城県!$Z$18 -> 0 | X11: =[4]法定・宮城県!$AA$18 -> 0
A12: 05 | B12: 秋田 | C12: =[5]法定・秋田県!$Z$3 -> 0 | D12: =[5]法定・秋田県!$AA$3 -> 0 | E12: =[5]法定・秋田県!$Z$4 -> 0 | F12: =[5]法定・秋田県!$AA$4 -> 0 | G12: =[5]法定・秋田県!$Z$5 -> 0 | H12: =[5]法定・秋田県!$AA$5 -> 0 | I12: =[5]法定・秋田県!$Z$7 -> 0 | J12: =[5]法定・秋田県!$AA$7 -> 0 | K12: =[5]法定・秋田県!$Z$8 -> 0 | L12: =[5]法定・秋田県!$AA$8 -> 0 | M12: =[5]法定・秋田県!$Z$9 -> 0 | N12: =[5]法定・秋田県!$AA$9 -> 0 | O12: =[5]法定・秋田県!$Z$10 -> 0 | P12: =[5]法定・秋田県!$AA$10 -> 0 | Q12: =[5]法定・秋田県!$Z$13 -> 0 | R12: =[5]法定・秋田県!$AA$13 -> 0 | S12: =[5]法定・秋田県!$Z$16 -> 0 | T12: =[5]法定・秋田県!$AA$16 -> 0 | U12: =[5]法定・秋田県!$Z$17 -> 0 | V12: =[5]法定・秋田県!$AA$17 -> 0 | W12: =[5]法定・秋田県!$Z$18 -> 0 | X12: =[5]法定・秋田県!$AA$18 -> 0
A13: 06 | B13: 山形 | C13: =[6]法定・山形県!$Z$3 -> 0 | D13: =[6]法定・山形県!$AA$3 -> 0 | E13: =[6]法定・山形県!$Z$4 -> 0 | F13: =[6]法定・山形県!$AA$4 -> 0 | G13: =[6]法定・山形県!$Z$5 -> 0 | H13: =[6]法定・山形県!$AA$5 -> 0 | I13: =[6]法定・山形県!$Z$7 -> 0 | J13: =[6]法定・山形県!$AA$7 -> 0 | K13: =[6]法定・山形県!$Z$8 -> 1 | L13: =[6]法定・山形県!$AA$8 -> 1 | M13: =[6]法定・山形県!$Z$9 -> 0 | N13: =[6]法定・山形県!$AA$9 -> 0 | O13: =[6]法定・山形県!$Z$10 -> 0 | P13: =[6]法定・山形県!$AA$10 -> 0 | Q13: =[6]法定・山形県!$Z$13 -> 0 | R13: =[6]法定・山形県!$AA$13 -> 0 | S13: =[6]法定・山形県!$Z$16 -> 0 | T13: =[6]法定・山形県!$AA$16 -> 0 | U13: =[6]法定・山形県!$Z$17 -> 0 | V13: =[6]法定・山形県!$AA$17 -> 0 | W13: =[6]法定・山形県!$Z$18 -> 3 | X13: =[6]法定・山形県!$AA$18 -> 7
A14: 07 | B14: 福島 | C14: =[7]法定・福島県!$Z$3 -> 0 | D14: =[7]法定・福島県!$AA$3 -> 0 | E14: =[7]法定・福島県!$Z$4 -> 0 | F14: =[7]法定・福島県!$AA$4 -> 0 | G14: =[7]法定・福島県!$Z$5 -> 0 | H14: =[7]法定・福島県!$AA$5 -> 0 | I14: =[7]法定・福島県!$Z$7 -> 0 | J14: =[7]法定・福島県!$AA$7 -> 0 | K14: =[7]法定・福島県!$Z$8 -> 11 | L14: =[7]法定・福島県!$AA$8 -> 25 | M14: =[7]法定・福島県!$Z$9 -> 0 | N14: =[7]法定・福島県!$AA$9 -> 0 | O14: =[7]法定・福島県!$Z$10 -> 0 | P14: =[7]法定・福島県!$AA$10 -> 0 | Q14: =[7]法定・福島県!$Z$13 -> 0 | R14: =[7]法定・福島県!$AA$13 -> 0 | S14: =[7]法定・福島県!$Z$16 -> 0 | T14: =[7]法定・福島県!$AA$16 -> 0 | U14: =[7]法定・福島県!$Z$17 -> 0 | V14: =[7]法定・福島県!$AA$17 -> 0 | W14: =[7]法定・福島県!$Z$18 -> 14 | X14: =[7]法定・福島県!$AA$18 -> 27
A15: 08 | B15: 茨城 | C15: =[8]法定・茨城県!$Z$3 -> 0 | D15: =[8]法定・茨城県!$AA$3 -> 0 | E15: =[8]法定・茨城県!$Z$4 -> 0 | F15: =[8]法定・茨城県!$AA$4 -> 0 | G15: =[8]法定・茨城県!$Z$5 -> 0 | H15: =[8]法定・茨城県!$AA$5 -> 0 | I15: =[8]法定・茨城県!$Z$7 -> 0 | J15: =[8]法定・茨城県!$AA$7 -> 0 | K15: =[8]法定・茨城県!$Z$8 -> 6 | L15: =[8]法定・茨城県!$AA$8 -> 8 | M15: =[8]法定・茨城県!$Z$9 -> 0 | N15: =[8]法定・茨城県!$AA$9 -> 0 | O15: =[8]法定・茨城県!$Z$10 -> 0 | P15: =[8]法定・茨城県!$AA$10 -> 0 | Q15: =[8]法定・茨城県!$Z$13 -> 0 | R15: =[8]法定・茨城県!$AA$13 -> 0 | S15: =[8]法定・茨城県!$Z$16 -> 1 | T15: =[8]法定・茨城県!$AA$16 -> 6000 | U15: =[8]法定・茨城県!$Z$17 -> 0 | V15: =[8]法定・茨城県!$AA$17 -> 0 | W15: =[8]法定・茨城県!$Z$18 -> 1 | X15: =[8]法定・茨城県!$AA$18 -> 5
A16: 09 | B16: 栃木 | C16: =[9]法定・栃木県!$Z$3 -> 0 | D16: =[9]法定・栃木県!$AA$3 -> 0 | E16: =[9]法定・栃木県!$Z$4 -> 0 | F16: =[9]法定・栃木県!$AA$4 -> 0 | G16: =[9]法定・栃木県!$Z$5 -> 0 | H16: =[9]法定・栃木県!$AA$5 -> 0 | I16: =[9]法定・栃木県!$Z$7 -> 0 | J16: =[9]法定・栃木県!$AA$7 -> 0 | K16: =[9]法定・栃木県!$Z$8 -> 8 | L16: =[9]法定・栃木県!$AA$8 -> 12 | M16: =[9]法定・栃木県!$Z$9 -> 0 | N16: =[9]法定・栃木県!$AA$9 -> 0 | O16: =[9]法定・栃木県!$Z$10 -> 0 | P16: =[9]法定・栃木県!$AA$10 -> 0 | Q16: =[9]法定・栃木県!$Z$13 -> 0 | R16: =[9]法定・栃木県!$AA$13 -> 0 | S16: =[9]法定・栃木県!$Z$16 -> 0 | T16: =[9]法定・栃木県!$AA$16 -> 0 | U16: =[9]法定・栃木県!$Z$17 -> 0 | V16: =[9]法定・栃木県!$AA$17 -> 0 | W16: =[9]法定・栃木県!$Z$18 -> 1 | X16: =[9]法定・栃木県!$AA$18 -> 2
A17: 10 | B17: 群馬 | C17: =[10]法定・群馬県!$Z$3 -> 0 | D17: =[10]法定・群馬県!$AA$3 -> 0 | E17: =[10]法定・群馬県!$Z$4 -> 0 | F17: =[10]法定・群馬県!$AA$4 -> 0 | G17: =[10]法定・群馬県!$Z$5 -> 0 | H17: =[10]法定・群馬県!$AA$5 -> 0 | I17: =[10]法定・群馬県!$Z$7 -> 0 | J17: =[10]法定・群馬県!$AA$7 -> 0 | K17: =[10]法定・群馬県!$Z$8 -> 7 | L17: =[10]法定・群馬県!$AA$8 -> 9 | M17: =[10]法定・群馬県!$Z$9 -> 0 | N17: =[10]法定・群馬県!$AA$9 -> 0 | O17: =[10]法定・群馬県!$Z$10 -> 0 | P17: =[10]法定・群馬県!$AA$10 -> 0 | Q17: =[10]法定・群馬県!$Z$13 -> 0 | R17: =[10]法定・群馬県!$AA$13 -> 0 | S17: =[10]法定・群馬県!$Z$16 -> 0 | T17: =[10]法定・群馬県!$AA$16 -> 0 | U17: =[10]法定・群馬県!$Z$17 -> 0 | V17: =[10]法定・群馬県!$AA$17 -> 0 | W17: =[10]法定・群馬県!$Z$18 -> 3 | X17: =[10]法定・群馬県!$AA$18 -> 29
A18: 11 | B18: 埼玉 | C18: =[11]法定・埼玉県!$Z$3 -> 0 | D18: =[11]法定・埼玉県!$AA$3 -> 0 | E18: =[11]法定・埼玉県!$Z$4 -> 1 | F18: =[11]法定・埼玉県!$AA$4 -> 1 | G18: =[11]法定・埼玉県!$Z$5 -> 0 | H18: =[11]法定・埼玉県!$AA$5 -> 0 | I18: =[11]法定・埼玉県!$Z$7 -> 0 | J18: =[11]法定・埼玉県!$AA$7 -> 0 | K18: =[11]法定・埼玉県!$Z$8 -> 2 | L18: =[11]法定・埼玉県!$AA$8 -> 2 | M18: =[11]法定・埼玉県!$Z$9 -> 0 | N18: =[11]法定・埼玉県!$AA$9 -> 0 | O18: =[11]法定・埼玉県!$Z$10 -> 0 | P18: =[11]法定・埼玉県!$AA$10 -> 0 | Q18: =[11]法定・埼玉県!$Z$13 -> 0 | R18: =[11]法定・埼玉県!$AA$13 -> 0 | S18: =[11]法定・埼玉県!$Z$16 -> 0 | T18: =[11]法定・埼玉県!$AA$16 -> 0 | U18: =[11]法定・埼玉県!$Z$17 -> 0 | V18: =[11]法定・埼玉県!$AA$17 -> 0 | W18: =[11]法定・埼玉県!$Z$18 -> 2 | X18: =[11]法定・埼玉県!$AA$18 -> 7
A19: 12 | B19: 千葉 | C19: =[12]法定・千葉県!$Z$3 -> 0 | D19: =[12]法定・千葉県!$AA$3 -> 0 | E19: =[12]法定・千葉県!$Z$4 -> 0 | F19: =[12]法定・千葉県!$AA$4 -> 0 | G19: =[12]法定・千葉県!$Z$5 -> 0 | H19: =[12]法定・千葉県!$AA$5 -> 0 | I19: =[12]法定・千葉県!$Z$7 -> 0 | J19: =[12]法定・千葉県!$AA$7 -> 0 | K19: =[12]法定・千葉県!$Z$8 -> 8 | L19: =[12]法定・千葉県!$AA$8 -> 9 | M19: =[12]法定・千葉県!$Z$9 -> 0 | N19: =[12]法定・千葉県!$AA$9 -> 0 | O19: =[12]法定・千葉県!$Z$10 -> 0 | P19: =[12]法定・千葉県!$AA$10 -> 0 | Q19: =[12]法定・千葉県!$Z$13 -> 0 | R19: =[12]法定・千葉県!$AA$13 -> 0 | S19: =[12]法定・千葉県!$Z$16 -> 4 | T19: =[12]法定・千葉県!$AA$16 -> 1112 | U19: =[12]法定・千葉県!$Z$17 -> 0 | V19: =[12]法定・千葉県!$AA$17 -> 0 | W19: =[12]法定・千葉県!$Z$18 -> 0 | X19: =[12]法定・千葉県!$AA$18 -> 0
A20: 13 | B20: 東京 | C20: =[13]法定・東京都!$Z$3 -> 0 | D20: =[13]法定・東京都!$AA$3 -> 0 | E20: =[13]法定・東京都!$Z$4 -> 0 | F20: =[13]法定・東京都!$AA$4 -> 0 | G20: =[13]法定・東京都!$Z$5 -> 0 | H20: =[13]法定・東京都!$AA$5 -> 0 | I20: =[13]法定・東京都!$Z$7 -> 0 | J20: =[13]法定・東京都!$AA$7 -> 0 | K20: =[13]法定・東京都!$Z$8 -> 4 | L20: =[13]法定・東京都!$AA$8 -> 4 | M20: =[13]法定・東京都!$Z$9 -> 0 | N20: =[13]法定・東京都!$AA$9 -> 0 | O20: =[13]法定・東京都!$Z$10 -> 0 | P20: =[13]法定・東京都!$AA$10 -> 0 | Q20: =[13]法定・東京都!$Z$13 -> 0 | R20: =[13]法定・東京都!$AA$13 -> 0 | S20: =[13]法定・東京都!$Z$16 -> 0 | T20: =[13]法定・東京都!$AA$16 -> 0 | U20: =[13]法定・東京都!$Z$17 -> 0 | V20: =[13]法定・東京都!$AA$17 -> 0 | W20: =[13]法定・東京都!$Z$18 -> 0 | X20: =[13]法定・東京都!$AA$18 -> 0
A21: 14 | B21: 神奈川 | C21: =[14]法定・神奈川県!$Z$3 -> 0 | D21: =[14]法定・神奈川県!$AA$3 -> 0 | E21: =[14]法定・神奈川県!$Z$4 -> 0 | F21: =[14]法定・神奈川県!$AA$4 -> 0 | G21: =[14]法定・神奈川県!$Z$5 -> 0 | H21: =[14]法定・神奈川県!$AA$5 -> 0 | I21: =[14]法定・神奈川県!$Z$7 -> 0 | J21: =[14]法定・神奈川県!$AA$7 -> 0 | K21: =[14]法定・神奈川県!$Z$8 -> 4 | L21: =[14]法定・神奈川県!$AA$8 -> 4 | M21: =[14]法定・神奈川県!$Z$9 -> 0 | N21: =[14]法定・神奈川県!$AA$9 -> 0 | O21: =[14]法定・神奈川県!$Z$10 -> 0 | P21: =[14]法定・神奈川県!$AA$10 -> 0 | Q21: =[14]法定・神奈川県!$Z$13 -> 0 | R21: =[14]法定・神奈川県!$AA$13 -> 0 | S21: =[14]法定・神奈川県!$Z$16 -> 0 | T21: =[14]法定・神奈川県!$AA$16 -> 0 | U21: =[14]法定・神奈川県!$Z$17 -> 0 | V21: =[14]法定・神奈川県!$AA$17 -> 0 | W21: =[14]法定・神奈川県!$Z$18 -> 0 | X21: =[14]法定・神奈川県!$AA$18 -> 0
A22: 15 | B22: 新潟 | C22: =[15]法定・新潟県!$Z$3 -> 0 | D22: =[15]法定・新潟県!$AA$3 -> 0 | E22: =[15]法定・新潟県!$Z$4 -> 0 | F22: =[15]法定・新潟県!$AA$4 -> 0 | G22: =[15]法定・新潟県!$Z$5 -> 0 | H22: =[15]法定・新潟県!$AA$5 -> 0 | I22: =[15]法定・新潟県!$Z$7 -> 0 | J22: =[15]法定・新潟県!$AA$7 -> 0 | K22: =[15]法定・新潟県!$Z$8 -> 0 | L22: =[15]法定・新潟県!$AA$8 -> 0 | M22: =[15]法定・新潟県!$Z$9 -> 0 | N22: =[15]法定・新潟県!$AA$9 -> 0 | O22: =[15]法定・新潟県!$Z$10 -> 0 | P22: =[15]法定・新潟県!$AA$10 -> 0 | Q22: =[15]法定・新潟県!$Z$13 -> 0 | R22: =[15]法定・新潟県!$AA$13 -> 0 | S22: =[15]法定・新潟県!$Z$16 -> 0 | T22: =[15]法定・新潟県!$AA$16 -> 0 | U22: =[15]法定・新潟県!$Z$17 -> 0 | V22: =[15]法定・新潟県!$AA$17 -> 0 | W22: =[15]法定・新潟県!$Z$18 -> 0 | X22: =[15]法定・新潟県!$AA$18 -> 0
A23: 16 | B23: 富山 | C23: =[16]法定・富山県!$Z$3 -> 0 | D23: =[16]法定・富山県!$AA$3 -> 0 | E23: =[16]法定・富山県!$Z$4 -> 0 | F23: =[16]法定・富山県!$AA$4 -> 0 | G23: =[16]法定・富山県!$Z$5 -> 0 | H23: =[16]法定・富山県!$AA$5 -> 0 | I23: =[16]法定・富山県!$Z$7 -> 0 | J23: =[16]法定・富山県!$AA$7 -> 0 | K23: =[16]法定・富山県!$Z$8 -> 3 | L23: =[16]法定・富山県!$AA$8 -> 3 | M23: =[16]法定・富山県!$Z$9 -> 0 | N23: =[16]法定・富山県!$AA$9 -> 0 | O23: =[16]法定・富山県!$Z$10 -> 0 | P23: =[16]法定・富山県!$AA$10 -> 0 | Q23: =[16]法定・富山県!$Z$13 -> 0 | R23: =[16]法定・富山県!$AA$13 -> 0 | S23: =[16]法定・富山県!$Z$16 -> 0 | T23: =[16]法定・富山県!$AA$16 -> 0 | U23: =[16]法定・富山県!$Z$17 -> 0 | V23: =[16]法定・富山県!$AA$17 -> 0 | W23: =[16]法定・富山県!$Z$18 -> 0 | X23: =[16]法定・富山県!$AA$18 -> 0
A24: 17 | B24: 石川 | C24: =[17]法定・石川県!$Z$3 -> 0 | D24: =[17]法定・石川県!$AA$3 -> 0 | E24: =[17]法定・石川県!$Z$4 -> 0 | F24: =[17]法定・石川県!$AA$4 -> 0 | G24: =[17]法定・石川県!$Z$5 -> 0 | H24: =[17]法定・石川県!$AA$5 -> 0 | I24: =[17]法定・石川県!$Z$7 -> 0 | J24: =[17]法定・石川県!$AA$7 -> 0 | K24: =[17]法定・石川県!$Z$8 -> 0 | L24: =[17]法定・石川県!$AA$8 -> 0 | M24: =[17]法定・石川県!$Z$9 -> 0 | N24: =[17]法定・石川県!$AA$9 -> 0 | O24: =[17]法定・石川県!$Z$10 -> 0 | P24: =[17]法定・石川県!$AA$10 -> 0 | Q24: =[17]法定・石川県!$Z$13 -> 0 | R24: =[17]法定・石川県!$AA$13 -> 0 | S24: =[17]法定・石川県!$Z$16 -> 0 | T24: =[17]法定・石川県!$AA$16 -> 0 | U24: =[17]法定・石川県!$Z$17 -> 0 | V24: =[17]法定・石川県!$AA$17 -> 0 | W24: =[17]法定・石川県!$Z$18 -> 0 | X24: =[17]法定・石川県!$AA$18 -> 0
A25: 18 | B25: 福井 | C25: =[18]法定・福井県!$Z$3 -> 0 | D25: =[18]法定・福井県!$AA$3 -> 0 | E25: =[18]法定・福井県!$Z$4 -> 0 | F25: =[18]法定・福井県!$AA$4 -> 0 | G25: =[18]法定・福井県!$Z$5 -> 0 | H25: =[18]法定・福井県!$AA$5 -> 0 | I25: =[18]法定・福井県!$Z$7 -> 1 | J25: =[18]法定・福井県!$AA$7 -> 1 | K25: =[18]法定・福井県!$Z$8 -> 0 | L25: =[18]法定・福井県!$AA$8 -> 0 | M25: =[18]法定・福井県!$Z$9 -> 0 | N25: =[18]法定・福井県!$AA$9 -> 0 | O25: =[18]法定・福井県!$Z$10 -> 0 | P25: =[18]法定・福井県!$AA$10 -> 0 | Q25: =[18]法定・福井県!$Z$13 -> 0 | R25: =[18]法定・福井県!$AA$13 -> 0 | S25: =[18]法定・福井県!$Z$16 -> 0 | T25: =[18]法定・福井県!$AA$16 -> 0 | U25: =[18]法定・福井県!$Z$17 -> 0 | V25: =[18]法定・福井県!$AA$17 -> 0 | W25: =[18]法定・福井県!$Z$18 -> 0 | X25: =[18]法定・福井県!$AA$18 -> 0
A26: 19 | B26: 山梨 | C26: =[19]法定・山梨県!$Z$3 -> 0 | D26: =[19]法定・山梨県!$AA$3 -> 0 | E26: =[19]法定・山梨県!$Z$4 -> 0 | F26: =[19]法定・山梨県!$AA$4 -> 0 | G26: =[19]法定・山梨県!$Z$5 -> 0 | H26: =[19]法定・山梨県!$AA$5 -> 0 | I26: =[19]法定・山梨県!$Z$7 -> 0 | J26: =[19]法定・山梨県!$AA$7 -> 0 | K26: =[19]法定・山梨県!$Z$8 -> 3 | L26: =[19]法定・山梨県!$AA$8 -> 3 | M26: =[19]法定・山梨県!$Z$9 -> 0 | N26: =[19]法定・山梨県!$AA$9 -> 0 | O26: =[19]法定・山梨県!$Z$10 -> 0 | P26: =[19]法定・山梨県!$AA$10 -> 0 | Q26: =[19]法定・山梨県!$Z$13 -> 0 | R26: =[19]法定・山梨県!$AA$13 -> 0 | S26: =[19]法定・山梨県!$Z$16 -> 0 | T26: =[19]法定・山梨県!$AA$16 -> 0 | U26: =[19]法定・山梨県!$Z$17 -> 0 | V26: =[19]法定・山梨県!$AA$17 -> 0 | W26: =[19]法定・山梨県!$Z$18 -> 0 | X26: =[19]法定・山梨県!$AA$18 -> 0
A27: 20 | B27: 長野 | C27: =[20]法定・長野県!$Z$3 -> 0 | D27: =[20]法定・長野県!$AA$3 -> 0 | E27: =[20]法定・長野県!$Z$4 -> 0 | F27: =[20]法定・長野県!$AA$4 -> 0 | G27: =[20]法定・長野県!$Z$5 -> 0 | H27: =[20]法定・長野県!$AA$5 -> 0 | I27: =[20]法定・長野県!$Z$7 -> 0 | J27: =[20]法定・長野県!$AA$7 -> 0 | K27: =[20]法定・長野県!$Z$8 -> 3 | L27: =[20]法定・長野県!$AA$8 -> 7 | M27: =[20]法定・長野県!$Z$9 -> 1 | N27: =[20]法定・長野県!$AA$9 -> 1 | O27: =[20]法定・長野県!$Z$10 -> 3 | P27: =[20]法定・長野県!$AA$10 -> 4 | Q27: =[20]法定・長野県!$Z$13 -> 0 | R27: =[20]法定・長野県!$AA$13 -> 0 | S27: =[20]法定・長野県!$Z$16 -> 0 | T27: =[20]法定・長野県!$AA$16 -> 0 | U27: =[20]法定・長野県!$Z$17 -> 0 | V27: =[20]法定・長野県!$AA$17 -> 0 | W27: =[20]法定・長野県!$Z$18 -> 22 | X27: =[20]法定・長野県!$AA$18 -> 58
A28: 21 | B28: 岐阜 | C28: =[21]法定・岐阜県!$Z$3 -> 0 | D28: =[21]法定・岐阜県!$AA$3 -> 0 | E28: =[21]法定・岐阜県!$Z$4 -> 0 | F28: =[21]法定・岐阜県!$AA$4 -> 0 | G28: =[21]法定・岐阜県!$Z$5 -> 0 | H28: =[21]法定・岐阜県!$AA$5 -> 0 | I28: =[21]法定・岐阜県!$Z$7 -> 0 | J28: =[21]法定・岐阜県!$AA$7 -> 0 | K28: =[21]法定・岐阜県!$Z$8 -> 0 | L28: =[21]法定・岐阜県!$AA$8 -> 0 | M28: =[21]法定・岐阜県!$Z$9 -> 0 | N28: =[21]法定・岐阜県!$AA$9 -> 0 | O28: =[21]法定・岐阜県!$Z$10 -> 0 | P28: =[21]法定・岐阜県!$AA$10 -> 0 | Q28: =[21]法定・岐阜県!$Z$13 -> 0 | R28: =[21]法定・岐阜県!$AA$13 -> 0 | S28: =[21]法定・岐阜県!$Z$16 -> 0 | T28: =[21]法定・岐阜県!$AA$16 -> 0 | U28: =[21]法定・岐阜県!$Z$17 -> 0 | V28: =[21]法定・岐阜県!$AA$17 -> 0 | W28: =[21]法定・岐阜県!$Z$18 -> 3 | X28: =[21]法定・岐阜県!$AA$18 -> 3
A29: 22 | B29: 静岡 | C29: =[22]法定・静岡県!$Z$3 -> 0 | D29: =[22]法定・静岡県!$AA$3 -> 0 | E29: =[22]法定・静岡県!$Z$4 -> 0 | F29: =[22]法定・静岡県!$AA$4 -> 0 | G29: =[22]法定・静岡県!$Z$5 -> 0 | H29: =[22]法定・静岡県!$AA$5 -> 0 | I29: =[22]法定・静岡県!$Z$7 -> 0 | J29: =[22]法定・静岡県!$AA$7 -> 0 | K29: =[22]法定・静岡県!$Z$8 -> 1 | L29: =[22]法定・静岡県!$AA$8 -> 7 | M29: =[22]法定・静岡県!$Z$9 -> 0 | N29: =[22]法定・静岡県!$AA$9 -> 0 | O29: =[22]法定・静岡県!$Z$10 -> 0 | P29: =[22]法定・静岡県!$AA$10 -> 0 | Q29: =[22]法定・静岡県!$Z$13 -> 0 | R29: =[22]法定・静岡県!$AA$13 -> 0 | S29: =[22]法定・静岡県!$Z$16 -> 0 | T29: =[22]法定・静岡県!$AA$16 -> 0 | U29: =[22]法定・静岡県!$Z$17 -> 0 | V29: =[22]法定・静岡県!$AA$17 -> 0 | W29: =[22]法定・静岡県!$Z$18 -> 0 | X29: =[22]法定・静岡県!$AA$18 -> 0
A30: 23 | B30: 愛知 | C30: =[23]法定・愛知県!$Z$3 -> 0 | D30: =[23]法定・愛知県!$AA$3 -> 0 | E30: =[23]法定・愛知県!$Z$4 -> 0 | F30: =[23]法定・愛知県!$AA$4 -> 0 | G30: =[23]法定・愛知県!$Z$5 -> 0 | H30: =[23]法定・愛知県!$AA$5 -> 0 | I30: =[23]法定・愛知県!$Z$7 -> 0 | J30: =[23]法定・愛知県!$AA$7 -> 0 | K30: =[23]法定・愛知県!$Z$8 -> 9 | L30: =[23]法定・愛知県!$AA$8 -> 10 | M30: =[23]法定・愛知県!$Z$9 -> 0 | N30: =[23]法定・愛知県!$AA$9 -> 0 | O30: =[23]法定・愛知県!$Z$10 -> 0 | P30: =[23]法定・愛知県!$AA$10 -> 0 | Q30: =[23]法定・愛知県!$Z$13 -> 0 | R30: =[23]法定・愛知県!$AA$13 -> 0 | S30: =[23]法定・愛知県!$Z$16 -> 0 | T30: =[23]法定・愛知県!$AA$16 -> 0 | U30: =[23]法定・愛知県!$Z$17 -> 0 | V30: =[23]法定・愛知県!$AA$17 -> 0 | W30: =[23]法定・愛知県!$Z$18 -> 0 | X30: =[23]法定・愛知県!$AA$18 -> 0
A31: 24 | B31: 三重 | C31: =[24]法定・三重県!$Z$3 -> 0 | D31: =[24]法定・三重県!$AA$3 -> 0 | E31: =[24]法定・三重県!$Z$4 -> 1 | F31: =[24]法定・三重県!$AA$4 -> 3 | G31: =[24]法定・三重県!$Z$5 -> 0 | H31: =[24]法定・三重県!$AA$5 -> 0 | I31: =[24]法定・三重県!$Z$7 -> 0 | J31: =[24]法定・三重県!$AA$7 -> 0 | K31: =[24]法定・三重県!$Z$8 -> 1 | L31: =[24]法定・三重県!$AA$8 -> 1 | M31: =[24]法定・三重県!$Z$9 -> 0 | N31: =[24]法定・三重県!$AA$9 -> 0 | O31: =[24]法定・三重県!$Z$10 -> 0 | P31: =[24]法定・三重県!$AA$10 -> 0 | Q31: =[24]法定・三重県!$Z$13 -> 0 | R31: =[24]法定・三重県!$AA$13 -> 0 | S31: =[24]法定・三重県!$Z$16 -> 0 | T31: =[24]法定・三重県!$AA$16 -> 0 | U31: =[24]法定・三重県!$Z$17 -> 0 | V31: =[24]法定・三重県!$AA$17 -> 0 | W31: =[24]法定・三重県!$Z$18 -> 0 | X31: =[24]法定・三重県!$AA$18 -> 0
A32: 25 | B32: 滋賀 | C32: =[25]法定・滋賀県!$Z$3 -> 0 | D32: =[25]法定・滋賀県!$AA$3 -> 0 | E32: =[25]法定・滋賀県!$Z$4 -> 0 | F32: =[25]法定・滋賀県!$AA$4 -> 0 | G32: =[25]法定・滋賀県!$Z$5 -> 0 | H32: =[25]法定・滋賀県!$AA$5 -> 0 | I32: =[25]法定・滋賀県!$Z$7 -> 0 | J32: =[25]法定・滋賀県!$AA$7 -> 0 | K32: =[25]法定・滋賀県!$Z$8 -> 0 | L32: =[25]法定・滋賀県!$AA$8 -> 0 | M32: =[25]法定・滋賀県!$Z$9 -> 0 | N32: =[25]法定・滋賀県!$AA$9 -> 0 | O32: =[25]法定・滋賀県!$Z$10 -> 0 | P32: =[25]法定・滋賀県!$AA$10 -> 0 | Q32: =[25]法定・滋賀県!$Z$13 -> 0 | R32: =[25]法定・滋賀県!$AA$13 -> 0 | S32: =[25]法定・滋賀県!$Z$16 -> 0 | T32: =[25]法定・滋賀県!$AA$16 -> 0 | U32: =[25]法定・滋賀県!$Z$17 -> 0 | V32: =[25]法定・滋賀県!$AA$17 -> 0 | W32: =[25]法定・滋賀県!$Z$18 -> 0 | X32: =[25]法定・滋賀県!$AA$18 -> 0
A33: 26 | B33: 京都 | C33: =[26]法定・京都府!$Z$3 -> 0 | D33: =[26]法定・京都府!$AA$3 -> 0 | E33: =[26]法定・京都府!$Z$4 -> 0 | F33: =[26]法定・京都府!$AA$4 -> 0 | G33: =[26]法定・京都府!$Z$5 -> 0 | H33: =[26]法定・京都府!$AA$5 -> 0 | I33: =[26]法定・京都府!$Z$7 -> 0 | J33: =[26]法定・京都府!$AA$7 -> 0 | K33: =[26]法定・京都府!$Z$8 -> 2 | L33: =[26]法定・京都府!$AA$8 -> 7 | M33: =[26]法定・京都府!$Z$9 -> 0 | N33: =[26]法定・京都府!$AA$9 -> 0 | O33: =[26]法定・京都府!$Z$10 -> 0 | P33: =[26]法定・京都府!$AA$10 -> 0 | Q33: =[26]法定・京都府!$Z$13 -> 0 | R33: =[26]法定・京都府!$AA$13 -> 0 | S33: =[26]法定・京都府!$Z$16 -> 0 | T33: =[26]法定・京都府!$AA$16 -> 0 | U33: =[26]法定・京都府!$Z$17 -> 0 | V33: =[26]法定・京都府!$AA$17 -> 0 | W33: =[26]法定・京都府!$Z$18 -> 0 | X33: =[26]法定・京都府!$AA$18 -> 0
A34: 27 | B34: 大阪 | C34: =[27]法定・大阪府!$Z$3 -> 0 | D34: =[27]法定・大阪府!$AA$3 -> 0 | E34: =[27]法定・大阪府!$Z$4 -> 0 | F34: =[27]法定・大阪府!$AA$4 -> 0 | G34: =[27]法定・大阪府!$Z$5 -> 0 | H34: =[27]法定・大阪府!$AA$5 -> 0 | I34: =[27]法定・大阪府!$Z$7 -> 0 | J34: =[27]法定・大阪府!$AA$7 -> 0 | K34: =[27]法定・大阪府!$Z$8 -> 0 | L34: =[27]法定・大阪府!$AA$8 -> 0 | M34: =[27]法定・大阪府!$Z$9 -> 1 | N34: =[27]法定・大阪府!$AA$9 -> 1 | O34: =[27]法定・大阪府!$Z$10 -> 1 | P34: =[27]法定・大阪府!$AA$10 -> 1 | Q34: =[27]法定・大阪府!$Z$13 -> 0 | R34: =[27]法定・大阪府!$AA$13 -> 0 | S34: =[27]法定・大阪府!$Z$16 -> 0 | T34: =[27]法定・大阪府!$AA$16 -> 0 | U34: =[27]法定・大阪府!$Z$17 -> 0 | V34: =[27]法定・大阪府!$AA$17 -> 0 | W34: =[27]法定・大阪府!$Z$18 -> 0 | X34: =[27]法定・大阪府!$AA$18 -> 0
A35: 28 | B35: 兵庫 | C35: =[28]法定・兵庫県!$Z$3 -> 0 | D35: =[28]法定・兵庫県!$AA$3 -> 0 | E35: =[28]法定・兵庫県!$Z$4 -> 0 | F35: =[28]法定・兵庫県!$AA$4 -> 0 | G35: =[28]法定・兵庫県!$Z$5 -> 0 | H35: =[28]法定・兵庫県!$AA$5 -> 0 | I35: =[28]法定・兵庫県!$Z$7 -> 0 | J35: =[28]法定・兵庫県!$AA$7 -> 0 | K35: =[28]法定・兵庫県!$Z$8 -> 0 | L35: =[28]法定・兵庫県!$AA$8 -> 0 | M35: =[28]法定・兵庫県!$Z$9 -> 0 | N35: =[28]法定・兵庫県!$AA$9 -> 0 | O35: =[28]法定・兵庫県!$Z$10 -> 0 | P35: =[28]法定・兵庫県!$AA$10 -> 0 | Q35: =[28]法定・兵庫県!$Z$13 -> 0 | R35: =[28]法定・兵庫県!$AA$13 -> 0 | S35: =[28]法定・兵庫県!$Z$16 -> 0 | T35: =[28]法定・兵庫県!$AA$16 -> 0 | U35: =[28]法定・兵庫県!$Z$17 -> 0 | V35: =[28]法定・兵庫県!$AA$17 -> 0 | W35: =[28]法定・兵庫県!$Z$18 -> 0 | X35: =[28]法定・兵庫県!$AA$18 -> 0
A36: 29 | B36: 奈良 | C36: =[29]法定・奈良県!$Z$3 -> 0 | D36: =[29]法定・奈良県!$AA$3 -> 0 | E36: =[29]法定・奈良県!$Z$4 -> 0 | F36: =[29]法定・奈良県!$AA$4 -> 0 | G36: =[29]法定・奈良県!$Z$5 -> 0 | H36: =[29]法定・奈良県!$AA$5 -> 0 | I36: =[29]法定・奈良県!$Z$7 -> 0 | J36: =[29]法定・奈良県!$AA$7 -> 0 | K36: =[29]法定・奈良県!$Z$8 -> 0 | L36: =[29]法定・奈良県!$AA$8 -> 0 | M36: =[29]法定・奈良県!$Z$9 -> 0 | N36: =[29]法定・奈良県!$AA$9 -> 0 | O36: =[29]法定・奈良県!$Z$10 -> 0 | P36: =[29]法定・奈良県!$AA$10 -> 0 | Q36: =[29]法定・奈良県!$Z$13 -> 0 | R36: =[29]法定・奈良県!$AA$13 -> 0 | S36: =[29]法定・奈良県!$Z$16 -> 0 | T36: =[29]法定・奈良県!$AA$16 -> 0 | U36: =[29]法定・奈良県!$Z$17 -> 0 | V36: =[29]法定・奈良県!$AA$17 -> 0 | W36: =[29]法定・奈良県!$Z$18 -> 0 | X36: =[29]法定・奈良県!$AA$18 -> 0
A37: 30 | B37: 和歌山 | C37: =[30]法定・和歌山県!$Z$3 -> 0 | D37: =[30]法定・和歌山県!$AA$3 -> 0 | E37: =[30]法定・和歌山県!$Z$4 -> 0 | F37: =[30]法定・和歌山県!$AA$4 -> 0 | G37: =[30]法定・和歌山県!$Z$5 -> 0 | H37: =[30]法定・和歌山県!$AA$5 -> 0 | I37: =[30]法定・和歌山県!$Z$7 -> 0 | J37: =[30]法定・和歌山県!$AA$7 -> 0 | K37: =[30]法定・和歌山県!$Z$8 -> 1 | L37: =[30]法定・和歌山県!$AA$8 -> 1 | M37: =[30]法定・和歌山県!$Z$9 -> 0 | N37: =[30]法定・和歌山県!$AA$9 -> 0 | O37: =[30]法定・和歌山県!$Z$10 -> 0 | P37: =[30]法定・和歌山県!$AA$10 -> 0 | Q37: =[30]法定・和歌山県!$Z$13 -> 0 | R37: =[30]法定・和歌山県!$AA$13 -> 0 | S37: =[30]法定・和歌山県!$Z$16 -> 0 | T37: =[30]法定・和歌山県!$AA$16 -> 0 | U37: =[30]法定・和歌山県!$Z$17 -> 0 | V37: =[30]法定・和歌山県!$AA$17 -> 0 | W37: =[30]法定・和歌山県!$Z$18 -> 0 | X37: =[30]法定・和歌山県!$AA$18 -> 0
A38: 31 | B38: 鳥取 | C38: =[31]法定・鳥取県!$Z$3 -> 0 | D38: =[31]法定・鳥取県!$AA$3 -> 0 | E38: =[31]法定・鳥取県!$Z$4 -> 0 | F38: =[31]法定・鳥取県!$AA$4 -> 0 | G38: =[31]法定・鳥取県!$Z$5 -> 0 | H38: =[31]法定・鳥取県!$AA$5 -> 0 | I38: =[31]法定・鳥取県!$Z$7 -> 0 | J38: =[31]法定・鳥取県!$AA$7 -> 0 | K38: =[31]法定・鳥取県!$Z$8 -> 5 | L38: =[31]法定・鳥取県!$AA$8 -> 5 | M38: =[31]法定・鳥取県!$Z$9 -> 0 | N38: =[31]法定・鳥取県!$AA$9 -> 0 | O38: =[31]法定・鳥取県!$Z$10 -> 0 | P38: =[31]法定・鳥取県!$AA$10 -> 0 | Q38: =[31]法定・鳥取県!$Z$13 -> 0 | R38: =[31]法定・鳥取県!$AA$13 -> 0 | S38: =[31]法定・鳥取県!$Z$16 -> 0 | T38: =[31]法定・鳥取県!$AA$16 -> 0 | U38: =[31]法定・鳥取県!$Z$17 -> 0 | V38: =[31]法定・鳥取県!$AA$17 -> 0 | W38: =[31]法定・鳥取県!$Z$18 -> 0 | X38: =[31]法定・鳥取県!$AA$18 -> 0
A39: 32 | B39: 島根 | C39: =[32]法定・島根県!$Z$3 -> 0 | D39: =[32]法定・島根県!$AA$3 -> 0 | E39: =[32]法定・島根県!$Z$4 -> 0 | F39: =[32]法定・島根県!$AA$4 -> 0 | G39: =[32]法定・島根県!$Z$5 -> 0 | H39: =[32]法定・島根県!$AA$5 -> 0 | I39: =[32]法定・島根県!$Z$7 -> 0 | J39: =[32]法定・島根県!$AA$7 -> 0 | K39: =[32]法定・島根県!$Z$8 -> 0 | L39: =[32]法定・島根県!$AA$8 -> 0 | M39: =[32]法定・島根県!$Z$9 -> 0 | N39: =[32]法定・島根県!$AA$9 -> 0 | O39: =[32]法定・島根県!$Z$10 -> 0 | P39: =[32]法定・島根県!$AA$10 -> 0 | Q39: =[32]法定・島根県!$Z$13 -> 0 | R39: =[32]法定・島根県!$AA$13 -> 0 | S39: =[32]法定・島根県!$Z$16 -> 0 | T39: =[32]法定・島根県!$AA$16 -> 0 | U39: =[32]法定・島根県!$Z$17 -> 0 | V39: =[32]法定・島根県!$AA$17 -> 0 | W39: =[32]法定・島根県!$Z$18 -> 0 | X39: =[32]法定・島根県!$AA$18 -> 0
A40: 33 | B40: 岡山 | C40: =[33]法定・岡山県!$Z$3 -> 0 | D40: =[33]法定・岡山県!$AA$3 -> 0 | E40: =[33]法定・岡山県!$Z$4 -> 0 | F40: =[33]法定・岡山県!$AA$4 -> 0 | G40: =[33]法定・岡山県!$Z$5 -> 0 | H40: =[33]法定・岡山県!$AA$5 -> 0 | I40: =[33]法定・岡山県!$Z$7 -> 0 | J40: =[33]法定・岡山県!$AA$7 -> 0 | K40: =[33]法定・岡山県!$Z$8 -> 8 | L40: =[33]法定・岡山県!$AA$8 -> 9 | M40: =[33]法定・岡山県!$Z$9 -> 0 | N40: =[33]法定・岡山県!$AA$9 -> 0 | O40: =[33]法定・岡山県!$Z$10 -> 0 | P40: =[33]法定・岡山県!$AA$10 -> 0 | Q40: =[33]法定・岡山県!$Z$13 -> 0 | R40: =[33]法定・岡山県!$AA$13 -> 0 | S40: =[33]法定・岡山県!$Z$16 -> 0 | T40: =[33]法定・岡山県!$AA$16 -> 0 | U40: =[33]法定・岡山県!$Z$17 -> 0 | V40: =[33]法定・岡山県!$AA$17 -> 0 | W40: =[33]法定・岡山県!$Z$18 -> 0 | X40: =[33]法定・岡山県!$AA$18 -> 0
A41: 34 | B41: 広島 | C41: =[34]法定・広島県!$Z$3 -> 0 | D41: =[34]法定・広島県!$AA$3 -> 0 | E41: =[34]法定・広島県!$Z$4 -> 0 | F41: =[34]法定・広島県!$AA$4 -> 0 | G41: =[34]法定・広島県!$Z$5 -> 0 | H41: =[34]法定・広島県!$AA$5 -> 0 | I41: =[34]法定・広島県!$Z$7 -> 0 | J41: =[34]法定・広島県!$AA$7 -> 0 | K41: =[34]法定・広島県!$Z$8 -> 2 | L41: =[34]法定・広島県!$AA$8 -> 5 | M41: =[34]法定・広島県!$Z$9 -> 0 | N41: =[34]法定・広島県!$AA$9 -> 0 | O41: =[34]法定・広島県!$Z$10 -> 0 | P41: =[34]法定・広島県!$AA$10 -> 0 | Q41: =[34]法定・広島県!$Z$13 -> 0 | R41: =[34]法定・広島県!$AA$13 -> 0 | S41: =[34]法定・広島県!$Z$16 -> 0 | T41: =[34]法定・広島県!$AA$16 -> 0 | U41: =[34]法定・広島県!$Z$17 -> 0 | V41: =[34]法定・広島県!$AA$17 -> 0 | W41: =[34]法定・広島県!$Z$18 -> 2 | X41: =[34]法定・広島県!$AA$18 -> 4
A42: 35 | B42: 山口 | C42: =[35]法定・山口県!$Z$3 -> 0 | D42: =[35]法定・山口県!$AA$3 -> 0 | E42: =[35]法定・山口県!$Z$4 -> 0 | F42: =[35]法定・山口県!$AA$4 -> 0 | G42: =[35]法定・山口県!$Z$5 -> 0 | H42: =[35]法定・山口県!$AA$5 -> 0 | I42: =[35]法定・山口県!$Z$7 -> 0 | J42: =[35]法定・山口県!$AA$7 -> 0 | K42: =[35]法定・山口県!$Z$8 -> 0 | L42: =[35]法定・山口県!$AA$8 -> 0 | M42: =[35]法定・山口県!$Z$9 -> 0 | N42: =[35]法定・山口県!$AA$9 -> 0 | O42: =[35]法定・山口県!$Z$10 -> 0 | P42: =[35]法定・山口県!$AA$10 -> 0 | Q42: =[35]法定・山口県!$Z$13 -> 0 | R42: =[35]法定・山口県!$AA$13 -> 0 | S42: =[35]法定・山口県!$Z$16 -> 0 | T42: =[35]法定・山口県!$AA$16 -> 0 | U42: =[35]法定・山口県!$Z$17 -> 0 | V42: =[35]法定・山口県!$AA$17 -> 0 | W42: =[35]法定・山口県!$Z$18 -> 1 | X42: =[35]法定・山口県!$AA$18 -> 7
A43: 36 | B43: 徳島 | C43: =[36]法定・徳島県!$Z$3 -> 0 | D43: =[36]法定・徳島県!$AA$3 -> 0 | E43: =[36]法定・徳島県!$Z$4 -> 0 | F43: =[36]法定・徳島県!$AA$4 -> 0 | G43: =[36]法定・徳島県!$Z$5 -> 0 | H43: =[36]法定・徳島県!$AA$5 -> 0 | I43: =[36]法定・徳島県!$Z$7 -> 0 | J43: =[36]法定・徳島県!$AA$7 -> 0 | K43: =[36]法定・徳島県!$Z$8 -> 0 | L43: =[36]法定・徳島県!$AA$8 -> 0 | M43: =[36]法定・徳島県!$Z$9 -> 0 | N43: =[36]法定・徳島県!$AA$9 -> 0 | O43: =[36]法定・徳島県!$Z$10 -> 0 | P43: =[36]法定・徳島県!$AA$10 -> 0 | Q43: =[36]法定・徳島県!$Z$13 -> 0 | R43: =[36]法定・徳島県!$AA$13 -> 0 | S43: =[36]法定・徳島県!$Z$16 -> 0 | T43: =[36]法定・徳島県!$AA$16 -> 0 | U43: =[36]法定・徳島県!$Z$17 -> 0 | V43: =[36]法定・徳島県!$AA$17 -> 0 | W43: =[36]法定・徳島県!$Z$18 -> 0 | X43: =[36]法定・徳島県!$AA$18 -> 0
A44: 37 | B44: 香川 | C44: =[37]法定・香川県!$Z$3 -> 0 | D44: =[37]法定・香川県!$AA$3 -> 0 | E44: =[37]法定・香川県!$Z$4 -> 0 | F44: =[37]法定・香川県!$AA$4 -> 0 | G44: =[37]法定・香川県!$Z$5 -> 0 | H44: =[37]法定・香川県!$AA$5 -> 0 | I44: =[37]法定・香川県!$Z$7 -> 0 | J44: =[37]法定・香川県!$AA$7 -> 0 | K44: =[37]法定・香川県!$Z$8 -> 4 | L44: =[37]法定・香川県!$AA$8 -> 6 | M44: =[37]法定・香川県!$Z$9 -> 0 | N44: =[37]法定・香川県!$AA$9 -> 0 | O44: =[37]法定・香川県!$Z$10 -> 0 | P44: =[37]法定・香川県!$AA$10 -> 0 | Q44: =[37]法定・香川県!$Z$13 -> 0 | R44: =[37]法定・香川県!$AA$13 -> 0 | S44: =[37]法定・香川県!$Z$16 -> 0 | T44: =[37]法定・香川県!$AA$16 -> 0 | U44: =[37]法定・香川県!$Z$17 -> 0 | V44: =[37]法定・香川県!$AA$17 -> 0 | W44: =[37]法定・香川県!$Z$18 -> 0 | X44: =[37]法定・香川県!$AA$18 -> 0
A45: 38 | B45: 愛媛 | C45: =[38]法定・愛媛県!$Z$3 -> 0 | D45: =[38]法定・愛媛県!$AA$3 -> 0 | E45: =[38]法定・愛媛県!$Z$4 -> 0 | F45: =[38]法定・愛媛県!$AA$4 -> 0 | G45: =[38]法定・愛媛県!$Z$5 -> 0 | H45: =[38]法定・愛媛県!$AA$5 -> 0 | I45: =[38]法定・愛媛県!$Z$7 -> 0 | J45: =[38]法定・愛媛県!$AA$7 -> 0 | K45: =[38]法定・愛媛県!$Z$8 -> 0 | L45: =[38]法定・愛媛県!$AA$8 -> 0 | M45: =[38]法定・愛媛県!$Z$9 -> 0 | N45: =[38]法定・愛媛県!$AA$9 -> 0 | O45: =[38]法定・愛媛県!$Z$10 -> 0 | P45: =[38]法定・愛媛県!$AA$10 -> 0 | Q45: =[38]法定・愛媛県!$Z$13 -> 0 | R45: =[38]法定・愛媛県!$AA$13 -> 0 | S45: =[38]法定・愛媛県!$Z$16 -> 0 | T45: =[38]法定・愛媛県!$AA$16 -> 0 | U45: =[38]法定・愛媛県!$Z$17 -> 0 | V45: =[38]法定・愛媛県!$AA$17 -> 0 | W45: =[38]法定・愛媛県!$Z$18 -> 0 | X45: =[38]法定・愛媛県!$AA$18 -> 0
A46: 39 | B46: 高知 | C46: =[39]法定・高知県!$Z$3 -> 0 | D46: =[39]法定・高知県!$AA$3 -> 0 | E46: =[39]法定・高知県!$Z$4 -> 1 | F46: =[39]法定・高知県!$AA$4 -> 2 | G46: =[39]法定・高知県!$Z$5 -> 0 | H46: =[39]法定・高知県!$AA$5 -> 0 | I46: =[39]法定・高知県!$Z$7 -> 0 | J46: =[39]法定・高知県!$AA$7 -> 0 | K46: =[39]法定・高知県!$Z$8 -> 2 | L46: =[39]法定・高知県!$AA$8 -> 2 | M46: =[39]法定・高知県!$Z$9 -> 1 | N46: =[39]法定・高知県!$AA$9 -> 4 | O46: =[39]法定・高知県!$Z$10 -> 1 | P46: =[39]法定・高知県!$AA$10 -> 2 | Q46: =[39]法定・高知県!$Z$13 -> 0 | R46: =[39]法定・高知県!$AA$13 -> 0 | S46: =[39]法定・高知県!$Z$16 -> 0 | T46: =[39]法定・高知県!$AA$16 -> 0 | U46: =[39]法定・高知県!$Z$17 -> 0 | V46: =[39]法定・高知県!$AA$17 -> 0 | W46: =[39]法定・高知県!$Z$18 -> 0 | X46: =[39]法定・高知県!$AA$18 -> 0
A47: 40 | B47: 福岡 | C47: =[40]法定・福岡県!$Z$3 -> 0 | D47: =[40]法定・福岡県!$AA$3 -> 0 | E47: =[40]法定・福岡県!$Z$4 -> 0 | F47: =[40]法定・福岡県!$AA$4 -> 0 | G47: =[40]法定・福岡県!$Z$5 -> 0 | H47: =[40]法定・福岡県!$AA$5 -> 0 | I47: =[40]法定・福岡県!$Z$7 -> 0 | J47: =[40]法定・福岡県!$AA$7 -> 0 | K47: =[40]法定・福岡県!$Z$8 -> 1 | L47: =[40]法定・福岡県!$AA$8 -> 1 | M47: =[40]法定・福岡県!$Z$9 -> 0 | N47: =[40]法定・福岡県!$AA$9 -> 0 | O47: =[40]法定・福岡県!$Z$10 -> 0 | P47: =[40]法定・福岡県!$AA$10 -> 0 | Q47: =[40]法定・福岡県!$Z$13 -> 0 | R47: =[40]法定・福岡県!$AA$13 -> 0 | S47: =[40]法定・福岡県!$Z$16 -> 0 | T47: =[40]法定・福岡県!$AA$16 -> 0 | U47: =[40]法定・福岡県!$Z$17 -> 0 | V47: =[40]法定・福岡県!$AA$17 -> 0 | W47: =[40]法定・福岡県!$Z$18 -> 0 | X47: =[40]法定・福岡県!$AA$18 -> 0
A48: 41 | B48: 佐賀 | C48: =[41]法定・佐賀県!$Z$3 -> 0 | D48: =[41]法定・佐賀県!$AA$3 -> 0 | E48: =[41]法定・佐賀県!$Z$4 -> 0 | F48: =[41]法定・佐賀県!$AA$4 -> 0 | G48: =[41]法定・佐賀県!$Z$5 -> 0 | H48: =[41]法定・佐賀県!$AA$5 -> 0 | I48: =[41]法定・佐賀県!$Z$7 -> 0 | J48: =[41]法定・佐賀県!$AA$7 -> 0 | K48: =[41]法定・佐賀県!$Z$8 -> 0 | L48: =[41]法定・佐賀県!$AA$8 -> 0 | M48: =[41]法定・佐賀県!$Z$9 -> 0 | N48: =[41]法定・佐賀県!$AA$9 -> 0 | O48: =[41]法定・佐賀県!$Z$10 -> 0 | P48: =[41]法定・佐賀県!$AA$10 -> 0 | Q48: =[41]法定・佐賀県!$Z$13 -> 0 | R48: =[41]法定・佐賀県!$AA$13 -> 0 | S48: =[41]法定・佐賀県!$Z$16 -> 0 | T48: =[41]法定・佐賀県!$AA$16 -> 0 | U48: =[41]法定・佐賀県!$Z$17 -> 0 | V48: =[41]法定・佐賀県!$AA$17 -> 0 | W48: =[41]法定・佐賀県!$Z$18 -> 0 | X48: =[41]法定・佐賀県!$AA$18 -> 0
A49: 42 | B49: 長崎 | C49: =[42]法定・長崎県!$Z$3 -> 0 | D49: =[42]法定・長崎県!$AA$3 -> 0 | E49: =[42]法定・長崎県!$Z$4 -> 0 | F49: =[42]法定・長崎県!$AA$4 -> 0 | G49: =[42]法定・長崎県!$Z$5 -> 0 | H49: =[42]法定・長崎県!$AA$5 -> 0 | I49: =[42]法定・長崎県!$Z$7 -> 0 | J49: =[42]法定・長崎県!$AA$7 -> 0 | K49: =[42]法定・長崎県!$Z$8 -> 0 | L49: =[42]法定・長崎県!$AA$8 -> 0 | M49: =[42]法定・長崎県!$Z$9 -> 0 | N49: =[42]法定・長崎県!$AA$9 -> 0 | O49: =[42]法定・長崎県!$Z$10 -> 0 | P49: =[42]法定・長崎県!$AA$10 -> 0 | Q49: =[42]法定・長崎県!$Z$13 -> 0 | R49: =[42]法定・長崎県!$AA$13 -> 0 | S49: =[42]法定・長崎県!$Z$16 -> 0 | T49: =[42]法定・長崎県!$AA$16 -> 0 | U49: =[42]法定・長崎県!$Z$17 -> 0 | V49: =[42]法定・長崎県!$AA$17 -> 0 | W49: =[42]法定・長崎県!$Z$18 -> 0 | X49: =[42]法定・長崎県!$AA$18 -> 0
A50: 43 | B50: 熊本 | C50: =[43]法定・熊本県!$Z$3 -> 0 | D50: =[43]法定・熊本県!$AA$3 -> 0 | E50: =[43]法定・熊本県!$Z$4 -> 0 | F50: =[43]法定・熊本県!$AA$4 -> 0 | G50: =[43]法定・熊本県!$Z$5 -> 0 | H50: =[43]法定・熊本県!$AA$5 -> 0 | I50: =[43]法定・熊本県!$Z$7 -> 0 | J50: =[43]法定・熊本県!$AA$7 -> 0 | K50: =[43]法定・熊本県!$Z$8 -> 4 | L50: =[43]法定・熊本県!$AA$8 -> 7 | M50: =[43]法定・熊本県!$Z$9 -> 0 | N50: =[43]法定・熊本県!$AA$9 -> 0 | O50: =[43]法定・熊本県!$Z$10 -> 0 | P50: =[43]法定・熊本県!$AA$10 -> 0 | Q50: =[43]法定・熊本県!$Z$13 -> 0 | R50: =[43]法定・熊本県!$AA$13 -> 0 | S50: =[43]法定・熊本県!$Z$16 -> 0 | T50: =[43]法定・熊本県!$AA$16 -> 0 | U50: =[43]法定・熊本県!$Z$17 -> 0 | V50: =[43]法定・熊本県!$AA$17 -> 0 | W50: =[43]法定・熊本県!$Z$18 -> 0 | X50: =[43]法定・熊本県!$AA$18 -> 0
A51: 44 | B51: 大分 | C51: =[44]法定・大分県!$Z$3 -> 0 | D51: =[44]法定・大分県!$AA$3 -> 0 | E51: =[44]法定・大分県!$Z$4 -> 0 | F51: =[44]法定・大分県!$AA$4 -> 0 | G51: =[44]法定・大分県!$Z$5 -> 0 | H51: =[44]法定・大分県!$AA$5 -> 0 | I51: =[44]法定・大分県!$Z$7 -> 0 | J51: =[44]法定・大分県!$AA$7 -> 0 | K51: =[44]法定・大分県!$Z$8 -> 0 | L51: =[44]法定・大分県!$AA$8 -> 0 | M51: =[44]法定・大分県!$Z$9 -> 0 | N51: =[44]法定・大分県!$AA$9 -> 0 | O51: =[44]法定・大分県!$Z$10 -> 0 | P51: =[44]法定・大分県!$AA$10 -> 0 | Q51: =[44]法定・大分県!$Z$13 -> 0 | R51: =[44]法定・大分県!$AA$13 -> 0 | S51: =[44]法定・大分県!$Z$16 -> 0 | T51: =[44]法定・大分県!$AA$16 -> 0 | U51: =[44]法定・大分県!$Z$17 -> 0 | V51: =[44]法定・大分県!$AA$17 -> 0 | W51: =[44]法定・大分県!$Z$18 -> 0 | X51: =[44]法定・大分県!$AA$18 -> 0
A52: 45 | B52: 宮崎 | C52: =[45]法定・宮崎県!$Z$3 -> 2 | D52: =[45]法定・宮崎県!$AA$3 -> 20 | E52: =[45]法定・宮崎県!$Z$4 -> 0 | F52: =[45]法定・宮崎県!$AA$4 -> 0 | G52: =[45]法定・宮崎県!$Z$5 -> 1 | H52: =[45]法定・宮崎県!$AA$5 -> 2 | I52: =[45]法定・宮崎県!$Z$7 -> 0 | J52: =[45]法定・宮崎県!$AA$7 -> 0 | K52: =[45]法定・宮崎県!$Z$8 -> 3 | L52: =[45]法定・宮崎県!$AA$8 -> 3 | M52: =[45]法定・宮崎県!$Z$9 -> 0 | N52: =[45]法定・宮崎県!$AA$9 -> 0 | O52: =[45]法定・宮崎県!$Z$10 -> 0 | P52: =[45]法定・宮崎県!$AA$10 -> 0 | Q52: =[45]法定・宮崎県!$Z$13 -> 0 | R52: =[45]法定・宮崎県!$AA$13 -> 0 | S52: =[45]法定・宮崎県!$Z$16 -> 0 | T52: =[45]法定・宮崎県!$AA$16 -> 0 | U52: =[45]法定・宮崎県!$Z$17 -> 0 | V52: =[45]法定・宮崎県!$AA$17 -> 0 | W52: =[45]法定・宮崎県!$Z$18 -> 1 | X52: =[45]法定・宮崎県!$AA$18 -> 4
A53: 46 | B53: 鹿児島 | C53: =[46]法定・鹿児島県!$Z$3 -> 0 | D53: =[46]法定・鹿児島県!$AA$3 -> 0 | E53: =[46]法定・鹿児島県!$Z$4 -> 0 | F53: =[46]法定・鹿児島県!$AA$4 -> 0 | G53: =[46]法定・鹿児島県!$Z$5 -> 0 | H53: =[46]法定・鹿児島県!$AA$5 -> 0 | I53: =[46]法定・鹿児島県!$Z$7 -> 0 | J53: =[46]法定・鹿児島県!$AA$7 -> 0 | K53: =[46]法定・鹿児島県!$Z$8 -> 2 | L53: =[46]法定・鹿児島県!$AA$8 -> 2 | M53: =[46]法定・鹿児島県!$Z$9 -> 0 | N53: =[46]法定・鹿児島県!$AA$9 -> 0 | O53: =[46]法定・鹿児島県!$Z$10 -> 0 | P53: =[46]法定・鹿児島県!$AA$10 -> 0 | Q53: =[46]法定・鹿児島県!$Z$13 -> 0 | R53: =[46]法定・鹿児島県!$AA$13 -> 0 | S53: =[46]法定・鹿児島県!$Z$16 -> 0 | T53: =[46]法定・鹿児島県!$AA$16 -> 0 | U53: =[46]法定・鹿児島県!$Z$17 -> 0 | V53: =[46]法定・鹿児島県!$AA$17 -> 0 | W53: =[46]法定・鹿児島県!$Z$18 -> 1 | X53: =[46]法定・鹿児島県!$AA$18 -> 16
A54: 47 | B54: 沖縄 | C54: =[47]法定・沖縄県!$Z$3 -> 0 | D54: =[47]法定・沖縄県!$AA$3 -> 0 | E54: =[47]法定・沖縄県!$Z$4 -> 0 | F54: =[47]法定・沖縄県!$AA$4 -> 0 | G54: =[47]法定・沖縄県!$Z$5 -> 0 | H54: =[47]法定・沖縄県!$AA$5 -> 0 | I54: =[47]法定・沖縄県!$Z$7 -> 0 | J54: =[47]法定・沖縄県!$AA$7 -> 0 | K54: =[47]法定・沖縄県!$Z$8 -> 7 | L54: =[47]法定・沖縄県!$AA$8 -> 11 | M54: =[47]法定・沖縄県!$Z$9 -> 0 | N54: =[47]法定・沖縄県!$AA$9 -> 0 | O54: =[47]法定・沖縄県!$Z$10 -> 0 | P54: =[47]法定・沖縄県!$AA$10 -> 0 | Q54: =[47]法定・沖縄県!$Z$13 -> 0 | R54: =[47]法定・沖縄県!$AA$13 -> 0 | S54: =[47]法定・沖縄県!$Z$16 -> 0 | T54: =[47]法定・沖縄県!$AA$16 -> 0 | U54: =[47]法定・沖縄県!$Z$17 -> 0 | V54: =[47]法定・沖縄県!$AA$17 -> 0 | W54: =[47]法定・沖縄県!$Z$18 -> 0 | X54: =[47]法定・沖縄県!$AA$18 -> 0
A55: 平成１２年合計 | C55: =SUM(C8:C54) -> 3 | D55: =SUM(D8:D54) -> 22 | E55: =SUM(E8:E54) -> 3 | F55: =SUM(F8:F54) -> 6 | G55: =SUM(G8:G54) -> 1 | H55: =SUM(H8:H54) -> 2 | I55: =SUM(I8:I54) -> 2 | J55: =SUM(J8:J54) -> 2 | ... X55: =SUM(X8:X54) -> 197
A56: 平成１１年合計 | C56: 0 | D56: 0 | E56: 1 | F56: 6 | G56: 0 | H56: 0 | I56: 21 | J56: 37 | K56: 469 | L56: 886 | M56: 0 | N56: 0 | O56: 0 | P56: 0 | Q56: 1 | R56: 1 | S56: 8 | T56: 359 | U56: 0 | V56: 0 | W56: 71 | X56: 348
C58: ※平成１２年の牛の口蹄疫の発生件数に関しては４件となっている
C59: 資料があるがこれは誤り。正しくは３件。

Sheet 法定伝染病（月別）
A2: ２．家畜伝染病の月別発生状況（平成１２年）
A4: 疾病名 | C4: １月 | D4: ２月 | E4: ３月 | F4: ４月 | G4: ５月 | H4: ６月 | I4: ７月 | J4: ８月 | K4: ９月 | L4: １０月 | M4: １１月 | N4: １２月 | O4: 計
A5: 口蹄疫 | B5: 戸 | C5: 0 | D5: 0 | E5: 0 | F5: 2 | G5: 1 | H5: 0 | I5: 0 | J5: 0 | K5: 0 | L5: 0 | M5: 0 | N5: 0 | O5: =SUM(C5:N5) -> 3
B6: 頭 | C6: 0 | D6: 0 | E6: 0 | F6: 20 | G6: 2 | H6: 0 | I6: 0 | J6: 0 | K6: 0 | L6: 0 | M6: 0 | N6: 0 | O6: =SUM(C6:N6) -> 22
A7: 流行性脳炎 | B7: 戸 | C7: 0 | D7: 0 | E7: 0 | F7: 0 | G7: 0 | H7: 0 | I7: 0 | J7: 0 | K7: 2 | L7: 0 | M7: 0 | N7: 1 | O7: =SUM(C7:N7) -> 3
B8: 頭 | C8: 0 | D8: 0 | E8: 0 | F8: 0 | G8: 0 | H8: 0 | I8: 0 | J8: 0 | K8: 5 | L8: 0 | M8: 0 | N8: 1 | O8: =SUM(C8:N8) -> 6
A9: 炭疽 | B9: 戸 | C9: 0 | D9: 0 | E9: 0 | F9: 0 | G9: 0 | H9: 0 | I9: 1 | J9: 0 | K9: 0 | L9: 0 | M9: 0 | N9: 0 | O9: =SUM(C9:N9) -> 1
B10: 頭 | C10: 0 | D10: 0 | E10: 0 | F10: 0 | G10: 0 | H10: 0 | I10: 1 | J10: 1 | K10: 0 | L10: 0 | M10: 0 | N10: 0 | O10: =SUM(C10:N10) -> 2
A11: 結核病 | B11: 戸 | C11: 0 | D11: 0 | E11: 0 | F11: 0 | G11: 0 | H11: 0 | I11: 1 | J11: 0 | K11: 1 | L11: 0 | M11: 0 | N11: 0 | O11: =SUM(C11:N11) -> 2
B12: 頭 | C12: 0 | D12: 0 | E12: 0 | F12: 0 | G12: 0 | H12: 0 | I12: 1 | J12: 0 | K12: 1 | L12: 0 | M12: 0 | N12: 0 | O12: =SUM(C12:N12) -> 2
A13: ヨーネ病 | B13: 戸 | C13: 25 | D13: 36 | E13: 26 | F13: 23 | G13: 25 | H13: 31 | I13: 36 | J13: 32 | K13: 33 | L13: 41 | M13: 40 | N13: 42 | O13: =SUM(C13:N13) -> 390
A14: （牛） | B14: 頭 | C14: 57 | D14: 74 | E14: 61 | F14: 58 | G14: 63 | H14: 46 | I14: 81 | J14: 73 | K14: 50 | L14: 112 | M14: 69 | N14: 54 | O14: =SUM(C14:N14) -> 798
A15: ヨーネ病 | B15: 戸 | C15: 0 | D15: 0 | E15: 1 | F15: 0 | G15: 0 | H15: 0 | I15: 2 | J15: 0 | K15: 0 | L15: 0 | M15: 0 | N15: 0 | O15: =SUM(C15:N15) -> 3
A16: （めん羊） | B16: 頭 | C16: 0 | D16: 0 | E16: 4 | F16: 0 | G16: 0 | H16: 0 | I16: 2 | J16: 0 | K16: 0 | L16: 0 | M16: 0 | N16: 0 | O16: =SUM(C16:N16) -> 6
A17: ヨーネ病 | B17: 戸 | C17: 0 | D17: 1 | E17: 0 | F17: 0 | G17: 0 | H17: 1 | I17: 1 | J17: 1 | K17: 0 | L17: 0 | M17: 1 | N17: 0 | O17: =SUM(C17:N17) -> 5
A18: （山羊） | B18: 頭 | C18: 0 | D18: 1 | E18: 1 | F18: 0 | G18: 0 | H18: 1 | I18: 1 | J18: 1 | K18: 0 | L18: 0 | M18: 2 | N18: 0 | O18: =SUM(C18:N18) -> 7
A19: ニューカッスル | B19: 戸 | C19: 3 | D19: 0 | E19: 0 | F19: 0 | G19: 2 | H19: 0 | I19: 0 | J19: 0 | K19: 0 | L19: 0 | M19: 0 | N19: 0 | O19: =SUM(C19:N19) -> 5
A20: 病 | B20: 羽 | C20: 92 | D20: 0 | E20: 0 | F20: 0 | G20: 7020 | H20: 0 | I20: 0 | J20: 0 | K20: 0 | L20: 0 | M20: 0 | N20: 0 | O20: =SUM(C20:N20) -> 7112
A21: 家きんサルモネ | B21: 戸 | C21: 0 | D21: 0 | E21: 0 | F21: 0 | G21: 0 | H21: 0 | I21: 0 | J21: 0 | K21: 0 | L21: 0 | M21: 0 | N21: 1 | O21: =SUM(C21:N21) -> 1
A22: ラ感染症 | B22: 羽 | C22: 0 | D22: 0 | E22: 0 | F22: 0 | G22: 0 | H22: 0 | I22: 0 | J22: 0 | K22: 0 | L22: 0 | M22: 0 | N22: 30 | O22: =SUM(C22:N22) -> 30
A23: 腐蛆病 | B23: 戸 | C23: 1 | D23: 0 | E23: 0 | F23: 1 | G23: 5 | H23: 3 | I23: 0 | J23: 7 | K23: 32 | L23: 4 | M23: 0 | N23: 2 | O23: =SUM(C23:N23) -> 55
B24: 群 | C24: 2 | D24: 0 | E24: 0 | F24: 11 | G24: 23 | H24: 3 | I24: 0 | J24: 28 | K24: 102 | L24: 10 | M24: 0 | N24: 18 | O24: =SUM(C24:N24) -> 197

Sheet 届出県別
A1: ３．届出伝染病の県別発生状況（平成１２年）
A3: 届出伝染病 | C3: アカバネ病 | G3: 悪性 | I3: チュウザン | K3: 牛ウイルス性 | M3: 牛伝染性 | O3: 牛白血病 | Q3: アイノウイルス | S3: イバラキ病 | U3: 届出伝染病 | W3: 牛丘疹性 | Y3: 破傷風 | AC3: 気腫疽 | AE3: レプトスピラ症 | AI3: サルモネラ症 | AO3: 届出伝染病 | AQ3: サルモネラ | AS3: 牛カンピロ | AU3: トリパノソーマ | AW3: ネオスポラ | AY3: 牛バエ | BA3: 馬鼻肺炎 | BC3: 馬伝染性 | BE3: 馬 | BG3: 伝染性 | BI3: 届出伝染病 | BK3: トキソプラズマ | BM3: オーエスキー | BO3: 伝染性 | BQ3: 豚繁殖・呼吸 | BU3: 豚流行性 | BW3: 萎縮性 | BY3: 豚丹毒 | CC3: 届出伝染病 | CE3: 豚赤痢 | CG3: 鶏痘 | CI3: マレック病 | CK3: 伝染性 | CM3: 伝染性 | CO3: 伝染性 | CQ3: 鶏白血病 | CS3: 鶏マイコ | CU3: 届出伝染病 | CW3: ロイコチトゾーン | CY3: 兎ウイルス性 | DA3: バロア病 | DC3: チョーク病
A4: の 種 類 | G4: カタル熱 | I4: 病 | K4: 下痢・粘膜病 | M4: 鼻気管炎 | Q4: 感染症 | U4: の 種 類 | W4: 口炎 | AO4: の 種 類 | AQ4: 症 | AS4: バクター症 | AU4: 病 | AW4: 症 | AY4: 幼虫症 | BC4: 子宮炎 | BE4: パラチフス | BG4: 膿疱性皮膚炎 | BI4: の 種 類 | BK4: 病 | BM4: 病 | BO4: 胃腸炎 | BQ4: 障害症候群 | BU4: 下痢 | BW4: 鼻炎 | CC4: の 種 類 | CK4: 気管支炎 | CM4: 喉頭気管炎 | CO4: ファブリキウス嚢病 | CS4: プラズマ病 | CU4: の 種 類 | CW4: 病 | CY4: 出血病
A5: 家畜の種類 | C5: 牛 | E5: めん羊 | G5: しか | I5: 牛 | K5: 牛 | M5: 牛 | O5: 牛 | Q5: 牛 | S5: 牛 | U5: 家畜の種類 | W5: 牛 | Y5: 牛 | AA5: 馬 | AC5: 牛 | AE5: 犬 | AG5: 豚 | AI5: 牛 | AK5: 豚 | AM5: 鶏 | AO5: 家畜の種類 | AQ5: あひる | AS5: 牛 | AU5: 牛 | AW5: 牛 | AY5: 牛 | BA5: 馬 | BC5: 馬 | BE5: 馬 | BG5: めん羊 | BI5: 家畜の種類 | BK5: 豚 | BM5: 豚 | BO5: 豚 | BQ5: 豚 | BS5: いのしし | BU5: 豚 | BW5: 豚 | BY5: 豚 | CA5: いのしし | CC5: 家畜の種類 | CE5: 豚 | CG5: 鶏 | CI5: 鶏 | CK5: 鶏 | CM5: 鶏 | CO5: 鶏 | CQ5: 鶏 | CS5: 鶏 | CU5: 家畜の種類 | CW5: 鶏 | CY5: 兎 | DA5: みつばち | DC5: みつばち
C6: 戸 | D6: 頭 | E6: 戸 | F6: 頭 | G6: 戸 | H6: 頭 | I6: 戸 | J6: 頭 | K6: 戸 | L6: 頭 | M6: 戸 | N6: 頭 | O6: 戸 | P6: 頭 | Q6: 戸 | R6: 頭 | S6: 戸 | T6: 頭 | W6: 戸 | X6: 頭 | Y6: 戸 | Z6: 頭 | AA6: 戸 | AB6: 頭 | AC6: 戸 | AD6: 頭 | AE6: 戸 | AF6: 頭 | AG6: 戸 | AH6: 頭 | AI6: 戸 | AJ6: 頭 | AK6: 戸 | AL6: 頭 | AM6: 戸 | AN6: 羽 | AQ6: 戸 | AR6: 羽 | AS6: 戸 | AT6: 頭 | AU6: 戸 | AV6: 頭 | AW6: 戸 | AX6: 頭 | AY6: 戸 | AZ6: 頭 | BA6: 戸 | BB6: 頭 | BC6: 戸 | BD6: 頭 | BE6: 戸 | BF6: 頭 | BG6: 戸 | BH6: 頭 | BK6: 戸 | BL6: 頭 | BM6: 戸 | BN6: 頭 | BO6: 戸 | BP6: 頭 | BQ6: 戸 | BR6: 頭 | BS6: 戸 | BT6: 頭 | BU6: 戸 | BV6: 頭 | BW6: 戸 | BX6: 頭 | BY6: 戸 | BZ6: 頭 | CA6: 戸 | CB6: 頭 | CE6: 戸 | CF6: 頭 | CG6: 戸 | CH6: 羽 | CI6: 戸 | CJ6: 羽 | CK6: 戸 | CL6: 羽 | CM6: 戸 | CN6: 羽 | CO6: 戸 | CP6: 羽 | CQ6: 戸 | CR6: 羽 | CS6: 戸 | CT6: 羽 | CW6: 戸 | CX6: 羽 | CY6: 戸 | CZ6: 群 | DA6: 戸 | DB6: 群 | DC6: 戸 | DD6: 群
C7: 数 | D7: 数 | E7: 数 | F7: 数 | G7: 数 | H7: 数 | I7: 数 | J7: 数 | K7: 数 | L7: 数 | M7: 数 | N7: 数 | O7: 数 | P7: 数 | Q7: 数 | R7: 数 | S7: 数 | T7: 数 | W7: 数 | X7: 数 | Y7: 数 | Z7: 数 | AA7: 数 | AB7: 数 | AC7: 数 | AD7: 数 | AE7: 数 | AF7: 数 | AG7: 数 | AH7: 数 | AI7: 数 | AJ7: 数 | AK7: 数 | AL7: 数 | AM7: 数 | AN7: 数 | AQ7: 数 | AR7: 数 | AS7: 数 | AT7: 数 | AU7: 数 | AV7: 数 | AW7: 数 | AX7: 数 | AY7: 数 | AZ7: 数 | BA7: 数 | BB7: 数 | BC7: 数 | BD7: 数 | BE7: 数 | BF7: 数 | BG7: 数 | BH7: 数 | BK7: 数 | BL7: 数 | BM7: 数 | BN7: 数 | BO7: 数 | BP7: 数 | BQ7: 数 | BR7: 数 | BS7: 数 | BT7: 数 | BU7: 数 | BV7: 数 | BW7: 数 | BX7: 数 | BY7: 数 | BZ7: 数 | CA7: 数 | CB7: 数 | CE7: 数 | CF7: 数 | CG7: 数 | CH7: 数 | CI7: 数 | CJ7: 数 | CK7: 数 | CL7: 数 | CM7: 数 | CN7: 数 | CO7: 数 | CP7: 数 | CQ7: 数 | CR7: 数 | CS7: 数 | CT7: 数 | CW7: 数 | CX7: 数 | CY7: 数 | CZ7: 数 | DA7: 数 | DB7: 数 | DC7: 数 | DD7: 数
A8: 01 | B8: 北海道 | C8: =[1]届出・北海道!$Z$3 -> 0 | D8: =[1]届出・北海道!$AA$3 -> 0 | E8: =[1]届出・北海道!$Z$4 -> 0 | F8: =[1]届出・北海道!$AA$4 -> 0 | G8: =[1]届出・北海道!$Z$5 -> 0 | H8: =[1]届出・北海道!$AA$5 -> 0 | I8: =[1]届出・北海道!$Z$6 -> 0 | J8: =[1]届出・北海道!$AA$6 -> 0 | K8: =[1]届出・北海道!$Z$7 -> 7 | L8: =[1]届出・北海道!$AA$7 -> 15 | M8: =[1]届出・北海道!$Z$8 -> 10 | N8: =[1]届出・北海道!$AA$8 -> 213 | O8: =[1]届出・北海道!$Z$9 -> 13 | P8: =[1]届出・北海道!$AA$9 -> 13 | Q8: =[1]届出・北海道!$Z$10 -> 0 | R8: =[1]届出・北海道!$AA$10 -> 0 | S8: =[1]届出・北海道!$Z$11 -> 0 | T8: =[1]届出・北海道!$AA$11 -> 0 | U8: 01 | V8: 北海道 | W8: =[1]届出・北海道!$Z$12 -> 0 | X8: =[1]届出・北海道!$AA$12 -> 0 | Y8: =[1]届出・北海道!$Z$13 -> 5 | Z8: =[1]届出・北海道!$AA$13 -> 13 | AA8: =[1]届出・北海道!$Z$14 -> 0 | AB8: =[1]届出・北海道!$AA$14 -> 0 | AC8: =[1]届出・北海道!$Z$15 -> 6 | AD8: =[1]届出・北海道!$AA$15 -> 22 | AE8: =[1]届出・北海道!$Z$16 -> 0 | AF8: =[1]届出・北海道!$AA$16 -> 0 | AG8: =[1]届出・北海道!$Z$17 -> 0 | AH8: =[1]届出・北海道!$AA$17 -> 0 | AI8: =[1]届出・北海道!$Z$18 -> 34 | AJ8: =[1]届出・北海道!$AA$18 -> 170 | AK8: =[1]届出・北海道!$Z$19 -> 1 | AL8: =[1]届出・北海道!$AA$19 -> 2 | AM8: =[1]届出・北海道!$Z$20 -> 1 | AN8: =[1]届出・北海道!$AA$20 -> 6 | AO8: 01 | AP8: 北海道 | AQ8: =[1]届出・北海道!$Z$21 -> 0 | AR8: =[1]届出・北海道!$AA$21 -> 0 | AS8: =[1]届出・北海道!$Z$22 -> 2 | AT8: =[1]届出・北海道!$AA$22 -> 2 | AU8: =[1]届出・北海道!$Z$23 -> 0 | AV8: =[1]届出・北海道!$AA$23 -> 0 | AW8: =[1]届出・北海道!$Z$24 -> 10 | AX8: =[1]届出・北海道!$AA$24 -> 10 | AY8: =[1]届出・北海道!$Z$25 -> 0 | AZ8: =[1]届出・北海道!$AA$25 -> 0 | BA8: =[1]届出・北海道!$Z$26 -> 8 | BB8: =[1]届出・北海道!$AA$26 -> 26 | BC8: =[1]届出・北海道!$Z$27 -> 1 | BD8: =[1]届出・北海道!$AA$27 -> 1 | BE8: =[1]届出・北海道!$Z$28 -> 0 | BF8: =[1]届出・北海道!$AA$28 -> 0 | BG8: =[1]届出・北海道!$Z$29 -> 0 | BH8: =[1]届出・北海道!$AA$29 -> 0 | BI8: 01 | BJ8: 北海道 | BK8: =[1]届出・北海道!$Z$30 -> 0 | BL8: =[1]届出・北海道!$AA$30 -> 0 | BM8: =[1]届出・北海道!$Z$31 -> 0 | BN8: =[1]届出・北海道!$AA$31 -> 0 | BO8: =[1]届出・北海道!$Z$32 -> 0 | BP8: =[1]届出・北海道!$AA$32 -> 0 | BQ8: =[1]届出・北海道!$Z$33 -> 8 | BR8: =[1]届出・北海道!$AA$33 -> 15 | BS8: =[1]届出・北海道!$Z$34 -> 0 | BT8: =[1]届出・北海道!$AA$34 -> 0 | BU8: =[1]届出・北海道!$Z$35 -> 0 | BV8: =[1]届出・北海道!$AA$35 -> 0 | BW8: =[1]届出・北海道!$Z$36 -> 0 | BX8: =[1]届出・北海道!$AA$36 -> 0 | BY8: =[1]届出・北海道!$Z$37 -> 9 | BZ8: =[1]届出・北海道!$AA$37 -> 16 | CA8: =[1]届出・北海道!$Z$38 -> 0 | CB8: =[1]届出・北海道!$AA$38 -> 0 | CC8: 01 | CD8: 北海道 | CE8: =[1]届出・北海道!$Z$39 -> 1 | CF8: =[1]届出・北海道!$AA$39 -> 46 | CG8: =[1]届出・北海道!$Z$40 -> 1 | CH8: =[1]届出・北海道!$AA$40 -> 11 | CI8: =[1]届出・北海道!$Z$41 -> 1 | CJ8: =[1]届出・北海道!$AA$41 -> 179 | CK8: =[1]届出・北海道!$Z$42 -> 0 | CL8: =[1]届出・北海道!$AA$42 -> 0 | CM8: =[1]届出・北海道!$Z$43 -> 0 | CN8: =[1]届出・北海道!$AA$43 -> 0 | CO8: =[1]届出・北海道!$Z$44 -> 0 | CP8: =[1]届出・北海道!$AA$44 -> 0 | CQ8: =[1]届出・北海道!$Z$45 -> 0 | CR8: =[1]届出・北海道!$AA$45 -> 0 | CS8: =[1]届出・北海道!$Z$46 -> 0 | CT8: =[1]届出・北海道!$AA$46 -> 0 | CU8: 01 | CV8: 北海道 | CW8: =[1]届出・北海道!$Z$47 -> 0 | CX8: =[1]届出・北海道!$AA$47 -> 0 | CY8: =[1]届出・北海道!$Z$51 -> 0 | CZ8: =[1]届出・北海道!$AA$51 -> 0 | DA8: =[1]届出・北海道!$Z$48 -> 46 | DB8: =[1]届出・北海道!$AA$48 -> 744 | DC8: =[1]届出・北海道!$Z$49 -> 97 | DD8: =[1]届出・北海道!$AA$49 -> 1895
A9: 02 | B9: 青森 | C9: =[2]届出・青森県!$Z$3 -> 0 | D9: =[2]届出・青森県!$AA$3 -> 0 | E9: =[2]届出・青森県!$Z$4 -> 0 | F9: =[2]届出・青森県!$AA$4 -> 0 | G9: =[2]届出・青森県!$Z$5 -> 0 | H9: =[2]届出・青森県!$AA$5 -> 0 | I9: =[2]届出・青森県!$Z$6 -> 0 | J9: =[2]届出・青森県!$AA$6 -> 0 | K9: =[2]届出・青森県!$Z$7 -> 1 | L9: =[2]届出・青森県!$AA$7 -> 1 | M9: =[2]届出・青森県!$Z$8 -> 2 | N9: =[2]届出・青森県!$AA$8 -> 9 | O9: =[2]届出・青森県!$Z$9 -> 9 | P9: =[2]届出・青森県!$AA$9 -> 9 | Q9: =[2]届出・青森県!$Z$10 -> 0 | R9: =[2]届出・青森県!$AA$10 -> 0 | S9: =[2]届出・青森県!$Z$11 -> 0 | T9: =[2]届出・青森県!$AA$11 -> 0 | U9: 02 | V9: 青森 | W9: =[2]届出・青森県!$Z$12 -> 0 | X9: =[2]届出・青森県!$AA$12 -> 0 | Y9: =[2]届出・青森県!$Z$13 -> 0 | Z9: =[2]届出・青森県!$AA$13 -> 0 | AA9: =[2]届出・青森県!$Z$14 -> 1 | AB9: =[2]届出・青森県!$AA$14 -> 1 | AC9: =[2]届出・青森県!$Z$15 -> 0 | AD9: =[2]届出・青森県!$AA$15 -> 0 | AE9: =[2]届出・青森県!$Z$16 -> 3 | AF9: =[2]届出・青森県!$AA$16 -> 3 | AG9: =[2]届出・青森県!$Z$17 -> 0 | AH9: =[2]届出・青森県!$AA$17 -> 0 | AI9: =[2]届出・青森県!$Z$18 -> 1 | AJ9: =[2]届出・青森県!$AA$18 -> 1 | AK9: =[2]届出・青森県!$Z$19 -> 0 | AL9: =[2]届出・青森県!$AA$19 -> 0 | AM9: =[2]届出・青森県!$Z$20 -> 0 | AN9: =[2]届出・青森県!$AA$20 -> 0 | AO9: 02 | AP9: 青森 | AQ9: =[2]届出・青森県!$Z$21 -> 0 | AR9: =[2]届出・青森県!$AA$21 -> 0 | AS9: =[2]届出・青森県!$Z$22 -> 0 | AT9: =[2]届出・青森県!$AA$22 -> 0 | AU9: =[2]届出・青森県!$Z$23 -> 0 | AV9: =[2]届出・青森県!$AA$23 -> 0 | AW9: =[2]届出・青森県!$Z$24 -> 1 | AX9: =[2]届出・青森県!$AA$24 -> 1 | AY9: =[2]届出・青森県!$Z$25 -> 0 | AZ9: =[2]届出・青森県!$AA$25 -> 0 | BA9: =[2]届出・青森県!$Z$26 -> 0 | BB9: =[2]届出・青森県!$AA$26 -> 0 | BC9: =[2]届出・青森県!$Z$27 -> 0 | BD9: =[2]届出・青森県!$AA$27 -> 0 | BE9: =[2]届出・青森県!$Z$28 -> 0 | BF9: =[2]届出・青森県!$AA$28 -> 0 | BG9: =[2]届出・青森県!$Z$29 -> 0 | BH9: =[2]届出・青森県!$AA$29 -> 0 | BI9: 02 | BJ9: 青森 | BK9: =[2]届出・青森県!$Z$30 -> 0 | BL9: =[2]届出・青森県!$AA$30 -> 0 | BM9: =[2]届出・青森県!$Z$31 -> 0 | BN9: =[2]届出・青森県!$AA$31 -> 0 | BO9: =[2]届出・青森県!$Z$32 -> 0 | BP9: =[2]届出・青森県!$AA$32 -> 0 | BQ9: =[2]届出・青森県!$Z$33 -> 0 | BR9: =[2]届出・青森県!$AA$33 -> 0 | BS9: =[2]届出・青森県!$Z$34 -> 0 | BT9: =[2]届出・青森県!$AA$34 -> 0 | BU9: =[2]届出・青森県!$Z$35 -> 0 | BV9: =[2]届出・青森県!$AA$35 -> 0 | BW9: =[2]届出・青森県!$Z$36 -> 0 | BX9: =[2]届出・青森県!$AA$36 -> 0 | BY9: =[2]届出・青森県!$Z$37 -> 70 | BZ9: =[2]届出・青森県!$AA$37 -> 173 | CA9: =[2]届出・青森県!$Z$38 -> 0 | CB9: =[2]届出・青森県!$AA$38 -> 0 | CC9: 02 | CD9: 青森 | CE9: =[2]届出・青森県!$Z$39 -> 0 | CF9: =[2]届出・青森県!$AA$39 -> 0 | CG9: =[2]届出・青森県!$Z$40 -> 0 | CH9: =[2]届出・青森県!$AA$40 -> 0 | CI9: =[2]届出・青森県!$Z$41 -> 0 | CJ9: =[2]届出・青森県!$AA$41 -> 0 | CK9: =[2]届出・青森県!$Z$42 -> 0 | CL9: =[2]届出・青森県!$AA$42 -> 0 | CM9: =[2]届出・青森県!$Z$43 -> 0 | CN9: =[2]届出・青森県!$AA$43 -> 0 | CO9: =[2]届出・青森県!$Z$44 -> 0 | CP9: =[2]届出・青森県!$AA$44 -> 0 | CQ9: =[2]届出・青森県!$Z$45 -> 0 | CR9: =[2]届出・青森県!$AA$45 -> 0 | CS9: =[2]届出・青森県!$Z$46 -> 0 | CT9: =[2]届出・青森県!$AA$46 -> 0 | CU9: 02 | CV9: 青森 | CW9: =[2]届出・青森県!$Z$47 -> 0 | CX9: =[2]届出・青森県!$AA$47 -> 0 | CY9: =[2]届出・青森県!$Z$51 -> 0 | CZ9: =[2]届出・青森県!$AA$51 -> 0 | DA9: =[2]届出・青森県!$Z$48 -> 0 | DB9: =[2]届出・青森県!$AA$48 -> 0 | DC9: =[2]届出・青森県!$Z$49 -> 0 | DD9: =[2]届出・青森県!$AA$49 -> 0
A10: 03 | B10: 岩手 | C10: =[3]届出・岩手県!$Z$3 -> 0 | D10: =[3]届出・岩手県!$AA$3 -> 0 | E10: =[3]届出・岩手県!$Z$4 -> 0 | F10: =[3]届出・岩手県!$AA$4 -> 0 | G10: =[3]届出・岩手県!$Z$5 -> 0 | H10: =[3]届出・岩手県!$AA$5 -> 0 | I10: =[3]届出・岩手県!$Z$6 -> 0 | J10: =[3]届出・岩手県!$AA$6 -> 0 | K10: =[3]届出・岩手県!$Z$7 -> 1 | L10: =[3]届出・岩手県!$AA$7 -> 1 | M10: =[3]届出・岩手県!$Z$8 -> 0 | N10: =[3]届出・岩手県!$AA$8 -> 0 | O10: =[3]届出・岩手県!$Z$9 -> 29 | P10: =[3]届出・岩手県!$AA$9 -> 30 | Q10: =[3]届出・岩手県!$Z$10 -> 0 | R10: =[3]届出・岩手県!$AA$10 -> 0 | S10: =[3]届出・岩手県!$Z$11 -> 0 | T10: =[3]届出・岩手県!$AA$11 -> 0 | U10: 03 | V10: 岩手 | W10: =[3]届出・岩手県!$Z$12 -> 0 | X10: =[3]届出・岩手県!$AA$12 -> 0 | Y10: =[3]届出・岩手県!$Z$13 -> 1 | Z10: =[3]届出・岩手県!$AA$13 -> 1 | AA10: =[3]届出・岩手県!$Z$14 -> 0 | AB10: =[3]届出・岩手県!$AA$14 -> 0 | AC10: =[3]届出・岩手県!$Z$15 -> 0 | AD10: =[3]届出・岩手県!$AA$15 -> 0 | AE10: =[3]届出・岩手県!$Z$16 -> 0 | AF10: =[3]届出・岩手県!$AA$16 -> 0 | AG10: =[3]届出・岩手県!$Z$17 -> 0 | AH10: =[3]届出・岩手県!$AA$17 -> 0 | AI10: =[3]届出・岩手県!$Z$18 -> 6 | AJ10: =[3]届出・岩手県!$AA$18 -> 34 | AK10: =[3]届出・岩手県!$Z$19 -> 0 | AL10: =[3]届出・岩手県!$AA$19 -> 0 | AM10: =[3]届出・岩手県!$Z$20 -> 0 | AN10: =[3]届出・岩手県!$AA$20 -> 0 | AO10: 03 | AP10: 岩手 | AQ10: =[3]届出・岩手県!$Z$21 -> 0 | AR10: =[3]届出・岩手県!$AA$21 -> 0 | AS10: =[3]届出・岩手県!$Z$22 -> 6 | AT10: =[3]届出・岩手県!$AA$22 -> 15 | AU10: =[3]届出・岩手県!$Z$23 -> 0 | AV10: =[3]届出・岩手県!$AA$23 -> 0 | AW10: =[3]届出・岩手県!$Z$24 -> 1 | AX10: =[3]届出・岩手県!$AA$24 -> 1 | AY10: =[3]届出・岩手県!$Z$25 -> 0 | AZ10: =[3]届出・岩手県!$AA$25 -> 0 | BA10: =[3]届出・岩手県!$Z$26 -> 0 | BB10: =[3]届出・岩手県!$AA$26 -> 0 | BC10: =[3]届出・岩手県!$Z$27 -> 0 | BD10: =[3]届出・岩手県!$AA$27 -> 0 | BE10: =[3]届出・岩手県!$Z$28 -> 0 | BF10: =[3]届出・岩手県!$AA$28 -> 0 | BG10: =[3]届出・岩手県!$Z$29 -> 0 | BH10: =[3]届出・岩手県!$AA$29 -> 0 | BI10: 03 | BJ10: 岩手 | BK10: =[3]届出・岩手県!$Z$30 -> 0 | BL10: =[3]届出・岩手県!$AA$30 -> 0 | BM10: =[3]届出・岩手県!$Z$31 -> 0 | BN10: =[3]届出・岩手県!$AA$31 -> 0 | BO10: =[3]届出・岩手県!$Z$32 -> 1 | BP10: =[3]届出・岩手県!$AA$32 -> 80 | BQ10: =[3]届出・岩手県!$Z$33 -> 0 | BR10: =[3]届出・岩手県!$AA$33 -> 0 | BS10: =[3]届出・岩手県!$Z$34 -> 0 | BT10: =[3]届出・岩手県!$AA$34 -> 0 | BU10: =[3]届出・岩手県!$Z$35 -> 0 | BV10: =[3]届出・岩手県!$AA$35 -> 0 | BW10: =[3]届出・岩手県!$Z$36 -> 0 | BX10: =[3]届出・岩手県!$AA$36 -> 0 | BY10: =[3]届出・岩手県!$Z$37 -> 1 | BZ10: =[3]届出・岩手県!$AA$37 -> 1 | CA10: =[3]届出・岩手県!$Z$38 -> 0 | CB10: =[3]届出・岩手県!$AA$38 -> 0 | CC10: 03 | CD10: 岩手 | CE10: =[3]届出・岩手県!$Z$39 -> 0 | CF10: =[3]届出・岩手県!$AA$39 -> 0 | CG10: =[3]届出・岩手県!$Z$40 -> 0 | CH10: =[3]届出・岩手県!$AA$40 -> 0 | CI10: =[3]届出・岩手県!$Z$41 -> 0 | CJ10: =[3]届出・岩手県!$AA$41 -> 0 | CK10: =[3]届出・岩手県!$Z$42 -> 0 | CL10: =[3]届出・岩手県!$AA$42 -> 0 | CM10: =[3]届出・岩手県!$Z$43 -> 0 | CN10: =[3]届出・岩手県!$AA$43 -> 0 | CO10: =[3]届出・岩手県!$Z$44 -> 0 | CP10: =[3]届出・岩手県!$AA$44 -> 0 | CQ10: =[3]届出・岩手県!$Z$45 -> 0 | CR10: =[3]届出・岩手県!$AA$45 -> 0 | CS10: =[3]届出・岩手県!$Z$46 -> 1 | CT10: =[3]届出・岩手県!$AA$46 -> 15 | CU10: 03 | CV10: 岩手 | CW10: =[3]届出・岩手県!$Z$47 -> 0 | CX10: =[3]届出・岩手県!$AA$47 -> 0 | CY10: =[3]届出・岩手県!$Z$51 -> 0 | CZ10: =[3]届出・岩手県!$AA$51 -> 0 | DA10: =[3]届出・岩手県!$Z$48 -> 0 | DB10: =[3]届出・岩手県!$AA$48 -> 0 | DC10: =[3]届出・岩手県!$Z$49 -> 0 | DD10: =[3]届出・岩手県!$AA$49 -> 0
A11: 04 | B11: 宮城 | C11: =[4]届出・宮城県!$Z$3 -> 0 | D11: =[4]届出・宮城県!$AA$3 -> 0 | E11: =[4]届出・宮城県!$Z$4 -> 0 | F11: =[4]届出・宮城県!$AA$4 -> 0 | G11: =[4]届出・宮城県!$Z$5 -> 0 | H11: =[4]届出・宮城県!$AA$5 -> 0 | I11: =[4]届出・宮城県!$Z$6 -> 0 | J11: =[4]届出・宮城県!$AA$6 -> 0 | K11: =[4]届出・宮城県!$Z$7 -> 0 | L11: =[4]届出・宮城県!$AA$7 -> 0 | M11: =[4]届出・宮城県!$Z$8 -> 1 | N11: =[4]届出・宮城県!$AA$8 -> 5 | O11: =[4]届出・宮城県!$Z$9 -> 0 | P11: =[4]届出・宮城県!$AA$9 -> 0 | Q11: =[4]届出・宮城県!$Z$10 -> 0 | R11: =[4]届出・宮城県!$AA$10 -> 0 | S11: =[4]届出・宮城県!$Z$11 -> 0 | T11: =[4]届出・宮城県!$AA$11 -> 0 | U11: 04 | V11: 宮城 | W11: =[4]届出・宮城県!$Z$12 -> 0 | X11: =[4]届出・宮城県!$AA$12 -> 0 | Y11: =[4]届出・宮城県!$Z$13 -> 0 | Z11: =[4]届出・宮城県!$AA$13 -> 0 | AA11: =[4]届出・宮城県!$Z$14 -> 0 | AB11: =[4]届出・宮城県!$AA$14 -> 0 | AC11: =[4]届出・宮城県!$Z$15 -> 0 | AD11: =[4]届出・宮城県!$AA$15 -> 0 | AE11: =[4]届出・宮城県!$Z$16 -> 0 | AF11: =[4]届出・宮城県!$AA$16 -> 0 | AG11: =[4]届出・宮城県!$Z$17 -> 0 | AH11: =[4]届出・宮城県!$AA$17 -> 0 | AI11: =[4]届出・宮城県!$Z$18 -> 0 | AJ11: =[4]届出・宮城県!$AA$18 -> 0 | AK11: =[4]届出・宮城県!$Z$19 -> 0 | AL11: =[4]届出・宮城県!$AA$19 -> 0 | AM11: =[4]届出・宮城県!$Z$20 -> 0 | AN11: =[4]届出・宮城県!$AA$20 -> 0 | AO11: 04 | AP11: 宮城 | AQ11: =[4]届出・宮城県!$Z$21 -> 0 | AR11: =[4]届出・宮城県!$AA$21 -> 0 | AS11: =[4]届出・宮城県!$Z$22 -> 0 | AT11: =[4]届出・宮城県!$AA$22 -> 0 | AU11: =[4]届出・宮城県!$Z$23 -> 0 | AV11: =[4]届出・宮城県!$AA$23 -> 0 | AW11: =[4]届出・宮城県!$Z$24 -> 0 | AX11: =[4]届出・宮城県!$AA$24 -> 0 | AY11: =[4]届出・宮城県!$Z$25 -> 0 | AZ11: =[4]届出・宮城県!$AA$25 -> 0 | BA11: =[4]届出・宮城県!$Z$26 -> 0 | BB11: =[4]届出・宮城県!$AA$26 -> 0 | BC11: =[4]届出・宮城県!$Z$27 -> 0 | BD11: =[4]届出・宮城県!$AA$27 -> 0 | BE11: =[4]届出・宮城県!$Z$28 -> 0 | BF11: =[4]届出・宮城県!$AA$28 -> 0 | BG11: =[4]届出・宮城県!$Z$29 -> 0 | BH11: =[4]届出・宮城県!$AA$29 -> 0 | BI11: 04 | BJ11: 宮城 | BK11: =[4]届出・宮城県!$Z$30 -> 0 | BL11: =[4]届出・宮城県!$AA$30 -> 0 | BM11: =[4]届出・宮城県!$Z$31 -> 0 | BN11: =[4]届出・宮城県!$AA$31 -> 0 | BO11: =[4]届出・宮城県!$Z$32 -> 0 | BP11: =[4]届出・宮城県!$AA$32 -> 0 | BQ11: =[4]届出・宮城県!$Z$33 -> 0 | BR11: =[4]届出・宮城県!$AA$33 -> 0 | BS11: =[4]届出・宮城県!$Z$34 -> 0 | BT11: =[4]届出・宮城県!$AA$34 -> 0 | BU11: =[4]届出・宮城県!$Z$35 -> 0 | BV11: =[4]届出・宮城県!$AA$35 -> 0 | BW11: =[4]届出・宮城県!$Z$36 -> 0 | BX11: =[4]届出・宮城県!$AA$36 -> 0 | BY11: =[4]届出・宮城県!$Z$37 -> 12 | BZ11: =[4]届出・宮城県!$AA$37 -> 64 | CA11: =[4]届出・宮城県!$Z$38 -> 0 | CB11: =[4]届出・宮城県!$AA$38 -> 0 | CC11: 04 | CD11: 宮城 | CE11: =[4]届出・宮城県!$Z$39 -> 0 | CF11: =[4]届出・宮城県!$AA$39 -> 0 | CG11: =[4]届出・宮城県!$Z$40 -> 0 | CH11: =[4]届出・宮城県!$AA$40 -> 0 | CI11: =[4]届出・宮城県!$Z$41 -> 0 | CJ11: =[4]届出・宮城県!$AA$41 -> 0 | CK11: =[4]届出・宮城県!$Z$42 -> 0 | CL11: =[4]届出・宮城県!$AA$42 -> 0 | CM11: =[4]届出・宮城県!$Z$43 -> 0 | CN11: =[4]届出・宮城県!$AA$43 -> 0 | CO11: =[4]届出・宮城県!$Z$44 -> 0 | CP11: =[4]届出・宮城県!$AA$44 -> 0 | CQ11: =[4]届出・宮城県!$Z$45 -> 0 | CR11: =[4]届出・宮城県!$AA$45 -> 0 | CS11: =[4]届出・宮城県!$Z$46 -> 0 | CT11: =[4]届出・宮城県!$AA$46 -> 0 | CU11: 04 | CV11: 宮城 | CW11: =[4]届出・宮城県!$Z$47 -> 0 | CX11: =[4]届出・宮城県!$AA$47 -> 0 | CY11: =[4]届出・宮城県!$Z$51 -> 0 | CZ11: =[4]届出・宮城県!$AA$51 -> 0 | DA11: =[4]届出・宮城県!$Z$48 -> 0 | DB11: =[4]届出・宮城県!$AA$48 -> 0 | DC11: =[4]届出・宮城県!$Z$49 -> 0 | DD11: =[4]届出・宮城県!$AA$49 -> 0
A12: 05 | B12: 秋田 | C12: =[5]届出・秋田県!$Z$3 -> 0 | D12: =[5]届出・秋田県!$AA$3 -> 0 | E12: =[5]届出・秋田県!$Z$4 -> 0 | F12: =[5]届出・秋田県!$AA$4 -> 0 | G12: =[5]届出・秋田県!$Z$5 -> 0 | H12: =[5]届出・秋田県!$AA$5 -> 0 | I12: =[5]届出・秋田県!$Z$6 -> 0 | J12: =[5]届出・秋田県!$AA$6 -> 0 | K12: =[5]届出・秋田県!$Z$7 -> 1 | L12: =[5]届出・秋田県!$AA$7 -> 3 | M12: =[5]届出・秋田県!$Z$8 -> 1 | N12: =[5]届出・秋田県!$AA$8 -> 1 | O12: =[5]届出・秋田県!$Z$9 -> 2 | P12: =[5]届出・秋田県!$AA$9 -> 2 | Q12: =[5]届出・秋田県!$Z$10 -> 0 | R12: =[5]届出・秋田県!$AA$10 -> 0 | S12: =[5]届出・秋田県!$Z$11 -> 0 | T12: =[5]届出・秋田県!$AA$11 -> 0 | U12: 05 | V12: 秋田 | W12: =[5]届出・秋田県!$Z$12 -> 0 | X12: =[5]届出・秋田県!$AA$12 -> 0 | Y12: =[5]届出・秋田県!$Z$13 -> 0 | Z12: =[5]届出・秋田県!$AA$13 -> 0 | AA12: =[5]届出・秋田県!$Z$14 -> 0 | AB12: =[5]届出・秋田県!$AA$14 -> 0 | AC12: =[5]届出・秋田県!$Z$15 -> 0 | AD12: =[5]届出・秋田県!$AA$15 -> 0 | AE12: =[5]届出・秋田県!$Z$16 -> 0 | AF12: =[5]届出・秋田県!$AA$16 -> 0 | AG12: =[5]届出・秋田県!$Z$17 -> 0 | AH12: =[5]届出・秋田県!$AA$17 -> 0 | AI12: =[5]届出・秋田県!$Z$18 -> 0 | AJ12: =[5]届出・秋田県!$AA$18 -> 0 | AK12: =[5]届出・秋田県!$Z$19 -> 0 | AL12: =[5]届出・秋田県!$AA$19 -> 0 | AM12: =[5]届出・秋田県!$Z$20 -> 0 | AN12: =[5]届出・秋田県!$AA$20 -> 0 | AO12: 05 | AP12: 秋田 | AQ12: =[5]届出・秋田県!$Z$21 -> 0 | AR12: =[5]届出・秋田県!$AA$21 -> 0 | AS12: =[5]届出・秋田県!$Z$22 -> 0 | AT12: =[5]届出・秋田県!$AA$22 -> 0 | AU12: =[5]届出・秋田県!$Z$23 -> 0 | AV12: =[5]届出・秋田県!$AA$23 -> 0 | AW12: =[5]届出・秋田県!$Z$24 -> 0 | AX12: =[5]届出・秋田県!$AA$24 -> 0 | AY12: =[5]届出・秋田県!$Z$25 -> 0 | AZ12: =[5]届出・秋田県!$AA$25 -> 0 | BA12: =[5]届出・秋田県!$Z$26 -> 0 | BB12: =[5]届出・秋田県!$AA$26 -> 0 | BC12: =[5]届出・秋田県!$Z$27 -> 0 | BD12: =[5]届出・秋田県!$AA$27 -> 0 | BE12: =[5]届出・秋田県!$Z$28 -> 0 | BF12: =[5]届出・秋田県!$AA$28 -> 0 | BG12: =[5]届出・秋田県!$Z$29 -> 0 | BH12: =[5]届出・秋田県!$AA$29 -> 0 | BI12: 05 | BJ12: 秋田 | BK12: =[5]届出・秋田県!$Z$30 -> 0 | BL12: =[5]届出・秋田県!$AA$30 -> 0 | BM12: =[5]届出・秋田県!$Z$31 -> 0 | BN12: =[5]届出・秋田県!$AA$31 -> 0 | BO12: =[5]届出・秋田県!$Z$32 -> 0 | BP12: =[5]届出・秋田県!$AA$32 -> 0 | BQ12: =[5]届出・秋田県!$Z$33 -> 0 | BR12: =[5]届出・秋田県!$AA$33 -> 0 | BS12: =[5]届出・秋田県!$Z$34 -> 0 | BT12: =[5]届出・秋田県!$AA$34 -> 0 | BU12: =[5]届出・秋田県!$Z$35 -> 0 | BV12: =[5]届出・秋田県!$AA$35 -> 0 | BW12: =[5]届出・秋田県!$Z$36 -> 0 | BX12: =[5]届出・秋田県!$AA$36 -> 0 | BY12: =[5]届出・秋田県!$Z$37 -> 8 | BZ12: =[5]届出・秋田県!$AA$37 -> 32 | CA12: =[5]届出・秋田県!$Z$38 -> 0 | CB12: =[5]届出・秋田県!$AA$38 -> 0 | CC12: 05 | CD12: 秋田 | CE12: =[5]届出・秋田県!$Z$39 -> 0 | CF12: =[5]届出・秋田県!$AA$39 -> 0 | CG12: =[5]届出・秋田県!$Z$40 -> 0 | CH12: =[5]届出・秋田県!$AA$40 -> 13 | CI12: =[5]届出・秋田県!$Z$41 -> 1 | CJ12: =[5]届出・秋田県!$AA$41 -> 14 | CK12: =[5]届出・秋田県!$Z$42 -> 0 | CL12: =[5]届出・秋田県!$AA$42 -> 0 | CM12: =[5]届出・秋田県!$Z$43 -> 0 | CN12: =[5]届出・秋田県!$AA$43 -> 0 | CO12: =[5]届出・秋田県!$Z$44 -> 0 | CP12: =[5]届出・秋田県!$AA$44 -> 0 | CQ12: =[5]届出・秋田県!$Z$45 -> 0 | CR12: =[5]届出・秋田県!$AA$45 -> 0 | CS12: =[5]届出・秋田県!$Z$46 -> 0 | CT12: =[5]届出・秋田県!$AA$46 -> 0 | CU12: 05 | CV12: 秋田 | CW12: =[5]届出・秋田県!$Z$47 -> 0 | CX12: =[5]届出・秋田県!$AA$47 -> 0 | CY12: =[5]届出・秋田県!$Z$51 -> 0 | CZ12: =[5]届出・秋田県!$AA$51 -> 0 | DA12: =[5]届出・秋田県!$Z$48 -> 0 | DB12: =[5]届出・秋田県!$AA$48 -> 0 | DC12: =[5]届出・秋田県!$Z$49 -> 0 | DD12: =[5]届出・秋田県!$AA$49 -> 0
A13: 06 | B13: 山形 | C13: =[6]届出・山形県!$Z$3 -> 0 | D13: =[6]届出・山形県!$AA$3 -> 0 | E13: =[6]届出・山形県!$Z$4 -> 0 | F13: =[6]届出・山形県!$AA$4 -> 0 | G13: =[6]届出・山形県!$Z$5 -> 0 | H13: =[6]届出・山形県!$AA$5 -> 0 | I13: =[6]届出・山形県!$Z$6 -> 0 | J13: =[6]届出・山形県!$AA$6 -> 0 | K13: =[6]届出・山形県!$Z$7 -> 2 | L13: =[6]届出・山形県!$AA$7 -> 2 | M13: =[6]届出・山形県!$Z$8 -> 3 | N13: =[6]届出・山形県!$AA$8 -> 75 | O13: =[6]届出・山形県!$Z$9 -> 3 | P13: =[6]届出・山形県!$AA$9 -> 3 | Q13: =[6]届出・山形県!$Z$10 -> 0 | R13: =[6]届出・山形県!$AA$10 -> 0 | S13: =[6]届出・山形県!$Z$11 -> 0 | T13: =[6]届出・山形県!$AA$11 -> 0 | U13: 06 | V13: 山形 | W13: =[6]届出・山形県!$Z$12 -> 0 | X13: =[6]届出・山形県!$AA$12 -> 0 | Y13: =[6]届出・山形県!$Z$13 -> 0 | Z13: =[6]届出・山形県!$AA$13 -> 0 | AA13: =[6]届出・山形県!$Z$14 -> 0 | AB13: =[6]届出・山形県!$AA$14 -> 0 | AC13: =[6]届出・山形県!$Z$15 -> 0 | AD13: =[6]届出・山形県!$AA$15 -> 0 | AE13: =[6]届出・山形県!$Z$16 -> 0 | AF13: =[6]届出・山形県!$AA$16 -> 0 | AG13: =[6]届出・山形県!$Z$17 -> 0 | AH13: =[6]届出・山形県!$AA$17 -> 0 | AI13: =[6]届出・山形県!$Z$18 -> 0 | AJ13: =[6]届出・山形県!$AA$18 -> 0 | AK13: =[6]届出・山形県!$Z$19 -> 0 | AL13: =[6]届出・山形県!$AA$19 -> 0 | AM13: =[6]届出・山形県!$Z$20 -> 0 | AN13: =[6]届出・山形県!$AA$20 -> 0 | AO13: 06 | AP13: 山形 | AQ13: =[6]届出・山形県!$Z$21 -> 0 | AR13: =[6]届出・山形県!$AA$21 -> 0 | AS13: =[6]届出・山形県!$Z$22 -> 0 | AT13: =[6]届出・山形県!$AA$22 -> 0 | AU13: =[6]届出・山形県!$Z$23 -> 0 | AV13: =[6]届出・山形県!$AA$23 -> 0 | AW13: =[6]届出・山形県!$Z$24 -> 0 | AX13: =[6]届出・山形県!$AA$24 -> 0 | AY13: =[6]届出・山形県!$Z$25 -> 0 | AZ13: =[6]届出・山形県!$AA$25 -> 0 | BA13: =[6]届出・山形県!$Z$26 -> 0 | BB13: =[6]届出・山形県!$AA$26 -> 0 | BC13: =[6]届出・山形県!$Z$27 -> 0 | BD13: =[6]届出・山形県!$AA$27 -> 0 | BE13: =[6]届出・山形県!$Z$28 -> 0 | BF13: =[6]届出・山形県!$AA$28 -> 0 | BG13: =[6]届出・山形県!$Z$29 -> 0 | BH13: =[6]届出・山形県!$AA$29 -> 0 | BI13: 06 | BJ13: 山形 | BK13: =[6]届出・山形県!$Z$30 -> 0 | BL13: =[6]届出・山形県!$AA$30 -> 0 | BM13: =[6]届出・山形県!$Z$31 -> 0 | BN13: =[6]届出・山形県!$AA$31 -> 0 | BO13: =[6]届出・山形県!$Z$32 -> 0 | BP13: =[6]届出・山形県!$AA$32 -> 0 | BQ13: =[6]届出・山形県!$Z$33 -> 2 | BR13: =[6]届出・山形県!$AA$33 -> 121 | BS13: =[6]届出・山形県!$Z$34 -> 0 | BT13: =[6]届出・山形県!$AA$34 -> 0 | BU13: =[6]届出・山形県!$Z$35 -> 0 | BV13: =[6]届出・山形県!$AA$35 -> 0 | BW13: =[6]届出・山形県!$Z$36 -> 0 | BX13: =[6]届出・山形県!$AA$36 -> 0 | BY13: =[6]届出・山形県!$Z$37 -> 86 | BZ13: =[6]届出・山形県!$AA$37 -> 120 | CA13: =[6]届出・山形県!$Z$38 -> 0 | CB13: =[6]届出・山形県!$AA$38 -> 0 | CC13: 06 | CD13: 山形 | CE13: =[6]届出・山形県!$Z$39 -> 0 | CF13: =[6]届出・山形県!$AA$39 -> 0 | CG13: =[6]届出・山形県!$Z$40 -> 0 | CH13: =[6]届出・山形県!$AA$40 -> 0 | CI13: =[6]届出・山形県!$Z$41 -> 0 | CJ13: =[6]届出・山形県!$AA$41 -> 0 | CK13: =[6]届出・山形県!$Z$42 -> 0 | CL13: =[6]届出・山形県!$AA$42 -> 0 | CM13: =[6]届出・山形県!$Z$43 -> 0 | CN13: =[6]届出・山形県!$AA$43 -> 0 | CO13: =[6]届出・山形県!$Z$44 -> 0 | CP13: =[6]届出・山形県!$AA$44 -> 0 | CQ13: =[6]届出・山形県!$Z$45 -> 0 | CR13: =[6]届出・山形県!$AA$45 -> 0 | CS13: =[6]届出・山形県!$Z$46 -> 0 | CT13: =[6]届出・山形県!$AA$46 -> 0 | CU13: 06 | CV13: 山形 | CW13: =[6]届出・山形県!$Z$47 -> 0 | CX13: =[6]届出・山形県!$AA$47 -> 0 | CY13: =[6]届出・山形県!$Z$51 -> 0 | CZ13: =[6]届出・山形県!$AA$51 -> 0 | DA13: =[6]届出・山形県!$Z$48 -> 0 | DB13: =[6]届出・山形県!$AA$48 -> 0 | DC13: =[6]届出・山形県!$Z$49 -> 0 | DD13: =[6]届出・山形県!$AA$49 -> 0
A14: 07 | B14: 福島 | C14: =[7]届出・福島県!$Z$3 -> 0 | D14: =[7]届出・福島県!$AA$3 -> 0 | E14: =[7]届出・福島県!$Z$4 -> 0 | F14: =[7]届出・福島県!$AA$4 -> 0 | G14: =[7]届出・福島県!$Z$5 -> 0 | H14: =[7]届出・福島県!$AA$5 -> 0 | I14: =[7]届出・福島県!$Z$6 -> 0 | J14: =[7]届出・福島県!$AA$6 -> 0 | K14: =[7]届出・福島県!$Z$7 -> 0 | L14: =[7]届出・福島県!$AA$7 -> 0 | M14: =[7]届出・福島県!$Z$8 -> 0 | N14: =[7]届出・福島県!$AA$8 -> 0 | O14: =[7]届出・福島県!$Z$9 -> 1 | P14: =[7]届出・福島県!$AA$9 -> 1 | Q14: =[7]届出・福島県!$Z$10 -> 0 | R14: =[7]届出・福島県!$AA$10 -> 0 | S14: =[7]届出・福島県!$Z$11 -> 0 | T14: =[7]届出・福島県!$AA$11 -> 0 | U14: 07 | V14: 福島 | W14: =[7]届出・福島県!$Z$12 -> 0 | X14: =[7]届出・福島県!$AA$12 -> 0 | Y14: =[7]届出・福島県!$Z$13 -> 0 | Z14: =[7]届出・福島県!$AA$13 -> 0 | AA14: =[7]届出・福島県!$Z$14 -> 0 | AB14: =[7]届出・福島県!$AA$14 -> 0 | AC14: =[7]届出・福島県!$Z$15 -> 0 | AD14: =[7]届出・福島県!$AA$15 -> 0 | AE14: =[7]届出・福島県!$Z$16 -> 0 | AF14: =[7]届出・福島県!$AA$16 -> 0 | AG14: =[7]届出・福島県!$Z$17 -> 0 | AH14: =[7]届出・福島県!$AA$17 -> 0 | AI14: =[7]届出・福島県!$Z$18 -> 1 | AJ14: =[7]届出・福島県!$AA$18 -> 4 | AK14: =[7]届出・福島県!$Z$19 -> 0 | AL14: =[7]届出・福島県!$AA$19 -> 0 | AM14: =[7]届出・福島県!$Z$20 -> 0 | AN14: =[7]届出・福島県!$AA$20 -> 0 | AO14: 07 | AP14: 福島 | AQ14: =[7]届出・福島県!$Z$21 -> 0 | AR14: =[7]届出・福島県!$AA$21 -> 0 | AS14: =[7]届出・福島県!$Z$22 -> 0 | AT14: =[7]届出・福島県!$AA$22 -> 0 | AU14: =[7]届出・福島県!$Z$23 -> 0 | AV14: =[7]届出・福島県!$AA$23 -> 0 | AW14: =[7]届出・福島県!$Z$24 -> 0 | AX14: =[7]届出・福島県!$AA$24 -> 0 | AY14: =[7]届出・福島県!$Z$25 -> 0 | AZ14: =[7]届出・福島県!$AA$25 -> 0 | BA14: =[7]届出・福島県!$Z$26 -> 0 | BB14: =[7]届出・福島県!$AA$26 -> 0 | BC14: =[7]届出・福島県!$Z$27 -> 0 | BD14: =[7]届出・福島県!$AA$27 -> 0 | BE14: =[7]届出・福島県!$Z$28 -> 0 | BF14: =[7]届出・福島県!$AA$28 -> 0 | BG14: =[7]届出・福島県!$Z$29 -> 0 | BH14: =[7]届出・福島県!$AA$29 -> 0 | BI14: 07 | BJ14: 福島 | BK14: =[7]届出・福島県!$Z$30 -> 0 | BL14: =[7]届出・福島県!$AA$30 -> 0 | BM14: =[7]届出・福島県!$Z$31 -> 1 | BN14: =[7]届出・福島県!$AA$31 -> 153 | BO14: =[7]届出・福島県!$Z$32 -> 0 | BP14: =[7]届出・福島県!$AA$32 -> 0 | BQ14: =[7]届出・福島県!$Z$33 -> 0 | BR14: =[7]届出・福島県!$AA$33 -> 0 | BS14: =[7]届出・福島県!$Z$34 -> 0 | BT14: =[7]届出・福島県!$AA$34 -> 0 | BU14: =[7]届出・福島県!$Z$35 -> 0 | BV14: =[7]届出・福島県!$AA$35 -> 0 | BW14: =[7]届出・福島県!$Z$36 -> 0 | BX14: =[7]届出・福島県!$AA$36 -> 0 | BY14: =[7]届出・福島県!$Z$37 -> 3 | BZ14: =[7]届出・福島県!$AA$37 -> 14 | CA14: =[7]届出・福島県!$Z$38 -> 0 | CB14: =[7]届出・福島県!$AA$38 -> 0 | CC14: 07 | CD14: 福島 | CE14: =[7]届出・福島県!$Z$39 -> 0 | CF14: =[7]届出・福島県!$AA$39 -> 0 | CG14: =[7]届出・福島県!$Z$40 -> 0 | CH14: =[7]届出・福島県!$AA$40 -> 0 | CI14: =[7]届出・福島県!$Z$41 -> 1 | CJ14: =[7]届出・福島県!$AA$41 -> 4 | CK14: =[7]届出・福島県!$Z$42 -> 0 | CL14: =[7]届出・福島県!$AA$42 -> 0 | CM14: =[7]届出・福島県!$Z$43 -> 0 | CN14: =[7]届出・福島県!$AA$43 -> 0 | CO14: =[7]届出・福島県!$Z$44 -> 0 | CP14: =[7]届出・福島県!$AA$44 -> 0 | CQ14: =[7]届出・福島県!$Z$45 -> 0 | CR14: =[7]届出・福島県!$AA$45 -> 0 | CS14: =[7]届出・福島県!$Z$46 -> 0 | CT14: =[7]届出・福島県!$AA$46 -> 0 | CU14: 07 | CV14: 福島 | CW14: =[7]届出・福島県!$Z$47 -> 0 | CX14: =[7]届出・福島県!$AA$47 -> 0 | CY14: =[7]届出・福島県!$Z$51 -> 0 | CZ14: =[7]届出・福島県!$AA$51 -> 0 | DA14: =[7]届出・福島県!$Z$48 -> 0 | DB14: =[7]届出・福島県!$AA$48 -> 0 | DC14: =[7]届出・福島県!$Z$49 -> 0 | DD14: =[7]届出・福島県!$AA$49 -> 0
A15: 08 | B15: 茨城 | C15: =[8]届出・茨城県!$Z$3 -> 0 | D15: =[8]届出・茨城県!$AA$3 -> 0 | E15: =[8]届出・茨城県!$Z$4 -> 0 | F15: =[8]届出・茨城県!$AA$4 -> 0 | G15: =[8]届出・茨城県!$Z$5 -> 0 | H15: =[8]届出・茨城県!$AA$5 -> 0 | I15: =[8]届出・茨城県!$Z$6 -> 0 | J15: =[8]届出・茨城県!$AA$6 -> 0 | K15: =[8]届出・茨城県!$Z$7 -> 0 | L15: =[8]届出・茨城県!$AA$7 -> 0 | M15: =[8]届出・茨城県!$Z$8 -> 0 | N15: =[8]届出・茨城県!$AA$8 -> 0 | O15: =[8]届出・茨城県!$Z$9 -> 1 | P15: =[8]届出・茨城県!$AA$9 -> 1 | Q15: =[8]届出・茨城県!$Z$10 -> 0 | R15: =[8]届出・茨城県!$AA$10 -> 0 | S15: =[8]届出・茨城県!$Z$11 -> 0 | T15: =[8]届出・茨城県!$AA$11 -> 0 | U15: 08 | V15: 茨城 | W15: =[8]届出・茨城県!$Z$12 -> 0 | X15: =[8]届出・茨城県!$AA$12 -> 0 | Y15: =[8]届出・茨城県!$Z$13 -> 0 | Z15: =[8]届出・茨城県!$AA$13 -> 0 | AA15: =[8]届出・茨城県!$Z$14 -> 0 | AB15: =[8]届出・茨城県!$AA$14 -> 0 | AC15: =[8]届出・茨城県!$Z$15 -> 0 | AD15: =[8]届出・茨城県!$AA$15 -> 0 | AE15: =[8]届出・茨城県!$Z$16 -> 5 | AF15: =[8]届出・茨城県!$AA$16 -> 5 | AG15: =[8]届出・茨城県!$Z$17 -> 0 | AH15: =[8]届出・茨城県!$AA$17 -> 0 | AI15: =[8]届出・茨城県!$Z$18 -> 0 | AJ15: =[8]届出・茨城県!$AA$18 -> 0 | AK15: =[8]届出・茨城県!$Z$19 -> 4 | AL15: =[8]届出・茨城県!$AA$19 -> 9 | AM15: =[8]届出・茨城県!$Z$20 -> 0 | AN15: =[8]届出・茨城県!$AA$20 -> 0 | AO15: 08 | AP15: 茨城 | AQ15: =[8]届出・茨城県!$Z$21 -> 0 | AR15: =[8]届出・茨城県!$AA$21 -> 0 | AS15: =[8]届出・茨城県!$Z$22 -> 0 | AT15: =[8]届出・茨城県!$AA$22 -> 0 | AU15: =[8]届出・茨城県!$Z$23 -> 0 | AV15: =[8]届出・茨城県!$AA$23 -> 0 | AW15: =[8]届出・茨城県!$Z$24 -> 1 | AX15: =[8]届出・茨城県!$AA$24 -> 1 | AY15: =[8]届出・茨城県!$Z$25 -> 0 | AZ15: =[8]届出・茨城県!$AA$25 -> 0 | BA15: =[8]届出・茨城県!$Z$26 -> 0 | BB15: =[8]届出・茨城県!$AA$26 -> 0 | BC15: =[8]届出・茨城県!$Z$27 -> 0 | BD15: =[8]届出・茨城県!$AA$27 -> 0 | BE15: =[8]届出・茨城県!$Z$28 -> 0 | BF15: =[8]届出・茨城県!$AA$28 -> 0 | BG15: =[8]届出・茨城県!$Z$29 -> 1 | BH15: =[8]届出・茨城県!$AA$29 -> 16 | BI15: 08 | BJ15: 茨城 | BK15: =[8]届出・茨城県!$Z$30 -> 0 | BL15: =[8]届出・茨城県!$AA$30 -> 0 | BM15: =[8]届出・茨城県!$Z$31 -> 1 | BN15: =[8]届出・茨城県!$AA$31 -> 18 | BO15: =[8]届出・茨城県!$Z$32 -> 0 | BP15: =[8]届出・茨城県!$AA$32 -> 0 | BQ15: =[8]届出・茨城県!$Z$33 -> 7 | BR15: =[8]届出・茨城県!$AA$33 -> 15 | BS15: =[8]届出・茨城県!$Z$34 -> 0 | BT15: =[8]届出・茨城県!$AA$34 -> 0 | BU15: =[8]届出・茨城県!$Z$35 -> 0 | BV15: =[8]届出・茨城県!$AA$35 -> 0 | BW15: =[8]届出・茨城県!$Z$36 -> 0 | BX15: =[8]届出・茨城県!$AA$36 -> 0 | BY15: =[8]届出・茨城県!$Z$37 -> 75 | BZ15: =[8]届出・茨城県!$AA$37 -> 84 | CA15: =[8]届出・茨城県!$Z$38 -> 0 | CB15: =[8]届出・茨城県!$AA$38 -> 0 | CC15: 08 | CD15: 茨城 | CE15: =[8]届出・茨城県!$Z$39 -> 1 | CF15: =[8]届出・茨城県!$AA$39 -> 26 | CG15: =[8]届出・茨城県!$Z$40 -> 0 | CH15: =[8]届出・茨城県!$AA$40 -> 0 | CI15: =[8]届出・茨城県!$Z$41 -> 0 | CJ15: =[8]届出・茨城県!$AA$41 -> 0 | CK15: =[8]届出・茨城県!$Z$42 -> 0 | CL15: =[8]届出・茨城県!$AA$42 -> 0 | CM15: =[8]届出・茨城県!$Z$43 -> 0 | CN15: =[8]届出・茨城県!$AA$43 -> 0 | CO15: =[8]届出・茨城県!$Z$44 -> 0 | CP15: =[8]届出・茨城県!$AA$44 -> 0 | CQ15: =[8]届出・茨城県!$Z$45 -> 0 | CR15: =[8]届出・茨城県!$AA$45 -> 0 | CS15: =[8]届出・茨城県!$Z$46 -> 0 | CT15: =[8]届出・茨城県!$AA$46 -> 0 | CU15: 08 | CV15: 茨城 | CW15: =[8]届出・茨城県!$Z$47 -> 0 | CX15: =[8]届出・茨城県!$AA$47 -> 0 | CY15: =[8]届出・茨城県!$Z$51 -> 0 | CZ15: =[8]届出・茨城県!$AA$51 -> 0 | DA15: =[8]届出・茨城県!$Z$48 -> 0 | DB15: =[8]届出・茨城県!$AA$48 -> 0 | DC15: =[8]届出・茨城県!$Z$49 -> 4 | DD15: =[8]届出・茨城県!$AA$49 -> 14
A16: 09 | B16: 栃木 | C16: =[9]届出・栃木県!$Z$3 -> 0 | D16: =[9]届出・栃木県!$AA$3 -> 0 | E16: =[9]届出・栃木県!$Z$4 -> 0 | F16: =[9]届出・栃木県!$AA$4 -> 0 | G16: =[9]届出・栃木県!$Z$5 -> 0 | H16: =[9]届出・栃木県!$AA$5 -> 0 | I16: =[9]届出・栃木県!$Z$6 -> 0 | J16: =[9]届出・栃木県!$AA$6 -> 0 | K16: =[9]届出・栃木県!$Z$7 -> 0 | L16: =[9]届出・栃木県!$AA$7 -> 0 | M16: =[9]届出・栃木県!$Z$8 -> 0 | N16: =[9]届出・栃木県!$AA$8 -> 0 | O16: =[9]届出・栃木県!$Z$9 -> 0 | P16: =[9]届出・栃木県!$AA$9 -> 0 | Q16: =[9]届出・栃木県!$Z$10 -> 0 | R16: =[9]届出・栃木県!$AA$10 -> 0 | S16: =[9]届出・栃木県!$Z$11 -> 0 | T16: =[9]届出・栃木県!$AA$11 -> 0 | U16: 09 | V16: 栃木 | W16: =[9]届出・栃木県!$Z$12 -> 0 | X16: =[9]届出・栃木県!$AA$12 -> 0 | Y16: =[9]届出・栃木県!$Z$13 -> 2 | Z16: =[9]届出・栃木県!$AA$13 -> 2 | AA16: =[9]届出・栃木県!$Z$14 -> 0 | AB16: =[9]届出・栃木県!$AA$14 -> 0 | AC16: =[9]届出・栃木県!$Z$15 -> 0 | AD16: =[9]届出・栃木県!$AA$15 -> 0 | AE16: =[9]届出・栃木県!$Z$16 -> 0 | AF16: =[9]届出・栃木県!$AA$16 -> 0 | AG16: =[9]届出・栃木県!$Z$17 -> 0 | AH16: =[9]届出・栃木県!$AA$17 -> 0 | AI16: =[9]届出・栃木県!$Z$18 -> 0 | AJ16: =[9]届出・栃木県!$AA$18 -> 0 | AK16: =[9]届出・栃木県!$Z$19 -> 0 | AL16: =[9]届出・栃木県!$AA$19 -> 0 | AM16: =[9]届出・栃木県!$Z$20 -> 0 | AN16: =[9]届出・栃木県!$AA$20 -> 0 | AO16: 09 | AP16: 栃木 | AQ16: =[9]届出・栃木県!$Z$21 -> 0 | AR16: =[9]届出・栃木県!$AA$21 -> 0 | AS16: =[9]届出・栃木県!$Z$22 -> 0 | AT16: =[9]届出・栃木県!$AA$22 -> 0 | AU16: =[9]届出・栃木県!$Z$23 -> 0 | AV16: =[9]届出・栃木県!$AA$23 -> 0 | AW16: =[9]届出・栃木県!$Z$24 -> 0 | AX16: =[9]届出・栃木県!$AA$24 -> 0 | AY16: =[9]届出・栃木県!$Z$25 -> 0 | AZ16: =[9]届出・栃木県!$AA$25 -> 0 | BA16: =[9]届出・栃木県!$Z$26 -> 0 | BB16: =[9]届出・栃木県!$AA$26 -> 0 | BC16: =[9]届出・栃木県!$Z$27 -> 0 | BD16: =[9]届出・栃木県!$AA$27 -> 0 | BE16: =[9]届出・栃木県!$Z$28 -> 0 | BF16: =[9]届出・栃木県!$AA$28 -> 0 | BG16: =[9]届出・栃木県!$Z$29 -> 0 | BH16: =[9]届出・栃木県!$AA$29 -> 0 | BI16: 09 | BJ16: 栃木 | BK16: =[9]届出・栃木県!$Z$30 -> 0 | BL16: =[9]届出・栃木県!$AA$30 -> 0 | BM16: =[9]届出・栃木県!$Z$31 -> 0 | BN16: =[9]届出・栃木県!$AA$31 -> 0 | BO16: =[9]届出・栃木県!$Z$32 -> 0 | BP16: =[9]届出・栃木県!$AA$32 -> 0 | BQ16: =[9]届出・栃木県!$Z$33 -> 0 | BR16: =[9]届出・栃木県!$AA$33 -> 0 | BS16: =[9]届出・栃木県!$Z$34 -> 0 | BT16: =[9]届出・栃木県!$AA$34 -> 0 | BU16: =[9]届出・栃木県!$Z$35 -> 0 | BV16: =[9]届出・栃木県!$AA$35 -> 0 | BW16: =[9]届出・栃木県!$Z$36 -> 0 | BX16: =[9]届出・栃木県!$AA$36 -> 0 | BY16: =[9]届出・栃木県!$Z$37 -> 57 | BZ16: =[9]届出・栃木県!$AA$37 -> 71 | CA16: =[9]届出・栃木県!$Z$38 -> 0 | CB16: =[9]届出・栃木県!$AA$38 -> 0 | CC16: 09 | CD16: 栃木 | CE16: =[9]届出・栃木県!$Z$39 -> 0 | CF16: =[9]届出・栃木県!$AA$39 -> 0 | CG16: =[9]届出・栃木県!$Z$40 -> 0 | CH16: =[9]届出・栃木県!$AA$40 -> 0 | CI16: =[9]届出・栃木県!$Z$41 -> 3 | CJ16: =[9]届出・栃木県!$AA$41 -> 236 | CK16: =[9]届出・栃木県!$Z$42 -> 0 | CL16: =[9]届出・栃木県!$AA$42 -> 0 | CM16: =[9]届出・栃木県!$Z$43 -> 0 | CN16: =[9]届出・栃木県!$AA$43 -> 0 | CO16: =[9]届出・栃木県!$Z$44 -> 0 | CP16: =[9]届出・栃木県!$AA$44 -> 0 | CQ16: =[9]届出・栃木県!$Z$45 -> 1 | CR16: =[9]届出・栃木県!$AA$45 -> 1 | CS16: =[9]届出・栃木県!$Z$46 -> 0 | CT16: =[9]届出・栃木県!$AA$46 -> 0 | CU16: 09 | CV16: 栃木 | CW16: =[9]届出・栃木県!$Z$47 -> 0 | CX16: =[9]届出・栃木県!$AA$47 -> 0 | CY16: =[9]届出・栃木県!$Z$51 -> 0 | CZ16: =[9]届出・栃木県!$AA$51 -> 0 | DA16: =[9]届出・栃木県!$Z$48 -> 0 | DB16: =[9]届出・栃木県!$AA$48 -> 0 | DC16: =[9]届出・栃木県!$Z$49 -> 0 | DD16: =[9]届出・栃木県!$AA$49 -> 0
A17: 10 | B17: 群馬 | C17: =[10]届出・群馬県!$Z$3 -> 0 | D17: =[10]届出・群馬県!$AA$3 -> 0 | E17: =[10]届出・群馬県!$Z$4 -> 0 | F17: =[10]届出・群馬県!$AA$4 -> 0 | G17: =[10]届出・群馬県!$Z$5 -> 0 | H17: =[10]届出・群馬県!$AA$5 -> 0 | I17: =[10]届出・群馬県!$Z$6 -> 0 | J17: =[10]届出・群馬県!$AA$6 -> 0 | K17: =[10]届出・群馬県!$Z$7 -> 1 | L17: =[10]届出・群馬県!$AA$7 -> 5 | M17: =[10]届出・群馬県!$Z$8 -> 1 | N17: =[10]届出・群馬県!$AA$8 -> 12 | O17: =[10]届出・群馬県!$Z$9 -> 10 | P17: =[10]届出・群馬県!$AA$9 -> 10 | Q17: =[10]届出・群馬県!$Z$10 -> 0 | R17: =[10]届出・群馬県!$AA$10 -> 0 | S17: =[10]届出・群馬県!$Z$11 -> 0 | T17: =[10]届出・群馬県!$AA$11 -> 0 | U17: 10 | V17: 群馬 | W17: =[10]届出・群馬県!$Z$12 -> 0 | X17: =[10]届出・群馬県!$AA$12 -> 0 | Y17: =[10]届出・群馬県!$Z$13 -> 1 | Z17: =[10]届出・群馬県!$AA$13 -> 1 | AA17: =[10]届出・群馬県!$Z$14 -> 0 | AB17: =[10]届出・群馬県!$AA$14 -> 0 | AC17: =[10]届出・群馬県!$Z$15 -> 0 | AD17: =[10]届出・群馬県!$AA$15 -> 0 | AE17: =[10]届出・群馬県!$Z$16 -> 0 | AF17: =[10]届出・群馬県!$AA$16 -> 0 | AG17: =[10]届出・群馬県!$Z$17 -> 0 | AH17: =[10]届出・群馬県!$AA$17 -> 0 | AI17: =[10]届出・群馬県!$Z$18 -> 0 | AJ17: =[10]届出・群馬県!$AA$18 -> 0 | AK17: =[10]届出・群馬県!$Z$19 -> 1 | AL17: =[10]届出・群馬県!$AA$19 -> 80 | AM17: =[10]届出・群馬県!$Z$20 -> 0 | AN17: =[10]届出・群馬県!$AA$20 -> 0 | AO17: 10 | AP17: 群馬 | AQ17: =[10]届出・群馬県!$Z$21 -> 0 | AR17: =[10]届出・群馬県!$AA$21 -> 0 | AS17: =[10]届出・群馬県!$Z$22 -> 0 | AT17: =[10]届出・群馬県!$AA$22 -> 0 | AU17: =[10]届出・群馬県!$Z$23 -> 0 | AV17: =[10]届出・群馬県!$AA$23 -> 0 | AW17: =[10]届出・群馬県!$Z$24 -> 0 | AX17: =[10]届出・群馬県!$AA$24 -> 0 | AY17: =[10]届出・群馬県!$Z$25 -> 0 | AZ17: =[10]届出・群馬県!$AA$25 -> 0 | BA17: =[10]届出・群馬県!$Z$26 -> 0 | BB17: =[10]届出・群馬県!$AA$26 -> 0 | BC17: =[10]届出・群馬県!$Z$27 -> 0 | BD17: =[10]届出・群馬県!$AA$27 -> 0 | BE17: =[10]届出・群馬県!$Z$28 -> 0 | BF17: =[10]届出・群馬県!$AA$28 -> 0 | BG17: =[10]届出・群馬県!$Z$29 -> 1 | BH17: =[10]届出・群馬県!$AA$29 -> 3 | BI17: 10 | BJ17: 群馬 | BK17: =[10]届出・群馬県!$Z$30 -> 0 | BL17: =[10]届出・群馬県!$AA$30 -> 0 | BM17: =[10]届出・群馬県!$Z$31 -> 1 | BN17: =[10]届出・群馬県!$AA$31 -> 3 | BO17: =[10]届出・群馬県!$Z$32 -> 1 | BP17: =[10]届出・群馬県!$AA$32 -> 132 | BQ17: =[10]届出・群馬県!$Z$33 -> 0 | BR17: =[10]届出・群馬県!$AA$33 -> 0 | BS17: =[10]届出・群馬県!$Z$34 -> 0 | BT17: =[10]届出・群馬県!$AA$34 -> 0 | BU17: =[10]届出・群馬県!$Z$35 -> 0 | BV17: =[10]届出・群馬県!$AA$35 -> 0 | BW17: =[10]届出・群馬県!$Z$36 -> 0 | BX17: =[10]届出・群馬県!$AA$36 -> 0 | BY17: =[10]届出・群馬県!$Z$37 -> 39 | BZ17: =[10]届出・群馬県!$AA$37 -> 56 | CA17: =[10]届出・群馬県!$Z$38 -> 0 | CB17: =[10]届出・群馬県!$AA$38 -> 0 | CC17: 10 | CD17: 群馬 | CE17: =[10]届出・群馬県!$Z$39 -> 0 | CF17: =[10]届出・群馬県!$AA$39 -> 0 | CG17: =[10]届出・群馬県!$Z$40 -> 0 | CH17: =[10]届出・群馬県!$AA$40 -> 0 | CI17: =[10]届出・群馬県!$Z$41 -> 165 | CJ17: =[10]届出・群馬県!$AA$41 -> 2327 | CK17: =[10]届出・群馬県!$Z$42 -> 0 | CL17: =[10]届出・群馬県!$AA$42 -> 0 | CM17: =[10]届出・群馬県!$Z$43 -> 0 | CN17: =[10]届出・群馬県!$AA$43 -> 0 | CO17: =[10]届出・群馬県!$Z$44 -> 0 | CP17: =[10]届出・群馬県!$AA$44 -> 0 | CQ17: =[10]届出・群馬県!$Z$45 -> 19 | CR17: =[10]届出・群馬県!$AA$45 -> 29 | CS17: =[10]届出・群馬県!$Z$46 -> 0 | CT17: =[10]届出・群馬県!$AA$46 -> 0 | CU17: 10 | CV17: 群馬 | CW17: =[10]届出・群馬県!$Z$47 -> 0 | CX17: =[10]届出・群馬県!$AA$47 -> 0 | CY17: =[10]届出・群馬県!$Z$51 -> 0 | CZ17: =[10]届出・群馬県!$AA$51 -> 0 | DA17: =[10]届出・群馬県!$Z$48 -> 0 | DB17: =[10]届出・群馬県!$AA$48 -> 0 | DC17: =[10]届出・群馬県!$Z$49 -> 0 | DD17: =[10]届出・群馬県!$AA$49 -> 0
A18: 11 | B18: 埼玉 | C18: =[11]届出・埼玉県!$Z$3 -> 0 | D18: =[11]届出・埼玉県!$AA$3 -> 0 | E18: =[11]届出・埼玉県!$Z$4 -> 0 | F18: =[11]届出・埼玉県!$AA$4 -> 0 | G18: =[11]届出・埼玉県!$Z$5 -> 0 | H18: =[11]届出・埼玉県!$AA$5 -> 0 | I18: =[11]届出・埼玉県!$Z$6 -> 0 | J18: =[11]届出・埼玉県!$AA$6 -> 0 | K18: =[11]届出・埼玉県!$Z$7 -> 0 | L18: =[11]届出・埼玉県!$AA$7 -> 0 | M18: =[11]届出・埼玉県!$Z$8 -> 1 | N18: =[11]届出・埼玉県!$AA$8 -> 7 | O18: =[11]届出・埼玉県!$Z$9 -> 0 | P18: =[11]届出・埼玉県!$AA$9 -> 0 | Q18: =[11]届出・埼玉県!$Z$10 -> 0 | R18: =[11]届出・埼玉県!$AA$10 -> 0 | S18: =[11]届出・埼玉県!$Z$11 -> 0 | T18: =[11]届出・埼玉県!$AA$11 -> 0 | U18: 11 | V18: 埼玉 | W18: =[11]届出・埼玉県!$Z$12 -> 0 | X18: =[11]届出・埼玉県!$AA$12 -> 0 | Y18: =[11]届出・埼玉県!$Z$13 -> 0 | Z18: =[11]届出・埼玉県!$AA$13 -> 0 | AA18: =[11]届出・埼玉県!$Z$14 -> 0 | AB18: =[11]届出・埼玉県!$AA$14 -> 0 | AC18: =[11]届出・埼玉県!$Z$15 -> 0 | AD18: =[11]届出・埼玉県!$AA$15 -> 0 | AE18: =[11]届出・埼玉県!$Z$16 -> 1 | AF18: =[11]届出・埼玉県!$AA$16 -> 1 | AG18: =[11]届出・埼玉県!$Z$17 -> 0 | AH18: =[11]届出・埼玉県!$AA$17 -> 0 | AI18: =[11]届出・埼玉県!$Z$18 -> 0 | AJ18: =[11]届出・埼玉県!$AA$18 -> 0 | AK18: =[11]届出・埼玉県!$Z$19 -> 0 | AL18: =[11]届出・埼玉県!$AA$19 -> 0 | AM18: =[11]届出・埼玉県!$Z$20 -> 0 | AN18: =[11]届出・埼玉県!$AA$20 -> 0 | AO18: 11 | AP18: 埼玉 | AQ18: =[11]届出・埼玉県!$Z$21 -> 0 | AR18: =[11]届出・埼玉県!$AA$21 -> 0 | AS18: =[11]届出・埼玉県!$Z$22 -> 0 | AT18: =[11]届出・埼玉県!$AA$22 -> 0 | AU18: =[11]届出・埼玉県!$Z$23 -> 0 | AV18: =[11]届出・埼玉県!$AA$23 -> 0 | AW18: =[11]届出・埼玉県!$Z$24 -> 0 | AX18: =[11]届出・埼玉県!$AA$24 -> 0 | AY18: =[11]届出・埼玉県!$Z$25 -> 0 | AZ18: =[11]届出・埼玉県!$AA$25 -> 0 | BA18: =[11]届出・埼玉県!$Z$26 -> 0 | BB18: =[11]届出・埼玉県!$AA$26 -> 0 | BC18: =[11]届出・埼玉県!$Z$27 -> 0 | BD18: =[11]届出・埼玉県!$AA$27 -> 0 | BE18: =[11]届出・埼玉県!$Z$28 -> 0 | BF18: =[11]届出・埼玉県!$AA$28 -> 0 | BG18: =[11]届出・埼玉県!$Z$29 -> 0 | BH18: =[11]届出・埼玉県!$AA$29 -> 0 | BI18: 11 | BJ18: 埼玉 | BK18: =[11]届出・埼玉県!$Z$30 -> 0 | BL18: =[11]届出・埼玉県!$AA$30 -> 0 | BM18: =[11]届出・埼玉県!$Z$31 -> 1 | BN18: =[11]届出・埼玉県!$AA$31 -> 21 | BO18: =[11]届出・埼玉県!$Z$32 -> 0 | BP18: =[11]届出・埼玉県!$AA$32 -> 0 | BQ18: =[11]届出・埼玉県!$Z$33 -> 0 | BR18: =[11]届出・埼玉県!$AA$33 -> 0 | BS18: =[11]届出・埼玉県!$Z$34 -> 0 | BT18: =[11]届出・埼玉県!$AA$34 -> 0 | BU18: =[11]届出・埼玉県!$Z$35 -> 0 | BV18: =[11]届出・埼玉県!$AA$35 -> 0 | BW18: =[11]届出・埼玉県!$Z$36 -> 0 | BX18: =[11]届出・埼玉県!$AA$36 -> 0 | BY18: =[11]届出・埼玉県!$Z$37 -> 6 | BZ18: =[11]届出・埼玉県!$AA$37 -> 6 | CA18: =[11]届出・埼玉県!$Z$38 -> 0 | CB18: =[11]届出・埼玉県!$AA$38 -> 0 | CC18: 11 | CD18: 埼玉 | CE18: =[11]届出・埼玉県!$Z$39 -> 0 | CF18: =[11]届出・埼玉県!$AA$39 -> 0 | CG18: =[11]届出・埼玉県!$Z$40 -> 0 | CH18: =[11]届出・埼玉県!$AA$40 -> 0 | CI18: =[11]届出・埼玉県!$Z$41 -> 12 | CJ18: =[11]届出・埼玉県!$AA$41 -> 562 | CK18: =[11]届出・埼玉県!$Z$42 -> 0 | CL18: =[11]届出・埼玉県!$AA$42 -> 0 | CM18: =[11]届出・埼玉県!$Z$43 -> 0 | CN18: =[11]届出・埼玉県!$AA$43 -> 0 | CO18: =[11]届出・埼玉県!$Z$44 -> 0 | CP18: =[11]届出・埼玉県!$AA$44 -> 0 | CQ18: =[11]届出・埼玉県!$Z$45 -> 2 | CR18: =[11]届出・埼玉県!$AA$45 -> 2 | CS18: =[11]届出・埼玉県!$Z$46 -> 0 | CT18: =[11]届出・埼玉県!$AA$46 -> 0 | CU18: 11 | CV18: 埼玉 | CW18: =[11]届出・埼玉県!$Z$47 -> 0 | CX18: =[11]届出・埼玉県!$AA$47 -> 0 | CY18: =[11]届出・埼玉県!$Z$51 -> 0 | CZ18: =[11]届出・埼玉県!$AA$51 -> 0 | DA18: =[11]届出・埼玉県!$Z$48 -> 0 | DB18: =[11]届出・埼玉県!$AA$48 -> 0 | DC18: =[11]届出・埼玉県!$Z$49 -> 0 | DD18: =[11]届出・埼玉県!$AA$49 -> 0
A19: 12 | B19: 千葉 | C19: =[12]届出・千葉県!$Z$3 -> 0 | D19: =[12]届出・千葉県!$AA$3 -> 0 | E19: =[12]届出・千葉県!$Z$4 -> 0 | F19: =[12]届出・千葉県!$AA$4 -> 0 | G19: =[12]届出・千葉県!$Z$5 -> 0 | H19: =[12]届出・千葉県!$AA$5 -> 0 | I19: =[12]届出・千葉県!$Z$6 -> 0 | J19: =[12]届出・千葉県!$AA$6 -> 0 | K19: =[12]届出・千葉県!$Z$7 -> 0 | L19: =[12]届出・千葉県!$AA$7 -> 0 | M19: =[12]届出・千葉県!$Z$8 -> 4 | N19: =[12]届出・千葉県!$AA$8 -> 33 | O19: =[12]届出・千葉県!$Z$9 -> 3 | P19: =[12]届出・千葉県!$AA$9 -> 3 | Q19: =[12]届出・千葉県!$Z$10 -> 0 | R19: =[12]届出・千葉県!$AA$10 -> 0 | S19: =[12]届出・千葉県!$Z$11 -> 0 | T19: =[12]届出・千葉県!$AA$11 -> 0 | U19: 12 | V19: 千葉 | W19: =[12]届出・千葉県!$Z$12 -> 0 | X19: =[12]届出・千葉県!$AA$12 -> 0 | Y19: =[12]届出・千葉県!$Z$13 -> 2 | Z19: =[12]届出・千葉県!$AA$13 -> 2 | AA19: =[12]届出・千葉県!$Z$14 -> 0 | AB19: =[12]届出・千葉県!$AA$14 -> 0 | AC19: =[12]届出・千葉県!$Z$15 -> 0 | AD19: =[12]届出・千葉県!$AA$15 -> 0 | AE19: =[12]届出・千葉県!$Z$16 -> 1 | AF19: =[12]届出・千葉県!$AA$16 -> 1 | AG19: =[12]届出・千葉県!$Z$17 -> 0 | AH19: =[12]届出・千葉県!$AA$17 -> 0 | AI19: =[12]届出・千葉県!$Z$18 -> 2 | AJ19: =[12]届出・千葉県!$AA$18 -> 11 | AK19: =[12]届出・千葉県!$Z$19 -> 2 | AL19: =[12]届出・千葉県!$AA$19 -> 22 | AM19: =[12]届出・千葉県!$Z$20 -> 0 | AN19: =[12]届出・千葉県!$AA$20 -> 0 | AO19: 12 | AP19: 千葉 | AQ19: =[12]届出・千葉県!$Z$21 -> 0 | AR19: =[12]届出・千葉県!$AA$21 -> 0 | AS19: =[12]届出・千葉県!$Z$22 -> 0 | AT19: =[12]届出・千葉県!$AA$22 -> 0 | AU19: =[12]届出・千葉県!$Z$23 -> 0 | AV19: =[12]届出・千葉県!$AA$23 -> 0 | AW19: =[12]届出・千葉県!$Z$24 -> 2 | AX19: =[12]届出・千葉県!$AA$24 -> 2 | AY19: =[12]届出・千葉県!$Z$25 -> 0 | AZ19: =[12]届出・千葉県!$AA$25 -> 0 | BA19: =[12]届出・千葉県!$Z$26 -> 0 | BB19: =[12]届出・千葉県!$AA$26 -> 0 | BC19: =[12]届出・千葉県!$Z$27 -> 0 | BD19: =[12]届出・千葉県!$AA$27 -> 0 | BE19: =[12]届出・千葉県!$Z$28 -> 0 | BF19: =[12]届出・千葉県!$AA$28 -> 0 | BG19: =[12]届出・千葉県!$Z$29 -> 0 | BH19: =[12]届出・千葉県!$AA$29 -> 0 | BI19: 12 | BJ19: 千葉 | BK19: =[12]届出・千葉県!$Z$30 -> 0 | BL19: =[12]届出・千葉県!$AA$30 -> 0 | BM19: =[12]届出・千葉県!$Z$31 -> 1 | BN19: =[12]届出・千葉県!$AA$31 -> 125 | BO19: =[12]届出・千葉県!$Z$32 -> 0 | BP19: =[12]届出・千葉県!$AA$32 -> 0 | BQ19: =[12]届出・千葉県!$Z$33 -> 9 | BR19: =[12]届出・千葉県!$AA$33 -> 43 | BS19: =[12]届出・千葉県!$Z$34 -> 0 | BT19: =[12]届出・千葉県!$AA$34 -> 0 | BU19: =[12]届出・千葉県!$Z$35 -> 0 | BV19: =[12]届出・千葉県!$AA$35 -> 0 | BW19: =[12]届出・千葉県!$Z$36 -> 0 | BX19: =[12]届出・千葉県!$AA$36 -> 0 | BY19: =[12]届出・千葉県!$Z$37 -> 3 | BZ19: =[12]届出・千葉県!$AA$37 -> 3 | CA19: =[12]届出・千葉県!$Z$38 -> 0 | CB19: =[12]届出・千葉県!$AA$38 -> 0 | CC19: 12 | CD19: 千葉 | CE19: =[12]届出・千葉県!$Z$39 -> 0 | CF19: =[12]届出・千葉県!$AA$39 -> 0 | CG19: =[12]届出・千葉県!$Z$40 -> 1 | CH19: =[12]届出・千葉県!$AA$40 -> 600 | CI19: =[12]届出・千葉県!$Z$41 -> 0 | CJ19: =[12]届出・千葉県!$AA$41 -> 0 | CK19: =[12]届出・千葉県!$Z$42 -> 0 | CL19: =[12]届出・千葉県!$AA$42 -> 0 | CM19: =[12]届出・千葉県!$Z$43 -> 0 | CN19: =[12]届出・千葉県!$AA$43 -> 0 | CO19: =[12]届出・千葉県!$Z$44 -> 0 | CP19: =[12]届出・千葉県!$AA$44 -> 0 | CQ19: =[12]届出・千葉県!$Z$45 -> 0 | CR19: =[12]届出・千葉県!$AA$45 -> 0 | CS19: =[12]届出・千葉県!$Z$46 -> 0 | CT19: =[12]届出・千葉県!$AA$46 -> 0 | CU19: 12 | CV19: 千葉 | CW19: =[12]届出・千葉県!$Z$47 -> 0 | CX19: =[12]届出・千葉県!$AA$47 -> 0 | CY19: =[12]届出・千葉県!$Z$51 -> 0 | CZ19: =[12]届出・千葉県!$AA$51 -> 0 | DA19: =[12]届出・千葉県!$Z$48 -> 0 | DB19: =[12]届出・千葉県!$AA$48 -> 0 | DC19: =[12]届出・千葉県!$Z$49 -> 1 | DD19: =[12]届出・千葉県!$AA$49 -> 5
A20: 13 | B20: 東京 | C20: =[13]届出・東京都!$Z$3 -> 1 | D20: =[13]届出・東京都!$AA$3 -> 1 | E20: =[13]届出・東京都!$Z$4 -> 0 | F20: =[13]届出・東京都!$AA$4 -> 0 | G20: =[13]届出・東京都!$Z$5 -> 0 | H20: =[13]届出・東京都!$AA$5 -> 0 | I20: =[13]届出・東京都!$Z$6 -> 0 | J20: =[13]届出・東京都!$AA$6 -> 0 | K20: =[13]届出・東京都!$Z$7 -> 0 | L20: =[13]届出・東京都!$AA$7 -> 0 | M20: =[13]届出・東京都!$Z$8 -> 0 | N20: =[13]届出・東京都!$AA$8 -> 0 | O20: =[13]届出・東京都!$Z$9 -> 2 | P20: =[13]届出・東京都!$AA$9 -> 2 | Q20: =[13]届出・東京都!$Z$10 -> 0 | R20: =[13]届出・東京都!$AA$10 -> 0 | S20: =[13]届出・東京都!$Z$11 -> 0 | T20: =[13]届出・東京都!$AA$11 -> 0 | U20: 13 | V20: 東京 | W20: =[13]届出・東京都!$Z$12 -> 0 | X20: =[13]届出・東京都!$AA$12 -> 0 | Y20: =[13]届出・東京都!$Z$13 -> 0 | Z20: =[13]届出・東京都!$AA$13 -> 0 | AA20: =[13]届出・東京都!$Z$14 -> 0 | AB20: =[13]届出・東京都!$AA$14 -> 0 | AC20: =[13]届出・東京都!$Z$15 -> 0 | AD20: =[13]届出・東京都!$AA$15 -> 0 | AE20: =[13]届出・東京都!$Z$16 -> 1 | AF20: =[13]届出・東京都!$AA$16 -> 1 | AG20: =[13]届出・東京都!$Z$17 -> 0 | AH20: =[13]届出・東京都!$AA$17 -> 0 | AI20: =[13]届出・東京都!$Z$18 -> 0 | AJ20: =[13]届出・東京都!$AA$18 -> 0 | AK20: =[13]届出・東京都!$Z$19 -> 0 | AL20: =[13]届出・東京都!$AA$19 -> 0 | AM20: =[13]届出・東京都!$Z$20 -> 0 | AN20: =[13]届出・東京都!$AA$20 -> 0 | AO20: 13 | AP20: 東京 | AQ20: =[13]届出・東京都!$Z$21 -> 0 | AR20: =[13]届出・東京都!$AA$21 -> 0 | AS20: =[13]届出・東京都!$Z$22 -> 0 | AT20: =[13]届出・東京都!$AA$22 -> 0 | AU20: =[13]届出・東京都!$Z$23 -> 0 | AV20: =[13]届出・東京都!$AA$23 -> 0 | AW20: =[13]届出・東京都!$Z$24 -> 0 | AX20: =[13]届出・東京都!$AA$24 -> 0 | AY20: =[13]届出・東京都!$Z$25 -> 0 | AZ20: =[13]届出・東京都!$AA$25 -> 0 | BA20: =[13]届出・東京都!$Z$26 -> 0 | BB20: =[13]届出・東京都!$AA$26 -> 0 | BC20: =[13]届出・東京都!$Z$27 -> 0 | BD20: =[13]届出・東京都!$AA$27 -> 0 | BE20: =[13]届出・東京都!$Z$28 -> 0 | BF20: =[13]届出・東京都!$AA$28 -> 0 | BG20: =[13]届出・東京都!$Z$29 -> 0 | BH20: =[13]届出・東京都!$AA$29 -> 0 | BI20: 13 | BJ20: 東京 | BK20: =[13]届出・東京都!$Z$30 -> 0 | BL20: =[13]届出・東京都!$AA$30 -> 0 | BM20: =[13]届出・東京都!$Z$31 -> 0 | BN20: =[13]届出・東京都!$AA$31 -> 0 | BO20: =[13]届出・東京都!$Z$32 -> 0 | BP20: =[13]届出・東京都!$AA$32 -> 0 | BQ20: =[13]届出・東京都!$Z$33 -> 0 | BR20: =[13]届出・東京都!$AA$33 -> 0 | BS20: =[13]届出・東京都!$Z$34 -> 0 | BT20: =[13]届出・東京都!$AA$34 -> 0 | BU20: =[13]届出・東京都!$Z$35 -> 0 | BV20: =[13]届出・東京都!$AA$35 -> 0 | BW20: =[13]届出・東京都!$Z$36 -> 0 | BX20: =[13]届出・東京都!$AA$36 -> 0 | BY20: =[13]届出・東京都!$Z$37 -> 13 | BZ20: =[13]届出・東京都!$AA$37 -> 50 | CA20: =[13]届出・東京都!$Z$38 -> 0 | CB20: =[13]届出・東京都!$AA$38 -> 0 | CC20: 13 | CD20: 東京 | CE20: =[13]届出・東京都!$Z$39 -> 0 | CF20: =[13]届出・東京都!$AA$39 -> 0 | CG20: =[13]届出・東京都!$Z$40 -> 0 | CH20: =[13]届出・東京都!$AA$40 -> 0 | CI20: =[13]届出・東京都!$Z$41 -> 0 | CJ20: =[13]届出・東京都!$AA$41 -> 0 | CK20: =[13]届出・東京都!$Z$42 -> 0 | CL20: =[13]届出・東京都!$AA$42 -> 0 | CM20: =[13]届出・東京都!$Z$43 -> 0 | CN20: =[13]届出・東京都!$AA$43 -> 0 | CO20: =[13]届出・東京都!$Z$44 -> 0 | CP20: =[13]届出・東京都!$AA$44 -> 0 | CQ20: =[13]届出・東京都!$Z$45 -> 0 | CR20: =[13]届出・東京都!$AA$45 -> 0 | CS20: =[13]届出・東京都!$Z$46 -> 0 | CT20: =[13]届出・東京都!$AA$46 -> 0 | CU20: 13 | CV20: 東京 | CW20: =[13]届出・東京都!$Z$47 -> 0 | CX20: =[13]届出・東京都!$AA$47 -> 0 | CY20: =[13]届出・東京都!$Z$51 -> 1 | CZ20: =[13]届出・東京都!$AA$51 -> 4 | DA20: =[13]届出・東京都!$Z$48 -> 0 | DB20: =[13]届出・東京都!$AA$48 -> 0 | DC20: =[13]届出・東京都!$Z$49 -> 0 | DD20: =[13]届出・東京都!$AA$49 -> 0
A21: 14 | B21: 神奈川 | C21: =[14]届出・神奈川県!$Z$3 -> 0 | D21: =[14]届出・神奈川県!$AA$3 -> 0 | E21: =[14]届出・神奈川県!$Z$4 -> 0 | F21: =[14]届出・神奈川県!$AA$4 -> 0 | G21: =[14]届出・神奈川県!$Z$5 -> 0 | H21: =[14]届出・神奈川県!$AA$5 -> 0 | I21: =[14]届出・神奈川県!$Z$6 -> 0 | J21: =[14]届出・神奈川県!$AA$6 -> 0 | K21: =[14]届出・神奈川県!$Z$7 -> 0 | L21: =[14]届出・神奈川県!$AA$7 -> 0 | M21: =[14]届出・神奈川県!$Z$8 -> 0 | N21: =[14]届出・神奈川県!$AA$8 -> 0 | O21: =[14]届出・神奈川県!$Z$9 -> 4 | P21: =[14]届出・神奈川県!$AA$9 -> 4 | Q21: =[14]届出・神奈川県!$Z$10 -> 0 | R21: =[14]届出・神奈川県!$AA$10 -> 0 | S21: =[14]届出・神奈川県!$Z$11 -> 0 | T21: =[14]届出・神奈川県!$AA$11 -> 0 | U21: 14 | V21: 神奈川 | W21: =[14]届出・神奈川県!$Z$12 -> 0 | X21: =[14]届出・神奈川県!$AA$12 -> 0 | Y21: =[14]届出・神奈川県!$Z$13 -> 0 | Z21: =[14]届出・神奈川県!$AA$13 -> 0 | AA21: =[14]届出・神奈川県!$Z$14 -> 0 | AB21: =[14]届出・神奈川県!$AA$14 -> 0 | AC21: =[14]届出・神奈川県!$Z$15 -> 0 | AD21: =[14]届出・神奈川県!$AA$15 -> 0 | AE21: =[14]届出・神奈川県!$Z$16 -> 2 | AF21: =[14]届出・神奈川県!$AA$16 -> 2 | AG21: =[14]届出・神奈川県!$Z$17 -> 0 | AH21: =[14]届出・神奈川県!$AA$17 -> 0 | AI21: =[14]届出・神奈川県!$Z$18 -> 0 | AJ21: =[14]届出・神奈川県!$AA$18 -> 0 | AK21: =[14]届出・神奈川県!$Z$19 -> 2 | AL21: =[14]届出・神奈川県!$AA$19 -> 2 | AM21: =[14]届出・神奈川県!$Z$20 -> 0 | AN21: =[14]届出・神奈川県!$AA$20 -> 0 | AO21: 14 | AP21: 神奈川 | AQ21: =[14]届出・神奈川県!$Z$21 -> 0 | AR21: =[14]届出・神奈川県!$AA$21 -> 0 | AS21: =[14]届出・神奈川県!$Z$22 -> 0 | AT21: =[14]届出・神奈川県!$AA$22 -> 0 | AU21: =[14]届出・神奈川県!$Z$23 -> 0 | AV21: =[14]届出・神奈川県!$AA$23 -> 0 | AW21: =[14]届出・神奈川県!$Z$24 -> 0 | AX21: =[14]届出・神奈川県!$AA$24 -> 0 | AY21: =[14]届出・神奈川県!$Z$25 -> 0 | AZ21: =[14]届出・神奈川県!$AA$25 -> 0 | BA21: =[14]届出・神奈川県!$Z$26 -> 0 | BB21: =[14]届出・神奈川県!$AA$26 -> 0 | BC21: =[14]届出・神奈川県!$Z$27 -> 0 | BD21: =[14]届出・神奈川県!$AA$27 -> 0 | BE21: =[14]届出・神奈川県!$Z$28 -> 0 | BF21: =[14]届出・神奈川県!$AA$28 -> 0 | BG21: =[14]届出・神奈川県!$Z$29 -> 0 | BH21: =[14]届出・神奈川県!$AA$29 -> 0 | BI21: 14 | BJ21: 神奈川 | BK21: =[14]届出・神奈川県!$Z$30 -> 0 | BL21: =[14]届出・神奈川県!$AA$30 -> 0 | BM21: =[14]届出・神奈川県!$Z$31 -> 0 | BN21: =[14]届出・神奈川県!$AA$31 -> 0 | BO21: =[14]届出・神奈川県!$Z$32 -> 0 | BP21: =[14]届出・神奈川県!$AA$32 -> 0 | BQ21: =[14]届出・神奈川県!$Z$33 -> 0 | BR21: =[14]届出・神奈川県!$AA$33 -> 0 | BS21: =[14]届出・神奈川県!$Z$34 -> 0 | BT21: =[14]届出・神奈川県!$AA$34 -> 0 | BU21: =[14]届出・神奈川県!$Z$35 -> 0 | BV21: =[14]届出・神奈川県!$AA$35 -> 0 | BW21: =[14]届出・神奈川県!$Z$36 -> 0 | BX21: =[14]届出・神奈川県!$AA$36 -> 0 | BY21: =[14]届出・神奈川県!$Z$37 -> 22 | BZ21: =[14]届出・神奈川県!$AA$37 -> 39 | CA21: =[14]届出・神奈川県!$Z$38 -> 0 | CB21: =[14]届出・神奈川県!$AA$38 -> 0 | CC21: 14 | CD21: 神奈川 | CE21: =[14]届出・神奈川県!$Z$39 -> 0 | CF21: =[14]届出・神奈川県!$AA$39 -> 0 | CG21: =[14]届出・神奈川県!$Z$40 -> 0 | CH21: =[14]届出・神奈川県!$AA$40 -> 0 | CI21: =[14]届出・神奈川県!$Z$41 -> 0 | CJ21: =[14]届出・神奈川県!$AA$41 -> 0 | CK21: =[14]届出・神奈川県!$Z$42 -> 0 | CL21: =[14]届出・神奈川県!$AA$42 -> 0 | CM21: =[14]届出・神奈川県!$Z$43 -> 0 | CN21: =[14]届出・神奈川県!$AA$43 -> 0 | CO21: =[14]届出・神奈川県!$Z$44 -> 0 | CP21: =[14]届出・神奈川県!$AA$44 -> 0 | CQ21: =[14]届出・神奈川県!$Z$45 -> 0 | CR21: =[14]届出・神奈川県!$AA$45 -> 0 | CS21: =[14]届出・神奈川県!$Z$46 -> 0 | CT21: =[14]届出・神奈川県!$AA$46 -> 0 | CU21: 14 | CV21: 神奈川 | CW21: =[14]届出・神奈川県!$Z$47 -> 1 | CX21: =[14]届出・神奈川県!$AA$47 -> 30 | CY21: =[14]届出・神奈川県!$Z$51 -> 0 | CZ21: =[14]届出・神奈川県!$AA$51 -> 0 | DA21: =[14]届出・神奈川県!$Z$48 -> 0 | DB21: =[14]届出・神奈川県!$AA$48 -> 0 | DC21: =[14]届出・神奈川県!$Z$49 -> 0 | DD21: =[14]届出・神奈川県!$AA$49 -> 0
A22: 15 | B22: 新潟 | C22: =[15]届出・新潟県!$Z$3 -> 0 | D22: =[15]届出・新潟県!$AA$3 -> 0 | E22: =[15]届出・新潟県!$Z$4 -> 0 | F22: =[15]届出・新潟県!$AA$4 -> 0 | G22: =[15]届出・新潟県!$Z$5 -> 0 | H22: =[15]届出・新潟県!$AA$5 -> 0 | I22: =[15]届出・新潟県!$Z$6 -> 0 | J22: =[15]届出・新潟県!$AA$6 -> 0 | K22: =[15]届出・新潟県!$Z$7 -> 0 | L22: =[15]届出・新潟県!$AA$7 -> 0 | M22: =[15]届出・新潟県!$Z$8 -> 1 | N22: =[15]届出・新潟県!$AA$8 -> 13 | O22: =[15]届出・新潟県!$Z$9 -> 3 | P22: =[15]届出・新潟県!$AA$9 -> 3 | Q22: =[15]届出・新潟県!$Z$10 -> 0 | R22: =[15]届出・新潟県!$AA$10 -> 0 | S22: =[15]届出・新潟県!$Z$11 -> 0 | T22: =[15]届出・新潟県!$AA$11 -> 0 | U22: 15 | V22: 新潟 | W22: =[15]届出・新潟県!$Z$12 -> 0 | X22: =[15]届出・新潟県!$AA$12 -> 0 | Y22: =[15]届出・新潟県!$Z$13 -> 0 | Z22: =[15]届出・新潟県!$AA$13 -> 0 | AA22: =[15]届出・新潟県!$Z$14 -> 0 | AB22: =[15]届出・新潟県!$AA$14 -> 0 | AC22: =[15]届出・新潟県!$Z$15 -> 0 | AD22: =[15]届出・新潟県!$AA$15 -> 0 | AE22: =[15]届出・新潟県!$Z$16 -> 0 | AF22: =[15]届出・新潟県!$AA$16 -> 0 | AG22: =[15]届出・新潟県!$Z$17 -> 0 | AH22: =[15]届出・新潟県!$AA$17 -> 0 | AI22: =[15]届出・新潟県!$Z$18 -> 0 | AJ22: =[15]届出・新潟県!$AA$18 -> 0 | AK22: =[15]届出・新潟県!$Z$19 -> 0 | AL22: =[15]届出・新潟県!$AA$19 -> 0 | AM22: =[15]届出・新潟県!$Z$20 -> 0 | AN22: =[15]届出・新潟県!$AA$20 -> 0 | AO22: 15 | AP22: 新潟 | AQ22: =[15]届出・新潟県!$Z$21 -> 0 | AR22: =[15]届出・新潟県!$AA$21 -> 0 | AS22: =[15]届出・新潟県!$Z$22 -> 0 | AT22: =[15]届出・新潟県!$AA$22 -> 0 | AU22: =[15]届出・新潟県!$Z$23 -> 0 | AV22: =[15]届出・新潟県!$AA$23 -> 0 | AW22: =[15]届出・新潟県!$Z$24 -> 0 | AX22: =[15]届出・新潟県!$AA$24 -> 0 | AY22: =[15]届出・新潟県!$Z$25 -> 0 | AZ22: =[15]届出・新潟県!$AA$25 -> 0 | BA22: =[15]届出・新潟県!$Z$26 -> 0 | BB22: =[15]届出・新潟県!$AA$26 -> 0 | BC22: =[15]届出・新潟県!$Z$27 -> 0 | BD22: =[15]届出・新潟県!$AA$27 -> 0 | BE22: =[15]届出・新潟県!$Z$28 -> 0 | BF22: =[15]届出・新潟県!$AA$28 -> 0 | BG22: =[15]届出・新潟県!$Z$29 -> 0 | BH22: =[15]届出・新潟県!$AA$29 -> 0 | BI22: 15 | BJ22: 新潟 | BK22: =[15]届出・新潟県!$Z$30 -> 0 | BL22: =[15]届出・新潟県!$AA$30 -> 0 | BM22: =[15]届出・新潟県!$Z$31 -> 0 | BN22: =[15]届出・新潟県!$AA$31 -> 0 | BO22: =[15]届出・新潟県!$Z$32 -> 0 | BP22: =[15]届出・新潟県!$AA$32 -> 0 | BQ22: =[15]届出・新潟県!$Z$33 -> 0 | BR22: =[15]届出・新潟県!$AA$33 -> 0 | BS22: =[15]届出・新潟県!$Z$34 -> 0 | BT22: =[15]届出・新潟県!$AA$34 -> 0 | BU22: =[15]届出・新潟県!$Z$35 -> 0 | BV22: =[15]届出・新潟県!$AA$35 -> 0 | BW22: =[15]届出・新潟県!$Z$36 -> 0 | BX22: =[15]届出・新潟県!$AA$36 -> 0 | BY22: =[15]届出・新潟県!$Z$37 -> 1 | BZ22: =[15]届出・新潟県!$AA$37 -> 2 | CA22: =[15]届出・新潟県!$Z$38 -> 0 | CB22: =[15]届出・新潟県!$AA$38 -> 0 | CC22: 15 | CD22: 新潟 | CE22: =[15]届出・新潟県!$Z$39 -> 0 | CF22: =[15]届出・新潟県!$AA$39 -> 0 | CG22: =[15]届出・新潟県!$Z$40 -> 0 | CH22: =[15]届出・新潟県!$AA$40 -> 0 | CI22: =[15]届出・新潟県!$Z$41 -> 2 | CJ22: =[15]届出・新潟県!$AA$41 -> 46 | CK22: =[15]届出・新潟県!$Z$42 -> 0 | CL22: =[15]届出・新潟県!$AA$42 -> 0 | CM22: =[15]届出・新潟県!$Z$43 -> 0 | CN22: =[15]届出・新潟県!$AA$43 -> 0 | CO22: =[15]届出・新潟県!$Z$44 -> 0 | CP22: =[15]届出・新潟県!$AA$44 -> 0 | CQ22: =[15]届出・新潟県!$Z$45 -> 0 | CR22: =[15]届出・新潟県!$AA$45 -> 0 | CS22: =[15]届出・新潟県!$Z$46 -> 0 | CT22: =[15]届出・新潟県!$AA$46 -> 0 | CU22: 15 | CV22: 新潟 | CW22: =[15]届出・新潟県!$Z$47 -> 0 | CX22: =[15]届出・新潟県!$AA$47 -> 0 | CY22: =[15]届出・新潟県!$Z$51 -> 0 | CZ22: =[15]届出・新潟県!$AA$51 -> 0 | DA22: =[15]届出・新潟県!$Z$48 -> 0 | DB22: =[15]届出・新潟県!$AA$48 -> 0 | DC22: =[15]届出・新潟県!$Z$49 -> 0 | DD22: =[15]届出・新潟県!$AA$49 -> 0
A23: 16 | B23: 富山 | C23: =[16]届出・富山県!$Z$3 -> 0 | D23: =[16]届出・富山県!$AA$3 -> 0 | E23: =[16]届出・富山県!$Z$4 -> 0 | F23: =[16]届出・富山県!$AA$4 -> 0 | G23: =[16]届出・富山県!$Z$5 -> 0 | H23: =[16]届出・富山県!$AA$5 -> 0 | I23: =[16]届出・富山県!$Z$6 -> 0 | J23: =[16]届出・富山県!$AA$6 -> 0 | K23: =[16]届出・富山県!$Z$7 -> 0 | L23: =[16]届出・富山県!$AA$7 -> 0 | M23: =[16]届出・富山県!$Z$8 -> 0 | N23: =[16]届出・富山県!$AA$8 -> 0 | O23: =[16]届出・富山県!$Z$9 -> 0 | P23: =[16]届出・富山県!$AA$9 -> 0 | Q23: =[16]届出・富山県!$Z$10 -> 0 | R23: =[16]届出・富山県!$AA$10 -> 0 | S23: =[16]届出・富山県!$Z$11 -> 0 | T23: =[16]届出・富山県!$AA$11 -> 0 | U23: 16 | V23: 富山 | W23: =[16]届出・富山県!$Z$12 -> 0 | X23: =[16]届出・富山県!$AA$12 -> 0 | Y23: =[16]届出・富山県!$Z$13 -> 0 | Z23: =[16]届出・富山県!$AA$13 -> 0 | AA23: =[16]届出・富山県!$Z$14 -> 0 | AB23: =[16]届出・富山県!$AA$14 -> 0 | AC23: =[16]届出・富山県!$Z$15 -> 0 | AD23: =[16]届出・富山県!$AA$15 -> 0 | AE23: =[16]届出・富山県!$Z$16 -> 0 | AF23: =[16]届出・富山県!$AA$16 -> 0 | AG23: =[16]届出・富山県!$Z$17 -> 0 | AH23: =[16]届出・富山県!$AA$17 -> 0 | AI23: =[16]届出・富山県!$Z$18 -> 0 | AJ23: =[16]届出・富山県!$AA$18 -> 0 | AK23: =[16]届出・富山県!$Z$19 -> 0 | AL23: =[16]届出・富山県!$AA$19 -> 0 | AM23: =[16]届出・富山県!$Z$20 -> 0 | AN23: =[16]届出・富山県!$AA$20 -> 0 | AO23: 16 | AP23: 富山 | AQ23: =[16]届出・富山県!$Z$21 -> 0 | AR23: =[16]届出・富山県!$AA$21 -> 0 | AS23: =[16]届出・富山県!$Z$22 -> 0 | AT23: =[16]届出・富山県!$AA$22 -> 0 | AU23: =[16]届出・富山県!$Z$23 -> 0 | AV23: =[16]届出・富山県!$AA$23 -> 0 | AW23: =[16]届出・富山県!$Z$24 -> 0 | AX23: =[16]届出・富山県!$AA$24 -> 0 | AY23: =[16]届出・富山県!$Z$25 -> 0 | AZ23: =[16]届出・富山県!$AA$25 -> 0 | BA23: =[16]届出・富山県!$Z$26 -> 0 | BB23: =[16]届出・富山県!$AA$26 -> 0 | BC23: =[16]届出・富山県!$Z$27 -> 0 | BD23: =[16]届出・富山県!$AA$27 -> 0 | BE23: =[16]届出・富山県!$Z$28 -> 0 | BF23: =[16]届出・富山県!$AA$28 -> 0 | BG23: =[16]届出・富山県!$Z$29 -> 0 | BH23: =[16]届出・富山県!$AA$29 -> 0 | BI23: 16 | BJ23: 富山 | BK23: =[16]届出・富山県!$Z$30 -> 0 | BL23: =[16]届出・富山県!$AA$30 -> 0 | BM23: =[16]届出・富山県!$Z$31 -> 0 | BN23: =[16]届出・富山県!$AA$31 -> 0 | BO23: =[16]届出・富山県!$Z$32 -> 0 | BP23: =[16]届出・富山県!$AA$32 -> 0 | BQ23: =[16]届出・富山県!$Z$33 -> 0 | BR23: =[16]届出・富山県!$AA$33 -> 0 | BS23: =[16]届出・富山県!$Z$34 -> 0 | BT23: =[16]届出・富山県!$AA$34 -> 0 | BU23: =[16]届出・富山県!$Z$35 -> 0 | BV23: =[16]届出・富山県!$AA$35 -> 0 | BW23: =[16]届出・富山県!$Z$36 -> 0 | BX23: =[16]届出・富山県!$AA$36 -> 0 | BY23: =[16]届出・富山県!$Z$37 -> 140 | BZ23: =[16]届出・富山県!$AA$37 -> 156 | CA23: =[16]届出・富山県!$Z$38 -> 0 | CB23: =[16]届出・富山県!$AA$38 -> 0 | CC23: 16 | CD23: 富山 | CE23: =[16]届出・富山県!$Z$39 -> 0 | CF23: =[16]届出・富山県!$AA$39 -> 0 | CG23: =[16]届出・富山県!$Z$40 -> 0 | CH23: =[16]届出・富山県!$AA$40 -> 0 | CI23: =[16]届出・富山県!$Z$41 -> 0 | CJ23: =[16]届出・富山県!$AA$41 -> 0 | CK23: =[16]届出・富山県!$Z$42 -> 2 | CL23: =[16]届出・富山県!$AA$42 -> 2656 | CM23: =[16]届出・富山県!$Z$43 -> 0 | CN23: =[16]届出・富山県!$AA$43 -> 0 | CO23: =[16]届出・富山県!$Z$44 -> 0 | CP23: =[16]届出・富山県!$AA$44 -> 0 | CQ23: =[16]届出・富山県!$Z$45 -> 0 | CR23: =[16]届出・富山県!$AA$45 -> 0 | CS23: =[16]届出・富山県!$Z$46 -> 0 | CT23: =[16]届出・富山県!$AA$46 -> 0 | CU23: 16 | CV23: 富山 | CW23: =[16]届出・富山県!$Z$47 -> 0 | CX23: =[16]届出・富山県!$AA$47 -> 0 | CY23: =[16]届出・富山県!$Z$51 -> 0 | CZ23: =[16]届出・富山県!$AA$51 -> 0 | DA23: =[16]届出・富山県!$Z$48 -> 0 | DB23: =[16]届出・富山県!$AA$48 -> 0 | DC23: =[16]届出・富山県!$Z$49 -> 0 | DD23: =[16]届出・富山県!$AA$49 -> 0
A24: 17 | B24: 石川 | C24: =[17]届出・石川県!$Z$3 -> 0 | D24: =[17]届出・石川県!$AA$3 -> 0 | E24: =[17]届出・石川県!$Z$4 -> 0 | F24: =[17]届出・石川県!$AA$4 -> 0 | G24: =[17]届出・石川県!$Z$5 -> 0 | H24: =[17]届出・石川県!$AA$5 -> 0 | I24: =[17]届出・石川県!$Z$6 -> 0 | J24: =[17]届出・石川県!$AA$6 -> 0 | K24: =[17]届出・石川県!$Z$7 -> 0 | L24: =[17]届出・石川県!$AA$7 -> 0 | M24: =[17]届出・石川県!$Z$8 -> 0 | N24: =[17]届出・石川県!$AA$8 -> 0 | O24: =[17]届出・石川県!$Z$9 -> 0 | P24: =[17]届出・石川県!$AA$9 -> 0 | Q24: =[17]届出・石川県!$Z$10 -> 0 | R24: =[17]届出・石川県!$AA$10 -> 0 | S24: =[17]届出・石川県!$Z$11 -> 0 | T24: =[17]届出・石川県!$AA$11 -> 0 | U24: 17 | V24: 石川 | W24: =[17]届出・石川県!$Z$12 -> 0 | X24: =[17]届出・石川県!$AA$12 -> 0 | Y24: =[17]届出・石川県!$Z$13 -> 0 | Z24: =[17]届出・石川県!$AA$13 -> 0 | AA24: =[17]届出・石川県!$Z$14 -> 0 | AB24: =[17]届出・石川県!$AA$14 -> 0 | AC24: =[17]届出・石川県!$Z$15 -> 0 | AD24: =[17]届出・石川県!$AA$15 -> 0 | AE24: =[17]届出・石川県!$Z$16 -> 0 | AF24: =[17]届出・石川県!$AA$16 -> 0 | AG24: =[17]届出・石川県!$Z$17 -> 0 | AH24: =[17]届出・石川県!$AA$17 -> 0 | AI24: =[17]届出・石川県!$Z$18 -> 1 | AJ24: =[17]届出・石川県!$AA$18 -> 1 | AK24: =[17]届出・石川県!$Z$19 -> 1 | AL24: =[17]届出・石川県!$AA$19 -> 2 | AM24: =[17]届出・石川県!$Z$20 -> 0 | AN24: =[17]届出・石川県!$AA$20 -> 0 | AO24: 17 | AP24: 石川 | AQ24: =[17]届出・石川県!$Z$21 -> 0 | AR24: =[17]届出・石川県!$AA$21 -> 0 | AS24: =[17]届出・石川県!$Z$22 -> 0 | AT24: =[17]届出・石川県!$AA$22 -> 0 | AU24: =[17]届出・石川県!$Z$23 -> 0 | AV24: =[17]届出・石川県!$AA$23 -> 0 | AW24: =[17]届出・石川県!$Z$24 -> 0 | AX24: =[17]届出・石川県!$AA$24 -> 0 | AY24: =[17]届出・石川県!$Z$25 -> 0 | AZ24: =[17]届出・石川県!$AA$25 -> 0 | BA24: =[17]届出・石川県!$Z$26 -> 0 | BB24: =[17]届出・石川県!$AA$26 -> 0 | BC24: =[17]届出・石川県!$Z$27 -> 0 | BD24: =[17]届出・石川県!$AA$27 -> 0 | BE24: =[17]届出・石川県!$Z$28 -> 0 | BF24: =[17]届出・石川県!$AA$28 -> 0 | BG24: =[17]届出・石川県!$Z$29 -> 0 | BH24: =[17]届出・石川県!$AA$29 -> 0 | BI24: 17 | BJ24: 石川 | BK24: =[17]届出・石川県!$Z$30 -> 0 | BL24: =[17]届出・石川県!$AA$30 -> 0 | BM24: =[17]届出・石川県!$Z$31 -> 0 | BN24: =[17]届出・石川県!$AA$31 -> 0 | BO24: =[17]届出・石川県!$Z$32 -> 0 | BP24: =[17]届出・石川県!$AA$32 -> 0 | BQ24: =[17]届出・石川県!$Z$33 -> 0 | BR24: =[17]届出・石川県!$AA$33 -> 0 | BS24: =[17]届出・石川県!$Z$34 -> 0 | BT24: =[17]届出・石川県!$AA$34 -> 0 | BU24: =[17]届出・石川県!$Z$35 -> 0 | BV24: =[17]届出・石川県!$AA$35 -> 0 | BW24: =[17]届出・石川県!$Z$36 -> 0 | BX24: =[17]届出・石川県!$AA$36 -> 0 | BY24: =[17]届出・石川県!$Z$37 -> 25 | BZ24: =[17]届出・石川県!$AA$37 -> 61 | CA24: =[17]届出・石川県!$Z$38 -> 0 | CB24: =[17]届出・石川県!$AA$38 -> 0 | CC24: 17 | CD24: 石川 | CE24: =[17]届出・石川県!$Z$39 -> 0 | CF24: =[17]届出・石川県!$AA$39 -> 0 | CG24: =[17]届出・石川県!$Z$40 -> 0 | CH24: =[17]届出・石川県!$AA$40 -> 0 | CI24: =[17]届出・石川県!$Z$41 -> 0 | CJ24: =[17]届出・石川県!$AA$41 -> 0 | CK24: =[17]届出・石川県!$Z$42 -> 0 | CL24: =[17]届出・石川県!$AA$42 -> 0 | CM24: =[17]届出・石川県!$Z$43 -> 0 | CN24: =[17]届出・石川県!$AA$43 -> 0 | CO24: =[17]届出・石川県!$Z$44 -> 0 | CP24: =[17]届出・石川県!$AA$44 -> 0 | CQ24: =[17]届出・石川県!$Z$45 -> 0 | CR24: =[17]届出・石川県!$AA$45 -> 0 | CS24: =[17]届出・石川県!$Z$46 -> 0 | CT24: =[17]届出・石川県!$AA$46 -> 0 | CU24: 17 | CV24: 石川 | CW24: =[17]届出・石川県!$Z$47 -> 0 | CX24: =[17]届出・石川県!$AA$47 -> 0 | CY24: =[17]届出・石川県!$Z$51 -> 0 | CZ24: =[17]届出・石川県!$AA$51 -> 0 | DA24: =[17]届出・石川県!$Z$48 -> 0 | DB24: =[17]届出・石川県!$AA$48 -> 0 | DC24: =[17]届出・石川県!$Z$49 -> 5 | DD24: =[17]届出・石川県!$AA$49 -> 9
A25: 18 | B25: 福井 | C25: =[18]届出・福井県!$Z$3 -> 0 | D25: =[18]届出・福井県!$AA$3 -> 0 | E25: =[18]届出・福井県!$Z$4 -> 0 | F25: =[18]届出・福井県!$AA$4 -> 0 | G25: =[18]届出・福井県!$Z$5 -> 0 | H25: =[18]届出・福井県!$AA$5 -> 0 | I25: =[18]届出・福井県!$Z$6 -> 0 | J25: =[18]届出・福井県!$AA$6 -> 0 | K25: =[18]届出・福井県!$Z$7 -> 0 | L25: =[18]届出・福井県!$AA$7 -> 0 | M25: =[18]届出・福井県!$Z$8 -> 0 | N25: =[18]届出・福井県!$AA$8 -> 0 | O25: =[18]届出・福井県!$Z$9 -> 0 | P25: =[18]届出・福井県!$AA$9 -> 0 | Q25: =[18]届出・福井県!$Z$10 -> 0 | R25: =[18]届出・福井県!$AA$10 -> 0 | S25: =[18]届出・福井県!$Z$11 -> 0 | T25: =[18]届出・福井県!$AA$11 -> 0 | U25: 18 | V25: 福井 | W25: =[18]届出・福井県!$Z$12 -> 0 | X25: =[18]届出・福井県!$AA$12 -> 0 | Y25: =[18]届出・福井県!$Z$13 -> 0 | Z25: =[18]届出・福井県!$AA$13 -> 0 | AA25: =[18]届出・福井県!$Z$14 -> 0 | AB25: =[18]届出・福井県!$AA$14 -> 0 | AC25: =[18]届出・福井県!$Z$15 -> 0 | AD25: =[18]届出・福井県!$AA$15 -> 0 | AE25: =[18]届出・福井県!$Z$16 -> 1 | AF25: =[18]届出・福井県!$AA$16 -> 1 | AG25: =[18]届出・福井県!$Z$17 -> 0 | AH25: =[18]届出・福井県!$AA$17 -> 0 | AI25: =[18]届出・福井県!$Z$18 -> 1 | AJ25: =[18]届出・福井県!$AA$18 -> 1 | AK25: =[18]届出・福井県!$Z$19 -> 0 | AL25: =[18]届出・福井県!$AA$19 -> 0 | AM25: =[18]届出・福井県!$Z$20 -> 0 | AN25: =[18]届出・福井県!$AA$20 -> 0 | AO25: 18 | AP25: 福井 | AQ25: =[18]届出・福井県!$Z$21 -> 0 | AR25: =[18]届出・福井県!$AA$21 -> 0 | AS25: =[18]届出・福井県!$Z$22 -> 0 | AT25: =[18]届出・福井県!$AA$22 -> 0 | AU25: =[18]届出・福井県!$Z$23 -> 0 | AV25: =[18]届出・福井県!$AA$23 -> 0 | AW25: =[18]届出・福井県!$Z$24 -> 0 | AX25: =[18]届出・福井県!$AA$24 -> 0 | AY25: =[18]届出・福井県!$Z$25 -> 0 | AZ25: =[18]届出・福井県!$AA$25 -> 0 | BA25: =[18]届出・福井県!$Z$26 -> 0 | BB25: =[18]届出・福井県!$AA$26 -> 0 | BC25: =[18]届出・福井県!$Z$27 -> 0 | BD25: =[18]届出・福井県!$AA$27 -> 0 | BE25: =[18]届出・福井県!$Z$28 -> 0 | BF25: =[18]届出・福井県!$AA$28 -> 0 | BG25: =[18]届出・福井県!$Z$29 -> 0 | BH25: =[18]届出・福井県!$AA$29 -> 0 | BI25: 18 | BJ25: 福井 | BK25: =[18]届出・福井県!$Z$30 -> 0 | BL25: =[18]届出・福井県!$AA$30 -> 0 | BM25: =[18]届出・福井県!$Z$31 -> 0 | BN25: =[18]届出・福井県!$AA$31 -> 0 | BO25: =[18]届出・福井県!$Z$32 -> 0 | BP25: =[18]届出・福井県!$AA$32 -> 0 | BQ25: =[18]届出・福井県!$Z$33 -> 0 | BR25: =[18]届出・福井県!$AA$33 -> 0 | BS25: =[18]届出・福井県!$Z$34 -> 0 | BT25: =[18]届出・福井県!$AA$34 -> 0 | BU25: =[18]届出・福井県!$Z$35 -> 0 | BV25: =[18]届出・福井県!$AA$35 -> 0 | BW25: =[18]届出・福井県!$Z$36 -> 0 | BX25: =[18]届出・福井県!$AA$36 -> 0 | BY25: =[18]届出・福井県!$Z$37 -> 0 | BZ25: =[18]届出・福井県!$AA$37 -> 0 | CA25: =[18]届出・福井県!$Z$38 -> 0 | CB25: =[18]届出・福井県!$AA$38 -> 0 | CC25: 18 | CD25: 福井 | CE25: =[18]届出・福井県!$Z$39 -> 0 | CF25: =[18]届出・福井県!$AA$39 -> 0 | CG25: =[18]届出・福井県!$Z$40 -> 0 | CH25: =[18]届出・福井県!$AA$40 -> 0 | CI25: =[18]届出・福井県!$Z$41 -> 0 | CJ25: =[18]届出・福井県!$AA$41 -> 0 | CK25: =[18]届出・福井県!$Z$42 -> 1 | CL25: =[18]届出・福井県!$AA$42 -> 440 | CM25: =[18]届出・福井県!$Z$43 -> 0 | CN25: =[18]届出・福井県!$AA$43 -> 0 | CO25: =[18]届出・福井県!$Z$44 -> 0 | CP25: =[18]届出・福井県!$AA$44 -> 0 | CQ25: =[18]届出・福井県!$Z$45 -> 0 | CR25: =[18]届出・福井県!$AA$45 -> 0 | CS25: =[18]届出・福井県!$Z$46 -> 0 | CT25: =[18]届出・福井県!$AA$46 -> 0 | CU25: 18 | CV25: 福井 | CW25: =[18]届出・福井県!$Z$47 -> 0 | CX25: =[18]届出・福井県!$AA$47 -> 0 | CY25: =[18]届出・福井県!$Z$51 -> 0 | CZ25: =[18]届出・福井県!$AA$51 -> 0 | DA25: =[18]届出・福井県!$Z$48 -> 0 | DB25: =[18]届出・福井県!$AA$48 -> 0 | DC25: =[18]届出・福井県!$Z$49 -> 0 | DD25: =[18]届出・福井県!$AA$49 -> 0
A26: 19 | B26: 山梨 | C26: =[19]届出・山梨県!$Z$3 -> 1 | D26: =[19]届出・山梨県!$AA$3 -> 1 | E26: =[19]届出・山梨県!$Z$4 -> 0 | F26: =[19]届出・山梨県!$AA$4 -> 0 | G26: =[19]届出・山梨県!$Z$5 -> 0 | H26: =[19]届出・山梨県!$AA$5 -> 0 | I26: =[19]届出・山梨県!$Z$6 -> 0 | J26: =[19]届出・山梨県!$AA$6 -> 0 | K26: =[19]届出・山梨県!$Z$7 -> 1 | L26: =[19]届出・山梨県!$AA$7 -> 1 | M26: =[19]届出・山梨県!$Z$8 -> 1 | N26: =[19]届出・山梨県!$AA$8 -> 5 | O26: =[19]届出・山梨県!$Z$9 -> 0 | P26: =[19]届出・山梨県!$AA$9 -> 0 | Q26: =[19]届出・山梨県!$Z$10 -> 0 | R26: =[19]届出・山梨県!$AA$10 -> 0 | S26: =[19]届出・山梨県!$Z$11 -> 0 | T26: =[19]届出・山梨県!$AA$11 -> 0 | U26: 19 | V26: 山梨 | W26: =[19]届出・山梨県!$Z$12 -> 0 | X26: =[19]届出・山梨県!$AA$12 -> 0 | Y26: =[19]届出・山梨県!$Z$13 -> 0 | Z26: =[19]届出・山梨県!$AA$13 -> 0 | AA26: =[19]届出・山梨県!$Z$14 -> 0 | AB26: =[19]届出・山梨県!$AA$14 -> 0 | AC26: =[19]届出・山梨県!$Z$15 -> 0 | AD26: =[19]届出・山梨県!$AA$15 -> 0 | AE26: =[19]届出・山梨県!$Z$16 -> 0 | AF26: =[19]届出・山梨県!$AA$16 -> 0 | AG26: =[19]届出・山梨県!$Z$17 -> 0 | AH26: =[19]届出・山梨県!$AA$17 -> 0 | AI26: =[19]届出・山梨県!$Z$18 -> 0 | AJ26: =[19]届出・山梨県!$AA$18 -> 0 | AK26: =[19]届出・山梨県!$Z$19 -> 1 | AL26: =[19]届出・山梨県!$AA$19 -> 255 | AM26: =[19]届出・山梨県!$Z$20 -> 0 | AN26: =[19]届出・山梨県!$AA$20 -> 0 | AO26: 19 | AP26: 山梨 | AQ26: =[19]届出・山梨県!$Z$21 -> 0 | AR26: =[19]届出・山梨県!$AA$21 -> 0 | AS26: =[19]届出・山梨県!$Z$22 -> 0 | AT26: =[19]届出・山梨県!$AA$22 -> 0 | AU26: =[19]届出・山梨県!$Z$23 -> 0 | AV26: =[19]届出・山梨県!$AA$23 -> 0 | AW26: =[19]届出・山梨県!$Z$24 -> 0 | AX26: =[19]届出・山梨県!$AA$24 -> 0 | AY26: =[19]届出・山梨県!$Z$25 -> 0 | AZ26: =[19]届出・山梨県!$AA$25 -> 0 | BA26: =[19]届出・山梨県!$Z$26 -> 0 | BB26: =[19]届出・山梨県!$AA$26 -> 0 | BC26: =[19]届出・山梨県!$Z$27 -> 0 | BD26: =[19]届出・山梨県!$AA$27 -> 0 | BE26: =[19]届出・山梨県!$Z$28 -> 0 | BF26: =[19]届出・山梨県!$AA$28 -> 0 | BG26: =[19]届出・山梨県!$Z$29 -> 0 | BH26: =[19]届出・山梨県!$AA$29 -> 0 | BI26: 19 | BJ26: 山梨 | BK26: =[19]届出・山梨県!$Z$30 -> 0 | BL26: =[19]届出・山梨県!$AA$30 -> 0 | BM26: =[19]届出・山梨県!$Z$31 -> 0 | BN26: =[19]届出・山梨県!$AA$31 -> 0 | BO26: =[19]届出・山梨県!$Z$32 -> 0 | BP26: =[19]届出・山梨県!$AA$32 -> 0 | BQ26: =[19]届出・山梨県!$Z$33 -> 1 | BR26: =[19]届出・山梨県!$AA$33 -> 255 | BS26: =[19]届出・山梨県!$Z$34 -> 0 | BT26: =[19]届出・山梨県!$AA$34 -> 0 | BU26: =[19]届出・山梨県!$Z$35 -> 0 | BV26: =[19]届出・山梨県!$AA$35 -> 0 | BW26: =[19]届出・山梨県!$Z$36 -> 0 | BX26: =[19]届出・山梨県!$AA$36 -> 0 | BY26: =[19]届出・山梨県!$Z$37 -> 2 | BZ26: =[19]届出・山梨県!$AA$37 -> 2 | CA26: =[19]届出・山梨県!$Z$38 -> 0 | CB26: =[19]届出・山梨県!$AA$38 -> 0 | CC26: 19 | CD26: 山梨 | CE26: =[19]届出・山梨県!$Z$39 -> 0 | CF26: =[19]届出・山梨県!$AA$39 -> 0 | CG26: =[19]届出・山梨県!$Z$40 -> 0 | CH26: =[19]届出・山梨県!$AA$40 -> 0 | CI26: =[19]届出・山梨県!$Z$41 -> 0 | CJ26: =[19]届出・山梨県!$AA$41 -> 0 | CK26: =[19]届出・山梨県!$Z$42 -> 0 | CL26: =[19]届出・山梨県!$AA$42 -> 0 | CM26: =[19]届出・山梨県!$Z$43 -> 0 | CN26: =[19]届出・山梨県!$AA$43 -> 0 | CO26: =[19]届出・山梨県!$Z$44 -> 0 | CP26: =[19]届出・山梨県!$AA$44 -> 0 | CQ26: =[19]届出・山梨県!$Z$45 -> 0 | CR26: =[19]届出・山梨県!$AA$45 -> 0 | CS26: =[19]届出・山梨県!$Z$46 -> 0 | CT26: =[19]届出・山梨県!$AA$46 -> 0 | CU26: 19 | CV26: 山梨 | CW26: =[19]届出・山梨県!$Z$47 -> 0 | CX26: =[19]届出・山梨県!$AA$47 -> 0 | CY26: =[19]届出・山梨県!$Z$51 -> 0 | CZ26: =[19]届出・山梨県!$AA$51 -> 0 | DA26: =[19]届出・山梨県!$Z$48 -> 0 | DB26: =[19]届出・山梨県!$AA$48 -> 0 | DC26: =[19]届出・山梨県!$Z$49 -> 0 | DD26: =[19]届出・山梨県!$AA$49 -> 0
A27: 20 | B27: 長野 | C27: =[20]届出・長野県!$Z$3 -> 0 | D27: =[20]届出・長野県!$AA$3 -> 0 | E27: =[20]届出・長野県!$Z$4 -> 0 | F27: =[20]届出・長野県!$AA$4 -> 0 | G27: =[20]届出・長野県!$Z$5 -> 0 | H27: =[20]届出・長野県!$AA$5 -> 0 | I27: =[20]届出・長野県!$Z$6 -> 0 | J27: =[20]届出・長野県!$AA$6 -> 0 | K27: =[20]届出・長野県!$Z$7 -> 0 | L27: =[20]届出・長野県!$AA$7 -> 0 | M27: =[20]届出・長野県!$Z$8 -> 3 | N27: =[20]届出・長野県!$AA$8 -> 7 | O27: =[20]届出・長野県!$Z$9 -> 1 | P27: =[20]届出・長野県!$AA$9 -> 1 | Q27: =[20]届出・長野県!$Z$10 -> 0 | R27: =[20]届出・長野県!$AA$10 -> 0 | S27: =[20]届出・長野県!$Z$11 -> 0 | T27: =[20]届出・長野県!$AA$11 -> 0 | U27: 20 | V27: 長野 | W27: =[20]届出・長野県!$Z$12 -> 0 | X27: =[20]届出・長野県!$AA$12 -> 0 | Y27: =[20]届出・長野県!$Z$13 -> 0 | Z27: =[20]届出・長野県!$AA$13 -> 0 | AA27: =[20]届出・長野県!$Z$14 -> 0 | AB27: =[20]届出・長野県!$AA$14 -> 0 | AC27: =[20]届出・長野県!$Z$15 -> 0 | AD27: =[20]届出・長野県!$AA$15 -> 0 | AE27: =[20]届出・長野県!$Z$16 -> 0 | AF27: =[20]届出・長野県!$AA$16 -> 0 | AG27: =[20]届出・長野県!$Z$17 -> 0 | AH27: =[20]届出・長野県!$AA$17 -> 0 | AI27: =[20]届出・長野県!$Z$18 -> 1 | AJ27: =[20]届出・長野県!$AA$18 -> 9 | AK27: =[20]届出・長野県!$Z$19 -> 0 | AL27: =[20]届出・長野県!$AA$19 -> 0 | AM27: =[20]届出・長野県!$Z$20 -> 0 | AN27: =[20]届出・長野県!$AA$20 -> 0 | AO27: 20 | AP27: 長野 | AQ27: =[20]届出・長野県!$Z$21 -> 0 | AR27: =[20]届出・長野県!$AA$21 -> 0 | AS27: =[20]届出・長野県!$Z$22 -> 0 | AT27: =[20]届出・長野県!$AA$22 -> 0 | AU27: =[20]届出・長野県!$Z$23 -> 0 | AV27: =[20]届出・長野県!$AA$23 -> 0 | AW27: =[20]届出・長野県!$Z$24 -> 0 | AX27: =[20]届出・長野県!$AA$24 -> 0 | AY27: =[20]届出・長野県!$Z$25 -> 0 | AZ27: =[20]届出・長野県!$AA$25 -> 0 | BA27: =[20]届出・長野県!$Z$26 -> 0 | BB27: =[20]届出・長野県!$AA$26 -> 0 | BC27: =[20]届出・長野県!$Z$27 -> 0 | BD27: =[20]届出・長野県!$AA$27 -> 0 | BE27: =[20]届出・長野県!$Z$28 -> 0 | BF27: =[20]届出・長野県!$AA$28 -> 0 | BG27: =[20]届出・長野県!$Z$29 -> 0 | BH27: =[20]届出・長野県!$AA$29 -> 0 | BI27: 20 | BJ27: 長野 | BK27: =[20]届出・長野県!$Z$30 -> 0 | BL27: =[20]届出・長野県!$AA$30 -> 0 | BM27: =[20]届出・長野県!$Z$31 -> 0 | BN27: =[20]届出・長野県!$AA$31 -> 0 | BO27: =[20]届出・長野県!$Z$32 -> 0 | BP27: =[20]届出・長野県!$AA$32 -> 0 | BQ27: =[20]届出・長野県!$Z$33 -> 0 | BR27: =[20]届出・長野県!$AA$33 -> 0 | BS27: =[20]届出・長野県!$Z$34 -> 0 | BT27: =[20]届出・長野県!$AA$34 -> 0 | BU27: =[20]届出・長野県!$Z$35 -> 0 | BV27: =[20]届出・長野県!$AA$35 -> 0 | BW27: =[20]届出・長野県!$Z$36 -> 2 | BX27: =[20]届出・長野県!$AA$36 -> 98 | BY27: =[20]届出・長野県!$Z$37 -> 35 | BZ27: =[20]届出・長野県!$AA$37 -> 88 | CA27: =[20]届出・長野県!$Z$38 -> 0 | CB27: =[20]届出・長野県!$AA$38 -> 0 | CC27: 20 | CD27: 長野 | CE27: =[20]届出・長野県!$Z$39 -> 0 | CF27: =[20]届出・長野県!$AA$39 -> 0 | CG27: =[20]届出・長野県!$Z$40 -> 1 | CH27: =[20]届出・長野県!$AA$40 -> 2 | CI27: =[20]届出・長野県!$Z$41 -> 5 | CJ27: =[20]届出・長野県!$AA$41 -> 16 | CK27: =[20]届出・長野県!$Z$42 -> 2 | CL27: =[20]届出・長野県!$AA$42 -> 180 | CM27: =[20]届出・長野県!$Z$43 -> 0 | CN27: =[20]届出・長野県!$AA$43 -> 0 | CO27: =[20]届出・長野県!$Z$44 -> 0 | CP27: =[20]届出・長野県!$AA$44 -> 0 | CQ27: =[20]届出・長野県!$Z$45 -> 0 | CR27: =[20]届出・長野県!$AA$45 -> 0 | CS27: =[20]届出・長野県!$Z$46 -> 2 | CT27: =[20]届出・長野県!$AA$46 -> 34 | CU27: 20 | CV27: 長野 | CW27: =[20]届出・長野県!$Z$47 -> 1 | CX27: =[20]届出・長野県!$AA$47 -> 22 | CY27: =[20]届出・長野県!$Z$51 -> 0 | CZ27: =[20]届出・長野県!$AA$51 -> 0 | DA27: =[20]届出・長野県!$Z$48 -> 2 | DB27: =[20]届出・長野県!$AA$48 -> 8 | DC27: =[20]届出・長野県!$Z$49 -> 6 | DD27: =[20]届出・長野県!$AA$49 -> 8
A28: 21 | B28: 岐阜 | C28: =[21]届出・岐阜県!$Z$3 -> 0 | D28: =[21]届出・岐阜県!$AA$3 -> 0 | E28: =[21]届出・岐阜県!$Z$4 -> 0 | F28: =[21]届出・岐阜県!$AA$4 -> 0 | G28: =[21]届出・岐阜県!$Z$5 -> 0 | H28: =[21]届出・岐阜県!$AA$5 -> 0 | I28: =[21]届出・岐阜県!$Z$6 -> 0 | J28: =[21]届出・岐阜県!$AA$6 -> 0 | K28: =[21]届出・岐阜県!$Z$7 -> 0 | L28: =[21]届出・岐阜県!$AA$7 -> 0 | M28: =[21]届出・岐阜県!$Z$8 -> 0 | N28: =[21]届出・岐阜県!$AA$8 -> 0 | O28: =[21]届出・岐阜県!$Z$9 -> 0 | P28: =[21]届出・岐阜県!$AA$9 -> 0 | Q28: =[21]届出・岐阜県!$Z$10 -> 0 | R28: =[21]届出・岐阜県!$AA$10 -> 0 | S28: =[21]届出・岐阜県!$Z$11 -> 0 | T28: =[21]届出・岐阜県!$AA$11 -> 0 | U28: 21 | V28: 岐阜 | W28: =[21]届出・岐阜県!$Z$12 -> 0 | X28: =[21]届出・岐阜県!$AA$12 -> 0 | Y28: =[21]届出・岐阜県!$Z$13 -> 0 | Z28: =[21]届出・岐阜県!$AA$13 -> 0 | AA28: =[21]届出・岐阜県!$Z$14 -> 0 | AB28: =[21]届出・岐阜県!$AA$14 -> 0 | AC28: =[21]届出・岐阜県!$Z$15 -> 0 | AD28: =[21]届出・岐阜県!$AA$15 -> 0 | AE28: =[21]届出・岐阜県!$Z$16 -> 1 | AF28: =[21]届出・岐阜県!$AA$16 -> 1 | AG28: =[21]届出・岐阜県!$Z$17 -> 0 | AH28: =[21]届出・岐阜県!$AA$17 -> 0 | AI28: =[21]届出・岐阜県!$Z$18 -> 0 | AJ28: =[21]届出・岐阜県!$AA$18 -> 0 | AK28: =[21]届出・岐阜県!$Z$19 -> 0 | AL28: =[21]届出・岐阜県!$AA$19 -> 0 | AM28: =[21]届出・岐阜県!$Z$20 -> 0 | AN28: =[21]届出・岐阜県!$AA$20 -> 0 | AO28: 21 | AP28: 岐阜 | AQ28: =[21]届出・岐阜県!$Z$21 -> 0 | AR28: =[21]届出・岐阜県!$AA$21 -> 0 | AS28: =[21]届出・岐阜県!$Z$22 -> 0 | AT28: =[21]届出・岐阜県!$AA$22 -> 0 | AU28: =[21]届出・岐阜県!$Z$23 -> 0 | AV28: =[21]届出・岐阜県!$AA$23 -> 0 | AW28: =[21]届出・岐阜県!$Z$24 -> 0 | AX28: =[21]届出・岐阜県!$AA$24 -> 0 | AY28: =[21]届出・岐阜県!$Z$25 -> 0 | AZ28: =[21]届出・岐阜県!$AA$25 -> 0 | BA28: =[21]届出・岐阜県!$Z$26 -> 0 | BB28: =[21]届出・岐阜県!$AA$26 -> 0 | BC28: =[21]届出・岐阜県!$Z$27 -> 0 | BD28: =[21]届出・岐阜県!$AA$27 -> 0 | BE28: =[21]届出・岐阜県!$Z$28 -> 0 | BF28: =[21]届出・岐阜県!$AA$28 -> 0 | BG28: =[21]届出・岐阜県!$Z$29 -> 0 | BH28: =[21]届出・岐阜県!$AA$29 -> 0 | BI28: 21 | BJ28: 岐阜 | BK28: =[21]届出・岐阜県!$Z$30 -> 0 | BL28: =[21]届出・岐阜県!$AA$30 -> 0 | BM28: =[21]届出・岐阜県!$Z$31 -> 0 | BN28: =[21]届出・岐阜県!$AA$31 -> 0 | BO28: =[21]届出・岐阜県!$Z$32 -> 0 | BP28: =[21]届出・岐阜県!$AA$32 -> 0 | BQ28: =[21]届出・岐阜県!$Z$33 -> 0 | BR28: =[21]届出・岐阜県!$AA$33 -> 0 | BS28: =[21]届出・岐阜県!$Z$34 -> 0 | BT28: =[21]届出・岐阜県!$AA$34 -> 0 | BU28: =[21]届出・岐阜県!$Z$35 -> 0 | BV28: =[21]届出・岐阜県!$AA$35 -> 0 | BW28: =[21]届出・岐阜県!$Z$36 -> 0 | BX28: =[21]届出・岐阜県!$AA$36 -> 0 | BY28: =[21]届出・岐阜県!$Z$37 -> 0 | BZ28: =[21]届出・岐阜県!$AA$37 -> 0 | CA28: =[21]届出・岐阜県!$Z$38 -> 0 | CB28: =[21]届出・岐阜県!$AA$38 -> 0 | CC28: 21 | CD28: 岐阜 | CE28: =[21]届出・岐阜県!$Z$39 -> 0 | CF28: =[21]届出・岐阜県!$AA$39 -> 0 | CG28: =[21]届出・岐阜県!$Z$40 -> 0 | CH28: =[21]届出・岐阜県!$AA$40 -> 0 | CI28: =[21]届出・岐阜県!$Z$41 -> 0 | CJ28: =[21]届出・岐阜県!$AA$41 -> 0 | CK28: =[21]届出・岐阜県!$Z$42 -> 0 | CL28: =[21]届出・岐阜県!$AA$42 -> 0 | CM28: =[21]届出・岐阜県!$Z$43 -> 1 | CN28: =[21]届出・岐阜県!$AA$43 -> 8 | CO28: =[21]届出・岐阜県!$Z$44 -> 0 | CP28: =[21]届出・岐阜県!$AA$44 -> 0 | CQ28: =[21]届出・岐阜県!$Z$45 -> 0 | CR28: =[21]届出・岐阜県!$AA$45 -> 0 | CS28: =[21]届出・岐阜県!$Z$46 -> 0 | CT28: =[21]届出・岐阜県!$AA$46 -> 0 | CU28: 21 | CV28: 岐阜 | CW28: =[21]届出・岐阜県!$Z$47 -> 0 | CX28: =[21]届出・岐阜県!$AA$47 -> 0 | CY28: =[21]届出・岐阜県!$Z$51 -> 0 | CZ28: =[21]届出・岐阜県!$AA$51 -> 0 | DA28: =[21]届出・岐阜県!$Z$48 -> 0 | DB28: =[21]届出・岐阜県!$AA$48 -> 0 | DC28: =[21]届出・岐阜県!$Z$49 -> 0 | DD28: =[21]届出・岐阜県!$AA$49 -> 0
A29: 22 | B29: 静岡 | C29: =[22]届出・静岡県!$Z$3 -> 0 | D29: =[22]届出・静岡県!$AA$3 -> 0 | E29: =[22]届出・静岡県!$Z$4 -> 0 | F29: =[22]届出・静岡県!$AA$4 -> 0 | G29: =[22]届出・静岡県!$Z$5 -> 0 | H29: =[22]届出・静岡県!$AA$5 -> 0 | I29: =[22]届出・静岡県!$Z$6 -> 0 | J29: =[22]届出・静岡県!$AA$6 -> 0 | K29: =[22]届出・静岡県!$Z$7 -> 0 | L29: =[22]届出・静岡県!$AA$7 -> 0 | M29: =[22]届出・静岡県!$Z$8 -> 0 | N29: =[22]届出・静岡県!$AA$8 -> 0 | O29: =[22]届出・静岡県!$Z$9 -> 1 | P29: =[22]届出・静岡県!$AA$9 -> 1 | Q29: =[22]届出・静岡県!$Z$10 -> 0 | R29: =[22]届出・静岡県!$AA$10 -> 0 | S29: =[22]届出・静岡県!$Z$11 -> 0 | T29: =[22]届出・静岡県!$AA$11 -> 0 | U29: 22 | V29: 静岡 | W29: =[22]届出・静岡県!$Z$12 -> 0 | X29: =[22]届出・静岡県!$AA$12 -> 0 | Y29: =[22]届出・静岡県!$Z$13 -> 1 | Z29: =[22]届出・静岡県!$AA$13 -> 1 | AA29: =[22]届出・静岡県!$Z$14 -> 0 | AB29: =[22]届出・静岡県!$AA$14 -> 0 | AC29: =[22]届出・静岡県!$Z$15 -> 0 | AD29: =[22]届出・静岡県!$AA$15 -> 0 | AE29: =[22]届出・静岡県!$Z$16 -> 4 | AF29: =[22]届出・静岡県!$AA$16 -> 4 | AG29: =[22]届出・静岡県!$Z$17 -> 0 | AH29: =[22]届出・静岡県!$AA$17 -> 0 | AI29: =[22]届出・静岡県!$Z$18 -> 0 | AJ29: =[22]届出・静岡県!$AA$18 -> 0 | AK29: =[22]届出・静岡県!$Z$19 -> 0 | AL29: =[22]届出・静岡県!$AA$19 -> 0 | AM29: =[22]届出・静岡県!$Z$20 -> 0 | AN29: =[22]届出・静岡県!$AA$20 -> 0 | AO29: 22 | AP29: 静岡 | AQ29: =[22]届出・静岡県!$Z$21 -> 0 | AR29: =[22]届出・静岡県!$AA$21 -> 0 | AS29: =[22]届出・静岡県!$Z$22 -> 0 | AT29: =[22]届出・静岡県!$AA$22 -> 0 | AU29: =[22]届出・静岡県!$Z$23 -> 0 | AV29: =[22]届出・静岡県!$AA$23 -> 0 | AW29: =[22]届出・静岡県!$Z$24 -> 1 | AX29: =[22]届出・静岡県!$AA$24 -> 1 | AY29: =[22]届出・静岡県!$Z$25 -> 0 | AZ29: =[22]届出・静岡県!$AA$25 -> 0 | BA29: =[22]届出・静岡県!$Z$26 -> 0 | BB29: =[22]届出・静岡県!$AA$26 -> 0 | BC29: =[22]届出・静岡県!$Z$27 -> 0 | BD29: =[22]届出・静岡県!$AA$27 -> 0 | BE29: =[22]届出・静岡県!$Z$28 -> 0 | BF29: =[22]届出・静岡県!$AA$28 -> 0 | BG29: =[22]届出・静岡県!$Z$29 -> 0 | BH29: =[22]届出・静岡県!$AA$29 -> 0 | BI29: 22 | BJ29: 静岡 | BK29: =[22]届出・静岡県!$Z$30 -> 0 | BL29: =[22]届出・静岡県!$AA$30 -> 0 | BM29: =[22]届出・静岡県!$Z$31 -> 0 | BN29: =[22]届出・静岡県!$AA$31 -> 0 | BO29: =[22]届出・静岡県!$Z$32 -> 0 | BP29: =[22]届出・静岡県!$AA$32 -> 0 | BQ29: =[22]届出・静岡県!$Z$33 -> 0 | BR29: =[22]届出・静岡県!$AA$33 -> 0 | BS29: =[22]届出・静岡県!$Z$34 -> 0 | BT29: =[22]届出・静岡県!$AA$34 -> 0 | BU29: =[22]届出・静岡県!$Z$35 -> 0 | BV29: =[22]届出・静岡県!$AA$35 -> 0 | BW29: =[22]届出・静岡県!$Z$36 -> 8 | BX29: =[22]届出・静岡県!$AA$36 -> 17 | BY29: =[22]届出・静岡県!$Z$37 -> 3 | BZ29: =[22]届出・静岡県!$AA$37 -> 5 | CA29: =[22]届出・静岡県!$Z$38 -> 0 | CB29: =[22]届出・静岡県!$AA$38 -> 0 | CC29: 22 | CD29: 静岡 | CE29: =[22]届出・静岡県!$Z$39 -> 29 | CF29: =[22]届出・静岡県!$AA$39 -> 63 | CG29: =[22]届出・静岡県!$Z$40 -> 0 | CH29: =[22]届出・静岡県!$AA$40 -> 0 | CI29: =[22]届出・静岡県!$Z$41 -> 34 | CJ29: =[22]届出・静岡県!$AA$41 -> 219 | CK29: =[22]届出・静岡県!$Z$42 -> 0 | CL29: =[22]届出・静岡県!$AA$42 -> 0 | CM29: =[22]届出・静岡県!$Z$43 -> 0 | CN29: =[22]届出・静岡県!$AA$43 -> 0 | CO29: =[22]届出・静岡県!$Z$44 -> 0 | CP29: =[22]届出・静岡県!$AA$44 -> 0 | CQ29: =[22]届出・静岡県!$Z$45 -> 0 | CR29: =[22]届出・静岡県!$AA$45 -> 0 | CS29: =[22]届出・静岡県!$Z$46 -> 0 | CT29: =[22]届出・静岡県!$AA$46 -> 0 | CU29: 22 | CV29: 静岡 | CW29: =[22]届出・静岡県!$Z$47 -> 0 | CX29: =[22]届出・静岡県!$AA$47 -> 0 | CY29: =[22]届出・静岡県!$Z$51 -> 0 | CZ29: =[22]届出・静岡県!$AA$51 -> 0 | DA29: =[22]届出・静岡県!$Z$48 -> 0 | DB29: =[22]届出・静岡県!$AA$48 -> 0 | DC29: =[22]届出・静岡県!$Z$49 -> 0 | DD29: =[22]届出・静岡県!$AA$49 -> 0
A30: 23 | B30: 愛知 | C30: =[23]届出・愛知県!$Z$3 -> 0 | D30: =[23]届出・愛知県!$AA$3 -> 0 | E30: =[23]届出・愛知県!$Z$4 -> 0 | F30: =[23]届出・愛知県!$AA$4 -> 0 | G30: =[23]届出・愛知県!$Z$5 -> 0 | H30: =[23]届出・愛知県!$AA$5 -> 0 | I30: =[23]届出・愛知県!$Z$6 -> 0 | J30: =[23]届出・愛知県!$AA$6 -> 0 | K30: =[23]届出・愛知県!$Z$7 -> 2 | L30: =[23]届出・愛知県!$AA$7 -> 2 | M30: =[23]届出・愛知県!$Z$8 -> 6 | N30: =[23]届出・愛知県!$AA$8 -> 16 | O30: =[23]届出・愛知県!$Z$9 -> 1 | P30: =[23]届出・愛知県!$AA$9 -> 1 | Q30: =[23]届出・愛知県!$Z$10 -> 0 | R30: =[23]届出・愛知県!$AA$10 -> 0 | S30: =[23]届出・愛知県!$Z$11 -> 0 | T30: =[23]届出・愛知県!$AA$11 -> 0 | U30: 23 | V30: 愛知 | W30: =[23]届出・愛知県!$Z$12 -> 0 | X30: =[23]届出・愛知県!$AA$12 -> 0 | Y30: =[23]届出・愛知県!$Z$13 -> 0 | Z30: =[23]届出・愛知県!$AA$13 -> 0 | AA30: =[23]届出・愛知県!$Z$14 -> 0 | AB30: =[23]届出・愛知県!$AA$14 -> 0 | AC30: =[23]届出・愛知県!$Z$15 -> 0 | AD30: =[23]届出・愛知県!$AA$15 -> 0 | AE30: =[23]届出・愛知県!$Z$16 -> 0 | AF30: =[23]届出・愛知県!$AA$16 -> 0 | AG30: =[23]届出・愛知県!$Z$17 -> 0 | AH30: =[23]届出・愛知県!$AA$17 -> 0 | AI30: =[23]届出・愛知県!$Z$18 -> 2 | AJ30: =[23]届出・愛知県!$AA$18 -> 4 | AK30: =[23]届出・愛知県!$Z$19 -> 0 | AL30: =[23]届出・愛知県!$AA$19 -> 0 | AM30: =[23]届出・愛知県!$Z$20 -> 0 | AN30: =[23]届出・愛知県!$AA$20 -> 0 | AO30: 23 | AP30: 愛知 | AQ30: =[23]届出・愛知県!$Z$21 -> 0 | AR30: =[23]届出・愛知県!$AA$21 -> 0 | AS30: =[23]届出・愛知県!$Z$22 -> 0 | AT30: =[23]届出・愛知県!$AA$22 -> 0 | AU30: =[23]届出・愛知県!$Z$23 -> 0 | AV30: =[23]届出・愛知県!$AA$23 -> 0 | AW30: =[23]届出・愛知県!$Z$24 -> 0 | AX30: =[23]届出・愛知県!$AA$24 -> 0 | AY30: =[23]届出・愛知県!$Z$25 -> 0 | AZ30: =[23]届出・愛知県!$AA$25 -> 0 | BA30: =[23]届出・愛知県!$Z$26 -> 0 | BB30: =[23]届出・愛知県!$AA$26 -> 0 | BC30: =[23]届出・愛知県!$Z$27 -> 0 | BD30: =[23]届出・愛知県!$AA$27 -> 0 | BE30: =[23]届出・愛知県!$Z$28 -> 0 | BF30: =[23]届出・愛知県!$AA$28 -> 0 | BG30: =[23]届出・愛知県!$Z$29 -> 0 | BH30: =[23]届出・愛知県!$AA$29 -> 0 | BI30: 23 | BJ30: 愛知 | BK30: =[23]届出・愛知県!$Z$30 -> 0 | BL30: =[23]届出・愛知県!$AA$30 -> 0 | BM30: =[23]届出・愛知県!$Z$31 -> 0 | BN30: =[23]届出・愛知県!$AA$31 -> 0 | BO30: =[23]届出・愛知県!$Z$32 -> 0 | BP30: =[23]届出・愛知県!$AA$32 -> 0 | BQ30: =[23]届出・愛知県!$Z$33 -> 0 | BR30: =[23]届出・愛知県!$AA$33 -> 0 | BS30: =[23]届出・愛知県!$Z$34 -> 0 | BT30: =[23]届出・愛知県!$AA$34 -> 0 | BU30: =[23]届出・愛知県!$Z$35 -> 0 | BV30: =[23]届出・愛知県!$AA$35 -> 0 | BW30: =[23]届出・愛知県!$Z$36 -> 0 | BX30: =[23]届出・愛知県!$AA$36 -> 0 | BY30: =[23]届出・愛知県!$Z$37 -> 34 | BZ30: =[23]届出・愛知県!$AA$37 -> 56 | CA30: =[23]届出・愛知県!$Z$38 -> 0 | CB30: =[23]届出・愛知県!$AA$38 -> 0 | CC30: 23 | CD30: 愛知 | CE30: =[23]届出・愛知県!$Z$39 -> 0 | CF30: =[23]届出・愛知県!$AA$39 -> 0 | CG30: =[23]届出・愛知県!$Z$40 -> 0 | CH30: =[23]届出・愛知県!$AA$40 -> 0 | CI30: =[23]届出・愛知県!$Z$41 -> 0 | CJ30: =[23]届出・愛知県!$AA$41 -> 0 | CK30: =[23]届出・愛知県!$Z$42 -> 0 | CL30: =[23]届出・愛知県!$AA$42 -> 0 | CM30: =[23]届出・愛知県!$Z$43 -> 1 | CN30: =[23]届出・愛知県!$AA$43 -> 30 | CO30: =[23]届出・愛知県!$Z$44 -> 0 | CP30: =[23]届出・愛知県!$AA$44 -> 0 | CQ30: =[23]届出・愛知県!$Z$45 -> 0 | CR30: =[23]届出・愛知県!$AA$45 -> 0 | CS30: =[23]届出・愛知県!$Z$46 -> 0 | CT30: =[23]届出・愛知県!$AA$46 -> 0 | CU30: 23 | CV30: 愛知 | CW30: =[23]届出・愛知県!$Z$47 -> 0 | CX30: =[23]届出・愛知県!$AA$47 -> 0 | CY30: =[23]届出・愛知県!$Z$51 -> 0 | CZ30: =[23]届出・愛知県!$AA$51 -> 0 | DA30: =[23]届出・愛知県!$Z$48 -> 0 | DB30: =[23]届出・愛知県!$AA$48 -> 0 | DC30: =[23]届出・愛知県!$Z$49 -> 0 | DD30: =[23]届出・愛知県!$AA$49 -> 0
A31: 24 | B31: 三重 | C31: =[24]届出・三重県!$Z$3 -> 0 | D31: =[24]届出・三重県!$AA$3 -> 0 | E31: =[24]届出・三重県!$Z$4 -> 0 | F31: =[24]届出・三重県!$AA$4 -> 0 | G31: =[24]届出・三重県!$Z$5 -> 0 | H31: =[24]届出・三重県!$AA$5 -> 0 | I31: =[24]届出・三重県!$Z$6 -> 0 | J31: =[24]届出・三重県!$AA$6 -> 0 | K31: =[24]届出・三重県!$Z$7 -> 0 | L31: =[24]届出・三重県!$AA$7 -> 0 | M31: =[24]届出・三重県!$Z$8 -> 0 | N31: =[24]届出・三重県!$AA$8 -> 0 | O31: =[24]届出・三重県!$Z$9 -> 0 | P31: =[24]届出・三重県!$AA$9 -> 0 | Q31: =[24]届出・三重県!$Z$10 -> 0 | R31: =[24]届出・三重県!$AA$10 -> 0 | S31: =[24]届出・三重県!$Z$11 -> 0 | T31: =[24]届出・三重県!$AA$11 -> 0 | U31: 24 | V31: 三重 | W31: =[24]届出・三重県!$Z$12 -> 0 | X31: =[24]届出・三重県!$AA$12 -> 0 | Y31: =[24]届出・三重県!$Z$13 -> 0 | Z31: =[24]届出・三重県!$AA$13 -> 0 | AA31: =[24]届出・三重県!$Z$14 -> 0 | AB31: =[24]届出・三重県!$AA$14 -> 0 | AC31: =[24]届出・三重県!$Z$15 -> 0 | AD31: =[24]届出・三重県!$AA$15 -> 0 | AE31: =[24]届出・三重県!$Z$16 -> 5 | AF31: =[24]届出・三重県!$AA$16 -> 5 | AG31: =[24]届出・三重県!$Z$17 -> 0 | AH31: =[24]届出・三重県!$AA$17 -> 0 | AI31: =[24]届出・三重県!$Z$18 -> 0 | AJ31: =[24]届出・三重県!$AA$18 -> 0 | AK31: =[24]届出・三重県!$Z$19 -> 1 | AL31: =[24]届出・三重県!$AA$19 -> 500 | AM31: =[24]届出・三重県!$Z$20 -> 0 | AN31: =[24]届出・三重県!$AA$20 -> 0 | AO31: 24 | AP31: 三重 | AQ31: =[24]届出・三重県!$Z$21 -> 0 | AR31: =[24]届出・三重県!$AA$21 -> 0 | AS31: =[24]届出・三重県!$Z$22 -> 0 | AT31: =[24]届出・三重県!$AA$22 -> 0 | AU31: =[24]届出・三重県!$Z$23 -> 0 | AV31: =[24]届出・三重県!$AA$23 -> 0 | AW31: =[24]届出・三重県!$Z$24 -> 0 | AX31: =[24]届出・三重県!$AA$24 -> 0 | AY31: =[24]届出・三重県!$Z$25 -> 0 | AZ31: =[24]届出・三重県!$AA$25 -> 0 | BA31: =[24]届出・三重県!$Z$26 -> 0 | BB31: =[24]届出・三重県!$AA$26 -> 0 | BC31: =[24]届出・三重県!$Z$27 -> 0 | BD31: =[24]届出・三重県!$AA$27 -> 0 | BE31: =[24]届出・三重県!$Z$28 -> 0 | BF31: =[24]届出・三重県!$AA$28 -> 0 | BG31: =[24]届出・三重県!$Z$29 -> 0 | BH31: =[24]届出・三重県!$AA$29 -> 0 | BI31: 24 | BJ31: 三重 | BK31: =[24]届出・三重県!$Z$30 -> 0 | BL31: =[24]届出・三重県!$AA$30 -> 0 | BM31: =[24]届出・三重県!$Z$31 -> 0 | BN31: =[24]届出・三重県!$AA$31 -> 0 | BO31: =[24]届出・三重県!$Z$32 -> 0 | BP31: =[24]届出・三重県!$AA$32 -> 0 | BQ31: =[24]届出・三重県!$Z$33 -> 0 | BR31: =[24]届出・三重県!$AA$33 -> 0 | BS31: =[24]届出・三重県!$Z$34 -> 0 | BT31: =[24]届出・三重県!$AA$34 -> 0 | BU31: =[24]届出・三重県!$Z$35 -> 0 | BV31: =[24]届出・三重県!$AA$35 -> 0 | BW31: =[24]届出・三重県!$Z$36 -> 0 | BX31: =[24]届出・三重県!$AA$36 -> 0 | BY31: =[24]届出・三重県!$Z$37 -> 28 | BZ31: =[24]届出・三重県!$AA$37 -> 77 | CA31: =[24]届出・三重県!$Z$38 -> 0 | CB31: =[24]届出・三重県!$AA$38 -> 0 | CC31: 24 | CD31: 三重 | CE31: =[24]届出・三重県!$Z$39 -> 0 | CF31: =[24]届出・三重県!$AA$39 -> 0 | CG31: =[24]届出・三重県!$Z$40 -> 0 | CH31: =[24]届出・三重県!$AA$40 -> 0 | CI31: =[24]届出・三重県!$Z$41 -> 0 | CJ31: =[24]届出・三重県!$AA$41 -> 0 | CK31: =[24]届出・三重県!$Z$42 -> 0 | CL31: =[24]届出・三重県!$AA$42 -> 0 | CM31: =[24]届出・三重県!$Z$43 -> 0 | CN31: =[24]届出・三重県!$AA$43 -> 0 | CO31: =[24]届出・三重県!$Z$44 -> 0 | CP31: =[24]届出・三重県!$AA$44 -> 0 | CQ31: =[24]届出・三重県!$Z$45 -> 0 | CR31: =[24]届出・三重県!$AA$45 -> 0 | CS31: =[24]届出・三重県!$Z$46 -> 0 | CT31: =[24]届出・三重県!$AA$46 -> 0 | CU31: 24 | CV31: 三重 | CW31: =[24]届出・三重県!$Z$47 -> 1 | CX31: =[24]届出・三重県!$AA$47 -> 10000 | CY31: =[24]届出・三重県!$Z$51 -> 0 | CZ31: =[24]届出・三重県!$AA$51 -> 0 | DA31: =[24]届出・三重県!$Z$48 -> 0 | DB31: =[24]届出・三重県!$AA$48 -> 0 | DC31: =[24]届出・三重県!$Z$49 -> 0 | DD31: =[24]届出・三重県!$AA$49 -> 0
A32: 25 | B32: 滋賀 | C32: =[25]届出・滋賀県!$Z$3 -> 0 | D32: =[25]届出・滋賀県!$AA$3 -> 0 | E32: =[25]届出・滋賀県!$Z$4 -> 0 | F32: =[25]届出・滋賀県!$AA$4 -> 0 | G32: =[25]届出・滋賀県!$Z$5 -> 0 | H32: =[25]届出・滋賀県!$AA$5 -> 0 | I32: =[25]届出・滋賀県!$Z$6 -> 0 | J32: =[25]届出・滋賀県!$AA$6 -> 0 | K32: =[25]届出・滋賀県!$Z$7 -> 0 | L32: =[25]届出・滋賀県!$AA$7 -> 0 | M32: =[25]届出・滋賀県!$Z$8 -> 0 | N32: =[25]届出・滋賀県!$AA$8 -> 0 | O32: =[25]届出・滋賀県!$Z$9 -> 1 | P32: =[25]届出・滋賀県!$AA$9 -> 1 | Q32: =[25]届出・滋賀県!$Z$10 -> 0 | R32: =[25]届出・滋賀県!$AA$10 -> 0 | S32: =[25]届出・滋賀県!$Z$11 -> 0 | T32: =[25]届出・滋賀県!$AA$11 -> 0 | U32: 25 | V32: 滋賀 | W32: =[25]届出・滋賀県!$Z$12 -> 0 | X32: =[25]届出・滋賀県!$AA$12 -> 0 | Y32: =[25]届出・滋賀県!$Z$13 -> 0 | Z32: =[25]届出・滋賀県!$AA$13 -> 0 | AA32: =[25]届出・滋賀県!$Z$14 -> 0 | AB32: =[25]届出・滋賀県!$AA$14 -> 0 | AC32: =[25]届出・滋賀県!$Z$15 -> 0 | AD32: =[25]届出・滋賀県!$AA$15 -> 0 | AE32: =[25]届出・滋賀県!$Z$16 -> 0 | AF32: =[25]届出・滋賀県!$AA$16 -> 0 | AG32: =[25]届出・滋賀県!$Z$17 -> 0 | AH32: =[25]届出・滋賀県!$AA$17 -> 0 | AI32: =[25]届出・滋賀県!$Z$18 -> 1 | AJ32: =[25]届出・滋賀県!$AA$18 -> 7 | AK32: =[25]届出・滋賀県!$Z$19 -> 0 | AL32: =[25]届出・滋賀県!$AA$19 -> 0 | AM32: =[25]届出・滋賀県!$Z$20 -> 0 | AN32: =[25]届出・滋賀県!$AA$20 -> 0 | AO32: 25 | AP32: 滋賀 | AQ32: =[25]届出・滋賀県!$Z$21 -> 0 | AR32: =[25]届出・滋賀県!$AA$21 -> 0 | AS32: =[25]届出・滋賀県!$Z$22 -> 0 | AT32: =[25]届出・滋賀県!$AA$22 -> 0 | AU32: =[25]届出・滋賀県!$Z$23 -> 0 | AV32: =[25]届出・滋賀県!$AA$23 -> 0 | AW32: =[25]届出・滋賀県!$Z$24 -> 1 | AX32: =[25]届出・滋賀県!$AA$24 -> 1 | AY32: =[25]届出・滋賀県!$Z$25 -> 0 | AZ32: =[25]届出・滋賀県!$AA$25 -> 0 | BA32: =[25]届出・滋賀県!$Z$26 -> 0 | BB32: =[25]届出・滋賀県!$AA$26 -> 0 | BC32: =[25]届出・滋賀県!$Z$27 -> 0 | BD32: =[25]届出・滋賀県!$AA$27 -> 0 | BE32: =[25]届出・滋賀県!$Z$28 -> 0 | BF32: =[25]届出・滋賀県!$AA$28 -> 0 | BG32: =[25]届出・滋賀県!$Z$29 -> 0 | BH32: =[25]届出・滋賀県!$AA$29 -> 0 | BI32: 25 | BJ32: 滋賀 | BK32: =[25]届出・滋賀県!$Z$30 -> 0 | BL32: =[25]届出・滋賀県!$AA$30 -> 0 | BM32: =[25]届出・滋賀県!$Z$31 -> 0 | BN32: =[25]届出・滋賀県!$AA$31 -> 0 | BO32: =[25]届出・滋賀県!$Z$32 -> 0 | BP32: =[25]届出・滋賀県!$AA$32 -> 0 | BQ32: =[25]届出・滋賀県!$Z$33 -> 0 | BR32: =[25]届出・滋賀県!$AA$33 -> 0 | BS32: =[25]届出・滋賀県!$Z$34 -> 0 | BT32: =[25]届出・滋賀県!$AA$34 -> 0 | BU32: =[25]届出・滋賀県!$Z$35 -> 0 | BV32: =[25]届出・滋賀県!$AA$35 -> 0 | BW32: =[25]届出・滋賀県!$Z$36 -> 0 | BX32: =[25]届出・滋賀県!$AA$36 -> 0 | BY32: =[25]届出・滋賀県!$Z$37 -> 0 | BZ32: =[25]届出・滋賀県!$AA$37 -> 0 | CA32: =[25]届出・滋賀県!$Z$38 -> 0 | CB32: =[25]届出・滋賀県!$AA$38 -> 0 | CC32: 25 | CD32: 滋賀 | CE32: =[25]届出・滋賀県!$Z$39 -> 0 | CF32: =[25]届出・滋賀県!$AA$39 -> 0 | CG32: =[25]届出・滋賀県!$Z$40 -> 0 | CH32: =[25]届出・滋賀県!$AA$40 -> 0 | CI32: =[25]届出・滋賀県!$Z$41 -> 1 | CJ32: =[25]届出・滋賀県!$AA$41 -> 1800 | CK32: =[25]届出・滋賀県!$Z$42 -> 0 | CL32: =[25]届出・滋賀県!$AA$42 -> 0 | CM32: =[25]届出・滋賀県!$Z$43 -> 0 | CN32: =[25]届出・滋賀県!$AA$43 -> 0 | CO32: =[25]届出・滋賀県!$Z$44 -> 0 | CP32: =[25]届出・滋賀県!$AA$44 -> 0 | CQ32: =[25]届出・滋賀県!$Z$45 -> 0 | CR32: =[25]届出・滋賀県!$AA$45 -> 0 | CS32: =[25]届出・滋賀県!$Z$46 -> 0 | CT32: =[25]届出・滋賀県!$AA$46 -> 0 | CU32: 25 | CV32: 滋賀 | CW32: =[25]届出・滋賀県!$Z$47 -> 3 | CX32: =[25]届出・滋賀県!$AA$47 -> 6000 | CY32: =[25]届出・滋賀県!$Z$51 -> 0 | CZ32: =[25]届出・滋賀県!$AA$51 -> 0 | DA32: =[25]届出・滋賀県!$Z$48 -> 0 | DB32: =[25]届出・滋賀県!$AA$48 -> 0 | DC32: =[25]届出・滋賀県!$Z$49 -> 0 | DD32: =[25]届出・滋賀県!$AA$49 -> 0
A33: 26 | B33: 京都 | C33: =[26]届出・京都府!$Z$3 -> 0 | D33: =[26]届出・京都府!$AA$3 -> 0 | E33: =[26]届出・京都府!$Z$4 -> 0 | F33: =[26]届出・京都府!$AA$4 -> 0 | G33: =[26]届出・京都府!$Z$5 -> 0 | H33: =[26]届出・京都府!$AA$5 -> 0 | I33: =[26]届出・京都府!$Z$6 -> 0 | J33: =[26]届出・京都府!$AA$6 -> 0 | K33: =[26]届出・京都府!$Z$7 -> 0 | L33: =[26]届出・京都府!$AA$7 -> 0 | M33: =[26]届出・京都府!$Z$8 -> 1 | N33: =[26]届出・京都府!$AA$8 -> 3 | O33: =[26]届出・京都府!$Z$9 -> 0 | P33: =[26]届出・京都府!$AA$9 -> 0 | Q33: =[26]届出・京都府!$Z$10 -> 0 | R33: =[26]届出・京都府!$AA$10 -> 0 | S33: =[26]届出・京都府!$Z$11 -> 0 | T33: =[26]届出・京都府!$AA$11 -> 0 | U33: 26 | V33: 京都 | W33: =[26]届出・京都府!$Z$12 -> 0 | X33: =[26]届出・京都府!$AA$12 -> 0 | Y33: =[26]届出・京都府!$Z$13 -> 0 | Z33: =[26]届出・京都府!$AA$13 -> 0 | AA33: =[26]届出・京都府!$Z$14 -> 0 | AB33: =[26]届出・京都府!$AA$14 -> 0 | AC33: =[26]届出・京都府!$Z$15 -> 0 | AD33: =[26]届出・京都府!$AA$15 -> 0 | AE33: =[26]届出・京都府!$Z$16 -> 1 | AF33: =[26]届出・京都府!$AA$16 -> 1 | AG33: =[26]届出・京都府!$Z$17 -> 0 | AH33: =[26]届出・京都府!$AA$17 -> 0 | AI33: =[26]届出・京都府!$Z$18 -> 0 | AJ33: =[26]届出・京都府!$AA$18 -> 0 | AK33: =[26]届出・京都府!$Z$19 -> 2 | AL33: =[26]届出・京都府!$AA$19 -> 5 | AM33: =[26]届出・京都府!$Z$20 -> 0 | AN33: =[26]届出・京都府!$AA$20 -> 0 | AO33: 26 | AP33: 京都 | AQ33: =[26]届出・京都府!$Z$21 -> 0 | AR33: =[26]届出・京都府!$AA$21 -> 0 | AS33: =[26]届出・京都府!$Z$22 -> 0 | AT33: =[26]届出・京都府!$AA$22 -> 0 | AU33: =[26]届出・京都府!$Z$23 -> 0 | AV33: =[26]届出・京都府!$AA$23 -> 0 | AW33: =[26]届出・京都府!$Z$24 -> 0 | AX33: =[26]届出・京都府!$AA$24 -> 0 | AY33: =[26]届出・京都府!$Z$25 -> 0 | AZ33: =[26]届出・京都府!$AA$25 -> 0 | BA33: =[26]届出・京都府!$Z$26 -> 0 | BB33: =[26]届出・京都府!$AA$26 -> 0 | BC33: =[26]届出・京都府!$Z$27 -> 0 | BD33: =[26]届出・京都府!$AA$27 -> 0 | BE33: =[26]届出・京都府!$Z$28 -> 0 | BF33: =[26]届出・京都府!$AA$28 -> 0 | BG33: =[26]届出・京都府!$Z$29 -> 0 | BH33: =[26]届出・京都府!$AA$29 -> 0 | BI33: 26 | BJ33: 京都 | BK33: =[26]届出・京都府!$Z$30 -> 0 | BL33: =[26]届出・京都府!$AA$30 -> 0 | BM33: =[26]届出・京都府!$Z$31 -> 0 | BN33: =[26]届出・京都府!$AA$31 -> 0 | BO33: =[26]届出・京都府!$Z$32 -> 0 | BP33: =[26]届出・京都府!$AA$32 -> 0 | BQ33: =[26]届出・京都府!$Z$33 -> 0 | BR33: =[26]届出・京都府!$AA$33 -> 0 | BS33: =[26]届出・京都府!$Z$34 -> 0 | BT33: =[26]届出・京都府!$AA$34 -> 0 | BU33: =[26]届出・京都府!$Z$35 -> 0 | BV33: =[26]届出・京都府!$AA$35 -> 0 | BW33: =[26]届出・京都府!$Z$36 -> 0 | BX33: =[26]届出・京都府!$AA$36 -> 0 | BY33: =[26]届出・京都府!$Z$37 -> 5 | BZ33: =[26]届出・京都府!$AA$37 -> 6 | CA33: =[26]届出・京都府!$Z$38 -> 0 | CB33: =[26]届出・京都府!$AA$38 -> 0 | CC33: 26 | CD33: 京都 | CE33: =[26]届出・京都府!$Z$39 -> 0 | CF33: =[26]届出・京都府!$AA$39 -> 0 | CG33: =[26]届出・京都府!$Z$40 -> 1 | CH33: =[26]届出・京都府!$AA$40 -> 2 | CI33: =[26]届出・京都府!$Z$41 -> 0 | CJ33: =[26]届出・京都府!$AA$41 -> 0 | CK33: =[26]届出・京都府!$Z$42 -> 0 | CL33: =[26]届出・京都府!$AA$42 -> 0 | CM33: =[26]届出・京都府!$Z$43 -> 0 | CN33: =[26]届出・京都府!$AA$43 -> 0 | CO33: =[26]届出・京都府!$Z$44 -> 0 | CP33: =[26]届出・京都府!$AA$44 -> 0 | CQ33: =[26]届出・京都府!$Z$45 -> 0 | CR33: =[26]届出・京都府!$AA$45 -> 0 | CS33: =[26]届出・京都府!$Z$46 -> 0 | CT33: =[26]届出・京都府!$AA$46 -> 0 | CU33: 26 | CV33: 京都 | CW33: =[26]届出・京都府!$Z$47 -> 0 | CX33: =[26]届出・京都府!$AA$47 -> 0 | CY33: =[26]届出・京都府!$Z$51 -> 0 | CZ33: =[26]届出・京都府!$AA$51 -> 0 | DA33: =[26]届出・京都府!$Z$48 -> 0 | DB33: =[26]届出・京都府!$AA$48 -> 0 | DC33: =[26]届出・京都府!$Z$49 -> 0 | DD33: =[26]届出・京都府!$AA$49 -> 0
A34: 27 | B34: 大阪 | C34: =[27]届出・大阪府!$Z$3 -> 0 | D34: =[27]届出・大阪府!$AA$3 -> 0 | E34: =[27]届出・大阪府!$Z$4 -> 0 | F34: =[27]届出・大阪府!$AA$4 -> 0 | G34: =[27]届出・大阪府!$Z$5 -> 0 | H34: =[27]届出・大阪府!$AA$5 -> 0 | I34: =[27]届出・大阪府!$Z$6 -> 0 | J34: =[27]届出・大阪府!$AA$6 -> 0 | K34: =[27]届出・大阪府!$Z$7 -> 0 | L34: =[27]届出・大阪府!$AA$7 -> 0 | M34: =[27]届出・大阪府!$Z$8 -> 0 | N34: =[27]届出・大阪府!$AA$8 -> 0 | O34: =[27]届出・大阪府!$Z$9 -> 0 | P34: =[27]届出・大阪府!$AA$9 -> 0 | Q34: =[27]届出・大阪府!$Z$10 -> 0 | R34: =[27]届出・大阪府!$AA$10 -> 0 | S34: =[27]届出・大阪府!$Z$11 -> 0 | T34: =[27]届出・大阪府!$AA$11 -> 0 | U34: 27 | V34: 大阪 | W34: =[27]届出・大阪府!$Z$12 -> 0 | X34: =[27]届出・大阪府!$AA$12 -> 0 | Y34: =[27]届出・大阪府!$Z$13 -> 0 | Z34: =[27]届出・大阪府!$AA$13 -> 0 | AA34: =[27]届出・大阪府!$Z$14 -> 0 | AB34: =[27]届出・大阪府!$AA$14 -> 0 | AC34: =[27]届出・大阪府!$Z$15 -> 0 | AD34: =[27]届出・大阪府!$AA$15 -> 0 | AE34: =[27]届出・大阪府!$Z$16 -> 0 | AF34: =[27]届出・大阪府!$AA$16 -> 0 | AG34: =[27]届出・大阪府!$Z$17 -> 0 | AH34: =[27]届出・大阪府!$AA$17 -> 0 | AI34: =[27]届出・大阪府!$Z$18 -> 2 | AJ34: =[27]届出・大阪府!$AA$18 -> 5 | AK34: =[27]届出・大阪府!$Z$19 -> 0 | AL34: =[27]届出・大阪府!$AA$19 -> 0 | AM34: =[27]届出・大阪府!$Z$20 -> 0 | AN34: =[27]届出・大阪府!$AA$20 -> 0 | AO34: 27 | AP34: 大阪 | AQ34: =[27]届出・大阪府!$Z$21 -> 0 | AR34: =[27]届出・大阪府!$AA$21 -> 0 | AS34: =[27]届出・大阪府!$Z$22 -> 0 | AT34: =[27]届出・大阪府!$AA$22 -> 0 | AU34: =[27]届出・大阪府!$Z$23 -> 0 | AV34: =[27]届出・大阪府!$AA$23 -> 0 | AW34: =[27]届出・大阪府!$Z$24 -> 5 | AX34: =[27]届出・大阪府!$AA$24 -> 5 | AY34: =[27]届出・大阪府!$Z$25 -> 0 | AZ34: =[27]届出・大阪府!$AA$25 -> 0 | BA34: =[27]届出・大阪府!$Z$26 -> 0 | BB34: =[27]届出・大阪府!$AA$26 -> 0 | BC34: =[27]届出・大阪府!$Z$27 -> 0 | BD34: =[27]届出・大阪府!$AA$27 -> 0 | BE34: =[27]届出・大阪府!$Z$28 -> 0 | BF34: =[27]届出・大阪府!$AA$28 -> 0 | BG34: =[27]届出・大阪府!$Z$29 -> 0 | BH34: =[27]届出・大阪府!$AA$29 -> 0 | BI34: 27 | BJ34: 大阪 | BK34: =[27]届出・大阪府!$Z$30 -> 0 | BL34: =[27]届出・大阪府!$AA$30 -> 0 | BM34: =[27]届出・大阪府!$Z$31 -> 0 | BN34: =[27]届出・大阪府!$AA$31 -> 0 | BO34: =[27]届出・大阪府!$Z$32 -> 0 | BP34: =[27]届出・大阪府!$AA$32 -> 0 | BQ34: =[27]届出・大阪府!$Z$33 -> 0 | BR34: =[27]届出・大阪府!$AA$33 -> 0 | BS34: =[27]届出・大阪府!$Z$34 -> 0 | BT34: =[27]届出・大阪府!$AA$34 -> 0 | BU34: =[27]届出・大阪府!$Z$35 -> 0 | BV34: =[27]届出・大阪府!$AA$35 -> 0 | BW34: =[27]届出・大阪府!$Z$36 -> 0 | BX34: =[27]届出・大阪府!$AA$36 -> 0 | BY34: =[27]届出・大阪府!$Z$37 -> 0 | BZ34: =[27]届出・大阪府!$AA$37 -> 0 | CA34: =[27]届出・大阪府!$Z$38 -> 0 | CB34: =[27]届出・大阪府!$AA$38 -> 0 | CC34: 27 | CD34: 大阪 | CE34: =[27]届出・大阪府!$Z$39 -> 0 | CF34: =[27]届出・大阪府!$AA$39 -> 0 | CG34: =[27]届出・大阪府!$Z$40 -> 0 | CH34: =[27]届出・大阪府!$AA$40 -> 0 | CI34: =[27]届出・大阪府!$Z$41 -> 0 | CJ34: =[27]届出・大阪府!$AA$41 -> 0 | CK34: =[27]届出・大阪府!$Z$42 -> 3 | CL34: =[27]届出・大阪府!$AA$42 -> 5450 | CM34: =[27]届出・大阪府!$Z$43 -> 0 | CN34: =[27]届出・大阪府!$AA$43 -> 0 | CO34: =[27]届出・大阪府!$Z$44 -> 1 | CP34: =[27]届出・大阪府!$AA$44 -> 100 | CQ34: =[27]届出・大阪府!$Z$45 -> 0 | CR34: =[27]届出・大阪府!$AA$45 -> 0 | CS34: =[27]届出・大阪府!$Z$46 -> 0 | CT34: =[27]届出・大阪府!$AA$46 -> 0 | CU34: 27 | CV34: 大阪 | CW34: =[27]届出・大阪府!$Z$47 -> 0 | CX34: =[27]届出・大阪府!$AA$47 -> 0 | CY34: =[27]届出・大阪府!$Z$51 -> 0 | CZ34: =[27]届出・大阪府!$AA$51 -> 0 | DA34: =[27]届出・大阪府!$Z$48 -> 0 | DB34: =[27]届出・大阪府!$AA$48 -> 0 | DC34: =[27]届出・大阪府!$Z$49 -> 0 | DD34: =[27]届出・大阪府!$AA$49 -> 0
A35: 28 | B35: 兵庫 | C35: =[28]届出・兵庫県!$Z$3 -> 0 | D35: =[28]届出・兵庫県!$AA$3 -> 0 | E35: =[28]届出・兵庫県!$Z$4 -> 0 | F35: =[28]届出・兵庫県!$AA$4 -> 0 | G35: =[28]届出・兵庫県!$Z$5 -> 0 | H35: =[28]届出・兵庫県!$AA$5 -> 0 | I35: =[28]届出・兵庫県!$Z$6 -> 0 | J35: =[28]届出・兵庫県!$AA$6 -> 0 | K35: =[28]届出・兵庫県!$Z$7 -> 1 | L35: =[28]届出・兵庫県!$AA$7 -> 1 | M35: =[28]届出・兵庫県!$Z$8 -> 0 | N35: =[28]届出・兵庫県!$AA$8 -> 0 | O35: =[28]届出・兵庫県!$Z$9 -> 4 | P35: =[28]届出・兵庫県!$AA$9 -> 4 | Q35: =[28]届出・兵庫県!$Z$10 -> 0 | R35: =[28]届出・兵庫県!$AA$10 -> 0 | S35: =[28]届出・兵庫県!$Z$11 -> 0 | T35: =[28]届出・兵庫県!$AA$11 -> 0 | U35: 28 | V35: 兵庫 | W35: =[28]届出・兵庫県!$Z$12 -> 0 | X35: =[28]届出・兵庫県!$AA$12 -> 0 | Y35: =[28]届出・兵庫県!$Z$13 -> 0 | Z35: =[28]届出・兵庫県!$AA$13 -> 0 | AA35: =[28]届出・兵庫県!$Z$14 -> 0 | AB35: =[28]届出・兵庫県!$AA$14 -> 0 | AC35: =[28]届出・兵庫県!$Z$15 -> 0 | AD35: =[28]届出・兵庫県!$AA$15 -> 0 | AE35: =[28]届出・兵庫県!$Z$16 -> 2 | AF35: =[28]届出・兵庫県!$AA$16 -> 2 | AG35: =[28]届出・兵庫県!$Z$17 -> 0 | AH35: =[28]届出・兵庫県!$AA$17 -> 0 | AI35: =[28]届出・兵庫県!$Z$18 -> 1 | AJ35: =[28]届出・兵庫県!$AA$18 -> 1 | AK35: =[28]届出・兵庫県!$Z$19 -> 0 | AL35: =[28]届出・兵庫県!$AA$19 -> 0 | AM35: =[28]届出・兵庫県!$Z$20 -> 0 | AN35: =[28]届出・兵庫県!$AA$20 -> 0 | AO35: 28 | AP35: 兵庫 | AQ35: =[28]届出・兵庫県!$Z$21 -> 0 | AR35: =[28]届出・兵庫県!$AA$21 -> 0 | AS35: =[28]届出・兵庫県!$Z$22 -> 0 | AT35: =[28]届出・兵庫県!$AA$22 -> 0 | AU35: =[28]届出・兵庫県!$Z$23 -> 0 | AV35: =[28]届出・兵庫県!$AA$23 -> 0 | AW35: =[28]届出・兵庫県!$Z$24 -> 1 | AX35: =[28]届出・兵庫県!$AA$24 -> 1 | AY35: =[28]届出・兵庫県!$Z$25 -> 0 | AZ35: =[28]届出・兵庫県!$AA$25 -> 0 | BA35: =[28]届出・兵庫県!$Z$26 -> 0 | BB35: =[28]届出・兵庫県!$AA$26 -> 0 | BC35: =[28]届出・兵庫県!$Z$27 -> 0 | BD35: =[28]届出・兵庫県!$AA$27 -> 0 | BE35: =[28]届出・兵庫県!$Z$28 -> 0 | BF35: =[28]届出・兵庫県!$AA$28 -> 0 | BG35: =[28]届出・兵庫県!$Z$29 -> 0 | BH35: =[28]届出・兵庫県!$AA$29 -> 0 | BI35: 28 | BJ35: 兵庫 | BK35: =[28]届出・兵庫県!$Z$30 -> 0 | BL35: =[28]届出・兵庫県!$AA$30 -> 0 | BM35: =[28]届出・兵庫県!$Z$31 -> 0 | BN35: =[28]届出・兵庫県!$AA$31 -> 0 | BO35: =[28]届出・兵庫県!$Z$32 -> 0 | BP35: =[28]届出・兵庫県!$AA$32 -> 0 | BQ35: =[28]届出・兵庫県!$Z$33 -> 0 | BR35: =[28]届出・兵庫県!$AA$33 -> 0 | BS35: =[28]届出・兵庫県!$Z$34 -> 0 | BT35: =[28]届出・兵庫県!$AA$34 -> 0 | BU35: =[28]届出・兵庫県!$Z$35 -> 0 | BV35: =[28]届出・兵庫県!$AA$35 -> 0 | BW35: =[28]届出・兵庫県!$Z$36 -> 0 | BX35: =[28]届出・兵庫県!$AA$36 -> 0 | BY35: =[28]届出・兵庫県!$Z$37 -> 5 | BZ35: =[28]届出・兵庫県!$AA$37 -> 5 | CA35: =[28]届出・兵庫県!$Z$38 -> 0 | CB35: =[28]届出・兵庫県!$AA$38 -> 0 | CC35: 28 | CD35: 兵庫 | CE35: =[28]届出・兵庫県!$Z$39 -> 0 | CF35: =[28]届出・兵庫県!$AA$39 -> 0 | CG35: =[28]届出・兵庫県!$Z$40 -> 1 | CH35: =[28]届出・兵庫県!$AA$40 -> 7 | CI35: =[28]届出・兵庫県!$Z$41 -> 0 | CJ35: =[28]届出・兵庫県!$AA$41 -> 0 | CK35: =[28]届出・兵庫県!$Z$42 -> 0 | CL35: =[28]届出・兵庫県!$AA$42 -> 0 | CM35: =[28]届出・兵庫県!$Z$43 -> 0 | CN35: =[28]届出・兵庫県!$AA$43 -> 0 | CO35: =[28]届出・兵庫県!$Z$44 -> 1 | CP35: =[28]届出・兵庫県!$AA$44 -> 71 | CQ35: =[28]届出・兵庫県!$Z$45 -> 0 | CR35: =[28]届出・兵庫県!$AA$45 -> 0 | CS35: =[28]届出・兵庫県!$Z$46 -> 0 | CT35: =[28]届出・兵庫県!$AA$46 -> 0 | CU35: 28 | CV35: 兵庫 | CW35: =[28]届出・兵庫県!$Z$47 -> 0 | CX35: =[28]届出・兵庫県!$AA$47 -> 0 | CY35: =[28]届出・兵庫県!$Z$51 -> 0 | CZ35: =[28]届出・兵庫県!$AA$51 -> 0 | DA35: =[28]届出・兵庫県!$Z$48 -> 0 | DB35: =[28]届出・兵庫県!$AA$48 -> 0 | DC35: =[28]届出・兵庫県!$Z$49 -> 0 | DD35: =[28]届出・兵庫県!$AA$49 -> 0
A36: 29 | B36: 奈良 | C36: =[29]届出・奈良県!$Z$3 -> 0 | D36: =[29]届出・奈良県!$AA$3 -> 0 | E36: =[29]届出・奈良県!$Z$4 -> 0 | F36: =[29]届出・奈良県!$AA$4 -> 0 | G36: =[29]届出・奈良県!$Z$5 -> 0 | H36: =[29]届出・奈良県!$AA$5 -> 0 | I36: =[29]届出・奈良県!$Z$6 -> 0 | J36: =[29]届出・奈良県!$AA$6 -> 0 | K36: =[29]届出・奈良県!$Z$7 -> 0 | L36: =[29]届出・奈良県!$AA$7 -> 0 | M36: =[29]届出・奈良県!$Z$8 -> 0 | N36: =[29]届出・奈良県!$AA$8 -> 0 | O36: =[29]届出・奈良県!$Z$9 -> 0 | P36: =[29]届出・奈良県!$AA$9 -> 0 | Q36: =[29]届出・奈良県!$Z$10 -> 0 | R36: =[29]届出・奈良県!$AA$10 -> 0 | S36: =[29]届出・奈良県!$Z$11 -> 0 | T36: =[29]届出・奈良県!$AA$11 -> 0 | U36: 29 | V36: 奈良 | W36: =[29]届出・奈良県!$Z$12 -> 0 | X36: =[29]届出・奈良県!$AA$12 -> 0 | Y36: =[29]届出・奈良県!$Z$13 -> 0 | Z36: =[29]届出・奈良県!$AA$13 -> 0 | AA36: =[29]届出・奈良県!$Z$14 -> 0 | AB36: =[29]届出・奈良県!$AA$14 -> 0 | AC36: =[29]届出・奈良県!$Z$15 -> 0 | AD36: =[29]届出・奈良県!$AA$15 -> 0 | AE36: =[29]届出・奈良県!$Z$16 -> 1 | AF36: =[29]届出・奈良県!$AA$16 -> 1 | AG36: =[29]届出・奈良県!$Z$17 -> 0 | AH36: =[29]届出・奈良県!$AA$17 -> 0 | AI36: =[29]届出・奈良県!$Z$18 -> 0 | AJ36: =[29]届出・奈良県!$AA$18 -> 0 | AK36: =[29]届出・奈良県!$Z$19 -> 1 | AL36: =[29]届出・奈良県!$AA$19 -> 1 | AM36: =[29]届出・奈良県!$Z$20 -> 0 | AN36: =[29]届出・奈良県!$AA$20 -> 0 | AO36: 29 | AP36: 奈良 | AQ36: =[29]届出・奈良県!$Z$21 -> 0 | AR36: =[29]届出・奈良県!$AA$21 -> 0 | AS36: =[29]届出・奈良県!$Z$22 -> 0 | AT36: =[29]届出・奈良県!$AA$22 -> 0 | AU36: =[29]届出・奈良県!$Z$23 -> 0 | AV36: =[29]届出・奈良県!$AA$23 -> 0 | AW36: =[29]届出・奈良県!$Z$24 -> 0 | AX36: =[29]届出・奈良県!$AA$24 -> 0 | AY36: =[29]届出・奈良県!$Z$25 -> 0 | AZ36: =[29]届出・奈良県!$AA$25 -> 0 | BA36: =[29]届出・奈良県!$Z$26 -> 0 | BB36: =[29]届出・奈良県!$AA$26 -> 0 | BC36: =[29]届出・奈良県!$Z$27 -> 0 | BD36: =[29]届出・奈良県!$AA$27 -> 0 | BE36: =[29]届出・奈良県!$Z$28 -> 0 | BF36: =[29]届出・奈良県!$AA$28 -> 0 | BG36: =[29]届出・奈良県!$Z$29 -> 0 | BH36: =[29]届出・奈良県!$AA$29 -> 0 | BI36: 29 | BJ36: 奈良 | BK36: =[29]届出・奈良県!$Z$30 -> 0 | BL36: =[29]届出・奈良県!$AA$30 -> 0 | BM36: =[29]届出・奈良県!$Z$31 -> 0 | BN36: =[29]届出・奈良県!$AA$31 -> 0 | BO36: =[29]届出・奈良県!$Z$32 -> 0 | BP36: =[29]届出・奈良県!$AA$32 -> 0 | BQ36: =[29]届出・奈良県!$Z$33 -> 0 | BR36: =[29]届出・奈良県!$AA$33 -> 0 | BS36: =[29]届出・奈良県!$Z$34 -> 0 | BT36: =[29]届出・奈良県!$AA$34 -> 0 | BU36: =[29]届出・奈良県!$Z$35 -> 0 | BV36: =[29]届出・奈良県!$AA$35 -> 0 | BW36: =[29]届出・奈良県!$Z$36 -> 0 | BX36: =[29]届出・奈良県!$AA$36 -> 0 | BY36: =[29]届出・奈良県!$Z$37 -> 2 | BZ36: =[29]届出・奈良県!$AA$37 -> 2 | CA36: =[29]届出・奈良県!$Z$38 -> 0 | CB36: =[29]届出・奈良県!$AA$38 -> 0 | CC36: 29 | CD36: 奈良 | CE36: =[29]届出・奈良県!$Z$39 -> 0 | CF36: =[29]届出・奈良県!$AA$39 -> 0 | CG36: =[29]届出・奈良県!$Z$40 -> 0 | CH36: =[29]届出・奈良県!$AA$40 -> 0 | CI36: =[29]届出・奈良県!$Z$41 -> 0 | CJ36: =[29]届出・奈良県!$AA$41 -> 0 | CK36: =[29]届出・奈良県!$Z$42 -> 0 | CL36: =[29]届出・奈良県!$AA$42 -> 0 | CM36: =[29]届出・奈良県!$Z$43 -> 0 | CN36: =[29]届出・奈良県!$AA$43 -> 0 | CO36: =[29]届出・奈良県!$Z$44 -> 2 | CP36: =[29]届出・奈良県!$AA$44 -> 22 | CQ36: =[29]届出・奈良県!$Z$45 -> 0 | CR36: =[29]届出・奈良県!$AA$45 -> 0 | CS36: =[29]届出・奈良県!$Z$46 -> 0 | CT36: =[29]届出・奈良県!$AA$46 -> 0 | CU36: 29 | CV36: 奈良 | CW36: =[29]届出・奈良県!$Z$47 -> 2 | CX36: =[29]届出・奈良県!$AA$47 -> 18 | CY36: =[29]届出・奈良県!$Z$51 -> 0 | CZ36: =[29]届出・奈良県!$AA$51 -> 0 | DA36: =[29]届出・奈良県!$Z$48 -> 0 | DB36: =[29]届出・奈良県!$AA$48 -> 0 | DC36: =[29]届出・奈良県!$Z$49 -> 0 | DD36: =[29]届出・奈良県!$AA$49 -> 0
A37: 30 | B37: 和歌山 | C37: =[30]届出・和歌山県!$Z$3 -> 0 | D37: =[30]届出・和歌山県!$AA$3 -> 0 | E37: =[30]届出・和歌山県!$Z$4 -> 0 | F37: =[30]届出・和歌山県!$AA$4 -> 0 | G37: =[30]届出・和歌山県!$Z$5 -> 0 | H37: =[30]届出・和歌山県!$AA$5 -> 0 | I37: =[30]届出・和歌山県!$Z$6 -> 0 | J37: =[30]届出・和歌山県!$AA$6 -> 0 | K37: =[30]届出・和歌山県!$Z$7 -> 0 | L37: =[30]届出・和歌山県!$AA$7 -> 0 | M37: =[30]届出・和歌山県!$Z$8 -> 1 | N37: =[30]届出・和歌山県!$AA$8 -> 5 | O37: =[30]届出・和歌山県!$Z$9 -> 0 | P37: =[30]届出・和歌山県!$AA$9 -> 0 | Q37: =[30]届出・和歌山県!$Z$10 -> 0 | R37: =[30]届出・和歌山県!$AA$10 -> 0 | S37: =[30]届出・和歌山県!$Z$11 -> 0 | T37: =[30]届出・和歌山県!$AA$11 -> 0 | U37: 30 | V37: 和歌山 | W37: =[30]届出・和歌山県!$Z$12 -> 0 | X37: =[30]届出・和歌山県!$AA$12 -> 0 | Y37: =[30]届出・和歌山県!$Z$13 -> 0 | Z37: =[30]届出・和歌山県!$AA$13 -> 0 | AA37: =[30]届出・和歌山県!$Z$14 -> 0 | AB37: =[30]届出・和歌山県!$AA$14 -> 0 | AC37: =[30]届出・和歌山県!$Z$15 -> 0 | AD37: =[30]届出・和歌山県!$AA$15 -> 0 | AE37: =[30]届出・和歌山県!$Z$16 -> 0 | AF37: =[30]届出・和歌山県!$AA$16 -> 0 | AG37: =[30]届出・和歌山県!$Z$17 -> 0 | AH37: =[30]届出・和歌山県!$AA$17 -> 0 | AI37: =[30]届出・和歌山県!$Z$18 -> 0 | AJ37: =[30]届出・和歌山県!$AA$18 -> 0 | AK37: =[30]届出・和歌山県!$Z$19 -> 0 | AL37: =[30]届出・和歌山県!$AA$19 -> 0 | AM37: =[30]届出・和歌山県!$Z$20 -> 0 | AN37: =[30]届出・和歌山県!$AA$20 -> 0 | AO37: 30 | AP37: 和歌山 | AQ37: =[30]届出・和歌山県!$Z$21 -> 0 | AR37: =[30]届出・和歌山県!$AA$21 -> 0 | AS37: =[30]届出・和歌山県!$Z$22 -> 0 | AT37: =[30]届出・和歌山県!$AA$22 -> 0 | AU37: =[30]届出・和歌山県!$Z$23 -> 0 | AV37: =[30]届出・和歌山県!$AA$23 -> 0 | AW37: =[30]届出・和歌山県!$Z$24 -> 0 | AX37: =[30]届出・和歌山県!$AA$24 -> 0 | AY37: =[30]届出・和歌山県!$Z$25 -> 0 | AZ37: =[30]届出・和歌山県!$AA$25 -> 0 | BA37: =[30]届出・和歌山県!$Z$26 -> 0 | BB37: =[30]届出・和歌山県!$AA$26 -> 0 | BC37: =[30]届出・和歌山県!$Z$27 -> 0 | BD37: =[30]届出・和歌山県!$AA$27 -> 0 | BE37: =[30]届出・和歌山県!$Z$28 -> 0 | BF37: =[30]届出・和歌山県!$AA$28 -> 0 | BG37: =[30]届出・和歌山県!$Z$29 -> 0 | BH37: =[30]届出・和歌山県!$AA$29 -> 0 | BI37: 30 | BJ37: 和歌山 | BK37: =[30]届出・和歌山県!$Z$30 -> 0 | BL37: =[30]届出・和歌山県!$AA$30 -> 0 | BM37: =[30]届出・和歌山県!$Z$31 -> 0 | BN37: =[30]届出・和歌山県!$AA$31 -> 0 | BO37: =[30]届出・和歌山県!$Z$32 -> 0 | BP37: =[30]届出・和歌山県!$AA$32 -> 0 | BQ37: =[30]届出・和歌山県!$Z$33 -> 0 | BR37: =[30]届出・和歌山県!$AA$33 -> 0 | BS37: =[30]届出・和歌山県!$Z$34 -> 0 | BT37: =[30]届出・和歌山県!$AA$34 -> 0 | BU37: =[30]届出・和歌山県!$Z$35 -> 0 | BV37: =[30]届出・和歌山県!$AA$35 -> 0 | BW37: =[30]届出・和歌山県!$Z$36 -> 0 | BX37: =[30]届出・和歌山県!$AA$36 -> 0 | BY37: =[30]届出・和歌山県!$Z$37 -> 0 | BZ37: =[30]届出・和歌山県!$AA$37 -> 0 | CA37: =[30]届出・和歌山県!$Z$38 -> 0 | CB37: =[30]届出・和歌山県!$AA$38 -> 0 | CC37: 30 | CD37: 和歌山 | CE37: =[30]届出・和歌山県!$Z$39 -> 0 | CF37: =[30]届出・和歌山県!$AA$39 -> 0 | CG37: =[30]届出・和歌山県!$Z$40 -> 0 | CH37: =[30]届出・和歌山県!$AA$40 -> 0 | CI37: =[30]届出・和歌山県!$Z$41 -> 0 | CJ37: =[30]届出・和歌山県!$AA$41 -> 0 | CK37: =[30]届出・和歌山県!$Z$42 -> 0 | CL37: =[30]届出・和歌山県!$AA$42 -> 0 | CM37: =[30]届出・和歌山県!$Z$43 -> 0 | CN37: =[30]届出・和歌山県!$AA$43 -> 0 | CO37: =[30]届出・和歌山県!$Z$44 -> 0 | CP37: =[30]届出・和歌山県!$AA$44 -> 0 | CQ37: =[30]届出・和歌山県!$Z$45 -> 0 | CR37: =[30]届出・和歌山県!$AA$45 -> 0 | CS37: =[30]届出・和歌山県!$Z$46 -> 0 | CT37: =[30]届出・和歌山県!$AA$46 -> 0 | CU37: 30 | CV37: 和歌山 | CW37: =[30]届出・和歌山県!$Z$47 -> 0 | CX37: =[30]届出・和歌山県!$AA$47 -> 0 | CY37: =[30]届出・和歌山県!$Z$51 -> 0 | CZ37: =[30]届出・和歌山県!$AA$51 -> 0 | DA37: =[30]届出・和歌山県!$Z$48 -> 0 | DB37: =[30]届出・和歌山県!$AA$48 -> 0 | DC37: =[30]届出・和歌山県!$Z$49 -> 0 | DD37: =[30]届出・和歌山県!$AA$49 -> 0
A38: 31 | B38: 鳥取 | C38: =[31]届出・鳥取県!$Z$3 -> 0 | D38: =[31]届出・鳥取県!$AA$3 -> 0 | E38: =[31]届出・鳥取県!$Z$4 -> 0 | F38: =[31]届出・鳥取県!$AA$4 -> 0 | G38: =[31]届出・鳥取県!$Z$5 -> 0 | H38: =[31]届出・鳥取県!$AA$5 -> 0 | I38: =[31]届出・鳥取県!$Z$6 -> 0 | J38: =[31]届出・鳥取県!$AA$6 -> 0 | K38: =[31]届出・鳥取県!$Z$7 -> 0 | L38: =[31]届出・鳥取県!$AA$7 -> 0 | M38: =[31]届出・鳥取県!$Z$8 -> 4 | N38: =[31]届出・鳥取県!$AA$8 -> 4 | O38: =[31]届出・鳥取県!$Z$9 -> 6 | P38: =[31]届出・鳥取県!$AA$9 -> 6 | Q38: =[31]届出・鳥取県!$Z$10 -> 0 | R38: =[31]届出・鳥取県!$AA$10 -> 0 | S38: =[31]届出・鳥取県!$Z$11 -> 0 | T38: =[31]届出・鳥取県!$AA$11 -> 0 | U38: 31 | V38: 鳥取 | W38: =[31]届出・鳥取県!$Z$12 -> 0 | X38: =[31]届出・鳥取県!$AA$12 -> 0 | Y38: =[31]届出・鳥取県!$Z$13 -> 0 | Z38: =[31]届出・鳥取県!$AA$13 -> 0 | AA38: =[31]届出・鳥取県!$Z$14 -> 0 | AB38: =[31]届出・鳥取県!$AA$14 -> 0 | AC38: =[31]届出・鳥取県!$Z$15 -> 0 | AD38: =[31]届出・鳥取県!$AA$15 -> 0 | AE38: =[31]届出・鳥取県!$Z$16 -> 0 | AF38: =[31]届出・鳥取県!$AA$16 -> 0 | AG38: =[31]届出・鳥取県!$Z$17 -> 0 | AH38: =[31]届出・鳥取県!$AA$17 -> 0 | AI38: =[31]届出・鳥取県!$Z$18 -> 0 | AJ38: =[31]届出・鳥取県!$AA$18 -> 0 | AK38: =[31]届出・鳥取県!$Z$19 -> 0 | AL38: =[31]届出・鳥取県!$AA$19 -> 0 | AM38: =[31]届出・鳥取県!$Z$20 -> 0 | AN38: =[31]届出・鳥取県!$AA$20 -> 0 | AO38: 31 | AP38: 鳥取 | AQ38: =[31]届出・鳥取県!$Z$21 -> 0 | AR38: =[31]届出・鳥取県!$AA$21 -> 0 | AS38: =[31]届出・鳥取県!$Z$22 -> 0 | AT38: =[31]届出・鳥取県!$AA$22 -> 0 | AU38: =[31]届出・鳥取県!$Z$23 -> 0 | AV38: =[31]届出・鳥取県!$AA$23 -> 0 | AW38: =[31]届出・鳥取県!$Z$24 -> 1 | AX38: =[31]届出・鳥取県!$AA$24 -> 1 | AY38: =[31]届出・鳥取県!$Z$25 -> 0 | AZ38: =[31]届出・鳥取県!$AA$25 -> 0 | BA38: =[31]届出・鳥取県!$Z$26 -> 0 | BB38: =[31]届出・鳥取県!$AA$26 -> 0 | BC38: =[31]届出・鳥取県!$Z$27 -> 0 | BD38: =[31]届出・鳥取県!$AA$27 -> 0 | BE38: =[31]届出・鳥取県!$Z$28 -> 0 | BF38: =[31]届出・鳥取県!$AA$28 -> 0 | BG38: =[31]届出・鳥取県!$Z$29 -> 0 | BH38: =[31]届出・鳥取県!$AA$29 -> 0 | BI38: 31 | BJ38: 鳥取 | BK38: =[31]届出・鳥取県!$Z$30 -> 0 | BL38: =[31]届出・鳥取県!$AA$30 -> 0 | BM38: =[31]届出・鳥取県!$Z$31 -> 0 | BN38: =[31]届出・鳥取県!$AA$31 -> 0 | BO38: =[31]届出・鳥取県!$Z$32 -> 0 | BP38: =[31]届出・鳥取県!$AA$32 -> 0 | BQ38: =[31]届出・鳥取県!$Z$33 -> 0 | BR38: =[31]届出・鳥取県!$AA$33 -> 0 | BS38: =[31]届出・鳥取県!$Z$34 -> 0 | BT38: =[31]届出・鳥取県!$AA$34 -> 0 | BU38: =[31]届出・鳥取県!$Z$35 -> 0 | BV38: =[31]届出・鳥取県!$AA$35 -> 0 | BW38: =[31]届出・鳥取県!$Z$36 -> 0 | BX38: =[31]届出・鳥取県!$AA$36 -> 0 | BY38: =[31]届出・鳥取県!$Z$37 -> 2 | BZ38: =[31]届出・鳥取県!$AA$37 -> 2 | CA38: =[31]届出・鳥取県!$Z$38 -> 0 | CB38: =[31]届出・鳥取県!$AA$38 -> 0 | CC38: 31 | CD38: 鳥取 | CE38: =[31]届出・鳥取県!$Z$39 -> 0 | CF38: =[31]届出・鳥取県!$AA$39 -> 0 | CG38: =[31]届出・鳥取県!$Z$40 -> 0 | CH38: =[31]届出・鳥取県!$AA$40 -> 0 | CI38: =[31]届出・鳥取県!$Z$41 -> 0 | CJ38: =[31]届出・鳥取県!$AA$41 -> 0 | CK38: =[31]届出・鳥取県!$Z$42 -> 0 | CL38: =[31]届出・鳥取県!$AA$42 -> 0 | CM38: =[31]届出・鳥取県!$Z$43 -> 0 | CN38: =[31]届出・鳥取県!$AA$43 -> 0 | CO38: =[31]届出・鳥取県!$Z$44 -> 0 | CP38: =[31]届出・鳥取県!$AA$44 -> 0 | CQ38: =[31]届出・鳥取県!$Z$45 -> 0 | CR38: =[31]届出・鳥取県!$AA$45 -> 0 | CS38: =[31]届出・鳥取県!$Z$46 -> 0 | CT38: =[31]届出・鳥取県!$AA$46 -> 0 | CU38: 31 | CV38: 鳥取 | CW38: =[31]届出・鳥取県!$Z$47 -> 0 | CX38: =[31]届出・鳥取県!$AA$47 -> 0 | CY38: =[31]届出・鳥取県!$Z$51 -> 0 | CZ38: =[31]届出・鳥取県!$AA$51 -> 0 | DA38: =[31]届出・鳥取県!$Z$48 -> 0 | DB38: =[31]届出・鳥取県!$AA$48 -> 0 | DC38: =[31]届出・鳥取県!$Z$49 -> 0 | DD38: =[31]届出・鳥取県!$AA$49 -> 0
A39: 32 | B39: 島根 | C39: =[32]届出・島根県!$Z$3 -> 0 | D39: =[32]届出・島根県!$AA$3 -> 0 | E39: =[32]届出・島根県!$Z$4 -> 0 | F39: =[32]届出・島根県!$AA$4 -> 0 | G39: =[32]届出・島根県!$Z$5 -> 0 | H39: =[32]届出・島根県!$AA$5 -> 0 | I39: =[32]届出・島根県!$Z$6 -> 0 | J39: =[32]届出・島根県!$AA$6 -> 0 | K39: =[32]届出・島根県!$Z$7 -> 0 | L39: =[32]届出・島根県!$AA$7 -> 0 | M39: =[32]届出・島根県!$Z$8 -> 0 | N39: =[32]届出・島根県!$AA$8 -> 0 | O39: =[32]届出・島根県!$Z$9 -> 4 | P39: =[32]届出・島根県!$AA$9 -> 4 | Q39: =[32]届出・島根県!$Z$10 -> 0 | R39: =[32]届出・島根県!$AA$10 -> 0 | S39: =[32]届出・島根県!$Z$11 -> 0 | T39: =[32]届出・島根県!$AA$11 -> 0 | U39: 32 | V39: 島根 | W39: =[32]届出・島根県!$Z$12 -> 0 | X39: =[32]届出・島根県!$AA$12 -> 0 | Y39: =[32]届出・島根県!$Z$13 -> 3 | Z39: =[32]届出・島根県!$AA$13 -> 3 | AA39: =[32]届出・島根県!$Z$14 -> 0 | AB39: =[32]届出・島根県!$AA$14 -> 0 | AC39: =[32]届出・島根県!$Z$15 -> 0 | AD39: =[32]届出・島根県!$AA$15 -> 0 | AE39: =[32]届出・島根県!$Z$16 -> 0 | AF39: =[32]届出・島根県!$AA$16 -> 0 | AG39: =[32]届出・島根県!$Z$17 -> 0 | AH39: =[32]届出・島根県!$AA$17 -> 0 | AI39: =[32]届出・島根県!$Z$18 -> 0 | AJ39: =[32]届出・島根県!$AA$18 -> 0 | AK39: =[32]届出・島根県!$Z$19 -> 0 | AL39: =[32]届出・島根県!$AA$19 -> 0 | AM39: =[32]届出・島根県!$Z$20 -> 0 | AN39: =[32]届出・島根県!$AA$20 -> 0 | AO39: 32 | AP39: 島根 | AQ39: =[32]届出・島根県!$Z$21 -> 0 | AR39: =[32]届出・島根県!$AA$21 -> 0 | AS39: =[32]届出・島根県!$Z$22 -> 0 | AT39: =[32]届出・島根県!$AA$22 -> 0 | AU39: =[32]届出・島根県!$Z$23 -> 0 | AV39: =[32]届出・島根県!$AA$23 -> 0 | AW39: =[32]届出・島根県!$Z$24 -> 0 | AX39: =[32]届出・島根県!$AA$24 -> 0 | AY39: =[32]届出・島根県!$Z$25 -> 0 | AZ39: =[32]届出・島根県!$AA$25 -> 0 | BA39: =[32]届出・島根県!$Z$26 -> 0 | BB39: =[32]届出・島根県!$AA$26 -> 0 | BC39: =[32]届出・島根県!$Z$27 -> 0 | BD39: =[32]届出・島根県!$AA$27 -> 0 | BE39: =[32]届出・島根県!$Z$28 -> 0 | BF39: =[32]届出・島根県!$AA$28 -> 0 | BG39: =[32]届出・島根県!$Z$29 -> 0 | BH39: =[32]届出・島根県!$AA$29 -> 0 | BI39: 32 | BJ39: 島根 | BK39: =[32]届出・島根県!$Z$30 -> 0 | BL39: =[32]届出・島根県!$AA$30 -> 0 | BM39: =[32]届出・島根県!$Z$31 -> 0 | BN39: =[32]届出・島根県!$AA$31 -> 0 | BO39: =[32]届出・島根県!$Z$32 -> 0 | BP39: =[32]届出・島根県!$AA$32 -> 0 | BQ39: =[32]届出・島根県!$Z$33 -> 0 | BR39: =[32]届出・島根県!$AA$33 -> 0 | BS39: =[32]届出・島根県!$Z$34 -> 0 | BT39: =[32]届出・島根県!$AA$34 -> 0 | BU39: =[32]届出・島根県!$Z$35 -> 0 | BV39: =[32]届出・島根県!$AA$35 -> 0 | BW39: =[32]届出・島根県!$Z$36 -> 0 | BX39: =[32]届出・島根県!$AA$36 -> 0 | BY39: =[32]届出・島根県!$Z$37 -> 5 | BZ39: =[32]届出・島根県!$AA$37 -> 5 | CA39: =[32]届出・島根県!$Z$38 -> 0 | CB39: =[32]届出・島根県!$AA$38 -> 0 | CC39: 32 | CD39: 島根 | CE39: =[32]届出・島根県!$Z$39 -> 0 | CF39: =[32]届出・島根県!$AA$39 -> 0 | CG39: =[32]届出・島根県!$Z$40 -> 0 | CH39: =[32]届出・島根県!$AA$40 -> 0 | CI39: =[32]届出・島根県!$Z$41 -> 0 | CJ39: =[32]届出・島根県!$AA$41 -> 0 | CK39: =[32]届出・島根県!$Z$42 -> 0 | CL39: =[32]届出・島根県!$AA$42 -> 0 | CM39: =[32]届出・島根県!$Z$43 -> 0 | CN39: =[32]届出・島根県!$AA$43 -> 0 | CO39: =[32]届出・島根県!$Z$44 -> 0 | CP39: =[32]届出・島根県!$AA$44 -> 0 | CQ39: =[32]届出・島根県!$Z$45 -> 0 | CR39: =[32]届出・島根県!$AA$45 -> 0 | CS39: =[32]届出・島根県!$Z$46 -> 0 | CT39: =[32]届出・島根県!$AA$46 -> 0 | CU39: 32 | CV39: 島根 | CW39: =[32]届出・島根県!$Z$47 -> 0 | CX39: =[32]届出・島根県!$AA$47 -> 0 | CY39: =[32]届出・島根県!$Z$51 -> 0 | CZ39: =[32]届出・島根県!$AA$51 -> 0 | DA39: =[32]届出・島根県!$Z$48 -> 0 | DB39: =[32]届出・島根県!$AA$48 -> 0 | DC39: =[32]届出・島根県!$Z$49 -> 0 | DD39: =[32]届出・島根県!$AA$49 -> 0
A40: 33 | B40: 岡山 | C40: =[33]届出・岡山県!$Z$3 -> 3 | D40: =[33]届出・岡山県!$AA$3 -> 3 | E40: =[33]届出・岡山県!$Z$4 -> 0 | F40: =[33]届出・岡山県!$AA$4 -> 0 | G40: =[33]届出・岡山県!$Z$5 -> 0 | H40: =[33]届出・岡山県!$AA$5 -> 0 | I40: =[33]届出・岡山県!$Z$6 -> 0 | J40: =[33]届出・岡山県!$AA$6 -> 0 | K40: =[33]届出・岡山県!$Z$7 -> 0 | L40: =[33]届出・岡山県!$AA$7 -> 0 | M40: =[33]届出・岡山県!$Z$8 -> 2 | N40: =[33]届出・岡山県!$AA$8 -> 5 | O40: =[33]届出・岡山県!$Z$9 -> 0 | P40: =[33]届出・岡山県!$AA$9 -> 0 | Q40: =[33]届出・岡山県!$Z$10 -> 0 | R40: =[33]届出・岡山県!$AA$10 -> 0 | S40: =[33]届出・岡山県!$Z$11 -> 0 | T40: =[33]届出・岡山県!$AA$11 -> 0 | U40: 33 | V40: 岡山 | W40: =[33]届出・岡山県!$Z$12 -> 0 | X40: =[33]届出・岡山県!$AA$12 -> 0 | Y40: =[33]届出・岡山県!$Z$13 -> 0 | Z40: =[33]届出・岡山県!$AA$13 -> 0 | AA40: =[33]届出・岡山県!$Z$14 -> 0 | AB40: =[33]届出・岡山県!$AA$14 -> 0 | AC40: =[33]届出・岡山県!$Z$15 -> 0 | AD40: =[33]届出・岡山県!$AA$15 -> 0 | AE40: =[33]届出・岡山県!$Z$16 -> 2 | AF40: =[33]届出・岡山県!$AA$16 -> 2 | AG40: =[33]届出・岡山県!$Z$17 -> 0 | AH40: =[33]届出・岡山県!$AA$17 -> 0 | AI40: =[33]届出・岡山県!$Z$18 -> 2 | AJ40: =[33]届出・岡山県!$AA$18 -> 13 | AK40: =[33]届出・岡山県!$Z$19 -> 0 | AL40: =[33]届出・岡山県!$AA$19 -> 0 | AM40: =[33]届出・岡山県!$Z$20 -> 0 | AN40: =[33]届出・岡山県!$AA$20 -> 0 | AO40: 33 | AP40: 岡山 | AQ40: =[33]届出・岡山県!$Z$21 -> 0 | AR40: =[33]届出・岡山県!$AA$21 -> 0 | AS40: =[33]届出・岡山県!$Z$22 -> 0 | AT40: =[33]届出・岡山県!$AA$22 -> 0 | AU40: =[33]届出・岡山県!$Z$23 -> 0 | AV40: =[33]届出・岡山県!$AA$23 -> 0 | AW40: =[33]届出・岡山県!$Z$24 -> 0 | AX40: =[33]届出・岡山県!$AA$24 -> 0 | AY40: =[33]届出・岡山県!$Z$25 -> 0 | AZ40: =[33]届出・岡山県!$AA$25 -> 0 | BA40: =[33]届出・岡山県!$Z$26 -> 0 | BB40: =[33]届出・岡山県!$AA$26 -> 0 | BC40: =[33]届出・岡山県!$Z$27 -> 0 | BD40: =[33]届出・岡山県!$AA$27 -> 0 | BE40: =[33]届出・岡山県!$Z$28 -> 0 | BF40: =[33]届出・岡山県!$AA$28 -> 0 | BG40: =[33]届出・岡山県!$Z$29 -> 0 | BH40: =[33]届出・岡山県!$AA$29 -> 0 | BI40: 33 | BJ40: 岡山 | BK40: =[33]届出・岡山県!$Z$30 -> 0 | BL40: =[33]届出・岡山県!$AA$30 -> 0 | BM40: =[33]届出・岡山県!$Z$31 -> 0 | BN40: =[33]届出・岡山県!$AA$31 -> 0 | BO40: =[33]届出・岡山県!$Z$32 -> 0 | BP40: =[33]届出・岡山県!$AA$32 -> 0 | BQ40: =[33]届出・岡山県!$Z$33 -> 0 | BR40: =[33]届出・岡山県!$AA$33 -> 0 | BS40: =[33]届出・岡山県!$Z$34 -> 0 | BT40: =[33]届出・岡山県!$AA$34 -> 0 | BU40: =[33]届出・岡山県!$Z$35 -> 0 | BV40: =[33]届出・岡山県!$AA$35 -> 0 | BW40: =[33]届出・岡山県!$Z$36 -> 0 | BX40: =[33]届出・岡山県!$AA$36 -> 0 | BY40: =[33]届出・岡山県!$Z$37 -> 0 | BZ40: =[33]届出・岡山県!$AA$37 -> 0 | CA40: =[33]届出・岡山県!$Z$38 -> 0 | CB40: =[33]届出・岡山県!$AA$38 -> 0 | CC40: 33 | CD40: 岡山 | CE40: =[33]届出・岡山県!$Z$39 -> 1 | CF40: =[33]届出・岡山県!$AA$39 -> 6 | CG40: =[33]届出・岡山県!$Z$40 -> 0 | CH40: =[33]届出・岡山県!$AA$40 -> 0 | CI40: =[33]届出・岡山県!$Z$41 -> 1 | CJ40: =[33]届出・岡山県!$AA$41 -> 40 | CK40: =[33]届出・岡山県!$Z$42 -> 2 | CL40: =[33]届出・岡山県!$AA$42 -> 8347 | CM40: =[33]届出・岡山県!$Z$43 -> 0 | CN40: =[33]届出・岡山県!$AA$43 -> 0 | CO40: =[33]届出・岡山県!$Z$44 -> 1 | CP40: =[33]届出・岡山県!$AA$44 -> 75 | CQ40: =[33]届出・岡山県!$Z$45 -> 0 | CR40: =[33]届出・岡山県!$AA$45 -> 0 | CS40: =[33]届出・岡山県!$Z$46 -> 0 | CT40: =[33]届出・岡山県!$AA$46 -> 0 | CU40: 33 | CV40: 岡山 | CW40: =[33]届出・岡山県!$Z$47 -> 0 | CX40: =[33]届出・岡山県!$AA$47 -> 0 | CY40: =[33]届出・岡山県!$Z$51 -> 0 | CZ40: =[33]届出・岡山県!$AA$51 -> 0 | DA40: =[33]届出・岡山県!$Z$48 -> 0 | DB40: =[33]届出・岡山県!$AA$48 -> 0 | DC40: =[33]届出・岡山県!$Z$49 -> 1 | DD40: =[33]届出・岡山県!$AA$49 -> 1
A41: 34 | B41: 広島 | C41: =[34]届出・広島県!$Z$3 -> 0 | D41: =[34]届出・広島県!$AA$3 -> 0 | E41: =[34]届出・広島県!$Z$4 -> 0 | F41: =[34]届出・広島県!$AA$4 -> 0 | G41: =[34]届出・広島県!$Z$5 -> 0 | H41: =[34]届出・広島県!$AA$5 -> 0 | I41: =[34]届出・広島県!$Z$6 -> 0 | J41: =[34]届出・広島県!$AA$6 -> 0 | K41: =[34]届出・広島県!$Z$7 -> 0 | L41: =[34]届出・広島県!$AA$7 -> 0 | M41: =[34]届出・広島県!$Z$8 -> 0 | N41: =[34]届出・広島県!$AA$8 -> 0 | O41: =[34]届出・広島県!$Z$9 -> 4 | P41: =[34]届出・広島県!$AA$9 -> 4 | Q41: =[34]届出・広島県!$Z$10 -> 0 | R41: =[34]届出・広島県!$AA$10 -> 0 | S41: =[34]届出・広島県!$Z$11 -> 0 | T41: =[34]届出・広島県!$AA$11 -> 0 | U41: 34 | V41: 広島 | W41: =[34]届出・広島県!$Z$12 -> 0 | X41: =[34]届出・広島県!$AA$12 -> 0 | Y41: =[34]届出・広島県!$Z$13 -> 1 | Z41: =[34]届出・広島県!$AA$13 -> 1 | AA41: =[34]届出・広島県!$Z$14 -> 0 | AB41: =[34]届出・広島県!$AA$14 -> 0 | AC41: =[34]届出・広島県!$Z$15 -> 0 | AD41: =[34]届出・広島県!$AA$15 -> 0 | AE41: =[34]届出・広島県!$Z$16 -> 0 | AF41: =[34]届出・広島県!$AA$16 -> 0 | AG41: =[34]届出・広島県!$Z$17 -> 0 | AH41: =[34]届出・広島県!$AA$17 -> 0 | AI41: =[34]届出・広島県!$Z$18 -> 3 | AJ41: =[34]届出・広島県!$AA$18 -> 7 | AK41: =[34]届出・広島県!$Z$19 -> 0 | AL41: =[34]届出・広島県!$AA$19 -> 0 | AM41: =[34]届出・広島県!$Z$20 -> 0 | AN41: =[34]届出・広島県!$AA$20 -> 0 | AO41: 34 | AP41: 広島 | AQ41: =[34]届出・広島県!$Z$21 -> 0 | AR41: =[34]届出・広島県!$AA$21 -> 0 | AS41: =[34]届出・広島県!$Z$22 -> 0 | AT41: =[34]届出・広島県!$AA$22 -> 0 | AU41: =[34]届出・広島県!$Z$23 -> 0 | AV41: =[34]届出・広島県!$AA$23 -> 0 | AW41: =[34]届出・広島県!$Z$24 -> 2 | AX41: =[34]届出・広島県!$AA$24 -> 2 | AY41: =[34]届出・広島県!$Z$25 -> 0 | AZ41: =[34]届出・広島県!$AA$25 -> 0 | BA41: =[34]届出・広島県!$Z$26 -> 0 | BB41: =[34]届出・広島県!$AA$26 -> 0 | BC41: =[34]届出・広島県!$Z$27 -> 0 | BD41: =[34]届出・広島県!$AA$27 -> 0 | BE41: =[34]届出・広島県!$Z$28 -> 0 | BF41: =[34]届出・広島県!$AA$28 -> 0 | BG41: =[34]届出・広島県!$Z$29 -> 0 | BH41: =[34]届出・広島県!$AA$29 -> 0 | BI41: 34 | BJ41: 広島 | BK41: =[34]届出・広島県!$Z$30 -> 0 | BL41: =[34]届出・広島県!$AA$30 -> 0 | BM41: =[34]届出・広島県!$Z$31 -> 0 | BN41: =[34]届出・広島県!$AA$31 -> 0 | BO41: =[34]届出・広島県!$Z$32 -> 0 | BP41: =[34]届出・広島県!$AA$32 -> 0 | BQ41: =[34]届出・広島県!$Z$33 -> 0 | BR41: =[34]届出・広島県!$AA$33 -> 0 | BS41: =[34]届出・広島県!$Z$34 -> 0 | BT41: =[34]届出・広島県!$AA$34 -> 0 | BU41: =[34]届出・広島県!$Z$35 -> 0 | BV41: =[34]届出・広島県!$AA$35 -> 0 | BW41: =[34]届出・広島県!$Z$36 -> 1 | BX41: =[34]届出・広島県!$AA$36 -> 6 | BY41: =[34]届出・広島県!$Z$37 -> 10 | BZ41: =[34]届出・広島県!$AA$37 -> 19 | CA41: =[34]届出・広島県!$Z$38 -> 0 | CB41: =[34]届出・広島県!$AA$38 -> 0 | CC41: 34 | CD41: 広島 | CE41: =[34]届出・広島県!$Z$39 -> 1 | CF41: =[34]届出・広島県!$AA$39 -> 2 | CG41: =[34]届出・広島県!$Z$40 -> 0 | CH41: =[34]届出・広島県!$AA$40 -> 0 | CI41: =[34]届出・広島県!$Z$41 -> 0 | CJ41: =[34]届出・広島県!$AA$41 -> 0 | CK41: =[34]届出・広島県!$Z$42 -> 0 | CL41: =[34]届出・広島県!$AA$42 -> 0 | CM41: =[34]届出・広島県!$Z$43 -> 0 | CN41: =[34]届出・広島県!$AA$43 -> 0 | CO41: =[34]届出・広島県!$Z$44 -> 0 | CP41: =[34]届出・広島県!$AA$44 -> 0 | CQ41: =[34]届出・広島県!$Z$45 -> 0 | CR41: =[34]届出・広島県!$AA$45 -> 0 | CS41: =[34]届出・広島県!$Z$46 -> 0 | CT41: =[34]届出・広島県!$AA$46 -> 0 | CU41: 34 | CV41: 広島 | CW41: =[34]届出・広島県!$Z$47 -> 0 | CX41: =[34]届出・広島県!$AA$47 -> 0 | CY41: =[34]届出・広島県!$Z$51 -> 0 | CZ41: =[34]届出・広島県!$AA$51 -> 0 | DA41: =[34]届出・広島県!$Z$48 -> 1 | DB41: =[34]届出・広島県!$AA$48 -> 2 | DC41: =[34]届出・広島県!$Z$49 -> 0 | DD41: =[34]届出・広島県!$AA$49 -> 0
A42: 35 | B42: 山口 | C42: =[35]届出・山口県!$Z$3 -> 0 | D42: =[35]届出・山口県!$AA$3 -> 0 | E42: =[35]届出・山口県!$Z$4 -> 0 | F42: =[35]届出・山口県!$AA$4 -> 0 | G42: =[35]届出・山口県!$Z$5 -> 0 | H42: =[35]届出・山口県!$AA$5 -> 0 | I42: =[35]届出・山口県!$Z$6 -> 0 | J42: =[35]届出・山口県!$AA$6 -> 0 | K42: =[35]届出・山口県!$Z$7 -> 0 | L42: =[35]届出・山口県!$AA$7 -> 0 | M42: =[35]届出・山口県!$Z$8 -> 0 | N42: =[35]届出・山口県!$AA$8 -> 0 | O42: =[35]届出・山口県!$Z$9 -> 0 | P42: =[35]届出・山口県!$AA$9 -> 0 | Q42: =[35]届出・山口県!$Z$10 -> 0 | R42: =[35]届出・山口県!$AA$10 -> 0 | S42: =[35]届出・山口県!$Z$11 -> 0 | T42: =[35]届出・山口県!$AA$11 -> 0 | U42: 35 | V42: 山口 | W42: =[35]届出・山口県!$Z$12 -> 0 | X42: =[35]届出・山口県!$AA$12 -> 0 | Y42: =[35]届出・山口県!$Z$13 -> 0 | Z42: =[35]届出・山口県!$AA$13 -> 0 | AA42: =[35]届出・山口県!$Z$14 -> 0 | AB42: =[35]届出・山口県!$AA$14 -> 0 | AC42: =[35]届出・山口県!$Z$15 -> 0 | AD42: =[35]届出・山口県!$AA$15 -> 0 | AE42: =[35]届出・山口県!$Z$16 -> 0 | AF42: =[35]届出・山口県!$AA$16 -> 0 | AG42: =[35]届出・山口県!$Z$17 -> 0 | AH42: =[35]届出・山口県!$AA$17 -> 0 | AI42: =[35]届出・山口県!$Z$18 -> 0 | AJ42: =[35]届出・山口県!$AA$18 -> 0 | AK42: =[35]届出・山口県!$Z$19 -> 0 | AL42: =[35]届出・山口県!$AA$19 -> 0 | AM42: =[35]届出・山口県!$Z$20 -> 0 | AN42: =[35]届出・山口県!$AA$20 -> 0 | AO42: 35 | AP42: 山口 | AQ42: =[35]届出・山口県!$Z$21 -> 0 | AR42: =[35]届出・山口県!$AA$21 -> 0 | AS42: =[35]届出・山口県!$Z$22 -> 0 | AT42: =[35]届出・山口県!$AA$22 -> 0 | AU42: =[35]届出・山口県!$Z$23 -> 0 | AV42: =[35]届出・山口県!$AA$23 -> 0 | AW42: =[35]届出・山口県!$Z$24 -> 0 | AX42: =[35]届出・山口県!$AA$24 -> 0 | AY42: =[35]届出・山口県!$Z$25 -> 0 | AZ42: =[35]届出・山口県!$AA$25 -> 0 | BA42: =[35]届出・山口県!$Z$26 -> 0 | BB42: =[35]届出・山口県!$AA$26 -> 0 | BC42: =[35]届出・山口県!$Z$27 -> 0 | BD42: =[35]届出・山口県!$AA$27 -> 0 | BE42: =[35]届出・山口県!$Z$28 -> 0 | BF42: =[35]届出・山口県!$AA$28 -> 0 | BG42: =[35]届出・山口県!$Z$29 -> 0 | BH42: =[35]届出・山口県!$AA$29 -> 0 | BI42: 35 | BJ42: 山口 | BK42: =[35]届出・山口県!$Z$30 -> 0 | BL42: =[35]届出・山口県!$AA$30 -> 0 | BM42: =[35]届出・山口県!$Z$31 -> 0 | BN42: =[35]届出・山口県!$AA$31 -> 0 | BO42: =[35]届出・山口県!$Z$32 -> 0 | BP42: =[35]届出・山口県!$AA$32 -> 0 | BQ42: =[35]届出・山口県!$Z$33 -> 0 | BR42: =[35]届出・山口県!$AA$33 -> 0 | BS42: =[35]届出・山口県!$Z$34 -> 0 | BT42: =[35]届出・山口県!$AA$34 -> 0 | BU42: =[35]届出・山口県!$Z$35 -> 0 | BV42: =[35]届出・山口県!$AA$35 -> 0 | BW42: =[35]届出・山口県!$Z$36 -> 0 | BX42: =[35]届出・山口県!$AA$36 -> 0 | BY42: =[35]届出・山口県!$Z$37 -> 0 | BZ42: =[35]届出・山口県!$AA$37 -> 0 | CA42: =[35]届出・山口県!$Z$38 -> 0 | CB42: =[35]届出・山口県!$AA$38 -> 0 | CC42: 35 | CD42: 山口 | CE42: =[35]届出・山口県!$Z$39 -> 0 | CF42: =[35]届出・山口県!$AA$39 -> 0 | CG42: =[35]届出・山口県!$Z$40 -> 0 | CH42: =[35]届出・山口県!$AA$40 -> 0 | CI42: =[35]届出・山口県!$Z$41 -> 1 | CJ42: =[35]届出・山口県!$AA$41 -> 800 | CK42: =[35]届出・山口県!$Z$42 -> 0 | CL42: =[35]届出・山口県!$AA$42 -> 0 | CM42: =[35]届出・山口県!$Z$43 -> 1 | CN42: =[35]届出・山口県!$AA$43 -> 776 | CO42: =[35]届出・山口県!$Z$44 -> 0 | CP42: =[35]届出・山口県!$AA$44 -> 0 | CQ42: =[35]届出・山口県!$Z$45 -> 0 | CR42: =[35]届出・山口県!$AA$45 -> 0 | CS42: =[35]届出・山口県!$Z$46 -> 0 | CT42: =[35]届出・山口県!$AA$46 -> 0 | CU42: 35 | CV42: 山口 | CW42: =[35]届出・山口県!$Z$47 -> 1 | CX42: =[35]届出・山口県!$AA$47 -> 11 | CY42: =[35]届出・山口県!$Z$51 -> 0 | CZ42: =[35]届出・山口県!$AA$51 -> 0 | DA42: =[35]届出・山口県!$Z$48 -> 0 | DB42: =[35]届出・山口県!$AA$48 -> 0 | DC42: =[35]届出・山口県!$Z$49 -> 5 | DD42: =[35]届出・山口県!$AA$49 -> 10
A43: 36 | B43: 徳島 | C43: =[36]届出・徳島県!$Z$3 -> 1 | D43: =[36]届出・徳島県!$AA$3 -> 1 | E43: =[36]届出・徳島県!$Z$4 -> 0 | F43: =[36]届出・徳島県!$AA$4 -> 0 | G43: =[36]届出・徳島県!$Z$5 -> 0 | H43: =[36]届出・徳島県!$AA$5 -> 0 | I43: =[36]届出・徳島県!$Z$6 -> 0 | J43: =[36]届出・徳島県!$AA$6 -> 0 | K43: =[36]届出・徳島県!$Z$7 -> 0 | L43: =[36]届出・徳島県!$AA$7 -> 0 | M43: =[36]届出・徳島県!$Z$8 -> 1 | N43: =[36]届出・徳島県!$AA$8 -> 6 | O43: =[36]届出・徳島県!$Z$9 -> 1 | P43: =[36]届出・徳島県!$AA$9 -> 1 | Q43: =[36]届出・徳島県!$Z$10 -> 0 | R43: =[36]届出・徳島県!$AA$10 -> 0 | S43: =[36]届出・徳島県!$Z$11 -> 0 | T43: =[36]届出・徳島県!$AA$11 -> 0 | U43: 36 | V43: 徳島 | W43: =[36]届出・徳島県!$Z$12 -> 0 | X43: =[36]届出・徳島県!$AA$12 -> 0 | Y43: =[36]届出・徳島県!$Z$13 -> 0 | Z43: =[36]届出・徳島県!$AA$13 -> 0 | AA43: =[36]届出・徳島県!$Z$14 -> 0 | AB43: =[36]届出・徳島県!$AA$14 -> 0 | AC43: =[36]届出・徳島県!$Z$15 -> 0 | AD43: =[36]届出・徳島県!$AA$15 -> 0 | AE43: =[36]届出・徳島県!$Z$16 -> 0 | AF43: =[36]届出・徳島県!$AA$16 -> 0 | AG43: =[36]届出・徳島県!$Z$17 -> 0 | AH43: =[36]届出・徳島県!$AA$17 -> 0 | AI43: =[36]届出・徳島県!$Z$18 -> 5 | AJ43: =[36]届出・徳島県!$AA$18 -> 14 | AK43: =[36]届出・徳島県!$Z$19 -> 2 | AL43: =[36]届出・徳島県!$AA$19 -> 23 | AM43: =[36]届出・徳島県!$Z$20 -> 0 | AN43: =[36]届出・徳島県!$AA$20 -> 0 | AO43: 36 | AP43: 徳島 | AQ43: =[36]届出・徳島県!$Z$21 -> 0 | AR43: =[36]届出・徳島県!$AA$21 -> 0 | AS43: =[36]届出・徳島県!$Z$22 -> 0 | AT43: =[36]届出・徳島県!$AA$22 -> 0 | AU43: =[36]届出・徳島県!$Z$23 -> 0 | AV43: =[36]届出・徳島県!$AA$23 -> 0 | AW43: =[36]届出・徳島県!$Z$24 -> 0 | AX43: =[36]届出・徳島県!$AA$24 -> 0 | AY43: =[36]届出・徳島県!$Z$25 -> 0 | AZ43: =[36]届出・徳島県!$AA$25 -> 0 | BA43: =[36]届出・徳島県!$Z$26 -> 0 | BB43: =[36]届出・徳島県!$AA$26 -> 0 | BC43: =[36]届出・徳島県!$Z$27 -> 0 | BD43: =[36]届出・徳島県!$AA$27 -> 0 | BE43: =[36]届出・徳島県!$Z$28 -> 0 | BF43: =[36]届出・徳島県!$AA$28 -> 0 | BG43: =[36]届出・徳島県!$Z$29 -> 0 | BH43: =[36]届出・徳島県!$AA$29 -> 0 | BI43: 36 | BJ43: 徳島 | BK43: =[36]届出・徳島県!$Z$30 -> 0 | BL43: =[36]届出・徳島県!$AA$30 -> 0 | BM43: =[36]届出・徳島県!$Z$31 -> 0 | BN43: =[36]届出・徳島県!$AA$31 -> 0 | BO43: =[36]届出・徳島県!$Z$32 -> 0 | BP43: =[36]届出・徳島県!$AA$32 -> 0 | BQ43: =[36]届出・徳島県!$Z$33 -> 0 | BR43: =[36]届出・徳島県!$AA$33 -> 0 | BS43: =[36]届出・徳島県!$Z$34 -> 0 | BT43: =[36]届出・徳島県!$AA$34 -> 0 | BU43: =[36]届出・徳島県!$Z$35 -> 0 | BV43: =[36]届出・徳島県!$AA$35 -> 0 | BW43: =[36]届出・徳島県!$Z$36 -> 0 | BX43: =[36]届出・徳島県!$AA$36 -> 0 | BY43: =[36]届出・徳島県!$Z$37 -> 0 | BZ43: =[36]届出・徳島県!$AA$37 -> 0 | CA43: =[36]届出・徳島県!$Z$38 -> 0 | CB43: =[36]届出・徳島県!$AA$38 -> 0 | CC43: 36 | CD43: 徳島 | CE43: =[36]届出・徳島県!$Z$39 -> 0 | CF43: =[36]届出・徳島県!$AA$39 -> 0 | CG43: =[36]届出・徳島県!$Z$40 -> 0 | CH43: =[36]届出・徳島県!$AA$40 -> 0 | CI43: =[36]届出・徳島県!$Z$41 -> 1 | CJ43: =[36]届出・徳島県!$AA$41 -> 560 | CK43: =[36]届出・徳島県!$Z$42 -> 1 | CL43: =[36]届出・徳島県!$AA$42 -> 1000 | CM43: =[36]届出・徳島県!$Z$43 -> 0 | CN43: =[36]届出・徳島県!$AA$43 -> 0 | CO43: =[36]届出・徳島県!$Z$44 -> 0 | CP43: =[36]届出・徳島県!$AA$44 -> 0 | CQ43: =[36]届出・徳島県!$Z$45 -> 0 | CR43: =[36]届出・徳島県!$AA$45 -> 0 | CS43: =[36]届出・徳島県!$Z$46 -> 0 | CT43: =[36]届出・徳島県!$AA$46 -> 0 | CU43: 36 | CV43: 徳島 | CW43: =[36]届出・徳島県!$Z$47 -> 0 | CX43: =[36]届出・徳島県!$AA$47 -> 0 | CY43: =[36]届出・徳島県!$Z$51 -> 0 | CZ43: =[36]届出・徳島県!$AA$51 -> 0 | DA43: =[36]届出・徳島県!$Z$48 -> 0 | DB43: =[36]届出・徳島県!$AA$48 -> 0 | DC43: =[36]届出・徳島県!$Z$49 -> 0 | DD43: =[36]届出・徳島県!$AA$49 -> 0
A44: 37 | B44: 香川 | C44: =[37]届出・香川県!$Z$3 -> 0 | D44: =[37]届出・香川県!$AA$3 -> 0 | E44: =[37]届出・香川県!$Z$4 -> 0 | F44: =[37]届出・香川県!$AA$4 -> 0 | G44: =[37]届出・香川県!$Z$5 -> 0 | H44: =[37]届出・香川県!$AA$5 -> 0 | I44: =[37]届出・香川県!$Z$6 -> 0 | J44: =[37]届出・香川県!$AA$6 -> 0 | K44: =[37]届出・香川県!$Z$7 -> 0 | L44: =[37]届出・香川県!$AA$7 -> 0 | M44: =[37]届出・香川県!$Z$8 -> 0 | N44: =[37]届出・香川県!$AA$8 -> 0 | O44: =[37]届出・香川県!$Z$9 -> 3 | P44: =[37]届出・香川県!$AA$9 -> 4 | Q44: =[37]届出・香川県!$Z$10 -> 0 | R44: =[37]届出・香川県!$AA$10 -> 0 | S44: =[37]届出・香川県!$Z$11 -> 0 | T44: =[37]届出・香川県!$AA$11 -> 0 | U44: 37 | V44: 香川 | W44: =[37]届出・香川県!$Z$12 -> 0 | X44: =[37]届出・香川県!$AA$12 -> 0 | Y44: =[37]届出・香川県!$Z$13 -> 0 | Z44: =[37]届出・香川県!$AA$13 -> 0 | AA44: =[37]届出・香川県!$Z$14 -> 0 | AB44: =[37]届出・香川県!$AA$14 -> 0 | AC44: =[37]届出・香川県!$Z$15 -> 0 | AD44: =[37]届出・香川県!$AA$15 -> 0 | AE44: =[37]届出・香川県!$Z$16 -> 0 | AF44: =[37]届出・香川県!$AA$16 -> 0 | AG44: =[37]届出・香川県!$Z$17 -> 0 | AH44: =[37]届出・香川県!$AA$17 -> 0 | AI44: =[37]届出・香川県!$Z$18 -> 0 | AJ44: =[37]届出・香川県!$AA$18 -> 0 | AK44: =[37]届出・香川県!$Z$19 -> 0 | AL44: =[37]届出・香川県!$AA$19 -> 0 | AM44: =[37]届出・香川県!$Z$20 -> 0 | AN44: =[37]届出・香川県!$AA$20 -> 0 | AO44: 37 | AP44: 香川 | AQ44: =[37]届出・香川県!$Z$21 -> 0 | AR44: =[37]届出・香川県!$AA$21 -> 0 | AS44: =[37]届出・香川県!$Z$22 -> 0 | AT44: =[37]届出・香川県!$AA$22 -> 0 | AU44: =[37]届出・香川県!$Z$23 -> 0 | AV44: =[37]届出・香川県!$AA$23 -> 0 | AW44: =[37]届出・香川県!$Z$24 -> 0 | AX44: =[37]届出・香川県!$AA$24 -> 0 | AY44: =[37]届出・香川県!$Z$25 -> 0 | AZ44: =[37]届出・香川県!$AA$25 -> 0 | BA44: =[37]届出・香川県!$Z$26 -> 0 | BB44: =[37]届出・香川県!$AA$26 -> 0 | BC44: =[37]届出・香川県!$Z$27 -> 0 | BD44: =[37]届出・香川県!$AA$27 -> 0 | BE44: =[37]届出・香川県!$Z$28 -> 0 | BF44: =[37]届出・香川県!$AA$28 -> 0 | BG44: =[37]届出・香川県!$Z$29 -> 0 | BH44: =[37]届出・香川県!$AA$29 -> 0 | BI44: 37 | BJ44: 香川 | BK44: =[37]届出・香川県!$Z$30 -> 0 | BL44: =[37]届出・香川県!$AA$30 -> 0 | BM44: =[37]届出・香川県!$Z$31 -> 0 | BN44: =[37]届出・香川県!$AA$31 -> 0 | BO44: =[37]届出・香川県!$Z$32 -> 0 | BP44: =[37]届出・香川県!$AA$32 -> 0 | BQ44: =[37]届出・香川県!$Z$33 -> 2 | BR44: =[37]届出・香川県!$AA$33 -> 203 | BS44: =[37]届出・香川県!$Z$34 -> 0 | BT44: =[37]届出・香川県!$AA$34 -> 0 | BU44: =[37]届出・香川県!$Z$35 -> 0 | BV44: =[37]届出・香川県!$AA$35 -> 0 | BW44: =[37]届出・香川県!$Z$36 -> 0 | BX44: =[37]届出・香川県!$AA$36 -> 0 | BY44: =[37]届出・香川県!$Z$37 -> 1 | BZ44: =[37]届出・香川県!$AA$37 -> 11 | CA44: =[37]届出・香川県!$Z$38 -> 0 | CB44: =[37]届出・香川県!$AA$38 -> 0 | CC44: 37 | CD44: 香川 | CE44: =[37]届出・香川県!$Z$39 -> 0 | CF44: =[37]届出・香川県!$AA$39 -> 0 | CG44: =[37]届出・香川県!$Z$40 -> 0 | CH44: =[37]届出・香川県!$AA$40 -> 0 | CI44: =[37]届出・香川県!$Z$41 -> 2 | CJ44: =[37]届出・香川県!$AA$41 -> 52 | CK44: =[37]届出・香川県!$Z$42 -> 0 | CL44: =[37]届出・香川県!$AA$42 -> 0 | CM44: =[37]届出・香川県!$Z$43 -> 0 | CN44: =[37]届出・香川県!$AA$43 -> 0 | CO44: =[37]届出・香川県!$Z$44 -> 0 | CP44: =[37]届出・香川県!$AA$44 -> 0 | CQ44: =[37]届出・香川県!$Z$45 -> 0 | CR44: =[37]届出・香川県!$AA$45 -> 0 | CS44: =[37]届出・香川県!$Z$46 -> 0 | CT44: =[37]届出・香川県!$AA$46 -> 0 | CU44: 37 | CV44: 香川 | CW44: =[37]届出・香川県!$Z$47 -> 0 | CX44: =[37]届出・香川県!$AA$47 -> 0 | CY44: =[37]届出・香川県!$Z$51 -> 0 | CZ44: =[37]届出・香川県!$AA$51 -> 0 | DA44: =[37]届出・香川県!$Z$48 -> 0 | DB44: =[37]届出・香川県!$AA$48 -> 0 | DC44: =[37]届出・香川県!$Z$49 -> 0 | DD44: =[37]届出・香川県!$AA$49 -> 0
A45: 38 | B45: 愛媛 | C45: =[38]届出・愛媛県!$Z$3 -> 1 | D45: =[38]届出・愛媛県!$AA$3 -> 1 | E45: =[38]届出・愛媛県!$Z$4 -> 0 | F45: =[38]届出・愛媛県!$AA$4 -> 0 | G45: =[38]届出・愛媛県!$Z$5 -> 0 | H45: =[38]届出・愛媛県!$AA$5 -> 0 | I45: =[38]届出・愛媛県!$Z$6 -> 0 | J45: =[38]届出・愛媛県!$AA$6 -> 0 | K45: =[38]届出・愛媛県!$Z$7 -> 0 | L45: =[38]届出・愛媛県!$AA$7 -> 0 | M45: =[38]届出・愛媛県!$Z$8 -> 0 | N45: =[38]届出・愛媛県!$AA$8 -> 0 | O45: =[38]届出・愛媛県!$Z$9 -> 0 | P45: =[38]届出・愛媛県!$AA$9 -> 0 | Q45: =[38]届出・愛媛県!$Z$10 -> 0 | R45: =[38]届出・愛媛県!$AA$10 -> 0 | S45: =[38]届出・愛媛県!$Z$11 -> 0 | T45: =[38]届出・愛媛県!$AA$11 -> 0 | U45: 38 | V45: 愛媛 | W45: =[38]届出・愛媛県!$Z$12 -> 0 | X45: =[38]届出・愛媛県!$AA$12 -> 0 | Y45: =[38]届出・愛媛県!$Z$13 -> 0 | Z45: =[38]届出・愛媛県!$AA$13 -> 0 | AA45: =[38]届出・愛媛県!$Z$14 -> 0 | AB45: =[38]届出・愛媛県!$AA$14 -> 0 | AC45: =[38]届出・愛媛県!$Z$15 -> 0 | AD45: =[38]届出・愛媛県!$AA$15 -> 0 | AE45: =[38]届出・愛媛県!$Z$16 -> 1 | AF45: =[38]届出・愛媛県!$AA$16 -> 1 | AG45: =[38]届出・愛媛県!$Z$17 -> 0 | AH45: =[38]届出・愛媛県!$AA$17 -> 0 | AI45: =[38]届出・愛媛県!$Z$18 -> 1 | AJ45: =[38]届出・愛媛県!$AA$18 -> 1 | AK45: =[38]届出・愛媛県!$Z$19 -> 1 | AL45: =[38]届出・愛媛県!$AA$19 -> 2 | AM45: =[38]届出・愛媛県!$Z$20 -> 0 | AN45: =[38]届出・愛媛県!$AA$20 -> 0 | AO45: 38 | AP45: 愛媛 | AQ45: =[38]届出・愛媛県!$Z$21 -> 0 | AR45: =[38]届出・愛媛県!$AA$21 -> 0 | AS45: =[38]届出・愛媛県!$Z$22 -> 0 | AT45: =[38]届出・愛媛県!$AA$22 -> 0 | AU45: =[38]届出・愛媛県!$Z$23 -> 0 | AV45: =[38]届出・愛媛県!$AA$23 -> 0 | AW45: =[38]届出・愛媛県!$Z$24 -> 0 | AX45: =[38]届出・愛媛県!$AA$24 -> 0 | AY45: =[38]届出・愛媛県!$Z$25 -> 0 | AZ45: =[38]届出・愛媛県!$AA$25 -> 0 | BA45: =[38]届出・愛媛県!$Z$26 -> 0 | BB45: =[38]届出・愛媛県!$AA$26 -> 0 | BC45: =[38]届出・愛媛県!$Z$27 -> 0 | BD45: =[38]届出・愛媛県!$AA$27 -> 0 | BE45: =[38]届出・愛媛県!$Z$28 -> 0 | BF45: =[38]届出・愛媛県!$AA$28 -> 0 | BG45: =[38]届出・愛媛県!$Z$29 -> 0 | BH45: =[38]届出・愛媛県!$AA$29 -> 0 | BI45: 38 | BJ45: 愛媛 | BK45: =[38]届出・愛媛県!$Z$30 -> 0 | BL45: =[38]届出・愛媛県!$AA$30 -> 0 | BM45: =[38]届出・愛媛県!$Z$31 -> 0 | BN45: =[38]届出・愛媛県!$AA$31 -> 0 | BO45: =[38]届出・愛媛県!$Z$32 -> 0 | BP45: =[38]届出・愛媛県!$AA$32 -> 0 | BQ45: =[38]届出・愛媛県!$Z$33 -> 0 | BR45: =[38]届出・愛媛県!$AA$33 -> 0 | BS45: =[38]届出・愛媛県!$Z$34 -> 0 | BT45: =[38]届出・愛媛県!$AA$34 -> 0 | BU45: =[38]届出・愛媛県!$Z$35 -> 0 | BV45: =[38]届出・愛媛県!$AA$35 -> 0 | BW45: =[38]届出・愛媛県!$Z$36 -> 0 | BX45: =[38]届出・愛媛県!$AA$36 -> 0 | BY45: =[38]届出・愛媛県!$Z$37 -> 113 | BZ45: =[38]届出・愛媛県!$AA$37 -> 130 | CA45: =[38]届出・愛媛県!$Z$38 -> 0 | CB45: =[38]届出・愛媛県!$AA$38 -> 0 | CC45: 38 | CD45: 愛媛 | CE45: =[38]届出・愛媛県!$Z$39 -> 0 | CF45: =[38]届出・愛媛県!$AA$39 -> 0 | CG45: =[38]届出・愛媛県!$Z$40 -> 0 | CH45: =[38]届出・愛媛県!$AA$40 -> 0 | CI45: =[38]届出・愛媛県!$Z$41 -> 1 | CJ45: =[38]届出・愛媛県!$AA$41 -> 190 | CK45: =[38]届出・愛媛県!$Z$42 -> 0 | CL45: =[38]届出・愛媛県!$AA$42 -> 0 | CM45: =[38]届出・愛媛県!$Z$43 -> 1 | CN45: =[38]届出・愛媛県!$AA$43 -> 1350 | CO45: =[38]届出・愛媛県!$Z$44 -> 0 | CP45: =[38]届出・愛媛県!$AA$44 -> 0 | CQ45: =[38]届出・愛媛県!$Z$45 -> 0 | CR45: =[38]届出・愛媛県!$AA$45 -> 0 | CS45: =[38]届出・愛媛県!$Z$46 -> 0 | CT45: =[38]届出・愛媛県!$AA$46 -> 0 | CU45: 38 | CV45: 愛媛 | CW45: =[38]届出・愛媛県!$Z$47 -> 0 | CX45: =[38]届出・愛媛県!$AA$47 -> 0 | CY45: =[38]届出・愛媛県!$Z$51 -> 0 | CZ45: =[38]届出・愛媛県!$AA$51 -> 0 | DA45: =[38]届出・愛媛県!$Z$48 -> 0 | DB45: =[38]届出・愛媛県!$AA$48 -> 0 | DC45: =[38]届出・愛媛県!$Z$49 -> 0 | DD45: =[38]届出・愛媛県!$AA$49 -> 0
A46: 39 | B46: 高知 | C46: =[39]届出・高知県!$Z$3 -> 0 | D46: =[39]届出・高知県!$AA$3 -> 0 | E46: =[39]届出・高知県!$Z$4 -> 0 | F46: =[39]届出・高知県!$AA$4 -> 0 | G46: =[39]届出・高知県!$Z$5 -> 0 | H46: =[39]届出・高知県!$AA$5 -> 0 | I46: =[39]届出・高知県!$Z$6 -> 0 | J46: =[39]届出・高知県!$AA$6 -> 0 | K46: =[39]届出・高知県!$Z$7 -> 0 | L46: =[39]届出・高知県!$AA$7 -> 0 | M46: =[39]届出・高知県!$Z$8 -> 0 | N46: =[39]届出・高知県!$AA$8 -> 0 | O46: =[39]届出・高知県!$Z$9 -> 0 | P46: =[39]届出・高知県!$AA$9 -> 0 | Q46: =[39]届出・高知県!$Z$10 -> 0 | R46: =[39]届出・高知県!$AA$10 -> 0 | S46: =[39]届出・高知県!$Z$11 -> 0 | T46: =[39]届出・高知県!$AA$11 -> 0 | U46: 39 | V46: 高知 | W46: =[39]届出・高知県!$Z$12 -> 0 | X46: =[39]届出・高知県!$AA$12 -> 0 | Y46: =[39]届出・高知県!$Z$13 -> 0 | Z46: =[39]届出・高知県!$AA$13 -> 0 | AA46: =[39]届出・高知県!$Z$14 -> 0 | AB46: =[39]届出・高知県!$AA$14 -> 0 | AC46: =[39]届出・高知県!$Z$15 -> 0 | AD46: =[39]届出・高知県!$AA$15 -> 0 | AE46: =[39]届出・高知県!$Z$16 -> 2 | AF46: =[39]届出・高知県!$AA$16 -> 2 | AG46: =[39]届出・高知県!$Z$17 -> 0 | AH46: =[39]届出・高知県!$AA$17 -> 0 | AI46: =[39]届出・高知県!$Z$18 -> 0 | AJ46: =[39]届出・高知県!$AA$18 -> 0 | AK46: =[39]届出・高知県!$Z$19 -> 0 | AL46: =[39]届出・高知県!$AA$19 -> 0 | AM46: =[39]届出・高知県!$Z$20 -> 0 | AN46: =[39]届出・高知県!$AA$20 -> 0 | AO46: 39 | AP46: 高知 | AQ46: =[39]届出・高知県!$Z$21 -> 0 | AR46: =[39]届出・高知県!$AA$21 -> 0 | AS46: =[39]届出・高知県!$Z$22 -> 0 | AT46: =[39]届出・高知県!$AA$22 -> 0 | AU46: =[39]届出・高知県!$Z$23 -> 0 | AV46: =[39]届出・高知県!$AA$23 -> 0 | AW46: =[39]届出・高知県!$Z$24 -> 0 | AX46: =[39]届出・高知県!$AA$24 -> 0 | AY46: =[39]届出・高知県!$Z$25 -> 0 | AZ46: =[39]届出・高知県!$AA$25 -> 0 | BA46: =[39]届出・高知県!$Z$26 -> 0 | BB46: =[39]届出・高知県!$AA$26 -> 0 | BC46: =[39]届出・高知県!$Z$27 -> 0 | BD46: =[39]届出・高知県!$AA$27 -> 0 | BE46: =[39]届出・高知県!$Z$28 -> 0 | BF46: =[39]届出・高知県!$AA$28 -> 0 | BG46: =[39]届出・高知県!$Z$29 -> 0 | BH46: =[39]届出・高知県!$AA$29 -> 0 | BI46: 39 | BJ46: 高知 | BK46: =[39]届出・高知県!$Z$30 -> 0 | BL46: =[39]届出・高知県!$AA$30 -> 0 | BM46: =[39]届出・高知県!$Z$31 -> 0 | BN46: =[39]届出・高知県!$AA$31 -> 0 | BO46: =[39]届出・高知県!$Z$32 -> 0 | BP46: =[39]届出・高知県!$AA$32 -> 0 | BQ46: =[39]届出・高知県!$Z$33 -> 0 | BR46: =[39]届出・高知県!$AA$33 -> 0 | BS46: =[39]届出・高知県!$Z$34 -> 0 | BT46: =[39]届出・高知県!$AA$34 -> 0 | BU46: =[39]届出・高知県!$Z$35 -> 0 | BV46: =[39]届出・高知県!$AA$35 -> 0 | BW46: =[39]届出・高知県!$Z$36 -> 0 | BX46: =[39]届出・高知県!$AA$36 -> 0 | BY46: =[39]届出・高知県!$Z$37 -> 0 | BZ46: =[39]届出・高知県!$AA$37 -> 0 | CA46: =[39]届出・高知県!$Z$38 -> 0 | CB46: =[39]届出・高知県!$AA$38 -> 0 | CC46: 39 | CD46: 高知 | CE46: =[39]届出・高知県!$Z$39 -> 0 | CF46: =[39]届出・高知県!$AA$39 -> 0 | CG46: =[39]届出・高知県!$Z$40 -> 2 | CH46: =[39]届出・高知県!$AA$40 -> 101 | CI46: =[39]届出・高知県!$Z$41 -> 2 | CJ46: =[39]届出・高知県!$AA$41 -> 101 | CK46: =[39]届出・高知県!$Z$42 -> 0 | CL46: =[39]届出・高知県!$AA$42 -> 0 | CM46: =[39]届出・高知県!$Z$43 -> 0 | CN46: =[39]届出・高知県!$AA$43 -> 0 | CO46: =[39]届出・高知県!$Z$44 -> 0 | CP46: =[39]届出・高知県!$AA$44 -> 0 | CQ46: =[39]届出・高知県!$Z$45 -> 0 | CR46: =[39]届出・高知県!$AA$45 -> 0 | CS46: =[39]届出・高知県!$Z$46 -> 0 | CT46: =[39]届出・高知県!$AA$46 -> 0 | CU46: 39 | CV46: 高知 | CW46: =[39]届出・高知県!$Z$47 -> 0 | CX46: =[39]届出・高知県!$AA$47 -> 0 | CY46: =[39]届出・高知県!$Z$51 -> 0 | CZ46: =[39]届出・高知県!$AA$51 -> 0 | DA46: =[39]届出・高知県!$Z$48 -> 0 | DB46: =[39]届出・高知県!$AA$48 -> 0 | DC46: =[39]届出・高知県!$Z$49 -> 0 | DD46: =[39]届出・高知県!$AA$49 -> 0
A47: 40 | B47: 福岡 | C47: =[40]届出・福岡県!$Z$3 -> 5 | D47: =[40]届出・福岡県!$AA$3 -> 5 | E47: =[40]届出・福岡県!$Z$4 -> 0 | F47: =[40]届出・福岡県!$AA$4 -> 0 | G47: =[40]届出・福岡県!$Z$5 -> 0 | H47: =[40]届出・福岡県!$AA$5 -> 0 | I47: =[40]届出・福岡県!$Z$6 -> 0 | J47: =[40]届出・福岡県!$AA$6 -> 0 | K47: =[40]届出・福岡県!$Z$7 -> 0 | L47: =[40]届出・福岡県!$AA$7 -> 0 | M47: =[40]届出・福岡県!$Z$8 -> 3 | N47: =[40]届出・福岡県!$AA$8 -> 5 | O47: =[40]届出・福岡県!$Z$9 -> 2 | P47: =[40]届出・福岡県!$AA$9 -> 2 | Q47: =[40]届出・福岡県!$Z$10 -> 0 | R47: =[40]届出・福岡県!$AA$10 -> 0 | S47: =[40]届出・福岡県!$Z$11 -> 0 | T47: =[40]届出・福岡県!$AA$11 -> 0 | U47: 40 | V47: 福岡 | W47: =[40]届出・福岡県!$Z$12 -> 0 | X47: =[40]届出・福岡県!$AA$12 -> 0 | Y47: =[40]届出・福岡県!$Z$13 -> 1 | Z47: =[40]届出・福岡県!$AA$13 -> 1 | AA47: =[40]届出・福岡県!$Z$14 -> 0 | AB47: =[40]届出・福岡県!$AA$14 -> 0 | AC47: =[40]届出・福岡県!$Z$15 -> 0 | AD47: =[40]届出・福岡県!$AA$15 -> 0 | AE47: =[40]届出・福岡県!$Z$16 -> 12 | AF47: =[40]届出・福岡県!$AA$16 -> 14 | AG47: =[40]届出・福岡県!$Z$17 -> 0 | AH47: =[40]届出・福岡県!$AA$17 -> 0 | AI47: =[40]届出・福岡県!$Z$18 -> 0 | AJ47: =[40]届出・福岡県!$AA$18 -> 0 | AK47: =[40]届出・福岡県!$Z$19 -> 0 | AL47: =[40]届出・福岡県!$AA$19 -> 0 | AM47: =[40]届出・福岡県!$Z$20 -> 0 | AN47: =[40]届出・福岡県!$AA$20 -> 0 | AO47: 40 | AP47: 福岡 | AQ47: =[40]届出・福岡県!$Z$21 -> 0 | AR47: =[40]届出・福岡県!$AA$21 -> 0 | AS47: =[40]届出・福岡県!$Z$22 -> 0 | AT47: =[40]届出・福岡県!$AA$22 -> 0 | AU47: =[40]届出・福岡県!$Z$23 -> 0 | AV47: =[40]届出・福岡県!$AA$23 -> 0 | AW47: =[40]届出・福岡県!$Z$24 -> 3 | AX47: =[40]届出・福岡県!$AA$24 -> 3 | AY47: =[40]届出・福岡県!$Z$25 -> 0 | AZ47: =[40]届出・福岡県!$AA$25 -> 0 | BA47: =[40]届出・福岡県!$Z$26 -> 0 | BB47: =[40]届出・福岡県!$AA$26 -> 0 | BC47: =[40]届出・福岡県!$Z$27 -> 0 | BD47: =[40]届出・福岡県!$AA$27 -> 0 | BE47: =[40]届出・福岡県!$Z$28 -> 0 | BF47: =[40]届出・福岡県!$AA$28 -> 0 | BG47: =[40]届出・福岡県!$Z$29 -> 0 | BH47: =[40]届出・福岡県!$AA$29 -> 0 | BI47: 40 | BJ47: 福岡 | BK47: =[40]届出・福岡県!$Z$30 -> 0 | BL47: =[40]届出・福岡県!$AA$30 -> 0 | BM47: =[40]届出・福岡県!$Z$31 -> 0 | BN47: =[40]届出・福岡県!$AA$31 -> 0 | BO47: =[40]届出・福岡県!$Z$32 -> 0 | BP47: =[40]届出・福岡県!$AA$32 -> 0 | BQ47: =[40]届出・福岡県!$Z$33 -> 0 | BR47: =[40]届出・福岡県!$AA$33 -> 0 | BS47: =[40]届出・福岡県!$Z$34 -> 0 | BT47: =[40]届出・福岡県!$AA$34 -> 0 | BU47: =[40]届出・福岡県!$Z$35 -> 0 | BV47: =[40]届出・福岡県!$AA$35 -> 0 | BW47: =[40]届出・福岡県!$Z$36 -> 1 | BX47: =[40]届出・福岡県!$AA$36 -> 10 | BY47: =[40]届出・福岡県!$Z$37 -> 22 | BZ47: =[40]届出・福岡県!$AA$37 -> 24 | CA47: =[40]届出・福岡県!$Z$38 -> 0 | CB47: =[40]届出・福岡県!$AA$38 -> 0 | CC47: 40 | CD47: 福岡 | CE47: =[40]届出・福岡県!$Z$39 -> 1 | CF47: =[40]届出・福岡県!$AA$39 -> 1 | CG47: =[40]届出・福岡県!$Z$40 -> 0 | CH47: =[40]届出・福岡県!$AA$40 -> 0 | CI47: =[40]届出・福岡県!$Z$41 -> 1 | CJ47: =[40]届出・福岡県!$AA$41 -> 90 | CK47: =[40]届出・福岡県!$Z$42 -> 0 | CL47: =[40]届出・福岡県!$AA$42 -> 0 | CM47: =[40]届出・福岡県!$Z$43 -> 0 | CN47: =[40]届出・福岡県!$AA$43 -> 0 | CO47: =[40]届出・福岡県!$Z$44 -> 0 | CP47: =[40]届出・福岡県!$AA$44 -> 0 | CQ47: =[40]届出・福岡県!$Z$45 -> 0 | CR47: =[40]届出・福岡県!$AA$45 -> 0 | CS47: =[40]届出・福岡県!$Z$46 -> 0 | CT47: =[40]届出・福岡県!$AA$46 -> 0 | CU47: 40 | CV47: 福岡 | CW47: =[40]届出・福岡県!$Z$47 -> 0 | CX47: =[40]届出・福岡県!$AA$47 -> 0 | CY47: =[40]届出・福岡県!$Z$51 -> 0 | CZ47: =[40]届出・福岡県!$AA$51 -> 0 | DA47: =[40]届出・福岡県!$Z$48 -> 0 | DB47: =[40]届出・福岡県!$AA$48 -> 0 | DC47: =[40]届出・福岡県!$Z$49 -> 0 | DD47: =[40]届出・福岡県!$AA$49 -> 0
A48: 41 | B48: 佐賀 | C48: =[41]届出・佐賀県!$Z$3 -> 1 | D48: =[41]届出・佐賀県!$AA$3 -> 1 | E48: =[41]届出・佐賀県!$Z$4 -> 0 | F48: =[41]届出・佐賀県!$AA$4 -> 0 | G48: =[41]届出・佐賀県!$Z$5 -> 0 | H48: =[41]届出・佐賀県!$AA$5 -> 0 | I48: =[41]届出・佐賀県!$Z$6 -> 0 | J48: =[41]届出・佐賀県!$AA$6 -> 0 | K48: =[41]届出・佐賀県!$Z$7 -> 0 | L48: =[41]届出・佐賀県!$AA$7 -> 0 | M48: =[41]届出・佐賀県!$Z$8 -> 0 | N48: =[41]届出・佐賀県!$AA$8 -> 0 | O48: =[41]届出・佐賀県!$Z$9 -> 1 | P48: =[41]届出・佐賀県!$AA$9 -> 1 | Q48: =[41]届出・佐賀県!$Z$10 -> 0 | R48: =[41]届出・佐賀県!$AA$10 -> 0 | S48: =[41]届出・佐賀県!$Z$11 -> 0 | T48: =[41]届出・佐賀県!$AA$11 -> 0 | U48: 41 | V48: 佐賀 | W48: =[41]届出・佐賀県!$Z$12 -> 0 | X48: =[41]届出・佐賀県!$AA$12 -> 0 | Y48: =[41]届出・佐賀県!$Z$13 -> 4 | Z48: =[41]届出・佐賀県!$AA$13 -> 4 | AA48: =[41]届出・佐賀県!$Z$14 -> 0 | AB48: =[41]届出・佐賀県!$AA$14 -> 0 | AC48: =[41]届出・佐賀県!$Z$15 -> 0 | AD48: =[41]届出・佐賀県!$AA$15 -> 0 | AE48: =[41]届出・佐賀県!$Z$16 -> 3 | AF48: =[41]届出・佐賀県!$AA$16 -> 3 | AG48: =[41]届出・佐賀県!$Z$17 -> 0 | AH48: =[41]届出・佐賀県!$AA$17 -> 0 | AI48: =[41]届出・佐賀県!$Z$18 -> 0 | AJ48: =[41]届出・佐賀県!$AA$18 -> 0 | AK48: =[41]届出・佐賀県!$Z$19 -> 1 | AL48: =[41]届出・佐賀県!$AA$19 -> 160 | AM48: =[41]届出・佐賀県!$Z$20 -> 0 | AN48: =[41]届出・佐賀県!$AA$20 -> 0 | AO48: 41 | AP48: 佐賀 | AQ48: =[41]届出・佐賀県!$Z$21 -> 0 | AR48: =[41]届出・佐賀県!$AA$21 -> 0 | AS48: =[41]届出・佐賀県!$Z$22 -> 0 | AT48: =[41]届出・佐賀県!$AA$22 -> 0 | AU48: =[41]届出・佐賀県!$Z$23 -> 0 | AV48: =[41]届出・佐賀県!$AA$23 -> 0 | AW48: =[41]届出・佐賀県!$Z$24 -> 0 | AX48: =[41]届出・佐賀県!$AA$24 -> 0 | AY48: =[41]届出・佐賀県!$Z$25 -> 0 | AZ48: =[41]届出・佐賀県!$AA$25 -> 0 | BA48: =[41]届出・佐賀県!$Z$26 -> 0 | BB48: =[41]届出・佐賀県!$AA$26 -> 0 | BC48: =[41]届出・佐賀県!$Z$27 -> 0 | BD48: =[41]届出・佐賀県!$AA$27 -> 0 | BE48: =[41]届出・佐賀県!$Z$28 -> 0 | BF48: =[41]届出・佐賀県!$AA$28 -> 0 | BG48: =[41]届出・佐賀県!$Z$29 -> 0 | BH48: =[41]届出・佐賀県!$AA$29 -> 0 | BI48: 41 | BJ48: 佐賀 | BK48: =[41]届出・佐賀県!$Z$30 -> 0 | BL48: =[41]届出・佐賀県!$AA$30 -> 0 | BM48: =[41]届出・佐賀県!$Z$31 -> 0 | BN48: =[41]届出・佐賀県!$AA$31 -> 0 | BO48: =[41]届出・佐賀県!$Z$32 -> 0 | BP48: =[41]届出・佐賀県!$AA$32 -> 0 | BQ48: =[41]届出・佐賀県!$Z$33 -> 0 | BR48: =[41]届出・佐賀県!$AA$33 -> 0 | BS48: =[41]届出・佐賀県!$Z$34 -> 0 | BT48: =[41]届出・佐賀県!$AA$34 -> 0 | BU48: =[41]届出・佐賀県!$Z$35 -> 0 | BV48: =[41]届出・佐賀県!$AA$35 -> 0 | BW48: =[41]届出・佐賀県!$Z$36 -> 0 | BX48: =[41]届出・佐賀県!$AA$36 -> 0 | BY48: =[41]届出・佐賀県!$Z$37 -> 5 | BZ48: =[41]届出・佐賀県!$AA$37 -> 5 | CA48: =[41]届出・佐賀県!$Z$38 -> 0 | CB48: =[41]届出・佐賀県!$AA$38 -> 0 | CC48: 41 | CD48: 佐賀 | CE48: =[41]届出・佐賀県!$Z$39 -> 0 | CF48: =[41]届出・佐賀県!$AA$39 -> 0 | CG48: =[41]届出・佐賀県!$Z$40 -> 0 | CH48: =[41]届出・佐賀県!$AA$40 -> 0 | CI48: =[41]届出・佐賀県!$Z$41 -> 1 | CJ48: =[41]届出・佐賀県!$AA$41 -> 1 | CK48: =[41]届出・佐賀県!$Z$42 -> 0 | CL48: =[41]届出・佐賀県!$AA$42 -> 0 | CM48: =[41]届出・佐賀県!$Z$43 -> 0 | CN48: =[41]届出・佐賀県!$AA$43 -> 0 | CO48: =[41]届出・佐賀県!$Z$44 -> 0 | CP48: =[41]届出・佐賀県!$AA$44 -> 0 | CQ48: =[41]届出・佐賀県!$Z$45 -> 1 | CR48: =[41]届出・佐賀県!$AA$45 -> 1 | CS48: =[41]届出・佐賀県!$Z$46 -> 0 | CT48: =[41]届出・佐賀県!$AA$46 -> 0 | CU48: 41 | CV48: 佐賀 | CW48: =[41]届出・佐賀県!$Z$47 -> 0 | CX48: =[41]届出・佐賀県!$AA$47 -> 0 | CY48: =[41]届出・佐賀県!$Z$51 -> 0 | CZ48: =[41]届出・佐賀県!$AA$51 -> 0 | DA48: =[41]届出・佐賀県!$Z$48 -> 0 | DB48: =[41]届出・佐賀県!$AA$48 -> 0 | DC48: =[41]届出・佐賀県!$Z$49 -> 0 | DD48: =[41]届出・佐賀県!$AA$49 -> 0
A49: 42 | B49: 長崎 | C49: =[42]届出・長崎県!$Z$3 -> 0 | D49: =[42]届出・長崎県!$AA$3 -> 0 | E49: =[42]届出・長崎県!$Z$4 -> 0 | F49: =[42]届出・長崎県!$AA$4 -> 0 | G49: =[42]届出・長崎県!$Z$5 -> 0 | H49: =[42]届出・長崎県!$AA$5 -> 0 | I49: =[42]届出・長崎県!$Z$6 -> 0 | J49: =[42]届出・長崎県!$AA$6 -> 0 | K49: =[42]届出・長崎県!$Z$7 -> 0 | L49: =[42]届出・長崎県!$AA$7 -> 0 | M49: =[42]届出・長崎県!$Z$8 -> 0 | N49: =[42]届出・長崎県!$AA$8 -> 0 | O49: =[42]届出・長崎県!$Z$9 -> 4 | P49: =[42]届出・長崎県!$AA$9 -> 4 | Q49: =[42]届出・長崎県!$Z$10 -> 0 | R49: =[42]届出・長崎県!$AA$10 -> 0 | S49: =[42]届出・長崎県!$Z$11 -> 0 | T49: =[42]届出・長崎県!$AA$11 -> 0 | U49: 42 | V49: 長崎 | W49: =[42]届出・長崎県!$Z$12 -> 0 | X49: =[42]届出・長崎県!$AA$12 -> 0 | Y49: =[42]届出・長崎県!$Z$13 -> 1 | Z49: =[42]届出・長崎県!$AA$13 -> 1 | AA49: =[42]届出・長崎県!$Z$14 -> 0 | AB49: =[42]届出・長崎県!$AA$14 -> 0 | AC49: =[42]届出・長崎県!$Z$15 -> 0 | AD49: =[42]届出・長崎県!$AA$15 -> 0 | AE49: =[42]届出・長崎県!$Z$16 -> 2 | AF49: =[42]届出・長崎県!$AA$16 -> 2 | AG49: =[42]届出・長崎県!$Z$17 -> 0 | AH49: =[42]届出・長崎県!$AA$17 -> 0 | AI49: =[42]届出・長崎県!$Z$18 -> 0 | AJ49: =[42]届出・長崎県!$AA$18 -> 0 | AK49: =[42]届出・長崎県!$Z$19 -> 4 | AL49: =[42]届出・長崎県!$AA$19 -> 13 | AM49: =[42]届出・長崎県!$Z$20 -> 0 | AN49: =[42]届出・長崎県!$AA$20 -> 0 | AO49: 42 | AP49: 長崎 | AQ49: =[42]届出・長崎県!$Z$21 -> 0 | AR49: =[42]届出・長崎県!$AA$21 -> 0 | AS49: =[42]届出・長崎県!$Z$22 -> 0 | AT49: =[42]届出・長崎県!$AA$22 -> 0 | AU49: =[42]届出・長崎県!$Z$23 -> 0 | AV49: =[42]届出・長崎県!$AA$23 -> 0 | AW49: =[42]届出・長崎県!$Z$24 -> 0 | AX49: =[42]届出・長崎県!$AA$24 -> 0 | AY49: =[42]届出・長崎県!$Z$25 -> 0 | AZ49: =[42]届出・長崎県!$AA$25 -> 0 | BA49: =[42]届出・長崎県!$Z$26 -> 0 | BB49: =[42]届出・長崎県!$AA$26 -> 0 | BC49: =[42]届出・長崎県!$Z$27 -> 0 | BD49: =[42]届出・長崎県!$AA$27 -> 0 | BE49: =[42]届出・長崎県!$Z$28 -> 0 | BF49: =[42]届出・長崎県!$AA$28 -> 0 | BG49: =[42]届出・長崎県!$Z$29 -> 0 | BH49: =[42]届出・長崎県!$AA$29 -> 0 | BI49: 42 | BJ49: 長崎 | BK49: =[42]届出・長崎県!$Z$30 -> 0 | BL49: =[42]届出・長崎県!$AA$30 -> 0 | BM49: =[42]届出・長崎県!$Z$31 -> 0 | BN49: =[42]届出・長崎県!$AA$31 -> 0 | BO49: =[42]届出・長崎県!$Z$32 -> 1 | BP49: =[42]届出・長崎県!$AA$32 -> 40 | BQ49: =[42]届出・長崎県!$Z$33 -> 1 | BR49: =[42]届出・長崎県!$AA$33 -> 5 | BS49: =[42]届出・長崎県!$Z$34 -> 0 | BT49: =[42]届出・長崎県!$AA$34 -> 0 | BU49: =[42]届出・長崎県!$Z$35 -> 0 | BV49: =[42]届出・長崎県!$AA$35 -> 0 | BW49: =[42]届出・長崎県!$Z$36 -> 0 | BX49: =[42]届出・長崎県!$AA$36 -> 0 | BY49: =[42]届出・長崎県!$Z$37 -> 41 | BZ49: =[42]届出・長崎県!$AA$37 -> 151 | CA49: =[42]届出・長崎県!$Z$38 -> 0 | CB49: =[42]届出・長崎県!$AA$38 -> 0 | CC49: 42 | CD49: 長崎 | CE49: =[42]届出・長崎県!$Z$39 -> 0 | CF49: =[42]届出・長崎県!$AA$39 -> 0 | CG49: =[42]届出・長崎県!$Z$40 -> 0 | CH49: =[42]届出・長崎県!$AA$40 -> 0 | CI49: =[42]届出・長崎県!$Z$41 -> 0 | CJ49: =[42]届出・長崎県!$AA$41 -> 0 | CK49: =[42]届出・長崎県!$Z$42 -> 0 | CL49: =[42]届出・長崎県!$AA$42 -> 0 | CM49: =[42]届出・長崎県!$Z$43 -> 0 | CN49: =[42]届出・長崎県!$AA$43 -> 0 | CO49: =[42]届出・長崎県!$Z$44 -> 0 | CP49: =[42]届出・長崎県!$AA$44 -> 0 | CQ49: =[42]届出・長崎県!$Z$45 -> 0 | CR49: =[42]届出・長崎県!$AA$45 -> 0 | CS49: =[42]届出・長崎県!$Z$46 -> 0 | CT49: =[42]届出・長崎県!$AA$46 -> 0 | CU49: 42 | CV49: 長崎 | CW49: =[42]届出・長崎県!$Z$47 -> 0 | CX49: =[42]届出・長崎県!$AA$47 -> 0 | CY49: =[42]届出・長崎県!$Z$51 -> 0 | CZ49: =[42]届出・長崎県!$AA$51 -> 0 | DA49: =[42]届出・長崎県!$Z$48 -> 0 | DB49: =[42]届出・長崎県!$AA$48 -> 0 | DC49: =[42]届出・長崎県!$Z$49 -> 0 | DD49: =[42]届出・長崎県!$AA$49 -> 0
A50: 43 | B50: 熊本 | C50: =[43]届出・熊本県!$Z$3 -> 0 | D50: =[43]届出・熊本県!$AA$3 -> 0 | E50: =[43]届出・熊本県!$Z$4 -> 0 | F50: =[43]届出・熊本県!$AA$4 -> 0 | G50: =[43]届出・熊本県!$Z$5 -> 0 | H50: =[43]届出・熊本県!$AA$5 -> 0 | I50: =[43]届出・熊本県!$Z$6 -> 1 | J50: =[43]届出・熊本県!$AA$6 -> 1 | K50: =[43]届出・熊本県!$Z$7 -> 0 | L50: =[43]届出・熊本県!$AA$7 -> 0 | M50: =[43]届出・熊本県!$Z$8 -> 0 | N50: =[43]届出・熊本県!$AA$8 -> 0 | O50: =[43]届出・熊本県!$Z$9 -> 9 | P50: =[43]届出・熊本県!$AA$9 -> 9 | Q50: =[43]届出・熊本県!$Z$10 -> 0 | R50: =[43]届出・熊本県!$AA$10 -> 0 | S50: =[43]届出・熊本県!$Z$11 -> 0 | T50: =[43]届出・熊本県!$AA$11 -> 0 | U50: 43 | V50: 熊本 | W50: =[43]届出・熊本県!$Z$12 -> 0 | X50: =[43]届出・熊本県!$AA$12 -> 0 | Y50: =[43]届出・熊本県!$Z$13 -> 0 | Z50: =[43]届出・熊本県!$AA$13 -> 0 | AA50: =[43]届出・熊本県!$Z$14 -> 0 | AB50: =[43]届出・熊本県!$AA$14 -> 0 | AC50: =[43]届出・熊本県!$Z$15 -> 0 | AD50: =[43]届出・熊本県!$AA$15 -> 0 | AE50: =[43]届出・熊本県!$Z$16 -> 2 | AF50: =[43]届出・熊本県!$AA$16 -> 2 | AG50: =[43]届出・熊本県!$Z$17 -> 0 | AH50: =[43]届出・熊本県!$AA$17 -> 0 | AI50: =[43]届出・熊本県!$Z$18 -> 11 | AJ50: =[43]届出・熊本県!$AA$18 -> 18 | AK50: =[43]届出・熊本県!$Z$19 -> 0 | AL50: =[43]届出・熊本県!$AA$19 -> 0 | AM50: =[43]届出・熊本県!$Z$20 -> 0 | AN50: =[43]届出・熊本県!$AA$20 -> 0 | AO50: 43 | AP50: 熊本 | AQ50: =[43]届出・熊本県!$Z$21 -> 0 | AR50: =[43]届出・熊本県!$AA$21 -> 0 | AS50: =[43]届出・熊本県!$Z$22 -> 0 | AT50: =[43]届出・熊本県!$AA$22 -> 0 | AU50: =[43]届出・熊本県!$Z$23 -> 0 | AV50: =[43]届出・熊本県!$AA$23 -> 0 | AW50: =[43]届出・熊本県!$Z$24 -> 0 | AX50: =[43]届出・熊本県!$AA$24 -> 0 | AY50: =[43]届出・熊本県!$Z$25 -> 0 | AZ50: =[43]届出・熊本県!$AA$25 -> 0 | BA50: =[43]届出・熊本県!$Z$26 -> 0 | BB50: =[43]届出・熊本県!$AA$26 -> 0 | BC50: =[43]届出・熊本県!$Z$27 -> 0 | BD50: =[43]届出・熊本県!$AA$27 -> 0 | BE50: =[43]届出・熊本県!$Z$28 -> 0 | BF50: =[43]届出・熊本県!$AA$28 -> 0 | BG50: =[43]届出・熊本県!$Z$29 -> 0 | BH50: =[43]届出・熊本県!$AA$29 -> 0 | BI50: 43 | BJ50: 熊本 | BK50: =[43]届出・熊本県!$Z$30 -> 0 | BL50: =[43]届出・熊本県!$AA$30 -> 0 | BM50: =[43]届出・熊本県!$Z$31 -> 0 | BN50: =[43]届出・熊本県!$AA$31 -> 0 | BO50: =[43]届出・熊本県!$Z$32 -> 1 | BP50: =[43]届出・熊本県!$AA$32 -> 135 | BQ50: =[43]届出・熊本県!$Z$33 -> 0 | BR50: =[43]届出・熊本県!$AA$33 -> 0 | BS50: =[43]届出・熊本県!$Z$34 -> 0 | BT50: =[43]届出・熊本県!$AA$34 -> 0 | BU50: =[43]届出・熊本県!$Z$35 -> 0 | BV50: =[43]届出・熊本県!$AA$35 -> 0 | BW50: =[43]届出・熊本県!$Z$36 -> 0 | BX50: =[43]届出・熊本県!$AA$36 -> 0 | BY50: =[43]届出・熊本県!$Z$37 -> 18 | BZ50: =[43]届出・熊本県!$AA$37 -> 40 | CA50: =[43]届出・熊本県!$Z$38 -> 0 | CB50: =[43]届出・熊本県!$AA$38 -> 0 | CC50: 43 | CD50: 熊本 | CE50: =[43]届出・熊本県!$Z$39 -> 0 | CF50: =[43]届出・熊本県!$AA$39 -> 0 | CG50: =[43]届出・熊本県!$Z$40 -> 0 | CH50: =[43]届出・熊本県!$AA$40 -> 0 | CI50: =[43]届出・熊本県!$Z$41 -> 0 | CJ50: =[43]届出・熊本県!$AA$41 -> 0 | CK50: =[43]届出・熊本県!$Z$42 -> 0 | CL50: =[43]届出・熊本県!$AA$42 -> 0 | CM50: =[43]届出・熊本県!$Z$43 -> 0 | CN50: =[43]届出・熊本県!$AA$43 -> 0 | CO50: =[43]届出・熊本県!$Z$44 -> 0 | CP50: =[43]届出・熊本県!$AA$44 -> 0 | CQ50: =[43]届出・熊本県!$Z$45 -> 1 | CR50: =[43]届出・熊本県!$AA$45 -> 1 | CS50: =[43]届出・熊本県!$Z$46 -> 0 | CT50: =[43]届出・熊本県!$AA$46 -> 0 | CU50: 43 | CV50: 熊本 | CW50: =[43]届出・熊本県!$Z$47 -> 0 | CX50: =[43]届出・熊本県!$AA$47 -> 0 | CY50: =[43]届出・熊本県!$Z$51 -> 0 | CZ50: =[43]届出・熊本県!$AA$51 -> 0 | DA50: =[43]届出・熊本県!$Z$48 -> 0 | DB50: =[43]届出・熊本県!$AA$48 -> 0 | DC50: =[43]届出・熊本県!$Z$49 -> 0 | DD50: =[43]届出・熊本県!$AA$49 -> 0
A51: 44 | B51: 大分 | C51: =[44]届出・大分県!$Z$3 -> 0 | D51: =[44]届出・大分県!$AA$3 -> 0 | E51: =[44]届出・大分県!$Z$4 -> 0 | F51: =[44]届出・大分県!$AA$4 -> 0 | G51: =[44]届出・大分県!$Z$5 -> 0 | H51: =[44]届出・大分県!$AA$5 -> 0 | I51: =[44]届出・大分県!$Z$6 -> 0 | J51: =[44]届出・大分県!$AA$6 -> 0 | K51: =[44]届出・大分県!$Z$7 -> 0 | L51: =[44]届出・大分県!$AA$7 -> 0 | M51: =[44]届出・大分県!$Z$8 -> 0 | N51: =[44]届出・大分県!$AA$8 -> 0 | O51: =[44]届出・大分県!$Z$9 -> 20 | P51: =[44]届出・大分県!$AA$9 -> 20 | Q51: =[44]届出・大分県!$Z$10 -> 0 | R51: =[44]届出・大分県!$AA$10 -> 0 | S51: =[44]届出・大分県!$Z$11 -> 0 | T51: =[44]届出・大分県!$AA$11 -> 0 | U51: 44 | V51: 大分 | W51: =[44]届出・大分県!$Z$12 -> 0 | X51: =[44]届出・大分県!$AA$12 -> 0 | Y51: =[44]届出・大分県!$Z$13 -> 1 | Z51: =[44]届出・大分県!$AA$13 -> 1 | AA51: =[44]届出・大分県!$Z$14 -> 0 | AB51: =[44]届出・大分県!$AA$14 -> 0 | AC51: =[44]届出・大分県!$Z$15 -> 1 | AD51: =[44]届出・大分県!$AA$15 -> 8 | AE51: =[44]届出・大分県!$Z$16 -> 0 | AF51: =[44]届出・大分県!$AA$16 -> 0 | AG51: =[44]届出・大分県!$Z$17 -> 0 | AH51: =[44]届出・大分県!$AA$17 -> 0 | AI51: =[44]届出・大分県!$Z$18 -> 2 | AJ51: =[44]届出・大分県!$AA$18 -> 2 | AK51: =[44]届出・大分県!$Z$19 -> 0 | AL51: =[44]届出・大分県!$AA$19 -> 0 | AM51: =[44]届出・大分県!$Z$20 -> 0 | AN51: =[44]届出・大分県!$AA$20 -> 0 | AO51: 44 | AP51: 大分 | AQ51: =[44]届出・大分県!$Z$21 -> 0 | AR51: =[44]届出・大分県!$AA$21 -> 0 | AS51: =[44]届出・大分県!$Z$22 -> 0 | AT51: =[44]届出・大分県!$AA$22 -> 0 | AU51: =[44]届出・大分県!$Z$23 -> 0 | AV51: =[44]届出・大分県!$AA$23 -> 0 | AW51: =[44]届出・大分県!$Z$24 -> 1 | AX51: =[44]届出・大分県!$AA$24 -> 1 | AY51: =[44]届出・大分県!$Z$25 -> 0 | AZ51: =[44]届出・大分県!$AA$25 -> 0 | BA51: =[44]届出・大分県!$Z$26 -> 0 | BB51: =[44]届出・大分県!$AA$26 -> 0 | BC51: =[44]届出・大分県!$Z$27 -> 0 | BD51: =[44]届出・大分県!$AA$27 -> 0 | BE51: =[44]届出・大分県!$Z$28 -> 0 | BF51: =[44]届出・大分県!$AA$28 -> 0 | BG51: =[44]届出・大分県!$Z$29 -> 0 | BH51: =[44]届出・大分県!$AA$29 -> 0 | BI51: 44 | BJ51: 大分 | BK51: =[44]届出・大分県!$Z$30 -> 0 | BL51: =[44]届出・大分県!$AA$30 -> 0 | BM51: =[44]届出・大分県!$Z$31 -> 0 | BN51: =[44]届出・大分県!$AA$31 -> 0 | BO51: =[44]届出・大分県!$Z$32 -> 0 | BP51: =[44]届出・大分県!$AA$32 -> 0 | BQ51: =[44]届出・大分県!$Z$33 -> 0 | BR51: =[44]届出・大分県!$AA$33 -> 0 | BS51: =[44]届出・大分県!$Z$34 -> 0 | BT51: =[44]届出・大分県!$AA$34 -> 0 | BU51: =[44]届出・大分県!$Z$35 -> 0 | BV51: =[44]届出・大分県!$AA$35 -> 0 | BW51: =[44]届出・大分県!$Z$36 -> 0 | BX51: =[44]届出・大分県!$AA$36 -> 0 | BY51: =[44]届出・大分県!$Z$37 -> 0 | BZ51: =[44]届出・大分県!$AA$37 -> 0 | CA51: =[44]届出・大分県!$Z$38 -> 0 | CB51: =[44]届出・大分県!$AA$38 -> 0 | CC51: 44 | CD51: 大分 | CE51: =[44]届出・大分県!$Z$39 -> 0 | CF51: =[44]届出・大分県!$AA$39 -> 0 | CG51: =[44]届出・大分県!$Z$40 -> 0 | CH51: =[44]届出・大分県!$AA$40 -> 0 | CI51: =[44]届出・大分県!$Z$41 -> 0 | CJ51: =[44]届出・大分県!$AA$41 -> 0 | CK51: =[44]届出・大分県!$Z$42 -> 0 | CL51: =[44]届出・大分県!$AA$42 -> 0 | CM51: =[44]届出・大分県!$Z$43 -> 0 | CN51: =[44]届出・大分県!$AA$43 -> 0 | CO51: =[44]届出・大分県!$Z$44 -> 0 | CP51: =[44]届出・大分県!$AA$44 -> 0 | CQ51: =[44]届出・大分県!$Z$45 -> 0 | CR51: =[44]届出・大分県!$AA$45 -> 0 | CS51: =[44]届出・大分県!$Z$46 -> 0 | CT51: =[44]届出・大分県!$AA$46 -> 0 | CU51: 44 | CV51: 大分 | CW51: =[44]届出・大分県!$Z$47 -> 0 | CX51: =[44]届出・大分県!$AA$47 -> 0 | CY51: =[44]届出・大分県!$Z$51 -> 0 | CZ51: =[44]届出・大分県!$AA$51 -> 0 | DA51: =[44]届出・大分県!$Z$48 -> 0 | DB51: =[44]届出・大分県!$AA$48 -> 0 | DC51: =[44]届出・大分県!$Z$49 -> 0 | DD51: =[44]届出・大分県!$AA$49 -> 0
A52: 45 | B52: 宮崎 | C52: =[45]届出・宮崎県!$Z$3 -> 0 | D52: =[45]届出・宮崎県!$AA$3 -> 0 | E52: =[45]届出・宮崎県!$Z$4 -> 0 | F52: =[45]届出・宮崎県!$AA$4 -> 0 | G52: =[45]届出・宮崎県!$Z$5 -> 0 | H52: =[45]届出・宮崎県!$AA$5 -> 0 | I52: =[45]届出・宮崎県!$Z$6 -> 0 | J52: =[45]届出・宮崎県!$AA$6 -> 0 | K52: =[45]届出・宮崎県!$Z$7 -> 0 | L52: =[45]届出・宮崎県!$AA$7 -> 0 | M52: =[45]届出・宮崎県!$Z$8 -> 0 | N52: =[45]届出・宮崎県!$AA$8 -> 0 | O52: =[45]届出・宮崎県!$Z$9 -> 2 | P52: =[45]届出・宮崎県!$AA$9 -> 2 | Q52: =[45]届出・宮崎県!$Z$10 -> 0 | R52: =[45]届出・宮崎県!$AA$10 -> 0 | S52: =[45]届出・宮崎県!$Z$11 -> 0 | T52: =[45]届出・宮崎県!$AA$11 -> 0 | U52: 45 | V52: 宮崎 | W52: =[45]届出・宮崎県!$Z$12 -> 0 | X52: =[45]届出・宮崎県!$AA$12 -> 0 | Y52: =[45]届出・宮崎県!$Z$13 -> 6 | Z52: =[45]届出・宮崎県!$AA$13 -> 6 | AA52: =[45]届出・宮崎県!$Z$14 -> 0 | AB52: =[45]届出・宮崎県!$AA$14 -> 0 | AC52: =[45]届出・宮崎県!$Z$15 -> 0 | AD52: =[45]届出・宮崎県!$AA$15 -> 0 | AE52: =[45]届出・宮崎県!$Z$16 -> 7 | AF52: =[45]届出・宮崎県!$AA$16 -> 7 | AG52: =[45]届出・宮崎県!$Z$17 -> 0 | AH52: =[45]届出・宮崎県!$AA$17 -> 0 | AI52: =[45]届出・宮崎県!$Z$18 -> 2 | AJ52: =[45]届出・宮崎県!$AA$18 -> 2 | AK52: =[45]届出・宮崎県!$Z$19 -> 0 | AL52: =[45]届出・宮崎県!$AA$19 -> 0 | AM52: =[45]届出・宮崎県!$Z$20 -> 0 | AN52: =[45]届出・宮崎県!$AA$20 -> 0 | AO52: 45 | AP52: 宮崎 | AQ52: =[45]届出・宮崎県!$Z$21 -> 0 | AR52: =[45]届出・宮崎県!$AA$21 -> 0 | AS52: =[45]届出・宮崎県!$Z$22 -> 0 | AT52: =[45]届出・宮崎県!$AA$22 -> 0 | AU52: =[45]届出・宮崎県!$Z$23 -> 0 | AV52: =[45]届出・宮崎県!$AA$23 -> 0 | AW52: =[45]届出・宮崎県!$Z$24 -> 0 | AX52: =[45]届出・宮崎県!$AA$24 -> 0 | AY52: =[45]届出・宮崎県!$Z$25 -> 0 | AZ52: =[45]届出・宮崎県!$AA$25 -> 0 | BA52: =[45]届出・宮崎県!$Z$26 -> 0 | BB52: =[45]届出・宮崎県!$AA$26 -> 0 | BC52: =[45]届出・宮崎県!$Z$27 -> 0 | BD52: =[45]届出・宮崎県!$AA$27 -> 0 | BE52: =[45]届出・宮崎県!$Z$28 -> 0 | BF52: =[45]届出・宮崎県!$AA$28 -> 0 | BG52: =[45]届出・宮崎県!$Z$29 -> 0 | BH52: =[45]届出・宮崎県!$AA$29 -> 0 | BI52: 45 | BJ52: 宮崎 | BK52: =[45]届出・宮崎県!$Z$30 -> 0 | BL52: =[45]届出・宮崎県!$AA$30 -> 0 | BM52: =[45]届出・宮崎県!$Z$31 -> 0 | BN52: =[45]届出・宮崎県!$AA$31 -> 0 | BO52: =[45]届出・宮崎県!$Z$32 -> 0 | BP52: =[45]届出・宮崎県!$AA$32 -> 0 | BQ52: =[45]届出・宮崎県!$Z$33 -> 0 | BR52: =[45]届出・宮崎県!$AA$33 -> 0 | BS52: =[45]届出・宮崎県!$Z$34 -> 0 | BT52: =[45]届出・宮崎県!$AA$34 -> 0 | BU52: =[45]届出・宮崎県!$Z$35 -> 0 | BV52: =[45]届出・宮崎県!$AA$35 -> 0 | BW52: =[45]届出・宮崎県!$Z$36 -> 0 | BX52: =[45]届出・宮崎県!$AA$36 -> 0 | BY52: =[45]届出・宮崎県!$Z$37 -> 40 | BZ52: =[45]届出・宮崎県!$AA$37 -> 40 | CA52: =[45]届出・宮崎県!$Z$38 -> 0 | CB52: =[45]届出・宮崎県!$AA$38 -> 0 | CC52: 45 | CD52: 宮崎 | CE52: =[45]届出・宮崎県!$Z$39 -> 0 | CF52: =[45]届出・宮崎県!$AA$39 -> 0 | CG52: =[45]届出・宮崎県!$Z$40 -> 0 | CH52: =[45]届出・宮崎県!$AA$40 -> 0 | CI52: =[45]届出・宮崎県!$Z$41 -> 0 | CJ52: =[45]届出・宮崎県!$AA$41 -> 0 | CK52: =[45]届出・宮崎県!$Z$42 -> 0 | CL52: =[45]届出・宮崎県!$AA$42 -> 0 | CM52: =[45]届出・宮崎県!$Z$43 -> 0 | CN52: =[45]届出・宮崎県!$AA$43 -> 0 | CO52: =[45]届出・宮崎県!$Z$44 -> 0 | CP52: =[45]届出・宮崎県!$AA$44 -> 0 | CQ52: =[45]届出・宮崎県!$Z$45 -> 0 | CR52: =[45]届出・宮崎県!$AA$45 -> 0 | CS52: =[45]届出・宮崎県!$Z$46 -> 0 | CT52: =[45]届出・宮崎県!$AA$46 -> 0 | CU52: 45 | CV52: 宮崎 | CW52: =[45]届出・宮崎県!$Z$47 -> 0 | CX52: =[45]届出・宮崎県!$AA$47 -> 0 | CY52: =[45]届出・宮崎県!$Z$51 -> 0 | CZ52: =[45]届出・宮崎県!$AA$51 -> 0 | DA52: =[45]届出・宮崎県!$Z$48 -> 0 | DB52: =[45]届出・宮崎県!$AA$48 -> 0 | DC52: =[45]届出・宮崎県!$Z$49 -> 0 | DD52: =[45]届出・宮崎県!$AA$49 -> 0
A53: 46 | B53: 鹿児島 | C53: =[46]届出・鹿児島県!$Z$3 -> 1 | D53: =[46]届出・鹿児島県!$AA$3 -> 1 | E53: =[46]届出・鹿児島県!$Z$4 -> 0 | F53: =[46]届出・鹿児島県!$AA$4 -> 0 | G53: =[46]届出・鹿児島県!$Z$5 -> 0 | H53: =[46]届出・鹿児島県!$AA$5 -> 0 | I53: =[46]届出・鹿児島県!$Z$6 -> 0 | J53: =[46]届出・鹿児島県!$AA$6 -> 0 | K53: =[46]届出・鹿児島県!$Z$7 -> 0 | L53: =[46]届出・鹿児島県!$AA$7 -> 0 | M53: =[46]届出・鹿児島県!$Z$8 -> 0 | N53: =[46]届出・鹿児島県!$AA$8 -> 0 | O53: =[46]届出・鹿児島県!$Z$9 -> 13 | P53: =[46]届出・鹿児島県!$AA$9 -> 13 | Q53: =[46]届出・鹿児島県!$Z$10 -> 0 | R53: =[46]届出・鹿児島県!$AA$10 -> 0 | S53: =[46]届出・鹿児島県!$Z$11 -> 0 | T53: =[46]届出・鹿児島県!$AA$11 -> 0 | U53: 46 | V53: 鹿児島 | W53: =[46]届出・鹿児島県!$Z$12 -> 0 | X53: =[46]届出・鹿児島県!$AA$12 -> 0 | Y53: =[46]届出・鹿児島県!$Z$13 -> 6 | Z53: =[46]届出・鹿児島県!$AA$13 -> 6 | AA53: =[46]届出・鹿児島県!$Z$14 -> 0 | AB53: =[46]届出・鹿児島県!$AA$14 -> 0 | AC53: =[46]届出・鹿児島県!$Z$15 -> 0 | AD53: =[46]届出・鹿児島県!$AA$15 -> 0 | AE53: =[46]届出・鹿児島県!$Z$16 -> 2 | AF53: =[46]届出・鹿児島県!$AA$16 -> 2 | AG53: =[46]届出・鹿児島県!$Z$17 -> 0 | AH53: =[46]届出・鹿児島県!$AA$17 -> 0 | AI53: =[46]届出・鹿児島県!$Z$18 -> 0 | AJ53: =[46]届出・鹿児島県!$AA$18 -> 0 | AK53: =[46]届出・鹿児島県!$Z$19 -> 0 | AL53: =[46]届出・鹿児島県!$AA$19 -> 0 | AM53: =[46]届出・鹿児島県!$Z$20 -> 0 | AN53: =[46]届出・鹿児島県!$AA$20 -> 0 | AO53: 46 | AP53: 鹿児島 | AQ53: =[46]届出・鹿児島県!$Z$21 -> 0 | AR53: =[46]届出・鹿児島県!$AA$21 -> 0 | AS53: =[46]届出・鹿児島県!$Z$22 -> 0 | AT53: =[46]届出・鹿児島県!$AA$22 -> 0 | AU53: =[46]届出・鹿児島県!$Z$23 -> 0 | AV53: =[46]届出・鹿児島県!$AA$23 -> 0 | AW53: =[46]届出・鹿児島県!$Z$24 -> 0 | AX53: =[46]届出・鹿児島県!$AA$24 -> 0 | AY53: =[46]届出・鹿児島県!$Z$25 -> 0 | AZ53: =[46]届出・鹿児島県!$AA$25 -> 0 | BA53: =[46]届出・鹿児島県!$Z$26 -> 0 | BB53: =[46]届出・鹿児島県!$AA$26 -> 0 | BC53: =[46]届出・鹿児島県!$Z$27 -> 0 | BD53: =[46]届出・鹿児島県!$AA$27 -> 0 | BE53: =[46]届出・鹿児島県!$Z$28 -> 0 | BF53: =[46]届出・鹿児島県!$AA$28 -> 0 | BG53: =[46]届出・鹿児島県!$Z$29 -> 0 | BH53: =[46]届出・鹿児島県!$AA$29 -> 0 | BI53: 46 | BJ53: 鹿児島 | BK53: =[46]届出・鹿児島県!$Z$30 -> 2 | BL53: =[46]届出・鹿児島県!$AA$30 -> 2 | BM53: =[46]届出・鹿児島県!$Z$31 -> 0 | BN53: =[46]届出・鹿児島県!$AA$31 -> 0 | BO53: =[46]届出・鹿児島県!$Z$32 -> 0 | BP53: =[46]届出・鹿児島県!$AA$32 -> 0 | BQ53: =[46]届出・鹿児島県!$Z$33 -> 0 | BR53: =[46]届出・鹿児島県!$AA$33 -> 0 | BS53: =[46]届出・鹿児島県!$Z$34 -> 0 | BT53: =[46]届出・鹿児島県!$AA$34 -> 0 | BU53: =[46]届出・鹿児島県!$Z$35 -> 0 | BV53: =[46]届出・鹿児島県!$AA$35 -> 0 | BW53: =[46]届出・鹿児島県!$Z$36 -> 0 | BX53: =[46]届出・鹿児島県!$AA$36 -> 0 | BY53: =[46]届出・鹿児島県!$Z$37 -> 152 | BZ53: =[46]届出・鹿児島県!$AA$37 -> 264 | CA53: =[46]届出・鹿児島県!$Z$38 -> 0 | CB53: =[46]届出・鹿児島県!$AA$38 -> 0 | CC53: 46 | CD53: 鹿児島 | CE53: =[46]届出・鹿児島県!$Z$39 -> 0 | CF53: =[46]届出・鹿児島県!$AA$39 -> 0 | CG53: =[46]届出・鹿児島県!$Z$40 -> 0 | CH53: =[46]届出・鹿児島県!$AA$40 -> 0 | CI53: =[46]届出・鹿児島県!$Z$41 -> 0 | CJ53: =[46]届出・鹿児島県!$AA$41 -> 0 | CK53: =[46]届出・鹿児島県!$Z$42 -> 0 | CL53: =[46]届出・鹿児島県!$AA$42 -> 0 | CM53: =[46]届出・鹿児島県!$Z$43 -> 0 | CN53: =[46]届出・鹿児島県!$AA$43 -> 0 | CO53: =[46]届出・鹿児島県!$Z$44 -> 0 | CP53: =[46]届出・鹿児島県!$AA$44 -> 0 | CQ53: =[46]届出・鹿児島県!$Z$45 -> 0 | CR53: =[46]届出・鹿児島県!$AA$45 -> 0 | CS53: =[46]届出・鹿児島県!$Z$46 -> 0 | CT53: =[46]届出・鹿児島県!$AA$46 -> 0 | CU53: 46 | CV53: 鹿児島 | CW53: =[46]届出・鹿児島県!$Z$47 -> 0 | CX53: =[46]届出・鹿児島県!$AA$47 -> 0 | CY53: =[46]届出・鹿児島県!$Z$51 -> 0 | CZ53: =[46]届出・鹿児島県!$AA$51 -> 0 | DA53: =[46]届出・鹿児島県!$Z$48 -> 0 | DB53: =[46]届出・鹿児島県!$AA$48 -> 0 | DC53: =[46]届出・鹿児島県!$Z$49 -> 0 | DD53: =[46]届出・鹿児島県!$AA$49 -> 0
A54: 47 | B54: 沖縄 | C54: =[47]届出・沖縄県!$Z$3 -> 0 | D54: =[47]届出・沖縄県!$AA$3 -> 0 | E54: =[47]届出・沖縄県!$Z$4 -> 0 | F54: =[47]届出・沖縄県!$AA$4 -> 0 | G54: =[47]届出・沖縄県!$Z$5 -> 0 | H54: =[47]届出・沖縄県!$AA$5 -> 0 | I54: =[47]届出・沖縄県!$Z$6 -> 1 | J54: =[47]届出・沖縄県!$AA$6 -> 1 | K54: =[47]届出・沖縄県!$Z$7 -> 0 | L54: =[47]届出・沖縄県!$AA$7 -> 0 | M54: =[47]届出・沖縄県!$Z$8 -> 0 | N54: =[47]届出・沖縄県!$AA$8 -> 0 | O54: =[47]届出・沖縄県!$Z$9 -> 0 | P54: =[47]届出・沖縄県!$AA$9 -> 0 | Q54: =[47]届出・沖縄県!$Z$10 -> 0 | R54: =[47]届出・沖縄県!$AA$10 -> 0 | S54: =[47]届出・沖縄県!$Z$11 -> 2 | T54: =[47]届出・沖縄県!$AA$11 -> 2 | U54: 47 | V54: 沖縄 | W54: =[47]届出・沖縄県!$Z$12 -> 0 | X54: =[47]届出・沖縄県!$AA$12 -> 0 | Y54: =[47]届出・沖縄県!$Z$13 -> 8 | Z54: =[47]届出・沖縄県!$AA$13 -> 8 | AA54: =[47]届出・沖縄県!$Z$14 -> 0 | AB54: =[47]届出・沖縄県!$AA$14 -> 0 | AC54: =[47]届出・沖縄県!$Z$15 -> 0 | AD54: =[47]届出・沖縄県!$AA$15 -> 0 | AE54: =[47]届出・沖縄県!$Z$16 -> 1 | AF54: =[47]届出・沖縄県!$AA$16 -> 1 | AG54: =[47]届出・沖縄県!$Z$17 -> 1 | AH54: =[47]届出・沖縄県!$AA$17 -> 5 | AI54: =[47]届出・沖縄県!$Z$18 -> 1 | AJ54: =[47]届出・沖縄県!$AA$18 -> 1 | AK54: =[47]届出・沖縄県!$Z$19 -> 0 | AL54: =[47]届出・沖縄県!$AA$19 -> 0 | AM54: =[47]届出・沖縄県!$Z$20 -> 0 | AN54: =[47]届出・沖縄県!$AA$20 -> 0 | AO54: 47 | AP54: 沖縄 | AQ54: =[47]届出・沖縄県!$Z$21 -> 0 | AR54: =[47]届出・沖縄県!$AA$21 -> 0 | AS54: =[47]届出・沖縄県!$Z$22 -> 0 | AT54: =[47]届出・沖縄県!$AA$22 -> 0 | AU54: =[47]届出・沖縄県!$Z$23 -> 0 | AV54: =[47]届出・沖縄県!$AA$23 -> 0 | AW54: =[47]届出・沖縄県!$Z$24 -> 0 | AX54: =[47]届出・沖縄県!$AA$24 -> 0 | AY54: =[47]届出・沖縄県!$Z$25 -> 0 | AZ54: =[47]届出・沖縄県!$AA$25 -> 0 | BA54: =[47]届出・沖縄県!$Z$26 -> 0 | BB54: =[47]届出・沖縄県!$AA$26 -> 0 | BC54: =[47]届出・沖縄県!$Z$27 -> 0 | BD54: =[47]届出・沖縄県!$AA$27 -> 0 | BE54: =[47]届出・沖縄県!$Z$28 -> 0 | BF54: =[47]届出・沖縄県!$AA$28 -> 0 | BG54: =[47]届出・沖縄県!$Z$29 -> 1 | BH54: =[47]届出・沖縄県!$AA$29 -> 28 | BI54: 47 | BJ54: 沖縄 | BK54: =[47]届出・沖縄県!$Z$30 -> 10 | BL54: =[47]届出・沖縄県!$AA$30 -> 14 | BM54: =[47]届出・沖縄県!$Z$31 -> 0 | BN54: =[47]届出・沖縄県!$AA$31 -> 0 | BO54: =[47]届出・沖縄県!$Z$32 -> 0 | BP54: =[47]届出・沖縄県!$AA$32 -> 0 | BQ54: =[47]届出・沖縄県!$Z$33 -> 0 | BR54: =[47]届出・沖縄県!$AA$33 -> 0 | BS54: =[47]届出・沖縄県!$Z$34 -> 0 | BT54: =[47]届出・沖縄県!$AA$34 -> 0 | BU54: =[47]届出・沖縄県!$Z$35 -> 0 | BV54: =[47]届出・沖縄県!$AA$35 -> 0 | BW54: =[47]届出・沖縄県!$Z$36 -> 27 | BX54: =[47]届出・沖縄県!$AA$36 -> 93 | BY54: =[47]届出・沖縄県!$Z$37 -> 32 | BZ54: =[47]届出・沖縄県!$AA$37 -> 37 | CA54: =[47]届出・沖縄県!$Z$38 -> 0 | CB54: =[47]届出・沖縄県!$AA$38 -> 0 | CC54: 47 | CD54: 沖縄 | CE54: =[47]届出・沖縄県!$Z$39 -> 41 | CF54: =[47]届出・沖縄県!$AA$39 -> 1420 | CG54: =[47]届出・沖縄県!$Z$40 -> 0 | CH54: =[47]届出・沖縄県!$AA$40 -> 0 | CI54: =[47]届出・沖縄県!$Z$41 -> 0 | CJ54: =[47]届出・沖縄県!$AA$41 -> 0 | CK54: =[47]届出・沖縄県!$Z$42 -> 0 | CL54: =[47]届出・沖縄県!$AA$42 -> 0 | CM54: =[47]届出・沖縄県!$Z$43 -> 0 | CN54: =[47]届出・沖縄県!$AA$43 -> 0 | CO54: =[47]届出・沖縄県!$Z$44 -> 1 | CP54: =[47]届出・沖縄県!$AA$44 -> 120 | CQ54: =[47]届出・沖縄県!$Z$45 -> 0 | CR54: =[47]届出・沖縄県!$AA$45 -> 0 | CS54: =[47]届出・沖縄県!$Z$46 -> 0 | CT54: =[47]届出・沖縄県!$AA$46 -> 0 | CU54: 47 | CV54: 沖縄 | CW54: =[47]届出・沖縄県!$Z$47 -> 0 | CX54: =[47]届出・沖縄県!$AA$47 -> 0 | CY54: =[47]届出・沖縄県!$Z$51 -> 0 | CZ54: =[47]届出・沖縄県!$AA$51 -> 0 | DA54: =[47]届出・沖縄県!$Z$48 -> 0 | DB54: =[47]届出・沖縄県!$AA$48 -> 0 | DC54: =[47]届出・沖縄県!$Z$49 -> 0 | DD54: =[47]届出・沖縄県!$AA$49 -> 0
A55: 平成１２年合計 | C55: =SUM(C8:C54) -> 14 | D55: =SUM(D8:D54) -> 14 | E55: =SUM(E8:E54) -> 0 | F55: =SUM(F8:F54) -> 0 | G55: =SUM(G8:G54) -> 0 | H55: =SUM(H8:H54) -> 0 | I55: =SUM(I8:I54) -> 2 | J55: =SUM(J8:J54) -> 2 | ... T55: =SUM(T8:T54) -> 2 | U55: 平成１２年合計 | W55: =SUM(W8:W54) -> 0 | X55: =SUM(X8:X54) -> 0 | Y55: =SUM(Y8:Y54) -> 43 | Z55: =SUM(Z8:Z54) -> 51 | AA55: =SUM(AA8:AA54) -> 1 | AB55: =SUM(AB8:AB54) -> 1 | AC55: =SUM(AC8:AC54) -> 7 | AD55: =SUM(AD8:AD54) -> 30 | ... AN55: =SUM(AN8:AN54) -> 6 | AO55: 平成１２年合計 | AQ55: =SUM(AQ8:AQ54) -> 0 | AR55: =SUM(AR8:AR54) -> 0 | AS55: =SUM(AS8:AS54) -> 8 | AT55: =SUM(AT8:AT54) -> 17 | AU55: =SUM(AU8:AU54) -> 0 | AV55: =SUM(AV8:AV54) -> 0 | AW55: =SUM(AW8:AW54) -> 30 | AX55: =SUM(AX8:AX54) -> 30 | ... BH55: =SUM(BH8:BH54) -> 47 | BI55: 平成１２年合計 | BK55: =SUM(BK8:BK54) -> 12 | BL55: =SUM(BL8:BL54) -> 16 | BM55: =SUM(BM8:BM54) -> 5 | BN55: =SUM(BN8:BN54) -> 320 | BO55: =SUM(BO8:BO54) -> 4 | BP55: =SUM(BP8:BP54) -> 387 | BQ55: =SUM(BQ8:BQ54) -> 30 | BR55: =SUM(BR8:BR54) -> 657 | ... CB55: =SUM(CB8:CB54) -> 0 | CC55: 平成１２年合計 | CE55: =SUM(CE8:CE54) -> 75 | CF55: =SUM(CF8:CF54) -> 1564 | CG55: =SUM(CG8:CG54) -> 7 | CH55: =SUM(CH8:CH54) -> 736 | CI55: =SUM(CI8:CI54) -> 235 | CJ55: =SUM(CJ8:CJ54) -> 7237 | CK55: =SUM(CK8:CK54) -> 11 | CL55: =SUM(CL8:CL54) -> 18073 | ... CT55: =SUM(CT8:CT54) -> 49 | CU55: 平成１２年合計 | CW55: =SUM(CW8:CW54) -> 9 | CX55: =SUM(CX8:CX54) -> 16081 | CY55: =SUM(CY8:CY54) -> 1 | CZ55: =SUM(CZ8:CZ54) -> 4 | DA55: =SUM(DA8:DA54) -> 49 | DB55: =SUM(DB8:DB54) -> 754 | DC55: =SUM(DC8:DC54) -> 119 | DD55: =SUM(DD8:DD54) -> 1942
A56: 平成１１年合計 | C56: 503 | D56: 578 | E56: 1 | F56: 1 | G56: 1 | H56: 2 | I56: 2 | J56: 2 | K56: 24 | L56: 24 | M56: 44 | N56: 391 | O56: 168 | P56: 169 | Q56: 111 | R56: 116 | S56: 0 | T56: 0 | U56: 平成１１年合計 | W56: 1 | X56: 1 | Y56: 55 | Z56: 60 | AA56: 4 | AB56: 4 | AC56: 5 | AD56: 11 | AE56: 59 | AF56: 61 | AG56: 0 | AH56: 0 | AI56: 89 | AJ56: 304 | AK56: 25 | AL56: 187 | AM56: 1 | AN56: 1200 | AO56: 平成１１年合計 | AQ56: 1 | AR56: 3 | AS56: 0 | AT56: 0 | AU56: 0 | AV56: 0 | AW56: 37 | AX56: 44 | AY56: 0 | AZ56: 0 | BA56: 9 | BB56: 12 | BC56: 0 | BD56: 0 | BE56: 4 | BF56: 5 | BG56: 1 | BH56: 12 | BI56: 平成１１年合計 | BK56: 1 | BL56: 1 | BM56: 6 | BN56: 74 | BO56: 24 | BP56: 11202 | BQ56: 24 | BR56: 283 | BS56: 1 | BT56: 1 | BU56: 2 | BV56: 812 | BW56: 59 | BX56: 435 | BY56: 1159 | BZ56: 2000 | CA56: 1 | CB56: 13 | CC56: 平成１１年合計 | CE56: 61 | CF56: 542 | CG56: 4 | CH56: 311 | CI56: 385 | CJ56: 14688 | CK56: 11 | CL56: 10434 | CM56: 2 | CN56: 1600 | CO56: 4 | CP56: 6190 | CQ56: 8 | CR56: 10 | CS56: 1 | CT56: 160 | CU56: 平成１１年合計 | CW56: 15 | CX56: 4691 | CY56: 0 | CZ56: 0 | DA56: 55 | DB56: 1244 | DC56: 156 | DD56: 2529
B57: 注） 同一の個体が複数の疾病に感染している場合はそれぞれの疾病の発生とする。

Sheet 届出月別
A2: ４．届出伝染病の月別発生状況（平成１2年）
A4: 疾病名 | C4: １月 | D4: ２月 | E4: ３月 | F4: ４月 | G4: ５月 | H4: ６月 | I4: ７月 | J4: ８月 | K4: ９月 | L4: １０月 | M4: １１月 | N4: １２月 | O4: 計
A5: アカバネ病（牛） | B5: 戸 | C5: 0 | D5: 2 | E5: 3 | F5: 0 | G5: 3 | H5: 0 | I5: 1 | J5: 0 | K5: 0 | L5: 1 | M5: 2 | N5: 2 | O5: =SUM(C5:N5) -> 14
B6: 頭 | C6: 0 | D6: 2 | E6: 3 | F6: 0 | G6: 3 | H6: 0 | I6: 1 | J6: 0 | K6: 0 | L6: 1 | M6: 2 | N6: 2 | O6: =SUM(C6:N6) -> 14
A7: ﾁｭｳｻﾞﾝ病 | B7: 戸 | C7: 0 | D7: 0 | E7: 0 | F7: 0 | G7: 1 | H7: 0 | I7: 0 | J7: 0 | K7: 0 | L7: 0 | M7: 0 | N7: 1 | O7: =SUM(C7:N7) -> 2
B8: 頭 | C8: 0 | D8: 0 | E8: 0 | F8: 0 | G8: 1 | H8: 0 | I8: 0 | J8: 0 | K8: 0 | L8: 0 | M8: 0 | N8: 1 | O8: =SUM(C8:N8) -> 2
A9: 牛ｳｲﾙｽ性 | B9: 戸 | C9: 2 | D9: 1 | E9: 1 | F9: 1 | G9: 0 | H9: 1 | I9: 3 | J9: 1 | K9: 4 | L9: 1 | M9: 0 | N9: 2 | O9: =SUM(C9:N9) -> 17
A10: 下痢・粘膜病 | B10: 頭 | C10: 4 | D10: 1 | E10: 1 | F10: 3 | G10: 0 | H10: 1 | I10: 3 | J10: 1 | K10: 8 | L10: 1 | M10: 0 | N10: 8 | O10: =SUM(C10:N10) -> 31
A11: 牛伝染性 | B11: 戸 | C11: 2 | D11: 4 | E11: 4 | F11: 6 | G11: 3 | H11: 4 | I11: 2 | J11: 8 | K11: 2 | L11: 4 | M11: 1 | N11: 6 | O11: =SUM(C11:N11) -> 46
A12: 鼻気管炎 | B12: 頭 | C12: 100 | D12: 26 | E12: 9 | F12: 96 | G12: 13 | H12: 25 | I12: 7 | J12: 14 | K12: 14 | L12: 34 | M12: 1 | N12: 85 | O12: =SUM(C12:N12) -> 424
A13: 牛白血病 | B13: 戸 | C13: 17 | D13: 16 | E13: 12 | F13: 10 | G13: 14 | H13: 16 | I13: 13 | J13: 13 | K13: 10 | L13: 12 | M13: 9 | N13: 15 | O13: =SUM(C13:N13) -> 157
B14: 頭 | C14: 17 | D14: 16 | E14: 12 | F14: 10 | G14: 14 | H14: 16 | I14: 14 | J14: 13 | K14: 10 | L14: 12 | M14: 10 | N14: 15 | O14: =SUM(C14:N14) -> 159
A15: イバラキ病（牛） | B15: 戸 | C15: 0 | D15: 0 | E15: 0 | F15: 0 | G15: 0 | H15: 0 | I15: 0 | J15: 0 | K15: 1 | L15: 1 | M15: 0 | N15: 0 | O15: =SUM(C15:N15) -> 2
B16: 頭 | C16: 0 | D16: 0 | E16: 0 | F16: 0 | G16: 0 | H16: 0 | I16: 0 | J16: 0 | K16: 1 | L16: 1 | M16: 0 | N16: 0 | O16: =SUM(C16:N16) -> 2
A17: 破傷風 （牛） | B17: 戸 | C17: 3 | D17: 1 | E17: 4 | F17: 6 | G17: 6 | H17: 2 | I17: 2 | J17: 6 | K17: 6 | L17: 4 | M17: 1 | N17: 2 | O17: =SUM(C17:N17) -> 43
B18: 頭 | C18: 3 | D18: 1 | E18: 4 | F18: 6 | G18: 6 | H18: 2 | I18: 2 | J18: 6 | K18: 6 | L18: 4 | M18: 1 | N18: 10 | O18: =SUM(C18:N18) -> 51
A19: （馬） | B19: 戸 | C19: 0 | D19: 0 | E19: 0 | F19: 0 | G19: 1 | H19: 0 | I19: 0 | J19: 0 | K19: 0 | L19: 0 | M19: 0 | N19: 0 | O19: =SUM(C19:N19) -> 1
B20: 頭 | C20: 0 | D20: 0 | E20: 0 | F20: 0 | G20: 1 | H20: 0 | I20: 0 | J20: 0 | K20: 0 | L20: 0 | M20: 0 | N20: 0 | O20: =SUM(C20:N20) -> 1
A21: 気腫疽 | B21: 戸 | C21: 1 | D21: 0 | E21: 0 | F21: 1 | G21: 0 | H21: 1 | I21: 0 | J21: 1 | K21: 1 | L21: 1 | M21: 1 | N21: 0 | O21: =SUM(C21:N21) -> 7
B22: 頭 | C22: 8 | D22: 0 | E22: 0 | F22: 1 | G22: 0 | H22: 1 | I22: 0 | J22: 1 | K22: 15 | L22: 2 | M22: 2 | N22: 0 | O22: =SUM(C22:N22) -> 30
A23: ﾚﾌﾟﾄｽﾋﾟﾗ症（犬） | B23: 戸 | C23: 1 | D23: 2 | E23: 0 | F23: 0 | G23: 3 | H23: 4 | I23: 1 | J23: 2 | K23: 12 | L23: 12 | M23: 15 | N23: 10 | O23: =SUM(C23:N23) -> 62
B24: 頭 | C24: 1 | D24: 2 | E24: 0 | F24: 0 | G24: 3 | H24: 4 | I24: 1 | J24: 2 | K24: 12 | L24: 14 | M24: 15 | N24: 10 | O24: =SUM(C24:N24) -> 64
A25: （豚） | B25: 戸 | C25: 0 | D25: 0 | E25: 0 | F25: 0 | G25: 0 | H25: 1 | I25: 0 | J25: 0 | K25: 0 | L25: 0 | M25: 0 | N25: 0 | O25: =SUM(C25:N25) -> 1
B26: 頭 | C26: 0 | D26: 0 | E26: 0 | F26: 0 | G26: 0 | H26: 5 | I26: 0 | J26: 0 | K26: 0 | L26: 0 | M26: 0 | N26: 0 | O26: =SUM(C26:N26) -> 5
A27: 疾病名 | C27: １月 | D27: ２月 | E27: ３月 | F27: ４月 | G27: ５月 | H27: ６月 | I27: ７月 | J27: ８月 | K27: ９月 | L27: １０月 | M27: １１月 | N27: １２月 | O27: 計
A28: ｻﾙﾓﾈﾗ症 （牛） | B28: 戸 | C28: 1 | D28: 1 | E28: 3 | F28: 4 | G28: 4 | H28: 7 | I28: 10 | J28: 17 | K28: 10 | L28: 11 | M28: 7 | N28: 5 | O28: =SUM(C28:N28) -> 80
B29: 頭 | C29: 7 | D29: 1 | E29: 13 | F29: 19 | G29: 8 | H29: 21 | I29: 55 | J29: 49 | K29: 31 | L29: 78 | M29: 18 | N29: 6 | O29: =SUM(C29:N29) -> 306
A30: （豚） | B30: 戸 | C30: 2 | D30: 1 | E30: 2 | F30: 2 | G30: 0 | H30: 2 | I30: 3 | J30: 2 | K30: 3 | L30: 0 | M30: 4 | N30: 3 | O30: =SUM(C30:N30) -> 24
B31: 頭 | C31: 16 | D31: 24 | E31: 6 | F31: 2 | G31: 0 | H31: 8 | I31: 8 | J31: 258 | K31: 163 | L31: 0 | M31: 89 | N31: 502 | O31: =SUM(C31:N31) -> 1076
A32: （鶏） | B32: 戸 | C32: 0 | D32: 0 | E32: 0 | F32: 0 | G32: 1 | H32: 0 | I32: 0 | J32: 0 | K32: 0 | L32: 0 | M32: 0 | N32: 0 | O32: =SUM(C32:N32) -> 1
B33: 頭 | C33: 0 | D33: 0 | E33: 0 | F33: 0 | G33: 6 | H33: 0 | I33: 0 | J33: 0 | K33: 0 | L33: 0 | M33: 0 | N33: 0 | O33: =SUM(C33:N33) -> 6
A34: 牛カンピロ | B34: 戸 | C34: 1 | D34: 2 | E34: 0 | F34: 3 | G34: 1 | H34: 0 | I34: 1 | J34: 0 | K34: 0 | L34: 0 | M34: 0 | N34: 0 | O34: =SUM(C34:N34) -> 8
A35: バクター症（牛） | B35: 頭 | C35: 1 | D35: 3 | E35: 0 | F35: 7 | G35: 2 | H35: 0 | I35: 1 | J35: 0 | K35: 1 | L35: 0 | M35: 2 | N35: 0 | O35: =SUM(C35:N35) -> 17
A36: ﾈｵｽﾎﾟﾗ症 | B36: 戸 | C36: 1 | D36: 1 | E36: 3 | F36: 3 | G36: 3 | H36: 7 | I36: 1 | J36: 2 | K36: 1 | L36: 2 | M36: 1 | N36: 5 | O36: =SUM(C36:N36) -> 30
B37: 頭 | C37: 1 | D37: 1 | E37: 3 | F37: 3 | G37: 3 | H37: 7 | I37: 1 | J37: 2 | K37: 1 | L37: 2 | M37: 1 | N37: 5 | O37: =SUM(C37:N37) -> 30
A38: 馬鼻肺炎 | B38: 戸 | C38: 2 | D38: 1 | E38: 2 | F38: 2 | G38: 0 | H38: 0 | I38: 0 | J38: 0 | K38: 0 | L38: 0 | M38: 0 | N38: 1 | O38: =SUM(C38:N38) -> 8
B39: 頭 | C39: 2 | D39: 1 | E39: 6 | F39: 3 | G39: 0 | H39: 0 | I39: 0 | J39: 0 | K39: 0 | L39: 0 | M39: 0 | N39: 14 | O39: =SUM(C39:N39) -> 26
A40: 馬伝染性子宮炎 | B40: 戸 | C40: 0 | D40: 0 | E40: 0 | F40: 1 | G40: 0 | H40: 0 | I40: 0 | J40: 0 | K40: 0 | L40: 0 | M40: 0 | N40: 0 | O40: =SUM(C40:N40) -> 1
A41: （馬） | B41: 頭 | C41: 0 | D41: 0 | E41: 0 | F41: 1 | G41: 0 | H41: 0 | I41: 0 | J41: 0 | K41: 0 | L41: 0 | M41: 0 | N41: 0 | O41: =SUM(C41:N41) -> 1
A42: 伝染性膿疱性 | B42: 戸 | C42: 0 | D42: 0 | E42: 0 | F42: 0 | G42: 0 | H42: 0 | I42: 2 | J42: 0 | K42: 0 | L42: 1 | M42: 0 | N42: 0 | O42: =SUM(C42:N42) -> 3
A43: 皮膚炎(めん羊） | B43: 頭 | C43: 0 | D43: 0 | E43: 0 | F43: 0 | G43: 0 | H43: 0 | I43: 29 | J43: 0 | K43: 0 | L43: 16 | M43: 2 | N43: 0 | O43: =SUM(C43:N43) -> 47
A44: ﾄｷｿﾌﾟﾗｽﾞﾏ病 | B44: 戸 | C44: 0 | D44: 0 | E44: 0 | F44: 0 | G44: 4 | H44: 3 | I44: 0 | J44: 0 | K44: 0 | L44: 5 | M44: 0 | N44: 0 | O44: =SUM(C44:N44) -> 12
A45: （豚） | B45: 頭 | C45: 0 | D45: 0 | E45: 0 | F45: 0 | G45: 4 | H45: 3 | I45: 0 | J45: 0 | K45: 0 | L45: 9 | M45: 0 | N45: 0 | O45: =SUM(C45:N45) -> 16
A46: オーエスキー病 | B46: 戸 | C46: 0 | D46: 1 | E46: 0 | F46: 2 | G46: 0 | H46: 0 | I46: 0 | J46: 1 | K46: 0 | L46: 0 | M46: 1 | N46: 0 | O46: =SUM(C46:N46) -> 5
A47: （豚） | B47: 頭 | C47: 0 | D47: 21 | E47: 0 | F47: 143 | G47: 0 | H47: 0 | I47: 0 | J47: 153 | K47: 0 | L47: 0 | M47: 3 | N47: 0 | O47: =SUM(C47:N47) -> 320
A48: 伝染性胃腸炎 | B48: 戸 | C48: 0 | D48: 2 | E48: 0 | F48: 0 | G48: 1 | H48: 1 | I48: 0 | J48: 0 | K48: 0 | L48: 0 | M48: 0 | N48: 0 | O48: =SUM(C48:N48) -> 4
A49: （豚） | B49: 頭 | C49: 0 | D49: 120 | E49: 0 | F49: 0 | G49: 132 | H49: 135 | I49: 0 | J49: 0 | K49: 0 | L49: 0 | M49: 0 | N49: 0 | O49: =SUM(C49:N49) -> 387
A50: 豚繁殖・呼吸(豚) | B50: 戸 | C50: 2 | D50: 4 | E50: 1 | F50: 2 | G50: 5 | H50: 3 | I50: 0 | J50: 3 | K50: 0 | L50: 2 | M50: 5 | N50: 3 | O50: =SUM(C50:N50) -> 30
A51: 障害症候群 | B51: 頭 | C51: 205 | D51: 16 | E51: 3 | F51: 3 | G51: 21 | H51: 6 | I51: 2 | J51: 260 | K51: 0 | L51: 17 | M51: 11 | N51: 113 | O51: =SUM(C51:N51) -> 657
A52: 萎縮性鼻炎（豚） | B52: 戸 | C52: 2 | D52: 5 | E52: 5 | F52: 7 | G52: 0 | H52: 0 | I52: 1 | J52: 2 | K52: 4 | L52: 5 | M52: 4 | N52: 4 | O52: =SUM(C52:N52) -> 39
B53: 頭 | C53: 8 | D53: 10 | E53: 15 | F53: 109 | G53: 4 | H53: 2 | I53: 6 | J53: 6 | K53: 6 | L53: 14 | M53: 17 | N53: 27 | O53: =SUM(C53:N53) -> 224
A54: 疾病名 | C54: １月 | D54: ２月 | E54: ３月 | F54: ４月 | G54: ５月 | H54: ６月 | I54: ７月 | J54: ８月 | K54: ９月 | L54: １０月 | M54: １１月 | N54: １２月 | O54: 計
A55: 豚丹毒 （豚） | B55: 戸 | C55: 104 | D55: 115 | E55: 96 | F55: 98 | G55: 126 | H55: 124 | I55: 79 | J55: 61 | K55: 68 | L55: 77 | M55: 82 | N55: 95 | O55: =SUM(C55:N55) -> 1125
B56: 頭 | C56: 159 | D56: 180 | E56: 148 | F56: 175 | G56: 194 | H56: 203 | I56: 160 | J56: 130 | K56: 115 | L56: 129 | M56: 134 | N56: 190 | O56: =SUM(C56:N56) -> 1917
A57: 豚赤痢（豚） | B57: 戸 | C57: 10 | D57: 7 | E57: 9 | F57: 6 | G57: 4 | H57: 8 | I57: 2 | J57: 9 | K57: 3 | L57: 4 | M57: 6 | N57: 7 | O57: =SUM(C57:N57) -> 75
B58: 頭 | C58: 53 | D58: 82 | E58: 96 | F58: 35 | G58: 39 | H58: 1052 | I58: 13 | J58: 69 | K58: 28 | L58: 31 | M58: 36 | N58: 30 | O58: =SUM(C58:N58) -> 1564
A59: 鶏痘（鶏） | B59: 戸 | C59: 1 | D59: 0 | E59: 0 | F59: 0 | G59: 0 | H59: 1 | I59: 0 | J59: 0 | K59: 0 | L59: 2 | M59: 1 | N59: 2 | O59: =SUM(C59:N59) -> 7
B60: 羽 | C60: 107 | D60: 0 | E60: 6 | F60: 0 | G60: 0 | H60: 600 | I60: 0 | J60: 0 | K60: 0 | L60: 9 | M60: 11 | N60: 3 | O60: =SUM(C60:N60) -> 736
A61: マレック病（鶏） | B61: 戸 | C61: 28 | D61: 22 | E61: 30 | F61: 32 | G61: 16 | H61: 19 | I61: 18 | J61: 15 | K61: 13 | L61: 11 | M61: 14 | N61: 17 | O61: =SUM(C61:N61) -> 235
B62: 羽 | C62: 761 | D62: 918 | E62: 2223 | F62: 431 | G62: 361 | H62: 184 | I62: 153 | J62: 101 | K62: 1001 | L62: 486 | M62: 266 | N62: 352 | O62: =SUM(C62:N62) -> 7237
A63: 伝染性 | B63: 戸 | C63: 0 | D63: 1 | E63: 1 | F63: 3 | G63: 0 | H63: 3 | I63: 1 | J63: 1 | K63: 0 | L63: 1 | M63: 0 | N63: 0 | O63: =SUM(C63:N63) -> 11
A64: 気管支炎（鶏） | B64: 羽 | C64: 0 | D64: 16 | E64: 47 | F64: 2890 | G64: 0 | H64: 8480 | I64: 2640 | J64: 1000 | K64: 0 | L64: 3000 | M64: 0 | N64: 0 | O64: =SUM(C64:N64) -> 18073
A65: 伝染性 | B65: 戸 | C65: 0 | D65: 2 | E65: 0 | F65: 0 | G65: 1 | H65: 1 | I65: 0 | J65: 0 | K65: 0 | L65: 0 | M65: 0 | N65: 0 | O65: =SUM(C65:N65) -> 4
A66: 喉頭気管炎（鶏） | B66: 羽 | C66: 0 | D66: 1380 | E66: 0 | F66: 0 | G66: 776 | H66: 8 | I66: 0 | J66: 0 | K66: 0 | L66: 0 | M66: 0 | N66: 0 | O66: =SUM(C66:N66) -> 2164
A67: 伝染性ﾌｧﾌﾞﾘ | B67: 戸 | C67: 1 | D67: 1 | E67: 0 | F67: 1 | G67: 0 | H67: 1 | I67: 1 | J67: 0 | K67: 0 | L67: 1 | M67: 0 | N67: 0 | O67: =SUM(C67:N67) -> 6
A68: ｷｳｽ嚢病（鶏） | B68: 羽 | C68: 17 | D68: 120 | E68: 0 | F68: 100 | G68: 0 | H68: 75 | I68: 5 | J68: 0 | K68: 0 | L68: 71 | M68: 0 | N68: 0 | O68: =SUM(C68:N68) -> 388
A69: 鶏白血病（鶏） | B69: 戸 | C69: 1 | D69: 1 | E69: 3 | F69: 2 | G69: 3 | H69: 4 | I69: 2 | J69: 0 | K69: 4 | L69: 3 | M69: 1 | N69: 0 | O69: =SUM(C69:N69) -> 24
B70: 羽 | C70: 1 | D70: 1 | E70: 3 | F70: 2 | G70: 4 | H70: 5 | I70: 4 | J70: 0 | K70: 5 | L70: 5 | M70: 4 | N70: 0 | O70: =SUM(C70:N70) -> 34
A71: 鶏ﾏｲｺﾌﾟﾗｽﾞﾏ | B71: 戸 | C71: 0 | D71: 0 | E71: 1 | F71: 1 | G71: 0 | H71: 0 | I71: 0 | J71: 0 | K71: 0 | L71: 0 | M71: 1 | N71: 0 | O71: =SUM(C71:N71) -> 3
A72: 病（鶏） | B72: 羽 | C72: 0 | D72: 0 | E72: 17 | F72: 17 | G72: 0 | H72: 0 | I72: 0 | J72: 0 | K72: 0 | L72: 0 | M72: 15 | N72: 0 | O72: =SUM(C72:N72) -> 49
A73: ﾛｲｺﾁﾄｿﾞｰﾝ病 | B73: 戸 | C73: 0 | D73: 0 | E73: 0 | F73: 0 | G73: 0 | H73: 0 | I73: 2 | J73: 3 | K73: 3 | L73: 1 | M73: 0 | N73: 0 | O73: =SUM(C73:N73) -> 9
A74: （鶏） | B74: 羽 | C74: 0 | D74: 0 | E74: 0 | F74: 0 | G74: 0 | H74: 0 | I74: 10011 | J74: 2018 | K74: 2052 | L74: 2000 | M74: 0 | N74: 0 | O74: =SUM(C74:N74) -> 16081
A75: バロア病 | B75: 戸 | C75: 0 | D75: 0 | E75: 0 | F75: 0 | G75: 0 | H75: 0 | I75: 0 | J75: 42 | K75: 5 | L75: 2 | M75: 0 | N75: 0 | O75: =SUM(C75:N75) -> 49
A76: （みつばち） | B76: 群 | C76: 0 | D76: 0 | E76: 0 | F76: 0 | G76: 0 | H76: 0 | I76: 0 | J76: 689 | K76: 59 | L76: 6 | M76: 0 | N76: 0 | O76: =SUM(C76:N76) -> 754
A77: チョーク病 | B77: 戸 | C77: 0 | D77: 0 | E77: 1 | F77: 5 | G77: 1 | H77: 0 | I77: 0 | J77: 80 | K77: 26 | L77: 5 | M77: 1 | N77: 0 | O77: =SUM(C77:N77) -> 119
A78: （みつばち） | B78: 群 | C78: 0 | D78: 0 | E78: 5 | F78: 13 | G78: 5 | H78: 0 | I78: 0 | J78: 1468 | K78: 440 | L78: 10 | M78: 1 | N78: 0 | O78: =SUM(C78:N78) -> 1942
A79: 兎ウイルス性 | B79: 戸 | C79: 0 | D79: 0 | E79: 0 | F79: 0 | G79: 0 | H79: 0 | I79: 0 | J79: 0 | K79: 0 | L79: 0 | M79: 0 | N79: 1 | O79: =SUM(C79:N79) -> 1
A80: 出血病（兎） | B80: 群 | C80: 0 | D80: 0 | E80: 0 | F80: 0 | G80: 0 | H80: 0 | I80: 0 | J80: 0 | K80: 0 | L80: 0 | M80: 0 | N80: 4 | O80: =SUM(C80:N80) -> 4
