Workbook

Sheet 法定県別
A1: １．家畜伝染病の県別発生状況（平成１２年）
A3: 伝染病の | C3: 口蹄疫 | E3: 流行性 | G3: 炭疽 | I3: 結核病 | K3: ヨーネ病 | M3: ヨーネ病 | O3: ヨーネ病 | Q3: 伝染性海 | S3: ニューカッスル | U3: 家きんサル | W3: 腐蛆病
A4: 種 類 | E4: 脳炎 | Q4: 綿状脳症 | S4: 病 | U4: モネラ感染症
A5: 家畜の種類 | C5: 牛 | E5: 豚 | G5: 牛 | I5: 牛 | K5: 牛 | M5: めん羊 | O5: 山羊 | Q5: めん羊 | S5: 鶏 | U5: 鶏 | W5: みつばち
C6: 戸 | D6: 頭 | E6: 戸 | F6: 頭 | G6: 戸 | H6: 頭 | I6: 戸 | J6: 頭 | K6: 戸 | L6: 頭 | M6: 戸 | N6: 頭 | O6: 戸 | P6: 頭 | Q6: 戸 | R6: 頭 | S6: 戸 | T6: 羽 | U6: 戸 | V6: 羽 | W6: 戸 | X6: 群
C7: 数 | D7: 数 | E7: 数 | F7: 数 | G7: 数 | H7: 数 | I7: 数 | J7: 数 | K7: 数 | L7: 数 | M7: 数 | N7: 数 | O7: 数 | P7: 数 | Q7: 数 | R7: 数 | S7: 数 | T7: 数 | U7: 数 | V7: 数 | W7: 数 | X7: 数
A8: 01 | B8: 北海道 | C8: =[1]法定・北海道!$Z$3 -> 1 | D8: =[1]法定・北海道!$AA$3 -> 2 | E8: =[1]法定・北海道!$Z$4 -> 0 | F8: =[1]法定・北海道!$AA$4 -> 0 | G8: =[1]法定・北海道!$Z$5 -> 0 | H8: =[1]法定・北海道!$AA$5 -> 0 | I8: =[1]法定・北海道!$Z$7 -> 0 | J8: =[1]法定・北海道!$AA$7 -> 0 | K8: =[1]法定・北海道!$Z$8 -> 256 | L8: =[1]法定・北海道!$AA$8 -> 601 | M8: =[1]法定・北海道!$Z$9 -> 0 | N8: =[1]法定・北海道!$AA$9 -> 0 | O8: =[1]法定・北海道!$Z$10 -> 0 | P8: =[1]法定・北海道!$AA$10 -> 0 | Q8: =[1]法定・北海道!$Z$13 -> 0 | R8: =[1]法定・北海道!$AA$13 -> 0 | S8: =[1]法定・北海道!$Z$16 -> 0 | T8: =[1]法定・北海道!$AA$16 -> 0 | U8: =[1]法定・北海道!$Z$17 -> 0 | V8: =[1]法定・北海道!$AA$17 -> 0 | W8: =[1]法定・北海道!$Z$18 -> 1 | X8: =[1]法定・北海道!$AA$18 -> 28
A9: 02 | B9: 青森 | C9: =[2]法定・青森県!$Z$3 -> 0 | D9: =[2]法定・青森県!$AA$3 -> 0 | E9: =[2]法定・青森県!$Z$4 -> 0 | F9: =[2]法定・青森県!$AA$4 -> 0 | G9: =[2]法定・青森県!$Z$5 -> 0 | H9: =[2]法定・青森県!$AA$5 -> 0 | I9: =[2]法定・青森県!$Z$7 -> 0 | J9: =[2]法定・青森県!$AA$7 -> 0 | K9: =[2]法定・青森県!$Z$8 -> 12 | L9: =[2]法定・青森県!$AA$8 -> 15 | M9: =[2]法定・青森県!$Z$9 -> 0 | N9: =[2]法定・青森県!$AA$9 -> 0 | O9: =[2]法定・青森県!$Z$10 -> 0 | P9: =[2]法定・青森県!$AA$10 -> 0 | Q9: =[2]法定・青森県!$Z$13 -> 0 | R9: =[2]法定・青森県!$AA$13 -> 0 | S9: =[2]法定・青森県!$Z$16 -> 0 | T9: =[2]法定・青森県!$AA$16 -> 0 | U9: =[2]法定・青森県!$Z$17 -> 0 | V9: =[2]法定・青森県!$AA$17 -> 0 | W9: =[2]法定・青森県!$Z$18 -> 0 | X9: =[2]法定・青森県!$AA$18 -> 0
A10: 03 | B10: 岩手 | C10: =[3]法定・岩手県!$Z$3 -> 0 | D10: =[3]法定・岩手県!$AA$3 -> 0 | E10: =[3]法定・岩手県!$Z$4 -> 0 | F10: =[3]法定・岩手県!$AA$4 -> 0 | G10: =[3]法定・岩手県!$Z$5 -> 0 | H10: =[3]法定・岩手県!$AA$5 -> 0 | I10: =[3]法定・岩手県!$Z$7 -> 0 | J10: =[3]法定・岩手県!$AA$7 -> 0 | K10: =[3]法定・岩手県!$Z$8 -> 7 | L10: =[3]法定・岩手県!$AA$8 -> 7 | M10: =[3]法定・岩手県!$Z$9 -> 0 | N10: =[3]法定・岩手県!$AA$9 -> 0 | O10: =[3]法定・岩手県!$Z$10 -> 0 | P10: =[3]法定・岩手県!$AA$10 -> 0 | Q10: =[3]法定・岩手県!$Z$13 -> 0 | R10: =[3]法定・岩手県!$AA$13 -> 0 | S10: =[3]法定・岩手県!$Z$16 -> 0 | T10: =[3]法定・岩手県!$AA$16 -> 0 | U10: =[3]法定・岩手県!$Z$17 -> 0 | V10: =[3]法定・岩手県!$AA$17 -> 0 | W10: =[3]法定・岩手県!$Z$18 -> 0 | X10: =[3]法定・岩手県!$AA$18 -> 0
A11: 04 | B11: 宮城 | C11: =[4]法定・宮城県!$Z$3 -> 0 | D11: =[4]法定・宮城県!$AA$3 -> 0 | E11: =[4]法定・宮城県!$Z$4 -> 0 | F11: =[4]法定・宮城県!$AA$4 -> 0 | G11: =[4]法定・宮城県!$Z$5 -> 0 | H11: =[4]法定・宮城県!$AA$5 -> 0 | I11: =[4]法定・宮城県!$Z$7 -> 1 | J11: =[4]法定・宮城県!$AA$7 -> 1 | K11: =[4]法定・宮城県!$Z$8 -> 3 | L11: =[4]法定・宮城県!$AA$8 -> 11 | M11: =[4]法定・宮城県!$Z$9 -> 0 | N11: =[4]法定・宮城県!$AA$9 -> 0 | O11: =[4]法定・宮城県!$Z$10 -> 0 | P11: =[4]法定・宮城県!$AA$10 -> 0 | Q11: =[4]法定・宮城県!$Z$13 -> 0 | R11: =[4]法定・宮城県!$AA$13 -> 0 | S11: =[4]法定・宮城県!$Z$16 -> 0 | T11: =[4]法定・宮城県!$AA$16 -> 0 | U11: =[4]法定・宮城県!$Z$17 -> 1 | V11: =[4]法定・宮城県!$AA$17 -> 30 | W11: =[4]法定・宮城県!$Z$18 -> 0 | X11: =[4]法定・宮城県!$AA$18 -> 0
A12: 05 | B12: 秋田 | C12: =[5]法定・秋田県!$Z$3 -> 0 | D12: =[5]法定・秋田県!$AA$3 -> 0 | E12: =[5]法定・秋田県!$Z$4 -> 0 | F12: =[5]法定・秋田県!$AA$4 -> 0 | G12: =[5]法定・秋田県!$Z$5 -> 0 | H12: =[5]法定・秋田県!$AA$5 -> 0 | I12: =[5]法定・秋田県!$Z$7 -> 0 | J12: =[5]法定・秋田県!$AA$7 -> 0 | K12: =[5]法定・秋田県!$Z$8 -> 0 | L12: =[5]法定・秋田県!$AA$8 -> 0 | M12: =[5]法定・秋田県!$Z$9 -> 0 | N12: =[5]法定・秋田県!$AA$9 -> 0 | O12: =[5]法定・秋田県!$Z$10 -> 0 | P12: =[5]法定・秋田県!$AA$10 -> 0 | Q12: =[5]法定・秋田県!$Z$13 -> 0 | R12: =[5]法定・秋田県!$AA$13 -> 0 | S12: =[5]法定・秋田県!$Z$16 -> 0 | T12: =[5]法定・秋田県!$AA$16 -> 0 | U12: =[5]法定・秋田県!$Z$17 -> 0 | V12: =[5]法定・秋田県!$AA$17 -> 0 | W12: =[5]法定・秋田県!$Z$18 -> 0 | X12: =[5]法定・秋田県!$AA$18 -> 0
A13: 06 | B13: 山形 | C13: =[6]法定・山形県!$Z$3 -> 0 | D13: =[6]法定・山形県!$AA$3 -> 0 | E13: =[6]法定・山形県!$Z$4 -> 0 | F13: =[6]法定・山形県!$AA$4 -> 0 | G13: =[6]法定・山形県!$Z$5 -> 0 | H13: =[6]法定・山形県!$AA$5 -> 0 | I13: =[6]法定・山形県!$Z$7 -> 0 | J13: =[6]法定・山形県!$AA$7 -> 0 | K13: =[6]法定・山形県!$Z$8 -> 1 | L13: =[6]法定・山形県!$AA$8 -> 1 | M13: =[6]法定・山形県!$Z$9 -> 0 | N13: =[6]法定・山形県!$AA$9 -> 0 | O13: =[6]法定・山形県!$Z$10 -> 0 | P13: =[6]法定・山形県!$AA$10 -> 0 | Q13: =[6]法定・山形県!$Z$13 -> 0 | R13: =[6]法定・山形県!$AA$13 -> 0 | S13: =[6]法定・山形県!$Z$16 -> 0 | T13: =[6]法定・山形県!$AA$16 -> 0 | U13: =[6]法定・山形県!$Z$17 -> 0 | V13: =[6]法定・山形県!$AA$17 -> 0 | W13: =[6]法定・山形県!$Z$18 -> 3 | X13: =[6]法定・山形県!$AA$18 -> 7
A14: 07 | B14: 福島 | C14: =[7]法定・福島県!$Z$3 -> 0 | D14: =[7]法定・福島県!$AA$3 -> 0 | E14: =[7]法定・福島県!$Z$4 -> 0 | F14: =[7]法定・福島県!$AA$4 -> 0 | G14: =[7]法定・福島県!$Z$5 -> 0 | H14: =[7]法定・福島県!$AA$5 -> 0 | I14: =[7]法定・福島県!$Z$7 -> 0 | J14: =[7]法定・福島県!$AA$7 -> 0 | K14: =[7]法定・福島県!$Z$8 -> 11 | L14: =[7]法定・福島県!$AA$8 -> 25 | M14: =[7]法定・福島県!$Z$9 -> 0 | N14: =[7]法定・福島県!$AA$9 -> 0 | O14: =[7]法定・福島県!$Z$10 -> 0 | P14: =[7]法定・福島県!$AA$10 -> 0 | Q14: =[7]法定・福島県!$Z$13 -> 0 | R14: =[7]法定・福島県!$AA$13 -> 0 | S14: =[7]法定・福島県!$Z$16 -> 0 | T14: =[7]法定・福島県!$AA$16 -> 0 | U14: =[7]法定・福島県!$Z$17 -> 0 | V14: =[7]法定・福島県!$AA$17 -> 0 | W14: =[7]法定・福島県!$Z$18 -> 14 | X14: =[7]法定・福島県!$AA$18 -> 27
A15: 08 | B15: 茨城 | C15: =[8]法定・茨城県!$Z$3 -> 0 | D15: =[8]法定・茨城県!$AA$3 -> 0 | E15: =[8]法定・茨城県!$Z$4 -> 0 | F15: =[8]法定・茨城県!$AA$4 -> 0 | G15: =[8]法定・茨城県!$Z$5 -> 0 | H15: =[8]法定・茨城県!$AA$5 -> 0 | I15: =[8]法定・茨城県!$Z$7 -> 0 | J15: =[8]法定・茨城県!$AA$7 -> 0 | K15: =[8]法定・茨城県!$Z$8 -> 6 | L15: =[8]法定・茨城県!$AA$8 -> 8 | M15: =[8]法定・茨城県!$Z$9 -> 0 | N15: =[8]法定・茨城県!$AA$9 -> 0 | O15: =[8]法定・茨城県!$Z$10 -> 0 | P15: =[8]法定・茨城県!$AA$10 -> 0 | Q15: =[8]法定・茨城県!$Z$13 -> 0 | R15: =[8]法定・茨城県!$AA$13 -> 0 | S15: =[8]法定・茨城県!$Z$16 -> 1 | T15: =[8]法定・茨城県!$AA$16 -> 6000 | U15: =[8]法定・茨城県!$Z$17 -> 0 | V15: =[8]法定・茨城県!$AA$17 -> 0 | W15: =[8]法定・茨城県!$Z$18 -> 1 | X15: =[8]法定・茨城県!$AA$18 -> 5
A16: 09 | B16: 栃木 | C16: =[9]法定・栃木県!$Z$3 -> 0 | D16: =[9]法定・栃木県!$AA$3 -> 0 | E16: =[9]法定・栃木県!$Z$4 -> 0 | F16: =[9]法定・栃木県!$AA$4 -> 0 | G16: =[9]法定・栃木県!$Z$5 -> 0 | H16: =[9]法定・栃木県!$AA$5 -> 0 | I16: =[9]法定・栃木県!$Z$7 -> 0 | J16: =[9]法定・栃木県!$AA$7 -> 0 | K16: =[9]法定・栃木県!$Z$8 -> 8 | L16: =[9]法定・栃木県!$AA$8 -> 12 | M16: =[9]法定・栃木県!$Z$9 -> 0 | N16: =[9]法定・栃木県!$AA$9 -> 0 | O16: =[9]法定・栃木県!$Z$10 -> 0 | P16: =[9]法定・栃木県!$AA$10 -> 0 | Q16: =[9]法定・栃木県!$Z$13 -> 0 | R16: =[9]法定・栃木県!$AA$13 -> 0 | S16: =[9]法定・栃木県!$Z$16 -> 0 | T16: =[9]法定・栃木県!$AA$16 -> 0 | U16: =[9]法定・栃木県!$Z$17 -> 0 | V16: =[9]法定・栃木県!$AA$17 -> 0 | W16: =[9]法定・栃木県!$Z$18 -> 1 | X16: =[9]法定・栃木県!$AA$18 -> 2
A17: 10 | B17: 群馬 | C17: =[10]法定・群馬県!$Z$3 -> 0 | D17: =[10]法定・群馬県!$AA$3 -> 0 | E17: =[10]法定・群馬県!$Z$4 -> 0 | F17: =[10]法定・群馬県!$AA$4 -> 0 | G17: =[10]法定・群馬県!$Z$5 -> 0 | H17: =[10]法定・群馬県!$AA$5 -> 0 | I17: =[10]法定・群馬県!$Z$7 -> 0 | J17: =[10]法定・群馬県!$AA$7 -> 0 | K17: =[10]法定・群馬県!$Z$8 -> 7 | L17: =[10]法定・群馬県!$AA$8 -> 9 | M17: =[10]法定・群馬県!$Z$9 -> 0 | N17: =[10]法定・群馬県!$AA$9 -> 0 | O17: =[10]法定・群馬県!$Z$10 -> 0 | P17: =[10]法定・群馬県!$AA$10 -> 0 | Q17: =[10]法定・群馬県!$Z$13 -> 0 | R17: =[10]法定・群馬県!$AA$13 -> 0 | S17: =[10]法定・群馬県!$Z$16 -> 0 | T17: =[10]法定・群馬県!$AA$16 -> 0 | U17: =[10]法定・群馬県!$Z$17 -> 0 | V17: =[10]法定・群馬県!$AA$17 -> 0 | W17: =[10]法定・群馬県!$Z$18 -> 3 | X17: =[10]法定・群馬県!$AA$18 -> 29
A18: 11 | B18: 埼玉 | C18: =[11]法定・埼玉県!$Z$3 -> 0 | D18: =[11]法定・埼玉県!$AA$3 -> 0 | E18: =[11]法定・埼玉県!$Z$4 -> 1 | F18: =[11]法定・埼玉県!$AA$4 -> 1 | G18: =[11]法定・埼玉県!$Z$5 -> 0 | H18: =[11]法定・埼玉県!$AA$5 -> 0 | I18: =[11]法定・埼玉県!$Z$7 -> 0 | J18: =[11]法定・埼玉県!$AA$7 -> 0 | K18: =[11]法定・埼玉県!$Z$8 -> 2 | L18: =[11]法定・埼玉県!$AA$8 -> 2 | M18: =[11]法定・埼玉県!$Z$9 -> 0 | N18: =[11]法定・埼玉県!$AA$9 -> 0 | O18: =[11]法定・埼玉県!$Z$10 -> 0 | P18: =[11]法定・埼玉県!$AA$10 -> 0 | Q18: =[11]法定・埼玉県!$Z$13 -> 0 | R18: =[11]法定・埼玉県!$AA$13 -> 0 | S18: =[11]法定・埼玉県!$Z$16 -> 0 | T18: =[11]法定・埼玉県!$AA$16 -> 0 | U18: =[11]法定・埼玉県!$Z$17 -> 0 | V18: =[11]法定・埼玉県!$AA$17 -> 0 | W18: =[11]法定・埼玉県!$Z$18 -> 2 | X18: =[11]法定・埼玉県!$AA$18 -> 7
A19: 12 | B19: 千葉 | C19: =[12]法定・千葉県!$Z$3 -> 0 | D19: =[12]法定・千葉県!$AA$3 -> 0 | E19: =[12]法定・千葉県!$Z$4 -> 0 | F19: =[12]法定・千葉県!$AA$4 -> 0 | G19: =[12]法定・千葉県!$Z$5 -> 0 | H19: =[12]法定・千葉県!$AA$5 -> 0 | I19: =[12]法定・千葉県!$Z$7 -> 0 | J19: =[12]法定・千葉県!$AA$7 -> 0 | K19: =[12]法定・千葉県!$Z$8 -> 8 | L19: =[12]法定・千葉県!$AA$8 -> 9 | M19: =[12]法定・千葉県!$Z$9 -> 0 | N19: =[12]法定・千葉県!$AA$9 -> 0 | O19: =[12]法定・千葉県!$Z$10 -> 0 | P19: =[12]法定・千葉県!$AA$10 -> 0 | Q19: =[12]法定・千葉県!$Z$13 -> 0 | R19: =[12]法定・千葉県!$AA$13 -> 0 | S19: =[12]法定・千葉県!$Z$16 -> 4 | T19: =[12]法定・千葉県!$AA$16 -> 1112 | U19: =[12]法定・千葉県!$Z$17 -> 0 | V19: =[12]法定・千葉県!$AA$17 -> 0 | W19: =[12]法定・千葉県!$Z$18 -> 0 | X19: =[12]法定・千葉県!$AA$18 -> 0
A20: 13 | B20: 東京 | C20: =[13]法定・東京都!$Z$3 -> 0 | D20: =[13]法定・東京都!$AA$3 -> 0 | E20: =[13]法定・東京都!$Z$4 -> 0 | F20: =[13]法定・東京都!$AA$4 -> 0 | G20: =[13]法定・東京都!$Z$5 -> 0 | H20: =[13]法定・東京都!$AA$5 -> 0 | I20: =[13]法定・東京都!$Z$7 -> 0 | J20: =[13]法定・東京都!$AA$7 -> 0 | K20: =[13]法定・東京都!$Z$8 -> 4 | L20: =[13]法定・東京都!$AA$8 -> 4 | M20: =[13]法定・東京都!$Z$9 -> 0 | N20: =[13]法定・東京都!$AA$9 -> 0 | O20: =[13]法定・東京都!$Z$10 -> 0 | P20: =[13]法定・東京都!$AA$10 -> 0 | Q20: =[13]法定・東京都!$Z$13 -> 0 | R20: =[13]法定・東京都!$AA$13 -> 0 | S20: =[13]法定・東京都!$Z$16 -> 0 | T20: =[13]法定・東京都!$AA$16 -> 0 | U20: =[13]法定・東京都!$Z$17 -> 0 | V20: =[13]法定・東京都!$AA$17 -> 0 | W20: =[13]法定・東京都!$Z$18 -> 0 | X20: =[13]法定・東京都!$AA$18 -> 0
A21: 14 | B21: 神奈川 | C21: =[14]法定・神奈川県!$Z$3 -> 0 | D21: =[14]法定・神奈川県!$AA$3 -> 0 | E21: =[14]法定・神奈川県!$Z$4 -> 0 | F21: =[14]法定・神奈川県!$AA$4 -> 0 | G21: =[14]法定・神奈川県!$Z$5 -> 0 | H21: =[14]法定・神奈川県!$AA$5 -> 0 | I21: =[14]法定・神奈川県!$Z$7 -> 0 | J21: =[14]法定・神奈川県!$AA$7 -> 0 | K21: =[14]法定・神奈川県!$Z$8 -> 4 | L21: =[14]法定・神奈川県!$AA$8 -> 4 | M21: =[14]法定・神奈川県!$Z$9 -> 0 | N21: =[14]法定・神奈川県!$AA$9 -> 0 | O21: =[14]法定・神奈川県!$Z$10 -> 0 | P21: =[14]法定・神奈川県!$AA$10 -> 0 | Q21: =[14]法定・神奈川県!$Z$13 -> 0 | R21: =[14]法定・神奈川県!$AA$13 -> 0 | S21: =[14]法定・神奈川県!$Z$16 -> 0 | T21: =[14]法定・神奈川県!$AA$16 -> 0 | U21: =[14]法定・神奈川県!$Z$17 -> 0 | V21: =[14]法定・神奈川県!$AA$17 -> 0 | W21: =[14]法定・神奈川県!$Z$18 -> 0 | X21: =[14]法定・神奈川県!$AA$18 -> 0
A22: 15 | B22: 新潟 | C22: =[15]法定・新潟県!$Z$3 -> 0 | D22: =[15]法定・新潟県!$AA$3 -> 0 | E22: =[15]法定・新潟県!$Z$4 -> 0 | F22: =[15]法定・新潟県!$AA$4 -> 0 | G22: =[15]法定・新潟県!$Z$5 -> 0 | H22: =[15]法定・新潟県!$AA$5 -> 0 | I22: =[15]法定・新潟県!$Z$7 -> 0 | J22: =[15]法定・新潟県!$AA$7 -> 0 | K22: =[15]法定・新潟県!$Z$8 -> 0 | L22: =[15]法定・新潟県!$AA$8 -> 0 | M22: =[15]法定・新潟県!$Z$9 -> 0 | N22: =[15]法定・新潟県!$AA$9 -> 0 | O22: =[15]法定・新潟県!$Z$10 -> 0 | P22: =[15]法定・新潟県!$AA$10 -> 0 | Q22: =[15]法定・新潟県!$Z$13 -> 0 | R22: =[15]法定・新潟県!$AA$13 -> 0 | S22: =[15]法定・新潟県!$Z$16 -> 0 | T22: =[15]法定・新潟県!$AA$16 -> 0 | U22: =[15]法定・新潟県!$Z$17 -> 0 | V22: =[15]法定・新潟県!$AA$17 -> 0 | W22: =[15]法定・新潟県!$Z$18 -> 0 | X22: =[15]法定・新潟県!$AA$18 -> 0
A23: 16 | B23: 富山 | C23: =[16]法定・富山県!$Z$3 -> 0 | D23: =[16]法定・富山県!$AA$3 -> 0 | E23: =[16]法定・富山県!$Z$4 -> 0 | F23: =[16]法定・富山県!$AA$4 -> 0 | G23: =[16]法定・富山県!$Z$5 -> 0 | H23: =[16]法定・富山県!$AA$5 -> 0 | I23: =[16]法定・富山県!$Z$7 -> 0 | J23: =[16]法定・富山県!$AA$7 -> 0 | K23: =[16]法定・富山県!$Z$8 -> 3 | L23: =[16]法定・富山県!$AA$8 -> 3 | M23: =[16]法定・富山県!$Z$9 -> 0 | N23: =[16]法定・富山県!$AA$9 -> 0 | O23: =[16]法定・富山県!$Z$10 -> 0 | P23: =[16]法定・富山県!$AA$10 -> 0 | Q23: =[16]法定・富山県!$Z$13 -> 0 | R23: =[16]法定・富山県!$AA$13 -> 0 | S23: =[16]法定・富山県!$Z$16 -> 0 | T23: =[16]法定・富山県!$AA$16 -> 0 | U23: =[16]法定・富山県!$Z$17 -> 0 | V23: =[16]法定・富山県!$AA$17 -> 0 | W23: =[16]法定・富山県!$Z$18 -> 0 | X23: =[16]法定・富山県!$AA$18 -> 0
A24: 17 | B24: 石川 | C24: =[17]法定・石川県!$Z$3 -> 0 | D24: =[17]法定・石川県!$AA$3 -> 0 | E24: =[17]法定・石川県!$Z$4 -> 0 | F24: =[17]法定・石川県!$AA$4 -> 0 | G24: =[17]法定・石川県!$Z$5 -> 0 | H24: =[17]法定・石川県!$AA$5 -> 0 | I24: =[17]法定・石川県!$Z$7 -> 0 | J24: =[17]法定・石川県!$AA$7 -> 0 | K24: =[17]法定・石川県!$Z$8 -> 0 | L24: =[17]法定・石川県!$AA$8 -> 0 | M24: =[17]法定・石川県!$Z$9 -> 0 | N24: =[17]法定・石川県!$AA$9 -> 0 | O24: =[17]法定・石川県!$Z$10 -> 0 | P24: =[17]法定・石川県!$AA$10 -> 0 | Q24: =[17]法定・石川県!$Z$13 -> 0 | R24: =[17]法定・石川県!$AA$13 -> 0 | S24: =[17]法定・石川県!$Z$16 -> 0 | T24: =[17]法定・石川県!$AA$16 -> 0 | U24: =[17]法定・石川県!$Z$17 -> 0 | V24: =[17]法定・石川県!$AA$17 -> 0 | W24: =[17]法定・石川県!$Z$18 -> 0 | X24: =[17]法定・石川県!$AA$18 -> 0
A25: 18 | B25: 福井 | C25: =[18]法定・福井県!$Z$3 -> 0 | D25: =[18]法定・福井県!$AA$3 -> 0 | E25: =[18]法定・福井県!$Z$4 -> 0 | F25: =[18]法定・福井県!$AA$4 -> 0 | G25: =[18]法定・福井県!$Z$5 -> 0 | H25: =[18]法定・福井県!$AA$5 -> 0 | I25: =[18]法定・福井県!$Z$7 -> 1 | J25: =[18]法定・福井県!$AA$7 -> 1 | K25: =[18]法定・福井県!$Z$8 -> 0 | L25: =[18]法定・福井県!$AA$8 -> 0 | M25: =[18]法定・福井県!$Z$9 -> 0 | N25: =[18]法定・福井県!$AA$9 -> 0 | O25: =[18]法定・福井県!$Z$10 -> 0 | P25: =[18]法定・福井県!$AA$10 -> 0 | Q25: =[18]法定・福井県!$Z$13 -> 0 | R25: =[18]法定・福井県!$AA$13 -> 0 | S25: =[18]法定・福井県!$Z$16 -> 0 | T25: =[18]法定・福井県!$AA$16 -> 0 | U25: =[18]法定・福井県!$Z$17 -> 0 | V25: =[18]法定・福井県!$AA$17 -> 0 | W25: =[18]法定・福井県!$Z$18 -> 0 | X25: =[18]法定・福井県!$AA$18 -> 0
A26: 19 | B26: 山梨 | C26: =[19]法定・山梨県!$Z$3 -> 0 | D26: =[19]法定・山梨県!$AA$3 -> 0 | E26: =[19]法定・山梨県!$Z$4 -> 0 | F26: =[19]法定・山梨県!$AA$4 -> 0 | G26: =[19]法定・山梨県!$Z$5 -> 0 | H26: =[19]法定・山梨県!$AA$5 -> 0 | I26: =[19]法定・山梨県!$Z$7 -> 0 | J26: =[19]法定・山梨県!$AA$7 -> 0 | K26: =[19]法定・山梨県!$Z$8 -> 3 | L26: =[19]法定・山梨県!$AA$8 -> 3 | M26: =[19]法定・山梨県!$Z$9 -> 0 | N26: =[19]法定・山梨県!$AA$9 -> 0 | O26: =[19]法定・山梨県!$Z$10 -> 0 | P26: =[19]法定・山梨県!$AA$10 -> 0 | Q26: =[19]法定・山梨県!$Z$13 -> 0 | R26: =[19]法定・山梨県!$AA$13 -> 0 | S26: =[19]法定・山梨県!$Z$16 -> 0 | T26: =[19]法定・山梨県!$AA$16 -> 0 | U26: =[19]法定・山梨県!$Z$17 -> 0 | V26: =[19]法定・山梨県!$AA$17 -> 0 | W26: =[19]法定・山梨県!$Z$18 -> 0 | X26: =[19]法定・山梨県!$AA$18 -> 0
A27: 20 | B27: 長野 | C27: =[20]法定・長野県!$Z$3 -> 0 | D27: =[20]法定・長野県!$AA$3 -> 0 | E27: =[20]法定・長野県!$Z$4 -> 0 | F27: =[20]法定・長野県!$AA$4 -> 0 | G27: =[20]法定・長野県!$Z$5 -> 0 | H27: =[20]法定・長野県!$AA$5 -> 0 | I27: =[20]法定・長野県!$Z$7 -> 0 | J27: =[20]法定・長野県!$AA$7 -> 0 | K27: =[20]法定・長野県!$Z$8 -> 3 | L27: =[20]法定・長野県!$AA$8 -> 7 | M27: =[20]法定・長野県!$Z$9 -> 1 | N27: =[20]法定・長野県!$AA$9 -> 1 | O27: =[20]法定・長野県!$Z$10 -> 3 | P27: =[20]法定・長野県!$AA$10 -> 4 | Q27: =[20]法定・長野県!$Z$13 -> 0 | R27: =[20]法定・長野県!$AA$13 -> 0 | S27: =[20]法定・長野県!$Z$16 -> 0 | T27: =[20]法定・長野県!$AA$16 -> 0 | U27: =[20]法定・長野県!$Z$17 -> 0 | V27: =[20]法定・長野県!$AA$17 -> 0 | W27: =[20]法定・長野県!$Z$18 -> 22 | X27: =[20]法定・長野県!$AA$18 -> 58
A28: 21 | B28: 岐阜 | C28: =[21]法定・岐阜県!$Z$3 -> 0 | D28: =[21]法定・岐阜県!$AA$3 -> 0 | E28: =[21]法定・岐阜県!$Z$4 -> 0 | F28: =[21]法定・岐阜県!$AA$4 -> 0 | G28: =[21]法定・岐阜県!$Z$5 -> 0 | H28: =[21]法定・岐阜県!$AA$5 -> 0 | I28: =[21]法定・岐阜県!$Z$7 -> 0 | J28: =[21]法定・岐阜県!$AA$7 -> 0 | K28: =[21]法定・岐阜県!$Z$8 -> 0 | L28: =[21]法定・岐阜県!$AA$8 -> 0 | M28: =[21]法定・岐阜県!$Z$9 -> 0 | N28: =[21]法定・岐阜県!$AA$9 -> 0 | O28: =[21]法定・岐阜県!$Z$10 -> 0 | P28: =[21]法定・岐阜県!$AA$10 -> 0 | Q28: =[21]法定・岐阜県!$Z$13 -> 0 | R28: =[21]法定・岐阜県!$AA$13 -> 0 | S28: =[21]法定・岐阜県!$Z$16 -> 0 | T28: =[21]法定・岐阜県!$AA$16 -> 0 | U28: =[21]法定・岐阜県!$Z$17 -> 0 | V28: =[21]法定・岐阜県!$AA$17 -> 0 | W28: =[21]法定・岐阜県!$Z$18 -> 3 | X28: =[21]法定・岐阜県!$AA$18 -> 3
A29: 22 | B29: 静岡 | C29: =[22]法定・静岡県!$Z$3 -> 0 | D29: =[22]法定・静岡県!$AA$3 -> 0 | E29: =[22]法定・静岡県!$Z$4 -> 0 | F29: =[22]法定・静岡県!$AA$4 -> 0 | G29: =[22]法定・静岡県!$Z$5 -> 0 | H29: =[22]法定・静岡県!$AA$5 -> 0 | I29: =[22]法定・静岡県!$Z$7 -> 0 | J29: =[22]法定・静岡県!$AA$7 -> 0 | K29: =[22]法定・静岡県!$Z$8 -> 1 | L29: =[22]法定・静岡県!$AA$8 -> 7 | M29: =[22]法定・静岡県!$Z$9 -> 0 | N29: =[22]法定・静岡県!$AA$9 -> 0 | O29: =[22]法定・静岡県!$Z$10 -> 0 | P29: =[22]法定・静岡県!$AA$10 -> 0 | Q29: =[22]法定・静岡県!$Z$13 -> 0 | R29: =[22]法定・静岡県!$AA$13 -> 0 | S29: =[22]法定・静岡県!$Z$16 -> 0 | T29: =[22]法定・静岡県!$AA$16 -> 0 | U29: =[22]法定・静岡県!$Z$17 -> 0 | V29: =[22]法定・静岡県!$AA$17 -> 0 | W29: =[22]法定・静岡県!$Z$18 -> 0 | X29: =[22]法定・静岡県!$AA$18 -> 0
A30: 23 | B30: 愛知 | C30: =[23]法定・愛知県!$Z$3 -> 0 | D30: =[23]法定・愛知県!$AA$3 -> 0 | E30: =[23]法定・愛知県!$Z$4 -> 0 | F30: =[23]法定・愛知県!$AA$4 -> 0 | G30: =[23]法定・愛知県!$Z$5 -> 0 | H30: =[23]法定・愛知県!$AA$5 -> 0 | I30: =[23]法定・愛知県!$Z$7 -> 0 | J30: =[23]法定・愛知県!$AA$7 -> 0 | K30: =[23]法定・愛知県!$Z$8 -> 9 | L30: =[23]法定・愛知県!$AA$8 -> 10 | M30: =[23]法定・愛知県!$Z$9 -> 0 | N30: =[23]法定・愛知県!$AA$9 -> 0 | O30: =[23]法定・愛知県!$Z$10 -> 0 | P30: =[23]法定・愛知県!$AA$10 -> 0 | Q30: =[23]法定・愛知県!$Z$13 -> 0 | R30: =[23]法定・愛知県!$AA$13 -> 0 | S30: =[23]法定・愛知県!$Z$16 -> 0 | T30: =[23]法定・愛知県!$AA$16 -> 0 | U30: =[23]法定・愛知県!$Z$17 -> 0 | V30: =[23]法定・愛知県!$AA$17 -> 0 | W30: =[23]法定・愛知県!$Z$18 -> 0 | X30: =[23]法定・愛知県!$AA$18 -> 0
A31: 24 | B31: 三重 | C31: =[24]法定・三重県!$Z$3 -> 0 | D31: =[24]法定・三重県!$AA$3 -> 0 | E31: =[24]法定・三重県!$Z$4 -> 1 | F31: =[24]法定・三重県!$AA$4 -> 3 | G31: =[24]法定・三重県!$Z$5 -> 0 | H31: =[24]法定・三重県!$AA$5 -> 0 | I31: =[24]法定・三重県!$Z$7 -> 0 | J31: =[24]法定・三重県!$AA$7 -> 0 | K31: =[24]法定・三重県!$Z$8 -> 1 | L31: =[24]法定・三重県!$AA$8 -> 1 | M31: =[24]法定・三重県!$Z$9 -> 0 | N31: =[24]法定・三重県!$AA$9 -> 0 | O31: =[24]法定・三重県!$Z$10 -> 0 | P31: =[24]法定・三重県!$AA$10 -> 0 | Q31: =[24]法定・三重県!$Z$13 -> 0 | R31: =[24]法定・三重県!$AA$13 -> 0 | S31: =[24]法定・三重県!$Z$16 -> 0 | T31: =[24]法定・三重県!$AA$16 -> 0 | U31: =[24]法定・三重県!$Z$17 -> 0 | V31: =[24]法定・三重県!$AA$17 -> 0 | W31: =[24]法定・三重県!$Z$18 -> 0 | X31: =[24]法定・三重県!$AA$18 -> 0
A32: 25 | B32: 滋賀 | C32: =[25]法定・滋賀県!$Z$3 -> 0 | D32: =[25]法定・滋賀県!$AA$3 -> 0 | E32: =[25]法定・滋賀県!$Z$4 -> 0 | F32: =[25]法定・滋賀県!$AA$4 -> 0 | G32: =[25]法定・滋賀県!$Z$5 -> 0 | H32: =[25]法定・滋賀県!$AA$5 -> 0 | I32: =[25]法定・滋賀県!$Z$7 -> 0 | J32: =[25]法定・滋賀県!$AA$7 -> 0 | K32: =[25]法定・滋賀県!$Z$8 -> 0 | L32: =[25]法定・滋賀県!$AA$8 -> 0 | M32: =[25]法定・滋賀県!$Z$9 -> 0 | N32: =[25]法定・滋賀県!$AA$9 -> 0 | O32: =[25]法定・滋賀県!$Z$10 -> 0 | P32: =[25]法定・滋賀県!$AA$10 -> 0 | Q32: =[25]法定・滋賀県!$Z$13 -> 0 | R32: =[25]法定・滋賀県!$AA$13 -> 0 | S32: =[25]法定・滋賀県!$Z$16 -> 0 | T32: =[25]法定・滋賀県!$AA$16 -> 0 | U32: =[25]法定・滋賀県!$Z$17 -> 0 | V32: =[25]法定・滋賀県!$AA$17 -> 0 | W32: =[25]法定・滋賀県!$Z$18 -> 0 | X32: =[25]法定・滋賀県!$AA$18 -> 0
A33: 26 | B33: 京都 | C33: =[26]法定・京都府!$Z$3 -> 0 | D33: =[26]法定・京都府!$AA$3 -> 0 | E33: =[26]法定・京都府!$Z$4 -> 0 | F33: =[26]法定・京都府!$AA$4 -> 0 | G33: =[26]法定・京都府!$Z$5 -> 0 | H33: =[26]法定・京都府!$AA$5 -> 0 | I33: =[26]法定・京都府!$Z$7 -> 0 | J33: =[26]法定・京都府!$AA$7 -> 0 | K33: =[26]法定・京都府!$Z$8 -> 2 | L33: =[26]法定・京都府!$AA$8 -> 7 | M33: =[26]法定・京都府!$Z$9 -> 0 | N33: =[26]法定・京都府!$AA$9 -> 0 | O33: =[26]法定・京都府!$Z$10 -> 0 | P33: =[26]法定・京都府!$AA$10 -> 0 | Q33: =[26]法定・京都府!$Z$13 -> 0 | R33: =[26]法定・京都府!$AA$13 -> 0 | S33: =[26]法定・京都府!$Z$16 -> 0 | T33: =[26]法定・京都府!$AA$16 -> 0 | U33: =[26]法定・京都府!$Z$17 -> 0 | V33: =[26]法定・京都府!$AA$17 -> 0 | W33: =[26]法定・京都府!$Z$18 -> 0 | X33: =[26]法定・京都府!$AA$18 -> 0
A34: 27 | B34: 大阪 | C34: =[27]法定・大阪府!$Z$3 -> 0 | D34: =[27]法定・大阪府!$AA$3 -> 0 | E34: =[27]法定・大阪府!$Z$4 -> 0 | F34: =[27]法定・大阪府!$AA$4 -> 0 | G34: =[27]法定・大阪府!$Z$5 -> 0 | H34: =[27]法定・大阪府!$AA$5 -> 0 | I34: =[27]法定・大阪府!$Z$7 -> 0 | J34: =[27]法定・大阪府!$AA$7 -> 0 | K34: =[27]法定・大阪府!$Z$8 -> 0 | L34: =[27]法定・大阪府!$AA$8 -> 0 | M34: =[27]法定・大阪府!$Z$9 -> 1 | N34: =[27]法定・大阪府!$AA$9 -> 1 | O34: =[27]法定・大阪府!$Z$10 -> 1 | P34: =[27]法定・大阪府!$AA$10 -> 1 | Q34: =[27]法定・大阪府!$Z$13 -> 0 | R34: =[27]法定・大阪府!$AA$13 -> 0 | S34: =[27]法定・大阪府!$Z$16 -> 0 | T34: =[27]法定・大阪府!$AA$16 -> 0 | U34: =[27]法定・大阪府!$Z$17 -> 0 | V34: =[27]法定・大阪府!$AA$17 -> 0 | W34: =[27]法定・大阪府!$Z$18 -> 0 | X34: =[27]法定・大阪府!$AA$18 -> 0
A35: 28 | B35: 兵庫 | C35: =[28]法定・兵庫県!$Z$3 -> 0 | D35: =[28]法定・兵庫県!$AA$3 -> 0 | E35: =[28]法定・兵庫県!$Z$4 -> 0 | F35: =[28]法定・兵庫県!$AA$4 -> 0 | G35: =[28]法定・兵庫県!$Z$5 -> 0 | H35: =[28]法定・兵庫県!$AA$5 -> 0 | I35: =[28]法定・兵庫県!$Z$7 -> 0 | J35: =[28]法定・兵庫県!$AA$7 -> 0 | K35: =[28]法定・兵庫県!$Z$8 -> 0 | L35: =[28]法定・兵庫県!$AA$8 -> 0 | M35: =[28]法定・兵庫県!$Z$9 -> 0 | N35: =[28]法定・兵庫県!$AA$9 -> 0 | O35: =[28]法定・兵庫県!$Z$10 -> 0 | P35: =[28]法定・兵庫県!$AA$10 -> 0 | Q35: =[28]法定・兵庫県!$Z$13 -> 0 | R35: =[28]法定・兵庫県!$AA$13 -> 0 | S35: =[28]法定・兵庫県!$Z$16 -> 0 | T35: =[28]法定・兵庫県!$AA$16 -> 0 | U35: =[28]法定・兵庫県!$Z$17 -> 0 | V35: =[28]法定・兵庫県!$AA$17 -> 0 | W35: =[28]法定・兵庫県!$Z$18 -> 0 | X35: =[28]法定・兵庫県!$AA$18 -> 0
A36: 29 | B36: 奈良 | C36: =[29]法定・奈良県!$Z$3 -> 0 | D36: =[29]法定・奈良県!$AA$3 -> 0 | E36: =[29]法定・奈良県!$Z$4 -> 0 | F36: =[29]法定・奈良県!$AA$4 -> 0 | G36: =[29]法定・奈良県!$Z$5 -> 0 | H36: =[29]法定・奈良県!$AA$5 -> 0 | I36: =[29]法定・奈良県!$Z$7 -> 0 | J36: =[29]法定・奈良県!$AA$7 -> 0 | K36: =[29]法定・奈良県!$Z$8 -> 0 | L36: =[29]法定・奈良県!$AA$8 -> 0 | M36: =[29]法定・奈良県!$Z$9 -> 0 | N36: =[29]法定・奈良県!$AA$9 -> 0 | O36: =[29]法定・奈良県!$Z$10 -> 0 | P36: =[29]法定・奈良県!$AA$10 -> 0 | Q36: =[29]法定・奈良県!$Z$13 -> 0 | R36: =[29]法定・奈良県!$AA$13 -> 0 | S36: =[29]法定・奈良県!$Z$16 -> 0 | T36: =[29]法定・奈良県!$AA$16 -> 0 | U36: =[29]法定・奈良県!$Z$17 -> 0 | V36: =[29]法定・奈良県!$AA$17 -> 0 | W36: =[29]法定・奈良県!$Z$18 -> 0 | X36: =[29]法定・奈良県!$AA$18 -> 0
A37: 30 | B37: 和歌山 | C37: =[30]法定・和歌山県!$Z$3 -> 0 | D37: =[30]法定・和歌山県!$AA$3 -> 0 | E37: =[30]法定・和歌山県!$Z$4 -> 0 | F37: =[30]法定・和歌山県!$AA$4 -> 0 | G37: =[30]法定・和歌山県!$Z$5 -> 0 | H37: =[30]法定・和歌山県!$AA$5 -> 0 | I37: =[30]法定・和歌山県!$Z$7 -> 0 | J37: =[30]法定・和歌山県!$AA$7 -> 0 | K37: =[30]法定・和歌山県!$Z$8 -> 1 | L37: =[30]法定・和歌山県!$AA$8 -> 1 | M37: =[30]法定・和歌山県!$Z$9 -> 0 | N37: =[30]法定・和歌山県!$AA$9 -> 0 | O37: =[30]法定・和歌山県!$Z$10 -> 0 | P37: =[30]法定・和歌山県!$AA$10 -> 0 | Q37: =[30]法定・和歌山県!$Z$13 -> 0 | R37: =[30]法定・和歌山県!$AA$13 -> 0 | S37: =[30]法定・和歌山県!$Z$16 -> 0 | T37: =[30]法定・和歌山県!$AA$16 -> 0 | U37: =[30]法定・和歌山県!$Z$17 -> 0 | V37: =[30]法定・和歌山県!$AA$17 -> 0 | W37: =[30]法定・和歌山県!$Z$18 -> 0 | X37: =[30]法定・和歌山県!$AA$18 -> 0
A38: 31 | B38: 鳥取 | C38: =[31]法定・鳥取県!$Z$3 -> 0 | D38: =[31]法定・鳥取県!$AA$3 -> 0 | E38: =[31]法定・鳥取県!$Z$4 -> 0 | F38: =[31]法定・鳥取県!$AA$4 -> 0 | G38: =[31]法定・鳥取県!$Z$5 -> 0 | H38: =[31]法定・鳥取県!$AA$5 -> 0 | I38: =[31]法定・鳥取県!$Z$7 -> 0 | J38: =[31]法定・鳥取県!$AA$7 -> 0 | K38: =[31]法定・鳥取県!$Z$8 -> 5 | L38: =[31]法定・鳥取県!$AA$8 -> 5 | M38: =[31]法定・鳥取県!$Z$9 -> 0 | N38: =[31]法定・鳥取県!$AA$9 -> 0 | O38: =[31]法定・鳥取県!$Z$10 -> 0 | P38: =[31]法定・鳥取県!$AA$10 -> 0 | Q38: =[31]法定・鳥取県!$Z$13 -> 0 | R38: =[31]法定・鳥取県!$AA$13 -> 0 | S38: =[31]法定・鳥取県!$Z$16 -> 0 | T38: =[31]法定・鳥取県!$AA$16 -> 0 | U38: =[31]法定・鳥取県!$Z$17 -> 0 | V38: =[31]法定・鳥取県!$AA$17 -> 0 | W38: =[31]法定・鳥取県!$Z$18 -> 0 | X38: =[31]法定・鳥取県!$AA$18 -> 0
A39: 32 | B39: 島根 | C39: =[32]法定・島根県!$Z$3 -> 0 | D39: =[32]法定・島根県!$AA$3 -> 0 | E39: =[32]法定・島根県!$Z$4 -> 0 | F39: =[32]法定・島根県!$AA$4 -> 0 | G39: =[32]法定・島根県!$Z$5 -> 0 | H39: =[32]法定・島根県!$AA$5 -> 0 | I39: =[32]法定・島根県!$Z$7 -> 0 | J39: =[32]法定・島根県!$AA$7 -> 0 | K39: =[32]法定・島根県!$Z$8 -> 0 | L39: =[32]法定・島根県!$AA$8 -> 0 | M39: =[32]法定・島根県!$Z$9 -> 0 | N39: =[32]法定・島根県!$AA$9 -> 0 | O39: =[32]法定・島根県!$Z$10 -> 0 | P39: =[32]法定・島根県!$AA$10 -> 0 | Q39: =[32]法定・島根県!$Z$13 -> 0 | R39: =[32]法定・島根県!$AA$13 -> 0 | S39: =[32]法定・島根県!$Z$16 -> 0 | T39: =[32]法定・島根県!$AA$16 -> 0 | U39: =[32]法定・島根県!$Z$17 -> 0 | V39: =[32]法定・島根県!$AA$17 -> 0 | W39: =[32]法定・島根県!$Z$18 -> 0 | X39: =[32]法定・島根県!$AA$18 -> 0
A40: 33 | B40: 岡山 | C40: =[33]法定・岡山県!$Z$3 -> 0 | D40: =[33]法定・岡山県!$AA$3 -> 0 | E40: =[33]法定・岡山県!$Z$4 -> 0 | F40: =[33]法定・岡山県!$AA$4 -> 0 | G40: =[33]法定・岡山県!$Z$5 -> 0 | H40: =[33]法定・岡山県!$AA$5 -> 0 | I40: =[33]法定・岡山県!$Z$7 -> 0 | J40: =[33]法定・岡山県!$AA$7 -> 0 | K40: =[33]法定・岡山県!$Z$8 -> 8 | L40: =[33]法定・岡山県!$AA$8 -> 9 | M40: =[33]法定・岡山県!$Z$9 -> 0 | N40: =[33]法定・岡山県!$AA$9 -> 0 | O40: =[33]法定・岡山県!$Z$10 -> 0 | P40: =[33]法定・岡山県!$AA$10 -> 0 | Q40: =[33]法定・岡山県!$Z$13 -> 0 | R40: =[33]法定・岡山県!$AA$13 -> 0 | S40: =[33]法定・岡山県!$Z$16 -> 0 | T40: =[33]法定・岡山県!$AA$16 -> 0 | U40: =[33]法定・岡山県!$Z$17 -> 0 | V40: =[33]法定・岡山県!$AA$17 -> 0 | W40: =[33]法定・岡山県!$Z$18 -> 0 | X40: =[33]法定・岡山県!$AA$18 -> 0
A41: 34 | B41: 広島 | C41: =[34]法定・広島県!$Z$3 -> 0 | D41: =[34]法定・広島県!$AA$3 -> 0 | E41: =[34]法定・広島県!$Z$4 -> 0 | F41: =[34]法定・広島県!$AA$4 -> 0 | G41: =[34]法定・広島県!$Z$5 -> 0 | H41: =[34]法定・広島県!$AA$5 -> 0 | I41: =[34]法定・広島県!$Z$7 -> 0 | J41: =[34]法定・広島県!$AA$7 -> 0 | K41: =[34]法定・広島県!$Z$8 -> 2 | L41: =[34]法定・広島県!$AA$8 -> 5 | M41: =[34]法定・広島県!$Z$9 -> 0 | N41: =[34]法定・広島県!$AA$9 -> 0 | O41: =[34]法定・広島県!$Z$10 -> 0 | P41: =[34]法定・広島県!$AA$10 -> 0 | Q41: =[34]法定・広島県!$Z$13 -> 0 | R41: =[34]法定・広島県!$AA$13 -> 0 | S41: =[34]法定・広島県!$Z$16 -> 0 | T41: =[34]法定・広島県!$AA$16 -> 0 | U41: =[34]法定・広島県!$Z$17 -> 0 | V41: =[34]法定・広島県!$AA$17 -> 0 | W41: =[34]法定・広島県!$Z$18 -> 2 | X41: =[34]法定・広島県!$AA$18 -> 4
...

Sheet 法定伝染病（月別）
A2: ２．家畜伝染病の月別発生状況（平成１２年）
A4: 疾病名 | C4: １月 | D4: ２月 | E4: ３月 | F4: ４月 | G4: ５月 | H4: ６月 | I4: ７月 | J4: ８月 | K4: ９月 | L4: １０月 | M4: １１月 | N4: １２月 | O4: 計
A5: 口蹄疫 | B5: 戸 | C5: 0 | D5: 0 | E5: 0 | F5: 2 | G5: 1 | H5: 0 | I5: 0 | J5: 0 | K5: 0 | L5: 0 | M5: 0 | N5: 0 | O5: =SUM(C5:N5) -> 3
B6: 頭 | C6: 0 | D6: 0 | E6: 0 | F6: 20 | G6: 2 | H6: 0 | I6: 0 | J6: 0 | K6: 0 | L6: 0 | M6: 0 | N6: 0 | O6: =SUM(C6:N6) -> 22
A7: 流行性脳炎 | B7: 戸 | C7: 0 | D7: 0 | E7: 0 | F7: 0 | G7: 0 | H7: 0 | I7: 0 | J7: 0 | K7: 2 | L7: 0 | M7: 0 | N7: 1 | O7: =SUM(C7:N7) -> 3
B8: 頭 | C8: 0 | D8: 0 | E8: 0 | F8: 0 | G8: 0 | H8: 0 | I8: 0 | J8: 0 | K8: 5 | L8: 0 | M8: 0 | N8: 1 | O8: =SUM(C8:N8) -> 6
A9: 炭疽 | B9: 戸 | C9: 0 | D9: 0 | E9: 0 | F9: 0 | G9: 0 | H9: 0 | I9: 1 | J9: 0 | K9: 0 | L9: 0 | M9: 0 | N9: 0 | O9: =SUM(C9:N9) -> 1
B10: 頭 | C10: 0 | D10: 0 | E10: 0 | F10: 0 | G10: 0 | H10: 0 | I10: 1 | J10: 1 | K10: 0 | L10: 0 | M10: 0 | N10: 0 | O10: =SUM(C10:N10) -> 2
A11: 結核病 | B11: 戸 | C11: 0 | D11: 0 | E11: 0 | F11: 0 | G11: 0 | H11: 0 | I11: 1 | J11: 0 | K11: 1 | L11: 0 | M11: 0 | N11: 0 | O11: =SUM(C11:N11) -> 2
B12: 頭 | C12: 0 | D12: 0 | E12: 0 | F12: 0 | G12: 0 | H12: 0 | I12: 1 | J12: 0 | K12: 1 | L12: 0 | M12: 0 | N12: 0 | O12: =SUM(C12:N12) -> 2
A13: ヨーネ病 | B13: 戸 | C13: 25 | D13: 36 | E13: 26 | F13: 23 | G13: 25 | H13: 31 | I13: 36 | J13: 32 | K13: 33 | L13: 41 | M13: 40 | N13: 42 | O13: =SUM(C13:N13) -> 390
A14: （牛） | B14: 頭 | C14: 57 | D14: 74 | E14: 61 | F14: 58 | G14: 63 | H14: 46 | I14: 81 | J14: 73 | K14: 50 | L14: 112 | M14: 69 | N14: 54 | O14: =SUM(C14:N14) -> 798
A15: ヨーネ病 | B15: 戸 | C15: 0 | D15: 0 | E15: 1 | F15: 0 | G15: 0 | H15: 0 | I15: 2 | J15: 0 | K15: 0 | L15: 0 | M15: 0 | N15: 0 | O15: =SUM(C15:N15) -> 3
A16: （めん羊） | B16: 頭 | C16: 0 | D16: 0 | E16: 4 | F16: 0 | G16: 0 | H16: 0 | I16: 2 | J16: 0 | K16: 0 | L16: 0 | M16: 0 | N16: 0 | O16: =SUM(C16:N16) -> 6
A17: ヨーネ病 | B17: 戸 | C17: 0 | D17: 1 | E17: 0 | F17: 0 | G17: 0 | H17: 1 | I17: 1 | J17: 1 | K17: 0 | L17: 0 | M17: 1 | N17: 0 | O17: =SUM(C17:N17) -> 5
A18: （山羊） | B18: 頭 | C18: 0 | D18: 1 | E18: 1 | F18: 0 | G18: 0 | H18: 1 | I18: 1 | J18: 1 | K18: 0 | L18: 0 | M18: 2 | N18: 0 | O18: =SUM(C18:N18) -> 7
A19: ニューカッスル | B19: 戸 | C19: 3 | D19: 0 | E19: 0 | F19: 0 | G19: 2 | H19: 0 | I19: 0 | J19: 0 | K19: 0 | L19: 0 | M19: 0 | N19: 0 | O19: =SUM(C19:N19) -> 5
A20: 病 | B20: 羽 | C20: 92 | D20: 0 | E20: 0 | F20: 0 | G20: 7020 | H20: 0 | I20: 0 | J20: 0 | K20: 0 | L20: 0 | M20: 0 | N20: 0 | O20: =SUM(C20:N20) -> 7112
A21: 家きんサルモネ | B21: 戸 | C21: 0 | D21: 0 | E21: 0 | F21: 0 | G21: 0 | H21: 0 | I21: 0 | J21: 0 | K21: 0 | L21: 0 | M21: 0 | N21: 1 | O21: =SUM(C21:N21) -> 1
A22: ラ感染症 | B22: 羽 | C22: 0 | D22: 0 | E22: 0 | F22: 0 | G22: 0 | H22: 0 | I22: 0 | J22: 0 | K22: 0 | L22: 0 | M22: 0 | N22: 30 | O22: =SUM(C22:N22) -> 30
A23: 腐蛆病 | B23: 戸 | C23: 1 | D23: 0 | E23: 0 | F23: 1 | G23: 5 | H23: 3 | I23: 0 | J23: 7 | K23: 32 | L23: 4 | M23: 0 | N23: 2 | O23: =SUM(C23:N23) -> 55
B24: 群 | C24: 2 | D24: 0 | E24: 0 | F24: 11 | G24: 23 | H24: 3 | I24: 0 | J24: 28 | K24: 102 | L24: 10 | M24: 0 | N24: 18 | O24: =SUM(C24:N24) -> 197

Sheet 届出県別
A1: ３．届出伝染病の県別発生状況（平成１２年）
A3: 届出伝染病 | C3: アカバネ病 | G3: 悪性 | I3: チュウザン | K3: 牛ウイルス性 | M3: 牛伝染性 | O3: 牛白血病 | Q3: アイノウイルス | S3: イバラキ病 | U3: 届出伝染病 | W3: 牛丘疹性 | Y3: 破傷風 | AC3: 気腫疽 | AE3: レプトスピラ症 | AI3: サルモネラ症 | AO3: 届出伝染病 | AQ3: サルモネラ | AS3: 牛カンピロ | AU3: トリパノソーマ | AW3: ネオスポラ | AY3: 牛バエ | BA3: 馬鼻肺炎 | BC3: 馬伝染性 | BE3: 馬 | BG3: 伝染性 | BI3: 届出伝染病 | BK3: トキソプラズマ | BM3: オーエスキー | BO3: 伝染性 | BQ3: 豚繁殖・呼吸 | BU3: 豚流行性 | BW3: 萎縮性 | BY3: 豚丹毒 | CC3: 届出伝染病 | CE3: 豚赤痢 | CG3: 鶏痘 | CI3: マレック病 | CK3: 伝染性 | CM3: 伝染性 | CO3: 伝染性 | CQ3: 鶏白血病 | CS3: 鶏マイコ | CU3: 届出伝染病 | CW3: ロイコチトゾーン | CY3: 兎ウイルス性 | DA3: バロア病 | DC3: チョーク病
A4: の 種 類 | G4: カタル熱 | I4: 病 | K4: 下痢・粘膜病 | M4: 鼻気管炎 | Q4: 感染症 | U4: の 種 類 | W4: 口炎 | AO4: の 種 類 | AQ4: 症 | AS4: バクター症 | AU4: 病 | AW4: 症 | AY4: 幼虫症 | BC4: 子宮炎 | BE4: パラチフス | BG4: 膿疱性皮膚炎 | BI4: の 種 類 | BK4: 病 | BM4: 病 | BO4: 胃腸炎 | BQ4: 障害症候群 | BU4: 下痢 | BW4: 鼻炎 | CC4: の 種 類 | CK4: 気管支炎 | CM4: 喉頭気管炎 | CO4: ファブリキウス嚢病 | CS4: プラズマ病 | CU4: の 種 類 | CW4: 病 | CY4: 出血病
A5: 家畜の種類 | C5: 牛 | E5: めん羊 | G5: しか | I5: 牛 | K5: 牛 | M5: 牛 | O5: 牛 | Q5: 牛 | S5: 牛 | U5: 家畜の種類 | W5: 牛 | Y5: 牛 | AA5: 馬 | AC5: 牛 | AE5: 犬 | AG5: 豚 | AI5: 牛 | AK5: 豚 | AM5: 鶏 | AO5: 家畜の種類 | AQ5: あひる | AS5: 牛 | AU5: 牛 | AW5: 牛 | AY5: 牛 | BA5: 馬 | BC5: 馬 | BE5: 馬 | BG5: めん羊 | BI5: 家畜の種類 | BK5: 豚 | BM5: 豚 | BO5: 豚 | BQ5: 豚 | BS5: いのしし | BU5: 豚 | BW5: 豚 | BY5: 豚 | CA5: いのしし | CC5: 家畜の種類 | CE5: 豚 | CG5: 鶏 | CI5: 鶏 | CK5: 鶏 | CM5: 鶏 | CO5: 鶏 | CQ5: 鶏 | CS5: 鶏 | CU5: 家畜の種類 | CW5: 鶏 | CY5: 兎 | DA5: みつばち | DC5: みつばち
C6: 戸 | D6: 頭 | E6: 戸 | F6: 頭 | G6: 戸 | H6: 頭 | I6: 戸 | J6: 頭 | K6: 戸 | L6: 頭 | M6: 戸 | N6: 頭 | O6: 戸 | P6: 頭 | Q6: 戸 | R6: 頭 | S6: 戸 | T6: 頭 | W6: 戸 | X6: 頭 | Y6: 戸 | Z6: 頭 | AA6: 戸 | AB6: 頭 | AC6: 戸 | AD6: 頭 | AE6: 戸 | AF6: 頭 | AG6: 戸 | AH6: 頭 | AI6: 戸 | AJ6: 頭 | AK6: 戸 | AL6: 頭 | AM6: 戸 | AN6: 羽 | AQ6: 戸 | AR6: 羽 | AS6: 戸 | AT6: 頭 | AU6: 戸 | AV6: 頭 | AW6: 戸 | AX6: 頭 | AY6: 戸 | AZ6: 頭 | BA6: 戸 | BB6: 頭 | BC6: 戸 | BD6: 頭 | BE6: 戸 | BF6: 頭 | BG6: 戸 | BH6: 頭 | BK6: 戸 | BL6: 頭 | BM6: 戸 | BN6: 頭 | BO6: 戸 | BP6: 頭 | BQ6: 戸 | BR6: 頭 | BS6: 戸 | BT6: 頭 | BU6: 戸 | BV6: 頭 | BW6: 戸 | BX6: 頭 | BY6: 戸 | BZ6: 頭 | CA6: 戸 | CB6: 頭 | CE6: 戸 | CF6: 頭 | CG6: 戸 | CH6: 羽 | CI6: 戸 | CJ6: 羽 | CK6: 戸 | CL6: 羽 | CM6: 戸 | CN6: 羽 | CO6: 戸 | CP6: 羽 | CQ6: 戸 | CR6: 羽 | CS6: 戸 | CT6: 羽 | CW6: 戸 | CX6: 羽 | CY6: 戸 | CZ6: 群 | DA6: 戸 | DB6: 群 | DC6: 戸 | DD6: 群
C7: 数 | D7: 数 | E7: 数 | F7: 数 | G7: 数 | H7: 数 | I7: 数 | J7: 数 | K7: 数 | L7: 数 | M7: 数 | N7: 数 | O7: 数 | P7: 数 | Q7: 数 | R7: 数 | S7: 数 | T7: 数 | W7: 数 | X7: 数 | Y7: 数 | Z7: 数 | AA7: 数 | AB7: 数 | AC7: 数 | AD7: 数 | AE7: 数 | AF7: 数 | AG7: 数 | AH7: 数 | AI7: 数 | AJ7: 数 | AK7: 数 | AL7: 数 | AM7: 数 | AN7: 数 | AQ7: 数 | AR7: 数 | AS7: 数 | AT7: 数 | AU7: 数 | AV7: 数 | AW7: 数 | AX7: 数 | AY7: 数 | AZ7: 数 | BA7: 数 | BB7: 数 | BC7: 数 | BD7: 数 | BE7: 数 | BF7: 数 | BG7: 数 | BH7: 数 | BK7: 数 | BL7: 数 | BM7: 数 | BN7: 数 | BO7: 数 | BP7: 数 | BQ7: 数 | BR7: 数 | BS7: 数 | BT7: 数 | BU7: 数 | BV7: 数 | BW7: 数 | BX7: 数 | BY7: 数 | BZ7: 数 | CA7: 数 | CB7: 数 | CE7: 数 | CF7: 数 | CG7: 数 | CH7: 数 | CI7: 数 | CJ7: 数 | CK7: 数 | CL7: 数 | CM7: 数 | CN7: 数 | CO7: 数 | CP7: 数 | CQ7: 数 | CR7: 数 | CS7: 数 | CT7: 数 | CW7: 数 | CX7: 数 | CY7: 数 | CZ7: 数 | DA7: 数 | DB7: 数 | DC7: 数 | DD7: 数
A8: 01 | B8: 北海道 | C8: =[1]届出・北海道!$Z$3 -> 0 | D8: =[1]届出・北海道!$AA$3 -> 0 | E8: =[1]届出・北海道!$Z$4 -> 0 | F8: =[1]届出・北海道!$AA$4 -> 0 | G8: =[1]届出・北海道!$Z$5 -> 0 | H8: =[1]届出・北海道!$AA$5 -> 0 | I8: =[1]届出・北海道!$Z$6 -> 0 | J8: =[1]届出・北海道!$AA$6 -> 0 | K8: =[1]届出・北海道!$Z$7 -> 7 | L8: =[1]届出・北海道!$AA$7 -> 15 | M8: =[1]届出・北海道!$Z$8 -> 10 | N8: =[1]届出・北海道!$AA$8 -> 213 | O8: =[1]届出・北海道!$Z$9 -> 13 | P8: =[1]届出・北海道!$AA$9 -> 13 | Q8: =[1]届出・北海道!$Z$10 -> 0 | R8: =[1]届出・北海道!$AA$10 -> 0 | S8: =[1]届出・北海道!$Z$11 -> 0 | T8: =[1]届出・北海道!$AA$11 -> 0 | U8: 01 | V8: 北海道 | W8: =[1]届出・北海道!$Z$12 -> 0 | X8: =[1]届出・北海道!$AA$12 -> 0 | Y8: =[1]届出・北海道!$Z$13 -> 5 | Z8: =[1]届出・北海道!$AA$13 -> 13 | AA8: =[1]届出・北海道!$Z$14 -> 0 | AB8: =[1]届出・北海道!$AA$14 -> 0 | AC8: =[1]届出・北海道!$Z$15 -> 6 | AD8: =[1]届出・北海道!$AA$15 -> 22 | AE8: =[1]届出・北海道!$Z$16 -> 0 | AF8: =[1]届出・北海道!$AA$16 -> 0 | AG8: =[1]届出・北海道!$Z$17 -> 0 | AH8: =[1]届出・北海道!$AA$17 -> 0 | AI8: =[1]届出・北海道!$Z$18 -> 34 | AJ8: =[1]届出・北海道!$AA$18 -> 170 | AK8: =[1]届出・北海道!$Z$19 -> 1 | AL8: =[1]届出・北海道!$AA$19 -> 2 | AM8: =[1]届出・北海道!$Z$20 -> 1 | AN8: =[1]届出・北海道!$AA$20 -> 6 | AO8: 01 | AP8: 北海道 | AQ8: =[1]届出・北海道!$Z$21 -> 0 | AR8: =[1]届出・北海道!$AA$21 -> 0 | AS8: =[1]届出・北海道!$Z$22 -> 2 | AT8: =[1]届出・北海道!$AA$22 -> 2 | AU8: =[1]届出・北海道!$Z$23 -> 0 | AV8: =[1]届出・北海道!$AA$23 -> 0 | AW8: =[1]届出・北海道!$Z$24 -> 10 | AX8: =[1]届出・北海道!$AA$24 -> 10 | AY8: =[1]届出・北海道!$Z$25 -> 0 | AZ8: =[1]届出・北海道!$AA$25 -> 0 | BA8: =[1]届出・北海道!$Z$26 -> 8 | BB8: =[1]届出・北海道!$AA$26 -> 26 | BC8: =[1]届出・北海道!$Z$27 -> 1 | BD8: =[1]届出・北海道!$AA$27 -> 1 | BE8: =[1]届出・北海道!$Z$28 -> 0 | BF8: =[1]届出・北海道!$AA$28 -> 0 | BG8: =[1]届出・北海道!$Z$29 -> 0 | BH8: =[1]届出・北海道!$AA$29 -> 0 | BI8: 01 | BJ8: 北海道 | BK8: =[1]届出・北海道!$Z$30 -> 0 | BL8: =[1]届出・北海道!$AA$30 -> 0 | BM8: =[1]届出・北海道!$Z$31 -> 0 | BN8: =[1]届出・北海道!$AA$31 -> 0 | BO8: =[1]届出・北海道!$Z$32 -> 0 | BP8: =[1]届出・北海道!$AA$32 -> 0 | BQ8: =[1]届出・北海道!$Z$33 -> 8 | BR8: =[1]届出・北海道!$AA$33 -> 15 | BS8: =[1]届出・北海道!$Z$34 -> 0 | BT8: =[1]届出・北海道!$AA$34 -> 0 | BU8: =[1]届出・北海道!$Z$35 -> 0 | BV8: =[1]届出・北海道!$AA$35 -> 0 | BW8: =[1]届出・北海道!$Z$36 -> 0 | BX8: =[1]届出・北海道!$AA$36 -> 0 | BY8: =[1]届出・北海道!$Z$37 -> 9 | BZ8: =[1]届出・北海道!$AA$37 -> 16 | CA8: =[1]届出・北海道!$Z$38 -> 0 | CB8: =[1]届出・北海道!$AA$38 -> 0 | CC8: 01 | CD8: 北海道 | CE8: =[1]届出・北海道!$Z$39 -> 1 | CF8: =[1]届出・北海道!$AA$39 -> 46 | CG8: =[1]届出・北海道!$Z$40 -> 1 | CH8: =[1]届出・北海道!$AA$40 -> 11 | CI8: =[1]届出・北海道!$Z$41 -> 1 | CJ8: =[1]届出・北海道!$AA$41 -> 179 | CK8: =[1]届出・北海道!$Z$42 -> 0 | CL8: =[1]届出・北海道!$AA$42 -> 0 | CM8: =[1]届出・北海道!$Z$43 -> 0 | CN8: =[1]届出・北海道!$AA$43 -> 0 | CO8: =[1]届出・北海道!$Z$44 -> 0 | CP8: =[1]届出・北海道!$AA$44 -> 0 | CQ8: =[1]届出・北海道!$Z$45 -> 0 | CR8: =[1]届出・北海道!$AA$45 -> 0 | CS8: =[1]届出・北海道!$Z$46 -> 0 | CT8: =[1]届出・北海道!$AA$46 -> 0 | CU8: 01 | CV8: 北海道 | CW8: =[1]届出・北海道!$Z$47 -> 0 | CX8: =[1]届出・北海道!$AA$47 -> 0 | CY8: =[1]届出・北海道!$Z$51 -> 0 | CZ8: =[1]届出・北海道!$AA$51 -> 0 | DA8: =[1]届出・北海道!$Z$48 -> 46 | DB8: =[1]届出・北海道!$AA$48 -> 744 | DC8: =[1]届出・北海道!$Z$49 -> 97 | DD8: =[1]届出・北海道!$AA$49 -> 1895
A9: 02 | B9: 青森 | C9: =[2]届出・青森県!$Z$3 -> 0 | D9: =[2]届出・青森県!$AA$3 -> 0 | E9: =[2]届出・青森県!$Z$4 -> 0 | F9: =[2]届出・青森県!$AA$4 -> 0 | G9: =[2]届出・青森県!$Z$5 -> 0 | H9: =[2]届出・青森県!$AA$5 -> 0 | I9: =[2]届出・青森県!$Z$6 -> 0 | J9: =[2]届出・青森県!$AA$6 -> 0 | K9: =[2]届出・青森県!$Z$7 -> 1 | L9: =[2]届出・青森県!$AA$7 -> 1 | M9: =[2]届出・青森県!$Z$8 -> 2 | N9: =[2]届出・青森県!$AA$8 -> 9 | O9: =[2]届出・青森県!$Z$9 -> 9 | P9: =[2]届出・青森県!$AA$9 -> 9 | Q9: =[2]届出・青森県!$Z$10 -> 0 | R9: =[2]届出・青森県!$AA$10 -> 0 | S9: =[2]届出・青森県!$Z$11 -> 0 | T9: =[2]届出・青森県!$AA$11 -> 0 | U9: 02 | V9: 青森 | W9: =[2]届出・青森県!$Z$12 -> 0 | X9: =[2]届出・青森県!$AA$12 -> 0 | Y9: =[2]届出・青森県!$Z$13 -> 0 | Z9: =[2]届出・青森県!$AA$13 -> 0 | AA9: =[2]届出・青森県!$Z$14 -> 1 | AB9: =[2]届出・青森県!$AA$14 -> 1 | AC9: =[2]届出・青森県!$Z$15 -> 0 | AD9: =[2]届出・青森県!$AA$15 -> 0 | AE9: =[2]届出・青森県!$Z$16 -> 3 | AF9: =[2]届出・青森県!$AA$16 -> 3 | AG9: =[2]届出・青森県!$Z$17 -> 0 | AH9: =[2]届出・青森県!$AA$17 -> 0 | AI9: =[2]届出・青森県!$Z$18 -> 1 | AJ9: =[2]届出・青森県!$AA$18 -> 1 | AK9: =[2]届出・青森県!$Z$19 -> 0 | AL9: =[2]届出・青森県!$AA$19 -> 0 | AM9: =[2]届出・青森県!$Z$20 -> 0 | AN9: =[2]届出・青森県!$AA$20 -> 0 | AO9: 02 | AP9: 青森 | AQ9: =[2]届出・青森県!$Z$21 -> 0 | AR9: =[2]届出・青森県!$AA$21 -> 0 | AS9: =[2]届出・青森県!$Z$22 -> 0 | AT9: =[2]届出・青森県!$AA$22 -> 0 | AU9: =[2]届出・青森県!$Z$23 -> 0 | AV9: =[2]届出・青森県!$AA$23 -> 0 | AW9: =[2]届出・青森県!$Z$24 -> 1 | AX9: =[2]届出・青森県!$AA$24 -> 1 | AY9: =[2]届出・青森県!$Z$25 -> 0 | AZ9: =[2]届出・青森県!$AA$25 -> 0 | BA9: =[2]届出・青森県!$Z$26 -> 0 | BB9: =[2]届出・青森県!$AA$26 -> 0 | BC9: =[2]届出・青森県!$Z$27 -> 0 | BD9: =[2]届出・青森県!$AA$27 -> 0 | BE9: =[2]届出・青森県!$Z$28 -> 0 | BF9: =[2]届出・青森県!$AA$28 -> 0 | BG9: =[2]届出・青森県!$Z$29 -> 0 | BH9: =[2]届出・青森県!$AA$29 -> 0 | BI9: 02 | BJ9: 青森 | BK9: =[2]届出・青森県!$Z$30 -> 0 | BL9: =[2]届出・青森県!$AA$30 -> 0 | BM9: =[2]届出・青森県!$Z$31 -> 0 | BN9: =[2]届出・青森県!$AA$31 -> 0 | BO9: =[2]届出・青森県!$Z$32 -> 0 | BP9: =[2]届出・青森県!$AA$32 -> 0 | BQ9: =[2]届出・青森県!$Z$33 -> 0 | BR9: =[2]届出・青森県!$AA$33 -> 0 | BS9: =[2]届出・青森県!$Z$34 -> 0 | BT9: =[2]届出・青森県!$AA$34 -> 0 | BU9: =[2]届出・青森県!$Z$35 -> 0 | BV9: =[2]届出・青森県!$AA$35 -> 0 | BW9: =[2]届出・青森県!$Z$36 -> 0 | BX9: =[2]届出・青森県!$AA$36 -> 0 | BY9: =[2]届出・青森県!$Z$37 -> 70 | BZ9: =[2]届出・青森県!$AA$37 -> 173 | CA9: =[2]届出・青森県!$Z$38 -> 0 | CB9: =[2]届出・青森県!$AA$38 -> 0 | CC9: 02 | CD9: 青森 | CE9: =[2]届出・青森県!$Z$39 -> 0 | CF9: =[2]届出・青森県!$AA$39 -> 0 | CG9: =[2]届出・青森県!$Z$40 -> 0 | CH9: =[2]届出・青森県!$AA$40 -> 0 | CI9: =[2]届出・青森県!$Z$41 -> 0 | CJ9: =[2]届出・青森県!$AA$41 -> 0 | CK9: =[2]届出・青森県!$Z$42 -> 0 | CL9: =[2]届出・青森県!$AA$42 -> 0 | CM9: =[2]届出・青森県!$Z$43 -> 0 | CN9: =[2]届出・青森県!$AA$43 -> 0 | CO9: =[2]届出・青森県!$Z$44 -> 0 | CP9: =[2]届出・青森県!$AA$44 -> 0 | CQ9: =[2]届出・青森県!$Z$45 -> 0 | CR9: =[2]届出・青森県!$AA$45 -> 0 | CS9: =[2]届出・青森県!$Z$46 -> 0 | CT9: =[2]届出・青森県!$AA$46 -> 0 | CU9: 02 | CV9: 青森 | CW9: =[2]届出・青森県!$Z$47 -> 0 | CX9: =[2]届出・青森県!$AA$47 -> 0 | CY9: =[2]届出・青森県!$Z$51 -> 0 | CZ9: =[2]届出・青森県!$AA$51 -> 0 | DA9: =[2]届出・青森県!$Z$48 -> 0 | DB9: =[2]届出・青森県!$AA$48 -> 0 | DC9: =[2]届出・青森県!$Z$49 -> 0 | DD9: =[2]届出・青森県!$AA$49 -> 0
A10: 03 | B10: 岩手 | C10: =[3]届出・岩手県!$Z$3 -> 0 | D10: =[3]届出・岩手県!$AA$3 -> 0 | E10: =[3]届出・岩手県!$Z$4 -> 0 | F10: =[3]届出・岩手県!$AA$4 -> 0 | G10: =[3]届出・岩手県!$Z$5 -> 0 | H10: =[3]届出・岩手県!$AA$5 -> 0 | I10: =[3]届出・岩手県!$Z$6 -> 0 | J10: =[3]届出・岩手県!$AA$6 -> 0 | K10: =[3]届出・岩手県!$Z$7 -> 1 | L10: =[3]届出・岩手県!$AA$7 -> 1 | M10: =[3]届出・岩手県!$Z$8 -> 0 | N10: =[3]届出・岩手県!$AA$8 -> 0 | O10: =[3]届出・岩手県!$Z$9 -> 29 | P10: =[3]届出・岩手県!$AA$9 -> 30 | Q10: =[3]届出・岩手県!$Z$10 -> 0 | R10: =[3]届出・岩手県!$AA$10 -> 0 | S10: =[3]届出・岩手県!$Z$11 -> 0 | T10: =[3]届出・岩手県!$AA$11 -> 0 | U10: 03 | V10: 岩手 | W10: =[3]届出・岩手県!$Z$12 -> 0 | X10: =[3]届出・岩手県!$AA$12 -> 0 | Y10: =[3]届出・岩手県!$Z$13 -> 1 | Z10: =[3]届出・岩手県!$AA$13 -> 1 | AA10: =[3]届出・岩手県!$Z$14 -> 0 | AB10: =[3]届出・岩手県!$AA$14 -> 0 | AC10: =[3]届出・岩手県!$Z$15 -> 0 | AD10: =[3]届出・岩手県!$AA$15 -> 0 | AE10: =[3]届出・岩手県!$Z$16 -> 0 | AF10: =[3]届出・岩手県!$AA$16 -> 0 | AG10: =[3]届出・岩手県!$Z$17 -> 0 | AH10: =[3]届出・岩手県!$AA$17 -> 0 | AI10: =[3]届出・岩手県!$Z$18 -> 6 | AJ10: =[3]届出・岩手県!$AA$18 -> 34 | AK10: =[3]届出・岩手県!$Z$19 -> 0 | AL10: =[3]届出・岩手県!$AA$19 -> 0 | AM10: =[3]届出・岩手県!$Z$20 -> 0 | AN10: =[3]届出・岩手県!$AA$20 -> 0 | AO10: 03 | AP10: 岩手 | AQ10: =[3]届出・岩手県!$Z$21 -> 0 | AR10: =[3]届出・岩手県!$AA$21 -> 0 | AS10: =[3]届出・岩手県!$Z$22 -> 6 | AT10: =[3]届出・岩手県!$AA$22 -> 15 | AU10: =[3]届出・岩手県!$Z$23 -> 0 | AV10: =[3]届出・岩手県!$AA$23 -> 0 | AW10: =[3]届出・岩手県!$Z$24 -> 1 | AX10: =[3]届出・岩手県!$AA$24 -> 1 | AY10: =[3]届出・岩手県!$Z$25 -> 0 | AZ10: =[3]届出・岩手県!$AA$25 -> 0 | BA10: =[3]届出・岩手県!$Z$26 -> 0 | BB10: =[3]届出・岩手県!$AA$26 -> 0 | BC10: =[3]届出・岩手県!$Z$27 -> 0 | BD10: =[3]届出・岩手県!$AA$27 -> 0 | BE10: =[3]届出・岩手県!$Z$28 -> 0 | BF10: =[3]届出・岩手県!$AA$28 -> 0 | BG10: =[3]届出・岩手県!$Z$29 -> 0 | BH10: =[3]届出・岩手県!$AA$29 -> 0 | BI10: 03 | BJ10: 岩手 | BK10: =[3]届出・岩手県!$Z$30 -> 0 | BL10: =[3]届出・岩手県!$AA$30 -> 0 | BM10: =[3]届出・岩手県!$Z$31 -> 0 | BN10: =[3]届出・岩手県!$AA$31 -> 0 | BO10: =[3]届出・岩手県!$Z$32 -> 1 | BP10: =[3]届出・岩手県!$AA$32 -> 80 | BQ10: =[3]届出・岩手県!$Z$33 -> 0 | BR10: =[3]届出・岩手県!$AA$33 -> 0 | BS10: =[3]届出・岩手県!$Z$34 -> 0 | BT10: =[3]届出・岩手県!$AA$34 -> 0 | BU10: =[3]届出・岩手県!$Z$35 -> 0 | BV10: =[3]届出・岩手県!$AA$35 -> 0 | BW10: =[3]届出・岩手県!$Z$36 -> 0 | BX10: =[3]届出・岩手県!$AA$36 -> 0 | BY10: =[3]届出・岩手県!$Z$37 -> 1 | BZ10: =[3]届出・岩手県!$AA$37 -> 1 | CA10: =[3]届出・岩手県!$Z$38 -> 0 | CB10: =[3]届出・岩手県!$AA$38 -> 0 | CC10: 03 | CD10: 岩手 | CE10: =[3]届出・岩手県!$Z$39 -> 0 | CF10: =[3]届出・岩手県!$AA$39 -> 0 | CG10: =[3]届出・岩手県!$Z$40 -> 0 | CH10: =[3]届出・岩手県!$AA$40 -> 0 | CI10: =[3]届出・岩手県!$Z$41 -> 0 | CJ10: =[3]届出・岩手県!$AA$41 -> 0 | CK10: =[3]届出・岩手県!$Z$42 -> 0 | CL10: =[3]届出・岩手県!$AA$42 -> 0 | CM10: =[3]届出・岩手県!$Z$43 -> 0 | CN10: =[3]届出・岩手県!$AA$43 -> 0 | CO10: =[3]届出・岩手県!$Z$44 -> 0 | CP10: =[3]届出・岩手県!$AA$44 -> 0 | CQ10: =[3]届出・岩手県!$Z$45 -> 0 | CR10: =[3]届出・岩手県!$AA$45 -> 0 | CS10: =[3]届出・岩手県!$Z$46 -> 1 | CT10: =[3]届出・岩手県!$AA$46 -> 15 | CU10: 03 | CV10: 岩手 | CW10: =[3]届出・岩手県!$Z$47 -> 0 | CX10: =[3]届出・岩手県!$AA$47 -> 0 | CY10: =[3]届出・岩手県!$Z$51 -> 0 | CZ10: =[3]届出・岩手県!$AA$51 -> 0 | DA10: =[3]届出・岩手県!$Z$48 -> 0 | DB10: =[3]届出・岩手県!$AA$48 -> 0 | DC10: =[3]届出・岩手県!$Z$49 -> 0 | DD10: =[3]届出・岩手県!$AA$49 -> 0
A11: 04 | B11: 宮城 | C11: =[4]届出・宮城県!$Z$3 -> 0 | D11: =[4]届出・宮城県!$AA$3 -> 0 | E11: =[4]届出・宮城県!$Z$4 -> 0 | F11: =[4]届出・宮城県!$AA$4 -> 0 | G11: =[4]届出・宮城県!$Z$5 -> 0 | H11: =[4]届出・宮城県!$AA$5 -> 0 | I11: =[4]届出・宮城県!$Z$6 -> 0 | J11: =[4]届出・宮城県!$AA$6 -> 0 | K11: =[4]届出・宮城県!$Z$7 -> 0 | L11: =[4]届出・宮城県!$AA$7 -> 0 | M11: =[4]届出・宮城県!$Z$8 -> 1 | N11: =[4]届出・宮城県!$AA$8 -> 5 | O11: =[4]届出・宮城県!$Z$9 -> 0 | P11: =[4]届出・宮城県!$AA$9 -> 0 | Q11: =[4]届出・宮城県!$Z$10 -> 0 | R11: =[4]届出・宮城県!$AA$10 -> 0 | S11: =[4]届出・宮城県!$Z$11 -> 0 | T11: =[4]届出・宮城県!$AA$11 -> 0 | U11: 04 | V11: 宮城 | W11: =[4]届出・宮城県!$Z$12 -> 0 | X11: =[4]届出・宮城県!$AA$12 -> 0 | Y11: =[4]届出・宮城県!$Z$13 -> 0 | Z11: =[4]届出・宮城県!$AA$13 -> 0 | AA11: =[4]届出・宮城県!$Z$14 -> 0 | AB11: =[4]届出・宮城県!$AA$14 -> 0 | AC11: =[4]届出・宮城県!$Z$15 -> 0 | AD11: =[4]届出・宮城県!$AA$15 -> 0 | AE11: =[4]届出・宮城県!$Z$16 -> 0 | AF11: =[4]届出・宮城県!$AA$16 -> 0 | AG11: =[4]届出・宮城県!$Z$17 -> 0 | AH11: =[4]届出・宮城県!$AA$17 -> 0 | AI11: =[4]届出・宮城県!$Z$18 -> 0 | AJ11: =[4]届出・宮城県!$AA$18 -> 0 | AK11: =[4]届出・宮城県!$Z$19 -> 0 | AL11: =[4]届出・宮城県!$AA$19 -> 0 | AM11: =[4]届出・宮城県!$Z$20 -> 0 | AN11: =[4]届出・宮城県!$AA$20 -> 0 | AO11: 04 | AP11: 宮城 | AQ11: =[4]届出・宮城県!$Z$21 -> 0 | AR11: =[4]届出・宮城県!$AA$21 -> 0 | AS11: =[4]届出・宮城県!$Z$22 -> 0 | AT11: =[4]届出・宮城県!$AA$22 -> 0 | AU11: =[4]届出・宮城県!$Z$23 -> 0 | AV11: =[4]届出・宮城県!$AA$23 -> 0 | AW11: =[4]届出・宮城県!$Z$24 -> 0 | AX11: =[4]届出・宮城県!$AA$24 -> 0 | AY11: =[4]届出・宮城県!$Z$25 -> 0 | AZ11: =[4]届出・宮城県!$AA$25 -> 0 | BA11: =[4]届出・宮城県!$Z$26 -> 0 | BB11: =[4]届出・宮城県!$AA$26 -> 0 | BC11: =[4]届出・宮城県!$Z$27 -> 0 | BD11: =[4]届出・宮城県!$AA$27 -> 0 | BE11: =[4]届出・宮城県!$Z$28 -> 0 | BF11: =[4]届出・宮城県!$AA$28 -> 0 | BG11: =[4]届出・宮城県!$Z$29 -> 0 | BH11: =[4]届出・宮城県!$AA$29 -> 0 | BI11: 04 | BJ11: 宮城 | BK11: =[4]届出・宮城県!$Z$30 -> 0 | BL11: =[4]届出・宮城県!$AA$30 -> 0 | BM11: =[4]届出・宮城県!$Z$31 -> 0 | BN11: =[4]届出・宮城県!$AA$31 -> 0 | BO11: =[4]届出・宮城県!$Z$32 -> 0 | BP11: =[4]届出・宮城県!$AA$32 -> 0 | BQ11: =[4]届出・宮城県!$Z$33 -> 0 | BR11: =[4]届出・宮城県!$AA$33 -> 0 | BS11: =[4]届出・宮城県!$Z$34 -> 0 | BT11: =[4]届出・宮城県!$AA$34 -> 0 | BU11: =[4]届出・宮城県!$Z$35 -> 0 | BV11: =[4]届出・宮城県!$AA$35 -> 0 | BW11: =[4]届出・宮城県!$Z$36 -> 0 | BX11: =[4]届出・宮城県!$AA$36 -> 0 | BY11: =[4]届出・宮城県!$Z$37 -> 12 | BZ11: =[4]届出・宮城県!$AA$37 -> 64 | CA11: =[4]届出・宮城県!$Z$38 -> 0 | CB11: =[4]届出・宮城県!$AA$38 -> 0 | CC11: 04 | CD11: 宮城 | CE11: =[4]届出・宮城県!$Z$39 -> 0 | CF11: =[4]届出・宮城県!$AA$39 -> 0 | CG11: =[4]届出・宮城県!$Z$40 -> 0 | CH11: =[4]届出・宮城県!$AA$40 -> 0 | CI11: =[4]届出・宮城県!$Z$41 -> 0 | CJ11: =[4]届出・宮城県!$AA$41 -> 0 | CK11: =[4]届出・宮城県!$Z$42 -> 0 | CL11: =[4]届出・宮城県!$AA$42 -> 0 | CM11: =[4]届出・宮城県!$Z$43 -> 0 | CN11: =[4]届出・宮城県!$AA$43 -> 0 | CO11: =[4]届出・宮城県!$Z$44 -> 0 | CP11: =[4]届出・宮城県!$AA$44 -> 0 | CQ11: =[4]届出・宮城県!$Z$45 -> 0 | CR11: =[4]届出・宮城県!$AA$45 -> 0 | CS11: =[4]届出・宮城県!$Z$46 -> 0 | CT11: =[4]届出・宮城県!$AA$46 -> 0 | CU11: 04 | CV11: 宮城 | CW11: =[4]届出・宮城県!$Z$47 -> 0 | CX11: =[4]届出・宮城県!$AA$47 -> 0 | CY11: =[4]届出・宮城県!$Z$51 -> 0 | CZ11: =[4]届出・宮城県!$AA$51 -> 0 | DA11: =[4]届出・宮城県!$Z$48 -> 0 | DB11: =[4]届出・宮城県!$AA$48 -> 0 | DC11: =[4]届出・宮城県!$Z$49 -> 0 | DD11: =[4]届出・宮城県!$AA$49 -> 0
A12: 05 | B12: 秋田 | C12: =[5]届出・秋田県!$Z$3 -> 0 | D12: =[5]届出・秋田県!$AA$3 -> 0 | E12: =[5]届出・秋田県!$Z$4 -> 0 | F12: =[5]届出・秋田県!$AA$4 -> 0 | G12: =[5]届出・秋田県!$Z$5 -> 0 | H12: =[5]届出・秋田県!$AA$5 -> 0 | I12: =[5]届出・秋田県!$Z$6 -> 0 | J12: =[5]届出・秋田県!$AA$6 -> 0 | K12: =[5]届出・秋田県!$Z$7 -> 1 | L12: =[5]届出・秋田県!$AA$7 -> 3 | M12: =[5]届出・秋田県!$Z$8 -> 1 | N12: =[5]届出・秋田県!$AA$8 -> 1 | O12: =[5]届出・秋田県!$Z$9 -> 2 | P12: =[5]届出・秋田県!$AA$9 -> 2 | Q12: =[5]届出・秋田県!$Z$10 -> 0 | R12: =[5]届出・秋田県!$AA$10 -> 0 | S12: =[5]届出・秋田県!$Z$11 -> 0 | T12: =[5]届出・秋田県!$AA$11 -> 0 | U12: 05 | V12: 秋田 | W12: =[5]届出・秋田県!$Z$12 -> 0 | X12: =[5]届出・秋田県!$AA$12 -> 0 | Y12: =[5]届出・秋田県!$Z$13 -> 0 | Z12: =[5]届出・秋田県!$AA$13 -> 0 | AA12: =[5]届出・秋田県!$Z$14 -> 0 | AB12: =[5]届出・秋田県!$AA$14 -> 0 | AC12: =[5]届出・秋田県!$Z$15 -> 0 | AD12: =[5]届出・秋田県!$AA$15 -> 0 | AE12: =[5]届出・秋田県!$Z$16 -> 0 | AF12: =[5]届出・秋田県!$AA$16 -> 0 | AG12: =[5]届出・秋田県!$Z$17 -> 0 | AH12: =[5]届出・秋田県!$AA$17 -> 0 | AI12: =[5]届出・秋田県!$Z$18 -> 0 | AJ12: =[5]届出・秋田県!$AA$18 -> 0 | AK12: =[5]届出・秋田県!$Z$19 -> 0 | AL12: =[5]届出・秋田県!$AA$19 -> 0 | AM12: =[5]届出・秋田県!$Z$20 -> 0 | AN12: =[5]届出・秋田県!$AA$20 -> 0 | AO12: 05 | AP12: 秋田 | AQ12: =[5]届出・秋田県!$Z$21 -> 0 | AR12: =[5]届出・秋田県!$AA$21 -> 0 | AS12: =[5]届出・秋田県!$Z$22 -> 0 | AT12: =[5]届出・秋田県!$AA$22 -> 0 | AU12: =[5]届出・秋田県!$Z$23 -> 0 | AV12: =[5]届出・秋田県!$AA$23 -> 0 | AW12: =[5]届出・秋田県!$Z$24 -> 0 | AX12: =[5]届出・秋田県!$AA$24 -> 0 | AY12: =[5]届出・秋田県!$Z$25 -> 0 | AZ12: =[5]届出・秋田県!$AA$25 -> 0 | BA12: =[5]届出・秋田県!$Z$26 -> 0 | BB12: =[5]届出・秋田県!$AA$26 -> 0 | BC12: =[5]届出・秋田県!$Z$27 -> 0 | BD12: =[5]届出・秋田県!$AA$27 -> 0 | BE12: =[5]届出・秋田県!$Z$28 -> 0 | BF12: =[5]届出・秋田県!$AA$28 -> 0 | BG12: =[5]届出・秋田県!$Z$29 -> 0 | BH12: =[5]届出・秋田県!$AA$29 -> 0 | BI12: 05 | BJ12: 秋田 | BK12: =[5]届出・秋田県!$Z$30 -> 0 | BL12: =[5]届出・秋田県!$AA$30 -> 0 | BM12: =[5]届出・秋田県!$Z$31 -> 0 | BN12: =[5]届出・秋田県!$AA$31 -> 0 | BO12: =[5]届出・秋田県!$Z$32 -> 0 | BP12: =[5]届出・秋田県!$AA$32 -> 0 | BQ12: =[5]届出・秋田県!$Z$33 -> 0 | BR12: =[5]届出・秋田県!$AA$33 -> 0 | BS12: =[5]届出・秋田県!$Z$34 -> 0 | BT12: =[5]届出・秋田県!$AA$34 -> 0 | BU12: =[5]届出・秋田県!$Z$35 -> 0 | BV12: =[5]届出・秋田県!$AA$35 -> 0 | BW12: =[5]届出・秋田県!$Z$36 -> 0 | BX12: =[5]届出・秋田県!$AA$36 -> 0 | BY12: =[5]届出・秋田県!$Z$37 -> 8 | BZ12: =[5]届出・秋田県!$AA$37 -> 32 | CA12: =[5]届出・秋田県!$Z$38 -> 0 | CB12: =[5]届出・秋田県!$AA$38 -> 0 | CC12: 05 | CD12: 秋田 | CE12: =[5]届出・秋田県!$Z$39 -> 0 | CF12: =[5]届出・秋田県!$AA$39 -> 0 | CG12: =[5]届出・秋田県!$Z$40 -> 0 | CH12: =[5]届出・秋田県!$AA$40 -> 13 | CI12: =[5]届出・秋田県!$Z$41 -> 1 | CJ12: =[5]届出・秋田県!$AA$41 -> 14 | CK12: =[5]届出・秋田県!$Z$42 -> 0 | CL12: =[5]届出・秋田県!$AA$42 -> 0 | CM12: =[5]届出・秋田県!$Z$43 -> 0 | CN12: =[5]届出・秋田県!$AA$43 -> 0 | CO12: =[5]届出・秋田県!$Z$44 -> 0 | CP12: =[5]届出・秋田県!$AA$44 -> 0 | CQ12: =[5]届出・秋田県!$Z$45 -> 0 | CR12: =[5]届出・秋田県!$AA$45 -> 0 | CS12: =[5]届出・秋田県!$Z$46 -> 0 | CT12: =[5]届出・秋田県!$AA$46 -> 0 | CU12: 05 | CV12: 秋田 | CW12: =[5]届出・秋田県!$Z$47 -> 0 | CX12: =[5]届出・秋田県!$AA$47 -> 0 | CY12: =[5]届出・秋田県!$Z$51 -> 0 | CZ12: =[5]届出・秋田県!$AA$51 -> 0 | DA12: =[5]届出・秋田県!$Z$48 -> 0 | DB12: =[5]届出・秋田県!$AA$48 -> 0 | DC12: =[5]届出・秋田県!$Z$49 -> 0 | DD12: =[5]届出・秋田県!$AA$49 -> 0
A13: 06 | B13: 山形 | C13: =[6]届出・山形県!$Z$3 -> 0 | D13: =[6]届出・山形県!$AA$3 -> 0 | E13: =[6]届出・山形県!$Z$4 -> 0 | F13: =[6]届出・山形県!$AA$4 -> 0 | G13: =[6]届出・山形県!$Z$5 -> 0 | H13: =[6]届出・山形県!$AA$5 -> 0 | I13: =[6]届出・山形県!$Z$6 -> 0 | J13: =[6]届出・山形県!$AA$6 -> 0 | K13: =[6]届出・山形県!$Z$7 -> 2 | L13: =[6]届出・山形県!$AA$7 -> 2 | M13: =[6]届出・山形県!$Z$8 -> 3 | N13: =[6]届出・山形県!$AA$8 -> 75 | O13: =[6]届出・山形県!$Z$9 -> 3 | P13: =[6]届出・山形県!$AA$9 -> 3 | Q13: =[6]届出・山形県!$Z$10 -> 0 | R13: =[6]届出・山形県!$AA$10 -> 0 | S13: =[6]届出・山形県!$Z$11 -> 0 | T13: =[6]届出・山形県!$AA$11 -> 0 | U13: 06 | V13: 山形 | W13: =[6]届出・山形県!$Z$12 -> 0 | X13: =[6]届出・山形県!$AA$12 -> 0 | Y13: =[6]届出・山形県!$Z$13 -> 0 | Z13: =[6]届出・山形県!$AA$13 -> 0 | AA13: =[6]届出・山形県!$Z$14 -> 0 | AB13: =[6]届出・山形県!$AA$14 -> 0 | AC13: =[6]届出・山形県!$Z$15 -> 0 | AD13: =[6]届出・山形県!$AA$15 -> 0 | AE13: =[6]届出・山形県!$Z$16 -> 0 | AF13: =[6]届出・山形県!$AA$16 -> 0 | AG13: =[6]届出・山形県!$Z$17 -> 0 | AH13: =[6]届出・山形県!$AA$17 -> 0 | AI13: =[6]届出・山形県!$Z$18 -> 0 | AJ13: =[6]届出・山形県!$AA$18 -> 0 | AK13: =[6]届出・山形県!$Z$19 -> 0 | AL13: =[6]届出・山形県!$AA$19 -> 0 | AM13: =[6]届出・山形県!$Z$20 -> 0 | AN13: =[6]届出・山形県!$AA$20 -> 0 | AO13: 06 | AP13: 山形 | AQ13: =[6]届出・山形県!$Z$21 -> 0 | AR13: =[6]届出・山形県!$AA$21 -> 0 | AS13: =[6]届出・山形県!$Z$22 -> 0 | AT13: =[6]届出・山形県!$AA$22 -> 0 | AU13: =[6]届出・山形県!$Z$23 -> 0 | AV13: =[6]届出・山形県!$AA$23 -> 0 | AW13: =[6]届出・山形県!$Z$24 -> 0 | AX13: =[6]届出・山形県!$AA$24 -> 0 | AY13: =[6]届出・山形県!$Z$25 -> 0 | AZ13: =[6]届出・山形県!$AA$25 -> 0 | BA13: =[6]届出・山形県!$Z$26 -> 0 | BB13: =[6]届出・山形県!$AA$26 -> 0 | BC13: =[6]届出・山形県!$Z$27 -> 0 | BD13: =[6]届出・山形県!$AA$27 -> 0 | BE13: =[6]届出・山形県!$Z$28 -> 0 | BF13: =[6]届出・山形県!$AA$28 -> 0 | BG13: =[6]届出・山形県!$Z$29 -> 0 | BH13: =[6]届出・山形県!$AA$29 -> 0 | BI13: 06 | BJ13: 山形 | BK13: =[6]届出・山形県!$Z$30 -> 0 | BL13: =[6]届出・山形県!$AA$30 -> 0 | BM13: =[6]届出・山形県!$Z$31 -> 0 | BN13: =[6]届出・山形県!$AA$31 -> 0 | BO13: =[6]届出・山形県!$Z$32 -> 0 | BP13: =[6]届出・山形県!$AA$32 -> 0 | BQ13: =[6]届出・山形県!$Z$33 -> 2 | BR13: =[6]届出・山形県!$AA$33 -> 121 | BS13: =[6]届出・山形県!$Z$34 -> 0 | BT13: =[6]届出・山形県!$AA$34 -> 0 | BU13: =[6]届出・山形県!$Z$35 -> 0 | BV13: =[6]届出・山形県!$AA$35 -> 0 | BW13: =[6]届出・山形県!$Z$36 -> 0 | BX13: =[6]届出・山形県!$AA$36 -> 0 | BY13: =[6]届出・山形県!$Z$37 -> 86 | BZ13: =[6]届出・山形県!$AA$37 -> 120 | CA13: =[6]届出・山形県!$Z$38 -> 0 | CB13: =[6]届出・山形県!$AA$38 -> 0 | CC13: 06 | CD13: 山形 | CE13: =[6]届出・山形県!$Z$39 -> 0 | CF13: =[6]届出・山形県!$AA$39 -> 0 | CG13: =[6]届出・山形県!$Z$40 -> 0 | CH13: =[6]届出・山形県!$AA$40 -> 0 | CI13: =[6]届出・山形県!$Z$41 -> 0 | CJ13: =[6]届出・山形県!$AA$41 -> 0 | CK13: =[6]届出・山形県!$Z$42 -> 0 | CL13: =[6]届出・山形県!$AA$42 -> 0 | CM13: =[6]届出・山形県!$Z$43 -> 0 | CN13: =[6]届出・山形県!$AA$43 -> 0 | CO13: =[6]届出・山形県!$Z$44 -> 0 | CP13: =[6]届出・山形県!$AA$44 -> 0 | CQ13: =[6]届出・山形県!$Z$45 -> 0 | CR13: =[6]届出・山形県!$AA$45 -> 0 | CS13: =[6]届出・山形県!$Z$46 -> 0 | CT13: =[6]届出・山形県!$AA$46 -> 0 | CU13: 06 | CV13: 山形 | CW13: =[6]届出・山形県!$Z$47 -> 0 | CX13: =[6]届出・山形県!$AA$47 -> 0 | CY13: =[6]届出・山形県!$Z$51 -> 0 | CZ13: =[6]届出・山形県!$AA$51 -> 0 | DA13: =[6]届出・山形県!$Z$48 -> 0 | DB13: =[6]届出・山形県!$AA$48 -> 0 | DC13: =[6]届出・山形県!$Z$49 -> 0 | DD13: =[6]届出・山形県!$AA$49 -> 0
A14: 07 | B14: 福島 | C14: =[7]届出・福島県!$Z$3 -> 0 | D14: =[7]届出・福島県!$AA$3 -> 0 | E14: =[7]届出・福島県!$Z$4 -> 0 | F14: =[7]届出・福島県!$AA$4 -> 0 | G14: =[7]届出・福島県!$Z$5 -> 0 | H14: =[7]届出・福島県!$AA$5 -> 0 | I14: =[7]届出・福島県!$Z$6 -> 0 | J14: =[7]届出・福島県!$AA$6 -> 0 | K14: =[7]届出・福島県!$Z$7 -> 0 | L14: =[7]届出・福島県!$AA$7 -> 0 | M14: =[7]届出・福島県!$Z$8 -> 0 | N14: =[7]届出・福島県!$AA$8 -> 0 | O14: =[7]届出・福島県!$Z$9 -> 1 | P14: =[7]届出・福島県!$AA$9 -> 1 | Q14: =[7]届出・福島県!$Z$10 -> 0 | R14: =[7]届出・福島県!$AA$10 -> 0 | S14: =[7]届出・福島県!$Z$11 -> 0 | T14: =[7]届出・福島県!$AA$11 -> 0 | U14: 07 | V14: 福島 | W14: =[7]届出・福島県!$Z$12 -> 0 | X14: =[7]届出・福島県!$AA$12 -> 0 | Y14: =[7]届出・福島県!$Z$13 -> 0 | Z14: =[7]届出・福島県!$AA$13 -> 0 | AA14: =[7]届出・福島県!$Z$14 -> 0 | AB14: =[7]届出・福島県!$AA$14 -> 0 | AC14: =[7]届出・福島県!$Z$15 -> 0 | AD14: =[7]届出・福島県!$AA$15 -> 0 | AE14: =[7]届出・福島県!$Z$16 -> 0 | AF14: =[7]届出・福島県!$AA$16 -> 0 | AG14: =[7]届出・福島県!$Z$17 -> 0 | AH14: =[7]届出・福島県!$AA$17 -> 0 | AI14: =[7]届出・福島県!$Z$18 -> 1 | AJ14: =[7]届出・福島県!$AA$18 -> 4 | AK14: =[7]届出・福島県!$Z$19 -> 0 | AL14: =[7]届出・福島県!$AA$19 -> 0 | AM14: =[7]届出・福島県!$Z$20 -> 0 | AN14: =[7]届出・福島県!$AA$20 -> 0 | AO14: 07 | AP14: 福島 | AQ14: =[7]届出・福島県!$Z$21 -> 0 | AR14: =[7]届出・福島県!$AA$21 -> 0 | AS14: =[7]届出・福島県!$Z$22 -> 0 | AT14: =[7]届出・福島県!$AA$22 -> 0 | AU14: =[7]届出・福島県!$Z$23 -> 0 | AV14: =[7]届出・福島県!$AA$23 -> 0 | AW14: =[7]届出・福島県!$Z$24 -> 0 | AX14: =[7]届出・福島県!$AA$24 -> 0 | AY14: =[7]届出・福島県!$Z$25 -> 0 | AZ14: =[7]届出・福島県!$AA$25 -> 0 | BA14: =[7]届出・福島県!$Z$26 -> 0 | BB14: =[7]届出・福島県!$AA$26 -> 0 | BC14: =[7]届出・福島県!$Z$27 -> 0 | BD14: =[7]届出・福島県!$AA$27 -> 0 | BE14: =[7]届出・福島県!$Z$28 -> 0 | BF14: =[7]届出・福島県!$AA$28 -> 0 | BG14: =[7]届出・福島県!$Z$29 -> 0 | BH14: =[7]届出・福島県!$AA$29 -> 0 | BI14: 07 | BJ14: 福島 | BK14: =[7]届出・福島県!$Z$30 -> 0 | BL14: =[7]届出・福島県!$AA$30 -> 0 | BM14: =[7]届出・福島県!$Z$31 -> 1 | BN14: =[7]届出・福島県!$AA$31 -> 153 | BO14: =[7]届出・福島県!$Z$32 -> 0 | BP14: =[7]届出・福島県!$AA$32 -> 0 | BQ14: =[7]届出・福島県!$Z$33 -> 0 | BR14: =[7]届出・福島県!$AA$33 -> 0 | BS14: =[7]届出・福島県!$Z$34 -> 0 | BT14: =[7]届出・福島県!$AA$34 -> 0 | BU14: =[7]届出・福島県!$Z$35 -> 0 | BV14: =[7]届出・福島県!$AA$35 -> 0 | BW14: =[7]届出・福島県!$Z$36 -> 0 | BX14: =[7]届出・福島県!$AA$36 -> 0 | BY14: =[7]届出・福島県!$Z$37 -> 3 | BZ14: =[7]届出・福島県!$AA$37 -> 14 | CA14: =[7]届出・福島県!$Z$38 -> 0 | CB14: =[7]届出・福島県!$AA$38 -> 0 | CC14: 07 | CD14: 福島 | CE14: =[7]届出・福島県!$Z$39 -> 0 | CF14: =[7]届出・福島県!$AA$39 -> 0 | CG14: =[7]届出・福島県!$Z$40 -> 0 | CH14: =[7]届出・福島県!$AA$40 -> 0 | CI14: =[7]届出・福島県!$Z$41 -> 1 | CJ14: =[7]届出・福島県!$AA$41 -> 4 | CK14: =[7]届出・福島県!$Z$42 -> 0 | CL14: =[7]届出・福島県!$AA$42 -> 0 | CM14: =[7]届出・福島県!$Z$43 -> 0 | CN14: =[7]届出・福島県!$AA$43 -> 0 | CO14: =[7]届出・福島県!$Z$44 -> 0 | CP14: =[7]届出・福島県!$AA$44 -> 0 | CQ14: =[7]届出・福島県!$Z$45 -> 0 | CR14: =[7]届出・福島県!$AA$45 -> 0 | CS14: =[7]届出・福島県!$Z$46 -> 0 | CT14: =[7]届出・福島県!$AA$46 -> 0 | CU14: 07 | CV14: 福島 | CW14: =[7]届出・福島県!$Z$47 -> 0 | CX14: =[7]届出・福島県!$AA$47 -> 0 | CY14: =[7]届出・福島県!$Z$51 -> 0 | CZ14: =[7]届出・福島県!$AA$51 -> 0 | DA14: =[7]届出・福島県!$Z$48 -> 0 | DB14: =[7]届出・福島県!$AA$48 -> 0 | DC14: =[7]届出・福島県!$Z$49 -> 0 | DD14: =[7]届出・福島県!$AA$49 -> 0
A15: 08 | B15: 茨城 | C15: =[8]届出・茨城県!$Z$3 -> 0 | D15: =[8]届出・茨城県!$AA$3 -> 0 | E15: =[8]届出・茨城県!$Z$4 -> 0 | F15: =[8]届出・茨城県!$AA$4 -> 0 | G15: =[8]届出・茨城県!$Z$5 -> 0 | H15: =[8]届出・茨城県!$AA$5 -> 0 | I15: =[8]届出・茨城県!$Z$6 -> 0 | J15: =[8]届出・茨城県!$AA$6 -> 0 | K15: =[8]届出・茨城県!$Z$7 -> 0 | L15: =[8]届出・茨城県!$AA$7 -> 0 | M15: =[8]届出・茨城県!$Z$8 -> 0 | N15: =[8]届出・茨城県!$AA$8 -> 0 | O15: =[8]届出・茨城県!$Z$9 -> 1 | P15: =[8]届出・茨城県!$AA$9 -> 1 | Q15: =[8]届出・茨城県!$Z$10 -> 0 | R15: =[8]届出・茨城県!$AA$10 -> 0 | S15: =[8]届出・茨城県!$Z$11 -> 0 | T15: =[8]届出・茨城県!$AA$11 -> 0 | U15: 08 | V15: 茨城 | W15: =[8]届出・茨城県!$Z$12 -> 0 | X15: =[8]届出・茨城県!$AA$12 -> 0 | Y15: =[8]届出・茨城県!$Z$13 -> 0 | Z15: =[8]届出・茨城県!$AA$13 -> 0 | AA15: =[8]届出・茨城県!$Z$14 -> 0 | AB15: =[8]届出・茨城県!$AA$14 -> 0 | AC15: =[8]届出・茨城県!$Z$15 -> 0 | AD15: =[8]届出・茨城県!$AA$15 -> 0 | AE15: =[8]届出・茨城県!$Z$16 -> 5 | AF15: =[8]届出・茨城県!$AA$16 -> 5 | AG15: =[8]届出・茨城県!$Z$17 -> 0 | AH15: =[8]届出・茨城県!$AA$17 -> 0 | AI15: =[8]届出・茨城県!$Z$18 -> 0 | AJ15: =[8]届出・茨城県!$AA$18 -> 0 | AK15: =[8]届出・茨城県!$Z$19 -> 4 | AL15: =[8]届出・茨城県!$AA$19 -> 9 | AM15: =[8]届出・茨城県!$Z$20 -> 0 | AN15: =[8]届出・茨城県!$AA$20 -> 0 | AO15: 08 | AP15: 茨城 | AQ15: =[8]届出・茨城県!$Z$21 -> 0 | AR15: =[8]届出・茨城県!$AA$21 -> 0 | AS15: =[8]届出・茨城県!$Z$22 -> 0 | AT15: =[8]届出・茨城県!$AA$22 -> 0 | AU15: =[8]届出・茨城県!$Z$23 -> 0 | AV15: =[8]届出・茨城県!$AA$23 -> 0 | AW15: =[8]届出・茨城県!$Z$24 -> 1 | AX15: =[8]届出・茨城県!$AA$24 -> 1 | AY15: =[8]届出・茨城県!$Z$25 -> 0 | AZ15: =[8]届出・茨城県!$AA$25 -> 0 | BA15: =[8]届出・茨城県!$Z$26 -> 0 | BB15: =[8]届出・茨城県!$AA$26 -> 0 | BC15: =[8]届出・茨城県!$Z$27 -> 0 | BD15: =[8]届出・茨城県!$AA$27 -> 0 | BE15: =[8]届出・茨城県!$Z$28 -> 0 | BF15: =[8]届出・茨城県!$AA$28 -> 0 | BG15: =[8]届出・茨城県!$Z$29 -> 1 | BH15: =[8]届出・茨城県!$AA$29 -> 16 | BI15: 08 | BJ15: 茨城 | BK15: =[8]届出・茨城県!$Z$30 -> 0 | BL15: =[8]届出・茨城県!$AA$30 -> 0 | BM15: =[8]届出・茨城県!$Z$31 -> 1 | BN15: =[8]届出・茨城県!$AA$31 -> 18 | BO15: =[8]届出・茨城県!$Z$32 -> 0 | BP15: =[8]届出・茨城県!$AA$32 -> 0 | BQ15: =[8]届出・茨城県!$Z$33 -> 7 | BR15: =[8]届出・茨城県!$AA$33 -> 15 | BS15: =[8]届出・茨城県!$Z$34 -> 0 | BT15: =[8]届出・茨城県!$AA$34 -> 0 | BU15: =[8]届出・茨城県!$Z$35 -> 0 | BV15: =[8]届出・茨城県!$AA$35 -> 0 | BW15: =[8]届出・茨城県!$Z$36 -> 0 | BX15: =[8]届出・茨城県!$AA$36 -> 0 | BY15: =[8]届出・茨城県!$Z$37 -> 75 | BZ15: =[8]届出・茨城県!$AA$37 -> 84 | CA15: =[8]届出・茨城県!$Z$38 -> 0 | CB15: =[8]届出・茨城県!$AA$38 -> 0 | CC15: 08 | CD15: 茨城 | CE15: =[8]届出・茨城県!$Z$39 -> 1 | CF15: =[8]届出・茨城県!$AA$39 -> 26 | CG15: =[8]届出・茨城県!$Z$40 -> 0 | CH15: =[8]届出・茨城県!$AA$40 -> 0 | CI15: =[8]届出・茨城県!$Z$41 -> 0 | CJ15: =[8]届出・茨城県!$AA$41 -> 0 | CK15: =[8]届出・茨城県!$Z$42 -> 0 | CL15: =[8]届出・茨城県!$AA$42 -> 0 | CM15: =[8]届出・茨城県!$Z$43 -> 0 | CN15: =[8]届出・茨城県!$AA$43 -> 0 | CO15: =[8]届出・茨城県!$Z$44 -> 0 | CP15: =[8]届出・茨城県!$AA$44 -> 0 | CQ15: =[8]届出・茨城県!$Z$45 -> 0 | CR15: =[8]届出・茨城県!$AA$45 -> 0 | CS15: =[8]届出・茨城県!$Z$46 -> 0 | CT15: =[8]届出・茨城県!$AA$46 -> 0 | CU15: 08 | CV15: 茨城 | CW15: =[8]届出・茨城県!$Z$47 -> 0 | CX15: =[8]届出・茨城県!$AA$47 -> 0 | CY15: =[8]届出・茨城県!$Z$51 -> 0 | CZ15: =[8]届出・茨城県!$AA$51 -> 0 | DA15: =[8]届出・茨城県!$Z$48 -> 0 | DB15: =[8]届出・茨城県!$AA$48 -> 0 | DC15: =[8]届出・茨城県!$Z$49 -> 4 | DD15: =[8]届出・茨城県!$AA$49 -> 14
A16: 09 | B16: 栃木 | C16: =[9]届出・栃木県!$Z$3 -> 0 | D16: =[9]届出・栃木県!$AA$3 -> 0 | E16: =[9]届出・栃木県!$Z$4 -> 0 | F16: =[9]届出・栃木県!$AA$4 -> 0 | G16: =[9]届出・栃木県!$Z$5 -> 0 | H16: =[9]届出・栃木県!$AA$5 -> 0 | I16: =[9]届出・栃木県!$Z$6 -> 0 | J16: =[9]届出・栃木県!$AA$6 -> 0 | K16: =[9]届出・栃木県!$Z$7 -> 0 | L16: =[9]届出・栃木県!$AA$7 -> 0 | M16: =[9]届出・栃木県!$Z$8 -> 0 | N16: =[9]届出・栃木県!$AA$8 -> 0 | O16: =[9]届出・栃木県!$Z$9 -> 0 | P16: =[9]届出・栃木県!$AA$9 -> 0 | Q16: =[9]届出・栃木県!$Z$10 -> 0 | R16: =[9]届出・栃木県!$AA$10 -> 0 | S16: =[9]届出・栃木県!$Z$11 -> 0 | T16: =[9]届出・栃木県!$AA$11 -> 0 | U16: 09 | V16: 栃木 | W16: =[9]届出・栃木県!$Z$12 -> 0 | X16: =[9]届出・栃木県!$AA$12 -> 0 | Y16: =[9]届出・栃木県!$Z$13 -> 2 | Z16: =[9]届出・栃木県!$AA$13 -> 2 | AA16: =[9]届出・栃木県!$Z$14 -> 0 | AB16: =[9]届出・栃木県!$AA$14 -> 0 | AC16: =[9]届出・栃木県!$Z$15 -> 0 | AD16: =[9]届出・栃木県!$AA$15 -> 0 | AE16: =[9]届出・栃木県!$Z$16 -> 0 | AF16: =[9]届出・栃木県!$AA$16 -> 0 | AG16: =[9]届出・栃木県!$Z$17 -> 0 | AH16: =[9]届出・栃木県!$AA$17 -> 0 | AI16: =[9]届出・栃木県!$Z$18 -> 0 | AJ16: =[9]届出・栃木県!$AA$18 -> 0 | AK16: =[9]届出・栃木県!$Z$19 -> 0 | AL16: =[9]届出・栃木県!$AA$19 -> 0 | AM16: =[9]届出・栃木県!$Z$20 -> 0 | AN16: =[9]届出・栃木県!$AA$20 -> 0 | AO16: 09 | AP16: 栃木 | AQ16: =[9]届出・栃木県!$Z$21 -> 0 | AR16: =[9]届出・栃木県!$AA$21 -> 0 | AS16: =[9]届出・栃木県!$Z$22 -> 0 | AT16: =[9]届出・栃木県!$AA$22 -> 0 | AU16: =[9]届出・栃木県!$Z$23 -> 0 | AV16: =[9]届出・栃木県!$AA$23 -> 0 | AW16: =[9]届出・栃木県!$Z$24 -> 0 | AX16: =[9]届出・栃木県!$AA$24 -> 0 | AY16: =[9]届出・栃木県!$Z$25 -> 0 | AZ16: =[9]届出・栃木県!$AA$25 -> 0 | BA16: =[9]届出・栃木県!$Z$26 -> 0 | BB16: =[9]届出・栃木県!$AA$26 -> 0 | BC16: =[9]届出・栃木県!$Z$27 -> 0 | BD16: =[9]届出・栃木県!$AA$27 -> 0 | BE16: =[9]届出・栃木県!$Z$28 -> 0 | BF16: =[9]届出・栃木県!$AA$28 -> 0 | BG16: =[9]届出・栃木県!$Z$29 -> 0 | BH16: =[9]届出・栃木県!$AA$29 -> 0 | BI16: 09 | BJ16: 栃木 | BK16: =[9]届出・栃木県!$Z$30 -> 0 | BL16: =[9]届出・栃木県!$AA$30 -> 0 | BM16: =[9]届出・栃木県!$Z$31 -> 0 | BN16: =[9]届出・栃木県!$AA$31 -> 0 | BO16: =[9]届出・栃木県!$Z$32 -> 0 | BP16: =[9]届出・栃木県!$AA$32 -> 0 | BQ16: =[9]届出・栃木県!$Z$33 -> 0 | BR16: =[9]届出・栃木県!$AA$33 -> 0 | BS16: =[9]届出・栃木県!$Z$34 -> 0 | BT16: =[9]届出・栃木県!$AA$34 -> 0 | BU16: =[9]届出・栃木県!$Z$35 -> 0 | BV16: =[9]届出・栃木県!$AA$35 -> 0 | BW16: =[9]届出・栃木県!$Z$36 -> 0 | BX16: =[9]届出・栃木県!$AA$36 -> 0 | BY16: =[9]届出・栃木県!$Z$37 -> 57 | BZ16: =[9]届出・栃木県!$AA$37 -> 71 | CA16: =[9]届出・栃木県!$Z$38 -> 0 | CB16: =[9]届出・栃木県!$AA$38 -> 0 | CC16: 09 | CD16: 栃木 | CE16: =[9]届出・栃木県!$Z$39 -> 0 | CF16: =[9]届出・栃木県!$AA$39 -> 0 | CG16: =[9]届出・栃木県!$Z$40 -> 0 | CH16: =[9]届出・栃木県!$AA$40 -> 0 | CI16: =[9]届出・栃木県!$Z$41 -> 3 | CJ16: =[9]届出・栃木県!$AA$41 -> 236 | CK16: =[9]届出・栃木県!$Z$42 -> 0 | CL16: =[9]届出・栃木県!$AA$42 -> 0 | CM16: =[9]届出・栃木県!$Z$43 -> 0 | CN16: =[9]届出・栃木県!$AA$43 -> 0 | CO16: =[9]届出・栃木県!$Z$44 -> 0 | CP16: =[9]届出・栃木県!$AA$44 -> 0 | CQ16: =[9]届出・栃木県!$Z$45 -> 1 | CR16: =[9]届出・栃木県!$AA$45 -> 1 | CS16: =[9]届出・栃木県!$Z$46 -> 0 | CT16: =[9]届出・栃木県!$AA$46 -> 0 | CU16: 09 | CV16: 栃木 | CW16: =[9]届出・栃木県!$Z$47 -> 0 | CX16: =[9]届出・栃木県!$AA$47 -> 0 | CY16: =[9]届出・栃木県!$Z$51 -> 0 | CZ16: =[9]届出・栃木県!$AA$51 -> 0 | DA16: =[9]届出・栃木県!$Z$48 -> 0 | DB16: =[9]届出・栃木県!$AA$48 -> 0 | DC16: =[9]届出・栃木県!$Z$49 -> 0 | DD16: =[9]届出・栃木県!$AA$49 -> 0
A17: 10 | B17: 群馬 | C17: =[10]届出・群馬県!$Z$3 -> 0 | D17: =[10]届出・群馬県!$AA$3 -> 0 | E17: =[10]届出・群馬県!$Z$4 -> 0 | F17: =[10]届出・群馬県!$AA$4 -> 0 | G17: =[10]届出・群馬県!$Z$5 -> 0 | H17: =[10]届出・群馬県!$AA$5 -> 0 | I17: =[10]届出・群馬県!$Z$6 -> 0 | J17: =[10]届出・群馬県!$AA$6 -> 0 | K17: =[10]届出・群馬県!$Z$7 -> 1 | L17: =[10]届出・群馬県!$AA$7 -> 5 | M17: =[10]届出・群馬県!$Z$8 -> 1 | N17: =[10]届出・群馬県!$AA$8 -> 12 | O17: =[10]届出・群馬県!$Z$9 -> 10 | P17: =[10]届出・群馬県!$AA$9 -> 10 | Q17: =[10]届出・群馬県!$Z$10 -> 0 | R17: =[10]届出・群馬県!$AA$10 -> 0 | S17: =[10]届出・群馬県!$Z$11 -> 0 | T17: =[10]届出・群馬県!$AA$11 -> 0 | U17: 10 | V17: 群馬 | W17: =[10]届出・群馬県!$Z$12 -> 0 | X17: =[10]届出・群馬県!$AA$12 -> 0 | Y17: =[10]届出・群馬県!$Z$13 -> 1 | Z17: =[10]届出・群馬県!$AA$13 -> 1 | AA17: =[10]届出・群馬県!$Z$14 -> 0 | AB17: =[10]届出・群馬県!$AA$14 -> 0 | AC17: =[10]届出・群馬県!$Z$15 -> 0 | AD17: =[10]届出・群馬県!$AA$15 -> 0 | AE17: =[10]届出・群馬県!$Z$16 -> 0 | AF17: =[10]届出・群馬県!$AA$16 -> 0 | AG17: =[10]届出・群馬県!$Z$17 -> 0 | AH17: =[10]届出・群馬県!$AA$17 -> 0 | AI17: =[10]届出・群馬県!$Z$18 -> 0 | AJ17: =[10]届出・群馬県!$AA$18 -> 0 | AK17: =[10]届出・群馬県!$Z$19 -> 1 | AL17: =[10]届出・群馬県!$AA$19 -> 80 | AM17: =[10]届出・群馬県!$Z$20 -> 0 | AN17: =[10]届出・群馬県!$AA$20 -> 0 | AO17: 10 | AP17: 群馬 | AQ17: =[10]届出・群馬県!$Z$21 -> 0 | AR17: =[10]届出・群馬県!$AA$21 -> 0 | AS17: =[10]届出・群馬県!$Z$22 -> 0 | AT17: =[10]届出・群馬県!$AA$22 -> 0 | AU17: =[10]届出・群馬県!$Z$23 -> 0 | AV17: =[10]届出・群馬県!$AA$23 -> 0 | AW17: =[10]届出・群馬県!$Z$24 -> 0 | AX17: =[10]届出・群馬県!$AA$24 -> 0 | AY17: =[10]届出・群馬県!$Z$25 -> 0 | AZ17: =[10]届出・群馬県!$AA$25 -> 0 | BA17: =[10]届出・群馬県!$Z$26 -> 0 | BB17: =[10]届出・群馬県!$AA$26 -> 0 | BC17: =[10]届出・群馬県!$Z$27 -> 0 | BD17: =[10]届出・群馬県!$AA$27 -> 0 | BE17: =[10]届出・群馬県!$Z$28 -> 0 | BF17: =[10]届出・群馬県!$AA$28 -> 0 | BG17: =[10]届出・群馬県!$Z$29 -> 1 | BH17: =[10]届出・群馬県!$AA$29 -> 3 | BI17: 10 | BJ17: 群馬 | BK17: =[10]届出・群馬県!$Z$30 -> 0 | BL17: =[10]届出・群馬県!$AA$30 -> 0 | BM17: =[10]届出・群馬県!$Z$31 -> 1 | BN17: =[10]届出・群馬県!$AA$31 -> 3 | BO17: =[10]届出・群馬県!$Z$32 -> 1 | BP17: =[10]届出・群馬県!$AA$32 -> 132 | BQ17: =[10]届出・群馬県!$Z$33 -> 0 | BR17: =[10]届出・群馬県!$AA$33 -> 0 | BS17: =[10]届出・群馬県!$Z$34 -> 0 | BT17: =[10]届出・群馬県!$AA$34 -> 0 | BU17: =[10]届出・群馬県!$Z$35 -> 0 | BV17: =[10]届出・群馬県!$AA$35 -> 0 | BW17: =[10]届出・群馬県!$Z$36 -> 0 | BX17: =[10]届出・群馬県!$AA$36 -> 0 | BY17: =[10]届出・群馬県!$Z$37 -> 39 | BZ17: =[10]届出・群馬県!$AA$37 -> 56 | CA17: =[10]届出・群馬県!$Z$38 -> 0 | CB17: =[10]届出・群馬県!$AA$38 -> 0 | CC17: 10 | CD17: 群馬 | CE17: =[10]届出・群馬県!$Z$39 -> 0 | CF17: =[10]届出・群馬県!$AA$39 -> 0 | CG17: =[10]届出・群馬県!$Z$40 -> 0 | CH17: =[10]届出・群馬県!$AA$40 -> 0 | CI17: =[10]届出・群馬県!$Z$41 -> 165 | CJ17: =[10]届出・群馬県!$AA$41 -> 2327 | CK17: =[10]届出・群馬県!$Z$42 -> 0 | CL17: =[10]届出・群馬県!$AA$42 -> 0 | CM17: =[10]届出・群馬県!$Z$43 -> 0 | CN17: =[10]届出・群馬県!$AA$43 -> 0 | CO17: =[10]届出・群馬県!$Z$44 -> 0 | CP17: =[10]届出・群馬県!$AA$44 -> 0 | CQ17: =[10]届出・群馬県!$Z$45 -> 19 | CR17: =[10]届出・群馬県!$AA$45 -> 29 | CS17: =[10]届出・群馬県!$Z$46 -> 0 | CT17: =[10]届出・群馬県!$AA$46 -> 0 | CU17: 10 | CV17: 群馬 | CW17: =[10]届出・群馬県!$Z$47 -> 0 | CX17: =[10]届出・群馬県!$AA$47 -> 0 | CY17: =[10]届出・群馬県!$Z$51 -> 0 | CZ17: =[10]届出・群馬県!$AA$51 -> 0 | DA17: =[10]届出・群馬県!$Z$48 -> 0 | DB17: =[10]届出・群馬県!$AA$48 -> 0 | DC17: =[10]届出・群馬県!$Z$49 -> 0 | DD17: =[10]届出・群馬県!$AA$49 -> 0
