Workbook

Sheet 家畜伝染病9月
A2: 伝染病の 種 類 | C2: 牛疫 | F2: 牛疫 | I2: 牛疫 | L2: 牛疫 | O2: 牛疫 | R2: 牛疫 | U2: 牛疫 | X2: 牛肺疫 | AA2: 牛肺疫 | AD2: 牛肺疫 | AG2: 口蹄疫 | AJ2: 口蹄疫 | AM2: 口蹄疫 | AP2: 口蹄疫 | AS2: 口蹄疫 | AV2: 口蹄疫 | AY2: 口蹄疫 | BB2: 流行性 脳炎 | BE2: 流行性 脳炎 | BH2: 流行性 脳炎 | BK2: 流行性 脳炎 | BN2: 流行性 脳炎 | BQ2: 流行性 脳炎 | BT2: 流行性 脳炎 | BW2: 流行性 脳炎 | BZ2: 狂犬病 | CC2: 狂犬病 | CF2: 狂犬病 | CI2: 狂犬病 | CL2: 狂犬病 | CO2: 狂犬病 | CR2: 狂犬病 | CU2: 狂犬病 | CX2: 水疱性口内炎 | DA2: 水疱性口内炎 | DD2: 水疱性口内炎 | DG2: 水疱性口内炎 | DJ2: 水疱性口内炎 | DM2: 水疱性口内炎 | DP2: ﾘﾌﾄﾊﾞﾚｰ熱 | DS2: ﾘﾌﾄﾊﾞﾚｰ熱 | DV2: ﾘﾌﾄﾊﾞﾚｰ熱 | DY2: ﾘﾌﾄﾊﾞﾚｰ熱 | EB2: ﾘﾌﾄﾊﾞﾚｰ熱 | EE2: 炭疽 | EH2: 炭疽 | EK2: 炭疽 | EN2: 炭疽 | EQ2: 炭疽 | ET2: 炭疽 | EW2: 炭疽 | EZ2: 炭疽 | FC2: 出血性 敗血症 | FF2: 出血性 敗血症 | FI2: 出血性 敗血症 | FL2: 出血性 敗血症 | FO2: 出血性 敗血症 | FR2: 出血性 敗血症 | FU2: 出血性 敗血症 | FX2: ブルセラ症 | GA2: ブルセラ症 | GD2: ブルセラ症 | GG2: ブルセラ症 | GJ2: ブルセラ症 | GM2: ブルセラ症 | GP2: ブルセラ症 | GS2: 結核 | GV2: 結核 | GY2: 結核 | HB2: 結核 | HE2: ヨーネ病 | HH2: ヨーネ病 | HK2: ヨーネ病 | HN2: ヨーネ病 | HQ2: ヨーネ病 | HT2: ﾋﾟﾛﾌﾟﾗｽﾞﾏ症 | HW2: ﾋﾟﾛﾌﾟﾗｽﾞﾏ症 | HZ2: ﾋﾟﾛﾌﾟﾗｽﾞﾏ症 | IC2: ﾋﾟﾛﾌﾟﾗｽﾞﾏ症 | IF2: ｱﾅﾌﾟﾗｽﾞﾏ症 | II2: ｱﾅﾌﾟﾗｽﾞﾏ症 | IL2: ｱﾅﾌﾟﾗｽﾞﾏ症 | IO2: 伝達性 海綿状脳症 | IR2: 伝達性 海綿状脳症 | IU2: 伝達性 海綿状脳症 | IX2: 伝達性 海綿状脳症 | JA2: 伝達性 海綿状脳症 | JD2: 鼻疽 | JG2: 馬伝染性 貧血 | JJ2: アフリカ 馬疫 | JM2: 小反芻獣疫 | JP2: 小反芻獣疫 | JS2: 小反芻獣疫 | JV2: 豚熱 | JY2: 豚熱 | KB2: アフリカ 豚熱 | KE2: アフリカ 豚熱 | KH2: 豚水疱病 | KK2: 豚水疱病 | KN2: 家きん コレラ | KQ2: 家きん コレラ | KT2: 家きん コレラ | KW2: 家きん コレラ | KZ2: 高病原性 鳥ｲﾝﾌﾙｴﾝｻﾞ | LC2: 高病原性 鳥ｲﾝﾌﾙｴﾝｻﾞ | LF2: 高病原性 鳥ｲﾝﾌﾙｴﾝｻﾞ | LI2: 高病原性 鳥ｲﾝﾌﾙｴﾝｻﾞ | LL2: 高病原性 鳥ｲﾝﾌﾙｴﾝｻﾞ | LO2: 高病原性 鳥ｲﾝﾌﾙｴﾝｻﾞ | LR2: 高病原性 鳥ｲﾝﾌﾙｴﾝｻﾞ | LU2: 高病原性 鳥ｲﾝﾌﾙｴﾝｻﾞ | LX2: 低病原性 鳥ｲﾝﾌﾙｴﾝｻﾞ | MA2: 低病原性 鳥ｲﾝﾌﾙｴﾝｻﾞ | MD2: 低病原性 鳥ｲﾝﾌﾙｴﾝｻﾞ | MG2: 低病原性 鳥ｲﾝﾌﾙｴﾝｻﾞ | MJ2: 低病原性 鳥ｲﾝﾌﾙｴﾝｻﾞ | MM2: 低病原性 鳥ｲﾝﾌﾙｴﾝｻﾞ | MP2: 低病原性 鳥ｲﾝﾌﾙｴﾝｻﾞ | MS2: 低病原性 鳥ｲﾝﾌﾙｴﾝｻﾞ | MV2: ﾆｭｰｶｯｽﾙ病 | MY2: ﾆｭｰｶｯｽﾙ病 | NB2: ﾆｭｰｶｯｽﾙ病 | NE2: ﾆｭｰｶｯｽﾙ病 | NH2: 家きん ｻﾙﾓﾈﾗ症 | NK2: 家きん ｻﾙﾓﾈﾗ症 | NN2: 家きん ｻﾙﾓﾈﾗ症 | NQ2: 家きん ｻﾙﾓﾈﾗ症 | NT2: 腐蛆病 | NW2: ランピースキン病 | NZ2: ランピースキン病
A3: 家畜の種類 | C3: 牛 | F3: めん羊 | I3: 山羊 | L3: 豚 | O3: 水牛 | R3: 鹿 | U3: いのしし | X3: 牛 | AA3: 水牛 | AD3: 鹿 | AG3: 牛 | AJ3: めん羊 | AM3: 山羊 | AP3: 豚 | AS3: 水牛 | AV3: 鹿 | AY3: いのしし | BB3: 牛 | BE3: 馬 | BH3: めん羊 | BK3: 山羊 | BN3: 豚 | BQ3: 水牛 | BT3: 鹿 | BW3: いのしし | BZ3: 牛 | CC3: 馬 | CF3: めん羊 | CI3: 山羊 | CL3: 豚 | CO3: 水牛 | CR3: 鹿 | CU3: いのしし | CX3: 牛 | DA3: 馬 | DD3: 豚 | DG3: 水牛 | DJ3: 鹿 | DM3: いのしし | DP3: 牛 | DS3: めん羊 | DV3: 山羊 | DY3: 水牛 | EB3: 鹿 | EE3: 牛 | EH3: 馬 | EK3: めん羊 | EN3: 山羊 | EQ3: 豚 | ET3: 水牛 | EW3: 鹿 | EZ3: いのしし | FC3: 牛 | FF3: めん羊 | FI3: 山羊 | FL3: 豚 | FO3: 水牛 | FR3: 鹿 | FU3: いのしし | FX3: 牛 | GA3: めん羊 | GD3: 山羊 | GG3: 豚 | GJ3: 水牛 | GM3: 鹿 | GP3: いのしし | GS3: 牛 | GV3: 山羊 | GY3: 水牛 | HB3: 鹿 | HE3: 牛 | HH3: めん羊 | HK3: 山羊 | HN3: 水牛 | HQ3: 鹿 | HT3: 牛 | HW3: 馬 | HZ3: 水牛 | IC3: 鹿 | IF3: 牛 | II3: 水牛 | IL3: 鹿 | IO3: 牛 | IR3: めん羊 | IU3: 山羊 | IX3: 水牛 | JA3: 鹿 | JD3: 馬 | JG3: 馬 | JJ3: 馬 | JM3: めん羊 | JP3: 山羊 | JS3: 鹿 | JV3: 豚 | JY3: いのしし | KB3: 豚 | KE3: いのしし | KH3: 豚 | KK3: いのしし | KN3: 鶏 | KQ3: あひる | KT3: うずら | KW3: 七面鳥 | KZ3: 鶏 | LC3: あひる | LF3: うずら | LI3: きじ | LL3: エミュー | LO3: だちょう | LR3: ほろほろ鳥 | LU3: 七面鳥 | LX3: 鶏 | MA3: あひる | MD3: うずら | MG3: きじ | MJ3: エミュー | MM3: だちょう | MP3: ほろほろ鳥 | MS3: 七面鳥 | MV3: 鶏 | MY3: あひる | NB3: うずら | NE3: 七面鳥 | NH3: 鶏 | NK3: あひる | NN3: うずら | NQ3: 七面鳥 | NT3: 蜜蜂 | NW3: 牛 | NZ3: 水牛
C4: 戸数 | E4: 頭数 | F4: 戸数 | H4: 頭数 | I4: 戸数 | K4: 頭数 | L4: 戸数 | N4: 頭数 | O4: 戸数 | Q4: 頭数 | R4: 戸数 | T4: 頭数 | U4: 戸数 | W4: 頭数 | X4: 戸数 | Z4: 頭数 | AA4: 戸数 | AC4: 頭数 | AD4: 戸数 | AF4: 頭数 | AG4: 戸数 | AI4: 頭数 | AJ4: 戸数 | AL4: 頭数 | AM4: 戸数 | AO4: 頭数 | AP4: 戸数 | AR4: 頭数 | AS4: 戸数 | AU4: 頭数 | AV4: 戸数 | AX4: 頭数 | AY4: 戸数 | BA4: 頭数 | BB4: 戸数 | BD4: 頭数 | BE4: 戸数 | BG4: 頭数 | BH4: 戸数 | BJ4: 頭数 | BK4: 戸数 | BM4: 頭数 | BN4: 戸数 | BP4: 頭数 | BQ4: 戸数 | BS4: 頭数 | BT4: 戸数 | BV4: 頭数 | BW4: 戸数 | BY4: 頭数 | BZ4: 戸数 | CB4: 頭数 | CC4: 戸数 | CE4: 頭数 | CF4: 戸数 | CH4: 頭数 | CI4: 戸数 | CK4: 頭数 | CL4: 戸数 | CN4: 羽数 | CO4: 戸数 | CQ4: 頭数 | CR4: 戸数 | CT4: 頭数 | CU4: 戸数 | CW4: 頭数 | CX4: 戸数 | CZ4: 羽数 | DA4: 戸数 | DC4: 羽数 | DD4: 戸数 | DF4: 羽数 | DG4: 戸数 | DI4: 頭数 | DJ4: 戸数 | DL4: 頭数 | DM4: 戸数 | DO4: 頭数 | DP4: 戸数 | DR4: 羽数 | DS4: 戸数 | DU4: 羽数 | DV4: 戸数 | DX4: 羽数 | DY4: 戸数 | EA4: 羽数 | EB4: 戸数 | ED4: 羽数 | EE4: 戸数 | EG4: 羽数 | EH4: 戸数 | EJ4: 羽数 | EK4: 戸数 | EM4: 羽数 | EN4: 戸数 | EP4: 羽数 | EQ4: 戸数 | ES4: 羽数 | ET4: 戸数 | EV4: 羽数 | EW4: 戸数 | EY4: 羽数 | EZ4: 戸数 | FB4: 羽数 | FC4: 戸数 | FE4: 羽数 | FF4: 戸数 | FH4: 羽数 | FI4: 戸数 | FK4: 羽数 | FL4: 戸数 | FN4: 群数 | FO4: 戸数 | FQ4: 羽数 | FR4: 戸数 | FT4: 羽数 | FU4: 戸数 | FW4: 羽数 | FX4: 戸数 | FZ4: 羽数 | GA4: 戸数 | GC4: 羽数 | GD4: 戸数 | GF4: 羽数 | GG4: 戸数 | GI4: 羽数 | GJ4: 戸数 | GL4: 羽数 | GM4: 戸数 | GO4: 羽数 | GP4: 戸数 | GR4: 羽数 | GS4: 戸数 | GU4: 群数 | GV4: 戸数 | GX4: 頭数 | GY4: 戸数 | HA4: 羽数 | HB4: 戸数 | HD4: 羽数 | HE4: 戸数 | HG4: 頭数 | HH4: 戸数 | HJ4: 頭数 | HK4: 戸数 | HM4: 頭数 | HN4: 戸数 | HP4: 羽数 | HQ4: 戸数 | HS4: 羽数 | HT4: 戸数 | HV4: 頭数 | HW4: 戸数 | HY4: 頭数 | HZ4: 戸数 | IB4: 羽数 | IC4: 戸数 | IE4: 羽数 | IF4: 戸数 | IH4: 頭数 | II4: 戸数 | IK4: 頭数 | IL4: 戸数 | IN4: 頭数 | IO4: 戸数 | IQ4: 頭数 | IR4: 戸数 | IT4: 頭数 | IU4: 戸数 | IW4: 頭数 | IX4: 戸数 | IZ4: 頭数 | JA4: 戸数 | JC4: 頭数 | JD4: 戸数 | JF4: 頭数 | JG4: 戸数 | JI4: 頭数 | JJ4: 戸数 | JL4: 頭数 | JM4: 戸数 | JO4: 頭数 | JP4: 戸数 | JR4: 頭数 | JS4: 戸数 | JU4: 頭数 | JV4: 戸数 | JX4: 頭数 | JY4: 戸数 | KA4: 頭数 | KB4: 戸数 | KD4: 頭数 | KE4: 戸数 | KG4: 頭数 | KH4: 戸数 | KJ4: 頭数 | KK4: 戸数 | KM4: 頭数 | KN4: 戸数 | KP4: 羽数 | KQ4: 戸数 | KS4: 羽数 | KT4: 戸数 | KV4: 羽数 | KW4: 戸数 | KY4: 羽数 | KZ4: 戸数 | LB4: 羽数 | LC4: 戸数 | LE4: 羽数 | LF4: 戸数 | LH4: 羽数 | LI4: 戸数 | LK4: 羽数 | LL4: 戸数 | LN4: 羽数 | LO4: 戸数 | LQ4: 羽数 | LR4: 戸数 | LT4: 羽数 | LU4: 戸数 | LW4: 羽数 | LX4: 戸数 | LZ4: 羽数 | MA4: 戸数 | MC4: 羽数 | MD4: 戸数 | MF4: 羽数 | MG4: 戸数 | MI4: 羽数 | MJ4: 戸数 | ML4: 羽数 | MM4: 戸数 | MO4: 羽数 | MP4: 戸数 | MR4: 羽数 | MS4: 戸数 | MU4: 羽数 | MV4: 戸数 | MX4: 羽数 | MY4: 戸数 | NA4: 羽数 | NB4: 戸数 | ND4: 羽数 | NE4: 戸数 | NG4: 羽数 | NH4: 戸数 | NJ4: 羽数 | NK4: 戸数 | NM4: 羽数 | NN4: 戸数 | NP4: 羽数 | NQ4: 戸数 | NS4: 羽数 | NT4: 戸数 | NV4: 群数 | NW4: 戸数 | NY4: 頭数 | NZ4: 戸数 | OB4: 頭数
A5: 01 | B5: 北海道 | C5: ='[1]9月①'!C5 -> 0 | D5: ='[1]9月①'!D5 -> 0 | E5: ='[1]9月①'!F5 -> 0 | F5: ='[1]9月①'!N5 -> 0 | G5: ='[1]9月①'!O5 -> 0 | H5: ='[1]9月①'!Q5 -> 0 | I5: ='[1]9月①'!Y5 -> 0 | J5: ='[1]9月①'!Z5 -> 0 | K5: ='[1]9月①'!AB5 -> 0 | L5: ='[1]9月①'!AJ5 -> 0 | M5: ='[1]9月①'!AK5 -> 0 | N5: ='[1]9月①'!AM5 -> 0 | O5: ='[1]9月①'!AU5 -> 0 | P5: ='[1]9月①'!AV5 -> 0 | Q5: ='[1]9月①'!AX5 -> 0 | R5: ='[1]9月①'!BF5 -> 0 | S5: ='[1]9月①'!BG5 -> 0 | T5: ='[1]9月①'!BI5 -> 0 | U5: ='[1]9月①'!BQ5 -> 0 | V5: ='[1]9月①'!BR5 -> 0 | W5: ='[1]9月①'!BT5 -> 0 | X5: ='[1]9月①'!CB5 -> 0 | Y5: ='[1]9月①'!CC5 -> 0 | Z5: ='[1]9月①'!CE5 -> 0 | AA5: ='[1]9月①'!CM5 -> 0 | AB5: ='[1]9月①'!CN5 -> 0 | AC5: ='[1]9月①'!CP5 -> 0 | AD5: ='[1]9月①'!CX5 -> 0 | AE5: ='[1]9月①'!CY5 -> 0 | AF5: ='[1]9月①'!DA5 -> 0 | AG5: ='[1]9月①'!DI5 -> 0 | AH5: ='[1]9月①'!DJ5 -> 0 | AI5: ='[1]9月①'!DL5 -> 0 | AJ5: ='[1]9月①'!DT5 -> 0 | AK5: ='[1]9月①'!DU5 -> 0 | AL5: ='[1]9月①'!DW5 -> 0 | AM5: ='[1]9月①'!EE5 -> 0 | AN5: ='[1]9月①'!EF5 -> 0 | AO5: ='[1]9月①'!EH5 -> 0 | AP5: ='[1]9月①'!EP5 -> 0 | AQ5: ='[1]9月①'!EQ5 -> 0 | AR5: ='[1]9月①'!ES5 -> 0 | AS5: ='[1]9月①'!FA5 -> 0 | AT5: ='[1]9月①'!FB5 -> 0 | AU5: ='[1]9月①'!FD5 -> 0 | AV5: ='[1]9月①'!FL5 -> 0 | AW5: ='[1]9月①'!FM5 -> 0 | AX5: ='[1]9月①'!FO5 -> 0 | AY5: ='[1]9月①'!FW5 -> 0 | AZ5: ='[1]9月①'!FX5 -> 0 | BA5: ='[1]9月①'!FZ5 -> 0 | BB5: ='[1]9月①'!GH5 -> 0 | BC5: ='[1]9月①'!GI5 -> 0 | BD5: ='[1]9月①'!GK5 -> 0 | BE5: ='[1]9月①'!GS5 -> 0 | BF5: ='[1]9月①'!GT5 -> 0 | BG5: ='[1]9月①'!GV5 -> 0 | BH5: ='[1]9月①'!HD5 -> 0 | BI5: ='[1]9月①'!HE5 -> 0 | BJ5: ='[1]9月①'!HG5 -> 0 | BK5: ='[1]9月①'!HO5 -> 0 | BL5: ='[1]9月①'!HP5 -> 0 | BM5: ='[1]9月①'!HR5 -> 0 | BN5: ='[1]9月①'!HZ5 -> 0 | BO5: ='[1]9月①'!IA5 -> 0 | BP5: ='[1]9月①'!IC5 -> 0 | BQ5: ='[1]9月①'!IK5 -> 0 | BR5: ='[1]9月①'!IL5 -> 0 | BS5: ='[1]9月①'!IN5 -> 0 | BT5: ='[1]9月①'!IV5 -> 0 | BU5: ='[1]9月①'!IW5 -> 0 | BV5: ='[1]9月①'!IY5 -> 0 | BW5: ='[1]9月①'!JH5 -> 0 | BX5: ='[1]9月①'!JG5 -> 0 | BY5: ='[1]9月①'!JJ5 -> 0 | BZ5: ='[1]9月①'!JR5 -> 0 | CA5: ='[1]9月①'!JS5 -> 0 | CB5: ='[1]9月①'!JU5 -> 0 | CC5: ='[1]9月①'!KC5 -> 0 | CD5: ='[1]9月①'!KD5 -> 0 | CE5: ='[1]9月①'!KF5 -> 0 | CF5: ='[1]9月①'!KN5 -> 0 | CG5: ='[1]9月①'!KO5 -> 0 | CH5: ='[1]9月①'!KQ5 -> 0 | CI5: ='[1]9月①'!KY5 -> 0 | CJ5: ='[1]9月①'!KZ5 -> 0 | CK5: ='[1]9月①'!LB5 -> 0 | CL5: ='[1]9月①'!LJ5 -> 0 | CM5: ='[1]9月①'!LK5 -> 0 | CN5: ='[1]9月①'!LM5 -> 0 | CO5: ='[1]9月①'!LU5 -> 0 | CP5: ='[1]9月①'!LV5 -> 0 | CQ5: ='[1]9月①'!LX5 -> 0 | CR5: ='[1]9月①'!MF5 -> 0 | CS5: ='[1]9月①'!MG5 -> 0 | CT5: ='[1]9月①'!MI5 -> 0 | CU5: ='[1]9月①'!MQ5 -> 0 | CV5: ='[1]9月①'!MR5 -> 0 | CW5: ='[1]9月①'!MT5 -> 0 | CX5: ='[1]9月①'!NB5 -> 0 | CY5: ='[1]9月①'!NC5 -> 0 | CZ5: ='[1]9月①'!NE5 -> 0 | DA5: ='[1]9月①'!NM5 -> 0 | DB5: ='[1]9月①'!NN5 -> 0 | DC5: ='[1]9月①'!NP5 -> 0 | DD5: ='[1]9月①'!NX5 -> 0 | DE5: ='[1]9月①'!NY5 -> 0 | DF5: ='[1]9月①'!OA5 -> 0 | DG5: ='[1]9月①'!OI5 -> 0 | DH5: ='[1]9月①'!OJ5 -> 0 | DI5: ='[1]9月①'!OL5 -> 0 | DJ5: ='[1]9月①'!OT5 -> 0 | DK5: ='[1]9月①'!OU5 -> 0 | DL5: ='[1]9月①'!OW5 -> 0 | DM5: ='[1]9月①'!PE5 -> 0 | DN5: ='[1]9月①'!PF5 -> 0 | DO5: ='[1]9月①'!PH5 -> 0 | DP5: ='[1]9月②'!C5 -> 0 | DQ5: ='[1]9月②'!D5 -> 0 | DR5: ='[1]9月②'!F5 -> 0 | DS5: ='[1]9月②'!N5 -> 0 | DT5: ='[1]9月②'!O5 -> 0 | DU5: ='[1]9月②'!Q5 -> 0 | DV5: ='[1]9月②'!Y5 -> 0 | DW5: ='[1]9月②'!Z5 -> 0 | DX5: ='[1]9月②'!AB5 -> 0 | DY5: ='[1]9月②'!AJ5 -> 0 | DZ5: ='[1]9月②'!AK5 -> 0 | EA5: ='[1]9月②'!AM5 -> 0 | EB5: ='[1]9月②'!AU5 -> 0 | EC5: ='[1]9月②'!AV5 -> 0 | ED5: ='[1]9月②'!AX5 -> 0 | EE5: ='[1]9月②'!BF5 -> 0 | EF5: ='[1]9月②'!BG5 -> 0 | EG5: ='[1]9月②'!BI5 -> 0 | EH5: ='[1]9月②'!BQ5 -> 0 | EI5: ='[1]9月②'!BR5 -> 0 | EJ5: ='[1]9月②'!BT5 -> 0 | EK5: ='[1]9月②'!CB5 -> 0 | EL5: ='[1]9月②'!CC5 -> 0 | EM5: ='[1]9月②'!CE5 -> 0 | EN5: ='[1]9月②'!CM5 -> 0 | EO5: ='[1]9月②'!CN5 -> 0 | EP5: ='[1]9月②'!CP5 -> 0 | EQ5: ='[1]9月②'!CX5 -> 0 | ER5: ='[1]9月②'!CY5 -> 0 | ES5: ='[1]9月②'!DA5 -> 0 | ET5: ='[1]9月②'!DI5 -> 0 | EU5: ='[1]9月②'!DJ5 -> 0 | EV5: ='[1]9月②'!DL5 -> 0 | EW5: ='[1]9月②'!DT5 -> 0 | EX5: ='[1]9月②'!DU5 -> 0 | EY5: ='[1]9月②'!DW5 -> 0 | EZ5: ='[1]9月②'!EE5 -> 0 | FA5: ='[1]9月②'!EF5 -> 0 | FB5: ='[1]9月②'!EH5 -> 0 | FC5: ='[1]9月②'!EP5 -> 0 | FD5: ='[1]9月②'!EQ5 -> 0 | FE5: ='[1]9月②'!ES5 -> 0 | FF5: ='[1]9月②'!FA5 -> 0 | FG5: ='[1]9月②'!FB5 -> 0 | FH5: ='[1]9月②'!FD5 -> 0 | FI5: ='[1]9月②'!FL5 -> 0 | FJ5: ='[1]9月②'!FM5 -> 0 | FK5: ='[1]9月②'!FO5 -> 0 | FL5: ='[1]9月②'!FW5 -> 0 | FM5: ='[1]9月②'!FX5 -> 0 | FN5: ='[1]9月②'!FZ5 -> 0 | FO5: ='[1]9月②'!GH5 -> 0 | FP5: ='[1]9月②'!GI5 -> 0 | FQ5: ='[1]9月②'!GK5 -> 0 | FR5: ='[1]9月②'!GS5 -> 0 | FS5: ='[1]9月②'!GT5 -> 0 | FT5: ='[1]9月②'!GV5 -> 0 | FU5: ='[1]9月②'!HD5 -> 0 | FV5: ='[1]9月②'!HE5 -> 0 | FW5: ='[1]9月②'!HG5 -> 0 | FX5: ='[1]9月②'!HO5 -> 0 | FY5: ='[1]9月②'!HP5 -> 0 | FZ5: ='[1]9月②'!HR5 -> 0 | GA5: ='[1]9月②'!HZ5 -> 0 | GB5: ='[1]9月②'!IA5 -> 0 | GC5: ='[1]9月②'!IC5 -> 0 | GD5: ='[1]9月②'!IK5 -> 0 | GE5: ='[1]9月②'!IL5 -> 0 | GF5: ='[1]9月②'!IN5 -> 0 | GG5: ='[1]9月②'!IV5 -> 0 | GH5: ='[1]9月②'!IW5 -> 0 | GI5: ='[1]9月②'!IY5 -> 0 | GJ5: ='[1]9月②'!JG5 -> 0 | GK5: ='[1]9月②'!JH5 -> 0 | GL5: ='[1]9月②'!JJ5 -> 0 | GM5: ='[1]9月②'!JR5 -> 0 | GN5: ='[1]9月②'!JS5 -> 0 | GO5: ='[1]9月②'!JV5 -> 0 | GP5: ='[1]9月②'!KC5 -> 0 | GQ5: ='[1]9月②'!KD5 -> 0 | GR5: ='[1]9月②'!KF5 -> 0 | GS5: ='[1]9月②'!KN5 -> 0 | GT5: ='[1]9月②'!KO5 -> 0 | GU5: ='[1]9月②'!KQ5 -> 0 | GV5: ='[1]9月②'!KY5 -> 0 | GW5: ='[1]9月②'!KZ5 -> 0 | GX5: ='[1]9月②'!LB5 -> 0 | GY5: ='[1]9月②'!LI5 -> 0 | GZ5: ='[1]9月②'!LK5 -> 0 | HA5: ='[1]9月②'!LM5 -> 0 | HB5: ='[1]9月②'!LU5 -> 0 | HC5: ='[1]9月②'!LV5 -> 0 | HD5: ='[1]9月②'!LX5 -> 0 | HE5: ='[1]9月②'!MF5 -> 4 | HF5: ='[1]9月②'!MG5 -> 35 | HG5: ='[1]9月②'!MI5 -> 87 | HH5: ='[1]9月②'!MQ5 -> 0 | HI5: ='[1]9月②'!MR5 -> 0 | HJ5: ='[1]9月②'!MT5 -> 0 | HK5: ='[1]9月②'!NB5 -> 0 | HL5: ='[1]9月②'!NC5 -> 0 | HM5: ='[1]9月②'!NE5 -> 0 | HN5: ='[1]9月②'!NM5 -> 0 | HO5: ='[1]9月②'!NN5 -> 0 | HP5: ='[1]9月②'!NP5 -> 0 | HQ5: ='[1]9月②'!NX5 -> 0 | HR5: ='[1]9月②'!NY5 -> 0 | HS5: ='[1]9月②'!OA5 -> 0 | HT5: ='[1]9月②'!OI5 -> 0 | HU5: ='[1]9月②'!OJ5 -> 0 | HV5: ='[1]9月②'!OL5 -> 0 | HW5: ='[1]9月②'!OT5 -> 0 | HX5: ='[1]9月②'!OU5 -> 0 | HY5: ='[1]9月②'!OW5 -> 0 | HZ5: ='[1]9月②'!PE5 -> 0 | IA5: ='[1]9月②'!PF5 -> 0 | IB5: ='[1]9月②'!PH5 -> 0 | IC5: ='[1]9月②'!PP5 -> 0 | ID5: ='[1]9月②'!PQ5 -> 0 | IE5: ='[1]9月②'!PS5 -> 0 | IF5: ='[1]9月③'!C5 -> 0 | IG5: ='[1]9月③'!D5 -> 0 | IH5: ='[1]9月③'!F5 -> 0 | II5: ='[1]9月③'!N5 -> 0 | IJ5: ='[1]9月③'!O5 -> 0 | IK5: ='[1]9月③'!Q5 -> 0 | IL5: ='[1]9月③'!Y5 -> 0 | IM5: ='[1]9月③'!Z5 -> 0 | IN5: ='[1]9月③'!AB5 -> 0 | IO5: ='[1]9月③'!AJ5 -> 0 | IP5: ='[1]9月③'!AK5 -> 0 | IQ5: ='[1]9月③'!AM5 -> 0 | IR5: ='[1]9月③'!AU5 -> 0 | IS5: ='[1]9月③'!AV5 -> 0 | IT5: ='[1]9月③'!AX5 -> 0 | IU5: ='[1]9月③'!BF5 -> 0 | IV5: ='[1]9月③'!BG5 -> 0 | IW5: ='[1]9月③'!BI5 -> 0 | IX5: ='[1]9月③'!BQ5 -> 0 | IY5: ='[1]9月③'!BR5 -> 0 | IZ5: ='[1]9月③'!BT5 -> 0 | JA5: ='[1]9月③'!CB5 -> 0 | JB5: ='[1]9月③'!CC5 -> 0 | JC5: ='[1]9月③'!CE5 -> 0 | JD5: ='[1]9月③'!CM5 -> 0 | JE5: ='[1]9月③'!CN5 -> 0 | JF5: ='[1]9月③'!CP5 -> 0 | JG5: ='[1]9月③'!CX5 -> 0 | JH5: ='[1]9月③'!CY5 -> 0 | JI5: ='[1]9月③'!DA5 -> 0 | JJ5: ='[1]9月③'!DI5 -> 0 | JK5: ='[1]9月③'!DJ5 -> 0 | JL5: ='[1]9月③'!DL5 -> 0 | JM5: ='[1]9月③'!DT5 -> 0 | JN5: ='[1]9月③'!DU5 -> 0 | JO5: ='[1]9月③'!DW5 -> 0 | JP5: ='[1]9月③'!EE5 -> 0 | JQ5: ='[1]9月③'!EF5 -> 0 | JR5: ='[1]9月③'!EH5 -> 0 | JS5: ='[1]9月③'!ER5 -> 0 | JT5: ='[1]9月③'!EQ5 -> 0 | JU5: ='[1]9月③'!ES5 -> 0 | JV5: ='[1]9月③'!FA5 -> 0 | JW5: ='[1]9月③'!FB5 -> 0 | JX5: ='[1]9月③'!FD5 -> 0 | JY5: ='[1]9月③'!FL5 -> 0 | JZ5: ='[1]9月③'!FM5 -> 0 | KA5: ='[1]9月③'!FO5 -> 0 | KB5: ='[1]9月③'!FW5 -> 0 | KC5: ='[1]9月③'!FX5 -> 0 | KD5: ='[1]9月③'!FZ5 -> 0 | KE5: ='[1]9月③'!GH5 -> 0 | KF5: ='[1]9月③'!GI5 -> 0 | KG5: ='[1]9月③'!GK5 -> 0 | KH5: ='[1]9月③'!GS5 -> 0 | KI5: ='[1]9月③'!GT5 -> 0 | KJ5: ='[1]9月③'!GV5 -> 0 | KK5: ='[1]9月③'!HD5 -> 0 | KL5: ='[1]9月③'!HE5 -> 0 | KM5: ='[1]9月③'!HG5 -> 0 | KN5: ='[1]9月③'!HO5 -> 0 | KO5: ='[1]9月③'!HP5 -> 0 | KP5: ='[1]9月③'!HR5 -> 0 | KQ5: ='[1]9月③'!HZ5 -> 0 | KR5: ='[1]9月③'!IA5 -> 0 | KS5: ='[1]9月③'!IC5 -> 0 | KT5: ='[1]9月③'!IK5 -> 0 | KU5: ='[1]9月③'!IL5 -> 0 | KV5: ='[1]9月③'!IN5 -> 0 | KW5: ='[1]9月③'!IV5 -> 0 | KX5: ='[1]9月③'!IW5 -> 0 | KY5: ='[1]9月③'!IY5 -> 0 | KZ5: ='[1]9月③'!JG5 -> 0 | LA5: ='[1]9月③'!JH5 -> 0 | LB5: ='[1]9月③'!JJ5 -> 0 | LC5: ='[1]9月③'!JR5 -> 0 | LD5: ='[1]9月③'!JS5 -> 0 | LE5: ='[1]9月③'!JU5 -> 0 | LF5: ='[1]9月③'!KC5 -> 0 | LG5: ='[1]9月③'!KD5 -> 0 | LH5: ='[1]9月③'!KF5 -> 0 | LI5: ='[1]9月③'!KN5 -> 0 | LJ5: ='[1]9月③'!KO5 -> 0 | LK5: ='[1]9月③'!KQ5 -> 0 | LL5: ='[1]9月③'!KY5 -> 0 | LM5: ='[1]9月③'!KZ5 -> 0 | LN5: ='[1]9月③'!LB5 -> 0 | LO5: ='[1]9月③'!LJ5 -> 0 | LP5: ='[1]9月③'!LK5 -> 0 | LQ5: ='[1]9月③'!LM5 -> 0 | LR5: ='[1]9月③'!LU5 -> 0 | LS5: ='[1]9月③'!LV5 -> 0 | LT5: ='[1]9月③'!LX5 -> 0 | LU5: ='[1]9月③'!MF5 -> 0 | LV5: ='[1]9月③'!MG5 -> 0 | LW5: ='[1]9月③'!MI5 -> 0 | LX5: ='[1]9月③'!MQ5 -> 0 | LY5: ='[1]9月③'!MR5 -> 0 | LZ5: ='[1]9月③'!MT5 -> 0 | MA5: ='[1]9月③'!NB5 -> 0 | MB5: ='[1]9月③'!NC5 -> 0 | MC5: ='[1]9月③'!NE5 -> 0 | MD5: ='[1]9月③'!NM5 -> 0 | ME5: ='[1]9月③'!NN5 -> 0 | MF5: ='[1]9月③'!NP5 -> 0 | MG5: ='[1]9月③'!NX5 -> 0 | MH5: ='[1]9月③'!NY5 -> 0 | MI5: ='[1]9月③'!OA5 -> 0 | MJ5: ='[1]9月③'!OI5 -> 0 | MK5: ='[1]9月③'!OT5 -> 0 | ML5: ='[1]9月③'!OL5 -> 0 | MM5: ='[1]9月③'!LT5 -> 0 | MN5: ='[1]9月③'!LU5 -> 0 | MO5: ='[1]9月③'!LW5 -> 0 | MP5: ='[1]9月③'!PE5 -> 0 | MQ5: ='[1]9月③'!PF5 -> 0 | MR5: ='[1]9月③'!PH5 -> 0 | MS5: ='[1]9月③'!PP5 -> 0 | MT5: ='[1]9月③'!PQ5 -> 0 | MU5: ='[1]9月③'!PS5 -> 0 | MV5: ='[1]9月③'!QA5 -> 0 | MW5: ='[1]9月③'!QB5 -> 0 | MX5: ='[1]9月③'!QD5 -> 0 | MY5: ='[1]9月③'!QL5 -> 0 | MZ5: ='[1]9月③'!QM5 -> 0 | NA5: ='[1]9月③'!QO5 -> 0 | NB5: ='[1]9月③'!QW5 -> 0 | NC5: ='[1]9月③'!QX5 -> 0 | ND5: ='[1]9月③'!QZ5 -> 0 | NE5: ='[1]9月③'!RH5 -> 0 | NF5: ='[1]9月③'!RI5 -> 0 | NG5: ='[1]9月③'!RK5 -> 0 | NH5: ='[1]9月③'!RS5 -> 0 | NI5: ='[1]9月③'!RT5 -> 0 | NJ5: ='[1]9月③'!RV5 -> 0 | NK5: ='[1]9月③'!SD5 -> 0 | NL5: ='[1]9月③'!SE5 -> 0 | NM5: ='[1]9月③'!SG5 -> 0 | NN5: ='[1]9月③'!SO5 -> 0 | NO5: ='[1]9月③'!SP5 -> 0 | NP5: ='[1]9月③'!SR5 -> 0 | NQ5: ='[1]9月③'!SZ5 -> 0 | NR5: ='[1]9月③'!TA5 -> 0 | NS5: ='[1]9月③'!TC5 -> 0 | NT5: ='[1]9月③'!TK5 -> 0 | NU5: ='[1]9月③'!TL5 -> 0 | NV5: ='[1]9月③'!TN5 -> 0 | NW5: ='[1]9月③'!TV5 -> 0 | NX5: ='[1]9月③'!TW5 -> 0 | NY5: ='[1]9月③'!TY5 -> 0 | NZ5: ='[1]9月③'!UG5 -> 0 | OA5: ='[1]9月③'!UH5 -> 0 | OB5: ='[1]9月③'!UJ5 -> 0
A6: 02 | B6: 青 森 | C6: ='[1]9月①'!C6 -> 0 | D6: ='[1]9月①'!D6 -> 0 | E6: ='[1]9月①'!F6 -> 0 | F6: ='[1]9月①'!N6 -> 0 | G6: ='[1]9月①'!O6 -> 0 | H6: ='[1]9月①'!Q6 -> 0 | I6: ='[1]9月①'!Y6 -> 0 | J6: ='[1]9月①'!Z6 -> 0 | K6: ='[1]9月①'!AB6 -> 0 | L6: ='[1]9月①'!AJ6 -> 0 | M6: ='[1]9月①'!AK6 -> 0 | N6: ='[1]9月①'!AM6 -> 0 | O6: ='[1]9月①'!AU6 -> 0 | P6: ='[1]9月①'!AV6 -> 0 | Q6: ='[1]9月①'!AX6 -> 0 | R6: ='[1]9月①'!BF6 -> 0 | S6: ='[1]9月①'!BG6 -> 0 | T6: ='[1]9月①'!BI6 -> 0 | U6: ='[1]9月①'!BQ6 -> 0 | V6: ='[1]9月①'!BR6 -> 0 | W6: ='[1]9月①'!BT6 -> 0 | X6: ='[1]9月①'!CB6 -> 0 | Y6: ='[1]9月①'!CC6 -> 0 | Z6: ='[1]9月①'!CE6 -> 0 | AA6: ='[1]9月①'!CM6 -> 0 | AB6: ='[1]9月①'!CN6 -> 0 | AC6: ='[1]9月①'!CP6 -> 0 | AD6: ='[1]9月①'!CX6 -> 0 | AE6: ='[1]9月①'!CY6 -> 0 | AF6: ='[1]9月①'!DA6 -> 0 | AG6: ='[1]9月①'!DI6 -> 0 | AH6: ='[1]9月①'!DJ6 -> 0 | AI6: ='[1]9月①'!DL6 -> 0 | AJ6: ='[1]9月①'!DT6 -> 0 | AK6: ='[1]9月①'!DU6 -> 0 | AL6: ='[1]9月①'!DW6 -> 0 | AM6: ='[1]9月①'!EE6 -> 0 | AN6: ='[1]9月①'!EF6 -> 0 | AO6: ='[1]9月①'!EH6 -> 0 | AP6: ='[1]9月①'!EP6 -> 0 | AQ6: ='[1]9月①'!EQ6 -> 0 | AR6: ='[1]9月①'!ES6 -> 0 | AS6: ='[1]9月①'!FA6 -> 0 | AT6: ='[1]9月①'!FB6 -> 0 | AU6: ='[1]9月①'!FD6 -> 0 | AV6: ='[1]9月①'!FL6 -> 0 | AW6: ='[1]9月①'!FM6 -> 0 | AX6: ='[1]9月①'!FO6 -> 0 | AY6: ='[1]9月①'!FW6 -> 0 | AZ6: ='[1]9月①'!FX6 -> 0 | BA6: ='[1]9月①'!FZ6 -> 0 | BB6: ='[1]9月①'!GH6 -> 0 | BC6: ='[1]9月①'!GI6 -> 0 | BD6: ='[1]9月①'!GK6 -> 0 | BE6: ='[1]9月①'!GS6 -> 0 | BF6: ='[1]9月①'!GT6 -> 0 | BG6: ='[1]9月①'!GV6 -> 0 | BH6: ='[1]9月①'!HD6 -> 0 | BI6: ='[1]9月①'!HE6 -> 0 | BJ6: ='[1]9月①'!HG6 -> 0 | BK6: ='[1]9月①'!HO6 -> 0 | BL6: ='[1]9月①'!HP6 -> 0 | BM6: ='[1]9月①'!HR6 -> 0 | BN6: ='[1]9月①'!HZ6 -> 0 | BO6: ='[1]9月①'!IA6 -> 0 | BP6: ='[1]9月①'!IC6 -> 0 | BQ6: ='[1]9月①'!IK6 -> 0 | BR6: ='[1]9月①'!IL6 -> 0 | BS6: ='[1]9月①'!IN6 -> 0 | BT6: ='[1]9月①'!IV6 -> 0 | BU6: ='[1]9月①'!IW6 -> 0 | BV6: ='[1]9月①'!IY6 -> 0 | BW6: ='[1]9月①'!JH6 -> 0 | BX6: ='[1]9月①'!JG6 -> 0 | BY6: ='[1]9月①'!JJ6 -> 0 | BZ6: ='[1]9月①'!JR6 -> 0 | CA6: ='[1]9月①'!JS6 -> 0 | CB6: ='[1]9月①'!JU6 -> 0 | CC6: ='[1]9月①'!KC6 -> 0 | CD6: ='[1]9月①'!KD6 -> 0 | CE6: ='[1]9月①'!KF6 -> 0 | CF6: ='[1]9月①'!KN6 -> 0 | CG6: ='[1]9月①'!KO6 -> 0 | CH6: ='[1]9月①'!KQ6 -> 0 | CI6: ='[1]9月①'!KY6 -> 0 | CJ6: ='[1]9月①'!KZ6 -> 0 | CK6: ='[1]9月①'!LB6 -> 0 | CL6: ='[1]9月①'!LJ6 -> 0 | CM6: ='[1]9月①'!LK6 -> 0 | CN6: ='[1]9月①'!LM6 -> 0 | CO6: ='[1]9月①'!LU6 -> 0 | CP6: ='[1]9月①'!LV6 -> 0 | CQ6: ='[1]9月①'!LX6 -> 0 | CR6: ='[1]9月①'!MF6 -> 0 | CS6: ='[1]9月①'!MG6 -> 0 | CT6: ='[1]9月①'!MI6 -> 0 | CU6: ='[1]9月①'!MQ6 -> 0 | CV6: ='[1]9月①'!MR6 -> 0 | CW6: ='[1]9月①'!MT6 -> 0 | CX6: ='[1]9月①'!NB6 -> 0 | CY6: ='[1]9月①'!NC6 -> 0 | CZ6: ='[1]9月①'!NE6 -> 0 | DA6: ='[1]9月①'!NM6 -> 0 | DB6: ='[1]9月①'!NN6 -> 0 | DC6: ='[1]9月①'!NP6 -> 0 | DD6: ='[1]9月①'!NX6 -> 0 | DE6: ='[1]9月①'!NY6 -> 0 | DF6: ='[1]9月①'!OA6 -> 0 | DG6: ='[1]9月①'!OI6 -> 0 | DH6: ='[1]9月①'!OJ6 -> 0 | DI6: ='[1]9月①'!OL6 -> 0 | DJ6: ='[1]9月①'!OT6 -> 0 | DK6: ='[1]9月①'!OU6 -> 0 | DL6: ='[1]9月①'!OW6 -> 0 | DM6: ='[1]9月①'!PE6 -> 0 | DN6: ='[1]9月①'!PF6 -> 0 | DO6: ='[1]9月①'!PH6 -> 0 | DP6: ='[1]9月②'!C6 -> 0 | DQ6: ='[1]9月②'!D6 -> 0 | DR6: ='[1]9月②'!F6 -> 0 | DS6: ='[1]9月②'!N6 -> 0 | DT6: ='[1]9月②'!O6 -> 0 | DU6: ='[1]9月②'!Q6 -> 0 | DV6: ='[1]9月②'!Y6 -> 0 | DW6: ='[1]9月②'!Z6 -> 0 | DX6: ='[1]9月②'!AB6 -> 0 | DY6: ='[1]9月②'!AJ6 -> 0 | DZ6: ='[1]9月②'!AK6 -> 0 | EA6: ='[1]9月②'!AM6 -> 0 | EB6: ='[1]9月②'!AU6 -> 0 | EC6: ='[1]9月②'!AV6 -> 0 | ED6: ='[1]9月②'!AX6 -> 0 | EE6: ='[1]9月②'!BF6 -> 0 | EF6: ='[1]9月②'!BG6 -> 0 | EG6: ='[1]9月②'!BI6 -> 0 | EH6: ='[1]9月②'!BQ6 -> 0 | EI6: ='[1]9月②'!BR6 -> 0 | EJ6: ='[1]9月②'!BT6 -> 0 | EK6: ='[1]9月②'!CB6 -> 0 | EL6: ='[1]9月②'!CC6 -> 0 | EM6: ='[1]9月②'!CE6 -> 0 | EN6: ='[1]9月②'!CM6 -> 0 | EO6: ='[1]9月②'!CN6 -> 0 | EP6: ='[1]9月②'!CP6 -> 0 | EQ6: ='[1]9月②'!CX6 -> 0 | ER6: ='[1]9月②'!CY6 -> 0 | ES6: ='[1]9月②'!DA6 -> 0 | ET6: ='[1]9月②'!DI6 -> 0 | EU6: ='[1]9月②'!DJ6 -> 0 | EV6: ='[1]9月②'!DL6 -> 0 | EW6: ='[1]9月②'!DT6 -> 0 | EX6: ='[1]9月②'!DU6 -> 0 | EY6: ='[1]9月②'!DW6 -> 0 | EZ6: ='[1]9月②'!EE6 -> 0 | FA6: ='[1]9月②'!EF6 -> 0 | FB6: ='[1]9月②'!EH6 -> 0 | FC6: ='[1]9月②'!EP6 -> 0 | FD6: ='[1]9月②'!EQ6 -> 0 | FE6: ='[1]9月②'!ES6 -> 0 | FF6: ='[1]9月②'!FA6 -> 0 | FG6: ='[1]9月②'!FB6 -> 0 | FH6: ='[1]9月②'!FD6 -> 0 | FI6: ='[1]9月②'!FL6 -> 0 | FJ6: ='[1]9月②'!FM6 -> 0 | FK6: ='[1]9月②'!FO6 -> 0 | FL6: ='[1]9月②'!FW6 -> 0 | FM6: ='[1]9月②'!FX6 -> 0 | FN6: ='[1]9月②'!FZ6 -> 0 | FO6: ='[1]9月②'!GH6 -> 0 | FP6: ='[1]9月②'!GI6 -> 0 | FQ6: ='[1]9月②'!GK6 -> 0 | FR6: ='[1]9月②'!GS6 -> 0 | FS6: ='[1]9月②'!GT6 -> 0 | FT6: ='[1]9月②'!GV6 -> 0 | FU6: ='[1]9月②'!HD6 -> 0 | FV6: ='[1]9月②'!HE6 -> 0 | FW6: ='[1]9月②'!HG6 -> 0 | FX6: ='[1]9月②'!HO6 -> 0 | FY6: ='[1]9月②'!HP6 -> 0 | FZ6: ='[1]9月②'!HR6 -> 0 | GA6: ='[1]9月②'!HZ6 -> 0 | GB6: ='[1]9月②'!IA6 -> 0 | GC6: ='[1]9月②'!IC6 -> 0 | GD6: ='[1]9月②'!IK6 -> 0 | GE6: ='[1]9月②'!IL6 -> 0 | GF6: ='[1]9月②'!IN6 -> 0 | GG6: ='[1]9月②'!IV6 -> 0 | GH6: ='[1]9月②'!IW6 -> 0 | GI6: ='[1]9月②'!IY6 -> 0 | GJ6: ='[1]9月②'!JG6 -> 0 | GK6: ='[1]9月②'!JH6 -> 0 | GL6: ='[1]9月②'!JJ6 -> 0 | GM6: ='[1]9月②'!JR6 -> 0 | GN6: ='[1]9月②'!JS6 -> 0 | GO6: ='[1]9月②'!JV6 -> 0 | GP6: ='[1]9月②'!KC6 -> 0 | GQ6: ='[1]9月②'!KD6 -> 0 | GR6: ='[1]9月②'!KF6 -> 0 | GS6: ='[1]9月②'!KN6 -> 0 | GT6: ='[1]9月②'!KO6 -> 0 | GU6: ='[1]9月②'!KQ6 -> 0 | GV6: ='[1]9月②'!KY6 -> 0 | GW6: ='[1]9月②'!KZ6 -> 0 | GX6: ='[1]9月②'!LB6 -> 0 | GY6: ='[1]9月②'!LI6 -> 0 | GZ6: ='[1]9月②'!LK6 -> 0 | HA6: ='[1]9月②'!LM6 -> 0 | HB6: ='[1]9月②'!LU6 -> 0 | HC6: ='[1]9月②'!LV6 -> 0 | HD6: ='[1]9月②'!LX6 -> 0 | HE6: ='[1]9月②'!MF6 -> 0 | HF6: ='[1]9月②'!MG6 -> 0 | HG6: ='[1]9月②'!MI6 -> 0 | HH6: ='[1]9月②'!MQ6 -> 0 | HI6: ='[1]9月②'!MR6 -> 0 | HJ6: ='[1]9月②'!MT6 -> 0 | HK6: ='[1]9月②'!NB6 -> 0 | HL6: ='[1]9月②'!NC6 -> 0 | HM6: ='[1]9月②'!NE6 -> 0 | HN6: ='[1]9月②'!NM6 -> 0 | HO6: ='[1]9月②'!NN6 -> 0 | HP6: ='[1]9月②'!NP6 -> 0 | HQ6: ='[1]9月②'!NX6 -> 0 | HR6: ='[1]9月②'!NY6 -> 0 | HS6: ='[1]9月②'!OA6 -> 0 | HT6: ='[1]9月②'!OI6 -> 0 | HU6: ='[1]9月②'!OJ6 -> 0 | HV6: ='[1]9月②'!OL6 -> 0 | HW6: ='[1]9月②'!OT6 -> 0 | HX6: ='[1]9月②'!OU6 -> 0 | HY6: ='[1]9月②'!OW6 -> 0 | HZ6: ='[1]9月②'!PE6 -> 0 | IA6: ='[1]9月②'!PF6 -> 0 | IB6: ='[1]9月②'!PH6 -> 0 | IC6: ='[1]9月②'!PP6 -> 0 | ID6: ='[1]9月②'!PQ6 -> 0 | IE6: ='[1]9月②'!PS6 -> 0 | IF6: ='[1]9月③'!C6 -> 0 | IG6: ='[1]9月③'!D6 -> 0 | IH6: ='[1]9月③'!F6 -> 0 | II6: ='[1]9月③'!N6 -> 0 | IJ6: ='[1]9月③'!O6 -> 0 | IK6: ='[1]9月③'!Q6 -> 0 | IL6: ='[1]9月③'!Y6 -> 0 | IM6: ='[1]9月③'!Z6 -> 0 | IN6: ='[1]9月③'!AB6 -> 0 | IO6: ='[1]9月③'!AJ6 -> 0 | IP6: ='[1]9月③'!AK6 -> 0 | IQ6: ='[1]9月③'!AM6 -> 0 | IR6: ='[1]9月③'!AU6 -> 0 | IS6: ='[1]9月③'!AV6 -> 0 | IT6: ='[1]9月③'!AX6 -> 0 | IU6: ='[1]9月③'!BF6 -> 0 | IV6: ='[1]9月③'!BG6 -> 0 | IW6: ='[1]9月③'!BI6 -> 0 | IX6: ='[1]9月③'!BQ6 -> 0 | IY6: ='[1]9月③'!BR6 -> 0 | IZ6: ='[1]9月③'!BT6 -> 0 | JA6: ='[1]9月③'!CB6 -> 0 | JB6: ='[1]9月③'!CC6 -> 0 | JC6: ='[1]9月③'!CE6 -> 0 | JD6: ='[1]9月③'!CM6 -> 0 | JE6: ='[1]9月③'!CN6 -> 0 | JF6: ='[1]9月③'!CP6 -> 0 | JG6: ='[1]9月③'!CX6 -> 0 | JH6: ='[1]9月③'!CY6 -> 0 | JI6: ='[1]9月③'!DA6 -> 0 | JJ6: ='[1]9月③'!DI6 -> 0 | JK6: ='[1]9月③'!DJ6 -> 0 | JL6: ='[1]9月③'!DL6 -> 0 | JM6: ='[1]9月③'!DT6 -> 0 | JN6: ='[1]9月③'!DU6 -> 0 | JO6: ='[1]9月③'!DW6 -> 0 | JP6: ='[1]9月③'!EE6 -> 0 | JQ6: ='[1]9月③'!EF6 -> 0 | JR6: ='[1]9月③'!EH6 -> 0 | JS6: ='[1]9月③'!ER6 -> 0 | JT6: ='[1]9月③'!EQ6 -> 0 | JU6: ='[1]9月③'!ES6 -> 0 | JV6: ='[1]9月③'!FA6 -> 0 | JW6: ='[1]9月③'!FB6 -> 0 | JX6: ='[1]9月③'!FD6 -> 0 | JY6: ='[1]9月③'!FL6 -> 0 | JZ6: ='[1]9月③'!FM6 -> 0 | KA6: ='[1]9月③'!FO6 -> 0 | KB6: ='[1]9月③'!FW6 -> 0 | KC6: ='[1]9月③'!FX6 -> 0 | KD6: ='[1]9月③'!FZ6 -> 0 | KE6: ='[1]9月③'!GH6 -> 0 | KF6: ='[1]9月③'!GI6 -> 0 | KG6: ='[1]9月③'!GK6 -> 0 | KH6: ='[1]9月③'!GS6 -> 0 | KI6: ='[1]9月③'!GT6 -> 0 | KJ6: ='[1]9月③'!GV6 -> 0 | KK6: ='[1]9月③'!HD6 -> 0 | KL6: ='[1]9月③'!HE6 -> 0 | KM6: ='[1]9月③'!HG6 -> 0 | KN6: ='[1]9月③'!HO6 -> 0 | KO6: ='[1]9月③'!HP6 -> 0 | KP6: ='[1]9月③'!HR6 -> 0 | KQ6: ='[1]9月③'!HZ6 -> 0 | KR6: ='[1]9月③'!IA6 -> 0 | KS6: ='[1]9月③'!IC6 -> 0 | KT6: ='[1]9月③'!IK6 -> 0 | KU6: ='[1]9月③'!IL6 -> 0 | KV6: ='[1]9月③'!IN6 -> 0 | KW6: ='[1]9月③'!IV6 -> 0 | KX6: ='[1]9月③'!IW6 -> 0 | KY6: ='[1]9月③'!IY6 -> 0 | KZ6: ='[1]9月③'!JG6 -> 0 | LA6: ='[1]9月③'!JH6 -> 0 | LB6: ='[1]9月③'!JJ6 -> 0 | LC6: ='[1]9月③'!JR6 -> 0 | LD6: ='[1]9月③'!JS6 -> 0 | LE6: ='[1]9月③'!JU6 -> 0 | LF6: ='[1]9月③'!KC6 -> 0 | LG6: ='[1]9月③'!KD6 -> 0 | LH6: ='[1]9月③'!KF6 -> 0 | LI6: ='[1]9月③'!KN6 -> 0 | LJ6: ='[1]9月③'!KO6 -> 0 | LK6: ='[1]9月③'!KQ6 -> 0 | LL6: ='[1]9月③'!KY6 -> 0 | LM6: ='[1]9月③'!KZ6 -> 0 | LN6: ='[1]9月③'!LB6 -> 0 | LO6: ='[1]9月③'!LJ6 -> 0 | LP6: ='[1]9月③'!LK6 -> 0 | LQ6: ='[1]9月③'!LM6 -> 0 | LR6: ='[1]9月③'!LU6 -> 0 | LS6: ='[1]9月③'!LV6 -> 0 | LT6: ='[1]9月③'!LX6 -> 0 | LU6: ='[1]9月③'!MF6 -> 0 | LV6: ='[1]9月③'!MG6 -> 0 | LW6: ='[1]9月③'!MI6 -> 0 | LX6: ='[1]9月③'!MQ6 -> 0 | LY6: ='[1]9月③'!MR6 -> 0 | LZ6: ='[1]9月③'!MT6 -> 0 | MA6: ='[1]9月③'!NB6 -> 0 | MB6: ='[1]9月③'!NC6 -> 0 | MC6: ='[1]9月③'!NE6 -> 0 | MD6: ='[1]9月③'!NM6 -> 0 | ME6: ='[1]9月③'!NN6 -> 0 | MF6: ='[1]9月③'!NP6 -> 0 | MG6: ='[1]9月③'!NX6 -> 0 | MH6: ='[1]9月③'!NY6 -> 0 | MI6: ='[1]9月③'!OA6 -> 0 | MJ6: ='[1]9月③'!OI6 -> 0 | MK6: ='[1]9月③'!OT6 -> 0 | ML6: ='[1]9月③'!OL6 -> 0 | MM6: ='[1]9月③'!LT6 -> 0 | MN6: ='[1]9月③'!LU6 -> 0 | MO6: ='[1]9月③'!LW6 -> 0 | MP6: ='[1]9月③'!PE6 -> 0 | MQ6: ='[1]9月③'!PF6 -> 0 | MR6: ='[1]9月③'!PH6 -> 0 | MS6: ='[1]9月③'!PP6 -> 0 | MT6: ='[1]9月③'!PQ6 -> 0 | MU6: ='[1]9月③'!PS6 -> 0 | MV6: ='[1]9月③'!QA6 -> 0 | MW6: ='[1]9月③'!QB6 -> 0 | MX6: ='[1]9月③'!QD6 -> 0 | MY6: ='[1]9月③'!QL6 -> 0 | MZ6: ='[1]9月③'!QM6 -> 0 | NA6: ='[1]9月③'!QO6 -> 0 | NB6: ='[1]9月③'!QW6 -> 0 | NC6: ='[1]9月③'!QX6 -> 0 | ND6: ='[1]9月③'!QZ6 -> 0 | NE6: ='[1]9月③'!RH6 -> 0 | NF6: ='[1]9月③'!RI6 -> 0 | NG6: ='[1]9月③'!RK6 -> 0 | NH6: ='[1]9月③'!RS6 -> 0 | NI6: ='[1]9月③'!RT6 -> 0 | NJ6: ='[1]9月③'!RV6 -> 0 | NK6: ='[1]9月③'!SD6 -> 0 | NL6: ='[1]9月③'!SE6 -> 0 | NM6: ='[1]9月③'!SG6 -> 0 | NN6: ='[1]9月③'!SO6 -> 0 | NO6: ='[1]9月③'!SP6 -> 0 | NP6: ='[1]9月③'!SR6 -> 0 | NQ6: ='[1]9月③'!SZ6 -> 0 | NR6: ='[1]9月③'!TA6 -> 0 | NS6: ='[1]9月③'!TC6 -> 0 | NT6: ='[1]9月③'!TK6 -> 0 | NU6: ='[1]9月③'!TL6 -> 0 | NV6: ='[1]9月③'!TN6 -> 0 | NW6: ='[1]9月③'!TV6 -> 0 | NX6: ='[1]9月③'!TW6 -> 0 | NY6: ='[1]9月③'!TY6 -> 0 | NZ6: ='[1]9月③'!UG6 -> 0 | OA6: ='[1]9月③'!UH6 -> 0 | OB6: ='[1]9月③'!UJ6 -> 0
A7: 03 | B7: 岩 手 | C7: ='[1]9月①'!C7 -> 0 | D7: ='[1]9月①'!D7 -> 0 | E7: ='[1]9月①'!F7 -> 0 | F7: ='[1]9月①'!N7 -> 0 | G7: ='[1]9月①'!O7 -> 0 | H7: ='[1]9月①'!Q7 -> 0 | I7: ='[1]9月①'!Y7 -> 0 | J7: ='[1]9月①'!Z7 -> 0 | K7: ='[1]9月①'!AB7 -> 0 | L7: ='[1]9月①'!AJ7 -> 0 | M7: ='[1]9月①'!AK7 -> 0 | N7: ='[1]9月①'!AM7 -> 0 | O7: ='[1]9月①'!AU7 -> 0 | P7: ='[1]9月①'!AV7 -> 0 | Q7: ='[1]9月①'!AX7 -> 0 | R7: ='[1]9月①'!BF7 -> 0 | S7: ='[1]9月①'!BG7 -> 0 | T7: ='[1]9月①'!BI7 -> 0 | U7: ='[1]9月①'!BQ7 -> 0 | V7: ='[1]9月①'!BR7 -> 0 | W7: ='[1]9月①'!BT7 -> 0 | X7: ='[1]9月①'!CB7 -> 0 | Y7: ='[1]9月①'!CC7 -> 0 | Z7: ='[1]9月①'!CE7 -> 0 | AA7: ='[1]9月①'!CM7 -> 0 | AB7: ='[1]9月①'!CN7 -> 0 | AC7: ='[1]9月①'!CP7 -> 0 | AD7: ='[1]9月①'!CX7 -> 0 | AE7: ='[1]9月①'!CY7 -> 0 | AF7: ='[1]9月①'!DA7 -> 0 | AG7: ='[1]9月①'!DI7 -> 0 | AH7: ='[1]9月①'!DJ7 -> 0 | AI7: ='[1]9月①'!DL7 -> 0 | AJ7: ='[1]9月①'!DT7 -> 0 | AK7: ='[1]9月①'!DU7 -> 0 | AL7: ='[1]9月①'!DW7 -> 0 | AM7: ='[1]9月①'!EE7 -> 0 | AN7: ='[1]9月①'!EF7 -> 0 | AO7: ='[1]9月①'!EH7 -> 0 | AP7: ='[1]9月①'!EP7 -> 0 | AQ7: ='[1]9月①'!EQ7 -> 0 | AR7: ='[1]9月①'!ES7 -> 0 | AS7: ='[1]9月①'!FA7 -> 0 | AT7: ='[1]9月①'!FB7 -> 0 | AU7: ='[1]9月①'!FD7 -> 0 | AV7: ='[1]9月①'!FL7 -> 0 | AW7: ='[1]9月①'!FM7 -> 0 | AX7: ='[1]9月①'!FO7 -> 0 | AY7: ='[1]9月①'!FW7 -> 0 | AZ7: ='[1]9月①'!FX7 -> 0 | BA7: ='[1]9月①'!FZ7 -> 0 | BB7: ='[1]9月①'!GH7 -> 0 | BC7: ='[1]9月①'!GI7 -> 0 | BD7: ='[1]9月①'!GK7 -> 0 | BE7: ='[1]9月①'!GS7 -> 0 | BF7: ='[1]9月①'!GT7 -> 0 | BG7: ='[1]9月①'!GV7 -> 0 | BH7: ='[1]9月①'!HD7 -> 0 | BI7: ='[1]9月①'!HE7 -> 0 | BJ7: ='[1]9月①'!HG7 -> 0 | BK7: ='[1]9月①'!HO7 -> 0 | BL7: ='[1]9月①'!HP7 -> 0 | BM7: ='[1]9月①'!HR7 -> 0 | BN7: ='[1]9月①'!HZ7 -> 0 | BO7: ='[1]9月①'!IA7 -> 0 | BP7: ='[1]9月①'!IC7 -> 0 | BQ7: ='[1]9月①'!IK7 -> 0 | BR7: ='[1]9月①'!IL7 -> 0 | BS7: ='[1]9月①'!IN7 -> 0 | BT7: ='[1]9月①'!IV7 -> 0 | BU7: ='[1]9月①'!IW7 -> 0 | BV7: ='[1]9月①'!IY7 -> 0 | BW7: ='[1]9月①'!JH7 -> 0 | BX7: ='[1]9月①'!JG7 -> 0 | BY7: ='[1]9月①'!JJ7 -> 0 | BZ7: ='[1]9月①'!JR7 -> 0 | CA7: ='[1]9月①'!JS7 -> 0 | CB7: ='[1]9月①'!JU7 -> 0 | CC7: ='[1]9月①'!KC7 -> 0 | CD7: ='[1]9月①'!KD7 -> 0 | CE7: ='[1]9月①'!KF7 -> 0 | CF7: ='[1]9月①'!KN7 -> 0 | CG7: ='[1]9月①'!KO7 -> 0 | CH7: ='[1]9月①'!KQ7 -> 0 | CI7: ='[1]9月①'!KY7 -> 0 | CJ7: ='[1]9月①'!KZ7 -> 0 | CK7: ='[1]9月①'!LB7 -> 0 | CL7: ='[1]9月①'!LJ7 -> 0 | CM7: ='[1]9月①'!LK7 -> 0 | CN7: ='[1]9月①'!LM7 -> 0 | CO7: ='[1]9月①'!LU7 -> 0 | CP7: ='[1]9月①'!LV7 -> 0 | CQ7: ='[1]9月①'!LX7 -> 0 | CR7: ='[1]9月①'!MF7 -> 0 | CS7: ='[1]9月①'!MG7 -> 0 | CT7: ='[1]9月①'!MI7 -> 0 | CU7: ='[1]9月①'!MQ7 -> 0 | CV7: ='[1]9月①'!MR7 -> 0 | CW7: ='[1]9月①'!MT7 -> 0 | CX7: ='[1]9月①'!NB7 -> 0 | CY7: ='[1]9月①'!NC7 -> 0 | CZ7: ='[1]9月①'!NE7 -> 0 | DA7: ='[1]9月①'!NM7 -> 0 | DB7: ='[1]9月①'!NN7 -> 0 | DC7: ='[1]9月①'!NP7 -> 0 | DD7: ='[1]9月①'!NX7 -> 0 | DE7: ='[1]9月①'!NY7 -> 0 | DF7: ='[1]9月①'!OA7 -> 0 | DG7: ='[1]9月①'!OI7 -> 0 | DH7: ='[1]9月①'!OJ7 -> 0 | DI7: ='[1]9月①'!OL7 -> 0 | DJ7: ='[1]9月①'!OT7 -> 0 | DK7: ='[1]9月①'!OU7 -> 0 | DL7: ='[1]9月①'!OW7 -> 0 | DM7: ='[1]9月①'!PE7 -> 0 | DN7: ='[1]9月①'!PF7 -> 0 | DO7: ='[1]9月①'!PH7 -> 0 | DP7: ='[1]9月②'!C7 -> 0 | DQ7: ='[1]9月②'!D7 -> 0 | DR7: ='[1]9月②'!F7 -> 0 | DS7: ='[1]9月②'!N7 -> 0 | DT7: ='[1]9月②'!O7 -> 0 | DU7: ='[1]9月②'!Q7 -> 0 | DV7: ='[1]9月②'!Y7 -> 0 | DW7: ='[1]9月②'!Z7 -> 0 | DX7: ='[1]9月②'!AB7 -> 0 | DY7: ='[1]9月②'!AJ7 -> 0 | DZ7: ='[1]9月②'!AK7 -> 0 | EA7: ='[1]9月②'!AM7 -> 0 | EB7: ='[1]9月②'!AU7 -> 0 | EC7: ='[1]9月②'!AV7 -> 0 | ED7: ='[1]9月②'!AX7 -> 0 | EE7: ='[1]9月②'!BF7 -> 0 | EF7: ='[1]9月②'!BG7 -> 0 | EG7: ='[1]9月②'!BI7 -> 0 | EH7: ='[1]9月②'!BQ7 -> 0 | EI7: ='[1]9月②'!BR7 -> 0 | EJ7: ='[1]9月②'!BT7 -> 0 | EK7: ='[1]9月②'!CB7 -> 0 | EL7: ='[1]9月②'!CC7 -> 0 | EM7: ='[1]9月②'!CE7 -> 0 | EN7: ='[1]9月②'!CM7 -> 0 | EO7: ='[1]9月②'!CN7 -> 0 | EP7: ='[1]9月②'!CP7 -> 0 | EQ7: ='[1]9月②'!CX7 -> 0 | ER7: ='[1]9月②'!CY7 -> 0 | ES7: ='[1]9月②'!DA7 -> 0 | ET7: ='[1]9月②'!DI7 -> 0 | EU7: ='[1]9月②'!DJ7 -> 0 | EV7: ='[1]9月②'!DL7 -> 0 | EW7: ='[1]9月②'!DT7 -> 0 | EX7: ='[1]9月②'!DU7 -> 0 | EY7: ='[1]9月②'!DW7 -> 0 | EZ7: ='[1]9月②'!EE7 -> 0 | FA7: ='[1]9月②'!EF7 -> 0 | FB7: ='[1]9月②'!EH7 -> 0 | FC7: ='[1]9月②'!EP7 -> 0 | FD7: ='[1]9月②'!EQ7 -> 0 | FE7: ='[1]9月②'!ES7 -> 0 | FF7: ='[1]9月②'!FA7 -> 0 | FG7: ='[1]9月②'!FB7 -> 0 | FH7: ='[1]9月②'!FD7 -> 0 | FI7: ='[1]9月②'!FL7 -> 0 | FJ7: ='[1]9月②'!FM7 -> 0 | FK7: ='[1]9月②'!FO7 -> 0 | FL7: ='[1]9月②'!FW7 -> 0 | FM7: ='[1]9月②'!FX7 -> 0 | FN7: ='[1]9月②'!FZ7 -> 0 | FO7: ='[1]9月②'!GH7 -> 0 | FP7: ='[1]9月②'!GI7 -> 0 | FQ7: ='[1]9月②'!GK7 -> 0 | FR7: ='[1]9月②'!GS7 -> 0 | FS7: ='[1]9月②'!GT7 -> 0 | FT7: ='[1]9月②'!GV7 -> 0 | FU7: ='[1]9月②'!HD7 -> 0 | FV7: ='[1]9月②'!HE7 -> 0 | FW7: ='[1]9月②'!HG7 -> 0 | FX7: ='[1]9月②'!HO7 -> 0 | FY7: ='[1]9月②'!HP7 -> 0 | FZ7: ='[1]9月②'!HR7 -> 0 | GA7: ='[1]9月②'!HZ7 -> 0 | GB7: ='[1]9月②'!IA7 -> 0 | GC7: ='[1]9月②'!IC7 -> 0 | GD7: ='[1]9月②'!IK7 -> 0 | GE7: ='[1]9月②'!IL7 -> 0 | GF7: ='[1]9月②'!IN7 -> 0 | GG7: ='[1]9月②'!IV7 -> 0 | GH7: ='[1]9月②'!IW7 -> 0 | GI7: ='[1]9月②'!IY7 -> 0 | GJ7: ='[1]9月②'!JG7 -> 0 | GK7: ='[1]9月②'!JH7 -> 0 | GL7: ='[1]9月②'!JJ7 -> 0 | GM7: ='[1]9月②'!JR7 -> 0 | GN7: ='[1]9月②'!JS7 -> 0 | GO7: ='[1]9月②'!JV7 -> 0 | GP7: ='[1]9月②'!KC7 -> 0 | GQ7: ='[1]9月②'!KD7 -> 0 | GR7: ='[1]9月②'!KF7 -> 0 | GS7: ='[1]9月②'!KN7 -> 0 | GT7: ='[1]9月②'!KO7 -> 0 | GU7: ='[1]9月②'!KQ7 -> 0 | GV7: ='[1]9月②'!KY7 -> 0 | GW7: ='[1]9月②'!KZ7 -> 0 | GX7: ='[1]9月②'!LB7 -> 0 | GY7: ='[1]9月②'!LI7 -> 0 | GZ7: ='[1]9月②'!LK7 -> 0 | HA7: ='[1]9月②'!LM7 -> 0 | HB7: ='[1]9月②'!LU7 -> 0 | HC7: ='[1]9月②'!LV7 -> 0 | HD7: ='[1]9月②'!LX7 -> 0 | HE7: ='[1]9月②'!MF7 -> 0 | HF7: ='[1]9月②'!MG7 -> 0 | HG7: ='[1]9月②'!MI7 -> 0 | HH7: ='[1]9月②'!MQ7 -> 0 | HI7: ='[1]9月②'!MR7 -> 0 | HJ7: ='[1]9月②'!MT7 -> 0 | HK7: ='[1]9月②'!NB7 -> 0 | HL7: ='[1]9月②'!NC7 -> 0 | HM7: ='[1]9月②'!NE7 -> 0 | HN7: ='[1]9月②'!NM7 -> 0 | HO7: ='[1]9月②'!NN7 -> 0 | HP7: ='[1]9月②'!NP7 -> 0 | HQ7: ='[1]9月②'!NX7 -> 0 | HR7: ='[1]9月②'!NY7 -> 0 | HS7: ='[1]9月②'!OA7 -> 0 | HT7: ='[1]9月②'!OI7 -> 0 | HU7: ='[1]9月②'!OJ7 -> 0 | HV7: ='[1]9月②'!OL7 -> 0 | HW7: ='[1]9月②'!OT7 -> 0 | HX7: ='[1]9月②'!OU7 -> 0 | HY7: ='[1]9月②'!OW7 -> 0 | HZ7: ='[1]9月②'!PE7 -> 0 | IA7: ='[1]9月②'!PF7 -> 0 | IB7: ='[1]9月②'!PH7 -> 0 | IC7: ='[1]9月②'!PP7 -> 0 | ID7: ='[1]9月②'!PQ7 -> 0 | IE7: ='[1]9月②'!PS7 -> 0 | IF7: ='[1]9月③'!C7 -> 0 | IG7: ='[1]9月③'!D7 -> 0 | IH7: ='[1]9月③'!F7 -> 0 | II7: ='[1]9月③'!N7 -> 0 | IJ7: ='[1]9月③'!O7 -> 0 | IK7: ='[1]9月③'!Q7 -> 0 | IL7: ='[1]9月③'!Y7 -> 0 | IM7: ='[1]9月③'!Z7 -> 0 | IN7: ='[1]9月③'!AB7 -> 0 | IO7: ='[1]9月③'!AJ7 -> 0 | IP7: ='[1]9月③'!AK7 -> 0 | IQ7: ='[1]9月③'!AM7 -> 0 | IR7: ='[1]9月③'!AU7 -> 0 | IS7: ='[1]9月③'!AV7 -> 0 | IT7: ='[1]9月③'!AX7 -> 0 | IU7: ='[1]9月③'!BF7 -> 0 | IV7: ='[1]9月③'!BG7 -> 0 | IW7: ='[1]9月③'!BI7 -> 0 | IX7: ='[1]9月③'!BQ7 -> 0 | IY7: ='[1]9月③'!BR7 -> 0 | IZ7: ='[1]9月③'!BT7 -> 0 | JA7: ='[1]9月③'!CB7 -> 0 | JB7: ='[1]9月③'!CC7 -> 0 | JC7: ='[1]9月③'!CE7 -> 0 | JD7: ='[1]9月③'!CM7 -> 0 | JE7: ='[1]9月③'!CN7 -> 0 | JF7: ='[1]9月③'!CP7 -> 0 | JG7: ='[1]9月③'!CX7 -> 0 | JH7: ='[1]9月③'!CY7 -> 0 | JI7: ='[1]9月③'!DA7 -> 0 | JJ7: ='[1]9月③'!DI7 -> 0 | JK7: ='[1]9月③'!DJ7 -> 0 | JL7: ='[1]9月③'!DL7 -> 0 | JM7: ='[1]9月③'!DT7 -> 0 | JN7: ='[1]9月③'!DU7 -> 0 | JO7: ='[1]9月③'!DW7 -> 0 | JP7: ='[1]9月③'!EE7 -> 0 | JQ7: ='[1]9月③'!EF7 -> 0 | JR7: ='[1]9月③'!EH7 -> 0 | JS7: ='[1]9月③'!ER7 -> 0 | JT7: ='[1]9月③'!EQ7 -> 0 | JU7: ='[1]9月③'!ES7 -> 0 | JV7: ='[1]9月③'!FA7 -> 0 | JW7: ='[1]9月③'!FB7 -> 0 | JX7: ='[1]9月③'!FD7 -> 0 | JY7: ='[1]9月③'!FL7 -> 0 | JZ7: ='[1]9月③'!FM7 -> 0 | KA7: ='[1]9月③'!FO7 -> 0 | KB7: ='[1]9月③'!FW7 -> 0 | KC7: ='[1]9月③'!FX7 -> 0 | KD7: ='[1]9月③'!FZ7 -> 0 | KE7: ='[1]9月③'!GH7 -> 0 | KF7: ='[1]9月③'!GI7 -> 0 | KG7: ='[1]9月③'!GK7 -> 0 | KH7: ='[1]9月③'!GS7 -> 0 | KI7: ='[1]9月③'!GT7 -> 0 | KJ7: ='[1]9月③'!GV7 -> 0 | KK7: ='[1]9月③'!HD7 -> 0 | KL7: ='[1]9月③'!HE7 -> 0 | KM7: ='[1]9月③'!HG7 -> 0 | KN7: ='[1]9月③'!HO7 -> 0 | KO7: ='[1]9月③'!HP7 -> 0 | KP7: ='[1]9月③'!HR7 -> 0 | KQ7: ='[1]9月③'!HZ7 -> 0 | KR7: ='[1]9月③'!IA7 -> 0 | KS7: ='[1]9月③'!IC7 -> 0 | KT7: ='[1]9月③'!IK7 -> 0 | KU7: ='[1]9月③'!IL7 -> 0 | KV7: ='[1]9月③'!IN7 -> 0 | KW7: ='[1]9月③'!IV7 -> 0 | KX7: ='[1]9月③'!IW7 -> 0 | KY7: ='[1]9月③'!IY7 -> 0 | KZ7: ='[1]9月③'!JG7 -> 0 | LA7: ='[1]9月③'!JH7 -> 0 | LB7: ='[1]9月③'!JJ7 -> 0 | LC7: ='[1]9月③'!JR7 -> 0 | LD7: ='[1]9月③'!JS7 -> 0 | LE7: ='[1]9月③'!JU7 -> 0 | LF7: ='[1]9月③'!KC7 -> 0 | LG7: ='[1]9月③'!KD7 -> 0 | LH7: ='[1]9月③'!KF7 -> 0 | LI7: ='[1]9月③'!KN7 -> 0 | LJ7: ='[1]9月③'!KO7 -> 0 | LK7: ='[1]9月③'!KQ7 -> 0 | LL7: ='[1]9月③'!KY7 -> 0 | LM7: ='[1]9月③'!KZ7 -> 0 | LN7: ='[1]9月③'!LB7 -> 0 | LO7: ='[1]9月③'!LJ7 -> 0 | LP7: ='[1]9月③'!LK7 -> 0 | LQ7: ='[1]9月③'!LM7 -> 0 | LR7: ='[1]9月③'!LU7 -> 0 | LS7: ='[1]9月③'!LV7 -> 0 | LT7: ='[1]9月③'!LX7 -> 0 | LU7: ='[1]9月③'!MF7 -> 0 | LV7: ='[1]9月③'!MG7 -> 0 | LW7: ='[1]9月③'!MI7 -> 0 | LX7: ='[1]9月③'!MQ7 -> 0 | LY7: ='[1]9月③'!MR7 -> 0 | LZ7: ='[1]9月③'!MT7 -> 0 | MA7: ='[1]9月③'!NB7 -> 0 | MB7: ='[1]9月③'!NC7 -> 0 | MC7: ='[1]9月③'!NE7 -> 0 | MD7: ='[1]9月③'!NM7 -> 0 | ME7: ='[1]9月③'!NN7 -> 0 | MF7: ='[1]9月③'!NP7 -> 0 | MG7: ='[1]9月③'!NX7 -> 0 | MH7: ='[1]9月③'!NY7 -> 0 | MI7: ='[1]9月③'!OA7 -> 0 | MJ7: ='[1]9月③'!OI7 -> 0 | MK7: ='[1]9月③'!OT7 -> 0 | ML7: ='[1]9月③'!OL7 -> 0 | MM7: ='[1]9月③'!LT7 -> 0 | MN7: ='[1]9月③'!LU7 -> 0 | MO7: ='[1]9月③'!LW7 -> 0 | MP7: ='[1]9月③'!PE7 -> 0 | MQ7: ='[1]9月③'!PF7 -> 0 | MR7: ='[1]9月③'!PH7 -> 0 | MS7: ='[1]9月③'!PP7 -> 0 | MT7: ='[1]9月③'!PQ7 -> 0 | MU7: ='[1]9月③'!PS7 -> 0 | MV7: ='[1]9月③'!QA7 -> 0 | MW7: ='[1]9月③'!QB7 -> 0 | MX7: ='[1]9月③'!QD7 -> 0 | MY7: ='[1]9月③'!QL7 -> 0 | MZ7: ='[1]9月③'!QM7 -> 0 | NA7: ='[1]9月③'!QO7 -> 0 | NB7: ='[1]9月③'!QW7 -> 0 | NC7: ='[1]9月③'!QX7 -> 0 | ND7: ='[1]9月③'!QZ7 -> 0 | NE7: ='[1]9月③'!RH7 -> 0 | NF7: ='[1]9月③'!RI7 -> 0 | NG7: ='[1]9月③'!RK7 -> 0 | NH7: ='[1]9月③'!RS7 -> 0 | NI7: ='[1]9月③'!RT7 -> 0 | NJ7: ='[1]9月③'!RV7 -> 0 | NK7: ='[1]9月③'!SD7 -> 0 | NL7: ='[1]9月③'!SE7 -> 0 | NM7: ='[1]9月③'!SG7 -> 0 | NN7: ='[1]9月③'!SO7 -> 0 | NO7: ='[1]9月③'!SP7 -> 0 | NP7: ='[1]9月③'!SR7 -> 0 | NQ7: ='[1]9月③'!SZ7 -> 0 | NR7: ='[1]9月③'!TA7 -> 0 | NS7: ='[1]9月③'!TC7 -> 0 | NT7: ='[1]9月③'!TK7 -> 0 | NU7: ='[1]9月③'!TL7 -> 0 | NV7: ='[1]9月③'!TN7 -> 0 | NW7: ='[1]9月③'!TV7 -> 0 | NX7: ='[1]9月③'!TW7 -> 0 | NY7: ='[1]9月③'!TY7 -> 0 | NZ7: ='[1]9月③'!UG7 -> 0 | OA7: ='[1]9月③'!UH7 -> 0 | OB7: ='[1]9月③'!UJ7 -> 0
A8: 04 | B8: 宮 城 | C8: ='[1]9月①'!C8 -> 0 | D8: ='[1]9月①'!D8 -> 0 | E8: ='[1]9月①'!F8 -> 0 | F8: ='[1]9月①'!N8 -> 0 | G8: ='[1]9月①'!O8 -> 0 | H8: ='[1]9月①'!Q8 -> 0 | I8: ='[1]9月①'!Y8 -> 0 | J8: ='[1]9月①'!Z8 -> 0 | K8: ='[1]9月①'!AB8 -> 0 | L8: ='[1]9月①'!AJ8 -> 0 | M8: ='[1]9月①'!AK8 -> 0 | N8: ='[1]9月①'!AM8 -> 0 | O8: ='[1]9月①'!AU8 -> 0 | P8: ='[1]9月①'!AV8 -> 0 | Q8: ='[1]9月①'!AX8 -> 0 | R8: ='[1]9月①'!BF8 -> 0 | S8: ='[1]9月①'!BG8 -> 0 | T8: ='[1]9月①'!BI8 -> 0 | U8: ='[1]9月①'!BQ8 -> 0 | V8: ='[1]9月①'!BR8 -> 0 | W8: ='[1]9月①'!BT8 -> 0 | X8: ='[1]9月①'!CB8 -> 0 | Y8: ='[1]9月①'!CC8 -> 0 | Z8: ='[1]9月①'!CE8 -> 0 | AA8: ='[1]9月①'!CM8 -> 0 | AB8: ='[1]9月①'!CN8 -> 0 | AC8: ='[1]9月①'!CP8 -> 0 | AD8: ='[1]9月①'!CX8 -> 0 | AE8: ='[1]9月①'!CY8 -> 0 | AF8: ='[1]9月①'!DA8 -> 0 | AG8: ='[1]9月①'!DI8 -> 0 | AH8: ='[1]9月①'!DJ8 -> 0 | AI8: ='[1]9月①'!DL8 -> 0 | AJ8: ='[1]9月①'!DT8 -> 0 | AK8: ='[1]9月①'!DU8 -> 0 | AL8: ='[1]9月①'!DW8 -> 0 | AM8: ='[1]9月①'!EE8 -> 0 | AN8: ='[1]9月①'!EF8 -> 0 | AO8: ='[1]9月①'!EH8 -> 0 | AP8: ='[1]9月①'!EP8 -> 0 | AQ8: ='[1]9月①'!EQ8 -> 0 | AR8: ='[1]9月①'!ES8 -> 0 | AS8: ='[1]9月①'!FA8 -> 0 | AT8: ='[1]9月①'!FB8 -> 0 | AU8: ='[1]9月①'!FD8 -> 0 | AV8: ='[1]9月①'!FL8 -> 0 | AW8: ='[1]9月①'!FM8 -> 0 | AX8: ='[1]9月①'!FO8 -> 0 | AY8: ='[1]9月①'!FW8 -> 0 | AZ8: ='[1]9月①'!FX8 -> 0 | BA8: ='[1]9月①'!FZ8 -> 0 | BB8: ='[1]9月①'!GH8 -> 0 | BC8: ='[1]9月①'!GI8 -> 0 | BD8: ='[1]9月①'!GK8 -> 0 | BE8: ='[1]9月①'!GS8 -> 0 | BF8: ='[1]9月①'!GT8 -> 0 | BG8: ='[1]9月①'!GV8 -> 0 | BH8: ='[1]9月①'!HD8 -> 0 | BI8: ='[1]9月①'!HE8 -> 0 | BJ8: ='[1]9月①'!HG8 -> 0 | BK8: ='[1]9月①'!HO8 -> 0 | BL8: ='[1]9月①'!HP8 -> 0 | BM8: ='[1]9月①'!HR8 -> 0 | BN8: ='[1]9月①'!HZ8 -> 0 | BO8: ='[1]9月①'!IA8 -> 0 | BP8: ='[1]9月①'!IC8 -> 0 | BQ8: ='[1]9月①'!IK8 -> 0 | BR8: ='[1]9月①'!IL8 -> 0 | BS8: ='[1]9月①'!IN8 -> 0 | BT8: ='[1]9月①'!IV8 -> 0 | BU8: ='[1]9月①'!IW8 -> 0 | BV8: ='[1]9月①'!IY8 -> 0 | BW8: ='[1]9月①'!JH8 -> 0 | BX8: ='[1]9月①'!JG8 -> 0 | BY8: ='[1]9月①'!JJ8 -> 0 | BZ8: ='[1]9月①'!JR8 -> 0 | CA8: ='[1]9月①'!JS8 -> 0 | CB8: ='[1]9月①'!JU8 -> 0 | CC8: ='[1]9月①'!KC8 -> 0 | CD8: ='[1]9月①'!KD8 -> 0 | CE8: ='[1]9月①'!KF8 -> 0 | CF8: ='[1]9月①'!KN8 -> 0 | CG8: ='[1]9月①'!KO8 -> 0 | CH8: ='[1]9月①'!KQ8 -> 0 | CI8: ='[1]9月①'!KY8 -> 0 | CJ8: ='[1]9月①'!KZ8 -> 0 | CK8: ='[1]9月①'!LB8 -> 0 | CL8: ='[1]9月①'!LJ8 -> 0 | CM8: ='[1]9月①'!LK8 -> 0 | CN8: ='[1]9月①'!LM8 -> 0 | CO8: ='[1]9月①'!LU8 -> 0 | CP8: ='[1]9月①'!LV8 -> 0 | CQ8: ='[1]9月①'!LX8 -> 0 | CR8: ='[1]9月①'!MF8 -> 0 | CS8: ='[1]9月①'!MG8 -> 0 | CT8: ='[1]9月①'!MI8 -> 0 | CU8: ='[1]9月①'!MQ8 -> 0 | CV8: ='[1]9月①'!MR8 -> 0 | CW8: ='[1]9月①'!MT8 -> 0 | CX8: ='[1]9月①'!NB8 -> 0 | CY8: ='[1]9月①'!NC8 -> 0 | CZ8: ='[1]9月①'!NE8 -> 0 | DA8: ='[1]9月①'!NM8 -> 0 | DB8: ='[1]9月①'!NN8 -> 0 | DC8: ='[1]9月①'!NP8 -> 0 | DD8: ='[1]9月①'!NX8 -> 0 | DE8: ='[1]9月①'!NY8 -> 0 | DF8: ='[1]9月①'!OA8 -> 0 | DG8: ='[1]9月①'!OI8 -> 0 | DH8: ='[1]9月①'!OJ8 -> 0 | DI8: ='[1]9月①'!OL8 -> 0 | DJ8: ='[1]9月①'!OT8 -> 0 | DK8: ='[1]9月①'!OU8 -> 0 | DL8: ='[1]9月①'!OW8 -> 0 | DM8: ='[1]9月①'!PE8 -> 0 | DN8: ='[1]9月①'!PF8 -> 0 | DO8: ='[1]9月①'!PH8 -> 0 | DP8: ='[1]9月②'!C8 -> 0 | DQ8: ='[1]9月②'!D8 -> 0 | DR8: ='[1]9月②'!F8 -> 0 | DS8: ='[1]9月②'!N8 -> 0 | DT8: ='[1]9月②'!O8 -> 0 | DU8: ='[1]9月②'!Q8 -> 0 | DV8: ='[1]9月②'!Y8 -> 0 | DW8: ='[1]9月②'!Z8 -> 0 | DX8: ='[1]9月②'!AB8 -> 0 | DY8: ='[1]9月②'!AJ8 -> 0 | DZ8: ='[1]9月②'!AK8 -> 0 | EA8: ='[1]9月②'!AM8 -> 0 | EB8: ='[1]9月②'!AU8 -> 0 | EC8: ='[1]9月②'!AV8 -> 0 | ED8: ='[1]9月②'!AX8 -> 0 | EE8: ='[1]9月②'!BF8 -> 0 | EF8: ='[1]9月②'!BG8 -> 0 | EG8: ='[1]9月②'!BI8 -> 0 | EH8: ='[1]9月②'!BQ8 -> 0 | EI8: ='[1]9月②'!BR8 -> 0 | EJ8: ='[1]9月②'!BT8 -> 0 | EK8: ='[1]9月②'!CB8 -> 0 | EL8: ='[1]9月②'!CC8 -> 0 | EM8: ='[1]9月②'!CE8 -> 0 | EN8: ='[1]9月②'!CM8 -> 0 | EO8: ='[1]9月②'!CN8 -> 0 | EP8: ='[1]9月②'!CP8 -> 0 | EQ8: ='[1]9月②'!CX8 -> 0 | ER8: ='[1]9月②'!CY8 -> 0 | ES8: ='[1]9月②'!DA8 -> 0 | ET8: ='[1]9月②'!DI8 -> 0 | EU8: ='[1]9月②'!DJ8 -> 0 | EV8: ='[1]9月②'!DL8 -> 0 | EW8: ='[1]9月②'!DT8 -> 0 | EX8: ='[1]9月②'!DU8 -> 0 | EY8: ='[1]9月②'!DW8 -> 0 | EZ8: ='[1]9月②'!EE8 -> 0 | FA8: ='[1]9月②'!EF8 -> 0 | FB8: ='[1]9月②'!EH8 -> 0 | FC8: ='[1]9月②'!EP8 -> 0 | FD8: ='[1]9月②'!EQ8 -> 0 | FE8: ='[1]9月②'!ES8 -> 0 | FF8: ='[1]9月②'!FA8 -> 0 | FG8: ='[1]9月②'!FB8 -> 0 | FH8: ='[1]9月②'!FD8 -> 0 | FI8: ='[1]9月②'!FL8 -> 0 | FJ8: ='[1]9月②'!FM8 -> 0 | FK8: ='[1]9月②'!FO8 -> 0 | FL8: ='[1]9月②'!FW8 -> 0 | FM8: ='[1]9月②'!FX8 -> 0 | FN8: ='[1]9月②'!FZ8 -> 0 | FO8: ='[1]9月②'!GH8 -> 0 | FP8: ='[1]9月②'!GI8 -> 0 | FQ8: ='[1]9月②'!GK8 -> 0 | FR8: ='[1]9月②'!GS8 -> 0 | FS8: ='[1]9月②'!GT8 -> 0 | FT8: ='[1]9月②'!GV8 -> 0 | FU8: ='[1]9月②'!HD8 -> 0 | FV8: ='[1]9月②'!HE8 -> 0 | FW8: ='[1]9月②'!HG8 -> 0 | FX8: ='[1]9月②'!HO8 -> 0 | FY8: ='[1]9月②'!HP8 -> 0 | FZ8: ='[1]9月②'!HR8 -> 0 | GA8: ='[1]9月②'!HZ8 -> 0 | GB8: ='[1]9月②'!IA8 -> 0 | GC8: ='[1]9月②'!IC8 -> 0 | GD8: ='[1]9月②'!IK8 -> 0 | GE8: ='[1]9月②'!IL8 -> 0 | GF8: ='[1]9月②'!IN8 -> 0 | GG8: ='[1]9月②'!IV8 -> 0 | GH8: ='[1]9月②'!IW8 -> 0 | GI8: ='[1]9月②'!IY8 -> 0 | GJ8: ='[1]9月②'!JG8 -> 0 | GK8: ='[1]9月②'!JH8 -> 0 | GL8: ='[1]9月②'!JJ8 -> 0 | GM8: ='[1]9月②'!JR8 -> 0 | GN8: ='[1]9月②'!JS8 -> 0 | GO8: ='[1]9月②'!JV8 -> 0 | GP8: ='[1]9月②'!KC8 -> 0 | GQ8: ='[1]9月②'!KD8 -> 0 | GR8: ='[1]9月②'!KF8 -> 0 | GS8: ='[1]9月②'!KN8 -> 0 | GT8: ='[1]9月②'!KO8 -> 0 | GU8: ='[1]9月②'!KQ8 -> 0 | GV8: ='[1]9月②'!KY8 -> 0 | GW8: ='[1]9月②'!KZ8 -> 0 | GX8: ='[1]9月②'!LB8 -> 0 | GY8: ='[1]9月②'!LI8 -> 0 | GZ8: ='[1]9月②'!LK8 -> 0 | HA8: ='[1]9月②'!LM8 -> 0 | HB8: ='[1]9月②'!LU8 -> 0 | HC8: ='[1]9月②'!LV8 -> 0 | HD8: ='[1]9月②'!LX8 -> 0 | HE8: ='[1]9月②'!MF8 -> 0 | HF8: ='[1]9月②'!MG8 -> 0 | HG8: ='[1]9月②'!MI8 -> 0 | HH8: ='[1]9月②'!MQ8 -> 0 | HI8: ='[1]9月②'!MR8 -> 0 | HJ8: ='[1]9月②'!MT8 -> 0 | HK8: ='[1]9月②'!NB8 -> 0 | HL8: ='[1]9月②'!NC8 -> 0 | HM8: ='[1]9月②'!NE8 -> 0 | HN8: ='[1]9月②'!NM8 -> 0 | HO8: ='[1]9月②'!NN8 -> 0 | HP8: ='[1]9月②'!NP8 -> 0 | HQ8: ='[1]9月②'!NX8 -> 0 | HR8: ='[1]9月②'!NY8 -> 0 | HS8: ='[1]9月②'!OA8 -> 0 | HT8: ='[1]9月②'!OI8 -> 0 | HU8: ='[1]9月②'!OJ8 -> 0 | HV8: ='[1]9月②'!OL8 -> 0 | HW8: ='[1]9月②'!OT8 -> 0 | HX8: ='[1]9月②'!OU8 -> 0 | HY8: ='[1]9月②'!OW8 -> 0 | HZ8: ='[1]9月②'!PE8 -> 0 | IA8: ='[1]9月②'!PF8 -> 0 | IB8: ='[1]9月②'!PH8 -> 0 | IC8: ='[1]9月②'!PP8 -> 0 | ID8: ='[1]9月②'!PQ8 -> 0 | IE8: ='[1]9月②'!PS8 -> 0 | IF8: ='[1]9月③'!C8 -> 0 | IG8: ='[1]9月③'!D8 -> 0 | IH8: ='[1]9月③'!F8 -> 0 | II8: ='[1]9月③'!N8 -> 0 | IJ8: ='[1]9月③'!O8 -> 0 | IK8: ='[1]9月③'!Q8 -> 0 | IL8: ='[1]9月③'!Y8 -> 0 | IM8: ='[1]9月③'!Z8 -> 0 | IN8: ='[1]9月③'!AB8 -> 0 | IO8: ='[1]9月③'!AJ8 -> 0 | IP8: ='[1]9月③'!AK8 -> 0 | IQ8: ='[1]9月③'!AM8 -> 0 | IR8: ='[1]9月③'!AU8 -> 0 | IS8: ='[1]9月③'!AV8 -> 0 | IT8: ='[1]9月③'!AX8 -> 0 | IU8: ='[1]9月③'!BF8 -> 0 | IV8: ='[1]9月③'!BG8 -> 0 | IW8: ='[1]9月③'!BI8 -> 0 | IX8: ='[1]9月③'!BQ8 -> 0 | IY8: ='[1]9月③'!BR8 -> 0 | IZ8: ='[1]9月③'!BT8 -> 0 | JA8: ='[1]9月③'!CB8 -> 0 | JB8: ='[1]9月③'!CC8 -> 0 | JC8: ='[1]9月③'!CE8 -> 0 | JD8: ='[1]9月③'!CM8 -> 0 | JE8: ='[1]9月③'!CN8 -> 0 | JF8: ='[1]9月③'!CP8 -> 0 | JG8: ='[1]9月③'!CX8 -> 0 | JH8: ='[1]9月③'!CY8 -> 0 | JI8: ='[1]9月③'!DA8 -> 0 | JJ8: ='[1]9月③'!DI8 -> 0 | JK8: ='[1]9月③'!DJ8 -> 0 | JL8: ='[1]9月③'!DL8 -> 0 | JM8: ='[1]9月③'!DT8 -> 0 | JN8: ='[1]9月③'!DU8 -> 0 | JO8: ='[1]9月③'!DW8 -> 0 | JP8: ='[1]9月③'!EE8 -> 0 | JQ8: ='[1]9月③'!EF8 -> 0 | JR8: ='[1]9月③'!EH8 -> 0 | JS8: ='[1]9月③'!ER8 -> 0 | JT8: ='[1]9月③'!EQ8 -> 0 | JU8: ='[1]9月③'!ES8 -> 0 | JV8: ='[1]9月③'!FA8 -> 0 | JW8: ='[1]9月③'!FB8 -> 0 | JX8: ='[1]9月③'!FD8 -> 0 | JY8: ='[1]9月③'!FL8 -> 0 | JZ8: ='[1]9月③'!FM8 -> 0 | KA8: ='[1]9月③'!FO8 -> 0 | KB8: ='[1]9月③'!FW8 -> 0 | KC8: ='[1]9月③'!FX8 -> 0 | KD8: ='[1]9月③'!FZ8 -> 0 | KE8: ='[1]9月③'!GH8 -> 0 | KF8: ='[1]9月③'!GI8 -> 0 | KG8: ='[1]9月③'!GK8 -> 0 | KH8: ='[1]9月③'!GS8 -> 0 | KI8: ='[1]9月③'!GT8 -> 0 | KJ8: ='[1]9月③'!GV8 -> 0 | KK8: ='[1]9月③'!HD8 -> 0 | KL8: ='[1]9月③'!HE8 -> 0 | KM8: ='[1]9月③'!HG8 -> 0 | KN8: ='[1]9月③'!HO8 -> 0 | KO8: ='[1]9月③'!HP8 -> 0 | KP8: ='[1]9月③'!HR8 -> 0 | KQ8: ='[1]9月③'!HZ8 -> 0 | KR8: ='[1]9月③'!IA8 -> 0 | KS8: ='[1]9月③'!IC8 -> 0 | KT8: ='[1]9月③'!IK8 -> 0 | KU8: ='[1]9月③'!IL8 -> 0 | KV8: ='[1]9月③'!IN8 -> 0 | KW8: ='[1]9月③'!IV8 -> 0 | KX8: ='[1]9月③'!IW8 -> 0 | KY8: ='[1]9月③'!IY8 -> 0 | KZ8: ='[1]9月③'!JG8 -> 0 | LA8: ='[1]9月③'!JH8 -> 0 | LB8: ='[1]9月③'!JJ8 -> 0 | LC8: ='[1]9月③'!JR8 -> 0 | LD8: ='[1]9月③'!JS8 -> 0 | LE8: ='[1]9月③'!JU8 -> 0 | LF8: ='[1]9月③'!KC8 -> 0 | LG8: ='[1]9月③'!KD8 -> 0 | LH8: ='[1]9月③'!KF8 -> 0 | LI8: ='[1]9月③'!KN8 -> 0 | LJ8: ='[1]9月③'!KO8 -> 0 | LK8: ='[1]9月③'!KQ8 -> 0 | LL8: ='[1]9月③'!KY8 -> 0 | LM8: ='[1]9月③'!KZ8 -> 0 | LN8: ='[1]9月③'!LB8 -> 0 | LO8: ='[1]9月③'!LJ8 -> 0 | LP8: ='[1]9月③'!LK8 -> 0 | LQ8: ='[1]9月③'!LM8 -> 0 | LR8: ='[1]9月③'!LU8 -> 0 | LS8: ='[1]9月③'!LV8 -> 0 | LT8: ='[1]9月③'!LX8 -> 0 | LU8: ='[1]9月③'!MF8 -> 0 | LV8: ='[1]9月③'!MG8 -> 0 | LW8: ='[1]9月③'!MI8 -> 0 | LX8: ='[1]9月③'!MQ8 -> 0 | LY8: ='[1]9月③'!MR8 -> 0 | LZ8: ='[1]9月③'!MT8 -> 0 | MA8: ='[1]9月③'!NB8 -> 0 | MB8: ='[1]9月③'!NC8 -> 0 | MC8: ='[1]9月③'!NE8 -> 0 | MD8: ='[1]9月③'!NM8 -> 0 | ME8: ='[1]9月③'!NN8 -> 0 | MF8: ='[1]9月③'!NP8 -> 0 | MG8: ='[1]9月③'!NX8 -> 0 | MH8: ='[1]9月③'!NY8 -> 0 | MI8: ='[1]9月③'!OA8 -> 0 | MJ8: ='[1]9月③'!OI8 -> 0 | MK8: ='[1]9月③'!OT8 -> 0 | ML8: ='[1]9月③'!OL8 -> 0 | MM8: ='[1]9月③'!LT8 -> 0 | MN8: ='[1]9月③'!LU8 -> 0 | MO8: ='[1]9月③'!LW8 -> 0 | MP8: ='[1]9月③'!PE8 -> 0 | MQ8: ='[1]9月③'!PF8 -> 0 | MR8: ='[1]9月③'!PH8 -> 0 | MS8: ='[1]9月③'!PP8 -> 0 | MT8: ='[1]9月③'!PQ8 -> 0 | MU8: ='[1]9月③'!PS8 -> 0 | MV8: ='[1]9月③'!QA8 -> 0 | MW8: ='[1]9月③'!QB8 -> 0 | MX8: ='[1]9月③'!QD8 -> 0 | MY8: ='[1]9月③'!QL8 -> 0 | MZ8: ='[1]9月③'!QM8 -> 0 | NA8: ='[1]9月③'!QO8 -> 0 | NB8: ='[1]9月③'!QW8 -> 0 | NC8: ='[1]9月③'!QX8 -> 0 | ND8: ='[1]9月③'!QZ8 -> 0 | NE8: ='[1]9月③'!RH8 -> 0 | NF8: ='[1]9月③'!RI8 -> 0 | NG8: ='[1]9月③'!RK8 -> 0 | NH8: ='[1]9月③'!RS8 -> 0 | NI8: ='[1]9月③'!RT8 -> 0 | NJ8: ='[1]9月③'!RV8 -> 0 | NK8: ='[1]9月③'!SD8 -> 0 | NL8: ='[1]9月③'!SE8 -> 0 | NM8: ='[1]9月③'!SG8 -> 0 | NN8: ='[1]9月③'!SO8 -> 0 | NO8: ='[1]9月③'!SP8 -> 0 | NP8: ='[1]9月③'!SR8 -> 0 | NQ8: ='[1]9月③'!SZ8 -> 0 | NR8: ='[1]9月③'!TA8 -> 0 | NS8: ='[1]9月③'!TC8 -> 0 | NT8: ='[1]9月③'!TK8 -> 0 | NU8: ='[1]9月③'!TL8 -> 0 | NV8: ='[1]9月③'!TN8 -> 0 | NW8: ='[1]9月③'!TV8 -> 0 | NX8: ='[1]9月③'!TW8 -> 0 | NY8: ='[1]9月③'!TY8 -> 0 | NZ8: ='[1]9月③'!UG8 -> 0 | OA8: ='[1]9月③'!UH8 -> 0 | OB8: ='[1]9月③'!UJ8 -> 0
A9: 05 | B9: 秋 田 | C9: ='[1]9月①'!C9 -> 0 | D9: ='[1]9月①'!D9 -> 0 | E9: ='[1]9月①'!F9 -> 0 | F9: ='[1]9月①'!N9 -> 0 | G9: ='[1]9月①'!O9 -> 0 | H9: ='[1]9月①'!Q9 -> 0 | I9: ='[1]9月①'!Y9 -> 0 | J9: ='[1]9月①'!Z9 -> 0 | K9: ='[1]9月①'!AB9 -> 0 | L9: ='[1]9月①'!AJ9 -> 0 | M9: ='[1]9月①'!AK9 -> 0 | N9: ='[1]9月①'!AM9 -> 0 | O9: ='[1]9月①'!AU9 -> 0 | P9: ='[1]9月①'!AV9 -> 0 | Q9: ='[1]9月①'!AX9 -> 0 | R9: ='[1]9月①'!BF9 -> 0 | S9: ='[1]9月①'!BG9 -> 0 | T9: ='[1]9月①'!BI9 -> 0 | U9: ='[1]9月①'!BQ9 -> 0 | V9: ='[1]9月①'!BR9 -> 0 | W9: ='[1]9月①'!BT9 -> 0 | X9: ='[1]9月①'!CB9 -> 0 | Y9: ='[1]9月①'!CC9 -> 0 | Z9: ='[1]9月①'!CE9 -> 0 | AA9: ='[1]9月①'!CM9 -> 0 | AB9: ='[1]9月①'!CN9 -> 0 | AC9: ='[1]9月①'!CP9 -> 0 | AD9: ='[1]9月①'!CX9 -> 0 | AE9: ='[1]9月①'!CY9 -> 0 | AF9: ='[1]9月①'!DA9 -> 0 | AG9: ='[1]9月①'!DI9 -> 0 | AH9: ='[1]9月①'!DJ9 -> 0 | AI9: ='[1]9月①'!DL9 -> 0 | AJ9: ='[1]9月①'!DT9 -> 0 | AK9: ='[1]9月①'!DU9 -> 0 | AL9: ='[1]9月①'!DW9 -> 0 | AM9: ='[1]9月①'!EE9 -> 0 | AN9: ='[1]9月①'!EF9 -> 0 | AO9: ='[1]9月①'!EH9 -> 0 | AP9: ='[1]9月①'!EP9 -> 0 | AQ9: ='[1]9月①'!EQ9 -> 0 | AR9: ='[1]9月①'!ES9 -> 0 | AS9: ='[1]9月①'!FA9 -> 0 | AT9: ='[1]9月①'!FB9 -> 0 | AU9: ='[1]9月①'!FD9 -> 0 | AV9: ='[1]9月①'!FL9 -> 0 | AW9: ='[1]9月①'!FM9 -> 0 | AX9: ='[1]9月①'!FO9 -> 0 | AY9: ='[1]9月①'!FW9 -> 0 | AZ9: ='[1]9月①'!FX9 -> 0 | BA9: ='[1]9月①'!FZ9 -> 0 | BB9: ='[1]9月①'!GH9 -> 0 | BC9: ='[1]9月①'!GI9 -> 0 | BD9: ='[1]9月①'!GK9 -> 0 | BE9: ='[1]9月①'!GS9 -> 0 | BF9: ='[1]9月①'!GT9 -> 0 | BG9: ='[1]9月①'!GV9 -> 0 | BH9: ='[1]9月①'!HD9 -> 0 | BI9: ='[1]9月①'!HE9 -> 0 | BJ9: ='[1]9月①'!HG9 -> 0 | BK9: ='[1]9月①'!HO9 -> 0 | BL9: ='[1]9月①'!HP9 -> 0 | BM9: ='[1]9月①'!HR9 -> 0 | BN9: ='[1]9月①'!HZ9 -> 0 | BO9: ='[1]9月①'!IA9 -> 0 | BP9: ='[1]9月①'!IC9 -> 0 | BQ9: ='[1]9月①'!IK9 -> 0 | BR9: ='[1]9月①'!IL9 -> 0 | BS9: ='[1]9月①'!IN9 -> 0 | BT9: ='[1]9月①'!IV9 -> 0 | BU9: ='[1]9月①'!IW9 -> 0 | BV9: ='[1]9月①'!IY9 -> 0 | BW9: ='[1]9月①'!JH9 -> 0 | BX9: ='[1]9月①'!JG9 -> 0 | BY9: ='[1]9月①'!JJ9 -> 0 | BZ9: ='[1]9月①'!JR9 -> 0 | CA9: ='[1]9月①'!JS9 -> 0 | CB9: ='[1]9月①'!JU9 -> 0 | CC9: ='[1]9月①'!KC9 -> 0 | CD9: ='[1]9月①'!KD9 -> 0 | CE9: ='[1]9月①'!KF9 -> 0 | CF9: ='[1]9月①'!KN9 -> 0 | CG9: ='[1]9月①'!KO9 -> 0 | CH9: ='[1]9月①'!KQ9 -> 0 | CI9: ='[1]9月①'!KY9 -> 0 | CJ9: ='[1]9月①'!KZ9 -> 0 | CK9: ='[1]9月①'!LB9 -> 0 | CL9: ='[1]9月①'!LJ9 -> 0 | CM9: ='[1]9月①'!LK9 -> 0 | CN9: ='[1]9月①'!LM9 -> 0 | CO9: ='[1]9月①'!LU9 -> 0 | CP9: ='[1]9月①'!LV9 -> 0 | CQ9: ='[1]9月①'!LX9 -> 0 | CR9: ='[1]9月①'!MF9 -> 0 | CS9: ='[1]9月①'!MG9 -> 0 | CT9: ='[1]9月①'!MI9 -> 0 | CU9: ='[1]9月①'!MQ9 -> 0 | CV9: ='[1]9月①'!MR9 -> 0 | CW9: ='[1]9月①'!MT9 -> 0 | CX9: ='[1]9月①'!NB9 -> 0 | CY9: ='[1]9月①'!NC9 -> 0 | CZ9: ='[1]9月①'!NE9 -> 0 | DA9: ='[1]9月①'!NM9 -> 0 | DB9: ='[1]9月①'!NN9 -> 0 | DC9: ='[1]9月①'!NP9 -> 0 | DD9: ='[1]9月①'!NX9 -> 0 | DE9: ='[1]9月①'!NY9 -> 0 | DF9: ='[1]9月①'!OA9 -> 0 | DG9: ='[1]9月①'!OI9 -> 0 | DH9: ='[1]9月①'!OJ9 -> 0 | DI9: ='[1]9月①'!OL9 -> 0 | DJ9: ='[1]9月①'!OT9 -> 0 | DK9: ='[1]9月①'!OU9 -> 0 | DL9: ='[1]9月①'!OW9 -> 0 | DM9: ='[1]9月①'!PE9 -> 0 | DN9: ='[1]9月①'!PF9 -> 0 | DO9: ='[1]9月①'!PH9 -> 0 | DP9: ='[1]9月②'!C9 -> 0 | DQ9: ='[1]9月②'!D9 -> 0 | DR9: ='[1]9月②'!F9 -> 0 | DS9: ='[1]9月②'!N9 -> 0 | DT9: ='[1]9月②'!O9 -> 0 | DU9: ='[1]9月②'!Q9 -> 0 | DV9: ='[1]9月②'!Y9 -> 0 | DW9: ='[1]9月②'!Z9 -> 0 | DX9: ='[1]9月②'!AB9 -> 0 | DY9: ='[1]9月②'!AJ9 -> 0 | DZ9: ='[1]9月②'!AK9 -> 0 | EA9: ='[1]9月②'!AM9 -> 0 | EB9: ='[1]9月②'!AU9 -> 0 | EC9: ='[1]9月②'!AV9 -> 0 | ED9: ='[1]9月②'!AX9 -> 0 | EE9: ='[1]9月②'!BF9 -> 0 | EF9: ='[1]9月②'!BG9 -> 0 | EG9: ='[1]9月②'!BI9 -> 0 | EH9: ='[1]9月②'!BQ9 -> 0 | EI9: ='[1]9月②'!BR9 -> 0 | EJ9: ='[1]9月②'!BT9 -> 0 | EK9: ='[1]9月②'!CB9 -> 0 | EL9: ='[1]9月②'!CC9 -> 0 | EM9: ='[1]9月②'!CE9 -> 0 | EN9: ='[1]9月②'!CM9 -> 0 | EO9: ='[1]9月②'!CN9 -> 0 | EP9: ='[1]9月②'!CP9 -> 0 | EQ9: ='[1]9月②'!CX9 -> 0 | ER9: ='[1]9月②'!CY9 -> 0 | ES9: ='[1]9月②'!DA9 -> 0 | ET9: ='[1]9月②'!DI9 -> 0 | EU9: ='[1]9月②'!DJ9 -> 0 | EV9: ='[1]9月②'!DL9 -> 0 | EW9: ='[1]9月②'!DT9 -> 0 | EX9: ='[1]9月②'!DU9 -> 0 | EY9: ='[1]9月②'!DW9 -> 0 | EZ9: ='[1]9月②'!EE9 -> 0 | FA9: ='[1]9月②'!EF9 -> 0 | FB9: ='[1]9月②'!EH9 -> 0 | FC9: ='[1]9月②'!EP9 -> 0 | FD9: ='[1]9月②'!EQ9 -> 0 | FE9: ='[1]9月②'!ES9 -> 0 | FF9: ='[1]9月②'!FA9 -> 0 | FG9: ='[1]9月②'!FB9 -> 0 | FH9: ='[1]9月②'!FD9 -> 0 | FI9: ='[1]9月②'!FL9 -> 0 | FJ9: ='[1]9月②'!FM9 -> 0 | FK9: ='[1]9月②'!FO9 -> 0 | FL9: ='[1]9月②'!FW9 -> 0 | FM9: ='[1]9月②'!FX9 -> 0 | FN9: ='[1]9月②'!FZ9 -> 0 | FO9: ='[1]9月②'!GH9 -> 0 | FP9: ='[1]9月②'!GI9 -> 0 | FQ9: ='[1]9月②'!GK9 -> 0 | FR9: ='[1]9月②'!GS9 -> 0 | FS9: ='[1]9月②'!GT9 -> 0 | FT9: ='[1]9月②'!GV9 -> 0 | FU9: ='[1]9月②'!HD9 -> 0 | FV9: ='[1]9月②'!HE9 -> 0 | FW9: ='[1]9月②'!HG9 -> 0 | FX9: ='[1]9月②'!HO9 -> 0 | FY9: ='[1]9月②'!HP9 -> 0 | FZ9: ='[1]9月②'!HR9 -> 0 | GA9: ='[1]9月②'!HZ9 -> 0 | GB9: ='[1]9月②'!IA9 -> 0 | GC9: ='[1]9月②'!IC9 -> 0 | GD9: ='[1]9月②'!IK9 -> 0 | GE9: ='[1]9月②'!IL9 -> 0 | GF9: ='[1]9月②'!IN9 -> 0 | GG9: ='[1]9月②'!IV9 -> 0 | GH9: ='[1]9月②'!IW9 -> 0 | GI9: ='[1]9月②'!IY9 -> 0 | GJ9: ='[1]9月②'!JG9 -> 0 | GK9: ='[1]9月②'!JH9 -> 0 | GL9: ='[1]9月②'!JJ9 -> 0 | GM9: ='[1]9月②'!JR9 -> 0 | GN9: ='[1]9月②'!JS9 -> 0 | GO9: ='[1]9月②'!JV9 -> 0 | GP9: ='[1]9月②'!KC9 -> 0 | GQ9: ='[1]9月②'!KD9 -> 0 | GR9: ='[1]9月②'!KF9 -> 0 | GS9: ='[1]9月②'!KN9 -> 0 | GT9: ='[1]9月②'!KO9 -> 0 | GU9: ='[1]9月②'!KQ9 -> 0 | GV9: ='[1]9月②'!KY9 -> 0 | GW9: ='[1]9月②'!KZ9 -> 0 | GX9: ='[1]9月②'!LB9 -> 0 | GY9: ='[1]9月②'!LI9 -> 0 | GZ9: ='[1]9月②'!LK9 -> 0 | HA9: ='[1]9月②'!LM9 -> 0 | HB9: ='[1]9月②'!LU9 -> 0 | HC9: ='[1]9月②'!LV9 -> 0 | HD9: ='[1]9月②'!LX9 -> 0 | HE9: ='[1]9月②'!MF9 -> 0 | HF9: ='[1]9月②'!MG9 -> 1 | HG9: ='[1]9月②'!MI9 -> 1 | HH9: ='[1]9月②'!MQ9 -> 0 | HI9: ='[1]9月②'!MR9 -> 0 | HJ9: ='[1]9月②'!MT9 -> 0 | HK9: ='[1]9月②'!NB9 -> 0 | HL9: ='[1]9月②'!NC9 -> 0 | HM9: ='[1]9月②'!NE9 -> 0 | HN9: ='[1]9月②'!NM9 -> 0 | HO9: ='[1]9月②'!NN9 -> 0 | HP9: ='[1]9月②'!NP9 -> 0 | HQ9: ='[1]9月②'!NX9 -> 0 | HR9: ='[1]9月②'!NY9 -> 0 | HS9: ='[1]9月②'!OA9 -> 0 | HT9: ='[1]9月②'!OI9 -> 0 | HU9: ='[1]9月②'!OJ9 -> 0 | HV9: ='[1]9月②'!OL9 -> 0 | HW9: ='[1]9月②'!OT9 -> 0 | HX9: ='[1]9月②'!OU9 -> 0 | HY9: ='[1]9月②'!OW9 -> 0 | HZ9: ='[1]9月②'!PE9 -> 0 | IA9: ='[1]9月②'!PF9 -> 0 | IB9: ='[1]9月②'!PH9 -> 0 | IC9: ='[1]9月②'!PP9 -> 0 | ID9: ='[1]9月②'!PQ9 -> 0 | IE9: ='[1]9月②'!PS9 -> 0 | IF9: ='[1]9月③'!C9 -> 0 | IG9: ='[1]9月③'!D9 -> 0 | IH9: ='[1]9月③'!F9 -> 0 | II9: ='[1]9月③'!N9 -> 0 | IJ9: ='[1]9月③'!O9 -> 0 | IK9: ='[1]9月③'!Q9 -> 0 | IL9: ='[1]9月③'!Y9 -> 0 | IM9: ='[1]9月③'!Z9 -> 0 | IN9: ='[1]9月③'!AB9 -> 0 | IO9: ='[1]9月③'!AJ9 -> 0 | IP9: ='[1]9月③'!AK9 -> 0 | IQ9: ='[1]9月③'!AM9 -> 0 | IR9: ='[1]9月③'!AU9 -> 0 | IS9: ='[1]9月③'!AV9 -> 0 | IT9: ='[1]9月③'!AX9 -> 0 | IU9: ='[1]9月③'!BF9 -> 0 | IV9: ='[1]9月③'!BG9 -> 0 | IW9: ='[1]9月③'!BI9 -> 0 | IX9: ='[1]9月③'!BQ9 -> 0 | IY9: ='[1]9月③'!BR9 -> 0 | IZ9: ='[1]9月③'!BT9 -> 0 | JA9: ='[1]9月③'!CB9 -> 0 | JB9: ='[1]9月③'!CC9 -> 0 | JC9: ='[1]9月③'!CE9 -> 0 | JD9: ='[1]9月③'!CM9 -> 0 | JE9: ='[1]9月③'!CN9 -> 0 | JF9: ='[1]9月③'!CP9 -> 0 | JG9: ='[1]9月③'!CX9 -> 0 | JH9: ='[1]9月③'!CY9 -> 0 | JI9: ='[1]9月③'!DA9 -> 0 | JJ9: ='[1]9月③'!DI9 -> 0 | JK9: ='[1]9月③'!DJ9 -> 0 | JL9: ='[1]9月③'!DL9 -> 0 | JM9: ='[1]9月③'!DT9 -> 0 | JN9: ='[1]9月③'!DU9 -> 0 | JO9: ='[1]9月③'!DW9 -> 0 | JP9: ='[1]9月③'!EE9 -> 0 | JQ9: ='[1]9月③'!EF9 -> 0 | JR9: ='[1]9月③'!EH9 -> 0 | JS9: ='[1]9月③'!ER9 -> 0 | JT9: ='[1]9月③'!EQ9 -> 0 | JU9: ='[1]9月③'!ES9 -> 0 | JV9: ='[1]9月③'!FA9 -> 0 | JW9: ='[1]9月③'!FB9 -> 0 | JX9: ='[1]9月③'!FD9 -> 0 | JY9: ='[1]9月③'!FL9 -> 0 | JZ9: ='[1]9月③'!FM9 -> 0 | KA9: ='[1]9月③'!FO9 -> 0 | KB9: ='[1]9月③'!FW9 -> 0 | KC9: ='[1]9月③'!FX9 -> 0 | KD9: ='[1]9月③'!FZ9 -> 0 | KE9: ='[1]9月③'!GH9 -> 0 | KF9: ='[1]9月③'!GI9 -> 0 | KG9: ='[1]9月③'!GK9 -> 0 | KH9: ='[1]9月③'!GS9 -> 0 | KI9: ='[1]9月③'!GT9 -> 0 | KJ9: ='[1]9月③'!GV9 -> 0 | KK9: ='[1]9月③'!HD9 -> 0 | KL9: ='[1]9月③'!HE9 -> 0 | KM9: ='[1]9月③'!HG9 -> 0 | KN9: ='[1]9月③'!HO9 -> 0 | KO9: ='[1]9月③'!HP9 -> 0 | KP9: ='[1]9月③'!HR9 -> 0 | KQ9: ='[1]9月③'!HZ9 -> 0 | KR9: ='[1]9月③'!IA9 -> 0 | KS9: ='[1]9月③'!IC9 -> 0 | KT9: ='[1]9月③'!IK9 -> 0 | KU9: ='[1]9月③'!IL9 -> 0 | KV9: ='[1]9月③'!IN9 -> 0 | KW9: ='[1]9月③'!IV9 -> 0 | KX9: ='[1]9月③'!IW9 -> 0 | KY9: ='[1]9月③'!IY9 -> 0 | KZ9: ='[1]9月③'!JG9 -> 0 | LA9: ='[1]9月③'!JH9 -> 0 | LB9: ='[1]9月③'!JJ9 -> 0 | LC9: ='[1]9月③'!JR9 -> 0 | LD9: ='[1]9月③'!JS9 -> 0 | LE9: ='[1]9月③'!JU9 -> 0 | LF9: ='[1]9月③'!KC9 -> 0 | LG9: ='[1]9月③'!KD9 -> 0 | LH9: ='[1]9月③'!KF9 -> 0 | LI9: ='[1]9月③'!KN9 -> 0 | LJ9: ='[1]9月③'!KO9 -> 0 | LK9: ='[1]9月③'!KQ9 -> 0 | LL9: ='[1]9月③'!KY9 -> 0 | LM9: ='[1]9月③'!KZ9 -> 0 | LN9: ='[1]9月③'!LB9 -> 0 | LO9: ='[1]9月③'!LJ9 -> 0 | LP9: ='[1]9月③'!LK9 -> 0 | LQ9: ='[1]9月③'!LM9 -> 0 | LR9: ='[1]9月③'!LU9 -> 0 | LS9: ='[1]9月③'!LV9 -> 0 | LT9: ='[1]9月③'!LX9 -> 0 | LU9: ='[1]9月③'!MF9 -> 0 | LV9: ='[1]9月③'!MG9 -> 0 | LW9: ='[1]9月③'!MI9 -> 0 | LX9: ='[1]9月③'!MQ9 -> 0 | LY9: ='[1]9月③'!MR9 -> 0 | LZ9: ='[1]9月③'!MT9 -> 0 | MA9: ='[1]9月③'!NB9 -> 0 | MB9: ='[1]9月③'!NC9 -> 0 | MC9: ='[1]9月③'!NE9 -> 0 | MD9: ='[1]9月③'!NM9 -> 0 | ME9: ='[1]9月③'!NN9 -> 0 | MF9: ='[1]9月③'!NP9 -> 0 | MG9: ='[1]9月③'!NX9 -> 0 | MH9: ='[1]9月③'!NY9 -> 0 | MI9: ='[1]9月③'!OA9 -> 0 | MJ9: ='[1]9月③'!OI9 -> 0 | MK9: ='[1]9月③'!OT9 -> 0 | ML9: ='[1]9月③'!OL9 -> 0 | MM9: ='[1]9月③'!LT9 -> 0 | MN9: ='[1]9月③'!LU9 -> 0 | MO9: ='[1]9月③'!LW9 -> 0 | MP9: ='[1]9月③'!PE9 -> 0 | MQ9: ='[1]9月③'!PF9 -> 0 | MR9: ='[1]9月③'!PH9 -> 0 | MS9: ='[1]9月③'!PP9 -> 0 | MT9: ='[1]9月③'!PQ9 -> 0 | MU9: ='[1]9月③'!PS9 -> 0 | MV9: ='[1]9月③'!QA9 -> 0 | MW9: ='[1]9月③'!QB9 -> 0 | MX9: ='[1]9月③'!QD9 -> 0 | MY9: ='[1]9月③'!QL9 -> 0 | MZ9: ='[1]9月③'!QM9 -> 0 | NA9: ='[1]9月③'!QO9 -> 0 | NB9: ='[1]9月③'!QW9 -> 0 | NC9: ='[1]9月③'!QX9 -> 0 | ND9: ='[1]9月③'!QZ9 -> 0 | NE9: ='[1]9月③'!RH9 -> 0 | NF9: ='[1]9月③'!RI9 -> 0 | NG9: ='[1]9月③'!RK9 -> 0 | NH9: ='[1]9月③'!RS9 -> 0 | NI9: ='[1]9月③'!RT9 -> 0 | NJ9: ='[1]9月③'!RV9 -> 0 | NK9: ='[1]9月③'!SD9 -> 0 | NL9: ='[1]9月③'!SE9 -> 0 | NM9: ='[1]9月③'!SG9 -> 0 | NN9: ='[1]9月③'!SO9 -> 0 | NO9: ='[1]9月③'!SP9 -> 0 | NP9: ='[1]9月③'!SR9 -> 0 | NQ9: ='[1]9月③'!SZ9 -> 0 | NR9: ='[1]9月③'!TA9 -> 0 | NS9: ='[1]9月③'!TC9 -> 0 | NT9: ='[1]9月③'!TK9 -> 0 | NU9: ='[1]9月③'!TL9 -> 0 | NV9: ='[1]9月③'!TN9 -> 0 | NW9: ='[1]9月③'!TV9 -> 0 | NX9: ='[1]9月③'!TW9 -> 0 | NY9: ='[1]9月③'!TY9 -> 0 | NZ9: ='[1]9月③'!UG9 -> 0 | OA9: ='[1]9月③'!UH9 -> 0 | OB9: ='[1]9月③'!UJ9 -> 0
A10: 06 | B10: 山 形 | C10: ='[1]9月①'!C10 -> 0 | D10: ='[1]9月①'!D10 -> 0 | E10: ='[1]9月①'!F10 -> 0 | F10: ='[1]9月①'!N10 -> 0 | G10: ='[1]9月①'!O10 -> 0 | H10: ='[1]9月①'!Q10 -> 0 | I10: ='[1]9月①'!Y10 -> 0 | J10: ='[1]9月①'!Z10 -> 0 | K10: ='[1]9月①'!AB10 -> 0 | L10: ='[1]9月①'!AJ10 -> 0 | M10: ='[1]9月①'!AK10 -> 0 | N10: ='[1]9月①'!AM10 -> 0 | O10: ='[1]9月①'!AU10 -> 0 | P10: ='[1]9月①'!AV10 -> 0 | Q10: ='[1]9月①'!AX10 -> 0 | R10: ='[1]9月①'!BF10 -> 0 | S10: ='[1]9月①'!BG10 -> 0 | T10: ='[1]9月①'!BI10 -> 0 | U10: ='[1]9月①'!BQ10 -> 0 | V10: ='[1]9月①'!BR10 -> 0 | W10: ='[1]9月①'!BT10 -> 0 | X10: ='[1]9月①'!CB10 -> 0 | Y10: ='[1]9月①'!CC10 -> 0 | Z10: ='[1]9月①'!CE10 -> 0 | AA10: ='[1]9月①'!CM10 -> 0 | AB10: ='[1]9月①'!CN10 -> 0 | AC10: ='[1]9月①'!CP10 -> 0 | AD10: ='[1]9月①'!CX10 -> 0 | AE10: ='[1]9月①'!CY10 -> 0 | AF10: ='[1]9月①'!DA10 -> 0 | AG10: ='[1]9月①'!DI10 -> 0 | AH10: ='[1]9月①'!DJ10 -> 0 | AI10: ='[1]9月①'!DL10 -> 0 | AJ10: ='[1]9月①'!DT10 -> 0 | AK10: ='[1]9月①'!DU10 -> 0 | AL10: ='[1]9月①'!DW10 -> 0 | AM10: ='[1]9月①'!EE10 -> 0 | AN10: ='[1]9月①'!EF10 -> 0 | AO10: ='[1]9月①'!EH10 -> 0 | AP10: ='[1]9月①'!EP10 -> 0 | AQ10: ='[1]9月①'!EQ10 -> 0 | AR10: ='[1]9月①'!ES10 -> 0 | AS10: ='[1]9月①'!FA10 -> 0 | AT10: ='[1]9月①'!FB10 -> 0 | AU10: ='[1]9月①'!FD10 -> 0 | AV10: ='[1]9月①'!FL10 -> 0 | AW10: ='[1]9月①'!FM10 -> 0 | AX10: ='[1]9月①'!FO10 -> 0 | AY10: ='[1]9月①'!FW10 -> 0 | AZ10: ='[1]9月①'!FX10 -> 0 | BA10: ='[1]9月①'!FZ10 -> 0 | BB10: ='[1]9月①'!GH10 -> 0 | BC10: ='[1]9月①'!GI10 -> 0 | BD10: ='[1]9月①'!GK10 -> 0 | BE10: ='[1]9月①'!GS10 -> 0 | BF10: ='[1]9月①'!GT10 -> 0 | BG10: ='[1]9月①'!GV10 -> 0 | BH10: ='[1]9月①'!HD10 -> 0 | BI10: ='[1]9月①'!HE10 -> 0 | BJ10: ='[1]9月①'!HG10 -> 0 | BK10: ='[1]9月①'!HO10 -> 0 | BL10: ='[1]9月①'!HP10 -> 0 | BM10: ='[1]9月①'!HR10 -> 0 | BN10: ='[1]9月①'!HZ10 -> 0 | BO10: ='[1]9月①'!IA10 -> 0 | BP10: ='[1]9月①'!IC10 -> 0 | BQ10: ='[1]9月①'!IK10 -> 0 | BR10: ='[1]9月①'!IL10 -> 0 | BS10: ='[1]9月①'!IN10 -> 0 | BT10: ='[1]9月①'!IV10 -> 0 | BU10: ='[1]9月①'!IW10 -> 0 | BV10: ='[1]9月①'!IY10 -> 0 | BW10: ='[1]9月①'!JH10 -> 0 | BX10: ='[1]9月①'!JG10 -> 0 | BY10: ='[1]9月①'!JJ10 -> 0 | BZ10: ='[1]9月①'!JR10 -> 0 | CA10: ='[1]9月①'!JS10 -> 0 | CB10: ='[1]9月①'!JU10 -> 0 | CC10: ='[1]9月①'!KC10 -> 0 | CD10: ='[1]9月①'!KD10 -> 0 | CE10: ='[1]9月①'!KF10 -> 0 | CF10: ='[1]9月①'!KN10 -> 0 | CG10: ='[1]9月①'!KO10 -> 0 | CH10: ='[1]9月①'!KQ10 -> 0 | CI10: ='[1]9月①'!KY10 -> 0 | CJ10: ='[1]9月①'!KZ10 -> 0 | CK10: ='[1]9月①'!LB10 -> 0 | CL10: ='[1]9月①'!LJ10 -> 0 | CM10: ='[1]9月①'!LK10 -> 0 | CN10: ='[1]9月①'!LM10 -> 0 | CO10: ='[1]9月①'!LU10 -> 0 | CP10: ='[1]9月①'!LV10 -> 0 | CQ10: ='[1]9月①'!LX10 -> 0 | CR10: ='[1]9月①'!MF10 -> 0 | CS10: ='[1]9月①'!MG10 -> 0 | CT10: ='[1]9月①'!MI10 -> 0 | CU10: ='[1]9月①'!MQ10 -> 0 | CV10: ='[1]9月①'!MR10 -> 0 | CW10: ='[1]9月①'!MT10 -> 0 | CX10: ='[1]9月①'!NB10 -> 0 | CY10: ='[1]9月①'!NC10 -> 0 | CZ10: ='[1]9月①'!NE10 -> 0 | DA10: ='[1]9月①'!NM10 -> 0 | DB10: ='[1]9月①'!NN10 -> 0 | DC10: ='[1]9月①'!NP10 -> 0 | DD10: ='[1]9月①'!NX10 -> 0 | DE10: ='[1]9月①'!NY10 -> 0 | DF10: ='[1]9月①'!OA10 -> 0 | DG10: ='[1]9月①'!OI10 -> 0 | DH10: ='[1]9月①'!OJ10 -> 0 | DI10: ='[1]9月①'!OL10 -> 0 | DJ10: ='[1]9月①'!OT10 -> 0 | DK10: ='[1]9月①'!OU10 -> 0 | DL10: ='[1]9月①'!OW10 -> 0 | DM10: ='[1]9月①'!PE10 -> 0 | DN10: ='[1]9月①'!PF10 -> 0 | DO10: ='[1]9月①'!PH10 -> 0 | DP10: ='[1]9月②'!C10 -> 0 | DQ10: ='[1]9月②'!D10 -> 0 | DR10: ='[1]9月②'!F10 -> 0 | DS10: ='[1]9月②'!N10 -> 0 | DT10: ='[1]9月②'!O10 -> 0 | DU10: ='[1]9月②'!Q10 -> 0 | DV10: ='[1]9月②'!Y10 -> 0 | DW10: ='[1]9月②'!Z10 -> 0 | DX10: ='[1]9月②'!AB10 -> 0 | DY10: ='[1]9月②'!AJ10 -> 0 | DZ10: ='[1]9月②'!AK10 -> 0 | EA10: ='[1]9月②'!AM10 -> 0 | EB10: ='[1]9月②'!AU10 -> 0 | EC10: ='[1]9月②'!AV10 -> 0 | ED10: ='[1]9月②'!AX10 -> 0 | EE10: ='[1]9月②'!BF10 -> 0 | EF10: ='[1]9月②'!BG10 -> 0 | EG10: ='[1]9月②'!BI10 -> 0 | EH10: ='[1]9月②'!BQ10 -> 0 | EI10: ='[1]9月②'!BR10 -> 0 | EJ10: ='[1]9月②'!BT10 -> 0 | EK10: ='[1]9月②'!CB10 -> 0 | EL10: ='[1]9月②'!CC10 -> 0 | EM10: ='[1]9月②'!CE10 -> 0 | EN10: ='[1]9月②'!CM10 -> 0 | EO10: ='[1]9月②'!CN10 -> 0 | EP10: ='[1]9月②'!CP10 -> 0 | EQ10: ='[1]9月②'!CX10 -> 0 | ER10: ='[1]9月②'!CY10 -> 0 | ES10: ='[1]9月②'!DA10 -> 0 | ET10: ='[1]9月②'!DI10 -> 0 | EU10: ='[1]9月②'!DJ10 -> 0 | EV10: ='[1]9月②'!DL10 -> 0 | EW10: ='[1]9月②'!DT10 -> 0 | EX10: ='[1]9月②'!DU10 -> 0 | EY10: ='[1]9月②'!DW10 -> 0 | EZ10: ='[1]9月②'!EE10 -> 0 | FA10: ='[1]9月②'!EF10 -> 0 | FB10: ='[1]9月②'!EH10 -> 0 | FC10: ='[1]9月②'!EP10 -> 0 | FD10: ='[1]9月②'!EQ10 -> 0 | FE10: ='[1]9月②'!ES10 -> 0 | FF10: ='[1]9月②'!FA10 -> 0 | FG10: ='[1]9月②'!FB10 -> 0 | FH10: ='[1]9月②'!FD10 -> 0 | FI10: ='[1]9月②'!FL10 -> 0 | FJ10: ='[1]9月②'!FM10 -> 0 | FK10: ='[1]9月②'!FO10 -> 0 | FL10: ='[1]9月②'!FW10 -> 0 | FM10: ='[1]9月②'!FX10 -> 0 | FN10: ='[1]9月②'!FZ10 -> 0 | FO10: ='[1]9月②'!GH10 -> 0 | FP10: ='[1]9月②'!GI10 -> 0 | FQ10: ='[1]9月②'!GK10 -> 0 | FR10: ='[1]9月②'!GS10 -> 0 | FS10: ='[1]9月②'!GT10 -> 0 | FT10: ='[1]9月②'!GV10 -> 0 | FU10: ='[1]9月②'!HD10 -> 0 | FV10: ='[1]9月②'!HE10 -> 0 | FW10: ='[1]9月②'!HG10 -> 0 | FX10: ='[1]9月②'!HO10 -> 0 | FY10: ='[1]9月②'!HP10 -> 0 | FZ10: ='[1]9月②'!HR10 -> 0 | GA10: ='[1]9月②'!HZ10 -> 0 | GB10: ='[1]9月②'!IA10 -> 0 | GC10: ='[1]9月②'!IC10 -> 0 | GD10: ='[1]9月②'!IK10 -> 0 | GE10: ='[1]9月②'!IL10 -> 0 | GF10: ='[1]9月②'!IN10 -> 0 | GG10: ='[1]9月②'!IV10 -> 0 | GH10: ='[1]9月②'!IW10 -> 0 | GI10: ='[1]9月②'!IY10 -> 0 | GJ10: ='[1]9月②'!JG10 -> 0 | GK10: ='[1]9月②'!JH10 -> 0 | GL10: ='[1]9月②'!JJ10 -> 0 | GM10: ='[1]9月②'!JR10 -> 0 | GN10: ='[1]9月②'!JS10 -> 0 | GO10: ='[1]9月②'!JV10 -> 0 | GP10: ='[1]9月②'!KC10 -> 0 | GQ10: ='[1]9月②'!KD10 -> 0 | GR10: ='[1]9月②'!KF10 -> 0 | GS10: ='[1]9月②'!KN10 -> 0 | GT10: ='[1]9月②'!KO10 -> 0 | GU10: ='[1]9月②'!KQ10 -> 0 | GV10: ='[1]9月②'!KY10 -> 0 | GW10: ='[1]9月②'!KZ10 -> 0 | GX10: ='[1]9月②'!LB10 -> 0 | GY10: ='[1]9月②'!LI10 -> 0 | GZ10: ='[1]9月②'!LK10 -> 0 | HA10: ='[1]9月②'!LM10 -> 0 | HB10: ='[1]9月②'!LU10 -> 0 | HC10: ='[1]9月②'!LV10 -> 0 | HD10: ='[1]9月②'!LX10 -> 0 | HE10: ='[1]9月②'!MF10 -> 0 | HF10: ='[1]9月②'!MG10 -> 0 | HG10: ='[1]9月②'!MI10 -> 0 | HH10: ='[1]9月②'!MQ10 -> 0 | HI10: ='[1]9月②'!MR10 -> 0 | HJ10: ='[1]9月②'!MT10 -> 0 | HK10: ='[1]9月②'!NB10 -> 0 | HL10: ='[1]9月②'!NC10 -> 0 | HM10: ='[1]9月②'!NE10 -> 0 | HN10: ='[1]9月②'!NM10 -> 0 | HO10: ='[1]9月②'!NN10 -> 0 | HP10: ='[1]9月②'!NP10 -> 0 | HQ10: ='[1]9月②'!NX10 -> 0 | HR10: ='[1]9月②'!NY10 -> 0 | HS10: ='[1]9月②'!OA10 -> 0 | HT10: ='[1]9月②'!OI10 -> 0 | HU10: ='[1]9月②'!OJ10 -> 0 | HV10: ='[1]9月②'!OL10 -> 0 | HW10: ='[1]9月②'!OT10 -> 0 | HX10: ='[1]9月②'!OU10 -> 0 | HY10: ='[1]9月②'!OW10 -> 0 | HZ10: ='[1]9月②'!PE10 -> 0 | IA10: ='[1]9月②'!PF10 -> 0 | IB10: ='[1]9月②'!PH10 -> 0 | IC10: ='[1]9月②'!PP10 -> 0 | ID10: ='[1]9月②'!PQ10 -> 0 | IE10: ='[1]9月②'!PS10 -> 0 | IF10: ='[1]9月③'!C10 -> 0 | IG10: ='[1]9月③'!D10 -> 0 | IH10: ='[1]9月③'!F10 -> 0 | II10: ='[1]9月③'!N10 -> 0 | IJ10: ='[1]9月③'!O10 -> 0 | IK10: ='[1]9月③'!Q10 -> 0 | IL10: ='[1]9月③'!Y10 -> 0 | IM10: ='[1]9月③'!Z10 -> 0 | IN10: ='[1]9月③'!AB10 -> 0 | IO10: ='[1]9月③'!AJ10 -> 0 | IP10: ='[1]9月③'!AK10 -> 0 | IQ10: ='[1]9月③'!AM10 -> 0 | IR10: ='[1]9月③'!AU10 -> 0 | IS10: ='[1]9月③'!AV10 -> 0 | IT10: ='[1]9月③'!AX10 -> 0 | IU10: ='[1]9月③'!BF10 -> 0 | IV10: ='[1]9月③'!BG10 -> 0 | IW10: ='[1]9月③'!BI10 -> 0 | IX10: ='[1]9月③'!BQ10 -> 0 | IY10: ='[1]9月③'!BR10 -> 0 | IZ10: ='[1]9月③'!BT10 -> 0 | JA10: ='[1]9月③'!CB10 -> 0 | JB10: ='[1]9月③'!CC10 -> 0 | JC10: ='[1]9月③'!CE10 -> 0 | JD10: ='[1]9月③'!CM10 -> 0 | JE10: ='[1]9月③'!CN10 -> 0 | JF10: ='[1]9月③'!CP10 -> 0 | JG10: ='[1]9月③'!CX10 -> 0 | JH10: ='[1]9月③'!CY10 -> 0 | JI10: ='[1]9月③'!DA10 -> 0 | JJ10: ='[1]9月③'!DI10 -> 0 | JK10: ='[1]9月③'!DJ10 -> 0 | JL10: ='[1]9月③'!DL10 -> 0 | JM10: ='[1]9月③'!DT10 -> 0 | JN10: ='[1]9月③'!DU10 -> 0 | JO10: ='[1]9月③'!DW10 -> 0 | JP10: ='[1]9月③'!EE10 -> 0 | JQ10: ='[1]9月③'!EF10 -> 0 | JR10: ='[1]9月③'!EH10 -> 0 | JS10: ='[1]9月③'!ER10 -> 0 | JT10: ='[1]9月③'!EQ10 -> 0 | JU10: ='[1]9月③'!ES10 -> 0 | JV10: ='[1]9月③'!FA10 -> 0 | JW10: ='[1]9月③'!FB10 -> 0 | JX10: ='[1]9月③'!FD10 -> 0 | JY10: ='[1]9月③'!FL10 -> 0 | JZ10: ='[1]9月③'!FM10 -> 0 | KA10: ='[1]9月③'!FO10 -> 0 | KB10: ='[1]9月③'!FW10 -> 0 | KC10: ='[1]9月③'!FX10 -> 0 | KD10: ='[1]9月③'!FZ10 -> 0 | KE10: ='[1]9月③'!GH10 -> 0 | KF10: ='[1]9月③'!GI10 -> 0 | KG10: ='[1]9月③'!GK10 -> 0 | KH10: ='[1]9月③'!GS10 -> 0 | KI10: ='[1]9月③'!GT10 -> 0 | KJ10: ='[1]9月③'!GV10 -> 0 | KK10: ='[1]9月③'!HD10 -> 0 | KL10: ='[1]9月③'!HE10 -> 0 | KM10: ='[1]9月③'!HG10 -> 0 | KN10: ='[1]9月③'!HO10 -> 0 | KO10: ='[1]9月③'!HP10 -> 0 | KP10: ='[1]9月③'!HR10 -> 0 | KQ10: ='[1]9月③'!HZ10 -> 0 | KR10: ='[1]9月③'!IA10 -> 0 | KS10: ='[1]9月③'!IC10 -> 0 | KT10: ='[1]9月③'!IK10 -> 0 | KU10: ='[1]9月③'!IL10 -> 0 | KV10: ='[1]9月③'!IN10 -> 0 | KW10: ='[1]9月③'!IV10 -> 0 | KX10: ='[1]9月③'!IW10 -> 0 | KY10: ='[1]9月③'!IY10 -> 0 | KZ10: ='[1]9月③'!JG10 -> 0 | LA10: ='[1]9月③'!JH10 -> 0 | LB10: ='[1]9月③'!JJ10 -> 0 | LC10: ='[1]9月③'!JR10 -> 0 | LD10: ='[1]9月③'!JS10 -> 0 | LE10: ='[1]9月③'!JU10 -> 0 | LF10: ='[1]9月③'!KC10 -> 0 | LG10: ='[1]9月③'!KD10 -> 0 | LH10: ='[1]9月③'!KF10 -> 0 | LI10: ='[1]9月③'!KN10 -> 0 | LJ10: ='[1]9月③'!KO10 -> 0 | LK10: ='[1]9月③'!KQ10 -> 0 | LL10: ='[1]9月③'!KY10 -> 0 | LM10: ='[1]9月③'!KZ10 -> 0 | LN10: ='[1]9月③'!LB10 -> 0 | LO10: ='[1]9月③'!LJ10 -> 0 | LP10: ='[1]9月③'!LK10 -> 0 | LQ10: ='[1]9月③'!LM10 -> 0 | LR10: ='[1]9月③'!LU10 -> 0 | LS10: ='[1]9月③'!LV10 -> 0 | LT10: ='[1]9月③'!LX10 -> 0 | LU10: ='[1]9月③'!MF10 -> 0 | LV10: ='[1]9月③'!MG10 -> 0 | LW10: ='[1]9月③'!MI10 -> 0 | LX10: ='[1]9月③'!MQ10 -> 0 | LY10: ='[1]9月③'!MR10 -> 0 | LZ10: ='[1]9月③'!MT10 -> 0 | MA10: ='[1]9月③'!NB10 -> 0 | MB10: ='[1]9月③'!NC10 -> 0 | MC10: ='[1]9月③'!NE10 -> 0 | MD10: ='[1]9月③'!NM10 -> 0 | ME10: ='[1]9月③'!NN10 -> 0 | MF10: ='[1]9月③'!NP10 -> 0 | MG10: ='[1]9月③'!NX10 -> 0 | MH10: ='[1]9月③'!NY10 -> 0 | MI10: ='[1]9月③'!OA10 -> 0 | MJ10: ='[1]9月③'!OI10 -> 0 | MK10: ='[1]9月③'!OT10 -> 0 | ML10: ='[1]9月③'!OL10 -> 0 | MM10: ='[1]9月③'!LT10 -> 0 | MN10: ='[1]9月③'!LU10 -> 0 | MO10: ='[1]9月③'!LW10 -> 0 | MP10: ='[1]9月③'!PE10 -> 0 | MQ10: ='[1]9月③'!PF10 -> 0 | MR10: ='[1]9月③'!PH10 -> 0 | MS10: ='[1]9月③'!PP10 -> 0 | MT10: ='[1]9月③'!PQ10 -> 0 | MU10: ='[1]9月③'!PS10 -> 0 | MV10: ='[1]9月③'!QA10 -> 0 | MW10: ='[1]9月③'!QB10 -> 0 | MX10: ='[1]9月③'!QD10 -> 0 | MY10: ='[1]9月③'!QL10 -> 0 | MZ10: ='[1]9月③'!QM10 -> 0 | NA10: ='[1]9月③'!QO10 -> 0 | NB10: ='[1]9月③'!QW10 -> 0 | NC10: ='[1]9月③'!QX10 -> 0 | ND10: ='[1]9月③'!QZ10 -> 0 | NE10: ='[1]9月③'!RH10 -> 0 | NF10: ='[1]9月③'!RI10 -> 0 | NG10: ='[1]9月③'!RK10 -> 0 | NH10: ='[1]9月③'!RS10 -> 0 | NI10: ='[1]9月③'!RT10 -> 0 | NJ10: ='[1]9月③'!RV10 -> 0 | NK10: ='[1]9月③'!SD10 -> 0 | NL10: ='[1]9月③'!SE10 -> 0 | NM10: ='[1]9月③'!SG10 -> 0 | NN10: ='[1]9月③'!SO10 -> 0 | NO10: ='[1]9月③'!SP10 -> 0 | NP10: ='[1]9月③'!SR10 -> 0 | NQ10: ='[1]9月③'!SZ10 -> 0 | NR10: ='[1]9月③'!TA10 -> 0 | NS10: ='[1]9月③'!TC10 -> 0 | NT10: ='[1]9月③'!TK10 -> 0 | NU10: ='[1]9月③'!TL10 -> 0 | NV10: ='[1]9月③'!TN10 -> 0 | NW10: ='[1]9月③'!TV10 -> 0 | NX10: ='[1]9月③'!TW10 -> 0 | NY10: ='[1]9月③'!TY10 -> 0 | NZ10: ='[1]9月③'!UG10 -> 0 | OA10: ='[1]9月③'!UH10 -> 0 | OB10: ='[1]9月③'!UJ10 -> 0
A11: 07 | B11: 福 島 | C11: ='[1]9月①'!C11 -> 0 | D11: ='[1]9月①'!D11 -> 0 | E11: ='[1]9月①'!F11 -> 0 | F11: ='[1]9月①'!N11 -> 0 | G11: ='[1]9月①'!O11 -> 0 | H11: ='[1]9月①'!Q11 -> 0 | I11: ='[1]9月①'!Y11 -> 0 | J11: ='[1]9月①'!Z11 -> 0 | K11: ='[1]9月①'!AB11 -> 0 | L11: ='[1]9月①'!AJ11 -> 0 | M11: ='[1]9月①'!AK11 -> 0 | N11: ='[1]9月①'!AM11 -> 0 | O11: ='[1]9月①'!AU11 -> 0 | P11: ='[1]9月①'!AV11 -> 0 | Q11: ='[1]9月①'!AX11 -> 0 | R11: ='[1]9月①'!BF11 -> 0 | S11: ='[1]9月①'!BG11 -> 0 | T11: ='[1]9月①'!BI11 -> 0 | U11: ='[1]9月①'!BQ11 -> 0 | V11: ='[1]9月①'!BR11 -> 0 | W11: ='[1]9月①'!BT11 -> 0 | X11: ='[1]9月①'!CB11 -> 0 | Y11: ='[1]9月①'!CC11 -> 0 | Z11: ='[1]9月①'!CE11 -> 0 | AA11: ='[1]9月①'!CM11 -> 0 | AB11: ='[1]9月①'!CN11 -> 0 | AC11: ='[1]9月①'!CP11 -> 0 | AD11: ='[1]9月①'!CX11 -> 0 | AE11: ='[1]9月①'!CY11 -> 0 | AF11: ='[1]9月①'!DA11 -> 0 | AG11: ='[1]9月①'!DI11 -> 0 | AH11: ='[1]9月①'!DJ11 -> 0 | AI11: ='[1]9月①'!DL11 -> 0 | AJ11: ='[1]9月①'!DT11 -> 0 | AK11: ='[1]9月①'!DU11 -> 0 | AL11: ='[1]9月①'!DW11 -> 0 | AM11: ='[1]9月①'!EE11 -> 0 | AN11: ='[1]9月①'!EF11 -> 0 | AO11: ='[1]9月①'!EH11 -> 0 | AP11: ='[1]9月①'!EP11 -> 0 | AQ11: ='[1]9月①'!EQ11 -> 0 | AR11: ='[1]9月①'!ES11 -> 0 | AS11: ='[1]9月①'!FA11 -> 0 | AT11: ='[1]9月①'!FB11 -> 0 | AU11: ='[1]9月①'!FD11 -> 0 | AV11: ='[1]9月①'!FL11 -> 0 | AW11: ='[1]9月①'!FM11 -> 0 | AX11: ='[1]9月①'!FO11 -> 0 | AY11: ='[1]9月①'!FW11 -> 0 | AZ11: ='[1]9月①'!FX11 -> 0 | BA11: ='[1]9月①'!FZ11 -> 0 | BB11: ='[1]9月①'!GH11 -> 0 | BC11: ='[1]9月①'!GI11 -> 0 | BD11: ='[1]9月①'!GK11 -> 0 | BE11: ='[1]9月①'!GS11 -> 0 | BF11: ='[1]9月①'!GT11 -> 0 | BG11: ='[1]9月①'!GV11 -> 0 | BH11: ='[1]9月①'!HD11 -> 0 | BI11: ='[1]9月①'!HE11 -> 0 | BJ11: ='[1]9月①'!HG11 -> 0 | BK11: ='[1]9月①'!HO11 -> 0 | BL11: ='[1]9月①'!HP11 -> 0 | BM11: ='[1]9月①'!HR11 -> 0 | BN11: ='[1]9月①'!HZ11 -> 0 | BO11: ='[1]9月①'!IA11 -> 0 | BP11: ='[1]9月①'!IC11 -> 0 | BQ11: ='[1]9月①'!IK11 -> 0 | BR11: ='[1]9月①'!IL11 -> 0 | BS11: ='[1]9月①'!IN11 -> 0 | BT11: ='[1]9月①'!IV11 -> 0 | BU11: ='[1]9月①'!IW11 -> 0 | BV11: ='[1]9月①'!IY11 -> 0 | BW11: ='[1]9月①'!JH11 -> 0 | BX11: ='[1]9月①'!JG11 -> 0 | BY11: ='[1]9月①'!JJ11 -> 0 | BZ11: ='[1]9月①'!JR11 -> 0 | CA11: ='[1]9月①'!JS11 -> 0 | CB11: ='[1]9月①'!JU11 -> 0 | CC11: ='[1]9月①'!KC11 -> 0 | CD11: ='[1]9月①'!KD11 -> 0 | CE11: ='[1]9月①'!KF11 -> 0 | CF11: ='[1]9月①'!KN11 -> 0 | CG11: ='[1]9月①'!KO11 -> 0 | CH11: ='[1]9月①'!KQ11 -> 0 | CI11: ='[1]9月①'!KY11 -> 0 | CJ11: ='[1]9月①'!KZ11 -> 0 | CK11: ='[1]9月①'!LB11 -> 0 | CL11: ='[1]9月①'!LJ11 -> 0 | CM11: ='[1]9月①'!LK11 -> 0 | CN11: ='[1]9月①'!LM11 -> 0 | CO11: ='[1]9月①'!LU11 -> 0 | CP11: ='[1]9月①'!LV11 -> 0 | CQ11: ='[1]9月①'!LX11 -> 0 | CR11: ='[1]9月①'!MF11 -> 0 | CS11: ='[1]9月①'!MG11 -> 0 | CT11: ='[1]9月①'!MI11 -> 0 | CU11: ='[1]9月①'!MQ11 -> 0 | CV11: ='[1]9月①'!MR11 -> 0 | CW11: ='[1]9月①'!MT11 -> 0 | CX11: ='[1]9月①'!NB11 -> 0 | CY11: ='[1]9月①'!NC11 -> 0 | CZ11: ='[1]9月①'!NE11 -> 0 | DA11: ='[1]9月①'!NM11 -> 0 | DB11: ='[1]9月①'!NN11 -> 0 | DC11: ='[1]9月①'!NP11 -> 0 | DD11: ='[1]9月①'!NX11 -> 0 | DE11: ='[1]9月①'!NY11 -> 0 | DF11: ='[1]9月①'!OA11 -> 0 | DG11: ='[1]9月①'!OI11 -> 0 | DH11: ='[1]9月①'!OJ11 -> 0 | DI11: ='[1]9月①'!OL11 -> 0 | DJ11: ='[1]9月①'!OT11 -> 0 | DK11: ='[1]9月①'!OU11 -> 0 | DL11: ='[1]9月①'!OW11 -> 0 | DM11: ='[1]9月①'!PE11 -> 0 | DN11: ='[1]9月①'!PF11 -> 0 | DO11: ='[1]9月①'!PH11 -> 0 | DP11: ='[1]9月②'!C11 -> 0 | DQ11: ='[1]9月②'!D11 -> 0 | DR11: ='[1]9月②'!F11 -> 0 | DS11: ='[1]9月②'!N11 -> 0 | DT11: ='[1]9月②'!O11 -> 0 | DU11: ='[1]9月②'!Q11 -> 0 | DV11: ='[1]9月②'!Y11 -> 0 | DW11: ='[1]9月②'!Z11 -> 0 | DX11: ='[1]9月②'!AB11 -> 0 | DY11: ='[1]9月②'!AJ11 -> 0 | DZ11: ='[1]9月②'!AK11 -> 0 | EA11: ='[1]9月②'!AM11 -> 0 | EB11: ='[1]9月②'!AU11 -> 0 | EC11: ='[1]9月②'!AV11 -> 0 | ED11: ='[1]9月②'!AX11 -> 0 | EE11: ='[1]9月②'!BF11 -> 0 | EF11: ='[1]9月②'!BG11 -> 0 | EG11: ='[1]9月②'!BI11 -> 0 | EH11: ='[1]9月②'!BQ11 -> 0 | EI11: ='[1]9月②'!BR11 -> 0 | EJ11: ='[1]9月②'!BT11 -> 0 | EK11: ='[1]9月②'!CB11 -> 0 | EL11: ='[1]9月②'!CC11 -> 0 | EM11: ='[1]9月②'!CE11 -> 0 | EN11: ='[1]9月②'!CM11 -> 0 | EO11: ='[1]9月②'!CN11 -> 0 | EP11: ='[1]9月②'!CP11 -> 0 | EQ11: ='[1]9月②'!CX11 -> 0 | ER11: ='[1]9月②'!CY11 -> 0 | ES11: ='[1]9月②'!DA11 -> 0 | ET11: ='[1]9月②'!DI11 -> 0 | EU11: ='[1]9月②'!DJ11 -> 0 | EV11: ='[1]9月②'!DL11 -> 0 | EW11: ='[1]9月②'!DT11 -> 0 | EX11: ='[1]9月②'!DU11 -> 0 | EY11: ='[1]9月②'!DW11 -> 0 | EZ11: ='[1]9月②'!EE11 -> 0 | FA11: ='[1]9月②'!EF11 -> 0 | FB11: ='[1]9月②'!EH11 -> 0 | FC11: ='[1]9月②'!EP11 -> 0 | FD11: ='[1]9月②'!EQ11 -> 0 | FE11: ='[1]9月②'!ES11 -> 0 | FF11: ='[1]9月②'!FA11 -> 0 | FG11: ='[1]9月②'!FB11 -> 0 | FH11: ='[1]9月②'!FD11 -> 0 | FI11: ='[1]9月②'!FL11 -> 0 | FJ11: ='[1]9月②'!FM11 -> 0 | FK11: ='[1]9月②'!FO11 -> 0 | FL11: ='[1]9月②'!FW11 -> 0 | FM11: ='[1]9月②'!FX11 -> 0 | FN11: ='[1]9月②'!FZ11 -> 0 | FO11: ='[1]9月②'!GH11 -> 0 | FP11: ='[1]9月②'!GI11 -> 0 | FQ11: ='[1]9月②'!GK11 -> 0 | FR11: ='[1]9月②'!GS11 -> 0 | FS11: ='[1]9月②'!GT11 -> 0 | FT11: ='[1]9月②'!GV11 -> 0 | FU11: ='[1]9月②'!HD11 -> 0 | FV11: ='[1]9月②'!HE11 -> 0 | FW11: ='[1]9月②'!HG11 -> 0 | FX11: ='[1]9月②'!HO11 -> 0 | FY11: ='[1]9月②'!HP11 -> 0 | FZ11: ='[1]9月②'!HR11 -> 0 | GA11: ='[1]9月②'!HZ11 -> 0 | GB11: ='[1]9月②'!IA11 -> 0 | GC11: ='[1]9月②'!IC11 -> 0 | GD11: ='[1]9月②'!IK11 -> 0 | GE11: ='[1]9月②'!IL11 -> 0 | GF11: ='[1]9月②'!IN11 -> 0 | GG11: ='[1]9月②'!IV11 -> 0 | GH11: ='[1]9月②'!IW11 -> 0 | GI11: ='[1]9月②'!IY11 -> 0 | GJ11: ='[1]9月②'!JG11 -> 0 | GK11: ='[1]9月②'!JH11 -> 0 | GL11: ='[1]9月②'!JJ11 -> 0 | GM11: ='[1]9月②'!JR11 -> 0 | GN11: ='[1]9月②'!JS11 -> 0 | GO11: ='[1]9月②'!JV11 -> 0 | GP11: ='[1]9月②'!KC11 -> 0 | GQ11: ='[1]9月②'!KD11 -> 0 | GR11: ='[1]9月②'!KF11 -> 0 | GS11: ='[1]9月②'!KN11 -> 0 | GT11: ='[1]9月②'!KO11 -> 0 | GU11: ='[1]9月②'!KQ11 -> 0 | GV11: ='[1]9月②'!KY11 -> 0 | GW11: ='[1]9月②'!KZ11 -> 0 | GX11: ='[1]9月②'!LB11 -> 0 | GY11: ='[1]9月②'!LI11 -> 0 | GZ11: ='[1]9月②'!LK11 -> 0 | HA11: ='[1]9月②'!LM11 -> 0 | HB11: ='[1]9月②'!LU11 -> 0 | HC11: ='[1]9月②'!LV11 -> 0 | HD11: ='[1]9月②'!LX11 -> 0 | HE11: ='[1]9月②'!MF11 -> 0 | HF11: ='[1]9月②'!MG11 -> 0 | HG11: ='[1]9月②'!MI11 -> 0 | HH11: ='[1]9月②'!MQ11 -> 0 | HI11: ='[1]9月②'!MR11 -> 0 | HJ11: ='[1]9月②'!MT11 -> 0 | HK11: ='[1]9月②'!NB11 -> 0 | HL11: ='[1]9月②'!NC11 -> 0 | HM11: ='[1]9月②'!NE11 -> 0 | HN11: ='[1]9月②'!NM11 -> 0 | HO11: ='[1]9月②'!NN11 -> 0 | HP11: ='[1]9月②'!NP11 -> 0 | HQ11: ='[1]9月②'!NX11 -> 0 | HR11: ='[1]9月②'!NY11 -> 0 | HS11: ='[1]9月②'!OA11 -> 0 | HT11: ='[1]9月②'!OI11 -> 0 | HU11: ='[1]9月②'!OJ11 -> 0 | HV11: ='[1]9月②'!OL11 -> 0 | HW11: ='[1]9月②'!OT11 -> 0 | HX11: ='[1]9月②'!OU11 -> 0 | HY11: ='[1]9月②'!OW11 -> 0 | HZ11: ='[1]9月②'!PE11 -> 0 | IA11: ='[1]9月②'!PF11 -> 0 | IB11: ='[1]9月②'!PH11 -> 0 | IC11: ='[1]9月②'!PP11 -> 0 | ID11: ='[1]9月②'!PQ11 -> 0 | IE11: ='[1]9月②'!PS11 -> 0 | IF11: ='[1]9月③'!C11 -> 0 | IG11: ='[1]9月③'!D11 -> 0 | IH11: ='[1]9月③'!F11 -> 0 | II11: ='[1]9月③'!N11 -> 0 | IJ11: ='[1]9月③'!O11 -> 0 | IK11: ='[1]9月③'!Q11 -> 0 | IL11: ='[1]9月③'!Y11 -> 0 | IM11: ='[1]9月③'!Z11 -> 0 | IN11: ='[1]9月③'!AB11 -> 0 | IO11: ='[1]9月③'!AJ11 -> 0 | IP11: ='[1]9月③'!AK11 -> 0 | IQ11: ='[1]9月③'!AM11 -> 0 | IR11: ='[1]9月③'!AU11 -> 0 | IS11: ='[1]9月③'!AV11 -> 0 | IT11: ='[1]9月③'!AX11 -> 0 | IU11: ='[1]9月③'!BF11 -> 0 | IV11: ='[1]9月③'!BG11 -> 0 | IW11: ='[1]9月③'!BI11 -> 0 | IX11: ='[1]9月③'!BQ11 -> 0 | IY11: ='[1]9月③'!BR11 -> 0 | IZ11: ='[1]9月③'!BT11 -> 0 | JA11: ='[1]9月③'!CB11 -> 0 | JB11: ='[1]9月③'!CC11 -> 0 | JC11: ='[1]9月③'!CE11 -> 0 | JD11: ='[1]9月③'!CM11 -> 0 | JE11: ='[1]9月③'!CN11 -> 0 | JF11: ='[1]9月③'!CP11 -> 0 | JG11: ='[1]9月③'!CX11 -> 0 | JH11: ='[1]9月③'!CY11 -> 0 | JI11: ='[1]9月③'!DA11 -> 0 | JJ11: ='[1]9月③'!DI11 -> 0 | JK11: ='[1]9月③'!DJ11 -> 0 | JL11: ='[1]9月③'!DL11 -> 0 | JM11: ='[1]9月③'!DT11 -> 0 | JN11: ='[1]9月③'!DU11 -> 0 | JO11: ='[1]9月③'!DW11 -> 0 | JP11: ='[1]9月③'!EE11 -> 0 | JQ11: ='[1]9月③'!EF11 -> 0 | JR11: ='[1]9月③'!EH11 -> 0 | JS11: ='[1]9月③'!ER11 -> 0 | JT11: ='[1]9月③'!EQ11 -> 0 | JU11: ='[1]9月③'!ES11 -> 0 | JV11: ='[1]9月③'!FA11 -> 0 | JW11: ='[1]9月③'!FB11 -> 0 | JX11: ='[1]9月③'!FD11 -> 0 | JY11: ='[1]9月③'!FL11 -> 0 | JZ11: ='[1]9月③'!FM11 -> 0 | KA11: ='[1]9月③'!FO11 -> 0 | KB11: ='[1]9月③'!FW11 -> 0 | KC11: ='[1]9月③'!FX11 -> 0 | KD11: ='[1]9月③'!FZ11 -> 0 | KE11: ='[1]9月③'!GH11 -> 0 | KF11: ='[1]9月③'!GI11 -> 0 | KG11: ='[1]9月③'!GK11 -> 0 | KH11: ='[1]9月③'!GS11 -> 0 | KI11: ='[1]9月③'!GT11 -> 0 | KJ11: ='[1]9月③'!GV11 -> 0 | KK11: ='[1]9月③'!HD11 -> 0 | KL11: ='[1]9月③'!HE11 -> 0 | KM11: ='[1]9月③'!HG11 -> 0 | KN11: ='[1]9月③'!HO11 -> 0 | KO11: ='[1]9月③'!HP11 -> 0 | KP11: ='[1]9月③'!HR11 -> 0 | KQ11: ='[1]9月③'!HZ11 -> 0 | KR11: ='[1]9月③'!IA11 -> 0 | KS11: ='[1]9月③'!IC11 -> 0 | KT11: ='[1]9月③'!IK11 -> 0 | KU11: ='[1]9月③'!IL11 -> 0 | KV11: ='[1]9月③'!IN11 -> 0 | KW11: ='[1]9月③'!IV11 -> 0 | KX11: ='[1]9月③'!IW11 -> 0 | KY11: ='[1]9月③'!IY11 -> 0 | KZ11: ='[1]9月③'!JG11 -> 0 | LA11: ='[1]9月③'!JH11 -> 0 | LB11: ='[1]9月③'!JJ11 -> 0 | LC11: ='[1]9月③'!JR11 -> 0 | LD11: ='[1]9月③'!JS11 -> 0 | LE11: ='[1]9月③'!JU11 -> 0 | LF11: ='[1]9月③'!KC11 -> 0 | LG11: ='[1]9月③'!KD11 -> 0 | LH11: ='[1]9月③'!KF11 -> 0 | LI11: ='[1]9月③'!KN11 -> 0 | LJ11: ='[1]9月③'!KO11 -> 0 | LK11: ='[1]9月③'!KQ11 -> 0 | LL11: ='[1]9月③'!KY11 -> 0 | LM11: ='[1]9月③'!KZ11 -> 0 | LN11: ='[1]9月③'!LB11 -> 0 | LO11: ='[1]9月③'!LJ11 -> 0 | LP11: ='[1]9月③'!LK11 -> 0 | LQ11: ='[1]9月③'!LM11 -> 0 | LR11: ='[1]9月③'!LU11 -> 0 | LS11: ='[1]9月③'!LV11 -> 0 | LT11: ='[1]9月③'!LX11 -> 0 | LU11: ='[1]9月③'!MF11 -> 0 | LV11: ='[1]9月③'!MG11 -> 0 | LW11: ='[1]9月③'!MI11 -> 0 | LX11: ='[1]9月③'!MQ11 -> 0 | LY11: ='[1]9月③'!MR11 -> 0 | LZ11: ='[1]9月③'!MT11 -> 0 | MA11: ='[1]9月③'!NB11 -> 0 | MB11: ='[1]9月③'!NC11 -> 0 | MC11: ='[1]9月③'!NE11 -> 0 | MD11: ='[1]9月③'!NM11 -> 0 | ME11: ='[1]9月③'!NN11 -> 0 | MF11: ='[1]9月③'!NP11 -> 0 | MG11: ='[1]9月③'!NX11 -> 0 | MH11: ='[1]9月③'!NY11 -> 0 | MI11: ='[1]9月③'!OA11 -> 0 | MJ11: ='[1]9月③'!OI11 -> 0 | MK11: ='[1]9月③'!OT11 -> 0 | ML11: ='[1]9月③'!OL11 -> 0 | MM11: ='[1]9月③'!LT11 -> 0 | MN11: ='[1]9月③'!LU11 -> 0 | MO11: ='[1]9月③'!LW11 -> 0 | MP11: ='[1]9月③'!PE11 -> 0 | MQ11: ='[1]9月③'!PF11 -> 0 | MR11: ='[1]9月③'!PH11 -> 0 | MS11: ='[1]9月③'!PP11 -> 0 | MT11: ='[1]9月③'!PQ11 -> 0 | MU11: ='[1]9月③'!PS11 -> 0 | MV11: ='[1]9月③'!QA11 -> 0 | MW11: ='[1]9月③'!QB11 -> 0 | MX11: ='[1]9月③'!QD11 -> 0 | MY11: ='[1]9月③'!QL11 -> 0 | MZ11: ='[1]9月③'!QM11 -> 0 | NA11: ='[1]9月③'!QO11 -> 0 | NB11: ='[1]9月③'!QW11 -> 0 | NC11: ='[1]9月③'!QX11 -> 0 | ND11: ='[1]9月③'!QZ11 -> 0 | NE11: ='[1]9月③'!RH11 -> 0 | NF11: ='[1]9月③'!RI11 -> 0 | NG11: ='[1]9月③'!RK11 -> 0 | NH11: ='[1]9月③'!RS11 -> 0 | NI11: ='[1]9月③'!RT11 -> 0 | NJ11: ='[1]9月③'!RV11 -> 0 | NK11: ='[1]9月③'!SD11 -> 0 | NL11: ='[1]9月③'!SE11 -> 0 | NM11: ='[1]9月③'!SG11 -> 0 | NN11: ='[1]9月③'!SO11 -> 0 | NO11: ='[1]9月③'!SP11 -> 0 | NP11: ='[1]9月③'!SR11 -> 0 | NQ11: ='[1]9月③'!SZ11 -> 0 | NR11: ='[1]9月③'!TA11 -> 0 | NS11: ='[1]9月③'!TC11 -> 0 | NT11: ='[1]9月③'!TK11 -> 0 | NU11: ='[1]9月③'!TL11 -> 2 | NV11: ='[1]9月③'!TN11 -> 7 | NW11: ='[1]9月③'!TV11 -> 0 | NX11: ='[1]9月③'!TW11 -> 0 | NY11: ='[1]9月③'!TY11 -> 0 | NZ11: ='[1]9月③'!UG11 -> 0 | OA11: ='[1]9月③'!UH11 -> 0 | OB11: ='[1]9月③'!UJ11 -> 0
A12: 08 | B12: 茨 城 | C12: ='[1]9月①'!C12 -> 0 | D12: ='[1]9月①'!D12 -> 0 | E12: ='[1]9月①'!F12 -> 0 | F12: ='[1]9月①'!N12 -> 0 | G12: ='[1]9月①'!O12 -> 0 | H12: ='[1]9月①'!Q12 -> 0 | I12: ='[1]9月①'!Y12 -> 0 | J12: ='[1]9月①'!Z12 -> 0 | K12: ='[1]9月①'!AB12 -> 0 | L12: ='[1]9月①'!AJ12 -> 0 | M12: ='[1]9月①'!AK12 -> 0 | N12: ='[1]9月①'!AM12 -> 0 | O12: ='[1]9月①'!AU12 -> 0 | P12: ='[1]9月①'!AV12 -> 0 | Q12: ='[1]9月①'!AX12 -> 0 | R12: ='[1]9月①'!BF12 -> 0 | S12: ='[1]9月①'!BG12 -> 0 | T12: ='[1]9月①'!BI12 -> 0 | U12: ='[1]9月①'!BQ12 -> 0 | V12: ='[1]9月①'!BR12 -> 0 | W12: ='[1]9月①'!BT12 -> 0 | X12: ='[1]9月①'!CB12 -> 0 | Y12: ='[1]9月①'!CC12 -> 0 | Z12: ='[1]9月①'!CE12 -> 0 | AA12: ='[1]9月①'!CM12 -> 0 | AB12: ='[1]9月①'!CN12 -> 0 | AC12: ='[1]9月①'!CP12 -> 0 | AD12: ='[1]9月①'!CX12 -> 0 | AE12: ='[1]9月①'!CY12 -> 0 | AF12: ='[1]9月①'!DA12 -> 0 | AG12: ='[1]9月①'!DI12 -> 0 | AH12: ='[1]9月①'!DJ12 -> 0 | AI12: ='[1]9月①'!DL12 -> 0 | AJ12: ='[1]9月①'!DT12 -> 0 | AK12: ='[1]9月①'!DU12 -> 0 | AL12: ='[1]9月①'!DW12 -> 0 | AM12: ='[1]9月①'!EE12 -> 0 | AN12: ='[1]9月①'!EF12 -> 0 | AO12: ='[1]9月①'!EH12 -> 0 | AP12: ='[1]9月①'!EP12 -> 0 | AQ12: ='[1]9月①'!EQ12 -> 0 | AR12: ='[1]9月①'!ES12 -> 0 | AS12: ='[1]9月①'!FA12 -> 0 | AT12: ='[1]9月①'!FB12 -> 0 | AU12: ='[1]9月①'!FD12 -> 0 | AV12: ='[1]9月①'!FL12 -> 0 | AW12: ='[1]9月①'!FM12 -> 0 | AX12: ='[1]9月①'!FO12 -> 0 | AY12: ='[1]9月①'!FW12 -> 0 | AZ12: ='[1]9月①'!FX12 -> 0 | BA12: ='[1]9月①'!FZ12 -> 0 | BB12: ='[1]9月①'!GH12 -> 0 | BC12: ='[1]9月①'!GI12 -> 0 | BD12: ='[1]9月①'!GK12 -> 0 | BE12: ='[1]9月①'!GS12 -> 0 | BF12: ='[1]9月①'!GT12 -> 0 | BG12: ='[1]9月①'!GV12 -> 0 | BH12: ='[1]9月①'!HD12 -> 0 | BI12: ='[1]9月①'!HE12 -> 0 | BJ12: ='[1]9月①'!HG12 -> 0 | BK12: ='[1]9月①'!HO12 -> 0 | BL12: ='[1]9月①'!HP12 -> 0 | BM12: ='[1]9月①'!HR12 -> 0 | BN12: ='[1]9月①'!HZ12 -> 0 | BO12: ='[1]9月①'!IA12 -> 0 | BP12: ='[1]9月①'!IC12 -> 0 | BQ12: ='[1]9月①'!IK12 -> 0 | BR12: ='[1]9月①'!IL12 -> 0 | BS12: ='[1]9月①'!IN12 -> 0 | BT12: ='[1]9月①'!IV12 -> 0 | BU12: ='[1]9月①'!IW12 -> 0 | BV12: ='[1]9月①'!IY12 -> 0 | BW12: ='[1]9月①'!JH12 -> 0 | BX12: ='[1]9月①'!JG12 -> 0 | BY12: ='[1]9月①'!JJ12 -> 0 | BZ12: ='[1]9月①'!JR12 -> 0 | CA12: ='[1]9月①'!JS12 -> 0 | CB12: ='[1]9月①'!JU12 -> 0 | CC12: ='[1]9月①'!KC12 -> 0 | CD12: ='[1]9月①'!KD12 -> 0 | CE12: ='[1]9月①'!KF12 -> 0 | CF12: ='[1]9月①'!KN12 -> 0 | CG12: ='[1]9月①'!KO12 -> 0 | CH12: ='[1]9月①'!KQ12 -> 0 | CI12: ='[1]9月①'!KY12 -> 0 | CJ12: ='[1]9月①'!KZ12 -> 0 | CK12: ='[1]9月①'!LB12 -> 0 | CL12: ='[1]9月①'!LJ12 -> 0 | CM12: ='[1]9月①'!LK12 -> 0 | CN12: ='[1]9月①'!LM12 -> 0 | CO12: ='[1]9月①'!LU12 -> 0 | CP12: ='[1]9月①'!LV12 -> 0 | CQ12: ='[1]9月①'!LX12 -> 0 | CR12: ='[1]9月①'!MF12 -> 0 | CS12: ='[1]9月①'!MG12 -> 0 | CT12: ='[1]9月①'!MI12 -> 0 | CU12: ='[1]9月①'!MQ12 -> 0 | CV12: ='[1]9月①'!MR12 -> 0 | CW12: ='[1]9月①'!MT12 -> 0 | CX12: ='[1]9月①'!NB12 -> 0 | CY12: ='[1]9月①'!NC12 -> 0 | CZ12: ='[1]9月①'!NE12 -> 0 | DA12: ='[1]9月①'!NM12 -> 0 | DB12: ='[1]9月①'!NN12 -> 0 | DC12: ='[1]9月①'!NP12 -> 0 | DD12: ='[1]9月①'!NX12 -> 0 | DE12: ='[1]9月①'!NY12 -> 0 | DF12: ='[1]9月①'!OA12 -> 0 | DG12: ='[1]9月①'!OI12 -> 0 | DH12: ='[1]9月①'!OJ12 -> 0 | DI12: ='[1]9月①'!OL12 -> 0 | DJ12: ='[1]9月①'!OT12 -> 0 | DK12: ='[1]9月①'!OU12 -> 0 | DL12: ='[1]9月①'!OW12 -> 0 | DM12: ='[1]9月①'!PE12 -> 0 | DN12: ='[1]9月①'!PF12 -> 0 | DO12: ='[1]9月①'!PH12 -> 0 | DP12: ='[1]9月②'!C12 -> 0 | DQ12: ='[1]9月②'!D12 -> 0 | DR12: ='[1]9月②'!F12 -> 0 | DS12: ='[1]9月②'!N12 -> 0 | DT12: ='[1]9月②'!O12 -> 0 | DU12: ='[1]9月②'!Q12 -> 0 | DV12: ='[1]9月②'!Y12 -> 0 | DW12: ='[1]9月②'!Z12 -> 0 | DX12: ='[1]9月②'!AB12 -> 0 | DY12: ='[1]9月②'!AJ12 -> 0 | DZ12: ='[1]9月②'!AK12 -> 0 | EA12: ='[1]9月②'!AM12 -> 0 | EB12: ='[1]9月②'!AU12 -> 0 | EC12: ='[1]9月②'!AV12 -> 0 | ED12: ='[1]9月②'!AX12 -> 0 | EE12: ='[1]9月②'!BF12 -> 0 | EF12: ='[1]9月②'!BG12 -> 0 | EG12: ='[1]9月②'!BI12 -> 0 | EH12: ='[1]9月②'!BQ12 -> 0 | EI12: ='[1]9月②'!BR12 -> 0 | EJ12: ='[1]9月②'!BT12 -> 0 | EK12: ='[1]9月②'!CB12 -> 0 | EL12: ='[1]9月②'!CC12 -> 0 | EM12: ='[1]9月②'!CE12 -> 0 | EN12: ='[1]9月②'!CM12 -> 0 | EO12: ='[1]9月②'!CN12 -> 0 | EP12: ='[1]9月②'!CP12 -> 0 | EQ12: ='[1]9月②'!CX12 -> 0 | ER12: ='[1]9月②'!CY12 -> 0 | ES12: ='[1]9月②'!DA12 -> 0 | ET12: ='[1]9月②'!DI12 -> 0 | EU12: ='[1]9月②'!DJ12 -> 0 | EV12: ='[1]9月②'!DL12 -> 0 | EW12: ='[1]9月②'!DT12 -> 0 | EX12: ='[1]9月②'!DU12 -> 0 | EY12: ='[1]9月②'!DW12 -> 0 | EZ12: ='[1]9月②'!EE12 -> 0 | FA12: ='[1]9月②'!EF12 -> 0 | FB12: ='[1]9月②'!EH12 -> 0 | FC12: ='[1]9月②'!EP12 -> 0 | FD12: ='[1]9月②'!EQ12 -> 0 | FE12: ='[1]9月②'!ES12 -> 0 | FF12: ='[1]9月②'!FA12 -> 0 | FG12: ='[1]9月②'!FB12 -> 0 | FH12: ='[1]9月②'!FD12 -> 0 | FI12: ='[1]9月②'!FL12 -> 0 | FJ12: ='[1]9月②'!FM12 -> 0 | FK12: ='[1]9月②'!FO12 -> 0 | FL12: ='[1]9月②'!FW12 -> 0 | FM12: ='[1]9月②'!FX12 -> 0 | FN12: ='[1]9月②'!FZ12 -> 0 | FO12: ='[1]9月②'!GH12 -> 0 | FP12: ='[1]9月②'!GI12 -> 0 | FQ12: ='[1]9月②'!GK12 -> 0 | FR12: ='[1]9月②'!GS12 -> 0 | FS12: ='[1]9月②'!GT12 -> 0 | FT12: ='[1]9月②'!GV12 -> 0 | FU12: ='[1]9月②'!HD12 -> 0 | FV12: ='[1]9月②'!HE12 -> 0 | FW12: ='[1]9月②'!HG12 -> 0 | FX12: ='[1]9月②'!HO12 -> 0 | FY12: ='[1]9月②'!HP12 -> 0 | FZ12: ='[1]9月②'!HR12 -> 0 | GA12: ='[1]9月②'!HZ12 -> 0 | GB12: ='[1]9月②'!IA12 -> 0 | GC12: ='[1]9月②'!IC12 -> 0 | GD12: ='[1]9月②'!IK12 -> 0 | GE12: ='[1]9月②'!IL12 -> 0 | GF12: ='[1]9月②'!IN12 -> 0 | GG12: ='[1]9月②'!IV12 -> 0 | GH12: ='[1]9月②'!IW12 -> 0 | GI12: ='[1]9月②'!IY12 -> 0 | GJ12: ='[1]9月②'!JG12 -> 0 | GK12: ='[1]9月②'!JH12 -> 0 | GL12: ='[1]9月②'!JJ12 -> 0 | GM12: ='[1]9月②'!JR12 -> 0 | GN12: ='[1]9月②'!JS12 -> 0 | GO12: ='[1]9月②'!JV12 -> 0 | GP12: ='[1]9月②'!KC12 -> 0 | GQ12: ='[1]9月②'!KD12 -> 0 | GR12: ='[1]9月②'!KF12 -> 0 | GS12: ='[1]9月②'!KN12 -> 0 | GT12: ='[1]9月②'!KO12 -> 0 | GU12: ='[1]9月②'!KQ12 -> 0 | GV12: ='[1]9月②'!KY12 -> 0 | GW12: ='[1]9月②'!KZ12 -> 0 | GX12: ='[1]9月②'!LB12 -> 0 | GY12: ='[1]9月②'!LI12 -> 0 | GZ12: ='[1]9月②'!LK12 -> 0 | HA12: ='[1]9月②'!LM12 -> 0 | HB12: ='[1]9月②'!LU12 -> 0 | HC12: ='[1]9月②'!LV12 -> 0 | HD12: ='[1]9月②'!LX12 -> 0 | HE12: ='[1]9月②'!MF12 -> 0 | HF12: ='[1]9月②'!MG12 -> 0 | HG12: ='[1]9月②'!MI12 -> 0 | HH12: ='[1]9月②'!MQ12 -> 0 | HI12: ='[1]9月②'!MR12 -> 0 | HJ12: ='[1]9月②'!MT12 -> 0 | HK12: ='[1]9月②'!NB12 -> 0 | HL12: ='[1]9月②'!NC12 -> 0 | HM12: ='[1]9月②'!NE12 -> 0 | HN12: ='[1]9月②'!NM12 -> 0 | HO12: ='[1]9月②'!NN12 -> 0 | HP12: ='[1]9月②'!NP12 -> 0 | HQ12: ='[1]9月②'!NX12 -> 0 | HR12: ='[1]9月②'!NY12 -> 0 | HS12: ='[1]9月②'!OA12 -> 0 | HT12: ='[1]9月②'!OI12 -> 0 | HU12: ='[1]9月②'!OJ12 -> 0 | HV12: ='[1]9月②'!OL12 -> 0 | HW12: ='[1]9月②'!OT12 -> 0 | HX12: ='[1]9月②'!OU12 -> 0 | HY12: ='[1]9月②'!OW12 -> 0 | HZ12: ='[1]9月②'!PE12 -> 0 | IA12: ='[1]9月②'!PF12 -> 0 | IB12: ='[1]9月②'!PH12 -> 0 | IC12: ='[1]9月②'!PP12 -> 0 | ID12: ='[1]9月②'!PQ12 -> 0 | IE12: ='[1]9月②'!PS12 -> 0 | IF12: ='[1]9月③'!C12 -> 0 | IG12: ='[1]9月③'!D12 -> 0 | IH12: ='[1]9月③'!F12 -> 0 | II12: ='[1]9月③'!N12 -> 0 | IJ12: ='[1]9月③'!O12 -> 0 | IK12: ='[1]9月③'!Q12 -> 0 | IL12: ='[1]9月③'!Y12 -> 0 | IM12: ='[1]9月③'!Z12 -> 0 | IN12: ='[1]9月③'!AB12 -> 0 | IO12: ='[1]9月③'!AJ12 -> 0 | IP12: ='[1]9月③'!AK12 -> 0 | IQ12: ='[1]9月③'!AM12 -> 0 | IR12: ='[1]9月③'!AU12 -> 0 | IS12: ='[1]9月③'!AV12 -> 0 | IT12: ='[1]9月③'!AX12 -> 0 | IU12: ='[1]9月③'!BF12 -> 0 | IV12: ='[1]9月③'!BG12 -> 0 | IW12: ='[1]9月③'!BI12 -> 0 | IX12: ='[1]9月③'!BQ12 -> 0 | IY12: ='[1]9月③'!BR12 -> 0 | IZ12: ='[1]9月③'!BT12 -> 0 | JA12: ='[1]9月③'!CB12 -> 0 | JB12: ='[1]9月③'!CC12 -> 0 | JC12: ='[1]9月③'!CE12 -> 0 | JD12: ='[1]9月③'!CM12 -> 0 | JE12: ='[1]9月③'!CN12 -> 0 | JF12: ='[1]9月③'!CP12 -> 0 | JG12: ='[1]9月③'!CX12 -> 0 | JH12: ='[1]9月③'!CY12 -> 0 | JI12: ='[1]9月③'!DA12 -> 0 | JJ12: ='[1]9月③'!DI12 -> 0 | JK12: ='[1]9月③'!DJ12 -> 0 | JL12: ='[1]9月③'!DL12 -> 0 | JM12: ='[1]9月③'!DT12 -> 0 | JN12: ='[1]9月③'!DU12 -> 0 | JO12: ='[1]9月③'!DW12 -> 0 | JP12: ='[1]9月③'!EE12 -> 0 | JQ12: ='[1]9月③'!EF12 -> 0 | JR12: ='[1]9月③'!EH12 -> 0 | JS12: ='[1]9月③'!ER12 -> 0 | JT12: ='[1]9月③'!EQ12 -> 0 | JU12: ='[1]9月③'!ES12 -> 0 | JV12: ='[1]9月③'!FA12 -> 0 | JW12: ='[1]9月③'!FB12 -> 0 | JX12: ='[1]9月③'!FD12 -> 0 | JY12: ='[1]9月③'!FL12 -> 0 | JZ12: ='[1]9月③'!FM12 -> 0 | KA12: ='[1]9月③'!FO12 -> 0 | KB12: ='[1]9月③'!FW12 -> 0 | KC12: ='[1]9月③'!FX12 -> 0 | KD12: ='[1]9月③'!FZ12 -> 0 | KE12: ='[1]9月③'!GH12 -> 0 | KF12: ='[1]9月③'!GI12 -> 0 | KG12: ='[1]9月③'!GK12 -> 0 | KH12: ='[1]9月③'!GS12 -> 0 | KI12: ='[1]9月③'!GT12 -> 0 | KJ12: ='[1]9月③'!GV12 -> 0 | KK12: ='[1]9月③'!HD12 -> 0 | KL12: ='[1]9月③'!HE12 -> 0 | KM12: ='[1]9月③'!HG12 -> 0 | KN12: ='[1]9月③'!HO12 -> 0 | KO12: ='[1]9月③'!HP12 -> 0 | KP12: ='[1]9月③'!HR12 -> 0 | KQ12: ='[1]9月③'!HZ12 -> 0 | KR12: ='[1]9月③'!IA12 -> 0 | KS12: ='[1]9月③'!IC12 -> 0 | KT12: ='[1]9月③'!IK12 -> 0 | KU12: ='[1]9月③'!IL12 -> 0 | KV12: ='[1]9月③'!IN12 -> 0 | KW12: ='[1]9月③'!IV12 -> 0 | KX12: ='[1]9月③'!IW12 -> 0 | KY12: ='[1]9月③'!IY12 -> 0 | KZ12: ='[1]9月③'!JG12 -> 0 | LA12: ='[1]9月③'!JH12 -> 0 | LB12: ='[1]9月③'!JJ12 -> 0 | LC12: ='[1]9月③'!JR12 -> 0 | LD12: ='[1]9月③'!JS12 -> 0 | LE12: ='[1]9月③'!JU12 -> 0 | LF12: ='[1]9月③'!KC12 -> 0 | LG12: ='[1]9月③'!KD12 -> 0 | LH12: ='[1]9月③'!KF12 -> 0 | LI12: ='[1]9月③'!KN12 -> 0 | LJ12: ='[1]9月③'!KO12 -> 0 | LK12: ='[1]9月③'!KQ12 -> 0 | LL12: ='[1]9月③'!KY12 -> 0 | LM12: ='[1]9月③'!KZ12 -> 0 | LN12: ='[1]9月③'!LB12 -> 0 | LO12: ='[1]9月③'!LJ12 -> 0 | LP12: ='[1]9月③'!LK12 -> 0 | LQ12: ='[1]9月③'!LM12 -> 0 | LR12: ='[1]9月③'!LU12 -> 0 | LS12: ='[1]9月③'!LV12 -> 0 | LT12: ='[1]9月③'!LX12 -> 0 | LU12: ='[1]9月③'!MF12 -> 0 | LV12: ='[1]9月③'!MG12 -> 0 | LW12: ='[1]9月③'!MI12 -> 0 | LX12: ='[1]9月③'!MQ12 -> 0 | LY12: ='[1]9月③'!MR12 -> 0 | LZ12: ='[1]9月③'!MT12 -> 0 | MA12: ='[1]9月③'!NB12 -> 0 | MB12: ='[1]9月③'!NC12 -> 0 | MC12: ='[1]9月③'!NE12 -> 0 | MD12: ='[1]9月③'!NM12 -> 0 | ME12: ='[1]9月③'!NN12 -> 0 | MF12: ='[1]9月③'!NP12 -> 0 | MG12: ='[1]9月③'!NX12 -> 0 | MH12: ='[1]9月③'!NY12 -> 0 | MI12: ='[1]9月③'!OA12 -> 0 | MJ12: ='[1]9月③'!OI12 -> 0 | MK12: ='[1]9月③'!OT12 -> 0 | ML12: ='[1]9月③'!OL12 -> 0 | MM12: ='[1]9月③'!LT12 -> 0 | MN12: ='[1]9月③'!LU12 -> 0 | MO12: ='[1]9月③'!LW12 -> 0 | MP12: ='[1]9月③'!PE12 -> 0 | MQ12: ='[1]9月③'!PF12 -> 0 | MR12: ='[1]9月③'!PH12 -> 0 | MS12: ='[1]9月③'!PP12 -> 0 | MT12: ='[1]9月③'!PQ12 -> 0 | MU12: ='[1]9月③'!PS12 -> 0 | MV12: ='[1]9月③'!QA12 -> 0 | MW12: ='[1]9月③'!QB12 -> 0 | MX12: ='[1]9月③'!QD12 -> 0 | MY12: ='[1]9月③'!QL12 -> 0 | MZ12: ='[1]9月③'!QM12 -> 0 | NA12: ='[1]9月③'!QO12 -> 0 | NB12: ='[1]9月③'!QW12 -> 0 | NC12: ='[1]9月③'!QX12 -> 0 | ND12: ='[1]9月③'!QZ12 -> 0 | NE12: ='[1]9月③'!RH12 -> 0 | NF12: ='[1]9月③'!RI12 -> 0 | NG12: ='[1]9月③'!RK12 -> 0 | NH12: ='[1]9月③'!RS12 -> 0 | NI12: ='[1]9月③'!RT12 -> 0 | NJ12: ='[1]9月③'!RV12 -> 0 | NK12: ='[1]9月③'!SD12 -> 0 | NL12: ='[1]9月③'!SE12 -> 0 | NM12: ='[1]9月③'!SG12 -> 0 | NN12: ='[1]9月③'!SO12 -> 0 | NO12: ='[1]9月③'!SP12 -> 0 | NP12: ='[1]9月③'!SR12 -> 0 | NQ12: ='[1]9月③'!SZ12 -> 0 | NR12: ='[1]9月③'!TA12 -> 0 | NS12: ='[1]9月③'!TC12 -> 0 | NT12: ='[1]9月③'!TK12 -> 0 | NU12: ='[1]9月③'!TL12 -> 0 | NV12: ='[1]9月③'!TN12 -> 0 | NW12: ='[1]9月③'!TV12 -> 0 | NX12: ='[1]9月③'!TW12 -> 0 | NY12: ='[1]9月③'!TY12 -> 0 | NZ12: ='[1]9月③'!UG12 -> 0 | OA12: ='[1]9月③'!UH12 -> 0 | OB12: ='[1]9月③'!UJ12 -> 0
A13: 09 | B13: 栃 木 | C13: ='[1]9月①'!C13 -> 0 | D13: ='[1]9月①'!D13 -> 0 | E13: ='[1]9月①'!F13 -> 0 | F13: ='[1]9月①'!N13 -> 0 | G13: ='[1]9月①'!O13 -> 0 | H13: ='[1]9月①'!Q13 -> 0 | I13: ='[1]9月①'!Y13 -> 0 | J13: ='[1]9月①'!Z13 -> 0 | K13: ='[1]9月①'!AB13 -> 0 | L13: ='[1]9月①'!AJ13 -> 0 | M13: ='[1]9月①'!AK13 -> 0 | N13: ='[1]9月①'!AM13 -> 0 | O13: ='[1]9月①'!AU13 -> 0 | P13: ='[1]9月①'!AV13 -> 0 | Q13: ='[1]9月①'!AX13 -> 0 | R13: ='[1]9月①'!BF13 -> 0 | S13: ='[1]9月①'!BG13 -> 0 | T13: ='[1]9月①'!BI13 -> 0 | U13: ='[1]9月①'!BQ13 -> 0 | V13: ='[1]9月①'!BR13 -> 0 | W13: ='[1]9月①'!BT13 -> 0 | X13: ='[1]9月①'!CB13 -> 0 | Y13: ='[1]9月①'!CC13 -> 0 | Z13: ='[1]9月①'!CE13 -> 0 | AA13: ='[1]9月①'!CM13 -> 0 | AB13: ='[1]9月①'!CN13 -> 0 | AC13: ='[1]9月①'!CP13 -> 0 | AD13: ='[1]9月①'!CX13 -> 0 | AE13: ='[1]9月①'!CY13 -> 0 | AF13: ='[1]9月①'!DA13 -> 0 | AG13: ='[1]9月①'!DI13 -> 0 | AH13: ='[1]9月①'!DJ13 -> 0 | AI13: ='[1]9月①'!DL13 -> 0 | AJ13: ='[1]9月①'!DT13 -> 0 | AK13: ='[1]9月①'!DU13 -> 0 | AL13: ='[1]9月①'!DW13 -> 0 | AM13: ='[1]9月①'!EE13 -> 0 | AN13: ='[1]9月①'!EF13 -> 0 | AO13: ='[1]9月①'!EH13 -> 0 | AP13: ='[1]9月①'!EP13 -> 0 | AQ13: ='[1]9月①'!EQ13 -> 0 | AR13: ='[1]9月①'!ES13 -> 0 | AS13: ='[1]9月①'!FA13 -> 0 | AT13: ='[1]9月①'!FB13 -> 0 | AU13: ='[1]9月①'!FD13 -> 0 | AV13: ='[1]9月①'!FL13 -> 0 | AW13: ='[1]9月①'!FM13 -> 0 | AX13: ='[1]9月①'!FO13 -> 0 | AY13: ='[1]9月①'!FW13 -> 0 | AZ13: ='[1]9月①'!FX13 -> 0 | BA13: ='[1]9月①'!FZ13 -> 0 | BB13: ='[1]9月①'!GH13 -> 0 | BC13: ='[1]9月①'!GI13 -> 0 | BD13: ='[1]9月①'!GK13 -> 0 | BE13: ='[1]9月①'!GS13 -> 0 | BF13: ='[1]9月①'!GT13 -> 0 | BG13: ='[1]9月①'!GV13 -> 0 | BH13: ='[1]9月①'!HD13 -> 0 | BI13: ='[1]9月①'!HE13 -> 0 | BJ13: ='[1]9月①'!HG13 -> 0 | BK13: ='[1]9月①'!HO13 -> 0 | BL13: ='[1]9月①'!HP13 -> 0 | BM13: ='[1]9月①'!HR13 -> 0 | BN13: ='[1]9月①'!HZ13 -> 0 | BO13: ='[1]9月①'!IA13 -> 0 | BP13: ='[1]9月①'!IC13 -> 0 | BQ13: ='[1]9月①'!IK13 -> 0 | BR13: ='[1]9月①'!IL13 -> 0 | BS13: ='[1]9月①'!IN13 -> 0 | BT13: ='[1]9月①'!IV13 -> 0 | BU13: ='[1]9月①'!IW13 -> 0 | BV13: ='[1]9月①'!IY13 -> 0 | BW13: ='[1]9月①'!JH13 -> 0 | BX13: ='[1]9月①'!JG13 -> 0 | BY13: ='[1]9月①'!JJ13 -> 0 | BZ13: ='[1]9月①'!JR13 -> 0 | CA13: ='[1]9月①'!JS13 -> 0 | CB13: ='[1]9月①'!JU13 -> 0 | CC13: ='[1]9月①'!KC13 -> 0 | CD13: ='[1]9月①'!KD13 -> 0 | CE13: ='[1]9月①'!KF13 -> 0 | CF13: ='[1]9月①'!KN13 -> 0 | CG13: ='[1]9月①'!KO13 -> 0 | CH13: ='[1]9月①'!KQ13 -> 0 | CI13: ='[1]9月①'!KY13 -> 0 | CJ13: ='[1]9月①'!KZ13 -> 0 | CK13: ='[1]9月①'!LB13 -> 0 | CL13: ='[1]9月①'!LJ13 -> 0 | CM13: ='[1]9月①'!LK13 -> 0 | CN13: ='[1]9月①'!LM13 -> 0 | CO13: ='[1]9月①'!LU13 -> 0 | CP13: ='[1]9月①'!LV13 -> 0 | CQ13: ='[1]9月①'!LX13 -> 0 | CR13: ='[1]9月①'!MF13 -> 0 | CS13: ='[1]9月①'!MG13 -> 0 | CT13: ='[1]9月①'!MI13 -> 0 | CU13: ='[1]9月①'!MQ13 -> 0 | CV13: ='[1]9月①'!MR13 -> 0 | CW13: ='[1]9月①'!MT13 -> 0 | CX13: ='[1]9月①'!NB13 -> 0 | CY13: ='[1]9月①'!NC13 -> 0 | CZ13: ='[1]9月①'!NE13 -> 0 | DA13: ='[1]9月①'!NM13 -> 0 | DB13: ='[1]9月①'!NN13 -> 0 | DC13: ='[1]9月①'!NP13 -> 0 | DD13: ='[1]9月①'!NX13 -> 0 | DE13: ='[1]9月①'!NY13 -> 0 | DF13: ='[1]9月①'!OA13 -> 0 | DG13: ='[1]9月①'!OI13 -> 0 | DH13: ='[1]9月①'!OJ13 -> 0 | DI13: ='[1]9月①'!OL13 -> 0 | DJ13: ='[1]9月①'!OT13 -> 0 | DK13: ='[1]9月①'!OU13 -> 0 | DL13: ='[1]9月①'!OW13 -> 0 | DM13: ='[1]9月①'!PE13 -> 0 | DN13: ='[1]9月①'!PF13 -> 0 | DO13: ='[1]9月①'!PH13 -> 0 | DP13: ='[1]9月②'!C13 -> 0 | DQ13: ='[1]9月②'!D13 -> 0 | DR13: ='[1]9月②'!F13 -> 0 | DS13: ='[1]9月②'!N13 -> 0 | DT13: ='[1]9月②'!O13 -> 0 | DU13: ='[1]9月②'!Q13 -> 0 | DV13: ='[1]9月②'!Y13 -> 0 | DW13: ='[1]9月②'!Z13 -> 0 | DX13: ='[1]9月②'!AB13 -> 0 | DY13: ='[1]9月②'!AJ13 -> 0 | DZ13: ='[1]9月②'!AK13 -> 0 | EA13: ='[1]9月②'!AM13 -> 0 | EB13: ='[1]9月②'!AU13 -> 0 | EC13: ='[1]9月②'!AV13 -> 0 | ED13: ='[1]9月②'!AX13 -> 0 | EE13: ='[1]9月②'!BF13 -> 0 | EF13: ='[1]9月②'!BG13 -> 0 | EG13: ='[1]9月②'!BI13 -> 0 | EH13: ='[1]9月②'!BQ13 -> 0 | EI13: ='[1]9月②'!BR13 -> 0 | EJ13: ='[1]9月②'!BT13 -> 0 | EK13: ='[1]9月②'!CB13 -> 0 | EL13: ='[1]9月②'!CC13 -> 0 | EM13: ='[1]9月②'!CE13 -> 0 | EN13: ='[1]9月②'!CM13 -> 0 | EO13: ='[1]9月②'!CN13 -> 0 | EP13: ='[1]9月②'!CP13 -> 0 | EQ13: ='[1]9月②'!CX13 -> 0 | ER13: ='[1]9月②'!CY13 -> 0 | ES13: ='[1]9月②'!DA13 -> 0 | ET13: ='[1]9月②'!DI13 -> 0 | EU13: ='[1]9月②'!DJ13 -> 0 | EV13: ='[1]9月②'!DL13 -> 0 | EW13: ='[1]9月②'!DT13 -> 0 | EX13: ='[1]9月②'!DU13 -> 0 | EY13: ='[1]9月②'!DW13 -> 0 | EZ13: ='[1]9月②'!EE13 -> 0 | FA13: ='[1]9月②'!EF13 -> 0 | FB13: ='[1]9月②'!EH13 -> 0 | FC13: ='[1]9月②'!EP13 -> 0 | FD13: ='[1]9月②'!EQ13 -> 0 | FE13: ='[1]9月②'!ES13 -> 0 | FF13: ='[1]9月②'!FA13 -> 0 | FG13: ='[1]9月②'!FB13 -> 0 | FH13: ='[1]9月②'!FD13 -> 0 | FI13: ='[1]9月②'!FL13 -> 0 | FJ13: ='[1]9月②'!FM13 -> 0 | FK13: ='[1]9月②'!FO13 -> 0 | FL13: ='[1]9月②'!FW13 -> 0 | FM13: ='[1]9月②'!FX13 -> 0 | FN13: ='[1]9月②'!FZ13 -> 0 | FO13: ='[1]9月②'!GH13 -> 0 | FP13: ='[1]9月②'!GI13 -> 0 | FQ13: ='[1]9月②'!GK13 -> 0 | FR13: ='[1]9月②'!GS13 -> 0 | FS13: ='[1]9月②'!GT13 -> 0 | FT13: ='[1]9月②'!GV13 -> 0 | FU13: ='[1]9月②'!HD13 -> 0 | FV13: ='[1]9月②'!HE13 -> 0 | FW13: ='[1]9月②'!HG13 -> 0 | FX13: ='[1]9月②'!HO13 -> 0 | FY13: ='[1]9月②'!HP13 -> 0 | FZ13: ='[1]9月②'!HR13 -> 0 | GA13: ='[1]9月②'!HZ13 -> 0 | GB13: ='[1]9月②'!IA13 -> 0 | GC13: ='[1]9月②'!IC13 -> 0 | GD13: ='[1]9月②'!IK13 -> 0 | GE13: ='[1]9月②'!IL13 -> 0 | GF13: ='[1]9月②'!IN13 -> 0 | GG13: ='[1]9月②'!IV13 -> 0 | GH13: ='[1]9月②'!IW13 -> 0 | GI13: ='[1]9月②'!IY13 -> 0 | GJ13: ='[1]9月②'!JG13 -> 0 | GK13: ='[1]9月②'!JH13 -> 0 | GL13: ='[1]9月②'!JJ13 -> 0 | GM13: ='[1]9月②'!JR13 -> 0 | GN13: ='[1]9月②'!JS13 -> 0 | GO13: ='[1]9月②'!JV13 -> 0 | GP13: ='[1]9月②'!KC13 -> 0 | GQ13: ='[1]9月②'!KD13 -> 0 | GR13: ='[1]9月②'!KF13 -> 0 | GS13: ='[1]9月②'!KN13 -> 0 | GT13: ='[1]9月②'!KO13 -> 0 | GU13: ='[1]9月②'!KQ13 -> 0 | GV13: ='[1]9月②'!KY13 -> 0 | GW13: ='[1]9月②'!KZ13 -> 0 | GX13: ='[1]9月②'!LB13 -> 0 | GY13: ='[1]9月②'!LI13 -> 0 | GZ13: ='[1]9月②'!LK13 -> 0 | HA13: ='[1]9月②'!LM13 -> 0 | HB13: ='[1]9月②'!LU13 -> 0 | HC13: ='[1]9月②'!LV13 -> 0 | HD13: ='[1]9月②'!LX13 -> 0 | HE13: ='[1]9月②'!MF13 -> 1 | HF13: ='[1]9月②'!MG13 -> 0 | HG13: ='[1]9月②'!MI13 -> 1 | HH13: ='[1]9月②'!MQ13 -> 0 | HI13: ='[1]9月②'!MR13 -> 0 | HJ13: ='[1]9月②'!MT13 -> 0 | HK13: ='[1]9月②'!NB13 -> 0 | HL13: ='[1]9月②'!NC13 -> 0 | HM13: ='[1]9月②'!NE13 -> 0 | HN13: ='[1]9月②'!NM13 -> 0 | HO13: ='[1]9月②'!NN13 -> 0 | HP13: ='[1]9月②'!NP13 -> 0 | HQ13: ='[1]9月②'!NX13 -> 0 | HR13: ='[1]9月②'!NY13 -> 0 | HS13: ='[1]9月②'!OA13 -> 0 | HT13: ='[1]9月②'!OI13 -> 0 | HU13: ='[1]9月②'!OJ13 -> 0 | HV13: ='[1]9月②'!OL13 -> 0 | HW13: ='[1]9月②'!OT13 -> 0 | HX13: ='[1]9月②'!OU13 -> 0 | HY13: ='[1]9月②'!OW13 -> 0 | HZ13: ='[1]9月②'!PE13 -> 0 | IA13: ='[1]9月②'!PF13 -> 0 | IB13: ='[1]9月②'!PH13 -> 0 | IC13: ='[1]9月②'!PP13 -> 0 | ID13: ='[1]9月②'!PQ13 -> 0 | IE13: ='[1]9月②'!PS13 -> 0 | IF13: ='[1]9月③'!C13 -> 0 | IG13: ='[1]9月③'!D13 -> 0 | IH13: ='[1]9月③'!F13 -> 0 | II13: ='[1]9月③'!N13 -> 0 | IJ13: ='[1]9月③'!O13 -> 0 | IK13: ='[1]9月③'!Q13 -> 0 | IL13: ='[1]9月③'!Y13 -> 0 | IM13: ='[1]9月③'!Z13 -> 0 | IN13: ='[1]9月③'!AB13 -> 0 | IO13: ='[1]9月③'!AJ13 -> 0 | IP13: ='[1]9月③'!AK13 -> 0 | IQ13: ='[1]9月③'!AM13 -> 0 | IR13: ='[1]9月③'!AU13 -> 0 | IS13: ='[1]9月③'!AV13 -> 0 | IT13: ='[1]9月③'!AX13 -> 0 | IU13: ='[1]9月③'!BF13 -> 0 | IV13: ='[1]9月③'!BG13 -> 0 | IW13: ='[1]9月③'!BI13 -> 0 | IX13: ='[1]9月③'!BQ13 -> 0 | IY13: ='[1]9月③'!BR13 -> 0 | IZ13: ='[1]9月③'!BT13 -> 0 | JA13: ='[1]9月③'!CB13 -> 0 | JB13: ='[1]9月③'!CC13 -> 0 | JC13: ='[1]9月③'!CE13 -> 0 | JD13: ='[1]9月③'!CM13 -> 0 | JE13: ='[1]9月③'!CN13 -> 0 | JF13: ='[1]9月③'!CP13 -> 0 | JG13: ='[1]9月③'!CX13 -> 0 | JH13: ='[1]9月③'!CY13 -> 0 | JI13: ='[1]9月③'!DA13 -> 0 | JJ13: ='[1]9月③'!DI13 -> 0 | JK13: ='[1]9月③'!DJ13 -> 0 | JL13: ='[1]9月③'!DL13 -> 0 | JM13: ='[1]9月③'!DT13 -> 0 | JN13: ='[1]9月③'!DU13 -> 0 | JO13: ='[1]9月③'!DW13 -> 0 | JP13: ='[1]9月③'!EE13 -> 0 | JQ13: ='[1]9月③'!EF13 -> 0 | JR13: ='[1]9月③'!EH13 -> 0 | JS13: ='[1]9月③'!ER13 -> 0 | JT13: ='[1]9月③'!EQ13 -> 0 | JU13: ='[1]9月③'!ES13 -> 0 | JV13: ='[1]9月③'!FA13 -> 0 | JW13: ='[1]9月③'!FB13 -> 0 | JX13: ='[1]9月③'!FD13 -> 0 | JY13: ='[1]9月③'!FL13 -> 0 | JZ13: ='[1]9月③'!FM13 -> 0 | KA13: ='[1]9月③'!FO13 -> 0 | KB13: ='[1]9月③'!FW13 -> 0 | KC13: ='[1]9月③'!FX13 -> 0 | KD13: ='[1]9月③'!FZ13 -> 0 | KE13: ='[1]9月③'!GH13 -> 0 | KF13: ='[1]9月③'!GI13 -> 0 | KG13: ='[1]9月③'!GK13 -> 0 | KH13: ='[1]9月③'!GS13 -> 0 | KI13: ='[1]9月③'!GT13 -> 0 | KJ13: ='[1]9月③'!GV13 -> 0 | KK13: ='[1]9月③'!HD13 -> 0 | KL13: ='[1]9月③'!HE13 -> 0 | KM13: ='[1]9月③'!HG13 -> 0 | KN13: ='[1]9月③'!HO13 -> 0 | KO13: ='[1]9月③'!HP13 -> 0 | KP13: ='[1]9月③'!HR13 -> 0 | KQ13: ='[1]9月③'!HZ13 -> 0 | KR13: ='[1]9月③'!IA13 -> 0 | KS13: ='[1]9月③'!IC13 -> 0 | KT13: ='[1]9月③'!IK13 -> 0 | KU13: ='[1]9月③'!IL13 -> 0 | KV13: ='[1]9月③'!IN13 -> 0 | KW13: ='[1]9月③'!IV13 -> 0 | KX13: ='[1]9月③'!IW13 -> 0 | KY13: ='[1]9月③'!IY13 -> 0 | KZ13: ='[1]9月③'!JG13 -> 0 | LA13: ='[1]9月③'!JH13 -> 0 | LB13: ='[1]9月③'!JJ13 -> 0 | LC13: ='[1]9月③'!JR13 -> 0 | LD13: ='[1]9月③'!JS13 -> 0 | LE13: ='[1]9月③'!JU13 -> 0 | LF13: ='[1]9月③'!KC13 -> 0 | LG13: ='[1]9月③'!KD13 -> 0 | LH13: ='[1]9月③'!KF13 -> 0 | LI13: ='[1]9月③'!KN13 -> 0 | LJ13: ='[1]9月③'!KO13 -> 0 | LK13: ='[1]9月③'!KQ13 -> 0 | LL13: ='[1]9月③'!KY13 -> 0 | LM13: ='[1]9月③'!KZ13 -> 0 | LN13: ='[1]9月③'!LB13 -> 0 | LO13: ='[1]9月③'!LJ13 -> 0 | LP13: ='[1]9月③'!LK13 -> 0 | LQ13: ='[1]9月③'!LM13 -> 0 | LR13: ='[1]9月③'!LU13 -> 0 | LS13: ='[1]9月③'!LV13 -> 0 | LT13: ='[1]9月③'!LX13 -> 0 | LU13: ='[1]9月③'!MF13 -> 0 | LV13: ='[1]9月③'!MG13 -> 0 | LW13: ='[1]9月③'!MI13 -> 0 | LX13: ='[1]9月③'!MQ13 -> 0 | LY13: ='[1]9月③'!MR13 -> 0 | LZ13: ='[1]9月③'!MT13 -> 0 | MA13: ='[1]9月③'!NB13 -> 0 | MB13: ='[1]9月③'!NC13 -> 0 | MC13: ='[1]9月③'!NE13 -> 0 | MD13: ='[1]9月③'!NM13 -> 0 | ME13: ='[1]9月③'!NN13 -> 0 | MF13: ='[1]9月③'!NP13 -> 0 | MG13: ='[1]9月③'!NX13 -> 0 | MH13: ='[1]9月③'!NY13 -> 0 | MI13: ='[1]9月③'!OA13 -> 0 | MJ13: ='[1]9月③'!OI13 -> 0 | MK13: ='[1]9月③'!OT13 -> 0 | ML13: ='[1]9月③'!OL13 -> 0 | MM13: ='[1]9月③'!LT13 -> 0 | MN13: ='[1]9月③'!LU13 -> 0 | MO13: ='[1]9月③'!LW13 -> 0 | MP13: ='[1]9月③'!PE13 -> 0 | MQ13: ='[1]9月③'!PF13 -> 0 | MR13: ='[1]9月③'!PH13 -> 0 | MS13: ='[1]9月③'!PP13 -> 0 | MT13: ='[1]9月③'!PQ13 -> 0 | MU13: ='[1]9月③'!PS13 -> 0 | MV13: ='[1]9月③'!QA13 -> 0 | MW13: ='[1]9月③'!QB13 -> 0 | MX13: ='[1]9月③'!QD13 -> 0 | MY13: ='[1]9月③'!QL13 -> 0 | MZ13: ='[1]9月③'!QM13 -> 0 | NA13: ='[1]9月③'!QO13 -> 0 | NB13: ='[1]9月③'!QW13 -> 0 | NC13: ='[1]9月③'!QX13 -> 0 | ND13: ='[1]9月③'!QZ13 -> 0 | NE13: ='[1]9月③'!RH13 -> 0 | NF13: ='[1]9月③'!RI13 -> 0 | NG13: ='[1]9月③'!RK13 -> 0 | NH13: ='[1]9月③'!RS13 -> 0 | NI13: ='[1]9月③'!RT13 -> 0 | NJ13: ='[1]9月③'!RV13 -> 0 | NK13: ='[1]9月③'!SD13 -> 0 | NL13: ='[1]9月③'!SE13 -> 0 | NM13: ='[1]9月③'!SG13 -> 0 | NN13: ='[1]9月③'!SO13 -> 0 | NO13: ='[1]9月③'!SP13 -> 0 | NP13: ='[1]9月③'!SR13 -> 0 | NQ13: ='[1]9月③'!SZ13 -> 0 | NR13: ='[1]9月③'!TA13 -> 0 | NS13: ='[1]9月③'!TC13 -> 0 | NT13: ='[1]9月③'!TK13 -> 0 | NU13: ='[1]9月③'!TL13 -> 0 | NV13: ='[1]9月③'!TN13 -> 0 | NW13: ='[1]9月③'!TV13 -> 0 | NX13: ='[1]9月③'!TW13 -> 0 | NY13: ='[1]9月③'!TY13 -> 0 | NZ13: ='[1]9月③'!UG13 -> 0 | OA13: ='[1]9月③'!UH13 -> 0 | OB13: ='[1]9月③'!UJ13 -> 0
A14: 10 | B14: 群 馬 | C14: ='[1]9月①'!C14 -> 0 | D14: ='[1]9月①'!D14 -> 0 | E14: ='[1]9月①'!F14 -> 0 | F14: ='[1]9月①'!N14 -> 0 | G14: ='[1]9月①'!O14 -> 0 | H14: ='[1]9月①'!Q14 -> 0 | I14: ='[1]9月①'!Y14 -> 0 | J14: ='[1]9月①'!Z14 -> 0 | K14: ='[1]9月①'!AB14 -> 0 | L14: ='[1]9月①'!AJ14 -> 0 | M14: ='[1]9月①'!AK14 -> 0 | N14: ='[1]9月①'!AM14 -> 0 | O14: ='[1]9月①'!AU14 -> 0 | P14: ='[1]9月①'!AV14 -> 0 | Q14: ='[1]9月①'!AX14 -> 0 | R14: ='[1]9月①'!BF14 -> 0 | S14: ='[1]9月①'!BG14 -> 0 | T14: ='[1]9月①'!BI14 -> 0 | U14: ='[1]9月①'!BQ14 -> 0 | V14: ='[1]9月①'!BR14 -> 0 | W14: ='[1]9月①'!BT14 -> 0 | X14: ='[1]9月①'!CB14 -> 0 | Y14: ='[1]9月①'!CC14 -> 0 | Z14: ='[1]9月①'!CE14 -> 0 | AA14: ='[1]9月①'!CM14 -> 0 | AB14: ='[1]9月①'!CN14 -> 0 | AC14: ='[1]9月①'!CP14 -> 0 | AD14: ='[1]9月①'!CX14 -> 0 | AE14: ='[1]9月①'!CY14 -> 0 | AF14: ='[1]9月①'!DA14 -> 0 | AG14: ='[1]9月①'!DI14 -> 0 | AH14: ='[1]9月①'!DJ14 -> 0 | AI14: ='[1]9月①'!DL14 -> 0 | AJ14: ='[1]9月①'!DT14 -> 0 | AK14: ='[1]9月①'!DU14 -> 0 | AL14: ='[1]9月①'!DW14 -> 0 | AM14: ='[1]9月①'!EE14 -> 0 | AN14: ='[1]9月①'!EF14 -> 0 | AO14: ='[1]9月①'!EH14 -> 0 | AP14: ='[1]9月①'!EP14 -> 0 | AQ14: ='[1]9月①'!EQ14 -> 0 | AR14: ='[1]9月①'!ES14 -> 0 | AS14: ='[1]9月①'!FA14 -> 0 | AT14: ='[1]9月①'!FB14 -> 0 | AU14: ='[1]9月①'!FD14 -> 0 | AV14: ='[1]9月①'!FL14 -> 0 | AW14: ='[1]9月①'!FM14 -> 0 | AX14: ='[1]9月①'!FO14 -> 0 | AY14: ='[1]9月①'!FW14 -> 0 | AZ14: ='[1]9月①'!FX14 -> 0 | BA14: ='[1]9月①'!FZ14 -> 0 | BB14: ='[1]9月①'!GH14 -> 0 | BC14: ='[1]9月①'!GI14 -> 0 | BD14: ='[1]9月①'!GK14 -> 0 | BE14: ='[1]9月①'!GS14 -> 0 | BF14: ='[1]9月①'!GT14 -> 0 | BG14: ='[1]9月①'!GV14 -> 0 | BH14: ='[1]9月①'!HD14 -> 0 | BI14: ='[1]9月①'!HE14 -> 0 | BJ14: ='[1]9月①'!HG14 -> 0 | BK14: ='[1]9月①'!HO14 -> 0 | BL14: ='[1]9月①'!HP14 -> 0 | BM14: ='[1]9月①'!HR14 -> 0 | BN14: ='[1]9月①'!HZ14 -> 0 | BO14: ='[1]9月①'!IA14 -> 0 | BP14: ='[1]9月①'!IC14 -> 0 | BQ14: ='[1]9月①'!IK14 -> 0 | BR14: ='[1]9月①'!IL14 -> 0 | BS14: ='[1]9月①'!IN14 -> 0 | BT14: ='[1]9月①'!IV14 -> 0 | BU14: ='[1]9月①'!IW14 -> 0 | BV14: ='[1]9月①'!IY14 -> 0 | BW14: ='[1]9月①'!JH14 -> 0 | BX14: ='[1]9月①'!JG14 -> 0 | BY14: ='[1]9月①'!JJ14 -> 0 | BZ14: ='[1]9月①'!JR14 -> 0 | CA14: ='[1]9月①'!JS14 -> 0 | CB14: ='[1]9月①'!JU14 -> 0 | CC14: ='[1]9月①'!KC14 -> 0 | CD14: ='[1]9月①'!KD14 -> 0 | CE14: ='[1]9月①'!KF14 -> 0 | CF14: ='[1]9月①'!KN14 -> 0 | CG14: ='[1]9月①'!KO14 -> 0 | CH14: ='[1]9月①'!KQ14 -> 0 | CI14: ='[1]9月①'!KY14 -> 0 | CJ14: ='[1]9月①'!KZ14 -> 0 | CK14: ='[1]9月①'!LB14 -> 0 | CL14: ='[1]9月①'!LJ14 -> 0 | CM14: ='[1]9月①'!LK14 -> 0 | CN14: ='[1]9月①'!LM14 -> 0 | CO14: ='[1]9月①'!LU14 -> 0 | CP14: ='[1]9月①'!LV14 -> 0 | CQ14: ='[1]9月①'!LX14 -> 0 | CR14: ='[1]9月①'!MF14 -> 0 | CS14: ='[1]9月①'!MG14 -> 0 | CT14: ='[1]9月①'!MI14 -> 0 | CU14: ='[1]9月①'!MQ14 -> 0 | CV14: ='[1]9月①'!MR14 -> 0 | CW14: ='[1]9月①'!MT14 -> 0 | CX14: ='[1]9月①'!NB14 -> 0 | CY14: ='[1]9月①'!NC14 -> 0 | CZ14: ='[1]9月①'!NE14 -> 0 | DA14: ='[1]9月①'!NM14 -> 0 | DB14: ='[1]9月①'!NN14 -> 0 | DC14: ='[1]9月①'!NP14 -> 0 | DD14: ='[1]9月①'!NX14 -> 0 | DE14: ='[1]9月①'!NY14 -> 0 | DF14: ='[1]9月①'!OA14 -> 0 | DG14: ='[1]9月①'!OI14 -> 0 | DH14: ='[1]9月①'!OJ14 -> 0 | DI14: ='[1]9月①'!OL14 -> 0 | DJ14: ='[1]9月①'!OT14 -> 0 | DK14: ='[1]9月①'!OU14 -> 0 | DL14: ='[1]9月①'!OW14 -> 0 | DM14: ='[1]9月①'!PE14 -> 0 | DN14: ='[1]9月①'!PF14 -> 0 | DO14: ='[1]9月①'!PH14 -> 0 | DP14: ='[1]9月②'!C14 -> 0 | DQ14: ='[1]9月②'!D14 -> 0 | DR14: ='[1]9月②'!F14 -> 0 | DS14: ='[1]9月②'!N14 -> 0 | DT14: ='[1]9月②'!O14 -> 0 | DU14: ='[1]9月②'!Q14 -> 0 | DV14: ='[1]9月②'!Y14 -> 0 | DW14: ='[1]9月②'!Z14 -> 0 | DX14: ='[1]9月②'!AB14 -> 0 | DY14: ='[1]9月②'!AJ14 -> 0 | DZ14: ='[1]9月②'!AK14 -> 0 | EA14: ='[1]9月②'!AM14 -> 0 | EB14: ='[1]9月②'!AU14 -> 0 | EC14: ='[1]9月②'!AV14 -> 0 | ED14: ='[1]9月②'!AX14 -> 0 | EE14: ='[1]9月②'!BF14 -> 0 | EF14: ='[1]9月②'!BG14 -> 0 | EG14: ='[1]9月②'!BI14 -> 0 | EH14: ='[1]9月②'!BQ14 -> 0 | EI14: ='[1]9月②'!BR14 -> 0 | EJ14: ='[1]9月②'!BT14 -> 0 | EK14: ='[1]9月②'!CB14 -> 0 | EL14: ='[1]9月②'!CC14 -> 0 | EM14: ='[1]9月②'!CE14 -> 0 | EN14: ='[1]9月②'!CM14 -> 0 | EO14: ='[1]9月②'!CN14 -> 0 | EP14: ='[1]9月②'!CP14 -> 0 | EQ14: ='[1]9月②'!CX14 -> 0 | ER14: ='[1]9月②'!CY14 -> 0 | ES14: ='[1]9月②'!DA14 -> 0 | ET14: ='[1]9月②'!DI14 -> 0 | EU14: ='[1]9月②'!DJ14 -> 0 | EV14: ='[1]9月②'!DL14 -> 0 | EW14: ='[1]9月②'!DT14 -> 0 | EX14: ='[1]9月②'!DU14 -> 0 | EY14: ='[1]9月②'!DW14 -> 0 | EZ14: ='[1]9月②'!EE14 -> 0 | FA14: ='[1]9月②'!EF14 -> 0 | FB14: ='[1]9月②'!EH14 -> 0 | FC14: ='[1]9月②'!EP14 -> 0 | FD14: ='[1]9月②'!EQ14 -> 0 | FE14: ='[1]9月②'!ES14 -> 0 | FF14: ='[1]9月②'!FA14 -> 0 | FG14: ='[1]9月②'!FB14 -> 0 | FH14: ='[1]9月②'!FD14 -> 0 | FI14: ='[1]9月②'!FL14 -> 0 | FJ14: ='[1]9月②'!FM14 -> 0 | FK14: ='[1]9月②'!FO14 -> 0 | FL14: ='[1]9月②'!FW14 -> 0 | FM14: ='[1]9月②'!FX14 -> 0 | FN14: ='[1]9月②'!FZ14 -> 0 | FO14: ='[1]9月②'!GH14 -> 0 | FP14: ='[1]9月②'!GI14 -> 0 | FQ14: ='[1]9月②'!GK14 -> 0 | FR14: ='[1]9月②'!GS14 -> 0 | FS14: ='[1]9月②'!GT14 -> 0 | FT14: ='[1]9月②'!GV14 -> 0 | FU14: ='[1]9月②'!HD14 -> 0 | FV14: ='[1]9月②'!HE14 -> 0 | FW14: ='[1]9月②'!HG14 -> 0 | FX14: ='[1]9月②'!HO14 -> 0 | FY14: ='[1]9月②'!HP14 -> 0 | FZ14: ='[1]9月②'!HR14 -> 0 | GA14: ='[1]9月②'!HZ14 -> 0 | GB14: ='[1]9月②'!IA14 -> 0 | GC14: ='[1]9月②'!IC14 -> 0 | GD14: ='[1]9月②'!IK14 -> 0 | GE14: ='[1]9月②'!IL14 -> 0 | GF14: ='[1]9月②'!IN14 -> 0 | GG14: ='[1]9月②'!IV14 -> 0 | GH14: ='[1]9月②'!IW14 -> 0 | GI14: ='[1]9月②'!IY14 -> 0 | GJ14: ='[1]9月②'!JG14 -> 0 | GK14: ='[1]9月②'!JH14 -> 0 | GL14: ='[1]9月②'!JJ14 -> 0 | GM14: ='[1]9月②'!JR14 -> 0 | GN14: ='[1]9月②'!JS14 -> 0 | GO14: ='[1]9月②'!JV14 -> 0 | GP14: ='[1]9月②'!KC14 -> 0 | GQ14: ='[1]9月②'!KD14 -> 0 | GR14: ='[1]9月②'!KF14 -> 0 | GS14: ='[1]9月②'!KN14 -> 0 | GT14: ='[1]9月②'!KO14 -> 0 | GU14: ='[1]9月②'!KQ14 -> 0 | GV14: ='[1]9月②'!KY14 -> 0 | GW14: ='[1]9月②'!KZ14 -> 0 | GX14: ='[1]9月②'!LB14 -> 0 | GY14: ='[1]9月②'!LI14 -> 0 | GZ14: ='[1]9月②'!LK14 -> 0 | HA14: ='[1]9月②'!LM14 -> 0 | HB14: ='[1]9月②'!LU14 -> 0 | HC14: ='[1]9月②'!LV14 -> 0 | HD14: ='[1]9月②'!LX14 -> 0 | HE14: ='[1]9月②'!MF14 -> 0 | HF14: ='[1]9月②'!MG14 -> 0 | HG14: ='[1]9月②'!MI14 -> 0 | HH14: ='[1]9月②'!MQ14 -> 0 | HI14: ='[1]9月②'!MR14 -> 0 | HJ14: ='[1]9月②'!MT14 -> 0 | HK14: ='[1]9月②'!NB14 -> 0 | HL14: ='[1]9月②'!NC14 -> 0 | HM14: ='[1]9月②'!NE14 -> 0 | HN14: ='[1]9月②'!NM14 -> 0 | HO14: ='[1]9月②'!NN14 -> 0 | HP14: ='[1]9月②'!NP14 -> 0 | HQ14: ='[1]9月②'!NX14 -> 0 | HR14: ='[1]9月②'!NY14 -> 0 | HS14: ='[1]9月②'!OA14 -> 0 | HT14: ='[1]9月②'!OI14 -> 0 | HU14: ='[1]9月②'!OJ14 -> 0 | HV14: ='[1]9月②'!OL14 -> 0 | HW14: ='[1]9月②'!OT14 -> 0 | HX14: ='[1]9月②'!OU14 -> 0 | HY14: ='[1]9月②'!OW14 -> 0 | HZ14: ='[1]9月②'!PE14 -> 0 | IA14: ='[1]9月②'!PF14 -> 0 | IB14: ='[1]9月②'!PH14 -> 0 | IC14: ='[1]9月②'!PP14 -> 0 | ID14: ='[1]9月②'!PQ14 -> 0 | IE14: ='[1]9月②'!PS14 -> 0 | IF14: ='[1]9月③'!C14 -> 0 | IG14: ='[1]9月③'!D14 -> 0 | IH14: ='[1]9月③'!F14 -> 0 | II14: ='[1]9月③'!N14 -> 0 | IJ14: ='[1]9月③'!O14 -> 0 | IK14: ='[1]9月③'!Q14 -> 0 | IL14: ='[1]9月③'!Y14 -> 0 | IM14: ='[1]9月③'!Z14 -> 0 | IN14: ='[1]9月③'!AB14 -> 0 | IO14: ='[1]9月③'!AJ14 -> 0 | IP14: ='[1]9月③'!AK14 -> 0 | IQ14: ='[1]9月③'!AM14 -> 0 | IR14: ='[1]9月③'!AU14 -> 0 | IS14: ='[1]9月③'!AV14 -> 0 | IT14: ='[1]9月③'!AX14 -> 0 | IU14: ='[1]9月③'!BF14 -> 0 | IV14: ='[1]9月③'!BG14 -> 0 | IW14: ='[1]9月③'!BI14 -> 0 | IX14: ='[1]9月③'!BQ14 -> 0 | IY14: ='[1]9月③'!BR14 -> 0 | IZ14: ='[1]9月③'!BT14 -> 0 | JA14: ='[1]9月③'!CB14 -> 0 | JB14: ='[1]9月③'!CC14 -> 0 | JC14: ='[1]9月③'!CE14 -> 0 | JD14: ='[1]9月③'!CM14 -> 0 | JE14: ='[1]9月③'!CN14 -> 0 | JF14: ='[1]9月③'!CP14 -> 0 | JG14: ='[1]9月③'!CX14 -> 0 | JH14: ='[1]9月③'!CY14 -> 0 | JI14: ='[1]9月③'!DA14 -> 0 | JJ14: ='[1]9月③'!DI14 -> 0 | JK14: ='[1]9月③'!DJ14 -> 0 | JL14: ='[1]9月③'!DL14 -> 0 | JM14: ='[1]9月③'!DT14 -> 0 | JN14: ='[1]9月③'!DU14 -> 0 | JO14: ='[1]9月③'!DW14 -> 0 | JP14: ='[1]9月③'!EE14 -> 0 | JQ14: ='[1]9月③'!EF14 -> 0 | JR14: ='[1]9月③'!EH14 -> 0 | JS14: ='[1]9月③'!ER14 -> 0 | JT14: ='[1]9月③'!EQ14 -> 0 | JU14: ='[1]9月③'!ES14 -> 0 | JV14: ='[1]9月③'!FA14 -> 0 | JW14: ='[1]9月③'!FB14 -> 0 | JX14: ='[1]9月③'!FD14 -> 0 | JY14: ='[1]9月③'!FL14 -> 0 | JZ14: ='[1]9月③'!FM14 -> 0 | KA14: ='[1]9月③'!FO14 -> 0 | KB14: ='[1]9月③'!FW14 -> 0 | KC14: ='[1]9月③'!FX14 -> 0 | KD14: ='[1]9月③'!FZ14 -> 0 | KE14: ='[1]9月③'!GH14 -> 0 | KF14: ='[1]9月③'!GI14 -> 0 | KG14: ='[1]9月③'!GK14 -> 0 | KH14: ='[1]9月③'!GS14 -> 0 | KI14: ='[1]9月③'!GT14 -> 0 | KJ14: ='[1]9月③'!GV14 -> 0 | KK14: ='[1]9月③'!HD14 -> 0 | KL14: ='[1]9月③'!HE14 -> 0 | KM14: ='[1]9月③'!HG14 -> 0 | KN14: ='[1]9月③'!HO14 -> 0 | KO14: ='[1]9月③'!HP14 -> 0 | KP14: ='[1]9月③'!HR14 -> 0 | KQ14: ='[1]9月③'!HZ14 -> 0 | KR14: ='[1]9月③'!IA14 -> 0 | KS14: ='[1]9月③'!IC14 -> 0 | KT14: ='[1]9月③'!IK14 -> 0 | KU14: ='[1]9月③'!IL14 -> 0 | KV14: ='[1]9月③'!IN14 -> 0 | KW14: ='[1]9月③'!IV14 -> 0 | KX14: ='[1]9月③'!IW14 -> 0 | KY14: ='[1]9月③'!IY14 -> 0 | KZ14: ='[1]9月③'!JG14 -> 0 | LA14: ='[1]9月③'!JH14 -> 0 | LB14: ='[1]9月③'!JJ14 -> 0 | LC14: ='[1]9月③'!JR14 -> 0 | LD14: ='[1]9月③'!JS14 -> 0 | LE14: ='[1]9月③'!JU14 -> 0 | LF14: ='[1]9月③'!KC14 -> 0 | LG14: ='[1]9月③'!KD14 -> 0 | LH14: ='[1]9月③'!KF14 -> 0 | LI14: ='[1]9月③'!KN14 -> 0 | LJ14: ='[1]9月③'!KO14 -> 0 | LK14: ='[1]9月③'!KQ14 -> 0 | LL14: ='[1]9月③'!KY14 -> 0 | LM14: ='[1]9月③'!KZ14 -> 0 | LN14: ='[1]9月③'!LB14 -> 0 | LO14: ='[1]9月③'!LJ14 -> 0 | LP14: ='[1]9月③'!LK14 -> 0 | LQ14: ='[1]9月③'!LM14 -> 0 | LR14: ='[1]9月③'!LU14 -> 0 | LS14: ='[1]9月③'!LV14 -> 0 | LT14: ='[1]9月③'!LX14 -> 0 | LU14: ='[1]9月③'!MF14 -> 0 | LV14: ='[1]9月③'!MG14 -> 0 | LW14: ='[1]9月③'!MI14 -> 0 | LX14: ='[1]9月③'!MQ14 -> 0 | LY14: ='[1]9月③'!MR14 -> 0 | LZ14: ='[1]9月③'!MT14 -> 0 | MA14: ='[1]9月③'!NB14 -> 0 | MB14: ='[1]9月③'!NC14 -> 0 | MC14: ='[1]9月③'!NE14 -> 0 | MD14: ='[1]9月③'!NM14 -> 0 | ME14: ='[1]9月③'!NN14 -> 0 | MF14: ='[1]9月③'!NP14 -> 0 | MG14: ='[1]9月③'!NX14 -> 0 | MH14: ='[1]9月③'!NY14 -> 0 | MI14: ='[1]9月③'!OA14 -> 0 | MJ14: ='[1]9月③'!OI14 -> 0 | MK14: ='[1]9月③'!OT14 -> 0 | ML14: ='[1]9月③'!OL14 -> 0 | MM14: ='[1]9月③'!LT14 -> 0 | MN14: ='[1]9月③'!LU14 -> 0 | MO14: ='[1]9月③'!LW14 -> 0 | MP14: ='[1]9月③'!PE14 -> 0 | MQ14: ='[1]9月③'!PF14 -> 0 | MR14: ='[1]9月③'!PH14 -> 0 | MS14: ='[1]9月③'!PP14 -> 0 | MT14: ='[1]9月③'!PQ14 -> 0 | MU14: ='[1]9月③'!PS14 -> 0 | MV14: ='[1]9月③'!QA14 -> 0 | MW14: ='[1]9月③'!QB14 -> 0 | MX14: ='[1]9月③'!QD14 -> 0 | MY14: ='[1]9月③'!QL14 -> 0 | MZ14: ='[1]9月③'!QM14 -> 0 | NA14: ='[1]9月③'!QO14 -> 0 | NB14: ='[1]9月③'!QW14 -> 0 | NC14: ='[1]9月③'!QX14 -> 0 | ND14: ='[1]9月③'!QZ14 -> 0 | NE14: ='[1]9月③'!RH14 -> 0 | NF14: ='[1]9月③'!RI14 -> 0 | NG14: ='[1]9月③'!RK14 -> 0 | NH14: ='[1]9月③'!RS14 -> 0 | NI14: ='[1]9月③'!RT14 -> 0 | NJ14: ='[1]9月③'!RV14 -> 0 | NK14: ='[1]9月③'!SD14 -> 0 | NL14: ='[1]9月③'!SE14 -> 0 | NM14: ='[1]9月③'!SG14 -> 0 | NN14: ='[1]9月③'!SO14 -> 0 | NO14: ='[1]9月③'!SP14 -> 0 | NP14: ='[1]9月③'!SR14 -> 0 | NQ14: ='[1]9月③'!SZ14 -> 0 | NR14: ='[1]9月③'!TA14 -> 0 | NS14: ='[1]9月③'!TC14 -> 0 | NT14: ='[1]9月③'!TK14 -> 0 | NU14: ='[1]9月③'!TL14 -> 0 | NV14: ='[1]9月③'!TN14 -> 0 | NW14: ='[1]9月③'!TV14 -> 0 | NX14: ='[1]9月③'!TW14 -> 0 | NY14: ='[1]9月③'!TY14 -> 0 | NZ14: ='[1]9月③'!UG14 -> 0 | OA14: ='[1]9月③'!UH14 -> 0 | OB14: ='[1]9月③'!UJ14 -> 0
A15: 11 | B15: 埼 玉 | C15: ='[1]9月①'!C15 -> 0 | D15: ='[1]9月①'!D15 -> 0 | E15: ='[1]9月①'!F15 -> 0 | F15: ='[1]9月①'!N15 -> 0 | G15: ='[1]9月①'!O15 -> 0 | H15: ='[1]9月①'!Q15 -> 0 | I15: ='[1]9月①'!Y15 -> 0 | J15: ='[1]9月①'!Z15 -> 0 | K15: ='[1]9月①'!AB15 -> 0 | L15: ='[1]9月①'!AJ15 -> 0 | M15: ='[1]9月①'!AK15 -> 0 | N15: ='[1]9月①'!AM15 -> 0 | O15: ='[1]9月①'!AU15 -> 0 | P15: ='[1]9月①'!AV15 -> 0 | Q15: ='[1]9月①'!AX15 -> 0 | R15: ='[1]9月①'!BF15 -> 0 | S15: ='[1]9月①'!BG15 -> 0 | T15: ='[1]9月①'!BI15 -> 0 | U15: ='[1]9月①'!BQ15 -> 0 | V15: ='[1]9月①'!BR15 -> 0 | W15: ='[1]9月①'!BT15 -> 0 | X15: ='[1]9月①'!CB15 -> 0 | Y15: ='[1]9月①'!CC15 -> 0 | Z15: ='[1]9月①'!CE15 -> 0 | AA15: ='[1]9月①'!CM15 -> 0 | AB15: ='[1]9月①'!CN15 -> 0 | AC15: ='[1]9月①'!CP15 -> 0 | AD15: ='[1]9月①'!CX15 -> 0 | AE15: ='[1]9月①'!CY15 -> 0 | AF15: ='[1]9月①'!DA15 -> 0 | AG15: ='[1]9月①'!DI15 -> 0 | AH15: ='[1]9月①'!DJ15 -> 0 | AI15: ='[1]9月①'!DL15 -> 0 | AJ15: ='[1]9月①'!DT15 -> 0 | AK15: ='[1]9月①'!DU15 -> 0 | AL15: ='[1]9月①'!DW15 -> 0 | AM15: ='[1]9月①'!EE15 -> 0 | AN15: ='[1]9月①'!EF15 -> 0 | AO15: ='[1]9月①'!EH15 -> 0 | AP15: ='[1]9月①'!EP15 -> 0 | AQ15: ='[1]9月①'!EQ15 -> 0 | AR15: ='[1]9月①'!ES15 -> 0 | AS15: ='[1]9月①'!FA15 -> 0 | AT15: ='[1]9月①'!FB15 -> 0 | AU15: ='[1]9月①'!FD15 -> 0 | AV15: ='[1]9月①'!FL15 -> 0 | AW15: ='[1]9月①'!FM15 -> 0 | AX15: ='[1]9月①'!FO15 -> 0 | AY15: ='[1]9月①'!FW15 -> 0 | AZ15: ='[1]9月①'!FX15 -> 0 | BA15: ='[1]9月①'!FZ15 -> 0 | BB15: ='[1]9月①'!GH15 -> 0 | BC15: ='[1]9月①'!GI15 -> 0 | BD15: ='[1]9月①'!GK15 -> 0 | BE15: ='[1]9月①'!GS15 -> 0 | BF15: ='[1]9月①'!GT15 -> 0 | BG15: ='[1]9月①'!GV15 -> 0 | BH15: ='[1]9月①'!HD15 -> 0 | BI15: ='[1]9月①'!HE15 -> 0 | BJ15: ='[1]9月①'!HG15 -> 0 | BK15: ='[1]9月①'!HO15 -> 0 | BL15: ='[1]9月①'!HP15 -> 0 | BM15: ='[1]9月①'!HR15 -> 0 | BN15: ='[1]9月①'!HZ15 -> 0 | BO15: ='[1]9月①'!IA15 -> 0 | BP15: ='[1]9月①'!IC15 -> 0 | BQ15: ='[1]9月①'!IK15 -> 0 | BR15: ='[1]9月①'!IL15 -> 0 | BS15: ='[1]9月①'!IN15 -> 0 | BT15: ='[1]9月①'!IV15 -> 0 | BU15: ='[1]9月①'!IW15 -> 0 | BV15: ='[1]9月①'!IY15 -> 0 | BW15: ='[1]9月①'!JH15 -> 0 | BX15: ='[1]9月①'!JG15 -> 0 | BY15: ='[1]9月①'!JJ15 -> 0 | BZ15: ='[1]9月①'!JR15 -> 0 | CA15: ='[1]9月①'!JS15 -> 0 | CB15: ='[1]9月①'!JU15 -> 0 | CC15: ='[1]9月①'!KC15 -> 0 | CD15: ='[1]9月①'!KD15 -> 0 | CE15: ='[1]9月①'!KF15 -> 0 | CF15: ='[1]9月①'!KN15 -> 0 | CG15: ='[1]9月①'!KO15 -> 0 | CH15: ='[1]9月①'!KQ15 -> 0 | CI15: ='[1]9月①'!KY15 -> 0 | CJ15: ='[1]9月①'!KZ15 -> 0 | CK15: ='[1]9月①'!LB15 -> 0 | CL15: ='[1]9月①'!LJ15 -> 0 | CM15: ='[1]9月①'!LK15 -> 0 | CN15: ='[1]9月①'!LM15 -> 0 | CO15: ='[1]9月①'!LU15 -> 0 | CP15: ='[1]9月①'!LV15 -> 0 | CQ15: ='[1]9月①'!LX15 -> 0 | CR15: ='[1]9月①'!MF15 -> 0 | CS15: ='[1]9月①'!MG15 -> 0 | CT15: ='[1]9月①'!MI15 -> 0 | CU15: ='[1]9月①'!MQ15 -> 0 | CV15: ='[1]9月①'!MR15 -> 0 | CW15: ='[1]9月①'!MT15 -> 0 | CX15: ='[1]9月①'!NB15 -> 0 | CY15: ='[1]9月①'!NC15 -> 0 | CZ15: ='[1]9月①'!NE15 -> 0 | DA15: ='[1]9月①'!NM15 -> 0 | DB15: ='[1]9月①'!NN15 -> 0 | DC15: ='[1]9月①'!NP15 -> 0 | DD15: ='[1]9月①'!NX15 -> 0 | DE15: ='[1]9月①'!NY15 -> 0 | DF15: ='[1]9月①'!OA15 -> 0 | DG15: ='[1]9月①'!OI15 -> 0 | DH15: ='[1]9月①'!OJ15 -> 0 | DI15: ='[1]9月①'!OL15 -> 0 | DJ15: ='[1]9月①'!OT15 -> 0 | DK15: ='[1]9月①'!OU15 -> 0 | DL15: ='[1]9月①'!OW15 -> 0 | DM15: ='[1]9月①'!PE15 -> 0 | DN15: ='[1]9月①'!PF15 -> 0 | DO15: ='[1]9月①'!PH15 -> 0 | DP15: ='[1]9月②'!C15 -> 0 | DQ15: ='[1]9月②'!D15 -> 0 | DR15: ='[1]9月②'!F15 -> 0 | DS15: ='[1]9月②'!N15 -> 0 | DT15: ='[1]9月②'!O15 -> 0 | DU15: ='[1]9月②'!Q15 -> 0 | DV15: ='[1]9月②'!Y15 -> 0 | DW15: ='[1]9月②'!Z15 -> 0 | DX15: ='[1]9月②'!AB15 -> 0 | DY15: ='[1]9月②'!AJ15 -> 0 | DZ15: ='[1]9月②'!AK15 -> 0 | EA15: ='[1]9月②'!AM15 -> 0 | EB15: ='[1]9月②'!AU15 -> 0 | EC15: ='[1]9月②'!AV15 -> 0 | ED15: ='[1]9月②'!AX15 -> 0 | EE15: ='[1]9月②'!BF15 -> 0 | EF15: ='[1]9月②'!BG15 -> 0 | EG15: ='[1]9月②'!BI15 -> 0 | EH15: ='[1]9月②'!BQ15 -> 0 | EI15: ='[1]9月②'!BR15 -> 0 | EJ15: ='[1]9月②'!BT15 -> 0 | EK15: ='[1]9月②'!CB15 -> 0 | EL15: ='[1]9月②'!CC15 -> 0 | EM15: ='[1]9月②'!CE15 -> 0 | EN15: ='[1]9月②'!CM15 -> 0 | EO15: ='[1]9月②'!CN15 -> 0 | EP15: ='[1]9月②'!CP15 -> 0 | EQ15: ='[1]9月②'!CX15 -> 0 | ER15: ='[1]9月②'!CY15 -> 0 | ES15: ='[1]9月②'!DA15 -> 0 | ET15: ='[1]9月②'!DI15 -> 0 | EU15: ='[1]9月②'!DJ15 -> 0 | EV15: ='[1]9月②'!DL15 -> 0 | EW15: ='[1]9月②'!DT15 -> 0 | EX15: ='[1]9月②'!DU15 -> 0 | EY15: ='[1]9月②'!DW15 -> 0 | EZ15: ='[1]9月②'!EE15 -> 0 | FA15: ='[1]9月②'!EF15 -> 0 | FB15: ='[1]9月②'!EH15 -> 0 | FC15: ='[1]9月②'!EP15 -> 0 | FD15: ='[1]9月②'!EQ15 -> 0 | FE15: ='[1]9月②'!ES15 -> 0 | FF15: ='[1]9月②'!FA15 -> 0 | FG15: ='[1]9月②'!FB15 -> 0 | FH15: ='[1]9月②'!FD15 -> 0 | FI15: ='[1]9月②'!FL15 -> 0 | FJ15: ='[1]9月②'!FM15 -> 0 | FK15: ='[1]9月②'!FO15 -> 0 | FL15: ='[1]9月②'!FW15 -> 0 | FM15: ='[1]9月②'!FX15 -> 0 | FN15: ='[1]9月②'!FZ15 -> 0 | FO15: ='[1]9月②'!GH15 -> 0 | FP15: ='[1]9月②'!GI15 -> 0 | FQ15: ='[1]9月②'!GK15 -> 0 | FR15: ='[1]9月②'!GS15 -> 0 | FS15: ='[1]9月②'!GT15 -> 0 | FT15: ='[1]9月②'!GV15 -> 0 | FU15: ='[1]9月②'!HD15 -> 0 | FV15: ='[1]9月②'!HE15 -> 0 | FW15: ='[1]9月②'!HG15 -> 0 | FX15: ='[1]9月②'!HO15 -> 0 | FY15: ='[1]9月②'!HP15 -> 0 | FZ15: ='[1]9月②'!HR15 -> 0 | GA15: ='[1]9月②'!HZ15 -> 0 | GB15: ='[1]9月②'!IA15 -> 0 | GC15: ='[1]9月②'!IC15 -> 0 | GD15: ='[1]9月②'!IK15 -> 0 | GE15: ='[1]9月②'!IL15 -> 0 | GF15: ='[1]9月②'!IN15 -> 0 | GG15: ='[1]9月②'!IV15 -> 0 | GH15: ='[1]9月②'!IW15 -> 0 | GI15: ='[1]9月②'!IY15 -> 0 | GJ15: ='[1]9月②'!JG15 -> 0 | GK15: ='[1]9月②'!JH15 -> 0 | GL15: ='[1]9月②'!JJ15 -> 0 | GM15: ='[1]9月②'!JR15 -> 0 | GN15: ='[1]9月②'!JS15 -> 0 | GO15: ='[1]9月②'!JV15 -> 0 | GP15: ='[1]9月②'!KC15 -> 0 | GQ15: ='[1]9月②'!KD15 -> 0 | GR15: ='[1]9月②'!KF15 -> 0 | GS15: ='[1]9月②'!KN15 -> 0 | GT15: ='[1]9月②'!KO15 -> 0 | GU15: ='[1]9月②'!KQ15 -> 0 | GV15: ='[1]9月②'!KY15 -> 0 | GW15: ='[1]9月②'!KZ15 -> 0 | GX15: ='[1]9月②'!LB15 -> 0 | GY15: ='[1]9月②'!LI15 -> 0 | GZ15: ='[1]9月②'!LK15 -> 0 | HA15: ='[1]9月②'!LM15 -> 0 | HB15: ='[1]9月②'!LU15 -> 0 | HC15: ='[1]9月②'!LV15 -> 0 | HD15: ='[1]9月②'!LX15 -> 0 | HE15: ='[1]9月②'!MF15 -> 0 | HF15: ='[1]9月②'!MG15 -> 0 | HG15: ='[1]9月②'!MI15 -> 0 | HH15: ='[1]9月②'!MQ15 -> 0 | HI15: ='[1]9月②'!MR15 -> 0 | HJ15: ='[1]9月②'!MT15 -> 0 | HK15: ='[1]9月②'!NB15 -> 0 | HL15: ='[1]9月②'!NC15 -> 0 | HM15: ='[1]9月②'!NE15 -> 0 | HN15: ='[1]9月②'!NM15 -> 0 | HO15: ='[1]9月②'!NN15 -> 0 | HP15: ='[1]9月②'!NP15 -> 0 | HQ15: ='[1]9月②'!NX15 -> 0 | HR15: ='[1]9月②'!NY15 -> 0 | HS15: ='[1]9月②'!OA15 -> 0 | HT15: ='[1]9月②'!OI15 -> 0 | HU15: ='[1]9月②'!OJ15 -> 0 | HV15: ='[1]9月②'!OL15 -> 0 | HW15: ='[1]9月②'!OT15 -> 0 | HX15: ='[1]9月②'!OU15 -> 0 | HY15: ='[1]9月②'!OW15 -> 0 | HZ15: ='[1]9月②'!PE15 -> 0 | IA15: ='[1]9月②'!PF15 -> 0 | IB15: ='[1]9月②'!PH15 -> 0 | IC15: ='[1]9月②'!PP15 -> 0 | ID15: ='[1]9月②'!PQ15 -> 0 | IE15: ='[1]9月②'!PS15 -> 0 | IF15: ='[1]9月③'!C15 -> 0 | IG15: ='[1]9月③'!D15 -> 0 | IH15: ='[1]9月③'!F15 -> 0 | II15: ='[1]9月③'!N15 -> 0 | IJ15: ='[1]9月③'!O15 -> 0 | IK15: ='[1]9月③'!Q15 -> 0 | IL15: ='[1]9月③'!Y15 -> 0 | IM15: ='[1]9月③'!Z15 -> 0 | IN15: ='[1]9月③'!AB15 -> 0 | IO15: ='[1]9月③'!AJ15 -> 0 | IP15: ='[1]9月③'!AK15 -> 0 | IQ15: ='[1]9月③'!AM15 -> 0 | IR15: ='[1]9月③'!AU15 -> 0 | IS15: ='[1]9月③'!AV15 -> 0 | IT15: ='[1]9月③'!AX15 -> 0 | IU15: ='[1]9月③'!BF15 -> 0 | IV15: ='[1]9月③'!BG15 -> 0 | IW15: ='[1]9月③'!BI15 -> 0 | IX15: ='[1]9月③'!BQ15 -> 0 | IY15: ='[1]9月③'!BR15 -> 0 | IZ15: ='[1]9月③'!BT15 -> 0 | JA15: ='[1]9月③'!CB15 -> 0 | JB15: ='[1]9月③'!CC15 -> 0 | JC15: ='[1]9月③'!CE15 -> 0 | JD15: ='[1]9月③'!CM15 -> 0 | JE15: ='[1]9月③'!CN15 -> 0 | JF15: ='[1]9月③'!CP15 -> 0 | JG15: ='[1]9月③'!CX15 -> 0 | JH15: ='[1]9月③'!CY15 -> 0 | JI15: ='[1]9月③'!DA15 -> 0 | JJ15: ='[1]9月③'!DI15 -> 0 | JK15: ='[1]9月③'!DJ15 -> 0 | JL15: ='[1]9月③'!DL15 -> 0 | JM15: ='[1]9月③'!DT15 -> 0 | JN15: ='[1]9月③'!DU15 -> 0 | JO15: ='[1]9月③'!DW15 -> 0 | JP15: ='[1]9月③'!EE15 -> 0 | JQ15: ='[1]9月③'!EF15 -> 0 | JR15: ='[1]9月③'!EH15 -> 0 | JS15: ='[1]9月③'!ER15 -> 0 | JT15: ='[1]9月③'!EQ15 -> 0 | JU15: ='[1]9月③'!ES15 -> 0 | JV15: ='[1]9月③'!FA15 -> 0 | JW15: ='[1]9月③'!FB15 -> 0 | JX15: ='[1]9月③'!FD15 -> 0 | JY15: ='[1]9月③'!FL15 -> 0 | JZ15: ='[1]9月③'!FM15 -> 0 | KA15: ='[1]9月③'!FO15 -> 0 | KB15: ='[1]9月③'!FW15 -> 0 | KC15: ='[1]9月③'!FX15 -> 0 | KD15: ='[1]9月③'!FZ15 -> 0 | KE15: ='[1]9月③'!GH15 -> 0 | KF15: ='[1]9月③'!GI15 -> 0 | KG15: ='[1]9月③'!GK15 -> 0 | KH15: ='[1]9月③'!GS15 -> 0 | KI15: ='[1]9月③'!GT15 -> 0 | KJ15: ='[1]9月③'!GV15 -> 0 | KK15: ='[1]9月③'!HD15 -> 0 | KL15: ='[1]9月③'!HE15 -> 0 | KM15: ='[1]9月③'!HG15 -> 0 | KN15: ='[1]9月③'!HO15 -> 0 | KO15: ='[1]9月③'!HP15 -> 0 | KP15: ='[1]9月③'!HR15 -> 0 | KQ15: ='[1]9月③'!HZ15 -> 0 | KR15: ='[1]9月③'!IA15 -> 0 | KS15: ='[1]9月③'!IC15 -> 0 | KT15: ='[1]9月③'!IK15 -> 0 | KU15: ='[1]9月③'!IL15 -> 0 | KV15: ='[1]9月③'!IN15 -> 0 | KW15: ='[1]9月③'!IV15 -> 0 | KX15: ='[1]9月③'!IW15 -> 0 | KY15: ='[1]9月③'!IY15 -> 0 | KZ15: ='[1]9月③'!JG15 -> 0 | LA15: ='[1]9月③'!JH15 -> 0 | LB15: ='[1]9月③'!JJ15 -> 0 | LC15: ='[1]9月③'!JR15 -> 0 | LD15: ='[1]9月③'!JS15 -> 0 | LE15: ='[1]9月③'!JU15 -> 0 | LF15: ='[1]9月③'!KC15 -> 0 | LG15: ='[1]9月③'!KD15 -> 0 | LH15: ='[1]9月③'!KF15 -> 0 | LI15: ='[1]9月③'!KN15 -> 0 | LJ15: ='[1]9月③'!KO15 -> 0 | LK15: ='[1]9月③'!KQ15 -> 0 | LL15: ='[1]9月③'!KY15 -> 0 | LM15: ='[1]9月③'!KZ15 -> 0 | LN15: ='[1]9月③'!LB15 -> 0 | LO15: ='[1]9月③'!LJ15 -> 0 | LP15: ='[1]9月③'!LK15 -> 0 | LQ15: ='[1]9月③'!LM15 -> 0 | LR15: ='[1]9月③'!LU15 -> 0 | LS15: ='[1]9月③'!LV15 -> 0 | LT15: ='[1]9月③'!LX15 -> 0 | LU15: ='[1]9月③'!MF15 -> 0 | LV15: ='[1]9月③'!MG15 -> 0 | LW15: ='[1]9月③'!MI15 -> 0 | LX15: ='[1]9月③'!MQ15 -> 0 | LY15: ='[1]9月③'!MR15 -> 0 | LZ15: ='[1]9月③'!MT15 -> 0 | MA15: ='[1]9月③'!NB15 -> 0 | MB15: ='[1]9月③'!NC15 -> 0 | MC15: ='[1]9月③'!NE15 -> 0 | MD15: ='[1]9月③'!NM15 -> 0 | ME15: ='[1]9月③'!NN15 -> 0 | MF15: ='[1]9月③'!NP15 -> 0 | MG15: ='[1]9月③'!NX15 -> 0 | MH15: ='[1]9月③'!NY15 -> 0 | MI15: ='[1]9月③'!OA15 -> 0 | MJ15: ='[1]9月③'!OI15 -> 0 | MK15: ='[1]9月③'!OT15 -> 0 | ML15: ='[1]9月③'!OL15 -> 0 | MM15: ='[1]9月③'!LT15 -> 0 | MN15: ='[1]9月③'!LU15 -> 0 | MO15: ='[1]9月③'!LW15 -> 0 | MP15: ='[1]9月③'!PE15 -> 0 | MQ15: ='[1]9月③'!PF15 -> 0 | MR15: ='[1]9月③'!PH15 -> 0 | MS15: ='[1]9月③'!PP15 -> 0 | MT15: ='[1]9月③'!PQ15 -> 0 | MU15: ='[1]9月③'!PS15 -> 0 | MV15: ='[1]9月③'!QA15 -> 0 | MW15: ='[1]9月③'!QB15 -> 0 | MX15: ='[1]9月③'!QD15 -> 0 | MY15: ='[1]9月③'!QL15 -> 0 | MZ15: ='[1]9月③'!QM15 -> 0 | NA15: ='[1]9月③'!QO15 -> 0 | NB15: ='[1]9月③'!QW15 -> 0 | NC15: ='[1]9月③'!QX15 -> 0 | ND15: ='[1]9月③'!QZ15 -> 0 | NE15: ='[1]9月③'!RH15 -> 0 | NF15: ='[1]9月③'!RI15 -> 0 | NG15: ='[1]9月③'!RK15 -> 0 | NH15: ='[1]9月③'!RS15 -> 0 | NI15: ='[1]9月③'!RT15 -> 0 | NJ15: ='[1]9月③'!RV15 -> 0 | NK15: ='[1]9月③'!SD15 -> 0 | NL15: ='[1]9月③'!SE15 -> 0 | NM15: ='[1]9月③'!SG15 -> 0 | NN15: ='[1]9月③'!SO15 -> 0 | NO15: ='[1]9月③'!SP15 -> 0 | NP15: ='[1]9月③'!SR15 -> 0 | NQ15: ='[1]9月③'!SZ15 -> 0 | NR15: ='[1]9月③'!TA15 -> 0 | NS15: ='[1]9月③'!TC15 -> 0 | NT15: ='[1]9月③'!TK15 -> 0 | NU15: ='[1]9月③'!TL15 -> 0 | NV15: ='[1]9月③'!TN15 -> 0 | NW15: ='[1]9月③'!TV15 -> 0 | NX15: ='[1]9月③'!TW15 -> 0 | NY15: ='[1]9月③'!TY15 -> 0 | NZ15: ='[1]9月③'!UG15 -> 0 | OA15: ='[1]9月③'!UH15 -> 0 | OB15: ='[1]9月③'!UJ15 -> 0
A16: 12 | B16: 千 葉 | C16: ='[1]9月①'!C16 -> 0 | D16: ='[1]9月①'!D16 -> 0 | E16: ='[1]9月①'!F16 -> 0 | F16: ='[1]9月①'!N16 -> 0 | G16: ='[1]9月①'!O16 -> 0 | H16: ='[1]9月①'!Q16 -> 0 | I16: ='[1]9月①'!Y16 -> 0 | J16: ='[1]9月①'!Z16 -> 0 | K16: ='[1]9月①'!AB16 -> 0 | L16: ='[1]9月①'!AJ16 -> 0 | M16: ='[1]9月①'!AK16 -> 0 | N16: ='[1]9月①'!AM16 -> 0 | O16: ='[1]9月①'!AU16 -> 0 | P16: ='[1]9月①'!AV16 -> 0 | Q16: ='[1]9月①'!AX16 -> 0 | R16: ='[1]9月①'!BF16 -> 0 | S16: ='[1]9月①'!BG16 -> 0 | T16: ='[1]9月①'!BI16 -> 0 | U16: ='[1]9月①'!BQ16 -> 0 | V16: ='[1]9月①'!BR16 -> 0 | W16: ='[1]9月①'!BT16 -> 0 | X16: ='[1]9月①'!CB16 -> 0 | Y16: ='[1]9月①'!CC16 -> 0 | Z16: ='[1]9月①'!CE16 -> 0 | AA16: ='[1]9月①'!CM16 -> 0 | AB16: ='[1]9月①'!CN16 -> 0 | AC16: ='[1]9月①'!CP16 -> 0 | AD16: ='[1]9月①'!CX16 -> 0 | AE16: ='[1]9月①'!CY16 -> 0 | AF16: ='[1]9月①'!DA16 -> 0 | AG16: ='[1]9月①'!DI16 -> 0 | AH16: ='[1]9月①'!DJ16 -> 0 | AI16: ='[1]9月①'!DL16 -> 0 | AJ16: ='[1]9月①'!DT16 -> 0 | AK16: ='[1]9月①'!DU16 -> 0 | AL16: ='[1]9月①'!DW16 -> 0 | AM16: ='[1]9月①'!EE16 -> 0 | AN16: ='[1]9月①'!EF16 -> 0 | AO16: ='[1]9月①'!EH16 -> 0 | AP16: ='[1]9月①'!EP16 -> 0 | AQ16: ='[1]9月①'!EQ16 -> 0 | AR16: ='[1]9月①'!ES16 -> 0 | AS16: ='[1]9月①'!FA16 -> 0 | AT16: ='[1]9月①'!FB16 -> 0 | AU16: ='[1]9月①'!FD16 -> 0 | AV16: ='[1]9月①'!FL16 -> 0 | AW16: ='[1]9月①'!FM16 -> 0 | AX16: ='[1]9月①'!FO16 -> 0 | AY16: ='[1]9月①'!FW16 -> 0 | AZ16: ='[1]9月①'!FX16 -> 0 | BA16: ='[1]9月①'!FZ16 -> 0 | BB16: ='[1]9月①'!GH16 -> 0 | BC16: ='[1]9月①'!GI16 -> 0 | BD16: ='[1]9月①'!GK16 -> 0 | BE16: ='[1]9月①'!GS16 -> 0 | BF16: ='[1]9月①'!GT16 -> 0 | BG16: ='[1]9月①'!GV16 -> 0 | BH16: ='[1]9月①'!HD16 -> 0 | BI16: ='[1]9月①'!HE16 -> 0 | BJ16: ='[1]9月①'!HG16 -> 0 | BK16: ='[1]9月①'!HO16 -> 0 | BL16: ='[1]9月①'!HP16 -> 0 | BM16: ='[1]9月①'!HR16 -> 0 | BN16: ='[1]9月①'!HZ16 -> 0 | BO16: ='[1]9月①'!IA16 -> 0 | BP16: ='[1]9月①'!IC16 -> 0 | BQ16: ='[1]9月①'!IK16 -> 0 | BR16: ='[1]9月①'!IL16 -> 0 | BS16: ='[1]9月①'!IN16 -> 0 | BT16: ='[1]9月①'!IV16 -> 0 | BU16: ='[1]9月①'!IW16 -> 0 | BV16: ='[1]9月①'!IY16 -> 0 | BW16: ='[1]9月①'!JH16 -> 0 | BX16: ='[1]9月①'!JG16 -> 0 | BY16: ='[1]9月①'!JJ16 -> 0 | BZ16: ='[1]9月①'!JR16 -> 0 | CA16: ='[1]9月①'!JS16 -> 0 | CB16: ='[1]9月①'!JU16 -> 0 | CC16: ='[1]9月①'!KC16 -> 0 | CD16: ='[1]9月①'!KD16 -> 0 | CE16: ='[1]9月①'!KF16 -> 0 | CF16: ='[1]9月①'!KN16 -> 0 | CG16: ='[1]9月①'!KO16 -> 0 | CH16: ='[1]9月①'!KQ16 -> 0 | CI16: ='[1]9月①'!KY16 -> 0 | CJ16: ='[1]9月①'!KZ16 -> 0 | CK16: ='[1]9月①'!LB16 -> 0 | CL16: ='[1]9月①'!LJ16 -> 0 | CM16: ='[1]9月①'!LK16 -> 0 | CN16: ='[1]9月①'!LM16 -> 0 | CO16: ='[1]9月①'!LU16 -> 0 | CP16: ='[1]9月①'!LV16 -> 0 | CQ16: ='[1]9月①'!LX16 -> 0 | CR16: ='[1]9月①'!MF16 -> 0 | CS16: ='[1]9月①'!MG16 -> 0 | CT16: ='[1]9月①'!MI16 -> 0 | CU16: ='[1]9月①'!MQ16 -> 0 | CV16: ='[1]9月①'!MR16 -> 0 | CW16: ='[1]9月①'!MT16 -> 0 | CX16: ='[1]9月①'!NB16 -> 0 | CY16: ='[1]9月①'!NC16 -> 0 | CZ16: ='[1]9月①'!NE16 -> 0 | DA16: ='[1]9月①'!NM16 -> 0 | DB16: ='[1]9月①'!NN16 -> 0 | DC16: ='[1]9月①'!NP16 -> 0 | DD16: ='[1]9月①'!NX16 -> 0 | DE16: ='[1]9月①'!NY16 -> 0 | DF16: ='[1]9月①'!OA16 -> 0 | DG16: ='[1]9月①'!OI16 -> 0 | DH16: ='[1]9月①'!OJ16 -> 0 | DI16: ='[1]9月①'!OL16 -> 0 | DJ16: ='[1]9月①'!OT16 -> 0 | DK16: ='[1]9月①'!OU16 -> 0 | DL16: ='[1]9月①'!OW16 -> 0 | DM16: ='[1]9月①'!PE16 -> 0 | DN16: ='[1]9月①'!PF16 -> 0 | DO16: ='[1]9月①'!PH16 -> 0 | DP16: ='[1]9月②'!C16 -> 0 | DQ16: ='[1]9月②'!D16 -> 0 | DR16: ='[1]9月②'!F16 -> 0 | DS16: ='[1]9月②'!N16 -> 0 | DT16: ='[1]9月②'!O16 -> 0 | DU16: ='[1]9月②'!Q16 -> 0 | DV16: ='[1]9月②'!Y16 -> 0 | DW16: ='[1]9月②'!Z16 -> 0 | DX16: ='[1]9月②'!AB16 -> 0 | DY16: ='[1]9月②'!AJ16 -> 0 | DZ16: ='[1]9月②'!AK16 -> 0 | EA16: ='[1]9月②'!AM16 -> 0 | EB16: ='[1]9月②'!AU16 -> 0 | EC16: ='[1]9月②'!AV16 -> 0 | ED16: ='[1]9月②'!AX16 -> 0 | EE16: ='[1]9月②'!BF16 -> 0 | EF16: ='[1]9月②'!BG16 -> 0 | EG16: ='[1]9月②'!BI16 -> 0 | EH16: ='[1]9月②'!BQ16 -> 0 | EI16: ='[1]9月②'!BR16 -> 0 | EJ16: ='[1]9月②'!BT16 -> 0 | EK16: ='[1]9月②'!CB16 -> 0 | EL16: ='[1]9月②'!CC16 -> 0 | EM16: ='[1]9月②'!CE16 -> 0 | EN16: ='[1]9月②'!CM16 -> 0 | EO16: ='[1]9月②'!CN16 -> 0 | EP16: ='[1]9月②'!CP16 -> 0 | EQ16: ='[1]9月②'!CX16 -> 0 | ER16: ='[1]9月②'!CY16 -> 0 | ES16: ='[1]9月②'!DA16 -> 0 | ET16: ='[1]9月②'!DI16 -> 0 | EU16: ='[1]9月②'!DJ16 -> 0 | EV16: ='[1]9月②'!DL16 -> 0 | EW16: ='[1]9月②'!DT16 -> 0 | EX16: ='[1]9月②'!DU16 -> 0 | EY16: ='[1]9月②'!DW16 -> 0 | EZ16: ='[1]9月②'!EE16 -> 0 | FA16: ='[1]9月②'!EF16 -> 0 | FB16: ='[1]9月②'!EH16 -> 0 | FC16: ='[1]9月②'!EP16 -> 0 | FD16: ='[1]9月②'!EQ16 -> 0 | FE16: ='[1]9月②'!ES16 -> 0 | FF16: ='[1]9月②'!FA16 -> 0 | FG16: ='[1]9月②'!FB16 -> 0 | FH16: ='[1]9月②'!FD16 -> 0 | FI16: ='[1]9月②'!FL16 -> 0 | FJ16: ='[1]9月②'!FM16 -> 0 | FK16: ='[1]9月②'!FO16 -> 0 | FL16: ='[1]9月②'!FW16 -> 0 | FM16: ='[1]9月②'!FX16 -> 0 | FN16: ='[1]9月②'!FZ16 -> 0 | FO16: ='[1]9月②'!GH16 -> 0 | FP16: ='[1]9月②'!GI16 -> 0 | FQ16: ='[1]9月②'!GK16 -> 0 | FR16: ='[1]9月②'!GS16 -> 0 | FS16: ='[1]9月②'!GT16 -> 0 | FT16: ='[1]9月②'!GV16 -> 0 | FU16: ='[1]9月②'!HD16 -> 0 | FV16: ='[1]9月②'!HE16 -> 0 | FW16: ='[1]9月②'!HG16 -> 0 | FX16: ='[1]9月②'!HO16 -> 0 | FY16: ='[1]9月②'!HP16 -> 0 | FZ16: ='[1]9月②'!HR16 -> 0 | GA16: ='[1]9月②'!HZ16 -> 0 | GB16: ='[1]9月②'!IA16 -> 0 | GC16: ='[1]9月②'!IC16 -> 0 | GD16: ='[1]9月②'!IK16 -> 0 | GE16: ='[1]9月②'!IL16 -> 0 | GF16: ='[1]9月②'!IN16 -> 0 | GG16: ='[1]9月②'!IV16 -> 0 | GH16: ='[1]9月②'!IW16 -> 0 | GI16: ='[1]9月②'!IY16 -> 0 | GJ16: ='[1]9月②'!JG16 -> 0 | GK16: ='[1]9月②'!JH16 -> 0 | GL16: ='[1]9月②'!JJ16 -> 0 | GM16: ='[1]9月②'!JR16 -> 0 | GN16: ='[1]9月②'!JS16 -> 0 | GO16: ='[1]9月②'!JV16 -> 0 | GP16: ='[1]9月②'!KC16 -> 0 | GQ16: ='[1]9月②'!KD16 -> 0 | GR16: ='[1]9月②'!KF16 -> 0 | GS16: ='[1]9月②'!KN16 -> 0 | GT16: ='[1]9月②'!KO16 -> 0 | GU16: ='[1]9月②'!KQ16 -> 0 | GV16: ='[1]9月②'!KY16 -> 0 | GW16: ='[1]9月②'!KZ16 -> 0 | GX16: ='[1]9月②'!LB16 -> 0 | GY16: ='[1]9月②'!LI16 -> 0 | GZ16: ='[1]9月②'!LK16 -> 0 | HA16: ='[1]9月②'!LM16 -> 0 | HB16: ='[1]9月②'!LU16 -> 0 | HC16: ='[1]9月②'!LV16 -> 0 | HD16: ='[1]9月②'!LX16 -> 0 | HE16: ='[1]9月②'!MF16 -> 0 | HF16: ='[1]9月②'!MG16 -> 0 | HG16: ='[1]9月②'!MI16 -> 0 | HH16: ='[1]9月②'!MQ16 -> 0 | HI16: ='[1]9月②'!MR16 -> 0 | HJ16: ='[1]9月②'!MT16 -> 0 | HK16: ='[1]9月②'!NB16 -> 0 | HL16: ='[1]9月②'!NC16 -> 0 | HM16: ='[1]9月②'!NE16 -> 0 | HN16: ='[1]9月②'!NM16 -> 0 | HO16: ='[1]9月②'!NN16 -> 0 | HP16: ='[1]9月②'!NP16 -> 0 | HQ16: ='[1]9月②'!NX16 -> 0 | HR16: ='[1]9月②'!NY16 -> 0 | HS16: ='[1]9月②'!OA16 -> 0 | HT16: ='[1]9月②'!OI16 -> 0 | HU16: ='[1]9月②'!OJ16 -> 0 | HV16: ='[1]9月②'!OL16 -> 0 | HW16: ='[1]9月②'!OT16 -> 0 | HX16: ='[1]9月②'!OU16 -> 0 | HY16: ='[1]9月②'!OW16 -> 0 | HZ16: ='[1]9月②'!PE16 -> 0 | IA16: ='[1]9月②'!PF16 -> 0 | IB16: ='[1]9月②'!PH16 -> 0 | IC16: ='[1]9月②'!PP16 -> 0 | ID16: ='[1]9月②'!PQ16 -> 0 | IE16: ='[1]9月②'!PS16 -> 0 | IF16: ='[1]9月③'!C16 -> 0 | IG16: ='[1]9月③'!D16 -> 0 | IH16: ='[1]9月③'!F16 -> 0 | II16: ='[1]9月③'!N16 -> 0 | IJ16: ='[1]9月③'!O16 -> 0 | IK16: ='[1]9月③'!Q16 -> 0 | IL16: ='[1]9月③'!Y16 -> 0 | IM16: ='[1]9月③'!Z16 -> 0 | IN16: ='[1]9月③'!AB16 -> 0 | IO16: ='[1]9月③'!AJ16 -> 0 | IP16: ='[1]9月③'!AK16 -> 0 | IQ16: ='[1]9月③'!AM16 -> 0 | IR16: ='[1]9月③'!AU16 -> 0 | IS16: ='[1]9月③'!AV16 -> 0 | IT16: ='[1]9月③'!AX16 -> 0 | IU16: ='[1]9月③'!BF16 -> 0 | IV16: ='[1]9月③'!BG16 -> 0 | IW16: ='[1]9月③'!BI16 -> 0 | IX16: ='[1]9月③'!BQ16 -> 0 | IY16: ='[1]9月③'!BR16 -> 0 | IZ16: ='[1]9月③'!BT16 -> 0 | JA16: ='[1]9月③'!CB16 -> 0 | JB16: ='[1]9月③'!CC16 -> 0 | JC16: ='[1]9月③'!CE16 -> 0 | JD16: ='[1]9月③'!CM16 -> 0 | JE16: ='[1]9月③'!CN16 -> 0 | JF16: ='[1]9月③'!CP16 -> 0 | JG16: ='[1]9月③'!CX16 -> 0 | JH16: ='[1]9月③'!CY16 -> 0 | JI16: ='[1]9月③'!DA16 -> 0 | JJ16: ='[1]9月③'!DI16 -> 0 | JK16: ='[1]9月③'!DJ16 -> 0 | JL16: ='[1]9月③'!DL16 -> 0 | JM16: ='[1]9月③'!DT16 -> 0 | JN16: ='[1]9月③'!DU16 -> 0 | JO16: ='[1]9月③'!DW16 -> 0 | JP16: ='[1]9月③'!EE16 -> 0 | JQ16: ='[1]9月③'!EF16 -> 0 | JR16: ='[1]9月③'!EH16 -> 0 | JS16: ='[1]9月③'!ER16 -> 0 | JT16: ='[1]9月③'!EQ16 -> 0 | JU16: ='[1]9月③'!ES16 -> 0 | JV16: ='[1]9月③'!FA16 -> 0 | JW16: ='[1]9月③'!FB16 -> 0 | JX16: ='[1]9月③'!FD16 -> 0 | JY16: ='[1]9月③'!FL16 -> 0 | JZ16: ='[1]9月③'!FM16 -> 0 | KA16: ='[1]9月③'!FO16 -> 0 | KB16: ='[1]9月③'!FW16 -> 0 | KC16: ='[1]9月③'!FX16 -> 0 | KD16: ='[1]9月③'!FZ16 -> 0 | KE16: ='[1]9月③'!GH16 -> 0 | KF16: ='[1]9月③'!GI16 -> 0 | KG16: ='[1]9月③'!GK16 -> 0 | KH16: ='[1]9月③'!GS16 -> 0 | KI16: ='[1]9月③'!GT16 -> 0 | KJ16: ='[1]9月③'!GV16 -> 0 | KK16: ='[1]9月③'!HD16 -> 0 | KL16: ='[1]9月③'!HE16 -> 0 | KM16: ='[1]9月③'!HG16 -> 0 | KN16: ='[1]9月③'!HO16 -> 0 | KO16: ='[1]9月③'!HP16 -> 0 | KP16: ='[1]9月③'!HR16 -> 0 | KQ16: ='[1]9月③'!HZ16 -> 0 | KR16: ='[1]9月③'!IA16 -> 0 | KS16: ='[1]9月③'!IC16 -> 0 | KT16: ='[1]9月③'!IK16 -> 0 | KU16: ='[1]9月③'!IL16 -> 0 | KV16: ='[1]9月③'!IN16 -> 0 | KW16: ='[1]9月③'!IV16 -> 0 | KX16: ='[1]9月③'!IW16 -> 0 | KY16: ='[1]9月③'!IY16 -> 0 | KZ16: ='[1]9月③'!JG16 -> 0 | LA16: ='[1]9月③'!JH16 -> 0 | LB16: ='[1]9月③'!JJ16 -> 0 | LC16: ='[1]9月③'!JR16 -> 0 | LD16: ='[1]9月③'!JS16 -> 0 | LE16: ='[1]9月③'!JU16 -> 0 | LF16: ='[1]9月③'!KC16 -> 0 | LG16: ='[1]9月③'!KD16 -> 0 | LH16: ='[1]9月③'!KF16 -> 0 | LI16: ='[1]9月③'!KN16 -> 0 | LJ16: ='[1]9月③'!KO16 -> 0 | LK16: ='[1]9月③'!KQ16 -> 0 | LL16: ='[1]9月③'!KY16 -> 0 | LM16: ='[1]9月③'!KZ16 -> 0 | LN16: ='[1]9月③'!LB16 -> 0 | LO16: ='[1]9月③'!LJ16 -> 0 | LP16: ='[1]9月③'!LK16 -> 0 | LQ16: ='[1]9月③'!LM16 -> 0 | LR16: ='[1]9月③'!LU16 -> 0 | LS16: ='[1]9月③'!LV16 -> 0 | LT16: ='[1]9月③'!LX16 -> 0 | LU16: ='[1]9月③'!MF16 -> 0 | LV16: ='[1]9月③'!MG16 -> 0 | LW16: ='[1]9月③'!MI16 -> 0 | LX16: ='[1]9月③'!MQ16 -> 0 | LY16: ='[1]9月③'!MR16 -> 0 | LZ16: ='[1]9月③'!MT16 -> 0 | MA16: ='[1]9月③'!NB16 -> 0 | MB16: ='[1]9月③'!NC16 -> 0 | MC16: ='[1]9月③'!NE16 -> 0 | MD16: ='[1]9月③'!NM16 -> 0 | ME16: ='[1]9月③'!NN16 -> 0 | MF16: ='[1]9月③'!NP16 -> 0 | MG16: ='[1]9月③'!NX16 -> 0 | MH16: ='[1]9月③'!NY16 -> 0 | MI16: ='[1]9月③'!OA16 -> 0 | MJ16: ='[1]9月③'!OI16 -> 0 | MK16: ='[1]9月③'!OT16 -> 0 | ML16: ='[1]9月③'!OL16 -> 0 | MM16: ='[1]9月③'!LT16 -> 0 | MN16: ='[1]9月③'!LU16 -> 0 | MO16: ='[1]9月③'!LW16 -> 0 | MP16: ='[1]9月③'!PE16 -> 0 | MQ16: ='[1]9月③'!PF16 -> 0 | MR16: ='[1]9月③'!PH16 -> 0 | MS16: ='[1]9月③'!PP16 -> 0 | MT16: ='[1]9月③'!PQ16 -> 0 | MU16: ='[1]9月③'!PS16 -> 0 | MV16: ='[1]9月③'!QA16 -> 0 | MW16: ='[1]9月③'!QB16 -> 0 | MX16: ='[1]9月③'!QD16 -> 0 | MY16: ='[1]9月③'!QL16 -> 0 | MZ16: ='[1]9月③'!QM16 -> 0 | NA16: ='[1]9月③'!QO16 -> 0 | NB16: ='[1]9月③'!QW16 -> 0 | NC16: ='[1]9月③'!QX16 -> 0 | ND16: ='[1]9月③'!QZ16 -> 0 | NE16: ='[1]9月③'!RH16 -> 0 | NF16: ='[1]9月③'!RI16 -> 0 | NG16: ='[1]9月③'!RK16 -> 0 | NH16: ='[1]9月③'!RS16 -> 0 | NI16: ='[1]9月③'!RT16 -> 0 | NJ16: ='[1]9月③'!RV16 -> 0 | NK16: ='[1]9月③'!SD16 -> 0 | NL16: ='[1]9月③'!SE16 -> 0 | NM16: ='[1]9月③'!SG16 -> 0 | NN16: ='[1]9月③'!SO16 -> 0 | NO16: ='[1]9月③'!SP16 -> 0 | NP16: ='[1]9月③'!SR16 -> 0 | NQ16: ='[1]9月③'!SZ16 -> 0 | NR16: ='[1]9月③'!TA16 -> 0 | NS16: ='[1]9月③'!TC16 -> 0 | NT16: ='[1]9月③'!TK16 -> 0 | NU16: ='[1]9月③'!TL16 -> 0 | NV16: ='[1]9月③'!TN16 -> 0 | NW16: ='[1]9月③'!TV16 -> 0 | NX16: ='[1]9月③'!TW16 -> 0 | NY16: ='[1]9月③'!TY16 -> 0 | NZ16: ='[1]9月③'!UG16 -> 0 | OA16: ='[1]9月③'!UH16 -> 0 | OB16: ='[1]9月③'!UJ16 -> 0
... A51: 47 | B51: 沖 縄 | C51: ='[1]9月①'!C51 -> 0 | D51: ='[1]9月①'!D51 -> 0 | E51: ='[1]9月①'!F51 -> 0 | F51: ='[1]9月①'!N51 -> 0 | G51: ='[1]9月①'!O51 -> 0 | H51: ='[1]9月①'!Q51 -> 0 | I51: ='[1]9月①'!Y51 -> 0 | J51: ='[1]9月①'!Z51 -> 0 | K51: ='[1]9月①'!AB51 -> 0 | L51: ='[1]9月①'!AJ51 -> 0 | M51: ='[1]9月①'!AK51 -> 0 | N51: ='[1]9月①'!AM51 -> 0 | O51: ='[1]9月①'!AU51 -> 0 | P51: ='[1]9月①'!AV51 -> 0 | Q51: ='[1]9月①'!AX51 -> 0 | R51: ='[1]9月①'!BF51 -> 0 | S51: ='[1]9月①'!BG51 -> 0 | T51: ='[1]9月①'!BI51 -> 0 | U51: ='[1]9月①'!BQ51 -> 0 | V51: ='[1]9月①'!BR51 -> 0 | W51: ='[1]9月①'!BT51 -> 0 | X51: ='[1]9月①'!CB51 -> 0 | Y51: ='[1]9月①'!CC51 -> 0 | Z51: ='[1]9月①'!CE51 -> 0 | AA51: ='[1]9月①'!CM51 -> 0 | AB51: ='[1]9月①'!CN51 -> 0 | AC51: ='[1]9月①'!CP51 -> 0 | AD51: ='[1]9月①'!CX51 -> 0 | AE51: ='[1]9月①'!CY51 -> 0 | AF51: ='[1]9月①'!DA51 -> 0 | AG51: ='[1]9月①'!DI51 -> 0 | AH51: ='[1]9月①'!DJ51 -> 0 | AI51: ='[1]9月①'!DL51 -> 0 | AJ51: ='[1]9月①'!DT51 -> 0 | AK51: ='[1]9月①'!DU51 -> 0 | AL51: ='[1]9月①'!DW51 -> 0 | AM51: ='[1]9月①'!EE51 -> 0 | AN51: ='[1]9月①'!EF51 -> 0 | AO51: ='[1]9月①'!EH51 -> 0 | AP51: ='[1]9月①'!EP51 -> 0 | AQ51: ='[1]9月①'!EQ51 -> 0 | AR51: ='[1]9月①'!ES51 -> 0 | AS51: ='[1]9月①'!FA51 -> 0 | AT51: ='[1]9月①'!FB51 -> 0 | AU51: ='[1]9月①'!FD51 -> 0 | AV51: ='[1]9月①'!FL51 -> 0 | AW51: ='[1]9月①'!FM51 -> 0 | AX51: ='[1]9月①'!FO51 -> 0 | AY51: ='[1]9月①'!FW51 -> 0 | AZ51: ='[1]9月①'!FX51 -> 0 | BA51: ='[1]9月①'!FZ51 -> 0 | BB51: ='[1]9月①'!GH51 -> 0 | BC51: ='[1]9月①'!GI51 -> 0 | BD51: ='[1]9月①'!GK51 -> 0 | BE51: ='[1]9月①'!GS51 -> 0 | BF51: ='[1]9月①'!GT51 -> 0 | BG51: ='[1]9月①'!GV51 -> 0 | BH51: ='[1]9月①'!HD51 -> 0 | BI51: ='[1]9月①'!HE51 -> 0 | BJ51: ='[1]9月①'!HG51 -> 0 | BK51: ='[1]9月①'!HO51 -> 0 | BL51: ='[1]9月①'!HP51 -> 0 | BM51: ='[1]9月①'!HR51 -> 0 | BN51: ='[1]9月①'!HZ51 -> 0 | BO51: ='[1]9月①'!IA51 -> 0 | BP51: ='[1]9月①'!IC51 -> 0 | BQ51: ='[1]9月①'!IK51 -> 0 | BR51: ='[1]9月①'!IL51 -> 0 | BS51: ='[1]9月①'!IN51 -> 0 | BT51: ='[1]9月①'!IV51 -> 0 | BU51: ='[1]9月①'!IW51 -> 0 | BV51: ='[1]9月①'!IY51 -> 0 | BW51: ='[1]9月①'!JH51 -> 0 | BX51: ='[1]9月①'!JG51 -> 0 | BY51: ='[1]9月①'!JJ51 -> 0 | BZ51: ='[1]9月①'!JR51 -> 0 | CA51: ='[1]9月①'!JS51 -> 0 | CB51: ='[1]9月①'!JU51 -> 0 | CC51: ='[1]9月①'!KC51 -> 0 | CD51: ='[1]9月①'!KD51 -> 0 | CE51: ='[1]9月①'!KF51 -> 0 | CF51: ='[1]9月①'!KN51 -> 0 | CG51: ='[1]9月①'!KO51 -> 0 | CH51: ='[1]9月①'!KQ51 -> 0 | CI51: ='[1]9月①'!KY51 -> 0 | CJ51: ='[1]9月①'!KZ51 -> 0 | CK51: ='[1]9月①'!LB51 -> 0 | CL51: ='[1]9月①'!LJ51 -> 0 | CM51: ='[1]9月①'!LK51 -> 0 | CN51: ='[1]9月①'!LM51 -> 0 | CO51: ='[1]9月①'!LU51 -> 0 | CP51: ='[1]9月①'!LV51 -> 0 | CQ51: ='[1]9月①'!LX51 -> 0 | CR51: ='[1]9月①'!MF51 -> 0 | CS51: ='[1]9月①'!MG51 -> 0 | CT51: ='[1]9月①'!MI51 -> 0 | CU51: ='[1]9月①'!MQ51 -> 0 | CV51: ='[1]9月①'!MR51 -> 0 | CW51: ='[1]9月①'!MT51 -> 0 | CX51: ='[1]9月①'!NB51 -> 0 | CY51: ='[1]9月①'!NC51 -> 0 | CZ51: ='[1]9月①'!NE51 -> 0 | DA51: ='[1]9月①'!NM51 -> 0 | DB51: ='[1]9月①'!NN51 -> 0 | DC51: ='[1]9月①'!NP51 -> 0 | DD51: ='[1]9月①'!NX51 -> 0 | DE51: ='[1]9月①'!NY51 -> 0 | DF51: ='[1]9月①'!OA51 -> 0 | DG51: ='[1]9月①'!OI51 -> 0 | DH51: ='[1]9月①'!OJ51 -> 0 | DI51: ='[1]9月①'!OL51 -> 0 | DJ51: ='[1]9月①'!OT51 -> 0 | DK51: ='[1]9月①'!OU51 -> 0 | DL51: ='[1]9月①'!OW51 -> 0 | DM51: ='[1]9月①'!PE51 -> 0 | DN51: ='[1]9月①'!PF51 -> 0 | DO51: ='[1]9月①'!PH51 -> 0 | DP51: ='[1]9月②'!C51 -> 0 | DQ51: ='[1]9月②'!D51 -> 0 | DR51: ='[1]9月②'!F51 -> 0 | DS51: ='[1]9月②'!N51 -> 0 | DT51: ='[1]9月②'!O51 -> 0 | DU51: ='[1]9月②'!Q51 -> 0 | DV51: ='[1]9月②'!Y51 -> 0 | DW51: ='[1]9月②'!Z51 -> 0 | DX51: ='[1]9月②'!AB51 -> 0 | DY51: ='[1]9月②'!AJ51 -> 0 | DZ51: ='[1]9月②'!AK51 -> 0 | EA51: ='[1]9月②'!AM51 -> 0 | EB51: ='[1]9月②'!AU51 -> 0 | EC51: ='[1]9月②'!AV51 -> 0 | ED51: ='[1]9月②'!AX51 -> 0 | EE51: ='[1]9月②'!BF51 -> 0 | EF51: ='[1]9月②'!BG51 -> 0 | EG51: ='[1]9月②'!BI51 -> 0 | EH51: ='[1]9月②'!BQ51 -> 0 | EI51: ='[1]9月②'!BR51 -> 0 | EJ51: ='[1]9月②'!BT51 -> 0 | EK51: ='[1]9月②'!CB51 -> 0 | EL51: ='[1]9月②'!CC51 -> 0 | EM51: ='[1]9月②'!CE51 -> 0 | EN51: ='[1]9月②'!CM51 -> 0 | EO51: ='[1]9月②'!CN51 -> 0 | EP51: ='[1]9月②'!CP51 -> 0 | EQ51: ='[1]9月②'!CX51 -> 0 | ER51: ='[1]9月②'!CY51 -> 0 | ES51: ='[1]9月②'!DA51 -> 0 | ET51: ='[1]9月②'!DI51 -> 0 | EU51: ='[1]9月②'!DJ51 -> 0 | EV51: ='[1]9月②'!DL51 -> 0 | EW51: ='[1]9月②'!DT51 -> 0 | EX51: ='[1]9月②'!DU51 -> 0 | EY51: ='[1]9月②'!DW51 -> 0 | EZ51: ='[1]9月②'!EE51 -> 0 | FA51: ='[1]9月②'!EF51 -> 0 | FB51: ='[1]9月②'!EH51 -> 0 | FC51: ='[1]9月②'!EP51 -> 0 | FD51: ='[1]9月②'!EQ51 -> 0 | FE51: ='[1]9月②'!ES51 -> 0 | FF51: ='[1]9月②'!FA51 -> 0 | FG51: ='[1]9月②'!FB51 -> 0 | FH51: ='[1]9月②'!FD51 -> 0 | FI51: ='[1]9月②'!FL51 -> 0 | FJ51: ='[1]9月②'!FM51 -> 0 | FK51: ='[1]9月②'!FO51 -> 0 | FL51: ='[1]9月②'!FW51 -> 0 | FM51: ='[1]9月②'!FX51 -> 0 | FN51: ='[1]9月②'!FZ51 -> 0 | FO51: ='[1]9月②'!GH51 -> 0 | FP51: ='[1]9月②'!GI51 -> 0 | FQ51: ='[1]9月②'!GK51 -> 0 | FR51: ='[1]9月②'!GS51 -> 0 | FS51: ='[1]9月②'!GT51 -> 0 | FT51: ='[1]9月②'!GV51 -> 0 | FU51: ='[1]9月②'!HD51 -> 0 | FV51: ='[1]9月②'!HE51 -> 0 | FW51: ='[1]9月②'!HG51 -> 0 | FX51: ='[1]9月②'!HO51 -> 0 | FY51: ='[1]9月②'!HP51 -> 0 | FZ51: ='[1]9月②'!HR51 -> 0 | GA51: ='[1]9月②'!HZ51 -> 0 | GB51: ='[1]9月②'!IA51 -> 0 | GC51: ='[1]9月②'!IC51 -> 0 | GD51: ='[1]9月②'!IK51 -> 0 | GE51: ='[1]9月②'!IL51 -> 0 | GF51: ='[1]9月②'!IN51 -> 0 | GG51: ='[1]9月②'!IV51 -> 0 | GH51: ='[1]9月②'!IW51 -> 0 | GI51: ='[1]9月②'!IY51 -> 0 | GJ51: ='[1]9月②'!JG51 -> 0 | GK51: ='[1]9月②'!JH51 -> 0 | GL51: ='[1]9月②'!JJ51 -> 0 | GM51: ='[1]9月②'!JR51 -> 0 | GN51: ='[1]9月②'!JS51 -> 0 | GO51: ='[1]9月②'!JV51 -> 0 | GP51: ='[1]9月②'!KC51 -> 0 | GQ51: ='[1]9月②'!KD51 -> 0 | GR51: ='[1]9月②'!KF51 -> 0 | GS51: ='[1]9月②'!KN51 -> 0 | GT51: ='[1]9月②'!KO51 -> 0 | GU51: ='[1]9月②'!KQ51 -> 0 | GV51: ='[1]9月②'!KY51 -> 0 | GW51: ='[1]9月②'!KZ51 -> 0 | GX51: ='[1]9月②'!LB51 -> 0 | GY51: ='[1]9月②'!LI51 -> 0 | GZ51: ='[1]9月②'!LK51 -> 0 | HA51: ='[1]9月②'!LM51 -> 0 | HB51: ='[1]9月②'!LU51 -> 0 | HC51: ='[1]9月②'!LV51 -> 0 | HD51: ='[1]9月②'!LX51 -> 0 | HE51: ='[1]9月②'!MF51 -> 0 | HF51: ='[1]9月②'!MG51 -> 0 | HG51: ='[1]9月②'!MI51 -> 0 | HH51: ='[1]9月②'!MQ51 -> 0 | HI51: ='[1]9月②'!MR51 -> 0 | HJ51: ='[1]9月②'!MT51 -> 0 | HK51: ='[1]9月②'!NB51 -> 0 | HL51: ='[1]9月②'!NC51 -> 0 | HM51: ='[1]9月②'!NE51 -> 0 | HN51: ='[1]9月②'!NM51 -> 0 | HO51: ='[1]9月②'!NN51 -> 0 | HP51: ='[1]9月②'!NP51 -> 0 | HQ51: ='[1]9月②'!NX51 -> 0 | HR51: ='[1]9月②'!NY51 -> 0 | HS51: ='[1]9月②'!OA51 -> 0 | HT51: ='[1]9月②'!OI51 -> 0 | HU51: ='[1]9月②'!OJ51 -> 0 | HV51: ='[1]9月②'!OL51 -> 0 | HW51: ='[1]9月②'!OT51 -> 0 | HX51: ='[1]9月②'!OU51 -> 0 | HY51: ='[1]9月②'!OW51 -> 0 | HZ51: ='[1]9月②'!PE51 -> 0 | IA51: ='[1]9月②'!PF51 -> 0 | IB51: ='[1]9月②'!PH51 -> 0 | IC51: ='[1]9月②'!PP51 -> 0 | ID51: ='[1]9月②'!PQ51 -> 0 | IE51: ='[1]9月②'!PS51 -> 0 | IF51: ='[1]9月③'!C51 -> 0 | IG51: ='[1]9月③'!D51 -> 0 | IH51: ='[1]9月③'!F51 -> 0 | II51: ='[1]9月③'!N51 -> 0 | IJ51: ='[1]9月③'!O51 -> 0 | IK51: ='[1]9月③'!Q51 -> 0 | IL51: ='[1]9月③'!Y51 -> 0 | IM51: ='[1]9月③'!Z51 -> 0 | IN51: ='[1]9月③'!AB51 -> 0 | IO51: ='[1]9月③'!AJ51 -> 0 | IP51: ='[1]9月③'!AK51 -> 0 | IQ51: ='[1]9月③'!AM51 -> 0 | IR51: ='[1]9月③'!AU51 -> 0 | IS51: ='[1]9月③'!AV51 -> 0 | IT51: ='[1]9月③'!AX51 -> 0 | IU51: ='[1]9月③'!BF51 -> 0 | IV51: ='[1]9月③'!BG51 -> 0 | IW51: ='[1]9月③'!BI51 -> 0 | IX51: ='[1]9月③'!BQ51 -> 0 | IY51: ='[1]9月③'!BR51 -> 0 | IZ51: ='[1]9月③'!BT51 -> 0 | JA51: ='[1]9月③'!CB51 -> 0 | JB51: ='[1]9月③'!CC51 -> 0 | JC51: ='[1]9月③'!CE51 -> 0 | JD51: ='[1]9月③'!CM51 -> 0 | JE51: ='[1]9月③'!CN51 -> 0 | JF51: ='[1]9月③'!CP51 -> 0 | JG51: ='[1]9月③'!CX51 -> 0 | JH51: ='[1]9月③'!CY51 -> 0 | JI51: ='[1]9月③'!DA51 -> 0 | JJ51: ='[1]9月③'!DI51 -> 0 | JK51: ='[1]9月③'!DJ51 -> 0 | JL51: ='[1]9月③'!DL51 -> 0 | JM51: ='[1]9月③'!DT51 -> 0 | JN51: ='[1]9月③'!DU51 -> 0 | JO51: ='[1]9月③'!DW51 -> 0 | JP51: ='[1]9月③'!EE51 -> 0 | JQ51: ='[1]9月③'!EF51 -> 0 | JR51: ='[1]9月③'!EH51 -> 0 | JS51: ='[1]9月③'!ER51 -> 0 | JT51: ='[1]9月③'!EQ51 -> 0 | JU51: ='[1]9月③'!ES51 -> 0 | JV51: ='[1]9月③'!FA51 -> 0 | JW51: ='[1]9月③'!FB51 -> 0 | JX51: ='[1]9月③'!FD51 -> 0 | JY51: ='[1]9月③'!FL51 -> 0 | JZ51: ='[1]9月③'!FM51 -> 0 | KA51: ='[1]9月③'!FO51 -> 0 | KB51: ='[1]9月③'!FW51 -> 0 | KC51: ='[1]9月③'!FX51 -> 0 | KD51: ='[1]9月③'!FZ51 -> 0 | KE51: ='[1]9月③'!GH51 -> 0 | KF51: ='[1]9月③'!GI51 -> 0 | KG51: ='[1]9月③'!GK51 -> 0 | KH51: ='[1]9月③'!GS51 -> 0 | KI51: ='[1]9月③'!GT51 -> 0 | KJ51: ='[1]9月③'!GV51 -> 0 | KK51: ='[1]9月③'!HD51 -> 0 | KL51: ='[1]9月③'!HE51 -> 0 | KM51: ='[1]9月③'!HG51 -> 0 | KN51: ='[1]9月③'!HO51 -> 0 | KO51: ='[1]9月③'!HP51 -> 0 | KP51: ='[1]9月③'!HR51 -> 0 | KQ51: ='[1]9月③'!HZ51 -> 0 | KR51: ='[1]9月③'!IA51 -> 0 | KS51: ='[1]9月③'!IC51 -> 0 | KT51: ='[1]9月③'!IK51 -> 0 | KU51: ='[1]9月③'!IL51 -> 0 | KV51: ='[1]9月③'!IN51 -> 0 | KW51: ='[1]9月③'!IV51 -> 0 | KX51: ='[1]9月③'!IW51 -> 0 | KY51: ='[1]9月③'!IY51 -> 0 | KZ51: ='[1]9月③'!JG51 -> 0 | LA51: ='[1]9月③'!JH51 -> 0 | LB51: ='[1]9月③'!JJ51 -> 0 | LC51: ='[1]9月③'!JR51 -> 0 | LD51: ='[1]9月③'!JS51 -> 0 | LE51: ='[1]9月③'!JU51 -> 0 | LF51: ='[1]9月③'!KC51 -> 0 | LG51: ='[1]9月③'!KD51 -> 0 | LH51: ='[1]9月③'!KF51 -> 0 | LI51: ='[1]9月③'!KN51 -> 0 | LJ51: ='[1]9月③'!KO51 -> 0 | LK51: ='[1]9月③'!KQ51 -> 0 | LL51: ='[1]9月③'!KY51 -> 0 | LM51: ='[1]9月③'!KZ51 -> 0 | LN51: ='[1]9月③'!LB51 -> 0 | LO51: ='[1]9月③'!LJ51 -> 0 | LP51: ='[1]9月③'!LK51 -> 0 | LQ51: ='[1]9月③'!LM51 -> 0 | LR51: ='[1]9月③'!LU51 -> 0 | LS51: ='[1]9月③'!LV51 -> 0 | LT51: ='[1]9月③'!LX51 -> 0 | LU51: ='[1]9月③'!MF51 -> 0 | LV51: ='[1]9月③'!MG51 -> 0 | LW51: ='[1]9月③'!MI51 -> 0 | LX51: ='[1]9月③'!MQ51 -> 0 | LY51: ='[1]9月③'!MR51 -> 0 | LZ51: ='[1]9月③'!MT51 -> 0 | MA51: ='[1]9月③'!NB51 -> 0 | MB51: ='[1]9月③'!NC51 -> 0 | MC51: ='[1]9月③'!NE51 -> 0 | MD51: ='[1]9月③'!NM51 -> 0 | ME51: ='[1]9月③'!NN51 -> 0 | MF51: ='[1]9月③'!NP51 -> 0 | MG51: ='[1]9月③'!NX51 -> 0 | MH51: ='[1]9月③'!NY51 -> 0 | MI51: ='[1]9月③'!OA51 -> 0 | MJ51: ='[1]9月③'!OI51 -> 0 | MK51: ='[1]9月③'!OT51 -> 0 | ML51: ='[1]9月③'!OL51 -> 0 | MM51: ='[1]9月③'!LT51 -> 0 | MN51: ='[1]9月③'!LU51 -> 0 | MO51: ='[1]9月③'!LW51 -> 0 | MP51: ='[1]9月③'!PE51 -> 0 | MQ51: ='[1]9月③'!PF51 -> 0 | MR51: ='[1]9月③'!PH51 -> 0 | MS51: ='[1]9月③'!PP51 -> 0 | MT51: ='[1]9月③'!PQ51 -> 0 | MU51: ='[1]9月③'!PS51 -> 0 | MV51: ='[1]9月③'!QA51 -> 0 | MW51: ='[1]9月③'!QB51 -> 0 | MX51: ='[1]9月③'!QD51 -> 0 | MY51: ='[1]9月③'!QL51 -> 0 | MZ51: ='[1]9月③'!QM51 -> 0 | NA51: ='[1]9月③'!QO51 -> 0 | NB51: ='[1]9月③'!QW51 -> 0 | NC51: ='[1]9月③'!QX51 -> 0 | ND51: ='[1]9月③'!QZ51 -> 0 | NE51: ='[1]9月③'!RH51 -> 0 | NF51: ='[1]9月③'!RI51 -> 0 | NG51: ='[1]9月③'!RK51 -> 0 | NH51: ='[1]9月③'!RS51 -> 0 | NI51: ='[1]9月③'!RT51 -> 0 | NJ51: ='[1]9月③'!RV51 -> 0 | NK51: ='[1]9月③'!SD51 -> 0 | NL51: ='[1]9月③'!SE51 -> 0 | NM51: ='[1]9月③'!SG51 -> 0 | NN51: ='[1]9月③'!SO51 -> 0 | NO51: ='[1]9月③'!SP51 -> 0 | NP51: ='[1]9月③'!SR51 -> 0 | NQ51: ='[1]9月③'!SZ51 -> 0 | NR51: ='[1]9月③'!TA51 -> 0 | NS51: ='[1]9月③'!TC51 -> 0 | NT51: ='[1]9月③'!TK51 -> 0 | NU51: ='[1]9月③'!TL51 -> 0 | NV51: ='[1]9月③'!TN51 -> 0 | NW51: ='[1]9月③'!TV51 -> 0 | NX51: ='[1]9月③'!TW51 -> 0 | NY51: ='[1]9月③'!TY51 -> 0 | NZ51: ='[1]9月③'!UG51 -> 0 | OA51: ='[1]9月③'!UH51 -> 0 | OB51: ='[1]9月③'!UJ51 -> 0
A52: 合 計 | C52: =SUM(C5:C51) -> 0 | D52: =SUM(D5:D51) -> 0 | E52: =SUM(E5:E51) -> 0 | F52: =SUM(F5:F51) -> 0 | G52: =SUM(G5:G51) -> 0 | H52: =SUM(H5:H51) -> 0 | I52: =SUM(I5:I51) -> 0 | J52: =SUM(J5:J51) -> 0 | ... OB52: =SUM(OB5:OB51) -> 0
A53: 前月よりの繰越し | E53: ='[1]9月①'!E52 -> 0 | H53: ='[1]9月①'!P52 -> 0 | K53: ='[1]9月①'!AA52 -> 0 | N53: ='[1]9月①'!AL52 -> 0 | Q53: ='[1]9月①'!Y52 -> 0 | T53: ='[1]9月①'!AJ52 -> 0 | W53: ='[1]9月①'!AU52 -> 0 | Z53: ='[1]9月①'!CD52 -> 0 | AC53: ='[1]9月①'!AK52 -> 0 | AF53: ='[1]9月①'!AV52 -> 0 | AI53: ='[1]9月①'!DK52 -> 0 | AL53: ='[1]9月①'!DV52 -> 0 | AO53: ='[1]9月①'!EG52 -> 0 | AR53: ='[1]9月①'!ER52 -> 0 | AU53: ='[1]9月①'!BC52 -> 0 | AX53: ='[1]9月①'!BN52 -> 0 | BA53: ='[1]9月①'!BY52 -> 0 | BD53: ='[1]9月①'!GJ52 -> 0 | BG53: ='[1]9月①'!GU52 -> 0 | BJ53: ='[1]9月①'!HF52 -> 0 | BM53: ='[1]9月①'!HQ52 -> 0 | BP53: ='[1]9月①'!IB52 -> 0 | BS53: ='[1]9月①'!CA52 -> 0 | BV53: ='[1]9月①'!CL52 -> 0 | BY53: ='[1]9月①'!CW52 -> 0 | CB53: ='[1]9月①'!JT52 -> 0 | CE53: ='[1]9月①'!KE52 -> 0 | CH53: ='[1]9月①'!KP52 -> 0 | CK53: ='[1]9月①'!LA52 -> 0 | CN53: ='[1]9月①'!LL52 -> 0 | CQ53: ='[1]9月①'!CY52 -> 0 | CT53: ='[1]9月①'!DJ52 -> 0 | CW53: ='[1]9月①'!DU52 -> 0 | CZ53: ='[1]9月①'!ND52 -> 0 | DC53: ='[1]9月①'!NO52 -> 0 | DF53: ='[1]9月①'!NZ52 -> 0 | DI53: ='[1]9月①'!DQ52 -> 0 | DL53: ='[1]9月①'!EB52 -> 0 | DO53: ='[1]9月①'!EM52 -> 0 | DR53: ='[1]9月②'!E52 -> 0 | DU53: ='[1]9月②'!P52 -> 0 | DX53: ='[1]9月②'!AA52 -> 0 | EA53: ='[1]9月②'!N52 -> 0 | ED53: ='[1]9月②'!Y52 -> 0 | EG53: ='[1]9月②'!BH52 -> 0 | EJ53: ='[1]9月②'!BS52 -> 0 | EM53: ='[1]9月②'!CD52 -> 0 | EP53: ='[1]9月②'!CO52 -> 0 | ES53: ='[1]9月②'!CZ52 -> 0 | EV53: ='[1]9月②'!BW52 -> 0 | EY53: ='[1]9月②'!CH52 -> 0 | FB53: ='[1]9月②'!CS52 -> 0 | FE53: ='[1]9月②'!ER52 -> 0 | FH53: ='[1]9月②'!FC52 -> 0 | FK53: ='[1]9月②'!FN52 -> 0 | FN53: ='[1]9月②'!FY52 -> 0 | FQ53: ='[1]9月②'!CR52 -> 0 | FT53: ='[1]9月②'!DC52 -> 0 | FW53: ='[1]9月②'!DN52 -> 0 | FZ53: ='[1]9月②'!HQ52 -> 0 | GC53: ='[1]9月②'!IB52 -> 0 | GF53: ='[1]9月②'!IM52 -> 0 | GI53: ='[1]9月②'!IX52 -> 0 | GL53: ='[1]9月②'!DM52 -> 0 | GO53: ='[1]9月②'!DX52 -> 0 | GR53: ='[1]9月②'!EI52 -> 0 | GU53: ='[1]9月②'!KP52 -> 0 | GX53: ='[1]9月②'!LA52 -> 0 | HA53: ='[1]9月②'!EB52 -> 0 | HD53: ='[1]9月②'!EM52 -> 0 | HG53: ='[1]9月②'!MH52 -> 0 | HJ53: ='[1]9月②'!MS52 -> 0 | HM53: ='[1]9月②'!ND52 -> 0 | HP53: ='[1]9月②'!EQ52 -> 0 | HS53: ='[1]9月②'!FB52 -> 0 | HV53: ='[1]9月②'!OK52 -> 0 | HY53: ='[1]9月②'!OV52 -> 0 | IB53: ='[1]9月②'!FC52 -> 0 | IE53: ='[1]9月②'!FN52 -> 0 | IH53: ='[1]9月③'!E52 -> 0 | IK53: ='[1]9月③'!H52 -> 0 | IN53: ='[1]9月③'!K52 -> 0 | IQ53: ='[1]9月③'!AL52 -> 0 | IT53: ='[1]9月③'!AW52 -> 0 | IW53: ='[1]9月③'!BH52 -> 0 | IZ53: ='[1]9月③'!W52 -> 0 | JC53: ='[1]9月③'!Z52 -> 0 | JF53: ='[1]9月③'!CO52 -> 0 | JI53: ='[1]9月③'!CZ52 -> 0 | JL53: ='[1]9月③'!DK52 -> 0 | JO53: ='[1]9月③'!DV52 -> 0 | JR53: ='[1]9月③'!EG52 -> 0 | JU53: ='[1]9月③'!EJ52 -> 0 | JX53: ='[1]9月③'!FC52 -> 0 | KA53: ='[1]9月③'!FF52 -> 0 | KD53: ='[1]9月③'!FY52 -> 0 | KG53: ='[1]9月③'!FL52 -> 0 | KJ53: ='[1]9月③'!GU52 -> 0 | KM53: ='[1]9月③'!FR52 -> 0 | KP53: ='[1]9月③'!HQ52 -> 0 | KS53: ='[1]9月③'!IB52 -> 0 | KV53: ='[1]9月③'!IM52 -> 0 | KY53: ='[1]9月③'!IP52 -> 0 | LB53: ='[1]9月③'!JI52 -> 0 | LE53: ='[1]9月③'!JT52 -> 0 | LH53: ='[1]9月③'!KE52 -> 0 | LK53: ='[1]9月③'!JR52 -> 0 | LN53: ='[1]9月③'!KC52 -> 0 | LQ53: ='[1]9月③'!KN52 -> 0 | LT53: ='[1]9月③'!KI52 -> 0 | LW53: ='[1]9月③'!KT52 -> 0 | LZ53: ='[1]9月③'!MS52 -> 0 | MC53: ='[1]9月③'!ND52 -> 0 | MF53: ='[1]9月③'!NO52 -> 0 | MI53: ='[1]9月③'!KP52 -> 0 | ML53: ='[1]9月③'!LA52 -> 0 | MO53: ='[1]9月③'!LL52 -> 0 | MR53: ='[1]9月③'!LG52 -> 0 | MU53: ='[1]9月③'!LR52 -> 0 | MX53: ='[1]9月③'!QC52 -> 0 | NA53: ='[1]9月③'!QN52 -> 0 | ND53: ='[1]9月③'!QY52 -> 0 | NG53: ='[1]9月③'!MD52 -> 0 | NJ53: ='[1]9月③'!RU52 -> 0 | NM53: ='[1]9月③'!SF52 -> 0 | NP53: ='[1]9月③'!SQ52 -> 0 | NS53: ='[1]9月③'!MP52 -> 0 | NV53: ='[1]9月③'!TM52 -> 0 | NY53: ='[1]9月③'!UT52 -> 0 | OB53: ='[1]9月③'!UW52 -> 0
A54: 死 亡 | E54: ='[1]9月①'!G52 -> 0 | H54: ='[1]9月①'!R52 -> 0 | K54: ='[1]9月①'!AC52 -> 0 | N54: ='[1]9月①'!AN52 -> 0 | Q54: ='[1]9月①'!AA52 -> 0 | T54: ='[1]9月①'!AL52 -> 0 | W54: ='[1]9月①'!AW52 -> 0 | Z54: ='[1]9月①'!DM52 -> 0 | AC54: ='[1]9月①'!AM52 -> 0 | AF54: ='[1]9月①'!AX52 -> 0 | AI54: ='[1]9月①'!DM52 -> 0 | AL54: ='[1]9月①'!DX52 -> 0 | AO54: ='[1]9月①'!EI52 -> 0 | AR54: ='[1]9月①'!ET52 -> 0 | AU54: ='[1]9月①'!BE52 -> 0 | AX54: ='[1]9月①'!BP52 -> 0 | BA54: ='[1]9月①'!CA52 -> 0 | BD54: ='[1]9月①'!GL52 -> 0 | BG54: ='[1]9月①'!GW52 -> 0 | BJ54: ='[1]9月①'!HH52 -> 0 | BM54: ='[1]9月①'!HS52 -> 0 | BP54: ='[1]9月①'!ID52 -> 0 | BS54: ='[1]9月①'!CC52 -> 0 | BV54: ='[1]9月①'!CN52 -> 0 | BY54: ='[1]9月①'!CY52 -> 0 | CB54: ='[1]9月①'!JV52 -> 0 | CE54: ='[1]9月①'!KG52 -> 0 | CH54: ='[1]9月①'!KR52 -> 0 | CK54: ='[1]9月①'!LC52 -> 0 | CN54: ='[1]9月①'!LN52 -> 0 | CQ54: ='[1]9月①'!DA52 -> 0 | CT54: ='[1]9月①'!DL52 -> 0 | CW54: ='[1]9月①'!DW52 -> 0 | CZ54: ='[1]9月①'!NF52 -> 0 | DC54: ='[1]9月①'!NQ52 -> 0 | DF54: ='[1]9月①'!OB52 -> 0 | DI54: ='[1]9月①'!DS52 -> 0 | DL54: ='[1]9月①'!ED52 -> 0 | DO54: ='[1]9月①'!EO52 -> 0 | DR54: ='[1]9月②'!G52 -> 0 | DU54: ='[1]9月②'!R52 -> 0 | DX54: ='[1]9月②'!AC52 -> 0 | EA54: ='[1]9月②'!P52 -> 0 | ED54: ='[1]9月②'!AA52 -> 0 | EG54: ='[1]9月②'!BJ52 -> 0 | EJ54: ='[1]9月②'!BU52 -> 0 | EM54: ='[1]9月②'!CF52 -> 0 | EP54: ='[1]9月②'!CQ52 -> 0 | ES54: ='[1]9月②'!DB52 -> 0 | EV54: ='[1]9月②'!BY52 -> 0 | EY54: ='[1]9月②'!CJ52 -> 0 | FB54: ='[1]9月②'!CU52 -> 0 | FE54: ='[1]9月②'!ET52 -> 0 | FH54: ='[1]9月②'!FE52 -> 0 | FK54: ='[1]9月②'!FP52 -> 0 | FN54: ='[1]9月②'!GA52 -> 0 | FQ54: ='[1]9月②'!CT52 -> 0 | FT54: ='[1]9月②'!DE52 -> 0 | FW54: ='[1]9月②'!DP52 -> 0 | FZ54: ='[1]9月②'!ID52 -> 0 | GC54: ='[1]9月②'!ID52 -> 0 | GF54: ='[1]9月②'!IO52 -> 0 | GI54: ='[1]9月②'!IZ52 -> 0 | GL54: ='[1]9月②'!DO52 -> 0 | GO54: ='[1]9月②'!DZ52 -> 0 | GR54: ='[1]9月②'!EK52 -> 0 | GU54: ='[1]9月②'!KR52 -> 0 | GX54: ='[1]9月②'!LC52 -> 0 | HA54: ='[1]9月②'!ED52 -> 0 | HD54: ='[1]9月②'!EO52 -> 0 | HG54: ='[1]9月②'!MJ52 -> 0 | HJ54: ='[1]9月②'!MU52 -> 0 | HM54: ='[1]9月②'!NF52 -> 0 | HP54: ='[1]9月②'!ES52 -> 0 | HS54: ='[1]9月②'!FD52 -> 0 | HV54: ='[1]9月②'!OM52 -> 0 | HY54: ='[1]9月②'!OX52 -> 0 | IB54: ='[1]9月②'!FE52 -> 0 | IE54: ='[1]9月②'!FP52 -> 0 | IH54: ='[1]9月③'!G52 -> 0 | IK54: ='[1]9月③'!J52 -> 0 | IN54: ='[1]9月③'!M52 -> 0 | IQ54: ='[1]9月③'!AN52 -> 0 | IT54: ='[1]9月③'!AY52 -> 0 | IW54: ='[1]9月③'!BJ52 -> 0 | IZ54: ='[1]9月③'!Y52 -> 0 | JC54: ='[1]9月③'!AB52 -> 0 | JF54: ='[1]9月③'!CQ52 -> 0 | JI54: ='[1]9月③'!DB52 -> 0 | JL54: ='[1]9月③'!DM52 -> 0 | JO54: ='[1]9月③'!DX52 -> 0 | JR54: ='[1]9月③'!EI52 -> 0 | JU54: ='[1]9月③'!EL52 -> 0 | JX54: ='[1]9月③'!FE52 -> 0 | KA54: ='[1]9月③'!FH52 -> 0 | KD54: ='[1]9月③'!GA52 -> 0 | KG54: ='[1]9月③'!FN52 -> 0 | KJ54: ='[1]9月③'!GW52 -> 0 | KM54: ='[1]9月③'!FT52 -> 0 | KP54: ='[1]9月③'!HS52 -> 0 | KS54: ='[1]9月③'!ID52 -> 0 | KV54: ='[1]9月③'!IO52 -> 0 | KY54: ='[1]9月③'!IR52 -> 0 | LB54: ='[1]9月③'!JK52 -> 0 | LE54: ='[1]9月③'!JV52 -> 0 | LH54: ='[1]9月③'!KG52 -> 0 | LK54: ='[1]9月③'!JT52 -> 0 | LN54: ='[1]9月③'!KE52 -> 0 | LQ54: ='[1]9月③'!KP52 -> 0 | LT54: ='[1]9月③'!KK52 -> 0 | LW54: ='[1]9月③'!KV52 -> 0 | LZ54: ='[1]9月③'!MU52 -> 0 | MC54: ='[1]9月③'!NF52 -> 0 | MF54: ='[1]9月③'!NQ52 -> 0 | MI54: ='[1]9月③'!KR52 -> 0 | ML54: ='[1]9月③'!LC52 -> 0 | MO54: ='[1]9月③'!LN52 -> 0 | MR54: ='[1]9月③'!LI52 -> 0 | MU54: ='[1]9月③'!LT52 -> 0 | MX54: ='[1]9月③'!QE52 -> 0 | NA54: ='[1]9月③'!QP52 -> 0 | ND54: ='[1]9月③'!RA52 -> 0 | NG54: ='[1]9月③'!MF52 -> 0 | NJ54: ='[1]9月③'!RW52 -> 0 | NM54: ='[1]9月③'!SH52 -> 0 | NP54: ='[1]9月③'!SS52 -> 0 | NS54: ='[1]9月③'!MR52 -> 0 | NV54: ='[1]9月③'!TO52 -> 0 | NY54: ='[1]9月③'!UV52 -> 0 | OB54: ='[1]9月③'!UY52 -> 0
A55: 殺処分 | E55: =SUM('[1]9月①'!H5:K5) -> 0 | H55: =SUM('[1]9月①'!S52:V52) -> 0 | K55: =SUM('[1]9月①'!AD52:AG52) -> 0 | N55: =SUM('[1]9月①'!AO52:AR52) -> 0 | Q55: =SUM('[1]9月①'!AB52:AE52) -> 0 | T55: =SUM('[1]9月①'!AM52:AP52) -> 0 | W55: =SUM('[1]9月①'!AX52:BA52) -> 0 | Z55: =SUM('[1]9月①'!CG52:CJ52) -> 0 | AC55: =SUM('[1]9月①'!AN52:AQ52) -> 0 | AF55: =SUM('[1]9月①'!AY52:BB52) -> 0 | AI55: =SUM('[1]9月①'!CG52:CJ52) -> 0 | AL55: =SUM('[1]9月①'!DY52:EB52) -> 0 | AO55: =SUM('[1]9月①'!EJ52:EM52) -> 0 | AR55: =SUM('[1]9月①'!EU52:EX52) -> 0 | AU55: =SUM('[1]9月①'!BF52:BI52) -> 0 | AX55: =SUM('[1]9月①'!BQ52:BT52) -> 0 | BA55: =SUM('[1]9月①'!CB52:CE52) -> 0 | BD55: =SUM('[1]9月①'!GM52:GP52) -> 0 | BG55: =SUM('[1]9月①'!GX52:HA52) -> 0 | BJ55: =SUM('[1]9月①'!HI52:HL52) -> 0 | BM55: =SUM('[1]9月①'!HT52:HW52) -> 0 | BP55: =SUM('[1]9月①'!IE52:IH52) -> 0 | BS55: =SUM('[1]9月①'!CD52:CG52) -> 0 | BV55: =SUM('[1]9月①'!CO52:CR52) -> 0 | BY55: =SUM('[1]9月①'!CZ52:DC52) -> 0 | CB55: =SUM('[1]9月①'!JW52:JZ52) -> 0 | CE55: =SUM('[1]9月①'!KH52:KK52) -> 0 | CH55: =SUM('[1]9月①'!KS52:KV52) -> 0 | CK55: =SUM('[1]9月①'!LD52:LG52) -> 0 | CN55: =SUM('[1]9月①'!LO52:LR52) -> 0 | CQ55: =SUM('[1]9月①'!DB52:DE52) -> 0 | CT55: =SUM('[1]9月①'!DM52:DP52) -> 0 | CW55: =SUM('[1]9月①'!DX52:EA52) -> 0 | CZ55: =SUM('[1]9月①'!NG52:NJ52) -> 0 | DC55: =SUM('[1]9月①'!NR52:NU52) -> 0 | DF55: =SUM('[1]9月①'!OC52:OF52) -> 0 | DI55: =SUM('[1]9月①'!DT52:DW52) -> 0 | DL55: =SUM('[1]9月①'!EE52:EH52) -> 0 | DO55: =SUM('[1]9月①'!EP52:ES52) -> 0 | DR55: =SUM('[1]9月②'!H52:K52) -> 0 | DU55: =SUM('[1]9月②'!S52:V52) -> 0 | DX55: =SUM('[1]9月②'!AD52:AG52) -> 0 | EA55: =SUM('[1]9月②'!Q52:T52) -> 0 | ED55: =SUM('[1]9月②'!AB52:AE52) -> 0 | EG55: =SUM('[1]9月②'!BK52:BN52) -> 0 | EJ55: =SUM('[1]9月②'!BV52:BY52) -> 0 | EM55: =SUM('[1]9月②'!CG52:CJ52) -> 0 | EP55: =SUM('[1]9月②'!CR52:CU52) -> 0 | ES55: =SUM('[1]9月②'!DC52:DF52) -> 0 | EV55: =SUM('[1]9月②'!BZ52:CC52) -> 0 | EY55: =SUM('[1]9月②'!CK52:CN52) -> 0 | FB55: =SUM('[1]9月②'!CV52:CY52) -> 0 | FE55: =SUM('[1]9月②'!EU52:EX52) -> 0 | FH55: =SUM('[1]9月②'!FF52:FI52) -> 0 | FK55: =SUM('[1]9月②'!FQ52:FT52) -> 0 | FN55: =SUM('[1]9月②'!GB52:GE52) -> 0 | FQ55: =SUM('[1]9月②'!CU52:CX52) -> 0 | FT55: =SUM('[1]9月②'!DF52:DI52) -> 0 | FW55: =SUM('[1]9月②'!DQ52:DT52) -> 0 | FZ55: =SUM('[1]9月②'!HT52:HW52) -> 0 | GC55: =SUM('[1]9月②'!IE52:IH52) -> 0 | GF55: =SUM('[1]9月②'!IP52:IS52) -> 0 | GI55: =SUM('[1]9月②'!JA52:JD52) -> 0 | GL55: =SUM('[1]9月②'!DP52:DS52) -> 0 | GO55: =SUM('[1]9月②'!EA52:ED52) -> 0 | GR55: =SUM('[1]9月②'!EL52:EO52) -> 0 | GU55: =SUM('[1]9月②'!KS52:KV52) -> 0 | GX55: =SUM('[1]9月②'!LD52:LG52) -> 0 | HA55: =SUM('[1]9月②'!EE52:EH52) -> 0 | HD55: =SUM('[1]9月②'!EP52:ES52) -> 0 | HG55: =SUM('[1]9月②'!MK52:MN52) -> 90 | HJ55: =SUM('[1]9月②'!MV52:MY52) -> 0 | HM55: =SUM('[1]9月②'!NG52:NJ52) -> 0 | HP55: =SUM('[1]9月②'!ET52:EW52) -> 0 | HS55: =SUM('[1]9月②'!FE52:FH52) -> 0 | HV55: =SUM('[1]9月②'!ON52:OQ52) -> 0 | HY55: =SUM('[1]9月②'!OY52:PB52) -> 0 | IB55: =SUM('[1]9月②'!FF52:FI52) -> 0 | IE55: =SUM('[1]9月②'!FQ52:FT52) -> 0 | IH55: =SUM('[1]9月③'!H52:K52) -> 0 | IK55: =SUM('[1]9月③'!K52:N52) -> 0 | IN55: =SUM('[1]9月③'!N52:Q52) -> 0 | IQ55: =SUM('[1]9月③'!AO52:AR52) -> 0 | IT55: =SUM('[1]9月③'!AZ52:BC52) -> 0 | IW55: =SUM('[1]9月③'!BK52:BN52) -> 0 | IZ55: =SUM('[1]9月③'!Z52:AC52) -> 0 | JC55: =SUM('[1]9月③'!AC52:AF52) -> 0 | JF55: =SUM('[1]9月③'!CR52:CU52) -> 0 | JI55: =SUM('[1]9月③'!DC52:DF52) -> 0 | JL55: =SUM('[1]9月③'!DN52:DQ52) -> 0 | JO55: =SUM('[1]9月③'!DY52:EB52) -> 0 | JR55: =SUM('[1]9月③'!EJ52:EM52) -> 0 | JU55: =SUM('[1]9月③'!EM52:EP52) -> 0 | JX55: =SUM('[1]9月③'!FF52:FI52) -> 0 | KA55: =SUM('[1]9月③'!FI52:FL52) -> 0 | KD55: =SUM('[1]9月③'!GB52:GE52) -> 0 | KG55: =SUM('[1]9月③'!FO52:FR52) -> 0 | KJ55: =SUM('[1]9月③'!GX52:HA52) -> 0 | KM55: =SUM('[1]9月③'!FU52:FX52) -> 0 | KP55: =SUM('[1]9月③'!HT52:HW52) -> 0 | KS55: =SUM('[1]9月③'!IE52:IH52) -> 0 | KV55: =SUM('[1]9月③'!IP52:IS52) -> 0 | KY55: =SUM('[1]9月③'!IS52:IV52) -> 0 | LB55: =SUM('[1]9月③'!JL52:JO52) -> 0 | LE55: =SUM('[1]9月③'!JW52:JZ52) -> 0 | LH55: =SUM('[1]9月③'!KH52:KK52) -> 0 | LK55: =SUM('[1]9月③'!JU52:JX52) -> 0 | LN55: =SUM('[1]9月③'!KF52:KI52) -> 0 | LQ55: =SUM('[1]9月③'!KQ52:KT52) -> 0 | LT55: =SUM('[1]9月③'!KL52:KO52) -> 0 | LW55: =SUM('[1]9月③'!KW52:KZ52) -> 0 | LZ55: =SUM('[1]9月③'!MV52:MY52) -> 0 | MC55: =SUM('[1]9月③'!NG52:NJ52) -> 0 | MF55: =SUM('[1]9月③'!NR52:NU52) -> 0 | MI55: =SUM('[1]9月③'!KS52:KV52) -> 0 | ML55: =SUM('[1]9月③'!LD52:LG52) -> 0 | MO55: =SUM('[1]9月③'!LO52:LR52) -> 0 | MR55: =SUM('[1]9月③'!LJ52:LM52) -> 0 | MU55: =SUM('[1]9月③'!LU52:LX52) -> 0 | MX55: =SUM('[1]9月③'!QF52:QI52) -> 0 | NA55: =SUM('[1]9月③'!QQ52:QT52) -> 0 | ND55: =SUM('[1]9月③'!RB52:RE52) -> 0 | NG55: =SUM('[1]9月③'!MG52:MJ52) -> 0 | NJ55: =SUM('[1]9月③'!RX52:SA52) -> 0 | NM55: =SUM('[1]9月③'!SI52:SL52) -> 0 | NP55: =SUM('[1]9月③'!ST52:SW52) -> 0 | NS55: =SUM('[1]9月③'!MS52:MV52) -> 0 | NV55: =SUM('[1]9月③'!TP52:TS52) -> 10 | NY55: =SUM('[1]9月③'!UW52:UZ52) -> 0 | OB55: =SUM('[1]9月③'!UZ52:VC52) -> 0
A56: 回 復 | E56: ='[1]9月①'!L52 -> 0 | H56: ='[1]9月①'!W52 -> 0 | K56: ='[1]9月①'!AH52 -> 0 | N56: ='[1]9月①'!AS52 -> 0 | Q56: ='[1]9月①'!AF52 -> 0 | T56: ='[1]9月①'!AQ52 -> 0 | W56: ='[1]9月①'!BB52 -> 0 | Z56: ='[1]9月①'!CK52 -> 0 | AC56: ='[1]9月①'!AR52 -> 0 | AF56: ='[1]9月①'!BC52 -> 0 | AI56: ='[1]9月①'!DR52 -> 0 | AL56: ='[1]9月①'!EC52 -> 0 | AO56: ='[1]9月①'!EN52 -> 0 | AR56: ='[1]9月①'!EY52 -> 0 | AU56: ='[1]9月①'!BJ52 -> 0 | AX56: ='[1]9月①'!BU52 -> 0 | BA56: ='[1]9月①'!CF52 -> 0 | BD56: ='[1]9月①'!GQ52 -> 0 | BG56: ='[1]9月①'!HB52 -> 0 | BJ56: ='[1]9月①'!HM52 -> 0 | BM56: ='[1]9月①'!HX52 -> 0 | BP56: ='[1]9月①'!II52 -> 0 | BS56: ='[1]9月①'!CH52 -> 0 | BV56: ='[1]9月①'!CS52 -> 0 | BY56: ='[1]9月①'!DD52 -> 0 | CB56: ='[1]9月①'!KA52 -> 0 | CE56: ='[1]9月①'!KL52 -> 0 | CH56: ='[1]9月①'!KW52 -> 0 | CK56: ='[1]9月①'!LH52 -> 0 | CN56: ='[1]9月①'!LS52 -> 0 | CQ56: ='[1]9月①'!DF52 -> 0 | CT56: ='[1]9月①'!DQ52 -> 0 | CW56: ='[1]9月①'!EB52 -> 0 | CZ56: ='[1]9月①'!NK52 -> 0 | DC56: ='[1]9月①'!NV52 -> 0 | DF56: ='[1]9月①'!OG52 -> 0 | DI56: ='[1]9月①'!DX52 -> 0 | DL56: ='[1]9月①'!EI52 -> 0 | DO56: ='[1]9月①'!ET52 -> 0 | DR56: ='[1]9月②'!L52 -> 0 | DU56: ='[1]9月②'!OR52 -> 0 | DX56: ='[1]9月②'!AH52 -> 0 | EA56: ='[1]9月②'!U52 -> 0 | ED56: ='[1]9月②'!PA52 -> 0 | EG56: ='[1]9月②'!BO52 -> 0 | EJ56: ='[1]9月②'!BZ52 -> 0 | EM56: ='[1]9月②'!CK52 -> 0 | EP56: ='[1]9月②'!CV52 -> 0 | ES56: ='[1]9月②'!DG52 -> 0 | EV56: ='[1]9月②'!CD52 -> 0 | EY56: ='[1]9月②'!CO52 -> 0 | FB56: ='[1]9月②'!CZ52 -> 0 | FE56: ='[1]9月②'!EY52 -> 0 | FH56: ='[1]9月②'!FJ52 -> 0 | FK56: ='[1]9月②'!FU52 -> 0 | FN56: ='[1]9月②'!GF52 -> 0 | FQ56: ='[1]9月②'!CY52 -> 0 | FT56: ='[1]9月②'!DJ52 -> 0 | FW56: ='[1]9月②'!DU52 -> 0 | FZ56: ='[1]9月②'!HX52 -> 0 | GC56: ='[1]9月②'!II52 -> 0 | GF56: ='[1]9月②'!IT52 -> 0 | GI56: ='[1]9月②'!JE52 -> 0 | GL56: ='[1]9月②'!DT52 -> 0 | GO56: ='[1]9月②'!EE52 -> 0 | GR56: ='[1]9月②'!EP52 -> 0 | GU56: ='[1]9月②'!KW52 -> 0 | GX56: ='[1]9月②'!LH52 -> 0 | HA56: ='[1]9月②'!EI52 -> 0 | HD56: ='[1]9月②'!ET52 -> 0 | HG56: ='[1]9月②'!NK52 -> 0 | HJ56: ='[1]9月②'!MZ52 -> 0 | HM56: ='[1]9月②'!NK52 -> 0 | HP56: ='[1]9月②'!EX52 -> 0 | HS56: ='[1]9月②'!FI52 -> 0 | HV56: ='[1]9月②'!OR52 -> 0 | HY56: ='[1]9月②'!PC52 -> 0 | IB56: ='[1]9月②'!FJ52 -> 0 | IE56: ='[1]9月②'!FU52 -> 0 | IH56: ='[1]9月③'!L52 -> 0 | IK56: ='[1]9月③'!O52 -> 0 | IN56: ='[1]9月③'!R52 -> 0 | IQ56: ='[1]9月③'!AS52 -> 0 | IT56: ='[1]9月③'!BD52 -> 0 | IW56: ='[1]9月③'!BO52 -> 0 | IZ56: ='[1]9月③'!AD52 -> 0 | JC56: ='[1]9月③'!AG52 -> 0 | JF56: ='[1]9月③'!CV52 -> 0 | JI56: ='[1]9月③'!DG52 -> 0 | JL56: ='[1]9月③'!DR52 -> 0 | JO56: ='[1]9月③'!EC52 -> 0 | JR56: ='[1]9月③'!EN52 -> 0 | JU56: ='[1]9月③'!EQ52 -> 0 | JX56: ='[1]9月③'!FJ52 -> 0 | KA56: ='[1]9月③'!FM52 -> 0 | KD56: ='[1]9月③'!GF52 -> 0 | KG56: ='[1]9月③'!FS52 -> 0 | KJ56: ='[1]9月③'!HB52 -> 0 | KM56: ='[1]9月③'!FY52 -> 0 | KP56: ='[1]9月③'!HX52 -> 0 | KS56: ='[1]9月③'!II52 -> 0 | KV56: ='[1]9月③'!IT52 -> 0 | KY56: ='[1]9月③'!IW52 -> 0 | LB56: ='[1]9月③'!JP52 -> 0 | LE56: ='[1]9月③'!KA52 -> 0 | LH56: ='[1]9月③'!KL52 -> 0 | LK56: ='[1]9月③'!JY52 -> 0 | LN56: ='[1]9月③'!KJ52 -> 0 | LQ56: ='[1]9月③'!KU52 -> 0 | LT56: ='[1]9月③'!KP52 -> 0 | LW56: ='[1]9月③'!LA52 -> 0 | LZ56: ='[1]9月③'!MZ52 -> 0 | MC56: ='[1]9月③'!NK52 -> 0 | MF56: ='[1]9月③'!NV52 -> 0 | MI56: ='[1]9月③'!KW52 -> 0 | ML56: ='[1]9月③'!LH52 -> 0 | MO56: ='[1]9月③'!LS52 -> 0 | MR56: ='[1]9月③'!LN52 -> 0 | MU56: ='[1]9月③'!LY52 -> 0 | MX56: ='[1]9月③'!QJ52 -> 0 | NA56: ='[1]9月③'!QU52 -> 0 | ND56: ='[1]9月③'!RF52 -> 0 | NG56: ='[1]9月③'!MK52 -> 0 | NJ56: ='[1]9月③'!SB52 -> 0 | NM56: ='[1]9月③'!SM52 -> 0 | NP56: ='[1]9月③'!SX52 -> 0 | NS56: ='[1]9月③'!MW52 -> 0 | NV56: ='[1]9月③'!TT52 -> 0 | NY56: ='[1]9月③'!VA52 -> 0 | OB56: ='[1]9月③'!VD52 -> 0
A57: 未転帰 | E57: ='[1]9月①'!M52 -> 0 | H57: ='[1]9月①'!X52 -> 0 | K57: ='[1]9月①'!AI52 -> 0 | N57: ='[1]9月①'!AT52 -> 0 | Q57: ='[1]9月①'!AG52 -> 0 | T57: ='[1]9月①'!AR52 -> 0 | W57: ='[1]9月①'!BC52 -> 0 | Z57: ='[1]9月①'!CL52 -> 0 | AC57: ='[1]9月①'!AS52 -> 0 | AF57: ='[1]9月①'!BD52 -> 0 | AI57: ='[1]9月①'!DS52 -> 0 | AL57: ='[1]9月①'!ED52 -> 0 | AO57: ='[1]9月①'!EO52 -> 0 | AR57: ='[1]9月①'!EZ52 -> 0 | AU57: ='[1]9月①'!BK52 -> 0 | AX57: ='[1]9月①'!BV52 -> 0 | BA57: ='[1]9月①'!CG52 -> 0 | BD57: ='[1]9月①'!GR52 -> 0 | BG57: ='[1]9月①'!HC52 -> 0 | BJ57: ='[1]9月①'!HN52 -> 0 | BM57: ='[1]9月①'!HY52 -> 0 | BP57: ='[1]9月①'!IJ52 -> 0 | BS57: ='[1]9月①'!CI52 -> 0 | BV57: ='[1]9月①'!CT52 -> 0 | BY57: ='[1]9月①'!DE52 -> 0 | CB57: ='[1]9月①'!KB52 -> 0 | CE57: ='[1]9月①'!KM52 -> 0 | CH57: ='[1]9月①'!KX52 -> 0 | CK57: ='[1]9月①'!LI52 -> 0 | CN57: ='[1]9月①'!LT52 -> 0 | CQ57: ='[1]9月①'!DG52 -> 0 | CT57: ='[1]9月①'!DR52 -> 0 | CW57: ='[1]9月①'!EC52 -> 0 | CZ57: ='[1]9月①'!NL52 -> 0 | DC57: ='[1]9月①'!NW52 -> 0 | DF57: ='[1]9月①'!OH52 -> 0 | DI57: ='[1]9月①'!DY52 -> 0 | DL57: ='[1]9月①'!EJ52 -> 0 | DO57: ='[1]9月①'!EU52 -> 0 | DR57: ='[1]9月②'!M52 -> 0 | DU57: ='[1]9月②'!X52 -> 0 | DX57: ='[1]9月②'!AI52 -> 0 | EA57: ='[1]9月②'!V52 -> 0 | ED57: ='[1]9月②'!AG52 -> 0 | EG57: ='[1]9月②'!BP52 -> 0 | EJ57: ='[1]9月②'!CA52 -> 0 | EM57: ='[1]9月②'!CL52 -> 0 | EP57: ='[1]9月②'!CW52 -> 0 | ES57: ='[1]9月②'!DH52 -> 0 | EV57: ='[1]9月②'!CE52 -> 0 | EY57: ='[1]9月②'!CP52 -> 0 | FB57: ='[1]9月②'!DA52 -> 0 | FE57: ='[1]9月②'!EZ52 -> 0 | FH57: ='[1]9月②'!FK52 -> 0 | FK57: ='[1]9月②'!FV52 -> 0 | FN57: ='[1]9月②'!GG52 -> 0 | FQ57: ='[1]9月②'!CZ52 -> 0 | FT57: ='[1]9月②'!DK52 -> 0 | FW57: ='[1]9月②'!DV52 -> 0 | FZ57: ='[1]9月②'!HY52 -> 0 | GC57: ='[1]9月②'!IJ52 -> 0 | GF57: ='[1]9月②'!IU52 -> 0 | GI57: ='[1]9月②'!JF52 -> 0 | GL57: ='[1]9月②'!DU52 -> 0 | GO57: ='[1]9月②'!EF52 -> 0 | GR57: ='[1]9月②'!EQ52 -> 0 | GU57: ='[1]9月②'!KX52 -> 0 | GX57: ='[1]9月②'!LI52 -> 0 | HA57: ='[1]9月②'!EJ52 -> 0 | HD57: ='[1]9月②'!EU52 -> 0 | HG57: ='[1]9月②'!MP52 -> 0 | HJ57: ='[1]9月②'!NA52 -> 0 | HM57: ='[1]9月②'!NL52 -> 0 | HP57: ='[1]9月②'!EY52 -> 0 | HS57: ='[1]9月②'!FJ52 -> 0 | HV57: ='[1]9月②'!OS52 -> 0 | HY57: ='[1]9月②'!PD52 -> 0 | IB57: ='[1]9月②'!FK52 -> 0 | IE57: ='[1]9月②'!FV52 -> 0 | IH57: ='[1]9月③'!M52 -> 0 | IK57: ='[1]9月③'!P52 -> 0 | IN57: ='[1]9月③'!S52 -> 0 | IQ57: ='[1]9月③'!AT52 -> 0 | IT57: ='[1]9月③'!BE52 -> 0 | IW57: ='[1]9月③'!BP52 -> 0 | IZ57: ='[1]9月③'!AE52 -> 0 | JC57: ='[1]9月③'!AH52 -> 0 | JF57: ='[1]9月③'!CW52 -> 0 | JI57: ='[1]9月③'!DH52 -> 0 | JL57: ='[1]9月③'!DS52 -> 0 | JO57: ='[1]9月③'!ED52 -> 0 | JR57: ='[1]9月③'!EO52 -> 0 | JU57: ='[1]9月③'!ER52 -> 0 | JX57: ='[1]9月③'!FK52 -> 0 | KA57: ='[1]9月③'!FN52 -> 0 | KD57: ='[1]9月③'!GG52 -> 0 | KG57: ='[1]9月③'!FT52 -> 0 | KJ57: ='[1]9月③'!HC52 -> 0 | KM57: ='[1]9月③'!FZ52 -> 0 | KP57: ='[1]9月③'!HY52 -> 0 | KS57: ='[1]9月③'!IJ52 -> 0 | KV57: ='[1]9月③'!IU52 -> 0 | KY57: ='[1]9月③'!IX52 -> 0 | LB57: ='[1]9月③'!JQ52 -> 0 | LE57: ='[1]9月③'!KB52 -> 0 | LH57: ='[1]9月③'!KM52 -> 0 | LK57: ='[1]9月③'!JZ52 -> 0 | LN57: ='[1]9月③'!KK52 -> 0 | LQ57: ='[1]9月③'!KV52 -> 0 | LT57: ='[1]9月③'!KQ52 -> 0 | LW57: ='[1]9月③'!LB52 -> 0 | LZ57: ='[1]9月③'!NA52 -> 0 | MC57: ='[1]9月③'!NL52 -> 0 | MF57: ='[1]9月③'!NW52 -> 0 | MI57: ='[1]9月③'!KX52 -> 0 | ML57: ='[1]9月③'!LI52 -> 0 | MO57: ='[1]9月③'!LT52 -> 0 | MR57: ='[1]9月③'!LO52 -> 0 | MU57: ='[1]9月③'!LZ52 -> 0 | MX57: ='[1]9月③'!QK52 -> 0 | NA57: ='[1]9月③'!QV52 -> 0 | ND57: ='[1]9月③'!RG52 -> 0 | NG57: ='[1]9月③'!ML52 -> 0 | NJ57: ='[1]9月③'!SC52 -> 0 | NM57: ='[1]9月③'!SN52 -> 0 | NP57: ='[1]9月③'!SY52 -> 0 | NS57: ='[1]9月③'!MX52 -> 0 | NV57: ='[1]9月③'!TU52 -> 0 | NY57: ='[1]9月③'!VB52 -> 0 | OB57: ='[1]9月③'!VE52 -> 0
A58: 累 計 | D58: =D61 -> 0 | E58: =E61 -> 0 | G58: =G61 -> 0 | H58: =H61 -> 0 | J58: =J61 -> 0 | K58: =K61 -> 0 | M58: =M61 -> 0 | N58: =N61 -> 0 | P58: =P61 -> 0 | Q58: =Q61 -> 0 | S58: =S61 -> 0 | T58: =T61 -> 0 | V58: =V61 -> 0 | W58: =W61 -> 0 | Y58: =Y61 -> 0 | Z58: =Z61 -> 0 | AB58: =AB61 -> 0 | AC58: =AC61 -> 0 | AE58: =AE61 -> 0 | AF58: =AF61 -> 0 | AH58: =AH61 -> 0 | AI58: =AI61 -> 0 | AK58: =AK61 -> 0 | AL58: =AL61 -> 0 | AN58: =AN61 -> 0 | AO58: =AO61 -> 0 | AQ58: =AQ61 -> 0 | AR58: =AR61 -> 0 | AT58: =AT61 -> 0 | AU58: =AU61 -> 0 | AW58: =AW61 -> 0 | AX58: =AX61 -> 0 | AZ58: =AZ61 -> 0 | BA58: =BA61 -> 0 | BC58: =BC61 -> 0 | BD58: =BD61 -> 0 | BF58: =BF61 -> 0 | BG58: =BG61 -> 0 | BI58: =BI61 -> 0 | BJ58: =BJ61 -> 0 | BL58: =BL61 -> 0 | BM58: =BM61 -> 0 | BO58: =BO61 -> 0 | BP58: =BP61 -> 0 | BR58: =BR61 -> 0 | BS58: =BS61 -> 0 | BU58: =BU61 -> 0 | BV58: =BV61 -> 0 | BX58: =BX61 -> 0 | BY58: =BY61 -> 0 | CA58: =CA61 -> 0 | CB58: =CB61 -> 0 | CD58: =CD61 -> 0 | CE58: =CE61 -> 0 | CG58: =CG61 -> 0 | CH58: =CH61 -> 0 | CJ58: =CJ61 -> 0 | CK58: =CK61 -> 0 | CM58: =CM61 -> 0 | CN58: =CN61 -> 0 | CP58: =CP61 -> 0 | CQ58: =CQ61 -> 0 | CS58: =CS61 -> 0 | CT58: =CT61 -> 0 | CV58: =CV61 -> 0 | CW58: =CW61 -> 0 | CY58: =CY61 -> 0 | CZ58: =CZ61 -> 0 | DB58: =DB61 -> 0 | DC58: =DC61 -> 0 | DE58: =DE61 -> 0 | DF58: =DF61 -> 0 | DH58: =DH61 -> 0 | DI58: =DI61 -> 0 | DK58: =DK61 -> 0 | DL58: =DL61 -> 0 | DN58: =DN61 -> 0 | DO58: =DO61 -> 0 | DQ58: =DQ61 -> 0 | DR58: =DR61 -> 0 | DT58: =DT61 -> 0 | DU58: =DU61 -> 0 | DW58: =DW61 -> 0 | DX58: =DX61 -> 0 | DZ58: =DZ61 -> 0 | EA58: =EA61 -> 0 | EC58: =EC61 -> 0 | ED58: =ED61 -> 0 | EF58: =EF61 -> 0 | EG58: =EG61 -> 0 | EI58: =EI61 -> 0 | EJ58: =EJ61 -> 0 | EL58: =EL61 -> 0 | EM58: =EM61 -> 0 | EO58: =EO61 -> 0 | EP58: =EP61 -> 0 | ER58: =ER61 -> 0 | ES58: =ES61 -> 0 | EU58: =EU61 -> 0 | EV58: =EV61 -> 0 | EX58: =EX61 -> 0 | EY58: =EY61 -> 0 | FA58: =FA61 -> 0 | FB58: =FB61 -> 0 | FD58: =FD61 -> 0 | FE58: =FE61 -> 0 | FG58: =FG61 -> 0 | FH58: =FH61 -> 0 | FJ58: =FJ61 -> 0 | FK58: =FK61 -> 0 | FM58: =FM61 -> 0 | FN58: =FN61 -> 0 | FP58: =FP61 -> 0 | FQ58: =FQ61 -> 0 | FS58: =FS61 -> 42 | FT58: =FT61 -> 70 | FV58: =FV61 -> 0 | FW58: =FW61 -> 0 | FY58: =FY61 -> 0 | FZ58: =FZ61 -> 0 | GB58: =GB61 -> 0 | GC58: =GC61 -> 0 | GE58: =GE61 -> 0 | GF58: =GF61 -> 0 | GH58: =GH61 -> 0 | GI58: =GI61 -> 0 | GK58: =GK61 -> 0 | GL58: =GL61 -> 0 | GN58: =GN61 -> 0 | GO58: =GO61 -> 0 | GQ58: =GQ61 -> 0 | GR58: =GR61 -> 0 | GT58: =GT61 -> 0 | GU58: =GU61 -> 0 | GW58: =GW61 -> 0 | GX58: =GX61 -> 0 | GZ58: =GZ61 -> 0 | HA58: =HA61 -> 0 | HC58: =HC61 -> 0 | HD58: =HD61 -> 0 | HF58: =HF61 -> 364 | HG58: =HG61 -> 826 | HI58: =HI61 -> 1 | HJ58: =HJ61 -> 1 | HL58: =HL61 -> 3 | HM58: =HM61 -> 13 | HO58: =HO61 -> 0 | HP58: =HP61 -> 0 | HR58: =HR61 -> 0 | HS58: =HS61 -> 0 | HU58: =HU61 -> 0 | HV58: =HV61 -> 0 | HX58: =HX61 -> 0 | HY58: =HY61 -> 0 | IA58: =IA61 -> 0 | IB58: =IB61 -> 0 | ID58: =ID61 -> 0 | IE58: =IE61 -> 0 | IG58: =IG61 -> 0 | IH58: =IH61 -> 0 | IJ58: =IJ61 -> 0 | IK58: =IK61 -> 0 | IM58: =IM61 -> 0 | IN58: =IN61 -> 0 | IP58: =IP61 -> 0 | IQ58: =IQ61 -> 0 | IS58: =IS61 -> 0 | IT58: =IT61 -> 0 | IV58: =IV61 -> 0 | IW58: =IW61 -> 0 | IY58: =IY61 -> 0 | IZ58: =IZ61 -> 0 | JB58: =JB61 -> 0 | JC58: =JC61 -> 0 | JE58: =JE61 -> 0 | JF58: =JF61 -> 0 | JH58: =JH61 -> 0 | JI58: =JI61 -> 0 | JK58: =JK61 -> 0 | JL58: =JL61 -> 0 | JN58: =JN61 -> 0 | JO58: =JO61 -> 0 | JQ58: =JQ61 -> 0 | JR58: =JR61 -> 0 | JT58: =JT61 -> 0 | JU58: =JU61 -> 0 | JW58: =JW61 -> 5 | JX58: =JX61 -> 14 | JZ58: =JZ61 -> 0 | KA58: =KA61 -> 0 | KC58: =KC61 -> 0 | KD58: =KD61 -> 0 | KF58: =KF61 -> 0 | KG58: =KG61 -> 0 | KI58: =KI61 -> 0 | KJ58: =KJ61 -> 0 | KL58: =KL61 -> 0 | KM58: =KM61 -> 0 | KO58: =KO61 -> 0 | KP58: =KP61 -> 0 | KR58: =KR61 -> 0 | KS58: =KS61 -> 0 | KU58: =KU61 -> 0 | KV58: =KV61 -> 0 | KX58: =KX61 -> 0 | KY58: =KY61 -> 0 | LA58: =LA61 -> 34 | LB58: =LB61 -> 59 | LD58: =LD61 -> 0 | LE58: =LE61 -> 0 | LG58: =LG61 -> 1 | LH58: =LH61 -> 1 | LJ58: =LJ61 -> 0 | LK58: =LK61 -> 0 | LM58: =LM61 -> 0 | LN58: =LN61 -> 0 | LP58: =LP61 -> 0 | LQ58: =LQ61 -> 0 | LS58: =LS61 -> 0 | LT58: =LT61 -> 0 | LV58: =LV61 -> 0 | LW58: =LW61 -> 0 | LY58: =LY61 -> 0 | LZ58: =LZ61 -> 0 | MB58: =MB61 -> 0 | MC58: =MC61 -> 0 | ME58: =ME61 -> 0 | MF58: =MF61 -> 0 | MH58: =MH61 -> 0 | MI58: =MI61 -> 0 | MK58: =MK61 -> 0 | ML58: =ML61 -> 0 | MN58: =MN61 -> 0 | MO58: =MO61 -> 0 | MQ58: =MQ61 -> 0 | MR58: =MR61 -> 0 | MT58: =MT61 -> 0 | MU58: =MU61 -> 0 | MW58: =MW61 -> 0 | MX58: =MX61 -> 0 | MZ58: =MZ61 -> 0 | NA58: =NA61 -> 0 | NC58: =NC61 -> 0 | ND58: =ND61 -> 0 | NF58: =NF61 -> 0 | NG58: =NG61 -> 0 | NI58: =NI61 -> 0 | NJ58: =NJ61 -> 0 | NL58: =NL61 -> 0 | NM58: =NM61 -> 0 | NO58: =NO61 -> 0 | NP58: =NP61 -> 0 | NR58: =NR61 -> 0 | NS58: =NS61 -> 0 | NU58: =NU61 -> 10 | NV58: =NV61 -> 31 | NW58: =NW61 -> 0 | NX58: =NX61 -> 1 | NY58: =NY61 -> 2 | NZ58: =NZ61 -> 0 | OA58: =OA61 -> 0 | OB58: =OB61 -> 0
A59: 前年同期累計 | D59: =SUM(D66:D67) -> 0 | E59: =SUM(E66:E67) -> 0 | G59: =SUM(G66:G67) -> 0 | H59: =SUM(H66:H67) -> 0 | J59: =SUM(J66:J67) -> 0 | K59: =SUM(K66:K67) -> 0 | M59: =SUM(M66:M67) -> 0 | N59: =SUM(N66:N67) -> 0 | P59: =SUM(P66:P67) -> 0 | Q59: =SUM(Q66:Q67) -> 0 | S59: =SUM(S66:S67) -> 0 | T59: =SUM(T66:T67) -> 0 | V59: =SUM(V66:V67) -> 0 | W59: =SUM(W66:W67) -> 0 | Y59: =SUM(Y66:Y67) -> 0 | Z59: =SUM(Z66:Z67) -> 0 | AB59: =SUM(AB66:AB67) -> 0 | AC59: =SUM(AC66:AC67) -> 0 | AE59: =SUM(AE66:AE67) -> 0 | AF59: =SUM(AF66:AF67) -> 0 | AH59: =SUM(AH66:AH67) -> 0 | AI59: =SUM(AI66:AI67) -> 0 | AK59: =SUM(AK66:AK67) -> 0 | AL59: =SUM(AL66:AL67) -> 0 | AN59: =SUM(AN66:AN67) -> 0 | AO59: =SUM(AO66:AO67) -> 0 | AQ59: =SUM(AQ66:AQ67) -> 0 | AR59: =SUM(AR66:AR67) -> 0 | AT59: =SUM(AT66:AT67) -> 0 | AU59: =SUM(AU66:AU67) -> 0 | AW59: =SUM(AW66:AW67) -> 0 | AX59: =SUM(AX66:AX67) -> 0 | AZ59: =SUM(AZ66:AZ67) -> 0 | BA59: =SUM(BA66:BA67) -> 0 | BC59: =SUM(BC66:BC67) -> 0 | BD59: =SUM(BD66:BD67) -> 0 | BF59: =SUM(BF66:BF67) -> 0 | BG59: =SUM(BG66:BG67) -> 0 | BI59: =SUM(BI66:BI67) -> 0 | BJ59: =SUM(BJ66:BJ67) -> 0 | BL59: =SUM(BL66:BL67) -> 0 | BM59: =SUM(BM66:BM67) -> 0 | BO59: =SUM(BO66:BO67) -> 1 | BP59: =SUM(BP66:BP67) -> 4 | BR59: =SUM(BR66:BR67) -> 0 | BS59: =SUM(BS66:BS67) -> 0 | BU59: =SUM(BU66:BU67) -> 0 | BV59: =SUM(BV66:BV67) -> 0 | BX59: =SUM(BX66:BX67) -> 0 | BY59: =SUM(BY66:BY67) -> 0 | CA59: =SUM(CA66:CA67) -> 0 | CB59: =SUM(CB66:CB67) -> 0 | CD59: =SUM(CD66:CD67) -> 0 | CE59: =SUM(CE66:CE67) -> 0 | CG59: =SUM(CG66:CG67) -> 0 | CH59: =SUM(CH66:CH67) -> 0 | CJ59: =SUM(CJ66:CJ67) -> 0 | CK59: =SUM(CK66:CK67) -> 0 | CM59: =SUM(CM66:CM67) -> 0 | CN59: =SUM(CN66:CN67) -> 0 | CP59: =SUM(CP66:CP67) -> 0 | CQ59: =SUM(CQ66:CQ67) -> 0 | CS59: =SUM(CS66:CS67) -> 0 | CT59: =SUM(CT66:CT67) -> 0 | CV59: =SUM(CV66:CV67) -> 0 | CW59: =SUM(CW66:CW67) -> 0 | CY59: =SUM(CY66:CY67) -> 0 | CZ59: =SUM(CZ66:CZ67) -> 0 | DB59: =SUM(DB66:DB67) -> 0 | DC59: =SUM(DC66:DC67) -> 0 | DE59: =SUM(DE66:DE67) -> 0 | DF59: =SUM(DF66:DF67) -> 0 | DH59: =SUM(DH66:DH67) -> 0 | DI59: =SUM(DI66:DI67) -> 0 | DK59: =SUM(DK66:DK67) -> 0 | DL59: =SUM(DL66:DL67) -> 0 | DN59: =SUM(DN66:DN67) -> 0 | DO59: =SUM(DO66:DO67) -> 0 | DQ59: =SUM(DQ66:DQ67) -> 0 | DR59: =SUM(DR66:DR67) -> 0 | DT59: =SUM(DT66:DT67) -> 0 | DU59: =SUM(DU66:DU67) -> 0 | DW59: =SUM(DW66:DW67) -> 0 | DX59: =SUM(DX66:DX67) -> 0 | DZ59: =SUM(DZ66:DZ67) -> 0 | EA59: =SUM(EA66:EA67) -> 0 | EC59: =SUM(EC66:EC67) -> 0 | ED59: =SUM(ED66:ED67) -> 0 | EF59: =SUM(EF66:EF67) -> 0 | EG59: =SUM(EG66:EG67) -> 0 | EI59: =SUM(EI66:EI67) -> 0 | EJ59: =SUM(EJ66:EJ67) -> 0 | EL59: =SUM(EL66:EL67) -> 0 | EM59: =SUM(EM66:EM67) -> 0 | EO59: =SUM(EO66:EO67) -> 0 | EP59: =SUM(EP66:EP67) -> 0 | ER59: =SUM(ER66:ER67) -> 0 | ES59: =SUM(ES66:ES67) -> 0 | EU59: =SUM(EU66:EU67) -> 0 | EV59: =SUM(EV66:EV67) -> 0 | EX59: =SUM(EX66:EX67) -> 0 | EY59: =SUM(EY66:EY67) -> 0 | FA59: =SUM(FA66:FA67) -> 0 | FB59: =SUM(FB66:FB67) -> 0 | FD59: =SUM(FD66:FD67) -> 0 | FE59: =SUM(FE66:FE67) -> 0 | FG59: =SUM(FG66:FG67) -> 0 | FH59: =SUM(FH66:FH67) -> 0 | FJ59: =SUM(FJ66:FJ67) -> 0 | FK59: =SUM(FK66:FK67) -> 0 | FM59: =SUM(FM66:FM67) -> 0 | FN59: =SUM(FN66:FN67) -> 0 | FP59: =SUM(FP66:FP67) -> 0 | FQ59: =SUM(FQ66:FQ67) -> 0 | FS59: =SUM(FS66:FS67) -> 27 | FT59: =SUM(FT66:FT67) -> 57 | FV59: =SUM(FV66:FV67) -> 0 | FW59: =SUM(FW66:FW67) -> 0 | FY59: =SUM(FY66:FY67) -> 0 | FZ59: =SUM(FZ66:FZ67) -> 0 | GB59: =SUM(GB66:GB67) -> 0 | GC59: =SUM(GC66:GC67) -> 0 | GE59: =SUM(GE66:GE67) -> 0 | GF59: =SUM(GF66:GF67) -> 0 | GH59: =SUM(GH66:GH67) -> 0 | GI59: =SUM(GI66:GI67) -> 0 | GK59: =SUM(GK66:GK67) -> 0 | GL59: =SUM(GL66:GL67) -> 0 | GN59: =SUM(GN66:GN67) -> 0 | GO59: =SUM(GO66:GO67) -> 0 | GQ59: =SUM(GQ66:GQ67) -> 0 | GR59: =SUM(GR66:GR67) -> 0 | GT59: =SUM(GT66:GT67) -> 0 | GU59: =SUM(GU66:GU67) -> 0 | GW59: =SUM(GW66:GW67) -> 0 | GX59: =SUM(GX66:GX67) -> 0 | GZ59: =SUM(GZ66:GZ67) -> 0 | HA59: =SUM(HA66:HA67) -> 0 | HC59: =SUM(HC66:HC67) -> 0 | HD59: =SUM(HD66:HD67) -> 0 | HF59: =SUM(HF66:HF67) -> 381 | HG59: =SUM(HG66:HG67) -> 873 | HI59: =SUM(HI66:HI67) -> 0 | HJ59: =SUM(HJ66:HJ67) -> 0 | HL59: =SUM(HL66:HL67) -> 2 | HM59: =SUM(HM66:HM67) -> 2 | HO59: =SUM(HO66:HO67) -> 0 | HP59: =SUM(HP66:HP67) -> 0 | HR59: =SUM(HR66:HR67) -> 0 | HS59: =SUM(HS66:HS67) -> 0 | HU59: =SUM(HU66:HU67) -> 0 | HV59: =SUM(HV66:HV67) -> 0 | HX59: =SUM(HX66:HX67) -> 0 | HY59: =SUM(HY66:HY67) -> 0 | IA59: =SUM(IA66:IA67) -> 0 | IB59: =SUM(IB66:IB67) -> 0 | ID59: =SUM(ID66:ID67) -> 0 | IE59: =SUM(IE66:IE67) -> 0 | IG59: =SUM(IG66:IG67) -> 0 | IH59: =SUM(IH66:IH67) -> 0 | IJ59: =SUM(IJ66:IJ67) -> 0 | IK59: =SUM(IK66:IK67) -> 0 | IM59: =SUM(IM66:IM67) -> 0 | IN59: =SUM(IN66:IN67) -> 0 | IP59: =SUM(IP66:IP67) -> 0 | IQ59: =SUM(IQ66:IQ67) -> 0 | IS59: =SUM(IS66:IS67) -> 1 | IT59: =SUM(IT66:IT67) -> 1 | IV59: =SUM(IV66:IV67) -> 0 | IW59: =SUM(IW66:IW67) -> 0 | IY59: =SUM(IY66:IY67) -> 0 | IZ59: =SUM(IZ66:IZ67) -> 0 | JB59: =SUM(JB66:JB67) -> 0 | JC59: =SUM(JC66:JC67) -> 0 | JE59: =SUM(JE66:JE67) -> 0 | JF59: =SUM(JF66:JF67) -> 0 | JH59: =SUM(JH66:JH67) -> 0 | JI59: =SUM(JI66:JI67) -> 0 | JK59: =SUM(JK66:JK67) -> 0 | JL59: =SUM(JL66:JL67) -> 0 | JN59: =SUM(JN66:JN67) -> 0 | JO59: =SUM(JO66:JO67) -> 0 | JQ59: =SUM(JQ66:JQ67) -> 0 | JR59: =SUM(JR66:JR67) -> 0 | JT59: =SUM(JT66:JT67) -> 0 | JU59: =SUM(JU66:JU67) -> 0 | JW59: =SUM(JW66:JW67) -> 4 | JX59: =SUM(JX66:JX67) -> 18 | JZ59: =SUM(JZ66:JZ67) -> 6 | KA59: =SUM(KA66:KA67) -> 0 | KC59: =SUM(KC66:KC67) -> 0 | KD59: =SUM(KD66:KD67) -> 0 | KF59: =SUM(KF66:KF67) -> 0 | KG59: =SUM(KG66:KG67) -> 0 | KI59: =SUM(KI66:KI67) -> 0 | KJ59: =SUM(KJ66:KJ67) -> 0 | KL59: =SUM(KL66:KL67) -> 0 | KM59: =SUM(KM66:KM67) -> 0 | KO59: =SUM(KO66:KO67) -> 0 | KP59: =SUM(KP66:KP67) -> 0 | KR59: =SUM(KR66:KR67) -> 0 | KS59: =SUM(KS66:KS67) -> 0 | KU59: =SUM(KU66:KU67) -> 0 | KV59: =SUM(KV66:KV67) -> 0 | KX59: =SUM(KX66:KX67) -> 3 | KY59: =SUM(KY66:KY67) -> 5 | LA59: =SUM(LA66:LA67) -> 7 | LB59: =SUM(LB66:LB67) -> 24 | LD59: =SUM(LD66:LD67) -> 0 | LE59: =SUM(LE66:LE67) -> 0 | LG59: =SUM(LG66:LG67) -> 0 | LH59: =SUM(LH66:LH67) -> 0 | LJ59: =SUM(LJ66:LJ67) -> 0 | LK59: =SUM(LK66:LK67) -> 0 | LM59: =SUM(LM66:LM67) -> 0 | LN59: =SUM(LN66:LN67) -> 0 | LP59: =SUM(LP66:LP67) -> 0 | LQ59: =SUM(LQ66:LQ67) -> 0 | LS59: =SUM(LS66:LS67) -> 0 | LT59: =SUM(LT66:LT67) -> 0 | LV59: =SUM(LV66:LV67) -> 0 | LW59: =SUM(LW66:LW67) -> 0 | LY59: =SUM(LY66:LY67) -> 0 | LZ59: =SUM(LZ66:LZ67) -> 0 | MB59: =SUM(MB66:MB67) -> 0 | MC59: =SUM(MC66:MC67) -> 0 | ME59: =SUM(ME66:ME67) -> 0 | MF59: =SUM(MF66:MF67) -> 0 | MH59: =SUM(MH66:MH67) -> 0 | MI59: =SUM(MI66:MI67) -> 0 | MK59: =SUM(MK66:MK67) -> 0 | ML59: =SUM(ML66:ML67) -> 0 | MN59: =SUM(MN66:MN67) -> 0 | MO59: =SUM(MO66:MO67) -> 0 | MQ59: =SUM(MQ66:MQ67) -> 0 | MR59: =SUM(MR66:MR67) -> 0 | MT59: =SUM(MT66:MT67) -> 0 | MU59: =SUM(MU66:MU67) -> 0 | MW59: =SUM(MW66:MW67) -> 0 | MX59: =SUM(MX66:MX67) -> 0 | MZ59: =SUM(MZ66:MZ67) -> 0 | NA59: =SUM(NA66:NA67) -> 0 | NC59: =SUM(NC66:NC67) -> 0 | ND59: =SUM(ND66:ND67) -> 0 | NF59: =SUM(NF66:NF67) -> 0 | NG59: =SUM(NG66:NG67) -> 0 | NI59: =SUM(NI66:NI67) -> 0 | NJ59: =SUM(NJ66:NJ67) -> 0 | NL59: =SUM(NL66:NL67) -> 0 | NM59: =SUM(NM66:NM67) -> 0 | NO59: =SUM(NO66:NO67) -> 0 | NP59: =SUM(NP66:NP67) -> 0 | NR59: =SUM(NR66:NR67) -> 0 | NS59: =SUM(NS66:NS67) -> 0 | NU59: =SUM(NU66:NU67) -> 9 | NV59: =SUM(NV66:NV67) -> 16 | NX59: ='[1]9月③'!UT53 -> 0 | NY59: ='[1]9月③'!UU53 -> 0 | OA59: ='[1]9月③'!UW53 -> 0 | OB59: ='[1]9月③'!UX53 -> 0
A61: 累計 | C61: =C52+C62 -> 0 | D61: =D52+D62 -> 0 | E61: =E52+E62 -> 0 | F61: =F52+F62 -> 0 | G61: =G52+G62 -> 0 | H61: =H52+H62 -> 0 | I61: =I52+I62 -> 0 | J61: =J52+J62 -> 0 | ... OB61: =OB52+OB62 -> 0
A62: 前月まで | C62: =[1]家畜伝染病8月!C58 -> 0 | D62: =[1]家畜伝染病8月!D58 -> 0 | E62: =[1]家畜伝染病8月!E58 -> 0 | F62: =[1]家畜伝染病8月!F58 -> 0 | G62: =[1]家畜伝染病8月!G58 -> 0 | H62: =[1]家畜伝染病8月!H58 -> 0 | I62: =[1]家畜伝染病8月!I58 -> 0 | J62: =[1]家畜伝染病8月!J58 -> 0 | ... OB62: =[1]家畜伝染病8月!OB58 -> 0
B63: 1～8月
A66: 前年度9月 | D66: ='[1]9月①'!D53 -> 0 | E66: ='[1]9月①'!F53 -> 0 | G66: ='[1]9月①'!O53 -> 0 | H66: ='[1]9月①'!Q53 -> 0 | J66: ='[1]9月①'!Z53 -> 0 | K66: ='[1]9月①'!AB53 -> 0 | M66: ='[1]9月①'!AK53 -> 0 | N66: ='[1]9月①'!AM53 -> 0 | P66: ='[1]9月①'!X53 -> 0 | Q66: ='[1]9月①'!Z53 -> 0 | S66: ='[1]9月①'!AI53 -> 0 | T66: ='[1]9月①'!AK53 -> 0 | V66: ='[1]9月①'!AT53 -> 0 | W66: ='[1]9月①'!AV53 -> 0 | Y66: ='[1]9月①'!CC53 -> 0 | Z66: ='[1]9月①'!CE53 -> 0 | AB66: ='[1]9月①'!AJ53 -> 0 | AC66: ='[1]9月①'!AL53 -> 0 | AE66: ='[1]9月①'!AU53 -> 0 | AF66: ='[1]9月①'!AW53 -> 0 | AH66: ='[1]9月①'!DJ53 -> 0 | AI66: ='[1]9月①'!DL53 -> 0 | AK66: ='[1]9月①'!DU53 -> 0 | AL66: ='[1]9月①'!DW53 -> 0 | AN66: ='[1]9月①'!EF53 -> 0 | AO66: ='[1]9月①'!EH53 -> 0 | AQ66: ='[1]9月①'!EQ53 -> 0 | AR66: ='[1]9月①'!ES53 -> 0 | AT66: ='[1]9月①'!BB53 -> 0 | AU66: ='[1]9月①'!BD53 -> 0 | AW66: ='[1]9月①'!BM53 -> 0 | AX66: ='[1]9月①'!BO53 -> 0 | AZ66: ='[1]9月①'!BX53 -> 0 | BA66: ='[1]9月①'!BZ53 -> 0 | BC66: ='[1]9月①'!GI53 -> 0 | BD66: ='[1]9月①'!GK53 -> 0 | BF66: ='[1]9月①'!GT53 -> 0 | BG66: ='[1]9月①'!GV53 -> 0 | BI66: ='[1]9月①'!HE53 -> 0 | BJ66: ='[1]9月①'!HG53 -> 0 | BL66: ='[1]9月①'!HP53 -> 0 | BM66: ='[1]9月①'!HR53 -> 0 | BO66: ='[1]9月①'!IA53 -> 0 | BP66: ='[1]9月①'!IC53 -> 0 | BR66: ='[1]9月①'!BZ53 -> 0 | BS66: ='[1]9月①'!CB53 -> 0 | BU66: ='[1]9月①'!CK53 -> 0 | BV66: ='[1]9月①'!CM53 -> 0 | BX66: ='[1]9月①'!CV53 -> 0 | BY66: ='[1]9月①'!CX53 -> 0 | CA66: ='[1]9月①'!JS53 -> 0 | CB66: ='[1]9月①'!JU53 -> 0 | CD66: ='[1]9月①'!KD53 -> 0 | CE66: ='[1]9月①'!KF53 -> 0 | CG66: ='[1]9月①'!KO53 -> 0 | CH66: ='[1]9月①'!KQ53 -> 0 | CJ66: ='[1]9月①'!KZ53 -> 0 | CK66: ='[1]9月①'!LB53 -> 0 | CM66: ='[1]9月①'!LK53 -> 0 | CN66: ='[1]9月①'!LM53 -> 0 | CP66: ='[1]9月①'!CX53 -> 0 | CQ66: ='[1]9月①'!CZ53 -> 0 | CS66: ='[1]9月①'!DI53 -> 0 | CT66: ='[1]9月①'!DK53 -> 0 | CV66: ='[1]9月①'!DT53 -> 0 | CW66: ='[1]9月①'!DV53 -> 0 | CY66: ='[1]9月①'!NC53 -> 0 | CZ66: ='[1]9月①'!NE53 -> 0 | DB66: ='[1]9月①'!NN53 -> 0 | DC66: ='[1]9月①'!NP53 -> 0 | DE66: ='[1]9月①'!NY53 -> 0 | DF66: ='[1]9月①'!OA53 -> 0 | DH66: ='[1]9月①'!DP53 -> 0 | DI66: ='[1]9月①'!DR53 -> 0 | DK66: ='[1]9月①'!EA53 -> 0 | DL66: ='[1]9月①'!EC53 -> 0 | DN66: ='[1]9月①'!EL53 -> 0 | DO66: ='[1]9月①'!EN53 -> 0 | DQ66: ='[1]9月②'!D53 -> 0 | DR66: ='[1]9月②'!F53 -> 0 | DT66: ='[1]9月②'!O53 -> 0 | DU66: ='[1]9月②'!Q53 -> 0 | DW66: ='[1]9月②'!Z53 -> 0 | DX66: ='[1]9月②'!AB53 -> 0 | DZ66: ='[1]9月②'!M53 -> 0 | EA66: ='[1]9月②'!O53 -> 0 | EC66: ='[1]9月②'!X53 -> 0 | ED66: ='[1]9月②'!Z53 -> 0 | EF66: ='[1]9月②'!BG53 -> 0 | EG66: ='[1]9月②'!BI53 -> 0 | EI66: ='[1]9月②'!BR53 -> 0 | EJ66: ='[1]9月②'!BT53 -> 0 | EL66: ='[1]9月②'!CC53 -> 0 | EM66: ='[1]9月②'!CE53 -> 0 | EO66: ='[1]9月②'!CN53 -> 0 | EP66: ='[1]9月②'!CP53 -> 0 | ER66: ='[1]9月②'!CY53 -> 0 | ES66: ='[1]9月②'!DA53 -> 0 | EU66: ='[1]9月②'!BV53 -> 0 | EV66: ='[1]9月②'!BX53 -> 0 | EX66: ='[1]9月②'!CG53 -> 0 | EY66: ='[1]9月②'!CI53 -> 0 | FA66: ='[1]9月②'!CR53 -> 0 | FB66: ='[1]9月②'!CT53 -> 0 | FD66: ='[1]9月②'!EQ53 -> 0 | FE66: ='[1]9月②'!ES53 -> 0 | FG66: ='[1]9月②'!FB53 -> 0 | FH66: ='[1]9月②'!FD53 -> 0 | FJ66: ='[1]9月②'!FM53 -> 0 | FK66: ='[1]9月②'!FO53 -> 0 | FM66: ='[1]9月②'!FX53 -> 0 | FN66: ='[1]9月②'!FZ53 -> 0 | FP66: ='[1]9月②'!CQ53 -> 0 | FQ66: ='[1]9月②'!CS53 -> 0 | FS66: ='[1]9月②'!DB53 -> 0 | FT66: ='[1]9月②'!DD53 -> 0 | FV66: ='[1]9月②'!DM53 -> 0 | FW66: ='[1]9月②'!DO53 -> 0 | FY66: ='[1]9月②'!HP53 -> 0 | FZ66: ='[1]9月②'!HR53 -> 0 | GB66: ='[1]9月②'!IA53 -> 0 | GC66: ='[1]9月②'!IC53 -> 0 | GE66: ='[1]9月②'!IL53 -> 0 | GF66: ='[1]9月②'!IN53 -> 0 | GH66: ='[1]9月②'!IW53 -> 0 | GI66: ='[1]9月②'!IY53 -> 0 | GK66: ='[1]9月②'!DL53 -> 0 | GL66: ='[1]9月②'!DN53 -> 0 | GN66: ='[1]9月②'!DW53 -> 0 | GO66: ='[1]9月②'!DY53 -> 0 | GQ66: ='[1]9月②'!EH53 -> 0 | GR66: ='[1]9月②'!EJ53 -> 0 | GT66: ='[1]9月②'!KO53 -> 0 | GU66: ='[1]9月②'!KQ53 -> 0 | GW66: ='[1]9月②'!KZ53 -> 0 | GX66: ='[1]9月②'!LB53 -> 0 | GZ66: ='[1]9月②'!EA53 -> 0 | HA66: ='[1]9月②'!EC53 -> 0 | HC66: ='[1]9月②'!EL53 -> 0 | HD66: ='[1]9月②'!EN53 -> 0 | HF66: ='[1]9月②'!MG53 -> 36 | HG66: ='[1]9月②'!MI53 -> 67 | HI66: ='[1]9月②'!MR53 -> 0 | HJ66: ='[1]9月②'!MT53 -> 0 | HL66: ='[1]9月②'!NC53 -> 0 | HM66: ='[1]9月②'!NE53 -> 0 | HO66: ='[1]9月②'!EP53 -> 0 | HP66: ='[1]9月②'!ER53 -> 0 | HR66: ='[1]9月②'!FA53 -> 0 | HS66: ='[1]9月②'!FC53 -> 0 | HU66: ='[1]9月②'!OJ53 -> 0 | HV66: ='[1]9月②'!OL53 -> 0 | HX66: ='[1]9月②'!OU53 -> 0 | HY66: ='[1]9月②'!OW53 -> 0 | IA66: ='[1]9月②'!FB53 -> 0 | IB66: ='[1]9月②'!FD53 -> 0 | ID66: ='[1]9月②'!FM53 -> 0 | IE66: ='[1]9月②'!FO53 -> 0 | IG66: ='[1]9月③'!D53 -> 0 | IH66: ='[1]9月③'!F53 -> 0 | IJ66: ='[1]9月③'!G53 -> 0 | IK66: ='[1]9月③'!I53 -> 0 | IM66: ='[1]9月③'!J53 -> 0 | IN66: ='[1]9月③'!L53 -> 0 | IP66: ='[1]9月③'!AK53 -> 0 | IQ66: ='[1]9月③'!AM53 -> 0 | IS66: ='[1]9月③'!AV53 -> 0 | IT66: ='[1]9月③'!AX53 -> 0 | IV66: ='[1]9月③'!BG53 -> 0 | IW66: ='[1]9月③'!BI53 -> 0 | IY66: ='[1]9月③'!V53 -> 0 | IZ66: ='[1]9月③'!X53 -> 0 | JB66: ='[1]9月③'!Y53 -> 0 | JC66: ='[1]9月③'!AA53 -> 0 | JE66: ='[1]9月③'!CN53 -> 0 | JF66: ='[1]9月③'!CP53 -> 0 | JH66: ='[1]9月③'!CY53 -> 0 | JI66: ='[1]9月③'!DA53 -> 0 | JK66: ='[1]9月③'!DJ53 -> 0 | JL66: ='[1]9月③'!DL53 -> 0 | JN66: ='[1]9月③'!DU53 -> 0 | JO66: ='[1]9月③'!DW53 -> 0 | JQ66: ='[1]9月③'!EF53 -> 0 | JR66: ='[1]9月③'!EH53 -> 0 | JT66: ='[1]9月③'!EI53 -> 0 | JU66: ='[1]9月③'!EK53 -> 0 | JW66: ='[1]9月③'!FB53 -> 0 | JX66: ='[1]9月③'!FD53 -> 0 | JZ66: ='[1]9月③'!FE53 -> 0 | KA66: ='[1]9月③'!FG53 -> 0 | KC66: ='[1]9月③'!FX53 -> 0 | KD66: ='[1]9月③'!FZ53 -> 0 | KF66: ='[1]9月③'!FK53 -> 0 | KG66: ='[1]9月③'!FM53 -> 0 | KI66: ='[1]9月③'!GT53 -> 0 | KJ66: ='[1]9月③'!GV53 -> 0 | KL66: ='[1]9月③'!FQ53 -> 0 | KM66: ='[1]9月③'!FS53 -> 0 | KO66: ='[1]9月③'!HP53 -> 0 | KP66: ='[1]9月③'!HR53 -> 0 | KR66: ='[1]9月③'!IA53 -> 0 | KS66: ='[1]9月③'!IC53 -> 0 | KU66: ='[1]9月③'!IL53 -> 0 | KV66: ='[1]9月③'!IN53 -> 0 | KX66: ='[1]9月③'!IO53 -> 0 | KY66: ='[1]9月③'!IQ53 -> 0 | LA66: ='[1]9月③'!JH53 -> 0 | LB66: ='[1]9月③'!JJ53 -> 0 | LD66: ='[1]9月③'!JS53 -> 0 | LE66: ='[1]9月③'!JU53 -> 0 | LG66: ='[1]9月③'!KD53 -> 0 | LH66: ='[1]9月③'!KF53 -> 0 | LJ66: ='[1]9月③'!JQ53 -> 0 | LK66: ='[1]9月③'!JS53 -> 0 | LM66: ='[1]9月③'!KB53 -> 0 | LN66: ='[1]9月③'!KD53 -> 0 | LP66: ='[1]9月③'!KM53 -> 0 | LQ66: ='[1]9月③'!KO53 -> 0 | LS66: ='[1]9月③'!KH53 -> 0 | LT66: ='[1]9月③'!KJ53 -> 0 | LV66: ='[1]9月③'!KS53 -> 0 | LW66: ='[1]9月③'!KU53 -> 0 | LY66: ='[1]9月③'!MR53 -> 0 | LZ66: ='[1]9月③'!MT53 -> 0 | MB66: ='[1]9月③'!NC53 -> 0 | MC66: ='[1]9月③'!NE53 -> 0 | ME66: ='[1]9月③'!NN53 -> 0 | MF66: ='[1]9月③'!NP53 -> 0 | MH66: ='[1]9月③'!KO53 -> 0 | MI66: ='[1]9月③'!KQ53 -> 0 | MK66: ='[1]9月③'!KZ53 -> 0 | ML66: ='[1]9月③'!LB53 -> 0 | MN66: ='[1]9月③'!LK53 -> 0 | MO66: ='[1]9月③'!LM53 -> 0 | MQ66: ='[1]9月③'!LF53 -> 0 | MR66: ='[1]9月③'!LH53 -> 0 | MT66: ='[1]9月③'!LQ53 -> 0 | MU66: ='[1]9月③'!LS53 -> 0 | MW66: ='[1]9月③'!QB53 -> 0 | MX66: ='[1]9月③'!QD53 -> 0 | MZ66: ='[1]9月③'!QM53 -> 0 | NA66: ='[1]9月③'!QO53 -> 0 | NC66: ='[1]9月③'!QX53 -> 0 | ND66: ='[1]9月③'!QZ53 -> 0 | NF66: ='[1]9月③'!MC53 -> 0 | NG66: ='[1]9月③'!ME53 -> 0 | NI66: ='[1]9月③'!RT53 -> 0 | NJ66: ='[1]9月③'!RV53 -> 0 | NL66: ='[1]9月③'!SE53 -> 0 | NM66: ='[1]9月③'!SG53 -> 0 | NO66: ='[1]9月③'!SP53 -> 0 | NP66: ='[1]9月③'!SR53 -> 0 | NR66: ='[1]9月③'!MO53 -> 0 | NS66: ='[1]9月③'!MQ53 -> 0 | NU66: ='[1]9月③'!TL53 -> 3 | NV66: ='[1]9月③'!TN53 -> 5 | NX66: ='[1]9月③'!TW53 -> 0 | NY66: ='[1]9月③'!TY53 -> 0 | OA66: ='[1]9月③'!TZ53 -> 0 | OB66: ='[1]9月③'!UB53 -> 0
A67: 前月まで | C67: =[1]家畜伝染病8月!C59 -> 0 | D67: =[1]家畜伝染病8月!D59 -> 0 | E67: =[1]家畜伝染病8月!E59 -> 0 | F67: =[1]家畜伝染病8月!F59 -> 0 | G67: =[1]家畜伝染病8月!G59 -> 0 | H67: =[1]家畜伝染病8月!H59 -> 0 | I67: =[1]家畜伝染病8月!I59 -> 0 | J67: =[1]家畜伝染病8月!J59 -> 0 | ... OB67: =[1]家畜伝染病8月!OB59 -> 0

Sheet 届出伝染病①9月
A2: 届出伝染病の種類 | C2: ﾌﾞﾙｰﾀﾝｸﾞ | F2: ﾌﾞﾙｰﾀﾝｸﾞ | I2: ﾌﾞﾙｰﾀﾝｸﾞ | L2: ﾌﾞﾙｰﾀﾝｸﾞ | O2: ﾌﾞﾙｰﾀﾝｸﾞ | R2: ｱｶﾊﾞﾈ病 （胎児感染） | U2: ｱｶﾊﾞﾈ病 （生後感染） | X2: ｱｶﾊﾞﾈ病 | AA2: ｱｶﾊﾞﾈ病 | AD2: ｱｶﾊﾞﾈ病 | AG2: 悪性ｶﾀﾙ熱 | AJ2: 悪性ｶﾀﾙ熱 | AM2: 悪性ｶﾀﾙ熱 | AP2: 悪性ｶﾀﾙ熱 | AS2: ﾁｭｳｻﾞﾝ病 | AV2: ﾁｭｳｻﾞﾝ病 | AY2: ﾁｭｳｻﾞﾝ病 | BB2: 牛ｳｲﾙｽ性下痢 | BE2: 牛ｳｲﾙｽ性下痢 | BH2: 牛伝染性鼻気管炎 | BK2: 牛伝染性鼻気管炎 | BN2: 牛伝染性リンパ腫 | BQ2: 牛伝染性リンパ腫 | BT2: ｱｲﾉｳｲﾙｽ感染症 | BW2: ｱｲﾉｳｲﾙｽ感染症 | BZ2: ｲﾊﾞﾗｷ病 | CC2: ｲﾊﾞﾗｷ病 | CF2: 牛丘疹性口内炎 | CI2: 牛丘疹性口内炎 | CL2: 牛流行熱 | CO2: 牛流行熱 | CR2: 類鼻疽 | CU2: 類鼻疽 | CX2: 類鼻疽 | DA2: 類鼻疽 | DD2: 類鼻疽 | DG2: 類鼻疽 | DJ2: 類鼻疽 | DM2: 類鼻疽 | DP2: 破傷風 | DS2: 破傷風 | DV2: 破傷風 | DY2: 破傷風 | EB2: 気腫疽 | EE2: 気腫疽 | EH2: 気腫疽 | EK2: 気腫疽 | EN2: 気腫疽 | EQ2: 気腫疽 | ET2: 気腫疽 | EW2: ﾚﾌﾟﾄｽﾋﾟﾗ症 | EZ2: ﾚﾌﾟﾄｽﾋﾟﾗ症 | FC2: ﾚﾌﾟﾄｽﾋﾟﾗ症 | FF2: ﾚﾌﾟﾄｽﾋﾟﾗ症 | FI2: ﾚﾌﾟﾄｽﾋﾟﾗ症 | FL2: ﾚﾌﾟﾄｽﾋﾟﾗ症 | FO2: ｻﾙﾓﾈﾗ症 | FR2: ｻﾙﾓﾈﾗ症 | FU2: ｻﾙﾓﾈﾗ症 | FX2: ｻﾙﾓﾈﾗ症 | GA2: ｻﾙﾓﾈﾗ症 | GD2: ｻﾙﾓﾈﾗ症 | GG2: ｻﾙﾓﾈﾗ症 | GJ2: ｻﾙﾓﾈﾗ症 | GM2: ｻﾙﾓﾈﾗ症 | GP2: 牛ｶﾝﾋﾟﾛﾊﾞｸﾀｰ症 | GS2: 牛ｶﾝﾋﾟﾛﾊﾞｸﾀｰ症 | GV2: ﾄﾘﾊﾟﾉｿｰﾏ症 | GY2: ﾄﾘﾊﾟﾉｿｰﾏ症 | HB2: ﾄﾘﾊﾟﾉｿｰﾏ症 | HE2: ﾄﾘｺﾓﾅｽ症 | HH2: ﾄﾘｺﾓﾅｽ症 | HK2: ﾈｵｽﾎﾟﾗ症 | HN2: ﾈｵｽﾎﾟﾗ症 | HQ2: 牛ﾊﾞｴ幼虫症 | HT2: 牛ﾊﾞｴ幼虫症 | HW2: ﾆﾊﾟｳｲﾙｽ感染症 | HZ2: ﾆﾊﾟｳｲﾙｽ感染症 | IC2: ﾆﾊﾟｳｲﾙｽ感染症
A3: 家畜の種類 | C3: 牛 | F3: 水牛 | I3: しか | L3: めん羊 | O3: 山羊 | R3: 牛 | U3: 牛 | X3: 水牛 | AA3: めん羊 | AD3: 山羊 | AG3: 牛 | AJ3: 水牛 | AM3: しか | AP3: めん羊 | AS3: 牛 | AV3: 水牛 | AY3: 山羊 | BB3: 牛 | BE3: 水牛 | BH3: 牛 | BK3: 水牛 | BN3: 牛 | BQ3: 水牛 | BT3: 牛 | BW3: 水牛 | BZ3: 牛 | CC3: 水牛 | CF3: 牛 | CI3: 水牛 | CL3: 牛 | CO3: 水牛 | CR3: 牛 | CU3: 水牛 | CX3: しか | DA3: 馬 | DD3: めん羊 | DG3: 山羊 | DJ3: 豚 | DM3: いのしし | DP3: 牛 | DS3: 水牛 | DV3: しか | DY3: 馬 | EB3: 牛 | EE3: 水牛 | EH3: しか | EK3: めん羊 | EN3: 山羊 | EQ3: 豚 | ET3: いのしし | EW3: 牛 | EZ3: 水牛 | FC3: しか | FF3: 豚 | FI3: いのしし | FL3: 犬 | FO3: 牛 | FR3: 水牛 | FU3: しか | FX3: 豚 | GA3: いのしし | GD3: 鶏 | GG3: あひる | GJ3: うずら | GM3: 七面鳥 | GP3: 牛 | GS3: 水牛 | GV3: 牛 | GY3: 水牛 | HB3: 馬 | HE3: 牛 | HH3: 水牛 | HK3: 牛 | HN3: 水牛 | HQ3: 牛 | HT3: 水牛 | HW3: 馬 | HZ3: 豚 | IC3: いのしし
C4: 戸数 | E4: 頭数 | F4: 戸数 | H4: 頭数 | I4: 戸数 | K4: 頭数 | L4: 戸数 | N4: 頭数 | O4: 戸数 | Q4: 頭数 | R4: 戸数 | T4: 頭数 | U4: 戸数 | W4: 頭数 | X4: 戸数 | Z4: 頭数 | AA4: 戸数 | AC4: 頭数 | AD4: 戸数 | AF4: 頭数 | AG4: 戸数 | AI4: 頭数 | AJ4: 戸数 | AL4: 頭数 | AM4: 戸数 | AO4: 頭数 | AP4: 戸数 | AR4: 頭数 | AS4: 戸数 | AU4: 頭数 | AV4: 戸数 | AX4: 頭数 | AY4: 戸数 | BA4: 頭数 | BB4: 戸数 | BD4: 頭数 | BE4: 戸数 | BG4: 頭数 | BH4: 戸数 | BJ4: 頭数 | BK4: 戸数 | BM4: 頭数 | BN4: 戸数 | BP4: 頭数 | BQ4: 戸数 | BS4: 頭数 | BT4: 戸数 | BV4: 頭数 | BW4: 戸数 | BY4: 頭数 | BZ4: 戸数 | CB4: 頭数 | CC4: 戸数 | CE4: 頭数 | CF4: 戸数 | CH4: 頭数 | CI4: 戸数 | CK4: 頭数 | CL4: 戸数 | CN4: 頭数 | CO4: 戸数 | CQ4: 頭数 | CR4: 戸数 | CT4: 頭数 | CU4: 戸数 | CW4: 頭数 | CX4: 戸数 | CZ4: 頭数 | DA4: 戸数 | DC4: 頭数 | DD4: 戸数 | DF4: 頭数 | DG4: 戸数 | DI4: 頭数 | DJ4: 戸数 | DL4: 頭数 | DM4: 戸数 | DO4: 頭数 | DP4: 戸数 | DR4: 頭数 | DS4: 戸数 | DU4: 頭数 | DV4: 戸数 | DX4: 頭数 | DY4: 戸数 | EA4: 頭数 | EB4: 戸数 | ED4: 頭数 | EE4: 戸数 | EG4: 頭数 | EH4: 戸数 | EJ4: 頭数 | EK4: 戸数 | EM4: 頭数 | EN4: 戸数 | EP4: 頭数 | EQ4: 戸数 | ES4: 頭数 | ET4: 戸数 | EV4: 頭数 | EW4: 戸数 | EY4: 頭数 | EZ4: 戸数 | FB4: 頭数 | FC4: 戸数 | FE4: 頭数 | FF4: 戸数 | FH4: 頭数 | FI4: 戸数 | FK4: 頭数 | FL4: 戸数 | FN4: 頭数 | FO4: 戸数 | FQ4: 頭数 | FR4: 戸数 | FT4: 頭数 | FU4: 戸数 | FW4: 頭数 | FX4: 戸数 | FZ4: 頭数 | GA4: 戸数 | GC4: 頭数 | GD4: 戸数 | GF4: 羽数 | GG4: 戸数 | GI4: 羽数 | GJ4: 戸数 | GL4: 羽数 | GM4: 戸数 | GO4: 羽数 | GP4: 戸数 | GR4: 頭数 | GS4: 戸数 | GU4: 頭数 | GV4: 戸数 | GX4: 頭数 | GY4: 戸数 | HA4: 頭数 | HB4: 戸数 | HD4: 頭数 | HE4: 戸数 | HG4: 頭数 | HH4: 戸数 | HJ4: 頭数 | HK4: 戸数 | HM4: 頭数 | HN4: 戸数 | HP4: 頭数 | HQ4: 戸数 | HS4: 頭数 | HT4: 戸数 | HV4: 頭数 | HW4: 戸数 | HY4: 頭数 | HZ4: 戸数 | IB4: 頭数 | IC4: 戸数 | IE4: 頭数
A5: 01 | B5: 北海道 | C5: ='[2]9月①'!C5 -> 0 | D5: ='[2]9月①'!D5 -> 0 | E5: ='[2]9月①'!E5 -> 0 | F5: ='[2]9月①'!F5 -> 0 | G5: ='[2]9月①'!G5 -> 0 | H5: ='[2]9月①'!H5 -> 0 | I5: ='[2]9月①'!I5 -> 0 | J5: ='[2]9月①'!J5 -> 0 | ... IE5: ='[2]9月①'!IE5 -> 0
A6: 02 | B6: 青 森 | C6: ='[2]9月①'!C6 -> 0 | D6: ='[2]9月①'!D6 -> 0 | E6: ='[2]9月①'!E6 -> 0 | F6: ='[2]9月①'!F6 -> 0 | G6: ='[2]9月①'!G6 -> 0 | H6: ='[2]9月①'!H6 -> 0 | I6: ='[2]9月①'!I6 -> 0 | J6: ='[2]9月①'!J6 -> 0 | ... IE6: ='[2]9月①'!IE6 -> 0
A7: 03 | B7: 岩 手 | C7: ='[2]9月①'!C7 -> 0 | D7: ='[2]9月①'!D7 -> 0 | E7: ='[2]9月①'!E7 -> 0 | F7: ='[2]9月①'!F7 -> 0 | G7: ='[2]9月①'!G7 -> 0 | H7: ='[2]9月①'!H7 -> 0 | I7: ='[2]9月①'!I7 -> 0 | J7: ='[2]9月①'!J7 -> 0 | ... IE7: ='[2]9月①'!IE7 -> 0
A8: 04 | B8: 宮 城 | C8: ='[2]9月①'!C8 -> 0 | D8: ='[2]9月①'!D8 -> 0 | E8: ='[2]9月①'!E8 -> 0 | F8: ='[2]9月①'!F8 -> 0 | G8: ='[2]9月①'!G8 -> 0 | H8: ='[2]9月①'!H8 -> 0 | I8: ='[2]9月①'!I8 -> 0 | J8: ='[2]9月①'!J8 -> 0 | ... IE8: ='[2]9月①'!IE8 -> 0
A9: 05 | B9: 秋 田 | C9: ='[2]9月①'!C9 -> 0 | D9: ='[2]9月①'!D9 -> 0 | E9: ='[2]9月①'!E9 -> 0 | F9: ='[2]9月①'!F9 -> 0 | G9: ='[2]9月①'!G9 -> 0 | H9: ='[2]9月①'!H9 -> 0 | I9: ='[2]9月①'!I9 -> 0 | J9: ='[2]9月①'!J9 -> 0 | ... IE9: ='[2]9月①'!IE9 -> 0
A10: 06 | B10: 山 形 | C10: ='[2]9月①'!C10 -> 0 | D10: ='[2]9月①'!D10 -> 0 | E10: ='[2]9月①'!E10 -> 0 | F10: ='[2]9月①'!F10 -> 0 | G10: ='[2]9月①'!G10 -> 0 | H10: ='[2]9月①'!H10 -> 0 | I10: ='[2]9月①'!I10 -> 0 | J10: ='[2]9月①'!J10 -> 0 | ... IE10: ='[2]9月①'!IE10 -> 0
A11: 07 | B11: 福 島 | C11: ='[2]9月①'!C11 -> 0 | D11: ='[2]9月①'!D11 -> 0 | E11: ='[2]9月①'!E11 -> 0 | F11: ='[2]9月①'!F11 -> 0 | G11: ='[2]9月①'!G11 -> 0 | H11: ='[2]9月①'!H11 -> 0 | I11: ='[2]9月①'!I11 -> 0 | J11: ='[2]9月①'!J11 -> 0 | ... IE11: ='[2]9月①'!IE11 -> 0
A12: 08 | B12: 茨 城 | C12: ='[2]9月①'!C12 -> 0 | D12: ='[2]9月①'!D12 -> 0 | E12: ='[2]9月①'!E12 -> 0 | F12: ='[2]9月①'!F12 -> 0 | G12: ='[2]9月①'!G12 -> 0 | H12: ='[2]9月①'!H12 -> 0 | I12: ='[2]9月①'!I12 -> 0 | J12: ='[2]9月①'!J12 -> 0 | ... IE12: ='[2]9月①'!IE12 -> 0
A13: 09 | B13: 栃 木 | C13: ='[2]9月①'!C13 -> 0 | D13: ='[2]9月①'!D13 -> 0 | E13: ='[2]9月①'!E13 -> 0 | F13: ='[2]9月①'!F13 -> 0 | G13: ='[2]9月①'!G13 -> 0 | H13: ='[2]9月①'!H13 -> 0 | I13: ='[2]9月①'!I13 -> 0 | J13: ='[2]9月①'!J13 -> 0 | ... IE13: ='[2]9月①'!IE13 -> 0
A14: 10 | B14: 群 馬 | C14: ='[2]9月①'!C14 -> 0 | D14: ='[2]9月①'!D14 -> 0 | E14: ='[2]9月①'!E14 -> 0 | F14: ='[2]9月①'!F14 -> 0 | G14: ='[2]9月①'!G14 -> 0 | H14: ='[2]9月①'!H14 -> 0 | I14: ='[2]9月①'!I14 -> 0 | J14: ='[2]9月①'!J14 -> 0 | ... IE14: ='[2]9月①'!IE14 -> 0
A15: 11 | B15: 埼 玉 | C15: ='[2]9月①'!C15 -> 0 | D15: ='[2]9月①'!D15 -> 0 | E15: ='[2]9月①'!E15 -> 0 | F15: ='[2]9月①'!F15 -> 0 | G15: ='[2]9月①'!G15 -> 0 | H15: ='[2]9月①'!H15 -> 0 | I15: ='[2]9月①'!I15 -> 0 | J15: ='[2]9月①'!J15 -> 0 | ... IE15: ='[2]9月①'!IE15 -> 0
A16: 12 | B16: 千 葉 | C16: ='[2]9月①'!C16 -> 0 | D16: ='[2]9月①'!D16 -> 0 | E16: ='[2]9月①'!E16 -> 0 | F16: ='[2]9月①'!F16 -> 0 | G16: ='[2]9月①'!G16 -> 0 | H16: ='[2]9月①'!H16 -> 0 | I16: ='[2]9月①'!I16 -> 0 | J16: ='[2]9月①'!J16 -> 0 | ... IE16: ='[2]9月①'!IE16 -> 0
... A39: 35 | B39: 山 口 | C39: ='[2]9月①'!C39 -> 0 | D39: ='[2]9月①'!D39 -> 0 | E39: ='[2]9月①'!E39 -> 0 | F39: ='[2]9月①'!F39 -> 0 | G39: ='[2]9月①'!G39 -> 0 | H39: ='[2]9月①'!H39 -> 0 | I39: ='[2]9月①'!I39 -> 0 | J39: ='[2]9月①'!J39 -> 0 | ... IE39: ='[2]9月①'!IE39 -> 0
A40: 36 | B40: 徳 島 | C40: ='[2]9月①'!C40 -> 0 | D40: ='[2]9月①'!D40 -> 0 | E40: ='[2]9月①'!E40 -> 0 | F40: ='[2]9月①'!F40 -> 0 | G40: ='[2]9月①'!G40 -> 0 | H40: ='[2]9月①'!H40 -> 0 | I40: ='[2]9月①'!I40 -> 0 | J40: ='[2]9月①'!J40 -> 0 | ... FM40: ='[2]9月①'!FM40 -> 0 | FO40: ='[2]9月①'!FO40 -> 0 | FP40: ='[2]9月①'!FP40 -> 0 | FQ40: ='[2]9月①'!FQ40 -> 0 | FR40: ='[2]9月①'!FR40 -> 0 | FS40: ='[2]9月①'!FS40 -> 0 | FT40: ='[2]9月①'!FT40 -> 0 | FU40: ='[2]9月①'!FU40 -> 0 | FV40: ='[2]9月①'!FV40 -> 0 | ... IE40: ='[2]9月①'!IE40 -> 0
A41: 37 | B41: 香 川 | C41: ='[2]9月①'!C41 -> 0 | D41: ='[2]9月①'!D41 -> 0 | E41: ='[2]9月①'!E41 -> 0 | F41: ='[2]9月①'!F41 -> 0 | G41: ='[2]9月①'!G41 -> 0 | H41: ='[2]9月①'!H41 -> 0 | I41: ='[2]9月①'!I41 -> 0 | J41: ='[2]9月①'!J41 -> 0 | ... IE41: ='[2]9月①'!IE41 -> 0
A42: 38 | B42: 愛 媛 | C42: ='[2]9月①'!C42 -> 0 | D42: ='[2]9月①'!D42 -> 0 | E42: ='[2]9月①'!E42 -> 0 | F42: ='[2]9月①'!F42 -> 0 | G42: ='[2]9月①'!G42 -> 0 | H42: ='[2]9月①'!H42 -> 0 | I42: ='[2]9月①'!I42 -> 0 | J42: ='[2]9月①'!J42 -> 0 | ... IE42: ='[2]9月①'!IE42 -> 0
A43: 39 | B43: 高 知 | C43: ='[2]9月①'!C43 -> 0 | D43: ='[2]9月①'!D43 -> 0 | E43: ='[2]9月①'!E43 -> 0 | F43: ='[2]9月①'!F43 -> 0 | G43: ='[2]9月①'!G43 -> 0 | H43: ='[2]9月①'!H43 -> 0 | I43: ='[2]9月①'!I43 -> 0 | J43: ='[2]9月①'!J43 -> 0 | ... IE43: ='[2]9月①'!IE43 -> 0
A44: 40 | B44: 福 岡 | C44: ='[2]9月①'!C44 -> 0 | D44: ='[2]9月①'!D44 -> 0 | E44: ='[2]9月①'!E44 -> 0 | F44: ='[2]9月①'!F44 -> 0 | G44: ='[2]9月①'!G44 -> 0 | H44: ='[2]9月①'!H44 -> 0 | I44: ='[2]9月①'!I44 -> 0 | J44: ='[2]9月①'!J44 -> 0 | ... IE44: ='[2]9月①'!IE44 -> 0
A45: 41 | B45: 佐 賀 | C45: ='[2]9月①'!C45 -> 0 | D45: ='[2]9月①'!D45 -> 0 | E45: ='[2]9月①'!E45 -> 0 | F45: ='[2]9月①'!F45 -> 0 | G45: ='[2]9月①'!G45 -> 0 | H45: ='[2]9月①'!H45 -> 0 | I45: ='[2]9月①'!I45 -> 0 | J45: ='[2]9月①'!J45 -> 0 | ... IE45: ='[2]9月①'!IE45 -> 0
A46: 42 | B46: 長 崎 | C46: ='[2]9月①'!C46 -> 0 | D46: ='[2]9月①'!D46 -> 0 | E46: ='[2]9月①'!E46 -> 0 | F46: ='[2]9月①'!F46 -> 0 | G46: ='[2]9月①'!G46 -> 0 | H46: ='[2]9月①'!H46 -> 0 | I46: ='[2]9月①'!I46 -> 0 | J46: ='[2]9月①'!J46 -> 0 | ... IE46: ='[2]9月①'!IE46 -> 0
A47: 43 | B47: 熊 本 | C47: ='[2]9月①'!C47 -> 0 | D47: ='[2]9月①'!D47 -> 0 | E47: ='[2]9月①'!E47 -> 0 | F47: ='[2]9月①'!F47 -> 0 | G47: ='[2]9月①'!G47 -> 0 | H47: ='[2]9月①'!H47 -> 0 | I47: ='[2]9月①'!I47 -> 0 | J47: ='[2]9月①'!J47 -> 0 | ... IE47: ='[2]9月①'!IE47 -> 0
A48: 44 | B48: 大 分 | C48: ='[2]9月①'!C48 -> 0 | D48: ='[2]9月①'!D48 -> 0 | E48: ='[2]9月①'!E48 -> 0 | F48: ='[2]9月①'!F48 -> 0 | G48: ='[2]9月①'!G48 -> 0 | H48: ='[2]9月①'!H48 -> 0 | I48: ='[2]9月①'!I48 -> 0 | J48: ='[2]9月①'!J48 -> 0 | ... FL48: ='[2]9月①'!FL48 -> 0 | FN48: ='[2]9月①'!FN48 -> 0 | FO48: ='[2]9月①'!FO48 -> 0 | FP48: ='[2]9月①'!FP48 -> 0 | FQ48: ='[2]9月①'!FQ48 -> 0 | FR48: ='[2]9月①'!FR48 -> 0 | FS48: ='[2]9月①'!FS48 -> 0 | FT48: ='[2]9月①'!FT48 -> 0 | FU48: ='[2]9月①'!FU48 -> 0 | ... IE48: ='[2]9月①'!IE48 -> 0
A49: 45 | B49: 宮 崎 | C49: ='[2]9月①'!C49 -> 0 | D49: ='[2]9月①'!D49 -> 0 | E49: ='[2]9月①'!E49 -> 0 | F49: ='[2]9月①'!F49 -> 0 | G49: ='[2]9月①'!G49 -> 0 | H49: ='[2]9月①'!H49 -> 0 | I49: ='[2]9月①'!I49 -> 0 | J49: ='[2]9月①'!J49 -> 0 | ... IE49: ='[2]9月①'!IE49 -> 0
A50: 46 | B50: 鹿児島 | C50: ='[2]9月①'!C50 -> 0 | D50: ='[2]9月①'!D50 -> 0 | E50: ='[2]9月①'!E50 -> 0 | F50: ='[2]9月①'!F50 -> 0 | G50: ='[2]9月①'!G50 -> 0 | H50: ='[2]9月①'!H50 -> 0 | I50: ='[2]9月①'!I50 -> 0 | J50: ='[2]9月①'!J50 -> 0 | ... IE50: ='[2]9月①'!IE50 -> 0
A51: 47 | B51: 沖 縄 | C51: ='[2]9月①'!C51 -> 0 | D51: ='[2]9月①'!D51 -> 0 | E51: ='[2]9月①'!E51 -> 0 | F51: ='[2]9月①'!F51 -> 0 | G51: ='[2]9月①'!G51 -> 0 | H51: ='[2]9月①'!H51 -> 0 | I51: ='[2]9月①'!I51 -> 0 | J51: ='[2]9月①'!J51 -> 0 | ... IE51: ='[2]9月①'!IE51 -> 0
A52: 合 計 | C52: =SUM(C5:C51) -> 0 | D52: =SUM(D5:D51) -> 0 | E52: =SUM(E5:E51) -> 0 | F52: =SUM(F5:F51) -> 0 | G52: =SUM(G5:G51) -> 0 | H52: =SUM(H5:H51) -> 0 | I52: =SUM(I5:I51) -> 0 | J52: =SUM(J5:J51) -> 0 | ... IE52: =SUM(IE5:IE51) -> 0
A53: 累 計 | D53: =D58 -> 0 | E53: =E58 -> 0 | G53: =G58 -> 0 | H53: =H58 -> 0 | J53: =J58 -> 0 | K53: =K58 -> 0 | M53: =M58 -> 0 | N53: =N58 -> 0 | P53: =P58 -> 0 | Q53: =Q58 -> 0 | S53: =S58 -> 0 | T53: =T58 -> 0 | V53: =V58 -> 0 | W53: =W58 -> 0 | Y53: =Y58 -> 0 | Z53: =Z58 -> 0 | AB53: =AB58 -> 0 | AC53: =AC58 -> 0 | AE53: =AE58 -> 0 | AF53: =AF58 -> 0 | AH53: =AH58 -> 0 | AI53: =AI58 -> 0 | AK53: =AK58 -> 0 | AL53: =AL58 -> 0 | AN53: =AN58 -> 0 | AO53: =AO58 -> 0 | AQ53: =AQ58 -> 0 | AR53: =AR58 -> 0 | AT53: =AT58 -> 0 | AU53: =AU58 -> 0 | AW53: =AW58 -> 0 | AX53: =AX58 -> 0 | AZ53: =AZ58 -> 0 | BA53: =BA58 -> 0 | BC53: =BC58 -> 50 | BD53: =BD58 -> 90 | BF53: =BF58 -> 0 | BG53: =BG58 -> 0 | BI53: =BI58 -> 3 | BJ53: =BJ58 -> 8 | BL53: =BL58 -> 0 | BM53: =BM58 -> 0 | BO53: =BO58 -> 1643 | BP53: =BP58 -> 3285 | BR53: =BR58 -> 0 | BS53: =BS58 -> 1 | BU53: =BU58 -> 2 | BV53: =BV58 -> 2 | BX53: =BX58 -> 0 | BY53: =BY58 -> 0 | CA53: =CA58 -> 0 | CB53: =CB58 -> 0 | CD53: =CD58 -> 0 | CE53: =CE58 -> 0 | CG53: =CG58 -> 4 | CH53: =CH58 -> 9 | CJ53: =CJ58 -> 0 | CK53: =CK58 -> 0 | CM53: =CM58 -> 0 | CN53: =CN58 -> 0 | CP53: =CP58 -> 0 | CQ53: =CQ58 -> 0 | CS53: =CS58 -> 0 | CT53: =CT58 -> 0 | CV53: =CV58 -> 0 | CW53: =CW58 -> 0 | CY53: =CY58 -> 0 | CZ53: =CZ58 -> 0 | DB53: =DB58 -> 0 | DC53: =DC58 -> 0 | DE53: =DE58 -> 0 | DF53: =DF58 -> 0 | DH53: =DH58 -> 0 | DI53: =DI58 -> 0 | DK53: =DK58 -> 0 | DL53: =DL58 -> 0 | DN53: =DN58 -> 0 | DO53: =DO58 -> 0 | DQ53: =DQ58 -> 74 | DR53: =DR58 -> 81 | DT53: =DT58 -> 0 | DU53: =DU58 -> 0 | DW53: =DW58 -> 0 | DX53: =DX58 -> 0 | DZ53: =DZ58 -> 1 | EA53: =EA58 -> 1 | EC53: =EC58 -> 5 | ED53: =ED58 -> 111 | EF53: =EF58 -> 0 | EG53: =EG58 -> 0 | EI53: =EI58 -> 0 | EJ53: =EJ58 -> 0 | EL53: =EL58 -> 0 | EM53: =EM58 -> 0 | EO53: =EO58 -> 0 | EP53: =EP58 -> 0 | ER53: =ER58 -> 0 | ES53: =ES58 -> 0 | EU53: =EU58 -> 0 | EV53: =EV58 -> 0 | EX53: =EX58 -> 0 | EY53: =EY58 -> 0 | FA53: =FA58 -> 0 | FB53: =FB58 -> 0 | FD53: =FD58 -> 0 | FE53: =FE58 -> 0 | FG53: =FG58 -> 3 | FH53: =FH58 -> 3 | FJ53: =FJ58 -> 0 | FK53: =FK58 -> 0 | FM53: =FM58 -> 39 | FN53: =FN58 -> 41 | FP53: =FP58 -> 45 | FQ53: =FQ58 -> 75 | FS53: =FS58 -> 0 | FT53: =FT58 -> 0 | FV53: =FV58 -> 0 | FW53: =FW58 -> 0 | FY53: =FY58 -> 39 | FZ53: =FZ58 -> 95 | GB53: =GB58 -> 0 | GC53: =GC58 -> 0 | GE53: =GE58 -> 0 | GF53: =GF58 -> 0 | GH53: =GH58 -> 0 | GI53: =GI58 -> 0 | GK53: =GK58 -> 0 | GL53: =GL58 -> 0 | GN53: =GN58 -> 0 | GO53: =GO58 -> 0 | GQ53: =GQ58 -> 0 | GR53: =GR58 -> 0 | GT53: =GT58 -> 0 | GU53: =GU58 -> 0 | GW53: =GW58 -> 0 | GX53: =GX58 -> 0 | GZ53: =GZ58 -> 0 | HA53: =HA58 -> 0 | HC53: =HC58 -> 0 | HD53: =HD58 -> 0 | HF53: =HF58 -> 0 | HG53: =HG58 -> 0 | HI53: =HI58 -> 0 | HJ53: =HJ58 -> 0 | HL53: =HL58 -> 1 | HM53: =HM58 -> 2 | HO53: =HO58 -> 0 | HP53: =HP58 -> 0 | HR53: =HR58 -> 0 | HS53: =HS58 -> 0 | HU53: =HU58 -> 0 | HV53: =HV58 -> 0 | HX53: =HX58 -> 0 | HY53: =HY58 -> 0 | IA53: =IA58 -> 0 | IB53: =IB58 -> 0 | ID53: =ID58 -> 0 | IE53: =IE58 -> 0
