Workbook

Sheet 家畜伝染病9月
A2: 伝染病の 種 類 | C2: 牛疫 | F2: 牛疫 | I2: 牛疫 | L2: 牛疫 | O2: 牛疫 | R2: 牛疫 | U2: 牛疫 | X2: 牛肺疫 | AA2: 牛肺疫 | AD2: 牛肺疫 | AG2: 口蹄疫 | AJ2: 口蹄疫 | AM2: 口蹄疫 | AP2: 口蹄疫 | AS2: 口蹄疫 | AV2: 口蹄疫 | AY2: 口蹄疫 | BB2: 流行性 脳炎 | BE2: 流行性 脳炎 | BH2: 流行性 脳炎 | BK2: 流行性 脳炎 | BN2: 流行性 脳炎 | BQ2: 流行性 脳炎 | BT2: 流行性 脳炎 | BW2: 流行性 脳炎 | BZ2: 狂犬病 | CC2: 狂犬病 | CF2: 狂犬病 | CI2: 狂犬病 | CL2: 狂犬病 | CO2: 狂犬病 | CR2: 狂犬病 | CU2: 狂犬病 | CX2: 水疱性口内炎 | DA2: 水疱性口内炎 | DD2: 水疱性口内炎 | DG2: 水疱性口内炎 | DJ2: 水疱性口内炎 | DM2: 水疱性口内炎 | DP2: ﾘﾌﾄﾊﾞﾚｰ熱 | DS2: ﾘﾌﾄﾊﾞﾚｰ熱 | DV2: ﾘﾌﾄﾊﾞﾚｰ熱 | DY2: ﾘﾌﾄﾊﾞﾚｰ熱 | EB2: ﾘﾌﾄﾊﾞﾚｰ熱 | EE2: 炭疽 | EH2: 炭疽 | EK2: 炭疽 | EN2: 炭疽 | EQ2: 炭疽 | ET2: 炭疽 | EW2: 炭疽 | EZ2: 炭疽 | FC2: 出血性 敗血症 | FF2: 出血性 敗血症 | FI2: 出血性 敗血症 | FL2: 出血性 敗血症 | FO2: 出血性 敗血症 | FR2: 出血性 敗血症 | FU2: 出血性 敗血症 | FX2: ブルセラ症 | GA2: ブルセラ症 | GD2: ブルセラ症 | GG2: ブルセラ症 | GJ2: ブルセラ症 | GM2: ブルセラ症 | GP2: ブルセラ症 | GS2: 結核 | GV2: 結核 | GY2: 結核 | HB2: 結核 | HE2: ヨーネ病 | HH2: ヨーネ病 | HK2: ヨーネ病 | HN2: ヨーネ病 | HQ2: ヨーネ病 | HT2: ﾋﾟﾛﾌﾟﾗｽﾞﾏ症 | HW2: ﾋﾟﾛﾌﾟﾗｽﾞﾏ症 | HZ2: ﾋﾟﾛﾌﾟﾗｽﾞﾏ症 | IC2: ﾋﾟﾛﾌﾟﾗｽﾞﾏ症 | IF2: ｱﾅﾌﾟﾗｽﾞﾏ症 | II2: ｱﾅﾌﾟﾗｽﾞﾏ症 | IL2: ｱﾅﾌﾟﾗｽﾞﾏ症 | IO2: 伝達性 海綿状脳症 | IR2: 伝達性 海綿状脳症 | IU2: 伝達性 海綿状脳症 | IX2: 伝達性 海綿状脳症 | JA2: 伝達性 海綿状脳症 | JD2: 鼻疽 | JG2: 馬伝染性 貧血 | JJ2: アフリカ 馬疫 | JM2: 小反芻獣疫 | JP2: 小反芻獣疫 | JS2: 小反芻獣疫 | JV2: 豚熱 | JY2: 豚熱 | KB2: アフリカ 豚熱 | KE2: アフリカ 豚熱 | KH2: 豚水疱病 | KK2: 豚水疱病 | KN2: 家きん コレラ | KQ2: 家きん コレラ | KT2: 家きん コレラ | KW2: 家きん コレラ | KZ2: 高病原性 鳥ｲﾝﾌﾙｴﾝｻﾞ | LC2: 高病原性 鳥ｲﾝﾌﾙｴﾝｻﾞ | LF2: 高病原性 鳥ｲﾝﾌﾙｴﾝｻﾞ | LI2: 高病原性 鳥ｲﾝﾌﾙｴﾝｻﾞ | LL2: 高病原性 鳥ｲﾝﾌﾙｴﾝｻﾞ | LO2: 高病原性 鳥ｲﾝﾌﾙｴﾝｻﾞ | LR2: 高病原性 鳥ｲﾝﾌﾙｴﾝｻﾞ | LU2: 高病原性 鳥ｲﾝﾌﾙｴﾝｻﾞ | LX2: 低病原性 鳥ｲﾝﾌﾙｴﾝｻﾞ | MA2: 低病原性 鳥ｲﾝﾌﾙｴﾝｻﾞ | MD2: 低病原性 鳥ｲﾝﾌﾙｴﾝｻﾞ | MG2: 低病原性 鳥ｲﾝﾌﾙｴﾝｻﾞ | MJ2: 低病原性 鳥ｲﾝﾌﾙｴﾝｻﾞ | MM2: 低病原性 鳥ｲﾝﾌﾙｴﾝｻﾞ | MP2: 低病原性 鳥ｲﾝﾌﾙｴﾝｻﾞ | MS2: 低病原性 鳥ｲﾝﾌﾙｴﾝｻﾞ | MV2: ﾆｭｰｶｯｽﾙ病 | MY2: ﾆｭｰｶｯｽﾙ病 | NB2: ﾆｭｰｶｯｽﾙ病 | NE2: ﾆｭｰｶｯｽﾙ病 | NH2: 家きん ｻﾙﾓﾈﾗ症 | NK2: 家きん ｻﾙﾓﾈﾗ症 | NN2: 家きん ｻﾙﾓﾈﾗ症 | NQ2: 家きん ｻﾙﾓﾈﾗ症 | NT2: 腐蛆病 | NW2: ランピースキン病 | NZ2: ランピースキン病
A3: 家畜の種類 | C3: 牛 | F3: めん羊 | I3: 山羊 | L3: 豚 | O3: 水牛 | R3: 鹿 | U3: いのしし | X3: 牛 | AA3: 水牛 | AD3: 鹿 | AG3: 牛 | AJ3: めん羊 | AM3: 山羊 | AP3: 豚 | AS3: 水牛 | AV3: 鹿 | AY3: いのしし | BB3: 牛 | BE3: 馬 | BH3: めん羊 | BK3: 山羊 | BN3: 豚 | BQ3: 水牛 | BT3: 鹿 | BW3: いのしし | BZ3: 牛 | CC3: 馬 | CF3: めん羊 | CI3: 山羊 | CL3: 豚 | CO3: 水牛 | CR3: 鹿 | CU3: いのしし | CX3: 牛 | DA3: 馬 | DD3: 豚 | DG3: 水牛 | DJ3: 鹿 | DM3: いのしし | DP3: 牛 | DS3: めん羊 | DV3: 山羊 | DY3: 水牛 | EB3: 鹿 | EE3: 牛 | EH3: 馬 | EK3: めん羊 | EN3: 山羊 | EQ3: 豚 | ET3: 水牛 | EW3: 鹿 | EZ3: いのしし | FC3: 牛 | FF3: めん羊 | FI3: 山羊 | FL3: 豚 | FO3: 水牛 | FR3: 鹿 | FU3: いのしし | FX3: 牛 | GA3: めん羊 | GD3: 山羊 | GG3: 豚 | GJ3: 水牛 | GM3: 鹿 | GP3: いのしし | GS3: 牛 | GV3: 山羊 | GY3: 水牛 | HB3: 鹿 | HE3: 牛 | HH3: めん羊 | HK3: 山羊 | HN3: 水牛 | HQ3: 鹿 | HT3: 牛 | HW3: 馬 | HZ3: 水牛 | IC3: 鹿 | IF3: 牛 | II3: 水牛 | IL3: 鹿 | IO3: 牛 | IR3: めん羊 | IU3: 山羊 | IX3: 水牛 | JA3: 鹿 | JD3: 馬 | JG3: 馬 | JJ3: 馬 | JM3: めん羊 | JP3: 山羊 | JS3: 鹿 | JV3: 豚 | JY3: いのしし | KB3: 豚 | KE3: いのしし | KH3: 豚 | KK3: いのしし | KN3: 鶏 | KQ3: あひる | KT3: うずら | KW3: 七面鳥 | KZ3: 鶏 | LC3: あひる | LF3: うずら | LI3: きじ | LL3: エミュー | LO3: だちょう | LR3: ほろほろ鳥 | LU3: 七面鳥 | LX3: 鶏 | MA3: あひる | MD3: うずら | MG3: きじ | MJ3: エミュー | MM3: だちょう | MP3: ほろほろ鳥 | MS3: 七面鳥 | MV3: 鶏 | MY3: あひる | NB3: うずら | NE3: 七面鳥 | NH3: 鶏 | NK3: あひる | NN3: うずら | NQ3: 七面鳥 | NT3: 蜜蜂 | NW3: 牛 | NZ3: 水牛
C4: 戸数 | E4: 頭数 | F4: 戸数 | H4: 頭数 | I4: 戸数 | K4: 頭数 | L4: 戸数 | N4: 頭数 | O4: 戸数 | Q4: 頭数 | R4: 戸数 | T4: 頭数 | U4: 戸数 | W4: 頭数 | X4: 戸数 | Z4: 頭数 | AA4: 戸数 | AC4: 頭数 | AD4: 戸数 | AF4: 頭数 | AG4: 戸数 | AI4: 頭数 | AJ4: 戸数 | AL4: 頭数 | AM4: 戸数 | AO4: 頭数 | AP4: 戸数 | AR4: 頭数 | AS4: 戸数 | AU4: 頭数 | AV4: 戸数 | AX4: 頭数 | AY4: 戸数 | BA4: 頭数 | BB4: 戸数 | BD4: 頭数 | BE4: 戸数 | BG4: 頭数 | BH4: 戸数 | BJ4: 頭数 | BK4: 戸数 | BM4: 頭数 | BN4: 戸数 | BP4: 頭数 | BQ4: 戸数 | BS4: 頭数 | BT4: 戸数 | BV4: 頭数 | BW4: 戸数 | BY4: 頭数 | BZ4: 戸数 | CB4: 頭数 | CC4: 戸数 | CE4: 頭数 | CF4: 戸数 | CH4: 頭数 | CI4: 戸数 | CK4: 頭数 | CL4: 戸数 | CN4: 羽数 | CO4: 戸数 | CQ4: 頭数 | CR4: 戸数 | CT4: 頭数 | CU4: 戸数 | CW4: 頭数 | CX4: 戸数 | CZ4: 羽数 | DA4: 戸数 | DC4: 羽数 | DD4: 戸数 | DF4: 羽数 | DG4: 戸数 | DI4: 頭数 | DJ4: 戸数 | DL4: 頭数 | DM4: 戸数 | DO4: 頭数 | DP4: 戸数 | DR4: 羽数 | DS4: 戸数 | DU4: 羽数 | DV4: 戸数 | DX4: 羽数 | DY4: 戸数 | EA4: 羽数 | EB4: 戸数 | ED4: 羽数 | EE4: 戸数 | EG4: 羽数 | EH4: 戸数 | EJ4: 羽数 | EK4: 戸数 | EM4: 羽数 | EN4: 戸数 | EP4: 羽数 | EQ4: 戸数 | ES4: 羽数 | ET4: 戸数 | EV4: 羽数 | EW4: 戸数 | EY4: 羽数 | EZ4: 戸数 | FB4: 羽数 | FC4: 戸数 | FE4: 羽数 | FF4: 戸数 | FH4: 羽数 | FI4: 戸数 | FK4: 羽数 | FL4: 戸数 | FN4: 群数 | FO4: 戸数 | FQ4: 羽数 | FR4: 戸数 | FT4: 羽数 | FU4: 戸数 | FW4: 羽数 | FX4: 戸数 | FZ4: 羽数 | GA4: 戸数 | GC4: 羽数 | GD4: 戸数 | GF4: 羽数 | GG4: 戸数 | GI4: 羽数 | GJ4: 戸数 | GL4: 羽数 | GM4: 戸数 | GO4: 羽数 | GP4: 戸数 | GR4: 羽数 | GS4: 戸数 | GU4: 群数 | GV4: 戸数 | GX4: 頭数 | GY4: 戸数 | HA4: 羽数 | HB4: 戸数 | HD4: 羽数 | HE4: 戸数 | HG4: 頭数 | HH4: 戸数 | HJ4: 頭数 | HK4: 戸数 | HM4: 頭数 | HN4: 戸数 | HP4: 羽数 | HQ4: 戸数 | HS4: 羽数 | HT4: 戸数 | HV4: 頭数 | HW4: 戸数 | HY4: 頭数 | HZ4: 戸数 | IB4: 羽数 | IC4: 戸数 | IE4: 羽数 | IF4: 戸数 | IH4: 頭数 | II4: 戸数 | IK4: 頭数 | IL4: 戸数 | IN4: 頭数 | IO4: 戸数 | IQ4: 頭数 | IR4: 戸数 | IT4: 頭数 | IU4: 戸数 | IW4: 頭数 | IX4: 戸数 | IZ4: 頭数 | JA4: 戸数 | JC4: 頭数 | JD4: 戸数 | JF4: 頭数 | JG4: 戸数 | JI4: 頭数 | JJ4: 戸数 | JL4: 頭数 | JM4: 戸数 | JO4: 頭数 | JP4: 戸数 | JR4: 頭数 | JS4: 戸数 | JU4: 頭数 | JV4: 戸数 | JX4: 頭数 | JY4: 戸数 | KA4: 頭数 | KB4: 戸数 | KD4: 頭数 | KE4: 戸数 | KG4: 頭数 | KH4: 戸数 | KJ4: 頭数 | KK4: 戸数 | KM4: 頭数 | KN4: 戸数 | KP4: 羽数 | KQ4: 戸数 | KS4: 羽数 | KT4: 戸数 | KV4: 羽数 | KW4: 戸数 | KY4: 羽数 | KZ4: 戸数 | LB4: 羽数 | LC4: 戸数 | LE4: 羽数 | LF4: 戸数 | LH4: 羽数 | LI4: 戸数 | LK4: 羽数 | LL4: 戸数 | LN4: 羽数 | LO4: 戸数 | LQ4: 羽数 | LR4: 戸数 | LT4: 羽数 | LU4: 戸数 | LW4: 羽数 | LX4: 戸数 | LZ4: 羽数 | MA4: 戸数 | MC4: 羽数 | MD4: 戸数 | MF4: 羽数 | MG4: 戸数 | MI4: 羽数 | MJ4: 戸数 | ML4: 羽数 | MM4: 戸数 | MO4: 羽数 | MP4: 戸数 | MR4: 羽数 | MS4: 戸数 | MU4: 羽数 | MV4: 戸数 | MX4: 羽数 | MY4: 戸数 | NA4: 羽数 | NB4: 戸数 | ND4: 羽数 | NE4: 戸数 | NG4: 羽数 | NH4: 戸数 | NJ4: 羽数 | NK4: 戸数 | NM4: 羽数 | NN4: 戸数 | NP4: 羽数 | NQ4: 戸数 | NS4: 羽数 | NT4: 戸数 | NV4: 群数 | NW4: 戸数 | NY4: 頭数 | NZ4: 戸数 | OB4: 頭数
A5: 01 | B5: 北海道 | C5: ='[1]9月①'!C5 -> 0 | D5: ='[1]9月①'!D5 -> 0 | E5: ='[1]9月①'!F5 -> 0 | F5: ='[1]9月①'!N5 -> 0 | G5: ='[1]9月①'!O5 -> 0 | H5: ='[1]9月①'!Q5 -> 0 | I5: ='[1]9月①'!Y5 -> 0 | J5: ='[1]9月①'!Z5 -> 0 | K5: ='[1]9月①'!AB5 -> 0 | L5: ='[1]9月①'!AJ5 -> 0 | M5: ='[1]9月①'!AK5 -> 0 | N5: ='[1]9月①'!AM5 -> 0 | O5: ='[1]9月①'!AU5 -> 0 | P5: ='[1]9月①'!AV5 -> 0 | Q5: ='[1]9月①'!AX5 -> 0 | R5: ='[1]9月①'!BF5 -> 0 | S5: ='[1]9月①'!BG5 -> 0 | T5: ='[1]9月①'!BI5 -> 0 | U5: ='[1]9月①'!BQ5 -> 0 | V5: ='[1]9月①'!BR5 -> 0 | W5: ='[1]9月①'!BT5 -> 0 | X5: ='[1]9月①'!CB5 -> 0 | Y5: ='[1]9月①'!CC5 -> 0 | Z5: ='[1]9月①'!CE5 -> 0 | AA5: ='[1]9月①'!CM5 -> 0 | AB5: ='[1]9月①'!CN5 -> 0 | AC5: ='[1]9月①'!CP5 -> 0 | AD5: ='[1]9月①'!CX5 -> 0 | AE5: ='[1]9月①'!CY5 -> 0 | AF5: ='[1]9月①'!DA5 -> 0 | AG5: ='[1]9月①'!DI5 -> 0 | AH5: ='[1]9月①'!DJ5 -> 0 | AI5: ='[1]9月①'!DL5 -> 0 | AJ5: ='[1]9月①'!DT5 -> 0 | AK5: ='[1]9月①'!DU5 -> 0 | AL5: ='[1]9月①'!DW5 -> 0 | AM5: ='[1]9月①'!EE5 -> 0 | AN5: ='[1]9月①'!EF5 -> 0 | AO5: ='[1]9月①'!EH5 -> 0 | AP5: ='[1]9月①'!EP5 -> 0 | AQ5: ='[1]9月①'!EQ5 -> 0 | AR5: ='[1]9月①'!ES5 -> 0 | AS5: ='[1]9月①'!FA5 -> 0 | AT5: ='[1]9月①'!FB5 -> 0 | AU5: ='[1]9月①'!FD5 -> 0 | AV5: ='[1]9月①'!FL5 -> 0 | AW5: ='[1]9月①'!FM5 -> 0 | AX5: ='[1]9月①'!FO5 -> 0 | AY5: ='[1]9月①'!FW5 -> 0 | AZ5: ='[1]9月①'!FX5 -> 0 | BA5: ='[1]9月①'!FZ5 -> 0 | BB5: ='[1]9月①'!GH5 -> 0 | BC5: ='[1]9月①'!GI5 -> 0 | BD5: ='[1]9月①'!GK5 -> 0 | BE5: ='[1]9月①'!GS5 -> 0 | BF5: ='[1]9月①'!GT5 -> 0 | BG5: ='[1]9月①'!GV5 -> 0 | BH5: ='[1]9月①'!HD5 -> 0 | BI5: ='[1]9月①'!HE5 -> 0 | BJ5: ='[1]9月①'!HG5 -> 0 | BK5: ='[1]9月①'!HO5 -> 0 | BL5: ='[1]9月①'!HP5 -> 0 | BM5: ='[1]9月①'!HR5 -> 0 | BN5: ='[1]9月①'!HZ5 -> 0 | BO5: ='[1]9月①'!IA5 -> 0 | BP5: ='[1]9月①'!IC5 -> 0 | BQ5: ='[1]9月①'!IK5 -> 0 | BR5: ='[1]9月①'!IL5 -> 0 | BS5: ='[1]9月①'!IN5 -> 0 | BT5: ='[1]9月①'!IV5 -> 0 | BU5: ='[1]9月①'!IW5 -> 0 | BV5: ='[1]9月①'!IY5 -> 0 | BW5: ='[1]9月①'!JH5 -> 0 | BX5: ='[1]9月①'!JG5 -> 0 | BY5: ='[1]9月①'!JJ5 -> 0 | BZ5: ='[1]9月①'!JR5 -> 0 | CA5: ='[1]9月①'!JS5 -> 0 | CB5: ='[1]9月①'!JU5 -> 0 | CC5: ='[1]9月①'!KC5 -> 0 | CD5: ='[1]9月①'!KD5 -> 0 | CE5: ='[1]9月①'!KF5 -> 0 | CF5: ='[1]9月①'!KN5 -> 0 | CG5: ='[1]9月①'!KO5 -> 0 | CH5: ='[1]9月①'!KQ5 -> 0 | CI5: ='[1]9月①'!KY5 -> 0 | CJ5: ='[1]9月①'!KZ5 -> 0 | CK5: ='[1]9月①'!LB5 -> 0 | CL5: ='[1]9月①'!LJ5 -> 0 | CM5: ='[1]9月①'!LK5 -> 0 | CN5: ='[1]9月①'!LM5 -> 0 | CO5: ='[1]9月①'!LU5 -> 0 | CP5: ='[1]9月①'!LV5 -> 0 | CQ5: ='[1]9月①'!LX5 -> 0 | CR5: ='[1]9月①'!MF5 -> 0 | CS5: ='[1]9月①'!MG5 -> 0 | CT5: ='[1]9月①'!MI5 -> 0 | CU5: ='[1]9月①'!MQ5 -> 0 | CV5: ='[1]9月①'!MR5 -> 0 | CW5: ='[1]9月①'!MT5 -> 0 | CX5: ='[1]9月①'!NB5 -> 0 | CY5: ='[1]9月①'!NC5 -> 0 | CZ5: ='[1]9月①'!NE5 -> 0 | DA5: ='[1]9月①'!NM5 -> 0 | DB5: ='[1]9月①'!NN5 -> 0 | DC5: ='[1]9月①'!NP5 -> 0 | DD5: ='[1]9月①'!NX5 -> 0 | DE5: ='[1]9月①'!NY5 -> 0 | DF5: ='[1]9月①'!OA5 -> 0 | DG5: ='[1]9月①'!OI5 -> 0 | DH5: ='[1]9月①'!OJ5 -> 0 | DI5: ='[1]9月①'!OL5 -> 0 | DJ5: ='[1]9月①'!OT5 -> 0 | DK5: ='[1]9月①'!OU5 -> 0 | DL5: ='[1]9月①'!OW5 -> 0 | DM5: ='[1]9月①'!PE5 -> 0 | DN5: ='[1]9月①'!PF5 -> 0 | DO5: ='[1]9月①'!PH5 -> 0 | DP5: ='[1]9月②'!C5 -> 0 | DQ5: ='[1]9月②'!D5 -> 0 | DR5: ='[1]9月②'!F5 -> 0 | DS5: ='[1]9月②'!N5 -> 0 | DT5: ='[1]9月②'!O5 -> 0 | DU5: ='[1]9月②'!Q5 -> 0 | DV5: ='[1]9月②'!Y5 -> 0 | DW5: ='[1]9月②'!Z5 -> 0 | DX5: ='[1]9月②'!AB5 -> 0 | DY5: ='[1]9月②'!AJ5 -> 0 | DZ5: ='[1]9月②'!AK5 -> 0 | EA5: ='[1]9月②'!AM5 -> 0 | EB5: ='[1]9月②'!AU5 -> 0 | EC5: ='[1]9月②'!AV5 -> 0 | ED5: ='[1]9月②'!AX5 -> 0 | EE5: ='[1]9月②'!BF5 -> 0 | EF5: ='[1]9月②'!BG5 -> 0 | EG5: ='[1]9月②'!BI5 -> 0 | EH5: ='[1]9月②'!BQ5 -> 0 | EI5: ='[1]9月②'!BR5 -> 0 | EJ5: ='[1]9月②'!BT5 -> 0 | EK5: ='[1]9月②'!CB5 -> 0 | EL5: ='[1]9月②'!CC5 -> 0 | EM5: ='[1]9月②'!CE5 -> 0 | EN5: ='[1]9月②'!CM5 -> 0 | EO5: ='[1]9月②'!CN5 -> 0 | EP5: ='[1]9月②'!CP5 -> 0 | EQ5: ='[1]9月②'!CX5 -> 0 | ER5: ='[1]9月②'!CY5 -> 0 | ES5: ='[1]9月②'!DA5 -> 0 | ET5: ='[1]9月②'!DI5 -> 0 | EU5: ='[1]9月②'!DJ5 -> 0 | EV5: ='[1]9月②'!DL5 -> 0 | EW5: ='[1]9月②'!DT5 -> 0 | EX5: ='[1]9月②'!DU5 -> 0 | EY5: ='[1]9月②'!DW5 -> 0 | EZ5: ='[1]9月②'!EE5 -> 0 | FA5: ='[1]9月②'!EF5 -> 0 | FB5: ='[1]9月②'!EH5 -> 0 | FC5: ='[1]9月②'!EP5 -> 0 | FD5: ='[1]9月②'!EQ5 -> 0 | FE5: ='[1]9月②'!ES5 -> 0 | FF5: ='[1]9月②'!FA5 -> 0 | FG5: ='[1]9月②'!FB5 -> 0 | FH5: ='[1]9月②'!FD5 -> 0 | FI5: ='[1]9月②'!FL5 -> 0 | FJ5: ='[1]9月②'!FM5 -> 0 | FK5: ='[1]9月②'!FO5 -> 0 | FL5: ='[1]9月②'!FW5 -> 0 | FM5: ='[1]9月②'!FX5 -> 0 | FN5: ='[1]9月②'!FZ5 -> 0 | FO5: ='[1]9月②'!GH5 -> 0 | FP5: ='[1]9月②'!GI5 -> 0 | FQ5: ='[1]9月②'!GK5 -> 0 | FR5: ='[1]9月②'!GS5 -> 0 | FS5: ='[1]9月②'!GT5 -> 0 | FT5: ='[1]9月②'!GV5 -> 0 | FU5: ='[1]9月②'!HD5 -> 0 | FV5: ='[1]9月②'!HE5 -> 0 | FW5: ='[1]9月②'!HG5 -> 0 | FX5: ='[1]9月②'!HO5 -> 0 | FY5: ='[1]9月②'!HP5 -> 0 | FZ5: ='[1]9月②'!HR5 -> 0 | GA5: ='[1]9月②'!HZ5 -> 0 | GB5: ='[1]9月②'!IA5 -> 0 | GC5: ='[1]9月②'!IC5 -> 0 | GD5: ='[1]9月②'!IK5 -> 0 | GE5: ='[1]9月②'!IL5 -> 0 | GF5: ='[1]9月②'!IN5 -> 0 | GG5: ='[1]9月②'!IV5 -> 0 | GH5: ='[1]9月②'!IW5 -> 0 | GI5: ='[1]9月②'!IY5 -> 0 | GJ5: ='[1]9月②'!JG5 -> 0 | GK5: ='[1]9月②'!JH5 -> 0 | GL5: ='[1]9月②'!JJ5 -> 0 | GM5: ='[1]9月②'!JR5 -> 0 | GN5: ='[1]9月②'!JS5 -> 0 | GO5: ='[1]9月②'!JV5 -> 0 | GP5: ='[1]9月②'!KC5 -> 0 | GQ5: ='[1]9月②'!KD5 -> 0 | GR5: ='[1]9月②'!KF5 -> 0 | GS5: ='[1]9月②'!KN5 -> 0 | GT5: ='[1]9月②'!KO5 -> 0 | GU5: ='[1]9月②'!KQ5 -> 0 | GV5: ='[1]9月②'!KY5 -> 0 | GW5: ='[1]9月②'!KZ5 -> 0 | GX5: ='[1]9月②'!LB5 -> 0 | GY5: ='[1]9月②'!LI5 -> 0 | GZ5: ='[1]9月②'!LK5 -> 0 | HA5: ='[1]9月②'!LM5 -> 0 | HB5: ='[1]9月②'!LU5 -> 0 | HC5: ='[1]9月②'!LV5 -> 0 | HD5: ='[1]9月②'!LX5 -> 0 | HE5: ='[1]9月②'!MF5 -> 4 | HF5: ='[1]9月②'!MG5 -> 35 | HG5: ='[1]9月②'!MI5 -> 87 | HH5: ='[1]9月②'!MQ5 -> 0 | HI5: ='[1]9月②'!MR5 -> 0 | HJ5: ='[1]9月②'!MT5 -> 0 | HK5: ='[1]9月②'!NB5 -> 0 | HL5: ='[1]9月②'!NC5 -> 0 | HM5: ='[1]9月②'!NE5 -> 0 | HN5: ='[1]9月②'!NM5 -> 0 | HO5: ='[1]9月②'!NN5 -> 0 | HP5: ='[1]9月②'!NP5 -> 0 | HQ5: ='[1]9月②'!NX5 -> 0 | HR5: ='[1]9月②'!NY5 -> 0 | HS5: ='[1]9月②'!OA5 -> 0 | HT5: ='[1]9月②'!OI5 -> 0 | HU5: ='[1]9月②'!OJ5 -> 0 | HV5: ='[1]9月②'!OL5 -> 0 | HW5: ='[1]9月②'!OT5 -> 0 | HX5: ='[1]9月②'!OU5 -> 0 | HY5: ='[1]9月②'!OW5 -> 0 | HZ5: ='[1]9月②'!PE5 -> 0 | IA5: ='[1]9月②'!PF5 -> 0 | IB5: ='[1]9月②'!PH5 -> 0 | IC5: ='[1]9月②'!PP5 -> 0 | ID5: ='[1]9月②'!PQ5 -> 0 | IE5: ='[1]9月②'!PS5 -> 0 | IF5: ='[1]9月③'!C5 -> 0 | IG5: ='[1]9月③'!D5 -> 0 | IH5: ='[1]9月③'!F5 -> 0 | II5: ='[1]9月③'!N5 -> 0 | IJ5: ='[1]9月③'!O5 -> 0 | IK5: ='[1]9月③'!Q5 -> 0 | IL5: ='[1]9月③'!Y5 -> 0 | IM5: ='[1]9月③'!Z5 -> 0 | IN5: ='[1]9月③'!AB5 -> 0 | IO5: ='[1]9月③'!AJ5 -> 0 | IP5: ='[1]9月③'!AK5 -> 0 | IQ5: ='[1]9月③'!AM5 -> 0 | IR5: ='[1]9月③'!AU5 -> 0 | IS5: ='[1]9月③'!AV5 -> 0 | IT5: ='[1]9月③'!AX5 -> 0 | IU5: ='[1]9月③'!BF5 -> 0 | IV5: ='[1]9月③'!BG5 -> 0 | IW5: ='[1]9月③'!BI5 -> 0 | IX5: ='[1]9月③'!BQ5 -> 0 | IY5: ='[1]9月③'!BR5 -> 0 | IZ5: ='[1]9月③'!BT5 -> 0 | JA5: ='[1]9月③'!CB5 -> 0 | JB5: ='[1]9月③'!CC5 -> 0 | JC5: ='[1]9月③'!CE5 -> 0 | JD5: ='[1]9月③'!CM5 -> 0 | JE5: ='[1]9月③'!CN5 -> 0 | JF5: ='[1]9月③'!CP5 -> 0 | JG5: ='[1]9月③'!CX5 -> 0 | JH5: ='[1]9月③'!CY5 -> 0 | JI5: ='[1]9月③'!DA5 -> 0 | JJ5: ='[1]9月③'!DI5 -> 0 | JK5: ='[1]9月③'!DJ5 -> 0 | JL5: ='[1]9月③'!DL5 -> 0 | JM5: ='[1]9月③'!DT5 -> 0 | JN5: ='[1]9月③'!DU5 -> 0 | JO5: ='[1]9月③'!DW5 -> 0 | JP5: ='[1]9月③'!EE5 -> 0 | JQ5: ='[1]9月③'!EF5 -> 0 | JR5: ='[1]9月③'!EH5 -> 0 | JS5: ='[1]9月③'!ER5 -> 0 | JT5: ='[1]9月③'!EQ5 -> 0 | JU5: ='[1]9月③'!ES5 -> 0 | JV5: ='[1]9月③'!FA5 -> 0 | JW5: ='[1]9月③'!FB5 -> 0 | JX5: ='[1]9月③'!FD5 -> 0 | JY5: ='[1]9月③'!FL5 -> 0 | JZ5: ='[1]9月③'!FM5 -> 0 | KA5: ='[1]9月③'!FO5 -> 0 | KB5: ='[1]9月③'!FW5 -> 0 | KC5: ='[1]9月③'!FX5 -> 0 | KD5: ='[1]9月③'!FZ5 -> 0 | KE5: ='[1]9月③'!GH5 -> 0 | KF5: ='[1]9月③'!GI5 -> 0 | KG5: ='[1]9月③'!GK5 -> 0 | KH5: ='[1]9月③'!GS5 -> 0 | KI5: ='[1]9月③'!GT5 -> 0 | KJ5: ='[1]9月③'!GV5 -> 0 | KK5: ='[1]9月③'!HD5 -> 0 | KL5: ='[1]9月③'!HE5 -> 0 | KM5: ='[1]9月③'!HG5 -> 0 | KN5: ='[1]9月③'!HO5 -> 0 | KO5: ='[1]9月③'!HP5 -> 0 | KP5: ='[1]9月③'!HR5 -> 0 | KQ5: ='[1]9月③'!HZ5 -> 0 | KR5: ='[1]9月③'!IA5 -> 0 | KS5: ='[1]9月③'!IC5 -> 0 | KT5: ='[1]9月③'!IK5 -> 0 | KU5: ='[1]9月③'!IL5 -> 0 | KV5: ='[1]9月③'!IN5 -> 0 | KW5: ='[1]9月③'!IV5 -> 0 | KX5: ='[1]9月③'!IW5 -> 0 | KY5: ='[1]9月③'!IY5 -> 0 | KZ5: ='[1]9月③'!JG5 -> 0 | LA5: ='[1]9月③'!JH5 -> 0 | LB5: ='[1]9月③'!JJ5 -> 0 | LC5: ='[1]9月③'!JR5 -> 0 | LD5: ='[1]9月③'!JS5 -> 0 | LE5: ='[1]9月③'!JU5 -> 0 | LF5: ='[1]9月③'!KC5 -> 0 | LG5: ='[1]9月③'!KD5 -> 0 | LH5: ='[1]9月③'!KF5 -> 0 | LI5: ='[1]9月③'!KN5 -> 0 | LJ5: ='[1]9月③'!KO5 -> 0 | LK5: ='[1]9月③'!KQ5 -> 0 | LL5: ='[1]9月③'!KY5 -> 0 | LM5: ='[1]9月③'!KZ5 -> 0 | LN5: ='[1]9月③'!LB5 -> 0 | LO5: ='[1]9月③'!LJ5 -> 0 | LP5: ='[1]9月③'!LK5 -> 0 | LQ5: ='[1]9月③'!LM5 -> 0 | LR5: ='[1]9月③'!LU5 -> 0 | LS5: ='[1]9月③'!LV5 -> 0 | LT5: ='[1]9月③'!LX5 -> 0 | LU5: ='[1]9月③'!MF5 -> 0 | LV5: ='[1]9月③'!MG5 -> 0 | LW5: ='[1]9月③'!MI5 -> 0 | LX5: ='[1]9月③'!MQ5 -> 0 | LY5: ='[1]9月③'!MR5 -> 0 | LZ5: ='[1]9月③'!MT5 -> 0 | MA5: ='[1]9月③'!NB5 -> 0 | MB5: ='[1]9月③'!NC5 -> 0 | MC5: ='[1]9月③'!NE5 -> 0 | MD5: ='[1]9月③'!NM5 -> 0 | ME5: ='[1]9月③'!NN5 -> 0 | MF5: ='[1]9月③'!NP5 -> 0 | MG5: ='[1]9月③'!NX5 -> 0 | MH5: ='[1]9月③'!NY5 -> 0 | MI5: ='[1]9月③'!OA5 -> 0 | MJ5: ='[1]9月③'!OI5 -> 0 | MK5: ='[1]9月③'!OT5 -> 0 | ML5: ='[1]9月③'!OL5 -> 0 | MM5: ='[1]9月③'!LT5 -> 0 | MN5: ='[1]9月③'!LU5 -> 0 | MO5: ='[1]9月③'!LW5 -> 0 | MP5: ='[1]9月③'!PE5 -> 0 | MQ5: ='[1]9月③'!PF5 -> 0 | MR5: ='[1]9月③'!PH5 -> 0 | MS5: ='[1]9月③'!PP5 -> 0 | MT5: ='[1]9月③'!PQ5 -> 0 | MU5: ='[1]9月③'!PS5 -> 0 | MV5: ='[1]9月③'!QA5 -> 0 | MW5: ='[1]9月③'!QB5 -> 0 | MX5: ='[1]9月③'!QD5 -> 0 | MY5: ='[1]9月③'!QL5 -> 0 | MZ5: ='[1]9月③'!QM5 -> 0 | NA5: ='[1]9月③'!QO5 -> 0 | NB5: ='[1]9月③'!QW5 -> 0 | NC5: ='[1]9月③'!QX5 -> 0 | ND5: ='[1]9月③'!QZ5 -> 0 | NE5: ='[1]9月③'!RH5 -> 0 | NF5: ='[1]9月③'!RI5 -> 0 | NG5: ='[1]9月③'!RK5 -> 0 | NH5: ='[1]9月③'!RS5 -> 0 | NI5: ='[1]9月③'!RT5 -> 0 | NJ5: ='[1]9月③'!RV5 -> 0 | NK5: ='[1]9月③'!SD5 -> 0 | NL5: ='[1]9月③'!SE5 -> 0 | NM5: ='[1]9月③'!SG5 -> 0 | NN5: ='[1]9月③'!SO5 -> 0 | NO5: ='[1]9月③'!SP5 -> 0 | NP5: ='[1]9月③'!SR5 -> 0 | NQ5: ='[1]9月③'!SZ5 -> 0 | NR5: ='[1]9月③'!TA5 -> 0 | NS5: ='[1]9月③'!TC5 -> 0 | NT5: ='[1]9月③'!TK5 -> 0 | NU5: ='[1]9月③'!TL5 -> 0 | NV5: ='[1]9月③'!TN5 -> 0 | NW5: ='[1]9月③'!TV5 -> 0 | NX5: ='[1]9月③'!TW5 -> 0 | NY5: ='[1]9月③'!TY5 -> 0 | NZ5: ='[1]9月③'!UG5 -> 0 | OA5: ='[1]9月③'!UH5 -> 0 | OB5: ='[1]9月③'!UJ5 -> 0
A6: 02 | B6: 青 森 | C6: ='[1]9月①'!C6 -> 0 | D6: ='[1]9月①'!D6 -> 0 | E6: ='[1]9月①'!F6 -> 0 | F6: ='[1]9月①'!N6 -> 0 | G6: ='[1]9月①'!O6 -> 0 | H6: ='[1]9月①'!Q6 -> 0 | I6: ='[1]9月①'!Y6 -> 0 | J6: ='[1]9月①'!Z6 -> 0 | K6: ='[1]9月①'!AB6 -> 0 | L6: ='[1]9月①'!AJ6 -> 0 | M6: ='[1]9月①'!AK6 -> 0 | N6: ='[1]9月①'!AM6 -> 0 | O6: ='[1]9月①'!AU6 -> 0 | P6: ='[1]9月①'!AV6 -> 0 | Q6: ='[1]9月①'!AX6 -> 0 | R6: ='[1]9月①'!BF6 -> 0 | S6: ='[1]9月①'!BG6 -> 0 | T6: ='[1]9月①'!BI6 -> 0 | U6: ='[1]9月①'!BQ6 -> 0 | V6: ='[1]9月①'!BR6 -> 0 | W6: ='[1]9月①'!BT6 -> 0 | X6: ='[1]9月①'!CB6 -> 0 | Y6: ='[1]9月①'!CC6 -> 0 | Z6: ='[1]9月①'!CE6 -> 0 | AA6: ='[1]9月①'!CM6 -> 0 | AB6: ='[1]9月①'!CN6 -> 0 | AC6: ='[1]9月①'!CP6 -> 0 | AD6: ='[1]9月①'!CX6 -> 0 | AE6: ='[1]9月①'!CY6 -> 0 | AF6: ='[1]9月①'!DA6 -> 0 | AG6: ='[1]9月①'!DI6 -> 0 | AH6: ='[1]9月①'!DJ6 -> 0 | AI6: ='[1]9月①'!DL6 -> 0 | AJ6: ='[1]9月①'!DT6 -> 0 | AK6: ='[1]9月①'!DU6 -> 0 | AL6: ='[1]9月①'!DW6 -> 0 | AM6: ='[1]9月①'!EE6 -> 0 | AN6: ='[1]9月①'!EF6 -> 0 | AO6: ='[1]9月①'!EH6 -> 0 | AP6: ='[1]9月①'!EP6 -> 0 | AQ6: ='[1]9月①'!EQ6 -> 0 | AR6: ='[1]9月①'!ES6 -> 0 | AS6: ='[1]9月①'!FA6 -> 0 | AT6: ='[1]9月①'!FB6 -> 0 | AU6: ='[1]9月①'!FD6 -> 0 | AV6: ='[1]9月①'!FL6 -> 0 | AW6: ='[1]9月①'!FM6 -> 0 | AX6: ='[1]9月①'!FO6 -> 0 | AY6: ='[1]9月①'!FW6 -> 0 | AZ6: ='[1]9月①'!FX6 -> 0 | BA6: ='[1]9月①'!FZ6 -> 0 | BB6: ='[1]9月①'!GH6 -> 0 | BC6: ='[1]9月①'!GI6 -> 0 | BD6: ='[1]9月①'!GK6 -> 0 | BE6: ='[1]9月①'!GS6 -> 0 | BF6: ='[1]9月①'!GT6 -> 0 | BG6: ='[1]9月①'!GV6 -> 0 | BH6: ='[1]9月①'!HD6 -> 0 | BI6: ='[1]9月①'!HE6 -> 0 | BJ6: ='[1]9月①'!HG6 -> 0 | BK6: ='[1]9月①'!HO6 -> 0 | BL6: ='[1]9月①'!HP6 -> 0 | BM6: ='[1]9月①'!HR6 -> 0 | BN6: ='[1]9月①'!HZ6 -> 0 | BO6: ='[1]9月①'!IA6 -> 0 | BP6: ='[1]9月①'!IC6 -> 0 | BQ6: ='[1]9月①'!IK6 -> 0 | BR6: ='[1]9月①'!IL6 -> 0 | BS6: ='[1]9月①'!IN6 -> 0 | BT6: ='[1]9月①'!IV6 -> 0 | BU6: ='[1]9月①'!IW6 -> 0 | BV6: ='[1]9月①'!IY6 -> 0 | BW6: ='[1]9月①'!JH6 -> 0 | BX6: ='[1]9月①'!JG6 -> 0 | BY6: ='[1]9月①'!JJ6 -> 0 | BZ6: ='[1]9月①'!JR6 -> 0 | CA6: ='[1]9月①'!JS6 -> 0 | CB6: ='[1]9月①'!JU6 -> 0 | CC6: ='[1]9月①'!KC6 -> 0 | CD6: ='[1]9月①'!KD6 -> 0 | CE6: ='[1]9月①'!KF6 -> 0 | CF6: ='[1]9月①'!KN6 -> 0 | CG6: ='[1]9月①'!KO6 -> 0 | CH6: ='[1]9月①'!KQ6 -> 0 | CI6: ='[1]9月①'!KY6 -> 0 | CJ6: ='[1]9月①'!KZ6 -> 0 | CK6: ='[1]9月①'!LB6 -> 0 | CL6: ='[1]9月①'!LJ6 -> 0 | CM6: ='[1]9月①'!LK6 -> 0 | CN6: ='[1]9月①'!LM6 -> 0 | CO6: ='[1]9月①'!LU6 -> 0 | CP6: ='[1]9月①'!LV6 -> 0 | CQ6: ='[1]9月①'!LX6 -> 0 | CR6: ='[1]9月①'!MF6 -> 0 | CS6: ='[1]9月①'!MG6 -> 0 | CT6: ='[1]9月①'!MI6 -> 0 | CU6: ='[1]9月①'!MQ6 -> 0 | CV6: ='[1]9月①'!MR6 -> 0 | CW6: ='[1]9月①'!MT6 -> 0 | CX6: ='[1]9月①'!NB6 -> 0 | CY6: ='[1]9月①'!NC6 -> 0 | CZ6: ='[1]9月①'!NE6 -> 0 | DA6: ='[1]9月①'!NM6 -> 0 | DB6: ='[1]9月①'!NN6 -> 0 | DC6: ='[1]9月①'!NP6 -> 0 | DD6: ='[1]9月①'!NX6 -> 0 | DE6: ='[1]9月①'!NY6 -> 0 | DF6: ='[1]9月①'!OA6 -> 0 | DG6: ='[1]9月①'!OI6 -> 0 | DH6: ='[1]9月①'!OJ6 -> 0 | DI6: ='[1]9月①'!OL6 -> 0 | DJ6: ='[1]9月①'!OT6 -> 0 | DK6: ='[1]9月①'!OU6 -> 0 | DL6: ='[1]9月①'!OW6 -> 0 | DM6: ='[1]9月①'!PE6 -> 0 | DN6: ='[1]9月①'!PF6 -> 0 | DO6: ='[1]9月①'!PH6 -> 0 | DP6: ='[1]9月②'!C6 -> 0 | DQ6: ='[1]9月②'!D6 -> 0 | DR6: ='[1]9月②'!F6 -> 0 | DS6: ='[1]9月②'!N6 -> 0 | DT6: ='[1]9月②'!O6 -> 0 | DU6: ='[1]9月②'!Q6 -> 0 | DV6: ='[1]9月②'!Y6 -> 0 | DW6: ='[1]9月②'!Z6 -> 0 | DX6: ='[1]9月②'!AB6 -> 0 | DY6: ='[1]9月②'!AJ6 -> 0 | DZ6: ='[1]9月②'!AK6 -> 0 | EA6: ='[1]9月②'!AM6 -> 0 | EB6: ='[1]9月②'!AU6 -> 0 | EC6: ='[1]9月②'!AV6 -> 0 | ED6: ='[1]9月②'!AX6 -> 0 | EE6: ='[1]9月②'!BF6 -> 0 | EF6: ='[1]9月②'!BG6 -> 0 | EG6: ='[1]9月②'!BI6 -> 0 | EH6: ='[1]9月②'!BQ6 -> 0 | EI6: ='[1]9月②'!BR6 -> 0 | EJ6: ='[1]9月②'!BT6 -> 0 | EK6: ='[1]9月②'!CB6 -> 0 | EL6: ='[1]9月②'!CC6 -> 0 | EM6: ='[1]9月②'!CE6 -> 0 | EN6: ='[1]9月②'!CM6 -> 0 | EO6: ='[1]9月②'!CN6 -> 0 | EP6: ='[1]9月②'!CP6 -> 0 | EQ6: ='[1]9月②'!CX6 -> 0 | ER6: ='[1]9月②'!CY6 -> 0 | ES6: ='[1]9月②'!DA6 -> 0 | ET6: ='[1]9月②'!DI6 -> 0 | EU6: ='[1]9月②'!DJ6 -> 0 | EV6: ='[1]9月②'!DL6 -> 0 | EW6: ='[1]9月②'!DT6 -> 0 | EX6: ='[1]9月②'!DU6 -> 0 | EY6: ='[1]9月②'!DW6 -> 0 | EZ6: ='[1]9月②'!EE6 -> 0 | FA6: ='[1]9月②'!EF6 -> 0 | FB6: ='[1]9月②'!EH6 -> 0 | FC6: ='[1]9月②'!EP6 -> 0 | FD6: ='[1]9月②'!EQ6 -> 0 | FE6: ='[1]9月②'!ES6 -> 0 | FF6: ='[1]9月②'!FA6 -> 0 | FG6: ='[1]9月②'!FB6 -> 0 | FH6: ='[1]9月②'!FD6 -> 0 | FI6: ='[1]9月②'!FL6 -> 0 | FJ6: ='[1]9月②'!FM6 -> 0 | FK6: ='[1]9月②'!FO6 -> 0 | FL6: ='[1]9月②'!FW6 -> 0 | FM6: ='[1]9月②'!FX6 -> 0 | FN6: ='[1]9月②'!FZ6 -> 0 | FO6: ='[1]9月②'!GH6 -> 0 | FP6: ='[1]9月②'!GI6 -> 0 | FQ6: ='[1]9月②'!GK6 -> 0 | FR6: ='[1]9月②'!GS6 -> 0 | FS6: ='[1]9月②'!GT6 -> 0 | FT6: ='[1]9月②'!GV6 -> 0 | FU6: ='[1]9月②'!HD6 -> 0 | FV6: ='[1]9月②'!HE6 -> 0 | FW6: ='[1]9月②'!HG6 -> 0 | FX6: ='[1]9月②'!HO6 -> 0 | FY6: ='[1]9月②'!HP6 -> 0 | FZ6: ='[1]9月②'!HR6 -> 0 | GA6: ='[1]9月②'!HZ6 -> 0 | GB6: ='[1]9月②'!IA6 -> 0 | GC6: ='[1]9月②'!IC6 -> 0 | GD6: ='[1]9月②'!IK6 -> 0 | GE6: ='[1]9月②'!IL6 -> 0 | GF6: ='[1]9月②'!IN6 -> 0 | GG6: ='[1]9月②'!IV6 -> 0 | GH6: ='[1]9月②'!IW6 -> 0 | GI6: ='[1]9月②'!IY6 -> 0 | GJ6: ='[1]9月②'!JG6 -> 0 | GK6: ='[1]9月②'!JH6 -> 0 | GL6: ='[1]9月②'!JJ6 -> 0 | GM6: ='[1]9月②'!JR6 -> 0 | GN6: ='[1]9月②'!JS6 -> 0 | GO6: ='[1]9月②'!JV6 -> 0 | GP6: ='[1]9月②'!KC6 -> 0 | GQ6: ='[1]9月②'!KD6 -> 0 | GR6: ='[1]9月②'!KF6 -> 0 | GS6: ='[1]9月②'!KN6 -> 0 | GT6: ='[1]9月②'!KO6 -> 0 | GU6: ='[1]9月②'!KQ6 -> 0 | GV6: ='[1]9月②'!KY6 -> 0 | GW6: ='[1]9月②'!KZ6 -> 0 | GX6: ='[1]9月②'!LB6 -> 0 | GY6: ='[1]9月②'!LI6 -> 0 | GZ6: ='[1]9月②'!LK6 -> 0 | HA6: ='[1]9月②'!LM6 -> 0 | HB6: ='[1]9月②'!LU6 -> 0 | HC6: ='[1]9月②'!LV6 -> 0 | HD6: ='[1]9月②'!LX6 -> 0 | HE6: ='[1]9月②'!MF6 -> 0 | HF6: ='[1]9月②'!MG6 -> 0 | HG6: ='[1]9月②'!MI6 -> 0 | HH6: ='[1]9月②'!MQ6 -> 0 | HI6: ='[1]9月②'!MR6 -> 0 | HJ6: ='[1]9月②'!MT6 -> 0 | HK6: ='[1]9月②'!NB6 -> 0 | HL6: ='[1]9月②'!NC6 -> 0 | HM6: ='[1]9月②'!NE6 -> 0 | HN6: ='[1]9月②'!NM6 -> 0 | HO6: ='[1]9月②'!NN6 -> 0 | HP6: ='[1]9月②'!NP6 -> 0 | HQ6: ='[1]9月②'!NX6 -> 0 | HR6: ='[1]9月②'!NY6 -> 0 | HS6: ='[1]9月②'!OA6 -> 0 | HT6: ='[1]9月②'!OI6 -> 0 | HU6: ='[1]9月②'!OJ6 -> 0 | HV6: ='[1]9月②'!OL6 -> 0 | HW6: ='[1]9月②'!OT6 -> 0 | HX6: ='[1]9月②'!OU6 -> 0 | HY6: ='[1]9月②'!OW6 -> 0 | HZ6: ='[1]9月②'!PE6 -> 0 | IA6: ='[1]9月②'!PF6 -> 0 | IB6: ='[1]9月②'!PH6 -> 0 | IC6: ='[1]9月②'!PP6 -> 0 | ID6: ='[1]9月②'!PQ6 -> 0 | IE6: ='[1]9月②'!PS6 -> 0 | IF6: ='[1]9月③'!C6 -> 0 | IG6: ='[1]9月③'!D6 -> 0 | IH6: ='[1]9月③'!F6 -> 0 | II6: ='[1]9月③'!N6 -> 0 | IJ6: ='[1]9月③'!O6 -> 0 | IK6: ='[1]9月③'!Q6 -> 0 | IL6: ='[1]9月③'!Y6 -> 0 | IM6: ='[1]9月③'!Z6 -> 0 | IN6: ='[1]9月③'!AB6 -> 0 | IO6: ='[1]9月③'!AJ6 -> 0 | IP6: ='[1]9月③'!AK6 -> 0 | IQ6: ='[1]9月③'!AM6 -> 0 | IR6: ='[1]9月③'!AU6 -> 0 | IS6: ='[1]9月③'!AV6 -> 0 | IT6: ='[1]9月③'!AX6 -> 0 | IU6: ='[1]9月③'!BF6 -> 0 | IV6: ='[1]9月③'!BG6 -> 0 | IW6: ='[1]9月③'!BI6 -> 0 | IX6: ='[1]9月③'!BQ6 -> 0 | IY6: ='[1]9月③'!BR6 -> 0 | IZ6: ='[1]9月③'!BT6 -> 0 | JA6: ='[1]9月③'!CB6 -> 0 | JB6: ='[1]9月③'!CC6 -> 0 | JC6: ='[1]9月③'!CE6 -> 0 | JD6: ='[1]9月③'!CM6 -> 0 | JE6: ='[1]9月③'!CN6 -> 0 | JF6: ='[1]9月③'!CP6 -> 0 | JG6: ='[1]9月③'!CX6 -> 0 | JH6: ='[1]9月③'!CY6 -> 0 | JI6: ='[1]9月③'!DA6 -> 0 | JJ6: ='[1]9月③'!DI6 -> 0 | JK6: ='[1]9月③'!DJ6 -> 0 | JL6: ='[1]9月③'!DL6 -> 0 | JM6: ='[1]9月③'!DT6 -> 0 | JN6: ='[1]9月③'!DU6 -> 0 | JO6: ='[1]9月③'!DW6 -> 0 | JP6: ='[1]9月③'!EE6 -> 0 | JQ6: ='[1]9月③'!EF6 -> 0 | JR6: ='[1]9月③'!EH6 -> 0 | JS6: ='[1]9月③'!ER6 -> 0 | JT6: ='[1]9月③'!EQ6 -> 0 | JU6: ='[1]9月③'!ES6 -> 0 | JV6: ='[1]9月③'!FA6 -> 0 | JW6: ='[1]9月③'!FB6 -> 0 | JX6: ='[1]9月③'!FD6 -> 0 | JY6: ='[1]9月③'!FL6 -> 0 | JZ6: ='[1]9月③'!FM6 -> 0 | KA6: ='[1]9月③'!FO6 -> 0 | KB6: ='[1]9月③'!FW6 -> 0 | KC6: ='[1]9月③'!FX6 -> 0 | KD6: ='[1]9月③'!FZ6 -> 0 | KE6: ='[1]9月③'!GH6 -> 0 | KF6: ='[1]9月③'!GI6 -> 0 | KG6: ='[1]9月③'!GK6 -> 0 | KH6: ='[1]9月③'!GS6 -> 0 | KI6: ='[1]9月③'!GT6 -> 0 | KJ6: ='[1]9月③'!GV6 -> 0 | KK6: ='[1]9月③'!HD6 -> 0 | KL6: ='[1]9月③'!HE6 -> 0 | KM6: ='[1]9月③'!HG6 -> 0 | KN6: ='[1]9月③'!HO6 -> 0 | KO6: ='[1]9月③'!HP6 -> 0 | KP6: ='[1]9月③'!HR6 -> 0 | KQ6: ='[1]9月③'!HZ6 -> 0 | KR6: ='[1]9月③'!IA6 -> 0 | KS6: ='[1]9月③'!IC6 -> 0 | KT6: ='[1]9月③'!IK6 -> 0 | KU6: ='[1]9月③'!IL6 -> 0 | KV6: ='[1]9月③'!IN6 -> 0 | KW6: ='[1]9月③'!IV6 -> 0 | KX6: ='[1]9月③'!IW6 -> 0 | KY6: ='[1]9月③'!IY6 -> 0 | KZ6: ='[1]9月③'!JG6 -> 0 | LA6: ='[1]9月③'!JH6 -> 0 | LB6: ='[1]9月③'!JJ6 -> 0 | LC6: ='[1]9月③'!JR6 -> 0 | LD6: ='[1]9月③'!JS6 -> 0 | LE6: ='[1]9月③'!JU6 -> 0 | LF6: ='[1]9月③'!KC6 -> 0 | LG6: ='[1]9月③'!KD6 -> 0 | LH6: ='[1]9月③'!KF6 -> 0 | LI6: ='[1]9月③'!KN6 -> 0 | LJ6: ='[1]9月③'!KO6 -> 0 | LK6: ='[1]9月③'!KQ6 -> 0 | LL6: ='[1]9月③'!KY6 -> 0 | LM6: ='[1]9月③'!KZ6 -> 0 | LN6: ='[1]9月③'!LB6 -> 0 | LO6: ='[1]9月③'!LJ6 -> 0 | LP6: ='[1]9月③'!LK6 -> 0 | LQ6: ='[1]9月③'!LM6 -> 0 | LR6: ='[1]9月③'!LU6 -> 0 | LS6: ='[1]9月③'!LV6 -> 0 | LT6: ='[1]9月③'!LX6 -> 0 | LU6: ='[1]9月③'!MF6 -> 0 | LV6: ='[1]9月③'!MG6 -> 0 | LW6: ='[1]9月③'!MI6 -> 0 | LX6: ='[1]9月③'!MQ6 -> 0 | LY6: ='[1]9月③'!MR6 -> 0 | LZ6: ='[1]9月③'!MT6 -> 0 | MA6: ='[1]9月③'!NB6 -> 0 | MB6: ='[1]9月③'!NC6 -> 0 | MC6: ='[1]9月③'!NE6 -> 0 | MD6: ='[1]9月③'!NM6 -> 0 | ME6: ='[1]9月③'!NN6 -> 0 | MF6: ='[1]9月③'!NP6 -> 0 | MG6: ='[1]9月③'!NX6 -> 0 | MH6: ='[1]9月③'!NY6 -> 0 | MI6: ='[1]9月③'!OA6 -> 0 | MJ6: ='[1]9月③'!OI6 -> 0 | MK6: ='[1]9月③'!OT6 -> 0 | ML6: ='[1]9月③'!OL6 -> 0 | MM6: ='[1]9月③'!LT6 -> 0 | MN6: ='[1]9月③'!LU6 -> 0 | MO6: ='[1]9月③'!LW6 -> 0 | MP6: ='[1]9月③'!PE6 -> 0 | MQ6: ='[1]9月③'!PF6 -> 0 | MR6: ='[1]9月③'!PH6 -> 0 | MS6: ='[1]9月③'!PP6 -> 0 | MT6: ='[1]9月③'!PQ6 -> 0 | MU6: ='[1]9月③'!PS6 -> 0 | MV6: ='[1]9月③'!QA6 -> 0 | MW6: ='[1]9月③'!QB6 -> 0 | MX6: ='[1]9月③'!QD6 -> 0 | MY6: ='[1]9月③'!QL6 -> 0 | MZ6: ='[1]9月③'!QM6 -> 0 | NA6: ='[1]9月③'!QO6 -> 0 | NB6: ='[1]9月③'!QW6 -> 0 | NC6: ='[1]9月③'!QX6 -> 0 | ND6: ='[1]9月③'!QZ6 -> 0 | NE6: ='[1]9月③'!RH6 -> 0 | NF6: ='[1]9月③'!RI6 -> 0 | NG6: ='[1]9月③'!RK6 -> 0 | NH6: ='[1]9月③'!RS6 -> 0 | NI6: ='[1]9月③'!RT6 -> 0 | NJ6: ='[1]9月③'!RV6 -> 0 | NK6: ='[1]9月③'!SD6 -> 0 | NL6: ='[1]9月③'!SE6 -> 0 | NM6: ='[1]9月③'!SG6 -> 0 | NN6: ='[1]9月③'!SO6 -> 0 | NO6: ='[1]9月③'!SP6 -> 0 | NP6: ='[1]9月③'!SR6 -> 0 | NQ6: ='[1]9月③'!SZ6 -> 0 | NR6: ='[1]9月③'!TA6 -> 0 | NS6: ='[1]9月③'!TC6 -> 0 | NT6: ='[1]9月③'!TK6 -> 0 | NU6: ='[1]9月③'!TL6 -> 0 | NV6: ='[1]9月③'!TN6 -> 0 | NW6: ='[1]9月③'!TV6 -> 0 | NX6: ='[1]9月③'!TW6 -> 0 | NY6: ='[1]9月③'!TY6 -> 0 | NZ6: ='[1]9月③'!UG6 -> 0 | OA6: ='[1]9月③'!UH6 -> 0 | OB6: ='[1]9月③'!UJ6 -> 0
A7: 03 | B7: 岩 手 | C7: ='[1]9月①'!C7 -> 0 | D7: ='[1]9月①'!D7 -> 0 | E7: ='[1]9月①'!F7 -> 0 | F7: ='[1]9月①'!N7 -> 0 | G7: ='[1]9月①'!O7 -> 0 | H7: ='[1]9月①'!Q7 -> 0 | I7: ='[1]9月①'!Y7 -> 0 | J7: ='[1]9月①'!Z7 -> 0 | K7: ='[1]9月①'!AB7 -> 0 | L7: ='[1]9月①'!AJ7 -> 0 | M7: ='[1]9月①'!AK7 -> 0 | N7: ='[1]9月①'!AM7 -> 0 | O7: ='[1]9月①'!AU7 -> 0 | P7: ='[1]9月①'!AV7 -> 0 | Q7: ='[1]9月①'!AX7 -> 0 | R7: ='[1]9月①'!BF7 -> 0 | S7: ='[1]9月①'!BG7 -> 0 | T7: ='[1]9月①'!BI7 -> 0 | U7: ='[1]9月①'!BQ7 -> 0 | V7: ='[1]9月①'!BR7 -> 0 | W7: ='[1]9月①'!BT7 -> 0 | X7: ='[1]9月①'!CB7 -> 0 | Y7: ='[1]9月①'!CC7 -> 0 | Z7: ='[1]9月①'!CE7 -> 0 | AA7: ='[1]9月①'!CM7 -> 0 | AB7: ='[1]9月①'!CN7 -> 0 | AC7: ='[1]9月①'!CP7 -> 0 | AD7: ='[1]9月①'!CX7 -> 0 | AE7: ='[1]9月①'!CY7 -> 0 | AF7: ='[1]9月①'!DA7 -> 0 | AG7: ='[1]9月①'!DI7 -> 0 | AH7: ='[1]9月①'!DJ7 -> 0 | AI7: ='[1]9月①'!DL7 -> 0 | AJ7: ='[1]9月①'!DT7 -> 0 | AK7: ='[1]9月①'!DU7 -> 0 | AL7: ='[1]9月①'!DW7 -> 0 | AM7: ='[1]9月①'!EE7 -> 0 | AN7: ='[1]9月①'!EF7 -> 0 | AO7: ='[1]9月①'!EH7 -> 0 | AP7: ='[1]9月①'!EP7 -> 0 | AQ7: ='[1]9月①'!EQ7 -> 0 | AR7: ='[1]9月①'!ES7 -> 0 | AS7: ='[1]9月①'!FA7 -> 0 | AT7: ='[1]9月①'!FB7 -> 0 | AU7: ='[1]9月①'!FD7 -> 0 | AV7: ='[1]9月①'!FL7 -> 0 | AW7: ='[1]9月①'!FM7 -> 0 | AX7: ='[1]9月①'!FO7 -> 0 | AY7: ='[1]9月①'!FW7 -> 0 | AZ7: ='[1]9月①'!FX7 -> 0 | BA7: ='[1]9月①'!FZ7 -> 0 | BB7: ='[1]9月①'!GH7 -> 0 | BC7: ='[1]9月①'!GI7 -> 0 | BD7: ='[1]9月①'!GK7 -> 0 | BE7: ='[1]9月①'!GS7 -> 0 | BF7: ='[1]9月①'!GT7 -> 0 | BG7: ='[1]9月①'!GV7 -> 0 | BH7: ='[1]9月①'!HD7 -> 0 | BI7: ='[1]9月①'!HE7 -> 0 | BJ7: ='[1]9月①'!HG7 -> 0 | BK7: ='[1]9月①'!HO7 -> 0 | BL7: ='[1]9月①'!HP7 -> 0 | BM7: ='[1]9月①'!HR7 -> 0 | BN7: ='[1]9月①'!HZ7 -> 0 | BO7: ='[1]9月①'!IA7 -> 0 | BP7: ='[1]9月①'!IC7 -> 0 | BQ7: ='[1]9月①'!IK7 -> 0 | BR7: ='[1]9月①'!IL7 -> 0 | BS7: ='[1]9月①'!IN7 -> 0 | BT7: ='[1]9月①'!IV7 -> 0 | BU7: ='[1]9月①'!IW7 -> 0 | BV7: ='[1]9月①'!IY7 -> 0 | BW7: ='[1]9月①'!JH7 -> 0 | BX7: ='[1]9月①'!JG7 -> 0 | BY7: ='[1]9月①'!JJ7 -> 0 | BZ7: ='[1]9月①'!JR7 -> 0 | CA7: ='[1]9月①'!JS7 -> 0 | CB7: ='[1]9月①'!JU7 -> 0 | CC7: ='[1]9月①'!KC7 -> 0 | CD7: ='[1]9月①'!KD7 -> 0 | CE7: ='[1]9月①'!KF7 -> 0 | CF7: ='[1]9月①'!KN7 -> 0 | CG7: ='[1]9月①'!KO7 -> 0 | CH7: ='[1]9月①'!KQ7 -> 0 | CI7: ='[1]9月①'!KY7 -> 0 | CJ7: ='[1]9月①'!KZ7 -> 0 | CK7: ='[1]9月①'!LB7 -> 0 | CL7: ='[1]9月①'!LJ7 -> 0 | CM7: ='[1]9月①'!LK7 -> 0 | CN7: ='[1]9月①'!LM7 -> 0 | CO7: ='[1]9月①'!LU7 -> 0 | CP7: ='[1]9月①'!LV7 -> 0 | CQ7: ='[1]9月①'!LX7 -> 0 | CR7: ='[1]9月①'!MF7 -> 0 | CS7: ='[1]9月①'!MG7 -> 0 | CT7: ='[1]9月①'!MI7 -> 0 | CU7: ='[1]9月①'!MQ7 -> 0 | CV7: ='[1]9月①'!MR7 -> 0 | CW7: ='[1]9月①'!MT7 -> 0 | CX7: ='[1]9月①'!NB7 -> 0 | CY7: ='[1]9月①'!NC7 -> 0 | CZ7: ='[1]9月①'!NE7 -> 0 | DA7: ='[1]9月①'!NM7 -> 0 | DB7: ='[1]9月①'!NN7 -> 0 | DC7: ='[1]9月①'!NP7 -> 0 | DD7: ='[1]9月①'!NX7 -> 0 | DE7: ='[1]9月①'!NY7 -> 0 | DF7: ='[1]9月①'!OA7 -> 0 | DG7: ='[1]9月①'!OI7 -> 0 | DH7: ='[1]9月①'!OJ7 -> 0 | DI7: ='[1]9月①'!OL7 -> 0 | DJ7: ='[1]9月①'!OT7 -> 0 | DK7: ='[1]9月①'!OU7 -> 0 | DL7: ='[1]9月①'!OW7 -> 0 | DM7: ='[1]9月①'!PE7 -> 0 | DN7: ='[1]9月①'!PF7 -> 0 | DO7: ='[1]9月①'!PH7 -> 0 | DP7: ='[1]9月②'!C7 -> 0 | DQ7: ='[1]9月②'!D7 -> 0 | DR7: ='[1]9月②'!F7 -> 0 | DS7: ='[1]9月②'!N7 -> 0 | DT7: ='[1]9月②'!O7 -> 0 | DU7: ='[1]9月②'!Q7 -> 0 | DV7: ='[1]9月②'!Y7 -> 0 | DW7: ='[1]9月②'!Z7 -> 0 | DX7: ='[1]9月②'!AB7 -> 0 | DY7: ='[1]9月②'!AJ7 -> 0 | DZ7: ='[1]9月②'!AK7 -> 0 | EA7: ='[1]9月②'!AM7 -> 0 | EB7: ='[1]9月②'!AU7 -> 0 | EC7: ='[1]9月②'!AV7 -> 0 | ED7: ='[1]9月②'!AX7 -> 0 | EE7: ='[1]9月②'!BF7 -> 0 | EF7: ='[1]9月②'!BG7 -> 0 | EG7: ='[1]9月②'!BI7 -> 0 | EH7: ='[1]9月②'!BQ7 -> 0 | EI7: ='[1]9月②'!BR7 -> 0 | EJ7: ='[1]9月②'!BT7 -> 0 | EK7: ='[1]9月②'!CB7 -> 0 | EL7: ='[1]9月②'!CC7 -> 0 | EM7: ='[1]9月②'!CE7 -> 0 | EN7: ='[1]9月②'!CM7 -> 0 | EO7: ='[1]9月②'!CN7 -> 0 | EP7: ='[1]9月②'!CP7 -> 0 | EQ7: ='[1]9月②'!CX7 -> 0 | ER7: ='[1]9月②'!CY7 -> 0 | ES7: ='[1]9月②'!DA7 -> 0 | ET7: ='[1]9月②'!DI7 -> 0 | EU7: ='[1]9月②'!DJ7 -> 0 | EV7: ='[1]9月②'!DL7 -> 0 | EW7: ='[1]9月②'!DT7 -> 0 | EX7: ='[1]9月②'!DU7 -> 0 | EY7: ='[1]9月②'!DW7 -> 0 | EZ7: ='[1]9月②'!EE7 -> 0 | FA7: ='[1]9月②'!EF7 -> 0 | FB7: ='[1]9月②'!EH7 -> 0 | FC7: ='[1]9月②'!EP7 -> 0 | FD7: ='[1]9月②'!EQ7 -> 0 | FE7: ='[1]9月②'!ES7 -> 0 | FF7: ='[1]9月②'!FA7 -> 0 | FG7: ='[1]9月②'!FB7 -> 0 | FH7: ='[1]9月②'!FD7 -> 0 | FI7: ='[1]9月②'!FL7 -> 0 | FJ7: ='[1]9月②'!FM7 -> 0 | FK7: ='[1]9月②'!FO7 -> 0 | FL7: ='[1]9月②'!FW7 -> 0 | FM7: ='[1]9月②'!FX7 -> 0 | FN7: ='[1]9月②'!FZ7 -> 0 | FO7: ='[1]9月②'!GH7 -> 0 | FP7: ='[1]9月②'!GI7 -> 0 | FQ7: ='[1]9月②'!GK7 -> 0 | FR7: ='[1]9月②'!GS7 -> 0 | FS7: ='[1]9月②'!GT7 -> 0 | FT7: ='[1]9月②'!GV7 -> 0 | FU7: ='[1]9月②'!HD7 -> 0 | FV7: ='[1]9月②'!HE7 -> 0 | FW7: ='[1]9月②'!HG7 -> 0 | FX7: ='[1]9月②'!HO7 -> 0 | FY7: ='[1]9月②'!HP7 -> 0 | FZ7: ='[1]9月②'!HR7 -> 0 | GA7: ='[1]9月②'!HZ7 -> 0 | GB7: ='[1]9月②'!IA7 -> 0 | GC7: ='[1]9月②'!IC7 -> 0 | GD7: ='[1]9月②'!IK7 -> 0 | GE7: ='[1]9月②'!IL7 -> 0 | GF7: ='[1]9月②'!IN7 -> 0 | GG7: ='[1]9月②'!IV7 -> 0 | GH7: ='[1]9月②'!IW7 -> 0 | GI7: ='[1]9月②'!IY7 -> 0 | GJ7: ='[1]9月②'!JG7 -> 0 | GK7: ='[1]9月②'!JH7 -> 0 | GL7: ='[1]9月②'!JJ7 -> 0 | GM7: ='[1]9月②'!JR7 -> 0 | GN7: ='[1]9月②'!JS7 -> 0 | GO7: ='[1]9月②'!JV7 -> 0 | GP7: ='[1]9月②'!KC7 -> 0 | GQ7: ='[1]9月②'!KD7 -> 0 | GR7: ='[1]9月②'!KF7 -> 0 | GS7: ='[1]9月②'!KN7 -> 0 | GT7: ='[1]9月②'!KO7 -> 0 | GU7: ='[1]9月②'!KQ7 -> 0 | GV7: ='[1]9月②'!KY7 -> 0 | GW7: ='[1]9月②'!KZ7 -> 0 | GX7: ='[1]9月②'!LB7 -> 0 | GY7: ='[1]9月②'!LI7 -> 0 | GZ7: ='[1]9月②'!LK7 -> 0 | HA7: ='[1]9月②'!LM7 -> 0 | HB7: ='[1]9月②'!LU7 -> 0 | HC7: ='[1]9月②'!LV7 -> 0 | HD7: ='[1]9月②'!LX7 -> 0 | HE7: ='[1]9月②'!MF7 -> 0 | HF7: ='[1]9月②'!MG7 -> 0 | HG7: ='[1]9月②'!MI7 -> 0 | HH7: ='[1]9月②'!MQ7 -> 0 | HI7: ='[1]9月②'!MR7 -> 0 | HJ7: ='[1]9月②'!MT7 -> 0 | HK7: ='[1]9月②'!NB7 -> 0 | HL7: ='[1]9月②'!NC7 -> 0 | HM7: ='[1]9月②'!NE7 -> 0 | HN7: ='[1]9月②'!NM7 -> 0 | HO7: ='[1]9月②'!NN7 -> 0 | HP7: ='[1]9月②'!NP7 -> 0 | HQ7: ='[1]9月②'!NX7 -> 0 | HR7: ='[1]9月②'!NY7 -> 0 | HS7: ='[1]9月②'!OA7 -> 0 | HT7: ='[1]9月②'!OI7 -> 0 | HU7: ='[1]9月②'!OJ7 -> 0 | HV7: ='[1]9月②'!OL7 -> 0 | HW7: ='[1]9月②'!OT7 -> 0 | HX7: ='[1]9月②'!OU7 -> 0 | HY7: ='[1]9月②'!OW7 -> 0 | HZ7: ='[1]9月②'!PE7 -> 0 | IA7: ='[1]9月②'!PF7 -> 0 | IB7: ='[1]9月②'!PH7 -> 0 | IC7: ='[1]9月②'!PP7 -> 0 | ID7: ='[1]9月②'!PQ7 -> 0 | IE7: ='[1]9月②'!PS7 -> 0 | IF7: ='[1]9月③'!C7 -> 0 | IG7: ='[1]9月③'!D7 -> 0 | IH7: ='[1]9月③'!F7 -> 0 | II7: ='[1]9月③'!N7 -> 0 | IJ7: ='[1]9月③'!O7 -> 0 | IK7: ='[1]9月③'!Q7 -> 0 | IL7: ='[1]9月③'!Y7 -> 0 | IM7: ='[1]9月③'!Z7 -> 0 | IN7: ='[1]9月③'!AB7 -> 0 | IO7: ='[1]9月③'!AJ7 -> 0 | IP7: ='[1]9月③'!AK7 -> 0 | IQ7: ='[1]9月③'!AM7 -> 0 | IR7: ='[1]9月③'!AU7 -> 0 | IS7: ='[1]9月③'!AV7 -> 0 | IT7: ='[1]9月③'!AX7 -> 0 | IU7: ='[1]9月③'!BF7 -> 0 | IV7: ='[1]9月③'!BG7 -> 0 | IW7: ='[1]9月③'!BI7 -> 0 | IX7: ='[1]9月③'!BQ7 -> 0 | IY7: ='[1]9月③'!BR7 -> 0 | IZ7: ='[1]9月③'!BT7 -> 0 | JA7: ='[1]9月③'!CB7 -> 0 | JB7: ='[1]9月③'!CC7 -> 0 | JC7: ='[1]9月③'!CE7 -> 0 | JD7: ='[1]9月③'!CM7 -> 0 | JE7: ='[1]9月③'!CN7 -> 0 | JF7: ='[1]9月③'!CP7 -> 0 | JG7: ='[1]9月③'!CX7 -> 0 | JH7: ='[1]9月③'!CY7 -> 0 | JI7: ='[1]9月③'!DA7 -> 0 | JJ7: ='[1]9月③'!DI7 -> 0 | JK7: ='[1]9月③'!DJ7 -> 0 | JL7: ='[1]9月③'!DL7 -> 0 | JM7: ='[1]9月③'!DT7 -> 0 | JN7: ='[1]9月③'!DU7 -> 0 | JO7: ='[1]9月③'!DW7 -> 0 | JP7: ='[1]9月③'!EE7 -> 0 | JQ7: ='[1]9月③'!EF7 -> 0 | JR7: ='[1]9月③'!EH7 -> 0 | JS7: ='[1]9月③'!ER7 -> 0 | JT7: ='[1]9月③'!EQ7 -> 0 | JU7: ='[1]9月③'!ES7 -> 0 | JV7: ='[1]9月③'!FA7 -> 0 | JW7: ='[1]9月③'!FB7 -> 0 | JX7: ='[1]9月③'!FD7 -> 0 | JY7: ='[1]9月③'!FL7 -> 0 | JZ7: ='[1]9月③'!FM7 -> 0 | KA7: ='[1]9月③'!FO7 -> 0 | KB7: ='[1]9月③'!FW7 -> 0 | KC7: ='[1]9月③'!FX7 -> 0 | KD7: ='[1]9月③'!FZ7 -> 0 | KE7: ='[1]9月③'!GH7 -> 0 | KF7: ='[1]9月③'!GI7 -> 0 | KG7: ='[1]9月③'!GK7 -> 0 | KH7: ='[1]9月③'!GS7 -> 0 | KI7: ='[1]9月③'!GT7 -> 0 | KJ7: ='[1]9月③'!GV7 -> 0 | KK7: ='[1]9月③'!HD7 -> 0 | KL7: ='[1]9月③'!HE7 -> 0 | KM7: ='[1]9月③'!HG7 -> 0 | KN7: ='[1]9月③'!HO7 -> 0 | KO7: ='[1]9月③'!HP7 -> 0 | KP7: ='[1]9月③'!HR7 -> 0 | KQ7: ='[1]9月③'!HZ7 -> 0 | KR7: ='[1]9月③'!IA7 -> 0 | KS7: ='[1]9月③'!IC7 -> 0 | KT7: ='[1]9月③'!IK7 -> 0 | KU7: ='[1]9月③'!IL7 -> 0 | KV7: ='[1]9月③'!IN7 -> 0 | KW7: ='[1]9月③'!IV7 -> 0 | KX7: ='[1]9月③'!IW7 -> 0 | KY7: ='[1]9月③'!IY7 -> 0 | KZ7: ='[1]9月③'!JG7 -> 0 | LA7: ='[1]9月③'!JH7 -> 0 | LB7: ='[1]9月③'!JJ7 -> 0 | LC7: ='[1]9月③'!JR7 -> 0 | LD7: ='[1]9月③'!JS7 -> 0 | LE7: ='[1]9月③'!JU7 -> 0 | LF7: ='[1]9月③'!KC7 -> 0 | LG7: ='[1]9月③'!KD7 -> 0 | LH7: ='[1]9月③'!KF7 -> 0 | LI7: ='[1]9月③'!KN7 -> 0 | LJ7: ='[1]9月③'!KO7 -> 0 | LK7: ='[1]9月③'!KQ7 -> 0 | LL7: ='[1]9月③'!KY7 -> 0 | LM7: ='[1]9月③'!KZ7 -> 0 | LN7: ='[1]9月③'!LB7 -> 0 | LO7: ='[1]9月③'!LJ7 -> 0 | LP7: ='[1]9月③'!LK7 -> 0 | LQ7: ='[1]9月③'!LM7 -> 0 | LR7: ='[1]9月③'!LU7 -> 0 | LS7: ='[1]9月③'!LV7 -> 0 | LT7: ='[1]9月③'!LX7 -> 0 | LU7: ='[1]9月③'!MF7 -> 0 | LV7: ='[1]9月③'!MG7 -> 0 | LW7: ='[1]9月③'!MI7 -> 0 | LX7: ='[1]9月③'!MQ7 -> 0 | LY7: ='[1]9月③'!MR7 -> 0 | LZ7: ='[1]9月③'!MT7 -> 0 | MA7: ='[1]9月③'!NB7 -> 0 | MB7: ='[1]9月③'!NC7 -> 0 | MC7: ='[1]9月③'!NE7 -> 0 | MD7: ='[1]9月③'!NM7 -> 0 | ME7: ='[1]9月③'!NN7 -> 0 | MF7: ='[1]9月③'!NP7 -> 0 | MG7: ='[1]9月③'!NX7 -> 0 | MH7: ='[1]9月③'!NY7 -> 0 | MI7: ='[1]9月③'!OA7 -> 0 | MJ7: ='[1]9月③'!OI7 -> 0 | MK7: ='[1]9月③'!OT7 -> 0 | ML7: ='[1]9月③'!OL7 -> 0 | MM7: ='[1]9月③'!LT7 -> 0 | MN7: ='[1]9月③'!LU7 -> 0 | MO7: ='[1]9月③'!LW7 -> 0 | MP7: ='[1]9月③'!PE7 -> 0 | MQ7: ='[1]9月③'!PF7 -> 0 | MR7: ='[1]9月③'!PH7 -> 0 | MS7: ='[1]9月③'!PP7 -> 0 | MT7: ='[1]9月③'!PQ7 -> 0 | MU7: ='[1]9月③'!PS7 -> 0 | MV7: ='[1]9月③'!QA7 -> 0 | MW7: ='[1]9月③'!QB7 -> 0 | MX7: ='[1]9月③'!QD7 -> 0 | MY7: ='[1]9月③'!QL7 -> 0 | MZ7: ='[1]9月③'!QM7 -> 0 | NA7: ='[1]9月③'!QO7 -> 0 | NB7: ='[1]9月③'!QW7 -> 0 | NC7: ='[1]9月③'!QX7 -> 0 | ND7: ='[1]9月③'!QZ7 -> 0 | NE7: ='[1]9月③'!RH7 -> 0 | NF7: ='[1]9月③'!RI7 -> 0 | NG7: ='[1]9月③'!RK7 -> 0 | NH7: ='[1]9月③'!RS7 -> 0 | NI7: ='[1]9月③'!RT7 -> 0 | NJ7: ='[1]9月③'!RV7 -> 0 | NK7: ='[1]9月③'!SD7 -> 0 | NL7: ='[1]9月③'!SE7 -> 0 | NM7: ='[1]9月③'!SG7 -> 0 | NN7: ='[1]9月③'!SO7 -> 0 | NO7: ='[1]9月③'!SP7 -> 0 | NP7: ='[1]9月③'!SR7 -> 0 | NQ7: ='[1]9月③'!SZ7 -> 0 | NR7: ='[1]9月③'!TA7 -> 0 | NS7: ='[1]9月③'!TC7 -> 0 | NT7: ='[1]9月③'!TK7 -> 0 | NU7: ='[1]9月③'!TL7 -> 0 | NV7: ='[1]9月③'!TN7 -> 0 | NW7: ='[1]9月③'!TV7 -> 0 | NX7: ='[1]9月③'!TW7 -> 0 | NY7: ='[1]9月③'!TY7 -> 0 | NZ7: ='[1]9月③'!UG7 -> 0 | OA7: ='[1]9月③'!UH7 -> 0 | OB7: ='[1]9月③'!UJ7 -> 0
A8: 04 | B8: 宮 城 | C8: ='[1]9月①'!C8 -> 0 | D8: ='[1]9月①'!D8 -> 0 | E8: ='[1]9月①'!F8 -> 0 | F8: ='[1]9月①'!N8 -> 0 | G8: ='[1]9月①'!O8 -> 0 | H8: ='[1]9月①'!Q8 -> 0 | I8: ='[1]9月①'!Y8 -> 0 | J8: ='[1]9月①'!Z8 -> 0 | K8: ='[1]9月①'!AB8 -> 0 | L8: ='[1]9月①'!AJ8 -> 0 | M8: ='[1]9月①'!AK8 -> 0 | N8: ='[1]9月①'!AM8 -> 0 | O8: ='[1]9月①'!AU8 -> 0 | P8: ='[1]9月①'!AV8 -> 0 | Q8: ='[1]9月①'!AX8 -> 0 | R8: ='[1]9月①'!BF8 -> 0 | S8: ='[1]9月①'!BG8 -> 0 | T8: ='[1]9月①'!BI8 -> 0 | U8: ='[1]9月①'!BQ8 -> 0 | V8: ='[1]9月①'!BR8 -> 0 | W8: ='[1]9月①'!BT8 -> 0 | X8: ='[1]9月①'!CB8 -> 0 | Y8: ='[1]9月①'!CC8 -> 0 | Z8: ='[1]9月①'!CE8 -> 0 | AA8: ='[1]9月①'!CM8 -> 0 | AB8: ='[1]9月①'!CN8 -> 0 | AC8: ='[1]9月①'!CP8 -> 0 | AD8: ='[1]9月①'!CX8 -> 0 | AE8: ='[1]9月①'!CY8 -> 0 | AF8: ='[1]9月①'!DA8 -> 0 | AG8: ='[1]9月①'!DI8 -> 0 | AH8: ='[1]9月①'!DJ8 -> 0 | AI8: ='[1]9月①'!DL8 -> 0 | AJ8: ='[1]9月①'!DT8 -> 0 | AK8: ='[1]9月①'!DU8 -> 0 | AL8: ='[1]9月①'!DW8 -> 0 | AM8: ='[1]9月①'!EE8 -> 0 | AN8: ='[1]9月①'!EF8 -> 0 | AO8: ='[1]9月①'!EH8 -> 0 | AP8: ='[1]9月①'!EP8 -> 0 | AQ8: ='[1]9月①'!EQ8 -> 0 | AR8: ='[1]9月①'!ES8 -> 0 | AS8: ='[1]9月①'!FA8 -> 0 | AT8: ='[1]9月①'!FB8 -> 0 | AU8: ='[1]9月①'!FD8 -> 0 | AV8: ='[1]9月①'!FL8 -> 0 | AW8: ='[1]9月①'!FM8 -> 0 | AX8: ='[1]9月①'!FO8 -> 0 | AY8: ='[1]9月①'!FW8 -> 0 | AZ8: ='[1]9月①'!FX8 -> 0 | BA8: ='[1]9月①'!FZ8 -> 0 | BB8: ='[1]9月①'!GH8 -> 0 | BC8: ='[1]9月①'!GI8 -> 0 | BD8: ='[1]9月①'!GK8 -> 0 | BE8: ='[1]9月①'!GS8 -> 0 | BF8: ='[1]9月①'!GT8 -> 0 | BG8: ='[1]9月①'!GV8 -> 0 | BH8: ='[1]9月①'!HD8 -> 0 | BI8: ='[1]9月①'!HE8 -> 0 | BJ8: ='[1]9月①'!HG8 -> 0 | BK8: ='[1]9月①'!HO8 -> 0 | BL8: ='[1]9月①'!HP8 -> 0 | BM8: ='[1]9月①'!HR8 -> 0 | BN8: ='[1]9月①'!HZ8 -> 0 | BO8: ='[1]9月①'!IA8 -> 0 | BP8: ='[1]9月①'!IC8 -> 0 | BQ8: ='[1]9月①'!IK8 -> 0 | BR8: ='[1]9月①'!IL8 -> 0 | BS8: ='[1]9月①'!IN8 -> 0 | BT8: ='[1]9月①'!IV8 -> 0 | BU8: ='[1]9月①'!IW8 -> 0 | BV8: ='[1]9月①'!IY8 -> 0 | BW8: ='[1]9月①'!JH8 -> 0 | BX8: ='[1]9月①'!JG8 -> 0 | BY8: ='[1]9月①'!JJ8 -> 0 | BZ8: ='[1]9月①'!JR8 -> 0 | CA8: ='[1]9月①'!JS8 -> 0 | CB8: ='[1]9月①'!JU8 -> 0 | CC8: ='[1]9月①'!KC8 -> 0 | CD8: ='[1]9月①'!KD8 -> 0 | CE8: ='[1]9月①'!KF8 -> 0 | CF8: ='[1]9月①'!KN8 -> 0 | CG8: ='[1]9月①'!KO8 -> 0 | CH8: ='[1]9月①'!KQ8 -> 0 | CI8: ='[1]9月①'!KY8 -> 0 | CJ8: ='[1]9月①'!KZ8 -> 0 | CK8: ='[1]9月①'!LB8 -> 0 | CL8: ='[1]9月①'!LJ8 -> 0 | CM8: ='[1]9月①'!LK8 -> 0 | CN8: ='[1]9月①'!LM8 -> 0 | CO8: ='[1]9月①'!LU8 -> 0 | CP8: ='[1]9月①'!LV8 -> 0 | CQ8: ='[1]9月①'!LX8 -> 0 | CR8: ='[1]9月①'!MF8 -> 0 | CS8: ='[1]9月①'!MG8 -> 0 | CT8: ='[1]9月①'!MI8 -> 0 | CU8: ='[1]9月①'!MQ8 -> 0 | CV8: ='[1]9月①'!MR8 -> 0 | CW8: ='[1]9月①'!MT8 -> 0 | CX8: ='[1]9月①'!NB8 -> 0 | CY8: ='[1]9月①'!NC8 -> 0 | CZ8: ='[1]9月①'!NE8 -> 0 | DA8: ='[1]9月①'!NM8 -> 0 | DB8: ='[1]9月①'!NN8 -> 0 | DC8: ='[1]9月①'!NP8 -> 0 | DD8: ='[1]9月①'!NX8 -> 0 | DE8: ='[1]9月①'!NY8 -> 0 | DF8: ='[1]9月①'!OA8 -> 0 | DG8: ='[1]9月①'!OI8 -> 0 | DH8: ='[1]9月①'!OJ8 -> 0 | DI8: ='[1]9月①'!OL8 -> 0 | DJ8: ='[1]9月①'!OT8 -> 0 | DK8: ='[1]9月①'!OU8 -> 0 | DL8: ='[1]9月①'!OW8 -> 0 | DM8: ='[1]9月①'!PE8 -> 0 | DN8: ='[1]9月①'!PF8 -> 0 | DO8: ='[1]9月①'!PH8 -> 0 | DP8: ='[1]9月②'!C8 -> 0 | DQ8: ='[1]9月②'!D8 -> 0 | DR8: ='[1]9月②'!F8 -> 0 | DS8: ='[1]9月②'!N8 -> 0 | DT8: ='[1]9月②'!O8 -> 0 | DU8: ='[1]9月②'!Q8 -> 0 | DV8: ='[1]9月②'!Y8 -> 0 | DW8: ='[1]9月②'!Z8 -> 0 | DX8: ='[1]9月②'!AB8 -> 0 | DY8: ='[1]9月②'!AJ8 -> 0 | DZ8: ='[1]9月②'!AK8 -> 0 | EA8: ='[1]9月②'!AM8 -> 0 | EB8: ='[1]9月②'!AU8 -> 0 | EC8: ='[1]9月②'!AV8 -> 0 | ED8: ='[1]9月②'!AX8 -> 0 | EE8: ='[1]9月②'!BF8 -> 0 | EF8: ='[1]9月②'!BG8 -> 0 | EG8: ='[1]9月②'!BI8 -> 0 | EH8: ='[1]9月②'!BQ8 -> 0 | EI8: ='[1]9月②'!BR8 -> 0 | EJ8: ='[1]9月②'!BT8 -> 0 | EK8: ='[1]9月②'!CB8 -> 0 | EL8: ='[1]9月②'!CC8 -> 0 | EM8: ='[1]9月②'!CE8 -> 0 | EN8: ='[1]9月②'!CM8 -> 0 | EO8: ='[1]9月②'!CN8 -> 0 | EP8: ='[1]9月②'!CP8 -> 0 | EQ8: ='[1]9月②'!CX8 -> 0 | ER8: ='[1]9月②'!CY8 -> 0 | ES8: ='[1]9月②'!DA8 -> 0 | ET8: ='[1]9月②'!DI8 -> 0 | EU8: ='[1]9月②'!DJ8 -> 0 | EV8: ='[1]9月②'!DL8 -> 0 | EW8: ='[1]9月②'!DT8 -> 0 | EX8: ='[1]9月②'!DU8 -> 0 | EY8: ='[1]9月②'!DW8 -> 0 | EZ8: ='[1]9月②'!EE8 -> 0 | FA8: ='[1]9月②'!EF8 -> 0 | FB8: ='[1]9月②'!EH8 -> 0 | FC8: ='[1]9月②'!EP8 -> 0 | FD8: ='[1]9月②'!EQ8 -> 0 | FE8: ='[1]9月②'!ES8 -> 0 | FF8: ='[1]9月②'!FA8 -> 0 | FG8: ='[1]9月②'!FB8 -> 0 | FH8: ='[1]9月②'!FD8 -> 0 | FI8: ='[1]9月②'!FL8 -> 0 | FJ8: ='[1]9月②'!FM8 -> 0 | FK8: ='[1]9月②'!FO8 -> 0 | FL8: ='[1]9月②'!FW8 -> 0 | FM8: ='[1]9月②'!FX8 -> 0 | FN8: ='[1]9月②'!FZ8 -> 0 | FO8: ='[1]9月②'!GH8 -> 0 | FP8: ='[1]9月②'!GI8 -> 0 | FQ8: ='[1]9月②'!GK8 -> 0 | FR8: ='[1]9月②'!GS8 -> 0 | FS8: ='[1]9月②'!GT8 -> 0 | FT8: ='[1]9月②'!GV8 -> 0 | FU8: ='[1]9月②'!HD8 -> 0 | FV8: ='[1]9月②'!HE8 -> 0 | FW8: ='[1]9月②'!HG8 -> 0 | FX8: ='[1]9月②'!HO8 -> 0 | FY8: ='[1]9月②'!HP8 -> 0 | FZ8: ='[1]9月②'!HR8 -> 0 | GA8: ='[1]9月②'!HZ8 -> 0 | GB8: ='[1]9月②'!IA8 -> 0 | GC8: ='[1]9月②'!IC8 -> 0 | GD8: ='[1]9月②'!IK8 -> 0 | GE8: ='[1]9月②'!IL8 -> 0 | GF8: ='[1]9月②'!IN8 -> 0 | GG8: ='[1]9月②'!IV8 -> 0 | GH8: ='[1]9月②'!IW8 -> 0 | GI8: ='[1]9月②'!IY8 -> 0 | GJ8: ='[1]9月②'!JG8 -> 0 | GK8: ='[1]9月②'!JH8 -> 0 | GL8: ='[1]9月②'!JJ8 -> 0 | GM8: ='[1]9月②'!JR8 -> 0 | GN8: ='[1]9月②'!JS8 -> 0 | GO8: ='[1]9月②'!JV8 -> 0 | GP8: ='[1]9月②'!KC8 -> 0 | GQ8: ='[1]9月②'!KD8 -> 0 | GR8: ='[1]9月②'!KF8 -> 0 | GS8: ='[1]9月②'!KN8 -> 0 | GT8: ='[1]9月②'!KO8 -> 0 | GU8: ='[1]9月②'!KQ8 -> 0 | GV8: ='[1]9月②'!KY8 -> 0 | GW8: ='[1]9月②'!KZ8 -> 0 | GX8: ='[1]9月②'!LB8 -> 0 | GY8: ='[1]9月②'!LI8 -> 0 | GZ8: ='[1]9月②'!LK8 -> 0 | HA8: ='[1]9月②'!LM8 -> 0 | HB8: ='[1]9月②'!LU8 -> 0 | HC8: ='[1]9月②'!LV8 -> 0 | HD8: ='[1]9月②'!LX8 -> 0 | HE8: ='[1]9月②'!MF8 -> 0 | HF8: ='[1]9月②'!MG8 -> 0 | HG8: ='[1]9月②'!MI8 -> 0 | HH8: ='[1]9月②'!MQ8 -> 0 | HI8: ='[1]9月②'!MR8 -> 0 | HJ8: ='[1]9月②'!MT8 -> 0 | HK8: ='[1]9月②'!NB8 -> 0 | HL8: ='[1]9月②'!NC8 -> 0 | HM8: ='[1]9月②'!NE8 -> 0 | HN8: ='[1]9月②'!NM8 -> 0 | HO8: ='[1]9月②'!NN8 -> 0 | HP8: ='[1]9月②'!NP8 -> 0 | HQ8: ='[1]9月②'!NX8 -> 0 | HR8: ='[1]9月②'!NY8 -> 0 | HS8: ='[1]9月②'!OA8 -> 0 | HT8: ='[1]9月②'!OI8 -> 0 | HU8: ='[1]9月②'!OJ8 -> 0 | HV8: ='[1]9月②'!OL8 -> 0 | HW8: ='[1]9月②'!OT8 -> 0 | HX8: ='[1]9月②'!OU8 -> 0 | HY8: ='[1]9月②'!OW8 -> 0 | HZ8: ='[1]9月②'!PE8 -> 0 | IA8: ='[1]9月②'!PF8 -> 0 | IB8: ='[1]9月②'!PH8 -> 0 | IC8: ='[1]9月②'!PP8 -> 0 | ID8: ='[1]9月②'!PQ8 -> 0 | IE8: ='[1]9月②'!PS8 -> 0 | IF8: ='[1]9月③'!C8 -> 0 | IG8: ='[1]9月③'!D8 -> 0 | IH8: ='[1]9月③'!F8 -> 0 | II8: ='[1]9月③'!N8 -> 0 | IJ8: ='[1]9月③'!O8 -> 0 | IK8: ='[1]9月③'!Q8 -> 0 | IL8: ='[1]9月③'!Y8 -> 0 | IM8: ='[1]9月③'!Z8 -> 0 | IN8: ='[1]9月③'!AB8 -> 0 | IO8: ='[1]9月③'!AJ8 -> 0 | IP8: ='[1]9月③'!AK8 -> 0 | IQ8: ='[1]9月③'!AM8 -> 0 | IR8: ='[1]9月③'!AU8 -> 0 | IS8: ='[1]9月③'!AV8 -> 0 | IT8: ='[1]9月③'!AX8 -> 0 | IU8: ='[1]9月③'!BF8 -> 0 | IV8: ='[1]9月③'!BG8 -> 0 | IW8: ='[1]9月③'!BI8 -> 0 | IX8: ='[1]9月③'!BQ8 -> 0 | IY8: ='[1]9月③'!BR8 -> 0 | IZ8: ='[1]9月③'!BT8 -> 0 | JA8: ='[1]9月③'!CB8 -> 0 | JB8: ='[1]9月③'!CC8 -> 0 | JC8: ='[1]9月③'!CE8 -> 0 | JD8: ='[1]9月③'!CM8 -> 0 | JE8: ='[1]9月③'!CN8 -> 0 | JF8: ='[1]9月③'!CP8 -> 0 | JG8: ='[1]9月③'!CX8 -> 0 | JH8: ='[1]9月③'!CY8 -> 0 | JI8: ='[1]9月③'!DA8 -> 0 | JJ8: ='[1]9月③'!DI8 -> 0 | JK8: ='[1]9月③'!DJ8 -> 0 | JL8: ='[1]9月③'!DL8 -> 0 | JM8: ='[1]9月③'!DT8 -> 0 | JN8: ='[1]9月③'!DU8 -> 0 | JO8: ='[1]9月③'!DW8 -> 0 | JP8: ='[1]9月③'!EE8 -> 0 | JQ8: ='[1]9月③'!EF8 -> 0 | JR8: ='[1]9月③'!EH8 -> 0 | JS8: ='[1]9月③'!ER8 -> 0 | JT8: ='[1]9月③'!EQ8 -> 0 | JU8: ='[1]9月③'!ES8 -> 0 | JV8: ='[1]9月③'!FA8 -> 0 | JW8: ='[1]9月③'!FB8 -> 0 | JX8: ='[1]9月③'!FD8 -> 0 | JY8: ='[1]9月③'!FL8 -> 0 | JZ8: ='[1]9月③'!FM8 -> 0 | KA8: ='[1]9月③'!FO8 -> 0 | KB8: ='[1]9月③'!FW8 -> 0 | KC8: ='[1]9月③'!FX8 -> 0 | KD8: ='[1]9月③'!FZ8 -> 0 | KE8: ='[1]9月③'!GH8 -> 0 | KF8: ='[1]9月③'!GI8 -> 0 | KG8: ='[1]9月③'!GK8 -> 0 | KH8: ='[1]9月③'!GS8 -> 0 | KI8: ='[1]9月③'!GT8 -> 0 | KJ8: ='[1]9月③'!GV8 -> 0 | KK8: ='[1]9月③'!HD8 -> 0 | KL8: ='[1]9月③'!HE8 -> 0 | KM8: ='[1]9月③'!HG8 -> 0 | KN8: ='[1]9月③'!HO8 -> 0 | KO8: ='[1]9月③'!HP8 -> 0 | KP8: ='[1]9月③'!HR8 -> 0 | KQ8: ='[1]9月③'!HZ8 -> 0 | KR8: ='[1]9月③'!IA8 -> 0 | KS8: ='[1]9月③'!IC8 -> 0 | KT8: ='[1]9月③'!IK8 -> 0 | KU8: ='[1]9月③'!IL8 -> 0 | KV8: ='[1]9月③'!IN8 -> 0 | KW8: ='[1]9月③'!IV8 -> 0 | KX8: ='[1]9月③'!IW8 -> 0 | KY8: ='[1]9月③'!IY8 -> 0 | KZ8: ='[1]9月③'!JG8 -> 0 | LA8: ='[1]9月③'!JH8 -> 0 | LB8: ='[1]9月③'!JJ8 -> 0 | LC8: ='[1]9月③'!JR8 -> 0 | LD8: ='[1]9月③'!JS8 -> 0 | LE8: ='[1]9月③'!JU8 -> 0 | LF8: ='[1]9月③'!KC8 -> 0 | LG8: ='[1]9月③'!KD8 -> 0 | LH8: ='[1]9月③'!KF8 -> 0 | LI8: ='[1]9月③'!KN8 -> 0 | LJ8: ='[1]9月③'!KO8 -> 0 | LK8: ='[1]9月③'!KQ8 -> 0 | LL8: ='[1]9月③'!KY8 -> 0 | LM8: ='[1]9月③'!KZ8 -> 0 | LN8: ='[1]9月③'!LB8 -> 0 | LO8: ='[1]9月③'!LJ8 -> 0 | LP8: ='[1]9月③'!LK8 -> 0 | LQ8: ='[1]9月③'!LM8 -> 0 | LR8: ='[1]9月③'!LU8 -> 0 | LS8: ='[1]9月③'!LV8 -> 0 | LT8: ='[1]9月③'!LX8 -> 0 | LU8: ='[1]9月③'!MF8 -> 0 | LV8: ='[1]9月③'!MG8 -> 0 | LW8: ='[1]9月③'!MI8 -> 0 | LX8: ='[1]9月③'!MQ8 -> 0 | LY8: ='[1]9月③'!MR8 -> 0 | LZ8: ='[1]9月③'!MT8 -> 0 | MA8: ='[1]9月③'!NB8 -> 0 | MB8: ='[1]9月③'!NC8 -> 0 | MC8: ='[1]9月③'!NE8 -> 0 | MD8: ='[1]9月③'!NM8 -> 0 | ME8: ='[1]9月③'!NN8 -> 0 | MF8: ='[1]9月③'!NP8 -> 0 | MG8: ='[1]9月③'!NX8 -> 0 | MH8: ='[1]9月③'!NY8 -> 0 | MI8: ='[1]9月③'!OA8 -> 0 | MJ8: ='[1]9月③'!OI8 -> 0 | MK8: ='[1]9月③'!OT8 -> 0 | ML8: ='[1]9月③'!OL8 -> 0 | MM8: ='[1]9月③'!LT8 -> 0 | MN8: ='[1]9月③'!LU8 -> 0 | MO8: ='[1]9月③'!LW8 -> 0 | MP8: ='[1]9月③'!PE8 -> 0 | MQ8: ='[1]9月③'!PF8 -> 0 | MR8: ='[1]9月③'!PH8 -> 0 | MS8: ='[1]9月③'!PP8 -> 0 | MT8: ='[1]9月③'!PQ8 -> 0 | MU8: ='[1]9月③'!PS8 -> 0 | MV8: ='[1]9月③'!QA8 -> 0 | MW8: ='[1]9月③'!QB8 -> 0 | MX8: ='[1]9月③'!QD8 -> 0 | MY8: ='[1]9月③'!QL8 -> 0 | MZ8: ='[1]9月③'!QM8 -> 0 | NA8: ='[1]9月③'!QO8 -> 0 | NB8: ='[1]9月③'!QW8 -> 0 | NC8: ='[1]9月③'!QX8 -> 0 | ND8: ='[1]9月③'!QZ8 -> 0 | NE8: ='[1]9月③'!RH8 -> 0 | NF8: ='[1]9月③'!RI8 -> 0 | NG8: ='[1]9月③'!RK8 -> 0 | NH8: ='[1]9月③'!RS8 -> 0 | NI8: ='[1]9月③'!RT8 -> 0 | NJ8: ='[1]9月③'!RV8 -> 0 | NK8: ='[1]9月③'!SD8 -> 0 | NL8: ='[1]9月③'!SE8 -> 0 | NM8: ='[1]9月③'!SG8 -> 0 | NN8: ='[1]9月③'!SO8 -> 0 | NO8: ='[1]9月③'!SP8 -> 0 | NP8: ='[1]9月③'!SR8 -> 0 | NQ8: ='[1]9月③'!SZ8 -> 0 | NR8: ='[1]9月③'!TA8 -> 0 | NS8: ='[1]9月③'!TC8 -> 0 | NT8: ='[1]9月③'!TK8 -> 0 | NU8: ='[1]9月③'!TL8 -> 0 | NV8: ='[1]9月③'!TN8 -> 0 | NW8: ='[1]9月③'!TV8 -> 0 | NX8: ='[1]9月③'!TW8 -> 0 | NY8: ='[1]9月③'!TY8 -> 0 | NZ8: ='[1]9月③'!UG8 -> 0 | OA8: ='[1]9月③'!UH8 -> 0 | OB8: ='[1]9月③'!UJ8 -> 0
A9: 05 | B9: 秋 田 | C9: ='[1]9月①'!C9 -> 0 | D9: ='[1]9月①'!D9 -> 0 | E9: ='[1]9月①'!F9 -> 0 | F9: ='[1]9月①'!N9 -> 0 | G9: ='[1]9月①'!O9 -> 0 | H9: ='[1]9月①'!Q9 -> 0 | I9: ='[1]9月①'!Y9 -> 0 | J9: ='[1]9月①'!Z9 -> 0 | K9: ='[1]9月①'!AB9 -> 0 | L9: ='[1]9月①'!AJ9 -> 0 | M9: ='[1]9月①'!AK9 -> 0 | N9: ='[1]9月①'!AM9 -> 0 | O9: ='[1]9月①'!AU9 -> 0 | P9: ='[1]9月①'!AV9 -> 0 | Q9: ='[1]9月①'!AX9 -> 0 | R9: ='[1]9月①'!BF9 -> 0 | S9: ='[1]9月①'!BG9 -> 0 | T9: ='[1]9月①'!BI9 -> 0 | U9: ='[1]9月①'!BQ9 -> 0 | V9: ='[1]9月①'!BR9 -> 0 | W9: ='[1]9月①'!BT9 -> 0 | X9: ='[1]9月①'!CB9 -> 0 | Y9: ='[1]9月①'!CC9 -> 0 | Z9: ='[1]9月①'!CE9 -> 0 | AA9: ='[1]9月①'!CM9 -> 0 | AB9: ='[1]9月①'!CN9 -> 0 | AC9: ='[1]9月①'!CP9 -> 0 | AD9: ='[1]9月①'!CX9 -> 0 | AE9: ='[1]9月①'!CY9 -> 0 | AF9: ='[1]9月①'!DA9 -> 0 | AG9: ='[1]9月①'!DI9 -> 0 | AH9: ='[1]9月①'!DJ9 -> 0 | AI9: ='[1]9月①'!DL9 -> 0 | AJ9: ='[1]9月①'!DT9 -> 0 | AK9: ='[1]9月①'!DU9 -> 0 | AL9: ='[1]9月①'!DW9 -> 0 | AM9: ='[1]9月①'!EE9 -> 0 | AN9: ='[1]9月①'!EF9 -> 0 | AO9: ='[1]9月①'!EH9 -> 0 | AP9: ='[1]9月①'!EP9 -> 0 | AQ9: ='[1]9月①'!EQ9 -> 0 | AR9: ='[1]9月①'!ES9 -> 0 | AS9: ='[1]9月①'!FA9 -> 0 | AT9: ='[1]9月①'!FB9 -> 0 | AU9: ='[1]9月①'!FD9 -> 0 | AV9: ='[1]9月①'!FL9 -> 0 | AW9: ='[1]9月①'!FM9 -> 0 | AX9: ='[1]9月①'!FO9 -> 0 | AY9: ='[1]9月①'!FW9 -> 0 | AZ9: ='[1]9月①'!FX9 -> 0 | BA9: ='[1]9月①'!FZ9 -> 0 | BB9: ='[1]9月①'!GH9 -> 0 | BC9: ='[1]9月①'!GI9 -> 0 | BD9: ='[1]9月①'!GK9 -> 0 | BE9: ='[1]9月①'!GS9 -> 0 | BF9: ='[1]9月①'!GT9 -> 0 | BG9: ='[1]9月①'!GV9 -> 0 | BH9: ='[1]9月①'!HD9 -> 0 | BI9: ='[1]9月①'!HE9 -> 0 | BJ9: ='[1]9月①'!HG9 -> 0 | BK9: ='[1]9月①'!HO9 -> 0 | BL9: ='[1]9月①'!HP9 -> 0 | BM9: ='[1]9月①'!HR9 -> 0 | BN9: ='[1]9月①'!HZ9 -> 0 | BO9: ='[1]9月①'!IA9 -> 0 | BP9: ='[1]9月①'!IC9 -> 0 | BQ9: ='[1]9月①'!IK9 -> 0 | BR9: ='[1]9月①'!IL9 -> 0 | BS9: ='[1]9月①'!IN9 -> 0 | BT9: ='[1]9月①'!IV9 -> 0 | BU9: ='[1]9月①'!IW9 -> 0 | BV9: ='[1]9月①'!IY9 -> 0 | BW9: ='[1]9月①'!JH9 -> 0 | BX9: ='[1]9月①'!JG9 -> 0 | BY9: ='[1]9月①'!JJ9 -> 0 | BZ9: ='[1]9月①'!JR9 -> 0 | CA9: ='[1]9月①'!JS9 -> 0 | CB9: ='[1]9月①'!JU9 -> 0 | CC9: ='[1]9月①'!KC9 -> 0 | CD9: ='[1]9月①'!KD9 -> 0 | CE9: ='[1]9月①'!KF9 -> 0 | CF9: ='[1]9月①'!KN9 -> 0 | CG9: ='[1]9月①'!KO9 -> 0 | CH9: ='[1]9月①'!KQ9 -> 0 | CI9: ='[1]9月①'!KY9 -> 0 | CJ9: ='[1]9月①'!KZ9 -> 0 | CK9: ='[1]9月①'!LB9 -> 0 | CL9: ='[1]9月①'!LJ9 -> 0 | CM9: ='[1]9月①'!LK9 -> 0 | CN9: ='[1]9月①'!LM9 -> 0 | CO9: ='[1]9月①'!LU9 -> 0 | CP9: ='[1]9月①'!LV9 -> 0 | CQ9: ='[1]9月①'!LX9 -> 0 | CR9: ='[1]9月①'!MF9 -> 0 | CS9: ='[1]9月①'!MG9 -> 0 | CT9: ='[1]9月①'!MI9 -> 0 | CU9: ='[1]9月①'!MQ9 -> 0 | CV9: ='[1]9月①'!MR9 -> 0 | CW9: ='[1]9月①'!MT9 -> 0 | CX9: ='[1]9月①'!NB9 -> 0 | CY9: ='[1]9月①'!NC9 -> 0 | CZ9: ='[1]9月①'!NE9 -> 0 | DA9: ='[1]9月①'!NM9 -> 0 | DB9: ='[1]9月①'!NN9 -> 0 | DC9: ='[1]9月①'!NP9 -> 0 | DD9: ='[1]9月①'!NX9 -> 0 | DE9: ='[1]9月①'!NY9 -> 0 | DF9: ='[1]9月①'!OA9 -> 0 | DG9: ='[1]9月①'!OI9 -> 0 | DH9: ='[1]9月①'!OJ9 -> 0 | DI9: ='[1]9月①'!OL9 -> 0 | DJ9: ='[1]9月①'!OT9 -> 0 | DK9: ='[1]9月①'!OU9 -> 0 | DL9: ='[1]9月①'!OW9 -> 0 | DM9: ='[1]9月①'!PE9 -> 0 | DN9: ='[1]9月①'!PF9 -> 0 | DO9: ='[1]9月①'!PH9 -> 0 | DP9: ='[1]9月②'!C9 -> 0 | DQ9: ='[1]9月②'!D9 -> 0 | DR9: ='[1]9月②'!F9 -> 0 | DS9: ='[1]9月②'!N9 -> 0 | DT9: ='[1]9月②'!O9 -> 0 | DU9: ='[1]9月②'!Q9 -> 0 | DV9: ='[1]9月②'!Y9 -> 0 | DW9: ='[1]9月②'!Z9 -> 0 | DX9: ='[1]9月②'!AB9 -> 0 | DY9: ='[1]9月②'!AJ9 -> 0 | DZ9: ='[1]9月②'!AK9 -> 0 | EA9: ='[1]9月②'!AM9 -> 0 | EB9: ='[1]9月②'!AU9 -> 0 | EC9: ='[1]9月②'!AV9 -> 0 | ED9: ='[1]9月②'!AX9 -> 0 | EE9: ='[1]9月②'!BF9 -> 0 | EF9: ='[1]9月②'!BG9 -> 0 | EG9: ='[1]9月②'!BI9 -> 0 | EH9: ='[1]9月②'!BQ9 -> 0 | EI9: ='[1]9月②'!BR9 -> 0 | EJ9: ='[1]9月②'!BT9 -> 0 | EK9: ='[1]9月②'!CB9 -> 0 | EL9: ='[1]9月②'!CC9 -> 0 | EM9: ='[1]9月②'!CE9 -> 0 | EN9: ='[1]9月②'!CM9 -> 0 | EO9: ='[1]9月②'!CN9 -> 0 | EP9: ='[1]9月②'!CP9 -> 0 | EQ9: ='[1]9月②'!CX9 -> 0 | ER9: ='[1]9月②'!CY9 -> 0 | ES9: ='[1]9月②'!DA9 -> 0 | ET9: ='[1]9月②'!DI9 -> 0 | EU9: ='[1]9月②'!DJ9 -> 0 | EV9: ='[1]9月②'!DL9 -> 0 | EW9: ='[1]9月②'!DT9 -> 0 | EX9: ='[1]9月②'!DU9 -> 0 | EY9: ='[1]9月②'!DW9 -> 0 | EZ9: ='[1]9月②'!EE9 -> 0 | FA9: ='[1]9月②'!EF9 -> 0 | FB9: ='[1]9月②'!EH9 -> 0 | FC9: ='[1]9月②'!EP9 -> 0 | FD9: ='[1]9月②'!EQ9 -> 0 | FE9: ='[1]9月②'!ES9 -> 0 | FF9: ='[1]9月②'!FA9 -> 0 | FG9: ='[1]9月②'!FB9 -> 0 | FH9: ='[1]9月②'!FD9 -> 0 | FI9: ='[1]9月②'!FL9 -> 0 | FJ9: ='[1]9月②'!FM9 -> 0 | FK9: ='[1]9月②'!FO9 -> 0 | FL9: ='[1]9月②'!FW9 -> 0 | FM9: ='[1]9月②'!FX9 -> 0 | FN9: ='[1]9月②'!FZ9 -> 0 | FO9: ='[1]9月②'!GH9 -> 0 | FP9: ='[1]9月②'!GI9 -> 0 | FQ9: ='[1]9月②'!GK9 -> 0 | FR9: ='[1]9月②'!GS9 -> 0 | FS9: ='[1]9月②'!GT9 -> 0 | FT9: ='[1]9月②'!GV9 -> 0 | FU9: ='[1]9月②'!HD9 -> 0 | FV9: ='[1]9月②'!HE9 -> 0 | FW9: ='[1]9月②'!HG9 -> 0 | FX9: ='[1]9月②'!HO9 -> 0 | FY9: ='[1]9月②'!HP9 -> 0 | FZ9: ='[1]9月②'!HR9 -> 0 | GA9: ='[1]9月②'!HZ9 -> 0 | GB9: ='[1]9月②'!IA9 -> 0 | GC9: ='[1]9月②'!IC9 -> 0 | GD9: ='[1]9月②'!IK9 -> 0 | GE9: ='[1]9月②'!IL9 -> 0 | GF9: ='[1]9月②'!IN9 -> 0 | GG9: ='[1]9月②'!IV9 -> 0 | GH9: ='[1]9月②'!IW9 -> 0 | GI9: ='[1]9月②'!IY9 -> 0 | GJ9: ='[1]9月②'!JG9 -> 0 | GK9: ='[1]9月②'!JH9 -> 0 | GL9: ='[1]9月②'!JJ9 -> 0 | GM9: ='[1]9月②'!JR9 -> 0 | GN9: ='[1]9月②'!JS9 -> 0 | GO9: ='[1]9月②'!JV9 -> 0 | GP9: ='[1]9月②'!KC9 -> 0 | GQ9: ='[1]9月②'!KD9 -> 0 | GR9: ='[1]9月②'!KF9 -> 0 | GS9: ='[1]9月②'!KN9 -> 0 | GT9: ='[1]9月②'!KO9 -> 0 | GU9: ='[1]9月②'!KQ9 -> 0 | GV9: ='[1]9月②'!KY9 -> 0 | GW9: ='[1]9月②'!KZ9 -> 0 | GX9: ='[1]9月②'!LB9 -> 0 | GY9: ='[1]9月②'!LI9 -> 0 | GZ9: ='[1]9月②'!LK9 -> 0 | HA9: ='[1]9月②'!LM9 -> 0 | HB9: ='[1]9月②'!LU9 -> 0 | HC9: ='[1]9月②'!LV9 -> 0 | HD9: ='[1]9月②'!LX9 -> 0 | HE9: ='[1]9月②'!MF9 -> 0 | HF9: ='[1]9月②'!MG9 -> 1 | HG9: ='[1]9月②'!MI9 -> 1 | HH9: ='[1]9月②'!MQ9 -> 0 | HI9: ='[1]9月②'!MR9 -> 0 | HJ9: ='[1]9月②'!MT9 -> 0 | HK9: ='[1]9月②'!NB9 -> 0 | HL9: ='[1]9月②'!NC9 -> 0 | HM9: ='[1]9月②'!NE9 -> 0 | HN9: ='[1]9月②'!NM9 -> 0 | HO9: ='[1]9月②'!NN9 -> 0 | HP9: ='[1]9月②'!NP9 -> 0 | HQ9: ='[1]9月②'!NX9 -> 0 | HR9: ='[1]9月②'!NY9 -> 0 | HS9: ='[1]9月②'!OA9 -> 0 | HT9: ='[1]9月②'!OI9 -> 0 | HU9: ='[1]9月②'!OJ9 -> 0 | HV9: ='[1]9月②'!OL9 -> 0 | HW9: ='[1]9月②'!OT9 -> 0 | HX9: ='[1]9月②'!OU9 -> 0 | HY9: ='[1]9月②'!OW9 -> 0 | HZ9: ='[1]9月②'!PE9 -> 0 | IA9: ='[1]9月②'!PF9 -> 0 | IB9: ='[1]9月②'!PH9 -> 0 | IC9: ='[1]9月②'!PP9 -> 0 | ID9: ='[1]9月②'!PQ9 -> 0 | IE9: ='[1]9月②'!PS9 -> 0 | IF9: ='[1]9月③'!C9 -> 0 | IG9: ='[1]9月③'!D9 -> 0 | IH9: ='[1]9月③'!F9 -> 0 | II9: ='[1]9月③'!N9 -> 0 | IJ9: ='[1]9月③'!O9 -> 0 | IK9: ='[1]9月③'!Q9 -> 0 | IL9: ='[1]9月③'!Y9 -> 0 | IM9: ='[1]9月③'!Z9 -> 0 | IN9: ='[1]9月③'!AB9 -> 0 | IO9: ='[1]9月③'!AJ9 -> 0 | IP9: ='[1]9月③'!AK9 -> 0 | IQ9: ='[1]9月③'!AM9 -> 0 | IR9: ='[1]9月③'!AU9 -> 0 | IS9: ='[1]9月③'!AV9 -> 0 | IT9: ='[1]9月③'!AX9 -> 0 | IU9: ='[1]9月③'!BF9 -> 0 | IV9: ='[1]9月③'!BG9 -> 0 | IW9: ='[1]9月③'!BI9 -> 0 | IX9: ='[1]9月③'!BQ9 -> 0 | IY9: ='[1]9月③'!BR9 -> 0 | IZ9: ='[1]9月③'!BT9 -> 0 | JA9: ='[1]9月③'!CB9 -> 0 | JB9: ='[1]9月③'!CC9 -> 0 | JC9: ='[1]9月③'!CE9 -> 0 | JD9: ='[1]9月③'!CM9 -> 0 | JE9: ='[1]9月③'!CN9 -> 0 | JF9: ='[1]9月③'!CP9 -> 0 | JG9: ='[1]9月③'!CX9 -> 0 | JH9: ='[1]9月③'!CY9 -> 0 | JI9: ='[1]9月③'!DA9 -> 0 | JJ9: ='[1]9月③'!DI9 -> 0 | JK9: ='[1]9月③'!DJ9 -> 0 | JL9: ='[1]9月③'!DL9 -> 0 | JM9: ='[1]9月③'!DT9 -> 0 | JN9: ='[1]9月③'!DU9 -> 0 | JO9: ='[1]9月③'!DW9 -> 0 | JP9: ='[1]9月③'!EE9 -> 0 | JQ9: ='[1]9月③'!EF9 -> 0 | JR9: ='[1]9月③'!EH9 -> 0 | JS9: ='[1]9月③'!ER9 -> 0 | JT9: ='[1]9月③'!EQ9 -> 0 | JU9: ='[1]9月③'!ES9 -> 0 | JV9: ='[1]9月③'!FA9 -> 0 | JW9: ='[1]9月③'!FB9 -> 0 | JX9: ='[1]9月③'!FD9 -> 0 | JY9: ='[1]9月③'!FL9 -> 0 | JZ9: ='[1]9月③'!FM9 -> 0 | KA9: ='[1]9月③'!FO9 -> 0 | KB9: ='[1]9月③'!FW9 -> 0 | KC9: ='[1]9月③'!FX9 -> 0 | KD9: ='[1]9月③'!FZ9 -> 0 | KE9: ='[1]9月③'!GH9 -> 0 | KF9: ='[1]9月③'!GI9 -> 0 | KG9: ='[1]9月③'!GK9 -> 0 | KH9: ='[1]9月③'!GS9 -> 0 | KI9: ='[1]9月③'!GT9 -> 0 | KJ9: ='[1]9月③'!GV9 -> 0 | KK9: ='[1]9月③'!HD9 -> 0 | KL9: ='[1]9月③'!HE9 -> 0 | KM9: ='[1]9月③'!HG9 -> 0 | KN9: ='[1]9月③'!HO9 -> 0 | KO9: ='[1]9月③'!HP9 -> 0 | KP9: ='[1]9月③'!HR9 -> 0 | KQ9: ='[1]9月③'!HZ9 -> 0 | KR9: ='[1]9月③'!IA9 -> 0 | KS9: ='[1]9月③'!IC9 -> 0 | KT9: ='[1]9月③'!IK9 -> 0 | KU9: ='[1]9月③'!IL9 -> 0 | KV9: ='[1]9月③'!IN9 -> 0 | KW9: ='[1]9月③'!IV9 -> 0 | KX9: ='[1]9月③'!IW9 -> 0 | KY9: ='[1]9月③'!IY9 -> 0 | KZ9: ='[1]9月③'!JG9 -> 0 | LA9: ='[1]9月③'!JH9 -> 0 | LB9: ='[1]9月③'!JJ9 -> 0 | LC9: ='[1]9月③'!JR9 -> 0 | LD9: ='[1]9月③'!JS9 -> 0 | LE9: ='[1]9月③'!JU9 -> 0 | LF9: ='[1]9月③'!KC9 -> 0 | LG9: ='[1]9月③'!KD9 -> 0 | LH9: ='[1]9月③'!KF9 -> 0 | LI9: ='[1]9月③'!KN9 -> 0 | LJ9: ='[1]9月③'!KO9 -> 0 | LK9: ='[1]9月③'!KQ9 -> 0 | LL9: ='[1]9月③'!KY9 -> 0 | LM9: ='[1]9月③'!KZ9 -> 0 | LN9: ='[1]9月③'!LB9 -> 0 | LO9: ='[1]9月③'!LJ9 -> 0 | LP9: ='[1]9月③'!LK9 -> 0 | LQ9: ='[1]9月③'!LM9 -> 0 | LR9: ='[1]9月③'!LU9 -> 0 | LS9: ='[1]9月③'!LV9 -> 0 | LT9: ='[1]9月③'!LX9 -> 0 | LU9: ='[1]9月③'!MF9 -> 0 | LV9: ='[1]9月③'!MG9 -> 0 | LW9: ='[1]9月③'!MI9 -> 0 | LX9: ='[1]9月③'!MQ9 -> 0 | LY9: ='[1]9月③'!MR9 -> 0 | LZ9: ='[1]9月③'!MT9 -> 0 | MA9: ='[1]9月③'!NB9 -> 0 | MB9: ='[1]9月③'!NC9 -> 0 | MC9: ='[1]9月③'!NE9 -> 0 | MD9: ='[1]9月③'!NM9 -> 0 | ME9: ='[1]9月③'!NN9 -> 0 | MF9: ='[1]9月③'!NP9 -> 0 | MG9: ='[1]9月③'!NX9 -> 0 | MH9: ='[1]9月③'!NY9 -> 0 | MI9: ='[1]9月③'!OA9 -> 0 | MJ9: ='[1]9月③'!OI9 -> 0 | MK9: ='[1]9月③'!OT9 -> 0 | ML9: ='[1]9月③'!OL9 -> 0 | MM9: ='[1]9月③'!LT9 -> 0 | MN9: ='[1]9月③'!LU9 -> 0 | MO9: ='[1]9月③'!LW9 -> 0 | MP9: ='[1]9月③'!PE9 -> 0 | MQ9: ='[1]9月③'!PF9 -> 0 | MR9: ='[1]9月③'!PH9 -> 0 | MS9: ='[1]9月③'!PP9 -> 0 | MT9: ='[1]9月③'!PQ9 -> 0 | MU9: ='[1]9月③'!PS9 -> 0 | MV9: ='[1]9月③'!QA9 -> 0 | MW9: ='[1]9月③'!QB9 -> 0 | MX9: ='[1]9月③'!QD9 -> 0 | MY9: ='[1]9月③'!QL9 -> 0 | MZ9: ='[1]9月③'!QM9 -> 0 | NA9: ='[1]9月③'!QO9 -> 0 | NB9: ='[1]9月③'!QW9 -> 0 | NC9: ='[1]9月③'!QX9 -> 0 | ND9: ='[1]9月③'!QZ9 -> 0 | NE9: ='[1]9月③'!RH9 -> 0 | NF9: ='[1]9月③'!RI9 -> 0 | NG9: ='[1]9月③'!RK9 -> 0 | NH9: ='[1]9月③'!RS9 -> 0 | NI9: ='[1]9月③'!RT9 -> 0 | NJ9: ='[1]9月③'!RV9 -> 0 | NK9: ='[1]9月③'!SD9 -> 0 | NL9: ='[1]9月③'!SE9 -> 0 | NM9: ='[1]9月③'!SG9 -> 0 | NN9: ='[1]9月③'!SO9 -> 0 | NO9: ='[1]9月③'!SP9 -> 0 | NP9: ='[1]9月③'!SR9 -> 0 | NQ9: ='[1]9月③'!SZ9 -> 0 | NR9: ='[1]9月③'!TA9 -> 0 | NS9: ='[1]9月③'!TC9 -> 0 | NT9: ='[1]9月③'!TK9 -> 0 | NU9: ='[1]9月③'!TL9 -> 0 | NV9: ='[1]9月③'!TN9 -> 0 | NW9: ='[1]9月③'!TV9 -> 0 | NX9: ='[1]9月③'!TW9 -> 0 | NY9: ='[1]9月③'!TY9 -> 0 | NZ9: ='[1]9月③'!UG9 -> 0 | OA9: ='[1]9月③'!UH9 -> 0 | OB9: ='[1]9月③'!UJ9 -> 0
