Workbook

Sheet 家畜伝染病8月
A2: 伝染病の 種 類 | C2: 牛疫 | F2: 牛疫 | I2: 牛疫 | L2: 牛疫 | O2: 牛疫 | R2: 牛疫 | U2: 牛疫 | X2: 牛肺疫 | AA2: 牛肺疫 | AD2: 牛肺疫 | AG2: 口蹄疫 | AJ2: 口蹄疫 | AM2: 口蹄疫 | AP2: 口蹄疫 | AS2: 口蹄疫 | AV2: 口蹄疫 | AY2: 口蹄疫 | BB2: 流行性 脳炎 | BE2: 流行性 脳炎 | BH2: 流行性 脳炎 | BK2: 流行性 脳炎 | BN2: 流行性 脳炎 | BQ2: 流行性 脳炎 | BT2: 流行性 脳炎 | BW2: 流行性 脳炎 | BZ2: 狂犬病 | CC2: 狂犬病 | CF2: 狂犬病 | CI2: 狂犬病 | CL2: 狂犬病 | CO2: 狂犬病 | CR2: 狂犬病 | CU2: 狂犬病 | CX2: 水疱性口内炎 | DA2: 水疱性口内炎 | DD2: 水疱性口内炎 | DG2: 水疱性口内炎 | DJ2: 水疱性口内炎 | DM2: 水疱性口内炎 | DP2: ﾘﾌﾄﾊﾞﾚｰ熱 | DS2: ﾘﾌﾄﾊﾞﾚｰ熱 | DV2: ﾘﾌﾄﾊﾞﾚｰ熱 | DY2: ﾘﾌﾄﾊﾞﾚｰ熱 | EB2: ﾘﾌﾄﾊﾞﾚｰ熱 | EE2: 炭疽 | EH2: 炭疽 | EK2: 炭疽 | EN2: 炭疽 | EQ2: 炭疽 | ET2: 炭疽 | EW2: 炭疽 | EZ2: 炭疽 | FC2: 出血性 敗血症 | FF2: 出血性 敗血症 | FI2: 出血性 敗血症 | FL2: 出血性 敗血症 | FO2: 出血性 敗血症 | FR2: 出血性 敗血症 | FU2: 出血性 敗血症 | FX2: ブルセラ症 | GA2: ブルセラ症 | GD2: ブルセラ症 | GG2: ブルセラ症 | GJ2: ブルセラ症 | GM2: ブルセラ症 | GP2: ブルセラ症 | GS2: 結核 | GV2: 結核 | GY2: 結核 | HB2: 結核 | HE2: ヨーネ病 | HH2: ヨーネ病 | HK2: ヨーネ病 | HN2: ヨーネ病 | HQ2: ヨーネ病 | HT2: ﾋﾟﾛﾌﾟﾗｽﾞﾏ症 | HW2: ﾋﾟﾛﾌﾟﾗｽﾞﾏ症 | HZ2: ﾋﾟﾛﾌﾟﾗｽﾞﾏ症 | IC2: ﾋﾟﾛﾌﾟﾗｽﾞﾏ症 | IF2: ｱﾅﾌﾟﾗｽﾞﾏ症 | II2: ｱﾅﾌﾟﾗｽﾞﾏ症 | IL2: ｱﾅﾌﾟﾗｽﾞﾏ症 | IO2: 伝達性 海綿状脳症 | IR2: 伝達性 海綿状脳症 | IU2: 伝達性 海綿状脳症 | IX2: 伝達性 海綿状脳症 | JA2: 伝達性 海綿状脳症 | JD2: 鼻疽 | JG2: 馬伝染性 貧血 | JJ2: アフリカ 馬疫 | JM2: 小反芻獣疫 | JP2: 小反芻獣疫 | JS2: 小反芻獣疫 | JV2: 豚熱 | JY2: 豚熱 | KB2: アフリカ 豚熱 | KE2: アフリカ 豚熱 | KH2: 豚水疱病 | KK2: 豚水疱病 | KN2: 家きん コレラ | KQ2: 家きん コレラ | KT2: 家きん コレラ | KW2: 家きん コレラ | KZ2: 高病原性 鳥ｲﾝﾌﾙｴﾝｻﾞ | LC2: 高病原性 鳥ｲﾝﾌﾙｴﾝｻﾞ | LF2: 高病原性 鳥ｲﾝﾌﾙｴﾝｻﾞ | LI2: 高病原性 鳥ｲﾝﾌﾙｴﾝｻﾞ | LL2: 高病原性 鳥ｲﾝﾌﾙｴﾝｻﾞ | LO2: 高病原性 鳥ｲﾝﾌﾙｴﾝｻﾞ | LR2: 高病原性 鳥ｲﾝﾌﾙｴﾝｻﾞ | LU2: 高病原性 鳥ｲﾝﾌﾙｴﾝｻﾞ | LX2: 低病原性 鳥ｲﾝﾌﾙｴﾝｻﾞ | MA2: 低病原性 鳥ｲﾝﾌﾙｴﾝｻﾞ | MD2: 低病原性 鳥ｲﾝﾌﾙｴﾝｻﾞ | MG2: 低病原性 鳥ｲﾝﾌﾙｴﾝｻﾞ | MJ2: 低病原性 鳥ｲﾝﾌﾙｴﾝｻﾞ | MM2: 低病原性 鳥ｲﾝﾌﾙｴﾝｻﾞ | MP2: 低病原性 鳥ｲﾝﾌﾙｴﾝｻﾞ | MS2: 低病原性 鳥ｲﾝﾌﾙｴﾝｻﾞ | MV2: ﾆｭｰｶｯｽﾙ病 | MY2: ﾆｭｰｶｯｽﾙ病 | NB2: ﾆｭｰｶｯｽﾙ病 | NE2: ﾆｭｰｶｯｽﾙ病 | NH2: 家きん ｻﾙﾓﾈﾗ症 | NK2: 家きん ｻﾙﾓﾈﾗ症 | NN2: 家きん ｻﾙﾓﾈﾗ症 | NQ2: 家きん ｻﾙﾓﾈﾗ症 | NT2: 腐蛆病 | NW2: ランピースキン病 | NZ2: ランピースキン病
A3: 家畜の種類 | C3: 牛 | F3: めん羊 | I3: 山羊 | L3: 豚 | O3: 水牛 | R3: 鹿 | U3: いのしし | X3: 牛 | AA3: 水牛 | AD3: 鹿 | AG3: 牛 | AJ3: めん羊 | AM3: 山羊 | AP3: 豚 | AS3: 水牛 | AV3: 鹿 | AY3: いのしし | BB3: 牛 | BE3: 馬 | BH3: めん羊 | BK3: 山羊 | BN3: 豚 | BQ3: 水牛 | BT3: 鹿 | BW3: いのしし | BZ3: 牛 | CC3: 馬 | CF3: めん羊 | CI3: 山羊 | CL3: 豚 | CO3: 水牛 | CR3: 鹿 | CU3: いのしし | CX3: 牛 | DA3: 馬 | DD3: 豚 | DG3: 水牛 | DJ3: 鹿 | DM3: いのしし | DP3: 牛 | DS3: めん羊 | DV3: 山羊 | DY3: 水牛 | EB3: 鹿 | EE3: 牛 | EH3: 馬 | EK3: めん羊 | EN3: 山羊 | EQ3: 豚 | ET3: 水牛 | EW3: 鹿 | EZ3: いのしし | FC3: 牛 | FF3: めん羊 | FI3: 山羊 | FL3: 豚 | FO3: 水牛 | FR3: 鹿 | FU3: いのしし | FX3: 牛 | GA3: めん羊 | GD3: 山羊 | GG3: 豚 | GJ3: 水牛 | GM3: 鹿 | GP3: いのしし | GS3: 牛 | GV3: 山羊 | GY3: 水牛 | HB3: 鹿 | HE3: 牛 | HH3: めん羊 | HK3: 山羊 | HN3: 水牛 | HQ3: 鹿 | HT3: 牛 | HW3: 馬 | HZ3: 水牛 | IC3: 鹿 | IF3: 牛 | II3: 水牛 | IL3: 鹿 | IO3: 牛 | IR3: めん羊 | IU3: 山羊 | IX3: 水牛 | JA3: 鹿 | JD3: 馬 | JG3: 馬 | JJ3: 馬 | JM3: めん羊 | JP3: 山羊 | JS3: 鹿 | JV3: 豚 | JY3: いのしし | KB3: 豚 | KE3: いのしし | KH3: 豚 | KK3: いのしし | KN3: 鶏 | KQ3: あひる | KT3: うずら | KW3: 七面鳥 | KZ3: 鶏 | LC3: あひる | LF3: うずら | LI3: きじ | LL3: エミュー | LO3: だちょう | LR3: ほろほろ鳥 | LU3: 七面鳥 | LX3: 鶏 | MA3: あひる | MD3: うずら | MG3: きじ | MJ3: エミュー | MM3: だちょう | MP3: ほろほろ鳥 | MS3: 七面鳥 | MV3: 鶏 | MY3: あひる | NB3: うずら | NE3: 七面鳥 | NH3: 鶏 | NK3: あひる | NN3: うずら | NQ3: 七面鳥 | NT3: 蜜蜂 | NW3: 牛 | NZ3: 水牛
C4: 戸数 | E4: 頭数 | F4: 戸数 | H4: 頭数 | I4: 戸数 | K4: 頭数 | L4: 戸数 | N4: 頭数 | O4: 戸数 | Q4: 頭数 | R4: 戸数 | T4: 頭数 | U4: 戸数 | W4: 頭数 | X4: 戸数 | Z4: 頭数 | AA4: 戸数 | AC4: 頭数 | AD4: 戸数 | AF4: 頭数 | AG4: 戸数 | AI4: 頭数 | AJ4: 戸数 | AL4: 頭数 | AM4: 戸数 | AO4: 頭数 | AP4: 戸数 | AR4: 頭数 | AS4: 戸数 | AU4: 頭数 | AV4: 戸数 | AX4: 頭数 | AY4: 戸数 | BA4: 頭数 | BB4: 戸数 | BD4: 頭数 | BE4: 戸数 | BG4: 頭数 | BH4: 戸数 | BJ4: 頭数 | BK4: 戸数 | BM4: 頭数 | BN4: 戸数 | BP4: 頭数 | BQ4: 戸数 | BS4: 頭数 | BT4: 戸数 | BV4: 頭数 | BW4: 戸数 | BY4: 頭数 | BZ4: 戸数 | CB4: 頭数 | CC4: 戸数 | CE4: 頭数 | CF4: 戸数 | CH4: 頭数 | CI4: 戸数 | CK4: 頭数 | CL4: 戸数 | CN4: 羽数 | CO4: 戸数 | CQ4: 頭数 | CR4: 戸数 | CT4: 頭数 | CU4: 戸数 | CW4: 頭数 | CX4: 戸数 | CZ4: 羽数 | DA4: 戸数 | DC4: 羽数 | DD4: 戸数 | DF4: 羽数 | DG4: 戸数 | DI4: 頭数 | DJ4: 戸数 | DL4: 頭数 | DM4: 戸数 | DO4: 頭数 | DP4: 戸数 | DR4: 羽数 | DS4: 戸数 | DU4: 羽数 | DV4: 戸数 | DX4: 羽数 | DY4: 戸数 | EA4: 羽数 | EB4: 戸数 | ED4: 羽数 | EE4: 戸数 | EG4: 羽数 | EH4: 戸数 | EJ4: 羽数 | EK4: 戸数 | EM4: 羽数 | EN4: 戸数 | EP4: 羽数 | EQ4: 戸数 | ES4: 羽数 | ET4: 戸数 | EV4: 羽数 | EW4: 戸数 | EY4: 羽数 | EZ4: 戸数 | FB4: 羽数 | FC4: 戸数 | FE4: 羽数 | FF4: 戸数 | FH4: 羽数 | FI4: 戸数 | FK4: 羽数 | FL4: 戸数 | FN4: 群数 | FO4: 戸数 | FQ4: 羽数 | FR4: 戸数 | FT4: 羽数 | FU4: 戸数 | FW4: 羽数 | FX4: 戸数 | FZ4: 羽数 | GA4: 戸数 | GC4: 羽数 | GD4: 戸数 | GF4: 羽数 | GG4: 戸数 | GI4: 羽数 | GJ4: 戸数 | GL4: 羽数 | GM4: 戸数 | GO4: 羽数 | GP4: 戸数 | GR4: 羽数 | GS4: 戸数 | GU4: 群数 | GV4: 戸数 | GX4: 頭数 | GY4: 戸数 | HA4: 羽数 | HB4: 戸数 | HD4: 羽数 | HE4: 戸数 | HG4: 頭数 | HH4: 戸数 | HJ4: 頭数 | HK4: 戸数 | HM4: 頭数 | HN4: 戸数 | HP4: 羽数 | HQ4: 戸数 | HS4: 羽数 | HT4: 戸数 | HV4: 頭数 | HW4: 戸数 | HY4: 頭数 | HZ4: 戸数 | IB4: 羽数 | IC4: 戸数 | IE4: 羽数 | IF4: 戸数 | IH4: 頭数 | II4: 戸数 | IK4: 頭数 | IL4: 戸数 | IN4: 頭数 | IO4: 戸数 | IQ4: 頭数 | IR4: 戸数 | IT4: 頭数 | IU4: 戸数 | IW4: 頭数 | IX4: 戸数 | IZ4: 頭数 | JA4: 戸数 | JC4: 頭数 | JD4: 戸数 | JF4: 頭数 | JG4: 戸数 | JI4: 頭数 | JJ4: 戸数 | JL4: 頭数 | JM4: 戸数 | JO4: 頭数 | JP4: 戸数 | JR4: 頭数 | JS4: 戸数 | JU4: 頭数 | JV4: 戸数 | JX4: 頭数 | JY4: 戸数 | KA4: 頭数 | KB4: 戸数 | KD4: 頭数 | KE4: 戸数 | KG4: 頭数 | KH4: 戸数 | KJ4: 頭数 | KK4: 戸数 | KM4: 頭数 | KN4: 戸数 | KP4: 羽数 | KQ4: 戸数 | KS4: 羽数 | KT4: 戸数 | KV4: 羽数 | KW4: 戸数 | KY4: 羽数 | KZ4: 戸数 | LB4: 羽数 | LC4: 戸数 | LE4: 羽数 | LF4: 戸数 | LH4: 羽数 | LI4: 戸数 | LK4: 羽数 | LL4: 戸数 | LN4: 羽数 | LO4: 戸数 | LQ4: 羽数 | LR4: 戸数 | LT4: 羽数 | LU4: 戸数 | LW4: 羽数 | LX4: 戸数 | LZ4: 羽数 | MA4: 戸数 | MC4: 羽数 | MD4: 戸数 | MF4: 羽数 | MG4: 戸数 | MI4: 羽数 | MJ4: 戸数 | ML4: 羽数 | MM4: 戸数 | MO4: 羽数 | MP4: 戸数 | MR4: 羽数 | MS4: 戸数 | MU4: 羽数 | MV4: 戸数 | MX4: 羽数 | MY4: 戸数 | NA4: 羽数 | NB4: 戸数 | ND4: 羽数 | NE4: 戸数 | NG4: 羽数 | NH4: 戸数 | NJ4: 羽数 | NK4: 戸数 | NM4: 羽数 | NN4: 戸数 | NP4: 羽数 | NQ4: 戸数 | NS4: 羽数 | NT4: 戸数 | NV4: 群数 | NW4: 戸数 | NY4: 頭数 | NZ4: 戸数 | OB4: 頭数
A5: 01 | B5: 北海道 | C5: 0 | D5: 0 | E5: 0 | F5: 0 | G5: 0 | H5: 0 | I5: 0 | J5: 0 | K5: 0 | L5: 0 | M5: 0 | N5: 0 | O5: 0 | P5: 0 | Q5: 0 | R5: 0 | S5: 0 | T5: 0 | U5: 0 | V5: 0 | W5: 0 | X5: 0 | Y5: 0 | Z5: 0 | AA5: 0 | AB5: 0 | AC5: 0 | AD5: 0 | AE5: 0 | AF5: 0 | AG5: 0 | AH5: 0 | AI5: 0 | AJ5: 0 | AK5: 0 | AL5: 0 | AM5: 0 | AN5: 0 | AO5: 0 | AP5: 0 | AQ5: 0 | AR5: 0 | AS5: 0 | AT5: 0 | AU5: 0 | AV5: 0 | AW5: 0 | AX5: 0 | AY5: 0 | AZ5: 0 | BA5: 0 | BB5: 0 | BC5: 0 | BD5: 0 | BE5: 0 | BF5: 0 | BG5: 0 | BH5: 0 | BI5: 0 | BJ5: 0 | BK5: 0 | BL5: 0 | BM5: 0 | BN5: 0 | BO5: 0 | BP5: 0 | BQ5: 0 | BR5: 0 | BS5: 0 | BT5: 0 | BU5: 0 | BV5: 0 | BW5: 0 | BX5: 0 | BY5: 0 | BZ5: 0 | CA5: 0 | CB5: 0 | CC5: 0 | CD5: 0 | CE5: 0 | CF5: 0 | CG5: 0 | CH5: 0 | CI5: 0 | CJ5: 0 | CK5: 0 | CL5: 0 | CM5: 0 | CN5: 0 | CO5: 0 | CP5: 0 | CQ5: 0 | CR5: 0 | CS5: 0 | CT5: 0 | CU5: 0 | CV5: 0 | CW5: 0 | CX5: 0 | CY5: 0 | CZ5: 0 | DA5: 0 | DB5: 0 | DC5: 0 | DD5: 0 | DE5: 0 | DF5: 0 | DG5: 0 | DH5: 0 | DI5: 0 | DJ5: 0 | DK5: 0 | DL5: 0 | DM5: 0 | DN5: 0 | DO5: 0 | DP5: 0 | DQ5: 0 | DR5: 0 | DS5: 0 | DT5: 0 | DU5: 0 | DV5: 0 | DW5: 0 | DX5: 0 | DY5: 0 | DZ5: 0 | EA5: 0 | EB5: 0 | EC5: 0 | ED5: 0 | EE5: 0 | EF5: 0 | EG5: 0 | EH5: 0 | EI5: 0 | EJ5: 0 | EK5: 0 | EL5: 0 | EM5: 0 | EN5: 0 | EO5: 0 | EP5: 0 | EQ5: 0 | ER5: 0 | ES5: 0 | ET5: 0 | EU5: 0 | EV5: 0 | EW5: 0 | EX5: 0 | EY5: 0 | EZ5: 0 | FA5: 0 | FB5: 0 | FC5: 0 | FD5: 0 | FE5: 0 | FF5: 0 | FG5: 0 | FH5: 0 | FI5: 0 | FJ5: 0 | FK5: 0 | FL5: 0 | FM5: 0 | FN5: 0 | FO5: 0 | FP5: 0 | FQ5: 0 | FR5: 0 | FS5: 0 | FT5: 0 | FU5: 0 | FV5: 0 | FW5: 0 | FX5: 0 | FY5: 0 | FZ5: 0 | GA5: 0 | GB5: 0 | GC5: 0 | GD5: 0 | GE5: 0 | GF5: 0 | GG5: 0 | GH5: 0 | GI5: 0 | GJ5: 0 | GK5: 0 | GL5: 0 | GM5: 0 | GN5: 0 | GO5: 0 | GP5: 0 | GQ5: 0 | GR5: 0 | GS5: 0 | GT5: 0 | GU5: 0 | GV5: 0 | GW5: 0 | GX5: 0 | GY5: 0 | GZ5: 0 | HA5: 0 | HB5: 0 | HC5: 0 | HD5: 0 | HE5: 1 | HF5: 35 | HG5: 92 | HH5: 0 | HI5: 0 | HJ5: 0 | HK5: 0 | HL5: 0 | HM5: 0 | HN5: 0 | HO5: 0 | HP5: 0 | HQ5: 0 | HR5: 0 | HS5: 0 | HT5: 0 | HU5: 0 | HV5: 0 | HW5: 0 | HX5: 0 | HY5: 0 | HZ5: 0 | IA5: 0 | IB5: 0 | IC5: 0 | ID5: 0 | IE5: 0 | IF5: 0 | IG5: 0 | IH5: 0 | II5: 0 | IJ5: 0 | IK5: 0 | IL5: 0 | IM5: 0 | IN5: 0 | IO5: 0 | IP5: 0 | IQ5: 0 | IR5: 0 | IS5: 0 | IT5: 0 | IU5: 0 | IV5: 0 | IW5: 0 | IX5: 0 | IY5: 0 | IZ5: 0 | JA5: 0 | JB5: 0 | JC5: 0 | JD5: 0 | JE5: 0 | JF5: 0 | JG5: 0 | JH5: 0 | JI5: 0 | JJ5: 0 | JK5: 0 | JL5: 0 | JM5: 0 | JN5: 0 | JO5: 0 | JP5: 0 | JQ5: 0 | JR5: 0 | JS5: 0 | JT5: 0 | JU5: 0 | JV5: 0 | JW5: 0 | JX5: 0 | JY5: 0 | JZ5: 0 | KA5: 0 | KB5: 0 | KC5: 0 | KD5: 0 | KE5: 0 | KF5: 0 | KG5: 0 | KH5: 0 | KI5: 0 | KJ5: 0 | KK5: 0 | KL5: 0 | KM5: 0 | KN5: 0 | KO5: 0 | KP5: 0 | KQ5: 0 | KR5: 0 | KS5: 0 | KT5: 0 | KU5: 0 | KV5: 0 | KW5: 0 | KX5: 0 | KY5: 0 | KZ5: 0 | LA5: 0 | LB5: 0 | LC5: 0 | LD5: 0 | LE5: 0 | LF5: 0 | LG5: 0 | LH5: 0 | LI5: 0 | LJ5: 0 | LK5: 0 | LL5: 0 | LM5: 0 | LN5: 0 | LO5: 0 | LP5: 0 | LQ5: 0 | LR5: 0 | LS5: 0 | LT5: 0 | LU5: 0 | LV5: 0 | LW5: 0 | LX5: 0 | LY5: 0 | LZ5: 0 | MA5: 0 | MB5: 0 | MC5: 0 | MD5: 0 | ME5: 0 | MF5: 0 | MG5: 0 | MH5: 0 | MI5: 0 | MJ5: 0 | MK5: 0 | ML5: 0 | MM5: 0 | MN5: 0 | MO5: 0 | MP5: 0 | MQ5: 0 | MR5: 0 | MS5: 0 | MT5: 0 | MU5: 0 | MV5: 0 | MW5: 0 | MX5: 0 | MY5: 0 | MZ5: 0 | NA5: 0 | NB5: 0 | NC5: 0 | ND5: 0 | NE5: 0 | NF5: 0 | NG5: 0 | NH5: 0 | NI5: 0 | NJ5: 0 | NK5: 0 | NL5: 0 | NM5: 0 | NN5: 0 | NO5: 0 | NP5: 0 | NQ5: 0 | NR5: 0 | NS5: 0 | NT5: 0 | NU5: 0 | NV5: 0 | NW5: 0 | NX5: 0 | NY5: 0 | NZ5: 0 | OA5: 0 | OB5: 0
A6: 02 | B6: 青 森 | C6: 0 | D6: 0 | E6: 0 | F6: 0 | G6: 0 | H6: 0 | I6: 0 | J6: 0 | K6: 0 | L6: 0 | M6: 0 | N6: 0 | O6: 0 | P6: 0 | Q6: 0 | R6: 0 | S6: 0 | T6: 0 | U6: 0 | V6: 0 | W6: 0 | X6: 0 | Y6: 0 | Z6: 0 | AA6: 0 | AB6: 0 | AC6: 0 | AD6: 0 | AE6: 0 | AF6: 0 | AG6: 0 | AH6: 0 | AI6: 0 | AJ6: 0 | AK6: 0 | AL6: 0 | AM6: 0 | AN6: 0 | AO6: 0 | AP6: 0 | AQ6: 0 | AR6: 0 | AS6: 0 | AT6: 0 | AU6: 0 | AV6: 0 | AW6: 0 | AX6: 0 | AY6: 0 | AZ6: 0 | BA6: 0 | BB6: 0 | BC6: 0 | BD6: 0 | BE6: 0 | BF6: 0 | BG6: 0 | BH6: 0 | BI6: 0 | BJ6: 0 | BK6: 0 | BL6: 0 | BM6: 0 | BN6: 0 | BO6: 0 | BP6: 0 | BQ6: 0 | BR6: 0 | BS6: 0 | BT6: 0 | BU6: 0 | BV6: 0 | BW6: 0 | BX6: 0 | BY6: 0 | BZ6: 0 | CA6: 0 | CB6: 0 | CC6: 0 | CD6: 0 | CE6: 0 | CF6: 0 | CG6: 0 | CH6: 0 | CI6: 0 | CJ6: 0 | CK6: 0 | CL6: 0 | CM6: 0 | CN6: 0 | CO6: 0 | CP6: 0 | CQ6: 0 | CR6: 0 | CS6: 0 | CT6: 0 | CU6: 0 | CV6: 0 | CW6: 0 | CX6: 0 | CY6: 0 | CZ6: 0 | DA6: 0 | DB6: 0 | DC6: 0 | DD6: 0 | DE6: 0 | DF6: 0 | DG6: 0 | DH6: 0 | DI6: 0 | DJ6: 0 | DK6: 0 | DL6: 0 | DM6: 0 | DN6: 0 | DO6: 0 | DP6: 0 | DQ6: 0 | DR6: 0 | DS6: 0 | DT6: 0 | DU6: 0 | DV6: 0 | DW6: 0 | DX6: 0 | DY6: 0 | DZ6: 0 | EA6: 0 | EB6: 0 | EC6: 0 | ED6: 0 | EE6: 0 | EF6: 0 | EG6: 0 | EH6: 0 | EI6: 0 | EJ6: 0 | EK6: 0 | EL6: 0 | EM6: 0 | EN6: 0 | EO6: 0 | EP6: 0 | EQ6: 0 | ER6: 0 | ES6: 0 | ET6: 0 | EU6: 0 | EV6: 0 | EW6: 0 | EX6: 0 | EY6: 0 | EZ6: 0 | FA6: 0 | FB6: 0 | FC6: 0 | FD6: 0 | FE6: 0 | FF6: 0 | FG6: 0 | FH6: 0 | FI6: 0 | FJ6: 0 | FK6: 0 | FL6: 0 | FM6: 0 | FN6: 0 | FO6: 0 | FP6: 0 | FQ6: 0 | FR6: 0 | FS6: 0 | FT6: 0 | FU6: 0 | FV6: 0 | FW6: 0 | FX6: 0 | FY6: 0 | FZ6: 0 | GA6: 0 | GB6: 0 | GC6: 0 | GD6: 0 | GE6: 0 | GF6: 0 | GG6: 0 | GH6: 0 | GI6: 0 | GJ6: 0 | GK6: 0 | GL6: 0 | GM6: 0 | GN6: 0 | GO6: 0 | GP6: 0 | GQ6: 0 | GR6: 0 | GS6: 0 | GT6: 0 | GU6: 0 | GV6: 0 | GW6: 0 | GX6: 0 | GY6: 0 | GZ6: 0 | HA6: 0 | HB6: 0 | HC6: 0 | HD6: 0 | HE6: 0 | HF6: 1 | HG6: 1 | HH6: 0 | HI6: 0 | HJ6: 0 | HK6: 0 | HL6: 0 | HM6: 0 | HN6: 0 | HO6: 0 | HP6: 0 | HQ6: 0 | HR6: 0 | HS6: 0 | HT6: 0 | HU6: 0 | HV6: 0 | HW6: 0 | HX6: 0 | HY6: 0 | HZ6: 0 | IA6: 0 | IB6: 0 | IC6: 0 | ID6: 0 | IE6: 0 | IF6: 0 | IG6: 0 | IH6: 0 | II6: 0 | IJ6: 0 | IK6: 0 | IL6: 0 | IM6: 0 | IN6: 0 | IO6: 0 | IP6: 0 | IQ6: 0 | IR6: 0 | IS6: 0 | IT6: 0 | IU6: 0 | IV6: 0 | IW6: 0 | IX6: 0 | IY6: 0 | IZ6: 0 | JA6: 0 | JB6: 0 | JC6: 0 | JD6: 0 | JE6: 0 | JF6: 0 | JG6: 0 | JH6: 0 | JI6: 0 | JJ6: 0 | JK6: 0 | JL6: 0 | JM6: 0 | JN6: 0 | JO6: 0 | JP6: 0 | JQ6: 0 | JR6: 0 | JS6: 0 | JT6: 0 | JU6: 0 | JV6: 0 | JW6: 0 | JX6: 0 | JY6: 0 | JZ6: 0 | KA6: 0 | KB6: 0 | KC6: 0 | KD6: 0 | KE6: 0 | KF6: 0 | KG6: 0 | KH6: 0 | KI6: 0 | KJ6: 0 | KK6: 0 | KL6: 0 | KM6: 0 | KN6: 0 | KO6: 0 | KP6: 0 | KQ6: 0 | KR6: 0 | KS6: 0 | KT6: 0 | KU6: 0 | KV6: 0 | KW6: 0 | KX6: 0 | KY6: 0 | KZ6: 0 | LA6: 0 | LB6: 0 | LC6: 0 | LD6: 0 | LE6: 0 | LF6: 0 | LG6: 0 | LH6: 0 | LI6: 0 | LJ6: 0 | LK6: 0 | LL6: 0 | LM6: 0 | LN6: 0 | LO6: 0 | LP6: 0 | LQ6: 0 | LR6: 0 | LS6: 0 | LT6: 0 | LU6: 0 | LV6: 0 | LW6: 0 | LX6: 0 | LY6: 0 | LZ6: 0 | MA6: 0 | MB6: 0 | MC6: 0 | MD6: 0 | ME6: 0 | MF6: 0 | MG6: 0 | MH6: 0 | MI6: 0 | MJ6: 0 | MK6: 0 | ML6: 0 | MM6: 0 | MN6: 0 | MO6: 0 | MP6: 0 | MQ6: 0 | MR6: 0 | MS6: 0 | MT6: 0 | MU6: 0 | MV6: 0 | MW6: 0 | MX6: 0 | MY6: 0 | MZ6: 0 | NA6: 0 | NB6: 0 | NC6: 0 | ND6: 0 | NE6: 0 | NF6: 0 | NG6: 0 | NH6: 0 | NI6: 0 | NJ6: 0 | NK6: 0 | NL6: 0 | NM6: 0 | NN6: 0 | NO6: 0 | NP6: 0 | NQ6: 0 | NR6: 0 | NS6: 0 | NT6: 0 | NU6: 0 | NV6: 0 | NW6: 0 | NX6: 0 | NY6: 0 | NZ6: 0 | OA6: 0 | OB6: 0
A7: 03 | B7: 岩 手 | C7: 0 | D7: 0 | E7: 0 | F7: 0 | G7: 0 | H7: 0 | I7: 0 | J7: 0 | K7: 0 | L7: 0 | M7: 0 | N7: 0 | O7: 0 | P7: 0 | Q7: 0 | R7: 0 | S7: 0 | T7: 0 | U7: 0 | V7: 0 | W7: 0 | X7: 0 | Y7: 0 | Z7: 0 | AA7: 0 | AB7: 0 | AC7: 0 | AD7: 0 | AE7: 0 | AF7: 0 | AG7: 0 | AH7: 0 | AI7: 0 | AJ7: 0 | AK7: 0 | AL7: 0 | AM7: 0 | AN7: 0 | AO7: 0 | AP7: 0 | AQ7: 0 | AR7: 0 | AS7: 0 | AT7: 0 | AU7: 0 | AV7: 0 | AW7: 0 | AX7: 0 | AY7: 0 | AZ7: 0 | BA7: 0 | BB7: 0 | BC7: 0 | BD7: 0 | BE7: 0 | BF7: 0 | BG7: 0 | BH7: 0 | BI7: 0 | BJ7: 0 | BK7: 0 | BL7: 0 | BM7: 0 | BN7: 0 | BO7: 0 | BP7: 0 | BQ7: 0 | BR7: 0 | BS7: 0 | BT7: 0 | BU7: 0 | BV7: 0 | BW7: 0 | BX7: 0 | BY7: 0 | BZ7: 0 | CA7: 0 | CB7: 0 | CC7: 0 | CD7: 0 | CE7: 0 | CF7: 0 | CG7: 0 | CH7: 0 | CI7: 0 | CJ7: 0 | CK7: 0 | CL7: 0 | CM7: 0 | CN7: 0 | CO7: 0 | CP7: 0 | CQ7: 0 | CR7: 0 | CS7: 0 | CT7: 0 | CU7: 0 | CV7: 0 | CW7: 0 | CX7: 0 | CY7: 0 | CZ7: 0 | DA7: 0 | DB7: 0 | DC7: 0 | DD7: 0 | DE7: 0 | DF7: 0 | DG7: 0 | DH7: 0 | DI7: 0 | DJ7: 0 | DK7: 0 | DL7: 0 | DM7: 0 | DN7: 0 | DO7: 0 | DP7: 0 | DQ7: 0 | DR7: 0 | DS7: 0 | DT7: 0 | DU7: 0 | DV7: 0 | DW7: 0 | DX7: 0 | DY7: 0 | DZ7: 0 | EA7: 0 | EB7: 0 | EC7: 0 | ED7: 0 | EE7: 0 | EF7: 0 | EG7: 0 | EH7: 0 | EI7: 0 | EJ7: 0 | EK7: 0 | EL7: 0 | EM7: 0 | EN7: 0 | EO7: 0 | EP7: 0 | EQ7: 0 | ER7: 0 | ES7: 0 | ET7: 0 | EU7: 0 | EV7: 0 | EW7: 0 | EX7: 0 | EY7: 0 | EZ7: 0 | FA7: 0 | FB7: 0 | FC7: 0 | FD7: 0 | FE7: 0 | FF7: 0 | FG7: 0 | FH7: 0 | FI7: 0 | FJ7: 0 | FK7: 0 | FL7: 0 | FM7: 0 | FN7: 0 | FO7: 0 | FP7: 0 | FQ7: 0 | FR7: 0 | FS7: 0 | FT7: 0 | FU7: 0 | FV7: 0 | FW7: 0 | FX7: 0 | FY7: 0 | FZ7: 0 | GA7: 0 | GB7: 0 | GC7: 0 | GD7: 0 | GE7: 0 | GF7: 0 | GG7: 0 | GH7: 0 | GI7: 0 | GJ7: 0 | GK7: 0 | GL7: 0 | GM7: 0 | GN7: 0 | GO7: 0 | GP7: 0 | GQ7: 0 | GR7: 0 | GS7: 0 | GT7: 0 | GU7: 0 | GV7: 0 | GW7: 0 | GX7: 0 | GY7: 0 | GZ7: 0 | HA7: 0 | HB7: 0 | HC7: 0 | HD7: 0 | HE7: 0 | HF7: 5 | HG7: 5 | HH7: 0 | HI7: 0 | HJ7: 0 | HK7: 0 | HL7: 0 | HM7: 0 | HN7: 0 | HO7: 0 | HP7: 0 | HQ7: 0 | HR7: 0 | HS7: 0 | HT7: 0 | HU7: 0 | HV7: 0 | HW7: 0 | HX7: 0 | HY7: 0 | HZ7: 0 | IA7: 0 | IB7: 0 | IC7: 0 | ID7: 0 | IE7: 0 | IF7: 0 | IG7: 0 | IH7: 0 | II7: 0 | IJ7: 0 | IK7: 0 | IL7: 0 | IM7: 0 | IN7: 0 | IO7: 0 | IP7: 0 | IQ7: 0 | IR7: 0 | IS7: 0 | IT7: 0 | IU7: 0 | IV7: 0 | IW7: 0 | IX7: 0 | IY7: 0 | IZ7: 0 | JA7: 0 | JB7: 0 | JC7: 0 | JD7: 0 | JE7: 0 | JF7: 0 | JG7: 0 | JH7: 0 | JI7: 0 | JJ7: 0 | JK7: 0 | JL7: 0 | JM7: 0 | JN7: 0 | JO7: 0 | JP7: 0 | JQ7: 0 | JR7: 0 | JS7: 0 | JT7: 0 | JU7: 0 | JV7: 0 | JW7: 0 | JX7: 0 | JY7: 0 | JZ7: 0 | KA7: 0 | KB7: 0 | KC7: 0 | KD7: 0 | KE7: 0 | KF7: 0 | KG7: 0 | KH7: 0 | KI7: 0 | KJ7: 0 | KK7: 0 | KL7: 0 | KM7: 0 | KN7: 0 | KO7: 0 | KP7: 0 | KQ7: 0 | KR7: 0 | KS7: 0 | KT7: 0 | KU7: 0 | KV7: 0 | KW7: 0 | KX7: 0 | KY7: 0 | KZ7: 0 | LA7: 0 | LB7: 0 | LC7: 0 | LD7: 0 | LE7: 0 | LF7: 0 | LG7: 0 | LH7: 0 | LI7: 0 | LJ7: 0 | LK7: 0 | LL7: 0 | LM7: 0 | LN7: 0 | LO7: 0 | LP7: 0 | LQ7: 0 | LR7: 0 | LS7: 0 | LT7: 0 | LU7: 0 | LV7: 0 | LW7: 0 | LX7: 0 | LY7: 0 | LZ7: 0 | MA7: 0 | MB7: 0 | MC7: 0 | MD7: 0 | ME7: 0 | MF7: 0 | MG7: 0 | MH7: 0 | MI7: 0 | MJ7: 0 | MK7: 0 | ML7: 0 | MM7: 0 | MN7: 0 | MO7: 0 | MP7: 0 | MQ7: 0 | MR7: 0 | MS7: 0 | MT7: 0 | MU7: 0 | MV7: 0 | MW7: 0 | MX7: 0 | MY7: 0 | MZ7: 0 | NA7: 0 | NB7: 0 | NC7: 0 | ND7: 0 | NE7: 0 | NF7: 0 | NG7: 0 | NH7: 0 | NI7: 0 | NJ7: 0 | NK7: 0 | NL7: 0 | NM7: 0 | NN7: 0 | NO7: 0 | NP7: 0 | NQ7: 0 | NR7: 0 | NS7: 0 | NT7: 0 | NU7: 0 | NV7: 0 | NW7: 0 | NX7: 0 | NY7: 0 | NZ7: 0 | OA7: 0 | OB7: 0
A8: 04 | B8: 宮 城 | C8: 0 | D8: 0 | E8: 0 | F8: 0 | G8: 0 | H8: 0 | I8: 0 | J8: 0 | K8: 0 | L8: 0 | M8: 0 | N8: 0 | O8: 0 | P8: 0 | Q8: 0 | R8: 0 | S8: 0 | T8: 0 | U8: 0 | V8: 0 | W8: 0 | X8: 0 | Y8: 0 | Z8: 0 | AA8: 0 | AB8: 0 | AC8: 0 | AD8: 0 | AE8: 0 | AF8: 0 | AG8: 0 | AH8: 0 | AI8: 0 | AJ8: 0 | AK8: 0 | AL8: 0 | AM8: 0 | AN8: 0 | AO8: 0 | AP8: 0 | AQ8: 0 | AR8: 0 | AS8: 0 | AT8: 0 | AU8: 0 | AV8: 0 | AW8: 0 | AX8: 0 | AY8: 0 | AZ8: 0 | BA8: 0 | BB8: 0 | BC8: 0 | BD8: 0 | BE8: 0 | BF8: 0 | BG8: 0 | BH8: 0 | BI8: 0 | BJ8: 0 | BK8: 0 | BL8: 0 | BM8: 0 | BN8: 0 | BO8: 0 | BP8: 0 | BQ8: 0 | BR8: 0 | BS8: 0 | BT8: 0 | BU8: 0 | BV8: 0 | BW8: 0 | BX8: 0 | BY8: 0 | BZ8: 0 | CA8: 0 | CB8: 0 | CC8: 0 | CD8: 0 | CE8: 0 | CF8: 0 | CG8: 0 | CH8: 0 | CI8: 0 | CJ8: 0 | CK8: 0 | CL8: 0 | CM8: 0 | CN8: 0 | CO8: 0 | CP8: 0 | CQ8: 0 | CR8: 0 | CS8: 0 | CT8: 0 | CU8: 0 | CV8: 0 | CW8: 0 | CX8: 0 | CY8: 0 | CZ8: 0 | DA8: 0 | DB8: 0 | DC8: 0 | DD8: 0 | DE8: 0 | DF8: 0 | DG8: 0 | DH8: 0 | DI8: 0 | DJ8: 0 | DK8: 0 | DL8: 0 | DM8: 0 | DN8: 0 | DO8: 0 | DP8: 0 | DQ8: 0 | DR8: 0 | DS8: 0 | DT8: 0 | DU8: 0 | DV8: 0 | DW8: 0 | DX8: 0 | DY8: 0 | DZ8: 0 | EA8: 0 | EB8: 0 | EC8: 0 | ED8: 0 | EE8: 0 | EF8: 0 | EG8: 0 | EH8: 0 | EI8: 0 | EJ8: 0 | EK8: 0 | EL8: 0 | EM8: 0 | EN8: 0 | EO8: 0 | EP8: 0 | EQ8: 0 | ER8: 0 | ES8: 0 | ET8: 0 | EU8: 0 | EV8: 0 | EW8: 0 | EX8: 0 | EY8: 0 | EZ8: 0 | FA8: 0 | FB8: 0 | FC8: 0 | FD8: 0 | FE8: 0 | FF8: 0 | FG8: 0 | FH8: 0 | FI8: 0 | FJ8: 0 | FK8: 0 | FL8: 0 | FM8: 0 | FN8: 0 | FO8: 0 | FP8: 0 | FQ8: 0 | FR8: 0 | FS8: 0 | FT8: 0 | FU8: 0 | FV8: 0 | FW8: 0 | FX8: 0 | FY8: 0 | FZ8: 0 | GA8: 0 | GB8: 0 | GC8: 0 | GD8: 0 | GE8: 0 | GF8: 0 | GG8: 0 | GH8: 0 | GI8: 0 | GJ8: 0 | GK8: 0 | GL8: 0 | GM8: 0 | GN8: 0 | GO8: 0 | GP8: 0 | GQ8: 0 | GR8: 0 | GS8: 0 | GT8: 0 | GU8: 0 | GV8: 0 | GW8: 0 | GX8: 0 | GY8: 0 | GZ8: 0 | HA8: 0 | HB8: 0 | HC8: 0 | HD8: 0 | HF8: 0 | HG8: 0 | HH8: 0 | HI8: 0 | HJ8: 0 | HK8: 0 | HL8: 0 | HM8: 0 | HN8: 0 | HO8: 0 | HP8: 0 | HQ8: 0 | HR8: 0 | HS8: 0 | HT8: 0 | HU8: 0 | HV8: 0 | HW8: 0 | HX8: 0 | HY8: 0 | HZ8: 0 | IA8: 0 | IB8: 0 | IC8: 0 | ID8: 0 | IE8: 0 | IF8: 0 | IG8: 0 | IH8: 0 | II8: 0 | IJ8: 0 | IK8: 0 | IL8: 0 | IM8: 0 | IN8: 0 | IO8: 0 | IP8: 0 | IQ8: 0 | IR8: 0 | IS8: 0 | IT8: 0 | IU8: 0 | IV8: 0 | IW8: 0 | IX8: 0 | IY8: 0 | IZ8: 0 | JA8: 0 | JB8: 0 | JC8: 0 | JD8: 0 | JE8: 0 | JF8: 0 | JG8: 0 | JH8: 0 | JI8: 0 | JJ8: 0 | JK8: 0 | JL8: 0 | JM8: 0 | JN8: 0 | JO8: 0 | JP8: 0 | JQ8: 0 | JR8: 0 | JS8: 0 | JT8: 0 | JU8: 0 | JV8: 0 | JW8: 0 | JX8: 0 | JY8: 0 | JZ8: 0 | KA8: 0 | KB8: 0 | KC8: 0 | KD8: 0 | KE8: 0 | KF8: 0 | KG8: 0 | KH8: 0 | KI8: 0 | KJ8: 0 | KK8: 0 | KL8: 0 | KM8: 0 | KN8: 0 | KO8: 0 | KP8: 0 | KQ8: 0 | KR8: 0 | KS8: 0 | KT8: 0 | KU8: 0 | KV8: 0 | KW8: 0 | KX8: 0 | KY8: 0 | KZ8: 0 | LA8: 0 | LB8: 0 | LC8: 0 | LD8: 0 | LE8: 0 | LF8: 0 | LG8: 0 | LH8: 0 | LI8: 0 | LJ8: 0 | LK8: 0 | LL8: 0 | LM8: 0 | LN8: 0 | LO8: 0 | LP8: 0 | LQ8: 0 | LR8: 0 | LS8: 0 | LT8: 0 | LU8: 0 | LV8: 0 | LW8: 0 | LX8: 0 | LY8: 0 | LZ8: 0 | MA8: 0 | MB8: 0 | MC8: 0 | MD8: 0 | ME8: 0 | MF8: 0 | MG8: 0 | MH8: 0 | MI8: 0 | MJ8: 0 | MK8: 0 | ML8: 0 | MM8: 0 | MN8: 0 | MO8: 0 | MP8: 0 | MQ8: 0 | MR8: 0 | MS8: 0 | MT8: 0 | MU8: 0 | MV8: 0 | MW8: 0 | MX8: 0 | MY8: 0 | MZ8: 0 | NA8: 0 | NB8: 0 | NC8: 0 | ND8: 0 | NE8: 0 | NF8: 0 | NG8: 0 | NH8: 0 | NI8: 0 | NJ8: 0 | NK8: 0 | NL8: 0 | NM8: 0 | NN8: 0 | NO8: 0 | NP8: 0 | NQ8: 0 | NR8: 0 | NS8: 0 | NT8: 0 | NU8: 0 | NV8: 0 | NW8: 0 | NX8: 0 | NY8: 0 | NZ8: 0 | OA8: 0 | OB8: 0
A9: 05 | B9: 秋 田 | C9: 0 | D9: 0 | E9: 0 | F9: 0 | G9: 0 | H9: 0 | I9: 0 | J9: 0 | K9: 0 | L9: 0 | M9: 0 | N9: 0 | O9: 0 | P9: 0 | Q9: 0 | R9: 0 | S9: 0 | T9: 0 | U9: 0 | V9: 0 | W9: 0 | X9: 0 | Y9: 0 | Z9: 0 | AA9: 0 | AB9: 0 | AC9: 0 | AD9: 0 | AE9: 0 | AF9: 0 | AG9: 0 | AH9: 0 | AI9: 0 | AJ9: 0 | AK9: 0 | AL9: 0 | AM9: 0 | AN9: 0 | AO9: 0 | AP9: 0 | AQ9: 0 | AR9: 0 | AS9: 0 | AT9: 0 | AU9: 0 | AV9: 0 | AW9: 0 | AX9: 0 | AY9: 0 | AZ9: 0 | BA9: 0 | BB9: 0 | BC9: 0 | BD9: 0 | BE9: 0 | BF9: 0 | BG9: 0 | BH9: 0 | BI9: 0 | BJ9: 0 | BK9: 0 | BL9: 0 | BM9: 0 | BN9: 0 | BO9: 0 | BP9: 0 | BQ9: 0 | BR9: 0 | BS9: 0 | BT9: 0 | BU9: 0 | BV9: 0 | BW9: 0 | BX9: 0 | BY9: 0 | BZ9: 0 | CA9: 0 | CB9: 0 | CC9: 0 | CD9: 0 | CE9: 0 | CF9: 0 | CG9: 0 | CH9: 0 | CI9: 0 | CJ9: 0 | CK9: 0 | CL9: 0 | CM9: 0 | CN9: 0 | CO9: 0 | CP9: 0 | CQ9: 0 | CR9: 0 | CS9: 0 | CT9: 0 | CU9: 0 | CV9: 0 | CW9: 0 | CX9: 0 | CY9: 0 | CZ9: 0 | DA9: 0 | DB9: 0 | DC9: 0 | DD9: 0 | DE9: 0 | DF9: 0 | DG9: 0 | DH9: 0 | DI9: 0 | DJ9: 0 | DK9: 0 | DL9: 0 | DM9: 0 | DN9: 0 | DO9: 0 | DP9: 0 | DQ9: 0 | DR9: 0 | DS9: 0 | DT9: 0 | DU9: 0 | DV9: 0 | DW9: 0 | DX9: 0 | DY9: 0 | DZ9: 0 | EA9: 0 | EB9: 0 | EC9: 0 | ED9: 0 | EE9: 0 | EF9: 0 | EG9: 0 | EH9: 0 | EI9: 0 | EJ9: 0 | EK9: 0 | EL9: 0 | EM9: 0 | EN9: 0 | EO9: 0 | EP9: 0 | EQ9: 0 | ER9: 0 | ES9: 0 | ET9: 0 | EU9: 0 | EV9: 0 | EW9: 0 | EX9: 0 | EY9: 0 | EZ9: 0 | FA9: 0 | FB9: 0 | FC9: 0 | FD9: 0 | FE9: 0 | FF9: 0 | FG9: 0 | FH9: 0 | FI9: 0 | FJ9: 0 | FK9: 0 | FL9: 0 | FM9: 0 | FN9: 0 | FO9: 0 | FP9: 0 | FQ9: 0 | FR9: 0 | FS9: 0 | FT9: 0 | FU9: 0 | FV9: 0 | FW9: 0 | FX9: 0 | FY9: 0 | FZ9: 0 | GA9: 0 | GB9: 0 | GC9: 0 | GD9: 0 | GE9: 0 | GF9: 0 | GG9: 0 | GH9: 0 | GI9: 0 | GJ9: 0 | GK9: 0 | GL9: 0 | GM9: 0 | GN9: 0 | GO9: 0 | GP9: 0 | GQ9: 0 | GR9: 0 | GS9: 0 | GT9: 0 | GU9: 0 | GV9: 0 | GW9: 0 | GX9: 0 | GY9: 0 | GZ9: 0 | HA9: 0 | HB9: 0 | HC9: 0 | HD9: 0 | HE9: 0 | HF9: 0 | HG9: 0 | HH9: 0 | HI9: 0 | HJ9: 0 | HK9: 0 | HL9: 0 | HM9: 0 | HN9: 0 | HO9: 0 | HP9: 0 | HQ9: 0 | HR9: 0 | HS9: 0 | HT9: 0 | HU9: 0 | HV9: 0 | HW9: 0 | HX9: 0 | HY9: 0 | HZ9: 0 | IA9: 0 | IB9: 0 | IC9: 0 | ID9: 0 | IE9: 0 | IF9: 0 | IG9: 0 | IH9: 0 | II9: 0 | IJ9: 0 | IK9: 0 | IL9: 0 | IM9: 0 | IN9: 0 | IO9: 0 | IP9: 0 | IQ9: 0 | IR9: 0 | IS9: 0 | IT9: 0 | IU9: 0 | IV9: 0 | IW9: 0 | IX9: 0 | IY9: 0 | IZ9: 0 | JA9: 0 | JB9: 0 | JC9: 0 | JD9: 0 | JE9: 0 | JF9: 0 | JG9: 0 | JH9: 0 | JI9: 0 | JJ9: 0 | JK9: 0 | JL9: 0 | JM9: 0 | JN9: 0 | JO9: 0 | JP9: 0 | JQ9: 0 | JR9: 0 | JS9: 0 | JT9: 0 | JU9: 0 | JV9: 0 | JW9: 0 | JX9: 0 | JY9: 0 | JZ9: 0 | KA9: 0 | KB9: 0 | KC9: 0 | KD9: 0 | KE9: 0 | KF9: 0 | KG9: 0 | KH9: 0 | KI9: 0 | KJ9: 0 | KK9: 0 | KL9: 0 | KM9: 0 | KN9: 0 | KO9: 0 | KP9: 0 | KQ9: 0 | KR9: 0 | KS9: 0 | KT9: 0 | KU9: 0 | KV9: 0 | KW9: 0 | KX9: 0 | KY9: 0 | KZ9: 0 | LA9: 0 | LB9: 0 | LC9: 0 | LD9: 0 | LE9: 0 | LF9: 0 | LG9: 0 | LH9: 0 | LI9: 0 | LJ9: 0 | LK9: 0 | LL9: 0 | LM9: 0 | LN9: 0 | LO9: 0 | LP9: 0 | LQ9: 0 | LR9: 0 | LS9: 0 | LT9: 0 | LU9: 0 | LV9: 0 | LW9: 0 | LX9: 0 | LY9: 0 | LZ9: 0 | MA9: 0 | MB9: 0 | MC9: 0 | MD9: 0 | ME9: 0 | MF9: 0 | MG9: 0 | MH9: 0 | MI9: 0 | MJ9: 0 | MK9: 0 | ML9: 0 | MM9: 0 | MN9: 0 | MO9: 0 | MP9: 0 | MQ9: 0 | MR9: 0 | MS9: 0 | MT9: 0 | MU9: 0 | MV9: 0 | MW9: 0 | MX9: 0 | MY9: 0 | MZ9: 0 | NA9: 0 | NB9: 0 | NC9: 0 | ND9: 0 | NE9: 0 | NF9: 0 | NG9: 0 | NH9: 0 | NI9: 0 | NJ9: 0 | NK9: 0 | NL9: 0 | NM9: 0 | NN9: 0 | NO9: 0 | NP9: 0 | NQ9: 0 | NR9: 0 | NS9: 0 | NT9: 0 | NU9: 0 | NV9: 0 | NW9: 0 | NX9: 0 | NY9: 0 | NZ9: 0 | OA9: 0 | OB9: 0
A10: 06 | B10: 山 形 | C10: 0 | D10: 0 | E10: 0 | F10: 0 | G10: 0 | H10: 0 | I10: 0 | J10: 0 | K10: 0 | L10: 0 | M10: 0 | N10: 0 | O10: 0 | P10: 0 | Q10: 0 | R10: 0 | S10: 0 | T10: 0 | U10: 0 | V10: 0 | W10: 0 | X10: 0 | Y10: 0 | Z10: 0 | AA10: 0 | AB10: 0 | AC10: 0 | AD10: 0 | AE10: 0 | AF10: 0 | AG10: 0 | AH10: 0 | AI10: 0 | AJ10: 0 | AK10: 0 | AL10: 0 | AM10: 0 | AN10: 0 | AO10: 0 | AP10: 0 | AQ10: 0 | AR10: 0 | AS10: 0 | AT10: 0 | AU10: 0 | AV10: 0 | AW10: 0 | AX10: 0 | AY10: 0 | AZ10: 0 | BA10: 0 | BB10: 0 | BC10: 0 | BD10: 0 | BE10: 0 | BF10: 0 | BG10: 0 | BH10: 0 | BI10: 0 | BJ10: 0 | BK10: 0 | BL10: 0 | BM10: 0 | BN10: 0 | BO10: 0 | BP10: 0 | BQ10: 0 | BR10: 0 | BS10: 0 | BT10: 0 | BU10: 0 | BV10: 0 | BW10: 0 | BX10: 0 | BY10: 0 | BZ10: 0 | CA10: 0 | CB10: 0 | CC10: 0 | CD10: 0 | CE10: 0 | CF10: 0 | CG10: 0 | CH10: 0 | CI10: 0 | CJ10: 0 | CK10: 0 | CL10: 0 | CM10: 0 | CN10: 0 | CO10: 0 | CP10: 0 | CQ10: 0 | CR10: 0 | CS10: 0 | CT10: 0 | CU10: 0 | CV10: 0 | CW10: 0 | CX10: 0 | CY10: 0 | CZ10: 0 | DA10: 0 | DB10: 0 | DC10: 0 | DD10: 0 | DE10: 0 | DF10: 0 | DG10: 0 | DH10: 0 | DI10: 0 | DJ10: 0 | DK10: 0 | DL10: 0 | DM10: 0 | DN10: 0 | DO10: 0 | DP10: 0 | DQ10: 0 | DR10: 0 | DS10: 0 | DT10: 0 | DU10: 0 | DV10: 0 | DW10: 0 | DX10: 0 | DY10: 0 | DZ10: 0 | EA10: 0 | EB10: 0 | EC10: 0 | ED10: 0 | EE10: 0 | EF10: 0 | EG10: 0 | EH10: 0 | EI10: 0 | EJ10: 0 | EK10: 0 | EL10: 0 | EM10: 0 | EN10: 0 | EO10: 0 | EP10: 0 | EQ10: 0 | ER10: 0 | ES10: 0 | ET10: 0 | EU10: 0 | EV10: 0 | EW10: 0 | EX10: 0 | EY10: 0 | EZ10: 0 | FA10: 0 | FB10: 0 | FC10: 0 | FD10: 0 | FE10: 0 | FF10: 0 | FG10: 0 | FH10: 0 | FI10: 0 | FJ10: 0 | FK10: 0 | FL10: 0 | FM10: 0 | FN10: 0 | FO10: 0 | FP10: 0 | FQ10: 0 | FR10: 0 | FS10: 0 | FT10: 0 | FU10: 0 | FV10: 0 | FW10: 0 | FX10: 0 | FY10: 0 | FZ10: 0 | GA10: 0 | GB10: 0 | GC10: 0 | GD10: 0 | GE10: 0 | GF10: 0 | GG10: 0 | GH10: 0 | GI10: 0 | GJ10: 0 | GK10: 0 | GL10: 0 | GM10: 0 | GN10: 0 | GO10: 0 | GP10: 0 | GQ10: 0 | GR10: 0 | GS10: 0 | GT10: 0 | GU10: 0 | GV10: 0 | GW10: 0 | GX10: 0 | GY10: 0 | GZ10: 0 | HA10: 0 | HB10: 0 | HC10: 0 | HD10: 0 | HE10: 0 | HF10: 0 | HG10: 0 | HH10: 0 | HI10: 0 | HJ10: 0 | HK10: 0 | HL10: 0 | HM10: 0 | HN10: 0 | HO10: 0 | HP10: 0 | HQ10: 0 | HR10: 0 | HS10: 0 | HT10: 0 | HU10: 0 | HV10: 0 | HW10: 0 | HX10: 0 | HY10: 0 | HZ10: 0 | IA10: 0 | IB10: 0 | IC10: 0 | ID10: 0 | IE10: 0 | IF10: 0 | IG10: 0 | IH10: 0 | II10: 0 | IJ10: 0 | IK10: 0 | IL10: 0 | IM10: 0 | IN10: 0 | IO10: 0 | IP10: 0 | IQ10: 0 | IR10: 0 | IS10: 0 | IT10: 0 | IU10: 0 | IV10: 0 | IW10: 0 | IX10: 0 | IY10: 0 | IZ10: 0 | JA10: 0 | JB10: 0 | JC10: 0 | JD10: 0 | JE10: 0 | JF10: 0 | JG10: 0 | JH10: 0 | JI10: 0 | JJ10: 0 | JK10: 0 | JL10: 0 | JM10: 0 | JN10: 0 | JO10: 0 | JP10: 0 | JQ10: 0 | JR10: 0 | JS10: 0 | JT10: 0 | JU10: 0 | JV10: 0 | JW10: 0 | JX10: 0 | JY10: 0 | JZ10: 0 | KA10: 0 | KB10: 0 | KC10: 0 | KD10: 0 | KE10: 0 | KF10: 0 | KG10: 0 | KH10: 0 | KI10: 0 | KJ10: 0 | KK10: 0 | KL10: 0 | KM10: 0 | KN10: 0 | KO10: 0 | KP10: 0 | KQ10: 0 | KR10: 0 | KS10: 0 | KT10: 0 | KU10: 0 | KV10: 0 | KW10: 0 | KX10: 0 | KY10: 0 | KZ10: 0 | LA10: 0 | LB10: 0 | LC10: 0 | LD10: 0 | LE10: 0 | LF10: 0 | LG10: 0 | LH10: 0 | LI10: 0 | LJ10: 0 | LK10: 0 | LL10: 0 | LM10: 0 | LN10: 0 | LO10: 0 | LP10: 0 | LQ10: 0 | LR10: 0 | LS10: 0 | LT10: 0 | LU10: 0 | LV10: 0 | LW10: 0 | LX10: 0 | LY10: 0 | LZ10: 0 | MA10: 0 | MB10: 0 | MC10: 0 | MD10: 0 | ME10: 0 | MF10: 0 | MG10: 0 | MH10: 0 | MI10: 0 | MJ10: 0 | MK10: 0 | ML10: 0 | MM10: 0 | MN10: 0 | MO10: 0 | MP10: 0 | MQ10: 0 | MR10: 0 | MS10: 0 | MT10: 0 | MU10: 0 | MV10: 0 | MW10: 0 | MX10: 0 | MY10: 0 | MZ10: 0 | NA10: 0 | NB10: 0 | NC10: 0 | ND10: 0 | NE10: 0 | NF10: 0 | NG10: 0 | NH10: 0 | NI10: 0 | NJ10: 0 | NK10: 0 | NL10: 0 | NM10: 0 | NN10: 0 | NO10: 0 | NP10: 0 | NQ10: 0 | NR10: 0 | NS10: 0 | NT10: 0 | NU10: 0 | NV10: 0 | NW10: 0 | NX10: 0 | NY10: 0 | NZ10: 0 | OA10: 0 | OB10: 0
A11: 07 | B11: 福 島 | C11: 0 | D11: 0 | E11: 0 | F11: 0 | G11: 0 | H11: 0 | I11: 0 | J11: 0 | K11: 0 | L11: 0 | M11: 0 | N11: 0 | O11: 0 | P11: 0 | Q11: 0 | R11: 0 | S11: 0 | T11: 0 | U11: 0 | V11: 0 | W11: 0 | X11: 0 | Y11: 0 | Z11: 0 | AA11: 0 | AB11: 0 | AC11: 0 | AD11: 0 | AE11: 0 | AF11: 0 | AG11: 0 | AH11: 0 | AI11: 0 | AJ11: 0 | AK11: 0 | AL11: 0 | AM11: 0 | AN11: 0 | AO11: 0 | AP11: 0 | AQ11: 0 | AR11: 0 | AS11: 0 | AT11: 0 | AU11: 0 | AV11: 0 | AW11: 0 | AX11: 0 | AY11: 0 | AZ11: 0 | BA11: 0 | BB11: 0 | BC11: 0 | BD11: 0 | BE11: 0 | BF11: 0 | BG11: 0 | BH11: 0 | BI11: 0 | BJ11: 0 | BK11: 0 | BL11: 0 | BM11: 0 | BN11: 0 | BO11: 0 | BP11: 0 | BQ11: 0 | BR11: 0 | BS11: 0 | BT11: 0 | BU11: 0 | BV11: 0 | BW11: 0 | BX11: 0 | BY11: 0 | BZ11: 0 | CA11: 0 | CB11: 0 | CC11: 0 | CD11: 0 | CE11: 0 | CF11: 0 | CG11: 0 | CH11: 0 | CI11: 0 | CJ11: 0 | CK11: 0 | CL11: 0 | CM11: 0 | CN11: 0 | CO11: 0 | CP11: 0 | CQ11: 0 | CR11: 0 | CS11: 0 | CT11: 0 | CU11: 0 | CV11: 0 | CW11: 0 | CX11: 0 | CY11: 0 | CZ11: 0 | DA11: 0 | DB11: 0 | DC11: 0 | DD11: 0 | DE11: 0 | DF11: 0 | DG11: 0 | DH11: 0 | DI11: 0 | DJ11: 0 | DK11: 0 | DL11: 0 | DM11: 0 | DN11: 0 | DO11: 0 | DP11: 0 | DQ11: 0 | DR11: 0 | DS11: 0 | DT11: 0 | DU11: 0 | DV11: 0 | DW11: 0 | DX11: 0 | DY11: 0 | DZ11: 0 | EA11: 0 | EB11: 0 | EC11: 0 | ED11: 0 | EE11: 0 | EF11: 0 | EG11: 0 | EH11: 0 | EI11: 0 | EJ11: 0 | EK11: 0 | EL11: 0 | EM11: 0 | EN11: 0 | EO11: 0 | EP11: 0 | EQ11: 0 | ER11: 0 | ES11: 0 | ET11: 0 | EU11: 0 | EV11: 0 | EW11: 0 | EX11: 0 | EY11: 0 | EZ11: 0 | FA11: 0 | FB11: 0 | FC11: 0 | FD11: 0 | FE11: 0 | FF11: 0 | FG11: 0 | FH11: 0 | FI11: 0 | FJ11: 0 | FK11: 0 | FL11: 0 | FM11: 0 | FN11: 0 | FO11: 0 | FP11: 0 | FQ11: 0 | FR11: 0 | FS11: 0 | FT11: 0 | FU11: 0 | FV11: 0 | FW11: 0 | FX11: 0 | FY11: 0 | FZ11: 0 | GA11: 0 | GB11: 0 | GC11: 0 | GD11: 0 | GE11: 0 | GF11: 0 | GG11: 0 | GH11: 0 | GI11: 0 | GJ11: 0 | GK11: 0 | GL11: 0 | GM11: 0 | GN11: 0 | GO11: 0 | GP11: 0 | GQ11: 0 | GR11: 0 | GS11: 0 | GT11: 0 | GU11: 0 | GV11: 0 | GW11: 0 | GX11: 0 | GY11: 0 | GZ11: 0 | HA11: 0 | HB11: 0 | HC11: 0 | HD11: 0 | HE11: 0 | HF11: 0 | HG11: 0 | HH11: 0 | HI11: 0 | HJ11: 0 | HK11: 0 | HL11: 0 | HM11: 0 | HN11: 0 | HO11: 0 | HP11: 0 | HQ11: 0 | HR11: 0 | HS11: 0 | HT11: 0 | HU11: 0 | HV11: 0 | HW11: 0 | HX11: 0 | HY11: 0 | HZ11: 0 | IA11: 0 | IB11: 0 | IC11: 0 | ID11: 0 | IE11: 0 | IF11: 0 | IG11: 0 | IH11: 0 | II11: 0 | IJ11: 0 | IK11: 0 | IL11: 0 | IM11: 0 | IN11: 0 | IO11: 0 | IP11: 0 | IQ11: 0 | IR11: 0 | IS11: 0 | IT11: 0 | IU11: 0 | IV11: 0 | IW11: 0 | IX11: 0 | IY11: 0 | IZ11: 0 | JA11: 0 | JB11: 0 | JC11: 0 | JD11: 0 | JE11: 0 | JF11: 0 | JG11: 0 | JH11: 0 | JI11: 0 | JJ11: 0 | JK11: 0 | JL11: 0 | JM11: 0 | JN11: 0 | JO11: 0 | JP11: 0 | JQ11: 0 | JR11: 0 | JS11: 0 | JT11: 0 | JU11: 0 | JV11: 0 | JW11: 0 | JX11: 0 | JY11: 0 | JZ11: 0 | KA11: 0 | KB11: 0 | KC11: 0 | KD11: 0 | KE11: 0 | KF11: 0 | KG11: 0 | KH11: 0 | KI11: 0 | KJ11: 0 | KK11: 0 | KL11: 0 | KM11: 0 | KN11: 0 | KO11: 0 | KP11: 0 | KQ11: 0 | KR11: 0 | KS11: 0 | KT11: 0 | KU11: 0 | KV11: 0 | KW11: 0 | KX11: 0 | KY11: 0 | KZ11: 0 | LA11: 0 | LB11: 0 | LC11: 0 | LD11: 0 | LE11: 0 | LF11: 0 | LG11: 0 | LH11: 0 | LI11: 0 | LJ11: 0 | LK11: 0 | LL11: 0 | LM11: 0 | LN11: 0 | LO11: 0 | LP11: 0 | LQ11: 0 | LR11: 0 | LS11: 0 | LT11: 0 | LU11: 0 | LV11: 0 | LW11: 0 | LX11: 0 | LY11: 0 | LZ11: 0 | MA11: 0 | MB11: 0 | MC11: 0 | MD11: 0 | ME11: 0 | MF11: 0 | MG11: 0 | MH11: 0 | MI11: 0 | MJ11: 0 | MK11: 0 | ML11: 0 | MM11: 0 | MN11: 0 | MO11: 0 | MP11: 0 | MQ11: 0 | MR11: 0 | MS11: 0 | MT11: 0 | MU11: 0 | MV11: 0 | MW11: 0 | MX11: 0 | MY11: 0 | MZ11: 0 | NA11: 0 | NB11: 0 | NC11: 0 | ND11: 0 | NE11: 0 | NF11: 0 | NG11: 0 | NH11: 0 | NI11: 0 | NJ11: 0 | NK11: 0 | NL11: 0 | NM11: 0 | NN11: 0 | NO11: 0 | NP11: 0 | NQ11: 0 | NR11: 0 | NS11: 0 | NT11: 0 | NU11: 0 | NV11: 0 | NW11: 0 | NX11: 0 | NY11: 0 | NZ11: 0 | OA11: 0 | OB11: 0
A12: 08 | B12: 茨 城 | C12: 0 | D12: 0 | E12: 0 | F12: 0 | G12: 0 | H12: 0 | I12: 0 | J12: 0 | K12: 0 | L12: 0 | M12: 0 | N12: 0 | O12: 0 | P12: 0 | Q12: 0 | R12: 0 | S12: 0 | T12: 0 | U12: 0 | V12: 0 | W12: 0 | X12: 0 | Y12: 0 | Z12: 0 | AA12: 0 | AB12: 0 | AC12: 0 | AD12: 0 | AE12: 0 | AF12: 0 | AG12: 0 | AH12: 0 | AI12: 0 | AJ12: 0 | AK12: 0 | AL12: 0 | AM12: 0 | AN12: 0 | AO12: 0 | AP12: 0 | AQ12: 0 | AR12: 0 | AS12: 0 | AT12: 0 | AU12: 0 | AV12: 0 | AW12: 0 | AX12: 0 | AY12: 0 | AZ12: 0 | BA12: 0 | BB12: 0 | BC12: 0 | BD12: 0 | BE12: 0 | BF12: 0 | BG12: 0 | BH12: 0 | BI12: 0 | BJ12: 0 | BK12: 0 | BL12: 0 | BM12: 0 | BN12: 0 | BO12: 0 | BP12: 0 | BQ12: 0 | BR12: 0 | BS12: 0 | BT12: 0 | BU12: 0 | BV12: 0 | BW12: 0 | BX12: 0 | BY12: 0 | BZ12: 0 | CA12: 0 | CB12: 0 | CC12: 0 | CD12: 0 | CE12: 0 | CF12: 0 | CG12: 0 | CH12: 0 | CI12: 0 | CJ12: 0 | CK12: 0 | CL12: 0 | CM12: 0 | CN12: 0 | CO12: 0 | CP12: 0 | CQ12: 0 | CR12: 0 | CS12: 0 | CT12: 0 | CU12: 0 | CV12: 0 | CW12: 0 | CX12: 0 | CY12: 0 | CZ12: 0 | DA12: 0 | DB12: 0 | DC12: 0 | DD12: 0 | DE12: 0 | DF12: 0 | DG12: 0 | DH12: 0 | DI12: 0 | DJ12: 0 | DK12: 0 | DL12: 0 | DM12: 0 | DN12: 0 | DO12: 0 | DP12: 0 | DQ12: 0 | DR12: 0 | DS12: 0 | DT12: 0 | DU12: 0 | DV12: 0 | DW12: 0 | DX12: 0 | DY12: 0 | DZ12: 0 | EA12: 0 | EB12: 0 | EC12: 0 | ED12: 0 | EE12: 0 | EF12: 0 | EG12: 0 | EH12: 0 | EI12: 0 | EJ12: 0 | EK12: 0 | EL12: 0 | EM12: 0 | EN12: 0 | EO12: 0 | EP12: 0 | EQ12: 0 | ER12: 0 | ES12: 0 | ET12: 0 | EU12: 0 | EV12: 0 | EW12: 0 | EX12: 0 | EY12: 0 | EZ12: 0 | FA12: 0 | FB12: 0 | FC12: 0 | FD12: 0 | FE12: 0 | FF12: 0 | FG12: 0 | FH12: 0 | FI12: 0 | FJ12: 0 | FK12: 0 | FL12: 0 | FM12: 0 | FN12: 0 | FO12: 0 | FP12: 0 | FQ12: 0 | FR12: 0 | FS12: 0 | FT12: 0 | FU12: 0 | FV12: 0 | FW12: 0 | FX12: 0 | FY12: 0 | FZ12: 0 | GA12: 0 | GB12: 0 | GC12: 0 | GD12: 0 | GE12: 0 | GF12: 0 | GG12: 0 | GH12: 0 | GI12: 0 | GJ12: 0 | GK12: 0 | GL12: 0 | GM12: 0 | GN12: 0 | GO12: 0 | GP12: 0 | GQ12: 0 | GR12: 0 | GS12: 0 | GT12: 0 | GU12: 0 | GV12: 0 | GW12: 0 | GX12: 0 | GY12: 0 | GZ12: 0 | HA12: 0 | HB12: 0 | HC12: 0 | HD12: 0 | HE12: 0 | HF12: 0 | HG12: 0 | HH12: 0 | HI12: 0 | HJ12: 0 | HK12: 0 | HL12: 0 | HM12: 0 | HN12: 0 | HO12: 0 | HP12: 0 | HQ12: 0 | HR12: 0 | HS12: 0 | HT12: 0 | HU12: 0 | HV12: 0 | HW12: 0 | HX12: 0 | HY12: 0 | HZ12: 0 | IA12: 0 | IB12: 0 | IC12: 0 | ID12: 0 | IE12: 0 | IF12: 0 | IG12: 0 | IH12: 0 | II12: 0 | IJ12: 0 | IK12: 0 | IL12: 0 | IM12: 0 | IN12: 0 | IO12: 0 | IP12: 0 | IQ12: 0 | IR12: 0 | IS12: 0 | IT12: 0 | IU12: 0 | IV12: 0 | IW12: 0 | IX12: 0 | IY12: 0 | IZ12: 0 | JA12: 0 | JB12: 0 | JC12: 0 | JD12: 0 | JE12: 0 | JF12: 0 | JG12: 0 | JH12: 0 | JI12: 0 | JJ12: 0 | JK12: 0 | JL12: 0 | JM12: 0 | JN12: 0 | JO12: 0 | JP12: 0 | JQ12: 0 | JR12: 0 | JS12: 0 | JT12: 0 | JU12: 0 | JV12: 0 | JW12: 0 | JX12: 0 | JY12: 0 | JZ12: 0 | KA12: 0 | KB12: 0 | KC12: 0 | KD12: 0 | KE12: 0 | KF12: 0 | KG12: 0 | KH12: 0 | KI12: 0 | KJ12: 0 | KK12: 0 | KL12: 0 | KM12: 0 | KN12: 0 | KO12: 0 | KP12: 0 | KQ12: 0 | KR12: 0 | KS12: 0 | KT12: 0 | KU12: 0 | KV12: 0 | KW12: 0 | KX12: 0 | KY12: 0 | KZ12: 0 | LA12: 0 | LB12: 0 | LC12: 0 | LD12: 0 | LE12: 0 | LF12: 0 | LG12: 0 | LH12: 0 | LI12: 0 | LJ12: 0 | LK12: 0 | LL12: 0 | LM12: 0 | LN12: 0 | LO12: 0 | LP12: 0 | LQ12: 0 | LR12: 0 | LS12: 0 | LT12: 0 | LU12: 0 | LV12: 0 | LW12: 0 | LX12: 0 | LY12: 0 | LZ12: 0 | MA12: 0 | MB12: 0 | MC12: 0 | MD12: 0 | ME12: 0 | MF12: 0 | MG12: 0 | MH12: 0 | MI12: 0 | MJ12: 0 | MK12: 0 | ML12: 0 | MM12: 0 | MN12: 0 | MO12: 0 | MP12: 0 | MQ12: 0 | MR12: 0 | MS12: 0 | MT12: 0 | MU12: 0 | MV12: 0 | MW12: 0 | MX12: 0 | MY12: 0 | MZ12: 0 | NA12: 0 | NB12: 0 | NC12: 0 | ND12: 0 | NE12: 0 | NF12: 0 | NG12: 0 | NH12: 0 | NI12: 0 | NJ12: 0 | NK12: 0 | NL12: 0 | NM12: 0 | NN12: 0 | NO12: 0 | NP12: 0 | NQ12: 0 | NR12: 0 | NS12: 0 | NT12: 0 | NU12: 0 | NV12: 0 | NW12: 0 | NX12: 0 | NY12: 0 | NZ12: 0 | OA12: 0 | OB12: 0
A13: 09 | B13: 栃 木 | C13: 0 | D13: 0 | E13: 0 | F13: 0 | G13: 0 | H13: 0 | I13: 0 | J13: 0 | K13: 0 | L13: 0 | M13: 0 | N13: 0 | O13: 0 | P13: 0 | Q13: 0 | R13: 0 | S13: 0 | T13: 0 | U13: 0 | V13: 0 | W13: 0 | X13: 0 | Y13: 0 | Z13: 0 | AA13: 0 | AB13: 0 | AC13: 0 | AD13: 0 | AE13: 0 | AF13: 0 | AG13: 0 | AH13: 0 | AI13: 0 | AJ13: 0 | AK13: 0 | AL13: 0 | AM13: 0 | AN13: 0 | AO13: 0 | AP13: 0 | AQ13: 0 | AR13: 0 | AS13: 0 | AT13: 0 | AU13: 0 | AV13: 0 | AW13: 0 | AX13: 0 | AY13: 0 | AZ13: 0 | BA13: 0 | BB13: 0 | BC13: 0 | BD13: 0 | BE13: 0 | BF13: 0 | BG13: 0 | BH13: 0 | BI13: 0 | BJ13: 0 | BK13: 0 | BL13: 0 | BM13: 0 | BN13: 0 | BO13: 0 | BP13: 0 | BQ13: 0 | BR13: 0 | BS13: 0 | BT13: 0 | BU13: 0 | BV13: 0 | BW13: 0 | BX13: 0 | BY13: 0 | BZ13: 0 | CA13: 0 | CB13: 0 | CC13: 0 | CD13: 0 | CE13: 0 | CF13: 0 | CG13: 0 | CH13: 0 | CI13: 0 | CJ13: 0 | CK13: 0 | CL13: 0 | CM13: 0 | CN13: 0 | CO13: 0 | CP13: 0 | CQ13: 0 | CR13: 0 | CS13: 0 | CT13: 0 | CU13: 0 | CV13: 0 | CW13: 0 | CX13: 0 | CY13: 0 | CZ13: 0 | DA13: 0 | DB13: 0 | DC13: 0 | DD13: 0 | DE13: 0 | DF13: 0 | DG13: 0 | DH13: 0 | DI13: 0 | DJ13: 0 | DK13: 0 | DL13: 0 | DM13: 0 | DN13: 0 | DO13: 0 | DP13: 0 | DQ13: 0 | DR13: 0 | DS13: 0 | DT13: 0 | DU13: 0 | DV13: 0 | DW13: 0 | DX13: 0 | DY13: 0 | DZ13: 0 | EA13: 0 | EB13: 0 | EC13: 0 | ED13: 0 | EE13: 0 | EF13: 0 | EG13: 0 | EH13: 0 | EI13: 0 | EJ13: 0 | EK13: 0 | EL13: 0 | EM13: 0 | EN13: 0 | EO13: 0 | EP13: 0 | EQ13: 0 | ER13: 0 | ES13: 0 | ET13: 0 | EU13: 0 | EV13: 0 | EW13: 0 | EX13: 0 | EY13: 0 | EZ13: 0 | FA13: 0 | FB13: 0 | FC13: 0 | FD13: 0 | FE13: 0 | FF13: 0 | FG13: 0 | FH13: 0 | FI13: 0 | FJ13: 0 | FK13: 0 | FL13: 0 | FM13: 0 | FN13: 0 | FO13: 0 | FP13: 0 | FQ13: 0 | FR13: 0 | FS13: 0 | FT13: 0 | FU13: 0 | FV13: 0 | FW13: 0 | FX13: 0 | FY13: 0 | FZ13: 0 | GA13: 0 | GB13: 0 | GC13: 0 | GD13: 0 | GE13: 0 | GF13: 0 | GG13: 0 | GH13: 0 | GI13: 0 | GJ13: 0 | GK13: 0 | GL13: 0 | GM13: 0 | GN13: 0 | GO13: 0 | GP13: 0 | GQ13: 0 | GR13: 0 | GS13: 0 | GT13: 0 | GU13: 0 | GV13: 0 | GW13: 0 | GX13: 0 | GY13: 0 | GZ13: 0 | HA13: 0 | HB13: 0 | HC13: 0 | HD13: 0 | HE13: 0 | HF13: 2 | HG13: 2 | HH13: 0 | HI13: 0 | HJ13: 0 | HK13: 0 | HL13: 0 | HM13: 0 | HN13: 0 | HO13: 0 | HP13: 0 | HQ13: 0 | HR13: 0 | HS13: 0 | HT13: 0 | HU13: 0 | HV13: 0 | HW13: 0 | HX13: 0 | HY13: 0 | HZ13: 0 | IA13: 0 | IB13: 0 | IC13: 0 | ID13: 0 | IE13: 0 | IF13: 0 | IG13: 0 | IH13: 0 | II13: 0 | IJ13: 0 | IK13: 0 | IL13: 0 | IM13: 0 | IN13: 0 | IO13: 0 | IP13: 0 | IQ13: 0 | IR13: 0 | IS13: 0 | IT13: 0 | IU13: 0 | IV13: 0 | IW13: 0 | IX13: 0 | IY13: 0 | IZ13: 0 | JA13: 0 | JB13: 0 | JC13: 0 | JD13: 0 | JE13: 0 | JF13: 0 | JG13: 0 | JH13: 0 | JI13: 0 | JJ13: 0 | JK13: 0 | JL13: 0 | JM13: 0 | JN13: 0 | JO13: 0 | JP13: 0 | JQ13: 0 | JR13: 0 | JS13: 0 | JT13: 0 | JU13: 0 | JV13: 0 | JW13: 0 | JX13: 0 | JY13: 0 | JZ13: 0 | KA13: 0 | KB13: 0 | KC13: 0 | KD13: 0 | KE13: 0 | KF13: 0 | KG13: 0 | KH13: 0 | KI13: 0 | KJ13: 0 | KK13: 0 | KL13: 0 | KM13: 0 | KN13: 0 | KO13: 0 | KP13: 0 | KQ13: 0 | KR13: 0 | KS13: 0 | KT13: 0 | KU13: 0 | KV13: 0 | KW13: 0 | KX13: 0 | KY13: 0 | KZ13: 0 | LA13: 0 | LB13: 0 | LC13: 0 | LD13: 0 | LE13: 0 | LF13: 0 | LG13: 0 | LH13: 0 | LI13: 0 | LJ13: 0 | LK13: 0 | LL13: 0 | LM13: 0 | LN13: 0 | LO13: 0 | LP13: 0 | LQ13: 0 | LR13: 0 | LS13: 0 | LT13: 0 | LU13: 0 | LV13: 0 | LW13: 0 | LX13: 0 | LY13: 0 | LZ13: 0 | MA13: 0 | MB13: 0 | MC13: 0 | MD13: 0 | ME13: 0 | MF13: 0 | MG13: 0 | MH13: 0 | MI13: 0 | MJ13: 0 | MK13: 0 | ML13: 0 | MM13: 0 | MN13: 0 | MO13: 0 | MP13: 0 | MQ13: 0 | MR13: 0 | MS13: 0 | MT13: 0 | MU13: 0 | MV13: 0 | MW13: 0 | MX13: 0 | MY13: 0 | MZ13: 0 | NA13: 0 | NB13: 0 | NC13: 0 | ND13: 0 | NE13: 0 | NF13: 0 | NG13: 0 | NH13: 0 | NI13: 0 | NJ13: 0 | NK13: 0 | NL13: 0 | NM13: 0 | NN13: 0 | NO13: 0 | NP13: 0 | NQ13: 0 | NR13: 0 | NS13: 0 | NT13: 0 | NU13: 0 | NV13: 0 | NW13: 0 | NX13: 0 | NY13: 0 | NZ13: 0 | OA13: 0 | OB13: 0
A14: 10 | B14: 群 馬 | C14: 0 | D14: 0 | E14: 0 | F14: 0 | G14: 0 | H14: 0 | I14: 0 | J14: 0 | K14: 0 | L14: 0 | M14: 0 | N14: 0 | O14: 0 | P14: 0 | Q14: 0 | R14: 0 | S14: 0 | T14: 0 | U14: 0 | V14: 0 | W14: 0 | X14: 0 | Y14: 0 | Z14: 0 | AA14: 0 | AB14: 0 | AC14: 0 | AD14: 0 | AE14: 0 | AF14: 0 | AG14: 0 | AH14: 0 | AI14: 0 | AJ14: 0 | AK14: 0 | AL14: 0 | AM14: 0 | AN14: 0 | AO14: 0 | AP14: 0 | AQ14: 0 | AR14: 0 | AS14: 0 | AT14: 0 | AU14: 0 | AV14: 0 | AW14: 0 | AX14: 0 | AY14: 0 | AZ14: 0 | BA14: 0 | BB14: 0 | BC14: 0 | BD14: 0 | BE14: 0 | BF14: 0 | BG14: 0 | BH14: 0 | BI14: 0 | BJ14: 0 | BK14: 0 | BL14: 0 | BM14: 0 | BN14: 0 | BO14: 0 | BP14: 0 | BQ14: 0 | BR14: 0 | BS14: 0 | BT14: 0 | BU14: 0 | BV14: 0 | BW14: 0 | BX14: 0 | BY14: 0 | BZ14: 0 | CA14: 0 | CB14: 0 | CC14: 0 | CD14: 0 | CE14: 0 | CF14: 0 | CG14: 0 | CH14: 0 | CI14: 0 | CJ14: 0 | CK14: 0 | CL14: 0 | CM14: 0 | CN14: 0 | CO14: 0 | CP14: 0 | CQ14: 0 | CR14: 0 | CS14: 0 | CT14: 0 | CU14: 0 | CV14: 0 | CW14: 0 | CX14: 0 | CY14: 0 | CZ14: 0 | DA14: 0 | DB14: 0 | DC14: 0 | DD14: 0 | DE14: 0 | DF14: 0 | DG14: 0 | DH14: 0 | DI14: 0 | DJ14: 0 | DK14: 0 | DL14: 0 | DM14: 0 | DN14: 0 | DO14: 0 | DP14: 0 | DQ14: 0 | DR14: 0 | DS14: 0 | DT14: 0 | DU14: 0 | DV14: 0 | DW14: 0 | DX14: 0 | DY14: 0 | DZ14: 0 | EA14: 0 | EB14: 0 | EC14: 0 | ED14: 0 | EE14: 0 | EF14: 0 | EG14: 0 | EH14: 0 | EI14: 0 | EJ14: 0 | EK14: 0 | EL14: 0 | EM14: 0 | EN14: 0 | EO14: 0 | EP14: 0 | EQ14: 0 | ER14: 0 | ES14: 0 | ET14: 0 | EU14: 0 | EV14: 0 | EW14: 0 | EX14: 0 | EY14: 0 | EZ14: 0 | FA14: 0 | FB14: 0 | FC14: 0 | FD14: 0 | FE14: 0 | FF14: 0 | FG14: 0 | FH14: 0 | FI14: 0 | FJ14: 0 | FK14: 0 | FL14: 0 | FM14: 0 | FN14: 0 | FO14: 0 | FP14: 0 | FQ14: 0 | FR14: 0 | FS14: 0 | FT14: 0 | FU14: 0 | FV14: 0 | FW14: 0 | FX14: 0 | FY14: 0 | FZ14: 0 | GA14: 0 | GB14: 0 | GC14: 0 | GD14: 0 | GE14: 0 | GF14: 0 | GG14: 0 | GH14: 0 | GI14: 0 | GJ14: 0 | GK14: 0 | GL14: 0 | GM14: 0 | GN14: 0 | GO14: 0 | GP14: 0 | GQ14: 0 | GR14: 0 | GS14: 0 | GT14: 0 | GU14: 0 | GV14: 0 | GW14: 0 | GX14: 0 | GY14: 0 | GZ14: 0 | HA14: 0 | HB14: 0 | HC14: 0 | HD14: 0 | HE14: 0 | HF14: 1 | HG14: 1 | HH14: 0 | HI14: 0 | HJ14: 0 | HK14: 0 | HL14: 0 | HM14: 0 | HN14: 0 | HO14: 0 | HP14: 0 | HQ14: 0 | HR14: 0 | HS14: 0 | HT14: 0 | HU14: 0 | HV14: 0 | HW14: 0 | HX14: 0 | HY14: 0 | HZ14: 0 | IA14: 0 | IB14: 0 | IC14: 0 | ID14: 0 | IE14: 0 | IF14: 0 | IG14: 0 | IH14: 0 | II14: 0 | IJ14: 0 | IK14: 0 | IL14: 0 | IM14: 0 | IN14: 0 | IO14: 0 | IP14: 0 | IQ14: 0 | IR14: 0 | IS14: 0 | IT14: 0 | IU14: 0 | IV14: 0 | IW14: 0 | IX14: 0 | IY14: 0 | IZ14: 0 | JA14: 0 | JB14: 0 | JC14: 0 | JD14: 0 | JE14: 0 | JF14: 0 | JG14: 0 | JH14: 0 | JI14: 0 | JJ14: 0 | JK14: 0 | JL14: 0 | JM14: 0 | JN14: 0 | JO14: 0 | JP14: 0 | JQ14: 0 | JR14: 0 | JS14: 0 | JT14: 0 | JU14: 0 | JV14: 0 | JW14: 0 | JX14: 0 | JY14: 0 | JZ14: 0 | KA14: 0 | KB14: 0 | KC14: 0 | KD14: 0 | KE14: 0 | KF14: 0 | KG14: 0 | KH14: 0 | KI14: 0 | KJ14: 0 | KK14: 0 | KL14: 0 | KM14: 0 | KN14: 0 | KO14: 0 | KP14: 0 | KQ14: 0 | KR14: 0 | KS14: 0 | KT14: 0 | KU14: 0 | KV14: 0 | KW14: 0 | KX14: 0 | KY14: 0 | KZ14: 0 | LA14: 0 | LB14: 0 | LC14: 0 | LD14: 0 | LE14: 0 | LF14: 0 | LG14: 0 | LH14: 0 | LI14: 0 | LJ14: 0 | LK14: 0 | LL14: 0 | LM14: 0 | LN14: 0 | LO14: 0 | LP14: 0 | LQ14: 0 | LR14: 0 | LS14: 0 | LT14: 0 | LU14: 0 | LV14: 0 | LW14: 0 | LX14: 0 | LY14: 0 | LZ14: 0 | MA14: 0 | MB14: 0 | MC14: 0 | MD14: 0 | ME14: 0 | MF14: 0 | MG14: 0 | MH14: 0 | MI14: 0 | MJ14: 0 | MK14: 0 | ML14: 0 | MM14: 0 | MN14: 0 | MO14: 0 | MP14: 0 | MQ14: 0 | MR14: 0 | MS14: 0 | MT14: 0 | MU14: 0 | MV14: 0 | MW14: 0 | MX14: 0 | MY14: 0 | MZ14: 0 | NA14: 0 | NB14: 0 | NC14: 0 | ND14: 0 | NE14: 0 | NF14: 0 | NG14: 0 | NH14: 0 | NI14: 0 | NJ14: 0 | NK14: 0 | NL14: 0 | NM14: 0 | NN14: 0 | NO14: 0 | NP14: 0 | NQ14: 0 | NR14: 0 | NS14: 0 | NT14: 0 | NU14: 0 | NV14: 0 | NW14: 0 | NX14: 0 | NY14: 0 | NZ14: 0 | OA14: 0 | OB14: 0
A15: 11 | B15: 埼 玉 | C15: 0 | D15: 0 | E15: 0 | F15: 0 | G15: 0 | H15: 0 | I15: 0 | J15: 0 | K15: 0 | L15: 0 | M15: 0 | N15: 0 | O15: 0 | P15: 0 | Q15: 0 | R15: 0 | S15: 0 | T15: 0 | U15: 0 | V15: 0 | W15: 0 | X15: 0 | Y15: 0 | Z15: 0 | AA15: 0 | AB15: 0 | AC15: 0 | AD15: 0 | AE15: 0 | AF15: 0 | AG15: 0 | AH15: 0 | AI15: 0 | AJ15: 0 | AK15: 0 | AL15: 0 | AM15: 0 | AN15: 0 | AO15: 0 | AP15: 0 | AQ15: 0 | AR15: 0 | AS15: 0 | AT15: 0 | AU15: 0 | AV15: 0 | AW15: 0 | AX15: 0 | AY15: 0 | AZ15: 0 | BA15: 0 | BB15: 0 | BC15: 0 | BD15: 0 | BE15: 0 | BF15: 0 | BG15: 0 | BH15: 0 | BI15: 0 | BJ15: 0 | BK15: 0 | BL15: 0 | BM15: 0 | BN15: 0 | BO15: 0 | BP15: 0 | BQ15: 0 | BR15: 0 | BS15: 0 | BT15: 0 | BU15: 0 | BV15: 0 | BW15: 0 | BX15: 0 | BY15: 0 | BZ15: 0 | CA15: 0 | CB15: 0 | CC15: 0 | CD15: 0 | CE15: 0 | CF15: 0 | CG15: 0 | CH15: 0 | CI15: 0 | CJ15: 0 | CK15: 0 | CL15: 0 | CM15: 0 | CN15: 0 | CO15: 0 | CP15: 0 | CQ15: 0 | CR15: 0 | CS15: 0 | CT15: 0 | CU15: 0 | CV15: 0 | CW15: 0 | CX15: 0 | CY15: 0 | CZ15: 0 | DA15: 0 | DB15: 0 | DC15: 0 | DD15: 0 | DE15: 0 | DF15: 0 | DG15: 0 | DH15: 0 | DI15: 0 | DJ15: 0 | DK15: 0 | DL15: 0 | DM15: 0 | DN15: 0 | DO15: 0 | DP15: 0 | DQ15: 0 | DR15: 0 | DS15: 0 | DT15: 0 | DU15: 0 | DV15: 0 | DW15: 0 | DX15: 0 | DY15: 0 | DZ15: 0 | EA15: 0 | EB15: 0 | EC15: 0 | ED15: 0 | EE15: 0 | EF15: 0 | EG15: 0 | EH15: 0 | EI15: 0 | EJ15: 0 | EK15: 0 | EL15: 0 | EM15: 0 | EN15: 0 | EO15: 0 | EP15: 0 | EQ15: 0 | ER15: 0 | ES15: 0 | ET15: 0 | EU15: 0 | EV15: 0 | EW15: 0 | EX15: 0 | EY15: 0 | EZ15: 0 | FA15: 0 | FB15: 0 | FC15: 0 | FD15: 0 | FE15: 0 | FF15: 0 | FG15: 0 | FH15: 0 | FI15: 0 | FJ15: 0 | FK15: 0 | FL15: 0 | FM15: 0 | FN15: 0 | FO15: 0 | FP15: 0 | FQ15: 0 | FR15: 0 | FS15: 0 | FT15: 0 | FU15: 0 | FV15: 0 | FW15: 0 | FX15: 0 | FY15: 0 | FZ15: 0 | GA15: 0 | GB15: 0 | GC15: 0 | GD15: 0 | GE15: 0 | GF15: 0 | GG15: 0 | GH15: 0 | GI15: 0 | GJ15: 0 | GK15: 0 | GL15: 0 | GM15: 0 | GN15: 0 | GO15: 0 | GP15: 0 | GQ15: 0 | GR15: 0 | GS15: 0 | GT15: 0 | GU15: 0 | GV15: 0 | GW15: 0 | GX15: 0 | GY15: 0 | GZ15: 0 | HA15: 0 | HB15: 0 | HC15: 0 | HD15: 0 | HE15: 0 | HF15: 0 | HG15: 0 | HH15: 0 | HI15: 0 | HJ15: 0 | HK15: 0 | HL15: 0 | HM15: 0 | HN15: 0 | HO15: 0 | HP15: 0 | HQ15: 0 | HR15: 0 | HS15: 0 | HT15: 0 | HU15: 0 | HV15: 0 | HW15: 0 | HX15: 0 | HY15: 0 | HZ15: 0 | IA15: 0 | IB15: 0 | IC15: 0 | ID15: 0 | IE15: 0 | IF15: 0 | IG15: 0 | IH15: 0 | II15: 0 | IJ15: 0 | IK15: 0 | IL15: 0 | IM15: 0 | IN15: 0 | IO15: 0 | IP15: 0 | IQ15: 0 | IR15: 0 | IS15: 0 | IT15: 0 | IU15: 0 | IV15: 0 | IW15: 0 | IX15: 0 | IY15: 0 | IZ15: 0 | JA15: 0 | JB15: 0 | JC15: 0 | JD15: 0 | JE15: 0 | JF15: 0 | JG15: 0 | JH15: 0 | JI15: 0 | JJ15: 0 | JK15: 0 | JL15: 0 | JM15: 0 | JN15: 0 | JO15: 0 | JP15: 0 | JQ15: 0 | JR15: 0 | JS15: 0 | JT15: 0 | JU15: 0 | JV15: 0 | JW15: 0 | JX15: 0 | JY15: 0 | JZ15: 0 | KA15: 0 | KB15: 0 | KC15: 0 | KD15: 0 | KE15: 0 | KF15: 0 | KG15: 0 | KH15: 0 | KI15: 0 | KJ15: 0 | KK15: 0 | KL15: 0 | KM15: 0 | KN15: 0 | KO15: 0 | KP15: 0 | KQ15: 0 | KR15: 0 | KS15: 0 | KT15: 0 | KU15: 0 | KV15: 0 | KW15: 0 | KX15: 0 | KY15: 0 | KZ15: 0 | LA15: 0 | LB15: 0 | LC15: 0 | LD15: 0 | LE15: 0 | LF15: 0 | LG15: 0 | LH15: 0 | LI15: 0 | LJ15: 0 | LK15: 0 | LL15: 0 | LM15: 0 | LN15: 0 | LO15: 0 | LP15: 0 | LQ15: 0 | LR15: 0 | LS15: 0 | LT15: 0 | LU15: 0 | LV15: 0 | LW15: 0 | LX15: 0 | LY15: 0 | LZ15: 0 | MA15: 0 | MB15: 0 | MC15: 0 | MD15: 0 | ME15: 0 | MF15: 0 | MG15: 0 | MH15: 0 | MI15: 0 | MJ15: 0 | MK15: 0 | ML15: 0 | MM15: 0 | MN15: 0 | MO15: 0 | MP15: 0 | MQ15: 0 | MR15: 0 | MS15: 0 | MT15: 0 | MU15: 0 | MV15: 0 | MW15: 0 | MX15: 0 | MY15: 0 | MZ15: 0 | NA15: 0 | NB15: 0 | NC15: 0 | ND15: 0 | NE15: 0 | NF15: 0 | NG15: 0 | NH15: 0 | NI15: 0 | NJ15: 0 | NK15: 0 | NL15: 0 | NM15: 0 | NN15: 0 | NO15: 0 | NP15: 0 | NQ15: 0 | NR15: 0 | NS15: 0 | NT15: 0 | NU15: 0 | NV15: 0 | NW15: 0 | NX15: 0 | NY15: 0 | NZ15: 0 | OA15: 0 | OB15: 0
A16: 12 | B16: 千 葉 | C16: 0 | D16: 0 | E16: 0 | F16: 0 | G16: 0 | H16: 0 | I16: 0 | J16: 0 | K16: 0 | L16: 0 | M16: 0 | N16: 0 | O16: 0 | P16: 0 | Q16: 0 | R16: 0 | S16: 0 | T16: 0 | U16: 0 | V16: 0 | W16: 0 | X16: 0 | Y16: 0 | Z16: 0 | AA16: 0 | AB16: 0 | AC16: 0 | AD16: 0 | AE16: 0 | AF16: 0 | AG16: 0 | AH16: 0 | AI16: 0 | AJ16: 0 | AK16: 0 | AL16: 0 | AM16: 0 | AN16: 0 | AO16: 0 | AP16: 0 | AQ16: 0 | AR16: 0 | AS16: 0 | AT16: 0 | AU16: 0 | AV16: 0 | AW16: 0 | AX16: 0 | AY16: 0 | AZ16: 0 | BA16: 0 | BB16: 0 | BC16: 0 | BD16: 0 | BE16: 0 | BF16: 0 | BG16: 0 | BH16: 0 | BI16: 0 | BJ16: 0 | BK16: 0 | BL16: 0 | BM16: 0 | BN16: 0 | BO16: 0 | BP16: 0 | BQ16: 0 | BR16: 0 | BS16: 0 | BT16: 0 | BU16: 0 | BV16: 0 | BW16: 0 | BX16: 0 | BY16: 0 | BZ16: 0 | CA16: 0 | CB16: 0 | CC16: 0 | CD16: 0 | CE16: 0 | CF16: 0 | CG16: 0 | CH16: 0 | CI16: 0 | CJ16: 0 | CK16: 0 | CL16: 0 | CM16: 0 | CN16: 0 | CO16: 0 | CP16: 0 | CQ16: 0 | CR16: 0 | CS16: 0 | CT16: 0 | CU16: 0 | CV16: 0 | CW16: 0 | CX16: 0 | CY16: 0 | CZ16: 0 | DA16: 0 | DB16: 0 | DC16: 0 | DD16: 0 | DE16: 0 | DF16: 0 | DG16: 0 | DH16: 0 | DI16: 0 | DJ16: 0 | DK16: 0 | DL16: 0 | DM16: 0 | DN16: 0 | DO16: 0 | DP16: 0 | DQ16: 0 | DR16: 0 | DS16: 0 | DT16: 0 | DU16: 0 | DV16: 0 | DW16: 0 | DX16: 0 | DY16: 0 | DZ16: 0 | EA16: 0 | EB16: 0 | EC16: 0 | ED16: 0 | EE16: 0 | EF16: 0 | EG16: 0 | EH16: 0 | EI16: 0 | EJ16: 0 | EK16: 0 | EL16: 0 | EM16: 0 | EN16: 0 | EO16: 0 | EP16: 0 | EQ16: 0 | ER16: 0 | ES16: 0 | ET16: 0 | EU16: 0 | EV16: 0 | EW16: 0 | EX16: 0 | EY16: 0 | EZ16: 0 | FA16: 0 | FB16: 0 | FC16: 0 | FD16: 0 | FE16: 0 | FF16: 0 | FG16: 0 | FH16: 0 | FI16: 0 | FJ16: 0 | FK16: 0 | FL16: 0 | FM16: 0 | FN16: 0 | FO16: 0 | FP16: 0 | FQ16: 0 | FR16: 0 | FS16: 0 | FT16: 0 | FU16: 0 | FV16: 0 | FW16: 0 | FX16: 0 | FY16: 0 | FZ16: 0 | GA16: 0 | GB16: 0 | GC16: 0 | GD16: 0 | GE16: 0 | GF16: 0 | GG16: 0 | GH16: 0 | GI16: 0 | GJ16: 0 | GK16: 0 | GL16: 0 | GM16: 0 | GN16: 0 | GO16: 0 | GP16: 0 | GQ16: 0 | GR16: 0 | GS16: 0 | GT16: 0 | GU16: 0 | GV16: 0 | GW16: 0 | GX16: 0 | GY16: 0 | GZ16: 0 | HA16: 0 | HB16: 0 | HC16: 0 | HD16: 0 | HE16: 0 | HF16: 0 | HG16: 0 | HH16: 0 | HI16: 0 | HJ16: 0 | HK16: 0 | HL16: 0 | HM16: 0 | HN16: 0 | HO16: 0 | HP16: 0 | HQ16: 0 | HR16: 0 | HS16: 0 | HT16: 0 | HU16: 0 | HV16: 0 | HW16: 0 | HX16: 0 | HY16: 0 | HZ16: 0 | IA16: 0 | IB16: 0 | IC16: 0 | ID16: 0 | IE16: 0 | IF16: 0 | IG16: 0 | IH16: 0 | II16: 0 | IJ16: 0 | IK16: 0 | IL16: 0 | IM16: 0 | IN16: 0 | IO16: 0 | IP16: 0 | IQ16: 0 | IR16: 0 | IS16: 0 | IT16: 0 | IU16: 0 | IV16: 0 | IW16: 0 | IX16: 0 | IY16: 0 | IZ16: 0 | JA16: 0 | JB16: 0 | JC16: 0 | JD16: 0 | JE16: 0 | JF16: 0 | JG16: 0 | JH16: 0 | JI16: 0 | JJ16: 0 | JK16: 0 | JL16: 0 | JM16: 0 | JN16: 0 | JO16: 0 | JP16: 0 | JQ16: 0 | JR16: 0 | JS16: 0 | JT16: 0 | JU16: 0 | JV16: 0 | JW16: 0 | JX16: 0 | JY16: 0 | JZ16: 0 | KA16: 0 | KB16: 0 | KC16: 0 | KD16: 0 | KE16: 0 | KF16: 0 | KG16: 0 | KH16: 0 | KI16: 0 | KJ16: 0 | KK16: 0 | KL16: 0 | KM16: 0 | KN16: 0 | KO16: 0 | KP16: 0 | KQ16: 0 | KR16: 0 | KS16: 0 | KT16: 0 | KU16: 0 | KV16: 0 | KW16: 0 | KX16: 0 | KY16: 0 | KZ16: 0 | LA16: 0 | LB16: 0 | LC16: 0 | LD16: 0 | LE16: 0 | LF16: 0 | LG16: 0 | LH16: 0 | LI16: 0 | LJ16: 0 | LK16: 0 | LL16: 0 | LM16: 0 | LN16: 0 | LO16: 0 | LP16: 0 | LQ16: 0 | LR16: 0 | LS16: 0 | LT16: 0 | LU16: 0 | LV16: 0 | LW16: 0 | LX16: 0 | LY16: 0 | LZ16: 0 | MA16: 0 | MB16: 0 | MC16: 0 | MD16: 0 | ME16: 0 | MF16: 0 | MG16: 0 | MH16: 0 | MI16: 0 | MJ16: 0 | MK16: 0 | ML16: 0 | MM16: 0 | MN16: 0 | MO16: 0 | MP16: 0 | MQ16: 0 | MR16: 0 | MS16: 0 | MT16: 0 | MU16: 0 | MV16: 0 | MW16: 0 | MX16: 0 | MY16: 0 | MZ16: 0 | NA16: 0 | NB16: 0 | NC16: 0 | ND16: 0 | NE16: 0 | NF16: 0 | NG16: 0 | NH16: 0 | NI16: 0 | NJ16: 0 | NK16: 0 | NL16: 0 | NM16: 0 | NN16: 0 | NO16: 0 | NP16: 0 | NQ16: 0 | NR16: 0 | NS16: 0 | NT16: 0 | NU16: 0 | NV16: 0 | NW16: 0 | NX16: 0 | NY16: 0 | NZ16: 0 | OA16: 0 | OB16: 0
A17: 13 | B17: 東 京 | C17: 0 | D17: 0 | E17: 0 | F17: 0 | G17: 0 | H17: 0 | I17: 0 | J17: 0 | K17: 0 | L17: 0 | M17: 0 | N17: 0 | O17: 0 | P17: 0 | Q17: 0 | R17: 0 | S17: 0 | T17: 0 | U17: 0 | V17: 0 | W17: 0 | X17: 0 | Y17: 0 | Z17: 0 | AA17: 0 | AB17: 0 | AC17: 0 | AD17: 0 | AE17: 0 | AF17: 0 | AG17: 0 | AH17: 0 | AI17: 0 | AJ17: 0 | AK17: 0 | AL17: 0 | AM17: 0 | AN17: 0 | AO17: 0 | AP17: 0 | AQ17: 0 | AR17: 0 | AS17: 0 | AT17: 0 | AU17: 0 | AV17: 0 | AW17: 0 | AX17: 0 | AY17: 0 | AZ17: 0 | BA17: 0 | BB17: 0 | BC17: 0 | BD17: 0 | BE17: 0 | BF17: 0 | BG17: 0 | BH17: 0 | BI17: 0 | BJ17: 0 | BK17: 0 | BL17: 0 | BM17: 0 | BN17: 0 | BO17: 0 | BP17: 0 | BQ17: 0 | BR17: 0 | BS17: 0 | BT17: 0 | BU17: 0 | BV17: 0 | BW17: 0 | BX17: 0 | BY17: 0 | BZ17: 0 | CA17: 0 | CB17: 0 | CC17: 0 | CD17: 0 | CE17: 0 | CF17: 0 | CG17: 0 | CH17: 0 | CI17: 0 | CJ17: 0 | CK17: 0 | CL17: 0 | CM17: 0 | CN17: 0 | CO17: 0 | CP17: 0 | CQ17: 0 | CR17: 0 | CS17: 0 | CT17: 0 | CU17: 0 | CV17: 0 | CW17: 0 | CX17: 0 | CY17: 0 | CZ17: 0 | DA17: 0 | DB17: 0 | DC17: 0 | DD17: 0 | DE17: 0 | DF17: 0 | DG17: 0 | DH17: 0 | DI17: 0 | DJ17: 0 | DK17: 0 | DL17: 0 | DM17: 0 | DN17: 0 | DO17: 0 | DP17: 0 | DQ17: 0 | DR17: 0 | DS17: 0 | DT17: 0 | DU17: 0 | DV17: 0 | DW17: 0 | DX17: 0 | DY17: 0 | DZ17: 0 | EA17: 0 | EB17: 0 | EC17: 0 | ED17: 0 | EE17: 0 | EF17: 0 | EG17: 0 | EH17: 0 | EI17: 0 | EJ17: 0 | EK17: 0 | EL17: 0 | EM17: 0 | EN17: 0 | EO17: 0 | EP17: 0 | EQ17: 0 | ER17: 0 | ES17: 0 | ET17: 0 | EU17: 0 | EV17: 0 | EW17: 0 | EX17: 0 | EY17: 0 | EZ17: 0 | FA17: 0 | FB17: 0 | FC17: 0 | FD17: 0 | FE17: 0 | FF17: 0 | FG17: 0 | FH17: 0 | FI17: 0 | FJ17: 0 | FK17: 0 | FL17: 0 | FM17: 0 | FN17: 0 | FO17: 0 | FP17: 0 | FQ17: 0 | FR17: 0 | FS17: 0 | FT17: 0 | FU17: 0 | FV17: 0 | FW17: 0 | FX17: 0 | FY17: 0 | FZ17: 0 | GA17: 0 | GB17: 0 | GC17: 0 | GD17: 0 | GE17: 0 | GF17: 0 | GG17: 0 | GH17: 0 | GI17: 0 | GJ17: 0 | GK17: 0 | GL17: 0 | GM17: 0 | GN17: 0 | GO17: 0 | GP17: 0 | GQ17: 0 | GR17: 0 | GS17: 0 | GT17: 0 | GU17: 0 | GV17: 0 | GW17: 0 | GX17: 0 | GY17: 0 | GZ17: 0 | HA17: 0 | HB17: 0 | HC17: 0 | HD17: 0 | HE17: 0 | HF17: 0 | HG17: 0 | HH17: 0 | HI17: 0 | HJ17: 0 | HK17: 0 | HL17: 0 | HM17: 0 | HN17: 0 | HO17: 0 | HP17: 0 | HQ17: 0 | HR17: 0 | HS17: 0 | HT17: 0 | HU17: 0 | HV17: 0 | HW17: 0 | HX17: 0 | HY17: 0 | HZ17: 0 | IA17: 0 | IB17: 0 | IC17: 0 | ID17: 0 | IE17: 0 | IF17: 0 | IG17: 0 | IH17: 0 | II17: 0 | IJ17: 0 | IK17: 0 | IL17: 0 | IM17: 0 | IN17: 0 | IO17: 0 | IP17: 0 | IQ17: 0 | IR17: 0 | IS17: 0 | IT17: 0 | IU17: 0 | IV17: 0 | IW17: 0 | IX17: 0 | IY17: 0 | IZ17: 0 | JA17: 0 | JB17: 0 | JC17: 0 | JD17: 0 | JE17: 0 | JF17: 0 | JG17: 0 | JH17: 0 | JI17: 0 | JJ17: 0 | JK17: 0 | JL17: 0 | JM17: 0 | JN17: 0 | JO17: 0 | JP17: 0 | JQ17: 0 | JR17: 0 | JS17: 0 | JT17: 0 | JU17: 0 | JV17: 0 | JW17: 0 | JX17: 0 | JY17: 0 | JZ17: 0 | KA17: 0 | KB17: 0 | KC17: 0 | KD17: 0 | KE17: 0 | KF17: 0 | KG17: 0 | KH17: 0 | KI17: 0 | KJ17: 0 | KK17: 0 | KL17: 0 | KM17: 0 | KN17: 0 | KO17: 0 | KP17: 0 | KQ17: 0 | KR17: 0 | KS17: 0 | KT17: 0 | KU17: 0 | KV17: 0 | KW17: 0 | KX17: 0 | KY17: 0 | KZ17: 0 | LA17: 0 | LB17: 0 | LC17: 0 | LD17: 0 | LE17: 0 | LF17: 0 | LG17: 0 | LH17: 0 | LI17: 0 | LJ17: 0 | LK17: 0 | LL17: 0 | LM17: 0 | LN17: 0 | LO17: 0 | LP17: 0 | LQ17: 0 | LR17: 0 | LS17: 0 | LT17: 0 | LU17: 0 | LV17: 0 | LW17: 0 | LX17: 0 | LY17: 0 | LZ17: 0 | MA17: 0 | MB17: 0 | MC17: 0 | MD17: 0 | ME17: 0 | MF17: 0 | MG17: 0 | MH17: 0 | MI17: 0 | MJ17: 0 | MK17: 0 | ML17: 0 | MM17: 0 | MN17: 0 | MO17: 0 | MP17: 0 | MQ17: 0 | MR17: 0 | MS17: 0 | MT17: 0 | MU17: 0 | MV17: 0 | MW17: 0 | MX17: 0 | MY17: 0 | MZ17: 0 | NA17: 0 | NB17: 0 | NC17: 0 | ND17: 0 | NE17: 0 | NF17: 0 | NG17: 0 | NH17: 0 | NI17: 0 | NJ17: 0 | NK17: 0 | NL17: 0 | NM17: 0 | NN17: 0 | NO17: 0 | NP17: 0 | NQ17: 0 | NR17: 0 | NS17: 0 | NT17: 0 | NU17: 0 | NV17: 0 | NW17: 0 | NX17: 0 | NY17: 0 | NZ17: 0 | OA17: 0 | OB17: 0
A18: 14 | B18: 神奈川 | C18: 0 | D18: 0 | E18: 0 | F18: 0 | G18: 0 | H18: 0 | I18: 0 | J18: 0 | K18: 0 | L18: 0 | M18: 0 | N18: 0 | O18: 0 | P18: 0 | Q18: 0 | R18: 0 | S18: 0 | T18: 0 | U18: 0 | V18: 0 | W18: 0 | X18: 0 | Y18: 0 | Z18: 0 | AA18: 0 | AB18: 0 | AC18: 0 | AD18: 0 | AE18: 0 | AF18: 0 | AG18: 0 | AH18: 0 | AI18: 0 | AJ18: 0 | AK18: 0 | AL18: 0 | AM18: 0 | AN18: 0 | AO18: 0 | AP18: 0 | AQ18: 0 | AR18: 0 | AS18: 0 | AT18: 0 | AU18: 0 | AV18: 0 | AW18: 0 | AX18: 0 | AY18: 0 | AZ18: 0 | BA18: 0 | BB18: 0 | BC18: 0 | BD18: 0 | BE18: 0 | BF18: 0 | BG18: 0 | BH18: 0 | BI18: 0 | BJ18: 0 | BK18: 0 | BL18: 0 | BM18: 0 | BN18: 0 | BO18: 0 | BP18: 0 | BQ18: 0 | BR18: 0 | BS18: 0 | BT18: 0 | BU18: 0 | BV18: 0 | BW18: 0 | BX18: 0 | BY18: 0 | BZ18: 0 | CA18: 0 | CB18: 0 | CC18: 0 | CD18: 0 | CE18: 0 | CF18: 0 | CG18: 0 | CH18: 0 | CI18: 0 | CJ18: 0 | CK18: 0 | CL18: 0 | CM18: 0 | CN18: 0 | CO18: 0 | CP18: 0 | CQ18: 0 | CR18: 0 | CS18: 0 | CT18: 0 | CU18: 0 | CV18: 0 | CW18: 0 | CX18: 0 | CY18: 0 | CZ18: 0 | DA18: 0 | DB18: 0 | DC18: 0 | DD18: 0 | DE18: 0 | DF18: 0 | DG18: 0 | DH18: 0 | DI18: 0 | DJ18: 0 | DK18: 0 | DL18: 0 | DM18: 0 | DN18: 0 | DO18: 0 | DP18: 0 | DQ18: 0 | DR18: 0 | DS18: 0 | DT18: 0 | DU18: 0 | DV18: 0 | DW18: 0 | DX18: 0 | DY18: 0 | DZ18: 0 | EA18: 0 | EB18: 0 | EC18: 0 | ED18: 0 | EE18: 0 | EF18: 0 | EG18: 0 | EH18: 0 | EI18: 0 | EJ18: 0 | EK18: 0 | EL18: 0 | EM18: 0 | EN18: 0 | EO18: 0 | EP18: 0 | EQ18: 0 | ER18: 0 | ES18: 0 | ET18: 0 | EU18: 0 | EV18: 0 | EW18: 0 | EX18: 0 | EY18: 0 | EZ18: 0 | FA18: 0 | FB18: 0 | FC18: 0 | FD18: 0 | FE18: 0 | FF18: 0 | FG18: 0 | FH18: 0 | FI18: 0 | FJ18: 0 | FK18: 0 | FL18: 0 | FM18: 0 | FN18: 0 | FO18: 0 | FP18: 0 | FQ18: 0 | FR18: 0 | FS18: 0 | FT18: 0 | FU18: 0 | FV18: 0 | FW18: 0 | FX18: 0 | FY18: 0 | FZ18: 0 | GA18: 0 | GB18: 0 | GC18: 0 | GD18: 0 | GE18: 0 | GF18: 0 | GG18: 0 | GH18: 0 | GI18: 0 | GJ18: 0 | GK18: 0 | GL18: 0 | GM18: 0 | GN18: 0 | GO18: 0 | GP18: 0 | GQ18: 0 | GR18: 0 | GS18: 0 | GT18: 0 | GU18: 0 | GV18: 0 | GW18: 0 | GX18: 0 | GY18: 0 | GZ18: 0 | HA18: 0 | HB18: 0 | HC18: 0 | HD18: 0 | HE18: 0 | HF18: 0 | HG18: 0 | HH18: 0 | HI18: 0 | HJ18: 0 | HK18: 0 | HL18: 0 | HM18: 0 | HN18: 0 | HO18: 0 | HP18: 0 | HQ18: 0 | HR18: 0 | HS18: 0 | HT18: 0 | HU18: 0 | HV18: 0 | HW18: 0 | HX18: 0 | HY18: 0 | HZ18: 0 | IA18: 0 | IB18: 0 | IC18: 0 | ID18: 0 | IE18: 0 | IF18: 0 | IG18: 0 | IH18: 0 | II18: 0 | IJ18: 0 | IK18: 0 | IL18: 0 | IM18: 0 | IN18: 0 | IO18: 0 | IP18: 0 | IQ18: 0 | IR18: 0 | IS18: 0 | IT18: 0 | IU18: 0 | IV18: 0 | IW18: 0 | IX18: 0 | IY18: 0 | IZ18: 0 | JA18: 0 | JB18: 0 | JC18: 0 | JD18: 0 | JE18: 0 | JF18: 0 | JG18: 0 | JH18: 0 | JI18: 0 | JJ18: 0 | JK18: 0 | JL18: 0 | JM18: 0 | JN18: 0 | JO18: 0 | JP18: 0 | JQ18: 0 | JR18: 0 | JS18: 0 | JT18: 0 | JU18: 0 | JV18: 0 | JW18: 0 | JX18: 0 | JY18: 0 | JZ18: 0 | KA18: 0 | KB18: 0 | KC18: 0 | KD18: 0 | KE18: 0 | KF18: 0 | KG18: 0 | KH18: 0 | KI18: 0 | KJ18: 0 | KK18: 0 | KL18: 0 | KM18: 0 | KN18: 0 | KO18: 0 | KP18: 0 | KQ18: 0 | KR18: 0 | KS18: 0 | KT18: 0 | KU18: 0 | KV18: 0 | KW18: 0 | KX18: 0 | KY18: 0 | KZ18: 0 | LA18: 0 | LB18: 0 | LC18: 0 | LD18: 0 | LE18: 0 | LF18: 0 | LG18: 0 | LH18: 0 | LI18: 0 | LJ18: 0 | LK18: 0 | LL18: 0 | LM18: 0 | LN18: 0 | LO18: 0 | LP18: 0 | LQ18: 0 | LR18: 0 | LS18: 0 | LT18: 0 | LU18: 0 | LV18: 0 | LW18: 0 | LX18: 0 | LY18: 0 | LZ18: 0 | MA18: 0 | MB18: 0 | MC18: 0 | MD18: 0 | ME18: 0 | MF18: 0 | MG18: 0 | MH18: 0 | MI18: 0 | MJ18: 0 | MK18: 0 | ML18: 0 | MM18: 0 | MN18: 0 | MO18: 0 | MP18: 0 | MQ18: 0 | MR18: 0 | MS18: 0 | MT18: 0 | MU18: 0 | MV18: 0 | MW18: 0 | MX18: 0 | MY18: 0 | MZ18: 0 | NA18: 0 | NB18: 0 | NC18: 0 | ND18: 0 | NE18: 0 | NF18: 0 | NG18: 0 | NH18: 0 | NI18: 0 | NJ18: 0 | NK18: 0 | NL18: 0 | NM18: 0 | NN18: 0 | NO18: 0 | NP18: 0 | NQ18: 0 | NR18: 0 | NS18: 0 | NT18: 0 | NU18: 0 | NV18: 0 | NW18: 0 | NX18: 0 | NY18: 0 | NZ18: 0 | OA18: 0 | OB18: 0
A19: 15 | B19: 新 潟 | C19: 0 | D19: 0 | E19: 0 | F19: 0 | G19: 0 | H19: 0 | I19: 0 | J19: 0 | K19: 0 | L19: 0 | M19: 0 | N19: 0 | O19: 0 | P19: 0 | Q19: 0 | R19: 0 | S19: 0 | T19: 0 | U19: 0 | V19: 0 | W19: 0 | X19: 0 | Y19: 0 | Z19: 0 | AA19: 0 | AB19: 0 | AC19: 0 | AD19: 0 | AE19: 0 | AF19: 0 | AG19: 0 | AH19: 0 | AI19: 0 | AJ19: 0 | AK19: 0 | AL19: 0 | AM19: 0 | AN19: 0 | AO19: 0 | AP19: 0 | AQ19: 0 | AR19: 0 | AS19: 0 | AT19: 0 | AU19: 0 | AV19: 0 | AW19: 0 | AX19: 0 | AY19: 0 | AZ19: 0 | BA19: 0 | BB19: 0 | BC19: 0 | BD19: 0 | BE19: 0 | BF19: 0 | BG19: 0 | BH19: 0 | BI19: 0 | BJ19: 0 | BK19: 0 | BL19: 0 | BM19: 0 | BN19: 0 | BO19: 0 | BP19: 0 | BQ19: 0 | BR19: 0 | BS19: 0 | BT19: 0 | BU19: 0 | BV19: 0 | BW19: 0 | BX19: 0 | BY19: 0 | BZ19: 0 | CA19: 0 | CB19: 0 | CC19: 0 | CD19: 0 | CE19: 0 | CF19: 0 | CG19: 0 | CH19: 0 | CI19: 0 | CJ19: 0 | CK19: 0 | CL19: 0 | CM19: 0 | CN19: 0 | CO19: 0 | CP19: 0 | CQ19: 0 | CR19: 0 | CS19: 0 | CT19: 0 | CU19: 0 | CV19: 0 | CW19: 0 | CX19: 0 | CY19: 0 | CZ19: 0 | DA19: 0 | DB19: 0 | DC19: 0 | DD19: 0 | DE19: 0 | DF19: 0 | DG19: 0 | DH19: 0 | DI19: 0 | DJ19: 0 | DK19: 0 | DL19: 0 | DM19: 0 | DN19: 0 | DO19: 0 | DP19: 0 | DQ19: 0 | DR19: 0 | DS19: 0 | DT19: 0 | DU19: 0 | DV19: 0 | DW19: 0 | DX19: 0 | DY19: 0 | DZ19: 0 | EA19: 0 | EB19: 0 | EC19: 0 | ED19: 0 | EE19: 0 | EF19: 0 | EG19: 0 | EH19: 0 | EI19: 0 | EJ19: 0 | EK19: 0 | EL19: 0 | EM19: 0 | EN19: 0 | EO19: 0 | EP19: 0 | EQ19: 0 | ER19: 0 | ES19: 0 | ET19: 0 | EU19: 0 | EV19: 0 | EW19: 0 | EX19: 0 | EY19: 0 | EZ19: 0 | FA19: 0 | FB19: 0 | FC19: 0 | FD19: 0 | FE19: 0 | FF19: 0 | FG19: 0 | FH19: 0 | FI19: 0 | FJ19: 0 | FK19: 0 | FL19: 0 | FM19: 0 | FN19: 0 | FO19: 0 | FP19: 0 | FQ19: 0 | FR19: 0 | FS19: 0 | FT19: 0 | FU19: 0 | FV19: 0 | FW19: 0 | FX19: 0 | FY19: 0 | FZ19: 0 | GA19: 0 | GB19: 0 | GC19: 0 | GD19: 0 | GE19: 0 | GF19: 0 | GG19: 0 | GH19: 0 | GI19: 0 | GJ19: 0 | GK19: 0 | GL19: 0 | GM19: 0 | GN19: 0 | GO19: 0 | GP19: 0 | GQ19: 0 | GR19: 0 | GS19: 0 | GT19: 0 | GU19: 0 | GV19: 0 | GW19: 0 | GX19: 0 | GY19: 0 | GZ19: 0 | HA19: 0 | HB19: 0 | HC19: 0 | HD19: 0 | HE19: 0 | HF19: 0 | HG19: 0 | HH19: 0 | HI19: 0 | HJ19: 0 | HK19: 0 | HL19: 0 | HM19: 0 | HN19: 0 | HO19: 0 | HP19: 0 | HQ19: 0 | HR19: 0 | HS19: 0 | HT19: 0 | HU19: 0 | HV19: 0 | HW19: 0 | HX19: 0 | HY19: 0 | HZ19: 0 | IA19: 0 | IB19: 0 | IC19: 0 | ID19: 0 | IE19: 0 | IF19: 0 | IG19: 0 | IH19: 0 | II19: 0 | IJ19: 0 | IK19: 0 | IL19: 0 | IM19: 0 | IN19: 0 | IO19: 0 | IP19: 0 | IQ19: 0 | IR19: 0 | IS19: 0 | IT19: 0 | IU19: 0 | IV19: 0 | IW19: 0 | IX19: 0 | IY19: 0 | IZ19: 0 | JA19: 0 | JB19: 0 | JC19: 0 | JD19: 0 | JE19: 0 | JF19: 0 | JG19: 0 | JH19: 0 | JI19: 0 | JJ19: 0 | JK19: 0 | JL19: 0 | JM19: 0 | JN19: 0 | JO19: 0 | JP19: 0 | JQ19: 0 | JR19: 0 | JS19: 0 | JT19: 0 | JU19: 0 | JV19: 0 | JW19: 0 | JX19: 0 | JY19: 0 | JZ19: 0 | KA19: 0 | KB19: 0 | KC19: 0 | KD19: 0 | KE19: 0 | KF19: 0 | KG19: 0 | KH19: 0 | KI19: 0 | KJ19: 0 | KK19: 0 | KL19: 0 | KM19: 0 | KN19: 0 | KO19: 0 | KP19: 0 | KQ19: 0 | KR19: 0 | KS19: 0 | KT19: 0 | KU19: 0 | KV19: 0 | KW19: 0 | KX19: 0 | KY19: 0 | KZ19: 0 | LA19: 0 | LB19: 0 | LC19: 0 | LD19: 0 | LE19: 0 | LF19: 0 | LG19: 0 | LH19: 0 | LI19: 0 | LJ19: 0 | LK19: 0 | LL19: 0 | LM19: 0 | LN19: 0 | LO19: 0 | LP19: 0 | LQ19: 0 | LR19: 0 | LS19: 0 | LT19: 0 | LU19: 0 | LV19: 0 | LW19: 0 | LX19: 0 | LY19: 0 | LZ19: 0 | MA19: 0 | MB19: 0 | MC19: 0 | MD19: 0 | ME19: 0 | MF19: 0 | MG19: 0 | MH19: 0 | MI19: 0 | MJ19: 0 | MK19: 0 | ML19: 0 | MM19: 0 | MN19: 0 | MO19: 0 | MP19: 0 | MQ19: 0 | MR19: 0 | MS19: 0 | MT19: 0 | MU19: 0 | MV19: 0 | MW19: 0 | MX19: 0 | MY19: 0 | MZ19: 0 | NA19: 0 | NB19: 0 | NC19: 0 | ND19: 0 | NE19: 0 | NF19: 0 | NG19: 0 | NH19: 0 | NI19: 0 | NJ19: 0 | NK19: 0 | NL19: 0 | NM19: 0 | NN19: 0 | NO19: 0 | NP19: 0 | NQ19: 0 | NR19: 0 | NS19: 0 | NT19: 0 | NU19: 0 | NV19: 0 | NW19: 0 | NX19: 0 | NY19: 0 | NZ19: 0 | OA19: 0 | OB19: 0
A20: 16 | B20: 富 山 | C20: 0 | D20: 0 | E20: 0 | F20: 0 | G20: 0 | H20: 0 | I20: 0 | J20: 0 | K20: 0 | L20: 0 | M20: 0 | N20: 0 | O20: 0 | P20: 0 | Q20: 0 | R20: 0 | S20: 0 | T20: 0 | U20: 0 | V20: 0 | W20: 0 | X20: 0 | Y20: 0 | Z20: 0 | AA20: 0 | AB20: 0 | AC20: 0 | AD20: 0 | AE20: 0 | AF20: 0 | AG20: 0 | AH20: 0 | AI20: 0 | AJ20: 0 | AK20: 0 | AL20: 0 | AM20: 0 | AN20: 0 | AO20: 0 | AP20: 0 | AQ20: 0 | AR20: 0 | AS20: 0 | AT20: 0 | AU20: 0 | AV20: 0 | AW20: 0 | AX20: 0 | AY20: 0 | AZ20: 0 | BA20: 0 | BB20: 0 | BC20: 0 | BD20: 0 | BE20: 0 | BF20: 0 | BG20: 0 | BH20: 0 | BI20: 0 | BJ20: 0 | BK20: 0 | BL20: 0 | BM20: 0 | BN20: 0 | BO20: 0 | BP20: 0 | BQ20: 0 | BR20: 0 | BS20: 0 | BT20: 0 | BU20: 0 | BV20: 0 | BW20: 0 | BX20: 0 | BY20: 0 | BZ20: 0 | CA20: 0 | CB20: 0 | CC20: 0 | CD20: 0 | CE20: 0 | CF20: 0 | CG20: 0 | CH20: 0 | CI20: 0 | CJ20: 0 | CK20: 0 | CL20: 0 | CM20: 0 | CN20: 0 | CO20: 0 | CP20: 0 | CQ20: 0 | CR20: 0 | CS20: 0 | CT20: 0 | CU20: 0 | CV20: 0 | CW20: 0 | CX20: 0 | CY20: 0 | CZ20: 0 | DA20: 0 | DB20: 0 | DC20: 0 | DD20: 0 | DE20: 0 | DF20: 0 | DG20: 0 | DH20: 0 | DI20: 0 | DJ20: 0 | DK20: 0 | DL20: 0 | DM20: 0 | DN20: 0 | DO20: 0 | DP20: 0 | DQ20: 0 | DR20: 0 | DS20: 0 | DT20: 0 | DU20: 0 | DV20: 0 | DW20: 0 | DX20: 0 | DY20: 0 | DZ20: 0 | EA20: 0 | EB20: 0 | EC20: 0 | ED20: 0 | EE20: 0 | EF20: 0 | EG20: 0 | EH20: 0 | EI20: 0 | EJ20: 0 | EK20: 0 | EL20: 0 | EM20: 0 | EN20: 0 | EO20: 0 | EP20: 0 | EQ20: 0 | ER20: 0 | ES20: 0 | ET20: 0 | EU20: 0 | EV20: 0 | EW20: 0 | EX20: 0 | EY20: 0 | EZ20: 0 | FA20: 0 | FB20: 0 | FC20: 0 | FD20: 0 | FE20: 0 | FF20: 0 | FG20: 0 | FH20: 0 | FI20: 0 | FJ20: 0 | FK20: 0 | FL20: 0 | FM20: 0 | FN20: 0 | FO20: 0 | FP20: 0 | FQ20: 0 | FR20: 0 | FS20: 0 | FT20: 0 | FU20: 0 | FV20: 0 | FW20: 0 | FX20: 0 | FY20: 0 | FZ20: 0 | GA20: 0 | GB20: 0 | GC20: 0 | GD20: 0 | GE20: 0 | GF20: 0 | GG20: 0 | GH20: 0 | GI20: 0 | GJ20: 0 | GK20: 0 | GL20: 0 | GM20: 0 | GN20: 0 | GO20: 0 | GP20: 0 | GQ20: 0 | GR20: 0 | GS20: 0 | GT20: 0 | GU20: 0 | GV20: 0 | GW20: 0 | GX20: 0 | GY20: 0 | GZ20: 0 | HA20: 0 | HB20: 0 | HC20: 0 | HD20: 0 | HE20: 0 | HF20: 0 | HG20: 0 | HH20: 0 | HI20: 0 | HJ20: 0 | HK20: 0 | HL20: 0 | HM20: 0 | HN20: 0 | HO20: 0 | HP20: 0 | HQ20: 0 | HR20: 0 | HS20: 0 | HT20: 0 | HU20: 0 | HV20: 0 | HW20: 0 | HX20: 0 | HY20: 0 | HZ20: 0 | IA20: 0 | IB20: 0 | IC20: 0 | ID20: 0 | IE20: 0 | IF20: 0 | IG20: 0 | IH20: 0 | II20: 0 | IJ20: 0 | IK20: 0 | IL20: 0 | IM20: 0 | IN20: 0 | IO20: 0 | IP20: 0 | IQ20: 0 | IR20: 0 | IS20: 0 | IT20: 0 | IU20: 0 | IV20: 0 | IW20: 0 | IX20: 0 | IY20: 0 | IZ20: 0 | JA20: 0 | JB20: 0 | JC20: 0 | JD20: 0 | JE20: 0 | JF20: 0 | JG20: 0 | JH20: 0 | JI20: 0 | JJ20: 0 | JK20: 0 | JL20: 0 | JM20: 0 | JN20: 0 | JO20: 0 | JP20: 0 | JQ20: 0 | JR20: 0 | JS20: 0 | JT20: 0 | JU20: 0 | JV20: 0 | JW20: 0 | JX20: 0 | JY20: 0 | JZ20: 0 | KA20: 0 | KB20: 0 | KC20: 0 | KD20: 0 | KE20: 0 | KF20: 0 | KG20: 0 | KH20: 0 | KI20: 0 | KJ20: 0 | KK20: 0 | KL20: 0 | KM20: 0 | KN20: 0 | KO20: 0 | KP20: 0 | KQ20: 0 | KR20: 0 | KS20: 0 | KT20: 0 | KU20: 0 | KV20: 0 | KW20: 0 | KX20: 0 | KY20: 0 | KZ20: 0 | LA20: 0 | LB20: 0 | LC20: 0 | LD20: 0 | LE20: 0 | LF20: 0 | LG20: 0 | LH20: 0 | LI20: 0 | LJ20: 0 | LK20: 0 | LL20: 0 | LM20: 0 | LN20: 0 | LO20: 0 | LP20: 0 | LQ20: 0 | LR20: 0 | LS20: 0 | LT20: 0 | LU20: 0 | LV20: 0 | LW20: 0 | LX20: 0 | LY20: 0 | LZ20: 0 | MA20: 0 | MB20: 0 | MC20: 0 | MD20: 0 | ME20: 0 | MF20: 0 | MG20: 0 | MH20: 0 | MI20: 0 | MJ20: 0 | MK20: 0 | ML20: 0 | MM20: 0 | MN20: 0 | MO20: 0 | MP20: 0 | MQ20: 0 | MR20: 0 | MS20: 0 | MT20: 0 | MU20: 0 | MV20: 0 | MW20: 0 | MX20: 0 | MY20: 0 | MZ20: 0 | NA20: 0 | NB20: 0 | NC20: 0 | ND20: 0 | NE20: 0 | NF20: 0 | NG20: 0 | NH20: 0 | NI20: 0 | NJ20: 0 | NK20: 0 | NL20: 0 | NM20: 0 | NN20: 0 | NO20: 0 | NP20: 0 | NQ20: 0 | NR20: 0 | NS20: 0 | NT20: 0 | NU20: 0 | NV20: 0 | NW20: 0 | NX20: 0 | NY20: 0 | NZ20: 0 | OA20: 0 | OB20: 0
... A51: 47 | B51: 沖 縄 | C51: 0 | D51: 0 | E51: 0 | F51: 0 | G51: 0 | H51: 0 | I51: 0 | J51: 0 | K51: 0 | L51: 0 | M51: 0 | N51: 0 | O51: 0 | P51: 0 | Q51: 0 | R51: 0 | S51: 0 | T51: 0 | U51: 0 | V51: 0 | W51: 0 | X51: 0 | Y51: 0 | Z51: 0 | AA51: 0 | AB51: 0 | AC51: 0 | AD51: 0 | AE51: 0 | AF51: 0 | AG51: 0 | AH51: 0 | AI51: 0 | AJ51: 0 | AK51: 0 | AL51: 0 | AM51: 0 | AN51: 0 | AO51: 0 | AP51: 0 | AQ51: 0 | AR51: 0 | AS51: 0 | AT51: 0 | AU51: 0 | AV51: 0 | AW51: 0 | AX51: 0 | AY51: 0 | AZ51: 0 | BA51: 0 | BB51: 0 | BC51: 0 | BD51: 0 | BE51: 0 | BF51: 0 | BG51: 0 | BH51: 0 | BI51: 0 | BJ51: 0 | BK51: 0 | BL51: 0 | BM51: 0 | BN51: 0 | BO51: 0 | BP51: 0 | BQ51: 0 | BR51: 0 | BS51: 0 | BT51: 0 | BU51: 0 | BV51: 0 | BW51: 0 | BX51: 0 | BY51: 0 | BZ51: 0 | CA51: 0 | CB51: 0 | CC51: 0 | CD51: 0 | CE51: 0 | CF51: 0 | CG51: 0 | CH51: 0 | CI51: 0 | CJ51: 0 | CK51: 0 | CL51: 0 | CM51: 0 | CN51: 0 | CO51: 0 | CP51: 0 | CQ51: 0 | CR51: 0 | CS51: 0 | CT51: 0 | CU51: 0 | CV51: 0 | CW51: 0 | CX51: 0 | CY51: 0 | CZ51: 0 | DA51: 0 | DB51: 0 | DC51: 0 | DD51: 0 | DE51: 0 | DF51: 0 | DG51: 0 | DH51: 0 | DI51: 0 | DJ51: 0 | DK51: 0 | DL51: 0 | DM51: 0 | DN51: 0 | DO51: 0 | DP51: 0 | DQ51: 0 | DR51: 0 | DS51: 0 | DT51: 0 | DU51: 0 | DV51: 0 | DW51: 0 | DX51: 0 | DY51: 0 | DZ51: 0 | EA51: 0 | EB51: 0 | EC51: 0 | ED51: 0 | EE51: 0 | EF51: 0 | EG51: 0 | EH51: 0 | EI51: 0 | EJ51: 0 | EK51: 0 | EL51: 0 | EM51: 0 | EN51: 0 | EO51: 0 | EP51: 0 | EQ51: 0 | ER51: 0 | ES51: 0 | ET51: 0 | EU51: 0 | EV51: 0 | EW51: 0 | EX51: 0 | EY51: 0 | EZ51: 0 | FA51: 0 | FB51: 0 | FC51: 0 | FD51: 0 | FE51: 0 | FF51: 0 | FG51: 0 | FH51: 0 | FI51: 0 | FJ51: 0 | FK51: 0 | FL51: 0 | FM51: 0 | FN51: 0 | FO51: 0 | FP51: 0 | FQ51: 0 | FR51: 0 | FS51: 0 | FT51: 0 | FU51: 0 | FV51: 0 | FW51: 0 | FX51: 0 | FY51: 0 | FZ51: 0 | GA51: 0 | GB51: 0 | GC51: 0 | GD51: 0 | GE51: 0 | GF51: 0 | GG51: 0 | GH51: 0 | GI51: 0 | GJ51: 0 | GK51: 0 | GL51: 0 | GM51: 0 | GN51: 0 | GO51: 0 | GP51: 0 | GQ51: 0 | GR51: 0 | GS51: 0 | GT51: 0 | GU51: 0 | GV51: 0 | GW51: 0 | GX51: 0 | GY51: 0 | GZ51: 0 | HA51: 0 | HB51: 0 | HC51: 0 | HD51: 0 | HE51: 0 | HF51: 1 | HG51: 2 | HH51: 0 | HI51: 0 | HJ51: 0 | HK51: 0 | HL51: 0 | HM51: 0 | HN51: 0 | HO51: 0 | HP51: 0 | HQ51: 0 | HR51: 0 | HS51: 0 | HT51: 0 | HU51: 0 | HV51: 0 | HW51: 0 | HX51: 0 | HY51: 0 | HZ51: 0 | IA51: 0 | IB51: 0 | IC51: 0 | ID51: 0 | IE51: 0 | IF51: 0 | IG51: 0 | IH51: 0 | II51: 0 | IJ51: 0 | IK51: 0 | IL51: 0 | IM51: 0 | IN51: 0 | IO51: 0 | IP51: 0 | IQ51: 0 | IR51: 0 | IS51: 0 | IT51: 0 | IU51: 0 | IV51: 0 | IW51: 0 | IX51: 0 | IY51: 0 | IZ51: 0 | JA51: 0 | JB51: 0 | JC51: 0 | JD51: 0 | JE51: 0 | JF51: 0 | JG51: 0 | JH51: 0 | JI51: 0 | JJ51: 0 | JK51: 0 | JL51: 0 | JM51: 0 | JN51: 0 | JO51: 0 | JP51: 0 | JQ51: 0 | JR51: 0 | JS51: 0 | JT51: 0 | JU51: 0 | JV51: 0 | JW51: 0 | JX51: 0 | JY51: 0 | JZ51: 0 | KA51: 0 | KB51: 0 | KC51: 0 | KD51: 0 | KE51: 0 | KF51: 0 | KG51: 0 | KH51: 0 | KI51: 0 | KJ51: 0 | KK51: 0 | KL51: 0 | KM51: 0 | KN51: 0 | KO51: 0 | KP51: 0 | KQ51: 0 | KR51: 0 | KS51: 0 | KT51: 0 | KU51: 0 | KV51: 0 | KW51: 0 | KX51: 0 | KY51: 0 | KZ51: 0 | LA51: 0 | LB51: 0 | LC51: 0 | LD51: 0 | LE51: 0 | LF51: 0 | LG51: 0 | LH51: 0 | LI51: 0 | LJ51: 0 | LK51: 0 | LL51: 0 | LM51: 0 | LN51: 0 | LO51: 0 | LP51: 0 | LQ51: 0 | LR51: 0 | LS51: 0 | LT51: 0 | LU51: 0 | LV51: 0 | LW51: 0 | LX51: 0 | LY51: 0 | LZ51: 0 | MA51: 0 | MB51: 0 | MC51: 0 | MD51: 0 | ME51: 0 | MF51: 0 | MG51: 0 | MH51: 0 | MI51: 0 | MJ51: 0 | MK51: 0 | ML51: 0 | MM51: 0 | MN51: 0 | MO51: 0 | MP51: 0 | MQ51: 0 | MR51: 0 | MS51: 0 | MT51: 0 | MU51: 0 | MV51: 0 | MW51: 0 | MX51: 0 | MY51: 0 | MZ51: 0 | NA51: 0 | NB51: 0 | NC51: 0 | ND51: 0 | NE51: 0 | NF51: 0 | NG51: 0 | NH51: 0 | NI51: 0 | NJ51: 0 | NK51: 0 | NL51: 0 | NM51: 0 | NN51: 0 | NO51: 0 | NP51: 0 | NQ51: 0 | NR51: 0 | NS51: 0 | NT51: 0 | NU51: 0 | NV51: 0 | NW51: 0 | NX51: 0 | NY51: 0 | NZ51: 0 | OA51: 0 | OB51: 0
A52: 合 計 | C52: 0 | D52: 0 | E52: 0 | F52: 0 | G52: 0 | H52: 0 | I52: 0 | J52: 0 | K52: 0 | L52: 0 | M52: 0 | N52: 0 | O52: 0 | P52: 0 | Q52: 0 | R52: 0 | S52: 0 | T52: 0 | U52: 0 | V52: 0 | W52: 0 | X52: 0 | Y52: 0 | Z52: 0 | AA52: 0 | AB52: 0 | AC52: 0 | AD52: 0 | AE52: 0 | AF52: 0 | AG52: 0 | AH52: 0 | AI52: 0 | AJ52: 0 | AK52: 0 | AL52: 0 | AM52: 0 | AN52: 0 | AO52: 0 | AP52: 0 | AQ52: 0 | AR52: 0 | AS52: 0 | AT52: 0 | AU52: 0 | AV52: 0 | AW52: 0 | AX52: 0 | AY52: 0 | AZ52: 0 | BA52: 0 | BB52: 0 | BC52: 0 | BD52: 0 | BE52: 0 | BF52: 0 | BG52: 0 | BH52: 0 | BI52: 0 | BJ52: 0 | BK52: 0 | BL52: 0 | BM52: 0 | BN52: 0 | BO52: 0 | BP52: 0 | BQ52: 0 | BR52: 0 | BS52: 0 | BT52: 0 | BU52: 0 | BV52: 0 | BW52: 0 | BX52: 0 | BY52: 0 | BZ52: 0 | CA52: 0 | CB52: 0 | CC52: 0 | CD52: 0 | CE52: 0 | CF52: 0 | CG52: 0 | CH52: 0 | CI52: 0 | CJ52: 0 | CK52: 0 | CL52: 0 | CM52: 0 | CN52: 0 | CO52: 0 | CP52: 0 | CQ52: 0 | CR52: 0 | CS52: 0 | CT52: 0 | CU52: 0 | CV52: 0 | CW52: 0 | CX52: 0 | CY52: 0 | CZ52: 0 | DA52: 0 | DB52: 0 | DC52: 0 | DD52: 0 | DE52: 0 | DF52: 0 | DG52: 0 | DH52: 0 | DI52: 0 | DJ52: 0 | DK52: 0 | DL52: 0 | DM52: 0 | DN52: 0 | DO52: 0 | DP52: 0 | DQ52: 0 | DR52: 0 | DS52: 0 | DT52: 0 | DU52: 0 | DV52: 0 | DW52: 0 | DX52: 0 | DY52: 0 | DZ52: 0 | EA52: 0 | EB52: 0 | EC52: 0 | ED52: 0 | EE52: 0 | EF52: 0 | EG52: 0 | EH52: 0 | EI52: 0 | EJ52: 0 | EK52: 0 | EL52: 0 | EM52: 0 | EN52: 0 | EO52: 0 | EP52: 0 | EQ52: 0 | ER52: 0 | ES52: 0 | ET52: 0 | EU52: 0 | EV52: 0 | EW52: 0 | EX52: 0 | EY52: 0 | EZ52: 0 | FA52: 0 | FB52: 0 | FC52: 0 | FD52: 0 | FE52: 0 | FF52: 0 | FG52: 0 | FH52: 0 | FI52: 0 | FJ52: 0 | FK52: 0 | FL52: 0 | FM52: 0 | FN52: 0 | FO52: 0 | FP52: 0 | FQ52: 0 | FR52: 0 | FS52: 0 | FT52: 0 | FU52: 0 | FV52: 0 | FW52: 0 | FX52: 0 | FY52: 0 | FZ52: 0 | GA52: 0 | GB52: 0 | GC52: 0 | GD52: 0 | GE52: 0 | GF52: 0 | GG52: 0 | GH52: 0 | GI52: 0 | GJ52: 0 | GK52: 0 | GL52: 0 | GM52: 0 | GN52: 0 | GO52: 0 | GP52: 0 | GQ52: 0 | GR52: 0 | GS52: 0 | GT52: 0 | GU52: 0 | GV52: 0 | GW52: 0 | GX52: 0 | GY52: 0 | GZ52: 0 | HA52: 0 | HB52: 0 | HC52: 0 | HD52: 0 | HE52: 1 | HF52: 47 | HG52: 105 | HH52: 0 | HI52: 0 | HJ52: 0 | HK52: 0 | HL52: 0 | HM52: 0 | HN52: 0 | HO52: 0 | HP52: 0 | HQ52: 0 | HR52: 0 | HS52: 0 | HT52: 0 | HU52: 0 | HV52: 0 | HW52: 0 | HX52: 0 | HY52: 0 | HZ52: 0 | IA52: 0 | IB52: 0 | IC52: 0 | ID52: 0 | IE52: 0 | IF52: 0 | IG52: 0 | IH52: 0 | II52: 0 | IJ52: 0 | IK52: 0 | IL52: 0 | IM52: 0 | IN52: 0 | IO52: 0 | IP52: 0 | IQ52: 0 | IR52: 0 | IS52: 0 | IT52: 0 | IU52: 0 | IV52: 0 | IW52: 0 | IX52: 0 | IY52: 0 | IZ52: 0 | JA52: 0 | JB52: 0 | JC52: 0 | JD52: 0 | JE52: 0 | JF52: 0 | JG52: 0 | JH52: 0 | JI52: 0 | JJ52: 0 | JK52: 0 | JL52: 0 | JM52: 0 | JN52: 0 | JO52: 0 | JP52: 0 | JQ52: 0 | JR52: 0 | JS52: 0 | JT52: 0 | JU52: 0 | JV52: 0 | JW52: 0 | JX52: 0 | JY52: 0 | JZ52: 0 | KA52: 0 | KB52: 0 | KC52: 0 | KD52: 0 | KE52: 0 | KF52: 0 | KG52: 0 | KH52: 0 | KI52: 0 | KJ52: 0 | KK52: 0 | KL52: 0 | KM52: 0 | KN52: 0 | KO52: 0 | KP52: 0 | KQ52: 0 | KR52: 0 | KS52: 0 | KT52: 0 | KU52: 0 | KV52: 0 | KW52: 0 | KX52: 0 | KY52: 0 | KZ52: 0 | LA52: 0 | LB52: 0 | LC52: 0 | LD52: 0 | LE52: 0 | LF52: 0 | LG52: 0 | LH52: 0 | LI52: 0 | LJ52: 0 | LK52: 0 | LL52: 0 | LM52: 0 | LN52: 0 | LO52: 0 | LP52: 0 | LQ52: 0 | LR52: 0 | LS52: 0 | LT52: 0 | LU52: 0 | LV52: 0 | LW52: 0 | LX52: 0 | LY52: 0 | LZ52: 0 | MA52: 0 | MB52: 0 | MC52: 0 | MD52: 0 | ME52: 0 | MF52: 0 | MG52: 0 | MH52: 0 | MI52: 0 | MJ52: 0 | MK52: 0 | ML52: 0 | MM52: 0 | MN52: 0 | MO52: 0 | MP52: 0 | MQ52: 0 | MR52: 0 | MS52: 0 | MT52: 0 | MU52: 0 | MV52: 0 | MW52: 0 | MX52: 0 | MY52: 0 | MZ52: 0 | NA52: 0 | NB52: 0 | NC52: 0 | ND52: 0 | NE52: 0 | NF52: 0 | NG52: 0 | NH52: 0 | NI52: 0 | NJ52: 0 | NK52: 0 | NL52: 0 | NM52: 0 | NN52: 0 | NO52: 0 | NP52: 0 | NQ52: 0 | NR52: 0 | NS52: 0 | NT52: 0 | NU52: 0 | NV52: 0 | NW52: 0 | NX52: 0 | NY52: 0 | NZ52: 0 | OA52: 0 | OB52: 0
A53: 前月よりの繰越し | E53: 0 | H53: 0 | K53: 0 | N53: 0 | Q53: 0 | T53: 0 | W53: 0 | Z53: 0 | AC53: 0 | AF53: 0 | AI53: 0 | AL53: 0 | AO53: 0 | AR53: 0 | AU53: 0 | AX53: 0 | BA53: 0 | BD53: 0 | BG53: 0 | BJ53: 0 | BM53: 0 | BP53: 0 | BS53: 0 | BV53: 0 | BY53: 0 | CB53: 0 | CE53: 0 | CH53: 0 | CK53: 0 | CN53: 0 | CQ53: 0 | CT53: 0 | CW53: 0 | CZ53: 0 | DC53: 0 | DF53: 0 | DI53: 0 | DL53: 0 | DO53: 0 | DR53: 0 | DU53: 0 | DX53: 0 | EA53: 0 | ED53: 0 | EG53: 0 | EJ53: 0 | EM53: 0 | EP53: 0 | ES53: 0 | EV53: 0 | EY53: 0 | FB53: 0 | FE53: 0 | FH53: 0 | FK53: 0 | FN53: 0 | FQ53: 0 | FT53: 0 | FW53: 0 | FZ53: 0 | GC53: 0 | GF53: 0 | GI53: 0 | GL53: 0 | GO53: 0 | GR53: 0 | GU53: 0 | GX53: 0 | HA53: 0 | HD53: 0 | HG53: 0 | HJ53: 0 | HM53: 0 | HP53: 0 | HS53: 0 | HV53: 0 | HY53: 0 | IB53: 0 | IE53: 0 | IH53: 0 | IK53: 0 | IN53: 0 | IQ53: 0 | IT53: 0 | IW53: 0 | IZ53: 0 | JC53: 0 | JF53: 0 | JI53: 0 | JL53: 0 | JO53: 0 | JR53: 0 | JU53: 0 | JX53: 0 | KA53: 0 | KD53: 0 | KG53: 0 | KJ53: 0 | KM53: 0 | KP53: 0 | KS53: 0 | KV53: 0 | KY53: 0 | LB53: 0 | LE53: 0 | LH53: 0 | LK53: 0 | LN53: 0 | LQ53: 0 | LT53: 0 | LW53: 0 | LZ53: 0 | MC53: 0 | MF53: 0 | MI53: 0 | ML53: 0 | MO53: 0 | MR53: 0 | MU53: 0 | MX53: 0 | NA53: 0 | ND53: 0 | NG53: 0 | NJ53: 0 | NM53: 0 | NP53: 0 | NS53: 0 | NV53: 0 | NY53: 0 | OB53: 0
A54: 死 亡 | E54: 0 | H54: 0 | K54: 0 | N54: 0 | Q54: 0 | T54: 0 | W54: 0 | Z54: 0 | AC54: 0 | AF54: 0 | AI54: 0 | AL54: 0 | AO54: 0 | AR54: 0 | AU54: 0 | AX54: 0 | BA54: 0 | BD54: 0 | BG54: 0 | BJ54: 0 | BM54: 0 | BP54: 0 | BS54: 0 | BV54: 0 | BY54: 0 | CB54: 0 | CE54: 0 | CH54: 0 | CK54: 0 | CN54: 0 | CQ54: 0 | CT54: 0 | CW54: 0 | CZ54: 0 | DC54: 0 | DF54: 0 | DI54: 0 | DL54: 0 | DO54: 0 | DR54: 0 | DU54: 0 | DX54: 0 | EA54: 0 | ED54: 0 | EG54: 0 | EJ54: 0 | EM54: 0 | EP54: 0 | ES54: 0 | EV54: 0 | EY54: 0 | FB54: 0 | FE54: 0 | FH54: 0 | FK54: 0 | FN54: 0 | FQ54: 0 | FT54: 0 | FW54: 0 | FZ54: 0 | GC54: 0 | GF54: 0 | GI54: 0 | GL54: 0 | GO54: 0 | GR54: 0 | GU54: 0 | GX54: 0 | HA54: 0 | HD54: 0 | HG54: 0 | HJ54: 0 | HM54: 0 | HP54: 0 | HS54: 0 | HV54: 0 | HY54: 0 | IB54: 0 | IE54: 0 | IH54: 0 | IK54: 0 | IN54: 0 | IQ54: 0 | IT54: 0 | IW54: 0 | IZ54: 0 | JC54: 0 | JF54: 0 | JI54: 0 | JL54: 0 | JO54: 0 | JR54: 0 | JU54: 0 | JX54: 0 | KA54: 0 | KD54: 0 | KG54: 0 | KJ54: 0 | KM54: 0 | KP54: 0 | KS54: 0 | KV54: 0 | KY54: 0 | LB54: 0 | LE54: 0 | LH54: 0 | LK54: 0 | LN54: 0 | LQ54: 0 | LT54: 0 | LW54: 0 | LZ54: 0 | MC54: 0 | MF54: 0 | MI54: 0 | ML54: 0 | MO54: 0 | MR54: 0 | MU54: 0 | MX54: 0 | NA54: 0 | ND54: 0 | NG54: 0 | NJ54: 0 | NM54: 0 | NP54: 0 | NS54: 0 | NV54: 0 | NY54: 0 | OB54: 0
A55: 殺処分 | E55: 0 | H55: 0 | K55: 0 | N55: 0 | Q55: 0 | T55: 0 | W55: 0 | Z55: 0 | AC55: 0 | AF55: 0 | AI55: 0 | AL55: 0 | AO55: 0 | AR55: 0 | AU55: 0 | AX55: 0 | BA55: 0 | BD55: 0 | BG55: 0 | BJ55: 0 | BM55: 0 | BP55: 0 | BS55: 0 | BV55: 0 | BY55: 0 | CB55: 0 | CE55: 0 | CH55: 0 | CK55: 0 | CN55: 0 | CQ55: 0 | CT55: 0 | CW55: 0 | CZ55: 0 | DC55: 0 | DF55: 0 | DI55: 0 | DL55: 0 | DO55: 0 | DR55: 0 | DU55: 0 | DX55: 0 | EA55: 0 | ED55: 0 | EG55: 0 | EJ55: 0 | EM55: 0 | EP55: 0 | ES55: 0 | EV55: 0 | EY55: 0 | FB55: 0 | FE55: 0 | FH55: 0 | FK55: 0 | FN55: 0 | FQ55: 0 | FT55: 0 | FW55: 0 | FZ55: 0 | GC55: 0 | GF55: 0 | GI55: 0 | GL55: 0 | GO55: 0 | GR55: 0 | GU55: 0 | GX55: 0 | HA55: 0 | HD55: 0 | HG55: 105 | HJ55: 0 | HM55: 0 | HP55: 0 | HS55: 0 | HV55: 0 | HY55: 0 | IB55: 0 | IE55: 0 | IH55: 0 | IK55: 0 | IN55: 0 | IQ55: 0 | IT55: 0 | IW55: 0 | IZ55: 0 | JC55: 0 | JF55: 0 | JI55: 0 | JL55: 0 | JO55: 0 | JR55: 0 | JU55: 0 | JX55: 0 | KA55: 0 | KD55: 0 | KG55: 0 | KJ55: 0 | KM55: 0 | KP55: 0 | KS55: 0 | KV55: 0 | KY55: 0 | LB55: 0 | LE55: 0 | LH55: 0 | LK55: 0 | LN55: 0 | LQ55: 0 | LT55: 0 | LW55: 0 | LZ55: 0 | MC55: 0 | MF55: 0 | MI55: 0 | ML55: 0 | MO55: 0 | MR55: 0 | MU55: 0 | MX55: 0 | NA55: 0 | ND55: 0 | NG55: 0 | NJ55: 0 | NM55: 0 | NP55: 0 | NS55: 0 | NV55: 0 | NY55: 0 | OB55: 0
A56: 回 復 | E56: 0 | H56: 0 | K56: 0 | N56: 0 | Q56: 0 | T56: 0 | W56: 0 | Z56: 0 | AC56: 0 | AF56: 0 | AI56: 0 | AL56: 0 | AO56: 0 | AR56: 0 | AU56: 0 | AX56: 0 | BA56: 0 | BD56: 0 | BG56: 0 | BJ56: 0 | BM56: 0 | BP56: 0 | BS56: 0 | BV56: 0 | BY56: 0 | CB56: 0 | CE56: 0 | CH56: 0 | CK56: 0 | CN56: 0 | CQ56: 0 | CT56: 0 | CW56: 0 | CZ56: 0 | DC56: 0 | DF56: 0 | DI56: 0 | DL56: 0 | DO56: 0 | DR56: 0 | DU56: 0 | DX56: 0 | EA56: 0 | ED56: 0 | EG56: 0 | EJ56: 0 | EM56: 0 | EP56: 0 | ES56: 0 | EV56: 0 | EY56: 0 | FB56: 0 | FE56: 0 | FH56: 0 | FK56: 0 | FN56: 0 | FQ56: 0 | FT56: 0 | FW56: 0 | FZ56: 0 | GC56: 0 | GF56: 0 | GI56: 0 | GL56: 0 | GO56: 0 | GR56: 0 | GU56: 0 | GX56: 0 | HA56: 0 | HD56: 0 | HG56: 0 | HJ56: 0 | HM56: 0 | HP56: 0 | HS56: 0 | HV56: 0 | HY56: 0 | IB56: 0 | IE56: 0 | IH56: 0 | IK56: 0 | IN56: 0 | IQ56: 0 | IT56: 0 | IW56: 0 | IZ56: 0 | JC56: 0 | JF56: 0 | JI56: 0 | JL56: 0 | JO56: 0 | JR56: 0 | JU56: 0 | JX56: 0 | KA56: 0 | KD56: 0 | KG56: 0 | KJ56: 0 | KM56: 0 | KP56: 0 | KS56: 0 | KV56: 0 | KY56: 0 | LB56: 0 | LE56: 0 | LH56: 0 | LK56: 0 | LN56: 0 | LQ56: 0 | LT56: 0 | LW56: 0 | LZ56: 0 | MC56: 0 | MF56: 0 | MI56: 0 | ML56: 0 | MO56: 0 | MR56: 0 | MU56: 0 | MX56: 0 | NA56: 0 | ND56: 0 | NG56: 0 | NJ56: 0 | NM56: 0 | NP56: 0 | NS56: 0 | NV56: 0 | NY56: 0 | OB56: 0
A57: 未転帰 | E57: 0 | H57: 0 | K57: 0 | N57: 0 | Q57: 0 | T57: 0 | W57: 0 | Z57: 0 | AC57: 0 | AF57: 0 | AI57: 0 | AL57: 0 | AO57: 0 | AR57: 0 | AU57: 0 | AX57: 0 | BA57: 0 | BD57: 0 | BG57: 0 | BJ57: 0 | BM57: 0 | BP57: 0 | BS57: 0 | BV57: 0 | BY57: 0 | CB57: 0 | CE57: 0 | CH57: 0 | CK57: 0 | CN57: 0 | CQ57: 0 | CT57: 0 | CW57: 0 | CZ57: 0 | DC57: 0 | DF57: 0 | DI57: 0 | DL57: 0 | DO57: 0 | DR57: 0 | DU57: 0 | DX57: 0 | EA57: 0 | ED57: 0 | EG57: 0 | EJ57: 0 | EM57: 0 | EP57: 0 | ES57: 0 | EV57: 0 | EY57: 0 | FB57: 0 | FE57: 0 | FH57: 0 | FK57: 0 | FN57: 0 | FQ57: 0 | FT57: 0 | FW57: 0 | FZ57: 0 | GC57: 0 | GF57: 0 | GI57: 0 | GL57: 0 | GO57: 0 | GR57: 0 | GU57: 0 | GX57: 0 | HA57: 0 | HD57: 0 | HG57: 1 | HJ57: 0 | HM57: 0 | HP57: 0 | HS57: 0 | HV57: 0 | HY57: 0 | IB57: 0 | IE57: 0 | IH57: 0 | IK57: 0 | IN57: 0 | IQ57: 0 | IT57: 0 | IW57: 0 | IZ57: 0 | JC57: 0 | JF57: 0 | JI57: 0 | JL57: 0 | JO57: 0 | JR57: 0 | JU57: 0 | JX57: 0 | KA57: 0 | KD57: 0 | KG57: 0 | KJ57: 0 | KM57: 0 | KP57: 0 | KS57: 0 | KV57: 0 | KY57: 0 | LB57: 0 | LE57: 0 | LH57: 0 | LK57: 0 | LN57: 0 | LQ57: 0 | LT57: 0 | LW57: 0 | LZ57: 0 | MC57: 0 | MF57: 0 | MI57: 0 | ML57: 0 | MO57: 0 | MR57: 0 | MU57: 0 | MX57: 0 | NA57: 0 | ND57: 0 | NG57: 0 | NJ57: 0 | NM57: 0 | NP57: 0 | NS57: 0 | NV57: 0 | NY57: 0 | OB57: 0
A58: 累 計 | D58: 0 | E58: 0 | G58: 0 | H58: 0 | J58: 0 | K58: 0 | M58: 0 | N58: 0 | P58: 0 | Q58: 0 | S58: 0 | T58: 0 | V58: 0 | W58: 0 | Y58: 0 | Z58: 0 | AB58: 0 | AC58: 0 | AE58: 0 | AF58: 0 | AH58: 0 | AI58: 0 | AK58: 0 | AL58: 0 | AN58: 0 | AO58: 0 | AQ58: 0 | AR58: 0 | AT58: 0 | AU58: 0 | AW58: 0 | AX58: 0 | AZ58: 0 | BA58: 0 | BC58: 0 | BD58: 0 | BF58: 0 | BG58: 0 | BI58: 0 | BJ58: 0 | BL58: 0 | BM58: 0 | BO58: 0 | BP58: 0 | BR58: 0 | BS58: 0 | BU58: 0 | BV58: 0 | BX58: 0 | BY58: 0 | CA58: 0 | CB58: 0 | CD58: 0 | CE58: 0 | CG58: 0 | CH58: 0 | CJ58: 0 | CK58: 0 | CM58: 0 | CN58: 0 | CP58: 0 | CQ58: 0 | CS58: 0 | CT58: 0 | CV58: 0 | CW58: 0 | CY58: 0 | CZ58: 0 | DB58: 0 | DC58: 0 | DE58: 0 | DF58: 0 | DH58: 0 | DI58: 0 | DK58: 0 | DL58: 0 | DN58: 0 | DO58: 0 | DQ58: 0 | DR58: 0 | DT58: 0 | DU58: 0 | DW58: 0 | DX58: 0 | DZ58: 0 | EA58: 0 | EC58: 0 | ED58: 0 | EF58: 0 | EG58: 0 | EI58: 0 | EJ58: 0 | EL58: 0 | EM58: 0 | EO58: 0 | EP58: 0 | ER58: 0 | ES58: 0 | EU58: 0 | EV58: 0 | EX58: 0 | EY58: 0 | FA58: 0 | FB58: 0 | FD58: 0 | FE58: 0 | FG58: 0 | FH58: 0 | FJ58: 0 | FK58: 0 | FM58: 0 | FN58: 0 | FP58: 0 | FQ58: 0 | FS58: 0 | FT58: 0 | FV58: 0 | FW58: 0 | FY58: 0 | FZ58: 0 | GB58: 0 | GC58: 0 | GE58: 0 | GF58: 0 | GH58: 0 | GI58: 0 | GK58: 0 | GL58: 0 | GN58: 0 | GO58: 0 | GQ58: 0 | GR58: 0 | GT58: 0 | GU58: 0 | GW58: 0 | GX58: 0 | GZ58: 0 | HA58: 0 | HC58: 0 | HD58: 0 | HF58: 326 | HG58: 736 | HI58: 1 | HJ58: 1 | HL58: 3 | HM58: 13 | HO58: 0 | HP58: 0 | HR58: 0 | HS58: 0 | HU58: 0 | HV58: 0 | HX58: 0 | HY58: 0 | IA58: 0 | IB58: 0 | ID58: 0 | IE58: 0 | IG58: 0 | IH58: 0 | IJ58: 0 | IK58: 0 | IM58: 0 | IN58: 0 | IP58: 0 | IQ58: 0 | IS58: 0 | IT58: 0 | IV58: 0 | IW58: 0 | IY58: 0 | IZ58: 0 | JB58: 0 | JC58: 0 | JE58: 0 | JF58: 0 | JH58: 0 | JI58: 0 | JK58: 0 | JL58: 0 | JN58: 0 | JO58: 0 | JQ58: 0 | JR58: 0 | JT58: 0 | JU58: 0 | JW58: 5 | JX58: 14 | JZ58: 10 | KA58: 0 | KC58: 0 | KD58: 0 | KF58: 0 | KG58: 3 | KI58: 0 | KJ58: 0 | KL58: 1 | KM58: 3 | KO58: 0 | KP58: 0 | KR58: 0 | KS58: 0 | KU58: 0 | KV58: 0 | KX58: 0 | KY58: 0 | LA58: 34 | LB58: 59 | LD58: 0 | LE58: 0 | LG58: 1 | LH58: 1 | LJ58: 0 | LK58: 0 | LM58: 0 | LN58: 1 | LP58: 0 | LQ58: 34 | LS58: 0 | LT58: 0 | LV58: 0 | LW58: 0 | LY58: 0 | LZ58: 0 | MB58: 0 | MC58: 0 | ME58: 0 | MF58: 0 | MH58: 34 | MI58: 59 | MK58: 0 | ML58: 0 | MN58: 1 | MO58: 1 | MQ58: 0 | MR58: 0 | MT58: 0 | MU58: 0 | MW58: 0 | MX58: 0 | MZ58: 0 | NA58: 0 | NC58: 0 | ND58: 0 | NF58: 0 | NG58: 0 | NI58: 0 | NJ58: 0 | NL58: 0 | NM58: 0 | NO58: 0 | NP58: 0 | NR58: 0 | NS58: 0 | NU58: 6 | NV58: 21 | NW58: 0 | NX58: 1 | NY58: 2 | NZ58: 0 | OA58: 0 | OB58: 0
A59: 前年同期累計 | D59: 0 | E59: 0 | G59: 0 | H59: 0 | J59: 0 | K59: 0 | M59: 0 | N59: 0 | P59: 0 | Q59: 0 | S59: 0 | T59: 0 | V59: 0 | W59: 0 | Y59: 0 | Z59: 0 | AB59: 0 | AC59: 0 | AE59: 0 | AF59: 0 | AH59: 0 | AI59: 0 | AK59: 0 | AL59: 0 | AN59: 0 | AO59: 0 | AQ59: 0 | AR59: 0 | AT59: 0 | AU59: 0 | AW59: 0 | AX59: 0 | AZ59: 0 | BA59: 0 | BC59: 0 | BD59: 0 | BF59: 0 | BG59: 0 | BI59: 0 | BJ59: 0 | BL59: 0 | BM59: 0 | BO59: 1 | BP59: 4 | BR59: 0 | BS59: 0 | BU59: 0 | BV59: 0 | BX59: 0 | BY59: 0 | CA59: 0 | CB59: 0 | CD59: 0 | CE59: 0 | CG59: 0 | CH59: 0 | CJ59: 0 | CK59: 0 | CM59: 0 | CN59: 0 | CP59: 0 | CQ59: 0 | CS59: 0 | CT59: 0 | CV59: 0 | CW59: 0 | CY59: 0 | CZ59: 0 | DB59: 0 | DC59: 0 | DE59: 0 | DF59: 0 | DH59: 0 | DI59: 0 | DK59: 0 | DL59: 0 | DN59: 0 | DO59: 0 | DQ59: 0 | DR59: 0 | DT59: 0 | DU59: 0 | DW59: 0 | DX59: 0 | DZ59: 0 | EA59: 0 | EC59: 0 | ED59: 0 | EF59: 0 | EG59: 0 | EI59: 0 | EJ59: 0 | EL59: 0 | EM59: 0 | EO59: 0 | EP59: 0 | ER59: 0 | ES59: 0 | EU59: 0 | EV59: 0 | EX59: 0 | EY59: 0 | FA59: 0 | FB59: 0 | FD59: 0 | FE59: 0 | FG59: 0 | FH59: 0 | FJ59: 0 | FK59: 0 | FM59: 0 | FN59: 0 | FP59: 0 | FQ59: 0 | FS59: 0 | FT59: 0 | FV59: 0 | FW59: 0 | FY59: 0 | FZ59: 0 | GB59: 0 | GC59: 0 | GE59: 0 | GF59: 0 | GH59: 0 | GI59: 0 | GK59: 0 | GL59: 0 | GN59: 0 | GO59: 0 | GQ59: 0 | GR59: 0 | GT59: 0 | GU59: 0 | GW59: 0 | GX59: 0 | GZ59: 0 | HA59: 0 | HC59: 0 | HD59: 0 | HF59: 345 | HG59: 806 | HI59: 0 | HJ59: 0 | HL59: 2 | HM59: 2 | HO59: 0 | HP59: 0 | HR59: 0 | HS59: 0 | HU59: 0 | HV59: 0 | HX59: 0 | HY59: 0 | IA59: 0 | IB59: 0 | ID59: 0 | IE59: 0 | IG59: 0 | IH59: 0 | IJ59: 0 | IK59: 0 | IM59: 0 | IN59: 0 | IP59: 0 | IQ59: 0 | IS59: 1 | IT59: 1 | IV59: 0 | IW59: 0 | IY59: 0 | IZ59: 0 | JB59: 0 | JC59: 0 | JE59: 0 | JF59: 0 | JH59: 0 | JI59: 0 | JK59: 0 | JL59: 0 | JN59: 0 | JO59: 0 | JQ59: 0 | JR59: 0 | JT59: 0 | JU59: 0 | JW59: 4 | JX59: 18 | JZ59: 6 | KA59: 0 | KC59: 0 | KD59: 0 | KF59: 0 | KG59: 0 | KI59: 0 | KJ59: 0 | KL59: 0 | KM59: 0 | KO59: 0 | KP59: 0 | KR59: 0 | KS59: 0 | KU59: 0 | KV59: 0 | KX59: 0 | KY59: 0 | LA59: 7 | LB59: 24 | LD59: 0 | LE59: 0 | LG59: 0 | LH59: 0 | LJ59: 0 | LK59: 0 | LM59: 0 | LN59: 0 | LP59: 0 | LQ59: 0 | LS59: 0 | LT59: 0 | LV59: 0 | LW59: 0 | LY59: 0 | LZ59: 0 | MB59: 0 | MC59: 0 | ME59: 0 | MF59: 0 | MH59: 0 | MI59: 0 | MK59: 0 | ML59: 0 | MN59: 0 | MO59: 0 | MQ59: 0 | MR59: 0 | MT59: 0 | MU59: 0 | MW59: 0 | MX59: 0 | MZ59: 0 | NA59: 0 | NC59: 0 | ND59: 0 | NF59: 0 | NG59: 0 | NI59: 0 | NJ59: 0 | NL59: 0 | NM59: 0 | NO59: 0 | NP59: 0 | NR59: 0 | NS59: 0 | NU59: 6 | NV59: 11 | NX59: 0 | NY59: 0 | OA59: 0 | OB59: 0
A61: 累計 | C61: =C52+C62 -> 0 | D61: =D52+D62 -> 0 | E61: =E52+E62 -> 0 | F61: =F52+F62 -> 0 | G61: =G52+G62 -> 0 | H61: =H52+H62 -> 0 | I61: =I52+I62 -> 0 | J61: =J52+J62 -> 0 | ... OB61: =OB52+OB62 -> 0
A62: 前月まで | C62: =[2]家畜伝染病7月!C58 -> 0 | D62: =[2]家畜伝染病7月!D58 -> 0 | E62: =[2]家畜伝染病7月!E58 -> 0 | F62: =[2]家畜伝染病7月!F58 -> 0 | G62: =[2]家畜伝染病7月!G58 -> 0 | H62: =[2]家畜伝染病7月!H58 -> 0 | I62: =[2]家畜伝染病7月!I58 -> 0 | J62: =[2]家畜伝染病7月!J58 -> 0 | ... OB62: =[2]家畜伝染病7月!OB58 -> 0
B63: 1～7月
A66: 前年度8月 | D66: ='[2]8月①'!D53 -> 0 | E66: ='[2]8月①'!F53 -> 0 | G66: ='[2]8月①'!O53 -> 0 | H66: ='[2]8月①'!Q53 -> 0 | J66: ='[2]8月①'!Z53 -> 0 | K66: ='[2]8月①'!AB53 -> 0 | M66: ='[2]8月①'!AK53 -> 0 | N66: ='[2]8月①'!AM53 -> 0 | P66: ='[2]8月①'!X53 -> 0 | Q66: ='[2]8月①'!Z53 -> 0 | S66: ='[2]8月①'!AI53 -> 0 | T66: ='[2]8月①'!AK53 -> 0 | V66: ='[2]8月①'!AT53 -> 0 | W66: ='[2]8月①'!AV53 -> 0 | Y66: ='[2]8月①'!CC53 -> 0 | Z66: ='[2]8月①'!CE53 -> 0 | AB66: ='[2]8月①'!AJ53 -> 0 | AC66: ='[2]8月①'!AL53 -> 0 | AE66: ='[2]8月①'!AU53 -> 0 | AF66: ='[2]8月①'!AW53 -> 0 | AH66: ='[2]8月①'!DJ53 -> 0 | AI66: ='[2]8月①'!DL53 -> 0 | AK66: ='[2]8月①'!DU53 -> 0 | AL66: ='[2]8月①'!DW53 -> 0 | AN66: ='[2]8月①'!EF53 -> 0 | AO66: ='[2]8月①'!EH53 -> 0 | AQ66: ='[2]8月①'!EQ53 -> 0 | AR66: ='[2]8月①'!ES53 -> 0 | AT66: ='[2]8月①'!BB53 -> 0 | AU66: ='[2]8月①'!BD53 -> 0 | AW66: ='[2]8月①'!BM53 -> 0 | AX66: ='[2]8月①'!BO53 -> 0 | AZ66: ='[2]8月①'!BX53 -> 0 | BA66: ='[2]8月①'!BZ53 -> 0 | BC66: ='[2]8月①'!GI53 -> 0 | BD66: ='[2]8月①'!GK53 -> 0 | BF66: ='[2]8月①'!GT53 -> 0 | BG66: ='[2]8月①'!GV53 -> 0 | BI66: ='[2]8月①'!HE53 -> 0 | BJ66: ='[2]8月①'!HG53 -> 0 | BL66: ='[2]8月①'!HP53 -> 0 | BM66: ='[2]8月①'!HR53 -> 0 | BO66: ='[2]8月①'!IA53 -> 0 | BP66: ='[2]8月①'!IC53 -> 0 | BR66: ='[2]8月①'!BZ53 -> 0 | BS66: ='[2]8月①'!CB53 -> 0 | BU66: ='[2]8月①'!CK53 -> 0 | BV66: ='[2]8月①'!CM53 -> 0 | BX66: ='[2]8月①'!CV53 -> 0 | BY66: ='[2]8月①'!CX53 -> 0 | CA66: ='[2]8月①'!JS53 -> 0 | CB66: ='[2]8月①'!JU53 -> 0 | CD66: ='[2]8月①'!KD53 -> 0 | CE66: ='[2]8月①'!KF53 -> 0 | CG66: ='[2]8月①'!KO53 -> 0 | CH66: ='[2]8月①'!KQ53 -> 0 | CJ66: ='[2]8月①'!KZ53 -> 0 | CK66: ='[2]8月①'!LB53 -> 0 | CM66: ='[2]8月①'!LK53 -> 0 | CN66: ='[2]8月①'!LM53 -> 0 | CP66: ='[2]8月①'!CX53 -> 0 | CQ66: ='[2]8月①'!CZ53 -> 0 | CS66: ='[2]8月①'!DI53 -> 0 | CT66: ='[2]8月①'!DK53 -> 0 | CV66: ='[2]8月①'!DT53 -> 0 | CW66: ='[2]8月①'!DV53 -> 0 | CY66: ='[2]8月①'!NC53 -> 0 | CZ66: ='[2]8月①'!NE53 -> 0 | DB66: ='[2]8月①'!NN53 -> 0 | DC66: ='[2]8月①'!NP53 -> 0 | DE66: ='[2]8月①'!NY53 -> 0 | DF66: ='[2]8月①'!OA53 -> 0 | DH66: ='[2]8月①'!DP53 -> 0 | DI66: ='[2]8月①'!DR53 -> 0 | DK66: ='[2]8月①'!EA53 -> 0 | DL66: ='[2]8月①'!EC53 -> 0 | DN66: ='[2]8月①'!EL53 -> 0 | DO66: ='[2]8月①'!EN53 -> 0 | DQ66: ='[2]8月②'!D53 -> 0 | DR66: ='[2]8月②'!F53 -> 0 | DT66: ='[2]8月②'!O53 -> 0 | DU66: ='[2]8月②'!Q53 -> 0 | DW66: ='[2]8月②'!Z53 -> 0 | DX66: ='[2]8月②'!AB53 -> 0 | DZ66: ='[2]8月②'!M53 -> 0 | EA66: ='[2]8月②'!O53 -> 0 | EC66: ='[2]8月②'!X53 -> 0 | ED66: ='[2]8月②'!Z53 -> 0 | EF66: ='[2]8月②'!BG53 -> 0 | EG66: ='[2]8月②'!BI53 -> 0 | EI66: ='[2]8月②'!BR53 -> 0 | EJ66: ='[2]8月②'!BT53 -> 0 | EL66: ='[2]8月②'!CC53 -> 0 | EM66: ='[2]8月②'!CE53 -> 0 | EO66: ='[2]8月②'!CN53 -> 0 | EP66: ='[2]8月②'!CP53 -> 0 | ER66: ='[2]8月②'!CY53 -> 0 | ES66: ='[2]8月②'!DA53 -> 0 | EU66: ='[2]8月②'!BV53 -> 0 | EV66: ='[2]8月②'!BX53 -> 0 | EX66: ='[2]8月②'!CG53 -> 0 | EY66: ='[2]8月②'!CI53 -> 0 | FA66: ='[2]8月②'!CR53 -> 0 | FB66: ='[2]8月②'!CT53 -> 0 | FD66: ='[2]8月②'!EQ53 -> 0 | FE66: ='[2]8月②'!ES53 -> 0 | FG66: ='[2]8月②'!FB53 -> 0 | FH66: ='[2]8月②'!FD53 -> 0 | FJ66: ='[2]8月②'!FM53 -> 0 | FK66: ='[2]8月②'!FO53 -> 0 | FM66: ='[2]8月②'!FX53 -> 0 | FN66: ='[2]8月②'!FZ53 -> 0 | FP66: ='[2]8月②'!CQ53 -> 0 | FQ66: ='[2]8月②'!CS53 -> 0 | FS66: ='[2]8月②'!DB53 -> 0 | FT66: ='[2]8月②'!DD53 -> 0 | FV66: ='[2]8月②'!DM53 -> 0 | FW66: ='[2]8月②'!DO53 -> 0 | FY66: ='[2]8月②'!HP53 -> 0 | FZ66: ='[2]8月②'!HR53 -> 0 | GB66: ='[2]8月②'!IA53 -> 0 | GC66: ='[2]8月②'!IC53 -> 0 | GE66: ='[2]8月②'!IL53 -> 0 | GF66: ='[2]8月②'!IN53 -> 0 | GH66: ='[2]8月②'!IW53 -> 0 | GI66: ='[2]8月②'!IY53 -> 0 | GK66: ='[2]8月②'!DL53 -> 0 | GL66: ='[2]8月②'!DN53 -> 0 | GN66: ='[2]8月②'!DW53 -> 0 | GO66: ='[2]8月②'!DY53 -> 0 | GQ66: ='[2]8月②'!EH53 -> 0 | GR66: ='[2]8月②'!EJ53 -> 0 | GT66: ='[2]8月②'!KO53 -> 0 | GU66: ='[2]8月②'!KQ53 -> 0 | GW66: ='[2]8月②'!KZ53 -> 0 | GX66: ='[2]8月②'!LB53 -> 0 | GZ66: ='[2]8月②'!EA53 -> 0 | HA66: ='[2]8月②'!EC53 -> 0 | HC66: ='[2]8月②'!EL53 -> 0 | HD66: ='[2]8月②'!EN53 -> 0 | HF66: ='[2]8月②'!MG53 -> 51 | HG66: ='[2]8月②'!MI53 -> 100 | HI66: ='[2]8月②'!MR53 -> 0 | HJ66: ='[2]8月②'!MT53 -> 0 | HL66: ='[2]8月②'!NC53 -> 0 | HM66: ='[2]8月②'!NE53 -> 0 | HO66: ='[2]8月②'!EP53 -> 0 | HP66: ='[2]8月②'!ER53 -> 0 | HR66: ='[2]8月②'!FA53 -> 0 | HS66: ='[2]8月②'!FC53 -> 0 | HU66: ='[2]8月②'!OJ53 -> 0 | HV66: ='[2]8月②'!OL53 -> 0 | HX66: ='[2]8月②'!OU53 -> 0 | HY66: ='[2]8月②'!OW53 -> 0 | IA66: ='[2]8月②'!FB53 -> 0 | IB66: ='[2]8月②'!FD53 -> 0 | ID66: ='[2]8月②'!FM53 -> 0 | IE66: ='[2]8月②'!FO53 -> 0 | IG66: ='[2]8月③'!D53 -> 0 | IH66: ='[2]8月③'!F53 -> 0 | IJ66: ='[2]8月③'!G53 -> 0 | IK66: ='[2]8月③'!I53 -> 0 | IM66: ='[2]8月③'!J53 -> 0 | IN66: ='[2]8月③'!L53 -> 0 | IP66: ='[2]8月③'!AK53 -> 0 | IQ66: ='[2]8月③'!AM53 -> 0 | IS66: ='[2]8月③'!AV53 -> 0 | IT66: ='[2]8月③'!AX53 -> 0 | IV66: ='[2]8月③'!BG53 -> 0 | IW66: ='[2]8月③'!BI53 -> 0 | IY66: ='[2]8月③'!V53 -> 0 | IZ66: ='[2]8月③'!X53 -> 0 | JB66: ='[2]8月③'!Y53 -> 0 | JC66: ='[2]8月③'!AA53 -> 0 | JE66: ='[2]8月③'!CN53 -> 0 | JF66: ='[2]8月③'!CP53 -> 0 | JH66: ='[2]8月③'!CY53 -> 0 | JI66: ='[2]8月③'!DA53 -> 0 | JK66: ='[2]8月③'!DJ53 -> 0 | JL66: ='[2]8月③'!DL53 -> 0 | JN66: ='[2]8月③'!DU53 -> 0 | JO66: ='[2]8月③'!DW53 -> 0 | JQ66: ='[2]8月③'!EF53 -> 0 | JR66: ='[2]8月③'!EH53 -> 0 | JT66: ='[2]8月③'!EI53 -> 0 | JU66: ='[2]8月③'!EK53 -> 0 | JW66: ='[2]8月③'!FB53 -> 1 | JX66: ='[2]8月③'!FD53 -> 3 | JZ66: ='[2]8月③'!FE53 -> 1 | KA66: ='[2]8月③'!FG53 -> 0 | KC66: ='[2]8月③'!FX53 -> 0 | KD66: ='[2]8月③'!FZ53 -> 0 | KF66: ='[2]8月③'!FK53 -> 0 | KG66: ='[2]8月③'!FM53 -> 0 | KI66: ='[2]8月③'!GT53 -> 0 | KJ66: ='[2]8月③'!GV53 -> 0 | KL66: ='[2]8月③'!FQ53 -> 0 | KM66: ='[2]8月③'!FS53 -> 0 | KO66: ='[2]8月③'!HP53 -> 0 | KP66: ='[2]8月③'!HR53 -> 0 | KR66: ='[2]8月③'!IA53 -> 0 | KS66: ='[2]8月③'!IC53 -> 0 | KU66: ='[2]8月③'!IL53 -> 0 | KV66: ='[2]8月③'!IN53 -> 0 | KX66: ='[2]8月③'!IO53 -> 0 | KY66: ='[2]8月③'!IQ53 -> 0 | LA66: ='[2]8月③'!JH53 -> 0 | LB66: ='[2]8月③'!JJ53 -> 0 | LD66: ='[2]8月③'!JS53 -> 0 | LE66: ='[2]8月③'!JU53 -> 0 | LG66: ='[2]8月③'!KD53 -> 0 | LH66: ='[2]8月③'!KF53 -> 0 | LJ66: ='[2]8月③'!JQ53 -> 0 | LK66: ='[2]8月③'!JS53 -> 0 | LM66: ='[2]8月③'!KB53 -> 0 | LN66: ='[2]8月③'!KD53 -> 0 | LP66: ='[2]8月③'!KM53 -> 0 | LQ66: ='[2]8月③'!KO53 -> 0 | LS66: ='[2]8月③'!KH53 -> 0 | LT66: ='[2]8月③'!KJ53 -> 0 | LV66: ='[2]8月③'!KS53 -> 0 | LW66: ='[2]8月③'!KU53 -> 0 | LY66: ='[2]8月③'!MR53 -> 0 | LZ66: ='[2]8月③'!MT53 -> 0 | MB66: ='[2]8月③'!NC53 -> 0 | MC66: ='[2]8月③'!NE53 -> 0 | ME66: ='[2]8月③'!NN53 -> 0 | MF66: ='[2]8月③'!NP53 -> 0 | MH66: ='[2]8月③'!KO53 -> 0 | MI66: ='[2]8月③'!KQ53 -> 0 | MK66: ='[2]8月③'!KZ53 -> 0 | ML66: ='[2]8月③'!LB53 -> 0 | MN66: ='[2]8月③'!LK53 -> 0 | MO66: ='[2]8月③'!LM53 -> 0 | MQ66: ='[2]8月③'!LF53 -> 0 | MR66: ='[2]8月③'!LH53 -> 0 | MT66: ='[2]8月③'!LQ53 -> 0 | MU66: ='[2]8月③'!LS53 -> 0 | MW66: ='[2]8月③'!QB53 -> 0 | MX66: ='[2]8月③'!QD53 -> 0 | MZ66: ='[2]8月③'!QM53 -> 0 | NA66: ='[2]8月③'!QO53 -> 0 | NC66: ='[2]8月③'!QX53 -> 0 | ND66: ='[2]8月③'!QZ53 -> 0 | NF66: ='[2]8月③'!MC53 -> 0 | NG66: ='[2]8月③'!ME53 -> 0 | NI66: ='[2]8月③'!RT53 -> 0 | NJ66: ='[2]8月③'!RV53 -> 0 | NL66: ='[2]8月③'!SE53 -> 0 | NM66: ='[2]8月③'!SG53 -> 0 | NO66: ='[2]8月③'!SP53 -> 0 | NP66: ='[2]8月③'!SR53 -> 0 | NR66: ='[2]8月③'!MO53 -> 0 | NS66: ='[2]8月③'!MQ53 -> 0 | NU66: ='[2]8月③'!TL53 -> 1 | NV66: ='[2]8月③'!TN53 -> 1 | NX66: ='[2]8月③'!TW53 -> 0 | NY66: ='[2]8月③'!TY53 -> 0 | OA66: ='[2]8月③'!TZ53 -> 0 | OB66: ='[2]8月③'!UB53 -> 0
A67: 前月まで | C67: =[2]家畜伝染病7月!C59 -> 0 | D67: =[2]家畜伝染病7月!D59 -> 0 | E67: =[2]家畜伝染病7月!E59 -> 0 | F67: =[2]家畜伝染病7月!F59 -> 0 | G67: =[2]家畜伝染病7月!G59 -> 0 | H67: =[2]家畜伝染病7月!H59 -> 0 | I67: =[2]家畜伝染病7月!I59 -> 0 | J67: =[2]家畜伝染病7月!J59 -> 0 | ... OB67: =[2]家畜伝染病7月!OB59 -> 0

Sheet 届出伝染病①8月
A2: 届出伝染病の種類 | C2: ﾌﾞﾙｰﾀﾝｸﾞ | F2: ﾌﾞﾙｰﾀﾝｸﾞ | I2: ﾌﾞﾙｰﾀﾝｸﾞ | L2: ﾌﾞﾙｰﾀﾝｸﾞ | O2: ﾌﾞﾙｰﾀﾝｸﾞ | R2: ｱｶﾊﾞﾈ病 （胎児感染） | U2: ｱｶﾊﾞﾈ病 （生後感染） | X2: ｱｶﾊﾞﾈ病 | AA2: ｱｶﾊﾞﾈ病 | AD2: ｱｶﾊﾞﾈ病 | AG2: 悪性ｶﾀﾙ熱 | AJ2: 悪性ｶﾀﾙ熱 | AM2: 悪性ｶﾀﾙ熱 | AP2: 悪性ｶﾀﾙ熱 | AS2: ﾁｭｳｻﾞﾝ病 | AV2: ﾁｭｳｻﾞﾝ病 | AY2: ﾁｭｳｻﾞﾝ病 | BB2: 牛ｳｲﾙｽ性下痢 | BE2: 牛ｳｲﾙｽ性下痢 | BH2: 牛伝染性鼻気管炎 | BK2: 牛伝染性鼻気管炎 | BN2: 牛伝染性リンパ腫 | BQ2: 牛伝染性リンパ腫 | BT2: ｱｲﾉｳｲﾙｽ感染症 | BW2: ｱｲﾉｳｲﾙｽ感染症 | BZ2: ｲﾊﾞﾗｷ病 | CC2: ｲﾊﾞﾗｷ病 | CF2: 牛丘疹性口内炎 | CI2: 牛丘疹性口内炎 | CL2: 牛流行熱 | CO2: 牛流行熱 | CR2: 類鼻疽 | CU2: 類鼻疽 | CX2: 類鼻疽 | DA2: 類鼻疽 | DD2: 類鼻疽 | DG2: 類鼻疽 | DJ2: 類鼻疽 | DM2: 類鼻疽 | DP2: 破傷風 | DS2: 破傷風 | DV2: 破傷風 | DY2: 破傷風 | EB2: 気腫疽 | EE2: 気腫疽 | EH2: 気腫疽 | EK2: 気腫疽 | EN2: 気腫疽 | EQ2: 気腫疽 | ET2: 気腫疽 | EW2: ﾚﾌﾟﾄｽﾋﾟﾗ症 | EZ2: ﾚﾌﾟﾄｽﾋﾟﾗ症 | FC2: ﾚﾌﾟﾄｽﾋﾟﾗ症 | FF2: ﾚﾌﾟﾄｽﾋﾟﾗ症 | FI2: ﾚﾌﾟﾄｽﾋﾟﾗ症 | FL2: ﾚﾌﾟﾄｽﾋﾟﾗ症 | FO2: ｻﾙﾓﾈﾗ症 | FR2: ｻﾙﾓﾈﾗ症 | FU2: ｻﾙﾓﾈﾗ症 | FX2: ｻﾙﾓﾈﾗ症 | GA2: ｻﾙﾓﾈﾗ症 | GD2: ｻﾙﾓﾈﾗ症 | GG2: ｻﾙﾓﾈﾗ症 | GJ2: ｻﾙﾓﾈﾗ症 | GM2: ｻﾙﾓﾈﾗ症 | GP2: 牛ｶﾝﾋﾟﾛﾊﾞｸﾀｰ症 | GS2: 牛ｶﾝﾋﾟﾛﾊﾞｸﾀｰ症 | GV2: ﾄﾘﾊﾟﾉｿｰﾏ症 | GY2: ﾄﾘﾊﾟﾉｿｰﾏ症 | HB2: ﾄﾘﾊﾟﾉｿｰﾏ症 | HE2: ﾄﾘｺﾓﾅｽ症 | HH2: ﾄﾘｺﾓﾅｽ症 | HK2: ﾈｵｽﾎﾟﾗ症 | HN2: ﾈｵｽﾎﾟﾗ症 | HQ2: 牛ﾊﾞｴ幼虫症 | HT2: 牛ﾊﾞｴ幼虫症 | HW2: ﾆﾊﾟｳｲﾙｽ感染症 | HZ2: ﾆﾊﾟｳｲﾙｽ感染症 | IC2: ﾆﾊﾟｳｲﾙｽ感染症
A3: 家畜の種類 | C3: 牛 | F3: 水牛 | I3: しか | L3: めん羊 | O3: 山羊 | R3: 牛 | U3: 牛 | X3: 水牛 | AA3: めん羊 | AD3: 山羊 | AG3: 牛 | AJ3: 水牛 | AM3: しか | AP3: めん羊 | AS3: 牛 | AV3: 水牛 | AY3: 山羊 | BB3: 牛 | BE3: 水牛 | BH3: 牛 | BK3: 水牛 | BN3: 牛 | BQ3: 水牛 | BT3: 牛 | BW3: 水牛 | BZ3: 牛 | CC3: 水牛 | CF3: 牛 | CI3: 水牛 | CL3: 牛 | CO3: 水牛 | CR3: 牛 | CU3: 水牛 | CX3: しか | DA3: 馬 | DD3: めん羊 | DG3: 山羊 | DJ3: 豚 | DM3: いのしし | DP3: 牛 | DS3: 水牛 | DV3: しか | DY3: 馬 | EB3: 牛 | EE3: 水牛 | EH3: しか | EK3: めん羊 | EN3: 山羊 | EQ3: 豚 | ET3: いのしし | EW3: 牛 | EZ3: 水牛 | FC3: しか | FF3: 豚 | FI3: いのしし | FL3: 犬 | FO3: 牛 | FR3: 水牛 | FU3: しか | FX3: 豚 | GA3: いのしし | GD3: 鶏 | GG3: あひる | GJ3: うずら | GM3: 七面鳥 | GP3: 牛 | GS3: 水牛 | GV3: 牛 | GY3: 水牛 | HB3: 馬 | HE3: 牛 | HH3: 水牛 | HK3: 牛 | HN3: 水牛 | HQ3: 牛 | HT3: 水牛 | HW3: 馬 | HZ3: 豚 | IC3: いのしし
C4: 戸数 | E4: 頭数 | F4: 戸数 | H4: 頭数 | I4: 戸数 | K4: 頭数 | L4: 戸数 | N4: 頭数 | O4: 戸数 | Q4: 頭数 | R4: 戸数 | T4: 頭数 | U4: 戸数 | W4: 頭数 | X4: 戸数 | Z4: 頭数 | AA4: 戸数 | AC4: 頭数 | AD4: 戸数 | AF4: 頭数 | AG4: 戸数 | AI4: 頭数 | AJ4: 戸数 | AL4: 頭数 | AM4: 戸数 | AO4: 頭数 | AP4: 戸数 | AR4: 頭数 | AS4: 戸数 | AU4: 頭数 | AV4: 戸数 | AX4: 頭数 | AY4: 戸数 | BA4: 頭数 | BB4: 戸数 | BD4: 頭数 | BE4: 戸数 | BG4: 頭数 | BH4: 戸数 | BJ4: 頭数 | BK4: 戸数 | BM4: 頭数 | BN4: 戸数 | BP4: 頭数 | BQ4: 戸数 | BS4: 頭数 | BT4: 戸数 | BV4: 頭数 | BW4: 戸数 | BY4: 頭数 | BZ4: 戸数 | CB4: 頭数 | CC4: 戸数 | CE4: 頭数 | CF4: 戸数 | CH4: 頭数 | CI4: 戸数 | CK4: 頭数 | CL4: 戸数 | CN4: 頭数 | CO4: 戸数 | CQ4: 頭数 | CR4: 戸数 | CT4: 頭数 | CU4: 戸数 | CW4: 頭数 | CX4: 戸数 | CZ4: 頭数 | DA4: 戸数 | DC4: 頭数 | DD4: 戸数 | DF4: 頭数 | DG4: 戸数 | DI4: 頭数 | DJ4: 戸数 | DL4: 頭数 | DM4: 戸数 | DO4: 頭数 | DP4: 戸数 | DR4: 頭数 | DS4: 戸数 | DU4: 頭数 | DV4: 戸数 | DX4: 頭数 | DY4: 戸数 | EA4: 頭数 | EB4: 戸数 | ED4: 頭数 | EE4: 戸数 | EG4: 頭数 | EH4: 戸数 | EJ4: 頭数 | EK4: 戸数 | EM4: 頭数 | EN4: 戸数 | EP4: 頭数 | EQ4: 戸数 | ES4: 頭数 | ET4: 戸数 | EV4: 頭数 | EW4: 戸数 | EY4: 頭数 | EZ4: 戸数 | FB4: 頭数 | FC4: 戸数 | FE4: 頭数 | FF4: 戸数 | FH4: 頭数 | FI4: 戸数 | FK4: 頭数 | FL4: 戸数 | FN4: 頭数 | FO4: 戸数 | FQ4: 頭数 | FR4: 戸数 | FT4: 頭数 | FU4: 戸数 | FW4: 頭数 | FX4: 戸数 | FZ4: 頭数 | GA4: 戸数 | GC4: 頭数 | GD4: 戸数 | GF4: 羽数 | GG4: 戸数 | GI4: 羽数 | GJ4: 戸数 | GL4: 羽数 | GM4: 戸数 | GO4: 羽数 | GP4: 戸数 | GR4: 頭数 | GS4: 戸数 | GU4: 頭数 | GV4: 戸数 | GX4: 頭数 | GY4: 戸数 | HA4: 頭数 | HB4: 戸数 | HD4: 頭数 | HE4: 戸数 | HG4: 頭数 | HH4: 戸数 | HJ4: 頭数 | HK4: 戸数 | HM4: 頭数 | HN4: 戸数 | HP4: 頭数 | HQ4: 戸数 | HS4: 頭数 | HT4: 戸数 | HV4: 頭数 | HW4: 戸数 | HY4: 頭数 | HZ4: 戸数 | IB4: 頭数 | IC4: 戸数 | IE4: 頭数
A5: 01 | B5: 北海道 | C5: ='[1]8月①'!C5 -> 0 | D5: ='[1]8月①'!D5 -> 0 | E5: ='[1]8月①'!E5 -> 0 | F5: ='[1]8月①'!F5 -> 0 | G5: ='[1]8月①'!G5 -> 0 | H5: ='[1]8月①'!H5 -> 0 | I5: ='[1]8月①'!I5 -> 0 | J5: ='[1]8月①'!J5 -> 0 | ... IE5: ='[1]8月①'!IE5 -> 0
A6: 02 | B6: 青 森 | C6: ='[1]8月①'!C6 -> 0 | D6: ='[1]8月①'!D6 -> 0 | E6: ='[1]8月①'!E6 -> 0 | F6: ='[1]8月①'!F6 -> 0 | G6: ='[1]8月①'!G6 -> 0 | H6: ='[1]8月①'!H6 -> 0 | I6: ='[1]8月①'!I6 -> 0 | J6: ='[1]8月①'!J6 -> 0 | ... IE6: ='[1]8月①'!IE6 -> 0
A7: 03 | B7: 岩 手 | C7: ='[1]8月①'!C7 -> 0 | D7: ='[1]8月①'!D7 -> 0 | E7: ='[1]8月①'!E7 -> 0 | F7: ='[1]8月①'!F7 -> 0 | G7: ='[1]8月①'!G7 -> 0 | H7: ='[1]8月①'!H7 -> 0 | I7: ='[1]8月①'!I7 -> 0 | J7: ='[1]8月①'!J7 -> 0 | ... IE7: ='[1]8月①'!IE7 -> 0
A8: 04 | B8: 宮 城 | C8: ='[1]8月①'!C8 -> 0 | D8: ='[1]8月①'!D8 -> 0 | E8: ='[1]8月①'!E8 -> 0 | F8: ='[1]8月①'!F8 -> 0 | G8: ='[1]8月①'!G8 -> 0 | H8: ='[1]8月①'!H8 -> 0 | I8: ='[1]8月①'!I8 -> 0 | J8: ='[1]8月①'!J8 -> 0 | ... IE8: ='[1]8月①'!IE8 -> 0
A9: 05 | B9: 秋 田 | C9: ='[1]8月①'!C9 -> 0 | D9: ='[1]8月①'!D9 -> 0 | E9: ='[1]8月①'!E9 -> 0 | F9: ='[1]8月①'!F9 -> 0 | G9: ='[1]8月①'!G9 -> 0 | H9: ='[1]8月①'!H9 -> 0 | I9: ='[1]8月①'!I9 -> 0 | J9: ='[1]8月①'!J9 -> 0 | ... IE9: ='[1]8月①'!IE9 -> 0
A10: 06 | B10: 山 形 | C10: ='[1]8月①'!C10 -> 0 | D10: ='[1]8月①'!D10 -> 0 | E10: ='[1]8月①'!E10 -> 0 | F10: ='[1]8月①'!F10 -> 0 | G10: ='[1]8月①'!G10 -> 0 | H10: ='[1]8月①'!H10 -> 0 | I10: ='[1]8月①'!I10 -> 0 | J10: ='[1]8月①'!J10 -> 0 | ... IE10: ='[1]8月①'!IE10 -> 0
A11: 07 | B11: 福 島 | C11: ='[1]8月①'!C11 -> 0 | D11: ='[1]8月①'!D11 -> 0 | E11: ='[1]8月①'!E11 -> 0 | F11: ='[1]8月①'!F11 -> 0 | G11: ='[1]8月①'!G11 -> 0 | H11: ='[1]8月①'!H11 -> 0 | I11: ='[1]8月①'!I11 -> 0 | J11: ='[1]8月①'!J11 -> 0 | ... IE11: ='[1]8月①'!IE11 -> 0
A12: 08 | B12: 茨 城 | C12: ='[1]8月①'!C12 -> 0 | D12: ='[1]8月①'!D12 -> 0 | E12: ='[1]8月①'!E12 -> 0 | F12: ='[1]8月①'!F12 -> 0 | G12: ='[1]8月①'!G12 -> 0 | H12: ='[1]8月①'!H12 -> 0 | I12: ='[1]8月①'!I12 -> 0 | J12: ='[1]8月①'!J12 -> 0 | ... IE12: ='[1]8月①'!IE12 -> 0
A13: 09 | B13: 栃 木 | C13: ='[1]8月①'!C13 -> 0 | D13: ='[1]8月①'!D13 -> 0 | E13: ='[1]8月①'!E13 -> 0 | F13: ='[1]8月①'!F13 -> 0 | G13: ='[1]8月①'!G13 -> 0 | H13: ='[1]8月①'!H13 -> 0 | I13: ='[1]8月①'!I13 -> 0 | J13: ='[1]8月①'!J13 -> 0 | ... IE13: ='[1]8月①'!IE13 -> 0
A14: 10 | B14: 群 馬 | C14: ='[1]8月①'!C14 -> 0 | D14: ='[1]8月①'!D14 -> 0 | E14: ='[1]8月①'!E14 -> 0 | F14: ='[1]8月①'!F14 -> 0 | G14: ='[1]8月①'!G14 -> 0 | H14: ='[1]8月①'!H14 -> 0 | I14: ='[1]8月①'!I14 -> 0 | J14: ='[1]8月①'!J14 -> 0 | ... IE14: ='[1]8月①'!IE14 -> 0
A15: 11 | B15: 埼 玉 | C15: ='[1]8月①'!C15 -> 0 | D15: ='[1]8月①'!D15 -> 0 | E15: ='[1]8月①'!E15 -> 0 | F15: ='[1]8月①'!F15 -> 0 | G15: ='[1]8月①'!G15 -> 0 | H15: ='[1]8月①'!H15 -> 0 | I15: ='[1]8月①'!I15 -> 0 | J15: ='[1]8月①'!J15 -> 0 | ... IE15: ='[1]8月①'!IE15 -> 0
A16: 12 | B16: 千 葉 | C16: ='[1]8月①'!C16 -> 0 | D16: ='[1]8月①'!D16 -> 0 | E16: ='[1]8月①'!E16 -> 0 | F16: ='[1]8月①'!F16 -> 0 | G16: ='[1]8月①'!G16 -> 0 | H16: ='[1]8月①'!H16 -> 0 | I16: ='[1]8月①'!I16 -> 0 | J16: ='[1]8月①'!J16 -> 0 | ... IE16: ='[1]8月①'!IE16 -> 0
... A51: 47 | B51: 沖 縄 | C51: ='[1]8月①'!C51 -> 0 | D51: ='[1]8月①'!D51 -> 0 | E51: ='[1]8月①'!E51 -> 0 | F51: ='[1]8月①'!F51 -> 0 | G51: ='[1]8月①'!G51 -> 0 | H51: ='[1]8月①'!H51 -> 0 | I51: ='[1]8月①'!I51 -> 0 | J51: ='[1]8月①'!J51 -> 0 | ... IE51: ='[1]8月①'!IE51 -> 0
A52: 合 計 | C52: =SUM(C5:C51) -> 0 | D52: =SUM(D5:D51) -> 0 | E52: =SUM(E5:E51) -> 0 | F52: =SUM(F5:F51) -> 0 | G52: =SUM(G5:G51) -> 0 | H52: =SUM(H5:H51) -> 0 | I52: =SUM(I5:I51) -> 0 | J52: =SUM(J5:J51) -> 0 | ... IE52: =SUM(IE5:IE51) -> 0
A53: 累 計 | D53: =D58 -> 0 | E53: =E58 -> 0 | G53: =G58 -> 0 | H53: =H58 -> 0 | J53: =J58 -> 0 | K53: =K58 -> 0 | M53: =M58 -> 0 | N53: =N58 -> 0 | P53: =P58 -> 0 | Q53: =Q58 -> 0 | S53: =S58 -> 0 | T53: =T58 -> 0 | V53: =V58 -> 0 | W53: =W58 -> 0 | Y53: =Y58 -> 0 | Z53: =Z58 -> 0 | AB53: =AB58 -> 0 | AC53: =AC58 -> 0 | AE53: =AE58 -> 0 | AF53: =AF58 -> 0 | AH53: =AH58 -> 0 | AI53: =AI58 -> 0 | AK53: =AK58 -> 0 | AL53: =AL58 -> 0 | AN53: =AN58 -> 0 | AO53: =AO58 -> 0 | AQ53: =AQ58 -> 0 | AR53: =AR58 -> 0 | AT53: =AT58 -> 0 | AU53: =AU58 -> 0 | AW53: =AW58 -> 0 | AX53: =AX58 -> 0 | AZ53: =AZ58 -> 0 | BA53: =BA58 -> 0 | BC53: =BC58 -> 46 | BD53: =BD58 -> 83 | BF53: =BF58 -> 0 | BG53: =BG58 -> 0 | BI53: =BI58 -> 2 | BJ53: =BJ58 -> 6 | BL53: =BL58 -> 0 | BM53: =BM58 -> 0 | BO53: =BO58 -> 1477 | BP53: =BP58 -> 2944 | BR53: =BR58 -> 0 | BS53: =BS58 -> 0 | BU53: =BU58 -> 2 | BV53: =BV58 -> 2 | BX53: =BX58 -> 0 | BY53: =BY58 -> 0 | CA53: =CA58 -> 0 | CB53: =CB58 -> 0 | CD53: =CD58 -> 0 | CE53: =CE58 -> 0 | CG53: =CG58 -> 4 | CH53: =CH58 -> 9 | CJ53: =CJ58 -> 0 | CK53: =CK58 -> 0 | CM53: =CM58 -> 0 | CN53: =CN58 -> 0 | CP53: =CP58 -> 0 | CQ53: =CQ58 -> 0 | CS53: =CS58 -> 0 | CT53: =CT58 -> 0 | CV53: =CV58 -> 0 | CW53: =CW58 -> 0 | CY53: =CY58 -> 0 | CZ53: =CZ58 -> 0 | DB53: =DB58 -> 0 | DC53: =DC58 -> 0 | DE53: =DE58 -> 0 | DF53: =DF58 -> 0 | DH53: =DH58 -> 0 | DI53: =DI58 -> 0 | DK53: =DK58 -> 0 | DL53: =DL58 -> 0 | DN53: =DN58 -> 0 | DO53: =DO58 -> 0 | DQ53: =DQ58 -> 64 | DR53: =DR58 -> 69 | DT53: =DT58 -> 0 | DU53: =DU58 -> 0 | DW53: =DW58 -> 0 | DX53: =DX58 -> 0 | DZ53: =DZ58 -> 1 | EA53: =EA58 -> 1 | EC53: =EC58 -> 5 | ED53: =ED58 -> 109 | EF53: =EF58 -> 0 | EG53: =EG58 -> 0 | EI53: =EI58 -> 0 | EJ53: =EJ58 -> 0 | EL53: =EL58 -> 0 | EM53: =EM58 -> 0 | EO53: =EO58 -> 0 | EP53: =EP58 -> 0 | ER53: =ER58 -> 0 | ES53: =ES58 -> 0 | EU53: =EU58 -> 0 | EV53: =EV58 -> 0 | EX53: =EX58 -> 0 | EY53: =EY58 -> 0 | FA53: =FA58 -> 0 | FB53: =FB58 -> 0 | FD53: =FD58 -> 0 | FE53: =FE58 -> 0 | FG53: =FG58 -> 3 | FH53: =FH58 -> 3 | FJ53: =FJ58 -> 0 | FK53: =FK58 -> 0 | FM53: =FM58 -> 27 | FN53: =FN58 -> 28 | FP53: =FP58 -> 39 | FQ53: =FQ58 -> 67 | FS53: =FS58 -> 0 | FT53: =FT58 -> 0 | FV53: =FV58 -> 0 | FW53: =FW58 -> 0 | FY53: =FY58 -> 36 | FZ53: =FZ58 -> 88 | GB53: =GB58 -> 0 | GC53: =GC58 -> 0 | GE53: =GE58 -> 0 | GF53: =GF58 -> 0 | GH53: =GH58 -> 0 | GI53: =GI58 -> 0 | GK53: =GK58 -> 0 | GL53: =GL58 -> 0 | GN53: =GN58 -> 0 | GO53: =GO58 -> 0 | GQ53: =GQ58 -> 0 | GR53: =GR58 -> 0 | GT53: =GT58 -> 0 | GU53: =GU58 -> 0 | GW53: =GW58 -> 0 | GX53: =GX58 -> 0 | GZ53: =GZ58 -> 0 | HA53: =HA58 -> 0 | HC53: =HC58 -> 0 | HD53: =HD58 -> 0 | HF53: =HF58 -> 0 | HG53: =HG58 -> 0 | HI53: =HI58 -> 0 | HJ53: =HJ58 -> 0 | HL53: =HL58 -> 1 | HM53: =HM58 -> 2 | HO53: =HO58 -> 0 | HP53: =HP58 -> 0 | HR53: =HR58 -> 0 | HS53: =HS58 -> 0 | HU53: =HU58 -> 0 | HV53: =HV58 -> 0 | HX53: =HX58 -> 0 | HY53: =HY58 -> 0 | IA53: =IA58 -> 0 | IB53: =IB58 -> 0 | ID53: =ID58 -> 0 | IE53: =IE58 -> 0
A54: 前年同期累計 | D54: =[1]前年度!D13 -> 0 | E54: =[1]前年度!E13 -> 0 | G54: =[1]前年度!G13 -> 0 | H54: =[1]前年度!H13 -> 0 | J54: =[1]前年度!J13 -> 0 | K54: =[1]前年度!K13 -> 0 | M54: =[1]前年度!M13 -> 0 | N54: =[1]前年度!N13 -> 0 | P54: =[1]前年度!P13 -> 0 | Q54: =[1]前年度!Q13 -> 0 | S54: =[1]前年度!S13 -> 0 | T54: =[1]前年度!T13 -> 0 | V54: =[1]前年度!V13 -> 0 | W54: =[1]前年度!W13 -> 0 | Y54: =[1]前年度!Y13 -> 0 | Z54: =[1]前年度!Z13 -> 0 | AB54: =[1]前年度!AB13 -> 0 | AC54: =[1]前年度!AC13 -> 0 | AE54: =[1]前年度!AE13 -> 0 | AF54: =[1]前年度!AF13 -> 0 | AH54: =[1]前年度!AH13 -> 0 | AI54: =[1]前年度!AI13 -> 0 | AK54: =[1]前年度!AK13 -> 0 | AL54: =[1]前年度!AL13 -> 0 | AN54: =[1]前年度!AN13 -> 0 | AO54: =[1]前年度!AO13 -> 0 | AQ54: =[1]前年度!AQ13 -> 0 | AR54: =[1]前年度!AR13 -> 0 | AT54: =[1]前年度!AT13 -> 1 | AU54: =[1]前年度!AU13 -> 1 | AW54: =[1]前年度!AW13 -> 0 | AX54: =[1]前年度!AX13 -> 0 | AZ54: =[1]前年度!AZ13 -> 0 | BA54: =[1]前年度!BA13 -> 0 | BC54: =[1]前年度!BI13 -> 45 | BD54: =[1]前年度!BJ13 -> 65 | BF54: =[1]前年度!BL13 -> 0 | BG54: =[1]前年度!BM13 -> 0 | BI54: =[1]前年度!BO13 -> 2 | BJ54: =[1]前年度!BP13 -> 10 | BL54: =[1]前年度!BR13 -> 0 | BM54: =[1]前年度!BS13 -> 0 | BO54: =[1]前年度!BU13 -> 1517 | BP54: =[1]前年度!BV13 -> 3015 | BR54: =[1]前年度!BX13 -> 0 | BS54: =[1]前年度!BY13 -> 0 | BU54: =[1]前年度!CA13 -> 0 | BV54: =[1]前年度!CB13 -> 0 | BX54: =[1]前年度!CD13 -> 0 | BY54: =[1]前年度!CE13 -> 0 | CA54: =[1]前年度!CG13 -> 0 | CB54: =[1]前年度!CH13 -> 0 | CD54: =[1]前年度!CJ13 -> 0 | CE54: =[1]前年度!CK13 -> 0 | CG54: =[1]前年度!CM13 -> 3 | CH54: =[1]前年度!CN13 -> 7 | CJ54: =[1]前年度!CP13 -> 0 | CK54: =[1]前年度!CQ13 -> 0 | CM54: =[1]前年度!CS13 -> 2 | CN54: =[1]前年度!CT13 -> 3 | CP54: =[1]前年度!CV13 -> 0 | CQ54: =[1]前年度!CW13 -> 0 | CS54: =[1]前年度!CY13 -> 0 | CT54: =[1]前年度!CZ13 -> 0 | CV54: =[1]前年度!DB13 -> 0 | CW54: =[1]前年度!DC13 -> 0 | CY54: =[1]前年度!DE13 -> 0 | CZ54: =[1]前年度!DF13 -> 0 | DB54: =[1]前年度!DH13 -> 0 | DC54: =[1]前年度!DI13 -> 0 | DE54: =[1]前年度!DK13 -> 0 | DF54: =[1]前年度!DL13 -> 0 | DH54: =[1]前年度!DN13 -> 0 | DI54: =[1]前年度!DO13 -> 0 | DK54: =[1]前年度!DQ13 -> 0 | DL54: =[1]前年度!DR13 -> 0 | DN54: =[1]前年度!DT13 -> 0 | DO54: =[1]前年度!DU13 -> 0 | DQ54: =[1]前年度!DW13 -> 64 | DR54: =[1]前年度!DX13 -> 66 | DT54: =[1]前年度!DZ13 -> 0 | DU54: =[1]前年度!EA13 -> 0 | DW54: =[1]前年度!EC13 -> 0 | DX54: =[1]前年度!ED13 -> 0 | DZ54: =[1]前年度!EF13 -> 0 | EA54: =[1]前年度!EG13 -> 0 | EC54: =[1]前年度!EI13 -> 1 | ED54: =[1]前年度!EJ13 -> 1 | EF54: =[1]前年度!EL13 -> 0 | EG54: =[1]前年度!EM13 -> 0 | EI54: =[1]前年度!EO13 -> 0 | EJ54: =[1]前年度!EP13 -> 0 | EL54: =[1]前年度!ER13 -> 0 | EM54: =[1]前年度!ES13 -> 0 | EO54: =[1]前年度!EU13 -> 0 | EP54: =[1]前年度!EV13 -> 0 | ER54: =[1]前年度!EX13 -> 0 | ES54: =[1]前年度!EY13 -> 0 | EU54: =[1]前年度!FA13 -> 0 | EV54: =[1]前年度!FB13 -> 0 | EX54: =[1]前年度!FD13 -> 0 | EY54: =[1]前年度!FE13 -> 0 | FA54: =[1]前年度!FG13 -> 0 | FB54: =[1]前年度!FH13 -> 0 | FD54: =[1]前年度!FJ13 -> 0 | FE54: =[1]前年度!FK13 -> 0 | FG54: =[1]前年度!FM13 -> 0 | FH54: =[1]前年度!FN13 -> 0 | FJ54: =[1]前年度!FP13 -> 0 | FK54: =[1]前年度!FQ13 -> 0 | FM54: =[1]前年度!FS13 -> 14 | FN54: =[1]前年度!FT13 -> 14 | FP54: =[1]前年度!FV13 -> 57 | FQ54: =[1]前年度!FW13 -> 174 | FS54: =[1]前年度!FY13 -> 0 | FT54: =[1]前年度!FZ13 -> 0 | FV54: =[1]前年度!GB13 -> 0 | FW54: =[1]前年度!GC13 -> 0 | FY54: =[1]前年度!GE13 -> 47 | FZ54: =[1]前年度!GF13 -> 120 | GB54: =[1]前年度!GH13 -> 0 | GC54: =[1]前年度!GI13 -> 0 | GE54: =[1]前年度!GK13 -> 0 | GF54: =[1]前年度!GL13 -> 0 | GH54: =[1]前年度!GN13 -> 1 | GI54: =[1]前年度!GO13 -> 3 | GK54: =[1]前年度!GQ13 -> 0 | GL54: =[1]前年度!GR13 -> 0 | GN54: =[1]前年度!GT13 -> 0 | GO54: =[1]前年度!GU13 -> 0 | GQ54: =[1]前年度!GW13 -> 0 | GR54: =[1]前年度!GX13 -> 0 | GT54: =[1]前年度!GZ13 -> 0 | GU54: =[1]前年度!HA13 -> 0 | GW54: =[1]前年度!HC13 -> 0 | GX54: =[1]前年度!HD13 -> 0 | GZ54: =[1]前年度!HF13 -> 0 | HA54: =[1]前年度!HG13 -> 0 | HC54: =[1]前年度!HI13 -> 0 | HD54: =[1]前年度!HJ13 -> 0 | HF54: =[1]前年度!HL13 -> 0 | HG54: =[1]前年度!HM13 -> 0 | HI54: =[1]前年度!HO13 -> 0 | HJ54: =[1]前年度!HP13 -> 0 | HL54: =[1]前年度!HR13 -> 3 | HM54: =[1]前年度!HS13 -> 4 | HO54: =[1]前年度!HU13 -> 0 | HP54: =[1]前年度!HV13 -> 0 | HR54: =[1]前年度!HX13 -> 0 | HS54: =[1]前年度!HY13 -> 0 | HU54: =[1]前年度!IA13 -> 0 | HV54: =[1]前年度!IB13 -> 0 | HX54: =[1]前年度!ID13 -> 0 | HY54: =[1]前年度!IE13 -> 0 | IA54: =[1]前年度!IG13 -> 0 | IB54: =[1]前年度!IH13 -> 0 | ID54: =[1]前年度!IJ13 -> 0 | IE54: =[1]前年度!IK13 -> 0
A57: ７月までの累計 | C57: =[1]届出伝染病①7月!C53 -> 0 | D57: =[1]届出伝染病①7月!D53 -> 0 | E57: =[1]届出伝染病①7月!E53 -> 0 | F57: =[1]届出伝染病①7月!F53 -> 0 | G57: =[1]届出伝染病①7月!G53 -> 0 | H57: =[1]届出伝染病①7月!H53 -> 0 | I57: =[1]届出伝染病①7月!I53 -> 0 | J57: =[1]届出伝染病①7月!J53 -> 0 | ... IE57: =[1]届出伝染病①7月!IE53 -> 0
A58: 累計 | C58: =C52+C57 -> 0 | D58: =D52+D57 -> 0 | E58: =E52+E57 -> 0 | F58: =F52+F57 -> 0 | G58: =G52+G57 -> 0 | H58: =H52+H57 -> 0 | I58: =I52+I57 -> 0 | J58: =J52+J57 -> 0 | ... IE58: =IE52+IE57 -> 0

Sheet 届出伝染病②8月
A2: 届出伝染病の種類 | C2: 馬ｲﾝﾌﾙｴﾝｻﾞ | F2: 馬ｳｲﾙｽ性 動脈炎 | I2: 馬鼻肺炎 | L2: ヘンドラ ウイルス 感染症 | O2: 馬痘 | R2: 野兎病 | U2: 野兎病 | X2: 野兎病 | AA2: 野兎病 | AD2: 野兎病 | AG2: 馬伝染性子宮炎 | AJ2: 馬ﾊﾟﾗﾁﾌｽ | AM2: 仮性皮疽 | AP2: 伝染性膿疱性皮膚炎 | AS2: 伝染性膿疱性皮膚炎 | AV2: 伝染性膿疱性皮膚炎 | AY2: ﾅｲﾛﾋﾞ羊病 | BB2: ﾅｲﾛﾋﾞ羊病 | BE2: 羊痘 | BH2: ﾏｴﾃﾞｨ･ﾋﾞｽﾅ | BK2: 伝染性 無乳症 | BN2: 伝染性 無乳症 | BQ2: 流行性 羊流産 | BT2: ﾄｷｿﾌﾟﾗｽﾞﾏ症 | BW2: ﾄｷｿﾌﾟﾗｽﾞﾏ症 | BZ2: ﾄｷｿﾌﾟﾗｽﾞﾏ症 | CC2: ﾄｷｿﾌﾟﾗｽﾞﾏ症 | CF2: 疥癬 | CI2: 山羊痘 | CL2: 山羊関節炎・脳炎 | CO2: 山羊伝染性 胸膜肺炎 | CR2: ｵｰｴｽｷｰ病 | CU2: ｵｰｴｽｷｰ病 | CX2: 伝染性 胃腸炎 | DA2: 伝染性 胃腸炎 | DD2: 豚テシオウイルス性脳脊髄炎 | DG2: 豚テシオウイルス性脳脊髄炎 | DJ2: 豚繁殖・呼吸障害症候群 | DM2: 豚繁殖・呼吸障害症候群 | DP2: 豚水疱疹 | DS2: 豚水疱疹 | DV2: 豚流行 性下痢 | DY2: 豚流行 性下痢 | EB2: 萎縮性 鼻炎 | EE2: 萎縮性 鼻炎 | EH2: 豚丹毒 | EK2: 豚丹毒 | EN2: 豚赤痢 | EQ2: 豚赤痢 | ET2: 鳥ｲﾝﾌﾙｴﾝｻﾞ | EW2: 鳥ｲﾝﾌﾙｴﾝｻﾞ | EZ2: 鳥ｲﾝﾌﾙｴﾝｻﾞ | FC2: 鳥ｲﾝﾌﾙｴﾝｻﾞ | FF2: 低病原性 ﾆｭｰｶｯｽﾙ病 | FI2: 低病原性 ﾆｭｰｶｯｽﾙ病 | FL2: 低病原性 ﾆｭｰｶｯｽﾙ病 | FO2: 低病原性 ﾆｭｰｶｯｽﾙ病 | FR2: 鶏痘 | FU2: 鶏痘 | FX2: ﾏﾚｯｸ病 | GA2: ﾏﾚｯｸ病 | GD2: 鶏伝染性 気管支炎 | GG2: 鶏伝染性 喉頭気管炎 | GJ2: 伝染性ﾌｧﾌﾞﾘｷｳｽ嚢病 | GM2: 鶏白血病 | GP2: 鳥結核 | GS2: 鳥結核 | GV2: 鳥結核 | GY2: 鳥結核 | HB2: 鳥ﾏｲｺﾌﾟﾗｽﾞﾏ症 | HE2: 鳥ﾏｲｺﾌﾟﾗｽﾞﾏ症 | HH2: ﾛｲｺﾁﾄｿﾞｰﾝ症 | HK2: あひるウイルス性肝炎 | HN2: あひる ｳｲﾙｽ性腸炎 | HQ2: 兎出血病 | HT2: 兎粘液腫 | HW2: ﾊﾞﾛｱ症 | HZ2: ﾁｮｰｸ病 | IC2: ｱｶﾘﾝﾀﾞﾆ症 | IF2: ﾉｾﾞﾏ症
A3: 家畜の種類 | C3: 馬 | F3: 馬 | I3: 馬 | L3: 馬 | O3: 馬 | R3: 馬 | U3: めん羊 | X3: 豚 | AA3: いのしし | AD3: 兎 | AG3: 馬 | AJ3: 馬 | AM3: 馬 | AP3: 鹿 | AS3: めん羊 | AV3: 山羊 | AY3: めん羊 | BB3: 山羊 | BE3: めん羊 | BH3: めん羊 | BK3: めん羊 | BN3: 山羊 | BQ3: めん羊 | BT3: めん羊 | BW3: 山羊 | BZ3: 豚 | CC3: いのしし | CF3: めん羊 | CI3: 山羊 | CL3: 山羊 | CO3: 山羊 | CR3: 豚 | CU3: いのしし | CX3: 豚 | DA3: いのしし | DD3: 豚 | DG3: いのしし | DJ3: 豚 | DM3: いのしし | DP3: 豚 | DS3: いのしし | DV3: 豚 | DY3: いのしし | EB3: 豚 | EE3: いのしし | EH3: 豚 | EK3: いのしし | EN3: 豚 | EQ3: いのしし | ET3: 鶏 | EW3: あひる | EZ3: 七面鳥 | FC3: うずら | FF3: 鶏 | FI3: あひる | FL3: 七面鳥 | FO3: うずら | FR3: 鶏 | FU3: うずら | FX3: 鶏 | GA3: うずら | GD3: 鶏 | GG3: 鶏 | GJ3: 鶏 | GM3: 鶏 | GP3: 鶏 | GS3: あひる | GV3: うずら | GY3: 七面鳥 | HB3: 鶏 | HE3: 七面鳥 | HH3: 鶏 | HK3: あひる | HN3: あひる | HQ3: 兎 | HT3: 兎 | HW3: 蜜蜂 | HZ3: 蜜蜂 | IC3: 蜜蜂 | IF3: 蜜蜂
C4: 戸数 | E4: 頭数 | F4: 戸数 | H4: 頭数 | I4: 戸数 | K4: 頭数 | L4: 戸数 | N4: 頭数 | O4: 戸数 | Q4: 頭数 | R4: 戸数 | T4: 頭数 | U4: 戸数 | W4: 頭数 | X4: 戸数 | Z4: 頭数 | AA4: 戸数 | AC4: 頭数 | AD4: 戸数 | AF4: 羽数 | AG4: 戸数 | AI4: 頭数 | AJ4: 戸数 | AL4: 頭数 | AM4: 戸数 | AO4: 頭数 | AP4: 戸数 | AR4: 頭数 | AS4: 戸数 | AU4: 頭数 | AV4: 戸数 | AX4: 頭数 | AY4: 戸数 | BA4: 頭数 | BB4: 戸数 | BD4: 頭数 | BE4: 戸数 | BG4: 頭数 | BH4: 戸数 | BJ4: 頭数 | BK4: 戸数 | BM4: 頭数 | BN4: 戸数 | BP4: 頭数 | BQ4: 戸数 | BS4: 頭数 | BT4: 戸数 | BV4: 頭数 | BW4: 戸数 | BY4: 頭数 | BZ4: 戸数 | CB4: 頭数 | CC4: 戸数 | CE4: 頭数 | CF4: 戸数 | CH4: 頭数 | CI4: 戸数 | CK4: 頭数 | CL4: 戸数 | CN4: 頭数 | CO4: 戸数 | CQ4: 頭数 | CR4: 戸数 | CT4: 頭数 | CU4: 戸数 | CW4: 頭数 | CX4: 戸数 | CZ4: 頭数 | DA4: 戸数 | DC4: 頭数 | DD4: 戸数 | DF4: 頭数 | DG4: 戸数 | DI4: 頭数 | DJ4: 戸数 | DL4: 頭数 | DM4: 戸数 | DO4: 頭数 | DP4: 戸数 | DR4: 頭数 | DS4: 戸数 | DU4: 頭数 | DV4: 戸数 | DX4: 頭数 | DY4: 戸数 | EA4: 頭数 | EB4: 戸数 | ED4: 頭数 | EE4: 戸数 | EG4: 頭数 | EH4: 戸数 | EJ4: 頭数 | EK4: 戸数 | EM4: 頭数 | EN4: 戸数 | EP4: 頭数 | EQ4: 戸数 | ES4: 頭数 | ET4: 戸数 | EV4: 羽数 | EW4: 戸数 | EY4: 羽数 | EZ4: 戸数 | FB4: 羽数 | FC4: 戸数 | FE4: 羽数 | FF4: 戸数 | FH4: 羽数 | FI4: 戸数 | FK4: 羽数 | FL4: 戸数 | FN4: 羽数 | FO4: 戸数 | FQ4: 羽数 | FR4: 戸数 | FT4: 羽数 | FU4: 戸数 | FW4: 羽数 | FX4: 戸数 | FZ4: 羽数 | GA4: 戸数 | GC4: 羽数 | GD4: 戸数 | GF4: 羽数 | GG4: 戸数 | GI4: 羽数 | GJ4: 戸数 | GL4: 羽数 | GM4: 戸数 | GO4: 羽数 | GP4: 戸数 | GR4: 羽数 | GS4: 戸数 | GU4: 羽数 | GV4: 戸数 | GX4: 羽数 | GY4: 戸数 | HA4: 羽数 | HB4: 戸数 | HD4: 羽数 | HE4: 戸数 | HG4: 羽数 | HH4: 戸数 | HJ4: 羽数 | HK4: 戸数 | HM4: 羽数 | HN4: 戸数 | HP4: 羽数 | HQ4: 戸数 | HS4: 羽数 | HT4: 戸数 | HV4: 羽数 | HW4: 戸数 | HY4: 群数 | HZ4: 戸数 | IB4: 群数 | IC4: 戸数 | IE4: 群数 | IF4: 戸数 | IH4: 群数
A5: 01 | B5: 北海道 | C5: ='[1]8月②'!C5 -> 0 | D5: ='[1]8月②'!D5 -> 0 | E5: ='[1]8月②'!E5 -> 0 | F5: ='[1]8月②'!F5 -> 0 | G5: ='[1]8月②'!G5 -> 0 | H5: ='[1]8月②'!H5 -> 0 | I5: ='[1]8月②'!I5 -> 0 | J5: ='[1]8月②'!J5 -> 1 | ... EG5: ='[1]8月②'!EG5 -> 0 | EH5: 0 | EI5: 0 | EJ5: 0 | EK5: ='[1]8月②'!EK5 -> 0 | EL5: ='[1]8月②'!EL5 -> 0 | EM5: ='[1]8月②'!EM5 -> 0 | EN5: ='[1]8月②'!EN5 -> 0 | EO5: ='[1]8月②'!EO5 -> 0 | EP5: ='[1]8月②'!EP5 -> 0 | EQ5: ='[1]8月②'!EQ5 -> 0 | ER5: ='[1]8月②'!ER5 -> 0 | ... IH5: ='[1]8月②'!IH5 -> 0
A6: 02 | B6: 青 森 | C6: ='[1]8月②'!C6 -> 0 | D6: ='[1]8月②'!D6 -> 0 | E6: ='[1]8月②'!E6 -> 0 | F6: ='[1]8月②'!F6 -> 0 | G6: ='[1]8月②'!G6 -> 0 | H6: ='[1]8月②'!H6 -> 0 | I6: ='[1]8月②'!I6 -> 0 | J6: ='[1]8月②'!J6 -> 0 | ... EG6: ='[1]8月②'!EG6 -> 0 | EH6: 0 | EI6: 0 | EJ6: 0 | EK6: ='[1]8月②'!EK6 -> 0 | EL6: ='[1]8月②'!EL6 -> 0 | EM6: ='[1]8月②'!EM6 -> 0 | EN6: ='[1]8月②'!EN6 -> 0 | EO6: ='[1]8月②'!EO6 -> 0 | EP6: ='[1]8月②'!EP6 -> 0 | EQ6: ='[1]8月②'!EQ6 -> 0 | ER6: ='[1]8月②'!ER6 -> 0 | ... IH6: ='[1]8月②'!IH6 -> 0
A7: 03 | B7: 岩 手 | C7: ='[1]8月②'!C7 -> 0 | D7: ='[1]8月②'!D7 -> 0 | E7: ='[1]8月②'!E7 -> 0 | F7: ='[1]8月②'!F7 -> 0 | G7: ='[1]8月②'!G7 -> 0 | H7: ='[1]8月②'!H7 -> 0 | I7: ='[1]8月②'!I7 -> 0 | J7: ='[1]8月②'!J7 -> 0 | ... EG7: ='[1]8月②'!EG7 -> 0 | EH7: 0 | EI7: 0 | EJ7: 0 | EK7: ='[1]8月②'!EK7 -> 0 | EL7: ='[1]8月②'!EL7 -> 0 | EM7: ='[1]8月②'!EM7 -> 0 | EN7: ='[1]8月②'!EN7 -> 0 | EO7: ='[1]8月②'!EO7 -> 0 | EP7: ='[1]8月②'!EP7 -> 0 | EQ7: ='[1]8月②'!EQ7 -> 0 | ER7: ='[1]8月②'!ER7 -> 0 | ... IH7: ='[1]8月②'!IH7 -> 0
A8: 04 | B8: 宮 城 | C8: ='[1]8月②'!C8 -> 0 | D8: ='[1]8月②'!D8 -> 0 | E8: ='[1]8月②'!E8 -> 0 | F8: ='[1]8月②'!F8 -> 0 | G8: ='[1]8月②'!G8 -> 0 | H8: ='[1]8月②'!H8 -> 0 | I8: ='[1]8月②'!I8 -> 0 | J8: ='[1]8月②'!J8 -> 0 | ... EG8: ='[1]8月②'!EG8 -> 0 | EH8: 0 | EI8: 0 | EJ8: 0 | EK8: ='[1]8月②'!EK8 -> 0 | EL8: ='[1]8月②'!EL8 -> 0 | EM8: ='[1]8月②'!EM8 -> 0 | EN8: ='[1]8月②'!EN8 -> 0 | EO8: ='[1]8月②'!EO8 -> 0 | EP8: ='[1]8月②'!EP8 -> 0 | EQ8: ='[1]8月②'!EQ8 -> 0 | ER8: ='[1]8月②'!ER8 -> 0 | ... IH8: ='[1]8月②'!IH8 -> 0
A9: 05 | B9: 秋 田 | C9: ='[1]8月②'!C9 -> 0 | D9: ='[1]8月②'!D9 -> 0 | E9: ='[1]8月②'!E9 -> 0 | F9: ='[1]8月②'!F9 -> 0 | G9: ='[1]8月②'!G9 -> 0 | H9: ='[1]8月②'!H9 -> 0 | I9: ='[1]8月②'!I9 -> 0 | J9: ='[1]8月②'!J9 -> 0 | ... EG9: ='[1]8月②'!EG9 -> 0 | EH9: 0 | EI9: 0 | EJ9: 0 | EK9: ='[1]8月②'!EK9 -> 0 | EL9: ='[1]8月②'!EL9 -> 0 | EM9: ='[1]8月②'!EM9 -> 0 | EN9: ='[1]8月②'!EN9 -> 0 | EO9: ='[1]8月②'!EO9 -> 0 | EP9: ='[1]8月②'!EP9 -> 0 | EQ9: ='[1]8月②'!EQ9 -> 0 | ER9: ='[1]8月②'!ER9 -> 0 | ... IH9: ='[1]8月②'!IH9 -> 0
A10: 06 | B10: 山 形 | C10: ='[1]8月②'!C10 -> 0 | D10: ='[1]8月②'!D10 -> 0 | E10: ='[1]8月②'!E10 -> 0 | F10: ='[1]8月②'!F10 -> 0 | G10: ='[1]8月②'!G10 -> 0 | H10: ='[1]8月②'!H10 -> 0 | I10: ='[1]8月②'!I10 -> 0 | J10: ='[1]8月②'!J10 -> 0 | ... EG10: ='[1]8月②'!EG10 -> 0 | EH10: 0 | EI10: 0 | EJ10: 0 | EK10: ='[1]8月②'!EK10 -> 0 | EL10: ='[1]8月②'!EL10 -> 0 | EM10: ='[1]8月②'!EM10 -> 0 | EN10: ='[1]8月②'!EN10 -> 0 | EO10: ='[1]8月②'!EO10 -> 0 | EP10: ='[1]8月②'!EP10 -> 0 | EQ10: ='[1]8月②'!EQ10 -> 0 | ER10: ='[1]8月②'!ER10 -> 0 | ... IH10: ='[1]8月②'!IH10 -> 0
A11: 07 | B11: 福 島 | C11: ='[1]8月②'!C11 -> 0 | D11: ='[1]8月②'!D11 -> 0 | E11: ='[1]8月②'!E11 -> 0 | F11: ='[1]8月②'!F11 -> 0 | G11: ='[1]8月②'!G11 -> 0 | H11: ='[1]8月②'!H11 -> 0 | I11: ='[1]8月②'!I11 -> 0 | J11: ='[1]8月②'!J11 -> 0 | ... EG11: ='[1]8月②'!EG11 -> 0 | EH11: 0 | EI11: 0 | EJ11: 0 | EK11: ='[1]8月②'!EK11 -> 0 | EL11: ='[1]8月②'!EL11 -> 0 | EM11: ='[1]8月②'!EM11 -> 0 | EN11: ='[1]8月②'!EN11 -> 0 | EO11: ='[1]8月②'!EO11 -> 0 | EP11: ='[1]8月②'!EP11 -> 0 | EQ11: ='[1]8月②'!EQ11 -> 0 | ER11: ='[1]8月②'!ER11 -> 0 | ... IH11: ='[1]8月②'!IH11 -> 0
A12: 08 | B12: 茨 城 | C12: ='[1]8月②'!C12 -> 0 | D12: ='[1]8月②'!D12 -> 0 | E12: ='[1]8月②'!E12 -> 0 | F12: ='[1]8月②'!F12 -> 0 | G12: ='[1]8月②'!G12 -> 0 | H12: ='[1]8月②'!H12 -> 0 | I12: ='[1]8月②'!I12 -> 0 | J12: ='[1]8月②'!J12 -> 0 | ... EG12: ='[1]8月②'!EG12 -> 0 | EH12: 2 | EI12: 0 | EJ12: 3 | EK12: ='[1]8月②'!EK12 -> 0 | EL12: ='[1]8月②'!EL12 -> 0 | EM12: ='[1]8月②'!EM12 -> 0 | EN12: ='[1]8月②'!EN12 -> 0 | EO12: ='[1]8月②'!EO12 -> 0 | EP12: ='[1]8月②'!EP12 -> 0 | EQ12: ='[1]8月②'!EQ12 -> 0 | ER12: ='[1]8月②'!ER12 -> 0 | ... IH12: ='[1]8月②'!IH12 -> 0
A13: 09 | B13: 栃 木 | C13: ='[1]8月②'!C13 -> 0 | D13: ='[1]8月②'!D13 -> 0 | E13: ='[1]8月②'!E13 -> 0 | F13: ='[1]8月②'!F13 -> 0 | G13: ='[1]8月②'!G13 -> 0 | H13: ='[1]8月②'!H13 -> 0 | I13: ='[1]8月②'!I13 -> 0 | J13: ='[1]8月②'!J13 -> 0 | ... EG13: ='[1]8月②'!EG13 -> 0 | EH13: 0 | EI13: 1 | EJ13: 1 | EK13: ='[1]8月②'!EK13 -> 0 | EL13: ='[1]8月②'!EL13 -> 0 | EM13: ='[1]8月②'!EM13 -> 0 | EN13: ='[1]8月②'!EN13 -> 0 | EO13: ='[1]8月②'!EO13 -> 0 | EP13: ='[1]8月②'!EP13 -> 0 | EQ13: ='[1]8月②'!EQ13 -> 0 | ER13: ='[1]8月②'!ER13 -> 0 | ... IH13: ='[1]8月②'!IH13 -> 0
A14: 10 | B14: 群 馬 | C14: ='[1]8月②'!C14 -> 0 | D14: ='[1]8月②'!D14 -> 0 | E14: ='[1]8月②'!E14 -> 0 | F14: ='[1]8月②'!F14 -> 0 | G14: ='[1]8月②'!G14 -> 0 | H14: ='[1]8月②'!H14 -> 0 | I14: ='[1]8月②'!I14 -> 0 | J14: ='[1]8月②'!J14 -> 0 | ... EG14: ='[1]8月②'!EG14 -> 0 | EH14: 1 | EI14: 0 | EJ14: 1 | EK14: ='[1]8月②'!EK14 -> 0 | EL14: ='[1]8月②'!EL14 -> 0 | EM14: ='[1]8月②'!EM14 -> 0 | EN14: ='[1]8月②'!EN14 -> 0 | EO14: ='[1]8月②'!EO14 -> 0 | EP14: ='[1]8月②'!EP14 -> 0 | EQ14: ='[1]8月②'!EQ14 -> 0 | ER14: ='[1]8月②'!ER14 -> 0 | ... IH14: ='[1]8月②'!IH14 -> 0
A15: 11 | B15: 埼 玉 | C15: ='[1]8月②'!C15 -> 0 | D15: ='[1]8月②'!D15 -> 0 | E15: ='[1]8月②'!E15 -> 0 | F15: ='[1]8月②'!F15 -> 0 | G15: ='[1]8月②'!G15 -> 0 | H15: ='[1]8月②'!H15 -> 0 | I15: ='[1]8月②'!I15 -> 0 | J15: ='[1]8月②'!J15 -> 0 | ... EG15: ='[1]8月②'!EG15 -> 0 | EH15: 0 | EI15: 0 | EJ15: 0 | EK15: ='[1]8月②'!EK15 -> 0 | EL15: ='[1]8月②'!EL15 -> 0 | EM15: ='[1]8月②'!EM15 -> 0 | EN15: ='[1]8月②'!EN15 -> 0 | EO15: ='[1]8月②'!EO15 -> 0 | EP15: ='[1]8月②'!EP15 -> 0 | EQ15: ='[1]8月②'!EQ15 -> 0 | ER15: ='[1]8月②'!ER15 -> 0 | ... IH15: ='[1]8月②'!IH15 -> 0
A16: 12 | B16: 千 葉 | C16: ='[1]8月②'!C16 -> 0 | D16: ='[1]8月②'!D16 -> 0 | E16: ='[1]8月②'!E16 -> 0 | F16: ='[1]8月②'!F16 -> 0 | G16: ='[1]8月②'!G16 -> 0 | H16: ='[1]8月②'!H16 -> 0 | I16: ='[1]8月②'!I16 -> 0 | J16: ='[1]8月②'!J16 -> 0 | ... EG16: ='[1]8月②'!EG16 -> 0 | EH16: 0 | EI16: 0 | EJ16: 0 | EK16: ='[1]8月②'!EK16 -> 0 | EL16: ='[1]8月②'!EL16 -> 0 | EM16: ='[1]8月②'!EM16 -> 0 | EN16: ='[1]8月②'!EN16 -> 0 | EO16: ='[1]8月②'!EO16 -> 0 | EP16: ='[1]8月②'!EP16 -> 0 | EQ16: ='[1]8月②'!EQ16 -> 0 | ER16: ='[1]8月②'!ER16 -> 0 | ... IH16: ='[1]8月②'!IH16 -> 0
... A51: 47 | B51: 沖 縄 | C51: ='[1]8月②'!C51 -> 0 | D51: ='[1]8月②'!D51 -> 0 | E51: ='[1]8月②'!E51 -> 0 | F51: ='[1]8月②'!F51 -> 0 | G51: ='[1]8月②'!G51 -> 0 | H51: ='[1]8月②'!H51 -> 0 | I51: ='[1]8月②'!I51 -> 0 | J51: ='[1]8月②'!J51 -> 0 | ... EG51: ='[1]8月②'!EG51 -> 0 | EH51: 0 | EI51: 1 | EJ51: 1 | EK51: ='[1]8月②'!EK51 -> 0 | EL51: ='[1]8月②'!EL51 -> 0 | EM51: ='[1]8月②'!EM51 -> 0 | EN51: ='[1]8月②'!EN51 -> 0 | EO51: ='[1]8月②'!EO51 -> 1 | EP51: ='[1]8月②'!EP51 -> 1 | EQ51: ='[1]8月②'!EQ51 -> 0 | ER51: ='[1]8月②'!ER51 -> 0 | ... IH51: ='[1]8月②'!IH51 -> 0
A52: 合 計 | C52: =SUM(C5:C51) -> 0 | D52: =SUM(D5:D51) -> 0 | E52: =SUM(E5:E51) -> 0 | F52: =SUM(F5:F51) -> 0 | G52: =SUM(G5:G51) -> 0 | H52: =SUM(H5:H51) -> 0 | I52: =SUM(I5:I51) -> 0 | J52: =SUM(J5:J51) -> 1 | ... EG52: =SUM(EG5:EG51) -> 0 | EH52: 7 | EI52: 11 | EJ52: 26 | EK52: =SUM(EK5:EK51) -> 0 | EL52: =SUM(EL5:EL51) -> 0 | EM52: =SUM(EM5:EM51) -> 0 | EN52: =SUM(EN5:EN51) -> 0 | EO52: =SUM(EO5:EO51) -> 2 | EP52: =SUM(EP5:EP51) -> 2 | EQ52: =SUM(EQ5:EQ51) -> 0 | ER52: =SUM(ER5:ER51) -> 0 | ... IH52: =SUM(IH5:IH51) -> 0
A53: 累 計 | D53: =D58 -> 11 | E53: =E58 -> 37 | G53: =G58 -> 0 | H53: =H58 -> 0 | J53: =J58 -> 10 | K53: =K58 -> 11 | M53: =M58 -> 0 | N53: =N58 -> 0 | P53: =P58 -> 0 | Q53: =Q58 -> 0 | S53: =S58 -> 0 | T53: =T58 -> 0 | V53: =V58 -> 0 | W53: =W58 -> 0 | Y53: =Y58 -> 0 | Z53: =Z58 -> 0 | AB53: =AB58 -> 0 | AC53: =AC58 -> 0 | AE53: =AE58 -> 0 | AF53: =AF58 -> 0 | AH53: =AH58 -> 0 | AI53: =AI58 -> 0 | AK53: =AK58 -> 0 | AL53: =AL58 -> 0 | AN53: =AN58 -> 0 | AO53: =AO58 -> 0 | AQ53: =AQ58 -> 0 | AR53: =AR58 -> 0 | AT53: =AT58 -> 1 | AU53: =AU58 -> 2 | AW53: =AW58 -> 0 | AX53: =AX58 -> 0 | AZ53: =AZ58 -> 0 | BA53: =BA58 -> 0 | BC53: =BC58 -> 0 | BD53: =BD58 -> 0 | BF53: =BF58 -> 0 | BG53: =BG58 -> 0 | BI53: =BI58 -> 0 | BJ53: =BJ58 -> 0 | BL53: =BL58 -> 0 | BM53: =BM58 -> 0 | BO53: =BO58 -> 0 | BP53: =BP58 -> 0 | BR53: =BR58 -> 0 | BS53: =BS58 -> 0 | BU53: =BU58 -> 0 | BV53: =BV58 -> 0 | BX53: =BX58 -> 0 | BY53: =BY58 -> 0 | CA53: =CA58 -> 5 | CB53: =CB58 -> 7 | CD53: =CD58 -> 0 | CE53: =CE58 -> 0 | CG53: =CG58 -> 0 | CH53: =CH58 -> 0 | CJ53: =CJ58 -> 0 | CK53: =CK58 -> 0 | CM53: =CM58 -> 0 | CN53: =CN58 -> 0 | CP53: =CP58 -> 0 | CQ53: =CQ58 -> 0 | CS53: =CS58 -> 0 | CT53: =CT58 -> 0 | CV53: =CV58 -> 0 | CW53: =CW58 -> 0 | CY53: =CY58 -> 0 | CZ53: =CZ58 -> 0 | DB53: =DB58 -> 0 | DC53: =DC58 -> 0 | DE53: =DE58 -> 0 | DF53: =DF58 -> 0 | DH53: =DH58 -> 0 | DI53: =DI58 -> 0 | DK53: =DK58 -> 11 | DL53: =DL58 -> 28 | DN53: =DN58 -> 0 | DO53: =DO58 -> 0 | DQ53: =DQ58 -> 0 | DR53: =DR58 -> 0 | DT53: =DT58 -> 0 | DU53: =DU58 -> 0 | DW53: =DW58 -> 0 | DX53: =DX58 -> 0 | DZ53: =DZ58 -> 0 | EA53: =EA58 -> 0 | EC53: =EC58 -> 0 | ED53: =ED58 -> 0 | EF53: =EF58 -> 0 | EG53: =EG58 -> 0 | EI53: 158 | EJ53: 489 | EL53: =EL58 -> 0 | EM53: =EM58 -> 0 | EO53: =EO58 -> 8 | EP53: =EP58 -> 16 | ER53: =ER58 -> 0 | ES53: =ES58 -> 0 | EU53: =EU58 -> 0 | EV53: =EV58 -> 0 | EX53: =EX58 -> 0 | EY53: =EY58 -> 0 | FA53: =FA58 -> 0 | FB53: =FB58 -> 0 | FD53: =FD58 -> 0 | FE53: =FE58 -> 0 | FG53: =FG58 -> 0 | FH53: =FH58 -> 0 | FJ53: =FJ58 -> 0 | FK53: =FK58 -> 0 | FM53: =FM58 -> 0 | FN53: =FN58 -> 0 | FP53: =FP58 -> 0 | FQ53: =FQ58 -> 0 | FS53: =FS58 -> 3 | FT53: =FT58 -> 29 | FV53: =FV58 -> 0 | FW53: =FW58 -> 0 | FY53: =FY58 -> 5 | FZ53: =FZ58 -> 215 | GB53: =GB58 -> 0 | GC53: =GC58 -> 0 | GE53: =GE58 -> 17 | GF53: =GF58 -> 63 | GH53: =GH58 -> 5 | GI53: =GI58 -> 31 | GK53: =GK58 -> 10 | GL53: =GL58 -> 65 | GN53: =GN58 -> 0 | GO53: =GO58 -> 0 | GQ53: =GQ58 -> 0 | GR53: =GR58 -> 0 | GT53: =GT58 -> 0 | GU53: =GU58 -> 0 | GW53: =GW58 -> 0 | GX53: =GX58 -> 0 | GZ53: =GZ58 -> 0 | HA53: =HA58 -> 0 | HC53: =HC58 -> 0 | HD53: =HD58 -> 0 | HF53: =HF58 -> 0 | HG53: =HG58 -> 0 | HI53: =HI58 -> 3 | HJ53: =HJ58 -> 21 | HL53: =HL58 -> 0 | HM53: =HM58 -> 0 | HO53: =HO58 -> 0 | HP53: =HP58 -> 0 | HR53: =HR58 -> 4 | HS53: =HS58 -> 17 | HU53: =HU58 -> 0 | HV53: =HV58 -> 0 | HX53: =HX58 -> 29 | HY53: =HY58 -> 1252 | IA53: =IA58 -> 18 | IB53: =IB58 -> 211 | ID53: =ID58 -> 33 | IE53: =IE58 -> 55 | IG53: =IG58 -> 3 | IH53: =IH58 -> 8
A54: 前年同期累計 | D54: =[1]前年度!D29 -> 0 | E54: =[1]前年度!E29 -> 0 | G54: =[1]前年度!G29 -> 0 | H54: =[1]前年度!H29 -> 0 | J54: =[1]前年度!J29 -> 13 | K54: =[1]前年度!K29 -> 22 | M54: =[1]前年度!M29 -> 0 | N54: =[1]前年度!N29 -> 0 | P54: =[1]前年度!P29 -> 0 | Q54: =[1]前年度!Q29 -> 0 | S54: =[1]前年度!S29 -> 0 | T54: =[1]前年度!T29 -> 0 | V54: =[1]前年度!V29 -> 0 | W54: =[1]前年度!W29 -> 0 | Y54: =[1]前年度!Y29 -> 0 | Z54: =[1]前年度!Z29 -> 0 | AB54: =[1]前年度!AB29 -> 0 | AC54: =[1]前年度!AC29 -> 0 | AE54: =[1]前年度!AE29 -> 0 | AF54: =[1]前年度!AF29 -> 0 | AH54: =[1]前年度!AH29 -> 0 | AI54: =[1]前年度!AI29 -> 0 | AK54: =[1]前年度!AK29 -> 1 | AL54: =[1]前年度!AL29 -> 2 | AN54: =[1]前年度!AN29 -> 0 | AO54: =[1]前年度!AO29 -> 0 | AQ54: =[1]前年度!AQ29 -> 0 | AR54: =[1]前年度!AR29 -> 0 | AT54: =[1]前年度!AT29 -> 2 | AU54: =[1]前年度!AU29 -> 4 | AW54: =[1]前年度!AW29 -> 0 | AX54: =[1]前年度!AX29 -> 0 | AZ54: =[1]前年度!AZ29 -> 0 | BA54: =[1]前年度!BA29 -> 0 | BC54: =[1]前年度!BC29 -> 0 | BD54: =[1]前年度!BD29 -> 0 | BF54: =[1]前年度!BF29 -> 0 | BG54: =[1]前年度!BG29 -> 0 | BI54: =[1]前年度!BI29 -> 0 | BJ54: =[1]前年度!BJ29 -> 0 | BL54: =[1]前年度!BL29 -> 0 | BM54: =[1]前年度!BM29 -> 0 | BO54: =[1]前年度!BO29 -> 0 | BP54: =[1]前年度!BP29 -> 0 | BR54: =[1]前年度!BR29 -> 0 | BS54: =[1]前年度!BS29 -> 0 | BU54: =[1]前年度!BU29 -> 0 | BV54: =[1]前年度!BV29 -> 0 | BX54: =[1]前年度!BX29 -> 0 | BY54: =[1]前年度!BY29 -> 0 | CA54: =[1]前年度!CA29 -> 7 | CB54: =[1]前年度!CB29 -> 21 | CD54: =[1]前年度!CD29 -> 0 | CE54: =[1]前年度!CE29 -> 0 | CG54: =[1]前年度!CG29 -> 0 | CH54: =[1]前年度!CH29 -> 0 | CJ54: =[1]前年度!CJ29 -> 0 | CK54: =[1]前年度!CK29 -> 0 | CM54: =[1]前年度!CM29 -> 0 | CN54: =[1]前年度!CN29 -> 0 | CP54: =[1]前年度!CP29 -> 0 | CQ54: =[1]前年度!CQ29 -> 0 | CS54: =[1]前年度!CS29 -> 0 | CT54: =[1]前年度!CT29 -> 0 | CV54: =[1]前年度!CV29 -> 0 | CW54: =[1]前年度!CW29 -> 0 | CY54: =[1]前年度!CY29 -> 1 | CZ54: =[1]前年度!CZ29 -> 5 | DB54: =[1]前年度!DB29 -> 0 | DC54: =[1]前年度!DC29 -> 0 | DE54: =[1]前年度!DE29 -> 1 | DF54: =[1]前年度!DF29 -> 3 | DH54: =[1]前年度!DH29 -> 0 | DI54: =[1]前年度!DI29 -> 0 | DK54: =[1]前年度!DK29 -> 7 | DL54: =[1]前年度!DL29 -> 32 | DN54: =[1]前年度!DN29 -> 0 | DO54: =[1]前年度!DO29 -> 0 | DQ54: =[1]前年度!DQ29 -> 0 | DR54: =[1]前年度!DR29 -> 0 | DT54: =[1]前年度!DT29 -> 0 | DU54: =[1]前年度!DU29 -> 0 | DW54: =[1]前年度!DW29 -> 3 | DX54: =[1]前年度!DX29 -> 8 | DZ54: =[1]前年度!DZ29 -> 0 | EA54: =[1]前年度!EA29 -> 0 | EC54: =[1]前年度!EC29 -> 0 | ED54: =[1]前年度!ED29 -> 0 | EF54: =[1]前年度!EF29 -> 0 | EG54: =[1]前年度!EG29 -> 0 | EI54: 159 | EJ54: 475 | EL54: =[1]前年度!EL29 -> 0 | EM54: =[1]前年度!EM29 -> 0 | EO54: =[1]前年度!EO29 -> 10 | EP54: =[1]前年度!EP29 -> 34 | ER54: =[1]前年度!ER29 -> 0 | ES54: =[1]前年度!ES29 -> 0 | EU54: =[1]前年度!EU29 -> 0 | EV54: =[1]前年度!EV29 -> 0 | EX54: =[1]前年度!EX29 -> 1 | EY54: =[1]前年度!EY29 -> 3 | FA54: =[1]前年度!FA29 -> 0 | FB54: =[1]前年度!FB29 -> 0 | FD54: =[1]前年度!FD29 -> 0 | FE54: =[1]前年度!FE29 -> 0 | FG54: =[1]前年度!FG29 -> 0 | FH54: =[1]前年度!FH29 -> 0 | FJ54: =[1]前年度!FJ29 -> 0 | FK54: =[1]前年度!FK29 -> 0 | FM54: =[1]前年度!FM29 -> 0 | FN54: =[1]前年度!FN29 -> 0 | FP54: =[1]前年度!FP29 -> 0 | FQ54: =[1]前年度!FQ29 -> 0 | FS54: =[1]前年度!FS29 -> 5 | FT54: =[1]前年度!FT29 -> 15 | FV54: =[1]前年度!FV29 -> 0 | FW54: =[1]前年度!FW29 -> 0 | FY54: =[1]前年度!FY29 -> 11 | FZ54: =[1]前年度!FZ29 -> 835 | GB54: =[1]前年度!GB29 -> 0 | GC54: =[1]前年度!GC29 -> 0 | GE54: =[1]前年度!GE29 -> 12 | GF54: =[1]前年度!GF29 -> 77 | GH54: =[1]前年度!GH29 -> 0 | GI54: =[1]前年度!GI29 -> 0 | GK54: =[1]前年度!GK29 -> 7 | GL54: =[1]前年度!GL29 -> 19 | GN54: =[1]前年度!GN29 -> 0 | GO54: =[1]前年度!GO29 -> 0 | GQ54: =[1]前年度!GQ29 -> 0 | GR54: =[1]前年度!GR29 -> 0 | GT54: =[1]前年度!GT29 -> 0 | GU54: =[1]前年度!GU29 -> 0 | GW54: =[1]前年度!GW29 -> 0 | GX54: =[1]前年度!GX29 -> 0 | GZ54: =[1]前年度!GZ29 -> 0 | HA54: =[1]前年度!HA29 -> 0 | HC54: =[1]前年度!HC29 -> 3 | HD54: =[1]前年度!HD29 -> 13 | HF54: =[1]前年度!HF29 -> 0 | HG54: =[1]前年度!HG29 -> 0 | HI54: =[1]前年度!HI29 -> 0 | HJ54: =[1]前年度!HJ29 -> 0 | HL54: =[1]前年度!HL29 -> 0 | HM54: =[1]前年度!HM29 -> 0 | HO54: =[1]前年度!HO29 -> 0 | HP54: =[1]前年度!HP29 -> 0 | HR54: =[1]前年度!HR29 -> 0 | HS54: =[1]前年度!HS29 -> 0 | HU54: =[1]前年度!HU29 -> 0 | HV54: =[1]前年度!HV29 -> 0 | HX54: =[1]前年度!HX29 -> 28 | HY54: =[1]前年度!HY29 -> 893 | IA54: =[1]前年度!IA29 -> 24 | IB54: =[1]前年度!IB29 -> 445 | ID54: =[1]前年度!ID29 -> 47 | IE54: =[1]前年度!IE29 -> 62 | IG54: =[1]前年度!IG29 -> 2 | IH54: =[1]前年度!IH29 -> 17
A57: 7月までの累計 | C57: =[1]届出伝染病②7月!C53 -> 0 | D57: =[1]届出伝染病②7月!D53 -> 11 | E57: =[1]届出伝染病②7月!E53 -> 37 | F57: =[1]届出伝染病②7月!F53 -> 0 | G57: =[1]届出伝染病②7月!G53 -> 0 | H57: =[1]届出伝染病②7月!H53 -> 0 | I57: =[1]届出伝染病②7月!I53 -> 0 | J57: =[1]届出伝染病②7月!J53 -> 9 | ... IH57: =[1]届出伝染病②7月!IH53 -> 8
A58: 累計 | C58: =C52+C57 -> 0 | D58: =D52+D57 -> 11 | E58: =E52+E57 -> 37 | F58: =F52+F57 -> 0 | G58: =G52+G57 -> 0 | H58: =H52+H57 -> 0 | I58: =I52+I57 -> 0 | J58: =J52+J57 -> 10 | ... IH58: =IH52+IH57 -> 8
