Workbook
Name 病名: [1]コード情報!$I$4:$AF$4

Sheet 家畜伝染病8月
A2: 伝染病の 種 類 | C2: 牛疫 | F2: 牛疫 | I2: 牛疫 | L2: 牛疫 | O2: 牛肺疫 | R2: 口蹄疫 | U2: 口蹄疫 | X2: 口蹄疫 | AA2: 口蹄疫 | AD2: 流行性 脳炎 | AG2: 流行性 脳炎 | AJ2: 流行性 脳炎 | AM2: 流行性 脳炎 | AP2: 流行性 脳炎 | AS2: 狂犬病 | AV2: 狂犬病 | AY2: 狂犬病 | BB2: 狂犬病 | BE2: 狂犬病 | BH2: 水疱性口内炎 | BK2: 水疱性口内炎 | BN2: 水疱性口内炎 | BQ2: ﾘﾌﾄﾊﾞﾚｰ熱 | BT2: ﾘﾌﾄﾊﾞﾚｰ熱 | BW2: ﾘﾌﾄﾊﾞﾚｰ熱 | BZ2: 炭疽 | CC2: 炭疽 | CF2: 炭疽 | CI2: 炭疽 | CL2: 炭疽 | CO2: 出血性 敗血症 | CR2: 出血性 敗血症 | CU2: 出血性 敗血症 | CX2: 出血性 敗血症 | DA2: ブルセラ症 | DD2: ブルセラ症 | DG2: ブルセラ症 | DJ2: ブルセラ症 | DM2: 結核 | DP2: 結核 | DS2: ヨーネ病 | DV2: ヨーネ病 | DY2: ヨーネ病 | EB2: ヨーネ病 | EE2: ﾋﾟﾛﾌﾟﾗｽﾞﾏ症 | EH2: ﾋﾟﾛﾌﾟﾗｽﾞﾏ症 | EK2: ｱﾅﾌﾟﾗｽﾞﾏ症 | EN2: 伝達性 海綿状脳症 | EQ2: 伝達性 海綿状脳症 | ET2: 伝達性 海綿状脳症 | EW2: 鼻疽 | EZ2: 馬伝染性 貧血 | FC2: アフリカ 馬疫 | FF2: 小反芻獣疫 | FI2: 小反芻獣疫 | FL2: 豚熱 | FO2: アフリカ 豚熱 | FR2: 豚水疱病 | FU2: 家きん コレラ | FX2: 家きん コレラ | GA2: 家きん コレラ | GD2: 高病原性 鳥ｲﾝﾌﾙｴﾝｻﾞ | GG2: 高病原性 鳥ｲﾝﾌﾙｴﾝｻﾞ | GJ2: 高病原性 鳥ｲﾝﾌﾙｴﾝｻﾞ | GM2: 高病原性 鳥ｲﾝﾌﾙｴﾝｻﾞ | GP2: 高病原性 鳥ｲﾝﾌﾙｴﾝｻﾞ | GS2: 低病原性 鳥ｲﾝﾌﾙｴﾝｻﾞ | GV2: 低病原性 鳥ｲﾝﾌﾙｴﾝｻﾞ | GY2: 低病原性 鳥ｲﾝﾌﾙｴﾝｻﾞ | HB2: ﾆｭｰｶｯｽﾙ病 | HE2: ﾆｭｰｶｯｽﾙ病 | HH2: ﾆｭｰｶｯｽﾙ病 | HK2: 家きん ｻﾙﾓﾈﾗ症 | HN2: 家きん ｻﾙﾓﾈﾗ症 | HQ2: 家きん ｻﾙﾓﾈﾗ症 | HT2: 腐蛆病
A3: 家畜の種類 | C3: 牛 | F3: めん羊 | I3: 山羊 | L3: 豚 | O3: 牛 | R3: 牛 | U3: めん羊 | X3: 山羊 | AA3: 豚 | AD3: 牛 | AG3: 馬 | AJ3: めん羊 | AM3: 山羊 | AP3: 豚 | AS3: 牛 | AV3: 馬 | AY3: めん羊 | BB3: 山羊 | BE3: 豚 | BH3: 牛 | BK3: 馬 | BN3: 豚 | BQ3: 牛 | BT3: めん羊 | BW3: 山羊 | BZ3: 牛 | CC3: 馬 | CF3: めん羊 | CI3: 山羊 | CL3: 豚 | CO3: 牛 | CR3: めん羊 | CU3: 山羊 | CX3: 豚 | DA3: 牛 | DD3: めん羊 | DG3: 山羊 | DJ3: 豚 | DM3: 牛 | DP3: 山羊 | DS3: 牛 | DV3: めん羊 | DY3: 山羊 | EB3: 鹿 | EE3: 牛 | EH3: 馬 | EK3: 牛 | EN3: 牛 | EQ3: めん羊 | ET3: 山羊 | EW3: 馬 | EZ3: 馬 | FC3: 馬 | FF3: めん羊 | FI3: 山羊 | FL3: 豚 | FO3: 豚 | FR3: 豚 | FU3: 鶏 | FX3: あひる | GA3: うずら | GD3: 鶏 | GG3: あひる | GJ3: うずら | GM3: だちょう | GP3: ほろほろ鳥 | GS3: 鶏 | GV3: あひる | GY3: うずら | HB3: 鶏 | HE3: あひる | HH3: うずら | HK3: 鶏 | HN3: あひる | HQ3: うずら | HT3: 蜜蜂
C4: 戸数 | E4: 頭数 | F4: 戸数 | H4: 頭数 | I4: 戸数 | K4: 頭数 | L4: 戸数 | N4: 頭数 | O4: 戸数 | Q4: 頭数 | R4: 戸数 | T4: 頭数 | U4: 戸数 | W4: 頭数 | X4: 戸数 | Z4: 頭数 | AA4: 戸数 | AC4: 頭数 | AD4: 戸数 | AF4: 頭数 | AG4: 戸数 | AI4: 頭数 | AJ4: 戸数 | AL4: 頭数 | AM4: 戸数 | AO4: 頭数 | AP4: 戸数 | AR4: 頭数 | AS4: 戸数 | AU4: 頭数 | AV4: 戸数 | AX4: 頭数 | AY4: 戸数 | BA4: 頭数 | BB4: 戸数 | BD4: 頭数 | BE4: 戸数 | BG4: 羽数 | BH4: 戸数 | BJ4: 羽数 | BK4: 戸数 | BM4: 羽数 | BN4: 戸数 | BP4: 羽数 | BQ4: 戸数 | BS4: 羽数 | BT4: 戸数 | BV4: 羽数 | BW4: 戸数 | BY4: 羽数 | BZ4: 戸数 | CB4: 羽数 | CC4: 戸数 | CE4: 羽数 | CF4: 戸数 | CH4: 羽数 | CI4: 戸数 | CK4: 羽数 | CL4: 戸数 | CN4: 羽数 | CO4: 戸数 | CQ4: 羽数 | CR4: 戸数 | CT4: 羽数 | CU4: 戸数 | CW4: 羽数 | CX4: 戸数 | CZ4: 群数 | DA4: 戸数 | DC4: 羽数 | DD4: 戸数 | DF4: 羽数 | DG4: 戸数 | DI4: 羽数 | DJ4: 戸数 | DL4: 羽数 | DM4: 戸数 | DO4: 群数 | DP4: 戸数 | DR4: 頭数 | DS4: 戸数 | DU4: 頭数 | DV4: 戸数 | DX4: 頭数 | DY4: 戸数 | EA4: 頭数 | EB4: 戸数 | ED4: 頭数 | EE4: 戸数 | EG4: 頭数 | EH4: 戸数 | EJ4: 頭数 | EK4: 戸数 | EM4: 頭数 | EN4: 戸数 | EP4: 頭数 | EQ4: 戸数 | ES4: 頭数 | ET4: 戸数 | EV4: 頭数 | EW4: 戸数 | EY4: 頭数 | EZ4: 戸数 | FB4: 頭数 | FC4: 戸数 | FE4: 頭数 | FF4: 戸数 | FH4: 頭数 | FI4: 戸数 | FK4: 頭数 | FL4: 戸数 | FN4: 頭数 | FO4: 戸数 | FQ4: 頭数 | FR4: 戸数 | FT4: 頭数 | FU4: 戸数 | FW4: 羽数 | FX4: 戸数 | FZ4: 羽数 | GA4: 戸数 | GC4: 羽数 | GD4: 戸数 | GF4: 羽数 | GG4: 戸数 | GI4: 羽数 | GJ4: 戸数 | GL4: 羽数 | GM4: 戸数 | GO4: 羽数 | GP4: 戸数 | GR4: 羽数 | GS4: 戸数 | GU4: 羽数 | GV4: 戸数 | GX4: 羽数 | GY4: 戸数 | HA4: 羽数 | HB4: 戸数 | HD4: 羽数 | HE4: 戸数 | HG4: 羽数 | HH4: 戸数 | HJ4: 羽数 | HK4: 戸数 | HM4: 羽数 | HN4: 戸数 | HP4: 羽数 | HQ4: 戸数 | HS4: 羽数 | HT4: 戸数 | HV4: 群数
A5: 01 | B5: 北海道 | C5: 0 | D5: 0 | E5: 0 | F5: 0 | G5: 0 | H5: 0 | I5: 0 | J5: 0 | K5: 0 | L5: 0 | M5: 0 | N5: 0 | O5: 0 | P5: 0 | Q5: 0 | R5: 0 | S5: 0 | T5: 0 | U5: 0 | V5: 0 | W5: 0 | X5: 0 | Y5: 0 | Z5: 0 | AA5: 0 | AB5: 0 | AC5: 0 | AD5: 0 | AE5: 0 | AF5: 0 | AG5: 0 | AH5: 0 | AI5: 0 | AJ5: 0 | AK5: 0 | AL5: 0 | AM5: 0 | AN5: 0 | AO5: 0 | AP5: 0 | AQ5: 0 | AR5: 0 | AS5: 0 | AT5: 0 | AU5: 0 | AV5: 0 | AW5: 0 | AX5: 0 | AY5: 0 | AZ5: 0 | BA5: 0 | BB5: 0 | BC5: 0 | BD5: 0 | BE5: 0 | BF5: 0 | BG5: 0 | BH5: 0 | BI5: 0 | BJ5: 0 | BK5: 0 | BL5: 0 | BM5: 0 | BN5: 0 | BO5: 0 | BP5: 0 | BQ5: 0 | BR5: 0 | BS5: 0 | BT5: 0 | BU5: 0 | BV5: 0 | BW5: 0 | BX5: 0 | BY5: 0 | BZ5: 0 | CA5: 0 | CB5: 0 | CC5: 0 | CD5: 0 | CE5: 0 | CF5: 0 | CG5: 0 | CH5: 0 | CI5: 0 | CJ5: 0 | CK5: 0 | CL5: 0 | CM5: 0 | CN5: 0 | CO5: 0 | CP5: 0 | CQ5: 0 | CR5: 0 | CS5: 0 | CT5: 0 | CU5: 0 | CV5: 0 | CW5: 0 | CX5: 0 | CY5: 0 | CZ5: 0 | DA5: 0 | DB5: 0 | DC5: 0 | DD5: 0 | DE5: 0 | DF5: 0 | DG5: 0 | DH5: 0 | DI5: 0 | DJ5: 0 | DK5: 0 | DL5: 0 | DM5: 0 | DN5: 0 | DO5: 0 | DP5: 0 | DQ5: 0 | DR5: 0 | DS5: 4 | DT5: 37 | DU5: 74 | DV5: 0 | DW5: 0 | DX5: 0 | DY5: 0 | DZ5: 0 | EA5: 0 | EB5: 0 | EC5: 0 | ED5: 0 | EE5: 0 | EF5: 0 | EG5: 0 | EH5: 0 | EI5: 0 | EJ5: 0 | EK5: 0 | EL5: 0 | EM5: 0 | EN5: 0 | EO5: 0 | EP5: 0 | EQ5: 0 | ER5: 0 | ES5: 0 | ET5: 0 | EU5: 0 | EV5: 0 | EW5: 0 | EX5: 0 | EY5: 0 | EZ5: 0 | FA5: 0 | FB5: 0 | FC5: 0 | FD5: 0 | FE5: 0 | FF5: 0 | FG5: 0 | FH5: 0 | FI5: 0 | FJ5: 0 | FK5: 0 | FL5: 0 | FM5: 0 | FN5: 0 | FO5: 0 | FP5: 0 | FQ5: 0 | FR5: 0 | FS5: 0 | FT5: 0 | FU5: 0 | FV5: 0 | FW5: 0 | FX5: 0 | FY5: 0 | FZ5: 0 | GA5: 0 | GB5: 0 | GC5: 0 | GD5: 0 | GE5: 0 | GF5: 0 | GG5: 0 | GH5: 0 | GI5: 0 | GJ5: 0 | GK5: 0 | GL5: 0 | GM5: 0 | GN5: 0 | GO5: 0 | GP5: 0 | GQ5: 0 | GR5: 0 | GS5: 0 | GT5: 0 | GU5: 0 | GV5: 0 | GW5: 0 | GX5: 0 | GY5: 0 | GZ5: 0 | HA5: 0 | HB5: 0 | HC5: 0 | HD5: 0 | HE5: 0 | HF5: 0 | HG5: 0 | HH5: 0 | HI5: 0 | HJ5: 0 | HK5: 0 | HL5: 0 | HM5: 0 | HN5: 0 | HO5: 0 | HP5: 0 | HQ5: 0 | HR5: 0 | HS5: 0 | HT5: 0 | HU5: 0 | HV5: 0
A6: 02 | B6: 青 森 | C6: 0 | D6: 0 | E6: 0 | F6: 0 | G6: 0 | H6: 0 | I6: 0 | J6: 0 | K6: 0 | L6: 0 | M6: 0 | N6: 0 | O6: 0 | P6: 0 | Q6: 0 | R6: 0 | S6: 0 | T6: 0 | U6: 0 | V6: 0 | W6: 0 | X6: 0 | Y6: 0 | Z6: 0 | AA6: 0 | AB6: 0 | AC6: 0 | AD6: 0 | AE6: 0 | AF6: 0 | AG6: 0 | AH6: 0 | AI6: 0 | AJ6: 0 | AK6: 0 | AL6: 0 | AM6: 0 | AN6: 0 | AO6: 0 | AP6: 0 | AQ6: 0 | AR6: 0 | AS6: 0 | AT6: 0 | AU6: 0 | AV6: 0 | AW6: 0 | AX6: 0 | AY6: 0 | AZ6: 0 | BA6: 0 | BB6: 0 | BC6: 0 | BD6: 0 | BE6: 0 | BF6: 0 | BG6: 0 | BH6: 0 | BI6: 0 | BJ6: 0 | BK6: 0 | BL6: 0 | BM6: 0 | BN6: 0 | BO6: 0 | BP6: 0 | BQ6: 0 | BR6: 0 | BS6: 0 | BT6: 0 | BU6: 0 | BV6: 0 | BW6: 0 | BX6: 0 | BY6: 0 | BZ6: 0 | CA6: 0 | CB6: 0 | CC6: 0 | CD6: 0 | CE6: 0 | CF6: 0 | CG6: 0 | CH6: 0 | CI6: 0 | CJ6: 0 | CK6: 0 | CL6: 0 | CM6: 0 | CN6: 0 | CO6: 0 | CP6: 0 | CQ6: 0 | CR6: 0 | CS6: 0 | CT6: 0 | CU6: 0 | CV6: 0 | CW6: 0 | CX6: 0 | CY6: 0 | CZ6: 0 | DA6: 0 | DB6: 0 | DC6: 0 | DD6: 0 | DE6: 0 | DF6: 0 | DG6: 0 | DH6: 0 | DI6: 0 | DJ6: 0 | DK6: 0 | DL6: 0 | DM6: 0 | DN6: 0 | DO6: 0 | DP6: 0 | DQ6: 0 | DR6: 0 | DS6: 0 | DT6: 0 | DU6: 0 | DV6: 0 | DW6: 0 | DX6: 0 | DY6: 0 | DZ6: 0 | EA6: 0 | EB6: 0 | EC6: 0 | ED6: 0 | EE6: 0 | EF6: 0 | EG6: 0 | EH6: 0 | EI6: 0 | EJ6: 0 | EK6: 0 | EL6: 0 | EM6: 0 | EN6: 0 | EO6: 0 | EP6: 0 | EQ6: 0 | ER6: 0 | ES6: 0 | ET6: 0 | EU6: 0 | EV6: 0 | EW6: 0 | EX6: 0 | EY6: 0 | EZ6: 0 | FA6: 0 | FB6: 0 | FC6: 0 | FD6: 0 | FE6: 0 | FF6: 0 | FG6: 0 | FH6: 0 | FI6: 0 | FJ6: 0 | FK6: 0 | FL6: 0 | FM6: 0 | FN6: 0 | FO6: 0 | FP6: 0 | FQ6: 0 | FR6: 0 | FS6: 0 | FT6: 0 | FU6: 0 | FV6: 0 | FW6: 0 | FX6: 0 | FY6: 0 | FZ6: 0 | GA6: 0 | GB6: 0 | GC6: 0 | GD6: 0 | GE6: 0 | GF6: 0 | GG6: 0 | GH6: 0 | GI6: 0 | GJ6: 0 | GK6: 0 | GL6: 0 | GM6: 0 | GN6: 0 | GO6: 0 | GP6: 0 | GQ6: 0 | GR6: 0 | GS6: 0 | GT6: 0 | GU6: 0 | GV6: 0 | GW6: 0 | GX6: 0 | GY6: 0 | GZ6: 0 | HA6: 0 | HB6: 0 | HC6: 0 | HD6: 0 | HE6: 0 | HF6: 0 | HG6: 0 | HH6: 0 | HI6: 0 | HJ6: 0 | HK6: 0 | HL6: 0 | HM6: 0 | HN6: 0 | HO6: 0 | HP6: 0 | HQ6: 0 | HR6: 0 | HS6: 0 | HT6: 0 | HU6: 0 | HV6: 0
A7: 03 | B7: 岩 手 | C7: 0 | D7: 0 | E7: 0 | F7: 0 | G7: 0 | H7: 0 | I7: 0 | J7: 0 | K7: 0 | L7: 0 | M7: 0 | N7: 0 | O7: 0 | P7: 0 | Q7: 0 | R7: 0 | S7: 0 | T7: 0 | U7: 0 | V7: 0 | W7: 0 | X7: 0 | Y7: 0 | Z7: 0 | AA7: 0 | AB7: 0 | AC7: 0 | AD7: 0 | AE7: 0 | AF7: 0 | AG7: 0 | AH7: 0 | AI7: 0 | AJ7: 0 | AK7: 0 | AL7: 0 | AM7: 0 | AN7: 0 | AO7: 0 | AP7: 0 | AQ7: 0 | AR7: 0 | AS7: 0 | AT7: 0 | AU7: 0 | AV7: 0 | AW7: 0 | AX7: 0 | AY7: 0 | AZ7: 0 | BA7: 0 | BB7: 0 | BC7: 0 | BD7: 0 | BE7: 0 | BF7: 0 | BG7: 0 | BH7: 0 | BI7: 0 | BJ7: 0 | BK7: 0 | BL7: 0 | BM7: 0 | BN7: 0 | BO7: 0 | BP7: 0 | BQ7: 0 | BR7: 0 | BS7: 0 | BT7: 0 | BU7: 0 | BV7: 0 | BW7: 0 | BX7: 0 | BY7: 0 | BZ7: 0 | CA7: 0 | CB7: 0 | CC7: 0 | CD7: 0 | CE7: 0 | CF7: 0 | CG7: 0 | CH7: 0 | CI7: 0 | CJ7: 0 | CK7: 0 | CL7: 0 | CM7: 0 | CN7: 0 | CO7: 0 | CP7: 0 | CQ7: 0 | CR7: 0 | CS7: 0 | CT7: 0 | CU7: 0 | CV7: 0 | CW7: 0 | CX7: 0 | CY7: 0 | CZ7: 0 | DA7: 0 | DB7: 0 | DC7: 0 | DD7: 0 | DE7: 0 | DF7: 0 | DG7: 0 | DH7: 0 | DI7: 0 | DJ7: 0 | DK7: 0 | DL7: 0 | DM7: 0 | DN7: 0 | DO7: 0 | DP7: 0 | DQ7: 0 | DR7: 0 | DS7: 0 | DT7: 0 | DU7: 0 | DV7: 0 | DW7: 0 | DX7: 0 | DY7: 0 | DZ7: 0 | EA7: 0 | EB7: 0 | EC7: 0 | ED7: 0 | EE7: 0 | EF7: 0 | EG7: 0 | EH7: 0 | EI7: 0 | EJ7: 0 | EK7: 0 | EL7: 0 | EM7: 0 | EN7: 0 | EO7: 0 | EP7: 0 | EQ7: 0 | ER7: 0 | ES7: 0 | ET7: 0 | EU7: 0 | EV7: 0 | EW7: 0 | EX7: 0 | EY7: 0 | EZ7: 0 | FA7: 0 | FB7: 0 | FC7: 0 | FD7: 0 | FE7: 0 | FF7: 0 | FG7: 0 | FH7: 0 | FI7: 0 | FJ7: 0 | FK7: 0 | FL7: 0 | FM7: 0 | FN7: 0 | FO7: 0 | FP7: 0 | FQ7: 0 | FR7: 0 | FS7: 0 | FT7: 0 | FU7: 0 | FV7: 0 | FW7: 0 | FX7: 0 | FY7: 0 | FZ7: 0 | GA7: 0 | GB7: 0 | GC7: 0 | GD7: 0 | GE7: 0 | GF7: 0 | GG7: 0 | GH7: 0 | GI7: 0 | GJ7: 0 | GK7: 0 | GL7: 0 | GM7: 0 | GN7: 0 | GO7: 0 | GP7: 0 | GQ7: 0 | GR7: 0 | GS7: 0 | GT7: 0 | GU7: 0 | GV7: 0 | GW7: 0 | GX7: 0 | GY7: 0 | GZ7: 0 | HA7: 0 | HB7: 0 | HC7: 0 | HD7: 0 | HE7: 0 | HF7: 0 | HG7: 0 | HH7: 0 | HI7: 0 | HJ7: 0 | HK7: 0 | HL7: 0 | HM7: 0 | HN7: 0 | HO7: 0 | HP7: 0 | HQ7: 0 | HR7: 0 | HS7: 0 | HT7: 0 | HU7: 0 | HV7: 0
A8: 04 | B8: 宮 城 | C8: 0 | D8: 0 | E8: 0 | F8: 0 | G8: 0 | H8: 0 | I8: 0 | J8: 0 | K8: 0 | L8: 0 | M8: 0 | N8: 0 | O8: 0 | P8: 0 | Q8: 0 | R8: 0 | S8: 0 | T8: 0 | U8: 0 | V8: 0 | W8: 0 | X8: 0 | Y8: 0 | Z8: 0 | AA8: 0 | AB8: 0 | AC8: 0 | AD8: 0 | AE8: 0 | AF8: 0 | AG8: 0 | AH8: 0 | AI8: 0 | AJ8: 0 | AK8: 0 | AL8: 0 | AM8: 0 | AN8: 0 | AO8: 0 | AP8: 0 | AQ8: 0 | AR8: 0 | AS8: 0 | AT8: 0 | AU8: 0 | AV8: 0 | AW8: 0 | AX8: 0 | AY8: 0 | AZ8: 0 | BA8: 0 | BB8: 0 | BC8: 0 | BD8: 0 | BE8: 0 | BF8: 0 | BG8: 0 | BH8: 0 | BI8: 0 | BJ8: 0 | BK8: 0 | BL8: 0 | BM8: 0 | BN8: 0 | BO8: 0 | BP8: 0 | BQ8: 0 | BR8: 0 | BS8: 0 | BT8: 0 | BU8: 0 | BV8: 0 | BW8: 0 | BX8: 0 | BY8: 0 | BZ8: 0 | CA8: 0 | CB8: 0 | CC8: 0 | CD8: 0 | CE8: 0 | CF8: 0 | CG8: 0 | CH8: 0 | CI8: 0 | CJ8: 0 | CK8: 0 | CL8: 0 | CM8: 0 | CN8: 0 | CO8: 0 | CP8: 0 | CQ8: 0 | CR8: 0 | CS8: 0 | CT8: 0 | CU8: 0 | CV8: 0 | CW8: 0 | CX8: 0 | CY8: 0 | CZ8: 0 | DA8: 0 | DB8: 0 | DC8: 0 | DD8: 0 | DE8: 0 | DF8: 0 | DG8: 0 | DH8: 0 | DI8: 0 | DJ8: 0 | DK8: 0 | DL8: 0 | DM8: 0 | DN8: 0 | DO8: 0 | DP8: 0 | DQ8: 0 | DR8: 0 | DS8: 0 | DT8: 0 | DU8: 0 | DV8: 0 | DW8: 0 | DX8: 0 | DY8: 0 | DZ8: 0 | EA8: 0 | EB8: 0 | EC8: 0 | ED8: 0 | EE8: 0 | EF8: 0 | EG8: 0 | EH8: 0 | EI8: 0 | EJ8: 0 | EK8: 0 | EL8: 0 | EM8: 0 | EN8: 0 | EO8: 0 | EP8: 0 | EQ8: 0 | ER8: 0 | ES8: 0 | ET8: 0 | EU8: 0 | EV8: 0 | EW8: 0 | EX8: 0 | EY8: 0 | EZ8: 0 | FA8: 0 | FB8: 0 | FC8: 0 | FD8: 0 | FE8: 0 | FF8: 0 | FG8: 0 | FH8: 0 | FI8: 0 | FJ8: 0 | FK8: 0 | FL8: 0 | FM8: 0 | FN8: 0 | FO8: 0 | FP8: 0 | FQ8: 0 | FR8: 0 | FS8: 0 | FT8: 0 | FU8: 0 | FV8: 0 | FW8: 0 | FX8: 0 | FY8: 0 | FZ8: 0 | GA8: 0 | GB8: 0 | GC8: 0 | GD8: 0 | GE8: 0 | GF8: 0 | GG8: 0 | GH8: 0 | GI8: 0 | GJ8: 0 | GK8: 0 | GL8: 0 | GM8: 0 | GN8: 0 | GO8: 0 | GP8: 0 | GQ8: 0 | GR8: 0 | GS8: 0 | GT8: 0 | GU8: 0 | GV8: 0 | GW8: 0 | GX8: 0 | GY8: 0 | GZ8: 0 | HA8: 0 | HB8: 0 | HC8: 0 | HD8: 0 | HE8: 0 | HF8: 0 | HG8: 0 | HH8: 0 | HI8: 0 | HJ8: 0 | HK8: 0 | HL8: 0 | HM8: 0 | HN8: 0 | HO8: 0 | HP8: 0 | HQ8: 0 | HR8: 0 | HS8: 0 | HT8: 0 | HU8: 0 | HV8: 0
A9: 05 | B9: 秋 田 | C9: 0 | D9: 0 | E9: 0 | F9: 0 | G9: 0 | H9: 0 | I9: 0 | J9: 0 | K9: 0 | L9: 0 | M9: 0 | N9: 0 | O9: 0 | P9: 0 | Q9: 0 | R9: 0 | S9: 0 | T9: 0 | U9: 0 | V9: 0 | W9: 0 | X9: 0 | Y9: 0 | Z9: 0 | AA9: 0 | AB9: 0 | AC9: 0 | AD9: 0 | AE9: 0 | AF9: 0 | AG9: 0 | AH9: 0 | AI9: 0 | AJ9: 0 | AK9: 0 | AL9: 0 | AM9: 0 | AN9: 0 | AO9: 0 | AP9: 0 | AQ9: 0 | AR9: 0 | AS9: 0 | AT9: 0 | AU9: 0 | AV9: 0 | AW9: 0 | AX9: 0 | AY9: 0 | AZ9: 0 | BA9: 0 | BB9: 0 | BC9: 0 | BD9: 0 | BE9: 0 | BF9: 0 | BG9: 0 | BH9: 0 | BI9: 0 | BJ9: 0 | BK9: 0 | BL9: 0 | BM9: 0 | BN9: 0 | BO9: 0 | BP9: 0 | BQ9: 0 | BR9: 0 | BS9: 0 | BT9: 0 | BU9: 0 | BV9: 0 | BW9: 0 | BX9: 0 | BY9: 0 | BZ9: 0 | CA9: 0 | CB9: 0 | CC9: 0 | CD9: 0 | CE9: 0 | CF9: 0 | CG9: 0 | CH9: 0 | CI9: 0 | CJ9: 0 | CK9: 0 | CL9: 0 | CM9: 0 | CN9: 0 | CO9: 0 | CP9: 0 | CQ9: 0 | CR9: 0 | CS9: 0 | CT9: 0 | CU9: 0 | CV9: 0 | CW9: 0 | CX9: 0 | CY9: 0 | CZ9: 0 | DA9: 0 | DB9: 0 | DC9: 0 | DD9: 0 | DE9: 0 | DF9: 0 | DG9: 0 | DH9: 0 | DI9: 0 | DJ9: 0 | DK9: 0 | DL9: 0 | DM9: 0 | DN9: 0 | DO9: 0 | DP9: 0 | DQ9: 0 | DR9: 0 | DS9: 0 | DT9: 0 | DU9: 0 | DV9: 0 | DW9: 0 | DX9: 0 | DY9: 0 | DZ9: 0 | EA9: 0 | EB9: 0 | EC9: 0 | ED9: 0 | EE9: 0 | EF9: 0 | EG9: 0 | EH9: 0 | EI9: 0 | EJ9: 0 | EK9: 0 | EL9: 0 | EM9: 0 | EN9: 0 | EO9: 0 | EP9: 0 | EQ9: 0 | ER9: 0 | ES9: 0 | ET9: 0 | EU9: 0 | EV9: 0 | EW9: 0 | EX9: 0 | EY9: 0 | EZ9: 0 | FA9: 0 | FB9: 0 | FC9: 0 | FD9: 0 | FE9: 0 | FF9: 0 | FG9: 0 | FH9: 0 | FI9: 0 | FJ9: 0 | FK9: 0 | FL9: 0 | FM9: 0 | FN9: 0 | FO9: 0 | FP9: 0 | FQ9: 0 | FR9: 0 | FS9: 0 | FT9: 0 | FU9: 0 | FV9: 0 | FW9: 0 | FX9: 0 | FY9: 0 | FZ9: 0 | GA9: 0 | GB9: 0 | GC9: 0 | GD9: 0 | GE9: 0 | GF9: 0 | GG9: 0 | GH9: 0 | GI9: 0 | GJ9: 0 | GK9: 0 | GL9: 0 | GM9: 0 | GN9: 0 | GO9: 0 | GP9: 0 | GQ9: 0 | GR9: 0 | GS9: 0 | GT9: 0 | GU9: 0 | GV9: 0 | GW9: 0 | GX9: 0 | GY9: 0 | GZ9: 0 | HA9: 0 | HB9: 0 | HC9: 0 | HD9: 0 | HE9: 0 | HF9: 0 | HG9: 0 | HH9: 0 | HI9: 0 | HJ9: 0 | HK9: 0 | HL9: 0 | HM9: 0 | HN9: 0 | HO9: 0 | HP9: 0 | HQ9: 0 | HR9: 0 | HS9: 0 | HT9: 0 | HU9: 0 | HV9: 0
A10: 06 | B10: 山 形 | C10: 0 | D10: 0 | E10: 0 | F10: 0 | G10: 0 | H10: 0 | I10: 0 | J10: 0 | K10: 0 | L10: 0 | M10: 0 | N10: 0 | O10: 0 | P10: 0 | Q10: 0 | R10: 0 | S10: 0 | T10: 0 | U10: 0 | V10: 0 | W10: 0 | X10: 0 | Y10: 0 | Z10: 0 | AA10: 0 | AB10: 0 | AC10: 0 | AD10: 0 | AE10: 0 | AF10: 0 | AG10: 0 | AH10: 0 | AI10: 0 | AJ10: 0 | AK10: 0 | AL10: 0 | AM10: 0 | AN10: 0 | AO10: 0 | AP10: 0 | AQ10: 0 | AR10: 0 | AS10: 0 | AT10: 0 | AU10: 0 | AV10: 0 | AW10: 0 | AX10: 0 | AY10: 0 | AZ10: 0 | BA10: 0 | BB10: 0 | BC10: 0 | BD10: 0 | BE10: 0 | BF10: 0 | BG10: 0 | BH10: 0 | BI10: 0 | BJ10: 0 | BK10: 0 | BL10: 0 | BM10: 0 | BN10: 0 | BO10: 0 | BP10: 0 | BQ10: 0 | BR10: 0 | BS10: 0 | BT10: 0 | BU10: 0 | BV10: 0 | BW10: 0 | BX10: 0 | BY10: 0 | BZ10: 0 | CA10: 0 | CB10: 0 | CC10: 0 | CD10: 0 | CE10: 0 | CF10: 0 | CG10: 0 | CH10: 0 | CI10: 0 | CJ10: 0 | CK10: 0 | CL10: 0 | CM10: 0 | CN10: 0 | CO10: 0 | CP10: 0 | CQ10: 0 | CR10: 0 | CS10: 0 | CT10: 0 | CU10: 0 | CV10: 0 | CW10: 0 | CX10: 0 | CY10: 0 | CZ10: 0 | DA10: 0 | DB10: 0 | DC10: 0 | DD10: 0 | DE10: 0 | DF10: 0 | DG10: 0 | DH10: 0 | DI10: 0 | DJ10: 0 | DK10: 0 | DL10: 0 | DM10: 0 | DN10: 0 | DO10: 0 | DP10: 0 | DQ10: 0 | DR10: 0 | DS10: 0 | DT10: 0 | DU10: 0 | DV10: 0 | DW10: 0 | DX10: 0 | DY10: 0 | DZ10: 0 | EA10: 0 | EB10: 0 | EC10: 0 | ED10: 0 | EE10: 0 | EF10: 0 | EG10: 0 | EH10: 0 | EI10: 0 | EJ10: 0 | EK10: 0 | EL10: 0 | EM10: 0 | EN10: 0 | EO10: 0 | EP10: 0 | EQ10: 0 | ER10: 0 | ES10: 0 | ET10: 0 | EU10: 0 | EV10: 0 | EW10: 0 | EX10: 0 | EY10: 0 | EZ10: 0 | FA10: 0 | FB10: 0 | FC10: 0 | FD10: 0 | FE10: 0 | FF10: 0 | FG10: 0 | FH10: 0 | FI10: 0 | FJ10: 0 | FK10: 0 | FL10: 0 | FM10: 0 | FN10: 0 | FO10: 0 | FP10: 0 | FQ10: 0 | FR10: 0 | FS10: 0 | FT10: 0 | FU10: 0 | FV10: 0 | FW10: 0 | FX10: 0 | FY10: 0 | FZ10: 0 | GA10: 0 | GB10: 0 | GC10: 0 | GD10: 0 | GE10: 0 | GF10: 0 | GG10: 0 | GH10: 0 | GI10: 0 | GJ10: 0 | GK10: 0 | GL10: 0 | GM10: 0 | GN10: 0 | GO10: 0 | GP10: 0 | GQ10: 0 | GR10: 0 | GS10: 0 | GT10: 0 | GU10: 0 | GV10: 0 | GW10: 0 | GX10: 0 | GY10: 0 | GZ10: 0 | HA10: 0 | HB10: 0 | HC10: 0 | HD10: 0 | HE10: 0 | HF10: 0 | HG10: 0 | HH10: 0 | HI10: 0 | HJ10: 0 | HK10: 0 | HL10: 0 | HM10: 0 | HN10: 0 | HO10: 0 | HP10: 0 | HQ10: 0 | HR10: 0 | HS10: 0 | HT10: 0 | HU10: 0 | HV10: 0
A11: 07 | B11: 福 島 | C11: 0 | D11: 0 | E11: 0 | F11: 0 | G11: 0 | H11: 0 | I11: 0 | J11: 0 | K11: 0 | L11: 0 | M11: 0 | N11: 0 | O11: 0 | P11: 0 | Q11: 0 | R11: 0 | S11: 0 | T11: 0 | U11: 0 | V11: 0 | W11: 0 | X11: 0 | Y11: 0 | Z11: 0 | AA11: 0 | AB11: 0 | AC11: 0 | AD11: 0 | AE11: 0 | AF11: 0 | AG11: 0 | AH11: 0 | AI11: 0 | AJ11: 0 | AK11: 0 | AL11: 0 | AM11: 0 | AN11: 0 | AO11: 0 | AP11: 0 | AQ11: 0 | AR11: 0 | AS11: 0 | AT11: 0 | AU11: 0 | AV11: 0 | AW11: 0 | AX11: 0 | AY11: 0 | AZ11: 0 | BA11: 0 | BB11: 0 | BC11: 0 | BD11: 0 | BE11: 0 | BF11: 0 | BG11: 0 | BH11: 0 | BI11: 0 | BJ11: 0 | BK11: 0 | BL11: 0 | BM11: 0 | BN11: 0 | BO11: 0 | BP11: 0 | BQ11: 0 | BR11: 0 | BS11: 0 | BT11: 0 | BU11: 0 | BV11: 0 | BW11: 0 | BX11: 0 | BY11: 0 | BZ11: 0 | CA11: 0 | CB11: 0 | CC11: 0 | CD11: 0 | CE11: 0 | CF11: 0 | CG11: 0 | CH11: 0 | CI11: 0 | CJ11: 0 | CK11: 0 | CL11: 0 | CM11: 0 | CN11: 0 | CO11: 0 | CP11: 0 | CQ11: 0 | CR11: 0 | CS11: 0 | CT11: 0 | CU11: 0 | CV11: 0 | CW11: 0 | CX11: 0 | CY11: 0 | CZ11: 0 | DA11: 0 | DB11: 0 | DC11: 0 | DD11: 0 | DE11: 0 | DF11: 0 | DG11: 0 | DH11: 0 | DI11: 0 | DJ11: 0 | DK11: 0 | DL11: 0 | DM11: 0 | DN11: 0 | DO11: 0 | DP11: 0 | DQ11: 0 | DR11: 0 | DS11: 0 | DT11: 0 | DU11: 0 | DV11: 0 | DW11: 0 | DX11: 0 | DY11: 0 | DZ11: 0 | EA11: 0 | EB11: 0 | EC11: 0 | ED11: 0 | EE11: 0 | EF11: 0 | EG11: 0 | EH11: 0 | EI11: 0 | EJ11: 0 | EK11: 0 | EL11: 0 | EM11: 0 | EN11: 0 | EO11: 0 | EP11: 0 | EQ11: 0 | ER11: 0 | ES11: 0 | ET11: 0 | EU11: 0 | EV11: 0 | EW11: 0 | EX11: 0 | EY11: 0 | EZ11: 0 | FA11: 0 | FB11: 0 | FC11: 0 | FD11: 0 | FE11: 0 | FF11: 0 | FG11: 0 | FH11: 0 | FI11: 0 | FJ11: 0 | FK11: 0 | FL11: 0 | FM11: 0 | FN11: 0 | FO11: 0 | FP11: 0 | FQ11: 0 | FR11: 0 | FS11: 0 | FT11: 0 | FU11: 0 | FV11: 0 | FW11: 0 | FX11: 0 | FY11: 0 | FZ11: 0 | GA11: 0 | GB11: 0 | GC11: 0 | GD11: 0 | GE11: 0 | GF11: 0 | GG11: 0 | GH11: 0 | GI11: 0 | GJ11: 0 | GK11: 0 | GL11: 0 | GM11: 0 | GN11: 0 | GO11: 0 | GP11: 0 | GQ11: 0 | GR11: 0 | GS11: 0 | GT11: 0 | GU11: 0 | GV11: 0 | GW11: 0 | GX11: 0 | GY11: 0 | GZ11: 0 | HA11: 0 | HB11: 0 | HC11: 0 | HD11: 0 | HE11: 0 | HF11: 0 | HG11: 0 | HH11: 0 | HI11: 0 | HJ11: 0 | HK11: 0 | HL11: 0 | HM11: 0 | HN11: 0 | HO11: 0 | HP11: 0 | HQ11: 0 | HR11: 0 | HS11: 0 | HT11: 0 | HU11: 1 | HV11: 1
A12: 08 | B12: 茨 城 | C12: 0 | D12: 0 | E12: 0 | F12: 0 | G12: 0 | H12: 0 | I12: 0 | J12: 0 | K12: 0 | L12: 0 | M12: 0 | N12: 0 | O12: 0 | P12: 0 | Q12: 0 | R12: 0 | S12: 0 | T12: 0 | U12: 0 | V12: 0 | W12: 0 | X12: 0 | Y12: 0 | Z12: 0 | AA12: 0 | AB12: 0 | AC12: 0 | AD12: 0 | AE12: 0 | AF12: 0 | AG12: 0 | AH12: 0 | AI12: 0 | AJ12: 0 | AK12: 0 | AL12: 0 | AM12: 0 | AN12: 0 | AO12: 0 | AP12: 0 | AQ12: 0 | AR12: 0 | AS12: 0 | AT12: 0 | AU12: 0 | AV12: 0 | AW12: 0 | AX12: 0 | AY12: 0 | AZ12: 0 | BA12: 0 | BB12: 0 | BC12: 0 | BD12: 0 | BE12: 0 | BF12: 0 | BG12: 0 | BH12: 0 | BI12: 0 | BJ12: 0 | BK12: 0 | BL12: 0 | BM12: 0 | BN12: 0 | BO12: 0 | BP12: 0 | BQ12: 0 | BR12: 0 | BS12: 0 | BT12: 0 | BU12: 0 | BV12: 0 | BW12: 0 | BX12: 0 | BY12: 0 | BZ12: 0 | CA12: 0 | CB12: 0 | CC12: 0 | CD12: 0 | CE12: 0 | CF12: 0 | CG12: 0 | CH12: 0 | CI12: 0 | CJ12: 0 | CK12: 0 | CL12: 0 | CM12: 0 | CN12: 0 | CO12: 0 | CP12: 0 | CQ12: 0 | CR12: 0 | CS12: 0 | CT12: 0 | CU12: 0 | CV12: 0 | CW12: 0 | CX12: 0 | CY12: 0 | CZ12: 0 | DA12: 0 | DB12: 0 | DC12: 0 | DD12: 0 | DE12: 0 | DF12: 0 | DG12: 0 | DH12: 0 | DI12: 0 | DJ12: 0 | DK12: 0 | DL12: 0 | DM12: 0 | DN12: 0 | DO12: 0 | DP12: 0 | DQ12: 0 | DR12: 0 | DS12: 0 | DT12: 1 | DU12: 1 | DV12: 0 | DW12: 0 | DX12: 0 | DY12: 0 | DZ12: 0 | EA12: 0 | EB12: 0 | EC12: 0 | ED12: 0 | EE12: 0 | EF12: 0 | EG12: 0 | EH12: 0 | EI12: 0 | EJ12: 0 | EK12: 0 | EL12: 0 | EM12: 0 | EN12: 0 | EO12: 0 | EP12: 0 | EQ12: 0 | ER12: 0 | ES12: 0 | ET12: 0 | EU12: 0 | EV12: 0 | EW12: 0 | EX12: 0 | EY12: 0 | EZ12: 0 | FA12: 0 | FB12: 0 | FC12: 0 | FD12: 0 | FE12: 0 | FF12: 0 | FG12: 0 | FH12: 0 | FI12: 0 | FJ12: 0 | FK12: 0 | FL12: 0 | FM12: 0 | FN12: 0 | FO12: 0 | FP12: 0 | FQ12: 0 | FR12: 0 | FS12: 0 | FT12: 0 | FU12: 0 | FV12: 0 | FW12: 0 | FX12: 0 | FY12: 0 | FZ12: 0 | GA12: 0 | GB12: 0 | GC12: 0 | GD12: 0 | GE12: 0 | GF12: 0 | GG12: 0 | GH12: 0 | GI12: 0 | GJ12: 0 | GK12: 0 | GL12: 0 | GM12: 0 | GN12: 0 | GO12: 0 | GP12: 0 | GQ12: 0 | GR12: 0 | GS12: 0 | GT12: 0 | GU12: 0 | GV12: 0 | GW12: 0 | GX12: 0 | GY12: 0 | GZ12: 0 | HA12: 0 | HB12: 0 | HC12: 0 | HD12: 0 | HE12: 0 | HF12: 0 | HG12: 0 | HH12: 0 | HI12: 0 | HJ12: 0 | HK12: 0 | HL12: 0 | HM12: 0 | HN12: 0 | HO12: 0 | HP12: 0 | HQ12: 0 | HR12: 0 | HS12: 0 | HT12: 0 | HU12: 0 | HV12: 0
A13: 09 | B13: 栃 木 | C13: 0 | D13: 0 | E13: 0 | F13: 0 | G13: 0 | H13: 0 | I13: 0 | J13: 0 | K13: 0 | L13: 0 | M13: 0 | N13: 0 | O13: 0 | P13: 0 | Q13: 0 | R13: 0 | S13: 0 | T13: 0 | U13: 0 | V13: 0 | W13: 0 | X13: 0 | Y13: 0 | Z13: 0 | AA13: 0 | AB13: 0 | AC13: 0 | AD13: 0 | AE13: 0 | AF13: 0 | AG13: 0 | AH13: 0 | AI13: 0 | AJ13: 0 | AK13: 0 | AL13: 0 | AM13: 0 | AN13: 0 | AO13: 0 | AP13: 0 | AQ13: 0 | AR13: 0 | AS13: 0 | AT13: 0 | AU13: 0 | AV13: 0 | AW13: 0 | AX13: 0 | AY13: 0 | AZ13: 0 | BA13: 0 | BB13: 0 | BC13: 0 | BD13: 0 | BE13: 0 | BF13: 0 | BG13: 0 | BH13: 0 | BI13: 0 | BJ13: 0 | BK13: 0 | BL13: 0 | BM13: 0 | BN13: 0 | BO13: 0 | BP13: 0 | BQ13: 0 | BR13: 0 | BS13: 0 | BT13: 0 | BU13: 0 | BV13: 0 | BW13: 0 | BX13: 0 | BY13: 0 | BZ13: 0 | CA13: 0 | CB13: 0 | CC13: 0 | CD13: 0 | CE13: 0 | CF13: 0 | CG13: 0 | CH13: 0 | CI13: 0 | CJ13: 0 | CK13: 0 | CL13: 0 | CM13: 0 | CN13: 0 | CO13: 0 | CP13: 0 | CQ13: 0 | CR13: 0 | CS13: 0 | CT13: 0 | CU13: 0 | CV13: 0 | CW13: 0 | CX13: 0 | CY13: 0 | CZ13: 0 | DA13: 0 | DB13: 0 | DC13: 0 | DD13: 0 | DE13: 0 | DF13: 0 | DG13: 0 | DH13: 0 | DI13: 0 | DJ13: 0 | DK13: 0 | DL13: 0 | DM13: 0 | DN13: 0 | DO13: 0 | DP13: 0 | DQ13: 0 | DR13: 0 | DS13: 1 | DT13: 0 | DU13: 1 | DV13: 0 | DW13: 0 | DX13: 0 | DY13: 0 | DZ13: 0 | EA13: 0 | EB13: 0 | EC13: 0 | ED13: 0 | EE13: 0 | EF13: 0 | EG13: 0 | EH13: 0 | EI13: 0 | EJ13: 0 | EK13: 0 | EL13: 0 | EM13: 0 | EN13: 0 | EO13: 0 | EP13: 0 | EQ13: 0 | ER13: 0 | ES13: 0 | ET13: 0 | EU13: 0 | EV13: 0 | EW13: 0 | EX13: 0 | EY13: 0 | EZ13: 0 | FA13: 0 | FB13: 0 | FC13: 0 | FD13: 0 | FE13: 0 | FF13: 0 | FG13: 0 | FH13: 0 | FI13: 0 | FJ13: 0 | FK13: 0 | FL13: 0 | FM13: 0 | FN13: 0 | FO13: 0 | FP13: 0 | FQ13: 0 | FR13: 0 | FS13: 0 | FT13: 0 | FU13: 0 | FV13: 0 | FW13: 0 | FX13: 0 | FY13: 0 | FZ13: 0 | GA13: 0 | GB13: 0 | GC13: 0 | GD13: 0 | GE13: 0 | GF13: 0 | GG13: 0 | GH13: 0 | GI13: 0 | GJ13: 0 | GK13: 0 | GL13: 0 | GM13: 0 | GN13: 0 | GO13: 0 | GP13: 0 | GQ13: 0 | GR13: 0 | GS13: 0 | GT13: 0 | GU13: 0 | GV13: 0 | GW13: 0 | GX13: 0 | GY13: 0 | GZ13: 0 | HA13: 0 | HB13: 0 | HC13: 0 | HD13: 0 | HE13: 0 | HF13: 0 | HG13: 0 | HH13: 0 | HI13: 0 | HJ13: 0 | HK13: 0 | HL13: 0 | HM13: 0 | HN13: 0 | HO13: 0 | HP13: 0 | HQ13: 0 | HR13: 0 | HS13: 0 | HT13: 0 | HU13: 0 | HV13: 0
A14: 10 | B14: 群 馬 | C14: 0 | D14: 0 | E14: 0 | F14: 0 | G14: 0 | H14: 0 | I14: 0 | J14: 0 | K14: 0 | L14: 0 | M14: 0 | N14: 0 | O14: 0 | P14: 0 | Q14: 0 | R14: 0 | S14: 0 | T14: 0 | U14: 0 | V14: 0 | W14: 0 | X14: 0 | Y14: 0 | Z14: 0 | AA14: 0 | AB14: 0 | AC14: 0 | AD14: 0 | AE14: 0 | AF14: 0 | AG14: 0 | AH14: 0 | AI14: 0 | AJ14: 0 | AK14: 0 | AL14: 0 | AM14: 0 | AN14: 0 | AO14: 0 | AP14: 0 | AQ14: 0 | AR14: 0 | AS14: 0 | AT14: 0 | AU14: 0 | AV14: 0 | AW14: 0 | AX14: 0 | AY14: 0 | AZ14: 0 | BA14: 0 | BB14: 0 | BC14: 0 | BD14: 0 | BE14: 0 | BF14: 0 | BG14: 0 | BH14: 0 | BI14: 0 | BJ14: 0 | BK14: 0 | BL14: 0 | BM14: 0 | BN14: 0 | BO14: 0 | BP14: 0 | BQ14: 0 | BR14: 0 | BS14: 0 | BT14: 0 | BU14: 0 | BV14: 0 | BW14: 0 | BX14: 0 | BY14: 0 | BZ14: 0 | CA14: 0 | CB14: 0 | CC14: 0 | CD14: 0 | CE14: 0 | CF14: 0 | CG14: 0 | CH14: 0 | CI14: 0 | CJ14: 0 | CK14: 0 | CL14: 0 | CM14: 0 | CN14: 0 | CO14: 0 | CP14: 0 | CQ14: 0 | CR14: 0 | CS14: 0 | CT14: 0 | CU14: 0 | CV14: 0 | CW14: 0 | CX14: 0 | CY14: 0 | CZ14: 0 | DA14: 0 | DB14: 0 | DC14: 0 | DD14: 0 | DE14: 0 | DF14: 0 | DG14: 0 | DH14: 0 | DI14: 0 | DJ14: 0 | DK14: 0 | DL14: 0 | DM14: 0 | DN14: 0 | DO14: 0 | DP14: 0 | DQ14: 0 | DR14: 0 | DS14: 0 | DT14: 0 | DU14: 0 | DV14: 0 | DW14: 0 | DX14: 0 | DY14: 0 | DZ14: 0 | EA14: 0 | EB14: 0 | EC14: 0 | ED14: 0 | EE14: 0 | EF14: 0 | EG14: 0 | EH14: 0 | EI14: 0 | EJ14: 0 | EK14: 0 | EL14: 0 | EM14: 0 | EN14: 0 | EO14: 0 | EP14: 0 | EQ14: 0 | ER14: 0 | ES14: 0 | ET14: 0 | EU14: 0 | EV14: 0 | EW14: 0 | EX14: 0 | EY14: 0 | EZ14: 0 | FA14: 0 | FB14: 0 | FC14: 0 | FD14: 0 | FE14: 0 | FF14: 0 | FG14: 0 | FH14: 0 | FI14: 0 | FJ14: 0 | FK14: 0 | FL14: 0 | FM14: 0 | FN14: 0 | FO14: 0 | FP14: 0 | FQ14: 0 | FR14: 0 | FS14: 0 | FT14: 0 | FU14: 0 | FV14: 0 | FW14: 0 | FX14: 0 | FY14: 0 | FZ14: 0 | GA14: 0 | GB14: 0 | GC14: 0 | GD14: 0 | GE14: 0 | GF14: 0 | GG14: 0 | GH14: 0 | GI14: 0 | GJ14: 0 | GK14: 0 | GL14: 0 | GM14: 0 | GN14: 0 | GO14: 0 | GP14: 0 | GQ14: 0 | GR14: 0 | GS14: 0 | GT14: 0 | GU14: 0 | GV14: 0 | GW14: 0 | GX14: 0 | GY14: 0 | GZ14: 0 | HA14: 0 | HB14: 0 | HC14: 0 | HD14: 0 | HE14: 0 | HF14: 0 | HG14: 0 | HH14: 0 | HI14: 0 | HJ14: 0 | HK14: 0 | HL14: 0 | HM14: 0 | HN14: 0 | HO14: 0 | HP14: 0 | HQ14: 0 | HR14: 0 | HS14: 0 | HT14: 0 | HU14: 0 | HV14: 0
A15: 11 | B15: 埼 玉 | C15: 0 | D15: 0 | E15: 0 | F15: 0 | G15: 0 | H15: 0 | I15: 0 | J15: 0 | K15: 0 | L15: 0 | M15: 0 | N15: 0 | O15: 0 | P15: 0 | Q15: 0 | R15: 0 | S15: 0 | T15: 0 | U15: 0 | V15: 0 | W15: 0 | X15: 0 | Y15: 0 | Z15: 0 | AA15: 0 | AB15: 0 | AC15: 0 | AD15: 0 | AE15: 0 | AF15: 0 | AG15: 0 | AH15: 0 | AI15: 0 | AJ15: 0 | AK15: 0 | AL15: 0 | AM15: 0 | AN15: 0 | AO15: 0 | AP15: 0 | AQ15: 0 | AR15: 0 | AS15: 0 | AT15: 0 | AU15: 0 | AV15: 0 | AW15: 0 | AX15: 0 | AY15: 0 | AZ15: 0 | BA15: 0 | BB15: 0 | BC15: 0 | BD15: 0 | BE15: 0 | BF15: 0 | BG15: 0 | BH15: 0 | BI15: 0 | BJ15: 0 | BK15: 0 | BL15: 0 | BM15: 0 | BN15: 0 | BO15: 0 | BP15: 0 | BQ15: 0 | BR15: 0 | BS15: 0 | BT15: 0 | BU15: 0 | BV15: 0 | BW15: 0 | BX15: 0 | BY15: 0 | BZ15: 0 | CA15: 0 | CB15: 0 | CC15: 0 | CD15: 0 | CE15: 0 | CF15: 0 | CG15: 0 | CH15: 0 | CI15: 0 | CJ15: 0 | CK15: 0 | CL15: 0 | CM15: 0 | CN15: 0 | CO15: 0 | CP15: 0 | CQ15: 0 | CR15: 0 | CS15: 0 | CT15: 0 | CU15: 0 | CV15: 0 | CW15: 0 | CX15: 0 | CY15: 0 | CZ15: 0 | DA15: 0 | DB15: 0 | DC15: 0 | DD15: 0 | DE15: 0 | DF15: 0 | DG15: 0 | DH15: 0 | DI15: 0 | DJ15: 0 | DK15: 0 | DL15: 0 | DM15: 0 | DN15: 0 | DO15: 0 | DP15: 0 | DQ15: 0 | DR15: 0 | DS15: 0 | DT15: 0 | DU15: 0 | DV15: 0 | DW15: 0 | DX15: 0 | DY15: 0 | DZ15: 0 | EA15: 0 | EB15: 0 | EC15: 0 | ED15: 0 | EE15: 0 | EF15: 0 | EG15: 0 | EH15: 0 | EI15: 0 | EJ15: 0 | EK15: 0 | EL15: 0 | EM15: 0 | EN15: 0 | EO15: 0 | EP15: 0 | EQ15: 0 | ER15: 0 | ES15: 0 | ET15: 0 | EU15: 0 | EV15: 0 | EW15: 0 | EX15: 0 | EY15: 0 | EZ15: 0 | FA15: 0 | FB15: 0 | FC15: 0 | FD15: 0 | FE15: 0 | FF15: 0 | FG15: 0 | FH15: 0 | FI15: 0 | FJ15: 0 | FK15: 0 | FL15: 0 | FM15: 0 | FN15: 0 | FO15: 0 | FP15: 0 | FQ15: 0 | FR15: 0 | FS15: 0 | FT15: 0 | FU15: 0 | FV15: 0 | FW15: 0 | FX15: 0 | FY15: 0 | FZ15: 0 | GA15: 0 | GB15: 0 | GC15: 0 | GD15: 0 | GE15: 0 | GF15: 0 | GG15: 0 | GH15: 0 | GI15: 0 | GJ15: 0 | GK15: 0 | GL15: 0 | GM15: 0 | GN15: 0 | GO15: 0 | GP15: 0 | GQ15: 0 | GR15: 0 | GS15: 0 | GT15: 0 | GU15: 0 | GV15: 0 | GW15: 0 | GX15: 0 | GY15: 0 | GZ15: 0 | HA15: 0 | HB15: 0 | HC15: 0 | HD15: 0 | HE15: 0 | HF15: 0 | HG15: 0 | HH15: 0 | HI15: 0 | HJ15: 0 | HK15: 0 | HL15: 0 | HM15: 0 | HN15: 0 | HO15: 0 | HP15: 0 | HQ15: 0 | HR15: 0 | HS15: 0 | HT15: 0 | HU15: 0 | HV15: 0
A16: 12 | B16: 千 葉 | C16: 0 | D16: 0 | E16: 0 | F16: 0 | G16: 0 | H16: 0 | I16: 0 | J16: 0 | K16: 0 | L16: 0 | M16: 0 | N16: 0 | O16: 0 | P16: 0 | Q16: 0 | R16: 0 | S16: 0 | T16: 0 | U16: 0 | V16: 0 | W16: 0 | X16: 0 | Y16: 0 | Z16: 0 | AA16: 0 | AB16: 0 | AC16: 0 | AD16: 0 | AE16: 0 | AF16: 0 | AG16: 0 | AH16: 0 | AI16: 0 | AJ16: 0 | AK16: 0 | AL16: 0 | AM16: 0 | AN16: 0 | AO16: 0 | AP16: 0 | AQ16: 0 | AR16: 0 | AS16: 0 | AT16: 0 | AU16: 0 | AV16: 0 | AW16: 0 | AX16: 0 | AY16: 0 | AZ16: 0 | BA16: 0 | BB16: 0 | BC16: 0 | BD16: 0 | BE16: 0 | BF16: 0 | BG16: 0 | BH16: 0 | BI16: 0 | BJ16: 0 | BK16: 0 | BL16: 0 | BM16: 0 | BN16: 0 | BO16: 0 | BP16: 0 | BQ16: 0 | BR16: 0 | BS16: 0 | BT16: 0 | BU16: 0 | BV16: 0 | BW16: 0 | BX16: 0 | BY16: 0 | BZ16: 0 | CA16: 0 | CB16: 0 | CC16: 0 | CD16: 0 | CE16: 0 | CF16: 0 | CG16: 0 | CH16: 0 | CI16: 0 | CJ16: 0 | CK16: 0 | CL16: 0 | CM16: 0 | CN16: 0 | CO16: 0 | CP16: 0 | CQ16: 0 | CR16: 0 | CS16: 0 | CT16: 0 | CU16: 0 | CV16: 0 | CW16: 0 | CX16: 0 | CY16: 0 | CZ16: 0 | DA16: 0 | DB16: 0 | DC16: 0 | DD16: 0 | DE16: 0 | DF16: 0 | DG16: 0 | DH16: 0 | DI16: 0 | DJ16: 0 | DK16: 0 | DL16: 0 | DM16: 0 | DN16: 0 | DO16: 0 | DP16: 0 | DQ16: 0 | DR16: 0 | DS16: 0 | DT16: 0 | DU16: 0 | DV16: 0 | DW16: 0 | DX16: 0 | DY16: 0 | DZ16: 0 | EA16: 0 | EB16: 0 | EC16: 0 | ED16: 0 | EE16: 0 | EF16: 0 | EG16: 0 | EH16: 0 | EI16: 0 | EJ16: 0 | EK16: 0 | EL16: 0 | EM16: 0 | EN16: 0 | EO16: 0 | EP16: 0 | EQ16: 0 | ER16: 0 | ES16: 0 | ET16: 0 | EU16: 0 | EV16: 0 | EW16: 0 | EX16: 0 | EY16: 0 | EZ16: 0 | FA16: 0 | FB16: 0 | FC16: 0 | FD16: 0 | FE16: 0 | FF16: 0 | FG16: 0 | FH16: 0 | FI16: 0 | FJ16: 0 | FK16: 0 | FL16: 0 | FM16: 0 | FN16: 0 | FO16: 0 | FP16: 0 | FQ16: 0 | FR16: 0 | FS16: 0 | FT16: 0 | FU16: 0 | FV16: 0 | FW16: 0 | FX16: 0 | FY16: 0 | FZ16: 0 | GA16: 0 | GB16: 0 | GC16: 0 | GD16: 0 | GE16: 0 | GF16: 0 | GG16: 0 | GH16: 0 | GI16: 0 | GJ16: 0 | GK16: 0 | GL16: 0 | GM16: 0 | GN16: 0 | GO16: 0 | GP16: 0 | GQ16: 0 | GR16: 0 | GS16: 0 | GT16: 0 | GU16: 0 | GV16: 0 | GW16: 0 | GX16: 0 | GY16: 0 | GZ16: 0 | HA16: 0 | HB16: 0 | HC16: 0 | HD16: 0 | HE16: 0 | HF16: 0 | HG16: 0 | HH16: 0 | HI16: 0 | HJ16: 0 | HK16: 0 | HL16: 0 | HM16: 0 | HN16: 0 | HO16: 0 | HP16: 0 | HQ16: 0 | HR16: 0 | HS16: 0 | HT16: 0 | HU16: 0 | HV16: 0
... A51: 47 | B51: 沖 縄 | C51: 0 | D51: 0 | E51: 0 | F51: 0 | G51: 0 | H51: 0 | I51: 0 | J51: 0 | K51: 0 | L51: 0 | M51: 0 | N51: 0 | O51: 0 | P51: 0 | Q51: 0 | R51: 0 | S51: 0 | T51: 0 | U51: 0 | V51: 0 | W51: 0 | X51: 0 | Y51: 0 | Z51: 0 | AA51: 0 | AB51: 0 | AC51: 0 | AD51: 0 | AE51: 0 | AF51: 0 | AG51: 0 | AH51: 0 | AI51: 0 | AJ51: 0 | AK51: 0 | AL51: 0 | AM51: 0 | AN51: 0 | AO51: 0 | AP51: 0 | AQ51: 0 | AR51: 0 | AS51: 0 | AT51: 0 | AU51: 0 | AV51: 0 | AW51: 0 | AX51: 0 | AY51: 0 | AZ51: 0 | BA51: 0 | BB51: 0 | BC51: 0 | BD51: 0 | BE51: 0 | BF51: 0 | BG51: 0 | BH51: 0 | BI51: 0 | BJ51: 0 | BK51: 0 | BL51: 0 | BM51: 0 | BN51: 0 | BO51: 0 | BP51: 0 | BQ51: 0 | BR51: 0 | BS51: 0 | BT51: 0 | BU51: 0 | BV51: 0 | BW51: 0 | BX51: 0 | BY51: 0 | BZ51: 0 | CA51: 0 | CB51: 0 | CC51: 0 | CD51: 0 | CE51: 0 | CF51: 0 | CG51: 0 | CH51: 0 | CI51: 0 | CJ51: 0 | CK51: 0 | CL51: 0 | CM51: 0 | CN51: 0 | CO51: 0 | CP51: 0 | CQ51: 0 | CR51: 0 | CS51: 0 | CT51: 0 | CU51: 0 | CV51: 0 | CW51: 0 | CX51: 0 | CY51: 0 | CZ51: 0 | DA51: 0 | DB51: 0 | DC51: 0 | DD51: 0 | DE51: 0 | DF51: 0 | DG51: 0 | DH51: 0 | DI51: 0 | DJ51: 0 | DK51: 0 | DL51: 0 | DM51: 0 | DN51: 0 | DO51: 0 | DP51: 0 | DQ51: 0 | DR51: 0 | DS51: 0 | DT51: 0 | DU51: 0 | DV51: 0 | DW51: 0 | DX51: 0 | DY51: 0 | DZ51: 0 | EA51: 0 | EB51: 0 | EC51: 0 | ED51: 0 | EE51: 0 | EF51: 0 | EG51: 0 | EH51: 0 | EI51: 0 | EJ51: 0 | EK51: 0 | EL51: 0 | EM51: 0 | EN51: 0 | EO51: 0 | EP51: 0 | EQ51: 0 | ER51: 0 | ES51: 0 | ET51: 0 | EU51: 0 | EV51: 0 | EW51: 0 | EX51: 0 | EY51: 0 | EZ51: 0 | FA51: 0 | FB51: 0 | FC51: 0 | FD51: 0 | FE51: 0 | FF51: 0 | FG51: 0 | FH51: 0 | FI51: 0 | FJ51: 0 | FK51: 0 | FL51: 0 | FM51: 0 | FN51: 0 | FO51: 0 | FP51: 0 | FQ51: 0 | FR51: 0 | FS51: 0 | FT51: 0 | FU51: 0 | FV51: 0 | FW51: 0 | FX51: 0 | FY51: 0 | FZ51: 0 | GA51: 0 | GB51: 0 | GC51: 0 | GD51: 0 | GE51: 0 | GF51: 0 | GG51: 0 | GH51: 0 | GI51: 0 | GJ51: 0 | GK51: 0 | GL51: 0 | GM51: 0 | GN51: 0 | GO51: 0 | GP51: 0 | GQ51: 0 | GR51: 0 | GS51: 0 | GT51: 0 | GU51: 0 | GV51: 0 | GW51: 0 | GX51: 0 | GY51: 0 | GZ51: 0 | HA51: 0 | HB51: 0 | HC51: 0 | HD51: 0 | HE51: 0 | HF51: 0 | HG51: 0 | HH51: 0 | HI51: 0 | HJ51: 0 | HK51: 0 | HL51: 0 | HM51: 0 | HN51: 0 | HO51: 0 | HP51: 0 | HQ51: 0 | HR51: 0 | HS51: 0 | HT51: 0 | HU51: 0 | HV51: 0
A52: 合 計 | C52: 0 | D52: 0 | E52: 0 | F52: 0 | G52: 0 | H52: 0 | I52: 0 | J52: 0 | K52: 0 | L52: 0 | M52: 0 | N52: 0 | O52: 0 | P52: 0 | Q52: 0 | R52: 0 | S52: 0 | T52: 0 | U52: 0 | V52: 0 | W52: 0 | X52: 0 | Y52: 0 | Z52: 0 | AA52: 0 | AB52: 0 | AC52: 0 | AD52: 0 | AE52: 0 | AF52: 0 | AG52: 0 | AH52: 0 | AI52: 0 | AJ52: 0 | AK52: 0 | AL52: 0 | AM52: 0 | AN52: 0 | AO52: 0 | AP52: 0 | AQ52: 0 | AR52: 0 | AS52: 0 | AT52: 0 | AU52: 0 | AV52: 0 | AW52: 0 | AX52: 0 | AY52: 0 | AZ52: 0 | BA52: 0 | BB52: 0 | BC52: 0 | BD52: 0 | BE52: 0 | BF52: 0 | BG52: 0 | BH52: 0 | BI52: 0 | BJ52: 0 | BK52: 0 | BL52: 0 | BM52: 0 | BN52: 0 | BO52: 0 | BP52: 0 | BQ52: 0 | BR52: 0 | BS52: 0 | BT52: 0 | BU52: 0 | BV52: 0 | BW52: 0 | BX52: 0 | BY52: 0 | BZ52: 0 | CA52: 0 | CB52: 0 | CC52: 0 | CD52: 0 | CE52: 0 | CF52: 0 | CG52: 0 | CH52: 0 | CI52: 0 | CJ52: 0 | CK52: 0 | CL52: 0 | CM52: 0 | CN52: 0 | CO52: 0 | CP52: 0 | CQ52: 0 | CR52: 0 | CS52: 0 | CT52: 0 | CU52: 0 | CV52: 0 | CW52: 0 | CX52: 0 | CY52: 0 | CZ52: 0 | DA52: 0 | DB52: 0 | DC52: 0 | DD52: 0 | DE52: 0 | DF52: 0 | DG52: 0 | DH52: 0 | DI52: 0 | DJ52: 0 | DK52: 0 | DL52: 0 | DM52: 0 | DN52: 0 | DO52: 0 | DP52: 0 | DQ52: 0 | DR52: 0 | DS52: 5 | DT52: 40 | DU52: 78 | DV52: 0 | DW52: 0 | DX52: 0 | DY52: 0 | DZ52: 0 | EA52: 0 | EB52: 0 | EC52: 0 | ED52: 0 | EE52: 0 | EF52: 0 | EG52: 0 | EH52: 0 | EI52: 0 | EJ52: 0 | EK52: 0 | EL52: 0 | EM52: 0 | EN52: 0 | EO52: 0 | EP52: 0 | EQ52: 0 | ER52: 0 | ES52: 0 | ET52: 0 | EU52: 0 | EV52: 0 | EW52: 0 | EX52: 0 | EY52: 0 | EZ52: 0 | FA52: 0 | FB52: 0 | FC52: 0 | FD52: 0 | FE52: 0 | FF52: 0 | FG52: 0 | FH52: 0 | FI52: 0 | FJ52: 0 | FK52: 0 | FL52: 0 | FM52: 2 | FN52: 6 | FO52: 0 | FP52: 0 | FQ52: 0 | FR52: 0 | FS52: 0 | FT52: 0 | FU52: 0 | FV52: 0 | FW52: 0 | FX52: 0 | FY52: 0 | FZ52: 0 | GA52: 0 | GB52: 0 | GC52: 0 | GD52: 0 | GE52: 0 | GF52: 0 | GG52: 0 | GH52: 0 | GI52: 0 | GJ52: 0 | GK52: 0 | GL52: 0 | GM52: 0 | GN52: 0 | GO52: 0 | GP52: 0 | GQ52: 0 | GR52: 0 | GS52: 0 | GT52: 0 | GU52: 0 | GV52: 0 | GW52: 0 | GX52: 0 | GY52: 0 | GZ52: 0 | HA52: 0 | HB52: 0 | HC52: 0 | HD52: 0 | HE52: 0 | HF52: 0 | HG52: 0 | HH52: 0 | HI52: 0 | HJ52: 0 | HK52: 0 | HL52: 0 | HM52: 0 | HN52: 0 | HO52: 0 | HP52: 0 | HQ52: 0 | HR52: 0 | HS52: 0 | HT52: 0 | HU52: 2 | HV52: 2
A53: 前月よりの繰越し | E53: 0 | H53: 0 | K53: 0 | N53: 0 | Q53: 0 | T53: 0 | W53: 0 | Z53: 0 | AC53: 0 | AF53: 0 | AI53: 0 | AL53: 0 | AO53: 0 | AR53: 0 | AU53: 0 | AX53: 0 | BA53: 0 | BD53: 0 | BG53: 0 | BJ53: 0 | BM53: 0 | BP53: 0 | BS53: 0 | BV53: 0 | BY53: 0 | CB53: 0 | CE53: 0 | CH53: 0 | CK53: 0 | CN53: 0 | CQ53: 0 | CT53: 0 | CW53: 0 | CZ53: 0 | DC53: 0 | DF53: 0 | DI53: 0 | DL53: 0 | DO53: 0 | DR53: 0 | DU53: 2 | DX53: 0 | EA53: 0 | ED53: 0 | EG53: 0 | EJ53: 0 | EM53: 0 | EP53: 0 | ES53: 0 | EV53: 0 | EY53: 0 | FB53: 0 | FE53: 0 | FH53: 0 | FK53: 0 | FN53: 0 | FQ53: 0 | FT53: 0 | FW53: 0 | FZ53: 0 | GC53: 0 | GF53: 0 | GI53: 0 | GL53: 0 | GO53: 0 | GR53: 0 | GU53: 0 | GX53: 0 | HA53: 0 | HD53: 0 | HG53: 0 | HJ53: 0 | HM53: 0 | HP53: 0 | HS53: 0 | HV53: 0
A54: 死 亡 | E54: 0 | H54: 0 | K54: 0 | N54: 0 | Q54: 0 | T54: 0 | W54: 0 | Z54: 0 | AC54: 0 | AF54: 0 | AI54: 0 | AL54: 0 | AO54: 0 | AR54: 0 | AU54: 0 | AX54: 0 | BA54: 0 | BD54: 0 | BG54: 0 | BJ54: 0 | BM54: 0 | BP54: 0 | BS54: 0 | BV54: 0 | BY54: 0 | CB54: 0 | CE54: 0 | CH54: 0 | CK54: 0 | CN54: 0 | CQ54: 0 | CT54: 0 | CW54: 0 | CZ54: 0 | DC54: 0 | DF54: 0 | DI54: 0 | DL54: 0 | DO54: 0 | DR54: 0 | DU54: 0 | DX54: 0 | EA54: 0 | ED54: 0 | EG54: 0 | EJ54: 0 | EM54: 0 | EP54: 0 | ES54: 0 | EV54: 0 | EY54: 0 | FB54: 0 | FE54: 0 | FH54: 0 | FK54: 0 | FN54: 3 | FQ54: 0 | FT54: 0 | FW54: 0 | FZ54: 0 | GC54: 0 | GF54: 0 | GI54: 0 | GL54: 0 | GO54: 0 | GR54: 0 | GU54: 0 | GX54: 0 | HA54: 0 | HD54: 0 | HG54: 0 | HJ54: 0 | HM54: 0 | HP54: 0 | HS54: 0 | HV54: 0
A55: 殺処分 | E55: 0 | H55: 0 | K55: 0 | N55: 0 | Q55: 0 | T55: 0 | W55: 0 | Z55: 0 | AC55: 0 | AF55: 0 | AI55: 0 | AL55: 0 | AO55: 0 | AR55: 0 | AU55: 0 | AX55: 0 | BA55: 0 | BD55: 0 | BG55: 0 | BJ55: 0 | BM55: 0 | BP55: 0 | BS55: 0 | BV55: 0 | BY55: 0 | CB55: 0 | CE55: 0 | CH55: 0 | CK55: 0 | CN55: 0 | CQ55: 0 | CT55: 0 | CW55: 0 | CZ55: 0 | DC55: 0 | DF55: 0 | DI55: 0 | DL55: 0 | DO55: 0 | DR55: 0 | DU55: 79 | DX55: 0 | EA55: 0 | ED55: 0 | EG55: 0 | EJ55: 0 | EM55: 0 | EP55: 0 | ES55: 0 | EV55: 0 | EY55: 0 | FB55: 0 | FE55: 0 | FH55: 0 | FK55: 0 | FN55: 3 | FQ55: 0 | FT55: 0 | FW55: 0 | FZ55: 0 | GC55: 0 | GF55: 0 | GI55: 0 | GL55: 0 | GO55: 0 | GR55: 0 | GU55: 0 | GX55: 0 | HA55: 0 | HD55: 0 | HG55: 0 | HJ55: 0 | HM55: 0 | HP55: 0 | HS55: 0 | HV55: 2
A56: 回 復 | E56: 0 | H56: 0 | K56: 0 | N56: 0 | Q56: 0 | T56: 0 | W56: 0 | Z56: 0 | AC56: 0 | AF56: 0 | AI56: 0 | AL56: 0 | AO56: 0 | AR56: 0 | AU56: 0 | AX56: 0 | BA56: 0 | BD56: 0 | BG56: 0 | BJ56: 0 | BM56: 0 | BP56: 0 | BS56: 0 | BV56: 0 | BY56: 0 | CB56: 0 | CE56: 0 | CH56: 0 | CK56: 0 | CN56: 0 | CQ56: 0 | CT56: 0 | CW56: 0 | CZ56: 0 | DC56: 0 | DF56: 0 | DI56: 0 | DL56: 0 | DO56: 0 | DR56: 0 | DU56: 0 | DX56: 0 | EA56: 0 | ED56: 0 | EG56: 0 | EJ56: 0 | EM56: 0 | EP56: 0 | ES56: 0 | EV56: 0 | EY56: 0 | FB56: 0 | FE56: 0 | FH56: 0 | FK56: 0 | FN56: 0 | FQ56: 0 | FT56: 0 | FW56: 0 | FZ56: 0 | GC56: 0 | GF56: 0 | GI56: 0 | GL56: 0 | GO56: 0 | GR56: 0 | GU56: 0 | GX56: 0 | HA56: 0 | HD56: 0 | HG56: 0 | HJ56: 0 | HM56: 0 | HP56: 0 | HS56: 0 | HV56: 0
A57: 未転帰 | E57: 0 | H57: 0 | K57: 0 | N57: 0 | Q57: 0 | T57: 0 | W57: 0 | Z57: 0 | AC57: 0 | AF57: 0 | AI57: 0 | AL57: 0 | AO57: 0 | AR57: 0 | AU57: 0 | AX57: 0 | BA57: 0 | BD57: 0 | BG57: 0 | BJ57: 0 | BM57: 0 | BP57: 0 | BS57: 0 | BV57: 0 | BY57: 0 | CB57: 0 | CE57: 0 | CH57: 0 | CK57: 0 | CN57: 0 | CQ57: 0 | CT57: 0 | CW57: 0 | CZ57: 0 | DC57: 0 | DF57: 0 | DI57: 0 | DL57: 0 | DO57: 0 | DR57: 0 | DU57: 1 | DX57: 0 | EA57: 0 | ED57: 0 | EG57: 0 | EJ57: 0 | EM57: 0 | EP57: 0 | ES57: 0 | EV57: 0 | EY57: 0 | FB57: 0 | FE57: 0 | FH57: 0 | FK57: 0 | FN57: 0 | FQ57: 0 | FT57: 0 | FW57: 0 | FZ57: 0 | GC57: 0 | GF57: 0 | GI57: 0 | GL57: 0 | GO57: 0 | GR57: 0 | GU57: 0 | GX57: 0 | HA57: 0 | HD57: 0 | HG57: 0 | HJ57: 0 | HM57: 0 | HP57: 0 | HS57: 0 | HV57: 0
A58: 累 計 | D58: 0 | E58: 0 | G58: 0 | H58: 0 | J58: 0 | K58: 0 | M58: 0 | N58: 0 | P58: 0 | Q58: 0 | S58: 0 | T58: 0 | V58: 0 | W58: 0 | Y58: 0 | Z58: 0 | AB58: 0 | AC58: 0 | AE58: 0 | AF58: 0 | AH58: 0 | AI58: 0 | AK58: 0 | AL58: 0 | AN58: 0 | AO58: 0 | AQ58: 1 | AR58: 3 | AT58: 0 | AU58: 0 | AW58: 0 | AX58: 0 | AZ58: 0 | BA58: 0 | BC58: 0 | BD58: 0 | BF58: 0 | BG58: 0 | BI58: 0 | BJ58: 0 | BL58: 0 | BM58: 0 | BO58: 0 | BP58: 0 | BR58: 0 | BS58: 0 | BU58: 0 | BV58: 0 | BX58: 0 | BY58: 0 | CA58: 0 | CB58: 0 | CD58: 0 | CE58: 0 | CG58: 0 | CH58: 0 | CJ58: 0 | CK58: 0 | CM58: 0 | CN58: 0 | CP58: 0 | CQ58: 0 | CS58: 0 | CT58: 0 | CV58: 0 | CW58: 0 | CY58: 0 | CZ58: 0 | DB58: 0 | DC58: 0 | DE58: 0 | DF58: 0 | DH58: 0 | DI58: 0 | DK58: 0 | DL58: 0 | DN58: 0 | DO58: 0 | DQ58: 0 | DR58: 0 | DT58: 306 | DU58: 675 | DW58: 2 | DX58: 7 | DZ58: 5 | EA58: 21 | EC58: 0 | ED58: 0 | EF58: 0 | EG58: 0 | EI58: 0 | EJ58: 0 | EL58: 0 | EM58: 0 | EO58: 0 | EP58: 0 | ER58: 1 | ES58: 1 | EU58: 0 | EV58: 0 | EX58: 0 | EY58: 0 | FA58: 0 | FB58: 0 | FD58: 0 | FE58: 0 | FG58: 0 | FH58: 0 | FJ58: 0 | FK58: 0 | FM58: 4 | FN58: 11 | FP58: 0 | FQ58: 0 | FS58: 0 | FT58: 0 | FV58: 0 | FW58: 0 | FY58: 0 | FZ58: 0 | GB58: 0 | GC58: 0 | GE58: 28 | GF58: 75 | GH58: 2 | GI58: 4 | GK58: 1 | GL58: 2 | GN58: 2 | GO58: 3 | GQ58: 1 | GR58: 2 | GT58: 0 | GU58: 0 | GW58: 0 | GX58: 0 | GZ58: 0 | HA58: 0 | HC58: 0 | HD58: 0 | HF58: 0 | HG58: 0 | HI58: 0 | HJ58: 0 | HL58: 0 | HM58: 0 | HO58: 0 | HP58: 0 | HR58: 0 | HS58: 0 | HU58: 11 | HV58: 47
A59: 前年同期累計 | D59: 0 | E59: 0 | G59: 0 | H59: 0 | J59: 0 | K59: 0 | M59: 0 | N59: 0 | P59: 0 | Q59: 0 | S59: 0 | T59: 0 | V59: 0 | W59: 0 | Y59: 0 | Z59: 0 | AB59: 0 | AC59: 0 | AE59: 0 | AF59: 0 | AH59: 0 | AI59: 0 | AK59: 0 | AL59: 0 | AN59: 0 | AO59: 0 | AQ59: 1 | AR59: 1 | AT59: 0 | AU59: 0 | AW59: 0 | AX59: 0 | AZ59: 0 | BA59: 0 | BC59: 0 | BD59: 0 | BF59: 0 | BG59: 0 | BI59: 0 | BJ59: 0 | BL59: 0 | BM59: 0 | BO59: 0 | BP59: 0 | BR59: #REF! | BS59: #REF! | BU59: #REF! | BV59: #REF! | BX59: #REF! | BY59: #REF! | CA59: #REF! | CB59: #REF! | CD59: #REF! | CE59: #REF! | CG59: #REF! | CH59: #REF! | CJ59: #REF! | CK59: #REF! | CM59: #REF! | CN59: #REF! | CP59: #REF! | CQ59: #REF! | CS59: #REF! | CT59: #REF! | CV59: #REF! | CW59: #REF! | CY59: #REF! | CZ59: #REF! | DB59: #REF! | DC59: #REF! | DE59: #REF! | DF59: #REF! | DH59: #REF! | DI59: #REF! | DK59: 0 | DL59: 0 | DN59: 0 | DO59: 0 | DQ59: 0 | DR59: 0 | DT59: 320 | DU59: 697 | DW59: 1 | DX59: 4 | DZ59: 4 | EA59: 13 | EC59: 1 | ED59: 1 | EF59: 0 | EG59: 0 | EI59: 0 | EJ59: 0 | EL59: 0 | EM59: 0 | EO59: 0 | EP59: 0 | ER59: 0 | ES59: 0 | EU59: 0 | EV59: 0 | EX59: 0 | EY59: 0 | FA59: 0 | FB59: 0 | FD59: 0 | FE59: 0 | FG59: 0 | FH59: 0 | FJ59: 0 | FK59: 0 | FM59: 7 | FN59: 26 | FP59: 0 | FQ59: 0 | FS59: 0 | FT59: 0 | FV59: 0 | FW59: 0 | FY59: 0 | FZ59: 0 | GB59: 0 | GC59: 0 | GE59: 12 | GF59: 72 | GH59: 1 | GI59: 7 | GK59: 0 | GL59: 0 | GN59: 3 | GO59: 4 | GQ59: 0 | GR59: 0 | GT59: 0 | GU59: 0 | GW59: 0 | GX59: 0 | GZ59: 0 | HA59: 0 | HC59: 0 | HD59: 0 | HF59: 0 | HG59: 0 | HI59: 0 | HJ59: 0 | HL59: 0 | HM59: 0 | HO59: 0 | HP59: 0 | HR59: 0 | HS59: 0 | HU59: 12 | HV59: 26
A61: 累計 | C61: =C52+C62 -> 0 | D61: =D52+D62 -> 0 | E61: =E52+E62 -> 0 | F61: =F52+F62 -> 0 | G61: =G52+G62 -> 0 | H61: =H52+H62 -> 0 | I61: =I52+I62 -> 0 | J61: =J52+J62 -> 0 | ... EA61: =EA52+EA62 -> 21 | EE61: =EE52+EE62 -> 0 | EF61: =EF52+EF62 -> 0 | EG61: =EG52+EG62 -> 0 | EH61: =EH52+EH62 -> 0 | EI61: =EI52+EI62 -> 0 | EJ61: =EJ52+EJ62 -> 0 | EK61: =EK52+EK62 -> 0 | EL61: =EL52+EL62 -> 0 | ... GL61: =GL52+GL62 -> 2 | GS61: =GS52+GS62 -> 0 | GT61: =GT52+GT62 -> 0 | GU61: =GU52+GU62 -> 0 | GV61: =GV52+GV62 -> 0 | GW61: =GW52+GW62 -> 0 | GX61: =GX52+GX62 -> 0 | GY61: =GY52+GY62 -> 0 | GZ61: =GZ52+GZ62 -> 0 | ... HV61: =HV52+HV62 -> 47
A62: 前月まで | C62: =[2]家畜伝染病7月!C58 -> 0 | D62: =[2]家畜伝染病7月!D58 -> 0 | E62: =[2]家畜伝染病7月!E58 -> 0 | F62: =[2]家畜伝染病7月!F58 -> 0 | G62: =[2]家畜伝染病7月!G58 -> 0 | H62: =[2]家畜伝染病7月!H58 -> 0 | I62: =[2]家畜伝染病7月!I58 -> 0 | J62: =[2]家畜伝染病7月!J58 -> 0 | ... EA62: =[2]家畜伝染病7月!EA58 -> 21 | EE62: =[2]家畜伝染病7月!EB58 -> 0 | EF62: =[2]家畜伝染病7月!EC58 -> 0 | EG62: =[2]家畜伝染病7月!ED58 -> 0 | EH62: =[2]家畜伝染病7月!EE58 -> 0 | EI62: =[2]家畜伝染病7月!EF58 -> 0 | EJ62: =[2]家畜伝染病7月!EG58 -> 0 | EK62: =[2]家畜伝染病7月!EH58 -> 0 | EL62: =[2]家畜伝染病7月!EI58 -> 0 | ... GL62: =[2]家畜伝染病7月!GI58 -> 2 | GS62: =[2]家畜伝染病7月!GJ58 -> 0 | GT62: =[2]家畜伝染病7月!GK58 -> 0 | GU62: =[2]家畜伝染病7月!GL58 -> 0 | GV62: =[2]家畜伝染病7月!GM58 -> 0 | GW62: =[2]家畜伝染病7月!GN58 -> 0 | GX62: =[2]家畜伝染病7月!GO58 -> 0 | GY62: =[2]家畜伝染病7月!GP58 -> 0 | GZ62: =[2]家畜伝染病7月!GQ58 -> 0 | ... HV62: =[2]家畜伝染病7月!HM58 -> 45
B63: 1～7月
A66: 前年度8月 | D66: ='[2]8月①'!D53 -> 0 | E66: ='[2]8月①'!F53 -> 0 | G66: ='[2]8月①'!O53 -> 0 | H66: ='[2]8月①'!Q53 -> 0 | J66: ='[2]8月①'!Z53 -> 0 | K66: ='[2]8月①'!AB53 -> 0 | M66: ='[2]8月①'!AK53 -> 0 | N66: ='[2]8月①'!AM53 -> 0 | P66: ='[2]8月①'!AV53 -> 0 | Q66: ='[2]8月①'!AX53 -> 0 | S66: ='[2]8月①'!BG53 -> 0 | T66: ='[2]8月①'!BI53 -> 0 | V66: ='[2]8月①'!BR53 -> 0 | W66: ='[2]8月①'!BT53 -> 0 | Y66: ='[2]8月①'!CC53 -> 0 | Z66: ='[2]8月①'!CE53 -> 0 | AB66: ='[2]8月①'!CN53 -> 0 | AC66: ='[2]8月①'!CP53 -> 0 | AE66: ='[2]8月①'!CY53 -> 0 | AF66: ='[2]8月①'!DA53 -> 0 | AH66: ='[2]8月①'!DJ53 -> 0 | AI66: ='[2]8月①'!DL53 -> 0 | AK66: ='[2]8月①'!DU53 -> 0 | AL66: ='[2]8月①'!DW53 -> 0 | AN66: ='[2]8月①'!EF53 -> 0 | AO66: ='[2]8月①'!EH53 -> 0 | AQ66: ='[2]8月①'!EQ53 -> 0 | AR66: ='[2]8月①'!ES53 -> 0 | AT66: ='[2]8月①'!FB53 -> 0 | AU66: ='[2]8月①'!FD53 -> 0 | AW66: ='[2]8月①'!FM53 -> 0 | AX66: ='[2]8月①'!FO53 -> 0 | AZ66: ='[2]8月①'!FX53 -> 0 | BA66: ='[2]8月①'!FZ53 -> 0 | BC66: ='[2]8月①'!GI53 -> 0 | BD66: ='[2]8月①'!GK53 -> 0 | BF66: ='[2]8月①'!GT53 -> 0 | BG66: ='[2]8月①'!GV53 -> 0 | BI66: ='[2]8月①'!HE53 -> 0 | BJ66: ='[2]8月①'!HG53 -> 0 | BL66: ='[2]8月①'!HP53 -> 0 | BM66: ='[2]8月①'!HR53 -> 0 | BO66: ='[2]8月①'!IA53 -> 0 | BP66: ='[2]8月①'!IC53 -> 0 | BR66: ='[2]8月②'!D53 -> 0 | BS66: ='[2]8月②'!F53 -> 0 | BU66: ='[2]8月②'!O53 -> 0 | BV66: ='[2]8月②'!Q53 -> 0 | BX66: ='[2]8月②'!Z53 -> 0 | BY66: ='[2]8月②'!AB53 -> 0 | CA66: ='[2]8月②'!AK53 -> 0 | CB66: ='[2]8月②'!AM53 -> 0 | CD66: ='[2]8月②'!AV53 -> 0 | CE66: ='[2]8月②'!AX53 -> 0 | CG66: ='[2]8月②'!BG53 -> 0 | CH66: ='[2]8月②'!BI53 -> 0 | CJ66: ='[2]8月②'!BR53 -> 0 | CK66: ='[2]8月②'!BT53 -> 0 | CM66: ='[2]8月②'!CC53 -> 0 | CN66: ='[2]8月②'!CE53 -> 0 | CP66: ='[2]8月②'!CN53 -> 0 | CQ66: ='[2]8月②'!CP53 -> 0 | CS66: ='[2]8月②'!CY53 -> 0 | CT66: ='[2]8月②'!DA53 -> 0 | CV66: ='[2]8月②'!DJ53 -> 0 | CW66: ='[2]8月②'!DL53 -> 0 | CY66: ='[2]8月②'!DU53 -> 0 | CZ66: ='[2]8月②'!DW53 -> 0 | DB66: ='[2]8月②'!EF53 -> 0 | DC66: ='[2]8月②'!EH53 -> 0 | DE66: ='[2]8月②'!EQ53 -> 0 | DF66: ='[2]8月②'!ES53 -> 0 | DH66: ='[2]8月②'!FB53 -> 0 | DI66: ='[2]8月②'!FD53 -> 0 | DK66: ='[2]8月②'!FM53 -> 0 | DL66: ='[2]8月②'!FO53 -> 0 | DN66: ='[2]8月②'!FX53 -> 0 | DO66: ='[2]8月②'!FZ53 -> 0 | DQ66: ='[2]8月②'!GI53 -> 0 | DR66: ='[2]8月②'!GK53 -> 0 | DT66: ='[2]8月②'!GT53 -> 38 | DU66: ='[2]8月②'!GV53 -> 80 | DW66: ='[2]8月②'!HE53 -> 0 | DX66: ='[2]8月②'!HG53 -> 0 | DZ66: ='[2]8月②'!HP53 -> 0 | EA66: ='[2]8月②'!HR53 -> 0 | EF66: ='[2]8月②'!IA53 -> 0 | EG66: ='[2]8月②'!IC53 -> 0 | EI66: ='[2]8月②'!IL53 -> 0 | EJ66: ='[2]8月②'!IN53 -> 0 | EL66: ='[2]8月③'!D53 -> 0 | EM66: ='[2]8月③'!F53 -> 0 | EO66: ='[2]8月③'!O53 -> 0 | EP66: ='[2]8月③'!Q53 -> 0 | ER66: ='[2]8月③'!Z53 -> 0 | ES66: ='[2]8月③'!AB53 -> 0 | EU66: ='[2]8月③'!AK53 -> 0 | EV66: ='[2]8月③'!AM53 -> 0 | EX66: ='[2]8月③'!AV53 -> 0 | EY66: ='[2]8月③'!AX53 -> 0 | FA66: ='[2]8月③'!BG53 -> 0 | FB66: ='[2]8月③'!BI53 -> 0 | FD66: ='[2]8月③'!BR53 -> 0 | FE66: ='[2]8月③'!BT53 -> 0 | FG66: ='[2]8月③'!CC53 -> 0 | FH66: ='[2]8月③'!CE53 -> 0 | FJ66: ='[2]8月③'!CN53 -> 0 | FK66: ='[2]8月③'!CP53 -> 0 | FM66: ='[2]8月③'!CY53 -> 0 | FN66: ='[2]8月③'!DA53 -> 0 | FP66: ='[2]8月③'!DJ53 -> 0 | FQ66: ='[2]8月③'!DL53 -> 0 | FS66: ='[2]8月③'!DU53 -> 0 | FT66: ='[2]8月③'!DW53 -> 0 | FV66: ='[2]8月③'!EF53 -> 0 | FW66: ='[2]8月③'!EH53 -> 0 | FY66: ='[2]8月③'!EQ53 -> 0 | FZ66: ='[2]8月③'!ES53 -> 0 | GB66: ='[2]8月③'!FB53 -> 0 | GC66: ='[2]8月③'!FD53 -> 0 | GE66: ='[2]8月③'!FM53 -> 0 | GF66: ='[2]8月③'!FO53 -> 0 | GH66: ='[2]8月③'!FX53 -> 0 | GI66: ='[2]8月③'!FZ53 -> 0 | GK66: ='[2]8月③'!GI53 -> 0 | GL66: ='[2]8月③'!GK53 -> 0 | GT66: ='[2]8月③'!GT53 -> 0 | GU66: ='[2]8月③'!GV53 -> 0 | GW66: ='[2]8月③'!HE53 -> 0 | GX66: ='[2]8月③'!HG53 -> 0 | GZ66: ='[2]8月③'!HP53 -> 0 | HA66: ='[2]8月③'!HR53 -> 0 | HC66: ='[2]8月③'!IA53 -> 0 | HD66: ='[2]8月③'!IC53 -> 0 | HF66: ='[2]8月③'!IL53 -> 0 | HG66: ='[2]8月③'!IN53 -> 0 | HI66: ='[2]8月③'!IW53 -> 0 | HJ66: ='[2]8月③'!IY53 -> 0 | HL66: ='[2]8月③'!JH53 -> 0 | HM66: ='[2]8月③'!JJ53 -> 0 | HO66: ='[2]8月③'!JS53 -> 0 | HP66: ='[2]8月③'!JU53 -> 0 | HR66: ='[2]8月③'!KD53 -> 0 | HS66: ='[2]8月③'!KF53 -> 0 | HU66: ='[2]8月③'!KO53 -> 4 | HV66: ='[2]8月③'!KQ53 -> 8
A67: 前月まで | D67: =[2]家畜伝染病7月!D59 -> 0 | E67: =[2]家畜伝染病7月!E59 -> 0 | G67: =[2]家畜伝染病7月!G59 -> 0 | H67: =[2]家畜伝染病7月!H59 -> 0 | J67: =[2]家畜伝染病7月!J59 -> 0 | K67: =[2]家畜伝染病7月!K59 -> 0 | M67: =[2]家畜伝染病7月!M59 -> 0 | N67: =[2]家畜伝染病7月!N59 -> 0 | P67: =[2]家畜伝染病7月!P59 -> 0 | Q67: =[2]家畜伝染病7月!Q59 -> 0 | S67: =[2]家畜伝染病7月!S59 -> 0 | T67: =[2]家畜伝染病7月!T59 -> 0 | V67: =[2]家畜伝染病7月!V59 -> 0 | W67: =[2]家畜伝染病7月!W59 -> 0 | Y67: =[2]家畜伝染病7月!Y59 -> 0 | Z67: =[2]家畜伝染病7月!Z59 -> 0 | AB67: =[2]家畜伝染病7月!AB59 -> 0 | AC67: =[2]家畜伝染病7月!AC59 -> 0 | AE67: =[2]家畜伝染病7月!AE59 -> 0 | AF67: =[2]家畜伝染病7月!AF59 -> 0 | AH67: =[2]家畜伝染病7月!AH59 -> 0 | AI67: =[2]家畜伝染病7月!AI59 -> 0 | AK67: =[2]家畜伝染病7月!AK59 -> 0 | AL67: =[2]家畜伝染病7月!AL59 -> 0 | AN67: =[2]家畜伝染病7月!AN59 -> 0 | AO67: =[2]家畜伝染病7月!AO59 -> 0 | AQ67: =[2]家畜伝染病7月!AQ59 -> 1 | AR67: =[2]家畜伝染病7月!AR59 -> 1 | AT67: =[2]家畜伝染病7月!AT59 -> 0 | AU67: =[2]家畜伝染病7月!AU59 -> 0 | AW67: =[2]家畜伝染病7月!AW59 -> 0 | AX67: =[2]家畜伝染病7月!AX59 -> 0 | AZ67: =[2]家畜伝染病7月!AZ59 -> 0 | BA67: =[2]家畜伝染病7月!BA59 -> 0 | BC67: =[2]家畜伝染病7月!BC59 -> 0 | BD67: =[2]家畜伝染病7月!BD59 -> 0 | BF67: =[2]家畜伝染病7月!BF59 -> 0 | BG67: =[2]家畜伝染病7月!BG59 -> 0 | BI67: =[2]家畜伝染病7月!BI59 -> 0 | BJ67: =[2]家畜伝染病7月!BJ59 -> 0 | BL67: =[2]家畜伝染病7月!BL59 -> 0 | BM67: =[2]家畜伝染病7月!BM59 -> 0 | BO67: =[2]家畜伝染病7月!BO59 -> 0 | BP67: =[2]家畜伝染病7月!BP59 -> 0 | BR67: =[2]家畜伝染病7月!BR59 -> 0 | BS67: =[2]家畜伝染病7月!BS59 -> 0 | BU67: =[2]家畜伝染病7月!BU59 -> 0 | BV67: =[2]家畜伝染病7月!BV59 -> 0 | BX67: =[2]家畜伝染病7月!BX59 -> 0 | BY67: =[2]家畜伝染病7月!BY59 -> 0 | CA67: =[2]家畜伝染病7月!CA59 -> 0 | CB67: =[2]家畜伝染病7月!CB59 -> 0 | CD67: =[2]家畜伝染病7月!CD59 -> 0 | CE67: =[2]家畜伝染病7月!CE59 -> 0 | CG67: =[2]家畜伝染病7月!CG59 -> 0 | CH67: =[2]家畜伝染病7月!CH59 -> 0 | CJ67: =[2]家畜伝染病7月!CJ59 -> 0 | CK67: =[2]家畜伝染病7月!CK59 -> 0 | CM67: =[2]家畜伝染病7月!CM59 -> 0 | CN67: =[2]家畜伝染病7月!CN59 -> 0 | CP67: =[2]家畜伝染病7月!CP59 -> 0 | CQ67: =[2]家畜伝染病7月!CQ59 -> 0 | CS67: =[2]家畜伝染病7月!CS59 -> 0 | CT67: =[2]家畜伝染病7月!CT59 -> 0 | CV67: =[2]家畜伝染病7月!CV59 -> 0 | CW67: =[2]家畜伝染病7月!CW59 -> 0 | CY67: =[2]家畜伝染病7月!CY59 -> 0 | CZ67: =[2]家畜伝染病7月!CZ59 -> 0 | DB67: =[2]家畜伝染病7月!DB59 -> 0 | DC67: =[2]家畜伝染病7月!DC59 -> 0 | DE67: =[2]家畜伝染病7月!DE59 -> 0 | DF67: =[2]家畜伝染病7月!DF59 -> 0 | DH67: =[2]家畜伝染病7月!DH59 -> 0 | DI67: =[2]家畜伝染病7月!DI59 -> 0 | DK67: =[2]家畜伝染病7月!DK59 -> 0 | DL67: =[2]家畜伝染病7月!DL59 -> 0 | DN67: =[2]家畜伝染病7月!DN59 -> 0 | DO67: =[2]家畜伝染病7月!DO59 -> 0 | DQ67: =[2]家畜伝染病7月!DQ59 -> 0 | DR67: =[2]家畜伝染病7月!DR59 -> 0 | DT67: =[2]家畜伝染病7月!DT59 -> 282 | DU67: =[2]家畜伝染病7月!DU59 -> 617 | DW67: =[2]家畜伝染病7月!DW59 -> 1 | DX67: =[2]家畜伝染病7月!DX59 -> 4 | DZ67: =[2]家畜伝染病7月!DZ59 -> 4 | EA67: =[2]家畜伝染病7月!EA59 -> 13 | EF67: =[2]家畜伝染病7月!EC59 -> 0 | EG67: =[2]家畜伝染病7月!ED59 -> 0 | EI67: =[2]家畜伝染病7月!EF59 -> 0 | EJ67: =[2]家畜伝染病7月!EG59 -> 0 | EL67: =[2]家畜伝染病7月!EI59 -> 0 | EM67: =[2]家畜伝染病7月!EJ59 -> 0 | EO67: =[2]家畜伝染病7月!EL59 -> 0 | EP67: =[2]家畜伝染病7月!EM59 -> 0 | ER67: =[2]家畜伝染病7月!EO59 -> 0 | ES67: =[2]家畜伝染病7月!EP59 -> 0 | EU67: =[2]家畜伝染病7月!ER59 -> 0 | EV67: =[2]家畜伝染病7月!ES59 -> 0 | EX67: =[2]家畜伝染病7月!EU59 -> 0 | EY67: =[2]家畜伝染病7月!EV59 -> 0 | FA67: =[2]家畜伝染病7月!EX59 -> 0 | FB67: =[2]家畜伝染病7月!EY59 -> 0 | FD67: =[2]家畜伝染病7月!FA59 -> 0 | FE67: =[2]家畜伝染病7月!FB59 -> 0 | FG67: =[2]家畜伝染病7月!FD59 -> 0 | FH67: =[2]家畜伝染病7月!FE59 -> 0 | FJ67: =[2]家畜伝染病7月!FG59 -> 0 | FK67: =[2]家畜伝染病7月!FH59 -> 0 | FM67: =[2]家畜伝染病7月!FJ59 -> 7 | FN67: =[2]家畜伝染病7月!FK59 -> 26 | FP67: =[2]家畜伝染病7月!FM59 -> 0 | FQ67: =[2]家畜伝染病7月!FN59 -> 0 | FS67: =[2]家畜伝染病7月!FP59 -> 0 | FT67: =[2]家畜伝染病7月!FQ59 -> 0 | FV67: =[2]家畜伝染病7月!FS59 -> 0 | FW67: =[2]家畜伝染病7月!FT59 -> 0 | FY67: =[2]家畜伝染病7月!FV59 -> 0 | FZ67: =[2]家畜伝染病7月!FW59 -> 0 | GB67: =[2]家畜伝染病7月!FY59 -> 0 | GC67: =[2]家畜伝染病7月!FZ59 -> 0 | GE67: =[2]家畜伝染病7月!GB59 -> 12 | GF67: =[2]家畜伝染病7月!GC59 -> 72 | GH67: =[2]家畜伝染病7月!GE59 -> 1 | GI67: =[2]家畜伝染病7月!GF59 -> 7 | GK67: =[2]家畜伝染病7月!GH59 -> 0 | GL67: =[2]家畜伝染病7月!GI59 -> 0 | GT67: =[2]家畜伝染病7月!GK59 -> 0 | GU67: =[2]家畜伝染病7月!GL59 -> 0 | GW67: =[2]家畜伝染病7月!GN59 -> 0 | GX67: =[2]家畜伝染病7月!GO59 -> 0 | GZ67: =[2]家畜伝染病7月!GQ59 -> 0 | HA67: =[2]家畜伝染病7月!GR59 -> 0 | HC67: =[2]家畜伝染病7月!GT59 -> 0 | HD67: =[2]家畜伝染病7月!GU59 -> 0 | HF67: =[2]家畜伝染病7月!GW59 -> 0 | HG67: =[2]家畜伝染病7月!GX59 -> 0 | HI67: =[2]家畜伝染病7月!GZ59 -> 0 | HJ67: =[2]家畜伝染病7月!HA59 -> 0 | HL67: =[2]家畜伝染病7月!HC59 -> 0 | HM67: =[2]家畜伝染病7月!HD59 -> 0 | HO67: =[2]家畜伝染病7月!HF59 -> 0 | HP67: =[2]家畜伝染病7月!HG59 -> 0 | HR67: =[2]家畜伝染病7月!HI59 -> 0 | HS67: =[2]家畜伝染病7月!HJ59 -> 0 | HU67: =[2]家畜伝染病7月!HL59 -> 8 | HV67: =[2]家畜伝染病7月!HM59 -> 18

Sheet 届出伝染病①8月
A2: 届出伝染病の種類 | C2: ﾌﾞﾙｰﾀﾝｸﾞ | F2: ﾌﾞﾙｰﾀﾝｸﾞ | I2: ﾌﾞﾙｰﾀﾝｸﾞ | L2: ﾌﾞﾙｰﾀﾝｸﾞ | O2: ﾌﾞﾙｰﾀﾝｸﾞ | R2: ｱｶﾊﾞﾈ病 （胎児感染） | U2: ｱｶﾊﾞﾈ病 （生後感染） | X2: ｱｶﾊﾞﾈ病 | AA2: ｱｶﾊﾞﾈ病 | AD2: ｱｶﾊﾞﾈ病 | AG2: 悪性ｶﾀﾙ熱 | AJ2: 悪性ｶﾀﾙ熱 | AM2: 悪性ｶﾀﾙ熱 | AP2: 悪性ｶﾀﾙ熱 | AS2: ﾁｭｳｻﾞﾝ病 | AV2: ﾁｭｳｻﾞﾝ病 | AY2: ﾁｭｳｻﾞﾝ病 | BB2: ﾗﾝﾋﾟｰｽｷﾝ病 | BE2: ﾗﾝﾋﾟｰｽｷﾝ病 | BH2: 牛ｳｲﾙｽ性下痢 | BK2: 牛ｳｲﾙｽ性下痢 | BN2: 牛伝染性鼻気管炎 | BQ2: 牛伝染性鼻気管炎 | BT2: 牛伝染性リンパ腫 | BW2: 牛伝染性リンパ腫 | BZ2: ｱｲﾉｳｲﾙｽ感染症 | CC2: ｱｲﾉｳｲﾙｽ感染症 | CF2: ｲﾊﾞﾗｷ病 | CI2: ｲﾊﾞﾗｷ病 | CL2: 牛丘疹性口内炎 | CO2: 牛丘疹性口内炎 | CR2: 牛流行熱 | CU2: 牛流行熱 | CX2: 類鼻疽 | DA2: 類鼻疽 | DD2: 類鼻疽 | DG2: 類鼻疽 | DJ2: 類鼻疽 | DM2: 類鼻疽 | DP2: 類鼻疽 | DS2: 類鼻疽 | DV2: 破傷風 | DY2: 破傷風 | EB2: 破傷風 | EE2: 破傷風 | EH2: 気腫疽 | EK2: 気腫疽 | EN2: 気腫疽 | EQ2: 気腫疽 | ET2: 気腫疽 | EW2: 気腫疽 | EZ2: 気腫疽 | FC2: ﾚﾌﾟﾄｽﾋﾟﾗ症 | FF2: ﾚﾌﾟﾄｽﾋﾟﾗ症 | FI2: ﾚﾌﾟﾄｽﾋﾟﾗ症 | FL2: ﾚﾌﾟﾄｽﾋﾟﾗ症 | FO2: ﾚﾌﾟﾄｽﾋﾟﾗ症 | FR2: ﾚﾌﾟﾄｽﾋﾟﾗ症 | FU2: ｻﾙﾓﾈﾗ症 | FX2: ｻﾙﾓﾈﾗ症 | GA2: ｻﾙﾓﾈﾗ症 | GD2: ｻﾙﾓﾈﾗ症 | GG2: ｻﾙﾓﾈﾗ症 | GJ2: ｻﾙﾓﾈﾗ症 | GM2: ｻﾙﾓﾈﾗ症 | GP2: ｻﾙﾓﾈﾗ症 | GS2: ｻﾙﾓﾈﾗ症 | GV2: 牛ｶﾝﾋﾟﾛﾊﾞｸﾀｰ症 | GY2: 牛ｶﾝﾋﾟﾛﾊﾞｸﾀｰ症 | HB2: ﾄﾘﾊﾟﾉｿｰﾏ症 | HE2: ﾄﾘﾊﾟﾉｿｰﾏ症 | HH2: ﾄﾘﾊﾟﾉｿｰﾏ症 | HK2: ﾄﾘｺﾓﾅｽ症 | HN2: ﾄﾘｺﾓﾅｽ症 | HQ2: ﾈｵｽﾎﾟﾗ症 | HT2: ﾈｵｽﾎﾟﾗ症 | HW2: 牛ﾊﾞｴ幼虫症 | HZ2: 牛ﾊﾞｴ幼虫症 | IC2: ﾆﾊﾟｳｲﾙｽ感染症 | IF2: ﾆﾊﾟｳｲﾙｽ感染症 | II2: ﾆﾊﾟｳｲﾙｽ感染症
A3: 家畜の種類 | C3: 牛 | F3: 水牛 | I3: しか | L3: めん羊 | O3: 山羊 | R3: 牛 | U3: 牛 | X3: 水牛 | AA3: めん羊 | AD3: 山羊 | AG3: 牛 | AJ3: 水牛 | AM3: しか | AP3: めん羊 | AS3: 牛 | AV3: 水牛 | AY3: 山羊 | BB3: 牛 | BE3: 水牛 | BH3: 牛 | BK3: 水牛 | BN3: 牛 | BQ3: 水牛 | BT3: 牛 | BW3: 水牛 | BZ3: 牛 | CC3: 水牛 | CF3: 牛 | CI3: 水牛 | CL3: 牛 | CO3: 水牛 | CR3: 牛 | CU3: 水牛 | CX3: 牛 | DA3: 水牛 | DD3: しか | DG3: 馬 | DJ3: めん羊 | DM3: 山羊 | DP3: 豚 | DS3: いのしし | DV3: 牛 | DY3: 水牛 | EB3: しか | EE3: 馬 | EH3: 牛 | EK3: 水牛 | EN3: しか | EQ3: めん羊 | ET3: 山羊 | EW3: 豚 | EZ3: いのしし | FC3: 牛 | FF3: 水牛 | FI3: しか | FL3: 豚 | FO3: いのしし | FR3: 犬 | FU3: 牛 | FX3: 水牛 | GA3: しか | GD3: 豚 | GG3: いのしし | GJ3: 鶏 | GM3: あひる | GP3: うずら | GS3: 七面鳥 | GV3: 牛 | GY3: 水牛 | HB3: 牛 | HE3: 水牛 | HH3: 馬 | HK3: 牛 | HN3: 水牛 | HQ3: 牛 | HT3: 水牛 | HW3: 牛 | HZ3: 水牛 | IC3: 馬 | IF3: 豚 | II3: いのしし
C4: 戸数 | E4: 頭数 | F4: 戸数 | H4: 頭数 | I4: 戸数 | K4: 頭数 | L4: 戸数 | N4: 頭数 | O4: 戸数 | Q4: 頭数 | R4: 戸数 | T4: 頭数 | U4: 戸数 | W4: 頭数 | X4: 戸数 | Z4: 頭数 | AA4: 戸数 | AC4: 頭数 | AD4: 戸数 | AF4: 頭数 | AG4: 戸数 | AI4: 頭数 | AJ4: 戸数 | AL4: 頭数 | AM4: 戸数 | AO4: 頭数 | AP4: 戸数 | AR4: 頭数 | AS4: 戸数 | AU4: 頭数 | AV4: 戸数 | AX4: 頭数 | AY4: 戸数 | BA4: 頭数 | BB4: 戸数 | BD4: 頭数 | BE4: 戸数 | BG4: 頭数 | BH4: 戸数 | BJ4: 頭数 | BK4: 戸数 | BM4: 頭数 | BN4: 戸数 | BP4: 頭数 | BQ4: 戸数 | BS4: 頭数 | BT4: 戸数 | BV4: 頭数 | BW4: 戸数 | BY4: 頭数 | BZ4: 戸数 | CB4: 頭数 | CC4: 戸数 | CE4: 頭数 | CF4: 戸数 | CH4: 頭数 | CI4: 戸数 | CK4: 頭数 | CL4: 戸数 | CN4: 頭数 | CO4: 戸数 | CQ4: 頭数 | CR4: 戸数 | CT4: 頭数 | CU4: 戸数 | CW4: 頭数 | CX4: 戸数 | CZ4: 頭数 | DA4: 戸数 | DC4: 頭数 | DD4: 戸数 | DF4: 頭数 | DG4: 戸数 | DI4: 頭数 | DJ4: 戸数 | DL4: 頭数 | DM4: 戸数 | DO4: 頭数 | DP4: 戸数 | DR4: 頭数 | DS4: 戸数 | DU4: 頭数 | DV4: 戸数 | DX4: 頭数 | DY4: 戸数 | EA4: 頭数 | EB4: 戸数 | ED4: 頭数 | EE4: 戸数 | EG4: 頭数 | EH4: 戸数 | EJ4: 頭数 | EK4: 戸数 | EM4: 頭数 | EN4: 戸数 | EP4: 頭数 | EQ4: 戸数 | ES4: 頭数 | ET4: 戸数 | EV4: 頭数 | EW4: 戸数 | EY4: 頭数 | EZ4: 戸数 | FB4: 頭数 | FC4: 戸数 | FE4: 頭数 | FF4: 戸数 | FH4: 頭数 | FI4: 戸数 | FK4: 頭数 | FL4: 戸数 | FN4: 頭数 | FO4: 戸数 | FQ4: 頭数 | FR4: 戸数 | FT4: 頭数 | FU4: 戸数 | FW4: 頭数 | FX4: 戸数 | FZ4: 頭数 | GA4: 戸数 | GC4: 頭数 | GD4: 戸数 | GF4: 頭数 | GG4: 戸数 | GI4: 頭数 | GJ4: 戸数 | GL4: 羽数 | GM4: 戸数 | GO4: 羽数 | GP4: 戸数 | GR4: 羽数 | GS4: 戸数 | GU4: 羽数 | GV4: 戸数 | GX4: 頭数 | GY4: 戸数 | HA4: 頭数 | HB4: 戸数 | HD4: 頭数 | HE4: 戸数 | HG4: 頭数 | HH4: 戸数 | HJ4: 頭数 | HK4: 戸数 | HM4: 頭数 | HN4: 戸数 | HP4: 頭数 | HQ4: 戸数 | HS4: 頭数 | HT4: 戸数 | HV4: 頭数 | HW4: 戸数 | HY4: 頭数 | HZ4: 戸数 | IB4: 頭数 | IC4: 戸数 | IE4: 頭数 | IF4: 戸数 | IH4: 頭数 | II4: 戸数 | IK4: 頭数
A5: 01 | B5: 北海道 | C5: 0 | D5: 0 | E5: 0 | F5: 0 | G5: 0 | H5: 0 | I5: 0 | J5: 0 | K5: 0 | L5: 0 | M5: 0 | N5: 0 | O5: 0 | P5: 0 | Q5: 0 | R5: 0 | S5: 0 | T5: 0 | U5: 0 | V5: 0 | W5: 0 | X5: 0 | Y5: 0 | Z5: 0 | AA5: 0 | AB5: 0 | AC5: 0 | AD5: 0 | AE5: 0 | AF5: 0 | AG5: 0 | AH5: 0 | AI5: 0 | AJ5: 0 | AK5: 0 | AL5: 0 | AM5: 0 | AN5: 0 | AO5: 0 | AP5: 0 | AQ5: 0 | AR5: 0 | AS5: 0 | AT5: 0 | AU5: 0 | AV5: 0 | AW5: 0 | AX5: 0 | AY5: 0 | AZ5: 0 | BA5: 0 | BB5: 0 | BC5: 0 | BD5: 0 | BE5: 0 | BF5: 0 | BG5: 0 | BH5: 0 | BI5: 3 | BJ5: 3 | BK5: 0 | BL5: 0 | BM5: 0 | BN5: 0 | BO5: 0 | BP5: 0 | BQ5: 0 | BR5: 0 | BS5: 0 | BT5: 14 | BU5: 36 | BV5: 84 | BW5: 0 | BX5: 0 | BY5: 0 | BZ5: 0 | CA5: 0 | CB5: 0 | CC5: 0 | CD5: 0 | CE5: 0 | CF5: 0 | CG5: 0 | CH5: 0 | CI5: 0 | CJ5: 0 | CK5: 0 | CL5: 0 | CM5: 0 | CN5: 0 | CO5: 0 | CP5: 0 | CQ5: 0 | CR5: 0 | CS5: 0 | CT5: 0 | CU5: 0 | CV5: 0 | CW5: 0 | CX5: 0 | CY5: 0 | CZ5: 0 | DA5: 0 | DB5: 0 | DC5: 0 | DD5: 0 | DE5: 0 | DF5: 0 | DG5: 0 | DH5: 0 | DI5: 0 | DJ5: 0 | DK5: 0 | DL5: 0 | DM5: 0 | DN5: 0 | DO5: 0 | DP5: 0 | DQ5: 0 | DR5: 0 | DS5: 0 | DT5: 0 | DU5: 0 | DV5: 0 | DW5: 0 | DX5: 0 | DY5: 0 | DZ5: 0 | EA5: 0 | EB5: 0 | EC5: 0 | ED5: 0 | EE5: 0 | EF5: 0 | EG5: 0 | EH5: 0 | EI5: 0 | EJ5: 0 | EK5: 0 | EL5: 0 | EM5: 0 | EN5: 0 | EO5: 0 | EP5: 0 | EQ5: 0 | ER5: 0 | ES5: 0 | ET5: 0 | EU5: 0 | EV5: 0 | EW5: 0 | EX5: 0 | EY5: 0 | EZ5: 0 | FA5: 0 | FB5: 0 | FC5: 0 | FD5: 0 | FE5: 0 | FF5: 0 | FG5: 0 | FH5: 0 | FI5: 0 | FJ5: 0 | FK5: 0 | FL5: 0 | FM5: 0 | FN5: 0 | FO5: 0 | FP5: 0 | FQ5: 0 | FR5: 0 | FS5: 0 | FT5: 0 | FU5: 0 | FV5: 28 | FW5: 96 | FX5: 0 | FY5: 0 | FZ5: 0 | GA5: 0 | GB5: 0 | GC5: 0 | GD5: 0 | GE5: 0 | GF5: 0 | GG5: 0 | GH5: 0 | GI5: 0 | GJ5: 0 | GK5: 0 | GL5: 0 | GM5: 0 | GN5: 0 | GO5: 0 | GP5: 0 | GQ5: 0 | GR5: 0 | GS5: 0 | GT5: 0 | GU5: 0 | GV5: 0 | GW5: 0 | GX5: 0 | GY5: 0 | GZ5: 0 | HA5: 0 | HB5: 0 | HC5: 0 | HD5: 0 | HE5: 0 | HF5: 0 | HG5: 0 | HH5: 0 | HI5: 0 | HJ5: 0 | HK5: 0 | HL5: 0 | HM5: 0 | HN5: 0 | HO5: 0 | HP5: 0 | HQ5: 0 | HR5: 0 | HS5: 0 | HT5: 0 | HU5: 0 | HV5: 0 | HW5: 0 | HX5: 0 | HY5: 0 | HZ5: 0 | IA5: 0 | IB5: 0 | IC5: 0 | ID5: 0 | IE5: 0 | IF5: 0 | IG5: 0 | IH5: 0 | II5: 0 | IJ5: 0 | IK5: 0
A6: 02 | B6: 青 森 | C6: 0 | D6: 0 | E6: 0 | F6: 0 | G6: 0 | H6: 0 | I6: 0 | J6: 0 | K6: 0 | L6: 0 | M6: 0 | N6: 0 | O6: 0 | P6: 0 | Q6: 0 | R6: 0 | S6: 0 | T6: 0 | U6: 0 | V6: 0 | W6: 0 | X6: 0 | Y6: 0 | Z6: 0 | AA6: 0 | AB6: 0 | AC6: 0 | AD6: 0 | AE6: 0 | AF6: 0 | AG6: 0 | AH6: 0 | AI6: 0 | AJ6: 0 | AK6: 0 | AL6: 0 | AM6: 0 | AN6: 0 | AO6: 0 | AP6: 0 | AQ6: 0 | AR6: 0 | AS6: 0 | AT6: 0 | AU6: 0 | AV6: 0 | AW6: 0 | AX6: 0 | AY6: 0 | AZ6: 0 | BA6: 0 | BB6: 0 | BC6: 0 | BD6: 0 | BE6: 0 | BF6: 0 | BG6: 0 | BH6: 0 | BI6: 0 | BJ6: 0 | BK6: 0 | BL6: 0 | BM6: 0 | BN6: 0 | BO6: 0 | BP6: 0 | BQ6: 0 | BR6: 0 | BS6: 0 | BT6: 1 | BU6: 1 | BV6: 4 | BW6: 0 | BX6: 0 | BY6: 0 | BZ6: 0 | CA6: 0 | CB6: 0 | CC6: 0 | CD6: 0 | CE6: 0 | CF6: 0 | CG6: 0 | CH6: 0 | CI6: 0 | CJ6: 0 | CK6: 0 | CL6: 0 | CM6: 0 | CN6: 0 | CO6: 0 | CP6: 0 | CQ6: 0 | CR6: 0 | CS6: 0 | CT6: 0 | CU6: 0 | CV6: 0 | CW6: 0 | CX6: 0 | CY6: 0 | CZ6: 0 | DA6: 0 | DB6: 0 | DC6: 0 | DD6: 0 | DE6: 0 | DF6: 0 | DG6: 0 | DH6: 0 | DI6: 0 | DJ6: 0 | DK6: 0 | DL6: 0 | DM6: 0 | DN6: 0 | DO6: 0 | DP6: 0 | DQ6: 0 | DR6: 0 | DS6: 0 | DT6: 0 | DU6: 0 | DV6: 0 | DW6: 0 | DX6: 0 | DY6: 0 | DZ6: 0 | EA6: 0 | EB6: 0 | EC6: 0 | ED6: 0 | EE6: 0 | EF6: 0 | EG6: 0 | EH6: 0 | EI6: 0 | EJ6: 0 | EK6: 0 | EL6: 0 | EM6: 0 | EN6: 0 | EO6: 0 | EP6: 0 | EQ6: 0 | ER6: 0 | ES6: 0 | ET6: 0 | EU6: 0 | EV6: 0 | EW6: 0 | EX6: 0 | EY6: 0 | EZ6: 0 | FA6: 0 | FB6: 0 | FC6: 0 | FD6: 0 | FE6: 0 | FF6: 0 | FG6: 0 | FH6: 0 | FI6: 0 | FJ6: 0 | FK6: 0 | FL6: 0 | FM6: 0 | FN6: 0 | FO6: 0 | FP6: 0 | FQ6: 0 | FR6: 0 | FS6: 0 | FT6: 0 | FU6: 0 | FV6: 0 | FW6: 0 | FX6: 0 | FY6: 0 | FZ6: 0 | GA6: 0 | GB6: 0 | GC6: 0 | GD6: 0 | GE6: 0 | GF6: 0 | GG6: 0 | GH6: 0 | GI6: 0 | GJ6: 0 | GK6: 0 | GL6: 0 | GM6: 0 | GN6: 0 | GO6: 0 | GP6: 0 | GQ6: 0 | GR6: 0 | GS6: 0 | GT6: 0 | GU6: 0 | GV6: 0 | GW6: 0 | GX6: 0 | GY6: 0 | GZ6: 0 | HA6: 0 | HB6: 0 | HC6: 0 | HD6: 0 | HE6: 0 | HF6: 0 | HG6: 0 | HH6: 0 | HI6: 0 | HJ6: 0 | HK6: 0 | HL6: 0 | HM6: 0 | HN6: 0 | HO6: 0 | HP6: 0 | HQ6: 0 | HR6: 0 | HS6: 0 | HT6: 0 | HU6: 0 | HV6: 0 | HW6: 0 | HX6: 0 | HY6: 0 | HZ6: 0 | IA6: 0 | IB6: 0 | IC6: 0 | ID6: 0 | IE6: 0 | IF6: 0 | IG6: 0 | IH6: 0 | II6: 0 | IJ6: 0 | IK6: 0
