Workbook

Sheet 表紙（必須）
B5: 令和６年度農山漁村振興交付金事業実施提案書補完資料 農山漁村発イノベーション対策 農山漁村発イノベーション推進・整備事業（農泊推進型）
B17: 事業メニューの選択
B18: ソフトメニュー
B19: □ | C19: １（１） 農泊推進事業 農泊地域創出タイプ
B20: □ | C20: １（２） 農泊推進事業 農泊地域経営強化タイプ
B21: □ | C21: ２（１） 人材活用事業 研修生タイプ（農泊推進事業とセットで可）
B22: □ | C22: ２（２） 人材活用事業 専門家タイプ（農泊推進事業とセットで可）
B23: □ | C23: ３ 農家民宿転換促進費（農家民泊経営者等実施型とセットで可）
C24: 人材活用事業の研修生タイプと専門家タイプは同時に選択できない
B25: ハードメニュー
B26: □ | C26: ４ 市町村・中核法人実施型
B27: □ | C27: ５ 農家民泊経営者等実施型
B33: 事業実施主体
B35: 代表者の氏名
B37: 住 所
B39: 電話番号
B41: 電子メールアドレス
B44: 事業予定地を管轄する都道府県・市町村及び関係府省へ提案書等を開示することについての意向 | I44: □開示可 □開示不可

Sheet 目標（必須）
B2: 地域・事業実施主体の概要
A3: □ | B3: 事業実施主体（地域協議会）構成員数（団体数） | E3: 0 | F3: 名 | G3: 0 | H3: 団体
A4: □ | B4: うち宿泊関係者数（団体数） | E4: 0 | F4: 名 | G4: 0 | H4: 団体
A5: □ | B5: うち飲食関係者数（団体数） | E5: 0 | F5: 名 | G5: 0 | H5: 団体
A6: □ | B6: うち体験プログラム提供者数（団体数） | E6: 0 | F6: 名 | G6: 0 | H6: 団体
A7: □ | B7: 上記以外の連携団体の有無
B8: （有の場合は、連携団体の構成員数（団体数） | E8: 0 | F8: 名 | G8: 0 | H8: 団体
B9: ※団体数は構成員が所属する組織数とする。
B11: 課題に対する対応（営業の最低継続期間）
A12: □ | B12: ① 農泊推進事業及び人材活用事業は、事業完了後５年間の営業継続を行う必要 | I12: 令和 | K12: 年
A13: □ | B13: ② 施設整備事業は、施設の処分制限期間又は10年間のいずれか長い期間営業継続を行う必要 | I13: 令和 | K13: 年
A14: □ | B14: ③ ①及び②を合わせて行う場合は、①は事業完了後５年間の営業継続を行う必要 | I14: 令和 | K14: 年
B15: ②は施設の処分制限期間又は10年間のいずれか長い期間営業継続を行う必要 | I15: 令和 | K15: 年
B17: 目標
A18: □ | B18: （１）目標及び評価指標（農泊推進事業（農泊地域創出タイプ）、人材活用事業）
B19: 目標項目 | D19: 現状 | E19: 途中年度 | F19: 目標年度 | G19: 目標設定の考え方
D20: 令和５年度 | E20: 令和６年度 | F20: 令和７年度
B21: 売上高（万円）
B22: 延べ宿泊者数（人泊）
B24: 評価指標項目 | D24: 現状 | E24: 途中年度 | F24: 目標年度 | G24: 目標設定の考え方
D25: =+D20 -> 令和５年度 | E25: =+E20 -> 令和６年度 | F25: =+F20 -> 令和７年度
B26: 食事メニュー数
B27: 体験プログラム数
B29: ※ 数値は事業実施主体の構成員の数値の単純合計とする。
A31: □ | B31: （２）目標及び評価指標（農泊推進事業（農泊地域経営強化タイプ）、人材活用事業）
B32: 目標項目 | D32: 現状 | E32: 途中年度 | F32: 目標年度 | G32: 目標設定の考え方
D33: 令和５年度 | E33: 令和６年度 | F33: 令和７年度
B34: 売上高（万円）
B35: 延べ宿泊者数（人泊）
B36: 引き上げる料金単価（円）
B38: 評価指標項目 | D38: 現状 | E38: 途中年度 | F38: 目標年度 | G38: 目標設定の考え方
D39: =+D33 -> 令和５年度 | E39: =+E33 -> 令和６年度 | F39: =+F33 -> 令和７年度
B40: 食事メニュー数
B41: 体験プログラム数
B43: ※ 数値は事業実施主体の構成員の数値の単純合計とする。
B44: ※ 売上高については、現状を基準として交付金希望額以上の増額を目標に設定すること。
A46: □ | B46: 【参考】 | H46: 宿泊施設の目標年度時における営業日数
B47: 目標項目 | D47: 現状 | E47: 事業着手５年目 | G47: □ | H47: 宿泊施設の類型 | I47: 営業基準日数 | K47: 目標年度の営業日数
D48: =+D20 -> 令和５年度 | E48: 令和10年度 | H48: 旅館・ホテル | I48: 20日/月かつ240日/年
B49: 年間宿泊者数（人泊） | H49: 農家民宿 | I49: 100日/年
...

Sheet 構成員による目標の内訳（必須）
B2: 農泊推進事業・人材活用事業(施設整備事業分を除く)
A3: =+'目標（必須）'!A18 -> □ | B3: 【売上高】 | H3: 単位万円
B4: 構成員名 | C4: 宿泊・飲食・体験 | D4: 現状 | E4: 途中年度 | F4: 目標年度 | G4: 食材提供農業者等名
D5: =+'目標（必須）'!D20 -> 令和５年度 | E5: =+'目標（必須）'!E20 -> 令和６年度 | F5: =+'目標（必須）'!F20 -> 令和７年度
B13: 合計 | D13: =SUM(D6:D12) -> 0 | E13: =SUM(E6:E12) -> 0 | F13: =SUM(F6:F12) -> 0
A15: =+'目標（必須）'!A18 -> □ | B15: 【延べ宿泊者数】 | H15: 単位;人/泊
B16: 構成員名 | C16: 宿泊 | D16: 現状 | E16: 途中年度 | F16: 目標年度 | G16: 備考
D17: =+'目標（必須）'!D20 -> 令和５年度 | E17: =+'目標（必須）'!E20 -> 令和６年度 | F17: =+'目標（必須）'!F20 -> 令和７年度
B24: 合計 | D24: =SUM(D18:D23) -> 0 | E24: =SUM(E18:E23) -> 0 | F24: =SUM(F18:F23) -> 0
B26: 施設整備事業
A27: =+'目標（必須）'!A52 -> □ | B27: 【売上高】 | H27: 単位:万円
B28: 事業実施主体名 （施設名） | C28: 宿泊・飲食・体験 | D28: 現状 | E28: 途中年度 | F28: 途中年度 | G28: 目標年度 | H28: 食材提供農業者等名
D29: =+'目標（必須）'!D54 -> 令和５年度 | E29: =+'目標（必須）'!E54 -> 令和６年度 | F29: =+'目標（必須）'!F54 -> 令和７年度 | G29: =+'目標（必須）'!G54 -> 令和８年度
B32: 合計 | D32: =SUM(D30:D31) -> 0 | E32: =SUM(E30:E31) -> 0 | F32: =SUM(F30:F31) -> 0 | G32: =SUM(G30:G31) -> 0
A34: =+'目標（必須）'!A52 -> □ | B34: 【延べ宿泊者数】 | H34: 単位;人/泊
B35: 事業実施主体名 （施設名） | C35: 宿泊 | D35: 現状 | E35: 途中年度 | F35: 途中年度 | G35: 目標年度 | H35: 備考
D36: =+'目標（必須）'!D54 -> 令和５年度 | E36: =+'目標（必須）'!E54 -> 令和６年度 | F36: =+'目標（必須）'!F54 -> 令和７年度 | G36: =+'目標（必須）'!G54 -> 令和８年度
B39: 合計 | D39: =SUM(D37:D38) -> 0 | E39: =SUM(E37:E38) -> 0 | F39: =SUM(F37:F38) -> 0 | G39: =SUM(G37:G38) -> 0

Sheet 事業実施主体構成員（必須）
B1: 地域・事業実施主体の概要（ピンクセルは入力不要）
A2: =+'目標（必須）'!A3 -> □ | B2: 事業実施主体（地域協議会）構成員数（団体数） | C2: =+'目標（必須）'!E3 -> 0 | D2: 名 | E2: =+'目標（必須）'!G3 -> 0 | F2: 団体
A3: =+'目標（必須）'!A4 -> □ | B3: うち宿泊関係者数（団体数） | C3: =+'目標（必須）'!E4 -> 0 | D3: 名 | E3: =+'目標（必須）'!G4 -> 0 | F3: 団体
A4: =+'目標（必須）'!A5 -> □ | B4: うち飲食関係者数（団体数） | C4: =+'目標（必須）'!E5 -> 0 | D4: 名 | E4: =+'目標（必須）'!G5 -> 0 | F4: 団体
A5: =+'目標（必須）'!A6 -> □ | B5: うち体験プログラム提供者数（団体数） | C5: =+'目標（必須）'!E6 -> 0 | D5: 名 | E5: =+'目標（必須）'!G6 -> 0 | F5: 団体
A6: =+'目標（必須）'!A7 -> □ | B6: 上記以外の連携団体の有無
B7: （有の場合は、連携団体の構成員数（団体数） | C7: =+'目標（必須）'!E8 -> 0 | D7: 名 | E7: =+'目標（必須）'!G8 -> 0 | F7: 団体
B9: 事業実施主体構成員（上記表の構成員数と整合）
B10: 事業実施主体構成員（団体又は個人）の名称[法人形態] | C10: 中核法人 | D10: 事業実施主体内における役割 | G10: インバウンド受入対応の可否 | H10: ワーケーション受入対応の可否
B11: 所在地及び連絡先
B34: ※１ 地域協議会構成員については、宿泊、食事及び体験プログラムを提供する者を含むこと。
B35: ※２ 「事業実施主体内における役割」欄には、「体験プログラム（○○○）を提供」「飲食店（○○○）を提供」「宿泊（定員：○名）」等具体的に記載すること。
B36: ※３ 事業実施主体が連携体の場合は、地域協議会及びその構成員である農家民泊経営者等を全て記載すること。
B37: ※４ 「中核法人」欄には中核法人（農泊実施の中心的な役割を担う法人又は当該法人となることが見込まれる団体）である者の箇所に「〇」印を記載すること。
B40: 役員名簿
B41: 役職等 | C41: 所属・氏名 | F41: 所属・氏名
B42: ①代表者 | E42: ①の地位継承者
B43: ②運営責任者（プロジェクトマネージャー） | E43: ②の地位継承者
B44: ③事務局長 | E44: ③の地位継承者
B45: ④経理責任者 | E45: ④の地位継承者
B46: 監査
B47: ※１ 「事業実施主体構成員」における役割分担を踏まえつつ、代表者、運営責任者（プロジェクトマネージャー）、経理責任者及び代表者が不在となった場合の地位継承者等を必ず明示すること。
B49: ※２ 代表者、運営責任者（プロジェクトマネージャー）、経理責任者については、経歴や実績（ただし、観光や地域振興に関係した分野に限定）を添付すること。

Sheet 取組内容と主な経費（積算関係）１年目（必須）
B2: 事業計画とその経費の内訳（※ 積算資料は必ず添付してください。）実施しない事業欄は空欄のままで結構です。
B3: 取組内容と主な経費（１年目） | H3: （単位：千円）
B4: 取組内容 | C4: タイプ | D4: 総事業費 | E4: 本交付金 | F4: 他の補助金等 | G4: 自己資金 | H4: 備考
A5: =+'目標（必須）'!#REF! -> #REF! | B5: １．農泊推進事業 | D5: ①＝②＋③＋④ | E5: ② | F5: ③ | G5: ④
B6: 合計 | D6: =+E6+F6+G6 -> 0 | E6: =SUM(E7:E15) -> 0 | F6: =SUM(F7:F15) -> 0 | G6: =SUM(G7:G15) -> 0
A16: =+'目標（必須）'!#REF! -> #REF! | B16: ２．人材活用事業 | D16: ①＝②＋③＋④ | E16: ② | F16: ③ | G16: ④
B17: 合計 | D17: =SUM(E17:G17) -> 0 | E17: =SUM(E18:E21) -> 0 | F17: =SUM(F18:F21) -> 0 | G17: =SUM(G18:G21) -> 0
A22: =+'目標（必須）'!#REF! -> #REF! | B22: ３．施設整備事業 | D22: ①＝②＋③＋④ | E22: ② | F22: ③ | G22: ④
B24: 注１ 取組内容は、提案書の取組内容と整合を図ること。
B25: 注２ 経費積算の根拠（単価、員数、日数等を明記した計算式等）を記載することとする。
B26: 注３ 「他の補助金等」又は「自己資金」がある場合は、備考欄に資金の性格（相手方、資金の受入時期等）を必ず記載すること。
B27: 注４ 交付金の交付決定前に発生する経費は、自己負担とする。
B28: 注５ 事業の一部を他の民間団体に委託する場合は、該当部分の経費が分かるように記載することとする。
B29: 注６ 謝金及び賃金については、単価とその単価が妥当で適正であることを示す根拠資料（地域協議会等の謝金規程、雇用契約に基づく時間当たり単価等）を添付すること。
B30: 注７ 農家民泊経営者等実施型において農家民宿転換促進費を活用する場合は、「総事業費」の欄において旅館業法に基づく簡易宿所の営業許可を取得するのに最低限必要な設備の整備の費用（※１）を、「本交付金」の欄において農家民宿転換促進費（※２）を括弧内に記載すること。

Sheet 取組内容と主な経費（積算関係）２年目（必須）
B1: 公表前必須要件として確認
B2: 事業計画とその経費の内訳（※ 積算資料は必ず添付してください。）
B3: 取組内容と主な経費（２年目） | H3: （単位：千円）
B4: 取組内容 | C4: タイプ | D4: 総事業費 | E4: 本交付金 | F4: 他の補助金等 | G4: 自己資金 | H4: 備考
A5: =+'目標（必須）'!#REF! -> #REF! | B5: １．農泊推進事業 | D5: ①＝②＋③＋④ | E5: ② | F5: ③ | G5: ④
B6: 合計 | D6: =+E6+F6+G6 -> 0 | E6: =SUM(E7:E15) -> 0 | F6: =SUM(F7:F15) -> 0 | G6: =SUM(G7:G15) -> 0
B16: ２．人材活用事業 | D16: ①＝②＋③＋④ | E16: ② | F16: ③ | G16: ④
A17: =+'目標（必須）'!#REF! -> #REF! | B17: 合計 | D17: =SUM(E17:G17) -> 0 | E17: =SUM(E18:E21) -> 0 | F17: =SUM(F18:F21) -> 0 | G17: =SUM(G18:G21) -> 0
B22: ３．施設整備事業 | D22: ①＝②＋③＋④ | E22: ② | F22: ③ | G22: ④
A23: =+'目標（必須）'!#REF! -> #REF!
B24: 注１ 取組内容は、提案書の取組内容と整合を図ること。
B25: 注２ 経費積算の根拠（単価、員数、日数等を明記した計算式等）を記載することとする。
B26: 注３ 「他の補助金等」又は「自己資金」がある場合は、備考欄に資金の性格（相手方、資金の受入時期等）を必ず記載すること。
B27: 注４ 交付金の交付決定前に発生する経費は、自己負担とする。
B28: 注５ 事業の一部を他の民間団体に委託する場合は、該当部分の経費が分かるように記載することとする。
B29: 注６ 謝金及び賃金については、単価とその単価が妥当で適正であることを示す根拠資料（地域協議会等の謝金規程、雇用契約に基づく時間当たり単価等）を添付すること。
B30: 注７ 農家民泊経営者等実施型において農家民宿転換促進費を活用する場合は、「総事業費」の欄において旅館業法に基づく簡易宿所の営業許可を取得するのに最低限必要な設備の整備の費用（※１）を、「本交付金」の欄において農家民宿転換促進費（※２）を括弧内に記載すること。

Sheet 施設整備計画（実施する場合は必須）
A1: 施設整備計画（施設整備事業（市町村・中核法人実施型、農家民泊経営者等実施型）
A3: （１）事業内容及び事業量
A4: ○施設及び土地の所有状況等について
A5: □ | B5: 施設及び土地を取得済み
A6: □ | B6: 施設等の取得に向け、所有者から内諾済み
A7: □ | B7: 施設等の賃貸契約に向け、所有者から内諾済み
A8: □ | B8: その他（状況を具体的に記載： ）
A10: ○施設整備において関係法規に基づく許認可の見込み
A11: □ | B11: 有り
A13: （２）事業費及び資金計画
A14: 施設名 | B14: 新設・改修 | C14: 事業費（千円）Ａ | D14: 国費（千円）Ｂ | E14: 交付金以外の財源 Ｃ＝Ａ－Ｂ（千円）
E15: =+C15-D15 -> 0
C16: （うち※１ ） | D16: （うち※２ ）
E17: =+C17-D17 -> 0
C18: （うち※１ ） | D18: （うち※２ ）
A19: ※ 改修施設毎に記載すること。
A20: ※ 新設の場合は、費用対効果分析表を作成すること。
A21: ※ 農家民泊経営者等実施型において農家民宿転換促進費を活用する場合は、「事業費」の欄において旅館業法に基づく簡易宿所の営業許可を取得するのに最低限必要な設備の整備費用（※１）を、「国費」の欄において農家民宿転換促進費（※２）を括弧内に記載すること。
A25: ・Ｃ欄の資金計画
A26: ※ 出資、融資、自己資金等の資金計画を明らかにすること。 | D26: （単位：千円）
A27: 項目 | B27: 金額 | C27: 備考
A31: （３）収支計画 | E31: （単位：千円）
A32: 施設名 | B32: ○○○
A33: 年度 | B33: 収入Ａ | C33: 支出Ｂ | D33: Ｃ＝Ａ－Ｂ | E33: 項目
A34: 令和○年度 | D34: =+B34-C34 -> 0
A35: 令和○年度 | D35: =+B35-C35 -> 0
A36: 令和○年度 | D36: =+B36-C36 -> 0
A37: ※ 項目欄には、収入の基礎となるデータ（来客数、販売数、客単価等）及び支出の基礎となるデータ（仕入れ数、雇用者数、仕入れ単価等）を記載すること。
A39: ※ 改修施設ごとの当該施設単独での収支計画を記載すること。
A40: ※ 「収支見通し」と整合性をとること。
A42: （４）償還計画
A44: 想定金利： | C44: 返済方式：
A45: 改修施設名： | E45: （単位：千円）
A46: 年度 | B46: 期首残高 | C46: 借入又は償還の額 | D46: 期末残高 | E46: 融資条件
A47: 令和○年度 | D47: =+B47-C47 -> 0
A48: 令和○年度 | B48: =+D47 -> 0 | D48: =+B48-C48 -> 0
A49: 令和○年度 | B49: =+D48 -> 0 | D49: =+B49-C49 -> 0
A50: 令和○年度 | B50: =+D49 -> 0 | D50: =+B50-C50 -> 0
A51: 令和○年度 | B51: =+D50 -> 0 | D51: =+B51-C51 -> 0
A52: 令和○年度 | B52: =+D51 -> 0 | D52: =+B52-C52 -> 0
...

Sheet 収支見通し（必須）
A1: 必須要件として確認
A2: 収支見通し
A4: 事業実施主体構成員に記載する構成員メンバーを記載すること。
A5: 農泊実施の中心的に役割を担う法人又は当該法人になることが見込まれる団体が分かるようにアンダーラインで示すこと。
F12: （単位：千円）
B13: 令和５年度 （現在） | C13: 令和６年度 | D13: 令和７年度 | E13: 令和８年度 | F13: 備考
A14: 宿泊 | B14: =+B15*B16 -> 0 | C14: =+C15*C16 -> 0 | D14: =+D15*D16 -> 0 | E14: =+E15*E16 -> 0
A15: 宿泊者数 | F15: 施設整備R●年完了
A16: 宿泊単価
A17: 飲食 | B17: =+B18*B19 -> 0 | C17: =+C18*C19 -> 0 | D17: =+D18*D19 -> 0 | E17: =+E18*E19 -> 0
A18: 来店者数
A19: 飲食単価
A20: 体験プログラム販売 | B20: =+B21*B22 -> 0 | C20: =+C21*C22 -> 0 | D20: =+D21*D22 -> 0 | E20: =+E21*E22 -> 0 | F20: 体験プログラム名を記載（収支は体験プログラムごとに作成する）
A21: プログラム参加者
A22: 単価
A23: その他 | F23: 直売所等の収益を記載
A24: 売上 | B24: =+B14+B17+B20+B23 -> 0 | C24: =+C14+C17+C20+C23 -> 0 | D24: =+D14+D17+D20+D23 -> 0 | E24: =+E14+E17+E20+E23 -> 0
A25: 人件費 | B25: =+B26+B27+B28 -> 0 | C25: =+C26+C27+C28 -> 0 | D25: =+D26+D27+D28 -> 0 | E25: =+E26+E27+E28 -> 0 | F25: ○○○○千円／人／年（※平均単価）
A26: ・宿泊費分
A27: ・飲食費分
A28: ・体験費分
A29: 販管費等 | B29: =+B30+B31+B32 -> 0 | C29: =+C30+C31+C32 -> 0 | D29: =+D30+D31+D32 -> 0 | E29: =+E30+E31+E32 -> 0
A30: ・宿泊費分
A31: ・飲食費分
A32: ・体験費分
A33: 補助金自己負担分
A34: 借入金返済
A35: 火災保険料
A36: 経費 | B36: =+B25+B29+B33+B34+B35 -> 0 | C36: =+C25+C29+C33+C34+C35 -> 0 | D36: =+D25+D29+D33+D34+D35 -> 0 | E36: =+E25+E29+E33+E34+E35 -> 0
A37: 経常利益 | B37: =+B24-B36 -> 0 | C37: =+C24-C36 -> 0 | D37: =+D24-D36 -> 0 | E37: =+E24-E36 -> 0 | F37: 事業完了年度の翌年度までに黒字化を達成する計画とすること
A39: 【体験メニューの具体的内容】
A40: 実施するメニューの詳細な内容、及び実施事業者について記載すること。

Sheet 選択肢
A2: ☑ | C2: インバウンドによる地域の売上高（万円） | H2: 新設 | J2: 宿泊 | L2: 農泊地域創出タイプ
A3: □ | C3: 延べ宿泊者数（人泊） | H3: 改修 | J3: 飲食 | L3: 農泊地域経営強化タイプ
C4: 新たに開発したメニュー等の売上高（万円） | J4: 体験 | L4: 研修生タイプ
C5: 延べ利用者数（人） | L5: 専門家タイプ
A6: ○ | C6: 新たに開発した体験プログラムの売上高（万円） | L6: 市町村・中核法人実施型
A7: － | C7: ワーケーションによる地域の売上高（万円） | L7: 農家民泊経営者等実施型
C8: ワーケーション利用者数（人）
