Workbook

Sheet 別添1-1
B1: 別添１－１
B3: 周年安定供給のための長期計画的な販売の取組に係る月別金利倉敷料単価算出票
B5: １ 金利倉敷料単価のうち金利相当額の算出
B6: 品種名 | D6: 等級 | E6: 生産者への支払額 （仮払金額又は買取金額） | F6: 詳細区分 （品種名、等級以外の仕分内容） | H6: 長期計画的販売 対象数量 | I6: 対象米穀に係る 支払額 | J6: 対象米穀に係る 支払単価 （加重平均単価）
E7: ① | H7: ② | I7: ③=①×②÷60kg | J7: （C）=（B）÷（A）×1,000kg
E8: （円/60㎏） | H8: （㎏） | I8: （円） | J8: (円/トン）
I9: =ROUNDDOWN(E9/60*H9,) -> 0 | J9: =ROUND(I20/H20*1000,) -> #DIV/0!
I10: =ROUNDDOWN(E10/60*H10,) -> 0
I11: =ROUNDDOWN(E11/60*H11,) -> 0
I12: =ROUNDDOWN(E12/60*H12,) -> 0
I13: =ROUNDDOWN(E13/60*H13,) -> 0
I14: =ROUNDDOWN(E14/60*H14,) -> 0
I15: =ROUNDDOWN(E15/60*H15,) -> 0
I16: =ROUNDDOWN(E16/60*H16,) -> 0
I17: =ROUNDDOWN(E17/60*H17,) -> 0
I18: =ROUNDDOWN(E18/60*H18,) -> 0
I19: =ROUNDDOWN(E19/60*H19,) -> 0
B20: 合 計 | H20: =SUM(H9:H19) -> 0 | I20: =SUM(I9:I19) -> 0
B22: (※1) | C22: ①欄の生産者への支払額については、本取組の対象米穀に係る仮払金額又は買取金額を記入すること。ただし、同一品種において品質及び出荷時期等によって複数の支払額がある場合であって、対象米穀に係る支払額を区分することが困難な場合には、当該品種の支払額ごとの出荷数量等による加重平均額（出荷数量等による加重平均も困難な場合は当該品種の最低支払額）を記入すること。また、事業実施計画であって事業実施年度内に追加支払等が見込まれる場合には、見込額を記入すること。
B23: (※2) | C23: ①欄の支払額について根拠資料を添付すること。
B24: (※3) | C24: ①欄及び（ｃ）欄については加重平均により円未満が生じた場合には円未満を四捨五入することとし、③欄については円未満を切り捨てること。
B26: ２ 月別金利倉敷料助成単価の算出
D27: 金利負担への助成単価 | G27: 倉敷料助成単価 （一律単価） | H27: 月別金利倉敷料 助成単価
D28: 適用金利 | F28: 助成単価
D29: ④ | F29: ⑤=(C)×④÷12月 ×補助率（1/2） | G29: ⑥ | H29: ⑦=⑤＋⑥
E30: （％/年） | F30: (円/トン） | G30: （円/トン） | H30: （円/トン）
B31: 生産年の翌年４月 | F31: =ROUNDDOWN(J$9*E31%/12/2,) -> #DIV/0! | G31: 416 | H31: =SUM(F31,G$31) -> #DIV/0!
B32: ５月 | F32: =ROUNDDOWN(J$9*E32%/12/2,) -> #DIV/0! | H32: =SUM(F32,G$31) -> #DIV/0!
B33: ６月 | F33: =ROUNDDOWN(J$9*E33%/12/2,) -> #DIV/0! | H33: =SUM(F33,G$31) -> #DIV/0!
B34: ７月 | F34: =ROUNDDOWN(J$9*E34%/12/2,) -> #DIV/0! | H34: =SUM(F34,G$31) -> #DIV/0!
B35: ８月 | F35: =ROUNDDOWN(J$9*E35%/12/2,) -> #DIV/0! | H35: =SUM(F35,G$31) -> #DIV/0!
B36: ９月 | F36: =ROUNDDOWN(J$9*E36%/12/2,) -> #DIV/0! | H36: =SUM(F36,G$31) -> #DIV/0!
B37: 10月 | F37: =ROUNDDOWN(J$9*E37%/12/2,) -> #DIV/0! | H37: =SUM(F37,G$31) -> #DIV/0!
B38: 11月 | F38: =ROUNDDOWN(J$9*E38%/12/2,) -> #DIV/0! | H38: =SUM(F38,G$31) -> #DIV/0!
B39: 12月 | F39: =ROUNDDOWN(J$9*E39%/12/2,) -> #DIV/0! | H39: =SUM(F39,G$31) -> #DIV/0!
B40: 生産年の翌々年１月 | F40: =ROUNDDOWN(J$9*E40%/12/2,) -> #DIV/0! | H40: =SUM(F40,G$31) -> #DIV/0!
B41: ２月 | F41: =ROUNDDOWN(J$9*E41%/12/2,) -> #DIV/0! | H41: =SUM(F41,G$31) -> #DIV/0!
B42: ３月 | F42: =ROUNDDOWN(J$9*E42%/12/2,) -> #DIV/0! | H42: =SUM(F42,G$31) -> #DIV/0!
B44: (※1) | C44: ④欄の適用金利については、１の表の生産者への支払額に係る借入金に対して適用される金利を月ごとに記入すること。ただし、複数の金融機関からの借入等により異なる金利がある場合であって、対象米穀に係る借入金に対する金利を区分することが困難な場合には、借入金残高等による加重平均値（借入金残高等による加重平均も困難な場合は当該月の最低金利）を記入すること。また、事業実施計画であって事業実施年度内に金利の変動が見込まれる場合には、見込率を記入すること。
B45: (※2) | C45: ④欄の適用金利については、公募要領第４に定める金利を上限とする。
...

Sheet 別添1-2
B1: 別添１－２
B3: 周年安定供給のための長期計画的な販売の取組に係る経費算出票（国費助成分）
B5: １ 金利倉敷料助成額
C7: 販売引渡月 | E7: 生産年の翌年 11月 | H7: 12月 | K7: 翌々年 1月 | N7: 2月 | Q7: 3月 | T7: 補助対象開始期間別 計
B8: 補助対象開始期間 （販売契約締結日の翌月から） | E8: 引渡数量 | F8: 単価 | G8: 助成額 | H8: 引渡数量 | I8: 単価 | J8: 助成額 | K8: 引渡数量 | L8: 単価 | M8: 助成額 | N8: 引渡数量 | O8: 単価 | P8: 助成額 | Q8: 引渡数量 | R8: 単価 | S8: 助成額 | T8: 引渡数量 | U8: 助成額 | V8: 平均保管月数 | W8: 平均単価
E9: ① | F9: ② | G9: ③= ①÷1,000×② | H9: ④ | I9: ⑤ | J9: ⑥= ④÷1,000×⑤ | K9: ⑦ | L9: ⑧ | M9: ⑨= ⑦÷1,000×⑧ | N9: ⑩ | O9: ⑪ | P9: ⑫= ⑩÷1,000×⑪ | Q9: ⑬ | R9: ⑭ | S9: ⑮= ⑬÷1,000×⑭ | T9: ⑯= ①+④+⑦+⑩+⑬ | U9: ⑰= ③+⑥+⑨+⑫+⑮ | V9: ⑱ | W9: ⑲= ⑰÷⑯×1,000÷⑱
B10: 生産年の翌年の4月 | E10: （キログラム） | F10: （円/トン） | G10: （円） | H10: （キログラム） | I10: （円/トン） | J10: （円） | K10: （キログラム） | L10: （円/トン） | M10: （円） | N10: （キログラム） | O10: （円/トン） | P10: （円） | Q10: （キログラム） | R10: （円/トン） | S10: （円） | T10: （キログラム） | U10: （円） | W10: （円/トン）
F11: =IF(E11=0,0,ROUND(SUM('別添1-1'!$H31:$H$37)+('別添1-1'!$H$38/2),1)) -> 0 | G11: =ROUNDDOWN(F11*E11/1000,) -> 0 | I11: =IF(H11=0,0,ROUND(SUM('別添1-1'!$H31:$H$38)+('別添1-1'!$H$39/2),1)) -> 0 | J11: =ROUNDDOWN(I11*H11/1000,) -> 0 | L11: =IF(K11=0,0,ROUND(SUM('別添1-1'!$H31:$H$39)+('別添1-1'!$H$40/2),1)) -> 0 | M11: =ROUNDDOWN(L11*K11/1000,) -> 0 | O11: =IF(N11=0,0,ROUND(SUM('別添1-1'!$H31:$H$40)+('別添1-1'!$H$41/2),1)) -> 0 | P11: =ROUNDDOWN(O11*N11/1000,) -> 0 | R11: =IF(Q11=0,0,ROUND(SUM('別添1-1'!$H31:$H$41)+('別添1-1'!$H$42/2),1)) -> 0 | S11: =ROUNDDOWN(R11*Q11/1000,) -> 0 | T11: =SUM(E11,H11,K11,N11,Q11) -> 0 | U11: =SUM(G11,J11,M11,P11,S11) -> 0 | V11: =IF(T11=0,0,((E11*7.5)+(H11*8.5)+(K11*9.5)+(N11*10.5)+(Q11*11.5))/T11) -> 0 | W11: =IF(T11=0,"",ROUND(U11/T11*1000/V11,))
B12: 5月 | F12: =IF(E12=0,0,ROUND(SUM('別添1-1'!$H32:$H$37)+('別添1-1'!$H$38/2),1)) -> 0 | G12: =ROUNDDOWN(F12*E12/1000,) -> 0 | I12: =IF(H12=0,0,ROUND(SUM('別添1-1'!$H32:$H$38)+('別添1-1'!$H$39/2),1)) -> 0 | J12: =ROUNDDOWN(I12*H12/1000,) -> 0 | L12: =IF(K12=0,0,ROUND(SUM('別添1-1'!$H32:$H$39)+('別添1-1'!$H$40/2),1)) -> 0 | M12: =ROUNDDOWN(L12*K12/1000,) -> 0 | O12: =IF(N12=0,0,ROUND(SUM('別添1-1'!$H32:$H$40)+('別添1-1'!$H$41/2),1)) -> 0 | P12: =ROUNDDOWN(O12*N12/1000,) -> 0 | R12: =IF(Q12=0,0,ROUND(SUM('別添1-1'!$H32:$H$41)+('別添1-1'!$H$42/2),1)) -> 0 | S12: =ROUNDDOWN(R12*Q12/1000,) -> 0 | T12: =SUM(E12,H12,K12,N12,Q12) -> 0 | U12: =SUM(G12,J12,M12,P12,S12) -> 0 | V12: =IF(T12=0,0,((E12*6.5)+(H12*7.5)+(K12*8.5)+(N12*9.5)+(Q12*10.5))/T12) -> 0 | W12: =IF(T12=0,"",ROUND(U12/T12*1000/V12,))
B13: 6月 | F13: =IF(E13=0,0,ROUND(SUM('別添1-1'!$H33:$H$37)+('別添1-1'!$H$38/2),1)) -> 0 | G13: =ROUNDDOWN(F13*E13/1000,) -> 0 | I13: =IF(H13=0,0,ROUND(SUM('別添1-1'!$H33:$H$38)+('別添1-1'!$H$39/2),1)) -> 0 | J13: =ROUNDDOWN(I13*H13/1000,) -> 0 | L13: =IF(K13=0,0,ROUND(SUM('別添1-1'!$H33:$H$39)+('別添1-1'!$H$40/2),1)) -> 0 | M13: =ROUNDDOWN(L13*K13/1000,) -> 0 | O13: =IF(N13=0,0,ROUND(SUM('別添1-1'!$H33:$H$40)+('別添1-1'!$H$41/2),1)) -> 0 | P13: =ROUNDDOWN(O13*N13/1000,) -> 0 | R13: =IF(Q13=0,0,ROUND(SUM('別添1-1'!$H33:$H$41)+('別添1-1'!$H$42/2),1)) -> 0 | S13: =ROUNDDOWN(R13*Q13/1000,) -> 0 | T13: =SUM(E13,H13,K13,N13,Q13) -> 0 | U13: =SUM(G13,J13,M13,P13,S13) -> 0 | V13: =IF(T13=0,0,((E13*5.5)+(H13*6.5)+(K13*7.5)+(N13*8.5)+(Q13*9.5))/T13) -> 0 | W13: =IF(T13=0,"",ROUND(U13/T13*1000/V13,))
B14: 7月 | F14: =IF(E14=0,0,ROUND(SUM('別添1-1'!$H34:$H$37)+('別添1-1'!$H$38/2),1)) -> 0 | G14: =ROUNDDOWN(F14*E14/1000,) -> 0 | I14: =IF(H14=0,0,ROUND(SUM('別添1-1'!$H34:$H$38)+('別添1-1'!$H$39/2),1)) -> 0 | J14: =ROUNDDOWN(I14*H14/1000,) -> 0 | L14: =IF(K14=0,0,ROUND(SUM('別添1-1'!$H34:$H$39)+('別添1-1'!$H$40/2),1)) -> 0 | M14: =ROUNDDOWN(L14*K14/1000,) -> 0 | O14: =IF(N14=0,0,ROUND(SUM('別添1-1'!$H34:$H$40)+('別添1-1'!$H$41/2),1)) -> 0 | P14: =ROUNDDOWN(O14*N14/1000,) -> 0 | R14: =IF(Q14=0,0,ROUND(SUM('別添1-1'!$H34:$H$41)+('別添1-1'!$H$42/2),1)) -> 0 | S14: =ROUNDDOWN(R14*Q14/1000,) -> 0 | T14: =SUM(E14,H14,K14,N14,Q14) -> 0 | U14: =SUM(G14,J14,M14,P14,S14) -> 0 | V14: =IF(T14=0,0,((E14*4.5)+(H14*5.5)+(K14*6.5)+(N14*7.5)+(Q14*8.5))/T14) -> 0 | W14: =IF(T14=0,"",ROUND(U14/T14*1000/V14,))
B15: 8月 | F15: =IF(E15=0,0,ROUND(SUM('別添1-1'!$H35:$H$37)+('別添1-1'!$H$38/2),1)) -> 0 | G15: =ROUNDDOWN(F15*E15/1000,) -> 0 | I15: =IF(H15=0,0,ROUND(SUM('別添1-1'!$H35:$H$38)+('別添1-1'!$H$39/2),1)) -> 0 | J15: =ROUNDDOWN(I15*H15/1000,) -> 0 | L15: =IF(K15=0,0,ROUND(SUM('別添1-1'!$H35:$H$39)+('別添1-1'!$H$40/2),1)) -> 0 | M15: =ROUNDDOWN(L15*K15/1000,) -> 0 | O15: =IF(N15=0,0,ROUND(SUM('別添1-1'!$H35:$H$40)+('別添1-1'!$H$41/2),1)) -> 0 | P15: =ROUNDDOWN(O15*N15/1000,) -> 0 | R15: =IF(Q15=0,0,ROUND(SUM('別添1-1'!$H35:$H$41)+('別添1-1'!$H$42/2),1)) -> 0 | S15: =ROUNDDOWN(R15*Q15/1000,) -> 0 | T15: =SUM(E15,H15,K15,N15,Q15) -> 0 | U15: =SUM(G15,J15,M15,P15,S15) -> 0 | V15: =IF(T15=0,0,((E15*3.5)+(H15*4.5)+(K15*5.5)+(N15*6.5)+(Q15*7.5))/T15) -> 0 | W15: =IF(T15=0,"",ROUND(U15/T15*1000/V15,))
B16: 販売引渡月別 計 | E16: =SUM(E11:E15) -> 0 | G16: =SUM(G11:G15) -> 0 | H16: =SUM(H11:H15) -> 0 | J16: =SUM(J11:J15) -> 0 | K16: =SUM(K11:K15) -> 0 | M16: =SUM(M11:M15) -> 0 | N16: =SUM(N11:N15) -> 0 | P16: =SUM(P11:P15) -> 0 | Q16: =SUM(Q11:Q15) -> 0 | S16: =SUM(S11:S15) -> 0 | T16: =SUM(T11:T15) -> 0 | U16: =SUM(U11:U15) -> 0 | V16: =ROUND(((V11*T11)+(V12*T12)+(V13*T13)+(V14*T14)+(V15*T15))/T16,2) -> #DIV/0! | W16: =ROUND(U16/T16*1000/V16,) -> #DIV/0!
B18: (※1) | C18: 補助対象開始期間から販売引渡月までの各単価欄については、別添１－１の２（月別金利倉敷料助成単価の算出）の⑦の月別金利倉敷料助成単価の該当月分までを合計（販売引渡月は1/2を乗じる。）して記入すること。
B19: (※2) | C19: 補助対象開始期間別の平均保管月数については、販売引渡月ごとの引渡数量により加重平均すること。なお、年度平均の算出に当たっては、各補助対象開始期間別の平均保管月数に当該期間の引渡数量を乗じて加重平均し、小数点第３位を四捨五入すること。
B20: (※3) | C20: 販売引渡月ごとの助成額の算出に当たっては円未満を切り捨てること。
B21: (※4) | C21: ⑲欄については円未満を四捨五入すること。
B23: ２ 収穫前契約及び複数年契約加算額
E25: 収穫前契約加算 | H25: 複数年契約加算 | S25: 加算額 計
E26: 産年の7月末迄の契約分 | H26: 産年の7月末迄の契約分 | K26: 産年の12月末迄の契約分 | N26: 産年の翌年3月末迄の契約分 | Q26: 計
E27: 対象数量 | F27: 単価 | G27: 加算額 | H27: 対象数量 | I27: 単価 | J27: 加算額 | K27: 対象数量 | L27: 単価 | M27: 加算額 | N27: 対象数量 | O27: 単価 | P27: 加算額 | Q27: 対象数量 | R27: 加算額 | S27: 対象数量 | T27: 加算額
E28: ① | F28: ②=(A)×2 | G28: ③= ①÷1,000×② | H28: ④ | I28: ⑤=(A)×3 | J28: ⑥= ④÷1,000×⑤ | K28: ⑦ | L28: ⑧=(A)×2 | M28: ⑨= ⑦÷1,000×⑧ | N28: ⑩ | O28: ⑪=(A) | P28: ⑫= ⑩÷1,000×⑪ | Q28: ⑬=④+⑦+⑩ | R28: ⑭=⑥+⑨+⑫ | S28: ⑮=①+⑬ | T28: ⑯=③+⑭
B29: 合 計 | E29: （キログラム） | F29: （円/トン） | G29: （円） | H29: （キログラム） | I29: （円/トン） | J29: （円） | K29: （キログラム） | L29: （円/トン） | M29: （円） | N29: （キログラム） | O29: （円/トン） | P29: （円） | Q29: （キログラム） | R29: （円） | S29: （キログラム） | T29: （円）
F30: =IF(E30=0,0,$W16*2) -> 0 | G30: =ROUNDDOWN(E30/1000*F30,) -> 0 | I30: =IF(H30=0,0,$W16*3) -> 0 | J30: =ROUNDDOWN(H30/1000*I30,) -> 0 | L30: =IF(K30=0,0,$W16*2) -> 0 | M30: =ROUNDDOWN(K30/1000*L30,) -> 0 | O30: =IF(N30=0,0,$W16) -> 0 | P30: =ROUNDDOWN(N30/1000*O30,) -> 0 | Q30: =SUM(H30,K30,N30) -> 0 | R30: =SUM(J30,M30,P30) -> 0 | S30: =SUM(Q30,E30) -> 0 | T30: =SUM(R30,G30) -> 0
B32: (※) | C32: 単価については、年度平均単価（１（金利倉敷料助成額）の（Ａ）欄）に別記１の２の（１）又は（２）に定める契約区分及び契約時期ごとに加算割合を乗じること。
B34: ３ 集約経費助成額
E36: 対象数量 | F36: 単価 | G36: 助成額
E37: ① | F37: ② | G37: ③= ①÷1,000×②
B38: 合 計 | E38: （キログラム） | F38: （円/トン） | G38: （円）
F39: 2040 | G39: =ROUNDDOWN(E39/1000*F39,) -> 0
B41: ４ 国費助成額合計
F43: （円）
B44: １ 金利倉敷料助成額 | F44: =U16 -> 0
B45: ２ 収穫前契約及び複数年契約加算額 | F45: =T30 -> 0
B46: ３ 集約経費助成額 | F46: =G39 -> 0
B47: 合 計 | F47: =SUM(F44:F46) -> 0

Sheet 別添1-3
B1: 別添１－３
B3: 非主食用への販売の取組に係る月別金利倉敷料単価算出票
B5: １ 対象米穀に係る支払単価の算出
B6: 品種名 | D6: 等級 | E6: 生産者への支払額 （仮払金額又は買取金額） | F6: 詳細区分 （品種名、等級以外の仕分内容） | H6: 非主食用への販売 対象数量 | I6: 対象米穀に係る 支払額 | J6: 対象米穀に係る 支払単価 （加重平均単価）
E7: ① | H7: ② | I7: ③=①×②÷60kg | J7: （C）=（B）÷（A）×1,000kg
E8: （円/60㎏） | H8: （㎏） | I8: （円） | J8: (円/トン）
I9: =ROUNDDOWN(E9/60*H9,) -> 0 | J9: =ROUND(I20/H20*1000,) -> #DIV/0!
I10: =ROUNDDOWN(E10/60*H10,) -> 0
I11: =ROUNDDOWN(E11/60*H11,) -> 0
I12: =ROUNDDOWN(E12/60*H12,) -> 0
I13: =ROUNDDOWN(E13/60*H13,) -> 0
I14: =ROUNDDOWN(E14/60*H14,) -> 0
I15: =ROUNDDOWN(E15/60*H15,) -> 0
I16: =ROUNDDOWN(E16/60*H16,) -> 0
I17: =ROUNDDOWN(E17/60*H17,) -> 0
I18: =ROUNDDOWN(E18/60*H18,) -> 0
I19: =ROUNDDOWN(E19/60*H19,) -> 0
B20: 合 計 | H20: =SUM(H9:H19) -> 0 | I20: =SUM(I9:I19) -> 0
B22: (※1) | C22: ①欄の生産者への支払額については、本取組の対象米穀に係る仮払金額又は買取金額を記入すること。ただし、同一品種において品質及び出荷時期等によって複数の支払額がある場合であって、対象米穀に係る支払額を区分することが困難な場合には、当該品種の支払額ごとの出荷数量等による加重平均額（出荷数量等による加重平均も困難な場合は当該品種の最低支払額）を記入すること。また、事業実施計画であって事業実施年度内に追加支払等が見込まれる場合には、見込額を記入すること。
B23: (※2) | C23: ①欄の支払額について根拠資料を添付すること。
B24: (※3) | C24: ①欄及び（ｃ）欄については加重平均により円未満が生じた場合には円未満を四捨五入することとし、③欄については円未満を切り捨てること。
B26: ２ 月別金利倉敷料助成単価の算出
D27: 金利負担への助成単価 | G27: 倉敷料助成単価 （一律単価） | H27: 月別金利倉敷料 助成単価
D28: 適用金利 | F28: 助成単価
D29: ④ | F29: ⑤=(C)×④÷12月 ×補助率（1/2） | G29: ⑥ | H29: ⑦=⑤＋⑥
E30: （％/年） | F30: (円/トン） | G30: （円/トン） | H30: （円/トン）
B31: 月 | F31: =ROUND(J$9*E31%/12/2,) -> #DIV/0! | G31: 416 | H31: =SUM(F31,G$31) -> #DIV/0!
B32: 月 | F32: =ROUND(J$9*E32%/12/2,) -> #DIV/0! | H32: =SUM(F32,G$31) -> #DIV/0!
B33: 月 | F33: =ROUND(J$9*E33%/12/2,) -> #DIV/0! | H33: =SUM(F33,G$31) -> #DIV/0!
B34: 月 | F34: =ROUND(J$9*E34%/12/2,) -> #DIV/0! | H34: =SUM(F34,G$31) -> #DIV/0!
B35: 月 | F35: =ROUND(J$9*E35%/12/2,) -> #DIV/0! | H35: =SUM(F35,G$31) -> #DIV/0!
B36: 月 | F36: =ROUND(J$9*E36%/12/2,) -> #DIV/0! | H36: =SUM(F36,G$31) -> #DIV/0!
B37: 月 | F37: =ROUND(J$9*E37%/12/2,) -> #DIV/0! | H37: =SUM(F37,G$31) -> #DIV/0!
B38: 月 | F38: =ROUND(J$9*E38%/12/2,) -> #DIV/0! | H38: =SUM(F38,G$31) -> #DIV/0!
B39: 月 | F39: =ROUND(J$9*E39%/12/2,) -> #DIV/0! | H39: =SUM(F39,G$31) -> #DIV/0!
B40: 月 | F40: =ROUND(J$9*E40%/12/2,) -> #DIV/0! | H40: =SUM(F40,G$31) -> #DIV/0!
B41: 月 | F41: =ROUND(J$9*E41%/12/2,) -> #DIV/0! | H41: =SUM(F41,G$31) -> #DIV/0!
B42: 月 | F42: =ROUND(J$9*E42%/12/2,) -> #DIV/0! | H42: =SUM(F42,G$31) -> #DIV/0!
B44: (※1) | C44: ④欄の適用金利については、１の表の生産者への支払額に係る借入金に対して適用される金利を月ごとに記入すること。ただし、複数の金融機関からの借入等により異なる金利がある場合であって、対象米穀に係る借入金に対する金利を区分することが困難な場合には、借入金残高等による加重平均値（借入金残高等による加重平均も困難な場合は当該月の最低金利）を記入すること。また、事業実施計画であって事業実施年度内に金利の変動が見込まれる場合には、見込率を記入すること。
B45: (※2) | C45: ④欄の適用金利については、公募要領第４に定める金利を上限とする。
...

Sheet 別添1-4
B1: 別添１－４
B3: 非主食用への販売の取組に係る経費算出票（国費助成分）
B5: １ 金利倉敷料助成額
C7: 販売引渡月 | E7: 月 | H7: 月 | K7: 月 | N7: 月 | Q7: 月 | T7: 補助対象開始期間別 計
B8: 補助対象開始期間 （販売契約締結日の翌月から） | E8: 引渡数量 | F8: 単価 | G8: 助成額 | H8: 引渡数量 | I8: 単価 | J8: 助成額 | K8: 引渡数量 | L8: 単価 | M8: 助成額 | N8: 引渡数量 | O8: 単価 | P8: 助成額 | Q8: 引渡数量 | R8: 単価 | S8: 助成額 | T8: 引渡数量 | U8: 助成額
E9: ① | F9: ② | G9: ③= ①÷1,000×② | H9: ④ | I9: ⑤ | J9: ⑥= ④÷1,000×⑤ | K9: ⑦ | L9: ⑧ | M9: ⑨= ⑦÷1,000×⑧ | N9: ⑩ | O9: ⑪ | P9: ⑫= ⑩÷1,000×⑪ | Q9: ⑬ | R9: ⑭ | S9: ⑮= ⑬÷1,000×⑭ | T9: ⑯= ①+④+⑦+⑩+⑬ | U9: ⑰= ③+⑥+⑨+⑫+⑮
B10: 月 | E10: （キログラム） | F10: （円/トン） | G10: （円） | H10: （キログラム） | I10: （円/トン） | J10: （円） | K10: （キログラム） | L10: （円/トン） | M10: （円） | N10: （キログラム） | O10: （円/トン） | P10: （円） | Q10: （キログラム） | R10: （円/トン） | S10: （円） | T10: （キログラム） | U10: （円）
G11: =ROUNDDOWN(F11*E11/1000,) -> 0 | J11: =ROUNDDOWN(I11*H11/1000,) -> 0 | M11: =ROUNDDOWN(L11*K11/1000,) -> 0 | P11: =ROUNDDOWN(O11*N11/1000,) -> 0 | S11: =ROUNDDOWN(R11*Q11/1000,) -> 0 | T11: =SUM(E11,H11,K11,N11,Q11) -> 0 | U11: =SUM(G11,J11,M11,P11,S11) -> 0
B12: 月 | G12: =ROUNDDOWN(F12*E12/1000,) -> 0 | J12: =ROUNDDOWN(I12*H12/1000,) -> 0 | M12: =ROUNDDOWN(L12*K12/1000,) -> 0 | P12: =ROUNDDOWN(O12*N12/1000,) -> 0 | S12: =ROUNDDOWN(R12*Q12/1000,) -> 0 | T12: =SUM(E12,H12,K12,N12,Q12) -> 0 | U12: =SUM(G12,J12,M12,P12,S12) -> 0
B13: 月 | G13: =ROUNDDOWN(F13*E13/1000,) -> 0 | J13: =ROUNDDOWN(I13*H13/1000,) -> 0 | M13: =ROUNDDOWN(L13*K13/1000,) -> 0 | P13: =ROUNDDOWN(O13*N13/1000,) -> 0 | S13: =ROUNDDOWN(R13*Q13/1000,) -> 0 | T13: =SUM(E13,H13,K13,N13,Q13) -> 0 | U13: =SUM(G13,J13,M13,P13,S13) -> 0
B14: 月 | G14: =ROUNDDOWN(F14*E14/1000,) -> 0 | J14: =ROUNDDOWN(I14*H14/1000,) -> 0 | M14: =ROUNDDOWN(L14*K14/1000,) -> 0 | P14: =ROUNDDOWN(O14*N14/1000,) -> 0 | S14: =ROUNDDOWN(R14*Q14/1000,) -> 0 | T14: =SUM(E14,H14,K14,N14,Q14) -> 0 | U14: =SUM(G14,J14,M14,P14,S14) -> 0
B15: 月 | G15: =ROUNDDOWN(F15*E15/1000,) -> 0 | J15: =ROUNDDOWN(I15*H15/1000,) -> 0 | M15: =ROUNDDOWN(L15*K15/1000,) -> 0 | P15: =ROUNDDOWN(O15*N15/1000,) -> 0 | S15: =ROUNDDOWN(R15*Q15/1000,) -> 0 | T15: =SUM(E15,H15,K15,N15,Q15) -> 0 | U15: =SUM(G15,J15,M15,P15,S15) -> 0
B16: 販売引渡月別 計 | E16: =SUM(E11:E15) -> 0 | G16: =SUM(G11:G15) -> 0 | H16: =SUM(H11:H15) -> 0 | J16: =SUM(J11:J15) -> 0 | K16: =SUM(K11:K15) -> 0 | M16: =SUM(M11:M15) -> 0 | N16: =SUM(N11:N15) -> 0 | P16: =SUM(P11:P15) -> 0 | Q16: =SUM(Q11:Q15) -> 0 | S16: =SUM(S11:S15) -> 0 | T16: =SUM(T11:T15) -> 0 | U16: =SUM(U11:U15) -> 0
B18: (※1) | C18: 補助対象開始期間から販売引渡月までの各単価欄については、別添１－３の２（月別金利倉敷料助成単価の算出）の⑦の月別金利倉敷料助成単価の該当月分までを合計（販売引渡月は1/2を乗じる。）して記入すること。
B19: (※2) | C19: 販売引渡月ごとの助成額の算出に当たっては円未満を切り捨てること。
B21: ２ バラ化経費助成額 | I21: ３ 運送経費助成額 | O21: ４ 集約経費助成額
E23: 対象数量 | F23: 単価 | G23: 助成額 | K23: 対象数量 | L23: 単価 | M23: 助成額 | Q23: 対象数量 | R23: 単価 | S23: 助成額
E24: ① | F24: ② | G24: ③= ①÷1,000×② | K24: ① | L24: ② | M24: ③= ①÷1,000×② | Q24: ① | R24: ② | S24: ③= ①÷1,000×②
B25: 合 計 | E25: （キログラム） | F25: （円/トン） | G25: （円） | I25: 合 計 | K25: （キログラム） | L25: （円/トン） | M25: （円） | O25: 合 計 | Q25: （キログラム） | R25: （円/トン） | S25: （円）
F26: 310 | G26: =ROUNDDOWN(E26/1000*F26,) -> 0 | L26: 2630 | M26: =ROUNDDOWN(K26/1000*L26,) -> 0 | R26: 2040 | S26: =ROUNDDOWN(Q26/1000*R26,) -> 0
B28: ５ 国費助成額合計
F30: （円）
B31: １ 金利倉敷料助成額 | F31: =U16 -> 0
B32: ２ バラ化経費助成額 | F32: =G26 -> 0
B33: ３ 運送経費助成額 | F33: =M26 -> 0
B34: ４ 集約経費助成額 | F34: =S26 -> 0
B35: 合 計 | F35: =SUM(F31:F34) -> 0
