{"text_format":"3","workbook":"xlsx","n_sheets":6,"sheets":["様式の備考","入力用","印刷用","報告書作成上の留意事項","（隠しシート　職員限り）整理台帳","（隠しシート　職員限り）別記表"],"not_rendered":{"defined_names":6},"read":"whole","date_system":"1900"}

{"sheet":"様式の備考","index":0,"n_rows":23,"n_cols":3,"rows_kept":23,"merged":[[0,0,0,11],[1,0,1,1],[2,1,2,11],[3,1,3,11],[4,1,4,11],[5,1,5,11],[6,1,6,11],[7,1,7,11],[8,1,8,11],[9,1,9,11],[10,1,10,11],[11,1,11,11],[12,2,12,11],[13,2,13,11],[14,1,14,11],[15,2,15,11],[16,2,16,11],[17,1,17,11],[19,1,19,11],[21,1,21,11],[22,1,22,11],[23,1,23,11]]}
["※　報告書作成の際にご確認ください。（提出する報告書への添付は不要。）"]
["[備考]"]
["１","用紙の大きさは、日本産業規格Ａ４とすること。"]
["２","文字は、かい書でインキ、タイプによる活字等により明確に記入すること。"]
["３","報告書冒頭の※印を付した欄は記入しないこと。"]
["４","フランチャイズチェーンの事業を行う者など、定型的な約款による契約に基づき継続的に、商品を販売し、又は販売をあっせんし、かつ、経営に関する指導を行う事業者（以下「本部事業者」という。）又は当該事業に加盟する者（以下「加盟者」という。）は、「事業者名」の欄に、本部事業者を記入すること。この場合には、本部事業者が加盟者を含めた容器包装を用いた量及び取組を一括して各表に記入し、本部事業者が当該定期報告書を提出すること。"]
["５ ","「業種」の欄には、各種商品小売業、織物・衣服・身の回り品小売業、飲食料品小売業、自動車部分品・附属品小売業、家具・じゅう器・機械器具小売業、医薬品・化粧品小売業、書籍・文房具小売業、スポーツ用品・がん具・娯楽用品・楽器小売業及びたばこ・喫煙具専門小売業のうち、該当するものを記入すること。"]
["６","「作成責任者名」の欄には、本報告書の作成を担当した者の所属部署及び氏名を記入すること。"]
["７","「当該事業者が営む当該業種に属する事業に加盟する者の有無」の欄には、４の「加盟者」の有無を記入すること。"]
["８","この様式において、「主としてプラスチック製の容器包装」及び「主として紙製の容器包装（主として段ボール製の容器包装を除く。以下同じ。）」とはそれぞれ、容器包装に係る分別収集及び再商品化の促進等に関する法律施行規則第４条第６号及び同条第４号に規定する容器包装の区分に従うものとする。また、「プラスチック製の買物袋」は小売業に属する事業を行う者の容器包装の使用の合理化による容器包装廃棄物の排出の抑制の促進に関する判断の基準となるべき事項を定める省令第２条第１項で定める「プラスチック製の買物袋」、「厚手のプラスチック製の買物袋」は同項第１号に該当するもの、「海洋生分解性プラスチック製の買物袋」は同項第２号に該当するもの、「バイオマスプラスチック製の買物袋」は同項第３号に該当するものとする。"]
["９","第２表においては、容器包装を用いた量と密接な関係をもつ値として同表中に掲げる「売上高」、「店舗面積」又は「その他の当該容器包装を用いた量と密接な関係をもつ値」のいずれかについて数値を記入すること。第３表の容器包装の使用原単位の算出に当たってどの値を用いるかは原則として事業者自らが選ぶものとする。"]
["１０","素材区分毎の容器包装の使用原単位の算出方法の設定については、第４表に説明を記入すること。また算出方法の設定を変更した場合は、以下のいずれかとし、同表に理由を示すこと。"]
[null,"(1)","前年度の容器包装の使用原単位も今年度と同じ方法で算出して対前年度比を求める。"]
[null,"(2)","今年度の容器包装の使用原単位を前年度と同じ方法でも算出し、今年度の容器包装の使用原単位の下に括弧書きで示し、対前年度比は括弧内の数値と前年度の数値の比として求める。"]
["１１","第５表において容器包装の使用原単位の設定方法を変更した場合は、以下のいずれかとする。"]
[null,"(1)","過去の容器包装の使用原単位も今年度と同じ方法で算出して対前年度比を求める。"]
[null,"(2)","算出方法を変更する毎に記入する行を改行して記入する。変更した年度の容器包装の使用原単位を前年度と同じ方法でも算出し、その年度の容器包装の使用原単位の上（以前の算出方法での容器包装の使用原単位を記入した行の右端）に括弧書きで示し、対前年度比は括弧内の数値と前年度の数値の比として求める。"]
["１２","第５表の「５年度間平均原単位変化」の欄には、過去５年度間の対前年度比をそれぞれ乗じた値の４乗根となる値を記入すること。算出方法は、以下のとおり。"]
[]
[null,"５年度間平均原単位変化（％）＝（Ａ×Ｂ×Ｃ×Ｄ）1/4（％）"]
[]
["１３","第６表において、（ロ）の理由が（イ）と同じ場合には「（イ）と同じ」と記入してもよい。"]
["１４","第７表において選択項目がある欄については、該当するものに Ｖ  印又は■印を付し、それぞれの具体的内容及びその効果を記入すること。"]

{"sheet":"入力用","index":1,"n_rows":430,"n_cols":59,"rows_kept":430,"merged":[[0,0,0,43],[0,47,0,52],[0,53,0,55],[2,20,2,25],[4,0,6,35],[6,36,8,53],[9,1,9,10],[11,3,12,8],[14,37,14,50],[15,20,15,34],[15,37,15,50],[17,20,17,34],[17,37,19,50],[18,20,18,34],[19,20,19,34],[20,16,22,19],[20,20,22,34],[21,37,22,50],[23,20,25,34],[24,37,25,50],[30,1,31,8],[30,9,32,33],[30,36,32,54],[32,1,32,8],[33,1,35,8],[33,9,35,33],[36,1,39,8],[36,9,36,33],[36,36,38,54],[37,9,37,33],[38,9,38,33],[39,15,39,17],[39,19,39,22],[39,24,39,33],[40,1,42,8],[40,9,42,33],[40,36,41,54],[43,1,44,8],[43,9,45,33],[43,36,44,54],[45,1,45,8],[46,1,48,3],[46,4,46,8],[46,9,46,33],[46,36,48,54],[47,4,47,8],[47,9,47,17],[47,19,47,22],[47,24,47,33],[48,4,48,8],[48,9,48,33],[51,32,52,45],[53,1,54,16],[53,17,54,19],[53,20,54,22],[53,23,54,29],[54,33,54,54],[55,1,56,15],[55,16,56,16],[55,17,56,26],[55,27,56,29],[57,1,58,2],[57,3,58,15],[57,16,58,16],[57,17,58,26],[57,27,58,29],[57,32,64,40],[57,41,59,55],[59,1,60,2],[59,3,60,15],[59,16,60,16],[59,17,60,26],[59,27,60,29],[60,41,61,55],[61,1,62,2],[61,3,62,15],[61,16,62,16],[61,17,62,26],[61,27,62,29],[62,41,64,55],[63,1,64,2],[63,3,64,15],[63,16,64,16],[63,17,64,26],[63,27,64,29],[65,1,65,15],[65,16,66,16],[65,17,66,26],[65,27,66,29],[66,1,66,15],[67,1,68,2],[67,3,68,15],[67,16,68,16],[67,17,68,26],[67,27,68,29],[67,32,68,40],[67,41,67,55],[68,41,68,55],[69,1,70,15],[69,16,70,16],[69,17,70,26],[69,27,70,29],[71,1,72,15],[71,16,72,16],[71,17,72,26],[71,27,72,29],[73,1,74,16],[73,17,74,26],[73,27,74,29],[73,30,74,55],[75,1,76,16],[75,17,76,26],[75,27,76,29],[75,32,76,49],[77,1,78,16],[77,17,78,26],[77,27,78,29],[80,30,82,34],[81,5,81,24],[83,41,83,53],[84,1,84,17],[84,18,84,20],[84,21,84,23],[84,24,84,29],[84,30,84,37],[84,41,84,53],[85,1,88,14],[85,15,86,17],[85,18,88,18],[85,19,86,24],[85,25,88,29],[85,30,88,37],[86,40,88,54],[87,15,88,17],[87,19,88,24],[89,1,92,14],[89,15,90,17],[89,18,92,18],[89,19,90,24],[89,25,92,29],[89,30,92,37],[89,40,90,54],[91,15,92,17],[91,19,92,24],[91,40,92,54],[93,1,94,14],[93,15,94,17],[93,18,96,18],[93,19,94,24],[93,25,96,29],[93,30,96,37],[93,40,95,54],[95,1,96,14],[95,15,96,17],[95,19,96,24],[97,1,97,17],[97,18,97,26],[98,1,98,17],[98,18,98,26],[100,1,103,20],[100,26,102,30],[107,1,107,22],[107,23,107,24],[107,25,107,26],[107,27,107,28],[107,29,107,35],[108,23,109,28],[108,29,109,35],[108,38,125,54],[110,23,111,28],[110,29,111,35],[112,23,113,28],[112,29,113,35],[114,23,115,28],[114,29,115,35],[115,1,116,3],[116,23,117,28],[116,29,117,35],[118,14,119,22],[118,23,119,28],[118,29,119,35],[120,14,121,22],[120,23,121,28],[120,29,121,35],[122,23,123,28],[122,29,123,35],[124,14,125,22],[124,23,125,28],[124,29,125,35],[126,1,126,22],[126,23,126,28],[127,1,127,22],[127,23,127,28],[128,1,128,22],[128,23,128,28],[129,1,129,22],[129,23,129,28],[130,1,130,22],[130,23,130,28],[131,1,131,22],[131,23,131,28],[132,1,132,22],[132,23,132,28],[133,1,133,22],[133,23,133,28],[134,1,134,22],[134,23,134,28],[139,1,150,35],[139,40,139,49],[142,38,144,54],[145,38,147,54],[155,1,157,9],[155,10,157,11],[155,12,157,13],[155,14,157,15],[155,16,157,17],[155,18,157,19],[155,20,157,21],[155,22,157,23],[155,24,157,25],[155,26,157,27],[155,28,157,29],[155,30,157,35],[158,6,160,9],[158,10,159,13],[158,14,159,17],[158,18,159,21],[158,22,159,25],[158,26,159,29],[158,30,160,35],[158,38,160,54],[159,1,162,5],[160,10,160,13],[160,14,160,17],[160,18,160,21],[160,22,160,25],[160,26,160,29],[161,6,163,9],[161,10,163,13],[161,30,163,35],[161,38,163,54],[162,14,163,17],[162,18,163,21],[162,22,163,25],[162,26,163,29],[164,6,164,9],[164,10,164,13],[164,14,164,17],[164,18,164,21],[164,22,164,25],[164,26,164,29],[164,30,164,35],[165,6,165,9],[165,10,165,13],[165,14,165,17],[165,18,165,21],[165,22,165,25],[165,26,165,29],[165,30,165,35],[166,6,168,9],[166,10,167,13],[166,14,167,17],[166,18,167,21],[166,22,167,25],[166,26,167,29],[166,30,168,35],[167,2,170,5],[167,38,169,54],[168,10,168,13],[168,14,168,17],[168,18,168,21],[168,22,168,25],[168,26,168,29],[169,6,171,9],[169,10,171,13],[169,30,171,35],[170,14,171,17],[170,18,171,21],[170,22,171,25],[170,26,171,29],[171,38,176,45],[171,47,176,54],[172,6,172,9],[172,10,172,13],[172,14,172,17],[172,18,172,21],[172,22,172,25],[172,26,172,29],[172,30,172,35],[173,6,173,9],[173,10,173,13],[173,14,173,17],[173,18,173,21],[173,22,173,25],[173,26,173,29],[173,30,173,35],[174,6,176,9],[174,10,175,13],[174,14,175,17],[174,18,175,21],[174,22,175,25],[174,26,175,29],[174,30,176,35],[175,2,178,5],[176,10,176,13],[176,14,176,17],[176,18,176,21],[176,22,176,25],[176,26,176,29],[177,6,179,9],[177,10,179,13],[177,30,179,35],[177,38,182,45],[177,47,182,54],[178,14,179,17],[178,18,179,21],[178,22,179,25],[178,26,179,29],[180,6,180,9],[180,10,180,13],[180,14,180,17],[180,18,180,21],[180,22,180,25],[180,26,180,29],[180,30,180,35],[181,6,181,9],[181,10,181,13],[181,14,181,17],[181,18,181,21],[181,22,181,25],[181,26,181,29],[181,30,181,35],[182,6,184,9],[182,10,183,13],[182,14,183,17],[182,18,183,21],[182,22,183,25],[182,26,183,29],[182,30,184,35],[183,2,186,5],[184,10,184,13],[184,14,184,17],[184,18,184,21],[184,22,184,25],[184,26,184,29],[185,6,187,9],[185,10,187,13],[185,30,187,35],[186,14,187,17],[186,18,187,21],[186,22,187,25],[186,26,187,29],[188,6,188,9],[188,10,188,13],[188,14,188,17],[188,18,188,21],[188,22,188,25],[188,26,188,29],[188,30,188,35],[189,6,189,9],[189,10,189,13],[189,14,189,17],[189,18,189,21],[189,22,189,25],[189,26,189,29],[189,30,189,35],[190,6,192,9],[190,10,191,13],[190,14,191,17],[190,18,191,21],[190,22,191,25],[190,26,191,29],[190,30,192,35],[190,38,192,54],[191,2,194,5],[192,10,192,13],[192,14,192,17],[192,18,192,21],[192,22,192,25],[192,26,192,29],[193,6,195,9],[193,10,195,13],[193,30,195,35],[193,38,195,54],[194,14,195,17],[194,18,195,21],[194,22,195,25],[194,26,195,29],[196,6,196,9],[196,10,196,13],[196,14,196,17],[196,18,196,21],[196,22,196,25],[196,26,196,29],[196,30,196,35],[197,6,197,9],[197,10,197,13],[197,14,197,17],[197,18,197,21],[197,22,197,25],[197,26,197,29],[197,30,197,35],[198,6,200,9],[198,10,199,13],[198,14,199,17],[198,18,199,21],[198,22,199,25],[198,26,199,29],[198,30,200,35],[199,38,201,54],[200,1,201,5],[200,10,200,13],[200,14,200,17],[200,18,200,21],[200,22,200,25],[200,26,200,29],[201,6,203,9],[201,10,203,13],[201,30,203,35],[202,14,203,17],[202,18,203,21],[202,22,203,25],[202,26,203,29],[203,38,208,45],[203,47,208,54],[204,10,204,13],[204,14,204,17],[204,18,204,21],[204,22,204,25],[204,26,204,29],[204,30,204,35],[205,6,205,9],[205,10,205,13],[205,14,205,17],[205,18,205,21],[205,22,205,25],[205,26,205,29],[205,30,205,35],[206,6,208,9],[206,10,207,13],[206,14,207,17],[206,18,207,21],[206,22,207,25],[206,26,207,29],[206,30,208,35],[207,2,210,5],[208,10,208,13],[208,14,208,17],[208,18,208,21],[208,22,208,25],[208,26,208,29],[209,6,211,9],[209,10,211,13],[209,30,211,35],[209,38,214,45],[209,47,214,54],[210,14,211,17],[210,18,211,21],[210,22,211,25],[210,26,211,29],[212,10,212,13],[212,14,212,17],[212,18,212,21],[212,22,212,25],[212,26,212,29],[212,30,212,35],[213,6,213,9],[213,10,213,13],[213,14,213,17],[213,18,213,21],[213,22,213,25],[213,26,213,29],[213,30,213,35],[214,6,216,9],[214,10,215,13],[214,14,215,17],[214,18,215,21],[214,22,215,25],[214,26,215,29],[214,30,216,35],[215,1,218,5],[216,10,216,13],[216,14,216,17],[216,18,216,21],[216,22,216,25],[216,26,216,29],[217,6,219,9],[217,10,219,13],[217,30,219,35],[218,14,219,17],[218,18,219,21],[218,22,219,25],[218,26,219,29],[220,10,220,13],[220,14,220,17],[220,18,220,21],[220,22,220,25],[220,26,220,29],[220,30,220,35],[221,6,221,9],[221,10,221,13],[221,14,221,17],[221,18,221,21],[221,22,221,25],[221,26,221,29],[221,30,221,35],[222,6,224,9],[222,10,223,13],[222,14,223,17],[222,18,223,21],[222,22,223,25],[222,26,223,29],[222,30,224,35],[223,1,226,5],[224,10,224,13],[224,14,224,17],[224,18,224,21],[224,22,224,25],[224,26,224,29],[225,6,227,9],[225,10,227,13],[225,30,227,35],[226,14,227,17],[226,18,227,21],[226,22,227,25],[226,26,227,29],[228,10,228,13],[228,14,228,17],[228,18,228,21],[228,22,228,25],[228,26,228,29],[228,30,228,35],[229,6,229,9],[229,10,229,13],[229,14,229,17],[229,18,229,21],[229,22,229,25],[229,26,229,29],[229,30,229,35],[236,2,251,35],[236,38,239,54],[241,39,243,52],[253,2,268,35],[253,38,258,54],[260,39,262,52],[273,2,274,7],[273,8,274,35],[275,2,285,7],[276,8,285,35],[277,38,279,54],[286,2,347,7],[286,8,299,14],[286,38,289,54],[290,15,299,35],[291,38,293,54],[300,8,322,14],[301,18,303,34],[304,38,307,54],[308,18,308,35],[313,15,322,35],[323,8,347,14],[326,38,329,54],[335,15,347,35],[350,2,367,7],[353,38,356,54],[360,8,367,35],[368,2,376,7],[369,8,376,35],[377,2,385,7],[378,8,385,35],[386,2,394,7],[387,8,394,35],[395,2,403,7],[396,8,403,35],[408,2,409,35],[408,38,411,54],[410,2,428,35]]}
["データ入力用 （報告書の印刷には「印刷用」シートをご利用下さい。）",{"$nulls":46},"バージョン情報",{"$nulls":5},210527]
[]
[{"$nulls":20},"※受理年月日",{"$nulls":36},"※ 事業者にファイルを提供する際には“ＢＦ列”を非表示とする"]
[{"$nulls":37}," “入力用”シートの",{"$nulls":7},"に必要事項を入力し、"]
["定　期　報　告　書",{"$nulls":36}," “印刷用”シートで報告書を印刷して下さい。"]
[]
[{"$nulls":36}," 重量、売上高、原単位など、数値を入力する欄に、\n 数値以外の記号（ 「－」 等）を入力しないで下さい。"]
[]
[]
[{"$nulls":11},"長　　殿"]
[]
[{"$nulls":3},"提出先を選択"]
[]
[]
[{"$nulls":37}," 例 ：　2021/6/30"]
[{"$nulls":19},"作成年月日",{"$nulls":17},"申請日（当日ｼｮｰﾄｶｯﾄｷｰ） [Ctrl]＋[;]ｾﾐｺﾛﾝ"]
[]
[{"$nulls":16},"所在地",{"$nulls":3},"東京都千代田区霞が関○番－△△",{"$nulls":16}," 都道府県名・市区町村名\n 町名・番地\n 建物名"]
[]
[]
[{"$nulls":16},"事業者名",{"$nulls":3},"株式会社■■■"]
[{"$nulls":37}," 例 ： 株式会社○○○○"]
[]
[{"$nulls":16},"代表者の",{"$nulls":3},"○○　一郎"]
[{"$nulls":16},"役職・氏名",{"$nulls":20}," 例 ： 代表取締役社長　○○　○○"]
[]
[]
[null,"　容器包装に係る分別収集及び再商品化の促進等に関する法律第７条の６の規定に基づ"]
[null,"き、次のとおり報告します。"]
[]
[null,"事業者名",{"$nulls":34}," フランチャイズ加盟事業者は、本部が一括提出されないことにより自社加盟分を報告する場合は本部事業者名を入力　　　　（印刷用シートに反映）"]
[]
[null,"（備考４参照）"]
[null,"事業者の代表者　　　　　　　　　　　　　の氏名",{"$nulls":7},{"$f":"U24","v":"○○　一郎"}]
[]
[]
[null,"事業者の所在地",{"$nulls":7},"東京都千代田区霞が関□□番－○○",{"$nulls":26}," 上記の所在地と同一の場合は空欄\n 異なる場合は入力"]
[{"$nulls":9},"○○ビル　８階"]
[]
[{"$nulls":9},"代表電話番号",{"$nulls":5},"00",null,null,"－","0000",{"$nulls":3},"－","0000"]
[null,"業種",{"$nulls":7},"飲食料品小売業",{"$nulls":26}," 「飲食料品小売業」・「各種商品小売業」から選択"]
[]
[]
[null,"当該事業者が営む当該業種に属する事業に加盟する者の有無",{"$nulls":7},"無",{"$nulls":26},"フランチャイズ本部事業者は 、一括報告する場合は「有」を選択\nそれ以外は「無」を選択"]
[]
[null,"（備考７参照）"]
[null,"作成者",null,null,"部署・氏名",{"$nulls":4},"総務部　　○△　一郎",{"$nulls":26}," 作成担当者の所属部署、氏名\n 直通電話番号\n メールアドレス　を入力"]
[{"$nulls":4},"直通電話番号",{"$nulls":4},"03",{"$nulls":8},"－","００００",{"$nulls":3},"－","0000"]
[{"$nulls":4},"メールアドレス",{"$nulls":4},"□□_○○○＠○○．JP"]
[]
[]
[{"$nulls":32}," 報告の対象となる起算日を入力\n 入力例：2020/4/1"]
[null,"第 １ 表　容器包装を用いた量"]
[null,"素材区分",{"$nulls":15},{"$f":"IF($V$85=\"\",\"\",$V$85)","v":43922},null,null,43922,null,null,"年度"]
[{"$nulls":33},"※　留意事項の１、２をご確認下さい。（クリックしてジャンプ）"]
[null,"主としてプラスチック製の容器包装",{"$nulls":14},"①",{"$nulls":10},"kg"]
[]
[{"$nulls":3},"うち、\n　プラスチック製の買物袋\n　持ち手がないもの､以下のⒶ～ⓒの買物袋を除く",{"$nulls":12},"①",{"$nulls":10},"kg",{"$nulls":4}," 上欄の内数となるよう注意",{"$nulls":8},{"$f":"IF(OR(R58>R56,R6>R56,R62>R56,R64>R56),\"（要確認）\",IF(ROUND(R58,)+ROUND(R60,)+ROUND(R62,)+ROUND(R64,)>ROUND(R56,),\"（要確認）\",\"\"))","v":""},{"$nulls":15},"← 上欄を超える数値を入力しようとすると、エラーメッセージ出現（入力規則：停止）"]
[{"$nulls":57},"← 併せて、注意喚起文も出現"]
[{"$nulls":3},"うち、\n　厚手のプラスチック製の買物袋\n　Ⓐフィルムの厚さが50マイクロメートル以上",{"$nulls":12},"①",{"$nulls":10},"kg",{"$nulls":29},"← 上欄を超える数値を入力しようとすると、エラーメッセージ出現（入力規則：停止）"]
[{"$nulls":41},{"$f":"IF(OR(R58>R56,R6>R56,R62>R56,R64>R56),\"プラスチック製の容器包装よりも大きい数字が入力されました\",IF(ROUND(R58,)+ROUND(R60,)+ROUND(R62,)+ROUND(R64,)>ROUND(R56,),\"プラスチック製の買物袋の各内数の合計値が容器包装の重量を超えています\",\"\"))","v":""},{"$nulls":15},"← 併せて、注意喚起文も出現"]
[{"$nulls":3},"うち、\n　海洋生分解性プラスチック製の買物袋\n　Ⓑ海洋生分解性プラスチックの配合率100％",{"$nulls":12},"①",{"$nulls":10},"kg",{"$nulls":29},"← 上欄を超える数値を入力しようとすると、エラーメッセージ出現（入力規則：停止）"]
[{"$nulls":41},{"$f":"IF(OR(R58>R56,R6>R56,R62>R56,R64>R56),\"確認してください！\",IF(ROUND(R58,)+ROUND(R60,)+ROUND(R62,)+ROUND(R64,)>ROUND(R56,),\"容器包装の入力値と各内数の入力値を確認してください\",\"\"))","v":""},{"$nulls":15},"← 併せて、注意喚起文も出現"]
[{"$nulls":3},"うち、\n　バイオマスプラスチック製の買物袋\n　ⓒバイオマス素材の配合率が25％以上",{"$nulls":12},"①",{"$nulls":10},"kg",{"$nulls":29},"← 上欄を超える数値を入力しようとすると、エラーメッセージ出現（入力規則：停止）"]
[{"$nulls":57},"← 併せて、注意喚起文も出現"]
[null,"　　主として紙製の容器包装(主として　",{"$nulls":14},"①",{"$nulls":10},"kg"]
[null,"　　段ボール製の容器包装を除く。以下同じ。）"]
[{"$nulls":3},"うち、紙製の袋",{"$nulls":12},"①",{"$nulls":10},"kg",{"$nulls":4}," 上欄の内数となるよう注意",{"$nulls":8},{"$f":"IF($R$68>$R$66,\"(要確認)\",\"\")","v":""},{"$nulls":15},"← 上欄を超える数値を入力しようとすると、エラーメッセージ出現（入力規則：停止）"]
[{"$nulls":41},{"$f":"IF($R$68>$R$66,\"紙製の袋が容器包装の重量を超えています\",\"\")","v":""},{"$nulls":15},"← 併せて、注意喚起文も出現"]
[null,"主として段ボール製の容器包装",{"$nulls":14},"①",{"$nulls":10},"kg"]
[]
[null,"その他の容器包装",{"$nulls":14},"①",{"$nulls":10},"kg"]
[]
[null,"本年度合計",{"$nulls":15},{"$f":"ROUND(R56,)+ROUND(R66,)+ROUND(R70,)+ROUND(R72,)","v":0},{"$nulls":9},"kg",null,null,{"$f":"IF(OR(R74<=0,R74>=50000),\"\",\"←　合計が５０トン（50,000kg）未満の場合は、提出の必要はございません\")","v":""}]
[]
[null,"前年度合計",{"$nulls":25},"kg",{"$nulls":4}," 報告対象年度の前年度の合計重量を入力\n （対前年度比算出用）"]
[]
[null,"対前年度比（％）",{"$nulls":15},{"$f":"IF(ISERROR(R74/R76),\"\",ROUND(R74/R76*100,1))","v":""},{"$nulls":9},"％"]
[]
[]
[{"$nulls":30}," 単位を入力\n （選択可能）"]
[{"$nulls":5},"※留意事項の３をご確認下さい。（クリックしてジャンプ）"]
[]
[null,"第 ２ 表　当該容器包装を用いた量と密接な関係をもつ値（いずれかに記入）",{"$nulls":39},{"$f":"IF(SUM($T$86,$T$90,$T$94)=0,\"\",IF(SUM($T$86,$T$90,$T$94)=$S$99,\"\",\"複数の項目に入力されています。\"))","v":""},{"$nulls":15},"← 複数の項目に値が入力された場合に注意喚起文を表示"]
[{"$nulls":18},{"$f":"IF($V$85=\"\",\"\",$V$85)","v":43922},null,null,{"$f":"IF($U$54=\"\",\"\",$U$54)","v":43922},null,null,"年度",{"$nulls":5},"対前年度比（％）",{"$nulls":10},{"$f":"IF(SUM($T$86,$T$90,$T$94)=0,\"\",IF(SUM($T$86,$T$90,$T$94)=$S$99,\"\",\"（いずれか一つとして下さい。）\"))","v":""}]
[null,"売上高",{"$nulls":13},{"$f":"IF($V$85=\"\",\"本年度\",$V$85)","v":43922},null,null,"②",{"$nulls":11},{"$f":"IF(OR(T88=\"\",T86=\"\"),\"\",ROUND(T86/T88*100,1))","v":""}]
[{"$nulls":40}," ・「売上高」、「店舗面積」、「その他」のうち、\n　いずれか一つを選択し、値を入力"]
[{"$nulls":15},{"$f":"IF($V$85=\"\",\"前年度\",EDATE($V$85,-12))","v":43556},{"$nulls":41},"← 二つ目、三つ目を入力しようとすると、エラーメッセージ出現（入力規則：注意）"]
[{"$nulls":57},"　　（数値を入力することは可能としている。）"]
[null,"店舗面積［㎡］",{"$nulls":13},{"$f":"IF($V$85=\"\",\"本年度\",$V$85)","v":43922},null,null,"②",{"$nulls":6},"㎡",{"$nulls":4},{"$f":"IF(OR(T92=\"\",T90=\"\"),\"\",ROUND(T90/T92*100,1))","v":""},{"$nulls":9}," ・報告対象年度の前年度の値も、併せて入力\n　（対前年度比算出用）"]
[]
[{"$nulls":15},{"$f":"IF($V$85=\"\",\"前年度\",EDATE($V$85,-12))","v":43556},{"$nulls":24}," ・店舗面積以外の単位は選択",{"$nulls":16},"← 二つ目、三つ目を入力しようとすると、エラーメッセージ出現（入力規則：注意）"]
[{"$nulls":57},"　　（数値を入力することは可能としている。）"]
[null,"その他の当該容器包装を用いた量と\n密接な関係を持つ値",{"$nulls":13},{"$f":"IF($V$85=\"\",\"本年度\",$V$85)","v":43922},null,null,"②",{"$nulls":11},{"$f":"IF(OR(T96=\"\",T94=\"\"),\"\",ROUND(T94/T96*100,1))","v":""},{"$nulls":9}," 　※ 【第２表】の値の桁数を少なくすると、\n　　　 算出される使用原単位が小さくなり\n　　　 すぎず、取り扱いやすくなります。"]
[]
[{"$nulls":15},{"$f":"IF($V$85=\"\",\"前年度\",EDATE($V$85,-12))","v":43556},{"$nulls":41},"← 二つ目、三つ目を入力しようとすると、エラーメッセージ出現（入力規則：注意）"]
[{"$nulls":57},"　　（数値を入力することは可能としている。）"]
[null,"原単位の分母となる項目",{"$nulls":16},{"$f":"IF(T86>0,\"売上高\",IF(T90>0,\"店舗面積\",IF(T94>0,\"その他\",\"\")))","v":""}]
[null,"分母の数値",{"$nulls":16},{"$f":"IF(T86>0,T86,IF(T90>0,T90,IF(T94>0,T94,\"\")))","v":""}]
[]
[null," 「売上高」、「店舗面積」以外の値を使用する場合は、その\n 内容を具体的に記入。（リストからの選択も可能）\n 　例 ： 来客数[人]、販売商品個数[個]　　等",{"$nulls":24}," 単位を入力\n （選択可能）"]
[]
[]
[]
[]
[]
[null,"第 ３ 表　容器包装の使用原単位（①を②で除して得た値）"]
[{"$nulls":23},{"$f":"R54","v":43922},null,{"$f":"IF($U$54=\"\",\"\",$U$54)","v":43922},null,"年度",null,"対前年度比（％）"]
[{"$nulls":14},"主として",{"$nulls":8},{"$f":"IF(OR(R56=\"\",R56=0,$S$99=\"\"),\"\",IF(R56/$S$99>=9.95,TEXT(ROUND(R56/$S$99,),\"###,###\"),IF(R56/$S$99>=1,TEXT(ROUND(R56/$S$99,1),\"##.0\"),ROUND(R56/$S$99,-INT(LOG10(R56/$S$99))+1))))","v":""},{"$nulls":5},{"$f":"AA163","v":""},{"$nulls":8}," ＜入力を省略しています＞\n\n ・「原単位」は、【第１表】と【第２表】の入力値を\n　使用して自動計算されます。\n\n ・「対前年度比（％）」は、【第５表】からコピー\n　されます。"]
[{"$nulls":15},"プラスチック製の容器包装"]
[{"$nulls":14},"うち、",{"$nulls":8},{"$f":"IF(OR(R58=\"\",R58=0,$S$99=\"\"),\"\",IF(R58/$S$99>=9.95,TEXT(ROUND(R58/$S$99,),\"###,###\"),IF(R58/$S$99>=1,TEXT(ROUND(R58/$S$99,1),\"##.0\"),ROUND(R58/$S$99,-INT(LOG10(R58/$S$99))+1))))","v":""},{"$nulls":5},{"$f":"AA171","v":""}]
[{"$nulls":15},"プラスチック製の買物袋"]
[{"$nulls":14},"うち、厚手の",{"$nulls":8},{"$f":"IF(OR(R60=\"\",R60=0,$S$99=\"\"),\"\",IF(R60/$S$99>=9.95,TEXT(ROUND(R60/$S$99,),\"###,###\"),IF(R60/$S$99>=1,TEXT(ROUND(R60/$S$99,1),\"##.0\"),ROUND(R60/$S$99,-INT(LOG10(R60/$S$99))+1))))","v":""},{"$nulls":5},{"$f":"AA179","v":""}]
[{"$nulls":15},"プラスチック製の買物袋"]
[{"$nulls":14},"うち、海洋生分解性",{"$nulls":8},{"$f":"IF(OR(R62=\"\",R62=0,$S$99=\"\"),\"\",IF(R62/$S$99>=9.95,TEXT(ROUND(R62/$S$99,),\"###,###\"),IF(R62/$S$99>=1,TEXT(ROUND(R62/$S$99,1),\"##.0\"),ROUND(R62/$S$99,-INT(LOG10(R62/$S$99))+1))))","v":""},{"$nulls":5},{"$f":"AA187","v":""}]
[null,"原単位＝",{"$nulls":3},"容器包装を用いた量(①）",{"$nulls":9},"プラスチック製の買物袋"]
[{"$nulls":4},"　当該容器包装を用いた量と",{"$nulls":9},"うち、バイオマス",{"$nulls":8},{"$f":"IF(OR(R64=\"\",R64=0,$S$99=\"\"),\"\",IF(R64/$S$99>=9.95,TEXT(ROUND(R64/$S$99,),\"###,###\"),IF(R64/$S$99>=1,TEXT(ROUND(R64/$S$99,1),\"##.0\"),ROUND(R64/$S$99,-INT(LOG10(R64/$S$99))+1))))","v":""},{"$nulls":5},{"$f":"AA195","v":""}]
[{"$nulls":4},"　密接な関係をもつ値（②）",{"$nulls":10},"プラスチック製の買物袋"]
[{"$nulls":14},"主として紙製の容器包装",{"$nulls":8},{"$f":"IF(OR(R66=\"\",R66=0,$S$99=\"\"),\"\",IF(R66/$S$99>=9.95,TEXT(ROUND(R66/$S$99,),\"###,###\"),IF(R66/$S$99>=1,TEXT(ROUND(R66/$S$99,1),\"##.0\"),ROUND(R66/$S$99,-INT(LOG10(R66/$S$99))+1))))","v":""},{"$nulls":5},{"$f":"AA203","v":""}]
[]
[{"$nulls":14},"うち、紙製の袋",{"$nulls":8},{"$f":"IF(OR(R68=\"\",R68=0,$S$99=\"\"),\"\",IF(R68/$S$99>=9.95,TEXT(ROUND(R68/$S$99,),\"###,###\"),IF(R68/$S$99>=1,TEXT(ROUND(R68/$S$99,1),\"##.0\"),ROUND(R68/$S$99,-INT(LOG10(R68/$S$99))+1))))","v":""},{"$nulls":5},{"$f":"AA211","v":""}]
[]
[{"$nulls":14},"主として",{"$nulls":8},{"$f":"IF(OR(R70=\"\",R70=0,$S$99=\"\"),\"\",IF(R70/$S$99>=9.95,TEXT(ROUND(R70/$S$99,),\"###,###\"),IF(R70/$S$99>=1,TEXT(ROUND(R70/$S$99,1),\"##.0\"),ROUND(R70/$S$99,-INT(LOG10(R70/$S$99))+1))))","v":""},{"$nulls":5},{"$f":"AA219","v":""}]
[{"$nulls":15},"段ボール製の容器包装"]
[{"$nulls":14},"その他の容器包装",{"$nulls":8},{"$f":"IF(OR(R72=\"\",R72=0,$S$99=\"\"),\"\",IF(R72/$S$99>=9.95,TEXT(ROUND(R72/$S$99,),\"###,###\"),IF(R72/$S$99>=1,TEXT(ROUND(R72/$S$99,1),\"##.0\"),ROUND(R72/$S$99,-INT(LOG10(R72/$S$99))+1))))","v":""},{"$nulls":5},{"$f":"AA227","v":""}]
[]
[null,"プラ容器包装",{"$nulls":21},{"$f":"IF($S$99=\"\",\"\",R56/$S$99)","v":""}]
[null,"プラ買物袋",{"$nulls":21},{"$f":"IF($S$99=\"\",\"\",R58/$S$99)","v":""}]
[null,"厚手プラ買物袋",{"$nulls":21},{"$f":"IF($S$99=\"\",\"\",R60/$S$99)","v":""}]
[null,"海洋生分解性プラ買物袋",{"$nulls":21},{"$f":"IF($S$99=\"\",\"\",R62/$S$99)","v":""}]
[null,"バイオマスプラ買物袋",{"$nulls":21},{"$f":"IF($S$99=\"\",\"\",R64/$S$99)","v":""}]
[null,"紙容器包装",{"$nulls":21},{"$f":"IF($S$99=\"\",\"\",R66/$S$99)","v":""}]
[null,"紙袋",{"$nulls":21},{"$f":"IF($S$99=\"\",\"\",R68/$S$99)","v":""}]
[null,"段ボール容器包装",{"$nulls":21},{"$f":"IF($S$99=\"\",\"\",R70/$S$99)","v":""}]
[null,"その他容器包装",{"$nulls":21},{"$f":"IF($S$99=\"\",\"\",R72/$S$99)","v":""}]
[]
[]
[null,"第 ４ 表　素材毎の容器包装の使用原単位の算出方法の設定に係る説明、及び容器包装の"]
[null,"　　　　　 使用原単位の設定方法を変更した理由"]
[{"$nulls":40},{"$f":"IF(B140=\"\",\"（参照）定期報告書の記入例\",\"\")","v":"（参照）定期報告書の記入例"}]
[{"$nulls":40},{"$f":"IF(B140=\"\",\"※農林水産省HPにリンク\",\"\")","v":"※農林水産省HPにリンク"}]
[]
[{"$nulls":38}," ・算出方法の設定に係る説明を記入\n　（【第２表】の値を選択した理由等）"]
[]
[]
[{"$nulls":38}," ・設定方法を変更した場合は、その理由を\n　分かりやすく記入"]
[]
[]
[]
[]
[]
[null,"＊セル内で改行する場合は、 【 [Alt]キー ＋ [Enter]キー 】"]
[]
[]
[null,"第 ５ 表　過去５年度間の容器包装の使用原単位の変化状況"]
[{"$nulls":10},{"$f":"IF(V85=\"\",\"\",EDATE(AA156,-42))","v":42644},null,"年度",null,{"$f":"IF(V85=\"\",\"\",EDATE(AA156,-36))","v":42826},null,"年度",null,{"$f":"IF(V85=\"\",\"\",EDATE(AA156,-24))","v":43191},null,"年度",null,{"$f":"IF(V85=\"\",\"\",EDATE(AA156,-12))","v":43556},null,"年度",null,{"$f":"Z108","v":43922},null,"年度",null,"５年度間平均\n原単位変化　　"]
[]
[]
[{"$nulls":6},"原単位",{"$nulls":19},{"$f":"X109","v":""},{"$nulls":11}," ・過去４年度分の使用原単位を、有効数字２桁で\n　入力",{"$nulls":18},"←（AM列） ５年度間平均原単位変化に105を超えているものがあり、理由が未記入の場合に表示"]
[null,"主としてプラスチック製の容器包装",{"$nulls":55},"←（AV列） 対前年度比「D」に105を超えているものがあり、理由が未記入の場合に表示"]
[{"$nulls":10},{"$f":"IF(K159=\"\",\"\",IF(K159>=9.95,TEXT(ROUND(K159,),\"###,###\"),IF(K159>=0.995,TEXT(ROUND(K159,1),\"#.0\"),ROUND(K159,-INT(LOG10(K159))+1))))","v":""},{"$nulls":3},{"$f":"IF(O159=\"\",\"\",IF(O159>=9.95,TEXT(ROUND(O159,),\"###,###\"),IF(O159>=0.995,TEXT(ROUND(O159,1),\"#.0\"),ROUND(O159,-INT(LOG10(O159))+1))))","v":""},{"$nulls":3},{"$f":"IF(S159=\"\",\"\",IF(S159>=9.95,TEXT(ROUND(S159,),\"###,###\"),IF(S159>=0.995,TEXT(ROUND(S159,1),\"#.0\"),ROUND(S159,-INT(LOG10(S159))+1))))","v":""},{"$nulls":3},{"$f":"IF(W159=\"\",\"\",IF(W159>=9.95,TEXT(ROUND(W159,),\"###,###\"),IF(W159>=0.995,TEXT(ROUND(W159,1),\"#.0\"),ROUND(W159,-INT(LOG10(W159))+1))))","v":""},{"$nulls":3},{"$f":"AA159","v":""}]
[{"$nulls":6},"対前年度　　比（％）",{"$nulls":7},"Ａ",{"$nulls":3},"Ｂ",{"$nulls":3},"Ｃ",{"$nulls":3},"Ｄ",{"$nulls":3},{"$f":"IF(AA159=\"\",\"\",IF(AE166>1,ROUND(POWER(O165*S165*W165*AA165,1/AE166),2),\"\"))","v":""},{"$nulls":7}," ・報告対象年度の原単位、各年度間の対前年度\n　比、５年度間平均原単位変化は、自動計算され\n　ます。"]
[{"$nulls":14},{"$f":"IF(OR(K161=\"\",O161=\"\"),\"\",ROUND((O161/K161*100),1))","v":""},{"$nulls":3},{"$f":"IF(OR(O161=\"\",S161=\"\"),\"\",ROUND((S161/O161*100),1))","v":""},{"$nulls":3},{"$f":"IF(OR(S161=\"\",W161=\"\"),\"\",ROUND((W161/S161*100),1))","v":""},{"$nulls":3},{"$f":"IF(OR(W161=\"\",AA161=\"\"),\"\",ROUND((AA161/W161*100),1))","v":""},{"$nulls":9},{"$f":"IF(AE162=\"\",\"\",IF(AE162>105,1,\"\"))","v":""}]
[{"$nulls":36},{"$f":"IF(AA163=\"\",\"\",IF(AA163>105,1,\"\"))","v":""}]
[{"$nulls":14},{"$f":"IF(O163=\"\",1,O163)","v":1},{"$nulls":3},{"$f":"IF(S163=\"\",1,S163)","v":1},{"$nulls":3},{"$f":"IF(W163=\"\",1,W163)","v":1},{"$nulls":3},{"$f":"IF(AA163=\"\",1,AA163)","v":1},{"$nulls":3},{"$f":"IF(AE166>2,POWER(O165*S165*W165*AA165,1/AE166),\"\")","v":""}]
[{"$nulls":14},{"$f":"IF(O163=\"\",\"\",1)","v":""},{"$nulls":3},{"$f":"IF(S163=\"\",\"\",1)","v":""},{"$nulls":3},{"$f":"IF(W163=\"\",\"\",1)","v":""},{"$nulls":3},{"$f":"IF(AA163=\"\",\"\",1)","v":""},{"$nulls":3},{"$f":"SUM(O166:AD166)","v":0}]
[{"$nulls":6},"原単位",{"$nulls":19},{"$f":"X111","v":""},{"$nulls":30},"←（AM列） ５年度間平均原単位変化に105を超えているものがあり、理由が未記入の場合に表示"]
[null,null,"うち、プラスチック製の買物袋",{"$nulls":35}," ・【第２表】の値（売上高等）の単位を変更した場合\n　は、過去年度の原単位もそれに合わせて再計算\n　（修正）して下さい（桁ズレしないように注意）。",{"$nulls":18},"←（AV列） 対前年度比「D」に105を超えているものがあり、理由が未記入の場合に表示"]
[{"$nulls":10},{"$f":"IF(K167=\"\",\"\",IF(K167>=9.95,TEXT(ROUND(K167,),\"###,###\"),IF(K167>=0.995,TEXT(ROUND(K167,1),\"#.0\"),ROUND(K167,-INT(LOG10(K167))+1))))","v":""},{"$nulls":3},{"$f":"IF(O167=\"\",\"\",IF(O167>=9.95,TEXT(ROUND(O167,),\"###,###\"),IF(O167>=0.995,TEXT(ROUND(O167,1),\"#.0\"),ROUND(O167,-INT(LOG10(O167))+1))))","v":""},{"$nulls":3},{"$f":"IF(S167=\"\",\"\",IF(S167>=9.95,TEXT(ROUND(S167,),\"###,###\"),IF(S167>=0.995,TEXT(ROUND(S167,1),\"#.0\"),ROUND(S167,-INT(LOG10(S167))+1))))","v":""},{"$nulls":3},{"$f":"IF(W167=\"\",\"\",IF(W167>=9.95,TEXT(ROUND(W167,),\"###,###\"),IF(W167>=0.995,TEXT(ROUND(W167,1),\"#.0\"),ROUND(W167,-INT(LOG10(W167))+1))))","v":""},{"$nulls":3},{"$f":"AA167","v":""}]
[{"$nulls":6},"対前年度　　比（％）",{"$nulls":7},"Ａ",{"$nulls":3},"Ｂ",{"$nulls":3},"Ｃ",{"$nulls":3},"Ｄ",{"$nulls":3},{"$f":"IF(AA167=\"\",\"\",IF(AE174>1,ROUND(POWER(O173*S173*W173*AA173,1/AE174),2),\"\"))","v":""}]
[{"$nulls":14},{"$f":"IF(OR(K169=\"\",O169=\"\"),\"\",ROUND((O169/K169*100),1))","v":""},{"$nulls":3},{"$f":"IF(OR(O169=\"\",S169=\"\"),\"\",ROUND((S169/O169*100),1))","v":""},{"$nulls":3},{"$f":"IF(OR(S169=\"\",W169=\"\"),\"\",ROUND((W169/S169*100),1))","v":""},{"$nulls":3},{"$f":"IF(OR(W169=\"\",AA169=\"\"),\"\",ROUND((AA169/W169*100),1))","v":""},{"$nulls":9},{"$f":"IF(AE170=\"\",\"\",IF(AE170>105,1,\"\"))","v":""}]
[{"$nulls":36},{"$f":"IF(AA171=\"\",\"\",IF(AA171>105,1,\"\"))","v":""},null,{"$f":"IF($C$237=\"\",IF(SUM($AK$163,$AK$171,$AK$179,$AK$187,$AK$195,$AK$203,$AK$211,$AK$219,$AK$227)>0,\"５年度間平均原単位変化に、100％を超えてるものがあります。\",\"\"),\"\")","v":""},{"$nulls":8},{"$f":"IF($C$254=\"\",IF(SUM($AK$164,$AK$172,$AK$180,$AK$188,$AK$196,$AK$204,$AK$212,$AK$220,$AK$228)>0,\"対前年度比（D）に、前年度を超えているものがあります。\",\"\"),\"\")","v":""}]
[{"$nulls":14},{"$f":"IF(O171=\"\",1,O171)","v":1},{"$nulls":3},{"$f":"IF(S171=\"\",1,S171)","v":1},{"$nulls":3},{"$f":"IF(W171=\"\",1,W171)","v":1},{"$nulls":3},{"$f":"IF(AA171=\"\",1,AA171)","v":1},{"$nulls":3},{"$f":"IF(AE174>2,POWER(O173*S173*W173*AA173,1/AE174),\"\")","v":""}]
[{"$nulls":14},{"$f":"IF(O171=\"\",\"\",1)","v":""},{"$nulls":3},{"$f":"IF(S171=\"\",\"\",1)","v":""},{"$nulls":3},{"$f":"IF(W171=\"\",\"\",1)","v":""},{"$nulls":3},{"$f":"IF(AA171=\"\",\"\",1)","v":""},{"$nulls":3},{"$f":"SUM(O174:AD174)","v":0}]
[{"$nulls":6},"原単位",{"$nulls":19},{"$f":"X113","v":""},{"$nulls":30},"←（AM列） ５年度間平均原単位変化に105を超えているものがあり、理由が未記入の場合に表示"]
[null,null,"うち、厚手のプラスチック製の買物袋",{"$nulls":54},"←（AV列） 対前年度比「D」に105を超えているものがあり、理由が未記入の場合に表示"]
[{"$nulls":10},{"$f":"IF(K175=\"\",\"\",IF(K175>=9.95,TEXT(ROUND(K175,),\"###,###\"),IF(K175>=0.995,TEXT(ROUND(K175,1),\"#.0\"),ROUND(K175,-INT(LOG10(K175))+1))))","v":""},{"$nulls":3},{"$f":"IF(O175=\"\",\"\",IF(O175>=9.95,TEXT(ROUND(O175,),\"###,###\"),IF(O175>=0.995,TEXT(ROUND(O175,1),\"#.0\"),ROUND(O175,-INT(LOG10(O175))+1))))","v":""},{"$nulls":3},{"$f":"IF(S175=\"\",\"\",IF(S175>=9.95,TEXT(ROUND(S175,),\"###,###\"),IF(S175>=0.995,TEXT(ROUND(S175,1),\"#.0\"),ROUND(S175,-INT(LOG10(S175))+1))))","v":""},{"$nulls":3},{"$f":"IF(W175=\"\",\"\",IF(W175>=9.95,TEXT(ROUND(W175,),\"###,###\"),IF(W175>=0.995,TEXT(ROUND(W175,1),\"#.0\"),ROUND(W175,-INT(LOG10(W175))+1))))","v":""},{"$nulls":3},{"$f":"AA175","v":""}]
[{"$nulls":6},"対前年度　　比（％）",{"$nulls":7},"Ａ",{"$nulls":3},"Ｂ",{"$nulls":3},"Ｃ",{"$nulls":3},"Ｄ",{"$nulls":3},{"$f":"IF(AA175=\"\",\"\",IF(AE182>1,ROUND(POWER(O181*S181*W181*AA181,1/AE182),2),\"\"))","v":""},{"$nulls":7},{"$f":"IF($C$237=\"\",IF(SUM($AK$163,$AK$171,$AK$179,$AK$187,$AK$195,$AK$203,$AK$211,$AK$219,$AK$227)>0,\"該当するものについて、【第6表】の（イ）の理由を記入して下さい。\",\"\"),\"\")","v":""},{"$nulls":8},{"$f":"IF($C$254=\"\",IF(SUM($AK$164,$AK$172,$AK$180,$AK$188,$AK$196,$AK$204,$AK$212,$AK$220,$AK$228)>0,\"該当するものについて、【第6表】の（ロ）の理由を記入して下さい。\",\"\"),\"\")","v":""}]
[{"$nulls":14},{"$f":"IF(OR(K177=\"\",O177=\"\"),\"\",ROUND((O177/K177*100),1))","v":""},{"$nulls":3},{"$f":"IF(OR(O177=\"\",S177=\"\"),\"\",ROUND((S177/O177*100),1))","v":""},{"$nulls":3},{"$f":"IF(OR(S177=\"\",W177=\"\"),\"\",ROUND((W177/S177*100),1))","v":""},{"$nulls":3},{"$f":"IF(OR(W177=\"\",AA177=\"\"),\"\",ROUND((AA177/W177*100),1))","v":""},{"$nulls":9},{"$f":"IF(AE178=\"\",\"\",IF(AE178>105,1,\"\"))","v":""}]
[{"$nulls":36},{"$f":"IF(AA179=\"\",\"\",IF(AA179>105,1,\"\"))","v":""}]
[{"$nulls":14},{"$f":"IF(O179=\"\",1,O179)","v":1},{"$nulls":3},{"$f":"IF(S179=\"\",1,S179)","v":1},{"$nulls":3},{"$f":"IF(W179=\"\",1,W179)","v":1},{"$nulls":3},{"$f":"IF(AA179=\"\",1,AA179)","v":1},{"$nulls":3},{"$f":"IF(AE182>2,POWER(O181*S181*W181*AA181,1/AE182),\"\")","v":""}]
[{"$nulls":14},{"$f":"IF(O179=\"\",\"\",1)","v":""},{"$nulls":3},{"$f":"IF(S179=\"\",\"\",1)","v":""},{"$nulls":3},{"$f":"IF(W179=\"\",\"\",1)","v":""},{"$nulls":3},{"$f":"IF(AA179=\"\",\"\",1)","v":""},{"$nulls":3},{"$f":"SUM(O182:AD182)","v":0}]
[{"$nulls":6},"原単位",{"$nulls":19},{"$f":"X115","v":""},{"$nulls":30},"←（AM列） ５年度間平均原単位変化に105を超えているものがあり、理由が未記入の場合に表示"]
[null,null,"うち、海洋生分解性プラスチック製の買物袋",{"$nulls":54},"←（AV列） 対前年度比「D」に105を超えているものがあり、理由が未記入の場合に表示"]
[{"$nulls":10},{"$f":"IF(K183=\"\",\"\",IF(K183>=9.95,TEXT(ROUND(K183,),\"###,###\"),IF(K183>=0.995,TEXT(ROUND(K183,1),\"#.0\"),ROUND(K183,-INT(LOG10(K183))+1))))","v":""},{"$nulls":3},{"$f":"IF(O183=\"\",\"\",IF(O183>=9.95,TEXT(ROUND(O183,),\"###,###\"),IF(O183>=0.995,TEXT(ROUND(O183,1),\"#.0\"),ROUND(O183,-INT(LOG10(O183))+1))))","v":""},{"$nulls":3},{"$f":"IF(S183=\"\",\"\",IF(S183>=9.95,TEXT(ROUND(S183,),\"###,###\"),IF(S183>=0.995,TEXT(ROUND(S183,1),\"#.0\"),ROUND(S183,-INT(LOG10(S183))+1))))","v":""},{"$nulls":3},{"$f":"IF(W183=\"\",\"\",IF(W183>=9.95,TEXT(ROUND(W183,),\"###,###\"),IF(W183>=0.995,TEXT(ROUND(W183,1),\"#.0\"),ROUND(W183,-INT(LOG10(W183))+1))))","v":""},{"$nulls":3},{"$f":"AA183","v":""}]
[{"$nulls":6},"対前年度　　比（％）",{"$nulls":7},"Ａ",{"$nulls":3},"Ｂ",{"$nulls":3},"Ｃ",{"$nulls":3},"Ｄ",{"$nulls":3},{"$f":"IF(AA183=\"\",\"\",IF(AE190>1,ROUND(POWER(O189*S189*W189*AA189,1/AE190),2),\"\"))","v":""}]
[{"$nulls":14},{"$f":"IF(OR(K185=\"\",O185=\"\"),\"\",ROUND((O185/K185*100),1))","v":""},{"$nulls":3},{"$f":"IF(OR(O185=\"\",S185=\"\"),\"\",ROUND((S185/O185*100),1))","v":""},{"$nulls":3},{"$f":"IF(OR(S185=\"\",W185=\"\"),\"\",ROUND((W185/S185*100),1))","v":""},{"$nulls":3},{"$f":"IF(OR(W185=\"\",AA185=\"\"),\"\",ROUND((AA185/W185*100),1))","v":""},{"$nulls":9},{"$f":"IF(AE186=\"\",\"\",IF(AE186>105,1,\"\"))","v":""}]
[{"$nulls":36},{"$f":"IF(AA187=\"\",\"\",IF(AA187>105,1,\"\"))","v":""}]
[{"$nulls":14},{"$f":"IF(O187=\"\",1,O187)","v":1},{"$nulls":3},{"$f":"IF(S187=\"\",1,S187)","v":1},{"$nulls":3},{"$f":"IF(W187=\"\",1,W187)","v":1},{"$nulls":3},{"$f":"IF(AA187=\"\",1,AA187)","v":1},{"$nulls":3},{"$f":"IF(AE190>2,POWER(O189*S189*W189*AA189,1/AE190),\"\")","v":""}]
[{"$nulls":14},{"$f":"IF(O187=\"\",\"\",1)","v":""},{"$nulls":3},{"$f":"IF(S187=\"\",\"\",1)","v":""},{"$nulls":3},{"$f":"IF(W187=\"\",\"\",1)","v":""},{"$nulls":3},{"$f":"IF(AA187=\"\",\"\",1)","v":""},{"$nulls":3},{"$f":"SUM(O190:AD190)","v":0}]
[{"$nulls":6},"原単位",{"$nulls":19},{"$f":"X117","v":""},{"$nulls":11}," ・過去４年度分の使用原単位を、有効数字２桁で\n　入力",{"$nulls":18},"←（AM列） ５年度間平均原単位変化に105を超えているものがあり、理由が未記入の場合に表示"]
[null,null,"うち、バイオマスプラスチック製の買物袋",{"$nulls":54},"←（AV列） 対前年度比「D」に105を超えているものがあり、理由が未記入の場合に表示"]
[{"$nulls":10},{"$f":"IF(K191=\"\",\"\",IF(K191>=9.95,TEXT(ROUND(K191,),\"###,###\"),IF(K191>=0.995,TEXT(ROUND(K191,1),\"#.0\"),ROUND(K191,-INT(LOG10(K191))+1))))","v":""},{"$nulls":3},{"$f":"IF(O191=\"\",\"\",IF(O191>=9.95,TEXT(ROUND(O191,),\"###,###\"),IF(O191>=0.995,TEXT(ROUND(O191,1),\"#.0\"),ROUND(O191,-INT(LOG10(O191))+1))))","v":""},{"$nulls":3},{"$f":"IF(S191=\"\",\"\",IF(S191>=9.95,TEXT(ROUND(S191,),\"###,###\"),IF(S191>=0.995,TEXT(ROUND(S191,1),\"#.0\"),ROUND(S191,-INT(LOG10(S191))+1))))","v":""},{"$nulls":3},{"$f":"IF(W191=\"\",\"\",IF(W191>=9.95,TEXT(ROUND(W191,),\"###,###\"),IF(W191>=0.995,TEXT(ROUND(W191,1),\"#.0\"),ROUND(W191,-INT(LOG10(W191))+1))))","v":""},{"$nulls":3},{"$f":"AA191","v":""}]
[{"$nulls":6},"対前年度　　比（％）",{"$nulls":7},"Ａ",{"$nulls":3},"Ｂ",{"$nulls":3},"Ｃ",{"$nulls":3},"Ｄ",{"$nulls":3},{"$f":"IF(AA191=\"\",\"\",IF(AE198>1,ROUND(POWER(O197*S197*W197*AA197,1/AE198),2),\"\"))","v":""},{"$nulls":7}," ・報告対象年度の原単位、各年度間の対前年度\n　比、５年度間平均原単位変化は、自動計算され\n　ます。"]
[{"$nulls":14},{"$f":"IF(OR(K193=\"\",O193=\"\"),\"\",ROUND((O193/K193*100),1))","v":""},{"$nulls":3},{"$f":"IF(OR(O193=\"\",S193=\"\"),\"\",ROUND((S193/O193*100),1))","v":""},{"$nulls":3},{"$f":"IF(OR(S193=\"\",W193=\"\"),\"\",ROUND((W193/S193*100),1))","v":""},{"$nulls":3},{"$f":"IF(OR(W193=\"\",AA193=\"\"),\"\",ROUND((AA193/W193*100),1))","v":""},{"$nulls":9},{"$f":"IF(AE194=\"\",\"\",IF(AE194>105,1,\"\"))","v":""}]
[{"$nulls":36},{"$f":"IF(AA195=\"\",\"\",IF(AA195>105,1,\"\"))","v":""}]
[{"$nulls":14},{"$f":"IF(O195=\"\",1,O195)","v":1},{"$nulls":3},{"$f":"IF(S195=\"\",1,S195)","v":1},{"$nulls":3},{"$f":"IF(W195=\"\",1,W195)","v":1},{"$nulls":3},{"$f":"IF(AA195=\"\",1,AA195)","v":1},{"$nulls":3},{"$f":"IF(AE198>2,POWER(O197*S197*W197*AA197,1/AE198),\"\")","v":""}]
[{"$nulls":14},{"$f":"IF(O195=\"\",\"\",1)","v":""},{"$nulls":3},{"$f":"IF(S195=\"\",\"\",1)","v":""},{"$nulls":3},{"$f":"IF(W195=\"\",\"\",1)","v":""},{"$nulls":3},{"$f":"IF(AA195=\"\",\"\",1)","v":""},{"$nulls":3},{"$f":"SUM(O198:AD198)","v":0}]
[{"$nulls":6},"原単位",{"$nulls":19},{"$f":"X119","v":""}]
[{"$nulls":38}," ・【第２表】の値（売上高等）の単位を変更した場合\n　は、過去年度の原単位もそれに合わせて再計算\n　（修正）して下さい（桁ズレしないように注意）。"]
[null,"主として紙製の容器包装",{"$nulls":8},{"$f":"IF(K199=\"\",\"\",IF(K199>=9.95,TEXT(ROUND(K199,),\"###,###\"),IF(K199>=0.995,TEXT(ROUND(K199,1),\"#.0\"),ROUND(K199,-INT(LOG10(K199))+1))))","v":""},{"$nulls":3},{"$f":"IF(O199=\"\",\"\",IF(O199>=9.95,TEXT(ROUND(O199,),\"###,###\"),IF(O199>=0.995,TEXT(ROUND(O199,1),\"#.0\"),ROUND(O199,-INT(LOG10(O199))+1))))","v":""},{"$nulls":3},{"$f":"IF(S199=\"\",\"\",IF(S199>=9.95,TEXT(ROUND(S199,),\"###,###\"),IF(S199>=0.995,TEXT(ROUND(S199,1),\"#.0\"),ROUND(S199,-INT(LOG10(S199))+1))))","v":""},{"$nulls":3},{"$f":"IF(W199=\"\",\"\",IF(W199>=9.95,TEXT(ROUND(W199,),\"###,###\"),IF(W199>=0.995,TEXT(ROUND(W199,1),\"#.0\"),ROUND(W199,-INT(LOG10(W199))+1))))","v":""},{"$nulls":3},{"$f":"AA199","v":""}]
[{"$nulls":6},"対前年度　　比（％）",{"$nulls":7},"Ａ",{"$nulls":3},"Ｂ",{"$nulls":3},"Ｃ",{"$nulls":3},"Ｄ",{"$nulls":3},{"$f":"IF(AA199=\"\",\"\",IF(AE206>1,ROUND(POWER(O205*S205*W205*AA205,1/AE206),2),\"\"))","v":""},{"$nulls":26},"← 前年度の使用原単位（W135、W143、W151、W159）を入力した時点で、"]
[{"$nulls":14},{"$f":"IF(OR(K201=\"\",O201=\"\"),\"\",ROUND((O201/K201*100),1))","v":""},{"$nulls":3},{"$f":"IF(OR(O201=\"\",S201=\"\"),\"\",ROUND((S201/O201*100),1))","v":""},{"$nulls":3},{"$f":"IF(OR(S201=\"\",W201=\"\"),\"\",ROUND((W201/S201*100),1))","v":""},{"$nulls":3},{"$f":"IF(OR(W201=\"\",AA201=\"\"),\"\",ROUND((AA201/W201*100),1))","v":""},{"$nulls":9},{"$f":"IF(AE202=\"\",\"\",IF(AE202>105,1,\"\"))","v":""},{"$nulls":20},"　　５年度間平均原単位変化、対前年度比「D」のいずれか又は両方が"]
[{"$nulls":36},{"$f":"IF(AA203=\"\",\"\",IF(AA203>105,1,\"\"))","v":""},null,{"$f":"IF($C$237=\"\",IF(SUM($AK$163,$AK$171,$AK$179,$AK$187,$AK$195,$AK$203,$AK$211,$AK$219,$AK$227)>0,\"５年度間平均原単位変化に、100％を超えてるものがあります。\",\"\"),\"\")","v":""},{"$nulls":8},{"$f":"IF($C$254=\"\",IF(SUM($AK$164,$AK$172,$AK$180,$AK$188,$AK$196,$AK$204,$AK$212,$AK$220,$AK$228)>0,\"対前年度比（D）に、前年度を超えているものがあります。\",\"\"),\"\")","v":""},{"$nulls":9},"　　105を超えている場合に、エラーメッセージ出現（入力規則：情報）"]
[{"$nulls":14},{"$f":"IF(O203=\"\",1,O203)","v":1},{"$nulls":3},{"$f":"IF(S203=\"\",1,S203)","v":1},{"$nulls":3},{"$f":"IF(W203=\"\",1,W203)","v":1},{"$nulls":3},{"$f":"IF(AA203=\"\",1,AA203)","v":1},{"$nulls":3},{"$f":"IF(AE206>2,POWER(O205*S205*W205*AA205,1/AE206),\"\")","v":""}]
[{"$nulls":14},{"$f":"IF(O203=\"\",\"\",1)","v":""},{"$nulls":3},{"$f":"IF(S203=\"\",\"\",1)","v":""},{"$nulls":3},{"$f":"IF(W203=\"\",\"\",1)","v":""},{"$nulls":3},{"$f":"IF(AA203=\"\",\"\",1)","v":""},{"$nulls":3},{"$f":"SUM(O206:AD206)","v":0}]
[{"$nulls":6},"原単位",{"$nulls":19},{"$f":"X121","v":""}]
[null,null,"うち、紙製の袋"]
[{"$nulls":10},{"$f":"IF(K207=\"\",\"\",IF(K207>=9.95,TEXT(ROUND(K207,),\"###,###\"),IF(K207>=0.995,TEXT(ROUND(K207,1),\"#.0\"),ROUND(K207,-INT(LOG10(K207))+1))))","v":""},{"$nulls":3},{"$f":"IF(O207=\"\",\"\",IF(O207>=9.95,TEXT(ROUND(O207,),\"###,###\"),IF(O207>=0.995,TEXT(ROUND(O207,1),\"#.0\"),ROUND(O207,-INT(LOG10(O207))+1))))","v":""},{"$nulls":3},{"$f":"IF(S207=\"\",\"\",IF(S207>=9.95,TEXT(ROUND(S207,),\"###,###\"),IF(S207>=0.995,TEXT(ROUND(S207,1),\"#.0\"),ROUND(S207,-INT(LOG10(S207))+1))))","v":""},{"$nulls":3},{"$f":"IF(W207=\"\",\"\",IF(W207>=9.95,TEXT(ROUND(W207,),\"###,###\"),IF(W207>=0.995,TEXT(ROUND(W207,1),\"#.0\"),ROUND(W207,-INT(LOG10(W207))+1))))","v":""},{"$nulls":3},{"$f":"AA207","v":""}]
[{"$nulls":6},"対前年度　　比（％）",{"$nulls":7},"Ａ",{"$nulls":3},"Ｂ",{"$nulls":3},"Ｃ",{"$nulls":3},"Ｄ",{"$nulls":3},{"$f":"IF(AA207=\"\",\"\",IF(AE214>1,ROUND(POWER(O213*S213*W213*AA213,1/AE214),2),\"\"))","v":""},{"$nulls":7},{"$f":"IF($C$237=\"\",IF(SUM($AK$163,$AK$171,$AK$179,$AK$187,$AK$195,$AK$203,$AK$211,$AK$219,$AK$227)>0,\"該当するものについて、【第6表】の（イ）の理由を記入して下さい。\",\"\"),\"\")","v":""},{"$nulls":8},{"$f":"IF($C$254=\"\",IF(SUM($AK$164,$AK$172,$AK$180,$AK$188,$AK$196,$AK$204,$AK$212,$AK$220,$AK$228)>0,\"該当するものについて、【第6表】の（ロ）の理由を記入して下さい。\",\"\"),\"\")","v":""},{"$nulls":9},"← 前年度の使用原単位（W135、W143、W151、W159）を入力した時点で、"]
[{"$nulls":14},{"$f":"IF(OR(K209=\"\",O209=\"\"),\"\",ROUND((O209/K209*100),1))","v":""},{"$nulls":3},{"$f":"IF(OR(O209=\"\",S209=\"\"),\"\",ROUND((S209/O209*100),1))","v":""},{"$nulls":3},{"$f":"IF(OR(S209=\"\",W209=\"\"),\"\",ROUND((W209/S209*100),1))","v":""},{"$nulls":3},{"$f":"IF(OR(W209=\"\",AA209=\"\"),\"\",ROUND((AA209/W209*100),1))","v":""},{"$nulls":9},{"$f":"IF(AE210=\"\",\"\",IF(AE210>105,1,\"\"))","v":""},{"$nulls":20},"　　５年度間平均原単位変化、対前年度比「D」のいずれか又は両方が"]
[{"$nulls":36},{"$f":"IF(AA211=\"\",\"\",IF(AA211>105,1,\"\"))","v":""},{"$nulls":20},"　　105を超えている場合に、エラーメッセージ出現（入力規則：情報）"]
[{"$nulls":14},{"$f":"IF(O211=\"\",1,O211)","v":1},{"$nulls":3},{"$f":"IF(S211=\"\",1,S211)","v":1},{"$nulls":3},{"$f":"IF(W211=\"\",1,W211)","v":1},{"$nulls":3},{"$f":"IF(AA211=\"\",1,AA211)","v":1},{"$nulls":3},{"$f":"IF(AE214>2,POWER(O213*S213*W213*AA213,1/AE214),\"\")","v":""}]
[{"$nulls":14},{"$f":"IF(O211=\"\",\"\",1)","v":""},{"$nulls":3},{"$f":"IF(S211=\"\",\"\",1)","v":""},{"$nulls":3},{"$f":"IF(W211=\"\",\"\",1)","v":""},{"$nulls":3},{"$f":"IF(AA211=\"\",\"\",1)","v":""},{"$nulls":3},{"$f":"SUM(O214:AD214)","v":0}]
[{"$nulls":6},"原単位",{"$nulls":19},{"$f":"X123","v":""},{"$nulls":30},"※ 【第６表】の記入・未記入は無関係"]
[null,"主として段ボール製の容器包装"]
[{"$nulls":10},{"$f":"IF(K215=\"\",\"\",IF(K215>=9.95,TEXT(ROUND(K215,),\"###,###\"),IF(K215>=0.995,TEXT(ROUND(K215,1),\"#.0\"),ROUND(K215,-INT(LOG10(K215))+1))))","v":""},{"$nulls":3},{"$f":"IF(O215=\"\",\"\",IF(O215>=9.95,TEXT(ROUND(O215,),\"###,###\"),IF(O215>=0.995,TEXT(ROUND(O215,1),\"#.0\"),ROUND(O215,-INT(LOG10(O215))+1))))","v":""},{"$nulls":3},{"$f":"IF(S215=\"\",\"\",IF(S215>=9.95,TEXT(ROUND(S215,),\"###,###\"),IF(S215>=0.995,TEXT(ROUND(S215,1),\"#.0\"),ROUND(S215,-INT(LOG10(S215))+1))))","v":""},{"$nulls":3},{"$f":"IF(W215=\"\",\"\",IF(W215>=9.95,TEXT(ROUND(W215,),\"###,###\"),IF(W215>=0.995,TEXT(ROUND(W215,1),\"#.0\"),ROUND(W215,-INT(LOG10(W215))+1))))","v":""},{"$nulls":3},{"$f":"AA215","v":""}]
[{"$nulls":6},"対前年度　　比（％）",{"$nulls":7},"Ａ",{"$nulls":3},"Ｂ",{"$nulls":3},"Ｃ",{"$nulls":3},"Ｄ",{"$nulls":3},{"$f":"IF(AA215=\"\",\"\",IF(AE222>1,ROUND(POWER(O221*S221*W221*AA221,1/AE222),2),\"\"))","v":""}]
[{"$nulls":14},{"$f":"IF(OR(K217=\"\",O217=\"\"),\"\",ROUND((O217/K217*100),1))","v":""},{"$nulls":3},{"$f":"IF(OR(O217=\"\",S217=\"\"),\"\",ROUND((S217/O217*100),1))","v":""},{"$nulls":3},{"$f":"IF(OR(S217=\"\",W217=\"\"),\"\",ROUND((W217/S217*100),1))","v":""},{"$nulls":3},{"$f":"IF(OR(W217=\"\",AA217=\"\"),\"\",ROUND((AA217/W217*100),1))","v":""},{"$nulls":9},{"$f":"IF(AE218=\"\",\"\",IF(AE218>105,1,\"\"))","v":""}]
[{"$nulls":36},{"$f":"IF(AA219=\"\",\"\",IF(AA219>105,1,\"\"))","v":""}]
[{"$nulls":14},{"$f":"IF(O219=\"\",1,O219)","v":1},{"$nulls":3},{"$f":"IF(S219=\"\",1,S219)","v":1},{"$nulls":3},{"$f":"IF(W219=\"\",1,W219)","v":1},{"$nulls":3},{"$f":"IF(AA219=\"\",1,AA219)","v":1},{"$nulls":3},{"$f":"IF(AE222>2,POWER(O221*S221*W221*AA221,1/AE222),\"\")","v":""}]
[{"$nulls":14},{"$f":"IF(O219=\"\",\"\",1)","v":""},{"$nulls":3},{"$f":"IF(S219=\"\",\"\",1)","v":""},{"$nulls":3},{"$f":"IF(W219=\"\",\"\",1)","v":""},{"$nulls":3},{"$f":"IF(AA219=\"\",\"\",1)","v":""},{"$nulls":3},{"$f":"SUM(O222:AD222)","v":0}]
[{"$nulls":6},"原単位",{"$nulls":19},{"$f":"X125","v":""}]
[null,"その他の容器包装"]
[{"$nulls":10},{"$f":"IF(K223=\"\",\"\",IF(K223>=9.95,TEXT(ROUND(K223,),\"###,###\"),IF(K223>=0.995,TEXT(ROUND(K223,1),\"#.0\"),ROUND(K223,-INT(LOG10(K223))+1))))","v":""},{"$nulls":3},{"$f":"IF(O223=\"\",\"\",IF(O223>=9.95,TEXT(ROUND(O223,),\"###,###\"),IF(O223>=0.995,TEXT(ROUND(O223,1),\"#.0\"),ROUND(O223,-INT(LOG10(O223))+1))))","v":""},{"$nulls":3},{"$f":"IF(S223=\"\",\"\",IF(S223>=9.95,TEXT(ROUND(S223,),\"###,###\"),IF(S223>=0.995,TEXT(ROUND(S223,1),\"#.0\"),ROUND(S223,-INT(LOG10(S223))+1))))","v":""},{"$nulls":3},{"$f":"IF(W223=\"\",\"\",IF(W223>=9.95,TEXT(ROUND(W223,),\"###,###\"),IF(W223>=0.995,TEXT(ROUND(W223,1),\"#.0\"),ROUND(W223,-INT(LOG10(W223))+1))))","v":""},{"$nulls":3},{"$f":"AA223","v":""},{"$nulls":30},"←（AM列） ５年度間平均原単位変化に105を超えているものがあり、理由が未記入の場合に表示"]
[{"$nulls":6},"対前年度　　比（％）",{"$nulls":7},"Ａ",{"$nulls":3},"Ｂ",{"$nulls":3},"Ｃ",{"$nulls":3},"Ｄ",{"$nulls":3},{"$f":"IF(AA223=\"\",\"\",IF(AE230>1,ROUND(POWER(O229*S229*W229*AA229,1/AE230),2),\"\"))","v":""},{"$nulls":26},"←（AV列） 対前年度比「D」に105を超えているものがあり、理由が未記入の場合に表示"]
[{"$nulls":14},{"$f":"IF(OR(K225=\"\",O225=\"\"),\"\",ROUND((O225/K225*100),1))","v":""},{"$nulls":3},{"$f":"IF(OR(O225=\"\",S225=\"\"),\"\",ROUND((S225/O225*100),1))","v":""},{"$nulls":3},{"$f":"IF(OR(S225=\"\",W225=\"\"),\"\",ROUND((W225/S225*100),1))","v":""},{"$nulls":3},{"$f":"IF(OR(W225=\"\",AA225=\"\"),\"\",ROUND((AA225/W225*100),1))","v":""},{"$nulls":9},{"$f":"IF(AE226=\"\",\"\",IF(AE226>105,1,\"\"))","v":""}]
[{"$nulls":36},{"$f":"IF(AA227=\"\",\"\",IF(AA227>105,1,\"\"))","v":""}]
[{"$nulls":14},{"$f":"IF(O227=\"\",1,O227)","v":1},{"$nulls":3},{"$f":"IF(S227=\"\",1,S227)","v":1},{"$nulls":3},{"$f":"IF(W227=\"\",1,W227)","v":1},{"$nulls":3},{"$f":"IF(AA227=\"\",1,AA227)","v":1},{"$nulls":3},{"$f":"IF(AE230>2,POWER(O229*S229*W229*AA229,1/AE230),\"\")","v":""}]
[{"$nulls":14},{"$f":"IF(O227=\"\",\"\",1)","v":""},{"$nulls":3},{"$f":"IF(S227=\"\",\"\",1)","v":""},{"$nulls":3},{"$f":"IF(W227=\"\",\"\",1)","v":""},{"$nulls":3},{"$f":"IF(AA227=\"\",\"\",1)","v":""},{"$nulls":3},{"$f":"SUM(O230:AD230)","v":0}]
[]
[]
[]
[null,"第 ６ 表　過去５年間で容器包装の使用原単位が改善できなかった場合（イ）、又は容器包装"]
[null,"　　　　　 の使用原単位が前年度に比べ改善できなかった場合（ロ）、その理由"]
[null,null,"（イ）の理由"]
[{"$nulls":38}," 【第５表】の「５年度間平均原単位変化」が\n 100％を超える場合は、その理由を記入"]
[]
[{"$nulls":57},"← 【第５表】の「５年度間平均原単位変化」が105を超えている（４つのうち一つでも）"]
[{"$nulls":57},"　　にも関わらず、理由の記載が無い場合に注意喚起"]
[]
[{"$nulls":39},{"$f":"IF($C$237=\"\",IF(SUM($AK$163,$AK$171,$AK$179,$AK$187,$AK$195,$AK$203,$AK$219,$AK$227)>0,\"過去５年間で容器包装の使用原単位が改善できなかった理由を記入下さい。\",\"\"),\"\")","v":""}]
{"$rows_empty":10}
[null,null,"（ロ）の理由"]
[{"$nulls":38}," 【第３表】の「対前年度比」が前年度を超える\n 場合は、その理由を記入\n\nなお、上欄（イ）に理由を記入し、（ロ）においても同理由であれば、「（イ）と同じ」と記入していただいてもかまいません"]
[]
[{"$nulls":57},"← 【第３表】の「対前年度比」が105を超えている（４つのうち一つでも）"]
[{"$nulls":57},"　　にも関わらず、理由の記載が無い場合に注意喚起"]
[{"$nulls":57},"※ 計算式で参照しているのは、【第５表】の「対前年度比」 Ｄ"]
[]
[]
[{"$nulls":39},{"$f":"IF($C$254=\"\",IF(SUM($AK$164,$AK$172,$AK$180,$AK$188,$AK$196,$AK$204,$AK$212,$AK$220,$AK$228)>0,\"容器包装の使用原単位が前年度に比べ改善できなかった理由を記入下さい。\",\"\"),\"\")","v":""}]
{"$rows_empty":8}
[null,null,"＊セル内で改行する場合は、 【 [Alt]キー ＋ [Enter]キー 】"]
[]
[]
[null,null,"第 ７ 表　判断の基準となるべき事項に基づき実施した取組"]
[null,null,"対象項目",{"$nulls":5},"具体的内容"]
[]
[null,null,"目標の設定",{"$nulls":5},"（具体的内容）"]
[]
[{"$nulls":38},"容器包装の使用原単位の低減に関する、報告対象となる年度の目標を具体的に記入"]
{"$rows_empty":8}
[null,null,"容器包装の　　　使用の合理化",{"$nulls":5},"消費者によるプラスチック製の買物袋 の排出の抑制を促進すること",{"$nulls":29},"該当する項目にチェックを付けて下さい。\n （「印刷用」シートには ■ 印が表示されます。）"]
[{"$nulls":18},"プラスチック製の買物袋の有償による提供",{"$nulls":38},false]
[]
[{"$nulls":15},"（具体的内容）"]
[]
[{"$nulls":38}," 上記目標を達成するために、報告対象となる年度に実施した取組 及びその効果について、具体的に記入"]
{"$rows_empty":8}
[{"$nulls":8},"消費者による容器包装廃棄物の排出の抑制を促進すること"]
[{"$nulls":18},"容器包装（プラスチック製の買物袋を除く。）の有償による提供"]
[{"$nulls":57},false]
[]
[{"$nulls":18},"景品等の提供",{"$nulls":19}," 該当する項目にチェックを付けて下さい。\n （「印刷用」シートには ■ 印が表示されます。）",{"$nulls":18},false]
[]
[{"$nulls":18},"繰り返し使用が可能な買物袋等の提供",{"$nulls":38},false,"← チェックが付くと「TRUE」、空欄なら「FALSE」"]
[]
[{"$nulls":18},"容器包装の使用についての消費者の意思の確認",{"$nulls":38},false]
[]
[{"$nulls":18},"その他",{"$nulls":38},false]
[]
[{"$nulls":15},"（具体的内容）"]
{"$rows_empty":10}
[{"$nulls":8},"自らの容器包装の過剰な使用を抑制すること"]
[{"$nulls":18},"薄肉化又は軽量化された容器包装の使用",{"$nulls":38},false]
[]
[{"$nulls":18},"適切な寸法の容器包装の使用",{"$nulls":19}," 該当する項目にチェックを付けて下さい。\n （「印刷用」シートには ■ 印が表示されます。）",{"$nulls":18},false]
[]
[{"$nulls":18},"商品の量り売り",{"$nulls":38},false,"← チェックが付くと「TRUE」、空欄なら「FALSE」"]
[]
[{"$nulls":18},"簡易包装化の推進",{"$nulls":38},false]
[]
[{"$nulls":18},"その他",{"$nulls":38},false]
[]
[{"$nulls":15},"（具体的内容）"]
{"$rows_empty":13}
[null,null,"＊セル内で改行する場合は、 【 [Alt]キー ＋ [Enter]キー 】"]
[]
[null,null,"情報の提供"]
[{"$nulls":11},"店頭における掲示",{"$nulls":45},false]
[]
[{"$nulls":11},"自らの取組の内容を記載した冊子等の配布",{"$nulls":26}," 該当する項目にチェックを付けて下さい。\n （「印刷用」シートには ■ 印が表示されます。）",{"$nulls":18},false,"← チェックが付くと「TRUE」、空欄なら「FALSE」"]
[]
[{"$nulls":11},"容器包装への表示",{"$nulls":45},false]
[]
[{"$nulls":11},"その他",{"$nulls":45},false]
[]
[{"$nulls":8},"（具体的内容）"]
{"$rows_empty":8}
[null,null,"体制の整備等",{"$nulls":5},"（具体的内容）"]
{"$rows_empty":8}
[null,null,"安全性の配慮",{"$nulls":5},"（具体的内容）"]
{"$rows_empty":8}
[null,null,"容器包装の使用の合理化の実施状況等の把握",{"$nulls":5},"（具体的内容）"]
{"$rows_empty":8}
[null,null,"関係者との連携",{"$nulls":5},"（具体的内容）"]
{"$rows_empty":8}
[null,null,"＊セル内で改行する場合は、 【 [Alt]キー ＋ [Enter]キー 】"]
[]
[]
[null,null,"第 ８ 表　その他の容器包装の使用の合理化のために実施した取組"]
[null,null,"措置の概要",{"$nulls":35}," 【第７表】の各項目に当てはまらない、容器包装\n の使用の合理化のために実施した取組がある\n 場合は、その内容を具体的に記入"]
{"$rows_empty":20}
[null,null,"＊セル内で改行する場合は、 【 [Alt]キー ＋ [Enter]キー 】"]

{"sheet":"印刷用","index":2,"n_rows":417,"n_cols":40,"rows_kept":417,"merged":[[0,0,0,37],[0,38,0,52],[1,32,1,37],[6,22,6,27],[6,28,6,36],[16,0,18,37],[21,2,21,13],[24,8,24,12],[27,20,27,32],[30,20,30,35],[31,20,31,35],[32,20,32,35],[34,20,34,34],[35,21,36,34],[43,3,44,10],[43,11,43,35],[44,11,44,35],[45,3,46,10],[45,11,46,35],[47,3,52,10],[47,11,47,35],[48,11,48,35],[49,12,49,35],[50,13,50,35],[52,11,52,13],[52,14,52,24],[53,3,54,10],[53,11,54,35],[55,3,56,10],[55,11,56,35],[57,3,59,10],[57,11,57,35],[58,11,58,35],[59,11,59,35],[61,32,61,37],[65,1,66,18],[65,19,66,28],[67,1,68,18],[67,19,68,19],[67,20,68,28],[69,1,70,2],[69,3,70,18],[69,19,70,19],[69,20,70,28],[71,1,72,2],[71,3,72,18],[71,19,72,19],[71,20,72,28],[73,1,74,2],[73,3,74,18],[73,19,74,19],[73,20,74,28],[75,1,76,2],[75,3,76,18],[75,19,76,19],[75,20,76,28],[77,1,77,18],[77,19,78,19],[77,20,78,28],[78,1,78,18],[79,1,80,2],[79,3,80,18],[79,19,80,19],[79,20,80,28],[81,1,82,18],[81,19,82,19],[81,20,82,28],[83,1,84,18],[83,19,84,19],[83,20,84,28],[85,1,86,18],[85,19,86,28],[87,1,88,18],[87,19,88,28],[89,17,89,26],[94,1,94,17],[94,18,94,22],[94,23,94,25],[94,26,94,29],[94,30,94,37],[95,1,96,17],[95,18,96,18],[95,19,96,26],[95,27,96,29],[95,30,96,37],[97,1,98,17],[97,18,98,18],[97,19,98,26],[97,27,98,29],[97,30,98,37],[99,1,99,17],[99,18,102,18],[99,19,102,26],[99,27,102,29],[99,30,102,37],[100,1,100,17],[101,1,102,17],[103,19,103,26],[105,32,105,37],[109,1,109,22],[109,23,109,25],[109,26,109,27],[109,28,109,30],[109,31,109,37],[110,23,111,28],[110,31,111,35],[111,15,111,22],[112,14,113,14],[112,15,113,22],[112,23,113,28],[112,31,113,35],[114,14,115,14],[114,15,115,22],[114,23,115,28],[114,31,115,35],[116,1,119,3],[116,14,117,14],[116,15,117,22],[116,23,117,28],[116,31,117,35],[118,14,119,14],[118,15,119,22],[118,23,119,28],[118,31,119,35],[120,14,121,22],[120,23,121,28],[120,31,121,35],[122,14,123,14],[122,15,123,22],[122,23,123,28],[122,31,123,35],[124,14,125,22],[124,23,125,28],[124,31,125,35],[126,14,127,22],[126,23,127,28],[126,31,127,35],[134,1,134,35],[135,2,145,34],[147,32,147,37],[151,1,153,9],[151,10,153,11],[151,12,153,13],[151,14,153,15],[151,16,153,17],[151,18,153,19],[151,20,153,21],[151,22,153,23],[151,24,153,25],[151,26,153,27],[151,28,153,29],[151,30,153,35],[154,1,161,5],[154,6,156,9],[154,10,156,13],[154,14,156,17],[154,18,156,21],[154,22,156,25],[154,26,156,29],[154,30,156,35],[157,6,161,9],[157,10,161,13],[157,30,161,35],[158,14,161,17],[158,18,161,21],[158,22,161,25],[158,26,161,29],[162,1,169,1],[162,2,169,5],[162,6,164,9],[162,10,164,13],[162,14,164,17],[162,18,164,21],[162,22,164,25],[162,26,164,29],[162,30,164,35],[165,6,169,9],[165,10,169,13],[165,30,169,35],[166,14,169,17],[166,18,169,21],[166,22,169,25],[166,26,169,29],[170,1,177,1],[170,2,177,5],[170,6,172,9],[170,10,172,13],[170,14,172,17],[170,18,172,21],[170,22,172,25],[170,26,172,29],[170,30,172,35],[173,6,177,9],[173,10,177,13],[173,30,177,35],[174,14,177,17],[174,18,177,21],[174,22,177,25],[174,26,177,29],[178,1,185,1],[178,2,185,5],[178,6,180,9],[178,10,180,13],[178,14,180,17],[178,18,180,21],[178,22,180,25],[178,26,180,29],[178,30,180,35],[181,6,185,9],[181,10,185,13],[181,30,185,35],[182,14,185,17],[182,18,185,21],[182,22,185,25],[182,26,185,29],[186,1,193,1],[186,2,193,5],[186,6,188,9],[186,10,188,13],[186,14,188,17],[186,18,188,21],[186,22,188,25],[186,26,188,29],[186,30,188,35],[189,6,193,9],[189,10,193,13],[189,30,193,35],[190,14,193,17],[190,18,193,21],[190,22,193,25],[190,26,193,29],[194,1,201,5],[194,6,196,9],[194,10,196,13],[194,14,196,17],[194,18,196,21],[194,22,196,25],[194,26,196,29],[194,30,196,35],[197,6,201,9],[197,10,201,13],[197,30,201,35],[198,14,201,17],[198,18,201,21],[198,22,201,25],[198,26,201,29],[202,1,209,1],[202,2,209,5],[202,6,204,9],[202,10,204,13],[202,14,204,17],[202,18,204,21],[202,22,204,25],[202,26,204,29],[202,30,204,35],[205,6,209,9],[205,10,209,13],[205,30,209,35],[206,14,209,17],[206,18,209,21],[206,22,209,25],[206,26,209,29],[210,1,217,5],[210,6,212,9],[210,10,212,13],[210,14,212,17],[210,18,212,21],[210,22,212,25],[210,26,212,29],[210,30,212,35],[213,6,217,9],[213,10,217,13],[213,30,217,35],[214,14,217,17],[214,18,217,21],[214,22,217,25],[214,26,217,29],[218,1,225,5],[218,6,220,9],[218,10,220,13],[218,14,220,17],[218,18,220,21],[218,22,220,25],[218,26,220,29],[218,30,220,35],[221,6,225,9],[221,10,225,13],[221,30,225,35],[222,14,225,17],[222,18,225,21],[222,22,225,25],[222,26,225,29],[227,32,227,37],[233,3,248,34],[250,3,265,34],[267,32,267,37],[271,2,271,7],[271,8,271,35],[272,2,283,7],[274,9,282,33],[284,2,339,7],[284,8,296,14],[289,16,295,34],[297,8,318,14],[298,18,299,34],[305,18,305,35],[311,16,317,34],[319,8,339,14],[332,16,338,34],[341,32,341,37],[344,2,363,7],[355,9,362,34],[364,2,374,7],[366,9,373,34],[375,2,385,7],[377,9,384,34],[386,2,396,7],[388,9,395,34],[397,2,407,7],[399,9,406,34],[409,32,409,37],[413,2,414,35],[416,3,432,34]]}
[" 印　刷　用 （このシートは印刷用です。“入力用”シートでデータを入力下さい。）"]
[{"$nulls":32},{"$f":"NOW()","v":"2021-05-31T10:51:09.320"}]
[{"$nulls":37},{"$f":"\"Ver. \"&入力用!$BB$1","v":"Ver. 210527"}]
[null,null,"別記様式(第７条の６関係）",{"$nulls":36},"※ 事業者にファイルを提供する際には“ＡＮ列”を非表示とする"]
[null,{"$f":"IF(入力用!B10=\"\",\"＊ 提出先（宛名）入力漏れ\",IF(入力用!B10=VLOOKUP(LEFT(U31,2),'（隠しシート　職員限り）別記表'!D4:G50,4,FALSE),\"\",\"＊ 提出先は　【\"&VLOOKUP(LEFT(U31,2),'（隠しシート　職員限り）別記表'!D4:G50,4,FALSE)&\"】　になります（入力用シートB10で変更して下さい）\"))","v":"＊ 提出先（宛名）入力漏れ"}]
[null,{"$f":"IF($U$28>0,\"\",\"＊ 提出年月日入力漏れ\")","v":"＊ 提出年月日入力漏れ"},{"$nulls":37},"← 事業者名が入力されているのに、提出年月日が空欄の場合に警告"]
[null,{"$f":"IF(OR($U$35=0,$V$36=0),\"＊ 事業者名または（及び）代表者の役職・氏名入力漏れ\",\"\")","v":""},{"$nulls":20},"※受理年月日",{"$nulls":16},"← 事業者名が入力されているのに、代表者名等が空欄の場合に警告"]
[null,{"$f":"IF(入力用!$J$41=\"\",\"＊ 業種選択漏れ\",\"\")","v":""}]
[null,{"$f":"IF(入力用!$J$49=\"\",\"＊ メールアドレス入力漏れ\",\"\")","v":""}]
[null,{"$f":"IF(ROUND(入力用!$R$56,)>=ROUND(SUM(入力用!$R$58:$AA$65),),\"\",\"＊ 【第１表】で合計値と内数が逆転している\")","v":""}]
[null,{"$f":"IF(入力用!$AP$84=\"\",\"\",\"＊ 【第２表】の複数項目に入力されている（いずれか一つとして下さい）\")","v":""},{"$nulls":37},"← 【第2表】の右側に注意喚起文が表示されている場合に警告"]
[null,{"$f":"IF(AND(入力用!S98=\"売上高\",入力用!Z86=\"\"),\"＊ 【第２表】の売上高の単位が入力されていない\",IF(AND(入力用!S98=\"その他\",入力用!Z94=\"\"),\"＊ 【第２表】の単位が入力されていない\",\"\"))","v":""}]
[null,{"$f":"IF(入力用!U54=\"\",\"＊ 【第２表】【第３表】【第５表】の年度が入力されていない（入力用シートU54に起算日を入力して下さい）\",\"\")","v":""}]
[null,{"$f":"IF(入力用!$S$98=\"\",\"\",IF(入力用!$B$140=\"\",\"＊ 【第４表】記入漏れ\",\"\"))","v":""},{"$nulls":37},"← 【第2表】に値が入力されているのに、【第4表】が空欄の場合に警告"]
[null,{"$f":"IF(入力用!$AN$242=\"\",\"\",\"＊ 【第６表】の（イ）の理由を記入漏れ\")","v":""},{"$nulls":37},"← 【第6表】（イ）の右側に注意喚起文が表示されている場合に警告"]
[null,{"$f":"IF(入力用!$AN$261=\"\",\"\",\"＊ 【第６表】の（ロ）の理由を記入漏れ\")","v":""},{"$nulls":37},"← 【第6表】（ロ）の右側に注意喚起文が表示されている場合に警告"]
["定　期　報　告　書"]
[]
[]
[]
[]
[null,null,{"$f":"IF(入力用!B10=\"\",\"○○○○○長　　殿\",入力用!B10&\"長　　殿\")","v":"○○○○○長　　殿"}]
[]
[]
[{"$nulls":8},{"$f":"IF(OR(入力用!R74<=0,入力用!R74>=50000),\"\",入力用!U54)","v":""},{"$nulls":4},{"$f":"IF(OR(入力用!R74<=0,入力用!R74>=50000,入力用!U54=\"\"),\"\",\"の排出量は５０トン未満でしたので、\")","v":""}]
[{"$nulls":8},{"$f":"IF(OR(入力用!R74<=0,入力用!R74>=50000,入力用!U54=\"\"),\"\",\"本年度分におきましては報告書の提出は必要ございません。\")","v":""}]
[]
[{"$nulls":20},{"$f":"入力用!U16","v":"00:00:00"}]
[]
[]
[{"$nulls":17},"住  所",null,null,{"$f":"入力用!U18","v":"東京都千代田区霞が関○番－△△"}]
[{"$nulls":20},{"$f":"入力用!U19","v":0}]
[{"$nulls":20},{"$f":"入力用!U20","v":0}]
[]
[{"$nulls":17},"氏  名",null,null,{"$f":"入力用!U21","v":"株式会社■■■"}]
[{"$nulls":21},{"$f":"入力用!U24","v":"○○　一郎"}]
[]
[]
[]
[]
[null,null,"　容器包装に係る分別収集及び再商品化の促進等に関する法律第７条の６の規定に基づ"]
[null,null,"き、次のとおり報告します。"]
[]
[{"$nulls":3},"事業者名",{"$nulls":7},{"$f":"入力用!U21","v":"株式会社■■■"}]
[{"$nulls":11},{"$f":"IF(入力用!J31>0,\"（本部名　：　\"&入力用!J31&\"）\",\"\")","v":""}]
[{"$nulls":3},"事業者の代表者　　　　　　　　　　　　　の氏名",{"$nulls":7},{"$f":"入力用!J34","v":"○○　一郎"}]
[]
[{"$nulls":3},"事業者の所在地"]
[{"$nulls":11},{"$f":"IF(入力用!J37=\"\",U31,(入力用!J37))","v":"東京都千代田区霞が関□□番－○○"}]
[{"$nulls":12},{"$f":"IF(入力用!J38=\"\",U32,(入力用!J38))","v":"○○ビル　８階"}]
[{"$nulls":13},{"$f":"IF(入力用!J39=\"\",U33,(入力用!J39))","v":0}]
[]
[{"$nulls":11}," 電話 （",null,null,{"$f":"DBCS(入力用!P40)&\"　－　\"&DBCS(入力用!T40)&\"　－　\"&DBCS(入力用!Y40)","v":"００　－　００００　－　００００"},{"$nulls":10},"）"]
[{"$nulls":3},"業種",{"$nulls":7},{"$f":"入力用!J41","v":"飲食料品小売業"}]
[]
[{"$nulls":3},"当該事業者が営む\n当該業種に属する\n事業に加盟する者\nの有無",{"$nulls":7},{"$f":"入力用!J44","v":"無"}]
[]
[{"$nulls":3},"作成責任者名",{"$nulls":7},{"$f":"入力用!J47","v":"総務部　　○△　一郎"}]
[{"$nulls":11},{"$f":"DBCS(入力用!J48)&\"　－　\"&DBCS(入力用!T48)&\"　－　\"&DBCS(入力用!Y48)","v":"０３　－　００００　－　００００"}]
[{"$nulls":11},{"$f":"入力用!J49","v":"□□_○○○＠○○．JP"}]
[]
[{"$nulls":32},{"$f":"NOW()","v":"2021-05-31T10:51:09.320"}]
[{"$nulls":37},{"$f":"\"Ver. \"&入力用!$BB$1","v":"Ver. 210527"}]
[]
[null,"第 １ 表　容器包装を用いた量"]
[null,"素材区分",{"$nulls":17},"重量[kg]"]
[]
[null,"主としてプラスチック製の容器包装",{"$nulls":17},"①",{"$f":"ROUND(入力用!R56,)","v":0}]
[]
[{"$nulls":3},"うち、プラスチック製の買物袋",{"$nulls":15},"①",{"$f":"ROUND(入力用!R58,)","v":0}]
[]
[{"$nulls":3},"うち、厚手のプラスチック製の買物袋",{"$nulls":15},"①",{"$f":"ROUND(入力用!R60,)","v":0}]
[]
[{"$nulls":3},"うち、海洋生分解性プラスチック製の買物袋",{"$nulls":15},"①",{"$f":"ROUND(入力用!R62,)","v":0}]
[]
[{"$nulls":3},"うち、バイオマスプラスチック製の買物袋",{"$nulls":15},"①",{"$f":"ROUND(入力用!R64,)","v":0}]
[]
[null,"主として紙製の容器包装(主として　",{"$nulls":17},"①",{"$f":"ROUND(入力用!R66,)","v":0}]
[null,"　　段ボール製の容器包装を除く。以下同じ。）"]
[{"$nulls":3},"うち、紙製の袋",{"$nulls":15},"①",{"$f":"ROUND(入力用!R68,)","v":0}]
[]
[null,"主として段ボール製の容器包装",{"$nulls":17},"①",{"$f":"ROUND(入力用!R70,)","v":0}]
[]
[null,"その他の容器包装",{"$nulls":17},"①",{"$f":"ROUND(入力用!R72,)","v":0}]
[]
[null,"合計",{"$nulls":17},{"$f":"入力用!R74","v":0}]
[]
[null,"対前年度比（％）",{"$nulls":17},{"$f":"入力用!R78","v":""}]
[]
[{"$nulls":16},"参考：前年度合計",{"$f":"入力用!R76","v":0}]
[]
[]
[]
[null,"第 ２ 表　当該容器包装を用いた量と密接な関係をもつ値（いずれかに記入）"]
[{"$nulls":18},{"$f":"入力用!S85","v":43922},{"$nulls":4},{"$f":"入力用!V85","v":43922},null,null,"年度",{"$nulls":3},"対前年度比（％）"]
[null,"売上高［円］",{"$nulls":16},"②",{"$f":"入力用!T86","v":0},{"$nulls":7},{"$f":"IF(OR(入力用!T86=\"\",入力用!Z86=\"円\"),\"\",入力用!Z86)","v":""},null,null,{"$f":"入力用!AE86","v":""}]
[]
[null,"店舗面積［㎡］",{"$nulls":16},"②",{"$f":"入力用!T90","v":0},{"$nulls":7},{"$f":"IF(入力用!T90=\"\",\"\",入力用!Z90)","v":""},null,null,{"$f":"入力用!AE90","v":""}]
[]
[null,"その他の当該容器包装を用いた量と",{"$nulls":16},"②",{"$f":"入力用!T94","v":0},{"$nulls":7},{"$f":"IF(入力用!T94=\"\",\"\",入力用!Z94)","v":""},null,null,{"$f":"入力用!AE94","v":""}]
[null,"密接な関係をもつ値"]
[null,{"$f":"IF(入力用!T94=\"\",\"　　　　　　　　　　　　　　　［　　　］\",入力用!B96)","v":"　　　　　　　　　　　　　　　［　　　］"}]
[]
[{"$nulls":18},"参考：前年度の値",{"$f":"IF(入力用!T88>0,入力用!T88,IF(入力用!T92>0,入力用!T92,IF(入力用!T96>0,入力用!T96,\"\")))","v":""}]
[]
[{"$nulls":32},{"$f":"NOW()","v":"2021-05-31T10:51:09.320"}]
[{"$nulls":37},{"$f":"\"Ver. \"&入力用!$BB$1","v":"Ver. 210527"}]
[]
[null,"第 ３ 表　容器包装の使用原単位（①を②で除して得た値）"]
[{"$nulls":23},{"$f":"入力用!X108","v":43922},null,null,{"$f":"入力用!Z108","v":43922},null,"年度",null,null,"対前年度比（％）"]
[{"$nulls":14},"主として",{"$nulls":8},{"$f":"入力用!X109","v":""},{"$nulls":7},{"$f":"入力用!AD109","v":""}]
[{"$nulls":15},"プラスチック製の容器包装"]
[{"$nulls":15},"うち、プラスチック製の買物袋",{"$nulls":7},{"$f":"入力用!X111","v":""},{"$nulls":7},{"$f":"入力用!AD111","v":""}]
[]
[{"$nulls":15},"うち、厚手のプラスチック製の買物袋",{"$nulls":7},{"$f":"入力用!X113","v":""},{"$nulls":7},{"$f":"入力用!AD113","v":""}]
[]
[null,"原単位＝",{"$nulls":13},"うち、海洋生分解性プラスチック製の買物袋",{"$nulls":7},{"$f":"入力用!X115","v":""},{"$nulls":7},{"$f":"入力用!AD115","v":""}]
[{"$nulls":5},"容器包装を用いた量(①）"]
[{"$nulls":4},"当該容器包装を用いた量と",{"$nulls":10},"うち、バイオマスプラスチック製の買物袋",{"$nulls":7},{"$f":"入力用!X117","v":""},{"$nulls":7},{"$f":"入力用!AD117","v":""}]
[{"$nulls":4},"密接な関係をもつ値（②）"]
[{"$nulls":14},"主として紙製の容器包装",{"$nulls":8},{"$f":"入力用!X119","v":""},{"$nulls":7},{"$f":"入力用!AD119","v":""}]
[]
[{"$nulls":15},"うち、紙製の袋",{"$nulls":7},{"$f":"入力用!X121","v":""},{"$nulls":7},{"$f":"入力用!AD121","v":""}]
[]
[{"$nulls":14},"主として段ボール製の容器包装",{"$nulls":8},{"$f":"入力用!X123","v":""},{"$nulls":7},{"$f":"入力用!AD123","v":""}]
[]
[{"$nulls":14},"その他の容器包装",{"$nulls":8},{"$f":"入力用!X125","v":""},{"$nulls":7},{"$f":"入力用!AD125","v":""}]
[]
[]
[]
[]
[]
[null,"第 ４ 表　素材毎の容器包装の使用原単位の算出方法の設定に係る説明、及び容器包装の"]
[null,"　　　　　 使用原単位の設定方法を変更した理由"]
[]
[null,null,{"$f":"入力用!B140","v":0}]
{"$rows_empty":11}
[{"$nulls":32},{"$f":"NOW()","v":"2021-05-31T10:51:09.320"}]
[{"$nulls":37},{"$f":"\"Ver. \"&入力用!$BB$1","v":"Ver. 210527"}]
[]
[null,"第 ５ 表　過去５年度間の容器包装の使用原単位の変化状況"]
[{"$nulls":10},{"$f":"入力用!K156","v":42644},null,"年度",null,{"$f":"入力用!O156","v":42826},null,"年度",null,{"$f":"入力用!S156","v":43191},null,"年度",null,{"$f":"入力用!W156","v":43556},null,"年度",null,{"$f":"入力用!AA156","v":43922},null,"年度",null,"５年度間平均\n原単位変化　　"]
[]
[]
[null,"主として\nプラスチック製\nの容器包装",{"$nulls":4},"原単位",{"$nulls":3},{"$f":"入力用!K161","v":""},{"$nulls":3},{"$f":"入力用!O161","v":""},{"$nulls":3},{"$f":"入力用!S161","v":""},{"$nulls":3},{"$f":"入力用!W161","v":""},{"$nulls":3},{"$f":"入力用!AA161","v":""}]
[]
[]
[{"$nulls":6},"対前年度　　比（％）",{"$nulls":7},"Ａ",{"$nulls":3},"Ｂ",{"$nulls":3},"Ｃ",{"$nulls":3},"Ｄ",{"$nulls":3},{"$f":"入力用!AE162","v":""}]
[{"$nulls":14},{"$f":"入力用!O163","v":""},{"$nulls":3},{"$f":"入力用!S163","v":""},{"$nulls":3},{"$f":"入力用!W163","v":""},{"$nulls":3},{"$f":"入力用!AA163","v":""}]
[]
[]
[]
[null,null,"うち、\nプラスチック製の買物袋",{"$nulls":3},"原単位",{"$nulls":3},{"$f":"入力用!K169","v":""},{"$nulls":3},{"$f":"入力用!O169","v":""},{"$nulls":3},{"$f":"入力用!S169","v":""},{"$nulls":3},{"$f":"入力用!W169","v":""},{"$nulls":3},{"$f":"入力用!AA169","v":""}]
[]
[]
[{"$nulls":6},"対前年度　　比（％）",{"$nulls":7},"Ａ",{"$nulls":3},"Ｂ",{"$nulls":3},"Ｃ",{"$nulls":3},"Ｄ",{"$nulls":3},{"$f":"入力用!AE170","v":""}]
[{"$nulls":14},{"$f":"入力用!O171","v":""},{"$nulls":3},{"$f":"入力用!S171","v":""},{"$nulls":3},{"$f":"入力用!W171","v":""},{"$nulls":3},{"$f":"入力用!AA171","v":""}]
[]
[]
[]
[null,null,"うち、\n厚手のプラスチック製の買物袋",{"$nulls":3},"原単位",{"$nulls":3},{"$f":"入力用!K177","v":""},{"$nulls":3},{"$f":"入力用!O177","v":""},{"$nulls":3},{"$f":"入力用!S177","v":""},{"$nulls":3},{"$f":"入力用!W177","v":""},{"$nulls":3},{"$f":"入力用!AA177","v":""}]
[]
[]
[{"$nulls":6},"対前年度　　比（％）",{"$nulls":7},"Ａ",{"$nulls":3},"Ｂ",{"$nulls":3},"Ｃ",{"$nulls":3},"Ｄ",{"$nulls":3},{"$f":"入力用!AE178","v":""}]
[{"$nulls":14},{"$f":"入力用!O179","v":""},{"$nulls":3},{"$f":"入力用!S179","v":""},{"$nulls":3},{"$f":"入力用!W179","v":""},{"$nulls":3},{"$f":"入力用!AA179","v":""}]
[]
[]
[]
[null,null,"うち、\n海洋生分解性プラスチック製の買物袋",{"$nulls":3},"原単位",{"$nulls":3},{"$f":"入力用!K185","v":""},{"$nulls":3},{"$f":"入力用!O185","v":""},{"$nulls":3},{"$f":"入力用!S185","v":""},{"$nulls":3},{"$f":"入力用!W185","v":""},{"$nulls":3},{"$f":"入力用!AA185","v":""}]
[]
[]
[{"$nulls":6},"対前年度　　比（％）",{"$nulls":7},"Ａ",{"$nulls":3},"Ｂ",{"$nulls":3},"Ｃ",{"$nulls":3},"Ｄ",{"$nulls":3},{"$f":"入力用!AE186","v":""}]
[{"$nulls":14},{"$f":"入力用!O187","v":""},{"$nulls":3},{"$f":"入力用!S187","v":""},{"$nulls":3},{"$f":"入力用!W187","v":""},{"$nulls":3},{"$f":"入力用!AA187","v":""}]
[]
[]
[]
[null,null,"うち、\nバイオマスプラスチック製の買物袋",{"$nulls":3},"原単位",{"$nulls":3},{"$f":"入力用!K193","v":""},{"$nulls":3},{"$f":"入力用!O193","v":""},{"$nulls":3},{"$f":"入力用!S193","v":""},{"$nulls":3},{"$f":"入力用!W193","v":""},{"$nulls":3},{"$f":"入力用!AA193","v":""}]
[]
[]
[{"$nulls":6},"対前年度　　比（％）",{"$nulls":7},"Ａ",{"$nulls":3},"Ｂ",{"$nulls":3},"Ｃ",{"$nulls":3},"Ｄ",{"$nulls":3},{"$f":"入力用!AE194","v":""}]
[{"$nulls":14},{"$f":"入力用!O195","v":""},{"$nulls":3},{"$f":"入力用!S195","v":""},{"$nulls":3},{"$f":"入力用!W195","v":""},{"$nulls":3},{"$f":"入力用!AA195","v":""}]
[]
[]
[]
[null,"主として\n紙製の\n容器包装",{"$nulls":4},"原単位",{"$nulls":3},{"$f":"入力用!K201","v":""},{"$nulls":3},{"$f":"入力用!O201","v":""},{"$nulls":3},{"$f":"入力用!S201","v":""},{"$nulls":3},{"$f":"入力用!W201","v":""},{"$nulls":3},{"$f":"入力用!AA201","v":""}]
[]
[]
[{"$nulls":6},"対前年度　　比（％）",{"$nulls":7},"Ａ",{"$nulls":3},"Ｂ",{"$nulls":3},"Ｃ",{"$nulls":3},"Ｄ",{"$nulls":3},{"$f":"入力用!AE202","v":""}]
[{"$nulls":14},{"$f":"入力用!O203","v":""},{"$nulls":3},{"$f":"入力用!S203","v":""},{"$nulls":3},{"$f":"入力用!W203","v":""},{"$nulls":3},{"$f":"入力用!AA203","v":""}]
[]
[]
[]
[null,null,"うち、\n紙製の袋",{"$nulls":3},"原単位",{"$nulls":3},{"$f":"入力用!K209","v":""},{"$nulls":3},{"$f":"入力用!O209","v":""},{"$nulls":3},{"$f":"入力用!S209","v":""},{"$nulls":3},{"$f":"入力用!W209","v":""},{"$nulls":3},{"$f":"入力用!AA209","v":""}]
[]
[]
[{"$nulls":6},"対前年度　　比（％）",{"$nulls":7},"Ａ",{"$nulls":3},"Ｂ",{"$nulls":3},"Ｃ",{"$nulls":3},"Ｄ",{"$nulls":3},{"$f":"入力用!AE210","v":""}]
[{"$nulls":14},{"$f":"入力用!O211","v":""},{"$nulls":3},{"$f":"入力用!S211","v":""},{"$nulls":3},{"$f":"入力用!W211","v":""},{"$nulls":3},{"$f":"入力用!AA211","v":""}]
[]
[]
[]
[null,"主として\n段ボール製の\n容器包装",{"$nulls":4},"原単位",{"$nulls":3},{"$f":"入力用!K217","v":""},{"$nulls":3},{"$f":"入力用!O217","v":""},{"$nulls":3},{"$f":"入力用!S217","v":""},{"$nulls":3},{"$f":"入力用!W217","v":""},{"$nulls":3},{"$f":"入力用!AA217","v":""}]
[]
[]
[{"$nulls":6},"対前年度　　比（％）",{"$nulls":7},"Ａ",{"$nulls":3},"Ｂ",{"$nulls":3},"Ｃ",{"$nulls":3},"Ｄ",{"$nulls":3},{"$f":"入力用!AE218","v":""}]
[{"$nulls":14},{"$f":"入力用!O219","v":""},{"$nulls":3},{"$f":"入力用!S219","v":""},{"$nulls":3},{"$f":"入力用!W219","v":""},{"$nulls":3},{"$f":"入力用!AA219","v":""}]
[]
[]
[]
[null,"その他の\n容器包装",{"$nulls":4},"原単位",{"$nulls":3},{"$f":"入力用!K225","v":""},{"$nulls":3},{"$f":"入力用!O225","v":""},{"$nulls":3},{"$f":"入力用!S225","v":""},{"$nulls":3},{"$f":"入力用!W225","v":""},{"$nulls":3},{"$f":"入力用!AA225","v":""}]
[]
[]
[{"$nulls":6},"対前年度　　比（％）",{"$nulls":7},"Ａ",{"$nulls":3},"Ｂ",{"$nulls":3},"Ｃ",{"$nulls":3},"Ｄ",{"$nulls":3},{"$f":"入力用!AE226","v":""}]
[{"$nulls":14},{"$f":"入力用!O227","v":""},{"$nulls":3},{"$f":"入力用!S227","v":""},{"$nulls":3},{"$f":"入力用!W227","v":""},{"$nulls":3},{"$f":"入力用!AA227","v":""}]
[]
[]
[]
[]
[{"$nulls":32},{"$f":"NOW()","v":"2021-05-31T10:51:09.320"}]
[{"$nulls":37},{"$f":"\"Ver. \"&入力用!$BB$1","v":"Ver. 210527"}]
[]
[null,null,"第 ６ 表　過去５年間で容器包装の使用原単位が改善できなかった場合（イ）、又は容器包装"]
[null,null,"　　　　　 の使用原単位が前年度に比べ改善できなかった場合（ロ）、その理由"]
[null,null,"（イ）の理由"]
[{"$nulls":3},{"$f":"入力用!C237","v":0},{"$f":"入力用!E237","v":0},{"$f":"入力用!F237","v":0},{"$f":"入力用!G237","v":0},{"$f":"入力用!H237","v":0},{"$f":"入力用!I237","v":0},{"$f":"入力用!J237","v":0},{"$f":"入力用!K237","v":0},{"$f":"入力用!L237","v":0},{"$f":"入力用!M237","v":0},{"$f":"入力用!N237","v":0},{"$f":"入力用!O237","v":0},{"$f":"入力用!P237","v":0},{"$f":"入力用!Q237","v":0},{"$f":"入力用!R237","v":0},{"$f":"入力用!S237","v":0},{"$f":"入力用!T237","v":0},{"$f":"入力用!U237","v":0},{"$f":"入力用!V237","v":0},{"$f":"入力用!W237","v":0},{"$f":"入力用!X237","v":0},{"$f":"入力用!Y237","v":0},{"$f":"入力用!Z237","v":0},{"$f":"入力用!AA237","v":0},{"$f":"入力用!AB237","v":0},{"$f":"入力用!AC237","v":0},{"$f":"入力用!AD237","v":0},{"$f":"入力用!AE237","v":0},{"$f":"入力用!AF237","v":0},{"$f":"入力用!AG237","v":0},{"$f":"入力用!AH237","v":0},{"$f":"入力用!AI237","v":0}]
[{"$nulls":3},{"$f":"入力用!D238","v":0},{"$f":"入力用!E238","v":0},{"$f":"入力用!F238","v":0},{"$f":"入力用!G238","v":0},{"$f":"入力用!H238","v":0},{"$f":"入力用!I238","v":0},{"$f":"入力用!J238","v":0},{"$f":"入力用!K238","v":0},{"$f":"入力用!L238","v":0},{"$f":"入力用!M238","v":0},{"$f":"入力用!N238","v":0},{"$f":"入力用!O238","v":0},{"$f":"入力用!P238","v":0},{"$f":"入力用!Q238","v":0},{"$f":"入力用!R238","v":0},{"$f":"入力用!S238","v":0},{"$f":"入力用!T238","v":0},{"$f":"入力用!U238","v":0},{"$f":"入力用!V238","v":0},{"$f":"入力用!W238","v":0},{"$f":"入力用!X238","v":0},{"$f":"入力用!Y238","v":0},{"$f":"入力用!Z238","v":0},{"$f":"入力用!AA238","v":0},{"$f":"入力用!AB238","v":0},{"$f":"入力用!AC238","v":0},{"$f":"入力用!AD238","v":0},{"$f":"入力用!AE238","v":0},{"$f":"入力用!AF238","v":0},{"$f":"入力用!AG238","v":0},{"$f":"入力用!AH238","v":0},{"$f":"入力用!AI238","v":0}]
[{"$nulls":3},{"$f":"入力用!D239","v":0},{"$f":"入力用!E239","v":0},{"$f":"入力用!F239","v":0},{"$f":"入力用!G239","v":0},{"$f":"入力用!H239","v":0},{"$f":"入力用!I239","v":0},{"$f":"入力用!J239","v":0},{"$f":"入力用!K239","v":0},{"$f":"入力用!L239","v":0},{"$f":"入力用!M239","v":0},{"$f":"入力用!N239","v":0},{"$f":"入力用!O239","v":0},{"$f":"入力用!P239","v":0},{"$f":"入力用!Q239","v":0},{"$f":"入力用!R239","v":0},{"$f":"入力用!S239","v":0},{"$f":"入力用!T239","v":0},{"$f":"入力用!U239","v":0},{"$f":"入力用!V239","v":0},{"$f":"入力用!W239","v":0},{"$f":"入力用!X239","v":0},{"$f":"入力用!Y239","v":0},{"$f":"入力用!Z239","v":0},{"$f":"入力用!AA239","v":0},{"$f":"入力用!AB239","v":0},{"$f":"入力用!AC239","v":0},{"$f":"入力用!AD239","v":0},{"$f":"入力用!AE239","v":0},{"$f":"入力用!AF239","v":0},{"$f":"入力用!AG239","v":0},{"$f":"入力用!AH239","v":0},{"$f":"入力用!AI239","v":0}]
[{"$nulls":3},{"$f":"入力用!D240","v":0},{"$f":"入力用!E240","v":0},{"$f":"入力用!F240","v":0},{"$f":"入力用!G240","v":0},{"$f":"入力用!H240","v":0},{"$f":"入力用!I240","v":0},{"$f":"入力用!J240","v":0},{"$f":"入力用!K240","v":0},{"$f":"入力用!L240","v":0},{"$f":"入力用!M240","v":0},{"$f":"入力用!N240","v":0},{"$f":"入力用!O240","v":0},{"$f":"入力用!P240","v":0},{"$f":"入力用!Q240","v":0},{"$f":"入力用!R240","v":0},{"$f":"入力用!S240","v":0},{"$f":"入力用!T240","v":0},{"$f":"入力用!U240","v":0},{"$f":"入力用!V240","v":0},{"$f":"入力用!W240","v":0},{"$f":"入力用!X240","v":0},{"$f":"入力用!Y240","v":0},{"$f":"入力用!Z240","v":0},{"$f":"入力用!AA240","v":0},{"$f":"入力用!AB240","v":0},{"$f":"入力用!AC240","v":0},{"$f":"入力用!AD240","v":0},{"$f":"入力用!AE240","v":0},{"$f":"入力用!AF240","v":0},{"$f":"入力用!AG240","v":0},{"$f":"入力用!AH240","v":0},{"$f":"入力用!AI240","v":0}]
[{"$nulls":3},{"$f":"入力用!D241","v":0},{"$f":"入力用!E241","v":0},{"$f":"入力用!F241","v":0},{"$f":"入力用!G241","v":0},{"$f":"入力用!H241","v":0},{"$f":"入力用!I241","v":0},{"$f":"入力用!J241","v":0},{"$f":"入力用!K241","v":0},{"$f":"入力用!L241","v":0},{"$f":"入力用!M241","v":0},{"$f":"入力用!N241","v":0},{"$f":"入力用!O241","v":0},{"$f":"入力用!P241","v":0},{"$f":"入力用!Q241","v":0},{"$f":"入力用!R241","v":0},{"$f":"入力用!S241","v":0},{"$f":"入力用!T241","v":0},{"$f":"入力用!U241","v":0},{"$f":"入力用!V241","v":0},{"$f":"入力用!W241","v":0},{"$f":"入力用!X241","v":0},{"$f":"入力用!Y241","v":0},{"$f":"入力用!Z241","v":0},{"$f":"入力用!AA241","v":0},{"$f":"入力用!AB241","v":0},{"$f":"入力用!AC241","v":0},{"$f":"入力用!AD241","v":0},{"$f":"入力用!AE241","v":0},{"$f":"入力用!AF241","v":0},{"$f":"入力用!AG241","v":0},{"$f":"入力用!AH241","v":0},{"$f":"入力用!AI241","v":0}]
[{"$nulls":3},{"$f":"入力用!D242","v":0},{"$f":"入力用!E242","v":0},{"$f":"入力用!F242","v":0},{"$f":"入力用!G242","v":0},{"$f":"入力用!H242","v":0},{"$f":"入力用!I242","v":0},{"$f":"入力用!J242","v":0},{"$f":"入力用!K242","v":0},{"$f":"入力用!L242","v":0},{"$f":"入力用!M242","v":0},{"$f":"入力用!N242","v":0},{"$f":"入力用!O242","v":0},{"$f":"入力用!P242","v":0},{"$f":"入力用!Q242","v":0},{"$f":"入力用!R242","v":0},{"$f":"入力用!S242","v":0},{"$f":"入力用!T242","v":0},{"$f":"入力用!U242","v":0},{"$f":"入力用!V242","v":0},{"$f":"入力用!W242","v":0},{"$f":"入力用!X242","v":0},{"$f":"入力用!Y242","v":0},{"$f":"入力用!Z242","v":0},{"$f":"入力用!AA242","v":0},{"$f":"入力用!AB242","v":0},{"$f":"入力用!AC242","v":0},{"$f":"入力用!AD242","v":0},{"$f":"入力用!AE242","v":0},{"$f":"入力用!AF242","v":0},{"$f":"入力用!AG242","v":0},{"$f":"入力用!AH242","v":0},{"$f":"入力用!AI242","v":0}]
[{"$nulls":3},{"$f":"入力用!D243","v":0},{"$f":"入力用!E243","v":0},{"$f":"入力用!F243","v":0},{"$f":"入力用!G243","v":0},{"$f":"入力用!H243","v":0},{"$f":"入力用!I243","v":0},{"$f":"入力用!J243","v":0},{"$f":"入力用!K243","v":0},{"$f":"入力用!L243","v":0},{"$f":"入力用!M243","v":0},{"$f":"入力用!N243","v":0},{"$f":"入力用!O243","v":0},{"$f":"入力用!P243","v":0},{"$f":"入力用!Q243","v":0},{"$f":"入力用!R243","v":0},{"$f":"入力用!S243","v":0},{"$f":"入力用!T243","v":0},{"$f":"入力用!U243","v":0},{"$f":"入力用!V243","v":0},{"$f":"入力用!W243","v":0},{"$f":"入力用!X243","v":0},{"$f":"入力用!Y243","v":0},{"$f":"入力用!Z243","v":0},{"$f":"入力用!AA243","v":0},{"$f":"入力用!AB243","v":0},{"$f":"入力用!AC243","v":0},{"$f":"入力用!AD243","v":0},{"$f":"入力用!AE243","v":0},{"$f":"入力用!AF243","v":0},{"$f":"入力用!AG243","v":0},{"$f":"入力用!AH243","v":0},{"$f":"入力用!AI243","v":0}]
[{"$nulls":3},{"$f":"入力用!D244","v":0},{"$f":"入力用!E244","v":0},{"$f":"入力用!F244","v":0},{"$f":"入力用!G244","v":0},{"$f":"入力用!H244","v":0},{"$f":"入力用!I244","v":0},{"$f":"入力用!J244","v":0},{"$f":"入力用!K244","v":0},{"$f":"入力用!L244","v":0},{"$f":"入力用!M244","v":0},{"$f":"入力用!N244","v":0},{"$f":"入力用!O244","v":0},{"$f":"入力用!P244","v":0},{"$f":"入力用!Q244","v":0},{"$f":"入力用!R244","v":0},{"$f":"入力用!S244","v":0},{"$f":"入力用!T244","v":0},{"$f":"入力用!U244","v":0},{"$f":"入力用!V244","v":0},{"$f":"入力用!W244","v":0},{"$f":"入力用!X244","v":0},{"$f":"入力用!Y244","v":0},{"$f":"入力用!Z244","v":0},{"$f":"入力用!AA244","v":0},{"$f":"入力用!AB244","v":0},{"$f":"入力用!AC244","v":0},{"$f":"入力用!AD244","v":0},{"$f":"入力用!AE244","v":0},{"$f":"入力用!AF244","v":0},{"$f":"入力用!AG244","v":0},{"$f":"入力用!AH244","v":0},{"$f":"入力用!AI244","v":0}]
[{"$nulls":3},{"$f":"入力用!D245","v":0},{"$f":"入力用!E245","v":0},{"$f":"入力用!F245","v":0},{"$f":"入力用!G245","v":0},{"$f":"入力用!H245","v":0},{"$f":"入力用!I245","v":0},{"$f":"入力用!J245","v":0},{"$f":"入力用!K245","v":0},{"$f":"入力用!L245","v":0},{"$f":"入力用!M245","v":0},{"$f":"入力用!N245","v":0},{"$f":"入力用!O245","v":0},{"$f":"入力用!P245","v":0},{"$f":"入力用!Q245","v":0},{"$f":"入力用!R245","v":0},{"$f":"入力用!S245","v":0},{"$f":"入力用!T245","v":0},{"$f":"入力用!U245","v":0},{"$f":"入力用!V245","v":0},{"$f":"入力用!W245","v":0},{"$f":"入力用!X245","v":0},{"$f":"入力用!Y245","v":0},{"$f":"入力用!Z245","v":0},{"$f":"入力用!AA245","v":0},{"$f":"入力用!AB245","v":0},{"$f":"入力用!AC245","v":0},{"$f":"入力用!AD245","v":0},{"$f":"入力用!AE245","v":0},{"$f":"入力用!AF245","v":0},{"$f":"入力用!AG245","v":0},{"$f":"入力用!AH245","v":0},{"$f":"入力用!AI245","v":0}]
[{"$nulls":3},{"$f":"入力用!D246","v":0},{"$f":"入力用!E246","v":0},{"$f":"入力用!F246","v":0},{"$f":"入力用!G246","v":0},{"$f":"入力用!H246","v":0},{"$f":"入力用!I246","v":0},{"$f":"入力用!J246","v":0},{"$f":"入力用!K246","v":0},{"$f":"入力用!L246","v":0},{"$f":"入力用!M246","v":0},{"$f":"入力用!N246","v":0},{"$f":"入力用!O246","v":0},{"$f":"入力用!P246","v":0},{"$f":"入力用!Q246","v":0},{"$f":"入力用!R246","v":0},{"$f":"入力用!S246","v":0},{"$f":"入力用!T246","v":0},{"$f":"入力用!U246","v":0},{"$f":"入力用!V246","v":0},{"$f":"入力用!W246","v":0},{"$f":"入力用!X246","v":0},{"$f":"入力用!Y246","v":0},{"$f":"入力用!Z246","v":0},{"$f":"入力用!AA246","v":0},{"$f":"入力用!AB246","v":0},{"$f":"入力用!AC246","v":0},{"$f":"入力用!AD246","v":0},{"$f":"入力用!AE246","v":0},{"$f":"入力用!AF246","v":0},{"$f":"入力用!AG246","v":0},{"$f":"入力用!AH246","v":0},{"$f":"入力用!AI246","v":0}]
[{"$nulls":3},{"$f":"入力用!D247","v":0},{"$f":"入力用!E247","v":0},{"$f":"入力用!F247","v":0},{"$f":"入力用!G247","v":0},{"$f":"入力用!H247","v":0},{"$f":"入力用!I247","v":0},{"$f":"入力用!J247","v":0},{"$f":"入力用!K247","v":0},{"$f":"入力用!L247","v":0},{"$f":"入力用!M247","v":0},{"$f":"入力用!N247","v":0},{"$f":"入力用!O247","v":0},{"$f":"入力用!P247","v":0},{"$f":"入力用!Q247","v":0},{"$f":"入力用!R247","v":0},{"$f":"入力用!S247","v":0},{"$f":"入力用!T247","v":0},{"$f":"入力用!U247","v":0},{"$f":"入力用!V247","v":0},{"$f":"入力用!W247","v":0},{"$f":"入力用!X247","v":0},{"$f":"入力用!Y247","v":0},{"$f":"入力用!Z247","v":0},{"$f":"入力用!AA247","v":0},{"$f":"入力用!AB247","v":0},{"$f":"入力用!AC247","v":0},{"$f":"入力用!AD247","v":0},{"$f":"入力用!AE247","v":0},{"$f":"入力用!AF247","v":0},{"$f":"入力用!AG247","v":0},{"$f":"入力用!AH247","v":0},{"$f":"入力用!AI247","v":0}]
[{"$nulls":3},{"$f":"入力用!D248","v":0},{"$f":"入力用!E248","v":0},{"$f":"入力用!F248","v":0},{"$f":"入力用!G248","v":0},{"$f":"入力用!H248","v":0},{"$f":"入力用!I248","v":0},{"$f":"入力用!J248","v":0},{"$f":"入力用!K248","v":0},{"$f":"入力用!L248","v":0},{"$f":"入力用!M248","v":0},{"$f":"入力用!N248","v":0},{"$f":"入力用!O248","v":0},{"$f":"入力用!P248","v":0},{"$f":"入力用!Q248","v":0},{"$f":"入力用!R248","v":0},{"$f":"入力用!S248","v":0},{"$f":"入力用!T248","v":0},{"$f":"入力用!U248","v":0},{"$f":"入力用!V248","v":0},{"$f":"入力用!W248","v":0},{"$f":"入力用!X248","v":0},{"$f":"入力用!Y248","v":0},{"$f":"入力用!Z248","v":0},{"$f":"入力用!AA248","v":0},{"$f":"入力用!AB248","v":0},{"$f":"入力用!AC248","v":0},{"$f":"入力用!AD248","v":0},{"$f":"入力用!AE248","v":0},{"$f":"入力用!AF248","v":0},{"$f":"入力用!AG248","v":0},{"$f":"入力用!AH248","v":0},{"$f":"入力用!AI248","v":0}]
[{"$nulls":3},{"$f":"入力用!D249","v":0},{"$f":"入力用!E249","v":0},{"$f":"入力用!F249","v":0},{"$f":"入力用!G249","v":0},{"$f":"入力用!H249","v":0},{"$f":"入力用!I249","v":0},{"$f":"入力用!J249","v":0},{"$f":"入力用!K249","v":0},{"$f":"入力用!L249","v":0},{"$f":"入力用!M249","v":0},{"$f":"入力用!N249","v":0},{"$f":"入力用!O249","v":0},{"$f":"入力用!P249","v":0},{"$f":"入力用!Q249","v":0},{"$f":"入力用!R249","v":0},{"$f":"入力用!S249","v":0},{"$f":"入力用!T249","v":0},{"$f":"入力用!U249","v":0},{"$f":"入力用!V249","v":0},{"$f":"入力用!W249","v":0},{"$f":"入力用!X249","v":0},{"$f":"入力用!Y249","v":0},{"$f":"入力用!Z249","v":0},{"$f":"入力用!AA249","v":0},{"$f":"入力用!AB249","v":0},{"$f":"入力用!AC249","v":0},{"$f":"入力用!AD249","v":0},{"$f":"入力用!AE249","v":0},{"$f":"入力用!AF249","v":0},{"$f":"入力用!AG249","v":0},{"$f":"入力用!AH249","v":0},{"$f":"入力用!AI249","v":0}]
[{"$nulls":3},{"$f":"入力用!D250","v":0},{"$f":"入力用!E250","v":0},{"$f":"入力用!F250","v":0},{"$f":"入力用!G250","v":0},{"$f":"入力用!H250","v":0},{"$f":"入力用!I250","v":0},{"$f":"入力用!J250","v":0},{"$f":"入力用!K250","v":0},{"$f":"入力用!L250","v":0},{"$f":"入力用!M250","v":0},{"$f":"入力用!N250","v":0},{"$f":"入力用!O250","v":0},{"$f":"入力用!P250","v":0},{"$f":"入力用!Q250","v":0},{"$f":"入力用!R250","v":0},{"$f":"入力用!S250","v":0},{"$f":"入力用!T250","v":0},{"$f":"入力用!U250","v":0},{"$f":"入力用!V250","v":0},{"$f":"入力用!W250","v":0},{"$f":"入力用!X250","v":0},{"$f":"入力用!Y250","v":0},{"$f":"入力用!Z250","v":0},{"$f":"入力用!AA250","v":0},{"$f":"入力用!AB250","v":0},{"$f":"入力用!AC250","v":0},{"$f":"入力用!AD250","v":0},{"$f":"入力用!AE250","v":0},{"$f":"入力用!AF250","v":0},{"$f":"入力用!AG250","v":0},{"$f":"入力用!AH250","v":0},{"$f":"入力用!AI250","v":0}]
[{"$nulls":3},{"$f":"入力用!D251","v":0},{"$f":"入力用!E251","v":0},{"$f":"入力用!F251","v":0},{"$f":"入力用!G251","v":0},{"$f":"入力用!H251","v":0},{"$f":"入力用!I251","v":0},{"$f":"入力用!J251","v":0},{"$f":"入力用!K251","v":0},{"$f":"入力用!L251","v":0},{"$f":"入力用!M251","v":0},{"$f":"入力用!N251","v":0},{"$f":"入力用!O251","v":0},{"$f":"入力用!P251","v":0},{"$f":"入力用!Q251","v":0},{"$f":"入力用!R251","v":0},{"$f":"入力用!S251","v":0},{"$f":"入力用!T251","v":0},{"$f":"入力用!U251","v":0},{"$f":"入力用!V251","v":0},{"$f":"入力用!W251","v":0},{"$f":"入力用!X251","v":0},{"$f":"入力用!Y251","v":0},{"$f":"入力用!Z251","v":0},{"$f":"入力用!AA251","v":0},{"$f":"入力用!AB251","v":0},{"$f":"入力用!AC251","v":0},{"$f":"入力用!AD251","v":0},{"$f":"入力用!AE251","v":0},{"$f":"入力用!AF251","v":0},{"$f":"入力用!AG251","v":0},{"$f":"入力用!AH251","v":0},{"$f":"入力用!AI251","v":0}]
[{"$nulls":3},{"$f":"入力用!D252","v":0},{"$f":"入力用!E252","v":0},{"$f":"入力用!F252","v":0},{"$f":"入力用!G252","v":0},{"$f":"入力用!H252","v":0},{"$f":"入力用!I252","v":0},{"$f":"入力用!J252","v":0},{"$f":"入力用!K252","v":0},{"$f":"入力用!L252","v":0},{"$f":"入力用!M252","v":0},{"$f":"入力用!N252","v":0},{"$f":"入力用!O252","v":0},{"$f":"入力用!P252","v":0},{"$f":"入力用!Q252","v":0},{"$f":"入力用!R252","v":0},{"$f":"入力用!S252","v":0},{"$f":"入力用!T252","v":0},{"$f":"入力用!U252","v":0},{"$f":"入力用!V252","v":0},{"$f":"入力用!W252","v":0},{"$f":"入力用!X252","v":0},{"$f":"入力用!Y252","v":0},{"$f":"入力用!Z252","v":0},{"$f":"入力用!AA252","v":0},{"$f":"入力用!AB252","v":0},{"$f":"入力用!AC252","v":0},{"$f":"入力用!AD252","v":0},{"$f":"入力用!AE252","v":0},{"$f":"入力用!AF252","v":0},{"$f":"入力用!AG252","v":0},{"$f":"入力用!AH252","v":0},{"$f":"入力用!AI252","v":0}]
[null,null,"（ロ）の理由"]
[{"$nulls":3},{"$f":"入力用!C254","v":0},{"$f":"入力用!E254","v":0},{"$f":"入力用!F254","v":0},{"$f":"入力用!G254","v":0},{"$f":"入力用!H254","v":0},{"$f":"入力用!I254","v":0},{"$f":"入力用!J254","v":0},{"$f":"入力用!K254","v":0},{"$f":"入力用!L254","v":0},{"$f":"入力用!M254","v":0},{"$f":"入力用!N254","v":0},{"$f":"入力用!O254","v":0},{"$f":"入力用!P254","v":0},{"$f":"入力用!Q254","v":0},{"$f":"入力用!R254","v":0},{"$f":"入力用!S254","v":0},{"$f":"入力用!T254","v":0},{"$f":"入力用!U254","v":0},{"$f":"入力用!V254","v":0},{"$f":"入力用!W254","v":0},{"$f":"入力用!X254","v":0},{"$f":"入力用!Y254","v":0},{"$f":"入力用!Z254","v":0},{"$f":"入力用!AA254","v":0},{"$f":"入力用!AB254","v":0},{"$f":"入力用!AC254","v":0},{"$f":"入力用!AD254","v":0},{"$f":"入力用!AE254","v":0},{"$f":"入力用!AF254","v":0},{"$f":"入力用!AG254","v":0},{"$f":"入力用!AH254","v":0},{"$f":"入力用!AI254","v":0}]
[{"$nulls":3},{"$f":"入力用!D255","v":0},{"$f":"入力用!E255","v":0},{"$f":"入力用!F255","v":0},{"$f":"入力用!G255","v":0},{"$f":"入力用!H255","v":0},{"$f":"入力用!I255","v":0},{"$f":"入力用!J255","v":0},{"$f":"入力用!K255","v":0},{"$f":"入力用!L255","v":0},{"$f":"入力用!M255","v":0},{"$f":"入力用!N255","v":0},{"$f":"入力用!O255","v":0},{"$f":"入力用!P255","v":0},{"$f":"入力用!Q255","v":0},{"$f":"入力用!R255","v":0},{"$f":"入力用!S255","v":0},{"$f":"入力用!T255","v":0},{"$f":"入力用!U255","v":0},{"$f":"入力用!V255","v":0},{"$f":"入力用!W255","v":0},{"$f":"入力用!X255","v":0},{"$f":"入力用!Y255","v":0},{"$f":"入力用!Z255","v":0},{"$f":"入力用!AA255","v":0},{"$f":"入力用!AB255","v":0},{"$f":"入力用!AC255","v":0},{"$f":"入力用!AD255","v":0},{"$f":"入力用!AE255","v":0},{"$f":"入力用!AF255","v":0},{"$f":"入力用!AG255","v":0},{"$f":"入力用!AH255","v":0},{"$f":"入力用!AI255","v":0}]
[{"$nulls":3},{"$f":"入力用!D256","v":0},{"$f":"入力用!E256","v":0},{"$f":"入力用!F256","v":0},{"$f":"入力用!G256","v":0},{"$f":"入力用!H256","v":0},{"$f":"入力用!I256","v":0},{"$f":"入力用!J256","v":0},{"$f":"入力用!K256","v":0},{"$f":"入力用!L256","v":0},{"$f":"入力用!M256","v":0},{"$f":"入力用!N256","v":0},{"$f":"入力用!O256","v":0},{"$f":"入力用!P256","v":0},{"$f":"入力用!Q256","v":0},{"$f":"入力用!R256","v":0},{"$f":"入力用!S256","v":0},{"$f":"入力用!T256","v":0},{"$f":"入力用!U256","v":0},{"$f":"入力用!V256","v":0},{"$f":"入力用!W256","v":0},{"$f":"入力用!X256","v":0},{"$f":"入力用!Y256","v":0},{"$f":"入力用!Z256","v":0},{"$f":"入力用!AA256","v":0},{"$f":"入力用!AB256","v":0},{"$f":"入力用!AC256","v":0},{"$f":"入力用!AD256","v":0},{"$f":"入力用!AE256","v":0},{"$f":"入力用!AF256","v":0},{"$f":"入力用!AG256","v":0},{"$f":"入力用!AH256","v":0},{"$f":"入力用!AI256","v":0}]
[{"$nulls":3},{"$f":"入力用!D257","v":0},{"$f":"入力用!E257","v":0},{"$f":"入力用!F257","v":0},{"$f":"入力用!G257","v":0},{"$f":"入力用!H257","v":0},{"$f":"入力用!I257","v":0},{"$f":"入力用!J257","v":0},{"$f":"入力用!K257","v":0},{"$f":"入力用!L257","v":0},{"$f":"入力用!M257","v":0},{"$f":"入力用!N257","v":0},{"$f":"入力用!O257","v":0},{"$f":"入力用!P257","v":0},{"$f":"入力用!Q257","v":0},{"$f":"入力用!R257","v":0},{"$f":"入力用!S257","v":0},{"$f":"入力用!T257","v":0},{"$f":"入力用!U257","v":0},{"$f":"入力用!V257","v":0},{"$f":"入力用!W257","v":0},{"$f":"入力用!X257","v":0},{"$f":"入力用!Y257","v":0},{"$f":"入力用!Z257","v":0},{"$f":"入力用!AA257","v":0},{"$f":"入力用!AB257","v":0},{"$f":"入力用!AC257","v":0},{"$f":"入力用!AD257","v":0},{"$f":"入力用!AE257","v":0},{"$f":"入力用!AF257","v":0},{"$f":"入力用!AG257","v":0},{"$f":"入力用!AH257","v":0},{"$f":"入力用!AI257","v":0}]
[{"$nulls":3},{"$f":"入力用!D258","v":0},{"$f":"入力用!E258","v":0},{"$f":"入力用!F258","v":0},{"$f":"入力用!G258","v":0},{"$f":"入力用!H258","v":0},{"$f":"入力用!I258","v":0},{"$f":"入力用!J258","v":0},{"$f":"入力用!K258","v":0},{"$f":"入力用!L258","v":0},{"$f":"入力用!M258","v":0},{"$f":"入力用!N258","v":0},{"$f":"入力用!O258","v":0},{"$f":"入力用!P258","v":0},{"$f":"入力用!Q258","v":0},{"$f":"入力用!R258","v":0},{"$f":"入力用!S258","v":0},{"$f":"入力用!T258","v":0},{"$f":"入力用!U258","v":0},{"$f":"入力用!V258","v":0},{"$f":"入力用!W258","v":0},{"$f":"入力用!X258","v":0},{"$f":"入力用!Y258","v":0},{"$f":"入力用!Z258","v":0},{"$f":"入力用!AA258","v":0},{"$f":"入力用!AB258","v":0},{"$f":"入力用!AC258","v":0},{"$f":"入力用!AD258","v":0},{"$f":"入力用!AE258","v":0},{"$f":"入力用!AF258","v":0},{"$f":"入力用!AG258","v":0},{"$f":"入力用!AH258","v":0},{"$f":"入力用!AI258","v":0}]
[{"$nulls":3},{"$f":"入力用!D259","v":0},{"$f":"入力用!E259","v":0},{"$f":"入力用!F259","v":0},{"$f":"入力用!G259","v":0},{"$f":"入力用!H259","v":0},{"$f":"入力用!I259","v":0},{"$f":"入力用!J259","v":0},{"$f":"入力用!K259","v":0},{"$f":"入力用!L259","v":0},{"$f":"入力用!M259","v":0},{"$f":"入力用!N259","v":0},{"$f":"入力用!O259","v":0},{"$f":"入力用!P259","v":0},{"$f":"入力用!Q259","v":0},{"$f":"入力用!R259","v":0},{"$f":"入力用!S259","v":0},{"$f":"入力用!T259","v":0},{"$f":"入力用!U259","v":0},{"$f":"入力用!V259","v":0},{"$f":"入力用!W259","v":0},{"$f":"入力用!X259","v":0},{"$f":"入力用!Y259","v":0},{"$f":"入力用!Z259","v":0},{"$f":"入力用!AA259","v":0},{"$f":"入力用!AB259","v":0},{"$f":"入力用!AC259","v":0},{"$f":"入力用!AD259","v":0},{"$f":"入力用!AE259","v":0},{"$f":"入力用!AF259","v":0},{"$f":"入力用!AG259","v":0},{"$f":"入力用!AH259","v":0},{"$f":"入力用!AI259","v":0}]
[{"$nulls":3},{"$f":"入力用!D260","v":0},{"$f":"入力用!E260","v":0},{"$f":"入力用!F260","v":0},{"$f":"入力用!G260","v":0},{"$f":"入力用!H260","v":0},{"$f":"入力用!I260","v":0},{"$f":"入力用!J260","v":0},{"$f":"入力用!K260","v":0},{"$f":"入力用!L260","v":0},{"$f":"入力用!M260","v":0},{"$f":"入力用!N260","v":0},{"$f":"入力用!O260","v":0},{"$f":"入力用!P260","v":0},{"$f":"入力用!Q260","v":0},{"$f":"入力用!R260","v":0},{"$f":"入力用!S260","v":0},{"$f":"入力用!T260","v":0},{"$f":"入力用!U260","v":0},{"$f":"入力用!V260","v":0},{"$f":"入力用!W260","v":0},{"$f":"入力用!X260","v":0},{"$f":"入力用!Y260","v":0},{"$f":"入力用!Z260","v":0},{"$f":"入力用!AA260","v":0},{"$f":"入力用!AB260","v":0},{"$f":"入力用!AC260","v":0},{"$f":"入力用!AD260","v":0},{"$f":"入力用!AE260","v":0},{"$f":"入力用!AF260","v":0},{"$f":"入力用!AG260","v":0},{"$f":"入力用!AH260","v":0},{"$f":"入力用!AI260","v":0}]
[{"$nulls":3},{"$f":"入力用!D261","v":0},{"$f":"入力用!E261","v":0},{"$f":"入力用!F261","v":0},{"$f":"入力用!G261","v":0},{"$f":"入力用!H261","v":0},{"$f":"入力用!I261","v":0},{"$f":"入力用!J261","v":0},{"$f":"入力用!K261","v":0},{"$f":"入力用!L261","v":0},{"$f":"入力用!M261","v":0},{"$f":"入力用!N261","v":0},{"$f":"入力用!O261","v":0},{"$f":"入力用!P261","v":0},{"$f":"入力用!Q261","v":0},{"$f":"入力用!R261","v":0},{"$f":"入力用!S261","v":0},{"$f":"入力用!T261","v":0},{"$f":"入力用!U261","v":0},{"$f":"入力用!V261","v":0},{"$f":"入力用!W261","v":0},{"$f":"入力用!X261","v":0},{"$f":"入力用!Y261","v":0},{"$f":"入力用!Z261","v":0},{"$f":"入力用!AA261","v":0},{"$f":"入力用!AB261","v":0},{"$f":"入力用!AC261","v":0},{"$f":"入力用!AD261","v":0},{"$f":"入力用!AE261","v":0},{"$f":"入力用!AF261","v":0},{"$f":"入力用!AG261","v":0},{"$f":"入力用!AH261","v":0},{"$f":"入力用!AI261","v":0}]
[{"$nulls":3},{"$f":"入力用!D262","v":0},{"$f":"入力用!E262","v":0},{"$f":"入力用!F262","v":0},{"$f":"入力用!G262","v":0},{"$f":"入力用!H262","v":0},{"$f":"入力用!I262","v":0},{"$f":"入力用!J262","v":0},{"$f":"入力用!K262","v":0},{"$f":"入力用!L262","v":0},{"$f":"入力用!M262","v":0},{"$f":"入力用!N262","v":0},{"$f":"入力用!O262","v":0},{"$f":"入力用!P262","v":0},{"$f":"入力用!Q262","v":0},{"$f":"入力用!R262","v":0},{"$f":"入力用!S262","v":0},{"$f":"入力用!T262","v":0},{"$f":"入力用!U262","v":0},{"$f":"入力用!V262","v":0},{"$f":"入力用!W262","v":0},{"$f":"入力用!X262","v":0},{"$f":"入力用!Y262","v":0},{"$f":"入力用!Z262","v":0},{"$f":"入力用!AA262","v":0},{"$f":"入力用!AB262","v":0},{"$f":"入力用!AC262","v":0},{"$f":"入力用!AD262","v":0},{"$f":"入力用!AE262","v":0},{"$f":"入力用!AF262","v":0},{"$f":"入力用!AG262","v":0},{"$f":"入力用!AH262","v":0},{"$f":"入力用!AI262","v":0}]
[{"$nulls":3},{"$f":"入力用!D263","v":0},{"$f":"入力用!E263","v":0},{"$f":"入力用!F263","v":0},{"$f":"入力用!G263","v":0},{"$f":"入力用!H263","v":0},{"$f":"入力用!I263","v":0},{"$f":"入力用!J263","v":0},{"$f":"入力用!K263","v":0},{"$f":"入力用!L263","v":0},{"$f":"入力用!M263","v":0},{"$f":"入力用!N263","v":0},{"$f":"入力用!O263","v":0},{"$f":"入力用!P263","v":0},{"$f":"入力用!Q263","v":0},{"$f":"入力用!R263","v":0},{"$f":"入力用!S263","v":0},{"$f":"入力用!T263","v":0},{"$f":"入力用!U263","v":0},{"$f":"入力用!V263","v":0},{"$f":"入力用!W263","v":0},{"$f":"入力用!X263","v":0},{"$f":"入力用!Y263","v":0},{"$f":"入力用!Z263","v":0},{"$f":"入力用!AA263","v":0},{"$f":"入力用!AB263","v":0},{"$f":"入力用!AC263","v":0},{"$f":"入力用!AD263","v":0},{"$f":"入力用!AE263","v":0},{"$f":"入力用!AF263","v":0},{"$f":"入力用!AG263","v":0},{"$f":"入力用!AH263","v":0},{"$f":"入力用!AI263","v":0}]
[{"$nulls":3},{"$f":"入力用!D264","v":0},{"$f":"入力用!E264","v":0},{"$f":"入力用!F264","v":0},{"$f":"入力用!G264","v":0},{"$f":"入力用!H264","v":0},{"$f":"入力用!I264","v":0},{"$f":"入力用!J264","v":0},{"$f":"入力用!K264","v":0},{"$f":"入力用!L264","v":0},{"$f":"入力用!M264","v":0},{"$f":"入力用!N264","v":0},{"$f":"入力用!O264","v":0},{"$f":"入力用!P264","v":0},{"$f":"入力用!Q264","v":0},{"$f":"入力用!R264","v":0},{"$f":"入力用!S264","v":0},{"$f":"入力用!T264","v":0},{"$f":"入力用!U264","v":0},{"$f":"入力用!V264","v":0},{"$f":"入力用!W264","v":0},{"$f":"入力用!X264","v":0},{"$f":"入力用!Y264","v":0},{"$f":"入力用!Z264","v":0},{"$f":"入力用!AA264","v":0},{"$f":"入力用!AB264","v":0},{"$f":"入力用!AC264","v":0},{"$f":"入力用!AD264","v":0},{"$f":"入力用!AE264","v":0},{"$f":"入力用!AF264","v":0},{"$f":"入力用!AG264","v":0},{"$f":"入力用!AH264","v":0},{"$f":"入力用!AI264","v":0}]
[{"$nulls":3},{"$f":"入力用!D265","v":0},{"$f":"入力用!E265","v":0},{"$f":"入力用!F265","v":0},{"$f":"入力用!G265","v":0},{"$f":"入力用!H265","v":0},{"$f":"入力用!I265","v":0},{"$f":"入力用!J265","v":0},{"$f":"入力用!K265","v":0},{"$f":"入力用!L265","v":0},{"$f":"入力用!M265","v":0},{"$f":"入力用!N265","v":0},{"$f":"入力用!O265","v":0},{"$f":"入力用!P265","v":0},{"$f":"入力用!Q265","v":0},{"$f":"入力用!R265","v":0},{"$f":"入力用!S265","v":0},{"$f":"入力用!T265","v":0},{"$f":"入力用!U265","v":0},{"$f":"入力用!V265","v":0},{"$f":"入力用!W265","v":0},{"$f":"入力用!X265","v":0},{"$f":"入力用!Y265","v":0},{"$f":"入力用!Z265","v":0},{"$f":"入力用!AA265","v":0},{"$f":"入力用!AB265","v":0},{"$f":"入力用!AC265","v":0},{"$f":"入力用!AD265","v":0},{"$f":"入力用!AE265","v":0},{"$f":"入力用!AF265","v":0},{"$f":"入力用!AG265","v":0},{"$f":"入力用!AH265","v":0},{"$f":"入力用!AI265","v":0}]
[{"$nulls":3},{"$f":"入力用!D266","v":0},{"$f":"入力用!E266","v":0},{"$f":"入力用!F266","v":0},{"$f":"入力用!G266","v":0},{"$f":"入力用!H266","v":0},{"$f":"入力用!I266","v":0},{"$f":"入力用!J266","v":0},{"$f":"入力用!K266","v":0},{"$f":"入力用!L266","v":0},{"$f":"入力用!M266","v":0},{"$f":"入力用!N266","v":0},{"$f":"入力用!O266","v":0},{"$f":"入力用!P266","v":0},{"$f":"入力用!Q266","v":0},{"$f":"入力用!R266","v":0},{"$f":"入力用!S266","v":0},{"$f":"入力用!T266","v":0},{"$f":"入力用!U266","v":0},{"$f":"入力用!V266","v":0},{"$f":"入力用!W266","v":0},{"$f":"入力用!X266","v":0},{"$f":"入力用!Y266","v":0},{"$f":"入力用!Z266","v":0},{"$f":"入力用!AA266","v":0},{"$f":"入力用!AB266","v":0},{"$f":"入力用!AC266","v":0},{"$f":"入力用!AD266","v":0},{"$f":"入力用!AE266","v":0},{"$f":"入力用!AF266","v":0},{"$f":"入力用!AG266","v":0},{"$f":"入力用!AH266","v":0},{"$f":"入力用!AI266","v":0}]
[{"$nulls":3},{"$f":"入力用!D267","v":0},{"$f":"入力用!E267","v":0},{"$f":"入力用!F267","v":0},{"$f":"入力用!G267","v":0},{"$f":"入力用!H267","v":0},{"$f":"入力用!I267","v":0},{"$f":"入力用!J267","v":0},{"$f":"入力用!K267","v":0},{"$f":"入力用!L267","v":0},{"$f":"入力用!M267","v":0},{"$f":"入力用!N267","v":0},{"$f":"入力用!O267","v":0},{"$f":"入力用!P267","v":0},{"$f":"入力用!Q267","v":0},{"$f":"入力用!R267","v":0},{"$f":"入力用!S267","v":0},{"$f":"入力用!T267","v":0},{"$f":"入力用!U267","v":0},{"$f":"入力用!V267","v":0},{"$f":"入力用!W267","v":0},{"$f":"入力用!X267","v":0},{"$f":"入力用!Y267","v":0},{"$f":"入力用!Z267","v":0},{"$f":"入力用!AA267","v":0},{"$f":"入力用!AB267","v":0},{"$f":"入力用!AC267","v":0},{"$f":"入力用!AD267","v":0},{"$f":"入力用!AE267","v":0},{"$f":"入力用!AF267","v":0},{"$f":"入力用!AG267","v":0},{"$f":"入力用!AH267","v":0},{"$f":"入力用!AI267","v":0}]
[{"$nulls":3},{"$f":"入力用!D268","v":0},{"$f":"入力用!E268","v":0},{"$f":"入力用!F268","v":0},{"$f":"入力用!G268","v":0},{"$f":"入力用!H268","v":0},{"$f":"入力用!I268","v":0},{"$f":"入力用!J268","v":0},{"$f":"入力用!K268","v":0},{"$f":"入力用!L268","v":0},{"$f":"入力用!M268","v":0},{"$f":"入力用!N268","v":0},{"$f":"入力用!O268","v":0},{"$f":"入力用!P268","v":0},{"$f":"入力用!Q268","v":0},{"$f":"入力用!R268","v":0},{"$f":"入力用!S268","v":0},{"$f":"入力用!T268","v":0},{"$f":"入力用!U268","v":0},{"$f":"入力用!V268","v":0},{"$f":"入力用!W268","v":0},{"$f":"入力用!X268","v":0},{"$f":"入力用!Y268","v":0},{"$f":"入力用!Z268","v":0},{"$f":"入力用!AA268","v":0},{"$f":"入力用!AB268","v":0},{"$f":"入力用!AC268","v":0},{"$f":"入力用!AD268","v":0},{"$f":"入力用!AE268","v":0},{"$f":"入力用!AF268","v":0},{"$f":"入力用!AG268","v":0},{"$f":"入力用!AH268","v":0},{"$f":"入力用!AI268","v":0}]
[{"$nulls":3},{"$f":"入力用!D269","v":0},{"$f":"入力用!E269","v":0},{"$f":"入力用!F269","v":0},{"$f":"入力用!G269","v":0},{"$f":"入力用!H269","v":0},{"$f":"入力用!I269","v":0},{"$f":"入力用!J269","v":0},{"$f":"入力用!K269","v":0},{"$f":"入力用!L269","v":0},{"$f":"入力用!M269","v":0},{"$f":"入力用!N269","v":0},{"$f":"入力用!O269","v":0},{"$f":"入力用!P269","v":0},{"$f":"入力用!Q269","v":0},{"$f":"入力用!R269","v":0},{"$f":"入力用!S269","v":0},{"$f":"入力用!T269","v":0},{"$f":"入力用!U269","v":0},{"$f":"入力用!V269","v":0},{"$f":"入力用!W269","v":0},{"$f":"入力用!X269","v":0},{"$f":"入力用!Y269","v":0},{"$f":"入力用!Z269","v":0},{"$f":"入力用!AA269","v":0},{"$f":"入力用!AB269","v":0},{"$f":"入力用!AC269","v":0},{"$f":"入力用!AD269","v":0},{"$f":"入力用!AE269","v":0},{"$f":"入力用!AF269","v":0},{"$f":"入力用!AG269","v":0},{"$f":"入力用!AH269","v":0},{"$f":"入力用!AI269","v":0}]
[]
[{"$nulls":32},{"$f":"NOW()","v":"2021-05-31T10:51:09.320"}]
[{"$nulls":37},{"$f":"\"Ver. \"&入力用!$BB$1","v":"Ver. 210527"}]
[]
[null,null,"第 ７ 表　判断の基準となるべき事項に基づき実施した取組"]
[null,null,"対象項目",{"$nulls":5},"具体的内容"]
[null,null,"目標の設定",{"$nulls":5},"（具体的内容）"]
[]
[{"$nulls":9},{"$f":"入力用!I277","v":0},{"$nulls":24},{"$f":"入力用!AI277","v":0}]
[]
[]
[]
[{"$nulls":34},{"$f":"入力用!AI278","v":0}]
[{"$nulls":34},{"$f":"入力用!AI279","v":0}]
[{"$nulls":34},{"$f":"入力用!AI282","v":0}]
[{"$nulls":34},{"$f":"入力用!AI283","v":0}]
[{"$nulls":34},{"$f":"入力用!AI284","v":0}]
[{"$nulls":9},{"$f":"入力用!J285","v":0},{"$f":"入力用!K285","v":0},{"$f":"入力用!L285","v":0},{"$f":"入力用!M285","v":0},{"$f":"入力用!N285","v":0},{"$f":"入力用!O285","v":0},{"$f":"入力用!P285","v":0},{"$f":"入力用!Q285","v":0},{"$f":"入力用!R285","v":0},{"$f":"入力用!S285","v":0},{"$f":"入力用!T285","v":0},{"$f":"入力用!U285","v":0},{"$f":"入力用!V285","v":0},{"$f":"入力用!W285","v":0},{"$f":"入力用!X285","v":0},{"$f":"入力用!Y285","v":0},{"$f":"入力用!Z285","v":0},{"$f":"入力用!AA285","v":0},{"$f":"入力用!AB285","v":0},{"$f":"入力用!AC285","v":0},{"$f":"入力用!AD285","v":0},{"$f":"入力用!AE285","v":0},{"$f":"入力用!AF285","v":0},{"$f":"入力用!AG285","v":0},{"$f":"入力用!AH285","v":0},{"$f":"入力用!AI285","v":0}]
[null,null,"容器包装の\n使用の合理化",{"$nulls":5},"消費者によるプラスチック製の買物袋の排出の抑制を促進すること"]
[{"$nulls":16},{"$f":"IF(入力用!BF288=TRUE,\"■\",\"\")","v":""},null,"プラスチック製の買物袋の有償による提供"]
[]
[{"$nulls":15},"（具体的内容）"]
[]
[{"$nulls":16},{"$f":"入力用!P291","v":0}]
{"$rows_empty":7}
[{"$nulls":8},"消費者による容器包装廃棄物の排出の抑制を促進すること"]
[{"$nulls":16},{"$f":"IF(入力用!BF303=TRUE,\"■\",\"\")","v":""},null,"容器包装（プラスチック製の買物袋を除く。）の有償による提供"]
[]
[]
[{"$nulls":16},{"$f":"IF(入力用!BF305=TRUE,\"■\",\"\")","v":""},null,"景品等の提供"]
[]
[{"$nulls":16},{"$f":"IF(入力用!BF307=TRUE,\"■\",\"\")","v":""},null,"繰り返し使用が可能な買物袋等の提供"]
[]
[{"$nulls":16},{"$f":"IF(入力用!BF309=TRUE,\"■\",\"\")","v":""},null,"容器包装の使用についての消費者の意思の確認"]
[]
[{"$nulls":16},{"$f":"IF(入力用!BF311=TRUE,\"■\",\"\")","v":""},null,"その他"]
[]
[{"$nulls":15},"（具体的内容）"]
[]
[{"$nulls":16},{"$f":"入力用!P314","v":0}]
{"$rows_empty":7}
[{"$nulls":8},"自らの容器包装の\n過剰な使用を抑制\nすること"]
[{"$nulls":16},{"$f":"IF(入力用!BF325=TRUE,\"■\",\"\")","v":""},null,"薄肉化又は軽量化された容器包装の使用"]
[]
[{"$nulls":16},{"$f":"IF(入力用!BF327=TRUE,\"■\",\"\")","v":""},null,"適切な寸法の容器包装の使用"]
[]
[{"$nulls":16},{"$f":"IF(入力用!BF329=TRUE,\"■\",\"\")","v":""},null,"商品の量り売り"]
[]
[{"$nulls":16},{"$f":"IF(入力用!BF331=TRUE,\"■\",\"\")","v":""},null,"簡易包装化の推進"]
[]
[{"$nulls":16},{"$f":"IF(入力用!BF333=TRUE,\"■\",\"\")","v":""},null,"その他"]
[]
[{"$nulls":15},"（具体的内容）"]
[]
[{"$nulls":16},{"$f":"入力用!P336","v":0}]
[]
[]
[]
[]
[]
[]
[{"$nulls":16},{"$f":"入力用!Q347","v":0},{"$f":"入力用!R347","v":0},{"$f":"入力用!S347","v":0},{"$f":"入力用!T347","v":0},{"$f":"入力用!U347","v":0},{"$f":"入力用!V347","v":0},{"$f":"入力用!W347","v":0},{"$f":"入力用!X347","v":0},{"$f":"入力用!Y347","v":0},{"$f":"入力用!Z347","v":0},{"$f":"入力用!AA347","v":0},{"$f":"入力用!AB347","v":0},{"$f":"入力用!AC347","v":0},{"$f":"入力用!AD347","v":0},{"$f":"入力用!AE347","v":0},{"$f":"入力用!AF347","v":0},{"$f":"入力用!AG347","v":0},{"$f":"入力用!AH347","v":0},{"$f":"入力用!AI347","v":0}]
[]
[{"$nulls":32},{"$f":"NOW()","v":"2021-05-31T10:51:09.320"}]
[{"$nulls":37},{"$f":"\"Ver. \"&入力用!$BB$1","v":"Ver. 210527"}]
[]
[null,null,"情報の提供"]
[{"$nulls":9},{"$f":"IF(入力用!BF352=TRUE,\"■\",\"\")","v":""},null,"店頭における掲示"]
[]
[{"$nulls":9},{"$f":"IF(入力用!BF354=TRUE,\"■\",\"\")","v":""},null,"自らの取組の内容を記載した冊子等の配布"]
[]
[{"$nulls":9},{"$f":"IF(入力用!BF356=TRUE,\"■\",\"\")","v":""},null,"容器包装への表示"]
[]
[{"$nulls":9},{"$f":"IF(入力用!BF358=TRUE,\"■\",\"\")","v":""},null,"その他"]
[]
[{"$nulls":8},"（具体的内容）"]
[]
[{"$nulls":9},{"$f":"入力用!I361","v":0}]
{"$rows_empty":8}
[null,null,"体制の整備等",{"$nulls":5},"（具体的内容）"]
[]
[{"$nulls":9},{"$f":"入力用!I370","v":0}]
{"$rows_empty":8}
[null,null,"安全性等の配慮",{"$nulls":5},"（具体的内容）"]
[]
[{"$nulls":9},{"$f":"入力用!I379","v":0}]
{"$rows_empty":8}
[null,null,"容器包装の使用の合理化の実施状況等の把握",{"$nulls":5},"（具体的内容）"]
[]
[{"$nulls":9},{"$f":"入力用!I388","v":0}]
{"$rows_empty":8}
[null,null,"関係者との連携",{"$nulls":5},"（具体的内容）"]
[]
[{"$nulls":9},{"$f":"入力用!I397","v":0}]
{"$rows_empty":9}
[{"$nulls":32},{"$f":"NOW()","v":"2021-05-31T10:51:09.320"}]
[{"$nulls":37},{"$f":"\"Ver. \"&入力用!$BB$1","v":"Ver. 210527"}]
[]
[null,null,"第 ８ 表　その他の容器包装の使用の合理化のために実施した取組"]
[null,null,"措 置 の 概 要"]
[]
[]
[{"$nulls":3},{"$f":"入力用!C411","v":0}]

{"sheet":"報告書作成上の留意事項","index":3,"n_rows":32,"n_cols":13,"rows_kept":32,"merged":[[1,0,1,18],[3,1,7,18],[8,12,8,18],[10,1,12,17],[14,1,17,18],[18,12,18,18],[20,1,24,18],[25,1,30,18],[31,12,31,18]]}
[]
["定期報告書作成上の留意事項"]
[]
["１","　「容器包装を用いた量」は、小売業（※１）に属する事業において用いられる容器包装が算定の対象となります。\n　卸売業、製造業、サービス業など、小売業以外の事業において用いられる容器包装は、できる限り除いてください。\n　なお、通信販売は小売業に含まれます。"]
[]
[]
[]
[]
[{"$nulls":12},"「入力用」の【第１表】に戻る"]
[null," （※１）ここでいう「小売業」とは、次のものに限ります。"]
[null,"各種商品小売業、織物・衣服・身の回り品小売業、飲食料品小売業、自動車部分品・附属品小売業、家具・じゅう器・機械器具小売業、医薬品・化粧品小売業、書籍・文房具小売業、スポーツ用品・がん具・娯楽用品・楽器小売業、たばこ・喫煙具専門小売業"]
[]
[]
[]
["２","　「容器包装を用いた量」には、商品を販売（小売）するために用いた容器包装の量をそのまま入力してください。\n　店頭などで自主的に容器包装を回収（店頭回収）しているとしても、その回収量を差し引かないでください。"]
[]
[]
[]
[{"$nulls":12},"「入力用」の【第１表】に戻る"]
[]
["３","　この定期報告は、小売業を対象としています。（上記１参照）\n　従って、【第２表】の「密接な関係を持つ値」については、基本的に小売業に関する値を用いることとなります。\n　小売業とそれ以外の事業を併せて行っている事業者にあっては、次の点に留意の上、用いる値を選択してください。"]
[]
[]
[]
[]
["・","例えば、食料品小売店と飲食店を別々に展開している場合、両店舗の売上高を合算した値を用いても間違いではありませんが、飲食店の売上高と容器包装の使用量との間に関連性がないとすれば、より適切な使用原単位を算出するためにも、飲食店分を合算せず、小売店分の売上高のみを用いたほうがよいと考えられます。\n（店舗面積、その他についても考え方は同じです。）"]
[]
[]
[]
[]
[]
[{"$nulls":12},"「入力用」の【第２表】に戻る"]

{"sheet":"（隠しシート　職員限り）整理台帳","index":4,"n_rows":36,"n_cols":194,"rows_kept":36,"hidden":true,"merged":[[3,0,6,2],[3,3,6,3],[3,4,3,5],[3,6,6,6],[3,7,6,7],[3,8,6,8],[3,9,6,9],[3,10,6,10],[3,11,6,11],[3,12,6,12],[3,13,6,13],[3,14,6,14],[3,15,6,15],[3,17,3,27],[3,28,3,35],[3,36,3,62],[3,63,3,64],[3,65,3,163],[3,164,3,165],[3,166,3,192],[4,4,6,4],[4,5,6,5],[4,17,4,25],[4,26,6,26],[4,27,6,27],[4,28,6,28],[4,29,4,30],[4,31,4,32],[4,33,4,35],[4,36,4,38],[4,39,4,41],[4,42,4,44],[4,45,4,47],[4,48,4,50],[4,51,4,53],[4,54,4,56],[4,57,4,59],[4,60,4,62],[4,63,6,63],[4,64,6,64],[4,65,4,75],[4,76,4,86],[4,87,4,97],[4,98,4,108],[4,109,4,119],[4,120,4,130],[4,131,4,141],[4,142,4,152],[4,153,4,163],[4,164,6,164],[4,165,6,165],[4,166,6,166],[4,167,4,188],[4,189,6,189],[4,190,6,190],[4,191,6,191],[4,192,6,192],[4,193,6,193],[5,17,6,17],[5,18,6,18],[5,19,6,19],[5,20,6,20],[5,21,6,21],[5,22,6,22],[5,23,6,23],[5,24,6,24],[5,25,6,25],[5,29,6,29],[5,30,6,30],[5,31,6,31],[5,32,6,32],[5,33,6,33],[5,34,6,34],[5,35,6,35],[5,36,6,36],[5,37,6,37],[5,38,6,38],[5,39,6,39],[5,40,6,40],[5,41,6,41],[5,42,6,42],[5,43,6,43],[5,44,6,44],[5,45,6,45],[5,46,6,46],[5,47,6,47],[5,48,6,48],[5,49,6,49],[5,50,6,50],[5,51,6,51],[5,52,6,52],[5,53,6,53],[5,54,6,54],[5,55,6,55],[5,56,6,56],[5,57,6,57],[5,58,6,58],[5,59,6,59],[5,60,6,60],[5,61,6,61],[5,62,6,62],[5,75,6,75],[5,86,6,86],[5,97,6,97],[5,108,6,108],[5,119,6,119],[5,130,6,130],[5,141,6,141],[5,152,6,152],[5,163,6,163],[5,167,5,168],[5,169,5,175],[5,176,5,182],[5,183,5,188],[20,0,21,14]]}
["定期報告整理台帳"]
[]
["受付台帳",{"$nulls":16},"整理台帳"]
["*1\n受理番号",null,null,"受理\n年月日","提出先省庁",null,"加盟者の有無","事業者名","代表者名","*4\n都道府県\n番号","住所","連絡先\n（電話番号）","*5\n業種","作成責任者","*6\n容器包装\nリサイクル協会\n契約番号","*7　　　　　\nファイル番号\n（省－局－番号）",null,"容器包装を用いた量（第１表）",{"$nulls":10},"当該容器包装を用いた量と密接な関係をもつ値（第２表）",{"$nulls":7},"容器包装の使用原単位（第３表）",{"$nulls":26},"第４表",null,"過去５年間の容器包装の使用原単位の変化状況（第５表）",{"$nulls":98},"(第６表）",null,"判断の基準となるべき事項に基づき実施した取組（第７表）",{"$nulls":26},"第８表"]
[{"$nulls":4},"*2\n省","*3\n局",{"$nulls":11},"素材区別使用重量（Kg)",{"$nulls":8},"合計\n使用量","対前年比率\n(%)","年度","売上高",null,"店舗面積（㎡）",null,"その他の値",null,null,"主としてプラスチック製容器包装",null,null,"うち、プラスチック製の買物袋",null,null,"うち、厚手のプラスチック製の\n買物袋",null,null,"うち、海洋生分解性プラスチック製の買物袋",null,null,"うち、バイオマスプラスチック製の買物袋",null,null,"主として紙製の容器包装",null,null,"うち、紙製の袋",null,null,"主として段ボール製の容器包装",null,null,"その他の容器包装",null,null,"*12\n原単位算出の設定に係る説明","*13\n原単位設定方法を変えた理由","主としてプラスチック製容器包装",{"$nulls":10},"うち、プラスチック製の買物袋",{"$nulls":10},"うち、厚手のプラスチック製の買物袋",{"$nulls":10},"うち、海洋生分解性プラスチック製の買物袋",{"$nulls":10},"うち、バイオマスプラスチック製の買物袋",{"$nulls":10},"主として紙製容器包装",{"$nulls":10},"うち、紙製の袋",{"$nulls":10},"主として段ボール製容器包装",{"$nulls":10},"その他の容器包装",{"$nulls":10},"*15\n（イ）\nの\n理由","*16\n（ロ）\nの\n理由","*17\n目標\nの\n設定","*18  容器包装の使用の合理化",{"$nulls":21},"*17\n体制\nの\n整備","*17\n安全性\n等の\n配慮","*17\n合理化\n実施\n状況\n把握","*17\n関係者\nとの\n連携","*17\nその他の合理化実施取組"]
[{"$nulls":17},"主としてプラスチック製の容器包装\n①","うち、プラスチック製の買物袋","うち、厚手のプラスチック製の買物袋","うち、海洋生分解性プラスチック製の買物袋","うち、バイオマスプラスチック製の買物袋","主として紙製の容器包装\n①","うち、\n紙製の袋","主として段ボール製の容器包装\n①","その他の容器包装\n①",{"$nulls":3},"円\n②","対前年比(%)","㎡\n②","対前年比(%)","*8\nその他密接な関係をもつ事項","*9\n（単位）\n②","対前年比(%)","*10\n原単位を算出した分母の事項","*11\n原単位","対前年比(%)","*10\n原単位を算出した分母の事項","*11\n原単位","対前年比(%)","*10\n原単位を算出した分母の事項","*11\n原単位","対前年比(%)","*10\n原単位を算出した分母の事項","*11\n原単位","対前年比(%)","*10\n原単位を算出した分母の事項","*11\n原単位","対前年比(%)","*10\n原単位を算出した分母の事項","*11\n原単位","対前年比(%)","*10\n原単位を算出した分母の事項","*11\n原単位","対前年比(%)","*10\n原単位を算出した分母の事項","*11\n原単位","対前年比(%)","*10\n原単位を算出した分母の事項","*11\n原単位","対前年比(%)",null,null,{"$f":"BP6-365","v":42462},"年度",{"$f":"BR6-365","v":42827},"年度",{"$f":"BT6-365","v":43192},"年度",{"$f":"BV6-365","v":43557},"年度",{"$f":"AC8","v":43922},"年度","5年平均\n原単位\n変化",{"$f":"$BN$6","v":42462},"年度",{"$f":"$BP$6","v":42827},"年度",{"$f":"$BR$6","v":43192},"年度",{"$f":"$BT$6","v":43557},"年度",{"$f":"$BV$6","v":43922},"年度","5年平均\n原単位\n変化",{"$f":"$BN$6","v":42462},"年度",{"$f":"$BP$6","v":42827},"年度",{"$f":"$BR$6","v":43192},"年度",{"$f":"$BT$6","v":43557},"年度",{"$f":"$BV$6","v":43922},"年度","5年平均\n原単位\n変化",{"$f":"$BN$6","v":42462},"年度",{"$f":"$BP$6","v":42827},"年度",{"$f":"$BR$6","v":43192},"年度",{"$f":"$BT$6","v":43557},"年度",{"$f":"$BV$6","v":43922},"年度","5年平均\n原単位\n変化",{"$f":"$BN$6","v":42462},"年度",{"$f":"$BP$6","v":42827},"年度",{"$f":"$BR$6","v":43192},"年度",{"$f":"$BT$6","v":43557},"年度",{"$f":"$BV$6","v":43922},"年度","5年平均\n原単位\n変化",{"$f":"$BN$6","v":42462},"年度",{"$f":"$BP$6","v":42827},"年度",{"$f":"$BR$6","v":43192},"年度",{"$f":"$BT$6","v":43557},"年度",{"$f":"$BV$6","v":43922},"年度","5年平均\n原単位\n変化",{"$f":"$BN$6","v":42462},"年度",{"$f":"$BP$6","v":42827},"年度",{"$f":"$BR$6","v":43192},"年度",{"$f":"$BT$6","v":43557},"年度",{"$f":"$BV$6","v":43922},"年度","5年平均\n原単位\n変化",{"$f":"$BN$6","v":42462},"年度",{"$f":"$BP$6","v":42827},"年度",{"$f":"$BR$6","v":43192},"年度",{"$f":"$BT$6","v":43557},"年度",{"$f":"$BV$6","v":43922},"年度","5年平均\n原単位\n変化",{"$f":"$BN$6","v":42462},"年度",{"$f":"$BP$6","v":42827},"年度",{"$f":"$BR$6","v":43192},"年度",{"$f":"$BT$6","v":43557},"年度",{"$f":"$BV$6","v":43922},"年度","5年平均\n原単位\n変化",{"$nulls":3},"プラ製買物袋の排出抑制促進",null,"容器包装廃棄物の排出抑制促進",{"$nulls":6},"自らの過剰使用の抑制",{"$nulls":6},"情報の提供"]
[{"$nulls":65},"*14\n原単位","対前年比(%)","原単位","対前年比(%)","原単位","対前年比(%)","原単位","対前年比(%)","原単位","対前年比(%)",null,"原単位","対前年比(%)","原単位","対前年比(%)","原単位","対前年比(%)","原単位","対前年比(%)","原単位","対前年比(%)",null,"原単位","対前年比(%)","原単位","対前年比(%)","原単位","対前年比(%)","原単位","対前年比(%)","原単位","対前年比(%)",null,"原単位","対前年比(%)","原単位","対前年比(%)","原単位","対前年比(%)","原単位","対前年比(%)","原単位","対前年比(%)",null,"原単位","対前年比(%)","原単位","対前年比(%)","原単位","対前年比(%)","原単位","対前年比(%)","原単位","対前年比(%)",null,"原単位","対前年比(%)","原単位","対前年比(%)","原単位","対前年比(%)","原単位","対前年比(%)","原単位","対前年比(%)",null,"原単位","対前年比(%)","原単位","対前年比(%)","原単位","対前年比(%)","原単位","対前年比(%)","原単位","対前年比(%)",null,"原単位","対前年比(%)","原単位","対前年比(%)","原単位","対前年比(%)","原単位","対前年比(%)","原単位","対前年比(%)",null,"原単位","対前年比(%)","原単位","対前年比(%)","原単位","対前年比(%)","原単位","対前年比(%)","原単位","対前年比(%)",{"$nulls":4},"有償","*17\n内容","有償","景品","買物袋","意思確認","その他","未記入","*17\n内容","薄肉軽量","適切寸法","量売","簡易包装","その他","未記入","*17\n内容","店頭","冊子等","表示","その他","未記入","*17\n内容"]
[{"$f":"E8","v":{"$error":"#N/A"}},"－",null,"2021-04-20",{"$f":"IF(OR(F8=\"コ\",F8=\"サ\",F8=\"シ\",F8=\"ス\",F8=\"セ\",F8=\"ソ\",F8=\"タ\",F8=\"チ\",F8=\"ツ\"),\"Ｅ\",IF(F8=\"\",\"\",IF(OR(F8=\"ア\",F8=\"イ\",F8=\"ウ\",F8=\"エ\",F8=\"オ\",F8=\"カ\",F8=\"キ\",F8=\"ク\",F8=\"ケ\"),\"Ｂ\",\"他省\")))","v":{"$error":"#N/A"}},{"$f":"VLOOKUP(入力用!B10,'（隠しシート　職員限り）別記表'!A4:B21,2,FALSE)","v":{"$error":"#N/A"}},{"$f":"印刷用!L56","v":"無"},{"$f":"IF(入力用!J31=\"\",入力用!U21,入力用!U21&\"（\"&入力用!J31&\"）\")","v":"株式会社■■■"},{"$f":"印刷用!L46","v":"○○　一郎"},{"$f":"VLOOKUP(LEFT(K8,2),'（隠しシート　職員限り）別記表'!D4:E50,2,FALSE)","v":13},{"$f":"印刷用!U31&\"　\"&印刷用!U32&\"　\"&印刷用!U33","v":"東京都千代田区霞が関○番－△△　0　0"},{"$f":"ASC(入力用!P40)&\"-\"&ASC(入力用!T40)&\"-\"&ASC(入力用!Y40)","v":"00-0000-0000"},{"$f":"VLOOKUP(印刷用!L54,'（隠しシート　職員限り）別記表'!A27:B35,2,FALSE)","v":"C"},{"$f":"印刷用!L58&IF(AND(ASC(入力用!P40)=ASC(入力用!J48),ASC(入力用!T40)=ASC(入力用!T48),ASC(入力用!Y40)=ASC(入力用!Y48)),\"\",\"（\"&ASC(入力用!J48)&\"-\"&ASC(入力用!T48)&\"-\"&ASC(入力用!Y48)&\"）\")","v":"総務部　　○△　一郎（03-0000-0000）"},{"$nulls":3},{"$f":"印刷用!U68","v":{"v":0,"d":"0 "}},{"$f":"印刷用!U70","v":{"v":0,"d":"0 "}},{"$f":"印刷用!U72","v":{"v":0,"d":"0 "}},{"$f":"印刷用!U74","v":{"v":0,"d":"0 "}},{"$f":"印刷用!U76","v":0},{"$f":"印刷用!U78","v":0},{"$f":"印刷用!U80","v":0},{"$f":"印刷用!U82","v":0},{"$f":"印刷用!U84","v":0},{"$f":"印刷用!T86","v":0},{"$f":"印刷用!T88","v":""},{"$f":"印刷用!X95","v":43922},{"$f":"IF(印刷用!T96<=0,\"\",IF(入力用!Z86=\"百万円\",VALUE(印刷用!T96&\"000000\"),IF(入力用!Z86=\"万円\",VALUE(印刷用!T96&\"0000\"),IF(入力用!Z86=\"千円\",VALUE(印刷用!T96&\"000\"),IF(入力用!Z86=\"円\",印刷用!T96,\"\")))))","v":""},{"$f":"IF(印刷用!T96>0,印刷用!AE96,\"\")","v":""},{"$f":"IF(印刷用!T98>0,印刷用!T98,\"\")","v":""},{"$f":"IF(印刷用!T98>0,印刷用!AE98,\"\")","v":""},"a",{"$f":"IF(印刷用!T100>0,印刷用!T100&印刷用!AB100,\"\")","v":""},{"$f":"IF(印刷用!T100>0,印刷用!AE100,\"\")","v":""},{"$f":"IF(AL8=\"\",\"\",IF(入力用!$S$98=\"売上高\",\"a\",IF(入力用!$S$98=\"店舗面積\",\"b\",IF(AND(入力用!$S$98=\"その他\",$AH8>0),$AH8,\"AG列入力\"))))","v":""},{"$f":"印刷用!X111","v":""},{"$f":"印刷用!AF111","v":""},{"$f":"IF(AO8=\"\",\"\",IF(入力用!$S$98=\"売上高\",\"a\",IF(入力用!$S$98=\"店舗面積\",\"b\",IF(AND(入力用!$S$98=\"その他\",$AH8>0),$AH8,\"AG列入力\"))))","v":""},{"$f":"印刷用!X113","v":""},{"$f":"印刷用!AF113","v":""},{"$f":"IF(AR8=\"\",\"\",IF(入力用!$S$98=\"売上高\",\"a\",IF(入力用!$S$98=\"店舗面積\",\"b\",IF(AND(入力用!$S$98=\"その他\",$AH8>0),$AH8,\"AG列入力\"))))","v":""},{"$f":"印刷用!X115","v":""},{"$f":"印刷用!AF115","v":""},{"$f":"IF(AU8=\"\",\"\",IF(入力用!$S$98=\"売上高\",\"a\",IF(入力用!$S$98=\"店舗面積\",\"b\",IF(AND(入力用!$S$98=\"その他\",$AH8>0),$AH8,\"AG列入力\"))))","v":""},{"$f":"印刷用!X117","v":""},{"$f":"印刷用!AF117","v":""},{"$f":"IF(AX8=\"\",\"\",IF(入力用!$S$98=\"売上高\",\"a\",IF(入力用!$S$98=\"店舗面積\",\"b\",IF(AND(入力用!$S$98=\"その他\",$AH8>0),$AH8,\"AG列入力\"))))","v":""},{"$f":"印刷用!X119","v":""},{"$f":"印刷用!AF119","v":""},{"$f":"IF(BA8=\"\",\"\",IF(入力用!$S$98=\"売上高\",\"a\",IF(入力用!$S$98=\"店舗面積\",\"b\",IF(AND(入力用!$S$98=\"その他\",$AH8>0),$AH8,\"AG列入力\"))))","v":""},{"$f":"印刷用!X121","v":""},{"$f":"印刷用!AF121","v":""},{"$f":"IF(BD8=\"\",\"\",IF(入力用!$S$98=\"売上高\",\"a\",IF(入力用!$S$98=\"店舗面積\",\"b\",IF(AND(入力用!$S$98=\"その他\",$AH8>0),$AH8,\"AG列入力\"))))","v":""},{"$f":"印刷用!X123","v":""},{"$f":"印刷用!AF123","v":""},{"$f":"IF(BG8=\"\",\"\",IF(入力用!$S$98=\"売上高\",\"a\",IF(入力用!$S$98=\"店舗面積\",\"b\",IF(AND(入力用!$S$98=\"その他\",$AH8>0),$AH8,\"AG列入力\"))))","v":""},{"$f":"印刷用!X125","v":""},{"$f":"印刷用!AF125","v":""},{"$f":"IF(BJ8=\"\",\"\",IF(入力用!$S$98=\"売上高\",\"a\",IF(入力用!$S$98=\"店舗面積\",\"b\",IF(AND(入力用!$S$98=\"その他\",$AH8>0),$AH8,\"AG列入力\"))))","v":""},{"$f":"印刷用!X127","v":""},{"$f":"印刷用!AF127","v":""},{"$f":"IF(印刷用!C136=0,\"\",\"○\")","v":""},null,{"$f":"印刷用!K155","v":""},null,{"$f":"印刷用!O155","v":""},{"$f":"印刷用!O159","v":""},{"$f":"印刷用!S155","v":""},{"$f":"印刷用!S159","v":""},{"$f":"印刷用!W155","v":""},{"$f":"印刷用!W159","v":""},{"$f":"印刷用!AA155","v":""},{"$f":"印刷用!AA159","v":""},{"$f":"印刷用!AE158","v":""},{"$f":"印刷用!K163","v":""},null,{"$f":"印刷用!O163","v":""},{"$f":"印刷用!O167","v":""},{"$f":"印刷用!S163","v":""},{"$f":"印刷用!S167","v":""},{"$f":"印刷用!W163","v":""},{"$f":"印刷用!W167","v":""},{"$f":"印刷用!AA163","v":""},{"$f":"印刷用!AA167","v":""},{"$f":"印刷用!AE166","v":""},{"$f":"印刷用!K171","v":""},null,{"$f":"印刷用!O171","v":""},{"$f":"印刷用!O175","v":""},{"$f":"印刷用!S171","v":""},{"$f":"印刷用!S175","v":""},{"$f":"印刷用!W171","v":""},{"$f":"印刷用!W175","v":""},{"$f":"印刷用!AA171","v":""},{"$f":"印刷用!AA175","v":""},{"$f":"印刷用!AE174","v":""},{"$f":"印刷用!K179","v":""},null,{"$f":"印刷用!O179","v":""},{"$f":"印刷用!O183","v":""},{"$f":"印刷用!S179","v":""},{"$f":"印刷用!S183","v":""},{"$f":"印刷用!W179","v":""},{"$f":"印刷用!W183","v":""},{"$f":"印刷用!AA179","v":""},{"$f":"印刷用!AA183","v":""},{"$f":"印刷用!AE182","v":""},{"$f":"印刷用!K187","v":""},null,{"$f":"印刷用!O187","v":""},{"$f":"印刷用!O191","v":""},{"$f":"印刷用!S187","v":""},{"$f":"印刷用!S191","v":""},{"$f":"印刷用!W187","v":""},{"$f":"印刷用!W191","v":""},{"$f":"印刷用!AA187","v":""},{"$f":"印刷用!AA191","v":""},{"$f":"印刷用!AE190","v":""},{"$f":"印刷用!K195","v":""},null,{"$f":"印刷用!O195","v":""},{"$f":"印刷用!O199","v":""},{"$f":"印刷用!S195","v":""},{"$f":"印刷用!S199","v":""},{"$f":"印刷用!W195","v":""},{"$f":"印刷用!W199","v":""},{"$f":"印刷用!AA195","v":""},{"$f":"印刷用!AA199","v":""},{"$f":"印刷用!AE198","v":""},{"$f":"印刷用!K203","v":""},null,{"$f":"印刷用!O203","v":""},{"$f":"印刷用!O207","v":""},{"$f":"印刷用!S203","v":""},{"$f":"印刷用!S207","v":""},{"$f":"印刷用!W203","v":""},{"$f":"印刷用!W207","v":""},{"$f":"印刷用!AA203","v":""},{"$f":"印刷用!AA207","v":""},{"$f":"印刷用!AE206","v":""},{"$f":"印刷用!K211","v":""},null,{"$f":"印刷用!O211","v":""},{"$f":"印刷用!O215","v":""},{"$f":"印刷用!S211","v":""},{"$f":"印刷用!S215","v":""},{"$f":"印刷用!W211","v":""},{"$f":"印刷用!W215","v":""},{"$f":"印刷用!AA211","v":""},{"$f":"印刷用!AA215","v":""},{"$f":"印刷用!AE214","v":""},{"$f":"印刷用!K219","v":""},null,{"$f":"印刷用!O219","v":""},{"$f":"印刷用!O223","v":""},{"$f":"印刷用!S219","v":""},{"$f":"印刷用!S223","v":""},{"$f":"印刷用!W219","v":""},{"$f":"印刷用!W223","v":""},{"$f":"印刷用!AA219","v":""},{"$f":"印刷用!AA223","v":""},{"$f":"印刷用!AE222","v":""},{"$f":"IF(印刷用!D234>0,\"○\",\"\")","v":""},{"$f":"IF(印刷用!D251>0,\"○\",\"\")","v":""},{"$f":"IF(印刷用!J275>0,\"○\",\"\")","v":""},{"$f":"IF(印刷用!Q286=\"■\",\"○\",\"\")","v":""},{"$f":"IF(印刷用!Q290>0,\"○\",\"\")","v":""},{"$f":"IF(印刷用!Q299=\"■\",\"○\",\"\")","v":""},{"$f":"IF(印刷用!Q302=\"■\",\"○\",\"\")","v":""},{"$f":"IF(印刷用!Q304=\"■\",\"○\",\"\")","v":""},{"$f":"IF(印刷用!Q306=\"■\",\"○\",\"\")","v":""},{"$f":"IF(印刷用!Q308=\"■\",\"○\",\"\")","v":""},{"$f":"IF(AND(FN8=\"\",FO8=\"\",FP8=\"\",FQ8=\"\",FR8=\"\"),\"○\",\"\")","v":"○"},{"$f":"IF(印刷用!Q312>0,\"○\",\"\")","v":""},{"$f":"IF(印刷用!Q321=\"■\",\"○\",\"\")","v":""},{"$f":"IF(印刷用!Q323=\"■\",\"○\",\"\")","v":""},{"$f":"IF(印刷用!Q325=\"■\",\"○\",\"\")","v":""},{"$f":"IF(印刷用!Q327=\"■\",\"○\",\"\")","v":""},{"$f":"IF(印刷用!Q329=\"■\",\"○\",\"\")","v":""},{"$f":"IF(AND(FU8=\"\",FV8=\"\",FW8=\"\",FX8=\"\",FY8=\"\"),\"○\",\"\")","v":"○"},{"$f":"IF(印刷用!Q333>0,\"○\",\"\")","v":""},{"$f":"IF(印刷用!J346=\"■\",\"○\",\"\")","v":""},{"$f":"IF(印刷用!J348=\"■\",\"○\",\"\")","v":""},{"$f":"IF(印刷用!J350=\"■\",\"○\",\"\")","v":""},{"$f":"IF(印刷用!J352=\"■\",\"○\",\"\")","v":""},{"$f":"IF(AND(GB8=\"\",GC8=\"\",GD8=\"\",GE8=\"\"),\"○\",\"\")","v":"○"},{"$f":"IF(印刷用!J356>0,\"○\",\"\")","v":""},{"$f":"IF(印刷用!J367>0,\"○\",\"\")","v":""},{"$f":"IF(印刷用!J378>0,\"○\",\"\")","v":""},{"$f":"IF(印刷用!J389>0,\"○\",\"\")","v":""},{"$f":"IF(印刷用!J400>0,\"○\",\"\")","v":""},{"$f":"IF(印刷用!D417>0,\"○\",\"\")","v":""}]
[null,"－"]
[null,"－"]
[null,"－"]
[null,"－"]
[null,"－"]
[null,"－"]
[null,"－"]
[]
["　＊１：受理番号は、省庁記号－受付番号を記載する（環境省：A　経済産業省：B　財務省：C　厚生労働省：D　農林水産省：E)",{"$nulls":16}," "]
["　＊２：提出省庁は、＊１で規定した各省の記号を記載する。"]
["　＊３：提出局（経済産業省、農林水産省のみ）は、別記表１に定める記号を記載する。"]
["　＊４：都道府県番号は、ＪＩＳコード(別記表２）に定める都道府県番号を記載する。"]
["　＊５：業種は、「小売業に属する事業を行う者の容器包装の使用の合理化による容器包装廃棄物の排出の抑制の促進に関する判断基準となるべき事項を定める省令」の第1条に定める小売業の区分により、別記表３の記号を記載する。"]
[]
["　＊６：容器包装リサイクル協会(容リ協）契約番号は、容リ協の「特定事業者申込詳細一覧」の事業者コードを記載する。（この作業はできる範囲で実施。）"]
["　＊７：ファイル番号は、事業者から提出された報告書を事業者別に各省（局）で付した番号（省(*2)-局(*3)-○○○）を記載する。"]
[]
["　＊８：その他密接な関係をもつ事項は、別記表４の左欄の区分により、右欄の記号を記載する。"]
["　＊９：左欄の項目に係る当年度の値(数値)と単位を記載する。"]
["　＊1０：原単位を算出した分母の事項は、原単位を算出した容器包装を用いた量と密接な関係をもつ値の事項を別記表４の記号で記載する。"]
["　＊１１：原単位は、容器包装を用いた量（表１の①）を容器包装を用いた量と密接な関係をもつ値（第２表の②）で割った値。"]
["　＊１２：原単位算出の設定に係る説明が記載されている場合は○印を付ける。"]
["　＊１３：原単位設定方法を変えた理由が記載されている場合は○印を付ける。"]
["　＊１４：第３表で算出した原単位の値。"]
["　＊１５：過去５年間で容器包装の使用原単位が改善されない理由が記載されていた場合は○印を付ける。"]
["　＊１６：容器包装の使用原単位が前年度に比べ改善できなかった場合の理由が記載されていた場合は○印を付ける。"]
["　＊１７：具体的内容が記載されていた場合は○印を付ける。"]
["　＊１８：実施した取組内容にチェックがされている項目があればその項目に○印を記載する。また、全ての項目にチェックがされていないものは未記入欄に○印を記載する。"]

{"sheet":"（隠しシート　職員限り）別記表","index":5,"n_rows":50,"n_cols":7,"rows_kept":50,"hidden":true}
[]
["表１",null,null,"表２"]
["提出地方局","記号",null,"都道府県","県番号","経済産業局等","農政局等"]
["北海道経済産業局","ア",null,"北海",1,"北海道経済産業局","北海道農政事務所"]
["東北経済産業局","イ",null,"青森",2,"東北経済産業局","東北農政局"]
["関東経済産業局","ウ",null,"岩手",3,"東北経済産業局","東北農政局"]
["中部経済産業局","エ",null,"宮城",4,"東北経済産業局","東北農政局"]
["近畿経済産業局","オ",null,"秋田",5,"東北経済産業局","東北農政局"]
["中国経済産業局","カ",null,"山形",6,"東北経済産業局","東北農政局"]
["四国経済産業局","キ",null,"福島",7,"東北経済産業局","東北農政局"]
["九州経済産業局","ク",null,"茨城",8,"関東経済産業局","関東農政局"]
["沖縄総合事務局経済産業部","ケ",null,"栃木",9,"関東経済産業局","関東農政局"]
["北海道農政事務所","コ",null,"群馬",10,"関東経済産業局","関東農政局"]
["東北農政局","サ",null,"埼玉",11,"関東経済産業局","関東農政局"]
["関東農政局","シ",null,"千葉",12,"関東経済産業局","関東農政局"]
["北陸農政局","ス",null,"東京",13,"関東経済産業局","関東農政局"]
["東海農政局","セ",null,"神奈",14,"関東経済産業局","関東農政局"]
["近畿農政局","ソ",null,"新潟",15,"関東経済産業局","北陸農政局"]
["中国四国農政局","タ",null,"富山",16,"中部経済産業局","北陸農政局"]
["九州農政局","チ",null,"石川",17,"中部経済産業局","北陸農政局"]
["沖縄総合事務局農林水産部","ツ",null,"福井",18,"近畿経済産業局","北陸農政局"]
[{"$nulls":3},"山梨",19,"関東経済産業局","関東農政局"]
[{"$nulls":3},"長野",20,"関東経済産業局","関東農政局"]
[{"$nulls":3},"岐阜",21,"中部経済産業局","東海農政局"]
["表３",null,null,"静岡",22,"関東経済産業局","関東農政局"]
["業種","記号",null,"愛知",23,"中部経済産業局","東海農政局"]
["各種商品小売業","A",null,"三重",24,"中部経済産業局","東海農政局"]
["織物・衣服・身の回り品小売業","B",null,"滋賀",25,"近畿経済産業局","近畿農政局"]
["飲食料品小売業","C",null,"京都",26,"近畿経済産業局","近畿農政局"]
["自動車部分品・附属品小売業","D",null,"大阪",27,"近畿経済産業局","近畿農政局"]
["家具・じゅう器・機械器具小売業","E",null,"兵庫",28,"近畿経済産業局","近畿農政局"]
["医薬品・化粧品小売業","F",null,"奈良",29,"近畿経済産業局","近畿農政局"]
["書籍・文房具小売業","G",null,"和歌",30,"近畿経済産業局","近畿農政局"]
["スポーツ用品・がん具・娯楽用品・楽器小売業","H",null,"鳥取",31,"中国経済産業局","中国四国農政局"]
["たばこ・喫煙具専門小売業","I",null,"島根",32,"中国経済産業局","中国四国農政局"]
[{"$nulls":3},"岡山",33,"中国経済産業局","中国四国農政局"]
[{"$nulls":3},"広島",34,"中国経済産業局","中国四国農政局"]
[{"$nulls":3},"山口",35,"中国経済産業局","中国四国農政局"]
["表４",null,null,"徳島",36,"四国経済産業局","中国四国農政局"]
["容器包装を用いた量と密接な関係をもつ値の項目","記号",null,"香川",37,"四国経済産業局","中国四国農政局"]
["売上高","ａ",null,"愛媛",38,"四国経済産業局","中国四国農政局"]
["店舗面積","ｂ",null,"高知",39,"四国経済産業局","中国四国農政局"]
["来店顧客数","ｃ",null,"福岡",40,"九州経済産業局","九州農政局"]
["宅配・配送顧客数","ｄ",null,"佐賀",41,"九州経済産業局","九州農政局"]
["販売商品個数","e",null,"長崎",42,"九州経済産業局","九州農政局"]
["営業時間","ｆ",null,"熊本",43,"九州経済産業局","九州農政局"]
["顧客単価別来客数","ｇ",null,"大分",44,"九州経済産業局","九州農政局"]
["売上高、店舗面積及び上記の値を組み合わせた計算式","ｈ",null,"宮崎",45,"九州経済産業局","九州農政局"]
["その他の値","ｉ",null,"鹿児",46,"九州経済産業局","九州農政局"]
["未記載","ｊ",null,"沖縄",47,"沖縄総合事務局経済産業部","沖縄総合事務局農林水産部"]