Workbook

Sheet 表1
A1: 表1
A2: Regulation (EC) No 1333/2008のArticle 18(1)(a)に規定されているキャリーオーバー原則が適用されず、添加物の存在が認められない可能性のある食品
A3: 1 | B3: Regulation (EC) No 853/2004で定義されている肉製品を除く、Regulation (EC) No1333/2008のArticle 3に定義されている未加工の食品
A4: 2 | B4: Council Directive 2001/110/ EC（1）で定義されているハチミツ
A5: 3 | B5: 動物または植物由来の非乳化油脂
A6: 4 | B6: バター
A7: 5 | B7: 無香料殺菌および滅菌（UHTを含む）乳および無香料殺菌プレーン・クリーム（低脂肪クリームを除く）
A8: 6 | B8: 発酵後に加熱処理されていない無香料発酵乳製品
A9: 7 | B9: 無香料バターミルク（滅菌バターミルクを除く）
A10: 8 | B10: 欧州議会および欧州理事会のDirective 2009/54/EC(2)に定義されている天然ミネラル水、湧水、その他すべてのボトル入りまたはパック入りの水
A11: 9 | B11: コーヒー（香料入りインスタント・コーヒーを除く）およびコーヒー抽出物
A12: 10 | B12: 無香料リーフ・ティー
A13: 11 | B13: 欧州理事会のDirective 2001/111/EC(3)で定義されている糖類
A14: 12 | B14: 欧州議会および欧州理事会のDirective 2009/39/ECに準拠した、グルテンフリーおよび／または低タンパク食用のパスタを除く乾燥パスタ(4)
A15: 13 | B15: Regulation (EU) No 609/2013 (5)で言及されている乳幼児向け食品（乳幼児向けの特別な医療目的の食品を含む）
A16: (1) OJ L 10、2002年1月12日付、47頁 (2) OJ L 164、2009年6月26日付、45頁 (3) OJ L 10、2002年1月12日付、53頁 (4) OJ L 124、2009年5月20日付、21頁 (5) 乳幼児向け食品、特別医療目的食品および体重管理用完全食事の置換に関する2013年6月12日の欧州議会および理事会のRegulation (EU) No 609/2013と廃止されたCouncil Directive 92/52/EEC、欧州委員会Direcitve 96/8/EC、1999/21/EC、2006/125/ECおよび2006/141/EC、欧州議会および理事会および委員会Regulation (EC) No 41/2009および(EC) No 953/2009（OJ L 181、29.6.2013、p.35）

Sheet 表2
A1: 表2
A2: Regulation (EC) No 1333/2008のArticle 18(1)(a)に規定されているキャリーオーバーの原則が適用されず、食品用着色料の存在が認められない可能性のある食品
A3: 1 | B3: Regulation (EC) No 1333/2008のArticle 3に定義されている未加工の食品
A4: 2 | B4: すべてのボトル入りまたはパック入りの水
A5: 3 | B5: ミルク、フル・ファット、セミスキム、スキム・ミルク、殺菌または滅菌（UHT殺菌を含む）（無香料）
A6: 4 | B6: チョコレート・ミルク
A7: 5 | B7: 発酵乳（無香料）
A8: 6 | B8: 欧州理事会のDirective 2001/114/EC(1)で定義されている保存乳（無香料）
A9: 7 | B9: バターミルク（無香料）
A10: 8 | B10: クリームおよびクリーム・パウダー（無香料）
A11: 9 | B11: 動物性または植物性の油脂類
A12: 10 | B12: 熟成および未熟成のチーズ（無香料）
A13: 11 | B13: 羊および山羊の乳から作られるバター
A14: 12 | B14: Regulation (EC) No 853/2004で定義されている卵および卵製品
... A34: 32 | B34: 麦芽および麦芽製品
A35: (1) OJ L 15、2002年1月17日付、19頁 (2) OJ L 10、2002年1月12日付、58頁 (3) OJ L 10、2002年1月12日付、67頁 (4) OJ L 197、2000年8月3日付、19頁 (5) OJ L 299、2007年11月16日付、1頁 (6) OJ L 39、2008年2月13日付、16頁 (7) OJ L 149、1991年6月14日付、1頁

Sheet 表３
A1: 表３
A2: レーキの形で使用可能な着色料
A3: E番号 | B3: 名称
A4: E 100 | B4: クルクミン
A5: E 101 | B5: リボフラビン
A6: E 102 | B6: タートラジン
A7: E 104 | B7: キノリン・イエロー
A8: E 110 | B8: サンセット イエロー/オレンジ イエローS
A9: E 120 | B9: カルミン酸、カルミン
A10: E 122 | B10: アゾルビン、カルモイシン
A11: E 123 | B11: アマランス
A12: E 124 | B12: ポンソー4R、コチニール・レッドA
A13: E 127 | B13: エリスロシン
A14: E 129 | B14: アルーラレッドAC
... A23: E 180 | B23: リソールルビンBK

Sheet パートB着色料
A1: パートB
A2: 添加物一覧
A3: 1. 着色料
B4: E番号 | C4: 名称
B5: E 100 | C5: クルクミン
B6: E 101 | C6: リボフラビン
B7: E 102 | C7: タートラジン
B8: E 104 | C8: キノリン・イエロー
B9: E 110 | C9: サンセット・イエローFCF／オレンジ・イエローS
B10: E 120 | C10: カルミン酸、カルミン類
B11: E 122 | C11: アゾルビン、カルモイジン
B12: E 123 | C12: アマランス
B13: E 124 | C13: ポンソー4R、コチニール・レッドA
B14: E 127 | C14: エリスロシン
B15: E 129 | C15: アルーラレッドAC
... B45: E 180 | C45: リソールルビンBK
B46: (1) カラメルという用語は、着色を目的とした、やや濃い褐色の製品に関するものです。これには、砂糖を加熱して得られる、食品（菓子、ペストリー、アルコール飲料など）の調味加工に使用される甘い芳香製品は該当しません。
B47: (*) カンタキサンチンは、パートDおよびEに記載されている食品カテゴリーでは認可されていません。この物質は、欧州議会および理事会のDirective 2009/35/EC（OJ L 109、2009年4月30日付、10頁）に基づいて医薬品に使用されているため、リストB1に記載されています。

Sheet パートB甘味料
A1: 2. 甘味料
B2: E番号 | C2: 名称
B3: E 420 | C3: ソルビトール
B4: E 421 | C4: マンニトール
B5: E 950 | C5: アセスルファムK
B6: E 951 | C6: アスパルテーム
B7: E 952 | C7: サイクラミン酸塩
B8: E 953 | C8: イソマルト
B9: E 954 | C9: サッカリン
B10: E 955 | C10: スクラロース
B11: E 957 | C11: タウマチン
B12: E 959 | C12: ネオヘスペリジンDC
B13: Ē 960a | C13: ステビア由来のステビオール配糖体
... B22: E 969 | C22: アドバンテーム

Sheet パートB着色料・甘味料以外
A1: 3. 着色料および甘味料以外の添加物
B2: E番号 | C2: 名称
B3: E 170 | C3: 炭酸カルシウム
B4: E 172 | C4: 酸化鉄類と水酸化鉄類
B5: E 200 | C5: ソルビン酸
B6: E 202 | C6: ソルビン酸カリウム
B7: E 210 | C7: 安息香酸(1)
B8: E 211 | C8: 安息香酸ナトリウム(1)
B9: E 212 | C9: 安息香酸カリウム(1)
B10: E 213 | C10: 安息香酸カルシウム(1)
B11: E 214 | C11: パラオキシ安息香酸エチル
B12: E 215 | C12: パラオキシ安息香酸エチル・ナトリウム
B13: E 218 | C13: パラオキシ安息香酸メチル
... B276: E 1521 | C276: ポリエチレングリコール
B277: (1) 安息香酸は、適正製造規範に従った発酵過程で生産される特定の発酵製品に含まれることがあります。 (2) 2014年1月31日まで承認。 (3) 2013年5月31日まで承認。 (4) 適用期間：2013年2月6日から

Sheet グループⅰ
A1: パートC
A2: 添加物群の定義
A3: (1) グループI
B4: E番号 | C4: 名称 | D4: 具体的な上限値
B5: E 170 | C5: 炭酸カルシウム | D5: 適正製造規範（必要最小量）
B6: E 260 | C6: 酢酸 | D6: 適正製造規範（必要最小量）
B7: E 261 | C7: 酢酸カリウム類(4) | D7: 適正製造規範（必要最小量）
B8: E 262 | C8: 酢酸ナトリウム | D8: 適正製造規範（必要最小量）
B9: E 263 | C9: 酢酸カルシウム | D9: 適正製造規範（必要最小量）
B10: E 270 | C10: 乳酸 | D10: 適正製造規範（必要最小量）
B11: E 290 | C11: 二酸化炭素 | D11: 適正製造規範（必要最小量）
B12: E 296 | C12: リンゴ酸 | D12: 適正製造規範（必要最小量）
B13: E 300 | C13: アスコルビン酸 | D13: 適正製造規範（必要最小量）
B14: E 301 | C14: アスコルビン酸ナトリウム | D14: 適正製造規範（必要最小量）
B15: E 302 | C15: アスコルビン酸カルシウム | D15: 適正製造規範（必要最小量）
... B54: E 425 | C54: コンニャク | D54: 10 g/kg（個別にまたは組み合わせて）(1)(2) (3)
C55: (i) こんにゃくガム
C56: (ii) こんにゃくグルコマンナン
B57: E 426 | C57: 大豆ヘミセルロース | D57: 適正製造規範（必要最小量）
B58: E 440 | C58: ペクチン | D58: 適正製造規範（必要最小量）(1)
B59: E 460 | C59: セルロース | D59: 適正製造規範（必要最小量）
B60: E 461 | C60: メチル・セルロース | D60: 適正製造規範（必要最小量）
B61: E 462 | C61: エチル・セルロース | D61: 適正製造規範（必要最小量）
B62: E 463 | C62: ヒドロキシプロピル・セルロース | D62: 適正製造規範（必要最小量）
B63: E 464 | C63: ヒドロキシプロピル・メチル・セルロース | D63: 適正製造規範（必要最小量）
B64: E 465 | C64: エチル・メチル・セルロース | D64: 適正製造規範（必要最小量）
B65: E 466 | C65: カルボキシ・メチル・セルロースナトリウム、セルロースガム | D65: 適正製造規範（必要最小量）
B66: E 469 | C66: 酵素分解カルボキシ・メチル・セルロース | D66: 適正製造規範（必要最小量）
B67: E 470a | C67: 脂肪酸ナトリウム／カリウム／カルシウム塩 | D67: 適正製造規範（必要最小量）
B68: E 470b | C68: 脂肪酸マグネシウム塩 | D68: 適正製造規範（必要最小量）
... B122: E 620 | C122: グルタミン酸 | D122: 10 g/kg（個別にまたは組み合わせて）、グルタミン酸として表示されます。
B123: E 621 | C123: グルタミン酸一ナトリウム
B124: E 622 | C124: グルタミン酸一カリウム
B125: E 623 | C125: グルタミン酸カルシウム
B126: E 624 | C126: グルタミン酸一アンモニウム
B127: E 625 | C127: グルタミン酸マグネシウム
B128: E 626 | C128: グアニル酸 | D128: 500 mg/kg（個別にまたは組み合わせて）、グルタミン酸として表示されます。
B129: E 627 | C129: グアニル酸二ナトリウム
B130: E 628 | C130: グアニル酸二カリウム
B131: E 629 | C131: グアニル酸カルシウム
B132: E 630 | C132: イノシン酸
B133: E 631 | C133: イノシン酸二ナトリウム
B134: E 632 | C134: イノシン酸二カリウム
B135: E 633 | C135: イノシン酸カルシウム
B136: E 634 | C136: 5'-リボヌクレオチド・カルシウム
B137: E 635 | C137: 5'-リボヌクレオチド・二ナトリウム
B138: E 420 | C138: ソルビトール | D138: 適正製造規範（甘味以外の目的）
B139: E 421 | C139: マンニトール
B140: E 953 | C140: イソマルト
B141: E 965 | C141: マルチトール
B142: E 966 | C142: ラクチトール
B143: E 967 | C143: キシリトール
B144: E 968 | C144: エリスリトール
B145: (1) ミニカップ・ゼリーには使用できません。 (2) 摂取時の再水和を目的とした乾燥保存食品の製造には使用できません。 (3) ゼリー菓子には使用できません。 (4) 適用期間：2013年２月６日より

Sheet グループⅡ
A1: (2) グループII：適正製造規範（必要最小量）で認可された食品着色料
B2: E番号 | C2: 名称
B3: E 101 | C3: リボフラビン
B4: E 140 | C4: クロロフィルおよびクロロフィリン
B5: E 141 | C5: クロロフィルおよびクロロフィリンの銅錯体
B6: E 150a | C6: プレーン・カラメル色素
B7: E 150b | C7: カラメル色素II
B8: E 150c | C8: カラメル色素III
B9: E 150d | C9: カラメル色素IV
B10: E 153 | C10: 植物炭末色素
B11: E 160a | C11: カロチン
B12: E 160c | C12: パプリカ抽出物、カプサンチン、カプソルビン
B13: E 162 | C13: ビート・ルート・レッド、ベタニン
... B17: E 172 | C17: 酸化鉄および水酸化物

Sheet グループⅢ
A1: (3) グループIII：組み合わせで最大量の制限がある着色料
B2: E番号 | C2: 名称
B3: E 100 | C3: クルクミン
B4: E 102 | C4: タートラジン
B5: E 120 | C5: カルミン酸、カルミン類
B6: E 122 | C6: アゾルビン、カルモイジン
B7: E 129 | C7: アルーラレッドAC
B8: E 131 | C8: パテント・ブルーV
B9: E 132 | C9: インジゴチン、インジゴ・カルミン
B10: E 133 | C10: ブリリアント・ブルーFCF
B11: E 142 | C11: グリーンS
B12: E 151 | C12: ブリリアントブラックPN
B13: E 155 | C13: ブラウンHT
... B15: E 161b | C15: ルテイン

Sheet グループⅣ
A1: (4) グループIV：ポリオール
B2: E番号 | C2: 名称
B3: E 420 | C3: ソルビトール
B4: E 421 | C4: マンニトール
B5: E 953 | C5: イソマルト
B6: E 965 | C6: マルチトール
B7: E 966 | C7: ラクチトール
B8: E 967 | C8: キシリトール
B9: E 968 | C9: エリスリトール

Sheet 組合せ制限
A1: (5) 組み合わせて使用されることで規制される可能性のあるその他の添加物
B2: (a) E 200–202：ソルビン酸 — ソルビン酸カリウム（SA）
B3: E番号 | C3: 名称
B4: E 200 | C4: ソルビン酸
B5: E 202 | C5: ソルビン酸カリウム
B7: (b) E 210–213：安息香酸 — 安息香酸塩（BA）
B8: E番号 | C8: 名称
B9: E 210 | C9: 安息香酸
B10: E 211 | C10: 安息香酸ナトリウム
B11: E 212 | C11: 安息香酸カリウム
B12: E 213 | C12: 安息香酸カルシウム
B14: (c) E 200–213：ソルビン酸 — ソルビン酸塩、安息香酸 — 安息香酸塩（SA + BA）
B15: E番号 | C15: 名称
B16: E 200 | C16: ソルビン酸
B17: E 202 | C17: ソルビン酸カリウム
B18: E 210 | C18: 安息香酸
B19: E 211 | C19: 安息香酸ナトリウム
B20: E 212 | C20: 安息香酸カリウム
B21: E 213 | C21: 安息香酸カルシウム
B23: (d) E 200–219：ソルビン酸 — ソルビン酸塩、安息香酸 — 安息香酸塩、p-ヒドロキシ安息香酸塩（SA + BA + PHB）
B24: E番号 | C24: 名称
B25: E 200 | C25: ソルビン酸
B26: E 202 | C26: ソルビン酸カリウム
B27: E 210 | C27: 安息香酸
B28: E 211 | C28: 安息香酸ナトリウム
B29: E 212 | C29: 安息香酸カリウム
B30: E 213 | C30: 安息香酸カルシウム
B31: E 214 | C31: パラオキシ安息香酸エチル
B32: E 215 | C32: パラオキシ安息香酸エチル・ナトリウム
B33: E 218 | C33: パラオキシ安息香酸メチル
B34: E 219 | C34: パラオキシ安息香酸メチル・ナトリウム
B36: (e) E 200–202；214–219：ソルビン酸 — ソルビン酸カリウム（SA）、p-ヒドロキシ安息香酸塩（SA + PHB）
B37: E番号 | C37: 名称
B38: E 200 | C38: ソルビン酸
B39: E 202 | C39: ソルビン酸カリウム
B40: E 214 | C40: パラオキシ安息香酸エチル
B41: E 215 | C41: パラオキシ安息香酸エチル・ナトリウム
B42: E 218 | C42: パラオキシ安息香酸メチル
B43: E 219 | C43: パラオキシ安息香酸メチル・ナトリウム
B45: (f) E 214–219：p-ヒドロキシ安息香酸塩（PHB）
B46: E番号 | C46: 名称
B47: E 214 | C47: パラオキシ安息香酸エチル
B48: E 215 | C48: パラオキシ安息香酸エチル・ナトリウム
B49: E 218 | C49: パラオキシ安息香酸メチル
B50: E 219 | C50: パラオキシ安息香酸メチル・ナトリウム
B52: (g) E 220–228：二酸化硫黄 — 亜硫酸塩
B53: E番号 | C53: 名称
B54: E 220 | C54: 二酸化硫黄
B55: E 221 | C55: 亜硫酸ナトリウム
B56: E 222 | C56: 亜硫酸水素ナトリウム
B57: E 223 | C57: メタ重亜硫酸ナトリウム
B58: E 224 | C58: メタ重亜硫酸カリウム
B59: E 226 | C59: 亜硫酸カルシウム
B60: E 227 | C60: 亜硫酸水素カルシウム
B61: E 228 | C61: 亜硫酸水素カリウム
B63: (h) E 249–250：亜硝酸塩
B64: E番号 | C64: 名称
B65: E 249 | C65: 亜硝酸カリウム
B66: E 250 | C66: 亜硝酸ナトリウム
B68: (i) E 251–252：硝酸塩
B69: E番号 | C69: 名称
B70: E 251 | C70: 硝酸ナトリウム
B71: E 252 | C71: 硝酸カリウム
B73: (j) E 280–283：プロピオン酸 — プロピオン酸塩
B74: E番号 | C74: 名称
B75: E 280 | C75: プロピオン酸
B76: E 281 | C76: プロピオン酸ナトリウム
B77: E 282 | C77: プロピオン酸カルシウム
B78: E 283 | C78: プロピオン酸カリウム
B80: (k) E 310–320：没食子酸、TBHQ、およびBHA
B81: E番号 | C81: 名称
B82: E 310 | C82: 没食子酸プロピル
B83: E 319 | C83: 第三ブチルヒドロキノン（TBHQ）
B84: E 320 | C84: ブチルヒドロキシアニソール（BHA）
B86: (l) E 338–341、E 343、およびE 450 — 452：リン酸 — リン酸塩 — ジ／トリ・ポリリン酸塩
B87: E番号 | C87: 名称
B88: E 338 | C88: リン酸
B89: E 339 | C89: リン酸ナトリウム
B90: E 340 | C90: リン酸カリウム
B91: E 341 | C91: リン酸カルシウム
B92: E 343 | C92: リン酸マグネシウム
B93: E 450 | C93: 二リン酸塩(1)
B94: E 451 | C94: 三リン酸塩
B95: E 452 | C95: ポリリン酸塩
B96: (1) E 450(ix)は含まれない
B98: (m) E 355–357：アジピン酸 — アジピン酸塩
B99: E番号 | C99: 名称
B100: E 355 | C100: アジピン酸
B101: E 356 | C101: アジピン酸ナトリウム
B102: E 357 | C102: アジピン酸カリウム
B104: (n) E 432–436：ポリソルベート
B105: E番号 | C105: 名称
B106: E 432 | C106: ポリオキシエチレン・ソルビタン・モノラウレート（ポリソルベート20）
B107: E 433 | C107: ポリオキシエチレン・ソルビタン・モノオレート（ポリソルベート80）
B108: E 434 | C108: ポリオキシエチレン・ソルビタン・モノパルミテート（ポリソルベート40）
B109: E 435 | C109: ポリオキシエチレン・ソルビタン・モノステアレート（ポリソルベート60）
B110: E 436 | C110: ポリオキシエチレン・ソルビタン・トリステアレート（ポリソルベート65）
B112: (o) E 473–474：ショ糖脂肪酸エステル、スクログリセリド
B113: E番号 | C113: 名称
B114: E 473 | C114: ショ糖脂肪酸エステル
...

Sheet 結合
D2: 食品添加物名称 | E2: Part C | I2: 組み合わせ使用制限
B3: カテゴリー | C3: E番号 | E3: グループⅰ | F3: グループⅱ | G3: グループⅲ | H3: グループⅳ
B4: 1．着色料 | C4: E 100 | D4: クルクミン | E4: =IF(COUNTIF(グループⅰ!$C$5:$C$144,D4)=0,"","○") | F4: =IF(COUNTIF(グループⅡ!$C$3:$C$17,$D4)=0,"","○") | G4: =IF(COUNTIF(グループⅢ!$C$3:$C$18,$D4)=0,"","○") -> ○ | H4: =IF(COUNTIF(グループⅣ!$C$3:$C$9,$D4)=0,"","○") | I4: =IF(ISERROR(VLOOKUP(C4,組合せ制限!$B$2:$C$180,1,0)),"","○")
B5: 1．着色料 | C5: E 101 | D5: リボフラビン | E5: =IF(COUNTIF(グループⅰ!$C$5:$C$144,D5)=0,"","○") | F5: =IF(COUNTIF(グループⅡ!$C$3:$C$17,$D5)=0,"","○") -> ○ | G5: =IF(COUNTIF(グループⅢ!$C$3:$C$18,$D5)=0,"","○") | H5: =IF(COUNTIF(グループⅣ!$C$3:$C$9,$D5)=0,"","○") | I5: =IF(ISERROR(VLOOKUP(C5,組合せ制限!$B$2:$C$180,1,0)),"","○")
B6: 1．着色料 | C6: E 102 | D6: タートラジン | E6: =IF(COUNTIF(グループⅰ!$C$5:$C$144,D6)=0,"","○") | F6: =IF(COUNTIF(グループⅡ!$C$3:$C$17,$D6)=0,"","○") | G6: =IF(COUNTIF(グループⅢ!$C$3:$C$18,$D6)=0,"","○") -> ○ | H6: =IF(COUNTIF(グループⅣ!$C$3:$C$9,$D6)=0,"","○") | I6: =IF(ISERROR(VLOOKUP(C6,組合せ制限!$B$2:$C$180,1,0)),"","○")
B7: 1．着色料 | C7: E 104 | D7: キノリン・イエロー | E7: =IF(COUNTIF(グループⅰ!$C$5:$C$144,D7)=0,"","○") | F7: =IF(COUNTIF(グループⅡ!$C$3:$C$17,$D7)=0,"","○") | G7: =IF(COUNTIF(グループⅢ!$C$3:$C$18,$D7)=0,"","○") | H7: =IF(COUNTIF(グループⅣ!$C$3:$C$9,$D7)=0,"","○") | I7: =IF(ISERROR(VLOOKUP(C7,組合せ制限!$B$2:$C$180,1,0)),"","○")
B8: 1．着色料 | C8: E 110 | D8: サンセット・イエローFCF／オレンジ・イエローS | E8: =IF(COUNTIF(グループⅰ!$C$5:$C$144,D8)=0,"","○") | F8: =IF(COUNTIF(グループⅡ!$C$3:$C$17,$D8)=0,"","○") | G8: =IF(COUNTIF(グループⅢ!$C$3:$C$18,$D8)=0,"","○") | H8: =IF(COUNTIF(グループⅣ!$C$3:$C$9,$D8)=0,"","○") | I8: =IF(ISERROR(VLOOKUP(C8,組合せ制限!$B$2:$C$180,1,0)),"","○")
B9: 1．着色料 | C9: E 120 | D9: カルミン酸、カルミン類 | E9: =IF(COUNTIF(グループⅰ!$C$5:$C$144,D9)=0,"","○") | F9: =IF(COUNTIF(グループⅡ!$C$3:$C$17,$D9)=0,"","○") | G9: =IF(COUNTIF(グループⅢ!$C$3:$C$18,$D9)=0,"","○") -> ○ | H9: =IF(COUNTIF(グループⅣ!$C$3:$C$9,$D9)=0,"","○") | I9: =IF(ISERROR(VLOOKUP(C9,組合せ制限!$B$2:$C$180,1,0)),"","○")
B10: 1．着色料 | C10: E 122 | D10: アゾルビン、カルモイジン | E10: =IF(COUNTIF(グループⅰ!$C$5:$C$144,D10)=0,"","○") | F10: =IF(COUNTIF(グループⅡ!$C$3:$C$17,$D10)=0,"","○") | G10: =IF(COUNTIF(グループⅢ!$C$3:$C$18,$D10)=0,"","○") -> ○ | H10: =IF(COUNTIF(グループⅣ!$C$3:$C$9,$D10)=0,"","○") | I10: =IF(ISERROR(VLOOKUP(C10,組合せ制限!$B$2:$C$180,1,0)),"","○")
B11: 1．着色料 | C11: E 123 | D11: アマランス | E11: =IF(COUNTIF(グループⅰ!$C$5:$C$144,D11)=0,"","○") | F11: =IF(COUNTIF(グループⅡ!$C$3:$C$17,$D11)=0,"","○") | G11: =IF(COUNTIF(グループⅢ!$C$3:$C$18,$D11)=0,"","○") | H11: =IF(COUNTIF(グループⅣ!$C$3:$C$9,$D11)=0,"","○") | I11: =IF(ISERROR(VLOOKUP(C11,組合せ制限!$B$2:$C$180,1,0)),"","○")
B12: 1．着色料 | C12: E 124 | D12: ポンソー4R、コチニール・レッドA | E12: =IF(COUNTIF(グループⅰ!$C$5:$C$144,D12)=0,"","○") | F12: =IF(COUNTIF(グループⅡ!$C$3:$C$17,$D12)=0,"","○") | G12: =IF(COUNTIF(グループⅢ!$C$3:$C$18,$D12)=0,"","○") | H12: =IF(COUNTIF(グループⅣ!$C$3:$C$9,$D12)=0,"","○") | I12: =IF(ISERROR(VLOOKUP(C12,組合せ制限!$B$2:$C$180,1,0)),"","○")
B13: 1．着色料 | C13: E 127 | D13: エリスロシン | E13: =IF(COUNTIF(グループⅰ!$C$5:$C$144,D13)=0,"","○") | F13: =IF(COUNTIF(グループⅡ!$C$3:$C$17,$D13)=0,"","○") | G13: =IF(COUNTIF(グループⅢ!$C$3:$C$18,$D13)=0,"","○") | H13: =IF(COUNTIF(グループⅣ!$C$3:$C$9,$D13)=0,"","○") | I13: =IF(ISERROR(VLOOKUP(C13,組合せ制限!$B$2:$C$180,1,0)),"","○")
B14: 1．着色料 | C14: E 129 | D14: アルーラレッドAC | E14: =IF(COUNTIF(グループⅰ!$C$5:$C$144,D14)=0,"","○") | F14: =IF(COUNTIF(グループⅡ!$C$3:$C$17,$D14)=0,"","○") | G14: =IF(COUNTIF(グループⅢ!$C$3:$C$18,$D14)=0,"","○") -> ○ | H14: =IF(COUNTIF(グループⅣ!$C$3:$C$9,$D14)=0,"","○") | I14: =IF(ISERROR(VLOOKUP(C14,組合せ制限!$B$2:$C$180,1,0)),"","○")
B15: 1．着色料 | C15: E 131 | D15: パテント・ブルーV | E15: =IF(COUNTIF(グループⅰ!$C$5:$C$144,D15)=0,"","○") | F15: =IF(COUNTIF(グループⅡ!$C$3:$C$17,$D15)=0,"","○") | G15: =IF(COUNTIF(グループⅢ!$C$3:$C$18,$D15)=0,"","○") -> ○ | H15: =IF(COUNTIF(グループⅣ!$C$3:$C$9,$D15)=0,"","○") | I15: =IF(ISERROR(VLOOKUP(C15,組合せ制限!$B$2:$C$180,1,0)),"","○")
... B338: 3．着色料・甘味料以外 | C338: E 1521 | D338: ポリエチレングリコール | E338: =IF(COUNTIF(グループⅰ!$C$5:$C$144,D338)=0,"","○") | F338: =IF(COUNTIF(グループⅡ!$C$3:$C$17,$D338)=0,"","○") | G338: =IF(COUNTIF(グループⅢ!$C$3:$C$18,$D338)=0,"","○") | H338: =IF(COUNTIF(グループⅣ!$C$3:$C$9,$D338)=0,"","○") | I338: =IF(ISERROR(VLOOKUP(C338,組合せ制限!$B$2:$C$180,1,0)),"","○")
