Workbook

Sheet 入力・結果シート
A1: 記入事項 | B1: 緑セルは入力、青セルは選択してください。 | E1: 経皮吸収率
A2: 農薬の種類 | E2: 原液等(デフォルト） | I2: =VLOOKUP(H2,単位暴露量・経皮吸収率!A13:D15,4,FALSE) -> #N/A | Q2: 製剤の形態
A3: 農薬の名称 | E3: 原液等（試験結果） | Q3: 固体
A4: 製剤の形態 | E4: 希釈液（デフォルト） | I4: =VLOOKUP(H4,単位暴露量・経皮吸収率!A16:D17,4,FALSE) -> #N/A | Q4: 液体
A5: 評価対象有効成分名 | E5: 希釈液（試験結果）
A6: 有効成分濃度 | E6: 希釈液（試験結果）
A7: AAOEL | C7: mg/kg 体重 | E7: 希釈液（試験結果）
A8: 体重 | B8: 55.1 | C8: kg | E8: 希釈液（試験結果）
E9: 希釈液（試験結果）
I11: 調製時 | K11: 施用時 | M11: 暴露量
A12: 作物名 | B12: 括弧内 | C12: 使用方法 | D12: 希釈倍数 | E12: 使用量/使用液量 | F12: 種子/種いも当たり使用量 | G12: 単位暴露量 （調製時） | H12: 単位暴露量 （施用時） | I12: 経皮 吸収率 | J12: 防護装備 | K12: 経皮 吸収率 | L12: 防護装備 | M12: 急性 μg/kg体重 | N12: %AAOEL | O12: 備考
G13: 希釈なし | H13: － | I13: =IF($I$3="",$I$2,$I$3) -> #N/A | J13: 不浸透性手袋/マスク１ | K13: =IF($I$5="",$I$4, IF(D13<=$H$5,$I$5, IF(D13<=$H$6,$I$6, IF(D13<=$H$7,$I$7, IF(D13<=$H$8,$I$8, IF(D13<=$H$9,$I$9,$I$4)))))) -> #N/A | L13: 長ズボン・長袖の作業衣/不浸透性手袋/マスク１ | M13: =ROUND(計算シート_急性!AD4,-INT(LOG10(計算シート_急性!AD4))+2) -> #N/A | N13: =ROUND(計算シート_急性!AG4,-INT(LOG10(計算シート_急性!AG4))+2) -> #N/A
G14: 希釈なし | H14: － | I14: =IF($I$3="",$I$2,$I$3) -> #N/A | J14: 不浸透性手袋/マスク１ | K14: =IF($I$5="",$I$4, IF(D14<=$H$5,$I$5, IF(D14<=$H$6,$I$6, IF(D14<=$H$7,$I$7, IF(D14<=$H$8,$I$8, IF(D14<=$H$9,$I$9,$I$4)))))) -> #N/A | L14: 長ズボン・長袖の作業衣/不浸透性手袋/マスク１ | M14: =ROUND(計算シート_急性!AD5,-INT(LOG10(計算シート_急性!AD5))+2) -> #N/A | N14: =ROUND(計算シート_急性!AG5,-INT(LOG10(計算シート_急性!AG5))+2) -> #N/A
G15: 希釈なし | H15: － | I15: =IF($I$3="",$I$2,$I$3) -> #N/A | J15: 不浸透性手袋/マスク１ | K15: =IF($I$5="",$I$4, IF(D15<=$H$5,$I$5, IF(D15<=$H$6,$I$6, IF(D15<=$H$7,$I$7, IF(D15<=$H$8,$I$8, IF(D15<=$H$9,$I$9,$I$4)))))) -> #N/A | L15: 長ズボン・長袖の作業衣/不浸透性手袋/マスク１ | M15: =ROUND(計算シート_急性!AD6,-INT(LOG10(計算シート_急性!AD6))+2) -> #N/A | N15: =ROUND(計算シート_急性!AG6,-INT(LOG10(計算シート_急性!AG6))+2) -> #N/A
G16: 希釈なし | H16: － | I16: =IF($I$3="",$I$2,$I$3) -> #N/A | J16: 不浸透性手袋/マスク１ | K16: =IF($I$5="",$I$4, IF(D16<=$H$5,$I$5, IF(D16<=$H$6,$I$6, IF(D16<=$H$7,$I$7, IF(D16<=$H$8,$I$8, IF(D16<=$H$9,$I$9,$I$4)))))) -> #N/A | L16: 長ズボン・長袖の作業衣/不浸透性手袋/マスク１ | M16: =ROUND(計算シート_急性!AD7,-INT(LOG10(計算シート_急性!AD7))+2) -> #N/A | N16: =ROUND(計算シート_急性!AG7,-INT(LOG10(計算シート_急性!AG7))+2) -> #N/A
G17: 希釈なし | H17: － | I17: =IF($I$3="",$I$2,$I$3) -> #N/A | J17: 不浸透性手袋/マスク１ | K17: =IF($I$5="",$I$4, IF(D17<=$H$5,$I$5, IF(D17<=$H$6,$I$6, IF(D17<=$H$7,$I$7, IF(D17<=$H$8,$I$8, IF(D17<=$H$9,$I$9,$I$4)))))) -> #N/A | L17: 長ズボン・長袖の作業衣/不浸透性手袋/マスク１ | M17: =ROUND(計算シート_急性!AD8,-INT(LOG10(計算シート_急性!AD8))+2) -> #N/A | N17: =ROUND(計算シート_急性!AG8,-INT(LOG10(計算シート_急性!AG8))+2) -> #N/A
G18: 希釈なし | H18: － | I18: =IF($I$3="",$I$2,$I$3) -> #N/A | J18: 不浸透性手袋/マスク１ | K18: =IF($I$5="",$I$4, IF(D18<=$H$5,$I$5, IF(D18<=$H$6,$I$6, IF(D18<=$H$7,$I$7, IF(D18<=$H$8,$I$8, IF(D18<=$H$9,$I$9,$I$4)))))) -> #N/A | L18: 長ズボン・長袖の作業衣/不浸透性手袋/マスク１ | M18: =ROUND(計算シート_急性!AD9,-INT(LOG10(計算シート_急性!AD9))+2) -> #N/A | N18: =ROUND(計算シート_急性!AG9,-INT(LOG10(計算シート_急性!AG9))+2) -> #N/A
G19: 希釈なし | H19: － | I19: =IF($I$3="",$I$2,$I$3) -> #N/A | J19: 不浸透性手袋/マスク１ | K19: =IF($I$5="",$I$4, IF(D19<=$H$5,$I$5, IF(D19<=$H$6,$I$6, IF(D19<=$H$7,$I$7, IF(D19<=$H$8,$I$8, IF(D19<=$H$9,$I$9,$I$4)))))) -> #N/A | L19: 長ズボン・長袖の作業衣/不浸透性手袋/マスク１ | M19: =ROUND(計算シート_急性!AD10,-INT(LOG10(計算シート_急性!AD10))+2) -> #N/A | N19: =ROUND(計算シート_急性!AG10,-INT(LOG10(計算シート_急性!AG10))+2) -> #N/A
G20: 希釈なし | H20: － | I20: =IF($I$3="",$I$2,$I$3) -> #N/A | J20: 不浸透性手袋/マスク１ | K20: =IF($I$5="",$I$4, IF(D20<=$H$5,$I$5, IF(D20<=$H$6,$I$6, IF(D20<=$H$7,$I$7, IF(D20<=$H$8,$I$8, IF(D20<=$H$9,$I$9,$I$4)))))) -> #N/A | L20: 長ズボン・長袖の作業衣/不浸透性手袋/マスク１ | M20: =ROUND(計算シート_急性!AD11,-INT(LOG10(計算シート_急性!AD11))+2) -> #N/A | N20: =ROUND(計算シート_急性!AG11,-INT(LOG10(計算シート_急性!AG11))+2) -> #N/A
G21: 希釈なし | H21: － | I21: =IF($I$3="",$I$2,$I$3) -> #N/A | J21: 不浸透性手袋/マスク１ | K21: =IF($I$5="",$I$4, IF(D21<=$H$5,$I$5, IF(D21<=$H$6,$I$6, IF(D21<=$H$7,$I$7, IF(D21<=$H$8,$I$8, IF(D21<=$H$9,$I$9,$I$4)))))) -> #N/A | L21: 長ズボン・長袖の作業衣/不浸透性手袋/マスク１ | M21: =ROUND(計算シート_急性!AD12,-INT(LOG10(計算シート_急性!AD12))+2) -> #N/A | N21: =ROUND(計算シート_急性!AG12,-INT(LOG10(計算シート_急性!AG12))+2) -> #N/A
G22: 希釈なし | H22: － | I22: =IF($I$3="",$I$2,$I$3) -> #N/A | J22: 不浸透性手袋/マスク１ | K22: =IF($I$5="",$I$4, IF(D22<=$H$5,$I$5, IF(D22<=$H$6,$I$6, IF(D22<=$H$7,$I$7, IF(D22<=$H$8,$I$8, IF(D22<=$H$9,$I$9,$I$4)))))) -> #N/A | L22: 長ズボン・長袖の作業衣/不浸透性手袋/マスク１ | M22: =ROUND(計算シート_急性!AD13,-INT(LOG10(計算シート_急性!AD13))+2) -> #N/A | N22: =ROUND(計算シート_急性!AG13,-INT(LOG10(計算シート_急性!AG13))+2) -> #N/A
G23: 希釈なし | H23: － | I23: =IF($I$3="",$I$2,$I$3) -> #N/A | J23: 不浸透性手袋/マスク１ | K23: =IF($I$5="",$I$4, IF(D23<=$H$5,$I$5, IF(D23<=$H$6,$I$6, IF(D23<=$H$7,$I$7, IF(D23<=$H$8,$I$8, IF(D23<=$H$9,$I$9,$I$4)))))) -> #N/A | L23: 長ズボン・長袖の作業衣/不浸透性手袋/マスク１ | M23: =ROUND(計算シート_急性!AD14,-INT(LOG10(計算シート_急性!AD14))+2) -> #N/A | N23: =ROUND(計算シート_急性!AG14,-INT(LOG10(計算シート_急性!AG14))+2) -> #N/A
G24: 希釈なし | H24: － | I24: =IF($I$3="",$I$2,$I$3) -> #N/A | J24: 不浸透性手袋/マスク１ | K24: =IF($I$5="",$I$4, IF(D24<=$H$5,$I$5, IF(D24<=$H$6,$I$6, IF(D24<=$H$7,$I$7, IF(D24<=$H$8,$I$8, IF(D24<=$H$9,$I$9,$I$4)))))) -> #N/A | L24: 長ズボン・長袖の作業衣/不浸透性手袋/マスク１ | M24: =ROUND(計算シート_急性!AD15,-INT(LOG10(計算シート_急性!AD15))+2) -> #N/A | N24: =ROUND(計算シート_急性!AG15,-INT(LOG10(計算シート_急性!AG15))+2) -> #N/A
... G52: 希釈なし | H52: － | I52: =IF($I$3="",$I$2,$I$3) -> #N/A | J52: 不浸透性手袋/マスク１ | K52: =IF($I$5="",$I$4, IF(D52<=$H$5,$I$5, IF(D52<=$H$6,$I$6, IF(D52<=$H$7,$I$7, IF(D52<=$H$8,$I$8, IF(D52<=$H$9,$I$9,$I$4)))))) -> #N/A | L52: 長ズボン・長袖の作業衣/不浸透性手袋/マスク１ | M52: =ROUND(計算シート_急性!AD43,-INT(LOG10(計算シート_急性!AD43))+2) -> #N/A | N52: =ROUND(計算シート_急性!AG43,-INT(LOG10(計算シート_急性!AG43))+2) -> #N/A

Sheet 計算シート_急性
I1: 調製時 | P1: 施用時 | AE1: 単位変換（μg→mg）
I2: 単位暴露量(μg/g) | L2: 防護装備 | N2: 暴露量(μg) | P2: 単位暴露量(μg/g) | U2: 防護装備 | Y2: 暴露量(μg) | AC2: 調製時＋施用時の暴露量 | AE2: 1000
A3: 作物名 | B3: 括弧内 | C3: 希釈倍数 | D3: 種子/種いも当たり使用量 | E3: 作物群 | F3: １日種子重量_g | G3: 薬剤使用量_g | H3: 有効成分量_g | I3: 手 | J3: 吸気 | K3: 経皮吸収率 | L3: 手 | M3: 吸気 | N3: 手 | O3: 吸気 | P3: 頭 | Q3: その他 | R3: 手 | S3: 吸気 | T3: 経皮吸収率 | U3: 頭部 | V3: 身体 | W3: 手 | X3: 吸気 | Y3: 頭 | Z3: その他 | AA3: 手 | AB3: 吸気 | AC3: μg | AD3: μg/kg・bw | AE3: mg/kg・bw | AF3: AAOEL | AG3: %AAOEL
A4: =入力・結果シート!A13 -> 0 | B4: =入力・結果シート!B13 -> 0 | C4: =入力・結果シート!D13 -> 0 | D4: =入力・結果シート!F13 -> 0 | E4: =VLOOKUP(A4,作物分類!A:E,5,FALSE) -> #N/A | F4: =IF(COUNTIF(入力・結果シート!C13,"*球根*"),VLOOKUP(E4,'処理量（球根等）'!$A$1:$E$4,5,FALSE), IF(COUNTIF(入力・結果シート!C13,"*種球*"),VLOOKUP(E4,'処理量（球根等）'!$A$1:$E$4,5,FALSE), VLOOKUP(E4,'処理量（種）'!$A$1:$G$14,7,FALSE))) -> #N/A | G4: =D4*F4/C4 -> #N/A | H4: =G4*入力・結果シート!$B$6 -> #N/A | I4: =VLOOKUP(入力・結果シート!G13,単位暴露量・経皮吸収率!$A$2:$F$7,5,FALSE) -> 14 | J4: =VLOOKUP(入力・結果シート!G13,単位暴露量・経皮吸収率!$A$2:$F$7,6,FALSE) -> 0.086 | K4: =入力・結果シート!I13 -> #N/A | L4: =IF(入力・結果シート!G13="希釈なし", IF(COUNTIF(入力・結果シート!$B$4,"*液*"), VLOOKUP(入力・結果シート!J13,防護装備!$A$5:$F$6,5,FALSE), VLOOKUP(入力・結果シート!J13,防護装備!$A$3:$F$4,5,FALSE)), VLOOKUP(入力・結果シート!J13,防護装備!$A$5:$F$6,5,FALSE)) -> 0.05 | M4: =IF(入力・結果シート!G13="希釈なし", VLOOKUP(入力・結果シート!J13,防護装備!$A$3:$F$4,6,FALSE), VLOOKUP(入力・結果シート!J13,防護装備!$A$5:$F$6,6,FALSE)) -> 0.25 | N4: =H4*I4*K4*L4 -> #N/A | O4: =H4*J4*M4 -> #N/A | P4: =VLOOKUP(入力・結果シート!H13,単位暴露量・経皮吸収率!$A$9:$E$11,2,FALSE) -> 0 | Q4: =VLOOKUP(入力・結果シート!H13,単位暴露量・経皮吸収率!$A$9:$E$11,3,FALSE) -> 0 | R4: =VLOOKUP(入力・結果シート!H13,単位暴露量・経皮吸収率!$A$9:$E$11,4,FALSE) -> 0 | S4: =VLOOKUP(入力・結果シート!H13,単位暴露量・経皮吸収率!$A$9:$E$11,5,FALSE) -> 0 | T4: =入力・結果シート!K13 -> #N/A | U4: =VLOOKUP(入力・結果シート!L13,防護装備!$A$9:$F$14,3,FALSE) -> 0.8 | V4: =VLOOKUP(入力・結果シート!L13,防護装備!$A$9:$F$14,4,FALSE) -> 0.1 | W4: =VLOOKUP(入力・結果シート!L13,防護装備!$A$9:$F$14,5,FALSE) -> 0.1 | X4: =VLOOKUP(入力・結果シート!L13,防護装備!$A$9:$F$14,6,FALSE) -> 0.25 | Y4: =H4*P4*T4*U4 -> #N/A | Z4: =H4*Q4*T4*V4 -> #N/A | AA4: =H4*R4*T4*W4 -> #N/A | AB4: =H4*S4*X4 -> #N/A | AC4: =N4+O4+Y4+Z4+AA4+AB4 -> #N/A | AD4: =AC4/入力・結果シート!$B$8 -> #N/A | AE4: =AC4/$AE$2/入力・結果シート!$B$8 -> #N/A | AF4: =入力・結果シート!$B$7 -> 0 | AG4: =AE4/AF4*100 -> #N/A
A5: =入力・結果シート!A14 -> 0 | B5: =入力・結果シート!B14 -> 0 | C5: =入力・結果シート!D14 -> 0 | D5: =入力・結果シート!F14 -> 0 | E5: =VLOOKUP(A5,作物分類!A:E,5,FALSE) -> #N/A | F5: =IF(COUNTIF(入力・結果シート!C14,"*球根*"),VLOOKUP(E5,'処理量（球根等）'!$A$1:$E$4,5,FALSE), IF(COUNTIF(入力・結果シート!C14,"*種球*"),VLOOKUP(E5,'処理量（球根等）'!$A$1:$E$4,5,FALSE), VLOOKUP(E5,'処理量（種）'!$A$1:$G$14,7,FALSE))) -> #N/A | G5: =D5*F5/C5 -> #N/A | H5: =G5*入力・結果シート!$B$6 -> #N/A | I5: =VLOOKUP(入力・結果シート!G14,単位暴露量・経皮吸収率!$A$2:$F$7,5,FALSE) -> 14 | J5: =VLOOKUP(入力・結果シート!G14,単位暴露量・経皮吸収率!$A$2:$F$7,6,FALSE) -> 0.086 | K5: =入力・結果シート!I14 -> #N/A | L5: =IF(入力・結果シート!G14="希釈なし", IF(COUNTIF(入力・結果シート!$B$4,"*液*"), VLOOKUP(入力・結果シート!J14,防護装備!$A$5:$F$6,5,FALSE), VLOOKUP(入力・結果シート!J14,防護装備!$A$3:$F$4,5,FALSE)), VLOOKUP(入力・結果シート!J14,防護装備!$A$5:$F$6,5,FALSE)) -> 0.05 | M5: =IF(入力・結果シート!G14="希釈なし", VLOOKUP(入力・結果シート!J14,防護装備!$A$3:$F$4,6,FALSE), VLOOKUP(入力・結果シート!J14,防護装備!$A$5:$F$6,6,FALSE)) -> 0.25 | N5: =H5*I5*K5*L5 -> #N/A | O5: =H5*J5*M5 -> #N/A | P5: =VLOOKUP(入力・結果シート!H14,単位暴露量・経皮吸収率!$A$9:$E$11,2,FALSE) -> 0 | Q5: =VLOOKUP(入力・結果シート!H14,単位暴露量・経皮吸収率!$A$9:$E$11,3,FALSE) -> 0 | R5: =VLOOKUP(入力・結果シート!H14,単位暴露量・経皮吸収率!$A$9:$E$11,4,FALSE) -> 0 | S5: =VLOOKUP(入力・結果シート!H14,単位暴露量・経皮吸収率!$A$9:$E$11,5,FALSE) -> 0 | T5: =入力・結果シート!K14 -> #N/A | U5: =VLOOKUP(入力・結果シート!L14,防護装備!$A$9:$F$14,3,FALSE) -> 0.8 | V5: =VLOOKUP(入力・結果シート!L14,防護装備!$A$9:$F$14,4,FALSE) -> 0.1 | W5: =VLOOKUP(入力・結果シート!L14,防護装備!$A$9:$F$14,5,FALSE) -> 0.1 | X5: =VLOOKUP(入力・結果シート!L14,防護装備!$A$9:$F$14,6,FALSE) -> 0.25 | Y5: =H5*P5*T5*U5 -> #N/A | Z5: =H5*Q5*T5*V5 -> #N/A | AA5: =H5*R5*T5*W5 -> #N/A | AB5: =H5*S5*X5 -> #N/A | AC5: =N5+O5+Y5+Z5+AA5+AB5 -> #N/A | AD5: =AC5/入力・結果シート!$B$8 -> #N/A | AE5: =AC5/$AE$2/入力・結果シート!$B$8 -> #N/A | AF5: =入力・結果シート!$B$7 -> 0 | AG5: =AE5/AF5*100 -> #N/A
A6: =入力・結果シート!A15 -> 0 | B6: =入力・結果シート!B15 -> 0 | C6: =入力・結果シート!D15 -> 0 | D6: =入力・結果シート!F15 -> 0 | E6: =VLOOKUP(A6,作物分類!A:E,5,FALSE) -> #N/A | F6: =IF(COUNTIF(入力・結果シート!C15,"*球根*"),VLOOKUP(E6,'処理量（球根等）'!$A$1:$E$4,5,FALSE), IF(COUNTIF(入力・結果シート!C15,"*種球*"),VLOOKUP(E6,'処理量（球根等）'!$A$1:$E$4,5,FALSE), VLOOKUP(E6,'処理量（種）'!$A$1:$G$14,7,FALSE))) -> #N/A | G6: =D6*F6/C6 -> #N/A | H6: =G6*入力・結果シート!$B$6 -> #N/A | I6: =VLOOKUP(入力・結果シート!G15,単位暴露量・経皮吸収率!$A$2:$F$7,5,FALSE) -> 14 | J6: =VLOOKUP(入力・結果シート!G15,単位暴露量・経皮吸収率!$A$2:$F$7,6,FALSE) -> 0.086 | K6: =入力・結果シート!I15 -> #N/A | L6: =IF(入力・結果シート!G15="希釈なし", IF(COUNTIF(入力・結果シート!$B$4,"*液*"), VLOOKUP(入力・結果シート!J15,防護装備!$A$5:$F$6,5,FALSE), VLOOKUP(入力・結果シート!J15,防護装備!$A$3:$F$4,5,FALSE)), VLOOKUP(入力・結果シート!J15,防護装備!$A$5:$F$6,5,FALSE)) -> 0.05 | M6: =IF(入力・結果シート!G15="希釈なし", VLOOKUP(入力・結果シート!J15,防護装備!$A$3:$F$4,6,FALSE), VLOOKUP(入力・結果シート!J15,防護装備!$A$5:$F$6,6,FALSE)) -> 0.25 | N6: =H6*I6*K6*L6 -> #N/A | O6: =H6*J6*M6 -> #N/A | P6: =VLOOKUP(入力・結果シート!H15,単位暴露量・経皮吸収率!$A$9:$E$11,2,FALSE) -> 0 | Q6: =VLOOKUP(入力・結果シート!H15,単位暴露量・経皮吸収率!$A$9:$E$11,3,FALSE) -> 0 | R6: =VLOOKUP(入力・結果シート!H15,単位暴露量・経皮吸収率!$A$9:$E$11,4,FALSE) -> 0 | S6: =VLOOKUP(入力・結果シート!H15,単位暴露量・経皮吸収率!$A$9:$E$11,5,FALSE) -> 0 | T6: =入力・結果シート!K15 -> #N/A | U6: =VLOOKUP(入力・結果シート!L15,防護装備!$A$9:$F$14,3,FALSE) -> 0.8 | V6: =VLOOKUP(入力・結果シート!L15,防護装備!$A$9:$F$14,4,FALSE) -> 0.1 | W6: =VLOOKUP(入力・結果シート!L15,防護装備!$A$9:$F$14,5,FALSE) -> 0.1 | X6: =VLOOKUP(入力・結果シート!L15,防護装備!$A$9:$F$14,6,FALSE) -> 0.25 | Y6: =H6*P6*T6*U6 -> #N/A | Z6: =H6*Q6*T6*V6 -> #N/A | AA6: =H6*R6*T6*W6 -> #N/A | AB6: =H6*S6*X6 -> #N/A | AC6: =N6+O6+Y6+Z6+AA6+AB6 -> #N/A | AD6: =AC6/入力・結果シート!$B$8 -> #N/A | AE6: =AC6/$AE$2/入力・結果シート!$B$8 -> #N/A | AF6: =入力・結果シート!$B$7 -> 0 | AG6: =AE6/AF6*100 -> #N/A
A7: =入力・結果シート!A16 -> 0 | B7: =入力・結果シート!B16 -> 0 | C7: =入力・結果シート!D16 -> 0 | D7: =入力・結果シート!F16 -> 0 | E7: =VLOOKUP(A7,作物分類!A:E,5,FALSE) -> #N/A | F7: =IF(COUNTIF(入力・結果シート!C16,"*球根*"),VLOOKUP(E7,'処理量（球根等）'!$A$1:$E$4,5,FALSE), IF(COUNTIF(入力・結果シート!C16,"*種球*"),VLOOKUP(E7,'処理量（球根等）'!$A$1:$E$4,5,FALSE), VLOOKUP(E7,'処理量（種）'!$A$1:$G$14,7,FALSE))) -> #N/A | G7: =D7*F7/C7 -> #N/A | H7: =G7*入力・結果シート!$B$6 -> #N/A | I7: =VLOOKUP(入力・結果シート!G16,単位暴露量・経皮吸収率!$A$2:$F$7,5,FALSE) -> 14 | J7: =VLOOKUP(入力・結果シート!G16,単位暴露量・経皮吸収率!$A$2:$F$7,6,FALSE) -> 0.086 | K7: =入力・結果シート!I16 -> #N/A | L7: =IF(入力・結果シート!G16="希釈なし", IF(COUNTIF(入力・結果シート!$B$4,"*液*"), VLOOKUP(入力・結果シート!J16,防護装備!$A$5:$F$6,5,FALSE), VLOOKUP(入力・結果シート!J16,防護装備!$A$3:$F$4,5,FALSE)), VLOOKUP(入力・結果シート!J16,防護装備!$A$5:$F$6,5,FALSE)) -> 0.05 | M7: =IF(入力・結果シート!G16="希釈なし", VLOOKUP(入力・結果シート!J16,防護装備!$A$3:$F$4,6,FALSE), VLOOKUP(入力・結果シート!J16,防護装備!$A$5:$F$6,6,FALSE)) -> 0.25 | N7: =H7*I7*K7*L7 -> #N/A | O7: =H7*J7*M7 -> #N/A | P7: =VLOOKUP(入力・結果シート!H16,単位暴露量・経皮吸収率!$A$9:$E$11,2,FALSE) -> 0 | Q7: =VLOOKUP(入力・結果シート!H16,単位暴露量・経皮吸収率!$A$9:$E$11,3,FALSE) -> 0 | R7: =VLOOKUP(入力・結果シート!H16,単位暴露量・経皮吸収率!$A$9:$E$11,4,FALSE) -> 0 | S7: =VLOOKUP(入力・結果シート!H16,単位暴露量・経皮吸収率!$A$9:$E$11,5,FALSE) -> 0 | T7: =入力・結果シート!K16 -> #N/A | U7: =VLOOKUP(入力・結果シート!L16,防護装備!$A$9:$F$14,3,FALSE) -> 0.8 | V7: =VLOOKUP(入力・結果シート!L16,防護装備!$A$9:$F$14,4,FALSE) -> 0.1 | W7: =VLOOKUP(入力・結果シート!L16,防護装備!$A$9:$F$14,5,FALSE) -> 0.1 | X7: =VLOOKUP(入力・結果シート!L16,防護装備!$A$9:$F$14,6,FALSE) -> 0.25 | Y7: =H7*P7*T7*U7 -> #N/A | Z7: =H7*Q7*T7*V7 -> #N/A | AA7: =H7*R7*T7*W7 -> #N/A | AB7: =H7*S7*X7 -> #N/A | AC7: =N7+O7+Y7+Z7+AA7+AB7 -> #N/A | AD7: =AC7/入力・結果シート!$B$8 -> #N/A | AE7: =AC7/$AE$2/入力・結果シート!$B$8 -> #N/A | AF7: =入力・結果シート!$B$7 -> 0 | AG7: =AE7/AF7*100 -> #N/A
A8: =入力・結果シート!A17 -> 0 | B8: =入力・結果シート!B17 -> 0 | C8: =入力・結果シート!D17 -> 0 | D8: =入力・結果シート!F17 -> 0 | E8: =VLOOKUP(A8,作物分類!A:E,5,FALSE) -> #N/A | F8: =IF(COUNTIF(入力・結果シート!C17,"*球根*"),VLOOKUP(E8,'処理量（球根等）'!$A$1:$E$4,5,FALSE), IF(COUNTIF(入力・結果シート!C17,"*種球*"),VLOOKUP(E8,'処理量（球根等）'!$A$1:$E$4,5,FALSE), VLOOKUP(E8,'処理量（種）'!$A$1:$G$14,7,FALSE))) -> #N/A | G8: =D8*F8/C8 -> #N/A | H8: =G8*入力・結果シート!$B$6 -> #N/A | I8: =VLOOKUP(入力・結果シート!G17,単位暴露量・経皮吸収率!$A$2:$F$7,5,FALSE) -> 14 | J8: =VLOOKUP(入力・結果シート!G17,単位暴露量・経皮吸収率!$A$2:$F$7,6,FALSE) -> 0.086 | K8: =入力・結果シート!I17 -> #N/A | L8: =IF(入力・結果シート!G17="希釈なし", IF(COUNTIF(入力・結果シート!$B$4,"*液*"), VLOOKUP(入力・結果シート!J17,防護装備!$A$5:$F$6,5,FALSE), VLOOKUP(入力・結果シート!J17,防護装備!$A$3:$F$4,5,FALSE)), VLOOKUP(入力・結果シート!J17,防護装備!$A$5:$F$6,5,FALSE)) -> 0.05 | M8: =IF(入力・結果シート!G17="希釈なし", VLOOKUP(入力・結果シート!J17,防護装備!$A$3:$F$4,6,FALSE), VLOOKUP(入力・結果シート!J17,防護装備!$A$5:$F$6,6,FALSE)) -> 0.25 | N8: =H8*I8*K8*L8 -> #N/A | O8: =H8*J8*M8 -> #N/A | P8: =VLOOKUP(入力・結果シート!H17,単位暴露量・経皮吸収率!$A$9:$E$11,2,FALSE) -> 0 | Q8: =VLOOKUP(入力・結果シート!H17,単位暴露量・経皮吸収率!$A$9:$E$11,3,FALSE) -> 0 | R8: =VLOOKUP(入力・結果シート!H17,単位暴露量・経皮吸収率!$A$9:$E$11,4,FALSE) -> 0 | S8: =VLOOKUP(入力・結果シート!H17,単位暴露量・経皮吸収率!$A$9:$E$11,5,FALSE) -> 0 | T8: =入力・結果シート!K17 -> #N/A | U8: =VLOOKUP(入力・結果シート!L17,防護装備!$A$9:$F$14,3,FALSE) -> 0.8 | V8: =VLOOKUP(入力・結果シート!L17,防護装備!$A$9:$F$14,4,FALSE) -> 0.1 | W8: =VLOOKUP(入力・結果シート!L17,防護装備!$A$9:$F$14,5,FALSE) -> 0.1 | X8: =VLOOKUP(入力・結果シート!L17,防護装備!$A$9:$F$14,6,FALSE) -> 0.25 | Y8: =H8*P8*T8*U8 -> #N/A | Z8: =H8*Q8*T8*V8 -> #N/A | AA8: =H8*R8*T8*W8 -> #N/A | AB8: =H8*S8*X8 -> #N/A | AC8: =N8+O8+Y8+Z8+AA8+AB8 -> #N/A | AD8: =AC8/入力・結果シート!$B$8 -> #N/A | AE8: =AC8/$AE$2/入力・結果シート!$B$8 -> #N/A | AF8: =入力・結果シート!$B$7 -> 0 | AG8: =AE8/AF8*100 -> #N/A
A9: =入力・結果シート!A18 -> 0 | B9: =入力・結果シート!B18 -> 0 | C9: =入力・結果シート!D18 -> 0 | D9: =入力・結果シート!F18 -> 0 | E9: =VLOOKUP(A9,作物分類!A:E,5,FALSE) -> #N/A | F9: =IF(COUNTIF(入力・結果シート!C18,"*球根*"),VLOOKUP(E9,'処理量（球根等）'!$A$1:$E$4,5,FALSE), IF(COUNTIF(入力・結果シート!C18,"*種球*"),VLOOKUP(E9,'処理量（球根等）'!$A$1:$E$4,5,FALSE), VLOOKUP(E9,'処理量（種）'!$A$1:$G$14,7,FALSE))) -> #N/A | G9: =D9*F9/C9 -> #N/A | H9: =G9*入力・結果シート!$B$6 -> #N/A | I9: =VLOOKUP(入力・結果シート!G18,単位暴露量・経皮吸収率!$A$2:$F$7,5,FALSE) -> 14 | J9: =VLOOKUP(入力・結果シート!G18,単位暴露量・経皮吸収率!$A$2:$F$7,6,FALSE) -> 0.086 | K9: =入力・結果シート!I18 -> #N/A | L9: =IF(入力・結果シート!G18="希釈なし", IF(COUNTIF(入力・結果シート!$B$4,"*液*"), VLOOKUP(入力・結果シート!J18,防護装備!$A$5:$F$6,5,FALSE), VLOOKUP(入力・結果シート!J18,防護装備!$A$3:$F$4,5,FALSE)), VLOOKUP(入力・結果シート!J18,防護装備!$A$5:$F$6,5,FALSE)) -> 0.05 | M9: =IF(入力・結果シート!G18="希釈なし", VLOOKUP(入力・結果シート!J18,防護装備!$A$3:$F$4,6,FALSE), VLOOKUP(入力・結果シート!J18,防護装備!$A$5:$F$6,6,FALSE)) -> 0.25 | N9: =H9*I9*K9*L9 -> #N/A | O9: =H9*J9*M9 -> #N/A | P9: =VLOOKUP(入力・結果シート!H18,単位暴露量・経皮吸収率!$A$9:$E$11,2,FALSE) -> 0 | Q9: =VLOOKUP(入力・結果シート!H18,単位暴露量・経皮吸収率!$A$9:$E$11,3,FALSE) -> 0 | R9: =VLOOKUP(入力・結果シート!H18,単位暴露量・経皮吸収率!$A$9:$E$11,4,FALSE) -> 0 | S9: =VLOOKUP(入力・結果シート!H18,単位暴露量・経皮吸収率!$A$9:$E$11,5,FALSE) -> 0 | T9: =入力・結果シート!K18 -> #N/A | U9: =VLOOKUP(入力・結果シート!L18,防護装備!$A$9:$F$14,3,FALSE) -> 0.8 | V9: =VLOOKUP(入力・結果シート!L18,防護装備!$A$9:$F$14,4,FALSE) -> 0.1 | W9: =VLOOKUP(入力・結果シート!L18,防護装備!$A$9:$F$14,5,FALSE) -> 0.1 | X9: =VLOOKUP(入力・結果シート!L18,防護装備!$A$9:$F$14,6,FALSE) -> 0.25 | Y9: =H9*P9*T9*U9 -> #N/A | Z9: =H9*Q9*T9*V9 -> #N/A | AA9: =H9*R9*T9*W9 -> #N/A | AB9: =H9*S9*X9 -> #N/A | AC9: =N9+O9+Y9+Z9+AA9+AB9 -> #N/A | AD9: =AC9/入力・結果シート!$B$8 -> #N/A | AE9: =AC9/$AE$2/入力・結果シート!$B$8 -> #N/A | AF9: =入力・結果シート!$B$7 -> 0 | AG9: =AE9/AF9*100 -> #N/A
A10: =入力・結果シート!A19 -> 0 | B10: =入力・結果シート!B19 -> 0 | C10: =入力・結果シート!D19 -> 0 | D10: =入力・結果シート!F19 -> 0 | E10: =VLOOKUP(A10,作物分類!A:E,5,FALSE) -> #N/A | F10: =IF(COUNTIF(入力・結果シート!C19,"*球根*"),VLOOKUP(E10,'処理量（球根等）'!$A$1:$E$4,5,FALSE), IF(COUNTIF(入力・結果シート!C19,"*種球*"),VLOOKUP(E10,'処理量（球根等）'!$A$1:$E$4,5,FALSE), VLOOKUP(E10,'処理量（種）'!$A$1:$G$14,7,FALSE))) -> #N/A | G10: =D10*F10/C10 -> #N/A | H10: =G10*入力・結果シート!$B$6 -> #N/A | I10: =VLOOKUP(入力・結果シート!G19,単位暴露量・経皮吸収率!$A$2:$F$7,5,FALSE) -> 14 | J10: =VLOOKUP(入力・結果シート!G19,単位暴露量・経皮吸収率!$A$2:$F$7,6,FALSE) -> 0.086 | K10: =入力・結果シート!I19 -> #N/A | L10: =IF(入力・結果シート!G19="希釈なし", IF(COUNTIF(入力・結果シート!$B$4,"*液*"), VLOOKUP(入力・結果シート!J19,防護装備!$A$5:$F$6,5,FALSE), VLOOKUP(入力・結果シート!J19,防護装備!$A$3:$F$4,5,FALSE)), VLOOKUP(入力・結果シート!J19,防護装備!$A$5:$F$6,5,FALSE)) -> 0.05 | M10: =IF(入力・結果シート!G19="希釈なし", VLOOKUP(入力・結果シート!J19,防護装備!$A$3:$F$4,6,FALSE), VLOOKUP(入力・結果シート!J19,防護装備!$A$5:$F$6,6,FALSE)) -> 0.25 | N10: =H10*I10*K10*L10 -> #N/A | O10: =H10*J10*M10 -> #N/A | P10: =VLOOKUP(入力・結果シート!H19,単位暴露量・経皮吸収率!$A$9:$E$11,2,FALSE) -> 0 | Q10: =VLOOKUP(入力・結果シート!H19,単位暴露量・経皮吸収率!$A$9:$E$11,3,FALSE) -> 0 | R10: =VLOOKUP(入力・結果シート!H19,単位暴露量・経皮吸収率!$A$9:$E$11,4,FALSE) -> 0 | S10: =VLOOKUP(入力・結果シート!H19,単位暴露量・経皮吸収率!$A$9:$E$11,5,FALSE) -> 0 | T10: =入力・結果シート!K19 -> #N/A | U10: =VLOOKUP(入力・結果シート!L19,防護装備!$A$9:$F$14,3,FALSE) -> 0.8 | V10: =VLOOKUP(入力・結果シート!L19,防護装備!$A$9:$F$14,4,FALSE) -> 0.1 | W10: =VLOOKUP(入力・結果シート!L19,防護装備!$A$9:$F$14,5,FALSE) -> 0.1 | X10: =VLOOKUP(入力・結果シート!L19,防護装備!$A$9:$F$14,6,FALSE) -> 0.25 | Y10: =H10*P10*T10*U10 -> #N/A | Z10: =H10*Q10*T10*V10 -> #N/A | AA10: =H10*R10*T10*W10 -> #N/A | AB10: =H10*S10*X10 -> #N/A | AC10: =N10+O10+Y10+Z10+AA10+AB10 -> #N/A | AD10: =AC10/入力・結果シート!$B$8 -> #N/A | AE10: =AC10/$AE$2/入力・結果シート!$B$8 -> #N/A | AF10: =入力・結果シート!$B$7 -> 0 | AG10: =AE10/AF10*100 -> #N/A
A11: =入力・結果シート!A20 -> 0 | B11: =入力・結果シート!B20 -> 0 | C11: =入力・結果シート!D20 -> 0 | D11: =入力・結果シート!F20 -> 0 | E11: =VLOOKUP(A11,作物分類!A:E,5,FALSE) -> #N/A | F11: =IF(COUNTIF(入力・結果シート!C20,"*球根*"),VLOOKUP(E11,'処理量（球根等）'!$A$1:$E$4,5,FALSE), IF(COUNTIF(入力・結果シート!C20,"*種球*"),VLOOKUP(E11,'処理量（球根等）'!$A$1:$E$4,5,FALSE), VLOOKUP(E11,'処理量（種）'!$A$1:$G$14,7,FALSE))) -> #N/A | G11: =D11*F11/C11 -> #N/A | H11: =G11*入力・結果シート!$B$6 -> #N/A | I11: =VLOOKUP(入力・結果シート!G20,単位暴露量・経皮吸収率!$A$2:$F$7,5,FALSE) -> 14 | J11: =VLOOKUP(入力・結果シート!G20,単位暴露量・経皮吸収率!$A$2:$F$7,6,FALSE) -> 0.086 | K11: =入力・結果シート!I20 -> #N/A | L11: =IF(入力・結果シート!G20="希釈なし", IF(COUNTIF(入力・結果シート!$B$4,"*液*"), VLOOKUP(入力・結果シート!J20,防護装備!$A$5:$F$6,5,FALSE), VLOOKUP(入力・結果シート!J20,防護装備!$A$3:$F$4,5,FALSE)), VLOOKUP(入力・結果シート!J20,防護装備!$A$5:$F$6,5,FALSE)) -> 0.05 | M11: =IF(入力・結果シート!G20="希釈なし", VLOOKUP(入力・結果シート!J20,防護装備!$A$3:$F$4,6,FALSE), VLOOKUP(入力・結果シート!J20,防護装備!$A$5:$F$6,6,FALSE)) -> 0.25 | N11: =H11*I11*K11*L11 -> #N/A | O11: =H11*J11*M11 -> #N/A | P11: =VLOOKUP(入力・結果シート!H20,単位暴露量・経皮吸収率!$A$9:$E$11,2,FALSE) -> 0 | Q11: =VLOOKUP(入力・結果シート!H20,単位暴露量・経皮吸収率!$A$9:$E$11,3,FALSE) -> 0 | R11: =VLOOKUP(入力・結果シート!H20,単位暴露量・経皮吸収率!$A$9:$E$11,4,FALSE) -> 0 | S11: =VLOOKUP(入力・結果シート!H20,単位暴露量・経皮吸収率!$A$9:$E$11,5,FALSE) -> 0 | T11: =入力・結果シート!K20 -> #N/A | U11: =VLOOKUP(入力・結果シート!L20,防護装備!$A$9:$F$14,3,FALSE) -> 0.8 | V11: =VLOOKUP(入力・結果シート!L20,防護装備!$A$9:$F$14,4,FALSE) -> 0.1 | W11: =VLOOKUP(入力・結果シート!L20,防護装備!$A$9:$F$14,5,FALSE) -> 0.1 | X11: =VLOOKUP(入力・結果シート!L20,防護装備!$A$9:$F$14,6,FALSE) -> 0.25 | Y11: =H11*P11*T11*U11 -> #N/A | Z11: =H11*Q11*T11*V11 -> #N/A | AA11: =H11*R11*T11*W11 -> #N/A | AB11: =H11*S11*X11 -> #N/A | AC11: =N11+O11+Y11+Z11+AA11+AB11 -> #N/A | AD11: =AC11/入力・結果シート!$B$8 -> #N/A | AE11: =AC11/$AE$2/入力・結果シート!$B$8 -> #N/A | AF11: =入力・結果シート!$B$7 -> 0 | AG11: =AE11/AF11*100 -> #N/A
A12: =入力・結果シート!A21 -> 0 | B12: =入力・結果シート!B21 -> 0 | C12: =入力・結果シート!D21 -> 0 | D12: =入力・結果シート!F21 -> 0 | E12: =VLOOKUP(A12,作物分類!A:E,5,FALSE) -> #N/A | F12: =IF(COUNTIF(入力・結果シート!C21,"*球根*"),VLOOKUP(E12,'処理量（球根等）'!$A$1:$E$4,5,FALSE), IF(COUNTIF(入力・結果シート!C21,"*種球*"),VLOOKUP(E12,'処理量（球根等）'!$A$1:$E$4,5,FALSE), VLOOKUP(E12,'処理量（種）'!$A$1:$G$14,7,FALSE))) -> #N/A | G12: =D12*F12/C12 -> #N/A | H12: =G12*入力・結果シート!$B$6 -> #N/A | I12: =VLOOKUP(入力・結果シート!G21,単位暴露量・経皮吸収率!$A$2:$F$7,5,FALSE) -> 14 | J12: =VLOOKUP(入力・結果シート!G21,単位暴露量・経皮吸収率!$A$2:$F$7,6,FALSE) -> 0.086 | K12: =入力・結果シート!I21 -> #N/A | L12: =IF(入力・結果シート!G21="希釈なし", IF(COUNTIF(入力・結果シート!$B$4,"*液*"), VLOOKUP(入力・結果シート!J21,防護装備!$A$5:$F$6,5,FALSE), VLOOKUP(入力・結果シート!J21,防護装備!$A$3:$F$4,5,FALSE)), VLOOKUP(入力・結果シート!J21,防護装備!$A$5:$F$6,5,FALSE)) -> 0.05 | M12: =IF(入力・結果シート!G21="希釈なし", VLOOKUP(入力・結果シート!J21,防護装備!$A$3:$F$4,6,FALSE), VLOOKUP(入力・結果シート!J21,防護装備!$A$5:$F$6,6,FALSE)) -> 0.25 | N12: =H12*I12*K12*L12 -> #N/A | O12: =H12*J12*M12 -> #N/A | P12: =VLOOKUP(入力・結果シート!H21,単位暴露量・経皮吸収率!$A$9:$E$11,2,FALSE) -> 0 | Q12: =VLOOKUP(入力・結果シート!H21,単位暴露量・経皮吸収率!$A$9:$E$11,3,FALSE) -> 0 | R12: =VLOOKUP(入力・結果シート!H21,単位暴露量・経皮吸収率!$A$9:$E$11,4,FALSE) -> 0 | S12: =VLOOKUP(入力・結果シート!H21,単位暴露量・経皮吸収率!$A$9:$E$11,5,FALSE) -> 0 | T12: =入力・結果シート!K21 -> #N/A | U12: =VLOOKUP(入力・結果シート!L21,防護装備!$A$9:$F$14,3,FALSE) -> 0.8 | V12: =VLOOKUP(入力・結果シート!L21,防護装備!$A$9:$F$14,4,FALSE) -> 0.1 | W12: =VLOOKUP(入力・結果シート!L21,防護装備!$A$9:$F$14,5,FALSE) -> 0.1 | X12: =VLOOKUP(入力・結果シート!L21,防護装備!$A$9:$F$14,6,FALSE) -> 0.25 | Y12: =H12*P12*T12*U12 -> #N/A | Z12: =H12*Q12*T12*V12 -> #N/A | AA12: =H12*R12*T12*W12 -> #N/A | AB12: =H12*S12*X12 -> #N/A | AC12: =N12+O12+Y12+Z12+AA12+AB12 -> #N/A | AD12: =AC12/入力・結果シート!$B$8 -> #N/A | AE12: =AC12/$AE$2/入力・結果シート!$B$8 -> #N/A | AF12: =入力・結果シート!$B$7 -> 0 | AG12: =AE12/AF12*100 -> #N/A
A13: =入力・結果シート!A22 -> 0 | B13: =入力・結果シート!B22 -> 0 | C13: =入力・結果シート!D22 -> 0 | D13: =入力・結果シート!F22 -> 0 | E13: =VLOOKUP(A13,作物分類!A:E,5,FALSE) -> #N/A | F13: =IF(COUNTIF(入力・結果シート!C22,"*球根*"),VLOOKUP(E13,'処理量（球根等）'!$A$1:$E$4,5,FALSE), IF(COUNTIF(入力・結果シート!C22,"*種球*"),VLOOKUP(E13,'処理量（球根等）'!$A$1:$E$4,5,FALSE), VLOOKUP(E13,'処理量（種）'!$A$1:$G$14,7,FALSE))) -> #N/A | G13: =D13*F13/C13 -> #N/A | H13: =G13*入力・結果シート!$B$6 -> #N/A | I13: =VLOOKUP(入力・結果シート!G22,単位暴露量・経皮吸収率!$A$2:$F$7,5,FALSE) -> 14 | J13: =VLOOKUP(入力・結果シート!G22,単位暴露量・経皮吸収率!$A$2:$F$7,6,FALSE) -> 0.086 | K13: =入力・結果シート!I22 -> #N/A | L13: =IF(入力・結果シート!G22="希釈なし", IF(COUNTIF(入力・結果シート!$B$4,"*液*"), VLOOKUP(入力・結果シート!J22,防護装備!$A$5:$F$6,5,FALSE), VLOOKUP(入力・結果シート!J22,防護装備!$A$3:$F$4,5,FALSE)), VLOOKUP(入力・結果シート!J22,防護装備!$A$5:$F$6,5,FALSE)) -> 0.05 | M13: =IF(入力・結果シート!G22="希釈なし", VLOOKUP(入力・結果シート!J22,防護装備!$A$3:$F$4,6,FALSE), VLOOKUP(入力・結果シート!J22,防護装備!$A$5:$F$6,6,FALSE)) -> 0.25 | N13: =H13*I13*K13*L13 -> #N/A | O13: =H13*J13*M13 -> #N/A | P13: =VLOOKUP(入力・結果シート!H22,単位暴露量・経皮吸収率!$A$9:$E$11,2,FALSE) -> 0 | Q13: =VLOOKUP(入力・結果シート!H22,単位暴露量・経皮吸収率!$A$9:$E$11,3,FALSE) -> 0 | R13: =VLOOKUP(入力・結果シート!H22,単位暴露量・経皮吸収率!$A$9:$E$11,4,FALSE) -> 0 | S13: =VLOOKUP(入力・結果シート!H22,単位暴露量・経皮吸収率!$A$9:$E$11,5,FALSE) -> 0 | T13: =入力・結果シート!K22 -> #N/A | U13: =VLOOKUP(入力・結果シート!L22,防護装備!$A$9:$F$14,3,FALSE) -> 0.8 | V13: =VLOOKUP(入力・結果シート!L22,防護装備!$A$9:$F$14,4,FALSE) -> 0.1 | W13: =VLOOKUP(入力・結果シート!L22,防護装備!$A$9:$F$14,5,FALSE) -> 0.1 | X13: =VLOOKUP(入力・結果シート!L22,防護装備!$A$9:$F$14,6,FALSE) -> 0.25 | Y13: =H13*P13*T13*U13 -> #N/A | Z13: =H13*Q13*T13*V13 -> #N/A | AA13: =H13*R13*T13*W13 -> #N/A | AB13: =H13*S13*X13 -> #N/A | AC13: =N13+O13+Y13+Z13+AA13+AB13 -> #N/A | AD13: =AC13/入力・結果シート!$B$8 -> #N/A | AE13: =AC13/$AE$2/入力・結果シート!$B$8 -> #N/A | AF13: =入力・結果シート!$B$7 -> 0 | AG13: =AE13/AF13*100 -> #N/A
A14: =入力・結果シート!A23 -> 0 | B14: =入力・結果シート!B23 -> 0 | C14: =入力・結果シート!D23 -> 0 | D14: =入力・結果シート!F23 -> 0 | E14: =VLOOKUP(A14,作物分類!A:E,5,FALSE) -> #N/A | F14: =IF(COUNTIF(入力・結果シート!C23,"*球根*"),VLOOKUP(E14,'処理量（球根等）'!$A$1:$E$4,5,FALSE), IF(COUNTIF(入力・結果シート!C23,"*種球*"),VLOOKUP(E14,'処理量（球根等）'!$A$1:$E$4,5,FALSE), VLOOKUP(E14,'処理量（種）'!$A$1:$G$14,7,FALSE))) -> #N/A | G14: =D14*F14/C14 -> #N/A | H14: =G14*入力・結果シート!$B$6 -> #N/A | I14: =VLOOKUP(入力・結果シート!G23,単位暴露量・経皮吸収率!$A$2:$F$7,5,FALSE) -> 14 | J14: =VLOOKUP(入力・結果シート!G23,単位暴露量・経皮吸収率!$A$2:$F$7,6,FALSE) -> 0.086 | K14: =入力・結果シート!I23 -> #N/A | L14: =IF(入力・結果シート!G23="希釈なし", IF(COUNTIF(入力・結果シート!$B$4,"*液*"), VLOOKUP(入力・結果シート!J23,防護装備!$A$5:$F$6,5,FALSE), VLOOKUP(入力・結果シート!J23,防護装備!$A$3:$F$4,5,FALSE)), VLOOKUP(入力・結果シート!J23,防護装備!$A$5:$F$6,5,FALSE)) -> 0.05 | M14: =IF(入力・結果シート!G23="希釈なし", VLOOKUP(入力・結果シート!J23,防護装備!$A$3:$F$4,6,FALSE), VLOOKUP(入力・結果シート!J23,防護装備!$A$5:$F$6,6,FALSE)) -> 0.25 | N14: =H14*I14*K14*L14 -> #N/A | O14: =H14*J14*M14 -> #N/A | P14: =VLOOKUP(入力・結果シート!H23,単位暴露量・経皮吸収率!$A$9:$E$11,2,FALSE) -> 0 | Q14: =VLOOKUP(入力・結果シート!H23,単位暴露量・経皮吸収率!$A$9:$E$11,3,FALSE) -> 0 | R14: =VLOOKUP(入力・結果シート!H23,単位暴露量・経皮吸収率!$A$9:$E$11,4,FALSE) -> 0 | S14: =VLOOKUP(入力・結果シート!H23,単位暴露量・経皮吸収率!$A$9:$E$11,5,FALSE) -> 0 | T14: =入力・結果シート!K23 -> #N/A | U14: =VLOOKUP(入力・結果シート!L23,防護装備!$A$9:$F$14,3,FALSE) -> 0.8 | V14: =VLOOKUP(入力・結果シート!L23,防護装備!$A$9:$F$14,4,FALSE) -> 0.1 | W14: =VLOOKUP(入力・結果シート!L23,防護装備!$A$9:$F$14,5,FALSE) -> 0.1 | X14: =VLOOKUP(入力・結果シート!L23,防護装備!$A$9:$F$14,6,FALSE) -> 0.25 | Y14: =H14*P14*T14*U14 -> #N/A | Z14: =H14*Q14*T14*V14 -> #N/A | AA14: =H14*R14*T14*W14 -> #N/A | AB14: =H14*S14*X14 -> #N/A | AC14: =N14+O14+Y14+Z14+AA14+AB14 -> #N/A | AD14: =AC14/入力・結果シート!$B$8 -> #N/A | AE14: =AC14/$AE$2/入力・結果シート!$B$8 -> #N/A | AF14: =入力・結果シート!$B$7 -> 0 | AG14: =AE14/AF14*100 -> #N/A
A15: =入力・結果シート!A24 -> 0 | B15: =入力・結果シート!B24 -> 0 | C15: =入力・結果シート!D24 -> 0 | D15: =入力・結果シート!F24 -> 0 | E15: =VLOOKUP(A15,作物分類!A:E,5,FALSE) -> #N/A | F15: =IF(COUNTIF(入力・結果シート!C24,"*球根*"),VLOOKUP(E15,'処理量（球根等）'!$A$1:$E$4,5,FALSE), IF(COUNTIF(入力・結果シート!C24,"*種球*"),VLOOKUP(E15,'処理量（球根等）'!$A$1:$E$4,5,FALSE), VLOOKUP(E15,'処理量（種）'!$A$1:$G$14,7,FALSE))) -> #N/A | G15: =D15*F15/C15 -> #N/A | H15: =G15*入力・結果シート!$B$6 -> #N/A | I15: =VLOOKUP(入力・結果シート!G24,単位暴露量・経皮吸収率!$A$2:$F$7,5,FALSE) -> 14 | J15: =VLOOKUP(入力・結果シート!G24,単位暴露量・経皮吸収率!$A$2:$F$7,6,FALSE) -> 0.086 | K15: =入力・結果シート!I24 -> #N/A | L15: =IF(入力・結果シート!G24="希釈なし", IF(COUNTIF(入力・結果シート!$B$4,"*液*"), VLOOKUP(入力・結果シート!J24,防護装備!$A$5:$F$6,5,FALSE), VLOOKUP(入力・結果シート!J24,防護装備!$A$3:$F$4,5,FALSE)), VLOOKUP(入力・結果シート!J24,防護装備!$A$5:$F$6,5,FALSE)) -> 0.05 | M15: =IF(入力・結果シート!G24="希釈なし", VLOOKUP(入力・結果シート!J24,防護装備!$A$3:$F$4,6,FALSE), VLOOKUP(入力・結果シート!J24,防護装備!$A$5:$F$6,6,FALSE)) -> 0.25 | N15: =H15*I15*K15*L15 -> #N/A | O15: =H15*J15*M15 -> #N/A | P15: =VLOOKUP(入力・結果シート!H24,単位暴露量・経皮吸収率!$A$9:$E$11,2,FALSE) -> 0 | Q15: =VLOOKUP(入力・結果シート!H24,単位暴露量・経皮吸収率!$A$9:$E$11,3,FALSE) -> 0 | R15: =VLOOKUP(入力・結果シート!H24,単位暴露量・経皮吸収率!$A$9:$E$11,4,FALSE) -> 0 | S15: =VLOOKUP(入力・結果シート!H24,単位暴露量・経皮吸収率!$A$9:$E$11,5,FALSE) -> 0 | T15: =入力・結果シート!K24 -> #N/A | U15: =VLOOKUP(入力・結果シート!L24,防護装備!$A$9:$F$14,3,FALSE) -> 0.8 | V15: =VLOOKUP(入力・結果シート!L24,防護装備!$A$9:$F$14,4,FALSE) -> 0.1 | W15: =VLOOKUP(入力・結果シート!L24,防護装備!$A$9:$F$14,5,FALSE) -> 0.1 | X15: =VLOOKUP(入力・結果シート!L24,防護装備!$A$9:$F$14,6,FALSE) -> 0.25 | Y15: =H15*P15*T15*U15 -> #N/A | Z15: =H15*Q15*T15*V15 -> #N/A | AA15: =H15*R15*T15*W15 -> #N/A | AB15: =H15*S15*X15 -> #N/A | AC15: =N15+O15+Y15+Z15+AA15+AB15 -> #N/A | AD15: =AC15/入力・結果シート!$B$8 -> #N/A | AE15: =AC15/$AE$2/入力・結果シート!$B$8 -> #N/A | AF15: =入力・結果シート!$B$7 -> 0 | AG15: =AE15/AF15*100 -> #N/A
... A43: =入力・結果シート!A52 -> 0 | B43: =入力・結果シート!B52 -> 0 | C43: =入力・結果シート!D52 -> 0 | D43: =入力・結果シート!F52 -> 0 | E43: =VLOOKUP(A43,作物分類!A:E,5,FALSE) -> #N/A | F43: =IF(COUNTIF(入力・結果シート!C52,"*球根*"),VLOOKUP(E43,'処理量（球根等）'!$A$1:$E$4,5,FALSE), IF(COUNTIF(入力・結果シート!C52,"*種球*"),VLOOKUP(E43,'処理量（球根等）'!$A$1:$E$4,5,FALSE), VLOOKUP(E43,'処理量（種）'!$A$1:$G$14,7,FALSE))) -> #N/A | G43: =D43*F43/C43 -> #N/A | H43: =G43*入力・結果シート!$B$6 -> #N/A | I43: =VLOOKUP(入力・結果シート!G52,単位暴露量・経皮吸収率!$A$2:$F$7,5,FALSE) -> 14 | J43: =VLOOKUP(入力・結果シート!G52,単位暴露量・経皮吸収率!$A$2:$F$7,6,FALSE) -> 0.086 | K43: =入力・結果シート!I52 -> #N/A | L43: =IF(入力・結果シート!G52="希釈なし", IF(COUNTIF(入力・結果シート!$B$4,"*液*"), VLOOKUP(入力・結果シート!J52,防護装備!$A$5:$F$6,5,FALSE), VLOOKUP(入力・結果シート!J52,防護装備!$A$3:$F$4,5,FALSE)), VLOOKUP(入力・結果シート!J52,防護装備!$A$5:$F$6,5,FALSE)) -> 0.05 | M43: =IF(入力・結果シート!G52="希釈なし", VLOOKUP(入力・結果シート!J52,防護装備!$A$3:$F$4,6,FALSE), VLOOKUP(入力・結果シート!J52,防護装備!$A$5:$F$6,6,FALSE)) -> 0.25 | N43: =H43*I43*K43*L43 -> #N/A | O43: =H43*J43*M43 -> #N/A | P43: =VLOOKUP(入力・結果シート!H52,単位暴露量・経皮吸収率!$A$9:$E$11,2,FALSE) -> 0 | Q43: =VLOOKUP(入力・結果シート!H52,単位暴露量・経皮吸収率!$A$9:$E$11,3,FALSE) -> 0 | R43: =VLOOKUP(入力・結果シート!H52,単位暴露量・経皮吸収率!$A$9:$E$11,4,FALSE) -> 0 | S43: =VLOOKUP(入力・結果シート!H52,単位暴露量・経皮吸収率!$A$9:$E$11,5,FALSE) -> 0 | T43: =入力・結果シート!K52 -> #N/A | U43: =VLOOKUP(入力・結果シート!L52,防護装備!$A$9:$F$14,3,FALSE) -> 0.8 | V43: =VLOOKUP(入力・結果シート!L52,防護装備!$A$9:$F$14,4,FALSE) -> 0.1 | W43: =VLOOKUP(入力・結果シート!L52,防護装備!$A$9:$F$14,5,FALSE) -> 0.1 | X43: =VLOOKUP(入力・結果シート!L52,防護装備!$A$9:$F$14,6,FALSE) -> 0.25 | Y43: =H43*P43*T43*U43 -> #N/A | Z43: =H43*Q43*T43*V43 -> #N/A | AA43: =H43*R43*T43*W43 -> #N/A | AB43: =H43*S43*X43 -> #N/A | AC43: =N43+O43+Y43+Z43+AA43+AB43 -> #N/A | AD43: =AC43/入力・結果シート!$B$8 -> #N/A | AE43: =AC43/$AE$2/入力・結果シート!$B$8 -> #N/A | AF43: =入力・結果シート!$B$7 -> 0 | AG43: =AE43/AF43*100 -> #N/A

Sheet 単位暴露量・経皮吸収率
A2: シナリオ（調製時） | B2: 備考 | C2: 頭 | D2: その他 | E2: 手 | F2: 吸気
A3: 希釈なし | B3: 固形剤 | C3: 0 | D3: 0 | E3: 14 | F3: 0.086
A4: 乳剤等 | B4: ー | C4: 0 | D4: 0 | E4: 140 | F4: 0.0013
A5: フロアブル剤等 | B5: ー | C5: 0 | D5: 0 | E5: 130 | F5: 0.00085
A6: 水和剤等 | B6: ー | C6: 0 | D6: 0 | E6: 77 | F6: 0.071
A7: 顆粒水和剤等 | B7: ー | C7: 0 | D7: 0 | E7: 13 | F7: 0.037
A9: シナリオ（施用時） | B9: 頭 | C9: その他 | D9: 手 | E9: 吸気
A10: － | B10: 0 | C10: 0 | D10: 0 | E10: 0
A11: 芝_手散布 | B11: 0.066 | C11: 1.6 | D11: 1.4 | E11: 0.005
A13: 製剤の種類 | C13: 製剤の状態 | D13: デフォルト値
A14: 乳剤等 | B14: 液体製剤（有機溶剤ベース） その他製剤 | C14: 原液等 | D14: 0.25
A15: 水和剤等 | B15: 液体製剤（水ベース） 固体製剤 | C15: 原液等 | D15: 0.1
A16: 乳剤等 | B16: 液体製剤（有機溶剤ベース） その他製剤 | C16: 希釈液 | D16: 0.7
A17: 水和剤等 | B17: 液体製剤（水ベース） 固体製剤 | C17: 希釈液 | D17: 0.5

Sheet 防護装備
A1: 調製時 | C1: 透過率
A2: 防護装備のパターン | B2: 剤型 | C2: 頭 | D2: 身体 | E2: 手 | F2: 吸気
A3: 不浸透性手袋/マスク１ | B3: 固体 | C3: ー | D3: ー | E3: 0.05 | F3: 0.25
A4: 不浸透性手袋/マスク２ | B4: 固体 | C4: ー | D4: ー | E4: 0.05 | F4: 0.1
A5: 不浸透性手袋/マスク１ | B5: 液体 | C5: ー | D5: ー | E5: 0.1 | F5: 0.25
A6: 不浸透性手袋/マスク２ | B6: 液体 | C6: ー | D6: ー | E6: 0.1 | F6: 0.1
A7: 施用時 | C7: 透過率
A8: 手袋 | B8: 剤型 | C8: 頭 | D8: 身体 | E8: 手 | F8: 吸気
A9: 長ズボン・長袖の作業衣/不浸透性手袋/マスク１ | B9: 液体 | C9: 0.8 | D9: 0.1 | E9: 0.1 | F9: 0.25
A10: 長ズボン・長袖の作業衣/不浸透性手袋/マスク２ | B10: 液体 | C10: 0.8 | D10: 0.1 | E10: 0.1 | F10: 0.1
A11: 不浸透性防除衣/不浸透性手袋/マスク１ | B11: 液体 | C11: 0.8 | D11: 0.05 | E11: 0.1 | F11: 0.25
A12: 不浸透性防除衣/不浸透性手袋/マスク２ | B12: 液体 | C12: 0.8 | D12: 0.05 | E12: 0.1 | F12: 0.1
A13: 不浸透性防除衣＋フード/不浸透性手袋/マスク１ | B13: 液体 | C13: =50%*80% -> 0.4 | D13: 0.05 | E13: 0.1 | F13: 0.25
A14: 不浸透性防除衣＋フード/不浸透性手袋/マスク２ | B14: 液体 | C14: =50%*80% -> 0.4 | D14: 0.05 | E14: 0.1 | F14: 0.1

Sheet 処理量（種）
A1: 作物群 | B1: 粒数 （粒数/10a） | C1: g当たりの粒数 （粒数/g） | D1: は種量 （g /10a） | E1: は種量 （g /a） | F1: 農業経営体当たりの作付面積(a)の75%ile （a/日） | G1: １日は種量 （ｇ/日）
A2: 稲 | B2: － | C2: － | D2: 5000 | E2: =D2/10 -> 500 | F2: 120 | G2: =E2*F2 -> 60000
A3: 麦類 | B3: － | C3: － | D3: 14000 | E3: =D3/10 -> 1400 | F3: 640 | G3: =E3*F3 -> 896000
A4: その他穀類 | B4: － | C4: － | D4: 7000 | E4: =D4/10 -> 700 | F4: 50 | G4: =E4*F4 -> 35000
A5: いも類 | B5: － | C5: － | D5: 400000 | E5: =D5/10 -> 40000 | F5: 40 | G5: =E5*F5 -> 1600000
A6: 鱗茎野菜 | B6: 240000 | C6: 200.9 | D6: 1195 | E6: =D6/10 -> 119.5 | F6: 6 | G6: =E6*F6 -> 717
A7: だいず、あずき | B7: 20000 | C7: 3.3 | D7: 6061 | E7: =D7/10 -> 606.1 | F7: 110 | G7: =E7*F7 -> 66671
A8: 豆類（だいず、あずきを除く） | B8: 45000 | C8: 1 | D8: 45000 | E8: =D8/10 -> 4500 | F8: 28 | G8: =E8*F8 -> 126000
A9: うり科果菜類 | B9: 13500 | C9: 3.5 | D9: 3857 | E9: =D9/10 -> 385.7 | F9: 10 | G9: =E9*F9 -> 3857
A10: なす科果菜類 | B10: 8000 | C10: 32 | D10: 250 | E10: =D10/10 -> 25 | F10: 5 | G10: =E10*F10 -> 125
A11: 葉菜類 | B11: 1500000 | C11: 28.8 | D11: 52083 | E11: =D11/10 -> 5208.3 | F11: 15 | G11: =E11*F11 -> 78124.5
A12: 根菜類 | B12: 630000 | C12: 70.5 | D12: 8936 | E12: =D12/10 -> 893.6 | F12: 5 | G12: =E12*F12 -> 4468
A13: あぶらな属野菜 （葉菜類、根菜類を除く） | B13: 18000 | C13: 176.2 | D13: 102 | E13: =D13/10 -> 10.2 | F13: 5 | G13: =E13*F13 -> 51
A14: その他野菜 | B14: 37500 | C14: 3 | D14: 12500 | E14: =D14/10 -> 1250 | F14: 39 | G14: =E14*F14 -> 48750
A15: （球根等に処理する場合） | D15: 400000 | E15: =D15/10 -> 40000 | F15: 39 | G15: =E15*F15 -> 1560000

Sheet 処理量（球根等）
A1: 作物群 | B1: 植付け量 （g /10a） | C1: 植付け量 （g /a） | D1: 農業経営体当たりの作付面積(a)の75%ile （a/日） | E1: １日植付け量 （ｇ/日）
A2: いも類 | B2: 400000 | C2: =B2/10 -> 40000 | D2: 40 | E2: =C2*D2 -> 1600000
A3: 鱗茎野菜 | B3: 400000 | C3: =B3/10 -> 40000 | D3: 6 | E3: =C3*D3 -> 240000
A4: その他野菜 | B4: 400000 | C4: =B4/10 -> 40000 | D4: 39 | E4: =C4*D4 -> 1560000

Sheet 作物分類
A1: 作物名 | B1: 作物名に含まれる別名、地方名、品種名等の例 | C1: 備 考（収穫部位等） | D1: 1日標準作業面積 | E1: 1日平均作業面積 | F1: このシートは非表示とする。
A2: 天草 | C2: 果実を収穫するもの | D2: 果樹（立体） | E2: かんきつ類
A3: アンコール | D3: 果樹（立体） | E3: かんきつ類
A4: 伊予柑 | D4: 果樹（立体） | E4: かんきつ類
A5: 大紅みかん | D5: 果樹（立体） | E5: かんきつ類
A6: オレンジ | B6: スイートオレンジ、バレンシアオレンジ | D6: 果樹（立体） | E6: かんきつ類
A7: カーブチー | D7: 果樹（立体） | E7: かんきつ類
A8: かぼす | D8: 果樹（立体） | E8: かんきつ類
A9: カラ | B9: カラマンダリン | D9: 果樹（立体） | E9: かんきつ類
A10: 河内晩柑 | D10: 果樹（立体） | E10: かんきつ類
A11: 清見 | D11: 果樹（立体） | E11: かんきつ類
A12: きんかん | B12: ニンポウキンカン、マルキンカン | D12: 果樹（立体） | E12: かんきつ類
A13: グレープフルーツ | D13: 果樹（立体） | E13: かんきつ類
A14: サガマンダリン | D14: 果樹（立体） | E14: かんきつ類
A15: サマーフレッシュ | D15: 果樹（立体） | E15: かんきつ類
A16: シークヮーサー | D16: 果樹（立体） | E16: かんきつ類
A17: じゃばら | D17: 果樹（立体） | E17: かんきつ類
A18: 不知火 | B18: デコポン | D18: 果樹（立体） | E18: かんきつ類
A19: すだち | D19: 果樹（立体） | E19: かんきつ類
A20: せとか | D20: 果樹（立体） | E20: かんきつ類
A21: セミノール | D21: 果樹（立体） | E21: かんきつ類
A22: タロガヨ | D22: 果樹（立体） | E22: かんきつ類
A23: たんかん | D23: 果樹（立体） | E23: かんきつ類
A24: 長門ユズキチ | D24: 果樹（立体） | E24: かんきつ類
A25: なつみかん | B25: 甘夏、なつだいだい | D25: 果樹（立体） | E25: かんきつ類
A26: ネーブル | B26: ワシントンネーブル | D26: 果樹（立体） | E26: かんきつ類
A27: はっさく | D27: 果樹（立体） | E27: かんきつ類
A28: はるか | D28: 果樹（立体） | E28: かんきつ類
A29: はるみ | D29: 果樹（立体） | E29: かんきつ類
A30: はれひめ | D30: 果樹（立体） | E30: かんきつ類
A31: 日向夏 | D31: 果樹（立体） | E31: かんきつ類
A32: ぶんたん | B32: ざぼん、ぼんたん、晩白柚、うちむらさき | D32: 果樹（立体） | E32: かんきつ類
A33: 平兵衛酢 | D33: 果樹（立体） | E33: かんきつ類
A34: ぽんかん | D34: 果樹（立体） | E34: かんきつ類
A35: マーコット | D35: 果樹（立体） | E35: かんきつ類
A36: みかん | B36: 温州みかん、紀州みかん | D36: 果樹（立体） | E36: かんきつ類
A37: ゆず | D37: 果樹（立体） | E37: かんきつ類
A38: ライム | D38: 果樹（立体） | E38: かんきつ類
A39: レモン | D39: 果樹（立体） | E39: かんきつ類
A40: ミカン（Citrus）属、キンカン（Fortunella）属、カラタチ（Poncirus）属又はこれらの交配種で、概ね偏球形、球形又は卵形の果実を収穫するものは、これらの作物群に含まれる。 | D40: 果樹（立体） | E40: かんきつ類
A41: かりん | C41: 果実を収穫するもの | D41: 果樹（立体） | E41: 仁果類（なしを除く）
A42: なし | B42: 日本なし、西洋なし、中国なし | D42: 果樹（棚） | E42: なし
A43: びわ | D43: 果樹（立体） | E43: 仁果類（なしを除く）
A44: マルメロ | D44: 果樹（立体） | E44: 仁果類（なしを除く）
A45: りんご | D45: 果樹（立体） | E45: 仁果類（なしを除く）
A46: もも | C46: 果実を収穫するもの | D46: 果樹（立体） | E46: 核果類
A47: ネクタリン | D47: 果樹（立体） | E47: 核果類
A48: あんず | B48: アプリコット | D48: 果樹（立体） | E48: 核果類
A49: うめ | D49: 果樹（立体） | E49: 核果類
A50: すもも | B50: プラム、プルーン | D50: 果樹（立体） | E50: 核果類
A51: 作物群内の作物間での交配種は、これらの作物群に含まれる。 | D51: 果樹（立体） | E51: 核果類
A52: おうとう | B52: さくらんぼ | C52: 果実を収穫するもの | D52: 果樹（立体） | E52: 核果類
A53: ぶどう | B53: 小粒種ぶどう（デラウェア、シラガブドウ、やまぶどう）、大粒種ぶどう（巨峰系４倍体品種、２倍体米国系品種、２倍体欧州系品種、３倍体品種他） 注１） | C53: 果実を収穫するもの | D53: 果樹（棚） | E53: ベリー類等の小粒果実類
A54: アロニア | B54: チョコベリー | D54: 果樹（立体） | E54: ベリー類等の小粒果実類
A55: がまずみ | B55: ジョミ | D55: 果樹（立体） | E55: ベリー類等の小粒果実類
A56: ぐみ | B56: アキグミ、ダイオウグミ、トウグミ、ナツグミ | D56: 果樹（立体） | E56: ベリー類等の小粒果実類
A57: シーベリー | B57: サジー、サージ、スナヂグミ | D57: 果樹（立体） | E57: ベリー類等の小粒果実類
A58: 食用桑（果実） | B58: カラグワ、ヤマグワ | D58: 果樹（立体） | E58: ベリー類等の小粒果実類
A59: すぐり | B59: グースベリー | D59: 果樹（立体） | E59: ベリー類等の小粒果実類
A60: ハスカップ | B60: クロミノウグイスカグラ | D60: 果樹（立体） | E60: ベリー類等の小粒果実類
A61: ふさすぐり | B61: カーランツ、カラント、カランツ、アカフサスグリ、クロフサスグリ、カシス | D61: 果樹（立体） | E61: ベリー類等の小粒果実類
A62: ブラックベリー | D62: 果樹（立体） | E62: ベリー類等の小粒果実類
A63: ブルーベリー | D63: 果樹（立体） | E63: ベリー類等の小粒果実類
A64: ボイセンベリー | D64: 果樹（立体） | E64: ベリー類等の小粒果実類
A65: やまもも | D65: 果樹（立体） | E65: ベリー類等の小粒果実類
A66: ラズベリー | D66: 果樹（立体） | E66: ベリー類等の小粒果実類
A67: アーモンド | C67: 仁を収穫するもの | D67: 果樹（立体） | E67: その他果樹
A68: あけび（果実） | C68: 果実を収穫するもの | D68: 果樹（立体） | E68: その他果樹
A69: アセロラ | D69: 果樹（立体） | E69: その他果樹
A70: アテモヤ | D70: 果樹（立体） | E70: その他果樹
A71: アボカド | D71: 果樹（立体） | E71: その他果樹
A72: いちじく | D72: 果樹（立体） | E72: その他果樹
A73: いちょう（種子） | B73: ギンナン | C73: 種子を収穫するもの | D73: 果樹（立体） | E73: その他果樹
A74: オリーブ | C74: 果実を収穫するもの | D74: 果樹（立体） | E74: その他果樹
A75: カカオ | D75: 果樹（立体） | E75: その他果樹
A76: かき | D76: 果樹（立体） | E76: その他果樹
A77: カニステル | B77: エッグフルーツ、クダモノタマゴ | D77: 果樹（立体） | E77: その他果樹
A78: キウイフルーツ | D78: 果樹（棚） | E78: その他果樹
A79: グアバ（果実） | B79: バンジロウ、バンザクロ | D79: 果樹（立体） | E79: その他果樹
A80: くり | C80: 種子を収穫するもの | D80: 果樹（立体） | E80: その他果樹
A81: くるみ | D81: 果樹（立体） | E81: その他果樹
A82: コーヒーノキ | D82: 果樹（立体） | E82: その他果樹
A83: ゴレンシ | B83: スターフルーツ | C83: 果実を収穫するもの | D83: 果樹（立体） | E83: その他果樹
A84: ざくろ | D84: 果樹（立体） | E84: その他果樹
A85: サポジラ | D85: 果樹（立体） | E85: その他果樹
A86: さるなし | B86: こくわ、香粋 | D86: 果樹（立体） | E86: その他果樹
A87: さんしょう（果実） | D87: 果樹（立体） | E87: その他果樹
A88: ジャボチカバ | D88: 果樹（立体） | E88: その他果樹
A89: 食用つばき（種子） | C89: 種子を収穫するもの | D89: 果樹（立体） | E89: その他果樹
A90: ストロベリーグアバ | C90: 果実を収穫するもの | D90: 果樹（立体） | E90: その他果樹
A91: チェリモヤ | D91: 果樹（立体） | E91: その他果樹
A92: なつめ | D92: 果樹（立体） | E92: その他果樹
A93: パイナップル | D93: 果樹（立体） | E93: その他果樹
A94: パッションフルーツ | B94: くだものとけいそう | D94: 果樹（立体） | E94: その他果樹
A95: バナナ | D95: 果樹（立体） | E95: その他果樹
A96: パパイヤ | B96: 青パパイヤ | C96: 果実を収穫するもの。 完熟していないものを含む。 | D96: 果樹（立体） | E96: その他果樹
A97: はまなす（果実） | C97: 果実を収穫するもの | D97: 果樹（立体） | E97: その他果樹
A98: バンレイシ | B98: シャカトウ、アテス、シュガーアップル | D98: 果樹（立体） | E98: その他果樹
A99: ピタヤ | B99: ホワイトピタヤ、レッドピタヤ、ゴールデンピタヤ、ドラゴンフルーツ | D99: 果樹（立体） | E99: その他果樹
A100: ピタンガ | B100: タチバナアデク、スリナムチェリー、ブラジルチェリー | D100: 果樹（立体） | E100: その他果樹
...

Sheet 使い方の説明
A1: 種子処理の農薬使用者の暴露量算出シート
A2: 使い方の説明
A3: ・「入力・結果シート」の緑セルに必要事項を入力して下さい。基本的には登録内容のとおり入力下さい。
A4: ・「入力・結果シート」の青セルでは、プルダウンから選択して下さい。
A5: ・「入力・結果シート」のセルにメモを記載していますのでご確認ください（右上に赤印のあるセル）。入力規則や例を示しています。

Sheet 変更履歴
A1: バージョン | B1: 変更点 | C1: ホームページ掲載日
A2: v1 | B2: － | C2: 45477
