Workbook

Sheet 入力、結果
A1: エアゾル剤等の農薬使用者の暴露量算出シート（入力用）
A2: 登録番号
A3: 農薬名
A4: 種類名
A5: 評価対象有効成分名
A6: 有効成分濃度
A7: 経皮吸収率
A8: 総使用回数 | E8: 回
A9: AOEL | E9: mg/kg 体重/日
A10: AAOEL | E10: mg/kg 体重
A11: 防護装備 | E11: 備考
A12: 体 | B12: 手 | D12: 吸気
A13: なし | B13: なし | D13: なし
A15: 農薬使用者の暴露量算出シート（結果）
B16: %AOEL | C16: %AAOEL | D16: 剤型
A17: エアゾル剤 | B17: =IF(D17="計算",エアゾル剤・結果!B28,"") | C17: =IF(D17="計算",エアゾル剤・結果!B32,"") | D17: 計算
A18: トリガースプレー剤 | B18: =IF(D18="計算",スプレー剤・結果!B28,"") | C18: =IF(D18="計算",スプレー剤・結果!B32,"") | D18: 計算
A19: シャワー剤 | B19: =IF(D19="計算",シャワー剤・結果!B28,"") | C19: =IF(D19="計算",シャワー剤・結果!B32,"") | D19: 計算

Sheet エアゾル剤・結果
A1: エアゾル剤の農薬使用者の暴露量算出シート（結果）
A2: 登録番号 | B2: =IF('入力、結果'!B2="","",'入力、結果'!B2)
A3: 農薬名 | B3: =IF('入力、結果'!B3="","",'入力、結果'!B3)
A4: 種類名 | B4: =IF('入力、結果'!B4="","",'入力、結果'!B4)
A5: 評価対象有効成分名 | B5: =IF('入力、結果'!B5="","",'入力、結果'!B5)
A6: 有効成分濃度 | B6: =IF('入力、結果'!B6="","",'入力、結果'!B6)
A7: 経皮吸収率 | B7: =IF('入力、結果'!B7="","",'入力、結果'!B7)
A8: 総使用回数 | B8: =IF('入力、結果'!B8="","",'入力、結果'!B8) | E8: 回
A9: AOEL | B9: =IF('入力、結果'!B9="","",'入力、結果'!B9) | E9: mg/kg 体重/日
A10: AAOEL | B10: =IF('入力、結果'!B10="","",'入力、結果'!B10) | E10: mg/kg 体重
A11: 防護装備 | E11: 備考
A12: 体 | B12: 手 | D12: 吸気
A13: =IF('入力、結果'!A13="","",'入力、結果'!A13) -> なし | B13: =IF('入力、結果'!B13="","",'入力、結果'!B13) -> なし | D13: =IF('入力、結果'!D13="","",'入力、結果'!D13) -> なし
B15: 単位暴露量 μg/g | C15: 散布液量 L/回 | D15: 有効成分使用量 g/回 | E15: 透過率 | F15: 暴露量 μg/回 | G15: 暴露量 mg/回
A16: 頭 | B16: 3.9 | C16: 0.5 | D16: =C16*1000*B6 -> #VALUE! | E16: =IF(AND(A13="なし",D13="なし"),100%, IF(AND(A13="なし",D13="マスク１"),80%, IF(AND(A13="なし",D13="マスク２"),80%, IF(AND(A13="長ズボン・長袖の作業衣",D13="なし"),100%, IF(AND(A13="長ズボン・長袖の作業衣",D13="マスク１"),80%, IF(AND(A13="長ズボン・長袖の作業衣",D13="マスク２"),80%, IF(AND(A13="不浸透性防除衣",D13="なし"),100%, IF(AND(A13="不浸透性防除衣",D13="マスク１"),80%, IF(AND(A13="不浸透性防除衣",D13="マスク２"),80%, IF(AND(A13="不浸透性防除衣＋フード",D13="なし"),50%, IF(AND(A13="不浸透性防除衣＋フード",D13="マスク１"),40%, IF(AND(A13="不浸透性防除衣＋フード",D13="マスク２"),40%, IF(AND(A13="不浸透性防除衣＋フード＋保護面",D13="なし"),5%, IF(AND(A13="不浸透性防除衣＋フード＋保護面",D13="マスク１"),"不適", IF(AND(A13="不浸透性防除衣＋フード＋保護面",D13="マスク２"),"不適"))))))))))))))) -> 1 | F16: =B16*$D$16*E16 -> #VALUE! | G16: =F16/1000 -> #VALUE!
A17: その他 | B17: 82 | E17: =IF(A13="なし",100%, IF(A13="長ズボン・長袖の作業衣",10%, IF(A13="不浸透性防除衣",5%, IF(A13="不浸透性防除衣＋フード",5%, IF(A13="不浸透性防除衣＋フード＋保護面",5%))))) -> 1 | F17: =B17*$D$16*E17 -> #VALUE! | G17: =F17/1000 -> #VALUE!
A18: 手 | B18: 23 | E18: =IF(B13="なし",100%, IF(B13="不浸透性手袋",10%)) -> 1 | F18: =B18*$D$16*E18 -> #VALUE! | G18: =F18/1000 -> #VALUE!
A19: 吸気 | B19: 6.6 | E19: =IF(D13="なし",100%, IF(D13="マスク１",25%, IF(D13="マスク２",10%))) -> 1 | F19: =B19*$D$16*E19 -> #VALUE! | G19: =F19/1000 -> #VALUE!
B21: 暴露量 mg/回 | C21: 経皮吸収率考慮暴露量 mg/回
A22: 経皮 | B22: =G16+G17+G18 -> #VALUE! | C22: =B22*B7 -> #VALUE!
A23: 吸入 | B23: =G19 -> #VALUE!
A24: 合計 | C24: =C22+B23 -> #VALUE!
A26: １シーズンの日数 | B26: 30 | D26: 日
A27: 反復農薬使用者暴露量 | B27: =B31*B8/B26 -> #VALUE! | D27: mg/kg体重/日
A28: %AOEL | B28: =IFERROR(B27/B9,"") | D28: 100%超です
A30: 体重 | B30: 55.1 | D30: kg
A31: 急性農薬使用者暴露量 | B31: =C24/B30 -> #VALUE! | D31: mg/kg体重
A32: %AAOEL | B32: =IFERROR(B31/B10,"") | D32: 100%超です

Sheet スプレー剤・結果
A1: トリガースプレー剤の農薬使用者の暴露量算出シート（結果）
A2: 登録番号 | B2: =IF('入力、結果'!B2="","",'入力、結果'!B2)
A3: 農薬名 | B3: =IF('入力、結果'!B3="","",'入力、結果'!B3)
A4: 種類名 | B4: =IF('入力、結果'!B4="","",'入力、結果'!B4)
A5: 評価対象有効成分名 | B5: =IF('入力、結果'!B5="","",'入力、結果'!B5)
A6: 有効成分濃度 | B6: =IF('入力、結果'!B6="","",'入力、結果'!B6)
A7: 経皮吸収率 | B7: =IF('入力、結果'!B7="","",'入力、結果'!B7)
A8: 総使用回数 | B8: =IF('入力、結果'!B8="","",'入力、結果'!B8) | E8: 回
A9: AOEL | B9: =IF('入力、結果'!B9="","",'入力、結果'!B9) | E9: mg/kg 体重/日
A10: AAOEL | B10: =IF('入力、結果'!B10="","",'入力、結果'!B10) | E10: mg/kg 体重
A11: 防護装備 | E11: 備考
A12: 体 | B12: 手 | D12: 吸気
A13: =IF('入力、結果'!A13="","",'入力、結果'!A13) -> なし | B13: =IF('入力、結果'!B13="","",'入力、結果'!B13) -> なし | D13: =IF('入力、結果'!D13="","",'入力、結果'!D13) -> なし
B15: 単位暴露量 μg/g | C15: 散布液量 L/回 | D15: 有効成分使用量 g/回 | E15: 透過率 | F15: 暴露量 μg/回 | G15: 暴露量 mg/回
A16: 頭 | B16: 3.9 | C16: 1 | D16: =C16*1000*B6 -> #VALUE! | E16: =IF(AND(A13="なし",D13="なし"),100%, IF(AND(A13="なし",D13="マスク１"),80%, IF(AND(A13="なし",D13="マスク２"),80%, IF(AND(A13="長ズボン・長袖の作業衣",D13="なし"),100%, IF(AND(A13="長ズボン・長袖の作業衣",D13="マスク１"),80%, IF(AND(A13="長ズボン・長袖の作業衣",D13="マスク２"),80%, IF(AND(A13="不浸透性防除衣",D13="なし"),100%, IF(AND(A13="不浸透性防除衣",D13="マスク１"),80%, IF(AND(A13="不浸透性防除衣",D13="マスク２"),80%, IF(AND(A13="不浸透性防除衣＋フード",D13="なし"),50%, IF(AND(A13="不浸透性防除衣＋フード",D13="マスク１"),40%, IF(AND(A13="不浸透性防除衣＋フード",D13="マスク２"),40%, IF(AND(A13="不浸透性防除衣＋フード＋保護面",D13="なし"),5%, IF(AND(A13="不浸透性防除衣＋フード＋保護面",D13="マスク１"),"不適", IF(AND(A13="不浸透性防除衣＋フード＋保護面",D13="マスク２"),"不適"))))))))))))))) -> 1 | F16: =B16*$D$16*E16 -> #VALUE! | G16: =F16/1000 -> #VALUE!
A17: その他 | B17: 82 | E17: =IF(A13="なし",100%, IF(A13="長ズボン・長袖の作業衣",10%, IF(A13="不浸透性防除衣",5%, IF(A13="不浸透性防除衣＋フード",5%, IF(A13="不浸透性防除衣＋フード＋保護面",5%))))) -> 1 | F17: =B17*$D$16*E17 -> #VALUE! | G17: =F17/1000 -> #VALUE!
A18: 手 | B18: 23 | E18: =IF(B13="なし",100%, IF(B13="不浸透性手袋",10%)) -> 1 | F18: =B18*$D$16*E18 -> #VALUE! | G18: =F18/1000 -> #VALUE!
A19: 吸気 | B19: 0.67 | E19: =IF(D13="なし",100%, IF(D13="マスク１",25%, IF(D13="マスク２",10%))) -> 1 | F19: =B19*$D$16*E19 -> #VALUE! | G19: =F19/1000 -> #VALUE!
B21: 暴露量 mg/回 | C21: 経皮吸収率考慮暴露量 mg/回
A22: 経皮 | B22: =G16+G17+G18 -> #VALUE! | C22: =B22*B7 -> #VALUE!
A23: 吸入 | B23: =G19 -> #VALUE!
A24: 合計 | C24: =C22+B23 -> #VALUE!
A26: １シーズンの日数 | B26: 30 | D26: 日
A27: 農薬使用者暴露量 | B27: =B31*B8/B26 -> #VALUE! | D27: mg/kg体重/日
A28: %AOEL | B28: =IFERROR(B27/B9,"") | D28: 100%超です
A30: 体重 | B30: 55.1 | D30: kg
A31: 農薬使用者暴露量 | B31: =C24/B30 -> #VALUE! | D31: mg/kg体重
A32: %AAOEL | B32: =IFERROR(B31/B10,"") | D32: 100%超です

Sheet シャワー剤・結果
A1: シャワー剤の農薬使用者の暴露量算出シート（結果）
A2: 登録番号 | B2: =IF('入力、結果'!B2="","",'入力、結果'!B2)
A3: 農薬名 | B3: =IF('入力、結果'!B3="","",'入力、結果'!B3)
A4: 種類名 | B4: =IF('入力、結果'!B4="","",'入力、結果'!B4)
A5: 評価対象有効成分名 | B5: =IF('入力、結果'!B5="","",'入力、結果'!B5)
A6: 有効成分濃度 | B6: =IF('入力、結果'!B6="","",'入力、結果'!B6)
A7: 経皮吸収率 | B7: =IF('入力、結果'!B7="","",'入力、結果'!B7)
A8: 総使用回数 | B8: =IF('入力、結果'!B8="","",'入力、結果'!B8) | E8: 回
A9: AOEL | B9: =IF('入力、結果'!B9="","",'入力、結果'!B9) | E9: mg/kg 体重/日
A10: AAOEL | B10: =IF('入力、結果'!B10="","",'入力、結果'!B10) | E10: mg/kg 体重
A11: 防護装備 | E11: 備考
A12: 体 | B12: 手 | D12: 吸気
A13: =IF('入力、結果'!A13="","",'入力、結果'!A13) -> なし | B13: =IF('入力、結果'!B13="","",'入力、結果'!B13) -> なし | D13: =IF('入力、結果'!D13="","",'入力、結果'!D13) -> なし
B15: 単位暴露量 μg/g | C15: 散布液量 L/回 | D15: 有効成分使用量 g/回 | E15: 透過率 | F15: 暴露量 μg/回 | G15: 暴露量 mg/回
A16: 頭 | B16: 0.034 | C16: 6 | D16: =C16*1000*B6 -> #VALUE! | E16: =IF(AND(A13="なし",D13="なし"),100%, IF(AND(A13="なし",D13="マスク１"),80%, IF(AND(A13="なし",D13="マスク２"),80%, IF(AND(A13="長ズボン・長袖の作業衣",D13="なし"),100%, IF(AND(A13="長ズボン・長袖の作業衣",D13="マスク１"),80%, IF(AND(A13="長ズボン・長袖の作業衣",D13="マスク２"),80%, IF(AND(A13="不浸透性防除衣",D13="なし"),100%, IF(AND(A13="不浸透性防除衣",D13="マスク１"),80%, IF(AND(A13="不浸透性防除衣",D13="マスク２"),80%, IF(AND(A13="不浸透性防除衣＋フード",D13="なし"),50%, IF(AND(A13="不浸透性防除衣＋フード",D13="マスク１"),40%, IF(AND(A13="不浸透性防除衣＋フード",D13="マスク２"),40%, IF(AND(A13="不浸透性防除衣＋フード＋保護面",D13="なし"),5%, IF(AND(A13="不浸透性防除衣＋フード＋保護面",D13="マスク１"),"不適", IF(AND(A13="不浸透性防除衣＋フード＋保護面",D13="マスク２"),"不適"))))))))))))))) -> 1 | F16: =B16*$D$16*E16 -> #VALUE! | G16: =F16/1000 -> #VALUE!
A17: その他 | B17: 0.44 | E17: =IF(A13="なし",100%, IF(A13="長ズボン・長袖の作業衣",10%, IF(A13="不浸透性防除衣",5%, IF(A13="不浸透性防除衣＋フード",5%, IF(A13="不浸透性防除衣＋フード＋保護面",5%))))) -> 1 | F17: =B17*$D$16*E17 -> #VALUE! | G17: =F17/1000 -> #VALUE!
A18: 手 | B18: 6.5 | E18: =IF(B13="なし",100%, IF(B13="不浸透性手袋",10%)) -> 1 | F18: =B18*$D$16*E18 -> #VALUE! | G18: =F18/1000 -> #VALUE!
A19: 吸気 | B19: 0.00036 | E19: =IF(D13="なし",100%, IF(D13="マスク１",25%, IF(D13="マスク２",10%))) -> 1 | F19: =B19*$D$16*E19 -> #VALUE! | G19: =F19/1000 -> #VALUE!
B21: 暴露量 mg/回 | C21: 経皮吸収率考慮暴露量 mg/回
A22: 経皮 | B22: =G16+G17+G18 -> #VALUE! | C22: =B22*B7 -> #VALUE!
A23: 吸入 | B23: =G19 -> #VALUE!
A24: 合計 | C24: =C22+B23 -> #VALUE!
A26: １シーズンの日数 | B26: 30 | D26: 日
A27: 農薬使用者暴露量 | B27: =B31*B8/B26 -> #VALUE! | D27: mg/kg体重/日
A28: %AOEL | B28: =IFERROR(B27/B9,"") | D28: 100%超です
A30: 体重 | B30: 55.1 | D30: kg
A31: 農薬使用者暴露量 | B31: =C24/B30 -> #VALUE! | D31: mg/kg体重
A32: %AAOEL | B32: =IFERROR(B31/B10,"") | D32: 100%超です

Sheet プルダウンリスト
B2: 体 | C2: 手 | D2: マスク | F2: （剤型選択） | I2: エアゾル剤 | J2: スプレー剤 | K2: シャワー剤
B3: なし | C3: なし | D3: なし | F3: エアゾル剤 | H3: 頭 | I3: 3.9 | J3: 3.9 | K3: 0.034
B4: 長ズボン・長袖の作業衣 | C4: 不浸透性手袋 | D4: マスク１ | F4: トリガースプレー剤 | H4: その他 | I4: 82 | J4: 82 | K4: 0.44
B5: 不浸透性防除衣 | D5: マスク２ | F5: シャワー剤 | H5: 手 | I5: 23 | J5: 23 | K5: 6.5
B6: 不浸透性防除衣＋フード | H6: 吸気 | I6: 6.6 | J6: 0.67 | K6: 0.00036
B7: 不浸透性防除衣＋フード＋保護面
I8: エアゾル剤 | J8: スプレー剤 | K8: シャワー剤
H9: 液量 | I9: 0.5 | J9: 1 | K9: 6
B10: 体
B11: 計算

Sheet 使い方の説明
A1: エアゾル剤等の農薬使用者の暴露量算出シート
A2: 使い方の説明
A3: ・「入力・結果」シートの緑セルに必要事項を入力して下さい。
A4: ・「入力・結果」シートの青セルでは、プルダウンから選択して下さい。
A5: ・「入力・結果」シートのセルにメモを記載していますのでご確認ください（右上に赤印のあるセル）。入力規則や例を示しています。

Sheet 変更履歴
A1: バージョン | B1: 変更点 | C1: ホームページ掲載日
A2: v1 | B2: － | C2: 45477
