{"text_format":"1","workbook":"xlsx","n_sheets":12,"sheets":["説明","入力シート","計算結果","花粉花蜜残留試験結果","精緻化計算結果","ドシエ様式整理用1","ドシエ様式整理用2","蜂個体を用いた影響評価（推計スクリーニング段階）","蜂個体を用いた影響評価（花粉花蜜残留試験実測値による精緻化）","基本パラメータ","BeeRex","更新履歴"],"not_rendered":{"charts":0,"images":6,"macros":1,"external_links":0,"defined_names":5,"comments":1,"pivot_tables":0},"unopened":[],"bounds":{"document_bytes":16777216,"sheet_cells":100000,"rows_first":2000,"rows_last":500,"rows_between":2000,"halvings":0,"cell_chars":16384,"cell_head_chars":4096},"cells_cut":0,"cells_raw":0,"read":"whole","date_system":"1900"}

{"sheet":"説明","index":0,"n_rows":2,"n_cols":2,"rows_kept":2,"cut":false,"hidden":false,"merged":[]}
[]
[null,"*　入力シートについて、列の追加はしないでください。（行の追加は可能です。）"]

{"sheet":"入力シート","index":1,"n_rows":7,"n_cols":19,"rows_kept":7,"cut":false,"hidden":false,"merged":[[1,3,1,5],[0,3,0,6],[5,9,5,13],[1,10,1,11]]}
[{"$f":"更新履歴!J1","v":"Ver.2.0.1"},null,null,"有効成分の毒性値"]
[null,null,null,"成虫",null,null,"幼虫",null,"オクタノール水分配係数（LogPow）※１","土壌吸着係数（Koc）\n※２","※1：LogPow≦5\n※2：Kocは中央値を入力"]
[null,null,null,"急性接触\n毒性値（LD50）\n（µg a.i./bee）","急性経口\n毒性値（LD50）\n（µg a.i./bee）","反復経口\n毒性値（LDD50）\n(µg a.i./bee/day）","\n経口毒性値\n（LD50）\n(µg a.i./bee)"]
[null,null,null,null,null,null,null,null,{"$f":"BeeRex!D7","v":" "}]
[]
[null,null,null,null,null,null,null,null,null,"投下量（該当する箇所に入力。その他は空欄）"]
["登録番号","農薬の種類","農薬の名称","一般名\n（該当する有効成分名を記載）","剤型","有効成分含有率（%）","作物名","適用病害虫","使用方法","最小希釈倍数（倍）","最大散布液量（L/10a)","最大薬量（mL/10a）","最小希釈水量（L/10a）","最大投下量（g/10a）\n粒剤等希釈しないもの","散布方法\n（1～4のうち、合致するものを選択）","適用作物の花蜜の有無\n（あり→○、なし→×）","開花前収穫\n（する→○、しない→×）","施設内のみ\n（該当→○、該当しない→×）","ミツバチが好まない作物\n（該当→○、該当しない→×）"]

{"sheet":"計算結果","index":2,"n_rows":4,"n_cols":28,"rows_kept":4,"cut":false,"hidden":false,"merged":[]}
[]
[]
["登録番号","農薬の種類","農薬の名称","一般名\n（該当する有効成分名を記載）","剤型","有効成分含有率（%）","作物名","適用病害虫","使用方法","暴露シナリオ","最小希釈倍数（倍）\n又は\n最大薬量（mL/10a）","最大散布液量（L/10a）\n又は\n最小希釈液量（L/10a）\n又は最大使用量（g/10a）","１０a当たり製剤投下量（g/10a）","ha当たりa.i.投下量（kg a.i./ha)","散布時の濃度（%）","接触リスク評価","経口リスク評価","推定\n花粉・花蜜残留濃度（µg/g）","成虫\n接触暴露量\n（µg/bee）","成虫\n推定経口暴露量\n（µg/bee）","幼虫\n推定\n経口暴露量\n（µg/bee）","成虫\n接触\n暴露量/毒性指標","成虫\n経口\n暴露量/毒性指標","成虫\n経口反復\n暴露量/毒性指標","幼虫\n経口\n暴露量/毒性指標","成虫反復試験の要否","精緻化\nまたは\n蜂群試験の\n要否","実施する措置\n※（花粉花蜜残留試験 \nor\n 蜂群試験 \nor\n 使用制限）"]
[{"$f":"入力シート!A8","v":0},{"$f":"入力シート!B8","v":0},{"$f":"入力シート!C8","v":0},{"$f":"入力シート!D8","v":0},{"$f":"入力シート!E8","v":0},{"$f":"入力シート!F8","v":0},{"$f":"入力シート!G8","v":0},{"$f":"入力シート!H8","v":0},{"$f":"入力シート!I8","v":0},{"$f":"入力シート!O8","v":0},{"$f":"IF(入力シート!$J8<>\"\",入力シート!$J8,IF(入力シート!$L8<>\"\",入力シート!$L8,\"‐\"))","v":"‐"},{"$f":"IF(入力シート!$K8<>\"\",入力シート!$K8,IF(入力シート!$M8<>\"\",入力シート!$M8,入力シート!$N8))","v":0},{"$f":"IF(入力シート!K8<>\"\",入力シート!K8/入力シート!J8*1000,IF(入力シート!L8<>\"\",入力シート!L8,入力シート!N8))","v":0},{"$f":"M4*入力シート!F8/100","v":0},{"$f":"IF(入力シート!J8<>\"\",入力シート!F8/入力シート!J8,IF(入力シート!L8<>\"\",(入力シート!F8/((入力シート!M8 *1000+入力シート!L8)/入力シート!L8)),入力シート!F8))","v":0},{"$f":"IF(OR(入力シート!O8<>\"1茎葉散布\",入力シート!Q8=\"○\",入力シート!R8=\"○\",入力シート!S8=\"○\"),\"不要\",\"必要\")","v":"不要"},{"$f":"IF(OR(入力シート!O8=\"4配置・誘引\",入力シート!Q8=\"○\",入力シート!R8=\"○\",入力シート!S8=\"○\"),\"不要\",\"必要\")","v":"必要"},{"$f":"IF(入力シート!O8=\"1茎葉散布\",基本パラメータ!$B$6*N4,IF(入力シート!O8=\"2土壌処理\",BeeRex!$C$17*N4,IF(入力シート!O8=\"3種子処理\",1,\"－\")))","v":"－"},{"$f":"IF(P4=\"必要\",基本パラメータ!$B$12*O4,\"－\")","v":"－"},{"$f":"IF(Q4=\"必要\",IF(入力シート!P8=\"○\",R4*(基本パラメータ!$B$2+基本パラメータ!$B$3),R4*基本パラメータ!$B$2),\"－\")","v":{"$error":"#VALUE!"}},{"$f":"IF(Q4=\"必要\",IF(入力シート!P8=\"○\",R4*(基本パラメータ!$C$2+基本パラメータ!$C$3),R4*基本パラメータ!$C$2),\"－\")","v":{"$error":"#VALUE!"}},{"$f":"IF(P4=\"必要\",S4/入力シート!$D$4,\"－\")","v":"－"},{"$f":"IF(Q4=\"必要\",T4/入力シート!$E$4,\"－\")","v":{"$error":"#VALUE!"}},{"$f":"IF(Q4=\"必要\",T4/入力シート!$F$4,\"－\")","v":{"$error":"#VALUE!"}},{"$f":"IF(Q4=\"必要\",U4/入力シート!$G$4,\"－\")","v":{"$error":"#VALUE!"}},{"$f":"IF(W4=\"－\",\"不要\",IF(W4>0.04,\"必要\",\"不要\"))","v":{"$error":"#VALUE!"}},{"$f":"IF(AND(W4=\"－\",X4=\"－\",Y4=\"－\"),\"\",IF(OR(W4>0.4,X4>0.4,Y4>0.4),\"要\",\"不要\"))","v":{"$error":"#VALUE!"}}]

{"sheet":"花粉花蜜残留試験結果","index":3,"n_rows":156,"n_cols":10,"rows_kept":156,"cut":false,"hidden":false,"merged":[[1,0,2,0],[1,1,2,1],[1,6,1,7],[1,8,1,9],[0,6,0,9],[0,2,0,4],[1,2,2,2],[1,4,2,4],[1,5,2,5],[1,3,2,3]]}
[null,null,"※オレンジ色のセルに必要事項を入力後、右の\"精緻化\"ボタンを押してください。",null,null,null,"残留量（μg/g）"]
["適用作物名＋使用方法","試験作物名＋試験番号","適用作物名","使用方法","試験作物名","試験番号等","最大値",null,"平均値"]
[null,null,null,null,null,null,"花粉","花蜜","花粉","花蜜"]
[{"$f":"CONCATENATE(C4,D4)","v":""},{"$f":"CONCATENATE(E4,F4)","v":""}]
[{"$f":"CONCATENATE(C5,D5)","v":""},{"$f":"CONCATENATE(E5,F5)","v":""}]
["",""]
["",""]
["",""]
["",""]
["",""]
["",""]
["",""]
["",""]
["",""]
["",""]
["",""]
["",""]
["",""]
["",""]
["",""]
["",""]
["",""]
["",""]
["",""]
["",""]
["",""]
["",""]
["",""]
["",""]
["",""]
["",""]
["",""]
["",""]
["",""]
["",""]
["",""]
["",""]
["",""]
["",""]
["",""]
["",""]
["",""]
["",""]
["",""]
["",""]
["",""]
["",""]
["",""]
["",""]
["",""]
["",""]
["",""]
["",""]
["",""]
["",""]
["",""]
["",""]
["",""]
["",""]
["",""]
["",""]
["",""]
["",""]
["",""]
["",""]
["",""]
["",""]
["",""]
[{"$f":"CONCATENATE(C69,D69)","v":""},{"$f":"CONCATENATE(E69,F69)","v":""}]
[{"$f":"CONCATENATE(C70,D70)","v":""},{"$f":"CONCATENATE(E70,F70)","v":""}]
["",""]
["",""]
["",""]
["",""]
["",""]
["",""]
["",""]
["",""]
["",""]
["",""]
["",""]
["",""]
["",""]
["",""]
["",""]
["",""]
["",""]
["",""]
["",""]
["",""]
["",""]
["",""]
["",""]
["",""]
["",""]
["",""]
["",""]
["",""]
["",""]
["",""]
["",""]
["",""]
["",""]
["",""]
["",""]
["",""]
["",""]
["",""]
["",""]
["",""]
["",""]
["",""]
["",""]
["",""]
["",""]
["",""]
["",""]
["",""]
["",""]
["",""]
["",""]
["",""]
["",""]
["",""]
["",""]
["",""]
["",""]
["",""]
["",""]
["",""]
["",""]
["",""]
["",""]
[{"$f":"CONCATENATE(C134,D134)","v":""},{"$f":"CONCATENATE(E134,F134)","v":""}]
["",""]
["",""]
["",""]
["",""]
["",""]
["",""]
["",""]
["",""]
["",""]
["",""]
["",""]
["",""]
["",""]
["",""]
["",""]
["",""]
["",""]
["",""]
["",""]
["",""]
["",""]
["",""]

{"sheet":"精緻化計算結果","index":4,"n_rows":4,"n_cols":39,"rows_kept":4,"cut":false,"hidden":false,"merged":[[0,12,1,26],[1,29,1,30],[1,31,1,32],[0,33,1,38],[0,29,0,32]]}
[null,null,null,null,null,null,null,null,null,null,null,null,"Tier1スクリーニング結果",null,null,null,null,null,null,null,null,null,null,null,null,null,null,null,null,"実測花粉・花蜜残留濃度",null,null,null,"精緻化結果"]
[null,null,null,null,null,null,null,null,null,null,null,null,null,null,null,null,null,null,null,null,null,null,null,null,null,null,null,null,null,"最大値\n（µg/g）",null,"平均値\n（µg/g）"]
["登録番号","農薬の種類","農薬の名称","一般名\n（該当する有効成分名を記載）","剤型","有効成分含有率（%）","作物名","適用病害虫","使用方法","暴露シナリオ","最小希釈倍数（倍）\n又は\n最大薬量（mL/10a）","最大散布液量（L/10a）\n又は\n最小希釈液量（L/10a）\n又は最大使用量（g/10a）","１０a当たり製剤投下量（g/10a）","ha当たりa.i.投下量（kg a.i./ha)","散布時の濃度（%）","接触リスク評価","経口リスク評価","推定\n花粉・花蜜残留濃度（µg/g）","成虫\n接触暴露量\n（µg/bee）","成虫\n推定経口暴露量\n（µg/bee）","幼虫\n推定\n経口暴露量\n（µg/bee）","成虫\n接触\n暴露量/毒性指標","成虫\n経口\n暴露量/毒性指標","成虫\n経口反復\n暴露量/毒性指標","幼虫\n経口\n暴露量/毒性指標","成虫反復試験の要否","精緻化の要否","試験作物名","試験番号","花粉","花蜜","花粉","花蜜","成虫\n精緻化\n経口暴露量\n（µg/bee）","成虫\n精緻化\n経口反復\n暴露量\n（µg/bee）","幼虫\n精緻化\n経口暴露量\n（µg/bee）","成虫\n経口\n暴露量/毒性指標","成虫\n経口反復\n暴露量/毒性指標","幼虫\n経口\n暴露量/毒性指標"]
[12345678,"ABC水和剤","DEFフロアブル","ABC","水和剤",0.1,"Z","カメムシ類","散布","1茎葉散布",1000,100,100,0.1,1E-4,"必要","必要",9.8000000000000007,7.0000000000000001E-3,9.4079999999999997E-2,3.5279999999999999E-2,3.4999999999999996E-2,94.08,9.4079999999999997E-2,0.70559999999999989,"必要","要",{"$f":"VLOOKUP(CONCATENATE($G4,$I4),花粉花蜜残留試験結果!$A$4:$E$1000,5,FALSE)","v":{"$error":"#N/A"}},{"$f":"VLOOKUP(CONCATENATE($G4,$I4),花粉花蜜残留試験結果!$A$4:$J$1000,6,FALSE)","v":{"$error":"#N/A"}},{"$f":"VLOOKUP(CONCATENATE($AB4,$AC4),花粉花蜜残留試験結果!$B$4:$J$1000,6,FALSE)","v":{"$error":"#N/A"}},{"$f":"VLOOKUP(CONCATENATE($AB4,$AC4),花粉花蜜残留試験結果!$B$4:$J$1000,7,FALSE)","v":{"$error":"#N/A"}},{"$f":"VLOOKUP(CONCATENATE($AB4,$AC4),花粉花蜜残留試験結果!$B$4:$J$1000,8,FALSE)","v":{"$error":"#N/A"}},{"$f":"VLOOKUP(CONCATENATE($AB4,$AC4),花粉花蜜残留試験結果!$B$4:$J$1000,9,FALSE)","v":{"$error":"#N/A"}},{"$f":"精緻化計算結果!AD4*基本パラメータ!$B$2+精緻化計算結果!AE4*基本パラメータ!$B$3","v":{"$error":"#N/A"}},{"$f":"AF4*基本パラメータ!$B$2+精緻化計算結果!AG4*基本パラメータ!$B$3","v":{"$error":"#N/A"}},{"$f":"AD4*基本パラメータ!$C$2+精緻化計算結果!AE4*基本パラメータ!$C$3","v":{"$error":"#N/A"}},{"$f":"精緻化計算結果!AH4/入力シート!$E$4","v":{"$error":"#N/A"}},{"$f":"精緻化計算結果!AI4/入力シート!$F$4","v":{"$error":"#N/A"}},{"$f":"精緻化計算結果!AJ4/入力シート!$G$4","v":{"$error":"#N/A"}}]

{"sheet":"ドシエ様式整理用1","index":5,"n_rows":1229,"n_cols":19,"rows_kept":1229,"cut":false,"hidden":true,"merged":[[0,1,2,1],[0,0,2,0],[0,5,2,5],[0,10,2,10],[0,7,2,7],[0,2,2,2],[0,9,2,9],[0,6,2,6],[0,8,2,8],[0,3,2,3],[0,4,2,4],[0,11,0,13],[1,12,1,13],[1,11,2,11],[1,14,2,14],[1,15,1,17],[0,14,0,17]]}
["登録番号","作物名","適用病害虫","最小希釈倍率（倍）","最大使用液量\n（L/10a）","使用方法","暴露シナリオ","適用作物の花粉・花蜜の有無\n（P：花粉,N：花蜜）","ha当たりの有効成分投下量\n（kg a.i./ha）","散布液/粉中有効成分濃度（％）","推定花粉・花蜜濃度\n（µg/g）","推定暴露量\n（µg/bee）",null,null,"推定暴露量/毒性指標"]
[null,null,null,null,null,null,null,null,null,null,null,"接触","経口",null,"接触","経口"]
[null,null,null,null,null,null,null,null,null,null,null,null,"成虫","幼虫",null,"（成虫/単回）","（成虫/反復）","（幼虫）"]
[{"$f":"入力シート!A8","v":0},{"$f":"入力シート!G8","v":0},{"$f":"入力シート!H8","v":0},{"$f":"IF(入力シート!$J8<>\"\",入力シート!$J8,IF(入力シート!$L8<>\"\",入力シート!$L8,\"‐\"))","v":"‐"},{"$f":"IF(入力シート!$K8<>\"\",入力シート!$K8,IF(入力シート!$M8<>\"\",入力シート!$M8,入力シート!$N8))","v":0},{"$f":"入力シート!I8","v":0},{"$f":"入力シート!O8","v":0},{"$f":"IF(入力シート!P8=\"×\",\"P\",\"PN\")","v":"PN"},{"$f":"計算結果!N4","v":0},{"$f":"計算結果!O4","v":0},{"$f":"計算結果!R4","v":"－"},{"$f":"計算結果!$S4","v":"－"},{"$f":"計算結果!$T4","v":{"$error":"#VALUE!"}},{"$f":"計算結果!$U4","v":{"$error":"#VALUE!"}},{"$f":"計算結果!V4","v":"－"},{"$f":"計算結果!W4","v":{"$error":"#VALUE!"}},{"$f":"計算結果!X4","v":{"$error":"#VALUE!"}},{"$f":"計算結果!Y4","v":{"$error":"#VALUE!"}},{"$f":"IF(計算結果!AB4<>\"\",計算結果!AB4,\"\")","v":""}]
[{"$f":"入力シート!A9","v":0},{"$f":"入力シート!G9","v":0},{"$f":"入力シート!H9","v":0},{"$f":"IF(入力シート!$J9<>\"\",入力シート!$J9,IF(入力シート!$L9<>\"\",入力シート!$L9,\"‐\"))","v":"‐"},{"$f":"IF(入力シート!$K9<>\"\",入力シート!$K9,IF(入力シート!$M9<>\"\",入力シート!$M9,入力シート!$N9))","v":0},{"$f":"入力シート!I9","v":0},{"$f":"入力シート!O9","v":0},{"$f":"IF(入力シート!P9=\"×\",\"P\",\"PN\")","v":"PN"},{"$f":"計算結果!#REF!","v":{"$error":"#REF!"}},{"$f":"計算結果!#REF!","v":{"$error":"#REF!"}},{"$f":"計算結果!#REF!","v":{"$error":"#REF!"}},{"$f":"計算結果!#REF!","v":{"$error":"#REF!"}},{"$f":"計算結果!#REF!","v":{"$error":"#REF!"}},{"$f":"計算結果!#REF!","v":{"$error":"#REF!"}},{"$f":"計算結果!#REF!","v":{"$error":"#REF!"}},{"$f":"計算結果!#REF!","v":{"$error":"#REF!"}},{"$f":"計算結果!#REF!","v":{"$error":"#REF!"}},{"$f":"計算結果!#REF!","v":{"$error":"#REF!"}},{"$f":"IF(計算結果!#REF!<>\"\",計算結果!#REF!,\"\")","v":{"$error":"#REF!"}}]
[{"$f":"入力シート!A10","v":0},{"$f":"入力シート!G10","v":0},{"$f":"入力シート!H10","v":0},{"$f":"IF(入力シート!$J10<>\"\",入力シート!$J10,IF(入力シート!$L10<>\"\",入力シート!$L10,\"‐\"))","v":"‐"},{"$f":"IF(入力シート!$K10<>\"\",入力シート!$K10,IF(入力シート!$M10<>\"\",入力シート!$M10,入力シート!$N10))","v":0},{"$f":"入力シート!I10","v":0},{"$f":"入力シート!O10","v":0},{"$f":"IF(入力シート!P10=\"×\",\"P\",\"PN\")","v":"PN"},{"$f":"計算結果!#REF!","v":{"$error":"#REF!"}},{"$f":"計算結果!#REF!","v":{"$error":"#REF!"}},{"$f":"計算結果!#REF!","v":{"$error":"#REF!"}},{"$f":"計算結果!#REF!","v":{"$error":"#REF!"}},{"$f":"計算結果!#REF!","v":{"$error":"#REF!"}},{"$f":"計算結果!#REF!","v":{"$error":"#REF!"}},{"$f":"計算結果!#REF!","v":{"$error":"#REF!"}},{"$f":"計算結果!#REF!","v":{"$error":"#REF!"}},{"$f":"計算結果!#REF!","v":{"$error":"#REF!"}},{"$f":"計算結果!#REF!","v":{"$error":"#REF!"}},{"$f":"IF(計算結果!#REF!<>\"\",計算結果!#REF!,\"\")","v":{"$error":"#REF!"}}]
[{"$f":"入力シート!A11","v":0},{"$f":"入力シート!G11","v":0},{"$f":"入力シート!H11","v":0},{"$f":"IF(入力シート!$J11<>\"\",入力シート!$J11,IF(入力シート!$L11<>\"\",入力シート!$L11,\"‐\"))","v":"‐"},{"$f":"IF(入力シート!$K11<>\"\",入力シート!$K11,IF(入力シート!$M11<>\"\",入力シート!$M11,入力シート!$N11))","v":0},{"$f":"入力シート!I11","v":0},{"$f":"入力シート!O11","v":0},{"$f":"IF(入力シート!P11=\"×\",\"P\",\"PN\")","v":"PN"},{"$f":"計算結果!#REF!","v":{"$error":"#REF!"}},{"$f":"計算結果!#REF!","v":{"$error":"#REF!"}},{"$f":"計算結果!#REF!","v":{"$error":"#REF!"}},{"$f":"計算結果!#REF!","v":{"$error":"#REF!"}},{"$f":"計算結果!#REF!","v":{"$error":"#REF!"}},{"$f":"計算結果!#REF!","v":{"$error":"#REF!"}},{"$f":"計算結果!#REF!","v":{"$error":"#REF!"}},{"$f":"計算結果!#REF!","v":{"$error":"#REF!"}},{"$f":"計算結果!#REF!","v":{"$error":"#REF!"}},{"$f":"計算結果!#REF!","v":{"$error":"#REF!"}},{"$f":"IF(計算結果!#REF!<>\"\",計算結果!#REF!,\"\")","v":{"$error":"#REF!"}}]
[{"$f":"入力シート!A12","v":0},{"$f":"入力シート!G12","v":0},{"$f":"入力シート!H12","v":0},{"$f":"IF(入力シート!$J12<>\"\",入力シート!$J12,IF(入力シート!$L12<>\"\",入力シート!$L12,\"‐\"))","v":"‐"},{"$f":"IF(入力シート!$K12<>\"\",入力シート!$K12,IF(入力シート!$M12<>\"\",入力シート!$M12,入力シート!$N12))","v":0},{"$f":"入力シート!I12","v":0},{"$f":"入力シート!O12","v":0},{"$f":"IF(入力シート!P12=\"×\",\"P\",\"PN\")","v":"PN"},{"$f":"計算結果!#REF!","v":{"$error":"#REF!"}},{"$f":"計算結果!#REF!","v":{"$error":"#REF!"}},{"$f":"計算結果!#REF!","v":{"$error":"#REF!"}},{"$f":"計算結果!#REF!","v":{"$error":"#REF!"}},{"$f":"計算結果!#REF!","v":{"$error":"#REF!"}},{"$f":"計算結果!#REF!","v":{"$error":"#REF!"}},{"$f":"計算結果!#REF!","v":{"$error":"#REF!"}},{"$f":"計算結果!#REF!","v":{"$error":"#REF!"}},{"$f":"計算結果!#REF!","v":{"$error":"#REF!"}},{"$f":"計算結果!#REF!","v":{"$error":"#REF!"}},{"$f":"IF(計算結果!#REF!<>\"\",計算結果!#REF!,\"\")","v":{"$error":"#REF!"}}]
[{"$f":"入力シート!A13","v":0},{"$f":"入力シート!G13","v":0},{"$f":"入力シート!H13","v":0},{"$f":"IF(入力シート!$J13<>\"\",入力シート!$J13,IF(入力シート!$L13<>\"\",入力シート!$L13,\"‐\"))","v":"‐"},{"$f":"IF(入力シート!$K13<>\"\",入力シート!$K13,IF(入力シート!$M13<>\"\",入力シート!$M13,入力シート!$N13))","v":0},{"$f":"入力シート!I13","v":0},{"$f":"入力シート!O13","v":0},{"$f":"IF(入力シート!P13=\"×\",\"P\",\"PN\")","v":"PN"},{"$f":"計算結果!#REF!","v":{"$error":"#REF!"}},{"$f":"計算結果!#REF!","v":{"$error":"#REF!"}},{"$f":"計算結果!#REF!","v":{"$error":"#REF!"}},{"$f":"計算結果!#REF!","v":{"$error":"#REF!"}},{"$f":"計算結果!#REF!","v":{"$error":"#REF!"}},{"$f":"計算結果!#REF!","v":{"$error":"#REF!"}},{"$f":"計算結果!#REF!","v":{"$error":"#REF!"}},{"$f":"計算結果!#REF!","v":{"$error":"#REF!"}},{"$f":"計算結果!#REF!","v":{"$error":"#REF!"}},{"$f":"計算結果!#REF!","v":{"$error":"#REF!"}},{"$f":"IF(計算結果!#REF!<>\"\",計算結果!#REF!,\"\")","v":{"$error":"#REF!"}}]
[{"$f":"入力シート!A14","v":0},{"$f":"入力シート!G14","v":0},{"$f":"入力シート!H14","v":0},{"$f":"IF(入力シート!$J14<>\"\",入力シート!$J14,IF(入力シート!$L14<>\"\",入力シート!$L14,\"‐\"))","v":"‐"},{"$f":"IF(入力シート!$K14<>\"\",入力シート!$K14,IF(入力シート!$M14<>\"\",入力シート!$M14,入力シート!$N14))","v":0},{"$f":"入力シート!I14","v":0},{"$f":"入力シート!O14","v":0},{"$f":"IF(入力シート!P14=\"×\",\"P\",\"PN\")","v":"PN"},{"$f":"計算結果!#REF!","v":{"$error":"#REF!"}},{"$f":"計算結果!#REF!","v":{"$error":"#REF!"}},{"$f":"計算結果!#REF!","v":{"$error":"#REF!"}},{"$f":"計算結果!#REF!","v":{"$error":"#REF!"}},{"$f":"計算結果!#REF!","v":{"$error":"#REF!"}},{"$f":"計算結果!#REF!","v":{"$error":"#REF!"}},{"$f":"計算結果!#REF!","v":{"$error":"#REF!"}},{"$f":"計算結果!#REF!","v":{"$error":"#REF!"}},{"$f":"計算結果!#REF!","v":{"$error":"#REF!"}},{"$f":"計算結果!#REF!","v":{"$error":"#REF!"}},{"$f":"IF(計算結果!#REF!<>\"\",計算結果!#REF!,\"\")","v":{"$error":"#REF!"}}]
[{"$f":"入力シート!A15","v":0},{"$f":"入力シート!G15","v":0},{"$f":"入力シート!H15","v":0},{"$f":"IF(入力シート!$J15<>\"\",入力シート!$J15,IF(入力シート!$L15<>\"\",入力シート!$L15,\"‐\"))","v":"‐"},{"$f":"IF(入力シート!$K15<>\"\",入力シート!$K15,IF(入力シート!$M15<>\"\",入力シート!$M15,入力シート!$N15))","v":0},{"$f":"入力シート!I15","v":0},{"$f":"入力シート!O15","v":0},{"$f":"IF(入力シート!P15=\"×\",\"P\",\"PN\")","v":"PN"},{"$f":"計算結果!#REF!","v":{"$error":"#REF!"}},{"$f":"計算結果!#REF!","v":{"$error":"#REF!"}},{"$f":"計算結果!#REF!","v":{"$error":"#REF!"}},{"$f":"計算結果!#REF!","v":{"$error":"#REF!"}},{"$f":"計算結果!#REF!","v":{"$error":"#REF!"}},{"$f":"計算結果!#REF!","v":{"$error":"#REF!"}},{"$f":"計算結果!#REF!","v":{"$error":"#REF!"}},{"$f":"計算結果!#REF!","v":{"$error":"#REF!"}},{"$f":"計算結果!#REF!","v":{"$error":"#REF!"}},{"$f":"計算結果!#REF!","v":{"$error":"#REF!"}},{"$f":"IF(計算結果!#REF!<>\"\",計算結果!#REF!,\"\")","v":{"$error":"#REF!"}}]
[{"$f":"入力シート!A16","v":0},{"$f":"入力シート!G16","v":0},{"$f":"入力シート!H16","v":0},{"$f":"IF(入力シート!$J16<>\"\",入力シート!$J16,IF(入力シート!$L16<>\"\",入力シート!$L16,\"‐\"))","v":"‐"},{"$f":"IF(入力シート!$K16<>\"\",入力シート!$K16,IF(入力シート!$M16<>\"\",入力シート!$M16,入力シート!$N16))","v":0},{"$f":"入力シート!I16","v":0},{"$f":"入力シート!O16","v":0},{"$f":"IF(入力シート!P16=\"×\",\"P\",\"PN\")","v":"PN"},{"$f":"計算結果!#REF!","v":{"$error":"#REF!"}},{"$f":"計算結果!#REF!","v":{"$error":"#REF!"}},{"$f":"計算結果!#REF!","v":{"$error":"#REF!"}},{"$f":"計算結果!#REF!","v":{"$error":"#REF!"}},{"$f":"計算結果!#REF!","v":{"$error":"#REF!"}},{"$f":"計算結果!#REF!","v":{"$error":"#REF!"}},{"$f":"計算結果!#REF!","v":{"$error":"#REF!"}},{"$f":"計算結果!#REF!","v":{"$error":"#REF!"}},{"$f":"計算結果!#REF!","v":{"$error":"#REF!"}},{"$f":"計算結果!#REF!","v":{"$error":"#REF!"}},{"$f":"IF(計算結果!#REF!<>\"\",計算結果!#REF!,\"\")","v":{"$error":"#REF!"}}]
[{"$f":"入力シート!A17","v":0},{"$f":"入力シート!G17","v":0},{"$f":"入力シート!H17","v":0},{"$f":"IF(入力シート!$J17<>\"\",入力シート!$J17,IF(入力シート!$L17<>\"\",入力シート!$L17,\"‐\"))","v":"‐"},{"$f":"IF(入力シート!$K17<>\"\",入力シート!$K17,IF(入力シート!$M17<>\"\",入力シート!$M17,入力シート!$N17))","v":0},{"$f":"入力シート!I17","v":0},{"$f":"入力シート!O17","v":0},{"$f":"IF(入力シート!P17=\"×\",\"P\",\"PN\")","v":"PN"},{"$f":"計算結果!#REF!","v":{"$error":"#REF!"}},{"$f":"計算結果!#REF!","v":{"$error":"#REF!"}},{"$f":"計算結果!#REF!","v":{"$error":"#REF!"}},{"$f":"計算結果!#REF!","v":{"$error":"#REF!"}},{"$f":"計算結果!#REF!","v":{"$error":"#REF!"}},{"$f":"計算結果!#REF!","v":{"$error":"#REF!"}},{"$f":"計算結果!#REF!","v":{"$error":"#REF!"}},{"$f":"計算結果!#REF!","v":{"$error":"#REF!"}},{"$f":"計算結果!#REF!","v":{"$error":"#REF!"}},{"$f":"計算結果!#REF!","v":{"$error":"#REF!"}},{"$f":"IF(計算結果!#REF!<>\"\",計算結果!#REF!,\"\")","v":{"$error":"#REF!"}}]
[{"$f":"入力シート!A18","v":0},{"$f":"入力シート!G18","v":0},{"$f":"入力シート!H18","v":0},{"$f":"IF(入力シート!$J18<>\"\",入力シート!$J18,IF(入力シート!$L18<>\"\",入力シート!$L18,\"‐\"))","v":"‐"},{"$f":"IF(入力シート!$K18<>\"\",入力シート!$K18,IF(入力シート!$M18<>\"\",入力シート!$M18,入力シート!$N18))","v":0},{"$f":"入力シート!I18","v":0},{"$f":"入力シート!O18","v":0},{"$f":"IF(入力シート!P18=\"×\",\"P\",\"PN\")","v":"PN"},{"$f":"計算結果!#REF!","v":{"$error":"#REF!"}},{"$f":"計算結果!#REF!","v":{"$error":"#REF!"}},{"$f":"計算結果!#REF!","v":{"$error":"#REF!"}},{"$f":"計算結果!#REF!","v":{"$error":"#REF!"}},{"$f":"計算結果!#REF!","v":{"$error":"#REF!"}},{"$f":"計算結果!#REF!","v":{"$error":"#REF!"}},{"$f":"計算結果!#REF!","v":{"$error":"#REF!"}},{"$f":"計算結果!#REF!","v":{"$error":"#REF!"}},{"$f":"計算結果!#REF!","v":{"$error":"#REF!"}},{"$f":"計算結果!#REF!","v":{"$error":"#REF!"}},{"$f":"IF(計算結果!#REF!<>\"\",計算結果!#REF!,\"\")","v":{"$error":"#REF!"}}]
[{"$f":"入力シート!A19","v":0},{"$f":"入力シート!G19","v":0},{"$f":"入力シート!H19","v":0},{"$f":"IF(入力シート!$J19<>\"\",入力シート!$J19,IF(入力シート!$L19<>\"\",入力シート!$L19,\"‐\"))","v":"‐"},{"$f":"IF(入力シート!$K19<>\"\",入力シート!$K19,IF(入力シート!$M19<>\"\",入力シート!$M19,入力シート!$N19))","v":0},{"$f":"入力シート!I19","v":0},{"$f":"入力シート!O19","v":0},{"$f":"IF(入力シート!P19=\"×\",\"P\",\"PN\")","v":"PN"},{"$f":"計算結果!#REF!","v":{"$error":"#REF!"}},{"$f":"計算結果!#REF!","v":{"$error":"#REF!"}},{"$f":"計算結果!#REF!","v":{"$error":"#REF!"}},{"$f":"計算結果!#REF!","v":{"$error":"#REF!"}},{"$f":"計算結果!#REF!","v":{"$error":"#REF!"}},{"$f":"計算結果!#REF!","v":{"$error":"#REF!"}},{"$f":"計算結果!#REF!","v":{"$error":"#REF!"}},{"$f":"計算結果!#REF!","v":{"$error":"#REF!"}},{"$f":"計算結果!#REF!","v":{"$error":"#REF!"}},{"$f":"計算結果!#REF!","v":{"$error":"#REF!"}},{"$f":"IF(計算結果!#REF!<>\"\",計算結果!#REF!,\"\")","v":{"$error":"#REF!"}}]
[{"$f":"入力シート!A20","v":0},{"$f":"入力シート!G20","v":0},{"$f":"入力シート!H20","v":0},{"$f":"IF(入力シート!$J20<>\"\",入力シート!$J20,IF(入力シート!$L20<>\"\",入力シート!$L20,\"‐\"))","v":"‐"},{"$f":"IF(入力シート!$K20<>\"\",入力シート!$K20,IF(入力シート!$M20<>\"\",入力シート!$M20,入力シート!$N20))","v":0},{"$f":"入力シート!I20","v":0},{"$f":"入力シート!O20","v":0},{"$f":"IF(入力シート!P20=\"×\",\"P\",\"PN\")","v":"PN"},{"$f":"計算結果!#REF!","v":{"$error":"#REF!"}},{"$f":"計算結果!#REF!","v":{"$error":"#REF!"}},{"$f":"計算結果!#REF!","v":{"$error":"#REF!"}},{"$f":"計算結果!#REF!","v":{"$error":"#REF!"}},{"$f":"計算結果!#REF!","v":{"$error":"#REF!"}},{"$f":"計算結果!#REF!","v":{"$error":"#REF!"}},{"$f":"計算結果!#REF!","v":{"$error":"#REF!"}},{"$f":"計算結果!#REF!","v":{"$error":"#REF!"}},{"$f":"計算結果!#REF!","v":{"$error":"#REF!"}},{"$f":"計算結果!#REF!","v":{"$error":"#REF!"}},{"$f":"IF(計算結果!#REF!<>\"\",計算結果!#REF!,\"\")","v":{"$error":"#REF!"}}]
[{"$f":"入力シート!A21","v":0},{"$f":"入力シート!G21","v":0},{"$f":"入力シート!H21","v":0},{"$f":"IF(入力シート!$J21<>\"\",入力シート!$J21,IF(入力シート!$L21<>\"\",入力シート!$L21,\"‐\"))","v":"‐"},{"$f":"IF(入力シート!$K21<>\"\",入力シート!$K21,IF(入力シート!$M21<>\"\",入力シート!$M21,入力シート!$N21))","v":0},{"$f":"入力シート!I21","v":0},{"$f":"入力シート!O21","v":0},{"$f":"IF(入力シート!P21=\"×\",\"P\",\"PN\")","v":"PN"},{"$f":"計算結果!#REF!","v":{"$error":"#REF!"}},{"$f":"計算結果!#REF!","v":{"$error":"#REF!"}},{"$f":"計算結果!#REF!","v":{"$error":"#REF!"}},{"$f":"計算結果!#REF!","v":{"$error":"#REF!"}},{"$f":"計算結果!#REF!","v":{"$error":"#REF!"}},{"$f":"計算結果!#REF!","v":{"$error":"#REF!"}},{"$f":"計算結果!#REF!","v":{"$error":"#REF!"}},{"$f":"計算結果!#REF!","v":{"$error":"#REF!"}},{"$f":"計算結果!#REF!","v":{"$error":"#REF!"}},{"$f":"計算結果!#REF!","v":{"$error":"#REF!"}},{"$f":"IF(計算結果!#REF!<>\"\",計算結果!#REF!,\"\")","v":{"$error":"#REF!"}}]
[{"$f":"入力シート!A22","v":0},{"$f":"入力シート!G22","v":0},{"$f":"入力シート!H22","v":0},{"$f":"IF(入力シート!$J22<>\"\",入力シート!$J22,IF(入力シート!$L22<>\"\",入力シート!$L22,\"‐\"))","v":"‐"},{"$f":"IF(入力シート!$K22<>\"\",入力シート!$K22,IF(入力シート!$M22<>\"\",入力シート!$M22,入力シート!$N22))","v":0},{"$f":"入力シート!I22","v":0},{"$f":"入力シート!O22","v":0},{"$f":"IF(入力シート!P22=\"×\",\"P\",\"PN\")","v":"PN"},{"$f":"計算結果!#REF!","v":{"$error":"#REF!"}},{"$f":"計算結果!#REF!","v":{"$error":"#REF!"}},{"$f":"計算結果!#REF!","v":{"$error":"#REF!"}},{"$f":"計算結果!#REF!","v":{"$error":"#REF!"}},{"$f":"計算結果!#REF!","v":{"$error":"#REF!"}},{"$f":"計算結果!#REF!","v":{"$error":"#REF!"}},{"$f":"計算結果!#REF!","v":{"$error":"#REF!"}},{"$f":"計算結果!#REF!","v":{"$error":"#REF!"}},{"$f":"計算結果!#REF!","v":{"$error":"#REF!"}},{"$f":"計算結果!#REF!","v":{"$error":"#REF!"}},{"$f":"IF(計算結果!#REF!<>\"\",計算結果!#REF!,\"\")","v":{"$error":"#REF!"}}]
[{"$f":"入力シート!A23","v":0},{"$f":"入力シート!G23","v":0},{"$f":"入力シート!H23","v":0},{"$f":"IF(入力シート!$J23<>\"\",入力シート!$J23,IF(入力シート!$L23<>\"\",入力シート!$L23,\"‐\"))","v":"‐"},{"$f":"IF(入力シート!$K23<>\"\",入力シート!$K23,IF(入力シート!$M23<>\"\",入力シート!$M23,入力シート!$N23))","v":0},{"$f":"入力シート!I23","v":0},{"$f":"入力シート!O23","v":0},{"$f":"IF(入力シート!P23=\"×\",\"P\",\"PN\")","v":"PN"},{"$f":"計算結果!#REF!","v":{"$error":"#REF!"}},{"$f":"計算結果!#REF!","v":{"$error":"#REF!"}},{"$f":"計算結果!#REF!","v":{"$error":"#REF!"}},{"$f":"計算結果!#REF!","v":{"$error":"#REF!"}},{"$f":"計算結果!#REF!","v":{"$error":"#REF!"}},{"$f":"計算結果!#REF!","v":{"$error":"#REF!"}},{"$f":"計算結果!#REF!","v":{"$error":"#REF!"}},{"$f":"計算結果!#REF!","v":{"$error":"#REF!"}},{"$f":"計算結果!#REF!","v":{"$error":"#REF!"}},{"$f":"計算結果!#REF!","v":{"$error":"#REF!"}},{"$f":"IF(計算結果!#REF!<>\"\",計算結果!#REF!,\"\")","v":{"$error":"#REF!"}}]
[{"$f":"入力シート!A24","v":0},{"$f":"入力シート!G24","v":0},{"$f":"入力シート!H24","v":0},{"$f":"IF(入力シート!$J24<>\"\",入力シート!$J24,IF(入力シート!$L24<>\"\",入力シート!$L24,\"‐\"))","v":"‐"},{"$f":"IF(入力シート!$K24<>\"\",入力シート!$K24,IF(入力シート!$M24<>\"\",入力シート!$M24,入力シート!$N24))","v":0},{"$f":"入力シート!I24","v":0},{"$f":"入力シート!O24","v":0},{"$f":"IF(入力シート!P24=\"×\",\"P\",\"PN\")","v":"PN"},{"$f":"計算結果!#REF!","v":{"$error":"#REF!"}},{"$f":"計算結果!#REF!","v":{"$error":"#REF!"}},{"$f":"計算結果!#REF!","v":{"$error":"#REF!"}},{"$f":"計算結果!#REF!","v":{"$error":"#REF!"}},{"$f":"計算結果!#REF!","v":{"$error":"#REF!"}},{"$f":"計算結果!#REF!","v":{"$error":"#REF!"}},{"$f":"計算結果!#REF!","v":{"$error":"#REF!"}},{"$f":"計算結果!#REF!","v":{"$error":"#REF!"}},{"$f":"計算結果!#REF!","v":{"$error":"#REF!"}},{"$f":"計算結果!#REF!","v":{"$error":"#REF!"}},{"$f":"IF(計算結果!#REF!<>\"\",計算結果!#REF!,\"\")","v":{"$error":"#REF!"}}]
[{"$f":"入力シート!A25","v":0},{"$f":"入力シート!G25","v":0},{"$f":"入力シート!H25","v":0},{"$f":"IF(入力シート!$J25<>\"\",入力シート!$J25,IF(入力シート!$L25<>\"\",入力シート!$L25,\"‐\"))","v":"‐"},{"$f":"IF(入力シート!$K25<>\"\",入力シート!$K25,IF(入力シート!$M25<>\"\",入力シート!$M25,入力シート!$N25))","v":0},{"$f":"入力シート!I25","v":0},{"$f":"入力シート!O25","v":0},{"$f":"IF(入力シート!P25=\"×\",\"P\",\"PN\")","v":"PN"},{"$f":"計算結果!#REF!","v":{"$error":"#REF!"}},{"$f":"計算結果!#REF!","v":{"$error":"#REF!"}},{"$f":"計算結果!#REF!","v":{"$error":"#REF!"}},{"$f":"計算結果!#REF!","v":{"$error":"#REF!"}},{"$f":"計算結果!#REF!","v":{"$error":"#REF!"}},{"$f":"計算結果!#REF!","v":{"$error":"#REF!"}},{"$f":"計算結果!#REF!","v":{"$error":"#REF!"}},{"$f":"計算結果!#REF!","v":{"$error":"#REF!"}},{"$f":"計算結果!#REF!","v":{"$error":"#REF!"}},{"$f":"計算結果!#REF!","v":{"$error":"#REF!"}},{"$f":"IF(計算結果!#REF!<>\"\",計算結果!#REF!,\"\")","v":{"$error":"#REF!"}}]
[{"$f":"入力シート!A26","v":0},{"$f":"入力シート!G26","v":0},{"$f":"入力シート!H26","v":0},{"$f":"IF(入力シート!$J26<>\"\",入力シート!$J26,IF(入力シート!$L26<>\"\",入力シート!$L26,\"‐\"))","v":"‐"},{"$f":"IF(入力シート!$K26<>\"\",入力シート!$K26,IF(入力シート!$M26<>\"\",入力シート!$M26,入力シート!$N26))","v":0},{"$f":"入力シート!I26","v":0},{"$f":"入力シート!O26","v":0},{"$f":"IF(入力シート!P26=\"×\",\"P\",\"PN\")","v":"PN"},{"$f":"計算結果!#REF!","v":{"$error":"#REF!"}},{"$f":"計算結果!#REF!","v":{"$error":"#REF!"}},{"$f":"計算結果!#REF!","v":{"$error":"#REF!"}},{"$f":"計算結果!#REF!","v":{"$error":"#REF!"}},{"$f":"計算結果!#REF!","v":{"$error":"#REF!"}},{"$f":"計算結果!#REF!","v":{"$error":"#REF!"}},{"$f":"計算結果!#REF!","v":{"$error":"#REF!"}},{"$f":"計算結果!#REF!","v":{"$error":"#REF!"}},{"$f":"計算結果!#REF!","v":{"$error":"#REF!"}},{"$f":"計算結果!#REF!","v":{"$error":"#REF!"}},{"$f":"IF(計算結果!#REF!<>\"\",計算結果!#REF!,\"\")","v":{"$error":"#REF!"}}]
[{"$f":"入力シート!A27","v":0},{"$f":"入力シート!G27","v":0},{"$f":"入力シート!H27","v":0},{"$f":"IF(入力シート!$J27<>\"\",入力シート!$J27,IF(入力シート!$L27<>\"\",入力シート!$L27,\"‐\"))","v":"‐"},{"$f":"IF(入力シート!$K27<>\"\",入力シート!$K27,IF(入力シート!$M27<>\"\",入力シート!$M27,入力シート!$N27))","v":0},{"$f":"入力シート!I27","v":0},{"$f":"入力シート!O27","v":0},{"$f":"IF(入力シート!P27=\"×\",\"P\",\"PN\")","v":"PN"},{"$f":"計算結果!#REF!","v":{"$error":"#REF!"}},{"$f":"計算結果!#REF!","v":{"$error":"#REF!"}},{"$f":"計算結果!#REF!","v":{"$error":"#REF!"}},{"$f":"計算結果!#REF!","v":{"$error":"#REF!"}},{"$f":"計算結果!#REF!","v":{"$error":"#REF!"}},{"$f":"計算結果!#REF!","v":{"$error":"#REF!"}},{"$f":"計算結果!#REF!","v":{"$error":"#REF!"}},{"$f":"計算結果!#REF!","v":{"$error":"#REF!"}},{"$f":"計算結果!#REF!","v":{"$error":"#REF!"}},{"$f":"計算結果!#REF!","v":{"$error":"#REF!"}},{"$f":"IF(計算結果!#REF!<>\"\",計算結果!#REF!,\"\")","v":{"$error":"#REF!"}}]
[{"$f":"入力シート!A28","v":0},{"$f":"入力シート!G28","v":0},{"$f":"入力シート!H28","v":0},{"$f":"IF(入力シート!$J28<>\"\",入力シート!$J28,IF(入力シート!$L28<>\"\",入力シート!$L28,\"‐\"))","v":"‐"},{"$f":"IF(入力シート!$K28<>\"\",入力シート!$K28,IF(入力シート!$M28<>\"\",入力シート!$M28,入力シート!$N28))","v":0},{"$f":"入力シート!I28","v":0},{"$f":"入力シート!O28","v":0},{"$f":"IF(入力シート!P28=\"×\",\"P\",\"PN\")","v":"PN"},{"$f":"計算結果!#REF!","v":{"$error":"#REF!"}},{"$f":"計算結果!#REF!","v":{"$error":"#REF!"}},{"$f":"計算結果!#REF!","v":{"$error":"#REF!"}},{"$f":"計算結果!#REF!","v":{"$error":"#REF!"}},{"$f":"計算結果!#REF!","v":{"$error":"#REF!"}},{"$f":"計算結果!#REF!","v":{"$error":"#REF!"}},{"$f":"計算結果!#REF!","v":{"$error":"#REF!"}},{"$f":"計算結果!#REF!","v":{"$error":"#REF!"}},{"$f":"計算結果!#REF!","v":{"$error":"#REF!"}},{"$f":"計算結果!#REF!","v":{"$error":"#REF!"}},{"$f":"IF(計算結果!#REF!<>\"\",計算結果!#REF!,\"\")","v":{"$error":"#REF!"}}]
[{"$f":"入力シート!A29","v":0},{"$f":"入力シート!G29","v":0},{"$f":"入力シート!H29","v":0},{"$f":"IF(入力シート!$J29<>\"\",入力シート!$J29,IF(入力シート!$L29<>\"\",入力シート!$L29,\"‐\"))","v":"‐"},{"$f":"IF(入力シート!$K29<>\"\",入力シート!$K29,IF(入力シート!$M29<>\"\",入力シート!$M29,入力シート!$N29))","v":0},{"$f":"入力シート!I29","v":0},{"$f":"入力シート!O29","v":0},{"$f":"IF(入力シート!P29=\"×\",\"P\",\"PN\")","v":"PN"},{"$f":"計算結果!#REF!","v":{"$error":"#REF!"}},{"$f":"計算結果!#REF!","v":{"$error":"#REF!"}},{"$f":"計算結果!#REF!","v":{"$error":"#REF!"}},{"$f":"計算結果!#REF!","v":{"$error":"#REF!"}},{"$f":"計算結果!#REF!","v":{"$error":"#REF!"}},{"$f":"計算結果!#REF!","v":{"$error":"#REF!"}},{"$f":"計算結果!#REF!","v":{"$error":"#REF!"}},{"$f":"計算結果!#REF!","v":{"$error":"#REF!"}},{"$f":"計算結果!#REF!","v":{"$error":"#REF!"}},{"$f":"計算結果!#REF!","v":{"$error":"#REF!"}},{"$f":"IF(計算結果!#REF!<>\"\",計算結果!#REF!,\"\")","v":{"$error":"#REF!"}}]
[{"$f":"入力シート!A30","v":0},{"$f":"入力シート!G30","v":0},{"$f":"入力シート!H30","v":0},{"$f":"IF(入力シート!$J30<>\"\",入力シート!$J30,IF(入力シート!$L30<>\"\",入力シート!$L30,\"‐\"))","v":"‐"},{"$f":"IF(入力シート!$K30<>\"\",入力シート!$K30,IF(入力シート!$M30<>\"\",入力シート!$M30,入力シート!$N30))","v":0},{"$f":"入力シート!I30","v":0},{"$f":"入力シート!O30","v":0},{"$f":"IF(入力シート!P30=\"×\",\"P\",\"PN\")","v":"PN"},{"$f":"計算結果!#REF!","v":{"$error":"#REF!"}},{"$f":"計算結果!#REF!","v":{"$error":"#REF!"}},{"$f":"計算結果!#REF!","v":{"$error":"#REF!"}},{"$f":"計算結果!#REF!","v":{"$error":"#REF!"}},{"$f":"計算結果!#REF!","v":{"$error":"#REF!"}},{"$f":"計算結果!#REF!","v":{"$error":"#REF!"}},{"$f":"計算結果!#REF!","v":{"$error":"#REF!"}},{"$f":"計算結果!#REF!","v":{"$error":"#REF!"}},{"$f":"計算結果!#REF!","v":{"$error":"#REF!"}},{"$f":"計算結果!#REF!","v":{"$error":"#REF!"}},{"$f":"IF(計算結果!#REF!<>\"\",計算結果!#REF!,\"\")","v":{"$error":"#REF!"}}]
[{"$f":"入力シート!A31","v":0},{"$f":"入力シート!G31","v":0},{"$f":"入力シート!H31","v":0},{"$f":"IF(入力シート!$J31<>\"\",入力シート!$J31,IF(入力シート!$L31<>\"\",入力シート!$L31,\"‐\"))","v":"‐"},{"$f":"IF(入力シート!$K31<>\"\",入力シート!$K31,IF(入力シート!$M31<>\"\",入力シート!$M31,入力シート!$N31))","v":0},{"$f":"入力シート!I31","v":0},{"$f":"入力シート!O31","v":0},{"$f":"IF(入力シート!P31=\"×\",\"P\",\"PN\")","v":"PN"},{"$f":"計算結果!#REF!","v":{"$error":"#REF!"}},{"$f":"計算結果!#REF!","v":{"$error":"#REF!"}},{"$f":"計算結果!#REF!","v":{"$error":"#REF!"}},{"$f":"計算結果!#REF!","v":{"$error":"#REF!"}},{"$f":"計算結果!#REF!","v":{"$error":"#REF!"}},{"$f":"計算結果!#REF!","v":{"$error":"#REF!"}},{"$f":"計算結果!#REF!","v":{"$error":"#REF!"}},{"$f":"計算結果!#REF!","v":{"$error":"#REF!"}},{"$f":"計算結果!#REF!","v":{"$error":"#REF!"}},{"$f":"計算結果!#REF!","v":{"$error":"#REF!"}},{"$f":"IF(計算結果!#REF!<>\"\",計算結果!#REF!,\"\")","v":{"$error":"#REF!"}}]
[{"$f":"入力シート!A32","v":0},{"$f":"入力シート!G32","v":0},{"$f":"入力シート!H32","v":0},{"$f":"IF(入力シート!$J32<>\"\",入力シート!$J32,IF(入力シート!$L32<>\"\",入力シート!$L32,\"‐\"))","v":"‐"},{"$f":"IF(入力シート!$K32<>\"\",入力シート!$K32,IF(入力シート!$M32<>\"\",入力シート!$M32,入力シート!$N32))","v":0},{"$f":"入力シート!I32","v":0},{"$f":"入力シート!O32","v":0},{"$f":"IF(入力シート!P32=\"×\",\"P\",\"PN\")","v":"PN"},{"$f":"計算結果!#REF!","v":{"$error":"#REF!"}},{"$f":"計算結果!#REF!","v":{"$error":"#REF!"}},{"$f":"計算結果!#REF!","v":{"$error":"#REF!"}},{"$f":"計算結果!#REF!","v":{"$error":"#REF!"}},{"$f":"計算結果!#REF!","v":{"$error":"#REF!"}},{"$f":"計算結果!#REF!","v":{"$error":"#REF!"}},{"$f":"計算結果!#REF!","v":{"$error":"#REF!"}},{"$f":"計算結果!#REF!","v":{"$error":"#REF!"}},{"$f":"計算結果!#REF!","v":{"$error":"#REF!"}},{"$f":"計算結果!#REF!","v":{"$error":"#REF!"}},{"$f":"IF(計算結果!#REF!<>\"\",計算結果!#REF!,\"\")","v":{"$error":"#REF!"}}]
[{"$f":"入力シート!A33","v":0},{"$f":"入力シート!G33","v":0},{"$f":"入力シート!H33","v":0},{"$f":"IF(入力シート!$J33<>\"\",入力シート!$J33,IF(入力シート!$L33<>\"\",入力シート!$L33,\"‐\"))","v":"‐"},{"$f":"IF(入力シート!$K33<>\"\",入力シート!$K33,IF(入力シート!$M33<>\"\",入力シート!$M33,入力シート!$N33))","v":0},{"$f":"入力シート!I33","v":0},{"$f":"入力シート!O33","v":0},{"$f":"IF(入力シート!P33=\"×\",\"P\",\"PN\")","v":"PN"},{"$f":"計算結果!#REF!","v":{"$error":"#REF!"}},{"$f":"計算結果!#REF!","v":{"$error":"#REF!"}},{"$f":"計算結果!#REF!","v":{"$error":"#REF!"}},{"$f":"計算結果!#REF!","v":{"$error":"#REF!"}},{"$f":"計算結果!#REF!","v":{"$error":"#REF!"}},{"$f":"計算結果!#REF!","v":{"$error":"#REF!"}},{"$f":"計算結果!#REF!","v":{"$error":"#REF!"}},{"$f":"計算結果!#REF!","v":{"$error":"#REF!"}},{"$f":"計算結果!#REF!","v":{"$error":"#REF!"}},{"$f":"計算結果!#REF!","v":{"$error":"#REF!"}},{"$f":"IF(計算結果!#REF!<>\"\",計算結果!#REF!,\"\")","v":{"$error":"#REF!"}}]
[{"$f":"入力シート!A34","v":0},{"$f":"入力シート!G34","v":0},{"$f":"入力シート!H34","v":0},{"$f":"IF(入力シート!$J34<>\"\",入力シート!$J34,IF(入力シート!$L34<>\"\",入力シート!$L34,\"‐\"))","v":"‐"},{"$f":"IF(入力シート!$K34<>\"\",入力シート!$K34,IF(入力シート!$M34<>\"\",入力シート!$M34,入力シート!$N34))","v":0},{"$f":"入力シート!I34","v":0},{"$f":"入力シート!O34","v":0},{"$f":"IF(入力シート!P34=\"×\",\"P\",\"PN\")","v":"PN"},{"$f":"計算結果!#REF!","v":{"$error":"#REF!"}},{"$f":"計算結果!#REF!","v":{"$error":"#REF!"}},{"$f":"計算結果!#REF!","v":{"$error":"#REF!"}},{"$f":"計算結果!#REF!","v":{"$error":"#REF!"}},{"$f":"計算結果!#REF!","v":{"$error":"#REF!"}},{"$f":"計算結果!#REF!","v":{"$error":"#REF!"}},{"$f":"計算結果!#REF!","v":{"$error":"#REF!"}},{"$f":"計算結果!#REF!","v":{"$error":"#REF!"}},{"$f":"計算結果!#REF!","v":{"$error":"#REF!"}},{"$f":"計算結果!#REF!","v":{"$error":"#REF!"}},{"$f":"IF(計算結果!#REF!<>\"\",計算結果!#REF!,\"\")","v":{"$error":"#REF!"}}]
[{"$f":"入力シート!A35","v":0},{"$f":"入力シート!G35","v":0},{"$f":"入力シート!H35","v":0},{"$f":"IF(入力シート!$J35<>\"\",入力シート!$J35,IF(入力シート!$L35<>\"\",入力シート!$L35,\"‐\"))","v":"‐"},{"$f":"IF(入力シート!$K35<>\"\",入力シート!$K35,IF(入力シート!$M35<>\"\",入力シート!$M35,入力シート!$N35))","v":0},{"$f":"入力シート!I35","v":0},{"$f":"入力シート!O35","v":0},{"$f":"IF(入力シート!P35=\"×\",\"P\",\"PN\")","v":"PN"},{"$f":"計算結果!#REF!","v":{"$error":"#REF!"}},{"$f":"計算結果!#REF!","v":{"$error":"#REF!"}},{"$f":"計算結果!#REF!","v":{"$error":"#REF!"}},{"$f":"計算結果!#REF!","v":{"$error":"#REF!"}},{"$f":"計算結果!#REF!","v":{"$error":"#REF!"}},{"$f":"計算結果!#REF!","v":{"$error":"#REF!"}},{"$f":"計算結果!#REF!","v":{"$error":"#REF!"}},{"$f":"計算結果!#REF!","v":{"$error":"#REF!"}},{"$f":"計算結果!#REF!","v":{"$error":"#REF!"}},{"$f":"計算結果!#REF!","v":{"$error":"#REF!"}},{"$f":"IF(計算結果!#REF!<>\"\",計算結果!#REF!,\"\")","v":{"$error":"#REF!"}}]
[{"$f":"入力シート!A36","v":0},{"$f":"入力シート!G36","v":0},{"$f":"入力シート!H36","v":0},{"$f":"IF(入力シート!$J36<>\"\",入力シート!$J36,IF(入力シート!$L36<>\"\",入力シート!$L36,\"‐\"))","v":"‐"},{"$f":"IF(入力シート!$K36<>\"\",入力シート!$K36,IF(入力シート!$M36<>\"\",入力シート!$M36,入力シート!$N36))","v":0},{"$f":"入力シート!I36","v":0},{"$f":"入力シート!O36","v":0},{"$f":"IF(入力シート!P36=\"×\",\"P\",\"PN\")","v":"PN"},{"$f":"計算結果!#REF!","v":{"$error":"#REF!"}},{"$f":"計算結果!#REF!","v":{"$error":"#REF!"}},{"$f":"計算結果!#REF!","v":{"$error":"#REF!"}},{"$f":"計算結果!#REF!","v":{"$error":"#REF!"}},{"$f":"計算結果!#REF!","v":{"$error":"#REF!"}},{"$f":"計算結果!#REF!","v":{"$error":"#REF!"}},{"$f":"計算結果!#REF!","v":{"$error":"#REF!"}},{"$f":"計算結果!#REF!","v":{"$error":"#REF!"}},{"$f":"計算結果!#REF!","v":{"$error":"#REF!"}},{"$f":"計算結果!#REF!","v":{"$error":"#REF!"}},{"$f":"IF(計算結果!#REF!<>\"\",計算結果!#REF!,\"\")","v":{"$error":"#REF!"}}]
[{"$f":"入力シート!A37","v":0},{"$f":"入力シート!G37","v":0},{"$f":"入力シート!H37","v":0},{"$f":"IF(入力シート!$J37<>\"\",入力シート!$J37,IF(入力シート!$L37<>\"\",入力シート!$L37,\"‐\"))","v":"‐"},{"$f":"IF(入力シート!$K37<>\"\",入力シート!$K37,IF(入力シート!$M37<>\"\",入力シート!$M37,入力シート!$N37))","v":0},{"$f":"入力シート!I37","v":0},{"$f":"入力シート!O37","v":0},{"$f":"IF(入力シート!P37=\"×\",\"P\",\"PN\")","v":"PN"},{"$f":"計算結果!#REF!","v":{"$error":"#REF!"}},{"$f":"計算結果!#REF!","v":{"$error":"#REF!"}},{"$f":"計算結果!#REF!","v":{"$error":"#REF!"}},{"$f":"計算結果!#REF!","v":{"$error":"#REF!"}},{"$f":"計算結果!#REF!","v":{"$error":"#REF!"}},{"$f":"計算結果!#REF!","v":{"$error":"#REF!"}},{"$f":"計算結果!#REF!","v":{"$error":"#REF!"}},{"$f":"計算結果!#REF!","v":{"$error":"#REF!"}},{"$f":"計算結果!#REF!","v":{"$error":"#REF!"}},{"$f":"計算結果!#REF!","v":{"$error":"#REF!"}},{"$f":"IF(計算結果!#REF!<>\"\",計算結果!#REF!,\"\")","v":{"$error":"#REF!"}}]
[{"$f":"入力シート!A38","v":0},{"$f":"入力シート!G38","v":0},{"$f":"入力シート!H38","v":0},{"$f":"IF(入力シート!$J38<>\"\",入力シート!$J38,IF(入力シート!$L38<>\"\",入力シート!$L38,\"‐\"))","v":"‐"},{"$f":"IF(入力シート!$K38<>\"\",入力シート!$K38,IF(入力シート!$M38<>\"\",入力シート!$M38,入力シート!$N38))","v":0},{"$f":"入力シート!I38","v":0},{"$f":"入力シート!O38","v":0},{"$f":"IF(入力シート!P38=\"×\",\"P\",\"PN\")","v":"PN"},{"$f":"計算結果!#REF!","v":{"$error":"#REF!"}},{"$f":"計算結果!#REF!","v":{"$error":"#REF!"}},{"$f":"計算結果!#REF!","v":{"$error":"#REF!"}},{"$f":"計算結果!#REF!","v":{"$error":"#REF!"}},{"$f":"計算結果!#REF!","v":{"$error":"#REF!"}},{"$f":"計算結果!#REF!","v":{"$error":"#REF!"}},{"$f":"計算結果!#REF!","v":{"$error":"#REF!"}},{"$f":"計算結果!#REF!","v":{"$error":"#REF!"}},{"$f":"計算結果!#REF!","v":{"$error":"#REF!"}},{"$f":"計算結果!#REF!","v":{"$error":"#REF!"}},{"$f":"IF(計算結果!#REF!<>\"\",計算結果!#REF!,\"\")","v":{"$error":"#REF!"}}]
[{"$f":"入力シート!A39","v":0},{"$f":"入力シート!G39","v":0},{"$f":"入力シート!H39","v":0},{"$f":"IF(入力シート!$J39<>\"\",入力シート!$J39,IF(入力シート!$L39<>\"\",入力シート!$L39,\"‐\"))","v":"‐"},{"$f":"IF(入力シート!$K39<>\"\",入力シート!$K39,IF(入力シート!$M39<>\"\",入力シート!$M39,入力シート!$N39))","v":0},{"$f":"入力シート!I39","v":0},{"$f":"入力シート!O39","v":0},{"$f":"IF(入力シート!P39=\"×\",\"P\",\"PN\")","v":"PN"},{"$f":"計算結果!#REF!","v":{"$error":"#REF!"}},{"$f":"計算結果!#REF!","v":{"$error":"#REF!"}},{"$f":"計算結果!#REF!","v":{"$error":"#REF!"}},{"$f":"計算結果!#REF!","v":{"$error":"#REF!"}},{"$f":"計算結果!#REF!","v":{"$error":"#REF!"}},{"$f":"計算結果!#REF!","v":{"$error":"#REF!"}},{"$f":"計算結果!#REF!","v":{"$error":"#REF!"}},{"$f":"計算結果!#REF!","v":{"$error":"#REF!"}},{"$f":"計算結果!#REF!","v":{"$error":"#REF!"}},{"$f":"計算結果!#REF!","v":{"$error":"#REF!"}},{"$f":"IF(計算結果!#REF!<>\"\",計算結果!#REF!,\"\")","v":{"$error":"#REF!"}}]
[{"$f":"入力シート!A40","v":0},{"$f":"入力シート!G40","v":0},{"$f":"入力シート!H40","v":0},{"$f":"IF(入力シート!$J40<>\"\",入力シート!$J40,IF(入力シート!$L40<>\"\",入力シート!$L40,\"‐\"))","v":"‐"},{"$f":"IF(入力シート!$K40<>\"\",入力シート!$K40,IF(入力シート!$M40<>\"\",入力シート!$M40,入力シート!$N40))","v":0},{"$f":"入力シート!I40","v":0},{"$f":"入力シート!O40","v":0},{"$f":"IF(入力シート!P40=\"×\",\"P\",\"PN\")","v":"PN"},{"$f":"計算結果!#REF!","v":{"$error":"#REF!"}},{"$f":"計算結果!#REF!","v":{"$error":"#REF!"}},{"$f":"計算結果!#REF!","v":{"$error":"#REF!"}},{"$f":"計算結果!#REF!","v":{"$error":"#REF!"}},{"$f":"計算結果!#REF!","v":{"$error":"#REF!"}},{"$f":"計算結果!#REF!","v":{"$error":"#REF!"}},{"$f":"計算結果!#REF!","v":{"$error":"#REF!"}},{"$f":"計算結果!#REF!","v":{"$error":"#REF!"}},{"$f":"計算結果!#REF!","v":{"$error":"#REF!"}},{"$f":"計算結果!#REF!","v":{"$error":"#REF!"}},{"$f":"IF(計算結果!#REF!<>\"\",計算結果!#REF!,\"\")","v":{"$error":"#REF!"}}]
[{"$f":"入力シート!A41","v":0},{"$f":"入力シート!G41","v":0},{"$f":"入力シート!H41","v":0},{"$f":"IF(入力シート!$J41<>\"\",入力シート!$J41,IF(入力シート!$L41<>\"\",入力シート!$L41,\"‐\"))","v":"‐"},{"$f":"IF(入力シート!$K41<>\"\",入力シート!$K41,IF(入力シート!$M41<>\"\",入力シート!$M41,入力シート!$N41))","v":0},{"$f":"入力シート!I41","v":0},{"$f":"入力シート!O41","v":0},{"$f":"IF(入力シート!P41=\"×\",\"P\",\"PN\")","v":"PN"},{"$f":"計算結果!#REF!","v":{"$error":"#REF!"}},{"$f":"計算結果!#REF!","v":{"$error":"#REF!"}},{"$f":"計算結果!#REF!","v":{"$error":"#REF!"}},{"$f":"計算結果!#REF!","v":{"$error":"#REF!"}},{"$f":"計算結果!#REF!","v":{"$error":"#REF!"}},{"$f":"計算結果!#REF!","v":{"$error":"#REF!"}},{"$f":"計算結果!#REF!","v":{"$error":"#REF!"}},{"$f":"計算結果!#REF!","v":{"$error":"#REF!"}},{"$f":"計算結果!#REF!","v":{"$error":"#REF!"}},{"$f":"計算結果!#REF!","v":{"$error":"#REF!"}},{"$f":"IF(計算結果!#REF!<>\"\",計算結果!#REF!,\"\")","v":{"$error":"#REF!"}}]
[{"$f":"入力シート!A42","v":0},{"$f":"入力シート!G42","v":0},{"$f":"入力シート!H42","v":0},{"$f":"IF(入力シート!$J42<>\"\",入力シート!$J42,IF(入力シート!$L42<>\"\",入力シート!$L42,\"‐\"))","v":"‐"},{"$f":"IF(入力シート!$K42<>\"\",入力シート!$K42,IF(入力シート!$M42<>\"\",入力シート!$M42,入力シート!$N42))","v":0},{"$f":"入力シート!I42","v":0},{"$f":"入力シート!O42","v":0},{"$f":"IF(入力シート!P42=\"×\",\"P\",\"PN\")","v":"PN"},{"$f":"計算結果!#REF!","v":{"$error":"#REF!"}},{"$f":"計算結果!#REF!","v":{"$error":"#REF!"}},{"$f":"計算結果!#REF!","v":{"$error":"#REF!"}},{"$f":"計算結果!#REF!","v":{"$error":"#REF!"}},{"$f":"計算結果!#REF!","v":{"$error":"#REF!"}},{"$f":"計算結果!#REF!","v":{"$error":"#REF!"}},{"$f":"計算結果!#REF!","v":{"$error":"#REF!"}},{"$f":"計算結果!#REF!","v":{"$error":"#REF!"}},{"$f":"計算結果!#REF!","v":{"$error":"#REF!"}},{"$f":"計算結果!#REF!","v":{"$error":"#REF!"}},{"$f":"IF(計算結果!#REF!<>\"\",計算結果!#REF!,\"\")","v":{"$error":"#REF!"}}]
[{"$f":"入力シート!A43","v":0},{"$f":"入力シート!G43","v":0},{"$f":"入力シート!H43","v":0},{"$f":"IF(入力シート!$J43<>\"\",入力シート!$J43,IF(入力シート!$L43<>\"\",入力シート!$L43,\"‐\"))","v":"‐"},{"$f":"IF(入力シート!$K43<>\"\",入力シート!$K43,IF(入力シート!$M43<>\"\",入力シート!$M43,入力シート!$N43))","v":0},{"$f":"入力シート!I43","v":0},{"$f":"入力シート!O43","v":0},{"$f":"IF(入力シート!P43=\"×\",\"P\",\"PN\")","v":"PN"},{"$f":"計算結果!#REF!","v":{"$error":"#REF!"}},{"$f":"計算結果!#REF!","v":{"$error":"#REF!"}},{"$f":"計算結果!#REF!","v":{"$error":"#REF!"}},{"$f":"計算結果!#REF!","v":{"$error":"#REF!"}},{"$f":"計算結果!#REF!","v":{"$error":"#REF!"}},{"$f":"計算結果!#REF!","v":{"$error":"#REF!"}},{"$f":"計算結果!#REF!","v":{"$error":"#REF!"}},{"$f":"計算結果!#REF!","v":{"$error":"#REF!"}},{"$f":"計算結果!#REF!","v":{"$error":"#REF!"}},{"$f":"計算結果!#REF!","v":{"$error":"#REF!"}},{"$f":"IF(計算結果!#REF!<>\"\",計算結果!#REF!,\"\")","v":{"$error":"#REF!"}}]
[{"$f":"入力シート!A44","v":0},{"$f":"入力シート!G44","v":0},{"$f":"入力シート!H44","v":0},{"$f":"IF(入力シート!$J44<>\"\",入力シート!$J44,IF(入力シート!$L44<>\"\",入力シート!$L44,\"‐\"))","v":"‐"},{"$f":"IF(入力シート!$K44<>\"\",入力シート!$K44,IF(入力シート!$M44<>\"\",入力シート!$M44,入力シート!$N44))","v":0},{"$f":"入力シート!I44","v":0},{"$f":"入力シート!O44","v":0},{"$f":"IF(入力シート!P44=\"×\",\"P\",\"PN\")","v":"PN"},{"$f":"計算結果!#REF!","v":{"$error":"#REF!"}},{"$f":"計算結果!#REF!","v":{"$error":"#REF!"}},{"$f":"計算結果!#REF!","v":{"$error":"#REF!"}},{"$f":"計算結果!#REF!","v":{"$error":"#REF!"}},{"$f":"計算結果!#REF!","v":{"$error":"#REF!"}},{"$f":"計算結果!#REF!","v":{"$error":"#REF!"}},{"$f":"計算結果!#REF!","v":{"$error":"#REF!"}},{"$f":"計算結果!#REF!","v":{"$error":"#REF!"}},{"$f":"計算結果!#REF!","v":{"$error":"#REF!"}},{"$f":"計算結果!#REF!","v":{"$error":"#REF!"}},{"$f":"IF(計算結果!#REF!<>\"\",計算結果!#REF!,\"\")","v":{"$error":"#REF!"}}]
[{"$f":"入力シート!A45","v":0},{"$f":"入力シート!G45","v":0},{"$f":"入力シート!H45","v":0},{"$f":"IF(入力シート!$J45<>\"\",入力シート!$J45,IF(入力シート!$L45<>\"\",入力シート!$L45,\"‐\"))","v":"‐"},{"$f":"IF(入力シート!$K45<>\"\",入力シート!$K45,IF(入力シート!$M45<>\"\",入力シート!$M45,入力シート!$N45))","v":0},{"$f":"入力シート!I45","v":0},{"$f":"入力シート!O45","v":0},{"$f":"IF(入力シート!P45=\"×\",\"P\",\"PN\")","v":"PN"},{"$f":"計算結果!#REF!","v":{"$error":"#REF!"}},{"$f":"計算結果!#REF!","v":{"$error":"#REF!"}},{"$f":"計算結果!#REF!","v":{"$error":"#REF!"}},{"$f":"計算結果!#REF!","v":{"$error":"#REF!"}},{"$f":"計算結果!#REF!","v":{"$error":"#REF!"}},{"$f":"計算結果!#REF!","v":{"$error":"#REF!"}},{"$f":"計算結果!#REF!","v":{"$error":"#REF!"}},{"$f":"計算結果!#REF!","v":{"$error":"#REF!"}},{"$f":"計算結果!#REF!","v":{"$error":"#REF!"}},{"$f":"計算結果!#REF!","v":{"$error":"#REF!"}},{"$f":"IF(計算結果!#REF!<>\"\",計算結果!#REF!,\"\")","v":{"$error":"#REF!"}}]
[{"$f":"入力シート!A46","v":0},{"$f":"入力シート!G46","v":0},{"$f":"入力シート!H46","v":0},{"$f":"IF(入力シート!$J46<>\"\",入力シート!$J46,IF(入力シート!$L46<>\"\",入力シート!$L46,\"‐\"))","v":"‐"},{"$f":"IF(入力シート!$K46<>\"\",入力シート!$K46,IF(入力シート!$M46<>\"\",入力シート!$M46,入力シート!$N46))","v":0},{"$f":"入力シート!I46","v":0},{"$f":"入力シート!O46","v":0},{"$f":"IF(入力シート!P46=\"×\",\"P\",\"PN\")","v":"PN"},{"$f":"計算結果!#REF!","v":{"$error":"#REF!"}},{"$f":"計算結果!#REF!","v":{"$error":"#REF!"}},{"$f":"計算結果!#REF!","v":{"$error":"#REF!"}},{"$f":"計算結果!#REF!","v":{"$error":"#REF!"}},{"$f":"計算結果!#REF!","v":{"$error":"#REF!"}},{"$f":"計算結果!#REF!","v":{"$error":"#REF!"}},{"$f":"計算結果!#REF!","v":{"$error":"#REF!"}},{"$f":"計算結果!#REF!","v":{"$error":"#REF!"}},{"$f":"計算結果!#REF!","v":{"$error":"#REF!"}},{"$f":"計算結果!#REF!","v":{"$error":"#REF!"}},{"$f":"IF(計算結果!#REF!<>\"\",計算結果!#REF!,\"\")","v":{"$error":"#REF!"}}]
[{"$f":"入力シート!A47","v":0},{"$f":"入力シート!G47","v":0},{"$f":"入力シート!H47","v":0},{"$f":"IF(入力シート!$J47<>\"\",入力シート!$J47,IF(入力シート!$L47<>\"\",入力シート!$L47,\"‐\"))","v":"‐"},{"$f":"IF(入力シート!$K47<>\"\",入力シート!$K47,IF(入力シート!$M47<>\"\",入力シート!$M47,入力シート!$N47))","v":0},{"$f":"入力シート!I47","v":0},{"$f":"入力シート!O47","v":0},{"$f":"IF(入力シート!P47=\"×\",\"P\",\"PN\")","v":"PN"},{"$f":"計算結果!#REF!","v":{"$error":"#REF!"}},{"$f":"計算結果!#REF!","v":{"$error":"#REF!"}},{"$f":"計算結果!#REF!","v":{"$error":"#REF!"}},{"$f":"計算結果!#REF!","v":{"$error":"#REF!"}},{"$f":"計算結果!#REF!","v":{"$error":"#REF!"}},{"$f":"計算結果!#REF!","v":{"$error":"#REF!"}},{"$f":"計算結果!#REF!","v":{"$error":"#REF!"}},{"$f":"計算結果!#REF!","v":{"$error":"#REF!"}},{"$f":"計算結果!#REF!","v":{"$error":"#REF!"}},{"$f":"計算結果!#REF!","v":{"$error":"#REF!"}},{"$f":"IF(計算結果!#REF!<>\"\",計算結果!#REF!,\"\")","v":{"$error":"#REF!"}}]
[{"$f":"入力シート!A48","v":0},{"$f":"入力シート!G48","v":0},{"$f":"入力シート!H48","v":0},{"$f":"IF(入力シート!$J48<>\"\",入力シート!$J48,IF(入力シート!$L48<>\"\",入力シート!$L48,\"‐\"))","v":"‐"},{"$f":"IF(入力シート!$K48<>\"\",入力シート!$K48,IF(入力シート!$M48<>\"\",入力シート!$M48,入力シート!$N48))","v":0},{"$f":"入力シート!I48","v":0},{"$f":"入力シート!O48","v":0},{"$f":"IF(入力シート!P48=\"×\",\"P\",\"PN\")","v":"PN"},{"$f":"計算結果!#REF!","v":{"$error":"#REF!"}},{"$f":"計算結果!#REF!","v":{"$error":"#REF!"}},{"$f":"計算結果!#REF!","v":{"$error":"#REF!"}},{"$f":"計算結果!#REF!","v":{"$error":"#REF!"}},{"$f":"計算結果!#REF!","v":{"$error":"#REF!"}},{"$f":"計算結果!#REF!","v":{"$error":"#REF!"}},{"$f":"計算結果!#REF!","v":{"$error":"#REF!"}},{"$f":"計算結果!#REF!","v":{"$error":"#REF!"}},{"$f":"計算結果!#REF!","v":{"$error":"#REF!"}},{"$f":"計算結果!#REF!","v":{"$error":"#REF!"}},{"$f":"IF(計算結果!#REF!<>\"\",計算結果!#REF!,\"\")","v":{"$error":"#REF!"}}]
[{"$f":"入力シート!A49","v":0},{"$f":"入力シート!G49","v":0},{"$f":"入力シート!H49","v":0},{"$f":"IF(入力シート!$J49<>\"\",入力シート!$J49,IF(入力シート!$L49<>\"\",入力シート!$L49,\"‐\"))","v":"‐"},{"$f":"IF(入力シート!$K49<>\"\",入力シート!$K49,IF(入力シート!$M49<>\"\",入力シート!$M49,入力シート!$N49))","v":0},{"$f":"入力シート!I49","v":0},{"$f":"入力シート!O49","v":0},{"$f":"IF(入力シート!P49=\"×\",\"P\",\"PN\")","v":"PN"},{"$f":"計算結果!#REF!","v":{"$error":"#REF!"}},{"$f":"計算結果!#REF!","v":{"$error":"#REF!"}},{"$f":"計算結果!#REF!","v":{"$error":"#REF!"}},{"$f":"計算結果!#REF!","v":{"$error":"#REF!"}},{"$f":"計算結果!#REF!","v":{"$error":"#REF!"}},{"$f":"計算結果!#REF!","v":{"$error":"#REF!"}},{"$f":"計算結果!#REF!","v":{"$error":"#REF!"}},{"$f":"計算結果!#REF!","v":{"$error":"#REF!"}},{"$f":"計算結果!#REF!","v":{"$error":"#REF!"}},{"$f":"計算結果!#REF!","v":{"$error":"#REF!"}},{"$f":"IF(計算結果!#REF!<>\"\",計算結果!#REF!,\"\")","v":{"$error":"#REF!"}}]
[{"$f":"入力シート!A50","v":0},{"$f":"入力シート!G50","v":0},{"$f":"入力シート!H50","v":0},{"$f":"IF(入力シート!$J50<>\"\",入力シート!$J50,IF(入力シート!$L50<>\"\",入力シート!$L50,\"‐\"))","v":"‐"},{"$f":"IF(入力シート!$K50<>\"\",入力シート!$K50,IF(入力シート!$M50<>\"\",入力シート!$M50,入力シート!$N50))","v":0},{"$f":"入力シート!I50","v":0},{"$f":"入力シート!O50","v":0},{"$f":"IF(入力シート!P50=\"×\",\"P\",\"PN\")","v":"PN"},{"$f":"計算結果!#REF!","v":{"$error":"#REF!"}},{"$f":"計算結果!#REF!","v":{"$error":"#REF!"}},{"$f":"計算結果!#REF!","v":{"$error":"#REF!"}},{"$f":"計算結果!#REF!","v":{"$error":"#REF!"}},{"$f":"計算結果!#REF!","v":{"$error":"#REF!"}},{"$f":"計算結果!#REF!","v":{"$error":"#REF!"}},{"$f":"計算結果!#REF!","v":{"$error":"#REF!"}},{"$f":"計算結果!#REF!","v":{"$error":"#REF!"}},{"$f":"計算結果!#REF!","v":{"$error":"#REF!"}},{"$f":"計算結果!#REF!","v":{"$error":"#REF!"}},{"$f":"IF(計算結果!#REF!<>\"\",計算結果!#REF!,\"\")","v":{"$error":"#REF!"}}]
[{"$f":"入力シート!A51","v":0},{"$f":"入力シート!G51","v":0},{"$f":"入力シート!H51","v":0},{"$f":"IF(入力シート!$J51<>\"\",入力シート!$J51,IF(入力シート!$L51<>\"\",入力シート!$L51,\"‐\"))","v":"‐"},{"$f":"IF(入力シート!$K51<>\"\",入力シート!$K51,IF(入力シート!$M51<>\"\",入力シート!$M51,入力シート!$N51))","v":0},{"$f":"入力シート!I51","v":0},{"$f":"入力シート!O51","v":0},{"$f":"IF(入力シート!P51=\"×\",\"P\",\"PN\")","v":"PN"},{"$f":"計算結果!#REF!","v":{"$error":"#REF!"}},{"$f":"計算結果!#REF!","v":{"$error":"#REF!"}},{"$f":"計算結果!#REF!","v":{"$error":"#REF!"}},{"$f":"計算結果!#REF!","v":{"$error":"#REF!"}},{"$f":"計算結果!#REF!","v":{"$error":"#REF!"}},{"$f":"計算結果!#REF!","v":{"$error":"#REF!"}},{"$f":"計算結果!#REF!","v":{"$error":"#REF!"}},{"$f":"計算結果!#REF!","v":{"$error":"#REF!"}},{"$f":"計算結果!#REF!","v":{"$error":"#REF!"}},{"$f":"計算結果!#REF!","v":{"$error":"#REF!"}},{"$f":"IF(計算結果!#REF!<>\"\",計算結果!#REF!,\"\")","v":{"$error":"#REF!"}}]
[{"$f":"入力シート!A52","v":0},{"$f":"入力シート!G52","v":0},{"$f":"入力シート!H52","v":0},{"$f":"IF(入力シート!$J52<>\"\",入力シート!$J52,IF(入力シート!$L52<>\"\",入力シート!$L52,\"‐\"))","v":"‐"},{"$f":"IF(入力シート!$K52<>\"\",入力シート!$K52,IF(入力シート!$M52<>\"\",入力シート!$M52,入力シート!$N52))","v":0},{"$f":"入力シート!I52","v":0},{"$f":"入力シート!O52","v":0},{"$f":"IF(入力シート!P52=\"×\",\"P\",\"PN\")","v":"PN"},{"$f":"計算結果!#REF!","v":{"$error":"#REF!"}},{"$f":"計算結果!#REF!","v":{"$error":"#REF!"}},{"$f":"計算結果!#REF!","v":{"$error":"#REF!"}},{"$f":"計算結果!#REF!","v":{"$error":"#REF!"}},{"$f":"計算結果!#REF!","v":{"$error":"#REF!"}},{"$f":"計算結果!#REF!","v":{"$error":"#REF!"}},{"$f":"計算結果!#REF!","v":{"$error":"#REF!"}},{"$f":"計算結果!#REF!","v":{"$error":"#REF!"}},{"$f":"計算結果!#REF!","v":{"$error":"#REF!"}},{"$f":"計算結果!#REF!","v":{"$error":"#REF!"}},{"$f":"IF(計算結果!#REF!<>\"\",計算結果!#REF!,\"\")","v":{"$error":"#REF!"}}]
[{"$f":"入力シート!A53","v":0},{"$f":"入力シート!G53","v":0},{"$f":"入力シート!H53","v":0},{"$f":"IF(入力シート!$J53<>\"\",入力シート!$J53,IF(入力シート!$L53<>\"\",入力シート!$L53,\"‐\"))","v":"‐"},{"$f":"IF(入力シート!$K53<>\"\",入力シート!$K53,IF(入力シート!$M53<>\"\",入力シート!$M53,入力シート!$N53))","v":0},{"$f":"入力シート!I53","v":0},{"$f":"入力シート!O53","v":0},{"$f":"IF(入力シート!P53=\"×\",\"P\",\"PN\")","v":"PN"},{"$f":"計算結果!#REF!","v":{"$error":"#REF!"}},{"$f":"計算結果!#REF!","v":{"$error":"#REF!"}},{"$f":"計算結果!#REF!","v":{"$error":"#REF!"}},{"$f":"計算結果!#REF!","v":{"$error":"#REF!"}},{"$f":"計算結果!#REF!","v":{"$error":"#REF!"}},{"$f":"計算結果!#REF!","v":{"$error":"#REF!"}},{"$f":"計算結果!#REF!","v":{"$error":"#REF!"}},{"$f":"計算結果!#REF!","v":{"$error":"#REF!"}},{"$f":"計算結果!#REF!","v":{"$error":"#REF!"}},{"$f":"計算結果!#REF!","v":{"$error":"#REF!"}},{"$f":"IF(計算結果!#REF!<>\"\",計算結果!#REF!,\"\")","v":{"$error":"#REF!"}}]
[{"$f":"入力シート!A54","v":0},{"$f":"入力シート!G54","v":0},{"$f":"入力シート!H54","v":0},{"$f":"IF(入力シート!$J54<>\"\",入力シート!$J54,IF(入力シート!$L54<>\"\",入力シート!$L54,\"‐\"))","v":"‐"},{"$f":"IF(入力シート!$K54<>\"\",入力シート!$K54,IF(入力シート!$M54<>\"\",入力シート!$M54,入力シート!$N54))","v":0},{"$f":"入力シート!I54","v":0},{"$f":"入力シート!O54","v":0},{"$f":"IF(入力シート!P54=\"×\",\"P\",\"PN\")","v":"PN"},{"$f":"計算結果!#REF!","v":{"$error":"#REF!"}},{"$f":"計算結果!#REF!","v":{"$error":"#REF!"}},{"$f":"計算結果!#REF!","v":{"$error":"#REF!"}},{"$f":"計算結果!#REF!","v":{"$error":"#REF!"}},{"$f":"計算結果!#REF!","v":{"$error":"#REF!"}},{"$f":"計算結果!#REF!","v":{"$error":"#REF!"}},{"$f":"計算結果!#REF!","v":{"$error":"#REF!"}},{"$f":"計算結果!#REF!","v":{"$error":"#REF!"}},{"$f":"計算結果!#REF!","v":{"$error":"#REF!"}},{"$f":"計算結果!#REF!","v":{"$error":"#REF!"}},{"$f":"IF(計算結果!#REF!<>\"\",計算結果!#REF!,\"\")","v":{"$error":"#REF!"}}]
[{"$f":"入力シート!A55","v":0},{"$f":"入力シート!G55","v":0},{"$f":"入力シート!H55","v":0},{"$f":"IF(入力シート!$J55<>\"\",入力シート!$J55,IF(入力シート!$L55<>\"\",入力シート!$L55,\"‐\"))","v":"‐"},{"$f":"IF(入力シート!$K55<>\"\",入力シート!$K55,IF(入力シート!$M55<>\"\",入力シート!$M55,入力シート!$N55))","v":0},{"$f":"入力シート!I55","v":0},{"$f":"入力シート!O55","v":0},{"$f":"IF(入力シート!P55=\"×\",\"P\",\"PN\")","v":"PN"},{"$f":"計算結果!#REF!","v":{"$error":"#REF!"}},{"$f":"計算結果!#REF!","v":{"$error":"#REF!"}},{"$f":"計算結果!#REF!","v":{"$error":"#REF!"}},{"$f":"計算結果!#REF!","v":{"$error":"#REF!"}},{"$f":"計算結果!#REF!","v":{"$error":"#REF!"}},{"$f":"計算結果!#REF!","v":{"$error":"#REF!"}},{"$f":"計算結果!#REF!","v":{"$error":"#REF!"}},{"$f":"計算結果!#REF!","v":{"$error":"#REF!"}},{"$f":"計算結果!#REF!","v":{"$error":"#REF!"}},{"$f":"計算結果!#REF!","v":{"$error":"#REF!"}},{"$f":"IF(計算結果!#REF!<>\"\",計算結果!#REF!,\"\")","v":{"$error":"#REF!"}}]
[{"$f":"入力シート!A56","v":0},{"$f":"入力シート!G56","v":0},{"$f":"入力シート!H56","v":0},{"$f":"IF(入力シート!$J56<>\"\",入力シート!$J56,IF(入力シート!$L56<>\"\",入力シート!$L56,\"‐\"))","v":"‐"},{"$f":"IF(入力シート!$K56<>\"\",入力シート!$K56,IF(入力シート!$M56<>\"\",入力シート!$M56,入力シート!$N56))","v":0},{"$f":"入力シート!I56","v":0},{"$f":"入力シート!O56","v":0},{"$f":"IF(入力シート!P56=\"×\",\"P\",\"PN\")","v":"PN"},{"$f":"計算結果!#REF!","v":{"$error":"#REF!"}},{"$f":"計算結果!#REF!","v":{"$error":"#REF!"}},{"$f":"計算結果!#REF!","v":{"$error":"#REF!"}},{"$f":"計算結果!#REF!","v":{"$error":"#REF!"}},{"$f":"計算結果!#REF!","v":{"$error":"#REF!"}},{"$f":"計算結果!#REF!","v":{"$error":"#REF!"}},{"$f":"計算結果!#REF!","v":{"$error":"#REF!"}},{"$f":"計算結果!#REF!","v":{"$error":"#REF!"}},{"$f":"計算結果!#REF!","v":{"$error":"#REF!"}},{"$f":"計算結果!#REF!","v":{"$error":"#REF!"}},{"$f":"IF(計算結果!#REF!<>\"\",計算結果!#REF!,\"\")","v":{"$error":"#REF!"}}]
[{"$f":"入力シート!A57","v":0},{"$f":"入力シート!G57","v":0},{"$f":"入力シート!H57","v":0},{"$f":"IF(入力シート!$J57<>\"\",入力シート!$J57,IF(入力シート!$L57<>\"\",入力シート!$L57,\"‐\"))","v":"‐"},{"$f":"IF(入力シート!$K57<>\"\",入力シート!$K57,IF(入力シート!$M57<>\"\",入力シート!$M57,入力シート!$N57))","v":0},{"$f":"入力シート!I57","v":0},{"$f":"入力シート!O57","v":0},{"$f":"IF(入力シート!P57=\"×\",\"P\",\"PN\")","v":"PN"},{"$f":"計算結果!#REF!","v":{"$error":"#REF!"}},{"$f":"計算結果!#REF!","v":{"$error":"#REF!"}},{"$f":"計算結果!#REF!","v":{"$error":"#REF!"}},{"$f":"計算結果!#REF!","v":{"$error":"#REF!"}},{"$f":"計算結果!#REF!","v":{"$error":"#REF!"}},{"$f":"計算結果!#REF!","v":{"$error":"#REF!"}},{"$f":"計算結果!#REF!","v":{"$error":"#REF!"}},{"$f":"計算結果!#REF!","v":{"$error":"#REF!"}},{"$f":"計算結果!#REF!","v":{"$error":"#REF!"}},{"$f":"計算結果!#REF!","v":{"$error":"#REF!"}},{"$f":"IF(計算結果!#REF!<>\"\",計算結果!#REF!,\"\")","v":{"$error":"#REF!"}}]
[{"$f":"入力シート!A58","v":0},{"$f":"入力シート!G58","v":0},{"$f":"入力シート!H58","v":0},{"$f":"IF(入力シート!$J58<>\"\",入力シート!$J58,IF(入力シート!$L58<>\"\",入力シート!$L58,\"‐\"))","v":"‐"},{"$f":"IF(入力シート!$K58<>\"\",入力シート!$K58,IF(入力シート!$M58<>\"\",入力シート!$M58,入力シート!$N58))","v":0},{"$f":"入力シート!I58","v":0},{"$f":"入力シート!O58","v":0},{"$f":"IF(入力シート!P58=\"×\",\"P\",\"PN\")","v":"PN"},{"$f":"計算結果!#REF!","v":{"$error":"#REF!"}},{"$f":"計算結果!#REF!","v":{"$error":"#REF!"}},{"$f":"計算結果!#REF!","v":{"$error":"#REF!"}},{"$f":"計算結果!#REF!","v":{"$error":"#REF!"}},{"$f":"計算結果!#REF!","v":{"$error":"#REF!"}},{"$f":"計算結果!#REF!","v":{"$error":"#REF!"}},{"$f":"計算結果!#REF!","v":{"$error":"#REF!"}},{"$f":"計算結果!#REF!","v":{"$error":"#REF!"}},{"$f":"計算結果!#REF!","v":{"$error":"#REF!"}},{"$f":"計算結果!#REF!","v":{"$error":"#REF!"}},{"$f":"IF(計算結果!#REF!<>\"\",計算結果!#REF!,\"\")","v":{"$error":"#REF!"}}]
[{"$f":"入力シート!A59","v":0},{"$f":"入力シート!G59","v":0},{"$f":"入力シート!H59","v":0},{"$f":"IF(入力シート!$J59<>\"\",入力シート!$J59,IF(入力シート!$L59<>\"\",入力シート!$L59,\"‐\"))","v":"‐"},{"$f":"IF(入力シート!$K59<>\"\",入力シート!$K59,IF(入力シート!$M59<>\"\",入力シート!$M59,入力シート!$N59))","v":0},{"$f":"入力シート!I59","v":0},{"$f":"入力シート!O59","v":0},{"$f":"IF(入力シート!P59=\"×\",\"P\",\"PN\")","v":"PN"},{"$f":"計算結果!#REF!","v":{"$error":"#REF!"}},{"$f":"計算結果!#REF!","v":{"$error":"#REF!"}},{"$f":"計算結果!#REF!","v":{"$error":"#REF!"}},{"$f":"計算結果!#REF!","v":{"$error":"#REF!"}},{"$f":"計算結果!#REF!","v":{"$error":"#REF!"}},{"$f":"計算結果!#REF!","v":{"$error":"#REF!"}},{"$f":"計算結果!#REF!","v":{"$error":"#REF!"}},{"$f":"計算結果!#REF!","v":{"$error":"#REF!"}},{"$f":"計算結果!#REF!","v":{"$error":"#REF!"}},{"$f":"計算結果!#REF!","v":{"$error":"#REF!"}},{"$f":"IF(計算結果!#REF!<>\"\",計算結果!#REF!,\"\")","v":{"$error":"#REF!"}}]
[{"$f":"入力シート!A60","v":0},{"$f":"入力シート!G60","v":0},{"$f":"入力シート!H60","v":0},{"$f":"IF(入力シート!$J60<>\"\",入力シート!$J60,IF(入力シート!$L60<>\"\",入力シート!$L60,\"‐\"))","v":"‐"},{"$f":"IF(入力シート!$K60<>\"\",入力シート!$K60,IF(入力シート!$M60<>\"\",入力シート!$M60,入力シート!$N60))","v":0},{"$f":"入力シート!I60","v":0},{"$f":"入力シート!O60","v":0},{"$f":"IF(入力シート!P60=\"×\",\"P\",\"PN\")","v":"PN"},{"$f":"計算結果!#REF!","v":{"$error":"#REF!"}},{"$f":"計算結果!#REF!","v":{"$error":"#REF!"}},{"$f":"計算結果!#REF!","v":{"$error":"#REF!"}},{"$f":"計算結果!#REF!","v":{"$error":"#REF!"}},{"$f":"計算結果!#REF!","v":{"$error":"#REF!"}},{"$f":"計算結果!#REF!","v":{"$error":"#REF!"}},{"$f":"計算結果!#REF!","v":{"$error":"#REF!"}},{"$f":"計算結果!#REF!","v":{"$error":"#REF!"}},{"$f":"計算結果!#REF!","v":{"$error":"#REF!"}},{"$f":"計算結果!#REF!","v":{"$error":"#REF!"}},{"$f":"IF(計算結果!#REF!<>\"\",計算結果!#REF!,\"\")","v":{"$error":"#REF!"}}]
[{"$f":"入力シート!A61","v":0},{"$f":"入力シート!G61","v":0},{"$f":"入力シート!H61","v":0},{"$f":"IF(入力シート!$J61<>\"\",入力シート!$J61,IF(入力シート!$L61<>\"\",入力シート!$L61,\"‐\"))","v":"‐"},{"$f":"IF(入力シート!$K61<>\"\",入力シート!$K61,IF(入力シート!$M61<>\"\",入力シート!$M61,入力シート!$N61))","v":0},{"$f":"入力シート!I61","v":0},{"$f":"入力シート!O61","v":0},{"$f":"IF(入力シート!P61=\"×\",\"P\",\"PN\")","v":"PN"},{"$f":"計算結果!#REF!","v":{"$error":"#REF!"}},{"$f":"計算結果!#REF!","v":{"$error":"#REF!"}},{"$f":"計算結果!#REF!","v":{"$error":"#REF!"}},{"$f":"計算結果!#REF!","v":{"$error":"#REF!"}},{"$f":"計算結果!#REF!","v":{"$error":"#REF!"}},{"$f":"計算結果!#REF!","v":{"$error":"#REF!"}},{"$f":"計算結果!#REF!","v":{"$error":"#REF!"}},{"$f":"計算結果!#REF!","v":{"$error":"#REF!"}},{"$f":"計算結果!#REF!","v":{"$error":"#REF!"}},{"$f":"計算結果!#REF!","v":{"$error":"#REF!"}},{"$f":"IF(計算結果!#REF!<>\"\",計算結果!#REF!,\"\")","v":{"$error":"#REF!"}}]
[{"$f":"入力シート!A62","v":0},{"$f":"入力シート!G62","v":0},{"$f":"入力シート!H62","v":0},{"$f":"IF(入力シート!$J62<>\"\",入力シート!$J62,IF(入力シート!$L62<>\"\",入力シート!$L62,\"‐\"))","v":"‐"},{"$f":"IF(入力シート!$K62<>\"\",入力シート!$K62,IF(入力シート!$M62<>\"\",入力シート!$M62,入力シート!$N62))","v":0},{"$f":"入力シート!I62","v":0},{"$f":"入力シート!O62","v":0},{"$f":"IF(入力シート!P62=\"×\",\"P\",\"PN\")","v":"PN"},{"$f":"計算結果!#REF!","v":{"$error":"#REF!"}},{"$f":"計算結果!#REF!","v":{"$error":"#REF!"}},{"$f":"計算結果!#REF!","v":{"$error":"#REF!"}},{"$f":"計算結果!#REF!","v":{"$error":"#REF!"}},{"$f":"計算結果!#REF!","v":{"$error":"#REF!"}},{"$f":"計算結果!#REF!","v":{"$error":"#REF!"}},{"$f":"計算結果!#REF!","v":{"$error":"#REF!"}},{"$f":"計算結果!#REF!","v":{"$error":"#REF!"}},{"$f":"計算結果!#REF!","v":{"$error":"#REF!"}},{"$f":"計算結果!#REF!","v":{"$error":"#REF!"}},{"$f":"IF(計算結果!#REF!<>\"\",計算結果!#REF!,\"\")","v":{"$error":"#REF!"}}]
[{"$f":"入力シート!A63","v":0},{"$f":"入力シート!G63","v":0},{"$f":"入力シート!H63","v":0},{"$f":"IF(入力シート!$J63<>\"\",入力シート!$J63,IF(入力シート!$L63<>\"\",入力シート!$L63,\"‐\"))","v":"‐"},{"$f":"IF(入力シート!$K63<>\"\",入力シート!$K63,IF(入力シート!$M63<>\"\",入力シート!$M63,入力シート!$N63))","v":0},{"$f":"入力シート!I63","v":0},{"$f":"入力シート!O63","v":0},{"$f":"IF(入力シート!P63=\"×\",\"P\",\"PN\")","v":"PN"},{"$f":"計算結果!#REF!","v":{"$error":"#REF!"}},{"$f":"計算結果!#REF!","v":{"$error":"#REF!"}},{"$f":"計算結果!#REF!","v":{"$error":"#REF!"}},{"$f":"計算結果!#REF!","v":{"$error":"#REF!"}},{"$f":"計算結果!#REF!","v":{"$error":"#REF!"}},{"$f":"計算結果!#REF!","v":{"$error":"#REF!"}},{"$f":"計算結果!#REF!","v":{"$error":"#REF!"}},{"$f":"計算結果!#REF!","v":{"$error":"#REF!"}},{"$f":"計算結果!#REF!","v":{"$error":"#REF!"}},{"$f":"計算結果!#REF!","v":{"$error":"#REF!"}},{"$f":"IF(計算結果!#REF!<>\"\",計算結果!#REF!,\"\")","v":{"$error":"#REF!"}}]
[{"$f":"入力シート!A64","v":0},{"$f":"入力シート!G64","v":0},{"$f":"入力シート!H64","v":0},{"$f":"IF(入力シート!$J64<>\"\",入力シート!$J64,IF(入力シート!$L64<>\"\",入力シート!$L64,\"‐\"))","v":"‐"},{"$f":"IF(入力シート!$K64<>\"\",入力シート!$K64,IF(入力シート!$M64<>\"\",入力シート!$M64,入力シート!$N64))","v":0},{"$f":"入力シート!I64","v":0},{"$f":"入力シート!O64","v":0},{"$f":"IF(入力シート!P64=\"×\",\"P\",\"PN\")","v":"PN"},{"$f":"計算結果!#REF!","v":{"$error":"#REF!"}},{"$f":"計算結果!#REF!","v":{"$error":"#REF!"}},{"$f":"計算結果!#REF!","v":{"$error":"#REF!"}},{"$f":"計算結果!#REF!","v":{"$error":"#REF!"}},{"$f":"計算結果!#REF!","v":{"$error":"#REF!"}},{"$f":"計算結果!#REF!","v":{"$error":"#REF!"}},{"$f":"計算結果!#REF!","v":{"$error":"#REF!"}},{"$f":"計算結果!#REF!","v":{"$error":"#REF!"}},{"$f":"計算結果!#REF!","v":{"$error":"#REF!"}},{"$f":"計算結果!#REF!","v":{"$error":"#REF!"}},{"$f":"IF(計算結果!#REF!<>\"\",計算結果!#REF!,\"\")","v":{"$error":"#REF!"}}]
[{"$f":"入力シート!A65","v":0},{"$f":"入力シート!G65","v":0},{"$f":"入力シート!H65","v":0},{"$f":"IF(入力シート!$J65<>\"\",入力シート!$J65,IF(入力シート!$L65<>\"\",入力シート!$L65,\"‐\"))","v":"‐"},{"$f":"IF(入力シート!$K65<>\"\",入力シート!$K65,IF(入力シート!$M65<>\"\",入力シート!$M65,入力シート!$N65))","v":0},{"$f":"入力シート!I65","v":0},{"$f":"入力シート!O65","v":0},{"$f":"IF(入力シート!P65=\"×\",\"P\",\"PN\")","v":"PN"},{"$f":"計算結果!#REF!","v":{"$error":"#REF!"}},{"$f":"計算結果!#REF!","v":{"$error":"#REF!"}},{"$f":"計算結果!#REF!","v":{"$error":"#REF!"}},{"$f":"計算結果!#REF!","v":{"$error":"#REF!"}},{"$f":"計算結果!#REF!","v":{"$error":"#REF!"}},{"$f":"計算結果!#REF!","v":{"$error":"#REF!"}},{"$f":"計算結果!#REF!","v":{"$error":"#REF!"}},{"$f":"計算結果!#REF!","v":{"$error":"#REF!"}},{"$f":"計算結果!#REF!","v":{"$error":"#REF!"}},{"$f":"計算結果!#REF!","v":{"$error":"#REF!"}},{"$f":"IF(計算結果!#REF!<>\"\",計算結果!#REF!,\"\")","v":{"$error":"#REF!"}}]
[{"$f":"入力シート!A66","v":0},{"$f":"入力シート!G66","v":0},{"$f":"入力シート!H66","v":0},{"$f":"IF(入力シート!$J66<>\"\",入力シート!$J66,IF(入力シート!$L66<>\"\",入力シート!$L66,\"‐\"))","v":"‐"},{"$f":"IF(入力シート!$K66<>\"\",入力シート!$K66,IF(入力シート!$M66<>\"\",入力シート!$M66,入力シート!$N66))","v":0},{"$f":"入力シート!I66","v":0},{"$f":"入力シート!O66","v":0},{"$f":"IF(入力シート!P66=\"×\",\"P\",\"PN\")","v":"PN"},{"$f":"計算結果!#REF!","v":{"$error":"#REF!"}},{"$f":"計算結果!#REF!","v":{"$error":"#REF!"}},{"$f":"計算結果!#REF!","v":{"$error":"#REF!"}},{"$f":"計算結果!#REF!","v":{"$error":"#REF!"}},{"$f":"計算結果!#REF!","v":{"$error":"#REF!"}},{"$f":"計算結果!#REF!","v":{"$error":"#REF!"}},{"$f":"計算結果!#REF!","v":{"$error":"#REF!"}},{"$f":"計算結果!#REF!","v":{"$error":"#REF!"}},{"$f":"計算結果!#REF!","v":{"$error":"#REF!"}},{"$f":"計算結果!#REF!","v":{"$error":"#REF!"}},{"$f":"IF(計算結果!#REF!<>\"\",計算結果!#REF!,\"\")","v":{"$error":"#REF!"}}]
[{"$f":"入力シート!A67","v":0},{"$f":"入力シート!G67","v":0},{"$f":"入力シート!H67","v":0},{"$f":"IF(入力シート!$J67<>\"\",入力シート!$J67,IF(入力シート!$L67<>\"\",入力シート!$L67,\"‐\"))","v":"‐"},{"$f":"IF(入力シート!$K67<>\"\",入力シート!$K67,IF(入力シート!$M67<>\"\",入力シート!$M67,入力シート!$N67))","v":0},{"$f":"入力シート!I67","v":0},{"$f":"入力シート!O67","v":0},{"$f":"IF(入力シート!P67=\"×\",\"P\",\"PN\")","v":"PN"},{"$f":"計算結果!#REF!","v":{"$error":"#REF!"}},{"$f":"計算結果!#REF!","v":{"$error":"#REF!"}},{"$f":"計算結果!#REF!","v":{"$error":"#REF!"}},{"$f":"計算結果!#REF!","v":{"$error":"#REF!"}},{"$f":"計算結果!#REF!","v":{"$error":"#REF!"}},{"$f":"計算結果!#REF!","v":{"$error":"#REF!"}},{"$f":"計算結果!#REF!","v":{"$error":"#REF!"}},{"$f":"計算結果!#REF!","v":{"$error":"#REF!"}},{"$f":"計算結果!#REF!","v":{"$error":"#REF!"}},{"$f":"計算結果!#REF!","v":{"$error":"#REF!"}},{"$f":"IF(計算結果!#REF!<>\"\",計算結果!#REF!,\"\")","v":{"$error":"#REF!"}}]
[{"$f":"入力シート!A68","v":0},{"$f":"入力シート!G68","v":0},{"$f":"入力シート!H68","v":0},{"$f":"IF(入力シート!$J68<>\"\",入力シート!$J68,IF(入力シート!$L68<>\"\",入力シート!$L68,\"‐\"))","v":"‐"},{"$f":"IF(入力シート!$K68<>\"\",入力シート!$K68,IF(入力シート!$M68<>\"\",入力シート!$M68,入力シート!$N68))","v":0},{"$f":"入力シート!I68","v":0},{"$f":"入力シート!O68","v":0},{"$f":"IF(入力シート!P68=\"×\",\"P\",\"PN\")","v":"PN"},{"$f":"計算結果!#REF!","v":{"$error":"#REF!"}},{"$f":"計算結果!#REF!","v":{"$error":"#REF!"}},{"$f":"計算結果!#REF!","v":{"$error":"#REF!"}},{"$f":"計算結果!#REF!","v":{"$error":"#REF!"}},{"$f":"計算結果!#REF!","v":{"$error":"#REF!"}},{"$f":"計算結果!#REF!","v":{"$error":"#REF!"}},{"$f":"計算結果!#REF!","v":{"$error":"#REF!"}},{"$f":"計算結果!#REF!","v":{"$error":"#REF!"}},{"$f":"計算結果!#REF!","v":{"$error":"#REF!"}},{"$f":"計算結果!#REF!","v":{"$error":"#REF!"}},{"$f":"IF(計算結果!#REF!<>\"\",計算結果!#REF!,\"\")","v":{"$error":"#REF!"}}]
[{"$f":"入力シート!A69","v":0},{"$f":"入力シート!G69","v":0},{"$f":"入力シート!H69","v":0},{"$f":"IF(入力シート!$J69<>\"\",入力シート!$J69,IF(入力シート!$L69<>\"\",入力シート!$L69,\"‐\"))","v":"‐"},{"$f":"IF(入力シート!$K69<>\"\",入力シート!$K69,IF(入力シート!$M69<>\"\",入力シート!$M69,入力シート!$N69))","v":0},{"$f":"入力シート!I69","v":0},{"$f":"入力シート!O69","v":0},{"$f":"IF(入力シート!P69=\"×\",\"P\",\"PN\")","v":"PN"},{"$f":"計算結果!#REF!","v":{"$error":"#REF!"}},{"$f":"計算結果!#REF!","v":{"$error":"#REF!"}},{"$f":"計算結果!#REF!","v":{"$error":"#REF!"}},{"$f":"計算結果!#REF!","v":{"$error":"#REF!"}},{"$f":"計算結果!#REF!","v":{"$error":"#REF!"}},{"$f":"計算結果!#REF!","v":{"$error":"#REF!"}},{"$f":"計算結果!#REF!","v":{"$error":"#REF!"}},{"$f":"計算結果!#REF!","v":{"$error":"#REF!"}},{"$f":"計算結果!#REF!","v":{"$error":"#REF!"}},{"$f":"計算結果!#REF!","v":{"$error":"#REF!"}},{"$f":"IF(計算結果!#REF!<>\"\",計算結果!#REF!,\"\")","v":{"$error":"#REF!"}}]
[{"$f":"入力シート!A70","v":0},{"$f":"入力シート!G70","v":0},{"$f":"入力シート!H70","v":0},{"$f":"IF(入力シート!$J70<>\"\",入力シート!$J70,IF(入力シート!$L70<>\"\",入力シート!$L70,\"‐\"))","v":"‐"},{"$f":"IF(入力シート!$K70<>\"\",入力シート!$K70,IF(入力シート!$M70<>\"\",入力シート!$M70,入力シート!$N70))","v":0},{"$f":"入力シート!I70","v":0},{"$f":"入力シート!O70","v":0},{"$f":"IF(入力シート!P70=\"×\",\"P\",\"PN\")","v":"PN"},{"$f":"計算結果!#REF!","v":{"$error":"#REF!"}},{"$f":"計算結果!#REF!","v":{"$error":"#REF!"}},{"$f":"計算結果!#REF!","v":{"$error":"#REF!"}},{"$f":"計算結果!#REF!","v":{"$error":"#REF!"}},{"$f":"計算結果!#REF!","v":{"$error":"#REF!"}},{"$f":"計算結果!#REF!","v":{"$error":"#REF!"}},{"$f":"計算結果!#REF!","v":{"$error":"#REF!"}},{"$f":"計算結果!#REF!","v":{"$error":"#REF!"}},{"$f":"計算結果!#REF!","v":{"$error":"#REF!"}},{"$f":"計算結果!#REF!","v":{"$error":"#REF!"}},{"$f":"IF(計算結果!#REF!<>\"\",計算結果!#REF!,\"\")","v":{"$error":"#REF!"}}]
[{"$f":"入力シート!A71","v":0},{"$f":"入力シート!G71","v":0},{"$f":"入力シート!H71","v":0},{"$f":"IF(入力シート!$J71<>\"\",入力シート!$J71,IF(入力シート!$L71<>\"\",入力シート!$L71,\"‐\"))","v":"‐"},{"$f":"IF(入力シート!$K71<>\"\",入力シート!$K71,IF(入力シート!$M71<>\"\",入力シート!$M71,入力シート!$N71))","v":0},{"$f":"入力シート!I71","v":0},{"$f":"入力シート!O71","v":0},{"$f":"IF(入力シート!P71=\"×\",\"P\",\"PN\")","v":"PN"},{"$f":"計算結果!#REF!","v":{"$error":"#REF!"}},{"$f":"計算結果!#REF!","v":{"$error":"#REF!"}},{"$f":"計算結果!#REF!","v":{"$error":"#REF!"}},{"$f":"計算結果!#REF!","v":{"$error":"#REF!"}},{"$f":"計算結果!#REF!","v":{"$error":"#REF!"}},{"$f":"計算結果!#REF!","v":{"$error":"#REF!"}},{"$f":"計算結果!#REF!","v":{"$error":"#REF!"}},{"$f":"計算結果!#REF!","v":{"$error":"#REF!"}},{"$f":"計算結果!#REF!","v":{"$error":"#REF!"}},{"$f":"計算結果!#REF!","v":{"$error":"#REF!"}},{"$f":"IF(計算結果!#REF!<>\"\",計算結果!#REF!,\"\")","v":{"$error":"#REF!"}}]
[{"$f":"入力シート!A72","v":0},{"$f":"入力シート!G72","v":0},{"$f":"入力シート!H72","v":0},{"$f":"IF(入力シート!$J72<>\"\",入力シート!$J72,IF(入力シート!$L72<>\"\",入力シート!$L72,\"‐\"))","v":"‐"},{"$f":"IF(入力シート!$K72<>\"\",入力シート!$K72,IF(入力シート!$M72<>\"\",入力シート!$M72,入力シート!$N72))","v":0},{"$f":"入力シート!I72","v":0},{"$f":"入力シート!O72","v":0},{"$f":"IF(入力シート!P72=\"×\",\"P\",\"PN\")","v":"PN"},{"$f":"計算結果!#REF!","v":{"$error":"#REF!"}},{"$f":"計算結果!#REF!","v":{"$error":"#REF!"}},{"$f":"計算結果!#REF!","v":{"$error":"#REF!"}},{"$f":"計算結果!#REF!","v":{"$error":"#REF!"}},{"$f":"計算結果!#REF!","v":{"$error":"#REF!"}},{"$f":"計算結果!#REF!","v":{"$error":"#REF!"}},{"$f":"計算結果!#REF!","v":{"$error":"#REF!"}},{"$f":"計算結果!#REF!","v":{"$error":"#REF!"}},{"$f":"計算結果!#REF!","v":{"$error":"#REF!"}},{"$f":"計算結果!#REF!","v":{"$error":"#REF!"}},{"$f":"IF(計算結果!#REF!<>\"\",計算結果!#REF!,\"\")","v":{"$error":"#REF!"}}]
[{"$f":"入力シート!A73","v":0},{"$f":"入力シート!G73","v":0},{"$f":"入力シート!H73","v":0},{"$f":"IF(入力シート!$J73<>\"\",入力シート!$J73,IF(入力シート!$L73<>\"\",入力シート!$L73,\"‐\"))","v":"‐"},{"$f":"IF(入力シート!$K73<>\"\",入力シート!$K73,IF(入力シート!$M73<>\"\",入力シート!$M73,入力シート!$N73))","v":0},{"$f":"入力シート!I73","v":0},{"$f":"入力シート!O73","v":0},{"$f":"IF(入力シート!P73=\"×\",\"P\",\"PN\")","v":"PN"},{"$f":"計算結果!#REF!","v":{"$error":"#REF!"}},{"$f":"計算結果!#REF!","v":{"$error":"#REF!"}},{"$f":"計算結果!#REF!","v":{"$error":"#REF!"}},{"$f":"計算結果!#REF!","v":{"$error":"#REF!"}},{"$f":"計算結果!#REF!","v":{"$error":"#REF!"}},{"$f":"計算結果!#REF!","v":{"$error":"#REF!"}},{"$f":"計算結果!#REF!","v":{"$error":"#REF!"}},{"$f":"計算結果!#REF!","v":{"$error":"#REF!"}},{"$f":"計算結果!#REF!","v":{"$error":"#REF!"}},{"$f":"計算結果!#REF!","v":{"$error":"#REF!"}},{"$f":"IF(計算結果!#REF!<>\"\",計算結果!#REF!,\"\")","v":{"$error":"#REF!"}}]
[{"$f":"入力シート!A74","v":0},{"$f":"入力シート!G74","v":0},{"$f":"入力シート!H74","v":0},{"$f":"IF(入力シート!$J74<>\"\",入力シート!$J74,IF(入力シート!$L74<>\"\",入力シート!$L74,\"‐\"))","v":"‐"},{"$f":"IF(入力シート!$K74<>\"\",入力シート!$K74,IF(入力シート!$M74<>\"\",入力シート!$M74,入力シート!$N74))","v":0},{"$f":"入力シート!I74","v":0},{"$f":"入力シート!O74","v":0},{"$f":"IF(入力シート!P74=\"×\",\"P\",\"PN\")","v":"PN"},{"$f":"計算結果!#REF!","v":{"$error":"#REF!"}},{"$f":"計算結果!#REF!","v":{"$error":"#REF!"}},{"$f":"計算結果!#REF!","v":{"$error":"#REF!"}},{"$f":"計算結果!#REF!","v":{"$error":"#REF!"}},{"$f":"計算結果!#REF!","v":{"$error":"#REF!"}},{"$f":"計算結果!#REF!","v":{"$error":"#REF!"}},{"$f":"計算結果!#REF!","v":{"$error":"#REF!"}},{"$f":"計算結果!#REF!","v":{"$error":"#REF!"}},{"$f":"計算結果!#REF!","v":{"$error":"#REF!"}},{"$f":"計算結果!#REF!","v":{"$error":"#REF!"}},{"$f":"IF(計算結果!#REF!<>\"\",計算結果!#REF!,\"\")","v":{"$error":"#REF!"}}]
[{"$f":"入力シート!A424","v":0},{"$f":"入力シート!G424","v":0},{"$f":"入力シート!H424","v":0},{"$f":"IF(入力シート!$J424<>\"\",入力シート!$J424,IF(入力シート!$L424<>\"\",入力シート!$L424,\"‐\"))","v":"‐"},{"$f":"IF(入力シート!$K424<>\"\",入力シート!$K424,IF(入力シート!$M424<>\"\",入力シート!$M424,入力シート!$N424))","v":0},{"$f":"入力シート!I424","v":0},{"$f":"入力シート!O424","v":0},{"$f":"IF(入力シート!P424=\"×\",\"P\",\"PN\")","v":"PN"},{"$f":"計算結果!#REF!","v":{"$error":"#REF!"}},{"$f":"計算結果!#REF!","v":{"$error":"#REF!"}},{"$f":"計算結果!#REF!","v":{"$error":"#REF!"}},{"$f":"計算結果!#REF!","v":{"$error":"#REF!"}},{"$f":"計算結果!#REF!","v":{"$error":"#REF!"}},{"$f":"計算結果!#REF!","v":{"$error":"#REF!"}},{"$f":"計算結果!#REF!","v":{"$error":"#REF!"}},{"$f":"計算結果!#REF!","v":{"$error":"#REF!"}},{"$f":"計算結果!#REF!","v":{"$error":"#REF!"}},{"$f":"計算結果!#REF!","v":{"$error":"#REF!"}}]
[{"$f":"入力シート!A425","v":0},{"$f":"入力シート!G425","v":0},{"$f":"入力シート!H425","v":0},{"$f":"IF(入力シート!$J425<>\"\",入力シート!$J425,IF(入力シート!$L425<>\"\",入力シート!$L425,\"‐\"))","v":"‐"},{"$f":"IF(入力シート!$K425<>\"\",入力シート!$K425,IF(入力シート!$M425<>\"\",入力シート!$M425,入力シート!$N425))","v":0},{"$f":"入力シート!I425","v":0},{"$f":"入力シート!O425","v":0},{"$f":"IF(入力シート!P425=\"×\",\"P\",\"PN\")","v":"PN"},{"$f":"計算結果!#REF!","v":{"$error":"#REF!"}},{"$f":"計算結果!#REF!","v":{"$error":"#REF!"}},{"$f":"計算結果!#REF!","v":{"$error":"#REF!"}},{"$f":"計算結果!#REF!","v":{"$error":"#REF!"}},{"$f":"計算結果!#REF!","v":{"$error":"#REF!"}},{"$f":"計算結果!#REF!","v":{"$error":"#REF!"}},{"$f":"計算結果!#REF!","v":{"$error":"#REF!"}},{"$f":"計算結果!#REF!","v":{"$error":"#REF!"}},{"$f":"計算結果!#REF!","v":{"$error":"#REF!"}},{"$f":"計算結果!#REF!","v":{"$error":"#REF!"}}]
[{"$f":"入力シート!A426","v":0},{"$f":"入力シート!G426","v":0},{"$f":"入力シート!H426","v":0},{"$f":"IF(入力シート!$J426<>\"\",入力シート!$J426,IF(入力シート!$L426<>\"\",入力シート!$L426,\"‐\"))","v":"‐"},{"$f":"IF(入力シート!$K426<>\"\",入力シート!$K426,IF(入力シート!$M426<>\"\",入力シート!$M426,入力シート!$N426))","v":0},{"$f":"入力シート!I426","v":0},{"$f":"入力シート!O426","v":0},{"$f":"IF(入力シート!P426=\"×\",\"P\",\"PN\")","v":"PN"},{"$f":"計算結果!#REF!","v":{"$error":"#REF!"}},{"$f":"計算結果!#REF!","v":{"$error":"#REF!"}},{"$f":"計算結果!#REF!","v":{"$error":"#REF!"}},{"$f":"計算結果!#REF!","v":{"$error":"#REF!"}},{"$f":"計算結果!#REF!","v":{"$error":"#REF!"}},{"$f":"計算結果!#REF!","v":{"$error":"#REF!"}},{"$f":"計算結果!#REF!","v":{"$error":"#REF!"}},{"$f":"計算結果!#REF!","v":{"$error":"#REF!"}},{"$f":"計算結果!#REF!","v":{"$error":"#REF!"}},{"$f":"計算結果!#REF!","v":{"$error":"#REF!"}}]
[{"$f":"入力シート!A427","v":0},{"$f":"入力シート!G427","v":0},{"$f":"入力シート!H427","v":0},{"$f":"IF(入力シート!$J427<>\"\",入力シート!$J427,IF(入力シート!$L427<>\"\",入力シート!$L427,\"‐\"))","v":"‐"},{"$f":"IF(入力シート!$K427<>\"\",入力シート!$K427,IF(入力シート!$M427<>\"\",入力シート!$M427,入力シート!$N427))","v":0},{"$f":"入力シート!I427","v":0},{"$f":"入力シート!O427","v":0},{"$f":"IF(入力シート!P427=\"×\",\"P\",\"PN\")","v":"PN"},{"$f":"計算結果!#REF!","v":{"$error":"#REF!"}},{"$f":"計算結果!#REF!","v":{"$error":"#REF!"}},{"$f":"計算結果!#REF!","v":{"$error":"#REF!"}},{"$f":"計算結果!#REF!","v":{"$error":"#REF!"}},{"$f":"計算結果!#REF!","v":{"$error":"#REF!"}},{"$f":"計算結果!#REF!","v":{"$error":"#REF!"}},{"$f":"計算結果!#REF!","v":{"$error":"#REF!"}},{"$f":"計算結果!#REF!","v":{"$error":"#REF!"}},{"$f":"計算結果!#REF!","v":{"$error":"#REF!"}},{"$f":"計算結果!#REF!","v":{"$error":"#REF!"}}]
[{"$f":"入力シート!A428","v":0},{"$f":"入力シート!G428","v":0},{"$f":"入力シート!H428","v":0},{"$f":"IF(入力シート!$J428<>\"\",入力シート!$J428,IF(入力シート!$L428<>\"\",入力シート!$L428,\"‐\"))","v":"‐"},{"$f":"IF(入力シート!$K428<>\"\",入力シート!$K428,IF(入力シート!$M428<>\"\",入力シート!$M428,入力シート!$N428))","v":0},{"$f":"入力シート!I428","v":0},{"$f":"入力シート!O428","v":0},{"$f":"IF(入力シート!P428=\"×\",\"P\",\"PN\")","v":"PN"},{"$f":"計算結果!#REF!","v":{"$error":"#REF!"}},{"$f":"計算結果!#REF!","v":{"$error":"#REF!"}},{"$f":"計算結果!#REF!","v":{"$error":"#REF!"}},{"$f":"計算結果!#REF!","v":{"$error":"#REF!"}},{"$f":"計算結果!#REF!","v":{"$error":"#REF!"}},{"$f":"計算結果!#REF!","v":{"$error":"#REF!"}},{"$f":"計算結果!#REF!","v":{"$error":"#REF!"}},{"$f":"計算結果!#REF!","v":{"$error":"#REF!"}},{"$f":"計算結果!#REF!","v":{"$error":"#REF!"}},{"$f":"計算結果!#REF!","v":{"$error":"#REF!"}}]
[{"$f":"入力シート!A429","v":0},{"$f":"入力シート!G429","v":0},{"$f":"入力シート!H429","v":0},{"$f":"IF(入力シート!$J429<>\"\",入力シート!$J429,IF(入力シート!$L429<>\"\",入力シート!$L429,\"‐\"))","v":"‐"},{"$f":"IF(入力シート!$K429<>\"\",入力シート!$K429,IF(入力シート!$M429<>\"\",入力シート!$M429,入力シート!$N429))","v":0},{"$f":"入力シート!I429","v":0},{"$f":"入力シート!O429","v":0},{"$f":"IF(入力シート!P429=\"×\",\"P\",\"PN\")","v":"PN"},{"$f":"計算結果!#REF!","v":{"$error":"#REF!"}},{"$f":"計算結果!#REF!","v":{"$error":"#REF!"}},{"$f":"計算結果!#REF!","v":{"$error":"#REF!"}},{"$f":"計算結果!#REF!","v":{"$error":"#REF!"}},{"$f":"計算結果!#REF!","v":{"$error":"#REF!"}},{"$f":"計算結果!#REF!","v":{"$error":"#REF!"}},{"$f":"計算結果!#REF!","v":{"$error":"#REF!"}},{"$f":"計算結果!#REF!","v":{"$error":"#REF!"}},{"$f":"計算結果!#REF!","v":{"$error":"#REF!"}},{"$f":"計算結果!#REF!","v":{"$error":"#REF!"}}]
[{"$f":"入力シート!A430","v":0},{"$f":"入力シート!G430","v":0},{"$f":"入力シート!H430","v":0},{"$f":"IF(入力シート!$J430<>\"\",入力シート!$J430,IF(入力シート!$L430<>\"\",入力シート!$L430,\"‐\"))","v":"‐"},{"$f":"IF(入力シート!$K430<>\"\",入力シート!$K430,IF(入力シート!$M430<>\"\",入力シート!$M430,入力シート!$N430))","v":0},{"$f":"入力シート!I430","v":0},{"$f":"入力シート!O430","v":0},{"$f":"IF(入力シート!P430=\"×\",\"P\",\"PN\")","v":"PN"},{"$f":"計算結果!#REF!","v":{"$error":"#REF!"}},{"$f":"計算結果!#REF!","v":{"$error":"#REF!"}},{"$f":"計算結果!#REF!","v":{"$error":"#REF!"}},{"$f":"計算結果!#REF!","v":{"$error":"#REF!"}},{"$f":"計算結果!#REF!","v":{"$error":"#REF!"}},{"$f":"計算結果!#REF!","v":{"$error":"#REF!"}},{"$f":"計算結果!#REF!","v":{"$error":"#REF!"}},{"$f":"計算結果!#REF!","v":{"$error":"#REF!"}},{"$f":"計算結果!#REF!","v":{"$error":"#REF!"}},{"$f":"計算結果!#REF!","v":{"$error":"#REF!"}}]
[{"$f":"入力シート!A431","v":0},{"$f":"入力シート!G431","v":0},{"$f":"入力シート!H431","v":0},{"$f":"IF(入力シート!$J431<>\"\",入力シート!$J431,IF(入力シート!$L431<>\"\",入力シート!$L431,\"‐\"))","v":"‐"},{"$f":"IF(入力シート!$K431<>\"\",入力シート!$K431,IF(入力シート!$M431<>\"\",入力シート!$M431,入力シート!$N431))","v":0},{"$f":"入力シート!I431","v":0},{"$f":"入力シート!O431","v":0},{"$f":"IF(入力シート!P431=\"×\",\"P\",\"PN\")","v":"PN"},{"$f":"計算結果!#REF!","v":{"$error":"#REF!"}},{"$f":"計算結果!#REF!","v":{"$error":"#REF!"}},{"$f":"計算結果!#REF!","v":{"$error":"#REF!"}},{"$f":"計算結果!#REF!","v":{"$error":"#REF!"}},{"$f":"計算結果!#REF!","v":{"$error":"#REF!"}},{"$f":"計算結果!#REF!","v":{"$error":"#REF!"}},{"$f":"計算結果!#REF!","v":{"$error":"#REF!"}},{"$f":"計算結果!#REF!","v":{"$error":"#REF!"}},{"$f":"計算結果!#REF!","v":{"$error":"#REF!"}},{"$f":"計算結果!#REF!","v":{"$error":"#REF!"}}]
[{"$f":"入力シート!A432","v":0},{"$f":"入力シート!G432","v":0},{"$f":"入力シート!H432","v":0},{"$f":"IF(入力シート!$J432<>\"\",入力シート!$J432,IF(入力シート!$L432<>\"\",入力シート!$L432,\"‐\"))","v":"‐"},{"$f":"IF(入力シート!$K432<>\"\",入力シート!$K432,IF(入力シート!$M432<>\"\",入力シート!$M432,入力シート!$N432))","v":0},{"$f":"入力シート!I432","v":0},{"$f":"入力シート!O432","v":0},{"$f":"IF(入力シート!P432=\"×\",\"P\",\"PN\")","v":"PN"},{"$f":"計算結果!#REF!","v":{"$error":"#REF!"}},{"$f":"計算結果!#REF!","v":{"$error":"#REF!"}},{"$f":"計算結果!#REF!","v":{"$error":"#REF!"}},{"$f":"計算結果!#REF!","v":{"$error":"#REF!"}},{"$f":"計算結果!#REF!","v":{"$error":"#REF!"}},{"$f":"計算結果!#REF!","v":{"$error":"#REF!"}},{"$f":"計算結果!#REF!","v":{"$error":"#REF!"}},{"$f":"計算結果!#REF!","v":{"$error":"#REF!"}},{"$f":"計算結果!#REF!","v":{"$error":"#REF!"}},{"$f":"計算結果!#REF!","v":{"$error":"#REF!"}}]
[{"$f":"入力シート!A433","v":0},{"$f":"入力シート!G433","v":0},{"$f":"入力シート!H433","v":0},{"$f":"IF(入力シート!$J433<>\"\",入力シート!$J433,IF(入力シート!$L433<>\"\",入力シート!$L433,\"‐\"))","v":"‐"},{"$f":"IF(入力シート!$K433<>\"\",入力シート!$K433,IF(入力シート!$M433<>\"\",入力シート!$M433,入力シート!$N433))","v":0},{"$f":"入力シート!I433","v":0},{"$f":"入力シート!O433","v":0},{"$f":"IF(入力シート!P433=\"×\",\"P\",\"PN\")","v":"PN"},{"$f":"計算結果!#REF!","v":{"$error":"#REF!"}},{"$f":"計算結果!#REF!","v":{"$error":"#REF!"}},{"$f":"計算結果!#REF!","v":{"$error":"#REF!"}},{"$f":"計算結果!#REF!","v":{"$error":"#REF!"}},{"$f":"計算結果!#REF!","v":{"$error":"#REF!"}},{"$f":"計算結果!#REF!","v":{"$error":"#REF!"}},{"$f":"計算結果!#REF!","v":{"$error":"#REF!"}},{"$f":"計算結果!#REF!","v":{"$error":"#REF!"}},{"$f":"計算結果!#REF!","v":{"$error":"#REF!"}},{"$f":"計算結果!#REF!","v":{"$error":"#REF!"}}]
[{"$f":"入力シート!A434","v":0},{"$f":"入力シート!G434","v":0},{"$f":"入力シート!H434","v":0},{"$f":"IF(入力シート!$J434<>\"\",入力シート!$J434,IF(入力シート!$L434<>\"\",入力シート!$L434,\"‐\"))","v":"‐"},{"$f":"IF(入力シート!$K434<>\"\",入力シート!$K434,IF(入力シート!$M434<>\"\",入力シート!$M434,入力シート!$N434))","v":0},{"$f":"入力シート!I434","v":0},{"$f":"入力シート!O434","v":0},{"$f":"IF(入力シート!P434=\"×\",\"P\",\"PN\")","v":"PN"},{"$f":"計算結果!#REF!","v":{"$error":"#REF!"}},{"$f":"計算結果!#REF!","v":{"$error":"#REF!"}},{"$f":"計算結果!#REF!","v":{"$error":"#REF!"}},{"$f":"計算結果!#REF!","v":{"$error":"#REF!"}},{"$f":"計算結果!#REF!","v":{"$error":"#REF!"}},{"$f":"計算結果!#REF!","v":{"$error":"#REF!"}},{"$f":"計算結果!#REF!","v":{"$error":"#REF!"}},{"$f":"計算結果!#REF!","v":{"$error":"#REF!"}},{"$f":"計算結果!#REF!","v":{"$error":"#REF!"}},{"$f":"計算結果!#REF!","v":{"$error":"#REF!"}}]
[{"$f":"入力シート!A435","v":0},{"$f":"入力シート!G435","v":0},{"$f":"入力シート!H435","v":0},{"$f":"IF(入力シート!$J435<>\"\",入力シート!$J435,IF(入力シート!$L435<>\"\",入力シート!$L435,\"‐\"))","v":"‐"},{"$f":"IF(入力シート!$K435<>\"\",入力シート!$K435,IF(入力シート!$M435<>\"\",入力シート!$M435,入力シート!$N435))","v":0},{"$f":"入力シート!I435","v":0},{"$f":"入力シート!O435","v":0},{"$f":"IF(入力シート!P435=\"×\",\"P\",\"PN\")","v":"PN"},{"$f":"計算結果!#REF!","v":{"$error":"#REF!"}},{"$f":"計算結果!#REF!","v":{"$error":"#REF!"}},{"$f":"計算結果!#REF!","v":{"$error":"#REF!"}},{"$f":"計算結果!#REF!","v":{"$error":"#REF!"}},{"$f":"計算結果!#REF!","v":{"$error":"#REF!"}},{"$f":"計算結果!#REF!","v":{"$error":"#REF!"}},{"$f":"計算結果!#REF!","v":{"$error":"#REF!"}},{"$f":"計算結果!#REF!","v":{"$error":"#REF!"}},{"$f":"計算結果!#REF!","v":{"$error":"#REF!"}},{"$f":"計算結果!#REF!","v":{"$error":"#REF!"}}]
[{"$f":"入力シート!A436","v":0},{"$f":"入力シート!G436","v":0},{"$f":"入力シート!H436","v":0},{"$f":"IF(入力シート!$J436<>\"\",入力シート!$J436,IF(入力シート!$L436<>\"\",入力シート!$L436,\"‐\"))","v":"‐"},{"$f":"IF(入力シート!$K436<>\"\",入力シート!$K436,IF(入力シート!$M436<>\"\",入力シート!$M436,入力シート!$N436))","v":0},{"$f":"入力シート!I436","v":0},{"$f":"入力シート!O436","v":0},{"$f":"IF(入力シート!P436=\"×\",\"P\",\"PN\")","v":"PN"},{"$f":"計算結果!#REF!","v":{"$error":"#REF!"}},{"$f":"計算結果!#REF!","v":{"$error":"#REF!"}},{"$f":"計算結果!#REF!","v":{"$error":"#REF!"}},{"$f":"計算結果!#REF!","v":{"$error":"#REF!"}},{"$f":"計算結果!#REF!","v":{"$error":"#REF!"}},{"$f":"計算結果!#REF!","v":{"$error":"#REF!"}},{"$f":"計算結果!#REF!","v":{"$error":"#REF!"}},{"$f":"計算結果!#REF!","v":{"$error":"#REF!"}},{"$f":"計算結果!#REF!","v":{"$error":"#REF!"}},{"$f":"計算結果!#REF!","v":{"$error":"#REF!"}}]
[{"$f":"入力シート!A437","v":0},{"$f":"入力シート!G437","v":0},{"$f":"入力シート!H437","v":0},{"$f":"IF(入力シート!$J437<>\"\",入力シート!$J437,IF(入力シート!$L437<>\"\",入力シート!$L437,\"‐\"))","v":"‐"},{"$f":"IF(入力シート!$K437<>\"\",入力シート!$K437,IF(入力シート!$M437<>\"\",入力シート!$M437,入力シート!$N437))","v":0},{"$f":"入力シート!I437","v":0},{"$f":"入力シート!O437","v":0},{"$f":"IF(入力シート!P437=\"×\",\"P\",\"PN\")","v":"PN"},{"$f":"計算結果!#REF!","v":{"$error":"#REF!"}},{"$f":"計算結果!#REF!","v":{"$error":"#REF!"}},{"$f":"計算結果!#REF!","v":{"$error":"#REF!"}},{"$f":"計算結果!#REF!","v":{"$error":"#REF!"}},{"$f":"計算結果!#REF!","v":{"$error":"#REF!"}},{"$f":"計算結果!#REF!","v":{"$error":"#REF!"}},{"$f":"計算結果!#REF!","v":{"$error":"#REF!"}},{"$f":"計算結果!#REF!","v":{"$error":"#REF!"}},{"$f":"計算結果!#REF!","v":{"$error":"#REF!"}},{"$f":"計算結果!#REF!","v":{"$error":"#REF!"}}]
[{"$f":"入力シート!A438","v":0},{"$f":"入力シート!G438","v":0},{"$f":"入力シート!H438","v":0},{"$f":"IF(入力シート!$J438<>\"\",入力シート!$J438,IF(入力シート!$L438<>\"\",入力シート!$L438,\"‐\"))","v":"‐"},{"$f":"IF(入力シート!$K438<>\"\",入力シート!$K438,IF(入力シート!$M438<>\"\",入力シート!$M438,入力シート!$N438))","v":0},{"$f":"入力シート!I438","v":0},{"$f":"入力シート!O438","v":0},{"$f":"IF(入力シート!P438=\"×\",\"P\",\"PN\")","v":"PN"},{"$f":"計算結果!#REF!","v":{"$error":"#REF!"}},{"$f":"計算結果!#REF!","v":{"$error":"#REF!"}},{"$f":"計算結果!#REF!","v":{"$error":"#REF!"}},{"$f":"計算結果!#REF!","v":{"$error":"#REF!"}},{"$f":"計算結果!#REF!","v":{"$error":"#REF!"}},{"$f":"計算結果!#REF!","v":{"$error":"#REF!"}},{"$f":"計算結果!#REF!","v":{"$error":"#REF!"}},{"$f":"計算結果!#REF!","v":{"$error":"#REF!"}},{"$f":"計算結果!#REF!","v":{"$error":"#REF!"}},{"$f":"計算結果!#REF!","v":{"$error":"#REF!"}}]
[{"$f":"入力シート!A439","v":0},{"$f":"入力シート!G439","v":0},{"$f":"入力シート!H439","v":0},{"$f":"IF(入力シート!$J439<>\"\",入力シート!$J439,IF(入力シート!$L439<>\"\",入力シート!$L439,\"‐\"))","v":"‐"},{"$f":"IF(入力シート!$K439<>\"\",入力シート!$K439,IF(入力シート!$M439<>\"\",入力シート!$M439,入力シート!$N439))","v":0},{"$f":"入力シート!I439","v":0},{"$f":"入力シート!O439","v":0},{"$f":"IF(入力シート!P439=\"×\",\"P\",\"PN\")","v":"PN"},{"$f":"計算結果!#REF!","v":{"$error":"#REF!"}},{"$f":"計算結果!#REF!","v":{"$error":"#REF!"}},{"$f":"計算結果!#REF!","v":{"$error":"#REF!"}},{"$f":"計算結果!#REF!","v":{"$error":"#REF!"}},{"$f":"計算結果!#REF!","v":{"$error":"#REF!"}},{"$f":"計算結果!#REF!","v":{"$error":"#REF!"}},{"$f":"計算結果!#REF!","v":{"$error":"#REF!"}},{"$f":"計算結果!#REF!","v":{"$error":"#REF!"}},{"$f":"計算結果!#REF!","v":{"$error":"#REF!"}},{"$f":"計算結果!#REF!","v":{"$error":"#REF!"}}]
[{"$f":"入力シート!A440","v":0},{"$f":"入力シート!G440","v":0},{"$f":"入力シート!H440","v":0},{"$f":"IF(入力シート!$J440<>\"\",入力シート!$J440,IF(入力シート!$L440<>\"\",入力シート!$L440,\"‐\"))","v":"‐"},{"$f":"IF(入力シート!$K440<>\"\",入力シート!$K440,IF(入力シート!$M440<>\"\",入力シート!$M440,入力シート!$N440))","v":0},{"$f":"入力シート!I440","v":0},{"$f":"入力シート!O440","v":0},{"$f":"IF(入力シート!P440=\"×\",\"P\",\"PN\")","v":"PN"},{"$f":"計算結果!#REF!","v":{"$error":"#REF!"}},{"$f":"計算結果!#REF!","v":{"$error":"#REF!"}},{"$f":"計算結果!#REF!","v":{"$error":"#REF!"}},{"$f":"計算結果!#REF!","v":{"$error":"#REF!"}},{"$f":"計算結果!#REF!","v":{"$error":"#REF!"}},{"$f":"計算結果!#REF!","v":{"$error":"#REF!"}},{"$f":"計算結果!#REF!","v":{"$error":"#REF!"}},{"$f":"計算結果!#REF!","v":{"$error":"#REF!"}},{"$f":"計算結果!#REF!","v":{"$error":"#REF!"}},{"$f":"計算結果!#REF!","v":{"$error":"#REF!"}}]
[{"$f":"入力シート!A441","v":0},{"$f":"入力シート!G441","v":0},{"$f":"入力シート!H441","v":0},{"$f":"IF(入力シート!$J441<>\"\",入力シート!$J441,IF(入力シート!$L441<>\"\",入力シート!$L441,\"‐\"))","v":"‐"},{"$f":"IF(入力シート!$K441<>\"\",入力シート!$K441,IF(入力シート!$M441<>\"\",入力シート!$M441,入力シート!$N441))","v":0},{"$f":"入力シート!I441","v":0},{"$f":"入力シート!O441","v":0},{"$f":"IF(入力シート!P441=\"×\",\"P\",\"PN\")","v":"PN"},{"$f":"計算結果!#REF!","v":{"$error":"#REF!"}},{"$f":"計算結果!#REF!","v":{"$error":"#REF!"}},{"$f":"計算結果!#REF!","v":{"$error":"#REF!"}},{"$f":"計算結果!#REF!","v":{"$error":"#REF!"}},{"$f":"計算結果!#REF!","v":{"$error":"#REF!"}},{"$f":"計算結果!#REF!","v":{"$error":"#REF!"}},{"$f":"計算結果!#REF!","v":{"$error":"#REF!"}},{"$f":"計算結果!#REF!","v":{"$error":"#REF!"}},{"$f":"計算結果!#REF!","v":{"$error":"#REF!"}},{"$f":"計算結果!#REF!","v":{"$error":"#REF!"}}]
[{"$f":"入力シート!A442","v":0},{"$f":"入力シート!G442","v":0},{"$f":"入力シート!H442","v":0},{"$f":"IF(入力シート!$J442<>\"\",入力シート!$J442,IF(入力シート!$L442<>\"\",入力シート!$L442,\"‐\"))","v":"‐"},{"$f":"IF(入力シート!$K442<>\"\",入力シート!$K442,IF(入力シート!$M442<>\"\",入力シート!$M442,入力シート!$N442))","v":0},{"$f":"入力シート!I442","v":0},{"$f":"入力シート!O442","v":0},{"$f":"IF(入力シート!P442=\"×\",\"P\",\"PN\")","v":"PN"},{"$f":"計算結果!#REF!","v":{"$error":"#REF!"}},{"$f":"計算結果!#REF!","v":{"$error":"#REF!"}},{"$f":"計算結果!#REF!","v":{"$error":"#REF!"}},{"$f":"計算結果!#REF!","v":{"$error":"#REF!"}},{"$f":"計算結果!#REF!","v":{"$error":"#REF!"}},{"$f":"計算結果!#REF!","v":{"$error":"#REF!"}},{"$f":"計算結果!#REF!","v":{"$error":"#REF!"}},{"$f":"計算結果!#REF!","v":{"$error":"#REF!"}},{"$f":"計算結果!#REF!","v":{"$error":"#REF!"}},{"$f":"計算結果!#REF!","v":{"$error":"#REF!"}}]
[{"$f":"入力シート!A443","v":0},{"$f":"入力シート!G443","v":0},{"$f":"入力シート!H443","v":0},{"$f":"IF(入力シート!$J443<>\"\",入力シート!$J443,IF(入力シート!$L443<>\"\",入力シート!$L443,\"‐\"))","v":"‐"},{"$f":"IF(入力シート!$K443<>\"\",入力シート!$K443,IF(入力シート!$M443<>\"\",入力シート!$M443,入力シート!$N443))","v":0},{"$f":"入力シート!I443","v":0},{"$f":"入力シート!O443","v":0},{"$f":"IF(入力シート!P443=\"×\",\"P\",\"PN\")","v":"PN"},{"$f":"計算結果!#REF!","v":{"$error":"#REF!"}},{"$f":"計算結果!#REF!","v":{"$error":"#REF!"}},{"$f":"計算結果!#REF!","v":{"$error":"#REF!"}},{"$f":"計算結果!#REF!","v":{"$error":"#REF!"}},{"$f":"計算結果!#REF!","v":{"$error":"#REF!"}},{"$f":"計算結果!#REF!","v":{"$error":"#REF!"}},{"$f":"計算結果!#REF!","v":{"$error":"#REF!"}},{"$f":"計算結果!#REF!","v":{"$error":"#REF!"}},{"$f":"計算結果!#REF!","v":{"$error":"#REF!"}},{"$f":"計算結果!#REF!","v":{"$error":"#REF!"}}]
[{"$f":"入力シート!A444","v":0},{"$f":"入力シート!G444","v":0},{"$f":"入力シート!H444","v":0},{"$f":"IF(入力シート!$J444<>\"\",入力シート!$J444,IF(入力シート!$L444<>\"\",入力シート!$L444,\"‐\"))","v":"‐"},{"$f":"IF(入力シート!$K444<>\"\",入力シート!$K444,IF(入力シート!$M444<>\"\",入力シート!$M444,入力シート!$N444))","v":0},{"$f":"入力シート!I444","v":0},{"$f":"入力シート!O444","v":0},{"$f":"IF(入力シート!P444=\"×\",\"P\",\"PN\")","v":"PN"},{"$f":"計算結果!#REF!","v":{"$error":"#REF!"}},{"$f":"計算結果!#REF!","v":{"$error":"#REF!"}},{"$f":"計算結果!#REF!","v":{"$error":"#REF!"}},{"$f":"計算結果!#REF!","v":{"$error":"#REF!"}},{"$f":"計算結果!#REF!","v":{"$error":"#REF!"}},{"$f":"計算結果!#REF!","v":{"$error":"#REF!"}},{"$f":"計算結果!#REF!","v":{"$error":"#REF!"}},{"$f":"計算結果!#REF!","v":{"$error":"#REF!"}},{"$f":"計算結果!#REF!","v":{"$error":"#REF!"}},{"$f":"計算結果!#REF!","v":{"$error":"#REF!"}}]
[{"$f":"入力シート!A445","v":0},{"$f":"入力シート!G445","v":0},{"$f":"入力シート!H445","v":0},{"$f":"IF(入力シート!$J445<>\"\",入力シート!$J445,IF(入力シート!$L445<>\"\",入力シート!$L445,\"‐\"))","v":"‐"},{"$f":"IF(入力シート!$K445<>\"\",入力シート!$K445,IF(入力シート!$M445<>\"\",入力シート!$M445,入力シート!$N445))","v":0},{"$f":"入力シート!I445","v":0},{"$f":"入力シート!O445","v":0},{"$f":"IF(入力シート!P445=\"×\",\"P\",\"PN\")","v":"PN"},{"$f":"計算結果!#REF!","v":{"$error":"#REF!"}},{"$f":"計算結果!#REF!","v":{"$error":"#REF!"}},{"$f":"計算結果!#REF!","v":{"$error":"#REF!"}},{"$f":"計算結果!#REF!","v":{"$error":"#REF!"}},{"$f":"計算結果!#REF!","v":{"$error":"#REF!"}},{"$f":"計算結果!#REF!","v":{"$error":"#REF!"}},{"$f":"計算結果!#REF!","v":{"$error":"#REF!"}},{"$f":"計算結果!#REF!","v":{"$error":"#REF!"}},{"$f":"計算結果!#REF!","v":{"$error":"#REF!"}},{"$f":"計算結果!#REF!","v":{"$error":"#REF!"}}]
[{"$f":"入力シート!A446","v":0},{"$f":"入力シート!G446","v":0},{"$f":"入力シート!H446","v":0},{"$f":"IF(入力シート!$J446<>\"\",入力シート!$J446,IF(入力シート!$L446<>\"\",入力シート!$L446,\"‐\"))","v":"‐"},{"$f":"IF(入力シート!$K446<>\"\",入力シート!$K446,IF(入力シート!$M446<>\"\",入力シート!$M446,入力シート!$N446))","v":0},{"$f":"入力シート!I446","v":0},{"$f":"入力シート!O446","v":0},{"$f":"IF(入力シート!P446=\"×\",\"P\",\"PN\")","v":"PN"},{"$f":"計算結果!#REF!","v":{"$error":"#REF!"}},{"$f":"計算結果!#REF!","v":{"$error":"#REF!"}},{"$f":"計算結果!#REF!","v":{"$error":"#REF!"}},{"$f":"計算結果!#REF!","v":{"$error":"#REF!"}},{"$f":"計算結果!#REF!","v":{"$error":"#REF!"}},{"$f":"計算結果!#REF!","v":{"$error":"#REF!"}},{"$f":"計算結果!#REF!","v":{"$error":"#REF!"}},{"$f":"計算結果!#REF!","v":{"$error":"#REF!"}},{"$f":"計算結果!#REF!","v":{"$error":"#REF!"}},{"$f":"計算結果!#REF!","v":{"$error":"#REF!"}}]
[{"$f":"入力シート!A447","v":0},{"$f":"入力シート!G447","v":0},{"$f":"入力シート!H447","v":0},{"$f":"IF(入力シート!$J447<>\"\",入力シート!$J447,IF(入力シート!$L447<>\"\",入力シート!$L447,\"‐\"))","v":"‐"},{"$f":"IF(入力シート!$K447<>\"\",入力シート!$K447,IF(入力シート!$M447<>\"\",入力シート!$M447,入力シート!$N447))","v":0},{"$f":"入力シート!I447","v":0},{"$f":"入力シート!O447","v":0},{"$f":"IF(入力シート!P447=\"×\",\"P\",\"PN\")","v":"PN"},{"$f":"計算結果!#REF!","v":{"$error":"#REF!"}},{"$f":"計算結果!#REF!","v":{"$error":"#REF!"}},{"$f":"計算結果!#REF!","v":{"$error":"#REF!"}},{"$f":"計算結果!#REF!","v":{"$error":"#REF!"}},{"$f":"計算結果!#REF!","v":{"$error":"#REF!"}},{"$f":"計算結果!#REF!","v":{"$error":"#REF!"}},{"$f":"計算結果!#REF!","v":{"$error":"#REF!"}},{"$f":"計算結果!#REF!","v":{"$error":"#REF!"}},{"$f":"計算結果!#REF!","v":{"$error":"#REF!"}},{"$f":"計算結果!#REF!","v":{"$error":"#REF!"}}]
[{"$f":"入力シート!A448","v":0},{"$f":"入力シート!G448","v":0},{"$f":"入力シート!H448","v":0},{"$f":"IF(入力シート!$J448<>\"\",入力シート!$J448,IF(入力シート!$L448<>\"\",入力シート!$L448,\"‐\"))","v":"‐"},{"$f":"IF(入力シート!$K448<>\"\",入力シート!$K448,IF(入力シート!$M448<>\"\",入力シート!$M448,入力シート!$N448))","v":0},{"$f":"入力シート!I448","v":0},{"$f":"入力シート!O448","v":0},{"$f":"IF(入力シート!P448=\"×\",\"P\",\"PN\")","v":"PN"},{"$f":"計算結果!#REF!","v":{"$error":"#REF!"}},{"$f":"計算結果!#REF!","v":{"$error":"#REF!"}},{"$f":"計算結果!#REF!","v":{"$error":"#REF!"}},{"$f":"計算結果!#REF!","v":{"$error":"#REF!"}},{"$f":"計算結果!#REF!","v":{"$error":"#REF!"}},{"$f":"計算結果!#REF!","v":{"$error":"#REF!"}},{"$f":"計算結果!#REF!","v":{"$error":"#REF!"}},{"$f":"計算結果!#REF!","v":{"$error":"#REF!"}},{"$f":"計算結果!#REF!","v":{"$error":"#REF!"}},{"$f":"計算結果!#REF!","v":{"$error":"#REF!"}}]
[{"$f":"入力シート!A449","v":0},{"$f":"入力シート!G449","v":0},{"$f":"入力シート!H449","v":0},{"$f":"IF(入力シート!$J449<>\"\",入力シート!$J449,IF(入力シート!$L449<>\"\",入力シート!$L449,\"‐\"))","v":"‐"},{"$f":"IF(入力シート!$K449<>\"\",入力シート!$K449,IF(入力シート!$M449<>\"\",入力シート!$M449,入力シート!$N449))","v":0},{"$f":"入力シート!I449","v":0},{"$f":"入力シート!O449","v":0},{"$f":"IF(入力シート!P449=\"×\",\"P\",\"PN\")","v":"PN"},{"$f":"計算結果!#REF!","v":{"$error":"#REF!"}},{"$f":"計算結果!#REF!","v":{"$error":"#REF!"}},{"$f":"計算結果!#REF!","v":{"$error":"#REF!"}},{"$f":"計算結果!#REF!","v":{"$error":"#REF!"}},{"$f":"計算結果!#REF!","v":{"$error":"#REF!"}},{"$f":"計算結果!#REF!","v":{"$error":"#REF!"}},{"$f":"計算結果!#REF!","v":{"$error":"#REF!"}},{"$f":"計算結果!#REF!","v":{"$error":"#REF!"}},{"$f":"計算結果!#REF!","v":{"$error":"#REF!"}},{"$f":"計算結果!#REF!","v":{"$error":"#REF!"}}]
[{"$f":"入力シート!A450","v":0},{"$f":"入力シート!G450","v":0},{"$f":"入力シート!H450","v":0},{"$f":"IF(入力シート!$J450<>\"\",入力シート!$J450,IF(入力シート!$L450<>\"\",入力シート!$L450,\"‐\"))","v":"‐"},{"$f":"IF(入力シート!$K450<>\"\",入力シート!$K450,IF(入力シート!$M450<>\"\",入力シート!$M450,入力シート!$N450))","v":0},{"$f":"入力シート!I450","v":0},{"$f":"入力シート!O450","v":0},{"$f":"IF(入力シート!P450=\"×\",\"P\",\"PN\")","v":"PN"},{"$f":"計算結果!#REF!","v":{"$error":"#REF!"}},{"$f":"計算結果!#REF!","v":{"$error":"#REF!"}},{"$f":"計算結果!#REF!","v":{"$error":"#REF!"}},{"$f":"計算結果!#REF!","v":{"$error":"#REF!"}},{"$f":"計算結果!#REF!","v":{"$error":"#REF!"}},{"$f":"計算結果!#REF!","v":{"$error":"#REF!"}},{"$f":"計算結果!#REF!","v":{"$error":"#REF!"}},{"$f":"計算結果!#REF!","v":{"$error":"#REF!"}},{"$f":"計算結果!#REF!","v":{"$error":"#REF!"}},{"$f":"計算結果!#REF!","v":{"$error":"#REF!"}}]
[{"$f":"入力シート!A451","v":0},{"$f":"入力シート!G451","v":0},{"$f":"入力シート!H451","v":0},{"$f":"IF(入力シート!$J451<>\"\",入力シート!$J451,IF(入力シート!$L451<>\"\",入力シート!$L451,\"‐\"))","v":"‐"},{"$f":"IF(入力シート!$K451<>\"\",入力シート!$K451,IF(入力シート!$M451<>\"\",入力シート!$M451,入力シート!$N451))","v":0},{"$f":"入力シート!I451","v":0},{"$f":"入力シート!O451","v":0},{"$f":"IF(入力シート!P451=\"×\",\"P\",\"PN\")","v":"PN"},{"$f":"計算結果!#REF!","v":{"$error":"#REF!"}},{"$f":"計算結果!#REF!","v":{"$error":"#REF!"}},{"$f":"計算結果!#REF!","v":{"$error":"#REF!"}},{"$f":"計算結果!#REF!","v":{"$error":"#REF!"}},{"$f":"計算結果!#REF!","v":{"$error":"#REF!"}},{"$f":"計算結果!#REF!","v":{"$error":"#REF!"}},{"$f":"計算結果!#REF!","v":{"$error":"#REF!"}},{"$f":"計算結果!#REF!","v":{"$error":"#REF!"}},{"$f":"計算結果!#REF!","v":{"$error":"#REF!"}},{"$f":"計算結果!#REF!","v":{"$error":"#REF!"}}]
[{"$f":"入力シート!A452","v":0},{"$f":"入力シート!G452","v":0},{"$f":"入力シート!H452","v":0},{"$f":"IF(入力シート!$J452<>\"\",入力シート!$J452,IF(入力シート!$L452<>\"\",入力シート!$L452,\"‐\"))","v":"‐"},{"$f":"IF(入力シート!$K452<>\"\",入力シート!$K452,IF(入力シート!$M452<>\"\",入力シート!$M452,入力シート!$N452))","v":0},{"$f":"入力シート!I452","v":0},{"$f":"入力シート!O452","v":0},{"$f":"IF(入力シート!P452=\"×\",\"P\",\"PN\")","v":"PN"},{"$f":"計算結果!#REF!","v":{"$error":"#REF!"}},{"$f":"計算結果!#REF!","v":{"$error":"#REF!"}},{"$f":"計算結果!#REF!","v":{"$error":"#REF!"}},{"$f":"計算結果!#REF!","v":{"$error":"#REF!"}},{"$f":"計算結果!#REF!","v":{"$error":"#REF!"}},{"$f":"計算結果!#REF!","v":{"$error":"#REF!"}},{"$f":"計算結果!#REF!","v":{"$error":"#REF!"}},{"$f":"計算結果!#REF!","v":{"$error":"#REF!"}},{"$f":"計算結果!#REF!","v":{"$error":"#REF!"}},{"$f":"計算結果!#REF!","v":{"$error":"#REF!"}}]
[{"$f":"入力シート!A453","v":0},{"$f":"入力シート!G453","v":0},{"$f":"入力シート!H453","v":0},{"$f":"IF(入力シート!$J453<>\"\",入力シート!$J453,IF(入力シート!$L453<>\"\",入力シート!$L453,\"‐\"))","v":"‐"},{"$f":"IF(入力シート!$K453<>\"\",入力シート!$K453,IF(入力シート!$M453<>\"\",入力シート!$M453,入力シート!$N453))","v":0},{"$f":"入力シート!I453","v":0},{"$f":"入力シート!O453","v":0},{"$f":"IF(入力シート!P453=\"×\",\"P\",\"PN\")","v":"PN"},{"$f":"計算結果!#REF!","v":{"$error":"#REF!"}},{"$f":"計算結果!#REF!","v":{"$error":"#REF!"}},{"$f":"計算結果!#REF!","v":{"$error":"#REF!"}},{"$f":"計算結果!#REF!","v":{"$error":"#REF!"}},{"$f":"計算結果!#REF!","v":{"$error":"#REF!"}},{"$f":"計算結果!#REF!","v":{"$error":"#REF!"}},{"$f":"計算結果!#REF!","v":{"$error":"#REF!"}},{"$f":"計算結果!#REF!","v":{"$error":"#REF!"}},{"$f":"計算結果!#REF!","v":{"$error":"#REF!"}},{"$f":"計算結果!#REF!","v":{"$error":"#REF!"}}]
[{"$f":"入力シート!A454","v":0},{"$f":"入力シート!G454","v":0},{"$f":"入力シート!H454","v":0},{"$f":"IF(入力シート!$J454<>\"\",入力シート!$J454,IF(入力シート!$L454<>\"\",入力シート!$L454,\"‐\"))","v":"‐"},{"$f":"IF(入力シート!$K454<>\"\",入力シート!$K454,IF(入力シート!$M454<>\"\",入力シート!$M454,入力シート!$N454))","v":0},{"$f":"入力シート!I454","v":0},{"$f":"入力シート!O454","v":0},{"$f":"IF(入力シート!P454=\"×\",\"P\",\"PN\")","v":"PN"},{"$f":"計算結果!#REF!","v":{"$error":"#REF!"}},{"$f":"計算結果!#REF!","v":{"$error":"#REF!"}},{"$f":"計算結果!#REF!","v":{"$error":"#REF!"}},{"$f":"計算結果!#REF!","v":{"$error":"#REF!"}},{"$f":"計算結果!#REF!","v":{"$error":"#REF!"}},{"$f":"計算結果!#REF!","v":{"$error":"#REF!"}},{"$f":"計算結果!#REF!","v":{"$error":"#REF!"}},{"$f":"計算結果!#REF!","v":{"$error":"#REF!"}},{"$f":"計算結果!#REF!","v":{"$error":"#REF!"}},{"$f":"計算結果!#REF!","v":{"$error":"#REF!"}}]
[{"$f":"入力シート!A455","v":0},{"$f":"入力シート!G455","v":0},{"$f":"入力シート!H455","v":0},{"$f":"IF(入力シート!$J455<>\"\",入力シート!$J455,IF(入力シート!$L455<>\"\",入力シート!$L455,\"‐\"))","v":"‐"},{"$f":"IF(入力シート!$K455<>\"\",入力シート!$K455,IF(入力シート!$M455<>\"\",入力シート!$M455,入力シート!$N455))","v":0},{"$f":"入力シート!I455","v":0},{"$f":"入力シート!O455","v":0},{"$f":"IF(入力シート!P455=\"×\",\"P\",\"PN\")","v":"PN"},{"$f":"計算結果!#REF!","v":{"$error":"#REF!"}},{"$f":"計算結果!#REF!","v":{"$error":"#REF!"}},{"$f":"計算結果!#REF!","v":{"$error":"#REF!"}},{"$f":"計算結果!#REF!","v":{"$error":"#REF!"}},{"$f":"計算結果!#REF!","v":{"$error":"#REF!"}},{"$f":"計算結果!#REF!","v":{"$error":"#REF!"}},{"$f":"計算結果!#REF!","v":{"$error":"#REF!"}},{"$f":"計算結果!#REF!","v":{"$error":"#REF!"}},{"$f":"計算結果!#REF!","v":{"$error":"#REF!"}},{"$f":"計算結果!#REF!","v":{"$error":"#REF!"}}]
[{"$f":"入力シート!A456","v":0},{"$f":"入力シート!G456","v":0},{"$f":"入力シート!H456","v":0},{"$f":"IF(入力シート!$J456<>\"\",入力シート!$J456,IF(入力シート!$L456<>\"\",入力シート!$L456,\"‐\"))","v":"‐"},{"$f":"IF(入力シート!$K456<>\"\",入力シート!$K456,IF(入力シート!$M456<>\"\",入力シート!$M456,入力シート!$N456))","v":0},{"$f":"入力シート!I456","v":0},{"$f":"入力シート!O456","v":0},{"$f":"IF(入力シート!P456=\"×\",\"P\",\"PN\")","v":"PN"},{"$f":"計算結果!#REF!","v":{"$error":"#REF!"}},{"$f":"計算結果!#REF!","v":{"$error":"#REF!"}},{"$f":"計算結果!#REF!","v":{"$error":"#REF!"}},{"$f":"計算結果!#REF!","v":{"$error":"#REF!"}},{"$f":"計算結果!#REF!","v":{"$error":"#REF!"}},{"$f":"計算結果!#REF!","v":{"$error":"#REF!"}},{"$f":"計算結果!#REF!","v":{"$error":"#REF!"}},{"$f":"計算結果!#REF!","v":{"$error":"#REF!"}},{"$f":"計算結果!#REF!","v":{"$error":"#REF!"}},{"$f":"計算結果!#REF!","v":{"$error":"#REF!"}}]
[{"$f":"入力シート!A457","v":0},{"$f":"入力シート!G457","v":0},{"$f":"入力シート!H457","v":0},{"$f":"IF(入力シート!$J457<>\"\",入力シート!$J457,IF(入力シート!$L457<>\"\",入力シート!$L457,\"‐\"))","v":"‐"},{"$f":"IF(入力シート!$K457<>\"\",入力シート!$K457,IF(入力シート!$M457<>\"\",入力シート!$M457,入力シート!$N457))","v":0},{"$f":"入力シート!I457","v":0},{"$f":"入力シート!O457","v":0},{"$f":"IF(入力シート!P457=\"×\",\"P\",\"PN\")","v":"PN"},{"$f":"計算結果!#REF!","v":{"$error":"#REF!"}},{"$f":"計算結果!#REF!","v":{"$error":"#REF!"}},{"$f":"計算結果!#REF!","v":{"$error":"#REF!"}},{"$f":"計算結果!#REF!","v":{"$error":"#REF!"}},{"$f":"計算結果!#REF!","v":{"$error":"#REF!"}},{"$f":"計算結果!#REF!","v":{"$error":"#REF!"}},{"$f":"計算結果!#REF!","v":{"$error":"#REF!"}},{"$f":"計算結果!#REF!","v":{"$error":"#REF!"}},{"$f":"計算結果!#REF!","v":{"$error":"#REF!"}},{"$f":"計算結果!#REF!","v":{"$error":"#REF!"}}]
[{"$f":"入力シート!A458","v":0},{"$f":"入力シート!G458","v":0},{"$f":"入力シート!H458","v":0},{"$f":"IF(入力シート!$J458<>\"\",入力シート!$J458,IF(入力シート!$L458<>\"\",入力シート!$L458,\"‐\"))","v":"‐"},{"$f":"IF(入力シート!$K458<>\"\",入力シート!$K458,IF(入力シート!$M458<>\"\",入力シート!$M458,入力シート!$N458))","v":0},{"$f":"入力シート!I458","v":0},{"$f":"入力シート!O458","v":0},{"$f":"IF(入力シート!P458=\"×\",\"P\",\"PN\")","v":"PN"},{"$f":"計算結果!#REF!","v":{"$error":"#REF!"}},{"$f":"計算結果!#REF!","v":{"$error":"#REF!"}},{"$f":"計算結果!#REF!","v":{"$error":"#REF!"}},{"$f":"計算結果!#REF!","v":{"$error":"#REF!"}},{"$f":"計算結果!#REF!","v":{"$error":"#REF!"}},{"$f":"計算結果!#REF!","v":{"$error":"#REF!"}},{"$f":"計算結果!#REF!","v":{"$error":"#REF!"}},{"$f":"計算結果!#REF!","v":{"$error":"#REF!"}},{"$f":"計算結果!#REF!","v":{"$error":"#REF!"}},{"$f":"計算結果!#REF!","v":{"$error":"#REF!"}}]
[{"$f":"入力シート!A459","v":0},{"$f":"入力シート!G459","v":0},{"$f":"入力シート!H459","v":0},{"$f":"IF(入力シート!$J459<>\"\",入力シート!$J459,IF(入力シート!$L459<>\"\",入力シート!$L459,\"‐\"))","v":"‐"},{"$f":"IF(入力シート!$K459<>\"\",入力シート!$K459,IF(入力シート!$M459<>\"\",入力シート!$M459,入力シート!$N459))","v":0},{"$f":"入力シート!I459","v":0},{"$f":"入力シート!O459","v":0},{"$f":"IF(入力シート!P459=\"×\",\"P\",\"PN\")","v":"PN"},{"$f":"計算結果!#REF!","v":{"$error":"#REF!"}},{"$f":"計算結果!#REF!","v":{"$error":"#REF!"}},{"$f":"計算結果!#REF!","v":{"$error":"#REF!"}},{"$f":"計算結果!#REF!","v":{"$error":"#REF!"}},{"$f":"計算結果!#REF!","v":{"$error":"#REF!"}},{"$f":"計算結果!#REF!","v":{"$error":"#REF!"}},{"$f":"計算結果!#REF!","v":{"$error":"#REF!"}},{"$f":"計算結果!#REF!","v":{"$error":"#REF!"}},{"$f":"計算結果!#REF!","v":{"$error":"#REF!"}},{"$f":"計算結果!#REF!","v":{"$error":"#REF!"}}]
[{"$f":"入力シート!A460","v":0},{"$f":"入力シート!G460","v":0},{"$f":"入力シート!H460","v":0},{"$f":"IF(入力シート!$J460<>\"\",入力シート!$J460,IF(入力シート!$L460<>\"\",入力シート!$L460,\"‐\"))","v":"‐"},{"$f":"IF(入力シート!$K460<>\"\",入力シート!$K460,IF(入力シート!$M460<>\"\",入力シート!$M460,入力シート!$N460))","v":0},{"$f":"入力シート!I460","v":0},{"$f":"入力シート!O460","v":0},{"$f":"IF(入力シート!P460=\"×\",\"P\",\"PN\")","v":"PN"},{"$f":"計算結果!#REF!","v":{"$error":"#REF!"}},{"$f":"計算結果!#REF!","v":{"$error":"#REF!"}},{"$f":"計算結果!#REF!","v":{"$error":"#REF!"}},{"$f":"計算結果!#REF!","v":{"$error":"#REF!"}},{"$f":"計算結果!#REF!","v":{"$error":"#REF!"}},{"$f":"計算結果!#REF!","v":{"$error":"#REF!"}},{"$f":"計算結果!#REF!","v":{"$error":"#REF!"}},{"$f":"計算結果!#REF!","v":{"$error":"#REF!"}},{"$f":"計算結果!#REF!","v":{"$error":"#REF!"}},{"$f":"計算結果!#REF!","v":{"$error":"#REF!"}}]
[{"$f":"入力シート!A461","v":0},{"$f":"入力シート!G461","v":0},{"$f":"入力シート!H461","v":0},{"$f":"IF(入力シート!$J461<>\"\",入力シート!$J461,IF(入力シート!$L461<>\"\",入力シート!$L461,\"‐\"))","v":"‐"},{"$f":"IF(入力シート!$K461<>\"\",入力シート!$K461,IF(入力シート!$M461<>\"\",入力シート!$M461,入力シート!$N461))","v":0},{"$f":"入力シート!I461","v":0},{"$f":"入力シート!O461","v":0},{"$f":"IF(入力シート!P461=\"×\",\"P\",\"PN\")","v":"PN"},{"$f":"計算結果!#REF!","v":{"$error":"#REF!"}},{"$f":"計算結果!#REF!","v":{"$error":"#REF!"}},{"$f":"計算結果!#REF!","v":{"$error":"#REF!"}},{"$f":"計算結果!#REF!","v":{"$error":"#REF!"}},{"$f":"計算結果!#REF!","v":{"$error":"#REF!"}},{"$f":"計算結果!#REF!","v":{"$error":"#REF!"}},{"$f":"計算結果!#REF!","v":{"$error":"#REF!"}},{"$f":"計算結果!#REF!","v":{"$error":"#REF!"}},{"$f":"計算結果!#REF!","v":{"$error":"#REF!"}},{"$f":"計算結果!#REF!","v":{"$error":"#REF!"}}]
[{"$f":"入力シート!A462","v":0},{"$f":"入力シート!G462","v":0},{"$f":"入力シート!H462","v":0},{"$f":"IF(入力シート!$J462<>\"\",入力シート!$J462,IF(入力シート!$L462<>\"\",入力シート!$L462,\"‐\"))","v":"‐"},{"$f":"IF(入力シート!$K462<>\"\",入力シート!$K462,IF(入力シート!$M462<>\"\",入力シート!$M462,入力シート!$N462))","v":0},{"$f":"入力シート!I462","v":0},{"$f":"入力シート!O462","v":0},{"$f":"IF(入力シート!P462=\"×\",\"P\",\"PN\")","v":"PN"},{"$f":"計算結果!#REF!","v":{"$error":"#REF!"}},{"$f":"計算結果!#REF!","v":{"$error":"#REF!"}},{"$f":"計算結果!#REF!","v":{"$error":"#REF!"}},{"$f":"計算結果!#REF!","v":{"$error":"#REF!"}},{"$f":"計算結果!#REF!","v":{"$error":"#REF!"}},{"$f":"計算結果!#REF!","v":{"$error":"#REF!"}},{"$f":"計算結果!#REF!","v":{"$error":"#REF!"}},{"$f":"計算結果!#REF!","v":{"$error":"#REF!"}},{"$f":"計算結果!#REF!","v":{"$error":"#REF!"}},{"$f":"計算結果!#REF!","v":{"$error":"#REF!"}}]
[{"$f":"入力シート!A463","v":0},{"$f":"入力シート!G463","v":0},{"$f":"入力シート!H463","v":0},{"$f":"IF(入力シート!$J463<>\"\",入力シート!$J463,IF(入力シート!$L463<>\"\",入力シート!$L463,\"‐\"))","v":"‐"},{"$f":"IF(入力シート!$K463<>\"\",入力シート!$K463,IF(入力シート!$M463<>\"\",入力シート!$M463,入力シート!$N463))","v":0},{"$f":"入力シート!I463","v":0},{"$f":"入力シート!O463","v":0},{"$f":"IF(入力シート!P463=\"×\",\"P\",\"PN\")","v":"PN"},{"$f":"計算結果!#REF!","v":{"$error":"#REF!"}},{"$f":"計算結果!#REF!","v":{"$error":"#REF!"}},{"$f":"計算結果!#REF!","v":{"$error":"#REF!"}},{"$f":"計算結果!#REF!","v":{"$error":"#REF!"}},{"$f":"計算結果!#REF!","v":{"$error":"#REF!"}},{"$f":"計算結果!#REF!","v":{"$error":"#REF!"}},{"$f":"計算結果!#REF!","v":{"$error":"#REF!"}},{"$f":"計算結果!#REF!","v":{"$error":"#REF!"}},{"$f":"計算結果!#REF!","v":{"$error":"#REF!"}},{"$f":"計算結果!#REF!","v":{"$error":"#REF!"}}]
[{"$f":"入力シート!A464","v":0},{"$f":"入力シート!G464","v":0},{"$f":"入力シート!H464","v":0},{"$f":"IF(入力シート!$J464<>\"\",入力シート!$J464,IF(入力シート!$L464<>\"\",入力シート!$L464,\"‐\"))","v":"‐"},{"$f":"IF(入力シート!$K464<>\"\",入力シート!$K464,IF(入力シート!$M464<>\"\",入力シート!$M464,入力シート!$N464))","v":0},{"$f":"入力シート!I464","v":0},{"$f":"入力シート!O464","v":0},{"$f":"IF(入力シート!P464=\"×\",\"P\",\"PN\")","v":"PN"},{"$f":"計算結果!#REF!","v":{"$error":"#REF!"}},{"$f":"計算結果!#REF!","v":{"$error":"#REF!"}},{"$f":"計算結果!#REF!","v":{"$error":"#REF!"}},{"$f":"計算結果!#REF!","v":{"$error":"#REF!"}},{"$f":"計算結果!#REF!","v":{"$error":"#REF!"}},{"$f":"計算結果!#REF!","v":{"$error":"#REF!"}},{"$f":"計算結果!#REF!","v":{"$error":"#REF!"}},{"$f":"計算結果!#REF!","v":{"$error":"#REF!"}},{"$f":"計算結果!#REF!","v":{"$error":"#REF!"}},{"$f":"計算結果!#REF!","v":{"$error":"#REF!"}}]
[{"$f":"入力シート!A465","v":0},{"$f":"入力シート!G465","v":0},{"$f":"入力シート!H465","v":0},{"$f":"IF(入力シート!$J465<>\"\",入力シート!$J465,IF(入力シート!$L465<>\"\",入力シート!$L465,\"‐\"))","v":"‐"},{"$f":"IF(入力シート!$K465<>\"\",入力シート!$K465,IF(入力シート!$M465<>\"\",入力シート!$M465,入力シート!$N465))","v":0},{"$f":"入力シート!I465","v":0},{"$f":"入力シート!O465","v":0},{"$f":"IF(入力シート!P465=\"×\",\"P\",\"PN\")","v":"PN"},{"$f":"計算結果!#REF!","v":{"$error":"#REF!"}},{"$f":"計算結果!#REF!","v":{"$error":"#REF!"}},{"$f":"計算結果!#REF!","v":{"$error":"#REF!"}},{"$f":"計算結果!#REF!","v":{"$error":"#REF!"}},{"$f":"計算結果!#REF!","v":{"$error":"#REF!"}},{"$f":"計算結果!#REF!","v":{"$error":"#REF!"}},{"$f":"計算結果!#REF!","v":{"$error":"#REF!"}},{"$f":"計算結果!#REF!","v":{"$error":"#REF!"}},{"$f":"計算結果!#REF!","v":{"$error":"#REF!"}},{"$f":"計算結果!#REF!","v":{"$error":"#REF!"}}]
[{"$f":"入力シート!A466","v":0},{"$f":"入力シート!G466","v":0},{"$f":"入力シート!H466","v":0},{"$f":"IF(入力シート!$J466<>\"\",入力シート!$J466,IF(入力シート!$L466<>\"\",入力シート!$L466,\"‐\"))","v":"‐"},{"$f":"IF(入力シート!$K466<>\"\",入力シート!$K466,IF(入力シート!$M466<>\"\",入力シート!$M466,入力シート!$N466))","v":0},{"$f":"入力シート!I466","v":0},{"$f":"入力シート!O466","v":0},{"$f":"IF(入力シート!P466=\"×\",\"P\",\"PN\")","v":"PN"},{"$f":"計算結果!#REF!","v":{"$error":"#REF!"}},{"$f":"計算結果!#REF!","v":{"$error":"#REF!"}},{"$f":"計算結果!#REF!","v":{"$error":"#REF!"}},{"$f":"計算結果!#REF!","v":{"$error":"#REF!"}},{"$f":"計算結果!#REF!","v":{"$error":"#REF!"}},{"$f":"計算結果!#REF!","v":{"$error":"#REF!"}},{"$f":"計算結果!#REF!","v":{"$error":"#REF!"}},{"$f":"計算結果!#REF!","v":{"$error":"#REF!"}},{"$f":"計算結果!#REF!","v":{"$error":"#REF!"}},{"$f":"計算結果!#REF!","v":{"$error":"#REF!"}}]
[{"$f":"入力シート!A467","v":0},{"$f":"入力シート!G467","v":0},{"$f":"入力シート!H467","v":0},{"$f":"IF(入力シート!$J467<>\"\",入力シート!$J467,IF(入力シート!$L467<>\"\",入力シート!$L467,\"‐\"))","v":"‐"},{"$f":"IF(入力シート!$K467<>\"\",入力シート!$K467,IF(入力シート!$M467<>\"\",入力シート!$M467,入力シート!$N467))","v":0},{"$f":"入力シート!I467","v":0},{"$f":"入力シート!O467","v":0},{"$f":"IF(入力シート!P467=\"×\",\"P\",\"PN\")","v":"PN"},{"$f":"計算結果!#REF!","v":{"$error":"#REF!"}},{"$f":"計算結果!#REF!","v":{"$error":"#REF!"}},{"$f":"計算結果!#REF!","v":{"$error":"#REF!"}},{"$f":"計算結果!#REF!","v":{"$error":"#REF!"}},{"$f":"計算結果!#REF!","v":{"$error":"#REF!"}},{"$f":"計算結果!#REF!","v":{"$error":"#REF!"}},{"$f":"計算結果!#REF!","v":{"$error":"#REF!"}},{"$f":"計算結果!#REF!","v":{"$error":"#REF!"}},{"$f":"計算結果!#REF!","v":{"$error":"#REF!"}},{"$f":"計算結果!#REF!","v":{"$error":"#REF!"}}]
[{"$f":"入力シート!A468","v":0},{"$f":"入力シート!G468","v":0},{"$f":"入力シート!H468","v":0},{"$f":"IF(入力シート!$J468<>\"\",入力シート!$J468,IF(入力シート!$L468<>\"\",入力シート!$L468,\"‐\"))","v":"‐"},{"$f":"IF(入力シート!$K468<>\"\",入力シート!$K468,IF(入力シート!$M468<>\"\",入力シート!$M468,入力シート!$N468))","v":0},{"$f":"入力シート!I468","v":0},{"$f":"入力シート!O468","v":0},{"$f":"IF(入力シート!P468=\"×\",\"P\",\"PN\")","v":"PN"},{"$f":"計算結果!#REF!","v":{"$error":"#REF!"}},{"$f":"計算結果!#REF!","v":{"$error":"#REF!"}},{"$f":"計算結果!#REF!","v":{"$error":"#REF!"}},{"$f":"計算結果!#REF!","v":{"$error":"#REF!"}},{"$f":"計算結果!#REF!","v":{"$error":"#REF!"}},{"$f":"計算結果!#REF!","v":{"$error":"#REF!"}},{"$f":"計算結果!#REF!","v":{"$error":"#REF!"}},{"$f":"計算結果!#REF!","v":{"$error":"#REF!"}},{"$f":"計算結果!#REF!","v":{"$error":"#REF!"}},{"$f":"計算結果!#REF!","v":{"$error":"#REF!"}}]
[{"$f":"入力シート!A469","v":0},{"$f":"入力シート!G469","v":0},{"$f":"入力シート!H469","v":0},{"$f":"IF(入力シート!$J469<>\"\",入力シート!$J469,IF(入力シート!$L469<>\"\",入力シート!$L469,\"‐\"))","v":"‐"},{"$f":"IF(入力シート!$K469<>\"\",入力シート!$K469,IF(入力シート!$M469<>\"\",入力シート!$M469,入力シート!$N469))","v":0},{"$f":"入力シート!I469","v":0},{"$f":"入力シート!O469","v":0},{"$f":"IF(入力シート!P469=\"×\",\"P\",\"PN\")","v":"PN"},{"$f":"計算結果!#REF!","v":{"$error":"#REF!"}},{"$f":"計算結果!#REF!","v":{"$error":"#REF!"}},{"$f":"計算結果!#REF!","v":{"$error":"#REF!"}},{"$f":"計算結果!#REF!","v":{"$error":"#REF!"}},{"$f":"計算結果!#REF!","v":{"$error":"#REF!"}},{"$f":"計算結果!#REF!","v":{"$error":"#REF!"}},{"$f":"計算結果!#REF!","v":{"$error":"#REF!"}},{"$f":"計算結果!#REF!","v":{"$error":"#REF!"}},{"$f":"計算結果!#REF!","v":{"$error":"#REF!"}},{"$f":"計算結果!#REF!","v":{"$error":"#REF!"}}]
[{"$f":"入力シート!A470","v":0},{"$f":"入力シート!G470","v":0},{"$f":"入力シート!H470","v":0},{"$f":"IF(入力シート!$J470<>\"\",入力シート!$J470,IF(入力シート!$L470<>\"\",入力シート!$L470,\"‐\"))","v":"‐"},{"$f":"IF(入力シート!$K470<>\"\",入力シート!$K470,IF(入力シート!$M470<>\"\",入力シート!$M470,入力シート!$N470))","v":0},{"$f":"入力シート!I470","v":0},{"$f":"入力シート!O470","v":0},{"$f":"IF(入力シート!P470=\"×\",\"P\",\"PN\")","v":"PN"},{"$f":"計算結果!#REF!","v":{"$error":"#REF!"}},{"$f":"計算結果!#REF!","v":{"$error":"#REF!"}},{"$f":"計算結果!#REF!","v":{"$error":"#REF!"}},{"$f":"計算結果!#REF!","v":{"$error":"#REF!"}},{"$f":"計算結果!#REF!","v":{"$error":"#REF!"}},{"$f":"計算結果!#REF!","v":{"$error":"#REF!"}},{"$f":"計算結果!#REF!","v":{"$error":"#REF!"}},{"$f":"計算結果!#REF!","v":{"$error":"#REF!"}},{"$f":"計算結果!#REF!","v":{"$error":"#REF!"}},{"$f":"計算結果!#REF!","v":{"$error":"#REF!"}}]
[{"$f":"入力シート!A471","v":0},{"$f":"入力シート!G471","v":0},{"$f":"入力シート!H471","v":0},{"$f":"IF(入力シート!$J471<>\"\",入力シート!$J471,IF(入力シート!$L471<>\"\",入力シート!$L471,\"‐\"))","v":"‐"},{"$f":"IF(入力シート!$K471<>\"\",入力シート!$K471,IF(入力シート!$M471<>\"\",入力シート!$M471,入力シート!$N471))","v":0},{"$f":"入力シート!I471","v":0},{"$f":"入力シート!O471","v":0},{"$f":"IF(入力シート!P471=\"×\",\"P\",\"PN\")","v":"PN"},{"$f":"計算結果!#REF!","v":{"$error":"#REF!"}},{"$f":"計算結果!#REF!","v":{"$error":"#REF!"}},{"$f":"計算結果!#REF!","v":{"$error":"#REF!"}},{"$f":"計算結果!#REF!","v":{"$error":"#REF!"}},{"$f":"計算結果!#REF!","v":{"$error":"#REF!"}},{"$f":"計算結果!#REF!","v":{"$error":"#REF!"}},{"$f":"計算結果!#REF!","v":{"$error":"#REF!"}},{"$f":"計算結果!#REF!","v":{"$error":"#REF!"}},{"$f":"計算結果!#REF!","v":{"$error":"#REF!"}},{"$f":"計算結果!#REF!","v":{"$error":"#REF!"}}]
[{"$f":"入力シート!A472","v":0},{"$f":"入力シート!G472","v":0},{"$f":"入力シート!H472","v":0},{"$f":"IF(入力シート!$J472<>\"\",入力シート!$J472,IF(入力シート!$L472<>\"\",入力シート!$L472,\"‐\"))","v":"‐"},{"$f":"IF(入力シート!$K472<>\"\",入力シート!$K472,IF(入力シート!$M472<>\"\",入力シート!$M472,入力シート!$N472))","v":0},{"$f":"入力シート!I472","v":0},{"$f":"入力シート!O472","v":0},{"$f":"IF(入力シート!P472=\"×\",\"P\",\"PN\")","v":"PN"},{"$f":"計算結果!#REF!","v":{"$error":"#REF!"}},{"$f":"計算結果!#REF!","v":{"$error":"#REF!"}},{"$f":"計算結果!#REF!","v":{"$error":"#REF!"}},{"$f":"計算結果!#REF!","v":{"$error":"#REF!"}},{"$f":"計算結果!#REF!","v":{"$error":"#REF!"}},{"$f":"計算結果!#REF!","v":{"$error":"#REF!"}},{"$f":"計算結果!#REF!","v":{"$error":"#REF!"}},{"$f":"計算結果!#REF!","v":{"$error":"#REF!"}},{"$f":"計算結果!#REF!","v":{"$error":"#REF!"}},{"$f":"計算結果!#REF!","v":{"$error":"#REF!"}}]
[{"$f":"入力シート!A473","v":0},{"$f":"入力シート!G473","v":0},{"$f":"入力シート!H473","v":0},{"$f":"IF(入力シート!$J473<>\"\",入力シート!$J473,IF(入力シート!$L473<>\"\",入力シート!$L473,\"‐\"))","v":"‐"},{"$f":"IF(入力シート!$K473<>\"\",入力シート!$K473,IF(入力シート!$M473<>\"\",入力シート!$M473,入力シート!$N473))","v":0},{"$f":"入力シート!I473","v":0},{"$f":"入力シート!O473","v":0},{"$f":"IF(入力シート!P473=\"×\",\"P\",\"PN\")","v":"PN"},{"$f":"計算結果!#REF!","v":{"$error":"#REF!"}},{"$f":"計算結果!#REF!","v":{"$error":"#REF!"}},{"$f":"計算結果!#REF!","v":{"$error":"#REF!"}},{"$f":"計算結果!#REF!","v":{"$error":"#REF!"}},{"$f":"計算結果!#REF!","v":{"$error":"#REF!"}},{"$f":"計算結果!#REF!","v":{"$error":"#REF!"}},{"$f":"計算結果!#REF!","v":{"$error":"#REF!"}},{"$f":"計算結果!#REF!","v":{"$error":"#REF!"}},{"$f":"計算結果!#REF!","v":{"$error":"#REF!"}},{"$f":"計算結果!#REF!","v":{"$error":"#REF!"}}]
[{"$f":"入力シート!A474","v":0},{"$f":"入力シート!G474","v":0},{"$f":"入力シート!H474","v":0},{"$f":"IF(入力シート!$J474<>\"\",入力シート!$J474,IF(入力シート!$L474<>\"\",入力シート!$L474,\"‐\"))","v":"‐"},{"$f":"IF(入力シート!$K474<>\"\",入力シート!$K474,IF(入力シート!$M474<>\"\",入力シート!$M474,入力シート!$N474))","v":0},{"$f":"入力シート!I474","v":0},{"$f":"入力シート!O474","v":0},{"$f":"IF(入力シート!P474=\"×\",\"P\",\"PN\")","v":"PN"},{"$f":"計算結果!#REF!","v":{"$error":"#REF!"}},{"$f":"計算結果!#REF!","v":{"$error":"#REF!"}},{"$f":"計算結果!#REF!","v":{"$error":"#REF!"}},{"$f":"計算結果!#REF!","v":{"$error":"#REF!"}},{"$f":"計算結果!#REF!","v":{"$error":"#REF!"}},{"$f":"計算結果!#REF!","v":{"$error":"#REF!"}},{"$f":"計算結果!#REF!","v":{"$error":"#REF!"}},{"$f":"計算結果!#REF!","v":{"$error":"#REF!"}},{"$f":"計算結果!#REF!","v":{"$error":"#REF!"}},{"$f":"計算結果!#REF!","v":{"$error":"#REF!"}}]
[{"$f":"入力シート!A475","v":0},{"$f":"入力シート!G475","v":0},{"$f":"入力シート!H475","v":0},{"$f":"IF(入力シート!$J475<>\"\",入力シート!$J475,IF(入力シート!$L475<>\"\",入力シート!$L475,\"‐\"))","v":"‐"},{"$f":"IF(入力シート!$K475<>\"\",入力シート!$K475,IF(入力シート!$M475<>\"\",入力シート!$M475,入力シート!$N475))","v":0},{"$f":"入力シート!I475","v":0},{"$f":"入力シート!O475","v":0},{"$f":"IF(入力シート!P475=\"×\",\"P\",\"PN\")","v":"PN"},{"$f":"計算結果!#REF!","v":{"$error":"#REF!"}},{"$f":"計算結果!#REF!","v":{"$error":"#REF!"}},{"$f":"計算結果!#REF!","v":{"$error":"#REF!"}},{"$f":"計算結果!#REF!","v":{"$error":"#REF!"}},{"$f":"計算結果!#REF!","v":{"$error":"#REF!"}},{"$f":"計算結果!#REF!","v":{"$error":"#REF!"}},{"$f":"計算結果!#REF!","v":{"$error":"#REF!"}},{"$f":"計算結果!#REF!","v":{"$error":"#REF!"}},{"$f":"計算結果!#REF!","v":{"$error":"#REF!"}},{"$f":"計算結果!#REF!","v":{"$error":"#REF!"}}]
[{"$f":"入力シート!A476","v":0},{"$f":"入力シート!G476","v":0},{"$f":"入力シート!H476","v":0},{"$f":"IF(入力シート!$J476<>\"\",入力シート!$J476,IF(入力シート!$L476<>\"\",入力シート!$L476,\"‐\"))","v":"‐"},{"$f":"IF(入力シート!$K476<>\"\",入力シート!$K476,IF(入力シート!$M476<>\"\",入力シート!$M476,入力シート!$N476))","v":0},{"$f":"入力シート!I476","v":0},{"$f":"入力シート!O476","v":0},{"$f":"IF(入力シート!P476=\"×\",\"P\",\"PN\")","v":"PN"},{"$f":"計算結果!#REF!","v":{"$error":"#REF!"}},{"$f":"計算結果!#REF!","v":{"$error":"#REF!"}},{"$f":"計算結果!#REF!","v":{"$error":"#REF!"}},{"$f":"計算結果!#REF!","v":{"$error":"#REF!"}},{"$f":"計算結果!#REF!","v":{"$error":"#REF!"}},{"$f":"計算結果!#REF!","v":{"$error":"#REF!"}},{"$f":"計算結果!#REF!","v":{"$error":"#REF!"}},{"$f":"計算結果!#REF!","v":{"$error":"#REF!"}},{"$f":"計算結果!#REF!","v":{"$error":"#REF!"}},{"$f":"計算結果!#REF!","v":{"$error":"#REF!"}}]
[{"$f":"入力シート!A477","v":0},{"$f":"入力シート!G477","v":0},{"$f":"入力シート!H477","v":0},{"$f":"IF(入力シート!$J477<>\"\",入力シート!$J477,IF(入力シート!$L477<>\"\",入力シート!$L477,\"‐\"))","v":"‐"},{"$f":"IF(入力シート!$K477<>\"\",入力シート!$K477,IF(入力シート!$M477<>\"\",入力シート!$M477,入力シート!$N477))","v":0},{"$f":"入力シート!I477","v":0},{"$f":"入力シート!O477","v":0},{"$f":"IF(入力シート!P477=\"×\",\"P\",\"PN\")","v":"PN"},{"$f":"計算結果!#REF!","v":{"$error":"#REF!"}},{"$f":"計算結果!#REF!","v":{"$error":"#REF!"}},{"$f":"計算結果!#REF!","v":{"$error":"#REF!"}},{"$f":"計算結果!#REF!","v":{"$error":"#REF!"}},{"$f":"計算結果!#REF!","v":{"$error":"#REF!"}},{"$f":"計算結果!#REF!","v":{"$error":"#REF!"}},{"$f":"計算結果!#REF!","v":{"$error":"#REF!"}},{"$f":"計算結果!#REF!","v":{"$error":"#REF!"}},{"$f":"計算結果!#REF!","v":{"$error":"#REF!"}},{"$f":"計算結果!#REF!","v":{"$error":"#REF!"}}]
[{"$f":"入力シート!A478","v":0},{"$f":"入力シート!G478","v":0},{"$f":"入力シート!H478","v":0},{"$f":"IF(入力シート!$J478<>\"\",入力シート!$J478,IF(入力シート!$L478<>\"\",入力シート!$L478,\"‐\"))","v":"‐"},{"$f":"IF(入力シート!$K478<>\"\",入力シート!$K478,IF(入力シート!$M478<>\"\",入力シート!$M478,入力シート!$N478))","v":0},{"$f":"入力シート!I478","v":0},{"$f":"入力シート!O478","v":0},{"$f":"IF(入力シート!P478=\"×\",\"P\",\"PN\")","v":"PN"},{"$f":"計算結果!#REF!","v":{"$error":"#REF!"}},{"$f":"計算結果!#REF!","v":{"$error":"#REF!"}},{"$f":"計算結果!#REF!","v":{"$error":"#REF!"}},{"$f":"計算結果!#REF!","v":{"$error":"#REF!"}},{"$f":"計算結果!#REF!","v":{"$error":"#REF!"}},{"$f":"計算結果!#REF!","v":{"$error":"#REF!"}},{"$f":"計算結果!#REF!","v":{"$error":"#REF!"}},{"$f":"計算結果!#REF!","v":{"$error":"#REF!"}},{"$f":"計算結果!#REF!","v":{"$error":"#REF!"}},{"$f":"計算結果!#REF!","v":{"$error":"#REF!"}}]
[{"$f":"入力シート!A479","v":0},{"$f":"入力シート!G479","v":0},{"$f":"入力シート!H479","v":0},{"$f":"IF(入力シート!$J479<>\"\",入力シート!$J479,IF(入力シート!$L479<>\"\",入力シート!$L479,\"‐\"))","v":"‐"},{"$f":"IF(入力シート!$K479<>\"\",入力シート!$K479,IF(入力シート!$M479<>\"\",入力シート!$M479,入力シート!$N479))","v":0},{"$f":"入力シート!I479","v":0},{"$f":"入力シート!O479","v":0},{"$f":"IF(入力シート!P479=\"×\",\"P\",\"PN\")","v":"PN"},{"$f":"計算結果!#REF!","v":{"$error":"#REF!"}},{"$f":"計算結果!#REF!","v":{"$error":"#REF!"}},{"$f":"計算結果!#REF!","v":{"$error":"#REF!"}},{"$f":"計算結果!#REF!","v":{"$error":"#REF!"}},{"$f":"計算結果!#REF!","v":{"$error":"#REF!"}},{"$f":"計算結果!#REF!","v":{"$error":"#REF!"}},{"$f":"計算結果!#REF!","v":{"$error":"#REF!"}},{"$f":"計算結果!#REF!","v":{"$error":"#REF!"}},{"$f":"計算結果!#REF!","v":{"$error":"#REF!"}},{"$f":"計算結果!#REF!","v":{"$error":"#REF!"}}]
[{"$f":"入力シート!A480","v":0},{"$f":"入力シート!G480","v":0},{"$f":"入力シート!H480","v":0},{"$f":"IF(入力シート!$J480<>\"\",入力シート!$J480,IF(入力シート!$L480<>\"\",入力シート!$L480,\"‐\"))","v":"‐"},{"$f":"IF(入力シート!$K480<>\"\",入力シート!$K480,IF(入力シート!$M480<>\"\",入力シート!$M480,入力シート!$N480))","v":0},{"$f":"入力シート!I480","v":0},{"$f":"入力シート!O480","v":0},{"$f":"IF(入力シート!P480=\"×\",\"P\",\"PN\")","v":"PN"},{"$f":"計算結果!#REF!","v":{"$error":"#REF!"}},{"$f":"計算結果!#REF!","v":{"$error":"#REF!"}},{"$f":"計算結果!#REF!","v":{"$error":"#REF!"}},{"$f":"計算結果!#REF!","v":{"$error":"#REF!"}},{"$f":"計算結果!#REF!","v":{"$error":"#REF!"}},{"$f":"計算結果!#REF!","v":{"$error":"#REF!"}},{"$f":"計算結果!#REF!","v":{"$error":"#REF!"}},{"$f":"計算結果!#REF!","v":{"$error":"#REF!"}},{"$f":"計算結果!#REF!","v":{"$error":"#REF!"}},{"$f":"計算結果!#REF!","v":{"$error":"#REF!"}}]
[{"$f":"入力シート!A481","v":0},{"$f":"入力シート!G481","v":0},{"$f":"入力シート!H481","v":0},{"$f":"IF(入力シート!$J481<>\"\",入力シート!$J481,IF(入力シート!$L481<>\"\",入力シート!$L481,\"‐\"))","v":"‐"},{"$f":"IF(入力シート!$K481<>\"\",入力シート!$K481,IF(入力シート!$M481<>\"\",入力シート!$M481,入力シート!$N481))","v":0},{"$f":"入力シート!I481","v":0},{"$f":"入力シート!O481","v":0},{"$f":"IF(入力シート!P481=\"×\",\"P\",\"PN\")","v":"PN"},{"$f":"計算結果!#REF!","v":{"$error":"#REF!"}},{"$f":"計算結果!#REF!","v":{"$error":"#REF!"}},{"$f":"計算結果!#REF!","v":{"$error":"#REF!"}},{"$f":"計算結果!#REF!","v":{"$error":"#REF!"}},{"$f":"計算結果!#REF!","v":{"$error":"#REF!"}},{"$f":"計算結果!#REF!","v":{"$error":"#REF!"}},{"$f":"計算結果!#REF!","v":{"$error":"#REF!"}},{"$f":"計算結果!#REF!","v":{"$error":"#REF!"}},{"$f":"計算結果!#REF!","v":{"$error":"#REF!"}},{"$f":"計算結果!#REF!","v":{"$error":"#REF!"}}]
[{"$f":"入力シート!A482","v":0},{"$f":"入力シート!G482","v":0},{"$f":"入力シート!H482","v":0},{"$f":"IF(入力シート!$J482<>\"\",入力シート!$J482,IF(入力シート!$L482<>\"\",入力シート!$L482,\"‐\"))","v":"‐"},{"$f":"IF(入力シート!$K482<>\"\",入力シート!$K482,IF(入力シート!$M482<>\"\",入力シート!$M482,入力シート!$N482))","v":0},{"$f":"入力シート!I482","v":0},{"$f":"入力シート!O482","v":0},{"$f":"IF(入力シート!P482=\"×\",\"P\",\"PN\")","v":"PN"},{"$f":"計算結果!#REF!","v":{"$error":"#REF!"}},{"$f":"計算結果!#REF!","v":{"$error":"#REF!"}},{"$f":"計算結果!#REF!","v":{"$error":"#REF!"}},{"$f":"計算結果!#REF!","v":{"$error":"#REF!"}},{"$f":"計算結果!#REF!","v":{"$error":"#REF!"}},{"$f":"計算結果!#REF!","v":{"$error":"#REF!"}},{"$f":"計算結果!#REF!","v":{"$error":"#REF!"}},{"$f":"計算結果!#REF!","v":{"$error":"#REF!"}},{"$f":"計算結果!#REF!","v":{"$error":"#REF!"}},{"$f":"計算結果!#REF!","v":{"$error":"#REF!"}}]
[{"$f":"入力シート!A483","v":0},{"$f":"入力シート!G483","v":0},{"$f":"入力シート!H483","v":0},{"$f":"IF(入力シート!$J483<>\"\",入力シート!$J483,IF(入力シート!$L483<>\"\",入力シート!$L483,\"‐\"))","v":"‐"},{"$f":"IF(入力シート!$K483<>\"\",入力シート!$K483,IF(入力シート!$M483<>\"\",入力シート!$M483,入力シート!$N483))","v":0},{"$f":"入力シート!I483","v":0},{"$f":"入力シート!O483","v":0},{"$f":"IF(入力シート!P483=\"×\",\"P\",\"PN\")","v":"PN"},{"$f":"計算結果!#REF!","v":{"$error":"#REF!"}},{"$f":"計算結果!#REF!","v":{"$error":"#REF!"}},{"$f":"計算結果!#REF!","v":{"$error":"#REF!"}},{"$f":"計算結果!#REF!","v":{"$error":"#REF!"}},{"$f":"計算結果!#REF!","v":{"$error":"#REF!"}},{"$f":"計算結果!#REF!","v":{"$error":"#REF!"}},{"$f":"計算結果!#REF!","v":{"$error":"#REF!"}},{"$f":"計算結果!#REF!","v":{"$error":"#REF!"}},{"$f":"計算結果!#REF!","v":{"$error":"#REF!"}},{"$f":"計算結果!#REF!","v":{"$error":"#REF!"}}]
[{"$f":"入力シート!A484","v":0},{"$f":"入力シート!G484","v":0},{"$f":"入力シート!H484","v":0},{"$f":"IF(入力シート!$J484<>\"\",入力シート!$J484,IF(入力シート!$L484<>\"\",入力シート!$L484,\"‐\"))","v":"‐"},{"$f":"IF(入力シート!$K484<>\"\",入力シート!$K484,IF(入力シート!$M484<>\"\",入力シート!$M484,入力シート!$N484))","v":0},{"$f":"入力シート!I484","v":0},{"$f":"入力シート!O484","v":0},{"$f":"IF(入力シート!P484=\"×\",\"P\",\"PN\")","v":"PN"},{"$f":"計算結果!#REF!","v":{"$error":"#REF!"}},{"$f":"計算結果!#REF!","v":{"$error":"#REF!"}},{"$f":"計算結果!#REF!","v":{"$error":"#REF!"}},{"$f":"計算結果!#REF!","v":{"$error":"#REF!"}},{"$f":"計算結果!#REF!","v":{"$error":"#REF!"}},{"$f":"計算結果!#REF!","v":{"$error":"#REF!"}},{"$f":"計算結果!#REF!","v":{"$error":"#REF!"}},{"$f":"計算結果!#REF!","v":{"$error":"#REF!"}},{"$f":"計算結果!#REF!","v":{"$error":"#REF!"}},{"$f":"計算結果!#REF!","v":{"$error":"#REF!"}}]
[{"$f":"入力シート!A485","v":0},{"$f":"入力シート!G485","v":0},{"$f":"入力シート!H485","v":0},{"$f":"IF(入力シート!$J485<>\"\",入力シート!$J485,IF(入力シート!$L485<>\"\",入力シート!$L485,\"‐\"))","v":"‐"},{"$f":"IF(入力シート!$K485<>\"\",入力シート!$K485,IF(入力シート!$M485<>\"\",入力シート!$M485,入力シート!$N485))","v":0},{"$f":"入力シート!I485","v":0},{"$f":"入力シート!O485","v":0},{"$f":"IF(入力シート!P485=\"×\",\"P\",\"PN\")","v":"PN"},{"$f":"計算結果!#REF!","v":{"$error":"#REF!"}},{"$f":"計算結果!#REF!","v":{"$error":"#REF!"}},{"$f":"計算結果!#REF!","v":{"$error":"#REF!"}},{"$f":"計算結果!#REF!","v":{"$error":"#REF!"}},{"$f":"計算結果!#REF!","v":{"$error":"#REF!"}},{"$f":"計算結果!#REF!","v":{"$error":"#REF!"}},{"$f":"計算結果!#REF!","v":{"$error":"#REF!"}},{"$f":"計算結果!#REF!","v":{"$error":"#REF!"}},{"$f":"計算結果!#REF!","v":{"$error":"#REF!"}},{"$f":"計算結果!#REF!","v":{"$error":"#REF!"}}]
[{"$f":"入力シート!A486","v":0},{"$f":"入力シート!G486","v":0},{"$f":"入力シート!H486","v":0},{"$f":"IF(入力シート!$J486<>\"\",入力シート!$J486,IF(入力シート!$L486<>\"\",入力シート!$L486,\"‐\"))","v":"‐"},{"$f":"IF(入力シート!$K486<>\"\",入力シート!$K486,IF(入力シート!$M486<>\"\",入力シート!$M486,入力シート!$N486))","v":0},{"$f":"入力シート!I486","v":0},{"$f":"入力シート!O486","v":0},{"$f":"IF(入力シート!P486=\"×\",\"P\",\"PN\")","v":"PN"},{"$f":"計算結果!#REF!","v":{"$error":"#REF!"}},{"$f":"計算結果!#REF!","v":{"$error":"#REF!"}},{"$f":"計算結果!#REF!","v":{"$error":"#REF!"}},{"$f":"計算結果!#REF!","v":{"$error":"#REF!"}},{"$f":"計算結果!#REF!","v":{"$error":"#REF!"}},{"$f":"計算結果!#REF!","v":{"$error":"#REF!"}},{"$f":"計算結果!#REF!","v":{"$error":"#REF!"}},{"$f":"計算結果!#REF!","v":{"$error":"#REF!"}},{"$f":"計算結果!#REF!","v":{"$error":"#REF!"}},{"$f":"計算結果!#REF!","v":{"$error":"#REF!"}}]
[{"$f":"入力シート!A487","v":0},{"$f":"入力シート!G487","v":0},{"$f":"入力シート!H487","v":0},{"$f":"IF(入力シート!$J487<>\"\",入力シート!$J487,IF(入力シート!$L487<>\"\",入力シート!$L487,\"‐\"))","v":"‐"},{"$f":"IF(入力シート!$K487<>\"\",入力シート!$K487,IF(入力シート!$M487<>\"\",入力シート!$M487,入力シート!$N487))","v":0},{"$f":"入力シート!I487","v":0},{"$f":"入力シート!O487","v":0},{"$f":"IF(入力シート!P487=\"×\",\"P\",\"PN\")","v":"PN"},{"$f":"計算結果!#REF!","v":{"$error":"#REF!"}},{"$f":"計算結果!#REF!","v":{"$error":"#REF!"}},{"$f":"計算結果!#REF!","v":{"$error":"#REF!"}},{"$f":"計算結果!#REF!","v":{"$error":"#REF!"}},{"$f":"計算結果!#REF!","v":{"$error":"#REF!"}},{"$f":"計算結果!#REF!","v":{"$error":"#REF!"}},{"$f":"計算結果!#REF!","v":{"$error":"#REF!"}},{"$f":"計算結果!#REF!","v":{"$error":"#REF!"}},{"$f":"計算結果!#REF!","v":{"$error":"#REF!"}},{"$f":"計算結果!#REF!","v":{"$error":"#REF!"}}]
[{"$f":"入力シート!A488","v":0},{"$f":"入力シート!G488","v":0},{"$f":"入力シート!H488","v":0},{"$f":"IF(入力シート!$J488<>\"\",入力シート!$J488,IF(入力シート!$L488<>\"\",入力シート!$L488,\"‐\"))","v":"‐"},{"$f":"IF(入力シート!$K488<>\"\",入力シート!$K488,IF(入力シート!$M488<>\"\",入力シート!$M488,入力シート!$N488))","v":0},{"$f":"入力シート!I488","v":0},{"$f":"入力シート!O488","v":0},{"$f":"IF(入力シート!P488=\"×\",\"P\",\"PN\")","v":"PN"},{"$f":"計算結果!#REF!","v":{"$error":"#REF!"}},{"$f":"計算結果!#REF!","v":{"$error":"#REF!"}},{"$f":"計算結果!#REF!","v":{"$error":"#REF!"}},{"$f":"計算結果!#REF!","v":{"$error":"#REF!"}},{"$f":"計算結果!#REF!","v":{"$error":"#REF!"}},{"$f":"計算結果!#REF!","v":{"$error":"#REF!"}},{"$f":"計算結果!#REF!","v":{"$error":"#REF!"}},{"$f":"計算結果!#REF!","v":{"$error":"#REF!"}},{"$f":"計算結果!#REF!","v":{"$error":"#REF!"}},{"$f":"計算結果!#REF!","v":{"$error":"#REF!"}}]
[{"$f":"入力シート!A489","v":0},{"$f":"入力シート!G489","v":0},{"$f":"入力シート!H489","v":0},{"$f":"IF(入力シート!$J489<>\"\",入力シート!$J489,IF(入力シート!$L489<>\"\",入力シート!$L489,\"‐\"))","v":"‐"},{"$f":"IF(入力シート!$K489<>\"\",入力シート!$K489,IF(入力シート!$M489<>\"\",入力シート!$M489,入力シート!$N489))","v":0},{"$f":"入力シート!I489","v":0},{"$f":"入力シート!O489","v":0},{"$f":"IF(入力シート!P489=\"×\",\"P\",\"PN\")","v":"PN"},{"$f":"計算結果!#REF!","v":{"$error":"#REF!"}},{"$f":"計算結果!#REF!","v":{"$error":"#REF!"}},{"$f":"計算結果!#REF!","v":{"$error":"#REF!"}},{"$f":"計算結果!#REF!","v":{"$error":"#REF!"}},{"$f":"計算結果!#REF!","v":{"$error":"#REF!"}},{"$f":"計算結果!#REF!","v":{"$error":"#REF!"}},{"$f":"計算結果!#REF!","v":{"$error":"#REF!"}},{"$f":"計算結果!#REF!","v":{"$error":"#REF!"}},{"$f":"計算結果!#REF!","v":{"$error":"#REF!"}},{"$f":"計算結果!#REF!","v":{"$error":"#REF!"}}]
[{"$f":"入力シート!A490","v":0},{"$f":"入力シート!G490","v":0},{"$f":"入力シート!H490","v":0},{"$f":"IF(入力シート!$J490<>\"\",入力シート!$J490,IF(入力シート!$L490<>\"\",入力シート!$L490,\"‐\"))","v":"‐"},{"$f":"IF(入力シート!$K490<>\"\",入力シート!$K490,IF(入力シート!$M490<>\"\",入力シート!$M490,入力シート!$N490))","v":0},{"$f":"入力シート!I490","v":0},{"$f":"入力シート!O490","v":0},{"$f":"IF(入力シート!P490=\"×\",\"P\",\"PN\")","v":"PN"},{"$f":"計算結果!#REF!","v":{"$error":"#REF!"}},{"$f":"計算結果!#REF!","v":{"$error":"#REF!"}},{"$f":"計算結果!#REF!","v":{"$error":"#REF!"}},{"$f":"計算結果!#REF!","v":{"$error":"#REF!"}},{"$f":"計算結果!#REF!","v":{"$error":"#REF!"}},{"$f":"計算結果!#REF!","v":{"$error":"#REF!"}},{"$f":"計算結果!#REF!","v":{"$error":"#REF!"}},{"$f":"計算結果!#REF!","v":{"$error":"#REF!"}},{"$f":"計算結果!#REF!","v":{"$error":"#REF!"}},{"$f":"計算結果!#REF!","v":{"$error":"#REF!"}}]
[{"$f":"入力シート!A491","v":0},{"$f":"入力シート!G491","v":0},{"$f":"入力シート!H491","v":0},{"$f":"IF(入力シート!$J491<>\"\",入力シート!$J491,IF(入力シート!$L491<>\"\",入力シート!$L491,\"‐\"))","v":"‐"},{"$f":"IF(入力シート!$K491<>\"\",入力シート!$K491,IF(入力シート!$M491<>\"\",入力シート!$M491,入力シート!$N491))","v":0},{"$f":"入力シート!I491","v":0},{"$f":"入力シート!O491","v":0},{"$f":"IF(入力シート!P491=\"×\",\"P\",\"PN\")","v":"PN"},{"$f":"計算結果!#REF!","v":{"$error":"#REF!"}},{"$f":"計算結果!#REF!","v":{"$error":"#REF!"}},{"$f":"計算結果!#REF!","v":{"$error":"#REF!"}},{"$f":"計算結果!#REF!","v":{"$error":"#REF!"}},{"$f":"計算結果!#REF!","v":{"$error":"#REF!"}},{"$f":"計算結果!#REF!","v":{"$error":"#REF!"}},{"$f":"計算結果!#REF!","v":{"$error":"#REF!"}},{"$f":"計算結果!#REF!","v":{"$error":"#REF!"}},{"$f":"計算結果!#REF!","v":{"$error":"#REF!"}},{"$f":"計算結果!#REF!","v":{"$error":"#REF!"}}]
[{"$f":"入力シート!A492","v":0},{"$f":"入力シート!G492","v":0},{"$f":"入力シート!H492","v":0},{"$f":"IF(入力シート!$J492<>\"\",入力シート!$J492,IF(入力シート!$L492<>\"\",入力シート!$L492,\"‐\"))","v":"‐"},{"$f":"IF(入力シート!$K492<>\"\",入力シート!$K492,IF(入力シート!$M492<>\"\",入力シート!$M492,入力シート!$N492))","v":0},{"$f":"入力シート!I492","v":0},{"$f":"入力シート!O492","v":0},{"$f":"IF(入力シート!P492=\"×\",\"P\",\"PN\")","v":"PN"},{"$f":"計算結果!#REF!","v":{"$error":"#REF!"}},{"$f":"計算結果!#REF!","v":{"$error":"#REF!"}},{"$f":"計算結果!#REF!","v":{"$error":"#REF!"}},{"$f":"計算結果!#REF!","v":{"$error":"#REF!"}},{"$f":"計算結果!#REF!","v":{"$error":"#REF!"}},{"$f":"計算結果!#REF!","v":{"$error":"#REF!"}},{"$f":"計算結果!#REF!","v":{"$error":"#REF!"}},{"$f":"計算結果!#REF!","v":{"$error":"#REF!"}},{"$f":"計算結果!#REF!","v":{"$error":"#REF!"}},{"$f":"計算結果!#REF!","v":{"$error":"#REF!"}}]
[{"$f":"入力シート!A493","v":0},{"$f":"入力シート!G493","v":0},{"$f":"入力シート!H493","v":0},{"$f":"IF(入力シート!$J493<>\"\",入力シート!$J493,IF(入力シート!$L493<>\"\",入力シート!$L493,\"‐\"))","v":"‐"},{"$f":"IF(入力シート!$K493<>\"\",入力シート!$K493,IF(入力シート!$M493<>\"\",入力シート!$M493,入力シート!$N493))","v":0},{"$f":"入力シート!I493","v":0},{"$f":"入力シート!O493","v":0},{"$f":"IF(入力シート!P493=\"×\",\"P\",\"PN\")","v":"PN"},{"$f":"計算結果!#REF!","v":{"$error":"#REF!"}},{"$f":"計算結果!#REF!","v":{"$error":"#REF!"}},{"$f":"計算結果!#REF!","v":{"$error":"#REF!"}},{"$f":"計算結果!#REF!","v":{"$error":"#REF!"}},{"$f":"計算結果!#REF!","v":{"$error":"#REF!"}},{"$f":"計算結果!#REF!","v":{"$error":"#REF!"}},{"$f":"計算結果!#REF!","v":{"$error":"#REF!"}},{"$f":"計算結果!#REF!","v":{"$error":"#REF!"}},{"$f":"計算結果!#REF!","v":{"$error":"#REF!"}},{"$f":"計算結果!#REF!","v":{"$error":"#REF!"}}]
[{"$f":"入力シート!A494","v":0},{"$f":"入力シート!G494","v":0},{"$f":"入力シート!H494","v":0},{"$f":"IF(入力シート!$J494<>\"\",入力シート!$J494,IF(入力シート!$L494<>\"\",入力シート!$L494,\"‐\"))","v":"‐"},{"$f":"IF(入力シート!$K494<>\"\",入力シート!$K494,IF(入力シート!$M494<>\"\",入力シート!$M494,入力シート!$N494))","v":0},{"$f":"入力シート!I494","v":0},{"$f":"入力シート!O494","v":0},{"$f":"IF(入力シート!P494=\"×\",\"P\",\"PN\")","v":"PN"},{"$f":"計算結果!#REF!","v":{"$error":"#REF!"}},{"$f":"計算結果!#REF!","v":{"$error":"#REF!"}},{"$f":"計算結果!#REF!","v":{"$error":"#REF!"}},{"$f":"計算結果!#REF!","v":{"$error":"#REF!"}},{"$f":"計算結果!#REF!","v":{"$error":"#REF!"}},{"$f":"計算結果!#REF!","v":{"$error":"#REF!"}},{"$f":"計算結果!#REF!","v":{"$error":"#REF!"}},{"$f":"計算結果!#REF!","v":{"$error":"#REF!"}},{"$f":"計算結果!#REF!","v":{"$error":"#REF!"}},{"$f":"計算結果!#REF!","v":{"$error":"#REF!"}}]
[{"$f":"入力シート!A495","v":0},{"$f":"入力シート!G495","v":0},{"$f":"入力シート!H495","v":0},{"$f":"IF(入力シート!$J495<>\"\",入力シート!$J495,IF(入力シート!$L495<>\"\",入力シート!$L495,\"‐\"))","v":"‐"},{"$f":"IF(入力シート!$K495<>\"\",入力シート!$K495,IF(入力シート!$M495<>\"\",入力シート!$M495,入力シート!$N495))","v":0},{"$f":"入力シート!I495","v":0},{"$f":"入力シート!O495","v":0},{"$f":"IF(入力シート!P495=\"×\",\"P\",\"PN\")","v":"PN"},{"$f":"計算結果!#REF!","v":{"$error":"#REF!"}},{"$f":"計算結果!#REF!","v":{"$error":"#REF!"}},{"$f":"計算結果!#REF!","v":{"$error":"#REF!"}},{"$f":"計算結果!#REF!","v":{"$error":"#REF!"}},{"$f":"計算結果!#REF!","v":{"$error":"#REF!"}},{"$f":"計算結果!#REF!","v":{"$error":"#REF!"}},{"$f":"計算結果!#REF!","v":{"$error":"#REF!"}},{"$f":"計算結果!#REF!","v":{"$error":"#REF!"}},{"$f":"計算結果!#REF!","v":{"$error":"#REF!"}},{"$f":"計算結果!#REF!","v":{"$error":"#REF!"}}]
[{"$f":"入力シート!A496","v":0},{"$f":"入力シート!G496","v":0},{"$f":"入力シート!H496","v":0},{"$f":"IF(入力シート!$J496<>\"\",入力シート!$J496,IF(入力シート!$L496<>\"\",入力シート!$L496,\"‐\"))","v":"‐"},{"$f":"IF(入力シート!$K496<>\"\",入力シート!$K496,IF(入力シート!$M496<>\"\",入力シート!$M496,入力シート!$N496))","v":0},{"$f":"入力シート!I496","v":0},{"$f":"入力シート!O496","v":0},{"$f":"IF(入力シート!P496=\"×\",\"P\",\"PN\")","v":"PN"},{"$f":"計算結果!#REF!","v":{"$error":"#REF!"}},{"$f":"計算結果!#REF!","v":{"$error":"#REF!"}},{"$f":"計算結果!#REF!","v":{"$error":"#REF!"}},{"$f":"計算結果!#REF!","v":{"$error":"#REF!"}},{"$f":"計算結果!#REF!","v":{"$error":"#REF!"}},{"$f":"計算結果!#REF!","v":{"$error":"#REF!"}},{"$f":"計算結果!#REF!","v":{"$error":"#REF!"}},{"$f":"計算結果!#REF!","v":{"$error":"#REF!"}},{"$f":"計算結果!#REF!","v":{"$error":"#REF!"}},{"$f":"計算結果!#REF!","v":{"$error":"#REF!"}}]
[{"$f":"入力シート!A497","v":0},{"$f":"入力シート!G497","v":0},{"$f":"入力シート!H497","v":0},{"$f":"IF(入力シート!$J497<>\"\",入力シート!$J497,IF(入力シート!$L497<>\"\",入力シート!$L497,\"‐\"))","v":"‐"},{"$f":"IF(入力シート!$K497<>\"\",入力シート!$K497,IF(入力シート!$M497<>\"\",入力シート!$M497,入力シート!$N497))","v":0},{"$f":"入力シート!I497","v":0},{"$f":"入力シート!O497","v":0},{"$f":"IF(入力シート!P497=\"×\",\"P\",\"PN\")","v":"PN"},{"$f":"計算結果!#REF!","v":{"$error":"#REF!"}},{"$f":"計算結果!#REF!","v":{"$error":"#REF!"}},{"$f":"計算結果!#REF!","v":{"$error":"#REF!"}},{"$f":"計算結果!#REF!","v":{"$error":"#REF!"}},{"$f":"計算結果!#REF!","v":{"$error":"#REF!"}},{"$f":"計算結果!#REF!","v":{"$error":"#REF!"}},{"$f":"計算結果!#REF!","v":{"$error":"#REF!"}},{"$f":"計算結果!#REF!","v":{"$error":"#REF!"}},{"$f":"計算結果!#REF!","v":{"$error":"#REF!"}},{"$f":"計算結果!#REF!","v":{"$error":"#REF!"}}]
[{"$f":"入力シート!A498","v":0},{"$f":"入力シート!G498","v":0},{"$f":"入力シート!H498","v":0},{"$f":"IF(入力シート!$J498<>\"\",入力シート!$J498,IF(入力シート!$L498<>\"\",入力シート!$L498,\"‐\"))","v":"‐"},{"$f":"IF(入力シート!$K498<>\"\",入力シート!$K498,IF(入力シート!$M498<>\"\",入力シート!$M498,入力シート!$N498))","v":0},{"$f":"入力シート!I498","v":0},{"$f":"入力シート!O498","v":0},{"$f":"IF(入力シート!P498=\"×\",\"P\",\"PN\")","v":"PN"},{"$f":"計算結果!#REF!","v":{"$error":"#REF!"}},{"$f":"計算結果!#REF!","v":{"$error":"#REF!"}},{"$f":"計算結果!#REF!","v":{"$error":"#REF!"}},{"$f":"計算結果!#REF!","v":{"$error":"#REF!"}},{"$f":"計算結果!#REF!","v":{"$error":"#REF!"}},{"$f":"計算結果!#REF!","v":{"$error":"#REF!"}},{"$f":"計算結果!#REF!","v":{"$error":"#REF!"}},{"$f":"計算結果!#REF!","v":{"$error":"#REF!"}},{"$f":"計算結果!#REF!","v":{"$error":"#REF!"}},{"$f":"計算結果!#REF!","v":{"$error":"#REF!"}}]
[{"$f":"入力シート!A499","v":0},{"$f":"入力シート!G499","v":0},{"$f":"入力シート!H499","v":0},{"$f":"IF(入力シート!$J499<>\"\",入力シート!$J499,IF(入力シート!$L499<>\"\",入力シート!$L499,\"‐\"))","v":"‐"},{"$f":"IF(入力シート!$K499<>\"\",入力シート!$K499,IF(入力シート!$M499<>\"\",入力シート!$M499,入力シート!$N499))","v":0},{"$f":"入力シート!I499","v":0},{"$f":"入力シート!O499","v":0},{"$f":"IF(入力シート!P499=\"×\",\"P\",\"PN\")","v":"PN"},{"$f":"計算結果!#REF!","v":{"$error":"#REF!"}},{"$f":"計算結果!#REF!","v":{"$error":"#REF!"}},{"$f":"計算結果!#REF!","v":{"$error":"#REF!"}},{"$f":"計算結果!#REF!","v":{"$error":"#REF!"}},{"$f":"計算結果!#REF!","v":{"$error":"#REF!"}},{"$f":"計算結果!#REF!","v":{"$error":"#REF!"}},{"$f":"計算結果!#REF!","v":{"$error":"#REF!"}},{"$f":"計算結果!#REF!","v":{"$error":"#REF!"}},{"$f":"計算結果!#REF!","v":{"$error":"#REF!"}},{"$f":"計算結果!#REF!","v":{"$error":"#REF!"}}]
[{"$f":"入力シート!A500","v":0},{"$f":"入力シート!G500","v":0},{"$f":"入力シート!H500","v":0},{"$f":"IF(入力シート!$J500<>\"\",入力シート!$J500,IF(入力シート!$L500<>\"\",入力シート!$L500,\"‐\"))","v":"‐"},{"$f":"IF(入力シート!$K500<>\"\",入力シート!$K500,IF(入力シート!$M500<>\"\",入力シート!$M500,入力シート!$N500))","v":0},{"$f":"入力シート!I500","v":0},{"$f":"入力シート!O500","v":0},{"$f":"IF(入力シート!P500=\"×\",\"P\",\"PN\")","v":"PN"},{"$f":"計算結果!#REF!","v":{"$error":"#REF!"}},{"$f":"計算結果!#REF!","v":{"$error":"#REF!"}},{"$f":"計算結果!#REF!","v":{"$error":"#REF!"}},{"$f":"計算結果!#REF!","v":{"$error":"#REF!"}},{"$f":"計算結果!#REF!","v":{"$error":"#REF!"}},{"$f":"計算結果!#REF!","v":{"$error":"#REF!"}},{"$f":"計算結果!#REF!","v":{"$error":"#REF!"}},{"$f":"計算結果!#REF!","v":{"$error":"#REF!"}},{"$f":"計算結果!#REF!","v":{"$error":"#REF!"}},{"$f":"計算結果!#REF!","v":{"$error":"#REF!"}}]
[{"$f":"入力シート!A501","v":0},{"$f":"入力シート!G501","v":0},{"$f":"入力シート!H501","v":0},{"$f":"IF(入力シート!$J501<>\"\",入力シート!$J501,IF(入力シート!$L501<>\"\",入力シート!$L501,\"‐\"))","v":"‐"},{"$f":"IF(入力シート!$K501<>\"\",入力シート!$K501,IF(入力シート!$M501<>\"\",入力シート!$M501,入力シート!$N501))","v":0},{"$f":"入力シート!I501","v":0},{"$f":"入力シート!O501","v":0},{"$f":"IF(入力シート!P501=\"×\",\"P\",\"PN\")","v":"PN"},{"$f":"計算結果!#REF!","v":{"$error":"#REF!"}},{"$f":"計算結果!#REF!","v":{"$error":"#REF!"}},{"$f":"計算結果!#REF!","v":{"$error":"#REF!"}},{"$f":"計算結果!#REF!","v":{"$error":"#REF!"}},{"$f":"計算結果!#REF!","v":{"$error":"#REF!"}},{"$f":"計算結果!#REF!","v":{"$error":"#REF!"}},{"$f":"計算結果!#REF!","v":{"$error":"#REF!"}},{"$f":"計算結果!#REF!","v":{"$error":"#REF!"}},{"$f":"計算結果!#REF!","v":{"$error":"#REF!"}},{"$f":"計算結果!#REF!","v":{"$error":"#REF!"}}]
[{"$f":"入力シート!A502","v":0},{"$f":"入力シート!G502","v":0},{"$f":"入力シート!H502","v":0},{"$f":"IF(入力シート!$J502<>\"\",入力シート!$J502,IF(入力シート!$L502<>\"\",入力シート!$L502,\"‐\"))","v":"‐"},{"$f":"IF(入力シート!$K502<>\"\",入力シート!$K502,IF(入力シート!$M502<>\"\",入力シート!$M502,入力シート!$N502))","v":0},{"$f":"入力シート!I502","v":0},{"$f":"入力シート!O502","v":0},{"$f":"IF(入力シート!P502=\"×\",\"P\",\"PN\")","v":"PN"},{"$f":"計算結果!#REF!","v":{"$error":"#REF!"}},{"$f":"計算結果!#REF!","v":{"$error":"#REF!"}},{"$f":"計算結果!#REF!","v":{"$error":"#REF!"}},{"$f":"計算結果!#REF!","v":{"$error":"#REF!"}},{"$f":"計算結果!#REF!","v":{"$error":"#REF!"}},{"$f":"計算結果!#REF!","v":{"$error":"#REF!"}},{"$f":"計算結果!#REF!","v":{"$error":"#REF!"}},{"$f":"計算結果!#REF!","v":{"$error":"#REF!"}},{"$f":"計算結果!#REF!","v":{"$error":"#REF!"}},{"$f":"計算結果!#REF!","v":{"$error":"#REF!"}}]
[{"$f":"入力シート!A503","v":0},{"$f":"入力シート!G503","v":0},{"$f":"入力シート!H503","v":0},{"$f":"IF(入力シート!$J503<>\"\",入力シート!$J503,IF(入力シート!$L503<>\"\",入力シート!$L503,\"‐\"))","v":"‐"},{"$f":"IF(入力シート!$K503<>\"\",入力シート!$K503,IF(入力シート!$M503<>\"\",入力シート!$M503,入力シート!$N503))","v":0},{"$f":"入力シート!I503","v":0},{"$f":"入力シート!O503","v":0},{"$f":"IF(入力シート!P503=\"×\",\"P\",\"PN\")","v":"PN"},{"$f":"計算結果!#REF!","v":{"$error":"#REF!"}},{"$f":"計算結果!#REF!","v":{"$error":"#REF!"}},{"$f":"計算結果!#REF!","v":{"$error":"#REF!"}},{"$f":"計算結果!#REF!","v":{"$error":"#REF!"}},{"$f":"計算結果!#REF!","v":{"$error":"#REF!"}},{"$f":"計算結果!#REF!","v":{"$error":"#REF!"}},{"$f":"計算結果!#REF!","v":{"$error":"#REF!"}},{"$f":"計算結果!#REF!","v":{"$error":"#REF!"}},{"$f":"計算結果!#REF!","v":{"$error":"#REF!"}},{"$f":"計算結果!#REF!","v":{"$error":"#REF!"}}]
[{"$f":"入力シート!A504","v":0},{"$f":"入力シート!G504","v":0},{"$f":"入力シート!H504","v":0},{"$f":"IF(入力シート!$J504<>\"\",入力シート!$J504,IF(入力シート!$L504<>\"\",入力シート!$L504,\"‐\"))","v":"‐"},{"$f":"IF(入力シート!$K504<>\"\",入力シート!$K504,IF(入力シート!$M504<>\"\",入力シート!$M504,入力シート!$N504))","v":0},{"$f":"入力シート!I504","v":0},{"$f":"入力シート!O504","v":0},{"$f":"IF(入力シート!P504=\"×\",\"P\",\"PN\")","v":"PN"},{"$f":"計算結果!#REF!","v":{"$error":"#REF!"}},{"$f":"計算結果!#REF!","v":{"$error":"#REF!"}},{"$f":"計算結果!#REF!","v":{"$error":"#REF!"}},{"$f":"計算結果!#REF!","v":{"$error":"#REF!"}},{"$f":"計算結果!#REF!","v":{"$error":"#REF!"}},{"$f":"計算結果!#REF!","v":{"$error":"#REF!"}},{"$f":"計算結果!#REF!","v":{"$error":"#REF!"}},{"$f":"計算結果!#REF!","v":{"$error":"#REF!"}},{"$f":"計算結果!#REF!","v":{"$error":"#REF!"}},{"$f":"計算結果!#REF!","v":{"$error":"#REF!"}}]
[{"$f":"入力シート!A505","v":0},{"$f":"入力シート!G505","v":0},{"$f":"入力シート!H505","v":0},{"$f":"IF(入力シート!$J505<>\"\",入力シート!$J505,IF(入力シート!$L505<>\"\",入力シート!$L505,\"‐\"))","v":"‐"},{"$f":"IF(入力シート!$K505<>\"\",入力シート!$K505,IF(入力シート!$M505<>\"\",入力シート!$M505,入力シート!$N505))","v":0},{"$f":"入力シート!I505","v":0},{"$f":"入力シート!O505","v":0},{"$f":"IF(入力シート!P505=\"×\",\"P\",\"PN\")","v":"PN"},{"$f":"計算結果!#REF!","v":{"$error":"#REF!"}},{"$f":"計算結果!#REF!","v":{"$error":"#REF!"}},{"$f":"計算結果!#REF!","v":{"$error":"#REF!"}},{"$f":"計算結果!#REF!","v":{"$error":"#REF!"}},{"$f":"計算結果!#REF!","v":{"$error":"#REF!"}},{"$f":"計算結果!#REF!","v":{"$error":"#REF!"}},{"$f":"計算結果!#REF!","v":{"$error":"#REF!"}},{"$f":"計算結果!#REF!","v":{"$error":"#REF!"}},{"$f":"計算結果!#REF!","v":{"$error":"#REF!"}},{"$f":"計算結果!#REF!","v":{"$error":"#REF!"}}]
[{"$f":"入力シート!A506","v":0},{"$f":"入力シート!G506","v":0},{"$f":"入力シート!H506","v":0},{"$f":"IF(入力シート!$J506<>\"\",入力シート!$J506,IF(入力シート!$L506<>\"\",入力シート!$L506,\"‐\"))","v":"‐"},{"$f":"IF(入力シート!$K506<>\"\",入力シート!$K506,IF(入力シート!$M506<>\"\",入力シート!$M506,入力シート!$N506))","v":0},{"$f":"入力シート!I506","v":0},{"$f":"入力シート!O506","v":0},{"$f":"IF(入力シート!P506=\"×\",\"P\",\"PN\")","v":"PN"},{"$f":"計算結果!#REF!","v":{"$error":"#REF!"}},{"$f":"計算結果!#REF!","v":{"$error":"#REF!"}},{"$f":"計算結果!#REF!","v":{"$error":"#REF!"}},{"$f":"計算結果!#REF!","v":{"$error":"#REF!"}},{"$f":"計算結果!#REF!","v":{"$error":"#REF!"}},{"$f":"計算結果!#REF!","v":{"$error":"#REF!"}},{"$f":"計算結果!#REF!","v":{"$error":"#REF!"}},{"$f":"計算結果!#REF!","v":{"$error":"#REF!"}},{"$f":"計算結果!#REF!","v":{"$error":"#REF!"}},{"$f":"計算結果!#REF!","v":{"$error":"#REF!"}}]
[{"$f":"入力シート!A507","v":0},{"$f":"入力シート!G507","v":0},{"$f":"入力シート!H507","v":0},{"$f":"IF(入力シート!$J507<>\"\",入力シート!$J507,IF(入力シート!$L507<>\"\",入力シート!$L507,\"‐\"))","v":"‐"},{"$f":"IF(入力シート!$K507<>\"\",入力シート!$K507,IF(入力シート!$M507<>\"\",入力シート!$M507,入力シート!$N507))","v":0},{"$f":"入力シート!I507","v":0},{"$f":"入力シート!O507","v":0},{"$f":"IF(入力シート!P507=\"×\",\"P\",\"PN\")","v":"PN"},{"$f":"計算結果!#REF!","v":{"$error":"#REF!"}},{"$f":"計算結果!#REF!","v":{"$error":"#REF!"}},{"$f":"計算結果!#REF!","v":{"$error":"#REF!"}},{"$f":"計算結果!#REF!","v":{"$error":"#REF!"}},{"$f":"計算結果!#REF!","v":{"$error":"#REF!"}},{"$f":"計算結果!#REF!","v":{"$error":"#REF!"}},{"$f":"計算結果!#REF!","v":{"$error":"#REF!"}},{"$f":"計算結果!#REF!","v":{"$error":"#REF!"}},{"$f":"計算結果!#REF!","v":{"$error":"#REF!"}},{"$f":"計算結果!#REF!","v":{"$error":"#REF!"}}]
[{"$f":"入力シート!A508","v":0},{"$f":"入力シート!G508","v":0},{"$f":"入力シート!H508","v":0},{"$f":"IF(入力シート!$J508<>\"\",入力シート!$J508,IF(入力シート!$L508<>\"\",入力シート!$L508,\"‐\"))","v":"‐"},{"$f":"IF(入力シート!$K508<>\"\",入力シート!$K508,IF(入力シート!$M508<>\"\",入力シート!$M508,入力シート!$N508))","v":0},{"$f":"入力シート!I508","v":0},{"$f":"入力シート!O508","v":0},{"$f":"IF(入力シート!P508=\"×\",\"P\",\"PN\")","v":"PN"},{"$f":"計算結果!#REF!","v":{"$error":"#REF!"}},{"$f":"計算結果!#REF!","v":{"$error":"#REF!"}},{"$f":"計算結果!#REF!","v":{"$error":"#REF!"}},{"$f":"計算結果!#REF!","v":{"$error":"#REF!"}},{"$f":"計算結果!#REF!","v":{"$error":"#REF!"}},{"$f":"計算結果!#REF!","v":{"$error":"#REF!"}},{"$f":"計算結果!#REF!","v":{"$error":"#REF!"}},{"$f":"計算結果!#REF!","v":{"$error":"#REF!"}},{"$f":"計算結果!#REF!","v":{"$error":"#REF!"}},{"$f":"計算結果!#REF!","v":{"$error":"#REF!"}}]
[{"$f":"入力シート!A509","v":0},{"$f":"入力シート!G509","v":0},{"$f":"入力シート!H509","v":0},{"$f":"IF(入力シート!$J509<>\"\",入力シート!$J509,IF(入力シート!$L509<>\"\",入力シート!$L509,\"‐\"))","v":"‐"},{"$f":"IF(入力シート!$K509<>\"\",入力シート!$K509,IF(入力シート!$M509<>\"\",入力シート!$M509,入力シート!$N509))","v":0},{"$f":"入力シート!I509","v":0},{"$f":"入力シート!O509","v":0},{"$f":"IF(入力シート!P509=\"×\",\"P\",\"PN\")","v":"PN"},{"$f":"計算結果!#REF!","v":{"$error":"#REF!"}},{"$f":"計算結果!#REF!","v":{"$error":"#REF!"}},{"$f":"計算結果!#REF!","v":{"$error":"#REF!"}},{"$f":"計算結果!#REF!","v":{"$error":"#REF!"}},{"$f":"計算結果!#REF!","v":{"$error":"#REF!"}},{"$f":"計算結果!#REF!","v":{"$error":"#REF!"}},{"$f":"計算結果!#REF!","v":{"$error":"#REF!"}},{"$f":"計算結果!#REF!","v":{"$error":"#REF!"}},{"$f":"計算結果!#REF!","v":{"$error":"#REF!"}},{"$f":"計算結果!#REF!","v":{"$error":"#REF!"}}]
[{"$f":"入力シート!A510","v":0},{"$f":"入力シート!G510","v":0},{"$f":"入力シート!H510","v":0},{"$f":"IF(入力シート!$J510<>\"\",入力シート!$J510,IF(入力シート!$L510<>\"\",入力シート!$L510,\"‐\"))","v":"‐"},{"$f":"IF(入力シート!$K510<>\"\",入力シート!$K510,IF(入力シート!$M510<>\"\",入力シート!$M510,入力シート!$N510))","v":0},{"$f":"入力シート!I510","v":0},{"$f":"入力シート!O510","v":0},{"$f":"IF(入力シート!P510=\"×\",\"P\",\"PN\")","v":"PN"},{"$f":"計算結果!#REF!","v":{"$error":"#REF!"}},{"$f":"計算結果!#REF!","v":{"$error":"#REF!"}},{"$f":"計算結果!#REF!","v":{"$error":"#REF!"}},{"$f":"計算結果!#REF!","v":{"$error":"#REF!"}},{"$f":"計算結果!#REF!","v":{"$error":"#REF!"}},{"$f":"計算結果!#REF!","v":{"$error":"#REF!"}},{"$f":"計算結果!#REF!","v":{"$error":"#REF!"}},{"$f":"計算結果!#REF!","v":{"$error":"#REF!"}},{"$f":"計算結果!#REF!","v":{"$error":"#REF!"}},{"$f":"計算結果!#REF!","v":{"$error":"#REF!"}}]
[{"$f":"入力シート!A511","v":0},{"$f":"入力シート!G511","v":0},{"$f":"入力シート!H511","v":0},{"$f":"IF(入力シート!$J511<>\"\",入力シート!$J511,IF(入力シート!$L511<>\"\",入力シート!$L511,\"‐\"))","v":"‐"},{"$f":"IF(入力シート!$K511<>\"\",入力シート!$K511,IF(入力シート!$M511<>\"\",入力シート!$M511,入力シート!$N511))","v":0},{"$f":"入力シート!I511","v":0},{"$f":"入力シート!O511","v":0},{"$f":"IF(入力シート!P511=\"×\",\"P\",\"PN\")","v":"PN"},{"$f":"計算結果!#REF!","v":{"$error":"#REF!"}},{"$f":"計算結果!#REF!","v":{"$error":"#REF!"}},{"$f":"計算結果!#REF!","v":{"$error":"#REF!"}},{"$f":"計算結果!#REF!","v":{"$error":"#REF!"}},{"$f":"計算結果!#REF!","v":{"$error":"#REF!"}},{"$f":"計算結果!#REF!","v":{"$error":"#REF!"}},{"$f":"計算結果!#REF!","v":{"$error":"#REF!"}},{"$f":"計算結果!#REF!","v":{"$error":"#REF!"}},{"$f":"計算結果!#REF!","v":{"$error":"#REF!"}},{"$f":"計算結果!#REF!","v":{"$error":"#REF!"}}]
[{"$f":"入力シート!A512","v":0},{"$f":"入力シート!G512","v":0},{"$f":"入力シート!H512","v":0},{"$f":"IF(入力シート!$J512<>\"\",入力シート!$J512,IF(入力シート!$L512<>\"\",入力シート!$L512,\"‐\"))","v":"‐"},{"$f":"IF(入力シート!$K512<>\"\",入力シート!$K512,IF(入力シート!$M512<>\"\",入力シート!$M512,入力シート!$N512))","v":0},{"$f":"入力シート!I512","v":0},{"$f":"入力シート!O512","v":0},{"$f":"IF(入力シート!P512=\"×\",\"P\",\"PN\")","v":"PN"},{"$f":"計算結果!#REF!","v":{"$error":"#REF!"}},{"$f":"計算結果!#REF!","v":{"$error":"#REF!"}},{"$f":"計算結果!#REF!","v":{"$error":"#REF!"}},{"$f":"計算結果!#REF!","v":{"$error":"#REF!"}},{"$f":"計算結果!#REF!","v":{"$error":"#REF!"}},{"$f":"計算結果!#REF!","v":{"$error":"#REF!"}},{"$f":"計算結果!#REF!","v":{"$error":"#REF!"}},{"$f":"計算結果!#REF!","v":{"$error":"#REF!"}},{"$f":"計算結果!#REF!","v":{"$error":"#REF!"}},{"$f":"計算結果!#REF!","v":{"$error":"#REF!"}}]
[{"$f":"入力シート!A513","v":0},{"$f":"入力シート!G513","v":0},{"$f":"入力シート!H513","v":0},{"$f":"IF(入力シート!$J513<>\"\",入力シート!$J513,IF(入力シート!$L513<>\"\",入力シート!$L513,\"‐\"))","v":"‐"},{"$f":"IF(入力シート!$K513<>\"\",入力シート!$K513,IF(入力シート!$M513<>\"\",入力シート!$M513,入力シート!$N513))","v":0},{"$f":"入力シート!I513","v":0},{"$f":"入力シート!O513","v":0},{"$f":"IF(入力シート!P513=\"×\",\"P\",\"PN\")","v":"PN"},{"$f":"計算結果!#REF!","v":{"$error":"#REF!"}},{"$f":"計算結果!#REF!","v":{"$error":"#REF!"}},{"$f":"計算結果!#REF!","v":{"$error":"#REF!"}},{"$f":"計算結果!#REF!","v":{"$error":"#REF!"}},{"$f":"計算結果!#REF!","v":{"$error":"#REF!"}},{"$f":"計算結果!#REF!","v":{"$error":"#REF!"}},{"$f":"計算結果!#REF!","v":{"$error":"#REF!"}},{"$f":"計算結果!#REF!","v":{"$error":"#REF!"}},{"$f":"計算結果!#REF!","v":{"$error":"#REF!"}},{"$f":"計算結果!#REF!","v":{"$error":"#REF!"}}]
[{"$f":"入力シート!A514","v":0},{"$f":"入力シート!G514","v":0},{"$f":"入力シート!H514","v":0},{"$f":"IF(入力シート!$J514<>\"\",入力シート!$J514,IF(入力シート!$L514<>\"\",入力シート!$L514,\"‐\"))","v":"‐"},{"$f":"IF(入力シート!$K514<>\"\",入力シート!$K514,IF(入力シート!$M514<>\"\",入力シート!$M514,入力シート!$N514))","v":0},{"$f":"入力シート!I514","v":0},{"$f":"入力シート!O514","v":0},{"$f":"IF(入力シート!P514=\"×\",\"P\",\"PN\")","v":"PN"},{"$f":"計算結果!#REF!","v":{"$error":"#REF!"}},{"$f":"計算結果!#REF!","v":{"$error":"#REF!"}},{"$f":"計算結果!#REF!","v":{"$error":"#REF!"}},{"$f":"計算結果!#REF!","v":{"$error":"#REF!"}},{"$f":"計算結果!#REF!","v":{"$error":"#REF!"}},{"$f":"計算結果!#REF!","v":{"$error":"#REF!"}},{"$f":"計算結果!#REF!","v":{"$error":"#REF!"}},{"$f":"計算結果!#REF!","v":{"$error":"#REF!"}},{"$f":"計算結果!#REF!","v":{"$error":"#REF!"}},{"$f":"計算結果!#REF!","v":{"$error":"#REF!"}}]
[{"$f":"入力シート!A515","v":0},{"$f":"入力シート!G515","v":0},{"$f":"入力シート!H515","v":0},{"$f":"IF(入力シート!$J515<>\"\",入力シート!$J515,IF(入力シート!$L515<>\"\",入力シート!$L515,\"‐\"))","v":"‐"},{"$f":"IF(入力シート!$K515<>\"\",入力シート!$K515,IF(入力シート!$M515<>\"\",入力シート!$M515,入力シート!$N515))","v":0},{"$f":"入力シート!I515","v":0},{"$f":"入力シート!O515","v":0},{"$f":"IF(入力シート!P515=\"×\",\"P\",\"PN\")","v":"PN"},{"$f":"計算結果!#REF!","v":{"$error":"#REF!"}},{"$f":"計算結果!#REF!","v":{"$error":"#REF!"}},{"$f":"計算結果!#REF!","v":{"$error":"#REF!"}},{"$f":"計算結果!#REF!","v":{"$error":"#REF!"}},{"$f":"計算結果!#REF!","v":{"$error":"#REF!"}},{"$f":"計算結果!#REF!","v":{"$error":"#REF!"}},{"$f":"計算結果!#REF!","v":{"$error":"#REF!"}},{"$f":"計算結果!#REF!","v":{"$error":"#REF!"}},{"$f":"計算結果!#REF!","v":{"$error":"#REF!"}},{"$f":"計算結果!#REF!","v":{"$error":"#REF!"}}]
[{"$f":"入力シート!A516","v":0},{"$f":"入力シート!G516","v":0},{"$f":"入力シート!H516","v":0},{"$f":"IF(入力シート!$J516<>\"\",入力シート!$J516,IF(入力シート!$L516<>\"\",入力シート!$L516,\"‐\"))","v":"‐"},{"$f":"IF(入力シート!$K516<>\"\",入力シート!$K516,IF(入力シート!$M516<>\"\",入力シート!$M516,入力シート!$N516))","v":0},{"$f":"入力シート!I516","v":0},{"$f":"入力シート!O516","v":0},{"$f":"IF(入力シート!P516=\"×\",\"P\",\"PN\")","v":"PN"},{"$f":"計算結果!#REF!","v":{"$error":"#REF!"}},{"$f":"計算結果!#REF!","v":{"$error":"#REF!"}},{"$f":"計算結果!#REF!","v":{"$error":"#REF!"}},{"$f":"計算結果!#REF!","v":{"$error":"#REF!"}},{"$f":"計算結果!#REF!","v":{"$error":"#REF!"}},{"$f":"計算結果!#REF!","v":{"$error":"#REF!"}},{"$f":"計算結果!#REF!","v":{"$error":"#REF!"}},{"$f":"計算結果!#REF!","v":{"$error":"#REF!"}},{"$f":"計算結果!#REF!","v":{"$error":"#REF!"}},{"$f":"計算結果!#REF!","v":{"$error":"#REF!"}}]
[{"$f":"入力シート!A517","v":0},{"$f":"入力シート!G517","v":0},{"$f":"入力シート!H517","v":0},{"$f":"IF(入力シート!$J517<>\"\",入力シート!$J517,IF(入力シート!$L517<>\"\",入力シート!$L517,\"‐\"))","v":"‐"},{"$f":"IF(入力シート!$K517<>\"\",入力シート!$K517,IF(入力シート!$M517<>\"\",入力シート!$M517,入力シート!$N517))","v":0},{"$f":"入力シート!I517","v":0},{"$f":"入力シート!O517","v":0},{"$f":"IF(入力シート!P517=\"×\",\"P\",\"PN\")","v":"PN"},{"$f":"計算結果!#REF!","v":{"$error":"#REF!"}},{"$f":"計算結果!#REF!","v":{"$error":"#REF!"}},{"$f":"計算結果!#REF!","v":{"$error":"#REF!"}},{"$f":"計算結果!#REF!","v":{"$error":"#REF!"}},{"$f":"計算結果!#REF!","v":{"$error":"#REF!"}},{"$f":"計算結果!#REF!","v":{"$error":"#REF!"}},{"$f":"計算結果!#REF!","v":{"$error":"#REF!"}},{"$f":"計算結果!#REF!","v":{"$error":"#REF!"}},{"$f":"計算結果!#REF!","v":{"$error":"#REF!"}},{"$f":"計算結果!#REF!","v":{"$error":"#REF!"}}]
[{"$f":"入力シート!A518","v":0},{"$f":"入力シート!G518","v":0},{"$f":"入力シート!H518","v":0},{"$f":"IF(入力シート!$J518<>\"\",入力シート!$J518,IF(入力シート!$L518<>\"\",入力シート!$L518,\"‐\"))","v":"‐"},{"$f":"IF(入力シート!$K518<>\"\",入力シート!$K518,IF(入力シート!$M518<>\"\",入力シート!$M518,入力シート!$N518))","v":0},{"$f":"入力シート!I518","v":0},{"$f":"入力シート!O518","v":0},{"$f":"IF(入力シート!P518=\"×\",\"P\",\"PN\")","v":"PN"},{"$f":"計算結果!#REF!","v":{"$error":"#REF!"}},{"$f":"計算結果!#REF!","v":{"$error":"#REF!"}},{"$f":"計算結果!#REF!","v":{"$error":"#REF!"}},{"$f":"計算結果!#REF!","v":{"$error":"#REF!"}},{"$f":"計算結果!#REF!","v":{"$error":"#REF!"}},{"$f":"計算結果!#REF!","v":{"$error":"#REF!"}},{"$f":"計算結果!#REF!","v":{"$error":"#REF!"}},{"$f":"計算結果!#REF!","v":{"$error":"#REF!"}},{"$f":"計算結果!#REF!","v":{"$error":"#REF!"}},{"$f":"計算結果!#REF!","v":{"$error":"#REF!"}}]
[{"$f":"入力シート!A519","v":0},{"$f":"入力シート!G519","v":0},{"$f":"入力シート!H519","v":0},{"$f":"IF(入力シート!$J519<>\"\",入力シート!$J519,IF(入力シート!$L519<>\"\",入力シート!$L519,\"‐\"))","v":"‐"},{"$f":"IF(入力シート!$K519<>\"\",入力シート!$K519,IF(入力シート!$M519<>\"\",入力シート!$M519,入力シート!$N519))","v":0},{"$f":"入力シート!I519","v":0},{"$f":"入力シート!O519","v":0},{"$f":"IF(入力シート!P519=\"×\",\"P\",\"PN\")","v":"PN"},{"$f":"計算結果!#REF!","v":{"$error":"#REF!"}},{"$f":"計算結果!#REF!","v":{"$error":"#REF!"}},{"$f":"計算結果!#REF!","v":{"$error":"#REF!"}},{"$f":"計算結果!#REF!","v":{"$error":"#REF!"}},{"$f":"計算結果!#REF!","v":{"$error":"#REF!"}},{"$f":"計算結果!#REF!","v":{"$error":"#REF!"}},{"$f":"計算結果!#REF!","v":{"$error":"#REF!"}},{"$f":"計算結果!#REF!","v":{"$error":"#REF!"}},{"$f":"計算結果!#REF!","v":{"$error":"#REF!"}},{"$f":"計算結果!#REF!","v":{"$error":"#REF!"}}]
[{"$f":"入力シート!A520","v":0},{"$f":"入力シート!G520","v":0},{"$f":"入力シート!H520","v":0},{"$f":"IF(入力シート!$J520<>\"\",入力シート!$J520,IF(入力シート!$L520<>\"\",入力シート!$L520,\"‐\"))","v":"‐"},{"$f":"IF(入力シート!$K520<>\"\",入力シート!$K520,IF(入力シート!$M520<>\"\",入力シート!$M520,入力シート!$N520))","v":0},{"$f":"入力シート!I520","v":0},{"$f":"入力シート!O520","v":0},{"$f":"IF(入力シート!P520=\"×\",\"P\",\"PN\")","v":"PN"},{"$f":"計算結果!#REF!","v":{"$error":"#REF!"}},{"$f":"計算結果!#REF!","v":{"$error":"#REF!"}},{"$f":"計算結果!#REF!","v":{"$error":"#REF!"}},{"$f":"計算結果!#REF!","v":{"$error":"#REF!"}},{"$f":"計算結果!#REF!","v":{"$error":"#REF!"}},{"$f":"計算結果!#REF!","v":{"$error":"#REF!"}},{"$f":"計算結果!#REF!","v":{"$error":"#REF!"}},{"$f":"計算結果!#REF!","v":{"$error":"#REF!"}},{"$f":"計算結果!#REF!","v":{"$error":"#REF!"}},{"$f":"計算結果!#REF!","v":{"$error":"#REF!"}}]
[{"$f":"入力シート!A521","v":0},{"$f":"入力シート!G521","v":0},{"$f":"入力シート!H521","v":0},{"$f":"IF(入力シート!$J521<>\"\",入力シート!$J521,IF(入力シート!$L521<>\"\",入力シート!$L521,\"‐\"))","v":"‐"},{"$f":"IF(入力シート!$K521<>\"\",入力シート!$K521,IF(入力シート!$M521<>\"\",入力シート!$M521,入力シート!$N521))","v":0},{"$f":"入力シート!I521","v":0},{"$f":"入力シート!O521","v":0},{"$f":"IF(入力シート!P521=\"×\",\"P\",\"PN\")","v":"PN"},{"$f":"計算結果!#REF!","v":{"$error":"#REF!"}},{"$f":"計算結果!#REF!","v":{"$error":"#REF!"}},{"$f":"計算結果!#REF!","v":{"$error":"#REF!"}},{"$f":"計算結果!#REF!","v":{"$error":"#REF!"}},{"$f":"計算結果!#REF!","v":{"$error":"#REF!"}},{"$f":"計算結果!#REF!","v":{"$error":"#REF!"}},{"$f":"計算結果!#REF!","v":{"$error":"#REF!"}},{"$f":"計算結果!#REF!","v":{"$error":"#REF!"}},{"$f":"計算結果!#REF!","v":{"$error":"#REF!"}},{"$f":"計算結果!#REF!","v":{"$error":"#REF!"}}]
[{"$f":"入力シート!A522","v":0},{"$f":"入力シート!G522","v":0},{"$f":"入力シート!H522","v":0},{"$f":"IF(入力シート!$J522<>\"\",入力シート!$J522,IF(入力シート!$L522<>\"\",入力シート!$L522,\"‐\"))","v":"‐"},{"$f":"IF(入力シート!$K522<>\"\",入力シート!$K522,IF(入力シート!$M522<>\"\",入力シート!$M522,入力シート!$N522))","v":0},{"$f":"入力シート!I522","v":0},{"$f":"入力シート!O522","v":0},{"$f":"IF(入力シート!P522=\"×\",\"P\",\"PN\")","v":"PN"},{"$f":"計算結果!#REF!","v":{"$error":"#REF!"}},{"$f":"計算結果!#REF!","v":{"$error":"#REF!"}},{"$f":"計算結果!#REF!","v":{"$error":"#REF!"}},{"$f":"計算結果!#REF!","v":{"$error":"#REF!"}},{"$f":"計算結果!#REF!","v":{"$error":"#REF!"}},{"$f":"計算結果!#REF!","v":{"$error":"#REF!"}},{"$f":"計算結果!#REF!","v":{"$error":"#REF!"}},{"$f":"計算結果!#REF!","v":{"$error":"#REF!"}},{"$f":"計算結果!#REF!","v":{"$error":"#REF!"}},{"$f":"計算結果!#REF!","v":{"$error":"#REF!"}}]
[{"$f":"入力シート!A523","v":0},{"$f":"入力シート!G523","v":0},{"$f":"入力シート!H523","v":0},{"$f":"IF(入力シート!$J523<>\"\",入力シート!$J523,IF(入力シート!$L523<>\"\",入力シート!$L523,\"‐\"))","v":"‐"},{"$f":"IF(入力シート!$K523<>\"\",入力シート!$K523,IF(入力シート!$M523<>\"\",入力シート!$M523,入力シート!$N523))","v":0},{"$f":"入力シート!I523","v":0},{"$f":"入力シート!O523","v":0},{"$f":"IF(入力シート!P523=\"×\",\"P\",\"PN\")","v":"PN"},{"$f":"計算結果!#REF!","v":{"$error":"#REF!"}},{"$f":"計算結果!#REF!","v":{"$error":"#REF!"}},{"$f":"計算結果!#REF!","v":{"$error":"#REF!"}},{"$f":"計算結果!#REF!","v":{"$error":"#REF!"}},{"$f":"計算結果!#REF!","v":{"$error":"#REF!"}},{"$f":"計算結果!#REF!","v":{"$error":"#REF!"}},{"$f":"計算結果!#REF!","v":{"$error":"#REF!"}},{"$f":"計算結果!#REF!","v":{"$error":"#REF!"}},{"$f":"計算結果!#REF!","v":{"$error":"#REF!"}},{"$f":"計算結果!#REF!","v":{"$error":"#REF!"}}]
[{"$f":"入力シート!A524","v":0},{"$f":"入力シート!G524","v":0},{"$f":"入力シート!H524","v":0},{"$f":"IF(入力シート!$J524<>\"\",入力シート!$J524,IF(入力シート!$L524<>\"\",入力シート!$L524,\"‐\"))","v":"‐"},{"$f":"IF(入力シート!$K524<>\"\",入力シート!$K524,IF(入力シート!$M524<>\"\",入力シート!$M524,入力シート!$N524))","v":0},{"$f":"入力シート!I524","v":0},{"$f":"入力シート!O524","v":0},{"$f":"IF(入力シート!P524=\"×\",\"P\",\"PN\")","v":"PN"},{"$f":"計算結果!#REF!","v":{"$error":"#REF!"}},{"$f":"計算結果!#REF!","v":{"$error":"#REF!"}},{"$f":"計算結果!#REF!","v":{"$error":"#REF!"}},{"$f":"計算結果!#REF!","v":{"$error":"#REF!"}},{"$f":"計算結果!#REF!","v":{"$error":"#REF!"}},{"$f":"計算結果!#REF!","v":{"$error":"#REF!"}},{"$f":"計算結果!#REF!","v":{"$error":"#REF!"}},{"$f":"計算結果!#REF!","v":{"$error":"#REF!"}},{"$f":"計算結果!#REF!","v":{"$error":"#REF!"}},{"$f":"計算結果!#REF!","v":{"$error":"#REF!"}}]
[{"$f":"入力シート!A525","v":0},{"$f":"入力シート!G525","v":0},{"$f":"入力シート!H525","v":0},{"$f":"IF(入力シート!$J525<>\"\",入力シート!$J525,IF(入力シート!$L525<>\"\",入力シート!$L525,\"‐\"))","v":"‐"},{"$f":"IF(入力シート!$K525<>\"\",入力シート!$K525,IF(入力シート!$M525<>\"\",入力シート!$M525,入力シート!$N525))","v":0},{"$f":"入力シート!I525","v":0},{"$f":"入力シート!O525","v":0},{"$f":"IF(入力シート!P525=\"×\",\"P\",\"PN\")","v":"PN"},{"$f":"計算結果!#REF!","v":{"$error":"#REF!"}},{"$f":"計算結果!#REF!","v":{"$error":"#REF!"}},{"$f":"計算結果!#REF!","v":{"$error":"#REF!"}},{"$f":"計算結果!#REF!","v":{"$error":"#REF!"}},{"$f":"計算結果!#REF!","v":{"$error":"#REF!"}},{"$f":"計算結果!#REF!","v":{"$error":"#REF!"}},{"$f":"計算結果!#REF!","v":{"$error":"#REF!"}},{"$f":"計算結果!#REF!","v":{"$error":"#REF!"}},{"$f":"計算結果!#REF!","v":{"$error":"#REF!"}},{"$f":"計算結果!#REF!","v":{"$error":"#REF!"}}]
[{"$f":"入力シート!A526","v":0},{"$f":"入力シート!G526","v":0},{"$f":"入力シート!H526","v":0},{"$f":"IF(入力シート!$J526<>\"\",入力シート!$J526,IF(入力シート!$L526<>\"\",入力シート!$L526,\"‐\"))","v":"‐"},{"$f":"IF(入力シート!$K526<>\"\",入力シート!$K526,IF(入力シート!$M526<>\"\",入力シート!$M526,入力シート!$N526))","v":0},{"$f":"入力シート!I526","v":0},{"$f":"入力シート!O526","v":0},{"$f":"IF(入力シート!P526=\"×\",\"P\",\"PN\")","v":"PN"},{"$f":"計算結果!#REF!","v":{"$error":"#REF!"}},{"$f":"計算結果!#REF!","v":{"$error":"#REF!"}},{"$f":"計算結果!#REF!","v":{"$error":"#REF!"}},{"$f":"計算結果!#REF!","v":{"$error":"#REF!"}},{"$f":"計算結果!#REF!","v":{"$error":"#REF!"}},{"$f":"計算結果!#REF!","v":{"$error":"#REF!"}},{"$f":"計算結果!#REF!","v":{"$error":"#REF!"}},{"$f":"計算結果!#REF!","v":{"$error":"#REF!"}},{"$f":"計算結果!#REF!","v":{"$error":"#REF!"}},{"$f":"計算結果!#REF!","v":{"$error":"#REF!"}}]
[{"$f":"入力シート!A527","v":0},{"$f":"入力シート!G527","v":0},{"$f":"入力シート!H527","v":0},{"$f":"IF(入力シート!$J527<>\"\",入力シート!$J527,IF(入力シート!$L527<>\"\",入力シート!$L527,\"‐\"))","v":"‐"},{"$f":"IF(入力シート!$K527<>\"\",入力シート!$K527,IF(入力シート!$M527<>\"\",入力シート!$M527,入力シート!$N527))","v":0},{"$f":"入力シート!I527","v":0},{"$f":"入力シート!O527","v":0},{"$f":"IF(入力シート!P527=\"×\",\"P\",\"PN\")","v":"PN"},{"$f":"計算結果!#REF!","v":{"$error":"#REF!"}},{"$f":"計算結果!#REF!","v":{"$error":"#REF!"}},{"$f":"計算結果!#REF!","v":{"$error":"#REF!"}},{"$f":"計算結果!#REF!","v":{"$error":"#REF!"}},{"$f":"計算結果!#REF!","v":{"$error":"#REF!"}},{"$f":"計算結果!#REF!","v":{"$error":"#REF!"}},{"$f":"計算結果!#REF!","v":{"$error":"#REF!"}},{"$f":"計算結果!#REF!","v":{"$error":"#REF!"}},{"$f":"計算結果!#REF!","v":{"$error":"#REF!"}},{"$f":"計算結果!#REF!","v":{"$error":"#REF!"}}]
[{"$f":"入力シート!A528","v":0},{"$f":"入力シート!G528","v":0},{"$f":"入力シート!H528","v":0},{"$f":"IF(入力シート!$J528<>\"\",入力シート!$J528,IF(入力シート!$L528<>\"\",入力シート!$L528,\"‐\"))","v":"‐"},{"$f":"IF(入力シート!$K528<>\"\",入力シート!$K528,IF(入力シート!$M528<>\"\",入力シート!$M528,入力シート!$N528))","v":0},{"$f":"入力シート!I528","v":0},{"$f":"入力シート!O528","v":0},{"$f":"IF(入力シート!P528=\"×\",\"P\",\"PN\")","v":"PN"},{"$f":"計算結果!#REF!","v":{"$error":"#REF!"}},{"$f":"計算結果!#REF!","v":{"$error":"#REF!"}},{"$f":"計算結果!#REF!","v":{"$error":"#REF!"}},{"$f":"計算結果!#REF!","v":{"$error":"#REF!"}},{"$f":"計算結果!#REF!","v":{"$error":"#REF!"}},{"$f":"計算結果!#REF!","v":{"$error":"#REF!"}},{"$f":"計算結果!#REF!","v":{"$error":"#REF!"}},{"$f":"計算結果!#REF!","v":{"$error":"#REF!"}},{"$f":"計算結果!#REF!","v":{"$error":"#REF!"}},{"$f":"計算結果!#REF!","v":{"$error":"#REF!"}}]
[{"$f":"入力シート!A529","v":0},{"$f":"入力シート!G529","v":0},{"$f":"入力シート!H529","v":0},{"$f":"IF(入力シート!$J529<>\"\",入力シート!$J529,IF(入力シート!$L529<>\"\",入力シート!$L529,\"‐\"))","v":"‐"},{"$f":"IF(入力シート!$K529<>\"\",入力シート!$K529,IF(入力シート!$M529<>\"\",入力シート!$M529,入力シート!$N529))","v":0},{"$f":"入力シート!I529","v":0},{"$f":"入力シート!O529","v":0},{"$f":"IF(入力シート!P529=\"×\",\"P\",\"PN\")","v":"PN"},{"$f":"計算結果!#REF!","v":{"$error":"#REF!"}},{"$f":"計算結果!#REF!","v":{"$error":"#REF!"}},{"$f":"計算結果!#REF!","v":{"$error":"#REF!"}},{"$f":"計算結果!#REF!","v":{"$error":"#REF!"}},{"$f":"計算結果!#REF!","v":{"$error":"#REF!"}},{"$f":"計算結果!#REF!","v":{"$error":"#REF!"}},{"$f":"計算結果!#REF!","v":{"$error":"#REF!"}},{"$f":"計算結果!#REF!","v":{"$error":"#REF!"}},{"$f":"計算結果!#REF!","v":{"$error":"#REF!"}},{"$f":"計算結果!#REF!","v":{"$error":"#REF!"}}]
[{"$f":"入力シート!A530","v":0},{"$f":"入力シート!G530","v":0},{"$f":"入力シート!H530","v":0},{"$f":"IF(入力シート!$J530<>\"\",入力シート!$J530,IF(入力シート!$L530<>\"\",入力シート!$L530,\"‐\"))","v":"‐"},{"$f":"IF(入力シート!$K530<>\"\",入力シート!$K530,IF(入力シート!$M530<>\"\",入力シート!$M530,入力シート!$N530))","v":0},{"$f":"入力シート!I530","v":0},{"$f":"入力シート!O530","v":0},{"$f":"IF(入力シート!P530=\"×\",\"P\",\"PN\")","v":"PN"},{"$f":"計算結果!#REF!","v":{"$error":"#REF!"}},{"$f":"計算結果!#REF!","v":{"$error":"#REF!"}},{"$f":"計算結果!#REF!","v":{"$error":"#REF!"}},{"$f":"計算結果!#REF!","v":{"$error":"#REF!"}},{"$f":"計算結果!#REF!","v":{"$error":"#REF!"}},{"$f":"計算結果!#REF!","v":{"$error":"#REF!"}},{"$f":"計算結果!#REF!","v":{"$error":"#REF!"}},{"$f":"計算結果!#REF!","v":{"$error":"#REF!"}},{"$f":"計算結果!#REF!","v":{"$error":"#REF!"}},{"$f":"計算結果!#REF!","v":{"$error":"#REF!"}}]
[{"$f":"入力シート!A531","v":0},{"$f":"入力シート!G531","v":0},{"$f":"入力シート!H531","v":0},{"$f":"IF(入力シート!$J531<>\"\",入力シート!$J531,IF(入力シート!$L531<>\"\",入力シート!$L531,\"‐\"))","v":"‐"},{"$f":"IF(入力シート!$K531<>\"\",入力シート!$K531,IF(入力シート!$M531<>\"\",入力シート!$M531,入力シート!$N531))","v":0},{"$f":"入力シート!I531","v":0},{"$f":"入力シート!O531","v":0},{"$f":"IF(入力シート!P531=\"×\",\"P\",\"PN\")","v":"PN"},{"$f":"計算結果!#REF!","v":{"$error":"#REF!"}},{"$f":"計算結果!#REF!","v":{"$error":"#REF!"}},{"$f":"計算結果!#REF!","v":{"$error":"#REF!"}},{"$f":"計算結果!#REF!","v":{"$error":"#REF!"}},{"$f":"計算結果!#REF!","v":{"$error":"#REF!"}},{"$f":"計算結果!#REF!","v":{"$error":"#REF!"}},{"$f":"計算結果!#REF!","v":{"$error":"#REF!"}},{"$f":"計算結果!#REF!","v":{"$error":"#REF!"}},{"$f":"計算結果!#REF!","v":{"$error":"#REF!"}},{"$f":"計算結果!#REF!","v":{"$error":"#REF!"}}]
[{"$f":"入力シート!A532","v":0},{"$f":"入力シート!G532","v":0},{"$f":"入力シート!H532","v":0},{"$f":"IF(入力シート!$J532<>\"\",入力シート!$J532,IF(入力シート!$L532<>\"\",入力シート!$L532,\"‐\"))","v":"‐"},{"$f":"IF(入力シート!$K532<>\"\",入力シート!$K532,IF(入力シート!$M532<>\"\",入力シート!$M532,入力シート!$N532))","v":0},{"$f":"入力シート!I532","v":0},{"$f":"入力シート!O532","v":0},{"$f":"IF(入力シート!P532=\"×\",\"P\",\"PN\")","v":"PN"},{"$f":"計算結果!#REF!","v":{"$error":"#REF!"}},{"$f":"計算結果!#REF!","v":{"$error":"#REF!"}},{"$f":"計算結果!#REF!","v":{"$error":"#REF!"}},{"$f":"計算結果!#REF!","v":{"$error":"#REF!"}},{"$f":"計算結果!#REF!","v":{"$error":"#REF!"}},{"$f":"計算結果!#REF!","v":{"$error":"#REF!"}},{"$f":"計算結果!#REF!","v":{"$error":"#REF!"}},{"$f":"計算結果!#REF!","v":{"$error":"#REF!"}},{"$f":"計算結果!#REF!","v":{"$error":"#REF!"}},{"$f":"計算結果!#REF!","v":{"$error":"#REF!"}}]
[{"$f":"入力シート!A533","v":0},{"$f":"入力シート!G533","v":0},{"$f":"入力シート!H533","v":0},{"$f":"IF(入力シート!$J533<>\"\",入力シート!$J533,IF(入力シート!$L533<>\"\",入力シート!$L533,\"‐\"))","v":"‐"},{"$f":"IF(入力シート!$K533<>\"\",入力シート!$K533,IF(入力シート!$M533<>\"\",入力シート!$M533,入力シート!$N533))","v":0},{"$f":"入力シート!I533","v":0},{"$f":"入力シート!O533","v":0},{"$f":"IF(入力シート!P533=\"×\",\"P\",\"PN\")","v":"PN"},{"$f":"計算結果!#REF!","v":{"$error":"#REF!"}},{"$f":"計算結果!#REF!","v":{"$error":"#REF!"}},{"$f":"計算結果!#REF!","v":{"$error":"#REF!"}},{"$f":"計算結果!#REF!","v":{"$error":"#REF!"}},{"$f":"計算結果!#REF!","v":{"$error":"#REF!"}},{"$f":"計算結果!#REF!","v":{"$error":"#REF!"}},{"$f":"計算結果!#REF!","v":{"$error":"#REF!"}},{"$f":"計算結果!#REF!","v":{"$error":"#REF!"}},{"$f":"計算結果!#REF!","v":{"$error":"#REF!"}},{"$f":"計算結果!#REF!","v":{"$error":"#REF!"}}]
[{"$f":"入力シート!A534","v":0},{"$f":"入力シート!G534","v":0},{"$f":"入力シート!H534","v":0},{"$f":"IF(入力シート!$J534<>\"\",入力シート!$J534,IF(入力シート!$L534<>\"\",入力シート!$L534,\"‐\"))","v":"‐"},{"$f":"IF(入力シート!$K534<>\"\",入力シート!$K534,IF(入力シート!$M534<>\"\",入力シート!$M534,入力シート!$N534))","v":0},{"$f":"入力シート!I534","v":0},{"$f":"入力シート!O534","v":0},{"$f":"IF(入力シート!P534=\"×\",\"P\",\"PN\")","v":"PN"},{"$f":"計算結果!#REF!","v":{"$error":"#REF!"}},{"$f":"計算結果!#REF!","v":{"$error":"#REF!"}},{"$f":"計算結果!#REF!","v":{"$error":"#REF!"}},{"$f":"計算結果!#REF!","v":{"$error":"#REF!"}},{"$f":"計算結果!#REF!","v":{"$error":"#REF!"}},{"$f":"計算結果!#REF!","v":{"$error":"#REF!"}},{"$f":"計算結果!#REF!","v":{"$error":"#REF!"}},{"$f":"計算結果!#REF!","v":{"$error":"#REF!"}},{"$f":"計算結果!#REF!","v":{"$error":"#REF!"}},{"$f":"計算結果!#REF!","v":{"$error":"#REF!"}}]
[{"$f":"入力シート!A535","v":0},{"$f":"入力シート!G535","v":0},{"$f":"入力シート!H535","v":0},{"$f":"IF(入力シート!$J535<>\"\",入力シート!$J535,IF(入力シート!$L535<>\"\",入力シート!$L535,\"‐\"))","v":"‐"},{"$f":"IF(入力シート!$K535<>\"\",入力シート!$K535,IF(入力シート!$M535<>\"\",入力シート!$M535,入力シート!$N535))","v":0},{"$f":"入力シート!I535","v":0},{"$f":"入力シート!O535","v":0},{"$f":"IF(入力シート!P535=\"×\",\"P\",\"PN\")","v":"PN"},{"$f":"計算結果!#REF!","v":{"$error":"#REF!"}},{"$f":"計算結果!#REF!","v":{"$error":"#REF!"}},{"$f":"計算結果!#REF!","v":{"$error":"#REF!"}},{"$f":"計算結果!#REF!","v":{"$error":"#REF!"}},{"$f":"計算結果!#REF!","v":{"$error":"#REF!"}},{"$f":"計算結果!#REF!","v":{"$error":"#REF!"}},{"$f":"計算結果!#REF!","v":{"$error":"#REF!"}},{"$f":"計算結果!#REF!","v":{"$error":"#REF!"}},{"$f":"計算結果!#REF!","v":{"$error":"#REF!"}},{"$f":"計算結果!#REF!","v":{"$error":"#REF!"}}]
[{"$f":"入力シート!A536","v":0},{"$f":"入力シート!G536","v":0},{"$f":"入力シート!H536","v":0},{"$f":"IF(入力シート!$J536<>\"\",入力シート!$J536,IF(入力シート!$L536<>\"\",入力シート!$L536,\"‐\"))","v":"‐"},{"$f":"IF(入力シート!$K536<>\"\",入力シート!$K536,IF(入力シート!$M536<>\"\",入力シート!$M536,入力シート!$N536))","v":0},{"$f":"入力シート!I536","v":0},{"$f":"入力シート!O536","v":0},{"$f":"IF(入力シート!P536=\"×\",\"P\",\"PN\")","v":"PN"},{"$f":"計算結果!#REF!","v":{"$error":"#REF!"}},{"$f":"計算結果!#REF!","v":{"$error":"#REF!"}},{"$f":"計算結果!#REF!","v":{"$error":"#REF!"}},{"$f":"計算結果!#REF!","v":{"$error":"#REF!"}},{"$f":"計算結果!#REF!","v":{"$error":"#REF!"}},{"$f":"計算結果!#REF!","v":{"$error":"#REF!"}},{"$f":"計算結果!#REF!","v":{"$error":"#REF!"}},{"$f":"計算結果!#REF!","v":{"$error":"#REF!"}},{"$f":"計算結果!#REF!","v":{"$error":"#REF!"}},{"$f":"計算結果!#REF!","v":{"$error":"#REF!"}}]
[{"$f":"入力シート!A537","v":0},{"$f":"入力シート!G537","v":0},{"$f":"入力シート!H537","v":0},{"$f":"IF(入力シート!$J537<>\"\",入力シート!$J537,IF(入力シート!$L537<>\"\",入力シート!$L537,\"‐\"))","v":"‐"},{"$f":"IF(入力シート!$K537<>\"\",入力シート!$K537,IF(入力シート!$M537<>\"\",入力シート!$M537,入力シート!$N537))","v":0},{"$f":"入力シート!I537","v":0},{"$f":"入力シート!O537","v":0},{"$f":"IF(入力シート!P537=\"×\",\"P\",\"PN\")","v":"PN"},{"$f":"計算結果!#REF!","v":{"$error":"#REF!"}},{"$f":"計算結果!#REF!","v":{"$error":"#REF!"}},{"$f":"計算結果!#REF!","v":{"$error":"#REF!"}},{"$f":"計算結果!#REF!","v":{"$error":"#REF!"}},{"$f":"計算結果!#REF!","v":{"$error":"#REF!"}},{"$f":"計算結果!#REF!","v":{"$error":"#REF!"}},{"$f":"計算結果!#REF!","v":{"$error":"#REF!"}},{"$f":"計算結果!#REF!","v":{"$error":"#REF!"}},{"$f":"計算結果!#REF!","v":{"$error":"#REF!"}},{"$f":"計算結果!#REF!","v":{"$error":"#REF!"}}]
[{"$f":"入力シート!A538","v":0},{"$f":"入力シート!G538","v":0},{"$f":"入力シート!H538","v":0},{"$f":"IF(入力シート!$J538<>\"\",入力シート!$J538,IF(入力シート!$L538<>\"\",入力シート!$L538,\"‐\"))","v":"‐"},{"$f":"IF(入力シート!$K538<>\"\",入力シート!$K538,IF(入力シート!$M538<>\"\",入力シート!$M538,入力シート!$N538))","v":0},{"$f":"入力シート!I538","v":0},{"$f":"入力シート!O538","v":0},{"$f":"IF(入力シート!P538=\"×\",\"P\",\"PN\")","v":"PN"},{"$f":"計算結果!#REF!","v":{"$error":"#REF!"}},{"$f":"計算結果!#REF!","v":{"$error":"#REF!"}},{"$f":"計算結果!#REF!","v":{"$error":"#REF!"}},{"$f":"計算結果!#REF!","v":{"$error":"#REF!"}},{"$f":"計算結果!#REF!","v":{"$error":"#REF!"}},{"$f":"計算結果!#REF!","v":{"$error":"#REF!"}},{"$f":"計算結果!#REF!","v":{"$error":"#REF!"}},{"$f":"計算結果!#REF!","v":{"$error":"#REF!"}},{"$f":"計算結果!#REF!","v":{"$error":"#REF!"}},{"$f":"計算結果!#REF!","v":{"$error":"#REF!"}}]
[{"$f":"入力シート!A539","v":0},{"$f":"入力シート!G539","v":0},{"$f":"入力シート!H539","v":0},{"$f":"IF(入力シート!$J539<>\"\",入力シート!$J539,IF(入力シート!$L539<>\"\",入力シート!$L539,\"‐\"))","v":"‐"},{"$f":"IF(入力シート!$K539<>\"\",入力シート!$K539,IF(入力シート!$M539<>\"\",入力シート!$M539,入力シート!$N539))","v":0},{"$f":"入力シート!I539","v":0},{"$f":"入力シート!O539","v":0},{"$f":"IF(入力シート!P539=\"×\",\"P\",\"PN\")","v":"PN"},{"$f":"計算結果!#REF!","v":{"$error":"#REF!"}},{"$f":"計算結果!#REF!","v":{"$error":"#REF!"}},{"$f":"計算結果!#REF!","v":{"$error":"#REF!"}},{"$f":"計算結果!#REF!","v":{"$error":"#REF!"}},{"$f":"計算結果!#REF!","v":{"$error":"#REF!"}},{"$f":"計算結果!#REF!","v":{"$error":"#REF!"}},{"$f":"計算結果!#REF!","v":{"$error":"#REF!"}},{"$f":"計算結果!#REF!","v":{"$error":"#REF!"}},{"$f":"計算結果!#REF!","v":{"$error":"#REF!"}},{"$f":"計算結果!#REF!","v":{"$error":"#REF!"}}]
[{"$f":"入力シート!A540","v":0},{"$f":"入力シート!G540","v":0},{"$f":"入力シート!H540","v":0},{"$f":"IF(入力シート!$J540<>\"\",入力シート!$J540,IF(入力シート!$L540<>\"\",入力シート!$L540,\"‐\"))","v":"‐"},{"$f":"IF(入力シート!$K540<>\"\",入力シート!$K540,IF(入力シート!$M540<>\"\",入力シート!$M540,入力シート!$N540))","v":0},{"$f":"入力シート!I540","v":0},{"$f":"入力シート!O540","v":0},{"$f":"IF(入力シート!P540=\"×\",\"P\",\"PN\")","v":"PN"},{"$f":"計算結果!#REF!","v":{"$error":"#REF!"}},{"$f":"計算結果!#REF!","v":{"$error":"#REF!"}},{"$f":"計算結果!#REF!","v":{"$error":"#REF!"}},{"$f":"計算結果!#REF!","v":{"$error":"#REF!"}},{"$f":"計算結果!#REF!","v":{"$error":"#REF!"}},{"$f":"計算結果!#REF!","v":{"$error":"#REF!"}},{"$f":"計算結果!#REF!","v":{"$error":"#REF!"}},{"$f":"計算結果!#REF!","v":{"$error":"#REF!"}},{"$f":"計算結果!#REF!","v":{"$error":"#REF!"}},{"$f":"計算結果!#REF!","v":{"$error":"#REF!"}}]
[{"$f":"入力シート!A541","v":0},{"$f":"入力シート!G541","v":0},{"$f":"入力シート!H541","v":0},{"$f":"IF(入力シート!$J541<>\"\",入力シート!$J541,IF(入力シート!$L541<>\"\",入力シート!$L541,\"‐\"))","v":"‐"},{"$f":"IF(入力シート!$K541<>\"\",入力シート!$K541,IF(入力シート!$M541<>\"\",入力シート!$M541,入力シート!$N541))","v":0},{"$f":"入力シート!I541","v":0},{"$f":"入力シート!O541","v":0},{"$f":"IF(入力シート!P541=\"×\",\"P\",\"PN\")","v":"PN"},{"$f":"計算結果!#REF!","v":{"$error":"#REF!"}},{"$f":"計算結果!#REF!","v":{"$error":"#REF!"}},{"$f":"計算結果!#REF!","v":{"$error":"#REF!"}},{"$f":"計算結果!#REF!","v":{"$error":"#REF!"}},{"$f":"計算結果!#REF!","v":{"$error":"#REF!"}},{"$f":"計算結果!#REF!","v":{"$error":"#REF!"}},{"$f":"計算結果!#REF!","v":{"$error":"#REF!"}},{"$f":"計算結果!#REF!","v":{"$error":"#REF!"}},{"$f":"計算結果!#REF!","v":{"$error":"#REF!"}},{"$f":"計算結果!#REF!","v":{"$error":"#REF!"}}]
[{"$f":"入力シート!A542","v":0},{"$f":"入力シート!G542","v":0},{"$f":"入力シート!H542","v":0},{"$f":"IF(入力シート!$J542<>\"\",入力シート!$J542,IF(入力シート!$L542<>\"\",入力シート!$L542,\"‐\"))","v":"‐"},{"$f":"IF(入力シート!$K542<>\"\",入力シート!$K542,IF(入力シート!$M542<>\"\",入力シート!$M542,入力シート!$N542))","v":0},{"$f":"入力シート!I542","v":0},{"$f":"入力シート!O542","v":0},{"$f":"IF(入力シート!P542=\"×\",\"P\",\"PN\")","v":"PN"},{"$f":"計算結果!#REF!","v":{"$error":"#REF!"}},{"$f":"計算結果!#REF!","v":{"$error":"#REF!"}},{"$f":"計算結果!#REF!","v":{"$error":"#REF!"}},{"$f":"計算結果!#REF!","v":{"$error":"#REF!"}},{"$f":"計算結果!#REF!","v":{"$error":"#REF!"}},{"$f":"計算結果!#REF!","v":{"$error":"#REF!"}},{"$f":"計算結果!#REF!","v":{"$error":"#REF!"}},{"$f":"計算結果!#REF!","v":{"$error":"#REF!"}},{"$f":"計算結果!#REF!","v":{"$error":"#REF!"}},{"$f":"計算結果!#REF!","v":{"$error":"#REF!"}}]
[{"$f":"入力シート!A543","v":0},{"$f":"入力シート!G543","v":0},{"$f":"入力シート!H543","v":0},{"$f":"IF(入力シート!$J543<>\"\",入力シート!$J543,IF(入力シート!$L543<>\"\",入力シート!$L543,\"‐\"))","v":"‐"},{"$f":"IF(入力シート!$K543<>\"\",入力シート!$K543,IF(入力シート!$M543<>\"\",入力シート!$M543,入力シート!$N543))","v":0},{"$f":"入力シート!I543","v":0},{"$f":"入力シート!O543","v":0},{"$f":"IF(入力シート!P543=\"×\",\"P\",\"PN\")","v":"PN"},{"$f":"計算結果!#REF!","v":{"$error":"#REF!"}},{"$f":"計算結果!#REF!","v":{"$error":"#REF!"}},{"$f":"計算結果!#REF!","v":{"$error":"#REF!"}},{"$f":"計算結果!#REF!","v":{"$error":"#REF!"}},{"$f":"計算結果!#REF!","v":{"$error":"#REF!"}},{"$f":"計算結果!#REF!","v":{"$error":"#REF!"}},{"$f":"計算結果!#REF!","v":{"$error":"#REF!"}},{"$f":"計算結果!#REF!","v":{"$error":"#REF!"}},{"$f":"計算結果!#REF!","v":{"$error":"#REF!"}},{"$f":"計算結果!#REF!","v":{"$error":"#REF!"}}]
[{"$f":"入力シート!A544","v":0},{"$f":"入力シート!G544","v":0},{"$f":"入力シート!H544","v":0},{"$f":"IF(入力シート!$J544<>\"\",入力シート!$J544,IF(入力シート!$L544<>\"\",入力シート!$L544,\"‐\"))","v":"‐"},{"$f":"IF(入力シート!$K544<>\"\",入力シート!$K544,IF(入力シート!$M544<>\"\",入力シート!$M544,入力シート!$N544))","v":0},{"$f":"入力シート!I544","v":0},{"$f":"入力シート!O544","v":0},{"$f":"IF(入力シート!P544=\"×\",\"P\",\"PN\")","v":"PN"},{"$f":"計算結果!#REF!","v":{"$error":"#REF!"}},{"$f":"計算結果!#REF!","v":{"$error":"#REF!"}},{"$f":"計算結果!#REF!","v":{"$error":"#REF!"}},{"$f":"計算結果!#REF!","v":{"$error":"#REF!"}},{"$f":"計算結果!#REF!","v":{"$error":"#REF!"}},{"$f":"計算結果!#REF!","v":{"$error":"#REF!"}},{"$f":"計算結果!#REF!","v":{"$error":"#REF!"}},{"$f":"計算結果!#REF!","v":{"$error":"#REF!"}},{"$f":"計算結果!#REF!","v":{"$error":"#REF!"}},{"$f":"計算結果!#REF!","v":{"$error":"#REF!"}}]
[{"$f":"入力シート!A545","v":0},{"$f":"入力シート!G545","v":0},{"$f":"入力シート!H545","v":0},{"$f":"IF(入力シート!$J545<>\"\",入力シート!$J545,IF(入力シート!$L545<>\"\",入力シート!$L545,\"‐\"))","v":"‐"},{"$f":"IF(入力シート!$K545<>\"\",入力シート!$K545,IF(入力シート!$M545<>\"\",入力シート!$M545,入力シート!$N545))","v":0},{"$f":"入力シート!I545","v":0},{"$f":"入力シート!O545","v":0},{"$f":"IF(入力シート!P545=\"×\",\"P\",\"PN\")","v":"PN"},{"$f":"計算結果!#REF!","v":{"$error":"#REF!"}},{"$f":"計算結果!#REF!","v":{"$error":"#REF!"}},{"$f":"計算結果!#REF!","v":{"$error":"#REF!"}},{"$f":"計算結果!#REF!","v":{"$error":"#REF!"}},{"$f":"計算結果!#REF!","v":{"$error":"#REF!"}},{"$f":"計算結果!#REF!","v":{"$error":"#REF!"}},{"$f":"計算結果!#REF!","v":{"$error":"#REF!"}},{"$f":"計算結果!#REF!","v":{"$error":"#REF!"}},{"$f":"計算結果!#REF!","v":{"$error":"#REF!"}},{"$f":"計算結果!#REF!","v":{"$error":"#REF!"}}]
[{"$f":"入力シート!A546","v":0},{"$f":"入力シート!G546","v":0},{"$f":"入力シート!H546","v":0},{"$f":"IF(入力シート!$J546<>\"\",入力シート!$J546,IF(入力シート!$L546<>\"\",入力シート!$L546,\"‐\"))","v":"‐"},{"$f":"IF(入力シート!$K546<>\"\",入力シート!$K546,IF(入力シート!$M546<>\"\",入力シート!$M546,入力シート!$N546))","v":0},{"$f":"入力シート!I546","v":0},{"$f":"入力シート!O546","v":0},{"$f":"IF(入力シート!P546=\"×\",\"P\",\"PN\")","v":"PN"},{"$f":"計算結果!#REF!","v":{"$error":"#REF!"}},{"$f":"計算結果!#REF!","v":{"$error":"#REF!"}},{"$f":"計算結果!#REF!","v":{"$error":"#REF!"}},{"$f":"計算結果!#REF!","v":{"$error":"#REF!"}},{"$f":"計算結果!#REF!","v":{"$error":"#REF!"}},{"$f":"計算結果!#REF!","v":{"$error":"#REF!"}},{"$f":"計算結果!#REF!","v":{"$error":"#REF!"}},{"$f":"計算結果!#REF!","v":{"$error":"#REF!"}},{"$f":"計算結果!#REF!","v":{"$error":"#REF!"}},{"$f":"計算結果!#REF!","v":{"$error":"#REF!"}}]
[{"$f":"入力シート!A547","v":0},{"$f":"入力シート!G547","v":0},{"$f":"入力シート!H547","v":0},{"$f":"IF(入力シート!$J547<>\"\",入力シート!$J547,IF(入力シート!$L547<>\"\",入力シート!$L547,\"‐\"))","v":"‐"},{"$f":"IF(入力シート!$K547<>\"\",入力シート!$K547,IF(入力シート!$M547<>\"\",入力シート!$M547,入力シート!$N547))","v":0},{"$f":"入力シート!I547","v":0},{"$f":"入力シート!O547","v":0},{"$f":"IF(入力シート!P547=\"×\",\"P\",\"PN\")","v":"PN"},{"$f":"計算結果!#REF!","v":{"$error":"#REF!"}},{"$f":"計算結果!#REF!","v":{"$error":"#REF!"}},{"$f":"計算結果!#REF!","v":{"$error":"#REF!"}},{"$f":"計算結果!#REF!","v":{"$error":"#REF!"}},{"$f":"計算結果!#REF!","v":{"$error":"#REF!"}},{"$f":"計算結果!#REF!","v":{"$error":"#REF!"}},{"$f":"計算結果!#REF!","v":{"$error":"#REF!"}},{"$f":"計算結果!#REF!","v":{"$error":"#REF!"}},{"$f":"計算結果!#REF!","v":{"$error":"#REF!"}},{"$f":"計算結果!#REF!","v":{"$error":"#REF!"}}]
[{"$f":"入力シート!A548","v":0},{"$f":"入力シート!G548","v":0},{"$f":"入力シート!H548","v":0},{"$f":"IF(入力シート!$J548<>\"\",入力シート!$J548,IF(入力シート!$L548<>\"\",入力シート!$L548,\"‐\"))","v":"‐"},{"$f":"IF(入力シート!$K548<>\"\",入力シート!$K548,IF(入力シート!$M548<>\"\",入力シート!$M548,入力シート!$N548))","v":0},{"$f":"入力シート!I548","v":0},{"$f":"入力シート!O548","v":0},{"$f":"IF(入力シート!P548=\"×\",\"P\",\"PN\")","v":"PN"},{"$f":"計算結果!#REF!","v":{"$error":"#REF!"}},{"$f":"計算結果!#REF!","v":{"$error":"#REF!"}},{"$f":"計算結果!#REF!","v":{"$error":"#REF!"}},{"$f":"計算結果!#REF!","v":{"$error":"#REF!"}},{"$f":"計算結果!#REF!","v":{"$error":"#REF!"}},{"$f":"計算結果!#REF!","v":{"$error":"#REF!"}},{"$f":"計算結果!#REF!","v":{"$error":"#REF!"}},{"$f":"計算結果!#REF!","v":{"$error":"#REF!"}},{"$f":"計算結果!#REF!","v":{"$error":"#REF!"}},{"$f":"計算結果!#REF!","v":{"$error":"#REF!"}}]
[{"$f":"入力シート!A549","v":0},{"$f":"入力シート!G549","v":0},{"$f":"入力シート!H549","v":0},{"$f":"IF(入力シート!$J549<>\"\",入力シート!$J549,IF(入力シート!$L549<>\"\",入力シート!$L549,\"‐\"))","v":"‐"},{"$f":"IF(入力シート!$K549<>\"\",入力シート!$K549,IF(入力シート!$M549<>\"\",入力シート!$M549,入力シート!$N549))","v":0},{"$f":"入力シート!I549","v":0},{"$f":"入力シート!O549","v":0},{"$f":"IF(入力シート!P549=\"×\",\"P\",\"PN\")","v":"PN"},{"$f":"計算結果!#REF!","v":{"$error":"#REF!"}},{"$f":"計算結果!#REF!","v":{"$error":"#REF!"}},{"$f":"計算結果!#REF!","v":{"$error":"#REF!"}},{"$f":"計算結果!#REF!","v":{"$error":"#REF!"}},{"$f":"計算結果!#REF!","v":{"$error":"#REF!"}},{"$f":"計算結果!#REF!","v":{"$error":"#REF!"}},{"$f":"計算結果!#REF!","v":{"$error":"#REF!"}},{"$f":"計算結果!#REF!","v":{"$error":"#REF!"}},{"$f":"計算結果!#REF!","v":{"$error":"#REF!"}},{"$f":"計算結果!#REF!","v":{"$error":"#REF!"}}]
[{"$f":"入力シート!A550","v":0},{"$f":"入力シート!G550","v":0},{"$f":"入力シート!H550","v":0},{"$f":"IF(入力シート!$J550<>\"\",入力シート!$J550,IF(入力シート!$L550<>\"\",入力シート!$L550,\"‐\"))","v":"‐"},{"$f":"IF(入力シート!$K550<>\"\",入力シート!$K550,IF(入力シート!$M550<>\"\",入力シート!$M550,入力シート!$N550))","v":0},{"$f":"入力シート!I550","v":0},{"$f":"入力シート!O550","v":0},{"$f":"IF(入力シート!P550=\"×\",\"P\",\"PN\")","v":"PN"},{"$f":"計算結果!#REF!","v":{"$error":"#REF!"}},{"$f":"計算結果!#REF!","v":{"$error":"#REF!"}},{"$f":"計算結果!#REF!","v":{"$error":"#REF!"}},{"$f":"計算結果!#REF!","v":{"$error":"#REF!"}},{"$f":"計算結果!#REF!","v":{"$error":"#REF!"}},{"$f":"計算結果!#REF!","v":{"$error":"#REF!"}},{"$f":"計算結果!#REF!","v":{"$error":"#REF!"}},{"$f":"計算結果!#REF!","v":{"$error":"#REF!"}},{"$f":"計算結果!#REF!","v":{"$error":"#REF!"}},{"$f":"計算結果!#REF!","v":{"$error":"#REF!"}}]
[{"$f":"入力シート!A551","v":0},{"$f":"入力シート!G551","v":0},{"$f":"入力シート!H551","v":0},{"$f":"IF(入力シート!$J551<>\"\",入力シート!$J551,IF(入力シート!$L551<>\"\",入力シート!$L551,\"‐\"))","v":"‐"},{"$f":"IF(入力シート!$K551<>\"\",入力シート!$K551,IF(入力シート!$M551<>\"\",入力シート!$M551,入力シート!$N551))","v":0},{"$f":"入力シート!I551","v":0},{"$f":"入力シート!O551","v":0},{"$f":"IF(入力シート!P551=\"×\",\"P\",\"PN\")","v":"PN"},{"$f":"計算結果!#REF!","v":{"$error":"#REF!"}},{"$f":"計算結果!#REF!","v":{"$error":"#REF!"}},{"$f":"計算結果!#REF!","v":{"$error":"#REF!"}},{"$f":"計算結果!#REF!","v":{"$error":"#REF!"}},{"$f":"計算結果!#REF!","v":{"$error":"#REF!"}},{"$f":"計算結果!#REF!","v":{"$error":"#REF!"}},{"$f":"計算結果!#REF!","v":{"$error":"#REF!"}},{"$f":"計算結果!#REF!","v":{"$error":"#REF!"}},{"$f":"計算結果!#REF!","v":{"$error":"#REF!"}},{"$f":"計算結果!#REF!","v":{"$error":"#REF!"}}]
[{"$f":"入力シート!A552","v":0},{"$f":"入力シート!G552","v":0},{"$f":"入力シート!H552","v":0},{"$f":"IF(入力シート!$J552<>\"\",入力シート!$J552,IF(入力シート!$L552<>\"\",入力シート!$L552,\"‐\"))","v":"‐"},{"$f":"IF(入力シート!$K552<>\"\",入力シート!$K552,IF(入力シート!$M552<>\"\",入力シート!$M552,入力シート!$N552))","v":0},{"$f":"入力シート!I552","v":0},{"$f":"入力シート!O552","v":0},{"$f":"IF(入力シート!P552=\"×\",\"P\",\"PN\")","v":"PN"},{"$f":"計算結果!#REF!","v":{"$error":"#REF!"}},{"$f":"計算結果!#REF!","v":{"$error":"#REF!"}},{"$f":"計算結果!#REF!","v":{"$error":"#REF!"}},{"$f":"計算結果!#REF!","v":{"$error":"#REF!"}},{"$f":"計算結果!#REF!","v":{"$error":"#REF!"}},{"$f":"計算結果!#REF!","v":{"$error":"#REF!"}},{"$f":"計算結果!#REF!","v":{"$error":"#REF!"}},{"$f":"計算結果!#REF!","v":{"$error":"#REF!"}},{"$f":"計算結果!#REF!","v":{"$error":"#REF!"}},{"$f":"計算結果!#REF!","v":{"$error":"#REF!"}}]
[{"$f":"入力シート!A553","v":0},{"$f":"入力シート!G553","v":0},{"$f":"入力シート!H553","v":0},{"$f":"IF(入力シート!$J553<>\"\",入力シート!$J553,IF(入力シート!$L553<>\"\",入力シート!$L553,\"‐\"))","v":"‐"},{"$f":"IF(入力シート!$K553<>\"\",入力シート!$K553,IF(入力シート!$M553<>\"\",入力シート!$M553,入力シート!$N553))","v":0},{"$f":"入力シート!I553","v":0},{"$f":"入力シート!O553","v":0},{"$f":"IF(入力シート!P553=\"×\",\"P\",\"PN\")","v":"PN"},{"$f":"計算結果!#REF!","v":{"$error":"#REF!"}},{"$f":"計算結果!#REF!","v":{"$error":"#REF!"}},{"$f":"計算結果!#REF!","v":{"$error":"#REF!"}},{"$f":"計算結果!#REF!","v":{"$error":"#REF!"}},{"$f":"計算結果!#REF!","v":{"$error":"#REF!"}},{"$f":"計算結果!#REF!","v":{"$error":"#REF!"}},{"$f":"計算結果!#REF!","v":{"$error":"#REF!"}},{"$f":"計算結果!#REF!","v":{"$error":"#REF!"}},{"$f":"計算結果!#REF!","v":{"$error":"#REF!"}},{"$f":"計算結果!#REF!","v":{"$error":"#REF!"}}]
[{"$f":"入力シート!A554","v":0},{"$f":"入力シート!G554","v":0},{"$f":"入力シート!H554","v":0},{"$f":"IF(入力シート!$J554<>\"\",入力シート!$J554,IF(入力シート!$L554<>\"\",入力シート!$L554,\"‐\"))","v":"‐"},{"$f":"IF(入力シート!$K554<>\"\",入力シート!$K554,IF(入力シート!$M554<>\"\",入力シート!$M554,入力シート!$N554))","v":0},{"$f":"入力シート!I554","v":0},{"$f":"入力シート!O554","v":0},{"$f":"IF(入力シート!P554=\"×\",\"P\",\"PN\")","v":"PN"},{"$f":"計算結果!#REF!","v":{"$error":"#REF!"}},{"$f":"計算結果!#REF!","v":{"$error":"#REF!"}},{"$f":"計算結果!#REF!","v":{"$error":"#REF!"}},{"$f":"計算結果!#REF!","v":{"$error":"#REF!"}},{"$f":"計算結果!#REF!","v":{"$error":"#REF!"}},{"$f":"計算結果!#REF!","v":{"$error":"#REF!"}},{"$f":"計算結果!#REF!","v":{"$error":"#REF!"}},{"$f":"計算結果!#REF!","v":{"$error":"#REF!"}},{"$f":"計算結果!#REF!","v":{"$error":"#REF!"}},{"$f":"計算結果!#REF!","v":{"$error":"#REF!"}}]
[{"$f":"入力シート!A555","v":0},{"$f":"入力シート!G555","v":0},{"$f":"入力シート!H555","v":0},{"$f":"IF(入力シート!$J555<>\"\",入力シート!$J555,IF(入力シート!$L555<>\"\",入力シート!$L555,\"‐\"))","v":"‐"},{"$f":"IF(入力シート!$K555<>\"\",入力シート!$K555,IF(入力シート!$M555<>\"\",入力シート!$M555,入力シート!$N555))","v":0},{"$f":"入力シート!I555","v":0},{"$f":"入力シート!O555","v":0},{"$f":"IF(入力シート!P555=\"×\",\"P\",\"PN\")","v":"PN"},{"$f":"計算結果!#REF!","v":{"$error":"#REF!"}},{"$f":"計算結果!#REF!","v":{"$error":"#REF!"}},{"$f":"計算結果!#REF!","v":{"$error":"#REF!"}},{"$f":"計算結果!#REF!","v":{"$error":"#REF!"}},{"$f":"計算結果!#REF!","v":{"$error":"#REF!"}},{"$f":"計算結果!#REF!","v":{"$error":"#REF!"}},{"$f":"計算結果!#REF!","v":{"$error":"#REF!"}},{"$f":"計算結果!#REF!","v":{"$error":"#REF!"}},{"$f":"計算結果!#REF!","v":{"$error":"#REF!"}},{"$f":"計算結果!#REF!","v":{"$error":"#REF!"}}]
[{"$f":"入力シート!A556","v":0},{"$f":"入力シート!G556","v":0},{"$f":"入力シート!H556","v":0},{"$f":"IF(入力シート!$J556<>\"\",入力シート!$J556,IF(入力シート!$L556<>\"\",入力シート!$L556,\"‐\"))","v":"‐"},{"$f":"IF(入力シート!$K556<>\"\",入力シート!$K556,IF(入力シート!$M556<>\"\",入力シート!$M556,入力シート!$N556))","v":0},{"$f":"入力シート!I556","v":0},{"$f":"入力シート!O556","v":0},{"$f":"IF(入力シート!P556=\"×\",\"P\",\"PN\")","v":"PN"},{"$f":"計算結果!#REF!","v":{"$error":"#REF!"}},{"$f":"計算結果!#REF!","v":{"$error":"#REF!"}},{"$f":"計算結果!#REF!","v":{"$error":"#REF!"}},{"$f":"計算結果!#REF!","v":{"$error":"#REF!"}},{"$f":"計算結果!#REF!","v":{"$error":"#REF!"}},{"$f":"計算結果!#REF!","v":{"$error":"#REF!"}},{"$f":"計算結果!#REF!","v":{"$error":"#REF!"}},{"$f":"計算結果!#REF!","v":{"$error":"#REF!"}},{"$f":"計算結果!#REF!","v":{"$error":"#REF!"}},{"$f":"計算結果!#REF!","v":{"$error":"#REF!"}}]
[{"$f":"入力シート!A557","v":0},{"$f":"入力シート!G557","v":0},{"$f":"入力シート!H557","v":0},{"$f":"IF(入力シート!$J557<>\"\",入力シート!$J557,IF(入力シート!$L557<>\"\",入力シート!$L557,\"‐\"))","v":"‐"},{"$f":"IF(入力シート!$K557<>\"\",入力シート!$K557,IF(入力シート!$M557<>\"\",入力シート!$M557,入力シート!$N557))","v":0},{"$f":"入力シート!I557","v":0},{"$f":"入力シート!O557","v":0},{"$f":"IF(入力シート!P557=\"×\",\"P\",\"PN\")","v":"PN"},{"$f":"計算結果!#REF!","v":{"$error":"#REF!"}},{"$f":"計算結果!#REF!","v":{"$error":"#REF!"}},{"$f":"計算結果!#REF!","v":{"$error":"#REF!"}},{"$f":"計算結果!#REF!","v":{"$error":"#REF!"}},{"$f":"計算結果!#REF!","v":{"$error":"#REF!"}},{"$f":"計算結果!#REF!","v":{"$error":"#REF!"}},{"$f":"計算結果!#REF!","v":{"$error":"#REF!"}},{"$f":"計算結果!#REF!","v":{"$error":"#REF!"}},{"$f":"計算結果!#REF!","v":{"$error":"#REF!"}},{"$f":"計算結果!#REF!","v":{"$error":"#REF!"}}]
[{"$f":"入力シート!A558","v":0},{"$f":"入力シート!G558","v":0},{"$f":"入力シート!H558","v":0},{"$f":"IF(入力シート!$J558<>\"\",入力シート!$J558,IF(入力シート!$L558<>\"\",入力シート!$L558,\"‐\"))","v":"‐"},{"$f":"IF(入力シート!$K558<>\"\",入力シート!$K558,IF(入力シート!$M558<>\"\",入力シート!$M558,入力シート!$N558))","v":0},{"$f":"入力シート!I558","v":0},{"$f":"入力シート!O558","v":0},{"$f":"IF(入力シート!P558=\"×\",\"P\",\"PN\")","v":"PN"},{"$f":"計算結果!#REF!","v":{"$error":"#REF!"}},{"$f":"計算結果!#REF!","v":{"$error":"#REF!"}},{"$f":"計算結果!#REF!","v":{"$error":"#REF!"}},{"$f":"計算結果!#REF!","v":{"$error":"#REF!"}},{"$f":"計算結果!#REF!","v":{"$error":"#REF!"}},{"$f":"計算結果!#REF!","v":{"$error":"#REF!"}},{"$f":"計算結果!#REF!","v":{"$error":"#REF!"}},{"$f":"計算結果!#REF!","v":{"$error":"#REF!"}},{"$f":"計算結果!#REF!","v":{"$error":"#REF!"}},{"$f":"計算結果!#REF!","v":{"$error":"#REF!"}}]
[{"$f":"入力シート!A559","v":0},{"$f":"入力シート!G559","v":0},{"$f":"入力シート!H559","v":0},{"$f":"IF(入力シート!$J559<>\"\",入力シート!$J559,IF(入力シート!$L559<>\"\",入力シート!$L559,\"‐\"))","v":"‐"},{"$f":"IF(入力シート!$K559<>\"\",入力シート!$K559,IF(入力シート!$M559<>\"\",入力シート!$M559,入力シート!$N559))","v":0},{"$f":"入力シート!I559","v":0},{"$f":"入力シート!O559","v":0},{"$f":"IF(入力シート!P559=\"×\",\"P\",\"PN\")","v":"PN"},{"$f":"計算結果!#REF!","v":{"$error":"#REF!"}},{"$f":"計算結果!#REF!","v":{"$error":"#REF!"}},{"$f":"計算結果!#REF!","v":{"$error":"#REF!"}},{"$f":"計算結果!#REF!","v":{"$error":"#REF!"}},{"$f":"計算結果!#REF!","v":{"$error":"#REF!"}},{"$f":"計算結果!#REF!","v":{"$error":"#REF!"}},{"$f":"計算結果!#REF!","v":{"$error":"#REF!"}},{"$f":"計算結果!#REF!","v":{"$error":"#REF!"}},{"$f":"計算結果!#REF!","v":{"$error":"#REF!"}},{"$f":"計算結果!#REF!","v":{"$error":"#REF!"}}]
[{"$f":"入力シート!A560","v":0},{"$f":"入力シート!G560","v":0},{"$f":"入力シート!H560","v":0},{"$f":"IF(入力シート!$J560<>\"\",入力シート!$J560,IF(入力シート!$L560<>\"\",入力シート!$L560,\"‐\"))","v":"‐"},{"$f":"IF(入力シート!$K560<>\"\",入力シート!$K560,IF(入力シート!$M560<>\"\",入力シート!$M560,入力シート!$N560))","v":0},{"$f":"入力シート!I560","v":0},{"$f":"入力シート!O560","v":0},{"$f":"IF(入力シート!P560=\"×\",\"P\",\"PN\")","v":"PN"},{"$f":"計算結果!#REF!","v":{"$error":"#REF!"}},{"$f":"計算結果!#REF!","v":{"$error":"#REF!"}},{"$f":"計算結果!#REF!","v":{"$error":"#REF!"}},{"$f":"計算結果!#REF!","v":{"$error":"#REF!"}},{"$f":"計算結果!#REF!","v":{"$error":"#REF!"}},{"$f":"計算結果!#REF!","v":{"$error":"#REF!"}},{"$f":"計算結果!#REF!","v":{"$error":"#REF!"}},{"$f":"計算結果!#REF!","v":{"$error":"#REF!"}},{"$f":"計算結果!#REF!","v":{"$error":"#REF!"}},{"$f":"計算結果!#REF!","v":{"$error":"#REF!"}}]
[{"$f":"入力シート!A561","v":0},{"$f":"入力シート!G561","v":0},{"$f":"入力シート!H561","v":0},{"$f":"IF(入力シート!$J561<>\"\",入力シート!$J561,IF(入力シート!$L561<>\"\",入力シート!$L561,\"‐\"))","v":"‐"},{"$f":"IF(入力シート!$K561<>\"\",入力シート!$K561,IF(入力シート!$M561<>\"\",入力シート!$M561,入力シート!$N561))","v":0},{"$f":"入力シート!I561","v":0},{"$f":"入力シート!O561","v":0},{"$f":"IF(入力シート!P561=\"×\",\"P\",\"PN\")","v":"PN"},{"$f":"計算結果!#REF!","v":{"$error":"#REF!"}},{"$f":"計算結果!#REF!","v":{"$error":"#REF!"}},{"$f":"計算結果!#REF!","v":{"$error":"#REF!"}},{"$f":"計算結果!#REF!","v":{"$error":"#REF!"}},{"$f":"計算結果!#REF!","v":{"$error":"#REF!"}},{"$f":"計算結果!#REF!","v":{"$error":"#REF!"}},{"$f":"計算結果!#REF!","v":{"$error":"#REF!"}},{"$f":"計算結果!#REF!","v":{"$error":"#REF!"}},{"$f":"計算結果!#REF!","v":{"$error":"#REF!"}},{"$f":"計算結果!#REF!","v":{"$error":"#REF!"}}]
[{"$f":"入力シート!A562","v":0},{"$f":"入力シート!G562","v":0},{"$f":"入力シート!H562","v":0},{"$f":"IF(入力シート!$J562<>\"\",入力シート!$J562,IF(入力シート!$L562<>\"\",入力シート!$L562,\"‐\"))","v":"‐"},{"$f":"IF(入力シート!$K562<>\"\",入力シート!$K562,IF(入力シート!$M562<>\"\",入力シート!$M562,入力シート!$N562))","v":0},{"$f":"入力シート!I562","v":0},{"$f":"入力シート!O562","v":0},{"$f":"IF(入力シート!P562=\"×\",\"P\",\"PN\")","v":"PN"},{"$f":"計算結果!#REF!","v":{"$error":"#REF!"}},{"$f":"計算結果!#REF!","v":{"$error":"#REF!"}},{"$f":"計算結果!#REF!","v":{"$error":"#REF!"}},{"$f":"計算結果!#REF!","v":{"$error":"#REF!"}},{"$f":"計算結果!#REF!","v":{"$error":"#REF!"}},{"$f":"計算結果!#REF!","v":{"$error":"#REF!"}},{"$f":"計算結果!#REF!","v":{"$error":"#REF!"}},{"$f":"計算結果!#REF!","v":{"$error":"#REF!"}},{"$f":"計算結果!#REF!","v":{"$error":"#REF!"}},{"$f":"計算結果!#REF!","v":{"$error":"#REF!"}}]
[{"$f":"入力シート!A563","v":0},{"$f":"入力シート!G563","v":0},{"$f":"入力シート!H563","v":0},{"$f":"IF(入力シート!$J563<>\"\",入力シート!$J563,IF(入力シート!$L563<>\"\",入力シート!$L563,\"‐\"))","v":"‐"},{"$f":"IF(入力シート!$K563<>\"\",入力シート!$K563,IF(入力シート!$M563<>\"\",入力シート!$M563,入力シート!$N563))","v":0},{"$f":"入力シート!I563","v":0},{"$f":"入力シート!O563","v":0},{"$f":"IF(入力シート!P563=\"×\",\"P\",\"PN\")","v":"PN"},{"$f":"計算結果!#REF!","v":{"$error":"#REF!"}},{"$f":"計算結果!#REF!","v":{"$error":"#REF!"}},{"$f":"計算結果!#REF!","v":{"$error":"#REF!"}},{"$f":"計算結果!#REF!","v":{"$error":"#REF!"}},{"$f":"計算結果!#REF!","v":{"$error":"#REF!"}},{"$f":"計算結果!#REF!","v":{"$error":"#REF!"}},{"$f":"計算結果!#REF!","v":{"$error":"#REF!"}},{"$f":"計算結果!#REF!","v":{"$error":"#REF!"}},{"$f":"計算結果!#REF!","v":{"$error":"#REF!"}},{"$f":"計算結果!#REF!","v":{"$error":"#REF!"}}]
[{"$f":"入力シート!A564","v":0},{"$f":"入力シート!G564","v":0},{"$f":"入力シート!H564","v":0},{"$f":"IF(入力シート!$J564<>\"\",入力シート!$J564,IF(入力シート!$L564<>\"\",入力シート!$L564,\"‐\"))","v":"‐"},{"$f":"IF(入力シート!$K564<>\"\",入力シート!$K564,IF(入力シート!$M564<>\"\",入力シート!$M564,入力シート!$N564))","v":0},{"$f":"入力シート!I564","v":0},{"$f":"入力シート!O564","v":0},{"$f":"IF(入力シート!P564=\"×\",\"P\",\"PN\")","v":"PN"},{"$f":"計算結果!#REF!","v":{"$error":"#REF!"}},{"$f":"計算結果!#REF!","v":{"$error":"#REF!"}},{"$f":"計算結果!#REF!","v":{"$error":"#REF!"}},{"$f":"計算結果!#REF!","v":{"$error":"#REF!"}},{"$f":"計算結果!#REF!","v":{"$error":"#REF!"}},{"$f":"計算結果!#REF!","v":{"$error":"#REF!"}},{"$f":"計算結果!#REF!","v":{"$error":"#REF!"}},{"$f":"計算結果!#REF!","v":{"$error":"#REF!"}},{"$f":"計算結果!#REF!","v":{"$error":"#REF!"}},{"$f":"計算結果!#REF!","v":{"$error":"#REF!"}}]
[{"$f":"入力シート!A565","v":0},{"$f":"入力シート!G565","v":0},{"$f":"入力シート!H565","v":0},{"$f":"IF(入力シート!$J565<>\"\",入力シート!$J565,IF(入力シート!$L565<>\"\",入力シート!$L565,\"‐\"))","v":"‐"},{"$f":"IF(入力シート!$K565<>\"\",入力シート!$K565,IF(入力シート!$M565<>\"\",入力シート!$M565,入力シート!$N565))","v":0},{"$f":"入力シート!I565","v":0},{"$f":"入力シート!O565","v":0},{"$f":"IF(入力シート!P565=\"×\",\"P\",\"PN\")","v":"PN"},{"$f":"計算結果!#REF!","v":{"$error":"#REF!"}},{"$f":"計算結果!#REF!","v":{"$error":"#REF!"}},{"$f":"計算結果!#REF!","v":{"$error":"#REF!"}},{"$f":"計算結果!#REF!","v":{"$error":"#REF!"}},{"$f":"計算結果!#REF!","v":{"$error":"#REF!"}},{"$f":"計算結果!#REF!","v":{"$error":"#REF!"}},{"$f":"計算結果!#REF!","v":{"$error":"#REF!"}},{"$f":"計算結果!#REF!","v":{"$error":"#REF!"}},{"$f":"計算結果!#REF!","v":{"$error":"#REF!"}},{"$f":"計算結果!#REF!","v":{"$error":"#REF!"}}]
[{"$f":"入力シート!A566","v":0},{"$f":"入力シート!G566","v":0},{"$f":"入力シート!H566","v":0},{"$f":"IF(入力シート!$J566<>\"\",入力シート!$J566,IF(入力シート!$L566<>\"\",入力シート!$L566,\"‐\"))","v":"‐"},{"$f":"IF(入力シート!$K566<>\"\",入力シート!$K566,IF(入力シート!$M566<>\"\",入力シート!$M566,入力シート!$N566))","v":0},{"$f":"入力シート!I566","v":0},{"$f":"入力シート!O566","v":0},{"$f":"IF(入力シート!P566=\"×\",\"P\",\"PN\")","v":"PN"},{"$f":"計算結果!#REF!","v":{"$error":"#REF!"}},{"$f":"計算結果!#REF!","v":{"$error":"#REF!"}},{"$f":"計算結果!#REF!","v":{"$error":"#REF!"}},{"$f":"計算結果!#REF!","v":{"$error":"#REF!"}},{"$f":"計算結果!#REF!","v":{"$error":"#REF!"}},{"$f":"計算結果!#REF!","v":{"$error":"#REF!"}},{"$f":"計算結果!#REF!","v":{"$error":"#REF!"}},{"$f":"計算結果!#REF!","v":{"$error":"#REF!"}},{"$f":"計算結果!#REF!","v":{"$error":"#REF!"}},{"$f":"計算結果!#REF!","v":{"$error":"#REF!"}}]
[{"$f":"入力シート!A567","v":0},{"$f":"入力シート!G567","v":0},{"$f":"入力シート!H567","v":0},{"$f":"IF(入力シート!$J567<>\"\",入力シート!$J567,IF(入力シート!$L567<>\"\",入力シート!$L567,\"‐\"))","v":"‐"},{"$f":"IF(入力シート!$K567<>\"\",入力シート!$K567,IF(入力シート!$M567<>\"\",入力シート!$M567,入力シート!$N567))","v":0},{"$f":"入力シート!I567","v":0},{"$f":"入力シート!O567","v":0},{"$f":"IF(入力シート!P567=\"×\",\"P\",\"PN\")","v":"PN"},{"$f":"計算結果!#REF!","v":{"$error":"#REF!"}},{"$f":"計算結果!#REF!","v":{"$error":"#REF!"}},{"$f":"計算結果!#REF!","v":{"$error":"#REF!"}},{"$f":"計算結果!#REF!","v":{"$error":"#REF!"}},{"$f":"計算結果!#REF!","v":{"$error":"#REF!"}},{"$f":"計算結果!#REF!","v":{"$error":"#REF!"}},{"$f":"計算結果!#REF!","v":{"$error":"#REF!"}},{"$f":"計算結果!#REF!","v":{"$error":"#REF!"}},{"$f":"計算結果!#REF!","v":{"$error":"#REF!"}},{"$f":"計算結果!#REF!","v":{"$error":"#REF!"}}]
[{"$f":"入力シート!A568","v":0},{"$f":"入力シート!G568","v":0},{"$f":"入力シート!H568","v":0},{"$f":"IF(入力シート!$J568<>\"\",入力シート!$J568,IF(入力シート!$L568<>\"\",入力シート!$L568,\"‐\"))","v":"‐"},{"$f":"IF(入力シート!$K568<>\"\",入力シート!$K568,IF(入力シート!$M568<>\"\",入力シート!$M568,入力シート!$N568))","v":0},{"$f":"入力シート!I568","v":0},{"$f":"入力シート!O568","v":0},{"$f":"IF(入力シート!P568=\"×\",\"P\",\"PN\")","v":"PN"},{"$f":"計算結果!#REF!","v":{"$error":"#REF!"}},{"$f":"計算結果!#REF!","v":{"$error":"#REF!"}},{"$f":"計算結果!#REF!","v":{"$error":"#REF!"}},{"$f":"計算結果!#REF!","v":{"$error":"#REF!"}},{"$f":"計算結果!#REF!","v":{"$error":"#REF!"}},{"$f":"計算結果!#REF!","v":{"$error":"#REF!"}},{"$f":"計算結果!#REF!","v":{"$error":"#REF!"}},{"$f":"計算結果!#REF!","v":{"$error":"#REF!"}},{"$f":"計算結果!#REF!","v":{"$error":"#REF!"}},{"$f":"計算結果!#REF!","v":{"$error":"#REF!"}}]
[{"$f":"入力シート!A569","v":0},{"$f":"入力シート!G569","v":0},{"$f":"入力シート!H569","v":0},{"$f":"IF(入力シート!$J569<>\"\",入力シート!$J569,IF(入力シート!$L569<>\"\",入力シート!$L569,\"‐\"))","v":"‐"},{"$f":"IF(入力シート!$K569<>\"\",入力シート!$K569,IF(入力シート!$M569<>\"\",入力シート!$M569,入力シート!$N569))","v":0},{"$f":"入力シート!I569","v":0},{"$f":"入力シート!O569","v":0},{"$f":"IF(入力シート!P569=\"×\",\"P\",\"PN\")","v":"PN"},{"$f":"計算結果!#REF!","v":{"$error":"#REF!"}},{"$f":"計算結果!#REF!","v":{"$error":"#REF!"}},{"$f":"計算結果!#REF!","v":{"$error":"#REF!"}},{"$f":"計算結果!#REF!","v":{"$error":"#REF!"}},{"$f":"計算結果!#REF!","v":{"$error":"#REF!"}},{"$f":"計算結果!#REF!","v":{"$error":"#REF!"}},{"$f":"計算結果!#REF!","v":{"$error":"#REF!"}},{"$f":"計算結果!#REF!","v":{"$error":"#REF!"}},{"$f":"計算結果!#REF!","v":{"$error":"#REF!"}},{"$f":"計算結果!#REF!","v":{"$error":"#REF!"}}]
[{"$f":"入力シート!A570","v":0},{"$f":"入力シート!G570","v":0},{"$f":"入力シート!H570","v":0},{"$f":"IF(入力シート!$J570<>\"\",入力シート!$J570,IF(入力シート!$L570<>\"\",入力シート!$L570,\"‐\"))","v":"‐"},{"$f":"IF(入力シート!$K570<>\"\",入力シート!$K570,IF(入力シート!$M570<>\"\",入力シート!$M570,入力シート!$N570))","v":0},{"$f":"入力シート!I570","v":0},{"$f":"入力シート!O570","v":0},{"$f":"IF(入力シート!P570=\"×\",\"P\",\"PN\")","v":"PN"},{"$f":"計算結果!#REF!","v":{"$error":"#REF!"}},{"$f":"計算結果!#REF!","v":{"$error":"#REF!"}},{"$f":"計算結果!#REF!","v":{"$error":"#REF!"}},{"$f":"計算結果!#REF!","v":{"$error":"#REF!"}},{"$f":"計算結果!#REF!","v":{"$error":"#REF!"}},{"$f":"計算結果!#REF!","v":{"$error":"#REF!"}},{"$f":"計算結果!#REF!","v":{"$error":"#REF!"}},{"$f":"計算結果!#REF!","v":{"$error":"#REF!"}},{"$f":"計算結果!#REF!","v":{"$error":"#REF!"}},{"$f":"計算結果!#REF!","v":{"$error":"#REF!"}}]
[{"$f":"入力シート!A571","v":0},{"$f":"入力シート!G571","v":0},{"$f":"入力シート!H571","v":0},{"$f":"IF(入力シート!$J571<>\"\",入力シート!$J571,IF(入力シート!$L571<>\"\",入力シート!$L571,\"‐\"))","v":"‐"},{"$f":"IF(入力シート!$K571<>\"\",入力シート!$K571,IF(入力シート!$M571<>\"\",入力シート!$M571,入力シート!$N571))","v":0},{"$f":"入力シート!I571","v":0},{"$f":"入力シート!O571","v":0},{"$f":"IF(入力シート!P571=\"×\",\"P\",\"PN\")","v":"PN"},{"$f":"計算結果!#REF!","v":{"$error":"#REF!"}},{"$f":"計算結果!#REF!","v":{"$error":"#REF!"}},{"$f":"計算結果!#REF!","v":{"$error":"#REF!"}},{"$f":"計算結果!#REF!","v":{"$error":"#REF!"}},{"$f":"計算結果!#REF!","v":{"$error":"#REF!"}},{"$f":"計算結果!#REF!","v":{"$error":"#REF!"}},{"$f":"計算結果!#REF!","v":{"$error":"#REF!"}},{"$f":"計算結果!#REF!","v":{"$error":"#REF!"}},{"$f":"計算結果!#REF!","v":{"$error":"#REF!"}},{"$f":"計算結果!#REF!","v":{"$error":"#REF!"}}]
[{"$f":"入力シート!A572","v":0},{"$f":"入力シート!G572","v":0},{"$f":"入力シート!H572","v":0},{"$f":"IF(入力シート!$J572<>\"\",入力シート!$J572,IF(入力シート!$L572<>\"\",入力シート!$L572,\"‐\"))","v":"‐"},{"$f":"IF(入力シート!$K572<>\"\",入力シート!$K572,IF(入力シート!$M572<>\"\",入力シート!$M572,入力シート!$N572))","v":0},{"$f":"入力シート!I572","v":0},{"$f":"入力シート!O572","v":0},{"$f":"IF(入力シート!P572=\"×\",\"P\",\"PN\")","v":"PN"},{"$f":"計算結果!#REF!","v":{"$error":"#REF!"}},{"$f":"計算結果!#REF!","v":{"$error":"#REF!"}},{"$f":"計算結果!#REF!","v":{"$error":"#REF!"}},{"$f":"計算結果!#REF!","v":{"$error":"#REF!"}},{"$f":"計算結果!#REF!","v":{"$error":"#REF!"}},{"$f":"計算結果!#REF!","v":{"$error":"#REF!"}},{"$f":"計算結果!#REF!","v":{"$error":"#REF!"}},{"$f":"計算結果!#REF!","v":{"$error":"#REF!"}},{"$f":"計算結果!#REF!","v":{"$error":"#REF!"}},{"$f":"計算結果!#REF!","v":{"$error":"#REF!"}}]
[{"$f":"入力シート!A573","v":0},{"$f":"入力シート!G573","v":0},{"$f":"入力シート!H573","v":0},{"$f":"IF(入力シート!$J573<>\"\",入力シート!$J573,IF(入力シート!$L573<>\"\",入力シート!$L573,\"‐\"))","v":"‐"},{"$f":"IF(入力シート!$K573<>\"\",入力シート!$K573,IF(入力シート!$M573<>\"\",入力シート!$M573,入力シート!$N573))","v":0},{"$f":"入力シート!I573","v":0},{"$f":"入力シート!O573","v":0},{"$f":"IF(入力シート!P573=\"×\",\"P\",\"PN\")","v":"PN"},{"$f":"計算結果!#REF!","v":{"$error":"#REF!"}},{"$f":"計算結果!#REF!","v":{"$error":"#REF!"}},{"$f":"計算結果!#REF!","v":{"$error":"#REF!"}},{"$f":"計算結果!#REF!","v":{"$error":"#REF!"}},{"$f":"計算結果!#REF!","v":{"$error":"#REF!"}},{"$f":"計算結果!#REF!","v":{"$error":"#REF!"}},{"$f":"計算結果!#REF!","v":{"$error":"#REF!"}},{"$f":"計算結果!#REF!","v":{"$error":"#REF!"}},{"$f":"計算結果!#REF!","v":{"$error":"#REF!"}},{"$f":"計算結果!#REF!","v":{"$error":"#REF!"}}]
[{"$f":"入力シート!A574","v":0},{"$f":"入力シート!G574","v":0},{"$f":"入力シート!H574","v":0},{"$f":"IF(入力シート!$J574<>\"\",入力シート!$J574,IF(入力シート!$L574<>\"\",入力シート!$L574,\"‐\"))","v":"‐"},{"$f":"IF(入力シート!$K574<>\"\",入力シート!$K574,IF(入力シート!$M574<>\"\",入力シート!$M574,入力シート!$N574))","v":0},{"$f":"入力シート!I574","v":0},{"$f":"入力シート!O574","v":0},{"$f":"IF(入力シート!P574=\"×\",\"P\",\"PN\")","v":"PN"},{"$f":"計算結果!#REF!","v":{"$error":"#REF!"}},{"$f":"計算結果!#REF!","v":{"$error":"#REF!"}},{"$f":"計算結果!#REF!","v":{"$error":"#REF!"}},{"$f":"計算結果!#REF!","v":{"$error":"#REF!"}},{"$f":"計算結果!#REF!","v":{"$error":"#REF!"}},{"$f":"計算結果!#REF!","v":{"$error":"#REF!"}},{"$f":"計算結果!#REF!","v":{"$error":"#REF!"}},{"$f":"計算結果!#REF!","v":{"$error":"#REF!"}},{"$f":"計算結果!#REF!","v":{"$error":"#REF!"}},{"$f":"計算結果!#REF!","v":{"$error":"#REF!"}}]
[{"$f":"入力シート!A575","v":0},{"$f":"入力シート!G575","v":0},{"$f":"入力シート!H575","v":0},{"$f":"IF(入力シート!$J575<>\"\",入力シート!$J575,IF(入力シート!$L575<>\"\",入力シート!$L575,\"‐\"))","v":"‐"},{"$f":"IF(入力シート!$K575<>\"\",入力シート!$K575,IF(入力シート!$M575<>\"\",入力シート!$M575,入力シート!$N575))","v":0},{"$f":"入力シート!I575","v":0},{"$f":"入力シート!O575","v":0},{"$f":"IF(入力シート!P575=\"×\",\"P\",\"PN\")","v":"PN"},{"$f":"計算結果!#REF!","v":{"$error":"#REF!"}},{"$f":"計算結果!#REF!","v":{"$error":"#REF!"}},{"$f":"計算結果!#REF!","v":{"$error":"#REF!"}},{"$f":"計算結果!#REF!","v":{"$error":"#REF!"}},{"$f":"計算結果!#REF!","v":{"$error":"#REF!"}},{"$f":"計算結果!#REF!","v":{"$error":"#REF!"}},{"$f":"計算結果!#REF!","v":{"$error":"#REF!"}},{"$f":"計算結果!#REF!","v":{"$error":"#REF!"}},{"$f":"計算結果!#REF!","v":{"$error":"#REF!"}},{"$f":"計算結果!#REF!","v":{"$error":"#REF!"}}]
[{"$f":"入力シート!A576","v":0},{"$f":"入力シート!G576","v":0},{"$f":"入力シート!H576","v":0},{"$f":"IF(入力シート!$J576<>\"\",入力シート!$J576,IF(入力シート!$L576<>\"\",入力シート!$L576,\"‐\"))","v":"‐"},{"$f":"IF(入力シート!$K576<>\"\",入力シート!$K576,IF(入力シート!$M576<>\"\",入力シート!$M576,入力シート!$N576))","v":0},{"$f":"入力シート!I576","v":0},{"$f":"入力シート!O576","v":0},{"$f":"IF(入力シート!P576=\"×\",\"P\",\"PN\")","v":"PN"},{"$f":"計算結果!#REF!","v":{"$error":"#REF!"}},{"$f":"計算結果!#REF!","v":{"$error":"#REF!"}},{"$f":"計算結果!#REF!","v":{"$error":"#REF!"}},{"$f":"計算結果!#REF!","v":{"$error":"#REF!"}},{"$f":"計算結果!#REF!","v":{"$error":"#REF!"}},{"$f":"計算結果!#REF!","v":{"$error":"#REF!"}},{"$f":"計算結果!#REF!","v":{"$error":"#REF!"}},{"$f":"計算結果!#REF!","v":{"$error":"#REF!"}},{"$f":"計算結果!#REF!","v":{"$error":"#REF!"}},{"$f":"計算結果!#REF!","v":{"$error":"#REF!"}}]
[{"$f":"入力シート!A577","v":0},{"$f":"入力シート!G577","v":0},{"$f":"入力シート!H577","v":0},{"$f":"IF(入力シート!$J577<>\"\",入力シート!$J577,IF(入力シート!$L577<>\"\",入力シート!$L577,\"‐\"))","v":"‐"},{"$f":"IF(入力シート!$K577<>\"\",入力シート!$K577,IF(入力シート!$M577<>\"\",入力シート!$M577,入力シート!$N577))","v":0},{"$f":"入力シート!I577","v":0},{"$f":"入力シート!O577","v":0},{"$f":"IF(入力シート!P577=\"×\",\"P\",\"PN\")","v":"PN"},{"$f":"計算結果!#REF!","v":{"$error":"#REF!"}},{"$f":"計算結果!#REF!","v":{"$error":"#REF!"}},{"$f":"計算結果!#REF!","v":{"$error":"#REF!"}},{"$f":"計算結果!#REF!","v":{"$error":"#REF!"}},{"$f":"計算結果!#REF!","v":{"$error":"#REF!"}},{"$f":"計算結果!#REF!","v":{"$error":"#REF!"}},{"$f":"計算結果!#REF!","v":{"$error":"#REF!"}},{"$f":"計算結果!#REF!","v":{"$error":"#REF!"}},{"$f":"計算結果!#REF!","v":{"$error":"#REF!"}},{"$f":"計算結果!#REF!","v":{"$error":"#REF!"}}]
[{"$f":"入力シート!A578","v":0},{"$f":"入力シート!G578","v":0},{"$f":"入力シート!H578","v":0},{"$f":"IF(入力シート!$J578<>\"\",入力シート!$J578,IF(入力シート!$L578<>\"\",入力シート!$L578,\"‐\"))","v":"‐"},{"$f":"IF(入力シート!$K578<>\"\",入力シート!$K578,IF(入力シート!$M578<>\"\",入力シート!$M578,入力シート!$N578))","v":0},{"$f":"入力シート!I578","v":0},{"$f":"入力シート!O578","v":0},{"$f":"IF(入力シート!P578=\"×\",\"P\",\"PN\")","v":"PN"},{"$f":"計算結果!#REF!","v":{"$error":"#REF!"}},{"$f":"計算結果!#REF!","v":{"$error":"#REF!"}},{"$f":"計算結果!#REF!","v":{"$error":"#REF!"}},{"$f":"計算結果!#REF!","v":{"$error":"#REF!"}},{"$f":"計算結果!#REF!","v":{"$error":"#REF!"}},{"$f":"計算結果!#REF!","v":{"$error":"#REF!"}},{"$f":"計算結果!#REF!","v":{"$error":"#REF!"}},{"$f":"計算結果!#REF!","v":{"$error":"#REF!"}},{"$f":"計算結果!#REF!","v":{"$error":"#REF!"}},{"$f":"計算結果!#REF!","v":{"$error":"#REF!"}}]
[{"$f":"入力シート!A579","v":0},{"$f":"入力シート!G579","v":0},{"$f":"入力シート!H579","v":0},{"$f":"IF(入力シート!$J579<>\"\",入力シート!$J579,IF(入力シート!$L579<>\"\",入力シート!$L579,\"‐\"))","v":"‐"},{"$f":"IF(入力シート!$K579<>\"\",入力シート!$K579,IF(入力シート!$M579<>\"\",入力シート!$M579,入力シート!$N579))","v":0},{"$f":"入力シート!I579","v":0},{"$f":"入力シート!O579","v":0},{"$f":"IF(入力シート!P579=\"×\",\"P\",\"PN\")","v":"PN"},{"$f":"計算結果!#REF!","v":{"$error":"#REF!"}},{"$f":"計算結果!#REF!","v":{"$error":"#REF!"}},{"$f":"計算結果!#REF!","v":{"$error":"#REF!"}},{"$f":"計算結果!#REF!","v":{"$error":"#REF!"}},{"$f":"計算結果!#REF!","v":{"$error":"#REF!"}},{"$f":"計算結果!#REF!","v":{"$error":"#REF!"}},{"$f":"計算結果!#REF!","v":{"$error":"#REF!"}},{"$f":"計算結果!#REF!","v":{"$error":"#REF!"}},{"$f":"計算結果!#REF!","v":{"$error":"#REF!"}},{"$f":"計算結果!#REF!","v":{"$error":"#REF!"}}]
[{"$f":"入力シート!A580","v":0},{"$f":"入力シート!G580","v":0},{"$f":"入力シート!H580","v":0},{"$f":"IF(入力シート!$J580<>\"\",入力シート!$J580,IF(入力シート!$L580<>\"\",入力シート!$L580,\"‐\"))","v":"‐"},{"$f":"IF(入力シート!$K580<>\"\",入力シート!$K580,IF(入力シート!$M580<>\"\",入力シート!$M580,入力シート!$N580))","v":0},{"$f":"入力シート!I580","v":0},{"$f":"入力シート!O580","v":0},{"$f":"IF(入力シート!P580=\"×\",\"P\",\"PN\")","v":"PN"},{"$f":"計算結果!#REF!","v":{"$error":"#REF!"}},{"$f":"計算結果!#REF!","v":{"$error":"#REF!"}},{"$f":"計算結果!#REF!","v":{"$error":"#REF!"}},{"$f":"計算結果!#REF!","v":{"$error":"#REF!"}},{"$f":"計算結果!#REF!","v":{"$error":"#REF!"}},{"$f":"計算結果!#REF!","v":{"$error":"#REF!"}},{"$f":"計算結果!#REF!","v":{"$error":"#REF!"}},{"$f":"計算結果!#REF!","v":{"$error":"#REF!"}},{"$f":"計算結果!#REF!","v":{"$error":"#REF!"}},{"$f":"計算結果!#REF!","v":{"$error":"#REF!"}}]
[{"$f":"入力シート!A581","v":0},{"$f":"入力シート!G581","v":0},{"$f":"入力シート!H581","v":0},{"$f":"IF(入力シート!$J581<>\"\",入力シート!$J581,IF(入力シート!$L581<>\"\",入力シート!$L581,\"‐\"))","v":"‐"},{"$f":"IF(入力シート!$K581<>\"\",入力シート!$K581,IF(入力シート!$M581<>\"\",入力シート!$M581,入力シート!$N581))","v":0},{"$f":"入力シート!I581","v":0},{"$f":"入力シート!O581","v":0},{"$f":"IF(入力シート!P581=\"×\",\"P\",\"PN\")","v":"PN"},{"$f":"計算結果!#REF!","v":{"$error":"#REF!"}},{"$f":"計算結果!#REF!","v":{"$error":"#REF!"}},{"$f":"計算結果!#REF!","v":{"$error":"#REF!"}},{"$f":"計算結果!#REF!","v":{"$error":"#REF!"}},{"$f":"計算結果!#REF!","v":{"$error":"#REF!"}},{"$f":"計算結果!#REF!","v":{"$error":"#REF!"}},{"$f":"計算結果!#REF!","v":{"$error":"#REF!"}},{"$f":"計算結果!#REF!","v":{"$error":"#REF!"}},{"$f":"計算結果!#REF!","v":{"$error":"#REF!"}},{"$f":"計算結果!#REF!","v":{"$error":"#REF!"}}]
[{"$f":"入力シート!A582","v":0},{"$f":"入力シート!G582","v":0},{"$f":"入力シート!H582","v":0},{"$f":"IF(入力シート!$J582<>\"\",入力シート!$J582,IF(入力シート!$L582<>\"\",入力シート!$L582,\"‐\"))","v":"‐"},{"$f":"IF(入力シート!$K582<>\"\",入力シート!$K582,IF(入力シート!$M582<>\"\",入力シート!$M582,入力シート!$N582))","v":0},{"$f":"入力シート!I582","v":0},{"$f":"入力シート!O582","v":0},{"$f":"IF(入力シート!P582=\"×\",\"P\",\"PN\")","v":"PN"},{"$f":"計算結果!#REF!","v":{"$error":"#REF!"}},{"$f":"計算結果!#REF!","v":{"$error":"#REF!"}},{"$f":"計算結果!#REF!","v":{"$error":"#REF!"}},{"$f":"計算結果!#REF!","v":{"$error":"#REF!"}},{"$f":"計算結果!#REF!","v":{"$error":"#REF!"}},{"$f":"計算結果!#REF!","v":{"$error":"#REF!"}},{"$f":"計算結果!#REF!","v":{"$error":"#REF!"}},{"$f":"計算結果!#REF!","v":{"$error":"#REF!"}},{"$f":"計算結果!#REF!","v":{"$error":"#REF!"}},{"$f":"計算結果!#REF!","v":{"$error":"#REF!"}}]
[{"$f":"入力シート!A583","v":0},{"$f":"入力シート!G583","v":0},{"$f":"入力シート!H583","v":0},{"$f":"IF(入力シート!$J583<>\"\",入力シート!$J583,IF(入力シート!$L583<>\"\",入力シート!$L583,\"‐\"))","v":"‐"},{"$f":"IF(入力シート!$K583<>\"\",入力シート!$K583,IF(入力シート!$M583<>\"\",入力シート!$M583,入力シート!$N583))","v":0},{"$f":"入力シート!I583","v":0},{"$f":"入力シート!O583","v":0},{"$f":"IF(入力シート!P583=\"×\",\"P\",\"PN\")","v":"PN"},{"$f":"計算結果!#REF!","v":{"$error":"#REF!"}},{"$f":"計算結果!#REF!","v":{"$error":"#REF!"}},{"$f":"計算結果!#REF!","v":{"$error":"#REF!"}},{"$f":"計算結果!#REF!","v":{"$error":"#REF!"}},{"$f":"計算結果!#REF!","v":{"$error":"#REF!"}},{"$f":"計算結果!#REF!","v":{"$error":"#REF!"}},{"$f":"計算結果!#REF!","v":{"$error":"#REF!"}},{"$f":"計算結果!#REF!","v":{"$error":"#REF!"}},{"$f":"計算結果!#REF!","v":{"$error":"#REF!"}},{"$f":"計算結果!#REF!","v":{"$error":"#REF!"}}]
[{"$f":"入力シート!A584","v":0},{"$f":"入力シート!G584","v":0},{"$f":"入力シート!H584","v":0},{"$f":"IF(入力シート!$J584<>\"\",入力シート!$J584,IF(入力シート!$L584<>\"\",入力シート!$L584,\"‐\"))","v":"‐"},{"$f":"IF(入力シート!$K584<>\"\",入力シート!$K584,IF(入力シート!$M584<>\"\",入力シート!$M584,入力シート!$N584))","v":0},{"$f":"入力シート!I584","v":0},{"$f":"入力シート!O584","v":0},{"$f":"IF(入力シート!P584=\"×\",\"P\",\"PN\")","v":"PN"},{"$f":"計算結果!#REF!","v":{"$error":"#REF!"}},{"$f":"計算結果!#REF!","v":{"$error":"#REF!"}},{"$f":"計算結果!#REF!","v":{"$error":"#REF!"}},{"$f":"計算結果!#REF!","v":{"$error":"#REF!"}},{"$f":"計算結果!#REF!","v":{"$error":"#REF!"}},{"$f":"計算結果!#REF!","v":{"$error":"#REF!"}},{"$f":"計算結果!#REF!","v":{"$error":"#REF!"}},{"$f":"計算結果!#REF!","v":{"$error":"#REF!"}},{"$f":"計算結果!#REF!","v":{"$error":"#REF!"}},{"$f":"計算結果!#REF!","v":{"$error":"#REF!"}}]
[{"$f":"入力シート!A585","v":0},{"$f":"入力シート!G585","v":0},{"$f":"入力シート!H585","v":0},{"$f":"IF(入力シート!$J585<>\"\",入力シート!$J585,IF(入力シート!$L585<>\"\",入力シート!$L585,\"‐\"))","v":"‐"},{"$f":"IF(入力シート!$K585<>\"\",入力シート!$K585,IF(入力シート!$M585<>\"\",入力シート!$M585,入力シート!$N585))","v":0},{"$f":"入力シート!I585","v":0},{"$f":"入力シート!O585","v":0},{"$f":"IF(入力シート!P585=\"×\",\"P\",\"PN\")","v":"PN"},{"$f":"計算結果!#REF!","v":{"$error":"#REF!"}},{"$f":"計算結果!#REF!","v":{"$error":"#REF!"}},{"$f":"計算結果!#REF!","v":{"$error":"#REF!"}},{"$f":"計算結果!#REF!","v":{"$error":"#REF!"}},{"$f":"計算結果!#REF!","v":{"$error":"#REF!"}},{"$f":"計算結果!#REF!","v":{"$error":"#REF!"}},{"$f":"計算結果!#REF!","v":{"$error":"#REF!"}},{"$f":"計算結果!#REF!","v":{"$error":"#REF!"}},{"$f":"計算結果!#REF!","v":{"$error":"#REF!"}},{"$f":"計算結果!#REF!","v":{"$error":"#REF!"}}]
[{"$f":"入力シート!A586","v":0},{"$f":"入力シート!G586","v":0},{"$f":"入力シート!H586","v":0},{"$f":"IF(入力シート!$J586<>\"\",入力シート!$J586,IF(入力シート!$L586<>\"\",入力シート!$L586,\"‐\"))","v":"‐"},{"$f":"IF(入力シート!$K586<>\"\",入力シート!$K586,IF(入力シート!$M586<>\"\",入力シート!$M586,入力シート!$N586))","v":0},{"$f":"入力シート!I586","v":0},{"$f":"入力シート!O586","v":0},{"$f":"IF(入力シート!P586=\"×\",\"P\",\"PN\")","v":"PN"},{"$f":"計算結果!#REF!","v":{"$error":"#REF!"}},{"$f":"計算結果!#REF!","v":{"$error":"#REF!"}},{"$f":"計算結果!#REF!","v":{"$error":"#REF!"}},{"$f":"計算結果!#REF!","v":{"$error":"#REF!"}},{"$f":"計算結果!#REF!","v":{"$error":"#REF!"}},{"$f":"計算結果!#REF!","v":{"$error":"#REF!"}},{"$f":"計算結果!#REF!","v":{"$error":"#REF!"}},{"$f":"計算結果!#REF!","v":{"$error":"#REF!"}},{"$f":"計算結果!#REF!","v":{"$error":"#REF!"}},{"$f":"計算結果!#REF!","v":{"$error":"#REF!"}}]
[{"$f":"入力シート!A587","v":0},{"$f":"入力シート!G587","v":0},{"$f":"入力シート!H587","v":0},{"$f":"IF(入力シート!$J587<>\"\",入力シート!$J587,IF(入力シート!$L587<>\"\",入力シート!$L587,\"‐\"))","v":"‐"},{"$f":"IF(入力シート!$K587<>\"\",入力シート!$K587,IF(入力シート!$M587<>\"\",入力シート!$M587,入力シート!$N587))","v":0},{"$f":"入力シート!I587","v":0},{"$f":"入力シート!O587","v":0},{"$f":"IF(入力シート!P587=\"×\",\"P\",\"PN\")","v":"PN"},{"$f":"計算結果!#REF!","v":{"$error":"#REF!"}},{"$f":"計算結果!#REF!","v":{"$error":"#REF!"}},{"$f":"計算結果!#REF!","v":{"$error":"#REF!"}},{"$f":"計算結果!#REF!","v":{"$error":"#REF!"}},{"$f":"計算結果!#REF!","v":{"$error":"#REF!"}},{"$f":"計算結果!#REF!","v":{"$error":"#REF!"}},{"$f":"計算結果!#REF!","v":{"$error":"#REF!"}},{"$f":"計算結果!#REF!","v":{"$error":"#REF!"}},{"$f":"計算結果!#REF!","v":{"$error":"#REF!"}},{"$f":"計算結果!#REF!","v":{"$error":"#REF!"}}]
[{"$f":"入力シート!A588","v":0},{"$f":"入力シート!G588","v":0},{"$f":"入力シート!H588","v":0},{"$f":"IF(入力シート!$J588<>\"\",入力シート!$J588,IF(入力シート!$L588<>\"\",入力シート!$L588,\"‐\"))","v":"‐"},{"$f":"IF(入力シート!$K588<>\"\",入力シート!$K588,IF(入力シート!$M588<>\"\",入力シート!$M588,入力シート!$N588))","v":0},{"$f":"入力シート!I588","v":0},{"$f":"入力シート!O588","v":0},{"$f":"IF(入力シート!P588=\"×\",\"P\",\"PN\")","v":"PN"},{"$f":"計算結果!#REF!","v":{"$error":"#REF!"}},{"$f":"計算結果!#REF!","v":{"$error":"#REF!"}},{"$f":"計算結果!#REF!","v":{"$error":"#REF!"}},{"$f":"計算結果!#REF!","v":{"$error":"#REF!"}},{"$f":"計算結果!#REF!","v":{"$error":"#REF!"}},{"$f":"計算結果!#REF!","v":{"$error":"#REF!"}},{"$f":"計算結果!#REF!","v":{"$error":"#REF!"}},{"$f":"計算結果!#REF!","v":{"$error":"#REF!"}},{"$f":"計算結果!#REF!","v":{"$error":"#REF!"}},{"$f":"計算結果!#REF!","v":{"$error":"#REF!"}}]
[{"$f":"入力シート!A589","v":0},{"$f":"入力シート!G589","v":0},{"$f":"入力シート!H589","v":0},{"$f":"IF(入力シート!$J589<>\"\",入力シート!$J589,IF(入力シート!$L589<>\"\",入力シート!$L589,\"‐\"))","v":"‐"},{"$f":"IF(入力シート!$K589<>\"\",入力シート!$K589,IF(入力シート!$M589<>\"\",入力シート!$M589,入力シート!$N589))","v":0},{"$f":"入力シート!I589","v":0},{"$f":"入力シート!O589","v":0},{"$f":"IF(入力シート!P589=\"×\",\"P\",\"PN\")","v":"PN"},{"$f":"計算結果!#REF!","v":{"$error":"#REF!"}},{"$f":"計算結果!#REF!","v":{"$error":"#REF!"}},{"$f":"計算結果!#REF!","v":{"$error":"#REF!"}},{"$f":"計算結果!#REF!","v":{"$error":"#REF!"}},{"$f":"計算結果!#REF!","v":{"$error":"#REF!"}},{"$f":"計算結果!#REF!","v":{"$error":"#REF!"}},{"$f":"計算結果!#REF!","v":{"$error":"#REF!"}},{"$f":"計算結果!#REF!","v":{"$error":"#REF!"}},{"$f":"計算結果!#REF!","v":{"$error":"#REF!"}},{"$f":"計算結果!#REF!","v":{"$error":"#REF!"}}]
[{"$f":"入力シート!A590","v":0},{"$f":"入力シート!G590","v":0},{"$f":"入力シート!H590","v":0},{"$f":"IF(入力シート!$J590<>\"\",入力シート!$J590,IF(入力シート!$L590<>\"\",入力シート!$L590,\"‐\"))","v":"‐"},{"$f":"IF(入力シート!$K590<>\"\",入力シート!$K590,IF(入力シート!$M590<>\"\",入力シート!$M590,入力シート!$N590))","v":0},{"$f":"入力シート!I590","v":0},{"$f":"入力シート!O590","v":0},{"$f":"IF(入力シート!P590=\"×\",\"P\",\"PN\")","v":"PN"},{"$f":"計算結果!#REF!","v":{"$error":"#REF!"}},{"$f":"計算結果!#REF!","v":{"$error":"#REF!"}},{"$f":"計算結果!#REF!","v":{"$error":"#REF!"}},{"$f":"計算結果!#REF!","v":{"$error":"#REF!"}},{"$f":"計算結果!#REF!","v":{"$error":"#REF!"}},{"$f":"計算結果!#REF!","v":{"$error":"#REF!"}},{"$f":"計算結果!#REF!","v":{"$error":"#REF!"}},{"$f":"計算結果!#REF!","v":{"$error":"#REF!"}},{"$f":"計算結果!#REF!","v":{"$error":"#REF!"}},{"$f":"計算結果!#REF!","v":{"$error":"#REF!"}}]
[{"$f":"入力シート!A591","v":0},{"$f":"入力シート!G591","v":0},{"$f":"入力シート!H591","v":0},{"$f":"IF(入力シート!$J591<>\"\",入力シート!$J591,IF(入力シート!$L591<>\"\",入力シート!$L591,\"‐\"))","v":"‐"},{"$f":"IF(入力シート!$K591<>\"\",入力シート!$K591,IF(入力シート!$M591<>\"\",入力シート!$M591,入力シート!$N591))","v":0},{"$f":"入力シート!I591","v":0},{"$f":"入力シート!O591","v":0},{"$f":"IF(入力シート!P591=\"×\",\"P\",\"PN\")","v":"PN"},{"$f":"計算結果!#REF!","v":{"$error":"#REF!"}},{"$f":"計算結果!#REF!","v":{"$error":"#REF!"}},{"$f":"計算結果!#REF!","v":{"$error":"#REF!"}},{"$f":"計算結果!#REF!","v":{"$error":"#REF!"}},{"$f":"計算結果!#REF!","v":{"$error":"#REF!"}},{"$f":"計算結果!#REF!","v":{"$error":"#REF!"}},{"$f":"計算結果!#REF!","v":{"$error":"#REF!"}},{"$f":"計算結果!#REF!","v":{"$error":"#REF!"}},{"$f":"計算結果!#REF!","v":{"$error":"#REF!"}},{"$f":"計算結果!#REF!","v":{"$error":"#REF!"}}]
[{"$f":"入力シート!A592","v":0},{"$f":"入力シート!G592","v":0},{"$f":"入力シート!H592","v":0},{"$f":"IF(入力シート!$J592<>\"\",入力シート!$J592,IF(入力シート!$L592<>\"\",入力シート!$L592,\"‐\"))","v":"‐"},{"$f":"IF(入力シート!$K592<>\"\",入力シート!$K592,IF(入力シート!$M592<>\"\",入力シート!$M592,入力シート!$N592))","v":0},{"$f":"入力シート!I592","v":0},{"$f":"入力シート!O592","v":0},{"$f":"IF(入力シート!P592=\"×\",\"P\",\"PN\")","v":"PN"},{"$f":"計算結果!#REF!","v":{"$error":"#REF!"}},{"$f":"計算結果!#REF!","v":{"$error":"#REF!"}},{"$f":"計算結果!#REF!","v":{"$error":"#REF!"}},{"$f":"計算結果!#REF!","v":{"$error":"#REF!"}},{"$f":"計算結果!#REF!","v":{"$error":"#REF!"}},{"$f":"計算結果!#REF!","v":{"$error":"#REF!"}},{"$f":"計算結果!#REF!","v":{"$error":"#REF!"}},{"$f":"計算結果!#REF!","v":{"$error":"#REF!"}},{"$f":"計算結果!#REF!","v":{"$error":"#REF!"}},{"$f":"計算結果!#REF!","v":{"$error":"#REF!"}}]
[{"$f":"入力シート!A593","v":0},{"$f":"入力シート!G593","v":0},{"$f":"入力シート!H593","v":0},{"$f":"IF(入力シート!$J593<>\"\",入力シート!$J593,IF(入力シート!$L593<>\"\",入力シート!$L593,\"‐\"))","v":"‐"},{"$f":"IF(入力シート!$K593<>\"\",入力シート!$K593,IF(入力シート!$M593<>\"\",入力シート!$M593,入力シート!$N593))","v":0},{"$f":"入力シート!I593","v":0},{"$f":"入力シート!O593","v":0},{"$f":"IF(入力シート!P593=\"×\",\"P\",\"PN\")","v":"PN"},{"$f":"計算結果!#REF!","v":{"$error":"#REF!"}},{"$f":"計算結果!#REF!","v":{"$error":"#REF!"}},{"$f":"計算結果!#REF!","v":{"$error":"#REF!"}},{"$f":"計算結果!#REF!","v":{"$error":"#REF!"}},{"$f":"計算結果!#REF!","v":{"$error":"#REF!"}},{"$f":"計算結果!#REF!","v":{"$error":"#REF!"}},{"$f":"計算結果!#REF!","v":{"$error":"#REF!"}},{"$f":"計算結果!#REF!","v":{"$error":"#REF!"}},{"$f":"計算結果!#REF!","v":{"$error":"#REF!"}},{"$f":"計算結果!#REF!","v":{"$error":"#REF!"}}]
[{"$f":"入力シート!A594","v":0},{"$f":"入力シート!G594","v":0},{"$f":"入力シート!H594","v":0},{"$f":"IF(入力シート!$J594<>\"\",入力シート!$J594,IF(入力シート!$L594<>\"\",入力シート!$L594,\"‐\"))","v":"‐"},{"$f":"IF(入力シート!$K594<>\"\",入力シート!$K594,IF(入力シート!$M594<>\"\",入力シート!$M594,入力シート!$N594))","v":0},{"$f":"入力シート!I594","v":0},{"$f":"入力シート!O594","v":0},{"$f":"IF(入力シート!P594=\"×\",\"P\",\"PN\")","v":"PN"},{"$f":"計算結果!#REF!","v":{"$error":"#REF!"}},{"$f":"計算結果!#REF!","v":{"$error":"#REF!"}},{"$f":"計算結果!#REF!","v":{"$error":"#REF!"}},{"$f":"計算結果!#REF!","v":{"$error":"#REF!"}},{"$f":"計算結果!#REF!","v":{"$error":"#REF!"}},{"$f":"計算結果!#REF!","v":{"$error":"#REF!"}},{"$f":"計算結果!#REF!","v":{"$error":"#REF!"}},{"$f":"計算結果!#REF!","v":{"$error":"#REF!"}},{"$f":"計算結果!#REF!","v":{"$error":"#REF!"}},{"$f":"計算結果!#REF!","v":{"$error":"#REF!"}}]
[{"$f":"入力シート!A595","v":0},{"$f":"入力シート!G595","v":0},{"$f":"入力シート!H595","v":0},{"$f":"IF(入力シート!$J595<>\"\",入力シート!$J595,IF(入力シート!$L595<>\"\",入力シート!$L595,\"‐\"))","v":"‐"},{"$f":"IF(入力シート!$K595<>\"\",入力シート!$K595,IF(入力シート!$M595<>\"\",入力シート!$M595,入力シート!$N595))","v":0},{"$f":"入力シート!I595","v":0},{"$f":"入力シート!O595","v":0},{"$f":"IF(入力シート!P595=\"×\",\"P\",\"PN\")","v":"PN"},{"$f":"計算結果!#REF!","v":{"$error":"#REF!"}},{"$f":"計算結果!#REF!","v":{"$error":"#REF!"}},{"$f":"計算結果!#REF!","v":{"$error":"#REF!"}},{"$f":"計算結果!#REF!","v":{"$error":"#REF!"}},{"$f":"計算結果!#REF!","v":{"$error":"#REF!"}},{"$f":"計算結果!#REF!","v":{"$error":"#REF!"}},{"$f":"計算結果!#REF!","v":{"$error":"#REF!"}},{"$f":"計算結果!#REF!","v":{"$error":"#REF!"}},{"$f":"計算結果!#REF!","v":{"$error":"#REF!"}},{"$f":"計算結果!#REF!","v":{"$error":"#REF!"}}]
[{"$f":"入力シート!A596","v":0},{"$f":"入力シート!G596","v":0},{"$f":"入力シート!H596","v":0},{"$f":"IF(入力シート!$J596<>\"\",入力シート!$J596,IF(入力シート!$L596<>\"\",入力シート!$L596,\"‐\"))","v":"‐"},{"$f":"IF(入力シート!$K596<>\"\",入力シート!$K596,IF(入力シート!$M596<>\"\",入力シート!$M596,入力シート!$N596))","v":0},{"$f":"入力シート!I596","v":0},{"$f":"入力シート!O596","v":0},{"$f":"IF(入力シート!P596=\"×\",\"P\",\"PN\")","v":"PN"},{"$f":"計算結果!#REF!","v":{"$error":"#REF!"}},{"$f":"計算結果!#REF!","v":{"$error":"#REF!"}},{"$f":"計算結果!#REF!","v":{"$error":"#REF!"}},{"$f":"計算結果!#REF!","v":{"$error":"#REF!"}},{"$f":"計算結果!#REF!","v":{"$error":"#REF!"}},{"$f":"計算結果!#REF!","v":{"$error":"#REF!"}},{"$f":"計算結果!#REF!","v":{"$error":"#REF!"}},{"$f":"計算結果!#REF!","v":{"$error":"#REF!"}},{"$f":"計算結果!#REF!","v":{"$error":"#REF!"}},{"$f":"計算結果!#REF!","v":{"$error":"#REF!"}}]
[{"$f":"入力シート!A597","v":0},{"$f":"入力シート!G597","v":0},{"$f":"入力シート!H597","v":0},{"$f":"IF(入力シート!$J597<>\"\",入力シート!$J597,IF(入力シート!$L597<>\"\",入力シート!$L597,\"‐\"))","v":"‐"},{"$f":"IF(入力シート!$K597<>\"\",入力シート!$K597,IF(入力シート!$M597<>\"\",入力シート!$M597,入力シート!$N597))","v":0},{"$f":"入力シート!I597","v":0},{"$f":"入力シート!O597","v":0},{"$f":"IF(入力シート!P597=\"×\",\"P\",\"PN\")","v":"PN"},{"$f":"計算結果!#REF!","v":{"$error":"#REF!"}},{"$f":"計算結果!#REF!","v":{"$error":"#REF!"}},{"$f":"計算結果!#REF!","v":{"$error":"#REF!"}},{"$f":"計算結果!#REF!","v":{"$error":"#REF!"}},{"$f":"計算結果!#REF!","v":{"$error":"#REF!"}},{"$f":"計算結果!#REF!","v":{"$error":"#REF!"}},{"$f":"計算結果!#REF!","v":{"$error":"#REF!"}},{"$f":"計算結果!#REF!","v":{"$error":"#REF!"}},{"$f":"計算結果!#REF!","v":{"$error":"#REF!"}},{"$f":"計算結果!#REF!","v":{"$error":"#REF!"}}]
[{"$f":"入力シート!A598","v":0},{"$f":"入力シート!G598","v":0},{"$f":"入力シート!H598","v":0},{"$f":"IF(入力シート!$J598<>\"\",入力シート!$J598,IF(入力シート!$L598<>\"\",入力シート!$L598,\"‐\"))","v":"‐"},{"$f":"IF(入力シート!$K598<>\"\",入力シート!$K598,IF(入力シート!$M598<>\"\",入力シート!$M598,入力シート!$N598))","v":0},{"$f":"入力シート!I598","v":0},{"$f":"入力シート!O598","v":0},{"$f":"IF(入力シート!P598=\"×\",\"P\",\"PN\")","v":"PN"},{"$f":"計算結果!#REF!","v":{"$error":"#REF!"}},{"$f":"計算結果!#REF!","v":{"$error":"#REF!"}},{"$f":"計算結果!#REF!","v":{"$error":"#REF!"}},{"$f":"計算結果!#REF!","v":{"$error":"#REF!"}},{"$f":"計算結果!#REF!","v":{"$error":"#REF!"}},{"$f":"計算結果!#REF!","v":{"$error":"#REF!"}},{"$f":"計算結果!#REF!","v":{"$error":"#REF!"}},{"$f":"計算結果!#REF!","v":{"$error":"#REF!"}},{"$f":"計算結果!#REF!","v":{"$error":"#REF!"}},{"$f":"計算結果!#REF!","v":{"$error":"#REF!"}}]
[{"$f":"入力シート!A599","v":0},{"$f":"入力シート!G599","v":0},{"$f":"入力シート!H599","v":0},{"$f":"IF(入力シート!$J599<>\"\",入力シート!$J599,IF(入力シート!$L599<>\"\",入力シート!$L599,\"‐\"))","v":"‐"},{"$f":"IF(入力シート!$K599<>\"\",入力シート!$K599,IF(入力シート!$M599<>\"\",入力シート!$M599,入力シート!$N599))","v":0},{"$f":"入力シート!I599","v":0},{"$f":"入力シート!O599","v":0},{"$f":"IF(入力シート!P599=\"×\",\"P\",\"PN\")","v":"PN"},{"$f":"計算結果!#REF!","v":{"$error":"#REF!"}},{"$f":"計算結果!#REF!","v":{"$error":"#REF!"}},{"$f":"計算結果!#REF!","v":{"$error":"#REF!"}},{"$f":"計算結果!#REF!","v":{"$error":"#REF!"}},{"$f":"計算結果!#REF!","v":{"$error":"#REF!"}},{"$f":"計算結果!#REF!","v":{"$error":"#REF!"}},{"$f":"計算結果!#REF!","v":{"$error":"#REF!"}},{"$f":"計算結果!#REF!","v":{"$error":"#REF!"}},{"$f":"計算結果!#REF!","v":{"$error":"#REF!"}},{"$f":"計算結果!#REF!","v":{"$error":"#REF!"}}]
[{"$f":"入力シート!A600","v":0},{"$f":"入力シート!G600","v":0},{"$f":"入力シート!H600","v":0},{"$f":"IF(入力シート!$J600<>\"\",入力シート!$J600,IF(入力シート!$L600<>\"\",入力シート!$L600,\"‐\"))","v":"‐"},{"$f":"IF(入力シート!$K600<>\"\",入力シート!$K600,IF(入力シート!$M600<>\"\",入力シート!$M600,入力シート!$N600))","v":0},{"$f":"入力シート!I600","v":0},{"$f":"入力シート!O600","v":0},{"$f":"IF(入力シート!P600=\"×\",\"P\",\"PN\")","v":"PN"},{"$f":"計算結果!#REF!","v":{"$error":"#REF!"}},{"$f":"計算結果!#REF!","v":{"$error":"#REF!"}},{"$f":"計算結果!#REF!","v":{"$error":"#REF!"}},{"$f":"計算結果!#REF!","v":{"$error":"#REF!"}},{"$f":"計算結果!#REF!","v":{"$error":"#REF!"}},{"$f":"計算結果!#REF!","v":{"$error":"#REF!"}},{"$f":"計算結果!#REF!","v":{"$error":"#REF!"}},{"$f":"計算結果!#REF!","v":{"$error":"#REF!"}},{"$f":"計算結果!#REF!","v":{"$error":"#REF!"}},{"$f":"計算結果!#REF!","v":{"$error":"#REF!"}}]
[{"$f":"入力シート!A601","v":0},{"$f":"入力シート!G601","v":0},{"$f":"入力シート!H601","v":0},{"$f":"IF(入力シート!$J601<>\"\",入力シート!$J601,IF(入力シート!$L601<>\"\",入力シート!$L601,\"‐\"))","v":"‐"},{"$f":"IF(入力シート!$K601<>\"\",入力シート!$K601,IF(入力シート!$M601<>\"\",入力シート!$M601,入力シート!$N601))","v":0},{"$f":"入力シート!I601","v":0},{"$f":"入力シート!O601","v":0},{"$f":"IF(入力シート!P601=\"×\",\"P\",\"PN\")","v":"PN"},{"$f":"計算結果!#REF!","v":{"$error":"#REF!"}},{"$f":"計算結果!#REF!","v":{"$error":"#REF!"}},{"$f":"計算結果!#REF!","v":{"$error":"#REF!"}},{"$f":"計算結果!#REF!","v":{"$error":"#REF!"}},{"$f":"計算結果!#REF!","v":{"$error":"#REF!"}},{"$f":"計算結果!#REF!","v":{"$error":"#REF!"}},{"$f":"計算結果!#REF!","v":{"$error":"#REF!"}},{"$f":"計算結果!#REF!","v":{"$error":"#REF!"}},{"$f":"計算結果!#REF!","v":{"$error":"#REF!"}},{"$f":"計算結果!#REF!","v":{"$error":"#REF!"}}]
[{"$f":"入力シート!A602","v":0},{"$f":"入力シート!G602","v":0},{"$f":"入力シート!H602","v":0},{"$f":"IF(入力シート!$J602<>\"\",入力シート!$J602,IF(入力シート!$L602<>\"\",入力シート!$L602,\"‐\"))","v":"‐"},{"$f":"IF(入力シート!$K602<>\"\",入力シート!$K602,IF(入力シート!$M602<>\"\",入力シート!$M602,入力シート!$N602))","v":0},{"$f":"入力シート!I602","v":0},{"$f":"入力シート!O602","v":0},{"$f":"IF(入力シート!P602=\"×\",\"P\",\"PN\")","v":"PN"},{"$f":"計算結果!#REF!","v":{"$error":"#REF!"}},{"$f":"計算結果!#REF!","v":{"$error":"#REF!"}},{"$f":"計算結果!#REF!","v":{"$error":"#REF!"}},{"$f":"計算結果!#REF!","v":{"$error":"#REF!"}},{"$f":"計算結果!#REF!","v":{"$error":"#REF!"}},{"$f":"計算結果!#REF!","v":{"$error":"#REF!"}},{"$f":"計算結果!#REF!","v":{"$error":"#REF!"}},{"$f":"計算結果!#REF!","v":{"$error":"#REF!"}},{"$f":"計算結果!#REF!","v":{"$error":"#REF!"}},{"$f":"計算結果!#REF!","v":{"$error":"#REF!"}}]
[{"$f":"入力シート!A603","v":0},{"$f":"入力シート!G603","v":0},{"$f":"入力シート!H603","v":0},{"$f":"IF(入力シート!$J603<>\"\",入力シート!$J603,IF(入力シート!$L603<>\"\",入力シート!$L603,\"‐\"))","v":"‐"},{"$f":"IF(入力シート!$K603<>\"\",入力シート!$K603,IF(入力シート!$M603<>\"\",入力シート!$M603,入力シート!$N603))","v":0},{"$f":"入力シート!I603","v":0},{"$f":"入力シート!O603","v":0},{"$f":"IF(入力シート!P603=\"×\",\"P\",\"PN\")","v":"PN"},{"$f":"計算結果!#REF!","v":{"$error":"#REF!"}},{"$f":"計算結果!#REF!","v":{"$error":"#REF!"}},{"$f":"計算結果!#REF!","v":{"$error":"#REF!"}},{"$f":"計算結果!#REF!","v":{"$error":"#REF!"}},{"$f":"計算結果!#REF!","v":{"$error":"#REF!"}},{"$f":"計算結果!#REF!","v":{"$error":"#REF!"}},{"$f":"計算結果!#REF!","v":{"$error":"#REF!"}},{"$f":"計算結果!#REF!","v":{"$error":"#REF!"}},{"$f":"計算結果!#REF!","v":{"$error":"#REF!"}},{"$f":"計算結果!#REF!","v":{"$error":"#REF!"}}]
[{"$f":"入力シート!A604","v":0},{"$f":"入力シート!G604","v":0},{"$f":"入力シート!H604","v":0},{"$f":"IF(入力シート!$J604<>\"\",入力シート!$J604,IF(入力シート!$L604<>\"\",入力シート!$L604,\"‐\"))","v":"‐"},{"$f":"IF(入力シート!$K604<>\"\",入力シート!$K604,IF(入力シート!$M604<>\"\",入力シート!$M604,入力シート!$N604))","v":0},{"$f":"入力シート!I604","v":0},{"$f":"入力シート!O604","v":0},{"$f":"IF(入力シート!P604=\"×\",\"P\",\"PN\")","v":"PN"},{"$f":"計算結果!#REF!","v":{"$error":"#REF!"}},{"$f":"計算結果!#REF!","v":{"$error":"#REF!"}},{"$f":"計算結果!#REF!","v":{"$error":"#REF!"}},{"$f":"計算結果!#REF!","v":{"$error":"#REF!"}},{"$f":"計算結果!#REF!","v":{"$error":"#REF!"}},{"$f":"計算結果!#REF!","v":{"$error":"#REF!"}},{"$f":"計算結果!#REF!","v":{"$error":"#REF!"}},{"$f":"計算結果!#REF!","v":{"$error":"#REF!"}},{"$f":"計算結果!#REF!","v":{"$error":"#REF!"}},{"$f":"計算結果!#REF!","v":{"$error":"#REF!"}}]
[{"$f":"入力シート!A605","v":0},{"$f":"入力シート!G605","v":0},{"$f":"入力シート!H605","v":0},{"$f":"IF(入力シート!$J605<>\"\",入力シート!$J605,IF(入力シート!$L605<>\"\",入力シート!$L605,\"‐\"))","v":"‐"},{"$f":"IF(入力シート!$K605<>\"\",入力シート!$K605,IF(入力シート!$M605<>\"\",入力シート!$M605,入力シート!$N605))","v":0},{"$f":"入力シート!I605","v":0},{"$f":"入力シート!O605","v":0},{"$f":"IF(入力シート!P605=\"×\",\"P\",\"PN\")","v":"PN"},{"$f":"計算結果!#REF!","v":{"$error":"#REF!"}},{"$f":"計算結果!#REF!","v":{"$error":"#REF!"}},{"$f":"計算結果!#REF!","v":{"$error":"#REF!"}},{"$f":"計算結果!#REF!","v":{"$error":"#REF!"}},{"$f":"計算結果!#REF!","v":{"$error":"#REF!"}},{"$f":"計算結果!#REF!","v":{"$error":"#REF!"}},{"$f":"計算結果!#REF!","v":{"$error":"#REF!"}},{"$f":"計算結果!#REF!","v":{"$error":"#REF!"}},{"$f":"計算結果!#REF!","v":{"$error":"#REF!"}},{"$f":"計算結果!#REF!","v":{"$error":"#REF!"}}]
[{"$f":"入力シート!A606","v":0},{"$f":"入力シート!G606","v":0},{"$f":"入力シート!H606","v":0},{"$f":"IF(入力シート!$J606<>\"\",入力シート!$J606,IF(入力シート!$L606<>\"\",入力シート!$L606,\"‐\"))","v":"‐"},{"$f":"IF(入力シート!$K606<>\"\",入力シート!$K606,IF(入力シート!$M606<>\"\",入力シート!$M606,入力シート!$N606))","v":0},{"$f":"入力シート!I606","v":0},{"$f":"入力シート!O606","v":0},{"$f":"IF(入力シート!P606=\"×\",\"P\",\"PN\")","v":"PN"},{"$f":"計算結果!#REF!","v":{"$error":"#REF!"}},{"$f":"計算結果!#REF!","v":{"$error":"#REF!"}},{"$f":"計算結果!#REF!","v":{"$error":"#REF!"}},{"$f":"計算結果!#REF!","v":{"$error":"#REF!"}},{"$f":"計算結果!#REF!","v":{"$error":"#REF!"}},{"$f":"計算結果!#REF!","v":{"$error":"#REF!"}},{"$f":"計算結果!#REF!","v":{"$error":"#REF!"}},{"$f":"計算結果!#REF!","v":{"$error":"#REF!"}},{"$f":"計算結果!#REF!","v":{"$error":"#REF!"}},{"$f":"計算結果!#REF!","v":{"$error":"#REF!"}}]
[{"$f":"入力シート!A607","v":0},{"$f":"入力シート!G607","v":0},{"$f":"入力シート!H607","v":0},{"$f":"IF(入力シート!$J607<>\"\",入力シート!$J607,IF(入力シート!$L607<>\"\",入力シート!$L607,\"‐\"))","v":"‐"},{"$f":"IF(入力シート!$K607<>\"\",入力シート!$K607,IF(入力シート!$M607<>\"\",入力シート!$M607,入力シート!$N607))","v":0},{"$f":"入力シート!I607","v":0},{"$f":"入力シート!O607","v":0},{"$f":"IF(入力シート!P607=\"×\",\"P\",\"PN\")","v":"PN"},{"$f":"計算結果!#REF!","v":{"$error":"#REF!"}},{"$f":"計算結果!#REF!","v":{"$error":"#REF!"}},{"$f":"計算結果!#REF!","v":{"$error":"#REF!"}},{"$f":"計算結果!#REF!","v":{"$error":"#REF!"}},{"$f":"計算結果!#REF!","v":{"$error":"#REF!"}},{"$f":"計算結果!#REF!","v":{"$error":"#REF!"}},{"$f":"計算結果!#REF!","v":{"$error":"#REF!"}},{"$f":"計算結果!#REF!","v":{"$error":"#REF!"}},{"$f":"計算結果!#REF!","v":{"$error":"#REF!"}},{"$f":"計算結果!#REF!","v":{"$error":"#REF!"}}]
[{"$f":"入力シート!A608","v":0},{"$f":"入力シート!G608","v":0},{"$f":"入力シート!H608","v":0},{"$f":"IF(入力シート!$J608<>\"\",入力シート!$J608,IF(入力シート!$L608<>\"\",入力シート!$L608,\"‐\"))","v":"‐"},{"$f":"IF(入力シート!$K608<>\"\",入力シート!$K608,IF(入力シート!$M608<>\"\",入力シート!$M608,入力シート!$N608))","v":0},{"$f":"入力シート!I608","v":0},{"$f":"入力シート!O608","v":0},{"$f":"IF(入力シート!P608=\"×\",\"P\",\"PN\")","v":"PN"},{"$f":"計算結果!#REF!","v":{"$error":"#REF!"}},{"$f":"計算結果!#REF!","v":{"$error":"#REF!"}},{"$f":"計算結果!#REF!","v":{"$error":"#REF!"}},{"$f":"計算結果!#REF!","v":{"$error":"#REF!"}},{"$f":"計算結果!#REF!","v":{"$error":"#REF!"}},{"$f":"計算結果!#REF!","v":{"$error":"#REF!"}},{"$f":"計算結果!#REF!","v":{"$error":"#REF!"}},{"$f":"計算結果!#REF!","v":{"$error":"#REF!"}},{"$f":"計算結果!#REF!","v":{"$error":"#REF!"}},{"$f":"計算結果!#REF!","v":{"$error":"#REF!"}}]
[{"$f":"入力シート!A609","v":0},{"$f":"入力シート!G609","v":0},{"$f":"入力シート!H609","v":0},{"$f":"IF(入力シート!$J609<>\"\",入力シート!$J609,IF(入力シート!$L609<>\"\",入力シート!$L609,\"‐\"))","v":"‐"},{"$f":"IF(入力シート!$K609<>\"\",入力シート!$K609,IF(入力シート!$M609<>\"\",入力シート!$M609,入力シート!$N609))","v":0},{"$f":"入力シート!I609","v":0},{"$f":"入力シート!O609","v":0},{"$f":"IF(入力シート!P609=\"×\",\"P\",\"PN\")","v":"PN"},{"$f":"計算結果!#REF!","v":{"$error":"#REF!"}},{"$f":"計算結果!#REF!","v":{"$error":"#REF!"}},{"$f":"計算結果!#REF!","v":{"$error":"#REF!"}},{"$f":"計算結果!#REF!","v":{"$error":"#REF!"}},{"$f":"計算結果!#REF!","v":{"$error":"#REF!"}},{"$f":"計算結果!#REF!","v":{"$error":"#REF!"}},{"$f":"計算結果!#REF!","v":{"$error":"#REF!"}},{"$f":"計算結果!#REF!","v":{"$error":"#REF!"}},{"$f":"計算結果!#REF!","v":{"$error":"#REF!"}},{"$f":"計算結果!#REF!","v":{"$error":"#REF!"}}]
[{"$f":"入力シート!A610","v":0},{"$f":"入力シート!G610","v":0},{"$f":"入力シート!H610","v":0},{"$f":"IF(入力シート!$J610<>\"\",入力シート!$J610,IF(入力シート!$L610<>\"\",入力シート!$L610,\"‐\"))","v":"‐"},{"$f":"IF(入力シート!$K610<>\"\",入力シート!$K610,IF(入力シート!$M610<>\"\",入力シート!$M610,入力シート!$N610))","v":0},{"$f":"入力シート!I610","v":0},{"$f":"入力シート!O610","v":0},{"$f":"IF(入力シート!P610=\"×\",\"P\",\"PN\")","v":"PN"},{"$f":"計算結果!#REF!","v":{"$error":"#REF!"}},{"$f":"計算結果!#REF!","v":{"$error":"#REF!"}},{"$f":"計算結果!#REF!","v":{"$error":"#REF!"}},{"$f":"計算結果!#REF!","v":{"$error":"#REF!"}},{"$f":"計算結果!#REF!","v":{"$error":"#REF!"}},{"$f":"計算結果!#REF!","v":{"$error":"#REF!"}},{"$f":"計算結果!#REF!","v":{"$error":"#REF!"}},{"$f":"計算結果!#REF!","v":{"$error":"#REF!"}},{"$f":"計算結果!#REF!","v":{"$error":"#REF!"}},{"$f":"計算結果!#REF!","v":{"$error":"#REF!"}}]
[{"$f":"入力シート!A611","v":0},{"$f":"入力シート!G611","v":0},{"$f":"入力シート!H611","v":0},{"$f":"IF(入力シート!$J611<>\"\",入力シート!$J611,IF(入力シート!$L611<>\"\",入力シート!$L611,\"‐\"))","v":"‐"},{"$f":"IF(入力シート!$K611<>\"\",入力シート!$K611,IF(入力シート!$M611<>\"\",入力シート!$M611,入力シート!$N611))","v":0},{"$f":"入力シート!I611","v":0},{"$f":"入力シート!O611","v":0},{"$f":"IF(入力シート!P611=\"×\",\"P\",\"PN\")","v":"PN"},{"$f":"計算結果!#REF!","v":{"$error":"#REF!"}},{"$f":"計算結果!#REF!","v":{"$error":"#REF!"}},{"$f":"計算結果!#REF!","v":{"$error":"#REF!"}},{"$f":"計算結果!#REF!","v":{"$error":"#REF!"}},{"$f":"計算結果!#REF!","v":{"$error":"#REF!"}},{"$f":"計算結果!#REF!","v":{"$error":"#REF!"}},{"$f":"計算結果!#REF!","v":{"$error":"#REF!"}},{"$f":"計算結果!#REF!","v":{"$error":"#REF!"}},{"$f":"計算結果!#REF!","v":{"$error":"#REF!"}},{"$f":"計算結果!#REF!","v":{"$error":"#REF!"}}]
[{"$f":"入力シート!A612","v":0},{"$f":"入力シート!G612","v":0},{"$f":"入力シート!H612","v":0},{"$f":"IF(入力シート!$J612<>\"\",入力シート!$J612,IF(入力シート!$L612<>\"\",入力シート!$L612,\"‐\"))","v":"‐"},{"$f":"IF(入力シート!$K612<>\"\",入力シート!$K612,IF(入力シート!$M612<>\"\",入力シート!$M612,入力シート!$N612))","v":0},{"$f":"入力シート!I612","v":0},{"$f":"入力シート!O612","v":0},{"$f":"IF(入力シート!P612=\"×\",\"P\",\"PN\")","v":"PN"},{"$f":"計算結果!#REF!","v":{"$error":"#REF!"}},{"$f":"計算結果!#REF!","v":{"$error":"#REF!"}},{"$f":"計算結果!#REF!","v":{"$error":"#REF!"}},{"$f":"計算結果!#REF!","v":{"$error":"#REF!"}},{"$f":"計算結果!#REF!","v":{"$error":"#REF!"}},{"$f":"計算結果!#REF!","v":{"$error":"#REF!"}},{"$f":"計算結果!#REF!","v":{"$error":"#REF!"}},{"$f":"計算結果!#REF!","v":{"$error":"#REF!"}},{"$f":"計算結果!#REF!","v":{"$error":"#REF!"}},{"$f":"計算結果!#REF!","v":{"$error":"#REF!"}}]
[{"$f":"入力シート!A613","v":0},{"$f":"入力シート!G613","v":0},{"$f":"入力シート!H613","v":0},{"$f":"IF(入力シート!$J613<>\"\",入力シート!$J613,IF(入力シート!$L613<>\"\",入力シート!$L613,\"‐\"))","v":"‐"},{"$f":"IF(入力シート!$K613<>\"\",入力シート!$K613,IF(入力シート!$M613<>\"\",入力シート!$M613,入力シート!$N613))","v":0},{"$f":"入力シート!I613","v":0},{"$f":"入力シート!O613","v":0},{"$f":"IF(入力シート!P613=\"×\",\"P\",\"PN\")","v":"PN"},{"$f":"計算結果!#REF!","v":{"$error":"#REF!"}},{"$f":"計算結果!#REF!","v":{"$error":"#REF!"}},{"$f":"計算結果!#REF!","v":{"$error":"#REF!"}},{"$f":"計算結果!#REF!","v":{"$error":"#REF!"}},{"$f":"計算結果!#REF!","v":{"$error":"#REF!"}},{"$f":"計算結果!#REF!","v":{"$error":"#REF!"}},{"$f":"計算結果!#REF!","v":{"$error":"#REF!"}},{"$f":"計算結果!#REF!","v":{"$error":"#REF!"}},{"$f":"計算結果!#REF!","v":{"$error":"#REF!"}},{"$f":"計算結果!#REF!","v":{"$error":"#REF!"}}]
[{"$f":"入力シート!A614","v":0},{"$f":"入力シート!G614","v":0},{"$f":"入力シート!H614","v":0},{"$f":"IF(入力シート!$J614<>\"\",入力シート!$J614,IF(入力シート!$L614<>\"\",入力シート!$L614,\"‐\"))","v":"‐"},{"$f":"IF(入力シート!$K614<>\"\",入力シート!$K614,IF(入力シート!$M614<>\"\",入力シート!$M614,入力シート!$N614))","v":0},{"$f":"入力シート!I614","v":0},{"$f":"入力シート!O614","v":0},{"$f":"IF(入力シート!P614=\"×\",\"P\",\"PN\")","v":"PN"},{"$f":"計算結果!#REF!","v":{"$error":"#REF!"}},{"$f":"計算結果!#REF!","v":{"$error":"#REF!"}},{"$f":"計算結果!#REF!","v":{"$error":"#REF!"}},{"$f":"計算結果!#REF!","v":{"$error":"#REF!"}},{"$f":"計算結果!#REF!","v":{"$error":"#REF!"}},{"$f":"計算結果!#REF!","v":{"$error":"#REF!"}},{"$f":"計算結果!#REF!","v":{"$error":"#REF!"}},{"$f":"計算結果!#REF!","v":{"$error":"#REF!"}},{"$f":"計算結果!#REF!","v":{"$error":"#REF!"}},{"$f":"計算結果!#REF!","v":{"$error":"#REF!"}}]
[{"$f":"入力シート!A615","v":0},{"$f":"入力シート!G615","v":0},{"$f":"入力シート!H615","v":0},{"$f":"IF(入力シート!$J615<>\"\",入力シート!$J615,IF(入力シート!$L615<>\"\",入力シート!$L615,\"‐\"))","v":"‐"},{"$f":"IF(入力シート!$K615<>\"\",入力シート!$K615,IF(入力シート!$M615<>\"\",入力シート!$M615,入力シート!$N615))","v":0},{"$f":"入力シート!I615","v":0},{"$f":"入力シート!O615","v":0},{"$f":"IF(入力シート!P615=\"×\",\"P\",\"PN\")","v":"PN"},{"$f":"計算結果!#REF!","v":{"$error":"#REF!"}},{"$f":"計算結果!#REF!","v":{"$error":"#REF!"}},{"$f":"計算結果!#REF!","v":{"$error":"#REF!"}},{"$f":"計算結果!#REF!","v":{"$error":"#REF!"}},{"$f":"計算結果!#REF!","v":{"$error":"#REF!"}},{"$f":"計算結果!#REF!","v":{"$error":"#REF!"}},{"$f":"計算結果!#REF!","v":{"$error":"#REF!"}},{"$f":"計算結果!#REF!","v":{"$error":"#REF!"}},{"$f":"計算結果!#REF!","v":{"$error":"#REF!"}},{"$f":"計算結果!#REF!","v":{"$error":"#REF!"}}]
[{"$f":"入力シート!A616","v":0},{"$f":"入力シート!G616","v":0},{"$f":"入力シート!H616","v":0},{"$f":"IF(入力シート!$J616<>\"\",入力シート!$J616,IF(入力シート!$L616<>\"\",入力シート!$L616,\"‐\"))","v":"‐"},{"$f":"IF(入力シート!$K616<>\"\",入力シート!$K616,IF(入力シート!$M616<>\"\",入力シート!$M616,入力シート!$N616))","v":0},{"$f":"入力シート!I616","v":0},{"$f":"入力シート!O616","v":0},{"$f":"IF(入力シート!P616=\"×\",\"P\",\"PN\")","v":"PN"},{"$f":"計算結果!#REF!","v":{"$error":"#REF!"}},{"$f":"計算結果!#REF!","v":{"$error":"#REF!"}},{"$f":"計算結果!#REF!","v":{"$error":"#REF!"}},{"$f":"計算結果!#REF!","v":{"$error":"#REF!"}},{"$f":"計算結果!#REF!","v":{"$error":"#REF!"}},{"$f":"計算結果!#REF!","v":{"$error":"#REF!"}},{"$f":"計算結果!#REF!","v":{"$error":"#REF!"}},{"$f":"計算結果!#REF!","v":{"$error":"#REF!"}},{"$f":"計算結果!#REF!","v":{"$error":"#REF!"}},{"$f":"計算結果!#REF!","v":{"$error":"#REF!"}}]
[{"$f":"入力シート!A617","v":0},{"$f":"入力シート!G617","v":0},{"$f":"入力シート!H617","v":0},{"$f":"IF(入力シート!$J617<>\"\",入力シート!$J617,IF(入力シート!$L617<>\"\",入力シート!$L617,\"‐\"))","v":"‐"},{"$f":"IF(入力シート!$K617<>\"\",入力シート!$K617,IF(入力シート!$M617<>\"\",入力シート!$M617,入力シート!$N617))","v":0},{"$f":"入力シート!I617","v":0},{"$f":"入力シート!O617","v":0},{"$f":"IF(入力シート!P617=\"×\",\"P\",\"PN\")","v":"PN"},{"$f":"計算結果!#REF!","v":{"$error":"#REF!"}},{"$f":"計算結果!#REF!","v":{"$error":"#REF!"}},{"$f":"計算結果!#REF!","v":{"$error":"#REF!"}},{"$f":"計算結果!#REF!","v":{"$error":"#REF!"}},{"$f":"計算結果!#REF!","v":{"$error":"#REF!"}},{"$f":"計算結果!#REF!","v":{"$error":"#REF!"}},{"$f":"計算結果!#REF!","v":{"$error":"#REF!"}},{"$f":"計算結果!#REF!","v":{"$error":"#REF!"}},{"$f":"計算結果!#REF!","v":{"$error":"#REF!"}},{"$f":"計算結果!#REF!","v":{"$error":"#REF!"}}]
[{"$f":"入力シート!A618","v":0},{"$f":"入力シート!G618","v":0},{"$f":"入力シート!H618","v":0},{"$f":"IF(入力シート!$J618<>\"\",入力シート!$J618,IF(入力シート!$L618<>\"\",入力シート!$L618,\"‐\"))","v":"‐"},{"$f":"IF(入力シート!$K618<>\"\",入力シート!$K618,IF(入力シート!$M618<>\"\",入力シート!$M618,入力シート!$N618))","v":0},{"$f":"入力シート!I618","v":0},{"$f":"入力シート!O618","v":0},{"$f":"IF(入力シート!P618=\"×\",\"P\",\"PN\")","v":"PN"},{"$f":"計算結果!#REF!","v":{"$error":"#REF!"}},{"$f":"計算結果!#REF!","v":{"$error":"#REF!"}},{"$f":"計算結果!#REF!","v":{"$error":"#REF!"}},{"$f":"計算結果!#REF!","v":{"$error":"#REF!"}},{"$f":"計算結果!#REF!","v":{"$error":"#REF!"}},{"$f":"計算結果!#REF!","v":{"$error":"#REF!"}},{"$f":"計算結果!#REF!","v":{"$error":"#REF!"}},{"$f":"計算結果!#REF!","v":{"$error":"#REF!"}},{"$f":"計算結果!#REF!","v":{"$error":"#REF!"}},{"$f":"計算結果!#REF!","v":{"$error":"#REF!"}}]
[{"$f":"入力シート!A619","v":0},{"$f":"入力シート!G619","v":0},{"$f":"入力シート!H619","v":0},{"$f":"IF(入力シート!$J619<>\"\",入力シート!$J619,IF(入力シート!$L619<>\"\",入力シート!$L619,\"‐\"))","v":"‐"},{"$f":"IF(入力シート!$K619<>\"\",入力シート!$K619,IF(入力シート!$M619<>\"\",入力シート!$M619,入力シート!$N619))","v":0},{"$f":"入力シート!I619","v":0},{"$f":"入力シート!O619","v":0},{"$f":"IF(入力シート!P619=\"×\",\"P\",\"PN\")","v":"PN"},{"$f":"計算結果!#REF!","v":{"$error":"#REF!"}},{"$f":"計算結果!#REF!","v":{"$error":"#REF!"}},{"$f":"計算結果!#REF!","v":{"$error":"#REF!"}},{"$f":"計算結果!#REF!","v":{"$error":"#REF!"}},{"$f":"計算結果!#REF!","v":{"$error":"#REF!"}},{"$f":"計算結果!#REF!","v":{"$error":"#REF!"}},{"$f":"計算結果!#REF!","v":{"$error":"#REF!"}},{"$f":"計算結果!#REF!","v":{"$error":"#REF!"}},{"$f":"計算結果!#REF!","v":{"$error":"#REF!"}},{"$f":"計算結果!#REF!","v":{"$error":"#REF!"}}]
[{"$f":"入力シート!A620","v":0},{"$f":"入力シート!G620","v":0},{"$f":"入力シート!H620","v":0},{"$f":"IF(入力シート!$J620<>\"\",入力シート!$J620,IF(入力シート!$L620<>\"\",入力シート!$L620,\"‐\"))","v":"‐"},{"$f":"IF(入力シート!$K620<>\"\",入力シート!$K620,IF(入力シート!$M620<>\"\",入力シート!$M620,入力シート!$N620))","v":0},{"$f":"入力シート!I620","v":0},{"$f":"入力シート!O620","v":0},{"$f":"IF(入力シート!P620=\"×\",\"P\",\"PN\")","v":"PN"},{"$f":"計算結果!#REF!","v":{"$error":"#REF!"}},{"$f":"計算結果!#REF!","v":{"$error":"#REF!"}},{"$f":"計算結果!#REF!","v":{"$error":"#REF!"}},{"$f":"計算結果!#REF!","v":{"$error":"#REF!"}},{"$f":"計算結果!#REF!","v":{"$error":"#REF!"}},{"$f":"計算結果!#REF!","v":{"$error":"#REF!"}},{"$f":"計算結果!#REF!","v":{"$error":"#REF!"}},{"$f":"計算結果!#REF!","v":{"$error":"#REF!"}},{"$f":"計算結果!#REF!","v":{"$error":"#REF!"}},{"$f":"計算結果!#REF!","v":{"$error":"#REF!"}}]
[{"$f":"入力シート!A621","v":0},{"$f":"入力シート!G621","v":0},{"$f":"入力シート!H621","v":0},{"$f":"IF(入力シート!$J621<>\"\",入力シート!$J621,IF(入力シート!$L621<>\"\",入力シート!$L621,\"‐\"))","v":"‐"},{"$f":"IF(入力シート!$K621<>\"\",入力シート!$K621,IF(入力シート!$M621<>\"\",入力シート!$M621,入力シート!$N621))","v":0},{"$f":"入力シート!I621","v":0},{"$f":"入力シート!O621","v":0},{"$f":"IF(入力シート!P621=\"×\",\"P\",\"PN\")","v":"PN"},{"$f":"計算結果!#REF!","v":{"$error":"#REF!"}},{"$f":"計算結果!#REF!","v":{"$error":"#REF!"}},{"$f":"計算結果!#REF!","v":{"$error":"#REF!"}},{"$f":"計算結果!#REF!","v":{"$error":"#REF!"}},{"$f":"計算結果!#REF!","v":{"$error":"#REF!"}},{"$f":"計算結果!#REF!","v":{"$error":"#REF!"}},{"$f":"計算結果!#REF!","v":{"$error":"#REF!"}},{"$f":"計算結果!#REF!","v":{"$error":"#REF!"}},{"$f":"計算結果!#REF!","v":{"$error":"#REF!"}},{"$f":"計算結果!#REF!","v":{"$error":"#REF!"}}]
[{"$f":"入力シート!A622","v":0},{"$f":"入力シート!G622","v":0},{"$f":"入力シート!H622","v":0},{"$f":"IF(入力シート!$J622<>\"\",入力シート!$J622,IF(入力シート!$L622<>\"\",入力シート!$L622,\"‐\"))","v":"‐"},{"$f":"IF(入力シート!$K622<>\"\",入力シート!$K622,IF(入力シート!$M622<>\"\",入力シート!$M622,入力シート!$N622))","v":0},{"$f":"入力シート!I622","v":0},{"$f":"入力シート!O622","v":0},{"$f":"IF(入力シート!P622=\"×\",\"P\",\"PN\")","v":"PN"},{"$f":"計算結果!#REF!","v":{"$error":"#REF!"}},{"$f":"計算結果!#REF!","v":{"$error":"#REF!"}},{"$f":"計算結果!#REF!","v":{"$error":"#REF!"}},{"$f":"計算結果!#REF!","v":{"$error":"#REF!"}},{"$f":"計算結果!#REF!","v":{"$error":"#REF!"}},{"$f":"計算結果!#REF!","v":{"$error":"#REF!"}},{"$f":"計算結果!#REF!","v":{"$error":"#REF!"}},{"$f":"計算結果!#REF!","v":{"$error":"#REF!"}},{"$f":"計算結果!#REF!","v":{"$error":"#REF!"}},{"$f":"計算結果!#REF!","v":{"$error":"#REF!"}}]
[{"$f":"入力シート!A623","v":0},{"$f":"入力シート!G623","v":0},{"$f":"入力シート!H623","v":0},{"$f":"IF(入力シート!$J623<>\"\",入力シート!$J623,IF(入力シート!$L623<>\"\",入力シート!$L623,\"‐\"))","v":"‐"},{"$f":"IF(入力シート!$K623<>\"\",入力シート!$K623,IF(入力シート!$M623<>\"\",入力シート!$M623,入力シート!$N623))","v":0},{"$f":"入力シート!I623","v":0},{"$f":"入力シート!O623","v":0},{"$f":"IF(入力シート!P623=\"×\",\"P\",\"PN\")","v":"PN"},{"$f":"計算結果!#REF!","v":{"$error":"#REF!"}},{"$f":"計算結果!#REF!","v":{"$error":"#REF!"}},{"$f":"計算結果!#REF!","v":{"$error":"#REF!"}},{"$f":"計算結果!#REF!","v":{"$error":"#REF!"}},{"$f":"計算結果!#REF!","v":{"$error":"#REF!"}},{"$f":"計算結果!#REF!","v":{"$error":"#REF!"}},{"$f":"計算結果!#REF!","v":{"$error":"#REF!"}},{"$f":"計算結果!#REF!","v":{"$error":"#REF!"}},{"$f":"計算結果!#REF!","v":{"$error":"#REF!"}},{"$f":"計算結果!#REF!","v":{"$error":"#REF!"}}]
[{"$f":"入力シート!A624","v":0},{"$f":"入力シート!G624","v":0},{"$f":"入力シート!H624","v":0},{"$f":"IF(入力シート!$J624<>\"\",入力シート!$J624,IF(入力シート!$L624<>\"\",入力シート!$L624,\"‐\"))","v":"‐"},{"$f":"IF(入力シート!$K624<>\"\",入力シート!$K624,IF(入力シート!$M624<>\"\",入力シート!$M624,入力シート!$N624))","v":0},{"$f":"入力シート!I624","v":0},{"$f":"入力シート!O624","v":0},{"$f":"IF(入力シート!P624=\"×\",\"P\",\"PN\")","v":"PN"},{"$f":"計算結果!#REF!","v":{"$error":"#REF!"}},{"$f":"計算結果!#REF!","v":{"$error":"#REF!"}},{"$f":"計算結果!#REF!","v":{"$error":"#REF!"}},{"$f":"計算結果!#REF!","v":{"$error":"#REF!"}},{"$f":"計算結果!#REF!","v":{"$error":"#REF!"}},{"$f":"計算結果!#REF!","v":{"$error":"#REF!"}},{"$f":"計算結果!#REF!","v":{"$error":"#REF!"}},{"$f":"計算結果!#REF!","v":{"$error":"#REF!"}},{"$f":"計算結果!#REF!","v":{"$error":"#REF!"}},{"$f":"計算結果!#REF!","v":{"$error":"#REF!"}}]
[{"$f":"入力シート!A625","v":0},{"$f":"入力シート!G625","v":0},{"$f":"入力シート!H625","v":0},{"$f":"IF(入力シート!$J625<>\"\",入力シート!$J625,IF(入力シート!$L625<>\"\",入力シート!$L625,\"‐\"))","v":"‐"},{"$f":"IF(入力シート!$K625<>\"\",入力シート!$K625,IF(入力シート!$M625<>\"\",入力シート!$M625,入力シート!$N625))","v":0},{"$f":"入力シート!I625","v":0},{"$f":"入力シート!O625","v":0},{"$f":"IF(入力シート!P625=\"×\",\"P\",\"PN\")","v":"PN"},{"$f":"計算結果!#REF!","v":{"$error":"#REF!"}},{"$f":"計算結果!#REF!","v":{"$error":"#REF!"}},{"$f":"計算結果!#REF!","v":{"$error":"#REF!"}},{"$f":"計算結果!#REF!","v":{"$error":"#REF!"}},{"$f":"計算結果!#REF!","v":{"$error":"#REF!"}},{"$f":"計算結果!#REF!","v":{"$error":"#REF!"}},{"$f":"計算結果!#REF!","v":{"$error":"#REF!"}},{"$f":"計算結果!#REF!","v":{"$error":"#REF!"}},{"$f":"計算結果!#REF!","v":{"$error":"#REF!"}},{"$f":"計算結果!#REF!","v":{"$error":"#REF!"}}]
[{"$f":"入力シート!A626","v":0},{"$f":"入力シート!G626","v":0},{"$f":"入力シート!H626","v":0},{"$f":"IF(入力シート!$J626<>\"\",入力シート!$J626,IF(入力シート!$L626<>\"\",入力シート!$L626,\"‐\"))","v":"‐"},{"$f":"IF(入力シート!$K626<>\"\",入力シート!$K626,IF(入力シート!$M626<>\"\",入力シート!$M626,入力シート!$N626))","v":0},{"$f":"入力シート!I626","v":0},{"$f":"入力シート!O626","v":0},{"$f":"IF(入力シート!P626=\"×\",\"P\",\"PN\")","v":"PN"},{"$f":"計算結果!#REF!","v":{"$error":"#REF!"}},{"$f":"計算結果!#REF!","v":{"$error":"#REF!"}},{"$f":"計算結果!#REF!","v":{"$error":"#REF!"}},{"$f":"計算結果!#REF!","v":{"$error":"#REF!"}},{"$f":"計算結果!#REF!","v":{"$error":"#REF!"}},{"$f":"計算結果!#REF!","v":{"$error":"#REF!"}},{"$f":"計算結果!#REF!","v":{"$error":"#REF!"}},{"$f":"計算結果!#REF!","v":{"$error":"#REF!"}},{"$f":"計算結果!#REF!","v":{"$error":"#REF!"}},{"$f":"計算結果!#REF!","v":{"$error":"#REF!"}}]
[{"$f":"入力シート!A627","v":0},{"$f":"入力シート!G627","v":0},{"$f":"入力シート!H627","v":0},{"$f":"IF(入力シート!$J627<>\"\",入力シート!$J627,IF(入力シート!$L627<>\"\",入力シート!$L627,\"‐\"))","v":"‐"},{"$f":"IF(入力シート!$K627<>\"\",入力シート!$K627,IF(入力シート!$M627<>\"\",入力シート!$M627,入力シート!$N627))","v":0},{"$f":"入力シート!I627","v":0},{"$f":"入力シート!O627","v":0},{"$f":"IF(入力シート!P627=\"×\",\"P\",\"PN\")","v":"PN"},{"$f":"計算結果!#REF!","v":{"$error":"#REF!"}},{"$f":"計算結果!#REF!","v":{"$error":"#REF!"}},{"$f":"計算結果!#REF!","v":{"$error":"#REF!"}},{"$f":"計算結果!#REF!","v":{"$error":"#REF!"}},{"$f":"計算結果!#REF!","v":{"$error":"#REF!"}},{"$f":"計算結果!#REF!","v":{"$error":"#REF!"}},{"$f":"計算結果!#REF!","v":{"$error":"#REF!"}},{"$f":"計算結果!#REF!","v":{"$error":"#REF!"}},{"$f":"計算結果!#REF!","v":{"$error":"#REF!"}},{"$f":"計算結果!#REF!","v":{"$error":"#REF!"}}]
[{"$f":"入力シート!A628","v":0},{"$f":"入力シート!G628","v":0},{"$f":"入力シート!H628","v":0},{"$f":"IF(入力シート!$J628<>\"\",入力シート!$J628,IF(入力シート!$L628<>\"\",入力シート!$L628,\"‐\"))","v":"‐"},{"$f":"IF(入力シート!$K628<>\"\",入力シート!$K628,IF(入力シート!$M628<>\"\",入力シート!$M628,入力シート!$N628))","v":0},{"$f":"入力シート!I628","v":0},{"$f":"入力シート!O628","v":0},{"$f":"IF(入力シート!P628=\"×\",\"P\",\"PN\")","v":"PN"},{"$f":"計算結果!#REF!","v":{"$error":"#REF!"}},{"$f":"計算結果!#REF!","v":{"$error":"#REF!"}},{"$f":"計算結果!#REF!","v":{"$error":"#REF!"}},{"$f":"計算結果!#REF!","v":{"$error":"#REF!"}},{"$f":"計算結果!#REF!","v":{"$error":"#REF!"}},{"$f":"計算結果!#REF!","v":{"$error":"#REF!"}},{"$f":"計算結果!#REF!","v":{"$error":"#REF!"}},{"$f":"計算結果!#REF!","v":{"$error":"#REF!"}},{"$f":"計算結果!#REF!","v":{"$error":"#REF!"}},{"$f":"計算結果!#REF!","v":{"$error":"#REF!"}}]
[{"$f":"入力シート!A629","v":0},{"$f":"入力シート!G629","v":0},{"$f":"入力シート!H629","v":0},{"$f":"IF(入力シート!$J629<>\"\",入力シート!$J629,IF(入力シート!$L629<>\"\",入力シート!$L629,\"‐\"))","v":"‐"},{"$f":"IF(入力シート!$K629<>\"\",入力シート!$K629,IF(入力シート!$M629<>\"\",入力シート!$M629,入力シート!$N629))","v":0},{"$f":"入力シート!I629","v":0},{"$f":"入力シート!O629","v":0},{"$f":"IF(入力シート!P629=\"×\",\"P\",\"PN\")","v":"PN"},{"$f":"計算結果!#REF!","v":{"$error":"#REF!"}},{"$f":"計算結果!#REF!","v":{"$error":"#REF!"}},{"$f":"計算結果!#REF!","v":{"$error":"#REF!"}},{"$f":"計算結果!#REF!","v":{"$error":"#REF!"}},{"$f":"計算結果!#REF!","v":{"$error":"#REF!"}},{"$f":"計算結果!#REF!","v":{"$error":"#REF!"}},{"$f":"計算結果!#REF!","v":{"$error":"#REF!"}},{"$f":"計算結果!#REF!","v":{"$error":"#REF!"}},{"$f":"計算結果!#REF!","v":{"$error":"#REF!"}},{"$f":"計算結果!#REF!","v":{"$error":"#REF!"}}]
[{"$f":"入力シート!A630","v":0},{"$f":"入力シート!G630","v":0},{"$f":"入力シート!H630","v":0},{"$f":"IF(入力シート!$J630<>\"\",入力シート!$J630,IF(入力シート!$L630<>\"\",入力シート!$L630,\"‐\"))","v":"‐"},{"$f":"IF(入力シート!$K630<>\"\",入力シート!$K630,IF(入力シート!$M630<>\"\",入力シート!$M630,入力シート!$N630))","v":0},{"$f":"入力シート!I630","v":0},{"$f":"入力シート!O630","v":0},{"$f":"IF(入力シート!P630=\"×\",\"P\",\"PN\")","v":"PN"},{"$f":"計算結果!#REF!","v":{"$error":"#REF!"}},{"$f":"計算結果!#REF!","v":{"$error":"#REF!"}},{"$f":"計算結果!#REF!","v":{"$error":"#REF!"}},{"$f":"計算結果!#REF!","v":{"$error":"#REF!"}},{"$f":"計算結果!#REF!","v":{"$error":"#REF!"}},{"$f":"計算結果!#REF!","v":{"$error":"#REF!"}},{"$f":"計算結果!#REF!","v":{"$error":"#REF!"}},{"$f":"計算結果!#REF!","v":{"$error":"#REF!"}},{"$f":"計算結果!#REF!","v":{"$error":"#REF!"}},{"$f":"計算結果!#REF!","v":{"$error":"#REF!"}}]
[{"$f":"入力シート!A631","v":0},{"$f":"入力シート!G631","v":0},{"$f":"入力シート!H631","v":0},{"$f":"IF(入力シート!$J631<>\"\",入力シート!$J631,IF(入力シート!$L631<>\"\",入力シート!$L631,\"‐\"))","v":"‐"},{"$f":"IF(入力シート!$K631<>\"\",入力シート!$K631,IF(入力シート!$M631<>\"\",入力シート!$M631,入力シート!$N631))","v":0},{"$f":"入力シート!I631","v":0},{"$f":"入力シート!O631","v":0},{"$f":"IF(入力シート!P631=\"×\",\"P\",\"PN\")","v":"PN"},{"$f":"計算結果!#REF!","v":{"$error":"#REF!"}},{"$f":"計算結果!#REF!","v":{"$error":"#REF!"}},{"$f":"計算結果!#REF!","v":{"$error":"#REF!"}},{"$f":"計算結果!#REF!","v":{"$error":"#REF!"}},{"$f":"計算結果!#REF!","v":{"$error":"#REF!"}},{"$f":"計算結果!#REF!","v":{"$error":"#REF!"}},{"$f":"計算結果!#REF!","v":{"$error":"#REF!"}},{"$f":"計算結果!#REF!","v":{"$error":"#REF!"}},{"$f":"計算結果!#REF!","v":{"$error":"#REF!"}},{"$f":"計算結果!#REF!","v":{"$error":"#REF!"}}]
[{"$f":"入力シート!A632","v":0},{"$f":"入力シート!G632","v":0},{"$f":"入力シート!H632","v":0},{"$f":"IF(入力シート!$J632<>\"\",入力シート!$J632,IF(入力シート!$L632<>\"\",入力シート!$L632,\"‐\"))","v":"‐"},{"$f":"IF(入力シート!$K632<>\"\",入力シート!$K632,IF(入力シート!$M632<>\"\",入力シート!$M632,入力シート!$N632))","v":0},{"$f":"入力シート!I632","v":0},{"$f":"入力シート!O632","v":0},{"$f":"IF(入力シート!P632=\"×\",\"P\",\"PN\")","v":"PN"},{"$f":"計算結果!#REF!","v":{"$error":"#REF!"}},{"$f":"計算結果!#REF!","v":{"$error":"#REF!"}},{"$f":"計算結果!#REF!","v":{"$error":"#REF!"}},{"$f":"計算結果!#REF!","v":{"$error":"#REF!"}},{"$f":"計算結果!#REF!","v":{"$error":"#REF!"}},{"$f":"計算結果!#REF!","v":{"$error":"#REF!"}},{"$f":"計算結果!#REF!","v":{"$error":"#REF!"}},{"$f":"計算結果!#REF!","v":{"$error":"#REF!"}},{"$f":"計算結果!#REF!","v":{"$error":"#REF!"}},{"$f":"計算結果!#REF!","v":{"$error":"#REF!"}}]
[{"$f":"入力シート!A633","v":0},{"$f":"入力シート!G633","v":0},{"$f":"入力シート!H633","v":0},{"$f":"IF(入力シート!$J633<>\"\",入力シート!$J633,IF(入力シート!$L633<>\"\",入力シート!$L633,\"‐\"))","v":"‐"},{"$f":"IF(入力シート!$K633<>\"\",入力シート!$K633,IF(入力シート!$M633<>\"\",入力シート!$M633,入力シート!$N633))","v":0},{"$f":"入力シート!I633","v":0},{"$f":"入力シート!O633","v":0},{"$f":"IF(入力シート!P633=\"×\",\"P\",\"PN\")","v":"PN"},{"$f":"計算結果!#REF!","v":{"$error":"#REF!"}},{"$f":"計算結果!#REF!","v":{"$error":"#REF!"}},{"$f":"計算結果!#REF!","v":{"$error":"#REF!"}},{"$f":"計算結果!#REF!","v":{"$error":"#REF!"}},{"$f":"計算結果!#REF!","v":{"$error":"#REF!"}},{"$f":"計算結果!#REF!","v":{"$error":"#REF!"}},{"$f":"計算結果!#REF!","v":{"$error":"#REF!"}},{"$f":"計算結果!#REF!","v":{"$error":"#REF!"}},{"$f":"計算結果!#REF!","v":{"$error":"#REF!"}},{"$f":"計算結果!#REF!","v":{"$error":"#REF!"}}]
[{"$f":"入力シート!A634","v":0},{"$f":"入力シート!G634","v":0},{"$f":"入力シート!H634","v":0},{"$f":"IF(入力シート!$J634<>\"\",入力シート!$J634,IF(入力シート!$L634<>\"\",入力シート!$L634,\"‐\"))","v":"‐"},{"$f":"IF(入力シート!$K634<>\"\",入力シート!$K634,IF(入力シート!$M634<>\"\",入力シート!$M634,入力シート!$N634))","v":0},{"$f":"入力シート!I634","v":0},{"$f":"入力シート!O634","v":0},{"$f":"IF(入力シート!P634=\"×\",\"P\",\"PN\")","v":"PN"},{"$f":"計算結果!#REF!","v":{"$error":"#REF!"}},{"$f":"計算結果!#REF!","v":{"$error":"#REF!"}},{"$f":"計算結果!#REF!","v":{"$error":"#REF!"}},{"$f":"計算結果!#REF!","v":{"$error":"#REF!"}},{"$f":"計算結果!#REF!","v":{"$error":"#REF!"}},{"$f":"計算結果!#REF!","v":{"$error":"#REF!"}},{"$f":"計算結果!#REF!","v":{"$error":"#REF!"}},{"$f":"計算結果!#REF!","v":{"$error":"#REF!"}},{"$f":"計算結果!#REF!","v":{"$error":"#REF!"}},{"$f":"計算結果!#REF!","v":{"$error":"#REF!"}}]
[{"$f":"入力シート!A635","v":0},{"$f":"入力シート!G635","v":0},{"$f":"入力シート!H635","v":0},{"$f":"IF(入力シート!$J635<>\"\",入力シート!$J635,IF(入力シート!$L635<>\"\",入力シート!$L635,\"‐\"))","v":"‐"},{"$f":"IF(入力シート!$K635<>\"\",入力シート!$K635,IF(入力シート!$M635<>\"\",入力シート!$M635,入力シート!$N635))","v":0},{"$f":"入力シート!I635","v":0},{"$f":"入力シート!O635","v":0},{"$f":"IF(入力シート!P635=\"×\",\"P\",\"PN\")","v":"PN"},{"$f":"計算結果!#REF!","v":{"$error":"#REF!"}},{"$f":"計算結果!#REF!","v":{"$error":"#REF!"}},{"$f":"計算結果!#REF!","v":{"$error":"#REF!"}},{"$f":"計算結果!#REF!","v":{"$error":"#REF!"}},{"$f":"計算結果!#REF!","v":{"$error":"#REF!"}},{"$f":"計算結果!#REF!","v":{"$error":"#REF!"}},{"$f":"計算結果!#REF!","v":{"$error":"#REF!"}},{"$f":"計算結果!#REF!","v":{"$error":"#REF!"}},{"$f":"計算結果!#REF!","v":{"$error":"#REF!"}},{"$f":"計算結果!#REF!","v":{"$error":"#REF!"}}]
[{"$f":"入力シート!A636","v":0},{"$f":"入力シート!G636","v":0},{"$f":"入力シート!H636","v":0},{"$f":"IF(入力シート!$J636<>\"\",入力シート!$J636,IF(入力シート!$L636<>\"\",入力シート!$L636,\"‐\"))","v":"‐"},{"$f":"IF(入力シート!$K636<>\"\",入力シート!$K636,IF(入力シート!$M636<>\"\",入力シート!$M636,入力シート!$N636))","v":0},{"$f":"入力シート!I636","v":0},{"$f":"入力シート!O636","v":0},{"$f":"IF(入力シート!P636=\"×\",\"P\",\"PN\")","v":"PN"},{"$f":"計算結果!#REF!","v":{"$error":"#REF!"}},{"$f":"計算結果!#REF!","v":{"$error":"#REF!"}},{"$f":"計算結果!#REF!","v":{"$error":"#REF!"}},{"$f":"計算結果!#REF!","v":{"$error":"#REF!"}},{"$f":"計算結果!#REF!","v":{"$error":"#REF!"}},{"$f":"計算結果!#REF!","v":{"$error":"#REF!"}},{"$f":"計算結果!#REF!","v":{"$error":"#REF!"}},{"$f":"計算結果!#REF!","v":{"$error":"#REF!"}},{"$f":"計算結果!#REF!","v":{"$error":"#REF!"}},{"$f":"計算結果!#REF!","v":{"$error":"#REF!"}}]
[{"$f":"入力シート!A637","v":0},{"$f":"入力シート!G637","v":0},{"$f":"入力シート!H637","v":0},{"$f":"IF(入力シート!$J637<>\"\",入力シート!$J637,IF(入力シート!$L637<>\"\",入力シート!$L637,\"‐\"))","v":"‐"},{"$f":"IF(入力シート!$K637<>\"\",入力シート!$K637,IF(入力シート!$M637<>\"\",入力シート!$M637,入力シート!$N637))","v":0},{"$f":"入力シート!I637","v":0},{"$f":"入力シート!O637","v":0},{"$f":"IF(入力シート!P637=\"×\",\"P\",\"PN\")","v":"PN"},{"$f":"計算結果!#REF!","v":{"$error":"#REF!"}},{"$f":"計算結果!#REF!","v":{"$error":"#REF!"}},{"$f":"計算結果!#REF!","v":{"$error":"#REF!"}},{"$f":"計算結果!#REF!","v":{"$error":"#REF!"}},{"$f":"計算結果!#REF!","v":{"$error":"#REF!"}},{"$f":"計算結果!#REF!","v":{"$error":"#REF!"}},{"$f":"計算結果!#REF!","v":{"$error":"#REF!"}},{"$f":"計算結果!#REF!","v":{"$error":"#REF!"}},{"$f":"計算結果!#REF!","v":{"$error":"#REF!"}},{"$f":"計算結果!#REF!","v":{"$error":"#REF!"}}]
[{"$f":"入力シート!A638","v":0},{"$f":"入力シート!G638","v":0},{"$f":"入力シート!H638","v":0},{"$f":"IF(入力シート!$J638<>\"\",入力シート!$J638,IF(入力シート!$L638<>\"\",入力シート!$L638,\"‐\"))","v":"‐"},{"$f":"IF(入力シート!$K638<>\"\",入力シート!$K638,IF(入力シート!$M638<>\"\",入力シート!$M638,入力シート!$N638))","v":0},{"$f":"入力シート!I638","v":0},{"$f":"入力シート!O638","v":0},{"$f":"IF(入力シート!P638=\"×\",\"P\",\"PN\")","v":"PN"},{"$f":"計算結果!#REF!","v":{"$error":"#REF!"}},{"$f":"計算結果!#REF!","v":{"$error":"#REF!"}},{"$f":"計算結果!#REF!","v":{"$error":"#REF!"}},{"$f":"計算結果!#REF!","v":{"$error":"#REF!"}},{"$f":"計算結果!#REF!","v":{"$error":"#REF!"}},{"$f":"計算結果!#REF!","v":{"$error":"#REF!"}},{"$f":"計算結果!#REF!","v":{"$error":"#REF!"}},{"$f":"計算結果!#REF!","v":{"$error":"#REF!"}},{"$f":"計算結果!#REF!","v":{"$error":"#REF!"}},{"$f":"計算結果!#REF!","v":{"$error":"#REF!"}}]
[{"$f":"入力シート!A639","v":0},{"$f":"入力シート!G639","v":0},{"$f":"入力シート!H639","v":0},{"$f":"IF(入力シート!$J639<>\"\",入力シート!$J639,IF(入力シート!$L639<>\"\",入力シート!$L639,\"‐\"))","v":"‐"},{"$f":"IF(入力シート!$K639<>\"\",入力シート!$K639,IF(入力シート!$M639<>\"\",入力シート!$M639,入力シート!$N639))","v":0},{"$f":"入力シート!I639","v":0},{"$f":"入力シート!O639","v":0},{"$f":"IF(入力シート!P639=\"×\",\"P\",\"PN\")","v":"PN"},{"$f":"計算結果!#REF!","v":{"$error":"#REF!"}},{"$f":"計算結果!#REF!","v":{"$error":"#REF!"}},{"$f":"計算結果!#REF!","v":{"$error":"#REF!"}},{"$f":"計算結果!#REF!","v":{"$error":"#REF!"}},{"$f":"計算結果!#REF!","v":{"$error":"#REF!"}},{"$f":"計算結果!#REF!","v":{"$error":"#REF!"}},{"$f":"計算結果!#REF!","v":{"$error":"#REF!"}},{"$f":"計算結果!#REF!","v":{"$error":"#REF!"}},{"$f":"計算結果!#REF!","v":{"$error":"#REF!"}},{"$f":"計算結果!#REF!","v":{"$error":"#REF!"}}]
[{"$f":"入力シート!A640","v":0},{"$f":"入力シート!G640","v":0},{"$f":"入力シート!H640","v":0},{"$f":"IF(入力シート!$J640<>\"\",入力シート!$J640,IF(入力シート!$L640<>\"\",入力シート!$L640,\"‐\"))","v":"‐"},{"$f":"IF(入力シート!$K640<>\"\",入力シート!$K640,IF(入力シート!$M640<>\"\",入力シート!$M640,入力シート!$N640))","v":0},{"$f":"入力シート!I640","v":0},{"$f":"入力シート!O640","v":0},{"$f":"IF(入力シート!P640=\"×\",\"P\",\"PN\")","v":"PN"},{"$f":"計算結果!#REF!","v":{"$error":"#REF!"}},{"$f":"計算結果!#REF!","v":{"$error":"#REF!"}},{"$f":"計算結果!#REF!","v":{"$error":"#REF!"}},{"$f":"計算結果!#REF!","v":{"$error":"#REF!"}},{"$f":"計算結果!#REF!","v":{"$error":"#REF!"}},{"$f":"計算結果!#REF!","v":{"$error":"#REF!"}},{"$f":"計算結果!#REF!","v":{"$error":"#REF!"}},{"$f":"計算結果!#REF!","v":{"$error":"#REF!"}},{"$f":"計算結果!#REF!","v":{"$error":"#REF!"}},{"$f":"計算結果!#REF!","v":{"$error":"#REF!"}}]
[{"$f":"入力シート!A641","v":0},{"$f":"入力シート!G641","v":0},{"$f":"入力シート!H641","v":0},{"$f":"IF(入力シート!$J641<>\"\",入力シート!$J641,IF(入力シート!$L641<>\"\",入力シート!$L641,\"‐\"))","v":"‐"},{"$f":"IF(入力シート!$K641<>\"\",入力シート!$K641,IF(入力シート!$M641<>\"\",入力シート!$M641,入力シート!$N641))","v":0},{"$f":"入力シート!I641","v":0},{"$f":"入力シート!O641","v":0},{"$f":"IF(入力シート!P641=\"×\",\"P\",\"PN\")","v":"PN"},{"$f":"計算結果!#REF!","v":{"$error":"#REF!"}},{"$f":"計算結果!#REF!","v":{"$error":"#REF!"}},{"$f":"計算結果!#REF!","v":{"$error":"#REF!"}},{"$f":"計算結果!#REF!","v":{"$error":"#REF!"}},{"$f":"計算結果!#REF!","v":{"$error":"#REF!"}},{"$f":"計算結果!#REF!","v":{"$error":"#REF!"}},{"$f":"計算結果!#REF!","v":{"$error":"#REF!"}},{"$f":"計算結果!#REF!","v":{"$error":"#REF!"}},{"$f":"計算結果!#REF!","v":{"$error":"#REF!"}},{"$f":"計算結果!#REF!","v":{"$error":"#REF!"}}]
[{"$f":"入力シート!A642","v":0},{"$f":"入力シート!G642","v":0},{"$f":"入力シート!H642","v":0},{"$f":"IF(入力シート!$J642<>\"\",入力シート!$J642,IF(入力シート!$L642<>\"\",入力シート!$L642,\"‐\"))","v":"‐"},{"$f":"IF(入力シート!$K642<>\"\",入力シート!$K642,IF(入力シート!$M642<>\"\",入力シート!$M642,入力シート!$N642))","v":0},{"$f":"入力シート!I642","v":0},{"$f":"入力シート!O642","v":0},{"$f":"IF(入力シート!P642=\"×\",\"P\",\"PN\")","v":"PN"},{"$f":"計算結果!#REF!","v":{"$error":"#REF!"}},{"$f":"計算結果!#REF!","v":{"$error":"#REF!"}},{"$f":"計算結果!#REF!","v":{"$error":"#REF!"}},{"$f":"計算結果!#REF!","v":{"$error":"#REF!"}},{"$f":"計算結果!#REF!","v":{"$error":"#REF!"}},{"$f":"計算結果!#REF!","v":{"$error":"#REF!"}},{"$f":"計算結果!#REF!","v":{"$error":"#REF!"}},{"$f":"計算結果!#REF!","v":{"$error":"#REF!"}},{"$f":"計算結果!#REF!","v":{"$error":"#REF!"}},{"$f":"計算結果!#REF!","v":{"$error":"#REF!"}}]
[{"$f":"入力シート!A643","v":0},{"$f":"入力シート!G643","v":0},{"$f":"入力シート!H643","v":0},{"$f":"IF(入力シート!$J643<>\"\",入力シート!$J643,IF(入力シート!$L643<>\"\",入力シート!$L643,\"‐\"))","v":"‐"},{"$f":"IF(入力シート!$K643<>\"\",入力シート!$K643,IF(入力シート!$M643<>\"\",入力シート!$M643,入力シート!$N643))","v":0},{"$f":"入力シート!I643","v":0},{"$f":"入力シート!O643","v":0},{"$f":"IF(入力シート!P643=\"×\",\"P\",\"PN\")","v":"PN"},{"$f":"計算結果!#REF!","v":{"$error":"#REF!"}},{"$f":"計算結果!#REF!","v":{"$error":"#REF!"}},{"$f":"計算結果!#REF!","v":{"$error":"#REF!"}},{"$f":"計算結果!#REF!","v":{"$error":"#REF!"}},{"$f":"計算結果!#REF!","v":{"$error":"#REF!"}},{"$f":"計算結果!#REF!","v":{"$error":"#REF!"}},{"$f":"計算結果!#REF!","v":{"$error":"#REF!"}},{"$f":"計算結果!#REF!","v":{"$error":"#REF!"}},{"$f":"計算結果!#REF!","v":{"$error":"#REF!"}},{"$f":"計算結果!#REF!","v":{"$error":"#REF!"}}]
[{"$f":"入力シート!A644","v":0},{"$f":"入力シート!G644","v":0},{"$f":"入力シート!H644","v":0},{"$f":"IF(入力シート!$J644<>\"\",入力シート!$J644,IF(入力シート!$L644<>\"\",入力シート!$L644,\"‐\"))","v":"‐"},{"$f":"IF(入力シート!$K644<>\"\",入力シート!$K644,IF(入力シート!$M644<>\"\",入力シート!$M644,入力シート!$N644))","v":0},{"$f":"入力シート!I644","v":0},{"$f":"入力シート!O644","v":0},{"$f":"IF(入力シート!P644=\"×\",\"P\",\"PN\")","v":"PN"},{"$f":"計算結果!#REF!","v":{"$error":"#REF!"}},{"$f":"計算結果!#REF!","v":{"$error":"#REF!"}},{"$f":"計算結果!#REF!","v":{"$error":"#REF!"}},{"$f":"計算結果!#REF!","v":{"$error":"#REF!"}},{"$f":"計算結果!#REF!","v":{"$error":"#REF!"}},{"$f":"計算結果!#REF!","v":{"$error":"#REF!"}},{"$f":"計算結果!#REF!","v":{"$error":"#REF!"}},{"$f":"計算結果!#REF!","v":{"$error":"#REF!"}},{"$f":"計算結果!#REF!","v":{"$error":"#REF!"}},{"$f":"計算結果!#REF!","v":{"$error":"#REF!"}}]
[{"$f":"入力シート!A645","v":0},{"$f":"入力シート!G645","v":0},{"$f":"入力シート!H645","v":0},{"$f":"IF(入力シート!$J645<>\"\",入力シート!$J645,IF(入力シート!$L645<>\"\",入力シート!$L645,\"‐\"))","v":"‐"},{"$f":"IF(入力シート!$K645<>\"\",入力シート!$K645,IF(入力シート!$M645<>\"\",入力シート!$M645,入力シート!$N645))","v":0},{"$f":"入力シート!I645","v":0},{"$f":"入力シート!O645","v":0},{"$f":"IF(入力シート!P645=\"×\",\"P\",\"PN\")","v":"PN"},{"$f":"計算結果!#REF!","v":{"$error":"#REF!"}},{"$f":"計算結果!#REF!","v":{"$error":"#REF!"}},{"$f":"計算結果!#REF!","v":{"$error":"#REF!"}},{"$f":"計算結果!#REF!","v":{"$error":"#REF!"}},{"$f":"計算結果!#REF!","v":{"$error":"#REF!"}},{"$f":"計算結果!#REF!","v":{"$error":"#REF!"}},{"$f":"計算結果!#REF!","v":{"$error":"#REF!"}},{"$f":"計算結果!#REF!","v":{"$error":"#REF!"}},{"$f":"計算結果!#REF!","v":{"$error":"#REF!"}},{"$f":"計算結果!#REF!","v":{"$error":"#REF!"}}]
[{"$f":"入力シート!A646","v":0},{"$f":"入力シート!G646","v":0},{"$f":"入力シート!H646","v":0},{"$f":"IF(入力シート!$J646<>\"\",入力シート!$J646,IF(入力シート!$L646<>\"\",入力シート!$L646,\"‐\"))","v":"‐"},{"$f":"IF(入力シート!$K646<>\"\",入力シート!$K646,IF(入力シート!$M646<>\"\",入力シート!$M646,入力シート!$N646))","v":0},{"$f":"入力シート!I646","v":0},{"$f":"入力シート!O646","v":0},{"$f":"IF(入力シート!P646=\"×\",\"P\",\"PN\")","v":"PN"},{"$f":"計算結果!#REF!","v":{"$error":"#REF!"}},{"$f":"計算結果!#REF!","v":{"$error":"#REF!"}},{"$f":"計算結果!#REF!","v":{"$error":"#REF!"}},{"$f":"計算結果!#REF!","v":{"$error":"#REF!"}},{"$f":"計算結果!#REF!","v":{"$error":"#REF!"}},{"$f":"計算結果!#REF!","v":{"$error":"#REF!"}},{"$f":"計算結果!#REF!","v":{"$error":"#REF!"}},{"$f":"計算結果!#REF!","v":{"$error":"#REF!"}},{"$f":"計算結果!#REF!","v":{"$error":"#REF!"}},{"$f":"計算結果!#REF!","v":{"$error":"#REF!"}}]
[{"$f":"入力シート!A647","v":0},{"$f":"入力シート!G647","v":0},{"$f":"入力シート!H647","v":0},{"$f":"IF(入力シート!$J647<>\"\",入力シート!$J647,IF(入力シート!$L647<>\"\",入力シート!$L647,\"‐\"))","v":"‐"},{"$f":"IF(入力シート!$K647<>\"\",入力シート!$K647,IF(入力シート!$M647<>\"\",入力シート!$M647,入力シート!$N647))","v":0},{"$f":"入力シート!I647","v":0},{"$f":"入力シート!O647","v":0},{"$f":"IF(入力シート!P647=\"×\",\"P\",\"PN\")","v":"PN"},{"$f":"計算結果!#REF!","v":{"$error":"#REF!"}},{"$f":"計算結果!#REF!","v":{"$error":"#REF!"}},{"$f":"計算結果!#REF!","v":{"$error":"#REF!"}},{"$f":"計算結果!#REF!","v":{"$error":"#REF!"}},{"$f":"計算結果!#REF!","v":{"$error":"#REF!"}},{"$f":"計算結果!#REF!","v":{"$error":"#REF!"}},{"$f":"計算結果!#REF!","v":{"$error":"#REF!"}},{"$f":"計算結果!#REF!","v":{"$error":"#REF!"}},{"$f":"計算結果!#REF!","v":{"$error":"#REF!"}},{"$f":"計算結果!#REF!","v":{"$error":"#REF!"}}]
[{"$f":"入力シート!A648","v":0},{"$f":"入力シート!G648","v":0},{"$f":"入力シート!H648","v":0},{"$f":"IF(入力シート!$J648<>\"\",入力シート!$J648,IF(入力シート!$L648<>\"\",入力シート!$L648,\"‐\"))","v":"‐"},{"$f":"IF(入力シート!$K648<>\"\",入力シート!$K648,IF(入力シート!$M648<>\"\",入力シート!$M648,入力シート!$N648))","v":0},{"$f":"入力シート!I648","v":0},{"$f":"入力シート!O648","v":0},{"$f":"IF(入力シート!P648=\"×\",\"P\",\"PN\")","v":"PN"},{"$f":"計算結果!#REF!","v":{"$error":"#REF!"}},{"$f":"計算結果!#REF!","v":{"$error":"#REF!"}},{"$f":"計算結果!#REF!","v":{"$error":"#REF!"}},{"$f":"計算結果!#REF!","v":{"$error":"#REF!"}},{"$f":"計算結果!#REF!","v":{"$error":"#REF!"}},{"$f":"計算結果!#REF!","v":{"$error":"#REF!"}},{"$f":"計算結果!#REF!","v":{"$error":"#REF!"}},{"$f":"計算結果!#REF!","v":{"$error":"#REF!"}},{"$f":"計算結果!#REF!","v":{"$error":"#REF!"}},{"$f":"計算結果!#REF!","v":{"$error":"#REF!"}}]
[{"$f":"入力シート!A649","v":0},{"$f":"入力シート!G649","v":0},{"$f":"入力シート!H649","v":0},{"$f":"IF(入力シート!$J649<>\"\",入力シート!$J649,IF(入力シート!$L649<>\"\",入力シート!$L649,\"‐\"))","v":"‐"},{"$f":"IF(入力シート!$K649<>\"\",入力シート!$K649,IF(入力シート!$M649<>\"\",入力シート!$M649,入力シート!$N649))","v":0},{"$f":"入力シート!I649","v":0},{"$f":"入力シート!O649","v":0},{"$f":"IF(入力シート!P649=\"×\",\"P\",\"PN\")","v":"PN"},{"$f":"計算結果!#REF!","v":{"$error":"#REF!"}},{"$f":"計算結果!#REF!","v":{"$error":"#REF!"}},{"$f":"計算結果!#REF!","v":{"$error":"#REF!"}},{"$f":"計算結果!#REF!","v":{"$error":"#REF!"}},{"$f":"計算結果!#REF!","v":{"$error":"#REF!"}},{"$f":"計算結果!#REF!","v":{"$error":"#REF!"}},{"$f":"計算結果!#REF!","v":{"$error":"#REF!"}},{"$f":"計算結果!#REF!","v":{"$error":"#REF!"}},{"$f":"計算結果!#REF!","v":{"$error":"#REF!"}},{"$f":"計算結果!#REF!","v":{"$error":"#REF!"}}]
[{"$f":"入力シート!A650","v":0},{"$f":"入力シート!G650","v":0},{"$f":"入力シート!H650","v":0},{"$f":"IF(入力シート!$J650<>\"\",入力シート!$J650,IF(入力シート!$L650<>\"\",入力シート!$L650,\"‐\"))","v":"‐"},{"$f":"IF(入力シート!$K650<>\"\",入力シート!$K650,IF(入力シート!$M650<>\"\",入力シート!$M650,入力シート!$N650))","v":0},{"$f":"入力シート!I650","v":0},{"$f":"入力シート!O650","v":0},{"$f":"IF(入力シート!P650=\"×\",\"P\",\"PN\")","v":"PN"},{"$f":"計算結果!#REF!","v":{"$error":"#REF!"}},{"$f":"計算結果!#REF!","v":{"$error":"#REF!"}},{"$f":"計算結果!#REF!","v":{"$error":"#REF!"}},{"$f":"計算結果!#REF!","v":{"$error":"#REF!"}},{"$f":"計算結果!#REF!","v":{"$error":"#REF!"}},{"$f":"計算結果!#REF!","v":{"$error":"#REF!"}},{"$f":"計算結果!#REF!","v":{"$error":"#REF!"}},{"$f":"計算結果!#REF!","v":{"$error":"#REF!"}},{"$f":"計算結果!#REF!","v":{"$error":"#REF!"}},{"$f":"計算結果!#REF!","v":{"$error":"#REF!"}}]
[{"$f":"入力シート!A651","v":0},{"$f":"入力シート!G651","v":0},{"$f":"入力シート!H651","v":0},{"$f":"IF(入力シート!$J651<>\"\",入力シート!$J651,IF(入力シート!$L651<>\"\",入力シート!$L651,\"‐\"))","v":"‐"},{"$f":"IF(入力シート!$K651<>\"\",入力シート!$K651,IF(入力シート!$M651<>\"\",入力シート!$M651,入力シート!$N651))","v":0},{"$f":"入力シート!I651","v":0},{"$f":"入力シート!O651","v":0},{"$f":"IF(入力シート!P651=\"×\",\"P\",\"PN\")","v":"PN"},{"$f":"計算結果!#REF!","v":{"$error":"#REF!"}},{"$f":"計算結果!#REF!","v":{"$error":"#REF!"}},{"$f":"計算結果!#REF!","v":{"$error":"#REF!"}},{"$f":"計算結果!#REF!","v":{"$error":"#REF!"}},{"$f":"計算結果!#REF!","v":{"$error":"#REF!"}},{"$f":"計算結果!#REF!","v":{"$error":"#REF!"}},{"$f":"計算結果!#REF!","v":{"$error":"#REF!"}},{"$f":"計算結果!#REF!","v":{"$error":"#REF!"}},{"$f":"計算結果!#REF!","v":{"$error":"#REF!"}},{"$f":"計算結果!#REF!","v":{"$error":"#REF!"}}]
[{"$f":"入力シート!A652","v":0},{"$f":"入力シート!G652","v":0},{"$f":"入力シート!H652","v":0},{"$f":"IF(入力シート!$J652<>\"\",入力シート!$J652,IF(入力シート!$L652<>\"\",入力シート!$L652,\"‐\"))","v":"‐"},{"$f":"IF(入力シート!$K652<>\"\",入力シート!$K652,IF(入力シート!$M652<>\"\",入力シート!$M652,入力シート!$N652))","v":0},{"$f":"入力シート!I652","v":0},{"$f":"入力シート!O652","v":0},{"$f":"IF(入力シート!P652=\"×\",\"P\",\"PN\")","v":"PN"},{"$f":"計算結果!#REF!","v":{"$error":"#REF!"}},{"$f":"計算結果!#REF!","v":{"$error":"#REF!"}},{"$f":"計算結果!#REF!","v":{"$error":"#REF!"}},{"$f":"計算結果!#REF!","v":{"$error":"#REF!"}},{"$f":"計算結果!#REF!","v":{"$error":"#REF!"}},{"$f":"計算結果!#REF!","v":{"$error":"#REF!"}},{"$f":"計算結果!#REF!","v":{"$error":"#REF!"}},{"$f":"計算結果!#REF!","v":{"$error":"#REF!"}},{"$f":"計算結果!#REF!","v":{"$error":"#REF!"}},{"$f":"計算結果!#REF!","v":{"$error":"#REF!"}}]
[{"$f":"入力シート!A653","v":0},{"$f":"入力シート!G653","v":0},{"$f":"入力シート!H653","v":0},{"$f":"IF(入力シート!$J653<>\"\",入力シート!$J653,IF(入力シート!$L653<>\"\",入力シート!$L653,\"‐\"))","v":"‐"},{"$f":"IF(入力シート!$K653<>\"\",入力シート!$K653,IF(入力シート!$M653<>\"\",入力シート!$M653,入力シート!$N653))","v":0},{"$f":"入力シート!I653","v":0},{"$f":"入力シート!O653","v":0},{"$f":"IF(入力シート!P653=\"×\",\"P\",\"PN\")","v":"PN"},{"$f":"計算結果!#REF!","v":{"$error":"#REF!"}},{"$f":"計算結果!#REF!","v":{"$error":"#REF!"}},{"$f":"計算結果!#REF!","v":{"$error":"#REF!"}},{"$f":"計算結果!#REF!","v":{"$error":"#REF!"}},{"$f":"計算結果!#REF!","v":{"$error":"#REF!"}},{"$f":"計算結果!#REF!","v":{"$error":"#REF!"}},{"$f":"計算結果!#REF!","v":{"$error":"#REF!"}},{"$f":"計算結果!#REF!","v":{"$error":"#REF!"}},{"$f":"計算結果!#REF!","v":{"$error":"#REF!"}},{"$f":"計算結果!#REF!","v":{"$error":"#REF!"}}]
[{"$f":"入力シート!A654","v":0},{"$f":"入力シート!G654","v":0},{"$f":"入力シート!H654","v":0},{"$f":"IF(入力シート!$J654<>\"\",入力シート!$J654,IF(入力シート!$L654<>\"\",入力シート!$L654,\"‐\"))","v":"‐"},{"$f":"IF(入力シート!$K654<>\"\",入力シート!$K654,IF(入力シート!$M654<>\"\",入力シート!$M654,入力シート!$N654))","v":0},{"$f":"入力シート!I654","v":0},{"$f":"入力シート!O654","v":0},{"$f":"IF(入力シート!P654=\"×\",\"P\",\"PN\")","v":"PN"},{"$f":"計算結果!#REF!","v":{"$error":"#REF!"}},{"$f":"計算結果!#REF!","v":{"$error":"#REF!"}},{"$f":"計算結果!#REF!","v":{"$error":"#REF!"}},{"$f":"計算結果!#REF!","v":{"$error":"#REF!"}},{"$f":"計算結果!#REF!","v":{"$error":"#REF!"}},{"$f":"計算結果!#REF!","v":{"$error":"#REF!"}},{"$f":"計算結果!#REF!","v":{"$error":"#REF!"}},{"$f":"計算結果!#REF!","v":{"$error":"#REF!"}},{"$f":"計算結果!#REF!","v":{"$error":"#REF!"}},{"$f":"計算結果!#REF!","v":{"$error":"#REF!"}}]
[{"$f":"入力シート!A655","v":0},{"$f":"入力シート!G655","v":0},{"$f":"入力シート!H655","v":0},{"$f":"IF(入力シート!$J655<>\"\",入力シート!$J655,IF(入力シート!$L655<>\"\",入力シート!$L655,\"‐\"))","v":"‐"},{"$f":"IF(入力シート!$K655<>\"\",入力シート!$K655,IF(入力シート!$M655<>\"\",入力シート!$M655,入力シート!$N655))","v":0},{"$f":"入力シート!I655","v":0},{"$f":"入力シート!O655","v":0},{"$f":"IF(入力シート!P655=\"×\",\"P\",\"PN\")","v":"PN"},{"$f":"計算結果!#REF!","v":{"$error":"#REF!"}},{"$f":"計算結果!#REF!","v":{"$error":"#REF!"}},{"$f":"計算結果!#REF!","v":{"$error":"#REF!"}},{"$f":"計算結果!#REF!","v":{"$error":"#REF!"}},{"$f":"計算結果!#REF!","v":{"$error":"#REF!"}},{"$f":"計算結果!#REF!","v":{"$error":"#REF!"}},{"$f":"計算結果!#REF!","v":{"$error":"#REF!"}},{"$f":"計算結果!#REF!","v":{"$error":"#REF!"}},{"$f":"計算結果!#REF!","v":{"$error":"#REF!"}},{"$f":"計算結果!#REF!","v":{"$error":"#REF!"}}]
[{"$f":"入力シート!A656","v":0},{"$f":"入力シート!G656","v":0},{"$f":"入力シート!H656","v":0},{"$f":"IF(入力シート!$J656<>\"\",入力シート!$J656,IF(入力シート!$L656<>\"\",入力シート!$L656,\"‐\"))","v":"‐"},{"$f":"IF(入力シート!$K656<>\"\",入力シート!$K656,IF(入力シート!$M656<>\"\",入力シート!$M656,入力シート!$N656))","v":0},{"$f":"入力シート!I656","v":0},{"$f":"入力シート!O656","v":0},{"$f":"IF(入力シート!P656=\"×\",\"P\",\"PN\")","v":"PN"},{"$f":"計算結果!#REF!","v":{"$error":"#REF!"}},{"$f":"計算結果!#REF!","v":{"$error":"#REF!"}},{"$f":"計算結果!#REF!","v":{"$error":"#REF!"}},{"$f":"計算結果!#REF!","v":{"$error":"#REF!"}},{"$f":"計算結果!#REF!","v":{"$error":"#REF!"}},{"$f":"計算結果!#REF!","v":{"$error":"#REF!"}},{"$f":"計算結果!#REF!","v":{"$error":"#REF!"}},{"$f":"計算結果!#REF!","v":{"$error":"#REF!"}},{"$f":"計算結果!#REF!","v":{"$error":"#REF!"}},{"$f":"計算結果!#REF!","v":{"$error":"#REF!"}}]
[{"$f":"入力シート!A657","v":0},{"$f":"入力シート!G657","v":0},{"$f":"入力シート!H657","v":0},{"$f":"IF(入力シート!$J657<>\"\",入力シート!$J657,IF(入力シート!$L657<>\"\",入力シート!$L657,\"‐\"))","v":"‐"},{"$f":"IF(入力シート!$K657<>\"\",入力シート!$K657,IF(入力シート!$M657<>\"\",入力シート!$M657,入力シート!$N657))","v":0},{"$f":"入力シート!I657","v":0},{"$f":"入力シート!O657","v":0},{"$f":"IF(入力シート!P657=\"×\",\"P\",\"PN\")","v":"PN"},{"$f":"計算結果!#REF!","v":{"$error":"#REF!"}},{"$f":"計算結果!#REF!","v":{"$error":"#REF!"}},{"$f":"計算結果!#REF!","v":{"$error":"#REF!"}},{"$f":"計算結果!#REF!","v":{"$error":"#REF!"}},{"$f":"計算結果!#REF!","v":{"$error":"#REF!"}},{"$f":"計算結果!#REF!","v":{"$error":"#REF!"}},{"$f":"計算結果!#REF!","v":{"$error":"#REF!"}},{"$f":"計算結果!#REF!","v":{"$error":"#REF!"}},{"$f":"計算結果!#REF!","v":{"$error":"#REF!"}},{"$f":"計算結果!#REF!","v":{"$error":"#REF!"}}]
[{"$f":"入力シート!A658","v":0},{"$f":"入力シート!G658","v":0},{"$f":"入力シート!H658","v":0},{"$f":"IF(入力シート!$J658<>\"\",入力シート!$J658,IF(入力シート!$L658<>\"\",入力シート!$L658,\"‐\"))","v":"‐"},{"$f":"IF(入力シート!$K658<>\"\",入力シート!$K658,IF(入力シート!$M658<>\"\",入力シート!$M658,入力シート!$N658))","v":0},{"$f":"入力シート!I658","v":0},{"$f":"入力シート!O658","v":0},{"$f":"IF(入力シート!P658=\"×\",\"P\",\"PN\")","v":"PN"},{"$f":"計算結果!#REF!","v":{"$error":"#REF!"}},{"$f":"計算結果!#REF!","v":{"$error":"#REF!"}},{"$f":"計算結果!#REF!","v":{"$error":"#REF!"}},{"$f":"計算結果!#REF!","v":{"$error":"#REF!"}},{"$f":"計算結果!#REF!","v":{"$error":"#REF!"}},{"$f":"計算結果!#REF!","v":{"$error":"#REF!"}},{"$f":"計算結果!#REF!","v":{"$error":"#REF!"}},{"$f":"計算結果!#REF!","v":{"$error":"#REF!"}},{"$f":"計算結果!#REF!","v":{"$error":"#REF!"}},{"$f":"計算結果!#REF!","v":{"$error":"#REF!"}}]
[{"$f":"入力シート!A659","v":0},{"$f":"入力シート!G659","v":0},{"$f":"入力シート!H659","v":0},{"$f":"IF(入力シート!$J659<>\"\",入力シート!$J659,IF(入力シート!$L659<>\"\",入力シート!$L659,\"‐\"))","v":"‐"},{"$f":"IF(入力シート!$K659<>\"\",入力シート!$K659,IF(入力シート!$M659<>\"\",入力シート!$M659,入力シート!$N659))","v":0},{"$f":"入力シート!I659","v":0},{"$f":"入力シート!O659","v":0},{"$f":"IF(入力シート!P659=\"×\",\"P\",\"PN\")","v":"PN"},{"$f":"計算結果!#REF!","v":{"$error":"#REF!"}},{"$f":"計算結果!#REF!","v":{"$error":"#REF!"}},{"$f":"計算結果!#REF!","v":{"$error":"#REF!"}},{"$f":"計算結果!#REF!","v":{"$error":"#REF!"}},{"$f":"計算結果!#REF!","v":{"$error":"#REF!"}},{"$f":"計算結果!#REF!","v":{"$error":"#REF!"}},{"$f":"計算結果!#REF!","v":{"$error":"#REF!"}},{"$f":"計算結果!#REF!","v":{"$error":"#REF!"}},{"$f":"計算結果!#REF!","v":{"$error":"#REF!"}},{"$f":"計算結果!#REF!","v":{"$error":"#REF!"}}]
[{"$f":"入力シート!A660","v":0},{"$f":"入力シート!G660","v":0},{"$f":"入力シート!H660","v":0},{"$f":"IF(入力シート!$J660<>\"\",入力シート!$J660,IF(入力シート!$L660<>\"\",入力シート!$L660,\"‐\"))","v":"‐"},{"$f":"IF(入力シート!$K660<>\"\",入力シート!$K660,IF(入力シート!$M660<>\"\",入力シート!$M660,入力シート!$N660))","v":0},{"$f":"入力シート!I660","v":0},{"$f":"入力シート!O660","v":0},{"$f":"IF(入力シート!P660=\"×\",\"P\",\"PN\")","v":"PN"},{"$f":"計算結果!#REF!","v":{"$error":"#REF!"}},{"$f":"計算結果!#REF!","v":{"$error":"#REF!"}},{"$f":"計算結果!#REF!","v":{"$error":"#REF!"}},{"$f":"計算結果!#REF!","v":{"$error":"#REF!"}},{"$f":"計算結果!#REF!","v":{"$error":"#REF!"}},{"$f":"計算結果!#REF!","v":{"$error":"#REF!"}},{"$f":"計算結果!#REF!","v":{"$error":"#REF!"}},{"$f":"計算結果!#REF!","v":{"$error":"#REF!"}},{"$f":"計算結果!#REF!","v":{"$error":"#REF!"}},{"$f":"計算結果!#REF!","v":{"$error":"#REF!"}}]
[{"$f":"入力シート!A661","v":0},{"$f":"入力シート!G661","v":0},{"$f":"入力シート!H661","v":0},{"$f":"IF(入力シート!$J661<>\"\",入力シート!$J661,IF(入力シート!$L661<>\"\",入力シート!$L661,\"‐\"))","v":"‐"},{"$f":"IF(入力シート!$K661<>\"\",入力シート!$K661,IF(入力シート!$M661<>\"\",入力シート!$M661,入力シート!$N661))","v":0},{"$f":"入力シート!I661","v":0},{"$f":"入力シート!O661","v":0},{"$f":"IF(入力シート!P661=\"×\",\"P\",\"PN\")","v":"PN"},{"$f":"計算結果!#REF!","v":{"$error":"#REF!"}},{"$f":"計算結果!#REF!","v":{"$error":"#REF!"}},{"$f":"計算結果!#REF!","v":{"$error":"#REF!"}},{"$f":"計算結果!#REF!","v":{"$error":"#REF!"}},{"$f":"計算結果!#REF!","v":{"$error":"#REF!"}},{"$f":"計算結果!#REF!","v":{"$error":"#REF!"}},{"$f":"計算結果!#REF!","v":{"$error":"#REF!"}},{"$f":"計算結果!#REF!","v":{"$error":"#REF!"}},{"$f":"計算結果!#REF!","v":{"$error":"#REF!"}},{"$f":"計算結果!#REF!","v":{"$error":"#REF!"}}]
[{"$f":"入力シート!A662","v":0},{"$f":"入力シート!G662","v":0},{"$f":"入力シート!H662","v":0},{"$f":"IF(入力シート!$J662<>\"\",入力シート!$J662,IF(入力シート!$L662<>\"\",入力シート!$L662,\"‐\"))","v":"‐"},{"$f":"IF(入力シート!$K662<>\"\",入力シート!$K662,IF(入力シート!$M662<>\"\",入力シート!$M662,入力シート!$N662))","v":0},{"$f":"入力シート!I662","v":0},{"$f":"入力シート!O662","v":0},{"$f":"IF(入力シート!P662=\"×\",\"P\",\"PN\")","v":"PN"},{"$f":"計算結果!#REF!","v":{"$error":"#REF!"}},{"$f":"計算結果!#REF!","v":{"$error":"#REF!"}},{"$f":"計算結果!#REF!","v":{"$error":"#REF!"}},{"$f":"計算結果!#REF!","v":{"$error":"#REF!"}},{"$f":"計算結果!#REF!","v":{"$error":"#REF!"}},{"$f":"計算結果!#REF!","v":{"$error":"#REF!"}},{"$f":"計算結果!#REF!","v":{"$error":"#REF!"}},{"$f":"計算結果!#REF!","v":{"$error":"#REF!"}},{"$f":"計算結果!#REF!","v":{"$error":"#REF!"}},{"$f":"計算結果!#REF!","v":{"$error":"#REF!"}}]
[{"$f":"入力シート!A663","v":0},{"$f":"入力シート!G663","v":0},{"$f":"入力シート!H663","v":0},{"$f":"IF(入力シート!$J663<>\"\",入力シート!$J663,IF(入力シート!$L663<>\"\",入力シート!$L663,\"‐\"))","v":"‐"},{"$f":"IF(入力シート!$K663<>\"\",入力シート!$K663,IF(入力シート!$M663<>\"\",入力シート!$M663,入力シート!$N663))","v":0},{"$f":"入力シート!I663","v":0},{"$f":"入力シート!O663","v":0},{"$f":"IF(入力シート!P663=\"×\",\"P\",\"PN\")","v":"PN"},{"$f":"計算結果!#REF!","v":{"$error":"#REF!"}},{"$f":"計算結果!#REF!","v":{"$error":"#REF!"}},{"$f":"計算結果!#REF!","v":{"$error":"#REF!"}},{"$f":"計算結果!#REF!","v":{"$error":"#REF!"}},{"$f":"計算結果!#REF!","v":{"$error":"#REF!"}},{"$f":"計算結果!#REF!","v":{"$error":"#REF!"}},{"$f":"計算結果!#REF!","v":{"$error":"#REF!"}},{"$f":"計算結果!#REF!","v":{"$error":"#REF!"}},{"$f":"計算結果!#REF!","v":{"$error":"#REF!"}},{"$f":"計算結果!#REF!","v":{"$error":"#REF!"}}]
[{"$f":"入力シート!A664","v":0},{"$f":"入力シート!G664","v":0},{"$f":"入力シート!H664","v":0},{"$f":"IF(入力シート!$J664<>\"\",入力シート!$J664,IF(入力シート!$L664<>\"\",入力シート!$L664,\"‐\"))","v":"‐"},{"$f":"IF(入力シート!$K664<>\"\",入力シート!$K664,IF(入力シート!$M664<>\"\",入力シート!$M664,入力シート!$N664))","v":0},{"$f":"入力シート!I664","v":0},{"$f":"入力シート!O664","v":0},{"$f":"IF(入力シート!P664=\"×\",\"P\",\"PN\")","v":"PN"},{"$f":"計算結果!#REF!","v":{"$error":"#REF!"}},{"$f":"計算結果!#REF!","v":{"$error":"#REF!"}},{"$f":"計算結果!#REF!","v":{"$error":"#REF!"}},{"$f":"計算結果!#REF!","v":{"$error":"#REF!"}},{"$f":"計算結果!#REF!","v":{"$error":"#REF!"}},{"$f":"計算結果!#REF!","v":{"$error":"#REF!"}},{"$f":"計算結果!#REF!","v":{"$error":"#REF!"}},{"$f":"計算結果!#REF!","v":{"$error":"#REF!"}},{"$f":"計算結果!#REF!","v":{"$error":"#REF!"}},{"$f":"計算結果!#REF!","v":{"$error":"#REF!"}}]
[{"$f":"入力シート!A665","v":0},{"$f":"入力シート!G665","v":0},{"$f":"入力シート!H665","v":0},{"$f":"IF(入力シート!$J665<>\"\",入力シート!$J665,IF(入力シート!$L665<>\"\",入力シート!$L665,\"‐\"))","v":"‐"},{"$f":"IF(入力シート!$K665<>\"\",入力シート!$K665,IF(入力シート!$M665<>\"\",入力シート!$M665,入力シート!$N665))","v":0},{"$f":"入力シート!I665","v":0},{"$f":"入力シート!O665","v":0},{"$f":"IF(入力シート!P665=\"×\",\"P\",\"PN\")","v":"PN"},{"$f":"計算結果!#REF!","v":{"$error":"#REF!"}},{"$f":"計算結果!#REF!","v":{"$error":"#REF!"}},{"$f":"計算結果!#REF!","v":{"$error":"#REF!"}},{"$f":"計算結果!#REF!","v":{"$error":"#REF!"}},{"$f":"計算結果!#REF!","v":{"$error":"#REF!"}},{"$f":"計算結果!#REF!","v":{"$error":"#REF!"}},{"$f":"計算結果!#REF!","v":{"$error":"#REF!"}},{"$f":"計算結果!#REF!","v":{"$error":"#REF!"}},{"$f":"計算結果!#REF!","v":{"$error":"#REF!"}},{"$f":"計算結果!#REF!","v":{"$error":"#REF!"}}]
[{"$f":"入力シート!A666","v":0},{"$f":"入力シート!G666","v":0},{"$f":"入力シート!H666","v":0},{"$f":"IF(入力シート!$J666<>\"\",入力シート!$J666,IF(入力シート!$L666<>\"\",入力シート!$L666,\"‐\"))","v":"‐"},{"$f":"IF(入力シート!$K666<>\"\",入力シート!$K666,IF(入力シート!$M666<>\"\",入力シート!$M666,入力シート!$N666))","v":0},{"$f":"入力シート!I666","v":0},{"$f":"入力シート!O666","v":0},{"$f":"IF(入力シート!P666=\"×\",\"P\",\"PN\")","v":"PN"},{"$f":"計算結果!#REF!","v":{"$error":"#REF!"}},{"$f":"計算結果!#REF!","v":{"$error":"#REF!"}},{"$f":"計算結果!#REF!","v":{"$error":"#REF!"}},{"$f":"計算結果!#REF!","v":{"$error":"#REF!"}},{"$f":"計算結果!#REF!","v":{"$error":"#REF!"}},{"$f":"計算結果!#REF!","v":{"$error":"#REF!"}},{"$f":"計算結果!#REF!","v":{"$error":"#REF!"}},{"$f":"計算結果!#REF!","v":{"$error":"#REF!"}},{"$f":"計算結果!#REF!","v":{"$error":"#REF!"}},{"$f":"計算結果!#REF!","v":{"$error":"#REF!"}}]
[{"$f":"入力シート!A667","v":0},{"$f":"入力シート!G667","v":0},{"$f":"入力シート!H667","v":0},{"$f":"IF(入力シート!$J667<>\"\",入力シート!$J667,IF(入力シート!$L667<>\"\",入力シート!$L667,\"‐\"))","v":"‐"},{"$f":"IF(入力シート!$K667<>\"\",入力シート!$K667,IF(入力シート!$M667<>\"\",入力シート!$M667,入力シート!$N667))","v":0},{"$f":"入力シート!I667","v":0},{"$f":"入力シート!O667","v":0},{"$f":"IF(入力シート!P667=\"×\",\"P\",\"PN\")","v":"PN"},{"$f":"計算結果!#REF!","v":{"$error":"#REF!"}},{"$f":"計算結果!#REF!","v":{"$error":"#REF!"}},{"$f":"計算結果!#REF!","v":{"$error":"#REF!"}},{"$f":"計算結果!#REF!","v":{"$error":"#REF!"}},{"$f":"計算結果!#REF!","v":{"$error":"#REF!"}},{"$f":"計算結果!#REF!","v":{"$error":"#REF!"}},{"$f":"計算結果!#REF!","v":{"$error":"#REF!"}},{"$f":"計算結果!#REF!","v":{"$error":"#REF!"}},{"$f":"計算結果!#REF!","v":{"$error":"#REF!"}},{"$f":"計算結果!#REF!","v":{"$error":"#REF!"}}]
[{"$f":"入力シート!A668","v":0},{"$f":"入力シート!G668","v":0},{"$f":"入力シート!H668","v":0},{"$f":"IF(入力シート!$J668<>\"\",入力シート!$J668,IF(入力シート!$L668<>\"\",入力シート!$L668,\"‐\"))","v":"‐"},{"$f":"IF(入力シート!$K668<>\"\",入力シート!$K668,IF(入力シート!$M668<>\"\",入力シート!$M668,入力シート!$N668))","v":0},{"$f":"入力シート!I668","v":0},{"$f":"入力シート!O668","v":0},{"$f":"IF(入力シート!P668=\"×\",\"P\",\"PN\")","v":"PN"},{"$f":"計算結果!#REF!","v":{"$error":"#REF!"}},{"$f":"計算結果!#REF!","v":{"$error":"#REF!"}},{"$f":"計算結果!#REF!","v":{"$error":"#REF!"}},{"$f":"計算結果!#REF!","v":{"$error":"#REF!"}},{"$f":"計算結果!#REF!","v":{"$error":"#REF!"}},{"$f":"計算結果!#REF!","v":{"$error":"#REF!"}},{"$f":"計算結果!#REF!","v":{"$error":"#REF!"}},{"$f":"計算結果!#REF!","v":{"$error":"#REF!"}},{"$f":"計算結果!#REF!","v":{"$error":"#REF!"}},{"$f":"計算結果!#REF!","v":{"$error":"#REF!"}}]
[{"$f":"入力シート!A669","v":0},{"$f":"入力シート!G669","v":0},{"$f":"入力シート!H669","v":0},{"$f":"IF(入力シート!$J669<>\"\",入力シート!$J669,IF(入力シート!$L669<>\"\",入力シート!$L669,\"‐\"))","v":"‐"},{"$f":"IF(入力シート!$K669<>\"\",入力シート!$K669,IF(入力シート!$M669<>\"\",入力シート!$M669,入力シート!$N669))","v":0},{"$f":"入力シート!I669","v":0},{"$f":"入力シート!O669","v":0},{"$f":"IF(入力シート!P669=\"×\",\"P\",\"PN\")","v":"PN"},{"$f":"計算結果!#REF!","v":{"$error":"#REF!"}},{"$f":"計算結果!#REF!","v":{"$error":"#REF!"}},{"$f":"計算結果!#REF!","v":{"$error":"#REF!"}},{"$f":"計算結果!#REF!","v":{"$error":"#REF!"}},{"$f":"計算結果!#REF!","v":{"$error":"#REF!"}},{"$f":"計算結果!#REF!","v":{"$error":"#REF!"}},{"$f":"計算結果!#REF!","v":{"$error":"#REF!"}},{"$f":"計算結果!#REF!","v":{"$error":"#REF!"}},{"$f":"計算結果!#REF!","v":{"$error":"#REF!"}},{"$f":"計算結果!#REF!","v":{"$error":"#REF!"}}]
[{"$f":"入力シート!A670","v":0},{"$f":"入力シート!G670","v":0},{"$f":"入力シート!H670","v":0},{"$f":"IF(入力シート!$J670<>\"\",入力シート!$J670,IF(入力シート!$L670<>\"\",入力シート!$L670,\"‐\"))","v":"‐"},{"$f":"IF(入力シート!$K670<>\"\",入力シート!$K670,IF(入力シート!$M670<>\"\",入力シート!$M670,入力シート!$N670))","v":0},{"$f":"入力シート!I670","v":0},{"$f":"入力シート!O670","v":0},{"$f":"IF(入力シート!P670=\"×\",\"P\",\"PN\")","v":"PN"},{"$f":"計算結果!#REF!","v":{"$error":"#REF!"}},{"$f":"計算結果!#REF!","v":{"$error":"#REF!"}},{"$f":"計算結果!#REF!","v":{"$error":"#REF!"}},{"$f":"計算結果!#REF!","v":{"$error":"#REF!"}},{"$f":"計算結果!#REF!","v":{"$error":"#REF!"}},{"$f":"計算結果!#REF!","v":{"$error":"#REF!"}},{"$f":"計算結果!#REF!","v":{"$error":"#REF!"}},{"$f":"計算結果!#REF!","v":{"$error":"#REF!"}},{"$f":"計算結果!#REF!","v":{"$error":"#REF!"}},{"$f":"計算結果!#REF!","v":{"$error":"#REF!"}}]
[{"$f":"入力シート!A671","v":0},{"$f":"入力シート!G671","v":0},{"$f":"入力シート!H671","v":0},{"$f":"IF(入力シート!$J671<>\"\",入力シート!$J671,IF(入力シート!$L671<>\"\",入力シート!$L671,\"‐\"))","v":"‐"},{"$f":"IF(入力シート!$K671<>\"\",入力シート!$K671,IF(入力シート!$M671<>\"\",入力シート!$M671,入力シート!$N671))","v":0},{"$f":"入力シート!I671","v":0},{"$f":"入力シート!O671","v":0},{"$f":"IF(入力シート!P671=\"×\",\"P\",\"PN\")","v":"PN"},{"$f":"計算結果!#REF!","v":{"$error":"#REF!"}},{"$f":"計算結果!#REF!","v":{"$error":"#REF!"}},{"$f":"計算結果!#REF!","v":{"$error":"#REF!"}},{"$f":"計算結果!#REF!","v":{"$error":"#REF!"}},{"$f":"計算結果!#REF!","v":{"$error":"#REF!"}},{"$f":"計算結果!#REF!","v":{"$error":"#REF!"}},{"$f":"計算結果!#REF!","v":{"$error":"#REF!"}},{"$f":"計算結果!#REF!","v":{"$error":"#REF!"}},{"$f":"計算結果!#REF!","v":{"$error":"#REF!"}},{"$f":"計算結果!#REF!","v":{"$error":"#REF!"}}]
[{"$f":"入力シート!A672","v":0},{"$f":"入力シート!G672","v":0},{"$f":"入力シート!H672","v":0},{"$f":"IF(入力シート!$J672<>\"\",入力シート!$J672,IF(入力シート!$L672<>\"\",入力シート!$L672,\"‐\"))","v":"‐"},{"$f":"IF(入力シート!$K672<>\"\",入力シート!$K672,IF(入力シート!$M672<>\"\",入力シート!$M672,入力シート!$N672))","v":0},{"$f":"入力シート!I672","v":0},{"$f":"入力シート!O672","v":0},{"$f":"IF(入力シート!P672=\"×\",\"P\",\"PN\")","v":"PN"},{"$f":"計算結果!#REF!","v":{"$error":"#REF!"}},{"$f":"計算結果!#REF!","v":{"$error":"#REF!"}},{"$f":"計算結果!#REF!","v":{"$error":"#REF!"}},{"$f":"計算結果!#REF!","v":{"$error":"#REF!"}},{"$f":"計算結果!#REF!","v":{"$error":"#REF!"}},{"$f":"計算結果!#REF!","v":{"$error":"#REF!"}},{"$f":"計算結果!#REF!","v":{"$error":"#REF!"}},{"$f":"計算結果!#REF!","v":{"$error":"#REF!"}},{"$f":"計算結果!#REF!","v":{"$error":"#REF!"}},{"$f":"計算結果!#REF!","v":{"$error":"#REF!"}}]
[{"$f":"入力シート!A673","v":0},{"$f":"入力シート!G673","v":0},{"$f":"入力シート!H673","v":0},{"$f":"IF(入力シート!$J673<>\"\",入力シート!$J673,IF(入力シート!$L673<>\"\",入力シート!$L673,\"‐\"))","v":"‐"},{"$f":"IF(入力シート!$K673<>\"\",入力シート!$K673,IF(入力シート!$M673<>\"\",入力シート!$M673,入力シート!$N673))","v":0},{"$f":"入力シート!I673","v":0},{"$f":"入力シート!O673","v":0},{"$f":"IF(入力シート!P673=\"×\",\"P\",\"PN\")","v":"PN"},{"$f":"計算結果!#REF!","v":{"$error":"#REF!"}},{"$f":"計算結果!#REF!","v":{"$error":"#REF!"}},{"$f":"計算結果!#REF!","v":{"$error":"#REF!"}},{"$f":"計算結果!#REF!","v":{"$error":"#REF!"}},{"$f":"計算結果!#REF!","v":{"$error":"#REF!"}},{"$f":"計算結果!#REF!","v":{"$error":"#REF!"}},{"$f":"計算結果!#REF!","v":{"$error":"#REF!"}},{"$f":"計算結果!#REF!","v":{"$error":"#REF!"}},{"$f":"計算結果!#REF!","v":{"$error":"#REF!"}},{"$f":"計算結果!#REF!","v":{"$error":"#REF!"}}]
[{"$f":"入力シート!A674","v":0},{"$f":"入力シート!G674","v":0},{"$f":"入力シート!H674","v":0},{"$f":"IF(入力シート!$J674<>\"\",入力シート!$J674,IF(入力シート!$L674<>\"\",入力シート!$L674,\"‐\"))","v":"‐"},{"$f":"IF(入力シート!$K674<>\"\",入力シート!$K674,IF(入力シート!$M674<>\"\",入力シート!$M674,入力シート!$N674))","v":0},{"$f":"入力シート!I674","v":0},{"$f":"入力シート!O674","v":0},{"$f":"IF(入力シート!P674=\"×\",\"P\",\"PN\")","v":"PN"},{"$f":"計算結果!#REF!","v":{"$error":"#REF!"}},{"$f":"計算結果!#REF!","v":{"$error":"#REF!"}},{"$f":"計算結果!#REF!","v":{"$error":"#REF!"}},{"$f":"計算結果!#REF!","v":{"$error":"#REF!"}},{"$f":"計算結果!#REF!","v":{"$error":"#REF!"}},{"$f":"計算結果!#REF!","v":{"$error":"#REF!"}},{"$f":"計算結果!#REF!","v":{"$error":"#REF!"}},{"$f":"計算結果!#REF!","v":{"$error":"#REF!"}},{"$f":"計算結果!#REF!","v":{"$error":"#REF!"}},{"$f":"計算結果!#REF!","v":{"$error":"#REF!"}}]
[{"$f":"入力シート!A675","v":0},{"$f":"入力シート!G675","v":0},{"$f":"入力シート!H675","v":0},{"$f":"IF(入力シート!$J675<>\"\",入力シート!$J675,IF(入力シート!$L675<>\"\",入力シート!$L675,\"‐\"))","v":"‐"},{"$f":"IF(入力シート!$K675<>\"\",入力シート!$K675,IF(入力シート!$M675<>\"\",入力シート!$M675,入力シート!$N675))","v":0},{"$f":"入力シート!I675","v":0},{"$f":"入力シート!O675","v":0},{"$f":"IF(入力シート!P675=\"×\",\"P\",\"PN\")","v":"PN"},{"$f":"計算結果!#REF!","v":{"$error":"#REF!"}},{"$f":"計算結果!#REF!","v":{"$error":"#REF!"}},{"$f":"計算結果!#REF!","v":{"$error":"#REF!"}},{"$f":"計算結果!#REF!","v":{"$error":"#REF!"}},{"$f":"計算結果!#REF!","v":{"$error":"#REF!"}},{"$f":"計算結果!#REF!","v":{"$error":"#REF!"}},{"$f":"計算結果!#REF!","v":{"$error":"#REF!"}},{"$f":"計算結果!#REF!","v":{"$error":"#REF!"}},{"$f":"計算結果!#REF!","v":{"$error":"#REF!"}},{"$f":"計算結果!#REF!","v":{"$error":"#REF!"}}]
[{"$f":"入力シート!A676","v":0},{"$f":"入力シート!G676","v":0},{"$f":"入力シート!H676","v":0},{"$f":"IF(入力シート!$J676<>\"\",入力シート!$J676,IF(入力シート!$L676<>\"\",入力シート!$L676,\"‐\"))","v":"‐"},{"$f":"IF(入力シート!$K676<>\"\",入力シート!$K676,IF(入力シート!$M676<>\"\",入力シート!$M676,入力シート!$N676))","v":0},{"$f":"入力シート!I676","v":0},{"$f":"入力シート!O676","v":0},{"$f":"IF(入力シート!P676=\"×\",\"P\",\"PN\")","v":"PN"},{"$f":"計算結果!#REF!","v":{"$error":"#REF!"}},{"$f":"計算結果!#REF!","v":{"$error":"#REF!"}},{"$f":"計算結果!#REF!","v":{"$error":"#REF!"}},{"$f":"計算結果!#REF!","v":{"$error":"#REF!"}},{"$f":"計算結果!#REF!","v":{"$error":"#REF!"}},{"$f":"計算結果!#REF!","v":{"$error":"#REF!"}},{"$f":"計算結果!#REF!","v":{"$error":"#REF!"}},{"$f":"計算結果!#REF!","v":{"$error":"#REF!"}},{"$f":"計算結果!#REF!","v":{"$error":"#REF!"}},{"$f":"計算結果!#REF!","v":{"$error":"#REF!"}}]
[{"$f":"入力シート!A677","v":0},{"$f":"入力シート!G677","v":0},{"$f":"入力シート!H677","v":0},{"$f":"IF(入力シート!$J677<>\"\",入力シート!$J677,IF(入力シート!$L677<>\"\",入力シート!$L677,\"‐\"))","v":"‐"},{"$f":"IF(入力シート!$K677<>\"\",入力シート!$K677,IF(入力シート!$M677<>\"\",入力シート!$M677,入力シート!$N677))","v":0},{"$f":"入力シート!I677","v":0},{"$f":"入力シート!O677","v":0},{"$f":"IF(入力シート!P677=\"×\",\"P\",\"PN\")","v":"PN"},{"$f":"計算結果!#REF!","v":{"$error":"#REF!"}},{"$f":"計算結果!#REF!","v":{"$error":"#REF!"}},{"$f":"計算結果!#REF!","v":{"$error":"#REF!"}},{"$f":"計算結果!#REF!","v":{"$error":"#REF!"}},{"$f":"計算結果!#REF!","v":{"$error":"#REF!"}},{"$f":"計算結果!#REF!","v":{"$error":"#REF!"}},{"$f":"計算結果!#REF!","v":{"$error":"#REF!"}},{"$f":"計算結果!#REF!","v":{"$error":"#REF!"}},{"$f":"計算結果!#REF!","v":{"$error":"#REF!"}},{"$f":"計算結果!#REF!","v":{"$error":"#REF!"}}]
[{"$f":"入力シート!A678","v":0},{"$f":"入力シート!G678","v":0},{"$f":"入力シート!H678","v":0},{"$f":"IF(入力シート!$J678<>\"\",入力シート!$J678,IF(入力シート!$L678<>\"\",入力シート!$L678,\"‐\"))","v":"‐"},{"$f":"IF(入力シート!$K678<>\"\",入力シート!$K678,IF(入力シート!$M678<>\"\",入力シート!$M678,入力シート!$N678))","v":0},{"$f":"入力シート!I678","v":0},{"$f":"入力シート!O678","v":0},{"$f":"IF(入力シート!P678=\"×\",\"P\",\"PN\")","v":"PN"},{"$f":"計算結果!#REF!","v":{"$error":"#REF!"}},{"$f":"計算結果!#REF!","v":{"$error":"#REF!"}},{"$f":"計算結果!#REF!","v":{"$error":"#REF!"}},{"$f":"計算結果!#REF!","v":{"$error":"#REF!"}},{"$f":"計算結果!#REF!","v":{"$error":"#REF!"}},{"$f":"計算結果!#REF!","v":{"$error":"#REF!"}},{"$f":"計算結果!#REF!","v":{"$error":"#REF!"}},{"$f":"計算結果!#REF!","v":{"$error":"#REF!"}},{"$f":"計算結果!#REF!","v":{"$error":"#REF!"}},{"$f":"計算結果!#REF!","v":{"$error":"#REF!"}}]
[{"$f":"入力シート!A679","v":0},{"$f":"入力シート!G679","v":0},{"$f":"入力シート!H679","v":0},{"$f":"IF(入力シート!$J679<>\"\",入力シート!$J679,IF(入力シート!$L679<>\"\",入力シート!$L679,\"‐\"))","v":"‐"},{"$f":"IF(入力シート!$K679<>\"\",入力シート!$K679,IF(入力シート!$M679<>\"\",入力シート!$M679,入力シート!$N679))","v":0},{"$f":"入力シート!I679","v":0},{"$f":"入力シート!O679","v":0},{"$f":"IF(入力シート!P679=\"×\",\"P\",\"PN\")","v":"PN"},{"$f":"計算結果!#REF!","v":{"$error":"#REF!"}},{"$f":"計算結果!#REF!","v":{"$error":"#REF!"}},{"$f":"計算結果!#REF!","v":{"$error":"#REF!"}},{"$f":"計算結果!#REF!","v":{"$error":"#REF!"}},{"$f":"計算結果!#REF!","v":{"$error":"#REF!"}},{"$f":"計算結果!#REF!","v":{"$error":"#REF!"}},{"$f":"計算結果!#REF!","v":{"$error":"#REF!"}},{"$f":"計算結果!#REF!","v":{"$error":"#REF!"}},{"$f":"計算結果!#REF!","v":{"$error":"#REF!"}},{"$f":"計算結果!#REF!","v":{"$error":"#REF!"}}]
[{"$f":"入力シート!A680","v":0},{"$f":"入力シート!G680","v":0},{"$f":"入力シート!H680","v":0},{"$f":"IF(入力シート!$J680<>\"\",入力シート!$J680,IF(入力シート!$L680<>\"\",入力シート!$L680,\"‐\"))","v":"‐"},{"$f":"IF(入力シート!$K680<>\"\",入力シート!$K680,IF(入力シート!$M680<>\"\",入力シート!$M680,入力シート!$N680))","v":0},{"$f":"入力シート!I680","v":0},{"$f":"入力シート!O680","v":0},{"$f":"IF(入力シート!P680=\"×\",\"P\",\"PN\")","v":"PN"},{"$f":"計算結果!#REF!","v":{"$error":"#REF!"}},{"$f":"計算結果!#REF!","v":{"$error":"#REF!"}},{"$f":"計算結果!#REF!","v":{"$error":"#REF!"}},{"$f":"計算結果!#REF!","v":{"$error":"#REF!"}},{"$f":"計算結果!#REF!","v":{"$error":"#REF!"}},{"$f":"計算結果!#REF!","v":{"$error":"#REF!"}},{"$f":"計算結果!#REF!","v":{"$error":"#REF!"}},{"$f":"計算結果!#REF!","v":{"$error":"#REF!"}},{"$f":"計算結果!#REF!","v":{"$error":"#REF!"}},{"$f":"計算結果!#REF!","v":{"$error":"#REF!"}}]
[{"$f":"入力シート!A681","v":0},{"$f":"入力シート!G681","v":0},{"$f":"入力シート!H681","v":0},{"$f":"IF(入力シート!$J681<>\"\",入力シート!$J681,IF(入力シート!$L681<>\"\",入力シート!$L681,\"‐\"))","v":"‐"},{"$f":"IF(入力シート!$K681<>\"\",入力シート!$K681,IF(入力シート!$M681<>\"\",入力シート!$M681,入力シート!$N681))","v":0},{"$f":"入力シート!I681","v":0},{"$f":"入力シート!O681","v":0},{"$f":"IF(入力シート!P681=\"×\",\"P\",\"PN\")","v":"PN"},{"$f":"計算結果!#REF!","v":{"$error":"#REF!"}},{"$f":"計算結果!#REF!","v":{"$error":"#REF!"}},{"$f":"計算結果!#REF!","v":{"$error":"#REF!"}},{"$f":"計算結果!#REF!","v":{"$error":"#REF!"}},{"$f":"計算結果!#REF!","v":{"$error":"#REF!"}},{"$f":"計算結果!#REF!","v":{"$error":"#REF!"}},{"$f":"計算結果!#REF!","v":{"$error":"#REF!"}},{"$f":"計算結果!#REF!","v":{"$error":"#REF!"}},{"$f":"計算結果!#REF!","v":{"$error":"#REF!"}},{"$f":"計算結果!#REF!","v":{"$error":"#REF!"}}]
[{"$f":"入力シート!A682","v":0},{"$f":"入力シート!G682","v":0},{"$f":"入力シート!H682","v":0},{"$f":"IF(入力シート!$J682<>\"\",入力シート!$J682,IF(入力シート!$L682<>\"\",入力シート!$L682,\"‐\"))","v":"‐"},{"$f":"IF(入力シート!$K682<>\"\",入力シート!$K682,IF(入力シート!$M682<>\"\",入力シート!$M682,入力シート!$N682))","v":0},{"$f":"入力シート!I682","v":0},{"$f":"入力シート!O682","v":0},{"$f":"IF(入力シート!P682=\"×\",\"P\",\"PN\")","v":"PN"},{"$f":"計算結果!#REF!","v":{"$error":"#REF!"}},{"$f":"計算結果!#REF!","v":{"$error":"#REF!"}},{"$f":"計算結果!#REF!","v":{"$error":"#REF!"}},{"$f":"計算結果!#REF!","v":{"$error":"#REF!"}},{"$f":"計算結果!#REF!","v":{"$error":"#REF!"}},{"$f":"計算結果!#REF!","v":{"$error":"#REF!"}},{"$f":"計算結果!#REF!","v":{"$error":"#REF!"}},{"$f":"計算結果!#REF!","v":{"$error":"#REF!"}},{"$f":"計算結果!#REF!","v":{"$error":"#REF!"}},{"$f":"計算結果!#REF!","v":{"$error":"#REF!"}}]
[{"$f":"入力シート!A683","v":0},{"$f":"入力シート!G683","v":0},{"$f":"入力シート!H683","v":0},{"$f":"IF(入力シート!$J683<>\"\",入力シート!$J683,IF(入力シート!$L683<>\"\",入力シート!$L683,\"‐\"))","v":"‐"},{"$f":"IF(入力シート!$K683<>\"\",入力シート!$K683,IF(入力シート!$M683<>\"\",入力シート!$M683,入力シート!$N683))","v":0},{"$f":"入力シート!I683","v":0},{"$f":"入力シート!O683","v":0},{"$f":"IF(入力シート!P683=\"×\",\"P\",\"PN\")","v":"PN"},{"$f":"計算結果!#REF!","v":{"$error":"#REF!"}},{"$f":"計算結果!#REF!","v":{"$error":"#REF!"}},{"$f":"計算結果!#REF!","v":{"$error":"#REF!"}},{"$f":"計算結果!#REF!","v":{"$error":"#REF!"}},{"$f":"計算結果!#REF!","v":{"$error":"#REF!"}},{"$f":"計算結果!#REF!","v":{"$error":"#REF!"}},{"$f":"計算結果!#REF!","v":{"$error":"#REF!"}},{"$f":"計算結果!#REF!","v":{"$error":"#REF!"}},{"$f":"計算結果!#REF!","v":{"$error":"#REF!"}},{"$f":"計算結果!#REF!","v":{"$error":"#REF!"}}]
[{"$f":"入力シート!A684","v":0},{"$f":"入力シート!G684","v":0},{"$f":"入力シート!H684","v":0},{"$f":"IF(入力シート!$J684<>\"\",入力シート!$J684,IF(入力シート!$L684<>\"\",入力シート!$L684,\"‐\"))","v":"‐"},{"$f":"IF(入力シート!$K684<>\"\",入力シート!$K684,IF(入力シート!$M684<>\"\",入力シート!$M684,入力シート!$N684))","v":0},{"$f":"入力シート!I684","v":0},{"$f":"入力シート!O684","v":0},{"$f":"IF(入力シート!P684=\"×\",\"P\",\"PN\")","v":"PN"},{"$f":"計算結果!#REF!","v":{"$error":"#REF!"}},{"$f":"計算結果!#REF!","v":{"$error":"#REF!"}},{"$f":"計算結果!#REF!","v":{"$error":"#REF!"}},{"$f":"計算結果!#REF!","v":{"$error":"#REF!"}},{"$f":"計算結果!#REF!","v":{"$error":"#REF!"}},{"$f":"計算結果!#REF!","v":{"$error":"#REF!"}},{"$f":"計算結果!#REF!","v":{"$error":"#REF!"}},{"$f":"計算結果!#REF!","v":{"$error":"#REF!"}},{"$f":"計算結果!#REF!","v":{"$error":"#REF!"}},{"$f":"計算結果!#REF!","v":{"$error":"#REF!"}}]
[{"$f":"入力シート!A685","v":0},{"$f":"入力シート!G685","v":0},{"$f":"入力シート!H685","v":0},{"$f":"IF(入力シート!$J685<>\"\",入力シート!$J685,IF(入力シート!$L685<>\"\",入力シート!$L685,\"‐\"))","v":"‐"},{"$f":"IF(入力シート!$K685<>\"\",入力シート!$K685,IF(入力シート!$M685<>\"\",入力シート!$M685,入力シート!$N685))","v":0},{"$f":"入力シート!I685","v":0},{"$f":"入力シート!O685","v":0},{"$f":"IF(入力シート!P685=\"×\",\"P\",\"PN\")","v":"PN"},{"$f":"計算結果!#REF!","v":{"$error":"#REF!"}},{"$f":"計算結果!#REF!","v":{"$error":"#REF!"}},{"$f":"計算結果!#REF!","v":{"$error":"#REF!"}},{"$f":"計算結果!#REF!","v":{"$error":"#REF!"}},{"$f":"計算結果!#REF!","v":{"$error":"#REF!"}},{"$f":"計算結果!#REF!","v":{"$error":"#REF!"}},{"$f":"計算結果!#REF!","v":{"$error":"#REF!"}},{"$f":"計算結果!#REF!","v":{"$error":"#REF!"}},{"$f":"計算結果!#REF!","v":{"$error":"#REF!"}},{"$f":"計算結果!#REF!","v":{"$error":"#REF!"}}]
[{"$f":"入力シート!A686","v":0},{"$f":"入力シート!G686","v":0},{"$f":"入力シート!H686","v":0},{"$f":"IF(入力シート!$J686<>\"\",入力シート!$J686,IF(入力シート!$L686<>\"\",入力シート!$L686,\"‐\"))","v":"‐"},{"$f":"IF(入力シート!$K686<>\"\",入力シート!$K686,IF(入力シート!$M686<>\"\",入力シート!$M686,入力シート!$N686))","v":0},{"$f":"入力シート!I686","v":0},{"$f":"入力シート!O686","v":0},{"$f":"IF(入力シート!P686=\"×\",\"P\",\"PN\")","v":"PN"},{"$f":"計算結果!#REF!","v":{"$error":"#REF!"}},{"$f":"計算結果!#REF!","v":{"$error":"#REF!"}},{"$f":"計算結果!#REF!","v":{"$error":"#REF!"}},{"$f":"計算結果!#REF!","v":{"$error":"#REF!"}},{"$f":"計算結果!#REF!","v":{"$error":"#REF!"}},{"$f":"計算結果!#REF!","v":{"$error":"#REF!"}},{"$f":"計算結果!#REF!","v":{"$error":"#REF!"}},{"$f":"計算結果!#REF!","v":{"$error":"#REF!"}},{"$f":"計算結果!#REF!","v":{"$error":"#REF!"}},{"$f":"計算結果!#REF!","v":{"$error":"#REF!"}}]
[{"$f":"入力シート!A687","v":0},{"$f":"入力シート!G687","v":0},{"$f":"入力シート!H687","v":0},{"$f":"IF(入力シート!$J687<>\"\",入力シート!$J687,IF(入力シート!$L687<>\"\",入力シート!$L687,\"‐\"))","v":"‐"},{"$f":"IF(入力シート!$K687<>\"\",入力シート!$K687,IF(入力シート!$M687<>\"\",入力シート!$M687,入力シート!$N687))","v":0},{"$f":"入力シート!I687","v":0},{"$f":"入力シート!O687","v":0},{"$f":"IF(入力シート!P687=\"×\",\"P\",\"PN\")","v":"PN"},{"$f":"計算結果!#REF!","v":{"$error":"#REF!"}},{"$f":"計算結果!#REF!","v":{"$error":"#REF!"}},{"$f":"計算結果!#REF!","v":{"$error":"#REF!"}},{"$f":"計算結果!#REF!","v":{"$error":"#REF!"}},{"$f":"計算結果!#REF!","v":{"$error":"#REF!"}},{"$f":"計算結果!#REF!","v":{"$error":"#REF!"}},{"$f":"計算結果!#REF!","v":{"$error":"#REF!"}},{"$f":"計算結果!#REF!","v":{"$error":"#REF!"}},{"$f":"計算結果!#REF!","v":{"$error":"#REF!"}},{"$f":"計算結果!#REF!","v":{"$error":"#REF!"}}]
[{"$f":"入力シート!A688","v":0},{"$f":"入力シート!G688","v":0},{"$f":"入力シート!H688","v":0},{"$f":"IF(入力シート!$J688<>\"\",入力シート!$J688,IF(入力シート!$L688<>\"\",入力シート!$L688,\"‐\"))","v":"‐"},{"$f":"IF(入力シート!$K688<>\"\",入力シート!$K688,IF(入力シート!$M688<>\"\",入力シート!$M688,入力シート!$N688))","v":0},{"$f":"入力シート!I688","v":0},{"$f":"入力シート!O688","v":0},{"$f":"IF(入力シート!P688=\"×\",\"P\",\"PN\")","v":"PN"},{"$f":"計算結果!#REF!","v":{"$error":"#REF!"}},{"$f":"計算結果!#REF!","v":{"$error":"#REF!"}},{"$f":"計算結果!#REF!","v":{"$error":"#REF!"}},{"$f":"計算結果!#REF!","v":{"$error":"#REF!"}},{"$f":"計算結果!#REF!","v":{"$error":"#REF!"}},{"$f":"計算結果!#REF!","v":{"$error":"#REF!"}},{"$f":"計算結果!#REF!","v":{"$error":"#REF!"}},{"$f":"計算結果!#REF!","v":{"$error":"#REF!"}},{"$f":"計算結果!#REF!","v":{"$error":"#REF!"}},{"$f":"計算結果!#REF!","v":{"$error":"#REF!"}}]
[{"$f":"入力シート!A689","v":0},{"$f":"入力シート!G689","v":0},{"$f":"入力シート!H689","v":0},{"$f":"IF(入力シート!$J689<>\"\",入力シート!$J689,IF(入力シート!$L689<>\"\",入力シート!$L689,\"‐\"))","v":"‐"},{"$f":"IF(入力シート!$K689<>\"\",入力シート!$K689,IF(入力シート!$M689<>\"\",入力シート!$M689,入力シート!$N689))","v":0},{"$f":"入力シート!I689","v":0},{"$f":"入力シート!O689","v":0},{"$f":"IF(入力シート!P689=\"×\",\"P\",\"PN\")","v":"PN"},{"$f":"計算結果!#REF!","v":{"$error":"#REF!"}},{"$f":"計算結果!#REF!","v":{"$error":"#REF!"}},{"$f":"計算結果!#REF!","v":{"$error":"#REF!"}},{"$f":"計算結果!#REF!","v":{"$error":"#REF!"}},{"$f":"計算結果!#REF!","v":{"$error":"#REF!"}},{"$f":"計算結果!#REF!","v":{"$error":"#REF!"}},{"$f":"計算結果!#REF!","v":{"$error":"#REF!"}},{"$f":"計算結果!#REF!","v":{"$error":"#REF!"}},{"$f":"計算結果!#REF!","v":{"$error":"#REF!"}},{"$f":"計算結果!#REF!","v":{"$error":"#REF!"}}]
[{"$f":"入力シート!A690","v":0},{"$f":"入力シート!G690","v":0},{"$f":"入力シート!H690","v":0},{"$f":"IF(入力シート!$J690<>\"\",入力シート!$J690,IF(入力シート!$L690<>\"\",入力シート!$L690,\"‐\"))","v":"‐"},{"$f":"IF(入力シート!$K690<>\"\",入力シート!$K690,IF(入力シート!$M690<>\"\",入力シート!$M690,入力シート!$N690))","v":0},{"$f":"入力シート!I690","v":0},{"$f":"入力シート!O690","v":0},{"$f":"IF(入力シート!P690=\"×\",\"P\",\"PN\")","v":"PN"},{"$f":"計算結果!#REF!","v":{"$error":"#REF!"}},{"$f":"計算結果!#REF!","v":{"$error":"#REF!"}},{"$f":"計算結果!#REF!","v":{"$error":"#REF!"}},{"$f":"計算結果!#REF!","v":{"$error":"#REF!"}},{"$f":"計算結果!#REF!","v":{"$error":"#REF!"}},{"$f":"計算結果!#REF!","v":{"$error":"#REF!"}},{"$f":"計算結果!#REF!","v":{"$error":"#REF!"}},{"$f":"計算結果!#REF!","v":{"$error":"#REF!"}},{"$f":"計算結果!#REF!","v":{"$error":"#REF!"}},{"$f":"計算結果!#REF!","v":{"$error":"#REF!"}}]
[{"$f":"入力シート!A691","v":0},{"$f":"入力シート!G691","v":0},{"$f":"入力シート!H691","v":0},{"$f":"IF(入力シート!$J691<>\"\",入力シート!$J691,IF(入力シート!$L691<>\"\",入力シート!$L691,\"‐\"))","v":"‐"},{"$f":"IF(入力シート!$K691<>\"\",入力シート!$K691,IF(入力シート!$M691<>\"\",入力シート!$M691,入力シート!$N691))","v":0},{"$f":"入力シート!I691","v":0},{"$f":"入力シート!O691","v":0},{"$f":"IF(入力シート!P691=\"×\",\"P\",\"PN\")","v":"PN"},{"$f":"計算結果!#REF!","v":{"$error":"#REF!"}},{"$f":"計算結果!#REF!","v":{"$error":"#REF!"}},{"$f":"計算結果!#REF!","v":{"$error":"#REF!"}},{"$f":"計算結果!#REF!","v":{"$error":"#REF!"}},{"$f":"計算結果!#REF!","v":{"$error":"#REF!"}},{"$f":"計算結果!#REF!","v":{"$error":"#REF!"}},{"$f":"計算結果!#REF!","v":{"$error":"#REF!"}},{"$f":"計算結果!#REF!","v":{"$error":"#REF!"}},{"$f":"計算結果!#REF!","v":{"$error":"#REF!"}},{"$f":"計算結果!#REF!","v":{"$error":"#REF!"}}]
[{"$f":"入力シート!A692","v":0},{"$f":"入力シート!G692","v":0},{"$f":"入力シート!H692","v":0},{"$f":"IF(入力シート!$J692<>\"\",入力シート!$J692,IF(入力シート!$L692<>\"\",入力シート!$L692,\"‐\"))","v":"‐"},{"$f":"IF(入力シート!$K692<>\"\",入力シート!$K692,IF(入力シート!$M692<>\"\",入力シート!$M692,入力シート!$N692))","v":0},{"$f":"入力シート!I692","v":0},{"$f":"入力シート!O692","v":0},{"$f":"IF(入力シート!P692=\"×\",\"P\",\"PN\")","v":"PN"},{"$f":"計算結果!#REF!","v":{"$error":"#REF!"}},{"$f":"計算結果!#REF!","v":{"$error":"#REF!"}},{"$f":"計算結果!#REF!","v":{"$error":"#REF!"}},{"$f":"計算結果!#REF!","v":{"$error":"#REF!"}},{"$f":"計算結果!#REF!","v":{"$error":"#REF!"}},{"$f":"計算結果!#REF!","v":{"$error":"#REF!"}},{"$f":"計算結果!#REF!","v":{"$error":"#REF!"}},{"$f":"計算結果!#REF!","v":{"$error":"#REF!"}},{"$f":"計算結果!#REF!","v":{"$error":"#REF!"}},{"$f":"計算結果!#REF!","v":{"$error":"#REF!"}}]
[{"$f":"入力シート!A693","v":0},{"$f":"入力シート!G693","v":0},{"$f":"入力シート!H693","v":0},{"$f":"IF(入力シート!$J693<>\"\",入力シート!$J693,IF(入力シート!$L693<>\"\",入力シート!$L693,\"‐\"))","v":"‐"},{"$f":"IF(入力シート!$K693<>\"\",入力シート!$K693,IF(入力シート!$M693<>\"\",入力シート!$M693,入力シート!$N693))","v":0},{"$f":"入力シート!I693","v":0},{"$f":"入力シート!O693","v":0},{"$f":"IF(入力シート!P693=\"×\",\"P\",\"PN\")","v":"PN"},{"$f":"計算結果!#REF!","v":{"$error":"#REF!"}},{"$f":"計算結果!#REF!","v":{"$error":"#REF!"}},{"$f":"計算結果!#REF!","v":{"$error":"#REF!"}},{"$f":"計算結果!#REF!","v":{"$error":"#REF!"}},{"$f":"計算結果!#REF!","v":{"$error":"#REF!"}},{"$f":"計算結果!#REF!","v":{"$error":"#REF!"}},{"$f":"計算結果!#REF!","v":{"$error":"#REF!"}},{"$f":"計算結果!#REF!","v":{"$error":"#REF!"}},{"$f":"計算結果!#REF!","v":{"$error":"#REF!"}},{"$f":"計算結果!#REF!","v":{"$error":"#REF!"}}]
[{"$f":"入力シート!A694","v":0},{"$f":"入力シート!G694","v":0},{"$f":"入力シート!H694","v":0},{"$f":"IF(入力シート!$J694<>\"\",入力シート!$J694,IF(入力シート!$L694<>\"\",入力シート!$L694,\"‐\"))","v":"‐"},{"$f":"IF(入力シート!$K694<>\"\",入力シート!$K694,IF(入力シート!$M694<>\"\",入力シート!$M694,入力シート!$N694))","v":0},{"$f":"入力シート!I694","v":0},{"$f":"入力シート!O694","v":0},{"$f":"IF(入力シート!P694=\"×\",\"P\",\"PN\")","v":"PN"},{"$f":"計算結果!#REF!","v":{"$error":"#REF!"}},{"$f":"計算結果!#REF!","v":{"$error":"#REF!"}},{"$f":"計算結果!#REF!","v":{"$error":"#REF!"}},{"$f":"計算結果!#REF!","v":{"$error":"#REF!"}},{"$f":"計算結果!#REF!","v":{"$error":"#REF!"}},{"$f":"計算結果!#REF!","v":{"$error":"#REF!"}},{"$f":"計算結果!#REF!","v":{"$error":"#REF!"}},{"$f":"計算結果!#REF!","v":{"$error":"#REF!"}},{"$f":"計算結果!#REF!","v":{"$error":"#REF!"}},{"$f":"計算結果!#REF!","v":{"$error":"#REF!"}}]
[{"$f":"入力シート!A695","v":0},{"$f":"入力シート!G695","v":0},{"$f":"入力シート!H695","v":0},{"$f":"IF(入力シート!$J695<>\"\",入力シート!$J695,IF(入力シート!$L695<>\"\",入力シート!$L695,\"‐\"))","v":"‐"},{"$f":"IF(入力シート!$K695<>\"\",入力シート!$K695,IF(入力シート!$M695<>\"\",入力シート!$M695,入力シート!$N695))","v":0},{"$f":"入力シート!I695","v":0},{"$f":"入力シート!O695","v":0},{"$f":"IF(入力シート!P695=\"×\",\"P\",\"PN\")","v":"PN"},{"$f":"計算結果!#REF!","v":{"$error":"#REF!"}},{"$f":"計算結果!#REF!","v":{"$error":"#REF!"}},{"$f":"計算結果!#REF!","v":{"$error":"#REF!"}},{"$f":"計算結果!#REF!","v":{"$error":"#REF!"}},{"$f":"計算結果!#REF!","v":{"$error":"#REF!"}},{"$f":"計算結果!#REF!","v":{"$error":"#REF!"}},{"$f":"計算結果!#REF!","v":{"$error":"#REF!"}},{"$f":"計算結果!#REF!","v":{"$error":"#REF!"}},{"$f":"計算結果!#REF!","v":{"$error":"#REF!"}},{"$f":"計算結果!#REF!","v":{"$error":"#REF!"}}]
[{"$f":"入力シート!A696","v":0},{"$f":"入力シート!G696","v":0},{"$f":"入力シート!H696","v":0},{"$f":"IF(入力シート!$J696<>\"\",入力シート!$J696,IF(入力シート!$L696<>\"\",入力シート!$L696,\"‐\"))","v":"‐"},{"$f":"IF(入力シート!$K696<>\"\",入力シート!$K696,IF(入力シート!$M696<>\"\",入力シート!$M696,入力シート!$N696))","v":0},{"$f":"入力シート!I696","v":0},{"$f":"入力シート!O696","v":0},{"$f":"IF(入力シート!P696=\"×\",\"P\",\"PN\")","v":"PN"},{"$f":"計算結果!#REF!","v":{"$error":"#REF!"}},{"$f":"計算結果!#REF!","v":{"$error":"#REF!"}},{"$f":"計算結果!#REF!","v":{"$error":"#REF!"}},{"$f":"計算結果!#REF!","v":{"$error":"#REF!"}},{"$f":"計算結果!#REF!","v":{"$error":"#REF!"}},{"$f":"計算結果!#REF!","v":{"$error":"#REF!"}},{"$f":"計算結果!#REF!","v":{"$error":"#REF!"}},{"$f":"計算結果!#REF!","v":{"$error":"#REF!"}},{"$f":"計算結果!#REF!","v":{"$error":"#REF!"}},{"$f":"計算結果!#REF!","v":{"$error":"#REF!"}}]
[{"$f":"入力シート!A697","v":0},{"$f":"入力シート!G697","v":0},{"$f":"入力シート!H697","v":0},{"$f":"IF(入力シート!$J697<>\"\",入力シート!$J697,IF(入力シート!$L697<>\"\",入力シート!$L697,\"‐\"))","v":"‐"},{"$f":"IF(入力シート!$K697<>\"\",入力シート!$K697,IF(入力シート!$M697<>\"\",入力シート!$M697,入力シート!$N697))","v":0},{"$f":"入力シート!I697","v":0},{"$f":"入力シート!O697","v":0},{"$f":"IF(入力シート!P697=\"×\",\"P\",\"PN\")","v":"PN"},{"$f":"計算結果!#REF!","v":{"$error":"#REF!"}},{"$f":"計算結果!#REF!","v":{"$error":"#REF!"}},{"$f":"計算結果!#REF!","v":{"$error":"#REF!"}},{"$f":"計算結果!#REF!","v":{"$error":"#REF!"}},{"$f":"計算結果!#REF!","v":{"$error":"#REF!"}},{"$f":"計算結果!#REF!","v":{"$error":"#REF!"}},{"$f":"計算結果!#REF!","v":{"$error":"#REF!"}},{"$f":"計算結果!#REF!","v":{"$error":"#REF!"}},{"$f":"計算結果!#REF!","v":{"$error":"#REF!"}},{"$f":"計算結果!#REF!","v":{"$error":"#REF!"}}]
[{"$f":"入力シート!A698","v":0},{"$f":"入力シート!G698","v":0},{"$f":"入力シート!H698","v":0},{"$f":"IF(入力シート!$J698<>\"\",入力シート!$J698,IF(入力シート!$L698<>\"\",入力シート!$L698,\"‐\"))","v":"‐"},{"$f":"IF(入力シート!$K698<>\"\",入力シート!$K698,IF(入力シート!$M698<>\"\",入力シート!$M698,入力シート!$N698))","v":0},{"$f":"入力シート!I698","v":0},{"$f":"入力シート!O698","v":0},{"$f":"IF(入力シート!P698=\"×\",\"P\",\"PN\")","v":"PN"},{"$f":"計算結果!#REF!","v":{"$error":"#REF!"}},{"$f":"計算結果!#REF!","v":{"$error":"#REF!"}},{"$f":"計算結果!#REF!","v":{"$error":"#REF!"}},{"$f":"計算結果!#REF!","v":{"$error":"#REF!"}},{"$f":"計算結果!#REF!","v":{"$error":"#REF!"}},{"$f":"計算結果!#REF!","v":{"$error":"#REF!"}},{"$f":"計算結果!#REF!","v":{"$error":"#REF!"}},{"$f":"計算結果!#REF!","v":{"$error":"#REF!"}},{"$f":"計算結果!#REF!","v":{"$error":"#REF!"}},{"$f":"計算結果!#REF!","v":{"$error":"#REF!"}}]
[{"$f":"入力シート!A699","v":0},{"$f":"入力シート!G699","v":0},{"$f":"入力シート!H699","v":0},{"$f":"IF(入力シート!$J699<>\"\",入力シート!$J699,IF(入力シート!$L699<>\"\",入力シート!$L699,\"‐\"))","v":"‐"},{"$f":"IF(入力シート!$K699<>\"\",入力シート!$K699,IF(入力シート!$M699<>\"\",入力シート!$M699,入力シート!$N699))","v":0},{"$f":"入力シート!I699","v":0},{"$f":"入力シート!O699","v":0},{"$f":"IF(入力シート!P699=\"×\",\"P\",\"PN\")","v":"PN"},{"$f":"計算結果!#REF!","v":{"$error":"#REF!"}},{"$f":"計算結果!#REF!","v":{"$error":"#REF!"}},{"$f":"計算結果!#REF!","v":{"$error":"#REF!"}},{"$f":"計算結果!#REF!","v":{"$error":"#REF!"}},{"$f":"計算結果!#REF!","v":{"$error":"#REF!"}},{"$f":"計算結果!#REF!","v":{"$error":"#REF!"}},{"$f":"計算結果!#REF!","v":{"$error":"#REF!"}},{"$f":"計算結果!#REF!","v":{"$error":"#REF!"}},{"$f":"計算結果!#REF!","v":{"$error":"#REF!"}},{"$f":"計算結果!#REF!","v":{"$error":"#REF!"}}]
[{"$f":"入力シート!A700","v":0},{"$f":"入力シート!G700","v":0},{"$f":"入力シート!H700","v":0},{"$f":"IF(入力シート!$J700<>\"\",入力シート!$J700,IF(入力シート!$L700<>\"\",入力シート!$L700,\"‐\"))","v":"‐"},{"$f":"IF(入力シート!$K700<>\"\",入力シート!$K700,IF(入力シート!$M700<>\"\",入力シート!$M700,入力シート!$N700))","v":0},{"$f":"入力シート!I700","v":0},{"$f":"入力シート!O700","v":0},{"$f":"IF(入力シート!P700=\"×\",\"P\",\"PN\")","v":"PN"},{"$f":"計算結果!#REF!","v":{"$error":"#REF!"}},{"$f":"計算結果!#REF!","v":{"$error":"#REF!"}},{"$f":"計算結果!#REF!","v":{"$error":"#REF!"}},{"$f":"計算結果!#REF!","v":{"$error":"#REF!"}},{"$f":"計算結果!#REF!","v":{"$error":"#REF!"}},{"$f":"計算結果!#REF!","v":{"$error":"#REF!"}},{"$f":"計算結果!#REF!","v":{"$error":"#REF!"}},{"$f":"計算結果!#REF!","v":{"$error":"#REF!"}},{"$f":"計算結果!#REF!","v":{"$error":"#REF!"}},{"$f":"計算結果!#REF!","v":{"$error":"#REF!"}}]
[{"$f":"入力シート!A701","v":0},{"$f":"入力シート!G701","v":0},{"$f":"入力シート!H701","v":0},{"$f":"IF(入力シート!$J701<>\"\",入力シート!$J701,IF(入力シート!$L701<>\"\",入力シート!$L701,\"‐\"))","v":"‐"},{"$f":"IF(入力シート!$K701<>\"\",入力シート!$K701,IF(入力シート!$M701<>\"\",入力シート!$M701,入力シート!$N701))","v":0},{"$f":"入力シート!I701","v":0},{"$f":"入力シート!O701","v":0},{"$f":"IF(入力シート!P701=\"×\",\"P\",\"PN\")","v":"PN"},{"$f":"計算結果!#REF!","v":{"$error":"#REF!"}},{"$f":"計算結果!#REF!","v":{"$error":"#REF!"}},{"$f":"計算結果!#REF!","v":{"$error":"#REF!"}},{"$f":"計算結果!#REF!","v":{"$error":"#REF!"}},{"$f":"計算結果!#REF!","v":{"$error":"#REF!"}},{"$f":"計算結果!#REF!","v":{"$error":"#REF!"}},{"$f":"計算結果!#REF!","v":{"$error":"#REF!"}},{"$f":"計算結果!#REF!","v":{"$error":"#REF!"}},{"$f":"計算結果!#REF!","v":{"$error":"#REF!"}},{"$f":"計算結果!#REF!","v":{"$error":"#REF!"}}]
[{"$f":"入力シート!A702","v":0},{"$f":"入力シート!G702","v":0},{"$f":"入力シート!H702","v":0},{"$f":"IF(入力シート!$J702<>\"\",入力シート!$J702,IF(入力シート!$L702<>\"\",入力シート!$L702,\"‐\"))","v":"‐"},{"$f":"IF(入力シート!$K702<>\"\",入力シート!$K702,IF(入力シート!$M702<>\"\",入力シート!$M702,入力シート!$N702))","v":0},{"$f":"入力シート!I702","v":0},{"$f":"入力シート!O702","v":0},{"$f":"IF(入力シート!P702=\"×\",\"P\",\"PN\")","v":"PN"},{"$f":"計算結果!#REF!","v":{"$error":"#REF!"}},{"$f":"計算結果!#REF!","v":{"$error":"#REF!"}},{"$f":"計算結果!#REF!","v":{"$error":"#REF!"}},{"$f":"計算結果!#REF!","v":{"$error":"#REF!"}},{"$f":"計算結果!#REF!","v":{"$error":"#REF!"}},{"$f":"計算結果!#REF!","v":{"$error":"#REF!"}},{"$f":"計算結果!#REF!","v":{"$error":"#REF!"}},{"$f":"計算結果!#REF!","v":{"$error":"#REF!"}},{"$f":"計算結果!#REF!","v":{"$error":"#REF!"}},{"$f":"計算結果!#REF!","v":{"$error":"#REF!"}}]
[{"$f":"入力シート!A703","v":0},{"$f":"入力シート!G703","v":0},{"$f":"入力シート!H703","v":0},{"$f":"IF(入力シート!$J703<>\"\",入力シート!$J703,IF(入力シート!$L703<>\"\",入力シート!$L703,\"‐\"))","v":"‐"},{"$f":"IF(入力シート!$K703<>\"\",入力シート!$K703,IF(入力シート!$M703<>\"\",入力シート!$M703,入力シート!$N703))","v":0},{"$f":"入力シート!I703","v":0},{"$f":"入力シート!O703","v":0},{"$f":"IF(入力シート!P703=\"×\",\"P\",\"PN\")","v":"PN"},{"$f":"計算結果!#REF!","v":{"$error":"#REF!"}},{"$f":"計算結果!#REF!","v":{"$error":"#REF!"}},{"$f":"計算結果!#REF!","v":{"$error":"#REF!"}},{"$f":"計算結果!#REF!","v":{"$error":"#REF!"}},{"$f":"計算結果!#REF!","v":{"$error":"#REF!"}},{"$f":"計算結果!#REF!","v":{"$error":"#REF!"}},{"$f":"計算結果!#REF!","v":{"$error":"#REF!"}},{"$f":"計算結果!#REF!","v":{"$error":"#REF!"}},{"$f":"計算結果!#REF!","v":{"$error":"#REF!"}},{"$f":"計算結果!#REF!","v":{"$error":"#REF!"}}]
[{"$f":"入力シート!A704","v":0},{"$f":"入力シート!G704","v":0},{"$f":"入力シート!H704","v":0},{"$f":"IF(入力シート!$J704<>\"\",入力シート!$J704,IF(入力シート!$L704<>\"\",入力シート!$L704,\"‐\"))","v":"‐"},{"$f":"IF(入力シート!$K704<>\"\",入力シート!$K704,IF(入力シート!$M704<>\"\",入力シート!$M704,入力シート!$N704))","v":0},{"$f":"入力シート!I704","v":0},{"$f":"入力シート!O704","v":0},{"$f":"IF(入力シート!P704=\"×\",\"P\",\"PN\")","v":"PN"},{"$f":"計算結果!#REF!","v":{"$error":"#REF!"}},{"$f":"計算結果!#REF!","v":{"$error":"#REF!"}},{"$f":"計算結果!#REF!","v":{"$error":"#REF!"}},{"$f":"計算結果!#REF!","v":{"$error":"#REF!"}},{"$f":"計算結果!#REF!","v":{"$error":"#REF!"}},{"$f":"計算結果!#REF!","v":{"$error":"#REF!"}},{"$f":"計算結果!#REF!","v":{"$error":"#REF!"}},{"$f":"計算結果!#REF!","v":{"$error":"#REF!"}},{"$f":"計算結果!#REF!","v":{"$error":"#REF!"}},{"$f":"計算結果!#REF!","v":{"$error":"#REF!"}}]
[{"$f":"入力シート!A705","v":0},{"$f":"入力シート!G705","v":0},{"$f":"入力シート!H705","v":0},{"$f":"IF(入力シート!$J705<>\"\",入力シート!$J705,IF(入力シート!$L705<>\"\",入力シート!$L705,\"‐\"))","v":"‐"},{"$f":"IF(入力シート!$K705<>\"\",入力シート!$K705,IF(入力シート!$M705<>\"\",入力シート!$M705,入力シート!$N705))","v":0},{"$f":"入力シート!I705","v":0},{"$f":"入力シート!O705","v":0},{"$f":"IF(入力シート!P705=\"×\",\"P\",\"PN\")","v":"PN"},{"$f":"計算結果!#REF!","v":{"$error":"#REF!"}},{"$f":"計算結果!#REF!","v":{"$error":"#REF!"}},{"$f":"計算結果!#REF!","v":{"$error":"#REF!"}},{"$f":"計算結果!#REF!","v":{"$error":"#REF!"}},{"$f":"計算結果!#REF!","v":{"$error":"#REF!"}},{"$f":"計算結果!#REF!","v":{"$error":"#REF!"}},{"$f":"計算結果!#REF!","v":{"$error":"#REF!"}},{"$f":"計算結果!#REF!","v":{"$error":"#REF!"}},{"$f":"計算結果!#REF!","v":{"$error":"#REF!"}},{"$f":"計算結果!#REF!","v":{"$error":"#REF!"}}]
[{"$f":"入力シート!A706","v":0},{"$f":"入力シート!G706","v":0},{"$f":"入力シート!H706","v":0},{"$f":"IF(入力シート!$J706<>\"\",入力シート!$J706,IF(入力シート!$L706<>\"\",入力シート!$L706,\"‐\"))","v":"‐"},{"$f":"IF(入力シート!$K706<>\"\",入力シート!$K706,IF(入力シート!$M706<>\"\",入力シート!$M706,入力シート!$N706))","v":0},{"$f":"入力シート!I706","v":0},{"$f":"入力シート!O706","v":0},{"$f":"IF(入力シート!P706=\"×\",\"P\",\"PN\")","v":"PN"},{"$f":"計算結果!#REF!","v":{"$error":"#REF!"}},{"$f":"計算結果!#REF!","v":{"$error":"#REF!"}},{"$f":"計算結果!#REF!","v":{"$error":"#REF!"}},{"$f":"計算結果!#REF!","v":{"$error":"#REF!"}},{"$f":"計算結果!#REF!","v":{"$error":"#REF!"}},{"$f":"計算結果!#REF!","v":{"$error":"#REF!"}},{"$f":"計算結果!#REF!","v":{"$error":"#REF!"}},{"$f":"計算結果!#REF!","v":{"$error":"#REF!"}},{"$f":"計算結果!#REF!","v":{"$error":"#REF!"}},{"$f":"計算結果!#REF!","v":{"$error":"#REF!"}}]
[{"$f":"入力シート!A707","v":0},{"$f":"入力シート!G707","v":0},{"$f":"入力シート!H707","v":0},{"$f":"IF(入力シート!$J707<>\"\",入力シート!$J707,IF(入力シート!$L707<>\"\",入力シート!$L707,\"‐\"))","v":"‐"},{"$f":"IF(入力シート!$K707<>\"\",入力シート!$K707,IF(入力シート!$M707<>\"\",入力シート!$M707,入力シート!$N707))","v":0},{"$f":"入力シート!I707","v":0},{"$f":"入力シート!O707","v":0},{"$f":"IF(入力シート!P707=\"×\",\"P\",\"PN\")","v":"PN"},{"$f":"計算結果!#REF!","v":{"$error":"#REF!"}},{"$f":"計算結果!#REF!","v":{"$error":"#REF!"}},{"$f":"計算結果!#REF!","v":{"$error":"#REF!"}},{"$f":"計算結果!#REF!","v":{"$error":"#REF!"}},{"$f":"計算結果!#REF!","v":{"$error":"#REF!"}},{"$f":"計算結果!#REF!","v":{"$error":"#REF!"}},{"$f":"計算結果!#REF!","v":{"$error":"#REF!"}},{"$f":"計算結果!#REF!","v":{"$error":"#REF!"}},{"$f":"計算結果!#REF!","v":{"$error":"#REF!"}},{"$f":"計算結果!#REF!","v":{"$error":"#REF!"}}]
[{"$f":"入力シート!A708","v":0},{"$f":"入力シート!G708","v":0},{"$f":"入力シート!H708","v":0},{"$f":"IF(入力シート!$J708<>\"\",入力シート!$J708,IF(入力シート!$L708<>\"\",入力シート!$L708,\"‐\"))","v":"‐"},{"$f":"IF(入力シート!$K708<>\"\",入力シート!$K708,IF(入力シート!$M708<>\"\",入力シート!$M708,入力シート!$N708))","v":0},{"$f":"入力シート!I708","v":0},{"$f":"入力シート!O708","v":0},{"$f":"IF(入力シート!P708=\"×\",\"P\",\"PN\")","v":"PN"},{"$f":"計算結果!#REF!","v":{"$error":"#REF!"}},{"$f":"計算結果!#REF!","v":{"$error":"#REF!"}},{"$f":"計算結果!#REF!","v":{"$error":"#REF!"}},{"$f":"計算結果!#REF!","v":{"$error":"#REF!"}},{"$f":"計算結果!#REF!","v":{"$error":"#REF!"}},{"$f":"計算結果!#REF!","v":{"$error":"#REF!"}},{"$f":"計算結果!#REF!","v":{"$error":"#REF!"}},{"$f":"計算結果!#REF!","v":{"$error":"#REF!"}},{"$f":"計算結果!#REF!","v":{"$error":"#REF!"}},{"$f":"計算結果!#REF!","v":{"$error":"#REF!"}}]
[{"$f":"入力シート!A709","v":0},{"$f":"入力シート!G709","v":0},{"$f":"入力シート!H709","v":0},{"$f":"IF(入力シート!$J709<>\"\",入力シート!$J709,IF(入力シート!$L709<>\"\",入力シート!$L709,\"‐\"))","v":"‐"},{"$f":"IF(入力シート!$K709<>\"\",入力シート!$K709,IF(入力シート!$M709<>\"\",入力シート!$M709,入力シート!$N709))","v":0},{"$f":"入力シート!I709","v":0},{"$f":"入力シート!O709","v":0},{"$f":"IF(入力シート!P709=\"×\",\"P\",\"PN\")","v":"PN"},{"$f":"計算結果!#REF!","v":{"$error":"#REF!"}},{"$f":"計算結果!#REF!","v":{"$error":"#REF!"}},{"$f":"計算結果!#REF!","v":{"$error":"#REF!"}},{"$f":"計算結果!#REF!","v":{"$error":"#REF!"}},{"$f":"計算結果!#REF!","v":{"$error":"#REF!"}},{"$f":"計算結果!#REF!","v":{"$error":"#REF!"}},{"$f":"計算結果!#REF!","v":{"$error":"#REF!"}},{"$f":"計算結果!#REF!","v":{"$error":"#REF!"}},{"$f":"計算結果!#REF!","v":{"$error":"#REF!"}},{"$f":"計算結果!#REF!","v":{"$error":"#REF!"}}]
[{"$f":"入力シート!A710","v":0},{"$f":"入力シート!G710","v":0},{"$f":"入力シート!H710","v":0},{"$f":"IF(入力シート!$J710<>\"\",入力シート!$J710,IF(入力シート!$L710<>\"\",入力シート!$L710,\"‐\"))","v":"‐"},{"$f":"IF(入力シート!$K710<>\"\",入力シート!$K710,IF(入力シート!$M710<>\"\",入力シート!$M710,入力シート!$N710))","v":0},{"$f":"入力シート!I710","v":0},{"$f":"入力シート!O710","v":0},{"$f":"IF(入力シート!P710=\"×\",\"P\",\"PN\")","v":"PN"},{"$f":"計算結果!#REF!","v":{"$error":"#REF!"}},{"$f":"計算結果!#REF!","v":{"$error":"#REF!"}},{"$f":"計算結果!#REF!","v":{"$error":"#REF!"}},{"$f":"計算結果!#REF!","v":{"$error":"#REF!"}},{"$f":"計算結果!#REF!","v":{"$error":"#REF!"}},{"$f":"計算結果!#REF!","v":{"$error":"#REF!"}},{"$f":"計算結果!#REF!","v":{"$error":"#REF!"}},{"$f":"計算結果!#REF!","v":{"$error":"#REF!"}},{"$f":"計算結果!#REF!","v":{"$error":"#REF!"}},{"$f":"計算結果!#REF!","v":{"$error":"#REF!"}}]
[{"$f":"入力シート!A711","v":0},{"$f":"入力シート!G711","v":0},{"$f":"入力シート!H711","v":0},{"$f":"IF(入力シート!$J711<>\"\",入力シート!$J711,IF(入力シート!$L711<>\"\",入力シート!$L711,\"‐\"))","v":"‐"},{"$f":"IF(入力シート!$K711<>\"\",入力シート!$K711,IF(入力シート!$M711<>\"\",入力シート!$M711,入力シート!$N711))","v":0},{"$f":"入力シート!I711","v":0},{"$f":"入力シート!O711","v":0},{"$f":"IF(入力シート!P711=\"×\",\"P\",\"PN\")","v":"PN"},{"$f":"計算結果!#REF!","v":{"$error":"#REF!"}},{"$f":"計算結果!#REF!","v":{"$error":"#REF!"}},{"$f":"計算結果!#REF!","v":{"$error":"#REF!"}},{"$f":"計算結果!#REF!","v":{"$error":"#REF!"}},{"$f":"計算結果!#REF!","v":{"$error":"#REF!"}},{"$f":"計算結果!#REF!","v":{"$error":"#REF!"}},{"$f":"計算結果!#REF!","v":{"$error":"#REF!"}},{"$f":"計算結果!#REF!","v":{"$error":"#REF!"}},{"$f":"計算結果!#REF!","v":{"$error":"#REF!"}},{"$f":"計算結果!#REF!","v":{"$error":"#REF!"}}]
[{"$f":"入力シート!A712","v":0},{"$f":"入力シート!G712","v":0},{"$f":"入力シート!H712","v":0},{"$f":"IF(入力シート!$J712<>\"\",入力シート!$J712,IF(入力シート!$L712<>\"\",入力シート!$L712,\"‐\"))","v":"‐"},{"$f":"IF(入力シート!$K712<>\"\",入力シート!$K712,IF(入力シート!$M712<>\"\",入力シート!$M712,入力シート!$N712))","v":0},{"$f":"入力シート!I712","v":0},{"$f":"入力シート!O712","v":0},{"$f":"IF(入力シート!P712=\"×\",\"P\",\"PN\")","v":"PN"},{"$f":"計算結果!#REF!","v":{"$error":"#REF!"}},{"$f":"計算結果!#REF!","v":{"$error":"#REF!"}},{"$f":"計算結果!#REF!","v":{"$error":"#REF!"}},{"$f":"計算結果!#REF!","v":{"$error":"#REF!"}},{"$f":"計算結果!#REF!","v":{"$error":"#REF!"}},{"$f":"計算結果!#REF!","v":{"$error":"#REF!"}},{"$f":"計算結果!#REF!","v":{"$error":"#REF!"}},{"$f":"計算結果!#REF!","v":{"$error":"#REF!"}},{"$f":"計算結果!#REF!","v":{"$error":"#REF!"}},{"$f":"計算結果!#REF!","v":{"$error":"#REF!"}}]
[{"$f":"入力シート!A713","v":0},{"$f":"入力シート!G713","v":0},{"$f":"入力シート!H713","v":0},{"$f":"IF(入力シート!$J713<>\"\",入力シート!$J713,IF(入力シート!$L713<>\"\",入力シート!$L713,\"‐\"))","v":"‐"},{"$f":"IF(入力シート!$K713<>\"\",入力シート!$K713,IF(入力シート!$M713<>\"\",入力シート!$M713,入力シート!$N713))","v":0},{"$f":"入力シート!I713","v":0},{"$f":"入力シート!O713","v":0},{"$f":"IF(入力シート!P713=\"×\",\"P\",\"PN\")","v":"PN"},{"$f":"計算結果!#REF!","v":{"$error":"#REF!"}},{"$f":"計算結果!#REF!","v":{"$error":"#REF!"}},{"$f":"計算結果!#REF!","v":{"$error":"#REF!"}},{"$f":"計算結果!#REF!","v":{"$error":"#REF!"}},{"$f":"計算結果!#REF!","v":{"$error":"#REF!"}},{"$f":"計算結果!#REF!","v":{"$error":"#REF!"}},{"$f":"計算結果!#REF!","v":{"$error":"#REF!"}},{"$f":"計算結果!#REF!","v":{"$error":"#REF!"}},{"$f":"計算結果!#REF!","v":{"$error":"#REF!"}},{"$f":"計算結果!#REF!","v":{"$error":"#REF!"}}]
[{"$f":"入力シート!A714","v":0},{"$f":"入力シート!G714","v":0},{"$f":"入力シート!H714","v":0},{"$f":"IF(入力シート!$J714<>\"\",入力シート!$J714,IF(入力シート!$L714<>\"\",入力シート!$L714,\"‐\"))","v":"‐"},{"$f":"IF(入力シート!$K714<>\"\",入力シート!$K714,IF(入力シート!$M714<>\"\",入力シート!$M714,入力シート!$N714))","v":0},{"$f":"入力シート!I714","v":0},{"$f":"入力シート!O714","v":0},{"$f":"IF(入力シート!P714=\"×\",\"P\",\"PN\")","v":"PN"},{"$f":"計算結果!#REF!","v":{"$error":"#REF!"}},{"$f":"計算結果!#REF!","v":{"$error":"#REF!"}},{"$f":"計算結果!#REF!","v":{"$error":"#REF!"}},{"$f":"計算結果!#REF!","v":{"$error":"#REF!"}},{"$f":"計算結果!#REF!","v":{"$error":"#REF!"}},{"$f":"計算結果!#REF!","v":{"$error":"#REF!"}},{"$f":"計算結果!#REF!","v":{"$error":"#REF!"}},{"$f":"計算結果!#REF!","v":{"$error":"#REF!"}},{"$f":"計算結果!#REF!","v":{"$error":"#REF!"}},{"$f":"計算結果!#REF!","v":{"$error":"#REF!"}}]
[{"$f":"入力シート!A715","v":0},{"$f":"入力シート!G715","v":0},{"$f":"入力シート!H715","v":0},{"$f":"IF(入力シート!$J715<>\"\",入力シート!$J715,IF(入力シート!$L715<>\"\",入力シート!$L715,\"‐\"))","v":"‐"},{"$f":"IF(入力シート!$K715<>\"\",入力シート!$K715,IF(入力シート!$M715<>\"\",入力シート!$M715,入力シート!$N715))","v":0},{"$f":"入力シート!I715","v":0},{"$f":"入力シート!O715","v":0},{"$f":"IF(入力シート!P715=\"×\",\"P\",\"PN\")","v":"PN"},{"$f":"計算結果!#REF!","v":{"$error":"#REF!"}},{"$f":"計算結果!#REF!","v":{"$error":"#REF!"}},{"$f":"計算結果!#REF!","v":{"$error":"#REF!"}},{"$f":"計算結果!#REF!","v":{"$error":"#REF!"}},{"$f":"計算結果!#REF!","v":{"$error":"#REF!"}},{"$f":"計算結果!#REF!","v":{"$error":"#REF!"}},{"$f":"計算結果!#REF!","v":{"$error":"#REF!"}},{"$f":"計算結果!#REF!","v":{"$error":"#REF!"}},{"$f":"計算結果!#REF!","v":{"$error":"#REF!"}},{"$f":"計算結果!#REF!","v":{"$error":"#REF!"}}]
[{"$f":"入力シート!A716","v":0},{"$f":"入力シート!G716","v":0},{"$f":"入力シート!H716","v":0},{"$f":"IF(入力シート!$J716<>\"\",入力シート!$J716,IF(入力シート!$L716<>\"\",入力シート!$L716,\"‐\"))","v":"‐"},{"$f":"IF(入力シート!$K716<>\"\",入力シート!$K716,IF(入力シート!$M716<>\"\",入力シート!$M716,入力シート!$N716))","v":0},{"$f":"入力シート!I716","v":0},{"$f":"入力シート!O716","v":0},{"$f":"IF(入力シート!P716=\"×\",\"P\",\"PN\")","v":"PN"},{"$f":"計算結果!#REF!","v":{"$error":"#REF!"}},{"$f":"計算結果!#REF!","v":{"$error":"#REF!"}},{"$f":"計算結果!#REF!","v":{"$error":"#REF!"}},{"$f":"計算結果!#REF!","v":{"$error":"#REF!"}},{"$f":"計算結果!#REF!","v":{"$error":"#REF!"}},{"$f":"計算結果!#REF!","v":{"$error":"#REF!"}},{"$f":"計算結果!#REF!","v":{"$error":"#REF!"}},{"$f":"計算結果!#REF!","v":{"$error":"#REF!"}},{"$f":"計算結果!#REF!","v":{"$error":"#REF!"}},{"$f":"計算結果!#REF!","v":{"$error":"#REF!"}}]
[{"$f":"入力シート!A717","v":0},{"$f":"入力シート!G717","v":0},{"$f":"入力シート!H717","v":0},{"$f":"IF(入力シート!$J717<>\"\",入力シート!$J717,IF(入力シート!$L717<>\"\",入力シート!$L717,\"‐\"))","v":"‐"},{"$f":"IF(入力シート!$K717<>\"\",入力シート!$K717,IF(入力シート!$M717<>\"\",入力シート!$M717,入力シート!$N717))","v":0},{"$f":"入力シート!I717","v":0},{"$f":"入力シート!O717","v":0},{"$f":"IF(入力シート!P717=\"×\",\"P\",\"PN\")","v":"PN"},{"$f":"計算結果!#REF!","v":{"$error":"#REF!"}},{"$f":"計算結果!#REF!","v":{"$error":"#REF!"}},{"$f":"計算結果!#REF!","v":{"$error":"#REF!"}},{"$f":"計算結果!#REF!","v":{"$error":"#REF!"}},{"$f":"計算結果!#REF!","v":{"$error":"#REF!"}},{"$f":"計算結果!#REF!","v":{"$error":"#REF!"}},{"$f":"計算結果!#REF!","v":{"$error":"#REF!"}},{"$f":"計算結果!#REF!","v":{"$error":"#REF!"}},{"$f":"計算結果!#REF!","v":{"$error":"#REF!"}},{"$f":"計算結果!#REF!","v":{"$error":"#REF!"}}]
[{"$f":"入力シート!A718","v":0},{"$f":"入力シート!G718","v":0},{"$f":"入力シート!H718","v":0},{"$f":"IF(入力シート!$J718<>\"\",入力シート!$J718,IF(入力シート!$L718<>\"\",入力シート!$L718,\"‐\"))","v":"‐"},{"$f":"IF(入力シート!$K718<>\"\",入力シート!$K718,IF(入力シート!$M718<>\"\",入力シート!$M718,入力シート!$N718))","v":0},{"$f":"入力シート!I718","v":0},{"$f":"入力シート!O718","v":0},{"$f":"IF(入力シート!P718=\"×\",\"P\",\"PN\")","v":"PN"},{"$f":"計算結果!#REF!","v":{"$error":"#REF!"}},{"$f":"計算結果!#REF!","v":{"$error":"#REF!"}},{"$f":"計算結果!#REF!","v":{"$error":"#REF!"}},{"$f":"計算結果!#REF!","v":{"$error":"#REF!"}},{"$f":"計算結果!#REF!","v":{"$error":"#REF!"}},{"$f":"計算結果!#REF!","v":{"$error":"#REF!"}},{"$f":"計算結果!#REF!","v":{"$error":"#REF!"}},{"$f":"計算結果!#REF!","v":{"$error":"#REF!"}},{"$f":"計算結果!#REF!","v":{"$error":"#REF!"}},{"$f":"計算結果!#REF!","v":{"$error":"#REF!"}}]
[{"$f":"入力シート!A719","v":0},{"$f":"入力シート!G719","v":0},{"$f":"入力シート!H719","v":0},{"$f":"IF(入力シート!$J719<>\"\",入力シート!$J719,IF(入力シート!$L719<>\"\",入力シート!$L719,\"‐\"))","v":"‐"},{"$f":"IF(入力シート!$K719<>\"\",入力シート!$K719,IF(入力シート!$M719<>\"\",入力シート!$M719,入力シート!$N719))","v":0},{"$f":"入力シート!I719","v":0},{"$f":"入力シート!O719","v":0},{"$f":"IF(入力シート!P719=\"×\",\"P\",\"PN\")","v":"PN"},{"$f":"計算結果!#REF!","v":{"$error":"#REF!"}},{"$f":"計算結果!#REF!","v":{"$error":"#REF!"}},{"$f":"計算結果!#REF!","v":{"$error":"#REF!"}},{"$f":"計算結果!#REF!","v":{"$error":"#REF!"}},{"$f":"計算結果!#REF!","v":{"$error":"#REF!"}},{"$f":"計算結果!#REF!","v":{"$error":"#REF!"}},{"$f":"計算結果!#REF!","v":{"$error":"#REF!"}},{"$f":"計算結果!#REF!","v":{"$error":"#REF!"}},{"$f":"計算結果!#REF!","v":{"$error":"#REF!"}},{"$f":"計算結果!#REF!","v":{"$error":"#REF!"}}]
[{"$f":"入力シート!A720","v":0},{"$f":"入力シート!G720","v":0},{"$f":"入力シート!H720","v":0},{"$f":"IF(入力シート!$J720<>\"\",入力シート!$J720,IF(入力シート!$L720<>\"\",入力シート!$L720,\"‐\"))","v":"‐"},{"$f":"IF(入力シート!$K720<>\"\",入力シート!$K720,IF(入力シート!$M720<>\"\",入力シート!$M720,入力シート!$N720))","v":0},{"$f":"入力シート!I720","v":0},{"$f":"入力シート!O720","v":0},{"$f":"IF(入力シート!P720=\"×\",\"P\",\"PN\")","v":"PN"},{"$f":"計算結果!#REF!","v":{"$error":"#REF!"}},{"$f":"計算結果!#REF!","v":{"$error":"#REF!"}},{"$f":"計算結果!#REF!","v":{"$error":"#REF!"}},{"$f":"計算結果!#REF!","v":{"$error":"#REF!"}},{"$f":"計算結果!#REF!","v":{"$error":"#REF!"}},{"$f":"計算結果!#REF!","v":{"$error":"#REF!"}},{"$f":"計算結果!#REF!","v":{"$error":"#REF!"}},{"$f":"計算結果!#REF!","v":{"$error":"#REF!"}},{"$f":"計算結果!#REF!","v":{"$error":"#REF!"}},{"$f":"計算結果!#REF!","v":{"$error":"#REF!"}}]
[{"$f":"入力シート!A721","v":0},{"$f":"入力シート!G721","v":0},{"$f":"入力シート!H721","v":0},{"$f":"IF(入力シート!$J721<>\"\",入力シート!$J721,IF(入力シート!$L721<>\"\",入力シート!$L721,\"‐\"))","v":"‐"},{"$f":"IF(入力シート!$K721<>\"\",入力シート!$K721,IF(入力シート!$M721<>\"\",入力シート!$M721,入力シート!$N721))","v":0},{"$f":"入力シート!I721","v":0},{"$f":"入力シート!O721","v":0},{"$f":"IF(入力シート!P721=\"×\",\"P\",\"PN\")","v":"PN"},{"$f":"計算結果!#REF!","v":{"$error":"#REF!"}},{"$f":"計算結果!#REF!","v":{"$error":"#REF!"}},{"$f":"計算結果!#REF!","v":{"$error":"#REF!"}},{"$f":"計算結果!#REF!","v":{"$error":"#REF!"}},{"$f":"計算結果!#REF!","v":{"$error":"#REF!"}},{"$f":"計算結果!#REF!","v":{"$error":"#REF!"}},{"$f":"計算結果!#REF!","v":{"$error":"#REF!"}},{"$f":"計算結果!#REF!","v":{"$error":"#REF!"}},{"$f":"計算結果!#REF!","v":{"$error":"#REF!"}},{"$f":"計算結果!#REF!","v":{"$error":"#REF!"}}]
[{"$f":"入力シート!A722","v":0},{"$f":"入力シート!G722","v":0},{"$f":"入力シート!H722","v":0},{"$f":"IF(入力シート!$J722<>\"\",入力シート!$J722,IF(入力シート!$L722<>\"\",入力シート!$L722,\"‐\"))","v":"‐"},{"$f":"IF(入力シート!$K722<>\"\",入力シート!$K722,IF(入力シート!$M722<>\"\",入力シート!$M722,入力シート!$N722))","v":0},{"$f":"入力シート!I722","v":0},{"$f":"入力シート!O722","v":0},{"$f":"IF(入力シート!P722=\"×\",\"P\",\"PN\")","v":"PN"},{"$f":"計算結果!#REF!","v":{"$error":"#REF!"}},{"$f":"計算結果!#REF!","v":{"$error":"#REF!"}},{"$f":"計算結果!#REF!","v":{"$error":"#REF!"}},{"$f":"計算結果!#REF!","v":{"$error":"#REF!"}},{"$f":"計算結果!#REF!","v":{"$error":"#REF!"}},{"$f":"計算結果!#REF!","v":{"$error":"#REF!"}},{"$f":"計算結果!#REF!","v":{"$error":"#REF!"}},{"$f":"計算結果!#REF!","v":{"$error":"#REF!"}},{"$f":"計算結果!#REF!","v":{"$error":"#REF!"}},{"$f":"計算結果!#REF!","v":{"$error":"#REF!"}}]
[{"$f":"入力シート!A723","v":0},{"$f":"入力シート!G723","v":0},{"$f":"入力シート!H723","v":0},{"$f":"IF(入力シート!$J723<>\"\",入力シート!$J723,IF(入力シート!$L723<>\"\",入力シート!$L723,\"‐\"))","v":"‐"},{"$f":"IF(入力シート!$K723<>\"\",入力シート!$K723,IF(入力シート!$M723<>\"\",入力シート!$M723,入力シート!$N723))","v":0},{"$f":"入力シート!I723","v":0},{"$f":"入力シート!O723","v":0},{"$f":"IF(入力シート!P723=\"×\",\"P\",\"PN\")","v":"PN"},{"$f":"計算結果!#REF!","v":{"$error":"#REF!"}},{"$f":"計算結果!#REF!","v":{"$error":"#REF!"}},{"$f":"計算結果!#REF!","v":{"$error":"#REF!"}},{"$f":"計算結果!#REF!","v":{"$error":"#REF!"}},{"$f":"計算結果!#REF!","v":{"$error":"#REF!"}},{"$f":"計算結果!#REF!","v":{"$error":"#REF!"}},{"$f":"計算結果!#REF!","v":{"$error":"#REF!"}},{"$f":"計算結果!#REF!","v":{"$error":"#REF!"}},{"$f":"計算結果!#REF!","v":{"$error":"#REF!"}},{"$f":"計算結果!#REF!","v":{"$error":"#REF!"}}]
[{"$f":"入力シート!A724","v":0},{"$f":"入力シート!G724","v":0},{"$f":"入力シート!H724","v":0},{"$f":"IF(入力シート!$J724<>\"\",入力シート!$J724,IF(入力シート!$L724<>\"\",入力シート!$L724,\"‐\"))","v":"‐"},{"$f":"IF(入力シート!$K724<>\"\",入力シート!$K724,IF(入力シート!$M724<>\"\",入力シート!$M724,入力シート!$N724))","v":0},{"$f":"入力シート!I724","v":0},{"$f":"入力シート!O724","v":0},{"$f":"IF(入力シート!P724=\"×\",\"P\",\"PN\")","v":"PN"},{"$f":"計算結果!#REF!","v":{"$error":"#REF!"}},{"$f":"計算結果!#REF!","v":{"$error":"#REF!"}},{"$f":"計算結果!#REF!","v":{"$error":"#REF!"}},{"$f":"計算結果!#REF!","v":{"$error":"#REF!"}},{"$f":"計算結果!#REF!","v":{"$error":"#REF!"}},{"$f":"計算結果!#REF!","v":{"$error":"#REF!"}},{"$f":"計算結果!#REF!","v":{"$error":"#REF!"}},{"$f":"計算結果!#REF!","v":{"$error":"#REF!"}},{"$f":"計算結果!#REF!","v":{"$error":"#REF!"}},{"$f":"計算結果!#REF!","v":{"$error":"#REF!"}}]
[{"$f":"入力シート!A725","v":0},{"$f":"入力シート!G725","v":0},{"$f":"入力シート!H725","v":0},{"$f":"IF(入力シート!$J725<>\"\",入力シート!$J725,IF(入力シート!$L725<>\"\",入力シート!$L725,\"‐\"))","v":"‐"},{"$f":"IF(入力シート!$K725<>\"\",入力シート!$K725,IF(入力シート!$M725<>\"\",入力シート!$M725,入力シート!$N725))","v":0},{"$f":"入力シート!I725","v":0},{"$f":"入力シート!O725","v":0},{"$f":"IF(入力シート!P725=\"×\",\"P\",\"PN\")","v":"PN"},{"$f":"計算結果!#REF!","v":{"$error":"#REF!"}},{"$f":"計算結果!#REF!","v":{"$error":"#REF!"}},{"$f":"計算結果!#REF!","v":{"$error":"#REF!"}},{"$f":"計算結果!#REF!","v":{"$error":"#REF!"}},{"$f":"計算結果!#REF!","v":{"$error":"#REF!"}},{"$f":"計算結果!#REF!","v":{"$error":"#REF!"}},{"$f":"計算結果!#REF!","v":{"$error":"#REF!"}},{"$f":"計算結果!#REF!","v":{"$error":"#REF!"}},{"$f":"計算結果!#REF!","v":{"$error":"#REF!"}},{"$f":"計算結果!#REF!","v":{"$error":"#REF!"}}]
[{"$f":"入力シート!A726","v":0},{"$f":"入力シート!G726","v":0},{"$f":"入力シート!H726","v":0},{"$f":"IF(入力シート!$J726<>\"\",入力シート!$J726,IF(入力シート!$L726<>\"\",入力シート!$L726,\"‐\"))","v":"‐"},{"$f":"IF(入力シート!$K726<>\"\",入力シート!$K726,IF(入力シート!$M726<>\"\",入力シート!$M726,入力シート!$N726))","v":0},{"$f":"入力シート!I726","v":0},{"$f":"入力シート!O726","v":0},{"$f":"IF(入力シート!P726=\"×\",\"P\",\"PN\")","v":"PN"},{"$f":"計算結果!#REF!","v":{"$error":"#REF!"}},{"$f":"計算結果!#REF!","v":{"$error":"#REF!"}},{"$f":"計算結果!#REF!","v":{"$error":"#REF!"}},{"$f":"計算結果!#REF!","v":{"$error":"#REF!"}},{"$f":"計算結果!#REF!","v":{"$error":"#REF!"}},{"$f":"計算結果!#REF!","v":{"$error":"#REF!"}},{"$f":"計算結果!#REF!","v":{"$error":"#REF!"}},{"$f":"計算結果!#REF!","v":{"$error":"#REF!"}},{"$f":"計算結果!#REF!","v":{"$error":"#REF!"}},{"$f":"計算結果!#REF!","v":{"$error":"#REF!"}}]
[{"$f":"入力シート!A727","v":0},{"$f":"入力シート!G727","v":0},{"$f":"入力シート!H727","v":0},{"$f":"IF(入力シート!$J727<>\"\",入力シート!$J727,IF(入力シート!$L727<>\"\",入力シート!$L727,\"‐\"))","v":"‐"},{"$f":"IF(入力シート!$K727<>\"\",入力シート!$K727,IF(入力シート!$M727<>\"\",入力シート!$M727,入力シート!$N727))","v":0},{"$f":"入力シート!I727","v":0},{"$f":"入力シート!O727","v":0},{"$f":"IF(入力シート!P727=\"×\",\"P\",\"PN\")","v":"PN"},{"$f":"計算結果!#REF!","v":{"$error":"#REF!"}},{"$f":"計算結果!#REF!","v":{"$error":"#REF!"}},{"$f":"計算結果!#REF!","v":{"$error":"#REF!"}},{"$f":"計算結果!#REF!","v":{"$error":"#REF!"}},{"$f":"計算結果!#REF!","v":{"$error":"#REF!"}},{"$f":"計算結果!#REF!","v":{"$error":"#REF!"}},{"$f":"計算結果!#REF!","v":{"$error":"#REF!"}},{"$f":"計算結果!#REF!","v":{"$error":"#REF!"}},{"$f":"計算結果!#REF!","v":{"$error":"#REF!"}},{"$f":"計算結果!#REF!","v":{"$error":"#REF!"}}]
[{"$f":"入力シート!A728","v":0},{"$f":"入力シート!G728","v":0},{"$f":"入力シート!H728","v":0},{"$f":"IF(入力シート!$J728<>\"\",入力シート!$J728,IF(入力シート!$L728<>\"\",入力シート!$L728,\"‐\"))","v":"‐"},{"$f":"IF(入力シート!$K728<>\"\",入力シート!$K728,IF(入力シート!$M728<>\"\",入力シート!$M728,入力シート!$N728))","v":0},{"$f":"入力シート!I728","v":0},{"$f":"入力シート!O728","v":0},{"$f":"IF(入力シート!P728=\"×\",\"P\",\"PN\")","v":"PN"},{"$f":"計算結果!#REF!","v":{"$error":"#REF!"}},{"$f":"計算結果!#REF!","v":{"$error":"#REF!"}},{"$f":"計算結果!#REF!","v":{"$error":"#REF!"}},{"$f":"計算結果!#REF!","v":{"$error":"#REF!"}},{"$f":"計算結果!#REF!","v":{"$error":"#REF!"}},{"$f":"計算結果!#REF!","v":{"$error":"#REF!"}},{"$f":"計算結果!#REF!","v":{"$error":"#REF!"}},{"$f":"計算結果!#REF!","v":{"$error":"#REF!"}},{"$f":"計算結果!#REF!","v":{"$error":"#REF!"}},{"$f":"計算結果!#REF!","v":{"$error":"#REF!"}}]
[{"$f":"入力シート!A729","v":0},{"$f":"入力シート!G729","v":0},{"$f":"入力シート!H729","v":0},{"$f":"IF(入力シート!$J729<>\"\",入力シート!$J729,IF(入力シート!$L729<>\"\",入力シート!$L729,\"‐\"))","v":"‐"},{"$f":"IF(入力シート!$K729<>\"\",入力シート!$K729,IF(入力シート!$M729<>\"\",入力シート!$M729,入力シート!$N729))","v":0},{"$f":"入力シート!I729","v":0},{"$f":"入力シート!O729","v":0},{"$f":"IF(入力シート!P729=\"×\",\"P\",\"PN\")","v":"PN"},{"$f":"計算結果!#REF!","v":{"$error":"#REF!"}},{"$f":"計算結果!#REF!","v":{"$error":"#REF!"}},{"$f":"計算結果!#REF!","v":{"$error":"#REF!"}},{"$f":"計算結果!#REF!","v":{"$error":"#REF!"}},{"$f":"計算結果!#REF!","v":{"$error":"#REF!"}},{"$f":"計算結果!#REF!","v":{"$error":"#REF!"}},{"$f":"計算結果!#REF!","v":{"$error":"#REF!"}},{"$f":"計算結果!#REF!","v":{"$error":"#REF!"}},{"$f":"計算結果!#REF!","v":{"$error":"#REF!"}},{"$f":"計算結果!#REF!","v":{"$error":"#REF!"}}]
[{"$f":"入力シート!A730","v":0},{"$f":"入力シート!G730","v":0},{"$f":"入力シート!H730","v":0},{"$f":"IF(入力シート!$J730<>\"\",入力シート!$J730,IF(入力シート!$L730<>\"\",入力シート!$L730,\"‐\"))","v":"‐"},{"$f":"IF(入力シート!$K730<>\"\",入力シート!$K730,IF(入力シート!$M730<>\"\",入力シート!$M730,入力シート!$N730))","v":0},{"$f":"入力シート!I730","v":0},{"$f":"入力シート!O730","v":0},{"$f":"IF(入力シート!P730=\"×\",\"P\",\"PN\")","v":"PN"},{"$f":"計算結果!#REF!","v":{"$error":"#REF!"}},{"$f":"計算結果!#REF!","v":{"$error":"#REF!"}},{"$f":"計算結果!#REF!","v":{"$error":"#REF!"}},{"$f":"計算結果!#REF!","v":{"$error":"#REF!"}},{"$f":"計算結果!#REF!","v":{"$error":"#REF!"}},{"$f":"計算結果!#REF!","v":{"$error":"#REF!"}},{"$f":"計算結果!#REF!","v":{"$error":"#REF!"}},{"$f":"計算結果!#REF!","v":{"$error":"#REF!"}},{"$f":"計算結果!#REF!","v":{"$error":"#REF!"}},{"$f":"計算結果!#REF!","v":{"$error":"#REF!"}}]
[{"$f":"入力シート!A731","v":0},{"$f":"入力シート!G731","v":0},{"$f":"入力シート!H731","v":0},{"$f":"IF(入力シート!$J731<>\"\",入力シート!$J731,IF(入力シート!$L731<>\"\",入力シート!$L731,\"‐\"))","v":"‐"},{"$f":"IF(入力シート!$K731<>\"\",入力シート!$K731,IF(入力シート!$M731<>\"\",入力シート!$M731,入力シート!$N731))","v":0},{"$f":"入力シート!I731","v":0},{"$f":"入力シート!O731","v":0},{"$f":"IF(入力シート!P731=\"×\",\"P\",\"PN\")","v":"PN"},{"$f":"計算結果!#REF!","v":{"$error":"#REF!"}},{"$f":"計算結果!#REF!","v":{"$error":"#REF!"}},{"$f":"計算結果!#REF!","v":{"$error":"#REF!"}},{"$f":"計算結果!#REF!","v":{"$error":"#REF!"}},{"$f":"計算結果!#REF!","v":{"$error":"#REF!"}},{"$f":"計算結果!#REF!","v":{"$error":"#REF!"}},{"$f":"計算結果!#REF!","v":{"$error":"#REF!"}},{"$f":"計算結果!#REF!","v":{"$error":"#REF!"}},{"$f":"計算結果!#REF!","v":{"$error":"#REF!"}},{"$f":"計算結果!#REF!","v":{"$error":"#REF!"}}]
[{"$f":"入力シート!A732","v":0},{"$f":"入力シート!G732","v":0},{"$f":"入力シート!H732","v":0},{"$f":"IF(入力シート!$J732<>\"\",入力シート!$J732,IF(入力シート!$L732<>\"\",入力シート!$L732,\"‐\"))","v":"‐"},{"$f":"IF(入力シート!$K732<>\"\",入力シート!$K732,IF(入力シート!$M732<>\"\",入力シート!$M732,入力シート!$N732))","v":0},{"$f":"入力シート!I732","v":0},{"$f":"入力シート!O732","v":0},{"$f":"IF(入力シート!P732=\"×\",\"P\",\"PN\")","v":"PN"},{"$f":"計算結果!#REF!","v":{"$error":"#REF!"}},{"$f":"計算結果!#REF!","v":{"$error":"#REF!"}},{"$f":"計算結果!#REF!","v":{"$error":"#REF!"}},{"$f":"計算結果!#REF!","v":{"$error":"#REF!"}},{"$f":"計算結果!#REF!","v":{"$error":"#REF!"}},{"$f":"計算結果!#REF!","v":{"$error":"#REF!"}},{"$f":"計算結果!#REF!","v":{"$error":"#REF!"}},{"$f":"計算結果!#REF!","v":{"$error":"#REF!"}},{"$f":"計算結果!#REF!","v":{"$error":"#REF!"}},{"$f":"計算結果!#REF!","v":{"$error":"#REF!"}}]
[{"$f":"入力シート!A733","v":0},{"$f":"入力シート!G733","v":0},{"$f":"入力シート!H733","v":0},{"$f":"IF(入力シート!$J733<>\"\",入力シート!$J733,IF(入力シート!$L733<>\"\",入力シート!$L733,\"‐\"))","v":"‐"},{"$f":"IF(入力シート!$K733<>\"\",入力シート!$K733,IF(入力シート!$M733<>\"\",入力シート!$M733,入力シート!$N733))","v":0},{"$f":"入力シート!I733","v":0},{"$f":"入力シート!O733","v":0},{"$f":"IF(入力シート!P733=\"×\",\"P\",\"PN\")","v":"PN"},{"$f":"計算結果!#REF!","v":{"$error":"#REF!"}},{"$f":"計算結果!#REF!","v":{"$error":"#REF!"}},{"$f":"計算結果!#REF!","v":{"$error":"#REF!"}},{"$f":"計算結果!#REF!","v":{"$error":"#REF!"}},{"$f":"計算結果!#REF!","v":{"$error":"#REF!"}},{"$f":"計算結果!#REF!","v":{"$error":"#REF!"}},{"$f":"計算結果!#REF!","v":{"$error":"#REF!"}},{"$f":"計算結果!#REF!","v":{"$error":"#REF!"}},{"$f":"計算結果!#REF!","v":{"$error":"#REF!"}},{"$f":"計算結果!#REF!","v":{"$error":"#REF!"}}]
[{"$f":"入力シート!A734","v":0},{"$f":"入力シート!G734","v":0},{"$f":"入力シート!H734","v":0},{"$f":"IF(入力シート!$J734<>\"\",入力シート!$J734,IF(入力シート!$L734<>\"\",入力シート!$L734,\"‐\"))","v":"‐"},{"$f":"IF(入力シート!$K734<>\"\",入力シート!$K734,IF(入力シート!$M734<>\"\",入力シート!$M734,入力シート!$N734))","v":0},{"$f":"入力シート!I734","v":0},{"$f":"入力シート!O734","v":0},{"$f":"IF(入力シート!P734=\"×\",\"P\",\"PN\")","v":"PN"},{"$f":"計算結果!#REF!","v":{"$error":"#REF!"}},{"$f":"計算結果!#REF!","v":{"$error":"#REF!"}},{"$f":"計算結果!#REF!","v":{"$error":"#REF!"}},{"$f":"計算結果!#REF!","v":{"$error":"#REF!"}},{"$f":"計算結果!#REF!","v":{"$error":"#REF!"}},{"$f":"計算結果!#REF!","v":{"$error":"#REF!"}},{"$f":"計算結果!#REF!","v":{"$error":"#REF!"}},{"$f":"計算結果!#REF!","v":{"$error":"#REF!"}},{"$f":"計算結果!#REF!","v":{"$error":"#REF!"}},{"$f":"計算結果!#REF!","v":{"$error":"#REF!"}}]
[{"$f":"入力シート!A735","v":0},{"$f":"入力シート!G735","v":0},{"$f":"入力シート!H735","v":0},{"$f":"IF(入力シート!$J735<>\"\",入力シート!$J735,IF(入力シート!$L735<>\"\",入力シート!$L735,\"‐\"))","v":"‐"},{"$f":"IF(入力シート!$K735<>\"\",入力シート!$K735,IF(入力シート!$M735<>\"\",入力シート!$M735,入力シート!$N735))","v":0},{"$f":"入力シート!I735","v":0},{"$f":"入力シート!O735","v":0},{"$f":"IF(入力シート!P735=\"×\",\"P\",\"PN\")","v":"PN"},{"$f":"計算結果!#REF!","v":{"$error":"#REF!"}},{"$f":"計算結果!#REF!","v":{"$error":"#REF!"}},{"$f":"計算結果!#REF!","v":{"$error":"#REF!"}},{"$f":"計算結果!#REF!","v":{"$error":"#REF!"}},{"$f":"計算結果!#REF!","v":{"$error":"#REF!"}},{"$f":"計算結果!#REF!","v":{"$error":"#REF!"}},{"$f":"計算結果!#REF!","v":{"$error":"#REF!"}},{"$f":"計算結果!#REF!","v":{"$error":"#REF!"}},{"$f":"計算結果!#REF!","v":{"$error":"#REF!"}},{"$f":"計算結果!#REF!","v":{"$error":"#REF!"}}]
[{"$f":"入力シート!A736","v":0},{"$f":"入力シート!G736","v":0},{"$f":"入力シート!H736","v":0},{"$f":"IF(入力シート!$J736<>\"\",入力シート!$J736,IF(入力シート!$L736<>\"\",入力シート!$L736,\"‐\"))","v":"‐"},{"$f":"IF(入力シート!$K736<>\"\",入力シート!$K736,IF(入力シート!$M736<>\"\",入力シート!$M736,入力シート!$N736))","v":0},{"$f":"入力シート!I736","v":0},{"$f":"入力シート!O736","v":0},{"$f":"IF(入力シート!P736=\"×\",\"P\",\"PN\")","v":"PN"},{"$f":"計算結果!#REF!","v":{"$error":"#REF!"}},{"$f":"計算結果!#REF!","v":{"$error":"#REF!"}},{"$f":"計算結果!#REF!","v":{"$error":"#REF!"}},{"$f":"計算結果!#REF!","v":{"$error":"#REF!"}},{"$f":"計算結果!#REF!","v":{"$error":"#REF!"}},{"$f":"計算結果!#REF!","v":{"$error":"#REF!"}},{"$f":"計算結果!#REF!","v":{"$error":"#REF!"}},{"$f":"計算結果!#REF!","v":{"$error":"#REF!"}},{"$f":"計算結果!#REF!","v":{"$error":"#REF!"}},{"$f":"計算結果!#REF!","v":{"$error":"#REF!"}}]
[{"$f":"入力シート!A737","v":0},{"$f":"入力シート!G737","v":0},{"$f":"入力シート!H737","v":0},{"$f":"IF(入力シート!$J737<>\"\",入力シート!$J737,IF(入力シート!$L737<>\"\",入力シート!$L737,\"‐\"))","v":"‐"},{"$f":"IF(入力シート!$K737<>\"\",入力シート!$K737,IF(入力シート!$M737<>\"\",入力シート!$M737,入力シート!$N737))","v":0},{"$f":"入力シート!I737","v":0},{"$f":"入力シート!O737","v":0},{"$f":"IF(入力シート!P737=\"×\",\"P\",\"PN\")","v":"PN"},{"$f":"計算結果!#REF!","v":{"$error":"#REF!"}},{"$f":"計算結果!#REF!","v":{"$error":"#REF!"}},{"$f":"計算結果!#REF!","v":{"$error":"#REF!"}},{"$f":"計算結果!#REF!","v":{"$error":"#REF!"}},{"$f":"計算結果!#REF!","v":{"$error":"#REF!"}},{"$f":"計算結果!#REF!","v":{"$error":"#REF!"}},{"$f":"計算結果!#REF!","v":{"$error":"#REF!"}},{"$f":"計算結果!#REF!","v":{"$error":"#REF!"}},{"$f":"計算結果!#REF!","v":{"$error":"#REF!"}},{"$f":"計算結果!#REF!","v":{"$error":"#REF!"}}]
[{"$f":"入力シート!A738","v":0},{"$f":"入力シート!G738","v":0},{"$f":"入力シート!H738","v":0},{"$f":"IF(入力シート!$J738<>\"\",入力シート!$J738,IF(入力シート!$L738<>\"\",入力シート!$L738,\"‐\"))","v":"‐"},{"$f":"IF(入力シート!$K738<>\"\",入力シート!$K738,IF(入力シート!$M738<>\"\",入力シート!$M738,入力シート!$N738))","v":0},{"$f":"入力シート!I738","v":0},{"$f":"入力シート!O738","v":0},{"$f":"IF(入力シート!P738=\"×\",\"P\",\"PN\")","v":"PN"},{"$f":"計算結果!#REF!","v":{"$error":"#REF!"}},{"$f":"計算結果!#REF!","v":{"$error":"#REF!"}},{"$f":"計算結果!#REF!","v":{"$error":"#REF!"}},{"$f":"計算結果!#REF!","v":{"$error":"#REF!"}},{"$f":"計算結果!#REF!","v":{"$error":"#REF!"}},{"$f":"計算結果!#REF!","v":{"$error":"#REF!"}},{"$f":"計算結果!#REF!","v":{"$error":"#REF!"}},{"$f":"計算結果!#REF!","v":{"$error":"#REF!"}},{"$f":"計算結果!#REF!","v":{"$error":"#REF!"}},{"$f":"計算結果!#REF!","v":{"$error":"#REF!"}}]
[{"$f":"入力シート!A739","v":0},{"$f":"入力シート!G739","v":0},{"$f":"入力シート!H739","v":0},{"$f":"IF(入力シート!$J739<>\"\",入力シート!$J739,IF(入力シート!$L739<>\"\",入力シート!$L739,\"‐\"))","v":"‐"},{"$f":"IF(入力シート!$K739<>\"\",入力シート!$K739,IF(入力シート!$M739<>\"\",入力シート!$M739,入力シート!$N739))","v":0},{"$f":"入力シート!I739","v":0},{"$f":"入力シート!O739","v":0},{"$f":"IF(入力シート!P739=\"×\",\"P\",\"PN\")","v":"PN"},{"$f":"計算結果!#REF!","v":{"$error":"#REF!"}},{"$f":"計算結果!#REF!","v":{"$error":"#REF!"}},{"$f":"計算結果!#REF!","v":{"$error":"#REF!"}},{"$f":"計算結果!#REF!","v":{"$error":"#REF!"}},{"$f":"計算結果!#REF!","v":{"$error":"#REF!"}},{"$f":"計算結果!#REF!","v":{"$error":"#REF!"}},{"$f":"計算結果!#REF!","v":{"$error":"#REF!"}},{"$f":"計算結果!#REF!","v":{"$error":"#REF!"}},{"$f":"計算結果!#REF!","v":{"$error":"#REF!"}},{"$f":"計算結果!#REF!","v":{"$error":"#REF!"}}]
[{"$f":"入力シート!A740","v":0},{"$f":"入力シート!G740","v":0},{"$f":"入力シート!H740","v":0},{"$f":"IF(入力シート!$J740<>\"\",入力シート!$J740,IF(入力シート!$L740<>\"\",入力シート!$L740,\"‐\"))","v":"‐"},{"$f":"IF(入力シート!$K740<>\"\",入力シート!$K740,IF(入力シート!$M740<>\"\",入力シート!$M740,入力シート!$N740))","v":0},{"$f":"入力シート!I740","v":0},{"$f":"入力シート!O740","v":0},{"$f":"IF(入力シート!P740=\"×\",\"P\",\"PN\")","v":"PN"},{"$f":"計算結果!#REF!","v":{"$error":"#REF!"}},{"$f":"計算結果!#REF!","v":{"$error":"#REF!"}},{"$f":"計算結果!#REF!","v":{"$error":"#REF!"}},{"$f":"計算結果!#REF!","v":{"$error":"#REF!"}},{"$f":"計算結果!#REF!","v":{"$error":"#REF!"}},{"$f":"計算結果!#REF!","v":{"$error":"#REF!"}},{"$f":"計算結果!#REF!","v":{"$error":"#REF!"}},{"$f":"計算結果!#REF!","v":{"$error":"#REF!"}},{"$f":"計算結果!#REF!","v":{"$error":"#REF!"}},{"$f":"計算結果!#REF!","v":{"$error":"#REF!"}}]
[{"$f":"入力シート!A741","v":0},{"$f":"入力シート!G741","v":0},{"$f":"入力シート!H741","v":0},{"$f":"IF(入力シート!$J741<>\"\",入力シート!$J741,IF(入力シート!$L741<>\"\",入力シート!$L741,\"‐\"))","v":"‐"},{"$f":"IF(入力シート!$K741<>\"\",入力シート!$K741,IF(入力シート!$M741<>\"\",入力シート!$M741,入力シート!$N741))","v":0},{"$f":"入力シート!I741","v":0},{"$f":"入力シート!O741","v":0},{"$f":"IF(入力シート!P741=\"×\",\"P\",\"PN\")","v":"PN"},{"$f":"計算結果!#REF!","v":{"$error":"#REF!"}},{"$f":"計算結果!#REF!","v":{"$error":"#REF!"}},{"$f":"計算結果!#REF!","v":{"$error":"#REF!"}},{"$f":"計算結果!#REF!","v":{"$error":"#REF!"}},{"$f":"計算結果!#REF!","v":{"$error":"#REF!"}},{"$f":"計算結果!#REF!","v":{"$error":"#REF!"}},{"$f":"計算結果!#REF!","v":{"$error":"#REF!"}},{"$f":"計算結果!#REF!","v":{"$error":"#REF!"}},{"$f":"計算結果!#REF!","v":{"$error":"#REF!"}},{"$f":"計算結果!#REF!","v":{"$error":"#REF!"}}]
[{"$f":"入力シート!A742","v":0},{"$f":"入力シート!G742","v":0},{"$f":"入力シート!H742","v":0},{"$f":"IF(入力シート!$J742<>\"\",入力シート!$J742,IF(入力シート!$L742<>\"\",入力シート!$L742,\"‐\"))","v":"‐"},{"$f":"IF(入力シート!$K742<>\"\",入力シート!$K742,IF(入力シート!$M742<>\"\",入力シート!$M742,入力シート!$N742))","v":0},{"$f":"入力シート!I742","v":0},{"$f":"入力シート!O742","v":0},{"$f":"IF(入力シート!P742=\"×\",\"P\",\"PN\")","v":"PN"},{"$f":"計算結果!#REF!","v":{"$error":"#REF!"}},{"$f":"計算結果!#REF!","v":{"$error":"#REF!"}},{"$f":"計算結果!#REF!","v":{"$error":"#REF!"}},{"$f":"計算結果!#REF!","v":{"$error":"#REF!"}},{"$f":"計算結果!#REF!","v":{"$error":"#REF!"}},{"$f":"計算結果!#REF!","v":{"$error":"#REF!"}},{"$f":"計算結果!#REF!","v":{"$error":"#REF!"}},{"$f":"計算結果!#REF!","v":{"$error":"#REF!"}},{"$f":"計算結果!#REF!","v":{"$error":"#REF!"}},{"$f":"計算結果!#REF!","v":{"$error":"#REF!"}}]
[{"$f":"入力シート!A743","v":0},{"$f":"入力シート!G743","v":0},{"$f":"入力シート!H743","v":0},{"$f":"IF(入力シート!$J743<>\"\",入力シート!$J743,IF(入力シート!$L743<>\"\",入力シート!$L743,\"‐\"))","v":"‐"},{"$f":"IF(入力シート!$K743<>\"\",入力シート!$K743,IF(入力シート!$M743<>\"\",入力シート!$M743,入力シート!$N743))","v":0},{"$f":"入力シート!I743","v":0},{"$f":"入力シート!O743","v":0},{"$f":"IF(入力シート!P743=\"×\",\"P\",\"PN\")","v":"PN"},{"$f":"計算結果!#REF!","v":{"$error":"#REF!"}},{"$f":"計算結果!#REF!","v":{"$error":"#REF!"}},{"$f":"計算結果!#REF!","v":{"$error":"#REF!"}},{"$f":"計算結果!#REF!","v":{"$error":"#REF!"}},{"$f":"計算結果!#REF!","v":{"$error":"#REF!"}},{"$f":"計算結果!#REF!","v":{"$error":"#REF!"}},{"$f":"計算結果!#REF!","v":{"$error":"#REF!"}},{"$f":"計算結果!#REF!","v":{"$error":"#REF!"}},{"$f":"計算結果!#REF!","v":{"$error":"#REF!"}},{"$f":"計算結果!#REF!","v":{"$error":"#REF!"}}]
[{"$f":"入力シート!A744","v":0},{"$f":"入力シート!G744","v":0},{"$f":"入力シート!H744","v":0},{"$f":"IF(入力シート!$J744<>\"\",入力シート!$J744,IF(入力シート!$L744<>\"\",入力シート!$L744,\"‐\"))","v":"‐"},{"$f":"IF(入力シート!$K744<>\"\",入力シート!$K744,IF(入力シート!$M744<>\"\",入力シート!$M744,入力シート!$N744))","v":0},{"$f":"入力シート!I744","v":0},{"$f":"入力シート!O744","v":0},{"$f":"IF(入力シート!P744=\"×\",\"P\",\"PN\")","v":"PN"},{"$f":"計算結果!#REF!","v":{"$error":"#REF!"}},{"$f":"計算結果!#REF!","v":{"$error":"#REF!"}},{"$f":"計算結果!#REF!","v":{"$error":"#REF!"}},{"$f":"計算結果!#REF!","v":{"$error":"#REF!"}},{"$f":"計算結果!#REF!","v":{"$error":"#REF!"}},{"$f":"計算結果!#REF!","v":{"$error":"#REF!"}},{"$f":"計算結果!#REF!","v":{"$error":"#REF!"}},{"$f":"計算結果!#REF!","v":{"$error":"#REF!"}},{"$f":"計算結果!#REF!","v":{"$error":"#REF!"}},{"$f":"計算結果!#REF!","v":{"$error":"#REF!"}}]
[{"$f":"入力シート!A745","v":0},{"$f":"入力シート!G745","v":0},{"$f":"入力シート!H745","v":0},{"$f":"IF(入力シート!$J745<>\"\",入力シート!$J745,IF(入力シート!$L745<>\"\",入力シート!$L745,\"‐\"))","v":"‐"},{"$f":"IF(入力シート!$K745<>\"\",入力シート!$K745,IF(入力シート!$M745<>\"\",入力シート!$M745,入力シート!$N745))","v":0},{"$f":"入力シート!I745","v":0},{"$f":"入力シート!O745","v":0},{"$f":"IF(入力シート!P745=\"×\",\"P\",\"PN\")","v":"PN"},{"$f":"計算結果!#REF!","v":{"$error":"#REF!"}},{"$f":"計算結果!#REF!","v":{"$error":"#REF!"}},{"$f":"計算結果!#REF!","v":{"$error":"#REF!"}},{"$f":"計算結果!#REF!","v":{"$error":"#REF!"}},{"$f":"計算結果!#REF!","v":{"$error":"#REF!"}},{"$f":"計算結果!#REF!","v":{"$error":"#REF!"}},{"$f":"計算結果!#REF!","v":{"$error":"#REF!"}},{"$f":"計算結果!#REF!","v":{"$error":"#REF!"}},{"$f":"計算結果!#REF!","v":{"$error":"#REF!"}},{"$f":"計算結果!#REF!","v":{"$error":"#REF!"}}]
[{"$f":"入力シート!A746","v":0},{"$f":"入力シート!G746","v":0},{"$f":"入力シート!H746","v":0},{"$f":"IF(入力シート!$J746<>\"\",入力シート!$J746,IF(入力シート!$L746<>\"\",入力シート!$L746,\"‐\"))","v":"‐"},{"$f":"IF(入力シート!$K746<>\"\",入力シート!$K746,IF(入力シート!$M746<>\"\",入力シート!$M746,入力シート!$N746))","v":0},{"$f":"入力シート!I746","v":0},{"$f":"入力シート!O746","v":0},{"$f":"IF(入力シート!P746=\"×\",\"P\",\"PN\")","v":"PN"},{"$f":"計算結果!#REF!","v":{"$error":"#REF!"}},{"$f":"計算結果!#REF!","v":{"$error":"#REF!"}},{"$f":"計算結果!#REF!","v":{"$error":"#REF!"}},{"$f":"計算結果!#REF!","v":{"$error":"#REF!"}},{"$f":"計算結果!#REF!","v":{"$error":"#REF!"}},{"$f":"計算結果!#REF!","v":{"$error":"#REF!"}},{"$f":"計算結果!#REF!","v":{"$error":"#REF!"}},{"$f":"計算結果!#REF!","v":{"$error":"#REF!"}},{"$f":"計算結果!#REF!","v":{"$error":"#REF!"}},{"$f":"計算結果!#REF!","v":{"$error":"#REF!"}}]
[{"$f":"入力シート!A747","v":0},{"$f":"入力シート!G747","v":0},{"$f":"入力シート!H747","v":0},{"$f":"IF(入力シート!$J747<>\"\",入力シート!$J747,IF(入力シート!$L747<>\"\",入力シート!$L747,\"‐\"))","v":"‐"},{"$f":"IF(入力シート!$K747<>\"\",入力シート!$K747,IF(入力シート!$M747<>\"\",入力シート!$M747,入力シート!$N747))","v":0},{"$f":"入力シート!I747","v":0},{"$f":"入力シート!O747","v":0},{"$f":"IF(入力シート!P747=\"×\",\"P\",\"PN\")","v":"PN"},{"$f":"計算結果!#REF!","v":{"$error":"#REF!"}},{"$f":"計算結果!#REF!","v":{"$error":"#REF!"}},{"$f":"計算結果!#REF!","v":{"$error":"#REF!"}},{"$f":"計算結果!#REF!","v":{"$error":"#REF!"}},{"$f":"計算結果!#REF!","v":{"$error":"#REF!"}},{"$f":"計算結果!#REF!","v":{"$error":"#REF!"}},{"$f":"計算結果!#REF!","v":{"$error":"#REF!"}},{"$f":"計算結果!#REF!","v":{"$error":"#REF!"}},{"$f":"計算結果!#REF!","v":{"$error":"#REF!"}},{"$f":"計算結果!#REF!","v":{"$error":"#REF!"}}]
[{"$f":"入力シート!A748","v":0},{"$f":"入力シート!G748","v":0},{"$f":"入力シート!H748","v":0},{"$f":"IF(入力シート!$J748<>\"\",入力シート!$J748,IF(入力シート!$L748<>\"\",入力シート!$L748,\"‐\"))","v":"‐"},{"$f":"IF(入力シート!$K748<>\"\",入力シート!$K748,IF(入力シート!$M748<>\"\",入力シート!$M748,入力シート!$N748))","v":0},{"$f":"入力シート!I748","v":0},{"$f":"入力シート!O748","v":0},{"$f":"IF(入力シート!P748=\"×\",\"P\",\"PN\")","v":"PN"},{"$f":"計算結果!#REF!","v":{"$error":"#REF!"}},{"$f":"計算結果!#REF!","v":{"$error":"#REF!"}},{"$f":"計算結果!#REF!","v":{"$error":"#REF!"}},{"$f":"計算結果!#REF!","v":{"$error":"#REF!"}},{"$f":"計算結果!#REF!","v":{"$error":"#REF!"}},{"$f":"計算結果!#REF!","v":{"$error":"#REF!"}},{"$f":"計算結果!#REF!","v":{"$error":"#REF!"}},{"$f":"計算結果!#REF!","v":{"$error":"#REF!"}},{"$f":"計算結果!#REF!","v":{"$error":"#REF!"}},{"$f":"計算結果!#REF!","v":{"$error":"#REF!"}}]
[{"$f":"入力シート!A749","v":0},{"$f":"入力シート!G749","v":0},{"$f":"入力シート!H749","v":0},{"$f":"IF(入力シート!$J749<>\"\",入力シート!$J749,IF(入力シート!$L749<>\"\",入力シート!$L749,\"‐\"))","v":"‐"},{"$f":"IF(入力シート!$K749<>\"\",入力シート!$K749,IF(入力シート!$M749<>\"\",入力シート!$M749,入力シート!$N749))","v":0},{"$f":"入力シート!I749","v":0},{"$f":"入力シート!O749","v":0},{"$f":"IF(入力シート!P749=\"×\",\"P\",\"PN\")","v":"PN"},{"$f":"計算結果!#REF!","v":{"$error":"#REF!"}},{"$f":"計算結果!#REF!","v":{"$error":"#REF!"}},{"$f":"計算結果!#REF!","v":{"$error":"#REF!"}},{"$f":"計算結果!#REF!","v":{"$error":"#REF!"}},{"$f":"計算結果!#REF!","v":{"$error":"#REF!"}},{"$f":"計算結果!#REF!","v":{"$error":"#REF!"}},{"$f":"計算結果!#REF!","v":{"$error":"#REF!"}},{"$f":"計算結果!#REF!","v":{"$error":"#REF!"}},{"$f":"計算結果!#REF!","v":{"$error":"#REF!"}},{"$f":"計算結果!#REF!","v":{"$error":"#REF!"}}]
[{"$f":"入力シート!A750","v":0},{"$f":"入力シート!G750","v":0},{"$f":"入力シート!H750","v":0},{"$f":"IF(入力シート!$J750<>\"\",入力シート!$J750,IF(入力シート!$L750<>\"\",入力シート!$L750,\"‐\"))","v":"‐"},{"$f":"IF(入力シート!$K750<>\"\",入力シート!$K750,IF(入力シート!$M750<>\"\",入力シート!$M750,入力シート!$N750))","v":0},{"$f":"入力シート!I750","v":0},{"$f":"入力シート!O750","v":0},{"$f":"IF(入力シート!P750=\"×\",\"P\",\"PN\")","v":"PN"},{"$f":"計算結果!#REF!","v":{"$error":"#REF!"}},{"$f":"計算結果!#REF!","v":{"$error":"#REF!"}},{"$f":"計算結果!#REF!","v":{"$error":"#REF!"}},{"$f":"計算結果!#REF!","v":{"$error":"#REF!"}},{"$f":"計算結果!#REF!","v":{"$error":"#REF!"}},{"$f":"計算結果!#REF!","v":{"$error":"#REF!"}},{"$f":"計算結果!#REF!","v":{"$error":"#REF!"}},{"$f":"計算結果!#REF!","v":{"$error":"#REF!"}},{"$f":"計算結果!#REF!","v":{"$error":"#REF!"}},{"$f":"計算結果!#REF!","v":{"$error":"#REF!"}}]
[{"$f":"入力シート!A751","v":0},{"$f":"入力シート!G751","v":0},{"$f":"入力シート!H751","v":0},{"$f":"IF(入力シート!$J751<>\"\",入力シート!$J751,IF(入力シート!$L751<>\"\",入力シート!$L751,\"‐\"))","v":"‐"},{"$f":"IF(入力シート!$K751<>\"\",入力シート!$K751,IF(入力シート!$M751<>\"\",入力シート!$M751,入力シート!$N751))","v":0},{"$f":"入力シート!I751","v":0},{"$f":"入力シート!O751","v":0},{"$f":"IF(入力シート!P751=\"×\",\"P\",\"PN\")","v":"PN"},{"$f":"計算結果!#REF!","v":{"$error":"#REF!"}},{"$f":"計算結果!#REF!","v":{"$error":"#REF!"}},{"$f":"計算結果!#REF!","v":{"$error":"#REF!"}},{"$f":"計算結果!#REF!","v":{"$error":"#REF!"}},{"$f":"計算結果!#REF!","v":{"$error":"#REF!"}},{"$f":"計算結果!#REF!","v":{"$error":"#REF!"}},{"$f":"計算結果!#REF!","v":{"$error":"#REF!"}},{"$f":"計算結果!#REF!","v":{"$error":"#REF!"}},{"$f":"計算結果!#REF!","v":{"$error":"#REF!"}},{"$f":"計算結果!#REF!","v":{"$error":"#REF!"}}]
[{"$f":"入力シート!A752","v":0},{"$f":"入力シート!G752","v":0},{"$f":"入力シート!H752","v":0},{"$f":"IF(入力シート!$J752<>\"\",入力シート!$J752,IF(入力シート!$L752<>\"\",入力シート!$L752,\"‐\"))","v":"‐"},{"$f":"IF(入力シート!$K752<>\"\",入力シート!$K752,IF(入力シート!$M752<>\"\",入力シート!$M752,入力シート!$N752))","v":0},{"$f":"入力シート!I752","v":0},{"$f":"入力シート!O752","v":0},{"$f":"IF(入力シート!P752=\"×\",\"P\",\"PN\")","v":"PN"},{"$f":"計算結果!#REF!","v":{"$error":"#REF!"}},{"$f":"計算結果!#REF!","v":{"$error":"#REF!"}},{"$f":"計算結果!#REF!","v":{"$error":"#REF!"}},{"$f":"計算結果!#REF!","v":{"$error":"#REF!"}},{"$f":"計算結果!#REF!","v":{"$error":"#REF!"}},{"$f":"計算結果!#REF!","v":{"$error":"#REF!"}},{"$f":"計算結果!#REF!","v":{"$error":"#REF!"}},{"$f":"計算結果!#REF!","v":{"$error":"#REF!"}},{"$f":"計算結果!#REF!","v":{"$error":"#REF!"}},{"$f":"計算結果!#REF!","v":{"$error":"#REF!"}}]
[{"$f":"入力シート!A753","v":0},{"$f":"入力シート!G753","v":0},{"$f":"入力シート!H753","v":0},{"$f":"IF(入力シート!$J753<>\"\",入力シート!$J753,IF(入力シート!$L753<>\"\",入力シート!$L753,\"‐\"))","v":"‐"},{"$f":"IF(入力シート!$K753<>\"\",入力シート!$K753,IF(入力シート!$M753<>\"\",入力シート!$M753,入力シート!$N753))","v":0},{"$f":"入力シート!I753","v":0},{"$f":"入力シート!O753","v":0},{"$f":"IF(入力シート!P753=\"×\",\"P\",\"PN\")","v":"PN"},{"$f":"計算結果!#REF!","v":{"$error":"#REF!"}},{"$f":"計算結果!#REF!","v":{"$error":"#REF!"}},{"$f":"計算結果!#REF!","v":{"$error":"#REF!"}},{"$f":"計算結果!#REF!","v":{"$error":"#REF!"}},{"$f":"計算結果!#REF!","v":{"$error":"#REF!"}},{"$f":"計算結果!#REF!","v":{"$error":"#REF!"}},{"$f":"計算結果!#REF!","v":{"$error":"#REF!"}},{"$f":"計算結果!#REF!","v":{"$error":"#REF!"}},{"$f":"計算結果!#REF!","v":{"$error":"#REF!"}},{"$f":"計算結果!#REF!","v":{"$error":"#REF!"}}]
[{"$f":"入力シート!A754","v":0},{"$f":"入力シート!G754","v":0},{"$f":"入力シート!H754","v":0},{"$f":"IF(入力シート!$J754<>\"\",入力シート!$J754,IF(入力シート!$L754<>\"\",入力シート!$L754,\"‐\"))","v":"‐"},{"$f":"IF(入力シート!$K754<>\"\",入力シート!$K754,IF(入力シート!$M754<>\"\",入力シート!$M754,入力シート!$N754))","v":0},{"$f":"入力シート!I754","v":0},{"$f":"入力シート!O754","v":0},{"$f":"IF(入力シート!P754=\"×\",\"P\",\"PN\")","v":"PN"},{"$f":"計算結果!#REF!","v":{"$error":"#REF!"}},{"$f":"計算結果!#REF!","v":{"$error":"#REF!"}},{"$f":"計算結果!#REF!","v":{"$error":"#REF!"}},{"$f":"計算結果!#REF!","v":{"$error":"#REF!"}},{"$f":"計算結果!#REF!","v":{"$error":"#REF!"}},{"$f":"計算結果!#REF!","v":{"$error":"#REF!"}},{"$f":"計算結果!#REF!","v":{"$error":"#REF!"}},{"$f":"計算結果!#REF!","v":{"$error":"#REF!"}},{"$f":"計算結果!#REF!","v":{"$error":"#REF!"}},{"$f":"計算結果!#REF!","v":{"$error":"#REF!"}}]
[{"$f":"入力シート!A755","v":0},{"$f":"入力シート!G755","v":0},{"$f":"入力シート!H755","v":0},{"$f":"IF(入力シート!$J755<>\"\",入力シート!$J755,IF(入力シート!$L755<>\"\",入力シート!$L755,\"‐\"))","v":"‐"},{"$f":"IF(入力シート!$K755<>\"\",入力シート!$K755,IF(入力シート!$M755<>\"\",入力シート!$M755,入力シート!$N755))","v":0},{"$f":"入力シート!I755","v":0},{"$f":"入力シート!O755","v":0},{"$f":"IF(入力シート!P755=\"×\",\"P\",\"PN\")","v":"PN"},{"$f":"計算結果!#REF!","v":{"$error":"#REF!"}},{"$f":"計算結果!#REF!","v":{"$error":"#REF!"}},{"$f":"計算結果!#REF!","v":{"$error":"#REF!"}},{"$f":"計算結果!#REF!","v":{"$error":"#REF!"}},{"$f":"計算結果!#REF!","v":{"$error":"#REF!"}},{"$f":"計算結果!#REF!","v":{"$error":"#REF!"}},{"$f":"計算結果!#REF!","v":{"$error":"#REF!"}},{"$f":"計算結果!#REF!","v":{"$error":"#REF!"}},{"$f":"計算結果!#REF!","v":{"$error":"#REF!"}},{"$f":"計算結果!#REF!","v":{"$error":"#REF!"}}]
[{"$f":"入力シート!A756","v":0},{"$f":"入力シート!G756","v":0},{"$f":"入力シート!H756","v":0},{"$f":"IF(入力シート!$J756<>\"\",入力シート!$J756,IF(入力シート!$L756<>\"\",入力シート!$L756,\"‐\"))","v":"‐"},{"$f":"IF(入力シート!$K756<>\"\",入力シート!$K756,IF(入力シート!$M756<>\"\",入力シート!$M756,入力シート!$N756))","v":0},{"$f":"入力シート!I756","v":0},{"$f":"入力シート!O756","v":0},{"$f":"IF(入力シート!P756=\"×\",\"P\",\"PN\")","v":"PN"},{"$f":"計算結果!#REF!","v":{"$error":"#REF!"}},{"$f":"計算結果!#REF!","v":{"$error":"#REF!"}},{"$f":"計算結果!#REF!","v":{"$error":"#REF!"}},{"$f":"計算結果!#REF!","v":{"$error":"#REF!"}},{"$f":"計算結果!#REF!","v":{"$error":"#REF!"}},{"$f":"計算結果!#REF!","v":{"$error":"#REF!"}},{"$f":"計算結果!#REF!","v":{"$error":"#REF!"}},{"$f":"計算結果!#REF!","v":{"$error":"#REF!"}},{"$f":"計算結果!#REF!","v":{"$error":"#REF!"}},{"$f":"計算結果!#REF!","v":{"$error":"#REF!"}}]
[{"$f":"入力シート!A757","v":0},{"$f":"入力シート!G757","v":0},{"$f":"入力シート!H757","v":0},{"$f":"IF(入力シート!$J757<>\"\",入力シート!$J757,IF(入力シート!$L757<>\"\",入力シート!$L757,\"‐\"))","v":"‐"},{"$f":"IF(入力シート!$K757<>\"\",入力シート!$K757,IF(入力シート!$M757<>\"\",入力シート!$M757,入力シート!$N757))","v":0},{"$f":"入力シート!I757","v":0},{"$f":"入力シート!O757","v":0},{"$f":"IF(入力シート!P757=\"×\",\"P\",\"PN\")","v":"PN"},{"$f":"計算結果!#REF!","v":{"$error":"#REF!"}},{"$f":"計算結果!#REF!","v":{"$error":"#REF!"}},{"$f":"計算結果!#REF!","v":{"$error":"#REF!"}},{"$f":"計算結果!#REF!","v":{"$error":"#REF!"}},{"$f":"計算結果!#REF!","v":{"$error":"#REF!"}},{"$f":"計算結果!#REF!","v":{"$error":"#REF!"}},{"$f":"計算結果!#REF!","v":{"$error":"#REF!"}},{"$f":"計算結果!#REF!","v":{"$error":"#REF!"}},{"$f":"計算結果!#REF!","v":{"$error":"#REF!"}},{"$f":"計算結果!#REF!","v":{"$error":"#REF!"}}]
[{"$f":"入力シート!A758","v":0},{"$f":"入力シート!G758","v":0},{"$f":"入力シート!H758","v":0},{"$f":"IF(入力シート!$J758<>\"\",入力シート!$J758,IF(入力シート!$L758<>\"\",入力シート!$L758,\"‐\"))","v":"‐"},{"$f":"IF(入力シート!$K758<>\"\",入力シート!$K758,IF(入力シート!$M758<>\"\",入力シート!$M758,入力シート!$N758))","v":0},{"$f":"入力シート!I758","v":0},{"$f":"入力シート!O758","v":0},{"$f":"IF(入力シート!P758=\"×\",\"P\",\"PN\")","v":"PN"},{"$f":"計算結果!#REF!","v":{"$error":"#REF!"}},{"$f":"計算結果!#REF!","v":{"$error":"#REF!"}},{"$f":"計算結果!#REF!","v":{"$error":"#REF!"}},{"$f":"計算結果!#REF!","v":{"$error":"#REF!"}},{"$f":"計算結果!#REF!","v":{"$error":"#REF!"}},{"$f":"計算結果!#REF!","v":{"$error":"#REF!"}},{"$f":"計算結果!#REF!","v":{"$error":"#REF!"}},{"$f":"計算結果!#REF!","v":{"$error":"#REF!"}},{"$f":"計算結果!#REF!","v":{"$error":"#REF!"}},{"$f":"計算結果!#REF!","v":{"$error":"#REF!"}}]
[{"$f":"入力シート!A759","v":0},{"$f":"入力シート!G759","v":0},{"$f":"入力シート!H759","v":0},{"$f":"IF(入力シート!$J759<>\"\",入力シート!$J759,IF(入力シート!$L759<>\"\",入力シート!$L759,\"‐\"))","v":"‐"},{"$f":"IF(入力シート!$K759<>\"\",入力シート!$K759,IF(入力シート!$M759<>\"\",入力シート!$M759,入力シート!$N759))","v":0},{"$f":"入力シート!I759","v":0},{"$f":"入力シート!O759","v":0},{"$f":"IF(入力シート!P759=\"×\",\"P\",\"PN\")","v":"PN"},{"$f":"計算結果!#REF!","v":{"$error":"#REF!"}},{"$f":"計算結果!#REF!","v":{"$error":"#REF!"}},{"$f":"計算結果!#REF!","v":{"$error":"#REF!"}},{"$f":"計算結果!#REF!","v":{"$error":"#REF!"}},{"$f":"計算結果!#REF!","v":{"$error":"#REF!"}},{"$f":"計算結果!#REF!","v":{"$error":"#REF!"}},{"$f":"計算結果!#REF!","v":{"$error":"#REF!"}},{"$f":"計算結果!#REF!","v":{"$error":"#REF!"}},{"$f":"計算結果!#REF!","v":{"$error":"#REF!"}},{"$f":"計算結果!#REF!","v":{"$error":"#REF!"}}]
[{"$f":"入力シート!A760","v":0},{"$f":"入力シート!G760","v":0},{"$f":"入力シート!H760","v":0},{"$f":"IF(入力シート!$J760<>\"\",入力シート!$J760,IF(入力シート!$L760<>\"\",入力シート!$L760,\"‐\"))","v":"‐"},{"$f":"IF(入力シート!$K760<>\"\",入力シート!$K760,IF(入力シート!$M760<>\"\",入力シート!$M760,入力シート!$N760))","v":0},{"$f":"入力シート!I760","v":0},{"$f":"入力シート!O760","v":0},{"$f":"IF(入力シート!P760=\"×\",\"P\",\"PN\")","v":"PN"},{"$f":"計算結果!#REF!","v":{"$error":"#REF!"}},{"$f":"計算結果!#REF!","v":{"$error":"#REF!"}},{"$f":"計算結果!#REF!","v":{"$error":"#REF!"}},{"$f":"計算結果!#REF!","v":{"$error":"#REF!"}},{"$f":"計算結果!#REF!","v":{"$error":"#REF!"}},{"$f":"計算結果!#REF!","v":{"$error":"#REF!"}},{"$f":"計算結果!#REF!","v":{"$error":"#REF!"}},{"$f":"計算結果!#REF!","v":{"$error":"#REF!"}},{"$f":"計算結果!#REF!","v":{"$error":"#REF!"}},{"$f":"計算結果!#REF!","v":{"$error":"#REF!"}}]
[{"$f":"入力シート!A761","v":0},{"$f":"入力シート!G761","v":0},{"$f":"入力シート!H761","v":0},{"$f":"IF(入力シート!$J761<>\"\",入力シート!$J761,IF(入力シート!$L761<>\"\",入力シート!$L761,\"‐\"))","v":"‐"},{"$f":"IF(入力シート!$K761<>\"\",入力シート!$K761,IF(入力シート!$M761<>\"\",入力シート!$M761,入力シート!$N761))","v":0},{"$f":"入力シート!I761","v":0},{"$f":"入力シート!O761","v":0},{"$f":"IF(入力シート!P761=\"×\",\"P\",\"PN\")","v":"PN"},{"$f":"計算結果!#REF!","v":{"$error":"#REF!"}},{"$f":"計算結果!#REF!","v":{"$error":"#REF!"}},{"$f":"計算結果!#REF!","v":{"$error":"#REF!"}},{"$f":"計算結果!#REF!","v":{"$error":"#REF!"}},{"$f":"計算結果!#REF!","v":{"$error":"#REF!"}},{"$f":"計算結果!#REF!","v":{"$error":"#REF!"}},{"$f":"計算結果!#REF!","v":{"$error":"#REF!"}},{"$f":"計算結果!#REF!","v":{"$error":"#REF!"}},{"$f":"計算結果!#REF!","v":{"$error":"#REF!"}},{"$f":"計算結果!#REF!","v":{"$error":"#REF!"}}]
[{"$f":"入力シート!A762","v":0},{"$f":"入力シート!G762","v":0},{"$f":"入力シート!H762","v":0},{"$f":"IF(入力シート!$J762<>\"\",入力シート!$J762,IF(入力シート!$L762<>\"\",入力シート!$L762,\"‐\"))","v":"‐"},{"$f":"IF(入力シート!$K762<>\"\",入力シート!$K762,IF(入力シート!$M762<>\"\",入力シート!$M762,入力シート!$N762))","v":0},{"$f":"入力シート!I762","v":0},{"$f":"入力シート!O762","v":0},{"$f":"IF(入力シート!P762=\"×\",\"P\",\"PN\")","v":"PN"},{"$f":"計算結果!#REF!","v":{"$error":"#REF!"}},{"$f":"計算結果!#REF!","v":{"$error":"#REF!"}},{"$f":"計算結果!#REF!","v":{"$error":"#REF!"}},{"$f":"計算結果!#REF!","v":{"$error":"#REF!"}},{"$f":"計算結果!#REF!","v":{"$error":"#REF!"}},{"$f":"計算結果!#REF!","v":{"$error":"#REF!"}},{"$f":"計算結果!#REF!","v":{"$error":"#REF!"}},{"$f":"計算結果!#REF!","v":{"$error":"#REF!"}},{"$f":"計算結果!#REF!","v":{"$error":"#REF!"}},{"$f":"計算結果!#REF!","v":{"$error":"#REF!"}}]
[{"$f":"入力シート!A763","v":0},{"$f":"入力シート!G763","v":0},{"$f":"入力シート!H763","v":0},{"$f":"IF(入力シート!$J763<>\"\",入力シート!$J763,IF(入力シート!$L763<>\"\",入力シート!$L763,\"‐\"))","v":"‐"},{"$f":"IF(入力シート!$K763<>\"\",入力シート!$K763,IF(入力シート!$M763<>\"\",入力シート!$M763,入力シート!$N763))","v":0},{"$f":"入力シート!I763","v":0},{"$f":"入力シート!O763","v":0},{"$f":"IF(入力シート!P763=\"×\",\"P\",\"PN\")","v":"PN"},{"$f":"計算結果!#REF!","v":{"$error":"#REF!"}},{"$f":"計算結果!#REF!","v":{"$error":"#REF!"}},{"$f":"計算結果!#REF!","v":{"$error":"#REF!"}},{"$f":"計算結果!#REF!","v":{"$error":"#REF!"}},{"$f":"計算結果!#REF!","v":{"$error":"#REF!"}},{"$f":"計算結果!#REF!","v":{"$error":"#REF!"}},{"$f":"計算結果!#REF!","v":{"$error":"#REF!"}},{"$f":"計算結果!#REF!","v":{"$error":"#REF!"}},{"$f":"計算結果!#REF!","v":{"$error":"#REF!"}},{"$f":"計算結果!#REF!","v":{"$error":"#REF!"}}]
[{"$f":"入力シート!A764","v":0},{"$f":"入力シート!G764","v":0},{"$f":"入力シート!H764","v":0},{"$f":"IF(入力シート!$J764<>\"\",入力シート!$J764,IF(入力シート!$L764<>\"\",入力シート!$L764,\"‐\"))","v":"‐"},{"$f":"IF(入力シート!$K764<>\"\",入力シート!$K764,IF(入力シート!$M764<>\"\",入力シート!$M764,入力シート!$N764))","v":0},{"$f":"入力シート!I764","v":0},{"$f":"入力シート!O764","v":0},{"$f":"IF(入力シート!P764=\"×\",\"P\",\"PN\")","v":"PN"},{"$f":"計算結果!#REF!","v":{"$error":"#REF!"}},{"$f":"計算結果!#REF!","v":{"$error":"#REF!"}},{"$f":"計算結果!#REF!","v":{"$error":"#REF!"}},{"$f":"計算結果!#REF!","v":{"$error":"#REF!"}},{"$f":"計算結果!#REF!","v":{"$error":"#REF!"}},{"$f":"計算結果!#REF!","v":{"$error":"#REF!"}},{"$f":"計算結果!#REF!","v":{"$error":"#REF!"}},{"$f":"計算結果!#REF!","v":{"$error":"#REF!"}},{"$f":"計算結果!#REF!","v":{"$error":"#REF!"}},{"$f":"計算結果!#REF!","v":{"$error":"#REF!"}}]
[{"$f":"入力シート!A765","v":0},{"$f":"入力シート!G765","v":0},{"$f":"入力シート!H765","v":0},{"$f":"IF(入力シート!$J765<>\"\",入力シート!$J765,IF(入力シート!$L765<>\"\",入力シート!$L765,\"‐\"))","v":"‐"},{"$f":"IF(入力シート!$K765<>\"\",入力シート!$K765,IF(入力シート!$M765<>\"\",入力シート!$M765,入力シート!$N765))","v":0},{"$f":"入力シート!I765","v":0},{"$f":"入力シート!O765","v":0},{"$f":"IF(入力シート!P765=\"×\",\"P\",\"PN\")","v":"PN"},{"$f":"計算結果!#REF!","v":{"$error":"#REF!"}},{"$f":"計算結果!#REF!","v":{"$error":"#REF!"}},{"$f":"計算結果!#REF!","v":{"$error":"#REF!"}},{"$f":"計算結果!#REF!","v":{"$error":"#REF!"}},{"$f":"計算結果!#REF!","v":{"$error":"#REF!"}},{"$f":"計算結果!#REF!","v":{"$error":"#REF!"}},{"$f":"計算結果!#REF!","v":{"$error":"#REF!"}},{"$f":"計算結果!#REF!","v":{"$error":"#REF!"}},{"$f":"計算結果!#REF!","v":{"$error":"#REF!"}},{"$f":"計算結果!#REF!","v":{"$error":"#REF!"}}]
[{"$f":"入力シート!A766","v":0},{"$f":"入力シート!G766","v":0},{"$f":"入力シート!H766","v":0},{"$f":"IF(入力シート!$J766<>\"\",入力シート!$J766,IF(入力シート!$L766<>\"\",入力シート!$L766,\"‐\"))","v":"‐"},{"$f":"IF(入力シート!$K766<>\"\",入力シート!$K766,IF(入力シート!$M766<>\"\",入力シート!$M766,入力シート!$N766))","v":0},{"$f":"入力シート!I766","v":0},{"$f":"入力シート!O766","v":0},{"$f":"IF(入力シート!P766=\"×\",\"P\",\"PN\")","v":"PN"},{"$f":"計算結果!#REF!","v":{"$error":"#REF!"}},{"$f":"計算結果!#REF!","v":{"$error":"#REF!"}},{"$f":"計算結果!#REF!","v":{"$error":"#REF!"}},{"$f":"計算結果!#REF!","v":{"$error":"#REF!"}},{"$f":"計算結果!#REF!","v":{"$error":"#REF!"}},{"$f":"計算結果!#REF!","v":{"$error":"#REF!"}},{"$f":"計算結果!#REF!","v":{"$error":"#REF!"}},{"$f":"計算結果!#REF!","v":{"$error":"#REF!"}},{"$f":"計算結果!#REF!","v":{"$error":"#REF!"}},{"$f":"計算結果!#REF!","v":{"$error":"#REF!"}}]
[{"$f":"入力シート!A767","v":0},{"$f":"入力シート!G767","v":0},{"$f":"入力シート!H767","v":0},{"$f":"IF(入力シート!$J767<>\"\",入力シート!$J767,IF(入力シート!$L767<>\"\",入力シート!$L767,\"‐\"))","v":"‐"},{"$f":"IF(入力シート!$K767<>\"\",入力シート!$K767,IF(入力シート!$M767<>\"\",入力シート!$M767,入力シート!$N767))","v":0},{"$f":"入力シート!I767","v":0},{"$f":"入力シート!O767","v":0},{"$f":"IF(入力シート!P767=\"×\",\"P\",\"PN\")","v":"PN"},{"$f":"計算結果!#REF!","v":{"$error":"#REF!"}},{"$f":"計算結果!#REF!","v":{"$error":"#REF!"}},{"$f":"計算結果!#REF!","v":{"$error":"#REF!"}},{"$f":"計算結果!#REF!","v":{"$error":"#REF!"}},{"$f":"計算結果!#REF!","v":{"$error":"#REF!"}},{"$f":"計算結果!#REF!","v":{"$error":"#REF!"}},{"$f":"計算結果!#REF!","v":{"$error":"#REF!"}},{"$f":"計算結果!#REF!","v":{"$error":"#REF!"}},{"$f":"計算結果!#REF!","v":{"$error":"#REF!"}},{"$f":"計算結果!#REF!","v":{"$error":"#REF!"}}]
[{"$f":"入力シート!A768","v":0},{"$f":"入力シート!G768","v":0},{"$f":"入力シート!H768","v":0},{"$f":"IF(入力シート!$J768<>\"\",入力シート!$J768,IF(入力シート!$L768<>\"\",入力シート!$L768,\"‐\"))","v":"‐"},{"$f":"IF(入力シート!$K768<>\"\",入力シート!$K768,IF(入力シート!$M768<>\"\",入力シート!$M768,入力シート!$N768))","v":0},{"$f":"入力シート!I768","v":0},{"$f":"入力シート!O768","v":0},{"$f":"IF(入力シート!P768=\"×\",\"P\",\"PN\")","v":"PN"},{"$f":"計算結果!#REF!","v":{"$error":"#REF!"}},{"$f":"計算結果!#REF!","v":{"$error":"#REF!"}},{"$f":"計算結果!#REF!","v":{"$error":"#REF!"}},{"$f":"計算結果!#REF!","v":{"$error":"#REF!"}},{"$f":"計算結果!#REF!","v":{"$error":"#REF!"}},{"$f":"計算結果!#REF!","v":{"$error":"#REF!"}},{"$f":"計算結果!#REF!","v":{"$error":"#REF!"}},{"$f":"計算結果!#REF!","v":{"$error":"#REF!"}},{"$f":"計算結果!#REF!","v":{"$error":"#REF!"}},{"$f":"計算結果!#REF!","v":{"$error":"#REF!"}}]
[{"$f":"入力シート!A769","v":0},{"$f":"入力シート!G769","v":0},{"$f":"入力シート!H769","v":0},{"$f":"IF(入力シート!$J769<>\"\",入力シート!$J769,IF(入力シート!$L769<>\"\",入力シート!$L769,\"‐\"))","v":"‐"},{"$f":"IF(入力シート!$K769<>\"\",入力シート!$K769,IF(入力シート!$M769<>\"\",入力シート!$M769,入力シート!$N769))","v":0},{"$f":"入力シート!I769","v":0},{"$f":"入力シート!O769","v":0},{"$f":"IF(入力シート!P769=\"×\",\"P\",\"PN\")","v":"PN"},{"$f":"計算結果!#REF!","v":{"$error":"#REF!"}},{"$f":"計算結果!#REF!","v":{"$error":"#REF!"}},{"$f":"計算結果!#REF!","v":{"$error":"#REF!"}},{"$f":"計算結果!#REF!","v":{"$error":"#REF!"}},{"$f":"計算結果!#REF!","v":{"$error":"#REF!"}},{"$f":"計算結果!#REF!","v":{"$error":"#REF!"}},{"$f":"計算結果!#REF!","v":{"$error":"#REF!"}},{"$f":"計算結果!#REF!","v":{"$error":"#REF!"}},{"$f":"計算結果!#REF!","v":{"$error":"#REF!"}},{"$f":"計算結果!#REF!","v":{"$error":"#REF!"}}]
[{"$f":"入力シート!A770","v":0},{"$f":"入力シート!G770","v":0},{"$f":"入力シート!H770","v":0},{"$f":"IF(入力シート!$J770<>\"\",入力シート!$J770,IF(入力シート!$L770<>\"\",入力シート!$L770,\"‐\"))","v":"‐"},{"$f":"IF(入力シート!$K770<>\"\",入力シート!$K770,IF(入力シート!$M770<>\"\",入力シート!$M770,入力シート!$N770))","v":0},{"$f":"入力シート!I770","v":0},{"$f":"入力シート!O770","v":0},{"$f":"IF(入力シート!P770=\"×\",\"P\",\"PN\")","v":"PN"},{"$f":"計算結果!#REF!","v":{"$error":"#REF!"}},{"$f":"計算結果!#REF!","v":{"$error":"#REF!"}},{"$f":"計算結果!#REF!","v":{"$error":"#REF!"}},{"$f":"計算結果!#REF!","v":{"$error":"#REF!"}},{"$f":"計算結果!#REF!","v":{"$error":"#REF!"}},{"$f":"計算結果!#REF!","v":{"$error":"#REF!"}},{"$f":"計算結果!#REF!","v":{"$error":"#REF!"}},{"$f":"計算結果!#REF!","v":{"$error":"#REF!"}},{"$f":"計算結果!#REF!","v":{"$error":"#REF!"}},{"$f":"計算結果!#REF!","v":{"$error":"#REF!"}}]
[{"$f":"入力シート!A771","v":0},{"$f":"入力シート!G771","v":0},{"$f":"入力シート!H771","v":0},{"$f":"IF(入力シート!$J771<>\"\",入力シート!$J771,IF(入力シート!$L771<>\"\",入力シート!$L771,\"‐\"))","v":"‐"},{"$f":"IF(入力シート!$K771<>\"\",入力シート!$K771,IF(入力シート!$M771<>\"\",入力シート!$M771,入力シート!$N771))","v":0},{"$f":"入力シート!I771","v":0},{"$f":"入力シート!O771","v":0},{"$f":"IF(入力シート!P771=\"×\",\"P\",\"PN\")","v":"PN"},{"$f":"計算結果!#REF!","v":{"$error":"#REF!"}},{"$f":"計算結果!#REF!","v":{"$error":"#REF!"}},{"$f":"計算結果!#REF!","v":{"$error":"#REF!"}},{"$f":"計算結果!#REF!","v":{"$error":"#REF!"}},{"$f":"計算結果!#REF!","v":{"$error":"#REF!"}},{"$f":"計算結果!#REF!","v":{"$error":"#REF!"}},{"$f":"計算結果!#REF!","v":{"$error":"#REF!"}},{"$f":"計算結果!#REF!","v":{"$error":"#REF!"}},{"$f":"計算結果!#REF!","v":{"$error":"#REF!"}},{"$f":"計算結果!#REF!","v":{"$error":"#REF!"}}]
[{"$f":"入力シート!A772","v":0},{"$f":"入力シート!G772","v":0},{"$f":"入力シート!H772","v":0},{"$f":"IF(入力シート!$J772<>\"\",入力シート!$J772,IF(入力シート!$L772<>\"\",入力シート!$L772,\"‐\"))","v":"‐"},{"$f":"IF(入力シート!$K772<>\"\",入力シート!$K772,IF(入力シート!$M772<>\"\",入力シート!$M772,入力シート!$N772))","v":0},{"$f":"入力シート!I772","v":0},{"$f":"入力シート!O772","v":0},{"$f":"IF(入力シート!P772=\"×\",\"P\",\"PN\")","v":"PN"},{"$f":"計算結果!#REF!","v":{"$error":"#REF!"}},{"$f":"計算結果!#REF!","v":{"$error":"#REF!"}},{"$f":"計算結果!#REF!","v":{"$error":"#REF!"}},{"$f":"計算結果!#REF!","v":{"$error":"#REF!"}},{"$f":"計算結果!#REF!","v":{"$error":"#REF!"}},{"$f":"計算結果!#REF!","v":{"$error":"#REF!"}},{"$f":"計算結果!#REF!","v":{"$error":"#REF!"}},{"$f":"計算結果!#REF!","v":{"$error":"#REF!"}},{"$f":"計算結果!#REF!","v":{"$error":"#REF!"}},{"$f":"計算結果!#REF!","v":{"$error":"#REF!"}}]
[{"$f":"入力シート!A773","v":0},{"$f":"入力シート!G773","v":0},{"$f":"入力シート!H773","v":0},{"$f":"IF(入力シート!$J773<>\"\",入力シート!$J773,IF(入力シート!$L773<>\"\",入力シート!$L773,\"‐\"))","v":"‐"},{"$f":"IF(入力シート!$K773<>\"\",入力シート!$K773,IF(入力シート!$M773<>\"\",入力シート!$M773,入力シート!$N773))","v":0},{"$f":"入力シート!I773","v":0},{"$f":"入力シート!O773","v":0},{"$f":"IF(入力シート!P773=\"×\",\"P\",\"PN\")","v":"PN"},{"$f":"計算結果!#REF!","v":{"$error":"#REF!"}},{"$f":"計算結果!#REF!","v":{"$error":"#REF!"}},{"$f":"計算結果!#REF!","v":{"$error":"#REF!"}},{"$f":"計算結果!#REF!","v":{"$error":"#REF!"}},{"$f":"計算結果!#REF!","v":{"$error":"#REF!"}},{"$f":"計算結果!#REF!","v":{"$error":"#REF!"}},{"$f":"計算結果!#REF!","v":{"$error":"#REF!"}},{"$f":"計算結果!#REF!","v":{"$error":"#REF!"}},{"$f":"計算結果!#REF!","v":{"$error":"#REF!"}},{"$f":"計算結果!#REF!","v":{"$error":"#REF!"}}]
[{"$f":"入力シート!A774","v":0},{"$f":"入力シート!G774","v":0},{"$f":"入力シート!H774","v":0},{"$f":"IF(入力シート!$J774<>\"\",入力シート!$J774,IF(入力シート!$L774<>\"\",入力シート!$L774,\"‐\"))","v":"‐"},{"$f":"IF(入力シート!$K774<>\"\",入力シート!$K774,IF(入力シート!$M774<>\"\",入力シート!$M774,入力シート!$N774))","v":0},{"$f":"入力シート!I774","v":0},{"$f":"入力シート!O774","v":0},{"$f":"IF(入力シート!P774=\"×\",\"P\",\"PN\")","v":"PN"},{"$f":"計算結果!#REF!","v":{"$error":"#REF!"}},{"$f":"計算結果!#REF!","v":{"$error":"#REF!"}},{"$f":"計算結果!#REF!","v":{"$error":"#REF!"}},{"$f":"計算結果!#REF!","v":{"$error":"#REF!"}},{"$f":"計算結果!#REF!","v":{"$error":"#REF!"}},{"$f":"計算結果!#REF!","v":{"$error":"#REF!"}},{"$f":"計算結果!#REF!","v":{"$error":"#REF!"}},{"$f":"計算結果!#REF!","v":{"$error":"#REF!"}},{"$f":"計算結果!#REF!","v":{"$error":"#REF!"}},{"$f":"計算結果!#REF!","v":{"$error":"#REF!"}}]
[{"$f":"入力シート!A775","v":0},{"$f":"入力シート!G775","v":0},{"$f":"入力シート!H775","v":0},{"$f":"IF(入力シート!$J775<>\"\",入力シート!$J775,IF(入力シート!$L775<>\"\",入力シート!$L775,\"‐\"))","v":"‐"},{"$f":"IF(入力シート!$K775<>\"\",入力シート!$K775,IF(入力シート!$M775<>\"\",入力シート!$M775,入力シート!$N775))","v":0},{"$f":"入力シート!I775","v":0},{"$f":"入力シート!O775","v":0},{"$f":"IF(入力シート!P775=\"×\",\"P\",\"PN\")","v":"PN"},{"$f":"計算結果!#REF!","v":{"$error":"#REF!"}},{"$f":"計算結果!#REF!","v":{"$error":"#REF!"}},{"$f":"計算結果!#REF!","v":{"$error":"#REF!"}},{"$f":"計算結果!#REF!","v":{"$error":"#REF!"}},{"$f":"計算結果!#REF!","v":{"$error":"#REF!"}},{"$f":"計算結果!#REF!","v":{"$error":"#REF!"}},{"$f":"計算結果!#REF!","v":{"$error":"#REF!"}},{"$f":"計算結果!#REF!","v":{"$error":"#REF!"}},{"$f":"計算結果!#REF!","v":{"$error":"#REF!"}},{"$f":"計算結果!#REF!","v":{"$error":"#REF!"}}]
[{"$f":"入力シート!A776","v":0},{"$f":"入力シート!G776","v":0},{"$f":"入力シート!H776","v":0},{"$f":"IF(入力シート!$J776<>\"\",入力シート!$J776,IF(入力シート!$L776<>\"\",入力シート!$L776,\"‐\"))","v":"‐"},{"$f":"IF(入力シート!$K776<>\"\",入力シート!$K776,IF(入力シート!$M776<>\"\",入力シート!$M776,入力シート!$N776))","v":0},{"$f":"入力シート!I776","v":0},{"$f":"入力シート!O776","v":0},{"$f":"IF(入力シート!P776=\"×\",\"P\",\"PN\")","v":"PN"},{"$f":"計算結果!#REF!","v":{"$error":"#REF!"}},{"$f":"計算結果!#REF!","v":{"$error":"#REF!"}},{"$f":"計算結果!#REF!","v":{"$error":"#REF!"}},{"$f":"計算結果!#REF!","v":{"$error":"#REF!"}},{"$f":"計算結果!#REF!","v":{"$error":"#REF!"}},{"$f":"計算結果!#REF!","v":{"$error":"#REF!"}},{"$f":"計算結果!#REF!","v":{"$error":"#REF!"}},{"$f":"計算結果!#REF!","v":{"$error":"#REF!"}},{"$f":"計算結果!#REF!","v":{"$error":"#REF!"}},{"$f":"計算結果!#REF!","v":{"$error":"#REF!"}}]
[{"$f":"入力シート!A777","v":0},{"$f":"入力シート!G777","v":0},{"$f":"入力シート!H777","v":0},{"$f":"IF(入力シート!$J777<>\"\",入力シート!$J777,IF(入力シート!$L777<>\"\",入力シート!$L777,\"‐\"))","v":"‐"},{"$f":"IF(入力シート!$K777<>\"\",入力シート!$K777,IF(入力シート!$M777<>\"\",入力シート!$M777,入力シート!$N777))","v":0},{"$f":"入力シート!I777","v":0},{"$f":"入力シート!O777","v":0},{"$f":"IF(入力シート!P777=\"×\",\"P\",\"PN\")","v":"PN"},{"$f":"計算結果!#REF!","v":{"$error":"#REF!"}},{"$f":"計算結果!#REF!","v":{"$error":"#REF!"}},{"$f":"計算結果!#REF!","v":{"$error":"#REF!"}},{"$f":"計算結果!#REF!","v":{"$error":"#REF!"}},{"$f":"計算結果!#REF!","v":{"$error":"#REF!"}},{"$f":"計算結果!#REF!","v":{"$error":"#REF!"}},{"$f":"計算結果!#REF!","v":{"$error":"#REF!"}},{"$f":"計算結果!#REF!","v":{"$error":"#REF!"}},{"$f":"計算結果!#REF!","v":{"$error":"#REF!"}},{"$f":"計算結果!#REF!","v":{"$error":"#REF!"}}]
[{"$f":"入力シート!A778","v":0},{"$f":"入力シート!G778","v":0},{"$f":"入力シート!H778","v":0},{"$f":"IF(入力シート!$J778<>\"\",入力シート!$J778,IF(入力シート!$L778<>\"\",入力シート!$L778,\"‐\"))","v":"‐"},{"$f":"IF(入力シート!$K778<>\"\",入力シート!$K778,IF(入力シート!$M778<>\"\",入力シート!$M778,入力シート!$N778))","v":0},{"$f":"入力シート!I778","v":0},{"$f":"入力シート!O778","v":0},{"$f":"IF(入力シート!P778=\"×\",\"P\",\"PN\")","v":"PN"},{"$f":"計算結果!#REF!","v":{"$error":"#REF!"}},{"$f":"計算結果!#REF!","v":{"$error":"#REF!"}},{"$f":"計算結果!#REF!","v":{"$error":"#REF!"}},{"$f":"計算結果!#REF!","v":{"$error":"#REF!"}},{"$f":"計算結果!#REF!","v":{"$error":"#REF!"}},{"$f":"計算結果!#REF!","v":{"$error":"#REF!"}},{"$f":"計算結果!#REF!","v":{"$error":"#REF!"}},{"$f":"計算結果!#REF!","v":{"$error":"#REF!"}},{"$f":"計算結果!#REF!","v":{"$error":"#REF!"}},{"$f":"計算結果!#REF!","v":{"$error":"#REF!"}}]
[{"$f":"入力シート!A779","v":0},{"$f":"入力シート!G779","v":0},{"$f":"入力シート!H779","v":0},{"$f":"IF(入力シート!$J779<>\"\",入力シート!$J779,IF(入力シート!$L779<>\"\",入力シート!$L779,\"‐\"))","v":"‐"},{"$f":"IF(入力シート!$K779<>\"\",入力シート!$K779,IF(入力シート!$M779<>\"\",入力シート!$M779,入力シート!$N779))","v":0},{"$f":"入力シート!I779","v":0},{"$f":"入力シート!O779","v":0},{"$f":"IF(入力シート!P779=\"×\",\"P\",\"PN\")","v":"PN"},{"$f":"計算結果!#REF!","v":{"$error":"#REF!"}},{"$f":"計算結果!#REF!","v":{"$error":"#REF!"}},{"$f":"計算結果!#REF!","v":{"$error":"#REF!"}},{"$f":"計算結果!#REF!","v":{"$error":"#REF!"}},{"$f":"計算結果!#REF!","v":{"$error":"#REF!"}},{"$f":"計算結果!#REF!","v":{"$error":"#REF!"}},{"$f":"計算結果!#REF!","v":{"$error":"#REF!"}},{"$f":"計算結果!#REF!","v":{"$error":"#REF!"}},{"$f":"計算結果!#REF!","v":{"$error":"#REF!"}},{"$f":"計算結果!#REF!","v":{"$error":"#REF!"}}]
[{"$f":"入力シート!A780","v":0},{"$f":"入力シート!G780","v":0},{"$f":"入力シート!H780","v":0},{"$f":"IF(入力シート!$J780<>\"\",入力シート!$J780,IF(入力シート!$L780<>\"\",入力シート!$L780,\"‐\"))","v":"‐"},{"$f":"IF(入力シート!$K780<>\"\",入力シート!$K780,IF(入力シート!$M780<>\"\",入力シート!$M780,入力シート!$N780))","v":0},{"$f":"入力シート!I780","v":0},{"$f":"入力シート!O780","v":0},{"$f":"IF(入力シート!P780=\"×\",\"P\",\"PN\")","v":"PN"},{"$f":"計算結果!#REF!","v":{"$error":"#REF!"}},{"$f":"計算結果!#REF!","v":{"$error":"#REF!"}},{"$f":"計算結果!#REF!","v":{"$error":"#REF!"}},{"$f":"計算結果!#REF!","v":{"$error":"#REF!"}},{"$f":"計算結果!#REF!","v":{"$error":"#REF!"}},{"$f":"計算結果!#REF!","v":{"$error":"#REF!"}},{"$f":"計算結果!#REF!","v":{"$error":"#REF!"}},{"$f":"計算結果!#REF!","v":{"$error":"#REF!"}},{"$f":"計算結果!#REF!","v":{"$error":"#REF!"}},{"$f":"計算結果!#REF!","v":{"$error":"#REF!"}}]
[{"$f":"入力シート!A781","v":0},{"$f":"入力シート!G781","v":0},{"$f":"入力シート!H781","v":0},{"$f":"IF(入力シート!$J781<>\"\",入力シート!$J781,IF(入力シート!$L781<>\"\",入力シート!$L781,\"‐\"))","v":"‐"},{"$f":"IF(入力シート!$K781<>\"\",入力シート!$K781,IF(入力シート!$M781<>\"\",入力シート!$M781,入力シート!$N781))","v":0},{"$f":"入力シート!I781","v":0},{"$f":"入力シート!O781","v":0},{"$f":"IF(入力シート!P781=\"×\",\"P\",\"PN\")","v":"PN"},{"$f":"計算結果!#REF!","v":{"$error":"#REF!"}},{"$f":"計算結果!#REF!","v":{"$error":"#REF!"}},{"$f":"計算結果!#REF!","v":{"$error":"#REF!"}},{"$f":"計算結果!#REF!","v":{"$error":"#REF!"}},{"$f":"計算結果!#REF!","v":{"$error":"#REF!"}},{"$f":"計算結果!#REF!","v":{"$error":"#REF!"}},{"$f":"計算結果!#REF!","v":{"$error":"#REF!"}},{"$f":"計算結果!#REF!","v":{"$error":"#REF!"}},{"$f":"計算結果!#REF!","v":{"$error":"#REF!"}},{"$f":"計算結果!#REF!","v":{"$error":"#REF!"}}]
[{"$f":"入力シート!A782","v":0},{"$f":"入力シート!G782","v":0},{"$f":"入力シート!H782","v":0},{"$f":"IF(入力シート!$J782<>\"\",入力シート!$J782,IF(入力シート!$L782<>\"\",入力シート!$L782,\"‐\"))","v":"‐"},{"$f":"IF(入力シート!$K782<>\"\",入力シート!$K782,IF(入力シート!$M782<>\"\",入力シート!$M782,入力シート!$N782))","v":0},{"$f":"入力シート!I782","v":0},{"$f":"入力シート!O782","v":0},{"$f":"IF(入力シート!P782=\"×\",\"P\",\"PN\")","v":"PN"},{"$f":"計算結果!#REF!","v":{"$error":"#REF!"}},{"$f":"計算結果!#REF!","v":{"$error":"#REF!"}},{"$f":"計算結果!#REF!","v":{"$error":"#REF!"}},{"$f":"計算結果!#REF!","v":{"$error":"#REF!"}},{"$f":"計算結果!#REF!","v":{"$error":"#REF!"}},{"$f":"計算結果!#REF!","v":{"$error":"#REF!"}},{"$f":"計算結果!#REF!","v":{"$error":"#REF!"}},{"$f":"計算結果!#REF!","v":{"$error":"#REF!"}},{"$f":"計算結果!#REF!","v":{"$error":"#REF!"}},{"$f":"計算結果!#REF!","v":{"$error":"#REF!"}}]
[{"$f":"入力シート!A783","v":0},{"$f":"入力シート!G783","v":0},{"$f":"入力シート!H783","v":0},{"$f":"IF(入力シート!$J783<>\"\",入力シート!$J783,IF(入力シート!$L783<>\"\",入力シート!$L783,\"‐\"))","v":"‐"},{"$f":"IF(入力シート!$K783<>\"\",入力シート!$K783,IF(入力シート!$M783<>\"\",入力シート!$M783,入力シート!$N783))","v":0},{"$f":"入力シート!I783","v":0},{"$f":"入力シート!O783","v":0},{"$f":"IF(入力シート!P783=\"×\",\"P\",\"PN\")","v":"PN"},{"$f":"計算結果!#REF!","v":{"$error":"#REF!"}},{"$f":"計算結果!#REF!","v":{"$error":"#REF!"}},{"$f":"計算結果!#REF!","v":{"$error":"#REF!"}},{"$f":"計算結果!#REF!","v":{"$error":"#REF!"}},{"$f":"計算結果!#REF!","v":{"$error":"#REF!"}},{"$f":"計算結果!#REF!","v":{"$error":"#REF!"}},{"$f":"計算結果!#REF!","v":{"$error":"#REF!"}},{"$f":"計算結果!#REF!","v":{"$error":"#REF!"}},{"$f":"計算結果!#REF!","v":{"$error":"#REF!"}},{"$f":"計算結果!#REF!","v":{"$error":"#REF!"}}]
[{"$f":"入力シート!A784","v":0},{"$f":"入力シート!G784","v":0},{"$f":"入力シート!H784","v":0},{"$f":"IF(入力シート!$J784<>\"\",入力シート!$J784,IF(入力シート!$L784<>\"\",入力シート!$L784,\"‐\"))","v":"‐"},{"$f":"IF(入力シート!$K784<>\"\",入力シート!$K784,IF(入力シート!$M784<>\"\",入力シート!$M784,入力シート!$N784))","v":0},{"$f":"入力シート!I784","v":0},{"$f":"入力シート!O784","v":0},{"$f":"IF(入力シート!P784=\"×\",\"P\",\"PN\")","v":"PN"},{"$f":"計算結果!#REF!","v":{"$error":"#REF!"}},{"$f":"計算結果!#REF!","v":{"$error":"#REF!"}},{"$f":"計算結果!#REF!","v":{"$error":"#REF!"}},{"$f":"計算結果!#REF!","v":{"$error":"#REF!"}},{"$f":"計算結果!#REF!","v":{"$error":"#REF!"}},{"$f":"計算結果!#REF!","v":{"$error":"#REF!"}},{"$f":"計算結果!#REF!","v":{"$error":"#REF!"}},{"$f":"計算結果!#REF!","v":{"$error":"#REF!"}},{"$f":"計算結果!#REF!","v":{"$error":"#REF!"}},{"$f":"計算結果!#REF!","v":{"$error":"#REF!"}}]
[{"$f":"入力シート!A785","v":0},{"$f":"入力シート!G785","v":0},{"$f":"入力シート!H785","v":0},{"$f":"IF(入力シート!$J785<>\"\",入力シート!$J785,IF(入力シート!$L785<>\"\",入力シート!$L785,\"‐\"))","v":"‐"},{"$f":"IF(入力シート!$K785<>\"\",入力シート!$K785,IF(入力シート!$M785<>\"\",入力シート!$M785,入力シート!$N785))","v":0},{"$f":"入力シート!I785","v":0},{"$f":"入力シート!O785","v":0},{"$f":"IF(入力シート!P785=\"×\",\"P\",\"PN\")","v":"PN"},{"$f":"計算結果!#REF!","v":{"$error":"#REF!"}},{"$f":"計算結果!#REF!","v":{"$error":"#REF!"}},{"$f":"計算結果!#REF!","v":{"$error":"#REF!"}},{"$f":"計算結果!#REF!","v":{"$error":"#REF!"}},{"$f":"計算結果!#REF!","v":{"$error":"#REF!"}},{"$f":"計算結果!#REF!","v":{"$error":"#REF!"}},{"$f":"計算結果!#REF!","v":{"$error":"#REF!"}},{"$f":"計算結果!#REF!","v":{"$error":"#REF!"}},{"$f":"計算結果!#REF!","v":{"$error":"#REF!"}},{"$f":"計算結果!#REF!","v":{"$error":"#REF!"}}]
[{"$f":"入力シート!A786","v":0},{"$f":"入力シート!G786","v":0},{"$f":"入力シート!H786","v":0},{"$f":"IF(入力シート!$J786<>\"\",入力シート!$J786,IF(入力シート!$L786<>\"\",入力シート!$L786,\"‐\"))","v":"‐"},{"$f":"IF(入力シート!$K786<>\"\",入力シート!$K786,IF(入力シート!$M786<>\"\",入力シート!$M786,入力シート!$N786))","v":0},{"$f":"入力シート!I786","v":0},{"$f":"入力シート!O786","v":0},{"$f":"IF(入力シート!P786=\"×\",\"P\",\"PN\")","v":"PN"},{"$f":"計算結果!#REF!","v":{"$error":"#REF!"}},{"$f":"計算結果!#REF!","v":{"$error":"#REF!"}},{"$f":"計算結果!#REF!","v":{"$error":"#REF!"}},{"$f":"計算結果!#REF!","v":{"$error":"#REF!"}},{"$f":"計算結果!#REF!","v":{"$error":"#REF!"}},{"$f":"計算結果!#REF!","v":{"$error":"#REF!"}},{"$f":"計算結果!#REF!","v":{"$error":"#REF!"}},{"$f":"計算結果!#REF!","v":{"$error":"#REF!"}},{"$f":"計算結果!#REF!","v":{"$error":"#REF!"}},{"$f":"計算結果!#REF!","v":{"$error":"#REF!"}}]
[{"$f":"入力シート!A787","v":0},{"$f":"入力シート!G787","v":0},{"$f":"入力シート!H787","v":0},{"$f":"IF(入力シート!$J787<>\"\",入力シート!$J787,IF(入力シート!$L787<>\"\",入力シート!$L787,\"‐\"))","v":"‐"},{"$f":"IF(入力シート!$K787<>\"\",入力シート!$K787,IF(入力シート!$M787<>\"\",入力シート!$M787,入力シート!$N787))","v":0},{"$f":"入力シート!I787","v":0},{"$f":"入力シート!O787","v":0},{"$f":"IF(入力シート!P787=\"×\",\"P\",\"PN\")","v":"PN"},{"$f":"計算結果!#REF!","v":{"$error":"#REF!"}},{"$f":"計算結果!#REF!","v":{"$error":"#REF!"}},{"$f":"計算結果!#REF!","v":{"$error":"#REF!"}},{"$f":"計算結果!#REF!","v":{"$error":"#REF!"}},{"$f":"計算結果!#REF!","v":{"$error":"#REF!"}},{"$f":"計算結果!#REF!","v":{"$error":"#REF!"}},{"$f":"計算結果!#REF!","v":{"$error":"#REF!"}},{"$f":"計算結果!#REF!","v":{"$error":"#REF!"}},{"$f":"計算結果!#REF!","v":{"$error":"#REF!"}},{"$f":"計算結果!#REF!","v":{"$error":"#REF!"}}]
[{"$f":"入力シート!A788","v":0},{"$f":"入力シート!G788","v":0},{"$f":"入力シート!H788","v":0},{"$f":"IF(入力シート!$J788<>\"\",入力シート!$J788,IF(入力シート!$L788<>\"\",入力シート!$L788,\"‐\"))","v":"‐"},{"$f":"IF(入力シート!$K788<>\"\",入力シート!$K788,IF(入力シート!$M788<>\"\",入力シート!$M788,入力シート!$N788))","v":0},{"$f":"入力シート!I788","v":0},{"$f":"入力シート!O788","v":0},{"$f":"IF(入力シート!P788=\"×\",\"P\",\"PN\")","v":"PN"},{"$f":"計算結果!#REF!","v":{"$error":"#REF!"}},{"$f":"計算結果!#REF!","v":{"$error":"#REF!"}},{"$f":"計算結果!#REF!","v":{"$error":"#REF!"}},{"$f":"計算結果!#REF!","v":{"$error":"#REF!"}},{"$f":"計算結果!#REF!","v":{"$error":"#REF!"}},{"$f":"計算結果!#REF!","v":{"$error":"#REF!"}},{"$f":"計算結果!#REF!","v":{"$error":"#REF!"}},{"$f":"計算結果!#REF!","v":{"$error":"#REF!"}},{"$f":"計算結果!#REF!","v":{"$error":"#REF!"}},{"$f":"計算結果!#REF!","v":{"$error":"#REF!"}}]
[{"$f":"入力シート!A789","v":0},{"$f":"入力シート!G789","v":0},{"$f":"入力シート!H789","v":0},{"$f":"IF(入力シート!$J789<>\"\",入力シート!$J789,IF(入力シート!$L789<>\"\",入力シート!$L789,\"‐\"))","v":"‐"},{"$f":"IF(入力シート!$K789<>\"\",入力シート!$K789,IF(入力シート!$M789<>\"\",入力シート!$M789,入力シート!$N789))","v":0},{"$f":"入力シート!I789","v":0},{"$f":"入力シート!O789","v":0},{"$f":"IF(入力シート!P789=\"×\",\"P\",\"PN\")","v":"PN"},{"$f":"計算結果!#REF!","v":{"$error":"#REF!"}},{"$f":"計算結果!#REF!","v":{"$error":"#REF!"}},{"$f":"計算結果!#REF!","v":{"$error":"#REF!"}},{"$f":"計算結果!#REF!","v":{"$error":"#REF!"}},{"$f":"計算結果!#REF!","v":{"$error":"#REF!"}},{"$f":"計算結果!#REF!","v":{"$error":"#REF!"}},{"$f":"計算結果!#REF!","v":{"$error":"#REF!"}},{"$f":"計算結果!#REF!","v":{"$error":"#REF!"}},{"$f":"計算結果!#REF!","v":{"$error":"#REF!"}},{"$f":"計算結果!#REF!","v":{"$error":"#REF!"}}]
[{"$f":"入力シート!A790","v":0},{"$f":"入力シート!G790","v":0},{"$f":"入力シート!H790","v":0},{"$f":"IF(入力シート!$J790<>\"\",入力シート!$J790,IF(入力シート!$L790<>\"\",入力シート!$L790,\"‐\"))","v":"‐"},{"$f":"IF(入力シート!$K790<>\"\",入力シート!$K790,IF(入力シート!$M790<>\"\",入力シート!$M790,入力シート!$N790))","v":0},{"$f":"入力シート!I790","v":0},{"$f":"入力シート!O790","v":0},{"$f":"IF(入力シート!P790=\"×\",\"P\",\"PN\")","v":"PN"},{"$f":"計算結果!#REF!","v":{"$error":"#REF!"}},{"$f":"計算結果!#REF!","v":{"$error":"#REF!"}},{"$f":"計算結果!#REF!","v":{"$error":"#REF!"}},{"$f":"計算結果!#REF!","v":{"$error":"#REF!"}},{"$f":"計算結果!#REF!","v":{"$error":"#REF!"}},{"$f":"計算結果!#REF!","v":{"$error":"#REF!"}},{"$f":"計算結果!#REF!","v":{"$error":"#REF!"}},{"$f":"計算結果!#REF!","v":{"$error":"#REF!"}},{"$f":"計算結果!#REF!","v":{"$error":"#REF!"}},{"$f":"計算結果!#REF!","v":{"$error":"#REF!"}}]
[{"$f":"入力シート!A791","v":0},{"$f":"入力シート!G791","v":0},{"$f":"入力シート!H791","v":0},{"$f":"IF(入力シート!$J791<>\"\",入力シート!$J791,IF(入力シート!$L791<>\"\",入力シート!$L791,\"‐\"))","v":"‐"},{"$f":"IF(入力シート!$K791<>\"\",入力シート!$K791,IF(入力シート!$M791<>\"\",入力シート!$M791,入力シート!$N791))","v":0},{"$f":"入力シート!I791","v":0},{"$f":"入力シート!O791","v":0},{"$f":"IF(入力シート!P791=\"×\",\"P\",\"PN\")","v":"PN"},{"$f":"計算結果!#REF!","v":{"$error":"#REF!"}},{"$f":"計算結果!#REF!","v":{"$error":"#REF!"}},{"$f":"計算結果!#REF!","v":{"$error":"#REF!"}},{"$f":"計算結果!#REF!","v":{"$error":"#REF!"}},{"$f":"計算結果!#REF!","v":{"$error":"#REF!"}},{"$f":"計算結果!#REF!","v":{"$error":"#REF!"}},{"$f":"計算結果!#REF!","v":{"$error":"#REF!"}},{"$f":"計算結果!#REF!","v":{"$error":"#REF!"}},{"$f":"計算結果!#REF!","v":{"$error":"#REF!"}},{"$f":"計算結果!#REF!","v":{"$error":"#REF!"}}]
[{"$f":"入力シート!A792","v":0},{"$f":"入力シート!G792","v":0},{"$f":"入力シート!H792","v":0},{"$f":"IF(入力シート!$J792<>\"\",入力シート!$J792,IF(入力シート!$L792<>\"\",入力シート!$L792,\"‐\"))","v":"‐"},{"$f":"IF(入力シート!$K792<>\"\",入力シート!$K792,IF(入力シート!$M792<>\"\",入力シート!$M792,入力シート!$N792))","v":0},{"$f":"入力シート!I792","v":0},{"$f":"入力シート!O792","v":0},{"$f":"IF(入力シート!P792=\"×\",\"P\",\"PN\")","v":"PN"},{"$f":"計算結果!#REF!","v":{"$error":"#REF!"}},{"$f":"計算結果!#REF!","v":{"$error":"#REF!"}},{"$f":"計算結果!#REF!","v":{"$error":"#REF!"}},{"$f":"計算結果!#REF!","v":{"$error":"#REF!"}},{"$f":"計算結果!#REF!","v":{"$error":"#REF!"}},{"$f":"計算結果!#REF!","v":{"$error":"#REF!"}},{"$f":"計算結果!#REF!","v":{"$error":"#REF!"}},{"$f":"計算結果!#REF!","v":{"$error":"#REF!"}},{"$f":"計算結果!#REF!","v":{"$error":"#REF!"}},{"$f":"計算結果!#REF!","v":{"$error":"#REF!"}}]
[{"$f":"入力シート!A793","v":0},{"$f":"入力シート!G793","v":0},{"$f":"入力シート!H793","v":0},{"$f":"IF(入力シート!$J793<>\"\",入力シート!$J793,IF(入力シート!$L793<>\"\",入力シート!$L793,\"‐\"))","v":"‐"},{"$f":"IF(入力シート!$K793<>\"\",入力シート!$K793,IF(入力シート!$M793<>\"\",入力シート!$M793,入力シート!$N793))","v":0},{"$f":"入力シート!I793","v":0},{"$f":"入力シート!O793","v":0},{"$f":"IF(入力シート!P793=\"×\",\"P\",\"PN\")","v":"PN"},{"$f":"計算結果!#REF!","v":{"$error":"#REF!"}},{"$f":"計算結果!#REF!","v":{"$error":"#REF!"}},{"$f":"計算結果!#REF!","v":{"$error":"#REF!"}},{"$f":"計算結果!#REF!","v":{"$error":"#REF!"}},{"$f":"計算結果!#REF!","v":{"$error":"#REF!"}},{"$f":"計算結果!#REF!","v":{"$error":"#REF!"}},{"$f":"計算結果!#REF!","v":{"$error":"#REF!"}},{"$f":"計算結果!#REF!","v":{"$error":"#REF!"}},{"$f":"計算結果!#REF!","v":{"$error":"#REF!"}},{"$f":"計算結果!#REF!","v":{"$error":"#REF!"}}]
[{"$f":"入力シート!A794","v":0},{"$f":"入力シート!G794","v":0},{"$f":"入力シート!H794","v":0},{"$f":"IF(入力シート!$J794<>\"\",入力シート!$J794,IF(入力シート!$L794<>\"\",入力シート!$L794,\"‐\"))","v":"‐"},{"$f":"IF(入力シート!$K794<>\"\",入力シート!$K794,IF(入力シート!$M794<>\"\",入力シート!$M794,入力シート!$N794))","v":0},{"$f":"入力シート!I794","v":0},{"$f":"入力シート!O794","v":0},{"$f":"IF(入力シート!P794=\"×\",\"P\",\"PN\")","v":"PN"},{"$f":"計算結果!#REF!","v":{"$error":"#REF!"}},{"$f":"計算結果!#REF!","v":{"$error":"#REF!"}},{"$f":"計算結果!#REF!","v":{"$error":"#REF!"}},{"$f":"計算結果!#REF!","v":{"$error":"#REF!"}},{"$f":"計算結果!#REF!","v":{"$error":"#REF!"}},{"$f":"計算結果!#REF!","v":{"$error":"#REF!"}},{"$f":"計算結果!#REF!","v":{"$error":"#REF!"}},{"$f":"計算結果!#REF!","v":{"$error":"#REF!"}},{"$f":"計算結果!#REF!","v":{"$error":"#REF!"}},{"$f":"計算結果!#REF!","v":{"$error":"#REF!"}}]
[{"$f":"入力シート!A795","v":0},{"$f":"入力シート!G795","v":0},{"$f":"入力シート!H795","v":0},{"$f":"IF(入力シート!$J795<>\"\",入力シート!$J795,IF(入力シート!$L795<>\"\",入力シート!$L795,\"‐\"))","v":"‐"},{"$f":"IF(入力シート!$K795<>\"\",入力シート!$K795,IF(入力シート!$M795<>\"\",入力シート!$M795,入力シート!$N795))","v":0},{"$f":"入力シート!I795","v":0},{"$f":"入力シート!O795","v":0},{"$f":"IF(入力シート!P795=\"×\",\"P\",\"PN\")","v":"PN"},{"$f":"計算結果!#REF!","v":{"$error":"#REF!"}},{"$f":"計算結果!#REF!","v":{"$error":"#REF!"}},{"$f":"計算結果!#REF!","v":{"$error":"#REF!"}},{"$f":"計算結果!#REF!","v":{"$error":"#REF!"}},{"$f":"計算結果!#REF!","v":{"$error":"#REF!"}},{"$f":"計算結果!#REF!","v":{"$error":"#REF!"}},{"$f":"計算結果!#REF!","v":{"$error":"#REF!"}},{"$f":"計算結果!#REF!","v":{"$error":"#REF!"}},{"$f":"計算結果!#REF!","v":{"$error":"#REF!"}},{"$f":"計算結果!#REF!","v":{"$error":"#REF!"}}]
[{"$f":"入力シート!A796","v":0},{"$f":"入力シート!G796","v":0},{"$f":"入力シート!H796","v":0},{"$f":"IF(入力シート!$J796<>\"\",入力シート!$J796,IF(入力シート!$L796<>\"\",入力シート!$L796,\"‐\"))","v":"‐"},{"$f":"IF(入力シート!$K796<>\"\",入力シート!$K796,IF(入力シート!$M796<>\"\",入力シート!$M796,入力シート!$N796))","v":0},{"$f":"入力シート!I796","v":0},{"$f":"入力シート!O796","v":0},{"$f":"IF(入力シート!P796=\"×\",\"P\",\"PN\")","v":"PN"},{"$f":"計算結果!#REF!","v":{"$error":"#REF!"}},{"$f":"計算結果!#REF!","v":{"$error":"#REF!"}},{"$f":"計算結果!#REF!","v":{"$error":"#REF!"}},{"$f":"計算結果!#REF!","v":{"$error":"#REF!"}},{"$f":"計算結果!#REF!","v":{"$error":"#REF!"}},{"$f":"計算結果!#REF!","v":{"$error":"#REF!"}},{"$f":"計算結果!#REF!","v":{"$error":"#REF!"}},{"$f":"計算結果!#REF!","v":{"$error":"#REF!"}},{"$f":"計算結果!#REF!","v":{"$error":"#REF!"}},{"$f":"計算結果!#REF!","v":{"$error":"#REF!"}}]
[{"$f":"入力シート!A797","v":0},{"$f":"入力シート!G797","v":0},{"$f":"入力シート!H797","v":0},{"$f":"IF(入力シート!$J797<>\"\",入力シート!$J797,IF(入力シート!$L797<>\"\",入力シート!$L797,\"‐\"))","v":"‐"},{"$f":"IF(入力シート!$K797<>\"\",入力シート!$K797,IF(入力シート!$M797<>\"\",入力シート!$M797,入力シート!$N797))","v":0},{"$f":"入力シート!I797","v":0},{"$f":"入力シート!O797","v":0},{"$f":"IF(入力シート!P797=\"×\",\"P\",\"PN\")","v":"PN"},{"$f":"計算結果!#REF!","v":{"$error":"#REF!"}},{"$f":"計算結果!#REF!","v":{"$error":"#REF!"}},{"$f":"計算結果!#REF!","v":{"$error":"#REF!"}},{"$f":"計算結果!#REF!","v":{"$error":"#REF!"}},{"$f":"計算結果!#REF!","v":{"$error":"#REF!"}},{"$f":"計算結果!#REF!","v":{"$error":"#REF!"}},{"$f":"計算結果!#REF!","v":{"$error":"#REF!"}},{"$f":"計算結果!#REF!","v":{"$error":"#REF!"}},{"$f":"計算結果!#REF!","v":{"$error":"#REF!"}},{"$f":"計算結果!#REF!","v":{"$error":"#REF!"}}]
[{"$f":"入力シート!A798","v":0},{"$f":"入力シート!G798","v":0},{"$f":"入力シート!H798","v":0},{"$f":"IF(入力シート!$J798<>\"\",入力シート!$J798,IF(入力シート!$L798<>\"\",入力シート!$L798,\"‐\"))","v":"‐"},{"$f":"IF(入力シート!$K798<>\"\",入力シート!$K798,IF(入力シート!$M798<>\"\",入力シート!$M798,入力シート!$N798))","v":0},{"$f":"入力シート!I798","v":0},{"$f":"入力シート!O798","v":0},{"$f":"IF(入力シート!P798=\"×\",\"P\",\"PN\")","v":"PN"},{"$f":"計算結果!#REF!","v":{"$error":"#REF!"}},{"$f":"計算結果!#REF!","v":{"$error":"#REF!"}},{"$f":"計算結果!#REF!","v":{"$error":"#REF!"}},{"$f":"計算結果!#REF!","v":{"$error":"#REF!"}},{"$f":"計算結果!#REF!","v":{"$error":"#REF!"}},{"$f":"計算結果!#REF!","v":{"$error":"#REF!"}},{"$f":"計算結果!#REF!","v":{"$error":"#REF!"}},{"$f":"計算結果!#REF!","v":{"$error":"#REF!"}},{"$f":"計算結果!#REF!","v":{"$error":"#REF!"}},{"$f":"計算結果!#REF!","v":{"$error":"#REF!"}}]
[{"$f":"入力シート!A799","v":0},{"$f":"入力シート!G799","v":0},{"$f":"入力シート!H799","v":0},{"$f":"IF(入力シート!$J799<>\"\",入力シート!$J799,IF(入力シート!$L799<>\"\",入力シート!$L799,\"‐\"))","v":"‐"},{"$f":"IF(入力シート!$K799<>\"\",入力シート!$K799,IF(入力シート!$M799<>\"\",入力シート!$M799,入力シート!$N799))","v":0},{"$f":"入力シート!I799","v":0},{"$f":"入力シート!O799","v":0},{"$f":"IF(入力シート!P799=\"×\",\"P\",\"PN\")","v":"PN"},{"$f":"計算結果!#REF!","v":{"$error":"#REF!"}},{"$f":"計算結果!#REF!","v":{"$error":"#REF!"}},{"$f":"計算結果!#REF!","v":{"$error":"#REF!"}},{"$f":"計算結果!#REF!","v":{"$error":"#REF!"}},{"$f":"計算結果!#REF!","v":{"$error":"#REF!"}},{"$f":"計算結果!#REF!","v":{"$error":"#REF!"}},{"$f":"計算結果!#REF!","v":{"$error":"#REF!"}},{"$f":"計算結果!#REF!","v":{"$error":"#REF!"}},{"$f":"計算結果!#REF!","v":{"$error":"#REF!"}},{"$f":"計算結果!#REF!","v":{"$error":"#REF!"}}]
[{"$f":"入力シート!A800","v":0},{"$f":"入力シート!G800","v":0},{"$f":"入力シート!H800","v":0},{"$f":"IF(入力シート!$J800<>\"\",入力シート!$J800,IF(入力シート!$L800<>\"\",入力シート!$L800,\"‐\"))","v":"‐"},{"$f":"IF(入力シート!$K800<>\"\",入力シート!$K800,IF(入力シート!$M800<>\"\",入力シート!$M800,入力シート!$N800))","v":0},{"$f":"入力シート!I800","v":0},{"$f":"入力シート!O800","v":0},{"$f":"IF(入力シート!P800=\"×\",\"P\",\"PN\")","v":"PN"},{"$f":"計算結果!#REF!","v":{"$error":"#REF!"}},{"$f":"計算結果!#REF!","v":{"$error":"#REF!"}},{"$f":"計算結果!#REF!","v":{"$error":"#REF!"}},{"$f":"計算結果!#REF!","v":{"$error":"#REF!"}},{"$f":"計算結果!#REF!","v":{"$error":"#REF!"}},{"$f":"計算結果!#REF!","v":{"$error":"#REF!"}},{"$f":"計算結果!#REF!","v":{"$error":"#REF!"}},{"$f":"計算結果!#REF!","v":{"$error":"#REF!"}},{"$f":"計算結果!#REF!","v":{"$error":"#REF!"}},{"$f":"計算結果!#REF!","v":{"$error":"#REF!"}}]
[{"$f":"入力シート!A801","v":0},{"$f":"入力シート!G801","v":0},{"$f":"入力シート!H801","v":0},{"$f":"IF(入力シート!$J801<>\"\",入力シート!$J801,IF(入力シート!$L801<>\"\",入力シート!$L801,\"‐\"))","v":"‐"},{"$f":"IF(入力シート!$K801<>\"\",入力シート!$K801,IF(入力シート!$M801<>\"\",入力シート!$M801,入力シート!$N801))","v":0},{"$f":"入力シート!I801","v":0},{"$f":"入力シート!O801","v":0},{"$f":"IF(入力シート!P801=\"×\",\"P\",\"PN\")","v":"PN"},{"$f":"計算結果!#REF!","v":{"$error":"#REF!"}},{"$f":"計算結果!#REF!","v":{"$error":"#REF!"}},{"$f":"計算結果!#REF!","v":{"$error":"#REF!"}},{"$f":"計算結果!#REF!","v":{"$error":"#REF!"}},{"$f":"計算結果!#REF!","v":{"$error":"#REF!"}},{"$f":"計算結果!#REF!","v":{"$error":"#REF!"}},{"$f":"計算結果!#REF!","v":{"$error":"#REF!"}},{"$f":"計算結果!#REF!","v":{"$error":"#REF!"}},{"$f":"計算結果!#REF!","v":{"$error":"#REF!"}},{"$f":"計算結果!#REF!","v":{"$error":"#REF!"}}]
[{"$f":"入力シート!A802","v":0},{"$f":"入力シート!G802","v":0},{"$f":"入力シート!H802","v":0},{"$f":"IF(入力シート!$J802<>\"\",入力シート!$J802,IF(入力シート!$L802<>\"\",入力シート!$L802,\"‐\"))","v":"‐"},{"$f":"IF(入力シート!$K802<>\"\",入力シート!$K802,IF(入力シート!$M802<>\"\",入力シート!$M802,入力シート!$N802))","v":0},{"$f":"入力シート!I802","v":0},{"$f":"入力シート!O802","v":0},{"$f":"IF(入力シート!P802=\"×\",\"P\",\"PN\")","v":"PN"},{"$f":"計算結果!#REF!","v":{"$error":"#REF!"}},{"$f":"計算結果!#REF!","v":{"$error":"#REF!"}},{"$f":"計算結果!#REF!","v":{"$error":"#REF!"}},{"$f":"計算結果!#REF!","v":{"$error":"#REF!"}},{"$f":"計算結果!#REF!","v":{"$error":"#REF!"}},{"$f":"計算結果!#REF!","v":{"$error":"#REF!"}},{"$f":"計算結果!#REF!","v":{"$error":"#REF!"}},{"$f":"計算結果!#REF!","v":{"$error":"#REF!"}},{"$f":"計算結果!#REF!","v":{"$error":"#REF!"}},{"$f":"計算結果!#REF!","v":{"$error":"#REF!"}}]
[{"$f":"入力シート!A803","v":0},{"$f":"入力シート!G803","v":0},{"$f":"入力シート!H803","v":0},{"$f":"IF(入力シート!$J803<>\"\",入力シート!$J803,IF(入力シート!$L803<>\"\",入力シート!$L803,\"‐\"))","v":"‐"},{"$f":"IF(入力シート!$K803<>\"\",入力シート!$K803,IF(入力シート!$M803<>\"\",入力シート!$M803,入力シート!$N803))","v":0},{"$f":"入力シート!I803","v":0},{"$f":"入力シート!O803","v":0},{"$f":"IF(入力シート!P803=\"×\",\"P\",\"PN\")","v":"PN"},{"$f":"計算結果!#REF!","v":{"$error":"#REF!"}},{"$f":"計算結果!#REF!","v":{"$error":"#REF!"}},{"$f":"計算結果!#REF!","v":{"$error":"#REF!"}},{"$f":"計算結果!#REF!","v":{"$error":"#REF!"}},{"$f":"計算結果!#REF!","v":{"$error":"#REF!"}},{"$f":"計算結果!#REF!","v":{"$error":"#REF!"}},{"$f":"計算結果!#REF!","v":{"$error":"#REF!"}},{"$f":"計算結果!#REF!","v":{"$error":"#REF!"}},{"$f":"計算結果!#REF!","v":{"$error":"#REF!"}},{"$f":"計算結果!#REF!","v":{"$error":"#REF!"}}]
[{"$f":"入力シート!A804","v":0},{"$f":"入力シート!G804","v":0},{"$f":"入力シート!H804","v":0},{"$f":"IF(入力シート!$J804<>\"\",入力シート!$J804,IF(入力シート!$L804<>\"\",入力シート!$L804,\"‐\"))","v":"‐"},{"$f":"IF(入力シート!$K804<>\"\",入力シート!$K804,IF(入力シート!$M804<>\"\",入力シート!$M804,入力シート!$N804))","v":0},{"$f":"入力シート!I804","v":0},{"$f":"入力シート!O804","v":0},{"$f":"IF(入力シート!P804=\"×\",\"P\",\"PN\")","v":"PN"},{"$f":"計算結果!#REF!","v":{"$error":"#REF!"}},{"$f":"計算結果!#REF!","v":{"$error":"#REF!"}},{"$f":"計算結果!#REF!","v":{"$error":"#REF!"}},{"$f":"計算結果!#REF!","v":{"$error":"#REF!"}},{"$f":"計算結果!#REF!","v":{"$error":"#REF!"}},{"$f":"計算結果!#REF!","v":{"$error":"#REF!"}},{"$f":"計算結果!#REF!","v":{"$error":"#REF!"}},{"$f":"計算結果!#REF!","v":{"$error":"#REF!"}},{"$f":"計算結果!#REF!","v":{"$error":"#REF!"}},{"$f":"計算結果!#REF!","v":{"$error":"#REF!"}}]
[{"$f":"入力シート!A805","v":0},{"$f":"入力シート!G805","v":0},{"$f":"入力シート!H805","v":0},{"$f":"IF(入力シート!$J805<>\"\",入力シート!$J805,IF(入力シート!$L805<>\"\",入力シート!$L805,\"‐\"))","v":"‐"},{"$f":"IF(入力シート!$K805<>\"\",入力シート!$K805,IF(入力シート!$M805<>\"\",入力シート!$M805,入力シート!$N805))","v":0},{"$f":"入力シート!I805","v":0},{"$f":"入力シート!O805","v":0},{"$f":"IF(入力シート!P805=\"×\",\"P\",\"PN\")","v":"PN"},{"$f":"計算結果!#REF!","v":{"$error":"#REF!"}},{"$f":"計算結果!#REF!","v":{"$error":"#REF!"}},{"$f":"計算結果!#REF!","v":{"$error":"#REF!"}},{"$f":"計算結果!#REF!","v":{"$error":"#REF!"}},{"$f":"計算結果!#REF!","v":{"$error":"#REF!"}},{"$f":"計算結果!#REF!","v":{"$error":"#REF!"}},{"$f":"計算結果!#REF!","v":{"$error":"#REF!"}},{"$f":"計算結果!#REF!","v":{"$error":"#REF!"}},{"$f":"計算結果!#REF!","v":{"$error":"#REF!"}},{"$f":"計算結果!#REF!","v":{"$error":"#REF!"}}]
[{"$f":"入力シート!A806","v":0},{"$f":"入力シート!G806","v":0},{"$f":"入力シート!H806","v":0},{"$f":"IF(入力シート!$J806<>\"\",入力シート!$J806,IF(入力シート!$L806<>\"\",入力シート!$L806,\"‐\"))","v":"‐"},{"$f":"IF(入力シート!$K806<>\"\",入力シート!$K806,IF(入力シート!$M806<>\"\",入力シート!$M806,入力シート!$N806))","v":0},{"$f":"入力シート!I806","v":0},{"$f":"入力シート!O806","v":0},{"$f":"IF(入力シート!P806=\"×\",\"P\",\"PN\")","v":"PN"},{"$f":"計算結果!#REF!","v":{"$error":"#REF!"}},{"$f":"計算結果!#REF!","v":{"$error":"#REF!"}},{"$f":"計算結果!#REF!","v":{"$error":"#REF!"}},{"$f":"計算結果!#REF!","v":{"$error":"#REF!"}},{"$f":"計算結果!#REF!","v":{"$error":"#REF!"}},{"$f":"計算結果!#REF!","v":{"$error":"#REF!"}},{"$f":"計算結果!#REF!","v":{"$error":"#REF!"}},{"$f":"計算結果!#REF!","v":{"$error":"#REF!"}},{"$f":"計算結果!#REF!","v":{"$error":"#REF!"}},{"$f":"計算結果!#REF!","v":{"$error":"#REF!"}}]
[{"$f":"入力シート!A807","v":0},{"$f":"入力シート!G807","v":0},{"$f":"入力シート!H807","v":0},{"$f":"IF(入力シート!$J807<>\"\",入力シート!$J807,IF(入力シート!$L807<>\"\",入力シート!$L807,\"‐\"))","v":"‐"},{"$f":"IF(入力シート!$K807<>\"\",入力シート!$K807,IF(入力シート!$M807<>\"\",入力シート!$M807,入力シート!$N807))","v":0},{"$f":"入力シート!I807","v":0},{"$f":"入力シート!O807","v":0},{"$f":"IF(入力シート!P807=\"×\",\"P\",\"PN\")","v":"PN"},{"$f":"計算結果!#REF!","v":{"$error":"#REF!"}},{"$f":"計算結果!#REF!","v":{"$error":"#REF!"}},{"$f":"計算結果!#REF!","v":{"$error":"#REF!"}},{"$f":"計算結果!#REF!","v":{"$error":"#REF!"}},{"$f":"計算結果!#REF!","v":{"$error":"#REF!"}},{"$f":"計算結果!#REF!","v":{"$error":"#REF!"}},{"$f":"計算結果!#REF!","v":{"$error":"#REF!"}},{"$f":"計算結果!#REF!","v":{"$error":"#REF!"}},{"$f":"計算結果!#REF!","v":{"$error":"#REF!"}},{"$f":"計算結果!#REF!","v":{"$error":"#REF!"}}]
[{"$f":"入力シート!A808","v":0},{"$f":"入力シート!G808","v":0},{"$f":"入力シート!H808","v":0},{"$f":"IF(入力シート!$J808<>\"\",入力シート!$J808,IF(入力シート!$L808<>\"\",入力シート!$L808,\"‐\"))","v":"‐"},{"$f":"IF(入力シート!$K808<>\"\",入力シート!$K808,IF(入力シート!$M808<>\"\",入力シート!$M808,入力シート!$N808))","v":0},{"$f":"入力シート!I808","v":0},{"$f":"入力シート!O808","v":0},{"$f":"IF(入力シート!P808=\"×\",\"P\",\"PN\")","v":"PN"},{"$f":"計算結果!#REF!","v":{"$error":"#REF!"}},{"$f":"計算結果!#REF!","v":{"$error":"#REF!"}},{"$f":"計算結果!#REF!","v":{"$error":"#REF!"}},{"$f":"計算結果!#REF!","v":{"$error":"#REF!"}},{"$f":"計算結果!#REF!","v":{"$error":"#REF!"}},{"$f":"計算結果!#REF!","v":{"$error":"#REF!"}},{"$f":"計算結果!#REF!","v":{"$error":"#REF!"}},{"$f":"計算結果!#REF!","v":{"$error":"#REF!"}},{"$f":"計算結果!#REF!","v":{"$error":"#REF!"}},{"$f":"計算結果!#REF!","v":{"$error":"#REF!"}}]
[{"$f":"入力シート!A809","v":0},{"$f":"入力シート!G809","v":0},{"$f":"入力シート!H809","v":0},{"$f":"IF(入力シート!$J809<>\"\",入力シート!$J809,IF(入力シート!$L809<>\"\",入力シート!$L809,\"‐\"))","v":"‐"},{"$f":"IF(入力シート!$K809<>\"\",入力シート!$K809,IF(入力シート!$M809<>\"\",入力シート!$M809,入力シート!$N809))","v":0},{"$f":"入力シート!I809","v":0},{"$f":"入力シート!O809","v":0},{"$f":"IF(入力シート!P809=\"×\",\"P\",\"PN\")","v":"PN"},{"$f":"計算結果!#REF!","v":{"$error":"#REF!"}},{"$f":"計算結果!#REF!","v":{"$error":"#REF!"}},{"$f":"計算結果!#REF!","v":{"$error":"#REF!"}},{"$f":"計算結果!#REF!","v":{"$error":"#REF!"}},{"$f":"計算結果!#REF!","v":{"$error":"#REF!"}},{"$f":"計算結果!#REF!","v":{"$error":"#REF!"}},{"$f":"計算結果!#REF!","v":{"$error":"#REF!"}},{"$f":"計算結果!#REF!","v":{"$error":"#REF!"}},{"$f":"計算結果!#REF!","v":{"$error":"#REF!"}},{"$f":"計算結果!#REF!","v":{"$error":"#REF!"}}]
[{"$f":"入力シート!A810","v":0},{"$f":"入力シート!G810","v":0},{"$f":"入力シート!H810","v":0},{"$f":"IF(入力シート!$J810<>\"\",入力シート!$J810,IF(入力シート!$L810<>\"\",入力シート!$L810,\"‐\"))","v":"‐"},{"$f":"IF(入力シート!$K810<>\"\",入力シート!$K810,IF(入力シート!$M810<>\"\",入力シート!$M810,入力シート!$N810))","v":0},{"$f":"入力シート!I810","v":0},{"$f":"入力シート!O810","v":0},{"$f":"IF(入力シート!P810=\"×\",\"P\",\"PN\")","v":"PN"},{"$f":"計算結果!#REF!","v":{"$error":"#REF!"}},{"$f":"計算結果!#REF!","v":{"$error":"#REF!"}},{"$f":"計算結果!#REF!","v":{"$error":"#REF!"}},{"$f":"計算結果!#REF!","v":{"$error":"#REF!"}},{"$f":"計算結果!#REF!","v":{"$error":"#REF!"}},{"$f":"計算結果!#REF!","v":{"$error":"#REF!"}},{"$f":"計算結果!#REF!","v":{"$error":"#REF!"}},{"$f":"計算結果!#REF!","v":{"$error":"#REF!"}},{"$f":"計算結果!#REF!","v":{"$error":"#REF!"}},{"$f":"計算結果!#REF!","v":{"$error":"#REF!"}}]
[{"$f":"入力シート!A811","v":0},{"$f":"入力シート!G811","v":0},{"$f":"入力シート!H811","v":0},{"$f":"IF(入力シート!$J811<>\"\",入力シート!$J811,IF(入力シート!$L811<>\"\",入力シート!$L811,\"‐\"))","v":"‐"},{"$f":"IF(入力シート!$K811<>\"\",入力シート!$K811,IF(入力シート!$M811<>\"\",入力シート!$M811,入力シート!$N811))","v":0},{"$f":"入力シート!I811","v":0},{"$f":"入力シート!O811","v":0},{"$f":"IF(入力シート!P811=\"×\",\"P\",\"PN\")","v":"PN"},{"$f":"計算結果!#REF!","v":{"$error":"#REF!"}},{"$f":"計算結果!#REF!","v":{"$error":"#REF!"}},{"$f":"計算結果!#REF!","v":{"$error":"#REF!"}},{"$f":"計算結果!#REF!","v":{"$error":"#REF!"}},{"$f":"計算結果!#REF!","v":{"$error":"#REF!"}},{"$f":"計算結果!#REF!","v":{"$error":"#REF!"}},{"$f":"計算結果!#REF!","v":{"$error":"#REF!"}},{"$f":"計算結果!#REF!","v":{"$error":"#REF!"}},{"$f":"計算結果!#REF!","v":{"$error":"#REF!"}},{"$f":"計算結果!#REF!","v":{"$error":"#REF!"}}]
[{"$f":"入力シート!A812","v":0},{"$f":"入力シート!G812","v":0},{"$f":"入力シート!H812","v":0},{"$f":"IF(入力シート!$J812<>\"\",入力シート!$J812,IF(入力シート!$L812<>\"\",入力シート!$L812,\"‐\"))","v":"‐"},{"$f":"IF(入力シート!$K812<>\"\",入力シート!$K812,IF(入力シート!$M812<>\"\",入力シート!$M812,入力シート!$N812))","v":0},{"$f":"入力シート!I812","v":0},{"$f":"入力シート!O812","v":0},{"$f":"IF(入力シート!P812=\"×\",\"P\",\"PN\")","v":"PN"},{"$f":"計算結果!#REF!","v":{"$error":"#REF!"}},{"$f":"計算結果!#REF!","v":{"$error":"#REF!"}},{"$f":"計算結果!#REF!","v":{"$error":"#REF!"}},{"$f":"計算結果!#REF!","v":{"$error":"#REF!"}},{"$f":"計算結果!#REF!","v":{"$error":"#REF!"}},{"$f":"計算結果!#REF!","v":{"$error":"#REF!"}},{"$f":"計算結果!#REF!","v":{"$error":"#REF!"}},{"$f":"計算結果!#REF!","v":{"$error":"#REF!"}},{"$f":"計算結果!#REF!","v":{"$error":"#REF!"}},{"$f":"計算結果!#REF!","v":{"$error":"#REF!"}}]
[{"$f":"入力シート!A813","v":0},{"$f":"入力シート!G813","v":0},{"$f":"入力シート!H813","v":0},{"$f":"IF(入力シート!$J813<>\"\",入力シート!$J813,IF(入力シート!$L813<>\"\",入力シート!$L813,\"‐\"))","v":"‐"},{"$f":"IF(入力シート!$K813<>\"\",入力シート!$K813,IF(入力シート!$M813<>\"\",入力シート!$M813,入力シート!$N813))","v":0},{"$f":"入力シート!I813","v":0},{"$f":"入力シート!O813","v":0},{"$f":"IF(入力シート!P813=\"×\",\"P\",\"PN\")","v":"PN"},{"$f":"計算結果!#REF!","v":{"$error":"#REF!"}},{"$f":"計算結果!#REF!","v":{"$error":"#REF!"}},{"$f":"計算結果!#REF!","v":{"$error":"#REF!"}},{"$f":"計算結果!#REF!","v":{"$error":"#REF!"}},{"$f":"計算結果!#REF!","v":{"$error":"#REF!"}},{"$f":"計算結果!#REF!","v":{"$error":"#REF!"}},{"$f":"計算結果!#REF!","v":{"$error":"#REF!"}},{"$f":"計算結果!#REF!","v":{"$error":"#REF!"}},{"$f":"計算結果!#REF!","v":{"$error":"#REF!"}},{"$f":"計算結果!#REF!","v":{"$error":"#REF!"}}]
[{"$f":"入力シート!A814","v":0},{"$f":"入力シート!G814","v":0},{"$f":"入力シート!H814","v":0},{"$f":"IF(入力シート!$J814<>\"\",入力シート!$J814,IF(入力シート!$L814<>\"\",入力シート!$L814,\"‐\"))","v":"‐"},{"$f":"IF(入力シート!$K814<>\"\",入力シート!$K814,IF(入力シート!$M814<>\"\",入力シート!$M814,入力シート!$N814))","v":0},{"$f":"入力シート!I814","v":0},{"$f":"入力シート!O814","v":0},{"$f":"IF(入力シート!P814=\"×\",\"P\",\"PN\")","v":"PN"},{"$f":"計算結果!#REF!","v":{"$error":"#REF!"}},{"$f":"計算結果!#REF!","v":{"$error":"#REF!"}},{"$f":"計算結果!#REF!","v":{"$error":"#REF!"}},{"$f":"計算結果!#REF!","v":{"$error":"#REF!"}},{"$f":"計算結果!#REF!","v":{"$error":"#REF!"}},{"$f":"計算結果!#REF!","v":{"$error":"#REF!"}},{"$f":"計算結果!#REF!","v":{"$error":"#REF!"}},{"$f":"計算結果!#REF!","v":{"$error":"#REF!"}},{"$f":"計算結果!#REF!","v":{"$error":"#REF!"}},{"$f":"計算結果!#REF!","v":{"$error":"#REF!"}}]
[{"$f":"入力シート!A815","v":0},{"$f":"入力シート!G815","v":0},{"$f":"入力シート!H815","v":0},{"$f":"IF(入力シート!$J815<>\"\",入力シート!$J815,IF(入力シート!$L815<>\"\",入力シート!$L815,\"‐\"))","v":"‐"},{"$f":"IF(入力シート!$K815<>\"\",入力シート!$K815,IF(入力シート!$M815<>\"\",入力シート!$M815,入力シート!$N815))","v":0},{"$f":"入力シート!I815","v":0},{"$f":"入力シート!O815","v":0},{"$f":"IF(入力シート!P815=\"×\",\"P\",\"PN\")","v":"PN"},{"$f":"計算結果!#REF!","v":{"$error":"#REF!"}},{"$f":"計算結果!#REF!","v":{"$error":"#REF!"}},{"$f":"計算結果!#REF!","v":{"$error":"#REF!"}},{"$f":"計算結果!#REF!","v":{"$error":"#REF!"}},{"$f":"計算結果!#REF!","v":{"$error":"#REF!"}},{"$f":"計算結果!#REF!","v":{"$error":"#REF!"}},{"$f":"計算結果!#REF!","v":{"$error":"#REF!"}},{"$f":"計算結果!#REF!","v":{"$error":"#REF!"}},{"$f":"計算結果!#REF!","v":{"$error":"#REF!"}},{"$f":"計算結果!#REF!","v":{"$error":"#REF!"}}]
[{"$f":"入力シート!A816","v":0},{"$f":"入力シート!G816","v":0},{"$f":"入力シート!H816","v":0},{"$f":"IF(入力シート!$J816<>\"\",入力シート!$J816,IF(入力シート!$L816<>\"\",入力シート!$L816,\"‐\"))","v":"‐"},{"$f":"IF(入力シート!$K816<>\"\",入力シート!$K816,IF(入力シート!$M816<>\"\",入力シート!$M816,入力シート!$N816))","v":0},{"$f":"入力シート!I816","v":0},{"$f":"入力シート!O816","v":0},{"$f":"IF(入力シート!P816=\"×\",\"P\",\"PN\")","v":"PN"},{"$f":"計算結果!#REF!","v":{"$error":"#REF!"}},{"$f":"計算結果!#REF!","v":{"$error":"#REF!"}},{"$f":"計算結果!#REF!","v":{"$error":"#REF!"}},{"$f":"計算結果!#REF!","v":{"$error":"#REF!"}},{"$f":"計算結果!#REF!","v":{"$error":"#REF!"}},{"$f":"計算結果!#REF!","v":{"$error":"#REF!"}},{"$f":"計算結果!#REF!","v":{"$error":"#REF!"}},{"$f":"計算結果!#REF!","v":{"$error":"#REF!"}},{"$f":"計算結果!#REF!","v":{"$error":"#REF!"}},{"$f":"計算結果!#REF!","v":{"$error":"#REF!"}}]
[{"$f":"入力シート!A817","v":0},{"$f":"入力シート!G817","v":0},{"$f":"入力シート!H817","v":0},{"$f":"IF(入力シート!$J817<>\"\",入力シート!$J817,IF(入力シート!$L817<>\"\",入力シート!$L817,\"‐\"))","v":"‐"},{"$f":"IF(入力シート!$K817<>\"\",入力シート!$K817,IF(入力シート!$M817<>\"\",入力シート!$M817,入力シート!$N817))","v":0},{"$f":"入力シート!I817","v":0},{"$f":"入力シート!O817","v":0},{"$f":"IF(入力シート!P817=\"×\",\"P\",\"PN\")","v":"PN"},{"$f":"計算結果!#REF!","v":{"$error":"#REF!"}},{"$f":"計算結果!#REF!","v":{"$error":"#REF!"}},{"$f":"計算結果!#REF!","v":{"$error":"#REF!"}},{"$f":"計算結果!#REF!","v":{"$error":"#REF!"}},{"$f":"計算結果!#REF!","v":{"$error":"#REF!"}},{"$f":"計算結果!#REF!","v":{"$error":"#REF!"}},{"$f":"計算結果!#REF!","v":{"$error":"#REF!"}},{"$f":"計算結果!#REF!","v":{"$error":"#REF!"}},{"$f":"計算結果!#REF!","v":{"$error":"#REF!"}},{"$f":"計算結果!#REF!","v":{"$error":"#REF!"}}]
[{"$f":"入力シート!A818","v":0},{"$f":"入力シート!G818","v":0},{"$f":"入力シート!H818","v":0},{"$f":"IF(入力シート!$J818<>\"\",入力シート!$J818,IF(入力シート!$L818<>\"\",入力シート!$L818,\"‐\"))","v":"‐"},{"$f":"IF(入力シート!$K818<>\"\",入力シート!$K818,IF(入力シート!$M818<>\"\",入力シート!$M818,入力シート!$N818))","v":0},{"$f":"入力シート!I818","v":0},{"$f":"入力シート!O818","v":0},{"$f":"IF(入力シート!P818=\"×\",\"P\",\"PN\")","v":"PN"},{"$f":"計算結果!#REF!","v":{"$error":"#REF!"}},{"$f":"計算結果!#REF!","v":{"$error":"#REF!"}},{"$f":"計算結果!#REF!","v":{"$error":"#REF!"}},{"$f":"計算結果!#REF!","v":{"$error":"#REF!"}},{"$f":"計算結果!#REF!","v":{"$error":"#REF!"}},{"$f":"計算結果!#REF!","v":{"$error":"#REF!"}},{"$f":"計算結果!#REF!","v":{"$error":"#REF!"}},{"$f":"計算結果!#REF!","v":{"$error":"#REF!"}},{"$f":"計算結果!#REF!","v":{"$error":"#REF!"}},{"$f":"計算結果!#REF!","v":{"$error":"#REF!"}}]
[{"$f":"入力シート!A819","v":0},{"$f":"入力シート!G819","v":0},{"$f":"入力シート!H819","v":0},{"$f":"IF(入力シート!$J819<>\"\",入力シート!$J819,IF(入力シート!$L819<>\"\",入力シート!$L819,\"‐\"))","v":"‐"},{"$f":"IF(入力シート!$K819<>\"\",入力シート!$K819,IF(入力シート!$M819<>\"\",入力シート!$M819,入力シート!$N819))","v":0},{"$f":"入力シート!I819","v":0},{"$f":"入力シート!O819","v":0},{"$f":"IF(入力シート!P819=\"×\",\"P\",\"PN\")","v":"PN"},{"$f":"計算結果!#REF!","v":{"$error":"#REF!"}},{"$f":"計算結果!#REF!","v":{"$error":"#REF!"}},{"$f":"計算結果!#REF!","v":{"$error":"#REF!"}},{"$f":"計算結果!#REF!","v":{"$error":"#REF!"}},{"$f":"計算結果!#REF!","v":{"$error":"#REF!"}},{"$f":"計算結果!#REF!","v":{"$error":"#REF!"}},{"$f":"計算結果!#REF!","v":{"$error":"#REF!"}},{"$f":"計算結果!#REF!","v":{"$error":"#REF!"}},{"$f":"計算結果!#REF!","v":{"$error":"#REF!"}},{"$f":"計算結果!#REF!","v":{"$error":"#REF!"}}]
[{"$f":"入力シート!A820","v":0},{"$f":"入力シート!G820","v":0},{"$f":"入力シート!H820","v":0},{"$f":"IF(入力シート!$J820<>\"\",入力シート!$J820,IF(入力シート!$L820<>\"\",入力シート!$L820,\"‐\"))","v":"‐"},{"$f":"IF(入力シート!$K820<>\"\",入力シート!$K820,IF(入力シート!$M820<>\"\",入力シート!$M820,入力シート!$N820))","v":0},{"$f":"入力シート!I820","v":0},{"$f":"入力シート!O820","v":0},{"$f":"IF(入力シート!P820=\"×\",\"P\",\"PN\")","v":"PN"},{"$f":"計算結果!#REF!","v":{"$error":"#REF!"}},{"$f":"計算結果!#REF!","v":{"$error":"#REF!"}},{"$f":"計算結果!#REF!","v":{"$error":"#REF!"}},{"$f":"計算結果!#REF!","v":{"$error":"#REF!"}},{"$f":"計算結果!#REF!","v":{"$error":"#REF!"}},{"$f":"計算結果!#REF!","v":{"$error":"#REF!"}},{"$f":"計算結果!#REF!","v":{"$error":"#REF!"}},{"$f":"計算結果!#REF!","v":{"$error":"#REF!"}},{"$f":"計算結果!#REF!","v":{"$error":"#REF!"}},{"$f":"計算結果!#REF!","v":{"$error":"#REF!"}}]
[{"$f":"入力シート!A821","v":0},{"$f":"入力シート!G821","v":0},{"$f":"入力シート!H821","v":0},{"$f":"IF(入力シート!$J821<>\"\",入力シート!$J821,IF(入力シート!$L821<>\"\",入力シート!$L821,\"‐\"))","v":"‐"},{"$f":"IF(入力シート!$K821<>\"\",入力シート!$K821,IF(入力シート!$M821<>\"\",入力シート!$M821,入力シート!$N821))","v":0},{"$f":"入力シート!I821","v":0},{"$f":"入力シート!O821","v":0},{"$f":"IF(入力シート!P821=\"×\",\"P\",\"PN\")","v":"PN"},{"$f":"計算結果!#REF!","v":{"$error":"#REF!"}},{"$f":"計算結果!#REF!","v":{"$error":"#REF!"}},{"$f":"計算結果!#REF!","v":{"$error":"#REF!"}},{"$f":"計算結果!#REF!","v":{"$error":"#REF!"}},{"$f":"計算結果!#REF!","v":{"$error":"#REF!"}},{"$f":"計算結果!#REF!","v":{"$error":"#REF!"}},{"$f":"計算結果!#REF!","v":{"$error":"#REF!"}},{"$f":"計算結果!#REF!","v":{"$error":"#REF!"}},{"$f":"計算結果!#REF!","v":{"$error":"#REF!"}},{"$f":"計算結果!#REF!","v":{"$error":"#REF!"}}]
[{"$f":"入力シート!A822","v":0},{"$f":"入力シート!G822","v":0},{"$f":"入力シート!H822","v":0},{"$f":"IF(入力シート!$J822<>\"\",入力シート!$J822,IF(入力シート!$L822<>\"\",入力シート!$L822,\"‐\"))","v":"‐"},{"$f":"IF(入力シート!$K822<>\"\",入力シート!$K822,IF(入力シート!$M822<>\"\",入力シート!$M822,入力シート!$N822))","v":0},{"$f":"入力シート!I822","v":0},{"$f":"入力シート!O822","v":0},{"$f":"IF(入力シート!P822=\"×\",\"P\",\"PN\")","v":"PN"},{"$f":"計算結果!#REF!","v":{"$error":"#REF!"}},{"$f":"計算結果!#REF!","v":{"$error":"#REF!"}},{"$f":"計算結果!#REF!","v":{"$error":"#REF!"}},{"$f":"計算結果!#REF!","v":{"$error":"#REF!"}},{"$f":"計算結果!#REF!","v":{"$error":"#REF!"}},{"$f":"計算結果!#REF!","v":{"$error":"#REF!"}},{"$f":"計算結果!#REF!","v":{"$error":"#REF!"}},{"$f":"計算結果!#REF!","v":{"$error":"#REF!"}},{"$f":"計算結果!#REF!","v":{"$error":"#REF!"}},{"$f":"計算結果!#REF!","v":{"$error":"#REF!"}}]
[{"$f":"入力シート!A823","v":0},{"$f":"入力シート!G823","v":0},{"$f":"入力シート!H823","v":0},{"$f":"IF(入力シート!$J823<>\"\",入力シート!$J823,IF(入力シート!$L823<>\"\",入力シート!$L823,\"‐\"))","v":"‐"},{"$f":"IF(入力シート!$K823<>\"\",入力シート!$K823,IF(入力シート!$M823<>\"\",入力シート!$M823,入力シート!$N823))","v":0},{"$f":"入力シート!I823","v":0},{"$f":"入力シート!O823","v":0},{"$f":"IF(入力シート!P823=\"×\",\"P\",\"PN\")","v":"PN"},{"$f":"計算結果!#REF!","v":{"$error":"#REF!"}},{"$f":"計算結果!#REF!","v":{"$error":"#REF!"}},{"$f":"計算結果!#REF!","v":{"$error":"#REF!"}},{"$f":"計算結果!#REF!","v":{"$error":"#REF!"}},{"$f":"計算結果!#REF!","v":{"$error":"#REF!"}},{"$f":"計算結果!#REF!","v":{"$error":"#REF!"}},{"$f":"計算結果!#REF!","v":{"$error":"#REF!"}},{"$f":"計算結果!#REF!","v":{"$error":"#REF!"}},{"$f":"計算結果!#REF!","v":{"$error":"#REF!"}},{"$f":"計算結果!#REF!","v":{"$error":"#REF!"}}]
[{"$f":"入力シート!A824","v":0},{"$f":"入力シート!G824","v":0},{"$f":"入力シート!H824","v":0},{"$f":"IF(入力シート!$J824<>\"\",入力シート!$J824,IF(入力シート!$L824<>\"\",入力シート!$L824,\"‐\"))","v":"‐"},{"$f":"IF(入力シート!$K824<>\"\",入力シート!$K824,IF(入力シート!$M824<>\"\",入力シート!$M824,入力シート!$N824))","v":0},{"$f":"入力シート!I824","v":0},{"$f":"入力シート!O824","v":0},{"$f":"IF(入力シート!P824=\"×\",\"P\",\"PN\")","v":"PN"},{"$f":"計算結果!#REF!","v":{"$error":"#REF!"}},{"$f":"計算結果!#REF!","v":{"$error":"#REF!"}},{"$f":"計算結果!#REF!","v":{"$error":"#REF!"}},{"$f":"計算結果!#REF!","v":{"$error":"#REF!"}},{"$f":"計算結果!#REF!","v":{"$error":"#REF!"}},{"$f":"計算結果!#REF!","v":{"$error":"#REF!"}},{"$f":"計算結果!#REF!","v":{"$error":"#REF!"}},{"$f":"計算結果!#REF!","v":{"$error":"#REF!"}},{"$f":"計算結果!#REF!","v":{"$error":"#REF!"}},{"$f":"計算結果!#REF!","v":{"$error":"#REF!"}}]
[{"$f":"入力シート!A825","v":0},{"$f":"入力シート!G825","v":0},{"$f":"入力シート!H825","v":0},{"$f":"IF(入力シート!$J825<>\"\",入力シート!$J825,IF(入力シート!$L825<>\"\",入力シート!$L825,\"‐\"))","v":"‐"},{"$f":"IF(入力シート!$K825<>\"\",入力シート!$K825,IF(入力シート!$M825<>\"\",入力シート!$M825,入力シート!$N825))","v":0},{"$f":"入力シート!I825","v":0},{"$f":"入力シート!O825","v":0},{"$f":"IF(入力シート!P825=\"×\",\"P\",\"PN\")","v":"PN"},{"$f":"計算結果!#REF!","v":{"$error":"#REF!"}},{"$f":"計算結果!#REF!","v":{"$error":"#REF!"}},{"$f":"計算結果!#REF!","v":{"$error":"#REF!"}},{"$f":"計算結果!#REF!","v":{"$error":"#REF!"}},{"$f":"計算結果!#REF!","v":{"$error":"#REF!"}},{"$f":"計算結果!#REF!","v":{"$error":"#REF!"}},{"$f":"計算結果!#REF!","v":{"$error":"#REF!"}},{"$f":"計算結果!#REF!","v":{"$error":"#REF!"}},{"$f":"計算結果!#REF!","v":{"$error":"#REF!"}},{"$f":"計算結果!#REF!","v":{"$error":"#REF!"}}]
[{"$f":"入力シート!A826","v":0},{"$f":"入力シート!G826","v":0},{"$f":"入力シート!H826","v":0},{"$f":"IF(入力シート!$J826<>\"\",入力シート!$J826,IF(入力シート!$L826<>\"\",入力シート!$L826,\"‐\"))","v":"‐"},{"$f":"IF(入力シート!$K826<>\"\",入力シート!$K826,IF(入力シート!$M826<>\"\",入力シート!$M826,入力シート!$N826))","v":0},{"$f":"入力シート!I826","v":0},{"$f":"入力シート!O826","v":0},{"$f":"IF(入力シート!P826=\"×\",\"P\",\"PN\")","v":"PN"},{"$f":"計算結果!#REF!","v":{"$error":"#REF!"}},{"$f":"計算結果!#REF!","v":{"$error":"#REF!"}},{"$f":"計算結果!#REF!","v":{"$error":"#REF!"}},{"$f":"計算結果!#REF!","v":{"$error":"#REF!"}},{"$f":"計算結果!#REF!","v":{"$error":"#REF!"}},{"$f":"計算結果!#REF!","v":{"$error":"#REF!"}},{"$f":"計算結果!#REF!","v":{"$error":"#REF!"}},{"$f":"計算結果!#REF!","v":{"$error":"#REF!"}},{"$f":"計算結果!#REF!","v":{"$error":"#REF!"}},{"$f":"計算結果!#REF!","v":{"$error":"#REF!"}}]
[{"$f":"入力シート!A827","v":0},{"$f":"入力シート!G827","v":0},{"$f":"入力シート!H827","v":0},{"$f":"IF(入力シート!$J827<>\"\",入力シート!$J827,IF(入力シート!$L827<>\"\",入力シート!$L827,\"‐\"))","v":"‐"},{"$f":"IF(入力シート!$K827<>\"\",入力シート!$K827,IF(入力シート!$M827<>\"\",入力シート!$M827,入力シート!$N827))","v":0},{"$f":"入力シート!I827","v":0},{"$f":"入力シート!O827","v":0},{"$f":"IF(入力シート!P827=\"×\",\"P\",\"PN\")","v":"PN"},{"$f":"計算結果!#REF!","v":{"$error":"#REF!"}},{"$f":"計算結果!#REF!","v":{"$error":"#REF!"}},{"$f":"計算結果!#REF!","v":{"$error":"#REF!"}},{"$f":"計算結果!#REF!","v":{"$error":"#REF!"}},{"$f":"計算結果!#REF!","v":{"$error":"#REF!"}},{"$f":"計算結果!#REF!","v":{"$error":"#REF!"}},{"$f":"計算結果!#REF!","v":{"$error":"#REF!"}},{"$f":"計算結果!#REF!","v":{"$error":"#REF!"}},{"$f":"計算結果!#REF!","v":{"$error":"#REF!"}},{"$f":"計算結果!#REF!","v":{"$error":"#REF!"}}]
[{"$f":"入力シート!A828","v":0},{"$f":"入力シート!G828","v":0},{"$f":"入力シート!H828","v":0},{"$f":"IF(入力シート!$J828<>\"\",入力シート!$J828,IF(入力シート!$L828<>\"\",入力シート!$L828,\"‐\"))","v":"‐"},{"$f":"IF(入力シート!$K828<>\"\",入力シート!$K828,IF(入力シート!$M828<>\"\",入力シート!$M828,入力シート!$N828))","v":0},{"$f":"入力シート!I828","v":0},{"$f":"入力シート!O828","v":0},{"$f":"IF(入力シート!P828=\"×\",\"P\",\"PN\")","v":"PN"},{"$f":"計算結果!#REF!","v":{"$error":"#REF!"}},{"$f":"計算結果!#REF!","v":{"$error":"#REF!"}},{"$f":"計算結果!#REF!","v":{"$error":"#REF!"}},{"$f":"計算結果!#REF!","v":{"$error":"#REF!"}},{"$f":"計算結果!#REF!","v":{"$error":"#REF!"}},{"$f":"計算結果!#REF!","v":{"$error":"#REF!"}},{"$f":"計算結果!#REF!","v":{"$error":"#REF!"}},{"$f":"計算結果!#REF!","v":{"$error":"#REF!"}},{"$f":"計算結果!#REF!","v":{"$error":"#REF!"}},{"$f":"計算結果!#REF!","v":{"$error":"#REF!"}}]
[{"$f":"入力シート!A829","v":0},{"$f":"入力シート!G829","v":0},{"$f":"入力シート!H829","v":0},{"$f":"IF(入力シート!$J829<>\"\",入力シート!$J829,IF(入力シート!$L829<>\"\",入力シート!$L829,\"‐\"))","v":"‐"},{"$f":"IF(入力シート!$K829<>\"\",入力シート!$K829,IF(入力シート!$M829<>\"\",入力シート!$M829,入力シート!$N829))","v":0},{"$f":"入力シート!I829","v":0},{"$f":"入力シート!O829","v":0},{"$f":"IF(入力シート!P829=\"×\",\"P\",\"PN\")","v":"PN"},{"$f":"計算結果!#REF!","v":{"$error":"#REF!"}},{"$f":"計算結果!#REF!","v":{"$error":"#REF!"}},{"$f":"計算結果!#REF!","v":{"$error":"#REF!"}},{"$f":"計算結果!#REF!","v":{"$error":"#REF!"}},{"$f":"計算結果!#REF!","v":{"$error":"#REF!"}},{"$f":"計算結果!#REF!","v":{"$error":"#REF!"}},{"$f":"計算結果!#REF!","v":{"$error":"#REF!"}},{"$f":"計算結果!#REF!","v":{"$error":"#REF!"}},{"$f":"計算結果!#REF!","v":{"$error":"#REF!"}},{"$f":"計算結果!#REF!","v":{"$error":"#REF!"}}]
[{"$f":"入力シート!A830","v":0},{"$f":"入力シート!G830","v":0},{"$f":"入力シート!H830","v":0},{"$f":"IF(入力シート!$J830<>\"\",入力シート!$J830,IF(入力シート!$L830<>\"\",入力シート!$L830,\"‐\"))","v":"‐"},{"$f":"IF(入力シート!$K830<>\"\",入力シート!$K830,IF(入力シート!$M830<>\"\",入力シート!$M830,入力シート!$N830))","v":0},{"$f":"入力シート!I830","v":0},{"$f":"入力シート!O830","v":0},{"$f":"IF(入力シート!P830=\"×\",\"P\",\"PN\")","v":"PN"},{"$f":"計算結果!#REF!","v":{"$error":"#REF!"}},{"$f":"計算結果!#REF!","v":{"$error":"#REF!"}},{"$f":"計算結果!#REF!","v":{"$error":"#REF!"}},{"$f":"計算結果!#REF!","v":{"$error":"#REF!"}},{"$f":"計算結果!#REF!","v":{"$error":"#REF!"}},{"$f":"計算結果!#REF!","v":{"$error":"#REF!"}},{"$f":"計算結果!#REF!","v":{"$error":"#REF!"}},{"$f":"計算結果!#REF!","v":{"$error":"#REF!"}},{"$f":"計算結果!#REF!","v":{"$error":"#REF!"}},{"$f":"計算結果!#REF!","v":{"$error":"#REF!"}}]
[{"$f":"入力シート!A831","v":0},{"$f":"入力シート!G831","v":0},{"$f":"入力シート!H831","v":0},{"$f":"IF(入力シート!$J831<>\"\",入力シート!$J831,IF(入力シート!$L831<>\"\",入力シート!$L831,\"‐\"))","v":"‐"},{"$f":"IF(入力シート!$K831<>\"\",入力シート!$K831,IF(入力シート!$M831<>\"\",入力シート!$M831,入力シート!$N831))","v":0},{"$f":"入力シート!I831","v":0},{"$f":"入力シート!O831","v":0},{"$f":"IF(入力シート!P831=\"×\",\"P\",\"PN\")","v":"PN"},{"$f":"計算結果!#REF!","v":{"$error":"#REF!"}},{"$f":"計算結果!#REF!","v":{"$error":"#REF!"}},{"$f":"計算結果!#REF!","v":{"$error":"#REF!"}},{"$f":"計算結果!#REF!","v":{"$error":"#REF!"}},{"$f":"計算結果!#REF!","v":{"$error":"#REF!"}},{"$f":"計算結果!#REF!","v":{"$error":"#REF!"}},{"$f":"計算結果!#REF!","v":{"$error":"#REF!"}},{"$f":"計算結果!#REF!","v":{"$error":"#REF!"}},{"$f":"計算結果!#REF!","v":{"$error":"#REF!"}},{"$f":"計算結果!#REF!","v":{"$error":"#REF!"}}]
[{"$f":"入力シート!A832","v":0},{"$f":"入力シート!G832","v":0},{"$f":"入力シート!H832","v":0},{"$f":"IF(入力シート!$J832<>\"\",入力シート!$J832,IF(入力シート!$L832<>\"\",入力シート!$L832,\"‐\"))","v":"‐"},{"$f":"IF(入力シート!$K832<>\"\",入力シート!$K832,IF(入力シート!$M832<>\"\",入力シート!$M832,入力シート!$N832))","v":0},{"$f":"入力シート!I832","v":0},{"$f":"入力シート!O832","v":0},{"$f":"IF(入力シート!P832=\"×\",\"P\",\"PN\")","v":"PN"},{"$f":"計算結果!#REF!","v":{"$error":"#REF!"}},{"$f":"計算結果!#REF!","v":{"$error":"#REF!"}},{"$f":"計算結果!#REF!","v":{"$error":"#REF!"}},{"$f":"計算結果!#REF!","v":{"$error":"#REF!"}},{"$f":"計算結果!#REF!","v":{"$error":"#REF!"}},{"$f":"計算結果!#REF!","v":{"$error":"#REF!"}},{"$f":"計算結果!#REF!","v":{"$error":"#REF!"}},{"$f":"計算結果!#REF!","v":{"$error":"#REF!"}},{"$f":"計算結果!#REF!","v":{"$error":"#REF!"}},{"$f":"計算結果!#REF!","v":{"$error":"#REF!"}}]
[{"$f":"入力シート!A833","v":0},{"$f":"入力シート!G833","v":0},{"$f":"入力シート!H833","v":0},{"$f":"IF(入力シート!$J833<>\"\",入力シート!$J833,IF(入力シート!$L833<>\"\",入力シート!$L833,\"‐\"))","v":"‐"},{"$f":"IF(入力シート!$K833<>\"\",入力シート!$K833,IF(入力シート!$M833<>\"\",入力シート!$M833,入力シート!$N833))","v":0},{"$f":"入力シート!I833","v":0},{"$f":"入力シート!O833","v":0},{"$f":"IF(入力シート!P833=\"×\",\"P\",\"PN\")","v":"PN"},{"$f":"計算結果!#REF!","v":{"$error":"#REF!"}},{"$f":"計算結果!#REF!","v":{"$error":"#REF!"}},{"$f":"計算結果!#REF!","v":{"$error":"#REF!"}},{"$f":"計算結果!#REF!","v":{"$error":"#REF!"}},{"$f":"計算結果!#REF!","v":{"$error":"#REF!"}},{"$f":"計算結果!#REF!","v":{"$error":"#REF!"}},{"$f":"計算結果!#REF!","v":{"$error":"#REF!"}},{"$f":"計算結果!#REF!","v":{"$error":"#REF!"}},{"$f":"計算結果!#REF!","v":{"$error":"#REF!"}},{"$f":"計算結果!#REF!","v":{"$error":"#REF!"}}]
[{"$f":"入力シート!A834","v":0},{"$f":"入力シート!G834","v":0},{"$f":"入力シート!H834","v":0},{"$f":"IF(入力シート!$J834<>\"\",入力シート!$J834,IF(入力シート!$L834<>\"\",入力シート!$L834,\"‐\"))","v":"‐"},{"$f":"IF(入力シート!$K834<>\"\",入力シート!$K834,IF(入力シート!$M834<>\"\",入力シート!$M834,入力シート!$N834))","v":0},{"$f":"入力シート!I834","v":0},{"$f":"入力シート!O834","v":0},{"$f":"IF(入力シート!P834=\"×\",\"P\",\"PN\")","v":"PN"},{"$f":"計算結果!#REF!","v":{"$error":"#REF!"}},{"$f":"計算結果!#REF!","v":{"$error":"#REF!"}},{"$f":"計算結果!#REF!","v":{"$error":"#REF!"}},{"$f":"計算結果!#REF!","v":{"$error":"#REF!"}},{"$f":"計算結果!#REF!","v":{"$error":"#REF!"}},{"$f":"計算結果!#REF!","v":{"$error":"#REF!"}},{"$f":"計算結果!#REF!","v":{"$error":"#REF!"}},{"$f":"計算結果!#REF!","v":{"$error":"#REF!"}},{"$f":"計算結果!#REF!","v":{"$error":"#REF!"}},{"$f":"計算結果!#REF!","v":{"$error":"#REF!"}}]
[{"$f":"入力シート!A835","v":0},{"$f":"入力シート!G835","v":0},{"$f":"入力シート!H835","v":0},{"$f":"IF(入力シート!$J835<>\"\",入力シート!$J835,IF(入力シート!$L835<>\"\",入力シート!$L835,\"‐\"))","v":"‐"},{"$f":"IF(入力シート!$K835<>\"\",入力シート!$K835,IF(入力シート!$M835<>\"\",入力シート!$M835,入力シート!$N835))","v":0},{"$f":"入力シート!I835","v":0},{"$f":"入力シート!O835","v":0},{"$f":"IF(入力シート!P835=\"×\",\"P\",\"PN\")","v":"PN"},{"$f":"計算結果!#REF!","v":{"$error":"#REF!"}},{"$f":"計算結果!#REF!","v":{"$error":"#REF!"}},{"$f":"計算結果!#REF!","v":{"$error":"#REF!"}},{"$f":"計算結果!#REF!","v":{"$error":"#REF!"}},{"$f":"計算結果!#REF!","v":{"$error":"#REF!"}},{"$f":"計算結果!#REF!","v":{"$error":"#REF!"}},{"$f":"計算結果!#REF!","v":{"$error":"#REF!"}},{"$f":"計算結果!#REF!","v":{"$error":"#REF!"}},{"$f":"計算結果!#REF!","v":{"$error":"#REF!"}},{"$f":"計算結果!#REF!","v":{"$error":"#REF!"}}]
[{"$f":"入力シート!A836","v":0},{"$f":"入力シート!G836","v":0},{"$f":"入力シート!H836","v":0},{"$f":"IF(入力シート!$J836<>\"\",入力シート!$J836,IF(入力シート!$L836<>\"\",入力シート!$L836,\"‐\"))","v":"‐"},{"$f":"IF(入力シート!$K836<>\"\",入力シート!$K836,IF(入力シート!$M836<>\"\",入力シート!$M836,入力シート!$N836))","v":0},{"$f":"入力シート!I836","v":0},{"$f":"入力シート!O836","v":0},{"$f":"IF(入力シート!P836=\"×\",\"P\",\"PN\")","v":"PN"},{"$f":"計算結果!#REF!","v":{"$error":"#REF!"}},{"$f":"計算結果!#REF!","v":{"$error":"#REF!"}},{"$f":"計算結果!#REF!","v":{"$error":"#REF!"}},{"$f":"計算結果!#REF!","v":{"$error":"#REF!"}},{"$f":"計算結果!#REF!","v":{"$error":"#REF!"}},{"$f":"計算結果!#REF!","v":{"$error":"#REF!"}},{"$f":"計算結果!#REF!","v":{"$error":"#REF!"}},{"$f":"計算結果!#REF!","v":{"$error":"#REF!"}},{"$f":"計算結果!#REF!","v":{"$error":"#REF!"}},{"$f":"計算結果!#REF!","v":{"$error":"#REF!"}}]
[{"$f":"入力シート!A837","v":0},{"$f":"入力シート!G837","v":0},{"$f":"入力シート!H837","v":0},{"$f":"IF(入力シート!$J837<>\"\",入力シート!$J837,IF(入力シート!$L837<>\"\",入力シート!$L837,\"‐\"))","v":"‐"},{"$f":"IF(入力シート!$K837<>\"\",入力シート!$K837,IF(入力シート!$M837<>\"\",入力シート!$M837,入力シート!$N837))","v":0},{"$f":"入力シート!I837","v":0},{"$f":"入力シート!O837","v":0},{"$f":"IF(入力シート!P837=\"×\",\"P\",\"PN\")","v":"PN"},{"$f":"計算結果!#REF!","v":{"$error":"#REF!"}},{"$f":"計算結果!#REF!","v":{"$error":"#REF!"}},{"$f":"計算結果!#REF!","v":{"$error":"#REF!"}},{"$f":"計算結果!#REF!","v":{"$error":"#REF!"}},{"$f":"計算結果!#REF!","v":{"$error":"#REF!"}},{"$f":"計算結果!#REF!","v":{"$error":"#REF!"}},{"$f":"計算結果!#REF!","v":{"$error":"#REF!"}},{"$f":"計算結果!#REF!","v":{"$error":"#REF!"}},{"$f":"計算結果!#REF!","v":{"$error":"#REF!"}},{"$f":"計算結果!#REF!","v":{"$error":"#REF!"}}]
[{"$f":"入力シート!A838","v":0},{"$f":"入力シート!G838","v":0},{"$f":"入力シート!H838","v":0},{"$f":"IF(入力シート!$J838<>\"\",入力シート!$J838,IF(入力シート!$L838<>\"\",入力シート!$L838,\"‐\"))","v":"‐"},{"$f":"IF(入力シート!$K838<>\"\",入力シート!$K838,IF(入力シート!$M838<>\"\",入力シート!$M838,入力シート!$N838))","v":0},{"$f":"入力シート!I838","v":0},{"$f":"入力シート!O838","v":0},{"$f":"IF(入力シート!P838=\"×\",\"P\",\"PN\")","v":"PN"},{"$f":"計算結果!#REF!","v":{"$error":"#REF!"}},{"$f":"計算結果!#REF!","v":{"$error":"#REF!"}},{"$f":"計算結果!#REF!","v":{"$error":"#REF!"}},{"$f":"計算結果!#REF!","v":{"$error":"#REF!"}},{"$f":"計算結果!#REF!","v":{"$error":"#REF!"}},{"$f":"計算結果!#REF!","v":{"$error":"#REF!"}},{"$f":"計算結果!#REF!","v":{"$error":"#REF!"}},{"$f":"計算結果!#REF!","v":{"$error":"#REF!"}},{"$f":"計算結果!#REF!","v":{"$error":"#REF!"}},{"$f":"計算結果!#REF!","v":{"$error":"#REF!"}}]
[{"$f":"入力シート!A839","v":0},{"$f":"入力シート!G839","v":0},{"$f":"入力シート!H839","v":0},{"$f":"IF(入力シート!$J839<>\"\",入力シート!$J839,IF(入力シート!$L839<>\"\",入力シート!$L839,\"‐\"))","v":"‐"},{"$f":"IF(入力シート!$K839<>\"\",入力シート!$K839,IF(入力シート!$M839<>\"\",入力シート!$M839,入力シート!$N839))","v":0},{"$f":"入力シート!I839","v":0},{"$f":"入力シート!O839","v":0},{"$f":"IF(入力シート!P839=\"×\",\"P\",\"PN\")","v":"PN"},{"$f":"計算結果!#REF!","v":{"$error":"#REF!"}},{"$f":"計算結果!#REF!","v":{"$error":"#REF!"}},{"$f":"計算結果!#REF!","v":{"$error":"#REF!"}},{"$f":"計算結果!#REF!","v":{"$error":"#REF!"}},{"$f":"計算結果!#REF!","v":{"$error":"#REF!"}},{"$f":"計算結果!#REF!","v":{"$error":"#REF!"}},{"$f":"計算結果!#REF!","v":{"$error":"#REF!"}},{"$f":"計算結果!#REF!","v":{"$error":"#REF!"}},{"$f":"計算結果!#REF!","v":{"$error":"#REF!"}},{"$f":"計算結果!#REF!","v":{"$error":"#REF!"}}]
[{"$f":"入力シート!A840","v":0},{"$f":"入力シート!G840","v":0},{"$f":"入力シート!H840","v":0},{"$f":"IF(入力シート!$J840<>\"\",入力シート!$J840,IF(入力シート!$L840<>\"\",入力シート!$L840,\"‐\"))","v":"‐"},{"$f":"IF(入力シート!$K840<>\"\",入力シート!$K840,IF(入力シート!$M840<>\"\",入力シート!$M840,入力シート!$N840))","v":0},{"$f":"入力シート!I840","v":0},{"$f":"入力シート!O840","v":0},{"$f":"IF(入力シート!P840=\"×\",\"P\",\"PN\")","v":"PN"},{"$f":"計算結果!#REF!","v":{"$error":"#REF!"}},{"$f":"計算結果!#REF!","v":{"$error":"#REF!"}},{"$f":"計算結果!#REF!","v":{"$error":"#REF!"}},{"$f":"計算結果!#REF!","v":{"$error":"#REF!"}},{"$f":"計算結果!#REF!","v":{"$error":"#REF!"}},{"$f":"計算結果!#REF!","v":{"$error":"#REF!"}},{"$f":"計算結果!#REF!","v":{"$error":"#REF!"}},{"$f":"計算結果!#REF!","v":{"$error":"#REF!"}},{"$f":"計算結果!#REF!","v":{"$error":"#REF!"}},{"$f":"計算結果!#REF!","v":{"$error":"#REF!"}}]
[{"$f":"入力シート!A841","v":0},{"$f":"入力シート!G841","v":0},{"$f":"入力シート!H841","v":0},{"$f":"IF(入力シート!$J841<>\"\",入力シート!$J841,IF(入力シート!$L841<>\"\",入力シート!$L841,\"‐\"))","v":"‐"},{"$f":"IF(入力シート!$K841<>\"\",入力シート!$K841,IF(入力シート!$M841<>\"\",入力シート!$M841,入力シート!$N841))","v":0},{"$f":"入力シート!I841","v":0},{"$f":"入力シート!O841","v":0},{"$f":"IF(入力シート!P841=\"×\",\"P\",\"PN\")","v":"PN"},{"$f":"計算結果!#REF!","v":{"$error":"#REF!"}},{"$f":"計算結果!#REF!","v":{"$error":"#REF!"}},{"$f":"計算結果!#REF!","v":{"$error":"#REF!"}},{"$f":"計算結果!#REF!","v":{"$error":"#REF!"}},{"$f":"計算結果!#REF!","v":{"$error":"#REF!"}},{"$f":"計算結果!#REF!","v":{"$error":"#REF!"}},{"$f":"計算結果!#REF!","v":{"$error":"#REF!"}},{"$f":"計算結果!#REF!","v":{"$error":"#REF!"}},{"$f":"計算結果!#REF!","v":{"$error":"#REF!"}},{"$f":"計算結果!#REF!","v":{"$error":"#REF!"}}]
[{"$f":"入力シート!A842","v":0},{"$f":"入力シート!G842","v":0},{"$f":"入力シート!H842","v":0},{"$f":"IF(入力シート!$J842<>\"\",入力シート!$J842,IF(入力シート!$L842<>\"\",入力シート!$L842,\"‐\"))","v":"‐"},{"$f":"IF(入力シート!$K842<>\"\",入力シート!$K842,IF(入力シート!$M842<>\"\",入力シート!$M842,入力シート!$N842))","v":0},{"$f":"入力シート!I842","v":0},{"$f":"入力シート!O842","v":0},{"$f":"IF(入力シート!P842=\"×\",\"P\",\"PN\")","v":"PN"},{"$f":"計算結果!#REF!","v":{"$error":"#REF!"}},{"$f":"計算結果!#REF!","v":{"$error":"#REF!"}},{"$f":"計算結果!#REF!","v":{"$error":"#REF!"}},{"$f":"計算結果!#REF!","v":{"$error":"#REF!"}},{"$f":"計算結果!#REF!","v":{"$error":"#REF!"}},{"$f":"計算結果!#REF!","v":{"$error":"#REF!"}},{"$f":"計算結果!#REF!","v":{"$error":"#REF!"}},{"$f":"計算結果!#REF!","v":{"$error":"#REF!"}},{"$f":"計算結果!#REF!","v":{"$error":"#REF!"}},{"$f":"計算結果!#REF!","v":{"$error":"#REF!"}}]
[{"$f":"入力シート!A843","v":0},{"$f":"入力シート!G843","v":0},{"$f":"入力シート!H843","v":0},{"$f":"IF(入力シート!$J843<>\"\",入力シート!$J843,IF(入力シート!$L843<>\"\",入力シート!$L843,\"‐\"))","v":"‐"},{"$f":"IF(入力シート!$K843<>\"\",入力シート!$K843,IF(入力シート!$M843<>\"\",入力シート!$M843,入力シート!$N843))","v":0},{"$f":"入力シート!I843","v":0},{"$f":"入力シート!O843","v":0},{"$f":"IF(入力シート!P843=\"×\",\"P\",\"PN\")","v":"PN"},{"$f":"計算結果!#REF!","v":{"$error":"#REF!"}},{"$f":"計算結果!#REF!","v":{"$error":"#REF!"}},{"$f":"計算結果!#REF!","v":{"$error":"#REF!"}},{"$f":"計算結果!#REF!","v":{"$error":"#REF!"}},{"$f":"計算結果!#REF!","v":{"$error":"#REF!"}},{"$f":"計算結果!#REF!","v":{"$error":"#REF!"}},{"$f":"計算結果!#REF!","v":{"$error":"#REF!"}},{"$f":"計算結果!#REF!","v":{"$error":"#REF!"}},{"$f":"計算結果!#REF!","v":{"$error":"#REF!"}},{"$f":"計算結果!#REF!","v":{"$error":"#REF!"}}]
[{"$f":"入力シート!A844","v":0},{"$f":"入力シート!G844","v":0},{"$f":"入力シート!H844","v":0},{"$f":"IF(入力シート!$J844<>\"\",入力シート!$J844,IF(入力シート!$L844<>\"\",入力シート!$L844,\"‐\"))","v":"‐"},{"$f":"IF(入力シート!$K844<>\"\",入力シート!$K844,IF(入力シート!$M844<>\"\",入力シート!$M844,入力シート!$N844))","v":0},{"$f":"入力シート!I844","v":0},{"$f":"入力シート!O844","v":0},{"$f":"IF(入力シート!P844=\"×\",\"P\",\"PN\")","v":"PN"},{"$f":"計算結果!#REF!","v":{"$error":"#REF!"}},{"$f":"計算結果!#REF!","v":{"$error":"#REF!"}},{"$f":"計算結果!#REF!","v":{"$error":"#REF!"}},{"$f":"計算結果!#REF!","v":{"$error":"#REF!"}},{"$f":"計算結果!#REF!","v":{"$error":"#REF!"}},{"$f":"計算結果!#REF!","v":{"$error":"#REF!"}},{"$f":"計算結果!#REF!","v":{"$error":"#REF!"}},{"$f":"計算結果!#REF!","v":{"$error":"#REF!"}},{"$f":"計算結果!#REF!","v":{"$error":"#REF!"}},{"$f":"計算結果!#REF!","v":{"$error":"#REF!"}}]
[{"$f":"入力シート!A845","v":0},{"$f":"入力シート!G845","v":0},{"$f":"入力シート!H845","v":0},{"$f":"IF(入力シート!$J845<>\"\",入力シート!$J845,IF(入力シート!$L845<>\"\",入力シート!$L845,\"‐\"))","v":"‐"},{"$f":"IF(入力シート!$K845<>\"\",入力シート!$K845,IF(入力シート!$M845<>\"\",入力シート!$M845,入力シート!$N845))","v":0},{"$f":"入力シート!I845","v":0},{"$f":"入力シート!O845","v":0},{"$f":"IF(入力シート!P845=\"×\",\"P\",\"PN\")","v":"PN"},{"$f":"計算結果!#REF!","v":{"$error":"#REF!"}},{"$f":"計算結果!#REF!","v":{"$error":"#REF!"}},{"$f":"計算結果!#REF!","v":{"$error":"#REF!"}},{"$f":"計算結果!#REF!","v":{"$error":"#REF!"}},{"$f":"計算結果!#REF!","v":{"$error":"#REF!"}},{"$f":"計算結果!#REF!","v":{"$error":"#REF!"}},{"$f":"計算結果!#REF!","v":{"$error":"#REF!"}},{"$f":"計算結果!#REF!","v":{"$error":"#REF!"}},{"$f":"計算結果!#REF!","v":{"$error":"#REF!"}},{"$f":"計算結果!#REF!","v":{"$error":"#REF!"}}]
[{"$f":"入力シート!A846","v":0},{"$f":"入力シート!G846","v":0},{"$f":"入力シート!H846","v":0},{"$f":"IF(入力シート!$J846<>\"\",入力シート!$J846,IF(入力シート!$L846<>\"\",入力シート!$L846,\"‐\"))","v":"‐"},{"$f":"IF(入力シート!$K846<>\"\",入力シート!$K846,IF(入力シート!$M846<>\"\",入力シート!$M846,入力シート!$N846))","v":0},{"$f":"入力シート!I846","v":0},{"$f":"入力シート!O846","v":0},{"$f":"IF(入力シート!P846=\"×\",\"P\",\"PN\")","v":"PN"},{"$f":"計算結果!#REF!","v":{"$error":"#REF!"}},{"$f":"計算結果!#REF!","v":{"$error":"#REF!"}},{"$f":"計算結果!#REF!","v":{"$error":"#REF!"}},{"$f":"計算結果!#REF!","v":{"$error":"#REF!"}},{"$f":"計算結果!#REF!","v":{"$error":"#REF!"}},{"$f":"計算結果!#REF!","v":{"$error":"#REF!"}},{"$f":"計算結果!#REF!","v":{"$error":"#REF!"}},{"$f":"計算結果!#REF!","v":{"$error":"#REF!"}},{"$f":"計算結果!#REF!","v":{"$error":"#REF!"}},{"$f":"計算結果!#REF!","v":{"$error":"#REF!"}}]
[{"$f":"入力シート!A847","v":0},{"$f":"入力シート!G847","v":0},{"$f":"入力シート!H847","v":0},{"$f":"IF(入力シート!$J847<>\"\",入力シート!$J847,IF(入力シート!$L847<>\"\",入力シート!$L847,\"‐\"))","v":"‐"},{"$f":"IF(入力シート!$K847<>\"\",入力シート!$K847,IF(入力シート!$M847<>\"\",入力シート!$M847,入力シート!$N847))","v":0},{"$f":"入力シート!I847","v":0},{"$f":"入力シート!O847","v":0},{"$f":"IF(入力シート!P847=\"×\",\"P\",\"PN\")","v":"PN"},{"$f":"計算結果!#REF!","v":{"$error":"#REF!"}},{"$f":"計算結果!#REF!","v":{"$error":"#REF!"}},{"$f":"計算結果!#REF!","v":{"$error":"#REF!"}},{"$f":"計算結果!#REF!","v":{"$error":"#REF!"}},{"$f":"計算結果!#REF!","v":{"$error":"#REF!"}},{"$f":"計算結果!#REF!","v":{"$error":"#REF!"}},{"$f":"計算結果!#REF!","v":{"$error":"#REF!"}},{"$f":"計算結果!#REF!","v":{"$error":"#REF!"}},{"$f":"計算結果!#REF!","v":{"$error":"#REF!"}},{"$f":"計算結果!#REF!","v":{"$error":"#REF!"}}]
[{"$f":"入力シート!A848","v":0},{"$f":"入力シート!G848","v":0},{"$f":"入力シート!H848","v":0},{"$f":"IF(入力シート!$J848<>\"\",入力シート!$J848,IF(入力シート!$L848<>\"\",入力シート!$L848,\"‐\"))","v":"‐"},{"$f":"IF(入力シート!$K848<>\"\",入力シート!$K848,IF(入力シート!$M848<>\"\",入力シート!$M848,入力シート!$N848))","v":0},{"$f":"入力シート!I848","v":0},{"$f":"入力シート!O848","v":0},{"$f":"IF(入力シート!P848=\"×\",\"P\",\"PN\")","v":"PN"},{"$f":"計算結果!#REF!","v":{"$error":"#REF!"}},{"$f":"計算結果!#REF!","v":{"$error":"#REF!"}},{"$f":"計算結果!#REF!","v":{"$error":"#REF!"}},{"$f":"計算結果!#REF!","v":{"$error":"#REF!"}},{"$f":"計算結果!#REF!","v":{"$error":"#REF!"}},{"$f":"計算結果!#REF!","v":{"$error":"#REF!"}},{"$f":"計算結果!#REF!","v":{"$error":"#REF!"}},{"$f":"計算結果!#REF!","v":{"$error":"#REF!"}},{"$f":"計算結果!#REF!","v":{"$error":"#REF!"}},{"$f":"計算結果!#REF!","v":{"$error":"#REF!"}}]
[{"$f":"入力シート!A849","v":0},{"$f":"入力シート!G849","v":0},{"$f":"入力シート!H849","v":0},{"$f":"IF(入力シート!$J849<>\"\",入力シート!$J849,IF(入力シート!$L849<>\"\",入力シート!$L849,\"‐\"))","v":"‐"},{"$f":"IF(入力シート!$K849<>\"\",入力シート!$K849,IF(入力シート!$M849<>\"\",入力シート!$M849,入力シート!$N849))","v":0},{"$f":"入力シート!I849","v":0},{"$f":"入力シート!O849","v":0},{"$f":"IF(入力シート!P849=\"×\",\"P\",\"PN\")","v":"PN"},{"$f":"計算結果!#REF!","v":{"$error":"#REF!"}},{"$f":"計算結果!#REF!","v":{"$error":"#REF!"}},{"$f":"計算結果!#REF!","v":{"$error":"#REF!"}},{"$f":"計算結果!#REF!","v":{"$error":"#REF!"}},{"$f":"計算結果!#REF!","v":{"$error":"#REF!"}},{"$f":"計算結果!#REF!","v":{"$error":"#REF!"}},{"$f":"計算結果!#REF!","v":{"$error":"#REF!"}},{"$f":"計算結果!#REF!","v":{"$error":"#REF!"}},{"$f":"計算結果!#REF!","v":{"$error":"#REF!"}},{"$f":"計算結果!#REF!","v":{"$error":"#REF!"}}]
[{"$f":"入力シート!A850","v":0},{"$f":"入力シート!G850","v":0},{"$f":"入力シート!H850","v":0},{"$f":"IF(入力シート!$J850<>\"\",入力シート!$J850,IF(入力シート!$L850<>\"\",入力シート!$L850,\"‐\"))","v":"‐"},{"$f":"IF(入力シート!$K850<>\"\",入力シート!$K850,IF(入力シート!$M850<>\"\",入力シート!$M850,入力シート!$N850))","v":0},{"$f":"入力シート!I850","v":0},{"$f":"入力シート!O850","v":0},{"$f":"IF(入力シート!P850=\"×\",\"P\",\"PN\")","v":"PN"},{"$f":"計算結果!#REF!","v":{"$error":"#REF!"}},{"$f":"計算結果!#REF!","v":{"$error":"#REF!"}},{"$f":"計算結果!#REF!","v":{"$error":"#REF!"}},{"$f":"計算結果!#REF!","v":{"$error":"#REF!"}},{"$f":"計算結果!#REF!","v":{"$error":"#REF!"}},{"$f":"計算結果!#REF!","v":{"$error":"#REF!"}},{"$f":"計算結果!#REF!","v":{"$error":"#REF!"}},{"$f":"計算結果!#REF!","v":{"$error":"#REF!"}},{"$f":"計算結果!#REF!","v":{"$error":"#REF!"}},{"$f":"計算結果!#REF!","v":{"$error":"#REF!"}}]
[{"$f":"入力シート!A851","v":0},{"$f":"入力シート!G851","v":0},{"$f":"入力シート!H851","v":0},{"$f":"IF(入力シート!$J851<>\"\",入力シート!$J851,IF(入力シート!$L851<>\"\",入力シート!$L851,\"‐\"))","v":"‐"},{"$f":"IF(入力シート!$K851<>\"\",入力シート!$K851,IF(入力シート!$M851<>\"\",入力シート!$M851,入力シート!$N851))","v":0},{"$f":"入力シート!I851","v":0},{"$f":"入力シート!O851","v":0},{"$f":"IF(入力シート!P851=\"×\",\"P\",\"PN\")","v":"PN"},{"$f":"計算結果!#REF!","v":{"$error":"#REF!"}},{"$f":"計算結果!#REF!","v":{"$error":"#REF!"}},{"$f":"計算結果!#REF!","v":{"$error":"#REF!"}},{"$f":"計算結果!#REF!","v":{"$error":"#REF!"}},{"$f":"計算結果!#REF!","v":{"$error":"#REF!"}},{"$f":"計算結果!#REF!","v":{"$error":"#REF!"}},{"$f":"計算結果!#REF!","v":{"$error":"#REF!"}},{"$f":"計算結果!#REF!","v":{"$error":"#REF!"}},{"$f":"計算結果!#REF!","v":{"$error":"#REF!"}},{"$f":"計算結果!#REF!","v":{"$error":"#REF!"}}]
[{"$f":"入力シート!A852","v":0},{"$f":"入力シート!G852","v":0},{"$f":"入力シート!H852","v":0},{"$f":"IF(入力シート!$J852<>\"\",入力シート!$J852,IF(入力シート!$L852<>\"\",入力シート!$L852,\"‐\"))","v":"‐"},{"$f":"IF(入力シート!$K852<>\"\",入力シート!$K852,IF(入力シート!$M852<>\"\",入力シート!$M852,入力シート!$N852))","v":0},{"$f":"入力シート!I852","v":0},{"$f":"入力シート!O852","v":0},{"$f":"IF(入力シート!P852=\"×\",\"P\",\"PN\")","v":"PN"},{"$f":"計算結果!#REF!","v":{"$error":"#REF!"}},{"$f":"計算結果!#REF!","v":{"$error":"#REF!"}},{"$f":"計算結果!#REF!","v":{"$error":"#REF!"}},{"$f":"計算結果!#REF!","v":{"$error":"#REF!"}},{"$f":"計算結果!#REF!","v":{"$error":"#REF!"}},{"$f":"計算結果!#REF!","v":{"$error":"#REF!"}},{"$f":"計算結果!#REF!","v":{"$error":"#REF!"}},{"$f":"計算結果!#REF!","v":{"$error":"#REF!"}},{"$f":"計算結果!#REF!","v":{"$error":"#REF!"}},{"$f":"計算結果!#REF!","v":{"$error":"#REF!"}}]
[{"$f":"入力シート!A853","v":0},{"$f":"入力シート!G853","v":0},{"$f":"入力シート!H853","v":0},{"$f":"IF(入力シート!$J853<>\"\",入力シート!$J853,IF(入力シート!$L853<>\"\",入力シート!$L853,\"‐\"))","v":"‐"},{"$f":"IF(入力シート!$K853<>\"\",入力シート!$K853,IF(入力シート!$M853<>\"\",入力シート!$M853,入力シート!$N853))","v":0},{"$f":"入力シート!I853","v":0},{"$f":"入力シート!O853","v":0},{"$f":"IF(入力シート!P853=\"×\",\"P\",\"PN\")","v":"PN"},{"$f":"計算結果!#REF!","v":{"$error":"#REF!"}},{"$f":"計算結果!#REF!","v":{"$error":"#REF!"}},{"$f":"計算結果!#REF!","v":{"$error":"#REF!"}},{"$f":"計算結果!#REF!","v":{"$error":"#REF!"}},{"$f":"計算結果!#REF!","v":{"$error":"#REF!"}},{"$f":"計算結果!#REF!","v":{"$error":"#REF!"}},{"$f":"計算結果!#REF!","v":{"$error":"#REF!"}},{"$f":"計算結果!#REF!","v":{"$error":"#REF!"}},{"$f":"計算結果!#REF!","v":{"$error":"#REF!"}},{"$f":"計算結果!#REF!","v":{"$error":"#REF!"}}]
[{"$f":"入力シート!A854","v":0},{"$f":"入力シート!G854","v":0},{"$f":"入力シート!H854","v":0},{"$f":"IF(入力シート!$J854<>\"\",入力シート!$J854,IF(入力シート!$L854<>\"\",入力シート!$L854,\"‐\"))","v":"‐"},{"$f":"IF(入力シート!$K854<>\"\",入力シート!$K854,IF(入力シート!$M854<>\"\",入力シート!$M854,入力シート!$N854))","v":0},{"$f":"入力シート!I854","v":0},{"$f":"入力シート!O854","v":0},{"$f":"IF(入力シート!P854=\"×\",\"P\",\"PN\")","v":"PN"},{"$f":"計算結果!#REF!","v":{"$error":"#REF!"}},{"$f":"計算結果!#REF!","v":{"$error":"#REF!"}},{"$f":"計算結果!#REF!","v":{"$error":"#REF!"}},{"$f":"計算結果!#REF!","v":{"$error":"#REF!"}},{"$f":"計算結果!#REF!","v":{"$error":"#REF!"}},{"$f":"計算結果!#REF!","v":{"$error":"#REF!"}},{"$f":"計算結果!#REF!","v":{"$error":"#REF!"}},{"$f":"計算結果!#REF!","v":{"$error":"#REF!"}},{"$f":"計算結果!#REF!","v":{"$error":"#REF!"}},{"$f":"計算結果!#REF!","v":{"$error":"#REF!"}}]
[{"$f":"入力シート!A855","v":0},{"$f":"入力シート!G855","v":0},{"$f":"入力シート!H855","v":0},{"$f":"IF(入力シート!$J855<>\"\",入力シート!$J855,IF(入力シート!$L855<>\"\",入力シート!$L855,\"‐\"))","v":"‐"},{"$f":"IF(入力シート!$K855<>\"\",入力シート!$K855,IF(入力シート!$M855<>\"\",入力シート!$M855,入力シート!$N855))","v":0},{"$f":"入力シート!I855","v":0},{"$f":"入力シート!O855","v":0},{"$f":"IF(入力シート!P855=\"×\",\"P\",\"PN\")","v":"PN"},{"$f":"計算結果!#REF!","v":{"$error":"#REF!"}},{"$f":"計算結果!#REF!","v":{"$error":"#REF!"}},{"$f":"計算結果!#REF!","v":{"$error":"#REF!"}},{"$f":"計算結果!#REF!","v":{"$error":"#REF!"}},{"$f":"計算結果!#REF!","v":{"$error":"#REF!"}},{"$f":"計算結果!#REF!","v":{"$error":"#REF!"}},{"$f":"計算結果!#REF!","v":{"$error":"#REF!"}},{"$f":"計算結果!#REF!","v":{"$error":"#REF!"}},{"$f":"計算結果!#REF!","v":{"$error":"#REF!"}},{"$f":"計算結果!#REF!","v":{"$error":"#REF!"}}]
[{"$f":"入力シート!A856","v":0},{"$f":"入力シート!G856","v":0},{"$f":"入力シート!H856","v":0},{"$f":"IF(入力シート!$J856<>\"\",入力シート!$J856,IF(入力シート!$L856<>\"\",入力シート!$L856,\"‐\"))","v":"‐"},{"$f":"IF(入力シート!$K856<>\"\",入力シート!$K856,IF(入力シート!$M856<>\"\",入力シート!$M856,入力シート!$N856))","v":0},{"$f":"入力シート!I856","v":0},{"$f":"入力シート!O856","v":0},{"$f":"IF(入力シート!P856=\"×\",\"P\",\"PN\")","v":"PN"},{"$f":"計算結果!#REF!","v":{"$error":"#REF!"}},{"$f":"計算結果!#REF!","v":{"$error":"#REF!"}},{"$f":"計算結果!#REF!","v":{"$error":"#REF!"}},{"$f":"計算結果!#REF!","v":{"$error":"#REF!"}},{"$f":"計算結果!#REF!","v":{"$error":"#REF!"}},{"$f":"計算結果!#REF!","v":{"$error":"#REF!"}},{"$f":"計算結果!#REF!","v":{"$error":"#REF!"}},{"$f":"計算結果!#REF!","v":{"$error":"#REF!"}},{"$f":"計算結果!#REF!","v":{"$error":"#REF!"}},{"$f":"計算結果!#REF!","v":{"$error":"#REF!"}}]
[{"$f":"入力シート!A857","v":0},{"$f":"入力シート!G857","v":0},{"$f":"入力シート!H857","v":0},{"$f":"IF(入力シート!$J857<>\"\",入力シート!$J857,IF(入力シート!$L857<>\"\",入力シート!$L857,\"‐\"))","v":"‐"},{"$f":"IF(入力シート!$K857<>\"\",入力シート!$K857,IF(入力シート!$M857<>\"\",入力シート!$M857,入力シート!$N857))","v":0},{"$f":"入力シート!I857","v":0},{"$f":"入力シート!O857","v":0},{"$f":"IF(入力シート!P857=\"×\",\"P\",\"PN\")","v":"PN"},{"$f":"計算結果!#REF!","v":{"$error":"#REF!"}},{"$f":"計算結果!#REF!","v":{"$error":"#REF!"}},{"$f":"計算結果!#REF!","v":{"$error":"#REF!"}},{"$f":"計算結果!#REF!","v":{"$error":"#REF!"}},{"$f":"計算結果!#REF!","v":{"$error":"#REF!"}},{"$f":"計算結果!#REF!","v":{"$error":"#REF!"}},{"$f":"計算結果!#REF!","v":{"$error":"#REF!"}},{"$f":"計算結果!#REF!","v":{"$error":"#REF!"}},{"$f":"計算結果!#REF!","v":{"$error":"#REF!"}},{"$f":"計算結果!#REF!","v":{"$error":"#REF!"}}]
[{"$f":"入力シート!A858","v":0},{"$f":"入力シート!G858","v":0},{"$f":"入力シート!H858","v":0},{"$f":"IF(入力シート!$J858<>\"\",入力シート!$J858,IF(入力シート!$L858<>\"\",入力シート!$L858,\"‐\"))","v":"‐"},{"$f":"IF(入力シート!$K858<>\"\",入力シート!$K858,IF(入力シート!$M858<>\"\",入力シート!$M858,入力シート!$N858))","v":0},{"$f":"入力シート!I858","v":0},{"$f":"入力シート!O858","v":0},{"$f":"IF(入力シート!P858=\"×\",\"P\",\"PN\")","v":"PN"},{"$f":"計算結果!#REF!","v":{"$error":"#REF!"}},{"$f":"計算結果!#REF!","v":{"$error":"#REF!"}},{"$f":"計算結果!#REF!","v":{"$error":"#REF!"}},{"$f":"計算結果!#REF!","v":{"$error":"#REF!"}},{"$f":"計算結果!#REF!","v":{"$error":"#REF!"}},{"$f":"計算結果!#REF!","v":{"$error":"#REF!"}},{"$f":"計算結果!#REF!","v":{"$error":"#REF!"}},{"$f":"計算結果!#REF!","v":{"$error":"#REF!"}},{"$f":"計算結果!#REF!","v":{"$error":"#REF!"}},{"$f":"計算結果!#REF!","v":{"$error":"#REF!"}}]
[{"$f":"入力シート!A859","v":0},{"$f":"入力シート!G859","v":0},{"$f":"入力シート!H859","v":0},{"$f":"IF(入力シート!$J859<>\"\",入力シート!$J859,IF(入力シート!$L859<>\"\",入力シート!$L859,\"‐\"))","v":"‐"},{"$f":"IF(入力シート!$K859<>\"\",入力シート!$K859,IF(入力シート!$M859<>\"\",入力シート!$M859,入力シート!$N859))","v":0},{"$f":"入力シート!I859","v":0},{"$f":"入力シート!O859","v":0},{"$f":"IF(入力シート!P859=\"×\",\"P\",\"PN\")","v":"PN"},{"$f":"計算結果!#REF!","v":{"$error":"#REF!"}},{"$f":"計算結果!#REF!","v":{"$error":"#REF!"}},{"$f":"計算結果!#REF!","v":{"$error":"#REF!"}},{"$f":"計算結果!#REF!","v":{"$error":"#REF!"}},{"$f":"計算結果!#REF!","v":{"$error":"#REF!"}},{"$f":"計算結果!#REF!","v":{"$error":"#REF!"}},{"$f":"計算結果!#REF!","v":{"$error":"#REF!"}},{"$f":"計算結果!#REF!","v":{"$error":"#REF!"}},{"$f":"計算結果!#REF!","v":{"$error":"#REF!"}},{"$f":"計算結果!#REF!","v":{"$error":"#REF!"}}]
[{"$f":"入力シート!A860","v":0},{"$f":"入力シート!G860","v":0},{"$f":"入力シート!H860","v":0},{"$f":"IF(入力シート!$J860<>\"\",入力シート!$J860,IF(入力シート!$L860<>\"\",入力シート!$L860,\"‐\"))","v":"‐"},{"$f":"IF(入力シート!$K860<>\"\",入力シート!$K860,IF(入力シート!$M860<>\"\",入力シート!$M860,入力シート!$N860))","v":0},{"$f":"入力シート!I860","v":0},{"$f":"入力シート!O860","v":0},{"$f":"IF(入力シート!P860=\"×\",\"P\",\"PN\")","v":"PN"},{"$f":"計算結果!#REF!","v":{"$error":"#REF!"}},{"$f":"計算結果!#REF!","v":{"$error":"#REF!"}},{"$f":"計算結果!#REF!","v":{"$error":"#REF!"}},{"$f":"計算結果!#REF!","v":{"$error":"#REF!"}},{"$f":"計算結果!#REF!","v":{"$error":"#REF!"}},{"$f":"計算結果!#REF!","v":{"$error":"#REF!"}},{"$f":"計算結果!#REF!","v":{"$error":"#REF!"}},{"$f":"計算結果!#REF!","v":{"$error":"#REF!"}},{"$f":"計算結果!#REF!","v":{"$error":"#REF!"}},{"$f":"計算結果!#REF!","v":{"$error":"#REF!"}}]
[{"$f":"入力シート!A861","v":0},{"$f":"入力シート!G861","v":0},{"$f":"入力シート!H861","v":0},{"$f":"IF(入力シート!$J861<>\"\",入力シート!$J861,IF(入力シート!$L861<>\"\",入力シート!$L861,\"‐\"))","v":"‐"},{"$f":"IF(入力シート!$K861<>\"\",入力シート!$K861,IF(入力シート!$M861<>\"\",入力シート!$M861,入力シート!$N861))","v":0},{"$f":"入力シート!I861","v":0},{"$f":"入力シート!O861","v":0},{"$f":"IF(入力シート!P861=\"×\",\"P\",\"PN\")","v":"PN"},{"$f":"計算結果!#REF!","v":{"$error":"#REF!"}},{"$f":"計算結果!#REF!","v":{"$error":"#REF!"}},{"$f":"計算結果!#REF!","v":{"$error":"#REF!"}},{"$f":"計算結果!#REF!","v":{"$error":"#REF!"}},{"$f":"計算結果!#REF!","v":{"$error":"#REF!"}},{"$f":"計算結果!#REF!","v":{"$error":"#REF!"}},{"$f":"計算結果!#REF!","v":{"$error":"#REF!"}},{"$f":"計算結果!#REF!","v":{"$error":"#REF!"}},{"$f":"計算結果!#REF!","v":{"$error":"#REF!"}},{"$f":"計算結果!#REF!","v":{"$error":"#REF!"}}]
[{"$f":"入力シート!A862","v":0},{"$f":"入力シート!G862","v":0},{"$f":"入力シート!H862","v":0},{"$f":"IF(入力シート!$J862<>\"\",入力シート!$J862,IF(入力シート!$L862<>\"\",入力シート!$L862,\"‐\"))","v":"‐"},{"$f":"IF(入力シート!$K862<>\"\",入力シート!$K862,IF(入力シート!$M862<>\"\",入力シート!$M862,入力シート!$N862))","v":0},{"$f":"入力シート!I862","v":0},{"$f":"入力シート!O862","v":0},{"$f":"IF(入力シート!P862=\"×\",\"P\",\"PN\")","v":"PN"},{"$f":"計算結果!#REF!","v":{"$error":"#REF!"}},{"$f":"計算結果!#REF!","v":{"$error":"#REF!"}},{"$f":"計算結果!#REF!","v":{"$error":"#REF!"}},{"$f":"計算結果!#REF!","v":{"$error":"#REF!"}},{"$f":"計算結果!#REF!","v":{"$error":"#REF!"}},{"$f":"計算結果!#REF!","v":{"$error":"#REF!"}},{"$f":"計算結果!#REF!","v":{"$error":"#REF!"}},{"$f":"計算結果!#REF!","v":{"$error":"#REF!"}},{"$f":"計算結果!#REF!","v":{"$error":"#REF!"}},{"$f":"計算結果!#REF!","v":{"$error":"#REF!"}}]
[{"$f":"入力シート!A863","v":0},{"$f":"入力シート!G863","v":0},{"$f":"入力シート!H863","v":0},{"$f":"IF(入力シート!$J863<>\"\",入力シート!$J863,IF(入力シート!$L863<>\"\",入力シート!$L863,\"‐\"))","v":"‐"},{"$f":"IF(入力シート!$K863<>\"\",入力シート!$K863,IF(入力シート!$M863<>\"\",入力シート!$M863,入力シート!$N863))","v":0},{"$f":"入力シート!I863","v":0},{"$f":"入力シート!O863","v":0},{"$f":"IF(入力シート!P863=\"×\",\"P\",\"PN\")","v":"PN"},{"$f":"計算結果!#REF!","v":{"$error":"#REF!"}},{"$f":"計算結果!#REF!","v":{"$error":"#REF!"}},{"$f":"計算結果!#REF!","v":{"$error":"#REF!"}},{"$f":"計算結果!#REF!","v":{"$error":"#REF!"}},{"$f":"計算結果!#REF!","v":{"$error":"#REF!"}},{"$f":"計算結果!#REF!","v":{"$error":"#REF!"}},{"$f":"計算結果!#REF!","v":{"$error":"#REF!"}},{"$f":"計算結果!#REF!","v":{"$error":"#REF!"}},{"$f":"計算結果!#REF!","v":{"$error":"#REF!"}},{"$f":"計算結果!#REF!","v":{"$error":"#REF!"}}]
[{"$f":"入力シート!A864","v":0},{"$f":"入力シート!G864","v":0},{"$f":"入力シート!H864","v":0},{"$f":"IF(入力シート!$J864<>\"\",入力シート!$J864,IF(入力シート!$L864<>\"\",入力シート!$L864,\"‐\"))","v":"‐"},{"$f":"IF(入力シート!$K864<>\"\",入力シート!$K864,IF(入力シート!$M864<>\"\",入力シート!$M864,入力シート!$N864))","v":0},{"$f":"入力シート!I864","v":0},{"$f":"入力シート!O864","v":0},{"$f":"IF(入力シート!P864=\"×\",\"P\",\"PN\")","v":"PN"},{"$f":"計算結果!#REF!","v":{"$error":"#REF!"}},{"$f":"計算結果!#REF!","v":{"$error":"#REF!"}},{"$f":"計算結果!#REF!","v":{"$error":"#REF!"}},{"$f":"計算結果!#REF!","v":{"$error":"#REF!"}},{"$f":"計算結果!#REF!","v":{"$error":"#REF!"}},{"$f":"計算結果!#REF!","v":{"$error":"#REF!"}},{"$f":"計算結果!#REF!","v":{"$error":"#REF!"}},{"$f":"計算結果!#REF!","v":{"$error":"#REF!"}},{"$f":"計算結果!#REF!","v":{"$error":"#REF!"}},{"$f":"計算結果!#REF!","v":{"$error":"#REF!"}}]
[{"$f":"入力シート!A865","v":0},{"$f":"入力シート!G865","v":0},{"$f":"入力シート!H865","v":0},{"$f":"IF(入力シート!$J865<>\"\",入力シート!$J865,IF(入力シート!$L865<>\"\",入力シート!$L865,\"‐\"))","v":"‐"},{"$f":"IF(入力シート!$K865<>\"\",入力シート!$K865,IF(入力シート!$M865<>\"\",入力シート!$M865,入力シート!$N865))","v":0},{"$f":"入力シート!I865","v":0},{"$f":"入力シート!O865","v":0},{"$f":"IF(入力シート!P865=\"×\",\"P\",\"PN\")","v":"PN"},{"$f":"計算結果!#REF!","v":{"$error":"#REF!"}},{"$f":"計算結果!#REF!","v":{"$error":"#REF!"}},{"$f":"計算結果!#REF!","v":{"$error":"#REF!"}},{"$f":"計算結果!#REF!","v":{"$error":"#REF!"}},{"$f":"計算結果!#REF!","v":{"$error":"#REF!"}},{"$f":"計算結果!#REF!","v":{"$error":"#REF!"}},{"$f":"計算結果!#REF!","v":{"$error":"#REF!"}},{"$f":"計算結果!#REF!","v":{"$error":"#REF!"}},{"$f":"計算結果!#REF!","v":{"$error":"#REF!"}},{"$f":"計算結果!#REF!","v":{"$error":"#REF!"}}]
[{"$f":"入力シート!A866","v":0},{"$f":"入力シート!G866","v":0},{"$f":"入力シート!H866","v":0},{"$f":"IF(入力シート!$J866<>\"\",入力シート!$J866,IF(入力シート!$L866<>\"\",入力シート!$L866,\"‐\"))","v":"‐"},{"$f":"IF(入力シート!$K866<>\"\",入力シート!$K866,IF(入力シート!$M866<>\"\",入力シート!$M866,入力シート!$N866))","v":0},{"$f":"入力シート!I866","v":0},{"$f":"入力シート!O866","v":0},{"$f":"IF(入力シート!P866=\"×\",\"P\",\"PN\")","v":"PN"},{"$f":"計算結果!#REF!","v":{"$error":"#REF!"}},{"$f":"計算結果!#REF!","v":{"$error":"#REF!"}},{"$f":"計算結果!#REF!","v":{"$error":"#REF!"}},{"$f":"計算結果!#REF!","v":{"$error":"#REF!"}},{"$f":"計算結果!#REF!","v":{"$error":"#REF!"}},{"$f":"計算結果!#REF!","v":{"$error":"#REF!"}},{"$f":"計算結果!#REF!","v":{"$error":"#REF!"}},{"$f":"計算結果!#REF!","v":{"$error":"#REF!"}},{"$f":"計算結果!#REF!","v":{"$error":"#REF!"}},{"$f":"計算結果!#REF!","v":{"$error":"#REF!"}}]
[{"$f":"入力シート!A867","v":0},{"$f":"入力シート!G867","v":0},{"$f":"入力シート!H867","v":0},{"$f":"IF(入力シート!$J867<>\"\",入力シート!$J867,IF(入力シート!$L867<>\"\",入力シート!$L867,\"‐\"))","v":"‐"},{"$f":"IF(入力シート!$K867<>\"\",入力シート!$K867,IF(入力シート!$M867<>\"\",入力シート!$M867,入力シート!$N867))","v":0},{"$f":"入力シート!I867","v":0},{"$f":"入力シート!O867","v":0},{"$f":"IF(入力シート!P867=\"×\",\"P\",\"PN\")","v":"PN"},{"$f":"計算結果!#REF!","v":{"$error":"#REF!"}},{"$f":"計算結果!#REF!","v":{"$error":"#REF!"}},{"$f":"計算結果!#REF!","v":{"$error":"#REF!"}},{"$f":"計算結果!#REF!","v":{"$error":"#REF!"}},{"$f":"計算結果!#REF!","v":{"$error":"#REF!"}},{"$f":"計算結果!#REF!","v":{"$error":"#REF!"}},{"$f":"計算結果!#REF!","v":{"$error":"#REF!"}},{"$f":"計算結果!#REF!","v":{"$error":"#REF!"}},{"$f":"計算結果!#REF!","v":{"$error":"#REF!"}},{"$f":"計算結果!#REF!","v":{"$error":"#REF!"}}]
[{"$f":"入力シート!A868","v":0},{"$f":"入力シート!G868","v":0},{"$f":"入力シート!H868","v":0},{"$f":"IF(入力シート!$J868<>\"\",入力シート!$J868,IF(入力シート!$L868<>\"\",入力シート!$L868,\"‐\"))","v":"‐"},{"$f":"IF(入力シート!$K868<>\"\",入力シート!$K868,IF(入力シート!$M868<>\"\",入力シート!$M868,入力シート!$N868))","v":0},{"$f":"入力シート!I868","v":0},{"$f":"入力シート!O868","v":0},{"$f":"IF(入力シート!P868=\"×\",\"P\",\"PN\")","v":"PN"},{"$f":"計算結果!#REF!","v":{"$error":"#REF!"}},{"$f":"計算結果!#REF!","v":{"$error":"#REF!"}},{"$f":"計算結果!#REF!","v":{"$error":"#REF!"}},{"$f":"計算結果!#REF!","v":{"$error":"#REF!"}},{"$f":"計算結果!#REF!","v":{"$error":"#REF!"}},{"$f":"計算結果!#REF!","v":{"$error":"#REF!"}},{"$f":"計算結果!#REF!","v":{"$error":"#REF!"}},{"$f":"計算結果!#REF!","v":{"$error":"#REF!"}},{"$f":"計算結果!#REF!","v":{"$error":"#REF!"}},{"$f":"計算結果!#REF!","v":{"$error":"#REF!"}}]
[{"$f":"入力シート!A869","v":0},{"$f":"入力シート!G869","v":0},{"$f":"入力シート!H869","v":0},{"$f":"IF(入力シート!$J869<>\"\",入力シート!$J869,IF(入力シート!$L869<>\"\",入力シート!$L869,\"‐\"))","v":"‐"},{"$f":"IF(入力シート!$K869<>\"\",入力シート!$K869,IF(入力シート!$M869<>\"\",入力シート!$M869,入力シート!$N869))","v":0},{"$f":"入力シート!I869","v":0},{"$f":"入力シート!O869","v":0},{"$f":"IF(入力シート!P869=\"×\",\"P\",\"PN\")","v":"PN"},{"$f":"計算結果!#REF!","v":{"$error":"#REF!"}},{"$f":"計算結果!#REF!","v":{"$error":"#REF!"}},{"$f":"計算結果!#REF!","v":{"$error":"#REF!"}},{"$f":"計算結果!#REF!","v":{"$error":"#REF!"}},{"$f":"計算結果!#REF!","v":{"$error":"#REF!"}},{"$f":"計算結果!#REF!","v":{"$error":"#REF!"}},{"$f":"計算結果!#REF!","v":{"$error":"#REF!"}},{"$f":"計算結果!#REF!","v":{"$error":"#REF!"}},{"$f":"計算結果!#REF!","v":{"$error":"#REF!"}},{"$f":"計算結果!#REF!","v":{"$error":"#REF!"}}]
[{"$f":"入力シート!A870","v":0},{"$f":"入力シート!G870","v":0},{"$f":"入力シート!H870","v":0},{"$f":"IF(入力シート!$J870<>\"\",入力シート!$J870,IF(入力シート!$L870<>\"\",入力シート!$L870,\"‐\"))","v":"‐"},{"$f":"IF(入力シート!$K870<>\"\",入力シート!$K870,IF(入力シート!$M870<>\"\",入力シート!$M870,入力シート!$N870))","v":0},{"$f":"入力シート!I870","v":0},{"$f":"入力シート!O870","v":0},{"$f":"IF(入力シート!P870=\"×\",\"P\",\"PN\")","v":"PN"},{"$f":"計算結果!#REF!","v":{"$error":"#REF!"}},{"$f":"計算結果!#REF!","v":{"$error":"#REF!"}},{"$f":"計算結果!#REF!","v":{"$error":"#REF!"}},{"$f":"計算結果!#REF!","v":{"$error":"#REF!"}},{"$f":"計算結果!#REF!","v":{"$error":"#REF!"}},{"$f":"計算結果!#REF!","v":{"$error":"#REF!"}},{"$f":"計算結果!#REF!","v":{"$error":"#REF!"}},{"$f":"計算結果!#REF!","v":{"$error":"#REF!"}},{"$f":"計算結果!#REF!","v":{"$error":"#REF!"}},{"$f":"計算結果!#REF!","v":{"$error":"#REF!"}}]
[{"$f":"入力シート!A871","v":0},{"$f":"入力シート!G871","v":0},{"$f":"入力シート!H871","v":0},{"$f":"IF(入力シート!$J871<>\"\",入力シート!$J871,IF(入力シート!$L871<>\"\",入力シート!$L871,\"‐\"))","v":"‐"},{"$f":"IF(入力シート!$K871<>\"\",入力シート!$K871,IF(入力シート!$M871<>\"\",入力シート!$M871,入力シート!$N871))","v":0},{"$f":"入力シート!I871","v":0},{"$f":"入力シート!O871","v":0},{"$f":"IF(入力シート!P871=\"×\",\"P\",\"PN\")","v":"PN"},{"$f":"計算結果!#REF!","v":{"$error":"#REF!"}},{"$f":"計算結果!#REF!","v":{"$error":"#REF!"}},{"$f":"計算結果!#REF!","v":{"$error":"#REF!"}},{"$f":"計算結果!#REF!","v":{"$error":"#REF!"}},{"$f":"計算結果!#REF!","v":{"$error":"#REF!"}},{"$f":"計算結果!#REF!","v":{"$error":"#REF!"}},{"$f":"計算結果!#REF!","v":{"$error":"#REF!"}},{"$f":"計算結果!#REF!","v":{"$error":"#REF!"}},{"$f":"計算結果!#REF!","v":{"$error":"#REF!"}},{"$f":"計算結果!#REF!","v":{"$error":"#REF!"}}]
[{"$f":"入力シート!A872","v":0},{"$f":"入力シート!G872","v":0},{"$f":"入力シート!H872","v":0},{"$f":"IF(入力シート!$J872<>\"\",入力シート!$J872,IF(入力シート!$L872<>\"\",入力シート!$L872,\"‐\"))","v":"‐"},{"$f":"IF(入力シート!$K872<>\"\",入力シート!$K872,IF(入力シート!$M872<>\"\",入力シート!$M872,入力シート!$N872))","v":0},{"$f":"入力シート!I872","v":0},{"$f":"入力シート!O872","v":0},{"$f":"IF(入力シート!P872=\"×\",\"P\",\"PN\")","v":"PN"},{"$f":"計算結果!#REF!","v":{"$error":"#REF!"}},{"$f":"計算結果!#REF!","v":{"$error":"#REF!"}},{"$f":"計算結果!#REF!","v":{"$error":"#REF!"}},{"$f":"計算結果!#REF!","v":{"$error":"#REF!"}},{"$f":"計算結果!#REF!","v":{"$error":"#REF!"}},{"$f":"計算結果!#REF!","v":{"$error":"#REF!"}},{"$f":"計算結果!#REF!","v":{"$error":"#REF!"}},{"$f":"計算結果!#REF!","v":{"$error":"#REF!"}},{"$f":"計算結果!#REF!","v":{"$error":"#REF!"}},{"$f":"計算結果!#REF!","v":{"$error":"#REF!"}}]
[{"$f":"入力シート!A873","v":0},{"$f":"入力シート!G873","v":0},{"$f":"入力シート!H873","v":0},{"$f":"IF(入力シート!$J873<>\"\",入力シート!$J873,IF(入力シート!$L873<>\"\",入力シート!$L873,\"‐\"))","v":"‐"},{"$f":"IF(入力シート!$K873<>\"\",入力シート!$K873,IF(入力シート!$M873<>\"\",入力シート!$M873,入力シート!$N873))","v":0},{"$f":"入力シート!I873","v":0},{"$f":"入力シート!O873","v":0},{"$f":"IF(入力シート!P873=\"×\",\"P\",\"PN\")","v":"PN"},{"$f":"計算結果!#REF!","v":{"$error":"#REF!"}},{"$f":"計算結果!#REF!","v":{"$error":"#REF!"}},{"$f":"計算結果!#REF!","v":{"$error":"#REF!"}},{"$f":"計算結果!#REF!","v":{"$error":"#REF!"}},{"$f":"計算結果!#REF!","v":{"$error":"#REF!"}},{"$f":"計算結果!#REF!","v":{"$error":"#REF!"}},{"$f":"計算結果!#REF!","v":{"$error":"#REF!"}},{"$f":"計算結果!#REF!","v":{"$error":"#REF!"}},{"$f":"計算結果!#REF!","v":{"$error":"#REF!"}},{"$f":"計算結果!#REF!","v":{"$error":"#REF!"}}]
[{"$f":"入力シート!A874","v":0},{"$f":"入力シート!G874","v":0},{"$f":"入力シート!H874","v":0},{"$f":"IF(入力シート!$J874<>\"\",入力シート!$J874,IF(入力シート!$L874<>\"\",入力シート!$L874,\"‐\"))","v":"‐"},{"$f":"IF(入力シート!$K874<>\"\",入力シート!$K874,IF(入力シート!$M874<>\"\",入力シート!$M874,入力シート!$N874))","v":0},{"$f":"入力シート!I874","v":0},{"$f":"入力シート!O874","v":0},{"$f":"IF(入力シート!P874=\"×\",\"P\",\"PN\")","v":"PN"},{"$f":"計算結果!#REF!","v":{"$error":"#REF!"}},{"$f":"計算結果!#REF!","v":{"$error":"#REF!"}},{"$f":"計算結果!#REF!","v":{"$error":"#REF!"}},{"$f":"計算結果!#REF!","v":{"$error":"#REF!"}},{"$f":"計算結果!#REF!","v":{"$error":"#REF!"}},{"$f":"計算結果!#REF!","v":{"$error":"#REF!"}},{"$f":"計算結果!#REF!","v":{"$error":"#REF!"}},{"$f":"計算結果!#REF!","v":{"$error":"#REF!"}},{"$f":"計算結果!#REF!","v":{"$error":"#REF!"}},{"$f":"計算結果!#REF!","v":{"$error":"#REF!"}}]
[{"$f":"入力シート!A875","v":0},{"$f":"入力シート!G875","v":0},{"$f":"入力シート!H875","v":0},{"$f":"IF(入力シート!$J875<>\"\",入力シート!$J875,IF(入力シート!$L875<>\"\",入力シート!$L875,\"‐\"))","v":"‐"},{"$f":"IF(入力シート!$K875<>\"\",入力シート!$K875,IF(入力シート!$M875<>\"\",入力シート!$M875,入力シート!$N875))","v":0},{"$f":"入力シート!I875","v":0},{"$f":"入力シート!O875","v":0},{"$f":"IF(入力シート!P875=\"×\",\"P\",\"PN\")","v":"PN"},{"$f":"計算結果!#REF!","v":{"$error":"#REF!"}},{"$f":"計算結果!#REF!","v":{"$error":"#REF!"}},{"$f":"計算結果!#REF!","v":{"$error":"#REF!"}},{"$f":"計算結果!#REF!","v":{"$error":"#REF!"}},{"$f":"計算結果!#REF!","v":{"$error":"#REF!"}},{"$f":"計算結果!#REF!","v":{"$error":"#REF!"}},{"$f":"計算結果!#REF!","v":{"$error":"#REF!"}},{"$f":"計算結果!#REF!","v":{"$error":"#REF!"}},{"$f":"計算結果!#REF!","v":{"$error":"#REF!"}},{"$f":"計算結果!#REF!","v":{"$error":"#REF!"}}]
[{"$f":"入力シート!A876","v":0},{"$f":"入力シート!G876","v":0},{"$f":"入力シート!H876","v":0},{"$f":"IF(入力シート!$J876<>\"\",入力シート!$J876,IF(入力シート!$L876<>\"\",入力シート!$L876,\"‐\"))","v":"‐"},{"$f":"IF(入力シート!$K876<>\"\",入力シート!$K876,IF(入力シート!$M876<>\"\",入力シート!$M876,入力シート!$N876))","v":0},{"$f":"入力シート!I876","v":0},{"$f":"入力シート!O876","v":0},{"$f":"IF(入力シート!P876=\"×\",\"P\",\"PN\")","v":"PN"},{"$f":"計算結果!#REF!","v":{"$error":"#REF!"}},{"$f":"計算結果!#REF!","v":{"$error":"#REF!"}},{"$f":"計算結果!#REF!","v":{"$error":"#REF!"}},{"$f":"計算結果!#REF!","v":{"$error":"#REF!"}},{"$f":"計算結果!#REF!","v":{"$error":"#REF!"}},{"$f":"計算結果!#REF!","v":{"$error":"#REF!"}},{"$f":"計算結果!#REF!","v":{"$error":"#REF!"}},{"$f":"計算結果!#REF!","v":{"$error":"#REF!"}},{"$f":"計算結果!#REF!","v":{"$error":"#REF!"}},{"$f":"計算結果!#REF!","v":{"$error":"#REF!"}}]
[{"$f":"入力シート!A877","v":0},{"$f":"入力シート!G877","v":0},{"$f":"入力シート!H877","v":0},{"$f":"IF(入力シート!$J877<>\"\",入力シート!$J877,IF(入力シート!$L877<>\"\",入力シート!$L877,\"‐\"))","v":"‐"},{"$f":"IF(入力シート!$K877<>\"\",入力シート!$K877,IF(入力シート!$M877<>\"\",入力シート!$M877,入力シート!$N877))","v":0},{"$f":"入力シート!I877","v":0},{"$f":"入力シート!O877","v":0},{"$f":"IF(入力シート!P877=\"×\",\"P\",\"PN\")","v":"PN"},{"$f":"計算結果!#REF!","v":{"$error":"#REF!"}},{"$f":"計算結果!#REF!","v":{"$error":"#REF!"}},{"$f":"計算結果!#REF!","v":{"$error":"#REF!"}},{"$f":"計算結果!#REF!","v":{"$error":"#REF!"}},{"$f":"計算結果!#REF!","v":{"$error":"#REF!"}},{"$f":"計算結果!#REF!","v":{"$error":"#REF!"}},{"$f":"計算結果!#REF!","v":{"$error":"#REF!"}},{"$f":"計算結果!#REF!","v":{"$error":"#REF!"}},{"$f":"計算結果!#REF!","v":{"$error":"#REF!"}},{"$f":"計算結果!#REF!","v":{"$error":"#REF!"}}]
[{"$f":"入力シート!A878","v":0},{"$f":"入力シート!G878","v":0},{"$f":"入力シート!H878","v":0},{"$f":"IF(入力シート!$J878<>\"\",入力シート!$J878,IF(入力シート!$L878<>\"\",入力シート!$L878,\"‐\"))","v":"‐"},{"$f":"IF(入力シート!$K878<>\"\",入力シート!$K878,IF(入力シート!$M878<>\"\",入力シート!$M878,入力シート!$N878))","v":0},{"$f":"入力シート!I878","v":0},{"$f":"入力シート!O878","v":0},{"$f":"IF(入力シート!P878=\"×\",\"P\",\"PN\")","v":"PN"},{"$f":"計算結果!#REF!","v":{"$error":"#REF!"}},{"$f":"計算結果!#REF!","v":{"$error":"#REF!"}},{"$f":"計算結果!#REF!","v":{"$error":"#REF!"}},{"$f":"計算結果!#REF!","v":{"$error":"#REF!"}},{"$f":"計算結果!#REF!","v":{"$error":"#REF!"}},{"$f":"計算結果!#REF!","v":{"$error":"#REF!"}},{"$f":"計算結果!#REF!","v":{"$error":"#REF!"}},{"$f":"計算結果!#REF!","v":{"$error":"#REF!"}},{"$f":"計算結果!#REF!","v":{"$error":"#REF!"}},{"$f":"計算結果!#REF!","v":{"$error":"#REF!"}}]
[{"$f":"入力シート!A879","v":0},{"$f":"入力シート!G879","v":0},{"$f":"入力シート!H879","v":0},{"$f":"IF(入力シート!$J879<>\"\",入力シート!$J879,IF(入力シート!$L879<>\"\",入力シート!$L879,\"‐\"))","v":"‐"},{"$f":"IF(入力シート!$K879<>\"\",入力シート!$K879,IF(入力シート!$M879<>\"\",入力シート!$M879,入力シート!$N879))","v":0},{"$f":"入力シート!I879","v":0},{"$f":"入力シート!O879","v":0},{"$f":"IF(入力シート!P879=\"×\",\"P\",\"PN\")","v":"PN"},{"$f":"計算結果!#REF!","v":{"$error":"#REF!"}},{"$f":"計算結果!#REF!","v":{"$error":"#REF!"}},{"$f":"計算結果!#REF!","v":{"$error":"#REF!"}},{"$f":"計算結果!#REF!","v":{"$error":"#REF!"}},{"$f":"計算結果!#REF!","v":{"$error":"#REF!"}},{"$f":"計算結果!#REF!","v":{"$error":"#REF!"}},{"$f":"計算結果!#REF!","v":{"$error":"#REF!"}},{"$f":"計算結果!#REF!","v":{"$error":"#REF!"}},{"$f":"計算結果!#REF!","v":{"$error":"#REF!"}},{"$f":"計算結果!#REF!","v":{"$error":"#REF!"}}]
[{"$f":"入力シート!A880","v":0},{"$f":"入力シート!G880","v":0},{"$f":"入力シート!H880","v":0},{"$f":"IF(入力シート!$J880<>\"\",入力シート!$J880,IF(入力シート!$L880<>\"\",入力シート!$L880,\"‐\"))","v":"‐"},{"$f":"IF(入力シート!$K880<>\"\",入力シート!$K880,IF(入力シート!$M880<>\"\",入力シート!$M880,入力シート!$N880))","v":0},{"$f":"入力シート!I880","v":0},{"$f":"入力シート!O880","v":0},{"$f":"IF(入力シート!P880=\"×\",\"P\",\"PN\")","v":"PN"},{"$f":"計算結果!#REF!","v":{"$error":"#REF!"}},{"$f":"計算結果!#REF!","v":{"$error":"#REF!"}},{"$f":"計算結果!#REF!","v":{"$error":"#REF!"}},{"$f":"計算結果!#REF!","v":{"$error":"#REF!"}},{"$f":"計算結果!#REF!","v":{"$error":"#REF!"}},{"$f":"計算結果!#REF!","v":{"$error":"#REF!"}},{"$f":"計算結果!#REF!","v":{"$error":"#REF!"}},{"$f":"計算結果!#REF!","v":{"$error":"#REF!"}},{"$f":"計算結果!#REF!","v":{"$error":"#REF!"}},{"$f":"計算結果!#REF!","v":{"$error":"#REF!"}}]
[{"$f":"入力シート!A881","v":0},{"$f":"入力シート!G881","v":0},{"$f":"入力シート!H881","v":0},{"$f":"IF(入力シート!$J881<>\"\",入力シート!$J881,IF(入力シート!$L881<>\"\",入力シート!$L881,\"‐\"))","v":"‐"},{"$f":"IF(入力シート!$K881<>\"\",入力シート!$K881,IF(入力シート!$M881<>\"\",入力シート!$M881,入力シート!$N881))","v":0},{"$f":"入力シート!I881","v":0},{"$f":"入力シート!O881","v":0},{"$f":"IF(入力シート!P881=\"×\",\"P\",\"PN\")","v":"PN"},{"$f":"計算結果!#REF!","v":{"$error":"#REF!"}},{"$f":"計算結果!#REF!","v":{"$error":"#REF!"}},{"$f":"計算結果!#REF!","v":{"$error":"#REF!"}},{"$f":"計算結果!#REF!","v":{"$error":"#REF!"}},{"$f":"計算結果!#REF!","v":{"$error":"#REF!"}},{"$f":"計算結果!#REF!","v":{"$error":"#REF!"}},{"$f":"計算結果!#REF!","v":{"$error":"#REF!"}},{"$f":"計算結果!#REF!","v":{"$error":"#REF!"}},{"$f":"計算結果!#REF!","v":{"$error":"#REF!"}},{"$f":"計算結果!#REF!","v":{"$error":"#REF!"}}]
[{"$f":"入力シート!A882","v":0},{"$f":"入力シート!G882","v":0},{"$f":"入力シート!H882","v":0},{"$f":"IF(入力シート!$J882<>\"\",入力シート!$J882,IF(入力シート!$L882<>\"\",入力シート!$L882,\"‐\"))","v":"‐"},{"$f":"IF(入力シート!$K882<>\"\",入力シート!$K882,IF(入力シート!$M882<>\"\",入力シート!$M882,入力シート!$N882))","v":0},{"$f":"入力シート!I882","v":0},{"$f":"入力シート!O882","v":0},{"$f":"IF(入力シート!P882=\"×\",\"P\",\"PN\")","v":"PN"},{"$f":"計算結果!#REF!","v":{"$error":"#REF!"}},{"$f":"計算結果!#REF!","v":{"$error":"#REF!"}},{"$f":"計算結果!#REF!","v":{"$error":"#REF!"}},{"$f":"計算結果!#REF!","v":{"$error":"#REF!"}},{"$f":"計算結果!#REF!","v":{"$error":"#REF!"}},{"$f":"計算結果!#REF!","v":{"$error":"#REF!"}},{"$f":"計算結果!#REF!","v":{"$error":"#REF!"}},{"$f":"計算結果!#REF!","v":{"$error":"#REF!"}},{"$f":"計算結果!#REF!","v":{"$error":"#REF!"}},{"$f":"計算結果!#REF!","v":{"$error":"#REF!"}}]
[{"$f":"入力シート!A883","v":0},{"$f":"入力シート!G883","v":0},{"$f":"入力シート!H883","v":0},{"$f":"IF(入力シート!$J883<>\"\",入力シート!$J883,IF(入力シート!$L883<>\"\",入力シート!$L883,\"‐\"))","v":"‐"},{"$f":"IF(入力シート!$K883<>\"\",入力シート!$K883,IF(入力シート!$M883<>\"\",入力シート!$M883,入力シート!$N883))","v":0},{"$f":"入力シート!I883","v":0},{"$f":"入力シート!O883","v":0},{"$f":"IF(入力シート!P883=\"×\",\"P\",\"PN\")","v":"PN"},{"$f":"計算結果!#REF!","v":{"$error":"#REF!"}},{"$f":"計算結果!#REF!","v":{"$error":"#REF!"}},{"$f":"計算結果!#REF!","v":{"$error":"#REF!"}},{"$f":"計算結果!#REF!","v":{"$error":"#REF!"}},{"$f":"計算結果!#REF!","v":{"$error":"#REF!"}},{"$f":"計算結果!#REF!","v":{"$error":"#REF!"}},{"$f":"計算結果!#REF!","v":{"$error":"#REF!"}},{"$f":"計算結果!#REF!","v":{"$error":"#REF!"}},{"$f":"計算結果!#REF!","v":{"$error":"#REF!"}},{"$f":"計算結果!#REF!","v":{"$error":"#REF!"}}]
[{"$f":"入力シート!A884","v":0},{"$f":"入力シート!G884","v":0},{"$f":"入力シート!H884","v":0},{"$f":"IF(入力シート!$J884<>\"\",入力シート!$J884,IF(入力シート!$L884<>\"\",入力シート!$L884,\"‐\"))","v":"‐"},{"$f":"IF(入力シート!$K884<>\"\",入力シート!$K884,IF(入力シート!$M884<>\"\",入力シート!$M884,入力シート!$N884))","v":0},{"$f":"入力シート!I884","v":0},{"$f":"入力シート!O884","v":0},{"$f":"IF(入力シート!P884=\"×\",\"P\",\"PN\")","v":"PN"},{"$f":"計算結果!#REF!","v":{"$error":"#REF!"}},{"$f":"計算結果!#REF!","v":{"$error":"#REF!"}},{"$f":"計算結果!#REF!","v":{"$error":"#REF!"}},{"$f":"計算結果!#REF!","v":{"$error":"#REF!"}},{"$f":"計算結果!#REF!","v":{"$error":"#REF!"}},{"$f":"計算結果!#REF!","v":{"$error":"#REF!"}},{"$f":"計算結果!#REF!","v":{"$error":"#REF!"}},{"$f":"計算結果!#REF!","v":{"$error":"#REF!"}},{"$f":"計算結果!#REF!","v":{"$error":"#REF!"}},{"$f":"計算結果!#REF!","v":{"$error":"#REF!"}}]
[{"$f":"入力シート!A885","v":0},{"$f":"入力シート!G885","v":0},{"$f":"入力シート!H885","v":0},{"$f":"IF(入力シート!$J885<>\"\",入力シート!$J885,IF(入力シート!$L885<>\"\",入力シート!$L885,\"‐\"))","v":"‐"},{"$f":"IF(入力シート!$K885<>\"\",入力シート!$K885,IF(入力シート!$M885<>\"\",入力シート!$M885,入力シート!$N885))","v":0},{"$f":"入力シート!I885","v":0},{"$f":"入力シート!O885","v":0},{"$f":"IF(入力シート!P885=\"×\",\"P\",\"PN\")","v":"PN"},{"$f":"計算結果!#REF!","v":{"$error":"#REF!"}},{"$f":"計算結果!#REF!","v":{"$error":"#REF!"}},{"$f":"計算結果!#REF!","v":{"$error":"#REF!"}},{"$f":"計算結果!#REF!","v":{"$error":"#REF!"}},{"$f":"計算結果!#REF!","v":{"$error":"#REF!"}},{"$f":"計算結果!#REF!","v":{"$error":"#REF!"}},{"$f":"計算結果!#REF!","v":{"$error":"#REF!"}},{"$f":"計算結果!#REF!","v":{"$error":"#REF!"}},{"$f":"計算結果!#REF!","v":{"$error":"#REF!"}},{"$f":"計算結果!#REF!","v":{"$error":"#REF!"}}]
[{"$f":"入力シート!A886","v":0},{"$f":"入力シート!G886","v":0},{"$f":"入力シート!H886","v":0},{"$f":"IF(入力シート!$J886<>\"\",入力シート!$J886,IF(入力シート!$L886<>\"\",入力シート!$L886,\"‐\"))","v":"‐"},{"$f":"IF(入力シート!$K886<>\"\",入力シート!$K886,IF(入力シート!$M886<>\"\",入力シート!$M886,入力シート!$N886))","v":0},{"$f":"入力シート!I886","v":0},{"$f":"入力シート!O886","v":0},{"$f":"IF(入力シート!P886=\"×\",\"P\",\"PN\")","v":"PN"},{"$f":"計算結果!#REF!","v":{"$error":"#REF!"}},{"$f":"計算結果!#REF!","v":{"$error":"#REF!"}},{"$f":"計算結果!#REF!","v":{"$error":"#REF!"}},{"$f":"計算結果!#REF!","v":{"$error":"#REF!"}},{"$f":"計算結果!#REF!","v":{"$error":"#REF!"}},{"$f":"計算結果!#REF!","v":{"$error":"#REF!"}},{"$f":"計算結果!#REF!","v":{"$error":"#REF!"}},{"$f":"計算結果!#REF!","v":{"$error":"#REF!"}},{"$f":"計算結果!#REF!","v":{"$error":"#REF!"}},{"$f":"計算結果!#REF!","v":{"$error":"#REF!"}}]
[{"$f":"入力シート!A887","v":0},{"$f":"入力シート!G887","v":0},{"$f":"入力シート!H887","v":0},{"$f":"IF(入力シート!$J887<>\"\",入力シート!$J887,IF(入力シート!$L887<>\"\",入力シート!$L887,\"‐\"))","v":"‐"},{"$f":"IF(入力シート!$K887<>\"\",入力シート!$K887,IF(入力シート!$M887<>\"\",入力シート!$M887,入力シート!$N887))","v":0},{"$f":"入力シート!I887","v":0},{"$f":"入力シート!O887","v":0},{"$f":"IF(入力シート!P887=\"×\",\"P\",\"PN\")","v":"PN"},{"$f":"計算結果!#REF!","v":{"$error":"#REF!"}},{"$f":"計算結果!#REF!","v":{"$error":"#REF!"}},{"$f":"計算結果!#REF!","v":{"$error":"#REF!"}},{"$f":"計算結果!#REF!","v":{"$error":"#REF!"}},{"$f":"計算結果!#REF!","v":{"$error":"#REF!"}},{"$f":"計算結果!#REF!","v":{"$error":"#REF!"}},{"$f":"計算結果!#REF!","v":{"$error":"#REF!"}},{"$f":"計算結果!#REF!","v":{"$error":"#REF!"}},{"$f":"計算結果!#REF!","v":{"$error":"#REF!"}},{"$f":"計算結果!#REF!","v":{"$error":"#REF!"}}]
[{"$f":"入力シート!A888","v":0},{"$f":"入力シート!G888","v":0},{"$f":"入力シート!H888","v":0},{"$f":"IF(入力シート!$J888<>\"\",入力シート!$J888,IF(入力シート!$L888<>\"\",入力シート!$L888,\"‐\"))","v":"‐"},{"$f":"IF(入力シート!$K888<>\"\",入力シート!$K888,IF(入力シート!$M888<>\"\",入力シート!$M888,入力シート!$N888))","v":0},{"$f":"入力シート!I888","v":0},{"$f":"入力シート!O888","v":0},{"$f":"IF(入力シート!P888=\"×\",\"P\",\"PN\")","v":"PN"},{"$f":"計算結果!#REF!","v":{"$error":"#REF!"}},{"$f":"計算結果!#REF!","v":{"$error":"#REF!"}},{"$f":"計算結果!#REF!","v":{"$error":"#REF!"}},{"$f":"計算結果!#REF!","v":{"$error":"#REF!"}},{"$f":"計算結果!#REF!","v":{"$error":"#REF!"}},{"$f":"計算結果!#REF!","v":{"$error":"#REF!"}},{"$f":"計算結果!#REF!","v":{"$error":"#REF!"}},{"$f":"計算結果!#REF!","v":{"$error":"#REF!"}},{"$f":"計算結果!#REF!","v":{"$error":"#REF!"}},{"$f":"計算結果!#REF!","v":{"$error":"#REF!"}}]
[{"$f":"入力シート!A889","v":0},{"$f":"入力シート!G889","v":0},{"$f":"入力シート!H889","v":0},{"$f":"IF(入力シート!$J889<>\"\",入力シート!$J889,IF(入力シート!$L889<>\"\",入力シート!$L889,\"‐\"))","v":"‐"},{"$f":"IF(入力シート!$K889<>\"\",入力シート!$K889,IF(入力シート!$M889<>\"\",入力シート!$M889,入力シート!$N889))","v":0},{"$f":"入力シート!I889","v":0},{"$f":"入力シート!O889","v":0},{"$f":"IF(入力シート!P889=\"×\",\"P\",\"PN\")","v":"PN"},{"$f":"計算結果!#REF!","v":{"$error":"#REF!"}},{"$f":"計算結果!#REF!","v":{"$error":"#REF!"}},{"$f":"計算結果!#REF!","v":{"$error":"#REF!"}},{"$f":"計算結果!#REF!","v":{"$error":"#REF!"}},{"$f":"計算結果!#REF!","v":{"$error":"#REF!"}},{"$f":"計算結果!#REF!","v":{"$error":"#REF!"}},{"$f":"計算結果!#REF!","v":{"$error":"#REF!"}},{"$f":"計算結果!#REF!","v":{"$error":"#REF!"}},{"$f":"計算結果!#REF!","v":{"$error":"#REF!"}},{"$f":"計算結果!#REF!","v":{"$error":"#REF!"}}]
[{"$f":"入力シート!A890","v":0},{"$f":"入力シート!G890","v":0},{"$f":"入力シート!H890","v":0},{"$f":"IF(入力シート!$J890<>\"\",入力シート!$J890,IF(入力シート!$L890<>\"\",入力シート!$L890,\"‐\"))","v":"‐"},{"$f":"IF(入力シート!$K890<>\"\",入力シート!$K890,IF(入力シート!$M890<>\"\",入力シート!$M890,入力シート!$N890))","v":0},{"$f":"入力シート!I890","v":0},{"$f":"入力シート!O890","v":0},{"$f":"IF(入力シート!P890=\"×\",\"P\",\"PN\")","v":"PN"},{"$f":"計算結果!#REF!","v":{"$error":"#REF!"}},{"$f":"計算結果!#REF!","v":{"$error":"#REF!"}},{"$f":"計算結果!#REF!","v":{"$error":"#REF!"}},{"$f":"計算結果!#REF!","v":{"$error":"#REF!"}},{"$f":"計算結果!#REF!","v":{"$error":"#REF!"}},{"$f":"計算結果!#REF!","v":{"$error":"#REF!"}},{"$f":"計算結果!#REF!","v":{"$error":"#REF!"}},{"$f":"計算結果!#REF!","v":{"$error":"#REF!"}},{"$f":"計算結果!#REF!","v":{"$error":"#REF!"}},{"$f":"計算結果!#REF!","v":{"$error":"#REF!"}}]
[{"$f":"入力シート!A891","v":0},{"$f":"入力シート!G891","v":0},{"$f":"入力シート!H891","v":0},{"$f":"IF(入力シート!$J891<>\"\",入力シート!$J891,IF(入力シート!$L891<>\"\",入力シート!$L891,\"‐\"))","v":"‐"},{"$f":"IF(入力シート!$K891<>\"\",入力シート!$K891,IF(入力シート!$M891<>\"\",入力シート!$M891,入力シート!$N891))","v":0},{"$f":"入力シート!I891","v":0},{"$f":"入力シート!O891","v":0},{"$f":"IF(入力シート!P891=\"×\",\"P\",\"PN\")","v":"PN"},{"$f":"計算結果!#REF!","v":{"$error":"#REF!"}},{"$f":"計算結果!#REF!","v":{"$error":"#REF!"}},{"$f":"計算結果!#REF!","v":{"$error":"#REF!"}},{"$f":"計算結果!#REF!","v":{"$error":"#REF!"}},{"$f":"計算結果!#REF!","v":{"$error":"#REF!"}},{"$f":"計算結果!#REF!","v":{"$error":"#REF!"}},{"$f":"計算結果!#REF!","v":{"$error":"#REF!"}},{"$f":"計算結果!#REF!","v":{"$error":"#REF!"}},{"$f":"計算結果!#REF!","v":{"$error":"#REF!"}},{"$f":"計算結果!#REF!","v":{"$error":"#REF!"}}]
[{"$f":"入力シート!A892","v":0},{"$f":"入力シート!G892","v":0},{"$f":"入力シート!H892","v":0},{"$f":"IF(入力シート!$J892<>\"\",入力シート!$J892,IF(入力シート!$L892<>\"\",入力シート!$L892,\"‐\"))","v":"‐"},{"$f":"IF(入力シート!$K892<>\"\",入力シート!$K892,IF(入力シート!$M892<>\"\",入力シート!$M892,入力シート!$N892))","v":0},{"$f":"入力シート!I892","v":0},{"$f":"入力シート!O892","v":0},{"$f":"IF(入力シート!P892=\"×\",\"P\",\"PN\")","v":"PN"},{"$f":"計算結果!#REF!","v":{"$error":"#REF!"}},{"$f":"計算結果!#REF!","v":{"$error":"#REF!"}},{"$f":"計算結果!#REF!","v":{"$error":"#REF!"}},{"$f":"計算結果!#REF!","v":{"$error":"#REF!"}},{"$f":"計算結果!#REF!","v":{"$error":"#REF!"}},{"$f":"計算結果!#REF!","v":{"$error":"#REF!"}},{"$f":"計算結果!#REF!","v":{"$error":"#REF!"}},{"$f":"計算結果!#REF!","v":{"$error":"#REF!"}},{"$f":"計算結果!#REF!","v":{"$error":"#REF!"}},{"$f":"計算結果!#REF!","v":{"$error":"#REF!"}}]
[{"$f":"入力シート!A893","v":0},{"$f":"入力シート!G893","v":0},{"$f":"入力シート!H893","v":0},{"$f":"IF(入力シート!$J893<>\"\",入力シート!$J893,IF(入力シート!$L893<>\"\",入力シート!$L893,\"‐\"))","v":"‐"},{"$f":"IF(入力シート!$K893<>\"\",入力シート!$K893,IF(入力シート!$M893<>\"\",入力シート!$M893,入力シート!$N893))","v":0},{"$f":"入力シート!I893","v":0},{"$f":"入力シート!O893","v":0},{"$f":"IF(入力シート!P893=\"×\",\"P\",\"PN\")","v":"PN"},{"$f":"計算結果!#REF!","v":{"$error":"#REF!"}},{"$f":"計算結果!#REF!","v":{"$error":"#REF!"}},{"$f":"計算結果!#REF!","v":{"$error":"#REF!"}},{"$f":"計算結果!#REF!","v":{"$error":"#REF!"}},{"$f":"計算結果!#REF!","v":{"$error":"#REF!"}},{"$f":"計算結果!#REF!","v":{"$error":"#REF!"}},{"$f":"計算結果!#REF!","v":{"$error":"#REF!"}},{"$f":"計算結果!#REF!","v":{"$error":"#REF!"}},{"$f":"計算結果!#REF!","v":{"$error":"#REF!"}},{"$f":"計算結果!#REF!","v":{"$error":"#REF!"}}]
[{"$f":"入力シート!A894","v":0},{"$f":"入力シート!G894","v":0},{"$f":"入力シート!H894","v":0},{"$f":"IF(入力シート!$J894<>\"\",入力シート!$J894,IF(入力シート!$L894<>\"\",入力シート!$L894,\"‐\"))","v":"‐"},{"$f":"IF(入力シート!$K894<>\"\",入力シート!$K894,IF(入力シート!$M894<>\"\",入力シート!$M894,入力シート!$N894))","v":0},{"$f":"入力シート!I894","v":0},{"$f":"入力シート!O894","v":0},{"$f":"IF(入力シート!P894=\"×\",\"P\",\"PN\")","v":"PN"},{"$f":"計算結果!#REF!","v":{"$error":"#REF!"}},{"$f":"計算結果!#REF!","v":{"$error":"#REF!"}},{"$f":"計算結果!#REF!","v":{"$error":"#REF!"}},{"$f":"計算結果!#REF!","v":{"$error":"#REF!"}},{"$f":"計算結果!#REF!","v":{"$error":"#REF!"}},{"$f":"計算結果!#REF!","v":{"$error":"#REF!"}},{"$f":"計算結果!#REF!","v":{"$error":"#REF!"}},{"$f":"計算結果!#REF!","v":{"$error":"#REF!"}},{"$f":"計算結果!#REF!","v":{"$error":"#REF!"}},{"$f":"計算結果!#REF!","v":{"$error":"#REF!"}}]
[{"$f":"入力シート!A895","v":0},{"$f":"入力シート!G895","v":0},{"$f":"入力シート!H895","v":0},{"$f":"IF(入力シート!$J895<>\"\",入力シート!$J895,IF(入力シート!$L895<>\"\",入力シート!$L895,\"‐\"))","v":"‐"},{"$f":"IF(入力シート!$K895<>\"\",入力シート!$K895,IF(入力シート!$M895<>\"\",入力シート!$M895,入力シート!$N895))","v":0},{"$f":"入力シート!I895","v":0},{"$f":"入力シート!O895","v":0},{"$f":"IF(入力シート!P895=\"×\",\"P\",\"PN\")","v":"PN"},{"$f":"計算結果!#REF!","v":{"$error":"#REF!"}},{"$f":"計算結果!#REF!","v":{"$error":"#REF!"}},{"$f":"計算結果!#REF!","v":{"$error":"#REF!"}},{"$f":"計算結果!#REF!","v":{"$error":"#REF!"}},{"$f":"計算結果!#REF!","v":{"$error":"#REF!"}},{"$f":"計算結果!#REF!","v":{"$error":"#REF!"}},{"$f":"計算結果!#REF!","v":{"$error":"#REF!"}},{"$f":"計算結果!#REF!","v":{"$error":"#REF!"}},{"$f":"計算結果!#REF!","v":{"$error":"#REF!"}},{"$f":"計算結果!#REF!","v":{"$error":"#REF!"}}]
[{"$f":"入力シート!A896","v":0},{"$f":"入力シート!G896","v":0},{"$f":"入力シート!H896","v":0},{"$f":"IF(入力シート!$J896<>\"\",入力シート!$J896,IF(入力シート!$L896<>\"\",入力シート!$L896,\"‐\"))","v":"‐"},{"$f":"IF(入力シート!$K896<>\"\",入力シート!$K896,IF(入力シート!$M896<>\"\",入力シート!$M896,入力シート!$N896))","v":0},{"$f":"入力シート!I896","v":0},{"$f":"入力シート!O896","v":0},{"$f":"IF(入力シート!P896=\"×\",\"P\",\"PN\")","v":"PN"},{"$f":"計算結果!#REF!","v":{"$error":"#REF!"}},{"$f":"計算結果!#REF!","v":{"$error":"#REF!"}},{"$f":"計算結果!#REF!","v":{"$error":"#REF!"}},{"$f":"計算結果!#REF!","v":{"$error":"#REF!"}},{"$f":"計算結果!#REF!","v":{"$error":"#REF!"}},{"$f":"計算結果!#REF!","v":{"$error":"#REF!"}},{"$f":"計算結果!#REF!","v":{"$error":"#REF!"}},{"$f":"計算結果!#REF!","v":{"$error":"#REF!"}},{"$f":"計算結果!#REF!","v":{"$error":"#REF!"}},{"$f":"計算結果!#REF!","v":{"$error":"#REF!"}}]
[{"$f":"入力シート!A897","v":0},{"$f":"入力シート!G897","v":0},{"$f":"入力シート!H897","v":0},{"$f":"IF(入力シート!$J897<>\"\",入力シート!$J897,IF(入力シート!$L897<>\"\",入力シート!$L897,\"‐\"))","v":"‐"},{"$f":"IF(入力シート!$K897<>\"\",入力シート!$K897,IF(入力シート!$M897<>\"\",入力シート!$M897,入力シート!$N897))","v":0},{"$f":"入力シート!I897","v":0},{"$f":"入力シート!O897","v":0},{"$f":"IF(入力シート!P897=\"×\",\"P\",\"PN\")","v":"PN"},{"$f":"計算結果!#REF!","v":{"$error":"#REF!"}},{"$f":"計算結果!#REF!","v":{"$error":"#REF!"}},{"$f":"計算結果!#REF!","v":{"$error":"#REF!"}},{"$f":"計算結果!#REF!","v":{"$error":"#REF!"}},{"$f":"計算結果!#REF!","v":{"$error":"#REF!"}},{"$f":"計算結果!#REF!","v":{"$error":"#REF!"}},{"$f":"計算結果!#REF!","v":{"$error":"#REF!"}},{"$f":"計算結果!#REF!","v":{"$error":"#REF!"}},{"$f":"計算結果!#REF!","v":{"$error":"#REF!"}},{"$f":"計算結果!#REF!","v":{"$error":"#REF!"}}]
[{"$f":"入力シート!A898","v":0},{"$f":"入力シート!G898","v":0},{"$f":"入力シート!H898","v":0},{"$f":"IF(入力シート!$J898<>\"\",入力シート!$J898,IF(入力シート!$L898<>\"\",入力シート!$L898,\"‐\"))","v":"‐"},{"$f":"IF(入力シート!$K898<>\"\",入力シート!$K898,IF(入力シート!$M898<>\"\",入力シート!$M898,入力シート!$N898))","v":0},{"$f":"入力シート!I898","v":0},{"$f":"入力シート!O898","v":0},{"$f":"IF(入力シート!P898=\"×\",\"P\",\"PN\")","v":"PN"},{"$f":"計算結果!#REF!","v":{"$error":"#REF!"}},{"$f":"計算結果!#REF!","v":{"$error":"#REF!"}},{"$f":"計算結果!#REF!","v":{"$error":"#REF!"}},{"$f":"計算結果!#REF!","v":{"$error":"#REF!"}},{"$f":"計算結果!#REF!","v":{"$error":"#REF!"}},{"$f":"計算結果!#REF!","v":{"$error":"#REF!"}},{"$f":"計算結果!#REF!","v":{"$error":"#REF!"}},{"$f":"計算結果!#REF!","v":{"$error":"#REF!"}},{"$f":"計算結果!#REF!","v":{"$error":"#REF!"}},{"$f":"計算結果!#REF!","v":{"$error":"#REF!"}}]
[{"$f":"入力シート!A899","v":0},{"$f":"入力シート!G899","v":0},{"$f":"入力シート!H899","v":0},{"$f":"IF(入力シート!$J899<>\"\",入力シート!$J899,IF(入力シート!$L899<>\"\",入力シート!$L899,\"‐\"))","v":"‐"},{"$f":"IF(入力シート!$K899<>\"\",入力シート!$K899,IF(入力シート!$M899<>\"\",入力シート!$M899,入力シート!$N899))","v":0},{"$f":"入力シート!I899","v":0},{"$f":"入力シート!O899","v":0},{"$f":"IF(入力シート!P899=\"×\",\"P\",\"PN\")","v":"PN"},{"$f":"計算結果!#REF!","v":{"$error":"#REF!"}},{"$f":"計算結果!#REF!","v":{"$error":"#REF!"}},{"$f":"計算結果!#REF!","v":{"$error":"#REF!"}},{"$f":"計算結果!#REF!","v":{"$error":"#REF!"}},{"$f":"計算結果!#REF!","v":{"$error":"#REF!"}},{"$f":"計算結果!#REF!","v":{"$error":"#REF!"}},{"$f":"計算結果!#REF!","v":{"$error":"#REF!"}},{"$f":"計算結果!#REF!","v":{"$error":"#REF!"}},{"$f":"計算結果!#REF!","v":{"$error":"#REF!"}},{"$f":"計算結果!#REF!","v":{"$error":"#REF!"}}]
[{"$f":"入力シート!A900","v":0},{"$f":"入力シート!G900","v":0},{"$f":"入力シート!H900","v":0},{"$f":"IF(入力シート!$J900<>\"\",入力シート!$J900,IF(入力シート!$L900<>\"\",入力シート!$L900,\"‐\"))","v":"‐"},{"$f":"IF(入力シート!$K900<>\"\",入力シート!$K900,IF(入力シート!$M900<>\"\",入力シート!$M900,入力シート!$N900))","v":0},{"$f":"入力シート!I900","v":0},{"$f":"入力シート!O900","v":0},{"$f":"IF(入力シート!P900=\"×\",\"P\",\"PN\")","v":"PN"},{"$f":"計算結果!#REF!","v":{"$error":"#REF!"}},{"$f":"計算結果!#REF!","v":{"$error":"#REF!"}},{"$f":"計算結果!#REF!","v":{"$error":"#REF!"}},{"$f":"計算結果!#REF!","v":{"$error":"#REF!"}},{"$f":"計算結果!#REF!","v":{"$error":"#REF!"}},{"$f":"計算結果!#REF!","v":{"$error":"#REF!"}},{"$f":"計算結果!#REF!","v":{"$error":"#REF!"}},{"$f":"計算結果!#REF!","v":{"$error":"#REF!"}},{"$f":"計算結果!#REF!","v":{"$error":"#REF!"}},{"$f":"計算結果!#REF!","v":{"$error":"#REF!"}}]
[{"$f":"入力シート!A901","v":0},{"$f":"入力シート!G901","v":0},{"$f":"入力シート!H901","v":0},{"$f":"IF(入力シート!$J901<>\"\",入力シート!$J901,IF(入力シート!$L901<>\"\",入力シート!$L901,\"‐\"))","v":"‐"},{"$f":"IF(入力シート!$K901<>\"\",入力シート!$K901,IF(入力シート!$M901<>\"\",入力シート!$M901,入力シート!$N901))","v":0},{"$f":"入力シート!I901","v":0},{"$f":"入力シート!O901","v":0},{"$f":"IF(入力シート!P901=\"×\",\"P\",\"PN\")","v":"PN"},{"$f":"計算結果!#REF!","v":{"$error":"#REF!"}},{"$f":"計算結果!#REF!","v":{"$error":"#REF!"}},{"$f":"計算結果!#REF!","v":{"$error":"#REF!"}},{"$f":"計算結果!#REF!","v":{"$error":"#REF!"}},{"$f":"計算結果!#REF!","v":{"$error":"#REF!"}},{"$f":"計算結果!#REF!","v":{"$error":"#REF!"}},{"$f":"計算結果!#REF!","v":{"$error":"#REF!"}},{"$f":"計算結果!#REF!","v":{"$error":"#REF!"}},{"$f":"計算結果!#REF!","v":{"$error":"#REF!"}},{"$f":"計算結果!#REF!","v":{"$error":"#REF!"}}]
[{"$f":"入力シート!A902","v":0},{"$f":"入力シート!G902","v":0},{"$f":"入力シート!H902","v":0},{"$f":"IF(入力シート!$J902<>\"\",入力シート!$J902,IF(入力シート!$L902<>\"\",入力シート!$L902,\"‐\"))","v":"‐"},{"$f":"IF(入力シート!$K902<>\"\",入力シート!$K902,IF(入力シート!$M902<>\"\",入力シート!$M902,入力シート!$N902))","v":0},{"$f":"入力シート!I902","v":0},{"$f":"入力シート!O902","v":0},{"$f":"IF(入力シート!P902=\"×\",\"P\",\"PN\")","v":"PN"},{"$f":"計算結果!#REF!","v":{"$error":"#REF!"}},{"$f":"計算結果!#REF!","v":{"$error":"#REF!"}},{"$f":"計算結果!#REF!","v":{"$error":"#REF!"}},{"$f":"計算結果!#REF!","v":{"$error":"#REF!"}},{"$f":"計算結果!#REF!","v":{"$error":"#REF!"}},{"$f":"計算結果!#REF!","v":{"$error":"#REF!"}},{"$f":"計算結果!#REF!","v":{"$error":"#REF!"}},{"$f":"計算結果!#REF!","v":{"$error":"#REF!"}},{"$f":"計算結果!#REF!","v":{"$error":"#REF!"}},{"$f":"計算結果!#REF!","v":{"$error":"#REF!"}}]
[{"$f":"入力シート!A903","v":0},{"$f":"入力シート!G903","v":0},{"$f":"入力シート!H903","v":0},{"$f":"IF(入力シート!$J903<>\"\",入力シート!$J903,IF(入力シート!$L903<>\"\",入力シート!$L903,\"‐\"))","v":"‐"},{"$f":"IF(入力シート!$K903<>\"\",入力シート!$K903,IF(入力シート!$M903<>\"\",入力シート!$M903,入力シート!$N903))","v":0},{"$f":"入力シート!I903","v":0},{"$f":"入力シート!O903","v":0},{"$f":"IF(入力シート!P903=\"×\",\"P\",\"PN\")","v":"PN"},{"$f":"計算結果!#REF!","v":{"$error":"#REF!"}},{"$f":"計算結果!#REF!","v":{"$error":"#REF!"}},{"$f":"計算結果!#REF!","v":{"$error":"#REF!"}},{"$f":"計算結果!#REF!","v":{"$error":"#REF!"}},{"$f":"計算結果!#REF!","v":{"$error":"#REF!"}},{"$f":"計算結果!#REF!","v":{"$error":"#REF!"}},{"$f":"計算結果!#REF!","v":{"$error":"#REF!"}},{"$f":"計算結果!#REF!","v":{"$error":"#REF!"}},{"$f":"計算結果!#REF!","v":{"$error":"#REF!"}},{"$f":"計算結果!#REF!","v":{"$error":"#REF!"}}]
[{"$f":"入力シート!A904","v":0},{"$f":"入力シート!G904","v":0},{"$f":"入力シート!H904","v":0},{"$f":"IF(入力シート!$J904<>\"\",入力シート!$J904,IF(入力シート!$L904<>\"\",入力シート!$L904,\"‐\"))","v":"‐"},{"$f":"IF(入力シート!$K904<>\"\",入力シート!$K904,IF(入力シート!$M904<>\"\",入力シート!$M904,入力シート!$N904))","v":0},{"$f":"入力シート!I904","v":0},{"$f":"入力シート!O904","v":0},{"$f":"IF(入力シート!P904=\"×\",\"P\",\"PN\")","v":"PN"},{"$f":"計算結果!#REF!","v":{"$error":"#REF!"}},{"$f":"計算結果!#REF!","v":{"$error":"#REF!"}},{"$f":"計算結果!#REF!","v":{"$error":"#REF!"}},{"$f":"計算結果!#REF!","v":{"$error":"#REF!"}},{"$f":"計算結果!#REF!","v":{"$error":"#REF!"}},{"$f":"計算結果!#REF!","v":{"$error":"#REF!"}},{"$f":"計算結果!#REF!","v":{"$error":"#REF!"}},{"$f":"計算結果!#REF!","v":{"$error":"#REF!"}},{"$f":"計算結果!#REF!","v":{"$error":"#REF!"}},{"$f":"計算結果!#REF!","v":{"$error":"#REF!"}}]
[{"$f":"入力シート!A905","v":0},{"$f":"入力シート!G905","v":0},{"$f":"入力シート!H905","v":0},{"$f":"IF(入力シート!$J905<>\"\",入力シート!$J905,IF(入力シート!$L905<>\"\",入力シート!$L905,\"‐\"))","v":"‐"},{"$f":"IF(入力シート!$K905<>\"\",入力シート!$K905,IF(入力シート!$M905<>\"\",入力シート!$M905,入力シート!$N905))","v":0},{"$f":"入力シート!I905","v":0},{"$f":"入力シート!O905","v":0},{"$f":"IF(入力シート!P905=\"×\",\"P\",\"PN\")","v":"PN"},{"$f":"計算結果!#REF!","v":{"$error":"#REF!"}},{"$f":"計算結果!#REF!","v":{"$error":"#REF!"}},{"$f":"計算結果!#REF!","v":{"$error":"#REF!"}},{"$f":"計算結果!#REF!","v":{"$error":"#REF!"}},{"$f":"計算結果!#REF!","v":{"$error":"#REF!"}},{"$f":"計算結果!#REF!","v":{"$error":"#REF!"}},{"$f":"計算結果!#REF!","v":{"$error":"#REF!"}},{"$f":"計算結果!#REF!","v":{"$error":"#REF!"}},{"$f":"計算結果!#REF!","v":{"$error":"#REF!"}},{"$f":"計算結果!#REF!","v":{"$error":"#REF!"}}]
[{"$f":"入力シート!A906","v":0},{"$f":"入力シート!G906","v":0},{"$f":"入力シート!H906","v":0},{"$f":"IF(入力シート!$J906<>\"\",入力シート!$J906,IF(入力シート!$L906<>\"\",入力シート!$L906,\"‐\"))","v":"‐"},{"$f":"IF(入力シート!$K906<>\"\",入力シート!$K906,IF(入力シート!$M906<>\"\",入力シート!$M906,入力シート!$N906))","v":0},{"$f":"入力シート!I906","v":0},{"$f":"入力シート!O906","v":0},{"$f":"IF(入力シート!P906=\"×\",\"P\",\"PN\")","v":"PN"},{"$f":"計算結果!#REF!","v":{"$error":"#REF!"}},{"$f":"計算結果!#REF!","v":{"$error":"#REF!"}},{"$f":"計算結果!#REF!","v":{"$error":"#REF!"}},{"$f":"計算結果!#REF!","v":{"$error":"#REF!"}},{"$f":"計算結果!#REF!","v":{"$error":"#REF!"}},{"$f":"計算結果!#REF!","v":{"$error":"#REF!"}},{"$f":"計算結果!#REF!","v":{"$error":"#REF!"}},{"$f":"計算結果!#REF!","v":{"$error":"#REF!"}},{"$f":"計算結果!#REF!","v":{"$error":"#REF!"}},{"$f":"計算結果!#REF!","v":{"$error":"#REF!"}}]
[{"$f":"入力シート!A907","v":0},{"$f":"入力シート!G907","v":0},{"$f":"入力シート!H907","v":0},{"$f":"IF(入力シート!$J907<>\"\",入力シート!$J907,IF(入力シート!$L907<>\"\",入力シート!$L907,\"‐\"))","v":"‐"},{"$f":"IF(入力シート!$K907<>\"\",入力シート!$K907,IF(入力シート!$M907<>\"\",入力シート!$M907,入力シート!$N907))","v":0},{"$f":"入力シート!I907","v":0},{"$f":"入力シート!O907","v":0},{"$f":"IF(入力シート!P907=\"×\",\"P\",\"PN\")","v":"PN"},{"$f":"計算結果!#REF!","v":{"$error":"#REF!"}},{"$f":"計算結果!#REF!","v":{"$error":"#REF!"}},{"$f":"計算結果!#REF!","v":{"$error":"#REF!"}},{"$f":"計算結果!#REF!","v":{"$error":"#REF!"}},{"$f":"計算結果!#REF!","v":{"$error":"#REF!"}},{"$f":"計算結果!#REF!","v":{"$error":"#REF!"}},{"$f":"計算結果!#REF!","v":{"$error":"#REF!"}},{"$f":"計算結果!#REF!","v":{"$error":"#REF!"}},{"$f":"計算結果!#REF!","v":{"$error":"#REF!"}},{"$f":"計算結果!#REF!","v":{"$error":"#REF!"}}]
[{"$f":"入力シート!A908","v":0},{"$f":"入力シート!G908","v":0},{"$f":"入力シート!H908","v":0},{"$f":"IF(入力シート!$J908<>\"\",入力シート!$J908,IF(入力シート!$L908<>\"\",入力シート!$L908,\"‐\"))","v":"‐"},{"$f":"IF(入力シート!$K908<>\"\",入力シート!$K908,IF(入力シート!$M908<>\"\",入力シート!$M908,入力シート!$N908))","v":0},{"$f":"入力シート!I908","v":0},{"$f":"入力シート!O908","v":0},{"$f":"IF(入力シート!P908=\"×\",\"P\",\"PN\")","v":"PN"},{"$f":"計算結果!#REF!","v":{"$error":"#REF!"}},{"$f":"計算結果!#REF!","v":{"$error":"#REF!"}},{"$f":"計算結果!#REF!","v":{"$error":"#REF!"}},{"$f":"計算結果!#REF!","v":{"$error":"#REF!"}},{"$f":"計算結果!#REF!","v":{"$error":"#REF!"}},{"$f":"計算結果!#REF!","v":{"$error":"#REF!"}},{"$f":"計算結果!#REF!","v":{"$error":"#REF!"}},{"$f":"計算結果!#REF!","v":{"$error":"#REF!"}},{"$f":"計算結果!#REF!","v":{"$error":"#REF!"}},{"$f":"計算結果!#REF!","v":{"$error":"#REF!"}}]
[{"$f":"入力シート!A909","v":0},{"$f":"入力シート!G909","v":0},{"$f":"入力シート!H909","v":0},{"$f":"IF(入力シート!$J909<>\"\",入力シート!$J909,IF(入力シート!$L909<>\"\",入力シート!$L909,\"‐\"))","v":"‐"},{"$f":"IF(入力シート!$K909<>\"\",入力シート!$K909,IF(入力シート!$M909<>\"\",入力シート!$M909,入力シート!$N909))","v":0},{"$f":"入力シート!I909","v":0},{"$f":"入力シート!O909","v":0},{"$f":"IF(入力シート!P909=\"×\",\"P\",\"PN\")","v":"PN"},{"$f":"計算結果!#REF!","v":{"$error":"#REF!"}},{"$f":"計算結果!#REF!","v":{"$error":"#REF!"}},{"$f":"計算結果!#REF!","v":{"$error":"#REF!"}},{"$f":"計算結果!#REF!","v":{"$error":"#REF!"}},{"$f":"計算結果!#REF!","v":{"$error":"#REF!"}},{"$f":"計算結果!#REF!","v":{"$error":"#REF!"}},{"$f":"計算結果!#REF!","v":{"$error":"#REF!"}},{"$f":"計算結果!#REF!","v":{"$error":"#REF!"}},{"$f":"計算結果!#REF!","v":{"$error":"#REF!"}},{"$f":"計算結果!#REF!","v":{"$error":"#REF!"}}]
[{"$f":"入力シート!A910","v":0},{"$f":"入力シート!G910","v":0},{"$f":"入力シート!H910","v":0},{"$f":"IF(入力シート!$J910<>\"\",入力シート!$J910,IF(入力シート!$L910<>\"\",入力シート!$L910,\"‐\"))","v":"‐"},{"$f":"IF(入力シート!$K910<>\"\",入力シート!$K910,IF(入力シート!$M910<>\"\",入力シート!$M910,入力シート!$N910))","v":0},{"$f":"入力シート!I910","v":0},{"$f":"入力シート!O910","v":0},{"$f":"IF(入力シート!P910=\"×\",\"P\",\"PN\")","v":"PN"},{"$f":"計算結果!#REF!","v":{"$error":"#REF!"}},{"$f":"計算結果!#REF!","v":{"$error":"#REF!"}},{"$f":"計算結果!#REF!","v":{"$error":"#REF!"}},{"$f":"計算結果!#REF!","v":{"$error":"#REF!"}},{"$f":"計算結果!#REF!","v":{"$error":"#REF!"}},{"$f":"計算結果!#REF!","v":{"$error":"#REF!"}},{"$f":"計算結果!#REF!","v":{"$error":"#REF!"}},{"$f":"計算結果!#REF!","v":{"$error":"#REF!"}},{"$f":"計算結果!#REF!","v":{"$error":"#REF!"}},{"$f":"計算結果!#REF!","v":{"$error":"#REF!"}}]
[{"$f":"入力シート!A911","v":0},{"$f":"入力シート!G911","v":0},{"$f":"入力シート!H911","v":0},{"$f":"IF(入力シート!$J911<>\"\",入力シート!$J911,IF(入力シート!$L911<>\"\",入力シート!$L911,\"‐\"))","v":"‐"},{"$f":"IF(入力シート!$K911<>\"\",入力シート!$K911,IF(入力シート!$M911<>\"\",入力シート!$M911,入力シート!$N911))","v":0},{"$f":"入力シート!I911","v":0},{"$f":"入力シート!O911","v":0},{"$f":"IF(入力シート!P911=\"×\",\"P\",\"PN\")","v":"PN"},{"$f":"計算結果!#REF!","v":{"$error":"#REF!"}},{"$f":"計算結果!#REF!","v":{"$error":"#REF!"}},{"$f":"計算結果!#REF!","v":{"$error":"#REF!"}},{"$f":"計算結果!#REF!","v":{"$error":"#REF!"}},{"$f":"計算結果!#REF!","v":{"$error":"#REF!"}},{"$f":"計算結果!#REF!","v":{"$error":"#REF!"}},{"$f":"計算結果!#REF!","v":{"$error":"#REF!"}},{"$f":"計算結果!#REF!","v":{"$error":"#REF!"}},{"$f":"計算結果!#REF!","v":{"$error":"#REF!"}},{"$f":"計算結果!#REF!","v":{"$error":"#REF!"}}]
[{"$f":"入力シート!A912","v":0},{"$f":"入力シート!G912","v":0},{"$f":"入力シート!H912","v":0},{"$f":"IF(入力シート!$J912<>\"\",入力シート!$J912,IF(入力シート!$L912<>\"\",入力シート!$L912,\"‐\"))","v":"‐"},{"$f":"IF(入力シート!$K912<>\"\",入力シート!$K912,IF(入力シート!$M912<>\"\",入力シート!$M912,入力シート!$N912))","v":0},{"$f":"入力シート!I912","v":0},{"$f":"入力シート!O912","v":0},{"$f":"IF(入力シート!P912=\"×\",\"P\",\"PN\")","v":"PN"},{"$f":"計算結果!#REF!","v":{"$error":"#REF!"}},{"$f":"計算結果!#REF!","v":{"$error":"#REF!"}},{"$f":"計算結果!#REF!","v":{"$error":"#REF!"}},{"$f":"計算結果!#REF!","v":{"$error":"#REF!"}},{"$f":"計算結果!#REF!","v":{"$error":"#REF!"}},{"$f":"計算結果!#REF!","v":{"$error":"#REF!"}},{"$f":"計算結果!#REF!","v":{"$error":"#REF!"}},{"$f":"計算結果!#REF!","v":{"$error":"#REF!"}},{"$f":"計算結果!#REF!","v":{"$error":"#REF!"}},{"$f":"計算結果!#REF!","v":{"$error":"#REF!"}}]
[{"$f":"入力シート!A913","v":0},{"$f":"入力シート!G913","v":0},{"$f":"入力シート!H913","v":0},{"$f":"IF(入力シート!$J913<>\"\",入力シート!$J913,IF(入力シート!$L913<>\"\",入力シート!$L913,\"‐\"))","v":"‐"},{"$f":"IF(入力シート!$K913<>\"\",入力シート!$K913,IF(入力シート!$M913<>\"\",入力シート!$M913,入力シート!$N913))","v":0},{"$f":"入力シート!I913","v":0},{"$f":"入力シート!O913","v":0},{"$f":"IF(入力シート!P913=\"×\",\"P\",\"PN\")","v":"PN"},{"$f":"計算結果!#REF!","v":{"$error":"#REF!"}},{"$f":"計算結果!#REF!","v":{"$error":"#REF!"}},{"$f":"計算結果!#REF!","v":{"$error":"#REF!"}},{"$f":"計算結果!#REF!","v":{"$error":"#REF!"}},{"$f":"計算結果!#REF!","v":{"$error":"#REF!"}},{"$f":"計算結果!#REF!","v":{"$error":"#REF!"}},{"$f":"計算結果!#REF!","v":{"$error":"#REF!"}},{"$f":"計算結果!#REF!","v":{"$error":"#REF!"}},{"$f":"計算結果!#REF!","v":{"$error":"#REF!"}},{"$f":"計算結果!#REF!","v":{"$error":"#REF!"}}]
[{"$f":"入力シート!A914","v":0},{"$f":"入力シート!G914","v":0},{"$f":"入力シート!H914","v":0},{"$f":"IF(入力シート!$J914<>\"\",入力シート!$J914,IF(入力シート!$L914<>\"\",入力シート!$L914,\"‐\"))","v":"‐"},{"$f":"IF(入力シート!$K914<>\"\",入力シート!$K914,IF(入力シート!$M914<>\"\",入力シート!$M914,入力シート!$N914))","v":0},{"$f":"入力シート!I914","v":0},{"$f":"入力シート!O914","v":0},{"$f":"IF(入力シート!P914=\"×\",\"P\",\"PN\")","v":"PN"},{"$f":"計算結果!#REF!","v":{"$error":"#REF!"}},{"$f":"計算結果!#REF!","v":{"$error":"#REF!"}},{"$f":"計算結果!#REF!","v":{"$error":"#REF!"}},{"$f":"計算結果!#REF!","v":{"$error":"#REF!"}},{"$f":"計算結果!#REF!","v":{"$error":"#REF!"}},{"$f":"計算結果!#REF!","v":{"$error":"#REF!"}},{"$f":"計算結果!#REF!","v":{"$error":"#REF!"}},{"$f":"計算結果!#REF!","v":{"$error":"#REF!"}},{"$f":"計算結果!#REF!","v":{"$error":"#REF!"}},{"$f":"計算結果!#REF!","v":{"$error":"#REF!"}}]
[{"$f":"入力シート!A915","v":0},{"$f":"入力シート!G915","v":0},{"$f":"入力シート!H915","v":0},{"$f":"IF(入力シート!$J915<>\"\",入力シート!$J915,IF(入力シート!$L915<>\"\",入力シート!$L915,\"‐\"))","v":"‐"},{"$f":"IF(入力シート!$K915<>\"\",入力シート!$K915,IF(入力シート!$M915<>\"\",入力シート!$M915,入力シート!$N915))","v":0},{"$f":"入力シート!I915","v":0},{"$f":"入力シート!O915","v":0},{"$f":"IF(入力シート!P915=\"×\",\"P\",\"PN\")","v":"PN"},{"$f":"計算結果!#REF!","v":{"$error":"#REF!"}},{"$f":"計算結果!#REF!","v":{"$error":"#REF!"}},{"$f":"計算結果!#REF!","v":{"$error":"#REF!"}},{"$f":"計算結果!#REF!","v":{"$error":"#REF!"}},{"$f":"計算結果!#REF!","v":{"$error":"#REF!"}},{"$f":"計算結果!#REF!","v":{"$error":"#REF!"}},{"$f":"計算結果!#REF!","v":{"$error":"#REF!"}},{"$f":"計算結果!#REF!","v":{"$error":"#REF!"}},{"$f":"計算結果!#REF!","v":{"$error":"#REF!"}},{"$f":"計算結果!#REF!","v":{"$error":"#REF!"}}]
[{"$f":"入力シート!A916","v":0},{"$f":"入力シート!G916","v":0},{"$f":"入力シート!H916","v":0},{"$f":"IF(入力シート!$J916<>\"\",入力シート!$J916,IF(入力シート!$L916<>\"\",入力シート!$L916,\"‐\"))","v":"‐"},{"$f":"IF(入力シート!$K916<>\"\",入力シート!$K916,IF(入力シート!$M916<>\"\",入力シート!$M916,入力シート!$N916))","v":0},{"$f":"入力シート!I916","v":0},{"$f":"入力シート!O916","v":0},{"$f":"IF(入力シート!P916=\"×\",\"P\",\"PN\")","v":"PN"},{"$f":"計算結果!#REF!","v":{"$error":"#REF!"}},{"$f":"計算結果!#REF!","v":{"$error":"#REF!"}},{"$f":"計算結果!#REF!","v":{"$error":"#REF!"}},{"$f":"計算結果!#REF!","v":{"$error":"#REF!"}},{"$f":"計算結果!#REF!","v":{"$error":"#REF!"}},{"$f":"計算結果!#REF!","v":{"$error":"#REF!"}},{"$f":"計算結果!#REF!","v":{"$error":"#REF!"}},{"$f":"計算結果!#REF!","v":{"$error":"#REF!"}},{"$f":"計算結果!#REF!","v":{"$error":"#REF!"}},{"$f":"計算結果!#REF!","v":{"$error":"#REF!"}}]
[{"$f":"入力シート!A917","v":0},{"$f":"入力シート!G917","v":0},{"$f":"入力シート!H917","v":0},{"$f":"IF(入力シート!$J917<>\"\",入力シート!$J917,IF(入力シート!$L917<>\"\",入力シート!$L917,\"‐\"))","v":"‐"},{"$f":"IF(入力シート!$K917<>\"\",入力シート!$K917,IF(入力シート!$M917<>\"\",入力シート!$M917,入力シート!$N917))","v":0},{"$f":"入力シート!I917","v":0},{"$f":"入力シート!O917","v":0},{"$f":"IF(入力シート!P917=\"×\",\"P\",\"PN\")","v":"PN"},{"$f":"計算結果!#REF!","v":{"$error":"#REF!"}},{"$f":"計算結果!#REF!","v":{"$error":"#REF!"}},{"$f":"計算結果!#REF!","v":{"$error":"#REF!"}},{"$f":"計算結果!#REF!","v":{"$error":"#REF!"}},{"$f":"計算結果!#REF!","v":{"$error":"#REF!"}},{"$f":"計算結果!#REF!","v":{"$error":"#REF!"}},{"$f":"計算結果!#REF!","v":{"$error":"#REF!"}},{"$f":"計算結果!#REF!","v":{"$error":"#REF!"}},{"$f":"計算結果!#REF!","v":{"$error":"#REF!"}},{"$f":"計算結果!#REF!","v":{"$error":"#REF!"}}]
[{"$f":"入力シート!A918","v":0},{"$f":"入力シート!G918","v":0},{"$f":"入力シート!H918","v":0},{"$f":"IF(入力シート!$J918<>\"\",入力シート!$J918,IF(入力シート!$L918<>\"\",入力シート!$L918,\"‐\"))","v":"‐"},{"$f":"IF(入力シート!$K918<>\"\",入力シート!$K918,IF(入力シート!$M918<>\"\",入力シート!$M918,入力シート!$N918))","v":0},{"$f":"入力シート!I918","v":0},{"$f":"入力シート!O918","v":0},{"$f":"IF(入力シート!P918=\"×\",\"P\",\"PN\")","v":"PN"},{"$f":"計算結果!#REF!","v":{"$error":"#REF!"}},{"$f":"計算結果!#REF!","v":{"$error":"#REF!"}},{"$f":"計算結果!#REF!","v":{"$error":"#REF!"}},{"$f":"計算結果!#REF!","v":{"$error":"#REF!"}},{"$f":"計算結果!#REF!","v":{"$error":"#REF!"}},{"$f":"計算結果!#REF!","v":{"$error":"#REF!"}},{"$f":"計算結果!#REF!","v":{"$error":"#REF!"}},{"$f":"計算結果!#REF!","v":{"$error":"#REF!"}},{"$f":"計算結果!#REF!","v":{"$error":"#REF!"}},{"$f":"計算結果!#REF!","v":{"$error":"#REF!"}}]
[{"$f":"入力シート!A919","v":0},{"$f":"入力シート!G919","v":0},{"$f":"入力シート!H919","v":0},{"$f":"IF(入力シート!$J919<>\"\",入力シート!$J919,IF(入力シート!$L919<>\"\",入力シート!$L919,\"‐\"))","v":"‐"},{"$f":"IF(入力シート!$K919<>\"\",入力シート!$K919,IF(入力シート!$M919<>\"\",入力シート!$M919,入力シート!$N919))","v":0},{"$f":"入力シート!I919","v":0},{"$f":"入力シート!O919","v":0},{"$f":"IF(入力シート!P919=\"×\",\"P\",\"PN\")","v":"PN"},{"$f":"計算結果!#REF!","v":{"$error":"#REF!"}},{"$f":"計算結果!#REF!","v":{"$error":"#REF!"}},{"$f":"計算結果!#REF!","v":{"$error":"#REF!"}},{"$f":"計算結果!#REF!","v":{"$error":"#REF!"}},{"$f":"計算結果!#REF!","v":{"$error":"#REF!"}},{"$f":"計算結果!#REF!","v":{"$error":"#REF!"}},{"$f":"計算結果!#REF!","v":{"$error":"#REF!"}},{"$f":"計算結果!#REF!","v":{"$error":"#REF!"}},{"$f":"計算結果!#REF!","v":{"$error":"#REF!"}},{"$f":"計算結果!#REF!","v":{"$error":"#REF!"}}]
[{"$f":"入力シート!A920","v":0},{"$f":"入力シート!G920","v":0},{"$f":"入力シート!H920","v":0},{"$f":"IF(入力シート!$J920<>\"\",入力シート!$J920,IF(入力シート!$L920<>\"\",入力シート!$L920,\"‐\"))","v":"‐"},{"$f":"IF(入力シート!$K920<>\"\",入力シート!$K920,IF(入力シート!$M920<>\"\",入力シート!$M920,入力シート!$N920))","v":0},{"$f":"入力シート!I920","v":0},{"$f":"入力シート!O920","v":0},{"$f":"IF(入力シート!P920=\"×\",\"P\",\"PN\")","v":"PN"},{"$f":"計算結果!#REF!","v":{"$error":"#REF!"}},{"$f":"計算結果!#REF!","v":{"$error":"#REF!"}},{"$f":"計算結果!#REF!","v":{"$error":"#REF!"}},{"$f":"計算結果!#REF!","v":{"$error":"#REF!"}},{"$f":"計算結果!#REF!","v":{"$error":"#REF!"}},{"$f":"計算結果!#REF!","v":{"$error":"#REF!"}},{"$f":"計算結果!#REF!","v":{"$error":"#REF!"}},{"$f":"計算結果!#REF!","v":{"$error":"#REF!"}},{"$f":"計算結果!#REF!","v":{"$error":"#REF!"}},{"$f":"計算結果!#REF!","v":{"$error":"#REF!"}}]
[{"$f":"入力シート!A921","v":0},{"$f":"入力シート!G921","v":0},{"$f":"入力シート!H921","v":0},{"$f":"IF(入力シート!$J921<>\"\",入力シート!$J921,IF(入力シート!$L921<>\"\",入力シート!$L921,\"‐\"))","v":"‐"},{"$f":"IF(入力シート!$K921<>\"\",入力シート!$K921,IF(入力シート!$M921<>\"\",入力シート!$M921,入力シート!$N921))","v":0},{"$f":"入力シート!I921","v":0},{"$f":"入力シート!O921","v":0},{"$f":"IF(入力シート!P921=\"×\",\"P\",\"PN\")","v":"PN"},{"$f":"計算結果!#REF!","v":{"$error":"#REF!"}},{"$f":"計算結果!#REF!","v":{"$error":"#REF!"}},{"$f":"計算結果!#REF!","v":{"$error":"#REF!"}},{"$f":"計算結果!#REF!","v":{"$error":"#REF!"}},{"$f":"計算結果!#REF!","v":{"$error":"#REF!"}},{"$f":"計算結果!#REF!","v":{"$error":"#REF!"}},{"$f":"計算結果!#REF!","v":{"$error":"#REF!"}},{"$f":"計算結果!#REF!","v":{"$error":"#REF!"}},{"$f":"計算結果!#REF!","v":{"$error":"#REF!"}},{"$f":"計算結果!#REF!","v":{"$error":"#REF!"}}]
[{"$f":"入力シート!A922","v":0},{"$f":"入力シート!G922","v":0},{"$f":"入力シート!H922","v":0},{"$f":"IF(入力シート!$J922<>\"\",入力シート!$J922,IF(入力シート!$L922<>\"\",入力シート!$L922,\"‐\"))","v":"‐"},{"$f":"IF(入力シート!$K922<>\"\",入力シート!$K922,IF(入力シート!$M922<>\"\",入力シート!$M922,入力シート!$N922))","v":0},{"$f":"入力シート!I922","v":0},{"$f":"入力シート!O922","v":0},{"$f":"IF(入力シート!P922=\"×\",\"P\",\"PN\")","v":"PN"},{"$f":"計算結果!#REF!","v":{"$error":"#REF!"}},{"$f":"計算結果!#REF!","v":{"$error":"#REF!"}},{"$f":"計算結果!#REF!","v":{"$error":"#REF!"}},{"$f":"計算結果!#REF!","v":{"$error":"#REF!"}},{"$f":"計算結果!#REF!","v":{"$error":"#REF!"}},{"$f":"計算結果!#REF!","v":{"$error":"#REF!"}},{"$f":"計算結果!#REF!","v":{"$error":"#REF!"}},{"$f":"計算結果!#REF!","v":{"$error":"#REF!"}},{"$f":"計算結果!#REF!","v":{"$error":"#REF!"}},{"$f":"計算結果!#REF!","v":{"$error":"#REF!"}}]
[{"$f":"入力シート!A923","v":0},{"$f":"入力シート!G923","v":0},{"$f":"入力シート!H923","v":0},{"$f":"IF(入力シート!$J923<>\"\",入力シート!$J923,IF(入力シート!$L923<>\"\",入力シート!$L923,\"‐\"))","v":"‐"},{"$f":"IF(入力シート!$K923<>\"\",入力シート!$K923,IF(入力シート!$M923<>\"\",入力シート!$M923,入力シート!$N923))","v":0},{"$f":"入力シート!I923","v":0},{"$f":"入力シート!O923","v":0},{"$f":"IF(入力シート!P923=\"×\",\"P\",\"PN\")","v":"PN"},{"$f":"計算結果!#REF!","v":{"$error":"#REF!"}},{"$f":"計算結果!#REF!","v":{"$error":"#REF!"}},{"$f":"計算結果!#REF!","v":{"$error":"#REF!"}},{"$f":"計算結果!#REF!","v":{"$error":"#REF!"}},{"$f":"計算結果!#REF!","v":{"$error":"#REF!"}},{"$f":"計算結果!#REF!","v":{"$error":"#REF!"}},{"$f":"計算結果!#REF!","v":{"$error":"#REF!"}},{"$f":"計算結果!#REF!","v":{"$error":"#REF!"}},{"$f":"計算結果!#REF!","v":{"$error":"#REF!"}},{"$f":"計算結果!#REF!","v":{"$error":"#REF!"}}]
[{"$f":"入力シート!A924","v":0},{"$f":"入力シート!G924","v":0},{"$f":"入力シート!H924","v":0},{"$f":"IF(入力シート!$J924<>\"\",入力シート!$J924,IF(入力シート!$L924<>\"\",入力シート!$L924,\"‐\"))","v":"‐"},{"$f":"IF(入力シート!$K924<>\"\",入力シート!$K924,IF(入力シート!$M924<>\"\",入力シート!$M924,入力シート!$N924))","v":0},{"$f":"入力シート!I924","v":0},{"$f":"入力シート!O924","v":0},{"$f":"IF(入力シート!P924=\"×\",\"P\",\"PN\")","v":"PN"},{"$f":"計算結果!#REF!","v":{"$error":"#REF!"}},{"$f":"計算結果!#REF!","v":{"$error":"#REF!"}},{"$f":"計算結果!#REF!","v":{"$error":"#REF!"}},{"$f":"計算結果!#REF!","v":{"$error":"#REF!"}},{"$f":"計算結果!#REF!","v":{"$error":"#REF!"}},{"$f":"計算結果!#REF!","v":{"$error":"#REF!"}},{"$f":"計算結果!#REF!","v":{"$error":"#REF!"}},{"$f":"計算結果!#REF!","v":{"$error":"#REF!"}},{"$f":"計算結果!#REF!","v":{"$error":"#REF!"}},{"$f":"計算結果!#REF!","v":{"$error":"#REF!"}}]
[{"$f":"入力シート!A925","v":0},{"$f":"入力シート!G925","v":0},{"$f":"入力シート!H925","v":0},{"$f":"IF(入力シート!$J925<>\"\",入力シート!$J925,IF(入力シート!$L925<>\"\",入力シート!$L925,\"‐\"))","v":"‐"},{"$f":"IF(入力シート!$K925<>\"\",入力シート!$K925,IF(入力シート!$M925<>\"\",入力シート!$M925,入力シート!$N925))","v":0},{"$f":"入力シート!I925","v":0},{"$f":"入力シート!O925","v":0},{"$f":"IF(入力シート!P925=\"×\",\"P\",\"PN\")","v":"PN"},{"$f":"計算結果!#REF!","v":{"$error":"#REF!"}},{"$f":"計算結果!#REF!","v":{"$error":"#REF!"}},{"$f":"計算結果!#REF!","v":{"$error":"#REF!"}},{"$f":"計算結果!#REF!","v":{"$error":"#REF!"}},{"$f":"計算結果!#REF!","v":{"$error":"#REF!"}},{"$f":"計算結果!#REF!","v":{"$error":"#REF!"}},{"$f":"計算結果!#REF!","v":{"$error":"#REF!"}},{"$f":"計算結果!#REF!","v":{"$error":"#REF!"}},{"$f":"計算結果!#REF!","v":{"$error":"#REF!"}},{"$f":"計算結果!#REF!","v":{"$error":"#REF!"}}]
[{"$f":"入力シート!A926","v":0},{"$f":"入力シート!G926","v":0},{"$f":"入力シート!H926","v":0},{"$f":"IF(入力シート!$J926<>\"\",入力シート!$J926,IF(入力シート!$L926<>\"\",入力シート!$L926,\"‐\"))","v":"‐"},{"$f":"IF(入力シート!$K926<>\"\",入力シート!$K926,IF(入力シート!$M926<>\"\",入力シート!$M926,入力シート!$N926))","v":0},{"$f":"入力シート!I926","v":0},{"$f":"入力シート!O926","v":0},{"$f":"IF(入力シート!P926=\"×\",\"P\",\"PN\")","v":"PN"},{"$f":"計算結果!#REF!","v":{"$error":"#REF!"}},{"$f":"計算結果!#REF!","v":{"$error":"#REF!"}},{"$f":"計算結果!#REF!","v":{"$error":"#REF!"}},{"$f":"計算結果!#REF!","v":{"$error":"#REF!"}},{"$f":"計算結果!#REF!","v":{"$error":"#REF!"}},{"$f":"計算結果!#REF!","v":{"$error":"#REF!"}},{"$f":"計算結果!#REF!","v":{"$error":"#REF!"}},{"$f":"計算結果!#REF!","v":{"$error":"#REF!"}},{"$f":"計算結果!#REF!","v":{"$error":"#REF!"}},{"$f":"計算結果!#REF!","v":{"$error":"#REF!"}}]
[{"$f":"入力シート!A927","v":0},{"$f":"入力シート!G927","v":0},{"$f":"入力シート!H927","v":0},{"$f":"IF(入力シート!$J927<>\"\",入力シート!$J927,IF(入力シート!$L927<>\"\",入力シート!$L927,\"‐\"))","v":"‐"},{"$f":"IF(入力シート!$K927<>\"\",入力シート!$K927,IF(入力シート!$M927<>\"\",入力シート!$M927,入力シート!$N927))","v":0},{"$f":"入力シート!I927","v":0},{"$f":"入力シート!O927","v":0},{"$f":"IF(入力シート!P927=\"×\",\"P\",\"PN\")","v":"PN"},{"$f":"計算結果!#REF!","v":{"$error":"#REF!"}},{"$f":"計算結果!#REF!","v":{"$error":"#REF!"}},{"$f":"計算結果!#REF!","v":{"$error":"#REF!"}},{"$f":"計算結果!#REF!","v":{"$error":"#REF!"}},{"$f":"計算結果!#REF!","v":{"$error":"#REF!"}},{"$f":"計算結果!#REF!","v":{"$error":"#REF!"}},{"$f":"計算結果!#REF!","v":{"$error":"#REF!"}},{"$f":"計算結果!#REF!","v":{"$error":"#REF!"}},{"$f":"計算結果!#REF!","v":{"$error":"#REF!"}},{"$f":"計算結果!#REF!","v":{"$error":"#REF!"}}]
[{"$f":"入力シート!A928","v":0},{"$f":"入力シート!G928","v":0},{"$f":"入力シート!H928","v":0},{"$f":"IF(入力シート!$J928<>\"\",入力シート!$J928,IF(入力シート!$L928<>\"\",入力シート!$L928,\"‐\"))","v":"‐"},{"$f":"IF(入力シート!$K928<>\"\",入力シート!$K928,IF(入力シート!$M928<>\"\",入力シート!$M928,入力シート!$N928))","v":0},{"$f":"入力シート!I928","v":0},{"$f":"入力シート!O928","v":0},{"$f":"IF(入力シート!P928=\"×\",\"P\",\"PN\")","v":"PN"},{"$f":"計算結果!#REF!","v":{"$error":"#REF!"}},{"$f":"計算結果!#REF!","v":{"$error":"#REF!"}},{"$f":"計算結果!#REF!","v":{"$error":"#REF!"}},{"$f":"計算結果!#REF!","v":{"$error":"#REF!"}},{"$f":"計算結果!#REF!","v":{"$error":"#REF!"}},{"$f":"計算結果!#REF!","v":{"$error":"#REF!"}},{"$f":"計算結果!#REF!","v":{"$error":"#REF!"}},{"$f":"計算結果!#REF!","v":{"$error":"#REF!"}},{"$f":"計算結果!#REF!","v":{"$error":"#REF!"}},{"$f":"計算結果!#REF!","v":{"$error":"#REF!"}}]
[{"$f":"入力シート!A929","v":0},{"$f":"入力シート!G929","v":0},{"$f":"入力シート!H929","v":0},{"$f":"IF(入力シート!$J929<>\"\",入力シート!$J929,IF(入力シート!$L929<>\"\",入力シート!$L929,\"‐\"))","v":"‐"},{"$f":"IF(入力シート!$K929<>\"\",入力シート!$K929,IF(入力シート!$M929<>\"\",入力シート!$M929,入力シート!$N929))","v":0},{"$f":"入力シート!I929","v":0},{"$f":"入力シート!O929","v":0},{"$f":"IF(入力シート!P929=\"×\",\"P\",\"PN\")","v":"PN"},{"$f":"計算結果!#REF!","v":{"$error":"#REF!"}},{"$f":"計算結果!#REF!","v":{"$error":"#REF!"}},{"$f":"計算結果!#REF!","v":{"$error":"#REF!"}},{"$f":"計算結果!#REF!","v":{"$error":"#REF!"}},{"$f":"計算結果!#REF!","v":{"$error":"#REF!"}},{"$f":"計算結果!#REF!","v":{"$error":"#REF!"}},{"$f":"計算結果!#REF!","v":{"$error":"#REF!"}},{"$f":"計算結果!#REF!","v":{"$error":"#REF!"}},{"$f":"計算結果!#REF!","v":{"$error":"#REF!"}},{"$f":"計算結果!#REF!","v":{"$error":"#REF!"}}]
[{"$f":"入力シート!A930","v":0},{"$f":"入力シート!G930","v":0},{"$f":"入力シート!H930","v":0},{"$f":"IF(入力シート!$J930<>\"\",入力シート!$J930,IF(入力シート!$L930<>\"\",入力シート!$L930,\"‐\"))","v":"‐"},{"$f":"IF(入力シート!$K930<>\"\",入力シート!$K930,IF(入力シート!$M930<>\"\",入力シート!$M930,入力シート!$N930))","v":0},{"$f":"入力シート!I930","v":0},{"$f":"入力シート!O930","v":0},{"$f":"IF(入力シート!P930=\"×\",\"P\",\"PN\")","v":"PN"},{"$f":"計算結果!#REF!","v":{"$error":"#REF!"}},{"$f":"計算結果!#REF!","v":{"$error":"#REF!"}},{"$f":"計算結果!#REF!","v":{"$error":"#REF!"}},{"$f":"計算結果!#REF!","v":{"$error":"#REF!"}},{"$f":"計算結果!#REF!","v":{"$error":"#REF!"}},{"$f":"計算結果!#REF!","v":{"$error":"#REF!"}},{"$f":"計算結果!#REF!","v":{"$error":"#REF!"}},{"$f":"計算結果!#REF!","v":{"$error":"#REF!"}},{"$f":"計算結果!#REF!","v":{"$error":"#REF!"}},{"$f":"計算結果!#REF!","v":{"$error":"#REF!"}}]
[{"$f":"入力シート!A931","v":0},{"$f":"入力シート!G931","v":0},{"$f":"入力シート!H931","v":0},{"$f":"IF(入力シート!$J931<>\"\",入力シート!$J931,IF(入力シート!$L931<>\"\",入力シート!$L931,\"‐\"))","v":"‐"},{"$f":"IF(入力シート!$K931<>\"\",入力シート!$K931,IF(入力シート!$M931<>\"\",入力シート!$M931,入力シート!$N931))","v":0},{"$f":"入力シート!I931","v":0},{"$f":"入力シート!O931","v":0},{"$f":"IF(入力シート!P931=\"×\",\"P\",\"PN\")","v":"PN"},{"$f":"計算結果!#REF!","v":{"$error":"#REF!"}},{"$f":"計算結果!#REF!","v":{"$error":"#REF!"}},{"$f":"計算結果!#REF!","v":{"$error":"#REF!"}},{"$f":"計算結果!#REF!","v":{"$error":"#REF!"}},{"$f":"計算結果!#REF!","v":{"$error":"#REF!"}},{"$f":"計算結果!#REF!","v":{"$error":"#REF!"}},{"$f":"計算結果!#REF!","v":{"$error":"#REF!"}},{"$f":"計算結果!#REF!","v":{"$error":"#REF!"}},{"$f":"計算結果!#REF!","v":{"$error":"#REF!"}},{"$f":"計算結果!#REF!","v":{"$error":"#REF!"}}]
[{"$f":"入力シート!A932","v":0},{"$f":"入力シート!G932","v":0},{"$f":"入力シート!H932","v":0},{"$f":"IF(入力シート!$J932<>\"\",入力シート!$J932,IF(入力シート!$L932<>\"\",入力シート!$L932,\"‐\"))","v":"‐"},{"$f":"IF(入力シート!$K932<>\"\",入力シート!$K932,IF(入力シート!$M932<>\"\",入力シート!$M932,入力シート!$N932))","v":0},{"$f":"入力シート!I932","v":0},{"$f":"入力シート!O932","v":0},{"$f":"IF(入力シート!P932=\"×\",\"P\",\"PN\")","v":"PN"},{"$f":"計算結果!#REF!","v":{"$error":"#REF!"}},{"$f":"計算結果!#REF!","v":{"$error":"#REF!"}},{"$f":"計算結果!#REF!","v":{"$error":"#REF!"}},{"$f":"計算結果!#REF!","v":{"$error":"#REF!"}},{"$f":"計算結果!#REF!","v":{"$error":"#REF!"}},{"$f":"計算結果!#REF!","v":{"$error":"#REF!"}},{"$f":"計算結果!#REF!","v":{"$error":"#REF!"}},{"$f":"計算結果!#REF!","v":{"$error":"#REF!"}},{"$f":"計算結果!#REF!","v":{"$error":"#REF!"}},{"$f":"計算結果!#REF!","v":{"$error":"#REF!"}}]
[{"$f":"入力シート!A933","v":0},{"$f":"入力シート!G933","v":0},{"$f":"入力シート!H933","v":0},{"$f":"IF(入力シート!$J933<>\"\",入力シート!$J933,IF(入力シート!$L933<>\"\",入力シート!$L933,\"‐\"))","v":"‐"},{"$f":"IF(入力シート!$K933<>\"\",入力シート!$K933,IF(入力シート!$M933<>\"\",入力シート!$M933,入力シート!$N933))","v":0},{"$f":"入力シート!I933","v":0},{"$f":"入力シート!O933","v":0},{"$f":"IF(入力シート!P933=\"×\",\"P\",\"PN\")","v":"PN"},{"$f":"計算結果!#REF!","v":{"$error":"#REF!"}},{"$f":"計算結果!#REF!","v":{"$error":"#REF!"}},{"$f":"計算結果!#REF!","v":{"$error":"#REF!"}},{"$f":"計算結果!#REF!","v":{"$error":"#REF!"}},{"$f":"計算結果!#REF!","v":{"$error":"#REF!"}},{"$f":"計算結果!#REF!","v":{"$error":"#REF!"}},{"$f":"計算結果!#REF!","v":{"$error":"#REF!"}},{"$f":"計算結果!#REF!","v":{"$error":"#REF!"}},{"$f":"計算結果!#REF!","v":{"$error":"#REF!"}},{"$f":"計算結果!#REF!","v":{"$error":"#REF!"}}]
[{"$f":"入力シート!A934","v":0},{"$f":"入力シート!G934","v":0},{"$f":"入力シート!H934","v":0},{"$f":"IF(入力シート!$J934<>\"\",入力シート!$J934,IF(入力シート!$L934<>\"\",入力シート!$L934,\"‐\"))","v":"‐"},{"$f":"IF(入力シート!$K934<>\"\",入力シート!$K934,IF(入力シート!$M934<>\"\",入力シート!$M934,入力シート!$N934))","v":0},{"$f":"入力シート!I934","v":0},{"$f":"入力シート!O934","v":0},{"$f":"IF(入力シート!P934=\"×\",\"P\",\"PN\")","v":"PN"},{"$f":"計算結果!#REF!","v":{"$error":"#REF!"}},{"$f":"計算結果!#REF!","v":{"$error":"#REF!"}},{"$f":"計算結果!#REF!","v":{"$error":"#REF!"}},{"$f":"計算結果!#REF!","v":{"$error":"#REF!"}},{"$f":"計算結果!#REF!","v":{"$error":"#REF!"}},{"$f":"計算結果!#REF!","v":{"$error":"#REF!"}},{"$f":"計算結果!#REF!","v":{"$error":"#REF!"}},{"$f":"計算結果!#REF!","v":{"$error":"#REF!"}},{"$f":"計算結果!#REF!","v":{"$error":"#REF!"}},{"$f":"計算結果!#REF!","v":{"$error":"#REF!"}}]
[{"$f":"入力シート!A935","v":0},{"$f":"入力シート!G935","v":0},{"$f":"入力シート!H935","v":0},{"$f":"IF(入力シート!$J935<>\"\",入力シート!$J935,IF(入力シート!$L935<>\"\",入力シート!$L935,\"‐\"))","v":"‐"},{"$f":"IF(入力シート!$K935<>\"\",入力シート!$K935,IF(入力シート!$M935<>\"\",入力シート!$M935,入力シート!$N935))","v":0},{"$f":"入力シート!I935","v":0},{"$f":"入力シート!O935","v":0},{"$f":"IF(入力シート!P935=\"×\",\"P\",\"PN\")","v":"PN"},{"$f":"計算結果!#REF!","v":{"$error":"#REF!"}},{"$f":"計算結果!#REF!","v":{"$error":"#REF!"}},{"$f":"計算結果!#REF!","v":{"$error":"#REF!"}},{"$f":"計算結果!#REF!","v":{"$error":"#REF!"}},{"$f":"計算結果!#REF!","v":{"$error":"#REF!"}},{"$f":"計算結果!#REF!","v":{"$error":"#REF!"}},{"$f":"計算結果!#REF!","v":{"$error":"#REF!"}},{"$f":"計算結果!#REF!","v":{"$error":"#REF!"}},{"$f":"計算結果!#REF!","v":{"$error":"#REF!"}},{"$f":"計算結果!#REF!","v":{"$error":"#REF!"}}]
[{"$f":"入力シート!A936","v":0},{"$f":"入力シート!G936","v":0},{"$f":"入力シート!H936","v":0},{"$f":"IF(入力シート!$J936<>\"\",入力シート!$J936,IF(入力シート!$L936<>\"\",入力シート!$L936,\"‐\"))","v":"‐"},{"$f":"IF(入力シート!$K936<>\"\",入力シート!$K936,IF(入力シート!$M936<>\"\",入力シート!$M936,入力シート!$N936))","v":0},{"$f":"入力シート!I936","v":0},{"$f":"入力シート!O936","v":0},{"$f":"IF(入力シート!P936=\"×\",\"P\",\"PN\")","v":"PN"},{"$f":"計算結果!#REF!","v":{"$error":"#REF!"}},{"$f":"計算結果!#REF!","v":{"$error":"#REF!"}},{"$f":"計算結果!#REF!","v":{"$error":"#REF!"}},{"$f":"計算結果!#REF!","v":{"$error":"#REF!"}},{"$f":"計算結果!#REF!","v":{"$error":"#REF!"}},{"$f":"計算結果!#REF!","v":{"$error":"#REF!"}},{"$f":"計算結果!#REF!","v":{"$error":"#REF!"}},{"$f":"計算結果!#REF!","v":{"$error":"#REF!"}},{"$f":"計算結果!#REF!","v":{"$error":"#REF!"}},{"$f":"計算結果!#REF!","v":{"$error":"#REF!"}}]
[{"$f":"入力シート!A937","v":0},{"$f":"入力シート!G937","v":0},{"$f":"入力シート!H937","v":0},{"$f":"IF(入力シート!$J937<>\"\",入力シート!$J937,IF(入力シート!$L937<>\"\",入力シート!$L937,\"‐\"))","v":"‐"},{"$f":"IF(入力シート!$K937<>\"\",入力シート!$K937,IF(入力シート!$M937<>\"\",入力シート!$M937,入力シート!$N937))","v":0},{"$f":"入力シート!I937","v":0},{"$f":"入力シート!O937","v":0},{"$f":"IF(入力シート!P937=\"×\",\"P\",\"PN\")","v":"PN"},{"$f":"計算結果!#REF!","v":{"$error":"#REF!"}},{"$f":"計算結果!#REF!","v":{"$error":"#REF!"}},{"$f":"計算結果!#REF!","v":{"$error":"#REF!"}},{"$f":"計算結果!#REF!","v":{"$error":"#REF!"}},{"$f":"計算結果!#REF!","v":{"$error":"#REF!"}},{"$f":"計算結果!#REF!","v":{"$error":"#REF!"}},{"$f":"計算結果!#REF!","v":{"$error":"#REF!"}},{"$f":"計算結果!#REF!","v":{"$error":"#REF!"}},{"$f":"計算結果!#REF!","v":{"$error":"#REF!"}},{"$f":"計算結果!#REF!","v":{"$error":"#REF!"}}]
[{"$f":"入力シート!A938","v":0},{"$f":"入力シート!G938","v":0},{"$f":"入力シート!H938","v":0},{"$f":"IF(入力シート!$J938<>\"\",入力シート!$J938,IF(入力シート!$L938<>\"\",入力シート!$L938,\"‐\"))","v":"‐"},{"$f":"IF(入力シート!$K938<>\"\",入力シート!$K938,IF(入力シート!$M938<>\"\",入力シート!$M938,入力シート!$N938))","v":0},{"$f":"入力シート!I938","v":0},{"$f":"入力シート!O938","v":0},{"$f":"IF(入力シート!P938=\"×\",\"P\",\"PN\")","v":"PN"},{"$f":"計算結果!#REF!","v":{"$error":"#REF!"}},{"$f":"計算結果!#REF!","v":{"$error":"#REF!"}},{"$f":"計算結果!#REF!","v":{"$error":"#REF!"}},{"$f":"計算結果!#REF!","v":{"$error":"#REF!"}},{"$f":"計算結果!#REF!","v":{"$error":"#REF!"}},{"$f":"計算結果!#REF!","v":{"$error":"#REF!"}},{"$f":"計算結果!#REF!","v":{"$error":"#REF!"}},{"$f":"計算結果!#REF!","v":{"$error":"#REF!"}},{"$f":"計算結果!#REF!","v":{"$error":"#REF!"}},{"$f":"計算結果!#REF!","v":{"$error":"#REF!"}}]
[{"$f":"入力シート!A939","v":0},{"$f":"入力シート!G939","v":0},{"$f":"入力シート!H939","v":0},{"$f":"IF(入力シート!$J939<>\"\",入力シート!$J939,IF(入力シート!$L939<>\"\",入力シート!$L939,\"‐\"))","v":"‐"},{"$f":"IF(入力シート!$K939<>\"\",入力シート!$K939,IF(入力シート!$M939<>\"\",入力シート!$M939,入力シート!$N939))","v":0},{"$f":"入力シート!I939","v":0},{"$f":"入力シート!O939","v":0},{"$f":"IF(入力シート!P939=\"×\",\"P\",\"PN\")","v":"PN"},{"$f":"計算結果!#REF!","v":{"$error":"#REF!"}},{"$f":"計算結果!#REF!","v":{"$error":"#REF!"}},{"$f":"計算結果!#REF!","v":{"$error":"#REF!"}},{"$f":"計算結果!#REF!","v":{"$error":"#REF!"}},{"$f":"計算結果!#REF!","v":{"$error":"#REF!"}},{"$f":"計算結果!#REF!","v":{"$error":"#REF!"}},{"$f":"計算結果!#REF!","v":{"$error":"#REF!"}},{"$f":"計算結果!#REF!","v":{"$error":"#REF!"}},{"$f":"計算結果!#REF!","v":{"$error":"#REF!"}},{"$f":"計算結果!#REF!","v":{"$error":"#REF!"}}]
[{"$f":"入力シート!A940","v":0},{"$f":"入力シート!G940","v":0},{"$f":"入力シート!H940","v":0},{"$f":"IF(入力シート!$J940<>\"\",入力シート!$J940,IF(入力シート!$L940<>\"\",入力シート!$L940,\"‐\"))","v":"‐"},{"$f":"IF(入力シート!$K940<>\"\",入力シート!$K940,IF(入力シート!$M940<>\"\",入力シート!$M940,入力シート!$N940))","v":0},{"$f":"入力シート!I940","v":0},{"$f":"入力シート!O940","v":0},{"$f":"IF(入力シート!P940=\"×\",\"P\",\"PN\")","v":"PN"},{"$f":"計算結果!#REF!","v":{"$error":"#REF!"}},{"$f":"計算結果!#REF!","v":{"$error":"#REF!"}},{"$f":"計算結果!#REF!","v":{"$error":"#REF!"}},{"$f":"計算結果!#REF!","v":{"$error":"#REF!"}},{"$f":"計算結果!#REF!","v":{"$error":"#REF!"}},{"$f":"計算結果!#REF!","v":{"$error":"#REF!"}},{"$f":"計算結果!#REF!","v":{"$error":"#REF!"}},{"$f":"計算結果!#REF!","v":{"$error":"#REF!"}},{"$f":"計算結果!#REF!","v":{"$error":"#REF!"}},{"$f":"計算結果!#REF!","v":{"$error":"#REF!"}}]
[{"$f":"入力シート!A941","v":0},{"$f":"入力シート!G941","v":0},{"$f":"入力シート!H941","v":0},{"$f":"IF(入力シート!$J941<>\"\",入力シート!$J941,IF(入力シート!$L941<>\"\",入力シート!$L941,\"‐\"))","v":"‐"},{"$f":"IF(入力シート!$K941<>\"\",入力シート!$K941,IF(入力シート!$M941<>\"\",入力シート!$M941,入力シート!$N941))","v":0},{"$f":"入力シート!I941","v":0},{"$f":"入力シート!O941","v":0},{"$f":"IF(入力シート!P941=\"×\",\"P\",\"PN\")","v":"PN"},{"$f":"計算結果!#REF!","v":{"$error":"#REF!"}},{"$f":"計算結果!#REF!","v":{"$error":"#REF!"}},{"$f":"計算結果!#REF!","v":{"$error":"#REF!"}},{"$f":"計算結果!#REF!","v":{"$error":"#REF!"}},{"$f":"計算結果!#REF!","v":{"$error":"#REF!"}},{"$f":"計算結果!#REF!","v":{"$error":"#REF!"}},{"$f":"計算結果!#REF!","v":{"$error":"#REF!"}},{"$f":"計算結果!#REF!","v":{"$error":"#REF!"}},{"$f":"計算結果!#REF!","v":{"$error":"#REF!"}},{"$f":"計算結果!#REF!","v":{"$error":"#REF!"}}]
[{"$f":"入力シート!A942","v":0},{"$f":"入力シート!G942","v":0},{"$f":"入力シート!H942","v":0},{"$f":"IF(入力シート!$J942<>\"\",入力シート!$J942,IF(入力シート!$L942<>\"\",入力シート!$L942,\"‐\"))","v":"‐"},{"$f":"IF(入力シート!$K942<>\"\",入力シート!$K942,IF(入力シート!$M942<>\"\",入力シート!$M942,入力シート!$N942))","v":0},{"$f":"入力シート!I942","v":0},{"$f":"入力シート!O942","v":0},{"$f":"IF(入力シート!P942=\"×\",\"P\",\"PN\")","v":"PN"},{"$f":"計算結果!#REF!","v":{"$error":"#REF!"}},{"$f":"計算結果!#REF!","v":{"$error":"#REF!"}},{"$f":"計算結果!#REF!","v":{"$error":"#REF!"}},{"$f":"計算結果!#REF!","v":{"$error":"#REF!"}},{"$f":"計算結果!#REF!","v":{"$error":"#REF!"}},{"$f":"計算結果!#REF!","v":{"$error":"#REF!"}},{"$f":"計算結果!#REF!","v":{"$error":"#REF!"}},{"$f":"計算結果!#REF!","v":{"$error":"#REF!"}},{"$f":"計算結果!#REF!","v":{"$error":"#REF!"}},{"$f":"計算結果!#REF!","v":{"$error":"#REF!"}}]
[{"$f":"入力シート!A943","v":0},{"$f":"入力シート!G943","v":0},{"$f":"入力シート!H943","v":0},{"$f":"IF(入力シート!$J943<>\"\",入力シート!$J943,IF(入力シート!$L943<>\"\",入力シート!$L943,\"‐\"))","v":"‐"},{"$f":"IF(入力シート!$K943<>\"\",入力シート!$K943,IF(入力シート!$M943<>\"\",入力シート!$M943,入力シート!$N943))","v":0},{"$f":"入力シート!I943","v":0},{"$f":"入力シート!O943","v":0},{"$f":"IF(入力シート!P943=\"×\",\"P\",\"PN\")","v":"PN"},{"$f":"計算結果!#REF!","v":{"$error":"#REF!"}},{"$f":"計算結果!#REF!","v":{"$error":"#REF!"}},{"$f":"計算結果!#REF!","v":{"$error":"#REF!"}},{"$f":"計算結果!#REF!","v":{"$error":"#REF!"}},{"$f":"計算結果!#REF!","v":{"$error":"#REF!"}},{"$f":"計算結果!#REF!","v":{"$error":"#REF!"}},{"$f":"計算結果!#REF!","v":{"$error":"#REF!"}},{"$f":"計算結果!#REF!","v":{"$error":"#REF!"}},{"$f":"計算結果!#REF!","v":{"$error":"#REF!"}},{"$f":"計算結果!#REF!","v":{"$error":"#REF!"}}]
[{"$f":"入力シート!A944","v":0},{"$f":"入力シート!G944","v":0},{"$f":"入力シート!H944","v":0},{"$f":"IF(入力シート!$J944<>\"\",入力シート!$J944,IF(入力シート!$L944<>\"\",入力シート!$L944,\"‐\"))","v":"‐"},{"$f":"IF(入力シート!$K944<>\"\",入力シート!$K944,IF(入力シート!$M944<>\"\",入力シート!$M944,入力シート!$N944))","v":0},{"$f":"入力シート!I944","v":0},{"$f":"入力シート!O944","v":0},{"$f":"IF(入力シート!P944=\"×\",\"P\",\"PN\")","v":"PN"},{"$f":"計算結果!#REF!","v":{"$error":"#REF!"}},{"$f":"計算結果!#REF!","v":{"$error":"#REF!"}},{"$f":"計算結果!#REF!","v":{"$error":"#REF!"}},{"$f":"計算結果!#REF!","v":{"$error":"#REF!"}},{"$f":"計算結果!#REF!","v":{"$error":"#REF!"}},{"$f":"計算結果!#REF!","v":{"$error":"#REF!"}},{"$f":"計算結果!#REF!","v":{"$error":"#REF!"}},{"$f":"計算結果!#REF!","v":{"$error":"#REF!"}},{"$f":"計算結果!#REF!","v":{"$error":"#REF!"}},{"$f":"計算結果!#REF!","v":{"$error":"#REF!"}}]
[{"$f":"入力シート!A945","v":0},{"$f":"入力シート!G945","v":0},{"$f":"入力シート!H945","v":0},{"$f":"IF(入力シート!$J945<>\"\",入力シート!$J945,IF(入力シート!$L945<>\"\",入力シート!$L945,\"‐\"))","v":"‐"},{"$f":"IF(入力シート!$K945<>\"\",入力シート!$K945,IF(入力シート!$M945<>\"\",入力シート!$M945,入力シート!$N945))","v":0},{"$f":"入力シート!I945","v":0},{"$f":"入力シート!O945","v":0},{"$f":"IF(入力シート!P945=\"×\",\"P\",\"PN\")","v":"PN"},{"$f":"計算結果!#REF!","v":{"$error":"#REF!"}},{"$f":"計算結果!#REF!","v":{"$error":"#REF!"}},{"$f":"計算結果!#REF!","v":{"$error":"#REF!"}},{"$f":"計算結果!#REF!","v":{"$error":"#REF!"}},{"$f":"計算結果!#REF!","v":{"$error":"#REF!"}},{"$f":"計算結果!#REF!","v":{"$error":"#REF!"}},{"$f":"計算結果!#REF!","v":{"$error":"#REF!"}},{"$f":"計算結果!#REF!","v":{"$error":"#REF!"}},{"$f":"計算結果!#REF!","v":{"$error":"#REF!"}},{"$f":"計算結果!#REF!","v":{"$error":"#REF!"}}]
[{"$f":"入力シート!A946","v":0},{"$f":"入力シート!G946","v":0},{"$f":"入力シート!H946","v":0},{"$f":"IF(入力シート!$J946<>\"\",入力シート!$J946,IF(入力シート!$L946<>\"\",入力シート!$L946,\"‐\"))","v":"‐"},{"$f":"IF(入力シート!$K946<>\"\",入力シート!$K946,IF(入力シート!$M946<>\"\",入力シート!$M946,入力シート!$N946))","v":0},{"$f":"入力シート!I946","v":0},{"$f":"入力シート!O946","v":0},{"$f":"IF(入力シート!P946=\"×\",\"P\",\"PN\")","v":"PN"},{"$f":"計算結果!#REF!","v":{"$error":"#REF!"}},{"$f":"計算結果!#REF!","v":{"$error":"#REF!"}},{"$f":"計算結果!#REF!","v":{"$error":"#REF!"}},{"$f":"計算結果!#REF!","v":{"$error":"#REF!"}},{"$f":"計算結果!#REF!","v":{"$error":"#REF!"}},{"$f":"計算結果!#REF!","v":{"$error":"#REF!"}},{"$f":"計算結果!#REF!","v":{"$error":"#REF!"}},{"$f":"計算結果!#REF!","v":{"$error":"#REF!"}},{"$f":"計算結果!#REF!","v":{"$error":"#REF!"}},{"$f":"計算結果!#REF!","v":{"$error":"#REF!"}}]
[{"$f":"入力シート!A947","v":0},{"$f":"入力シート!G947","v":0},{"$f":"入力シート!H947","v":0},{"$f":"IF(入力シート!$J947<>\"\",入力シート!$J947,IF(入力シート!$L947<>\"\",入力シート!$L947,\"‐\"))","v":"‐"},{"$f":"IF(入力シート!$K947<>\"\",入力シート!$K947,IF(入力シート!$M947<>\"\",入力シート!$M947,入力シート!$N947))","v":0},{"$f":"入力シート!I947","v":0},{"$f":"入力シート!O947","v":0},{"$f":"IF(入力シート!P947=\"×\",\"P\",\"PN\")","v":"PN"},{"$f":"計算結果!#REF!","v":{"$error":"#REF!"}},{"$f":"計算結果!#REF!","v":{"$error":"#REF!"}},{"$f":"計算結果!#REF!","v":{"$error":"#REF!"}},{"$f":"計算結果!#REF!","v":{"$error":"#REF!"}},{"$f":"計算結果!#REF!","v":{"$error":"#REF!"}},{"$f":"計算結果!#REF!","v":{"$error":"#REF!"}},{"$f":"計算結果!#REF!","v":{"$error":"#REF!"}},{"$f":"計算結果!#REF!","v":{"$error":"#REF!"}},{"$f":"計算結果!#REF!","v":{"$error":"#REF!"}},{"$f":"計算結果!#REF!","v":{"$error":"#REF!"}}]
[{"$f":"入力シート!A948","v":0},{"$f":"入力シート!G948","v":0},{"$f":"入力シート!H948","v":0},{"$f":"IF(入力シート!$J948<>\"\",入力シート!$J948,IF(入力シート!$L948<>\"\",入力シート!$L948,\"‐\"))","v":"‐"},{"$f":"IF(入力シート!$K948<>\"\",入力シート!$K948,IF(入力シート!$M948<>\"\",入力シート!$M948,入力シート!$N948))","v":0},{"$f":"入力シート!I948","v":0},{"$f":"入力シート!O948","v":0},{"$f":"IF(入力シート!P948=\"×\",\"P\",\"PN\")","v":"PN"},{"$f":"計算結果!#REF!","v":{"$error":"#REF!"}},{"$f":"計算結果!#REF!","v":{"$error":"#REF!"}},{"$f":"計算結果!#REF!","v":{"$error":"#REF!"}},{"$f":"計算結果!#REF!","v":{"$error":"#REF!"}},{"$f":"計算結果!#REF!","v":{"$error":"#REF!"}},{"$f":"計算結果!#REF!","v":{"$error":"#REF!"}},{"$f":"計算結果!#REF!","v":{"$error":"#REF!"}},{"$f":"計算結果!#REF!","v":{"$error":"#REF!"}},{"$f":"計算結果!#REF!","v":{"$error":"#REF!"}},{"$f":"計算結果!#REF!","v":{"$error":"#REF!"}}]
[{"$f":"入力シート!A949","v":0},{"$f":"入力シート!G949","v":0},{"$f":"入力シート!H949","v":0},{"$f":"IF(入力シート!$J949<>\"\",入力シート!$J949,IF(入力シート!$L949<>\"\",入力シート!$L949,\"‐\"))","v":"‐"},{"$f":"IF(入力シート!$K949<>\"\",入力シート!$K949,IF(入力シート!$M949<>\"\",入力シート!$M949,入力シート!$N949))","v":0},{"$f":"入力シート!I949","v":0},{"$f":"入力シート!O949","v":0},{"$f":"IF(入力シート!P949=\"×\",\"P\",\"PN\")","v":"PN"},{"$f":"計算結果!#REF!","v":{"$error":"#REF!"}},{"$f":"計算結果!#REF!","v":{"$error":"#REF!"}},{"$f":"計算結果!#REF!","v":{"$error":"#REF!"}},{"$f":"計算結果!#REF!","v":{"$error":"#REF!"}},{"$f":"計算結果!#REF!","v":{"$error":"#REF!"}},{"$f":"計算結果!#REF!","v":{"$error":"#REF!"}},{"$f":"計算結果!#REF!","v":{"$error":"#REF!"}},{"$f":"計算結果!#REF!","v":{"$error":"#REF!"}},{"$f":"計算結果!#REF!","v":{"$error":"#REF!"}},{"$f":"計算結果!#REF!","v":{"$error":"#REF!"}}]
[{"$f":"入力シート!A950","v":0},{"$f":"入力シート!G950","v":0},{"$f":"入力シート!H950","v":0},{"$f":"IF(入力シート!$J950<>\"\",入力シート!$J950,IF(入力シート!$L950<>\"\",入力シート!$L950,\"‐\"))","v":"‐"},{"$f":"IF(入力シート!$K950<>\"\",入力シート!$K950,IF(入力シート!$M950<>\"\",入力シート!$M950,入力シート!$N950))","v":0},{"$f":"入力シート!I950","v":0},{"$f":"入力シート!O950","v":0},{"$f":"IF(入力シート!P950=\"×\",\"P\",\"PN\")","v":"PN"},{"$f":"計算結果!#REF!","v":{"$error":"#REF!"}},{"$f":"計算結果!#REF!","v":{"$error":"#REF!"}},{"$f":"計算結果!#REF!","v":{"$error":"#REF!"}},{"$f":"計算結果!#REF!","v":{"$error":"#REF!"}},{"$f":"計算結果!#REF!","v":{"$error":"#REF!"}},{"$f":"計算結果!#REF!","v":{"$error":"#REF!"}},{"$f":"計算結果!#REF!","v":{"$error":"#REF!"}},{"$f":"計算結果!#REF!","v":{"$error":"#REF!"}},{"$f":"計算結果!#REF!","v":{"$error":"#REF!"}},{"$f":"計算結果!#REF!","v":{"$error":"#REF!"}}]
[{"$f":"入力シート!A951","v":0},{"$f":"入力シート!G951","v":0},{"$f":"入力シート!H951","v":0},{"$f":"IF(入力シート!$J951<>\"\",入力シート!$J951,IF(入力シート!$L951<>\"\",入力シート!$L951,\"‐\"))","v":"‐"},{"$f":"IF(入力シート!$K951<>\"\",入力シート!$K951,IF(入力シート!$M951<>\"\",入力シート!$M951,入力シート!$N951))","v":0},{"$f":"入力シート!I951","v":0},{"$f":"入力シート!O951","v":0},{"$f":"IF(入力シート!P951=\"×\",\"P\",\"PN\")","v":"PN"},{"$f":"計算結果!#REF!","v":{"$error":"#REF!"}},{"$f":"計算結果!#REF!","v":{"$error":"#REF!"}},{"$f":"計算結果!#REF!","v":{"$error":"#REF!"}},{"$f":"計算結果!#REF!","v":{"$error":"#REF!"}},{"$f":"計算結果!#REF!","v":{"$error":"#REF!"}},{"$f":"計算結果!#REF!","v":{"$error":"#REF!"}},{"$f":"計算結果!#REF!","v":{"$error":"#REF!"}},{"$f":"計算結果!#REF!","v":{"$error":"#REF!"}},{"$f":"計算結果!#REF!","v":{"$error":"#REF!"}},{"$f":"計算結果!#REF!","v":{"$error":"#REF!"}}]
[{"$f":"入力シート!A952","v":0},{"$f":"入力シート!G952","v":0},{"$f":"入力シート!H952","v":0},{"$f":"IF(入力シート!$J952<>\"\",入力シート!$J952,IF(入力シート!$L952<>\"\",入力シート!$L952,\"‐\"))","v":"‐"},{"$f":"IF(入力シート!$K952<>\"\",入力シート!$K952,IF(入力シート!$M952<>\"\",入力シート!$M952,入力シート!$N952))","v":0},{"$f":"入力シート!I952","v":0},{"$f":"入力シート!O952","v":0},{"$f":"IF(入力シート!P952=\"×\",\"P\",\"PN\")","v":"PN"},{"$f":"計算結果!#REF!","v":{"$error":"#REF!"}},{"$f":"計算結果!#REF!","v":{"$error":"#REF!"}},{"$f":"計算結果!#REF!","v":{"$error":"#REF!"}},{"$f":"計算結果!#REF!","v":{"$error":"#REF!"}},{"$f":"計算結果!#REF!","v":{"$error":"#REF!"}},{"$f":"計算結果!#REF!","v":{"$error":"#REF!"}},{"$f":"計算結果!#REF!","v":{"$error":"#REF!"}},{"$f":"計算結果!#REF!","v":{"$error":"#REF!"}},{"$f":"計算結果!#REF!","v":{"$error":"#REF!"}},{"$f":"計算結果!#REF!","v":{"$error":"#REF!"}}]
[{"$f":"入力シート!A953","v":0},{"$f":"入力シート!G953","v":0},{"$f":"入力シート!H953","v":0},{"$f":"IF(入力シート!$J953<>\"\",入力シート!$J953,IF(入力シート!$L953<>\"\",入力シート!$L953,\"‐\"))","v":"‐"},{"$f":"IF(入力シート!$K953<>\"\",入力シート!$K953,IF(入力シート!$M953<>\"\",入力シート!$M953,入力シート!$N953))","v":0},{"$f":"入力シート!I953","v":0},{"$f":"入力シート!O953","v":0},{"$f":"IF(入力シート!P953=\"×\",\"P\",\"PN\")","v":"PN"},{"$f":"計算結果!#REF!","v":{"$error":"#REF!"}},{"$f":"計算結果!#REF!","v":{"$error":"#REF!"}},{"$f":"計算結果!#REF!","v":{"$error":"#REF!"}},{"$f":"計算結果!#REF!","v":{"$error":"#REF!"}},{"$f":"計算結果!#REF!","v":{"$error":"#REF!"}},{"$f":"計算結果!#REF!","v":{"$error":"#REF!"}},{"$f":"計算結果!#REF!","v":{"$error":"#REF!"}},{"$f":"計算結果!#REF!","v":{"$error":"#REF!"}},{"$f":"計算結果!#REF!","v":{"$error":"#REF!"}},{"$f":"計算結果!#REF!","v":{"$error":"#REF!"}}]
[{"$f":"入力シート!A954","v":0},{"$f":"入力シート!G954","v":0},{"$f":"入力シート!H954","v":0},{"$f":"IF(入力シート!$J954<>\"\",入力シート!$J954,IF(入力シート!$L954<>\"\",入力シート!$L954,\"‐\"))","v":"‐"},{"$f":"IF(入力シート!$K954<>\"\",入力シート!$K954,IF(入力シート!$M954<>\"\",入力シート!$M954,入力シート!$N954))","v":0},{"$f":"入力シート!I954","v":0},{"$f":"入力シート!O954","v":0},{"$f":"IF(入力シート!P954=\"×\",\"P\",\"PN\")","v":"PN"},{"$f":"計算結果!#REF!","v":{"$error":"#REF!"}},{"$f":"計算結果!#REF!","v":{"$error":"#REF!"}},{"$f":"計算結果!#REF!","v":{"$error":"#REF!"}},{"$f":"計算結果!#REF!","v":{"$error":"#REF!"}},{"$f":"計算結果!#REF!","v":{"$error":"#REF!"}},{"$f":"計算結果!#REF!","v":{"$error":"#REF!"}},{"$f":"計算結果!#REF!","v":{"$error":"#REF!"}},{"$f":"計算結果!#REF!","v":{"$error":"#REF!"}},{"$f":"計算結果!#REF!","v":{"$error":"#REF!"}},{"$f":"計算結果!#REF!","v":{"$error":"#REF!"}}]
[{"$f":"入力シート!A955","v":0},{"$f":"入力シート!G955","v":0},{"$f":"入力シート!H955","v":0},{"$f":"IF(入力シート!$J955<>\"\",入力シート!$J955,IF(入力シート!$L955<>\"\",入力シート!$L955,\"‐\"))","v":"‐"},{"$f":"IF(入力シート!$K955<>\"\",入力シート!$K955,IF(入力シート!$M955<>\"\",入力シート!$M955,入力シート!$N955))","v":0},{"$f":"入力シート!I955","v":0},{"$f":"入力シート!O955","v":0},{"$f":"IF(入力シート!P955=\"×\",\"P\",\"PN\")","v":"PN"},{"$f":"計算結果!#REF!","v":{"$error":"#REF!"}},{"$f":"計算結果!#REF!","v":{"$error":"#REF!"}},{"$f":"計算結果!#REF!","v":{"$error":"#REF!"}},{"$f":"計算結果!#REF!","v":{"$error":"#REF!"}},{"$f":"計算結果!#REF!","v":{"$error":"#REF!"}},{"$f":"計算結果!#REF!","v":{"$error":"#REF!"}},{"$f":"計算結果!#REF!","v":{"$error":"#REF!"}},{"$f":"計算結果!#REF!","v":{"$error":"#REF!"}},{"$f":"計算結果!#REF!","v":{"$error":"#REF!"}},{"$f":"計算結果!#REF!","v":{"$error":"#REF!"}}]
[{"$f":"入力シート!A956","v":0},{"$f":"入力シート!G956","v":0},{"$f":"入力シート!H956","v":0},{"$f":"IF(入力シート!$J956<>\"\",入力シート!$J956,IF(入力シート!$L956<>\"\",入力シート!$L956,\"‐\"))","v":"‐"},{"$f":"IF(入力シート!$K956<>\"\",入力シート!$K956,IF(入力シート!$M956<>\"\",入力シート!$M956,入力シート!$N956))","v":0},{"$f":"入力シート!I956","v":0},{"$f":"入力シート!O956","v":0},{"$f":"IF(入力シート!P956=\"×\",\"P\",\"PN\")","v":"PN"},{"$f":"計算結果!#REF!","v":{"$error":"#REF!"}},{"$f":"計算結果!#REF!","v":{"$error":"#REF!"}},{"$f":"計算結果!#REF!","v":{"$error":"#REF!"}},{"$f":"計算結果!#REF!","v":{"$error":"#REF!"}},{"$f":"計算結果!#REF!","v":{"$error":"#REF!"}},{"$f":"計算結果!#REF!","v":{"$error":"#REF!"}},{"$f":"計算結果!#REF!","v":{"$error":"#REF!"}},{"$f":"計算結果!#REF!","v":{"$error":"#REF!"}},{"$f":"計算結果!#REF!","v":{"$error":"#REF!"}},{"$f":"計算結果!#REF!","v":{"$error":"#REF!"}}]
[{"$f":"入力シート!A957","v":0},{"$f":"入力シート!G957","v":0},{"$f":"入力シート!H957","v":0},{"$f":"IF(入力シート!$J957<>\"\",入力シート!$J957,IF(入力シート!$L957<>\"\",入力シート!$L957,\"‐\"))","v":"‐"},{"$f":"IF(入力シート!$K957<>\"\",入力シート!$K957,IF(入力シート!$M957<>\"\",入力シート!$M957,入力シート!$N957))","v":0},{"$f":"入力シート!I957","v":0},{"$f":"入力シート!O957","v":0},{"$f":"IF(入力シート!P957=\"×\",\"P\",\"PN\")","v":"PN"},{"$f":"計算結果!#REF!","v":{"$error":"#REF!"}},{"$f":"計算結果!#REF!","v":{"$error":"#REF!"}},{"$f":"計算結果!#REF!","v":{"$error":"#REF!"}},{"$f":"計算結果!#REF!","v":{"$error":"#REF!"}},{"$f":"計算結果!#REF!","v":{"$error":"#REF!"}},{"$f":"計算結果!#REF!","v":{"$error":"#REF!"}},{"$f":"計算結果!#REF!","v":{"$error":"#REF!"}},{"$f":"計算結果!#REF!","v":{"$error":"#REF!"}},{"$f":"計算結果!#REF!","v":{"$error":"#REF!"}},{"$f":"計算結果!#REF!","v":{"$error":"#REF!"}}]
[{"$f":"入力シート!A958","v":0},{"$f":"入力シート!G958","v":0},{"$f":"入力シート!H958","v":0},{"$f":"IF(入力シート!$J958<>\"\",入力シート!$J958,IF(入力シート!$L958<>\"\",入力シート!$L958,\"‐\"))","v":"‐"},{"$f":"IF(入力シート!$K958<>\"\",入力シート!$K958,IF(入力シート!$M958<>\"\",入力シート!$M958,入力シート!$N958))","v":0},{"$f":"入力シート!I958","v":0},{"$f":"入力シート!O958","v":0},{"$f":"IF(入力シート!P958=\"×\",\"P\",\"PN\")","v":"PN"},{"$f":"計算結果!#REF!","v":{"$error":"#REF!"}},{"$f":"計算結果!#REF!","v":{"$error":"#REF!"}},{"$f":"計算結果!#REF!","v":{"$error":"#REF!"}},{"$f":"計算結果!#REF!","v":{"$error":"#REF!"}},{"$f":"計算結果!#REF!","v":{"$error":"#REF!"}},{"$f":"計算結果!#REF!","v":{"$error":"#REF!"}},{"$f":"計算結果!#REF!","v":{"$error":"#REF!"}},{"$f":"計算結果!#REF!","v":{"$error":"#REF!"}},{"$f":"計算結果!#REF!","v":{"$error":"#REF!"}},{"$f":"計算結果!#REF!","v":{"$error":"#REF!"}}]
[{"$f":"入力シート!A959","v":0},{"$f":"入力シート!G959","v":0},{"$f":"入力シート!H959","v":0},{"$f":"IF(入力シート!$J959<>\"\",入力シート!$J959,IF(入力シート!$L959<>\"\",入力シート!$L959,\"‐\"))","v":"‐"},{"$f":"IF(入力シート!$K959<>\"\",入力シート!$K959,IF(入力シート!$M959<>\"\",入力シート!$M959,入力シート!$N959))","v":0},{"$f":"入力シート!I959","v":0},{"$f":"入力シート!O959","v":0},{"$f":"IF(入力シート!P959=\"×\",\"P\",\"PN\")","v":"PN"},{"$f":"計算結果!#REF!","v":{"$error":"#REF!"}},{"$f":"計算結果!#REF!","v":{"$error":"#REF!"}},{"$f":"計算結果!#REF!","v":{"$error":"#REF!"}},{"$f":"計算結果!#REF!","v":{"$error":"#REF!"}},{"$f":"計算結果!#REF!","v":{"$error":"#REF!"}},{"$f":"計算結果!#REF!","v":{"$error":"#REF!"}},{"$f":"計算結果!#REF!","v":{"$error":"#REF!"}},{"$f":"計算結果!#REF!","v":{"$error":"#REF!"}},{"$f":"計算結果!#REF!","v":{"$error":"#REF!"}},{"$f":"計算結果!#REF!","v":{"$error":"#REF!"}}]
[{"$f":"入力シート!A960","v":0},{"$f":"入力シート!G960","v":0},{"$f":"入力シート!H960","v":0},{"$f":"IF(入力シート!$J960<>\"\",入力シート!$J960,IF(入力シート!$L960<>\"\",入力シート!$L960,\"‐\"))","v":"‐"},{"$f":"IF(入力シート!$K960<>\"\",入力シート!$K960,IF(入力シート!$M960<>\"\",入力シート!$M960,入力シート!$N960))","v":0},{"$f":"入力シート!I960","v":0},{"$f":"入力シート!O960","v":0},{"$f":"IF(入力シート!P960=\"×\",\"P\",\"PN\")","v":"PN"},{"$f":"計算結果!#REF!","v":{"$error":"#REF!"}},{"$f":"計算結果!#REF!","v":{"$error":"#REF!"}},{"$f":"計算結果!#REF!","v":{"$error":"#REF!"}},{"$f":"計算結果!#REF!","v":{"$error":"#REF!"}},{"$f":"計算結果!#REF!","v":{"$error":"#REF!"}},{"$f":"計算結果!#REF!","v":{"$error":"#REF!"}},{"$f":"計算結果!#REF!","v":{"$error":"#REF!"}},{"$f":"計算結果!#REF!","v":{"$error":"#REF!"}},{"$f":"計算結果!#REF!","v":{"$error":"#REF!"}},{"$f":"計算結果!#REF!","v":{"$error":"#REF!"}}]
[{"$f":"入力シート!A961","v":0},{"$f":"入力シート!G961","v":0},{"$f":"入力シート!H961","v":0},{"$f":"IF(入力シート!$J961<>\"\",入力シート!$J961,IF(入力シート!$L961<>\"\",入力シート!$L961,\"‐\"))","v":"‐"},{"$f":"IF(入力シート!$K961<>\"\",入力シート!$K961,IF(入力シート!$M961<>\"\",入力シート!$M961,入力シート!$N961))","v":0},{"$f":"入力シート!I961","v":0},{"$f":"入力シート!O961","v":0},{"$f":"IF(入力シート!P961=\"×\",\"P\",\"PN\")","v":"PN"},{"$f":"計算結果!#REF!","v":{"$error":"#REF!"}},{"$f":"計算結果!#REF!","v":{"$error":"#REF!"}},{"$f":"計算結果!#REF!","v":{"$error":"#REF!"}},{"$f":"計算結果!#REF!","v":{"$error":"#REF!"}},{"$f":"計算結果!#REF!","v":{"$error":"#REF!"}},{"$f":"計算結果!#REF!","v":{"$error":"#REF!"}},{"$f":"計算結果!#REF!","v":{"$error":"#REF!"}},{"$f":"計算結果!#REF!","v":{"$error":"#REF!"}},{"$f":"計算結果!#REF!","v":{"$error":"#REF!"}},{"$f":"計算結果!#REF!","v":{"$error":"#REF!"}}]
[{"$f":"入力シート!A962","v":0},{"$f":"入力シート!G962","v":0},{"$f":"入力シート!H962","v":0},{"$f":"IF(入力シート!$J962<>\"\",入力シート!$J962,IF(入力シート!$L962<>\"\",入力シート!$L962,\"‐\"))","v":"‐"},{"$f":"IF(入力シート!$K962<>\"\",入力シート!$K962,IF(入力シート!$M962<>\"\",入力シート!$M962,入力シート!$N962))","v":0},{"$f":"入力シート!I962","v":0},{"$f":"入力シート!O962","v":0},{"$f":"IF(入力シート!P962=\"×\",\"P\",\"PN\")","v":"PN"},{"$f":"計算結果!#REF!","v":{"$error":"#REF!"}},{"$f":"計算結果!#REF!","v":{"$error":"#REF!"}},{"$f":"計算結果!#REF!","v":{"$error":"#REF!"}},{"$f":"計算結果!#REF!","v":{"$error":"#REF!"}},{"$f":"計算結果!#REF!","v":{"$error":"#REF!"}},{"$f":"計算結果!#REF!","v":{"$error":"#REF!"}},{"$f":"計算結果!#REF!","v":{"$error":"#REF!"}},{"$f":"計算結果!#REF!","v":{"$error":"#REF!"}},{"$f":"計算結果!#REF!","v":{"$error":"#REF!"}},{"$f":"計算結果!#REF!","v":{"$error":"#REF!"}}]
[{"$f":"入力シート!A963","v":0},{"$f":"入力シート!G963","v":0},{"$f":"入力シート!H963","v":0},{"$f":"IF(入力シート!$J963<>\"\",入力シート!$J963,IF(入力シート!$L963<>\"\",入力シート!$L963,\"‐\"))","v":"‐"},{"$f":"IF(入力シート!$K963<>\"\",入力シート!$K963,IF(入力シート!$M963<>\"\",入力シート!$M963,入力シート!$N963))","v":0},{"$f":"入力シート!I963","v":0},{"$f":"入力シート!O963","v":0},{"$f":"IF(入力シート!P963=\"×\",\"P\",\"PN\")","v":"PN"},{"$f":"計算結果!#REF!","v":{"$error":"#REF!"}},{"$f":"計算結果!#REF!","v":{"$error":"#REF!"}},{"$f":"計算結果!#REF!","v":{"$error":"#REF!"}},{"$f":"計算結果!#REF!","v":{"$error":"#REF!"}},{"$f":"計算結果!#REF!","v":{"$error":"#REF!"}},{"$f":"計算結果!#REF!","v":{"$error":"#REF!"}},{"$f":"計算結果!#REF!","v":{"$error":"#REF!"}},{"$f":"計算結果!#REF!","v":{"$error":"#REF!"}},{"$f":"計算結果!#REF!","v":{"$error":"#REF!"}},{"$f":"計算結果!#REF!","v":{"$error":"#REF!"}}]
[{"$f":"入力シート!A964","v":0},{"$f":"入力シート!G964","v":0},{"$f":"入力シート!H964","v":0},{"$f":"IF(入力シート!$J964<>\"\",入力シート!$J964,IF(入力シート!$L964<>\"\",入力シート!$L964,\"‐\"))","v":"‐"},{"$f":"IF(入力シート!$K964<>\"\",入力シート!$K964,IF(入力シート!$M964<>\"\",入力シート!$M964,入力シート!$N964))","v":0},{"$f":"入力シート!I964","v":0},{"$f":"入力シート!O964","v":0},{"$f":"IF(入力シート!P964=\"×\",\"P\",\"PN\")","v":"PN"},{"$f":"計算結果!#REF!","v":{"$error":"#REF!"}},{"$f":"計算結果!#REF!","v":{"$error":"#REF!"}},{"$f":"計算結果!#REF!","v":{"$error":"#REF!"}},{"$f":"計算結果!#REF!","v":{"$error":"#REF!"}},{"$f":"計算結果!#REF!","v":{"$error":"#REF!"}},{"$f":"計算結果!#REF!","v":{"$error":"#REF!"}},{"$f":"計算結果!#REF!","v":{"$error":"#REF!"}},{"$f":"計算結果!#REF!","v":{"$error":"#REF!"}},{"$f":"計算結果!#REF!","v":{"$error":"#REF!"}},{"$f":"計算結果!#REF!","v":{"$error":"#REF!"}}]
[{"$f":"入力シート!A965","v":0},{"$f":"入力シート!G965","v":0},{"$f":"入力シート!H965","v":0},{"$f":"IF(入力シート!$J965<>\"\",入力シート!$J965,IF(入力シート!$L965<>\"\",入力シート!$L965,\"‐\"))","v":"‐"},{"$f":"IF(入力シート!$K965<>\"\",入力シート!$K965,IF(入力シート!$M965<>\"\",入力シート!$M965,入力シート!$N965))","v":0},{"$f":"入力シート!I965","v":0},{"$f":"入力シート!O965","v":0},{"$f":"IF(入力シート!P965=\"×\",\"P\",\"PN\")","v":"PN"},{"$f":"計算結果!#REF!","v":{"$error":"#REF!"}},{"$f":"計算結果!#REF!","v":{"$error":"#REF!"}},{"$f":"計算結果!#REF!","v":{"$error":"#REF!"}},{"$f":"計算結果!#REF!","v":{"$error":"#REF!"}},{"$f":"計算結果!#REF!","v":{"$error":"#REF!"}},{"$f":"計算結果!#REF!","v":{"$error":"#REF!"}},{"$f":"計算結果!#REF!","v":{"$error":"#REF!"}},{"$f":"計算結果!#REF!","v":{"$error":"#REF!"}},{"$f":"計算結果!#REF!","v":{"$error":"#REF!"}},{"$f":"計算結果!#REF!","v":{"$error":"#REF!"}}]
[{"$f":"入力シート!A966","v":0},{"$f":"入力シート!G966","v":0},{"$f":"入力シート!H966","v":0},{"$f":"IF(入力シート!$J966<>\"\",入力シート!$J966,IF(入力シート!$L966<>\"\",入力シート!$L966,\"‐\"))","v":"‐"},{"$f":"IF(入力シート!$K966<>\"\",入力シート!$K966,IF(入力シート!$M966<>\"\",入力シート!$M966,入力シート!$N966))","v":0},{"$f":"入力シート!I966","v":0},{"$f":"入力シート!O966","v":0},{"$f":"IF(入力シート!P966=\"×\",\"P\",\"PN\")","v":"PN"},{"$f":"計算結果!#REF!","v":{"$error":"#REF!"}},{"$f":"計算結果!#REF!","v":{"$error":"#REF!"}},{"$f":"計算結果!#REF!","v":{"$error":"#REF!"}},{"$f":"計算結果!#REF!","v":{"$error":"#REF!"}},{"$f":"計算結果!#REF!","v":{"$error":"#REF!"}},{"$f":"計算結果!#REF!","v":{"$error":"#REF!"}},{"$f":"計算結果!#REF!","v":{"$error":"#REF!"}},{"$f":"計算結果!#REF!","v":{"$error":"#REF!"}},{"$f":"計算結果!#REF!","v":{"$error":"#REF!"}},{"$f":"計算結果!#REF!","v":{"$error":"#REF!"}}]
[{"$f":"入力シート!A967","v":0},{"$f":"入力シート!G967","v":0},{"$f":"入力シート!H967","v":0},{"$f":"IF(入力シート!$J967<>\"\",入力シート!$J967,IF(入力シート!$L967<>\"\",入力シート!$L967,\"‐\"))","v":"‐"},{"$f":"IF(入力シート!$K967<>\"\",入力シート!$K967,IF(入力シート!$M967<>\"\",入力シート!$M967,入力シート!$N967))","v":0},{"$f":"入力シート!I967","v":0},{"$f":"入力シート!O967","v":0},{"$f":"IF(入力シート!P967=\"×\",\"P\",\"PN\")","v":"PN"},{"$f":"計算結果!#REF!","v":{"$error":"#REF!"}},{"$f":"計算結果!#REF!","v":{"$error":"#REF!"}},{"$f":"計算結果!#REF!","v":{"$error":"#REF!"}},{"$f":"計算結果!#REF!","v":{"$error":"#REF!"}},{"$f":"計算結果!#REF!","v":{"$error":"#REF!"}},{"$f":"計算結果!#REF!","v":{"$error":"#REF!"}},{"$f":"計算結果!#REF!","v":{"$error":"#REF!"}},{"$f":"計算結果!#REF!","v":{"$error":"#REF!"}},{"$f":"計算結果!#REF!","v":{"$error":"#REF!"}},{"$f":"計算結果!#REF!","v":{"$error":"#REF!"}}]
[{"$f":"入力シート!A968","v":0},{"$f":"入力シート!G968","v":0},{"$f":"入力シート!H968","v":0},{"$f":"IF(入力シート!$J968<>\"\",入力シート!$J968,IF(入力シート!$L968<>\"\",入力シート!$L968,\"‐\"))","v":"‐"},{"$f":"IF(入力シート!$K968<>\"\",入力シート!$K968,IF(入力シート!$M968<>\"\",入力シート!$M968,入力シート!$N968))","v":0},{"$f":"入力シート!I968","v":0},{"$f":"入力シート!O968","v":0},{"$f":"IF(入力シート!P968=\"×\",\"P\",\"PN\")","v":"PN"},{"$f":"計算結果!#REF!","v":{"$error":"#REF!"}},{"$f":"計算結果!#REF!","v":{"$error":"#REF!"}},{"$f":"計算結果!#REF!","v":{"$error":"#REF!"}},{"$f":"計算結果!#REF!","v":{"$error":"#REF!"}},{"$f":"計算結果!#REF!","v":{"$error":"#REF!"}},{"$f":"計算結果!#REF!","v":{"$error":"#REF!"}},{"$f":"計算結果!#REF!","v":{"$error":"#REF!"}},{"$f":"計算結果!#REF!","v":{"$error":"#REF!"}},{"$f":"計算結果!#REF!","v":{"$error":"#REF!"}},{"$f":"計算結果!#REF!","v":{"$error":"#REF!"}}]
[{"$f":"入力シート!A969","v":0},{"$f":"入力シート!G969","v":0},{"$f":"入力シート!H969","v":0},{"$f":"IF(入力シート!$J969<>\"\",入力シート!$J969,IF(入力シート!$L969<>\"\",入力シート!$L969,\"‐\"))","v":"‐"},{"$f":"IF(入力シート!$K969<>\"\",入力シート!$K969,IF(入力シート!$M969<>\"\",入力シート!$M969,入力シート!$N969))","v":0},{"$f":"入力シート!I969","v":0},{"$f":"入力シート!O969","v":0},{"$f":"IF(入力シート!P969=\"×\",\"P\",\"PN\")","v":"PN"},{"$f":"計算結果!#REF!","v":{"$error":"#REF!"}},{"$f":"計算結果!#REF!","v":{"$error":"#REF!"}},{"$f":"計算結果!#REF!","v":{"$error":"#REF!"}},{"$f":"計算結果!#REF!","v":{"$error":"#REF!"}},{"$f":"計算結果!#REF!","v":{"$error":"#REF!"}},{"$f":"計算結果!#REF!","v":{"$error":"#REF!"}},{"$f":"計算結果!#REF!","v":{"$error":"#REF!"}},{"$f":"計算結果!#REF!","v":{"$error":"#REF!"}},{"$f":"計算結果!#REF!","v":{"$error":"#REF!"}},{"$f":"計算結果!#REF!","v":{"$error":"#REF!"}}]
[{"$f":"入力シート!A970","v":0},{"$f":"入力シート!G970","v":0},{"$f":"入力シート!H970","v":0},{"$f":"IF(入力シート!$J970<>\"\",入力シート!$J970,IF(入力シート!$L970<>\"\",入力シート!$L970,\"‐\"))","v":"‐"},{"$f":"IF(入力シート!$K970<>\"\",入力シート!$K970,IF(入力シート!$M970<>\"\",入力シート!$M970,入力シート!$N970))","v":0},{"$f":"入力シート!I970","v":0},{"$f":"入力シート!O970","v":0},{"$f":"IF(入力シート!P970=\"×\",\"P\",\"PN\")","v":"PN"},{"$f":"計算結果!#REF!","v":{"$error":"#REF!"}},{"$f":"計算結果!#REF!","v":{"$error":"#REF!"}},{"$f":"計算結果!#REF!","v":{"$error":"#REF!"}},{"$f":"計算結果!#REF!","v":{"$error":"#REF!"}},{"$f":"計算結果!#REF!","v":{"$error":"#REF!"}},{"$f":"計算結果!#REF!","v":{"$error":"#REF!"}},{"$f":"計算結果!#REF!","v":{"$error":"#REF!"}},{"$f":"計算結果!#REF!","v":{"$error":"#REF!"}},{"$f":"計算結果!#REF!","v":{"$error":"#REF!"}},{"$f":"計算結果!#REF!","v":{"$error":"#REF!"}}]
[{"$f":"入力シート!A971","v":0},{"$f":"入力シート!G971","v":0},{"$f":"入力シート!H971","v":0},{"$f":"IF(入力シート!$J971<>\"\",入力シート!$J971,IF(入力シート!$L971<>\"\",入力シート!$L971,\"‐\"))","v":"‐"},{"$f":"IF(入力シート!$K971<>\"\",入力シート!$K971,IF(入力シート!$M971<>\"\",入力シート!$M971,入力シート!$N971))","v":0},{"$f":"入力シート!I971","v":0},{"$f":"入力シート!O971","v":0},{"$f":"IF(入力シート!P971=\"×\",\"P\",\"PN\")","v":"PN"},{"$f":"計算結果!#REF!","v":{"$error":"#REF!"}},{"$f":"計算結果!#REF!","v":{"$error":"#REF!"}},{"$f":"計算結果!#REF!","v":{"$error":"#REF!"}},{"$f":"計算結果!#REF!","v":{"$error":"#REF!"}},{"$f":"計算結果!#REF!","v":{"$error":"#REF!"}},{"$f":"計算結果!#REF!","v":{"$error":"#REF!"}},{"$f":"計算結果!#REF!","v":{"$error":"#REF!"}},{"$f":"計算結果!#REF!","v":{"$error":"#REF!"}},{"$f":"計算結果!#REF!","v":{"$error":"#REF!"}},{"$f":"計算結果!#REF!","v":{"$error":"#REF!"}}]
[{"$f":"入力シート!A972","v":0},{"$f":"入力シート!G972","v":0},{"$f":"入力シート!H972","v":0},{"$f":"IF(入力シート!$J972<>\"\",入力シート!$J972,IF(入力シート!$L972<>\"\",入力シート!$L972,\"‐\"))","v":"‐"},{"$f":"IF(入力シート!$K972<>\"\",入力シート!$K972,IF(入力シート!$M972<>\"\",入力シート!$M972,入力シート!$N972))","v":0},{"$f":"入力シート!I972","v":0},{"$f":"入力シート!O972","v":0},{"$f":"IF(入力シート!P972=\"×\",\"P\",\"PN\")","v":"PN"},{"$f":"計算結果!#REF!","v":{"$error":"#REF!"}},{"$f":"計算結果!#REF!","v":{"$error":"#REF!"}},{"$f":"計算結果!#REF!","v":{"$error":"#REF!"}},{"$f":"計算結果!#REF!","v":{"$error":"#REF!"}},{"$f":"計算結果!#REF!","v":{"$error":"#REF!"}},{"$f":"計算結果!#REF!","v":{"$error":"#REF!"}},{"$f":"計算結果!#REF!","v":{"$error":"#REF!"}},{"$f":"計算結果!#REF!","v":{"$error":"#REF!"}},{"$f":"計算結果!#REF!","v":{"$error":"#REF!"}},{"$f":"計算結果!#REF!","v":{"$error":"#REF!"}}]
[{"$f":"入力シート!A973","v":0},{"$f":"入力シート!G973","v":0},{"$f":"入力シート!H973","v":0},{"$f":"IF(入力シート!$J973<>\"\",入力シート!$J973,IF(入力シート!$L973<>\"\",入力シート!$L973,\"‐\"))","v":"‐"},{"$f":"IF(入力シート!$K973<>\"\",入力シート!$K973,IF(入力シート!$M973<>\"\",入力シート!$M973,入力シート!$N973))","v":0},{"$f":"入力シート!I973","v":0},{"$f":"入力シート!O973","v":0},{"$f":"IF(入力シート!P973=\"×\",\"P\",\"PN\")","v":"PN"},{"$f":"計算結果!#REF!","v":{"$error":"#REF!"}},{"$f":"計算結果!#REF!","v":{"$error":"#REF!"}},{"$f":"計算結果!#REF!","v":{"$error":"#REF!"}},{"$f":"計算結果!#REF!","v":{"$error":"#REF!"}},{"$f":"計算結果!#REF!","v":{"$error":"#REF!"}},{"$f":"計算結果!#REF!","v":{"$error":"#REF!"}},{"$f":"計算結果!#REF!","v":{"$error":"#REF!"}},{"$f":"計算結果!#REF!","v":{"$error":"#REF!"}},{"$f":"計算結果!#REF!","v":{"$error":"#REF!"}},{"$f":"計算結果!#REF!","v":{"$error":"#REF!"}}]
[{"$f":"入力シート!A974","v":0},{"$f":"入力シート!G974","v":0},{"$f":"入力シート!H974","v":0},{"$f":"IF(入力シート!$J974<>\"\",入力シート!$J974,IF(入力シート!$L974<>\"\",入力シート!$L974,\"‐\"))","v":"‐"},{"$f":"IF(入力シート!$K974<>\"\",入力シート!$K974,IF(入力シート!$M974<>\"\",入力シート!$M974,入力シート!$N974))","v":0},{"$f":"入力シート!I974","v":0},{"$f":"入力シート!O974","v":0},{"$f":"IF(入力シート!P974=\"×\",\"P\",\"PN\")","v":"PN"},{"$f":"計算結果!#REF!","v":{"$error":"#REF!"}},{"$f":"計算結果!#REF!","v":{"$error":"#REF!"}},{"$f":"計算結果!#REF!","v":{"$error":"#REF!"}},{"$f":"計算結果!#REF!","v":{"$error":"#REF!"}},{"$f":"計算結果!#REF!","v":{"$error":"#REF!"}},{"$f":"計算結果!#REF!","v":{"$error":"#REF!"}},{"$f":"計算結果!#REF!","v":{"$error":"#REF!"}},{"$f":"計算結果!#REF!","v":{"$error":"#REF!"}},{"$f":"計算結果!#REF!","v":{"$error":"#REF!"}},{"$f":"計算結果!#REF!","v":{"$error":"#REF!"}}]
[{"$f":"入力シート!A975","v":0},{"$f":"入力シート!G975","v":0},{"$f":"入力シート!H975","v":0},{"$f":"IF(入力シート!$J975<>\"\",入力シート!$J975,IF(入力シート!$L975<>\"\",入力シート!$L975,\"‐\"))","v":"‐"},{"$f":"IF(入力シート!$K975<>\"\",入力シート!$K975,IF(入力シート!$M975<>\"\",入力シート!$M975,入力シート!$N975))","v":0},{"$f":"入力シート!I975","v":0},{"$f":"入力シート!O975","v":0},{"$f":"IF(入力シート!P975=\"×\",\"P\",\"PN\")","v":"PN"},{"$f":"計算結果!#REF!","v":{"$error":"#REF!"}},{"$f":"計算結果!#REF!","v":{"$error":"#REF!"}},{"$f":"計算結果!#REF!","v":{"$error":"#REF!"}},{"$f":"計算結果!#REF!","v":{"$error":"#REF!"}},{"$f":"計算結果!#REF!","v":{"$error":"#REF!"}},{"$f":"計算結果!#REF!","v":{"$error":"#REF!"}},{"$f":"計算結果!#REF!","v":{"$error":"#REF!"}},{"$f":"計算結果!#REF!","v":{"$error":"#REF!"}},{"$f":"計算結果!#REF!","v":{"$error":"#REF!"}},{"$f":"計算結果!#REF!","v":{"$error":"#REF!"}}]
[{"$f":"入力シート!A976","v":0},{"$f":"入力シート!G976","v":0},{"$f":"入力シート!H976","v":0},{"$f":"IF(入力シート!$J976<>\"\",入力シート!$J976,IF(入力シート!$L976<>\"\",入力シート!$L976,\"‐\"))","v":"‐"},{"$f":"IF(入力シート!$K976<>\"\",入力シート!$K976,IF(入力シート!$M976<>\"\",入力シート!$M976,入力シート!$N976))","v":0},{"$f":"入力シート!I976","v":0},{"$f":"入力シート!O976","v":0},{"$f":"IF(入力シート!P976=\"×\",\"P\",\"PN\")","v":"PN"},{"$f":"計算結果!#REF!","v":{"$error":"#REF!"}},{"$f":"計算結果!#REF!","v":{"$error":"#REF!"}},{"$f":"計算結果!#REF!","v":{"$error":"#REF!"}},{"$f":"計算結果!#REF!","v":{"$error":"#REF!"}},{"$f":"計算結果!#REF!","v":{"$error":"#REF!"}},{"$f":"計算結果!#REF!","v":{"$error":"#REF!"}},{"$f":"計算結果!#REF!","v":{"$error":"#REF!"}},{"$f":"計算結果!#REF!","v":{"$error":"#REF!"}},{"$f":"計算結果!#REF!","v":{"$error":"#REF!"}},{"$f":"計算結果!#REF!","v":{"$error":"#REF!"}}]
[{"$f":"入力シート!A977","v":0},{"$f":"入力シート!G977","v":0},{"$f":"入力シート!H977","v":0},{"$f":"IF(入力シート!$J977<>\"\",入力シート!$J977,IF(入力シート!$L977<>\"\",入力シート!$L977,\"‐\"))","v":"‐"},{"$f":"IF(入力シート!$K977<>\"\",入力シート!$K977,IF(入力シート!$M977<>\"\",入力シート!$M977,入力シート!$N977))","v":0},{"$f":"入力シート!I977","v":0},{"$f":"入力シート!O977","v":0},{"$f":"IF(入力シート!P977=\"×\",\"P\",\"PN\")","v":"PN"},{"$f":"計算結果!#REF!","v":{"$error":"#REF!"}},{"$f":"計算結果!#REF!","v":{"$error":"#REF!"}},{"$f":"計算結果!#REF!","v":{"$error":"#REF!"}},{"$f":"計算結果!#REF!","v":{"$error":"#REF!"}},{"$f":"計算結果!#REF!","v":{"$error":"#REF!"}},{"$f":"計算結果!#REF!","v":{"$error":"#REF!"}},{"$f":"計算結果!#REF!","v":{"$error":"#REF!"}},{"$f":"計算結果!#REF!","v":{"$error":"#REF!"}},{"$f":"計算結果!#REF!","v":{"$error":"#REF!"}},{"$f":"計算結果!#REF!","v":{"$error":"#REF!"}}]
[{"$f":"入力シート!A978","v":0},{"$f":"入力シート!G978","v":0},{"$f":"入力シート!H978","v":0},{"$f":"IF(入力シート!$J978<>\"\",入力シート!$J978,IF(入力シート!$L978<>\"\",入力シート!$L978,\"‐\"))","v":"‐"},{"$f":"IF(入力シート!$K978<>\"\",入力シート!$K978,IF(入力シート!$M978<>\"\",入力シート!$M978,入力シート!$N978))","v":0},{"$f":"入力シート!I978","v":0},{"$f":"入力シート!O978","v":0},{"$f":"IF(入力シート!P978=\"×\",\"P\",\"PN\")","v":"PN"},{"$f":"計算結果!#REF!","v":{"$error":"#REF!"}},{"$f":"計算結果!#REF!","v":{"$error":"#REF!"}},{"$f":"計算結果!#REF!","v":{"$error":"#REF!"}},{"$f":"計算結果!#REF!","v":{"$error":"#REF!"}},{"$f":"計算結果!#REF!","v":{"$error":"#REF!"}},{"$f":"計算結果!#REF!","v":{"$error":"#REF!"}},{"$f":"計算結果!#REF!","v":{"$error":"#REF!"}},{"$f":"計算結果!#REF!","v":{"$error":"#REF!"}},{"$f":"計算結果!#REF!","v":{"$error":"#REF!"}},{"$f":"計算結果!#REF!","v":{"$error":"#REF!"}}]
[{"$f":"入力シート!A979","v":0},{"$f":"入力シート!G979","v":0},{"$f":"入力シート!H979","v":0},{"$f":"IF(入力シート!$J979<>\"\",入力シート!$J979,IF(入力シート!$L979<>\"\",入力シート!$L979,\"‐\"))","v":"‐"},{"$f":"IF(入力シート!$K979<>\"\",入力シート!$K979,IF(入力シート!$M979<>\"\",入力シート!$M979,入力シート!$N979))","v":0},{"$f":"入力シート!I979","v":0},{"$f":"入力シート!O979","v":0},{"$f":"IF(入力シート!P979=\"×\",\"P\",\"PN\")","v":"PN"},{"$f":"計算結果!#REF!","v":{"$error":"#REF!"}},{"$f":"計算結果!#REF!","v":{"$error":"#REF!"}},{"$f":"計算結果!#REF!","v":{"$error":"#REF!"}},{"$f":"計算結果!#REF!","v":{"$error":"#REF!"}},{"$f":"計算結果!#REF!","v":{"$error":"#REF!"}},{"$f":"計算結果!#REF!","v":{"$error":"#REF!"}},{"$f":"計算結果!#REF!","v":{"$error":"#REF!"}},{"$f":"計算結果!#REF!","v":{"$error":"#REF!"}},{"$f":"計算結果!#REF!","v":{"$error":"#REF!"}},{"$f":"計算結果!#REF!","v":{"$error":"#REF!"}}]
[{"$f":"入力シート!A980","v":0},{"$f":"入力シート!G980","v":0},{"$f":"入力シート!H980","v":0},{"$f":"IF(入力シート!$J980<>\"\",入力シート!$J980,IF(入力シート!$L980<>\"\",入力シート!$L980,\"‐\"))","v":"‐"},{"$f":"IF(入力シート!$K980<>\"\",入力シート!$K980,IF(入力シート!$M980<>\"\",入力シート!$M980,入力シート!$N980))","v":0},{"$f":"入力シート!I980","v":0},{"$f":"入力シート!O980","v":0},{"$f":"IF(入力シート!P980=\"×\",\"P\",\"PN\")","v":"PN"},{"$f":"計算結果!#REF!","v":{"$error":"#REF!"}},{"$f":"計算結果!#REF!","v":{"$error":"#REF!"}},{"$f":"計算結果!#REF!","v":{"$error":"#REF!"}},{"$f":"計算結果!#REF!","v":{"$error":"#REF!"}},{"$f":"計算結果!#REF!","v":{"$error":"#REF!"}},{"$f":"計算結果!#REF!","v":{"$error":"#REF!"}},{"$f":"計算結果!#REF!","v":{"$error":"#REF!"}},{"$f":"計算結果!#REF!","v":{"$error":"#REF!"}},{"$f":"計算結果!#REF!","v":{"$error":"#REF!"}},{"$f":"計算結果!#REF!","v":{"$error":"#REF!"}}]
[{"$f":"入力シート!A981","v":0},{"$f":"入力シート!G981","v":0},{"$f":"入力シート!H981","v":0},{"$f":"IF(入力シート!$J981<>\"\",入力シート!$J981,IF(入力シート!$L981<>\"\",入力シート!$L981,\"‐\"))","v":"‐"},{"$f":"IF(入力シート!$K981<>\"\",入力シート!$K981,IF(入力シート!$M981<>\"\",入力シート!$M981,入力シート!$N981))","v":0},{"$f":"入力シート!I981","v":0},{"$f":"入力シート!O981","v":0},{"$f":"IF(入力シート!P981=\"×\",\"P\",\"PN\")","v":"PN"},{"$f":"計算結果!#REF!","v":{"$error":"#REF!"}},{"$f":"計算結果!#REF!","v":{"$error":"#REF!"}},{"$f":"計算結果!#REF!","v":{"$error":"#REF!"}},{"$f":"計算結果!#REF!","v":{"$error":"#REF!"}},{"$f":"計算結果!#REF!","v":{"$error":"#REF!"}},{"$f":"計算結果!#REF!","v":{"$error":"#REF!"}},{"$f":"計算結果!#REF!","v":{"$error":"#REF!"}},{"$f":"計算結果!#REF!","v":{"$error":"#REF!"}},{"$f":"計算結果!#REF!","v":{"$error":"#REF!"}},{"$f":"計算結果!#REF!","v":{"$error":"#REF!"}}]
[{"$f":"入力シート!A982","v":0},{"$f":"入力シート!G982","v":0},{"$f":"入力シート!H982","v":0},{"$f":"IF(入力シート!$J982<>\"\",入力シート!$J982,IF(入力シート!$L982<>\"\",入力シート!$L982,\"‐\"))","v":"‐"},{"$f":"IF(入力シート!$K982<>\"\",入力シート!$K982,IF(入力シート!$M982<>\"\",入力シート!$M982,入力シート!$N982))","v":0},{"$f":"入力シート!I982","v":0},{"$f":"入力シート!O982","v":0},{"$f":"IF(入力シート!P982=\"×\",\"P\",\"PN\")","v":"PN"},{"$f":"計算結果!#REF!","v":{"$error":"#REF!"}},{"$f":"計算結果!#REF!","v":{"$error":"#REF!"}},{"$f":"計算結果!#REF!","v":{"$error":"#REF!"}},{"$f":"計算結果!#REF!","v":{"$error":"#REF!"}},{"$f":"計算結果!#REF!","v":{"$error":"#REF!"}},{"$f":"計算結果!#REF!","v":{"$error":"#REF!"}},{"$f":"計算結果!#REF!","v":{"$error":"#REF!"}},{"$f":"計算結果!#REF!","v":{"$error":"#REF!"}},{"$f":"計算結果!#REF!","v":{"$error":"#REF!"}},{"$f":"計算結果!#REF!","v":{"$error":"#REF!"}}]
[{"$f":"入力シート!A983","v":0},{"$f":"入力シート!G983","v":0},{"$f":"入力シート!H983","v":0},{"$f":"IF(入力シート!$J983<>\"\",入力シート!$J983,IF(入力シート!$L983<>\"\",入力シート!$L983,\"‐\"))","v":"‐"},{"$f":"IF(入力シート!$K983<>\"\",入力シート!$K983,IF(入力シート!$M983<>\"\",入力シート!$M983,入力シート!$N983))","v":0},{"$f":"入力シート!I983","v":0},{"$f":"入力シート!O983","v":0},{"$f":"IF(入力シート!P983=\"×\",\"P\",\"PN\")","v":"PN"},{"$f":"計算結果!#REF!","v":{"$error":"#REF!"}},{"$f":"計算結果!#REF!","v":{"$error":"#REF!"}},{"$f":"計算結果!#REF!","v":{"$error":"#REF!"}},{"$f":"計算結果!#REF!","v":{"$error":"#REF!"}},{"$f":"計算結果!#REF!","v":{"$error":"#REF!"}},{"$f":"計算結果!#REF!","v":{"$error":"#REF!"}},{"$f":"計算結果!#REF!","v":{"$error":"#REF!"}},{"$f":"計算結果!#REF!","v":{"$error":"#REF!"}},{"$f":"計算結果!#REF!","v":{"$error":"#REF!"}},{"$f":"計算結果!#REF!","v":{"$error":"#REF!"}}]
[{"$f":"入力シート!A984","v":0},{"$f":"入力シート!G984","v":0},{"$f":"入力シート!H984","v":0},{"$f":"IF(入力シート!$J984<>\"\",入力シート!$J984,IF(入力シート!$L984<>\"\",入力シート!$L984,\"‐\"))","v":"‐"},{"$f":"IF(入力シート!$K984<>\"\",入力シート!$K984,IF(入力シート!$M984<>\"\",入力シート!$M984,入力シート!$N984))","v":0},{"$f":"入力シート!I984","v":0},{"$f":"入力シート!O984","v":0},{"$f":"IF(入力シート!P984=\"×\",\"P\",\"PN\")","v":"PN"},{"$f":"計算結果!#REF!","v":{"$error":"#REF!"}},{"$f":"計算結果!#REF!","v":{"$error":"#REF!"}},{"$f":"計算結果!#REF!","v":{"$error":"#REF!"}},{"$f":"計算結果!#REF!","v":{"$error":"#REF!"}},{"$f":"計算結果!#REF!","v":{"$error":"#REF!"}},{"$f":"計算結果!#REF!","v":{"$error":"#REF!"}},{"$f":"計算結果!#REF!","v":{"$error":"#REF!"}},{"$f":"計算結果!#REF!","v":{"$error":"#REF!"}},{"$f":"計算結果!#REF!","v":{"$error":"#REF!"}},{"$f":"計算結果!#REF!","v":{"$error":"#REF!"}}]
[{"$f":"入力シート!A985","v":0},{"$f":"入力シート!G985","v":0},{"$f":"入力シート!H985","v":0},{"$f":"IF(入力シート!$J985<>\"\",入力シート!$J985,IF(入力シート!$L985<>\"\",入力シート!$L985,\"‐\"))","v":"‐"},{"$f":"IF(入力シート!$K985<>\"\",入力シート!$K985,IF(入力シート!$M985<>\"\",入力シート!$M985,入力シート!$N985))","v":0},{"$f":"入力シート!I985","v":0},{"$f":"入力シート!O985","v":0},{"$f":"IF(入力シート!P985=\"×\",\"P\",\"PN\")","v":"PN"},{"$f":"計算結果!#REF!","v":{"$error":"#REF!"}},{"$f":"計算結果!#REF!","v":{"$error":"#REF!"}},{"$f":"計算結果!#REF!","v":{"$error":"#REF!"}},{"$f":"計算結果!#REF!","v":{"$error":"#REF!"}},{"$f":"計算結果!#REF!","v":{"$error":"#REF!"}},{"$f":"計算結果!#REF!","v":{"$error":"#REF!"}},{"$f":"計算結果!#REF!","v":{"$error":"#REF!"}},{"$f":"計算結果!#REF!","v":{"$error":"#REF!"}},{"$f":"計算結果!#REF!","v":{"$error":"#REF!"}},{"$f":"計算結果!#REF!","v":{"$error":"#REF!"}}]
[{"$f":"入力シート!A986","v":0},{"$f":"入力シート!G986","v":0},{"$f":"入力シート!H986","v":0},{"$f":"IF(入力シート!$J986<>\"\",入力シート!$J986,IF(入力シート!$L986<>\"\",入力シート!$L986,\"‐\"))","v":"‐"},{"$f":"IF(入力シート!$K986<>\"\",入力シート!$K986,IF(入力シート!$M986<>\"\",入力シート!$M986,入力シート!$N986))","v":0},{"$f":"入力シート!I986","v":0},{"$f":"入力シート!O986","v":0},{"$f":"IF(入力シート!P986=\"×\",\"P\",\"PN\")","v":"PN"},{"$f":"計算結果!#REF!","v":{"$error":"#REF!"}},{"$f":"計算結果!#REF!","v":{"$error":"#REF!"}},{"$f":"計算結果!#REF!","v":{"$error":"#REF!"}},{"$f":"計算結果!#REF!","v":{"$error":"#REF!"}},{"$f":"計算結果!#REF!","v":{"$error":"#REF!"}},{"$f":"計算結果!#REF!","v":{"$error":"#REF!"}},{"$f":"計算結果!#REF!","v":{"$error":"#REF!"}},{"$f":"計算結果!#REF!","v":{"$error":"#REF!"}},{"$f":"計算結果!#REF!","v":{"$error":"#REF!"}},{"$f":"計算結果!#REF!","v":{"$error":"#REF!"}}]
[{"$f":"入力シート!A987","v":0},{"$f":"入力シート!G987","v":0},{"$f":"入力シート!H987","v":0},{"$f":"IF(入力シート!$J987<>\"\",入力シート!$J987,IF(入力シート!$L987<>\"\",入力シート!$L987,\"‐\"))","v":"‐"},{"$f":"IF(入力シート!$K987<>\"\",入力シート!$K987,IF(入力シート!$M987<>\"\",入力シート!$M987,入力シート!$N987))","v":0},{"$f":"入力シート!I987","v":0},{"$f":"入力シート!O987","v":0},{"$f":"IF(入力シート!P987=\"×\",\"P\",\"PN\")","v":"PN"},{"$f":"計算結果!#REF!","v":{"$error":"#REF!"}},{"$f":"計算結果!#REF!","v":{"$error":"#REF!"}},{"$f":"計算結果!#REF!","v":{"$error":"#REF!"}},{"$f":"計算結果!#REF!","v":{"$error":"#REF!"}},{"$f":"計算結果!#REF!","v":{"$error":"#REF!"}},{"$f":"計算結果!#REF!","v":{"$error":"#REF!"}},{"$f":"計算結果!#REF!","v":{"$error":"#REF!"}},{"$f":"計算結果!#REF!","v":{"$error":"#REF!"}},{"$f":"計算結果!#REF!","v":{"$error":"#REF!"}},{"$f":"計算結果!#REF!","v":{"$error":"#REF!"}}]
[{"$f":"入力シート!A988","v":0},{"$f":"入力シート!G988","v":0},{"$f":"入力シート!H988","v":0},{"$f":"IF(入力シート!$J988<>\"\",入力シート!$J988,IF(入力シート!$L988<>\"\",入力シート!$L988,\"‐\"))","v":"‐"},{"$f":"IF(入力シート!$K988<>\"\",入力シート!$K988,IF(入力シート!$M988<>\"\",入力シート!$M988,入力シート!$N988))","v":0},{"$f":"入力シート!I988","v":0},{"$f":"入力シート!O988","v":0},{"$f":"IF(入力シート!P988=\"×\",\"P\",\"PN\")","v":"PN"},{"$f":"計算結果!#REF!","v":{"$error":"#REF!"}},{"$f":"計算結果!#REF!","v":{"$error":"#REF!"}},{"$f":"計算結果!#REF!","v":{"$error":"#REF!"}},{"$f":"計算結果!#REF!","v":{"$error":"#REF!"}},{"$f":"計算結果!#REF!","v":{"$error":"#REF!"}},{"$f":"計算結果!#REF!","v":{"$error":"#REF!"}},{"$f":"計算結果!#REF!","v":{"$error":"#REF!"}},{"$f":"計算結果!#REF!","v":{"$error":"#REF!"}},{"$f":"計算結果!#REF!","v":{"$error":"#REF!"}},{"$f":"計算結果!#REF!","v":{"$error":"#REF!"}}]
[{"$f":"入力シート!A989","v":0},{"$f":"入力シート!G989","v":0},{"$f":"入力シート!H989","v":0},{"$f":"IF(入力シート!$J989<>\"\",入力シート!$J989,IF(入力シート!$L989<>\"\",入力シート!$L989,\"‐\"))","v":"‐"},{"$f":"IF(入力シート!$K989<>\"\",入力シート!$K989,IF(入力シート!$M989<>\"\",入力シート!$M989,入力シート!$N989))","v":0},{"$f":"入力シート!I989","v":0},{"$f":"入力シート!O989","v":0},{"$f":"IF(入力シート!P989=\"×\",\"P\",\"PN\")","v":"PN"},{"$f":"計算結果!#REF!","v":{"$error":"#REF!"}},{"$f":"計算結果!#REF!","v":{"$error":"#REF!"}},{"$f":"計算結果!#REF!","v":{"$error":"#REF!"}},{"$f":"計算結果!#REF!","v":{"$error":"#REF!"}},{"$f":"計算結果!#REF!","v":{"$error":"#REF!"}},{"$f":"計算結果!#REF!","v":{"$error":"#REF!"}},{"$f":"計算結果!#REF!","v":{"$error":"#REF!"}},{"$f":"計算結果!#REF!","v":{"$error":"#REF!"}},{"$f":"計算結果!#REF!","v":{"$error":"#REF!"}},{"$f":"計算結果!#REF!","v":{"$error":"#REF!"}}]
[{"$f":"入力シート!A990","v":0},{"$f":"入力シート!G990","v":0},{"$f":"入力シート!H990","v":0},{"$f":"IF(入力シート!$J990<>\"\",入力シート!$J990,IF(入力シート!$L990<>\"\",入力シート!$L990,\"‐\"))","v":"‐"},{"$f":"IF(入力シート!$K990<>\"\",入力シート!$K990,IF(入力シート!$M990<>\"\",入力シート!$M990,入力シート!$N990))","v":0},{"$f":"入力シート!I990","v":0},{"$f":"入力シート!O990","v":0},{"$f":"IF(入力シート!P990=\"×\",\"P\",\"PN\")","v":"PN"},{"$f":"計算結果!#REF!","v":{"$error":"#REF!"}},{"$f":"計算結果!#REF!","v":{"$error":"#REF!"}},{"$f":"計算結果!#REF!","v":{"$error":"#REF!"}},{"$f":"計算結果!#REF!","v":{"$error":"#REF!"}},{"$f":"計算結果!#REF!","v":{"$error":"#REF!"}},{"$f":"計算結果!#REF!","v":{"$error":"#REF!"}},{"$f":"計算結果!#REF!","v":{"$error":"#REF!"}},{"$f":"計算結果!#REF!","v":{"$error":"#REF!"}},{"$f":"計算結果!#REF!","v":{"$error":"#REF!"}},{"$f":"計算結果!#REF!","v":{"$error":"#REF!"}}]
[{"$f":"入力シート!A991","v":0},{"$f":"入力シート!G991","v":0},{"$f":"入力シート!H991","v":0},{"$f":"IF(入力シート!$J991<>\"\",入力シート!$J991,IF(入力シート!$L991<>\"\",入力シート!$L991,\"‐\"))","v":"‐"},{"$f":"IF(入力シート!$K991<>\"\",入力シート!$K991,IF(入力シート!$M991<>\"\",入力シート!$M991,入力シート!$N991))","v":0},{"$f":"入力シート!I991","v":0},{"$f":"入力シート!O991","v":0},{"$f":"IF(入力シート!P991=\"×\",\"P\",\"PN\")","v":"PN"},{"$f":"計算結果!#REF!","v":{"$error":"#REF!"}},{"$f":"計算結果!#REF!","v":{"$error":"#REF!"}},{"$f":"計算結果!#REF!","v":{"$error":"#REF!"}},{"$f":"計算結果!#REF!","v":{"$error":"#REF!"}},{"$f":"計算結果!#REF!","v":{"$error":"#REF!"}},{"$f":"計算結果!#REF!","v":{"$error":"#REF!"}},{"$f":"計算結果!#REF!","v":{"$error":"#REF!"}},{"$f":"計算結果!#REF!","v":{"$error":"#REF!"}},{"$f":"計算結果!#REF!","v":{"$error":"#REF!"}},{"$f":"計算結果!#REF!","v":{"$error":"#REF!"}}]
[{"$f":"入力シート!A992","v":0},{"$f":"入力シート!G992","v":0},{"$f":"入力シート!H992","v":0},{"$f":"IF(入力シート!$J992<>\"\",入力シート!$J992,IF(入力シート!$L992<>\"\",入力シート!$L992,\"‐\"))","v":"‐"},{"$f":"IF(入力シート!$K992<>\"\",入力シート!$K992,IF(入力シート!$M992<>\"\",入力シート!$M992,入力シート!$N992))","v":0},{"$f":"入力シート!I992","v":0},{"$f":"入力シート!O992","v":0},{"$f":"IF(入力シート!P992=\"×\",\"P\",\"PN\")","v":"PN"},{"$f":"計算結果!#REF!","v":{"$error":"#REF!"}},{"$f":"計算結果!#REF!","v":{"$error":"#REF!"}},{"$f":"計算結果!#REF!","v":{"$error":"#REF!"}},{"$f":"計算結果!#REF!","v":{"$error":"#REF!"}},{"$f":"計算結果!#REF!","v":{"$error":"#REF!"}},{"$f":"計算結果!#REF!","v":{"$error":"#REF!"}},{"$f":"計算結果!#REF!","v":{"$error":"#REF!"}},{"$f":"計算結果!#REF!","v":{"$error":"#REF!"}},{"$f":"計算結果!#REF!","v":{"$error":"#REF!"}},{"$f":"計算結果!#REF!","v":{"$error":"#REF!"}}]
[{"$f":"入力シート!A993","v":0},{"$f":"入力シート!G993","v":0},{"$f":"入力シート!H993","v":0},{"$f":"IF(入力シート!$J993<>\"\",入力シート!$J993,IF(入力シート!$L993<>\"\",入力シート!$L993,\"‐\"))","v":"‐"},{"$f":"IF(入力シート!$K993<>\"\",入力シート!$K993,IF(入力シート!$M993<>\"\",入力シート!$M993,入力シート!$N993))","v":0},{"$f":"入力シート!I993","v":0},{"$f":"入力シート!O993","v":0},{"$f":"IF(入力シート!P993=\"×\",\"P\",\"PN\")","v":"PN"},{"$f":"計算結果!#REF!","v":{"$error":"#REF!"}},{"$f":"計算結果!#REF!","v":{"$error":"#REF!"}},{"$f":"計算結果!#REF!","v":{"$error":"#REF!"}},{"$f":"計算結果!#REF!","v":{"$error":"#REF!"}},{"$f":"計算結果!#REF!","v":{"$error":"#REF!"}},{"$f":"計算結果!#REF!","v":{"$error":"#REF!"}},{"$f":"計算結果!#REF!","v":{"$error":"#REF!"}},{"$f":"計算結果!#REF!","v":{"$error":"#REF!"}},{"$f":"計算結果!#REF!","v":{"$error":"#REF!"}},{"$f":"計算結果!#REF!","v":{"$error":"#REF!"}}]
[{"$f":"入力シート!A994","v":0},{"$f":"入力シート!G994","v":0},{"$f":"入力シート!H994","v":0},{"$f":"IF(入力シート!$J994<>\"\",入力シート!$J994,IF(入力シート!$L994<>\"\",入力シート!$L994,\"‐\"))","v":"‐"},{"$f":"IF(入力シート!$K994<>\"\",入力シート!$K994,IF(入力シート!$M994<>\"\",入力シート!$M994,入力シート!$N994))","v":0},{"$f":"入力シート!I994","v":0},{"$f":"入力シート!O994","v":0},{"$f":"IF(入力シート!P994=\"×\",\"P\",\"PN\")","v":"PN"},{"$f":"計算結果!#REF!","v":{"$error":"#REF!"}},{"$f":"計算結果!#REF!","v":{"$error":"#REF!"}},{"$f":"計算結果!#REF!","v":{"$error":"#REF!"}},{"$f":"計算結果!#REF!","v":{"$error":"#REF!"}},{"$f":"計算結果!#REF!","v":{"$error":"#REF!"}},{"$f":"計算結果!#REF!","v":{"$error":"#REF!"}},{"$f":"計算結果!#REF!","v":{"$error":"#REF!"}},{"$f":"計算結果!#REF!","v":{"$error":"#REF!"}},{"$f":"計算結果!#REF!","v":{"$error":"#REF!"}},{"$f":"計算結果!#REF!","v":{"$error":"#REF!"}}]
[{"$f":"入力シート!A995","v":0},{"$f":"入力シート!G995","v":0},{"$f":"入力シート!H995","v":0},{"$f":"IF(入力シート!$J995<>\"\",入力シート!$J995,IF(入力シート!$L995<>\"\",入力シート!$L995,\"‐\"))","v":"‐"},{"$f":"IF(入力シート!$K995<>\"\",入力シート!$K995,IF(入力シート!$M995<>\"\",入力シート!$M995,入力シート!$N995))","v":0},{"$f":"入力シート!I995","v":0},{"$f":"入力シート!O995","v":0},{"$f":"IF(入力シート!P995=\"×\",\"P\",\"PN\")","v":"PN"},{"$f":"計算結果!#REF!","v":{"$error":"#REF!"}},{"$f":"計算結果!#REF!","v":{"$error":"#REF!"}},{"$f":"計算結果!#REF!","v":{"$error":"#REF!"}},{"$f":"計算結果!#REF!","v":{"$error":"#REF!"}},{"$f":"計算結果!#REF!","v":{"$error":"#REF!"}},{"$f":"計算結果!#REF!","v":{"$error":"#REF!"}},{"$f":"計算結果!#REF!","v":{"$error":"#REF!"}},{"$f":"計算結果!#REF!","v":{"$error":"#REF!"}},{"$f":"計算結果!#REF!","v":{"$error":"#REF!"}},{"$f":"計算結果!#REF!","v":{"$error":"#REF!"}}]
[{"$f":"入力シート!A996","v":0},{"$f":"入力シート!G996","v":0},{"$f":"入力シート!H996","v":0},{"$f":"IF(入力シート!$J996<>\"\",入力シート!$J996,IF(入力シート!$L996<>\"\",入力シート!$L996,\"‐\"))","v":"‐"},{"$f":"IF(入力シート!$K996<>\"\",入力シート!$K996,IF(入力シート!$M996<>\"\",入力シート!$M996,入力シート!$N996))","v":0},{"$f":"入力シート!I996","v":0},{"$f":"入力シート!O996","v":0},{"$f":"IF(入力シート!P996=\"×\",\"P\",\"PN\")","v":"PN"},{"$f":"計算結果!#REF!","v":{"$error":"#REF!"}},{"$f":"計算結果!#REF!","v":{"$error":"#REF!"}},{"$f":"計算結果!#REF!","v":{"$error":"#REF!"}},{"$f":"計算結果!#REF!","v":{"$error":"#REF!"}},{"$f":"計算結果!#REF!","v":{"$error":"#REF!"}},{"$f":"計算結果!#REF!","v":{"$error":"#REF!"}},{"$f":"計算結果!#REF!","v":{"$error":"#REF!"}},{"$f":"計算結果!#REF!","v":{"$error":"#REF!"}},{"$f":"計算結果!#REF!","v":{"$error":"#REF!"}},{"$f":"計算結果!#REF!","v":{"$error":"#REF!"}}]
[{"$f":"入力シート!A997","v":0},{"$f":"入力シート!G997","v":0},{"$f":"入力シート!H997","v":0},{"$f":"IF(入力シート!$J997<>\"\",入力シート!$J997,IF(入力シート!$L997<>\"\",入力シート!$L997,\"‐\"))","v":"‐"},{"$f":"IF(入力シート!$K997<>\"\",入力シート!$K997,IF(入力シート!$M997<>\"\",入力シート!$M997,入力シート!$N997))","v":0},{"$f":"入力シート!I997","v":0},{"$f":"入力シート!O997","v":0},{"$f":"IF(入力シート!P997=\"×\",\"P\",\"PN\")","v":"PN"},{"$f":"計算結果!#REF!","v":{"$error":"#REF!"}},{"$f":"計算結果!#REF!","v":{"$error":"#REF!"}},{"$f":"計算結果!#REF!","v":{"$error":"#REF!"}},{"$f":"計算結果!#REF!","v":{"$error":"#REF!"}},{"$f":"計算結果!#REF!","v":{"$error":"#REF!"}},{"$f":"計算結果!#REF!","v":{"$error":"#REF!"}},{"$f":"計算結果!#REF!","v":{"$error":"#REF!"}},{"$f":"計算結果!#REF!","v":{"$error":"#REF!"}},{"$f":"計算結果!#REF!","v":{"$error":"#REF!"}},{"$f":"計算結果!#REF!","v":{"$error":"#REF!"}}]
[{"$f":"入力シート!A998","v":0},{"$f":"入力シート!G998","v":0},{"$f":"入力シート!H998","v":0},{"$f":"IF(入力シート!$J998<>\"\",入力シート!$J998,IF(入力シート!$L998<>\"\",入力シート!$L998,\"‐\"))","v":"‐"},{"$f":"IF(入力シート!$K998<>\"\",入力シート!$K998,IF(入力シート!$M998<>\"\",入力シート!$M998,入力シート!$N998))","v":0},{"$f":"入力シート!I998","v":0},{"$f":"入力シート!O998","v":0},{"$f":"IF(入力シート!P998=\"×\",\"P\",\"PN\")","v":"PN"},{"$f":"計算結果!#REF!","v":{"$error":"#REF!"}},{"$f":"計算結果!#REF!","v":{"$error":"#REF!"}},{"$f":"計算結果!#REF!","v":{"$error":"#REF!"}},{"$f":"計算結果!#REF!","v":{"$error":"#REF!"}},{"$f":"計算結果!#REF!","v":{"$error":"#REF!"}},{"$f":"計算結果!#REF!","v":{"$error":"#REF!"}},{"$f":"計算結果!#REF!","v":{"$error":"#REF!"}},{"$f":"計算結果!#REF!","v":{"$error":"#REF!"}},{"$f":"計算結果!#REF!","v":{"$error":"#REF!"}},{"$f":"計算結果!#REF!","v":{"$error":"#REF!"}}]
[{"$f":"入力シート!A999","v":0},{"$f":"入力シート!G999","v":0},{"$f":"入力シート!H999","v":0},{"$f":"IF(入力シート!$J999<>\"\",入力シート!$J999,IF(入力シート!$L999<>\"\",入力シート!$L999,\"‐\"))","v":"‐"},{"$f":"IF(入力シート!$K999<>\"\",入力シート!$K999,IF(入力シート!$M999<>\"\",入力シート!$M999,入力シート!$N999))","v":0},{"$f":"入力シート!I999","v":0},{"$f":"入力シート!O999","v":0},{"$f":"IF(入力シート!P999=\"×\",\"P\",\"PN\")","v":"PN"},{"$f":"計算結果!#REF!","v":{"$error":"#REF!"}},{"$f":"計算結果!#REF!","v":{"$error":"#REF!"}},{"$f":"計算結果!#REF!","v":{"$error":"#REF!"}},{"$f":"計算結果!#REF!","v":{"$error":"#REF!"}},{"$f":"計算結果!#REF!","v":{"$error":"#REF!"}},{"$f":"計算結果!#REF!","v":{"$error":"#REF!"}},{"$f":"計算結果!#REF!","v":{"$error":"#REF!"}},{"$f":"計算結果!#REF!","v":{"$error":"#REF!"}},{"$f":"計算結果!#REF!","v":{"$error":"#REF!"}},{"$f":"計算結果!#REF!","v":{"$error":"#REF!"}}]
[{"$f":"入力シート!A1000","v":0},{"$f":"入力シート!G1000","v":0},{"$f":"入力シート!H1000","v":0},{"$f":"IF(入力シート!$J1000<>\"\",入力シート!$J1000,IF(入力シート!$L1000<>\"\",入力シート!$L1000,\"‐\"))","v":"‐"},{"$f":"IF(入力シート!$K1000<>\"\",入力シート!$K1000,IF(入力シート!$M1000<>\"\",入力シート!$M1000,入力シート!$N1000))","v":0},{"$f":"入力シート!I1000","v":0},{"$f":"入力シート!O1000","v":0},{"$f":"IF(入力シート!P1000=\"×\",\"P\",\"PN\")","v":"PN"},{"$f":"計算結果!#REF!","v":{"$error":"#REF!"}},{"$f":"計算結果!#REF!","v":{"$error":"#REF!"}},{"$f":"計算結果!#REF!","v":{"$error":"#REF!"}},{"$f":"計算結果!#REF!","v":{"$error":"#REF!"}},{"$f":"計算結果!#REF!","v":{"$error":"#REF!"}},{"$f":"計算結果!#REF!","v":{"$error":"#REF!"}},{"$f":"計算結果!#REF!","v":{"$error":"#REF!"}},{"$f":"計算結果!#REF!","v":{"$error":"#REF!"}},{"$f":"計算結果!#REF!","v":{"$error":"#REF!"}},{"$f":"計算結果!#REF!","v":{"$error":"#REF!"}}]
[{"$f":"入力シート!A1001","v":0},{"$f":"入力シート!G1001","v":0},{"$f":"入力シート!H1001","v":0},{"$f":"IF(入力シート!$J1001<>\"\",入力シート!$J1001,IF(入力シート!$L1001<>\"\",入力シート!$L1001,\"‐\"))","v":"‐"},{"$f":"IF(入力シート!$K1001<>\"\",入力シート!$K1001,IF(入力シート!$M1001<>\"\",入力シート!$M1001,入力シート!$N1001))","v":0},{"$f":"入力シート!I1001","v":0},{"$f":"入力シート!O1001","v":0},{"$f":"IF(入力シート!P1001=\"×\",\"P\",\"PN\")","v":"PN"},{"$f":"計算結果!#REF!","v":{"$error":"#REF!"}},{"$f":"計算結果!#REF!","v":{"$error":"#REF!"}},{"$f":"計算結果!#REF!","v":{"$error":"#REF!"}},{"$f":"計算結果!#REF!","v":{"$error":"#REF!"}},{"$f":"計算結果!#REF!","v":{"$error":"#REF!"}},{"$f":"計算結果!#REF!","v":{"$error":"#REF!"}},{"$f":"計算結果!#REF!","v":{"$error":"#REF!"}},{"$f":"計算結果!#REF!","v":{"$error":"#REF!"}},{"$f":"計算結果!#REF!","v":{"$error":"#REF!"}},{"$f":"計算結果!#REF!","v":{"$error":"#REF!"}}]
[{"$f":"入力シート!A1002","v":0},{"$f":"入力シート!G1002","v":0},{"$f":"入力シート!H1002","v":0},{"$f":"IF(入力シート!$J1002<>\"\",入力シート!$J1002,IF(入力シート!$L1002<>\"\",入力シート!$L1002,\"‐\"))","v":"‐"},{"$f":"IF(入力シート!$K1002<>\"\",入力シート!$K1002,IF(入力シート!$M1002<>\"\",入力シート!$M1002,入力シート!$N1002))","v":0},{"$f":"入力シート!I1002","v":0},{"$f":"入力シート!O1002","v":0},{"$f":"IF(入力シート!P1002=\"×\",\"P\",\"PN\")","v":"PN"},{"$f":"計算結果!#REF!","v":{"$error":"#REF!"}},{"$f":"計算結果!#REF!","v":{"$error":"#REF!"}},{"$f":"計算結果!#REF!","v":{"$error":"#REF!"}},{"$f":"計算結果!#REF!","v":{"$error":"#REF!"}},{"$f":"計算結果!#REF!","v":{"$error":"#REF!"}},{"$f":"計算結果!#REF!","v":{"$error":"#REF!"}},{"$f":"計算結果!#REF!","v":{"$error":"#REF!"}},{"$f":"計算結果!#REF!","v":{"$error":"#REF!"}},{"$f":"計算結果!#REF!","v":{"$error":"#REF!"}},{"$f":"計算結果!#REF!","v":{"$error":"#REF!"}}]
[{"$f":"入力シート!A1003","v":0},{"$f":"入力シート!G1003","v":0},{"$f":"入力シート!H1003","v":0},{"$f":"IF(入力シート!$J1003<>\"\",入力シート!$J1003,IF(入力シート!$L1003<>\"\",入力シート!$L1003,\"‐\"))","v":"‐"},{"$f":"IF(入力シート!$K1003<>\"\",入力シート!$K1003,IF(入力シート!$M1003<>\"\",入力シート!$M1003,入力シート!$N1003))","v":0},{"$f":"入力シート!I1003","v":0},{"$f":"入力シート!O1003","v":0},{"$f":"IF(入力シート!P1003=\"×\",\"P\",\"PN\")","v":"PN"},{"$f":"計算結果!#REF!","v":{"$error":"#REF!"}},{"$f":"計算結果!#REF!","v":{"$error":"#REF!"}},{"$f":"計算結果!#REF!","v":{"$error":"#REF!"}},{"$f":"計算結果!#REF!","v":{"$error":"#REF!"}},{"$f":"計算結果!#REF!","v":{"$error":"#REF!"}},{"$f":"計算結果!#REF!","v":{"$error":"#REF!"}},{"$f":"計算結果!#REF!","v":{"$error":"#REF!"}},{"$f":"計算結果!#REF!","v":{"$error":"#REF!"}},{"$f":"計算結果!#REF!","v":{"$error":"#REF!"}},{"$f":"計算結果!#REF!","v":{"$error":"#REF!"}}]
[{"$f":"入力シート!A1004","v":0},{"$f":"入力シート!G1004","v":0},{"$f":"入力シート!H1004","v":0},{"$f":"IF(入力シート!$J1004<>\"\",入力シート!$J1004,IF(入力シート!$L1004<>\"\",入力シート!$L1004,\"‐\"))","v":"‐"},{"$f":"IF(入力シート!$K1004<>\"\",入力シート!$K1004,IF(入力シート!$M1004<>\"\",入力シート!$M1004,入力シート!$N1004))","v":0},{"$f":"入力シート!I1004","v":0},{"$f":"入力シート!O1004","v":0},{"$f":"IF(入力シート!P1004=\"×\",\"P\",\"PN\")","v":"PN"},{"$f":"計算結果!#REF!","v":{"$error":"#REF!"}},{"$f":"計算結果!#REF!","v":{"$error":"#REF!"}},{"$f":"計算結果!#REF!","v":{"$error":"#REF!"}},{"$f":"計算結果!#REF!","v":{"$error":"#REF!"}},{"$f":"計算結果!#REF!","v":{"$error":"#REF!"}},{"$f":"計算結果!#REF!","v":{"$error":"#REF!"}},{"$f":"計算結果!#REF!","v":{"$error":"#REF!"}},{"$f":"計算結果!#REF!","v":{"$error":"#REF!"}},{"$f":"計算結果!#REF!","v":{"$error":"#REF!"}},{"$f":"計算結果!#REF!","v":{"$error":"#REF!"}}]
[{"$f":"入力シート!A1005","v":0},{"$f":"入力シート!G1005","v":0},{"$f":"入力シート!H1005","v":0},{"$f":"IF(入力シート!$J1005<>\"\",入力シート!$J1005,IF(入力シート!$L1005<>\"\",入力シート!$L1005,\"‐\"))","v":"‐"},{"$f":"IF(入力シート!$K1005<>\"\",入力シート!$K1005,IF(入力シート!$M1005<>\"\",入力シート!$M1005,入力シート!$N1005))","v":0},{"$f":"入力シート!I1005","v":0},{"$f":"入力シート!O1005","v":0},{"$f":"IF(入力シート!P1005=\"×\",\"P\",\"PN\")","v":"PN"},{"$f":"計算結果!#REF!","v":{"$error":"#REF!"}},{"$f":"計算結果!#REF!","v":{"$error":"#REF!"}},{"$f":"計算結果!#REF!","v":{"$error":"#REF!"}},{"$f":"計算結果!#REF!","v":{"$error":"#REF!"}},{"$f":"計算結果!#REF!","v":{"$error":"#REF!"}},{"$f":"計算結果!#REF!","v":{"$error":"#REF!"}},{"$f":"計算結果!#REF!","v":{"$error":"#REF!"}},{"$f":"計算結果!#REF!","v":{"$error":"#REF!"}},{"$f":"計算結果!#REF!","v":{"$error":"#REF!"}},{"$f":"計算結果!#REF!","v":{"$error":"#REF!"}}]
[{"$f":"入力シート!A1006","v":0},{"$f":"入力シート!G1006","v":0},{"$f":"入力シート!H1006","v":0},{"$f":"IF(入力シート!$J1006<>\"\",入力シート!$J1006,IF(入力シート!$L1006<>\"\",入力シート!$L1006,\"‐\"))","v":"‐"},{"$f":"IF(入力シート!$K1006<>\"\",入力シート!$K1006,IF(入力シート!$M1006<>\"\",入力シート!$M1006,入力シート!$N1006))","v":0},{"$f":"入力シート!I1006","v":0},{"$f":"入力シート!O1006","v":0},{"$f":"IF(入力シート!P1006=\"×\",\"P\",\"PN\")","v":"PN"},{"$f":"計算結果!#REF!","v":{"$error":"#REF!"}},{"$f":"計算結果!#REF!","v":{"$error":"#REF!"}},{"$f":"計算結果!#REF!","v":{"$error":"#REF!"}},{"$f":"計算結果!#REF!","v":{"$error":"#REF!"}},{"$f":"計算結果!#REF!","v":{"$error":"#REF!"}},{"$f":"計算結果!#REF!","v":{"$error":"#REF!"}},{"$f":"計算結果!#REF!","v":{"$error":"#REF!"}},{"$f":"計算結果!#REF!","v":{"$error":"#REF!"}},{"$f":"計算結果!#REF!","v":{"$error":"#REF!"}},{"$f":"計算結果!#REF!","v":{"$error":"#REF!"}}]
[{"$f":"入力シート!A1007","v":0},{"$f":"入力シート!G1007","v":0},{"$f":"入力シート!H1007","v":0},{"$f":"IF(入力シート!$J1007<>\"\",入力シート!$J1007,IF(入力シート!$L1007<>\"\",入力シート!$L1007,\"‐\"))","v":"‐"},{"$f":"IF(入力シート!$K1007<>\"\",入力シート!$K1007,IF(入力シート!$M1007<>\"\",入力シート!$M1007,入力シート!$N1007))","v":0},{"$f":"入力シート!I1007","v":0},{"$f":"入力シート!O1007","v":0},{"$f":"IF(入力シート!P1007=\"×\",\"P\",\"PN\")","v":"PN"},{"$f":"計算結果!#REF!","v":{"$error":"#REF!"}},{"$f":"計算結果!#REF!","v":{"$error":"#REF!"}},{"$f":"計算結果!#REF!","v":{"$error":"#REF!"}},{"$f":"計算結果!#REF!","v":{"$error":"#REF!"}},{"$f":"計算結果!#REF!","v":{"$error":"#REF!"}},{"$f":"計算結果!#REF!","v":{"$error":"#REF!"}},{"$f":"計算結果!#REF!","v":{"$error":"#REF!"}},{"$f":"計算結果!#REF!","v":{"$error":"#REF!"}},{"$f":"計算結果!#REF!","v":{"$error":"#REF!"}},{"$f":"計算結果!#REF!","v":{"$error":"#REF!"}}]
[{"$f":"入力シート!A1008","v":0},{"$f":"入力シート!G1008","v":0},{"$f":"入力シート!H1008","v":0},{"$f":"IF(入力シート!$J1008<>\"\",入力シート!$J1008,IF(入力シート!$L1008<>\"\",入力シート!$L1008,\"‐\"))","v":"‐"},{"$f":"IF(入力シート!$K1008<>\"\",入力シート!$K1008,IF(入力シート!$M1008<>\"\",入力シート!$M1008,入力シート!$N1008))","v":0},{"$f":"入力シート!I1008","v":0},{"$f":"入力シート!O1008","v":0},{"$f":"IF(入力シート!P1008=\"×\",\"P\",\"PN\")","v":"PN"},{"$f":"計算結果!#REF!","v":{"$error":"#REF!"}},{"$f":"計算結果!#REF!","v":{"$error":"#REF!"}},{"$f":"計算結果!#REF!","v":{"$error":"#REF!"}},{"$f":"計算結果!#REF!","v":{"$error":"#REF!"}},{"$f":"計算結果!#REF!","v":{"$error":"#REF!"}},{"$f":"計算結果!#REF!","v":{"$error":"#REF!"}},{"$f":"計算結果!#REF!","v":{"$error":"#REF!"}},{"$f":"計算結果!#REF!","v":{"$error":"#REF!"}},{"$f":"計算結果!#REF!","v":{"$error":"#REF!"}},{"$f":"計算結果!#REF!","v":{"$error":"#REF!"}}]
[{"$f":"入力シート!A1009","v":0},{"$f":"入力シート!G1009","v":0},{"$f":"入力シート!H1009","v":0},{"$f":"IF(入力シート!$J1009<>\"\",入力シート!$J1009,IF(入力シート!$L1009<>\"\",入力シート!$L1009,\"‐\"))","v":"‐"},{"$f":"IF(入力シート!$K1009<>\"\",入力シート!$K1009,IF(入力シート!$M1009<>\"\",入力シート!$M1009,入力シート!$N1009))","v":0},{"$f":"入力シート!I1009","v":0},{"$f":"入力シート!O1009","v":0},{"$f":"IF(入力シート!P1009=\"×\",\"P\",\"PN\")","v":"PN"},{"$f":"計算結果!#REF!","v":{"$error":"#REF!"}},{"$f":"計算結果!#REF!","v":{"$error":"#REF!"}},{"$f":"計算結果!#REF!","v":{"$error":"#REF!"}},{"$f":"計算結果!#REF!","v":{"$error":"#REF!"}},{"$f":"計算結果!#REF!","v":{"$error":"#REF!"}},{"$f":"計算結果!#REF!","v":{"$error":"#REF!"}},{"$f":"計算結果!#REF!","v":{"$error":"#REF!"}},{"$f":"計算結果!#REF!","v":{"$error":"#REF!"}},{"$f":"計算結果!#REF!","v":{"$error":"#REF!"}},{"$f":"計算結果!#REF!","v":{"$error":"#REF!"}}]
[{"$f":"入力シート!A1010","v":0},{"$f":"入力シート!G1010","v":0},{"$f":"入力シート!H1010","v":0},{"$f":"IF(入力シート!$J1010<>\"\",入力シート!$J1010,IF(入力シート!$L1010<>\"\",入力シート!$L1010,\"‐\"))","v":"‐"},{"$f":"IF(入力シート!$K1010<>\"\",入力シート!$K1010,IF(入力シート!$M1010<>\"\",入力シート!$M1010,入力シート!$N1010))","v":0},{"$f":"入力シート!I1010","v":0},{"$f":"入力シート!O1010","v":0},{"$f":"IF(入力シート!P1010=\"×\",\"P\",\"PN\")","v":"PN"},{"$f":"計算結果!#REF!","v":{"$error":"#REF!"}},{"$f":"計算結果!#REF!","v":{"$error":"#REF!"}},{"$f":"計算結果!#REF!","v":{"$error":"#REF!"}},{"$f":"計算結果!#REF!","v":{"$error":"#REF!"}},{"$f":"計算結果!#REF!","v":{"$error":"#REF!"}},{"$f":"計算結果!#REF!","v":{"$error":"#REF!"}},{"$f":"計算結果!#REF!","v":{"$error":"#REF!"}},{"$f":"計算結果!#REF!","v":{"$error":"#REF!"}},{"$f":"計算結果!#REF!","v":{"$error":"#REF!"}},{"$f":"計算結果!#REF!","v":{"$error":"#REF!"}}]
[{"$f":"入力シート!A1011","v":0},{"$f":"入力シート!G1011","v":0},{"$f":"入力シート!H1011","v":0},{"$f":"IF(入力シート!$J1011<>\"\",入力シート!$J1011,IF(入力シート!$L1011<>\"\",入力シート!$L1011,\"‐\"))","v":"‐"},{"$f":"IF(入力シート!$K1011<>\"\",入力シート!$K1011,IF(入力シート!$M1011<>\"\",入力シート!$M1011,入力シート!$N1011))","v":0},{"$f":"入力シート!I1011","v":0},{"$f":"入力シート!O1011","v":0},{"$f":"IF(入力シート!P1011=\"×\",\"P\",\"PN\")","v":"PN"},{"$f":"計算結果!#REF!","v":{"$error":"#REF!"}},{"$f":"計算結果!#REF!","v":{"$error":"#REF!"}},{"$f":"計算結果!#REF!","v":{"$error":"#REF!"}},{"$f":"計算結果!#REF!","v":{"$error":"#REF!"}},{"$f":"計算結果!#REF!","v":{"$error":"#REF!"}},{"$f":"計算結果!#REF!","v":{"$error":"#REF!"}},{"$f":"計算結果!#REF!","v":{"$error":"#REF!"}},{"$f":"計算結果!#REF!","v":{"$error":"#REF!"}},{"$f":"計算結果!#REF!","v":{"$error":"#REF!"}},{"$f":"計算結果!#REF!","v":{"$error":"#REF!"}}]
[{"$f":"入力シート!A1012","v":0},{"$f":"入力シート!G1012","v":0},{"$f":"入力シート!H1012","v":0},{"$f":"IF(入力シート!$J1012<>\"\",入力シート!$J1012,IF(入力シート!$L1012<>\"\",入力シート!$L1012,\"‐\"))","v":"‐"},{"$f":"IF(入力シート!$K1012<>\"\",入力シート!$K1012,IF(入力シート!$M1012<>\"\",入力シート!$M1012,入力シート!$N1012))","v":0},{"$f":"入力シート!I1012","v":0},{"$f":"入力シート!O1012","v":0},{"$f":"IF(入力シート!P1012=\"×\",\"P\",\"PN\")","v":"PN"},{"$f":"計算結果!#REF!","v":{"$error":"#REF!"}},{"$f":"計算結果!#REF!","v":{"$error":"#REF!"}},{"$f":"計算結果!#REF!","v":{"$error":"#REF!"}},{"$f":"計算結果!#REF!","v":{"$error":"#REF!"}},{"$f":"計算結果!#REF!","v":{"$error":"#REF!"}},{"$f":"計算結果!#REF!","v":{"$error":"#REF!"}},{"$f":"計算結果!#REF!","v":{"$error":"#REF!"}},{"$f":"計算結果!#REF!","v":{"$error":"#REF!"}},{"$f":"計算結果!#REF!","v":{"$error":"#REF!"}},{"$f":"計算結果!#REF!","v":{"$error":"#REF!"}}]
[{"$f":"入力シート!A1013","v":0},{"$f":"入力シート!G1013","v":0},{"$f":"入力シート!H1013","v":0},{"$f":"IF(入力シート!$J1013<>\"\",入力シート!$J1013,IF(入力シート!$L1013<>\"\",入力シート!$L1013,\"‐\"))","v":"‐"},{"$f":"IF(入力シート!$K1013<>\"\",入力シート!$K1013,IF(入力シート!$M1013<>\"\",入力シート!$M1013,入力シート!$N1013))","v":0},{"$f":"入力シート!I1013","v":0},{"$f":"入力シート!O1013","v":0},{"$f":"IF(入力シート!P1013=\"×\",\"P\",\"PN\")","v":"PN"},{"$f":"計算結果!#REF!","v":{"$error":"#REF!"}},{"$f":"計算結果!#REF!","v":{"$error":"#REF!"}},{"$f":"計算結果!#REF!","v":{"$error":"#REF!"}},{"$f":"計算結果!#REF!","v":{"$error":"#REF!"}},{"$f":"計算結果!#REF!","v":{"$error":"#REF!"}},{"$f":"計算結果!#REF!","v":{"$error":"#REF!"}},{"$f":"計算結果!#REF!","v":{"$error":"#REF!"}},{"$f":"計算結果!#REF!","v":{"$error":"#REF!"}},{"$f":"計算結果!#REF!","v":{"$error":"#REF!"}},{"$f":"計算結果!#REF!","v":{"$error":"#REF!"}}]
[{"$f":"入力シート!A1014","v":0},{"$f":"入力シート!G1014","v":0},{"$f":"入力シート!H1014","v":0},{"$f":"IF(入力シート!$J1014<>\"\",入力シート!$J1014,IF(入力シート!$L1014<>\"\",入力シート!$L1014,\"‐\"))","v":"‐"},{"$f":"IF(入力シート!$K1014<>\"\",入力シート!$K1014,IF(入力シート!$M1014<>\"\",入力シート!$M1014,入力シート!$N1014))","v":0},{"$f":"入力シート!I1014","v":0},{"$f":"入力シート!O1014","v":0},{"$f":"IF(入力シート!P1014=\"×\",\"P\",\"PN\")","v":"PN"},{"$f":"計算結果!#REF!","v":{"$error":"#REF!"}},{"$f":"計算結果!#REF!","v":{"$error":"#REF!"}},{"$f":"計算結果!#REF!","v":{"$error":"#REF!"}},{"$f":"計算結果!#REF!","v":{"$error":"#REF!"}},{"$f":"計算結果!#REF!","v":{"$error":"#REF!"}},{"$f":"計算結果!#REF!","v":{"$error":"#REF!"}},{"$f":"計算結果!#REF!","v":{"$error":"#REF!"}},{"$f":"計算結果!#REF!","v":{"$error":"#REF!"}},{"$f":"計算結果!#REF!","v":{"$error":"#REF!"}},{"$f":"計算結果!#REF!","v":{"$error":"#REF!"}}]
[{"$f":"入力シート!A1015","v":0},{"$f":"入力シート!G1015","v":0},{"$f":"入力シート!H1015","v":0},{"$f":"IF(入力シート!$J1015<>\"\",入力シート!$J1015,IF(入力シート!$L1015<>\"\",入力シート!$L1015,\"‐\"))","v":"‐"},{"$f":"IF(入力シート!$K1015<>\"\",入力シート!$K1015,IF(入力シート!$M1015<>\"\",入力シート!$M1015,入力シート!$N1015))","v":0},{"$f":"入力シート!I1015","v":0},{"$f":"入力シート!O1015","v":0},{"$f":"IF(入力シート!P1015=\"×\",\"P\",\"PN\")","v":"PN"},{"$f":"計算結果!#REF!","v":{"$error":"#REF!"}},{"$f":"計算結果!#REF!","v":{"$error":"#REF!"}},{"$f":"計算結果!#REF!","v":{"$error":"#REF!"}},{"$f":"計算結果!#REF!","v":{"$error":"#REF!"}},{"$f":"計算結果!#REF!","v":{"$error":"#REF!"}},{"$f":"計算結果!#REF!","v":{"$error":"#REF!"}},{"$f":"計算結果!#REF!","v":{"$error":"#REF!"}},{"$f":"計算結果!#REF!","v":{"$error":"#REF!"}},{"$f":"計算結果!#REF!","v":{"$error":"#REF!"}},{"$f":"計算結果!#REF!","v":{"$error":"#REF!"}}]
[{"$f":"入力シート!A1016","v":0},{"$f":"入力シート!G1016","v":0},{"$f":"入力シート!H1016","v":0},{"$f":"IF(入力シート!$J1016<>\"\",入力シート!$J1016,IF(入力シート!$L1016<>\"\",入力シート!$L1016,\"‐\"))","v":"‐"},{"$f":"IF(入力シート!$K1016<>\"\",入力シート!$K1016,IF(入力シート!$M1016<>\"\",入力シート!$M1016,入力シート!$N1016))","v":0},{"$f":"入力シート!I1016","v":0},{"$f":"入力シート!O1016","v":0},{"$f":"IF(入力シート!P1016=\"×\",\"P\",\"PN\")","v":"PN"},{"$f":"計算結果!#REF!","v":{"$error":"#REF!"}},{"$f":"計算結果!#REF!","v":{"$error":"#REF!"}},{"$f":"計算結果!#REF!","v":{"$error":"#REF!"}},{"$f":"計算結果!#REF!","v":{"$error":"#REF!"}},{"$f":"計算結果!#REF!","v":{"$error":"#REF!"}},{"$f":"計算結果!#REF!","v":{"$error":"#REF!"}},{"$f":"計算結果!#REF!","v":{"$error":"#REF!"}},{"$f":"計算結果!#REF!","v":{"$error":"#REF!"}},{"$f":"計算結果!#REF!","v":{"$error":"#REF!"}},{"$f":"計算結果!#REF!","v":{"$error":"#REF!"}}]
[{"$f":"入力シート!A1017","v":0},{"$f":"入力シート!G1017","v":0},{"$f":"入力シート!H1017","v":0},{"$f":"IF(入力シート!$J1017<>\"\",入力シート!$J1017,IF(入力シート!$L1017<>\"\",入力シート!$L1017,\"‐\"))","v":"‐"},{"$f":"IF(入力シート!$K1017<>\"\",入力シート!$K1017,IF(入力シート!$M1017<>\"\",入力シート!$M1017,入力シート!$N1017))","v":0},{"$f":"入力シート!I1017","v":0},{"$f":"入力シート!O1017","v":0},{"$f":"IF(入力シート!P1017=\"×\",\"P\",\"PN\")","v":"PN"},{"$f":"計算結果!#REF!","v":{"$error":"#REF!"}},{"$f":"計算結果!#REF!","v":{"$error":"#REF!"}},{"$f":"計算結果!#REF!","v":{"$error":"#REF!"}},{"$f":"計算結果!#REF!","v":{"$error":"#REF!"}},{"$f":"計算結果!#REF!","v":{"$error":"#REF!"}},{"$f":"計算結果!#REF!","v":{"$error":"#REF!"}},{"$f":"計算結果!#REF!","v":{"$error":"#REF!"}},{"$f":"計算結果!#REF!","v":{"$error":"#REF!"}},{"$f":"計算結果!#REF!","v":{"$error":"#REF!"}},{"$f":"計算結果!#REF!","v":{"$error":"#REF!"}}]
[{"$f":"入力シート!A1018","v":0},{"$f":"入力シート!G1018","v":0},{"$f":"入力シート!H1018","v":0},{"$f":"IF(入力シート!$J1018<>\"\",入力シート!$J1018,IF(入力シート!$L1018<>\"\",入力シート!$L1018,\"‐\"))","v":"‐"},{"$f":"IF(入力シート!$K1018<>\"\",入力シート!$K1018,IF(入力シート!$M1018<>\"\",入力シート!$M1018,入力シート!$N1018))","v":0},{"$f":"入力シート!I1018","v":0},{"$f":"入力シート!O1018","v":0},{"$f":"IF(入力シート!P1018=\"×\",\"P\",\"PN\")","v":"PN"},{"$f":"計算結果!#REF!","v":{"$error":"#REF!"}},{"$f":"計算結果!#REF!","v":{"$error":"#REF!"}},{"$f":"計算結果!#REF!","v":{"$error":"#REF!"}},{"$f":"計算結果!#REF!","v":{"$error":"#REF!"}},{"$f":"計算結果!#REF!","v":{"$error":"#REF!"}},{"$f":"計算結果!#REF!","v":{"$error":"#REF!"}},{"$f":"計算結果!#REF!","v":{"$error":"#REF!"}},{"$f":"計算結果!#REF!","v":{"$error":"#REF!"}},{"$f":"計算結果!#REF!","v":{"$error":"#REF!"}},{"$f":"計算結果!#REF!","v":{"$error":"#REF!"}}]
[{"$f":"入力シート!A1019","v":0},{"$f":"入力シート!G1019","v":0},{"$f":"入力シート!H1019","v":0},{"$f":"IF(入力シート!$J1019<>\"\",入力シート!$J1019,IF(入力シート!$L1019<>\"\",入力シート!$L1019,\"‐\"))","v":"‐"},{"$f":"IF(入力シート!$K1019<>\"\",入力シート!$K1019,IF(入力シート!$M1019<>\"\",入力シート!$M1019,入力シート!$N1019))","v":0},{"$f":"入力シート!I1019","v":0},{"$f":"入力シート!O1019","v":0},{"$f":"IF(入力シート!P1019=\"×\",\"P\",\"PN\")","v":"PN"},{"$f":"計算結果!#REF!","v":{"$error":"#REF!"}},{"$f":"計算結果!#REF!","v":{"$error":"#REF!"}},{"$f":"計算結果!#REF!","v":{"$error":"#REF!"}},{"$f":"計算結果!#REF!","v":{"$error":"#REF!"}},{"$f":"計算結果!#REF!","v":{"$error":"#REF!"}},{"$f":"計算結果!#REF!","v":{"$error":"#REF!"}},{"$f":"計算結果!#REF!","v":{"$error":"#REF!"}},{"$f":"計算結果!#REF!","v":{"$error":"#REF!"}},{"$f":"計算結果!#REF!","v":{"$error":"#REF!"}},{"$f":"計算結果!#REF!","v":{"$error":"#REF!"}}]
[{"$f":"入力シート!A1020","v":0},{"$f":"入力シート!G1020","v":0},{"$f":"入力シート!H1020","v":0},{"$f":"IF(入力シート!$J1020<>\"\",入力シート!$J1020,IF(入力シート!$L1020<>\"\",入力シート!$L1020,\"‐\"))","v":"‐"},{"$f":"IF(入力シート!$K1020<>\"\",入力シート!$K1020,IF(入力シート!$M1020<>\"\",入力シート!$M1020,入力シート!$N1020))","v":0},{"$f":"入力シート!I1020","v":0},{"$f":"入力シート!O1020","v":0},{"$f":"IF(入力シート!P1020=\"×\",\"P\",\"PN\")","v":"PN"},{"$f":"計算結果!#REF!","v":{"$error":"#REF!"}},{"$f":"計算結果!#REF!","v":{"$error":"#REF!"}},{"$f":"計算結果!#REF!","v":{"$error":"#REF!"}},{"$f":"計算結果!#REF!","v":{"$error":"#REF!"}},{"$f":"計算結果!#REF!","v":{"$error":"#REF!"}},{"$f":"計算結果!#REF!","v":{"$error":"#REF!"}},{"$f":"計算結果!#REF!","v":{"$error":"#REF!"}},{"$f":"計算結果!#REF!","v":{"$error":"#REF!"}},{"$f":"計算結果!#REF!","v":{"$error":"#REF!"}},{"$f":"計算結果!#REF!","v":{"$error":"#REF!"}}]
[{"$f":"入力シート!A1021","v":0},{"$f":"入力シート!G1021","v":0},{"$f":"入力シート!H1021","v":0},{"$f":"IF(入力シート!$J1021<>\"\",入力シート!$J1021,IF(入力シート!$L1021<>\"\",入力シート!$L1021,\"‐\"))","v":"‐"},{"$f":"IF(入力シート!$K1021<>\"\",入力シート!$K1021,IF(入力シート!$M1021<>\"\",入力シート!$M1021,入力シート!$N1021))","v":0},{"$f":"入力シート!I1021","v":0},{"$f":"入力シート!O1021","v":0},{"$f":"IF(入力シート!P1021=\"×\",\"P\",\"PN\")","v":"PN"},{"$f":"計算結果!#REF!","v":{"$error":"#REF!"}},{"$f":"計算結果!#REF!","v":{"$error":"#REF!"}},{"$f":"計算結果!#REF!","v":{"$error":"#REF!"}},{"$f":"計算結果!#REF!","v":{"$error":"#REF!"}},{"$f":"計算結果!#REF!","v":{"$error":"#REF!"}},{"$f":"計算結果!#REF!","v":{"$error":"#REF!"}},{"$f":"計算結果!#REF!","v":{"$error":"#REF!"}},{"$f":"計算結果!#REF!","v":{"$error":"#REF!"}},{"$f":"計算結果!#REF!","v":{"$error":"#REF!"}},{"$f":"計算結果!#REF!","v":{"$error":"#REF!"}}]
[{"$f":"入力シート!A1022","v":0},{"$f":"入力シート!G1022","v":0},{"$f":"入力シート!H1022","v":0},{"$f":"IF(入力シート!$J1022<>\"\",入力シート!$J1022,IF(入力シート!$L1022<>\"\",入力シート!$L1022,\"‐\"))","v":"‐"},{"$f":"IF(入力シート!$K1022<>\"\",入力シート!$K1022,IF(入力シート!$M1022<>\"\",入力シート!$M1022,入力シート!$N1022))","v":0},{"$f":"入力シート!I1022","v":0},{"$f":"入力シート!O1022","v":0},{"$f":"IF(入力シート!P1022=\"×\",\"P\",\"PN\")","v":"PN"},{"$f":"計算結果!#REF!","v":{"$error":"#REF!"}},{"$f":"計算結果!#REF!","v":{"$error":"#REF!"}},{"$f":"計算結果!#REF!","v":{"$error":"#REF!"}},{"$f":"計算結果!#REF!","v":{"$error":"#REF!"}},{"$f":"計算結果!#REF!","v":{"$error":"#REF!"}},{"$f":"計算結果!#REF!","v":{"$error":"#REF!"}},{"$f":"計算結果!#REF!","v":{"$error":"#REF!"}},{"$f":"計算結果!#REF!","v":{"$error":"#REF!"}},{"$f":"計算結果!#REF!","v":{"$error":"#REF!"}},{"$f":"計算結果!#REF!","v":{"$error":"#REF!"}}]
[{"$f":"入力シート!A1023","v":0},{"$f":"入力シート!G1023","v":0},{"$f":"入力シート!H1023","v":0},{"$f":"IF(入力シート!$J1023<>\"\",入力シート!$J1023,IF(入力シート!$L1023<>\"\",入力シート!$L1023,\"‐\"))","v":"‐"},{"$f":"IF(入力シート!$K1023<>\"\",入力シート!$K1023,IF(入力シート!$M1023<>\"\",入力シート!$M1023,入力シート!$N1023))","v":0},{"$f":"入力シート!I1023","v":0},{"$f":"入力シート!O1023","v":0},{"$f":"IF(入力シート!P1023=\"×\",\"P\",\"PN\")","v":"PN"},{"$f":"計算結果!#REF!","v":{"$error":"#REF!"}},{"$f":"計算結果!#REF!","v":{"$error":"#REF!"}},{"$f":"計算結果!#REF!","v":{"$error":"#REF!"}},{"$f":"計算結果!#REF!","v":{"$error":"#REF!"}},{"$f":"計算結果!#REF!","v":{"$error":"#REF!"}},{"$f":"計算結果!#REF!","v":{"$error":"#REF!"}},{"$f":"計算結果!#REF!","v":{"$error":"#REF!"}},{"$f":"計算結果!#REF!","v":{"$error":"#REF!"}},{"$f":"計算結果!#REF!","v":{"$error":"#REF!"}},{"$f":"計算結果!#REF!","v":{"$error":"#REF!"}}]
[{"$f":"入力シート!A1024","v":0},{"$f":"入力シート!G1024","v":0},{"$f":"入力シート!H1024","v":0},{"$f":"IF(入力シート!$J1024<>\"\",入力シート!$J1024,IF(入力シート!$L1024<>\"\",入力シート!$L1024,\"‐\"))","v":"‐"},{"$f":"IF(入力シート!$K1024<>\"\",入力シート!$K1024,IF(入力シート!$M1024<>\"\",入力シート!$M1024,入力シート!$N1024))","v":0},{"$f":"入力シート!I1024","v":0},{"$f":"入力シート!O1024","v":0},{"$f":"IF(入力シート!P1024=\"×\",\"P\",\"PN\")","v":"PN"},{"$f":"計算結果!#REF!","v":{"$error":"#REF!"}},{"$f":"計算結果!#REF!","v":{"$error":"#REF!"}},{"$f":"計算結果!#REF!","v":{"$error":"#REF!"}},{"$f":"計算結果!#REF!","v":{"$error":"#REF!"}},{"$f":"計算結果!#REF!","v":{"$error":"#REF!"}},{"$f":"計算結果!#REF!","v":{"$error":"#REF!"}},{"$f":"計算結果!#REF!","v":{"$error":"#REF!"}},{"$f":"計算結果!#REF!","v":{"$error":"#REF!"}},{"$f":"計算結果!#REF!","v":{"$error":"#REF!"}},{"$f":"計算結果!#REF!","v":{"$error":"#REF!"}}]
[{"$f":"入力シート!A1025","v":0},{"$f":"入力シート!G1025","v":0},{"$f":"入力シート!H1025","v":0},{"$f":"IF(入力シート!$J1025<>\"\",入力シート!$J1025,IF(入力シート!$L1025<>\"\",入力シート!$L1025,\"‐\"))","v":"‐"},{"$f":"IF(入力シート!$K1025<>\"\",入力シート!$K1025,IF(入力シート!$M1025<>\"\",入力シート!$M1025,入力シート!$N1025))","v":0},{"$f":"入力シート!I1025","v":0},{"$f":"入力シート!O1025","v":0},{"$f":"IF(入力シート!P1025=\"×\",\"P\",\"PN\")","v":"PN"},{"$f":"計算結果!#REF!","v":{"$error":"#REF!"}},{"$f":"計算結果!#REF!","v":{"$error":"#REF!"}},{"$f":"計算結果!#REF!","v":{"$error":"#REF!"}},{"$f":"計算結果!#REF!","v":{"$error":"#REF!"}},{"$f":"計算結果!#REF!","v":{"$error":"#REF!"}},{"$f":"計算結果!#REF!","v":{"$error":"#REF!"}},{"$f":"計算結果!#REF!","v":{"$error":"#REF!"}},{"$f":"計算結果!#REF!","v":{"$error":"#REF!"}},{"$f":"計算結果!#REF!","v":{"$error":"#REF!"}},{"$f":"計算結果!#REF!","v":{"$error":"#REF!"}}]
[{"$f":"入力シート!A1026","v":0},{"$f":"入力シート!G1026","v":0},{"$f":"入力シート!H1026","v":0},{"$f":"IF(入力シート!$J1026<>\"\",入力シート!$J1026,IF(入力シート!$L1026<>\"\",入力シート!$L1026,\"‐\"))","v":"‐"},{"$f":"IF(入力シート!$K1026<>\"\",入力シート!$K1026,IF(入力シート!$M1026<>\"\",入力シート!$M1026,入力シート!$N1026))","v":0},{"$f":"入力シート!I1026","v":0},{"$f":"入力シート!O1026","v":0},{"$f":"IF(入力シート!P1026=\"×\",\"P\",\"PN\")","v":"PN"},{"$f":"計算結果!#REF!","v":{"$error":"#REF!"}},{"$f":"計算結果!#REF!","v":{"$error":"#REF!"}},{"$f":"計算結果!#REF!","v":{"$error":"#REF!"}},{"$f":"計算結果!#REF!","v":{"$error":"#REF!"}},{"$f":"計算結果!#REF!","v":{"$error":"#REF!"}},{"$f":"計算結果!#REF!","v":{"$error":"#REF!"}},{"$f":"計算結果!#REF!","v":{"$error":"#REF!"}},{"$f":"計算結果!#REF!","v":{"$error":"#REF!"}},{"$f":"計算結果!#REF!","v":{"$error":"#REF!"}},{"$f":"計算結果!#REF!","v":{"$error":"#REF!"}}]
[{"$f":"入力シート!A1027","v":0},{"$f":"入力シート!G1027","v":0},{"$f":"入力シート!H1027","v":0},{"$f":"IF(入力シート!$J1027<>\"\",入力シート!$J1027,IF(入力シート!$L1027<>\"\",入力シート!$L1027,\"‐\"))","v":"‐"},{"$f":"IF(入力シート!$K1027<>\"\",入力シート!$K1027,IF(入力シート!$M1027<>\"\",入力シート!$M1027,入力シート!$N1027))","v":0},{"$f":"入力シート!I1027","v":0},{"$f":"入力シート!O1027","v":0},{"$f":"IF(入力シート!P1027=\"×\",\"P\",\"PN\")","v":"PN"},{"$f":"計算結果!#REF!","v":{"$error":"#REF!"}},{"$f":"計算結果!#REF!","v":{"$error":"#REF!"}},{"$f":"計算結果!#REF!","v":{"$error":"#REF!"}},{"$f":"計算結果!#REF!","v":{"$error":"#REF!"}},{"$f":"計算結果!#REF!","v":{"$error":"#REF!"}},{"$f":"計算結果!#REF!","v":{"$error":"#REF!"}},{"$f":"計算結果!#REF!","v":{"$error":"#REF!"}},{"$f":"計算結果!#REF!","v":{"$error":"#REF!"}},{"$f":"計算結果!#REF!","v":{"$error":"#REF!"}},{"$f":"計算結果!#REF!","v":{"$error":"#REF!"}}]
[{"$f":"入力シート!A1028","v":0},{"$f":"入力シート!G1028","v":0},{"$f":"入力シート!H1028","v":0},{"$f":"IF(入力シート!$J1028<>\"\",入力シート!$J1028,IF(入力シート!$L1028<>\"\",入力シート!$L1028,\"‐\"))","v":"‐"},{"$f":"IF(入力シート!$K1028<>\"\",入力シート!$K1028,IF(入力シート!$M1028<>\"\",入力シート!$M1028,入力シート!$N1028))","v":0},{"$f":"入力シート!I1028","v":0},{"$f":"入力シート!O1028","v":0},{"$f":"IF(入力シート!P1028=\"×\",\"P\",\"PN\")","v":"PN"},{"$f":"計算結果!#REF!","v":{"$error":"#REF!"}},{"$f":"計算結果!#REF!","v":{"$error":"#REF!"}},{"$f":"計算結果!#REF!","v":{"$error":"#REF!"}},{"$f":"計算結果!#REF!","v":{"$error":"#REF!"}},{"$f":"計算結果!#REF!","v":{"$error":"#REF!"}},{"$f":"計算結果!#REF!","v":{"$error":"#REF!"}},{"$f":"計算結果!#REF!","v":{"$error":"#REF!"}},{"$f":"計算結果!#REF!","v":{"$error":"#REF!"}},{"$f":"計算結果!#REF!","v":{"$error":"#REF!"}},{"$f":"計算結果!#REF!","v":{"$error":"#REF!"}}]
[{"$f":"入力シート!A1029","v":0},{"$f":"入力シート!G1029","v":0},{"$f":"入力シート!H1029","v":0},{"$f":"IF(入力シート!$J1029<>\"\",入力シート!$J1029,IF(入力シート!$L1029<>\"\",入力シート!$L1029,\"‐\"))","v":"‐"},{"$f":"IF(入力シート!$K1029<>\"\",入力シート!$K1029,IF(入力シート!$M1029<>\"\",入力シート!$M1029,入力シート!$N1029))","v":0},{"$f":"入力シート!I1029","v":0},{"$f":"入力シート!O1029","v":0},{"$f":"IF(入力シート!P1029=\"×\",\"P\",\"PN\")","v":"PN"},{"$f":"計算結果!#REF!","v":{"$error":"#REF!"}},{"$f":"計算結果!#REF!","v":{"$error":"#REF!"}},{"$f":"計算結果!#REF!","v":{"$error":"#REF!"}},{"$f":"計算結果!#REF!","v":{"$error":"#REF!"}},{"$f":"計算結果!#REF!","v":{"$error":"#REF!"}},{"$f":"計算結果!#REF!","v":{"$error":"#REF!"}},{"$f":"計算結果!#REF!","v":{"$error":"#REF!"}},{"$f":"計算結果!#REF!","v":{"$error":"#REF!"}},{"$f":"計算結果!#REF!","v":{"$error":"#REF!"}},{"$f":"計算結果!#REF!","v":{"$error":"#REF!"}}]
[{"$f":"入力シート!A1030","v":0},{"$f":"入力シート!G1030","v":0},{"$f":"入力シート!H1030","v":0},{"$f":"IF(入力シート!$J1030<>\"\",入力シート!$J1030,IF(入力シート!$L1030<>\"\",入力シート!$L1030,\"‐\"))","v":"‐"},{"$f":"IF(入力シート!$K1030<>\"\",入力シート!$K1030,IF(入力シート!$M1030<>\"\",入力シート!$M1030,入力シート!$N1030))","v":0},{"$f":"入力シート!I1030","v":0},{"$f":"入力シート!O1030","v":0},{"$f":"IF(入力シート!P1030=\"×\",\"P\",\"PN\")","v":"PN"},{"$f":"計算結果!#REF!","v":{"$error":"#REF!"}},{"$f":"計算結果!#REF!","v":{"$error":"#REF!"}},{"$f":"計算結果!#REF!","v":{"$error":"#REF!"}},{"$f":"計算結果!#REF!","v":{"$error":"#REF!"}},{"$f":"計算結果!#REF!","v":{"$error":"#REF!"}},{"$f":"計算結果!#REF!","v":{"$error":"#REF!"}},{"$f":"計算結果!#REF!","v":{"$error":"#REF!"}},{"$f":"計算結果!#REF!","v":{"$error":"#REF!"}},{"$f":"計算結果!#REF!","v":{"$error":"#REF!"}},{"$f":"計算結果!#REF!","v":{"$error":"#REF!"}}]
[{"$f":"入力シート!A1031","v":0},{"$f":"入力シート!G1031","v":0},{"$f":"入力シート!H1031","v":0},{"$f":"IF(入力シート!$J1031<>\"\",入力シート!$J1031,IF(入力シート!$L1031<>\"\",入力シート!$L1031,\"‐\"))","v":"‐"},{"$f":"IF(入力シート!$K1031<>\"\",入力シート!$K1031,IF(入力シート!$M1031<>\"\",入力シート!$M1031,入力シート!$N1031))","v":0},{"$f":"入力シート!I1031","v":0},{"$f":"入力シート!O1031","v":0},{"$f":"IF(入力シート!P1031=\"×\",\"P\",\"PN\")","v":"PN"},{"$f":"計算結果!#REF!","v":{"$error":"#REF!"}},{"$f":"計算結果!#REF!","v":{"$error":"#REF!"}},{"$f":"計算結果!#REF!","v":{"$error":"#REF!"}},{"$f":"計算結果!#REF!","v":{"$error":"#REF!"}},{"$f":"計算結果!#REF!","v":{"$error":"#REF!"}},{"$f":"計算結果!#REF!","v":{"$error":"#REF!"}},{"$f":"計算結果!#REF!","v":{"$error":"#REF!"}},{"$f":"計算結果!#REF!","v":{"$error":"#REF!"}},{"$f":"計算結果!#REF!","v":{"$error":"#REF!"}},{"$f":"計算結果!#REF!","v":{"$error":"#REF!"}}]
[{"$f":"入力シート!A1032","v":0},{"$f":"入力シート!G1032","v":0},{"$f":"入力シート!H1032","v":0},{"$f":"IF(入力シート!$J1032<>\"\",入力シート!$J1032,IF(入力シート!$L1032<>\"\",入力シート!$L1032,\"‐\"))","v":"‐"},{"$f":"IF(入力シート!$K1032<>\"\",入力シート!$K1032,IF(入力シート!$M1032<>\"\",入力シート!$M1032,入力シート!$N1032))","v":0},{"$f":"入力シート!I1032","v":0},{"$f":"入力シート!O1032","v":0},{"$f":"IF(入力シート!P1032=\"×\",\"P\",\"PN\")","v":"PN"},{"$f":"計算結果!#REF!","v":{"$error":"#REF!"}},{"$f":"計算結果!#REF!","v":{"$error":"#REF!"}},{"$f":"計算結果!#REF!","v":{"$error":"#REF!"}},{"$f":"計算結果!#REF!","v":{"$error":"#REF!"}},{"$f":"計算結果!#REF!","v":{"$error":"#REF!"}},{"$f":"計算結果!#REF!","v":{"$error":"#REF!"}},{"$f":"計算結果!#REF!","v":{"$error":"#REF!"}},{"$f":"計算結果!#REF!","v":{"$error":"#REF!"}},{"$f":"計算結果!#REF!","v":{"$error":"#REF!"}},{"$f":"計算結果!#REF!","v":{"$error":"#REF!"}}]
[{"$f":"入力シート!A1033","v":0},{"$f":"入力シート!G1033","v":0},{"$f":"入力シート!H1033","v":0},{"$f":"IF(入力シート!$J1033<>\"\",入力シート!$J1033,IF(入力シート!$L1033<>\"\",入力シート!$L1033,\"‐\"))","v":"‐"},{"$f":"IF(入力シート!$K1033<>\"\",入力シート!$K1033,IF(入力シート!$M1033<>\"\",入力シート!$M1033,入力シート!$N1033))","v":0},{"$f":"入力シート!I1033","v":0},{"$f":"入力シート!O1033","v":0},{"$f":"IF(入力シート!P1033=\"×\",\"P\",\"PN\")","v":"PN"},{"$f":"計算結果!#REF!","v":{"$error":"#REF!"}},{"$f":"計算結果!#REF!","v":{"$error":"#REF!"}},{"$f":"計算結果!#REF!","v":{"$error":"#REF!"}},{"$f":"計算結果!#REF!","v":{"$error":"#REF!"}},{"$f":"計算結果!#REF!","v":{"$error":"#REF!"}},{"$f":"計算結果!#REF!","v":{"$error":"#REF!"}},{"$f":"計算結果!#REF!","v":{"$error":"#REF!"}},{"$f":"計算結果!#REF!","v":{"$error":"#REF!"}},{"$f":"計算結果!#REF!","v":{"$error":"#REF!"}},{"$f":"計算結果!#REF!","v":{"$error":"#REF!"}}]
[{"$f":"入力シート!A1034","v":0},{"$f":"入力シート!G1034","v":0},{"$f":"入力シート!H1034","v":0},{"$f":"IF(入力シート!$J1034<>\"\",入力シート!$J1034,IF(入力シート!$L1034<>\"\",入力シート!$L1034,\"‐\"))","v":"‐"},{"$f":"IF(入力シート!$K1034<>\"\",入力シート!$K1034,IF(入力シート!$M1034<>\"\",入力シート!$M1034,入力シート!$N1034))","v":0},{"$f":"入力シート!I1034","v":0},{"$f":"入力シート!O1034","v":0},{"$f":"IF(入力シート!P1034=\"×\",\"P\",\"PN\")","v":"PN"},{"$f":"計算結果!#REF!","v":{"$error":"#REF!"}},{"$f":"計算結果!#REF!","v":{"$error":"#REF!"}},{"$f":"計算結果!#REF!","v":{"$error":"#REF!"}},{"$f":"計算結果!#REF!","v":{"$error":"#REF!"}},{"$f":"計算結果!#REF!","v":{"$error":"#REF!"}},{"$f":"計算結果!#REF!","v":{"$error":"#REF!"}},{"$f":"計算結果!#REF!","v":{"$error":"#REF!"}},{"$f":"計算結果!#REF!","v":{"$error":"#REF!"}},{"$f":"計算結果!#REF!","v":{"$error":"#REF!"}},{"$f":"計算結果!#REF!","v":{"$error":"#REF!"}}]
[{"$f":"入力シート!A1035","v":0},{"$f":"入力シート!G1035","v":0},{"$f":"入力シート!H1035","v":0},{"$f":"IF(入力シート!$J1035<>\"\",入力シート!$J1035,IF(入力シート!$L1035<>\"\",入力シート!$L1035,\"‐\"))","v":"‐"},{"$f":"IF(入力シート!$K1035<>\"\",入力シート!$K1035,IF(入力シート!$M1035<>\"\",入力シート!$M1035,入力シート!$N1035))","v":0},{"$f":"入力シート!I1035","v":0},{"$f":"入力シート!O1035","v":0},{"$f":"IF(入力シート!P1035=\"×\",\"P\",\"PN\")","v":"PN"},{"$f":"計算結果!#REF!","v":{"$error":"#REF!"}},{"$f":"計算結果!#REF!","v":{"$error":"#REF!"}},{"$f":"計算結果!#REF!","v":{"$error":"#REF!"}},{"$f":"計算結果!#REF!","v":{"$error":"#REF!"}},{"$f":"計算結果!#REF!","v":{"$error":"#REF!"}},{"$f":"計算結果!#REF!","v":{"$error":"#REF!"}},{"$f":"計算結果!#REF!","v":{"$error":"#REF!"}},{"$f":"計算結果!#REF!","v":{"$error":"#REF!"}},{"$f":"計算結果!#REF!","v":{"$error":"#REF!"}},{"$f":"計算結果!#REF!","v":{"$error":"#REF!"}}]
[{"$f":"入力シート!A1036","v":0},{"$f":"入力シート!G1036","v":0},{"$f":"入力シート!H1036","v":0},{"$f":"IF(入力シート!$J1036<>\"\",入力シート!$J1036,IF(入力シート!$L1036<>\"\",入力シート!$L1036,\"‐\"))","v":"‐"},{"$f":"IF(入力シート!$K1036<>\"\",入力シート!$K1036,IF(入力シート!$M1036<>\"\",入力シート!$M1036,入力シート!$N1036))","v":0},{"$f":"入力シート!I1036","v":0},{"$f":"入力シート!O1036","v":0},{"$f":"IF(入力シート!P1036=\"×\",\"P\",\"PN\")","v":"PN"},{"$f":"計算結果!#REF!","v":{"$error":"#REF!"}},{"$f":"計算結果!#REF!","v":{"$error":"#REF!"}},{"$f":"計算結果!#REF!","v":{"$error":"#REF!"}},{"$f":"計算結果!#REF!","v":{"$error":"#REF!"}},{"$f":"計算結果!#REF!","v":{"$error":"#REF!"}},{"$f":"計算結果!#REF!","v":{"$error":"#REF!"}},{"$f":"計算結果!#REF!","v":{"$error":"#REF!"}},{"$f":"計算結果!#REF!","v":{"$error":"#REF!"}},{"$f":"計算結果!#REF!","v":{"$error":"#REF!"}},{"$f":"計算結果!#REF!","v":{"$error":"#REF!"}}]
[{"$f":"入力シート!A1037","v":0},{"$f":"入力シート!G1037","v":0},{"$f":"入力シート!H1037","v":0},{"$f":"IF(入力シート!$J1037<>\"\",入力シート!$J1037,IF(入力シート!$L1037<>\"\",入力シート!$L1037,\"‐\"))","v":"‐"},{"$f":"IF(入力シート!$K1037<>\"\",入力シート!$K1037,IF(入力シート!$M1037<>\"\",入力シート!$M1037,入力シート!$N1037))","v":0},{"$f":"入力シート!I1037","v":0},{"$f":"入力シート!O1037","v":0},{"$f":"IF(入力シート!P1037=\"×\",\"P\",\"PN\")","v":"PN"},{"$f":"計算結果!#REF!","v":{"$error":"#REF!"}},{"$f":"計算結果!#REF!","v":{"$error":"#REF!"}},{"$f":"計算結果!#REF!","v":{"$error":"#REF!"}},{"$f":"計算結果!#REF!","v":{"$error":"#REF!"}},{"$f":"計算結果!#REF!","v":{"$error":"#REF!"}},{"$f":"計算結果!#REF!","v":{"$error":"#REF!"}},{"$f":"計算結果!#REF!","v":{"$error":"#REF!"}},{"$f":"計算結果!#REF!","v":{"$error":"#REF!"}},{"$f":"計算結果!#REF!","v":{"$error":"#REF!"}},{"$f":"計算結果!#REF!","v":{"$error":"#REF!"}}]
[{"$f":"入力シート!A1038","v":0},{"$f":"入力シート!G1038","v":0},{"$f":"入力シート!H1038","v":0},{"$f":"IF(入力シート!$J1038<>\"\",入力シート!$J1038,IF(入力シート!$L1038<>\"\",入力シート!$L1038,\"‐\"))","v":"‐"},{"$f":"IF(入力シート!$K1038<>\"\",入力シート!$K1038,IF(入力シート!$M1038<>\"\",入力シート!$M1038,入力シート!$N1038))","v":0},{"$f":"入力シート!I1038","v":0},{"$f":"入力シート!O1038","v":0},{"$f":"IF(入力シート!P1038=\"×\",\"P\",\"PN\")","v":"PN"},{"$f":"計算結果!#REF!","v":{"$error":"#REF!"}},{"$f":"計算結果!#REF!","v":{"$error":"#REF!"}},{"$f":"計算結果!#REF!","v":{"$error":"#REF!"}},{"$f":"計算結果!#REF!","v":{"$error":"#REF!"}},{"$f":"計算結果!#REF!","v":{"$error":"#REF!"}},{"$f":"計算結果!#REF!","v":{"$error":"#REF!"}},{"$f":"計算結果!#REF!","v":{"$error":"#REF!"}},{"$f":"計算結果!#REF!","v":{"$error":"#REF!"}},{"$f":"計算結果!#REF!","v":{"$error":"#REF!"}},{"$f":"計算結果!#REF!","v":{"$error":"#REF!"}}]
[{"$f":"入力シート!A1039","v":0},{"$f":"入力シート!G1039","v":0},{"$f":"入力シート!H1039","v":0},{"$f":"IF(入力シート!$J1039<>\"\",入力シート!$J1039,IF(入力シート!$L1039<>\"\",入力シート!$L1039,\"‐\"))","v":"‐"},{"$f":"IF(入力シート!$K1039<>\"\",入力シート!$K1039,IF(入力シート!$M1039<>\"\",入力シート!$M1039,入力シート!$N1039))","v":0},{"$f":"入力シート!I1039","v":0},{"$f":"入力シート!O1039","v":0},{"$f":"IF(入力シート!P1039=\"×\",\"P\",\"PN\")","v":"PN"},{"$f":"計算結果!#REF!","v":{"$error":"#REF!"}},{"$f":"計算結果!#REF!","v":{"$error":"#REF!"}},{"$f":"計算結果!#REF!","v":{"$error":"#REF!"}},{"$f":"計算結果!#REF!","v":{"$error":"#REF!"}},{"$f":"計算結果!#REF!","v":{"$error":"#REF!"}},{"$f":"計算結果!#REF!","v":{"$error":"#REF!"}},{"$f":"計算結果!#REF!","v":{"$error":"#REF!"}},{"$f":"計算結果!#REF!","v":{"$error":"#REF!"}},{"$f":"計算結果!#REF!","v":{"$error":"#REF!"}},{"$f":"計算結果!#REF!","v":{"$error":"#REF!"}}]
[{"$f":"入力シート!A1040","v":0},{"$f":"入力シート!G1040","v":0},{"$f":"入力シート!H1040","v":0},{"$f":"IF(入力シート!$J1040<>\"\",入力シート!$J1040,IF(入力シート!$L1040<>\"\",入力シート!$L1040,\"‐\"))","v":"‐"},{"$f":"IF(入力シート!$K1040<>\"\",入力シート!$K1040,IF(入力シート!$M1040<>\"\",入力シート!$M1040,入力シート!$N1040))","v":0},{"$f":"入力シート!I1040","v":0},{"$f":"入力シート!O1040","v":0},{"$f":"IF(入力シート!P1040=\"×\",\"P\",\"PN\")","v":"PN"},{"$f":"計算結果!#REF!","v":{"$error":"#REF!"}},{"$f":"計算結果!#REF!","v":{"$error":"#REF!"}},{"$f":"計算結果!#REF!","v":{"$error":"#REF!"}},{"$f":"計算結果!#REF!","v":{"$error":"#REF!"}},{"$f":"計算結果!#REF!","v":{"$error":"#REF!"}},{"$f":"計算結果!#REF!","v":{"$error":"#REF!"}},{"$f":"計算結果!#REF!","v":{"$error":"#REF!"}},{"$f":"計算結果!#REF!","v":{"$error":"#REF!"}},{"$f":"計算結果!#REF!","v":{"$error":"#REF!"}},{"$f":"計算結果!#REF!","v":{"$error":"#REF!"}}]
[{"$f":"入力シート!A1041","v":0},{"$f":"入力シート!G1041","v":0},{"$f":"入力シート!H1041","v":0},{"$f":"IF(入力シート!$J1041<>\"\",入力シート!$J1041,IF(入力シート!$L1041<>\"\",入力シート!$L1041,\"‐\"))","v":"‐"},{"$f":"IF(入力シート!$K1041<>\"\",入力シート!$K1041,IF(入力シート!$M1041<>\"\",入力シート!$M1041,入力シート!$N1041))","v":0},{"$f":"入力シート!I1041","v":0},{"$f":"入力シート!O1041","v":0},{"$f":"IF(入力シート!P1041=\"×\",\"P\",\"PN\")","v":"PN"},{"$f":"計算結果!#REF!","v":{"$error":"#REF!"}},{"$f":"計算結果!#REF!","v":{"$error":"#REF!"}},{"$f":"計算結果!#REF!","v":{"$error":"#REF!"}},{"$f":"計算結果!#REF!","v":{"$error":"#REF!"}},{"$f":"計算結果!#REF!","v":{"$error":"#REF!"}},{"$f":"計算結果!#REF!","v":{"$error":"#REF!"}},{"$f":"計算結果!#REF!","v":{"$error":"#REF!"}},{"$f":"計算結果!#REF!","v":{"$error":"#REF!"}},{"$f":"計算結果!#REF!","v":{"$error":"#REF!"}},{"$f":"計算結果!#REF!","v":{"$error":"#REF!"}}]
[{"$f":"入力シート!A1042","v":0},{"$f":"入力シート!G1042","v":0},{"$f":"入力シート!H1042","v":0},{"$f":"IF(入力シート!$J1042<>\"\",入力シート!$J1042,IF(入力シート!$L1042<>\"\",入力シート!$L1042,\"‐\"))","v":"‐"},{"$f":"IF(入力シート!$K1042<>\"\",入力シート!$K1042,IF(入力シート!$M1042<>\"\",入力シート!$M1042,入力シート!$N1042))","v":0},{"$f":"入力シート!I1042","v":0},{"$f":"入力シート!O1042","v":0},{"$f":"IF(入力シート!P1042=\"×\",\"P\",\"PN\")","v":"PN"},{"$f":"計算結果!#REF!","v":{"$error":"#REF!"}},{"$f":"計算結果!#REF!","v":{"$error":"#REF!"}},{"$f":"計算結果!#REF!","v":{"$error":"#REF!"}},{"$f":"計算結果!#REF!","v":{"$error":"#REF!"}},{"$f":"計算結果!#REF!","v":{"$error":"#REF!"}},{"$f":"計算結果!#REF!","v":{"$error":"#REF!"}},{"$f":"計算結果!#REF!","v":{"$error":"#REF!"}},{"$f":"計算結果!#REF!","v":{"$error":"#REF!"}},{"$f":"計算結果!#REF!","v":{"$error":"#REF!"}},{"$f":"計算結果!#REF!","v":{"$error":"#REF!"}}]
[{"$f":"入力シート!A1043","v":0},{"$f":"入力シート!G1043","v":0},{"$f":"入力シート!H1043","v":0},{"$f":"IF(入力シート!$J1043<>\"\",入力シート!$J1043,IF(入力シート!$L1043<>\"\",入力シート!$L1043,\"‐\"))","v":"‐"},{"$f":"IF(入力シート!$K1043<>\"\",入力シート!$K1043,IF(入力シート!$M1043<>\"\",入力シート!$M1043,入力シート!$N1043))","v":0},{"$f":"入力シート!I1043","v":0},{"$f":"入力シート!O1043","v":0},{"$f":"IF(入力シート!P1043=\"×\",\"P\",\"PN\")","v":"PN"},{"$f":"計算結果!#REF!","v":{"$error":"#REF!"}},{"$f":"計算結果!#REF!","v":{"$error":"#REF!"}},{"$f":"計算結果!#REF!","v":{"$error":"#REF!"}},{"$f":"計算結果!#REF!","v":{"$error":"#REF!"}},{"$f":"計算結果!#REF!","v":{"$error":"#REF!"}},{"$f":"計算結果!#REF!","v":{"$error":"#REF!"}},{"$f":"計算結果!#REF!","v":{"$error":"#REF!"}},{"$f":"計算結果!#REF!","v":{"$error":"#REF!"}},{"$f":"計算結果!#REF!","v":{"$error":"#REF!"}},{"$f":"計算結果!#REF!","v":{"$error":"#REF!"}}]
[{"$f":"入力シート!A1044","v":0},{"$f":"入力シート!G1044","v":0},{"$f":"入力シート!H1044","v":0},{"$f":"IF(入力シート!$J1044<>\"\",入力シート!$J1044,IF(入力シート!$L1044<>\"\",入力シート!$L1044,\"‐\"))","v":"‐"},{"$f":"IF(入力シート!$K1044<>\"\",入力シート!$K1044,IF(入力シート!$M1044<>\"\",入力シート!$M1044,入力シート!$N1044))","v":0},{"$f":"入力シート!I1044","v":0},{"$f":"入力シート!O1044","v":0},{"$f":"IF(入力シート!P1044=\"×\",\"P\",\"PN\")","v":"PN"},{"$f":"計算結果!#REF!","v":{"$error":"#REF!"}},{"$f":"計算結果!#REF!","v":{"$error":"#REF!"}},{"$f":"計算結果!#REF!","v":{"$error":"#REF!"}},{"$f":"計算結果!#REF!","v":{"$error":"#REF!"}},{"$f":"計算結果!#REF!","v":{"$error":"#REF!"}},{"$f":"計算結果!#REF!","v":{"$error":"#REF!"}},{"$f":"計算結果!#REF!","v":{"$error":"#REF!"}},{"$f":"計算結果!#REF!","v":{"$error":"#REF!"}},{"$f":"計算結果!#REF!","v":{"$error":"#REF!"}},{"$f":"計算結果!#REF!","v":{"$error":"#REF!"}}]
[{"$f":"入力シート!A1045","v":0},{"$f":"入力シート!G1045","v":0},{"$f":"入力シート!H1045","v":0},{"$f":"IF(入力シート!$J1045<>\"\",入力シート!$J1045,IF(入力シート!$L1045<>\"\",入力シート!$L1045,\"‐\"))","v":"‐"},{"$f":"IF(入力シート!$K1045<>\"\",入力シート!$K1045,IF(入力シート!$M1045<>\"\",入力シート!$M1045,入力シート!$N1045))","v":0},{"$f":"入力シート!I1045","v":0},{"$f":"入力シート!O1045","v":0},{"$f":"IF(入力シート!P1045=\"×\",\"P\",\"PN\")","v":"PN"},{"$f":"計算結果!#REF!","v":{"$error":"#REF!"}},{"$f":"計算結果!#REF!","v":{"$error":"#REF!"}},{"$f":"計算結果!#REF!","v":{"$error":"#REF!"}},{"$f":"計算結果!#REF!","v":{"$error":"#REF!"}},{"$f":"計算結果!#REF!","v":{"$error":"#REF!"}},{"$f":"計算結果!#REF!","v":{"$error":"#REF!"}},{"$f":"計算結果!#REF!","v":{"$error":"#REF!"}},{"$f":"計算結果!#REF!","v":{"$error":"#REF!"}},{"$f":"計算結果!#REF!","v":{"$error":"#REF!"}},{"$f":"計算結果!#REF!","v":{"$error":"#REF!"}}]
[{"$f":"入力シート!A1046","v":0},{"$f":"入力シート!G1046","v":0},{"$f":"入力シート!H1046","v":0},{"$f":"IF(入力シート!$J1046<>\"\",入力シート!$J1046,IF(入力シート!$L1046<>\"\",入力シート!$L1046,\"‐\"))","v":"‐"},{"$f":"IF(入力シート!$K1046<>\"\",入力シート!$K1046,IF(入力シート!$M1046<>\"\",入力シート!$M1046,入力シート!$N1046))","v":0},{"$f":"入力シート!I1046","v":0},{"$f":"入力シート!O1046","v":0},{"$f":"IF(入力シート!P1046=\"×\",\"P\",\"PN\")","v":"PN"},{"$f":"計算結果!#REF!","v":{"$error":"#REF!"}},{"$f":"計算結果!#REF!","v":{"$error":"#REF!"}},{"$f":"計算結果!#REF!","v":{"$error":"#REF!"}},{"$f":"計算結果!#REF!","v":{"$error":"#REF!"}},{"$f":"計算結果!#REF!","v":{"$error":"#REF!"}},{"$f":"計算結果!#REF!","v":{"$error":"#REF!"}},{"$f":"計算結果!#REF!","v":{"$error":"#REF!"}},{"$f":"計算結果!#REF!","v":{"$error":"#REF!"}},{"$f":"計算結果!#REF!","v":{"$error":"#REF!"}},{"$f":"計算結果!#REF!","v":{"$error":"#REF!"}}]
[{"$f":"入力シート!A1047","v":0},{"$f":"入力シート!G1047","v":0},{"$f":"入力シート!H1047","v":0},{"$f":"IF(入力シート!$J1047<>\"\",入力シート!$J1047,IF(入力シート!$L1047<>\"\",入力シート!$L1047,\"‐\"))","v":"‐"},{"$f":"IF(入力シート!$K1047<>\"\",入力シート!$K1047,IF(入力シート!$M1047<>\"\",入力シート!$M1047,入力シート!$N1047))","v":0},{"$f":"入力シート!I1047","v":0},{"$f":"入力シート!O1047","v":0},{"$f":"IF(入力シート!P1047=\"×\",\"P\",\"PN\")","v":"PN"},{"$f":"計算結果!#REF!","v":{"$error":"#REF!"}},{"$f":"計算結果!#REF!","v":{"$error":"#REF!"}},{"$f":"計算結果!#REF!","v":{"$error":"#REF!"}},{"$f":"計算結果!#REF!","v":{"$error":"#REF!"}},{"$f":"計算結果!#REF!","v":{"$error":"#REF!"}},{"$f":"計算結果!#REF!","v":{"$error":"#REF!"}},{"$f":"計算結果!#REF!","v":{"$error":"#REF!"}},{"$f":"計算結果!#REF!","v":{"$error":"#REF!"}},{"$f":"計算結果!#REF!","v":{"$error":"#REF!"}},{"$f":"計算結果!#REF!","v":{"$error":"#REF!"}}]
[{"$f":"入力シート!A1048","v":0},{"$f":"入力シート!G1048","v":0},{"$f":"入力シート!H1048","v":0},{"$f":"IF(入力シート!$J1048<>\"\",入力シート!$J1048,IF(入力シート!$L1048<>\"\",入力シート!$L1048,\"‐\"))","v":"‐"},{"$f":"IF(入力シート!$K1048<>\"\",入力シート!$K1048,IF(入力シート!$M1048<>\"\",入力シート!$M1048,入力シート!$N1048))","v":0},{"$f":"入力シート!I1048","v":0},{"$f":"入力シート!O1048","v":0},{"$f":"IF(入力シート!P1048=\"×\",\"P\",\"PN\")","v":"PN"},{"$f":"計算結果!#REF!","v":{"$error":"#REF!"}},{"$f":"計算結果!#REF!","v":{"$error":"#REF!"}},{"$f":"計算結果!#REF!","v":{"$error":"#REF!"}},{"$f":"計算結果!#REF!","v":{"$error":"#REF!"}},{"$f":"計算結果!#REF!","v":{"$error":"#REF!"}},{"$f":"計算結果!#REF!","v":{"$error":"#REF!"}},{"$f":"計算結果!#REF!","v":{"$error":"#REF!"}},{"$f":"計算結果!#REF!","v":{"$error":"#REF!"}},{"$f":"計算結果!#REF!","v":{"$error":"#REF!"}},{"$f":"計算結果!#REF!","v":{"$error":"#REF!"}}]
[{"$f":"入力シート!A1049","v":0},{"$f":"入力シート!G1049","v":0},{"$f":"入力シート!H1049","v":0},{"$f":"IF(入力シート!$J1049<>\"\",入力シート!$J1049,IF(入力シート!$L1049<>\"\",入力シート!$L1049,\"‐\"))","v":"‐"},{"$f":"IF(入力シート!$K1049<>\"\",入力シート!$K1049,IF(入力シート!$M1049<>\"\",入力シート!$M1049,入力シート!$N1049))","v":0},{"$f":"入力シート!I1049","v":0},{"$f":"入力シート!O1049","v":0},{"$f":"IF(入力シート!P1049=\"×\",\"P\",\"PN\")","v":"PN"},{"$f":"計算結果!#REF!","v":{"$error":"#REF!"}},{"$f":"計算結果!#REF!","v":{"$error":"#REF!"}},{"$f":"計算結果!#REF!","v":{"$error":"#REF!"}},{"$f":"計算結果!#REF!","v":{"$error":"#REF!"}},{"$f":"計算結果!#REF!","v":{"$error":"#REF!"}},{"$f":"計算結果!#REF!","v":{"$error":"#REF!"}},{"$f":"計算結果!#REF!","v":{"$error":"#REF!"}},{"$f":"計算結果!#REF!","v":{"$error":"#REF!"}},{"$f":"計算結果!#REF!","v":{"$error":"#REF!"}},{"$f":"計算結果!#REF!","v":{"$error":"#REF!"}}]
[{"$f":"入力シート!A1050","v":0},{"$f":"入力シート!G1050","v":0},{"$f":"入力シート!H1050","v":0},{"$f":"IF(入力シート!$J1050<>\"\",入力シート!$J1050,IF(入力シート!$L1050<>\"\",入力シート!$L1050,\"‐\"))","v":"‐"},{"$f":"IF(入力シート!$K1050<>\"\",入力シート!$K1050,IF(入力シート!$M1050<>\"\",入力シート!$M1050,入力シート!$N1050))","v":0},{"$f":"入力シート!I1050","v":0},{"$f":"入力シート!O1050","v":0},{"$f":"IF(入力シート!P1050=\"×\",\"P\",\"PN\")","v":"PN"},{"$f":"計算結果!#REF!","v":{"$error":"#REF!"}},{"$f":"計算結果!#REF!","v":{"$error":"#REF!"}},{"$f":"計算結果!#REF!","v":{"$error":"#REF!"}},{"$f":"計算結果!#REF!","v":{"$error":"#REF!"}},{"$f":"計算結果!#REF!","v":{"$error":"#REF!"}},{"$f":"計算結果!#REF!","v":{"$error":"#REF!"}},{"$f":"計算結果!#REF!","v":{"$error":"#REF!"}},{"$f":"計算結果!#REF!","v":{"$error":"#REF!"}},{"$f":"計算結果!#REF!","v":{"$error":"#REF!"}},{"$f":"計算結果!#REF!","v":{"$error":"#REF!"}}]
[{"$f":"入力シート!A1051","v":0},{"$f":"入力シート!G1051","v":0},{"$f":"入力シート!H1051","v":0},{"$f":"IF(入力シート!$J1051<>\"\",入力シート!$J1051,IF(入力シート!$L1051<>\"\",入力シート!$L1051,\"‐\"))","v":"‐"},{"$f":"IF(入力シート!$K1051<>\"\",入力シート!$K1051,IF(入力シート!$M1051<>\"\",入力シート!$M1051,入力シート!$N1051))","v":0},{"$f":"入力シート!I1051","v":0},{"$f":"入力シート!O1051","v":0},{"$f":"IF(入力シート!P1051=\"×\",\"P\",\"PN\")","v":"PN"},{"$f":"計算結果!#REF!","v":{"$error":"#REF!"}},{"$f":"計算結果!#REF!","v":{"$error":"#REF!"}},{"$f":"計算結果!#REF!","v":{"$error":"#REF!"}},{"$f":"計算結果!#REF!","v":{"$error":"#REF!"}},{"$f":"計算結果!#REF!","v":{"$error":"#REF!"}},{"$f":"計算結果!#REF!","v":{"$error":"#REF!"}},{"$f":"計算結果!#REF!","v":{"$error":"#REF!"}},{"$f":"計算結果!#REF!","v":{"$error":"#REF!"}},{"$f":"計算結果!#REF!","v":{"$error":"#REF!"}},{"$f":"計算結果!#REF!","v":{"$error":"#REF!"}}]
[{"$f":"入力シート!A1052","v":0},{"$f":"入力シート!G1052","v":0},{"$f":"入力シート!H1052","v":0},{"$f":"IF(入力シート!$J1052<>\"\",入力シート!$J1052,IF(入力シート!$L1052<>\"\",入力シート!$L1052,\"‐\"))","v":"‐"},{"$f":"IF(入力シート!$K1052<>\"\",入力シート!$K1052,IF(入力シート!$M1052<>\"\",入力シート!$M1052,入力シート!$N1052))","v":0},{"$f":"入力シート!I1052","v":0},{"$f":"入力シート!O1052","v":0},{"$f":"IF(入力シート!P1052=\"×\",\"P\",\"PN\")","v":"PN"},{"$f":"計算結果!#REF!","v":{"$error":"#REF!"}},{"$f":"計算結果!#REF!","v":{"$error":"#REF!"}},{"$f":"計算結果!#REF!","v":{"$error":"#REF!"}},{"$f":"計算結果!#REF!","v":{"$error":"#REF!"}},{"$f":"計算結果!#REF!","v":{"$error":"#REF!"}},{"$f":"計算結果!#REF!","v":{"$error":"#REF!"}},{"$f":"計算結果!#REF!","v":{"$error":"#REF!"}},{"$f":"計算結果!#REF!","v":{"$error":"#REF!"}},{"$f":"計算結果!#REF!","v":{"$error":"#REF!"}},{"$f":"計算結果!#REF!","v":{"$error":"#REF!"}}]
[{"$f":"入力シート!A1053","v":0},{"$f":"入力シート!G1053","v":0},{"$f":"入力シート!H1053","v":0},{"$f":"IF(入力シート!$J1053<>\"\",入力シート!$J1053,IF(入力シート!$L1053<>\"\",入力シート!$L1053,\"‐\"))","v":"‐"},{"$f":"IF(入力シート!$K1053<>\"\",入力シート!$K1053,IF(入力シート!$M1053<>\"\",入力シート!$M1053,入力シート!$N1053))","v":0},{"$f":"入力シート!I1053","v":0},{"$f":"入力シート!O1053","v":0},{"$f":"IF(入力シート!P1053=\"×\",\"P\",\"PN\")","v":"PN"},{"$f":"計算結果!#REF!","v":{"$error":"#REF!"}},{"$f":"計算結果!#REF!","v":{"$error":"#REF!"}},{"$f":"計算結果!#REF!","v":{"$error":"#REF!"}},{"$f":"計算結果!#REF!","v":{"$error":"#REF!"}},{"$f":"計算結果!#REF!","v":{"$error":"#REF!"}},{"$f":"計算結果!#REF!","v":{"$error":"#REF!"}},{"$f":"計算結果!#REF!","v":{"$error":"#REF!"}},{"$f":"計算結果!#REF!","v":{"$error":"#REF!"}},{"$f":"計算結果!#REF!","v":{"$error":"#REF!"}},{"$f":"計算結果!#REF!","v":{"$error":"#REF!"}}]
[{"$f":"入力シート!A1054","v":0},{"$f":"入力シート!G1054","v":0},{"$f":"入力シート!H1054","v":0},{"$f":"IF(入力シート!$J1054<>\"\",入力シート!$J1054,IF(入力シート!$L1054<>\"\",入力シート!$L1054,\"‐\"))","v":"‐"},{"$f":"IF(入力シート!$K1054<>\"\",入力シート!$K1054,IF(入力シート!$M1054<>\"\",入力シート!$M1054,入力シート!$N1054))","v":0},{"$f":"入力シート!I1054","v":0},{"$f":"入力シート!O1054","v":0},{"$f":"IF(入力シート!P1054=\"×\",\"P\",\"PN\")","v":"PN"},{"$f":"計算結果!#REF!","v":{"$error":"#REF!"}},{"$f":"計算結果!#REF!","v":{"$error":"#REF!"}},{"$f":"計算結果!#REF!","v":{"$error":"#REF!"}},{"$f":"計算結果!#REF!","v":{"$error":"#REF!"}},{"$f":"計算結果!#REF!","v":{"$error":"#REF!"}},{"$f":"計算結果!#REF!","v":{"$error":"#REF!"}},{"$f":"計算結果!#REF!","v":{"$error":"#REF!"}},{"$f":"計算結果!#REF!","v":{"$error":"#REF!"}},{"$f":"計算結果!#REF!","v":{"$error":"#REF!"}},{"$f":"計算結果!#REF!","v":{"$error":"#REF!"}}]
[{"$f":"入力シート!A1055","v":0},{"$f":"入力シート!G1055","v":0},{"$f":"入力シート!H1055","v":0},{"$f":"IF(入力シート!$J1055<>\"\",入力シート!$J1055,IF(入力シート!$L1055<>\"\",入力シート!$L1055,\"‐\"))","v":"‐"},{"$f":"IF(入力シート!$K1055<>\"\",入力シート!$K1055,IF(入力シート!$M1055<>\"\",入力シート!$M1055,入力シート!$N1055))","v":0},{"$f":"入力シート!I1055","v":0},{"$f":"入力シート!O1055","v":0},{"$f":"IF(入力シート!P1055=\"×\",\"P\",\"PN\")","v":"PN"},{"$f":"計算結果!#REF!","v":{"$error":"#REF!"}},{"$f":"計算結果!#REF!","v":{"$error":"#REF!"}},{"$f":"計算結果!#REF!","v":{"$error":"#REF!"}},{"$f":"計算結果!#REF!","v":{"$error":"#REF!"}},{"$f":"計算結果!#REF!","v":{"$error":"#REF!"}},{"$f":"計算結果!#REF!","v":{"$error":"#REF!"}},{"$f":"計算結果!#REF!","v":{"$error":"#REF!"}},{"$f":"計算結果!#REF!","v":{"$error":"#REF!"}},{"$f":"計算結果!#REF!","v":{"$error":"#REF!"}},{"$f":"計算結果!#REF!","v":{"$error":"#REF!"}}]
[{"$f":"入力シート!A1056","v":0},{"$f":"入力シート!G1056","v":0},{"$f":"入力シート!H1056","v":0},{"$f":"IF(入力シート!$J1056<>\"\",入力シート!$J1056,IF(入力シート!$L1056<>\"\",入力シート!$L1056,\"‐\"))","v":"‐"},{"$f":"IF(入力シート!$K1056<>\"\",入力シート!$K1056,IF(入力シート!$M1056<>\"\",入力シート!$M1056,入力シート!$N1056))","v":0},{"$f":"入力シート!I1056","v":0},{"$f":"入力シート!O1056","v":0},{"$f":"IF(入力シート!P1056=\"×\",\"P\",\"PN\")","v":"PN"},{"$f":"計算結果!#REF!","v":{"$error":"#REF!"}},{"$f":"計算結果!#REF!","v":{"$error":"#REF!"}},{"$f":"計算結果!#REF!","v":{"$error":"#REF!"}},{"$f":"計算結果!#REF!","v":{"$error":"#REF!"}},{"$f":"計算結果!#REF!","v":{"$error":"#REF!"}},{"$f":"計算結果!#REF!","v":{"$error":"#REF!"}},{"$f":"計算結果!#REF!","v":{"$error":"#REF!"}},{"$f":"計算結果!#REF!","v":{"$error":"#REF!"}},{"$f":"計算結果!#REF!","v":{"$error":"#REF!"}},{"$f":"計算結果!#REF!","v":{"$error":"#REF!"}}]
[{"$f":"入力シート!A1057","v":0},{"$f":"入力シート!G1057","v":0},{"$f":"入力シート!H1057","v":0},{"$f":"IF(入力シート!$J1057<>\"\",入力シート!$J1057,IF(入力シート!$L1057<>\"\",入力シート!$L1057,\"‐\"))","v":"‐"},{"$f":"IF(入力シート!$K1057<>\"\",入力シート!$K1057,IF(入力シート!$M1057<>\"\",入力シート!$M1057,入力シート!$N1057))","v":0},{"$f":"入力シート!I1057","v":0},{"$f":"入力シート!O1057","v":0},{"$f":"IF(入力シート!P1057=\"×\",\"P\",\"PN\")","v":"PN"},{"$f":"計算結果!#REF!","v":{"$error":"#REF!"}},{"$f":"計算結果!#REF!","v":{"$error":"#REF!"}},{"$f":"計算結果!#REF!","v":{"$error":"#REF!"}},{"$f":"計算結果!#REF!","v":{"$error":"#REF!"}},{"$f":"計算結果!#REF!","v":{"$error":"#REF!"}},{"$f":"計算結果!#REF!","v":{"$error":"#REF!"}},{"$f":"計算結果!#REF!","v":{"$error":"#REF!"}},{"$f":"計算結果!#REF!","v":{"$error":"#REF!"}},{"$f":"計算結果!#REF!","v":{"$error":"#REF!"}},{"$f":"計算結果!#REF!","v":{"$error":"#REF!"}}]
[{"$f":"入力シート!A1058","v":0},{"$f":"入力シート!G1058","v":0},{"$f":"入力シート!H1058","v":0},{"$f":"IF(入力シート!$J1058<>\"\",入力シート!$J1058,IF(入力シート!$L1058<>\"\",入力シート!$L1058,\"‐\"))","v":"‐"},{"$f":"IF(入力シート!$K1058<>\"\",入力シート!$K1058,IF(入力シート!$M1058<>\"\",入力シート!$M1058,入力シート!$N1058))","v":0},{"$f":"入力シート!I1058","v":0},{"$f":"入力シート!O1058","v":0},{"$f":"IF(入力シート!P1058=\"×\",\"P\",\"PN\")","v":"PN"},{"$f":"計算結果!#REF!","v":{"$error":"#REF!"}},{"$f":"計算結果!#REF!","v":{"$error":"#REF!"}},{"$f":"計算結果!#REF!","v":{"$error":"#REF!"}},{"$f":"計算結果!#REF!","v":{"$error":"#REF!"}},{"$f":"計算結果!#REF!","v":{"$error":"#REF!"}},{"$f":"計算結果!#REF!","v":{"$error":"#REF!"}},{"$f":"計算結果!#REF!","v":{"$error":"#REF!"}},{"$f":"計算結果!#REF!","v":{"$error":"#REF!"}},{"$f":"計算結果!#REF!","v":{"$error":"#REF!"}},{"$f":"計算結果!#REF!","v":{"$error":"#REF!"}}]
[{"$f":"入力シート!A1059","v":0},{"$f":"入力シート!G1059","v":0},{"$f":"入力シート!H1059","v":0},{"$f":"IF(入力シート!$J1059<>\"\",入力シート!$J1059,IF(入力シート!$L1059<>\"\",入力シート!$L1059,\"‐\"))","v":"‐"},{"$f":"IF(入力シート!$K1059<>\"\",入力シート!$K1059,IF(入力シート!$M1059<>\"\",入力シート!$M1059,入力シート!$N1059))","v":0},{"$f":"入力シート!I1059","v":0},{"$f":"入力シート!O1059","v":0},{"$f":"IF(入力シート!P1059=\"×\",\"P\",\"PN\")","v":"PN"},{"$f":"計算結果!#REF!","v":{"$error":"#REF!"}},{"$f":"計算結果!#REF!","v":{"$error":"#REF!"}},{"$f":"計算結果!#REF!","v":{"$error":"#REF!"}},{"$f":"計算結果!#REF!","v":{"$error":"#REF!"}},{"$f":"計算結果!#REF!","v":{"$error":"#REF!"}},{"$f":"計算結果!#REF!","v":{"$error":"#REF!"}},{"$f":"計算結果!#REF!","v":{"$error":"#REF!"}},{"$f":"計算結果!#REF!","v":{"$error":"#REF!"}},{"$f":"計算結果!#REF!","v":{"$error":"#REF!"}},{"$f":"計算結果!#REF!","v":{"$error":"#REF!"}}]
[{"$f":"入力シート!A1060","v":0},{"$f":"入力シート!G1060","v":0},{"$f":"入力シート!H1060","v":0},{"$f":"IF(入力シート!$J1060<>\"\",入力シート!$J1060,IF(入力シート!$L1060<>\"\",入力シート!$L1060,\"‐\"))","v":"‐"},{"$f":"IF(入力シート!$K1060<>\"\",入力シート!$K1060,IF(入力シート!$M1060<>\"\",入力シート!$M1060,入力シート!$N1060))","v":0},{"$f":"入力シート!I1060","v":0},{"$f":"入力シート!O1060","v":0},{"$f":"IF(入力シート!P1060=\"×\",\"P\",\"PN\")","v":"PN"},{"$f":"計算結果!#REF!","v":{"$error":"#REF!"}},{"$f":"計算結果!#REF!","v":{"$error":"#REF!"}},{"$f":"計算結果!#REF!","v":{"$error":"#REF!"}},{"$f":"計算結果!#REF!","v":{"$error":"#REF!"}},{"$f":"計算結果!#REF!","v":{"$error":"#REF!"}},{"$f":"計算結果!#REF!","v":{"$error":"#REF!"}},{"$f":"計算結果!#REF!","v":{"$error":"#REF!"}},{"$f":"計算結果!#REF!","v":{"$error":"#REF!"}},{"$f":"計算結果!#REF!","v":{"$error":"#REF!"}},{"$f":"計算結果!#REF!","v":{"$error":"#REF!"}}]
[{"$f":"入力シート!A1061","v":0},{"$f":"入力シート!G1061","v":0},{"$f":"入力シート!H1061","v":0},{"$f":"IF(入力シート!$J1061<>\"\",入力シート!$J1061,IF(入力シート!$L1061<>\"\",入力シート!$L1061,\"‐\"))","v":"‐"},{"$f":"IF(入力シート!$K1061<>\"\",入力シート!$K1061,IF(入力シート!$M1061<>\"\",入力シート!$M1061,入力シート!$N1061))","v":0},{"$f":"入力シート!I1061","v":0},{"$f":"入力シート!O1061","v":0},{"$f":"IF(入力シート!P1061=\"×\",\"P\",\"PN\")","v":"PN"},{"$f":"計算結果!#REF!","v":{"$error":"#REF!"}},{"$f":"計算結果!#REF!","v":{"$error":"#REF!"}},{"$f":"計算結果!#REF!","v":{"$error":"#REF!"}},{"$f":"計算結果!#REF!","v":{"$error":"#REF!"}},{"$f":"計算結果!#REF!","v":{"$error":"#REF!"}},{"$f":"計算結果!#REF!","v":{"$error":"#REF!"}},{"$f":"計算結果!#REF!","v":{"$error":"#REF!"}},{"$f":"計算結果!#REF!","v":{"$error":"#REF!"}},{"$f":"計算結果!#REF!","v":{"$error":"#REF!"}},{"$f":"計算結果!#REF!","v":{"$error":"#REF!"}}]
[{"$f":"入力シート!A1062","v":0},{"$f":"入力シート!G1062","v":0},{"$f":"入力シート!H1062","v":0},{"$f":"IF(入力シート!$J1062<>\"\",入力シート!$J1062,IF(入力シート!$L1062<>\"\",入力シート!$L1062,\"‐\"))","v":"‐"},{"$f":"IF(入力シート!$K1062<>\"\",入力シート!$K1062,IF(入力シート!$M1062<>\"\",入力シート!$M1062,入力シート!$N1062))","v":0},{"$f":"入力シート!I1062","v":0},{"$f":"入力シート!O1062","v":0},{"$f":"IF(入力シート!P1062=\"×\",\"P\",\"PN\")","v":"PN"},{"$f":"計算結果!#REF!","v":{"$error":"#REF!"}},{"$f":"計算結果!#REF!","v":{"$error":"#REF!"}},{"$f":"計算結果!#REF!","v":{"$error":"#REF!"}},{"$f":"計算結果!#REF!","v":{"$error":"#REF!"}},{"$f":"計算結果!#REF!","v":{"$error":"#REF!"}},{"$f":"計算結果!#REF!","v":{"$error":"#REF!"}},{"$f":"計算結果!#REF!","v":{"$error":"#REF!"}},{"$f":"計算結果!#REF!","v":{"$error":"#REF!"}},{"$f":"計算結果!#REF!","v":{"$error":"#REF!"}},{"$f":"計算結果!#REF!","v":{"$error":"#REF!"}}]
[{"$f":"入力シート!A1063","v":0},{"$f":"入力シート!G1063","v":0},{"$f":"入力シート!H1063","v":0},{"$f":"IF(入力シート!$J1063<>\"\",入力シート!$J1063,IF(入力シート!$L1063<>\"\",入力シート!$L1063,\"‐\"))","v":"‐"},{"$f":"IF(入力シート!$K1063<>\"\",入力シート!$K1063,IF(入力シート!$M1063<>\"\",入力シート!$M1063,入力シート!$N1063))","v":0},{"$f":"入力シート!I1063","v":0},{"$f":"入力シート!O1063","v":0},{"$f":"IF(入力シート!P1063=\"×\",\"P\",\"PN\")","v":"PN"},{"$f":"計算結果!#REF!","v":{"$error":"#REF!"}},{"$f":"計算結果!#REF!","v":{"$error":"#REF!"}},{"$f":"計算結果!#REF!","v":{"$error":"#REF!"}},{"$f":"計算結果!#REF!","v":{"$error":"#REF!"}},{"$f":"計算結果!#REF!","v":{"$error":"#REF!"}},{"$f":"計算結果!#REF!","v":{"$error":"#REF!"}},{"$f":"計算結果!#REF!","v":{"$error":"#REF!"}},{"$f":"計算結果!#REF!","v":{"$error":"#REF!"}},{"$f":"計算結果!#REF!","v":{"$error":"#REF!"}},{"$f":"計算結果!#REF!","v":{"$error":"#REF!"}}]
[{"$f":"入力シート!A1064","v":0},{"$f":"入力シート!G1064","v":0},{"$f":"入力シート!H1064","v":0},{"$f":"IF(入力シート!$J1064<>\"\",入力シート!$J1064,IF(入力シート!$L1064<>\"\",入力シート!$L1064,\"‐\"))","v":"‐"},{"$f":"IF(入力シート!$K1064<>\"\",入力シート!$K1064,IF(入力シート!$M1064<>\"\",入力シート!$M1064,入力シート!$N1064))","v":0},{"$f":"入力シート!I1064","v":0},{"$f":"入力シート!O1064","v":0},{"$f":"IF(入力シート!P1064=\"×\",\"P\",\"PN\")","v":"PN"},{"$f":"計算結果!#REF!","v":{"$error":"#REF!"}},{"$f":"計算結果!#REF!","v":{"$error":"#REF!"}},{"$f":"計算結果!#REF!","v":{"$error":"#REF!"}},{"$f":"計算結果!#REF!","v":{"$error":"#REF!"}},{"$f":"計算結果!#REF!","v":{"$error":"#REF!"}},{"$f":"計算結果!#REF!","v":{"$error":"#REF!"}},{"$f":"計算結果!#REF!","v":{"$error":"#REF!"}},{"$f":"計算結果!#REF!","v":{"$error":"#REF!"}},{"$f":"計算結果!#REF!","v":{"$error":"#REF!"}},{"$f":"計算結果!#REF!","v":{"$error":"#REF!"}}]
[{"$f":"入力シート!A1065","v":0},{"$f":"入力シート!G1065","v":0},{"$f":"入力シート!H1065","v":0},{"$f":"IF(入力シート!$J1065<>\"\",入力シート!$J1065,IF(入力シート!$L1065<>\"\",入力シート!$L1065,\"‐\"))","v":"‐"},{"$f":"IF(入力シート!$K1065<>\"\",入力シート!$K1065,IF(入力シート!$M1065<>\"\",入力シート!$M1065,入力シート!$N1065))","v":0},{"$f":"入力シート!I1065","v":0},{"$f":"入力シート!O1065","v":0},{"$f":"IF(入力シート!P1065=\"×\",\"P\",\"PN\")","v":"PN"},{"$f":"計算結果!#REF!","v":{"$error":"#REF!"}},{"$f":"計算結果!#REF!","v":{"$error":"#REF!"}},{"$f":"計算結果!#REF!","v":{"$error":"#REF!"}},{"$f":"計算結果!#REF!","v":{"$error":"#REF!"}},{"$f":"計算結果!#REF!","v":{"$error":"#REF!"}},{"$f":"計算結果!#REF!","v":{"$error":"#REF!"}},{"$f":"計算結果!#REF!","v":{"$error":"#REF!"}},{"$f":"計算結果!#REF!","v":{"$error":"#REF!"}},{"$f":"計算結果!#REF!","v":{"$error":"#REF!"}},{"$f":"計算結果!#REF!","v":{"$error":"#REF!"}}]
[{"$f":"入力シート!A1066","v":0},{"$f":"入力シート!G1066","v":0},{"$f":"入力シート!H1066","v":0},{"$f":"IF(入力シート!$J1066<>\"\",入力シート!$J1066,IF(入力シート!$L1066<>\"\",入力シート!$L1066,\"‐\"))","v":"‐"},{"$f":"IF(入力シート!$K1066<>\"\",入力シート!$K1066,IF(入力シート!$M1066<>\"\",入力シート!$M1066,入力シート!$N1066))","v":0},{"$f":"入力シート!I1066","v":0},{"$f":"入力シート!O1066","v":0},{"$f":"IF(入力シート!P1066=\"×\",\"P\",\"PN\")","v":"PN"},{"$f":"計算結果!#REF!","v":{"$error":"#REF!"}},{"$f":"計算結果!#REF!","v":{"$error":"#REF!"}},{"$f":"計算結果!#REF!","v":{"$error":"#REF!"}},{"$f":"計算結果!#REF!","v":{"$error":"#REF!"}},{"$f":"計算結果!#REF!","v":{"$error":"#REF!"}},{"$f":"計算結果!#REF!","v":{"$error":"#REF!"}},{"$f":"計算結果!#REF!","v":{"$error":"#REF!"}},{"$f":"計算結果!#REF!","v":{"$error":"#REF!"}},{"$f":"計算結果!#REF!","v":{"$error":"#REF!"}},{"$f":"計算結果!#REF!","v":{"$error":"#REF!"}}]
[{"$f":"入力シート!A1067","v":0},{"$f":"入力シート!G1067","v":0},{"$f":"入力シート!H1067","v":0},{"$f":"IF(入力シート!$J1067<>\"\",入力シート!$J1067,IF(入力シート!$L1067<>\"\",入力シート!$L1067,\"‐\"))","v":"‐"},{"$f":"IF(入力シート!$K1067<>\"\",入力シート!$K1067,IF(入力シート!$M1067<>\"\",入力シート!$M1067,入力シート!$N1067))","v":0},{"$f":"入力シート!I1067","v":0},{"$f":"入力シート!O1067","v":0},{"$f":"IF(入力シート!P1067=\"×\",\"P\",\"PN\")","v":"PN"},{"$f":"計算結果!#REF!","v":{"$error":"#REF!"}},{"$f":"計算結果!#REF!","v":{"$error":"#REF!"}},{"$f":"計算結果!#REF!","v":{"$error":"#REF!"}},{"$f":"計算結果!#REF!","v":{"$error":"#REF!"}},{"$f":"計算結果!#REF!","v":{"$error":"#REF!"}},{"$f":"計算結果!#REF!","v":{"$error":"#REF!"}},{"$f":"計算結果!#REF!","v":{"$error":"#REF!"}},{"$f":"計算結果!#REF!","v":{"$error":"#REF!"}},{"$f":"計算結果!#REF!","v":{"$error":"#REF!"}},{"$f":"計算結果!#REF!","v":{"$error":"#REF!"}}]
[{"$f":"入力シート!A1068","v":0},{"$f":"入力シート!G1068","v":0},{"$f":"入力シート!H1068","v":0},{"$f":"IF(入力シート!$J1068<>\"\",入力シート!$J1068,IF(入力シート!$L1068<>\"\",入力シート!$L1068,\"‐\"))","v":"‐"},{"$f":"IF(入力シート!$K1068<>\"\",入力シート!$K1068,IF(入力シート!$M1068<>\"\",入力シート!$M1068,入力シート!$N1068))","v":0},{"$f":"入力シート!I1068","v":0},{"$f":"入力シート!O1068","v":0},{"$f":"IF(入力シート!P1068=\"×\",\"P\",\"PN\")","v":"PN"},{"$f":"計算結果!#REF!","v":{"$error":"#REF!"}},{"$f":"計算結果!#REF!","v":{"$error":"#REF!"}},{"$f":"計算結果!#REF!","v":{"$error":"#REF!"}},{"$f":"計算結果!#REF!","v":{"$error":"#REF!"}},{"$f":"計算結果!#REF!","v":{"$error":"#REF!"}},{"$f":"計算結果!#REF!","v":{"$error":"#REF!"}},{"$f":"計算結果!#REF!","v":{"$error":"#REF!"}},{"$f":"計算結果!#REF!","v":{"$error":"#REF!"}},{"$f":"計算結果!#REF!","v":{"$error":"#REF!"}},{"$f":"計算結果!#REF!","v":{"$error":"#REF!"}}]
[{"$f":"入力シート!A1069","v":0},{"$f":"入力シート!G1069","v":0},{"$f":"入力シート!H1069","v":0},{"$f":"IF(入力シート!$J1069<>\"\",入力シート!$J1069,IF(入力シート!$L1069<>\"\",入力シート!$L1069,\"‐\"))","v":"‐"},{"$f":"IF(入力シート!$K1069<>\"\",入力シート!$K1069,IF(入力シート!$M1069<>\"\",入力シート!$M1069,入力シート!$N1069))","v":0},{"$f":"入力シート!I1069","v":0},{"$f":"入力シート!O1069","v":0},{"$f":"IF(入力シート!P1069=\"×\",\"P\",\"PN\")","v":"PN"},{"$f":"計算結果!#REF!","v":{"$error":"#REF!"}},{"$f":"計算結果!#REF!","v":{"$error":"#REF!"}},{"$f":"計算結果!#REF!","v":{"$error":"#REF!"}},{"$f":"計算結果!#REF!","v":{"$error":"#REF!"}},{"$f":"計算結果!#REF!","v":{"$error":"#REF!"}},{"$f":"計算結果!#REF!","v":{"$error":"#REF!"}},{"$f":"計算結果!#REF!","v":{"$error":"#REF!"}},{"$f":"計算結果!#REF!","v":{"$error":"#REF!"}},{"$f":"計算結果!#REF!","v":{"$error":"#REF!"}},{"$f":"計算結果!#REF!","v":{"$error":"#REF!"}}]
[{"$f":"入力シート!A1070","v":0},{"$f":"入力シート!G1070","v":0},{"$f":"入力シート!H1070","v":0},{"$f":"IF(入力シート!$J1070<>\"\",入力シート!$J1070,IF(入力シート!$L1070<>\"\",入力シート!$L1070,\"‐\"))","v":"‐"},{"$f":"IF(入力シート!$K1070<>\"\",入力シート!$K1070,IF(入力シート!$M1070<>\"\",入力シート!$M1070,入力シート!$N1070))","v":0},{"$f":"入力シート!I1070","v":0},{"$f":"入力シート!O1070","v":0},{"$f":"IF(入力シート!P1070=\"×\",\"P\",\"PN\")","v":"PN"},{"$f":"計算結果!#REF!","v":{"$error":"#REF!"}},{"$f":"計算結果!#REF!","v":{"$error":"#REF!"}},{"$f":"計算結果!#REF!","v":{"$error":"#REF!"}},{"$f":"計算結果!#REF!","v":{"$error":"#REF!"}},{"$f":"計算結果!#REF!","v":{"$error":"#REF!"}},{"$f":"計算結果!#REF!","v":{"$error":"#REF!"}},{"$f":"計算結果!#REF!","v":{"$error":"#REF!"}},{"$f":"計算結果!#REF!","v":{"$error":"#REF!"}},{"$f":"計算結果!#REF!","v":{"$error":"#REF!"}},{"$f":"計算結果!#REF!","v":{"$error":"#REF!"}}]
[{"$f":"入力シート!A1071","v":0},{"$f":"入力シート!G1071","v":0},{"$f":"入力シート!H1071","v":0},{"$f":"IF(入力シート!$J1071<>\"\",入力シート!$J1071,IF(入力シート!$L1071<>\"\",入力シート!$L1071,\"‐\"))","v":"‐"},{"$f":"IF(入力シート!$K1071<>\"\",入力シート!$K1071,IF(入力シート!$M1071<>\"\",入力シート!$M1071,入力シート!$N1071))","v":0},{"$f":"入力シート!I1071","v":0},{"$f":"入力シート!O1071","v":0},{"$f":"IF(入力シート!P1071=\"×\",\"P\",\"PN\")","v":"PN"},{"$f":"計算結果!#REF!","v":{"$error":"#REF!"}},{"$f":"計算結果!#REF!","v":{"$error":"#REF!"}},{"$f":"計算結果!#REF!","v":{"$error":"#REF!"}},{"$f":"計算結果!#REF!","v":{"$error":"#REF!"}},{"$f":"計算結果!#REF!","v":{"$error":"#REF!"}},{"$f":"計算結果!#REF!","v":{"$error":"#REF!"}},{"$f":"計算結果!#REF!","v":{"$error":"#REF!"}},{"$f":"計算結果!#REF!","v":{"$error":"#REF!"}},{"$f":"計算結果!#REF!","v":{"$error":"#REF!"}},{"$f":"計算結果!#REF!","v":{"$error":"#REF!"}}]
[{"$f":"入力シート!A1072","v":0},{"$f":"入力シート!G1072","v":0},{"$f":"入力シート!H1072","v":0},{"$f":"IF(入力シート!$J1072<>\"\",入力シート!$J1072,IF(入力シート!$L1072<>\"\",入力シート!$L1072,\"‐\"))","v":"‐"},{"$f":"IF(入力シート!$K1072<>\"\",入力シート!$K1072,IF(入力シート!$M1072<>\"\",入力シート!$M1072,入力シート!$N1072))","v":0},{"$f":"入力シート!I1072","v":0},{"$f":"入力シート!O1072","v":0},{"$f":"IF(入力シート!P1072=\"×\",\"P\",\"PN\")","v":"PN"},{"$f":"計算結果!#REF!","v":{"$error":"#REF!"}},{"$f":"計算結果!#REF!","v":{"$error":"#REF!"}},{"$f":"計算結果!#REF!","v":{"$error":"#REF!"}},{"$f":"計算結果!#REF!","v":{"$error":"#REF!"}},{"$f":"計算結果!#REF!","v":{"$error":"#REF!"}},{"$f":"計算結果!#REF!","v":{"$error":"#REF!"}},{"$f":"計算結果!#REF!","v":{"$error":"#REF!"}},{"$f":"計算結果!#REF!","v":{"$error":"#REF!"}},{"$f":"計算結果!#REF!","v":{"$error":"#REF!"}},{"$f":"計算結果!#REF!","v":{"$error":"#REF!"}}]
[{"$f":"入力シート!A1073","v":0},{"$f":"入力シート!G1073","v":0},{"$f":"入力シート!H1073","v":0},{"$f":"IF(入力シート!$J1073<>\"\",入力シート!$J1073,IF(入力シート!$L1073<>\"\",入力シート!$L1073,\"‐\"))","v":"‐"},{"$f":"IF(入力シート!$K1073<>\"\",入力シート!$K1073,IF(入力シート!$M1073<>\"\",入力シート!$M1073,入力シート!$N1073))","v":0},{"$f":"入力シート!I1073","v":0},{"$f":"入力シート!O1073","v":0},{"$f":"IF(入力シート!P1073=\"×\",\"P\",\"PN\")","v":"PN"},{"$f":"計算結果!#REF!","v":{"$error":"#REF!"}},{"$f":"計算結果!#REF!","v":{"$error":"#REF!"}},{"$f":"計算結果!#REF!","v":{"$error":"#REF!"}},{"$f":"計算結果!#REF!","v":{"$error":"#REF!"}},{"$f":"計算結果!#REF!","v":{"$error":"#REF!"}},{"$f":"計算結果!#REF!","v":{"$error":"#REF!"}},{"$f":"計算結果!#REF!","v":{"$error":"#REF!"}},{"$f":"計算結果!#REF!","v":{"$error":"#REF!"}},{"$f":"計算結果!#REF!","v":{"$error":"#REF!"}},{"$f":"計算結果!#REF!","v":{"$error":"#REF!"}}]
[{"$f":"入力シート!A1074","v":0},{"$f":"入力シート!G1074","v":0},{"$f":"入力シート!H1074","v":0},{"$f":"IF(入力シート!$J1074<>\"\",入力シート!$J1074,IF(入力シート!$L1074<>\"\",入力シート!$L1074,\"‐\"))","v":"‐"},{"$f":"IF(入力シート!$K1074<>\"\",入力シート!$K1074,IF(入力シート!$M1074<>\"\",入力シート!$M1074,入力シート!$N1074))","v":0},{"$f":"入力シート!I1074","v":0},{"$f":"入力シート!O1074","v":0},{"$f":"IF(入力シート!P1074=\"×\",\"P\",\"PN\")","v":"PN"},{"$f":"計算結果!#REF!","v":{"$error":"#REF!"}},{"$f":"計算結果!#REF!","v":{"$error":"#REF!"}},{"$f":"計算結果!#REF!","v":{"$error":"#REF!"}},{"$f":"計算結果!#REF!","v":{"$error":"#REF!"}},{"$f":"計算結果!#REF!","v":{"$error":"#REF!"}},{"$f":"計算結果!#REF!","v":{"$error":"#REF!"}},{"$f":"計算結果!#REF!","v":{"$error":"#REF!"}},{"$f":"計算結果!#REF!","v":{"$error":"#REF!"}},{"$f":"計算結果!#REF!","v":{"$error":"#REF!"}},{"$f":"計算結果!#REF!","v":{"$error":"#REF!"}}]
[{"$f":"入力シート!A1075","v":0},{"$f":"入力シート!G1075","v":0},{"$f":"入力シート!H1075","v":0},{"$f":"IF(入力シート!$J1075<>\"\",入力シート!$J1075,IF(入力シート!$L1075<>\"\",入力シート!$L1075,\"‐\"))","v":"‐"},{"$f":"IF(入力シート!$K1075<>\"\",入力シート!$K1075,IF(入力シート!$M1075<>\"\",入力シート!$M1075,入力シート!$N1075))","v":0},{"$f":"入力シート!I1075","v":0},{"$f":"入力シート!O1075","v":0},{"$f":"IF(入力シート!P1075=\"×\",\"P\",\"PN\")","v":"PN"},{"$f":"計算結果!#REF!","v":{"$error":"#REF!"}},{"$f":"計算結果!#REF!","v":{"$error":"#REF!"}},{"$f":"計算結果!#REF!","v":{"$error":"#REF!"}},{"$f":"計算結果!#REF!","v":{"$error":"#REF!"}},{"$f":"計算結果!#REF!","v":{"$error":"#REF!"}},{"$f":"計算結果!#REF!","v":{"$error":"#REF!"}},{"$f":"計算結果!#REF!","v":{"$error":"#REF!"}},{"$f":"計算結果!#REF!","v":{"$error":"#REF!"}},{"$f":"計算結果!#REF!","v":{"$error":"#REF!"}},{"$f":"計算結果!#REF!","v":{"$error":"#REF!"}}]
[{"$f":"入力シート!A1076","v":0},{"$f":"入力シート!G1076","v":0},{"$f":"入力シート!H1076","v":0},{"$f":"IF(入力シート!$J1076<>\"\",入力シート!$J1076,IF(入力シート!$L1076<>\"\",入力シート!$L1076,\"‐\"))","v":"‐"},{"$f":"IF(入力シート!$K1076<>\"\",入力シート!$K1076,IF(入力シート!$M1076<>\"\",入力シート!$M1076,入力シート!$N1076))","v":0},{"$f":"入力シート!I1076","v":0},{"$f":"入力シート!O1076","v":0},{"$f":"IF(入力シート!P1076=\"×\",\"P\",\"PN\")","v":"PN"},{"$f":"計算結果!#REF!","v":{"$error":"#REF!"}},{"$f":"計算結果!#REF!","v":{"$error":"#REF!"}},{"$f":"計算結果!#REF!","v":{"$error":"#REF!"}},{"$f":"計算結果!#REF!","v":{"$error":"#REF!"}},{"$f":"計算結果!#REF!","v":{"$error":"#REF!"}},{"$f":"計算結果!#REF!","v":{"$error":"#REF!"}},{"$f":"計算結果!#REF!","v":{"$error":"#REF!"}},{"$f":"計算結果!#REF!","v":{"$error":"#REF!"}},{"$f":"計算結果!#REF!","v":{"$error":"#REF!"}},{"$f":"計算結果!#REF!","v":{"$error":"#REF!"}}]
[{"$f":"入力シート!A1077","v":0},{"$f":"入力シート!G1077","v":0},{"$f":"入力シート!H1077","v":0},{"$f":"IF(入力シート!$J1077<>\"\",入力シート!$J1077,IF(入力シート!$L1077<>\"\",入力シート!$L1077,\"‐\"))","v":"‐"},{"$f":"IF(入力シート!$K1077<>\"\",入力シート!$K1077,IF(入力シート!$M1077<>\"\",入力シート!$M1077,入力シート!$N1077))","v":0},{"$f":"入力シート!I1077","v":0},{"$f":"入力シート!O1077","v":0},{"$f":"IF(入力シート!P1077=\"×\",\"P\",\"PN\")","v":"PN"},{"$f":"計算結果!#REF!","v":{"$error":"#REF!"}},{"$f":"計算結果!#REF!","v":{"$error":"#REF!"}},{"$f":"計算結果!#REF!","v":{"$error":"#REF!"}},{"$f":"計算結果!#REF!","v":{"$error":"#REF!"}},{"$f":"計算結果!#REF!","v":{"$error":"#REF!"}},{"$f":"計算結果!#REF!","v":{"$error":"#REF!"}},{"$f":"計算結果!#REF!","v":{"$error":"#REF!"}},{"$f":"計算結果!#REF!","v":{"$error":"#REF!"}},{"$f":"計算結果!#REF!","v":{"$error":"#REF!"}},{"$f":"計算結果!#REF!","v":{"$error":"#REF!"}}]
[{"$f":"入力シート!A1078","v":0},{"$f":"入力シート!G1078","v":0},{"$f":"入力シート!H1078","v":0},{"$f":"IF(入力シート!$J1078<>\"\",入力シート!$J1078,IF(入力シート!$L1078<>\"\",入力シート!$L1078,\"‐\"))","v":"‐"},{"$f":"IF(入力シート!$K1078<>\"\",入力シート!$K1078,IF(入力シート!$M1078<>\"\",入力シート!$M1078,入力シート!$N1078))","v":0},{"$f":"入力シート!I1078","v":0},{"$f":"入力シート!O1078","v":0},{"$f":"IF(入力シート!P1078=\"×\",\"P\",\"PN\")","v":"PN"},{"$f":"計算結果!#REF!","v":{"$error":"#REF!"}},{"$f":"計算結果!#REF!","v":{"$error":"#REF!"}},{"$f":"計算結果!#REF!","v":{"$error":"#REF!"}},{"$f":"計算結果!#REF!","v":{"$error":"#REF!"}},{"$f":"計算結果!#REF!","v":{"$error":"#REF!"}},{"$f":"計算結果!#REF!","v":{"$error":"#REF!"}},{"$f":"計算結果!#REF!","v":{"$error":"#REF!"}},{"$f":"計算結果!#REF!","v":{"$error":"#REF!"}},{"$f":"計算結果!#REF!","v":{"$error":"#REF!"}},{"$f":"計算結果!#REF!","v":{"$error":"#REF!"}}]
[{"$f":"入力シート!A1079","v":0},{"$f":"入力シート!G1079","v":0},{"$f":"入力シート!H1079","v":0},{"$f":"IF(入力シート!$J1079<>\"\",入力シート!$J1079,IF(入力シート!$L1079<>\"\",入力シート!$L1079,\"‐\"))","v":"‐"},{"$f":"IF(入力シート!$K1079<>\"\",入力シート!$K1079,IF(入力シート!$M1079<>\"\",入力シート!$M1079,入力シート!$N1079))","v":0},{"$f":"入力シート!I1079","v":0},{"$f":"入力シート!O1079","v":0},{"$f":"IF(入力シート!P1079=\"×\",\"P\",\"PN\")","v":"PN"},{"$f":"計算結果!#REF!","v":{"$error":"#REF!"}},{"$f":"計算結果!#REF!","v":{"$error":"#REF!"}},{"$f":"計算結果!#REF!","v":{"$error":"#REF!"}},{"$f":"計算結果!#REF!","v":{"$error":"#REF!"}},{"$f":"計算結果!#REF!","v":{"$error":"#REF!"}},{"$f":"計算結果!#REF!","v":{"$error":"#REF!"}},{"$f":"計算結果!#REF!","v":{"$error":"#REF!"}},{"$f":"計算結果!#REF!","v":{"$error":"#REF!"}},{"$f":"計算結果!#REF!","v":{"$error":"#REF!"}},{"$f":"計算結果!#REF!","v":{"$error":"#REF!"}}]
[{"$f":"入力シート!A1080","v":0},{"$f":"入力シート!G1080","v":0},{"$f":"入力シート!H1080","v":0},{"$f":"IF(入力シート!$J1080<>\"\",入力シート!$J1080,IF(入力シート!$L1080<>\"\",入力シート!$L1080,\"‐\"))","v":"‐"},{"$f":"IF(入力シート!$K1080<>\"\",入力シート!$K1080,IF(入力シート!$M1080<>\"\",入力シート!$M1080,入力シート!$N1080))","v":0},{"$f":"入力シート!I1080","v":0},{"$f":"入力シート!O1080","v":0},{"$f":"IF(入力シート!P1080=\"×\",\"P\",\"PN\")","v":"PN"},{"$f":"計算結果!#REF!","v":{"$error":"#REF!"}},{"$f":"計算結果!#REF!","v":{"$error":"#REF!"}},{"$f":"計算結果!#REF!","v":{"$error":"#REF!"}},{"$f":"計算結果!#REF!","v":{"$error":"#REF!"}},{"$f":"計算結果!#REF!","v":{"$error":"#REF!"}},{"$f":"計算結果!#REF!","v":{"$error":"#REF!"}},{"$f":"計算結果!#REF!","v":{"$error":"#REF!"}},{"$f":"計算結果!#REF!","v":{"$error":"#REF!"}},{"$f":"計算結果!#REF!","v":{"$error":"#REF!"}},{"$f":"計算結果!#REF!","v":{"$error":"#REF!"}}]
[{"$f":"入力シート!A1081","v":0},{"$f":"入力シート!G1081","v":0},{"$f":"入力シート!H1081","v":0},{"$f":"IF(入力シート!$J1081<>\"\",入力シート!$J1081,IF(入力シート!$L1081<>\"\",入力シート!$L1081,\"‐\"))","v":"‐"},{"$f":"IF(入力シート!$K1081<>\"\",入力シート!$K1081,IF(入力シート!$M1081<>\"\",入力シート!$M1081,入力シート!$N1081))","v":0},{"$f":"入力シート!I1081","v":0},{"$f":"入力シート!O1081","v":0},{"$f":"IF(入力シート!P1081=\"×\",\"P\",\"PN\")","v":"PN"},{"$f":"計算結果!#REF!","v":{"$error":"#REF!"}},{"$f":"計算結果!#REF!","v":{"$error":"#REF!"}},{"$f":"計算結果!#REF!","v":{"$error":"#REF!"}},{"$f":"計算結果!#REF!","v":{"$error":"#REF!"}},{"$f":"計算結果!#REF!","v":{"$error":"#REF!"}},{"$f":"計算結果!#REF!","v":{"$error":"#REF!"}},{"$f":"計算結果!#REF!","v":{"$error":"#REF!"}},{"$f":"計算結果!#REF!","v":{"$error":"#REF!"}},{"$f":"計算結果!#REF!","v":{"$error":"#REF!"}},{"$f":"計算結果!#REF!","v":{"$error":"#REF!"}}]
[{"$f":"入力シート!A1082","v":0},{"$f":"入力シート!G1082","v":0},{"$f":"入力シート!H1082","v":0},{"$f":"IF(入力シート!$J1082<>\"\",入力シート!$J1082,IF(入力シート!$L1082<>\"\",入力シート!$L1082,\"‐\"))","v":"‐"},{"$f":"IF(入力シート!$K1082<>\"\",入力シート!$K1082,IF(入力シート!$M1082<>\"\",入力シート!$M1082,入力シート!$N1082))","v":0},{"$f":"入力シート!I1082","v":0},{"$f":"入力シート!O1082","v":0},{"$f":"IF(入力シート!P1082=\"×\",\"P\",\"PN\")","v":"PN"},{"$f":"計算結果!#REF!","v":{"$error":"#REF!"}},{"$f":"計算結果!#REF!","v":{"$error":"#REF!"}},{"$f":"計算結果!#REF!","v":{"$error":"#REF!"}},{"$f":"計算結果!#REF!","v":{"$error":"#REF!"}},{"$f":"計算結果!#REF!","v":{"$error":"#REF!"}},{"$f":"計算結果!#REF!","v":{"$error":"#REF!"}},{"$f":"計算結果!#REF!","v":{"$error":"#REF!"}},{"$f":"計算結果!#REF!","v":{"$error":"#REF!"}},{"$f":"計算結果!#REF!","v":{"$error":"#REF!"}},{"$f":"計算結果!#REF!","v":{"$error":"#REF!"}}]
[{"$f":"入力シート!A1083","v":0},{"$f":"入力シート!G1083","v":0},{"$f":"入力シート!H1083","v":0},{"$f":"IF(入力シート!$J1083<>\"\",入力シート!$J1083,IF(入力シート!$L1083<>\"\",入力シート!$L1083,\"‐\"))","v":"‐"},{"$f":"IF(入力シート!$K1083<>\"\",入力シート!$K1083,IF(入力シート!$M1083<>\"\",入力シート!$M1083,入力シート!$N1083))","v":0},{"$f":"入力シート!I1083","v":0},{"$f":"入力シート!O1083","v":0},{"$f":"IF(入力シート!P1083=\"×\",\"P\",\"PN\")","v":"PN"},{"$f":"計算結果!#REF!","v":{"$error":"#REF!"}},{"$f":"計算結果!#REF!","v":{"$error":"#REF!"}},{"$f":"計算結果!#REF!","v":{"$error":"#REF!"}},{"$f":"計算結果!#REF!","v":{"$error":"#REF!"}},{"$f":"計算結果!#REF!","v":{"$error":"#REF!"}},{"$f":"計算結果!#REF!","v":{"$error":"#REF!"}},{"$f":"計算結果!#REF!","v":{"$error":"#REF!"}},{"$f":"計算結果!#REF!","v":{"$error":"#REF!"}},{"$f":"計算結果!#REF!","v":{"$error":"#REF!"}},{"$f":"計算結果!#REF!","v":{"$error":"#REF!"}}]
[{"$f":"入力シート!A1084","v":0},{"$f":"入力シート!G1084","v":0},{"$f":"入力シート!H1084","v":0},{"$f":"IF(入力シート!$J1084<>\"\",入力シート!$J1084,IF(入力シート!$L1084<>\"\",入力シート!$L1084,\"‐\"))","v":"‐"},{"$f":"IF(入力シート!$K1084<>\"\",入力シート!$K1084,IF(入力シート!$M1084<>\"\",入力シート!$M1084,入力シート!$N1084))","v":0},{"$f":"入力シート!I1084","v":0},{"$f":"入力シート!O1084","v":0},{"$f":"IF(入力シート!P1084=\"×\",\"P\",\"PN\")","v":"PN"},{"$f":"計算結果!#REF!","v":{"$error":"#REF!"}},{"$f":"計算結果!#REF!","v":{"$error":"#REF!"}},{"$f":"計算結果!#REF!","v":{"$error":"#REF!"}},{"$f":"計算結果!#REF!","v":{"$error":"#REF!"}},{"$f":"計算結果!#REF!","v":{"$error":"#REF!"}},{"$f":"計算結果!#REF!","v":{"$error":"#REF!"}},{"$f":"計算結果!#REF!","v":{"$error":"#REF!"}},{"$f":"計算結果!#REF!","v":{"$error":"#REF!"}},{"$f":"計算結果!#REF!","v":{"$error":"#REF!"}},{"$f":"計算結果!#REF!","v":{"$error":"#REF!"}}]
[{"$f":"入力シート!A1085","v":0},{"$f":"入力シート!G1085","v":0},{"$f":"入力シート!H1085","v":0},{"$f":"IF(入力シート!$J1085<>\"\",入力シート!$J1085,IF(入力シート!$L1085<>\"\",入力シート!$L1085,\"‐\"))","v":"‐"},{"$f":"IF(入力シート!$K1085<>\"\",入力シート!$K1085,IF(入力シート!$M1085<>\"\",入力シート!$M1085,入力シート!$N1085))","v":0},{"$f":"入力シート!I1085","v":0},{"$f":"入力シート!O1085","v":0},{"$f":"IF(入力シート!P1085=\"×\",\"P\",\"PN\")","v":"PN"},{"$f":"計算結果!#REF!","v":{"$error":"#REF!"}},{"$f":"計算結果!#REF!","v":{"$error":"#REF!"}},{"$f":"計算結果!#REF!","v":{"$error":"#REF!"}},{"$f":"計算結果!#REF!","v":{"$error":"#REF!"}},{"$f":"計算結果!#REF!","v":{"$error":"#REF!"}},{"$f":"計算結果!#REF!","v":{"$error":"#REF!"}},{"$f":"計算結果!#REF!","v":{"$error":"#REF!"}},{"$f":"計算結果!#REF!","v":{"$error":"#REF!"}},{"$f":"計算結果!#REF!","v":{"$error":"#REF!"}},{"$f":"計算結果!#REF!","v":{"$error":"#REF!"}}]
[{"$f":"入力シート!A1086","v":0},{"$f":"入力シート!G1086","v":0},{"$f":"入力シート!H1086","v":0},{"$f":"IF(入力シート!$J1086<>\"\",入力シート!$J1086,IF(入力シート!$L1086<>\"\",入力シート!$L1086,\"‐\"))","v":"‐"},{"$f":"IF(入力シート!$K1086<>\"\",入力シート!$K1086,IF(入力シート!$M1086<>\"\",入力シート!$M1086,入力シート!$N1086))","v":0},{"$f":"入力シート!I1086","v":0},{"$f":"入力シート!O1086","v":0},{"$f":"IF(入力シート!P1086=\"×\",\"P\",\"PN\")","v":"PN"},{"$f":"計算結果!#REF!","v":{"$error":"#REF!"}},{"$f":"計算結果!#REF!","v":{"$error":"#REF!"}},{"$f":"計算結果!#REF!","v":{"$error":"#REF!"}},{"$f":"計算結果!#REF!","v":{"$error":"#REF!"}},{"$f":"計算結果!#REF!","v":{"$error":"#REF!"}},{"$f":"計算結果!#REF!","v":{"$error":"#REF!"}},{"$f":"計算結果!#REF!","v":{"$error":"#REF!"}},{"$f":"計算結果!#REF!","v":{"$error":"#REF!"}},{"$f":"計算結果!#REF!","v":{"$error":"#REF!"}},{"$f":"計算結果!#REF!","v":{"$error":"#REF!"}}]
[{"$f":"入力シート!A1087","v":0},{"$f":"入力シート!G1087","v":0},{"$f":"入力シート!H1087","v":0},{"$f":"IF(入力シート!$J1087<>\"\",入力シート!$J1087,IF(入力シート!$L1087<>\"\",入力シート!$L1087,\"‐\"))","v":"‐"},{"$f":"IF(入力シート!$K1087<>\"\",入力シート!$K1087,IF(入力シート!$M1087<>\"\",入力シート!$M1087,入力シート!$N1087))","v":0},{"$f":"入力シート!I1087","v":0},{"$f":"入力シート!O1087","v":0},{"$f":"IF(入力シート!P1087=\"×\",\"P\",\"PN\")","v":"PN"},{"$f":"計算結果!#REF!","v":{"$error":"#REF!"}},{"$f":"計算結果!#REF!","v":{"$error":"#REF!"}},{"$f":"計算結果!#REF!","v":{"$error":"#REF!"}},{"$f":"計算結果!#REF!","v":{"$error":"#REF!"}},{"$f":"計算結果!#REF!","v":{"$error":"#REF!"}},{"$f":"計算結果!#REF!","v":{"$error":"#REF!"}},{"$f":"計算結果!#REF!","v":{"$error":"#REF!"}},{"$f":"計算結果!#REF!","v":{"$error":"#REF!"}},{"$f":"計算結果!#REF!","v":{"$error":"#REF!"}},{"$f":"計算結果!#REF!","v":{"$error":"#REF!"}}]
[{"$f":"入力シート!A1088","v":0},{"$f":"入力シート!G1088","v":0},{"$f":"入力シート!H1088","v":0},{"$f":"IF(入力シート!$J1088<>\"\",入力シート!$J1088,IF(入力シート!$L1088<>\"\",入力シート!$L1088,\"‐\"))","v":"‐"},{"$f":"IF(入力シート!$K1088<>\"\",入力シート!$K1088,IF(入力シート!$M1088<>\"\",入力シート!$M1088,入力シート!$N1088))","v":0},{"$f":"入力シート!I1088","v":0},{"$f":"入力シート!O1088","v":0},{"$f":"IF(入力シート!P1088=\"×\",\"P\",\"PN\")","v":"PN"},{"$f":"計算結果!#REF!","v":{"$error":"#REF!"}},{"$f":"計算結果!#REF!","v":{"$error":"#REF!"}},{"$f":"計算結果!#REF!","v":{"$error":"#REF!"}},{"$f":"計算結果!#REF!","v":{"$error":"#REF!"}},{"$f":"計算結果!#REF!","v":{"$error":"#REF!"}},{"$f":"計算結果!#REF!","v":{"$error":"#REF!"}},{"$f":"計算結果!#REF!","v":{"$error":"#REF!"}},{"$f":"計算結果!#REF!","v":{"$error":"#REF!"}},{"$f":"計算結果!#REF!","v":{"$error":"#REF!"}},{"$f":"計算結果!#REF!","v":{"$error":"#REF!"}}]
[{"$f":"入力シート!A1089","v":0},{"$f":"入力シート!G1089","v":0},{"$f":"入力シート!H1089","v":0},{"$f":"IF(入力シート!$J1089<>\"\",入力シート!$J1089,IF(入力シート!$L1089<>\"\",入力シート!$L1089,\"‐\"))","v":"‐"},{"$f":"IF(入力シート!$K1089<>\"\",入力シート!$K1089,IF(入力シート!$M1089<>\"\",入力シート!$M1089,入力シート!$N1089))","v":0},{"$f":"入力シート!I1089","v":0},{"$f":"入力シート!O1089","v":0},{"$f":"IF(入力シート!P1089=\"×\",\"P\",\"PN\")","v":"PN"},{"$f":"計算結果!#REF!","v":{"$error":"#REF!"}},{"$f":"計算結果!#REF!","v":{"$error":"#REF!"}},{"$f":"計算結果!#REF!","v":{"$error":"#REF!"}},{"$f":"計算結果!#REF!","v":{"$error":"#REF!"}},{"$f":"計算結果!#REF!","v":{"$error":"#REF!"}},{"$f":"計算結果!#REF!","v":{"$error":"#REF!"}},{"$f":"計算結果!#REF!","v":{"$error":"#REF!"}},{"$f":"計算結果!#REF!","v":{"$error":"#REF!"}},{"$f":"計算結果!#REF!","v":{"$error":"#REF!"}},{"$f":"計算結果!#REF!","v":{"$error":"#REF!"}}]
[{"$f":"入力シート!A1090","v":0},{"$f":"入力シート!G1090","v":0},{"$f":"入力シート!H1090","v":0},{"$f":"IF(入力シート!$J1090<>\"\",入力シート!$J1090,IF(入力シート!$L1090<>\"\",入力シート!$L1090,\"‐\"))","v":"‐"},{"$f":"IF(入力シート!$K1090<>\"\",入力シート!$K1090,IF(入力シート!$M1090<>\"\",入力シート!$M1090,入力シート!$N1090))","v":0},{"$f":"入力シート!I1090","v":0},{"$f":"入力シート!O1090","v":0},{"$f":"IF(入力シート!P1090=\"×\",\"P\",\"PN\")","v":"PN"},{"$f":"計算結果!#REF!","v":{"$error":"#REF!"}},{"$f":"計算結果!#REF!","v":{"$error":"#REF!"}},{"$f":"計算結果!#REF!","v":{"$error":"#REF!"}},{"$f":"計算結果!#REF!","v":{"$error":"#REF!"}},{"$f":"計算結果!#REF!","v":{"$error":"#REF!"}},{"$f":"計算結果!#REF!","v":{"$error":"#REF!"}},{"$f":"計算結果!#REF!","v":{"$error":"#REF!"}},{"$f":"計算結果!#REF!","v":{"$error":"#REF!"}},{"$f":"計算結果!#REF!","v":{"$error":"#REF!"}},{"$f":"計算結果!#REF!","v":{"$error":"#REF!"}}]
[{"$f":"入力シート!A1091","v":0},{"$f":"入力シート!G1091","v":0},{"$f":"入力シート!H1091","v":0},{"$f":"IF(入力シート!$J1091<>\"\",入力シート!$J1091,IF(入力シート!$L1091<>\"\",入力シート!$L1091,\"‐\"))","v":"‐"},{"$f":"IF(入力シート!$K1091<>\"\",入力シート!$K1091,IF(入力シート!$M1091<>\"\",入力シート!$M1091,入力シート!$N1091))","v":0},{"$f":"入力シート!I1091","v":0},{"$f":"入力シート!O1091","v":0},{"$f":"IF(入力シート!P1091=\"×\",\"P\",\"PN\")","v":"PN"},{"$f":"計算結果!#REF!","v":{"$error":"#REF!"}},{"$f":"計算結果!#REF!","v":{"$error":"#REF!"}},{"$f":"計算結果!#REF!","v":{"$error":"#REF!"}},{"$f":"計算結果!#REF!","v":{"$error":"#REF!"}},{"$f":"計算結果!#REF!","v":{"$error":"#REF!"}},{"$f":"計算結果!#REF!","v":{"$error":"#REF!"}},{"$f":"計算結果!#REF!","v":{"$error":"#REF!"}},{"$f":"計算結果!#REF!","v":{"$error":"#REF!"}},{"$f":"計算結果!#REF!","v":{"$error":"#REF!"}},{"$f":"計算結果!#REF!","v":{"$error":"#REF!"}}]
[{"$f":"入力シート!A1092","v":0},{"$f":"入力シート!G1092","v":0},{"$f":"入力シート!H1092","v":0},{"$f":"IF(入力シート!$J1092<>\"\",入力シート!$J1092,IF(入力シート!$L1092<>\"\",入力シート!$L1092,\"‐\"))","v":"‐"},{"$f":"IF(入力シート!$K1092<>\"\",入力シート!$K1092,IF(入力シート!$M1092<>\"\",入力シート!$M1092,入力シート!$N1092))","v":0},{"$f":"入力シート!I1092","v":0},{"$f":"入力シート!O1092","v":0},{"$f":"IF(入力シート!P1092=\"×\",\"P\",\"PN\")","v":"PN"},{"$f":"計算結果!#REF!","v":{"$error":"#REF!"}},{"$f":"計算結果!#REF!","v":{"$error":"#REF!"}},{"$f":"計算結果!#REF!","v":{"$error":"#REF!"}},{"$f":"計算結果!#REF!","v":{"$error":"#REF!"}},{"$f":"計算結果!#REF!","v":{"$error":"#REF!"}},{"$f":"計算結果!#REF!","v":{"$error":"#REF!"}},{"$f":"計算結果!#REF!","v":{"$error":"#REF!"}},{"$f":"計算結果!#REF!","v":{"$error":"#REF!"}},{"$f":"計算結果!#REF!","v":{"$error":"#REF!"}},{"$f":"計算結果!#REF!","v":{"$error":"#REF!"}}]
[{"$f":"入力シート!A1093","v":0},{"$f":"入力シート!G1093","v":0},{"$f":"入力シート!H1093","v":0},{"$f":"IF(入力シート!$J1093<>\"\",入力シート!$J1093,IF(入力シート!$L1093<>\"\",入力シート!$L1093,\"‐\"))","v":"‐"},{"$f":"IF(入力シート!$K1093<>\"\",入力シート!$K1093,IF(入力シート!$M1093<>\"\",入力シート!$M1093,入力シート!$N1093))","v":0},{"$f":"入力シート!I1093","v":0},{"$f":"入力シート!O1093","v":0},{"$f":"IF(入力シート!P1093=\"×\",\"P\",\"PN\")","v":"PN"},{"$f":"計算結果!#REF!","v":{"$error":"#REF!"}},{"$f":"計算結果!#REF!","v":{"$error":"#REF!"}},{"$f":"計算結果!#REF!","v":{"$error":"#REF!"}},{"$f":"計算結果!#REF!","v":{"$error":"#REF!"}},{"$f":"計算結果!#REF!","v":{"$error":"#REF!"}},{"$f":"計算結果!#REF!","v":{"$error":"#REF!"}},{"$f":"計算結果!#REF!","v":{"$error":"#REF!"}},{"$f":"計算結果!#REF!","v":{"$error":"#REF!"}},{"$f":"計算結果!#REF!","v":{"$error":"#REF!"}},{"$f":"計算結果!#REF!","v":{"$error":"#REF!"}}]
[{"$f":"入力シート!A1094","v":0},{"$f":"入力シート!G1094","v":0},{"$f":"入力シート!H1094","v":0},{"$f":"IF(入力シート!$J1094<>\"\",入力シート!$J1094,IF(入力シート!$L1094<>\"\",入力シート!$L1094,\"‐\"))","v":"‐"},{"$f":"IF(入力シート!$K1094<>\"\",入力シート!$K1094,IF(入力シート!$M1094<>\"\",入力シート!$M1094,入力シート!$N1094))","v":0},{"$f":"入力シート!I1094","v":0},{"$f":"入力シート!O1094","v":0},{"$f":"IF(入力シート!P1094=\"×\",\"P\",\"PN\")","v":"PN"},{"$f":"計算結果!#REF!","v":{"$error":"#REF!"}},{"$f":"計算結果!#REF!","v":{"$error":"#REF!"}},{"$f":"計算結果!#REF!","v":{"$error":"#REF!"}},{"$f":"計算結果!#REF!","v":{"$error":"#REF!"}},{"$f":"計算結果!#REF!","v":{"$error":"#REF!"}},{"$f":"計算結果!#REF!","v":{"$error":"#REF!"}},{"$f":"計算結果!#REF!","v":{"$error":"#REF!"}},{"$f":"計算結果!#REF!","v":{"$error":"#REF!"}},{"$f":"計算結果!#REF!","v":{"$error":"#REF!"}},{"$f":"計算結果!#REF!","v":{"$error":"#REF!"}}]
[{"$f":"入力シート!A1095","v":0},{"$f":"入力シート!G1095","v":0},{"$f":"入力シート!H1095","v":0},{"$f":"IF(入力シート!$J1095<>\"\",入力シート!$J1095,IF(入力シート!$L1095<>\"\",入力シート!$L1095,\"‐\"))","v":"‐"},{"$f":"IF(入力シート!$K1095<>\"\",入力シート!$K1095,IF(入力シート!$M1095<>\"\",入力シート!$M1095,入力シート!$N1095))","v":0},{"$f":"入力シート!I1095","v":0},{"$f":"入力シート!O1095","v":0},{"$f":"IF(入力シート!P1095=\"×\",\"P\",\"PN\")","v":"PN"},{"$f":"計算結果!#REF!","v":{"$error":"#REF!"}},{"$f":"計算結果!#REF!","v":{"$error":"#REF!"}},{"$f":"計算結果!#REF!","v":{"$error":"#REF!"}},{"$f":"計算結果!#REF!","v":{"$error":"#REF!"}},{"$f":"計算結果!#REF!","v":{"$error":"#REF!"}},{"$f":"計算結果!#REF!","v":{"$error":"#REF!"}},{"$f":"計算結果!#REF!","v":{"$error":"#REF!"}},{"$f":"計算結果!#REF!","v":{"$error":"#REF!"}},{"$f":"計算結果!#REF!","v":{"$error":"#REF!"}},{"$f":"計算結果!#REF!","v":{"$error":"#REF!"}}]
[{"$f":"入力シート!A1096","v":0},{"$f":"入力シート!G1096","v":0},{"$f":"入力シート!H1096","v":0},{"$f":"IF(入力シート!$J1096<>\"\",入力シート!$J1096,IF(入力シート!$L1096<>\"\",入力シート!$L1096,\"‐\"))","v":"‐"},{"$f":"IF(入力シート!$K1096<>\"\",入力シート!$K1096,IF(入力シート!$M1096<>\"\",入力シート!$M1096,入力シート!$N1096))","v":0},{"$f":"入力シート!I1096","v":0},{"$f":"入力シート!O1096","v":0},{"$f":"IF(入力シート!P1096=\"×\",\"P\",\"PN\")","v":"PN"},{"$f":"計算結果!#REF!","v":{"$error":"#REF!"}},{"$f":"計算結果!#REF!","v":{"$error":"#REF!"}},{"$f":"計算結果!#REF!","v":{"$error":"#REF!"}},{"$f":"計算結果!#REF!","v":{"$error":"#REF!"}},{"$f":"計算結果!#REF!","v":{"$error":"#REF!"}},{"$f":"計算結果!#REF!","v":{"$error":"#REF!"}},{"$f":"計算結果!#REF!","v":{"$error":"#REF!"}},{"$f":"計算結果!#REF!","v":{"$error":"#REF!"}},{"$f":"計算結果!#REF!","v":{"$error":"#REF!"}},{"$f":"計算結果!#REF!","v":{"$error":"#REF!"}}]
[{"$f":"入力シート!A1097","v":0},{"$f":"入力シート!G1097","v":0},{"$f":"入力シート!H1097","v":0},{"$f":"IF(入力シート!$J1097<>\"\",入力シート!$J1097,IF(入力シート!$L1097<>\"\",入力シート!$L1097,\"‐\"))","v":"‐"},{"$f":"IF(入力シート!$K1097<>\"\",入力シート!$K1097,IF(入力シート!$M1097<>\"\",入力シート!$M1097,入力シート!$N1097))","v":0},{"$f":"入力シート!I1097","v":0},{"$f":"入力シート!O1097","v":0},{"$f":"IF(入力シート!P1097=\"×\",\"P\",\"PN\")","v":"PN"},{"$f":"計算結果!#REF!","v":{"$error":"#REF!"}},{"$f":"計算結果!#REF!","v":{"$error":"#REF!"}},{"$f":"計算結果!#REF!","v":{"$error":"#REF!"}},{"$f":"計算結果!#REF!","v":{"$error":"#REF!"}},{"$f":"計算結果!#REF!","v":{"$error":"#REF!"}},{"$f":"計算結果!#REF!","v":{"$error":"#REF!"}},{"$f":"計算結果!#REF!","v":{"$error":"#REF!"}},{"$f":"計算結果!#REF!","v":{"$error":"#REF!"}},{"$f":"計算結果!#REF!","v":{"$error":"#REF!"}},{"$f":"計算結果!#REF!","v":{"$error":"#REF!"}}]
[{"$f":"入力シート!A1098","v":0},{"$f":"入力シート!G1098","v":0},{"$f":"入力シート!H1098","v":0},{"$f":"IF(入力シート!$J1098<>\"\",入力シート!$J1098,IF(入力シート!$L1098<>\"\",入力シート!$L1098,\"‐\"))","v":"‐"},{"$f":"IF(入力シート!$K1098<>\"\",入力シート!$K1098,IF(入力シート!$M1098<>\"\",入力シート!$M1098,入力シート!$N1098))","v":0},{"$f":"入力シート!I1098","v":0},{"$f":"入力シート!O1098","v":0},{"$f":"IF(入力シート!P1098=\"×\",\"P\",\"PN\")","v":"PN"},{"$f":"計算結果!#REF!","v":{"$error":"#REF!"}},{"$f":"計算結果!#REF!","v":{"$error":"#REF!"}},{"$f":"計算結果!#REF!","v":{"$error":"#REF!"}},{"$f":"計算結果!#REF!","v":{"$error":"#REF!"}},{"$f":"計算結果!#REF!","v":{"$error":"#REF!"}},{"$f":"計算結果!#REF!","v":{"$error":"#REF!"}},{"$f":"計算結果!#REF!","v":{"$error":"#REF!"}},{"$f":"計算結果!#REF!","v":{"$error":"#REF!"}},{"$f":"計算結果!#REF!","v":{"$error":"#REF!"}},{"$f":"計算結果!#REF!","v":{"$error":"#REF!"}}]
[{"$f":"入力シート!A1099","v":0},{"$f":"入力シート!G1099","v":0},{"$f":"入力シート!H1099","v":0},{"$f":"IF(入力シート!$J1099<>\"\",入力シート!$J1099,IF(入力シート!$L1099<>\"\",入力シート!$L1099,\"‐\"))","v":"‐"},{"$f":"IF(入力シート!$K1099<>\"\",入力シート!$K1099,IF(入力シート!$M1099<>\"\",入力シート!$M1099,入力シート!$N1099))","v":0},{"$f":"入力シート!I1099","v":0},{"$f":"入力シート!O1099","v":0},{"$f":"IF(入力シート!P1099=\"×\",\"P\",\"PN\")","v":"PN"},{"$f":"計算結果!#REF!","v":{"$error":"#REF!"}},{"$f":"計算結果!#REF!","v":{"$error":"#REF!"}},{"$f":"計算結果!#REF!","v":{"$error":"#REF!"}},{"$f":"計算結果!#REF!","v":{"$error":"#REF!"}},{"$f":"計算結果!#REF!","v":{"$error":"#REF!"}},{"$f":"計算結果!#REF!","v":{"$error":"#REF!"}},{"$f":"計算結果!#REF!","v":{"$error":"#REF!"}},{"$f":"計算結果!#REF!","v":{"$error":"#REF!"}},{"$f":"計算結果!#REF!","v":{"$error":"#REF!"}},{"$f":"計算結果!#REF!","v":{"$error":"#REF!"}}]
[{"$f":"入力シート!A1100","v":0},{"$f":"入力シート!G1100","v":0},{"$f":"入力シート!H1100","v":0},{"$f":"IF(入力シート!$J1100<>\"\",入力シート!$J1100,IF(入力シート!$L1100<>\"\",入力シート!$L1100,\"‐\"))","v":"‐"},{"$f":"IF(入力シート!$K1100<>\"\",入力シート!$K1100,IF(入力シート!$M1100<>\"\",入力シート!$M1100,入力シート!$N1100))","v":0},{"$f":"入力シート!I1100","v":0},{"$f":"入力シート!O1100","v":0},{"$f":"IF(入力シート!P1100=\"×\",\"P\",\"PN\")","v":"PN"},{"$f":"計算結果!#REF!","v":{"$error":"#REF!"}},{"$f":"計算結果!#REF!","v":{"$error":"#REF!"}},{"$f":"計算結果!#REF!","v":{"$error":"#REF!"}},{"$f":"計算結果!#REF!","v":{"$error":"#REF!"}},{"$f":"計算結果!#REF!","v":{"$error":"#REF!"}},{"$f":"計算結果!#REF!","v":{"$error":"#REF!"}},{"$f":"計算結果!#REF!","v":{"$error":"#REF!"}},{"$f":"計算結果!#REF!","v":{"$error":"#REF!"}},{"$f":"計算結果!#REF!","v":{"$error":"#REF!"}},{"$f":"計算結果!#REF!","v":{"$error":"#REF!"}}]
[{"$f":"入力シート!A1101","v":0},{"$f":"入力シート!G1101","v":0},{"$f":"入力シート!H1101","v":0},{"$f":"IF(入力シート!$J1101<>\"\",入力シート!$J1101,IF(入力シート!$L1101<>\"\",入力シート!$L1101,\"‐\"))","v":"‐"},{"$f":"IF(入力シート!$K1101<>\"\",入力シート!$K1101,IF(入力シート!$M1101<>\"\",入力シート!$M1101,入力シート!$N1101))","v":0},{"$f":"入力シート!I1101","v":0},{"$f":"入力シート!O1101","v":0},{"$f":"IF(入力シート!P1101=\"×\",\"P\",\"PN\")","v":"PN"},{"$f":"計算結果!#REF!","v":{"$error":"#REF!"}},{"$f":"計算結果!#REF!","v":{"$error":"#REF!"}},{"$f":"計算結果!#REF!","v":{"$error":"#REF!"}},{"$f":"計算結果!#REF!","v":{"$error":"#REF!"}},{"$f":"計算結果!#REF!","v":{"$error":"#REF!"}},{"$f":"計算結果!#REF!","v":{"$error":"#REF!"}},{"$f":"計算結果!#REF!","v":{"$error":"#REF!"}},{"$f":"計算結果!#REF!","v":{"$error":"#REF!"}},{"$f":"計算結果!#REF!","v":{"$error":"#REF!"}},{"$f":"計算結果!#REF!","v":{"$error":"#REF!"}}]
[{"$f":"入力シート!A1102","v":0},{"$f":"入力シート!G1102","v":0},{"$f":"入力シート!H1102","v":0},{"$f":"IF(入力シート!$J1102<>\"\",入力シート!$J1102,IF(入力シート!$L1102<>\"\",入力シート!$L1102,\"‐\"))","v":"‐"},{"$f":"IF(入力シート!$K1102<>\"\",入力シート!$K1102,IF(入力シート!$M1102<>\"\",入力シート!$M1102,入力シート!$N1102))","v":0},{"$f":"入力シート!I1102","v":0},{"$f":"入力シート!O1102","v":0},{"$f":"IF(入力シート!P1102=\"×\",\"P\",\"PN\")","v":"PN"},{"$f":"計算結果!#REF!","v":{"$error":"#REF!"}},{"$f":"計算結果!#REF!","v":{"$error":"#REF!"}},{"$f":"計算結果!#REF!","v":{"$error":"#REF!"}},{"$f":"計算結果!#REF!","v":{"$error":"#REF!"}},{"$f":"計算結果!#REF!","v":{"$error":"#REF!"}},{"$f":"計算結果!#REF!","v":{"$error":"#REF!"}},{"$f":"計算結果!#REF!","v":{"$error":"#REF!"}},{"$f":"計算結果!#REF!","v":{"$error":"#REF!"}},{"$f":"計算結果!#REF!","v":{"$error":"#REF!"}},{"$f":"計算結果!#REF!","v":{"$error":"#REF!"}}]
[{"$f":"入力シート!A1103","v":0},{"$f":"入力シート!G1103","v":0},{"$f":"入力シート!H1103","v":0},{"$f":"IF(入力シート!$J1103<>\"\",入力シート!$J1103,IF(入力シート!$L1103<>\"\",入力シート!$L1103,\"‐\"))","v":"‐"},{"$f":"IF(入力シート!$K1103<>\"\",入力シート!$K1103,IF(入力シート!$M1103<>\"\",入力シート!$M1103,入力シート!$N1103))","v":0},{"$f":"入力シート!I1103","v":0},{"$f":"入力シート!O1103","v":0},{"$f":"IF(入力シート!P1103=\"×\",\"P\",\"PN\")","v":"PN"},{"$f":"計算結果!#REF!","v":{"$error":"#REF!"}},{"$f":"計算結果!#REF!","v":{"$error":"#REF!"}},{"$f":"計算結果!#REF!","v":{"$error":"#REF!"}},{"$f":"計算結果!#REF!","v":{"$error":"#REF!"}},{"$f":"計算結果!#REF!","v":{"$error":"#REF!"}},{"$f":"計算結果!#REF!","v":{"$error":"#REF!"}},{"$f":"計算結果!#REF!","v":{"$error":"#REF!"}},{"$f":"計算結果!#REF!","v":{"$error":"#REF!"}},{"$f":"計算結果!#REF!","v":{"$error":"#REF!"}},{"$f":"計算結果!#REF!","v":{"$error":"#REF!"}}]
[{"$f":"入力シート!A1104","v":0},{"$f":"入力シート!G1104","v":0},{"$f":"入力シート!H1104","v":0},{"$f":"IF(入力シート!$J1104<>\"\",入力シート!$J1104,IF(入力シート!$L1104<>\"\",入力シート!$L1104,\"‐\"))","v":"‐"},{"$f":"IF(入力シート!$K1104<>\"\",入力シート!$K1104,IF(入力シート!$M1104<>\"\",入力シート!$M1104,入力シート!$N1104))","v":0},{"$f":"入力シート!I1104","v":0},{"$f":"入力シート!O1104","v":0},{"$f":"IF(入力シート!P1104=\"×\",\"P\",\"PN\")","v":"PN"},{"$f":"計算結果!#REF!","v":{"$error":"#REF!"}},{"$f":"計算結果!#REF!","v":{"$error":"#REF!"}},{"$f":"計算結果!#REF!","v":{"$error":"#REF!"}},{"$f":"計算結果!#REF!","v":{"$error":"#REF!"}},{"$f":"計算結果!#REF!","v":{"$error":"#REF!"}},{"$f":"計算結果!#REF!","v":{"$error":"#REF!"}},{"$f":"計算結果!#REF!","v":{"$error":"#REF!"}},{"$f":"計算結果!#REF!","v":{"$error":"#REF!"}},{"$f":"計算結果!#REF!","v":{"$error":"#REF!"}},{"$f":"計算結果!#REF!","v":{"$error":"#REF!"}}]
[{"$f":"入力シート!A1105","v":0},{"$f":"入力シート!G1105","v":0},{"$f":"入力シート!H1105","v":0},{"$f":"IF(入力シート!$J1105<>\"\",入力シート!$J1105,IF(入力シート!$L1105<>\"\",入力シート!$L1105,\"‐\"))","v":"‐"},{"$f":"IF(入力シート!$K1105<>\"\",入力シート!$K1105,IF(入力シート!$M1105<>\"\",入力シート!$M1105,入力シート!$N1105))","v":0},{"$f":"入力シート!I1105","v":0},{"$f":"入力シート!O1105","v":0},{"$f":"IF(入力シート!P1105=\"×\",\"P\",\"PN\")","v":"PN"},{"$f":"計算結果!#REF!","v":{"$error":"#REF!"}},{"$f":"計算結果!#REF!","v":{"$error":"#REF!"}},{"$f":"計算結果!#REF!","v":{"$error":"#REF!"}},{"$f":"計算結果!#REF!","v":{"$error":"#REF!"}},{"$f":"計算結果!#REF!","v":{"$error":"#REF!"}},{"$f":"計算結果!#REF!","v":{"$error":"#REF!"}},{"$f":"計算結果!#REF!","v":{"$error":"#REF!"}},{"$f":"計算結果!#REF!","v":{"$error":"#REF!"}},{"$f":"計算結果!#REF!","v":{"$error":"#REF!"}},{"$f":"計算結果!#REF!","v":{"$error":"#REF!"}}]
[{"$f":"入力シート!A1106","v":0},{"$f":"入力シート!G1106","v":0},{"$f":"入力シート!H1106","v":0},{"$f":"IF(入力シート!$J1106<>\"\",入力シート!$J1106,IF(入力シート!$L1106<>\"\",入力シート!$L1106,\"‐\"))","v":"‐"},{"$f":"IF(入力シート!$K1106<>\"\",入力シート!$K1106,IF(入力シート!$M1106<>\"\",入力シート!$M1106,入力シート!$N1106))","v":0},{"$f":"入力シート!I1106","v":0},{"$f":"入力シート!O1106","v":0},{"$f":"IF(入力シート!P1106=\"×\",\"P\",\"PN\")","v":"PN"},{"$f":"計算結果!#REF!","v":{"$error":"#REF!"}},{"$f":"計算結果!#REF!","v":{"$error":"#REF!"}},{"$f":"計算結果!#REF!","v":{"$error":"#REF!"}},{"$f":"計算結果!#REF!","v":{"$error":"#REF!"}},{"$f":"計算結果!#REF!","v":{"$error":"#REF!"}},{"$f":"計算結果!#REF!","v":{"$error":"#REF!"}},{"$f":"計算結果!#REF!","v":{"$error":"#REF!"}},{"$f":"計算結果!#REF!","v":{"$error":"#REF!"}},{"$f":"計算結果!#REF!","v":{"$error":"#REF!"}},{"$f":"計算結果!#REF!","v":{"$error":"#REF!"}}]
[{"$f":"入力シート!A1107","v":0},{"$f":"入力シート!G1107","v":0},{"$f":"入力シート!H1107","v":0},{"$f":"IF(入力シート!$J1107<>\"\",入力シート!$J1107,IF(入力シート!$L1107<>\"\",入力シート!$L1107,\"‐\"))","v":"‐"},{"$f":"IF(入力シート!$K1107<>\"\",入力シート!$K1107,IF(入力シート!$M1107<>\"\",入力シート!$M1107,入力シート!$N1107))","v":0},{"$f":"入力シート!I1107","v":0},{"$f":"入力シート!O1107","v":0},{"$f":"IF(入力シート!P1107=\"×\",\"P\",\"PN\")","v":"PN"},{"$f":"計算結果!#REF!","v":{"$error":"#REF!"}},{"$f":"計算結果!#REF!","v":{"$error":"#REF!"}},{"$f":"計算結果!#REF!","v":{"$error":"#REF!"}},{"$f":"計算結果!#REF!","v":{"$error":"#REF!"}},{"$f":"計算結果!#REF!","v":{"$error":"#REF!"}},{"$f":"計算結果!#REF!","v":{"$error":"#REF!"}},{"$f":"計算結果!#REF!","v":{"$error":"#REF!"}},{"$f":"計算結果!#REF!","v":{"$error":"#REF!"}},{"$f":"計算結果!#REF!","v":{"$error":"#REF!"}},{"$f":"計算結果!#REF!","v":{"$error":"#REF!"}}]
[{"$f":"入力シート!A1108","v":0},{"$f":"入力シート!G1108","v":0},{"$f":"入力シート!H1108","v":0},{"$f":"IF(入力シート!$J1108<>\"\",入力シート!$J1108,IF(入力シート!$L1108<>\"\",入力シート!$L1108,\"‐\"))","v":"‐"},{"$f":"IF(入力シート!$K1108<>\"\",入力シート!$K1108,IF(入力シート!$M1108<>\"\",入力シート!$M1108,入力シート!$N1108))","v":0},{"$f":"入力シート!I1108","v":0},{"$f":"入力シート!O1108","v":0},{"$f":"IF(入力シート!P1108=\"×\",\"P\",\"PN\")","v":"PN"},{"$f":"計算結果!#REF!","v":{"$error":"#REF!"}},{"$f":"計算結果!#REF!","v":{"$error":"#REF!"}},{"$f":"計算結果!#REF!","v":{"$error":"#REF!"}},{"$f":"計算結果!#REF!","v":{"$error":"#REF!"}},{"$f":"計算結果!#REF!","v":{"$error":"#REF!"}},{"$f":"計算結果!#REF!","v":{"$error":"#REF!"}},{"$f":"計算結果!#REF!","v":{"$error":"#REF!"}},{"$f":"計算結果!#REF!","v":{"$error":"#REF!"}},{"$f":"計算結果!#REF!","v":{"$error":"#REF!"}},{"$f":"計算結果!#REF!","v":{"$error":"#REF!"}}]
[{"$f":"入力シート!A1109","v":0},{"$f":"入力シート!G1109","v":0},{"$f":"入力シート!H1109","v":0},{"$f":"IF(入力シート!$J1109<>\"\",入力シート!$J1109,IF(入力シート!$L1109<>\"\",入力シート!$L1109,\"‐\"))","v":"‐"},{"$f":"IF(入力シート!$K1109<>\"\",入力シート!$K1109,IF(入力シート!$M1109<>\"\",入力シート!$M1109,入力シート!$N1109))","v":0},{"$f":"入力シート!I1109","v":0},{"$f":"入力シート!O1109","v":0},{"$f":"IF(入力シート!P1109=\"×\",\"P\",\"PN\")","v":"PN"},{"$f":"計算結果!#REF!","v":{"$error":"#REF!"}},{"$f":"計算結果!#REF!","v":{"$error":"#REF!"}},{"$f":"計算結果!#REF!","v":{"$error":"#REF!"}},{"$f":"計算結果!#REF!","v":{"$error":"#REF!"}},{"$f":"計算結果!#REF!","v":{"$error":"#REF!"}},{"$f":"計算結果!#REF!","v":{"$error":"#REF!"}},{"$f":"計算結果!#REF!","v":{"$error":"#REF!"}},{"$f":"計算結果!#REF!","v":{"$error":"#REF!"}},{"$f":"計算結果!#REF!","v":{"$error":"#REF!"}},{"$f":"計算結果!#REF!","v":{"$error":"#REF!"}}]
[{"$f":"入力シート!A1110","v":0},{"$f":"入力シート!G1110","v":0},{"$f":"入力シート!H1110","v":0},{"$f":"IF(入力シート!$J1110<>\"\",入力シート!$J1110,IF(入力シート!$L1110<>\"\",入力シート!$L1110,\"‐\"))","v":"‐"},{"$f":"IF(入力シート!$K1110<>\"\",入力シート!$K1110,IF(入力シート!$M1110<>\"\",入力シート!$M1110,入力シート!$N1110))","v":0},{"$f":"入力シート!I1110","v":0},{"$f":"入力シート!O1110","v":0},{"$f":"IF(入力シート!P1110=\"×\",\"P\",\"PN\")","v":"PN"},{"$f":"計算結果!#REF!","v":{"$error":"#REF!"}},{"$f":"計算結果!#REF!","v":{"$error":"#REF!"}},{"$f":"計算結果!#REF!","v":{"$error":"#REF!"}},{"$f":"計算結果!#REF!","v":{"$error":"#REF!"}},{"$f":"計算結果!#REF!","v":{"$error":"#REF!"}},{"$f":"計算結果!#REF!","v":{"$error":"#REF!"}},{"$f":"計算結果!#REF!","v":{"$error":"#REF!"}},{"$f":"計算結果!#REF!","v":{"$error":"#REF!"}},{"$f":"計算結果!#REF!","v":{"$error":"#REF!"}},{"$f":"計算結果!#REF!","v":{"$error":"#REF!"}}]
[{"$f":"入力シート!A1111","v":0},{"$f":"入力シート!G1111","v":0},{"$f":"入力シート!H1111","v":0},{"$f":"IF(入力シート!$J1111<>\"\",入力シート!$J1111,IF(入力シート!$L1111<>\"\",入力シート!$L1111,\"‐\"))","v":"‐"},{"$f":"IF(入力シート!$K1111<>\"\",入力シート!$K1111,IF(入力シート!$M1111<>\"\",入力シート!$M1111,入力シート!$N1111))","v":0},{"$f":"入力シート!I1111","v":0},{"$f":"入力シート!O1111","v":0},{"$f":"IF(入力シート!P1111=\"×\",\"P\",\"PN\")","v":"PN"},{"$f":"計算結果!#REF!","v":{"$error":"#REF!"}},{"$f":"計算結果!#REF!","v":{"$error":"#REF!"}},{"$f":"計算結果!#REF!","v":{"$error":"#REF!"}},{"$f":"計算結果!#REF!","v":{"$error":"#REF!"}},{"$f":"計算結果!#REF!","v":{"$error":"#REF!"}},{"$f":"計算結果!#REF!","v":{"$error":"#REF!"}},{"$f":"計算結果!#REF!","v":{"$error":"#REF!"}},{"$f":"計算結果!#REF!","v":{"$error":"#REF!"}},{"$f":"計算結果!#REF!","v":{"$error":"#REF!"}},{"$f":"計算結果!#REF!","v":{"$error":"#REF!"}}]
[{"$f":"入力シート!A1112","v":0},{"$f":"入力シート!G1112","v":0},{"$f":"入力シート!H1112","v":0},{"$f":"IF(入力シート!$J1112<>\"\",入力シート!$J1112,IF(入力シート!$L1112<>\"\",入力シート!$L1112,\"‐\"))","v":"‐"},{"$f":"IF(入力シート!$K1112<>\"\",入力シート!$K1112,IF(入力シート!$M1112<>\"\",入力シート!$M1112,入力シート!$N1112))","v":0},{"$f":"入力シート!I1112","v":0},{"$f":"入力シート!O1112","v":0},{"$f":"IF(入力シート!P1112=\"×\",\"P\",\"PN\")","v":"PN"},{"$f":"計算結果!#REF!","v":{"$error":"#REF!"}},{"$f":"計算結果!#REF!","v":{"$error":"#REF!"}},{"$f":"計算結果!#REF!","v":{"$error":"#REF!"}},{"$f":"計算結果!#REF!","v":{"$error":"#REF!"}},{"$f":"計算結果!#REF!","v":{"$error":"#REF!"}},{"$f":"計算結果!#REF!","v":{"$error":"#REF!"}},{"$f":"計算結果!#REF!","v":{"$error":"#REF!"}},{"$f":"計算結果!#REF!","v":{"$error":"#REF!"}},{"$f":"計算結果!#REF!","v":{"$error":"#REF!"}},{"$f":"計算結果!#REF!","v":{"$error":"#REF!"}}]
[{"$f":"入力シート!A1113","v":0},{"$f":"入力シート!G1113","v":0},{"$f":"入力シート!H1113","v":0},{"$f":"IF(入力シート!$J1113<>\"\",入力シート!$J1113,IF(入力シート!$L1113<>\"\",入力シート!$L1113,\"‐\"))","v":"‐"},{"$f":"IF(入力シート!$K1113<>\"\",入力シート!$K1113,IF(入力シート!$M1113<>\"\",入力シート!$M1113,入力シート!$N1113))","v":0},{"$f":"入力シート!I1113","v":0},{"$f":"入力シート!O1113","v":0},{"$f":"IF(入力シート!P1113=\"×\",\"P\",\"PN\")","v":"PN"},{"$f":"計算結果!#REF!","v":{"$error":"#REF!"}},{"$f":"計算結果!#REF!","v":{"$error":"#REF!"}},{"$f":"計算結果!#REF!","v":{"$error":"#REF!"}},{"$f":"計算結果!#REF!","v":{"$error":"#REF!"}},{"$f":"計算結果!#REF!","v":{"$error":"#REF!"}},{"$f":"計算結果!#REF!","v":{"$error":"#REF!"}},{"$f":"計算結果!#REF!","v":{"$error":"#REF!"}},{"$f":"計算結果!#REF!","v":{"$error":"#REF!"}},{"$f":"計算結果!#REF!","v":{"$error":"#REF!"}},{"$f":"計算結果!#REF!","v":{"$error":"#REF!"}}]
[{"$f":"入力シート!A1114","v":0},{"$f":"入力シート!G1114","v":0},{"$f":"入力シート!H1114","v":0},{"$f":"IF(入力シート!$J1114<>\"\",入力シート!$J1114,IF(入力シート!$L1114<>\"\",入力シート!$L1114,\"‐\"))","v":"‐"},{"$f":"IF(入力シート!$K1114<>\"\",入力シート!$K1114,IF(入力シート!$M1114<>\"\",入力シート!$M1114,入力シート!$N1114))","v":0},{"$f":"入力シート!I1114","v":0},{"$f":"入力シート!O1114","v":0},{"$f":"IF(入力シート!P1114=\"×\",\"P\",\"PN\")","v":"PN"},{"$f":"計算結果!#REF!","v":{"$error":"#REF!"}},{"$f":"計算結果!#REF!","v":{"$error":"#REF!"}},{"$f":"計算結果!#REF!","v":{"$error":"#REF!"}},{"$f":"計算結果!#REF!","v":{"$error":"#REF!"}},{"$f":"計算結果!#REF!","v":{"$error":"#REF!"}},{"$f":"計算結果!#REF!","v":{"$error":"#REF!"}},{"$f":"計算結果!#REF!","v":{"$error":"#REF!"}},{"$f":"計算結果!#REF!","v":{"$error":"#REF!"}},{"$f":"計算結果!#REF!","v":{"$error":"#REF!"}},{"$f":"計算結果!#REF!","v":{"$error":"#REF!"}}]
[{"$f":"入力シート!A1115","v":0},{"$f":"入力シート!G1115","v":0},{"$f":"入力シート!H1115","v":0},{"$f":"IF(入力シート!$J1115<>\"\",入力シート!$J1115,IF(入力シート!$L1115<>\"\",入力シート!$L1115,\"‐\"))","v":"‐"},{"$f":"IF(入力シート!$K1115<>\"\",入力シート!$K1115,IF(入力シート!$M1115<>\"\",入力シート!$M1115,入力シート!$N1115))","v":0},{"$f":"入力シート!I1115","v":0},{"$f":"入力シート!O1115","v":0},{"$f":"IF(入力シート!P1115=\"×\",\"P\",\"PN\")","v":"PN"},{"$f":"計算結果!#REF!","v":{"$error":"#REF!"}},{"$f":"計算結果!#REF!","v":{"$error":"#REF!"}},{"$f":"計算結果!#REF!","v":{"$error":"#REF!"}},{"$f":"計算結果!#REF!","v":{"$error":"#REF!"}},{"$f":"計算結果!#REF!","v":{"$error":"#REF!"}},{"$f":"計算結果!#REF!","v":{"$error":"#REF!"}},{"$f":"計算結果!#REF!","v":{"$error":"#REF!"}},{"$f":"計算結果!#REF!","v":{"$error":"#REF!"}},{"$f":"計算結果!#REF!","v":{"$error":"#REF!"}},{"$f":"計算結果!#REF!","v":{"$error":"#REF!"}}]
[{"$f":"入力シート!A1116","v":0},{"$f":"入力シート!G1116","v":0},{"$f":"入力シート!H1116","v":0},{"$f":"IF(入力シート!$J1116<>\"\",入力シート!$J1116,IF(入力シート!$L1116<>\"\",入力シート!$L1116,\"‐\"))","v":"‐"},{"$f":"IF(入力シート!$K1116<>\"\",入力シート!$K1116,IF(入力シート!$M1116<>\"\",入力シート!$M1116,入力シート!$N1116))","v":0},{"$f":"入力シート!I1116","v":0},{"$f":"入力シート!O1116","v":0},{"$f":"IF(入力シート!P1116=\"×\",\"P\",\"PN\")","v":"PN"},{"$f":"計算結果!#REF!","v":{"$error":"#REF!"}},{"$f":"計算結果!#REF!","v":{"$error":"#REF!"}},{"$f":"計算結果!#REF!","v":{"$error":"#REF!"}},{"$f":"計算結果!#REF!","v":{"$error":"#REF!"}},{"$f":"計算結果!#REF!","v":{"$error":"#REF!"}},{"$f":"計算結果!#REF!","v":{"$error":"#REF!"}},{"$f":"計算結果!#REF!","v":{"$error":"#REF!"}},{"$f":"計算結果!#REF!","v":{"$error":"#REF!"}},{"$f":"計算結果!#REF!","v":{"$error":"#REF!"}},{"$f":"計算結果!#REF!","v":{"$error":"#REF!"}}]
[{"$f":"入力シート!A1117","v":0},{"$f":"入力シート!G1117","v":0},{"$f":"入力シート!H1117","v":0},{"$f":"IF(入力シート!$J1117<>\"\",入力シート!$J1117,IF(入力シート!$L1117<>\"\",入力シート!$L1117,\"‐\"))","v":"‐"},{"$f":"IF(入力シート!$K1117<>\"\",入力シート!$K1117,IF(入力シート!$M1117<>\"\",入力シート!$M1117,入力シート!$N1117))","v":0},{"$f":"入力シート!I1117","v":0},{"$f":"入力シート!O1117","v":0},{"$f":"IF(入力シート!P1117=\"×\",\"P\",\"PN\")","v":"PN"},{"$f":"計算結果!#REF!","v":{"$error":"#REF!"}},{"$f":"計算結果!#REF!","v":{"$error":"#REF!"}},{"$f":"計算結果!#REF!","v":{"$error":"#REF!"}},{"$f":"計算結果!#REF!","v":{"$error":"#REF!"}},{"$f":"計算結果!#REF!","v":{"$error":"#REF!"}},{"$f":"計算結果!#REF!","v":{"$error":"#REF!"}},{"$f":"計算結果!#REF!","v":{"$error":"#REF!"}},{"$f":"計算結果!#REF!","v":{"$error":"#REF!"}},{"$f":"計算結果!#REF!","v":{"$error":"#REF!"}},{"$f":"計算結果!#REF!","v":{"$error":"#REF!"}}]
[{"$f":"入力シート!A1118","v":0},{"$f":"入力シート!G1118","v":0},{"$f":"入力シート!H1118","v":0},{"$f":"IF(入力シート!$J1118<>\"\",入力シート!$J1118,IF(入力シート!$L1118<>\"\",入力シート!$L1118,\"‐\"))","v":"‐"},{"$f":"IF(入力シート!$K1118<>\"\",入力シート!$K1118,IF(入力シート!$M1118<>\"\",入力シート!$M1118,入力シート!$N1118))","v":0},{"$f":"入力シート!I1118","v":0},{"$f":"入力シート!O1118","v":0},{"$f":"IF(入力シート!P1118=\"×\",\"P\",\"PN\")","v":"PN"},{"$f":"計算結果!#REF!","v":{"$error":"#REF!"}},{"$f":"計算結果!#REF!","v":{"$error":"#REF!"}},{"$f":"計算結果!#REF!","v":{"$error":"#REF!"}},{"$f":"計算結果!#REF!","v":{"$error":"#REF!"}},{"$f":"計算結果!#REF!","v":{"$error":"#REF!"}},{"$f":"計算結果!#REF!","v":{"$error":"#REF!"}},{"$f":"計算結果!#REF!","v":{"$error":"#REF!"}},{"$f":"計算結果!#REF!","v":{"$error":"#REF!"}},{"$f":"計算結果!#REF!","v":{"$error":"#REF!"}},{"$f":"計算結果!#REF!","v":{"$error":"#REF!"}}]
[{"$f":"入力シート!A1119","v":0},{"$f":"入力シート!G1119","v":0},{"$f":"入力シート!H1119","v":0},{"$f":"IF(入力シート!$J1119<>\"\",入力シート!$J1119,IF(入力シート!$L1119<>\"\",入力シート!$L1119,\"‐\"))","v":"‐"},{"$f":"IF(入力シート!$K1119<>\"\",入力シート!$K1119,IF(入力シート!$M1119<>\"\",入力シート!$M1119,入力シート!$N1119))","v":0},{"$f":"入力シート!I1119","v":0},{"$f":"入力シート!O1119","v":0},{"$f":"IF(入力シート!P1119=\"×\",\"P\",\"PN\")","v":"PN"},{"$f":"計算結果!#REF!","v":{"$error":"#REF!"}},{"$f":"計算結果!#REF!","v":{"$error":"#REF!"}},{"$f":"計算結果!#REF!","v":{"$error":"#REF!"}},{"$f":"計算結果!#REF!","v":{"$error":"#REF!"}},{"$f":"計算結果!#REF!","v":{"$error":"#REF!"}},{"$f":"計算結果!#REF!","v":{"$error":"#REF!"}},{"$f":"計算結果!#REF!","v":{"$error":"#REF!"}},{"$f":"計算結果!#REF!","v":{"$error":"#REF!"}},{"$f":"計算結果!#REF!","v":{"$error":"#REF!"}},{"$f":"計算結果!#REF!","v":{"$error":"#REF!"}}]
[{"$f":"入力シート!A1120","v":0},{"$f":"入力シート!G1120","v":0},{"$f":"入力シート!H1120","v":0},{"$f":"IF(入力シート!$J1120<>\"\",入力シート!$J1120,IF(入力シート!$L1120<>\"\",入力シート!$L1120,\"‐\"))","v":"‐"},{"$f":"IF(入力シート!$K1120<>\"\",入力シート!$K1120,IF(入力シート!$M1120<>\"\",入力シート!$M1120,入力シート!$N1120))","v":0},{"$f":"入力シート!I1120","v":0},{"$f":"入力シート!O1120","v":0},{"$f":"IF(入力シート!P1120=\"×\",\"P\",\"PN\")","v":"PN"},{"$f":"計算結果!#REF!","v":{"$error":"#REF!"}},{"$f":"計算結果!#REF!","v":{"$error":"#REF!"}},{"$f":"計算結果!#REF!","v":{"$error":"#REF!"}},{"$f":"計算結果!#REF!","v":{"$error":"#REF!"}},{"$f":"計算結果!#REF!","v":{"$error":"#REF!"}},{"$f":"計算結果!#REF!","v":{"$error":"#REF!"}},{"$f":"計算結果!#REF!","v":{"$error":"#REF!"}},{"$f":"計算結果!#REF!","v":{"$error":"#REF!"}},{"$f":"計算結果!#REF!","v":{"$error":"#REF!"}},{"$f":"計算結果!#REF!","v":{"$error":"#REF!"}}]
[{"$f":"入力シート!A1121","v":0},{"$f":"入力シート!G1121","v":0},{"$f":"入力シート!H1121","v":0},{"$f":"IF(入力シート!$J1121<>\"\",入力シート!$J1121,IF(入力シート!$L1121<>\"\",入力シート!$L1121,\"‐\"))","v":"‐"},{"$f":"IF(入力シート!$K1121<>\"\",入力シート!$K1121,IF(入力シート!$M1121<>\"\",入力シート!$M1121,入力シート!$N1121))","v":0},{"$f":"入力シート!I1121","v":0},{"$f":"入力シート!O1121","v":0},{"$f":"IF(入力シート!P1121=\"×\",\"P\",\"PN\")","v":"PN"},{"$f":"計算結果!#REF!","v":{"$error":"#REF!"}},{"$f":"計算結果!#REF!","v":{"$error":"#REF!"}},{"$f":"計算結果!#REF!","v":{"$error":"#REF!"}},{"$f":"計算結果!#REF!","v":{"$error":"#REF!"}},{"$f":"計算結果!#REF!","v":{"$error":"#REF!"}},{"$f":"計算結果!#REF!","v":{"$error":"#REF!"}},{"$f":"計算結果!#REF!","v":{"$error":"#REF!"}},{"$f":"計算結果!#REF!","v":{"$error":"#REF!"}},{"$f":"計算結果!#REF!","v":{"$error":"#REF!"}},{"$f":"計算結果!#REF!","v":{"$error":"#REF!"}}]
[{"$f":"入力シート!A1122","v":0},{"$f":"入力シート!G1122","v":0},{"$f":"入力シート!H1122","v":0},{"$f":"IF(入力シート!$J1122<>\"\",入力シート!$J1122,IF(入力シート!$L1122<>\"\",入力シート!$L1122,\"‐\"))","v":"‐"},{"$f":"IF(入力シート!$K1122<>\"\",入力シート!$K1122,IF(入力シート!$M1122<>\"\",入力シート!$M1122,入力シート!$N1122))","v":0},{"$f":"入力シート!I1122","v":0},{"$f":"入力シート!O1122","v":0},{"$f":"IF(入力シート!P1122=\"×\",\"P\",\"PN\")","v":"PN"},{"$f":"計算結果!#REF!","v":{"$error":"#REF!"}},{"$f":"計算結果!#REF!","v":{"$error":"#REF!"}},{"$f":"計算結果!#REF!","v":{"$error":"#REF!"}},{"$f":"計算結果!#REF!","v":{"$error":"#REF!"}},{"$f":"計算結果!#REF!","v":{"$error":"#REF!"}},{"$f":"計算結果!#REF!","v":{"$error":"#REF!"}},{"$f":"計算結果!#REF!","v":{"$error":"#REF!"}},{"$f":"計算結果!#REF!","v":{"$error":"#REF!"}},{"$f":"計算結果!#REF!","v":{"$error":"#REF!"}},{"$f":"計算結果!#REF!","v":{"$error":"#REF!"}}]
[{"$f":"入力シート!A1123","v":0},{"$f":"入力シート!G1123","v":0},{"$f":"入力シート!H1123","v":0},{"$f":"IF(入力シート!$J1123<>\"\",入力シート!$J1123,IF(入力シート!$L1123<>\"\",入力シート!$L1123,\"‐\"))","v":"‐"},{"$f":"IF(入力シート!$K1123<>\"\",入力シート!$K1123,IF(入力シート!$M1123<>\"\",入力シート!$M1123,入力シート!$N1123))","v":0},{"$f":"入力シート!I1123","v":0},{"$f":"入力シート!O1123","v":0},{"$f":"IF(入力シート!P1123=\"×\",\"P\",\"PN\")","v":"PN"},{"$f":"計算結果!#REF!","v":{"$error":"#REF!"}},{"$f":"計算結果!#REF!","v":{"$error":"#REF!"}},{"$f":"計算結果!#REF!","v":{"$error":"#REF!"}},{"$f":"計算結果!#REF!","v":{"$error":"#REF!"}},{"$f":"計算結果!#REF!","v":{"$error":"#REF!"}},{"$f":"計算結果!#REF!","v":{"$error":"#REF!"}},{"$f":"計算結果!#REF!","v":{"$error":"#REF!"}},{"$f":"計算結果!#REF!","v":{"$error":"#REF!"}},{"$f":"計算結果!#REF!","v":{"$error":"#REF!"}},{"$f":"計算結果!#REF!","v":{"$error":"#REF!"}}]
[{"$f":"入力シート!A1124","v":0},{"$f":"入力シート!G1124","v":0},{"$f":"入力シート!H1124","v":0},{"$f":"IF(入力シート!$J1124<>\"\",入力シート!$J1124,IF(入力シート!$L1124<>\"\",入力シート!$L1124,\"‐\"))","v":"‐"},{"$f":"IF(入力シート!$K1124<>\"\",入力シート!$K1124,IF(入力シート!$M1124<>\"\",入力シート!$M1124,入力シート!$N1124))","v":0},{"$f":"入力シート!I1124","v":0},{"$f":"入力シート!O1124","v":0},{"$f":"IF(入力シート!P1124=\"×\",\"P\",\"PN\")","v":"PN"},{"$f":"計算結果!#REF!","v":{"$error":"#REF!"}},{"$f":"計算結果!#REF!","v":{"$error":"#REF!"}},{"$f":"計算結果!#REF!","v":{"$error":"#REF!"}},{"$f":"計算結果!#REF!","v":{"$error":"#REF!"}},{"$f":"計算結果!#REF!","v":{"$error":"#REF!"}},{"$f":"計算結果!#REF!","v":{"$error":"#REF!"}},{"$f":"計算結果!#REF!","v":{"$error":"#REF!"}},{"$f":"計算結果!#REF!","v":{"$error":"#REF!"}},{"$f":"計算結果!#REF!","v":{"$error":"#REF!"}},{"$f":"計算結果!#REF!","v":{"$error":"#REF!"}}]
[{"$f":"入力シート!A1125","v":0},{"$f":"入力シート!G1125","v":0},{"$f":"入力シート!H1125","v":0},{"$f":"IF(入力シート!$J1125<>\"\",入力シート!$J1125,IF(入力シート!$L1125<>\"\",入力シート!$L1125,\"‐\"))","v":"‐"},{"$f":"IF(入力シート!$K1125<>\"\",入力シート!$K1125,IF(入力シート!$M1125<>\"\",入力シート!$M1125,入力シート!$N1125))","v":0},{"$f":"入力シート!I1125","v":0},{"$f":"入力シート!O1125","v":0},{"$f":"IF(入力シート!P1125=\"×\",\"P\",\"PN\")","v":"PN"},{"$f":"計算結果!#REF!","v":{"$error":"#REF!"}},{"$f":"計算結果!#REF!","v":{"$error":"#REF!"}},{"$f":"計算結果!#REF!","v":{"$error":"#REF!"}},{"$f":"計算結果!#REF!","v":{"$error":"#REF!"}},{"$f":"計算結果!#REF!","v":{"$error":"#REF!"}},{"$f":"計算結果!#REF!","v":{"$error":"#REF!"}},{"$f":"計算結果!#REF!","v":{"$error":"#REF!"}},{"$f":"計算結果!#REF!","v":{"$error":"#REF!"}},{"$f":"計算結果!#REF!","v":{"$error":"#REF!"}},{"$f":"計算結果!#REF!","v":{"$error":"#REF!"}}]
[{"$f":"入力シート!A1126","v":0},{"$f":"入力シート!G1126","v":0},{"$f":"入力シート!H1126","v":0},{"$f":"IF(入力シート!$J1126<>\"\",入力シート!$J1126,IF(入力シート!$L1126<>\"\",入力シート!$L1126,\"‐\"))","v":"‐"},{"$f":"IF(入力シート!$K1126<>\"\",入力シート!$K1126,IF(入力シート!$M1126<>\"\",入力シート!$M1126,入力シート!$N1126))","v":0},{"$f":"入力シート!I1126","v":0},{"$f":"入力シート!O1126","v":0},{"$f":"IF(入力シート!P1126=\"×\",\"P\",\"PN\")","v":"PN"},{"$f":"計算結果!#REF!","v":{"$error":"#REF!"}},{"$f":"計算結果!#REF!","v":{"$error":"#REF!"}},{"$f":"計算結果!#REF!","v":{"$error":"#REF!"}},{"$f":"計算結果!#REF!","v":{"$error":"#REF!"}},{"$f":"計算結果!#REF!","v":{"$error":"#REF!"}},{"$f":"計算結果!#REF!","v":{"$error":"#REF!"}},{"$f":"計算結果!#REF!","v":{"$error":"#REF!"}},{"$f":"計算結果!#REF!","v":{"$error":"#REF!"}},{"$f":"計算結果!#REF!","v":{"$error":"#REF!"}},{"$f":"計算結果!#REF!","v":{"$error":"#REF!"}}]
[{"$f":"入力シート!A1127","v":0},{"$f":"入力シート!G1127","v":0},{"$f":"入力シート!H1127","v":0},{"$f":"IF(入力シート!$J1127<>\"\",入力シート!$J1127,IF(入力シート!$L1127<>\"\",入力シート!$L1127,\"‐\"))","v":"‐"},{"$f":"IF(入力シート!$K1127<>\"\",入力シート!$K1127,IF(入力シート!$M1127<>\"\",入力シート!$M1127,入力シート!$N1127))","v":0},{"$f":"入力シート!I1127","v":0},{"$f":"入力シート!O1127","v":0},{"$f":"IF(入力シート!P1127=\"×\",\"P\",\"PN\")","v":"PN"},{"$f":"計算結果!#REF!","v":{"$error":"#REF!"}},{"$f":"計算結果!#REF!","v":{"$error":"#REF!"}},{"$f":"計算結果!#REF!","v":{"$error":"#REF!"}},{"$f":"計算結果!#REF!","v":{"$error":"#REF!"}},{"$f":"計算結果!#REF!","v":{"$error":"#REF!"}},{"$f":"計算結果!#REF!","v":{"$error":"#REF!"}},{"$f":"計算結果!#REF!","v":{"$error":"#REF!"}},{"$f":"計算結果!#REF!","v":{"$error":"#REF!"}},{"$f":"計算結果!#REF!","v":{"$error":"#REF!"}},{"$f":"計算結果!#REF!","v":{"$error":"#REF!"}}]
[{"$f":"入力シート!A1128","v":0},{"$f":"入力シート!G1128","v":0},{"$f":"入力シート!H1128","v":0},{"$f":"IF(入力シート!$J1128<>\"\",入力シート!$J1128,IF(入力シート!$L1128<>\"\",入力シート!$L1128,\"‐\"))","v":"‐"},{"$f":"IF(入力シート!$K1128<>\"\",入力シート!$K1128,IF(入力シート!$M1128<>\"\",入力シート!$M1128,入力シート!$N1128))","v":0},{"$f":"入力シート!I1128","v":0},{"$f":"入力シート!O1128","v":0},{"$f":"IF(入力シート!P1128=\"×\",\"P\",\"PN\")","v":"PN"},{"$f":"計算結果!#REF!","v":{"$error":"#REF!"}},{"$f":"計算結果!#REF!","v":{"$error":"#REF!"}},{"$f":"計算結果!#REF!","v":{"$error":"#REF!"}},{"$f":"計算結果!#REF!","v":{"$error":"#REF!"}},{"$f":"計算結果!#REF!","v":{"$error":"#REF!"}},{"$f":"計算結果!#REF!","v":{"$error":"#REF!"}},{"$f":"計算結果!#REF!","v":{"$error":"#REF!"}},{"$f":"計算結果!#REF!","v":{"$error":"#REF!"}},{"$f":"計算結果!#REF!","v":{"$error":"#REF!"}},{"$f":"計算結果!#REF!","v":{"$error":"#REF!"}}]
[{"$f":"入力シート!A1129","v":0},{"$f":"入力シート!G1129","v":0},{"$f":"入力シート!H1129","v":0},{"$f":"IF(入力シート!$J1129<>\"\",入力シート!$J1129,IF(入力シート!$L1129<>\"\",入力シート!$L1129,\"‐\"))","v":"‐"},{"$f":"IF(入力シート!$K1129<>\"\",入力シート!$K1129,IF(入力シート!$M1129<>\"\",入力シート!$M1129,入力シート!$N1129))","v":0},{"$f":"入力シート!I1129","v":0},{"$f":"入力シート!O1129","v":0},{"$f":"IF(入力シート!P1129=\"×\",\"P\",\"PN\")","v":"PN"},{"$f":"計算結果!#REF!","v":{"$error":"#REF!"}},{"$f":"計算結果!#REF!","v":{"$error":"#REF!"}},{"$f":"計算結果!#REF!","v":{"$error":"#REF!"}},{"$f":"計算結果!#REF!","v":{"$error":"#REF!"}},{"$f":"計算結果!#REF!","v":{"$error":"#REF!"}},{"$f":"計算結果!#REF!","v":{"$error":"#REF!"}},{"$f":"計算結果!#REF!","v":{"$error":"#REF!"}},{"$f":"計算結果!#REF!","v":{"$error":"#REF!"}},{"$f":"計算結果!#REF!","v":{"$error":"#REF!"}},{"$f":"計算結果!#REF!","v":{"$error":"#REF!"}}]
[{"$f":"入力シート!A1130","v":0},{"$f":"入力シート!G1130","v":0},{"$f":"入力シート!H1130","v":0},{"$f":"IF(入力シート!$J1130<>\"\",入力シート!$J1130,IF(入力シート!$L1130<>\"\",入力シート!$L1130,\"‐\"))","v":"‐"},{"$f":"IF(入力シート!$K1130<>\"\",入力シート!$K1130,IF(入力シート!$M1130<>\"\",入力シート!$M1130,入力シート!$N1130))","v":0},{"$f":"入力シート!I1130","v":0},{"$f":"入力シート!O1130","v":0},{"$f":"IF(入力シート!P1130=\"×\",\"P\",\"PN\")","v":"PN"},{"$f":"計算結果!#REF!","v":{"$error":"#REF!"}},{"$f":"計算結果!#REF!","v":{"$error":"#REF!"}},{"$f":"計算結果!#REF!","v":{"$error":"#REF!"}},{"$f":"計算結果!#REF!","v":{"$error":"#REF!"}},{"$f":"計算結果!#REF!","v":{"$error":"#REF!"}},{"$f":"計算結果!#REF!","v":{"$error":"#REF!"}},{"$f":"計算結果!#REF!","v":{"$error":"#REF!"}},{"$f":"計算結果!#REF!","v":{"$error":"#REF!"}},{"$f":"計算結果!#REF!","v":{"$error":"#REF!"}},{"$f":"計算結果!#REF!","v":{"$error":"#REF!"}}]
[{"$f":"入力シート!A1131","v":0},{"$f":"入力シート!G1131","v":0},{"$f":"入力シート!H1131","v":0},{"$f":"IF(入力シート!$J1131<>\"\",入力シート!$J1131,IF(入力シート!$L1131<>\"\",入力シート!$L1131,\"‐\"))","v":"‐"},{"$f":"IF(入力シート!$K1131<>\"\",入力シート!$K1131,IF(入力シート!$M1131<>\"\",入力シート!$M1131,入力シート!$N1131))","v":0},{"$f":"入力シート!I1131","v":0},{"$f":"入力シート!O1131","v":0},{"$f":"IF(入力シート!P1131=\"×\",\"P\",\"PN\")","v":"PN"},{"$f":"計算結果!#REF!","v":{"$error":"#REF!"}},{"$f":"計算結果!#REF!","v":{"$error":"#REF!"}},{"$f":"計算結果!#REF!","v":{"$error":"#REF!"}},{"$f":"計算結果!#REF!","v":{"$error":"#REF!"}},{"$f":"計算結果!#REF!","v":{"$error":"#REF!"}},{"$f":"計算結果!#REF!","v":{"$error":"#REF!"}},{"$f":"計算結果!#REF!","v":{"$error":"#REF!"}},{"$f":"計算結果!#REF!","v":{"$error":"#REF!"}},{"$f":"計算結果!#REF!","v":{"$error":"#REF!"}},{"$f":"計算結果!#REF!","v":{"$error":"#REF!"}}]
[{"$f":"入力シート!A1132","v":0},{"$f":"入力シート!G1132","v":0},{"$f":"入力シート!H1132","v":0},{"$f":"IF(入力シート!$J1132<>\"\",入力シート!$J1132,IF(入力シート!$L1132<>\"\",入力シート!$L1132,\"‐\"))","v":"‐"},{"$f":"IF(入力シート!$K1132<>\"\",入力シート!$K1132,IF(入力シート!$M1132<>\"\",入力シート!$M1132,入力シート!$N1132))","v":0},{"$f":"入力シート!I1132","v":0},{"$f":"入力シート!O1132","v":0},{"$f":"IF(入力シート!P1132=\"×\",\"P\",\"PN\")","v":"PN"},{"$f":"計算結果!#REF!","v":{"$error":"#REF!"}},{"$f":"計算結果!#REF!","v":{"$error":"#REF!"}},{"$f":"計算結果!#REF!","v":{"$error":"#REF!"}},{"$f":"計算結果!#REF!","v":{"$error":"#REF!"}},{"$f":"計算結果!#REF!","v":{"$error":"#REF!"}},{"$f":"計算結果!#REF!","v":{"$error":"#REF!"}},{"$f":"計算結果!#REF!","v":{"$error":"#REF!"}},{"$f":"計算結果!#REF!","v":{"$error":"#REF!"}},{"$f":"計算結果!#REF!","v":{"$error":"#REF!"}},{"$f":"計算結果!#REF!","v":{"$error":"#REF!"}}]
[{"$f":"入力シート!A1133","v":0},{"$f":"入力シート!G1133","v":0},{"$f":"入力シート!H1133","v":0},{"$f":"IF(入力シート!$J1133<>\"\",入力シート!$J1133,IF(入力シート!$L1133<>\"\",入力シート!$L1133,\"‐\"))","v":"‐"},{"$f":"IF(入力シート!$K1133<>\"\",入力シート!$K1133,IF(入力シート!$M1133<>\"\",入力シート!$M1133,入力シート!$N1133))","v":0},{"$f":"入力シート!I1133","v":0},{"$f":"入力シート!O1133","v":0},{"$f":"IF(入力シート!P1133=\"×\",\"P\",\"PN\")","v":"PN"},{"$f":"計算結果!#REF!","v":{"$error":"#REF!"}},{"$f":"計算結果!#REF!","v":{"$error":"#REF!"}},{"$f":"計算結果!#REF!","v":{"$error":"#REF!"}},{"$f":"計算結果!#REF!","v":{"$error":"#REF!"}},{"$f":"計算結果!#REF!","v":{"$error":"#REF!"}},{"$f":"計算結果!#REF!","v":{"$error":"#REF!"}},{"$f":"計算結果!#REF!","v":{"$error":"#REF!"}},{"$f":"計算結果!#REF!","v":{"$error":"#REF!"}},{"$f":"計算結果!#REF!","v":{"$error":"#REF!"}},{"$f":"計算結果!#REF!","v":{"$error":"#REF!"}}]
[{"$f":"入力シート!A1134","v":0},{"$f":"入力シート!G1134","v":0},{"$f":"入力シート!H1134","v":0},{"$f":"IF(入力シート!$J1134<>\"\",入力シート!$J1134,IF(入力シート!$L1134<>\"\",入力シート!$L1134,\"‐\"))","v":"‐"},{"$f":"IF(入力シート!$K1134<>\"\",入力シート!$K1134,IF(入力シート!$M1134<>\"\",入力シート!$M1134,入力シート!$N1134))","v":0},{"$f":"入力シート!I1134","v":0},{"$f":"入力シート!O1134","v":0},{"$f":"IF(入力シート!P1134=\"×\",\"P\",\"PN\")","v":"PN"},{"$f":"計算結果!#REF!","v":{"$error":"#REF!"}},{"$f":"計算結果!#REF!","v":{"$error":"#REF!"}},{"$f":"計算結果!#REF!","v":{"$error":"#REF!"}},{"$f":"計算結果!#REF!","v":{"$error":"#REF!"}},{"$f":"計算結果!#REF!","v":{"$error":"#REF!"}},{"$f":"計算結果!#REF!","v":{"$error":"#REF!"}},{"$f":"計算結果!#REF!","v":{"$error":"#REF!"}},{"$f":"計算結果!#REF!","v":{"$error":"#REF!"}},{"$f":"計算結果!#REF!","v":{"$error":"#REF!"}},{"$f":"計算結果!#REF!","v":{"$error":"#REF!"}}]
[{"$f":"入力シート!A1135","v":0},{"$f":"入力シート!G1135","v":0},{"$f":"入力シート!H1135","v":0},{"$f":"IF(入力シート!$J1135<>\"\",入力シート!$J1135,IF(入力シート!$L1135<>\"\",入力シート!$L1135,\"‐\"))","v":"‐"},{"$f":"IF(入力シート!$K1135<>\"\",入力シート!$K1135,IF(入力シート!$M1135<>\"\",入力シート!$M1135,入力シート!$N1135))","v":0},{"$f":"入力シート!I1135","v":0},{"$f":"入力シート!O1135","v":0},{"$f":"IF(入力シート!P1135=\"×\",\"P\",\"PN\")","v":"PN"},{"$f":"計算結果!#REF!","v":{"$error":"#REF!"}},{"$f":"計算結果!#REF!","v":{"$error":"#REF!"}},{"$f":"計算結果!#REF!","v":{"$error":"#REF!"}},{"$f":"計算結果!#REF!","v":{"$error":"#REF!"}},{"$f":"計算結果!#REF!","v":{"$error":"#REF!"}},{"$f":"計算結果!#REF!","v":{"$error":"#REF!"}},{"$f":"計算結果!#REF!","v":{"$error":"#REF!"}},{"$f":"計算結果!#REF!","v":{"$error":"#REF!"}},{"$f":"計算結果!#REF!","v":{"$error":"#REF!"}},{"$f":"計算結果!#REF!","v":{"$error":"#REF!"}}]
[{"$f":"入力シート!A1136","v":0},{"$f":"入力シート!G1136","v":0},{"$f":"入力シート!H1136","v":0},{"$f":"IF(入力シート!$J1136<>\"\",入力シート!$J1136,IF(入力シート!$L1136<>\"\",入力シート!$L1136,\"‐\"))","v":"‐"},{"$f":"IF(入力シート!$K1136<>\"\",入力シート!$K1136,IF(入力シート!$M1136<>\"\",入力シート!$M1136,入力シート!$N1136))","v":0},{"$f":"入力シート!I1136","v":0},{"$f":"入力シート!O1136","v":0},{"$f":"IF(入力シート!P1136=\"×\",\"P\",\"PN\")","v":"PN"},{"$f":"計算結果!#REF!","v":{"$error":"#REF!"}},{"$f":"計算結果!#REF!","v":{"$error":"#REF!"}},{"$f":"計算結果!#REF!","v":{"$error":"#REF!"}},{"$f":"計算結果!#REF!","v":{"$error":"#REF!"}},{"$f":"計算結果!#REF!","v":{"$error":"#REF!"}},{"$f":"計算結果!#REF!","v":{"$error":"#REF!"}},{"$f":"計算結果!#REF!","v":{"$error":"#REF!"}},{"$f":"計算結果!#REF!","v":{"$error":"#REF!"}},{"$f":"計算結果!#REF!","v":{"$error":"#REF!"}},{"$f":"計算結果!#REF!","v":{"$error":"#REF!"}}]
[{"$f":"入力シート!A1137","v":0},{"$f":"入力シート!G1137","v":0},{"$f":"入力シート!H1137","v":0},{"$f":"IF(入力シート!$J1137<>\"\",入力シート!$J1137,IF(入力シート!$L1137<>\"\",入力シート!$L1137,\"‐\"))","v":"‐"},{"$f":"IF(入力シート!$K1137<>\"\",入力シート!$K1137,IF(入力シート!$M1137<>\"\",入力シート!$M1137,入力シート!$N1137))","v":0},{"$f":"入力シート!I1137","v":0},{"$f":"入力シート!O1137","v":0},{"$f":"IF(入力シート!P1137=\"×\",\"P\",\"PN\")","v":"PN"},{"$f":"計算結果!#REF!","v":{"$error":"#REF!"}},{"$f":"計算結果!#REF!","v":{"$error":"#REF!"}},{"$f":"計算結果!#REF!","v":{"$error":"#REF!"}},{"$f":"計算結果!#REF!","v":{"$error":"#REF!"}},{"$f":"計算結果!#REF!","v":{"$error":"#REF!"}},{"$f":"計算結果!#REF!","v":{"$error":"#REF!"}},{"$f":"計算結果!#REF!","v":{"$error":"#REF!"}},{"$f":"計算結果!#REF!","v":{"$error":"#REF!"}},{"$f":"計算結果!#REF!","v":{"$error":"#REF!"}},{"$f":"計算結果!#REF!","v":{"$error":"#REF!"}}]
[{"$f":"入力シート!A1138","v":0},{"$f":"入力シート!G1138","v":0},{"$f":"入力シート!H1138","v":0},{"$f":"IF(入力シート!$J1138<>\"\",入力シート!$J1138,IF(入力シート!$L1138<>\"\",入力シート!$L1138,\"‐\"))","v":"‐"},{"$f":"IF(入力シート!$K1138<>\"\",入力シート!$K1138,IF(入力シート!$M1138<>\"\",入力シート!$M1138,入力シート!$N1138))","v":0},{"$f":"入力シート!I1138","v":0},{"$f":"入力シート!O1138","v":0},{"$f":"IF(入力シート!P1138=\"×\",\"P\",\"PN\")","v":"PN"},{"$f":"計算結果!#REF!","v":{"$error":"#REF!"}},{"$f":"計算結果!#REF!","v":{"$error":"#REF!"}},{"$f":"計算結果!#REF!","v":{"$error":"#REF!"}},{"$f":"計算結果!#REF!","v":{"$error":"#REF!"}},{"$f":"計算結果!#REF!","v":{"$error":"#REF!"}},{"$f":"計算結果!#REF!","v":{"$error":"#REF!"}},{"$f":"計算結果!#REF!","v":{"$error":"#REF!"}},{"$f":"計算結果!#REF!","v":{"$error":"#REF!"}},{"$f":"計算結果!#REF!","v":{"$error":"#REF!"}},{"$f":"計算結果!#REF!","v":{"$error":"#REF!"}}]
[{"$f":"入力シート!A1139","v":0},{"$f":"入力シート!G1139","v":0},{"$f":"入力シート!H1139","v":0},{"$f":"IF(入力シート!$J1139<>\"\",入力シート!$J1139,IF(入力シート!$L1139<>\"\",入力シート!$L1139,\"‐\"))","v":"‐"},{"$f":"IF(入力シート!$K1139<>\"\",入力シート!$K1139,IF(入力シート!$M1139<>\"\",入力シート!$M1139,入力シート!$N1139))","v":0},{"$f":"入力シート!I1139","v":0},{"$f":"入力シート!O1139","v":0},{"$f":"IF(入力シート!P1139=\"×\",\"P\",\"PN\")","v":"PN"},{"$f":"計算結果!#REF!","v":{"$error":"#REF!"}},{"$f":"計算結果!#REF!","v":{"$error":"#REF!"}},{"$f":"計算結果!#REF!","v":{"$error":"#REF!"}},{"$f":"計算結果!#REF!","v":{"$error":"#REF!"}},{"$f":"計算結果!#REF!","v":{"$error":"#REF!"}},{"$f":"計算結果!#REF!","v":{"$error":"#REF!"}},{"$f":"計算結果!#REF!","v":{"$error":"#REF!"}},{"$f":"計算結果!#REF!","v":{"$error":"#REF!"}},{"$f":"計算結果!#REF!","v":{"$error":"#REF!"}},{"$f":"計算結果!#REF!","v":{"$error":"#REF!"}}]
[{"$f":"入力シート!A1140","v":0},{"$f":"入力シート!G1140","v":0},{"$f":"入力シート!H1140","v":0},{"$f":"IF(入力シート!$J1140<>\"\",入力シート!$J1140,IF(入力シート!$L1140<>\"\",入力シート!$L1140,\"‐\"))","v":"‐"},{"$f":"IF(入力シート!$K1140<>\"\",入力シート!$K1140,IF(入力シート!$M1140<>\"\",入力シート!$M1140,入力シート!$N1140))","v":0},{"$f":"入力シート!I1140","v":0},{"$f":"入力シート!O1140","v":0},{"$f":"IF(入力シート!P1140=\"×\",\"P\",\"PN\")","v":"PN"},{"$f":"計算結果!#REF!","v":{"$error":"#REF!"}},{"$f":"計算結果!#REF!","v":{"$error":"#REF!"}},{"$f":"計算結果!#REF!","v":{"$error":"#REF!"}},{"$f":"計算結果!#REF!","v":{"$error":"#REF!"}},{"$f":"計算結果!#REF!","v":{"$error":"#REF!"}},{"$f":"計算結果!#REF!","v":{"$error":"#REF!"}},{"$f":"計算結果!#REF!","v":{"$error":"#REF!"}},{"$f":"計算結果!#REF!","v":{"$error":"#REF!"}},{"$f":"計算結果!#REF!","v":{"$error":"#REF!"}},{"$f":"計算結果!#REF!","v":{"$error":"#REF!"}}]
[{"$f":"入力シート!A1141","v":0},{"$f":"入力シート!G1141","v":0},{"$f":"入力シート!H1141","v":0},{"$f":"IF(入力シート!$J1141<>\"\",入力シート!$J1141,IF(入力シート!$L1141<>\"\",入力シート!$L1141,\"‐\"))","v":"‐"},{"$f":"IF(入力シート!$K1141<>\"\",入力シート!$K1141,IF(入力シート!$M1141<>\"\",入力シート!$M1141,入力シート!$N1141))","v":0},{"$f":"入力シート!I1141","v":0},{"$f":"入力シート!O1141","v":0},{"$f":"IF(入力シート!P1141=\"×\",\"P\",\"PN\")","v":"PN"},{"$f":"計算結果!#REF!","v":{"$error":"#REF!"}},{"$f":"計算結果!#REF!","v":{"$error":"#REF!"}},{"$f":"計算結果!#REF!","v":{"$error":"#REF!"}},{"$f":"計算結果!#REF!","v":{"$error":"#REF!"}},{"$f":"計算結果!#REF!","v":{"$error":"#REF!"}},{"$f":"計算結果!#REF!","v":{"$error":"#REF!"}},{"$f":"計算結果!#REF!","v":{"$error":"#REF!"}},{"$f":"計算結果!#REF!","v":{"$error":"#REF!"}},{"$f":"計算結果!#REF!","v":{"$error":"#REF!"}},{"$f":"計算結果!#REF!","v":{"$error":"#REF!"}}]
[{"$f":"入力シート!A1142","v":0},{"$f":"入力シート!G1142","v":0},{"$f":"入力シート!H1142","v":0},{"$f":"IF(入力シート!$J1142<>\"\",入力シート!$J1142,IF(入力シート!$L1142<>\"\",入力シート!$L1142,\"‐\"))","v":"‐"},{"$f":"IF(入力シート!$K1142<>\"\",入力シート!$K1142,IF(入力シート!$M1142<>\"\",入力シート!$M1142,入力シート!$N1142))","v":0},{"$f":"入力シート!I1142","v":0},{"$f":"入力シート!O1142","v":0},{"$f":"IF(入力シート!P1142=\"×\",\"P\",\"PN\")","v":"PN"},{"$f":"計算結果!#REF!","v":{"$error":"#REF!"}},{"$f":"計算結果!#REF!","v":{"$error":"#REF!"}},{"$f":"計算結果!#REF!","v":{"$error":"#REF!"}},{"$f":"計算結果!#REF!","v":{"$error":"#REF!"}},{"$f":"計算結果!#REF!","v":{"$error":"#REF!"}},{"$f":"計算結果!#REF!","v":{"$error":"#REF!"}},{"$f":"計算結果!#REF!","v":{"$error":"#REF!"}},{"$f":"計算結果!#REF!","v":{"$error":"#REF!"}},{"$f":"計算結果!#REF!","v":{"$error":"#REF!"}},{"$f":"計算結果!#REF!","v":{"$error":"#REF!"}}]
[{"$f":"入力シート!A1143","v":0},{"$f":"入力シート!G1143","v":0},{"$f":"入力シート!H1143","v":0},{"$f":"IF(入力シート!$J1143<>\"\",入力シート!$J1143,IF(入力シート!$L1143<>\"\",入力シート!$L1143,\"‐\"))","v":"‐"},{"$f":"IF(入力シート!$K1143<>\"\",入力シート!$K1143,IF(入力シート!$M1143<>\"\",入力シート!$M1143,入力シート!$N1143))","v":0},{"$f":"入力シート!I1143","v":0},{"$f":"入力シート!O1143","v":0},{"$f":"IF(入力シート!P1143=\"×\",\"P\",\"PN\")","v":"PN"},{"$f":"計算結果!#REF!","v":{"$error":"#REF!"}},{"$f":"計算結果!#REF!","v":{"$error":"#REF!"}},{"$f":"計算結果!#REF!","v":{"$error":"#REF!"}},{"$f":"計算結果!#REF!","v":{"$error":"#REF!"}},{"$f":"計算結果!#REF!","v":{"$error":"#REF!"}},{"$f":"計算結果!#REF!","v":{"$error":"#REF!"}},{"$f":"計算結果!#REF!","v":{"$error":"#REF!"}},{"$f":"計算結果!#REF!","v":{"$error":"#REF!"}},{"$f":"計算結果!#REF!","v":{"$error":"#REF!"}},{"$f":"計算結果!#REF!","v":{"$error":"#REF!"}}]
[{"$f":"入力シート!A1144","v":0},{"$f":"入力シート!G1144","v":0},{"$f":"入力シート!H1144","v":0},{"$f":"IF(入力シート!$J1144<>\"\",入力シート!$J1144,IF(入力シート!$L1144<>\"\",入力シート!$L1144,\"‐\"))","v":"‐"},{"$f":"IF(入力シート!$K1144<>\"\",入力シート!$K1144,IF(入力シート!$M1144<>\"\",入力シート!$M1144,入力シート!$N1144))","v":0},{"$f":"入力シート!I1144","v":0},{"$f":"入力シート!O1144","v":0},{"$f":"IF(入力シート!P1144=\"×\",\"P\",\"PN\")","v":"PN"},{"$f":"計算結果!#REF!","v":{"$error":"#REF!"}},{"$f":"計算結果!#REF!","v":{"$error":"#REF!"}},{"$f":"計算結果!#REF!","v":{"$error":"#REF!"}},{"$f":"計算結果!#REF!","v":{"$error":"#REF!"}},{"$f":"計算結果!#REF!","v":{"$error":"#REF!"}},{"$f":"計算結果!#REF!","v":{"$error":"#REF!"}},{"$f":"計算結果!#REF!","v":{"$error":"#REF!"}},{"$f":"計算結果!#REF!","v":{"$error":"#REF!"}},{"$f":"計算結果!#REF!","v":{"$error":"#REF!"}},{"$f":"計算結果!#REF!","v":{"$error":"#REF!"}}]
[{"$f":"入力シート!A1145","v":0},{"$f":"入力シート!G1145","v":0},{"$f":"入力シート!H1145","v":0},{"$f":"IF(入力シート!$J1145<>\"\",入力シート!$J1145,IF(入力シート!$L1145<>\"\",入力シート!$L1145,\"‐\"))","v":"‐"},{"$f":"IF(入力シート!$K1145<>\"\",入力シート!$K1145,IF(入力シート!$M1145<>\"\",入力シート!$M1145,入力シート!$N1145))","v":0},{"$f":"入力シート!I1145","v":0},{"$f":"入力シート!O1145","v":0},{"$f":"IF(入力シート!P1145=\"×\",\"P\",\"PN\")","v":"PN"},{"$f":"計算結果!#REF!","v":{"$error":"#REF!"}},{"$f":"計算結果!#REF!","v":{"$error":"#REF!"}},{"$f":"計算結果!#REF!","v":{"$error":"#REF!"}},{"$f":"計算結果!#REF!","v":{"$error":"#REF!"}},{"$f":"計算結果!#REF!","v":{"$error":"#REF!"}},{"$f":"計算結果!#REF!","v":{"$error":"#REF!"}},{"$f":"計算結果!#REF!","v":{"$error":"#REF!"}},{"$f":"計算結果!#REF!","v":{"$error":"#REF!"}},{"$f":"計算結果!#REF!","v":{"$error":"#REF!"}},{"$f":"計算結果!#REF!","v":{"$error":"#REF!"}}]
[{"$f":"入力シート!A1146","v":0},{"$f":"入力シート!G1146","v":0},{"$f":"入力シート!H1146","v":0},{"$f":"IF(入力シート!$J1146<>\"\",入力シート!$J1146,IF(入力シート!$L1146<>\"\",入力シート!$L1146,\"‐\"))","v":"‐"},{"$f":"IF(入力シート!$K1146<>\"\",入力シート!$K1146,IF(入力シート!$M1146<>\"\",入力シート!$M1146,入力シート!$N1146))","v":0},{"$f":"入力シート!I1146","v":0},{"$f":"入力シート!O1146","v":0},{"$f":"IF(入力シート!P1146=\"×\",\"P\",\"PN\")","v":"PN"},{"$f":"計算結果!#REF!","v":{"$error":"#REF!"}},{"$f":"計算結果!#REF!","v":{"$error":"#REF!"}},{"$f":"計算結果!#REF!","v":{"$error":"#REF!"}},{"$f":"計算結果!#REF!","v":{"$error":"#REF!"}},{"$f":"計算結果!#REF!","v":{"$error":"#REF!"}},{"$f":"計算結果!#REF!","v":{"$error":"#REF!"}},{"$f":"計算結果!#REF!","v":{"$error":"#REF!"}},{"$f":"計算結果!#REF!","v":{"$error":"#REF!"}},{"$f":"計算結果!#REF!","v":{"$error":"#REF!"}},{"$f":"計算結果!#REF!","v":{"$error":"#REF!"}}]
[{"$f":"入力シート!A1147","v":0},{"$f":"入力シート!G1147","v":0},{"$f":"入力シート!H1147","v":0},{"$f":"IF(入力シート!$J1147<>\"\",入力シート!$J1147,IF(入力シート!$L1147<>\"\",入力シート!$L1147,\"‐\"))","v":"‐"},{"$f":"IF(入力シート!$K1147<>\"\",入力シート!$K1147,IF(入力シート!$M1147<>\"\",入力シート!$M1147,入力シート!$N1147))","v":0},{"$f":"入力シート!I1147","v":0},{"$f":"入力シート!O1147","v":0},{"$f":"IF(入力シート!P1147=\"×\",\"P\",\"PN\")","v":"PN"},{"$f":"計算結果!#REF!","v":{"$error":"#REF!"}},{"$f":"計算結果!#REF!","v":{"$error":"#REF!"}},{"$f":"計算結果!#REF!","v":{"$error":"#REF!"}},{"$f":"計算結果!#REF!","v":{"$error":"#REF!"}},{"$f":"計算結果!#REF!","v":{"$error":"#REF!"}},{"$f":"計算結果!#REF!","v":{"$error":"#REF!"}},{"$f":"計算結果!#REF!","v":{"$error":"#REF!"}},{"$f":"計算結果!#REF!","v":{"$error":"#REF!"}},{"$f":"計算結果!#REF!","v":{"$error":"#REF!"}},{"$f":"計算結果!#REF!","v":{"$error":"#REF!"}}]
[{"$f":"入力シート!A1148","v":0},{"$f":"入力シート!G1148","v":0},{"$f":"入力シート!H1148","v":0},{"$f":"IF(入力シート!$J1148<>\"\",入力シート!$J1148,IF(入力シート!$L1148<>\"\",入力シート!$L1148,\"‐\"))","v":"‐"},{"$f":"IF(入力シート!$K1148<>\"\",入力シート!$K1148,IF(入力シート!$M1148<>\"\",入力シート!$M1148,入力シート!$N1148))","v":0},{"$f":"入力シート!I1148","v":0},{"$f":"入力シート!O1148","v":0},{"$f":"IF(入力シート!P1148=\"×\",\"P\",\"PN\")","v":"PN"},{"$f":"計算結果!#REF!","v":{"$error":"#REF!"}},{"$f":"計算結果!#REF!","v":{"$error":"#REF!"}},{"$f":"計算結果!#REF!","v":{"$error":"#REF!"}},{"$f":"計算結果!#REF!","v":{"$error":"#REF!"}},{"$f":"計算結果!#REF!","v":{"$error":"#REF!"}},{"$f":"計算結果!#REF!","v":{"$error":"#REF!"}},{"$f":"計算結果!#REF!","v":{"$error":"#REF!"}},{"$f":"計算結果!#REF!","v":{"$error":"#REF!"}},{"$f":"計算結果!#REF!","v":{"$error":"#REF!"}},{"$f":"計算結果!#REF!","v":{"$error":"#REF!"}}]
[{"$f":"入力シート!A1149","v":0},{"$f":"入力シート!G1149","v":0},{"$f":"入力シート!H1149","v":0},{"$f":"IF(入力シート!$J1149<>\"\",入力シート!$J1149,IF(入力シート!$L1149<>\"\",入力シート!$L1149,\"‐\"))","v":"‐"},{"$f":"IF(入力シート!$K1149<>\"\",入力シート!$K1149,IF(入力シート!$M1149<>\"\",入力シート!$M1149,入力シート!$N1149))","v":0},{"$f":"入力シート!I1149","v":0},{"$f":"入力シート!O1149","v":0},{"$f":"IF(入力シート!P1149=\"×\",\"P\",\"PN\")","v":"PN"},{"$f":"計算結果!#REF!","v":{"$error":"#REF!"}},{"$f":"計算結果!#REF!","v":{"$error":"#REF!"}},{"$f":"計算結果!#REF!","v":{"$error":"#REF!"}},{"$f":"計算結果!#REF!","v":{"$error":"#REF!"}},{"$f":"計算結果!#REF!","v":{"$error":"#REF!"}},{"$f":"計算結果!#REF!","v":{"$error":"#REF!"}},{"$f":"計算結果!#REF!","v":{"$error":"#REF!"}},{"$f":"計算結果!#REF!","v":{"$error":"#REF!"}},{"$f":"計算結果!#REF!","v":{"$error":"#REF!"}},{"$f":"計算結果!#REF!","v":{"$error":"#REF!"}}]
[{"$f":"入力シート!A1150","v":0},{"$f":"入力シート!G1150","v":0},{"$f":"入力シート!H1150","v":0},{"$f":"IF(入力シート!$J1150<>\"\",入力シート!$J1150,IF(入力シート!$L1150<>\"\",入力シート!$L1150,\"‐\"))","v":"‐"},{"$f":"IF(入力シート!$K1150<>\"\",入力シート!$K1150,IF(入力シート!$M1150<>\"\",入力シート!$M1150,入力シート!$N1150))","v":0},{"$f":"入力シート!I1150","v":0},{"$f":"入力シート!O1150","v":0},{"$f":"IF(入力シート!P1150=\"×\",\"P\",\"PN\")","v":"PN"},{"$f":"計算結果!#REF!","v":{"$error":"#REF!"}},{"$f":"計算結果!#REF!","v":{"$error":"#REF!"}},{"$f":"計算結果!#REF!","v":{"$error":"#REF!"}},{"$f":"計算結果!#REF!","v":{"$error":"#REF!"}},{"$f":"計算結果!#REF!","v":{"$error":"#REF!"}},{"$f":"計算結果!#REF!","v":{"$error":"#REF!"}},{"$f":"計算結果!#REF!","v":{"$error":"#REF!"}},{"$f":"計算結果!#REF!","v":{"$error":"#REF!"}},{"$f":"計算結果!#REF!","v":{"$error":"#REF!"}},{"$f":"計算結果!#REF!","v":{"$error":"#REF!"}}]
[{"$f":"入力シート!A1151","v":0},{"$f":"入力シート!G1151","v":0},{"$f":"入力シート!H1151","v":0},{"$f":"IF(入力シート!$J1151<>\"\",入力シート!$J1151,IF(入力シート!$L1151<>\"\",入力シート!$L1151,\"‐\"))","v":"‐"},{"$f":"IF(入力シート!$K1151<>\"\",入力シート!$K1151,IF(入力シート!$M1151<>\"\",入力シート!$M1151,入力シート!$N1151))","v":0},{"$f":"入力シート!I1151","v":0},{"$f":"入力シート!O1151","v":0},{"$f":"IF(入力シート!P1151=\"×\",\"P\",\"PN\")","v":"PN"},{"$f":"計算結果!#REF!","v":{"$error":"#REF!"}},{"$f":"計算結果!#REF!","v":{"$error":"#REF!"}},{"$f":"計算結果!#REF!","v":{"$error":"#REF!"}},{"$f":"計算結果!#REF!","v":{"$error":"#REF!"}},{"$f":"計算結果!#REF!","v":{"$error":"#REF!"}},{"$f":"計算結果!#REF!","v":{"$error":"#REF!"}},{"$f":"計算結果!#REF!","v":{"$error":"#REF!"}},{"$f":"計算結果!#REF!","v":{"$error":"#REF!"}},{"$f":"計算結果!#REF!","v":{"$error":"#REF!"}},{"$f":"計算結果!#REF!","v":{"$error":"#REF!"}}]
[{"$f":"入力シート!A1152","v":0},{"$f":"入力シート!G1152","v":0},{"$f":"入力シート!H1152","v":0},{"$f":"IF(入力シート!$J1152<>\"\",入力シート!$J1152,IF(入力シート!$L1152<>\"\",入力シート!$L1152,\"‐\"))","v":"‐"},{"$f":"IF(入力シート!$K1152<>\"\",入力シート!$K1152,IF(入力シート!$M1152<>\"\",入力シート!$M1152,入力シート!$N1152))","v":0},{"$f":"入力シート!I1152","v":0},{"$f":"入力シート!O1152","v":0},{"$f":"IF(入力シート!P1152=\"×\",\"P\",\"PN\")","v":"PN"},{"$f":"計算結果!#REF!","v":{"$error":"#REF!"}},{"$f":"計算結果!#REF!","v":{"$error":"#REF!"}},{"$f":"計算結果!#REF!","v":{"$error":"#REF!"}},{"$f":"計算結果!#REF!","v":{"$error":"#REF!"}},{"$f":"計算結果!#REF!","v":{"$error":"#REF!"}},{"$f":"計算結果!#REF!","v":{"$error":"#REF!"}},{"$f":"計算結果!#REF!","v":{"$error":"#REF!"}},{"$f":"計算結果!#REF!","v":{"$error":"#REF!"}},{"$f":"計算結果!#REF!","v":{"$error":"#REF!"}},{"$f":"計算結果!#REF!","v":{"$error":"#REF!"}}]
[{"$f":"入力シート!A1153","v":0},{"$f":"入力シート!G1153","v":0},{"$f":"入力シート!H1153","v":0},{"$f":"IF(入力シート!$J1153<>\"\",入力シート!$J1153,IF(入力シート!$L1153<>\"\",入力シート!$L1153,\"‐\"))","v":"‐"},{"$f":"IF(入力シート!$K1153<>\"\",入力シート!$K1153,IF(入力シート!$M1153<>\"\",入力シート!$M1153,入力シート!$N1153))","v":0},{"$f":"入力シート!I1153","v":0},{"$f":"入力シート!O1153","v":0},{"$f":"IF(入力シート!P1153=\"×\",\"P\",\"PN\")","v":"PN"},{"$f":"計算結果!#REF!","v":{"$error":"#REF!"}},{"$f":"計算結果!#REF!","v":{"$error":"#REF!"}},{"$f":"計算結果!#REF!","v":{"$error":"#REF!"}},{"$f":"計算結果!#REF!","v":{"$error":"#REF!"}},{"$f":"計算結果!#REF!","v":{"$error":"#REF!"}},{"$f":"計算結果!#REF!","v":{"$error":"#REF!"}},{"$f":"計算結果!#REF!","v":{"$error":"#REF!"}},{"$f":"計算結果!#REF!","v":{"$error":"#REF!"}},{"$f":"計算結果!#REF!","v":{"$error":"#REF!"}},{"$f":"計算結果!#REF!","v":{"$error":"#REF!"}}]
[{"$f":"入力シート!A1154","v":0},{"$f":"入力シート!G1154","v":0},{"$f":"入力シート!H1154","v":0},{"$f":"IF(入力シート!$J1154<>\"\",入力シート!$J1154,IF(入力シート!$L1154<>\"\",入力シート!$L1154,\"‐\"))","v":"‐"},{"$f":"IF(入力シート!$K1154<>\"\",入力シート!$K1154,IF(入力シート!$M1154<>\"\",入力シート!$M1154,入力シート!$N1154))","v":0},{"$f":"入力シート!I1154","v":0},{"$f":"入力シート!O1154","v":0},{"$f":"IF(入力シート!P1154=\"×\",\"P\",\"PN\")","v":"PN"},{"$f":"計算結果!#REF!","v":{"$error":"#REF!"}},{"$f":"計算結果!#REF!","v":{"$error":"#REF!"}},{"$f":"計算結果!#REF!","v":{"$error":"#REF!"}},{"$f":"計算結果!#REF!","v":{"$error":"#REF!"}},{"$f":"計算結果!#REF!","v":{"$error":"#REF!"}},{"$f":"計算結果!#REF!","v":{"$error":"#REF!"}},{"$f":"計算結果!#REF!","v":{"$error":"#REF!"}},{"$f":"計算結果!#REF!","v":{"$error":"#REF!"}},{"$f":"計算結果!#REF!","v":{"$error":"#REF!"}},{"$f":"計算結果!#REF!","v":{"$error":"#REF!"}}]
[{"$f":"入力シート!A1155","v":0},{"$f":"入力シート!G1155","v":0},{"$f":"入力シート!H1155","v":0},{"$f":"IF(入力シート!$J1155<>\"\",入力シート!$J1155,IF(入力シート!$L1155<>\"\",入力シート!$L1155,\"‐\"))","v":"‐"},{"$f":"IF(入力シート!$K1155<>\"\",入力シート!$K1155,IF(入力シート!$M1155<>\"\",入力シート!$M1155,入力シート!$N1155))","v":0},{"$f":"入力シート!I1155","v":0},{"$f":"入力シート!O1155","v":0},{"$f":"IF(入力シート!P1155=\"×\",\"P\",\"PN\")","v":"PN"},{"$f":"計算結果!#REF!","v":{"$error":"#REF!"}},{"$f":"計算結果!#REF!","v":{"$error":"#REF!"}},{"$f":"計算結果!#REF!","v":{"$error":"#REF!"}},{"$f":"計算結果!#REF!","v":{"$error":"#REF!"}},{"$f":"計算結果!#REF!","v":{"$error":"#REF!"}},{"$f":"計算結果!#REF!","v":{"$error":"#REF!"}},{"$f":"計算結果!#REF!","v":{"$error":"#REF!"}},{"$f":"計算結果!#REF!","v":{"$error":"#REF!"}},{"$f":"計算結果!#REF!","v":{"$error":"#REF!"}},{"$f":"計算結果!#REF!","v":{"$error":"#REF!"}}]
[{"$f":"入力シート!A1156","v":0},{"$f":"入力シート!G1156","v":0},{"$f":"入力シート!H1156","v":0},{"$f":"IF(入力シート!$J1156<>\"\",入力シート!$J1156,IF(入力シート!$L1156<>\"\",入力シート!$L1156,\"‐\"))","v":"‐"},{"$f":"IF(入力シート!$K1156<>\"\",入力シート!$K1156,IF(入力シート!$M1156<>\"\",入力シート!$M1156,入力シート!$N1156))","v":0},{"$f":"入力シート!I1156","v":0},{"$f":"入力シート!O1156","v":0},{"$f":"IF(入力シート!P1156=\"×\",\"P\",\"PN\")","v":"PN"},{"$f":"計算結果!#REF!","v":{"$error":"#REF!"}},{"$f":"計算結果!#REF!","v":{"$error":"#REF!"}},{"$f":"計算結果!#REF!","v":{"$error":"#REF!"}},{"$f":"計算結果!#REF!","v":{"$error":"#REF!"}},{"$f":"計算結果!#REF!","v":{"$error":"#REF!"}},{"$f":"計算結果!#REF!","v":{"$error":"#REF!"}},{"$f":"計算結果!#REF!","v":{"$error":"#REF!"}},{"$f":"計算結果!#REF!","v":{"$error":"#REF!"}},{"$f":"計算結果!#REF!","v":{"$error":"#REF!"}},{"$f":"計算結果!#REF!","v":{"$error":"#REF!"}}]
[{"$f":"入力シート!A1157","v":0},{"$f":"入力シート!G1157","v":0},{"$f":"入力シート!H1157","v":0},{"$f":"IF(入力シート!$J1157<>\"\",入力シート!$J1157,IF(入力シート!$L1157<>\"\",入力シート!$L1157,\"‐\"))","v":"‐"},{"$f":"IF(入力シート!$K1157<>\"\",入力シート!$K1157,IF(入力シート!$M1157<>\"\",入力シート!$M1157,入力シート!$N1157))","v":0},{"$f":"入力シート!I1157","v":0},{"$f":"入力シート!O1157","v":0},{"$f":"IF(入力シート!P1157=\"×\",\"P\",\"PN\")","v":"PN"},{"$f":"計算結果!#REF!","v":{"$error":"#REF!"}},{"$f":"計算結果!#REF!","v":{"$error":"#REF!"}},{"$f":"計算結果!#REF!","v":{"$error":"#REF!"}},{"$f":"計算結果!#REF!","v":{"$error":"#REF!"}},{"$f":"計算結果!#REF!","v":{"$error":"#REF!"}},{"$f":"計算結果!#REF!","v":{"$error":"#REF!"}},{"$f":"計算結果!#REF!","v":{"$error":"#REF!"}},{"$f":"計算結果!#REF!","v":{"$error":"#REF!"}},{"$f":"計算結果!#REF!","v":{"$error":"#REF!"}},{"$f":"計算結果!#REF!","v":{"$error":"#REF!"}}]
[{"$f":"入力シート!A1158","v":0},{"$f":"入力シート!G1158","v":0},{"$f":"入力シート!H1158","v":0},{"$f":"IF(入力シート!$J1158<>\"\",入力シート!$J1158,IF(入力シート!$L1158<>\"\",入力シート!$L1158,\"‐\"))","v":"‐"},{"$f":"IF(入力シート!$K1158<>\"\",入力シート!$K1158,IF(入力シート!$M1158<>\"\",入力シート!$M1158,入力シート!$N1158))","v":0},{"$f":"入力シート!I1158","v":0},{"$f":"入力シート!O1158","v":0},{"$f":"IF(入力シート!P1158=\"×\",\"P\",\"PN\")","v":"PN"},{"$f":"計算結果!#REF!","v":{"$error":"#REF!"}},{"$f":"計算結果!#REF!","v":{"$error":"#REF!"}},{"$f":"計算結果!#REF!","v":{"$error":"#REF!"}},{"$f":"計算結果!#REF!","v":{"$error":"#REF!"}},{"$f":"計算結果!#REF!","v":{"$error":"#REF!"}},{"$f":"計算結果!#REF!","v":{"$error":"#REF!"}},{"$f":"計算結果!#REF!","v":{"$error":"#REF!"}},{"$f":"計算結果!#REF!","v":{"$error":"#REF!"}},{"$f":"計算結果!#REF!","v":{"$error":"#REF!"}},{"$f":"計算結果!#REF!","v":{"$error":"#REF!"}}]
[{"$f":"入力シート!A1159","v":0},{"$f":"入力シート!G1159","v":0},{"$f":"入力シート!H1159","v":0},{"$f":"IF(入力シート!$J1159<>\"\",入力シート!$J1159,IF(入力シート!$L1159<>\"\",入力シート!$L1159,\"‐\"))","v":"‐"},{"$f":"IF(入力シート!$K1159<>\"\",入力シート!$K1159,IF(入力シート!$M1159<>\"\",入力シート!$M1159,入力シート!$N1159))","v":0},{"$f":"入力シート!I1159","v":0},{"$f":"入力シート!O1159","v":0},{"$f":"IF(入力シート!P1159=\"×\",\"P\",\"PN\")","v":"PN"},{"$f":"計算結果!#REF!","v":{"$error":"#REF!"}},{"$f":"計算結果!#REF!","v":{"$error":"#REF!"}},{"$f":"計算結果!#REF!","v":{"$error":"#REF!"}},{"$f":"計算結果!#REF!","v":{"$error":"#REF!"}},{"$f":"計算結果!#REF!","v":{"$error":"#REF!"}},{"$f":"計算結果!#REF!","v":{"$error":"#REF!"}},{"$f":"計算結果!#REF!","v":{"$error":"#REF!"}},{"$f":"計算結果!#REF!","v":{"$error":"#REF!"}},{"$f":"計算結果!#REF!","v":{"$error":"#REF!"}},{"$f":"計算結果!#REF!","v":{"$error":"#REF!"}}]
[{"$f":"入力シート!A1160","v":0},{"$f":"入力シート!G1160","v":0},{"$f":"入力シート!H1160","v":0},{"$f":"IF(入力シート!$J1160<>\"\",入力シート!$J1160,IF(入力シート!$L1160<>\"\",入力シート!$L1160,\"‐\"))","v":"‐"},{"$f":"IF(入力シート!$K1160<>\"\",入力シート!$K1160,IF(入力シート!$M1160<>\"\",入力シート!$M1160,入力シート!$N1160))","v":0},{"$f":"入力シート!I1160","v":0},{"$f":"入力シート!O1160","v":0},{"$f":"IF(入力シート!P1160=\"×\",\"P\",\"PN\")","v":"PN"},{"$f":"計算結果!#REF!","v":{"$error":"#REF!"}},{"$f":"計算結果!#REF!","v":{"$error":"#REF!"}},{"$f":"計算結果!#REF!","v":{"$error":"#REF!"}},{"$f":"計算結果!#REF!","v":{"$error":"#REF!"}},{"$f":"計算結果!#REF!","v":{"$error":"#REF!"}},{"$f":"計算結果!#REF!","v":{"$error":"#REF!"}},{"$f":"計算結果!#REF!","v":{"$error":"#REF!"}},{"$f":"計算結果!#REF!","v":{"$error":"#REF!"}},{"$f":"計算結果!#REF!","v":{"$error":"#REF!"}},{"$f":"計算結果!#REF!","v":{"$error":"#REF!"}}]
[{"$f":"入力シート!A1161","v":0},{"$f":"入力シート!G1161","v":0},{"$f":"入力シート!H1161","v":0},{"$f":"IF(入力シート!$J1161<>\"\",入力シート!$J1161,IF(入力シート!$L1161<>\"\",入力シート!$L1161,\"‐\"))","v":"‐"},{"$f":"IF(入力シート!$K1161<>\"\",入力シート!$K1161,IF(入力シート!$M1161<>\"\",入力シート!$M1161,入力シート!$N1161))","v":0},{"$f":"入力シート!I1161","v":0},{"$f":"入力シート!O1161","v":0},{"$f":"IF(入力シート!P1161=\"×\",\"P\",\"PN\")","v":"PN"},{"$f":"計算結果!#REF!","v":{"$error":"#REF!"}},{"$f":"計算結果!#REF!","v":{"$error":"#REF!"}},{"$f":"計算結果!#REF!","v":{"$error":"#REF!"}},{"$f":"計算結果!#REF!","v":{"$error":"#REF!"}},{"$f":"計算結果!#REF!","v":{"$error":"#REF!"}},{"$f":"計算結果!#REF!","v":{"$error":"#REF!"}},{"$f":"計算結果!#REF!","v":{"$error":"#REF!"}},{"$f":"計算結果!#REF!","v":{"$error":"#REF!"}},{"$f":"計算結果!#REF!","v":{"$error":"#REF!"}},{"$f":"計算結果!#REF!","v":{"$error":"#REF!"}}]
[{"$f":"入力シート!A1162","v":0},{"$f":"入力シート!G1162","v":0},{"$f":"入力シート!H1162","v":0},{"$f":"IF(入力シート!$J1162<>\"\",入力シート!$J1162,IF(入力シート!$L1162<>\"\",入力シート!$L1162,\"‐\"))","v":"‐"},{"$f":"IF(入力シート!$K1162<>\"\",入力シート!$K1162,IF(入力シート!$M1162<>\"\",入力シート!$M1162,入力シート!$N1162))","v":0},{"$f":"入力シート!I1162","v":0},{"$f":"入力シート!O1162","v":0},{"$f":"IF(入力シート!P1162=\"×\",\"P\",\"PN\")","v":"PN"},{"$f":"計算結果!#REF!","v":{"$error":"#REF!"}},{"$f":"計算結果!#REF!","v":{"$error":"#REF!"}},{"$f":"計算結果!#REF!","v":{"$error":"#REF!"}},{"$f":"計算結果!#REF!","v":{"$error":"#REF!"}},{"$f":"計算結果!#REF!","v":{"$error":"#REF!"}},{"$f":"計算結果!#REF!","v":{"$error":"#REF!"}},{"$f":"計算結果!#REF!","v":{"$error":"#REF!"}},{"$f":"計算結果!#REF!","v":{"$error":"#REF!"}},{"$f":"計算結果!#REF!","v":{"$error":"#REF!"}},{"$f":"計算結果!#REF!","v":{"$error":"#REF!"}}]
[{"$f":"入力シート!A1163","v":0},{"$f":"入力シート!G1163","v":0},{"$f":"入力シート!H1163","v":0},{"$f":"IF(入力シート!$J1163<>\"\",入力シート!$J1163,IF(入力シート!$L1163<>\"\",入力シート!$L1163,\"‐\"))","v":"‐"},{"$f":"IF(入力シート!$K1163<>\"\",入力シート!$K1163,IF(入力シート!$M1163<>\"\",入力シート!$M1163,入力シート!$N1163))","v":0},{"$f":"入力シート!I1163","v":0},{"$f":"入力シート!O1163","v":0},{"$f":"IF(入力シート!P1163=\"×\",\"P\",\"PN\")","v":"PN"},{"$f":"計算結果!#REF!","v":{"$error":"#REF!"}},{"$f":"計算結果!#REF!","v":{"$error":"#REF!"}},{"$f":"計算結果!#REF!","v":{"$error":"#REF!"}},{"$f":"計算結果!#REF!","v":{"$error":"#REF!"}},{"$f":"計算結果!#REF!","v":{"$error":"#REF!"}},{"$f":"計算結果!#REF!","v":{"$error":"#REF!"}},{"$f":"計算結果!#REF!","v":{"$error":"#REF!"}},{"$f":"計算結果!#REF!","v":{"$error":"#REF!"}},{"$f":"計算結果!#REF!","v":{"$error":"#REF!"}},{"$f":"計算結果!#REF!","v":{"$error":"#REF!"}}]
[{"$f":"入力シート!A1164","v":0},{"$f":"入力シート!G1164","v":0},{"$f":"入力シート!H1164","v":0},{"$f":"IF(入力シート!$J1164<>\"\",入力シート!$J1164,IF(入力シート!$L1164<>\"\",入力シート!$L1164,\"‐\"))","v":"‐"},{"$f":"IF(入力シート!$K1164<>\"\",入力シート!$K1164,IF(入力シート!$M1164<>\"\",入力シート!$M1164,入力シート!$N1164))","v":0},{"$f":"入力シート!I1164","v":0},{"$f":"入力シート!O1164","v":0},{"$f":"IF(入力シート!P1164=\"×\",\"P\",\"PN\")","v":"PN"},{"$f":"計算結果!#REF!","v":{"$error":"#REF!"}},{"$f":"計算結果!#REF!","v":{"$error":"#REF!"}},{"$f":"計算結果!#REF!","v":{"$error":"#REF!"}},{"$f":"計算結果!#REF!","v":{"$error":"#REF!"}},{"$f":"計算結果!#REF!","v":{"$error":"#REF!"}},{"$f":"計算結果!#REF!","v":{"$error":"#REF!"}},{"$f":"計算結果!#REF!","v":{"$error":"#REF!"}},{"$f":"計算結果!#REF!","v":{"$error":"#REF!"}},{"$f":"計算結果!#REF!","v":{"$error":"#REF!"}},{"$f":"計算結果!#REF!","v":{"$error":"#REF!"}}]
[{"$f":"入力シート!A1165","v":0},{"$f":"入力シート!G1165","v":0},{"$f":"入力シート!H1165","v":0},{"$f":"IF(入力シート!$J1165<>\"\",入力シート!$J1165,IF(入力シート!$L1165<>\"\",入力シート!$L1165,\"‐\"))","v":"‐"},{"$f":"IF(入力シート!$K1165<>\"\",入力シート!$K1165,IF(入力シート!$M1165<>\"\",入力シート!$M1165,入力シート!$N1165))","v":0},{"$f":"入力シート!I1165","v":0},{"$f":"入力シート!O1165","v":0},{"$f":"IF(入力シート!P1165=\"×\",\"P\",\"PN\")","v":"PN"},{"$f":"計算結果!#REF!","v":{"$error":"#REF!"}},{"$f":"計算結果!#REF!","v":{"$error":"#REF!"}},{"$f":"計算結果!#REF!","v":{"$error":"#REF!"}},{"$f":"計算結果!#REF!","v":{"$error":"#REF!"}},{"$f":"計算結果!#REF!","v":{"$error":"#REF!"}},{"$f":"計算結果!#REF!","v":{"$error":"#REF!"}},{"$f":"計算結果!#REF!","v":{"$error":"#REF!"}},{"$f":"計算結果!#REF!","v":{"$error":"#REF!"}},{"$f":"計算結果!#REF!","v":{"$error":"#REF!"}},{"$f":"計算結果!#REF!","v":{"$error":"#REF!"}}]
[{"$f":"入力シート!A1166","v":0},{"$f":"入力シート!G1166","v":0},{"$f":"入力シート!H1166","v":0},{"$f":"IF(入力シート!$J1166<>\"\",入力シート!$J1166,IF(入力シート!$L1166<>\"\",入力シート!$L1166,\"‐\"))","v":"‐"},{"$f":"IF(入力シート!$K1166<>\"\",入力シート!$K1166,IF(入力シート!$M1166<>\"\",入力シート!$M1166,入力シート!$N1166))","v":0},{"$f":"入力シート!I1166","v":0},{"$f":"入力シート!O1166","v":0},{"$f":"IF(入力シート!P1166=\"×\",\"P\",\"PN\")","v":"PN"},{"$f":"計算結果!#REF!","v":{"$error":"#REF!"}},{"$f":"計算結果!#REF!","v":{"$error":"#REF!"}},{"$f":"計算結果!#REF!","v":{"$error":"#REF!"}},{"$f":"計算結果!#REF!","v":{"$error":"#REF!"}},{"$f":"計算結果!#REF!","v":{"$error":"#REF!"}},{"$f":"計算結果!#REF!","v":{"$error":"#REF!"}},{"$f":"計算結果!#REF!","v":{"$error":"#REF!"}},{"$f":"計算結果!#REF!","v":{"$error":"#REF!"}},{"$f":"計算結果!#REF!","v":{"$error":"#REF!"}},{"$f":"計算結果!#REF!","v":{"$error":"#REF!"}}]
[{"$f":"入力シート!A1167","v":0},{"$f":"入力シート!G1167","v":0},{"$f":"入力シート!H1167","v":0},{"$f":"IF(入力シート!$J1167<>\"\",入力シート!$J1167,IF(入力シート!$L1167<>\"\",入力シート!$L1167,\"‐\"))","v":"‐"},{"$f":"IF(入力シート!$K1167<>\"\",入力シート!$K1167,IF(入力シート!$M1167<>\"\",入力シート!$M1167,入力シート!$N1167))","v":0},{"$f":"入力シート!I1167","v":0},{"$f":"入力シート!O1167","v":0},{"$f":"IF(入力シート!P1167=\"×\",\"P\",\"PN\")","v":"PN"},{"$f":"計算結果!#REF!","v":{"$error":"#REF!"}},{"$f":"計算結果!#REF!","v":{"$error":"#REF!"}},{"$f":"計算結果!#REF!","v":{"$error":"#REF!"}},{"$f":"計算結果!#REF!","v":{"$error":"#REF!"}},{"$f":"計算結果!#REF!","v":{"$error":"#REF!"}},{"$f":"計算結果!#REF!","v":{"$error":"#REF!"}},{"$f":"計算結果!#REF!","v":{"$error":"#REF!"}},{"$f":"計算結果!#REF!","v":{"$error":"#REF!"}},{"$f":"計算結果!#REF!","v":{"$error":"#REF!"}},{"$f":"計算結果!#REF!","v":{"$error":"#REF!"}}]
[{"$f":"入力シート!A1168","v":0},{"$f":"入力シート!G1168","v":0},{"$f":"入力シート!H1168","v":0},{"$f":"IF(入力シート!$J1168<>\"\",入力シート!$J1168,IF(入力シート!$L1168<>\"\",入力シート!$L1168,\"‐\"))","v":"‐"},{"$f":"IF(入力シート!$K1168<>\"\",入力シート!$K1168,IF(入力シート!$M1168<>\"\",入力シート!$M1168,入力シート!$N1168))","v":0},{"$f":"入力シート!I1168","v":0},{"$f":"入力シート!O1168","v":0},{"$f":"IF(入力シート!P1168=\"×\",\"P\",\"PN\")","v":"PN"},{"$f":"計算結果!#REF!","v":{"$error":"#REF!"}},{"$f":"計算結果!#REF!","v":{"$error":"#REF!"}},{"$f":"計算結果!#REF!","v":{"$error":"#REF!"}},{"$f":"計算結果!#REF!","v":{"$error":"#REF!"}},{"$f":"計算結果!#REF!","v":{"$error":"#REF!"}},{"$f":"計算結果!#REF!","v":{"$error":"#REF!"}},{"$f":"計算結果!#REF!","v":{"$error":"#REF!"}},{"$f":"計算結果!#REF!","v":{"$error":"#REF!"}},{"$f":"計算結果!#REF!","v":{"$error":"#REF!"}},{"$f":"計算結果!#REF!","v":{"$error":"#REF!"}}]
[{"$f":"入力シート!A1169","v":0},{"$f":"入力シート!G1169","v":0},{"$f":"入力シート!H1169","v":0},{"$f":"IF(入力シート!$J1169<>\"\",入力シート!$J1169,IF(入力シート!$L1169<>\"\",入力シート!$L1169,\"‐\"))","v":"‐"},{"$f":"IF(入力シート!$K1169<>\"\",入力シート!$K1169,IF(入力シート!$M1169<>\"\",入力シート!$M1169,入力シート!$N1169))","v":0},{"$f":"入力シート!I1169","v":0},{"$f":"入力シート!O1169","v":0},{"$f":"IF(入力シート!P1169=\"×\",\"P\",\"PN\")","v":"PN"},{"$f":"計算結果!#REF!","v":{"$error":"#REF!"}},{"$f":"計算結果!#REF!","v":{"$error":"#REF!"}},{"$f":"計算結果!#REF!","v":{"$error":"#REF!"}},{"$f":"計算結果!#REF!","v":{"$error":"#REF!"}},{"$f":"計算結果!#REF!","v":{"$error":"#REF!"}},{"$f":"計算結果!#REF!","v":{"$error":"#REF!"}},{"$f":"計算結果!#REF!","v":{"$error":"#REF!"}},{"$f":"計算結果!#REF!","v":{"$error":"#REF!"}},{"$f":"計算結果!#REF!","v":{"$error":"#REF!"}},{"$f":"計算結果!#REF!","v":{"$error":"#REF!"}}]
[{"$f":"入力シート!A1170","v":0},{"$f":"入力シート!G1170","v":0},{"$f":"入力シート!H1170","v":0},{"$f":"IF(入力シート!$J1170<>\"\",入力シート!$J1170,IF(入力シート!$L1170<>\"\",入力シート!$L1170,\"‐\"))","v":"‐"},{"$f":"IF(入力シート!$K1170<>\"\",入力シート!$K1170,IF(入力シート!$M1170<>\"\",入力シート!$M1170,入力シート!$N1170))","v":0},{"$f":"入力シート!I1170","v":0},{"$f":"入力シート!O1170","v":0},{"$f":"IF(入力シート!P1170=\"×\",\"P\",\"PN\")","v":"PN"},{"$f":"計算結果!#REF!","v":{"$error":"#REF!"}},{"$f":"計算結果!#REF!","v":{"$error":"#REF!"}},{"$f":"計算結果!#REF!","v":{"$error":"#REF!"}},{"$f":"計算結果!#REF!","v":{"$error":"#REF!"}},{"$f":"計算結果!#REF!","v":{"$error":"#REF!"}},{"$f":"計算結果!#REF!","v":{"$error":"#REF!"}},{"$f":"計算結果!#REF!","v":{"$error":"#REF!"}},{"$f":"計算結果!#REF!","v":{"$error":"#REF!"}},{"$f":"計算結果!#REF!","v":{"$error":"#REF!"}},{"$f":"計算結果!#REF!","v":{"$error":"#REF!"}}]
[{"$f":"入力シート!A1171","v":0},{"$f":"入力シート!G1171","v":0},{"$f":"入力シート!H1171","v":0},{"$f":"IF(入力シート!$J1171<>\"\",入力シート!$J1171,IF(入力シート!$L1171<>\"\",入力シート!$L1171,\"‐\"))","v":"‐"},{"$f":"IF(入力シート!$K1171<>\"\",入力シート!$K1171,IF(入力シート!$M1171<>\"\",入力シート!$M1171,入力シート!$N1171))","v":0},{"$f":"入力シート!I1171","v":0},{"$f":"入力シート!O1171","v":0},{"$f":"IF(入力シート!P1171=\"×\",\"P\",\"PN\")","v":"PN"},{"$f":"計算結果!#REF!","v":{"$error":"#REF!"}},{"$f":"計算結果!#REF!","v":{"$error":"#REF!"}},{"$f":"計算結果!#REF!","v":{"$error":"#REF!"}},{"$f":"計算結果!#REF!","v":{"$error":"#REF!"}},{"$f":"計算結果!#REF!","v":{"$error":"#REF!"}},{"$f":"計算結果!#REF!","v":{"$error":"#REF!"}},{"$f":"計算結果!#REF!","v":{"$error":"#REF!"}},{"$f":"計算結果!#REF!","v":{"$error":"#REF!"}},{"$f":"計算結果!#REF!","v":{"$error":"#REF!"}},{"$f":"計算結果!#REF!","v":{"$error":"#REF!"}}]
[{"$f":"入力シート!A1172","v":0},{"$f":"入力シート!G1172","v":0},{"$f":"入力シート!H1172","v":0},{"$f":"IF(入力シート!$J1172<>\"\",入力シート!$J1172,IF(入力シート!$L1172<>\"\",入力シート!$L1172,\"‐\"))","v":"‐"},{"$f":"IF(入力シート!$K1172<>\"\",入力シート!$K1172,IF(入力シート!$M1172<>\"\",入力シート!$M1172,入力シート!$N1172))","v":0},{"$f":"入力シート!I1172","v":0},{"$f":"入力シート!O1172","v":0},{"$f":"IF(入力シート!P1172=\"×\",\"P\",\"PN\")","v":"PN"},{"$f":"計算結果!#REF!","v":{"$error":"#REF!"}},{"$f":"計算結果!#REF!","v":{"$error":"#REF!"}},{"$f":"計算結果!#REF!","v":{"$error":"#REF!"}},{"$f":"計算結果!#REF!","v":{"$error":"#REF!"}},{"$f":"計算結果!#REF!","v":{"$error":"#REF!"}},{"$f":"計算結果!#REF!","v":{"$error":"#REF!"}},{"$f":"計算結果!#REF!","v":{"$error":"#REF!"}},{"$f":"計算結果!#REF!","v":{"$error":"#REF!"}},{"$f":"計算結果!#REF!","v":{"$error":"#REF!"}},{"$f":"計算結果!#REF!","v":{"$error":"#REF!"}}]
[{"$f":"入力シート!A1173","v":0},{"$f":"入力シート!G1173","v":0},{"$f":"入力シート!H1173","v":0},{"$f":"IF(入力シート!$J1173<>\"\",入力シート!$J1173,IF(入力シート!$L1173<>\"\",入力シート!$L1173,\"‐\"))","v":"‐"},{"$f":"IF(入力シート!$K1173<>\"\",入力シート!$K1173,IF(入力シート!$M1173<>\"\",入力シート!$M1173,入力シート!$N1173))","v":0},{"$f":"入力シート!I1173","v":0},{"$f":"入力シート!O1173","v":0},{"$f":"IF(入力シート!P1173=\"×\",\"P\",\"PN\")","v":"PN"},{"$f":"計算結果!#REF!","v":{"$error":"#REF!"}},{"$f":"計算結果!#REF!","v":{"$error":"#REF!"}},{"$f":"計算結果!#REF!","v":{"$error":"#REF!"}},{"$f":"計算結果!#REF!","v":{"$error":"#REF!"}},{"$f":"計算結果!#REF!","v":{"$error":"#REF!"}},{"$f":"計算結果!#REF!","v":{"$error":"#REF!"}},{"$f":"計算結果!#REF!","v":{"$error":"#REF!"}},{"$f":"計算結果!#REF!","v":{"$error":"#REF!"}},{"$f":"計算結果!#REF!","v":{"$error":"#REF!"}},{"$f":"計算結果!#REF!","v":{"$error":"#REF!"}}]
[{"$f":"入力シート!A1174","v":0},{"$f":"入力シート!G1174","v":0},{"$f":"入力シート!H1174","v":0},{"$f":"IF(入力シート!$J1174<>\"\",入力シート!$J1174,IF(入力シート!$L1174<>\"\",入力シート!$L1174,\"‐\"))","v":"‐"},{"$f":"IF(入力シート!$K1174<>\"\",入力シート!$K1174,IF(入力シート!$M1174<>\"\",入力シート!$M1174,入力シート!$N1174))","v":0},{"$f":"入力シート!I1174","v":0},{"$f":"入力シート!O1174","v":0},{"$f":"IF(入力シート!P1174=\"×\",\"P\",\"PN\")","v":"PN"},{"$f":"計算結果!#REF!","v":{"$error":"#REF!"}},{"$f":"計算結果!#REF!","v":{"$error":"#REF!"}},{"$f":"計算結果!#REF!","v":{"$error":"#REF!"}},{"$f":"計算結果!#REF!","v":{"$error":"#REF!"}},{"$f":"計算結果!#REF!","v":{"$error":"#REF!"}},{"$f":"計算結果!#REF!","v":{"$error":"#REF!"}},{"$f":"計算結果!#REF!","v":{"$error":"#REF!"}},{"$f":"計算結果!#REF!","v":{"$error":"#REF!"}},{"$f":"計算結果!#REF!","v":{"$error":"#REF!"}},{"$f":"計算結果!#REF!","v":{"$error":"#REF!"}}]
[{"$f":"入力シート!A1175","v":0},{"$f":"入力シート!G1175","v":0},{"$f":"入力シート!H1175","v":0},{"$f":"IF(入力シート!$J1175<>\"\",入力シート!$J1175,IF(入力シート!$L1175<>\"\",入力シート!$L1175,\"‐\"))","v":"‐"},{"$f":"IF(入力シート!$K1175<>\"\",入力シート!$K1175,IF(入力シート!$M1175<>\"\",入力シート!$M1175,入力シート!$N1175))","v":0},{"$f":"入力シート!I1175","v":0},{"$f":"入力シート!O1175","v":0},{"$f":"IF(入力シート!P1175=\"×\",\"P\",\"PN\")","v":"PN"},{"$f":"計算結果!#REF!","v":{"$error":"#REF!"}},{"$f":"計算結果!#REF!","v":{"$error":"#REF!"}},{"$f":"計算結果!#REF!","v":{"$error":"#REF!"}},{"$f":"計算結果!#REF!","v":{"$error":"#REF!"}},{"$f":"計算結果!#REF!","v":{"$error":"#REF!"}},{"$f":"計算結果!#REF!","v":{"$error":"#REF!"}},{"$f":"計算結果!#REF!","v":{"$error":"#REF!"}},{"$f":"計算結果!#REF!","v":{"$error":"#REF!"}},{"$f":"計算結果!#REF!","v":{"$error":"#REF!"}},{"$f":"計算結果!#REF!","v":{"$error":"#REF!"}}]
[{"$f":"入力シート!A1176","v":0},{"$f":"入力シート!G1176","v":0},{"$f":"入力シート!H1176","v":0},{"$f":"IF(入力シート!$J1176<>\"\",入力シート!$J1176,IF(入力シート!$L1176<>\"\",入力シート!$L1176,\"‐\"))","v":"‐"},{"$f":"IF(入力シート!$K1176<>\"\",入力シート!$K1176,IF(入力シート!$M1176<>\"\",入力シート!$M1176,入力シート!$N1176))","v":0},{"$f":"入力シート!I1176","v":0},{"$f":"入力シート!O1176","v":0},{"$f":"IF(入力シート!P1176=\"×\",\"P\",\"PN\")","v":"PN"},{"$f":"計算結果!#REF!","v":{"$error":"#REF!"}},{"$f":"計算結果!#REF!","v":{"$error":"#REF!"}},{"$f":"計算結果!#REF!","v":{"$error":"#REF!"}},{"$f":"計算結果!#REF!","v":{"$error":"#REF!"}},{"$f":"計算結果!#REF!","v":{"$error":"#REF!"}},{"$f":"計算結果!#REF!","v":{"$error":"#REF!"}},{"$f":"計算結果!#REF!","v":{"$error":"#REF!"}},{"$f":"計算結果!#REF!","v":{"$error":"#REF!"}},{"$f":"計算結果!#REF!","v":{"$error":"#REF!"}},{"$f":"計算結果!#REF!","v":{"$error":"#REF!"}}]
[{"$f":"入力シート!A1177","v":0},{"$f":"入力シート!G1177","v":0},{"$f":"入力シート!H1177","v":0},{"$f":"IF(入力シート!$J1177<>\"\",入力シート!$J1177,IF(入力シート!$L1177<>\"\",入力シート!$L1177,\"‐\"))","v":"‐"},{"$f":"IF(入力シート!$K1177<>\"\",入力シート!$K1177,IF(入力シート!$M1177<>\"\",入力シート!$M1177,入力シート!$N1177))","v":0},{"$f":"入力シート!I1177","v":0},{"$f":"入力シート!O1177","v":0},{"$f":"IF(入力シート!P1177=\"×\",\"P\",\"PN\")","v":"PN"},{"$f":"計算結果!#REF!","v":{"$error":"#REF!"}},{"$f":"計算結果!#REF!","v":{"$error":"#REF!"}},{"$f":"計算結果!#REF!","v":{"$error":"#REF!"}},{"$f":"計算結果!#REF!","v":{"$error":"#REF!"}},{"$f":"計算結果!#REF!","v":{"$error":"#REF!"}},{"$f":"計算結果!#REF!","v":{"$error":"#REF!"}},{"$f":"計算結果!#REF!","v":{"$error":"#REF!"}},{"$f":"計算結果!#REF!","v":{"$error":"#REF!"}},{"$f":"計算結果!#REF!","v":{"$error":"#REF!"}},{"$f":"計算結果!#REF!","v":{"$error":"#REF!"}}]
[{"$f":"入力シート!A1178","v":0},{"$f":"入力シート!G1178","v":0},{"$f":"入力シート!H1178","v":0},{"$f":"IF(入力シート!$J1178<>\"\",入力シート!$J1178,IF(入力シート!$L1178<>\"\",入力シート!$L1178,\"‐\"))","v":"‐"},{"$f":"IF(入力シート!$K1178<>\"\",入力シート!$K1178,IF(入力シート!$M1178<>\"\",入力シート!$M1178,入力シート!$N1178))","v":0},{"$f":"入力シート!I1178","v":0},{"$f":"入力シート!O1178","v":0},{"$f":"IF(入力シート!P1178=\"×\",\"P\",\"PN\")","v":"PN"},{"$f":"計算結果!#REF!","v":{"$error":"#REF!"}},{"$f":"計算結果!#REF!","v":{"$error":"#REF!"}},{"$f":"計算結果!#REF!","v":{"$error":"#REF!"}},{"$f":"計算結果!#REF!","v":{"$error":"#REF!"}},{"$f":"計算結果!#REF!","v":{"$error":"#REF!"}},{"$f":"計算結果!#REF!","v":{"$error":"#REF!"}},{"$f":"計算結果!#REF!","v":{"$error":"#REF!"}},{"$f":"計算結果!#REF!","v":{"$error":"#REF!"}},{"$f":"計算結果!#REF!","v":{"$error":"#REF!"}},{"$f":"計算結果!#REF!","v":{"$error":"#REF!"}}]
[{"$f":"入力シート!A1179","v":0},{"$f":"入力シート!G1179","v":0},{"$f":"入力シート!H1179","v":0},{"$f":"IF(入力シート!$J1179<>\"\",入力シート!$J1179,IF(入力シート!$L1179<>\"\",入力シート!$L1179,\"‐\"))","v":"‐"},{"$f":"IF(入力シート!$K1179<>\"\",入力シート!$K1179,IF(入力シート!$M1179<>\"\",入力シート!$M1179,入力シート!$N1179))","v":0},{"$f":"入力シート!I1179","v":0},{"$f":"入力シート!O1179","v":0},{"$f":"IF(入力シート!P1179=\"×\",\"P\",\"PN\")","v":"PN"},{"$f":"計算結果!#REF!","v":{"$error":"#REF!"}},{"$f":"計算結果!#REF!","v":{"$error":"#REF!"}},{"$f":"計算結果!#REF!","v":{"$error":"#REF!"}},{"$f":"計算結果!#REF!","v":{"$error":"#REF!"}},{"$f":"計算結果!#REF!","v":{"$error":"#REF!"}},{"$f":"計算結果!#REF!","v":{"$error":"#REF!"}},{"$f":"計算結果!#REF!","v":{"$error":"#REF!"}},{"$f":"計算結果!#REF!","v":{"$error":"#REF!"}},{"$f":"計算結果!#REF!","v":{"$error":"#REF!"}},{"$f":"計算結果!#REF!","v":{"$error":"#REF!"}}]
[{"$f":"入力シート!A1180","v":0},{"$f":"入力シート!G1180","v":0},{"$f":"入力シート!H1180","v":0},{"$f":"IF(入力シート!$J1180<>\"\",入力シート!$J1180,IF(入力シート!$L1180<>\"\",入力シート!$L1180,\"‐\"))","v":"‐"},{"$f":"IF(入力シート!$K1180<>\"\",入力シート!$K1180,IF(入力シート!$M1180<>\"\",入力シート!$M1180,入力シート!$N1180))","v":0},{"$f":"入力シート!I1180","v":0},{"$f":"入力シート!O1180","v":0},{"$f":"IF(入力シート!P1180=\"×\",\"P\",\"PN\")","v":"PN"},{"$f":"計算結果!#REF!","v":{"$error":"#REF!"}},{"$f":"計算結果!#REF!","v":{"$error":"#REF!"}},{"$f":"計算結果!#REF!","v":{"$error":"#REF!"}},{"$f":"計算結果!#REF!","v":{"$error":"#REF!"}},{"$f":"計算結果!#REF!","v":{"$error":"#REF!"}},{"$f":"計算結果!#REF!","v":{"$error":"#REF!"}},{"$f":"計算結果!#REF!","v":{"$error":"#REF!"}},{"$f":"計算結果!#REF!","v":{"$error":"#REF!"}},{"$f":"計算結果!#REF!","v":{"$error":"#REF!"}},{"$f":"計算結果!#REF!","v":{"$error":"#REF!"}}]
[{"$f":"入力シート!A1181","v":0},{"$f":"入力シート!G1181","v":0},{"$f":"入力シート!H1181","v":0},{"$f":"IF(入力シート!$J1181<>\"\",入力シート!$J1181,IF(入力シート!$L1181<>\"\",入力シート!$L1181,\"‐\"))","v":"‐"},{"$f":"IF(入力シート!$K1181<>\"\",入力シート!$K1181,IF(入力シート!$M1181<>\"\",入力シート!$M1181,入力シート!$N1181))","v":0},{"$f":"入力シート!I1181","v":0},{"$f":"入力シート!O1181","v":0},{"$f":"IF(入力シート!P1181=\"×\",\"P\",\"PN\")","v":"PN"},{"$f":"計算結果!#REF!","v":{"$error":"#REF!"}},{"$f":"計算結果!#REF!","v":{"$error":"#REF!"}},{"$f":"計算結果!#REF!","v":{"$error":"#REF!"}},{"$f":"計算結果!#REF!","v":{"$error":"#REF!"}},{"$f":"計算結果!#REF!","v":{"$error":"#REF!"}},{"$f":"計算結果!#REF!","v":{"$error":"#REF!"}},{"$f":"計算結果!#REF!","v":{"$error":"#REF!"}},{"$f":"計算結果!#REF!","v":{"$error":"#REF!"}},{"$f":"計算結果!#REF!","v":{"$error":"#REF!"}},{"$f":"計算結果!#REF!","v":{"$error":"#REF!"}}]
[{"$f":"入力シート!A1182","v":0},{"$f":"入力シート!G1182","v":0},{"$f":"入力シート!H1182","v":0},{"$f":"IF(入力シート!$J1182<>\"\",入力シート!$J1182,IF(入力シート!$L1182<>\"\",入力シート!$L1182,\"‐\"))","v":"‐"},{"$f":"IF(入力シート!$K1182<>\"\",入力シート!$K1182,IF(入力シート!$M1182<>\"\",入力シート!$M1182,入力シート!$N1182))","v":0},{"$f":"入力シート!I1182","v":0},{"$f":"入力シート!O1182","v":0},{"$f":"IF(入力シート!P1182=\"×\",\"P\",\"PN\")","v":"PN"},{"$f":"計算結果!#REF!","v":{"$error":"#REF!"}},{"$f":"計算結果!#REF!","v":{"$error":"#REF!"}},{"$f":"計算結果!#REF!","v":{"$error":"#REF!"}},{"$f":"計算結果!#REF!","v":{"$error":"#REF!"}},{"$f":"計算結果!#REF!","v":{"$error":"#REF!"}},{"$f":"計算結果!#REF!","v":{"$error":"#REF!"}},{"$f":"計算結果!#REF!","v":{"$error":"#REF!"}},{"$f":"計算結果!#REF!","v":{"$error":"#REF!"}},{"$f":"計算結果!#REF!","v":{"$error":"#REF!"}},{"$f":"計算結果!#REF!","v":{"$error":"#REF!"}}]
[{"$f":"入力シート!A1183","v":0},{"$f":"入力シート!G1183","v":0},{"$f":"入力シート!H1183","v":0},{"$f":"IF(入力シート!$J1183<>\"\",入力シート!$J1183,IF(入力シート!$L1183<>\"\",入力シート!$L1183,\"‐\"))","v":"‐"},{"$f":"IF(入力シート!$K1183<>\"\",入力シート!$K1183,IF(入力シート!$M1183<>\"\",入力シート!$M1183,入力シート!$N1183))","v":0},{"$f":"入力シート!I1183","v":0},{"$f":"入力シート!O1183","v":0},{"$f":"IF(入力シート!P1183=\"×\",\"P\",\"PN\")","v":"PN"},{"$f":"計算結果!#REF!","v":{"$error":"#REF!"}},{"$f":"計算結果!#REF!","v":{"$error":"#REF!"}},{"$f":"計算結果!#REF!","v":{"$error":"#REF!"}},{"$f":"計算結果!#REF!","v":{"$error":"#REF!"}},{"$f":"計算結果!#REF!","v":{"$error":"#REF!"}},{"$f":"計算結果!#REF!","v":{"$error":"#REF!"}},{"$f":"計算結果!#REF!","v":{"$error":"#REF!"}},{"$f":"計算結果!#REF!","v":{"$error":"#REF!"}},{"$f":"計算結果!#REF!","v":{"$error":"#REF!"}},{"$f":"計算結果!#REF!","v":{"$error":"#REF!"}}]
[{"$f":"入力シート!A1184","v":0},{"$f":"入力シート!G1184","v":0},{"$f":"入力シート!H1184","v":0},{"$f":"IF(入力シート!$J1184<>\"\",入力シート!$J1184,IF(入力シート!$L1184<>\"\",入力シート!$L1184,\"‐\"))","v":"‐"},{"$f":"IF(入力シート!$K1184<>\"\",入力シート!$K1184,IF(入力シート!$M1184<>\"\",入力シート!$M1184,入力シート!$N1184))","v":0},{"$f":"入力シート!I1184","v":0},{"$f":"入力シート!O1184","v":0},{"$f":"IF(入力シート!P1184=\"×\",\"P\",\"PN\")","v":"PN"},{"$f":"計算結果!#REF!","v":{"$error":"#REF!"}},{"$f":"計算結果!#REF!","v":{"$error":"#REF!"}},{"$f":"計算結果!#REF!","v":{"$error":"#REF!"}},{"$f":"計算結果!#REF!","v":{"$error":"#REF!"}},{"$f":"計算結果!#REF!","v":{"$error":"#REF!"}},{"$f":"計算結果!#REF!","v":{"$error":"#REF!"}},{"$f":"計算結果!#REF!","v":{"$error":"#REF!"}},{"$f":"計算結果!#REF!","v":{"$error":"#REF!"}},{"$f":"計算結果!#REF!","v":{"$error":"#REF!"}},{"$f":"計算結果!#REF!","v":{"$error":"#REF!"}}]
[{"$f":"入力シート!A1185","v":0},{"$f":"入力シート!G1185","v":0},{"$f":"入力シート!H1185","v":0},{"$f":"IF(入力シート!$J1185<>\"\",入力シート!$J1185,IF(入力シート!$L1185<>\"\",入力シート!$L1185,\"‐\"))","v":"‐"},{"$f":"IF(入力シート!$K1185<>\"\",入力シート!$K1185,IF(入力シート!$M1185<>\"\",入力シート!$M1185,入力シート!$N1185))","v":0},{"$f":"入力シート!I1185","v":0},{"$f":"入力シート!O1185","v":0},{"$f":"IF(入力シート!P1185=\"×\",\"P\",\"PN\")","v":"PN"},{"$f":"計算結果!#REF!","v":{"$error":"#REF!"}},{"$f":"計算結果!#REF!","v":{"$error":"#REF!"}},{"$f":"計算結果!#REF!","v":{"$error":"#REF!"}},{"$f":"計算結果!#REF!","v":{"$error":"#REF!"}},{"$f":"計算結果!#REF!","v":{"$error":"#REF!"}},{"$f":"計算結果!#REF!","v":{"$error":"#REF!"}},{"$f":"計算結果!#REF!","v":{"$error":"#REF!"}},{"$f":"計算結果!#REF!","v":{"$error":"#REF!"}},{"$f":"計算結果!#REF!","v":{"$error":"#REF!"}},{"$f":"計算結果!#REF!","v":{"$error":"#REF!"}}]
[{"$f":"入力シート!A1186","v":0},{"$f":"入力シート!G1186","v":0},{"$f":"入力シート!H1186","v":0},{"$f":"IF(入力シート!$J1186<>\"\",入力シート!$J1186,IF(入力シート!$L1186<>\"\",入力シート!$L1186,\"‐\"))","v":"‐"},{"$f":"IF(入力シート!$K1186<>\"\",入力シート!$K1186,IF(入力シート!$M1186<>\"\",入力シート!$M1186,入力シート!$N1186))","v":0},{"$f":"入力シート!I1186","v":0},{"$f":"入力シート!O1186","v":0},{"$f":"IF(入力シート!P1186=\"×\",\"P\",\"PN\")","v":"PN"},{"$f":"計算結果!#REF!","v":{"$error":"#REF!"}},{"$f":"計算結果!#REF!","v":{"$error":"#REF!"}},{"$f":"計算結果!#REF!","v":{"$error":"#REF!"}},{"$f":"計算結果!#REF!","v":{"$error":"#REF!"}},{"$f":"計算結果!#REF!","v":{"$error":"#REF!"}},{"$f":"計算結果!#REF!","v":{"$error":"#REF!"}},{"$f":"計算結果!#REF!","v":{"$error":"#REF!"}},{"$f":"計算結果!#REF!","v":{"$error":"#REF!"}},{"$f":"計算結果!#REF!","v":{"$error":"#REF!"}},{"$f":"計算結果!#REF!","v":{"$error":"#REF!"}}]
[{"$f":"入力シート!A1187","v":0},{"$f":"入力シート!G1187","v":0},{"$f":"入力シート!H1187","v":0},{"$f":"IF(入力シート!$J1187<>\"\",入力シート!$J1187,IF(入力シート!$L1187<>\"\",入力シート!$L1187,\"‐\"))","v":"‐"},{"$f":"IF(入力シート!$K1187<>\"\",入力シート!$K1187,IF(入力シート!$M1187<>\"\",入力シート!$M1187,入力シート!$N1187))","v":0},{"$f":"入力シート!I1187","v":0},{"$f":"入力シート!O1187","v":0},{"$f":"IF(入力シート!P1187=\"×\",\"P\",\"PN\")","v":"PN"},{"$f":"計算結果!#REF!","v":{"$error":"#REF!"}},{"$f":"計算結果!#REF!","v":{"$error":"#REF!"}},{"$f":"計算結果!#REF!","v":{"$error":"#REF!"}},{"$f":"計算結果!#REF!","v":{"$error":"#REF!"}},{"$f":"計算結果!#REF!","v":{"$error":"#REF!"}},{"$f":"計算結果!#REF!","v":{"$error":"#REF!"}},{"$f":"計算結果!#REF!","v":{"$error":"#REF!"}},{"$f":"計算結果!#REF!","v":{"$error":"#REF!"}},{"$f":"計算結果!#REF!","v":{"$error":"#REF!"}},{"$f":"計算結果!#REF!","v":{"$error":"#REF!"}}]
[{"$f":"入力シート!A1188","v":0},{"$f":"入力シート!G1188","v":0},{"$f":"入力シート!H1188","v":0},{"$f":"IF(入力シート!$J1188<>\"\",入力シート!$J1188,IF(入力シート!$L1188<>\"\",入力シート!$L1188,\"‐\"))","v":"‐"},{"$f":"IF(入力シート!$K1188<>\"\",入力シート!$K1188,IF(入力シート!$M1188<>\"\",入力シート!$M1188,入力シート!$N1188))","v":0},{"$f":"入力シート!I1188","v":0},{"$f":"入力シート!O1188","v":0},{"$f":"IF(入力シート!P1188=\"×\",\"P\",\"PN\")","v":"PN"},{"$f":"計算結果!#REF!","v":{"$error":"#REF!"}},{"$f":"計算結果!#REF!","v":{"$error":"#REF!"}},{"$f":"計算結果!#REF!","v":{"$error":"#REF!"}},{"$f":"計算結果!#REF!","v":{"$error":"#REF!"}},{"$f":"計算結果!#REF!","v":{"$error":"#REF!"}},{"$f":"計算結果!#REF!","v":{"$error":"#REF!"}},{"$f":"計算結果!#REF!","v":{"$error":"#REF!"}},{"$f":"計算結果!#REF!","v":{"$error":"#REF!"}},{"$f":"計算結果!#REF!","v":{"$error":"#REF!"}},{"$f":"計算結果!#REF!","v":{"$error":"#REF!"}}]
[{"$f":"入力シート!A1189","v":0},{"$f":"入力シート!G1189","v":0},{"$f":"入力シート!H1189","v":0},{"$f":"IF(入力シート!$J1189<>\"\",入力シート!$J1189,IF(入力シート!$L1189<>\"\",入力シート!$L1189,\"‐\"))","v":"‐"},{"$f":"IF(入力シート!$K1189<>\"\",入力シート!$K1189,IF(入力シート!$M1189<>\"\",入力シート!$M1189,入力シート!$N1189))","v":0},{"$f":"入力シート!I1189","v":0},{"$f":"入力シート!O1189","v":0},{"$f":"IF(入力シート!P1189=\"×\",\"P\",\"PN\")","v":"PN"},{"$f":"計算結果!#REF!","v":{"$error":"#REF!"}},{"$f":"計算結果!#REF!","v":{"$error":"#REF!"}},{"$f":"計算結果!#REF!","v":{"$error":"#REF!"}},{"$f":"計算結果!#REF!","v":{"$error":"#REF!"}},{"$f":"計算結果!#REF!","v":{"$error":"#REF!"}},{"$f":"計算結果!#REF!","v":{"$error":"#REF!"}},{"$f":"計算結果!#REF!","v":{"$error":"#REF!"}},{"$f":"計算結果!#REF!","v":{"$error":"#REF!"}},{"$f":"計算結果!#REF!","v":{"$error":"#REF!"}},{"$f":"計算結果!#REF!","v":{"$error":"#REF!"}}]
[{"$f":"入力シート!A1190","v":0},{"$f":"入力シート!G1190","v":0},{"$f":"入力シート!H1190","v":0},{"$f":"IF(入力シート!$J1190<>\"\",入力シート!$J1190,IF(入力シート!$L1190<>\"\",入力シート!$L1190,\"‐\"))","v":"‐"},{"$f":"IF(入力シート!$K1190<>\"\",入力シート!$K1190,IF(入力シート!$M1190<>\"\",入力シート!$M1190,入力シート!$N1190))","v":0},{"$f":"入力シート!I1190","v":0},{"$f":"入力シート!O1190","v":0},{"$f":"IF(入力シート!P1190=\"×\",\"P\",\"PN\")","v":"PN"},{"$f":"計算結果!#REF!","v":{"$error":"#REF!"}},{"$f":"計算結果!#REF!","v":{"$error":"#REF!"}},{"$f":"計算結果!#REF!","v":{"$error":"#REF!"}},{"$f":"計算結果!#REF!","v":{"$error":"#REF!"}},{"$f":"計算結果!#REF!","v":{"$error":"#REF!"}},{"$f":"計算結果!#REF!","v":{"$error":"#REF!"}},{"$f":"計算結果!#REF!","v":{"$error":"#REF!"}},{"$f":"計算結果!#REF!","v":{"$error":"#REF!"}},{"$f":"計算結果!#REF!","v":{"$error":"#REF!"}},{"$f":"計算結果!#REF!","v":{"$error":"#REF!"}}]
[{"$f":"入力シート!A1191","v":0},{"$f":"入力シート!G1191","v":0},{"$f":"入力シート!H1191","v":0},{"$f":"IF(入力シート!$J1191<>\"\",入力シート!$J1191,IF(入力シート!$L1191<>\"\",入力シート!$L1191,\"‐\"))","v":"‐"},{"$f":"IF(入力シート!$K1191<>\"\",入力シート!$K1191,IF(入力シート!$M1191<>\"\",入力シート!$M1191,入力シート!$N1191))","v":0},{"$f":"入力シート!I1191","v":0},{"$f":"入力シート!O1191","v":0},{"$f":"IF(入力シート!P1191=\"×\",\"P\",\"PN\")","v":"PN"},{"$f":"計算結果!#REF!","v":{"$error":"#REF!"}},{"$f":"計算結果!#REF!","v":{"$error":"#REF!"}},{"$f":"計算結果!#REF!","v":{"$error":"#REF!"}},{"$f":"計算結果!#REF!","v":{"$error":"#REF!"}},{"$f":"計算結果!#REF!","v":{"$error":"#REF!"}},{"$f":"計算結果!#REF!","v":{"$error":"#REF!"}},{"$f":"計算結果!#REF!","v":{"$error":"#REF!"}},{"$f":"計算結果!#REF!","v":{"$error":"#REF!"}},{"$f":"計算結果!#REF!","v":{"$error":"#REF!"}},{"$f":"計算結果!#REF!","v":{"$error":"#REF!"}}]
[{"$f":"入力シート!A1192","v":0},{"$f":"入力シート!G1192","v":0},{"$f":"入力シート!H1192","v":0},{"$f":"IF(入力シート!$J1192<>\"\",入力シート!$J1192,IF(入力シート!$L1192<>\"\",入力シート!$L1192,\"‐\"))","v":"‐"},{"$f":"IF(入力シート!$K1192<>\"\",入力シート!$K1192,IF(入力シート!$M1192<>\"\",入力シート!$M1192,入力シート!$N1192))","v":0},{"$f":"入力シート!I1192","v":0},{"$f":"入力シート!O1192","v":0},{"$f":"IF(入力シート!P1192=\"×\",\"P\",\"PN\")","v":"PN"},{"$f":"計算結果!#REF!","v":{"$error":"#REF!"}},{"$f":"計算結果!#REF!","v":{"$error":"#REF!"}},{"$f":"計算結果!#REF!","v":{"$error":"#REF!"}},{"$f":"計算結果!#REF!","v":{"$error":"#REF!"}},{"$f":"計算結果!#REF!","v":{"$error":"#REF!"}},{"$f":"計算結果!#REF!","v":{"$error":"#REF!"}},{"$f":"計算結果!#REF!","v":{"$error":"#REF!"}},{"$f":"計算結果!#REF!","v":{"$error":"#REF!"}},{"$f":"計算結果!#REF!","v":{"$error":"#REF!"}},{"$f":"計算結果!#REF!","v":{"$error":"#REF!"}}]
[{"$f":"入力シート!A1193","v":0},{"$f":"入力シート!G1193","v":0},{"$f":"入力シート!H1193","v":0},{"$f":"IF(入力シート!$J1193<>\"\",入力シート!$J1193,IF(入力シート!$L1193<>\"\",入力シート!$L1193,\"‐\"))","v":"‐"},{"$f":"IF(入力シート!$K1193<>\"\",入力シート!$K1193,IF(入力シート!$M1193<>\"\",入力シート!$M1193,入力シート!$N1193))","v":0},{"$f":"入力シート!I1193","v":0},{"$f":"入力シート!O1193","v":0},{"$f":"IF(入力シート!P1193=\"×\",\"P\",\"PN\")","v":"PN"},{"$f":"計算結果!#REF!","v":{"$error":"#REF!"}},{"$f":"計算結果!#REF!","v":{"$error":"#REF!"}},{"$f":"計算結果!#REF!","v":{"$error":"#REF!"}},{"$f":"計算結果!#REF!","v":{"$error":"#REF!"}},{"$f":"計算結果!#REF!","v":{"$error":"#REF!"}},{"$f":"計算結果!#REF!","v":{"$error":"#REF!"}},{"$f":"計算結果!#REF!","v":{"$error":"#REF!"}},{"$f":"計算結果!#REF!","v":{"$error":"#REF!"}},{"$f":"計算結果!#REF!","v":{"$error":"#REF!"}},{"$f":"計算結果!#REF!","v":{"$error":"#REF!"}}]
[{"$f":"入力シート!A1194","v":0},{"$f":"入力シート!G1194","v":0},{"$f":"入力シート!H1194","v":0},{"$f":"IF(入力シート!$J1194<>\"\",入力シート!$J1194,IF(入力シート!$L1194<>\"\",入力シート!$L1194,\"‐\"))","v":"‐"},{"$f":"IF(入力シート!$K1194<>\"\",入力シート!$K1194,IF(入力シート!$M1194<>\"\",入力シート!$M1194,入力シート!$N1194))","v":0},{"$f":"入力シート!I1194","v":0},{"$f":"入力シート!O1194","v":0},{"$f":"IF(入力シート!P1194=\"×\",\"P\",\"PN\")","v":"PN"},{"$f":"計算結果!#REF!","v":{"$error":"#REF!"}},{"$f":"計算結果!#REF!","v":{"$error":"#REF!"}},{"$f":"計算結果!#REF!","v":{"$error":"#REF!"}},{"$f":"計算結果!#REF!","v":{"$error":"#REF!"}},{"$f":"計算結果!#REF!","v":{"$error":"#REF!"}},{"$f":"計算結果!#REF!","v":{"$error":"#REF!"}},{"$f":"計算結果!#REF!","v":{"$error":"#REF!"}},{"$f":"計算結果!#REF!","v":{"$error":"#REF!"}},{"$f":"計算結果!#REF!","v":{"$error":"#REF!"}},{"$f":"計算結果!#REF!","v":{"$error":"#REF!"}}]
[{"$f":"入力シート!A1195","v":0},{"$f":"入力シート!G1195","v":0},{"$f":"入力シート!H1195","v":0},{"$f":"IF(入力シート!$J1195<>\"\",入力シート!$J1195,IF(入力シート!$L1195<>\"\",入力シート!$L1195,\"‐\"))","v":"‐"},{"$f":"IF(入力シート!$K1195<>\"\",入力シート!$K1195,IF(入力シート!$M1195<>\"\",入力シート!$M1195,入力シート!$N1195))","v":0},{"$f":"入力シート!I1195","v":0},{"$f":"入力シート!O1195","v":0},{"$f":"IF(入力シート!P1195=\"×\",\"P\",\"PN\")","v":"PN"},{"$f":"計算結果!#REF!","v":{"$error":"#REF!"}},{"$f":"計算結果!#REF!","v":{"$error":"#REF!"}},{"$f":"計算結果!#REF!","v":{"$error":"#REF!"}},{"$f":"計算結果!#REF!","v":{"$error":"#REF!"}},{"$f":"計算結果!#REF!","v":{"$error":"#REF!"}},{"$f":"計算結果!#REF!","v":{"$error":"#REF!"}},{"$f":"計算結果!#REF!","v":{"$error":"#REF!"}},{"$f":"計算結果!#REF!","v":{"$error":"#REF!"}},{"$f":"計算結果!#REF!","v":{"$error":"#REF!"}},{"$f":"計算結果!#REF!","v":{"$error":"#REF!"}}]
[{"$f":"入力シート!A1196","v":0},{"$f":"入力シート!G1196","v":0},{"$f":"入力シート!H1196","v":0},{"$f":"IF(入力シート!$J1196<>\"\",入力シート!$J1196,IF(入力シート!$L1196<>\"\",入力シート!$L1196,\"‐\"))","v":"‐"},{"$f":"IF(入力シート!$K1196<>\"\",入力シート!$K1196,IF(入力シート!$M1196<>\"\",入力シート!$M1196,入力シート!$N1196))","v":0},{"$f":"入力シート!I1196","v":0},{"$f":"入力シート!O1196","v":0},{"$f":"IF(入力シート!P1196=\"×\",\"P\",\"PN\")","v":"PN"},{"$f":"計算結果!#REF!","v":{"$error":"#REF!"}},{"$f":"計算結果!#REF!","v":{"$error":"#REF!"}},{"$f":"計算結果!#REF!","v":{"$error":"#REF!"}},{"$f":"計算結果!#REF!","v":{"$error":"#REF!"}},{"$f":"計算結果!#REF!","v":{"$error":"#REF!"}},{"$f":"計算結果!#REF!","v":{"$error":"#REF!"}},{"$f":"計算結果!#REF!","v":{"$error":"#REF!"}},{"$f":"計算結果!#REF!","v":{"$error":"#REF!"}},{"$f":"計算結果!#REF!","v":{"$error":"#REF!"}},{"$f":"計算結果!#REF!","v":{"$error":"#REF!"}}]
[{"$f":"入力シート!A1197","v":0},{"$f":"入力シート!G1197","v":0},{"$f":"入力シート!H1197","v":0},{"$f":"IF(入力シート!$J1197<>\"\",入力シート!$J1197,IF(入力シート!$L1197<>\"\",入力シート!$L1197,\"‐\"))","v":"‐"},{"$f":"IF(入力シート!$K1197<>\"\",入力シート!$K1197,IF(入力シート!$M1197<>\"\",入力シート!$M1197,入力シート!$N1197))","v":0},{"$f":"入力シート!I1197","v":0},{"$f":"入力シート!O1197","v":0},{"$f":"IF(入力シート!P1197=\"×\",\"P\",\"PN\")","v":"PN"},{"$f":"計算結果!#REF!","v":{"$error":"#REF!"}},{"$f":"計算結果!#REF!","v":{"$error":"#REF!"}},{"$f":"計算結果!#REF!","v":{"$error":"#REF!"}},{"$f":"計算結果!#REF!","v":{"$error":"#REF!"}},{"$f":"計算結果!#REF!","v":{"$error":"#REF!"}},{"$f":"計算結果!#REF!","v":{"$error":"#REF!"}},{"$f":"計算結果!#REF!","v":{"$error":"#REF!"}},{"$f":"計算結果!#REF!","v":{"$error":"#REF!"}},{"$f":"計算結果!#REF!","v":{"$error":"#REF!"}},{"$f":"計算結果!#REF!","v":{"$error":"#REF!"}}]
[{"$f":"入力シート!A1198","v":0},{"$f":"入力シート!G1198","v":0},{"$f":"入力シート!H1198","v":0},{"$f":"IF(入力シート!$J1198<>\"\",入力シート!$J1198,IF(入力シート!$L1198<>\"\",入力シート!$L1198,\"‐\"))","v":"‐"},{"$f":"IF(入力シート!$K1198<>\"\",入力シート!$K1198,IF(入力シート!$M1198<>\"\",入力シート!$M1198,入力シート!$N1198))","v":0},{"$f":"入力シート!I1198","v":0},{"$f":"入力シート!O1198","v":0},{"$f":"IF(入力シート!P1198=\"×\",\"P\",\"PN\")","v":"PN"},{"$f":"計算結果!#REF!","v":{"$error":"#REF!"}},{"$f":"計算結果!#REF!","v":{"$error":"#REF!"}},{"$f":"計算結果!#REF!","v":{"$error":"#REF!"}},{"$f":"計算結果!#REF!","v":{"$error":"#REF!"}},{"$f":"計算結果!#REF!","v":{"$error":"#REF!"}},{"$f":"計算結果!#REF!","v":{"$error":"#REF!"}},{"$f":"計算結果!#REF!","v":{"$error":"#REF!"}},{"$f":"計算結果!#REF!","v":{"$error":"#REF!"}},{"$f":"計算結果!#REF!","v":{"$error":"#REF!"}},{"$f":"計算結果!#REF!","v":{"$error":"#REF!"}}]
[{"$f":"入力シート!A1199","v":0},{"$f":"入力シート!G1199","v":0},{"$f":"入力シート!H1199","v":0},{"$f":"IF(入力シート!$J1199<>\"\",入力シート!$J1199,IF(入力シート!$L1199<>\"\",入力シート!$L1199,\"‐\"))","v":"‐"},{"$f":"IF(入力シート!$K1199<>\"\",入力シート!$K1199,IF(入力シート!$M1199<>\"\",入力シート!$M1199,入力シート!$N1199))","v":0},{"$f":"入力シート!I1199","v":0},{"$f":"入力シート!O1199","v":0},{"$f":"IF(入力シート!P1199=\"×\",\"P\",\"PN\")","v":"PN"},{"$f":"計算結果!#REF!","v":{"$error":"#REF!"}},{"$f":"計算結果!#REF!","v":{"$error":"#REF!"}},{"$f":"計算結果!#REF!","v":{"$error":"#REF!"}},{"$f":"計算結果!#REF!","v":{"$error":"#REF!"}},{"$f":"計算結果!#REF!","v":{"$error":"#REF!"}},{"$f":"計算結果!#REF!","v":{"$error":"#REF!"}},{"$f":"計算結果!#REF!","v":{"$error":"#REF!"}},{"$f":"計算結果!#REF!","v":{"$error":"#REF!"}},{"$f":"計算結果!#REF!","v":{"$error":"#REF!"}},{"$f":"計算結果!#REF!","v":{"$error":"#REF!"}}]
[{"$f":"入力シート!A1200","v":0},{"$f":"入力シート!G1200","v":0},{"$f":"入力シート!H1200","v":0},{"$f":"IF(入力シート!$J1200<>\"\",入力シート!$J1200,IF(入力シート!$L1200<>\"\",入力シート!$L1200,\"‐\"))","v":"‐"},{"$f":"IF(入力シート!$K1200<>\"\",入力シート!$K1200,IF(入力シート!$M1200<>\"\",入力シート!$M1200,入力シート!$N1200))","v":0},{"$f":"入力シート!I1200","v":0},{"$f":"入力シート!O1200","v":0},{"$f":"IF(入力シート!P1200=\"×\",\"P\",\"PN\")","v":"PN"},{"$f":"計算結果!#REF!","v":{"$error":"#REF!"}},{"$f":"計算結果!#REF!","v":{"$error":"#REF!"}},{"$f":"計算結果!#REF!","v":{"$error":"#REF!"}},{"$f":"計算結果!#REF!","v":{"$error":"#REF!"}},{"$f":"計算結果!#REF!","v":{"$error":"#REF!"}},{"$f":"計算結果!#REF!","v":{"$error":"#REF!"}},{"$f":"計算結果!#REF!","v":{"$error":"#REF!"}},{"$f":"計算結果!#REF!","v":{"$error":"#REF!"}},{"$f":"計算結果!#REF!","v":{"$error":"#REF!"}},{"$f":"計算結果!#REF!","v":{"$error":"#REF!"}}]
[{"$f":"入力シート!A1201","v":0},{"$f":"入力シート!G1201","v":0},{"$f":"入力シート!H1201","v":0},{"$f":"IF(入力シート!$J1201<>\"\",入力シート!$J1201,IF(入力シート!$L1201<>\"\",入力シート!$L1201,\"‐\"))","v":"‐"},{"$f":"IF(入力シート!$K1201<>\"\",入力シート!$K1201,IF(入力シート!$M1201<>\"\",入力シート!$M1201,入力シート!$N1201))","v":0},{"$f":"入力シート!I1201","v":0},{"$f":"入力シート!O1201","v":0},{"$f":"IF(入力シート!P1201=\"×\",\"P\",\"PN\")","v":"PN"},{"$f":"計算結果!#REF!","v":{"$error":"#REF!"}},{"$f":"計算結果!#REF!","v":{"$error":"#REF!"}},{"$f":"計算結果!#REF!","v":{"$error":"#REF!"}},{"$f":"計算結果!#REF!","v":{"$error":"#REF!"}},{"$f":"計算結果!#REF!","v":{"$error":"#REF!"}},{"$f":"計算結果!#REF!","v":{"$error":"#REF!"}},{"$f":"計算結果!#REF!","v":{"$error":"#REF!"}},{"$f":"計算結果!#REF!","v":{"$error":"#REF!"}},{"$f":"計算結果!#REF!","v":{"$error":"#REF!"}},{"$f":"計算結果!#REF!","v":{"$error":"#REF!"}}]
[{"$f":"入力シート!A1202","v":0},{"$f":"入力シート!G1202","v":0},{"$f":"入力シート!H1202","v":0},{"$f":"IF(入力シート!$J1202<>\"\",入力シート!$J1202,IF(入力シート!$L1202<>\"\",入力シート!$L1202,\"‐\"))","v":"‐"},{"$f":"IF(入力シート!$K1202<>\"\",入力シート!$K1202,IF(入力シート!$M1202<>\"\",入力シート!$M1202,入力シート!$N1202))","v":0},{"$f":"入力シート!I1202","v":0},{"$f":"入力シート!O1202","v":0},{"$f":"IF(入力シート!P1202=\"×\",\"P\",\"PN\")","v":"PN"},{"$f":"計算結果!#REF!","v":{"$error":"#REF!"}},{"$f":"計算結果!#REF!","v":{"$error":"#REF!"}},{"$f":"計算結果!#REF!","v":{"$error":"#REF!"}},{"$f":"計算結果!#REF!","v":{"$error":"#REF!"}},{"$f":"計算結果!#REF!","v":{"$error":"#REF!"}},{"$f":"計算結果!#REF!","v":{"$error":"#REF!"}},{"$f":"計算結果!#REF!","v":{"$error":"#REF!"}},{"$f":"計算結果!#REF!","v":{"$error":"#REF!"}},{"$f":"計算結果!#REF!","v":{"$error":"#REF!"}},{"$f":"計算結果!#REF!","v":{"$error":"#REF!"}}]
[{"$f":"入力シート!A1203","v":0},{"$f":"入力シート!G1203","v":0},{"$f":"入力シート!H1203","v":0},{"$f":"IF(入力シート!$J1203<>\"\",入力シート!$J1203,IF(入力シート!$L1203<>\"\",入力シート!$L1203,\"‐\"))","v":"‐"},{"$f":"IF(入力シート!$K1203<>\"\",入力シート!$K1203,IF(入力シート!$M1203<>\"\",入力シート!$M1203,入力シート!$N1203))","v":0},{"$f":"入力シート!I1203","v":0},{"$f":"入力シート!O1203","v":0},{"$f":"IF(入力シート!P1203=\"×\",\"P\",\"PN\")","v":"PN"},{"$f":"計算結果!#REF!","v":{"$error":"#REF!"}},{"$f":"計算結果!#REF!","v":{"$error":"#REF!"}},{"$f":"計算結果!#REF!","v":{"$error":"#REF!"}},{"$f":"計算結果!#REF!","v":{"$error":"#REF!"}},{"$f":"計算結果!#REF!","v":{"$error":"#REF!"}},{"$f":"計算結果!#REF!","v":{"$error":"#REF!"}},{"$f":"計算結果!#REF!","v":{"$error":"#REF!"}},{"$f":"計算結果!#REF!","v":{"$error":"#REF!"}},{"$f":"計算結果!#REF!","v":{"$error":"#REF!"}},{"$f":"計算結果!#REF!","v":{"$error":"#REF!"}}]
[{"$f":"入力シート!A1204","v":0},{"$f":"入力シート!G1204","v":0},{"$f":"入力シート!H1204","v":0},{"$f":"IF(入力シート!$J1204<>\"\",入力シート!$J1204,IF(入力シート!$L1204<>\"\",入力シート!$L1204,\"‐\"))","v":"‐"},{"$f":"IF(入力シート!$K1204<>\"\",入力シート!$K1204,IF(入力シート!$M1204<>\"\",入力シート!$M1204,入力シート!$N1204))","v":0},{"$f":"入力シート!I1204","v":0},{"$f":"入力シート!O1204","v":0},{"$f":"IF(入力シート!P1204=\"×\",\"P\",\"PN\")","v":"PN"},{"$f":"計算結果!#REF!","v":{"$error":"#REF!"}},{"$f":"計算結果!#REF!","v":{"$error":"#REF!"}},{"$f":"計算結果!#REF!","v":{"$error":"#REF!"}},{"$f":"計算結果!#REF!","v":{"$error":"#REF!"}},{"$f":"計算結果!#REF!","v":{"$error":"#REF!"}},{"$f":"計算結果!#REF!","v":{"$error":"#REF!"}},{"$f":"計算結果!#REF!","v":{"$error":"#REF!"}},{"$f":"計算結果!#REF!","v":{"$error":"#REF!"}},{"$f":"計算結果!#REF!","v":{"$error":"#REF!"}},{"$f":"計算結果!#REF!","v":{"$error":"#REF!"}}]
[{"$f":"入力シート!A1205","v":0},{"$f":"入力シート!G1205","v":0},{"$f":"入力シート!H1205","v":0},{"$f":"IF(入力シート!$J1205<>\"\",入力シート!$J1205,IF(入力シート!$L1205<>\"\",入力シート!$L1205,\"‐\"))","v":"‐"},{"$f":"IF(入力シート!$K1205<>\"\",入力シート!$K1205,IF(入力シート!$M1205<>\"\",入力シート!$M1205,入力シート!$N1205))","v":0},{"$f":"入力シート!I1205","v":0},{"$f":"入力シート!O1205","v":0},{"$f":"IF(入力シート!P1205=\"×\",\"P\",\"PN\")","v":"PN"},{"$f":"計算結果!#REF!","v":{"$error":"#REF!"}},{"$f":"計算結果!#REF!","v":{"$error":"#REF!"}},{"$f":"計算結果!#REF!","v":{"$error":"#REF!"}},{"$f":"計算結果!#REF!","v":{"$error":"#REF!"}},{"$f":"計算結果!#REF!","v":{"$error":"#REF!"}},{"$f":"計算結果!#REF!","v":{"$error":"#REF!"}},{"$f":"計算結果!#REF!","v":{"$error":"#REF!"}},{"$f":"計算結果!#REF!","v":{"$error":"#REF!"}},{"$f":"計算結果!#REF!","v":{"$error":"#REF!"}},{"$f":"計算結果!#REF!","v":{"$error":"#REF!"}}]
[{"$f":"入力シート!A1206","v":0},{"$f":"入力シート!G1206","v":0},{"$f":"入力シート!H1206","v":0},{"$f":"IF(入力シート!$J1206<>\"\",入力シート!$J1206,IF(入力シート!$L1206<>\"\",入力シート!$L1206,\"‐\"))","v":"‐"},{"$f":"IF(入力シート!$K1206<>\"\",入力シート!$K1206,IF(入力シート!$M1206<>\"\",入力シート!$M1206,入力シート!$N1206))","v":0},{"$f":"入力シート!I1206","v":0},{"$f":"入力シート!O1206","v":0},{"$f":"IF(入力シート!P1206=\"×\",\"P\",\"PN\")","v":"PN"},{"$f":"計算結果!#REF!","v":{"$error":"#REF!"}},{"$f":"計算結果!#REF!","v":{"$error":"#REF!"}},{"$f":"計算結果!#REF!","v":{"$error":"#REF!"}},{"$f":"計算結果!#REF!","v":{"$error":"#REF!"}},{"$f":"計算結果!#REF!","v":{"$error":"#REF!"}},{"$f":"計算結果!#REF!","v":{"$error":"#REF!"}},{"$f":"計算結果!#REF!","v":{"$error":"#REF!"}},{"$f":"計算結果!#REF!","v":{"$error":"#REF!"}},{"$f":"計算結果!#REF!","v":{"$error":"#REF!"}},{"$f":"計算結果!#REF!","v":{"$error":"#REF!"}}]
[{"$f":"入力シート!A1207","v":0},{"$f":"入力シート!G1207","v":0},{"$f":"入力シート!H1207","v":0},{"$f":"IF(入力シート!$J1207<>\"\",入力シート!$J1207,IF(入力シート!$L1207<>\"\",入力シート!$L1207,\"‐\"))","v":"‐"},{"$f":"IF(入力シート!$K1207<>\"\",入力シート!$K1207,IF(入力シート!$M1207<>\"\",入力シート!$M1207,入力シート!$N1207))","v":0},{"$f":"入力シート!I1207","v":0},{"$f":"入力シート!O1207","v":0},{"$f":"IF(入力シート!P1207=\"×\",\"P\",\"PN\")","v":"PN"},{"$f":"計算結果!#REF!","v":{"$error":"#REF!"}},{"$f":"計算結果!#REF!","v":{"$error":"#REF!"}},{"$f":"計算結果!#REF!","v":{"$error":"#REF!"}},{"$f":"計算結果!#REF!","v":{"$error":"#REF!"}},{"$f":"計算結果!#REF!","v":{"$error":"#REF!"}},{"$f":"計算結果!#REF!","v":{"$error":"#REF!"}},{"$f":"計算結果!#REF!","v":{"$error":"#REF!"}},{"$f":"計算結果!#REF!","v":{"$error":"#REF!"}},{"$f":"計算結果!#REF!","v":{"$error":"#REF!"}},{"$f":"計算結果!#REF!","v":{"$error":"#REF!"}}]
[{"$f":"入力シート!A1208","v":0},{"$f":"入力シート!G1208","v":0},{"$f":"入力シート!H1208","v":0},{"$f":"IF(入力シート!$J1208<>\"\",入力シート!$J1208,IF(入力シート!$L1208<>\"\",入力シート!$L1208,\"‐\"))","v":"‐"},{"$f":"IF(入力シート!$K1208<>\"\",入力シート!$K1208,IF(入力シート!$M1208<>\"\",入力シート!$M1208,入力シート!$N1208))","v":0},{"$f":"入力シート!I1208","v":0},{"$f":"入力シート!O1208","v":0},{"$f":"IF(入力シート!P1208=\"×\",\"P\",\"PN\")","v":"PN"},{"$f":"計算結果!#REF!","v":{"$error":"#REF!"}},{"$f":"計算結果!#REF!","v":{"$error":"#REF!"}},{"$f":"計算結果!#REF!","v":{"$error":"#REF!"}},{"$f":"計算結果!#REF!","v":{"$error":"#REF!"}},{"$f":"計算結果!#REF!","v":{"$error":"#REF!"}},{"$f":"計算結果!#REF!","v":{"$error":"#REF!"}},{"$f":"計算結果!#REF!","v":{"$error":"#REF!"}},{"$f":"計算結果!#REF!","v":{"$error":"#REF!"}},{"$f":"計算結果!#REF!","v":{"$error":"#REF!"}},{"$f":"計算結果!#REF!","v":{"$error":"#REF!"}}]
[{"$f":"入力シート!A1209","v":0},{"$f":"入力シート!G1209","v":0},{"$f":"入力シート!H1209","v":0},{"$f":"IF(入力シート!$J1209<>\"\",入力シート!$J1209,IF(入力シート!$L1209<>\"\",入力シート!$L1209,\"‐\"))","v":"‐"},{"$f":"IF(入力シート!$K1209<>\"\",入力シート!$K1209,IF(入力シート!$M1209<>\"\",入力シート!$M1209,入力シート!$N1209))","v":0},{"$f":"入力シート!I1209","v":0},{"$f":"入力シート!O1209","v":0},{"$f":"IF(入力シート!P1209=\"×\",\"P\",\"PN\")","v":"PN"},{"$f":"計算結果!#REF!","v":{"$error":"#REF!"}},{"$f":"計算結果!#REF!","v":{"$error":"#REF!"}},{"$f":"計算結果!#REF!","v":{"$error":"#REF!"}},{"$f":"計算結果!#REF!","v":{"$error":"#REF!"}},{"$f":"計算結果!#REF!","v":{"$error":"#REF!"}},{"$f":"計算結果!#REF!","v":{"$error":"#REF!"}},{"$f":"計算結果!#REF!","v":{"$error":"#REF!"}},{"$f":"計算結果!#REF!","v":{"$error":"#REF!"}},{"$f":"計算結果!#REF!","v":{"$error":"#REF!"}},{"$f":"計算結果!#REF!","v":{"$error":"#REF!"}}]
[{"$f":"入力シート!A1210","v":0},{"$f":"入力シート!G1210","v":0},{"$f":"入力シート!H1210","v":0},{"$f":"IF(入力シート!$J1210<>\"\",入力シート!$J1210,IF(入力シート!$L1210<>\"\",入力シート!$L1210,\"‐\"))","v":"‐"},{"$f":"IF(入力シート!$K1210<>\"\",入力シート!$K1210,IF(入力シート!$M1210<>\"\",入力シート!$M1210,入力シート!$N1210))","v":0},{"$f":"入力シート!I1210","v":0},{"$f":"入力シート!O1210","v":0},{"$f":"IF(入力シート!P1210=\"×\",\"P\",\"PN\")","v":"PN"},{"$f":"計算結果!#REF!","v":{"$error":"#REF!"}},{"$f":"計算結果!#REF!","v":{"$error":"#REF!"}},{"$f":"計算結果!#REF!","v":{"$error":"#REF!"}},{"$f":"計算結果!#REF!","v":{"$error":"#REF!"}},{"$f":"計算結果!#REF!","v":{"$error":"#REF!"}},{"$f":"計算結果!#REF!","v":{"$error":"#REF!"}},{"$f":"計算結果!#REF!","v":{"$error":"#REF!"}},{"$f":"計算結果!#REF!","v":{"$error":"#REF!"}},{"$f":"計算結果!#REF!","v":{"$error":"#REF!"}},{"$f":"計算結果!#REF!","v":{"$error":"#REF!"}}]
[{"$f":"入力シート!A1211","v":0},{"$f":"入力シート!G1211","v":0},{"$f":"入力シート!H1211","v":0},{"$f":"IF(入力シート!$J1211<>\"\",入力シート!$J1211,IF(入力シート!$L1211<>\"\",入力シート!$L1211,\"‐\"))","v":"‐"},{"$f":"IF(入力シート!$K1211<>\"\",入力シート!$K1211,IF(入力シート!$M1211<>\"\",入力シート!$M1211,入力シート!$N1211))","v":0},{"$f":"入力シート!I1211","v":0},{"$f":"入力シート!O1211","v":0},{"$f":"IF(入力シート!P1211=\"×\",\"P\",\"PN\")","v":"PN"},{"$f":"計算結果!#REF!","v":{"$error":"#REF!"}},{"$f":"計算結果!#REF!","v":{"$error":"#REF!"}},{"$f":"計算結果!#REF!","v":{"$error":"#REF!"}},{"$f":"計算結果!#REF!","v":{"$error":"#REF!"}},{"$f":"計算結果!#REF!","v":{"$error":"#REF!"}},{"$f":"計算結果!#REF!","v":{"$error":"#REF!"}},{"$f":"計算結果!#REF!","v":{"$error":"#REF!"}},{"$f":"計算結果!#REF!","v":{"$error":"#REF!"}},{"$f":"計算結果!#REF!","v":{"$error":"#REF!"}},{"$f":"計算結果!#REF!","v":{"$error":"#REF!"}}]
[{"$f":"入力シート!A1212","v":0},{"$f":"入力シート!G1212","v":0},{"$f":"入力シート!H1212","v":0},{"$f":"IF(入力シート!$J1212<>\"\",入力シート!$J1212,IF(入力シート!$L1212<>\"\",入力シート!$L1212,\"‐\"))","v":"‐"},{"$f":"IF(入力シート!$K1212<>\"\",入力シート!$K1212,IF(入力シート!$M1212<>\"\",入力シート!$M1212,入力シート!$N1212))","v":0},{"$f":"入力シート!I1212","v":0},{"$f":"入力シート!O1212","v":0},{"$f":"IF(入力シート!P1212=\"×\",\"P\",\"PN\")","v":"PN"},{"$f":"計算結果!#REF!","v":{"$error":"#REF!"}},{"$f":"計算結果!#REF!","v":{"$error":"#REF!"}},{"$f":"計算結果!#REF!","v":{"$error":"#REF!"}},{"$f":"計算結果!#REF!","v":{"$error":"#REF!"}},{"$f":"計算結果!#REF!","v":{"$error":"#REF!"}},{"$f":"計算結果!#REF!","v":{"$error":"#REF!"}},{"$f":"計算結果!#REF!","v":{"$error":"#REF!"}},{"$f":"計算結果!#REF!","v":{"$error":"#REF!"}},{"$f":"計算結果!#REF!","v":{"$error":"#REF!"}},{"$f":"計算結果!#REF!","v":{"$error":"#REF!"}}]
[{"$f":"入力シート!A1213","v":0},{"$f":"入力シート!G1213","v":0},{"$f":"入力シート!H1213","v":0},{"$f":"IF(入力シート!$J1213<>\"\",入力シート!$J1213,IF(入力シート!$L1213<>\"\",入力シート!$L1213,\"‐\"))","v":"‐"},{"$f":"IF(入力シート!$K1213<>\"\",入力シート!$K1213,IF(入力シート!$M1213<>\"\",入力シート!$M1213,入力シート!$N1213))","v":0},{"$f":"入力シート!I1213","v":0},{"$f":"入力シート!O1213","v":0},{"$f":"IF(入力シート!P1213=\"×\",\"P\",\"PN\")","v":"PN"},{"$f":"計算結果!#REF!","v":{"$error":"#REF!"}},{"$f":"計算結果!#REF!","v":{"$error":"#REF!"}},{"$f":"計算結果!#REF!","v":{"$error":"#REF!"}},{"$f":"計算結果!#REF!","v":{"$error":"#REF!"}},{"$f":"計算結果!#REF!","v":{"$error":"#REF!"}},{"$f":"計算結果!#REF!","v":{"$error":"#REF!"}},{"$f":"計算結果!#REF!","v":{"$error":"#REF!"}},{"$f":"計算結果!#REF!","v":{"$error":"#REF!"}},{"$f":"計算結果!#REF!","v":{"$error":"#REF!"}},{"$f":"計算結果!#REF!","v":{"$error":"#REF!"}}]
[{"$f":"入力シート!A1214","v":0},{"$f":"入力シート!G1214","v":0},{"$f":"入力シート!H1214","v":0},{"$f":"IF(入力シート!$J1214<>\"\",入力シート!$J1214,IF(入力シート!$L1214<>\"\",入力シート!$L1214,\"‐\"))","v":"‐"},{"$f":"IF(入力シート!$K1214<>\"\",入力シート!$K1214,IF(入力シート!$M1214<>\"\",入力シート!$M1214,入力シート!$N1214))","v":0},{"$f":"入力シート!I1214","v":0},{"$f":"入力シート!O1214","v":0},{"$f":"IF(入力シート!P1214=\"×\",\"P\",\"PN\")","v":"PN"},{"$f":"計算結果!#REF!","v":{"$error":"#REF!"}},{"$f":"計算結果!#REF!","v":{"$error":"#REF!"}},{"$f":"計算結果!#REF!","v":{"$error":"#REF!"}},{"$f":"計算結果!#REF!","v":{"$error":"#REF!"}},{"$f":"計算結果!#REF!","v":{"$error":"#REF!"}},{"$f":"計算結果!#REF!","v":{"$error":"#REF!"}},{"$f":"計算結果!#REF!","v":{"$error":"#REF!"}},{"$f":"計算結果!#REF!","v":{"$error":"#REF!"}},{"$f":"計算結果!#REF!","v":{"$error":"#REF!"}},{"$f":"計算結果!#REF!","v":{"$error":"#REF!"}}]
[{"$f":"入力シート!A1215","v":0},{"$f":"入力シート!G1215","v":0},{"$f":"入力シート!H1215","v":0},{"$f":"IF(入力シート!$J1215<>\"\",入力シート!$J1215,IF(入力シート!$L1215<>\"\",入力シート!$L1215,\"‐\"))","v":"‐"},{"$f":"IF(入力シート!$K1215<>\"\",入力シート!$K1215,IF(入力シート!$M1215<>\"\",入力シート!$M1215,入力シート!$N1215))","v":0},{"$f":"入力シート!I1215","v":0},{"$f":"入力シート!O1215","v":0},{"$f":"IF(入力シート!P1215=\"×\",\"P\",\"PN\")","v":"PN"},{"$f":"計算結果!#REF!","v":{"$error":"#REF!"}},{"$f":"計算結果!#REF!","v":{"$error":"#REF!"}},{"$f":"計算結果!#REF!","v":{"$error":"#REF!"}},{"$f":"計算結果!#REF!","v":{"$error":"#REF!"}},{"$f":"計算結果!#REF!","v":{"$error":"#REF!"}},{"$f":"計算結果!#REF!","v":{"$error":"#REF!"}},{"$f":"計算結果!#REF!","v":{"$error":"#REF!"}},{"$f":"計算結果!#REF!","v":{"$error":"#REF!"}},{"$f":"計算結果!#REF!","v":{"$error":"#REF!"}},{"$f":"計算結果!#REF!","v":{"$error":"#REF!"}}]
[{"$f":"入力シート!A1216","v":0},{"$f":"入力シート!G1216","v":0},{"$f":"入力シート!H1216","v":0},{"$f":"IF(入力シート!$J1216<>\"\",入力シート!$J1216,IF(入力シート!$L1216<>\"\",入力シート!$L1216,\"‐\"))","v":"‐"},{"$f":"IF(入力シート!$K1216<>\"\",入力シート!$K1216,IF(入力シート!$M1216<>\"\",入力シート!$M1216,入力シート!$N1216))","v":0},{"$f":"入力シート!I1216","v":0},{"$f":"入力シート!O1216","v":0},{"$f":"IF(入力シート!P1216=\"×\",\"P\",\"PN\")","v":"PN"},{"$f":"計算結果!#REF!","v":{"$error":"#REF!"}},{"$f":"計算結果!#REF!","v":{"$error":"#REF!"}},{"$f":"計算結果!#REF!","v":{"$error":"#REF!"}},{"$f":"計算結果!#REF!","v":{"$error":"#REF!"}},{"$f":"計算結果!#REF!","v":{"$error":"#REF!"}},{"$f":"計算結果!#REF!","v":{"$error":"#REF!"}},{"$f":"計算結果!#REF!","v":{"$error":"#REF!"}},{"$f":"計算結果!#REF!","v":{"$error":"#REF!"}},{"$f":"計算結果!#REF!","v":{"$error":"#REF!"}},{"$f":"計算結果!#REF!","v":{"$error":"#REF!"}}]
[{"$f":"入力シート!A1217","v":0},{"$f":"入力シート!G1217","v":0},{"$f":"入力シート!H1217","v":0},{"$f":"IF(入力シート!$J1217<>\"\",入力シート!$J1217,IF(入力シート!$L1217<>\"\",入力シート!$L1217,\"‐\"))","v":"‐"},{"$f":"IF(入力シート!$K1217<>\"\",入力シート!$K1217,IF(入力シート!$M1217<>\"\",入力シート!$M1217,入力シート!$N1217))","v":0},{"$f":"入力シート!I1217","v":0},{"$f":"入力シート!O1217","v":0},{"$f":"IF(入力シート!P1217=\"×\",\"P\",\"PN\")","v":"PN"},{"$f":"計算結果!#REF!","v":{"$error":"#REF!"}},{"$f":"計算結果!#REF!","v":{"$error":"#REF!"}},{"$f":"計算結果!#REF!","v":{"$error":"#REF!"}},{"$f":"計算結果!#REF!","v":{"$error":"#REF!"}},{"$f":"計算結果!#REF!","v":{"$error":"#REF!"}},{"$f":"計算結果!#REF!","v":{"$error":"#REF!"}},{"$f":"計算結果!#REF!","v":{"$error":"#REF!"}},{"$f":"計算結果!#REF!","v":{"$error":"#REF!"}},{"$f":"計算結果!#REF!","v":{"$error":"#REF!"}},{"$f":"計算結果!#REF!","v":{"$error":"#REF!"}}]
[{"$f":"入力シート!A1218","v":0},{"$f":"入力シート!G1218","v":0},{"$f":"入力シート!H1218","v":0},{"$f":"IF(入力シート!$J1218<>\"\",入力シート!$J1218,IF(入力シート!$L1218<>\"\",入力シート!$L1218,\"‐\"))","v":"‐"},{"$f":"IF(入力シート!$K1218<>\"\",入力シート!$K1218,IF(入力シート!$M1218<>\"\",入力シート!$M1218,入力シート!$N1218))","v":0},{"$f":"入力シート!I1218","v":0},{"$f":"入力シート!O1218","v":0},{"$f":"IF(入力シート!P1218=\"×\",\"P\",\"PN\")","v":"PN"},{"$f":"計算結果!#REF!","v":{"$error":"#REF!"}},{"$f":"計算結果!#REF!","v":{"$error":"#REF!"}},{"$f":"計算結果!#REF!","v":{"$error":"#REF!"}},{"$f":"計算結果!#REF!","v":{"$error":"#REF!"}},{"$f":"計算結果!#REF!","v":{"$error":"#REF!"}},{"$f":"計算結果!#REF!","v":{"$error":"#REF!"}},{"$f":"計算結果!#REF!","v":{"$error":"#REF!"}},{"$f":"計算結果!#REF!","v":{"$error":"#REF!"}},{"$f":"計算結果!#REF!","v":{"$error":"#REF!"}},{"$f":"計算結果!#REF!","v":{"$error":"#REF!"}}]
[{"$f":"入力シート!A1219","v":0},{"$f":"入力シート!G1219","v":0},{"$f":"入力シート!H1219","v":0},{"$f":"IF(入力シート!$J1219<>\"\",入力シート!$J1219,IF(入力シート!$L1219<>\"\",入力シート!$L1219,\"‐\"))","v":"‐"},{"$f":"IF(入力シート!$K1219<>\"\",入力シート!$K1219,IF(入力シート!$M1219<>\"\",入力シート!$M1219,入力シート!$N1219))","v":0},{"$f":"入力シート!I1219","v":0},{"$f":"入力シート!O1219","v":0},{"$f":"IF(入力シート!P1219=\"×\",\"P\",\"PN\")","v":"PN"},{"$f":"計算結果!#REF!","v":{"$error":"#REF!"}},{"$f":"計算結果!#REF!","v":{"$error":"#REF!"}},{"$f":"計算結果!#REF!","v":{"$error":"#REF!"}},{"$f":"計算結果!#REF!","v":{"$error":"#REF!"}},{"$f":"計算結果!#REF!","v":{"$error":"#REF!"}},{"$f":"計算結果!#REF!","v":{"$error":"#REF!"}},{"$f":"計算結果!#REF!","v":{"$error":"#REF!"}},{"$f":"計算結果!#REF!","v":{"$error":"#REF!"}},{"$f":"計算結果!#REF!","v":{"$error":"#REF!"}},{"$f":"計算結果!#REF!","v":{"$error":"#REF!"}}]
[{"$f":"入力シート!A1220","v":0},{"$f":"入力シート!G1220","v":0},{"$f":"入力シート!H1220","v":0},{"$f":"IF(入力シート!$J1220<>\"\",入力シート!$J1220,IF(入力シート!$L1220<>\"\",入力シート!$L1220,\"‐\"))","v":"‐"},{"$f":"IF(入力シート!$K1220<>\"\",入力シート!$K1220,IF(入力シート!$M1220<>\"\",入力シート!$M1220,入力シート!$N1220))","v":0},{"$f":"入力シート!I1220","v":0},{"$f":"入力シート!O1220","v":0},{"$f":"IF(入力シート!P1220=\"×\",\"P\",\"PN\")","v":"PN"},{"$f":"計算結果!#REF!","v":{"$error":"#REF!"}},{"$f":"計算結果!#REF!","v":{"$error":"#REF!"}},{"$f":"計算結果!#REF!","v":{"$error":"#REF!"}},{"$f":"計算結果!#REF!","v":{"$error":"#REF!"}},{"$f":"計算結果!#REF!","v":{"$error":"#REF!"}},{"$f":"計算結果!#REF!","v":{"$error":"#REF!"}},{"$f":"計算結果!#REF!","v":{"$error":"#REF!"}},{"$f":"計算結果!#REF!","v":{"$error":"#REF!"}},{"$f":"計算結果!#REF!","v":{"$error":"#REF!"}},{"$f":"計算結果!#REF!","v":{"$error":"#REF!"}}]
[{"$f":"入力シート!A1221","v":0},{"$f":"入力シート!G1221","v":0},{"$f":"入力シート!H1221","v":0},{"$f":"IF(入力シート!$J1221<>\"\",入力シート!$J1221,IF(入力シート!$L1221<>\"\",入力シート!$L1221,\"‐\"))","v":"‐"},{"$f":"IF(入力シート!$K1221<>\"\",入力シート!$K1221,IF(入力シート!$M1221<>\"\",入力シート!$M1221,入力シート!$N1221))","v":0},{"$f":"入力シート!I1221","v":0},{"$f":"入力シート!O1221","v":0},{"$f":"IF(入力シート!P1221=\"×\",\"P\",\"PN\")","v":"PN"},{"$f":"計算結果!#REF!","v":{"$error":"#REF!"}},{"$f":"計算結果!#REF!","v":{"$error":"#REF!"}},{"$f":"計算結果!#REF!","v":{"$error":"#REF!"}},{"$f":"計算結果!#REF!","v":{"$error":"#REF!"}},{"$f":"計算結果!#REF!","v":{"$error":"#REF!"}},{"$f":"計算結果!#REF!","v":{"$error":"#REF!"}},{"$f":"計算結果!#REF!","v":{"$error":"#REF!"}},{"$f":"計算結果!#REF!","v":{"$error":"#REF!"}},{"$f":"計算結果!#REF!","v":{"$error":"#REF!"}},{"$f":"計算結果!#REF!","v":{"$error":"#REF!"}}]
[{"$f":"入力シート!A1222","v":0},{"$f":"入力シート!G1222","v":0},{"$f":"入力シート!H1222","v":0},{"$f":"IF(入力シート!$J1222<>\"\",入力シート!$J1222,IF(入力シート!$L1222<>\"\",入力シート!$L1222,\"‐\"))","v":"‐"},{"$f":"IF(入力シート!$K1222<>\"\",入力シート!$K1222,IF(入力シート!$M1222<>\"\",入力シート!$M1222,入力シート!$N1222))","v":0},{"$f":"入力シート!I1222","v":0},{"$f":"入力シート!O1222","v":0},{"$f":"IF(入力シート!P1222=\"×\",\"P\",\"PN\")","v":"PN"},{"$f":"計算結果!#REF!","v":{"$error":"#REF!"}},{"$f":"計算結果!#REF!","v":{"$error":"#REF!"}},{"$f":"計算結果!#REF!","v":{"$error":"#REF!"}},{"$f":"計算結果!#REF!","v":{"$error":"#REF!"}},{"$f":"計算結果!#REF!","v":{"$error":"#REF!"}},{"$f":"計算結果!#REF!","v":{"$error":"#REF!"}},{"$f":"計算結果!#REF!","v":{"$error":"#REF!"}},{"$f":"計算結果!#REF!","v":{"$error":"#REF!"}},{"$f":"計算結果!#REF!","v":{"$error":"#REF!"}},{"$f":"計算結果!#REF!","v":{"$error":"#REF!"}}]
[{"$f":"入力シート!A1223","v":0},{"$f":"入力シート!G1223","v":0},{"$f":"入力シート!H1223","v":0},{"$f":"IF(入力シート!$J1223<>\"\",入力シート!$J1223,IF(入力シート!$L1223<>\"\",入力シート!$L1223,\"‐\"))","v":"‐"},{"$f":"IF(入力シート!$K1223<>\"\",入力シート!$K1223,IF(入力シート!$M1223<>\"\",入力シート!$M1223,入力シート!$N1223))","v":0},{"$f":"入力シート!I1223","v":0},{"$f":"入力シート!O1223","v":0},{"$f":"IF(入力シート!P1223=\"×\",\"P\",\"PN\")","v":"PN"},{"$f":"計算結果!#REF!","v":{"$error":"#REF!"}},{"$f":"計算結果!#REF!","v":{"$error":"#REF!"}},{"$f":"計算結果!#REF!","v":{"$error":"#REF!"}},{"$f":"計算結果!#REF!","v":{"$error":"#REF!"}},{"$f":"計算結果!#REF!","v":{"$error":"#REF!"}},{"$f":"計算結果!#REF!","v":{"$error":"#REF!"}},{"$f":"計算結果!#REF!","v":{"$error":"#REF!"}},{"$f":"計算結果!#REF!","v":{"$error":"#REF!"}},{"$f":"計算結果!#REF!","v":{"$error":"#REF!"}},{"$f":"計算結果!#REF!","v":{"$error":"#REF!"}}]
[{"$f":"入力シート!A1224","v":0},{"$f":"入力シート!G1224","v":0},{"$f":"入力シート!H1224","v":0},{"$f":"IF(入力シート!$J1224<>\"\",入力シート!$J1224,IF(入力シート!$L1224<>\"\",入力シート!$L1224,\"‐\"))","v":"‐"},{"$f":"IF(入力シート!$K1224<>\"\",入力シート!$K1224,IF(入力シート!$M1224<>\"\",入力シート!$M1224,入力シート!$N1224))","v":0},{"$f":"入力シート!I1224","v":0},{"$f":"入力シート!O1224","v":0},{"$f":"IF(入力シート!P1224=\"×\",\"P\",\"PN\")","v":"PN"},{"$f":"計算結果!#REF!","v":{"$error":"#REF!"}},{"$f":"計算結果!#REF!","v":{"$error":"#REF!"}},{"$f":"計算結果!#REF!","v":{"$error":"#REF!"}},{"$f":"計算結果!#REF!","v":{"$error":"#REF!"}},{"$f":"計算結果!#REF!","v":{"$error":"#REF!"}},{"$f":"計算結果!#REF!","v":{"$error":"#REF!"}},{"$f":"計算結果!#REF!","v":{"$error":"#REF!"}},{"$f":"計算結果!#REF!","v":{"$error":"#REF!"}},{"$f":"計算結果!#REF!","v":{"$error":"#REF!"}},{"$f":"計算結果!#REF!","v":{"$error":"#REF!"}}]
[{"$f":"入力シート!A1225","v":0},{"$f":"入力シート!G1225","v":0},{"$f":"入力シート!H1225","v":0},{"$f":"IF(入力シート!$J1225<>\"\",入力シート!$J1225,IF(入力シート!$L1225<>\"\",入力シート!$L1225,\"‐\"))","v":"‐"},{"$f":"IF(入力シート!$K1225<>\"\",入力シート!$K1225,IF(入力シート!$M1225<>\"\",入力シート!$M1225,入力シート!$N1225))","v":0},{"$f":"入力シート!I1225","v":0},{"$f":"入力シート!O1225","v":0},{"$f":"IF(入力シート!P1225=\"×\",\"P\",\"PN\")","v":"PN"},{"$f":"計算結果!#REF!","v":{"$error":"#REF!"}},{"$f":"計算結果!#REF!","v":{"$error":"#REF!"}},{"$f":"計算結果!#REF!","v":{"$error":"#REF!"}},{"$f":"計算結果!#REF!","v":{"$error":"#REF!"}},{"$f":"計算結果!#REF!","v":{"$error":"#REF!"}},{"$f":"計算結果!#REF!","v":{"$error":"#REF!"}},{"$f":"計算結果!#REF!","v":{"$error":"#REF!"}},{"$f":"計算結果!#REF!","v":{"$error":"#REF!"}},{"$f":"計算結果!#REF!","v":{"$error":"#REF!"}},{"$f":"計算結果!#REF!","v":{"$error":"#REF!"}}]
[{"$f":"入力シート!A1226","v":0},{"$f":"入力シート!G1226","v":0},{"$f":"入力シート!H1226","v":0},{"$f":"IF(入力シート!$J1226<>\"\",入力シート!$J1226,IF(入力シート!$L1226<>\"\",入力シート!$L1226,\"‐\"))","v":"‐"},{"$f":"IF(入力シート!$K1226<>\"\",入力シート!$K1226,IF(入力シート!$M1226<>\"\",入力シート!$M1226,入力シート!$N1226))","v":0},{"$f":"入力シート!I1226","v":0},{"$f":"入力シート!O1226","v":0},{"$f":"IF(入力シート!P1226=\"×\",\"P\",\"PN\")","v":"PN"},{"$f":"計算結果!#REF!","v":{"$error":"#REF!"}},{"$f":"計算結果!#REF!","v":{"$error":"#REF!"}},{"$f":"計算結果!#REF!","v":{"$error":"#REF!"}},{"$f":"計算結果!#REF!","v":{"$error":"#REF!"}},{"$f":"計算結果!#REF!","v":{"$error":"#REF!"}},{"$f":"計算結果!#REF!","v":{"$error":"#REF!"}},{"$f":"計算結果!#REF!","v":{"$error":"#REF!"}},{"$f":"計算結果!#REF!","v":{"$error":"#REF!"}},{"$f":"計算結果!#REF!","v":{"$error":"#REF!"}},{"$f":"計算結果!#REF!","v":{"$error":"#REF!"}}]
[{"$f":"入力シート!A1227","v":0},{"$f":"入力シート!G1227","v":0},{"$f":"入力シート!H1227","v":0},{"$f":"IF(入力シート!$J1227<>\"\",入力シート!$J1227,IF(入力シート!$L1227<>\"\",入力シート!$L1227,\"‐\"))","v":"‐"},{"$f":"IF(入力シート!$K1227<>\"\",入力シート!$K1227,IF(入力シート!$M1227<>\"\",入力シート!$M1227,入力シート!$N1227))","v":0},{"$f":"入力シート!I1227","v":0},{"$f":"入力シート!O1227","v":0},{"$f":"IF(入力シート!P1227=\"×\",\"P\",\"PN\")","v":"PN"},{"$f":"計算結果!#REF!","v":{"$error":"#REF!"}},{"$f":"計算結果!#REF!","v":{"$error":"#REF!"}},{"$f":"計算結果!#REF!","v":{"$error":"#REF!"}},{"$f":"計算結果!#REF!","v":{"$error":"#REF!"}},{"$f":"計算結果!#REF!","v":{"$error":"#REF!"}},{"$f":"計算結果!#REF!","v":{"$error":"#REF!"}},{"$f":"計算結果!#REF!","v":{"$error":"#REF!"}},{"$f":"計算結果!#REF!","v":{"$error":"#REF!"}},{"$f":"計算結果!#REF!","v":{"$error":"#REF!"}},{"$f":"計算結果!#REF!","v":{"$error":"#REF!"}}]
[{"$f":"入力シート!A1228","v":0},{"$f":"入力シート!G1228","v":0},{"$f":"入力シート!H1228","v":0},{"$f":"IF(入力シート!$J1228<>\"\",入力シート!$J1228,IF(入力シート!$L1228<>\"\",入力シート!$L1228,\"‐\"))","v":"‐"},{"$f":"IF(入力シート!$K1228<>\"\",入力シート!$K1228,IF(入力シート!$M1228<>\"\",入力シート!$M1228,入力シート!$N1228))","v":0},{"$f":"入力シート!I1228","v":0},{"$f":"入力シート!O1228","v":0},{"$f":"IF(入力シート!P1228=\"×\",\"P\",\"PN\")","v":"PN"},{"$f":"計算結果!#REF!","v":{"$error":"#REF!"}},{"$f":"計算結果!#REF!","v":{"$error":"#REF!"}},{"$f":"計算結果!#REF!","v":{"$error":"#REF!"}},{"$f":"計算結果!#REF!","v":{"$error":"#REF!"}},{"$f":"計算結果!#REF!","v":{"$error":"#REF!"}},{"$f":"計算結果!#REF!","v":{"$error":"#REF!"}},{"$f":"計算結果!#REF!","v":{"$error":"#REF!"}},{"$f":"計算結果!#REF!","v":{"$error":"#REF!"}},{"$f":"計算結果!#REF!","v":{"$error":"#REF!"}},{"$f":"計算結果!#REF!","v":{"$error":"#REF!"}}]
[{"$f":"入力シート!A1229","v":0},{"$f":"入力シート!G1229","v":0},{"$f":"入力シート!H1229","v":0},{"$f":"IF(入力シート!$J1229<>\"\",入力シート!$J1229,IF(入力シート!$L1229<>\"\",入力シート!$L1229,\"‐\"))","v":"‐"},{"$f":"IF(入力シート!$K1229<>\"\",入力シート!$K1229,IF(入力シート!$M1229<>\"\",入力シート!$M1229,入力シート!$N1229))","v":0},{"$f":"入力シート!I1229","v":0},{"$f":"入力シート!O1229","v":0},{"$f":"IF(入力シート!P1229=\"×\",\"P\",\"PN\")","v":"PN"},{"$f":"計算結果!#REF!","v":{"$error":"#REF!"}},{"$f":"計算結果!#REF!","v":{"$error":"#REF!"}},{"$f":"計算結果!#REF!","v":{"$error":"#REF!"}},{"$f":"計算結果!#REF!","v":{"$error":"#REF!"}},{"$f":"計算結果!#REF!","v":{"$error":"#REF!"}},{"$f":"計算結果!#REF!","v":{"$error":"#REF!"}},{"$f":"計算結果!#REF!","v":{"$error":"#REF!"}},{"$f":"計算結果!#REF!","v":{"$error":"#REF!"}},{"$f":"計算結果!#REF!","v":{"$error":"#REF!"}},{"$f":"計算結果!#REF!","v":{"$error":"#REF!"}}]
[{"$f":"入力シート!A1230","v":0},{"$f":"入力シート!G1230","v":0},{"$f":"入力シート!H1230","v":0},{"$f":"IF(入力シート!$J1230<>\"\",入力シート!$J1230,IF(入力シート!$L1230<>\"\",入力シート!$L1230,\"‐\"))","v":"‐"},{"$f":"IF(入力シート!$K1230<>\"\",入力シート!$K1230,IF(入力シート!$M1230<>\"\",入力シート!$M1230,入力シート!$N1230))","v":0},{"$f":"入力シート!I1230","v":0},{"$f":"入力シート!O1230","v":0},{"$f":"IF(入力シート!P1230=\"×\",\"P\",\"PN\")","v":"PN"},{"$f":"計算結果!#REF!","v":{"$error":"#REF!"}},{"$f":"計算結果!#REF!","v":{"$error":"#REF!"}},{"$f":"計算結果!#REF!","v":{"$error":"#REF!"}},{"$f":"計算結果!#REF!","v":{"$error":"#REF!"}},{"$f":"計算結果!#REF!","v":{"$error":"#REF!"}},{"$f":"計算結果!#REF!","v":{"$error":"#REF!"}},{"$f":"計算結果!#REF!","v":{"$error":"#REF!"}},{"$f":"計算結果!#REF!","v":{"$error":"#REF!"}},{"$f":"計算結果!#REF!","v":{"$error":"#REF!"}},{"$f":"計算結果!#REF!","v":{"$error":"#REF!"}}]
[{"$f":"入力シート!A1231","v":0},{"$f":"入力シート!G1231","v":0},{"$f":"入力シート!H1231","v":0},{"$f":"IF(入力シート!$J1231<>\"\",入力シート!$J1231,IF(入力シート!$L1231<>\"\",入力シート!$L1231,\"‐\"))","v":"‐"},{"$f":"IF(入力シート!$K1231<>\"\",入力シート!$K1231,IF(入力シート!$M1231<>\"\",入力シート!$M1231,入力シート!$N1231))","v":0},{"$f":"入力シート!I1231","v":0},{"$f":"入力シート!O1231","v":0},{"$f":"IF(入力シート!P1231=\"×\",\"P\",\"PN\")","v":"PN"},{"$f":"計算結果!#REF!","v":{"$error":"#REF!"}},{"$f":"計算結果!#REF!","v":{"$error":"#REF!"}},{"$f":"計算結果!#REF!","v":{"$error":"#REF!"}},{"$f":"計算結果!#REF!","v":{"$error":"#REF!"}},{"$f":"計算結果!#REF!","v":{"$error":"#REF!"}},{"$f":"計算結果!#REF!","v":{"$error":"#REF!"}},{"$f":"計算結果!#REF!","v":{"$error":"#REF!"}},{"$f":"計算結果!#REF!","v":{"$error":"#REF!"}},{"$f":"計算結果!#REF!","v":{"$error":"#REF!"}},{"$f":"計算結果!#REF!","v":{"$error":"#REF!"}}]
[{"$f":"入力シート!A1232","v":0},{"$f":"入力シート!G1232","v":0},{"$f":"入力シート!H1232","v":0},{"$f":"IF(入力シート!$J1232<>\"\",入力シート!$J1232,IF(入力シート!$L1232<>\"\",入力シート!$L1232,\"‐\"))","v":"‐"},{"$f":"IF(入力シート!$K1232<>\"\",入力シート!$K1232,IF(入力シート!$M1232<>\"\",入力シート!$M1232,入力シート!$N1232))","v":0},{"$f":"入力シート!I1232","v":0},{"$f":"入力シート!O1232","v":0},{"$f":"IF(入力シート!P1232=\"×\",\"P\",\"PN\")","v":"PN"},{"$f":"計算結果!#REF!","v":{"$error":"#REF!"}},{"$f":"計算結果!#REF!","v":{"$error":"#REF!"}},{"$f":"計算結果!#REF!","v":{"$error":"#REF!"}},{"$f":"計算結果!#REF!","v":{"$error":"#REF!"}},{"$f":"計算結果!#REF!","v":{"$error":"#REF!"}},{"$f":"計算結果!#REF!","v":{"$error":"#REF!"}},{"$f":"計算結果!#REF!","v":{"$error":"#REF!"}},{"$f":"計算結果!#REF!","v":{"$error":"#REF!"}},{"$f":"計算結果!#REF!","v":{"$error":"#REF!"}},{"$f":"計算結果!#REF!","v":{"$error":"#REF!"}}]
[{"$f":"入力シート!A1233","v":0},{"$f":"入力シート!G1233","v":0},{"$f":"入力シート!H1233","v":0},{"$f":"IF(入力シート!$J1233<>\"\",入力シート!$J1233,IF(入力シート!$L1233<>\"\",入力シート!$L1233,\"‐\"))","v":"‐"},{"$f":"IF(入力シート!$K1233<>\"\",入力シート!$K1233,IF(入力シート!$M1233<>\"\",入力シート!$M1233,入力シート!$N1233))","v":0},{"$f":"入力シート!I1233","v":0},{"$f":"入力シート!O1233","v":0},{"$f":"IF(入力シート!P1233=\"×\",\"P\",\"PN\")","v":"PN"},{"$f":"計算結果!#REF!","v":{"$error":"#REF!"}},{"$f":"計算結果!#REF!","v":{"$error":"#REF!"}},{"$f":"計算結果!#REF!","v":{"$error":"#REF!"}},{"$f":"計算結果!#REF!","v":{"$error":"#REF!"}},{"$f":"計算結果!#REF!","v":{"$error":"#REF!"}},{"$f":"計算結果!#REF!","v":{"$error":"#REF!"}},{"$f":"計算結果!#REF!","v":{"$error":"#REF!"}},{"$f":"計算結果!#REF!","v":{"$error":"#REF!"}},{"$f":"計算結果!#REF!","v":{"$error":"#REF!"}},{"$f":"計算結果!#REF!","v":{"$error":"#REF!"}}]
[{"$f":"入力シート!A1234","v":0},{"$f":"入力シート!G1234","v":0},{"$f":"入力シート!H1234","v":0},{"$f":"IF(入力シート!$J1234<>\"\",入力シート!$J1234,IF(入力シート!$L1234<>\"\",入力シート!$L1234,\"‐\"))","v":"‐"},{"$f":"IF(入力シート!$K1234<>\"\",入力シート!$K1234,IF(入力シート!$M1234<>\"\",入力シート!$M1234,入力シート!$N1234))","v":0},{"$f":"入力シート!I1234","v":0},{"$f":"入力シート!O1234","v":0},{"$f":"IF(入力シート!P1234=\"×\",\"P\",\"PN\")","v":"PN"},{"$f":"計算結果!#REF!","v":{"$error":"#REF!"}},{"$f":"計算結果!#REF!","v":{"$error":"#REF!"}},{"$f":"計算結果!#REF!","v":{"$error":"#REF!"}},{"$f":"計算結果!#REF!","v":{"$error":"#REF!"}},{"$f":"計算結果!#REF!","v":{"$error":"#REF!"}},{"$f":"計算結果!#REF!","v":{"$error":"#REF!"}},{"$f":"計算結果!#REF!","v":{"$error":"#REF!"}},{"$f":"計算結果!#REF!","v":{"$error":"#REF!"}},{"$f":"計算結果!#REF!","v":{"$error":"#REF!"}},{"$f":"計算結果!#REF!","v":{"$error":"#REF!"}}]
[{"$f":"入力シート!A1235","v":0},{"$f":"入力シート!G1235","v":0},{"$f":"入力シート!H1235","v":0},{"$f":"IF(入力シート!$J1235<>\"\",入力シート!$J1235,IF(入力シート!$L1235<>\"\",入力シート!$L1235,\"‐\"))","v":"‐"},{"$f":"IF(入力シート!$K1235<>\"\",入力シート!$K1235,IF(入力シート!$M1235<>\"\",入力シート!$M1235,入力シート!$N1235))","v":0},{"$f":"入力シート!I1235","v":0},{"$f":"入力シート!O1235","v":0},{"$f":"IF(入力シート!P1235=\"×\",\"P\",\"PN\")","v":"PN"},{"$f":"計算結果!#REF!","v":{"$error":"#REF!"}},{"$f":"計算結果!#REF!","v":{"$error":"#REF!"}},{"$f":"計算結果!#REF!","v":{"$error":"#REF!"}},{"$f":"計算結果!#REF!","v":{"$error":"#REF!"}},{"$f":"計算結果!#REF!","v":{"$error":"#REF!"}},{"$f":"計算結果!#REF!","v":{"$error":"#REF!"}},{"$f":"計算結果!#REF!","v":{"$error":"#REF!"}},{"$f":"計算結果!#REF!","v":{"$error":"#REF!"}},{"$f":"計算結果!#REF!","v":{"$error":"#REF!"}},{"$f":"計算結果!#REF!","v":{"$error":"#REF!"}}]
[{"$f":"入力シート!A1236","v":0},{"$f":"入力シート!G1236","v":0},{"$f":"入力シート!H1236","v":0},{"$f":"IF(入力シート!$J1236<>\"\",入力シート!$J1236,IF(入力シート!$L1236<>\"\",入力シート!$L1236,\"‐\"))","v":"‐"},{"$f":"IF(入力シート!$K1236<>\"\",入力シート!$K1236,IF(入力シート!$M1236<>\"\",入力シート!$M1236,入力シート!$N1236))","v":0},{"$f":"入力シート!I1236","v":0},{"$f":"入力シート!O1236","v":0},{"$f":"IF(入力シート!P1236=\"×\",\"P\",\"PN\")","v":"PN"},{"$f":"計算結果!#REF!","v":{"$error":"#REF!"}},{"$f":"計算結果!#REF!","v":{"$error":"#REF!"}},{"$f":"計算結果!#REF!","v":{"$error":"#REF!"}},{"$f":"計算結果!#REF!","v":{"$error":"#REF!"}},{"$f":"計算結果!#REF!","v":{"$error":"#REF!"}},{"$f":"計算結果!#REF!","v":{"$error":"#REF!"}},{"$f":"計算結果!#REF!","v":{"$error":"#REF!"}},{"$f":"計算結果!#REF!","v":{"$error":"#REF!"}},{"$f":"計算結果!#REF!","v":{"$error":"#REF!"}},{"$f":"計算結果!#REF!","v":{"$error":"#REF!"}}]
[{"$f":"入力シート!A1237","v":0},{"$f":"入力シート!G1237","v":0},{"$f":"入力シート!H1237","v":0},{"$f":"IF(入力シート!$J1237<>\"\",入力シート!$J1237,IF(入力シート!$L1237<>\"\",入力シート!$L1237,\"‐\"))","v":"‐"},{"$f":"IF(入力シート!$K1237<>\"\",入力シート!$K1237,IF(入力シート!$M1237<>\"\",入力シート!$M1237,入力シート!$N1237))","v":0},{"$f":"入力シート!I1237","v":0},{"$f":"入力シート!O1237","v":0},{"$f":"IF(入力シート!P1237=\"×\",\"P\",\"PN\")","v":"PN"},{"$f":"計算結果!#REF!","v":{"$error":"#REF!"}},{"$f":"計算結果!#REF!","v":{"$error":"#REF!"}},{"$f":"計算結果!#REF!","v":{"$error":"#REF!"}},{"$f":"計算結果!#REF!","v":{"$error":"#REF!"}},{"$f":"計算結果!#REF!","v":{"$error":"#REF!"}},{"$f":"計算結果!#REF!","v":{"$error":"#REF!"}},{"$f":"計算結果!#REF!","v":{"$error":"#REF!"}},{"$f":"計算結果!#REF!","v":{"$error":"#REF!"}},{"$f":"計算結果!#REF!","v":{"$error":"#REF!"}},{"$f":"計算結果!#REF!","v":{"$error":"#REF!"}}]
[{"$f":"入力シート!A1238","v":0},{"$f":"入力シート!G1238","v":0},{"$f":"入力シート!H1238","v":0},{"$f":"IF(入力シート!$J1238<>\"\",入力シート!$J1238,IF(入力シート!$L1238<>\"\",入力シート!$L1238,\"‐\"))","v":"‐"},{"$f":"IF(入力シート!$K1238<>\"\",入力シート!$K1238,IF(入力シート!$M1238<>\"\",入力シート!$M1238,入力シート!$N1238))","v":0},{"$f":"入力シート!I1238","v":0},{"$f":"入力シート!O1238","v":0},{"$f":"IF(入力シート!P1238=\"×\",\"P\",\"PN\")","v":"PN"},{"$f":"計算結果!#REF!","v":{"$error":"#REF!"}},{"$f":"計算結果!#REF!","v":{"$error":"#REF!"}},{"$f":"計算結果!#REF!","v":{"$error":"#REF!"}},{"$f":"計算結果!#REF!","v":{"$error":"#REF!"}},{"$f":"計算結果!#REF!","v":{"$error":"#REF!"}},{"$f":"計算結果!#REF!","v":{"$error":"#REF!"}},{"$f":"計算結果!#REF!","v":{"$error":"#REF!"}},{"$f":"計算結果!#REF!","v":{"$error":"#REF!"}},{"$f":"計算結果!#REF!","v":{"$error":"#REF!"}},{"$f":"計算結果!#REF!","v":{"$error":"#REF!"}}]
[{"$f":"入力シート!A1239","v":0},{"$f":"入力シート!G1239","v":0},{"$f":"入力シート!H1239","v":0},{"$f":"IF(入力シート!$J1239<>\"\",入力シート!$J1239,IF(入力シート!$L1239<>\"\",入力シート!$L1239,\"‐\"))","v":"‐"},{"$f":"IF(入力シート!$K1239<>\"\",入力シート!$K1239,IF(入力シート!$M1239<>\"\",入力シート!$M1239,入力シート!$N1239))","v":0},{"$f":"入力シート!I1239","v":0},{"$f":"入力シート!O1239","v":0},{"$f":"IF(入力シート!P1239=\"×\",\"P\",\"PN\")","v":"PN"},{"$f":"計算結果!#REF!","v":{"$error":"#REF!"}},{"$f":"計算結果!#REF!","v":{"$error":"#REF!"}},{"$f":"計算結果!#REF!","v":{"$error":"#REF!"}},{"$f":"計算結果!#REF!","v":{"$error":"#REF!"}},{"$f":"計算結果!#REF!","v":{"$error":"#REF!"}},{"$f":"計算結果!#REF!","v":{"$error":"#REF!"}},{"$f":"計算結果!#REF!","v":{"$error":"#REF!"}},{"$f":"計算結果!#REF!","v":{"$error":"#REF!"}},{"$f":"計算結果!#REF!","v":{"$error":"#REF!"}},{"$f":"計算結果!#REF!","v":{"$error":"#REF!"}}]
[{"$f":"入力シート!A1240","v":0},{"$f":"入力シート!G1240","v":0},{"$f":"入力シート!H1240","v":0},{"$f":"IF(入力シート!$J1240<>\"\",入力シート!$J1240,IF(入力シート!$L1240<>\"\",入力シート!$L1240,\"‐\"))","v":"‐"},{"$f":"IF(入力シート!$K1240<>\"\",入力シート!$K1240,IF(入力シート!$M1240<>\"\",入力シート!$M1240,入力シート!$N1240))","v":0},{"$f":"入力シート!I1240","v":0},{"$f":"入力シート!O1240","v":0},{"$f":"IF(入力シート!P1240=\"×\",\"P\",\"PN\")","v":"PN"},{"$f":"計算結果!#REF!","v":{"$error":"#REF!"}},{"$f":"計算結果!#REF!","v":{"$error":"#REF!"}},{"$f":"計算結果!#REF!","v":{"$error":"#REF!"}},{"$f":"計算結果!#REF!","v":{"$error":"#REF!"}},{"$f":"計算結果!#REF!","v":{"$error":"#REF!"}},{"$f":"計算結果!#REF!","v":{"$error":"#REF!"}},{"$f":"計算結果!#REF!","v":{"$error":"#REF!"}},{"$f":"計算結果!#REF!","v":{"$error":"#REF!"}},{"$f":"計算結果!#REF!","v":{"$error":"#REF!"}},{"$f":"計算結果!#REF!","v":{"$error":"#REF!"}}]
[{"$f":"入力シート!A1241","v":0},{"$f":"入力シート!G1241","v":0},{"$f":"入力シート!H1241","v":0},{"$f":"IF(入力シート!$J1241<>\"\",入力シート!$J1241,IF(入力シート!$L1241<>\"\",入力シート!$L1241,\"‐\"))","v":"‐"},{"$f":"IF(入力シート!$K1241<>\"\",入力シート!$K1241,IF(入力シート!$M1241<>\"\",入力シート!$M1241,入力シート!$N1241))","v":0},{"$f":"入力シート!I1241","v":0},{"$f":"入力シート!O1241","v":0},{"$f":"IF(入力シート!P1241=\"×\",\"P\",\"PN\")","v":"PN"},{"$f":"計算結果!#REF!","v":{"$error":"#REF!"}},{"$f":"計算結果!#REF!","v":{"$error":"#REF!"}},{"$f":"計算結果!#REF!","v":{"$error":"#REF!"}},{"$f":"計算結果!#REF!","v":{"$error":"#REF!"}},{"$f":"計算結果!#REF!","v":{"$error":"#REF!"}},{"$f":"計算結果!#REF!","v":{"$error":"#REF!"}},{"$f":"計算結果!#REF!","v":{"$error":"#REF!"}},{"$f":"計算結果!#REF!","v":{"$error":"#REF!"}},{"$f":"計算結果!#REF!","v":{"$error":"#REF!"}},{"$f":"計算結果!#REF!","v":{"$error":"#REF!"}}]
[{"$f":"入力シート!A1242","v":0},{"$f":"入力シート!G1242","v":0},{"$f":"入力シート!H1242","v":0},{"$f":"IF(入力シート!$J1242<>\"\",入力シート!$J1242,IF(入力シート!$L1242<>\"\",入力シート!$L1242,\"‐\"))","v":"‐"},{"$f":"IF(入力シート!$K1242<>\"\",入力シート!$K1242,IF(入力シート!$M1242<>\"\",入力シート!$M1242,入力シート!$N1242))","v":0},{"$f":"入力シート!I1242","v":0},{"$f":"入力シート!O1242","v":0},{"$f":"IF(入力シート!P1242=\"×\",\"P\",\"PN\")","v":"PN"},{"$f":"計算結果!#REF!","v":{"$error":"#REF!"}},{"$f":"計算結果!#REF!","v":{"$error":"#REF!"}},{"$f":"計算結果!#REF!","v":{"$error":"#REF!"}},{"$f":"計算結果!#REF!","v":{"$error":"#REF!"}},{"$f":"計算結果!#REF!","v":{"$error":"#REF!"}},{"$f":"計算結果!#REF!","v":{"$error":"#REF!"}},{"$f":"計算結果!#REF!","v":{"$error":"#REF!"}},{"$f":"計算結果!#REF!","v":{"$error":"#REF!"}},{"$f":"計算結果!#REF!","v":{"$error":"#REF!"}},{"$f":"計算結果!#REF!","v":{"$error":"#REF!"}}]
[{"$f":"入力シート!A1243","v":0},{"$f":"入力シート!G1243","v":0},{"$f":"入力シート!H1243","v":0},{"$f":"IF(入力シート!$J1243<>\"\",入力シート!$J1243,IF(入力シート!$L1243<>\"\",入力シート!$L1243,\"‐\"))","v":"‐"},{"$f":"IF(入力シート!$K1243<>\"\",入力シート!$K1243,IF(入力シート!$M1243<>\"\",入力シート!$M1243,入力シート!$N1243))","v":0},{"$f":"入力シート!I1243","v":0},{"$f":"入力シート!O1243","v":0},{"$f":"IF(入力シート!P1243=\"×\",\"P\",\"PN\")","v":"PN"},{"$f":"計算結果!#REF!","v":{"$error":"#REF!"}},{"$f":"計算結果!#REF!","v":{"$error":"#REF!"}},{"$f":"計算結果!#REF!","v":{"$error":"#REF!"}},{"$f":"計算結果!#REF!","v":{"$error":"#REF!"}},{"$f":"計算結果!#REF!","v":{"$error":"#REF!"}},{"$f":"計算結果!#REF!","v":{"$error":"#REF!"}},{"$f":"計算結果!#REF!","v":{"$error":"#REF!"}},{"$f":"計算結果!#REF!","v":{"$error":"#REF!"}},{"$f":"計算結果!#REF!","v":{"$error":"#REF!"}},{"$f":"計算結果!#REF!","v":{"$error":"#REF!"}}]
[{"$f":"入力シート!A1244","v":0},{"$f":"入力シート!G1244","v":0},{"$f":"入力シート!H1244","v":0},{"$f":"IF(入力シート!$J1244<>\"\",入力シート!$J1244,IF(入力シート!$L1244<>\"\",入力シート!$L1244,\"‐\"))","v":"‐"},{"$f":"IF(入力シート!$K1244<>\"\",入力シート!$K1244,IF(入力シート!$M1244<>\"\",入力シート!$M1244,入力シート!$N1244))","v":0},{"$f":"入力シート!I1244","v":0},{"$f":"入力シート!O1244","v":0},{"$f":"IF(入力シート!P1244=\"×\",\"P\",\"PN\")","v":"PN"},{"$f":"計算結果!#REF!","v":{"$error":"#REF!"}},{"$f":"計算結果!#REF!","v":{"$error":"#REF!"}},{"$f":"計算結果!#REF!","v":{"$error":"#REF!"}},{"$f":"計算結果!#REF!","v":{"$error":"#REF!"}},{"$f":"計算結果!#REF!","v":{"$error":"#REF!"}},{"$f":"計算結果!#REF!","v":{"$error":"#REF!"}},{"$f":"計算結果!#REF!","v":{"$error":"#REF!"}},{"$f":"計算結果!#REF!","v":{"$error":"#REF!"}},{"$f":"計算結果!#REF!","v":{"$error":"#REF!"}},{"$f":"計算結果!#REF!","v":{"$error":"#REF!"}}]
[{"$f":"入力シート!A1245","v":0},{"$f":"入力シート!G1245","v":0},{"$f":"入力シート!H1245","v":0},{"$f":"IF(入力シート!$J1245<>\"\",入力シート!$J1245,IF(入力シート!$L1245<>\"\",入力シート!$L1245,\"‐\"))","v":"‐"},{"$f":"IF(入力シート!$K1245<>\"\",入力シート!$K1245,IF(入力シート!$M1245<>\"\",入力シート!$M1245,入力シート!$N1245))","v":0},{"$f":"入力シート!I1245","v":0},{"$f":"入力シート!O1245","v":0},{"$f":"IF(入力シート!P1245=\"×\",\"P\",\"PN\")","v":"PN"},{"$f":"計算結果!#REF!","v":{"$error":"#REF!"}},{"$f":"計算結果!#REF!","v":{"$error":"#REF!"}},{"$f":"計算結果!#REF!","v":{"$error":"#REF!"}},{"$f":"計算結果!#REF!","v":{"$error":"#REF!"}},{"$f":"計算結果!#REF!","v":{"$error":"#REF!"}},{"$f":"計算結果!#REF!","v":{"$error":"#REF!"}},{"$f":"計算結果!#REF!","v":{"$error":"#REF!"}},{"$f":"計算結果!#REF!","v":{"$error":"#REF!"}},{"$f":"計算結果!#REF!","v":{"$error":"#REF!"}},{"$f":"計算結果!#REF!","v":{"$error":"#REF!"}}]
[{"$f":"入力シート!A1246","v":0},{"$f":"入力シート!G1246","v":0},{"$f":"入力シート!H1246","v":0},{"$f":"IF(入力シート!$J1246<>\"\",入力シート!$J1246,IF(入力シート!$L1246<>\"\",入力シート!$L1246,\"‐\"))","v":"‐"},{"$f":"IF(入力シート!$K1246<>\"\",入力シート!$K1246,IF(入力シート!$M1246<>\"\",入力シート!$M1246,入力シート!$N1246))","v":0},{"$f":"入力シート!I1246","v":0},{"$f":"入力シート!O1246","v":0},{"$f":"IF(入力シート!P1246=\"×\",\"P\",\"PN\")","v":"PN"},{"$f":"計算結果!#REF!","v":{"$error":"#REF!"}},{"$f":"計算結果!#REF!","v":{"$error":"#REF!"}},{"$f":"計算結果!#REF!","v":{"$error":"#REF!"}},{"$f":"計算結果!#REF!","v":{"$error":"#REF!"}},{"$f":"計算結果!#REF!","v":{"$error":"#REF!"}},{"$f":"計算結果!#REF!","v":{"$error":"#REF!"}},{"$f":"計算結果!#REF!","v":{"$error":"#REF!"}},{"$f":"計算結果!#REF!","v":{"$error":"#REF!"}},{"$f":"計算結果!#REF!","v":{"$error":"#REF!"}},{"$f":"計算結果!#REF!","v":{"$error":"#REF!"}}]
[{"$f":"入力シート!A1247","v":0},{"$f":"入力シート!G1247","v":0},{"$f":"入力シート!H1247","v":0},{"$f":"IF(入力シート!$J1247<>\"\",入力シート!$J1247,IF(入力シート!$L1247<>\"\",入力シート!$L1247,\"‐\"))","v":"‐"},{"$f":"IF(入力シート!$K1247<>\"\",入力シート!$K1247,IF(入力シート!$M1247<>\"\",入力シート!$M1247,入力シート!$N1247))","v":0},{"$f":"入力シート!I1247","v":0},{"$f":"入力シート!O1247","v":0},{"$f":"IF(入力シート!P1247=\"×\",\"P\",\"PN\")","v":"PN"},{"$f":"計算結果!#REF!","v":{"$error":"#REF!"}},{"$f":"計算結果!#REF!","v":{"$error":"#REF!"}},{"$f":"計算結果!#REF!","v":{"$error":"#REF!"}},{"$f":"計算結果!#REF!","v":{"$error":"#REF!"}},{"$f":"計算結果!#REF!","v":{"$error":"#REF!"}},{"$f":"計算結果!#REF!","v":{"$error":"#REF!"}},{"$f":"計算結果!#REF!","v":{"$error":"#REF!"}},{"$f":"計算結果!#REF!","v":{"$error":"#REF!"}},{"$f":"計算結果!#REF!","v":{"$error":"#REF!"}},{"$f":"計算結果!#REF!","v":{"$error":"#REF!"}}]
[{"$f":"入力シート!A1248","v":0},{"$f":"入力シート!G1248","v":0},{"$f":"入力シート!H1248","v":0},{"$f":"IF(入力シート!$J1248<>\"\",入力シート!$J1248,IF(入力シート!$L1248<>\"\",入力シート!$L1248,\"‐\"))","v":"‐"},{"$f":"IF(入力シート!$K1248<>\"\",入力シート!$K1248,IF(入力シート!$M1248<>\"\",入力シート!$M1248,入力シート!$N1248))","v":0},{"$f":"入力シート!I1248","v":0},{"$f":"入力シート!O1248","v":0},{"$f":"IF(入力シート!P1248=\"×\",\"P\",\"PN\")","v":"PN"},{"$f":"計算結果!#REF!","v":{"$error":"#REF!"}},{"$f":"計算結果!#REF!","v":{"$error":"#REF!"}},{"$f":"計算結果!#REF!","v":{"$error":"#REF!"}},{"$f":"計算結果!#REF!","v":{"$error":"#REF!"}},{"$f":"計算結果!#REF!","v":{"$error":"#REF!"}},{"$f":"計算結果!#REF!","v":{"$error":"#REF!"}},{"$f":"計算結果!#REF!","v":{"$error":"#REF!"}},{"$f":"計算結果!#REF!","v":{"$error":"#REF!"}},{"$f":"計算結果!#REF!","v":{"$error":"#REF!"}},{"$f":"計算結果!#REF!","v":{"$error":"#REF!"}}]
[{"$f":"入力シート!A1249","v":0},{"$f":"入力シート!G1249","v":0},{"$f":"入力シート!H1249","v":0},{"$f":"IF(入力シート!$J1249<>\"\",入力シート!$J1249,IF(入力シート!$L1249<>\"\",入力シート!$L1249,\"‐\"))","v":"‐"},{"$f":"IF(入力シート!$K1249<>\"\",入力シート!$K1249,IF(入力シート!$M1249<>\"\",入力シート!$M1249,入力シート!$N1249))","v":0},{"$f":"入力シート!I1249","v":0},{"$f":"入力シート!O1249","v":0},{"$f":"IF(入力シート!P1249=\"×\",\"P\",\"PN\")","v":"PN"},{"$f":"計算結果!#REF!","v":{"$error":"#REF!"}},{"$f":"計算結果!#REF!","v":{"$error":"#REF!"}},{"$f":"計算結果!#REF!","v":{"$error":"#REF!"}},{"$f":"計算結果!#REF!","v":{"$error":"#REF!"}},{"$f":"計算結果!#REF!","v":{"$error":"#REF!"}},{"$f":"計算結果!#REF!","v":{"$error":"#REF!"}},{"$f":"計算結果!#REF!","v":{"$error":"#REF!"}},{"$f":"計算結果!#REF!","v":{"$error":"#REF!"}},{"$f":"計算結果!#REF!","v":{"$error":"#REF!"}},{"$f":"計算結果!#REF!","v":{"$error":"#REF!"}}]
[{"$f":"入力シート!A1250","v":0},{"$f":"入力シート!G1250","v":0},{"$f":"入力シート!H1250","v":0},{"$f":"IF(入力シート!$J1250<>\"\",入力シート!$J1250,IF(入力シート!$L1250<>\"\",入力シート!$L1250,\"‐\"))","v":"‐"},{"$f":"IF(入力シート!$K1250<>\"\",入力シート!$K1250,IF(入力シート!$M1250<>\"\",入力シート!$M1250,入力シート!$N1250))","v":0},{"$f":"入力シート!I1250","v":0},{"$f":"入力シート!O1250","v":0},{"$f":"IF(入力シート!P1250=\"×\",\"P\",\"PN\")","v":"PN"},{"$f":"計算結果!#REF!","v":{"$error":"#REF!"}},{"$f":"計算結果!#REF!","v":{"$error":"#REF!"}},{"$f":"計算結果!#REF!","v":{"$error":"#REF!"}},{"$f":"計算結果!#REF!","v":{"$error":"#REF!"}},{"$f":"計算結果!#REF!","v":{"$error":"#REF!"}},{"$f":"計算結果!#REF!","v":{"$error":"#REF!"}},{"$f":"計算結果!#REF!","v":{"$error":"#REF!"}},{"$f":"計算結果!#REF!","v":{"$error":"#REF!"}},{"$f":"計算結果!#REF!","v":{"$error":"#REF!"}},{"$f":"計算結果!#REF!","v":{"$error":"#REF!"}}]
[{"$f":"入力シート!A1251","v":0},{"$f":"入力シート!G1251","v":0},{"$f":"入力シート!H1251","v":0},{"$f":"IF(入力シート!$J1251<>\"\",入力シート!$J1251,IF(入力シート!$L1251<>\"\",入力シート!$L1251,\"‐\"))","v":"‐"},{"$f":"IF(入力シート!$K1251<>\"\",入力シート!$K1251,IF(入力シート!$M1251<>\"\",入力シート!$M1251,入力シート!$N1251))","v":0},{"$f":"入力シート!I1251","v":0},{"$f":"入力シート!O1251","v":0},{"$f":"IF(入力シート!P1251=\"×\",\"P\",\"PN\")","v":"PN"},{"$f":"計算結果!#REF!","v":{"$error":"#REF!"}},{"$f":"計算結果!#REF!","v":{"$error":"#REF!"}},{"$f":"計算結果!#REF!","v":{"$error":"#REF!"}},{"$f":"計算結果!#REF!","v":{"$error":"#REF!"}},{"$f":"計算結果!#REF!","v":{"$error":"#REF!"}},{"$f":"計算結果!#REF!","v":{"$error":"#REF!"}},{"$f":"計算結果!#REF!","v":{"$error":"#REF!"}},{"$f":"計算結果!#REF!","v":{"$error":"#REF!"}},{"$f":"計算結果!#REF!","v":{"$error":"#REF!"}},{"$f":"計算結果!#REF!","v":{"$error":"#REF!"}}]
[{"$f":"入力シート!A1252","v":0},{"$f":"入力シート!G1252","v":0},{"$f":"入力シート!H1252","v":0},{"$f":"IF(入力シート!$J1252<>\"\",入力シート!$J1252,IF(入力シート!$L1252<>\"\",入力シート!$L1252,\"‐\"))","v":"‐"},{"$f":"IF(入力シート!$K1252<>\"\",入力シート!$K1252,IF(入力シート!$M1252<>\"\",入力シート!$M1252,入力シート!$N1252))","v":0},{"$f":"入力シート!I1252","v":0},{"$f":"入力シート!O1252","v":0},{"$f":"IF(入力シート!P1252=\"×\",\"P\",\"PN\")","v":"PN"},{"$f":"計算結果!#REF!","v":{"$error":"#REF!"}},{"$f":"計算結果!#REF!","v":{"$error":"#REF!"}},{"$f":"計算結果!#REF!","v":{"$error":"#REF!"}},{"$f":"計算結果!#REF!","v":{"$error":"#REF!"}},{"$f":"計算結果!#REF!","v":{"$error":"#REF!"}},{"$f":"計算結果!#REF!","v":{"$error":"#REF!"}},{"$f":"計算結果!#REF!","v":{"$error":"#REF!"}},{"$f":"計算結果!#REF!","v":{"$error":"#REF!"}},{"$f":"計算結果!#REF!","v":{"$error":"#REF!"}},{"$f":"計算結果!#REF!","v":{"$error":"#REF!"}}]
[{"$f":"入力シート!A1253","v":0},{"$f":"入力シート!G1253","v":0},{"$f":"入力シート!H1253","v":0},{"$f":"IF(入力シート!$J1253<>\"\",入力シート!$J1253,IF(入力シート!$L1253<>\"\",入力シート!$L1253,\"‐\"))","v":"‐"},{"$f":"IF(入力シート!$K1253<>\"\",入力シート!$K1253,IF(入力シート!$M1253<>\"\",入力シート!$M1253,入力シート!$N1253))","v":0},{"$f":"入力シート!I1253","v":0},{"$f":"入力シート!O1253","v":0},{"$f":"IF(入力シート!P1253=\"×\",\"P\",\"PN\")","v":"PN"},{"$f":"計算結果!#REF!","v":{"$error":"#REF!"}},{"$f":"計算結果!#REF!","v":{"$error":"#REF!"}},{"$f":"計算結果!#REF!","v":{"$error":"#REF!"}},{"$f":"計算結果!#REF!","v":{"$error":"#REF!"}},{"$f":"計算結果!#REF!","v":{"$error":"#REF!"}},{"$f":"計算結果!#REF!","v":{"$error":"#REF!"}},{"$f":"計算結果!#REF!","v":{"$error":"#REF!"}},{"$f":"計算結果!#REF!","v":{"$error":"#REF!"}},{"$f":"計算結果!#REF!","v":{"$error":"#REF!"}},{"$f":"計算結果!#REF!","v":{"$error":"#REF!"}}]
[{"$f":"入力シート!A1254","v":0},{"$f":"入力シート!G1254","v":0},{"$f":"入力シート!H1254","v":0},{"$f":"IF(入力シート!$J1254<>\"\",入力シート!$J1254,IF(入力シート!$L1254<>\"\",入力シート!$L1254,\"‐\"))","v":"‐"},{"$f":"IF(入力シート!$K1254<>\"\",入力シート!$K1254,IF(入力シート!$M1254<>\"\",入力シート!$M1254,入力シート!$N1254))","v":0},{"$f":"入力シート!I1254","v":0},{"$f":"入力シート!O1254","v":0},{"$f":"IF(入力シート!P1254=\"×\",\"P\",\"PN\")","v":"PN"},{"$f":"計算結果!#REF!","v":{"$error":"#REF!"}},{"$f":"計算結果!#REF!","v":{"$error":"#REF!"}},{"$f":"計算結果!#REF!","v":{"$error":"#REF!"}},{"$f":"計算結果!#REF!","v":{"$error":"#REF!"}},{"$f":"計算結果!#REF!","v":{"$error":"#REF!"}},{"$f":"計算結果!#REF!","v":{"$error":"#REF!"}},{"$f":"計算結果!#REF!","v":{"$error":"#REF!"}},{"$f":"計算結果!#REF!","v":{"$error":"#REF!"}},{"$f":"計算結果!#REF!","v":{"$error":"#REF!"}},{"$f":"計算結果!#REF!","v":{"$error":"#REF!"}}]
[{"$f":"入力シート!A1255","v":0},{"$f":"入力シート!G1255","v":0},{"$f":"入力シート!H1255","v":0},{"$f":"IF(入力シート!$J1255<>\"\",入力シート!$J1255,IF(入力シート!$L1255<>\"\",入力シート!$L1255,\"‐\"))","v":"‐"},{"$f":"IF(入力シート!$K1255<>\"\",入力シート!$K1255,IF(入力シート!$M1255<>\"\",入力シート!$M1255,入力シート!$N1255))","v":0},{"$f":"入力シート!I1255","v":0},{"$f":"入力シート!O1255","v":0},{"$f":"IF(入力シート!P1255=\"×\",\"P\",\"PN\")","v":"PN"},{"$f":"計算結果!#REF!","v":{"$error":"#REF!"}},{"$f":"計算結果!#REF!","v":{"$error":"#REF!"}},{"$f":"計算結果!#REF!","v":{"$error":"#REF!"}},{"$f":"計算結果!#REF!","v":{"$error":"#REF!"}},{"$f":"計算結果!#REF!","v":{"$error":"#REF!"}},{"$f":"計算結果!#REF!","v":{"$error":"#REF!"}},{"$f":"計算結果!#REF!","v":{"$error":"#REF!"}},{"$f":"計算結果!#REF!","v":{"$error":"#REF!"}},{"$f":"計算結果!#REF!","v":{"$error":"#REF!"}},{"$f":"計算結果!#REF!","v":{"$error":"#REF!"}}]
[{"$f":"入力シート!A1256","v":0},{"$f":"入力シート!G1256","v":0},{"$f":"入力シート!H1256","v":0},{"$f":"IF(入力シート!$J1256<>\"\",入力シート!$J1256,IF(入力シート!$L1256<>\"\",入力シート!$L1256,\"‐\"))","v":"‐"},{"$f":"IF(入力シート!$K1256<>\"\",入力シート!$K1256,IF(入力シート!$M1256<>\"\",入力シート!$M1256,入力シート!$N1256))","v":0},{"$f":"入力シート!I1256","v":0},{"$f":"入力シート!O1256","v":0},{"$f":"IF(入力シート!P1256=\"×\",\"P\",\"PN\")","v":"PN"},{"$f":"計算結果!#REF!","v":{"$error":"#REF!"}},{"$f":"計算結果!#REF!","v":{"$error":"#REF!"}},{"$f":"計算結果!#REF!","v":{"$error":"#REF!"}},{"$f":"計算結果!#REF!","v":{"$error":"#REF!"}},{"$f":"計算結果!#REF!","v":{"$error":"#REF!"}},{"$f":"計算結果!#REF!","v":{"$error":"#REF!"}},{"$f":"計算結果!#REF!","v":{"$error":"#REF!"}},{"$f":"計算結果!#REF!","v":{"$error":"#REF!"}},{"$f":"計算結果!#REF!","v":{"$error":"#REF!"}},{"$f":"計算結果!#REF!","v":{"$error":"#REF!"}}]
[{"$f":"入力シート!A1257","v":0},{"$f":"入力シート!G1257","v":0},{"$f":"入力シート!H1257","v":0},{"$f":"IF(入力シート!$J1257<>\"\",入力シート!$J1257,IF(入力シート!$L1257<>\"\",入力シート!$L1257,\"‐\"))","v":"‐"},{"$f":"IF(入力シート!$K1257<>\"\",入力シート!$K1257,IF(入力シート!$M1257<>\"\",入力シート!$M1257,入力シート!$N1257))","v":0},{"$f":"入力シート!I1257","v":0},{"$f":"入力シート!O1257","v":0},{"$f":"IF(入力シート!P1257=\"×\",\"P\",\"PN\")","v":"PN"},{"$f":"計算結果!#REF!","v":{"$error":"#REF!"}},{"$f":"計算結果!#REF!","v":{"$error":"#REF!"}},{"$f":"計算結果!#REF!","v":{"$error":"#REF!"}},{"$f":"計算結果!#REF!","v":{"$error":"#REF!"}},{"$f":"計算結果!#REF!","v":{"$error":"#REF!"}},{"$f":"計算結果!#REF!","v":{"$error":"#REF!"}},{"$f":"計算結果!#REF!","v":{"$error":"#REF!"}},{"$f":"計算結果!#REF!","v":{"$error":"#REF!"}},{"$f":"計算結果!#REF!","v":{"$error":"#REF!"}},{"$f":"計算結果!#REF!","v":{"$error":"#REF!"}}]
[{"$f":"入力シート!A1258","v":0},{"$f":"入力シート!G1258","v":0},{"$f":"入力シート!H1258","v":0},{"$f":"IF(入力シート!$J1258<>\"\",入力シート!$J1258,IF(入力シート!$L1258<>\"\",入力シート!$L1258,\"‐\"))","v":"‐"},{"$f":"IF(入力シート!$K1258<>\"\",入力シート!$K1258,IF(入力シート!$M1258<>\"\",入力シート!$M1258,入力シート!$N1258))","v":0},{"$f":"入力シート!I1258","v":0},{"$f":"入力シート!O1258","v":0},{"$f":"IF(入力シート!P1258=\"×\",\"P\",\"PN\")","v":"PN"},{"$f":"計算結果!#REF!","v":{"$error":"#REF!"}},{"$f":"計算結果!#REF!","v":{"$error":"#REF!"}},{"$f":"計算結果!#REF!","v":{"$error":"#REF!"}},{"$f":"計算結果!#REF!","v":{"$error":"#REF!"}},{"$f":"計算結果!#REF!","v":{"$error":"#REF!"}},{"$f":"計算結果!#REF!","v":{"$error":"#REF!"}},{"$f":"計算結果!#REF!","v":{"$error":"#REF!"}},{"$f":"計算結果!#REF!","v":{"$error":"#REF!"}},{"$f":"計算結果!#REF!","v":{"$error":"#REF!"}},{"$f":"計算結果!#REF!","v":{"$error":"#REF!"}}]
[{"$f":"入力シート!A1259","v":0},{"$f":"入力シート!G1259","v":0},{"$f":"入力シート!H1259","v":0},{"$f":"IF(入力シート!$J1259<>\"\",入力シート!$J1259,IF(入力シート!$L1259<>\"\",入力シート!$L1259,\"‐\"))","v":"‐"},{"$f":"IF(入力シート!$K1259<>\"\",入力シート!$K1259,IF(入力シート!$M1259<>\"\",入力シート!$M1259,入力シート!$N1259))","v":0},{"$f":"入力シート!I1259","v":0},{"$f":"入力シート!O1259","v":0},{"$f":"IF(入力シート!P1259=\"×\",\"P\",\"PN\")","v":"PN"},{"$f":"計算結果!#REF!","v":{"$error":"#REF!"}},{"$f":"計算結果!#REF!","v":{"$error":"#REF!"}},{"$f":"計算結果!#REF!","v":{"$error":"#REF!"}},{"$f":"計算結果!#REF!","v":{"$error":"#REF!"}},{"$f":"計算結果!#REF!","v":{"$error":"#REF!"}},{"$f":"計算結果!#REF!","v":{"$error":"#REF!"}},{"$f":"計算結果!#REF!","v":{"$error":"#REF!"}},{"$f":"計算結果!#REF!","v":{"$error":"#REF!"}},{"$f":"計算結果!#REF!","v":{"$error":"#REF!"}},{"$f":"計算結果!#REF!","v":{"$error":"#REF!"}}]
[{"$f":"入力シート!A1260","v":0},{"$f":"入力シート!G1260","v":0},{"$f":"入力シート!H1260","v":0},{"$f":"IF(入力シート!$J1260<>\"\",入力シート!$J1260,IF(入力シート!$L1260<>\"\",入力シート!$L1260,\"‐\"))","v":"‐"},{"$f":"IF(入力シート!$K1260<>\"\",入力シート!$K1260,IF(入力シート!$M1260<>\"\",入力シート!$M1260,入力シート!$N1260))","v":0},{"$f":"入力シート!I1260","v":0},{"$f":"入力シート!O1260","v":0},{"$f":"IF(入力シート!P1260=\"×\",\"P\",\"PN\")","v":"PN"},{"$f":"計算結果!#REF!","v":{"$error":"#REF!"}},{"$f":"計算結果!#REF!","v":{"$error":"#REF!"}},{"$f":"計算結果!#REF!","v":{"$error":"#REF!"}},{"$f":"計算結果!#REF!","v":{"$error":"#REF!"}},{"$f":"計算結果!#REF!","v":{"$error":"#REF!"}},{"$f":"計算結果!#REF!","v":{"$error":"#REF!"}},{"$f":"計算結果!#REF!","v":{"$error":"#REF!"}},{"$f":"計算結果!#REF!","v":{"$error":"#REF!"}},{"$f":"計算結果!#REF!","v":{"$error":"#REF!"}},{"$f":"計算結果!#REF!","v":{"$error":"#REF!"}}]
[{"$f":"入力シート!A1261","v":0},{"$f":"入力シート!G1261","v":0},{"$f":"入力シート!H1261","v":0},{"$f":"IF(入力シート!$J1261<>\"\",入力シート!$J1261,IF(入力シート!$L1261<>\"\",入力シート!$L1261,\"‐\"))","v":"‐"},{"$f":"IF(入力シート!$K1261<>\"\",入力シート!$K1261,IF(入力シート!$M1261<>\"\",入力シート!$M1261,入力シート!$N1261))","v":0},{"$f":"入力シート!I1261","v":0},{"$f":"入力シート!O1261","v":0},{"$f":"IF(入力シート!P1261=\"×\",\"P\",\"PN\")","v":"PN"},{"$f":"計算結果!#REF!","v":{"$error":"#REF!"}},{"$f":"計算結果!#REF!","v":{"$error":"#REF!"}},{"$f":"計算結果!#REF!","v":{"$error":"#REF!"}},{"$f":"計算結果!#REF!","v":{"$error":"#REF!"}},{"$f":"計算結果!#REF!","v":{"$error":"#REF!"}},{"$f":"計算結果!#REF!","v":{"$error":"#REF!"}},{"$f":"計算結果!#REF!","v":{"$error":"#REF!"}},{"$f":"計算結果!#REF!","v":{"$error":"#REF!"}},{"$f":"計算結果!#REF!","v":{"$error":"#REF!"}},{"$f":"計算結果!#REF!","v":{"$error":"#REF!"}}]
[{"$f":"入力シート!A1262","v":0},{"$f":"入力シート!G1262","v":0},{"$f":"入力シート!H1262","v":0},{"$f":"IF(入力シート!$J1262<>\"\",入力シート!$J1262,IF(入力シート!$L1262<>\"\",入力シート!$L1262,\"‐\"))","v":"‐"},{"$f":"IF(入力シート!$K1262<>\"\",入力シート!$K1262,IF(入力シート!$M1262<>\"\",入力シート!$M1262,入力シート!$N1262))","v":0},{"$f":"入力シート!I1262","v":0},{"$f":"入力シート!O1262","v":0},{"$f":"IF(入力シート!P1262=\"×\",\"P\",\"PN\")","v":"PN"},{"$f":"計算結果!#REF!","v":{"$error":"#REF!"}},{"$f":"計算結果!#REF!","v":{"$error":"#REF!"}},{"$f":"計算結果!#REF!","v":{"$error":"#REF!"}},{"$f":"計算結果!#REF!","v":{"$error":"#REF!"}},{"$f":"計算結果!#REF!","v":{"$error":"#REF!"}},{"$f":"計算結果!#REF!","v":{"$error":"#REF!"}},{"$f":"計算結果!#REF!","v":{"$error":"#REF!"}},{"$f":"計算結果!#REF!","v":{"$error":"#REF!"}},{"$f":"計算結果!#REF!","v":{"$error":"#REF!"}},{"$f":"計算結果!#REF!","v":{"$error":"#REF!"}}]
[{"$f":"入力シート!A1263","v":0},{"$f":"入力シート!G1263","v":0},{"$f":"入力シート!H1263","v":0},{"$f":"IF(入力シート!$J1263<>\"\",入力シート!$J1263,IF(入力シート!$L1263<>\"\",入力シート!$L1263,\"‐\"))","v":"‐"},{"$f":"IF(入力シート!$K1263<>\"\",入力シート!$K1263,IF(入力シート!$M1263<>\"\",入力シート!$M1263,入力シート!$N1263))","v":0},{"$f":"入力シート!I1263","v":0},{"$f":"入力シート!O1263","v":0},{"$f":"IF(入力シート!P1263=\"×\",\"P\",\"PN\")","v":"PN"},{"$f":"計算結果!#REF!","v":{"$error":"#REF!"}},{"$f":"計算結果!#REF!","v":{"$error":"#REF!"}},{"$f":"計算結果!#REF!","v":{"$error":"#REF!"}},{"$f":"計算結果!#REF!","v":{"$error":"#REF!"}},{"$f":"計算結果!#REF!","v":{"$error":"#REF!"}},{"$f":"計算結果!#REF!","v":{"$error":"#REF!"}},{"$f":"計算結果!#REF!","v":{"$error":"#REF!"}},{"$f":"計算結果!#REF!","v":{"$error":"#REF!"}},{"$f":"計算結果!#REF!","v":{"$error":"#REF!"}},{"$f":"計算結果!#REF!","v":{"$error":"#REF!"}}]
[{"$f":"入力シート!A1264","v":0},{"$f":"入力シート!G1264","v":0},{"$f":"入力シート!H1264","v":0},{"$f":"IF(入力シート!$J1264<>\"\",入力シート!$J1264,IF(入力シート!$L1264<>\"\",入力シート!$L1264,\"‐\"))","v":"‐"},{"$f":"IF(入力シート!$K1264<>\"\",入力シート!$K1264,IF(入力シート!$M1264<>\"\",入力シート!$M1264,入力シート!$N1264))","v":0},{"$f":"入力シート!I1264","v":0},{"$f":"入力シート!O1264","v":0},{"$f":"IF(入力シート!P1264=\"×\",\"P\",\"PN\")","v":"PN"},{"$f":"計算結果!#REF!","v":{"$error":"#REF!"}},{"$f":"計算結果!#REF!","v":{"$error":"#REF!"}},{"$f":"計算結果!#REF!","v":{"$error":"#REF!"}},{"$f":"計算結果!#REF!","v":{"$error":"#REF!"}},{"$f":"計算結果!#REF!","v":{"$error":"#REF!"}},{"$f":"計算結果!#REF!","v":{"$error":"#REF!"}},{"$f":"計算結果!#REF!","v":{"$error":"#REF!"}},{"$f":"計算結果!#REF!","v":{"$error":"#REF!"}},{"$f":"計算結果!#REF!","v":{"$error":"#REF!"}},{"$f":"計算結果!#REF!","v":{"$error":"#REF!"}}]
[{"$f":"入力シート!A1265","v":0},{"$f":"入力シート!G1265","v":0},{"$f":"入力シート!H1265","v":0},{"$f":"IF(入力シート!$J1265<>\"\",入力シート!$J1265,IF(入力シート!$L1265<>\"\",入力シート!$L1265,\"‐\"))","v":"‐"},{"$f":"IF(入力シート!$K1265<>\"\",入力シート!$K1265,IF(入力シート!$M1265<>\"\",入力シート!$M1265,入力シート!$N1265))","v":0},{"$f":"入力シート!I1265","v":0},{"$f":"入力シート!O1265","v":0},{"$f":"IF(入力シート!P1265=\"×\",\"P\",\"PN\")","v":"PN"},{"$f":"計算結果!#REF!","v":{"$error":"#REF!"}},{"$f":"計算結果!#REF!","v":{"$error":"#REF!"}},{"$f":"計算結果!#REF!","v":{"$error":"#REF!"}},{"$f":"計算結果!#REF!","v":{"$error":"#REF!"}},{"$f":"計算結果!#REF!","v":{"$error":"#REF!"}},{"$f":"計算結果!#REF!","v":{"$error":"#REF!"}},{"$f":"計算結果!#REF!","v":{"$error":"#REF!"}},{"$f":"計算結果!#REF!","v":{"$error":"#REF!"}},{"$f":"計算結果!#REF!","v":{"$error":"#REF!"}},{"$f":"計算結果!#REF!","v":{"$error":"#REF!"}}]
[{"$f":"入力シート!A1266","v":0},{"$f":"入力シート!G1266","v":0},{"$f":"入力シート!H1266","v":0},{"$f":"IF(入力シート!$J1266<>\"\",入力シート!$J1266,IF(入力シート!$L1266<>\"\",入力シート!$L1266,\"‐\"))","v":"‐"},{"$f":"IF(入力シート!$K1266<>\"\",入力シート!$K1266,IF(入力シート!$M1266<>\"\",入力シート!$M1266,入力シート!$N1266))","v":0},{"$f":"入力シート!I1266","v":0},{"$f":"入力シート!O1266","v":0},{"$f":"IF(入力シート!P1266=\"×\",\"P\",\"PN\")","v":"PN"},{"$f":"計算結果!#REF!","v":{"$error":"#REF!"}},{"$f":"計算結果!#REF!","v":{"$error":"#REF!"}},{"$f":"計算結果!#REF!","v":{"$error":"#REF!"}},{"$f":"計算結果!#REF!","v":{"$error":"#REF!"}},{"$f":"計算結果!#REF!","v":{"$error":"#REF!"}},{"$f":"計算結果!#REF!","v":{"$error":"#REF!"}},{"$f":"計算結果!#REF!","v":{"$error":"#REF!"}},{"$f":"計算結果!#REF!","v":{"$error":"#REF!"}},{"$f":"計算結果!#REF!","v":{"$error":"#REF!"}},{"$f":"計算結果!#REF!","v":{"$error":"#REF!"}}]
[{"$f":"入力シート!A1267","v":0},{"$f":"入力シート!G1267","v":0},{"$f":"入力シート!H1267","v":0},{"$f":"IF(入力シート!$J1267<>\"\",入力シート!$J1267,IF(入力シート!$L1267<>\"\",入力シート!$L1267,\"‐\"))","v":"‐"},{"$f":"IF(入力シート!$K1267<>\"\",入力シート!$K1267,IF(入力シート!$M1267<>\"\",入力シート!$M1267,入力シート!$N1267))","v":0},{"$f":"入力シート!I1267","v":0},{"$f":"入力シート!O1267","v":0},{"$f":"IF(入力シート!P1267=\"×\",\"P\",\"PN\")","v":"PN"},{"$f":"計算結果!#REF!","v":{"$error":"#REF!"}},{"$f":"計算結果!#REF!","v":{"$error":"#REF!"}},{"$f":"計算結果!#REF!","v":{"$error":"#REF!"}},{"$f":"計算結果!#REF!","v":{"$error":"#REF!"}},{"$f":"計算結果!#REF!","v":{"$error":"#REF!"}},{"$f":"計算結果!#REF!","v":{"$error":"#REF!"}},{"$f":"計算結果!#REF!","v":{"$error":"#REF!"}},{"$f":"計算結果!#REF!","v":{"$error":"#REF!"}},{"$f":"計算結果!#REF!","v":{"$error":"#REF!"}},{"$f":"計算結果!#REF!","v":{"$error":"#REF!"}}]
[{"$f":"入力シート!A1268","v":0},{"$f":"入力シート!G1268","v":0},{"$f":"入力シート!H1268","v":0},{"$f":"IF(入力シート!$J1268<>\"\",入力シート!$J1268,IF(入力シート!$L1268<>\"\",入力シート!$L1268,\"‐\"))","v":"‐"},{"$f":"IF(入力シート!$K1268<>\"\",入力シート!$K1268,IF(入力シート!$M1268<>\"\",入力シート!$M1268,入力シート!$N1268))","v":0},{"$f":"入力シート!I1268","v":0},{"$f":"入力シート!O1268","v":0},{"$f":"IF(入力シート!P1268=\"×\",\"P\",\"PN\")","v":"PN"},{"$f":"計算結果!#REF!","v":{"$error":"#REF!"}},{"$f":"計算結果!#REF!","v":{"$error":"#REF!"}},{"$f":"計算結果!#REF!","v":{"$error":"#REF!"}},{"$f":"計算結果!#REF!","v":{"$error":"#REF!"}},{"$f":"計算結果!#REF!","v":{"$error":"#REF!"}},{"$f":"計算結果!#REF!","v":{"$error":"#REF!"}},{"$f":"計算結果!#REF!","v":{"$error":"#REF!"}},{"$f":"計算結果!#REF!","v":{"$error":"#REF!"}},{"$f":"計算結果!#REF!","v":{"$error":"#REF!"}},{"$f":"計算結果!#REF!","v":{"$error":"#REF!"}}]
[{"$f":"入力シート!A1269","v":0},{"$f":"入力シート!G1269","v":0},{"$f":"入力シート!H1269","v":0},{"$f":"IF(入力シート!$J1269<>\"\",入力シート!$J1269,IF(入力シート!$L1269<>\"\",入力シート!$L1269,\"‐\"))","v":"‐"},{"$f":"IF(入力シート!$K1269<>\"\",入力シート!$K1269,IF(入力シート!$M1269<>\"\",入力シート!$M1269,入力シート!$N1269))","v":0},{"$f":"入力シート!I1269","v":0},{"$f":"入力シート!O1269","v":0},{"$f":"IF(入力シート!P1269=\"×\",\"P\",\"PN\")","v":"PN"},{"$f":"計算結果!#REF!","v":{"$error":"#REF!"}},{"$f":"計算結果!#REF!","v":{"$error":"#REF!"}},{"$f":"計算結果!#REF!","v":{"$error":"#REF!"}},{"$f":"計算結果!#REF!","v":{"$error":"#REF!"}},{"$f":"計算結果!#REF!","v":{"$error":"#REF!"}},{"$f":"計算結果!#REF!","v":{"$error":"#REF!"}},{"$f":"計算結果!#REF!","v":{"$error":"#REF!"}},{"$f":"計算結果!#REF!","v":{"$error":"#REF!"}},{"$f":"計算結果!#REF!","v":{"$error":"#REF!"}},{"$f":"計算結果!#REF!","v":{"$error":"#REF!"}}]
[{"$f":"入力シート!A1270","v":0},{"$f":"入力シート!G1270","v":0},{"$f":"入力シート!H1270","v":0},{"$f":"IF(入力シート!$J1270<>\"\",入力シート!$J1270,IF(入力シート!$L1270<>\"\",入力シート!$L1270,\"‐\"))","v":"‐"},{"$f":"IF(入力シート!$K1270<>\"\",入力シート!$K1270,IF(入力シート!$M1270<>\"\",入力シート!$M1270,入力シート!$N1270))","v":0},{"$f":"入力シート!I1270","v":0},{"$f":"入力シート!O1270","v":0},{"$f":"IF(入力シート!P1270=\"×\",\"P\",\"PN\")","v":"PN"},{"$f":"計算結果!#REF!","v":{"$error":"#REF!"}},{"$f":"計算結果!#REF!","v":{"$error":"#REF!"}},{"$f":"計算結果!#REF!","v":{"$error":"#REF!"}},{"$f":"計算結果!#REF!","v":{"$error":"#REF!"}},{"$f":"計算結果!#REF!","v":{"$error":"#REF!"}},{"$f":"計算結果!#REF!","v":{"$error":"#REF!"}},{"$f":"計算結果!#REF!","v":{"$error":"#REF!"}},{"$f":"計算結果!#REF!","v":{"$error":"#REF!"}},{"$f":"計算結果!#REF!","v":{"$error":"#REF!"}},{"$f":"計算結果!#REF!","v":{"$error":"#REF!"}}]
[{"$f":"入力シート!A1271","v":0},{"$f":"入力シート!G1271","v":0},{"$f":"入力シート!H1271","v":0},{"$f":"IF(入力シート!$J1271<>\"\",入力シート!$J1271,IF(入力シート!$L1271<>\"\",入力シート!$L1271,\"‐\"))","v":"‐"},{"$f":"IF(入力シート!$K1271<>\"\",入力シート!$K1271,IF(入力シート!$M1271<>\"\",入力シート!$M1271,入力シート!$N1271))","v":0},{"$f":"入力シート!I1271","v":0},{"$f":"入力シート!O1271","v":0},{"$f":"IF(入力シート!P1271=\"×\",\"P\",\"PN\")","v":"PN"},{"$f":"計算結果!#REF!","v":{"$error":"#REF!"}},{"$f":"計算結果!#REF!","v":{"$error":"#REF!"}},{"$f":"計算結果!#REF!","v":{"$error":"#REF!"}},{"$f":"計算結果!#REF!","v":{"$error":"#REF!"}},{"$f":"計算結果!#REF!","v":{"$error":"#REF!"}},{"$f":"計算結果!#REF!","v":{"$error":"#REF!"}},{"$f":"計算結果!#REF!","v":{"$error":"#REF!"}},{"$f":"計算結果!#REF!","v":{"$error":"#REF!"}},{"$f":"計算結果!#REF!","v":{"$error":"#REF!"}},{"$f":"計算結果!#REF!","v":{"$error":"#REF!"}}]
[{"$f":"入力シート!A1272","v":0},{"$f":"入力シート!G1272","v":0},{"$f":"入力シート!H1272","v":0},{"$f":"IF(入力シート!$J1272<>\"\",入力シート!$J1272,IF(入力シート!$L1272<>\"\",入力シート!$L1272,\"‐\"))","v":"‐"},{"$f":"IF(入力シート!$K1272<>\"\",入力シート!$K1272,IF(入力シート!$M1272<>\"\",入力シート!$M1272,入力シート!$N1272))","v":0},{"$f":"入力シート!I1272","v":0},{"$f":"入力シート!O1272","v":0},{"$f":"IF(入力シート!P1272=\"×\",\"P\",\"PN\")","v":"PN"},{"$f":"計算結果!#REF!","v":{"$error":"#REF!"}},{"$f":"計算結果!#REF!","v":{"$error":"#REF!"}},{"$f":"計算結果!#REF!","v":{"$error":"#REF!"}},{"$f":"計算結果!#REF!","v":{"$error":"#REF!"}},{"$f":"計算結果!#REF!","v":{"$error":"#REF!"}},{"$f":"計算結果!#REF!","v":{"$error":"#REF!"}},{"$f":"計算結果!#REF!","v":{"$error":"#REF!"}},{"$f":"計算結果!#REF!","v":{"$error":"#REF!"}},{"$f":"計算結果!#REF!","v":{"$error":"#REF!"}},{"$f":"計算結果!#REF!","v":{"$error":"#REF!"}}]
[{"$f":"入力シート!A1273","v":0},{"$f":"入力シート!G1273","v":0},{"$f":"入力シート!H1273","v":0},{"$f":"IF(入力シート!$J1273<>\"\",入力シート!$J1273,IF(入力シート!$L1273<>\"\",入力シート!$L1273,\"‐\"))","v":"‐"},{"$f":"IF(入力シート!$K1273<>\"\",入力シート!$K1273,IF(入力シート!$M1273<>\"\",入力シート!$M1273,入力シート!$N1273))","v":0},{"$f":"入力シート!I1273","v":0},{"$f":"入力シート!O1273","v":0},{"$f":"IF(入力シート!P1273=\"×\",\"P\",\"PN\")","v":"PN"},{"$f":"計算結果!#REF!","v":{"$error":"#REF!"}},{"$f":"計算結果!#REF!","v":{"$error":"#REF!"}},{"$f":"計算結果!#REF!","v":{"$error":"#REF!"}},{"$f":"計算結果!#REF!","v":{"$error":"#REF!"}},{"$f":"計算結果!#REF!","v":{"$error":"#REF!"}},{"$f":"計算結果!#REF!","v":{"$error":"#REF!"}},{"$f":"計算結果!#REF!","v":{"$error":"#REF!"}},{"$f":"計算結果!#REF!","v":{"$error":"#REF!"}},{"$f":"計算結果!#REF!","v":{"$error":"#REF!"}},{"$f":"計算結果!#REF!","v":{"$error":"#REF!"}}]
[{"$f":"入力シート!A1274","v":0},{"$f":"入力シート!G1274","v":0},{"$f":"入力シート!H1274","v":0},{"$f":"IF(入力シート!$J1274<>\"\",入力シート!$J1274,IF(入力シート!$L1274<>\"\",入力シート!$L1274,\"‐\"))","v":"‐"},{"$f":"IF(入力シート!$K1274<>\"\",入力シート!$K1274,IF(入力シート!$M1274<>\"\",入力シート!$M1274,入力シート!$N1274))","v":0},{"$f":"入力シート!I1274","v":0},{"$f":"入力シート!O1274","v":0},{"$f":"IF(入力シート!P1274=\"×\",\"P\",\"PN\")","v":"PN"},{"$f":"計算結果!#REF!","v":{"$error":"#REF!"}},{"$f":"計算結果!#REF!","v":{"$error":"#REF!"}},{"$f":"計算結果!#REF!","v":{"$error":"#REF!"}},{"$f":"計算結果!#REF!","v":{"$error":"#REF!"}},{"$f":"計算結果!#REF!","v":{"$error":"#REF!"}},{"$f":"計算結果!#REF!","v":{"$error":"#REF!"}},{"$f":"計算結果!#REF!","v":{"$error":"#REF!"}},{"$f":"計算結果!#REF!","v":{"$error":"#REF!"}},{"$f":"計算結果!#REF!","v":{"$error":"#REF!"}},{"$f":"計算結果!#REF!","v":{"$error":"#REF!"}}]
[{"$f":"入力シート!A1275","v":0},{"$f":"入力シート!G1275","v":0},{"$f":"入力シート!H1275","v":0},{"$f":"IF(入力シート!$J1275<>\"\",入力シート!$J1275,IF(入力シート!$L1275<>\"\",入力シート!$L1275,\"‐\"))","v":"‐"},{"$f":"IF(入力シート!$K1275<>\"\",入力シート!$K1275,IF(入力シート!$M1275<>\"\",入力シート!$M1275,入力シート!$N1275))","v":0},{"$f":"入力シート!I1275","v":0},{"$f":"入力シート!O1275","v":0},{"$f":"IF(入力シート!P1275=\"×\",\"P\",\"PN\")","v":"PN"},{"$f":"計算結果!#REF!","v":{"$error":"#REF!"}},{"$f":"計算結果!#REF!","v":{"$error":"#REF!"}},{"$f":"計算結果!#REF!","v":{"$error":"#REF!"}},{"$f":"計算結果!#REF!","v":{"$error":"#REF!"}},{"$f":"計算結果!#REF!","v":{"$error":"#REF!"}},{"$f":"計算結果!#REF!","v":{"$error":"#REF!"}},{"$f":"計算結果!#REF!","v":{"$error":"#REF!"}},{"$f":"計算結果!#REF!","v":{"$error":"#REF!"}},{"$f":"計算結果!#REF!","v":{"$error":"#REF!"}},{"$f":"計算結果!#REF!","v":{"$error":"#REF!"}}]
[{"$f":"入力シート!A1276","v":0},{"$f":"入力シート!G1276","v":0},{"$f":"入力シート!H1276","v":0},{"$f":"IF(入力シート!$J1276<>\"\",入力シート!$J1276,IF(入力シート!$L1276<>\"\",入力シート!$L1276,\"‐\"))","v":"‐"},{"$f":"IF(入力シート!$K1276<>\"\",入力シート!$K1276,IF(入力シート!$M1276<>\"\",入力シート!$M1276,入力シート!$N1276))","v":0},{"$f":"入力シート!I1276","v":0},{"$f":"入力シート!O1276","v":0},{"$f":"IF(入力シート!P1276=\"×\",\"P\",\"PN\")","v":"PN"},{"$f":"計算結果!#REF!","v":{"$error":"#REF!"}},{"$f":"計算結果!#REF!","v":{"$error":"#REF!"}},{"$f":"計算結果!#REF!","v":{"$error":"#REF!"}},{"$f":"計算結果!#REF!","v":{"$error":"#REF!"}},{"$f":"計算結果!#REF!","v":{"$error":"#REF!"}},{"$f":"計算結果!#REF!","v":{"$error":"#REF!"}},{"$f":"計算結果!#REF!","v":{"$error":"#REF!"}},{"$f":"計算結果!#REF!","v":{"$error":"#REF!"}},{"$f":"計算結果!#REF!","v":{"$error":"#REF!"}},{"$f":"計算結果!#REF!","v":{"$error":"#REF!"}}]
[{"$f":"入力シート!A1277","v":0},{"$f":"入力シート!G1277","v":0},{"$f":"入力シート!H1277","v":0},{"$f":"IF(入力シート!$J1277<>\"\",入力シート!$J1277,IF(入力シート!$L1277<>\"\",入力シート!$L1277,\"‐\"))","v":"‐"},{"$f":"IF(入力シート!$K1277<>\"\",入力シート!$K1277,IF(入力シート!$M1277<>\"\",入力シート!$M1277,入力シート!$N1277))","v":0},{"$f":"入力シート!I1277","v":0},{"$f":"入力シート!O1277","v":0},{"$f":"IF(入力シート!P1277=\"×\",\"P\",\"PN\")","v":"PN"},{"$f":"計算結果!#REF!","v":{"$error":"#REF!"}},{"$f":"計算結果!#REF!","v":{"$error":"#REF!"}},{"$f":"計算結果!#REF!","v":{"$error":"#REF!"}},{"$f":"計算結果!#REF!","v":{"$error":"#REF!"}},{"$f":"計算結果!#REF!","v":{"$error":"#REF!"}},{"$f":"計算結果!#REF!","v":{"$error":"#REF!"}},{"$f":"計算結果!#REF!","v":{"$error":"#REF!"}},{"$f":"計算結果!#REF!","v":{"$error":"#REF!"}},{"$f":"計算結果!#REF!","v":{"$error":"#REF!"}},{"$f":"計算結果!#REF!","v":{"$error":"#REF!"}}]
[{"$f":"入力シート!A1278","v":0},{"$f":"入力シート!G1278","v":0},{"$f":"入力シート!H1278","v":0},{"$f":"IF(入力シート!$J1278<>\"\",入力シート!$J1278,IF(入力シート!$L1278<>\"\",入力シート!$L1278,\"‐\"))","v":"‐"},{"$f":"IF(入力シート!$K1278<>\"\",入力シート!$K1278,IF(入力シート!$M1278<>\"\",入力シート!$M1278,入力シート!$N1278))","v":0},{"$f":"入力シート!I1278","v":0},{"$f":"入力シート!O1278","v":0},{"$f":"IF(入力シート!P1278=\"×\",\"P\",\"PN\")","v":"PN"},{"$f":"計算結果!#REF!","v":{"$error":"#REF!"}},{"$f":"計算結果!#REF!","v":{"$error":"#REF!"}},{"$f":"計算結果!#REF!","v":{"$error":"#REF!"}},{"$f":"計算結果!#REF!","v":{"$error":"#REF!"}},{"$f":"計算結果!#REF!","v":{"$error":"#REF!"}},{"$f":"計算結果!#REF!","v":{"$error":"#REF!"}},{"$f":"計算結果!#REF!","v":{"$error":"#REF!"}},{"$f":"計算結果!#REF!","v":{"$error":"#REF!"}},{"$f":"計算結果!#REF!","v":{"$error":"#REF!"}},{"$f":"計算結果!#REF!","v":{"$error":"#REF!"}}]
[{"$f":"入力シート!A1279","v":0},{"$f":"入力シート!G1279","v":0},{"$f":"入力シート!H1279","v":0},{"$f":"IF(入力シート!$J1279<>\"\",入力シート!$J1279,IF(入力シート!$L1279<>\"\",入力シート!$L1279,\"‐\"))","v":"‐"},{"$f":"IF(入力シート!$K1279<>\"\",入力シート!$K1279,IF(入力シート!$M1279<>\"\",入力シート!$M1279,入力シート!$N1279))","v":0},{"$f":"入力シート!I1279","v":0},{"$f":"入力シート!O1279","v":0},{"$f":"IF(入力シート!P1279=\"×\",\"P\",\"PN\")","v":"PN"},{"$f":"計算結果!#REF!","v":{"$error":"#REF!"}},{"$f":"計算結果!#REF!","v":{"$error":"#REF!"}},{"$f":"計算結果!#REF!","v":{"$error":"#REF!"}},{"$f":"計算結果!#REF!","v":{"$error":"#REF!"}},{"$f":"計算結果!#REF!","v":{"$error":"#REF!"}},{"$f":"計算結果!#REF!","v":{"$error":"#REF!"}},{"$f":"計算結果!#REF!","v":{"$error":"#REF!"}},{"$f":"計算結果!#REF!","v":{"$error":"#REF!"}},{"$f":"計算結果!#REF!","v":{"$error":"#REF!"}},{"$f":"計算結果!#REF!","v":{"$error":"#REF!"}}]
[{"$f":"入力シート!A1280","v":0},{"$f":"入力シート!G1280","v":0},{"$f":"入力シート!H1280","v":0},{"$f":"IF(入力シート!$J1280<>\"\",入力シート!$J1280,IF(入力シート!$L1280<>\"\",入力シート!$L1280,\"‐\"))","v":"‐"},{"$f":"IF(入力シート!$K1280<>\"\",入力シート!$K1280,IF(入力シート!$M1280<>\"\",入力シート!$M1280,入力シート!$N1280))","v":0},{"$f":"入力シート!I1280","v":0},{"$f":"入力シート!O1280","v":0},{"$f":"IF(入力シート!P1280=\"×\",\"P\",\"PN\")","v":"PN"},{"$f":"計算結果!#REF!","v":{"$error":"#REF!"}},{"$f":"計算結果!#REF!","v":{"$error":"#REF!"}},{"$f":"計算結果!#REF!","v":{"$error":"#REF!"}},{"$f":"計算結果!#REF!","v":{"$error":"#REF!"}},{"$f":"計算結果!#REF!","v":{"$error":"#REF!"}},{"$f":"計算結果!#REF!","v":{"$error":"#REF!"}},{"$f":"計算結果!#REF!","v":{"$error":"#REF!"}},{"$f":"計算結果!#REF!","v":{"$error":"#REF!"}},{"$f":"計算結果!#REF!","v":{"$error":"#REF!"}},{"$f":"計算結果!#REF!","v":{"$error":"#REF!"}}]
[{"$f":"入力シート!A1281","v":0},{"$f":"入力シート!G1281","v":0},{"$f":"入力シート!H1281","v":0},{"$f":"IF(入力シート!$J1281<>\"\",入力シート!$J1281,IF(入力シート!$L1281<>\"\",入力シート!$L1281,\"‐\"))","v":"‐"},{"$f":"IF(入力シート!$K1281<>\"\",入力シート!$K1281,IF(入力シート!$M1281<>\"\",入力シート!$M1281,入力シート!$N1281))","v":0},{"$f":"入力シート!I1281","v":0},{"$f":"入力シート!O1281","v":0},{"$f":"IF(入力シート!P1281=\"×\",\"P\",\"PN\")","v":"PN"},{"$f":"計算結果!#REF!","v":{"$error":"#REF!"}},{"$f":"計算結果!#REF!","v":{"$error":"#REF!"}},{"$f":"計算結果!#REF!","v":{"$error":"#REF!"}},{"$f":"計算結果!#REF!","v":{"$error":"#REF!"}},{"$f":"計算結果!#REF!","v":{"$error":"#REF!"}},{"$f":"計算結果!#REF!","v":{"$error":"#REF!"}},{"$f":"計算結果!#REF!","v":{"$error":"#REF!"}},{"$f":"計算結果!#REF!","v":{"$error":"#REF!"}},{"$f":"計算結果!#REF!","v":{"$error":"#REF!"}},{"$f":"計算結果!#REF!","v":{"$error":"#REF!"}}]
[{"$f":"入力シート!A1282","v":0},{"$f":"入力シート!G1282","v":0},{"$f":"入力シート!H1282","v":0},{"$f":"IF(入力シート!$J1282<>\"\",入力シート!$J1282,IF(入力シート!$L1282<>\"\",入力シート!$L1282,\"‐\"))","v":"‐"},{"$f":"IF(入力シート!$K1282<>\"\",入力シート!$K1282,IF(入力シート!$M1282<>\"\",入力シート!$M1282,入力シート!$N1282))","v":0},{"$f":"入力シート!I1282","v":0},{"$f":"入力シート!O1282","v":0},{"$f":"IF(入力シート!P1282=\"×\",\"P\",\"PN\")","v":"PN"},{"$f":"計算結果!#REF!","v":{"$error":"#REF!"}},{"$f":"計算結果!#REF!","v":{"$error":"#REF!"}},{"$f":"計算結果!#REF!","v":{"$error":"#REF!"}},{"$f":"計算結果!#REF!","v":{"$error":"#REF!"}},{"$f":"計算結果!#REF!","v":{"$error":"#REF!"}},{"$f":"計算結果!#REF!","v":{"$error":"#REF!"}},{"$f":"計算結果!#REF!","v":{"$error":"#REF!"}},{"$f":"計算結果!#REF!","v":{"$error":"#REF!"}},{"$f":"計算結果!#REF!","v":{"$error":"#REF!"}},{"$f":"計算結果!#REF!","v":{"$error":"#REF!"}}]
[{"$f":"入力シート!A1283","v":0},{"$f":"入力シート!G1283","v":0},{"$f":"入力シート!H1283","v":0},{"$f":"IF(入力シート!$J1283<>\"\",入力シート!$J1283,IF(入力シート!$L1283<>\"\",入力シート!$L1283,\"‐\"))","v":"‐"},{"$f":"IF(入力シート!$K1283<>\"\",入力シート!$K1283,IF(入力シート!$M1283<>\"\",入力シート!$M1283,入力シート!$N1283))","v":0},{"$f":"入力シート!I1283","v":0},{"$f":"入力シート!O1283","v":0},{"$f":"IF(入力シート!P1283=\"×\",\"P\",\"PN\")","v":"PN"},{"$f":"計算結果!#REF!","v":{"$error":"#REF!"}},{"$f":"計算結果!#REF!","v":{"$error":"#REF!"}},{"$f":"計算結果!#REF!","v":{"$error":"#REF!"}},{"$f":"計算結果!#REF!","v":{"$error":"#REF!"}},{"$f":"計算結果!#REF!","v":{"$error":"#REF!"}},{"$f":"計算結果!#REF!","v":{"$error":"#REF!"}},{"$f":"計算結果!#REF!","v":{"$error":"#REF!"}},{"$f":"計算結果!#REF!","v":{"$error":"#REF!"}},{"$f":"計算結果!#REF!","v":{"$error":"#REF!"}},{"$f":"計算結果!#REF!","v":{"$error":"#REF!"}}]
[{"$f":"入力シート!A1284","v":0},{"$f":"入力シート!G1284","v":0},{"$f":"入力シート!H1284","v":0},{"$f":"IF(入力シート!$J1284<>\"\",入力シート!$J1284,IF(入力シート!$L1284<>\"\",入力シート!$L1284,\"‐\"))","v":"‐"},{"$f":"IF(入力シート!$K1284<>\"\",入力シート!$K1284,IF(入力シート!$M1284<>\"\",入力シート!$M1284,入力シート!$N1284))","v":0},{"$f":"入力シート!I1284","v":0},{"$f":"入力シート!O1284","v":0},{"$f":"IF(入力シート!P1284=\"×\",\"P\",\"PN\")","v":"PN"},{"$f":"計算結果!#REF!","v":{"$error":"#REF!"}},{"$f":"計算結果!#REF!","v":{"$error":"#REF!"}},{"$f":"計算結果!#REF!","v":{"$error":"#REF!"}},{"$f":"計算結果!#REF!","v":{"$error":"#REF!"}},{"$f":"計算結果!#REF!","v":{"$error":"#REF!"}},{"$f":"計算結果!#REF!","v":{"$error":"#REF!"}},{"$f":"計算結果!#REF!","v":{"$error":"#REF!"}},{"$f":"計算結果!#REF!","v":{"$error":"#REF!"}},{"$f":"計算結果!#REF!","v":{"$error":"#REF!"}},{"$f":"計算結果!#REF!","v":{"$error":"#REF!"}}]
[{"$f":"入力シート!A1285","v":0},{"$f":"入力シート!G1285","v":0},{"$f":"入力シート!H1285","v":0},{"$f":"IF(入力シート!$J1285<>\"\",入力シート!$J1285,IF(入力シート!$L1285<>\"\",入力シート!$L1285,\"‐\"))","v":"‐"},{"$f":"IF(入力シート!$K1285<>\"\",入力シート!$K1285,IF(入力シート!$M1285<>\"\",入力シート!$M1285,入力シート!$N1285))","v":0},{"$f":"入力シート!I1285","v":0},{"$f":"入力シート!O1285","v":0},{"$f":"IF(入力シート!P1285=\"×\",\"P\",\"PN\")","v":"PN"},{"$f":"計算結果!#REF!","v":{"$error":"#REF!"}},{"$f":"計算結果!#REF!","v":{"$error":"#REF!"}},{"$f":"計算結果!#REF!","v":{"$error":"#REF!"}},{"$f":"計算結果!#REF!","v":{"$error":"#REF!"}},{"$f":"計算結果!#REF!","v":{"$error":"#REF!"}},{"$f":"計算結果!#REF!","v":{"$error":"#REF!"}},{"$f":"計算結果!#REF!","v":{"$error":"#REF!"}},{"$f":"計算結果!#REF!","v":{"$error":"#REF!"}},{"$f":"計算結果!#REF!","v":{"$error":"#REF!"}},{"$f":"計算結果!#REF!","v":{"$error":"#REF!"}}]
[{"$f":"入力シート!A1286","v":0},{"$f":"入力シート!G1286","v":0},{"$f":"入力シート!H1286","v":0},{"$f":"IF(入力シート!$J1286<>\"\",入力シート!$J1286,IF(入力シート!$L1286<>\"\",入力シート!$L1286,\"‐\"))","v":"‐"},{"$f":"IF(入力シート!$K1286<>\"\",入力シート!$K1286,IF(入力シート!$M1286<>\"\",入力シート!$M1286,入力シート!$N1286))","v":0},{"$f":"入力シート!I1286","v":0},{"$f":"入力シート!O1286","v":0},{"$f":"IF(入力シート!P1286=\"×\",\"P\",\"PN\")","v":"PN"},{"$f":"計算結果!#REF!","v":{"$error":"#REF!"}},{"$f":"計算結果!#REF!","v":{"$error":"#REF!"}},{"$f":"計算結果!#REF!","v":{"$error":"#REF!"}},{"$f":"計算結果!#REF!","v":{"$error":"#REF!"}},{"$f":"計算結果!#REF!","v":{"$error":"#REF!"}},{"$f":"計算結果!#REF!","v":{"$error":"#REF!"}},{"$f":"計算結果!#REF!","v":{"$error":"#REF!"}},{"$f":"計算結果!#REF!","v":{"$error":"#REF!"}},{"$f":"計算結果!#REF!","v":{"$error":"#REF!"}},{"$f":"計算結果!#REF!","v":{"$error":"#REF!"}}]
[{"$f":"入力シート!A1287","v":0},{"$f":"入力シート!G1287","v":0},{"$f":"入力シート!H1287","v":0},{"$f":"IF(入力シート!$J1287<>\"\",入力シート!$J1287,IF(入力シート!$L1287<>\"\",入力シート!$L1287,\"‐\"))","v":"‐"},{"$f":"IF(入力シート!$K1287<>\"\",入力シート!$K1287,IF(入力シート!$M1287<>\"\",入力シート!$M1287,入力シート!$N1287))","v":0},{"$f":"入力シート!I1287","v":0},{"$f":"入力シート!O1287","v":0},{"$f":"IF(入力シート!P1287=\"×\",\"P\",\"PN\")","v":"PN"},{"$f":"計算結果!#REF!","v":{"$error":"#REF!"}},{"$f":"計算結果!#REF!","v":{"$error":"#REF!"}},{"$f":"計算結果!#REF!","v":{"$error":"#REF!"}},{"$f":"計算結果!#REF!","v":{"$error":"#REF!"}},{"$f":"計算結果!#REF!","v":{"$error":"#REF!"}},{"$f":"計算結果!#REF!","v":{"$error":"#REF!"}},{"$f":"計算結果!#REF!","v":{"$error":"#REF!"}},{"$f":"計算結果!#REF!","v":{"$error":"#REF!"}},{"$f":"計算結果!#REF!","v":{"$error":"#REF!"}},{"$f":"計算結果!#REF!","v":{"$error":"#REF!"}}]
[{"$f":"入力シート!A1288","v":0},{"$f":"入力シート!G1288","v":0},{"$f":"入力シート!H1288","v":0},{"$f":"IF(入力シート!$J1288<>\"\",入力シート!$J1288,IF(入力シート!$L1288<>\"\",入力シート!$L1288,\"‐\"))","v":"‐"},{"$f":"IF(入力シート!$K1288<>\"\",入力シート!$K1288,IF(入力シート!$M1288<>\"\",入力シート!$M1288,入力シート!$N1288))","v":0},{"$f":"入力シート!I1288","v":0},{"$f":"入力シート!O1288","v":0},{"$f":"IF(入力シート!P1288=\"×\",\"P\",\"PN\")","v":"PN"},{"$f":"計算結果!#REF!","v":{"$error":"#REF!"}},{"$f":"計算結果!#REF!","v":{"$error":"#REF!"}},{"$f":"計算結果!#REF!","v":{"$error":"#REF!"}},{"$f":"計算結果!#REF!","v":{"$error":"#REF!"}},{"$f":"計算結果!#REF!","v":{"$error":"#REF!"}},{"$f":"計算結果!#REF!","v":{"$error":"#REF!"}},{"$f":"計算結果!#REF!","v":{"$error":"#REF!"}},{"$f":"計算結果!#REF!","v":{"$error":"#REF!"}},{"$f":"計算結果!#REF!","v":{"$error":"#REF!"}},{"$f":"計算結果!#REF!","v":{"$error":"#REF!"}}]
[{"$f":"入力シート!A1289","v":0},{"$f":"入力シート!G1289","v":0},{"$f":"入力シート!H1289","v":0},{"$f":"IF(入力シート!$J1289<>\"\",入力シート!$J1289,IF(入力シート!$L1289<>\"\",入力シート!$L1289,\"‐\"))","v":"‐"},{"$f":"IF(入力シート!$K1289<>\"\",入力シート!$K1289,IF(入力シート!$M1289<>\"\",入力シート!$M1289,入力シート!$N1289))","v":0},{"$f":"入力シート!I1289","v":0},{"$f":"入力シート!O1289","v":0},{"$f":"IF(入力シート!P1289=\"×\",\"P\",\"PN\")","v":"PN"},{"$f":"計算結果!#REF!","v":{"$error":"#REF!"}},{"$f":"計算結果!#REF!","v":{"$error":"#REF!"}},{"$f":"計算結果!#REF!","v":{"$error":"#REF!"}},{"$f":"計算結果!#REF!","v":{"$error":"#REF!"}},{"$f":"計算結果!#REF!","v":{"$error":"#REF!"}},{"$f":"計算結果!#REF!","v":{"$error":"#REF!"}},{"$f":"計算結果!#REF!","v":{"$error":"#REF!"}},{"$f":"計算結果!#REF!","v":{"$error":"#REF!"}},{"$f":"計算結果!#REF!","v":{"$error":"#REF!"}},{"$f":"計算結果!#REF!","v":{"$error":"#REF!"}}]
[{"$f":"入力シート!A1290","v":0},{"$f":"入力シート!G1290","v":0},{"$f":"入力シート!H1290","v":0},{"$f":"IF(入力シート!$J1290<>\"\",入力シート!$J1290,IF(入力シート!$L1290<>\"\",入力シート!$L1290,\"‐\"))","v":"‐"},{"$f":"IF(入力シート!$K1290<>\"\",入力シート!$K1290,IF(入力シート!$M1290<>\"\",入力シート!$M1290,入力シート!$N1290))","v":0},{"$f":"入力シート!I1290","v":0},{"$f":"入力シート!O1290","v":0},{"$f":"IF(入力シート!P1290=\"×\",\"P\",\"PN\")","v":"PN"},{"$f":"計算結果!#REF!","v":{"$error":"#REF!"}},{"$f":"計算結果!#REF!","v":{"$error":"#REF!"}},{"$f":"計算結果!#REF!","v":{"$error":"#REF!"}},{"$f":"計算結果!#REF!","v":{"$error":"#REF!"}},{"$f":"計算結果!#REF!","v":{"$error":"#REF!"}},{"$f":"計算結果!#REF!","v":{"$error":"#REF!"}},{"$f":"計算結果!#REF!","v":{"$error":"#REF!"}},{"$f":"計算結果!#REF!","v":{"$error":"#REF!"}},{"$f":"計算結果!#REF!","v":{"$error":"#REF!"}},{"$f":"計算結果!#REF!","v":{"$error":"#REF!"}}]
[{"$f":"入力シート!A1291","v":0},{"$f":"入力シート!G1291","v":0},{"$f":"入力シート!H1291","v":0},{"$f":"IF(入力シート!$J1291<>\"\",入力シート!$J1291,IF(入力シート!$L1291<>\"\",入力シート!$L1291,\"‐\"))","v":"‐"},{"$f":"IF(入力シート!$K1291<>\"\",入力シート!$K1291,IF(入力シート!$M1291<>\"\",入力シート!$M1291,入力シート!$N1291))","v":0},{"$f":"入力シート!I1291","v":0},{"$f":"入力シート!O1291","v":0},{"$f":"IF(入力シート!P1291=\"×\",\"P\",\"PN\")","v":"PN"},{"$f":"計算結果!#REF!","v":{"$error":"#REF!"}},{"$f":"計算結果!#REF!","v":{"$error":"#REF!"}},{"$f":"計算結果!#REF!","v":{"$error":"#REF!"}},{"$f":"計算結果!#REF!","v":{"$error":"#REF!"}},{"$f":"計算結果!#REF!","v":{"$error":"#REF!"}},{"$f":"計算結果!#REF!","v":{"$error":"#REF!"}},{"$f":"計算結果!#REF!","v":{"$error":"#REF!"}},{"$f":"計算結果!#REF!","v":{"$error":"#REF!"}},{"$f":"計算結果!#REF!","v":{"$error":"#REF!"}},{"$f":"計算結果!#REF!","v":{"$error":"#REF!"}}]
[{"$f":"入力シート!A1292","v":0},{"$f":"入力シート!G1292","v":0},{"$f":"入力シート!H1292","v":0},{"$f":"IF(入力シート!$J1292<>\"\",入力シート!$J1292,IF(入力シート!$L1292<>\"\",入力シート!$L1292,\"‐\"))","v":"‐"},{"$f":"IF(入力シート!$K1292<>\"\",入力シート!$K1292,IF(入力シート!$M1292<>\"\",入力シート!$M1292,入力シート!$N1292))","v":0},{"$f":"入力シート!I1292","v":0},{"$f":"入力シート!O1292","v":0},{"$f":"IF(入力シート!P1292=\"×\",\"P\",\"PN\")","v":"PN"},{"$f":"計算結果!#REF!","v":{"$error":"#REF!"}},{"$f":"計算結果!#REF!","v":{"$error":"#REF!"}},{"$f":"計算結果!#REF!","v":{"$error":"#REF!"}},{"$f":"計算結果!#REF!","v":{"$error":"#REF!"}},{"$f":"計算結果!#REF!","v":{"$error":"#REF!"}},{"$f":"計算結果!#REF!","v":{"$error":"#REF!"}},{"$f":"計算結果!#REF!","v":{"$error":"#REF!"}},{"$f":"計算結果!#REF!","v":{"$error":"#REF!"}},{"$f":"計算結果!#REF!","v":{"$error":"#REF!"}},{"$f":"計算結果!#REF!","v":{"$error":"#REF!"}}]
[{"$f":"入力シート!A1293","v":0},{"$f":"入力シート!G1293","v":0},{"$f":"入力シート!H1293","v":0},{"$f":"IF(入力シート!$J1293<>\"\",入力シート!$J1293,IF(入力シート!$L1293<>\"\",入力シート!$L1293,\"‐\"))","v":"‐"},{"$f":"IF(入力シート!$K1293<>\"\",入力シート!$K1293,IF(入力シート!$M1293<>\"\",入力シート!$M1293,入力シート!$N1293))","v":0},{"$f":"入力シート!I1293","v":0},{"$f":"入力シート!O1293","v":0},{"$f":"IF(入力シート!P1293=\"×\",\"P\",\"PN\")","v":"PN"},{"$f":"計算結果!#REF!","v":{"$error":"#REF!"}},{"$f":"計算結果!#REF!","v":{"$error":"#REF!"}},{"$f":"計算結果!#REF!","v":{"$error":"#REF!"}},{"$f":"計算結果!#REF!","v":{"$error":"#REF!"}},{"$f":"計算結果!#REF!","v":{"$error":"#REF!"}},{"$f":"計算結果!#REF!","v":{"$error":"#REF!"}},{"$f":"計算結果!#REF!","v":{"$error":"#REF!"}},{"$f":"計算結果!#REF!","v":{"$error":"#REF!"}},{"$f":"計算結果!#REF!","v":{"$error":"#REF!"}},{"$f":"計算結果!#REF!","v":{"$error":"#REF!"}}]
[{"$f":"入力シート!A1294","v":0},{"$f":"入力シート!G1294","v":0},{"$f":"入力シート!H1294","v":0},{"$f":"IF(入力シート!$J1294<>\"\",入力シート!$J1294,IF(入力シート!$L1294<>\"\",入力シート!$L1294,\"‐\"))","v":"‐"},{"$f":"IF(入力シート!$K1294<>\"\",入力シート!$K1294,IF(入力シート!$M1294<>\"\",入力シート!$M1294,入力シート!$N1294))","v":0},{"$f":"入力シート!I1294","v":0},{"$f":"入力シート!O1294","v":0},{"$f":"IF(入力シート!P1294=\"×\",\"P\",\"PN\")","v":"PN"},{"$f":"計算結果!#REF!","v":{"$error":"#REF!"}},{"$f":"計算結果!#REF!","v":{"$error":"#REF!"}},{"$f":"計算結果!#REF!","v":{"$error":"#REF!"}},{"$f":"計算結果!#REF!","v":{"$error":"#REF!"}},{"$f":"計算結果!#REF!","v":{"$error":"#REF!"}},{"$f":"計算結果!#REF!","v":{"$error":"#REF!"}},{"$f":"計算結果!#REF!","v":{"$error":"#REF!"}},{"$f":"計算結果!#REF!","v":{"$error":"#REF!"}},{"$f":"計算結果!#REF!","v":{"$error":"#REF!"}},{"$f":"計算結果!#REF!","v":{"$error":"#REF!"}}]
[{"$f":"入力シート!A1295","v":0},{"$f":"入力シート!G1295","v":0},{"$f":"入力シート!H1295","v":0},{"$f":"IF(入力シート!$J1295<>\"\",入力シート!$J1295,IF(入力シート!$L1295<>\"\",入力シート!$L1295,\"‐\"))","v":"‐"},{"$f":"IF(入力シート!$K1295<>\"\",入力シート!$K1295,IF(入力シート!$M1295<>\"\",入力シート!$M1295,入力シート!$N1295))","v":0},{"$f":"入力シート!I1295","v":0},{"$f":"入力シート!O1295","v":0},{"$f":"IF(入力シート!P1295=\"×\",\"P\",\"PN\")","v":"PN"},{"$f":"計算結果!#REF!","v":{"$error":"#REF!"}},{"$f":"計算結果!#REF!","v":{"$error":"#REF!"}},{"$f":"計算結果!#REF!","v":{"$error":"#REF!"}},{"$f":"計算結果!#REF!","v":{"$error":"#REF!"}},{"$f":"計算結果!#REF!","v":{"$error":"#REF!"}},{"$f":"計算結果!#REF!","v":{"$error":"#REF!"}},{"$f":"計算結果!#REF!","v":{"$error":"#REF!"}},{"$f":"計算結果!#REF!","v":{"$error":"#REF!"}},{"$f":"計算結果!#REF!","v":{"$error":"#REF!"}},{"$f":"計算結果!#REF!","v":{"$error":"#REF!"}}]
[{"$f":"入力シート!A1296","v":0},{"$f":"入力シート!G1296","v":0},{"$f":"入力シート!H1296","v":0},{"$f":"IF(入力シート!$J1296<>\"\",入力シート!$J1296,IF(入力シート!$L1296<>\"\",入力シート!$L1296,\"‐\"))","v":"‐"},{"$f":"IF(入力シート!$K1296<>\"\",入力シート!$K1296,IF(入力シート!$M1296<>\"\",入力シート!$M1296,入力シート!$N1296))","v":0},{"$f":"入力シート!I1296","v":0},{"$f":"入力シート!O1296","v":0},{"$f":"IF(入力シート!P1296=\"×\",\"P\",\"PN\")","v":"PN"},{"$f":"計算結果!#REF!","v":{"$error":"#REF!"}},{"$f":"計算結果!#REF!","v":{"$error":"#REF!"}},{"$f":"計算結果!#REF!","v":{"$error":"#REF!"}},{"$f":"計算結果!#REF!","v":{"$error":"#REF!"}},{"$f":"計算結果!#REF!","v":{"$error":"#REF!"}},{"$f":"計算結果!#REF!","v":{"$error":"#REF!"}},{"$f":"計算結果!#REF!","v":{"$error":"#REF!"}},{"$f":"計算結果!#REF!","v":{"$error":"#REF!"}},{"$f":"計算結果!#REF!","v":{"$error":"#REF!"}},{"$f":"計算結果!#REF!","v":{"$error":"#REF!"}}]
[{"$f":"入力シート!A1297","v":0},{"$f":"入力シート!G1297","v":0},{"$f":"入力シート!H1297","v":0},{"$f":"IF(入力シート!$J1297<>\"\",入力シート!$J1297,IF(入力シート!$L1297<>\"\",入力シート!$L1297,\"‐\"))","v":"‐"},{"$f":"IF(入力シート!$K1297<>\"\",入力シート!$K1297,IF(入力シート!$M1297<>\"\",入力シート!$M1297,入力シート!$N1297))","v":0},{"$f":"入力シート!I1297","v":0},{"$f":"入力シート!O1297","v":0},{"$f":"IF(入力シート!P1297=\"×\",\"P\",\"PN\")","v":"PN"},{"$f":"計算結果!#REF!","v":{"$error":"#REF!"}},{"$f":"計算結果!#REF!","v":{"$error":"#REF!"}},{"$f":"計算結果!#REF!","v":{"$error":"#REF!"}},{"$f":"計算結果!#REF!","v":{"$error":"#REF!"}},{"$f":"計算結果!#REF!","v":{"$error":"#REF!"}},{"$f":"計算結果!#REF!","v":{"$error":"#REF!"}},{"$f":"計算結果!#REF!","v":{"$error":"#REF!"}},{"$f":"計算結果!#REF!","v":{"$error":"#REF!"}},{"$f":"計算結果!#REF!","v":{"$error":"#REF!"}},{"$f":"計算結果!#REF!","v":{"$error":"#REF!"}}]
[{"$f":"入力シート!A1298","v":0},{"$f":"入力シート!G1298","v":0},{"$f":"入力シート!H1298","v":0},{"$f":"IF(入力シート!$J1298<>\"\",入力シート!$J1298,IF(入力シート!$L1298<>\"\",入力シート!$L1298,\"‐\"))","v":"‐"},{"$f":"IF(入力シート!$K1298<>\"\",入力シート!$K1298,IF(入力シート!$M1298<>\"\",入力シート!$M1298,入力シート!$N1298))","v":0},{"$f":"入力シート!I1298","v":0},{"$f":"入力シート!O1298","v":0},{"$f":"IF(入力シート!P1298=\"×\",\"P\",\"PN\")","v":"PN"},{"$f":"計算結果!#REF!","v":{"$error":"#REF!"}},{"$f":"計算結果!#REF!","v":{"$error":"#REF!"}},{"$f":"計算結果!#REF!","v":{"$error":"#REF!"}},{"$f":"計算結果!#REF!","v":{"$error":"#REF!"}},{"$f":"計算結果!#REF!","v":{"$error":"#REF!"}},{"$f":"計算結果!#REF!","v":{"$error":"#REF!"}},{"$f":"計算結果!#REF!","v":{"$error":"#REF!"}},{"$f":"計算結果!#REF!","v":{"$error":"#REF!"}},{"$f":"計算結果!#REF!","v":{"$error":"#REF!"}},{"$f":"計算結果!#REF!","v":{"$error":"#REF!"}}]
[{"$f":"入力シート!A1299","v":0},{"$f":"入力シート!G1299","v":0},{"$f":"入力シート!H1299","v":0},{"$f":"IF(入力シート!$J1299<>\"\",入力シート!$J1299,IF(入力シート!$L1299<>\"\",入力シート!$L1299,\"‐\"))","v":"‐"},{"$f":"IF(入力シート!$K1299<>\"\",入力シート!$K1299,IF(入力シート!$M1299<>\"\",入力シート!$M1299,入力シート!$N1299))","v":0},{"$f":"入力シート!I1299","v":0},{"$f":"入力シート!O1299","v":0},{"$f":"IF(入力シート!P1299=\"×\",\"P\",\"PN\")","v":"PN"},{"$f":"計算結果!#REF!","v":{"$error":"#REF!"}},{"$f":"計算結果!#REF!","v":{"$error":"#REF!"}},{"$f":"計算結果!#REF!","v":{"$error":"#REF!"}},{"$f":"計算結果!#REF!","v":{"$error":"#REF!"}},{"$f":"計算結果!#REF!","v":{"$error":"#REF!"}},{"$f":"計算結果!#REF!","v":{"$error":"#REF!"}},{"$f":"計算結果!#REF!","v":{"$error":"#REF!"}},{"$f":"計算結果!#REF!","v":{"$error":"#REF!"}},{"$f":"計算結果!#REF!","v":{"$error":"#REF!"}},{"$f":"計算結果!#REF!","v":{"$error":"#REF!"}}]
[{"$f":"入力シート!A1300","v":0},{"$f":"入力シート!G1300","v":0},{"$f":"入力シート!H1300","v":0},{"$f":"IF(入力シート!$J1300<>\"\",入力シート!$J1300,IF(入力シート!$L1300<>\"\",入力シート!$L1300,\"‐\"))","v":"‐"},{"$f":"IF(入力シート!$K1300<>\"\",入力シート!$K1300,IF(入力シート!$M1300<>\"\",入力シート!$M1300,入力シート!$N1300))","v":0},{"$f":"入力シート!I1300","v":0},{"$f":"入力シート!O1300","v":0},{"$f":"IF(入力シート!P1300=\"×\",\"P\",\"PN\")","v":"PN"},{"$f":"計算結果!#REF!","v":{"$error":"#REF!"}},{"$f":"計算結果!#REF!","v":{"$error":"#REF!"}},{"$f":"計算結果!#REF!","v":{"$error":"#REF!"}},{"$f":"計算結果!#REF!","v":{"$error":"#REF!"}},{"$f":"計算結果!#REF!","v":{"$error":"#REF!"}},{"$f":"計算結果!#REF!","v":{"$error":"#REF!"}},{"$f":"計算結果!#REF!","v":{"$error":"#REF!"}},{"$f":"計算結果!#REF!","v":{"$error":"#REF!"}},{"$f":"計算結果!#REF!","v":{"$error":"#REF!"}},{"$f":"計算結果!#REF!","v":{"$error":"#REF!"}}]
[{"$f":"入力シート!A1301","v":0},{"$f":"入力シート!G1301","v":0},{"$f":"入力シート!H1301","v":0},{"$f":"IF(入力シート!$J1301<>\"\",入力シート!$J1301,IF(入力シート!$L1301<>\"\",入力シート!$L1301,\"‐\"))","v":"‐"},{"$f":"IF(入力シート!$K1301<>\"\",入力シート!$K1301,IF(入力シート!$M1301<>\"\",入力シート!$M1301,入力シート!$N1301))","v":0},{"$f":"入力シート!I1301","v":0},{"$f":"入力シート!O1301","v":0},{"$f":"IF(入力シート!P1301=\"×\",\"P\",\"PN\")","v":"PN"},{"$f":"計算結果!#REF!","v":{"$error":"#REF!"}},{"$f":"計算結果!#REF!","v":{"$error":"#REF!"}},{"$f":"計算結果!#REF!","v":{"$error":"#REF!"}},{"$f":"計算結果!#REF!","v":{"$error":"#REF!"}},{"$f":"計算結果!#REF!","v":{"$error":"#REF!"}},{"$f":"計算結果!#REF!","v":{"$error":"#REF!"}},{"$f":"計算結果!#REF!","v":{"$error":"#REF!"}},{"$f":"計算結果!#REF!","v":{"$error":"#REF!"}},{"$f":"計算結果!#REF!","v":{"$error":"#REF!"}},{"$f":"計算結果!#REF!","v":{"$error":"#REF!"}}]
[{"$f":"入力シート!A1302","v":0},{"$f":"入力シート!G1302","v":0},{"$f":"入力シート!H1302","v":0},{"$f":"IF(入力シート!$J1302<>\"\",入力シート!$J1302,IF(入力シート!$L1302<>\"\",入力シート!$L1302,\"‐\"))","v":"‐"},{"$f":"IF(入力シート!$K1302<>\"\",入力シート!$K1302,IF(入力シート!$M1302<>\"\",入力シート!$M1302,入力シート!$N1302))","v":0},{"$f":"入力シート!I1302","v":0},{"$f":"入力シート!O1302","v":0},{"$f":"IF(入力シート!P1302=\"×\",\"P\",\"PN\")","v":"PN"},{"$f":"計算結果!#REF!","v":{"$error":"#REF!"}},{"$f":"計算結果!#REF!","v":{"$error":"#REF!"}},{"$f":"計算結果!#REF!","v":{"$error":"#REF!"}},{"$f":"計算結果!#REF!","v":{"$error":"#REF!"}},{"$f":"計算結果!#REF!","v":{"$error":"#REF!"}},{"$f":"計算結果!#REF!","v":{"$error":"#REF!"}},{"$f":"計算結果!#REF!","v":{"$error":"#REF!"}},{"$f":"計算結果!#REF!","v":{"$error":"#REF!"}},{"$f":"計算結果!#REF!","v":{"$error":"#REF!"}},{"$f":"計算結果!#REF!","v":{"$error":"#REF!"}}]
[{"$f":"入力シート!A1303","v":0},{"$f":"入力シート!G1303","v":0},{"$f":"入力シート!H1303","v":0},{"$f":"IF(入力シート!$J1303<>\"\",入力シート!$J1303,IF(入力シート!$L1303<>\"\",入力シート!$L1303,\"‐\"))","v":"‐"},{"$f":"IF(入力シート!$K1303<>\"\",入力シート!$K1303,IF(入力シート!$M1303<>\"\",入力シート!$M1303,入力シート!$N1303))","v":0},{"$f":"入力シート!I1303","v":0},{"$f":"入力シート!O1303","v":0},{"$f":"IF(入力シート!P1303=\"×\",\"P\",\"PN\")","v":"PN"},{"$f":"計算結果!#REF!","v":{"$error":"#REF!"}},{"$f":"計算結果!#REF!","v":{"$error":"#REF!"}},{"$f":"計算結果!#REF!","v":{"$error":"#REF!"}},{"$f":"計算結果!#REF!","v":{"$error":"#REF!"}},{"$f":"計算結果!#REF!","v":{"$error":"#REF!"}},{"$f":"計算結果!#REF!","v":{"$error":"#REF!"}},{"$f":"計算結果!#REF!","v":{"$error":"#REF!"}},{"$f":"計算結果!#REF!","v":{"$error":"#REF!"}},{"$f":"計算結果!#REF!","v":{"$error":"#REF!"}},{"$f":"計算結果!#REF!","v":{"$error":"#REF!"}}]
[{"$f":"入力シート!A1304","v":0},{"$f":"入力シート!G1304","v":0},{"$f":"入力シート!H1304","v":0},{"$f":"IF(入力シート!$J1304<>\"\",入力シート!$J1304,IF(入力シート!$L1304<>\"\",入力シート!$L1304,\"‐\"))","v":"‐"},{"$f":"IF(入力シート!$K1304<>\"\",入力シート!$K1304,IF(入力シート!$M1304<>\"\",入力シート!$M1304,入力シート!$N1304))","v":0},{"$f":"入力シート!I1304","v":0},{"$f":"入力シート!O1304","v":0},{"$f":"IF(入力シート!P1304=\"×\",\"P\",\"PN\")","v":"PN"},{"$f":"計算結果!#REF!","v":{"$error":"#REF!"}},{"$f":"計算結果!#REF!","v":{"$error":"#REF!"}},{"$f":"計算結果!#REF!","v":{"$error":"#REF!"}},{"$f":"計算結果!#REF!","v":{"$error":"#REF!"}},{"$f":"計算結果!#REF!","v":{"$error":"#REF!"}},{"$f":"計算結果!#REF!","v":{"$error":"#REF!"}},{"$f":"計算結果!#REF!","v":{"$error":"#REF!"}},{"$f":"計算結果!#REF!","v":{"$error":"#REF!"}},{"$f":"計算結果!#REF!","v":{"$error":"#REF!"}},{"$f":"計算結果!#REF!","v":{"$error":"#REF!"}}]
[{"$f":"入力シート!A1305","v":0},{"$f":"入力シート!G1305","v":0},{"$f":"入力シート!H1305","v":0},{"$f":"IF(入力シート!$J1305<>\"\",入力シート!$J1305,IF(入力シート!$L1305<>\"\",入力シート!$L1305,\"‐\"))","v":"‐"},{"$f":"IF(入力シート!$K1305<>\"\",入力シート!$K1305,IF(入力シート!$M1305<>\"\",入力シート!$M1305,入力シート!$N1305))","v":0},{"$f":"入力シート!I1305","v":0},{"$f":"入力シート!O1305","v":0},{"$f":"IF(入力シート!P1305=\"×\",\"P\",\"PN\")","v":"PN"},{"$f":"計算結果!#REF!","v":{"$error":"#REF!"}},{"$f":"計算結果!#REF!","v":{"$error":"#REF!"}},{"$f":"計算結果!#REF!","v":{"$error":"#REF!"}},{"$f":"計算結果!#REF!","v":{"$error":"#REF!"}},{"$f":"計算結果!#REF!","v":{"$error":"#REF!"}},{"$f":"計算結果!#REF!","v":{"$error":"#REF!"}},{"$f":"計算結果!#REF!","v":{"$error":"#REF!"}},{"$f":"計算結果!#REF!","v":{"$error":"#REF!"}},{"$f":"計算結果!#REF!","v":{"$error":"#REF!"}},{"$f":"計算結果!#REF!","v":{"$error":"#REF!"}}]
[{"$f":"入力シート!A1306","v":0},{"$f":"入力シート!G1306","v":0},{"$f":"入力シート!H1306","v":0},{"$f":"IF(入力シート!$J1306<>\"\",入力シート!$J1306,IF(入力シート!$L1306<>\"\",入力シート!$L1306,\"‐\"))","v":"‐"},{"$f":"IF(入力シート!$K1306<>\"\",入力シート!$K1306,IF(入力シート!$M1306<>\"\",入力シート!$M1306,入力シート!$N1306))","v":0},{"$f":"入力シート!I1306","v":0},{"$f":"入力シート!O1306","v":0},{"$f":"IF(入力シート!P1306=\"×\",\"P\",\"PN\")","v":"PN"},{"$f":"計算結果!#REF!","v":{"$error":"#REF!"}},{"$f":"計算結果!#REF!","v":{"$error":"#REF!"}},{"$f":"計算結果!#REF!","v":{"$error":"#REF!"}},{"$f":"計算結果!#REF!","v":{"$error":"#REF!"}},{"$f":"計算結果!#REF!","v":{"$error":"#REF!"}},{"$f":"計算結果!#REF!","v":{"$error":"#REF!"}},{"$f":"計算結果!#REF!","v":{"$error":"#REF!"}},{"$f":"計算結果!#REF!","v":{"$error":"#REF!"}},{"$f":"計算結果!#REF!","v":{"$error":"#REF!"}},{"$f":"計算結果!#REF!","v":{"$error":"#REF!"}}]
[{"$f":"入力シート!A1307","v":0},{"$f":"入力シート!G1307","v":0},{"$f":"入力シート!H1307","v":0},{"$f":"IF(入力シート!$J1307<>\"\",入力シート!$J1307,IF(入力シート!$L1307<>\"\",入力シート!$L1307,\"‐\"))","v":"‐"},{"$f":"IF(入力シート!$K1307<>\"\",入力シート!$K1307,IF(入力シート!$M1307<>\"\",入力シート!$M1307,入力シート!$N1307))","v":0},{"$f":"入力シート!I1307","v":0},{"$f":"入力シート!O1307","v":0},{"$f":"IF(入力シート!P1307=\"×\",\"P\",\"PN\")","v":"PN"},{"$f":"計算結果!#REF!","v":{"$error":"#REF!"}},{"$f":"計算結果!#REF!","v":{"$error":"#REF!"}},{"$f":"計算結果!#REF!","v":{"$error":"#REF!"}},{"$f":"計算結果!#REF!","v":{"$error":"#REF!"}},{"$f":"計算結果!#REF!","v":{"$error":"#REF!"}},{"$f":"計算結果!#REF!","v":{"$error":"#REF!"}},{"$f":"計算結果!#REF!","v":{"$error":"#REF!"}},{"$f":"計算結果!#REF!","v":{"$error":"#REF!"}},{"$f":"計算結果!#REF!","v":{"$error":"#REF!"}},{"$f":"計算結果!#REF!","v":{"$error":"#REF!"}}]
[{"$f":"入力シート!A1308","v":0},{"$f":"入力シート!G1308","v":0},{"$f":"入力シート!H1308","v":0},{"$f":"IF(入力シート!$J1308<>\"\",入力シート!$J1308,IF(入力シート!$L1308<>\"\",入力シート!$L1308,\"‐\"))","v":"‐"},{"$f":"IF(入力シート!$K1308<>\"\",入力シート!$K1308,IF(入力シート!$M1308<>\"\",入力シート!$M1308,入力シート!$N1308))","v":0},{"$f":"入力シート!I1308","v":0},{"$f":"入力シート!O1308","v":0},{"$f":"IF(入力シート!P1308=\"×\",\"P\",\"PN\")","v":"PN"},{"$f":"計算結果!#REF!","v":{"$error":"#REF!"}},{"$f":"計算結果!#REF!","v":{"$error":"#REF!"}},{"$f":"計算結果!#REF!","v":{"$error":"#REF!"}},{"$f":"計算結果!#REF!","v":{"$error":"#REF!"}},{"$f":"計算結果!#REF!","v":{"$error":"#REF!"}},{"$f":"計算結果!#REF!","v":{"$error":"#REF!"}},{"$f":"計算結果!#REF!","v":{"$error":"#REF!"}},{"$f":"計算結果!#REF!","v":{"$error":"#REF!"}},{"$f":"計算結果!#REF!","v":{"$error":"#REF!"}},{"$f":"計算結果!#REF!","v":{"$error":"#REF!"}}]
[{"$f":"入力シート!A1309","v":0},{"$f":"入力シート!G1309","v":0},{"$f":"入力シート!H1309","v":0},{"$f":"IF(入力シート!$J1309<>\"\",入力シート!$J1309,IF(入力シート!$L1309<>\"\",入力シート!$L1309,\"‐\"))","v":"‐"},{"$f":"IF(入力シート!$K1309<>\"\",入力シート!$K1309,IF(入力シート!$M1309<>\"\",入力シート!$M1309,入力シート!$N1309))","v":0},{"$f":"入力シート!I1309","v":0},{"$f":"入力シート!O1309","v":0},{"$f":"IF(入力シート!P1309=\"×\",\"P\",\"PN\")","v":"PN"},{"$f":"計算結果!#REF!","v":{"$error":"#REF!"}},{"$f":"計算結果!#REF!","v":{"$error":"#REF!"}},{"$f":"計算結果!#REF!","v":{"$error":"#REF!"}},{"$f":"計算結果!#REF!","v":{"$error":"#REF!"}},{"$f":"計算結果!#REF!","v":{"$error":"#REF!"}},{"$f":"計算結果!#REF!","v":{"$error":"#REF!"}},{"$f":"計算結果!#REF!","v":{"$error":"#REF!"}},{"$f":"計算結果!#REF!","v":{"$error":"#REF!"}},{"$f":"計算結果!#REF!","v":{"$error":"#REF!"}},{"$f":"計算結果!#REF!","v":{"$error":"#REF!"}}]
[{"$f":"入力シート!A1310","v":0},{"$f":"入力シート!G1310","v":0},{"$f":"入力シート!H1310","v":0},{"$f":"IF(入力シート!$J1310<>\"\",入力シート!$J1310,IF(入力シート!$L1310<>\"\",入力シート!$L1310,\"‐\"))","v":"‐"},{"$f":"IF(入力シート!$K1310<>\"\",入力シート!$K1310,IF(入力シート!$M1310<>\"\",入力シート!$M1310,入力シート!$N1310))","v":0},{"$f":"入力シート!I1310","v":0},{"$f":"入力シート!O1310","v":0},{"$f":"IF(入力シート!P1310=\"×\",\"P\",\"PN\")","v":"PN"},{"$f":"計算結果!#REF!","v":{"$error":"#REF!"}},{"$f":"計算結果!#REF!","v":{"$error":"#REF!"}},{"$f":"計算結果!#REF!","v":{"$error":"#REF!"}},{"$f":"計算結果!#REF!","v":{"$error":"#REF!"}},{"$f":"計算結果!#REF!","v":{"$error":"#REF!"}},{"$f":"計算結果!#REF!","v":{"$error":"#REF!"}},{"$f":"計算結果!#REF!","v":{"$error":"#REF!"}},{"$f":"計算結果!#REF!","v":{"$error":"#REF!"}},{"$f":"計算結果!#REF!","v":{"$error":"#REF!"}},{"$f":"計算結果!#REF!","v":{"$error":"#REF!"}}]
[{"$f":"入力シート!A1311","v":0},{"$f":"入力シート!G1311","v":0},{"$f":"入力シート!H1311","v":0},{"$f":"IF(入力シート!$J1311<>\"\",入力シート!$J1311,IF(入力シート!$L1311<>\"\",入力シート!$L1311,\"‐\"))","v":"‐"},{"$f":"IF(入力シート!$K1311<>\"\",入力シート!$K1311,IF(入力シート!$M1311<>\"\",入力シート!$M1311,入力シート!$N1311))","v":0},{"$f":"入力シート!I1311","v":0},{"$f":"入力シート!O1311","v":0},{"$f":"IF(入力シート!P1311=\"×\",\"P\",\"PN\")","v":"PN"},{"$f":"計算結果!#REF!","v":{"$error":"#REF!"}},{"$f":"計算結果!#REF!","v":{"$error":"#REF!"}},{"$f":"計算結果!#REF!","v":{"$error":"#REF!"}},{"$f":"計算結果!#REF!","v":{"$error":"#REF!"}},{"$f":"計算結果!#REF!","v":{"$error":"#REF!"}},{"$f":"計算結果!#REF!","v":{"$error":"#REF!"}},{"$f":"計算結果!#REF!","v":{"$error":"#REF!"}},{"$f":"計算結果!#REF!","v":{"$error":"#REF!"}},{"$f":"計算結果!#REF!","v":{"$error":"#REF!"}},{"$f":"計算結果!#REF!","v":{"$error":"#REF!"}}]
[{"$f":"入力シート!A1312","v":0},{"$f":"入力シート!G1312","v":0},{"$f":"入力シート!H1312","v":0},{"$f":"IF(入力シート!$J1312<>\"\",入力シート!$J1312,IF(入力シート!$L1312<>\"\",入力シート!$L1312,\"‐\"))","v":"‐"},{"$f":"IF(入力シート!$K1312<>\"\",入力シート!$K1312,IF(入力シート!$M1312<>\"\",入力シート!$M1312,入力シート!$N1312))","v":0},{"$f":"入力シート!I1312","v":0},{"$f":"入力シート!O1312","v":0},{"$f":"IF(入力シート!P1312=\"×\",\"P\",\"PN\")","v":"PN"},{"$f":"計算結果!#REF!","v":{"$error":"#REF!"}},{"$f":"計算結果!#REF!","v":{"$error":"#REF!"}},{"$f":"計算結果!#REF!","v":{"$error":"#REF!"}},{"$f":"計算結果!#REF!","v":{"$error":"#REF!"}},{"$f":"計算結果!#REF!","v":{"$error":"#REF!"}},{"$f":"計算結果!#REF!","v":{"$error":"#REF!"}},{"$f":"計算結果!#REF!","v":{"$error":"#REF!"}},{"$f":"計算結果!#REF!","v":{"$error":"#REF!"}},{"$f":"計算結果!#REF!","v":{"$error":"#REF!"}},{"$f":"計算結果!#REF!","v":{"$error":"#REF!"}}]
[{"$f":"入力シート!A1313","v":0},{"$f":"入力シート!G1313","v":0},{"$f":"入力シート!H1313","v":0},{"$f":"IF(入力シート!$J1313<>\"\",入力シート!$J1313,IF(入力シート!$L1313<>\"\",入力シート!$L1313,\"‐\"))","v":"‐"},{"$f":"IF(入力シート!$K1313<>\"\",入力シート!$K1313,IF(入力シート!$M1313<>\"\",入力シート!$M1313,入力シート!$N1313))","v":0},{"$f":"入力シート!I1313","v":0},{"$f":"入力シート!O1313","v":0},{"$f":"IF(入力シート!P1313=\"×\",\"P\",\"PN\")","v":"PN"},{"$f":"計算結果!#REF!","v":{"$error":"#REF!"}},{"$f":"計算結果!#REF!","v":{"$error":"#REF!"}},{"$f":"計算結果!#REF!","v":{"$error":"#REF!"}},{"$f":"計算結果!#REF!","v":{"$error":"#REF!"}},{"$f":"計算結果!#REF!","v":{"$error":"#REF!"}},{"$f":"計算結果!#REF!","v":{"$error":"#REF!"}},{"$f":"計算結果!#REF!","v":{"$error":"#REF!"}},{"$f":"計算結果!#REF!","v":{"$error":"#REF!"}},{"$f":"計算結果!#REF!","v":{"$error":"#REF!"}},{"$f":"計算結果!#REF!","v":{"$error":"#REF!"}}]
[{"$f":"入力シート!A1314","v":0},{"$f":"入力シート!G1314","v":0},{"$f":"入力シート!H1314","v":0},{"$f":"IF(入力シート!$J1314<>\"\",入力シート!$J1314,IF(入力シート!$L1314<>\"\",入力シート!$L1314,\"‐\"))","v":"‐"},{"$f":"IF(入力シート!$K1314<>\"\",入力シート!$K1314,IF(入力シート!$M1314<>\"\",入力シート!$M1314,入力シート!$N1314))","v":0},{"$f":"入力シート!I1314","v":0},{"$f":"入力シート!O1314","v":0},{"$f":"IF(入力シート!P1314=\"×\",\"P\",\"PN\")","v":"PN"},{"$f":"計算結果!#REF!","v":{"$error":"#REF!"}},{"$f":"計算結果!#REF!","v":{"$error":"#REF!"}},{"$f":"計算結果!#REF!","v":{"$error":"#REF!"}},{"$f":"計算結果!#REF!","v":{"$error":"#REF!"}},{"$f":"計算結果!#REF!","v":{"$error":"#REF!"}},{"$f":"計算結果!#REF!","v":{"$error":"#REF!"}},{"$f":"計算結果!#REF!","v":{"$error":"#REF!"}},{"$f":"計算結果!#REF!","v":{"$error":"#REF!"}},{"$f":"計算結果!#REF!","v":{"$error":"#REF!"}},{"$f":"計算結果!#REF!","v":{"$error":"#REF!"}}]
[{"$f":"入力シート!A1315","v":0},{"$f":"入力シート!G1315","v":0},{"$f":"入力シート!H1315","v":0},{"$f":"IF(入力シート!$J1315<>\"\",入力シート!$J1315,IF(入力シート!$L1315<>\"\",入力シート!$L1315,\"‐\"))","v":"‐"},{"$f":"IF(入力シート!$K1315<>\"\",入力シート!$K1315,IF(入力シート!$M1315<>\"\",入力シート!$M1315,入力シート!$N1315))","v":0},{"$f":"入力シート!I1315","v":0},{"$f":"入力シート!O1315","v":0},{"$f":"IF(入力シート!P1315=\"×\",\"P\",\"PN\")","v":"PN"},{"$f":"計算結果!#REF!","v":{"$error":"#REF!"}},{"$f":"計算結果!#REF!","v":{"$error":"#REF!"}},{"$f":"計算結果!#REF!","v":{"$error":"#REF!"}},{"$f":"計算結果!#REF!","v":{"$error":"#REF!"}},{"$f":"計算結果!#REF!","v":{"$error":"#REF!"}},{"$f":"計算結果!#REF!","v":{"$error":"#REF!"}},{"$f":"計算結果!#REF!","v":{"$error":"#REF!"}},{"$f":"計算結果!#REF!","v":{"$error":"#REF!"}},{"$f":"計算結果!#REF!","v":{"$error":"#REF!"}},{"$f":"計算結果!#REF!","v":{"$error":"#REF!"}}]
[{"$f":"入力シート!A1316","v":0},{"$f":"入力シート!G1316","v":0},{"$f":"入力シート!H1316","v":0},{"$f":"IF(入力シート!$J1316<>\"\",入力シート!$J1316,IF(入力シート!$L1316<>\"\",入力シート!$L1316,\"‐\"))","v":"‐"},{"$f":"IF(入力シート!$K1316<>\"\",入力シート!$K1316,IF(入力シート!$M1316<>\"\",入力シート!$M1316,入力シート!$N1316))","v":0},{"$f":"入力シート!I1316","v":0},{"$f":"入力シート!O1316","v":0},{"$f":"IF(入力シート!P1316=\"×\",\"P\",\"PN\")","v":"PN"},{"$f":"計算結果!#REF!","v":{"$error":"#REF!"}},{"$f":"計算結果!#REF!","v":{"$error":"#REF!"}},{"$f":"計算結果!#REF!","v":{"$error":"#REF!"}},{"$f":"計算結果!#REF!","v":{"$error":"#REF!"}},{"$f":"計算結果!#REF!","v":{"$error":"#REF!"}},{"$f":"計算結果!#REF!","v":{"$error":"#REF!"}},{"$f":"計算結果!#REF!","v":{"$error":"#REF!"}},{"$f":"計算結果!#REF!","v":{"$error":"#REF!"}},{"$f":"計算結果!#REF!","v":{"$error":"#REF!"}},{"$f":"計算結果!#REF!","v":{"$error":"#REF!"}}]
[{"$f":"入力シート!A1317","v":0},{"$f":"入力シート!G1317","v":0},{"$f":"入力シート!H1317","v":0},{"$f":"IF(入力シート!$J1317<>\"\",入力シート!$J1317,IF(入力シート!$L1317<>\"\",入力シート!$L1317,\"‐\"))","v":"‐"},{"$f":"IF(入力シート!$K1317<>\"\",入力シート!$K1317,IF(入力シート!$M1317<>\"\",入力シート!$M1317,入力シート!$N1317))","v":0},{"$f":"入力シート!I1317","v":0},{"$f":"入力シート!O1317","v":0},{"$f":"IF(入力シート!P1317=\"×\",\"P\",\"PN\")","v":"PN"},{"$f":"計算結果!#REF!","v":{"$error":"#REF!"}},{"$f":"計算結果!#REF!","v":{"$error":"#REF!"}},{"$f":"計算結果!#REF!","v":{"$error":"#REF!"}},{"$f":"計算結果!#REF!","v":{"$error":"#REF!"}},{"$f":"計算結果!#REF!","v":{"$error":"#REF!"}},{"$f":"計算結果!#REF!","v":{"$error":"#REF!"}},{"$f":"計算結果!#REF!","v":{"$error":"#REF!"}},{"$f":"計算結果!#REF!","v":{"$error":"#REF!"}},{"$f":"計算結果!#REF!","v":{"$error":"#REF!"}},{"$f":"計算結果!#REF!","v":{"$error":"#REF!"}}]
[{"$f":"入力シート!A1318","v":0},{"$f":"入力シート!G1318","v":0},{"$f":"入力シート!H1318","v":0},{"$f":"IF(入力シート!$J1318<>\"\",入力シート!$J1318,IF(入力シート!$L1318<>\"\",入力シート!$L1318,\"‐\"))","v":"‐"},{"$f":"IF(入力シート!$K1318<>\"\",入力シート!$K1318,IF(入力シート!$M1318<>\"\",入力シート!$M1318,入力シート!$N1318))","v":0},{"$f":"入力シート!I1318","v":0},{"$f":"入力シート!O1318","v":0},{"$f":"IF(入力シート!P1318=\"×\",\"P\",\"PN\")","v":"PN"},{"$f":"計算結果!#REF!","v":{"$error":"#REF!"}},{"$f":"計算結果!#REF!","v":{"$error":"#REF!"}},{"$f":"計算結果!#REF!","v":{"$error":"#REF!"}},{"$f":"計算結果!#REF!","v":{"$error":"#REF!"}},{"$f":"計算結果!#REF!","v":{"$error":"#REF!"}},{"$f":"計算結果!#REF!","v":{"$error":"#REF!"}},{"$f":"計算結果!#REF!","v":{"$error":"#REF!"}},{"$f":"計算結果!#REF!","v":{"$error":"#REF!"}},{"$f":"計算結果!#REF!","v":{"$error":"#REF!"}},{"$f":"計算結果!#REF!","v":{"$error":"#REF!"}}]
[{"$f":"入力シート!A1319","v":0},{"$f":"入力シート!G1319","v":0},{"$f":"入力シート!H1319","v":0},{"$f":"IF(入力シート!$J1319<>\"\",入力シート!$J1319,IF(入力シート!$L1319<>\"\",入力シート!$L1319,\"‐\"))","v":"‐"},{"$f":"IF(入力シート!$K1319<>\"\",入力シート!$K1319,IF(入力シート!$M1319<>\"\",入力シート!$M1319,入力シート!$N1319))","v":0},{"$f":"入力シート!I1319","v":0},{"$f":"入力シート!O1319","v":0},{"$f":"IF(入力シート!P1319=\"×\",\"P\",\"PN\")","v":"PN"},{"$f":"計算結果!#REF!","v":{"$error":"#REF!"}},{"$f":"計算結果!#REF!","v":{"$error":"#REF!"}},{"$f":"計算結果!#REF!","v":{"$error":"#REF!"}},{"$f":"計算結果!#REF!","v":{"$error":"#REF!"}},{"$f":"計算結果!#REF!","v":{"$error":"#REF!"}},{"$f":"計算結果!#REF!","v":{"$error":"#REF!"}},{"$f":"計算結果!#REF!","v":{"$error":"#REF!"}},{"$f":"計算結果!#REF!","v":{"$error":"#REF!"}},{"$f":"計算結果!#REF!","v":{"$error":"#REF!"}},{"$f":"計算結果!#REF!","v":{"$error":"#REF!"}}]
[{"$f":"入力シート!A1320","v":0},{"$f":"入力シート!G1320","v":0},{"$f":"入力シート!H1320","v":0},{"$f":"IF(入力シート!$J1320<>\"\",入力シート!$J1320,IF(入力シート!$L1320<>\"\",入力シート!$L1320,\"‐\"))","v":"‐"},{"$f":"IF(入力シート!$K1320<>\"\",入力シート!$K1320,IF(入力シート!$M1320<>\"\",入力シート!$M1320,入力シート!$N1320))","v":0},{"$f":"入力シート!I1320","v":0},{"$f":"入力シート!O1320","v":0},{"$f":"IF(入力シート!P1320=\"×\",\"P\",\"PN\")","v":"PN"},{"$f":"計算結果!#REF!","v":{"$error":"#REF!"}},{"$f":"計算結果!#REF!","v":{"$error":"#REF!"}},{"$f":"計算結果!#REF!","v":{"$error":"#REF!"}},{"$f":"計算結果!#REF!","v":{"$error":"#REF!"}},{"$f":"計算結果!#REF!","v":{"$error":"#REF!"}},{"$f":"計算結果!#REF!","v":{"$error":"#REF!"}},{"$f":"計算結果!#REF!","v":{"$error":"#REF!"}},{"$f":"計算結果!#REF!","v":{"$error":"#REF!"}},{"$f":"計算結果!#REF!","v":{"$error":"#REF!"}},{"$f":"計算結果!#REF!","v":{"$error":"#REF!"}}]
[{"$f":"入力シート!A1321","v":0},{"$f":"入力シート!G1321","v":0},{"$f":"入力シート!H1321","v":0},{"$f":"IF(入力シート!$J1321<>\"\",入力シート!$J1321,IF(入力シート!$L1321<>\"\",入力シート!$L1321,\"‐\"))","v":"‐"},{"$f":"IF(入力シート!$K1321<>\"\",入力シート!$K1321,IF(入力シート!$M1321<>\"\",入力シート!$M1321,入力シート!$N1321))","v":0},{"$f":"入力シート!I1321","v":0},{"$f":"入力シート!O1321","v":0},{"$f":"IF(入力シート!P1321=\"×\",\"P\",\"PN\")","v":"PN"},{"$f":"計算結果!#REF!","v":{"$error":"#REF!"}},{"$f":"計算結果!#REF!","v":{"$error":"#REF!"}},{"$f":"計算結果!#REF!","v":{"$error":"#REF!"}},{"$f":"計算結果!#REF!","v":{"$error":"#REF!"}},{"$f":"計算結果!#REF!","v":{"$error":"#REF!"}},{"$f":"計算結果!#REF!","v":{"$error":"#REF!"}},{"$f":"計算結果!#REF!","v":{"$error":"#REF!"}},{"$f":"計算結果!#REF!","v":{"$error":"#REF!"}},{"$f":"計算結果!#REF!","v":{"$error":"#REF!"}},{"$f":"計算結果!#REF!","v":{"$error":"#REF!"}}]
[{"$f":"入力シート!A1322","v":0},{"$f":"入力シート!G1322","v":0},{"$f":"入力シート!H1322","v":0},{"$f":"IF(入力シート!$J1322<>\"\",入力シート!$J1322,IF(入力シート!$L1322<>\"\",入力シート!$L1322,\"‐\"))","v":"‐"},{"$f":"IF(入力シート!$K1322<>\"\",入力シート!$K1322,IF(入力シート!$M1322<>\"\",入力シート!$M1322,入力シート!$N1322))","v":0},{"$f":"入力シート!I1322","v":0},{"$f":"入力シート!O1322","v":0},{"$f":"IF(入力シート!P1322=\"×\",\"P\",\"PN\")","v":"PN"},{"$f":"計算結果!#REF!","v":{"$error":"#REF!"}},{"$f":"計算結果!#REF!","v":{"$error":"#REF!"}},{"$f":"計算結果!#REF!","v":{"$error":"#REF!"}},{"$f":"計算結果!#REF!","v":{"$error":"#REF!"}},{"$f":"計算結果!#REF!","v":{"$error":"#REF!"}},{"$f":"計算結果!#REF!","v":{"$error":"#REF!"}},{"$f":"計算結果!#REF!","v":{"$error":"#REF!"}},{"$f":"計算結果!#REF!","v":{"$error":"#REF!"}},{"$f":"計算結果!#REF!","v":{"$error":"#REF!"}},{"$f":"計算結果!#REF!","v":{"$error":"#REF!"}}]
[{"$f":"入力シート!A1323","v":0},{"$f":"入力シート!G1323","v":0},{"$f":"入力シート!H1323","v":0},{"$f":"IF(入力シート!$J1323<>\"\",入力シート!$J1323,IF(入力シート!$L1323<>\"\",入力シート!$L1323,\"‐\"))","v":"‐"},{"$f":"IF(入力シート!$K1323<>\"\",入力シート!$K1323,IF(入力シート!$M1323<>\"\",入力シート!$M1323,入力シート!$N1323))","v":0},{"$f":"入力シート!I1323","v":0},{"$f":"入力シート!O1323","v":0},{"$f":"IF(入力シート!P1323=\"×\",\"P\",\"PN\")","v":"PN"},{"$f":"計算結果!#REF!","v":{"$error":"#REF!"}},{"$f":"計算結果!#REF!","v":{"$error":"#REF!"}},{"$f":"計算結果!#REF!","v":{"$error":"#REF!"}},{"$f":"計算結果!#REF!","v":{"$error":"#REF!"}},{"$f":"計算結果!#REF!","v":{"$error":"#REF!"}},{"$f":"計算結果!#REF!","v":{"$error":"#REF!"}},{"$f":"計算結果!#REF!","v":{"$error":"#REF!"}},{"$f":"計算結果!#REF!","v":{"$error":"#REF!"}},{"$f":"計算結果!#REF!","v":{"$error":"#REF!"}},{"$f":"計算結果!#REF!","v":{"$error":"#REF!"}}]
[{"$f":"入力シート!A1324","v":0},{"$f":"入力シート!G1324","v":0},{"$f":"入力シート!H1324","v":0},{"$f":"IF(入力シート!$J1324<>\"\",入力シート!$J1324,IF(入力シート!$L1324<>\"\",入力シート!$L1324,\"‐\"))","v":"‐"},{"$f":"IF(入力シート!$K1324<>\"\",入力シート!$K1324,IF(入力シート!$M1324<>\"\",入力シート!$M1324,入力シート!$N1324))","v":0},{"$f":"入力シート!I1324","v":0},{"$f":"入力シート!O1324","v":0},{"$f":"IF(入力シート!P1324=\"×\",\"P\",\"PN\")","v":"PN"},{"$f":"計算結果!#REF!","v":{"$error":"#REF!"}},{"$f":"計算結果!#REF!","v":{"$error":"#REF!"}},{"$f":"計算結果!#REF!","v":{"$error":"#REF!"}},{"$f":"計算結果!#REF!","v":{"$error":"#REF!"}},{"$f":"計算結果!#REF!","v":{"$error":"#REF!"}},{"$f":"計算結果!#REF!","v":{"$error":"#REF!"}},{"$f":"計算結果!#REF!","v":{"$error":"#REF!"}},{"$f":"計算結果!#REF!","v":{"$error":"#REF!"}},{"$f":"計算結果!#REF!","v":{"$error":"#REF!"}},{"$f":"計算結果!#REF!","v":{"$error":"#REF!"}}]
[{"$f":"入力シート!A1325","v":0},{"$f":"入力シート!G1325","v":0},{"$f":"入力シート!H1325","v":0},{"$f":"IF(入力シート!$J1325<>\"\",入力シート!$J1325,IF(入力シート!$L1325<>\"\",入力シート!$L1325,\"‐\"))","v":"‐"},{"$f":"IF(入力シート!$K1325<>\"\",入力シート!$K1325,IF(入力シート!$M1325<>\"\",入力シート!$M1325,入力シート!$N1325))","v":0},{"$f":"入力シート!I1325","v":0},{"$f":"入力シート!O1325","v":0},{"$f":"IF(入力シート!P1325=\"×\",\"P\",\"PN\")","v":"PN"},{"$f":"計算結果!#REF!","v":{"$error":"#REF!"}},{"$f":"計算結果!#REF!","v":{"$error":"#REF!"}},{"$f":"計算結果!#REF!","v":{"$error":"#REF!"}},{"$f":"計算結果!#REF!","v":{"$error":"#REF!"}},{"$f":"計算結果!#REF!","v":{"$error":"#REF!"}},{"$f":"計算結果!#REF!","v":{"$error":"#REF!"}},{"$f":"計算結果!#REF!","v":{"$error":"#REF!"}},{"$f":"計算結果!#REF!","v":{"$error":"#REF!"}},{"$f":"計算結果!#REF!","v":{"$error":"#REF!"}},{"$f":"計算結果!#REF!","v":{"$error":"#REF!"}}]
[{"$f":"入力シート!A1326","v":0},{"$f":"入力シート!G1326","v":0},{"$f":"入力シート!H1326","v":0},{"$f":"IF(入力シート!$J1326<>\"\",入力シート!$J1326,IF(入力シート!$L1326<>\"\",入力シート!$L1326,\"‐\"))","v":"‐"},{"$f":"IF(入力シート!$K1326<>\"\",入力シート!$K1326,IF(入力シート!$M1326<>\"\",入力シート!$M1326,入力シート!$N1326))","v":0},{"$f":"入力シート!I1326","v":0},{"$f":"入力シート!O1326","v":0},{"$f":"IF(入力シート!P1326=\"×\",\"P\",\"PN\")","v":"PN"},{"$f":"計算結果!#REF!","v":{"$error":"#REF!"}},{"$f":"計算結果!#REF!","v":{"$error":"#REF!"}},{"$f":"計算結果!#REF!","v":{"$error":"#REF!"}},{"$f":"計算結果!#REF!","v":{"$error":"#REF!"}},{"$f":"計算結果!#REF!","v":{"$error":"#REF!"}},{"$f":"計算結果!#REF!","v":{"$error":"#REF!"}},{"$f":"計算結果!#REF!","v":{"$error":"#REF!"}},{"$f":"計算結果!#REF!","v":{"$error":"#REF!"}},{"$f":"計算結果!#REF!","v":{"$error":"#REF!"}},{"$f":"計算結果!#REF!","v":{"$error":"#REF!"}}]
[{"$f":"入力シート!A1327","v":0},{"$f":"入力シート!G1327","v":0},{"$f":"入力シート!H1327","v":0},{"$f":"IF(入力シート!$J1327<>\"\",入力シート!$J1327,IF(入力シート!$L1327<>\"\",入力シート!$L1327,\"‐\"))","v":"‐"},{"$f":"IF(入力シート!$K1327<>\"\",入力シート!$K1327,IF(入力シート!$M1327<>\"\",入力シート!$M1327,入力シート!$N1327))","v":0},{"$f":"入力シート!I1327","v":0},{"$f":"入力シート!O1327","v":0},{"$f":"IF(入力シート!P1327=\"×\",\"P\",\"PN\")","v":"PN"},{"$f":"計算結果!#REF!","v":{"$error":"#REF!"}},{"$f":"計算結果!#REF!","v":{"$error":"#REF!"}},{"$f":"計算結果!#REF!","v":{"$error":"#REF!"}},{"$f":"計算結果!#REF!","v":{"$error":"#REF!"}},{"$f":"計算結果!#REF!","v":{"$error":"#REF!"}},{"$f":"計算結果!#REF!","v":{"$error":"#REF!"}},{"$f":"計算結果!#REF!","v":{"$error":"#REF!"}},{"$f":"計算結果!#REF!","v":{"$error":"#REF!"}},{"$f":"計算結果!#REF!","v":{"$error":"#REF!"}},{"$f":"計算結果!#REF!","v":{"$error":"#REF!"}}]
[{"$f":"入力シート!A1328","v":0},{"$f":"入力シート!G1328","v":0},{"$f":"入力シート!H1328","v":0},{"$f":"IF(入力シート!$J1328<>\"\",入力シート!$J1328,IF(入力シート!$L1328<>\"\",入力シート!$L1328,\"‐\"))","v":"‐"},{"$f":"IF(入力シート!$K1328<>\"\",入力シート!$K1328,IF(入力シート!$M1328<>\"\",入力シート!$M1328,入力シート!$N1328))","v":0},{"$f":"入力シート!I1328","v":0},{"$f":"入力シート!O1328","v":0},{"$f":"IF(入力シート!P1328=\"×\",\"P\",\"PN\")","v":"PN"},{"$f":"計算結果!#REF!","v":{"$error":"#REF!"}},{"$f":"計算結果!#REF!","v":{"$error":"#REF!"}},{"$f":"計算結果!#REF!","v":{"$error":"#REF!"}},{"$f":"計算結果!#REF!","v":{"$error":"#REF!"}},{"$f":"計算結果!#REF!","v":{"$error":"#REF!"}},{"$f":"計算結果!#REF!","v":{"$error":"#REF!"}},{"$f":"計算結果!#REF!","v":{"$error":"#REF!"}},{"$f":"計算結果!#REF!","v":{"$error":"#REF!"}},{"$f":"計算結果!#REF!","v":{"$error":"#REF!"}},{"$f":"計算結果!#REF!","v":{"$error":"#REF!"}}]
[{"$f":"入力シート!A1329","v":0},{"$f":"入力シート!G1329","v":0},{"$f":"入力シート!H1329","v":0},{"$f":"IF(入力シート!$J1329<>\"\",入力シート!$J1329,IF(入力シート!$L1329<>\"\",入力シート!$L1329,\"‐\"))","v":"‐"},{"$f":"IF(入力シート!$K1329<>\"\",入力シート!$K1329,IF(入力シート!$M1329<>\"\",入力シート!$M1329,入力シート!$N1329))","v":0},{"$f":"入力シート!I1329","v":0},{"$f":"入力シート!O1329","v":0},{"$f":"IF(入力シート!P1329=\"×\",\"P\",\"PN\")","v":"PN"},{"$f":"計算結果!#REF!","v":{"$error":"#REF!"}},{"$f":"計算結果!#REF!","v":{"$error":"#REF!"}},{"$f":"計算結果!#REF!","v":{"$error":"#REF!"}},{"$f":"計算結果!#REF!","v":{"$error":"#REF!"}},{"$f":"計算結果!#REF!","v":{"$error":"#REF!"}},{"$f":"計算結果!#REF!","v":{"$error":"#REF!"}},{"$f":"計算結果!#REF!","v":{"$error":"#REF!"}},{"$f":"計算結果!#REF!","v":{"$error":"#REF!"}},{"$f":"計算結果!#REF!","v":{"$error":"#REF!"}},{"$f":"計算結果!#REF!","v":{"$error":"#REF!"}}]
[{"$f":"入力シート!A1330","v":0},{"$f":"入力シート!G1330","v":0},{"$f":"入力シート!H1330","v":0},{"$f":"IF(入力シート!$J1330<>\"\",入力シート!$J1330,IF(入力シート!$L1330<>\"\",入力シート!$L1330,\"‐\"))","v":"‐"},{"$f":"IF(入力シート!$K1330<>\"\",入力シート!$K1330,IF(入力シート!$M1330<>\"\",入力シート!$M1330,入力シート!$N1330))","v":0},{"$f":"入力シート!I1330","v":0},{"$f":"入力シート!O1330","v":0},{"$f":"IF(入力シート!P1330=\"×\",\"P\",\"PN\")","v":"PN"},{"$f":"計算結果!#REF!","v":{"$error":"#REF!"}},{"$f":"計算結果!#REF!","v":{"$error":"#REF!"}},{"$f":"計算結果!#REF!","v":{"$error":"#REF!"}},{"$f":"計算結果!#REF!","v":{"$error":"#REF!"}},{"$f":"計算結果!#REF!","v":{"$error":"#REF!"}},{"$f":"計算結果!#REF!","v":{"$error":"#REF!"}},{"$f":"計算結果!#REF!","v":{"$error":"#REF!"}},{"$f":"計算結果!#REF!","v":{"$error":"#REF!"}},{"$f":"計算結果!#REF!","v":{"$error":"#REF!"}},{"$f":"計算結果!#REF!","v":{"$error":"#REF!"}}]
[{"$f":"入力シート!A1331","v":0},{"$f":"入力シート!G1331","v":0},{"$f":"入力シート!H1331","v":0},{"$f":"IF(入力シート!$J1331<>\"\",入力シート!$J1331,IF(入力シート!$L1331<>\"\",入力シート!$L1331,\"‐\"))","v":"‐"},{"$f":"IF(入力シート!$K1331<>\"\",入力シート!$K1331,IF(入力シート!$M1331<>\"\",入力シート!$M1331,入力シート!$N1331))","v":0},{"$f":"入力シート!I1331","v":0},{"$f":"入力シート!O1331","v":0},{"$f":"IF(入力シート!P1331=\"×\",\"P\",\"PN\")","v":"PN"},{"$f":"計算結果!#REF!","v":{"$error":"#REF!"}},{"$f":"計算結果!#REF!","v":{"$error":"#REF!"}},{"$f":"計算結果!#REF!","v":{"$error":"#REF!"}},{"$f":"計算結果!#REF!","v":{"$error":"#REF!"}},{"$f":"計算結果!#REF!","v":{"$error":"#REF!"}},{"$f":"計算結果!#REF!","v":{"$error":"#REF!"}},{"$f":"計算結果!#REF!","v":{"$error":"#REF!"}},{"$f":"計算結果!#REF!","v":{"$error":"#REF!"}},{"$f":"計算結果!#REF!","v":{"$error":"#REF!"}},{"$f":"計算結果!#REF!","v":{"$error":"#REF!"}}]
[{"$f":"入力シート!A1332","v":0},{"$f":"入力シート!G1332","v":0},{"$f":"入力シート!H1332","v":0},{"$f":"IF(入力シート!$J1332<>\"\",入力シート!$J1332,IF(入力シート!$L1332<>\"\",入力シート!$L1332,\"‐\"))","v":"‐"},{"$f":"IF(入力シート!$K1332<>\"\",入力シート!$K1332,IF(入力シート!$M1332<>\"\",入力シート!$M1332,入力シート!$N1332))","v":0},{"$f":"入力シート!I1332","v":0},{"$f":"入力シート!O1332","v":0},{"$f":"IF(入力シート!P1332=\"×\",\"P\",\"PN\")","v":"PN"},{"$f":"計算結果!#REF!","v":{"$error":"#REF!"}},{"$f":"計算結果!#REF!","v":{"$error":"#REF!"}},{"$f":"計算結果!#REF!","v":{"$error":"#REF!"}},{"$f":"計算結果!#REF!","v":{"$error":"#REF!"}},{"$f":"計算結果!#REF!","v":{"$error":"#REF!"}},{"$f":"計算結果!#REF!","v":{"$error":"#REF!"}},{"$f":"計算結果!#REF!","v":{"$error":"#REF!"}},{"$f":"計算結果!#REF!","v":{"$error":"#REF!"}},{"$f":"計算結果!#REF!","v":{"$error":"#REF!"}},{"$f":"計算結果!#REF!","v":{"$error":"#REF!"}}]
[{"$f":"入力シート!A1333","v":0},{"$f":"入力シート!G1333","v":0},{"$f":"入力シート!H1333","v":0},{"$f":"IF(入力シート!$J1333<>\"\",入力シート!$J1333,IF(入力シート!$L1333<>\"\",入力シート!$L1333,\"‐\"))","v":"‐"},{"$f":"IF(入力シート!$K1333<>\"\",入力シート!$K1333,IF(入力シート!$M1333<>\"\",入力シート!$M1333,入力シート!$N1333))","v":0},{"$f":"入力シート!I1333","v":0},{"$f":"入力シート!O1333","v":0},{"$f":"IF(入力シート!P1333=\"×\",\"P\",\"PN\")","v":"PN"},{"$f":"計算結果!#REF!","v":{"$error":"#REF!"}},{"$f":"計算結果!#REF!","v":{"$error":"#REF!"}},{"$f":"計算結果!#REF!","v":{"$error":"#REF!"}},{"$f":"計算結果!#REF!","v":{"$error":"#REF!"}},{"$f":"計算結果!#REF!","v":{"$error":"#REF!"}},{"$f":"計算結果!#REF!","v":{"$error":"#REF!"}},{"$f":"計算結果!#REF!","v":{"$error":"#REF!"}},{"$f":"計算結果!#REF!","v":{"$error":"#REF!"}},{"$f":"計算結果!#REF!","v":{"$error":"#REF!"}},{"$f":"計算結果!#REF!","v":{"$error":"#REF!"}}]
[{"$f":"入力シート!A1334","v":0},{"$f":"入力シート!G1334","v":0},{"$f":"入力シート!H1334","v":0},{"$f":"IF(入力シート!$J1334<>\"\",入力シート!$J1334,IF(入力シート!$L1334<>\"\",入力シート!$L1334,\"‐\"))","v":"‐"},{"$f":"IF(入力シート!$K1334<>\"\",入力シート!$K1334,IF(入力シート!$M1334<>\"\",入力シート!$M1334,入力シート!$N1334))","v":0},{"$f":"入力シート!I1334","v":0},{"$f":"入力シート!O1334","v":0},{"$f":"IF(入力シート!P1334=\"×\",\"P\",\"PN\")","v":"PN"},{"$f":"計算結果!#REF!","v":{"$error":"#REF!"}},{"$f":"計算結果!#REF!","v":{"$error":"#REF!"}},{"$f":"計算結果!#REF!","v":{"$error":"#REF!"}},{"$f":"計算結果!#REF!","v":{"$error":"#REF!"}},{"$f":"計算結果!#REF!","v":{"$error":"#REF!"}},{"$f":"計算結果!#REF!","v":{"$error":"#REF!"}},{"$f":"計算結果!#REF!","v":{"$error":"#REF!"}},{"$f":"計算結果!#REF!","v":{"$error":"#REF!"}},{"$f":"計算結果!#REF!","v":{"$error":"#REF!"}},{"$f":"計算結果!#REF!","v":{"$error":"#REF!"}}]
[{"$f":"入力シート!A1335","v":0},{"$f":"入力シート!G1335","v":0},{"$f":"入力シート!H1335","v":0},{"$f":"IF(入力シート!$J1335<>\"\",入力シート!$J1335,IF(入力シート!$L1335<>\"\",入力シート!$L1335,\"‐\"))","v":"‐"},{"$f":"IF(入力シート!$K1335<>\"\",入力シート!$K1335,IF(入力シート!$M1335<>\"\",入力シート!$M1335,入力シート!$N1335))","v":0},{"$f":"入力シート!I1335","v":0},{"$f":"入力シート!O1335","v":0},{"$f":"IF(入力シート!P1335=\"×\",\"P\",\"PN\")","v":"PN"},{"$f":"計算結果!#REF!","v":{"$error":"#REF!"}},{"$f":"計算結果!#REF!","v":{"$error":"#REF!"}},{"$f":"計算結果!#REF!","v":{"$error":"#REF!"}},{"$f":"計算結果!#REF!","v":{"$error":"#REF!"}},{"$f":"計算結果!#REF!","v":{"$error":"#REF!"}},{"$f":"計算結果!#REF!","v":{"$error":"#REF!"}},{"$f":"計算結果!#REF!","v":{"$error":"#REF!"}},{"$f":"計算結果!#REF!","v":{"$error":"#REF!"}},{"$f":"計算結果!#REF!","v":{"$error":"#REF!"}},{"$f":"計算結果!#REF!","v":{"$error":"#REF!"}}]
[{"$f":"入力シート!A1336","v":0},{"$f":"入力シート!G1336","v":0},{"$f":"入力シート!H1336","v":0},{"$f":"IF(入力シート!$J1336<>\"\",入力シート!$J1336,IF(入力シート!$L1336<>\"\",入力シート!$L1336,\"‐\"))","v":"‐"},{"$f":"IF(入力シート!$K1336<>\"\",入力シート!$K1336,IF(入力シート!$M1336<>\"\",入力シート!$M1336,入力シート!$N1336))","v":0},{"$f":"入力シート!I1336","v":0},{"$f":"入力シート!O1336","v":0},{"$f":"IF(入力シート!P1336=\"×\",\"P\",\"PN\")","v":"PN"},{"$f":"計算結果!#REF!","v":{"$error":"#REF!"}},{"$f":"計算結果!#REF!","v":{"$error":"#REF!"}},{"$f":"計算結果!#REF!","v":{"$error":"#REF!"}},{"$f":"計算結果!#REF!","v":{"$error":"#REF!"}},{"$f":"計算結果!#REF!","v":{"$error":"#REF!"}},{"$f":"計算結果!#REF!","v":{"$error":"#REF!"}},{"$f":"計算結果!#REF!","v":{"$error":"#REF!"}},{"$f":"計算結果!#REF!","v":{"$error":"#REF!"}},{"$f":"計算結果!#REF!","v":{"$error":"#REF!"}},{"$f":"計算結果!#REF!","v":{"$error":"#REF!"}}]
[{"$f":"入力シート!A1337","v":0},{"$f":"入力シート!G1337","v":0},{"$f":"入力シート!H1337","v":0},{"$f":"IF(入力シート!$J1337<>\"\",入力シート!$J1337,IF(入力シート!$L1337<>\"\",入力シート!$L1337,\"‐\"))","v":"‐"},{"$f":"IF(入力シート!$K1337<>\"\",入力シート!$K1337,IF(入力シート!$M1337<>\"\",入力シート!$M1337,入力シート!$N1337))","v":0},{"$f":"入力シート!I1337","v":0},{"$f":"入力シート!O1337","v":0},{"$f":"IF(入力シート!P1337=\"×\",\"P\",\"PN\")","v":"PN"},{"$f":"計算結果!#REF!","v":{"$error":"#REF!"}},{"$f":"計算結果!#REF!","v":{"$error":"#REF!"}},{"$f":"計算結果!#REF!","v":{"$error":"#REF!"}},{"$f":"計算結果!#REF!","v":{"$error":"#REF!"}},{"$f":"計算結果!#REF!","v":{"$error":"#REF!"}},{"$f":"計算結果!#REF!","v":{"$error":"#REF!"}},{"$f":"計算結果!#REF!","v":{"$error":"#REF!"}},{"$f":"計算結果!#REF!","v":{"$error":"#REF!"}},{"$f":"計算結果!#REF!","v":{"$error":"#REF!"}},{"$f":"計算結果!#REF!","v":{"$error":"#REF!"}}]
[{"$f":"入力シート!A1338","v":0},{"$f":"入力シート!G1338","v":0},{"$f":"入力シート!H1338","v":0},{"$f":"IF(入力シート!$J1338<>\"\",入力シート!$J1338,IF(入力シート!$L1338<>\"\",入力シート!$L1338,\"‐\"))","v":"‐"},{"$f":"IF(入力シート!$K1338<>\"\",入力シート!$K1338,IF(入力シート!$M1338<>\"\",入力シート!$M1338,入力シート!$N1338))","v":0},{"$f":"入力シート!I1338","v":0},{"$f":"入力シート!O1338","v":0},{"$f":"IF(入力シート!P1338=\"×\",\"P\",\"PN\")","v":"PN"},{"$f":"計算結果!#REF!","v":{"$error":"#REF!"}},{"$f":"計算結果!#REF!","v":{"$error":"#REF!"}},{"$f":"計算結果!#REF!","v":{"$error":"#REF!"}},{"$f":"計算結果!#REF!","v":{"$error":"#REF!"}},{"$f":"計算結果!#REF!","v":{"$error":"#REF!"}},{"$f":"計算結果!#REF!","v":{"$error":"#REF!"}},{"$f":"計算結果!#REF!","v":{"$error":"#REF!"}},{"$f":"計算結果!#REF!","v":{"$error":"#REF!"}},{"$f":"計算結果!#REF!","v":{"$error":"#REF!"}},{"$f":"計算結果!#REF!","v":{"$error":"#REF!"}}]
[{"$f":"入力シート!A1339","v":0},{"$f":"入力シート!G1339","v":0},{"$f":"入力シート!H1339","v":0},{"$f":"IF(入力シート!$J1339<>\"\",入力シート!$J1339,IF(入力シート!$L1339<>\"\",入力シート!$L1339,\"‐\"))","v":"‐"},{"$f":"IF(入力シート!$K1339<>\"\",入力シート!$K1339,IF(入力シート!$M1339<>\"\",入力シート!$M1339,入力シート!$N1339))","v":0},{"$f":"入力シート!I1339","v":0},{"$f":"入力シート!O1339","v":0},{"$f":"IF(入力シート!P1339=\"×\",\"P\",\"PN\")","v":"PN"},{"$f":"計算結果!#REF!","v":{"$error":"#REF!"}},{"$f":"計算結果!#REF!","v":{"$error":"#REF!"}},{"$f":"計算結果!#REF!","v":{"$error":"#REF!"}},{"$f":"計算結果!#REF!","v":{"$error":"#REF!"}},{"$f":"計算結果!#REF!","v":{"$error":"#REF!"}},{"$f":"計算結果!#REF!","v":{"$error":"#REF!"}},{"$f":"計算結果!#REF!","v":{"$error":"#REF!"}},{"$f":"計算結果!#REF!","v":{"$error":"#REF!"}},{"$f":"計算結果!#REF!","v":{"$error":"#REF!"}},{"$f":"計算結果!#REF!","v":{"$error":"#REF!"}}]
[{"$f":"入力シート!A1340","v":0},{"$f":"入力シート!G1340","v":0},{"$f":"入力シート!H1340","v":0},{"$f":"IF(入力シート!$J1340<>\"\",入力シート!$J1340,IF(入力シート!$L1340<>\"\",入力シート!$L1340,\"‐\"))","v":"‐"},{"$f":"IF(入力シート!$K1340<>\"\",入力シート!$K1340,IF(入力シート!$M1340<>\"\",入力シート!$M1340,入力シート!$N1340))","v":0},{"$f":"入力シート!I1340","v":0},{"$f":"入力シート!O1340","v":0},{"$f":"IF(入力シート!P1340=\"×\",\"P\",\"PN\")","v":"PN"},{"$f":"計算結果!#REF!","v":{"$error":"#REF!"}},{"$f":"計算結果!#REF!","v":{"$error":"#REF!"}},{"$f":"計算結果!#REF!","v":{"$error":"#REF!"}},{"$f":"計算結果!#REF!","v":{"$error":"#REF!"}},{"$f":"計算結果!#REF!","v":{"$error":"#REF!"}},{"$f":"計算結果!#REF!","v":{"$error":"#REF!"}},{"$f":"計算結果!#REF!","v":{"$error":"#REF!"}},{"$f":"計算結果!#REF!","v":{"$error":"#REF!"}},{"$f":"計算結果!#REF!","v":{"$error":"#REF!"}},{"$f":"計算結果!#REF!","v":{"$error":"#REF!"}}]
[{"$f":"入力シート!A1341","v":0},{"$f":"入力シート!G1341","v":0},{"$f":"入力シート!H1341","v":0},{"$f":"IF(入力シート!$J1341<>\"\",入力シート!$J1341,IF(入力シート!$L1341<>\"\",入力シート!$L1341,\"‐\"))","v":"‐"},{"$f":"IF(入力シート!$K1341<>\"\",入力シート!$K1341,IF(入力シート!$M1341<>\"\",入力シート!$M1341,入力シート!$N1341))","v":0},{"$f":"入力シート!I1341","v":0},{"$f":"入力シート!O1341","v":0},{"$f":"IF(入力シート!P1341=\"×\",\"P\",\"PN\")","v":"PN"},{"$f":"計算結果!#REF!","v":{"$error":"#REF!"}},{"$f":"計算結果!#REF!","v":{"$error":"#REF!"}},{"$f":"計算結果!#REF!","v":{"$error":"#REF!"}},{"$f":"計算結果!#REF!","v":{"$error":"#REF!"}},{"$f":"計算結果!#REF!","v":{"$error":"#REF!"}},{"$f":"計算結果!#REF!","v":{"$error":"#REF!"}},{"$f":"計算結果!#REF!","v":{"$error":"#REF!"}},{"$f":"計算結果!#REF!","v":{"$error":"#REF!"}},{"$f":"計算結果!#REF!","v":{"$error":"#REF!"}},{"$f":"計算結果!#REF!","v":{"$error":"#REF!"}}]
[{"$f":"入力シート!A1342","v":0},{"$f":"入力シート!G1342","v":0},{"$f":"入力シート!H1342","v":0},{"$f":"IF(入力シート!$J1342<>\"\",入力シート!$J1342,IF(入力シート!$L1342<>\"\",入力シート!$L1342,\"‐\"))","v":"‐"},{"$f":"IF(入力シート!$K1342<>\"\",入力シート!$K1342,IF(入力シート!$M1342<>\"\",入力シート!$M1342,入力シート!$N1342))","v":0},{"$f":"入力シート!I1342","v":0},{"$f":"入力シート!O1342","v":0},{"$f":"IF(入力シート!P1342=\"×\",\"P\",\"PN\")","v":"PN"},{"$f":"計算結果!#REF!","v":{"$error":"#REF!"}},{"$f":"計算結果!#REF!","v":{"$error":"#REF!"}},{"$f":"計算結果!#REF!","v":{"$error":"#REF!"}},{"$f":"計算結果!#REF!","v":{"$error":"#REF!"}},{"$f":"計算結果!#REF!","v":{"$error":"#REF!"}},{"$f":"計算結果!#REF!","v":{"$error":"#REF!"}},{"$f":"計算結果!#REF!","v":{"$error":"#REF!"}},{"$f":"計算結果!#REF!","v":{"$error":"#REF!"}},{"$f":"計算結果!#REF!","v":{"$error":"#REF!"}},{"$f":"計算結果!#REF!","v":{"$error":"#REF!"}}]
[{"$f":"入力シート!A1343","v":0},{"$f":"入力シート!G1343","v":0},{"$f":"入力シート!H1343","v":0},{"$f":"IF(入力シート!$J1343<>\"\",入力シート!$J1343,IF(入力シート!$L1343<>\"\",入力シート!$L1343,\"‐\"))","v":"‐"},{"$f":"IF(入力シート!$K1343<>\"\",入力シート!$K1343,IF(入力シート!$M1343<>\"\",入力シート!$M1343,入力シート!$N1343))","v":0},{"$f":"入力シート!I1343","v":0},{"$f":"入力シート!O1343","v":0},{"$f":"IF(入力シート!P1343=\"×\",\"P\",\"PN\")","v":"PN"},{"$f":"計算結果!#REF!","v":{"$error":"#REF!"}},{"$f":"計算結果!#REF!","v":{"$error":"#REF!"}},{"$f":"計算結果!#REF!","v":{"$error":"#REF!"}},{"$f":"計算結果!#REF!","v":{"$error":"#REF!"}},{"$f":"計算結果!#REF!","v":{"$error":"#REF!"}},{"$f":"計算結果!#REF!","v":{"$error":"#REF!"}},{"$f":"計算結果!#REF!","v":{"$error":"#REF!"}},{"$f":"計算結果!#REF!","v":{"$error":"#REF!"}},{"$f":"計算結果!#REF!","v":{"$error":"#REF!"}},{"$f":"計算結果!#REF!","v":{"$error":"#REF!"}}]
[{"$f":"入力シート!A1344","v":0},{"$f":"入力シート!G1344","v":0},{"$f":"入力シート!H1344","v":0},{"$f":"IF(入力シート!$J1344<>\"\",入力シート!$J1344,IF(入力シート!$L1344<>\"\",入力シート!$L1344,\"‐\"))","v":"‐"},{"$f":"IF(入力シート!$K1344<>\"\",入力シート!$K1344,IF(入力シート!$M1344<>\"\",入力シート!$M1344,入力シート!$N1344))","v":0},{"$f":"入力シート!I1344","v":0},{"$f":"入力シート!O1344","v":0},{"$f":"IF(入力シート!P1344=\"×\",\"P\",\"PN\")","v":"PN"},{"$f":"計算結果!#REF!","v":{"$error":"#REF!"}},{"$f":"計算結果!#REF!","v":{"$error":"#REF!"}},{"$f":"計算結果!#REF!","v":{"$error":"#REF!"}},{"$f":"計算結果!#REF!","v":{"$error":"#REF!"}},{"$f":"計算結果!#REF!","v":{"$error":"#REF!"}},{"$f":"計算結果!#REF!","v":{"$error":"#REF!"}},{"$f":"計算結果!#REF!","v":{"$error":"#REF!"}},{"$f":"計算結果!#REF!","v":{"$error":"#REF!"}},{"$f":"計算結果!#REF!","v":{"$error":"#REF!"}},{"$f":"計算結果!#REF!","v":{"$error":"#REF!"}}]
[{"$f":"入力シート!A1345","v":0},{"$f":"入力シート!G1345","v":0},{"$f":"入力シート!H1345","v":0},{"$f":"IF(入力シート!$J1345<>\"\",入力シート!$J1345,IF(入力シート!$L1345<>\"\",入力シート!$L1345,\"‐\"))","v":"‐"},{"$f":"IF(入力シート!$K1345<>\"\",入力シート!$K1345,IF(入力シート!$M1345<>\"\",入力シート!$M1345,入力シート!$N1345))","v":0},{"$f":"入力シート!I1345","v":0},{"$f":"入力シート!O1345","v":0},{"$f":"IF(入力シート!P1345=\"×\",\"P\",\"PN\")","v":"PN"},{"$f":"計算結果!#REF!","v":{"$error":"#REF!"}},{"$f":"計算結果!#REF!","v":{"$error":"#REF!"}},{"$f":"計算結果!#REF!","v":{"$error":"#REF!"}},{"$f":"計算結果!#REF!","v":{"$error":"#REF!"}},{"$f":"計算結果!#REF!","v":{"$error":"#REF!"}},{"$f":"計算結果!#REF!","v":{"$error":"#REF!"}},{"$f":"計算結果!#REF!","v":{"$error":"#REF!"}},{"$f":"計算結果!#REF!","v":{"$error":"#REF!"}},{"$f":"計算結果!#REF!","v":{"$error":"#REF!"}},{"$f":"計算結果!#REF!","v":{"$error":"#REF!"}}]
[{"$f":"入力シート!A1346","v":0},{"$f":"入力シート!G1346","v":0},{"$f":"入力シート!H1346","v":0},{"$f":"IF(入力シート!$J1346<>\"\",入力シート!$J1346,IF(入力シート!$L1346<>\"\",入力シート!$L1346,\"‐\"))","v":"‐"},{"$f":"IF(入力シート!$K1346<>\"\",入力シート!$K1346,IF(入力シート!$M1346<>\"\",入力シート!$M1346,入力シート!$N1346))","v":0},{"$f":"入力シート!I1346","v":0},{"$f":"入力シート!O1346","v":0},{"$f":"IF(入力シート!P1346=\"×\",\"P\",\"PN\")","v":"PN"},{"$f":"計算結果!#REF!","v":{"$error":"#REF!"}},{"$f":"計算結果!#REF!","v":{"$error":"#REF!"}},{"$f":"計算結果!#REF!","v":{"$error":"#REF!"}},{"$f":"計算結果!#REF!","v":{"$error":"#REF!"}},{"$f":"計算結果!#REF!","v":{"$error":"#REF!"}},{"$f":"計算結果!#REF!","v":{"$error":"#REF!"}},{"$f":"計算結果!#REF!","v":{"$error":"#REF!"}},{"$f":"計算結果!#REF!","v":{"$error":"#REF!"}},{"$f":"計算結果!#REF!","v":{"$error":"#REF!"}},{"$f":"計算結果!#REF!","v":{"$error":"#REF!"}}]
[{"$f":"入力シート!A1347","v":0},{"$f":"入力シート!G1347","v":0},{"$f":"入力シート!H1347","v":0},{"$f":"IF(入力シート!$J1347<>\"\",入力シート!$J1347,IF(入力シート!$L1347<>\"\",入力シート!$L1347,\"‐\"))","v":"‐"},{"$f":"IF(入力シート!$K1347<>\"\",入力シート!$K1347,IF(入力シート!$M1347<>\"\",入力シート!$M1347,入力シート!$N1347))","v":0},{"$f":"入力シート!I1347","v":0},{"$f":"入力シート!O1347","v":0},{"$f":"IF(入力シート!P1347=\"×\",\"P\",\"PN\")","v":"PN"},{"$f":"計算結果!#REF!","v":{"$error":"#REF!"}},{"$f":"計算結果!#REF!","v":{"$error":"#REF!"}},{"$f":"計算結果!#REF!","v":{"$error":"#REF!"}},{"$f":"計算結果!#REF!","v":{"$error":"#REF!"}},{"$f":"計算結果!#REF!","v":{"$error":"#REF!"}},{"$f":"計算結果!#REF!","v":{"$error":"#REF!"}},{"$f":"計算結果!#REF!","v":{"$error":"#REF!"}},{"$f":"計算結果!#REF!","v":{"$error":"#REF!"}},{"$f":"計算結果!#REF!","v":{"$error":"#REF!"}},{"$f":"計算結果!#REF!","v":{"$error":"#REF!"}}]
[{"$f":"入力シート!A1348","v":0},{"$f":"入力シート!G1348","v":0},{"$f":"入力シート!H1348","v":0},{"$f":"IF(入力シート!$J1348<>\"\",入力シート!$J1348,IF(入力シート!$L1348<>\"\",入力シート!$L1348,\"‐\"))","v":"‐"},{"$f":"IF(入力シート!$K1348<>\"\",入力シート!$K1348,IF(入力シート!$M1348<>\"\",入力シート!$M1348,入力シート!$N1348))","v":0},{"$f":"入力シート!I1348","v":0},{"$f":"入力シート!O1348","v":0},{"$f":"IF(入力シート!P1348=\"×\",\"P\",\"PN\")","v":"PN"},{"$f":"計算結果!#REF!","v":{"$error":"#REF!"}},{"$f":"計算結果!#REF!","v":{"$error":"#REF!"}},{"$f":"計算結果!#REF!","v":{"$error":"#REF!"}},{"$f":"計算結果!#REF!","v":{"$error":"#REF!"}},{"$f":"計算結果!#REF!","v":{"$error":"#REF!"}},{"$f":"計算結果!#REF!","v":{"$error":"#REF!"}},{"$f":"計算結果!#REF!","v":{"$error":"#REF!"}},{"$f":"計算結果!#REF!","v":{"$error":"#REF!"}},{"$f":"計算結果!#REF!","v":{"$error":"#REF!"}},{"$f":"計算結果!#REF!","v":{"$error":"#REF!"}}]
[{"$f":"入力シート!A1349","v":0},{"$f":"入力シート!G1349","v":0},{"$f":"入力シート!H1349","v":0},{"$f":"IF(入力シート!$J1349<>\"\",入力シート!$J1349,IF(入力シート!$L1349<>\"\",入力シート!$L1349,\"‐\"))","v":"‐"},{"$f":"IF(入力シート!$K1349<>\"\",入力シート!$K1349,IF(入力シート!$M1349<>\"\",入力シート!$M1349,入力シート!$N1349))","v":0},{"$f":"入力シート!I1349","v":0},{"$f":"入力シート!O1349","v":0},{"$f":"IF(入力シート!P1349=\"×\",\"P\",\"PN\")","v":"PN"},{"$f":"計算結果!#REF!","v":{"$error":"#REF!"}},{"$f":"計算結果!#REF!","v":{"$error":"#REF!"}},{"$f":"計算結果!#REF!","v":{"$error":"#REF!"}},{"$f":"計算結果!#REF!","v":{"$error":"#REF!"}},{"$f":"計算結果!#REF!","v":{"$error":"#REF!"}},{"$f":"計算結果!#REF!","v":{"$error":"#REF!"}},{"$f":"計算結果!#REF!","v":{"$error":"#REF!"}},{"$f":"計算結果!#REF!","v":{"$error":"#REF!"}},{"$f":"計算結果!#REF!","v":{"$error":"#REF!"}},{"$f":"計算結果!#REF!","v":{"$error":"#REF!"}}]
[{"$f":"入力シート!A1350","v":0},{"$f":"入力シート!G1350","v":0},{"$f":"入力シート!H1350","v":0},{"$f":"IF(入力シート!$J1350<>\"\",入力シート!$J1350,IF(入力シート!$L1350<>\"\",入力シート!$L1350,\"‐\"))","v":"‐"},{"$f":"IF(入力シート!$K1350<>\"\",入力シート!$K1350,IF(入力シート!$M1350<>\"\",入力シート!$M1350,入力シート!$N1350))","v":0},{"$f":"入力シート!I1350","v":0},{"$f":"入力シート!O1350","v":0},{"$f":"IF(入力シート!P1350=\"×\",\"P\",\"PN\")","v":"PN"},{"$f":"計算結果!#REF!","v":{"$error":"#REF!"}},{"$f":"計算結果!#REF!","v":{"$error":"#REF!"}},{"$f":"計算結果!#REF!","v":{"$error":"#REF!"}},{"$f":"計算結果!#REF!","v":{"$error":"#REF!"}},{"$f":"計算結果!#REF!","v":{"$error":"#REF!"}},{"$f":"計算結果!#REF!","v":{"$error":"#REF!"}},{"$f":"計算結果!#REF!","v":{"$error":"#REF!"}},{"$f":"計算結果!#REF!","v":{"$error":"#REF!"}},{"$f":"計算結果!#REF!","v":{"$error":"#REF!"}},{"$f":"計算結果!#REF!","v":{"$error":"#REF!"}}]
[{"$f":"入力シート!A1351","v":0},{"$f":"入力シート!G1351","v":0},{"$f":"入力シート!H1351","v":0},{"$f":"IF(入力シート!$J1351<>\"\",入力シート!$J1351,IF(入力シート!$L1351<>\"\",入力シート!$L1351,\"‐\"))","v":"‐"},{"$f":"IF(入力シート!$K1351<>\"\",入力シート!$K1351,IF(入力シート!$M1351<>\"\",入力シート!$M1351,入力シート!$N1351))","v":0},{"$f":"入力シート!I1351","v":0},{"$f":"入力シート!O1351","v":0},{"$f":"IF(入力シート!P1351=\"×\",\"P\",\"PN\")","v":"PN"},{"$f":"計算結果!#REF!","v":{"$error":"#REF!"}},{"$f":"計算結果!#REF!","v":{"$error":"#REF!"}},{"$f":"計算結果!#REF!","v":{"$error":"#REF!"}},{"$f":"計算結果!#REF!","v":{"$error":"#REF!"}},{"$f":"計算結果!#REF!","v":{"$error":"#REF!"}},{"$f":"計算結果!#REF!","v":{"$error":"#REF!"}},{"$f":"計算結果!#REF!","v":{"$error":"#REF!"}},{"$f":"計算結果!#REF!","v":{"$error":"#REF!"}},{"$f":"計算結果!#REF!","v":{"$error":"#REF!"}},{"$f":"計算結果!#REF!","v":{"$error":"#REF!"}}]
[{"$f":"入力シート!A1352","v":0},{"$f":"入力シート!G1352","v":0},{"$f":"入力シート!H1352","v":0},{"$f":"IF(入力シート!$J1352<>\"\",入力シート!$J1352,IF(入力シート!$L1352<>\"\",入力シート!$L1352,\"‐\"))","v":"‐"},{"$f":"IF(入力シート!$K1352<>\"\",入力シート!$K1352,IF(入力シート!$M1352<>\"\",入力シート!$M1352,入力シート!$N1352))","v":0},{"$f":"入力シート!I1352","v":0},{"$f":"入力シート!O1352","v":0},{"$f":"IF(入力シート!P1352=\"×\",\"P\",\"PN\")","v":"PN"},{"$f":"計算結果!#REF!","v":{"$error":"#REF!"}},{"$f":"計算結果!#REF!","v":{"$error":"#REF!"}},{"$f":"計算結果!#REF!","v":{"$error":"#REF!"}},{"$f":"計算結果!#REF!","v":{"$error":"#REF!"}},{"$f":"計算結果!#REF!","v":{"$error":"#REF!"}},{"$f":"計算結果!#REF!","v":{"$error":"#REF!"}},{"$f":"計算結果!#REF!","v":{"$error":"#REF!"}},{"$f":"計算結果!#REF!","v":{"$error":"#REF!"}},{"$f":"計算結果!#REF!","v":{"$error":"#REF!"}},{"$f":"計算結果!#REF!","v":{"$error":"#REF!"}}]
[{"$f":"入力シート!A1353","v":0},{"$f":"入力シート!G1353","v":0},{"$f":"入力シート!H1353","v":0},{"$f":"IF(入力シート!$J1353<>\"\",入力シート!$J1353,IF(入力シート!$L1353<>\"\",入力シート!$L1353,\"‐\"))","v":"‐"},{"$f":"IF(入力シート!$K1353<>\"\",入力シート!$K1353,IF(入力シート!$M1353<>\"\",入力シート!$M1353,入力シート!$N1353))","v":0},{"$f":"入力シート!I1353","v":0},{"$f":"入力シート!O1353","v":0},{"$f":"IF(入力シート!P1353=\"×\",\"P\",\"PN\")","v":"PN"},{"$f":"計算結果!#REF!","v":{"$error":"#REF!"}},{"$f":"計算結果!#REF!","v":{"$error":"#REF!"}},{"$f":"計算結果!#REF!","v":{"$error":"#REF!"}},{"$f":"計算結果!#REF!","v":{"$error":"#REF!"}},{"$f":"計算結果!#REF!","v":{"$error":"#REF!"}},{"$f":"計算結果!#REF!","v":{"$error":"#REF!"}},{"$f":"計算結果!#REF!","v":{"$error":"#REF!"}},{"$f":"計算結果!#REF!","v":{"$error":"#REF!"}},{"$f":"計算結果!#REF!","v":{"$error":"#REF!"}},{"$f":"計算結果!#REF!","v":{"$error":"#REF!"}}]
[{"$f":"入力シート!A1354","v":0},{"$f":"入力シート!G1354","v":0},{"$f":"入力シート!H1354","v":0},{"$f":"IF(入力シート!$J1354<>\"\",入力シート!$J1354,IF(入力シート!$L1354<>\"\",入力シート!$L1354,\"‐\"))","v":"‐"},{"$f":"IF(入力シート!$K1354<>\"\",入力シート!$K1354,IF(入力シート!$M1354<>\"\",入力シート!$M1354,入力シート!$N1354))","v":0},{"$f":"入力シート!I1354","v":0},{"$f":"入力シート!O1354","v":0},{"$f":"IF(入力シート!P1354=\"×\",\"P\",\"PN\")","v":"PN"},{"$f":"計算結果!#REF!","v":{"$error":"#REF!"}},{"$f":"計算結果!#REF!","v":{"$error":"#REF!"}},{"$f":"計算結果!#REF!","v":{"$error":"#REF!"}},{"$f":"計算結果!#REF!","v":{"$error":"#REF!"}},{"$f":"計算結果!#REF!","v":{"$error":"#REF!"}},{"$f":"計算結果!#REF!","v":{"$error":"#REF!"}},{"$f":"計算結果!#REF!","v":{"$error":"#REF!"}},{"$f":"計算結果!#REF!","v":{"$error":"#REF!"}},{"$f":"計算結果!#REF!","v":{"$error":"#REF!"}},{"$f":"計算結果!#REF!","v":{"$error":"#REF!"}}]
[{"$f":"入力シート!A1355","v":0},{"$f":"入力シート!G1355","v":0},{"$f":"入力シート!H1355","v":0},{"$f":"IF(入力シート!$J1355<>\"\",入力シート!$J1355,IF(入力シート!$L1355<>\"\",入力シート!$L1355,\"‐\"))","v":"‐"},{"$f":"IF(入力シート!$K1355<>\"\",入力シート!$K1355,IF(入力シート!$M1355<>\"\",入力シート!$M1355,入力シート!$N1355))","v":0},{"$f":"入力シート!I1355","v":0},{"$f":"入力シート!O1355","v":0},{"$f":"IF(入力シート!P1355=\"×\",\"P\",\"PN\")","v":"PN"},{"$f":"計算結果!#REF!","v":{"$error":"#REF!"}},{"$f":"計算結果!#REF!","v":{"$error":"#REF!"}},{"$f":"計算結果!#REF!","v":{"$error":"#REF!"}},{"$f":"計算結果!#REF!","v":{"$error":"#REF!"}},{"$f":"計算結果!#REF!","v":{"$error":"#REF!"}},{"$f":"計算結果!#REF!","v":{"$error":"#REF!"}},{"$f":"計算結果!#REF!","v":{"$error":"#REF!"}},{"$f":"計算結果!#REF!","v":{"$error":"#REF!"}},{"$f":"計算結果!#REF!","v":{"$error":"#REF!"}},{"$f":"計算結果!#REF!","v":{"$error":"#REF!"}}]
[{"$f":"入力シート!A1356","v":0},{"$f":"入力シート!G1356","v":0},{"$f":"入力シート!H1356","v":0},{"$f":"IF(入力シート!$J1356<>\"\",入力シート!$J1356,IF(入力シート!$L1356<>\"\",入力シート!$L1356,\"‐\"))","v":"‐"},{"$f":"IF(入力シート!$K1356<>\"\",入力シート!$K1356,IF(入力シート!$M1356<>\"\",入力シート!$M1356,入力シート!$N1356))","v":0},{"$f":"入力シート!I1356","v":0},{"$f":"入力シート!O1356","v":0},{"$f":"IF(入力シート!P1356=\"×\",\"P\",\"PN\")","v":"PN"},{"$f":"計算結果!#REF!","v":{"$error":"#REF!"}},{"$f":"計算結果!#REF!","v":{"$error":"#REF!"}},{"$f":"計算結果!#REF!","v":{"$error":"#REF!"}},{"$f":"計算結果!#REF!","v":{"$error":"#REF!"}},{"$f":"計算結果!#REF!","v":{"$error":"#REF!"}},{"$f":"計算結果!#REF!","v":{"$error":"#REF!"}},{"$f":"計算結果!#REF!","v":{"$error":"#REF!"}},{"$f":"計算結果!#REF!","v":{"$error":"#REF!"}},{"$f":"計算結果!#REF!","v":{"$error":"#REF!"}},{"$f":"計算結果!#REF!","v":{"$error":"#REF!"}}]
[{"$f":"入力シート!A1357","v":0},{"$f":"入力シート!G1357","v":0},{"$f":"入力シート!H1357","v":0},{"$f":"IF(入力シート!$J1357<>\"\",入力シート!$J1357,IF(入力シート!$L1357<>\"\",入力シート!$L1357,\"‐\"))","v":"‐"},{"$f":"IF(入力シート!$K1357<>\"\",入力シート!$K1357,IF(入力シート!$M1357<>\"\",入力シート!$M1357,入力シート!$N1357))","v":0},{"$f":"入力シート!I1357","v":0},{"$f":"入力シート!O1357","v":0},{"$f":"IF(入力シート!P1357=\"×\",\"P\",\"PN\")","v":"PN"},{"$f":"計算結果!#REF!","v":{"$error":"#REF!"}},{"$f":"計算結果!#REF!","v":{"$error":"#REF!"}},{"$f":"計算結果!#REF!","v":{"$error":"#REF!"}},{"$f":"計算結果!#REF!","v":{"$error":"#REF!"}},{"$f":"計算結果!#REF!","v":{"$error":"#REF!"}},{"$f":"計算結果!#REF!","v":{"$error":"#REF!"}},{"$f":"計算結果!#REF!","v":{"$error":"#REF!"}},{"$f":"計算結果!#REF!","v":{"$error":"#REF!"}},{"$f":"計算結果!#REF!","v":{"$error":"#REF!"}},{"$f":"計算結果!#REF!","v":{"$error":"#REF!"}}]
[{"$f":"入力シート!A1358","v":0},{"$f":"入力シート!G1358","v":0},{"$f":"入力シート!H1358","v":0},{"$f":"IF(入力シート!$J1358<>\"\",入力シート!$J1358,IF(入力シート!$L1358<>\"\",入力シート!$L1358,\"‐\"))","v":"‐"},{"$f":"IF(入力シート!$K1358<>\"\",入力シート!$K1358,IF(入力シート!$M1358<>\"\",入力シート!$M1358,入力シート!$N1358))","v":0},{"$f":"入力シート!I1358","v":0},{"$f":"入力シート!O1358","v":0},{"$f":"IF(入力シート!P1358=\"×\",\"P\",\"PN\")","v":"PN"},{"$f":"計算結果!#REF!","v":{"$error":"#REF!"}},{"$f":"計算結果!#REF!","v":{"$error":"#REF!"}},{"$f":"計算結果!#REF!","v":{"$error":"#REF!"}},{"$f":"計算結果!#REF!","v":{"$error":"#REF!"}},{"$f":"計算結果!#REF!","v":{"$error":"#REF!"}},{"$f":"計算結果!#REF!","v":{"$error":"#REF!"}},{"$f":"計算結果!#REF!","v":{"$error":"#REF!"}},{"$f":"計算結果!#REF!","v":{"$error":"#REF!"}},{"$f":"計算結果!#REF!","v":{"$error":"#REF!"}},{"$f":"計算結果!#REF!","v":{"$error":"#REF!"}}]
[{"$f":"入力シート!A1359","v":0},{"$f":"入力シート!G1359","v":0},{"$f":"入力シート!H1359","v":0},{"$f":"IF(入力シート!$J1359<>\"\",入力シート!$J1359,IF(入力シート!$L1359<>\"\",入力シート!$L1359,\"‐\"))","v":"‐"},{"$f":"IF(入力シート!$K1359<>\"\",入力シート!$K1359,IF(入力シート!$M1359<>\"\",入力シート!$M1359,入力シート!$N1359))","v":0},{"$f":"入力シート!I1359","v":0},{"$f":"入力シート!O1359","v":0},{"$f":"IF(入力シート!P1359=\"×\",\"P\",\"PN\")","v":"PN"},{"$f":"計算結果!#REF!","v":{"$error":"#REF!"}},{"$f":"計算結果!#REF!","v":{"$error":"#REF!"}},{"$f":"計算結果!#REF!","v":{"$error":"#REF!"}},{"$f":"計算結果!#REF!","v":{"$error":"#REF!"}},{"$f":"計算結果!#REF!","v":{"$error":"#REF!"}},{"$f":"計算結果!#REF!","v":{"$error":"#REF!"}},{"$f":"計算結果!#REF!","v":{"$error":"#REF!"}},{"$f":"計算結果!#REF!","v":{"$error":"#REF!"}},{"$f":"計算結果!#REF!","v":{"$error":"#REF!"}},{"$f":"計算結果!#REF!","v":{"$error":"#REF!"}}]
[{"$f":"入力シート!A1360","v":0},{"$f":"入力シート!G1360","v":0},{"$f":"入力シート!H1360","v":0},{"$f":"IF(入力シート!$J1360<>\"\",入力シート!$J1360,IF(入力シート!$L1360<>\"\",入力シート!$L1360,\"‐\"))","v":"‐"},{"$f":"IF(入力シート!$K1360<>\"\",入力シート!$K1360,IF(入力シート!$M1360<>\"\",入力シート!$M1360,入力シート!$N1360))","v":0},{"$f":"入力シート!I1360","v":0},{"$f":"入力シート!O1360","v":0},{"$f":"IF(入力シート!P1360=\"×\",\"P\",\"PN\")","v":"PN"},{"$f":"計算結果!#REF!","v":{"$error":"#REF!"}},{"$f":"計算結果!#REF!","v":{"$error":"#REF!"}},{"$f":"計算結果!#REF!","v":{"$error":"#REF!"}},{"$f":"計算結果!#REF!","v":{"$error":"#REF!"}},{"$f":"計算結果!#REF!","v":{"$error":"#REF!"}},{"$f":"計算結果!#REF!","v":{"$error":"#REF!"}},{"$f":"計算結果!#REF!","v":{"$error":"#REF!"}},{"$f":"計算結果!#REF!","v":{"$error":"#REF!"}},{"$f":"計算結果!#REF!","v":{"$error":"#REF!"}},{"$f":"計算結果!#REF!","v":{"$error":"#REF!"}}]
[{"$f":"入力シート!A1361","v":0},{"$f":"入力シート!G1361","v":0},{"$f":"入力シート!H1361","v":0},{"$f":"IF(入力シート!$J1361<>\"\",入力シート!$J1361,IF(入力シート!$L1361<>\"\",入力シート!$L1361,\"‐\"))","v":"‐"},{"$f":"IF(入力シート!$K1361<>\"\",入力シート!$K1361,IF(入力シート!$M1361<>\"\",入力シート!$M1361,入力シート!$N1361))","v":0},{"$f":"入力シート!I1361","v":0},{"$f":"入力シート!O1361","v":0},{"$f":"IF(入力シート!P1361=\"×\",\"P\",\"PN\")","v":"PN"},{"$f":"計算結果!#REF!","v":{"$error":"#REF!"}},{"$f":"計算結果!#REF!","v":{"$error":"#REF!"}},{"$f":"計算結果!#REF!","v":{"$error":"#REF!"}},{"$f":"計算結果!#REF!","v":{"$error":"#REF!"}},{"$f":"計算結果!#REF!","v":{"$error":"#REF!"}},{"$f":"計算結果!#REF!","v":{"$error":"#REF!"}},{"$f":"計算結果!#REF!","v":{"$error":"#REF!"}},{"$f":"計算結果!#REF!","v":{"$error":"#REF!"}},{"$f":"計算結果!#REF!","v":{"$error":"#REF!"}},{"$f":"計算結果!#REF!","v":{"$error":"#REF!"}}]
[{"$f":"入力シート!A1362","v":0},{"$f":"入力シート!G1362","v":0},{"$f":"入力シート!H1362","v":0},{"$f":"IF(入力シート!$J1362<>\"\",入力シート!$J1362,IF(入力シート!$L1362<>\"\",入力シート!$L1362,\"‐\"))","v":"‐"},{"$f":"IF(入力シート!$K1362<>\"\",入力シート!$K1362,IF(入力シート!$M1362<>\"\",入力シート!$M1362,入力シート!$N1362))","v":0},{"$f":"入力シート!I1362","v":0},{"$f":"入力シート!O1362","v":0},{"$f":"IF(入力シート!P1362=\"×\",\"P\",\"PN\")","v":"PN"},{"$f":"計算結果!#REF!","v":{"$error":"#REF!"}},{"$f":"計算結果!#REF!","v":{"$error":"#REF!"}},{"$f":"計算結果!#REF!","v":{"$error":"#REF!"}},{"$f":"計算結果!#REF!","v":{"$error":"#REF!"}},{"$f":"計算結果!#REF!","v":{"$error":"#REF!"}},{"$f":"計算結果!#REF!","v":{"$error":"#REF!"}},{"$f":"計算結果!#REF!","v":{"$error":"#REF!"}},{"$f":"計算結果!#REF!","v":{"$error":"#REF!"}},{"$f":"計算結果!#REF!","v":{"$error":"#REF!"}},{"$f":"計算結果!#REF!","v":{"$error":"#REF!"}}]
[{"$f":"入力シート!A1363","v":0},{"$f":"入力シート!G1363","v":0},{"$f":"入力シート!H1363","v":0},{"$f":"IF(入力シート!$J1363<>\"\",入力シート!$J1363,IF(入力シート!$L1363<>\"\",入力シート!$L1363,\"‐\"))","v":"‐"},{"$f":"IF(入力シート!$K1363<>\"\",入力シート!$K1363,IF(入力シート!$M1363<>\"\",入力シート!$M1363,入力シート!$N1363))","v":0},{"$f":"入力シート!I1363","v":0},{"$f":"入力シート!O1363","v":0},{"$f":"IF(入力シート!P1363=\"×\",\"P\",\"PN\")","v":"PN"},{"$f":"計算結果!#REF!","v":{"$error":"#REF!"}},{"$f":"計算結果!#REF!","v":{"$error":"#REF!"}},{"$f":"計算結果!#REF!","v":{"$error":"#REF!"}},{"$f":"計算結果!#REF!","v":{"$error":"#REF!"}},{"$f":"計算結果!#REF!","v":{"$error":"#REF!"}},{"$f":"計算結果!#REF!","v":{"$error":"#REF!"}},{"$f":"計算結果!#REF!","v":{"$error":"#REF!"}},{"$f":"計算結果!#REF!","v":{"$error":"#REF!"}},{"$f":"計算結果!#REF!","v":{"$error":"#REF!"}},{"$f":"計算結果!#REF!","v":{"$error":"#REF!"}}]
[{"$f":"入力シート!A1364","v":0},{"$f":"入力シート!G1364","v":0},{"$f":"入力シート!H1364","v":0},{"$f":"IF(入力シート!$J1364<>\"\",入力シート!$J1364,IF(入力シート!$L1364<>\"\",入力シート!$L1364,\"‐\"))","v":"‐"},{"$f":"IF(入力シート!$K1364<>\"\",入力シート!$K1364,IF(入力シート!$M1364<>\"\",入力シート!$M1364,入力シート!$N1364))","v":0},{"$f":"入力シート!I1364","v":0},{"$f":"入力シート!O1364","v":0},{"$f":"IF(入力シート!P1364=\"×\",\"P\",\"PN\")","v":"PN"},{"$f":"計算結果!#REF!","v":{"$error":"#REF!"}},{"$f":"計算結果!#REF!","v":{"$error":"#REF!"}},{"$f":"計算結果!#REF!","v":{"$error":"#REF!"}},{"$f":"計算結果!#REF!","v":{"$error":"#REF!"}},{"$f":"計算結果!#REF!","v":{"$error":"#REF!"}},{"$f":"計算結果!#REF!","v":{"$error":"#REF!"}},{"$f":"計算結果!#REF!","v":{"$error":"#REF!"}},{"$f":"計算結果!#REF!","v":{"$error":"#REF!"}},{"$f":"計算結果!#REF!","v":{"$error":"#REF!"}},{"$f":"計算結果!#REF!","v":{"$error":"#REF!"}}]
[{"$f":"入力シート!A1365","v":0},{"$f":"入力シート!G1365","v":0},{"$f":"入力シート!H1365","v":0},{"$f":"IF(入力シート!$J1365<>\"\",入力シート!$J1365,IF(入力シート!$L1365<>\"\",入力シート!$L1365,\"‐\"))","v":"‐"},{"$f":"IF(入力シート!$K1365<>\"\",入力シート!$K1365,IF(入力シート!$M1365<>\"\",入力シート!$M1365,入力シート!$N1365))","v":0},{"$f":"入力シート!I1365","v":0},{"$f":"入力シート!O1365","v":0},{"$f":"IF(入力シート!P1365=\"×\",\"P\",\"PN\")","v":"PN"},{"$f":"計算結果!#REF!","v":{"$error":"#REF!"}},{"$f":"計算結果!#REF!","v":{"$error":"#REF!"}},{"$f":"計算結果!#REF!","v":{"$error":"#REF!"}},{"$f":"計算結果!#REF!","v":{"$error":"#REF!"}},{"$f":"計算結果!#REF!","v":{"$error":"#REF!"}},{"$f":"計算結果!#REF!","v":{"$error":"#REF!"}},{"$f":"計算結果!#REF!","v":{"$error":"#REF!"}},{"$f":"計算結果!#REF!","v":{"$error":"#REF!"}},{"$f":"計算結果!#REF!","v":{"$error":"#REF!"}},{"$f":"計算結果!#REF!","v":{"$error":"#REF!"}}]
[{"$f":"入力シート!A1366","v":0},{"$f":"入力シート!G1366","v":0},{"$f":"入力シート!H1366","v":0},{"$f":"IF(入力シート!$J1366<>\"\",入力シート!$J1366,IF(入力シート!$L1366<>\"\",入力シート!$L1366,\"‐\"))","v":"‐"},{"$f":"IF(入力シート!$K1366<>\"\",入力シート!$K1366,IF(入力シート!$M1366<>\"\",入力シート!$M1366,入力シート!$N1366))","v":0},{"$f":"入力シート!I1366","v":0},{"$f":"入力シート!O1366","v":0},{"$f":"IF(入力シート!P1366=\"×\",\"P\",\"PN\")","v":"PN"},{"$f":"計算結果!#REF!","v":{"$error":"#REF!"}},{"$f":"計算結果!#REF!","v":{"$error":"#REF!"}},{"$f":"計算結果!#REF!","v":{"$error":"#REF!"}},{"$f":"計算結果!#REF!","v":{"$error":"#REF!"}},{"$f":"計算結果!#REF!","v":{"$error":"#REF!"}},{"$f":"計算結果!#REF!","v":{"$error":"#REF!"}},{"$f":"計算結果!#REF!","v":{"$error":"#REF!"}},{"$f":"計算結果!#REF!","v":{"$error":"#REF!"}},{"$f":"計算結果!#REF!","v":{"$error":"#REF!"}},{"$f":"計算結果!#REF!","v":{"$error":"#REF!"}}]
[{"$f":"入力シート!A1367","v":0},{"$f":"入力シート!G1367","v":0},{"$f":"入力シート!H1367","v":0},{"$f":"IF(入力シート!$J1367<>\"\",入力シート!$J1367,IF(入力シート!$L1367<>\"\",入力シート!$L1367,\"‐\"))","v":"‐"},{"$f":"IF(入力シート!$K1367<>\"\",入力シート!$K1367,IF(入力シート!$M1367<>\"\",入力シート!$M1367,入力シート!$N1367))","v":0},{"$f":"入力シート!I1367","v":0},{"$f":"入力シート!O1367","v":0},{"$f":"IF(入力シート!P1367=\"×\",\"P\",\"PN\")","v":"PN"},{"$f":"計算結果!#REF!","v":{"$error":"#REF!"}},{"$f":"計算結果!#REF!","v":{"$error":"#REF!"}},{"$f":"計算結果!#REF!","v":{"$error":"#REF!"}},{"$f":"計算結果!#REF!","v":{"$error":"#REF!"}},{"$f":"計算結果!#REF!","v":{"$error":"#REF!"}},{"$f":"計算結果!#REF!","v":{"$error":"#REF!"}},{"$f":"計算結果!#REF!","v":{"$error":"#REF!"}},{"$f":"計算結果!#REF!","v":{"$error":"#REF!"}},{"$f":"計算結果!#REF!","v":{"$error":"#REF!"}},{"$f":"計算結果!#REF!","v":{"$error":"#REF!"}}]
[{"$f":"入力シート!A1368","v":0},{"$f":"入力シート!G1368","v":0},{"$f":"入力シート!H1368","v":0},{"$f":"IF(入力シート!$J1368<>\"\",入力シート!$J1368,IF(入力シート!$L1368<>\"\",入力シート!$L1368,\"‐\"))","v":"‐"},{"$f":"IF(入力シート!$K1368<>\"\",入力シート!$K1368,IF(入力シート!$M1368<>\"\",入力シート!$M1368,入力シート!$N1368))","v":0},{"$f":"入力シート!I1368","v":0},{"$f":"入力シート!O1368","v":0},{"$f":"IF(入力シート!P1368=\"×\",\"P\",\"PN\")","v":"PN"},{"$f":"計算結果!#REF!","v":{"$error":"#REF!"}},{"$f":"計算結果!#REF!","v":{"$error":"#REF!"}},{"$f":"計算結果!#REF!","v":{"$error":"#REF!"}},{"$f":"計算結果!#REF!","v":{"$error":"#REF!"}},{"$f":"計算結果!#REF!","v":{"$error":"#REF!"}},{"$f":"計算結果!#REF!","v":{"$error":"#REF!"}},{"$f":"計算結果!#REF!","v":{"$error":"#REF!"}},{"$f":"計算結果!#REF!","v":{"$error":"#REF!"}},{"$f":"計算結果!#REF!","v":{"$error":"#REF!"}},{"$f":"計算結果!#REF!","v":{"$error":"#REF!"}}]
[{"$f":"入力シート!A1369","v":0},{"$f":"入力シート!G1369","v":0},{"$f":"入力シート!H1369","v":0},{"$f":"IF(入力シート!$J1369<>\"\",入力シート!$J1369,IF(入力シート!$L1369<>\"\",入力シート!$L1369,\"‐\"))","v":"‐"},{"$f":"IF(入力シート!$K1369<>\"\",入力シート!$K1369,IF(入力シート!$M1369<>\"\",入力シート!$M1369,入力シート!$N1369))","v":0},{"$f":"入力シート!I1369","v":0},{"$f":"入力シート!O1369","v":0},{"$f":"IF(入力シート!P1369=\"×\",\"P\",\"PN\")","v":"PN"},{"$f":"計算結果!#REF!","v":{"$error":"#REF!"}},{"$f":"計算結果!#REF!","v":{"$error":"#REF!"}},{"$f":"計算結果!#REF!","v":{"$error":"#REF!"}},{"$f":"計算結果!#REF!","v":{"$error":"#REF!"}},{"$f":"計算結果!#REF!","v":{"$error":"#REF!"}},{"$f":"計算結果!#REF!","v":{"$error":"#REF!"}},{"$f":"計算結果!#REF!","v":{"$error":"#REF!"}},{"$f":"計算結果!#REF!","v":{"$error":"#REF!"}},{"$f":"計算結果!#REF!","v":{"$error":"#REF!"}},{"$f":"計算結果!#REF!","v":{"$error":"#REF!"}}]
[{"$f":"入力シート!A1370","v":0},{"$f":"入力シート!G1370","v":0},{"$f":"入力シート!H1370","v":0},{"$f":"IF(入力シート!$J1370<>\"\",入力シート!$J1370,IF(入力シート!$L1370<>\"\",入力シート!$L1370,\"‐\"))","v":"‐"},{"$f":"IF(入力シート!$K1370<>\"\",入力シート!$K1370,IF(入力シート!$M1370<>\"\",入力シート!$M1370,入力シート!$N1370))","v":0},{"$f":"入力シート!I1370","v":0},{"$f":"入力シート!O1370","v":0},{"$f":"IF(入力シート!P1370=\"×\",\"P\",\"PN\")","v":"PN"},{"$f":"計算結果!#REF!","v":{"$error":"#REF!"}},{"$f":"計算結果!#REF!","v":{"$error":"#REF!"}},{"$f":"計算結果!#REF!","v":{"$error":"#REF!"}},{"$f":"計算結果!#REF!","v":{"$error":"#REF!"}},{"$f":"計算結果!#REF!","v":{"$error":"#REF!"}},{"$f":"計算結果!#REF!","v":{"$error":"#REF!"}},{"$f":"計算結果!#REF!","v":{"$error":"#REF!"}},{"$f":"計算結果!#REF!","v":{"$error":"#REF!"}},{"$f":"計算結果!#REF!","v":{"$error":"#REF!"}},{"$f":"計算結果!#REF!","v":{"$error":"#REF!"}}]
[{"$f":"入力シート!A1371","v":0},{"$f":"入力シート!G1371","v":0},{"$f":"入力シート!H1371","v":0},{"$f":"IF(入力シート!$J1371<>\"\",入力シート!$J1371,IF(入力シート!$L1371<>\"\",入力シート!$L1371,\"‐\"))","v":"‐"},{"$f":"IF(入力シート!$K1371<>\"\",入力シート!$K1371,IF(入力シート!$M1371<>\"\",入力シート!$M1371,入力シート!$N1371))","v":0},{"$f":"入力シート!I1371","v":0},{"$f":"入力シート!O1371","v":0},{"$f":"IF(入力シート!P1371=\"×\",\"P\",\"PN\")","v":"PN"},{"$f":"計算結果!#REF!","v":{"$error":"#REF!"}},{"$f":"計算結果!#REF!","v":{"$error":"#REF!"}},{"$f":"計算結果!#REF!","v":{"$error":"#REF!"}},{"$f":"計算結果!#REF!","v":{"$error":"#REF!"}},{"$f":"計算結果!#REF!","v":{"$error":"#REF!"}},{"$f":"計算結果!#REF!","v":{"$error":"#REF!"}},{"$f":"計算結果!#REF!","v":{"$error":"#REF!"}},{"$f":"計算結果!#REF!","v":{"$error":"#REF!"}},{"$f":"計算結果!#REF!","v":{"$error":"#REF!"}},{"$f":"計算結果!#REF!","v":{"$error":"#REF!"}}]
[{"$f":"入力シート!A1372","v":0},{"$f":"入力シート!G1372","v":0},{"$f":"入力シート!H1372","v":0},{"$f":"IF(入力シート!$J1372<>\"\",入力シート!$J1372,IF(入力シート!$L1372<>\"\",入力シート!$L1372,\"‐\"))","v":"‐"},{"$f":"IF(入力シート!$K1372<>\"\",入力シート!$K1372,IF(入力シート!$M1372<>\"\",入力シート!$M1372,入力シート!$N1372))","v":0},{"$f":"入力シート!I1372","v":0},{"$f":"入力シート!O1372","v":0},{"$f":"IF(入力シート!P1372=\"×\",\"P\",\"PN\")","v":"PN"},{"$f":"計算結果!#REF!","v":{"$error":"#REF!"}},{"$f":"計算結果!#REF!","v":{"$error":"#REF!"}},{"$f":"計算結果!#REF!","v":{"$error":"#REF!"}},{"$f":"計算結果!#REF!","v":{"$error":"#REF!"}},{"$f":"計算結果!#REF!","v":{"$error":"#REF!"}},{"$f":"計算結果!#REF!","v":{"$error":"#REF!"}},{"$f":"計算結果!#REF!","v":{"$error":"#REF!"}},{"$f":"計算結果!#REF!","v":{"$error":"#REF!"}},{"$f":"計算結果!#REF!","v":{"$error":"#REF!"}},{"$f":"計算結果!#REF!","v":{"$error":"#REF!"}}]
[{"$f":"入力シート!A1373","v":0},{"$f":"入力シート!G1373","v":0},{"$f":"入力シート!H1373","v":0},{"$f":"IF(入力シート!$J1373<>\"\",入力シート!$J1373,IF(入力シート!$L1373<>\"\",入力シート!$L1373,\"‐\"))","v":"‐"},{"$f":"IF(入力シート!$K1373<>\"\",入力シート!$K1373,IF(入力シート!$M1373<>\"\",入力シート!$M1373,入力シート!$N1373))","v":0},{"$f":"入力シート!I1373","v":0},{"$f":"入力シート!O1373","v":0},{"$f":"IF(入力シート!P1373=\"×\",\"P\",\"PN\")","v":"PN"},{"$f":"計算結果!#REF!","v":{"$error":"#REF!"}},{"$f":"計算結果!#REF!","v":{"$error":"#REF!"}},{"$f":"計算結果!#REF!","v":{"$error":"#REF!"}},{"$f":"計算結果!#REF!","v":{"$error":"#REF!"}},{"$f":"計算結果!#REF!","v":{"$error":"#REF!"}},{"$f":"計算結果!#REF!","v":{"$error":"#REF!"}},{"$f":"計算結果!#REF!","v":{"$error":"#REF!"}},{"$f":"計算結果!#REF!","v":{"$error":"#REF!"}},{"$f":"計算結果!#REF!","v":{"$error":"#REF!"}},{"$f":"計算結果!#REF!","v":{"$error":"#REF!"}}]
[{"$f":"入力シート!A1374","v":0},{"$f":"入力シート!G1374","v":0},{"$f":"入力シート!H1374","v":0},{"$f":"IF(入力シート!$J1374<>\"\",入力シート!$J1374,IF(入力シート!$L1374<>\"\",入力シート!$L1374,\"‐\"))","v":"‐"},{"$f":"IF(入力シート!$K1374<>\"\",入力シート!$K1374,IF(入力シート!$M1374<>\"\",入力シート!$M1374,入力シート!$N1374))","v":0},{"$f":"入力シート!I1374","v":0},{"$f":"入力シート!O1374","v":0},{"$f":"IF(入力シート!P1374=\"×\",\"P\",\"PN\")","v":"PN"},{"$f":"計算結果!#REF!","v":{"$error":"#REF!"}},{"$f":"計算結果!#REF!","v":{"$error":"#REF!"}},{"$f":"計算結果!#REF!","v":{"$error":"#REF!"}},{"$f":"計算結果!#REF!","v":{"$error":"#REF!"}},{"$f":"計算結果!#REF!","v":{"$error":"#REF!"}},{"$f":"計算結果!#REF!","v":{"$error":"#REF!"}},{"$f":"計算結果!#REF!","v":{"$error":"#REF!"}},{"$f":"計算結果!#REF!","v":{"$error":"#REF!"}},{"$f":"計算結果!#REF!","v":{"$error":"#REF!"}},{"$f":"計算結果!#REF!","v":{"$error":"#REF!"}}]
[{"$f":"入力シート!A1375","v":0},{"$f":"入力シート!G1375","v":0},{"$f":"入力シート!H1375","v":0},{"$f":"IF(入力シート!$J1375<>\"\",入力シート!$J1375,IF(入力シート!$L1375<>\"\",入力シート!$L1375,\"‐\"))","v":"‐"},{"$f":"IF(入力シート!$K1375<>\"\",入力シート!$K1375,IF(入力シート!$M1375<>\"\",入力シート!$M1375,入力シート!$N1375))","v":0},{"$f":"入力シート!I1375","v":0},{"$f":"入力シート!O1375","v":0},{"$f":"IF(入力シート!P1375=\"×\",\"P\",\"PN\")","v":"PN"},{"$f":"計算結果!#REF!","v":{"$error":"#REF!"}},{"$f":"計算結果!#REF!","v":{"$error":"#REF!"}},{"$f":"計算結果!#REF!","v":{"$error":"#REF!"}},{"$f":"計算結果!#REF!","v":{"$error":"#REF!"}},{"$f":"計算結果!#REF!","v":{"$error":"#REF!"}},{"$f":"計算結果!#REF!","v":{"$error":"#REF!"}},{"$f":"計算結果!#REF!","v":{"$error":"#REF!"}},{"$f":"計算結果!#REF!","v":{"$error":"#REF!"}},{"$f":"計算結果!#REF!","v":{"$error":"#REF!"}},{"$f":"計算結果!#REF!","v":{"$error":"#REF!"}}]
[{"$f":"入力シート!A1376","v":0},{"$f":"入力シート!G1376","v":0},{"$f":"入力シート!H1376","v":0},{"$f":"IF(入力シート!$J1376<>\"\",入力シート!$J1376,IF(入力シート!$L1376<>\"\",入力シート!$L1376,\"‐\"))","v":"‐"},{"$f":"IF(入力シート!$K1376<>\"\",入力シート!$K1376,IF(入力シート!$M1376<>\"\",入力シート!$M1376,入力シート!$N1376))","v":0},{"$f":"入力シート!I1376","v":0},{"$f":"入力シート!O1376","v":0},{"$f":"IF(入力シート!P1376=\"×\",\"P\",\"PN\")","v":"PN"},{"$f":"計算結果!#REF!","v":{"$error":"#REF!"}},{"$f":"計算結果!#REF!","v":{"$error":"#REF!"}},{"$f":"計算結果!#REF!","v":{"$error":"#REF!"}},{"$f":"計算結果!#REF!","v":{"$error":"#REF!"}},{"$f":"計算結果!#REF!","v":{"$error":"#REF!"}},{"$f":"計算結果!#REF!","v":{"$error":"#REF!"}},{"$f":"計算結果!#REF!","v":{"$error":"#REF!"}},{"$f":"計算結果!#REF!","v":{"$error":"#REF!"}},{"$f":"計算結果!#REF!","v":{"$error":"#REF!"}},{"$f":"計算結果!#REF!","v":{"$error":"#REF!"}}]
[{"$f":"入力シート!A1377","v":0},{"$f":"入力シート!G1377","v":0},{"$f":"入力シート!H1377","v":0},{"$f":"IF(入力シート!$J1377<>\"\",入力シート!$J1377,IF(入力シート!$L1377<>\"\",入力シート!$L1377,\"‐\"))","v":"‐"},{"$f":"IF(入力シート!$K1377<>\"\",入力シート!$K1377,IF(入力シート!$M1377<>\"\",入力シート!$M1377,入力シート!$N1377))","v":0},{"$f":"入力シート!I1377","v":0},{"$f":"入力シート!O1377","v":0},{"$f":"IF(入力シート!P1377=\"×\",\"P\",\"PN\")","v":"PN"},{"$f":"計算結果!#REF!","v":{"$error":"#REF!"}},{"$f":"計算結果!#REF!","v":{"$error":"#REF!"}},{"$f":"計算結果!#REF!","v":{"$error":"#REF!"}},{"$f":"計算結果!#REF!","v":{"$error":"#REF!"}},{"$f":"計算結果!#REF!","v":{"$error":"#REF!"}},{"$f":"計算結果!#REF!","v":{"$error":"#REF!"}},{"$f":"計算結果!#REF!","v":{"$error":"#REF!"}},{"$f":"計算結果!#REF!","v":{"$error":"#REF!"}},{"$f":"計算結果!#REF!","v":{"$error":"#REF!"}},{"$f":"計算結果!#REF!","v":{"$error":"#REF!"}}]
[{"$f":"入力シート!A1378","v":0},{"$f":"入力シート!G1378","v":0},{"$f":"入力シート!H1378","v":0},{"$f":"IF(入力シート!$J1378<>\"\",入力シート!$J1378,IF(入力シート!$L1378<>\"\",入力シート!$L1378,\"‐\"))","v":"‐"},{"$f":"IF(入力シート!$K1378<>\"\",入力シート!$K1378,IF(入力シート!$M1378<>\"\",入力シート!$M1378,入力シート!$N1378))","v":0},{"$f":"入力シート!I1378","v":0},{"$f":"入力シート!O1378","v":0},{"$f":"IF(入力シート!P1378=\"×\",\"P\",\"PN\")","v":"PN"},{"$f":"計算結果!#REF!","v":{"$error":"#REF!"}},{"$f":"計算結果!#REF!","v":{"$error":"#REF!"}},{"$f":"計算結果!#REF!","v":{"$error":"#REF!"}},{"$f":"計算結果!#REF!","v":{"$error":"#REF!"}},{"$f":"計算結果!#REF!","v":{"$error":"#REF!"}},{"$f":"計算結果!#REF!","v":{"$error":"#REF!"}},{"$f":"計算結果!#REF!","v":{"$error":"#REF!"}},{"$f":"計算結果!#REF!","v":{"$error":"#REF!"}},{"$f":"計算結果!#REF!","v":{"$error":"#REF!"}},{"$f":"計算結果!#REF!","v":{"$error":"#REF!"}}]
[{"$f":"入力シート!A1379","v":0},{"$f":"入力シート!G1379","v":0},{"$f":"入力シート!H1379","v":0},{"$f":"IF(入力シート!$J1379<>\"\",入力シート!$J1379,IF(入力シート!$L1379<>\"\",入力シート!$L1379,\"‐\"))","v":"‐"},{"$f":"IF(入力シート!$K1379<>\"\",入力シート!$K1379,IF(入力シート!$M1379<>\"\",入力シート!$M1379,入力シート!$N1379))","v":0},{"$f":"入力シート!I1379","v":0},{"$f":"入力シート!O1379","v":0},{"$f":"IF(入力シート!P1379=\"×\",\"P\",\"PN\")","v":"PN"},{"$f":"計算結果!#REF!","v":{"$error":"#REF!"}},{"$f":"計算結果!#REF!","v":{"$error":"#REF!"}},{"$f":"計算結果!#REF!","v":{"$error":"#REF!"}},{"$f":"計算結果!#REF!","v":{"$error":"#REF!"}},{"$f":"計算結果!#REF!","v":{"$error":"#REF!"}},{"$f":"計算結果!#REF!","v":{"$error":"#REF!"}},{"$f":"計算結果!#REF!","v":{"$error":"#REF!"}},{"$f":"計算結果!#REF!","v":{"$error":"#REF!"}},{"$f":"計算結果!#REF!","v":{"$error":"#REF!"}},{"$f":"計算結果!#REF!","v":{"$error":"#REF!"}}]
[{"$f":"入力シート!A1380","v":0},{"$f":"入力シート!G1380","v":0},{"$f":"入力シート!H1380","v":0},{"$f":"IF(入力シート!$J1380<>\"\",入力シート!$J1380,IF(入力シート!$L1380<>\"\",入力シート!$L1380,\"‐\"))","v":"‐"},{"$f":"IF(入力シート!$K1380<>\"\",入力シート!$K1380,IF(入力シート!$M1380<>\"\",入力シート!$M1380,入力シート!$N1380))","v":0},{"$f":"入力シート!I1380","v":0},{"$f":"入力シート!O1380","v":0},{"$f":"IF(入力シート!P1380=\"×\",\"P\",\"PN\")","v":"PN"},{"$f":"計算結果!#REF!","v":{"$error":"#REF!"}},{"$f":"計算結果!#REF!","v":{"$error":"#REF!"}},{"$f":"計算結果!#REF!","v":{"$error":"#REF!"}},{"$f":"計算結果!#REF!","v":{"$error":"#REF!"}},{"$f":"計算結果!#REF!","v":{"$error":"#REF!"}},{"$f":"計算結果!#REF!","v":{"$error":"#REF!"}},{"$f":"計算結果!#REF!","v":{"$error":"#REF!"}},{"$f":"計算結果!#REF!","v":{"$error":"#REF!"}},{"$f":"計算結果!#REF!","v":{"$error":"#REF!"}},{"$f":"計算結果!#REF!","v":{"$error":"#REF!"}}]
[{"$f":"入力シート!A1381","v":0},{"$f":"入力シート!G1381","v":0},{"$f":"入力シート!H1381","v":0},{"$f":"IF(入力シート!$J1381<>\"\",入力シート!$J1381,IF(入力シート!$L1381<>\"\",入力シート!$L1381,\"‐\"))","v":"‐"},{"$f":"IF(入力シート!$K1381<>\"\",入力シート!$K1381,IF(入力シート!$M1381<>\"\",入力シート!$M1381,入力シート!$N1381))","v":0},{"$f":"入力シート!I1381","v":0},{"$f":"入力シート!O1381","v":0},{"$f":"IF(入力シート!P1381=\"×\",\"P\",\"PN\")","v":"PN"},{"$f":"計算結果!#REF!","v":{"$error":"#REF!"}},{"$f":"計算結果!#REF!","v":{"$error":"#REF!"}},{"$f":"計算結果!#REF!","v":{"$error":"#REF!"}},{"$f":"計算結果!#REF!","v":{"$error":"#REF!"}},{"$f":"計算結果!#REF!","v":{"$error":"#REF!"}},{"$f":"計算結果!#REF!","v":{"$error":"#REF!"}},{"$f":"計算結果!#REF!","v":{"$error":"#REF!"}},{"$f":"計算結果!#REF!","v":{"$error":"#REF!"}},{"$f":"計算結果!#REF!","v":{"$error":"#REF!"}},{"$f":"計算結果!#REF!","v":{"$error":"#REF!"}}]
[{"$f":"入力シート!A1382","v":0},{"$f":"入力シート!G1382","v":0},{"$f":"入力シート!H1382","v":0},{"$f":"IF(入力シート!$J1382<>\"\",入力シート!$J1382,IF(入力シート!$L1382<>\"\",入力シート!$L1382,\"‐\"))","v":"‐"},{"$f":"IF(入力シート!$K1382<>\"\",入力シート!$K1382,IF(入力シート!$M1382<>\"\",入力シート!$M1382,入力シート!$N1382))","v":0},{"$f":"入力シート!I1382","v":0},{"$f":"入力シート!O1382","v":0},{"$f":"IF(入力シート!P1382=\"×\",\"P\",\"PN\")","v":"PN"},{"$f":"計算結果!#REF!","v":{"$error":"#REF!"}},{"$f":"計算結果!#REF!","v":{"$error":"#REF!"}},{"$f":"計算結果!#REF!","v":{"$error":"#REF!"}},{"$f":"計算結果!#REF!","v":{"$error":"#REF!"}},{"$f":"計算結果!#REF!","v":{"$error":"#REF!"}},{"$f":"計算結果!#REF!","v":{"$error":"#REF!"}},{"$f":"計算結果!#REF!","v":{"$error":"#REF!"}},{"$f":"計算結果!#REF!","v":{"$error":"#REF!"}},{"$f":"計算結果!#REF!","v":{"$error":"#REF!"}},{"$f":"計算結果!#REF!","v":{"$error":"#REF!"}}]
[{"$f":"入力シート!A1383","v":0},{"$f":"入力シート!G1383","v":0},{"$f":"入力シート!H1383","v":0},{"$f":"IF(入力シート!$J1383<>\"\",入力シート!$J1383,IF(入力シート!$L1383<>\"\",入力シート!$L1383,\"‐\"))","v":"‐"},{"$f":"IF(入力シート!$K1383<>\"\",入力シート!$K1383,IF(入力シート!$M1383<>\"\",入力シート!$M1383,入力シート!$N1383))","v":0},{"$f":"入力シート!I1383","v":0},{"$f":"入力シート!O1383","v":0},{"$f":"IF(入力シート!P1383=\"×\",\"P\",\"PN\")","v":"PN"},{"$f":"計算結果!#REF!","v":{"$error":"#REF!"}},{"$f":"計算結果!#REF!","v":{"$error":"#REF!"}},{"$f":"計算結果!#REF!","v":{"$error":"#REF!"}},{"$f":"計算結果!#REF!","v":{"$error":"#REF!"}},{"$f":"計算結果!#REF!","v":{"$error":"#REF!"}},{"$f":"計算結果!#REF!","v":{"$error":"#REF!"}},{"$f":"計算結果!#REF!","v":{"$error":"#REF!"}},{"$f":"計算結果!#REF!","v":{"$error":"#REF!"}},{"$f":"計算結果!#REF!","v":{"$error":"#REF!"}},{"$f":"計算結果!#REF!","v":{"$error":"#REF!"}}]
[{"$f":"入力シート!A1384","v":0},{"$f":"入力シート!G1384","v":0},{"$f":"入力シート!H1384","v":0},{"$f":"IF(入力シート!$J1384<>\"\",入力シート!$J1384,IF(入力シート!$L1384<>\"\",入力シート!$L1384,\"‐\"))","v":"‐"},{"$f":"IF(入力シート!$K1384<>\"\",入力シート!$K1384,IF(入力シート!$M1384<>\"\",入力シート!$M1384,入力シート!$N1384))","v":0},{"$f":"入力シート!I1384","v":0},{"$f":"入力シート!O1384","v":0},{"$f":"IF(入力シート!P1384=\"×\",\"P\",\"PN\")","v":"PN"},{"$f":"計算結果!#REF!","v":{"$error":"#REF!"}},{"$f":"計算結果!#REF!","v":{"$error":"#REF!"}},{"$f":"計算結果!#REF!","v":{"$error":"#REF!"}},{"$f":"計算結果!#REF!","v":{"$error":"#REF!"}},{"$f":"計算結果!#REF!","v":{"$error":"#REF!"}},{"$f":"計算結果!#REF!","v":{"$error":"#REF!"}},{"$f":"計算結果!#REF!","v":{"$error":"#REF!"}},{"$f":"計算結果!#REF!","v":{"$error":"#REF!"}},{"$f":"計算結果!#REF!","v":{"$error":"#REF!"}},{"$f":"計算結果!#REF!","v":{"$error":"#REF!"}}]
[{"$f":"入力シート!A1385","v":0},{"$f":"入力シート!G1385","v":0},{"$f":"入力シート!H1385","v":0},{"$f":"IF(入力シート!$J1385<>\"\",入力シート!$J1385,IF(入力シート!$L1385<>\"\",入力シート!$L1385,\"‐\"))","v":"‐"},{"$f":"IF(入力シート!$K1385<>\"\",入力シート!$K1385,IF(入力シート!$M1385<>\"\",入力シート!$M1385,入力シート!$N1385))","v":0},{"$f":"入力シート!I1385","v":0},{"$f":"入力シート!O1385","v":0},{"$f":"IF(入力シート!P1385=\"×\",\"P\",\"PN\")","v":"PN"},{"$f":"計算結果!#REF!","v":{"$error":"#REF!"}},{"$f":"計算結果!#REF!","v":{"$error":"#REF!"}},{"$f":"計算結果!#REF!","v":{"$error":"#REF!"}},{"$f":"計算結果!#REF!","v":{"$error":"#REF!"}},{"$f":"計算結果!#REF!","v":{"$error":"#REF!"}},{"$f":"計算結果!#REF!","v":{"$error":"#REF!"}},{"$f":"計算結果!#REF!","v":{"$error":"#REF!"}},{"$f":"計算結果!#REF!","v":{"$error":"#REF!"}},{"$f":"計算結果!#REF!","v":{"$error":"#REF!"}},{"$f":"計算結果!#REF!","v":{"$error":"#REF!"}}]
[{"$f":"入力シート!A1386","v":0},{"$f":"入力シート!G1386","v":0},{"$f":"入力シート!H1386","v":0},{"$f":"IF(入力シート!$J1386<>\"\",入力シート!$J1386,IF(入力シート!$L1386<>\"\",入力シート!$L1386,\"‐\"))","v":"‐"},{"$f":"IF(入力シート!$K1386<>\"\",入力シート!$K1386,IF(入力シート!$M1386<>\"\",入力シート!$M1386,入力シート!$N1386))","v":0},{"$f":"入力シート!I1386","v":0},{"$f":"入力シート!O1386","v":0},{"$f":"IF(入力シート!P1386=\"×\",\"P\",\"PN\")","v":"PN"},{"$f":"計算結果!#REF!","v":{"$error":"#REF!"}},{"$f":"計算結果!#REF!","v":{"$error":"#REF!"}},{"$f":"計算結果!#REF!","v":{"$error":"#REF!"}},{"$f":"計算結果!#REF!","v":{"$error":"#REF!"}},{"$f":"計算結果!#REF!","v":{"$error":"#REF!"}},{"$f":"計算結果!#REF!","v":{"$error":"#REF!"}},{"$f":"計算結果!#REF!","v":{"$error":"#REF!"}},{"$f":"計算結果!#REF!","v":{"$error":"#REF!"}},{"$f":"計算結果!#REF!","v":{"$error":"#REF!"}},{"$f":"計算結果!#REF!","v":{"$error":"#REF!"}}]
[{"$f":"入力シート!A1387","v":0},{"$f":"入力シート!G1387","v":0},{"$f":"入力シート!H1387","v":0},{"$f":"IF(入力シート!$J1387<>\"\",入力シート!$J1387,IF(入力シート!$L1387<>\"\",入力シート!$L1387,\"‐\"))","v":"‐"},{"$f":"IF(入力シート!$K1387<>\"\",入力シート!$K1387,IF(入力シート!$M1387<>\"\",入力シート!$M1387,入力シート!$N1387))","v":0},{"$f":"入力シート!I1387","v":0},{"$f":"入力シート!O1387","v":0},{"$f":"IF(入力シート!P1387=\"×\",\"P\",\"PN\")","v":"PN"},{"$f":"計算結果!#REF!","v":{"$error":"#REF!"}},{"$f":"計算結果!#REF!","v":{"$error":"#REF!"}},{"$f":"計算結果!#REF!","v":{"$error":"#REF!"}},{"$f":"計算結果!#REF!","v":{"$error":"#REF!"}},{"$f":"計算結果!#REF!","v":{"$error":"#REF!"}},{"$f":"計算結果!#REF!","v":{"$error":"#REF!"}},{"$f":"計算結果!#REF!","v":{"$error":"#REF!"}},{"$f":"計算結果!#REF!","v":{"$error":"#REF!"}},{"$f":"計算結果!#REF!","v":{"$error":"#REF!"}},{"$f":"計算結果!#REF!","v":{"$error":"#REF!"}}]
[{"$f":"入力シート!A1388","v":0},{"$f":"入力シート!G1388","v":0},{"$f":"入力シート!H1388","v":0},{"$f":"IF(入力シート!$J1388<>\"\",入力シート!$J1388,IF(入力シート!$L1388<>\"\",入力シート!$L1388,\"‐\"))","v":"‐"},{"$f":"IF(入力シート!$K1388<>\"\",入力シート!$K1388,IF(入力シート!$M1388<>\"\",入力シート!$M1388,入力シート!$N1388))","v":0},{"$f":"入力シート!I1388","v":0},{"$f":"入力シート!O1388","v":0},{"$f":"IF(入力シート!P1388=\"×\",\"P\",\"PN\")","v":"PN"},{"$f":"計算結果!#REF!","v":{"$error":"#REF!"}},{"$f":"計算結果!#REF!","v":{"$error":"#REF!"}},{"$f":"計算結果!#REF!","v":{"$error":"#REF!"}},{"$f":"計算結果!#REF!","v":{"$error":"#REF!"}},{"$f":"計算結果!#REF!","v":{"$error":"#REF!"}},{"$f":"計算結果!#REF!","v":{"$error":"#REF!"}},{"$f":"計算結果!#REF!","v":{"$error":"#REF!"}},{"$f":"計算結果!#REF!","v":{"$error":"#REF!"}},{"$f":"計算結果!#REF!","v":{"$error":"#REF!"}},{"$f":"計算結果!#REF!","v":{"$error":"#REF!"}}]
[{"$f":"入力シート!A1389","v":0},{"$f":"入力シート!G1389","v":0},{"$f":"入力シート!H1389","v":0},{"$f":"IF(入力シート!$J1389<>\"\",入力シート!$J1389,IF(入力シート!$L1389<>\"\",入力シート!$L1389,\"‐\"))","v":"‐"},{"$f":"IF(入力シート!$K1389<>\"\",入力シート!$K1389,IF(入力シート!$M1389<>\"\",入力シート!$M1389,入力シート!$N1389))","v":0},{"$f":"入力シート!I1389","v":0},{"$f":"入力シート!O1389","v":0},{"$f":"IF(入力シート!P1389=\"×\",\"P\",\"PN\")","v":"PN"},{"$f":"計算結果!#REF!","v":{"$error":"#REF!"}},{"$f":"計算結果!#REF!","v":{"$error":"#REF!"}},{"$f":"計算結果!#REF!","v":{"$error":"#REF!"}},{"$f":"計算結果!#REF!","v":{"$error":"#REF!"}},{"$f":"計算結果!#REF!","v":{"$error":"#REF!"}},{"$f":"計算結果!#REF!","v":{"$error":"#REF!"}},{"$f":"計算結果!#REF!","v":{"$error":"#REF!"}},{"$f":"計算結果!#REF!","v":{"$error":"#REF!"}},{"$f":"計算結果!#REF!","v":{"$error":"#REF!"}},{"$f":"計算結果!#REF!","v":{"$error":"#REF!"}}]
[{"$f":"入力シート!A1390","v":0},{"$f":"入力シート!G1390","v":0},{"$f":"入力シート!H1390","v":0},{"$f":"IF(入力シート!$J1390<>\"\",入力シート!$J1390,IF(入力シート!$L1390<>\"\",入力シート!$L1390,\"‐\"))","v":"‐"},{"$f":"IF(入力シート!$K1390<>\"\",入力シート!$K1390,IF(入力シート!$M1390<>\"\",入力シート!$M1390,入力シート!$N1390))","v":0},{"$f":"入力シート!I1390","v":0},{"$f":"入力シート!O1390","v":0},{"$f":"IF(入力シート!P1390=\"×\",\"P\",\"PN\")","v":"PN"},{"$f":"計算結果!#REF!","v":{"$error":"#REF!"}},{"$f":"計算結果!#REF!","v":{"$error":"#REF!"}},{"$f":"計算結果!#REF!","v":{"$error":"#REF!"}},{"$f":"計算結果!#REF!","v":{"$error":"#REF!"}},{"$f":"計算結果!#REF!","v":{"$error":"#REF!"}},{"$f":"計算結果!#REF!","v":{"$error":"#REF!"}},{"$f":"計算結果!#REF!","v":{"$error":"#REF!"}},{"$f":"計算結果!#REF!","v":{"$error":"#REF!"}},{"$f":"計算結果!#REF!","v":{"$error":"#REF!"}},{"$f":"計算結果!#REF!","v":{"$error":"#REF!"}}]
[{"$f":"入力シート!A1391","v":0},{"$f":"入力シート!G1391","v":0},{"$f":"入力シート!H1391","v":0},{"$f":"IF(入力シート!$J1391<>\"\",入力シート!$J1391,IF(入力シート!$L1391<>\"\",入力シート!$L1391,\"‐\"))","v":"‐"},{"$f":"IF(入力シート!$K1391<>\"\",入力シート!$K1391,IF(入力シート!$M1391<>\"\",入力シート!$M1391,入力シート!$N1391))","v":0},{"$f":"入力シート!I1391","v":0},{"$f":"入力シート!O1391","v":0},{"$f":"IF(入力シート!P1391=\"×\",\"P\",\"PN\")","v":"PN"},{"$f":"計算結果!#REF!","v":{"$error":"#REF!"}},{"$f":"計算結果!#REF!","v":{"$error":"#REF!"}},{"$f":"計算結果!#REF!","v":{"$error":"#REF!"}},{"$f":"計算結果!#REF!","v":{"$error":"#REF!"}},{"$f":"計算結果!#REF!","v":{"$error":"#REF!"}},{"$f":"計算結果!#REF!","v":{"$error":"#REF!"}},{"$f":"計算結果!#REF!","v":{"$error":"#REF!"}},{"$f":"計算結果!#REF!","v":{"$error":"#REF!"}},{"$f":"計算結果!#REF!","v":{"$error":"#REF!"}},{"$f":"計算結果!#REF!","v":{"$error":"#REF!"}}]
[{"$f":"入力シート!A1392","v":0},{"$f":"入力シート!G1392","v":0},{"$f":"入力シート!H1392","v":0},{"$f":"IF(入力シート!$J1392<>\"\",入力シート!$J1392,IF(入力シート!$L1392<>\"\",入力シート!$L1392,\"‐\"))","v":"‐"},{"$f":"IF(入力シート!$K1392<>\"\",入力シート!$K1392,IF(入力シート!$M1392<>\"\",入力シート!$M1392,入力シート!$N1392))","v":0},{"$f":"入力シート!I1392","v":0},{"$f":"入力シート!O1392","v":0},{"$f":"IF(入力シート!P1392=\"×\",\"P\",\"PN\")","v":"PN"},{"$f":"計算結果!#REF!","v":{"$error":"#REF!"}},{"$f":"計算結果!#REF!","v":{"$error":"#REF!"}},{"$f":"計算結果!#REF!","v":{"$error":"#REF!"}},{"$f":"計算結果!#REF!","v":{"$error":"#REF!"}},{"$f":"計算結果!#REF!","v":{"$error":"#REF!"}},{"$f":"計算結果!#REF!","v":{"$error":"#REF!"}},{"$f":"計算結果!#REF!","v":{"$error":"#REF!"}},{"$f":"計算結果!#REF!","v":{"$error":"#REF!"}},{"$f":"計算結果!#REF!","v":{"$error":"#REF!"}},{"$f":"計算結果!#REF!","v":{"$error":"#REF!"}}]
[{"$f":"入力シート!A1393","v":0},{"$f":"入力シート!G1393","v":0},{"$f":"入力シート!H1393","v":0},{"$f":"IF(入力シート!$J1393<>\"\",入力シート!$J1393,IF(入力シート!$L1393<>\"\",入力シート!$L1393,\"‐\"))","v":"‐"},{"$f":"IF(入力シート!$K1393<>\"\",入力シート!$K1393,IF(入力シート!$M1393<>\"\",入力シート!$M1393,入力シート!$N1393))","v":0},{"$f":"入力シート!I1393","v":0},{"$f":"入力シート!O1393","v":0},{"$f":"IF(入力シート!P1393=\"×\",\"P\",\"PN\")","v":"PN"},{"$f":"計算結果!#REF!","v":{"$error":"#REF!"}},{"$f":"計算結果!#REF!","v":{"$error":"#REF!"}},{"$f":"計算結果!#REF!","v":{"$error":"#REF!"}},{"$f":"計算結果!#REF!","v":{"$error":"#REF!"}},{"$f":"計算結果!#REF!","v":{"$error":"#REF!"}},{"$f":"計算結果!#REF!","v":{"$error":"#REF!"}},{"$f":"計算結果!#REF!","v":{"$error":"#REF!"}},{"$f":"計算結果!#REF!","v":{"$error":"#REF!"}},{"$f":"計算結果!#REF!","v":{"$error":"#REF!"}},{"$f":"計算結果!#REF!","v":{"$error":"#REF!"}}]
[{"$f":"入力シート!A1394","v":0},{"$f":"入力シート!G1394","v":0},{"$f":"入力シート!H1394","v":0},{"$f":"IF(入力シート!$J1394<>\"\",入力シート!$J1394,IF(入力シート!$L1394<>\"\",入力シート!$L1394,\"‐\"))","v":"‐"},{"$f":"IF(入力シート!$K1394<>\"\",入力シート!$K1394,IF(入力シート!$M1394<>\"\",入力シート!$M1394,入力シート!$N1394))","v":0},{"$f":"入力シート!I1394","v":0},{"$f":"入力シート!O1394","v":0},{"$f":"IF(入力シート!P1394=\"×\",\"P\",\"PN\")","v":"PN"},{"$f":"計算結果!#REF!","v":{"$error":"#REF!"}},{"$f":"計算結果!#REF!","v":{"$error":"#REF!"}},{"$f":"計算結果!#REF!","v":{"$error":"#REF!"}},{"$f":"計算結果!#REF!","v":{"$error":"#REF!"}},{"$f":"計算結果!#REF!","v":{"$error":"#REF!"}},{"$f":"計算結果!#REF!","v":{"$error":"#REF!"}},{"$f":"計算結果!#REF!","v":{"$error":"#REF!"}},{"$f":"計算結果!#REF!","v":{"$error":"#REF!"}},{"$f":"計算結果!#REF!","v":{"$error":"#REF!"}},{"$f":"計算結果!#REF!","v":{"$error":"#REF!"}}]
[{"$f":"入力シート!A1395","v":0},{"$f":"入力シート!G1395","v":0},{"$f":"入力シート!H1395","v":0},{"$f":"IF(入力シート!$J1395<>\"\",入力シート!$J1395,IF(入力シート!$L1395<>\"\",入力シート!$L1395,\"‐\"))","v":"‐"},{"$f":"IF(入力シート!$K1395<>\"\",入力シート!$K1395,IF(入力シート!$M1395<>\"\",入力シート!$M1395,入力シート!$N1395))","v":0},{"$f":"入力シート!I1395","v":0},{"$f":"入力シート!O1395","v":0},{"$f":"IF(入力シート!P1395=\"×\",\"P\",\"PN\")","v":"PN"},{"$f":"計算結果!#REF!","v":{"$error":"#REF!"}},{"$f":"計算結果!#REF!","v":{"$error":"#REF!"}},{"$f":"計算結果!#REF!","v":{"$error":"#REF!"}},{"$f":"計算結果!#REF!","v":{"$error":"#REF!"}},{"$f":"計算結果!#REF!","v":{"$error":"#REF!"}},{"$f":"計算結果!#REF!","v":{"$error":"#REF!"}},{"$f":"計算結果!#REF!","v":{"$error":"#REF!"}},{"$f":"計算結果!#REF!","v":{"$error":"#REF!"}},{"$f":"計算結果!#REF!","v":{"$error":"#REF!"}},{"$f":"計算結果!#REF!","v":{"$error":"#REF!"}}]
[{"$f":"入力シート!A1396","v":0},{"$f":"入力シート!G1396","v":0},{"$f":"入力シート!H1396","v":0},{"$f":"IF(入力シート!$J1396<>\"\",入力シート!$J1396,IF(入力シート!$L1396<>\"\",入力シート!$L1396,\"‐\"))","v":"‐"},{"$f":"IF(入力シート!$K1396<>\"\",入力シート!$K1396,IF(入力シート!$M1396<>\"\",入力シート!$M1396,入力シート!$N1396))","v":0},{"$f":"入力シート!I1396","v":0},{"$f":"入力シート!O1396","v":0},{"$f":"IF(入力シート!P1396=\"×\",\"P\",\"PN\")","v":"PN"},{"$f":"計算結果!#REF!","v":{"$error":"#REF!"}},{"$f":"計算結果!#REF!","v":{"$error":"#REF!"}},{"$f":"計算結果!#REF!","v":{"$error":"#REF!"}},{"$f":"計算結果!#REF!","v":{"$error":"#REF!"}},{"$f":"計算結果!#REF!","v":{"$error":"#REF!"}},{"$f":"計算結果!#REF!","v":{"$error":"#REF!"}},{"$f":"計算結果!#REF!","v":{"$error":"#REF!"}},{"$f":"計算結果!#REF!","v":{"$error":"#REF!"}},{"$f":"計算結果!#REF!","v":{"$error":"#REF!"}},{"$f":"計算結果!#REF!","v":{"$error":"#REF!"}}]
[{"$f":"入力シート!A1397","v":0},{"$f":"入力シート!G1397","v":0},{"$f":"入力シート!H1397","v":0},{"$f":"IF(入力シート!$J1397<>\"\",入力シート!$J1397,IF(入力シート!$L1397<>\"\",入力シート!$L1397,\"‐\"))","v":"‐"},{"$f":"IF(入力シート!$K1397<>\"\",入力シート!$K1397,IF(入力シート!$M1397<>\"\",入力シート!$M1397,入力シート!$N1397))","v":0},{"$f":"入力シート!I1397","v":0},{"$f":"入力シート!O1397","v":0},{"$f":"IF(入力シート!P1397=\"×\",\"P\",\"PN\")","v":"PN"},{"$f":"計算結果!#REF!","v":{"$error":"#REF!"}},{"$f":"計算結果!#REF!","v":{"$error":"#REF!"}},{"$f":"計算結果!#REF!","v":{"$error":"#REF!"}},{"$f":"計算結果!#REF!","v":{"$error":"#REF!"}},{"$f":"計算結果!#REF!","v":{"$error":"#REF!"}},{"$f":"計算結果!#REF!","v":{"$error":"#REF!"}},{"$f":"計算結果!#REF!","v":{"$error":"#REF!"}},{"$f":"計算結果!#REF!","v":{"$error":"#REF!"}},{"$f":"計算結果!#REF!","v":{"$error":"#REF!"}},{"$f":"計算結果!#REF!","v":{"$error":"#REF!"}}]
[{"$f":"入力シート!A1398","v":0},{"$f":"入力シート!G1398","v":0},{"$f":"入力シート!H1398","v":0},{"$f":"IF(入力シート!$J1398<>\"\",入力シート!$J1398,IF(入力シート!$L1398<>\"\",入力シート!$L1398,\"‐\"))","v":"‐"},{"$f":"IF(入力シート!$K1398<>\"\",入力シート!$K1398,IF(入力シート!$M1398<>\"\",入力シート!$M1398,入力シート!$N1398))","v":0},{"$f":"入力シート!I1398","v":0},{"$f":"入力シート!O1398","v":0},{"$f":"IF(入力シート!P1398=\"×\",\"P\",\"PN\")","v":"PN"},{"$f":"計算結果!#REF!","v":{"$error":"#REF!"}},{"$f":"計算結果!#REF!","v":{"$error":"#REF!"}},{"$f":"計算結果!#REF!","v":{"$error":"#REF!"}},{"$f":"計算結果!#REF!","v":{"$error":"#REF!"}},{"$f":"計算結果!#REF!","v":{"$error":"#REF!"}},{"$f":"計算結果!#REF!","v":{"$error":"#REF!"}},{"$f":"計算結果!#REF!","v":{"$error":"#REF!"}},{"$f":"計算結果!#REF!","v":{"$error":"#REF!"}},{"$f":"計算結果!#REF!","v":{"$error":"#REF!"}},{"$f":"計算結果!#REF!","v":{"$error":"#REF!"}}]
[{"$f":"入力シート!A1399","v":0},{"$f":"入力シート!G1399","v":0},{"$f":"入力シート!H1399","v":0},{"$f":"IF(入力シート!$J1399<>\"\",入力シート!$J1399,IF(入力シート!$L1399<>\"\",入力シート!$L1399,\"‐\"))","v":"‐"},{"$f":"IF(入力シート!$K1399<>\"\",入力シート!$K1399,IF(入力シート!$M1399<>\"\",入力シート!$M1399,入力シート!$N1399))","v":0},{"$f":"入力シート!I1399","v":0},{"$f":"入力シート!O1399","v":0},{"$f":"IF(入力シート!P1399=\"×\",\"P\",\"PN\")","v":"PN"},{"$f":"計算結果!#REF!","v":{"$error":"#REF!"}},{"$f":"計算結果!#REF!","v":{"$error":"#REF!"}},{"$f":"計算結果!#REF!","v":{"$error":"#REF!"}},{"$f":"計算結果!#REF!","v":{"$error":"#REF!"}},{"$f":"計算結果!#REF!","v":{"$error":"#REF!"}},{"$f":"計算結果!#REF!","v":{"$error":"#REF!"}},{"$f":"計算結果!#REF!","v":{"$error":"#REF!"}},{"$f":"計算結果!#REF!","v":{"$error":"#REF!"}},{"$f":"計算結果!#REF!","v":{"$error":"#REF!"}},{"$f":"計算結果!#REF!","v":{"$error":"#REF!"}}]
[{"$f":"入力シート!A1400","v":0},{"$f":"入力シート!G1400","v":0},{"$f":"入力シート!H1400","v":0},{"$f":"IF(入力シート!$J1400<>\"\",入力シート!$J1400,IF(入力シート!$L1400<>\"\",入力シート!$L1400,\"‐\"))","v":"‐"},{"$f":"IF(入力シート!$K1400<>\"\",入力シート!$K1400,IF(入力シート!$M1400<>\"\",入力シート!$M1400,入力シート!$N1400))","v":0},{"$f":"入力シート!I1400","v":0},{"$f":"入力シート!O1400","v":0},{"$f":"IF(入力シート!P1400=\"×\",\"P\",\"PN\")","v":"PN"},{"$f":"計算結果!#REF!","v":{"$error":"#REF!"}},{"$f":"計算結果!#REF!","v":{"$error":"#REF!"}},{"$f":"計算結果!#REF!","v":{"$error":"#REF!"}},{"$f":"計算結果!#REF!","v":{"$error":"#REF!"}},{"$f":"計算結果!#REF!","v":{"$error":"#REF!"}},{"$f":"計算結果!#REF!","v":{"$error":"#REF!"}},{"$f":"計算結果!#REF!","v":{"$error":"#REF!"}},{"$f":"計算結果!#REF!","v":{"$error":"#REF!"}},{"$f":"計算結果!#REF!","v":{"$error":"#REF!"}},{"$f":"計算結果!#REF!","v":{"$error":"#REF!"}}]
[{"$f":"入力シート!A1401","v":0},{"$f":"入力シート!G1401","v":0},{"$f":"入力シート!H1401","v":0},{"$f":"IF(入力シート!$J1401<>\"\",入力シート!$J1401,IF(入力シート!$L1401<>\"\",入力シート!$L1401,\"‐\"))","v":"‐"},{"$f":"IF(入力シート!$K1401<>\"\",入力シート!$K1401,IF(入力シート!$M1401<>\"\",入力シート!$M1401,入力シート!$N1401))","v":0},{"$f":"入力シート!I1401","v":0},{"$f":"入力シート!O1401","v":0},{"$f":"IF(入力シート!P1401=\"×\",\"P\",\"PN\")","v":"PN"},{"$f":"計算結果!#REF!","v":{"$error":"#REF!"}},{"$f":"計算結果!#REF!","v":{"$error":"#REF!"}},{"$f":"計算結果!#REF!","v":{"$error":"#REF!"}},{"$f":"計算結果!#REF!","v":{"$error":"#REF!"}},{"$f":"計算結果!#REF!","v":{"$error":"#REF!"}},{"$f":"計算結果!#REF!","v":{"$error":"#REF!"}},{"$f":"計算結果!#REF!","v":{"$error":"#REF!"}},{"$f":"計算結果!#REF!","v":{"$error":"#REF!"}},{"$f":"計算結果!#REF!","v":{"$error":"#REF!"}},{"$f":"計算結果!#REF!","v":{"$error":"#REF!"}}]
[{"$f":"入力シート!A1402","v":0},{"$f":"入力シート!G1402","v":0},{"$f":"入力シート!H1402","v":0},{"$f":"IF(入力シート!$J1402<>\"\",入力シート!$J1402,IF(入力シート!$L1402<>\"\",入力シート!$L1402,\"‐\"))","v":"‐"},{"$f":"IF(入力シート!$K1402<>\"\",入力シート!$K1402,IF(入力シート!$M1402<>\"\",入力シート!$M1402,入力シート!$N1402))","v":0},{"$f":"入力シート!I1402","v":0},{"$f":"入力シート!O1402","v":0},{"$f":"IF(入力シート!P1402=\"×\",\"P\",\"PN\")","v":"PN"},{"$f":"計算結果!#REF!","v":{"$error":"#REF!"}},{"$f":"計算結果!#REF!","v":{"$error":"#REF!"}},{"$f":"計算結果!#REF!","v":{"$error":"#REF!"}},{"$f":"計算結果!#REF!","v":{"$error":"#REF!"}},{"$f":"計算結果!#REF!","v":{"$error":"#REF!"}},{"$f":"計算結果!#REF!","v":{"$error":"#REF!"}},{"$f":"計算結果!#REF!","v":{"$error":"#REF!"}},{"$f":"計算結果!#REF!","v":{"$error":"#REF!"}},{"$f":"計算結果!#REF!","v":{"$error":"#REF!"}},{"$f":"計算結果!#REF!","v":{"$error":"#REF!"}}]
[{"$f":"入力シート!A1403","v":0},{"$f":"入力シート!G1403","v":0},{"$f":"入力シート!H1403","v":0},{"$f":"IF(入力シート!$J1403<>\"\",入力シート!$J1403,IF(入力シート!$L1403<>\"\",入力シート!$L1403,\"‐\"))","v":"‐"},{"$f":"IF(入力シート!$K1403<>\"\",入力シート!$K1403,IF(入力シート!$M1403<>\"\",入力シート!$M1403,入力シート!$N1403))","v":0},{"$f":"入力シート!I1403","v":0},{"$f":"入力シート!O1403","v":0},{"$f":"IF(入力シート!P1403=\"×\",\"P\",\"PN\")","v":"PN"},{"$f":"計算結果!#REF!","v":{"$error":"#REF!"}},{"$f":"計算結果!#REF!","v":{"$error":"#REF!"}},{"$f":"計算結果!#REF!","v":{"$error":"#REF!"}},{"$f":"計算結果!#REF!","v":{"$error":"#REF!"}},{"$f":"計算結果!#REF!","v":{"$error":"#REF!"}},{"$f":"計算結果!#REF!","v":{"$error":"#REF!"}},{"$f":"計算結果!#REF!","v":{"$error":"#REF!"}},{"$f":"計算結果!#REF!","v":{"$error":"#REF!"}},{"$f":"計算結果!#REF!","v":{"$error":"#REF!"}},{"$f":"計算結果!#REF!","v":{"$error":"#REF!"}}]
[{"$f":"入力シート!A1404","v":0},{"$f":"入力シート!G1404","v":0},{"$f":"入力シート!H1404","v":0},{"$f":"IF(入力シート!$J1404<>\"\",入力シート!$J1404,IF(入力シート!$L1404<>\"\",入力シート!$L1404,\"‐\"))","v":"‐"},{"$f":"IF(入力シート!$K1404<>\"\",入力シート!$K1404,IF(入力シート!$M1404<>\"\",入力シート!$M1404,入力シート!$N1404))","v":0},{"$f":"入力シート!I1404","v":0},{"$f":"入力シート!O1404","v":0},{"$f":"IF(入力シート!P1404=\"×\",\"P\",\"PN\")","v":"PN"},{"$f":"計算結果!#REF!","v":{"$error":"#REF!"}},{"$f":"計算結果!#REF!","v":{"$error":"#REF!"}},{"$f":"計算結果!#REF!","v":{"$error":"#REF!"}},{"$f":"計算結果!#REF!","v":{"$error":"#REF!"}},{"$f":"計算結果!#REF!","v":{"$error":"#REF!"}},{"$f":"計算結果!#REF!","v":{"$error":"#REF!"}},{"$f":"計算結果!#REF!","v":{"$error":"#REF!"}},{"$f":"計算結果!#REF!","v":{"$error":"#REF!"}},{"$f":"計算結果!#REF!","v":{"$error":"#REF!"}},{"$f":"計算結果!#REF!","v":{"$error":"#REF!"}}]
[{"$f":"入力シート!A1405","v":0},{"$f":"入力シート!G1405","v":0},{"$f":"入力シート!H1405","v":0},{"$f":"IF(入力シート!$J1405<>\"\",入力シート!$J1405,IF(入力シート!$L1405<>\"\",入力シート!$L1405,\"‐\"))","v":"‐"},{"$f":"IF(入力シート!$K1405<>\"\",入力シート!$K1405,IF(入力シート!$M1405<>\"\",入力シート!$M1405,入力シート!$N1405))","v":0},{"$f":"入力シート!I1405","v":0},{"$f":"入力シート!O1405","v":0},{"$f":"IF(入力シート!P1405=\"×\",\"P\",\"PN\")","v":"PN"},{"$f":"計算結果!#REF!","v":{"$error":"#REF!"}},{"$f":"計算結果!#REF!","v":{"$error":"#REF!"}},{"$f":"計算結果!#REF!","v":{"$error":"#REF!"}},{"$f":"計算結果!#REF!","v":{"$error":"#REF!"}},{"$f":"計算結果!#REF!","v":{"$error":"#REF!"}},{"$f":"計算結果!#REF!","v":{"$error":"#REF!"}},{"$f":"計算結果!#REF!","v":{"$error":"#REF!"}},{"$f":"計算結果!#REF!","v":{"$error":"#REF!"}},{"$f":"計算結果!#REF!","v":{"$error":"#REF!"}},{"$f":"計算結果!#REF!","v":{"$error":"#REF!"}}]
[{"$f":"入力シート!A1406","v":0},{"$f":"入力シート!G1406","v":0},{"$f":"入力シート!H1406","v":0},{"$f":"IF(入力シート!$J1406<>\"\",入力シート!$J1406,IF(入力シート!$L1406<>\"\",入力シート!$L1406,\"‐\"))","v":"‐"},{"$f":"IF(入力シート!$K1406<>\"\",入力シート!$K1406,IF(入力シート!$M1406<>\"\",入力シート!$M1406,入力シート!$N1406))","v":0},{"$f":"入力シート!I1406","v":0},{"$f":"入力シート!O1406","v":0},{"$f":"IF(入力シート!P1406=\"×\",\"P\",\"PN\")","v":"PN"},{"$f":"計算結果!#REF!","v":{"$error":"#REF!"}},{"$f":"計算結果!#REF!","v":{"$error":"#REF!"}},{"$f":"計算結果!#REF!","v":{"$error":"#REF!"}},{"$f":"計算結果!#REF!","v":{"$error":"#REF!"}},{"$f":"計算結果!#REF!","v":{"$error":"#REF!"}},{"$f":"計算結果!#REF!","v":{"$error":"#REF!"}},{"$f":"計算結果!#REF!","v":{"$error":"#REF!"}},{"$f":"計算結果!#REF!","v":{"$error":"#REF!"}},{"$f":"計算結果!#REF!","v":{"$error":"#REF!"}},{"$f":"計算結果!#REF!","v":{"$error":"#REF!"}}]
[{"$f":"入力シート!A1407","v":0},{"$f":"入力シート!G1407","v":0},{"$f":"入力シート!H1407","v":0},{"$f":"IF(入力シート!$J1407<>\"\",入力シート!$J1407,IF(入力シート!$L1407<>\"\",入力シート!$L1407,\"‐\"))","v":"‐"},{"$f":"IF(入力シート!$K1407<>\"\",入力シート!$K1407,IF(入力シート!$M1407<>\"\",入力シート!$M1407,入力シート!$N1407))","v":0},{"$f":"入力シート!I1407","v":0},{"$f":"入力シート!O1407","v":0},{"$f":"IF(入力シート!P1407=\"×\",\"P\",\"PN\")","v":"PN"},{"$f":"計算結果!#REF!","v":{"$error":"#REF!"}},{"$f":"計算結果!#REF!","v":{"$error":"#REF!"}},{"$f":"計算結果!#REF!","v":{"$error":"#REF!"}},{"$f":"計算結果!#REF!","v":{"$error":"#REF!"}},{"$f":"計算結果!#REF!","v":{"$error":"#REF!"}},{"$f":"計算結果!#REF!","v":{"$error":"#REF!"}},{"$f":"計算結果!#REF!","v":{"$error":"#REF!"}},{"$f":"計算結果!#REF!","v":{"$error":"#REF!"}},{"$f":"計算結果!#REF!","v":{"$error":"#REF!"}},{"$f":"計算結果!#REF!","v":{"$error":"#REF!"}}]
[{"$f":"入力シート!A1408","v":0},{"$f":"入力シート!G1408","v":0},{"$f":"入力シート!H1408","v":0},{"$f":"IF(入力シート!$J1408<>\"\",入力シート!$J1408,IF(入力シート!$L1408<>\"\",入力シート!$L1408,\"‐\"))","v":"‐"},{"$f":"IF(入力シート!$K1408<>\"\",入力シート!$K1408,IF(入力シート!$M1408<>\"\",入力シート!$M1408,入力シート!$N1408))","v":0},{"$f":"入力シート!I1408","v":0},{"$f":"入力シート!O1408","v":0},{"$f":"IF(入力シート!P1408=\"×\",\"P\",\"PN\")","v":"PN"},{"$f":"計算結果!#REF!","v":{"$error":"#REF!"}},{"$f":"計算結果!#REF!","v":{"$error":"#REF!"}},{"$f":"計算結果!#REF!","v":{"$error":"#REF!"}},{"$f":"計算結果!#REF!","v":{"$error":"#REF!"}},{"$f":"計算結果!#REF!","v":{"$error":"#REF!"}},{"$f":"計算結果!#REF!","v":{"$error":"#REF!"}},{"$f":"計算結果!#REF!","v":{"$error":"#REF!"}},{"$f":"計算結果!#REF!","v":{"$error":"#REF!"}},{"$f":"計算結果!#REF!","v":{"$error":"#REF!"}},{"$f":"計算結果!#REF!","v":{"$error":"#REF!"}}]
[{"$f":"入力シート!A1409","v":0},{"$f":"入力シート!G1409","v":0},{"$f":"入力シート!H1409","v":0},{"$f":"IF(入力シート!$J1409<>\"\",入力シート!$J1409,IF(入力シート!$L1409<>\"\",入力シート!$L1409,\"‐\"))","v":"‐"},{"$f":"IF(入力シート!$K1409<>\"\",入力シート!$K1409,IF(入力シート!$M1409<>\"\",入力シート!$M1409,入力シート!$N1409))","v":0},{"$f":"入力シート!I1409","v":0},{"$f":"入力シート!O1409","v":0},{"$f":"IF(入力シート!P1409=\"×\",\"P\",\"PN\")","v":"PN"},{"$f":"計算結果!#REF!","v":{"$error":"#REF!"}},{"$f":"計算結果!#REF!","v":{"$error":"#REF!"}},{"$f":"計算結果!#REF!","v":{"$error":"#REF!"}},{"$f":"計算結果!#REF!","v":{"$error":"#REF!"}},{"$f":"計算結果!#REF!","v":{"$error":"#REF!"}},{"$f":"計算結果!#REF!","v":{"$error":"#REF!"}},{"$f":"計算結果!#REF!","v":{"$error":"#REF!"}},{"$f":"計算結果!#REF!","v":{"$error":"#REF!"}},{"$f":"計算結果!#REF!","v":{"$error":"#REF!"}},{"$f":"計算結果!#REF!","v":{"$error":"#REF!"}}]
[{"$f":"入力シート!A1410","v":0},{"$f":"入力シート!G1410","v":0},{"$f":"入力シート!H1410","v":0},{"$f":"IF(入力シート!$J1410<>\"\",入力シート!$J1410,IF(入力シート!$L1410<>\"\",入力シート!$L1410,\"‐\"))","v":"‐"},{"$f":"IF(入力シート!$K1410<>\"\",入力シート!$K1410,IF(入力シート!$M1410<>\"\",入力シート!$M1410,入力シート!$N1410))","v":0},{"$f":"入力シート!I1410","v":0},{"$f":"入力シート!O1410","v":0},{"$f":"IF(入力シート!P1410=\"×\",\"P\",\"PN\")","v":"PN"},{"$f":"計算結果!#REF!","v":{"$error":"#REF!"}},{"$f":"計算結果!#REF!","v":{"$error":"#REF!"}},{"$f":"計算結果!#REF!","v":{"$error":"#REF!"}},{"$f":"計算結果!#REF!","v":{"$error":"#REF!"}},{"$f":"計算結果!#REF!","v":{"$error":"#REF!"}},{"$f":"計算結果!#REF!","v":{"$error":"#REF!"}},{"$f":"計算結果!#REF!","v":{"$error":"#REF!"}},{"$f":"計算結果!#REF!","v":{"$error":"#REF!"}},{"$f":"計算結果!#REF!","v":{"$error":"#REF!"}},{"$f":"計算結果!#REF!","v":{"$error":"#REF!"}}]
[{"$f":"入力シート!A1411","v":0},{"$f":"入力シート!G1411","v":0},{"$f":"入力シート!H1411","v":0},{"$f":"IF(入力シート!$J1411<>\"\",入力シート!$J1411,IF(入力シート!$L1411<>\"\",入力シート!$L1411,\"‐\"))","v":"‐"},{"$f":"IF(入力シート!$K1411<>\"\",入力シート!$K1411,IF(入力シート!$M1411<>\"\",入力シート!$M1411,入力シート!$N1411))","v":0},{"$f":"入力シート!I1411","v":0},{"$f":"入力シート!O1411","v":0},{"$f":"IF(入力シート!P1411=\"×\",\"P\",\"PN\")","v":"PN"},{"$f":"計算結果!#REF!","v":{"$error":"#REF!"}},{"$f":"計算結果!#REF!","v":{"$error":"#REF!"}},{"$f":"計算結果!#REF!","v":{"$error":"#REF!"}},{"$f":"計算結果!#REF!","v":{"$error":"#REF!"}},{"$f":"計算結果!#REF!","v":{"$error":"#REF!"}},{"$f":"計算結果!#REF!","v":{"$error":"#REF!"}},{"$f":"計算結果!#REF!","v":{"$error":"#REF!"}},{"$f":"計算結果!#REF!","v":{"$error":"#REF!"}},{"$f":"計算結果!#REF!","v":{"$error":"#REF!"}},{"$f":"計算結果!#REF!","v":{"$error":"#REF!"}}]
[{"$f":"入力シート!A1412","v":0},{"$f":"入力シート!G1412","v":0},{"$f":"入力シート!H1412","v":0},{"$f":"IF(入力シート!$J1412<>\"\",入力シート!$J1412,IF(入力シート!$L1412<>\"\",入力シート!$L1412,\"‐\"))","v":"‐"},{"$f":"IF(入力シート!$K1412<>\"\",入力シート!$K1412,IF(入力シート!$M1412<>\"\",入力シート!$M1412,入力シート!$N1412))","v":0},{"$f":"入力シート!I1412","v":0},{"$f":"入力シート!O1412","v":0},{"$f":"IF(入力シート!P1412=\"×\",\"P\",\"PN\")","v":"PN"},{"$f":"計算結果!#REF!","v":{"$error":"#REF!"}},{"$f":"計算結果!#REF!","v":{"$error":"#REF!"}},{"$f":"計算結果!#REF!","v":{"$error":"#REF!"}},{"$f":"計算結果!#REF!","v":{"$error":"#REF!"}},{"$f":"計算結果!#REF!","v":{"$error":"#REF!"}},{"$f":"計算結果!#REF!","v":{"$error":"#REF!"}},{"$f":"計算結果!#REF!","v":{"$error":"#REF!"}},{"$f":"計算結果!#REF!","v":{"$error":"#REF!"}},{"$f":"計算結果!#REF!","v":{"$error":"#REF!"}},{"$f":"計算結果!#REF!","v":{"$error":"#REF!"}}]
[{"$f":"入力シート!A1413","v":0},{"$f":"入力シート!G1413","v":0},{"$f":"入力シート!H1413","v":0},{"$f":"IF(入力シート!$J1413<>\"\",入力シート!$J1413,IF(入力シート!$L1413<>\"\",入力シート!$L1413,\"‐\"))","v":"‐"},{"$f":"IF(入力シート!$K1413<>\"\",入力シート!$K1413,IF(入力シート!$M1413<>\"\",入力シート!$M1413,入力シート!$N1413))","v":0},{"$f":"入力シート!I1413","v":0},{"$f":"入力シート!O1413","v":0},{"$f":"IF(入力シート!P1413=\"×\",\"P\",\"PN\")","v":"PN"},{"$f":"計算結果!#REF!","v":{"$error":"#REF!"}},{"$f":"計算結果!#REF!","v":{"$error":"#REF!"}},{"$f":"計算結果!#REF!","v":{"$error":"#REF!"}},{"$f":"計算結果!#REF!","v":{"$error":"#REF!"}},{"$f":"計算結果!#REF!","v":{"$error":"#REF!"}},{"$f":"計算結果!#REF!","v":{"$error":"#REF!"}},{"$f":"計算結果!#REF!","v":{"$error":"#REF!"}},{"$f":"計算結果!#REF!","v":{"$error":"#REF!"}},{"$f":"計算結果!#REF!","v":{"$error":"#REF!"}},{"$f":"計算結果!#REF!","v":{"$error":"#REF!"}}]
[{"$f":"入力シート!A1414","v":0},{"$f":"入力シート!G1414","v":0},{"$f":"入力シート!H1414","v":0},{"$f":"IF(入力シート!$J1414<>\"\",入力シート!$J1414,IF(入力シート!$L1414<>\"\",入力シート!$L1414,\"‐\"))","v":"‐"},{"$f":"IF(入力シート!$K1414<>\"\",入力シート!$K1414,IF(入力シート!$M1414<>\"\",入力シート!$M1414,入力シート!$N1414))","v":0},{"$f":"入力シート!I1414","v":0},{"$f":"入力シート!O1414","v":0},{"$f":"IF(入力シート!P1414=\"×\",\"P\",\"PN\")","v":"PN"},{"$f":"計算結果!#REF!","v":{"$error":"#REF!"}},{"$f":"計算結果!#REF!","v":{"$error":"#REF!"}},{"$f":"計算結果!#REF!","v":{"$error":"#REF!"}},{"$f":"計算結果!#REF!","v":{"$error":"#REF!"}},{"$f":"計算結果!#REF!","v":{"$error":"#REF!"}},{"$f":"計算結果!#REF!","v":{"$error":"#REF!"}},{"$f":"計算結果!#REF!","v":{"$error":"#REF!"}},{"$f":"計算結果!#REF!","v":{"$error":"#REF!"}},{"$f":"計算結果!#REF!","v":{"$error":"#REF!"}},{"$f":"計算結果!#REF!","v":{"$error":"#REF!"}}]
[{"$f":"入力シート!A1415","v":0},{"$f":"入力シート!G1415","v":0},{"$f":"入力シート!H1415","v":0},{"$f":"IF(入力シート!$J1415<>\"\",入力シート!$J1415,IF(入力シート!$L1415<>\"\",入力シート!$L1415,\"‐\"))","v":"‐"},{"$f":"IF(入力シート!$K1415<>\"\",入力シート!$K1415,IF(入力シート!$M1415<>\"\",入力シート!$M1415,入力シート!$N1415))","v":0},{"$f":"入力シート!I1415","v":0},{"$f":"入力シート!O1415","v":0},{"$f":"IF(入力シート!P1415=\"×\",\"P\",\"PN\")","v":"PN"},{"$f":"計算結果!#REF!","v":{"$error":"#REF!"}},{"$f":"計算結果!#REF!","v":{"$error":"#REF!"}},{"$f":"計算結果!#REF!","v":{"$error":"#REF!"}},{"$f":"計算結果!#REF!","v":{"$error":"#REF!"}},{"$f":"計算結果!#REF!","v":{"$error":"#REF!"}},{"$f":"計算結果!#REF!","v":{"$error":"#REF!"}},{"$f":"計算結果!#REF!","v":{"$error":"#REF!"}},{"$f":"計算結果!#REF!","v":{"$error":"#REF!"}},{"$f":"計算結果!#REF!","v":{"$error":"#REF!"}},{"$f":"計算結果!#REF!","v":{"$error":"#REF!"}}]
[{"$f":"入力シート!A1416","v":0},{"$f":"入力シート!G1416","v":0},{"$f":"入力シート!H1416","v":0},{"$f":"IF(入力シート!$J1416<>\"\",入力シート!$J1416,IF(入力シート!$L1416<>\"\",入力シート!$L1416,\"‐\"))","v":"‐"},{"$f":"IF(入力シート!$K1416<>\"\",入力シート!$K1416,IF(入力シート!$M1416<>\"\",入力シート!$M1416,入力シート!$N1416))","v":0},{"$f":"入力シート!I1416","v":0},{"$f":"入力シート!O1416","v":0},{"$f":"IF(入力シート!P1416=\"×\",\"P\",\"PN\")","v":"PN"},{"$f":"計算結果!#REF!","v":{"$error":"#REF!"}},{"$f":"計算結果!#REF!","v":{"$error":"#REF!"}},{"$f":"計算結果!#REF!","v":{"$error":"#REF!"}},{"$f":"計算結果!#REF!","v":{"$error":"#REF!"}},{"$f":"計算結果!#REF!","v":{"$error":"#REF!"}},{"$f":"計算結果!#REF!","v":{"$error":"#REF!"}},{"$f":"計算結果!#REF!","v":{"$error":"#REF!"}},{"$f":"計算結果!#REF!","v":{"$error":"#REF!"}},{"$f":"計算結果!#REF!","v":{"$error":"#REF!"}},{"$f":"計算結果!#REF!","v":{"$error":"#REF!"}}]
[{"$f":"入力シート!A1417","v":0},{"$f":"入力シート!G1417","v":0},{"$f":"入力シート!H1417","v":0},{"$f":"IF(入力シート!$J1417<>\"\",入力シート!$J1417,IF(入力シート!$L1417<>\"\",入力シート!$L1417,\"‐\"))","v":"‐"},{"$f":"IF(入力シート!$K1417<>\"\",入力シート!$K1417,IF(入力シート!$M1417<>\"\",入力シート!$M1417,入力シート!$N1417))","v":0},{"$f":"入力シート!I1417","v":0},{"$f":"入力シート!O1417","v":0},{"$f":"IF(入力シート!P1417=\"×\",\"P\",\"PN\")","v":"PN"},{"$f":"計算結果!#REF!","v":{"$error":"#REF!"}},{"$f":"計算結果!#REF!","v":{"$error":"#REF!"}},{"$f":"計算結果!#REF!","v":{"$error":"#REF!"}},{"$f":"計算結果!#REF!","v":{"$error":"#REF!"}},{"$f":"計算結果!#REF!","v":{"$error":"#REF!"}},{"$f":"計算結果!#REF!","v":{"$error":"#REF!"}},{"$f":"計算結果!#REF!","v":{"$error":"#REF!"}},{"$f":"計算結果!#REF!","v":{"$error":"#REF!"}},{"$f":"計算結果!#REF!","v":{"$error":"#REF!"}},{"$f":"計算結果!#REF!","v":{"$error":"#REF!"}}]
[{"$f":"入力シート!A1418","v":0},{"$f":"入力シート!G1418","v":0},{"$f":"入力シート!H1418","v":0},{"$f":"IF(入力シート!$J1418<>\"\",入力シート!$J1418,IF(入力シート!$L1418<>\"\",入力シート!$L1418,\"‐\"))","v":"‐"},{"$f":"IF(入力シート!$K1418<>\"\",入力シート!$K1418,IF(入力シート!$M1418<>\"\",入力シート!$M1418,入力シート!$N1418))","v":0},{"$f":"入力シート!I1418","v":0},{"$f":"入力シート!O1418","v":0},{"$f":"IF(入力シート!P1418=\"×\",\"P\",\"PN\")","v":"PN"},{"$f":"計算結果!#REF!","v":{"$error":"#REF!"}},{"$f":"計算結果!#REF!","v":{"$error":"#REF!"}},{"$f":"計算結果!#REF!","v":{"$error":"#REF!"}},{"$f":"計算結果!#REF!","v":{"$error":"#REF!"}},{"$f":"計算結果!#REF!","v":{"$error":"#REF!"}},{"$f":"計算結果!#REF!","v":{"$error":"#REF!"}},{"$f":"計算結果!#REF!","v":{"$error":"#REF!"}},{"$f":"計算結果!#REF!","v":{"$error":"#REF!"}},{"$f":"計算結果!#REF!","v":{"$error":"#REF!"}},{"$f":"計算結果!#REF!","v":{"$error":"#REF!"}}]
[{"$f":"入力シート!A1419","v":0},{"$f":"入力シート!G1419","v":0},{"$f":"入力シート!H1419","v":0},{"$f":"IF(入力シート!$J1419<>\"\",入力シート!$J1419,IF(入力シート!$L1419<>\"\",入力シート!$L1419,\"‐\"))","v":"‐"},{"$f":"IF(入力シート!$K1419<>\"\",入力シート!$K1419,IF(入力シート!$M1419<>\"\",入力シート!$M1419,入力シート!$N1419))","v":0},{"$f":"入力シート!I1419","v":0},{"$f":"入力シート!O1419","v":0},{"$f":"IF(入力シート!P1419=\"×\",\"P\",\"PN\")","v":"PN"},{"$f":"計算結果!#REF!","v":{"$error":"#REF!"}},{"$f":"計算結果!#REF!","v":{"$error":"#REF!"}},{"$f":"計算結果!#REF!","v":{"$error":"#REF!"}},{"$f":"計算結果!#REF!","v":{"$error":"#REF!"}},{"$f":"計算結果!#REF!","v":{"$error":"#REF!"}},{"$f":"計算結果!#REF!","v":{"$error":"#REF!"}},{"$f":"計算結果!#REF!","v":{"$error":"#REF!"}},{"$f":"計算結果!#REF!","v":{"$error":"#REF!"}},{"$f":"計算結果!#REF!","v":{"$error":"#REF!"}},{"$f":"計算結果!#REF!","v":{"$error":"#REF!"}}]
[{"$f":"入力シート!A1420","v":0},{"$f":"入力シート!G1420","v":0},{"$f":"入力シート!H1420","v":0},{"$f":"IF(入力シート!$J1420<>\"\",入力シート!$J1420,IF(入力シート!$L1420<>\"\",入力シート!$L1420,\"‐\"))","v":"‐"},{"$f":"IF(入力シート!$K1420<>\"\",入力シート!$K1420,IF(入力シート!$M1420<>\"\",入力シート!$M1420,入力シート!$N1420))","v":0},{"$f":"入力シート!I1420","v":0},{"$f":"入力シート!O1420","v":0},{"$f":"IF(入力シート!P1420=\"×\",\"P\",\"PN\")","v":"PN"},{"$f":"計算結果!#REF!","v":{"$error":"#REF!"}},{"$f":"計算結果!#REF!","v":{"$error":"#REF!"}},{"$f":"計算結果!#REF!","v":{"$error":"#REF!"}},{"$f":"計算結果!#REF!","v":{"$error":"#REF!"}},{"$f":"計算結果!#REF!","v":{"$error":"#REF!"}},{"$f":"計算結果!#REF!","v":{"$error":"#REF!"}},{"$f":"計算結果!#REF!","v":{"$error":"#REF!"}},{"$f":"計算結果!#REF!","v":{"$error":"#REF!"}},{"$f":"計算結果!#REF!","v":{"$error":"#REF!"}},{"$f":"計算結果!#REF!","v":{"$error":"#REF!"}}]
[{"$f":"入力シート!A1421","v":0},{"$f":"入力シート!G1421","v":0},{"$f":"入力シート!H1421","v":0},{"$f":"IF(入力シート!$J1421<>\"\",入力シート!$J1421,IF(入力シート!$L1421<>\"\",入力シート!$L1421,\"‐\"))","v":"‐"},{"$f":"IF(入力シート!$K1421<>\"\",入力シート!$K1421,IF(入力シート!$M1421<>\"\",入力シート!$M1421,入力シート!$N1421))","v":0},{"$f":"入力シート!I1421","v":0},{"$f":"入力シート!O1421","v":0},{"$f":"IF(入力シート!P1421=\"×\",\"P\",\"PN\")","v":"PN"},{"$f":"計算結果!#REF!","v":{"$error":"#REF!"}},{"$f":"計算結果!#REF!","v":{"$error":"#REF!"}},{"$f":"計算結果!#REF!","v":{"$error":"#REF!"}},{"$f":"計算結果!#REF!","v":{"$error":"#REF!"}},{"$f":"計算結果!#REF!","v":{"$error":"#REF!"}},{"$f":"計算結果!#REF!","v":{"$error":"#REF!"}},{"$f":"計算結果!#REF!","v":{"$error":"#REF!"}},{"$f":"計算結果!#REF!","v":{"$error":"#REF!"}},{"$f":"計算結果!#REF!","v":{"$error":"#REF!"}},{"$f":"計算結果!#REF!","v":{"$error":"#REF!"}}]
[{"$f":"入力シート!A1422","v":0},{"$f":"入力シート!G1422","v":0},{"$f":"入力シート!H1422","v":0},{"$f":"IF(入力シート!$J1422<>\"\",入力シート!$J1422,IF(入力シート!$L1422<>\"\",入力シート!$L1422,\"‐\"))","v":"‐"},{"$f":"IF(入力シート!$K1422<>\"\",入力シート!$K1422,IF(入力シート!$M1422<>\"\",入力シート!$M1422,入力シート!$N1422))","v":0},{"$f":"入力シート!I1422","v":0},{"$f":"入力シート!O1422","v":0},{"$f":"IF(入力シート!P1422=\"×\",\"P\",\"PN\")","v":"PN"},{"$f":"計算結果!#REF!","v":{"$error":"#REF!"}},{"$f":"計算結果!#REF!","v":{"$error":"#REF!"}},{"$f":"計算結果!#REF!","v":{"$error":"#REF!"}},{"$f":"計算結果!#REF!","v":{"$error":"#REF!"}},{"$f":"計算結果!#REF!","v":{"$error":"#REF!"}},{"$f":"計算結果!#REF!","v":{"$error":"#REF!"}},{"$f":"計算結果!#REF!","v":{"$error":"#REF!"}},{"$f":"計算結果!#REF!","v":{"$error":"#REF!"}},{"$f":"計算結果!#REF!","v":{"$error":"#REF!"}},{"$f":"計算結果!#REF!","v":{"$error":"#REF!"}}]
[{"$f":"入力シート!A1423","v":0},{"$f":"入力シート!G1423","v":0},{"$f":"入力シート!H1423","v":0},{"$f":"IF(入力シート!$J1423<>\"\",入力シート!$J1423,IF(入力シート!$L1423<>\"\",入力シート!$L1423,\"‐\"))","v":"‐"},{"$f":"IF(入力シート!$K1423<>\"\",入力シート!$K1423,IF(入力シート!$M1423<>\"\",入力シート!$M1423,入力シート!$N1423))","v":0},{"$f":"入力シート!I1423","v":0},{"$f":"入力シート!O1423","v":0},{"$f":"IF(入力シート!P1423=\"×\",\"P\",\"PN\")","v":"PN"},{"$f":"計算結果!#REF!","v":{"$error":"#REF!"}},{"$f":"計算結果!#REF!","v":{"$error":"#REF!"}},{"$f":"計算結果!#REF!","v":{"$error":"#REF!"}},{"$f":"計算結果!#REF!","v":{"$error":"#REF!"}},{"$f":"計算結果!#REF!","v":{"$error":"#REF!"}},{"$f":"計算結果!#REF!","v":{"$error":"#REF!"}},{"$f":"計算結果!#REF!","v":{"$error":"#REF!"}},{"$f":"計算結果!#REF!","v":{"$error":"#REF!"}},{"$f":"計算結果!#REF!","v":{"$error":"#REF!"}},{"$f":"計算結果!#REF!","v":{"$error":"#REF!"}}]
[{"$f":"入力シート!A1424","v":0},{"$f":"入力シート!G1424","v":0},{"$f":"入力シート!H1424","v":0},{"$f":"IF(入力シート!$J1424<>\"\",入力シート!$J1424,IF(入力シート!$L1424<>\"\",入力シート!$L1424,\"‐\"))","v":"‐"},{"$f":"IF(入力シート!$K1424<>\"\",入力シート!$K1424,IF(入力シート!$M1424<>\"\",入力シート!$M1424,入力シート!$N1424))","v":0},{"$f":"入力シート!I1424","v":0},{"$f":"入力シート!O1424","v":0},{"$f":"IF(入力シート!P1424=\"×\",\"P\",\"PN\")","v":"PN"},{"$f":"計算結果!#REF!","v":{"$error":"#REF!"}},{"$f":"計算結果!#REF!","v":{"$error":"#REF!"}},{"$f":"計算結果!#REF!","v":{"$error":"#REF!"}},{"$f":"計算結果!#REF!","v":{"$error":"#REF!"}},{"$f":"計算結果!#REF!","v":{"$error":"#REF!"}},{"$f":"計算結果!#REF!","v":{"$error":"#REF!"}},{"$f":"計算結果!#REF!","v":{"$error":"#REF!"}},{"$f":"計算結果!#REF!","v":{"$error":"#REF!"}},{"$f":"計算結果!#REF!","v":{"$error":"#REF!"}},{"$f":"計算結果!#REF!","v":{"$error":"#REF!"}}]
[{"$f":"入力シート!A1425","v":0},{"$f":"入力シート!G1425","v":0},{"$f":"入力シート!H1425","v":0},{"$f":"IF(入力シート!$J1425<>\"\",入力シート!$J1425,IF(入力シート!$L1425<>\"\",入力シート!$L1425,\"‐\"))","v":"‐"},{"$f":"IF(入力シート!$K1425<>\"\",入力シート!$K1425,IF(入力シート!$M1425<>\"\",入力シート!$M1425,入力シート!$N1425))","v":0},{"$f":"入力シート!I1425","v":0},{"$f":"入力シート!O1425","v":0},{"$f":"IF(入力シート!P1425=\"×\",\"P\",\"PN\")","v":"PN"},{"$f":"計算結果!#REF!","v":{"$error":"#REF!"}},{"$f":"計算結果!#REF!","v":{"$error":"#REF!"}},{"$f":"計算結果!#REF!","v":{"$error":"#REF!"}},{"$f":"計算結果!#REF!","v":{"$error":"#REF!"}},{"$f":"計算結果!#REF!","v":{"$error":"#REF!"}},{"$f":"計算結果!#REF!","v":{"$error":"#REF!"}},{"$f":"計算結果!#REF!","v":{"$error":"#REF!"}},{"$f":"計算結果!#REF!","v":{"$error":"#REF!"}},{"$f":"計算結果!#REF!","v":{"$error":"#REF!"}},{"$f":"計算結果!#REF!","v":{"$error":"#REF!"}}]
[{"$f":"入力シート!A1426","v":0},{"$f":"入力シート!G1426","v":0},{"$f":"入力シート!H1426","v":0},{"$f":"IF(入力シート!$J1426<>\"\",入力シート!$J1426,IF(入力シート!$L1426<>\"\",入力シート!$L1426,\"‐\"))","v":"‐"},{"$f":"IF(入力シート!$K1426<>\"\",入力シート!$K1426,IF(入力シート!$M1426<>\"\",入力シート!$M1426,入力シート!$N1426))","v":0},{"$f":"入力シート!I1426","v":0},{"$f":"入力シート!O1426","v":0},{"$f":"IF(入力シート!P1426=\"×\",\"P\",\"PN\")","v":"PN"},{"$f":"計算結果!#REF!","v":{"$error":"#REF!"}},{"$f":"計算結果!#REF!","v":{"$error":"#REF!"}},{"$f":"計算結果!#REF!","v":{"$error":"#REF!"}},{"$f":"計算結果!#REF!","v":{"$error":"#REF!"}},{"$f":"計算結果!#REF!","v":{"$error":"#REF!"}},{"$f":"計算結果!#REF!","v":{"$error":"#REF!"}},{"$f":"計算結果!#REF!","v":{"$error":"#REF!"}},{"$f":"計算結果!#REF!","v":{"$error":"#REF!"}},{"$f":"計算結果!#REF!","v":{"$error":"#REF!"}},{"$f":"計算結果!#REF!","v":{"$error":"#REF!"}}]
[{"$f":"入力シート!A1427","v":0},{"$f":"入力シート!G1427","v":0},{"$f":"入力シート!H1427","v":0},{"$f":"IF(入力シート!$J1427<>\"\",入力シート!$J1427,IF(入力シート!$L1427<>\"\",入力シート!$L1427,\"‐\"))","v":"‐"},{"$f":"IF(入力シート!$K1427<>\"\",入力シート!$K1427,IF(入力シート!$M1427<>\"\",入力シート!$M1427,入力シート!$N1427))","v":0},{"$f":"入力シート!I1427","v":0},{"$f":"入力シート!O1427","v":0},{"$f":"IF(入力シート!P1427=\"×\",\"P\",\"PN\")","v":"PN"},{"$f":"計算結果!#REF!","v":{"$error":"#REF!"}},{"$f":"計算結果!#REF!","v":{"$error":"#REF!"}},{"$f":"計算結果!#REF!","v":{"$error":"#REF!"}},{"$f":"計算結果!#REF!","v":{"$error":"#REF!"}},{"$f":"計算結果!#REF!","v":{"$error":"#REF!"}},{"$f":"計算結果!#REF!","v":{"$error":"#REF!"}},{"$f":"計算結果!#REF!","v":{"$error":"#REF!"}},{"$f":"計算結果!#REF!","v":{"$error":"#REF!"}},{"$f":"計算結果!#REF!","v":{"$error":"#REF!"}},{"$f":"計算結果!#REF!","v":{"$error":"#REF!"}}]
[{"$f":"入力シート!A1428","v":0},{"$f":"入力シート!G1428","v":0},{"$f":"入力シート!H1428","v":0},{"$f":"IF(入力シート!$J1428<>\"\",入力シート!$J1428,IF(入力シート!$L1428<>\"\",入力シート!$L1428,\"‐\"))","v":"‐"},{"$f":"IF(入力シート!$K1428<>\"\",入力シート!$K1428,IF(入力シート!$M1428<>\"\",入力シート!$M1428,入力シート!$N1428))","v":0},{"$f":"入力シート!I1428","v":0},{"$f":"入力シート!O1428","v":0},{"$f":"IF(入力シート!P1428=\"×\",\"P\",\"PN\")","v":"PN"},{"$f":"計算結果!#REF!","v":{"$error":"#REF!"}},{"$f":"計算結果!#REF!","v":{"$error":"#REF!"}},{"$f":"計算結果!#REF!","v":{"$error":"#REF!"}},{"$f":"計算結果!#REF!","v":{"$error":"#REF!"}},{"$f":"計算結果!#REF!","v":{"$error":"#REF!"}},{"$f":"計算結果!#REF!","v":{"$error":"#REF!"}},{"$f":"計算結果!#REF!","v":{"$error":"#REF!"}},{"$f":"計算結果!#REF!","v":{"$error":"#REF!"}},{"$f":"計算結果!#REF!","v":{"$error":"#REF!"}},{"$f":"計算結果!#REF!","v":{"$error":"#REF!"}}]
[{"$f":"入力シート!A1429","v":0},{"$f":"入力シート!G1429","v":0},{"$f":"入力シート!H1429","v":0},{"$f":"IF(入力シート!$J1429<>\"\",入力シート!$J1429,IF(入力シート!$L1429<>\"\",入力シート!$L1429,\"‐\"))","v":"‐"},{"$f":"IF(入力シート!$K1429<>\"\",入力シート!$K1429,IF(入力シート!$M1429<>\"\",入力シート!$M1429,入力シート!$N1429))","v":0},{"$f":"入力シート!I1429","v":0},{"$f":"入力シート!O1429","v":0},{"$f":"IF(入力シート!P1429=\"×\",\"P\",\"PN\")","v":"PN"},{"$f":"計算結果!#REF!","v":{"$error":"#REF!"}},{"$f":"計算結果!#REF!","v":{"$error":"#REF!"}},{"$f":"計算結果!#REF!","v":{"$error":"#REF!"}},{"$f":"計算結果!#REF!","v":{"$error":"#REF!"}},{"$f":"計算結果!#REF!","v":{"$error":"#REF!"}},{"$f":"計算結果!#REF!","v":{"$error":"#REF!"}},{"$f":"計算結果!#REF!","v":{"$error":"#REF!"}},{"$f":"計算結果!#REF!","v":{"$error":"#REF!"}},{"$f":"計算結果!#REF!","v":{"$error":"#REF!"}},{"$f":"計算結果!#REF!","v":{"$error":"#REF!"}}]
[{"$f":"入力シート!A1430","v":0},{"$f":"入力シート!G1430","v":0},{"$f":"入力シート!H1430","v":0},{"$f":"IF(入力シート!$J1430<>\"\",入力シート!$J1430,IF(入力シート!$L1430<>\"\",入力シート!$L1430,\"‐\"))","v":"‐"},{"$f":"IF(入力シート!$K1430<>\"\",入力シート!$K1430,IF(入力シート!$M1430<>\"\",入力シート!$M1430,入力シート!$N1430))","v":0},{"$f":"入力シート!I1430","v":0},{"$f":"入力シート!O1430","v":0},{"$f":"IF(入力シート!P1430=\"×\",\"P\",\"PN\")","v":"PN"},{"$f":"計算結果!#REF!","v":{"$error":"#REF!"}},{"$f":"計算結果!#REF!","v":{"$error":"#REF!"}},{"$f":"計算結果!#REF!","v":{"$error":"#REF!"}},{"$f":"計算結果!#REF!","v":{"$error":"#REF!"}},{"$f":"計算結果!#REF!","v":{"$error":"#REF!"}},{"$f":"計算結果!#REF!","v":{"$error":"#REF!"}},{"$f":"計算結果!#REF!","v":{"$error":"#REF!"}},{"$f":"計算結果!#REF!","v":{"$error":"#REF!"}},{"$f":"計算結果!#REF!","v":{"$error":"#REF!"}},{"$f":"計算結果!#REF!","v":{"$error":"#REF!"}}]
[{"$f":"入力シート!A1431","v":0},{"$f":"入力シート!G1431","v":0},{"$f":"入力シート!H1431","v":0},{"$f":"IF(入力シート!$J1431<>\"\",入力シート!$J1431,IF(入力シート!$L1431<>\"\",入力シート!$L1431,\"‐\"))","v":"‐"},{"$f":"IF(入力シート!$K1431<>\"\",入力シート!$K1431,IF(入力シート!$M1431<>\"\",入力シート!$M1431,入力シート!$N1431))","v":0},{"$f":"入力シート!I1431","v":0},{"$f":"入力シート!O1431","v":0},{"$f":"IF(入力シート!P1431=\"×\",\"P\",\"PN\")","v":"PN"},{"$f":"計算結果!#REF!","v":{"$error":"#REF!"}},{"$f":"計算結果!#REF!","v":{"$error":"#REF!"}},{"$f":"計算結果!#REF!","v":{"$error":"#REF!"}},{"$f":"計算結果!#REF!","v":{"$error":"#REF!"}},{"$f":"計算結果!#REF!","v":{"$error":"#REF!"}},{"$f":"計算結果!#REF!","v":{"$error":"#REF!"}},{"$f":"計算結果!#REF!","v":{"$error":"#REF!"}},{"$f":"計算結果!#REF!","v":{"$error":"#REF!"}},{"$f":"計算結果!#REF!","v":{"$error":"#REF!"}},{"$f":"計算結果!#REF!","v":{"$error":"#REF!"}}]
[{"$f":"入力シート!A1432","v":0},{"$f":"入力シート!G1432","v":0},{"$f":"入力シート!H1432","v":0},{"$f":"IF(入力シート!$J1432<>\"\",入力シート!$J1432,IF(入力シート!$L1432<>\"\",入力シート!$L1432,\"‐\"))","v":"‐"},{"$f":"IF(入力シート!$K1432<>\"\",入力シート!$K1432,IF(入力シート!$M1432<>\"\",入力シート!$M1432,入力シート!$N1432))","v":0},{"$f":"入力シート!I1432","v":0},{"$f":"入力シート!O1432","v":0},{"$f":"IF(入力シート!P1432=\"×\",\"P\",\"PN\")","v":"PN"},{"$f":"計算結果!#REF!","v":{"$error":"#REF!"}},{"$f":"計算結果!#REF!","v":{"$error":"#REF!"}},{"$f":"計算結果!#REF!","v":{"$error":"#REF!"}},{"$f":"計算結果!#REF!","v":{"$error":"#REF!"}},{"$f":"計算結果!#REF!","v":{"$error":"#REF!"}},{"$f":"計算結果!#REF!","v":{"$error":"#REF!"}},{"$f":"計算結果!#REF!","v":{"$error":"#REF!"}},{"$f":"計算結果!#REF!","v":{"$error":"#REF!"}},{"$f":"計算結果!#REF!","v":{"$error":"#REF!"}},{"$f":"計算結果!#REF!","v":{"$error":"#REF!"}}]
[{"$f":"入力シート!A1433","v":0},{"$f":"入力シート!G1433","v":0},{"$f":"入力シート!H1433","v":0},{"$f":"IF(入力シート!$J1433<>\"\",入力シート!$J1433,IF(入力シート!$L1433<>\"\",入力シート!$L1433,\"‐\"))","v":"‐"},{"$f":"IF(入力シート!$K1433<>\"\",入力シート!$K1433,IF(入力シート!$M1433<>\"\",入力シート!$M1433,入力シート!$N1433))","v":0},{"$f":"入力シート!I1433","v":0},{"$f":"入力シート!O1433","v":0},{"$f":"IF(入力シート!P1433=\"×\",\"P\",\"PN\")","v":"PN"},{"$f":"計算結果!#REF!","v":{"$error":"#REF!"}},{"$f":"計算結果!#REF!","v":{"$error":"#REF!"}},{"$f":"計算結果!#REF!","v":{"$error":"#REF!"}},{"$f":"計算結果!#REF!","v":{"$error":"#REF!"}},{"$f":"計算結果!#REF!","v":{"$error":"#REF!"}},{"$f":"計算結果!#REF!","v":{"$error":"#REF!"}},{"$f":"計算結果!#REF!","v":{"$error":"#REF!"}},{"$f":"計算結果!#REF!","v":{"$error":"#REF!"}},{"$f":"計算結果!#REF!","v":{"$error":"#REF!"}},{"$f":"計算結果!#REF!","v":{"$error":"#REF!"}}]
[{"$f":"入力シート!A1434","v":0},{"$f":"入力シート!G1434","v":0},{"$f":"入力シート!H1434","v":0},{"$f":"IF(入力シート!$J1434<>\"\",入力シート!$J1434,IF(入力シート!$L1434<>\"\",入力シート!$L1434,\"‐\"))","v":"‐"},{"$f":"IF(入力シート!$K1434<>\"\",入力シート!$K1434,IF(入力シート!$M1434<>\"\",入力シート!$M1434,入力シート!$N1434))","v":0},{"$f":"入力シート!I1434","v":0},{"$f":"入力シート!O1434","v":0},{"$f":"IF(入力シート!P1434=\"×\",\"P\",\"PN\")","v":"PN"},{"$f":"計算結果!#REF!","v":{"$error":"#REF!"}},{"$f":"計算結果!#REF!","v":{"$error":"#REF!"}},{"$f":"計算結果!#REF!","v":{"$error":"#REF!"}},{"$f":"計算結果!#REF!","v":{"$error":"#REF!"}},{"$f":"計算結果!#REF!","v":{"$error":"#REF!"}},{"$f":"計算結果!#REF!","v":{"$error":"#REF!"}},{"$f":"計算結果!#REF!","v":{"$error":"#REF!"}},{"$f":"計算結果!#REF!","v":{"$error":"#REF!"}},{"$f":"計算結果!#REF!","v":{"$error":"#REF!"}},{"$f":"計算結果!#REF!","v":{"$error":"#REF!"}}]
[{"$f":"入力シート!A1435","v":0},{"$f":"入力シート!G1435","v":0},{"$f":"入力シート!H1435","v":0},{"$f":"IF(入力シート!$J1435<>\"\",入力シート!$J1435,IF(入力シート!$L1435<>\"\",入力シート!$L1435,\"‐\"))","v":"‐"},{"$f":"IF(入力シート!$K1435<>\"\",入力シート!$K1435,IF(入力シート!$M1435<>\"\",入力シート!$M1435,入力シート!$N1435))","v":0},{"$f":"入力シート!I1435","v":0},{"$f":"入力シート!O1435","v":0},{"$f":"IF(入力シート!P1435=\"×\",\"P\",\"PN\")","v":"PN"},{"$f":"計算結果!#REF!","v":{"$error":"#REF!"}},{"$f":"計算結果!#REF!","v":{"$error":"#REF!"}},{"$f":"計算結果!#REF!","v":{"$error":"#REF!"}},{"$f":"計算結果!#REF!","v":{"$error":"#REF!"}},{"$f":"計算結果!#REF!","v":{"$error":"#REF!"}},{"$f":"計算結果!#REF!","v":{"$error":"#REF!"}},{"$f":"計算結果!#REF!","v":{"$error":"#REF!"}},{"$f":"計算結果!#REF!","v":{"$error":"#REF!"}},{"$f":"計算結果!#REF!","v":{"$error":"#REF!"}},{"$f":"計算結果!#REF!","v":{"$error":"#REF!"}}]
[{"$f":"入力シート!A1436","v":0},{"$f":"入力シート!G1436","v":0},{"$f":"入力シート!H1436","v":0},{"$f":"IF(入力シート!$J1436<>\"\",入力シート!$J1436,IF(入力シート!$L1436<>\"\",入力シート!$L1436,\"‐\"))","v":"‐"},{"$f":"IF(入力シート!$K1436<>\"\",入力シート!$K1436,IF(入力シート!$M1436<>\"\",入力シート!$M1436,入力シート!$N1436))","v":0},{"$f":"入力シート!I1436","v":0},{"$f":"入力シート!O1436","v":0},{"$f":"IF(入力シート!P1436=\"×\",\"P\",\"PN\")","v":"PN"},{"$f":"計算結果!#REF!","v":{"$error":"#REF!"}},{"$f":"計算結果!#REF!","v":{"$error":"#REF!"}},{"$f":"計算結果!#REF!","v":{"$error":"#REF!"}},{"$f":"計算結果!#REF!","v":{"$error":"#REF!"}},{"$f":"計算結果!#REF!","v":{"$error":"#REF!"}},{"$f":"計算結果!#REF!","v":{"$error":"#REF!"}},{"$f":"計算結果!#REF!","v":{"$error":"#REF!"}},{"$f":"計算結果!#REF!","v":{"$error":"#REF!"}},{"$f":"計算結果!#REF!","v":{"$error":"#REF!"}},{"$f":"計算結果!#REF!","v":{"$error":"#REF!"}}]
[{"$f":"入力シート!A1437","v":0},{"$f":"入力シート!G1437","v":0},{"$f":"入力シート!H1437","v":0},{"$f":"IF(入力シート!$J1437<>\"\",入力シート!$J1437,IF(入力シート!$L1437<>\"\",入力シート!$L1437,\"‐\"))","v":"‐"},{"$f":"IF(入力シート!$K1437<>\"\",入力シート!$K1437,IF(入力シート!$M1437<>\"\",入力シート!$M1437,入力シート!$N1437))","v":0},{"$f":"入力シート!I1437","v":0},{"$f":"入力シート!O1437","v":0},{"$f":"IF(入力シート!P1437=\"×\",\"P\",\"PN\")","v":"PN"},{"$f":"計算結果!#REF!","v":{"$error":"#REF!"}},{"$f":"計算結果!#REF!","v":{"$error":"#REF!"}},{"$f":"計算結果!#REF!","v":{"$error":"#REF!"}},{"$f":"計算結果!#REF!","v":{"$error":"#REF!"}},{"$f":"計算結果!#REF!","v":{"$error":"#REF!"}},{"$f":"計算結果!#REF!","v":{"$error":"#REF!"}},{"$f":"計算結果!#REF!","v":{"$error":"#REF!"}},{"$f":"計算結果!#REF!","v":{"$error":"#REF!"}},{"$f":"計算結果!#REF!","v":{"$error":"#REF!"}},{"$f":"計算結果!#REF!","v":{"$error":"#REF!"}}]
[{"$f":"入力シート!A1438","v":0},{"$f":"入力シート!G1438","v":0},{"$f":"入力シート!H1438","v":0},{"$f":"IF(入力シート!$J1438<>\"\",入力シート!$J1438,IF(入力シート!$L1438<>\"\",入力シート!$L1438,\"‐\"))","v":"‐"},{"$f":"IF(入力シート!$K1438<>\"\",入力シート!$K1438,IF(入力シート!$M1438<>\"\",入力シート!$M1438,入力シート!$N1438))","v":0},{"$f":"入力シート!I1438","v":0},{"$f":"入力シート!O1438","v":0},{"$f":"IF(入力シート!P1438=\"×\",\"P\",\"PN\")","v":"PN"},{"$f":"計算結果!#REF!","v":{"$error":"#REF!"}},{"$f":"計算結果!#REF!","v":{"$error":"#REF!"}},{"$f":"計算結果!#REF!","v":{"$error":"#REF!"}},{"$f":"計算結果!#REF!","v":{"$error":"#REF!"}},{"$f":"計算結果!#REF!","v":{"$error":"#REF!"}},{"$f":"計算結果!#REF!","v":{"$error":"#REF!"}},{"$f":"計算結果!#REF!","v":{"$error":"#REF!"}},{"$f":"計算結果!#REF!","v":{"$error":"#REF!"}},{"$f":"計算結果!#REF!","v":{"$error":"#REF!"}},{"$f":"計算結果!#REF!","v":{"$error":"#REF!"}}]
[{"$f":"入力シート!A1439","v":0},{"$f":"入力シート!G1439","v":0},{"$f":"入力シート!H1439","v":0},{"$f":"IF(入力シート!$J1439<>\"\",入力シート!$J1439,IF(入力シート!$L1439<>\"\",入力シート!$L1439,\"‐\"))","v":"‐"},{"$f":"IF(入力シート!$K1439<>\"\",入力シート!$K1439,IF(入力シート!$M1439<>\"\",入力シート!$M1439,入力シート!$N1439))","v":0},{"$f":"入力シート!I1439","v":0},{"$f":"入力シート!O1439","v":0},{"$f":"IF(入力シート!P1439=\"×\",\"P\",\"PN\")","v":"PN"},{"$f":"計算結果!#REF!","v":{"$error":"#REF!"}},{"$f":"計算結果!#REF!","v":{"$error":"#REF!"}},{"$f":"計算結果!#REF!","v":{"$error":"#REF!"}},{"$f":"計算結果!#REF!","v":{"$error":"#REF!"}},{"$f":"計算結果!#REF!","v":{"$error":"#REF!"}},{"$f":"計算結果!#REF!","v":{"$error":"#REF!"}},{"$f":"計算結果!#REF!","v":{"$error":"#REF!"}},{"$f":"計算結果!#REF!","v":{"$error":"#REF!"}},{"$f":"計算結果!#REF!","v":{"$error":"#REF!"}},{"$f":"計算結果!#REF!","v":{"$error":"#REF!"}}]
[{"$f":"入力シート!A1440","v":0},{"$f":"入力シート!G1440","v":0},{"$f":"入力シート!H1440","v":0},{"$f":"IF(入力シート!$J1440<>\"\",入力シート!$J1440,IF(入力シート!$L1440<>\"\",入力シート!$L1440,\"‐\"))","v":"‐"},{"$f":"IF(入力シート!$K1440<>\"\",入力シート!$K1440,IF(入力シート!$M1440<>\"\",入力シート!$M1440,入力シート!$N1440))","v":0},{"$f":"入力シート!I1440","v":0},{"$f":"入力シート!O1440","v":0},{"$f":"IF(入力シート!P1440=\"×\",\"P\",\"PN\")","v":"PN"},{"$f":"計算結果!#REF!","v":{"$error":"#REF!"}},{"$f":"計算結果!#REF!","v":{"$error":"#REF!"}},{"$f":"計算結果!#REF!","v":{"$error":"#REF!"}},{"$f":"計算結果!#REF!","v":{"$error":"#REF!"}},{"$f":"計算結果!#REF!","v":{"$error":"#REF!"}},{"$f":"計算結果!#REF!","v":{"$error":"#REF!"}},{"$f":"計算結果!#REF!","v":{"$error":"#REF!"}},{"$f":"計算結果!#REF!","v":{"$error":"#REF!"}},{"$f":"計算結果!#REF!","v":{"$error":"#REF!"}},{"$f":"計算結果!#REF!","v":{"$error":"#REF!"}}]
[{"$f":"入力シート!A1441","v":0},{"$f":"入力シート!G1441","v":0},{"$f":"入力シート!H1441","v":0},{"$f":"IF(入力シート!$J1441<>\"\",入力シート!$J1441,IF(入力シート!$L1441<>\"\",入力シート!$L1441,\"‐\"))","v":"‐"},{"$f":"IF(入力シート!$K1441<>\"\",入力シート!$K1441,IF(入力シート!$M1441<>\"\",入力シート!$M1441,入力シート!$N1441))","v":0},{"$f":"入力シート!I1441","v":0},{"$f":"入力シート!O1441","v":0},{"$f":"IF(入力シート!P1441=\"×\",\"P\",\"PN\")","v":"PN"},{"$f":"計算結果!#REF!","v":{"$error":"#REF!"}},{"$f":"計算結果!#REF!","v":{"$error":"#REF!"}},{"$f":"計算結果!#REF!","v":{"$error":"#REF!"}},{"$f":"計算結果!#REF!","v":{"$error":"#REF!"}},{"$f":"計算結果!#REF!","v":{"$error":"#REF!"}},{"$f":"計算結果!#REF!","v":{"$error":"#REF!"}},{"$f":"計算結果!#REF!","v":{"$error":"#REF!"}},{"$f":"計算結果!#REF!","v":{"$error":"#REF!"}},{"$f":"計算結果!#REF!","v":{"$error":"#REF!"}},{"$f":"計算結果!#REF!","v":{"$error":"#REF!"}}]
[{"$f":"入力シート!A1442","v":0},{"$f":"入力シート!G1442","v":0},{"$f":"入力シート!H1442","v":0},{"$f":"IF(入力シート!$J1442<>\"\",入力シート!$J1442,IF(入力シート!$L1442<>\"\",入力シート!$L1442,\"‐\"))","v":"‐"},{"$f":"IF(入力シート!$K1442<>\"\",入力シート!$K1442,IF(入力シート!$M1442<>\"\",入力シート!$M1442,入力シート!$N1442))","v":0},{"$f":"入力シート!I1442","v":0},{"$f":"入力シート!O1442","v":0},{"$f":"IF(入力シート!P1442=\"×\",\"P\",\"PN\")","v":"PN"},{"$f":"計算結果!#REF!","v":{"$error":"#REF!"}},{"$f":"計算結果!#REF!","v":{"$error":"#REF!"}},{"$f":"計算結果!#REF!","v":{"$error":"#REF!"}},{"$f":"計算結果!#REF!","v":{"$error":"#REF!"}},{"$f":"計算結果!#REF!","v":{"$error":"#REF!"}},{"$f":"計算結果!#REF!","v":{"$error":"#REF!"}},{"$f":"計算結果!#REF!","v":{"$error":"#REF!"}},{"$f":"計算結果!#REF!","v":{"$error":"#REF!"}},{"$f":"計算結果!#REF!","v":{"$error":"#REF!"}},{"$f":"計算結果!#REF!","v":{"$error":"#REF!"}}]
[{"$f":"入力シート!A1443","v":0},{"$f":"入力シート!G1443","v":0},{"$f":"入力シート!H1443","v":0},{"$f":"IF(入力シート!$J1443<>\"\",入力シート!$J1443,IF(入力シート!$L1443<>\"\",入力シート!$L1443,\"‐\"))","v":"‐"},{"$f":"IF(入力シート!$K1443<>\"\",入力シート!$K1443,IF(入力シート!$M1443<>\"\",入力シート!$M1443,入力シート!$N1443))","v":0},{"$f":"入力シート!I1443","v":0},{"$f":"入力シート!O1443","v":0},{"$f":"IF(入力シート!P1443=\"×\",\"P\",\"PN\")","v":"PN"},{"$f":"計算結果!#REF!","v":{"$error":"#REF!"}},{"$f":"計算結果!#REF!","v":{"$error":"#REF!"}},{"$f":"計算結果!#REF!","v":{"$error":"#REF!"}},{"$f":"計算結果!#REF!","v":{"$error":"#REF!"}},{"$f":"計算結果!#REF!","v":{"$error":"#REF!"}},{"$f":"計算結果!#REF!","v":{"$error":"#REF!"}},{"$f":"計算結果!#REF!","v":{"$error":"#REF!"}},{"$f":"計算結果!#REF!","v":{"$error":"#REF!"}},{"$f":"計算結果!#REF!","v":{"$error":"#REF!"}},{"$f":"計算結果!#REF!","v":{"$error":"#REF!"}}]
[{"$f":"入力シート!A1444","v":0},{"$f":"入力シート!G1444","v":0},{"$f":"入力シート!H1444","v":0},{"$f":"IF(入力シート!$J1444<>\"\",入力シート!$J1444,IF(入力シート!$L1444<>\"\",入力シート!$L1444,\"‐\"))","v":"‐"},{"$f":"IF(入力シート!$K1444<>\"\",入力シート!$K1444,IF(入力シート!$M1444<>\"\",入力シート!$M1444,入力シート!$N1444))","v":0},{"$f":"入力シート!I1444","v":0},{"$f":"入力シート!O1444","v":0},{"$f":"IF(入力シート!P1444=\"×\",\"P\",\"PN\")","v":"PN"},{"$f":"計算結果!#REF!","v":{"$error":"#REF!"}},{"$f":"計算結果!#REF!","v":{"$error":"#REF!"}},{"$f":"計算結果!#REF!","v":{"$error":"#REF!"}},{"$f":"計算結果!#REF!","v":{"$error":"#REF!"}},{"$f":"計算結果!#REF!","v":{"$error":"#REF!"}},{"$f":"計算結果!#REF!","v":{"$error":"#REF!"}},{"$f":"計算結果!#REF!","v":{"$error":"#REF!"}},{"$f":"計算結果!#REF!","v":{"$error":"#REF!"}},{"$f":"計算結果!#REF!","v":{"$error":"#REF!"}},{"$f":"計算結果!#REF!","v":{"$error":"#REF!"}}]
[{"$f":"入力シート!A1445","v":0},{"$f":"入力シート!G1445","v":0},{"$f":"入力シート!H1445","v":0},{"$f":"IF(入力シート!$J1445<>\"\",入力シート!$J1445,IF(入力シート!$L1445<>\"\",入力シート!$L1445,\"‐\"))","v":"‐"},{"$f":"IF(入力シート!$K1445<>\"\",入力シート!$K1445,IF(入力シート!$M1445<>\"\",入力シート!$M1445,入力シート!$N1445))","v":0},{"$f":"入力シート!I1445","v":0},{"$f":"入力シート!O1445","v":0},{"$f":"IF(入力シート!P1445=\"×\",\"P\",\"PN\")","v":"PN"},{"$f":"計算結果!#REF!","v":{"$error":"#REF!"}},{"$f":"計算結果!#REF!","v":{"$error":"#REF!"}},{"$f":"計算結果!#REF!","v":{"$error":"#REF!"}},{"$f":"計算結果!#REF!","v":{"$error":"#REF!"}},{"$f":"計算結果!#REF!","v":{"$error":"#REF!"}},{"$f":"計算結果!#REF!","v":{"$error":"#REF!"}},{"$f":"計算結果!#REF!","v":{"$error":"#REF!"}},{"$f":"計算結果!#REF!","v":{"$error":"#REF!"}},{"$f":"計算結果!#REF!","v":{"$error":"#REF!"}},{"$f":"計算結果!#REF!","v":{"$error":"#REF!"}}]
[{"$f":"入力シート!A1446","v":0},{"$f":"入力シート!G1446","v":0},{"$f":"入力シート!H1446","v":0},{"$f":"IF(入力シート!$J1446<>\"\",入力シート!$J1446,IF(入力シート!$L1446<>\"\",入力シート!$L1446,\"‐\"))","v":"‐"},{"$f":"IF(入力シート!$K1446<>\"\",入力シート!$K1446,IF(入力シート!$M1446<>\"\",入力シート!$M1446,入力シート!$N1446))","v":0},{"$f":"入力シート!I1446","v":0},{"$f":"入力シート!O1446","v":0},{"$f":"IF(入力シート!P1446=\"×\",\"P\",\"PN\")","v":"PN"},{"$f":"計算結果!#REF!","v":{"$error":"#REF!"}},{"$f":"計算結果!#REF!","v":{"$error":"#REF!"}},{"$f":"計算結果!#REF!","v":{"$error":"#REF!"}},{"$f":"計算結果!#REF!","v":{"$error":"#REF!"}},{"$f":"計算結果!#REF!","v":{"$error":"#REF!"}},{"$f":"計算結果!#REF!","v":{"$error":"#REF!"}},{"$f":"計算結果!#REF!","v":{"$error":"#REF!"}},{"$f":"計算結果!#REF!","v":{"$error":"#REF!"}},{"$f":"計算結果!#REF!","v":{"$error":"#REF!"}},{"$f":"計算結果!#REF!","v":{"$error":"#REF!"}}]
[{"$f":"入力シート!A1447","v":0},{"$f":"入力シート!G1447","v":0},{"$f":"入力シート!H1447","v":0},{"$f":"IF(入力シート!$J1447<>\"\",入力シート!$J1447,IF(入力シート!$L1447<>\"\",入力シート!$L1447,\"‐\"))","v":"‐"},{"$f":"IF(入力シート!$K1447<>\"\",入力シート!$K1447,IF(入力シート!$M1447<>\"\",入力シート!$M1447,入力シート!$N1447))","v":0},{"$f":"入力シート!I1447","v":0},{"$f":"入力シート!O1447","v":0},{"$f":"IF(入力シート!P1447=\"×\",\"P\",\"PN\")","v":"PN"},{"$f":"計算結果!#REF!","v":{"$error":"#REF!"}},{"$f":"計算結果!#REF!","v":{"$error":"#REF!"}},{"$f":"計算結果!#REF!","v":{"$error":"#REF!"}},{"$f":"計算結果!#REF!","v":{"$error":"#REF!"}},{"$f":"計算結果!#REF!","v":{"$error":"#REF!"}},{"$f":"計算結果!#REF!","v":{"$error":"#REF!"}},{"$f":"計算結果!#REF!","v":{"$error":"#REF!"}},{"$f":"計算結果!#REF!","v":{"$error":"#REF!"}},{"$f":"計算結果!#REF!","v":{"$error":"#REF!"}},{"$f":"計算結果!#REF!","v":{"$error":"#REF!"}}]
[{"$f":"入力シート!A1448","v":0},{"$f":"入力シート!G1448","v":0},{"$f":"入力シート!H1448","v":0},{"$f":"IF(入力シート!$J1448<>\"\",入力シート!$J1448,IF(入力シート!$L1448<>\"\",入力シート!$L1448,\"‐\"))","v":"‐"},{"$f":"IF(入力シート!$K1448<>\"\",入力シート!$K1448,IF(入力シート!$M1448<>\"\",入力シート!$M1448,入力シート!$N1448))","v":0},{"$f":"入力シート!I1448","v":0},{"$f":"入力シート!O1448","v":0},{"$f":"IF(入力シート!P1448=\"×\",\"P\",\"PN\")","v":"PN"},{"$f":"計算結果!#REF!","v":{"$error":"#REF!"}},{"$f":"計算結果!#REF!","v":{"$error":"#REF!"}},{"$f":"計算結果!#REF!","v":{"$error":"#REF!"}},{"$f":"計算結果!#REF!","v":{"$error":"#REF!"}},{"$f":"計算結果!#REF!","v":{"$error":"#REF!"}},{"$f":"計算結果!#REF!","v":{"$error":"#REF!"}},{"$f":"計算結果!#REF!","v":{"$error":"#REF!"}},{"$f":"計算結果!#REF!","v":{"$error":"#REF!"}},{"$f":"計算結果!#REF!","v":{"$error":"#REF!"}},{"$f":"計算結果!#REF!","v":{"$error":"#REF!"}}]
[{"$f":"入力シート!A1449","v":0},{"$f":"入力シート!G1449","v":0},{"$f":"入力シート!H1449","v":0},{"$f":"IF(入力シート!$J1449<>\"\",入力シート!$J1449,IF(入力シート!$L1449<>\"\",入力シート!$L1449,\"‐\"))","v":"‐"},{"$f":"IF(入力シート!$K1449<>\"\",入力シート!$K1449,IF(入力シート!$M1449<>\"\",入力シート!$M1449,入力シート!$N1449))","v":0},{"$f":"入力シート!I1449","v":0},{"$f":"入力シート!O1449","v":0},{"$f":"IF(入力シート!P1449=\"×\",\"P\",\"PN\")","v":"PN"},{"$f":"計算結果!#REF!","v":{"$error":"#REF!"}},{"$f":"計算結果!#REF!","v":{"$error":"#REF!"}},{"$f":"計算結果!#REF!","v":{"$error":"#REF!"}},{"$f":"計算結果!#REF!","v":{"$error":"#REF!"}},{"$f":"計算結果!#REF!","v":{"$error":"#REF!"}},{"$f":"計算結果!#REF!","v":{"$error":"#REF!"}},{"$f":"計算結果!#REF!","v":{"$error":"#REF!"}},{"$f":"計算結果!#REF!","v":{"$error":"#REF!"}},{"$f":"計算結果!#REF!","v":{"$error":"#REF!"}},{"$f":"計算結果!#REF!","v":{"$error":"#REF!"}}]
[{"$f":"入力シート!A1450","v":0},{"$f":"入力シート!G1450","v":0},{"$f":"入力シート!H1450","v":0},{"$f":"IF(入力シート!$J1450<>\"\",入力シート!$J1450,IF(入力シート!$L1450<>\"\",入力シート!$L1450,\"‐\"))","v":"‐"},{"$f":"IF(入力シート!$K1450<>\"\",入力シート!$K1450,IF(入力シート!$M1450<>\"\",入力シート!$M1450,入力シート!$N1450))","v":0},{"$f":"入力シート!I1450","v":0},{"$f":"入力シート!O1450","v":0},{"$f":"IF(入力シート!P1450=\"×\",\"P\",\"PN\")","v":"PN"},{"$f":"計算結果!#REF!","v":{"$error":"#REF!"}},{"$f":"計算結果!#REF!","v":{"$error":"#REF!"}},{"$f":"計算結果!#REF!","v":{"$error":"#REF!"}},{"$f":"計算結果!#REF!","v":{"$error":"#REF!"}},{"$f":"計算結果!#REF!","v":{"$error":"#REF!"}},{"$f":"計算結果!#REF!","v":{"$error":"#REF!"}},{"$f":"計算結果!#REF!","v":{"$error":"#REF!"}},{"$f":"計算結果!#REF!","v":{"$error":"#REF!"}},{"$f":"計算結果!#REF!","v":{"$error":"#REF!"}},{"$f":"計算結果!#REF!","v":{"$error":"#REF!"}}]
[{"$f":"入力シート!A1451","v":0},{"$f":"入力シート!G1451","v":0},{"$f":"入力シート!H1451","v":0},{"$f":"IF(入力シート!$J1451<>\"\",入力シート!$J1451,IF(入力シート!$L1451<>\"\",入力シート!$L1451,\"‐\"))","v":"‐"},{"$f":"IF(入力シート!$K1451<>\"\",入力シート!$K1451,IF(入力シート!$M1451<>\"\",入力シート!$M1451,入力シート!$N1451))","v":0},{"$f":"入力シート!I1451","v":0},{"$f":"入力シート!O1451","v":0},{"$f":"IF(入力シート!P1451=\"×\",\"P\",\"PN\")","v":"PN"},{"$f":"計算結果!#REF!","v":{"$error":"#REF!"}},{"$f":"計算結果!#REF!","v":{"$error":"#REF!"}},{"$f":"計算結果!#REF!","v":{"$error":"#REF!"}},{"$f":"計算結果!#REF!","v":{"$error":"#REF!"}},{"$f":"計算結果!#REF!","v":{"$error":"#REF!"}},{"$f":"計算結果!#REF!","v":{"$error":"#REF!"}},{"$f":"計算結果!#REF!","v":{"$error":"#REF!"}},{"$f":"計算結果!#REF!","v":{"$error":"#REF!"}},{"$f":"計算結果!#REF!","v":{"$error":"#REF!"}},{"$f":"計算結果!#REF!","v":{"$error":"#REF!"}}]
[{"$f":"入力シート!A1452","v":0},{"$f":"入力シート!G1452","v":0},{"$f":"入力シート!H1452","v":0},{"$f":"IF(入力シート!$J1452<>\"\",入力シート!$J1452,IF(入力シート!$L1452<>\"\",入力シート!$L1452,\"‐\"))","v":"‐"},{"$f":"IF(入力シート!$K1452<>\"\",入力シート!$K1452,IF(入力シート!$M1452<>\"\",入力シート!$M1452,入力シート!$N1452))","v":0},{"$f":"入力シート!I1452","v":0},{"$f":"入力シート!O1452","v":0},{"$f":"IF(入力シート!P1452=\"×\",\"P\",\"PN\")","v":"PN"},{"$f":"計算結果!#REF!","v":{"$error":"#REF!"}},{"$f":"計算結果!#REF!","v":{"$error":"#REF!"}},{"$f":"計算結果!#REF!","v":{"$error":"#REF!"}},{"$f":"計算結果!#REF!","v":{"$error":"#REF!"}},{"$f":"計算結果!#REF!","v":{"$error":"#REF!"}},{"$f":"計算結果!#REF!","v":{"$error":"#REF!"}},{"$f":"計算結果!#REF!","v":{"$error":"#REF!"}},{"$f":"計算結果!#REF!","v":{"$error":"#REF!"}},{"$f":"計算結果!#REF!","v":{"$error":"#REF!"}},{"$f":"計算結果!#REF!","v":{"$error":"#REF!"}}]
[{"$f":"入力シート!A1453","v":0},{"$f":"入力シート!G1453","v":0},{"$f":"入力シート!H1453","v":0},{"$f":"IF(入力シート!$J1453<>\"\",入力シート!$J1453,IF(入力シート!$L1453<>\"\",入力シート!$L1453,\"‐\"))","v":"‐"},{"$f":"IF(入力シート!$K1453<>\"\",入力シート!$K1453,IF(入力シート!$M1453<>\"\",入力シート!$M1453,入力シート!$N1453))","v":0},{"$f":"入力シート!I1453","v":0},{"$f":"入力シート!O1453","v":0},{"$f":"IF(入力シート!P1453=\"×\",\"P\",\"PN\")","v":"PN"},{"$f":"計算結果!#REF!","v":{"$error":"#REF!"}},{"$f":"計算結果!#REF!","v":{"$error":"#REF!"}},{"$f":"計算結果!#REF!","v":{"$error":"#REF!"}},{"$f":"計算結果!#REF!","v":{"$error":"#REF!"}},{"$f":"計算結果!#REF!","v":{"$error":"#REF!"}},{"$f":"計算結果!#REF!","v":{"$error":"#REF!"}},{"$f":"計算結果!#REF!","v":{"$error":"#REF!"}},{"$f":"計算結果!#REF!","v":{"$error":"#REF!"}},{"$f":"計算結果!#REF!","v":{"$error":"#REF!"}},{"$f":"計算結果!#REF!","v":{"$error":"#REF!"}}]
[{"$f":"入力シート!A1454","v":0},{"$f":"入力シート!G1454","v":0},{"$f":"入力シート!H1454","v":0},{"$f":"IF(入力シート!$J1454<>\"\",入力シート!$J1454,IF(入力シート!$L1454<>\"\",入力シート!$L1454,\"‐\"))","v":"‐"},{"$f":"IF(入力シート!$K1454<>\"\",入力シート!$K1454,IF(入力シート!$M1454<>\"\",入力シート!$M1454,入力シート!$N1454))","v":0},{"$f":"入力シート!I1454","v":0},{"$f":"入力シート!O1454","v":0},{"$f":"IF(入力シート!P1454=\"×\",\"P\",\"PN\")","v":"PN"},{"$f":"計算結果!#REF!","v":{"$error":"#REF!"}},{"$f":"計算結果!#REF!","v":{"$error":"#REF!"}},{"$f":"計算結果!#REF!","v":{"$error":"#REF!"}},{"$f":"計算結果!#REF!","v":{"$error":"#REF!"}},{"$f":"計算結果!#REF!","v":{"$error":"#REF!"}},{"$f":"計算結果!#REF!","v":{"$error":"#REF!"}},{"$f":"計算結果!#REF!","v":{"$error":"#REF!"}},{"$f":"計算結果!#REF!","v":{"$error":"#REF!"}},{"$f":"計算結果!#REF!","v":{"$error":"#REF!"}},{"$f":"計算結果!#REF!","v":{"$error":"#REF!"}}]
[{"$f":"入力シート!A1455","v":0},{"$f":"入力シート!G1455","v":0},{"$f":"入力シート!H1455","v":0},{"$f":"IF(入力シート!$J1455<>\"\",入力シート!$J1455,IF(入力シート!$L1455<>\"\",入力シート!$L1455,\"‐\"))","v":"‐"},{"$f":"IF(入力シート!$K1455<>\"\",入力シート!$K1455,IF(入力シート!$M1455<>\"\",入力シート!$M1455,入力シート!$N1455))","v":0},{"$f":"入力シート!I1455","v":0},{"$f":"入力シート!O1455","v":0},{"$f":"IF(入力シート!P1455=\"×\",\"P\",\"PN\")","v":"PN"},{"$f":"計算結果!#REF!","v":{"$error":"#REF!"}},{"$f":"計算結果!#REF!","v":{"$error":"#REF!"}},{"$f":"計算結果!#REF!","v":{"$error":"#REF!"}},{"$f":"計算結果!#REF!","v":{"$error":"#REF!"}},{"$f":"計算結果!#REF!","v":{"$error":"#REF!"}},{"$f":"計算結果!#REF!","v":{"$error":"#REF!"}},{"$f":"計算結果!#REF!","v":{"$error":"#REF!"}},{"$f":"計算結果!#REF!","v":{"$error":"#REF!"}},{"$f":"計算結果!#REF!","v":{"$error":"#REF!"}},{"$f":"計算結果!#REF!","v":{"$error":"#REF!"}}]
[{"$f":"入力シート!A1456","v":0},{"$f":"入力シート!G1456","v":0},{"$f":"入力シート!H1456","v":0},{"$f":"IF(入力シート!$J1456<>\"\",入力シート!$J1456,IF(入力シート!$L1456<>\"\",入力シート!$L1456,\"‐\"))","v":"‐"},{"$f":"IF(入力シート!$K1456<>\"\",入力シート!$K1456,IF(入力シート!$M1456<>\"\",入力シート!$M1456,入力シート!$N1456))","v":0},{"$f":"入力シート!I1456","v":0},{"$f":"入力シート!O1456","v":0},{"$f":"IF(入力シート!P1456=\"×\",\"P\",\"PN\")","v":"PN"},{"$f":"計算結果!#REF!","v":{"$error":"#REF!"}},{"$f":"計算結果!#REF!","v":{"$error":"#REF!"}},{"$f":"計算結果!#REF!","v":{"$error":"#REF!"}},{"$f":"計算結果!#REF!","v":{"$error":"#REF!"}},{"$f":"計算結果!#REF!","v":{"$error":"#REF!"}},{"$f":"計算結果!#REF!","v":{"$error":"#REF!"}},{"$f":"計算結果!#REF!","v":{"$error":"#REF!"}},{"$f":"計算結果!#REF!","v":{"$error":"#REF!"}},{"$f":"計算結果!#REF!","v":{"$error":"#REF!"}},{"$f":"計算結果!#REF!","v":{"$error":"#REF!"}}]
[{"$f":"入力シート!A1457","v":0},{"$f":"入力シート!G1457","v":0},{"$f":"入力シート!H1457","v":0},{"$f":"IF(入力シート!$J1457<>\"\",入力シート!$J1457,IF(入力シート!$L1457<>\"\",入力シート!$L1457,\"‐\"))","v":"‐"},{"$f":"IF(入力シート!$K1457<>\"\",入力シート!$K1457,IF(入力シート!$M1457<>\"\",入力シート!$M1457,入力シート!$N1457))","v":0},{"$f":"入力シート!I1457","v":0},{"$f":"入力シート!O1457","v":0},{"$f":"IF(入力シート!P1457=\"×\",\"P\",\"PN\")","v":"PN"},{"$f":"計算結果!#REF!","v":{"$error":"#REF!"}},{"$f":"計算結果!#REF!","v":{"$error":"#REF!"}},{"$f":"計算結果!#REF!","v":{"$error":"#REF!"}},{"$f":"計算結果!#REF!","v":{"$error":"#REF!"}},{"$f":"計算結果!#REF!","v":{"$error":"#REF!"}},{"$f":"計算結果!#REF!","v":{"$error":"#REF!"}},{"$f":"計算結果!#REF!","v":{"$error":"#REF!"}},{"$f":"計算結果!#REF!","v":{"$error":"#REF!"}},{"$f":"計算結果!#REF!","v":{"$error":"#REF!"}},{"$f":"計算結果!#REF!","v":{"$error":"#REF!"}}]
[{"$f":"入力シート!A1458","v":0},{"$f":"入力シート!G1458","v":0},{"$f":"入力シート!H1458","v":0},{"$f":"IF(入力シート!$J1458<>\"\",入力シート!$J1458,IF(入力シート!$L1458<>\"\",入力シート!$L1458,\"‐\"))","v":"‐"},{"$f":"IF(入力シート!$K1458<>\"\",入力シート!$K1458,IF(入力シート!$M1458<>\"\",入力シート!$M1458,入力シート!$N1458))","v":0},{"$f":"入力シート!I1458","v":0},{"$f":"入力シート!O1458","v":0},{"$f":"IF(入力シート!P1458=\"×\",\"P\",\"PN\")","v":"PN"},{"$f":"計算結果!#REF!","v":{"$error":"#REF!"}},{"$f":"計算結果!#REF!","v":{"$error":"#REF!"}},{"$f":"計算結果!#REF!","v":{"$error":"#REF!"}},{"$f":"計算結果!#REF!","v":{"$error":"#REF!"}},{"$f":"計算結果!#REF!","v":{"$error":"#REF!"}},{"$f":"計算結果!#REF!","v":{"$error":"#REF!"}},{"$f":"計算結果!#REF!","v":{"$error":"#REF!"}},{"$f":"計算結果!#REF!","v":{"$error":"#REF!"}},{"$f":"計算結果!#REF!","v":{"$error":"#REF!"}},{"$f":"計算結果!#REF!","v":{"$error":"#REF!"}}]
[{"$f":"入力シート!A1459","v":0},{"$f":"入力シート!G1459","v":0},{"$f":"入力シート!H1459","v":0},{"$f":"IF(入力シート!$J1459<>\"\",入力シート!$J1459,IF(入力シート!$L1459<>\"\",入力シート!$L1459,\"‐\"))","v":"‐"},{"$f":"IF(入力シート!$K1459<>\"\",入力シート!$K1459,IF(入力シート!$M1459<>\"\",入力シート!$M1459,入力シート!$N1459))","v":0},{"$f":"入力シート!I1459","v":0},{"$f":"入力シート!O1459","v":0},{"$f":"IF(入力シート!P1459=\"×\",\"P\",\"PN\")","v":"PN"},{"$f":"計算結果!#REF!","v":{"$error":"#REF!"}},{"$f":"計算結果!#REF!","v":{"$error":"#REF!"}},{"$f":"計算結果!#REF!","v":{"$error":"#REF!"}},{"$f":"計算結果!#REF!","v":{"$error":"#REF!"}},{"$f":"計算結果!#REF!","v":{"$error":"#REF!"}},{"$f":"計算結果!#REF!","v":{"$error":"#REF!"}},{"$f":"計算結果!#REF!","v":{"$error":"#REF!"}},{"$f":"計算結果!#REF!","v":{"$error":"#REF!"}},{"$f":"計算結果!#REF!","v":{"$error":"#REF!"}},{"$f":"計算結果!#REF!","v":{"$error":"#REF!"}}]
[{"$f":"入力シート!A1460","v":0},{"$f":"入力シート!G1460","v":0},{"$f":"入力シート!H1460","v":0},{"$f":"IF(入力シート!$J1460<>\"\",入力シート!$J1460,IF(入力シート!$L1460<>\"\",入力シート!$L1460,\"‐\"))","v":"‐"},{"$f":"IF(入力シート!$K1460<>\"\",入力シート!$K1460,IF(入力シート!$M1460<>\"\",入力シート!$M1460,入力シート!$N1460))","v":0},{"$f":"入力シート!I1460","v":0},{"$f":"入力シート!O1460","v":0},{"$f":"IF(入力シート!P1460=\"×\",\"P\",\"PN\")","v":"PN"},{"$f":"計算結果!#REF!","v":{"$error":"#REF!"}},{"$f":"計算結果!#REF!","v":{"$error":"#REF!"}},{"$f":"計算結果!#REF!","v":{"$error":"#REF!"}},{"$f":"計算結果!#REF!","v":{"$error":"#REF!"}},{"$f":"計算結果!#REF!","v":{"$error":"#REF!"}},{"$f":"計算結果!#REF!","v":{"$error":"#REF!"}},{"$f":"計算結果!#REF!","v":{"$error":"#REF!"}},{"$f":"計算結果!#REF!","v":{"$error":"#REF!"}},{"$f":"計算結果!#REF!","v":{"$error":"#REF!"}},{"$f":"計算結果!#REF!","v":{"$error":"#REF!"}}]
[{"$f":"入力シート!A1461","v":0},{"$f":"入力シート!G1461","v":0},{"$f":"入力シート!H1461","v":0},{"$f":"IF(入力シート!$J1461<>\"\",入力シート!$J1461,IF(入力シート!$L1461<>\"\",入力シート!$L1461,\"‐\"))","v":"‐"},{"$f":"IF(入力シート!$K1461<>\"\",入力シート!$K1461,IF(入力シート!$M1461<>\"\",入力シート!$M1461,入力シート!$N1461))","v":0},{"$f":"入力シート!I1461","v":0},{"$f":"入力シート!O1461","v":0},{"$f":"IF(入力シート!P1461=\"×\",\"P\",\"PN\")","v":"PN"},{"$f":"計算結果!#REF!","v":{"$error":"#REF!"}},{"$f":"計算結果!#REF!","v":{"$error":"#REF!"}},{"$f":"計算結果!#REF!","v":{"$error":"#REF!"}},{"$f":"計算結果!#REF!","v":{"$error":"#REF!"}},{"$f":"計算結果!#REF!","v":{"$error":"#REF!"}},{"$f":"計算結果!#REF!","v":{"$error":"#REF!"}},{"$f":"計算結果!#REF!","v":{"$error":"#REF!"}},{"$f":"計算結果!#REF!","v":{"$error":"#REF!"}},{"$f":"計算結果!#REF!","v":{"$error":"#REF!"}},{"$f":"計算結果!#REF!","v":{"$error":"#REF!"}}]
[{"$f":"入力シート!A1462","v":0},{"$f":"入力シート!G1462","v":0},{"$f":"入力シート!H1462","v":0},{"$f":"IF(入力シート!$J1462<>\"\",入力シート!$J1462,IF(入力シート!$L1462<>\"\",入力シート!$L1462,\"‐\"))","v":"‐"},{"$f":"IF(入力シート!$K1462<>\"\",入力シート!$K1462,IF(入力シート!$M1462<>\"\",入力シート!$M1462,入力シート!$N1462))","v":0},{"$f":"入力シート!I1462","v":0},{"$f":"入力シート!O1462","v":0},{"$f":"IF(入力シート!P1462=\"×\",\"P\",\"PN\")","v":"PN"},{"$f":"計算結果!#REF!","v":{"$error":"#REF!"}},{"$f":"計算結果!#REF!","v":{"$error":"#REF!"}},{"$f":"計算結果!#REF!","v":{"$error":"#REF!"}},{"$f":"計算結果!#REF!","v":{"$error":"#REF!"}},{"$f":"計算結果!#REF!","v":{"$error":"#REF!"}},{"$f":"計算結果!#REF!","v":{"$error":"#REF!"}},{"$f":"計算結果!#REF!","v":{"$error":"#REF!"}},{"$f":"計算結果!#REF!","v":{"$error":"#REF!"}},{"$f":"計算結果!#REF!","v":{"$error":"#REF!"}},{"$f":"計算結果!#REF!","v":{"$error":"#REF!"}}]
[{"$f":"入力シート!A1463","v":0},{"$f":"入力シート!G1463","v":0},{"$f":"入力シート!H1463","v":0},{"$f":"IF(入力シート!$J1463<>\"\",入力シート!$J1463,IF(入力シート!$L1463<>\"\",入力シート!$L1463,\"‐\"))","v":"‐"},{"$f":"IF(入力シート!$K1463<>\"\",入力シート!$K1463,IF(入力シート!$M1463<>\"\",入力シート!$M1463,入力シート!$N1463))","v":0},{"$f":"入力シート!I1463","v":0},{"$f":"入力シート!O1463","v":0},{"$f":"IF(入力シート!P1463=\"×\",\"P\",\"PN\")","v":"PN"},{"$f":"計算結果!#REF!","v":{"$error":"#REF!"}},{"$f":"計算結果!#REF!","v":{"$error":"#REF!"}},{"$f":"計算結果!#REF!","v":{"$error":"#REF!"}},{"$f":"計算結果!#REF!","v":{"$error":"#REF!"}},{"$f":"計算結果!#REF!","v":{"$error":"#REF!"}},{"$f":"計算結果!#REF!","v":{"$error":"#REF!"}},{"$f":"計算結果!#REF!","v":{"$error":"#REF!"}},{"$f":"計算結果!#REF!","v":{"$error":"#REF!"}},{"$f":"計算結果!#REF!","v":{"$error":"#REF!"}},{"$f":"計算結果!#REF!","v":{"$error":"#REF!"}}]
[{"$f":"入力シート!A1464","v":0},{"$f":"入力シート!G1464","v":0},{"$f":"入力シート!H1464","v":0},{"$f":"IF(入力シート!$J1464<>\"\",入力シート!$J1464,IF(入力シート!$L1464<>\"\",入力シート!$L1464,\"‐\"))","v":"‐"},{"$f":"IF(入力シート!$K1464<>\"\",入力シート!$K1464,IF(入力シート!$M1464<>\"\",入力シート!$M1464,入力シート!$N1464))","v":0},{"$f":"入力シート!I1464","v":0},{"$f":"入力シート!O1464","v":0},{"$f":"IF(入力シート!P1464=\"×\",\"P\",\"PN\")","v":"PN"},{"$f":"計算結果!#REF!","v":{"$error":"#REF!"}},{"$f":"計算結果!#REF!","v":{"$error":"#REF!"}},{"$f":"計算結果!#REF!","v":{"$error":"#REF!"}},{"$f":"計算結果!#REF!","v":{"$error":"#REF!"}},{"$f":"計算結果!#REF!","v":{"$error":"#REF!"}},{"$f":"計算結果!#REF!","v":{"$error":"#REF!"}},{"$f":"計算結果!#REF!","v":{"$error":"#REF!"}},{"$f":"計算結果!#REF!","v":{"$error":"#REF!"}},{"$f":"計算結果!#REF!","v":{"$error":"#REF!"}},{"$f":"計算結果!#REF!","v":{"$error":"#REF!"}}]
[{"$f":"入力シート!A1465","v":0},{"$f":"入力シート!G1465","v":0},{"$f":"入力シート!H1465","v":0},{"$f":"IF(入力シート!$J1465<>\"\",入力シート!$J1465,IF(入力シート!$L1465<>\"\",入力シート!$L1465,\"‐\"))","v":"‐"},{"$f":"IF(入力シート!$K1465<>\"\",入力シート!$K1465,IF(入力シート!$M1465<>\"\",入力シート!$M1465,入力シート!$N1465))","v":0},{"$f":"入力シート!I1465","v":0},{"$f":"入力シート!O1465","v":0},{"$f":"IF(入力シート!P1465=\"×\",\"P\",\"PN\")","v":"PN"},{"$f":"計算結果!#REF!","v":{"$error":"#REF!"}},{"$f":"計算結果!#REF!","v":{"$error":"#REF!"}},{"$f":"計算結果!#REF!","v":{"$error":"#REF!"}},{"$f":"計算結果!#REF!","v":{"$error":"#REF!"}},{"$f":"計算結果!#REF!","v":{"$error":"#REF!"}},{"$f":"計算結果!#REF!","v":{"$error":"#REF!"}},{"$f":"計算結果!#REF!","v":{"$error":"#REF!"}},{"$f":"計算結果!#REF!","v":{"$error":"#REF!"}},{"$f":"計算結果!#REF!","v":{"$error":"#REF!"}},{"$f":"計算結果!#REF!","v":{"$error":"#REF!"}}]
[{"$f":"入力シート!A1466","v":0},{"$f":"入力シート!G1466","v":0},{"$f":"入力シート!H1466","v":0},{"$f":"IF(入力シート!$J1466<>\"\",入力シート!$J1466,IF(入力シート!$L1466<>\"\",入力シート!$L1466,\"‐\"))","v":"‐"},{"$f":"IF(入力シート!$K1466<>\"\",入力シート!$K1466,IF(入力シート!$M1466<>\"\",入力シート!$M1466,入力シート!$N1466))","v":0},{"$f":"入力シート!I1466","v":0},{"$f":"入力シート!O1466","v":0},{"$f":"IF(入力シート!P1466=\"×\",\"P\",\"PN\")","v":"PN"},{"$f":"計算結果!#REF!","v":{"$error":"#REF!"}},{"$f":"計算結果!#REF!","v":{"$error":"#REF!"}},{"$f":"計算結果!#REF!","v":{"$error":"#REF!"}},{"$f":"計算結果!#REF!","v":{"$error":"#REF!"}},{"$f":"計算結果!#REF!","v":{"$error":"#REF!"}},{"$f":"計算結果!#REF!","v":{"$error":"#REF!"}},{"$f":"計算結果!#REF!","v":{"$error":"#REF!"}},{"$f":"計算結果!#REF!","v":{"$error":"#REF!"}},{"$f":"計算結果!#REF!","v":{"$error":"#REF!"}},{"$f":"計算結果!#REF!","v":{"$error":"#REF!"}}]
[{"$f":"入力シート!A1467","v":0},{"$f":"入力シート!G1467","v":0},{"$f":"入力シート!H1467","v":0},{"$f":"IF(入力シート!$J1467<>\"\",入力シート!$J1467,IF(入力シート!$L1467<>\"\",入力シート!$L1467,\"‐\"))","v":"‐"},{"$f":"IF(入力シート!$K1467<>\"\",入力シート!$K1467,IF(入力シート!$M1467<>\"\",入力シート!$M1467,入力シート!$N1467))","v":0},{"$f":"入力シート!I1467","v":0},{"$f":"入力シート!O1467","v":0},{"$f":"IF(入力シート!P1467=\"×\",\"P\",\"PN\")","v":"PN"},{"$f":"計算結果!#REF!","v":{"$error":"#REF!"}},{"$f":"計算結果!#REF!","v":{"$error":"#REF!"}},{"$f":"計算結果!#REF!","v":{"$error":"#REF!"}},{"$f":"計算結果!#REF!","v":{"$error":"#REF!"}},{"$f":"計算結果!#REF!","v":{"$error":"#REF!"}},{"$f":"計算結果!#REF!","v":{"$error":"#REF!"}},{"$f":"計算結果!#REF!","v":{"$error":"#REF!"}},{"$f":"計算結果!#REF!","v":{"$error":"#REF!"}},{"$f":"計算結果!#REF!","v":{"$error":"#REF!"}},{"$f":"計算結果!#REF!","v":{"$error":"#REF!"}}]
[{"$f":"入力シート!A1468","v":0},{"$f":"入力シート!G1468","v":0},{"$f":"入力シート!H1468","v":0},{"$f":"IF(入力シート!$J1468<>\"\",入力シート!$J1468,IF(入力シート!$L1468<>\"\",入力シート!$L1468,\"‐\"))","v":"‐"},{"$f":"IF(入力シート!$K1468<>\"\",入力シート!$K1468,IF(入力シート!$M1468<>\"\",入力シート!$M1468,入力シート!$N1468))","v":0},{"$f":"入力シート!I1468","v":0},{"$f":"入力シート!O1468","v":0},{"$f":"IF(入力シート!P1468=\"×\",\"P\",\"PN\")","v":"PN"},{"$f":"計算結果!#REF!","v":{"$error":"#REF!"}},{"$f":"計算結果!#REF!","v":{"$error":"#REF!"}},{"$f":"計算結果!#REF!","v":{"$error":"#REF!"}},{"$f":"計算結果!#REF!","v":{"$error":"#REF!"}},{"$f":"計算結果!#REF!","v":{"$error":"#REF!"}},{"$f":"計算結果!#REF!","v":{"$error":"#REF!"}},{"$f":"計算結果!#REF!","v":{"$error":"#REF!"}},{"$f":"計算結果!#REF!","v":{"$error":"#REF!"}},{"$f":"計算結果!#REF!","v":{"$error":"#REF!"}},{"$f":"計算結果!#REF!","v":{"$error":"#REF!"}}]
[{"$f":"入力シート!A1469","v":0},{"$f":"入力シート!G1469","v":0},{"$f":"入力シート!H1469","v":0},{"$f":"IF(入力シート!$J1469<>\"\",入力シート!$J1469,IF(入力シート!$L1469<>\"\",入力シート!$L1469,\"‐\"))","v":"‐"},{"$f":"IF(入力シート!$K1469<>\"\",入力シート!$K1469,IF(入力シート!$M1469<>\"\",入力シート!$M1469,入力シート!$N1469))","v":0},{"$f":"入力シート!I1469","v":0},{"$f":"入力シート!O1469","v":0},{"$f":"IF(入力シート!P1469=\"×\",\"P\",\"PN\")","v":"PN"},{"$f":"計算結果!#REF!","v":{"$error":"#REF!"}},{"$f":"計算結果!#REF!","v":{"$error":"#REF!"}},{"$f":"計算結果!#REF!","v":{"$error":"#REF!"}},{"$f":"計算結果!#REF!","v":{"$error":"#REF!"}},{"$f":"計算結果!#REF!","v":{"$error":"#REF!"}},{"$f":"計算結果!#REF!","v":{"$error":"#REF!"}},{"$f":"計算結果!#REF!","v":{"$error":"#REF!"}},{"$f":"計算結果!#REF!","v":{"$error":"#REF!"}},{"$f":"計算結果!#REF!","v":{"$error":"#REF!"}},{"$f":"計算結果!#REF!","v":{"$error":"#REF!"}}]
[{"$f":"入力シート!A1470","v":0},{"$f":"入力シート!G1470","v":0},{"$f":"入力シート!H1470","v":0},{"$f":"IF(入力シート!$J1470<>\"\",入力シート!$J1470,IF(入力シート!$L1470<>\"\",入力シート!$L1470,\"‐\"))","v":"‐"},{"$f":"IF(入力シート!$K1470<>\"\",入力シート!$K1470,IF(入力シート!$M1470<>\"\",入力シート!$M1470,入力シート!$N1470))","v":0},{"$f":"入力シート!I1470","v":0},{"$f":"入力シート!O1470","v":0},{"$f":"IF(入力シート!P1470=\"×\",\"P\",\"PN\")","v":"PN"},{"$f":"計算結果!#REF!","v":{"$error":"#REF!"}},{"$f":"計算結果!#REF!","v":{"$error":"#REF!"}},{"$f":"計算結果!#REF!","v":{"$error":"#REF!"}},{"$f":"計算結果!#REF!","v":{"$error":"#REF!"}},{"$f":"計算結果!#REF!","v":{"$error":"#REF!"}},{"$f":"計算結果!#REF!","v":{"$error":"#REF!"}},{"$f":"計算結果!#REF!","v":{"$error":"#REF!"}},{"$f":"計算結果!#REF!","v":{"$error":"#REF!"}},{"$f":"計算結果!#REF!","v":{"$error":"#REF!"}},{"$f":"計算結果!#REF!","v":{"$error":"#REF!"}}]
[{"$f":"入力シート!A1471","v":0},{"$f":"入力シート!G1471","v":0},{"$f":"入力シート!H1471","v":0},{"$f":"IF(入力シート!$J1471<>\"\",入力シート!$J1471,IF(入力シート!$L1471<>\"\",入力シート!$L1471,\"‐\"))","v":"‐"},{"$f":"IF(入力シート!$K1471<>\"\",入力シート!$K1471,IF(入力シート!$M1471<>\"\",入力シート!$M1471,入力シート!$N1471))","v":0},{"$f":"入力シート!I1471","v":0},{"$f":"入力シート!O1471","v":0},{"$f":"IF(入力シート!P1471=\"×\",\"P\",\"PN\")","v":"PN"},{"$f":"計算結果!#REF!","v":{"$error":"#REF!"}},{"$f":"計算結果!#REF!","v":{"$error":"#REF!"}},{"$f":"計算結果!#REF!","v":{"$error":"#REF!"}},{"$f":"計算結果!#REF!","v":{"$error":"#REF!"}},{"$f":"計算結果!#REF!","v":{"$error":"#REF!"}},{"$f":"計算結果!#REF!","v":{"$error":"#REF!"}},{"$f":"計算結果!#REF!","v":{"$error":"#REF!"}},{"$f":"計算結果!#REF!","v":{"$error":"#REF!"}},{"$f":"計算結果!#REF!","v":{"$error":"#REF!"}},{"$f":"計算結果!#REF!","v":{"$error":"#REF!"}}]
[{"$f":"入力シート!A1472","v":0},{"$f":"入力シート!G1472","v":0},{"$f":"入力シート!H1472","v":0},{"$f":"IF(入力シート!$J1472<>\"\",入力シート!$J1472,IF(入力シート!$L1472<>\"\",入力シート!$L1472,\"‐\"))","v":"‐"},{"$f":"IF(入力シート!$K1472<>\"\",入力シート!$K1472,IF(入力シート!$M1472<>\"\",入力シート!$M1472,入力シート!$N1472))","v":0},{"$f":"入力シート!I1472","v":0},{"$f":"入力シート!O1472","v":0},{"$f":"IF(入力シート!P1472=\"×\",\"P\",\"PN\")","v":"PN"},{"$f":"計算結果!#REF!","v":{"$error":"#REF!"}},{"$f":"計算結果!#REF!","v":{"$error":"#REF!"}},{"$f":"計算結果!#REF!","v":{"$error":"#REF!"}},{"$f":"計算結果!#REF!","v":{"$error":"#REF!"}},{"$f":"計算結果!#REF!","v":{"$error":"#REF!"}},{"$f":"計算結果!#REF!","v":{"$error":"#REF!"}},{"$f":"計算結果!#REF!","v":{"$error":"#REF!"}},{"$f":"計算結果!#REF!","v":{"$error":"#REF!"}},{"$f":"計算結果!#REF!","v":{"$error":"#REF!"}},{"$f":"計算結果!#REF!","v":{"$error":"#REF!"}}]
[{"$f":"入力シート!A1473","v":0},{"$f":"入力シート!G1473","v":0},{"$f":"入力シート!H1473","v":0},{"$f":"IF(入力シート!$J1473<>\"\",入力シート!$J1473,IF(入力シート!$L1473<>\"\",入力シート!$L1473,\"‐\"))","v":"‐"},{"$f":"IF(入力シート!$K1473<>\"\",入力シート!$K1473,IF(入力シート!$M1473<>\"\",入力シート!$M1473,入力シート!$N1473))","v":0},{"$f":"入力シート!I1473","v":0},{"$f":"入力シート!O1473","v":0},{"$f":"IF(入力シート!P1473=\"×\",\"P\",\"PN\")","v":"PN"},{"$f":"計算結果!#REF!","v":{"$error":"#REF!"}},{"$f":"計算結果!#REF!","v":{"$error":"#REF!"}},{"$f":"計算結果!#REF!","v":{"$error":"#REF!"}},{"$f":"計算結果!#REF!","v":{"$error":"#REF!"}},{"$f":"計算結果!#REF!","v":{"$error":"#REF!"}},{"$f":"計算結果!#REF!","v":{"$error":"#REF!"}},{"$f":"計算結果!#REF!","v":{"$error":"#REF!"}},{"$f":"計算結果!#REF!","v":{"$error":"#REF!"}},{"$f":"計算結果!#REF!","v":{"$error":"#REF!"}},{"$f":"計算結果!#REF!","v":{"$error":"#REF!"}}]
[{"$f":"入力シート!A1474","v":0},{"$f":"入力シート!G1474","v":0},{"$f":"入力シート!H1474","v":0},{"$f":"IF(入力シート!$J1474<>\"\",入力シート!$J1474,IF(入力シート!$L1474<>\"\",入力シート!$L1474,\"‐\"))","v":"‐"},{"$f":"IF(入力シート!$K1474<>\"\",入力シート!$K1474,IF(入力シート!$M1474<>\"\",入力シート!$M1474,入力シート!$N1474))","v":0},{"$f":"入力シート!I1474","v":0},{"$f":"入力シート!O1474","v":0},{"$f":"IF(入力シート!P1474=\"×\",\"P\",\"PN\")","v":"PN"},{"$f":"計算結果!#REF!","v":{"$error":"#REF!"}},{"$f":"計算結果!#REF!","v":{"$error":"#REF!"}},{"$f":"計算結果!#REF!","v":{"$error":"#REF!"}},{"$f":"計算結果!#REF!","v":{"$error":"#REF!"}},{"$f":"計算結果!#REF!","v":{"$error":"#REF!"}},{"$f":"計算結果!#REF!","v":{"$error":"#REF!"}},{"$f":"計算結果!#REF!","v":{"$error":"#REF!"}},{"$f":"計算結果!#REF!","v":{"$error":"#REF!"}},{"$f":"計算結果!#REF!","v":{"$error":"#REF!"}},{"$f":"計算結果!#REF!","v":{"$error":"#REF!"}}]
[{"$f":"入力シート!A1475","v":0},{"$f":"入力シート!G1475","v":0},{"$f":"入力シート!H1475","v":0},{"$f":"IF(入力シート!$J1475<>\"\",入力シート!$J1475,IF(入力シート!$L1475<>\"\",入力シート!$L1475,\"‐\"))","v":"‐"},{"$f":"IF(入力シート!$K1475<>\"\",入力シート!$K1475,IF(入力シート!$M1475<>\"\",入力シート!$M1475,入力シート!$N1475))","v":0},{"$f":"入力シート!I1475","v":0},{"$f":"入力シート!O1475","v":0},{"$f":"IF(入力シート!P1475=\"×\",\"P\",\"PN\")","v":"PN"},{"$f":"計算結果!#REF!","v":{"$error":"#REF!"}},{"$f":"計算結果!#REF!","v":{"$error":"#REF!"}},{"$f":"計算結果!#REF!","v":{"$error":"#REF!"}},{"$f":"計算結果!#REF!","v":{"$error":"#REF!"}},{"$f":"計算結果!#REF!","v":{"$error":"#REF!"}},{"$f":"計算結果!#REF!","v":{"$error":"#REF!"}},{"$f":"計算結果!#REF!","v":{"$error":"#REF!"}},{"$f":"計算結果!#REF!","v":{"$error":"#REF!"}},{"$f":"計算結果!#REF!","v":{"$error":"#REF!"}},{"$f":"計算結果!#REF!","v":{"$error":"#REF!"}}]
[{"$f":"入力シート!A1476","v":0},{"$f":"入力シート!G1476","v":0},{"$f":"入力シート!H1476","v":0},{"$f":"IF(入力シート!$J1476<>\"\",入力シート!$J1476,IF(入力シート!$L1476<>\"\",入力シート!$L1476,\"‐\"))","v":"‐"},{"$f":"IF(入力シート!$K1476<>\"\",入力シート!$K1476,IF(入力シート!$M1476<>\"\",入力シート!$M1476,入力シート!$N1476))","v":0},{"$f":"入力シート!I1476","v":0},{"$f":"入力シート!O1476","v":0},{"$f":"IF(入力シート!P1476=\"×\",\"P\",\"PN\")","v":"PN"},{"$f":"計算結果!#REF!","v":{"$error":"#REF!"}},{"$f":"計算結果!#REF!","v":{"$error":"#REF!"}},{"$f":"計算結果!#REF!","v":{"$error":"#REF!"}},{"$f":"計算結果!#REF!","v":{"$error":"#REF!"}},{"$f":"計算結果!#REF!","v":{"$error":"#REF!"}},{"$f":"計算結果!#REF!","v":{"$error":"#REF!"}},{"$f":"計算結果!#REF!","v":{"$error":"#REF!"}},{"$f":"計算結果!#REF!","v":{"$error":"#REF!"}},{"$f":"計算結果!#REF!","v":{"$error":"#REF!"}},{"$f":"計算結果!#REF!","v":{"$error":"#REF!"}}]
[{"$f":"入力シート!A1477","v":0},{"$f":"入力シート!G1477","v":0},{"$f":"入力シート!H1477","v":0},{"$f":"IF(入力シート!$J1477<>\"\",入力シート!$J1477,IF(入力シート!$L1477<>\"\",入力シート!$L1477,\"‐\"))","v":"‐"},{"$f":"IF(入力シート!$K1477<>\"\",入力シート!$K1477,IF(入力シート!$M1477<>\"\",入力シート!$M1477,入力シート!$N1477))","v":0},{"$f":"入力シート!I1477","v":0},{"$f":"入力シート!O1477","v":0},{"$f":"IF(入力シート!P1477=\"×\",\"P\",\"PN\")","v":"PN"},{"$f":"計算結果!#REF!","v":{"$error":"#REF!"}},{"$f":"計算結果!#REF!","v":{"$error":"#REF!"}},{"$f":"計算結果!#REF!","v":{"$error":"#REF!"}},{"$f":"計算結果!#REF!","v":{"$error":"#REF!"}},{"$f":"計算結果!#REF!","v":{"$error":"#REF!"}},{"$f":"計算結果!#REF!","v":{"$error":"#REF!"}},{"$f":"計算結果!#REF!","v":{"$error":"#REF!"}},{"$f":"計算結果!#REF!","v":{"$error":"#REF!"}},{"$f":"計算結果!#REF!","v":{"$error":"#REF!"}},{"$f":"計算結果!#REF!","v":{"$error":"#REF!"}}]
[{"$f":"入力シート!A1478","v":0},{"$f":"入力シート!G1478","v":0},{"$f":"入力シート!H1478","v":0},{"$f":"IF(入力シート!$J1478<>\"\",入力シート!$J1478,IF(入力シート!$L1478<>\"\",入力シート!$L1478,\"‐\"))","v":"‐"},{"$f":"IF(入力シート!$K1478<>\"\",入力シート!$K1478,IF(入力シート!$M1478<>\"\",入力シート!$M1478,入力シート!$N1478))","v":0},{"$f":"入力シート!I1478","v":0},{"$f":"入力シート!O1478","v":0},{"$f":"IF(入力シート!P1478=\"×\",\"P\",\"PN\")","v":"PN"},{"$f":"計算結果!#REF!","v":{"$error":"#REF!"}},{"$f":"計算結果!#REF!","v":{"$error":"#REF!"}},{"$f":"計算結果!#REF!","v":{"$error":"#REF!"}},{"$f":"計算結果!#REF!","v":{"$error":"#REF!"}},{"$f":"計算結果!#REF!","v":{"$error":"#REF!"}},{"$f":"計算結果!#REF!","v":{"$error":"#REF!"}},{"$f":"計算結果!#REF!","v":{"$error":"#REF!"}},{"$f":"計算結果!#REF!","v":{"$error":"#REF!"}},{"$f":"計算結果!#REF!","v":{"$error":"#REF!"}},{"$f":"計算結果!#REF!","v":{"$error":"#REF!"}}]
[{"$f":"入力シート!A1479","v":0},{"$f":"入力シート!G1479","v":0},{"$f":"入力シート!H1479","v":0},{"$f":"IF(入力シート!$J1479<>\"\",入力シート!$J1479,IF(入力シート!$L1479<>\"\",入力シート!$L1479,\"‐\"))","v":"‐"},{"$f":"IF(入力シート!$K1479<>\"\",入力シート!$K1479,IF(入力シート!$M1479<>\"\",入力シート!$M1479,入力シート!$N1479))","v":0},{"$f":"入力シート!I1479","v":0},{"$f":"入力シート!O1479","v":0},{"$f":"IF(入力シート!P1479=\"×\",\"P\",\"PN\")","v":"PN"},{"$f":"計算結果!#REF!","v":{"$error":"#REF!"}},{"$f":"計算結果!#REF!","v":{"$error":"#REF!"}},{"$f":"計算結果!#REF!","v":{"$error":"#REF!"}},{"$f":"計算結果!#REF!","v":{"$error":"#REF!"}},{"$f":"計算結果!#REF!","v":{"$error":"#REF!"}},{"$f":"計算結果!#REF!","v":{"$error":"#REF!"}},{"$f":"計算結果!#REF!","v":{"$error":"#REF!"}},{"$f":"計算結果!#REF!","v":{"$error":"#REF!"}},{"$f":"計算結果!#REF!","v":{"$error":"#REF!"}},{"$f":"計算結果!#REF!","v":{"$error":"#REF!"}}]
[{"$f":"入力シート!A1480","v":0},{"$f":"入力シート!G1480","v":0},{"$f":"入力シート!H1480","v":0},{"$f":"IF(入力シート!$J1480<>\"\",入力シート!$J1480,IF(入力シート!$L1480<>\"\",入力シート!$L1480,\"‐\"))","v":"‐"},{"$f":"IF(入力シート!$K1480<>\"\",入力シート!$K1480,IF(入力シート!$M1480<>\"\",入力シート!$M1480,入力シート!$N1480))","v":0},{"$f":"入力シート!I1480","v":0},{"$f":"入力シート!O1480","v":0},{"$f":"IF(入力シート!P1480=\"×\",\"P\",\"PN\")","v":"PN"},{"$f":"計算結果!#REF!","v":{"$error":"#REF!"}},{"$f":"計算結果!#REF!","v":{"$error":"#REF!"}},{"$f":"計算結果!#REF!","v":{"$error":"#REF!"}},{"$f":"計算結果!#REF!","v":{"$error":"#REF!"}},{"$f":"計算結果!#REF!","v":{"$error":"#REF!"}},{"$f":"計算結果!#REF!","v":{"$error":"#REF!"}},{"$f":"計算結果!#REF!","v":{"$error":"#REF!"}},{"$f":"計算結果!#REF!","v":{"$error":"#REF!"}},{"$f":"計算結果!#REF!","v":{"$error":"#REF!"}},{"$f":"計算結果!#REF!","v":{"$error":"#REF!"}}]
[{"$f":"入力シート!A1481","v":0},{"$f":"入力シート!G1481","v":0},{"$f":"入力シート!H1481","v":0},{"$f":"IF(入力シート!$J1481<>\"\",入力シート!$J1481,IF(入力シート!$L1481<>\"\",入力シート!$L1481,\"‐\"))","v":"‐"},{"$f":"IF(入力シート!$K1481<>\"\",入力シート!$K1481,IF(入力シート!$M1481<>\"\",入力シート!$M1481,入力シート!$N1481))","v":0},{"$f":"入力シート!I1481","v":0},{"$f":"入力シート!O1481","v":0},{"$f":"IF(入力シート!P1481=\"×\",\"P\",\"PN\")","v":"PN"},{"$f":"計算結果!#REF!","v":{"$error":"#REF!"}},{"$f":"計算結果!#REF!","v":{"$error":"#REF!"}},{"$f":"計算結果!#REF!","v":{"$error":"#REF!"}},{"$f":"計算結果!#REF!","v":{"$error":"#REF!"}},{"$f":"計算結果!#REF!","v":{"$error":"#REF!"}},{"$f":"計算結果!#REF!","v":{"$error":"#REF!"}},{"$f":"計算結果!#REF!","v":{"$error":"#REF!"}},{"$f":"計算結果!#REF!","v":{"$error":"#REF!"}},{"$f":"計算結果!#REF!","v":{"$error":"#REF!"}},{"$f":"計算結果!#REF!","v":{"$error":"#REF!"}}]
[{"$f":"入力シート!A1482","v":0},{"$f":"入力シート!G1482","v":0},{"$f":"入力シート!H1482","v":0},{"$f":"IF(入力シート!$J1482<>\"\",入力シート!$J1482,IF(入力シート!$L1482<>\"\",入力シート!$L1482,\"‐\"))","v":"‐"},{"$f":"IF(入力シート!$K1482<>\"\",入力シート!$K1482,IF(入力シート!$M1482<>\"\",入力シート!$M1482,入力シート!$N1482))","v":0},{"$f":"入力シート!I1482","v":0},{"$f":"入力シート!O1482","v":0},{"$f":"IF(入力シート!P1482=\"×\",\"P\",\"PN\")","v":"PN"},{"$f":"計算結果!#REF!","v":{"$error":"#REF!"}},{"$f":"計算結果!#REF!","v":{"$error":"#REF!"}},{"$f":"計算結果!#REF!","v":{"$error":"#REF!"}},{"$f":"計算結果!#REF!","v":{"$error":"#REF!"}},{"$f":"計算結果!#REF!","v":{"$error":"#REF!"}},{"$f":"計算結果!#REF!","v":{"$error":"#REF!"}},{"$f":"計算結果!#REF!","v":{"$error":"#REF!"}},{"$f":"計算結果!#REF!","v":{"$error":"#REF!"}},{"$f":"計算結果!#REF!","v":{"$error":"#REF!"}},{"$f":"計算結果!#REF!","v":{"$error":"#REF!"}}]
[{"$f":"入力シート!A1483","v":0},{"$f":"入力シート!G1483","v":0},{"$f":"入力シート!H1483","v":0},{"$f":"IF(入力シート!$J1483<>\"\",入力シート!$J1483,IF(入力シート!$L1483<>\"\",入力シート!$L1483,\"‐\"))","v":"‐"},{"$f":"IF(入力シート!$K1483<>\"\",入力シート!$K1483,IF(入力シート!$M1483<>\"\",入力シート!$M1483,入力シート!$N1483))","v":0},{"$f":"入力シート!I1483","v":0},{"$f":"入力シート!O1483","v":0},{"$f":"IF(入力シート!P1483=\"×\",\"P\",\"PN\")","v":"PN"},{"$f":"計算結果!#REF!","v":{"$error":"#REF!"}},{"$f":"計算結果!#REF!","v":{"$error":"#REF!"}},{"$f":"計算結果!#REF!","v":{"$error":"#REF!"}},{"$f":"計算結果!#REF!","v":{"$error":"#REF!"}},{"$f":"計算結果!#REF!","v":{"$error":"#REF!"}},{"$f":"計算結果!#REF!","v":{"$error":"#REF!"}},{"$f":"計算結果!#REF!","v":{"$error":"#REF!"}},{"$f":"計算結果!#REF!","v":{"$error":"#REF!"}},{"$f":"計算結果!#REF!","v":{"$error":"#REF!"}},{"$f":"計算結果!#REF!","v":{"$error":"#REF!"}}]
[{"$f":"入力シート!A1484","v":0},{"$f":"入力シート!G1484","v":0},{"$f":"入力シート!H1484","v":0},{"$f":"IF(入力シート!$J1484<>\"\",入力シート!$J1484,IF(入力シート!$L1484<>\"\",入力シート!$L1484,\"‐\"))","v":"‐"},{"$f":"IF(入力シート!$K1484<>\"\",入力シート!$K1484,IF(入力シート!$M1484<>\"\",入力シート!$M1484,入力シート!$N1484))","v":0},{"$f":"入力シート!I1484","v":0},{"$f":"入力シート!O1484","v":0},{"$f":"IF(入力シート!P1484=\"×\",\"P\",\"PN\")","v":"PN"},{"$f":"計算結果!#REF!","v":{"$error":"#REF!"}},{"$f":"計算結果!#REF!","v":{"$error":"#REF!"}},{"$f":"計算結果!#REF!","v":{"$error":"#REF!"}},{"$f":"計算結果!#REF!","v":{"$error":"#REF!"}},{"$f":"計算結果!#REF!","v":{"$error":"#REF!"}},{"$f":"計算結果!#REF!","v":{"$error":"#REF!"}},{"$f":"計算結果!#REF!","v":{"$error":"#REF!"}},{"$f":"計算結果!#REF!","v":{"$error":"#REF!"}},{"$f":"計算結果!#REF!","v":{"$error":"#REF!"}},{"$f":"計算結果!#REF!","v":{"$error":"#REF!"}}]
[{"$f":"入力シート!A1485","v":0},{"$f":"入力シート!G1485","v":0},{"$f":"入力シート!H1485","v":0},{"$f":"IF(入力シート!$J1485<>\"\",入力シート!$J1485,IF(入力シート!$L1485<>\"\",入力シート!$L1485,\"‐\"))","v":"‐"},{"$f":"IF(入力シート!$K1485<>\"\",入力シート!$K1485,IF(入力シート!$M1485<>\"\",入力シート!$M1485,入力シート!$N1485))","v":0},{"$f":"入力シート!I1485","v":0},{"$f":"入力シート!O1485","v":0},{"$f":"IF(入力シート!P1485=\"×\",\"P\",\"PN\")","v":"PN"},{"$f":"計算結果!#REF!","v":{"$error":"#REF!"}},{"$f":"計算結果!#REF!","v":{"$error":"#REF!"}},{"$f":"計算結果!#REF!","v":{"$error":"#REF!"}},{"$f":"計算結果!#REF!","v":{"$error":"#REF!"}},{"$f":"計算結果!#REF!","v":{"$error":"#REF!"}},{"$f":"計算結果!#REF!","v":{"$error":"#REF!"}},{"$f":"計算結果!#REF!","v":{"$error":"#REF!"}},{"$f":"計算結果!#REF!","v":{"$error":"#REF!"}},{"$f":"計算結果!#REF!","v":{"$error":"#REF!"}},{"$f":"計算結果!#REF!","v":{"$error":"#REF!"}}]
[{"$f":"入力シート!A1486","v":0},{"$f":"入力シート!G1486","v":0},{"$f":"入力シート!H1486","v":0},{"$f":"IF(入力シート!$J1486<>\"\",入力シート!$J1486,IF(入力シート!$L1486<>\"\",入力シート!$L1486,\"‐\"))","v":"‐"},{"$f":"IF(入力シート!$K1486<>\"\",入力シート!$K1486,IF(入力シート!$M1486<>\"\",入力シート!$M1486,入力シート!$N1486))","v":0},{"$f":"入力シート!I1486","v":0},{"$f":"入力シート!O1486","v":0},{"$f":"IF(入力シート!P1486=\"×\",\"P\",\"PN\")","v":"PN"},{"$f":"計算結果!#REF!","v":{"$error":"#REF!"}},{"$f":"計算結果!#REF!","v":{"$error":"#REF!"}},{"$f":"計算結果!#REF!","v":{"$error":"#REF!"}},{"$f":"計算結果!#REF!","v":{"$error":"#REF!"}},{"$f":"計算結果!#REF!","v":{"$error":"#REF!"}},{"$f":"計算結果!#REF!","v":{"$error":"#REF!"}},{"$f":"計算結果!#REF!","v":{"$error":"#REF!"}},{"$f":"計算結果!#REF!","v":{"$error":"#REF!"}},{"$f":"計算結果!#REF!","v":{"$error":"#REF!"}},{"$f":"計算結果!#REF!","v":{"$error":"#REF!"}}]
[{"$f":"入力シート!A1487","v":0},{"$f":"入力シート!G1487","v":0},{"$f":"入力シート!H1487","v":0},{"$f":"IF(入力シート!$J1487<>\"\",入力シート!$J1487,IF(入力シート!$L1487<>\"\",入力シート!$L1487,\"‐\"))","v":"‐"},{"$f":"IF(入力シート!$K1487<>\"\",入力シート!$K1487,IF(入力シート!$M1487<>\"\",入力シート!$M1487,入力シート!$N1487))","v":0},{"$f":"入力シート!I1487","v":0},{"$f":"入力シート!O1487","v":0},{"$f":"IF(入力シート!P1487=\"×\",\"P\",\"PN\")","v":"PN"},{"$f":"計算結果!#REF!","v":{"$error":"#REF!"}},{"$f":"計算結果!#REF!","v":{"$error":"#REF!"}},{"$f":"計算結果!#REF!","v":{"$error":"#REF!"}},{"$f":"計算結果!#REF!","v":{"$error":"#REF!"}},{"$f":"計算結果!#REF!","v":{"$error":"#REF!"}},{"$f":"計算結果!#REF!","v":{"$error":"#REF!"}},{"$f":"計算結果!#REF!","v":{"$error":"#REF!"}},{"$f":"計算結果!#REF!","v":{"$error":"#REF!"}},{"$f":"計算結果!#REF!","v":{"$error":"#REF!"}},{"$f":"計算結果!#REF!","v":{"$error":"#REF!"}}]
[{"$f":"入力シート!A1488","v":0},{"$f":"入力シート!G1488","v":0},{"$f":"入力シート!H1488","v":0},{"$f":"IF(入力シート!$J1488<>\"\",入力シート!$J1488,IF(入力シート!$L1488<>\"\",入力シート!$L1488,\"‐\"))","v":"‐"},{"$f":"IF(入力シート!$K1488<>\"\",入力シート!$K1488,IF(入力シート!$M1488<>\"\",入力シート!$M1488,入力シート!$N1488))","v":0},{"$f":"入力シート!I1488","v":0},{"$f":"入力シート!O1488","v":0},{"$f":"IF(入力シート!P1488=\"×\",\"P\",\"PN\")","v":"PN"},{"$f":"計算結果!#REF!","v":{"$error":"#REF!"}},{"$f":"計算結果!#REF!","v":{"$error":"#REF!"}},{"$f":"計算結果!#REF!","v":{"$error":"#REF!"}},{"$f":"計算結果!#REF!","v":{"$error":"#REF!"}},{"$f":"計算結果!#REF!","v":{"$error":"#REF!"}},{"$f":"計算結果!#REF!","v":{"$error":"#REF!"}},{"$f":"計算結果!#REF!","v":{"$error":"#REF!"}},{"$f":"計算結果!#REF!","v":{"$error":"#REF!"}},{"$f":"計算結果!#REF!","v":{"$error":"#REF!"}},{"$f":"計算結果!#REF!","v":{"$error":"#REF!"}}]
[{"$f":"入力シート!A1489","v":0},{"$f":"入力シート!G1489","v":0},{"$f":"入力シート!H1489","v":0},{"$f":"IF(入力シート!$J1489<>\"\",入力シート!$J1489,IF(入力シート!$L1489<>\"\",入力シート!$L1489,\"‐\"))","v":"‐"},{"$f":"IF(入力シート!$K1489<>\"\",入力シート!$K1489,IF(入力シート!$M1489<>\"\",入力シート!$M1489,入力シート!$N1489))","v":0},{"$f":"入力シート!I1489","v":0},{"$f":"入力シート!O1489","v":0},{"$f":"IF(入力シート!P1489=\"×\",\"P\",\"PN\")","v":"PN"},{"$f":"計算結果!#REF!","v":{"$error":"#REF!"}},{"$f":"計算結果!#REF!","v":{"$error":"#REF!"}},{"$f":"計算結果!#REF!","v":{"$error":"#REF!"}},{"$f":"計算結果!#REF!","v":{"$error":"#REF!"}},{"$f":"計算結果!#REF!","v":{"$error":"#REF!"}},{"$f":"計算結果!#REF!","v":{"$error":"#REF!"}},{"$f":"計算結果!#REF!","v":{"$error":"#REF!"}},{"$f":"計算結果!#REF!","v":{"$error":"#REF!"}},{"$f":"計算結果!#REF!","v":{"$error":"#REF!"}},{"$f":"計算結果!#REF!","v":{"$error":"#REF!"}}]
[{"$f":"入力シート!A1490","v":0},{"$f":"入力シート!G1490","v":0},{"$f":"入力シート!H1490","v":0},{"$f":"IF(入力シート!$J1490<>\"\",入力シート!$J1490,IF(入力シート!$L1490<>\"\",入力シート!$L1490,\"‐\"))","v":"‐"},{"$f":"IF(入力シート!$K1490<>\"\",入力シート!$K1490,IF(入力シート!$M1490<>\"\",入力シート!$M1490,入力シート!$N1490))","v":0},{"$f":"入力シート!I1490","v":0},{"$f":"入力シート!O1490","v":0},{"$f":"IF(入力シート!P1490=\"×\",\"P\",\"PN\")","v":"PN"},{"$f":"計算結果!#REF!","v":{"$error":"#REF!"}},{"$f":"計算結果!#REF!","v":{"$error":"#REF!"}},{"$f":"計算結果!#REF!","v":{"$error":"#REF!"}},{"$f":"計算結果!#REF!","v":{"$error":"#REF!"}},{"$f":"計算結果!#REF!","v":{"$error":"#REF!"}},{"$f":"計算結果!#REF!","v":{"$error":"#REF!"}},{"$f":"計算結果!#REF!","v":{"$error":"#REF!"}},{"$f":"計算結果!#REF!","v":{"$error":"#REF!"}},{"$f":"計算結果!#REF!","v":{"$error":"#REF!"}},{"$f":"計算結果!#REF!","v":{"$error":"#REF!"}}]
[{"$f":"入力シート!A1491","v":0},{"$f":"入力シート!G1491","v":0},{"$f":"入力シート!H1491","v":0},{"$f":"IF(入力シート!$J1491<>\"\",入力シート!$J1491,IF(入力シート!$L1491<>\"\",入力シート!$L1491,\"‐\"))","v":"‐"},{"$f":"IF(入力シート!$K1491<>\"\",入力シート!$K1491,IF(入力シート!$M1491<>\"\",入力シート!$M1491,入力シート!$N1491))","v":0},{"$f":"入力シート!I1491","v":0},{"$f":"入力シート!O1491","v":0},{"$f":"IF(入力シート!P1491=\"×\",\"P\",\"PN\")","v":"PN"},{"$f":"計算結果!#REF!","v":{"$error":"#REF!"}},{"$f":"計算結果!#REF!","v":{"$error":"#REF!"}},{"$f":"計算結果!#REF!","v":{"$error":"#REF!"}},{"$f":"計算結果!#REF!","v":{"$error":"#REF!"}},{"$f":"計算結果!#REF!","v":{"$error":"#REF!"}},{"$f":"計算結果!#REF!","v":{"$error":"#REF!"}},{"$f":"計算結果!#REF!","v":{"$error":"#REF!"}},{"$f":"計算結果!#REF!","v":{"$error":"#REF!"}},{"$f":"計算結果!#REF!","v":{"$error":"#REF!"}},{"$f":"計算結果!#REF!","v":{"$error":"#REF!"}}]
[{"$f":"入力シート!A1492","v":0},{"$f":"入力シート!G1492","v":0},{"$f":"入力シート!H1492","v":0},{"$f":"IF(入力シート!$J1492<>\"\",入力シート!$J1492,IF(入力シート!$L1492<>\"\",入力シート!$L1492,\"‐\"))","v":"‐"},{"$f":"IF(入力シート!$K1492<>\"\",入力シート!$K1492,IF(入力シート!$M1492<>\"\",入力シート!$M1492,入力シート!$N1492))","v":0},{"$f":"入力シート!I1492","v":0},{"$f":"入力シート!O1492","v":0},{"$f":"IF(入力シート!P1492=\"×\",\"P\",\"PN\")","v":"PN"},{"$f":"計算結果!#REF!","v":{"$error":"#REF!"}},{"$f":"計算結果!#REF!","v":{"$error":"#REF!"}},{"$f":"計算結果!#REF!","v":{"$error":"#REF!"}},{"$f":"計算結果!#REF!","v":{"$error":"#REF!"}},{"$f":"計算結果!#REF!","v":{"$error":"#REF!"}},{"$f":"計算結果!#REF!","v":{"$error":"#REF!"}},{"$f":"計算結果!#REF!","v":{"$error":"#REF!"}},{"$f":"計算結果!#REF!","v":{"$error":"#REF!"}},{"$f":"計算結果!#REF!","v":{"$error":"#REF!"}},{"$f":"計算結果!#REF!","v":{"$error":"#REF!"}}]
[{"$f":"入力シート!A1493","v":0},{"$f":"入力シート!G1493","v":0},{"$f":"入力シート!H1493","v":0},{"$f":"IF(入力シート!$J1493<>\"\",入力シート!$J1493,IF(入力シート!$L1493<>\"\",入力シート!$L1493,\"‐\"))","v":"‐"},{"$f":"IF(入力シート!$K1493<>\"\",入力シート!$K1493,IF(入力シート!$M1493<>\"\",入力シート!$M1493,入力シート!$N1493))","v":0},{"$f":"入力シート!I1493","v":0},{"$f":"入力シート!O1493","v":0},{"$f":"IF(入力シート!P1493=\"×\",\"P\",\"PN\")","v":"PN"},{"$f":"計算結果!#REF!","v":{"$error":"#REF!"}},{"$f":"計算結果!#REF!","v":{"$error":"#REF!"}},{"$f":"計算結果!#REF!","v":{"$error":"#REF!"}},{"$f":"計算結果!#REF!","v":{"$error":"#REF!"}},{"$f":"計算結果!#REF!","v":{"$error":"#REF!"}},{"$f":"計算結果!#REF!","v":{"$error":"#REF!"}},{"$f":"計算結果!#REF!","v":{"$error":"#REF!"}},{"$f":"計算結果!#REF!","v":{"$error":"#REF!"}},{"$f":"計算結果!#REF!","v":{"$error":"#REF!"}},{"$f":"計算結果!#REF!","v":{"$error":"#REF!"}}]
[{"$f":"入力シート!A1494","v":0},{"$f":"入力シート!G1494","v":0},{"$f":"入力シート!H1494","v":0},{"$f":"IF(入力シート!$J1494<>\"\",入力シート!$J1494,IF(入力シート!$L1494<>\"\",入力シート!$L1494,\"‐\"))","v":"‐"},{"$f":"IF(入力シート!$K1494<>\"\",入力シート!$K1494,IF(入力シート!$M1494<>\"\",入力シート!$M1494,入力シート!$N1494))","v":0},{"$f":"入力シート!I1494","v":0},{"$f":"入力シート!O1494","v":0},{"$f":"IF(入力シート!P1494=\"×\",\"P\",\"PN\")","v":"PN"},{"$f":"計算結果!#REF!","v":{"$error":"#REF!"}},{"$f":"計算結果!#REF!","v":{"$error":"#REF!"}},{"$f":"計算結果!#REF!","v":{"$error":"#REF!"}},{"$f":"計算結果!#REF!","v":{"$error":"#REF!"}},{"$f":"計算結果!#REF!","v":{"$error":"#REF!"}},{"$f":"計算結果!#REF!","v":{"$error":"#REF!"}},{"$f":"計算結果!#REF!","v":{"$error":"#REF!"}},{"$f":"計算結果!#REF!","v":{"$error":"#REF!"}},{"$f":"計算結果!#REF!","v":{"$error":"#REF!"}},{"$f":"計算結果!#REF!","v":{"$error":"#REF!"}}]
[{"$f":"入力シート!A1495","v":0},{"$f":"入力シート!G1495","v":0},{"$f":"入力シート!H1495","v":0},{"$f":"IF(入力シート!$J1495<>\"\",入力シート!$J1495,IF(入力シート!$L1495<>\"\",入力シート!$L1495,\"‐\"))","v":"‐"},{"$f":"IF(入力シート!$K1495<>\"\",入力シート!$K1495,IF(入力シート!$M1495<>\"\",入力シート!$M1495,入力シート!$N1495))","v":0},{"$f":"入力シート!I1495","v":0},{"$f":"入力シート!O1495","v":0},{"$f":"IF(入力シート!P1495=\"×\",\"P\",\"PN\")","v":"PN"},{"$f":"計算結果!#REF!","v":{"$error":"#REF!"}},{"$f":"計算結果!#REF!","v":{"$error":"#REF!"}},{"$f":"計算結果!#REF!","v":{"$error":"#REF!"}},{"$f":"計算結果!#REF!","v":{"$error":"#REF!"}},{"$f":"計算結果!#REF!","v":{"$error":"#REF!"}},{"$f":"計算結果!#REF!","v":{"$error":"#REF!"}},{"$f":"計算結果!#REF!","v":{"$error":"#REF!"}},{"$f":"計算結果!#REF!","v":{"$error":"#REF!"}},{"$f":"計算結果!#REF!","v":{"$error":"#REF!"}},{"$f":"計算結果!#REF!","v":{"$error":"#REF!"}}]
[{"$f":"入力シート!A1496","v":0},{"$f":"入力シート!G1496","v":0},{"$f":"入力シート!H1496","v":0},{"$f":"IF(入力シート!$J1496<>\"\",入力シート!$J1496,IF(入力シート!$L1496<>\"\",入力シート!$L1496,\"‐\"))","v":"‐"},{"$f":"IF(入力シート!$K1496<>\"\",入力シート!$K1496,IF(入力シート!$M1496<>\"\",入力シート!$M1496,入力シート!$N1496))","v":0},{"$f":"入力シート!I1496","v":0},{"$f":"入力シート!O1496","v":0},{"$f":"IF(入力シート!P1496=\"×\",\"P\",\"PN\")","v":"PN"},{"$f":"計算結果!#REF!","v":{"$error":"#REF!"}},{"$f":"計算結果!#REF!","v":{"$error":"#REF!"}},{"$f":"計算結果!#REF!","v":{"$error":"#REF!"}},{"$f":"計算結果!#REF!","v":{"$error":"#REF!"}},{"$f":"計算結果!#REF!","v":{"$error":"#REF!"}},{"$f":"計算結果!#REF!","v":{"$error":"#REF!"}},{"$f":"計算結果!#REF!","v":{"$error":"#REF!"}},{"$f":"計算結果!#REF!","v":{"$error":"#REF!"}},{"$f":"計算結果!#REF!","v":{"$error":"#REF!"}},{"$f":"計算結果!#REF!","v":{"$error":"#REF!"}}]
[{"$f":"入力シート!A1497","v":0},{"$f":"入力シート!G1497","v":0},{"$f":"入力シート!H1497","v":0},{"$f":"IF(入力シート!$J1497<>\"\",入力シート!$J1497,IF(入力シート!$L1497<>\"\",入力シート!$L1497,\"‐\"))","v":"‐"},{"$f":"IF(入力シート!$K1497<>\"\",入力シート!$K1497,IF(入力シート!$M1497<>\"\",入力シート!$M1497,入力シート!$N1497))","v":0},{"$f":"入力シート!I1497","v":0},{"$f":"入力シート!O1497","v":0},{"$f":"IF(入力シート!P1497=\"×\",\"P\",\"PN\")","v":"PN"},{"$f":"計算結果!#REF!","v":{"$error":"#REF!"}},{"$f":"計算結果!#REF!","v":{"$error":"#REF!"}},{"$f":"計算結果!#REF!","v":{"$error":"#REF!"}},{"$f":"計算結果!#REF!","v":{"$error":"#REF!"}},{"$f":"計算結果!#REF!","v":{"$error":"#REF!"}},{"$f":"計算結果!#REF!","v":{"$error":"#REF!"}},{"$f":"計算結果!#REF!","v":{"$error":"#REF!"}},{"$f":"計算結果!#REF!","v":{"$error":"#REF!"}},{"$f":"計算結果!#REF!","v":{"$error":"#REF!"}},{"$f":"計算結果!#REF!","v":{"$error":"#REF!"}}]
[{"$f":"入力シート!A1498","v":0},{"$f":"入力シート!G1498","v":0},{"$f":"入力シート!H1498","v":0},{"$f":"IF(入力シート!$J1498<>\"\",入力シート!$J1498,IF(入力シート!$L1498<>\"\",入力シート!$L1498,\"‐\"))","v":"‐"},{"$f":"IF(入力シート!$K1498<>\"\",入力シート!$K1498,IF(入力シート!$M1498<>\"\",入力シート!$M1498,入力シート!$N1498))","v":0},{"$f":"入力シート!I1498","v":0},{"$f":"入力シート!O1498","v":0},{"$f":"IF(入力シート!P1498=\"×\",\"P\",\"PN\")","v":"PN"},{"$f":"計算結果!#REF!","v":{"$error":"#REF!"}},{"$f":"計算結果!#REF!","v":{"$error":"#REF!"}},{"$f":"計算結果!#REF!","v":{"$error":"#REF!"}},{"$f":"計算結果!#REF!","v":{"$error":"#REF!"}},{"$f":"計算結果!#REF!","v":{"$error":"#REF!"}},{"$f":"計算結果!#REF!","v":{"$error":"#REF!"}},{"$f":"計算結果!#REF!","v":{"$error":"#REF!"}},{"$f":"計算結果!#REF!","v":{"$error":"#REF!"}},{"$f":"計算結果!#REF!","v":{"$error":"#REF!"}},{"$f":"計算結果!#REF!","v":{"$error":"#REF!"}}]
[{"$f":"入力シート!A1499","v":0},{"$f":"入力シート!G1499","v":0},{"$f":"入力シート!H1499","v":0},{"$f":"IF(入力シート!$J1499<>\"\",入力シート!$J1499,IF(入力シート!$L1499<>\"\",入力シート!$L1499,\"‐\"))","v":"‐"},{"$f":"IF(入力シート!$K1499<>\"\",入力シート!$K1499,IF(入力シート!$M1499<>\"\",入力シート!$M1499,入力シート!$N1499))","v":0},{"$f":"入力シート!I1499","v":0},{"$f":"入力シート!O1499","v":0},{"$f":"IF(入力シート!P1499=\"×\",\"P\",\"PN\")","v":"PN"},{"$f":"計算結果!#REF!","v":{"$error":"#REF!"}},{"$f":"計算結果!#REF!","v":{"$error":"#REF!"}},{"$f":"計算結果!#REF!","v":{"$error":"#REF!"}},{"$f":"計算結果!#REF!","v":{"$error":"#REF!"}},{"$f":"計算結果!#REF!","v":{"$error":"#REF!"}},{"$f":"計算結果!#REF!","v":{"$error":"#REF!"}},{"$f":"計算結果!#REF!","v":{"$error":"#REF!"}},{"$f":"計算結果!#REF!","v":{"$error":"#REF!"}},{"$f":"計算結果!#REF!","v":{"$error":"#REF!"}},{"$f":"計算結果!#REF!","v":{"$error":"#REF!"}}]
[{"$f":"入力シート!A1500","v":0},{"$f":"入力シート!G1500","v":0},{"$f":"入力シート!H1500","v":0},{"$f":"IF(入力シート!$J1500<>\"\",入力シート!$J1500,IF(入力シート!$L1500<>\"\",入力シート!$L1500,\"‐\"))","v":"‐"},{"$f":"IF(入力シート!$K1500<>\"\",入力シート!$K1500,IF(入力シート!$M1500<>\"\",入力シート!$M1500,入力シート!$N1500))","v":0},{"$f":"入力シート!I1500","v":0},{"$f":"入力シート!O1500","v":0},{"$f":"IF(入力シート!P1500=\"×\",\"P\",\"PN\")","v":"PN"},{"$f":"計算結果!#REF!","v":{"$error":"#REF!"}},{"$f":"計算結果!#REF!","v":{"$error":"#REF!"}},{"$f":"計算結果!#REF!","v":{"$error":"#REF!"}},{"$f":"計算結果!#REF!","v":{"$error":"#REF!"}},{"$f":"計算結果!#REF!","v":{"$error":"#REF!"}},{"$f":"計算結果!#REF!","v":{"$error":"#REF!"}},{"$f":"計算結果!#REF!","v":{"$error":"#REF!"}},{"$f":"計算結果!#REF!","v":{"$error":"#REF!"}},{"$f":"計算結果!#REF!","v":{"$error":"#REF!"}},{"$f":"計算結果!#REF!","v":{"$error":"#REF!"}}]
[{"$f":"入力シート!A1501","v":0},{"$f":"入力シート!G1501","v":0},{"$f":"入力シート!H1501","v":0},{"$f":"IF(入力シート!$J1501<>\"\",入力シート!$J1501,IF(入力シート!$L1501<>\"\",入力シート!$L1501,\"‐\"))","v":"‐"},{"$f":"IF(入力シート!$K1501<>\"\",入力シート!$K1501,IF(入力シート!$M1501<>\"\",入力シート!$M1501,入力シート!$N1501))","v":0},{"$f":"入力シート!I1501","v":0},{"$f":"入力シート!O1501","v":0},{"$f":"IF(入力シート!P1501=\"×\",\"P\",\"PN\")","v":"PN"},{"$f":"計算結果!#REF!","v":{"$error":"#REF!"}},{"$f":"計算結果!#REF!","v":{"$error":"#REF!"}},{"$f":"計算結果!#REF!","v":{"$error":"#REF!"}},{"$f":"計算結果!#REF!","v":{"$error":"#REF!"}},{"$f":"計算結果!#REF!","v":{"$error":"#REF!"}},{"$f":"計算結果!#REF!","v":{"$error":"#REF!"}},{"$f":"計算結果!#REF!","v":{"$error":"#REF!"}},{"$f":"計算結果!#REF!","v":{"$error":"#REF!"}},{"$f":"計算結果!#REF!","v":{"$error":"#REF!"}},{"$f":"計算結果!#REF!","v":{"$error":"#REF!"}}]
[{"$f":"入力シート!A1502","v":0},{"$f":"入力シート!G1502","v":0},{"$f":"入力シート!H1502","v":0},{"$f":"IF(入力シート!$J1502<>\"\",入力シート!$J1502,IF(入力シート!$L1502<>\"\",入力シート!$L1502,\"‐\"))","v":"‐"},{"$f":"IF(入力シート!$K1502<>\"\",入力シート!$K1502,IF(入力シート!$M1502<>\"\",入力シート!$M1502,入力シート!$N1502))","v":0},{"$f":"入力シート!I1502","v":0},{"$f":"入力シート!O1502","v":0},{"$f":"IF(入力シート!P1502=\"×\",\"P\",\"PN\")","v":"PN"},{"$f":"計算結果!#REF!","v":{"$error":"#REF!"}},{"$f":"計算結果!#REF!","v":{"$error":"#REF!"}},{"$f":"計算結果!#REF!","v":{"$error":"#REF!"}},{"$f":"計算結果!#REF!","v":{"$error":"#REF!"}},{"$f":"計算結果!#REF!","v":{"$error":"#REF!"}},{"$f":"計算結果!#REF!","v":{"$error":"#REF!"}},{"$f":"計算結果!#REF!","v":{"$error":"#REF!"}},{"$f":"計算結果!#REF!","v":{"$error":"#REF!"}},{"$f":"計算結果!#REF!","v":{"$error":"#REF!"}},{"$f":"計算結果!#REF!","v":{"$error":"#REF!"}}]
[{"$f":"入力シート!A1503","v":0},{"$f":"入力シート!G1503","v":0},{"$f":"入力シート!H1503","v":0},{"$f":"IF(入力シート!$J1503<>\"\",入力シート!$J1503,IF(入力シート!$L1503<>\"\",入力シート!$L1503,\"‐\"))","v":"‐"},{"$f":"IF(入力シート!$K1503<>\"\",入力シート!$K1503,IF(入力シート!$M1503<>\"\",入力シート!$M1503,入力シート!$N1503))","v":0},{"$f":"入力シート!I1503","v":0},{"$f":"入力シート!O1503","v":0},{"$f":"IF(入力シート!P1503=\"×\",\"P\",\"PN\")","v":"PN"},{"$f":"計算結果!#REF!","v":{"$error":"#REF!"}},{"$f":"計算結果!#REF!","v":{"$error":"#REF!"}},{"$f":"計算結果!#REF!","v":{"$error":"#REF!"}},{"$f":"計算結果!#REF!","v":{"$error":"#REF!"}},{"$f":"計算結果!#REF!","v":{"$error":"#REF!"}},{"$f":"計算結果!#REF!","v":{"$error":"#REF!"}},{"$f":"計算結果!#REF!","v":{"$error":"#REF!"}},{"$f":"計算結果!#REF!","v":{"$error":"#REF!"}},{"$f":"計算結果!#REF!","v":{"$error":"#REF!"}},{"$f":"計算結果!#REF!","v":{"$error":"#REF!"}}]
[{"$f":"入力シート!A1504","v":0},{"$f":"入力シート!G1504","v":0},{"$f":"入力シート!H1504","v":0},{"$f":"IF(入力シート!$J1504<>\"\",入力シート!$J1504,IF(入力シート!$L1504<>\"\",入力シート!$L1504,\"‐\"))","v":"‐"},{"$f":"IF(入力シート!$K1504<>\"\",入力シート!$K1504,IF(入力シート!$M1504<>\"\",入力シート!$M1504,入力シート!$N1504))","v":0},{"$f":"入力シート!I1504","v":0},{"$f":"入力シート!O1504","v":0},{"$f":"IF(入力シート!P1504=\"×\",\"P\",\"PN\")","v":"PN"},{"$f":"計算結果!#REF!","v":{"$error":"#REF!"}},{"$f":"計算結果!#REF!","v":{"$error":"#REF!"}},{"$f":"計算結果!#REF!","v":{"$error":"#REF!"}},{"$f":"計算結果!#REF!","v":{"$error":"#REF!"}},{"$f":"計算結果!#REF!","v":{"$error":"#REF!"}},{"$f":"計算結果!#REF!","v":{"$error":"#REF!"}},{"$f":"計算結果!#REF!","v":{"$error":"#REF!"}},{"$f":"計算結果!#REF!","v":{"$error":"#REF!"}},{"$f":"計算結果!#REF!","v":{"$error":"#REF!"}},{"$f":"計算結果!#REF!","v":{"$error":"#REF!"}}]
[{"$f":"入力シート!A1505","v":0},{"$f":"入力シート!G1505","v":0},{"$f":"入力シート!H1505","v":0},{"$f":"IF(入力シート!$J1505<>\"\",入力シート!$J1505,IF(入力シート!$L1505<>\"\",入力シート!$L1505,\"‐\"))","v":"‐"},{"$f":"IF(入力シート!$K1505<>\"\",入力シート!$K1505,IF(入力シート!$M1505<>\"\",入力シート!$M1505,入力シート!$N1505))","v":0},{"$f":"入力シート!I1505","v":0},{"$f":"入力シート!O1505","v":0},{"$f":"IF(入力シート!P1505=\"×\",\"P\",\"PN\")","v":"PN"},{"$f":"計算結果!#REF!","v":{"$error":"#REF!"}},{"$f":"計算結果!#REF!","v":{"$error":"#REF!"}},{"$f":"計算結果!#REF!","v":{"$error":"#REF!"}},{"$f":"計算結果!#REF!","v":{"$error":"#REF!"}},{"$f":"計算結果!#REF!","v":{"$error":"#REF!"}},{"$f":"計算結果!#REF!","v":{"$error":"#REF!"}},{"$f":"計算結果!#REF!","v":{"$error":"#REF!"}},{"$f":"計算結果!#REF!","v":{"$error":"#REF!"}},{"$f":"計算結果!#REF!","v":{"$error":"#REF!"}},{"$f":"計算結果!#REF!","v":{"$error":"#REF!"}}]
[{"$f":"入力シート!A1506","v":0},{"$f":"入力シート!G1506","v":0},{"$f":"入力シート!H1506","v":0},{"$f":"IF(入力シート!$J1506<>\"\",入力シート!$J1506,IF(入力シート!$L1506<>\"\",入力シート!$L1506,\"‐\"))","v":"‐"},{"$f":"IF(入力シート!$K1506<>\"\",入力シート!$K1506,IF(入力シート!$M1506<>\"\",入力シート!$M1506,入力シート!$N1506))","v":0},{"$f":"入力シート!I1506","v":0},{"$f":"入力シート!O1506","v":0},{"$f":"IF(入力シート!P1506=\"×\",\"P\",\"PN\")","v":"PN"},{"$f":"計算結果!#REF!","v":{"$error":"#REF!"}},{"$f":"計算結果!#REF!","v":{"$error":"#REF!"}},{"$f":"計算結果!#REF!","v":{"$error":"#REF!"}},{"$f":"計算結果!#REF!","v":{"$error":"#REF!"}},{"$f":"計算結果!#REF!","v":{"$error":"#REF!"}},{"$f":"計算結果!#REF!","v":{"$error":"#REF!"}},{"$f":"計算結果!#REF!","v":{"$error":"#REF!"}},{"$f":"計算結果!#REF!","v":{"$error":"#REF!"}},{"$f":"計算結果!#REF!","v":{"$error":"#REF!"}},{"$f":"計算結果!#REF!","v":{"$error":"#REF!"}}]
[{"$f":"入力シート!A1507","v":0},{"$f":"入力シート!G1507","v":0},{"$f":"入力シート!H1507","v":0},{"$f":"IF(入力シート!$J1507<>\"\",入力シート!$J1507,IF(入力シート!$L1507<>\"\",入力シート!$L1507,\"‐\"))","v":"‐"},{"$f":"IF(入力シート!$K1507<>\"\",入力シート!$K1507,IF(入力シート!$M1507<>\"\",入力シート!$M1507,入力シート!$N1507))","v":0},{"$f":"入力シート!I1507","v":0},{"$f":"入力シート!O1507","v":0},{"$f":"IF(入力シート!P1507=\"×\",\"P\",\"PN\")","v":"PN"},{"$f":"計算結果!#REF!","v":{"$error":"#REF!"}},{"$f":"計算結果!#REF!","v":{"$error":"#REF!"}},{"$f":"計算結果!#REF!","v":{"$error":"#REF!"}},{"$f":"計算結果!#REF!","v":{"$error":"#REF!"}},{"$f":"計算結果!#REF!","v":{"$error":"#REF!"}},{"$f":"計算結果!#REF!","v":{"$error":"#REF!"}},{"$f":"計算結果!#REF!","v":{"$error":"#REF!"}},{"$f":"計算結果!#REF!","v":{"$error":"#REF!"}},{"$f":"計算結果!#REF!","v":{"$error":"#REF!"}},{"$f":"計算結果!#REF!","v":{"$error":"#REF!"}}]
[{"$f":"入力シート!A1508","v":0},{"$f":"入力シート!G1508","v":0},{"$f":"入力シート!H1508","v":0},{"$f":"IF(入力シート!$J1508<>\"\",入力シート!$J1508,IF(入力シート!$L1508<>\"\",入力シート!$L1508,\"‐\"))","v":"‐"},{"$f":"IF(入力シート!$K1508<>\"\",入力シート!$K1508,IF(入力シート!$M1508<>\"\",入力シート!$M1508,入力シート!$N1508))","v":0},{"$f":"入力シート!I1508","v":0},{"$f":"入力シート!O1508","v":0},{"$f":"IF(入力シート!P1508=\"×\",\"P\",\"PN\")","v":"PN"},{"$f":"計算結果!#REF!","v":{"$error":"#REF!"}},{"$f":"計算結果!#REF!","v":{"$error":"#REF!"}},{"$f":"計算結果!#REF!","v":{"$error":"#REF!"}},{"$f":"計算結果!#REF!","v":{"$error":"#REF!"}},{"$f":"計算結果!#REF!","v":{"$error":"#REF!"}},{"$f":"計算結果!#REF!","v":{"$error":"#REF!"}},{"$f":"計算結果!#REF!","v":{"$error":"#REF!"}},{"$f":"計算結果!#REF!","v":{"$error":"#REF!"}},{"$f":"計算結果!#REF!","v":{"$error":"#REF!"}},{"$f":"計算結果!#REF!","v":{"$error":"#REF!"}}]
[{"$f":"入力シート!A1509","v":0},{"$f":"入力シート!G1509","v":0},{"$f":"入力シート!H1509","v":0},{"$f":"IF(入力シート!$J1509<>\"\",入力シート!$J1509,IF(入力シート!$L1509<>\"\",入力シート!$L1509,\"‐\"))","v":"‐"},{"$f":"IF(入力シート!$K1509<>\"\",入力シート!$K1509,IF(入力シート!$M1509<>\"\",入力シート!$M1509,入力シート!$N1509))","v":0},{"$f":"入力シート!I1509","v":0},{"$f":"入力シート!O1509","v":0},{"$f":"IF(入力シート!P1509=\"×\",\"P\",\"PN\")","v":"PN"},{"$f":"計算結果!#REF!","v":{"$error":"#REF!"}},{"$f":"計算結果!#REF!","v":{"$error":"#REF!"}},{"$f":"計算結果!#REF!","v":{"$error":"#REF!"}},{"$f":"計算結果!#REF!","v":{"$error":"#REF!"}},{"$f":"計算結果!#REF!","v":{"$error":"#REF!"}},{"$f":"計算結果!#REF!","v":{"$error":"#REF!"}},{"$f":"計算結果!#REF!","v":{"$error":"#REF!"}},{"$f":"計算結果!#REF!","v":{"$error":"#REF!"}},{"$f":"計算結果!#REF!","v":{"$error":"#REF!"}},{"$f":"計算結果!#REF!","v":{"$error":"#REF!"}}]
[{"$f":"入力シート!A1510","v":0},{"$f":"入力シート!G1510","v":0},{"$f":"入力シート!H1510","v":0},{"$f":"IF(入力シート!$J1510<>\"\",入力シート!$J1510,IF(入力シート!$L1510<>\"\",入力シート!$L1510,\"‐\"))","v":"‐"},{"$f":"IF(入力シート!$K1510<>\"\",入力シート!$K1510,IF(入力シート!$M1510<>\"\",入力シート!$M1510,入力シート!$N1510))","v":0},{"$f":"入力シート!I1510","v":0},{"$f":"入力シート!O1510","v":0},{"$f":"IF(入力シート!P1510=\"×\",\"P\",\"PN\")","v":"PN"},{"$f":"計算結果!#REF!","v":{"$error":"#REF!"}},{"$f":"計算結果!#REF!","v":{"$error":"#REF!"}},{"$f":"計算結果!#REF!","v":{"$error":"#REF!"}},{"$f":"計算結果!#REF!","v":{"$error":"#REF!"}},{"$f":"計算結果!#REF!","v":{"$error":"#REF!"}},{"$f":"計算結果!#REF!","v":{"$error":"#REF!"}},{"$f":"計算結果!#REF!","v":{"$error":"#REF!"}},{"$f":"計算結果!#REF!","v":{"$error":"#REF!"}},{"$f":"計算結果!#REF!","v":{"$error":"#REF!"}},{"$f":"計算結果!#REF!","v":{"$error":"#REF!"}}]
[{"$f":"入力シート!A1511","v":0},{"$f":"入力シート!G1511","v":0},{"$f":"入力シート!H1511","v":0},{"$f":"IF(入力シート!$J1511<>\"\",入力シート!$J1511,IF(入力シート!$L1511<>\"\",入力シート!$L1511,\"‐\"))","v":"‐"},{"$f":"IF(入力シート!$K1511<>\"\",入力シート!$K1511,IF(入力シート!$M1511<>\"\",入力シート!$M1511,入力シート!$N1511))","v":0},{"$f":"入力シート!I1511","v":0},{"$f":"入力シート!O1511","v":0},{"$f":"IF(入力シート!P1511=\"×\",\"P\",\"PN\")","v":"PN"},{"$f":"計算結果!#REF!","v":{"$error":"#REF!"}},{"$f":"計算結果!#REF!","v":{"$error":"#REF!"}},{"$f":"計算結果!#REF!","v":{"$error":"#REF!"}},{"$f":"計算結果!#REF!","v":{"$error":"#REF!"}},{"$f":"計算結果!#REF!","v":{"$error":"#REF!"}},{"$f":"計算結果!#REF!","v":{"$error":"#REF!"}},{"$f":"計算結果!#REF!","v":{"$error":"#REF!"}},{"$f":"計算結果!#REF!","v":{"$error":"#REF!"}},{"$f":"計算結果!#REF!","v":{"$error":"#REF!"}},{"$f":"計算結果!#REF!","v":{"$error":"#REF!"}}]
[{"$f":"入力シート!A1512","v":0},{"$f":"入力シート!G1512","v":0},{"$f":"入力シート!H1512","v":0},{"$f":"IF(入力シート!$J1512<>\"\",入力シート!$J1512,IF(入力シート!$L1512<>\"\",入力シート!$L1512,\"‐\"))","v":"‐"},{"$f":"IF(入力シート!$K1512<>\"\",入力シート!$K1512,IF(入力シート!$M1512<>\"\",入力シート!$M1512,入力シート!$N1512))","v":0},{"$f":"入力シート!I1512","v":0},{"$f":"入力シート!O1512","v":0},{"$f":"IF(入力シート!P1512=\"×\",\"P\",\"PN\")","v":"PN"},{"$f":"計算結果!#REF!","v":{"$error":"#REF!"}},{"$f":"計算結果!#REF!","v":{"$error":"#REF!"}},{"$f":"計算結果!#REF!","v":{"$error":"#REF!"}},{"$f":"計算結果!#REF!","v":{"$error":"#REF!"}},{"$f":"計算結果!#REF!","v":{"$error":"#REF!"}},{"$f":"計算結果!#REF!","v":{"$error":"#REF!"}},{"$f":"計算結果!#REF!","v":{"$error":"#REF!"}},{"$f":"計算結果!#REF!","v":{"$error":"#REF!"}},{"$f":"計算結果!#REF!","v":{"$error":"#REF!"}},{"$f":"計算結果!#REF!","v":{"$error":"#REF!"}}]
[{"$f":"入力シート!A1513","v":0},{"$f":"入力シート!G1513","v":0},{"$f":"入力シート!H1513","v":0},{"$f":"IF(入力シート!$J1513<>\"\",入力シート!$J1513,IF(入力シート!$L1513<>\"\",入力シート!$L1513,\"‐\"))","v":"‐"},{"$f":"IF(入力シート!$K1513<>\"\",入力シート!$K1513,IF(入力シート!$M1513<>\"\",入力シート!$M1513,入力シート!$N1513))","v":0},{"$f":"入力シート!I1513","v":0},{"$f":"入力シート!O1513","v":0},{"$f":"IF(入力シート!P1513=\"×\",\"P\",\"PN\")","v":"PN"},{"$f":"計算結果!#REF!","v":{"$error":"#REF!"}},{"$f":"計算結果!#REF!","v":{"$error":"#REF!"}},{"$f":"計算結果!#REF!","v":{"$error":"#REF!"}},{"$f":"計算結果!#REF!","v":{"$error":"#REF!"}},{"$f":"計算結果!#REF!","v":{"$error":"#REF!"}},{"$f":"計算結果!#REF!","v":{"$error":"#REF!"}},{"$f":"計算結果!#REF!","v":{"$error":"#REF!"}},{"$f":"計算結果!#REF!","v":{"$error":"#REF!"}},{"$f":"計算結果!#REF!","v":{"$error":"#REF!"}},{"$f":"計算結果!#REF!","v":{"$error":"#REF!"}}]
[{"$f":"入力シート!A1514","v":0},{"$f":"入力シート!G1514","v":0},{"$f":"入力シート!H1514","v":0},{"$f":"IF(入力シート!$J1514<>\"\",入力シート!$J1514,IF(入力シート!$L1514<>\"\",入力シート!$L1514,\"‐\"))","v":"‐"},{"$f":"IF(入力シート!$K1514<>\"\",入力シート!$K1514,IF(入力シート!$M1514<>\"\",入力シート!$M1514,入力シート!$N1514))","v":0},{"$f":"入力シート!I1514","v":0},{"$f":"入力シート!O1514","v":0},{"$f":"IF(入力シート!P1514=\"×\",\"P\",\"PN\")","v":"PN"},{"$f":"計算結果!#REF!","v":{"$error":"#REF!"}},{"$f":"計算結果!#REF!","v":{"$error":"#REF!"}},{"$f":"計算結果!#REF!","v":{"$error":"#REF!"}},{"$f":"計算結果!#REF!","v":{"$error":"#REF!"}},{"$f":"計算結果!#REF!","v":{"$error":"#REF!"}},{"$f":"計算結果!#REF!","v":{"$error":"#REF!"}},{"$f":"計算結果!#REF!","v":{"$error":"#REF!"}},{"$f":"計算結果!#REF!","v":{"$error":"#REF!"}},{"$f":"計算結果!#REF!","v":{"$error":"#REF!"}},{"$f":"計算結果!#REF!","v":{"$error":"#REF!"}}]
[{"$f":"入力シート!A1515","v":0},{"$f":"入力シート!G1515","v":0},{"$f":"入力シート!H1515","v":0},{"$f":"IF(入力シート!$J1515<>\"\",入力シート!$J1515,IF(入力シート!$L1515<>\"\",入力シート!$L1515,\"‐\"))","v":"‐"},{"$f":"IF(入力シート!$K1515<>\"\",入力シート!$K1515,IF(入力シート!$M1515<>\"\",入力シート!$M1515,入力シート!$N1515))","v":0},{"$f":"入力シート!I1515","v":0},{"$f":"入力シート!O1515","v":0},{"$f":"IF(入力シート!P1515=\"×\",\"P\",\"PN\")","v":"PN"},{"$f":"計算結果!#REF!","v":{"$error":"#REF!"}},{"$f":"計算結果!#REF!","v":{"$error":"#REF!"}},{"$f":"計算結果!#REF!","v":{"$error":"#REF!"}},{"$f":"計算結果!#REF!","v":{"$error":"#REF!"}},{"$f":"計算結果!#REF!","v":{"$error":"#REF!"}},{"$f":"計算結果!#REF!","v":{"$error":"#REF!"}},{"$f":"計算結果!#REF!","v":{"$error":"#REF!"}},{"$f":"計算結果!#REF!","v":{"$error":"#REF!"}},{"$f":"計算結果!#REF!","v":{"$error":"#REF!"}},{"$f":"計算結果!#REF!","v":{"$error":"#REF!"}}]
[{"$f":"入力シート!A1516","v":0},{"$f":"入力シート!G1516","v":0},{"$f":"入力シート!H1516","v":0},{"$f":"IF(入力シート!$J1516<>\"\",入力シート!$J1516,IF(入力シート!$L1516<>\"\",入力シート!$L1516,\"‐\"))","v":"‐"},{"$f":"IF(入力シート!$K1516<>\"\",入力シート!$K1516,IF(入力シート!$M1516<>\"\",入力シート!$M1516,入力シート!$N1516))","v":0},{"$f":"入力シート!I1516","v":0},{"$f":"入力シート!O1516","v":0},{"$f":"IF(入力シート!P1516=\"×\",\"P\",\"PN\")","v":"PN"},{"$f":"計算結果!#REF!","v":{"$error":"#REF!"}},{"$f":"計算結果!#REF!","v":{"$error":"#REF!"}},{"$f":"計算結果!#REF!","v":{"$error":"#REF!"}},{"$f":"計算結果!#REF!","v":{"$error":"#REF!"}},{"$f":"計算結果!#REF!","v":{"$error":"#REF!"}},{"$f":"計算結果!#REF!","v":{"$error":"#REF!"}},{"$f":"計算結果!#REF!","v":{"$error":"#REF!"}},{"$f":"計算結果!#REF!","v":{"$error":"#REF!"}},{"$f":"計算結果!#REF!","v":{"$error":"#REF!"}},{"$f":"計算結果!#REF!","v":{"$error":"#REF!"}}]
[{"$f":"入力シート!A1517","v":0},{"$f":"入力シート!G1517","v":0},{"$f":"入力シート!H1517","v":0},{"$f":"IF(入力シート!$J1517<>\"\",入力シート!$J1517,IF(入力シート!$L1517<>\"\",入力シート!$L1517,\"‐\"))","v":"‐"},{"$f":"IF(入力シート!$K1517<>\"\",入力シート!$K1517,IF(入力シート!$M1517<>\"\",入力シート!$M1517,入力シート!$N1517))","v":0},{"$f":"入力シート!I1517","v":0},{"$f":"入力シート!O1517","v":0},{"$f":"IF(入力シート!P1517=\"×\",\"P\",\"PN\")","v":"PN"},{"$f":"計算結果!#REF!","v":{"$error":"#REF!"}},{"$f":"計算結果!#REF!","v":{"$error":"#REF!"}},{"$f":"計算結果!#REF!","v":{"$error":"#REF!"}},{"$f":"計算結果!#REF!","v":{"$error":"#REF!"}},{"$f":"計算結果!#REF!","v":{"$error":"#REF!"}},{"$f":"計算結果!#REF!","v":{"$error":"#REF!"}},{"$f":"計算結果!#REF!","v":{"$error":"#REF!"}},{"$f":"計算結果!#REF!","v":{"$error":"#REF!"}},{"$f":"計算結果!#REF!","v":{"$error":"#REF!"}},{"$f":"計算結果!#REF!","v":{"$error":"#REF!"}}]
[{"$f":"入力シート!A1518","v":0},{"$f":"入力シート!G1518","v":0},{"$f":"入力シート!H1518","v":0},{"$f":"IF(入力シート!$J1518<>\"\",入力シート!$J1518,IF(入力シート!$L1518<>\"\",入力シート!$L1518,\"‐\"))","v":"‐"},{"$f":"IF(入力シート!$K1518<>\"\",入力シート!$K1518,IF(入力シート!$M1518<>\"\",入力シート!$M1518,入力シート!$N1518))","v":0},{"$f":"入力シート!I1518","v":0},{"$f":"入力シート!O1518","v":0},{"$f":"IF(入力シート!P1518=\"×\",\"P\",\"PN\")","v":"PN"},{"$f":"計算結果!#REF!","v":{"$error":"#REF!"}},{"$f":"計算結果!#REF!","v":{"$error":"#REF!"}},{"$f":"計算結果!#REF!","v":{"$error":"#REF!"}},{"$f":"計算結果!#REF!","v":{"$error":"#REF!"}},{"$f":"計算結果!#REF!","v":{"$error":"#REF!"}},{"$f":"計算結果!#REF!","v":{"$error":"#REF!"}},{"$f":"計算結果!#REF!","v":{"$error":"#REF!"}},{"$f":"計算結果!#REF!","v":{"$error":"#REF!"}},{"$f":"計算結果!#REF!","v":{"$error":"#REF!"}},{"$f":"計算結果!#REF!","v":{"$error":"#REF!"}}]
[{"$f":"入力シート!A1519","v":0},{"$f":"入力シート!G1519","v":0},{"$f":"入力シート!H1519","v":0},{"$f":"IF(入力シート!$J1519<>\"\",入力シート!$J1519,IF(入力シート!$L1519<>\"\",入力シート!$L1519,\"‐\"))","v":"‐"},{"$f":"IF(入力シート!$K1519<>\"\",入力シート!$K1519,IF(入力シート!$M1519<>\"\",入力シート!$M1519,入力シート!$N1519))","v":0},{"$f":"入力シート!I1519","v":0},{"$f":"入力シート!O1519","v":0},{"$f":"IF(入力シート!P1519=\"×\",\"P\",\"PN\")","v":"PN"},{"$f":"計算結果!#REF!","v":{"$error":"#REF!"}},{"$f":"計算結果!#REF!","v":{"$error":"#REF!"}},{"$f":"計算結果!#REF!","v":{"$error":"#REF!"}},{"$f":"計算結果!#REF!","v":{"$error":"#REF!"}},{"$f":"計算結果!#REF!","v":{"$error":"#REF!"}},{"$f":"計算結果!#REF!","v":{"$error":"#REF!"}},{"$f":"計算結果!#REF!","v":{"$error":"#REF!"}},{"$f":"計算結果!#REF!","v":{"$error":"#REF!"}},{"$f":"計算結果!#REF!","v":{"$error":"#REF!"}},{"$f":"計算結果!#REF!","v":{"$error":"#REF!"}}]
[{"$f":"入力シート!A1520","v":0},{"$f":"入力シート!G1520","v":0},{"$f":"入力シート!H1520","v":0},{"$f":"IF(入力シート!$J1520<>\"\",入力シート!$J1520,IF(入力シート!$L1520<>\"\",入力シート!$L1520,\"‐\"))","v":"‐"},{"$f":"IF(入力シート!$K1520<>\"\",入力シート!$K1520,IF(入力シート!$M1520<>\"\",入力シート!$M1520,入力シート!$N1520))","v":0},{"$f":"入力シート!I1520","v":0},{"$f":"入力シート!O1520","v":0},{"$f":"IF(入力シート!P1520=\"×\",\"P\",\"PN\")","v":"PN"},{"$f":"計算結果!#REF!","v":{"$error":"#REF!"}},{"$f":"計算結果!#REF!","v":{"$error":"#REF!"}},{"$f":"計算結果!#REF!","v":{"$error":"#REF!"}},{"$f":"計算結果!#REF!","v":{"$error":"#REF!"}},{"$f":"計算結果!#REF!","v":{"$error":"#REF!"}},{"$f":"計算結果!#REF!","v":{"$error":"#REF!"}},{"$f":"計算結果!#REF!","v":{"$error":"#REF!"}},{"$f":"計算結果!#REF!","v":{"$error":"#REF!"}},{"$f":"計算結果!#REF!","v":{"$error":"#REF!"}},{"$f":"計算結果!#REF!","v":{"$error":"#REF!"}}]
[{"$f":"入力シート!A1521","v":0},{"$f":"入力シート!G1521","v":0},{"$f":"入力シート!H1521","v":0},{"$f":"IF(入力シート!$J1521<>\"\",入力シート!$J1521,IF(入力シート!$L1521<>\"\",入力シート!$L1521,\"‐\"))","v":"‐"},{"$f":"IF(入力シート!$K1521<>\"\",入力シート!$K1521,IF(入力シート!$M1521<>\"\",入力シート!$M1521,入力シート!$N1521))","v":0},{"$f":"入力シート!I1521","v":0},{"$f":"入力シート!O1521","v":0},{"$f":"IF(入力シート!P1521=\"×\",\"P\",\"PN\")","v":"PN"},{"$f":"計算結果!#REF!","v":{"$error":"#REF!"}},{"$f":"計算結果!#REF!","v":{"$error":"#REF!"}},{"$f":"計算結果!#REF!","v":{"$error":"#REF!"}},{"$f":"計算結果!#REF!","v":{"$error":"#REF!"}},{"$f":"計算結果!#REF!","v":{"$error":"#REF!"}},{"$f":"計算結果!#REF!","v":{"$error":"#REF!"}},{"$f":"計算結果!#REF!","v":{"$error":"#REF!"}},{"$f":"計算結果!#REF!","v":{"$error":"#REF!"}},{"$f":"計算結果!#REF!","v":{"$error":"#REF!"}},{"$f":"計算結果!#REF!","v":{"$error":"#REF!"}}]
[{"$f":"入力シート!A1522","v":0},{"$f":"入力シート!G1522","v":0},{"$f":"入力シート!H1522","v":0},{"$f":"IF(入力シート!$J1522<>\"\",入力シート!$J1522,IF(入力シート!$L1522<>\"\",入力シート!$L1522,\"‐\"))","v":"‐"},{"$f":"IF(入力シート!$K1522<>\"\",入力シート!$K1522,IF(入力シート!$M1522<>\"\",入力シート!$M1522,入力シート!$N1522))","v":0},{"$f":"入力シート!I1522","v":0},{"$f":"入力シート!O1522","v":0},{"$f":"IF(入力シート!P1522=\"×\",\"P\",\"PN\")","v":"PN"},{"$f":"計算結果!#REF!","v":{"$error":"#REF!"}},{"$f":"計算結果!#REF!","v":{"$error":"#REF!"}},{"$f":"計算結果!#REF!","v":{"$error":"#REF!"}},{"$f":"計算結果!#REF!","v":{"$error":"#REF!"}},{"$f":"計算結果!#REF!","v":{"$error":"#REF!"}},{"$f":"計算結果!#REF!","v":{"$error":"#REF!"}},{"$f":"計算結果!#REF!","v":{"$error":"#REF!"}},{"$f":"計算結果!#REF!","v":{"$error":"#REF!"}},{"$f":"計算結果!#REF!","v":{"$error":"#REF!"}},{"$f":"計算結果!#REF!","v":{"$error":"#REF!"}}]
[{"$f":"入力シート!A1523","v":0},{"$f":"入力シート!G1523","v":0},{"$f":"入力シート!H1523","v":0},{"$f":"IF(入力シート!$J1523<>\"\",入力シート!$J1523,IF(入力シート!$L1523<>\"\",入力シート!$L1523,\"‐\"))","v":"‐"},{"$f":"IF(入力シート!$K1523<>\"\",入力シート!$K1523,IF(入力シート!$M1523<>\"\",入力シート!$M1523,入力シート!$N1523))","v":0},{"$f":"入力シート!I1523","v":0},{"$f":"入力シート!O1523","v":0},{"$f":"IF(入力シート!P1523=\"×\",\"P\",\"PN\")","v":"PN"},{"$f":"計算結果!#REF!","v":{"$error":"#REF!"}},{"$f":"計算結果!#REF!","v":{"$error":"#REF!"}},{"$f":"計算結果!#REF!","v":{"$error":"#REF!"}},{"$f":"計算結果!#REF!","v":{"$error":"#REF!"}},{"$f":"計算結果!#REF!","v":{"$error":"#REF!"}},{"$f":"計算結果!#REF!","v":{"$error":"#REF!"}},{"$f":"計算結果!#REF!","v":{"$error":"#REF!"}},{"$f":"計算結果!#REF!","v":{"$error":"#REF!"}},{"$f":"計算結果!#REF!","v":{"$error":"#REF!"}},{"$f":"計算結果!#REF!","v":{"$error":"#REF!"}}]
[{"$f":"入力シート!A1524","v":0},{"$f":"入力シート!G1524","v":0},{"$f":"入力シート!H1524","v":0},{"$f":"IF(入力シート!$J1524<>\"\",入力シート!$J1524,IF(入力シート!$L1524<>\"\",入力シート!$L1524,\"‐\"))","v":"‐"},{"$f":"IF(入力シート!$K1524<>\"\",入力シート!$K1524,IF(入力シート!$M1524<>\"\",入力シート!$M1524,入力シート!$N1524))","v":0},{"$f":"入力シート!I1524","v":0},{"$f":"入力シート!O1524","v":0},{"$f":"IF(入力シート!P1524=\"×\",\"P\",\"PN\")","v":"PN"},{"$f":"計算結果!#REF!","v":{"$error":"#REF!"}},{"$f":"計算結果!#REF!","v":{"$error":"#REF!"}},{"$f":"計算結果!#REF!","v":{"$error":"#REF!"}},{"$f":"計算結果!#REF!","v":{"$error":"#REF!"}},{"$f":"計算結果!#REF!","v":{"$error":"#REF!"}},{"$f":"計算結果!#REF!","v":{"$error":"#REF!"}},{"$f":"計算結果!#REF!","v":{"$error":"#REF!"}},{"$f":"計算結果!#REF!","v":{"$error":"#REF!"}},{"$f":"計算結果!#REF!","v":{"$error":"#REF!"}},{"$f":"計算結果!#REF!","v":{"$error":"#REF!"}}]
[{"$f":"入力シート!A1525","v":0},{"$f":"入力シート!G1525","v":0},{"$f":"入力シート!H1525","v":0},{"$f":"IF(入力シート!$J1525<>\"\",入力シート!$J1525,IF(入力シート!$L1525<>\"\",入力シート!$L1525,\"‐\"))","v":"‐"},{"$f":"IF(入力シート!$K1525<>\"\",入力シート!$K1525,IF(入力シート!$M1525<>\"\",入力シート!$M1525,入力シート!$N1525))","v":0},{"$f":"入力シート!I1525","v":0},{"$f":"入力シート!O1525","v":0},{"$f":"IF(入力シート!P1525=\"×\",\"P\",\"PN\")","v":"PN"},{"$f":"計算結果!#REF!","v":{"$error":"#REF!"}},{"$f":"計算結果!#REF!","v":{"$error":"#REF!"}},{"$f":"計算結果!#REF!","v":{"$error":"#REF!"}},{"$f":"計算結果!#REF!","v":{"$error":"#REF!"}},{"$f":"計算結果!#REF!","v":{"$error":"#REF!"}},{"$f":"計算結果!#REF!","v":{"$error":"#REF!"}},{"$f":"計算結果!#REF!","v":{"$error":"#REF!"}},{"$f":"計算結果!#REF!","v":{"$error":"#REF!"}},{"$f":"計算結果!#REF!","v":{"$error":"#REF!"}},{"$f":"計算結果!#REF!","v":{"$error":"#REF!"}}]
[{"$f":"入力シート!A1526","v":0},{"$f":"入力シート!G1526","v":0},{"$f":"入力シート!H1526","v":0},{"$f":"IF(入力シート!$J1526<>\"\",入力シート!$J1526,IF(入力シート!$L1526<>\"\",入力シート!$L1526,\"‐\"))","v":"‐"},{"$f":"IF(入力シート!$K1526<>\"\",入力シート!$K1526,IF(入力シート!$M1526<>\"\",入力シート!$M1526,入力シート!$N1526))","v":0},{"$f":"入力シート!I1526","v":0},{"$f":"入力シート!O1526","v":0},{"$f":"IF(入力シート!P1526=\"×\",\"P\",\"PN\")","v":"PN"},{"$f":"計算結果!#REF!","v":{"$error":"#REF!"}},{"$f":"計算結果!#REF!","v":{"$error":"#REF!"}},{"$f":"計算結果!#REF!","v":{"$error":"#REF!"}},{"$f":"計算結果!#REF!","v":{"$error":"#REF!"}},{"$f":"計算結果!#REF!","v":{"$error":"#REF!"}},{"$f":"計算結果!#REF!","v":{"$error":"#REF!"}},{"$f":"計算結果!#REF!","v":{"$error":"#REF!"}},{"$f":"計算結果!#REF!","v":{"$error":"#REF!"}},{"$f":"計算結果!#REF!","v":{"$error":"#REF!"}},{"$f":"計算結果!#REF!","v":{"$error":"#REF!"}}]
[{"$f":"入力シート!A1527","v":0},{"$f":"入力シート!G1527","v":0},{"$f":"入力シート!H1527","v":0},{"$f":"IF(入力シート!$J1527<>\"\",入力シート!$J1527,IF(入力シート!$L1527<>\"\",入力シート!$L1527,\"‐\"))","v":"‐"},{"$f":"IF(入力シート!$K1527<>\"\",入力シート!$K1527,IF(入力シート!$M1527<>\"\",入力シート!$M1527,入力シート!$N1527))","v":0},{"$f":"入力シート!I1527","v":0},{"$f":"入力シート!O1527","v":0},{"$f":"IF(入力シート!P1527=\"×\",\"P\",\"PN\")","v":"PN"},{"$f":"計算結果!#REF!","v":{"$error":"#REF!"}},{"$f":"計算結果!#REF!","v":{"$error":"#REF!"}},{"$f":"計算結果!#REF!","v":{"$error":"#REF!"}},{"$f":"計算結果!#REF!","v":{"$error":"#REF!"}},{"$f":"計算結果!#REF!","v":{"$error":"#REF!"}},{"$f":"計算結果!#REF!","v":{"$error":"#REF!"}},{"$f":"計算結果!#REF!","v":{"$error":"#REF!"}},{"$f":"計算結果!#REF!","v":{"$error":"#REF!"}},{"$f":"計算結果!#REF!","v":{"$error":"#REF!"}},{"$f":"計算結果!#REF!","v":{"$error":"#REF!"}}]
[{"$f":"入力シート!A1528","v":0},{"$f":"入力シート!G1528","v":0},{"$f":"入力シート!H1528","v":0},{"$f":"IF(入力シート!$J1528<>\"\",入力シート!$J1528,IF(入力シート!$L1528<>\"\",入力シート!$L1528,\"‐\"))","v":"‐"},{"$f":"IF(入力シート!$K1528<>\"\",入力シート!$K1528,IF(入力シート!$M1528<>\"\",入力シート!$M1528,入力シート!$N1528))","v":0},{"$f":"入力シート!I1528","v":0},{"$f":"入力シート!O1528","v":0},{"$f":"IF(入力シート!P1528=\"×\",\"P\",\"PN\")","v":"PN"},{"$f":"計算結果!#REF!","v":{"$error":"#REF!"}},{"$f":"計算結果!#REF!","v":{"$error":"#REF!"}},{"$f":"計算結果!#REF!","v":{"$error":"#REF!"}},{"$f":"計算結果!#REF!","v":{"$error":"#REF!"}},{"$f":"計算結果!#REF!","v":{"$error":"#REF!"}},{"$f":"計算結果!#REF!","v":{"$error":"#REF!"}},{"$f":"計算結果!#REF!","v":{"$error":"#REF!"}},{"$f":"計算結果!#REF!","v":{"$error":"#REF!"}},{"$f":"計算結果!#REF!","v":{"$error":"#REF!"}},{"$f":"計算結果!#REF!","v":{"$error":"#REF!"}}]
[{"$f":"入力シート!A1529","v":0},{"$f":"入力シート!G1529","v":0},{"$f":"入力シート!H1529","v":0},{"$f":"IF(入力シート!$J1529<>\"\",入力シート!$J1529,IF(入力シート!$L1529<>\"\",入力シート!$L1529,\"‐\"))","v":"‐"},{"$f":"IF(入力シート!$K1529<>\"\",入力シート!$K1529,IF(入力シート!$M1529<>\"\",入力シート!$M1529,入力シート!$N1529))","v":0},{"$f":"入力シート!I1529","v":0},{"$f":"入力シート!O1529","v":0},{"$f":"IF(入力シート!P1529=\"×\",\"P\",\"PN\")","v":"PN"},{"$f":"計算結果!#REF!","v":{"$error":"#REF!"}},{"$f":"計算結果!#REF!","v":{"$error":"#REF!"}},{"$f":"計算結果!#REF!","v":{"$error":"#REF!"}},{"$f":"計算結果!#REF!","v":{"$error":"#REF!"}},{"$f":"計算結果!#REF!","v":{"$error":"#REF!"}},{"$f":"計算結果!#REF!","v":{"$error":"#REF!"}},{"$f":"計算結果!#REF!","v":{"$error":"#REF!"}},{"$f":"計算結果!#REF!","v":{"$error":"#REF!"}},{"$f":"計算結果!#REF!","v":{"$error":"#REF!"}},{"$f":"計算結果!#REF!","v":{"$error":"#REF!"}}]
[{"$f":"入力シート!A1530","v":0},{"$f":"入力シート!G1530","v":0},{"$f":"入力シート!H1530","v":0},{"$f":"IF(入力シート!$J1530<>\"\",入力シート!$J1530,IF(入力シート!$L1530<>\"\",入力シート!$L1530,\"‐\"))","v":"‐"},{"$f":"IF(入力シート!$K1530<>\"\",入力シート!$K1530,IF(入力シート!$M1530<>\"\",入力シート!$M1530,入力シート!$N1530))","v":0},{"$f":"入力シート!I1530","v":0},{"$f":"入力シート!O1530","v":0},{"$f":"IF(入力シート!P1530=\"×\",\"P\",\"PN\")","v":"PN"},{"$f":"計算結果!#REF!","v":{"$error":"#REF!"}},{"$f":"計算結果!#REF!","v":{"$error":"#REF!"}},{"$f":"計算結果!#REF!","v":{"$error":"#REF!"}},{"$f":"計算結果!#REF!","v":{"$error":"#REF!"}},{"$f":"計算結果!#REF!","v":{"$error":"#REF!"}},{"$f":"計算結果!#REF!","v":{"$error":"#REF!"}},{"$f":"計算結果!#REF!","v":{"$error":"#REF!"}},{"$f":"計算結果!#REF!","v":{"$error":"#REF!"}},{"$f":"計算結果!#REF!","v":{"$error":"#REF!"}},{"$f":"計算結果!#REF!","v":{"$error":"#REF!"}}]
[{"$f":"入力シート!A1531","v":0},{"$f":"入力シート!G1531","v":0},{"$f":"入力シート!H1531","v":0},{"$f":"IF(入力シート!$J1531<>\"\",入力シート!$J1531,IF(入力シート!$L1531<>\"\",入力シート!$L1531,\"‐\"))","v":"‐"},{"$f":"IF(入力シート!$K1531<>\"\",入力シート!$K1531,IF(入力シート!$M1531<>\"\",入力シート!$M1531,入力シート!$N1531))","v":0},{"$f":"入力シート!I1531","v":0},{"$f":"入力シート!O1531","v":0},{"$f":"IF(入力シート!P1531=\"×\",\"P\",\"PN\")","v":"PN"},{"$f":"計算結果!#REF!","v":{"$error":"#REF!"}},{"$f":"計算結果!#REF!","v":{"$error":"#REF!"}},{"$f":"計算結果!#REF!","v":{"$error":"#REF!"}},{"$f":"計算結果!#REF!","v":{"$error":"#REF!"}},{"$f":"計算結果!#REF!","v":{"$error":"#REF!"}},{"$f":"計算結果!#REF!","v":{"$error":"#REF!"}},{"$f":"計算結果!#REF!","v":{"$error":"#REF!"}},{"$f":"計算結果!#REF!","v":{"$error":"#REF!"}},{"$f":"計算結果!#REF!","v":{"$error":"#REF!"}},{"$f":"計算結果!#REF!","v":{"$error":"#REF!"}}]
[{"$f":"入力シート!A1532","v":0},{"$f":"入力シート!G1532","v":0},{"$f":"入力シート!H1532","v":0},{"$f":"IF(入力シート!$J1532<>\"\",入力シート!$J1532,IF(入力シート!$L1532<>\"\",入力シート!$L1532,\"‐\"))","v":"‐"},{"$f":"IF(入力シート!$K1532<>\"\",入力シート!$K1532,IF(入力シート!$M1532<>\"\",入力シート!$M1532,入力シート!$N1532))","v":0},{"$f":"入力シート!I1532","v":0},{"$f":"入力シート!O1532","v":0},{"$f":"IF(入力シート!P1532=\"×\",\"P\",\"PN\")","v":"PN"},{"$f":"計算結果!#REF!","v":{"$error":"#REF!"}},{"$f":"計算結果!#REF!","v":{"$error":"#REF!"}},{"$f":"計算結果!#REF!","v":{"$error":"#REF!"}},{"$f":"計算結果!#REF!","v":{"$error":"#REF!"}},{"$f":"計算結果!#REF!","v":{"$error":"#REF!"}},{"$f":"計算結果!#REF!","v":{"$error":"#REF!"}},{"$f":"計算結果!#REF!","v":{"$error":"#REF!"}},{"$f":"計算結果!#REF!","v":{"$error":"#REF!"}},{"$f":"計算結果!#REF!","v":{"$error":"#REF!"}},{"$f":"計算結果!#REF!","v":{"$error":"#REF!"}}]
[{"$f":"入力シート!A1533","v":0},{"$f":"入力シート!G1533","v":0},{"$f":"入力シート!H1533","v":0},{"$f":"IF(入力シート!$J1533<>\"\",入力シート!$J1533,IF(入力シート!$L1533<>\"\",入力シート!$L1533,\"‐\"))","v":"‐"},{"$f":"IF(入力シート!$K1533<>\"\",入力シート!$K1533,IF(入力シート!$M1533<>\"\",入力シート!$M1533,入力シート!$N1533))","v":0},{"$f":"入力シート!I1533","v":0},{"$f":"入力シート!O1533","v":0},{"$f":"IF(入力シート!P1533=\"×\",\"P\",\"PN\")","v":"PN"},{"$f":"計算結果!#REF!","v":{"$error":"#REF!"}},{"$f":"計算結果!#REF!","v":{"$error":"#REF!"}},{"$f":"計算結果!#REF!","v":{"$error":"#REF!"}},{"$f":"計算結果!#REF!","v":{"$error":"#REF!"}},{"$f":"計算結果!#REF!","v":{"$error":"#REF!"}},{"$f":"計算結果!#REF!","v":{"$error":"#REF!"}},{"$f":"計算結果!#REF!","v":{"$error":"#REF!"}},{"$f":"計算結果!#REF!","v":{"$error":"#REF!"}},{"$f":"計算結果!#REF!","v":{"$error":"#REF!"}},{"$f":"計算結果!#REF!","v":{"$error":"#REF!"}}]
[{"$f":"入力シート!A1534","v":0},{"$f":"入力シート!G1534","v":0},{"$f":"入力シート!H1534","v":0},{"$f":"IF(入力シート!$J1534<>\"\",入力シート!$J1534,IF(入力シート!$L1534<>\"\",入力シート!$L1534,\"‐\"))","v":"‐"},{"$f":"IF(入力シート!$K1534<>\"\",入力シート!$K1534,IF(入力シート!$M1534<>\"\",入力シート!$M1534,入力シート!$N1534))","v":0},{"$f":"入力シート!I1534","v":0},{"$f":"入力シート!O1534","v":0},{"$f":"IF(入力シート!P1534=\"×\",\"P\",\"PN\")","v":"PN"},{"$f":"計算結果!#REF!","v":{"$error":"#REF!"}},{"$f":"計算結果!#REF!","v":{"$error":"#REF!"}},{"$f":"計算結果!#REF!","v":{"$error":"#REF!"}},{"$f":"計算結果!#REF!","v":{"$error":"#REF!"}},{"$f":"計算結果!#REF!","v":{"$error":"#REF!"}},{"$f":"計算結果!#REF!","v":{"$error":"#REF!"}},{"$f":"計算結果!#REF!","v":{"$error":"#REF!"}},{"$f":"計算結果!#REF!","v":{"$error":"#REF!"}},{"$f":"計算結果!#REF!","v":{"$error":"#REF!"}},{"$f":"計算結果!#REF!","v":{"$error":"#REF!"}}]
[{"$f":"入力シート!A1535","v":0},{"$f":"入力シート!G1535","v":0},{"$f":"入力シート!H1535","v":0},{"$f":"IF(入力シート!$J1535<>\"\",入力シート!$J1535,IF(入力シート!$L1535<>\"\",入力シート!$L1535,\"‐\"))","v":"‐"},{"$f":"IF(入力シート!$K1535<>\"\",入力シート!$K1535,IF(入力シート!$M1535<>\"\",入力シート!$M1535,入力シート!$N1535))","v":0},{"$f":"入力シート!I1535","v":0},{"$f":"入力シート!O1535","v":0},{"$f":"IF(入力シート!P1535=\"×\",\"P\",\"PN\")","v":"PN"},{"$f":"計算結果!#REF!","v":{"$error":"#REF!"}},{"$f":"計算結果!#REF!","v":{"$error":"#REF!"}},{"$f":"計算結果!#REF!","v":{"$error":"#REF!"}},{"$f":"計算結果!#REF!","v":{"$error":"#REF!"}},{"$f":"計算結果!#REF!","v":{"$error":"#REF!"}},{"$f":"計算結果!#REF!","v":{"$error":"#REF!"}},{"$f":"計算結果!#REF!","v":{"$error":"#REF!"}},{"$f":"計算結果!#REF!","v":{"$error":"#REF!"}},{"$f":"計算結果!#REF!","v":{"$error":"#REF!"}},{"$f":"計算結果!#REF!","v":{"$error":"#REF!"}}]
[{"$f":"入力シート!A1536","v":0},{"$f":"入力シート!G1536","v":0},{"$f":"入力シート!H1536","v":0},{"$f":"IF(入力シート!$J1536<>\"\",入力シート!$J1536,IF(入力シート!$L1536<>\"\",入力シート!$L1536,\"‐\"))","v":"‐"},{"$f":"IF(入力シート!$K1536<>\"\",入力シート!$K1536,IF(入力シート!$M1536<>\"\",入力シート!$M1536,入力シート!$N1536))","v":0},{"$f":"入力シート!I1536","v":0},{"$f":"入力シート!O1536","v":0},{"$f":"IF(入力シート!P1536=\"×\",\"P\",\"PN\")","v":"PN"},{"$f":"計算結果!#REF!","v":{"$error":"#REF!"}},{"$f":"計算結果!#REF!","v":{"$error":"#REF!"}},{"$f":"計算結果!#REF!","v":{"$error":"#REF!"}},{"$f":"計算結果!#REF!","v":{"$error":"#REF!"}},{"$f":"計算結果!#REF!","v":{"$error":"#REF!"}},{"$f":"計算結果!#REF!","v":{"$error":"#REF!"}},{"$f":"計算結果!#REF!","v":{"$error":"#REF!"}},{"$f":"計算結果!#REF!","v":{"$error":"#REF!"}},{"$f":"計算結果!#REF!","v":{"$error":"#REF!"}},{"$f":"計算結果!#REF!","v":{"$error":"#REF!"}}]
[{"$f":"入力シート!A1537","v":0},{"$f":"入力シート!G1537","v":0},{"$f":"入力シート!H1537","v":0},{"$f":"IF(入力シート!$J1537<>\"\",入力シート!$J1537,IF(入力シート!$L1537<>\"\",入力シート!$L1537,\"‐\"))","v":"‐"},{"$f":"IF(入力シート!$K1537<>\"\",入力シート!$K1537,IF(入力シート!$M1537<>\"\",入力シート!$M1537,入力シート!$N1537))","v":0},{"$f":"入力シート!I1537","v":0},{"$f":"入力シート!O1537","v":0},{"$f":"IF(入力シート!P1537=\"×\",\"P\",\"PN\")","v":"PN"},{"$f":"計算結果!#REF!","v":{"$error":"#REF!"}},{"$f":"計算結果!#REF!","v":{"$error":"#REF!"}},{"$f":"計算結果!#REF!","v":{"$error":"#REF!"}},{"$f":"計算結果!#REF!","v":{"$error":"#REF!"}},{"$f":"計算結果!#REF!","v":{"$error":"#REF!"}},{"$f":"計算結果!#REF!","v":{"$error":"#REF!"}},{"$f":"計算結果!#REF!","v":{"$error":"#REF!"}},{"$f":"計算結果!#REF!","v":{"$error":"#REF!"}},{"$f":"計算結果!#REF!","v":{"$error":"#REF!"}},{"$f":"計算結果!#REF!","v":{"$error":"#REF!"}}]
[{"$f":"入力シート!A1538","v":0},{"$f":"入力シート!G1538","v":0},{"$f":"入力シート!H1538","v":0},{"$f":"IF(入力シート!$J1538<>\"\",入力シート!$J1538,IF(入力シート!$L1538<>\"\",入力シート!$L1538,\"‐\"))","v":"‐"},{"$f":"IF(入力シート!$K1538<>\"\",入力シート!$K1538,IF(入力シート!$M1538<>\"\",入力シート!$M1538,入力シート!$N1538))","v":0},{"$f":"入力シート!I1538","v":0},{"$f":"入力シート!O1538","v":0},{"$f":"IF(入力シート!P1538=\"×\",\"P\",\"PN\")","v":"PN"},{"$f":"計算結果!#REF!","v":{"$error":"#REF!"}},{"$f":"計算結果!#REF!","v":{"$error":"#REF!"}},{"$f":"計算結果!#REF!","v":{"$error":"#REF!"}},{"$f":"計算結果!#REF!","v":{"$error":"#REF!"}},{"$f":"計算結果!#REF!","v":{"$error":"#REF!"}},{"$f":"計算結果!#REF!","v":{"$error":"#REF!"}},{"$f":"計算結果!#REF!","v":{"$error":"#REF!"}},{"$f":"計算結果!#REF!","v":{"$error":"#REF!"}},{"$f":"計算結果!#REF!","v":{"$error":"#REF!"}},{"$f":"計算結果!#REF!","v":{"$error":"#REF!"}}]
[{"$f":"入力シート!A1539","v":0},{"$f":"入力シート!G1539","v":0},{"$f":"入力シート!H1539","v":0},{"$f":"IF(入力シート!$J1539<>\"\",入力シート!$J1539,IF(入力シート!$L1539<>\"\",入力シート!$L1539,\"‐\"))","v":"‐"},{"$f":"IF(入力シート!$K1539<>\"\",入力シート!$K1539,IF(入力シート!$M1539<>\"\",入力シート!$M1539,入力シート!$N1539))","v":0},{"$f":"入力シート!I1539","v":0},{"$f":"入力シート!O1539","v":0},{"$f":"IF(入力シート!P1539=\"×\",\"P\",\"PN\")","v":"PN"},{"$f":"計算結果!#REF!","v":{"$error":"#REF!"}},{"$f":"計算結果!#REF!","v":{"$error":"#REF!"}},{"$f":"計算結果!#REF!","v":{"$error":"#REF!"}},{"$f":"計算結果!#REF!","v":{"$error":"#REF!"}},{"$f":"計算結果!#REF!","v":{"$error":"#REF!"}},{"$f":"計算結果!#REF!","v":{"$error":"#REF!"}},{"$f":"計算結果!#REF!","v":{"$error":"#REF!"}},{"$f":"計算結果!#REF!","v":{"$error":"#REF!"}},{"$f":"計算結果!#REF!","v":{"$error":"#REF!"}},{"$f":"計算結果!#REF!","v":{"$error":"#REF!"}}]
[{"$f":"入力シート!A1540","v":0},{"$f":"入力シート!G1540","v":0},{"$f":"入力シート!H1540","v":0},{"$f":"IF(入力シート!$J1540<>\"\",入力シート!$J1540,IF(入力シート!$L1540<>\"\",入力シート!$L1540,\"‐\"))","v":"‐"},{"$f":"IF(入力シート!$K1540<>\"\",入力シート!$K1540,IF(入力シート!$M1540<>\"\",入力シート!$M1540,入力シート!$N1540))","v":0},{"$f":"入力シート!I1540","v":0},{"$f":"入力シート!O1540","v":0},{"$f":"IF(入力シート!P1540=\"×\",\"P\",\"PN\")","v":"PN"},{"$f":"計算結果!#REF!","v":{"$error":"#REF!"}},{"$f":"計算結果!#REF!","v":{"$error":"#REF!"}},{"$f":"計算結果!#REF!","v":{"$error":"#REF!"}},{"$f":"計算結果!#REF!","v":{"$error":"#REF!"}},{"$f":"計算結果!#REF!","v":{"$error":"#REF!"}},{"$f":"計算結果!#REF!","v":{"$error":"#REF!"}},{"$f":"計算結果!#REF!","v":{"$error":"#REF!"}},{"$f":"計算結果!#REF!","v":{"$error":"#REF!"}},{"$f":"計算結果!#REF!","v":{"$error":"#REF!"}},{"$f":"計算結果!#REF!","v":{"$error":"#REF!"}}]
[{"$f":"入力シート!A1541","v":0},{"$f":"入力シート!G1541","v":0},{"$f":"入力シート!H1541","v":0},{"$f":"IF(入力シート!$J1541<>\"\",入力シート!$J1541,IF(入力シート!$L1541<>\"\",入力シート!$L1541,\"‐\"))","v":"‐"},{"$f":"IF(入力シート!$K1541<>\"\",入力シート!$K1541,IF(入力シート!$M1541<>\"\",入力シート!$M1541,入力シート!$N1541))","v":0},{"$f":"入力シート!I1541","v":0},{"$f":"入力シート!O1541","v":0},{"$f":"IF(入力シート!P1541=\"×\",\"P\",\"PN\")","v":"PN"},{"$f":"計算結果!#REF!","v":{"$error":"#REF!"}},{"$f":"計算結果!#REF!","v":{"$error":"#REF!"}},{"$f":"計算結果!#REF!","v":{"$error":"#REF!"}},{"$f":"計算結果!#REF!","v":{"$error":"#REF!"}},{"$f":"計算結果!#REF!","v":{"$error":"#REF!"}},{"$f":"計算結果!#REF!","v":{"$error":"#REF!"}},{"$f":"計算結果!#REF!","v":{"$error":"#REF!"}},{"$f":"計算結果!#REF!","v":{"$error":"#REF!"}},{"$f":"計算結果!#REF!","v":{"$error":"#REF!"}},{"$f":"計算結果!#REF!","v":{"$error":"#REF!"}}]
[{"$f":"入力シート!A1542","v":0},{"$f":"入力シート!G1542","v":0},{"$f":"入力シート!H1542","v":0},{"$f":"IF(入力シート!$J1542<>\"\",入力シート!$J1542,IF(入力シート!$L1542<>\"\",入力シート!$L1542,\"‐\"))","v":"‐"},{"$f":"IF(入力シート!$K1542<>\"\",入力シート!$K1542,IF(入力シート!$M1542<>\"\",入力シート!$M1542,入力シート!$N1542))","v":0},{"$f":"入力シート!I1542","v":0},{"$f":"入力シート!O1542","v":0},{"$f":"IF(入力シート!P1542=\"×\",\"P\",\"PN\")","v":"PN"},{"$f":"計算結果!#REF!","v":{"$error":"#REF!"}},{"$f":"計算結果!#REF!","v":{"$error":"#REF!"}},{"$f":"計算結果!#REF!","v":{"$error":"#REF!"}},{"$f":"計算結果!#REF!","v":{"$error":"#REF!"}},{"$f":"計算結果!#REF!","v":{"$error":"#REF!"}},{"$f":"計算結果!#REF!","v":{"$error":"#REF!"}},{"$f":"計算結果!#REF!","v":{"$error":"#REF!"}},{"$f":"計算結果!#REF!","v":{"$error":"#REF!"}},{"$f":"計算結果!#REF!","v":{"$error":"#REF!"}},{"$f":"計算結果!#REF!","v":{"$error":"#REF!"}}]
[{"$f":"入力シート!A1543","v":0},{"$f":"入力シート!G1543","v":0},{"$f":"入力シート!H1543","v":0},{"$f":"IF(入力シート!$J1543<>\"\",入力シート!$J1543,IF(入力シート!$L1543<>\"\",入力シート!$L1543,\"‐\"))","v":"‐"},{"$f":"IF(入力シート!$K1543<>\"\",入力シート!$K1543,IF(入力シート!$M1543<>\"\",入力シート!$M1543,入力シート!$N1543))","v":0},{"$f":"入力シート!I1543","v":0},{"$f":"入力シート!O1543","v":0},{"$f":"IF(入力シート!P1543=\"×\",\"P\",\"PN\")","v":"PN"},{"$f":"計算結果!#REF!","v":{"$error":"#REF!"}},{"$f":"計算結果!#REF!","v":{"$error":"#REF!"}},{"$f":"計算結果!#REF!","v":{"$error":"#REF!"}},{"$f":"計算結果!#REF!","v":{"$error":"#REF!"}},{"$f":"計算結果!#REF!","v":{"$error":"#REF!"}},{"$f":"計算結果!#REF!","v":{"$error":"#REF!"}},{"$f":"計算結果!#REF!","v":{"$error":"#REF!"}},{"$f":"計算結果!#REF!","v":{"$error":"#REF!"}},{"$f":"計算結果!#REF!","v":{"$error":"#REF!"}},{"$f":"計算結果!#REF!","v":{"$error":"#REF!"}}]
[{"$f":"入力シート!A1544","v":0},{"$f":"入力シート!G1544","v":0},{"$f":"入力シート!H1544","v":0},{"$f":"IF(入力シート!$J1544<>\"\",入力シート!$J1544,IF(入力シート!$L1544<>\"\",入力シート!$L1544,\"‐\"))","v":"‐"},{"$f":"IF(入力シート!$K1544<>\"\",入力シート!$K1544,IF(入力シート!$M1544<>\"\",入力シート!$M1544,入力シート!$N1544))","v":0},{"$f":"入力シート!I1544","v":0},{"$f":"入力シート!O1544","v":0},{"$f":"IF(入力シート!P1544=\"×\",\"P\",\"PN\")","v":"PN"},{"$f":"計算結果!#REF!","v":{"$error":"#REF!"}},{"$f":"計算結果!#REF!","v":{"$error":"#REF!"}},{"$f":"計算結果!#REF!","v":{"$error":"#REF!"}},{"$f":"計算結果!#REF!","v":{"$error":"#REF!"}},{"$f":"計算結果!#REF!","v":{"$error":"#REF!"}},{"$f":"計算結果!#REF!","v":{"$error":"#REF!"}},{"$f":"計算結果!#REF!","v":{"$error":"#REF!"}},{"$f":"計算結果!#REF!","v":{"$error":"#REF!"}},{"$f":"計算結果!#REF!","v":{"$error":"#REF!"}},{"$f":"計算結果!#REF!","v":{"$error":"#REF!"}}]
[{"$f":"入力シート!A1545","v":0},{"$f":"入力シート!G1545","v":0},{"$f":"入力シート!H1545","v":0},{"$f":"IF(入力シート!$J1545<>\"\",入力シート!$J1545,IF(入力シート!$L1545<>\"\",入力シート!$L1545,\"‐\"))","v":"‐"},{"$f":"IF(入力シート!$K1545<>\"\",入力シート!$K1545,IF(入力シート!$M1545<>\"\",入力シート!$M1545,入力シート!$N1545))","v":0},{"$f":"入力シート!I1545","v":0},{"$f":"入力シート!O1545","v":0},{"$f":"IF(入力シート!P1545=\"×\",\"P\",\"PN\")","v":"PN"},{"$f":"計算結果!#REF!","v":{"$error":"#REF!"}},{"$f":"計算結果!#REF!","v":{"$error":"#REF!"}},{"$f":"計算結果!#REF!","v":{"$error":"#REF!"}},{"$f":"計算結果!#REF!","v":{"$error":"#REF!"}},{"$f":"計算結果!#REF!","v":{"$error":"#REF!"}},{"$f":"計算結果!#REF!","v":{"$error":"#REF!"}},{"$f":"計算結果!#REF!","v":{"$error":"#REF!"}},{"$f":"計算結果!#REF!","v":{"$error":"#REF!"}},{"$f":"計算結果!#REF!","v":{"$error":"#REF!"}},{"$f":"計算結果!#REF!","v":{"$error":"#REF!"}}]
[{"$f":"入力シート!A1546","v":0},{"$f":"入力シート!G1546","v":0},{"$f":"入力シート!H1546","v":0},{"$f":"IF(入力シート!$J1546<>\"\",入力シート!$J1546,IF(入力シート!$L1546<>\"\",入力シート!$L1546,\"‐\"))","v":"‐"},{"$f":"IF(入力シート!$K1546<>\"\",入力シート!$K1546,IF(入力シート!$M1546<>\"\",入力シート!$M1546,入力シート!$N1546))","v":0},{"$f":"入力シート!I1546","v":0},{"$f":"入力シート!O1546","v":0},{"$f":"IF(入力シート!P1546=\"×\",\"P\",\"PN\")","v":"PN"},{"$f":"計算結果!#REF!","v":{"$error":"#REF!"}},{"$f":"計算結果!#REF!","v":{"$error":"#REF!"}},{"$f":"計算結果!#REF!","v":{"$error":"#REF!"}},{"$f":"計算結果!#REF!","v":{"$error":"#REF!"}},{"$f":"計算結果!#REF!","v":{"$error":"#REF!"}},{"$f":"計算結果!#REF!","v":{"$error":"#REF!"}},{"$f":"計算結果!#REF!","v":{"$error":"#REF!"}},{"$f":"計算結果!#REF!","v":{"$error":"#REF!"}},{"$f":"計算結果!#REF!","v":{"$error":"#REF!"}},{"$f":"計算結果!#REF!","v":{"$error":"#REF!"}}]
[{"$f":"入力シート!A1547","v":0},{"$f":"入力シート!G1547","v":0},{"$f":"入力シート!H1547","v":0},{"$f":"IF(入力シート!$J1547<>\"\",入力シート!$J1547,IF(入力シート!$L1547<>\"\",入力シート!$L1547,\"‐\"))","v":"‐"},{"$f":"IF(入力シート!$K1547<>\"\",入力シート!$K1547,IF(入力シート!$M1547<>\"\",入力シート!$M1547,入力シート!$N1547))","v":0},{"$f":"入力シート!I1547","v":0},{"$f":"入力シート!O1547","v":0},{"$f":"IF(入力シート!P1547=\"×\",\"P\",\"PN\")","v":"PN"},{"$f":"計算結果!#REF!","v":{"$error":"#REF!"}},{"$f":"計算結果!#REF!","v":{"$error":"#REF!"}},{"$f":"計算結果!#REF!","v":{"$error":"#REF!"}},{"$f":"計算結果!#REF!","v":{"$error":"#REF!"}},{"$f":"計算結果!#REF!","v":{"$error":"#REF!"}},{"$f":"計算結果!#REF!","v":{"$error":"#REF!"}},{"$f":"計算結果!#REF!","v":{"$error":"#REF!"}},{"$f":"計算結果!#REF!","v":{"$error":"#REF!"}},{"$f":"計算結果!#REF!","v":{"$error":"#REF!"}},{"$f":"計算結果!#REF!","v":{"$error":"#REF!"}}]
[{"$f":"入力シート!A1548","v":0},{"$f":"入力シート!G1548","v":0},{"$f":"入力シート!H1548","v":0},{"$f":"IF(入力シート!$J1548<>\"\",入力シート!$J1548,IF(入力シート!$L1548<>\"\",入力シート!$L1548,\"‐\"))","v":"‐"},{"$f":"IF(入力シート!$K1548<>\"\",入力シート!$K1548,IF(入力シート!$M1548<>\"\",入力シート!$M1548,入力シート!$N1548))","v":0},{"$f":"入力シート!I1548","v":0},{"$f":"入力シート!O1548","v":0},{"$f":"IF(入力シート!P1548=\"×\",\"P\",\"PN\")","v":"PN"},{"$f":"計算結果!#REF!","v":{"$error":"#REF!"}},{"$f":"計算結果!#REF!","v":{"$error":"#REF!"}},{"$f":"計算結果!#REF!","v":{"$error":"#REF!"}},{"$f":"計算結果!#REF!","v":{"$error":"#REF!"}},{"$f":"計算結果!#REF!","v":{"$error":"#REF!"}},{"$f":"計算結果!#REF!","v":{"$error":"#REF!"}},{"$f":"計算結果!#REF!","v":{"$error":"#REF!"}},{"$f":"計算結果!#REF!","v":{"$error":"#REF!"}},{"$f":"計算結果!#REF!","v":{"$error":"#REF!"}},{"$f":"計算結果!#REF!","v":{"$error":"#REF!"}}]
[{"$f":"入力シート!A1549","v":0},{"$f":"入力シート!G1549","v":0},{"$f":"入力シート!H1549","v":0},{"$f":"IF(入力シート!$J1549<>\"\",入力シート!$J1549,IF(入力シート!$L1549<>\"\",入力シート!$L1549,\"‐\"))","v":"‐"},{"$f":"IF(入力シート!$K1549<>\"\",入力シート!$K1549,IF(入力シート!$M1549<>\"\",入力シート!$M1549,入力シート!$N1549))","v":0},{"$f":"入力シート!I1549","v":0},{"$f":"入力シート!O1549","v":0},{"$f":"IF(入力シート!P1549=\"×\",\"P\",\"PN\")","v":"PN"},{"$f":"計算結果!#REF!","v":{"$error":"#REF!"}},{"$f":"計算結果!#REF!","v":{"$error":"#REF!"}},{"$f":"計算結果!#REF!","v":{"$error":"#REF!"}},{"$f":"計算結果!#REF!","v":{"$error":"#REF!"}},{"$f":"計算結果!#REF!","v":{"$error":"#REF!"}},{"$f":"計算結果!#REF!","v":{"$error":"#REF!"}},{"$f":"計算結果!#REF!","v":{"$error":"#REF!"}},{"$f":"計算結果!#REF!","v":{"$error":"#REF!"}},{"$f":"計算結果!#REF!","v":{"$error":"#REF!"}},{"$f":"計算結果!#REF!","v":{"$error":"#REF!"}}]
[{"$f":"入力シート!A1550","v":0},{"$f":"入力シート!G1550","v":0},{"$f":"入力シート!H1550","v":0},{"$f":"IF(入力シート!$J1550<>\"\",入力シート!$J1550,IF(入力シート!$L1550<>\"\",入力シート!$L1550,\"‐\"))","v":"‐"},{"$f":"IF(入力シート!$K1550<>\"\",入力シート!$K1550,IF(入力シート!$M1550<>\"\",入力シート!$M1550,入力シート!$N1550))","v":0},{"$f":"入力シート!I1550","v":0},{"$f":"入力シート!O1550","v":0},{"$f":"IF(入力シート!P1550=\"×\",\"P\",\"PN\")","v":"PN"},{"$f":"計算結果!#REF!","v":{"$error":"#REF!"}},{"$f":"計算結果!#REF!","v":{"$error":"#REF!"}},{"$f":"計算結果!#REF!","v":{"$error":"#REF!"}},{"$f":"計算結果!#REF!","v":{"$error":"#REF!"}},{"$f":"計算結果!#REF!","v":{"$error":"#REF!"}},{"$f":"計算結果!#REF!","v":{"$error":"#REF!"}},{"$f":"計算結果!#REF!","v":{"$error":"#REF!"}},{"$f":"計算結果!#REF!","v":{"$error":"#REF!"}},{"$f":"計算結果!#REF!","v":{"$error":"#REF!"}},{"$f":"計算結果!#REF!","v":{"$error":"#REF!"}}]
[{"$f":"入力シート!A1551","v":0},{"$f":"入力シート!G1551","v":0},{"$f":"入力シート!H1551","v":0},{"$f":"IF(入力シート!$J1551<>\"\",入力シート!$J1551,IF(入力シート!$L1551<>\"\",入力シート!$L1551,\"‐\"))","v":"‐"},{"$f":"IF(入力シート!$K1551<>\"\",入力シート!$K1551,IF(入力シート!$M1551<>\"\",入力シート!$M1551,入力シート!$N1551))","v":0},{"$f":"入力シート!I1551","v":0},{"$f":"入力シート!O1551","v":0},{"$f":"IF(入力シート!P1551=\"×\",\"P\",\"PN\")","v":"PN"},{"$f":"計算結果!#REF!","v":{"$error":"#REF!"}},{"$f":"計算結果!#REF!","v":{"$error":"#REF!"}},{"$f":"計算結果!#REF!","v":{"$error":"#REF!"}},{"$f":"計算結果!#REF!","v":{"$error":"#REF!"}},{"$f":"計算結果!#REF!","v":{"$error":"#REF!"}},{"$f":"計算結果!#REF!","v":{"$error":"#REF!"}},{"$f":"計算結果!#REF!","v":{"$error":"#REF!"}},{"$f":"計算結果!#REF!","v":{"$error":"#REF!"}},{"$f":"計算結果!#REF!","v":{"$error":"#REF!"}},{"$f":"計算結果!#REF!","v":{"$error":"#REF!"}}]
[{"$f":"入力シート!A1552","v":0},{"$f":"入力シート!G1552","v":0},{"$f":"入力シート!H1552","v":0},{"$f":"IF(入力シート!$J1552<>\"\",入力シート!$J1552,IF(入力シート!$L1552<>\"\",入力シート!$L1552,\"‐\"))","v":"‐"},{"$f":"IF(入力シート!$K1552<>\"\",入力シート!$K1552,IF(入力シート!$M1552<>\"\",入力シート!$M1552,入力シート!$N1552))","v":0},{"$f":"入力シート!I1552","v":0},{"$f":"入力シート!O1552","v":0},{"$f":"IF(入力シート!P1552=\"×\",\"P\",\"PN\")","v":"PN"},{"$f":"計算結果!#REF!","v":{"$error":"#REF!"}},{"$f":"計算結果!#REF!","v":{"$error":"#REF!"}},{"$f":"計算結果!#REF!","v":{"$error":"#REF!"}},{"$f":"計算結果!#REF!","v":{"$error":"#REF!"}},{"$f":"計算結果!#REF!","v":{"$error":"#REF!"}},{"$f":"計算結果!#REF!","v":{"$error":"#REF!"}},{"$f":"計算結果!#REF!","v":{"$error":"#REF!"}},{"$f":"計算結果!#REF!","v":{"$error":"#REF!"}},{"$f":"計算結果!#REF!","v":{"$error":"#REF!"}},{"$f":"計算結果!#REF!","v":{"$error":"#REF!"}}]
[{"$f":"入力シート!A1553","v":0},{"$f":"入力シート!G1553","v":0},{"$f":"入力シート!H1553","v":0},{"$f":"IF(入力シート!$J1553<>\"\",入力シート!$J1553,IF(入力シート!$L1553<>\"\",入力シート!$L1553,\"‐\"))","v":"‐"},{"$f":"IF(入力シート!$K1553<>\"\",入力シート!$K1553,IF(入力シート!$M1553<>\"\",入力シート!$M1553,入力シート!$N1553))","v":0},{"$f":"入力シート!I1553","v":0},{"$f":"入力シート!O1553","v":0},{"$f":"IF(入力シート!P1553=\"×\",\"P\",\"PN\")","v":"PN"},{"$f":"計算結果!#REF!","v":{"$error":"#REF!"}},{"$f":"計算結果!#REF!","v":{"$error":"#REF!"}},{"$f":"計算結果!#REF!","v":{"$error":"#REF!"}},{"$f":"計算結果!#REF!","v":{"$error":"#REF!"}},{"$f":"計算結果!#REF!","v":{"$error":"#REF!"}},{"$f":"計算結果!#REF!","v":{"$error":"#REF!"}},{"$f":"計算結果!#REF!","v":{"$error":"#REF!"}},{"$f":"計算結果!#REF!","v":{"$error":"#REF!"}},{"$f":"計算結果!#REF!","v":{"$error":"#REF!"}},{"$f":"計算結果!#REF!","v":{"$error":"#REF!"}}]
[{"$f":"入力シート!A1554","v":0},{"$f":"入力シート!G1554","v":0},{"$f":"入力シート!H1554","v":0},{"$f":"IF(入力シート!$J1554<>\"\",入力シート!$J1554,IF(入力シート!$L1554<>\"\",入力シート!$L1554,\"‐\"))","v":"‐"},{"$f":"IF(入力シート!$K1554<>\"\",入力シート!$K1554,IF(入力シート!$M1554<>\"\",入力シート!$M1554,入力シート!$N1554))","v":0},{"$f":"入力シート!I1554","v":0},{"$f":"入力シート!O1554","v":0},{"$f":"IF(入力シート!P1554=\"×\",\"P\",\"PN\")","v":"PN"},{"$f":"計算結果!#REF!","v":{"$error":"#REF!"}},{"$f":"計算結果!#REF!","v":{"$error":"#REF!"}},{"$f":"計算結果!#REF!","v":{"$error":"#REF!"}},{"$f":"計算結果!#REF!","v":{"$error":"#REF!"}},{"$f":"計算結果!#REF!","v":{"$error":"#REF!"}},{"$f":"計算結果!#REF!","v":{"$error":"#REF!"}},{"$f":"計算結果!#REF!","v":{"$error":"#REF!"}},{"$f":"計算結果!#REF!","v":{"$error":"#REF!"}},{"$f":"計算結果!#REF!","v":{"$error":"#REF!"}},{"$f":"計算結果!#REF!","v":{"$error":"#REF!"}}]
[{"$f":"入力シート!A1555","v":0},{"$f":"入力シート!G1555","v":0},{"$f":"入力シート!H1555","v":0},{"$f":"IF(入力シート!$J1555<>\"\",入力シート!$J1555,IF(入力シート!$L1555<>\"\",入力シート!$L1555,\"‐\"))","v":"‐"},{"$f":"IF(入力シート!$K1555<>\"\",入力シート!$K1555,IF(入力シート!$M1555<>\"\",入力シート!$M1555,入力シート!$N1555))","v":0},{"$f":"入力シート!I1555","v":0},{"$f":"入力シート!O1555","v":0},{"$f":"IF(入力シート!P1555=\"×\",\"P\",\"PN\")","v":"PN"},{"$f":"計算結果!#REF!","v":{"$error":"#REF!"}},{"$f":"計算結果!#REF!","v":{"$error":"#REF!"}},{"$f":"計算結果!#REF!","v":{"$error":"#REF!"}},{"$f":"計算結果!#REF!","v":{"$error":"#REF!"}},{"$f":"計算結果!#REF!","v":{"$error":"#REF!"}},{"$f":"計算結果!#REF!","v":{"$error":"#REF!"}},{"$f":"計算結果!#REF!","v":{"$error":"#REF!"}},{"$f":"計算結果!#REF!","v":{"$error":"#REF!"}},{"$f":"計算結果!#REF!","v":{"$error":"#REF!"}},{"$f":"計算結果!#REF!","v":{"$error":"#REF!"}}]
[{"$f":"入力シート!A1556","v":0},{"$f":"入力シート!G1556","v":0},{"$f":"入力シート!H1556","v":0},{"$f":"IF(入力シート!$J1556<>\"\",入力シート!$J1556,IF(入力シート!$L1556<>\"\",入力シート!$L1556,\"‐\"))","v":"‐"},{"$f":"IF(入力シート!$K1556<>\"\",入力シート!$K1556,IF(入力シート!$M1556<>\"\",入力シート!$M1556,入力シート!$N1556))","v":0},{"$f":"入力シート!I1556","v":0},{"$f":"入力シート!O1556","v":0},{"$f":"IF(入力シート!P1556=\"×\",\"P\",\"PN\")","v":"PN"},{"$f":"計算結果!#REF!","v":{"$error":"#REF!"}},{"$f":"計算結果!#REF!","v":{"$error":"#REF!"}},{"$f":"計算結果!#REF!","v":{"$error":"#REF!"}},{"$f":"計算結果!#REF!","v":{"$error":"#REF!"}},{"$f":"計算結果!#REF!","v":{"$error":"#REF!"}},{"$f":"計算結果!#REF!","v":{"$error":"#REF!"}},{"$f":"計算結果!#REF!","v":{"$error":"#REF!"}},{"$f":"計算結果!#REF!","v":{"$error":"#REF!"}},{"$f":"計算結果!#REF!","v":{"$error":"#REF!"}},{"$f":"計算結果!#REF!","v":{"$error":"#REF!"}}]
[{"$f":"入力シート!A1557","v":0},{"$f":"入力シート!G1557","v":0},{"$f":"入力シート!H1557","v":0},{"$f":"IF(入力シート!$J1557<>\"\",入力シート!$J1557,IF(入力シート!$L1557<>\"\",入力シート!$L1557,\"‐\"))","v":"‐"},{"$f":"IF(入力シート!$K1557<>\"\",入力シート!$K1557,IF(入力シート!$M1557<>\"\",入力シート!$M1557,入力シート!$N1557))","v":0},{"$f":"入力シート!I1557","v":0},{"$f":"入力シート!O1557","v":0},{"$f":"IF(入力シート!P1557=\"×\",\"P\",\"PN\")","v":"PN"},{"$f":"計算結果!#REF!","v":{"$error":"#REF!"}},{"$f":"計算結果!#REF!","v":{"$error":"#REF!"}},{"$f":"計算結果!#REF!","v":{"$error":"#REF!"}},{"$f":"計算結果!#REF!","v":{"$error":"#REF!"}},{"$f":"計算結果!#REF!","v":{"$error":"#REF!"}},{"$f":"計算結果!#REF!","v":{"$error":"#REF!"}},{"$f":"計算結果!#REF!","v":{"$error":"#REF!"}},{"$f":"計算結果!#REF!","v":{"$error":"#REF!"}},{"$f":"計算結果!#REF!","v":{"$error":"#REF!"}},{"$f":"計算結果!#REF!","v":{"$error":"#REF!"}}]
[{"$f":"入力シート!A1558","v":0},{"$f":"入力シート!G1558","v":0},{"$f":"入力シート!H1558","v":0},{"$f":"IF(入力シート!$J1558<>\"\",入力シート!$J1558,IF(入力シート!$L1558<>\"\",入力シート!$L1558,\"‐\"))","v":"‐"},{"$f":"IF(入力シート!$K1558<>\"\",入力シート!$K1558,IF(入力シート!$M1558<>\"\",入力シート!$M1558,入力シート!$N1558))","v":0},{"$f":"入力シート!I1558","v":0},{"$f":"入力シート!O1558","v":0},{"$f":"IF(入力シート!P1558=\"×\",\"P\",\"PN\")","v":"PN"},{"$f":"計算結果!#REF!","v":{"$error":"#REF!"}},{"$f":"計算結果!#REF!","v":{"$error":"#REF!"}},{"$f":"計算結果!#REF!","v":{"$error":"#REF!"}},{"$f":"計算結果!#REF!","v":{"$error":"#REF!"}},{"$f":"計算結果!#REF!","v":{"$error":"#REF!"}},{"$f":"計算結果!#REF!","v":{"$error":"#REF!"}},{"$f":"計算結果!#REF!","v":{"$error":"#REF!"}},{"$f":"計算結果!#REF!","v":{"$error":"#REF!"}},{"$f":"計算結果!#REF!","v":{"$error":"#REF!"}},{"$f":"計算結果!#REF!","v":{"$error":"#REF!"}}]
[{"$f":"入力シート!A1559","v":0},{"$f":"入力シート!G1559","v":0},{"$f":"入力シート!H1559","v":0},{"$f":"IF(入力シート!$J1559<>\"\",入力シート!$J1559,IF(入力シート!$L1559<>\"\",入力シート!$L1559,\"‐\"))","v":"‐"},{"$f":"IF(入力シート!$K1559<>\"\",入力シート!$K1559,IF(入力シート!$M1559<>\"\",入力シート!$M1559,入力シート!$N1559))","v":0},{"$f":"入力シート!I1559","v":0},{"$f":"入力シート!O1559","v":0},{"$f":"IF(入力シート!P1559=\"×\",\"P\",\"PN\")","v":"PN"},{"$f":"計算結果!#REF!","v":{"$error":"#REF!"}},{"$f":"計算結果!#REF!","v":{"$error":"#REF!"}},{"$f":"計算結果!#REF!","v":{"$error":"#REF!"}},{"$f":"計算結果!#REF!","v":{"$error":"#REF!"}},{"$f":"計算結果!#REF!","v":{"$error":"#REF!"}},{"$f":"計算結果!#REF!","v":{"$error":"#REF!"}},{"$f":"計算結果!#REF!","v":{"$error":"#REF!"}},{"$f":"計算結果!#REF!","v":{"$error":"#REF!"}},{"$f":"計算結果!#REF!","v":{"$error":"#REF!"}},{"$f":"計算結果!#REF!","v":{"$error":"#REF!"}}]
[{"$f":"入力シート!A1560","v":0},{"$f":"入力シート!G1560","v":0},{"$f":"入力シート!H1560","v":0},{"$f":"IF(入力シート!$J1560<>\"\",入力シート!$J1560,IF(入力シート!$L1560<>\"\",入力シート!$L1560,\"‐\"))","v":"‐"},{"$f":"IF(入力シート!$K1560<>\"\",入力シート!$K1560,IF(入力シート!$M1560<>\"\",入力シート!$M1560,入力シート!$N1560))","v":0},{"$f":"入力シート!I1560","v":0},{"$f":"入力シート!O1560","v":0},{"$f":"IF(入力シート!P1560=\"×\",\"P\",\"PN\")","v":"PN"},{"$f":"計算結果!#REF!","v":{"$error":"#REF!"}},{"$f":"計算結果!#REF!","v":{"$error":"#REF!"}},{"$f":"計算結果!#REF!","v":{"$error":"#REF!"}},{"$f":"計算結果!#REF!","v":{"$error":"#REF!"}},{"$f":"計算結果!#REF!","v":{"$error":"#REF!"}},{"$f":"計算結果!#REF!","v":{"$error":"#REF!"}},{"$f":"計算結果!#REF!","v":{"$error":"#REF!"}},{"$f":"計算結果!#REF!","v":{"$error":"#REF!"}},{"$f":"計算結果!#REF!","v":{"$error":"#REF!"}},{"$f":"計算結果!#REF!","v":{"$error":"#REF!"}}]
[{"$f":"入力シート!A1561","v":0},{"$f":"入力シート!G1561","v":0},{"$f":"入力シート!H1561","v":0},{"$f":"IF(入力シート!$J1561<>\"\",入力シート!$J1561,IF(入力シート!$L1561<>\"\",入力シート!$L1561,\"‐\"))","v":"‐"},{"$f":"IF(入力シート!$K1561<>\"\",入力シート!$K1561,IF(入力シート!$M1561<>\"\",入力シート!$M1561,入力シート!$N1561))","v":0},{"$f":"入力シート!I1561","v":0},{"$f":"入力シート!O1561","v":0},{"$f":"IF(入力シート!P1561=\"×\",\"P\",\"PN\")","v":"PN"},{"$f":"計算結果!#REF!","v":{"$error":"#REF!"}},{"$f":"計算結果!#REF!","v":{"$error":"#REF!"}},{"$f":"計算結果!#REF!","v":{"$error":"#REF!"}},{"$f":"計算結果!#REF!","v":{"$error":"#REF!"}},{"$f":"計算結果!#REF!","v":{"$error":"#REF!"}},{"$f":"計算結果!#REF!","v":{"$error":"#REF!"}},{"$f":"計算結果!#REF!","v":{"$error":"#REF!"}},{"$f":"計算結果!#REF!","v":{"$error":"#REF!"}},{"$f":"計算結果!#REF!","v":{"$error":"#REF!"}},{"$f":"計算結果!#REF!","v":{"$error":"#REF!"}}]
[{"$f":"入力シート!A1562","v":0},{"$f":"入力シート!G1562","v":0},{"$f":"入力シート!H1562","v":0},{"$f":"IF(入力シート!$J1562<>\"\",入力シート!$J1562,IF(入力シート!$L1562<>\"\",入力シート!$L1562,\"‐\"))","v":"‐"},{"$f":"IF(入力シート!$K1562<>\"\",入力シート!$K1562,IF(入力シート!$M1562<>\"\",入力シート!$M1562,入力シート!$N1562))","v":0},{"$f":"入力シート!I1562","v":0},{"$f":"入力シート!O1562","v":0},{"$f":"IF(入力シート!P1562=\"×\",\"P\",\"PN\")","v":"PN"},{"$f":"計算結果!#REF!","v":{"$error":"#REF!"}},{"$f":"計算結果!#REF!","v":{"$error":"#REF!"}},{"$f":"計算結果!#REF!","v":{"$error":"#REF!"}},{"$f":"計算結果!#REF!","v":{"$error":"#REF!"}},{"$f":"計算結果!#REF!","v":{"$error":"#REF!"}},{"$f":"計算結果!#REF!","v":{"$error":"#REF!"}},{"$f":"計算結果!#REF!","v":{"$error":"#REF!"}},{"$f":"計算結果!#REF!","v":{"$error":"#REF!"}},{"$f":"計算結果!#REF!","v":{"$error":"#REF!"}},{"$f":"計算結果!#REF!","v":{"$error":"#REF!"}}]
[{"$f":"入力シート!A1563","v":0},{"$f":"入力シート!G1563","v":0},{"$f":"入力シート!H1563","v":0},{"$f":"IF(入力シート!$J1563<>\"\",入力シート!$J1563,IF(入力シート!$L1563<>\"\",入力シート!$L1563,\"‐\"))","v":"‐"},{"$f":"IF(入力シート!$K1563<>\"\",入力シート!$K1563,IF(入力シート!$M1563<>\"\",入力シート!$M1563,入力シート!$N1563))","v":0},{"$f":"入力シート!I1563","v":0},{"$f":"入力シート!O1563","v":0},{"$f":"IF(入力シート!P1563=\"×\",\"P\",\"PN\")","v":"PN"},{"$f":"計算結果!#REF!","v":{"$error":"#REF!"}},{"$f":"計算結果!#REF!","v":{"$error":"#REF!"}},{"$f":"計算結果!#REF!","v":{"$error":"#REF!"}},{"$f":"計算結果!#REF!","v":{"$error":"#REF!"}},{"$f":"計算結果!#REF!","v":{"$error":"#REF!"}},{"$f":"計算結果!#REF!","v":{"$error":"#REF!"}},{"$f":"計算結果!#REF!","v":{"$error":"#REF!"}},{"$f":"計算結果!#REF!","v":{"$error":"#REF!"}},{"$f":"計算結果!#REF!","v":{"$error":"#REF!"}},{"$f":"計算結果!#REF!","v":{"$error":"#REF!"}}]
[{"$f":"入力シート!A1564","v":0},{"$f":"入力シート!G1564","v":0},{"$f":"入力シート!H1564","v":0},{"$f":"IF(入力シート!$J1564<>\"\",入力シート!$J1564,IF(入力シート!$L1564<>\"\",入力シート!$L1564,\"‐\"))","v":"‐"},{"$f":"IF(入力シート!$K1564<>\"\",入力シート!$K1564,IF(入力シート!$M1564<>\"\",入力シート!$M1564,入力シート!$N1564))","v":0},{"$f":"入力シート!I1564","v":0},{"$f":"入力シート!O1564","v":0},{"$f":"IF(入力シート!P1564=\"×\",\"P\",\"PN\")","v":"PN"},{"$f":"計算結果!#REF!","v":{"$error":"#REF!"}},{"$f":"計算結果!#REF!","v":{"$error":"#REF!"}},{"$f":"計算結果!#REF!","v":{"$error":"#REF!"}},{"$f":"計算結果!#REF!","v":{"$error":"#REF!"}},{"$f":"計算結果!#REF!","v":{"$error":"#REF!"}},{"$f":"計算結果!#REF!","v":{"$error":"#REF!"}},{"$f":"計算結果!#REF!","v":{"$error":"#REF!"}},{"$f":"計算結果!#REF!","v":{"$error":"#REF!"}},{"$f":"計算結果!#REF!","v":{"$error":"#REF!"}},{"$f":"計算結果!#REF!","v":{"$error":"#REF!"}}]
[{"$f":"入力シート!A1565","v":0},{"$f":"入力シート!G1565","v":0},{"$f":"入力シート!H1565","v":0},{"$f":"IF(入力シート!$J1565<>\"\",入力シート!$J1565,IF(入力シート!$L1565<>\"\",入力シート!$L1565,\"‐\"))","v":"‐"},{"$f":"IF(入力シート!$K1565<>\"\",入力シート!$K1565,IF(入力シート!$M1565<>\"\",入力シート!$M1565,入力シート!$N1565))","v":0},{"$f":"入力シート!I1565","v":0},{"$f":"入力シート!O1565","v":0},{"$f":"IF(入力シート!P1565=\"×\",\"P\",\"PN\")","v":"PN"},{"$f":"計算結果!#REF!","v":{"$error":"#REF!"}},{"$f":"計算結果!#REF!","v":{"$error":"#REF!"}},{"$f":"計算結果!#REF!","v":{"$error":"#REF!"}},{"$f":"計算結果!#REF!","v":{"$error":"#REF!"}},{"$f":"計算結果!#REF!","v":{"$error":"#REF!"}},{"$f":"計算結果!#REF!","v":{"$error":"#REF!"}},{"$f":"計算結果!#REF!","v":{"$error":"#REF!"}},{"$f":"計算結果!#REF!","v":{"$error":"#REF!"}},{"$f":"計算結果!#REF!","v":{"$error":"#REF!"}},{"$f":"計算結果!#REF!","v":{"$error":"#REF!"}}]
[{"$f":"入力シート!A1566","v":0},{"$f":"入力シート!G1566","v":0},{"$f":"入力シート!H1566","v":0},{"$f":"IF(入力シート!$J1566<>\"\",入力シート!$J1566,IF(入力シート!$L1566<>\"\",入力シート!$L1566,\"‐\"))","v":"‐"},{"$f":"IF(入力シート!$K1566<>\"\",入力シート!$K1566,IF(入力シート!$M1566<>\"\",入力シート!$M1566,入力シート!$N1566))","v":0},{"$f":"入力シート!I1566","v":0},{"$f":"入力シート!O1566","v":0},{"$f":"IF(入力シート!P1566=\"×\",\"P\",\"PN\")","v":"PN"},{"$f":"計算結果!#REF!","v":{"$error":"#REF!"}},{"$f":"計算結果!#REF!","v":{"$error":"#REF!"}},{"$f":"計算結果!#REF!","v":{"$error":"#REF!"}},{"$f":"計算結果!#REF!","v":{"$error":"#REF!"}},{"$f":"計算結果!#REF!","v":{"$error":"#REF!"}},{"$f":"計算結果!#REF!","v":{"$error":"#REF!"}},{"$f":"計算結果!#REF!","v":{"$error":"#REF!"}},{"$f":"計算結果!#REF!","v":{"$error":"#REF!"}},{"$f":"計算結果!#REF!","v":{"$error":"#REF!"}},{"$f":"計算結果!#REF!","v":{"$error":"#REF!"}}]
[{"$f":"入力シート!A1567","v":0},{"$f":"入力シート!G1567","v":0},{"$f":"入力シート!H1567","v":0},{"$f":"IF(入力シート!$J1567<>\"\",入力シート!$J1567,IF(入力シート!$L1567<>\"\",入力シート!$L1567,\"‐\"))","v":"‐"},{"$f":"IF(入力シート!$K1567<>\"\",入力シート!$K1567,IF(入力シート!$M1567<>\"\",入力シート!$M1567,入力シート!$N1567))","v":0},{"$f":"入力シート!I1567","v":0},{"$f":"入力シート!O1567","v":0},{"$f":"IF(入力シート!P1567=\"×\",\"P\",\"PN\")","v":"PN"},{"$f":"計算結果!#REF!","v":{"$error":"#REF!"}},{"$f":"計算結果!#REF!","v":{"$error":"#REF!"}},{"$f":"計算結果!#REF!","v":{"$error":"#REF!"}},{"$f":"計算結果!#REF!","v":{"$error":"#REF!"}},{"$f":"計算結果!#REF!","v":{"$error":"#REF!"}},{"$f":"計算結果!#REF!","v":{"$error":"#REF!"}},{"$f":"計算結果!#REF!","v":{"$error":"#REF!"}},{"$f":"計算結果!#REF!","v":{"$error":"#REF!"}},{"$f":"計算結果!#REF!","v":{"$error":"#REF!"}},{"$f":"計算結果!#REF!","v":{"$error":"#REF!"}}]
[{"$f":"入力シート!A1568","v":0},{"$f":"入力シート!G1568","v":0},{"$f":"入力シート!H1568","v":0},{"$f":"IF(入力シート!$J1568<>\"\",入力シート!$J1568,IF(入力シート!$L1568<>\"\",入力シート!$L1568,\"‐\"))","v":"‐"},{"$f":"IF(入力シート!$K1568<>\"\",入力シート!$K1568,IF(入力シート!$M1568<>\"\",入力シート!$M1568,入力シート!$N1568))","v":0},{"$f":"入力シート!I1568","v":0},{"$f":"入力シート!O1568","v":0},{"$f":"IF(入力シート!P1568=\"×\",\"P\",\"PN\")","v":"PN"},{"$f":"計算結果!#REF!","v":{"$error":"#REF!"}},{"$f":"計算結果!#REF!","v":{"$error":"#REF!"}},{"$f":"計算結果!#REF!","v":{"$error":"#REF!"}},{"$f":"計算結果!#REF!","v":{"$error":"#REF!"}},{"$f":"計算結果!#REF!","v":{"$error":"#REF!"}},{"$f":"計算結果!#REF!","v":{"$error":"#REF!"}},{"$f":"計算結果!#REF!","v":{"$error":"#REF!"}},{"$f":"計算結果!#REF!","v":{"$error":"#REF!"}},{"$f":"計算結果!#REF!","v":{"$error":"#REF!"}},{"$f":"計算結果!#REF!","v":{"$error":"#REF!"}}]
[{"$f":"入力シート!A1569","v":0},{"$f":"入力シート!G1569","v":0},{"$f":"入力シート!H1569","v":0},{"$f":"IF(入力シート!$J1569<>\"\",入力シート!$J1569,IF(入力シート!$L1569<>\"\",入力シート!$L1569,\"‐\"))","v":"‐"},{"$f":"IF(入力シート!$K1569<>\"\",入力シート!$K1569,IF(入力シート!$M1569<>\"\",入力シート!$M1569,入力シート!$N1569))","v":0},{"$f":"入力シート!I1569","v":0},{"$f":"入力シート!O1569","v":0},{"$f":"IF(入力シート!P1569=\"×\",\"P\",\"PN\")","v":"PN"},{"$f":"計算結果!#REF!","v":{"$error":"#REF!"}},{"$f":"計算結果!#REF!","v":{"$error":"#REF!"}},{"$f":"計算結果!#REF!","v":{"$error":"#REF!"}},{"$f":"計算結果!#REF!","v":{"$error":"#REF!"}},{"$f":"計算結果!#REF!","v":{"$error":"#REF!"}},{"$f":"計算結果!#REF!","v":{"$error":"#REF!"}},{"$f":"計算結果!#REF!","v":{"$error":"#REF!"}},{"$f":"計算結果!#REF!","v":{"$error":"#REF!"}},{"$f":"計算結果!#REF!","v":{"$error":"#REF!"}},{"$f":"計算結果!#REF!","v":{"$error":"#REF!"}}]
[{"$f":"入力シート!A1570","v":0},{"$f":"入力シート!G1570","v":0},{"$f":"入力シート!H1570","v":0},{"$f":"IF(入力シート!$J1570<>\"\",入力シート!$J1570,IF(入力シート!$L1570<>\"\",入力シート!$L1570,\"‐\"))","v":"‐"},{"$f":"IF(入力シート!$K1570<>\"\",入力シート!$K1570,IF(入力シート!$M1570<>\"\",入力シート!$M1570,入力シート!$N1570))","v":0},{"$f":"入力シート!I1570","v":0},{"$f":"入力シート!O1570","v":0},{"$f":"IF(入力シート!P1570=\"×\",\"P\",\"PN\")","v":"PN"},{"$f":"計算結果!#REF!","v":{"$error":"#REF!"}},{"$f":"計算結果!#REF!","v":{"$error":"#REF!"}},{"$f":"計算結果!#REF!","v":{"$error":"#REF!"}},{"$f":"計算結果!#REF!","v":{"$error":"#REF!"}},{"$f":"計算結果!#REF!","v":{"$error":"#REF!"}},{"$f":"計算結果!#REF!","v":{"$error":"#REF!"}},{"$f":"計算結果!#REF!","v":{"$error":"#REF!"}},{"$f":"計算結果!#REF!","v":{"$error":"#REF!"}},{"$f":"計算結果!#REF!","v":{"$error":"#REF!"}},{"$f":"計算結果!#REF!","v":{"$error":"#REF!"}}]
[{"$f":"入力シート!A1571","v":0},{"$f":"入力シート!G1571","v":0},{"$f":"入力シート!H1571","v":0},{"$f":"IF(入力シート!$J1571<>\"\",入力シート!$J1571,IF(入力シート!$L1571<>\"\",入力シート!$L1571,\"‐\"))","v":"‐"},{"$f":"IF(入力シート!$K1571<>\"\",入力シート!$K1571,IF(入力シート!$M1571<>\"\",入力シート!$M1571,入力シート!$N1571))","v":0},{"$f":"入力シート!I1571","v":0},{"$f":"入力シート!O1571","v":0},{"$f":"IF(入力シート!P1571=\"×\",\"P\",\"PN\")","v":"PN"},{"$f":"計算結果!#REF!","v":{"$error":"#REF!"}},{"$f":"計算結果!#REF!","v":{"$error":"#REF!"}},{"$f":"計算結果!#REF!","v":{"$error":"#REF!"}},{"$f":"計算結果!#REF!","v":{"$error":"#REF!"}},{"$f":"計算結果!#REF!","v":{"$error":"#REF!"}},{"$f":"計算結果!#REF!","v":{"$error":"#REF!"}},{"$f":"計算結果!#REF!","v":{"$error":"#REF!"}},{"$f":"計算結果!#REF!","v":{"$error":"#REF!"}},{"$f":"計算結果!#REF!","v":{"$error":"#REF!"}},{"$f":"計算結果!#REF!","v":{"$error":"#REF!"}}]
[{"$f":"入力シート!A1572","v":0},{"$f":"入力シート!G1572","v":0},{"$f":"入力シート!H1572","v":0},{"$f":"IF(入力シート!$J1572<>\"\",入力シート!$J1572,IF(入力シート!$L1572<>\"\",入力シート!$L1572,\"‐\"))","v":"‐"},{"$f":"IF(入力シート!$K1572<>\"\",入力シート!$K1572,IF(入力シート!$M1572<>\"\",入力シート!$M1572,入力シート!$N1572))","v":0},{"$f":"入力シート!I1572","v":0},{"$f":"入力シート!O1572","v":0},{"$f":"IF(入力シート!P1572=\"×\",\"P\",\"PN\")","v":"PN"},{"$f":"計算結果!#REF!","v":{"$error":"#REF!"}},{"$f":"計算結果!#REF!","v":{"$error":"#REF!"}},{"$f":"計算結果!#REF!","v":{"$error":"#REF!"}},{"$f":"計算結果!#REF!","v":{"$error":"#REF!"}},{"$f":"計算結果!#REF!","v":{"$error":"#REF!"}},{"$f":"計算結果!#REF!","v":{"$error":"#REF!"}},{"$f":"計算結果!#REF!","v":{"$error":"#REF!"}},{"$f":"計算結果!#REF!","v":{"$error":"#REF!"}},{"$f":"計算結果!#REF!","v":{"$error":"#REF!"}},{"$f":"計算結果!#REF!","v":{"$error":"#REF!"}}]
[{"$f":"入力シート!A1573","v":0},{"$f":"入力シート!G1573","v":0},{"$f":"入力シート!H1573","v":0},{"$f":"IF(入力シート!$J1573<>\"\",入力シート!$J1573,IF(入力シート!$L1573<>\"\",入力シート!$L1573,\"‐\"))","v":"‐"},{"$f":"IF(入力シート!$K1573<>\"\",入力シート!$K1573,IF(入力シート!$M1573<>\"\",入力シート!$M1573,入力シート!$N1573))","v":0},{"$f":"入力シート!I1573","v":0},{"$f":"入力シート!O1573","v":0},{"$f":"IF(入力シート!P1573=\"×\",\"P\",\"PN\")","v":"PN"},{"$f":"計算結果!#REF!","v":{"$error":"#REF!"}},{"$f":"計算結果!#REF!","v":{"$error":"#REF!"}},{"$f":"計算結果!#REF!","v":{"$error":"#REF!"}},{"$f":"計算結果!#REF!","v":{"$error":"#REF!"}},{"$f":"計算結果!#REF!","v":{"$error":"#REF!"}},{"$f":"計算結果!#REF!","v":{"$error":"#REF!"}},{"$f":"計算結果!#REF!","v":{"$error":"#REF!"}},{"$f":"計算結果!#REF!","v":{"$error":"#REF!"}},{"$f":"計算結果!#REF!","v":{"$error":"#REF!"}},{"$f":"計算結果!#REF!","v":{"$error":"#REF!"}}]
[{"$f":"入力シート!A1574","v":0},{"$f":"入力シート!G1574","v":0},{"$f":"入力シート!H1574","v":0},{"$f":"IF(入力シート!$J1574<>\"\",入力シート!$J1574,IF(入力シート!$L1574<>\"\",入力シート!$L1574,\"‐\"))","v":"‐"},{"$f":"IF(入力シート!$K1574<>\"\",入力シート!$K1574,IF(入力シート!$M1574<>\"\",入力シート!$M1574,入力シート!$N1574))","v":0},{"$f":"入力シート!I1574","v":0},{"$f":"入力シート!O1574","v":0},{"$f":"IF(入力シート!P1574=\"×\",\"P\",\"PN\")","v":"PN"},{"$f":"計算結果!#REF!","v":{"$error":"#REF!"}},{"$f":"計算結果!#REF!","v":{"$error":"#REF!"}},{"$f":"計算結果!#REF!","v":{"$error":"#REF!"}},{"$f":"計算結果!#REF!","v":{"$error":"#REF!"}},{"$f":"計算結果!#REF!","v":{"$error":"#REF!"}},{"$f":"計算結果!#REF!","v":{"$error":"#REF!"}},{"$f":"計算結果!#REF!","v":{"$error":"#REF!"}},{"$f":"計算結果!#REF!","v":{"$error":"#REF!"}},{"$f":"計算結果!#REF!","v":{"$error":"#REF!"}},{"$f":"計算結果!#REF!","v":{"$error":"#REF!"}}]
[{"$f":"入力シート!A1575","v":0},{"$f":"入力シート!G1575","v":0},{"$f":"入力シート!H1575","v":0},{"$f":"IF(入力シート!$J1575<>\"\",入力シート!$J1575,IF(入力シート!$L1575<>\"\",入力シート!$L1575,\"‐\"))","v":"‐"},{"$f":"IF(入力シート!$K1575<>\"\",入力シート!$K1575,IF(入力シート!$M1575<>\"\",入力シート!$M1575,入力シート!$N1575))","v":0},{"$f":"入力シート!I1575","v":0},{"$f":"入力シート!O1575","v":0},{"$f":"IF(入力シート!P1575=\"×\",\"P\",\"PN\")","v":"PN"},{"$f":"計算結果!#REF!","v":{"$error":"#REF!"}},{"$f":"計算結果!#REF!","v":{"$error":"#REF!"}},{"$f":"計算結果!#REF!","v":{"$error":"#REF!"}},{"$f":"計算結果!#REF!","v":{"$error":"#REF!"}},{"$f":"計算結果!#REF!","v":{"$error":"#REF!"}},{"$f":"計算結果!#REF!","v":{"$error":"#REF!"}},{"$f":"計算結果!#REF!","v":{"$error":"#REF!"}},{"$f":"計算結果!#REF!","v":{"$error":"#REF!"}},{"$f":"計算結果!#REF!","v":{"$error":"#REF!"}},{"$f":"計算結果!#REF!","v":{"$error":"#REF!"}}]
[{"$f":"入力シート!A1576","v":0},{"$f":"入力シート!G1576","v":0},{"$f":"入力シート!H1576","v":0},{"$f":"IF(入力シート!$J1576<>\"\",入力シート!$J1576,IF(入力シート!$L1576<>\"\",入力シート!$L1576,\"‐\"))","v":"‐"},{"$f":"IF(入力シート!$K1576<>\"\",入力シート!$K1576,IF(入力シート!$M1576<>\"\",入力シート!$M1576,入力シート!$N1576))","v":0},{"$f":"入力シート!I1576","v":0},{"$f":"入力シート!O1576","v":0},{"$f":"IF(入力シート!P1576=\"×\",\"P\",\"PN\")","v":"PN"},{"$f":"計算結果!#REF!","v":{"$error":"#REF!"}},{"$f":"計算結果!#REF!","v":{"$error":"#REF!"}},{"$f":"計算結果!#REF!","v":{"$error":"#REF!"}},{"$f":"計算結果!#REF!","v":{"$error":"#REF!"}},{"$f":"計算結果!#REF!","v":{"$error":"#REF!"}},{"$f":"計算結果!#REF!","v":{"$error":"#REF!"}},{"$f":"計算結果!#REF!","v":{"$error":"#REF!"}},{"$f":"計算結果!#REF!","v":{"$error":"#REF!"}},{"$f":"計算結果!#REF!","v":{"$error":"#REF!"}},{"$f":"計算結果!#REF!","v":{"$error":"#REF!"}}]
[{"$f":"入力シート!A1577","v":0},{"$f":"入力シート!G1577","v":0},{"$f":"入力シート!H1577","v":0},{"$f":"IF(入力シート!$J1577<>\"\",入力シート!$J1577,IF(入力シート!$L1577<>\"\",入力シート!$L1577,\"‐\"))","v":"‐"},{"$f":"IF(入力シート!$K1577<>\"\",入力シート!$K1577,IF(入力シート!$M1577<>\"\",入力シート!$M1577,入力シート!$N1577))","v":0},{"$f":"入力シート!I1577","v":0},{"$f":"入力シート!O1577","v":0},{"$f":"IF(入力シート!P1577=\"×\",\"P\",\"PN\")","v":"PN"},{"$f":"計算結果!#REF!","v":{"$error":"#REF!"}},{"$f":"計算結果!#REF!","v":{"$error":"#REF!"}},{"$f":"計算結果!#REF!","v":{"$error":"#REF!"}},{"$f":"計算結果!#REF!","v":{"$error":"#REF!"}},{"$f":"計算結果!#REF!","v":{"$error":"#REF!"}},{"$f":"計算結果!#REF!","v":{"$error":"#REF!"}},{"$f":"計算結果!#REF!","v":{"$error":"#REF!"}},{"$f":"計算結果!#REF!","v":{"$error":"#REF!"}},{"$f":"計算結果!#REF!","v":{"$error":"#REF!"}},{"$f":"計算結果!#REF!","v":{"$error":"#REF!"}}]
[{"$f":"入力シート!A1578","v":0},{"$f":"入力シート!G1578","v":0},{"$f":"入力シート!H1578","v":0},{"$f":"IF(入力シート!$J1578<>\"\",入力シート!$J1578,IF(入力シート!$L1578<>\"\",入力シート!$L1578,\"‐\"))","v":"‐"},{"$f":"IF(入力シート!$K1578<>\"\",入力シート!$K1578,IF(入力シート!$M1578<>\"\",入力シート!$M1578,入力シート!$N1578))","v":0},{"$f":"入力シート!I1578","v":0},{"$f":"入力シート!O1578","v":0},{"$f":"IF(入力シート!P1578=\"×\",\"P\",\"PN\")","v":"PN"},{"$f":"計算結果!#REF!","v":{"$error":"#REF!"}},{"$f":"計算結果!#REF!","v":{"$error":"#REF!"}},{"$f":"計算結果!#REF!","v":{"$error":"#REF!"}},{"$f":"計算結果!#REF!","v":{"$error":"#REF!"}},{"$f":"計算結果!#REF!","v":{"$error":"#REF!"}},{"$f":"計算結果!#REF!","v":{"$error":"#REF!"}},{"$f":"計算結果!#REF!","v":{"$error":"#REF!"}},{"$f":"計算結果!#REF!","v":{"$error":"#REF!"}},{"$f":"計算結果!#REF!","v":{"$error":"#REF!"}},{"$f":"計算結果!#REF!","v":{"$error":"#REF!"}}]
[{"$f":"入力シート!A1579","v":0},{"$f":"入力シート!G1579","v":0},{"$f":"入力シート!H1579","v":0},{"$f":"IF(入力シート!$J1579<>\"\",入力シート!$J1579,IF(入力シート!$L1579<>\"\",入力シート!$L1579,\"‐\"))","v":"‐"},{"$f":"IF(入力シート!$K1579<>\"\",入力シート!$K1579,IF(入力シート!$M1579<>\"\",入力シート!$M1579,入力シート!$N1579))","v":0},{"$f":"入力シート!I1579","v":0},{"$f":"入力シート!O1579","v":0},{"$f":"IF(入力シート!P1579=\"×\",\"P\",\"PN\")","v":"PN"},{"$f":"計算結果!#REF!","v":{"$error":"#REF!"}},{"$f":"計算結果!#REF!","v":{"$error":"#REF!"}},{"$f":"計算結果!#REF!","v":{"$error":"#REF!"}},{"$f":"計算結果!#REF!","v":{"$error":"#REF!"}},{"$f":"計算結果!#REF!","v":{"$error":"#REF!"}},{"$f":"計算結果!#REF!","v":{"$error":"#REF!"}},{"$f":"計算結果!#REF!","v":{"$error":"#REF!"}},{"$f":"計算結果!#REF!","v":{"$error":"#REF!"}},{"$f":"計算結果!#REF!","v":{"$error":"#REF!"}},{"$f":"計算結果!#REF!","v":{"$error":"#REF!"}}]
[{"$f":"入力シート!A1580","v":0},{"$f":"入力シート!G1580","v":0},{"$f":"入力シート!H1580","v":0},{"$f":"IF(入力シート!$J1580<>\"\",入力シート!$J1580,IF(入力シート!$L1580<>\"\",入力シート!$L1580,\"‐\"))","v":"‐"},{"$f":"IF(入力シート!$K1580<>\"\",入力シート!$K1580,IF(入力シート!$M1580<>\"\",入力シート!$M1580,入力シート!$N1580))","v":0},{"$f":"入力シート!I1580","v":0},{"$f":"入力シート!O1580","v":0},{"$f":"IF(入力シート!P1580=\"×\",\"P\",\"PN\")","v":"PN"},{"$f":"計算結果!#REF!","v":{"$error":"#REF!"}},{"$f":"計算結果!#REF!","v":{"$error":"#REF!"}},{"$f":"計算結果!#REF!","v":{"$error":"#REF!"}},{"$f":"計算結果!#REF!","v":{"$error":"#REF!"}},{"$f":"計算結果!#REF!","v":{"$error":"#REF!"}},{"$f":"計算結果!#REF!","v":{"$error":"#REF!"}},{"$f":"計算結果!#REF!","v":{"$error":"#REF!"}},{"$f":"計算結果!#REF!","v":{"$error":"#REF!"}},{"$f":"計算結果!#REF!","v":{"$error":"#REF!"}},{"$f":"計算結果!#REF!","v":{"$error":"#REF!"}}]
[{"$f":"入力シート!A1581","v":0},{"$f":"入力シート!G1581","v":0},{"$f":"入力シート!H1581","v":0},{"$f":"IF(入力シート!$J1581<>\"\",入力シート!$J1581,IF(入力シート!$L1581<>\"\",入力シート!$L1581,\"‐\"))","v":"‐"},{"$f":"IF(入力シート!$K1581<>\"\",入力シート!$K1581,IF(入力シート!$M1581<>\"\",入力シート!$M1581,入力シート!$N1581))","v":0},{"$f":"入力シート!I1581","v":0},{"$f":"入力シート!O1581","v":0},{"$f":"IF(入力シート!P1581=\"×\",\"P\",\"PN\")","v":"PN"},{"$f":"計算結果!#REF!","v":{"$error":"#REF!"}},{"$f":"計算結果!#REF!","v":{"$error":"#REF!"}},{"$f":"計算結果!#REF!","v":{"$error":"#REF!"}},{"$f":"計算結果!#REF!","v":{"$error":"#REF!"}},{"$f":"計算結果!#REF!","v":{"$error":"#REF!"}},{"$f":"計算結果!#REF!","v":{"$error":"#REF!"}},{"$f":"計算結果!#REF!","v":{"$error":"#REF!"}},{"$f":"計算結果!#REF!","v":{"$error":"#REF!"}},{"$f":"計算結果!#REF!","v":{"$error":"#REF!"}},{"$f":"計算結果!#REF!","v":{"$error":"#REF!"}}]
[{"$f":"入力シート!A1582","v":0},{"$f":"入力シート!G1582","v":0},{"$f":"入力シート!H1582","v":0},{"$f":"IF(入力シート!$J1582<>\"\",入力シート!$J1582,IF(入力シート!$L1582<>\"\",入力シート!$L1582,\"‐\"))","v":"‐"},{"$f":"IF(入力シート!$K1582<>\"\",入力シート!$K1582,IF(入力シート!$M1582<>\"\",入力シート!$M1582,入力シート!$N1582))","v":0},{"$f":"入力シート!I1582","v":0},{"$f":"入力シート!O1582","v":0},{"$f":"IF(入力シート!P1582=\"×\",\"P\",\"PN\")","v":"PN"},{"$f":"計算結果!#REF!","v":{"$error":"#REF!"}},{"$f":"計算結果!#REF!","v":{"$error":"#REF!"}},{"$f":"計算結果!#REF!","v":{"$error":"#REF!"}},{"$f":"計算結果!#REF!","v":{"$error":"#REF!"}},{"$f":"計算結果!#REF!","v":{"$error":"#REF!"}},{"$f":"計算結果!#REF!","v":{"$error":"#REF!"}},{"$f":"計算結果!#REF!","v":{"$error":"#REF!"}},{"$f":"計算結果!#REF!","v":{"$error":"#REF!"}},{"$f":"計算結果!#REF!","v":{"$error":"#REF!"}},{"$f":"計算結果!#REF!","v":{"$error":"#REF!"}}]

{"sheet":"ドシエ様式整理用2","index":6,"n_rows":16,"n_cols":21,"rows_kept":16,"cut":false,"hidden":true,"merged":[[0,17,0,20],[1,13,2,13],[1,14,1,16],[1,17,2,17],[1,18,1,20],[0,13,0,16],[0,9,0,12],[1,9,1,10],[1,11,1,12],[0,6,2,6],[0,7,2,7],[0,8,2,8],[0,5,2,5],[0,0,2,0],[0,1,2,1],[0,2,2,2],[0,3,2,3],[0,4,2,4]]}
["登録番号","作物名","適用病害虫","最小希釈倍率（倍）","最大使用液量\n（L/10a）","使用方法","暴露シナリオ","ha当たりの有効成分投下量\n（kg a.i./ha）","散布液/粉中有効成分濃度（％）","実測花粉・花蜜濃度",null,null,null,"推定暴露量\n（µg/bee）",null,null,null,"推定暴露量/毒性指標"]
[null,null,null,null,null,null,null,null,null,"最大値",null,"平均値",null,"接触","経口",null,null,"接触","経口"]
[null,null,null,null,null,null,null,null,null,"花粉","花蜜","花粉","花蜜",null,"（成虫/単回）","（成虫/反復）","幼虫",null,"（成虫/単回）","（成虫/反復）","（幼虫）"]
[{"$f":"精緻化計算結果!A4","v":12345678},{"$f":"精緻化計算結果!G4","v":"Z"},{"$f":"精緻化計算結果!H4","v":"カメムシ類"},{"$f":"精緻化計算結果!K4","v":1000},{"$f":"精緻化計算結果!L4","v":100},{"$f":"精緻化計算結果!I4","v":"散布"},{"$f":"精緻化計算結果!J4","v":"1茎葉散布"},{"$f":"精緻化計算結果!N4","v":0.1},{"$f":"精緻化計算結果!O4","v":1E-4},{"$f":"精緻化計算結果!AD4","v":{"$error":"#N/A"}},{"$f":"精緻化計算結果!AE4","v":{"$error":"#N/A"}},{"$f":"精緻化計算結果!AF4","v":{"$error":"#N/A"}},{"$f":"精緻化計算結果!AG4","v":{"$error":"#N/A"}},{"$f":"精緻化計算結果!S4","v":7.0000000000000001E-3},{"$f":"精緻化計算結果!AH4","v":{"$error":"#N/A"}},{"$f":"精緻化計算結果!AI4","v":{"$error":"#N/A"}},{"$f":"精緻化計算結果!AJ4","v":{"$error":"#N/A"}},{"$f":"精緻化計算結果!V4","v":3.4999999999999996E-2},{"$f":"精緻化計算結果!AK4","v":{"$error":"#N/A"}},{"$f":"精緻化計算結果!AL4","v":{"$error":"#N/A"}},{"$f":"精緻化計算結果!AM4","v":{"$error":"#N/A"}}]
[{"$f":"精緻化計算結果!#REF!","v":{"$error":"#REF!"}},{"$f":"精緻化計算結果!#REF!","v":{"$error":"#REF!"}},{"$f":"精緻化計算結果!#REF!","v":{"$error":"#REF!"}},{"$f":"精緻化計算結果!#REF!","v":{"$error":"#REF!"}},{"$f":"精緻化計算結果!#REF!","v":{"$error":"#REF!"}},{"$f":"精緻化計算結果!#REF!","v":{"$error":"#REF!"}},{"$f":"精緻化計算結果!#REF!","v":{"$error":"#REF!"}},{"$f":"精緻化計算結果!#REF!","v":{"$error":"#REF!"}},{"$f":"精緻化計算結果!#REF!","v":{"$error":"#REF!"}},{"$f":"精緻化計算結果!#REF!","v":{"$error":"#REF!"}},{"$f":"精緻化計算結果!#REF!","v":{"$error":"#REF!"}},{"$f":"精緻化計算結果!#REF!","v":{"$error":"#REF!"}},{"$f":"精緻化計算結果!#REF!","v":{"$error":"#REF!"}},{"$f":"精緻化計算結果!#REF!","v":{"$error":"#REF!"}},{"$f":"精緻化計算結果!#REF!","v":{"$error":"#REF!"}},{"$f":"精緻化計算結果!#REF!","v":{"$error":"#REF!"}},{"$f":"精緻化計算結果!#REF!","v":{"$error":"#REF!"}},{"$f":"精緻化計算結果!#REF!","v":{"$error":"#REF!"}},{"$f":"精緻化計算結果!#REF!","v":{"$error":"#REF!"}},{"$f":"精緻化計算結果!#REF!","v":{"$error":"#REF!"}},{"$f":"精緻化計算結果!#REF!","v":{"$error":"#REF!"}}]
[{"$f":"精緻化計算結果!#REF!","v":{"$error":"#REF!"}},{"$f":"精緻化計算結果!#REF!","v":{"$error":"#REF!"}},{"$f":"精緻化計算結果!#REF!","v":{"$error":"#REF!"}},{"$f":"精緻化計算結果!#REF!","v":{"$error":"#REF!"}},{"$f":"精緻化計算結果!#REF!","v":{"$error":"#REF!"}},{"$f":"精緻化計算結果!#REF!","v":{"$error":"#REF!"}},{"$f":"精緻化計算結果!#REF!","v":{"$error":"#REF!"}},{"$f":"精緻化計算結果!#REF!","v":{"$error":"#REF!"}},{"$f":"精緻化計算結果!#REF!","v":{"$error":"#REF!"}},{"$f":"精緻化計算結果!#REF!","v":{"$error":"#REF!"}},{"$f":"精緻化計算結果!#REF!","v":{"$error":"#REF!"}},{"$f":"精緻化計算結果!#REF!","v":{"$error":"#REF!"}},{"$f":"精緻化計算結果!#REF!","v":{"$error":"#REF!"}},{"$f":"精緻化計算結果!#REF!","v":{"$error":"#REF!"}},{"$f":"精緻化計算結果!#REF!","v":{"$error":"#REF!"}},{"$f":"精緻化計算結果!#REF!","v":{"$error":"#REF!"}},{"$f":"精緻化計算結果!#REF!","v":{"$error":"#REF!"}},{"$f":"精緻化計算結果!#REF!","v":{"$error":"#REF!"}},{"$f":"精緻化計算結果!#REF!","v":{"$error":"#REF!"}},{"$f":"精緻化計算結果!#REF!","v":{"$error":"#REF!"}},{"$f":"精緻化計算結果!#REF!","v":{"$error":"#REF!"}}]
[{"$f":"精緻化計算結果!#REF!","v":{"$error":"#REF!"}},{"$f":"精緻化計算結果!#REF!","v":{"$error":"#REF!"}},{"$f":"精緻化計算結果!#REF!","v":{"$error":"#REF!"}},{"$f":"精緻化計算結果!#REF!","v":{"$error":"#REF!"}},{"$f":"精緻化計算結果!#REF!","v":{"$error":"#REF!"}},{"$f":"精緻化計算結果!#REF!","v":{"$error":"#REF!"}},{"$f":"精緻化計算結果!#REF!","v":{"$error":"#REF!"}},{"$f":"精緻化計算結果!#REF!","v":{"$error":"#REF!"}},{"$f":"精緻化計算結果!#REF!","v":{"$error":"#REF!"}},{"$f":"精緻化計算結果!#REF!","v":{"$error":"#REF!"}},{"$f":"精緻化計算結果!#REF!","v":{"$error":"#REF!"}},{"$f":"精緻化計算結果!#REF!","v":{"$error":"#REF!"}},{"$f":"精緻化計算結果!#REF!","v":{"$error":"#REF!"}},{"$f":"精緻化計算結果!#REF!","v":{"$error":"#REF!"}},{"$f":"精緻化計算結果!#REF!","v":{"$error":"#REF!"}},{"$f":"精緻化計算結果!#REF!","v":{"$error":"#REF!"}},{"$f":"精緻化計算結果!#REF!","v":{"$error":"#REF!"}},{"$f":"精緻化計算結果!#REF!","v":{"$error":"#REF!"}},{"$f":"精緻化計算結果!#REF!","v":{"$error":"#REF!"}},{"$f":"精緻化計算結果!#REF!","v":{"$error":"#REF!"}},{"$f":"精緻化計算結果!#REF!","v":{"$error":"#REF!"}}]
[{"$f":"精緻化計算結果!#REF!","v":{"$error":"#REF!"}},{"$f":"精緻化計算結果!#REF!","v":{"$error":"#REF!"}},{"$f":"精緻化計算結果!#REF!","v":{"$error":"#REF!"}},{"$f":"精緻化計算結果!#REF!","v":{"$error":"#REF!"}},{"$f":"精緻化計算結果!#REF!","v":{"$error":"#REF!"}},{"$f":"精緻化計算結果!#REF!","v":{"$error":"#REF!"}},{"$f":"精緻化計算結果!#REF!","v":{"$error":"#REF!"}},{"$f":"精緻化計算結果!#REF!","v":{"$error":"#REF!"}},{"$f":"精緻化計算結果!#REF!","v":{"$error":"#REF!"}},{"$f":"精緻化計算結果!#REF!","v":{"$error":"#REF!"}},{"$f":"精緻化計算結果!#REF!","v":{"$error":"#REF!"}},{"$f":"精緻化計算結果!#REF!","v":{"$error":"#REF!"}},{"$f":"精緻化計算結果!#REF!","v":{"$error":"#REF!"}},{"$f":"精緻化計算結果!#REF!","v":{"$error":"#REF!"}},{"$f":"精緻化計算結果!#REF!","v":{"$error":"#REF!"}},{"$f":"精緻化計算結果!#REF!","v":{"$error":"#REF!"}},{"$f":"精緻化計算結果!#REF!","v":{"$error":"#REF!"}},{"$f":"精緻化計算結果!#REF!","v":{"$error":"#REF!"}},{"$f":"精緻化計算結果!#REF!","v":{"$error":"#REF!"}},{"$f":"精緻化計算結果!#REF!","v":{"$error":"#REF!"}},{"$f":"精緻化計算結果!#REF!","v":{"$error":"#REF!"}}]
[{"$f":"精緻化計算結果!#REF!","v":{"$error":"#REF!"}},{"$f":"精緻化計算結果!#REF!","v":{"$error":"#REF!"}},{"$f":"精緻化計算結果!#REF!","v":{"$error":"#REF!"}},{"$f":"精緻化計算結果!#REF!","v":{"$error":"#REF!"}},{"$f":"精緻化計算結果!#REF!","v":{"$error":"#REF!"}},{"$f":"精緻化計算結果!#REF!","v":{"$error":"#REF!"}},{"$f":"精緻化計算結果!#REF!","v":{"$error":"#REF!"}},{"$f":"精緻化計算結果!#REF!","v":{"$error":"#REF!"}},{"$f":"精緻化計算結果!#REF!","v":{"$error":"#REF!"}},{"$f":"精緻化計算結果!#REF!","v":{"$error":"#REF!"}},{"$f":"精緻化計算結果!#REF!","v":{"$error":"#REF!"}},{"$f":"精緻化計算結果!#REF!","v":{"$error":"#REF!"}},{"$f":"精緻化計算結果!#REF!","v":{"$error":"#REF!"}},{"$f":"精緻化計算結果!#REF!","v":{"$error":"#REF!"}},{"$f":"精緻化計算結果!#REF!","v":{"$error":"#REF!"}},{"$f":"精緻化計算結果!#REF!","v":{"$error":"#REF!"}},{"$f":"精緻化計算結果!#REF!","v":{"$error":"#REF!"}},{"$f":"精緻化計算結果!#REF!","v":{"$error":"#REF!"}},{"$f":"精緻化計算結果!#REF!","v":{"$error":"#REF!"}},{"$f":"精緻化計算結果!#REF!","v":{"$error":"#REF!"}},{"$f":"精緻化計算結果!#REF!","v":{"$error":"#REF!"}}]
[{"$f":"精緻化計算結果!#REF!","v":{"$error":"#REF!"}},{"$f":"精緻化計算結果!#REF!","v":{"$error":"#REF!"}},{"$f":"精緻化計算結果!#REF!","v":{"$error":"#REF!"}},{"$f":"精緻化計算結果!#REF!","v":{"$error":"#REF!"}},{"$f":"精緻化計算結果!#REF!","v":{"$error":"#REF!"}},{"$f":"精緻化計算結果!#REF!","v":{"$error":"#REF!"}},{"$f":"精緻化計算結果!#REF!","v":{"$error":"#REF!"}},{"$f":"精緻化計算結果!#REF!","v":{"$error":"#REF!"}},{"$f":"精緻化計算結果!#REF!","v":{"$error":"#REF!"}},{"$f":"精緻化計算結果!#REF!","v":{"$error":"#REF!"}},{"$f":"精緻化計算結果!#REF!","v":{"$error":"#REF!"}},{"$f":"精緻化計算結果!#REF!","v":{"$error":"#REF!"}},{"$f":"精緻化計算結果!#REF!","v":{"$error":"#REF!"}},{"$f":"精緻化計算結果!#REF!","v":{"$error":"#REF!"}},{"$f":"精緻化計算結果!#REF!","v":{"$error":"#REF!"}},{"$f":"精緻化計算結果!#REF!","v":{"$error":"#REF!"}},{"$f":"精緻化計算結果!#REF!","v":{"$error":"#REF!"}},{"$f":"精緻化計算結果!#REF!","v":{"$error":"#REF!"}},{"$f":"精緻化計算結果!#REF!","v":{"$error":"#REF!"}},{"$f":"精緻化計算結果!#REF!","v":{"$error":"#REF!"}},{"$f":"精緻化計算結果!#REF!","v":{"$error":"#REF!"}}]
[{"$f":"精緻化計算結果!#REF!","v":{"$error":"#REF!"}},{"$f":"精緻化計算結果!#REF!","v":{"$error":"#REF!"}},{"$f":"精緻化計算結果!#REF!","v":{"$error":"#REF!"}},{"$f":"精緻化計算結果!#REF!","v":{"$error":"#REF!"}},{"$f":"精緻化計算結果!#REF!","v":{"$error":"#REF!"}},{"$f":"精緻化計算結果!#REF!","v":{"$error":"#REF!"}},{"$f":"精緻化計算結果!#REF!","v":{"$error":"#REF!"}},{"$f":"精緻化計算結果!#REF!","v":{"$error":"#REF!"}},{"$f":"精緻化計算結果!#REF!","v":{"$error":"#REF!"}},{"$f":"精緻化計算結果!#REF!","v":{"$error":"#REF!"}},{"$f":"精緻化計算結果!#REF!","v":{"$error":"#REF!"}},{"$f":"精緻化計算結果!#REF!","v":{"$error":"#REF!"}},{"$f":"精緻化計算結果!#REF!","v":{"$error":"#REF!"}},{"$f":"精緻化計算結果!#REF!","v":{"$error":"#REF!"}},{"$f":"精緻化計算結果!#REF!","v":{"$error":"#REF!"}},{"$f":"精緻化計算結果!#REF!","v":{"$error":"#REF!"}},{"$f":"精緻化計算結果!#REF!","v":{"$error":"#REF!"}},{"$f":"精緻化計算結果!#REF!","v":{"$error":"#REF!"}},{"$f":"精緻化計算結果!#REF!","v":{"$error":"#REF!"}},{"$f":"精緻化計算結果!#REF!","v":{"$error":"#REF!"}},{"$f":"精緻化計算結果!#REF!","v":{"$error":"#REF!"}}]
[{"$f":"精緻化計算結果!#REF!","v":{"$error":"#REF!"}},{"$f":"精緻化計算結果!#REF!","v":{"$error":"#REF!"}},{"$f":"精緻化計算結果!#REF!","v":{"$error":"#REF!"}},{"$f":"精緻化計算結果!#REF!","v":{"$error":"#REF!"}},{"$f":"精緻化計算結果!#REF!","v":{"$error":"#REF!"}},{"$f":"精緻化計算結果!#REF!","v":{"$error":"#REF!"}},{"$f":"精緻化計算結果!#REF!","v":{"$error":"#REF!"}},{"$f":"精緻化計算結果!#REF!","v":{"$error":"#REF!"}},{"$f":"精緻化計算結果!#REF!","v":{"$error":"#REF!"}},{"$f":"精緻化計算結果!#REF!","v":{"$error":"#REF!"}},{"$f":"精緻化計算結果!#REF!","v":{"$error":"#REF!"}},{"$f":"精緻化計算結果!#REF!","v":{"$error":"#REF!"}},{"$f":"精緻化計算結果!#REF!","v":{"$error":"#REF!"}},{"$f":"精緻化計算結果!#REF!","v":{"$error":"#REF!"}},{"$f":"精緻化計算結果!#REF!","v":{"$error":"#REF!"}},{"$f":"精緻化計算結果!#REF!","v":{"$error":"#REF!"}},{"$f":"精緻化計算結果!#REF!","v":{"$error":"#REF!"}},{"$f":"精緻化計算結果!#REF!","v":{"$error":"#REF!"}},{"$f":"精緻化計算結果!#REF!","v":{"$error":"#REF!"}},{"$f":"精緻化計算結果!#REF!","v":{"$error":"#REF!"}},{"$f":"精緻化計算結果!#REF!","v":{"$error":"#REF!"}}]
[{"$f":"精緻化計算結果!#REF!","v":{"$error":"#REF!"}},{"$f":"精緻化計算結果!#REF!","v":{"$error":"#REF!"}},{"$f":"精緻化計算結果!#REF!","v":{"$error":"#REF!"}},{"$f":"精緻化計算結果!#REF!","v":{"$error":"#REF!"}},{"$f":"精緻化計算結果!#REF!","v":{"$error":"#REF!"}},{"$f":"精緻化計算結果!#REF!","v":{"$error":"#REF!"}},{"$f":"精緻化計算結果!#REF!","v":{"$error":"#REF!"}},{"$f":"精緻化計算結果!#REF!","v":{"$error":"#REF!"}},{"$f":"精緻化計算結果!#REF!","v":{"$error":"#REF!"}},{"$f":"精緻化計算結果!#REF!","v":{"$error":"#REF!"}},{"$f":"精緻化計算結果!#REF!","v":{"$error":"#REF!"}},{"$f":"精緻化計算結果!#REF!","v":{"$error":"#REF!"}},{"$f":"精緻化計算結果!#REF!","v":{"$error":"#REF!"}},{"$f":"精緻化計算結果!#REF!","v":{"$error":"#REF!"}},{"$f":"精緻化計算結果!#REF!","v":{"$error":"#REF!"}},{"$f":"精緻化計算結果!#REF!","v":{"$error":"#REF!"}},{"$f":"精緻化計算結果!#REF!","v":{"$error":"#REF!"}},{"$f":"精緻化計算結果!#REF!","v":{"$error":"#REF!"}},{"$f":"精緻化計算結果!#REF!","v":{"$error":"#REF!"}},{"$f":"精緻化計算結果!#REF!","v":{"$error":"#REF!"}},{"$f":"精緻化計算結果!#REF!","v":{"$error":"#REF!"}}]
[{"$f":"精緻化計算結果!#REF!","v":{"$error":"#REF!"}},{"$f":"精緻化計算結果!#REF!","v":{"$error":"#REF!"}},{"$f":"精緻化計算結果!#REF!","v":{"$error":"#REF!"}},{"$f":"精緻化計算結果!#REF!","v":{"$error":"#REF!"}},{"$f":"精緻化計算結果!#REF!","v":{"$error":"#REF!"}},{"$f":"精緻化計算結果!#REF!","v":{"$error":"#REF!"}},{"$f":"精緻化計算結果!#REF!","v":{"$error":"#REF!"}},{"$f":"精緻化計算結果!#REF!","v":{"$error":"#REF!"}},{"$f":"精緻化計算結果!#REF!","v":{"$error":"#REF!"}},{"$f":"精緻化計算結果!#REF!","v":{"$error":"#REF!"}},{"$f":"精緻化計算結果!#REF!","v":{"$error":"#REF!"}},{"$f":"精緻化計算結果!#REF!","v":{"$error":"#REF!"}},{"$f":"精緻化計算結果!#REF!","v":{"$error":"#REF!"}},{"$f":"精緻化計算結果!#REF!","v":{"$error":"#REF!"}},{"$f":"精緻化計算結果!#REF!","v":{"$error":"#REF!"}},{"$f":"精緻化計算結果!#REF!","v":{"$error":"#REF!"}},{"$f":"精緻化計算結果!#REF!","v":{"$error":"#REF!"}},{"$f":"精緻化計算結果!#REF!","v":{"$error":"#REF!"}},{"$f":"精緻化計算結果!#REF!","v":{"$error":"#REF!"}},{"$f":"精緻化計算結果!#REF!","v":{"$error":"#REF!"}},{"$f":"精緻化計算結果!#REF!","v":{"$error":"#REF!"}}]
[{"$f":"精緻化計算結果!#REF!","v":{"$error":"#REF!"}},{"$f":"精緻化計算結果!#REF!","v":{"$error":"#REF!"}},{"$f":"精緻化計算結果!#REF!","v":{"$error":"#REF!"}},{"$f":"精緻化計算結果!#REF!","v":{"$error":"#REF!"}},{"$f":"精緻化計算結果!#REF!","v":{"$error":"#REF!"}},{"$f":"精緻化計算結果!#REF!","v":{"$error":"#REF!"}},{"$f":"精緻化計算結果!#REF!","v":{"$error":"#REF!"}},{"$f":"精緻化計算結果!#REF!","v":{"$error":"#REF!"}},{"$f":"精緻化計算結果!#REF!","v":{"$error":"#REF!"}},{"$f":"精緻化計算結果!#REF!","v":{"$error":"#REF!"}},{"$f":"精緻化計算結果!#REF!","v":{"$error":"#REF!"}},{"$f":"精緻化計算結果!#REF!","v":{"$error":"#REF!"}},{"$f":"精緻化計算結果!#REF!","v":{"$error":"#REF!"}},{"$f":"精緻化計算結果!#REF!","v":{"$error":"#REF!"}},{"$f":"精緻化計算結果!#REF!","v":{"$error":"#REF!"}},{"$f":"精緻化計算結果!#REF!","v":{"$error":"#REF!"}},{"$f":"精緻化計算結果!#REF!","v":{"$error":"#REF!"}},{"$f":"精緻化計算結果!#REF!","v":{"$error":"#REF!"}},{"$f":"精緻化計算結果!#REF!","v":{"$error":"#REF!"}},{"$f":"精緻化計算結果!#REF!","v":{"$error":"#REF!"}},{"$f":"精緻化計算結果!#REF!","v":{"$error":"#REF!"}}]
[{"$f":"精緻化計算結果!#REF!","v":{"$error":"#REF!"}},{"$f":"精緻化計算結果!#REF!","v":{"$error":"#REF!"}},{"$f":"精緻化計算結果!#REF!","v":{"$error":"#REF!"}},{"$f":"精緻化計算結果!#REF!","v":{"$error":"#REF!"}},{"$f":"精緻化計算結果!#REF!","v":{"$error":"#REF!"}},{"$f":"精緻化計算結果!#REF!","v":{"$error":"#REF!"}},{"$f":"精緻化計算結果!#REF!","v":{"$error":"#REF!"}},{"$f":"精緻化計算結果!#REF!","v":{"$error":"#REF!"}},{"$f":"精緻化計算結果!#REF!","v":{"$error":"#REF!"}},{"$f":"精緻化計算結果!#REF!","v":{"$error":"#REF!"}},{"$f":"精緻化計算結果!#REF!","v":{"$error":"#REF!"}},{"$f":"精緻化計算結果!#REF!","v":{"$error":"#REF!"}},{"$f":"精緻化計算結果!#REF!","v":{"$error":"#REF!"}},{"$f":"精緻化計算結果!#REF!","v":{"$error":"#REF!"}},{"$f":"精緻化計算結果!#REF!","v":{"$error":"#REF!"}},{"$f":"精緻化計算結果!#REF!","v":{"$error":"#REF!"}},{"$f":"精緻化計算結果!#REF!","v":{"$error":"#REF!"}},{"$f":"精緻化計算結果!#REF!","v":{"$error":"#REF!"}},{"$f":"精緻化計算結果!#REF!","v":{"$error":"#REF!"}},{"$f":"精緻化計算結果!#REF!","v":{"$error":"#REF!"}},{"$f":"精緻化計算結果!#REF!","v":{"$error":"#REF!"}}]

{"sheet":"蜂個体を用いた影響評価（推計スクリーニング段階）","index":7,"n_rows":4,"n_cols":21,"rows_kept":4,"cut":false,"hidden":false,"merged":[[0,14,0,17],[1,12,1,13],[1,15,1,17],[0,11,0,13]]}
[null,null,null,null,null,null,null,null,null,null,null,"推定暴露量\n（µg/bee）",null,null,"推定暴露量/毒性指標"]
[null,null,null,null,null,null,null,null,null,null,null,null,"経口",null,null,"経口"]
["登録番号","作物名","適用病害虫","最小希釈倍率（倍）","最大使用液量\n（L/10a）","使用方法","暴露シナリオ","適用作物の花粉・花蜜の有無\n（P：花粉,N：花蜜）","ha当たりの有効成分投下量\n（kg a.i./ha）","散布液/粉中有効成分濃度（％）","推定花粉・花蜜濃度\n（µg/g）","接触","成虫","幼虫","接触","（成虫/単回）","（成虫/反復）","（幼虫）"]
[" "," "," "," "," "," "," "," "," "," "," "," "," "," "," "," "," "," "," "," "," "]

{"sheet":"蜂個体を用いた影響評価（花粉花蜜残留試験実測値による精緻化）","index":8,"n_rows":4,"n_cols":21,"rows_kept":4,"cut":false,"hidden":false,"merged":[[1,18,1,20],[0,9,0,12],[0,13,0,16],[0,17,0,20],[1,9,1,10],[1,11,1,12],[1,14,1,16]]}
[null,null,null,null,null,null,null,null,null,"実測花粉・花蜜濃度\n（µg/g）",null,null,null,"推定暴露量\n（µg/bee）",null,null,null,"推定暴露量/毒性指標"]
[null,null,null,null,null,null,null,null,null,"最大値",null,"平均値",null,null,"経口",null,null,null,"経口"]
["登録番号","作物名","適用病害虫","最小希釈倍数（倍）","最大使用液量（L/10a）","使用方法","暴露シナリオ","ha当たりの有効成分投下量\n（kg a.i./ha）","散布液/粉中有効成分濃度（％）","花粉","花蜜","花粉","花蜜","接触","（成虫/単回）","（成虫/反復）","幼虫","接触","（成虫/単回）","（成虫/反復）","（幼虫）"]
[" "," "," "," "," "," "," "," "," "," "," "," "," "," "," "," "," "," "," "," "," "]

{"sheet":"基本パラメータ","index":9,"n_rows":12,"n_cols":3,"rows_kept":12,"cut":false,"hidden":false,"merged":[]}
[null,"成虫","幼虫"]
["花粉の摂餌量（g/day）",9.5999999999999992E-3,3.5999999999999999E-3]
["花蜜の摂餌量（g/day）",0.14000000000000001,0.12]
[]
["単位投下量当たりの花粉花蜜残留量"]
["茎葉散布",98,"µg/g per ha/kg"]
["土壌処理",{"$f":"BeeRex!C17","v":1.6287509124961248},"µg/g"]
["種子処理（ppm）",1,"µg/g"]
[]
[]
[null,"成虫"]
["付着量（nL/bee or µg/bee）",70]

{"sheet":"BeeRex","index":10,"n_rows":17,"n_cols":5,"rows_kept":17,"cut":false,"hidden":false,"merged":[]}
[]
[null,"Table 1. User inputs (related to exposure)",null,null,"lb a.i./A"]
[null,"Description","Value",null,"kg a.i./ha"]
[null,"Application rate",1,null,"mg a.i./tree"]
[null,"Units of app rate","kg a.i./ha",null,"yes"]
[null,"Application method","soil application",null,"no"]
[null,"Log Pow",{"$f":"入力シート!I3","v":0},{"$f":"IF(C7>5, \"Model should not be run when Log Kow is >5\", \" \")","v":" "}]
[null,"Koc",{"$f":"入力シート!J3","v":0}]
[null,"Mass of tree vegetation (kg-wet weight)",0.1]
[null,"Are empirical residue data available?","no"]
[null,"Empirical residue in pollen/bread (mg a.i./kg)",1,{"$f":"C11/1000","v":1E-3}]
[null,"Empirical residue in nectar (mg a.i./kg)",0.4,{"$f":"C12/1000","v":4.0000000000000002E-4}]
[null,"Empirical residue in jelly (mg a.i./kg)",0.5,{"$f":"C13/1000","v":5.0000000000000001E-4}]
[]
[null,"Table 3. Estimated concentrations in pollen and nectar"]
[null,"Application method","EECs (mg a.i./kg)","EECs (µg a.i./mg)"]
[null,"soil application",{"$f":"IF(C6=\"soil application\", (10^(0.95*C7-2.05)+0.82)*(-0.0648*(C7^2)+0.2431*C7+0.5822)*(1.5/(0.2+1.5*C8*0.01))*IF(C5=\"lb a.i./A\", 0.5*C4, 0.45*C4), \"NA\")","v":1.6287509124961248},{"$f":"IF(C6=\"soil application\", C17/1000, \"NA\")","v":1.6287509124961249E-3}]

{"sheet":"更新履歴","index":11,"n_rows":13,"n_cols":10,"rows_kept":13,"cut":false,"hidden":false,"merged":[[24,2,24,8],[13,2,13,8],[14,2,14,8],[15,2,15,8],[16,2,16,8],[22,2,22,8],[21,2,21,8],[12,2,12,8],[3,0,9,0],[0,0,1,8],[23,2,23,8],[2,2,2,8],[3,2,3,8],[6,2,6,8],[7,2,7,8],[8,2,8,8],[9,2,9,8],[10,2,10,8],[10,0,11,0],[36,2,36,8],[25,2,25,8],[26,2,26,8],[27,2,27,8],[28,2,28,8],[37,2,37,8],[38,2,38,8],[5,2,5,8],[4,2,4,8],[29,2,29,8],[30,2,30,8],[31,2,31,8],[32,2,32,8],[33,2,33,8],[34,2,34,8],[17,2,17,8],[18,2,18,8],[19,2,19,8],[11,2,11,8],[20,2,20,8],[35,2,35,8]]}
["更新履歴",null,null,null,null,null,null,null,null,"Ver.2.0.1"]
[]
["日付","変更したシート等","内容"]
[44410,"入力シート","・バージョン情報が表示されるよう修正"]
[null,"計算結果シート","・計算式の修正\n　散布時の濃度（O列）\n（計算式の例）\n誤：=【略】,入力シート!F8/(入力シート!M8 *1000/入力シート!L8),入力シート!F8))\n正：=【略】,(入力シート!F8/(入力シート!M8 *1000+入力シート!L8)/入力シート!L8),入力シート!F8))\n・J～K列、AB列に新たな項目を追加\n・計算結果をドシエ様式に整理できるよう変更"]
[null,"花粉花蜜残留試験結果シート","・新たに追加\n・花粉・花蜜残留試験結果から精緻化した結果を出力できるようにした"]
[null,"精緻化計算結果シート","・新たに追加\n・精緻化計算結果をドシエ様式に整理できるようにした"]
[null,"蜂個体を用いた影響評価（推計スクリーニング段階）シート","・新たに追加"]
[null,"個体を用いた影響評価（花粉花蜜残留試験実測値による精緻化）シート","・新たに追加"]
[null,"更新履歴シート","・新たに追加\n・ver.2.0.0に更新"]
[44580,"計算結果シート","・計算式の修正\n　散布時の濃度（O列）\n（計算式の例）\n誤：=【略】,(入力シート!F8/(入力シート!M8 *1000+入力シート!L8)/入力シート!L8),入力シート!F8))\n正：＝【略】,(入力シート!F8/((入力シート!M8 *1000+入力シート!L8)/入力シート!L8)),入力シート!F8))\n"]
[null,"蜂個体を用いた影響評価（推計スクリーニング段階）","・推定花粉・花蜜濃度（K列）に誤った値が入力されるバグを修正"]
[null,"更新履歴シート","・ver.2.0.1に更新"]