Workbook
Name iti: #REF!
Name 問１: #REF!
Name 問２: #REF!
Name 問５: #REF!

Sheet 申込用紙 
B2: 農業農村情報通信環境整備準備会入会届
D3: 以下、事項を記載いただき、送付先メールアドレス（農林水産省地域整備課）までメールにて送付ください。
D4: 送付先メールアドレス： | G4: nntsushin_jyunbikai@maff.go.jp
D6: 団体名 | F6: 〇〇 | J6: 所在地 | L6: 〇〇県〇〇市
D7: 担当者 | F7: 部署・役職 | G7: 〇〇部〇〇課〇〇 | J7: 氏 名 | L7: 〇〇 〇〇
D8: 連絡先 | F8: 電 話：
F9: メール：
F10: ※準備会事務局からのメール受信を希望するアドレスを記載ください。（複数可）
B12: 準備会入会に当たり、以下の質問について該当する項目にチェックをお願いします。
C14: 【１】地域における課題や要望に関する取組状況について
E15: 地域の課題や要望を把握しており、対策の技術的方向性も概ね定まっていることから、農業生産基盤情報通信環境整備事業の申請段階にある、又は申請を検討している。 | T15: FALSE | U15: =IF(T15=TRUE,E15&"; ","")
E17: 地域の課題や要望を把握しており、交付金の申請を見据えて具体的な検討を開始している。 | T17: FALSE | U17: =IF(T17=TRUE,E17&"; ","")
E18: 課題解決のためICT活用の要望があり、今後具体的な検討を行っていきたい。 | T18: FALSE | U18: =IF(T18=TRUE,E18&"; ","")
E19: 現時点でICT活用に向けた要望はないが、技術情報や農業農村におけるICTの活用事例等について情報収集したい。 | T19: FALSE | U19: =IF(T19=TRUE,E19&"; ","")
E21: その他： | T21: FALSE | U21: =IF(T21=TRUE,E21&"; ","")
C23: 【２】取組を進めたい地域の通信環境について
E24: 光ファイバや携帯キャリアのエリア外である。 | T24: FALSE | U24: =IF(T24=TRUE,E24&"; ","")
E25: 光ファイバや携帯キャリアのエリア内であるが、一部電波の届かないところがある。 | T25: FALSE | U25: =IF(T25=TRUE,E25&"; ","")
E26: 光ファイバや携帯キャリアのエリア内であるが、通信費を抑えたい。 | T26: FALSE | U26: =IF(T26=TRUE,E26&"; ","")
E27: 確認できていない。今後確認する。 | T27: FALSE | U27: =IF(T27=TRUE,E27&"; ","")
C29: 【３】上記【１】に関して
E30: 地域の課題や要望、取組状況、希望する支援内容等について説明可能である。 | T30: FALSE | U30: =IF(T30=TRUE,E30&"; ","")
E31: 現時点で説明できる内容、材料は特にない。 | T31: FALSE | U31: =IF(T31=TRUE,E31&"; ","")
E32: その他： | T32: FALSE | U32: =IF(T32=TRUE,E32&"; ","")
C34: 【４】取り組みたい内容について
D35: (農業農村インフラ※関係)
D36: ※ほ場、農業用用排水施設、農道等の農業生産基盤及び農業集落排水施設、農業集落道、営農飲雑用水施設、農業集落防災安全施設等の農村生活環境基盤をいう。
E37: 農業農村インフラの一元管理 | T37: FALSE | U37: =IF(T37=TRUE,E37&"; ","")
E38: 農業水利施設（用排水路、分水工、用排水機場、ため池等）の遠方監視・操作 | T38: FALSE | U38: =IF(T38=TRUE,E38&"; ","")
E39: 農業集落排水施設・農道等の監視 | T39: FALSE | U39: =IF(T39=TRUE,E39&"; ","")
D40: (スマート農業関係)
E41: 水田遠隔水管理(自動給排水栓) | T41: FALSE | U41: =IF(T41=TRUE,E41&"; ","")
E42: 農機の自動走行 | T42: FALSE | U42: =IF(T42=TRUE,E42&"; ","")
E43: ほ場・ハウスの環境管理（温度、湿度センサーなどマルチセンサ） | T43: FALSE | U43: =IF(T43=TRUE,E43&"; ","")
E44: 鳥獣害対策 | T44: FALSE | U44: =IF(T44=TRUE,E44&"; ","")
D45: (その他)
E46: 地域活性化 | T46: FALSE | U46: =IF(T46=TRUE,E46&"; ","")
E47: その他： | T47: FALSE | U47: =IF(T47=TRUE,E47&"; ","")
C49: 【５】希望する支援内容について
E50: ICT活用を実現するための最適な通信環境整備の提案 | T50: FALSE | U50: =IF(T50=TRUE,E50&"; ","") | W50: =IF(U50=TRUE,L50&"; ","")
...

Sheet 集計用
A1: 団体名 | B1: 所在地 | C1: 担当部署 | D1: 担当者 | E1: 電話番号 | F1: メールアドレス | G1: 【１】地域における課題や要望に関する取組状況について | H1: 【１】その他 | I1: 【２】取組を進めたい地域の通信環境について | J1: 【３】【１】について | K1: 【３】その他 | L1: 【４】取り組みたい内容について(農業農村インフラ関係) | M1: 【４】取り組みたい内容について(スマート農業関係) | N1: 【４】取り組みたい内容について(その他) | O1: 【４】その他 | P1: 【５】希望する支援内容について | Q1: 【５】その他 | R1: 【６】個別地区支援希望 | S1: 【７】・申込者が地方自治体の場合、地域における検討体制に土地改良区や農協が参画 | T1: 【７】・申込者が地方自治体以外の場合、都道府県や市町村に相談 | U1: 【８】特筆事項 | V1: 【９】本募集情報 | W1: 【９】その他
A2: =_xlfn.CONCAT('申込用紙 '!F6:I6) -> 〇〇 | B2: =_xlfn.CONCAT('申込用紙 '!L6:Q6) -> 〇〇県〇〇市 | C2: =_xlfn.CONCAT('申込用紙 '!G7:I7) -> 〇〇部〇〇課〇〇 | D2: =_xlfn.CONCAT('申込用紙 '!L7:Q7) -> 〇〇 〇〇 | E2: =_xlfn.CONCAT('申込用紙 '!G8:Q8) | F2: =_xlfn.CONCAT('申込用紙 '!G9:Q9) | G2: =_xlfn.CONCAT('申込用紙 '!U15:U21) | H2: =_xlfn.CONCAT('申込用紙 '!F21:Q21) | I2: =_xlfn.CONCAT('申込用紙 '!U24:U27) | J2: =_xlfn.CONCAT('申込用紙 '!U30:U32) | K2: =_xlfn.CONCAT('申込用紙 '!F32:Q32) | L2: =_xlfn.CONCAT('申込用紙 '!U37:U39) | M2: =_xlfn.CONCAT('申込用紙 '!U41:U44) | N2: =_xlfn.CONCAT('申込用紙 '!U46:U47) | O2: =_xlfn.CONCAT('申込用紙 '!F47:Q47) | P2: =_xlfn.CONCAT('申込用紙 '!U50:U57) | Q2: =_xlfn.CONCAT('申込用紙 '!F57:Q57) | R2: =_xlfn.CONCAT('申込用紙 '!V62:W62) | S2: =_xlfn.CONCAT('申込用紙 '!V66:W66) | T2: =_xlfn.CONCAT('申込用紙 '!V68:W68) | U2: =_xlfn.CONCAT('申込用紙 '!D71:Q74) | V2: =_xlfn.CONCAT('申込用紙 '!V78:V84) | W2: =_xlfn.CONCAT('申込用紙 '!G84:P84)
