{"text_format":"3","workbook":"xlsx","n_sheets":10,"sheets":["様式第1号","様式第１号 (2)","様式第２号","様式第２号 (2)","実施位置図","様式第３号","様式第４号","様式第５号","要領別表第２","参考様式第１号"],"not_rendered":{"images":5,"defined_names":10},"read":"whole","date_system":"1900"}

{"sheet":"様式第1号","index":0,"n_rows":321,"n_cols":35,"rows_kept":321,"merged":[[0,1,0,2],[5,22,5,27],[5,28,5,34],[18,4,19,35],[20,4,20,35],[32,11,32,12],[32,13,32,28],[33,11,33,12],[33,13,33,28],[45,15,45,31],[47,20,47,31],[55,4,55,13],[55,14,55,35],[56,1,57,1],[56,2,57,2],[56,4,56,13],[56,14,56,16],[56,17,56,35],[57,4,57,13],[57,17,57,35],[58,4,58,13],[58,14,58,35],[59,1,60,1],[59,2,60,2],[59,4,60,13],[59,14,59,16],[59,17,59,35],[60,17,60,35],[61,1,66,1],[61,2,66,2],[61,4,66,13],[61,14,63,20],[61,22,61,23],[61,25,61,27],[61,28,61,35],[62,21,63,35],[64,14,64,20],[64,21,64,23],[64,25,64,26],[64,28,64,30],[64,31,64,35],[65,14,65,20],[65,21,65,23],[65,25,65,26],[65,28,65,30],[65,31,65,35],[66,14,66,20],[66,21,66,35],[67,4,67,13],[67,14,67,35],[68,1,69,1],[68,2,69,2],[68,4,68,13],[68,14,68,16],[68,17,68,35],[69,4,69,13],[69,17,69,35],[70,1,75,1],[70,2,75,2],[70,4,75,13],[70,14,72,20],[70,22,70,23],[70,25,70,27],[70,28,70,35],[71,21,72,35],[73,14,73,20],[73,21,73,23],[73,25,73,26],[73,28,73,30],[73,31,73,35],[74,14,74,20],[74,21,74,23],[74,25,74,26],[74,28,74,30],[74,31,74,35],[75,14,75,20],[75,21,75,35],[79,4,79,17],[79,18,79,24],[79,25,79,35],[80,1,89,1],[80,2,89,2],[80,4,80,17],[80,18,80,24],[80,25,80,35],[81,4,81,17],[81,18,81,24],[81,25,81,35],[82,4,82,17],[82,18,82,24],[82,25,82,35],[83,4,83,17],[83,18,83,24],[83,25,83,35],[84,4,84,17],[84,18,84,24],[84,25,84,35],[85,4,85,17],[85,18,85,24],[85,25,85,35],[86,4,86,17],[86,18,86,24],[86,25,86,35],[87,4,87,17],[87,18,87,24],[87,25,87,35],[88,4,88,17],[88,18,88,24],[88,25,88,35],[89,4,89,17],[89,18,89,24],[89,25,89,35],[93,1,98,1],[93,2,98,2],[111,4,111,8],[111,9,111,23],[111,24,111,29],[111,30,111,33],[111,34,111,35],[112,4,112,35],[113,4,113,35],[117,4,117,35],[121,4,121,35],[127,1,129,1],[127,2,129,2],[134,5,134,7],[134,8,135,35],[136,1,138,1],[136,2,138,2],[136,5,138,5],[136,6,138,6],[136,7,138,7],[136,9,138,35],[139,1,140,1],[139,2,140,2],[139,5,140,5],[139,6,140,6],[139,7,140,7],[139,9,140,35],[142,1,144,1],[142,2,144,2],[143,9,143,35],[144,9,144,35],[150,4,150,35],[154,1,160,1],[154,2,160,2],[154,4,154,13],[154,14,154,26],[154,27,154,28],[154,29,154,30],[154,31,154,35],[155,4,155,13],[155,14,155,26],[155,27,155,28],[155,29,155,30],[155,31,155,35],[156,4,156,13],[156,14,156,26],[156,27,156,28],[156,29,156,30],[156,31,156,35],[157,4,157,13],[157,14,157,26],[157,27,157,28],[157,29,157,30],[158,6,158,13],[158,14,158,26],[158,27,158,28],[158,29,158,30],[158,31,158,35],[159,6,159,13],[159,14,159,26],[159,27,159,28],[159,29,159,30],[159,31,159,35],[160,6,160,13],[160,14,160,26],[160,27,160,28],[160,29,160,30],[160,31,160,35],[167,4,167,13],[167,14,167,26],[167,27,167,28],[167,29,167,30],[167,31,167,35],[168,1,169,1],[168,2,169,2],[168,4,168,13],[168,14,168,26],[168,27,168,28],[168,29,168,30],[168,31,168,35],[169,4,169,13],[169,14,169,26],[169,27,169,28],[169,29,169,30],[169,31,169,35],[173,4,173,13],[173,14,173,26],[173,27,173,28],[173,29,173,30],[173,31,173,35],[174,1,176,1],[174,2,176,2],[174,4,174,13],[174,14,174,26],[174,27,174,28],[174,29,174,30],[174,31,174,35],[175,4,175,13],[175,14,175,26],[175,27,175,28],[175,29,175,30],[175,31,175,35],[176,4,176,13],[176,14,176,26],[176,27,176,28],[176,29,176,30],[176,31,176,35],[178,4,178,35],[180,4,180,13],[180,14,180,26],[180,27,180,28],[180,29,180,30],[180,31,180,35],[181,1,183,1],[181,2,183,2],[181,4,181,13],[181,14,181,26],[181,27,181,28],[181,29,181,30],[181,31,181,35],[182,4,182,13],[182,14,182,26],[182,27,182,28],[182,29,182,30],[182,31,182,35],[183,4,183,13],[183,14,183,26],[183,27,183,28],[183,29,183,30],[183,31,183,35],[187,4,187,13],[187,14,187,26],[187,27,187,28],[187,29,187,30],[187,31,187,35],[188,1,190,1],[188,2,190,2],[188,4,188,13],[188,14,188,26],[188,27,188,28],[188,29,188,30],[188,31,188,35],[189,4,189,13],[189,14,189,26],[189,27,189,28],[189,29,189,30],[189,31,189,35],[190,4,190,13],[190,14,190,26],[190,27,190,28],[190,29,190,30],[190,31,190,35],[198,1,213,1],[198,2,213,2],[198,4,198,13],[198,14,198,21],[198,22,198,28],[198,29,198,35],[199,4,199,35],[200,4,200,13],[200,14,200,21],[200,22,200,28],[200,29,200,35],[201,4,201,13],[201,14,201,21],[201,22,201,28],[201,29,201,35],[202,4,202,35],[203,4,203,13],[203,14,203,21],[203,22,203,28],[203,29,203,35],[204,4,204,13],[204,14,204,21],[204,22,204,28],[204,29,204,35],[205,4,205,13],[205,14,205,21],[205,22,205,28],[205,29,205,35],[206,4,206,35],[207,4,207,13],[207,14,207,21],[207,22,207,28],[207,29,207,35],[208,4,208,13],[208,14,208,21],[208,22,208,28],[208,29,208,35],[209,4,209,13],[209,14,209,21],[209,22,209,28],[209,29,209,35],[210,4,210,35],[211,4,211,13],[211,14,211,21],[211,22,211,28],[211,29,211,35],[212,4,212,13],[212,14,212,21],[212,22,212,28],[212,29,212,35],[213,4,213,13],[213,14,213,21],[213,22,213,28],[213,29,213,35],[218,28,219,35],[220,4,220,11],[220,12,220,15],[220,16,220,19],[220,20,220,23],[220,24,220,27],[220,28,220,35],[221,4,221,11],[221,12,221,15],[221,16,221,19],[221,20,221,23],[221,24,221,27],[221,28,221,35],[222,12,222,15],[222,16,222,19],[222,20,222,23],[222,24,222,27],[222,28,222,35],[223,1,246,1],[223,2,246,2],[223,4,223,11],[223,12,223,15],[223,16,223,19],[223,20,223,23],[223,24,223,27],[223,28,223,35],[224,6,224,11],[224,12,224,15],[224,16,224,19],[224,20,224,23],[224,24,224,27],[224,28,224,35],[225,6,225,11],[225,12,225,15],[225,16,225,19],[225,20,225,23],[225,24,225,27],[225,28,225,35],[226,6,226,11],[226,12,226,15],[226,16,226,19],[226,20,226,23],[226,24,226,27],[226,28,226,35],[227,4,227,11],[227,12,227,15],[227,16,227,19],[227,20,227,23],[227,24,227,27],[227,28,227,35],[228,6,228,11],[228,12,228,15],[228,16,228,19],[228,20,228,23],[228,24,228,27],[228,28,228,35],[229,6,229,11],[229,12,229,15],[229,16,229,19],[229,20,229,23],[229,24,229,27],[229,28,229,35],[230,6,230,11],[230,12,230,15],[230,16,230,19],[230,20,230,23],[230,24,230,27],[230,28,230,35],[231,4,231,11],[231,12,231,15],[231,16,231,19],[231,20,231,23],[231,24,231,27],[231,28,231,35],[232,6,232,11],[232,12,232,15],[232,16,232,19],[232,20,232,23],[232,24,232,27],[232,28,232,35],[233,6,233,11],[233,12,233,15],[233,16,233,19],[233,20,233,23],[233,24,233,27],[233,28,233,35],[234,6,234,11],[234,12,234,15],[234,16,234,19],[234,20,234,23],[234,24,234,27],[234,28,234,35],[235,4,235,11],[235,12,235,15],[235,16,235,19],[235,20,235,23],[235,24,235,27],[235,28,235,35],[236,6,236,11],[236,12,236,15],[236,16,236,19],[236,20,236,23],[236,24,236,27],[236,28,236,35],[237,6,237,11],[237,12,237,15],[237,16,237,19],[237,20,237,23],[237,24,237,27],[237,28,237,35],[238,6,238,11],[238,12,238,15],[238,16,238,19],[238,20,238,23],[238,24,238,27],[238,28,238,35],[239,4,239,11],[239,12,239,15],[239,16,239,19],[239,20,239,23],[239,24,239,27],[239,28,239,35],[240,6,240,11],[240,12,240,15],[240,16,240,19],[240,20,240,23],[240,24,240,27],[240,28,240,35],[241,6,241,11],[241,12,241,15],[241,16,241,19],[241,20,241,23],[241,24,241,27],[241,28,241,35],[242,6,242,11],[242,12,242,15],[242,16,242,19],[242,20,242,23],[242,24,242,27],[242,28,242,35],[243,4,243,11],[243,12,243,15],[243,16,243,19],[243,20,243,23],[243,24,243,27],[243,28,243,35],[244,6,244,11],[244,12,244,15],[244,16,244,19],[244,20,244,23],[244,24,244,27],[244,28,244,35],[245,6,245,11],[245,12,245,15],[245,16,245,19],[245,20,245,23],[245,24,245,27],[245,28,245,35],[246,6,246,11],[246,12,246,15],[246,16,246,19],[246,20,246,23],[246,24,246,27],[246,28,246,35],[247,1,267,1],[247,2,267,2],[247,4,247,11],[247,12,247,15],[247,16,247,19],[247,20,247,23],[247,24,247,27],[247,28,247,35],[248,4,248,11],[248,12,248,15],[248,16,248,19],[248,20,248,23],[248,24,248,27],[248,28,248,35],[249,6,249,11],[249,12,249,15],[249,16,249,19],[249,20,249,23],[249,24,249,27],[249,28,249,35],[250,6,250,11],[250,12,250,15],[250,16,250,19],[250,20,250,23],[250,24,250,27],[250,28,250,35],[251,6,251,11],[251,12,251,15],[251,16,251,19],[251,20,251,23],[251,24,251,27],[251,28,251,35],[252,4,252,11],[252,12,252,15],[252,16,252,19],[252,20,252,23],[252,24,252,27],[252,28,252,35],[253,6,253,11],[253,12,253,15],[253,16,253,19],[253,20,253,23],[253,24,253,27],[253,28,253,35],[254,6,254,11],[254,12,254,15],[254,16,254,19],[254,20,254,23],[254,24,254,27],[254,28,254,35],[255,6,255,11],[255,12,255,15],[255,16,255,19],[255,20,255,23],[255,24,255,27],[255,28,255,35],[256,4,256,11],[256,12,256,15],[256,16,256,19],[256,20,256,23],[256,24,256,27],[256,28,256,35],[257,6,257,11],[257,12,257,15],[257,16,257,19],[257,20,257,23],[257,24,257,27],[257,28,257,35],[258,6,258,11],[258,12,258,15],[258,16,258,19],[258,20,258,23],[258,24,258,27],[258,28,258,35],[259,6,259,11],[259,12,259,15],[259,16,259,19],[259,20,259,23],[259,24,259,27],[259,28,259,35],[260,4,260,11],[260,12,260,15],[260,16,260,19],[260,20,260,23],[260,24,260,27],[260,28,260,35],[261,6,261,11],[261,12,261,15],[261,16,261,19],[261,20,261,23],[261,24,261,27],[261,28,261,35],[262,6,262,11],[262,12,262,15],[262,16,262,19],[262,20,262,23],[262,24,262,27],[262,28,262,35],[263,6,263,11],[263,12,263,15],[263,16,263,19],[263,20,263,23],[263,24,263,27],[263,28,263,35],[264,4,264,11],[264,12,264,15],[264,16,264,19],[264,20,264,23],[264,24,264,27],[264,28,264,35],[265,6,265,11],[265,12,265,15],[265,16,265,19],[265,20,265,23],[265,24,265,27],[265,28,265,35],[266,6,266,11],[266,12,266,15],[266,16,266,19],[266,20,266,23],[266,24,266,27],[266,28,266,35],[267,6,267,11],[267,12,267,15],[267,16,267,19],[267,20,267,23],[267,24,267,27],[267,28,267,35],[268,4,268,11],[268,12,268,15],[268,16,268,19],[268,20,268,23],[268,24,268,27],[268,28,268,35],[279,4,281,18],[279,19,281,20],[279,21,279,35],[280,21,280,27],[280,28,280,35],[281,21,281,24],[281,25,281,27],[281,28,281,32],[281,33,281,35],[282,4,282,18],[282,19,283,20],[282,21,283,27],[282,28,283,35],[283,1,287,1],[283,2,287,2],[283,5,283,18],[284,4,284,18],[284,19,285,20],[284,21,285,27],[284,28,285,35],[285,5,285,18],[286,4,286,18],[286,19,287,20],[286,21,287,27],[286,28,287,35],[287,5,287,18],[291,4,291,35],[298,1,301,1],[298,2,301,2],[298,4,298,35],[299,4,299,35],[300,4,300,35],[301,4,301,35]]}
[null,"記入箇所チェック"]
[null,"計画策定","施設整備"]
[{"$nulls":4},"（別紙様式第１号）"]
[]
[]
[{"$nulls":22},"事業開始年度",{"$nulls":5},"○年度"]
{"$rows_empty":12}
[{"$nulls":4},"情報通信環境整備対策事業実施計画書"]
{"$rows_empty":11}
[{"$nulls":10},"【事業の種類】"]
[]
[null,"○",{"$nulls":11},"計画策定事業（計画策定支援事業）"]
[null,null,"○",{"$nulls":10},"施設整備事業"]
{"$rows_empty":11}
[null,"○","○",{"$nulls":5},"事業実施主体名："]
[]
[null,"○","○",{"$nulls":5},"所在地（都道府県・市町村）："]
[]
[]
[]
[]
[{"$nulls":4},"※ 「事業の種類」は実施する事業に○を記入すること。"]
[{"$nulls":4},"１．事業実施主体の概要"]
[]
[null,"○","○",null,"主体の区分（注１）"]
[null,"○","○",null,"事業実施主体名",{"$nulls":9},"フリガナ"]
[{"$nulls":4},"（地域協議会名）",{"$nulls":12},{"$f":"P46","v":0}]
[null,"○","○",null,"取組地域の都道府県・市町村",{"$nulls":9},{"$f":"U48","v":0}]
[null,"○","○",null,"代表者氏名",{"$nulls":9},"フリガナ"]
[]
[null,"○","○",null,"事業実施主体住所及び\n連絡先",{"$nulls":9},"住所",{"$nulls":6},"〒",null,null,"-"]
[]
[]
[{"$nulls":14},"電話番号",{"$nulls":9},"-",null,null,"-"]
[{"$nulls":14},"ファクシミリ",{"$nulls":9},"-",null,null,"-"]
[{"$nulls":14},"電子メールアドレス"]
[null,"○","○",null,"事務局(個人又は団体）"]
[null,"○","○",null,"事務局",{"$nulls":9},"フリガナ"]
[{"$nulls":4},"（個人又は団体）"]
[null,"○","○",null,"事務局所在地及び連絡先",{"$nulls":9},"住所",{"$nulls":6},"〒",null,null,"-"]
[]
[]
[{"$nulls":14},"電話番号",{"$nulls":9},"-",null,null,"-"]
[{"$nulls":14},"ファクシミリ",{"$nulls":9},"-",null,null,"-"]
[{"$nulls":14},"電子メールアドレス"]
[]
[{"$nulls":4},"２．地域協議会構成員、連携団体（注２）"]
[]
[{"$nulls":4},"本対策に参画する個人や団体名",{"$nulls":13},"構成区分（注３）",{"$nulls":6},"所在地\n（市町村）"]
[null,"○\n（事業実施主体が地域協議会の場合）","○\n（事業実施主体が地域協議会の場合）"]
{"$rows_empty":10}
[{"$nulls":4},"３．地域区分（注４）"]
[]
[null,"○","○",{"$nulls":3},"１．特定農山村地域",{"$nulls":11},"６．沖縄"]
[{"$nulls":6},"２．振興山村",{"$nulls":11},"７．奄美群島"]
[{"$nulls":6},"３．過疎地域",{"$nulls":11},"８．小笠原諸島"]
[{"$nulls":6},"４．半島振興対策実施地域",{"$nulls":11},"９．特別豪雪地帯"]
[{"$nulls":6},"５，離島振興対策実施地域",{"$nulls":11},"10．棚田"]
[{"$nulls":18},"11. 急傾斜地帯"]
[]
[{"$nulls":4},"注１　「主体の区分」は、都道府県、市町村、地方公共団体の一部事務組合、農業協同組合、農業協同組合"]
[{"$nulls":4},"　　連合会、土地改良区、土地改良区連合、農業者の組織する団体、地方公共団体等が出資する法人、地域"]
[{"$nulls":4},"　　協議会から選択して記入してください。"]
[{"$nulls":4},"注２　地域協議会の場合には、構成員及び予定している構成員を記入してください。"]
[{"$nulls":4},"注３　「構成区分」には、都道府県、市町村、地方公共団体の一部事務組合、農業協同組合、農業協同組合"]
[{"$nulls":4},"　　連合会、土地改良区、土地改良区連合、農業者の組織する団体、地方公共団体等が出資する法人、地域"]
[{"$nulls":4},"　　住民、地域団体、NPO法人、通信事業者、その他から選択して記入してください。"]
[{"$nulls":4},"注４　該当する地域区分の□に○を記入してください。"]
[]
[{"$nulls":4},"４．地域の概要"]
[]
[null,"○","○",null,"事業実施地区名",{"$nulls":19},"地区の受益面積",{"$nulls":9},"ha"]
[{"$nulls":4},"（地域の概要）"]
[null,"○","○",null,"※　実施地区の位置、範囲、地勢、農業生産の特徴、担い手の状況、その他事業の必要性を説明する上で必要と考えられる社会経済情勢等について記載する。"]
[]
[{"$nulls":4},"５．事業実施地区の現状、課題等"]
[]
[null,"○","○",null,"※　地域における農業農村インフラ又は農業振興【必須】、地域活性化（移住・定住促進を含む）及びこれに関連する情報通信環境の現状（整備状況、保全管理等）及び課題について記載する。具体的な数値が示せるものは数値を記載すること。"]
[]
[{"$nulls":4},"６．地域の現況図"]
[]
[null,"○","○",null,"※　取組地域の範囲など地域の現況が分かる図面を添付してください（別添の場合は「別添のとおり」と記入する。又は「別添事業実施計画書に添付する事業位置図のとおり」でも構わない。）\n※　農村の持続性の向上を図る観点から、実施区域内において、内閣府の「小さな拠点（中山間地域等の集落生活圏（複数の集落を含む生活圏）において、安心して暮らしていく上で必要な生活サービスを受け続けられる環境を維持していくために、地域住民が、自治体や事業者、各種団体と協力・役割分担をしながら、各種生活支援機能を集約・確保したり、地域の資源を活用し、しごと・収入を確保する取組）」などの持続可能な地域づくりを目指す取組が行われている場合は、位置や取組との関係について記載してください。"]
[]
[{"$nulls":4},"７－１．取組（計画策定支援事業）"]
[]
[{"$nulls":4},"（１）取組の型（注５）"]
[]
[null,"○",{"$nulls":4},"１．一般型"]
[{"$nulls":6},"２．先進的情報通信環境整備型"]
[{"$nulls":6},"３．土地改良区運営基盤強化型"]
[{"$nulls":5},"注５　該当する実施内容の□のいずれか１つに○を記入してください。"]
[]
[{"$nulls":4},"（２） 実施内容（注６）"]
[]
[{"$nulls":5},"取組の型",null,null,"実施内容"]
[{"$nulls":5},1,2,3]
[null,"○",{"$nulls":6},"ア　事業実施区域における情報通信技術の利用ニーズ、地形条件、既存の情報通信施","　事業実施区域における情報通信技術の利用ニーズ、地形条件、既存の情報通信施設とその利用可能範囲等の諸条件の調査及び調査結果を基にした施設等の導入規格選定等に関する技術的検討"]
[{"$nulls":8},"　設とその利用可能範囲等の諸条件の調査及び調査結果を基にした施設等の導入規格"]
[{"$nulls":8},"　選定等に関する技術的検討"]
[null,"○",{"$nulls":6},"イ　アの技術的検討にあたって必要とされる無線通信の伝送距離の確認及び運用に関","　アの技術的検討にあたって必要とされる無線通信の伝送距離の確認及び運用に関する試行調査"]
[{"$nulls":8},"　する試行調査"]
[null,"○",{"$nulls":6},"ウ　","　専門家の派遣、ワークショップ"]
[null,"○",{"$nulls":3},"◎",null,null,"エ　","　整備計画の策定"]
[{"$nulls":6},"◎",null,"オ","　衛星通信等の先進的技術を用いた情報通信施設の適応可能性の検討"]
[{"$nulls":7},"◎","カ","　事業実施主体が農業農村インフラの管理の省力化・高度化やスマート農業の実装を図るために整備する情報通信施設の土地改良区組合員以外の利用者との調整等運用手法の検討"]
[{"$nulls":5},"注６　（１）で記入した取組の型について、該当する実施内容の□に○を記入してください。なお、◎"]
[{"$nulls":5},"　　　は必須項目です。"]
[]
[{"$nulls":4},"（３）取組の概要"]
[]
[null,"○",null,null,"※実施する調査や計画策定の内容について記載する。"]
[]
[{"$nulls":4},"（４）試行調査及び適応可能性の検討にかかる調査の数量（注７）"]
[]
[null,"○",null,null,"工種・機器",{"$nulls":9},"規格等",{"$nulls":12},"数量",null,"単位",null,"備考"]
[{"$nulls":4},"無線通信用施設（無線基地局）",{"$nulls":9},"（例：LPWA、衛星通信等）",{"$nulls":14},"基"]
[{"$nulls":4},"伝送用専用線（光ファイバ）",{"$nulls":24},"km"]
[{"$nulls":4},"監視・制御機器等"]
[{"$nulls":29},"任意"]
[{"$nulls":29},"任意"]
[{"$nulls":29},"任意"]
[{"$nulls":5},"注７　調査・計画検討を経て変更がありうることから、申請時点の想定で可。"]
[]
[{"$nulls":4},"７－２．取組（施設整備事業）（注８・９）"]
[]
[{"$nulls":4},"（１）無線通信用施設及び設備（無線基地局）並びに伝送用専用線（光ファイバ）"]
[]
[{"$nulls":4},"工種",{"$nulls":9},"規格等",{"$nulls":12},"数量",null,"単位",null,"備考"]
[null,null,"○",null,"無線通信用施設",{"$nulls":24},"基"]
[{"$nulls":4},"伝送用専用線",{"$nulls":24},"km"]
[]
[{"$nulls":4},"（２）（１）の施設等を活用して農業農村インフラの監視、制御を行うための設備"]
[]
[{"$nulls":4},"機器",{"$nulls":9},"規格等",{"$nulls":12},"数量",null,"単位",null,"備考"]
[null,null,"○",{"$nulls":26},"任意"]
[{"$nulls":29},"任意"]
[{"$nulls":29},"任意"]
[]
[{"$nulls":4},"（３）（１）の施設等を活用してスマート農業を行うための設備"]
[]
[{"$nulls":4},"機器",{"$nulls":9},"規格等",{"$nulls":12},"数量",null,"単位",null,"備考"]
[null,null,"○",{"$nulls":26},"任意"]
[{"$nulls":29},"任意"]
[{"$nulls":29},"任意"]
[]
[{"$nulls":4},"（４）（１）の施設等を活用して地域活性化に有効利用するための設備"]
[]
[{"$nulls":4},"機器",{"$nulls":9},"規格等",{"$nulls":12},"数量",null,"単位",null,"備考"]
[null,null,"○",{"$nulls":26},"任意"]
[{"$nulls":29},"任意"]
[{"$nulls":29},"任意"]
[{"$nulls":5},"注８　（１）から（４）までの施設等を運用するために必要となるソフトウェアは各項目において含むも"]
[{"$nulls":5},"　　のとする。なお、無線通信用施設は種別毎に記載すること。"]
[{"$nulls":5},"注９　RTK-GNSS基準局を記載する場合は、その用途（例：農機の自動操舵、防除用ドローン等）を備考欄"]
[{"$nulls":5},"　　に記載すること。"]
[]
[{"$nulls":4},"（５）施設整備後の維持管理・運用体制（注10）"]
[]
[null,null,"○",null,"工種・機器",{"$nulls":9},"施設管理予定者",{"$nulls":7},"利用料徴収",{"$nulls":6},"備考"]
[{"$nulls":4},"１）無線通信用施設及び設備（無線基地局）並びに伝送用専用線（光ファイバ）"]
[{"$nulls":4},"無線通信用施設"]
[{"$nulls":4},"伝送用専用線"]
[{"$nulls":4},"２）１）の施設等を活用して農業農村インフラの監視、制御を行うための設備"]
[]
[]
[]
[{"$nulls":4},"３）１）の施設等を活用してスマート農業を行うための設備"]
[]
[]
[]
[{"$nulls":4},"４）１）の施設等を活用して地域活性化に有効利用するための設備"]
[]
[]
[]
[{"$nulls":5},"注10　ＩＲＵ等の活用により整備した施設を電気通信事業者等に貸し出す場合は備考欄に詳細を記入す"]
[{"$nulls":5},"　　ること。"]
[]
[]
[{"$nulls":4},"７－３．経費の内訳（注11）",{"$nulls":23},"（単位：千円）"]
[]
[{"$nulls":4},"取組内容・経費区分（注12）",{"$nulls":7},"総事業費",{"$nulls":3},"本交付金",{"$nulls":3},"他の補助金",{"$nulls":3},"自己資金（注13）",{"$nulls":3},"備考"]
[{"$nulls":12},"①=②+③+④",{"$nulls":3},"②",{"$nulls":3},"③",{"$nulls":3},"④"]
[{"$nulls":4},"１．計画策定支援事業",{"$nulls":7},{"$f":"M224+M228+M232+M244","v":0},{"$nulls":3},{"$f":"Q224+Q228+Q232+Q244","v":0},{"$nulls":3},{"$f":"U224+U228+U232+U244","v":0},{"$nulls":3},{"$f":"Y224+Y228+Y232+Y244","v":0}]
[null,"○",null,null,"（１）調査及び技術的検討",{"$nulls":7},{"$f":"SUM(M225:P227)","v":0},{"$nulls":3},{"$f":"SUM(Q225:T227)","v":0},{"$nulls":3},{"$f":"SUM(U225:X227)","v":0},{"$nulls":3},{"$f":"SUM(Y225:AB227)","v":0}]
[{"$nulls":12},{"$f":"SUM(Q225:AB225)","v":0}]
[{"$nulls":12},{"$f":"SUM(Q226:AB226)","v":0}]
[{"$nulls":12},0]
[{"$nulls":4},"（２）試行調査",{"$nulls":7},{"$f":"SUM(M229:P231)","v":0},{"$nulls":3},{"$f":"SUM(Q229:T231)","v":0},{"$nulls":3},{"$f":"SUM(U229:X231)","v":0},{"$nulls":3},{"$f":"SUM(Y229:AB231)","v":0}]
[{"$nulls":12},{"$f":"SUM(Q229:AB229)","v":0}]
[{"$nulls":12},{"$f":"SUM(Q230:AB230)","v":0}]
[{"$nulls":12},0]
[{"$nulls":4},"（３）専門家の派遣、ワークショップ",{"$nulls":7},{"$f":"SUM(M233:P235)","v":0},{"$nulls":3},{"$f":"SUM(Q233:T235)","v":0},{"$nulls":3},{"$f":"SUM(U233:X235)","v":0},{"$nulls":3},{"$f":"SUM(Y233:AB235)","v":0}]
[{"$nulls":12},{"$f":"SUM(Q233:AB233)","v":0}]
[{"$nulls":12},{"$f":"SUM(Q234:AB234)","v":0}]
[{"$nulls":12},0]
[{"$nulls":4},"（４）整備計画の策定",{"$nulls":7},{"$f":"SUM(M237:P239)","v":0},{"$nulls":3},{"$f":"SUM(Q237:T239)","v":0},{"$nulls":3},{"$f":"SUM(U237:X239)","v":0},{"$nulls":3},{"$f":"SUM(Y237:AB239)","v":0}]
[{"$nulls":12},{"$f":"SUM(Q237:AB237)","v":0}]
[{"$nulls":12},{"$f":"SUM(Q238:AB238)","v":0}]
[{"$nulls":12},0]
[{"$nulls":4},"（５）適応可能性の検討",{"$nulls":7},{"$f":"SUM(M241:P243)","v":0},{"$nulls":3},{"$f":"SUM(Q241:T243)","v":0},{"$nulls":3},{"$f":"SUM(U241:X243)","v":0},{"$nulls":3},{"$f":"SUM(Y241:AB243)","v":0}]
[{"$nulls":12},{"$f":"SUM(Q241:AB241)","v":0}]
[{"$nulls":12},{"$f":"SUM(Q242:AB242)","v":0}]
[{"$nulls":12},0]
[{"$nulls":4},"（６）運用手法の検討",{"$nulls":7},{"$f":"SUM(M245:P247)","v":0},{"$nulls":3},{"$f":"SUM(Q245:T247)","v":0},{"$nulls":3},{"$f":"SUM(U245:X247)","v":0},{"$nulls":3},{"$f":"SUM(Y245:AB247)","v":0}]
[{"$nulls":12},{"$f":"SUM(Q245:AB245)","v":0}]
[{"$nulls":12},{"$f":"SUM(Q246:AB246)","v":0}]
[{"$nulls":12},0]
[null,null,"○",null,"２．施設整備事業",{"$nulls":7},{"$f":"M249+M253+M257+M261","v":0},{"$nulls":3},{"$f":"Q249+Q253+Q257+Q261","v":0},{"$nulls":3},{"$f":"U249+U253+U257+U261","v":0},{"$nulls":3},{"$f":"Y249+Y253+Y257+Y261","v":0}]
[{"$nulls":4},"（１）無線通信用施設\n　　　（無線基地局）",{"$nulls":7},{"$f":"SUM(M250:P252)","v":0},{"$nulls":3},{"$f":"SUM(Q250:T252)","v":0},{"$nulls":3},{"$f":"SUM(U250:X252)","v":0},{"$nulls":3},{"$f":"SUM(Y250:AB252)","v":0}]
[{"$nulls":12},{"$f":"SUM(Q250:AB250)","v":0}]
[{"$nulls":12},{"$f":"SUM(Q251:AB251)","v":0}]
[{"$nulls":12},0]
[{"$nulls":4},"（２）伝送用専用線\n　　　（光ファイバ等）",{"$nulls":7},{"$f":"SUM(M254:P256)","v":0},{"$nulls":3},{"$f":"SUM(Q254:T256)","v":0},{"$nulls":3},{"$f":"SUM(U254:X256)","v":0},{"$nulls":3},{"$f":"SUM(Y254:AB256)","v":0}]
[{"$nulls":12},{"$f":"SUM(Q254:AB254)","v":0}]
[{"$nulls":12},{"$f":"SUM(Q255:AB255)","v":0}]
[{"$nulls":12},0]
[{"$nulls":4},"（３）農業農村インフラの監視、制御を行うための設備",{"$nulls":7},{"$f":"SUM(M258:P260)","v":0},{"$nulls":3},{"$f":"SUM(Q258:T260)","v":0},{"$nulls":3},{"$f":"SUM(U258:X260)","v":0},{"$nulls":3},{"$f":"SUM(Y258:AB260)","v":0}]
[{"$nulls":12},{"$f":"SUM(Q258:AB258)","v":0}]
[{"$nulls":12},{"$f":"SUM(Q259:AB259)","v":0}]
[{"$nulls":12},0]
[{"$nulls":4},"（４）スマート農業を行うための設備",{"$nulls":7},{"$f":"SUM(M262:P264)","v":0},{"$nulls":3},{"$f":"SUM(Q262:T264)","v":0},{"$nulls":3},{"$f":"SUM(U262:X264)","v":0},{"$nulls":3},{"$f":"SUM(Y262:AB264)","v":0}]
[{"$nulls":12},{"$f":"SUM(Q262:AB262)","v":0}]
[{"$nulls":12},{"$f":"SUM(Q263:AB263)","v":0}]
[{"$nulls":12},0]
[{"$nulls":4},"（５）地域活性化に有効利用するための設備",{"$nulls":7},{"$f":"SUM(M266:P268)","v":0},{"$nulls":3},{"$f":"SUM(Q266:T268)","v":0},{"$nulls":3},{"$f":"SUM(U266:X268)","v":0},{"$nulls":3},{"$f":"SUM(Y266:AB268)","v":0}]
[{"$nulls":12},{"$f":"SUM(Q266:AB266)","v":0}]
[{"$nulls":12},{"$f":"SUM(Q267:AB267)","v":0}]
[{"$nulls":12},0]
[{"$nulls":4},"合　計",{"$nulls":7},{"$f":"M248+M223","v":0},{"$nulls":3},{"$f":"Q248+Q223","v":0},{"$nulls":3},{"$f":"U248+U223","v":0},{"$nulls":3},{"$f":"Y248+Y223","v":0}]
[{"$nulls":5},"注11　対象経費を確認するための積算又は見積書等の根拠資料を添付してください。なお、（１）から"]
[{"$nulls":5},"　　（５）までの施設等を運用するために必要となるソフトウェアは各項目において含むものとする。"]
[{"$nulls":5},"注12　「経費区分」は実施要領第13に示す区分毎に記載してください。"]
[{"$nulls":5},"注13　「他の補助金等」又は「自己資金」がある場合は、備考欄に資金の性格（相手方、資金の受入時"]
[{"$nulls":5},"　　期等）を記載してください。"]
[]
[{"$nulls":4},"８．目標"]
[]
[{"$nulls":4},"（１）目標及び評価指標（注14）"]
[]
[{"$nulls":4},"目標\n（設定項目は○を入力）",{"$nulls":14},"単位",null,"目標値"]
[{"$nulls":21},"現状",{"$nulls":6},"目標年度"]
[null,"○","○",{"$nulls":22},"年度 ",{"$nulls":7},"年度 "]
[{"$nulls":4},"１）農業農村インフラの管理の省力化・高度化に関する目標"]
[null,"○","○",null,null,"（例：導入施設数、受益面積等）"]
[{"$nulls":4},"２）スマート農業の導入に関する目標"]
[{"$nulls":5},"（例：導入面積、農業者数等）"]
[{"$nulls":4},"３）地域活性化等に関する目標"]
[{"$nulls":5},"（例：移住・定住、交流人口増加率、施設利用者数等）"]
[]
[{"$nulls":4},"（２）計測方法（定量的指標数値）（注14）"]
[]
[null,"○","○"]
[{"$nulls":5},"注14　「目標値」には事業内容に応じた数値を定量的に記入してください。なお、農業農村インフラの"]
[{"$nulls":5},"　　管理の省力化・高度化に関する目標又はスマート農業の導入に関する目標は必須となります。"]
[{"$nulls":5},"　　計測方法（定量的指標数値）は各目標毎に具体的な内容と手法について必ず記入してください。"]
[]
[{"$nulls":4},"９．その他事業実施に必要な事項"]
[]
[null,"○","○",null,"本事業との連携を図る関連事業（注15）"]
[]
[{"$nulls":4},"その他記載事項"]
[]
[{"$nulls":5},"注15　地区における情報通信環境整備の推進のため、本交付金と併せて農林水産省の他事業や、他省庁"]
[{"$nulls":5},"　　の関連政策事業を活用して事業を実施する、又は既に実施している場合、また、整備した施設と連"]
[{"$nulls":5},"　　携して農業農村インフラの管理の省力化・高度化、スマート農業及び地域活性化の促進を図る関連"]
[{"$nulls":5},"　　事業について、省庁名、取組内容、取組時期等を記載してください。"]
[]
[null,"○","○",null,"10．事業実施計画及び実施位置図",{"$nulls":12},"※別紙様式第２号により作成し添付してください。"]
[]
[]
[{"$nulls":4},"11．添付資料（注16・17）"]
[]
[null,"○","○",{"$nulls":3}," 設立が確認できる規約等の資料（事業実施主体が地域協議会の場合）"]
[null,"○","○",{"$nulls":3}," 連携する事業に関する資料"]
[null,null,"○",{"$nulls":3}," 施設の管理者の同意書（施設整備事業を実施する場合）"]
[null,null,"○",{"$nulls":3}," 費用負担者の同意書（施設整備事業を実施する場合）"]
[null,"○","○",{"$nulls":3}," 別添様式チェックリスト"]
[{"$nulls":5},"注16　□欄に○を記入してください。なお、「連携する事業」とは、９．に記載する事業です。"]
[{"$nulls":5},"注17　添付書類のうち申請者のウェブサイトにおいて閲覧が可能な場合は、当該ウェブサイトのＵＲＬ"]
[{"$nulls":5},"　　を記載することにより当該資料の添付を省略することができます。その場合は、９．の「その他記"]
[{"$nulls":5},"　　載事項欄」に記載してください。"]

{"sheet":"様式第１号 (2)","index":1,"n_rows":50,"n_cols":32,"rows_kept":50,"merged":[[2,25,2,29],[4,0,5,31],[6,0,6,31],[12,0,13,9],[12,10,12,12],[12,13,12,31],[13,13,13,31],[14,0,15,9],[14,10,14,12],[14,13,14,31],[15,13,15,31],[16,0,21,9],[16,10,18,16],[16,18,16,19],[16,21,16,23],[16,24,16,31],[17,17,18,31],[19,10,19,16],[19,17,19,19],[19,21,19,22],[19,24,19,26],[19,27,19,31],[20,10,20,16],[20,17,20,19],[20,21,20,22],[20,24,20,26],[20,27,20,31],[21,10,21,16],[21,17,21,31],[24,0,24,31],[27,0,27,31],[30,0,30,31],[33,0,33,6],[33,7,33,11],[33,12,33,16],[33,17,33,21],[33,22,33,26],[33,27,33,31],[34,0,34,6],[34,7,34,11],[34,12,34,16],[34,17,34,21],[34,22,34,26],[34,27,34,31],[35,0,35,6],[35,7,35,11],[35,12,35,16],[35,17,35,21],[35,22,35,26],[35,27,35,31],[36,0,36,6],[36,7,36,11],[36,12,36,16],[36,17,36,21],[36,22,36,26],[36,27,36,31],[37,0,37,6],[37,7,37,11],[37,12,37,16],[37,17,37,21],[37,22,37,26],[37,27,37,31],[38,0,38,6],[38,7,38,11],[38,12,38,16],[38,17,38,21],[38,22,38,26],[38,27,38,31],[39,0,39,6],[39,7,39,11],[39,12,39,16],[39,17,39,21],[39,22,39,26],[39,27,39,31],[40,0,40,6],[40,7,40,11],[40,12,40,16],[40,17,40,21],[40,22,40,26],[40,27,40,31],[41,0,41,6],[41,7,41,11],[41,12,41,16],[41,17,41,21],[41,22,41,26],[41,27,41,31],[42,0,42,6],[42,7,42,11],[42,12,42,16],[42,17,42,21],[42,22,42,26],[42,27,42,31],[43,0,43,6],[43,7,43,11],[43,12,43,16],[43,17,43,21],[43,22,43,26],[43,27,43,31],[44,0,44,6],[44,7,44,11],[44,12,44,16],[44,17,44,21],[44,22,44,26],[44,27,44,31],[45,0,45,6],[45,7,45,11],[45,12,45,16],[45,17,45,21],[45,22,45,26],[45,27,45,31]]}
["（別紙様式第１号の２）"]
[]
[{"$nulls":25},"○○",{"$nulls":5},"年度"]
[]
["情報通信環境整備対策事業実施計画書"]
[]
[]
[]
["１．事業の種類"]
["　　計画策定事業のうち計画策定促進事業"]
[]
["２．事業実施主体の概要"]
["事業実施主体名",{"$nulls":9},"フリガナ"]
[]
["代表者氏名",{"$nulls":9},"フリガナ"]
[]
["事業実施主体住所及び\n連絡先",{"$nulls":9},"住所",{"$nulls":6},"〒",null,null,"-"]
[]
[]
[{"$nulls":10},"電話番号",{"$nulls":9},"-",null,null,"-"]
[{"$nulls":10},"ファクシミリ",{"$nulls":9},"-",null,null,"-"]
[{"$nulls":10},"電子メールアドレス"]
[]
["３．現状・課題"]
[]
[]
["４．課題に対する対応"]
[]
[]
["５．事業実施内容"]
[]
[]
["６．事業計画とその経費の内訳注１～３",{"$nulls":30},"【単位：千円】"]
["取組内容",{"$nulls":6},"総事業費",{"$nulls":4},"本交付金",{"$nulls":4},"他の補助金",{"$nulls":4},"自己資金等",{"$nulls":4},"備　考"]
[{"$nulls":7},"①＝②＋③＋④",{"$nulls":4},"②",{"$nulls":4},"③",{"$nulls":4},"④"]
["(1) 農業農村の情報通信環境整備に関する全国横断的な課題への対応策の検討及び横展開に関する取組",{"$nulls":6},{"$f":"SUM(H37:L40)","v":0},{"$nulls":4},{"$f":"SUM(M37:Q40)","v":0},{"$nulls":4},{"$f":"SUM(R37:V40)","v":0},{"$nulls":4},{"$f":"SUM(W37:AA40)","v":0}]
[{"$nulls":7},{"$f":"SUM(M37:AA37)","v":0}]
[{"$nulls":7},{"$f":"SUM(M38:AA38)","v":0}]
[{"$nulls":7},{"$f":"SUM(M39:AA39)","v":0}]
[{"$nulls":7},{"$f":"SUM(M40:AA40)","v":0}]
["(2) 農業農村の情報通信環境整備に取り組む地区への専門的な課題サポートに関する取組",{"$nulls":6},{"$f":"SUM(H42:L45)","v":0},{"$nulls":4},{"$f":"SUM(M42:Q45)","v":0},{"$nulls":4},{"$f":"SUM(R42:V45)","v":0},{"$nulls":4},{"$f":"SUM(W42:AA45)","v":0}]
[{"$nulls":7},{"$f":"SUM(M42:AA42)","v":0}]
[{"$nulls":7},{"$f":"SUM(M43:AA43)","v":0}]
[{"$nulls":7},{"$f":"SUM(M44:AA44)","v":0}]
[{"$nulls":7},{"$f":"SUM(M45:AA45)","v":0}]
["計",{"$nulls":6},{"$f":"H36+H41","v":0},{"$nulls":4},{"$f":"M36+M41","v":0},{"$nulls":4},{"$f":"R36+R41","v":0},{"$nulls":4},{"$f":"W36+W41","v":0}]
[null,"注１　対象経費を確認するための積算又は見積書等の根拠資料を添付してください。"]
[null,"注２　「経費区分」は実施要領第13に示す区分毎に記載してください。"]
[null,"注３　「他の補助金等」又は「自己資金」がある場合は、備考欄に資金の性格（相手方、資金の受入時"]
[null,"　　期等）を記載してください。"]

{"sheet":"様式第２号","index":2,"n_rows":29,"n_cols":5,"rows_kept":29,"merged":[[2,0,2,4]]}
["（別紙様式第２号）"]
[]
["（１）○○年度農山漁村振興交付金（情報通信環境整備対策）　年度別事業実施計画"]
["事業名","事業実施期間","事業実施主体","事業実施内容","交付額等（円）"]
["１．計画策定事業"]
[null,"○年度",null,"○年度（実績）","（事業実績額）"]
[null,"～○年度"]
[{"$nulls":4},"（交付実績額）"]
[]
[]
[]
[]
[{"$nulls":3},"○年度（計画）","（事業予定額）"]
[]
[{"$nulls":4},"（交付予定額）"]
[]
[]
[]
["２．施設整備事業"]
[null,"○年度",null,"○年度（実績）","（事業実績額）"]
[null,"～○年度"]
[{"$nulls":4},"（交付実績額）"]
[]
[]
[]
[]
[{"$nulls":3},"○年度（計画）","（事業予定額）"]
[]
[{"$nulls":4},"（交付予定額）"]

{"sheet":"様式第２号 (2)","index":3,"n_rows":44,"n_cols":19,"rows_kept":44,"merged":[[2,17,2,18],[3,0,6,0],[3,1,6,1],[3,2,6,2],[3,3,4,4],[3,7,6,7],[3,8,4,9],[3,10,3,17],[3,18,6,18],[4,10,4,11],[4,12,4,13],[4,14,4,15],[4,16,4,17],[5,3,6,3],[5,4,6,4],[7,0,9,0],[7,1,9,1],[7,2,9,2],[7,3,9,3],[7,4,9,4],[7,5,9,5],[7,6,9,6],[7,18,9,18],[10,0,12,0],[10,1,12,1],[10,2,12,2],[10,3,12,3],[10,4,12,4],[10,5,12,5],[10,6,12,6],[10,18,12,18],[13,0,15,0],[13,1,15,1],[13,2,15,2],[13,3,15,3],[13,4,15,4],[13,5,15,5],[13,6,15,6],[13,18,15,18],[16,0,18,0],[16,1,18,1],[16,2,18,2],[16,3,18,3],[16,4,18,4],[16,5,18,5],[16,6,18,6],[16,18,18,18],[19,0,21,0],[19,1,21,1],[19,2,21,2],[19,3,21,3],[19,4,21,4],[19,5,21,5],[19,6,21,6],[19,18,21,18],[22,0,24,0],[22,1,24,1],[22,2,24,2],[22,3,24,3],[22,4,24,4],[22,5,24,5],[22,6,24,6],[22,18,24,18],[25,0,27,0],[25,1,27,1],[25,2,27,2],[25,3,27,3],[25,4,27,4],[25,5,27,5],[25,6,27,6],[25,18,27,18],[28,0,30,0],[28,1,30,1],[28,2,30,2],[28,3,30,3],[28,4,30,4],[28,5,30,5],[28,6,30,6],[28,18,30,18],[31,0,33,0],[31,1,33,1],[31,2,33,2],[31,3,33,3],[31,4,33,4],[31,5,33,5],[31,6,33,6],[31,18,33,18],[34,0,36,0],[34,1,36,1],[34,2,36,2],[34,3,36,3],[34,4,36,4],[34,5,36,5],[34,6,36,6],[34,18,36,18],[37,0,39,0],[37,1,39,1],[37,2,39,2],[37,3,39,3],[37,4,39,4],[37,5,39,5],[37,6,39,6],[37,18,39,18]]}
["（別紙様式第２号）"]
[]
["（２）農山漁村振興交付金（情報通信環境整備対策）　年度別事業実施計画総括表",{"$nulls":16},"○○都道府県"]
["No.","市町村名","事業実施主体名","事業実施年度",{"$nulls":3},"事業名","負担区分（円）",null,"年度別事業内訳",{"$nulls":7},"備考"]
[{"$nulls":5},"受益面積","総事業費",{"$nulls":3},"前年度まで",null,"○年度【本年度】",null,"〇年度まで",null,"来年度以降残"]
[{"$nulls":3},"開始","終了","(ha)","（円）",null,"うち交付金","その他","事業費","うち交付金","事業費","うち交付金","事業費","うち交付金","事業費","うち交付金"]
[{"$nulls":8},"（円）","（円）","（円）","（円）","（円）","（円）","（円）","（円）","（円）","（円）"]
[1,{"$nulls":5},{"$f":"SUM(I10:J10)","v":0},"計画策定事業",{"$nulls":6},{"$f":"K8+M8","v":0},{"$f":"L8+N8","v":0},{"$f":"SUM(I8:J8)-K8-M8","v":0},{"$f":"I8-L8-N8","v":0}]
[{"$nulls":7},"施設整備事業",{"$nulls":6},{"$f":"K9+M9","v":0},{"$f":"L9+N9","v":0},{"$f":"SUM(I9:J9)-K9-M9","v":0},{"$f":"I9-L9-N9","v":0}]
[{"$nulls":7},"計",{"$f":"SUM(I8:I9)","v":0},0,0,0,0,0,0,0,0,0]
[2,{"$nulls":5},{"$f":"SUM(I13:J13)","v":0},"計画策定事業",{"$nulls":6},{"$f":"K11+M11","v":0},{"$f":"L11+N11","v":0},{"$f":"SUM(I11:J11)-K11-M11","v":0},{"$f":"I11-L11-N11","v":0}]
[{"$nulls":7},"施設整備事業",{"$nulls":6},{"$f":"K12+M12","v":0},{"$f":"L12+N12","v":0},{"$f":"SUM(I12:J12)-K12-M12","v":0},{"$f":"I12-L12-N12","v":0}]
[{"$nulls":7},"計",{"$f":"SUM(I11:I12)","v":0},0,0,0,0,0,0,0,0,0]
[3,{"$nulls":5},{"$f":"SUM(I16:J16)","v":0},"計画策定事業",{"$nulls":6},{"$f":"K14+M14","v":0},{"$f":"L14+N14","v":0},{"$f":"SUM(I14:J14)-K14-M14","v":0},{"$f":"I14-L14-N14","v":0}]
[{"$nulls":7},"施設整備事業",{"$nulls":6},{"$f":"K15+M15","v":0},{"$f":"L15+N15","v":0},{"$f":"SUM(I15:J15)-K15-M15","v":0},{"$f":"I15-L15-N15","v":0}]
[{"$nulls":7},"計",{"$f":"SUM(I14:I15)","v":0},0,0,0,0,0,0,0,0,0]
[4,{"$nulls":5},{"$f":"SUM(I19:J19)","v":0},"計画策定事業",{"$nulls":6},{"$f":"K17+M17","v":0},{"$f":"L17+N17","v":0},{"$f":"SUM(I17:J17)-K17-M17","v":0},{"$f":"I17-L17-N17","v":0}]
[{"$nulls":7},"施設整備事業",{"$nulls":6},{"$f":"K18+M18","v":0},{"$f":"L18+N18","v":0},{"$f":"SUM(I18:J18)-K18-M18","v":0},{"$f":"I18-L18-N18","v":0}]
[{"$nulls":7},"計",{"$f":"SUM(I17:I18)","v":0},0,0,0,0,0,0,0,0,0]
[5,{"$nulls":5},{"$f":"SUM(I22:J22)","v":0},"計画策定事業",{"$nulls":6},{"$f":"K20+M20","v":0},{"$f":"L20+N20","v":0},{"$f":"SUM(I20:J20)-K20-M20","v":0},{"$f":"I20-L20-N20","v":0}]
[{"$nulls":7},"施設整備事業",{"$nulls":6},{"$f":"K21+M21","v":0},{"$f":"L21+N21","v":0},{"$f":"SUM(I21:J21)-K21-M21","v":0},{"$f":"I21-L21-N21","v":0}]
[{"$nulls":7},"計",{"$f":"SUM(I20:I21)","v":0},0,0,0,0,0,0,0,0,0]
[6,{"$nulls":5},{"$f":"SUM(I25:J25)","v":0},"計画策定事業",{"$nulls":6},{"$f":"K23+M23","v":0},{"$f":"L23+N23","v":0},{"$f":"SUM(I23:J23)-K23-M23","v":0},{"$f":"I23-L23-N23","v":0}]
[{"$nulls":7},"施設整備事業",{"$nulls":6},{"$f":"K24+M24","v":0},{"$f":"L24+N24","v":0},{"$f":"SUM(I24:J24)-K24-M24","v":0},{"$f":"I24-L24-N24","v":0}]
[{"$nulls":7},"計",{"$f":"SUM(I23:I24)","v":0},0,0,0,0,0,0,0,0,0]
[7,{"$nulls":5},{"$f":"SUM(I28:J28)","v":0},"計画策定事業",{"$nulls":6},{"$f":"K26+M26","v":0},{"$f":"L26+N26","v":0},{"$f":"SUM(I26:J26)-K26-M26","v":0},{"$f":"I26-L26-N26","v":0}]
[{"$nulls":7},"施設整備事業",{"$nulls":6},{"$f":"K27+M27","v":0},{"$f":"L27+N27","v":0},{"$f":"SUM(I27:J27)-K27-M27","v":0},{"$f":"I27-L27-N27","v":0}]
[{"$nulls":7},"計",{"$f":"SUM(I26:I27)","v":0},0,0,0,0,0,0,0,0,0]
[8,{"$nulls":5},{"$f":"SUM(I31:J31)","v":0},"計画策定事業",{"$nulls":6},{"$f":"K29+M29","v":0},{"$f":"L29+N29","v":0},{"$f":"SUM(I29:J29)-K29-M29","v":0},{"$f":"I29-L29-N29","v":0}]
[{"$nulls":7},"施設整備事業",{"$nulls":6},{"$f":"K30+M30","v":0},{"$f":"L30+N30","v":0},{"$f":"SUM(I30:J30)-K30-M30","v":0},{"$f":"I30-L30-N30","v":0}]
[{"$nulls":7},"計",{"$f":"SUM(I29:I30)","v":0},0,0,0,0,0,0,0,0,0]
[9,{"$nulls":5},{"$f":"SUM(I34:J34)","v":0},"計画策定事業",{"$nulls":6},{"$f":"K32+M32","v":0},{"$f":"L32+N32","v":0},{"$f":"SUM(I32:J32)-K32-M32","v":0},{"$f":"I32-L32-N32","v":0}]
[{"$nulls":7},"施設整備事業",{"$nulls":6},{"$f":"K33+M33","v":0},{"$f":"L33+N33","v":0},{"$f":"SUM(I33:J33)-K33-M33","v":0},{"$f":"I33-L33-N33","v":0}]
[{"$nulls":7},"計",{"$f":"SUM(I32:I33)","v":0},0,0,0,0,0,0,0,0,0]
[10,{"$nulls":5},{"$f":"SUM(I37:J37)","v":0},"計画策定事業",{"$nulls":6},{"$f":"K35+M35","v":0},{"$f":"L35+N35","v":0},{"$f":"SUM(I35:J35)-K35-M35","v":0},{"$f":"I35-L35-N35","v":0}]
[{"$nulls":7},"施設整備事業",{"$nulls":6},{"$f":"K36+M36","v":0},{"$f":"L36+N36","v":0},{"$f":"SUM(I36:J36)-K36-M36","v":0},{"$f":"I36-L36-N36","v":0}]
[{"$nulls":7},"計",{"$f":"SUM(I35:I36)","v":0},0,0,0,0,0,0,0,0,0]
["計",{"$nulls":4},{"$f":"SUM(F8:F37)","v":{"v":0,"d":"0.0"}},{"$f":"SUM(G8:G37)","v":0},"計画策定事業",{"$f":"SUMIF($H$8:$H$37,$H38,I$8:I$37)","v":0},0,0,0,0,0,0,0,0,0]
[{"$nulls":7},"施設整備事業",0,0,0,0,0,0,0,0,0,0]
[{"$nulls":7},"計",0,0,0,0,0,0,0,0,0,0]
[]
["（３）実施位置図"]
[]
[null,"別添のとおり。"]

{"sheet":"実施位置図","index":4,"n_rows":66,"n_cols":20,"rows_kept":66,"merged":[[2,1,2,14],[2,17,2,27],[3,19,3,27],[4,17,4,18],[4,19,4,27],[5,17,5,18],[5,19,5,27],[6,17,6,18],[6,19,6,27],[7,17,7,18],[7,19,7,27],[8,17,8,18],[8,19,8,27],[9,17,9,18],[9,19,9,27],[10,17,10,18],[10,19,10,27],[11,17,11,18],[11,19,11,27],[12,17,12,18],[12,19,12,27],[13,17,13,18],[13,19,13,27],[14,17,14,18],[14,19,14,27],[15,17,15,18],[15,19,15,27],[16,17,16,18],[16,19,16,27],[17,17,17,18],[17,19,17,27],[18,17,18,18],[18,19,18,27],[19,17,19,18],[19,19,19,27],[20,17,20,18],[20,19,20,27],[21,17,21,18],[21,19,21,27],[22,17,22,18],[22,19,22,27],[23,17,23,18],[23,19,23,27],[24,17,24,18],[24,19,24,27],[25,17,25,18],[25,19,25,27],[26,17,26,18],[26,19,26,27],[27,17,27,18],[27,19,27,27],[32,2,33,2],[32,3,33,3],[32,4,32,6],[32,8,32,12],[32,13,33,13],[33,9,33,10],[58,17,58,27],[59,17,59,27],[60,17,60,27],[61,17,61,18],[61,19,61,27],[62,17,62,18],[62,19,62,27],[63,17,63,18],[63,19,63,27],[64,17,64,18],[64,19,64,27],[65,17,65,18],[65,19,65,27]]}
[{"$nulls":17},"情報通信環境施設（通信端末含む）を導入する工種です。"]
[{"$nulls":17},"適宜追加し、左図に貼り付けること。"]
[null,"農山漁村振興交付金（情報通信環境整備対策）　　○○地区　実施位置図",{"$nulls":15},"凡　例"]
[{"$nulls":19},"計画策定事業実施区域"]
[{"$nulls":19},"農振農用地区域"]
[{"$nulls":19},"受益農地"]
[{"$nulls":19},"用水路"]
[{"$nulls":19},"排水路"]
[{"$nulls":19},"農道"]
[{"$nulls":19},"揚水機場"]
[{"$nulls":19},"排水機場"]
[{"$nulls":19},"ため池、ファームポンド"]
[{"$nulls":17},"C",null,"ダム"]
[{"$nulls":19},"頭首工、取水堰"]
[{"$nulls":17},"C",null,"中央管理施設"]
[{"$nulls":19},"農業集落排水施設"]
[{"$nulls":19},"営農飲雑用水施設"]
[{"$nulls":19},"その他活性化施設等"]
[{"$nulls":19},"無線基地局"]
[{"$nulls":19},"光ファイバ（新設）"]
[{"$nulls":19},"光ファイバ（既設）"]
[{"$nulls":19},"RTK-GNSS基準局"]
[{"$nulls":19},"局舎（新設）"]
[{"$nulls":19},"局舎（既設）"]
[{"$nulls":19},"スマート農業新規導入地域"]
[{"$nulls":19},"スマート鳥獣害対策新規導入地域"]
[{"$nulls":19},"流域治水計画エリア"]
[{"$nulls":19},"小さな拠点"]
[{"$nulls":17},"※ 既設光ファイバは既設局舎から新設区間までの記載で構いません。"]
[]
[]
[null,null,"各工種番号別詳細表"]
[null,null,"No.","工　種","過去の実施事業",null,null,"受益面積","情報通信環境整備",{"$nulls":4},"備考"]
[{"$nulls":4},"事業名","地区名","完了","[ha]","規格","数量",null,"計画","完了"]
[null,null,1]
[null,null,2]
[null,null,3]
[null,null,4]
[null,null,5]
[null,null,6]
[null,null,7]
[null,null,8]
[null,null,9]
[null,null,10]
[null,null,11]
[null,null,12]
[null,null,13]
[null,null,14]
[null,null,15]
[null,null,16]
[null,null,17]
[null,null,18]
[null,null,19]
[null,null,20]
[null,null,21]
[]
[]
[]
[{"$nulls":17},"凡　例"]
[{"$nulls":17},"　○C/○C/○C/○○m"]
[null,null,"○○地区　光系統図",{"$nulls":14},"　↑敷設芯数/交付対象芯数/使用芯数/敷設距離"]
[{"$nulls":19},"交付対象（前々年度までに敷設）"]
[{"$nulls":19},"交付対象（前年度までに敷設）"]
[{"$nulls":19},"交付対象（本年度敷設）"]
[{"$nulls":19},"交付対象（来年度以降敷設）"]
[{"$nulls":19},"交付対象外or既設使用"]

{"sheet":"様式第３号","index":5,"n_rows":51,"n_cols":32,"rows_kept":51,"merged":[[1,18,1,31],[2,21,2,24],[2,26,2,27],[2,29,2,30],[18,0,19,31],[21,0,23,31],[26,1,26,2],[26,3,26,30],[27,1,27,2],[27,3,27,30],[28,1,28,2],[28,3,28,30]]}
["（別紙様式第３号）"]
[{"$nulls":18},"番　　　号"]
[{"$nulls":25},"年",null,null,"月",null,null,"日"]
[]
[]
[null,"都道府県知事",{"$nulls":18},"殿"]
[null,"地方農政局長"]
[null,"北海道及び別表第１の１の区分の欄のイの事業に"]
[null,"あっては農林水産省農村振興局長"]
[null,"沖縄県にあっては内閣府沖縄総合事務局長"]
[]
[]
[]
[{"$nulls":23},"事業実施主体代表"]
[{"$nulls":23},"（市町村長等）"]
[{"$nulls":23},"〔都道府県知事〕"]
[]
[]
["○○年度農山漁村振興交付金（情報通信環境整備対策）の関係書類の提出（報告）について"]
[]
[]
["　農山漁村振興交付金（情報通信環境整備対策）実施要領（令和３年４月１日付け２農振第3729号農林水産省農村振興局長通知）第５（第15）の規定に基づき、以下の事項について、関係書類を添えて提出（報告）します。"]
[]
[]
[]
[]
[{"$nulls":3},"情報通信環境整備対策事業実施計画の承認（変更）について "]
[{"$nulls":3},"年度別事業実施計画の提出について"]
[{"$nulls":3},"事業実施評価の報告について "]
[null,"※該当する事項に「○」を記入してください。"]
{"$rows_empty":20}
["注：〔〕内は都道府県知事から地方農政局長等へ報告する場合"]

{"sheet":"様式第４号","index":6,"n_rows":51,"n_cols":32,"rows_kept":51,"merged":[[1,18,1,31],[2,21,2,24],[2,26,2,27],[2,29,2,30],[11,0,11,31],[13,0,17,31]]}
["（別紙様式第４号）"]
[{"$nulls":18},"番　　　号"]
[{"$nulls":25},"年",null,null,"月",null,null,"日"]
[]
[]
[null,"都道府県知事　殿"]
[null,"〔民間団体代表取締役等〕"]
[]
[{"$nulls":23},"地方農政局長等"]
[]
[]
["○○年度情報通信環境整備対策事業実施計画に係る承認通知について"]
[]
["　（年月日）付け（文書番号）で提出のあった、情報通信環境整備対策事業実施計画及び年度別実施計画について承認したので通知する。\n　ただし、事業の実施に要する経費は、農山漁村振興交付金（情報通信環境整備対策）実施要領（令和３年４月１日付け２農振第3729号農村振興局長通知）第６の規定に基づくものとし、事業費への助成については予算の範囲内で行うものとする。"]
{"$rows_empty":34}
["（注１）〔〕内は別表第１の区分の欄の１のイの事業の場合"]
["（注２）別表第１の区分の欄の１のイの事業の場合は、「情報通信環境整備対策事業実施計画及び年度別実施計画」"]
["　　　　を「情報通信環境整備対策事業実施計画」として記載すること。"]

{"sheet":"様式第５号","index":7,"n_rows":68,"n_cols":29,"rows_kept":68,"merged":[[2,0,2,31],[6,1,6,15],[9,1,9,15],[13,1,13,5],[13,6,13,12],[13,13,13,19],[13,20,13,30],[14,1,14,5],[14,6,14,12],[14,13,14,19],[14,20,14,30],[15,1,15,5],[15,6,15,12],[15,13,15,19],[15,20,15,30],[16,1,16,5],[16,6,16,12],[16,13,16,19],[16,20,16,30],[17,1,17,5],[17,6,17,12],[17,13,17,19],[17,20,17,30],[18,1,18,5],[18,6,18,12],[18,13,18,19],[18,20,18,30],[19,1,19,5],[19,6,19,12],[19,13,19,19],[19,20,19,30],[22,3,22,10],[25,3,25,10],[25,12,25,19],[29,1,30,19],[29,20,29,30],[30,20,30,21],[30,22,30,24],[30,25,30,27],[30,28,30,30],[31,1,31,19],[31,20,32,21],[31,22,32,24],[31,25,32,27],[31,28,32,30],[32,1,32,19],[33,1,33,19],[33,20,34,21],[33,22,34,24],[33,25,34,27],[33,28,34,30],[34,1,34,19],[35,1,35,19],[35,20,36,21],[35,22,36,24],[35,25,36,27],[35,28,36,30],[36,1,36,19],[39,1,48,6],[39,7,39,30],[40,7,40,30],[41,7,41,30],[42,7,42,30],[43,7,43,30],[44,7,44,30],[45,7,45,30],[46,7,46,30],[47,7,47,30],[48,7,48,30],[49,1,58,6],[49,7,49,30],[50,7,50,30],[51,7,51,30],[52,7,52,30],[53,7,53,30],[54,7,54,30],[55,7,55,30],[56,7,56,30],[57,7,57,30],[58,7,58,30],[59,1,68,6],[59,7,59,30],[60,7,60,30],[61,7,61,30],[62,7,62,30],[63,7,63,30],[64,7,64,30],[65,7,65,30],[66,7,66,30],[67,7,67,30],[68,7,68,30]]}
["（別紙様式第５号）"]
[]
["○○年度　農山漁村振興交付金（情報通信環境整備対策）　事業評価書"]
[]
[]
["１．交付対象事業"]
[]
[]
["２．事業実施主体名"]
[]
[]
["３．事業概要"]
[null,"（１）事業費・交付額"]
[null,"年度",{"$nulls":4},"事業費",{"$nulls":6},"交付額",{"$nulls":6},"備考"]
[]
[]
[]
[]
[]
[null,"計",{"$nulls":4},{"$f":"IF(COUNT(G15:M19)=0,\"円\",TEXT(SUM(G15:M19),\"#,##0\")&\"円\")","v":"円"},{"$nulls":6},{"$f":"IF(COUNT(N15:T19)=0,\"円\",TEXT(SUM(N15:T19),\"#,##0\")&\"円\")","v":"円"}]
[]
[null,"（２）受益面積"]
[{"$nulls":3},{"$f":"IF(様式第1号!AE112=\"\",\"○○ha\",様式第1号!AE112&\"ha\")","v":"○○ha"}]
[]
[null,"（３）事業実施期間"]
[{"$nulls":3},"○年○月○日",{"$nulls":7},"～","○年○月○日"]
[]
["４．事業実施結果"]
[null,"（１）目標達成状況"]
[null,"目標",{"$nulls":18},"達成状況"]
[{"$nulls":20},"単位",null,"目標値",null,null,"達成値",null,null,"達成率"]
[null,"１）農業農村インフラの管理の省力化・高度化に関する目標",{"$nulls":18},{"$f":"IF(様式第1号!T284=\"\",\"\",様式第1号!T284)","v":""},null,{"$f":"IF(様式第1号!AF284=\"\",\"\",様式第1号!AF284)","v":""},{"$nulls":5},{"$f":"IF(W32=\"\",\"\",Z32/W32)","v":""}]
[null,"（例：導入施設数、受益面積等）"]
[null,"２）スマート農業の導入に関する目標",{"$nulls":18},{"$f":"IF(様式第1号!T286=\"\",\"\",様式第1号!T286)","v":""},null,{"$f":"IF(様式第1号!AF286=\"\",\"\",様式第1号!AF286)","v":""},{"$nulls":5},{"$f":"IF(W34=\"\",\"\",Z34/W34)","v":""}]
[null,{"$f":"IF(様式第1号!F286=\"（例：移住・定住、交流人口増加率、施設利用者数等）\",\"\",様式第1号!F286)","v":"（例：導入面積、農業者数等）"}]
[null,"３）地域活性化等に関する目標",{"$nulls":18},{"$f":"IF(様式第1号!T288=\"\",\"\",様式第1号!T288)","v":""},null,{"$f":"IF(様式第1号!AF288=\"\",\"\",様式第1号!AF288)","v":""},{"$nulls":5},{"$f":"IF(W36=\"\",\"\",Z36/W36)","v":""}]
[null,{"$f":"IF(様式第1号!F288=\"（例：導入面積、農業者数等）\",\"\",様式第1号!F288)","v":"（例：移住・定住、交流人口増加率、施設利用者数等）"}]
[]
["５．実績評価"]
[null,"(1) 農業農村インフラの管理の省力化・高度化に関する取組",{"$nulls":5},"目標の達成状況等の総合的評価"]
[]
[{"$nulls":7},"取組状況"]
[]
[{"$nulls":7},"事業実績"]
[]
[{"$nulls":7},"実施体制"]
[]
[{"$nulls":7},"その他の事項"]
[]
[null,"(2) スマート農業の導入に関する取組",{"$nulls":5},"目標の達成状況等の総合的評価"]
[]
[{"$nulls":7},"取組状況"]
[]
[{"$nulls":7},"事業実績"]
[]
[{"$nulls":7},"実施体制"]
[]
[{"$nulls":7},"その他の事項"]
[]
[null,"(3) 地域活性化に関する取組",{"$nulls":5},"目標の達成状況等の総合的評価"]
[]
[{"$nulls":7},"取組状況"]
[]
[{"$nulls":7},"事業実績"]
[]
[{"$nulls":7},"実施体制"]
[]
[{"$nulls":7},"その他の事項"]

{"sheet":"要領別表第２","index":8,"n_rows":58,"n_cols":7,"rows_kept":58,"merged":[[2,0,2,3],[8,1,8,2]]}
["（別表第２）"]
[]
["【農山漁村振興交付金（情報通信環境整備対策） チェックリスト】"]
[]
[{"$nulls":3},"事業主体名：　　　　　　　　　",null,"チェック数",{"$f":"COUNTIF(E10:E58,TRUE)","v":0}]
[{"$nulls":3},"　年　月　日申請分"]
[]
[]
["項目","審査内容",null,"チェック"]
["１．地域の概要","・","当該計画の対象施設の現状と、事業の背景となる地域農業の現状等が整理されている。",null,false]
["２．事業実施地区の現状、\n　　課題等","・","地域が抱える課題とその対応方針、事業との関連性が整理されている。"]
[null,null,"(1) 農業農村インフラの管理状況及び現状及び今後の課題が明記されている。",null,false]
[null,null,"(2) スマート農業の取組状況と課題が明記されている。",null,false]
[null,null,"(3) 地域活性化に関する取組状況と課題が明記されている。",null,false]
[null,null,"(4) そのほか生活面における情報通信に関する課題が明記されている。",null,false]
["３．事業内容"]
["　（１）計画策定事業"]
["　　　ア　必要性","・","取組の概要について、地域の課題解決や目的達成の観点から、当該事業が必要なものとなっている。",null,false]
["　　　イ　実施期間","・","事業が計画された工期内で完了することが見込まれるものである。",null,false]
["　　　ウ　実施要件","・","事業実施要綱・要領に規定された事業内容、実施要件に適合している。",null,false]
[null,"・","試行調査の数量が過大なものになっていない。",null,false]
["　（２）施設整備事業"]
["　　　ア　必要性","・","地域の課題解決や目的達成の観点から、当該事業が必要なものとなっている。",null,false]
["　　　イ　技術的可能性","・","当該事業の施行が技術的に可能である。",null,false]
["　　　ウ　効率性","・","当該事業の効用の発現が見込まれ、事業の効率性が十分見込まれる。",null,false]
[null,"・","導入する通信規格が地域の実情に沿って検討されたものである。",null,false]
["　　　エ　実施期間","・","事業が計画された工期内で完了することが見込まれるものである。",null,false]
["　　　オ　実施要件","・","上記のほか、事業実施要綱・要領に規定された事業内容、実施要件に適合している。",null,false]
["４．施設整備後の維持管\n　　理・運用","・","施設管理予定者が明記され、適切に維持管理できる体制となっている。",null,false]
[null,"・","利用料徴収を行う計画とし、施設等の継続的活用を図り得るための維持管理及び更新に必要な資金の積立に努める体制を検討している。",null,false]
["５．事業の目標","・","課題に対応した目標が設定されている。"]
[null,null,"(1) 農業農村インフラの管理の省力化・高度化",null,false]
[null,null,"(2) スマート農業の導入",null,false]
[null,null,"(3) 地域活性化等",null,false]
[null,"・","目標に応じた定量的な評価指標が設定されている。",null,false]
[null,"・","事業を実施することにより、計画期間内に達成が見込まれる目標及び評価指標となっている。",null,false]
["６．各計画との整合性","・","自治体等で作成している各計画との連携、整合性が図られている。"]
[null,null,"(1) 自治体総合計画",null,false]
[null,null,"(2) 自治体農林水産計画",null,false]
[null,null,"(3) 自治体地域情報化計画",null,false]
[null,null,"(4) 自治体定住自立圏構想",null,false]
[null,null,"(5) その他事業の趣旨と関連した計画",null,false]
["７．他事業等との連携","・","整備する施設が他事業で定める計画等との連携が図られるものである。"]
[null,null,"(1) 農業農村整備事業における事業計画等",null,false]
[null,null,"(2) 農山漁村振興交付金の他対策における事業実施計画等",null,false]
[null,null,"(3) 日本型直接支払における事業計画等",null,false]
[null,null,"(4) 農地・農業水利施設を活用した流域治水の取組",null,false]
[null,null,"(5) 国土強靱化地域計画又は地域防災計画",null,false]
[null,null,"(6) 輸出・国際局長の承認を受けた輸出事業計画",null,false]
[null,null,"(7) スマート農業の導入に関する計画等",null,false]
[null,null,"(8) 地域における開発計画",null,false,"←「小さな拠点」の形成に関する取組等"]
[null,null,"(9) 他事業におけるICTを活用した計画",null,false]
[null,null,"(10) 地域再生計画",null,false]
[null,"・","環境と調和のとれた食料システムの確立のための環境負荷低減事業活動の促進等に関する法律（令和４年法律第37号）第16条第１項に基づく地方公共団体の基本計画に定められた特定区域において、地域における環境負荷低減の効果を高めるために必要な取組となっている、又は同法第19条第１項に基づく環境負荷低減事業活動実施計画若しくは同法第21条第１項に基づく特定環境負荷低減事業活動実施計画の認定を受けている。",null,false]
[null,"・","デジタル田園都市国家構想総合戦略（令和４年12月23日閣議決定）に規定する「デジ活」中山間地域として登録されている中山間地域等（その地域内において農林水産業又はその関連産業が営まれている中山間地域等に限る。）又はデジタル技術を活用しつつ、地域内外の多様な関係者が参加・連携し、及び多様な施策と連携して地域の社会課題の解決及び活性化が図られている地域（その地域内において農林水産業又はその関連産業が営まれている地域に限る。）において実施される取組である。",null,false]
[null,"・","「地域別農業振興計画」（中山間地農業ルネッサンス事業実施要綱（平成29年３月31日付け28農振第2275号農林水産事務次官依命通知）第２に基づく計画をいう。）が認定された地域において、実施される取組である。",null,false]
[null,"・","事業実施区域において、農業の生産性の向上のためのスマート農業技術の活用の促進に関する法律（令和６年法律第63号）第７条に基づく生産方式革新実施計画の認定を受けている者と連携し、実施される取組である。",null,false]
[null,"・","農業経営基盤強化促進法（昭和55年法律第65号）第19条第１項に基づく地域計画が策定された地域における取組と連携し、実施される取組である。",null,false]

{"sheet":"参考様式第１号","index":9,"n_rows":31,"n_cols":50,"rows_kept":31,"merged":[[1,0,5,54],[7,0,14,2],[7,3,7,42],[7,43,7,48],[7,49,7,54],[8,3,14,42],[9,53,9,54],[15,0,22,2],[15,3,15,42],[15,53,15,54],[16,3,22,42],[17,53,17,54],[23,0,28,2],[23,3,23,42],[23,53,23,54],[24,3,28,42],[29,0,38,2],[29,3,29,42],[29,53,29,54],[30,3,38,42],[39,0,39,54]]}
["（参考様式第１号）"]
["①農山漁村振興交付金（情報通信環境整備対策）は、事業実施期間中において、次の１から４まで\n　の取組の全ての項目を実施することが交付要件となっています（ただし、該当しない取組を除き\n　ます）。\n\n②事業実施期間中に実施する取組について、チェック欄に ✓ を記入してください。\n\n③本チェックシートにて報告された内容については、農林水産省が対象者を抽出し、\n　実施状況の確認を行います。"]
[]
[]
[]
[]
[]
[1,null,null,"エネルギーの節減",{"$nulls":39},"チェック欄\n（事業申請時）",{"$nulls":5},"チェック欄\n（実績報告時）"]
[{"$nulls":3},"〇施設・機械・器具等の電気・燃料の使用状況の記録・保存に努める。\n　　　　　　　　　　　　　　　　　　　　　　　　　　　　　　　　　　　　　（該当しない□）\n　\n〇省エネを意識し、不必要・非効率なエネルギー消費をしない（照明、空\n　 調、ウォームビズ・クールビス、排ガス対策機械の利用等）。（該当しない□）\n\n〇環境負荷低減に配慮した商品、原料等の調達を検討する。（該当しない□）"]
[]
[]
[]
[]
[]
[]
[2,null,null,"廃棄物の発生抑制、適正な循環的な利用及び適正な処分"]
[{"$nulls":3},"〇プラスチック等廃棄物の削減に努め、使用済みプラスチック等の廃棄物\n　が発生する場合は、関連する環境法令に応じた処分等に努めるなど\n　適切に対応する。（該当しない□）\n\n〇資源の再利用を検討する。（該当しない□）\n\n○食品を取り扱う場合は、食品ロスの削減に努める。（該当しない□）"]
[]
[]
[]
[]
[]
[]
[3,null,null,"生物多様性への悪影響の防止"]
[{"$nulls":3},"○生物多様性への影響が想定される工事等を実施する場合は、生物多様\n　性に配慮した事業実施に努める。（該当しない□）\n\n○水質汚濁防止法における特定施設に該当する場合は、排水処理に係る\n　水質汚濁防止法を遵守する。（該当しない□）"]
[]
[]
[]
[]
[4,null,null,"環境関係法令の遵守"]
[{"$nulls":3},"〇みどりの食料システムを理解する。\n\n〇適切な施肥・防除、悪臭及び害虫の発生防止、エネルギーの節減、廃棄\n　物の発生抑制、適正な循環的な利用及び適正な処分、生物多様性への悪\n　影響の防止等に際して、関連する法令を遵守する。\n\n〇環境配慮の取組方針の策定や研修による知見・情報の収集に努める。\n\n○機械等を扱う場合は、製造機械等の適切な整備と管理の実施に努める。\n　　　　　　　　　　　　　　　　　　　　　　　　　　　　　　　　　　　　　　　（該当しない□）\n〇正しい知識に基づく作業安全に努める。"]