{"text_format":"3","workbook":"xlsx","n_sheets":5,"sheets":["別紙様式第８号","別紙様式第９号","別紙様式第10号","（参考様式）別紙様式第15号入力補助シート","別紙様式15号"],"not_rendered":{"external_links":2,"defined_names":6,"comments":4},"read":"whole","date_system":"1900"}

{"sheet":"別紙様式第８号","index":0,"n_rows":31,"n_cols":17,"rows_kept":31,"merged":[[1,12,1,14],[1,15,1,17],[2,12,2,14],[2,15,2,17],[4,0,4,4],[4,5,4,9],[5,0,5,4],[5,5,5,9],[7,0,7,1],[7,2,7,6],[9,0,9,17],[12,1,12,2],[12,3,12,4],[12,6,12,9],[12,10,12,11],[12,12,12,13],[12,14,12,15],[12,16,12,17],[13,1,13,2],[13,3,13,4],[13,6,13,9],[13,10,13,11],[13,12,13,13],[13,14,13,15],[13,16,13,17],[14,1,14,2],[14,3,14,4],[14,6,14,9],[14,10,14,11],[14,12,14,13],[14,14,14,15],[14,16,14,17],[15,1,15,2],[15,3,15,4],[15,6,15,9],[15,10,15,11],[15,12,15,13],[15,14,15,15],[15,16,15,17],[16,1,16,2],[16,3,16,4],[16,6,16,9],[16,10,16,11],[16,12,16,13],[16,14,16,15],[16,16,16,17],[17,1,17,2],[17,3,17,4],[17,6,17,9],[17,10,17,11],[17,12,17,13],[17,14,17,15],[17,16,17,17],[18,1,18,2],[18,3,18,4],[18,6,18,9],[18,10,18,11],[18,12,18,13],[18,14,18,15],[18,16,18,17],[19,1,19,2],[19,3,19,4],[19,6,19,9],[19,10,19,11],[19,12,19,13],[19,14,19,15],[19,16,19,17],[20,1,20,2],[20,3,20,4],[20,6,20,9],[20,10,20,11],[20,12,20,13],[20,14,20,15],[20,16,20,17],[21,1,21,2],[21,3,21,4],[21,6,21,9],[21,10,21,11],[21,12,21,13],[21,14,21,15],[21,16,21,17],[22,1,22,2],[22,3,22,4],[22,6,22,9],[22,10,22,11],[22,12,22,13],[22,14,22,15],[22,16,22,17],[23,1,23,2],[23,3,23,4],[23,6,23,9],[23,10,23,11],[23,12,23,13],[23,14,23,15],[23,16,23,17],[24,0,24,17],[25,0,26,17],[27,0,28,17],[29,0,29,17],[30,0,32,17]]}
["別紙様式第８号"]
[{"$nulls":12},"文書番号（任意記載）"]
[{"$nulls":12},"提出年月日"]
[]
["事業実施主体名及び代表者氏名"]
["サポートセンター名"]
[]
["提出先"]
[]
["　　　令和〇年度　プランナー活動情報（登録者、活動実績、評価）について"]
[]
["プランナー情報（登録者、活動実績、評価）"]
[null,"所属及び役職",null,"氏名",null,"登録日","専門分野（実務経験、支援実績のあるもの",{"$nulls":3},"デジタル関連",null,"前年度の派遣実績※１",null,"〇年度派遣回数",null,"〇年度活動評価結果※２"]
[1]
[2]
[3]
[4]
[5]
[6]
[7]
[8]
[9]
[10]
["合計",{"$nulls":13},{"$f":"IF(SUM(O14:P23)=0,\"\",SUM(O14:P23))","v":""}]
["（必要に応じ、行を増やして記入すること。）"]
["※１　前年度の派遣実績（以下の１から３までのいずれかを記入すること）\n　1.派遣実績あり（選定を経て再登録）、2.派遣実績なし（登録実績あり、選定を経て再登録）、3.派遣実績なし（新規登録）"]
[]
["※２　〇年度の活動評価結果（以下の１から３までのいずれかを記入すること）\n　1.問題なし、2.問題あり、3.派遣実績なし"]
[]
["※３　デジタル関連については、簡単に内容を記載すること。"]
["※４　専門分野（実務経験、支援実績のあるもの）については、士業や各種アドバイザー、GAP指導員、HACCP指導員等資格をお持\n　　ちの場合は、最初に記載すること。その他、資格以外の専門分野についても、経営管理、生産技術、新商品企画、販路開拓、\n　　農泊、農福連携、輸出、IT活用等の分野を記載すること。いくつでも記載可。"]

{"sheet":"別紙様式第９号","index":1,"n_rows":30,"n_cols":19,"rows_kept":30,"merged":[[1,12,1,15],[1,16,1,18],[2,12,2,15],[2,16,2,18],[4,0,4,5],[4,6,4,10],[5,0,5,5],[5,6,5,10],[7,0,7,1],[7,2,7,7],[9,0,9,18],[12,0,12,3],[13,0,13,3],[14,0,14,3],[17,1,17,2],[18,1,18,2],[19,1,19,2],[20,1,20,2],[21,1,21,2],[22,1,22,2],[23,1,23,2],[24,1,24,2],[25,1,25,2],[26,1,26,2],[27,1,27,2],[28,1,28,2]]}
["別紙様式第９号"]
[{"$nulls":12},"文書番号（任意記載）"]
[{"$nulls":12},"提出年月日"]
[]
["事業実施主体名及び代表者氏名"]
["サポートセンター名",{"$nulls":5},"中央サポートセンター"]
[]
["提出先",null,"農村振興局長"]
[]
["　　　令和〇年度　中央プランナー等の派遣実績について"]
[]
["１　中央プランナーの派遣実績"]
["項目",{"$nulls":3},"４月","５月","６月","７月","８月","９月","小計","10月","11月","12月","１月","２月","３月","小計","合計"]
["派遣回数",{"$nulls":9},{"$f":"IF(SUM(E14:J14)=0,\"\",SUM(E14:J14))","v":""},{"$nulls":6},{"$f":"IF(SUM(L14:Q14)=0,\"\",SUM(L14:Q14))","v":""},{"$f":"IF(SUM(K14,R14)=0,\"\",SUM(K14,R14))","v":""}]
["うち認定事業者への派遣回数",{"$nulls":9},{"$f":"IF(SUM(E15:J15)=0,\"\",SUM(E15:J15))","v":""},{"$nulls":6},{"$f":"IF(SUM(L15:Q15)=0,\"\",SUM(L15:Q15))","v":""},{"$f":"IF(SUM(K15,R15)=0,\"\",SUM(K15,R15))","v":""}]
[]
["２　エグゼクティブプランナーの登録及び派遣実績"]
[null,"所属及び氏名",null,"登録日","４月","５月","６月","７月","８月","９月","小計","10月","11月","12月","１月","２月","３月","小計","合計"]
[1,{"$nulls":9},{"$f":"IF(SUM(E19:J19)=0,\"\",SUM(E19:J19))","v":""},{"$nulls":6},{"$f":"IF(SUM(L19:Q19)=0,\"\",SUM(L19:Q19))","v":""},{"$f":"IF(SUM(K19,R19)=0,\"\",SUM(K19,R19))","v":""}]
[2,{"$nulls":9},"",{"$nulls":6},"",""]
[3,{"$nulls":9},"",{"$nulls":6},"",""]
[4,{"$nulls":9},"",{"$nulls":6},"",""]
[5,{"$nulls":9},"",{"$nulls":6},"",""]
[6,{"$nulls":9},"",{"$nulls":6},"",""]
[7,{"$nulls":9},"",{"$nulls":6},"",""]
[8,{"$nulls":9},"",{"$nulls":6},"",""]
[9,{"$nulls":9},"",{"$nulls":6},"",""]
[10,{"$nulls":9},"",{"$nulls":6},"",""]
["合計",{"$nulls":9},"",{"$nulls":6},"",""]
["（注）必要に応じて、行を増やして記入すること。"]

{"sheet":"別紙様式第10号","index":2,"n_rows":33,"n_cols":19,"rows_kept":33,"merged":[[1,12,1,15],[1,16,1,18],[2,12,2,15],[2,16,2,18],[4,0,4,5],[4,6,4,10],[5,0,5,5],[5,6,5,10],[7,0,7,2],[7,3,7,7],[9,0,9,18],[12,2,12,3],[13,2,13,3],[14,2,14,3],[15,2,15,3],[16,2,16,3],[17,2,17,3],[18,2,18,3],[19,2,19,3],[20,2,20,3],[21,2,21,3],[22,2,22,3],[23,2,23,3],[26,1,26,17],[27,1,28,18],[29,1,31,18],[32,1,33,18]]}
["別紙様式第10号"]
[{"$nulls":12},"文書番号（任意記載）"]
[{"$nulls":12},"提出年月日"]
[]
["事業実施主体名及び代表者氏名"]
["サポートセンター名"]
[]
["提出先"]
[]
["　　　令和〇年度　地域プランナー等の派遣実績について"]
[]
["地域プランナー等の派遣実績"]
[null,"通番","支援対象者等の商号又は名称",null,"４月","５月","６月","７月","８月","９月","小計","10月","11月","12月","１月","２月","３月","小計","合計"]
[1,{"$nulls":9},{"$f":"IF(SUM(E14:J14)=0,\"\",SUM(E14:J14))","v":""},{"$nulls":6},{"$f":"IF(SUM(L14:Q14)=0,\"\",SUM(L14:Q14))","v":""},{"$f":"IF(SUM(K14,R14)=0,\"\",SUM(K14,R14))","v":""}]
[2,{"$nulls":9},{"$f":"IF(SUM(E15:J15)=0,\"\",SUM(E15:J15))","v":""},{"$nulls":6},{"$f":"IF(SUM(L15:Q15)=0,\"\",SUM(L15:Q15))","v":""},{"$f":"IF(SUM(K15,R15)=0,\"\",SUM(K15,R15))","v":""}]
[3,{"$nulls":9},"",{"$nulls":6},"",""]
[4,{"$nulls":9},"",{"$nulls":6},"",""]
[5,{"$nulls":9},"",{"$nulls":6},"",""]
[6,{"$nulls":9},"",{"$nulls":6},"",""]
[7,{"$nulls":9},"",{"$nulls":6},"",""]
[8,{"$nulls":9},"",{"$nulls":6},"",""]
[9,{"$nulls":9},"",{"$nulls":6},"",""]
[10,{"$nulls":9},"",{"$nulls":6},"",""]
["合計",{"$nulls":9},"",{"$nulls":6},"",""]
["（注）１　過年度に支援を受けている場合には、過年度に付与した通番を記載すること。"]
[null,"　２　支援対象者等ごとに記入すること。また、支援対象者等の商号又は名称の欄に、業種も記載すること。"]
[null,"　３　上半期の報告時点で派遣実績がない支援対象者等についても報告すること。"]
[null,"　４　派遣回数は１日(時間は問わない。)派遣された場合に１回とし、２人の地域プランナーが同時に派遣された場合は２回\n　　とすること。"]
[]
[null,"　５　総合化事業計画の認定、食料産業・６次産業化交付金(従前の交付金含む。)の活用、地域資源活用価値創出対策（旧農\n　　山漁村発イノベーション対策）の活用について該当がある場合は、商号又は名称の欄に認定・活用年がわかるよう括弧書\n　　きで簡潔に記載すること。"]
[]
[]
[null,"　６　派遣回数は、地域プランナー、中央プランナー、エグゼクティブプランナーの合計及び、内数として地域プランナー分\n　　を括弧内に記載すること。 "]

{"sheet":"（参考様式）別紙様式第15号入力補助シート","index":3,"n_rows":25,"n_cols":20,"rows_kept":25,"hidden":true,"merged":[[1,0,3,0],[1,1,3,1],[1,2,3,2],[1,3,3,3],[1,4,3,5],[1,6,2,7],[1,8,1,9],[1,10,2,11],[1,12,2,13],[1,14,2,15],[1,16,2,17],[1,18,2,19],[2,8,2,9],[4,0,10,0],[4,1,10,1],[4,2,10,2],[4,3,5,3],[6,3,10,3],[11,0,17,0],[11,1,17,1],[11,2,17,2],[11,3,12,3],[13,3,17,3],[18,0,24,0],[18,1,24,1],[18,2,24,2],[18,3,19,3],[20,3,24,3]]}
["入力補助様式",{"$nulls":5},"金額は千円単位で入力！（千円未満は切り捨て）"]
["市区町村名","通番","支援対象者名","支援年度","年度",null,"売上高",{"$nulls":3},"営業利益",null,"経常利益",null,"人件費",null,"減価償却費",null,"付加価値額"]
[{"$nulls":8},"うちイノベ事業分"]
[{"$nulls":6},"目標値","実績値","目標値","実績値","目標値","実績値","目標値","実績値","目標値","実績値","目標値","実績値","目標値","実績値"]
[{"$nulls":4},"事業実施前年度",{"$nulls":14},{"$f":"SUM(N5,P5,R5)","v":{"v":0,"d":"0 "}}]
[{"$nulls":4},"事業実施年度（初回支援）",{"$nulls":13},{"$f":"SUM(M6,O6,Q6)","v":{"v":0,"d":"0 "}},{"v":0,"d":"0 "}]
[{"$nulls":3},"↑同一の取組に対して、複数回支援がある場合にはすべて記入","実施後1年後",{"$nulls":13},{"v":0,"d":"0 "},{"v":0,"d":"0 "}]
[{"$nulls":4},"実施後２年後",{"$nulls":13},{"v":0,"d":"0 "},{"v":0,"d":"0 "}]
[{"$nulls":4},"実施後３年後",{"$nulls":13},{"v":0,"d":"0 "},{"v":0,"d":"0 "}]
[{"$nulls":4},"実施後４年度",{"$nulls":13},{"v":0,"d":"0 "},{"v":0,"d":"0 "}]
[{"$nulls":4},"成果目標年度",{"$nulls":13},{"v":0,"d":"0 "},{"v":0,"d":"0 "}]
[{"$nulls":4},"事業実施前年度",{"$nulls":14},{"$f":"SUM(N12,P12,R12)","v":{"v":0,"d":"0 "}}]
[{"$nulls":4},"事業実施年度（初回支援）",{"$nulls":13},{"$f":"SUM(M13,O13,Q13)","v":{"v":0,"d":"0 "}},{"v":0,"d":"0 "}]
[{"$nulls":3},"↑同一の取組に対して、複数回支援がある場合にはすべて記入","実施後1年後",{"$nulls":13},{"v":0,"d":"0 "},{"v":0,"d":"0 "}]
[{"$nulls":4},"実施後２年後",{"$nulls":13},{"v":0,"d":"0 "},{"v":0,"d":"0 "}]
[{"$nulls":4},"実施後３年後",{"$nulls":13},{"v":0,"d":"0 "},{"v":0,"d":"0 "}]
[{"$nulls":4},"実施後４年度",{"$nulls":13},{"v":0,"d":"0 "},{"v":0,"d":"0 "}]
[{"$nulls":4},"成果目標年度",{"$nulls":13},{"v":0,"d":"0 "},{"v":0,"d":"0 "}]
[{"$nulls":4},"事業実施前年度",{"$nulls":14},{"$f":"SUM(N19,P19,R19)","v":{"v":0,"d":"0 "}}]
[{"$nulls":4},"事業実施年度（初回支援）",{"$nulls":13},{"$f":"SUM(M20,O20,Q20)","v":{"v":0,"d":"0 "}},{"v":0,"d":"0 "}]
[{"$nulls":3},"↑同一の取組に対して、複数回支援がある場合にはすべて記入","実施後1年後",{"$nulls":13},{"v":0,"d":"0 "},{"v":0,"d":"0 "}]
[{"$nulls":4},"実施後２年後",{"$nulls":13},{"v":0,"d":"0 "},{"v":0,"d":"0 "}]
[{"$nulls":4},"実施後３年後",{"$nulls":13},{"v":0,"d":"0 "},{"v":0,"d":"0 "}]
[{"$nulls":4},"実施後４年度",{"$nulls":13},{"v":0,"d":"0 "},{"v":0,"d":"0 "}]
[{"$nulls":4},"成果目標年度",{"$nulls":13},{"v":0,"d":"0 "},{"v":0,"d":"0 "}]

{"sheet":"別紙様式15号","index":4,"n_rows":45,"n_cols":39,"rows_kept":45,"merged":[[1,33,1,35],[1,36,1,38],[2,33,2,35],[2,36,2,38],[3,1,3,7],[3,8,3,16],[4,1,4,7],[4,8,4,16],[6,1,6,7],[6,8,6,12],[7,0,7,38],[10,1,12,1],[10,2,12,2],[10,3,12,3],[10,4,12,5],[10,6,10,24],[10,25,12,26],[10,27,10,38],[11,6,11,9],[11,10,11,13],[11,14,11,17],[11,18,11,21],[11,23,11,24],[11,27,11,30],[11,31,11,34],[11,35,11,38],[13,1,19,1],[13,2,19,2],[13,3,17,3],[20,1,26,1],[20,2,26,2],[20,3,24,3],[27,1,33,1],[27,3,31,3],[34,1,34,3],[35,1,35,3],[35,4,35,38],[37,1,37,38],[38,1,38,38]]}
["別紙様式第15号"]
[{"$nulls":33},"文書番号（任意記載）"]
[{"$nulls":33},"報告年月日",null,null,"令和　年　月　日"]
[null,"事業実施主体名及び代表者名"]
[null,"サポートセンター名"]
[]
[null,"提出先"]
["令和〇年度　支援対象者等の経営改善状況の報告について"]
[]
[{"$nulls":37},"（単位：千円）"]
[null,"市区町村名","通番","事業者名","年度",null,"付加価値額",{"$nulls":18},"年度",null,"（参考）経営全体における農山漁村発イノベーションの取組の寄与度"]
[{"$nulls":6},"①経営全体の経常利益",{"$nulls":3},"②経営全体の人件費",{"$nulls":3},"③経営全体の減価償却費",{"$nulls":3},"経営全体の付加価値額\n（①＋②＋③）",{"$nulls":3},"事業者の自己点検結果及び自己評価","都道府県における事業実施状況の点検結果及び評価結果",{"$nulls":3},"①農山漁村発イノベーションによる\n事業の売上高",{"$nulls":3},"②経営全体の\n売り上げ",{"$nulls":3},"③経営全体の\n営業利益"]
[{"$nulls":6},"目標値\n（Ａ）","実績値\n（Ｂ）","年度別\n達成率\n（Ｃ）\nB/A","全体\n達成率\nB/A","目標値\n（Ａ）","実績値\n（Ｂ）","年度別\n達成率\n（Ｃ）\nB/A","全体\n達成率\nB/A","目標値\n（Ａ）","実績値\n（Ｂ）","年度別\n達成率\n（Ｃ）\nB/A","全体\n達成率\nB/A","目標値\n（Ａ）","実績値\n（Ｂ）","年度別\n達成率\n（Ｃ）\nB/A","全体\n達成率\nB/A","年度毎の経営改善状況","評価","点検結果及び評価",null,null,"目標値\n（Ａ）","実績値\n（Ｂ）","年度別\n達成率\n（Ｃ）\nB/A","全体\n達成率\nB/A","目標値\n（Ａ）","実績値\n（Ｂ）","年度別\n達成率\n（Ｃ）\nB/A","全体\n達成率\nB/A","目標値\n（Ａ）","実績値\n（Ｂ）","年度別\n達成率\n（Ｃ）\nB/A","全体\n達成率\nB/A"]
[null,{"$f":"IF(ISBLANK('（参考様式）別紙様式第15号入力補助シート'!A5),\"\",'（参考様式）別紙様式第15号入力補助シート'!A5)","v":""},{"$f":"IF(ISBLANK('（参考様式）別紙様式第15号入力補助シート'!B5),\"\",'（参考様式）別紙様式第15号入力補助シート'!B5)","v":""},{"$f":"IF(ISBLANK('（参考様式）別紙様式第15号入力補助シート'!C5),\"\",'（参考様式）別紙様式第15号入力補助シート'!C5)","v":""},{"$f":"IF(ISBLANK('（参考様式）別紙様式第15号入力補助シート'!F5),\"\",'（参考様式）別紙様式第15号入力補助シート'!F5)","v":""},"事業実施\n前年度",null,{"$f":"IF(ISBLANK('（参考様式）別紙様式第15号入力補助シート'!N5),\"\",'（参考様式）別紙様式第15号入力補助シート'!N5)","v":""},{"$nulls":3},{"$f":"IF(ISBLANK('（参考様式）別紙様式第15号入力補助シート'!P5),\"\",'（参考様式）別紙様式第15号入力補助シート'!P5)","v":""},{"$nulls":3},{"$f":"IF(ISBLANK('（参考様式）別紙様式第15号入力補助シート'!R5),\"\",'（参考様式）別紙様式第15号入力補助シート'!R5)","v":""},{"$nulls":3},{"$f":"IF(ISBLANK('（参考様式）別紙様式第15号入力補助シート'!T5),\"\",'（参考様式）別紙様式第15号入力補助シート'!T5)","v":{"v":0,"d":"0 "}},{"$nulls":5},{"$f":"IF(ISBLANK('（参考様式）別紙様式第15号入力補助シート'!F5),\"\",'（参考様式）別紙様式第15号入力補助シート'!F5)","v":""},"事業実施\n前年度",null,{"$f":"IF(ISBLANK('（参考様式）別紙様式第15号入力補助シート'!J5),\"\",'（参考様式）別紙様式第15号入力補助シート'!J5)","v":""},{"$nulls":3},{"$f":"IF(ISBLANK('（参考様式）別紙様式第15号入力補助シート'!H5),\"\",'（参考様式）別紙様式第15号入力補助シート'!H5)","v":""},{"$nulls":3},{"$f":"IF(ISBLANK('（参考様式）別紙様式第15号入力補助シート'!L5),\"\",'（参考様式）別紙様式第15号入力補助シート'!L5)","v":""}]
[{"$nulls":4},{"$f":"IF(ISBLANK('（参考様式）別紙様式第15号入力補助シート'!F6),\"\",'（参考様式）別紙様式第15号入力補助シート'!F6)","v":""},"事業実施\n年度",{"$f":"IF(ISBLANK('（参考様式）別紙様式第15号入力補助シート'!M6),\"\",'（参考様式）別紙様式第15号入力補助シート'!M6)","v":""},{"$f":"IF(ISBLANK('（参考様式）別紙様式第15号入力補助シート'!N6),\"\",'（参考様式）別紙様式第15号入力補助シート'!N6)","v":""},{"$f":"IFERROR(ROUNDDOWN(H15/G15,2),\"\")","v":""},{"$f":"IFERROR(ROUNDDOWN(H15/G20,2),\"\")","v":""},{"$f":"IF(ISBLANK('（参考様式）別紙様式第15号入力補助シート'!O6),\"\",'（参考様式）別紙様式第15号入力補助シート'!O6)","v":""},{"$f":"IF(ISBLANK('（参考様式）別紙様式第15号入力補助シート'!P6),\"\",'（参考様式）別紙様式第15号入力補助シート'!P6)","v":""},{"$f":"IFERROR(ROUNDDOWN(L15/K15,2),\"\")","v":""},{"$f":"IFERROR(ROUNDDOWN(L15/K20,2),\"\")","v":""},{"$f":"IF(ISBLANK('（参考様式）別紙様式第15号入力補助シート'!Q6),\"\",'（参考様式）別紙様式第15号入力補助シート'!Q6)","v":""},{"$f":"IF(ISBLANK('（参考様式）別紙様式第15号入力補助シート'!R6),\"\",'（参考様式）別紙様式第15号入力補助シート'!R6)","v":""},{"$f":"IFERROR(ROUNDDOWN(P15/O15,2),\"\")","v":""},{"$f":"IFERROR(ROUNDDOWN(P15/O20,2),\"\")","v":""},{"$f":"IF(ISBLANK('（参考様式）別紙様式第15号入力補助シート'!S6),\"\",'（参考様式）別紙様式第15号入力補助シート'!S6)","v":{"v":0,"d":"0 "}},{"$f":"IF(ISBLANK('（参考様式）別紙様式第15号入力補助シート'!T6),\"\",'（参考様式）別紙様式第15号入力補助シート'!T6)","v":{"v":0,"d":"0 "}},{"$f":"IFERROR(ROUNDDOWN(T15/S15,2),\"\")","v":""},{"$f":"IFERROR(ROUNDDOWN(T15/S20,2),\"\")","v":""},null,null,"（点検結果）",{"$f":"IF(ISBLANK('（参考様式）別紙様式第15号入力補助シート'!F6),\"\",'（参考様式）別紙様式第15号入力補助シート'!F6)","v":""},"事業実施\n年度",{"$f":"IF(ISBLANK('（参考様式）別紙様式第15号入力補助シート'!I6),\"\",'（参考様式）別紙様式第15号入力補助シート'!I6)","v":""},{"$f":"IF(ISBLANK('（参考様式）別紙様式第15号入力補助シート'!J6),\"\",'（参考様式）別紙様式第15号入力補助シート'!J6)","v":""},{"$f":"IFERROR(ROUNDDOWN(AC15/AB15,2),\"\")","v":""},{"$f":"IFERROR(ROUNDDOWN(AC15/AB20,2),\"\")","v":""},{"$f":"IF(ISBLANK('（参考様式）別紙様式第15号入力補助シート'!G6),\"\",'（参考様式）別紙様式第15号入力補助シート'!G6)","v":""},{"$f":"IF(ISBLANK('（参考様式）別紙様式第15号入力補助シート'!H6),\"\",'（参考様式）別紙様式第15号入力補助シート'!H6)","v":""},{"$f":"IFERROR(ROUNDDOWN(AG15/AF15,2),\"\")","v":""},{"$f":"IFERROR(ROUNDDOWN(AG15/AF20,2),\"\")","v":""},{"$f":"IF(ISBLANK('（参考様式）別紙様式第15号入力補助シート'!K6),\"\",'（参考様式）別紙様式第15号入力補助シート'!K6)","v":""},{"$f":"IF(ISBLANK('（参考様式）別紙様式第15号入力補助シート'!L6),\"\",'（参考様式）別紙様式第15号入力補助シート'!L6)","v":""},{"$f":"IFERROR(ROUNDDOWN(AK15/AJ15,2),\"\")","v":""},{"$f":"IFERROR(ROUNDDOWN(AK15/AJ20,2),\"\")","v":""}]
[{"$nulls":4},{"$f":"IF(ISBLANK('（参考様式）別紙様式第15号入力補助シート'!F7),\"\",'（参考様式）別紙様式第15号入力補助シート'!F7)","v":""},"事業実施\n１年後",{"$f":"IF(ISBLANK('（参考様式）別紙様式第15号入力補助シート'!M7),\"\",'（参考様式）別紙様式第15号入力補助シート'!M7)","v":""},{"$f":"IF(ISBLANK('（参考様式）別紙様式第15号入力補助シート'!N7),\"\",'（参考様式）別紙様式第15号入力補助シート'!N7)","v":""},{"$f":"IFERROR(ROUNDDOWN(H16/G16,2),\"\")","v":""},{"$f":"IFERROR(ROUNDDOWN(H16/G20,2),\"\")","v":""},{"$f":"IF(ISBLANK('（参考様式）別紙様式第15号入力補助シート'!O7),\"\",'（参考様式）別紙様式第15号入力補助シート'!O7)","v":""},{"$f":"IF(ISBLANK('（参考様式）別紙様式第15号入力補助シート'!P7),\"\",'（参考様式）別紙様式第15号入力補助シート'!P7)","v":""},{"$f":"IFERROR(ROUNDDOWN(L16/K16,2),\"\")","v":""},{"$f":"IFERROR(ROUNDDOWN(L16/K20,2),\"\")","v":""},{"$f":"IF(ISBLANK('（参考様式）別紙様式第15号入力補助シート'!Q7),\"\",'（参考様式）別紙様式第15号入力補助シート'!Q7)","v":""},{"$f":"IF(ISBLANK('（参考様式）別紙様式第15号入力補助シート'!R7),\"\",'（参考様式）別紙様式第15号入力補助シート'!R7)","v":""},{"$f":"IFERROR(ROUNDDOWN(P16/O16,2),\"\")","v":""},{"$f":"IFERROR(ROUNDDOWN(P16/O20,2),\"\")","v":""},{"$f":"IF(ISBLANK('（参考様式）別紙様式第15号入力補助シート'!S7),\"\",'（参考様式）別紙様式第15号入力補助シート'!S7)","v":{"v":0,"d":"0 "}},{"$f":"IF(ISBLANK('（参考様式）別紙様式第15号入力補助シート'!T7),\"\",'（参考様式）別紙様式第15号入力補助シート'!T7)","v":{"v":0,"d":"0 "}},{"$f":"IFERROR(ROUNDDOWN(T16/S16,2),\"\")","v":""},{"$f":"IFERROR(ROUNDDOWN(T16/S20,2),\"\")","v":""},null,null,"（点検結果）",{"$f":"IF(ISBLANK('（参考様式）別紙様式第15号入力補助シート'!F7),\"\",'（参考様式）別紙様式第15号入力補助シート'!F7)","v":""},"事業実施\n１年後",{"$f":"IF(ISBLANK('（参考様式）別紙様式第15号入力補助シート'!I7),\"\",'（参考様式）別紙様式第15号入力補助シート'!I7)","v":""},{"$f":"IF(ISBLANK('（参考様式）別紙様式第15号入力補助シート'!J7),\"\",'（参考様式）別紙様式第15号入力補助シート'!J7)","v":""},{"$f":"IFERROR(ROUNDDOWN(AC16/AB16,2),\"\")","v":""},{"$f":"IFERROR(ROUNDDOWN(AC16/AB20,2),\"\")","v":""},{"$f":"IF(ISBLANK('（参考様式）別紙様式第15号入力補助シート'!G7),\"\",'（参考様式）別紙様式第15号入力補助シート'!G7)","v":""},{"$f":"IF(ISBLANK('（参考様式）別紙様式第15号入力補助シート'!H7),\"\",'（参考様式）別紙様式第15号入力補助シート'!H7)","v":""},{"$f":"IFERROR(ROUNDDOWN(AG16/AF16,2),\"\")","v":""},{"$f":"IFERROR(ROUNDDOWN(AG16/AF20,2),\"\")","v":""},{"$f":"IF(ISBLANK('（参考様式）別紙様式第15号入力補助シート'!K7),\"\",'（参考様式）別紙様式第15号入力補助シート'!K7)","v":""},{"$f":"IF(ISBLANK('（参考様式）別紙様式第15号入力補助シート'!L7),\"\",'（参考様式）別紙様式第15号入力補助シート'!L7)","v":""},{"$f":"IFERROR(ROUNDDOWN(AK16/AJ16,2),\"\")","v":""},{"$f":"IFERROR(ROUNDDOWN(AK16/AJ20,2),\"\")","v":""}]
[{"$nulls":4},{"$f":"IF(ISBLANK('（参考様式）別紙様式第15号入力補助シート'!F8),\"\",'（参考様式）別紙様式第15号入力補助シート'!F8)","v":""},"事業実施\n２年後",{"$f":"IF(ISBLANK('（参考様式）別紙様式第15号入力補助シート'!M8),\"\",'（参考様式）別紙様式第15号入力補助シート'!M8)","v":""},{"$f":"IF(ISBLANK('（参考様式）別紙様式第15号入力補助シート'!N8),\"\",'（参考様式）別紙様式第15号入力補助シート'!N8)","v":""},"",{"$f":"IFERROR(ROUNDDOWN(H17/G20,2),\"\")","v":""},{"$f":"IF(ISBLANK('（参考様式）別紙様式第15号入力補助シート'!O8),\"\",'（参考様式）別紙様式第15号入力補助シート'!O8)","v":""},{"$f":"IF(ISBLANK('（参考様式）別紙様式第15号入力補助シート'!P8),\"\",'（参考様式）別紙様式第15号入力補助シート'!P8)","v":""},"",{"$f":"IFERROR(ROUNDDOWN(L17/K20,2),\"\")","v":""},{"$f":"IF(ISBLANK('（参考様式）別紙様式第15号入力補助シート'!Q8),\"\",'（参考様式）別紙様式第15号入力補助シート'!Q8)","v":""},{"$f":"IF(ISBLANK('（参考様式）別紙様式第15号入力補助シート'!R8),\"\",'（参考様式）別紙様式第15号入力補助シート'!R8)","v":""},"",{"$f":"IFERROR(ROUNDDOWN(P17/O20,2),\"\")","v":""},{"$f":"IF(ISBLANK('（参考様式）別紙様式第15号入力補助シート'!S8),\"\",'（参考様式）別紙様式第15号入力補助シート'!S8)","v":{"v":0,"d":"0 "}},{"$f":"IF(ISBLANK('（参考様式）別紙様式第15号入力補助シート'!T8),\"\",'（参考様式）別紙様式第15号入力補助シート'!T8)","v":{"v":0,"d":"0 "}},"",{"$f":"IFERROR(ROUNDDOWN(T17/S20,2),\"\")","v":""},null,null,"（点検結果）",{"$f":"IF(ISBLANK('（参考様式）別紙様式第15号入力補助シート'!F8),\"\",'（参考様式）別紙様式第15号入力補助シート'!F8)","v":""},"事業実施\n２年後",{"$f":"IF(ISBLANK('（参考様式）別紙様式第15号入力補助シート'!I8),\"\",'（参考様式）別紙様式第15号入力補助シート'!I8)","v":""},{"$f":"IF(ISBLANK('（参考様式）別紙様式第15号入力補助シート'!J8),\"\",'（参考様式）別紙様式第15号入力補助シート'!J8)","v":""},"",{"$f":"IFERROR(ROUNDDOWN(AC17/AB20,2),\"\")","v":""},{"$f":"IF(ISBLANK('（参考様式）別紙様式第15号入力補助シート'!G8),\"\",'（参考様式）別紙様式第15号入力補助シート'!G8)","v":""},{"$f":"IF(ISBLANK('（参考様式）別紙様式第15号入力補助シート'!H8),\"\",'（参考様式）別紙様式第15号入力補助シート'!H8)","v":""},"",{"$f":"IFERROR(ROUNDDOWN(AG17/AF20,2),\"\")","v":""},{"$f":"IF(ISBLANK('（参考様式）別紙様式第15号入力補助シート'!K8),\"\",'（参考様式）別紙様式第15号入力補助シート'!K8)","v":""},{"$f":"IF(ISBLANK('（参考様式）別紙様式第15号入力補助シート'!L8),\"\",'（参考様式）別紙様式第15号入力補助シート'!L8)","v":""},"",{"$f":"IFERROR(ROUNDDOWN(AK17/AJ20,2),\"\")","v":""}]
[{"$nulls":4},{"$f":"IF(ISBLANK('（参考様式）別紙様式第15号入力補助シート'!F9),\"\",'（参考様式）別紙様式第15号入力補助シート'!F9)","v":""},"事業実施\n３年後",{"$f":"IF(ISBLANK('（参考様式）別紙様式第15号入力補助シート'!M9),\"\",'（参考様式）別紙様式第15号入力補助シート'!M9)","v":""},{"$f":"IF(ISBLANK('（参考様式）別紙様式第15号入力補助シート'!N9),\"\",'（参考様式）別紙様式第15号入力補助シート'!N9)","v":""},"",{"$f":"IFERROR(ROUNDDOWN(H18/G20,2),\"\")","v":""},{"$f":"IF(ISBLANK('（参考様式）別紙様式第15号入力補助シート'!O9),\"\",'（参考様式）別紙様式第15号入力補助シート'!O9)","v":""},{"$f":"IF(ISBLANK('（参考様式）別紙様式第15号入力補助シート'!P9),\"\",'（参考様式）別紙様式第15号入力補助シート'!P9)","v":""},"",{"$f":"IFERROR(ROUNDDOWN(L18/K20,2),\"\")","v":""},{"$f":"IF(ISBLANK('（参考様式）別紙様式第15号入力補助シート'!Q9),\"\",'（参考様式）別紙様式第15号入力補助シート'!Q9)","v":""},{"$f":"IF(ISBLANK('（参考様式）別紙様式第15号入力補助シート'!R9),\"\",'（参考様式）別紙様式第15号入力補助シート'!R9)","v":""},"",{"$f":"IFERROR(ROUNDDOWN(P18/O20,2),\"\")","v":""},{"$f":"IF(ISBLANK('（参考様式）別紙様式第15号入力補助シート'!S9),\"\",'（参考様式）別紙様式第15号入力補助シート'!S9)","v":{"v":0,"d":"0 "}},{"$f":"IF(ISBLANK('（参考様式）別紙様式第15号入力補助シート'!T9),\"\",'（参考様式）別紙様式第15号入力補助シート'!T9)","v":{"v":0,"d":"0 "}},"",{"$f":"IFERROR(ROUNDDOWN(T18/S20,2),\"\")","v":""},null,null,"（点検結果）",{"$f":"IF(ISBLANK('（参考様式）別紙様式第15号入力補助シート'!F9),\"\",'（参考様式）別紙様式第15号入力補助シート'!F9)","v":""},"事業実施\n３年後",{"$f":"IF(ISBLANK('（参考様式）別紙様式第15号入力補助シート'!I9),\"\",'（参考様式）別紙様式第15号入力補助シート'!I9)","v":""},{"$f":"IF(ISBLANK('（参考様式）別紙様式第15号入力補助シート'!J9),\"\",'（参考様式）別紙様式第15号入力補助シート'!J9)","v":""},"",{"$f":"IFERROR(ROUNDDOWN(AC18/AB20,2),\"\")","v":""},{"$f":"IF(ISBLANK('（参考様式）別紙様式第15号入力補助シート'!G9),\"\",'（参考様式）別紙様式第15号入力補助シート'!G9)","v":""},{"$f":"IF(ISBLANK('（参考様式）別紙様式第15号入力補助シート'!H9),\"\",'（参考様式）別紙様式第15号入力補助シート'!H9)","v":""},"",{"$f":"IFERROR(ROUNDDOWN(AG18/AF20,2),\"\")","v":""},{"$f":"IF(ISBLANK('（参考様式）別紙様式第15号入力補助シート'!K9),\"\",'（参考様式）別紙様式第15号入力補助シート'!K9)","v":""},{"$f":"IF(ISBLANK('（参考様式）別紙様式第15号入力補助シート'!L9),\"\",'（参考様式）別紙様式第15号入力補助シート'!L9)","v":""},"",{"$f":"IFERROR(ROUNDDOWN(AK18/AJ20,2),\"\")","v":""}]
[{"$nulls":3},"支援年度",{"$f":"IF(ISBLANK('（参考様式）別紙様式第15号入力補助シート'!F10),\"\",'（参考様式）別紙様式第15号入力補助シート'!F10)","v":""},"事業実施\n４年後",{"$f":"IF(ISBLANK('（参考様式）別紙様式第15号入力補助シート'!M10),\"\",'（参考様式）別紙様式第15号入力補助シート'!M10)","v":""},{"$f":"IF(ISBLANK('（参考様式）別紙様式第15号入力補助シート'!N10),\"\",'（参考様式）別紙様式第15号入力補助シート'!N10)","v":""},"",{"$f":"IFERROR(ROUNDDOWN(H19/G20,2),\"\")","v":""},{"$f":"IF(ISBLANK('（参考様式）別紙様式第15号入力補助シート'!O10),\"\",'（参考様式）別紙様式第15号入力補助シート'!O10)","v":""},{"$f":"IF(ISBLANK('（参考様式）別紙様式第15号入力補助シート'!P10),\"\",'（参考様式）別紙様式第15号入力補助シート'!P10)","v":""},"",{"$f":"IFERROR(ROUNDDOWN(L19/K20,2),\"\")","v":""},{"$f":"IF(ISBLANK('（参考様式）別紙様式第15号入力補助シート'!Q10),\"\",'（参考様式）別紙様式第15号入力補助シート'!Q10)","v":""},{"$f":"IF(ISBLANK('（参考様式）別紙様式第15号入力補助シート'!R10),\"\",'（参考様式）別紙様式第15号入力補助シート'!R10)","v":""},"",{"$f":"IFERROR(ROUNDDOWN(P19/O20,2),\"\")","v":""},{"$f":"IF(ISBLANK('（参考様式）別紙様式第15号入力補助シート'!S10),\"\",'（参考様式）別紙様式第15号入力補助シート'!S10)","v":{"v":0,"d":"0 "}},{"$f":"IF(ISBLANK('（参考様式）別紙様式第15号入力補助シート'!T10),\"\",'（参考様式）別紙様式第15号入力補助シート'!T10)","v":{"v":0,"d":"0 "}},"",{"$f":"IFERROR(ROUNDDOWN(T19/S20,2),\"\")","v":""},null,null,"（点検結果）",{"$f":"IF(ISBLANK('（参考様式）別紙様式第15号入力補助シート'!F10),\"\",'（参考様式）別紙様式第15号入力補助シート'!F10)","v":""},"事業実施\n４年後",{"$f":"IF(ISBLANK('（参考様式）別紙様式第15号入力補助シート'!I10),\"\",'（参考様式）別紙様式第15号入力補助シート'!I10)","v":""},{"$f":"IF(ISBLANK('（参考様式）別紙様式第15号入力補助シート'!J10),\"\",'（参考様式）別紙様式第15号入力補助シート'!J10)","v":""},"",{"$f":"IFERROR(ROUNDDOWN(AC19/AB20,2),\"\")","v":""},{"$f":"IF(ISBLANK('（参考様式）別紙様式第15号入力補助シート'!G10),\"\",'（参考様式）別紙様式第15号入力補助シート'!G10)","v":""},{"$f":"IF(ISBLANK('（参考様式）別紙様式第15号入力補助シート'!H10),\"\",'（参考様式）別紙様式第15号入力補助シート'!H10)","v":""},"",{"$f":"IFERROR(ROUNDDOWN(AG19/AF20,2),\"\")","v":""},{"$f":"IF(ISBLANK('（参考様式）別紙様式第15号入力補助シート'!K10),\"\",'（参考様式）別紙様式第15号入力補助シート'!K10)","v":""},{"$f":"IF(ISBLANK('（参考様式）別紙様式第15号入力補助シート'!L10),\"\",'（参考様式）別紙様式第15号入力補助シート'!L10)","v":""},"",{"$f":"IFERROR(ROUNDDOWN(AK19/AJ20,2),\"\")","v":""}]
[{"$nulls":3},{"$f":"IF(ISBLANK('（参考様式）別紙様式第15号入力補助シート'!D5),\"\",'（参考様式）別紙様式第15号入力補助シート'!D5)","v":""},{"$f":"IF(ISBLANK('（参考様式）別紙様式第15号入力補助シート'!F11),\"\",'（参考様式）別紙様式第15号入力補助シート'!F11)","v":""},"目標年度",{"$f":"IF(ISBLANK('（参考様式）別紙様式第15号入力補助シート'!M11),\"\",'（参考様式）別紙様式第15号入力補助シート'!M11)","v":""},{"$f":"IF(ISBLANK('（参考様式）別紙様式第15号入力補助シート'!N11),\"\",'（参考様式）別紙様式第15号入力補助シート'!N11)","v":""},"",{"$f":"IFERROR(ROUNDDOWN(H20/G$20,2),\"\")","v":""},{"$f":"IF(ISBLANK('（参考様式）別紙様式第15号入力補助シート'!O11),\"\",'（参考様式）別紙様式第15号入力補助シート'!O11)","v":""},{"$f":"IF(ISBLANK('（参考様式）別紙様式第15号入力補助シート'!P11),\"\",'（参考様式）別紙様式第15号入力補助シート'!P11)","v":""},"",{"$f":"IFERROR(ROUNDDOWN(L20/K20,2),\"\")","v":""},{"$f":"IF(ISBLANK('（参考様式）別紙様式第15号入力補助シート'!Q11),\"\",'（参考様式）別紙様式第15号入力補助シート'!Q11)","v":""},{"$f":"IF(ISBLANK('（参考様式）別紙様式第15号入力補助シート'!R11),\"\",'（参考様式）別紙様式第15号入力補助シート'!R11)","v":""},"",{"$f":"IFERROR(ROUNDDOWN(P20/O20,2),\"\")","v":""},{"$f":"IF(ISBLANK('（参考様式）別紙様式第15号入力補助シート'!S11),\"\",'（参考様式）別紙様式第15号入力補助シート'!S11)","v":{"v":0,"d":"0 "}},{"$f":"IF(ISBLANK('（参考様式）別紙様式第15号入力補助シート'!T11),\"\",'（参考様式）別紙様式第15号入力補助シート'!T11)","v":0},"",{"$f":"IFERROR(ROUNDDOWN(T20/S20,2),\"\")","v":""},null,null,"（評価結果）",{"$f":"IF(ISBLANK('（参考様式）別紙様式第15号入力補助シート'!F11),\"\",'（参考様式）別紙様式第15号入力補助シート'!F11)","v":""},"目標年度",{"$f":"IF(ISBLANK('（参考様式）別紙様式第15号入力補助シート'!I11),\"\",'（参考様式）別紙様式第15号入力補助シート'!I11)","v":""},{"$f":"IF(ISBLANK('（参考様式）別紙様式第15号入力補助シート'!J11),\"\",'（参考様式）別紙様式第15号入力補助シート'!J11)","v":""},"",{"$f":"IFERROR(ROUNDDOWN(AC20/AB20,2),\"\")","v":""},{"$f":"IF(ISBLANK('（参考様式）別紙様式第15号入力補助シート'!G11),\"\",'（参考様式）別紙様式第15号入力補助シート'!G11)","v":""},{"$f":"IF(ISBLANK('（参考様式）別紙様式第15号入力補助シート'!H11),\"\",'（参考様式）別紙様式第15号入力補助シート'!H11)","v":""},"",{"$f":"IFERROR(ROUNDDOWN(AG20/AF20,2),\"\")","v":""},{"$f":"IF(ISBLANK('（参考様式）別紙様式第15号入力補助シート'!K11),\"\",'（参考様式）別紙様式第15号入力補助シート'!K11)","v":""},{"$f":"IF(ISBLANK('（参考様式）別紙様式第15号入力補助シート'!L11),\"\",'（参考様式）別紙様式第15号入力補助シート'!L11)","v":""},"",{"$f":"IFERROR(ROUNDDOWN(AK20/AJ20,2),\"\")","v":""}]
[null,{"$f":"IF(ISBLANK('（参考様式）別紙様式第15号入力補助シート'!A12),\"\",'（参考様式）別紙様式第15号入力補助シート'!A12)","v":""},{"$f":"IF(ISBLANK('（参考様式）別紙様式第15号入力補助シート'!B12),\"\",'（参考様式）別紙様式第15号入力補助シート'!B12)","v":""},{"$f":"IF(ISBLANK('（参考様式）別紙様式第15号入力補助シート'!C12),\"\",'（参考様式）別紙様式第15号入力補助シート'!C12)","v":""},{"$f":"IF(ISBLANK('（参考様式）別紙様式第15号入力補助シート'!F12),\"\",'（参考様式）別紙様式第15号入力補助シート'!F12)","v":""},"事業実施\n前年度",null,{"$f":"IF(ISBLANK('（参考様式）別紙様式第15号入力補助シート'!N12),\"\",'（参考様式）別紙様式第15号入力補助シート'!N12)","v":""},{"$nulls":3},{"$f":"IF(ISBLANK('（参考様式）別紙様式第15号入力補助シート'!P12),\"\",'（参考様式）別紙様式第15号入力補助シート'!P12)","v":""},{"$nulls":3},{"$f":"IF(ISBLANK('（参考様式）別紙様式第15号入力補助シート'!R12),\"\",'（参考様式）別紙様式第15号入力補助シート'!R12)","v":""},{"$nulls":3},{"$f":"IF(ISBLANK('（参考様式）別紙様式第15号入力補助シート'!T12),\"\",'（参考様式）別紙様式第15号入力補助シート'!T12)","v":{"v":0,"d":"0 "}},{"$nulls":5},{"$f":"IF(ISBLANK('（参考様式）別紙様式第15号入力補助シート'!F12),\"\",'（参考様式）別紙様式第15号入力補助シート'!F12)","v":""},"事業実施\n前年度",null,{"$f":"IF(ISBLANK('（参考様式）別紙様式第15号入力補助シート'!J12),\"\",'（参考様式）別紙様式第15号入力補助シート'!J12)","v":""},{"$nulls":3},{"$f":"IF(ISBLANK('（参考様式）別紙様式第15号入力補助シート'!H12),\"\",'（参考様式）別紙様式第15号入力補助シート'!H12)","v":""},{"$nulls":3},{"$f":"IF(ISBLANK('（参考様式）別紙様式第15号入力補助シート'!L12),\"\",'（参考様式）別紙様式第15号入力補助シート'!L12)","v":""}]
[{"$nulls":4},{"$f":"IF(ISBLANK('（参考様式）別紙様式第15号入力補助シート'!F13),\"\",'（参考様式）別紙様式第15号入力補助シート'!F13)","v":""},"事業実施\n年度",{"$f":"IF(ISBLANK('（参考様式）別紙様式第15号入力補助シート'!M13),\"\",'（参考様式）別紙様式第15号入力補助シート'!M13)","v":""},{"$f":"IF(ISBLANK('（参考様式）別紙様式第15号入力補助シート'!N13),\"\",'（参考様式）別紙様式第15号入力補助シート'!N13)","v":""},{"$f":"IFERROR(ROUNDDOWN(H22/G22,2),\"\")","v":""},{"$f":"IFERROR(ROUNDDOWN(H22/G27,2),\"\")","v":""},{"$f":"IF(ISBLANK('（参考様式）別紙様式第15号入力補助シート'!O13),\"\",'（参考様式）別紙様式第15号入力補助シート'!O13)","v":""},{"$f":"IF(ISBLANK('（参考様式）別紙様式第15号入力補助シート'!P13),\"\",'（参考様式）別紙様式第15号入力補助シート'!P13)","v":""},{"$f":"IFERROR(ROUNDDOWN(L22/K22,2),\"\")","v":""},{"$f":"IFERROR(ROUNDDOWN(L22/K27,2),\"\")","v":""},{"$f":"IF(ISBLANK('（参考様式）別紙様式第15号入力補助シート'!Q13),\"\",'（参考様式）別紙様式第15号入力補助シート'!Q13)","v":""},{"$f":"IF(ISBLANK('（参考様式）別紙様式第15号入力補助シート'!R13),\"\",'（参考様式）別紙様式第15号入力補助シート'!R13)","v":""},{"$f":"IFERROR(ROUNDDOWN(P22/O22,2),\"\")","v":""},{"$f":"IFERROR(ROUNDDOWN(P22/O27,2),\"\")","v":""},{"$f":"IF(ISBLANK('（参考様式）別紙様式第15号入力補助シート'!S13),\"\",'（参考様式）別紙様式第15号入力補助シート'!S13)","v":{"v":0,"d":"0 "}},{"$f":"IF(ISBLANK('（参考様式）別紙様式第15号入力補助シート'!T13),\"\",'（参考様式）別紙様式第15号入力補助シート'!T13)","v":{"v":0,"d":"0 "}},{"$f":"IFERROR(ROUNDDOWN(T22/S22,2),\"\")","v":""},{"$f":"IFERROR(ROUNDDOWN(T22/S27,2),\"\")","v":""},null,null,"（点検結果）",{"$f":"IF(ISBLANK('（参考様式）別紙様式第15号入力補助シート'!F13),\"\",'（参考様式）別紙様式第15号入力補助シート'!F13)","v":""},"事業実施\n年度",{"$f":"IF(ISBLANK('（参考様式）別紙様式第15号入力補助シート'!I13),\"\",'（参考様式）別紙様式第15号入力補助シート'!I13)","v":""},{"$f":"IF(ISBLANK('（参考様式）別紙様式第15号入力補助シート'!J13),\"\",'（参考様式）別紙様式第15号入力補助シート'!J13)","v":""},{"$f":"IFERROR(ROUNDDOWN(AC22/AB22,2),\"\")","v":""},{"$f":"IFERROR(ROUNDDOWN(AC22/AB27,2),\"\")","v":""},{"$f":"IF(ISBLANK('（参考様式）別紙様式第15号入力補助シート'!G13),\"\",'（参考様式）別紙様式第15号入力補助シート'!G13)","v":""},{"$f":"IF(ISBLANK('（参考様式）別紙様式第15号入力補助シート'!H13),\"\",'（参考様式）別紙様式第15号入力補助シート'!H13)","v":""},{"$f":"IFERROR(ROUNDDOWN(AG22/AF22,2),\"\")","v":""},{"$f":"IFERROR(ROUNDDOWN(AG22/AF27,2),\"\")","v":""},{"$f":"IF(ISBLANK('（参考様式）別紙様式第15号入力補助シート'!K13),\"\",'（参考様式）別紙様式第15号入力補助シート'!K13)","v":""},{"$f":"IF(ISBLANK('（参考様式）別紙様式第15号入力補助シート'!L13),\"\",'（参考様式）別紙様式第15号入力補助シート'!L13)","v":""},{"$f":"IFERROR(ROUNDDOWN(AK22/AJ22,2),\"\")","v":""},{"$f":"IFERROR(ROUNDDOWN(AK22/AJ27,2),\"\")","v":""}]
[{"$nulls":4},{"$f":"IF(ISBLANK('（参考様式）別紙様式第15号入力補助シート'!F14),\"\",'（参考様式）別紙様式第15号入力補助シート'!F14)","v":""},"事業実施\n１年後",{"$f":"IF(ISBLANK('（参考様式）別紙様式第15号入力補助シート'!M14),\"\",'（参考様式）別紙様式第15号入力補助シート'!M14)","v":""},{"$f":"IF(ISBLANK('（参考様式）別紙様式第15号入力補助シート'!N14),\"\",'（参考様式）別紙様式第15号入力補助シート'!N14)","v":""},{"$f":"IFERROR(ROUNDDOWN(H23/G23,2),\"\")","v":""},{"$f":"IFERROR(ROUNDDOWN(H23/G27,2),\"\")","v":""},{"$f":"IF(ISBLANK('（参考様式）別紙様式第15号入力補助シート'!O14),\"\",'（参考様式）別紙様式第15号入力補助シート'!O14)","v":""},{"$f":"IF(ISBLANK('（参考様式）別紙様式第15号入力補助シート'!P14),\"\",'（参考様式）別紙様式第15号入力補助シート'!P14)","v":""},{"$f":"IFERROR(ROUNDDOWN(L23/K23,2),\"\")","v":""},{"$f":"IFERROR(ROUNDDOWN(L23/K27,2),\"\")","v":""},{"$f":"IF(ISBLANK('（参考様式）別紙様式第15号入力補助シート'!Q14),\"\",'（参考様式）別紙様式第15号入力補助シート'!Q14)","v":""},{"$f":"IF(ISBLANK('（参考様式）別紙様式第15号入力補助シート'!R14),\"\",'（参考様式）別紙様式第15号入力補助シート'!R14)","v":""},{"$f":"IFERROR(ROUNDDOWN(P23/O23,2),\"\")","v":""},{"$f":"IFERROR(ROUNDDOWN(P23/O27,2),\"\")","v":""},{"$f":"IF(ISBLANK('（参考様式）別紙様式第15号入力補助シート'!S14),\"\",'（参考様式）別紙様式第15号入力補助シート'!S14)","v":{"v":0,"d":"0 "}},{"$f":"IF(ISBLANK('（参考様式）別紙様式第15号入力補助シート'!T14),\"\",'（参考様式）別紙様式第15号入力補助シート'!T14)","v":{"v":0,"d":"0 "}},{"$f":"IFERROR(ROUNDDOWN(T23/S23,2),\"\")","v":""},{"$f":"IFERROR(ROUNDDOWN(T23/S27,2),\"\")","v":""},null,null,"（点検結果）",{"$f":"IF(ISBLANK('（参考様式）別紙様式第15号入力補助シート'!F14),\"\",'（参考様式）別紙様式第15号入力補助シート'!F14)","v":""},"事業実施\n１年後",{"$f":"IF(ISBLANK('（参考様式）別紙様式第15号入力補助シート'!I14),\"\",'（参考様式）別紙様式第15号入力補助シート'!I14)","v":""},{"$f":"IF(ISBLANK('（参考様式）別紙様式第15号入力補助シート'!J14),\"\",'（参考様式）別紙様式第15号入力補助シート'!J14)","v":""},{"$f":"IFERROR(ROUNDDOWN(AC23/AB23,2),\"\")","v":""},{"$f":"IFERROR(ROUNDDOWN(AC23/AB27,2),\"\")","v":""},{"$f":"IF(ISBLANK('（参考様式）別紙様式第15号入力補助シート'!G14),\"\",'（参考様式）別紙様式第15号入力補助シート'!G14)","v":""},{"$f":"IF(ISBLANK('（参考様式）別紙様式第15号入力補助シート'!H14),\"\",'（参考様式）別紙様式第15号入力補助シート'!H14)","v":""},{"$f":"IFERROR(ROUNDDOWN(AG23/AF23,2),\"\")","v":""},{"$f":"IFERROR(ROUNDDOWN(AG23/AF27,2),\"\")","v":""},{"$f":"IF(ISBLANK('（参考様式）別紙様式第15号入力補助シート'!K14),\"\",'（参考様式）別紙様式第15号入力補助シート'!K14)","v":""},{"$f":"IF(ISBLANK('（参考様式）別紙様式第15号入力補助シート'!L14),\"\",'（参考様式）別紙様式第15号入力補助シート'!L14)","v":""},{"$f":"IFERROR(ROUNDDOWN(AK23/AJ23,2),\"\")","v":""},{"$f":"IFERROR(ROUNDDOWN(AK23/AJ27,2),\"\")","v":""}]
[{"$nulls":4},{"$f":"IF(ISBLANK('（参考様式）別紙様式第15号入力補助シート'!F15),\"\",'（参考様式）別紙様式第15号入力補助シート'!F15)","v":""},"事業実施\n２年後",{"$f":"IF(ISBLANK('（参考様式）別紙様式第15号入力補助シート'!M15),\"\",'（参考様式）別紙様式第15号入力補助シート'!M15)","v":""},{"$f":"IF(ISBLANK('（参考様式）別紙様式第15号入力補助シート'!N15),\"\",'（参考様式）別紙様式第15号入力補助シート'!N15)","v":""},"",{"$f":"IFERROR(ROUNDDOWN(H24/G27,2),\"\")","v":""},{"$f":"IF(ISBLANK('（参考様式）別紙様式第15号入力補助シート'!O15),\"\",'（参考様式）別紙様式第15号入力補助シート'!O15)","v":""},{"$f":"IF(ISBLANK('（参考様式）別紙様式第15号入力補助シート'!P15),\"\",'（参考様式）別紙様式第15号入力補助シート'!P15)","v":""},"",{"$f":"IFERROR(ROUNDDOWN(L24/K27,2),\"\")","v":""},{"$f":"IF(ISBLANK('（参考様式）別紙様式第15号入力補助シート'!Q15),\"\",'（参考様式）別紙様式第15号入力補助シート'!Q15)","v":""},{"$f":"IF(ISBLANK('（参考様式）別紙様式第15号入力補助シート'!R15),\"\",'（参考様式）別紙様式第15号入力補助シート'!R15)","v":""},"",{"$f":"IFERROR(ROUNDDOWN(P24/O27,2),\"\")","v":""},{"$f":"IF(ISBLANK('（参考様式）別紙様式第15号入力補助シート'!S15),\"\",'（参考様式）別紙様式第15号入力補助シート'!S15)","v":{"v":0,"d":"0 "}},{"$f":"IF(ISBLANK('（参考様式）別紙様式第15号入力補助シート'!T15),\"\",'（参考様式）別紙様式第15号入力補助シート'!T15)","v":{"v":0,"d":"0 "}},"",{"$f":"IFERROR(ROUNDDOWN(T24/S27,2),\"\")","v":""},null,null,"（点検結果）",{"$f":"IF(ISBLANK('（参考様式）別紙様式第15号入力補助シート'!F15),\"\",'（参考様式）別紙様式第15号入力補助シート'!F15)","v":""},"事業実施\n２年後",{"$f":"IF(ISBLANK('（参考様式）別紙様式第15号入力補助シート'!I15),\"\",'（参考様式）別紙様式第15号入力補助シート'!I15)","v":""},{"$f":"IF(ISBLANK('（参考様式）別紙様式第15号入力補助シート'!J15),\"\",'（参考様式）別紙様式第15号入力補助シート'!J15)","v":""},"",{"$f":"IFERROR(ROUNDDOWN(AC24/AB27,2),\"\")","v":""},{"$f":"IF(ISBLANK('（参考様式）別紙様式第15号入力補助シート'!G15),\"\",'（参考様式）別紙様式第15号入力補助シート'!G15)","v":""},{"$f":"IF(ISBLANK('（参考様式）別紙様式第15号入力補助シート'!H15),\"\",'（参考様式）別紙様式第15号入力補助シート'!H15)","v":""},"",{"$f":"IFERROR(ROUNDDOWN(AG24/AF27,2),\"\")","v":""},{"$f":"IF(ISBLANK('（参考様式）別紙様式第15号入力補助シート'!K15),\"\",'（参考様式）別紙様式第15号入力補助シート'!K15)","v":""},{"$f":"IF(ISBLANK('（参考様式）別紙様式第15号入力補助シート'!L15),\"\",'（参考様式）別紙様式第15号入力補助シート'!L15)","v":""},"",{"$f":"IFERROR(ROUNDDOWN(AK24/AJ27,2),\"\")","v":""}]
[{"$nulls":4},{"$f":"IF(ISBLANK('（参考様式）別紙様式第15号入力補助シート'!F16),\"\",'（参考様式）別紙様式第15号入力補助シート'!F16)","v":""},"事業実施\n３年後",{"$f":"IF(ISBLANK('（参考様式）別紙様式第15号入力補助シート'!M16),\"\",'（参考様式）別紙様式第15号入力補助シート'!M16)","v":""},{"$f":"IF(ISBLANK('（参考様式）別紙様式第15号入力補助シート'!N16),\"\",'（参考様式）別紙様式第15号入力補助シート'!N16)","v":""},"",{"$f":"IFERROR(ROUNDDOWN(H25/G27,2),\"\")","v":""},{"$f":"IF(ISBLANK('（参考様式）別紙様式第15号入力補助シート'!O16),\"\",'（参考様式）別紙様式第15号入力補助シート'!O16)","v":""},{"$f":"IF(ISBLANK('（参考様式）別紙様式第15号入力補助シート'!P16),\"\",'（参考様式）別紙様式第15号入力補助シート'!P16)","v":""},"",{"$f":"IFERROR(ROUNDDOWN(L25/K27,2),\"\")","v":""},{"$f":"IF(ISBLANK('（参考様式）別紙様式第15号入力補助シート'!Q16),\"\",'（参考様式）別紙様式第15号入力補助シート'!Q16)","v":""},{"$f":"IF(ISBLANK('（参考様式）別紙様式第15号入力補助シート'!R16),\"\",'（参考様式）別紙様式第15号入力補助シート'!R16)","v":""},"",{"$f":"IFERROR(ROUNDDOWN(P25/O27,2),\"\")","v":""},{"$f":"IF(ISBLANK('（参考様式）別紙様式第15号入力補助シート'!S16),\"\",'（参考様式）別紙様式第15号入力補助シート'!S16)","v":{"v":0,"d":"0 "}},{"$f":"IF(ISBLANK('（参考様式）別紙様式第15号入力補助シート'!T16),\"\",'（参考様式）別紙様式第15号入力補助シート'!T16)","v":{"v":0,"d":"0 "}},"",{"$f":"IFERROR(ROUNDDOWN(T25/S27,2),\"\")","v":""},null,null,"（点検結果）",{"$f":"IF(ISBLANK('（参考様式）別紙様式第15号入力補助シート'!F16),\"\",'（参考様式）別紙様式第15号入力補助シート'!F16)","v":""},"事業実施\n３年後",{"$f":"IF(ISBLANK('（参考様式）別紙様式第15号入力補助シート'!I16),\"\",'（参考様式）別紙様式第15号入力補助シート'!I16)","v":""},{"$f":"IF(ISBLANK('（参考様式）別紙様式第15号入力補助シート'!J16),\"\",'（参考様式）別紙様式第15号入力補助シート'!J16)","v":""},"",{"$f":"IFERROR(ROUNDDOWN(AC25/AB27,2),\"\")","v":""},{"$f":"IF(ISBLANK('（参考様式）別紙様式第15号入力補助シート'!G16),\"\",'（参考様式）別紙様式第15号入力補助シート'!G16)","v":""},{"$f":"IF(ISBLANK('（参考様式）別紙様式第15号入力補助シート'!H16),\"\",'（参考様式）別紙様式第15号入力補助シート'!H16)","v":""},"",{"$f":"IFERROR(ROUNDDOWN(AG25/AF27,2),\"\")","v":""},{"$f":"IF(ISBLANK('（参考様式）別紙様式第15号入力補助シート'!K16),\"\",'（参考様式）別紙様式第15号入力補助シート'!K16)","v":""},{"$f":"IF(ISBLANK('（参考様式）別紙様式第15号入力補助シート'!L16),\"\",'（参考様式）別紙様式第15号入力補助シート'!L16)","v":""},"",{"$f":"IFERROR(ROUNDDOWN(AK25/AJ27,2),\"\")","v":""}]
[{"$nulls":3},"支援年度",{"$f":"IF(ISBLANK('（参考様式）別紙様式第15号入力補助シート'!F17),\"\",'（参考様式）別紙様式第15号入力補助シート'!F17)","v":""},"事業実施\n４年後",{"$f":"IF(ISBLANK('（参考様式）別紙様式第15号入力補助シート'!M17),\"\",'（参考様式）別紙様式第15号入力補助シート'!M17)","v":""},{"$f":"IF(ISBLANK('（参考様式）別紙様式第15号入力補助シート'!N17),\"\",'（参考様式）別紙様式第15号入力補助シート'!N17)","v":""},"",{"$f":"IFERROR(ROUNDDOWN(H26/G27,2),\"\")","v":""},{"$f":"IF(ISBLANK('（参考様式）別紙様式第15号入力補助シート'!O17),\"\",'（参考様式）別紙様式第15号入力補助シート'!O17)","v":""},{"$f":"IF(ISBLANK('（参考様式）別紙様式第15号入力補助シート'!P17),\"\",'（参考様式）別紙様式第15号入力補助シート'!P17)","v":""},"",{"$f":"IFERROR(ROUNDDOWN(L26/K27,2),\"\")","v":""},{"$f":"IF(ISBLANK('（参考様式）別紙様式第15号入力補助シート'!Q17),\"\",'（参考様式）別紙様式第15号入力補助シート'!Q17)","v":""},{"$f":"IF(ISBLANK('（参考様式）別紙様式第15号入力補助シート'!R17),\"\",'（参考様式）別紙様式第15号入力補助シート'!R17)","v":""},"",{"$f":"IFERROR(ROUNDDOWN(P26/O27,2),\"\")","v":""},{"$f":"IF(ISBLANK('（参考様式）別紙様式第15号入力補助シート'!S17),\"\",'（参考様式）別紙様式第15号入力補助シート'!S17)","v":{"v":0,"d":"0 "}},{"$f":"IF(ISBLANK('（参考様式）別紙様式第15号入力補助シート'!T17),\"\",'（参考様式）別紙様式第15号入力補助シート'!T17)","v":{"v":0,"d":"0 "}},"",{"$f":"IFERROR(ROUNDDOWN(T26/S27,2),\"\")","v":""},null,null,"（点検結果）",{"$f":"IF(ISBLANK('（参考様式）別紙様式第15号入力補助シート'!F17),\"\",'（参考様式）別紙様式第15号入力補助シート'!F17)","v":""},"事業実施\n４年後",{"$f":"IF(ISBLANK('（参考様式）別紙様式第15号入力補助シート'!I17),\"\",'（参考様式）別紙様式第15号入力補助シート'!I17)","v":""},{"$f":"IF(ISBLANK('（参考様式）別紙様式第15号入力補助シート'!J17),\"\",'（参考様式）別紙様式第15号入力補助シート'!J17)","v":""},"",{"$f":"IFERROR(ROUNDDOWN(AC26/AB27,2),\"\")","v":""},{"$f":"IF(ISBLANK('（参考様式）別紙様式第15号入力補助シート'!G17),\"\",'（参考様式）別紙様式第15号入力補助シート'!G17)","v":""},{"$f":"IF(ISBLANK('（参考様式）別紙様式第15号入力補助シート'!H17),\"\",'（参考様式）別紙様式第15号入力補助シート'!H17)","v":""},"",{"$f":"IFERROR(ROUNDDOWN(AG26/AF27,2),\"\")","v":""},{"$f":"IF(ISBLANK('（参考様式）別紙様式第15号入力補助シート'!K17),\"\",'（参考様式）別紙様式第15号入力補助シート'!K17)","v":""},{"$f":"IF(ISBLANK('（参考様式）別紙様式第15号入力補助シート'!L17),\"\",'（参考様式）別紙様式第15号入力補助シート'!L17)","v":""},"",{"$f":"IFERROR(ROUNDDOWN(AK26/AJ27,2),\"\")","v":""}]
[{"$nulls":3},{"$f":"IF(ISBLANK('（参考様式）別紙様式第15号入力補助シート'!D12),\"\",'（参考様式）別紙様式第15号入力補助シート'!D12)","v":""},{"$f":"IF(ISBLANK('（参考様式）別紙様式第15号入力補助シート'!F18),\"\",'（参考様式）別紙様式第15号入力補助シート'!F18)","v":""},"目標年度",{"$f":"IF(ISBLANK('（参考様式）別紙様式第15号入力補助シート'!M18),\"\",'（参考様式）別紙様式第15号入力補助シート'!M18)","v":""},{"$f":"IF(ISBLANK('（参考様式）別紙様式第15号入力補助シート'!N18),\"\",'（参考様式）別紙様式第15号入力補助シート'!N18)","v":""},"",{"$f":"IFERROR(ROUNDDOWN(H27/G27,2),\"\")","v":""},{"$f":"IF(ISBLANK('（参考様式）別紙様式第15号入力補助シート'!O18),\"\",'（参考様式）別紙様式第15号入力補助シート'!O18)","v":""},{"$f":"IF(ISBLANK('（参考様式）別紙様式第15号入力補助シート'!P18),\"\",'（参考様式）別紙様式第15号入力補助シート'!P18)","v":""},"",{"$f":"IFERROR(ROUNDDOWN(L27/K27,2),\"\")","v":""},{"$f":"IF(ISBLANK('（参考様式）別紙様式第15号入力補助シート'!Q18),\"\",'（参考様式）別紙様式第15号入力補助シート'!Q18)","v":""},{"$f":"IF(ISBLANK('（参考様式）別紙様式第15号入力補助シート'!R18),\"\",'（参考様式）別紙様式第15号入力補助シート'!R18)","v":""},"",{"$f":"IFERROR(ROUNDDOWN(P27/O27,2),\"\")","v":""},{"$f":"IF(ISBLANK('（参考様式）別紙様式第15号入力補助シート'!S18),\"\",'（参考様式）別紙様式第15号入力補助シート'!S18)","v":{"v":0,"d":"0 "}},{"$f":"IF(ISBLANK('（参考様式）別紙様式第15号入力補助シート'!T18),\"\",'（参考様式）別紙様式第15号入力補助シート'!T18)","v":0},"",{"$f":"IFERROR(ROUNDDOWN(T27/S27,2),\"\")","v":""},null,null,"（評価結果）",{"$f":"IF(ISBLANK('（参考様式）別紙様式第15号入力補助シート'!F18),\"\",'（参考様式）別紙様式第15号入力補助シート'!F18)","v":""},"目標年度",{"$f":"IF(ISBLANK('（参考様式）別紙様式第15号入力補助シート'!I18),\"\",'（参考様式）別紙様式第15号入力補助シート'!I18)","v":""},{"$f":"IF(ISBLANK('（参考様式）別紙様式第15号入力補助シート'!J18),\"\",'（参考様式）別紙様式第15号入力補助シート'!J18)","v":""},"",{"$f":"IFERROR(ROUNDDOWN(AC27/AB27,2),\"\")","v":""},{"$f":"IF(ISBLANK('（参考様式）別紙様式第15号入力補助シート'!G18),\"\",'（参考様式）別紙様式第15号入力補助シート'!G18)","v":""},{"$f":"IF(ISBLANK('（参考様式）別紙様式第15号入力補助シート'!H18),\"\",'（参考様式）別紙様式第15号入力補助シート'!H18)","v":""},"",{"$f":"IFERROR(ROUNDDOWN(AG27/AF27,2),\"\")","v":""},{"$f":"IF(ISBLANK('（参考様式）別紙様式第15号入力補助シート'!K18),\"\",'（参考様式）別紙様式第15号入力補助シート'!K18)","v":""},{"$f":"IF(ISBLANK('（参考様式）別紙様式第15号入力補助シート'!L18),\"\",'（参考様式）別紙様式第15号入力補助シート'!L18)","v":""},"",{"$f":"IFERROR(ROUNDDOWN(AK27/AJ27,2),\"\")","v":""}]
[null,{"$f":"'（参考様式）別紙様式第15号入力補助シート'!A19","v":0},null,{"$f":"'（参考様式）別紙様式第15号入力補助シート'!C19","v":0},{"$f":"'（参考様式）別紙様式第15号入力補助シート'!F19","v":0},"事業実施\n前年度",null,{"$f":"IF(ISBLANK('（参考様式）別紙様式第15号入力補助シート'!N19),\"\",'（参考様式）別紙様式第15号入力補助シート'!N19)","v":""},{"$nulls":3},{"$f":"IF(ISBLANK('（参考様式）別紙様式第15号入力補助シート'!P19),\"\",'（参考様式）別紙様式第15号入力補助シート'!P19)","v":""},{"$nulls":3},{"$f":"IF(ISBLANK('（参考様式）別紙様式第15号入力補助シート'!R19),\"\",'（参考様式）別紙様式第15号入力補助シート'!R19)","v":""},{"$nulls":3},{"$f":"IF(ISBLANK('（参考様式）別紙様式第15号入力補助シート'!T19),\"\",'（参考様式）別紙様式第15号入力補助シート'!T19)","v":0},{"$nulls":5},{"$f":"'（参考様式）別紙様式第15号入力補助シート'!F19","v":0},"事業実施\n前年度",null,{"$f":"IF(ISBLANK('（参考様式）別紙様式第15号入力補助シート'!J19),\"\",'（参考様式）別紙様式第15号入力補助シート'!J19)","v":""},{"$nulls":3},{"$f":"IF(ISBLANK('（参考様式）別紙様式第15号入力補助シート'!H19),\"\",'（参考様式）別紙様式第15号入力補助シート'!H19)","v":""},{"$nulls":3},{"$f":"IF(ISBLANK('（参考様式）別紙様式第15号入力補助シート'!L19),\"\",'（参考様式）別紙様式第15号入力補助シート'!L19)","v":""}]
[{"$nulls":4},{"$f":"'（参考様式）別紙様式第15号入力補助シート'!F20","v":0},"事業実施\n年度",{"$f":"IF(ISBLANK('（参考様式）別紙様式第15号入力補助シート'!M20),\"\",'（参考様式）別紙様式第15号入力補助シート'!M20)","v":""},{"$f":"IF(ISBLANK('（参考様式）別紙様式第15号入力補助シート'!N20),\"\",'（参考様式）別紙様式第15号入力補助シート'!N20)","v":""},{"$f":"IFERROR(ROUNDDOWN(H29/G29,2),\"\")","v":""},{"$f":"IFERROR(ROUNDDOWN(H29/G$20,2),\"\")","v":""},{"$f":"IF(ISBLANK('（参考様式）別紙様式第15号入力補助シート'!O20),\"\",'（参考様式）別紙様式第15号入力補助シート'!O20)","v":""},{"$f":"IF(ISBLANK('（参考様式）別紙様式第15号入力補助シート'!P20),\"\",'（参考様式）別紙様式第15号入力補助シート'!P20)","v":""},{"$f":"IFERROR(ROUNDDOWN(L29/K29,2),\"\")","v":""},{"$f":"IFERROR(ROUNDDOWN(L29/K$20,2),\"\")","v":""},{"$f":"IF(ISBLANK('（参考様式）別紙様式第15号入力補助シート'!Q20),\"\",'（参考様式）別紙様式第15号入力補助シート'!Q20)","v":""},{"$f":"IF(ISBLANK('（参考様式）別紙様式第15号入力補助シート'!R20),\"\",'（参考様式）別紙様式第15号入力補助シート'!R20)","v":""},{"$f":"IFERROR(ROUNDDOWN(P29/O29,2),\"\")","v":""},{"$f":"IFERROR(ROUNDDOWN(P29/O$20,2),\"\")","v":""},{"$f":"IF(ISBLANK('（参考様式）別紙様式第15号入力補助シート'!S20),\"\",'（参考様式）別紙様式第15号入力補助シート'!S20)","v":0},{"$f":"IF(ISBLANK('（参考様式）別紙様式第15号入力補助シート'!T20),\"\",'（参考様式）別紙様式第15号入力補助シート'!T20)","v":0},{"$f":"IFERROR(ROUNDDOWN(T29/S29,2),\"\")","v":""},{"$f":"IFERROR(ROUNDDOWN(T29/S$20,2),\"\")","v":""},null,null,"（点検結果）",{"$f":"'（参考様式）別紙様式第15号入力補助シート'!F20","v":0},"事業実施\n年度",{"$f":"IF(ISBLANK('（参考様式）別紙様式第15号入力補助シート'!I20),\"\",'（参考様式）別紙様式第15号入力補助シート'!I20)","v":""},{"$f":"IF(ISBLANK('（参考様式）別紙様式第15号入力補助シート'!J20),\"\",'（参考様式）別紙様式第15号入力補助シート'!J20)","v":""},{"$f":"IFERROR(ROUNDDOWN(AC29/AB29,2),\"\")","v":""},{"$f":"IFERROR(ROUNDDOWN(AC29/AB$20,2),\"\")","v":""},{"$f":"IF(ISBLANK('（参考様式）別紙様式第15号入力補助シート'!G20),\"\",'（参考様式）別紙様式第15号入力補助シート'!G20)","v":""},{"$f":"IF(ISBLANK('（参考様式）別紙様式第15号入力補助シート'!H20),\"\",'（参考様式）別紙様式第15号入力補助シート'!H20)","v":""},{"$f":"IFERROR(ROUNDDOWN(AG29/AF29,2),\"\")","v":""},{"$f":"IFERROR(ROUNDDOWN(AG29/AF$20,2),\"\")","v":""},{"$f":"IF(ISBLANK('（参考様式）別紙様式第15号入力補助シート'!K20),\"\",'（参考様式）別紙様式第15号入力補助シート'!K20)","v":""},{"$f":"IF(ISBLANK('（参考様式）別紙様式第15号入力補助シート'!L20),\"\",'（参考様式）別紙様式第15号入力補助シート'!L20)","v":""},{"$f":"IFERROR(ROUNDDOWN(AK29/AJ29,2),\"\")","v":""},{"$f":"IFERROR(ROUNDDOWN(AK29/AJ$20,2),\"\")","v":""}]
[{"$nulls":4},{"$f":"'（参考様式）別紙様式第15号入力補助シート'!F21","v":0},"事業実施\n１年後",{"$f":"IF(ISBLANK('（参考様式）別紙様式第15号入力補助シート'!M21),\"\",'（参考様式）別紙様式第15号入力補助シート'!M21)","v":""},{"$f":"IF(ISBLANK('（参考様式）別紙様式第15号入力補助シート'!N21),\"\",'（参考様式）別紙様式第15号入力補助シート'!N21)","v":""},{"$f":"IFERROR(ROUNDDOWN(H30/G30,2),\"\")","v":""},{"$f":"IFERROR(ROUNDDOWN(H30/G$20,2),\"\")","v":""},{"$f":"IF(ISBLANK('（参考様式）別紙様式第15号入力補助シート'!O21),\"\",'（参考様式）別紙様式第15号入力補助シート'!O21)","v":""},{"$f":"IF(ISBLANK('（参考様式）別紙様式第15号入力補助シート'!P21),\"\",'（参考様式）別紙様式第15号入力補助シート'!P21)","v":""},{"$f":"IFERROR(ROUNDDOWN(L30/K30,2),\"\")","v":""},{"$f":"IFERROR(ROUNDDOWN(L30/K$20,2),\"\")","v":""},{"$f":"IF(ISBLANK('（参考様式）別紙様式第15号入力補助シート'!Q21),\"\",'（参考様式）別紙様式第15号入力補助シート'!Q21)","v":""},{"$f":"IF(ISBLANK('（参考様式）別紙様式第15号入力補助シート'!R21),\"\",'（参考様式）別紙様式第15号入力補助シート'!R21)","v":""},{"$f":"IFERROR(ROUNDDOWN(P30/O30,2),\"\")","v":""},{"$f":"IFERROR(ROUNDDOWN(P30/O$20,2),\"\")","v":""},{"$f":"IF(ISBLANK('（参考様式）別紙様式第15号入力補助シート'!S21),\"\",'（参考様式）別紙様式第15号入力補助シート'!S21)","v":0},{"$f":"IF(ISBLANK('（参考様式）別紙様式第15号入力補助シート'!T21),\"\",'（参考様式）別紙様式第15号入力補助シート'!T21)","v":0},{"$f":"IFERROR(ROUNDDOWN(T30/S30,2),\"\")","v":""},{"$f":"IFERROR(ROUNDDOWN(T30/S$20,2),\"\")","v":""},null,null,"（点検結果）",{"$f":"'（参考様式）別紙様式第15号入力補助シート'!F21","v":0},"事業実施\n１年後",{"$f":"IF(ISBLANK('（参考様式）別紙様式第15号入力補助シート'!I21),\"\",'（参考様式）別紙様式第15号入力補助シート'!I21)","v":""},{"$f":"IF(ISBLANK('（参考様式）別紙様式第15号入力補助シート'!J21),\"\",'（参考様式）別紙様式第15号入力補助シート'!J21)","v":""},{"$f":"IFERROR(ROUNDDOWN(AC30/AB30,2),\"\")","v":""},{"$f":"IFERROR(ROUNDDOWN(AC30/AB$20,2),\"\")","v":""},{"$f":"IF(ISBLANK('（参考様式）別紙様式第15号入力補助シート'!G21),\"\",'（参考様式）別紙様式第15号入力補助シート'!G21)","v":""},{"$f":"IF(ISBLANK('（参考様式）別紙様式第15号入力補助シート'!H21),\"\",'（参考様式）別紙様式第15号入力補助シート'!H21)","v":""},{"$f":"IFERROR(ROUNDDOWN(AG30/AF30,2),\"\")","v":""},{"$f":"IFERROR(ROUNDDOWN(AG30/AF$20,2),\"\")","v":""},{"$f":"IF(ISBLANK('（参考様式）別紙様式第15号入力補助シート'!K21),\"\",'（参考様式）別紙様式第15号入力補助シート'!K21)","v":""},{"$f":"IF(ISBLANK('（参考様式）別紙様式第15号入力補助シート'!L21),\"\",'（参考様式）別紙様式第15号入力補助シート'!L21)","v":""},{"$f":"IFERROR(ROUNDDOWN(AK30/AJ30,2),\"\")","v":""},{"$f":"IFERROR(ROUNDDOWN(AK30/AJ$20,2),\"\")","v":""}]
[{"$nulls":4},{"$f":"'（参考様式）別紙様式第15号入力補助シート'!F22","v":0},"事業実施\n２年後",{"$f":"IF(ISBLANK('（参考様式）別紙様式第15号入力補助シート'!M22),\"\",'（参考様式）別紙様式第15号入力補助シート'!M22)","v":""},{"$f":"IF(ISBLANK('（参考様式）別紙様式第15号入力補助シート'!N22),\"\",'（参考様式）別紙様式第15号入力補助シート'!N22)","v":""},"","",{"$f":"IF(ISBLANK('（参考様式）別紙様式第15号入力補助シート'!O22),\"\",'（参考様式）別紙様式第15号入力補助シート'!O22)","v":""},{"$f":"IF(ISBLANK('（参考様式）別紙様式第15号入力補助シート'!P22),\"\",'（参考様式）別紙様式第15号入力補助シート'!P22)","v":""},"","",{"$f":"IF(ISBLANK('（参考様式）別紙様式第15号入力補助シート'!Q22),\"\",'（参考様式）別紙様式第15号入力補助シート'!Q22)","v":""},{"$f":"IF(ISBLANK('（参考様式）別紙様式第15号入力補助シート'!R22),\"\",'（参考様式）別紙様式第15号入力補助シート'!R22)","v":""},"","",{"$f":"IF(ISBLANK('（参考様式）別紙様式第15号入力補助シート'!S22),\"\",'（参考様式）別紙様式第15号入力補助シート'!S22)","v":0},{"$f":"IF(ISBLANK('（参考様式）別紙様式第15号入力補助シート'!T22),\"\",'（参考様式）別紙様式第15号入力補助シート'!T22)","v":0},"","",null,null,"（点検結果）",{"$f":"'（参考様式）別紙様式第15号入力補助シート'!F22","v":0},"事業実施\n２年後",{"$f":"IF(ISBLANK('（参考様式）別紙様式第15号入力補助シート'!I22),\"\",'（参考様式）別紙様式第15号入力補助シート'!I22)","v":""},{"$f":"IF(ISBLANK('（参考様式）別紙様式第15号入力補助シート'!J22),\"\",'（参考様式）別紙様式第15号入力補助シート'!J22)","v":""},"","",{"$f":"IF(ISBLANK('（参考様式）別紙様式第15号入力補助シート'!G22),\"\",'（参考様式）別紙様式第15号入力補助シート'!G22)","v":""},{"$f":"IF(ISBLANK('（参考様式）別紙様式第15号入力補助シート'!H22),\"\",'（参考様式）別紙様式第15号入力補助シート'!H22)","v":""},"","",{"$f":"IF(ISBLANK('（参考様式）別紙様式第15号入力補助シート'!K22),\"\",'（参考様式）別紙様式第15号入力補助シート'!K22)","v":""},{"$f":"IF(ISBLANK('（参考様式）別紙様式第15号入力補助シート'!L22),\"\",'（参考様式）別紙様式第15号入力補助シート'!L22)","v":""},"",""]
[{"$nulls":4},{"$f":"'（参考様式）別紙様式第15号入力補助シート'!F23","v":0},"事業実施\n３年後",{"$f":"IF(ISBLANK('（参考様式）別紙様式第15号入力補助シート'!M23),\"\",'（参考様式）別紙様式第15号入力補助シート'!M23)","v":""},{"$f":"IF(ISBLANK('（参考様式）別紙様式第15号入力補助シート'!N23),\"\",'（参考様式）別紙様式第15号入力補助シート'!N23)","v":""},"","",{"$f":"IF(ISBLANK('（参考様式）別紙様式第15号入力補助シート'!O23),\"\",'（参考様式）別紙様式第15号入力補助シート'!O23)","v":""},{"$f":"IF(ISBLANK('（参考様式）別紙様式第15号入力補助シート'!P23),\"\",'（参考様式）別紙様式第15号入力補助シート'!P23)","v":""},"","",{"$f":"IF(ISBLANK('（参考様式）別紙様式第15号入力補助シート'!Q23),\"\",'（参考様式）別紙様式第15号入力補助シート'!Q23)","v":""},{"$f":"IF(ISBLANK('（参考様式）別紙様式第15号入力補助シート'!R23),\"\",'（参考様式）別紙様式第15号入力補助シート'!R23)","v":""},"","",{"$f":"IF(ISBLANK('（参考様式）別紙様式第15号入力補助シート'!S23),\"\",'（参考様式）別紙様式第15号入力補助シート'!S23)","v":0},{"$f":"IF(ISBLANK('（参考様式）別紙様式第15号入力補助シート'!T23),\"\",'（参考様式）別紙様式第15号入力補助シート'!T23)","v":0},"","",null,null,"（点検結果）",{"$f":"'（参考様式）別紙様式第15号入力補助シート'!F23","v":0},"事業実施\n３年後",{"$f":"IF(ISBLANK('（参考様式）別紙様式第15号入力補助シート'!I23),\"\",'（参考様式）別紙様式第15号入力補助シート'!I23)","v":""},{"$f":"IF(ISBLANK('（参考様式）別紙様式第15号入力補助シート'!J23),\"\",'（参考様式）別紙様式第15号入力補助シート'!J23)","v":""},"","",{"$f":"IF(ISBLANK('（参考様式）別紙様式第15号入力補助シート'!G23),\"\",'（参考様式）別紙様式第15号入力補助シート'!G23)","v":""},{"$f":"IF(ISBLANK('（参考様式）別紙様式第15号入力補助シート'!H23),\"\",'（参考様式）別紙様式第15号入力補助シート'!H23)","v":""},"","",{"$f":"IF(ISBLANK('（参考様式）別紙様式第15号入力補助シート'!K23),\"\",'（参考様式）別紙様式第15号入力補助シート'!K23)","v":""},{"$f":"IF(ISBLANK('（参考様式）別紙様式第15号入力補助シート'!L23),\"\",'（参考様式）別紙様式第15号入力補助シート'!L23)","v":""},"",""]
[{"$nulls":3},"支援年度",{"$f":"'（参考様式）別紙様式第15号入力補助シート'!F24","v":0},"事業実施\n４年後",{"$f":"IF(ISBLANK('（参考様式）別紙様式第15号入力補助シート'!M24),\"\",'（参考様式）別紙様式第15号入力補助シート'!M24)","v":""},{"$f":"IF(ISBLANK('（参考様式）別紙様式第15号入力補助シート'!N24),\"\",'（参考様式）別紙様式第15号入力補助シート'!N24)","v":""},"","",{"$f":"IF(ISBLANK('（参考様式）別紙様式第15号入力補助シート'!O24),\"\",'（参考様式）別紙様式第15号入力補助シート'!O24)","v":""},{"$f":"IF(ISBLANK('（参考様式）別紙様式第15号入力補助シート'!P24),\"\",'（参考様式）別紙様式第15号入力補助シート'!P24)","v":""},"","",{"$f":"IF(ISBLANK('（参考様式）別紙様式第15号入力補助シート'!Q24),\"\",'（参考様式）別紙様式第15号入力補助シート'!Q24)","v":""},{"$f":"IF(ISBLANK('（参考様式）別紙様式第15号入力補助シート'!R24),\"\",'（参考様式）別紙様式第15号入力補助シート'!R24)","v":""},"","",{"$f":"IF(ISBLANK('（参考様式）別紙様式第15号入力補助シート'!S24),\"\",'（参考様式）別紙様式第15号入力補助シート'!S24)","v":0},{"$f":"IF(ISBLANK('（参考様式）別紙様式第15号入力補助シート'!T24),\"\",'（参考様式）別紙様式第15号入力補助シート'!T24)","v":0},"","",null,null,"（点検結果）",{"$f":"'（参考様式）別紙様式第15号入力補助シート'!F24","v":0},"事業実施\n４年後",{"$f":"IF(ISBLANK('（参考様式）別紙様式第15号入力補助シート'!I24),\"\",'（参考様式）別紙様式第15号入力補助シート'!I24)","v":""},{"$f":"IF(ISBLANK('（参考様式）別紙様式第15号入力補助シート'!J24),\"\",'（参考様式）別紙様式第15号入力補助シート'!J24)","v":""},"","",{"$f":"IF(ISBLANK('（参考様式）別紙様式第15号入力補助シート'!G24),\"\",'（参考様式）別紙様式第15号入力補助シート'!G24)","v":""},{"$f":"IF(ISBLANK('（参考様式）別紙様式第15号入力補助シート'!H24),\"\",'（参考様式）別紙様式第15号入力補助シート'!H24)","v":""},"","",{"$f":"IF(ISBLANK('（参考様式）別紙様式第15号入力補助シート'!K24),\"\",'（参考様式）別紙様式第15号入力補助シート'!K24)","v":""},{"$f":"IF(ISBLANK('（参考様式）別紙様式第15号入力補助シート'!L24),\"\",'（参考様式）別紙様式第15号入力補助シート'!L24)","v":""},"",""]
[{"$nulls":3},{"$f":"'（参考様式）別紙様式第15号入力補助シート'!D19","v":0},{"$f":"'（参考様式）別紙様式第15号入力補助シート'!F25","v":0},"目標年度",{"$f":"IF(ISBLANK('（参考様式）別紙様式第15号入力補助シート'!M25),\"\",'（参考様式）別紙様式第15号入力補助シート'!M25)","v":""},{"$f":"IF(ISBLANK('（参考様式）別紙様式第15号入力補助シート'!N25),\"\",'（参考様式）別紙様式第15号入力補助シート'!N25)","v":""},"","",{"$f":"IF(ISBLANK('（参考様式）別紙様式第15号入力補助シート'!O25),\"\",'（参考様式）別紙様式第15号入力補助シート'!O25)","v":""},{"$f":"IF(ISBLANK('（参考様式）別紙様式第15号入力補助シート'!P25),\"\",'（参考様式）別紙様式第15号入力補助シート'!P25)","v":""},"","",{"$f":"IF(ISBLANK('（参考様式）別紙様式第15号入力補助シート'!Q25),\"\",'（参考様式）別紙様式第15号入力補助シート'!Q25)","v":""},{"$f":"IF(ISBLANK('（参考様式）別紙様式第15号入力補助シート'!R25),\"\",'（参考様式）別紙様式第15号入力補助シート'!R25)","v":""},"","",{"$f":"IF(ISBLANK('（参考様式）別紙様式第15号入力補助シート'!S25),\"\",'（参考様式）別紙様式第15号入力補助シート'!S25)","v":{"v":0,"d":"0 "}},{"$f":"IF(ISBLANK('（参考様式）別紙様式第15号入力補助シート'!T25),\"\",'（参考様式）別紙様式第15号入力補助シート'!T25)","v":0},"","",null,null,"（評価結果）",{"$f":"'（参考様式）別紙様式第15号入力補助シート'!F25","v":0},"目標年度",{"$f":"IF(ISBLANK('（参考様式）別紙様式第15号入力補助シート'!I25),\"\",'（参考様式）別紙様式第15号入力補助シート'!I25)","v":""},{"$f":"IF(ISBLANK('（参考様式）別紙様式第15号入力補助シート'!J25),\"\",'（参考様式）別紙様式第15号入力補助シート'!J25)","v":""},"","",{"$f":"IF(ISBLANK('（参考様式）別紙様式第15号入力補助シート'!G25),\"\",'（参考様式）別紙様式第15号入力補助シート'!G25)","v":""},{"$f":"IF(ISBLANK('（参考様式）別紙様式第15号入力補助シート'!H25),\"\",'（参考様式）別紙様式第15号入力補助シート'!H25)","v":""},"","",{"$f":"IF(ISBLANK('（参考様式）別紙様式第15号入力補助シート'!K25),\"\",'（参考様式）別紙様式第15号入力補助シート'!K25)","v":""},{"$f":"IF(ISBLANK('（参考様式）別紙様式第15号入力補助シート'!L25),\"\",'（参考様式）別紙様式第15号入力補助シート'!L25)","v":""},"",""]
[null,"都道府県\n平均達成率",{"$nulls":4},"－","－",{"$f":"IFERROR((#REF!+#REF!)/2,\"\")","v":""},null,"－","－",{"$f":"IFERROR((#REF!+#REF!)/2,\"\")","v":""},null,"－","－",{"$f":"IFERROR((#REF!+#REF!)/2,\"\")","v":""},null,"－","－",{"$f":"IFERROR((#REF!+#REF!)/2,\"\")","v":""},{"$nulls":6},"－","－",{"$f":"IFERROR((#REF!+#REF!)/2,\"\")","v":""},null,"－","－",{"$f":"IFERROR((#REF!+#REF!)/2,\"\")","v":""},null,"－","－",{"$f":"IFERROR((#REF!+#REF!)/2,\"\")","v":""}]
[null,"総合所見"]
[]
[null," （注１）　年度別達成率及び全体達成率の欄には、事業実施年度から目標年度までの間の目標値に対する実績値の比率を記載すること。"]
[null," （注２）　事業実施年度から目標年度までの事業年度ごとの経営改善状況について、記載すること。　"]
[null," （注３）　複数回支援を受けた支援対象者等は、報告時点で有効な支援計画に対する報告とし、それ以前の報告を省略することができる。"]
[null," （注４）　都道府県における評価の欄には、達成率に応じた次のアルファベットを記載する。"]
[{"$nulls":3},"Ａ：達成率が90％以上"]
[{"$nulls":3},"Ｂ：達成率が50％以上90％未満"]
[{"$nulls":3},"Ｃ：達成率が30％以上50％未満"]
[{"$nulls":3},"Ｄ：達成率が30％未満"]