Workbook

Sheet 別記5-1別紙（集落分）
B1: （別記５－１ 別紙）
C3: ○○○○広域協定参加同意書
AI4: 年 月 日
B5: ○○○○広域協定
B6: 運営委員会会長 氏 名 殿
S7: 参加集落（活動組織）
S8: 所在地
S9: 代表者
D12: 当集落（活動組織）については、○○○○広域協定に参加することを同意します。
B14: 記
B16: １．協定の対象となる農用地
F18: 協定農用地 | R18: 備考
C19: 地目 | F19: 田 | I19: 畑 | L19: 草地 | O19: 計
C20: 面積 | H20: a | K20: a | N20: a | Q20: a
F22: 対象農用地（農地維持支払交付金） | R22: 備考
C23: 地目 | F23: 田 | I23: 畑 | L23: 草地 | O23: 計
C24: 面積 | H24: a | K24: a | N24: a | Q24: a
F26: 対象農用地（資源向上支払交付金） | AD26: 備考
F27: 地域資源の質的向上を図る共同活動 | R27: 施設の長寿命化のための活動
C28: 地目 | F28: 田 | I28: 畑 | L28: 草地 | O28: 計 | R28: 田 | U28: 畑 | X28: 草地 | AA28: 計
C29: 面積 | H29: a | K29: a | N29: a | Q29: a | T29: a | W29: a | Z29: a | AC29: a
B31: ２．協定の対象となる施設
C33: 施設 | F33: 水路 | N33: 農道 | V33: ため池 | AD33: 備考
C34: 数量 | L34: km | T34: km | AB34: 箇所
B36: ３．協定参加集落（活動組織）の構成員注1
C37: ① 農業者の個人又は団体注２
C38: 番号 | F38: 氏名 | M38: 住所 | AD38: 備考
C42: ② 農業者以外の個人
C43: 番号 | F43: 氏名 | M43: 住所 | AD43: 備考
B47: ③ 集落内の農業者以外の団体（婦人会、老人会他）注３
C48: 番号 | F48: 団体名・代表者 | M48: 住所 | AD48: 備考
B52: ４．構成員人数
I54: 番号 | K54: 分類 | R54: 構成員人数・団体数
C55: 農業者 | F55: 個人として参加 | I55: 1 | K55: 農業者個人 | R55: =IF((COUNTIF($C$39:$E$50,I55))>0,COUNTIF($C$39:$E$50,I55),"")&"人" -> 人
F56: 団体として参加 | I56: 2 | K56: 農事組合法人 | R56: =IF((COUNTIF($C$39:$E$50,I56))>0,COUNTIF($C$39:$E$50,I56),"")&"団体" -> 団体
I57: 3 | K57: 営農組合 | R57: =IF((COUNTIF($C$39:$E$50,I57))>0,COUNTIF($C$39:$E$50,I57),"")&"団体" -> 団体
I58: 4 | K58: その他の農業者団体 | R58: =IF((COUNTIF($C$39:$E$50,I58))>0,COUNTIF($C$39:$E$50,I58),"")&"団体" -> 団体
C59: 農業者以外 | F59: 個人として参加 | I59: 5 | K59: 農業者以外個人 | R59: =IF((COUNTIF($C$39:$E$50,I59))>0,COUNTIF($C$39:$E$50,I59),"")&"人" -> 人
F60: 団体として参加 | I60: 6 | K60: 自治会 | R60: =IF((COUNTIF($C$39:$E$50,I60))>0,COUNTIF($C$39:$E$50,I60),"")&"団体" -> 団体
I61: 7 | K61: 女性会 | R61: =IF((COUNTIF($C$39:$E$50,I61))>0,COUNTIF($C$39:$E$50,I61),"")&"団体" -> 団体
I62: 8 | K62: 子供会 | R62: =IF((COUNTIF($C$39:$E$50,I62))>0,COUNTIF($C$39:$E$50,I62),"")&"団体" -> 団体
I63: 9 | K63: 土地改良区 | R63: =IF((COUNTIF($C$39:$E$50,I63))>0,COUNTIF($C$39:$E$50,I63),"")&"団体" -> 団体
I64: 10 | K64: JA | R64: =IF((COUNTIF($C$39:$E$50,I64))>0,COUNTIF($C$39:$E$50,I64),"")&"団体" -> 団体
I65: 11 | K65: 学校・PTA | R65: =IF((COUNTIF($C$39:$E$50,I65))>0,COUNTIF($C$39:$E$50,I65),"")&"団体" -> 団体
I66: 12 | K66: NPO | R66: =IF((COUNTIF($C$39:$E$50,I66))>0,COUNTIF($C$39:$E$50,I66),"")&"団体" -> 団体
I67: 13 | K67: その他の農業者以外団体 | R67: =IF((COUNTIF($C$39:$E$50,I67))>0,COUNTIF($C$39:$E$50,I67),"")&"団体" -> 団体
B70: 注１： | D70: 番号欄は、「４.構成員人数」の表中の分類番号から選択する。
B71: 注２： | D71: 「農業者」とは、協定に位置付けられている農用地において耕作又は養畜の業務を営む農業者又は団体。
B72: 注３： | D72: 集落（活動組織）の代表者の他に、広域協定運営委員会の委員を選定する場合は、当該構成員の備考欄に「運営委員会委員」と記載する。

Sheet 別記5-1（個人）
B1: （別記５－１ 別紙）
C3: ○○○○広域協定参加同意書
AI4: 年 月 日
B5: ○○○○広域協定
B6: 運営委員会会長 氏 名 殿
S7: 所在地
S8: 氏名
D11: 私、○○○○は、○○○○広域協定に参加することを同意します。
B13: 記
B15: １．協定の対象となる農用地
F17: 協定農用地 | R17: 備考
C18: 地目 | F18: 田 | I18: 畑 | L18: 草地 | O18: 計
C19: 面積 | H19: a | K19: a | N19: a | Q19: a
F21: 対象農用地（農地維持支払交付金） | R21: 備考
C22: 地目 | F22: 田 | I22: 畑 | L22: 草地 | O22: 計
C23: 面積 | H23: a | K23: a | N23: a | Q23: a
F25: 対象農用地（資源向上支払交付金） | AD25: 備考
F26: 地域資源の質的向上を図る共同活動 | R26: 施設の長寿命化のための活動
C27: 地目 | F27: 田 | I27: 畑 | L27: 草地 | O27: 計 | R27: 田 | U27: 畑 | X27: 草地 | AA27: 計
C28: 面積 | H28: a | K28: a | N28: a | Q28: a | T28: a | W28: a | Z28: a | AC28: a
B31: ２．協定の対象となる施設
C33: 施設 | F33: 水路 | N33: 農道 | V33: ため池 | AD33: 備考
C34: 数量 | L34: km | T34: km | AB34: 箇所
B37: 注１： | D37: 「農業者」とは、協定に位置付けられている農用地において耕作又は養畜の業務を営む農業者又は団体。
B38: 注２： | D38: 集落（活動組織）の代表者の他に、広域協定運営委員会の委員を選定する場合は、当該構成員の備考欄に「運営委員会委員」と記載する。
B40: 注１： | D40: 農業経営者を協定に位置付ける場合は、本様式を使用し、必要箇所を記載する。

Sheet 別記5-1別紙（団体）
B1: （別記５－１ 別紙）
C4: ○○○○広域協定参加同意書
AI5: 年 月 日
B6: ○○○○広域協定
B7: 運営委員会会長 氏 名 殿
S8: 団体名
S9: 所在地
S10: 代表者
D13: 当団体については、○○○○広域協定に参加することを同意します。
B17: 記
D20: １．団体の設立目的
D24: ２．団体の設立年月日
D28: ３．協定における役割
D32: ４．構成員人数
E33: 計
J34: 農業者 | O34: 農業者以外
I35: 人 | N35: 人 | S35: 人

Sheet 別紙図面
C3: （別紙）
C4: 協定対象区域図面
AF5: 組織名：

Sheet 別表（農用地及び施設）
B2: （別表）
C4: 協定対象農用地及び施設
B7: １．協定の対象となる農用地
H9: 協定農用地
H10: 田 | K10: 畑 | N10: 草地 | Q10: 計
H11: 0 | K11: 0 | N11: 0 | Q11: =SUM(H11:P11) -> 0
H12: 0 | K12: 0 | N12: 0 | Q12: =SUM(H12:P12) -> 0
H13: 0 | K13: 0 | N13: 0 | Q13: =SUM(H13:P13) -> 0
C14: この線より上に行を挿入してください。
C15: 合計 | H15: =SUM(H11:J14) -> 0 | K15: =SUM(K11:M14) -> 0 | N15: =SUM(N11:P14) -> 0 | Q15: =SUM(Q11:S14) -> 0
H17: 対象農用地（農地維持支払交付金）
H18: 田 | K18: 畑 | N18: 草地 | Q18: 計
H19: 0 | K19: 0 | N19: 0 | Q19: =SUM(H19:P19) -> 0
H20: 0 | K20: 0 | N20: 0 | Q20: =SUM(H20:P20) -> 0
H21: 0 | K21: 0 | N21: 0 | Q21: =SUM(H21:P21) -> 0
C22: この線より上に行を挿入してください。
C23: 合計 | H23: =SUM(H19:J22) -> 0 | K23: =SUM(K19:M22) -> 0 | N23: =SUM(N19:P22) -> 0 | Q23: =SUM(Q19:S22) -> 0
H26: 対象農用地（資源向上支払交付金）
H27: 地域資源の質的向上を図る共同活動 | T27: 施設の長寿命化のための活動
H28: 田 | K28: 畑 | N28: 草地 | Q28: 計 | T28: 田 | W28: 畑 | Z28: 草地 | AC28: 計
H29: 0 | K29: 0 | N29: 0 | Q29: =SUM(H29:P29) -> 0 | T29: 0 | W29: 0 | Z29: 0 | AC29: =SUM(T29:AB29) -> 0
H30: 0 | K30: 0 | N30: 0 | Q30: =SUM(H30:P30) -> 0 | T30: 0 | W30: 0 | Z30: 0 | AC30: =SUM(T30:AB30) -> 0
H31: 0 | K31: 0 | N31: 0 | Q31: =SUM(H31:P31) -> 0 | T31: 0 | W31: 0 | Z31: 0 | AC31: =SUM(T31:AB31) -> 0
C32: この線より上に行を挿入してください。
C33: 合計 | H33: =SUM(H29:J32) -> 0 | K33: =SUM(K29:M32) -> 0 | N33: =SUM(N29:P32) -> 0 | Q33: =SUM(Q29:S32) -> 0 | T33: =SUM(T29:V32) -> 0 | W33: =SUM(W29:Y32) -> 0 | Z33: =SUM(Z29:AB32) -> 0 | AC33: =SUM(AC29:AE32) -> 0
B37: ２．協定の対象となる施設
C39: 集落（活動組織） | H39: 水路 | P39: 農道 | X39: ため池
H40: 0 | P40: 0 | X40: 0
H41: 0 | P41: 0 | X41: 0
H42: 0 | P42: 0 | X42: 0
C43: この線より上に行を挿入してください。
C44: 合計 | H44: 0 | P44: 0 | X44: 0

Sheet 【記入例】別表（農用地及び施設）
B2: （別表）
C4: 協定対象農用地及び施設
B7: １．協定の対象となる農用地
H9: 協定農用地
H10: 田 | K10: 畑 | N10: 草地 | Q10: 計
C11: Ａ | H11: 0 | K11: 0 | N11: 0 | Q11: =SUM(H11:P11) -> 0
C12: Ｂ | H12: 0 | K12: 0 | N12: 0 | Q12: =SUM(H12:P12) -> 0
C13: Ｃ | H13: 0 | K13: 0 | N13: 0 | Q13: =SUM(H13:P13) -> 0
C14: この線より上に行を挿入してください。
C15: 合計 | H15: =SUM(H11:J14) -> 0 | K15: =SUM(K11:M14) -> 0 | N15: =SUM(N11:P14) -> 0 | Q15: =SUM(Q11:S14) -> 0
H17: 対象農用地（農地維持支払交付金）
H18: 田 | K18: 畑 | N18: 草地 | Q18: 計
C19: Ａ | H19: 0 | K19: 0 | N19: 0 | Q19: =SUM(H19:P19) -> 0
C20: Ｂ | H20: 0 | K20: 0 | N20: 0 | Q20: =SUM(H20:P20) -> 0
C21: Ｃ | H21: 0 | K21: 0 | N21: 0 | Q21: =SUM(H21:P21) -> 0
C22: この線より上に行を挿入してください。
C23: 合計 | H23: =SUM(H19:J22) -> 0 | K23: =SUM(K19:M22) -> 0 | N23: =SUM(N19:P22) -> 0 | Q23: =SUM(Q19:S22) -> 0
H26: 対象農用地（資源向上支払交付金）
H27: 地域資源の質的向上を図る共同活動 | T27: 施設の長寿命化のための活動
H28: 田 | K28: 畑 | N28: 草地 | Q28: 計 | T28: 田 | W28: 畑 | Z28: 草地 | AC28: 計
C29: Ａ | H29: 0 | K29: 0 | N29: 0 | Q29: =SUM(H29:P29) -> 0 | T29: 0 | W29: 0 | Z29: 0 | AC29: =SUM(T29:AB29) -> 0
C30: Ｂ | H30: 0 | K30: 0 | N30: 0 | Q30: =SUM(H30:P30) -> 0 | T30: 0 | W30: 0 | Z30: 0 | AC30: =SUM(T30:AB30) -> 0
C31: Ｃ | H31: 0 | K31: 0 | N31: 0 | Q31: =SUM(H31:P31) -> 0 | T31: 0 | W31: 0 | Z31: 0 | AC31: =SUM(T31:AB31) -> 0
C32: この線より上に行を挿入してください。
C33: 合計 | H33: =SUM(H29:J32) -> 0 | K33: =SUM(K29:M32) -> 0 | N33: =SUM(N29:P32) -> 0 | Q33: =SUM(Q29:S32) -> 0 | T33: =SUM(T29:V32) -> 0 | W33: =SUM(W29:Y32) -> 0 | Z33: =SUM(Z29:AB32) -> 0 | AC33: =SUM(AC29:AE32) -> 0
B37: ２．協定の対象となる施設
C39: 集落（活動組織） | H39: 水路 | P39: 農道 | X39: ため池
C40: Ａ | H40: 0 | P40: 0 | X40: 0
C41: Ｂ | H41: 0 | P41: 0 | X41: 0
C42: Ｃ | H42: 0 | P42: 0 | X42: 0
C43: この線より上に行を挿入してください。
C44: 合計 | H44: 0 | P44: 0 | X44: 0

Sheet データ整理_別表（農用地及び施設）
B1: 集落名13 | C1: 田13 | D1: 畑13 | E1: 草地13 | G1: 集落名14 | H1: 田14 | I1: 畑14 | J1: 草地14 | L1: 集落名15 | M1: 田15 | N1: 畑15 | O1: 草地15 | Q1: 集落名16 | R1: 田16 | S1: 畑16 | T1: 草地16 | V1: 集落（活動組織）17 | W1: 水路17 | X1: 農道17 | Y1: ため池17
A2: 1 | B2: =IF(OFFSET('別表（農用地及び施設）'!$C$10,$A2,)="","",OFFSET('別表（農用地及び施設）'!$C$10,$A2,)) | C2: =IF(OFFSET('別表（農用地及び施設）'!$H$10,$A2,)="","",OFFSET('別表（農用地及び施設）'!$H$10,$A2,)) -> 0 | D2: =IF(OFFSET('別表（農用地及び施設）'!$K$10,$A2,)="","",OFFSET('別表（農用地及び施設）'!$K$10,$A2,)) -> 0 | E2: =IF(OFFSET('別表（農用地及び施設）'!$N$10,$A2,)="","",OFFSET('別表（農用地及び施設）'!$N$10,$A2,)) -> 0 | F2: 1 | G2: =IF(OFFSET('別表（農用地及び施設）'!$C$18,$F2,)="","",OFFSET('別表（農用地及び施設）'!$C$18,$F2,)) | H2: =IF(OFFSET('別表（農用地及び施設）'!$H$18,$F2,)="","",OFFSET('別表（農用地及び施設）'!$H$18,$F2,)) -> 0 | I2: =IF(OFFSET('別表（農用地及び施設）'!$K$18,$F2,)="","",OFFSET('別表（農用地及び施設）'!$K$18,$F2,)) -> 0 | J2: =IF(OFFSET('別表（農用地及び施設）'!$N$18,$F2,)="","",OFFSET('別表（農用地及び施設）'!$N$18,$F2,)) -> 0 | K2: 1 | L2: =IF(OFFSET('別表（農用地及び施設）'!$C$28,$F2,)="","",OFFSET('別表（農用地及び施設）'!$C$28,$F2,)) | M2: =IF(OFFSET('別表（農用地及び施設）'!$H$28,$F2,)="","",OFFSET('別表（農用地及び施設）'!$H$28,$F2,)) -> 0 | N2: =IF(OFFSET('別表（農用地及び施設）'!$K$28,$F2,)="","",OFFSET('別表（農用地及び施設）'!$K$28,$F2,)) -> 0 | O2: =IF(OFFSET('別表（農用地及び施設）'!$N$28,$F2,)="","",OFFSET('別表（農用地及び施設）'!$N$28,$F2,)) -> 0 | P2: 1 | Q2: =IF(OFFSET('別表（農用地及び施設）'!$C$28,$P2,)="","",OFFSET('別表（農用地及び施設）'!$C$28,$P2,)) | R2: =IF(OFFSET('別表（農用地及び施設）'!$W$28,$P2,)="","",OFFSET('別表（農用地及び施設）'!$W$28,$P2,)) -> 0 | S2: =IF(OFFSET('別表（農用地及び施設）'!$K$28,$F2,)="","",OFFSET('別表（農用地及び施設）'!$K$28,$F2,)) -> 0 | T2: =IF(OFFSET('別表（農用地及び施設）'!$Z$28,$P2,)="","",OFFSET('別表（農用地及び施設）'!$Z$28,$P2,)) -> 0 | U2: 1 | V2: =IF(OFFSET('別表（農用地及び施設）'!$C$39,$U2,)="","",OFFSET('別表（農用地及び施設）'!$C$39,$U2,)) | W2: =IF(OFFSET('別表（農用地及び施設）'!$H$39,$U2,)="","",OFFSET('別表（農用地及び施設）'!$H$39,$U2,)) -> 0 | X2: =IF(OFFSET('別表（農用地及び施設）'!$P$39,$U2,)="","",OFFSET('別表（農用地及び施設）'!$P$39,$U2,)) -> 0 | Y2: =IF(OFFSET('別表（農用地及び施設）'!$X$39,$U2,)="","",OFFSET('別表（農用地及び施設）'!$X$39,$U2,)) -> 0
A3: 2 | B3: =IF(OFFSET('別表（農用地及び施設）'!$C$10,$A3,)="","",OFFSET('別表（農用地及び施設）'!$C$10,$A3,)) | C3: =IF(OFFSET('別表（農用地及び施設）'!$H$10,$A3,)="","",OFFSET('別表（農用地及び施設）'!$H$10,$A3,)) -> 0 | D3: =IF(OFFSET('別表（農用地及び施設）'!$K$10,$A3,)="","",OFFSET('別表（農用地及び施設）'!$K$10,$A3,)) -> 0 | E3: =IF(OFFSET('別表（農用地及び施設）'!$N$10,$A3,)="","",OFFSET('別表（農用地及び施設）'!$N$10,$A3,)) -> 0 | F3: 2 | G3: =IF(OFFSET('別表（農用地及び施設）'!$C$18,$F3,)="","",OFFSET('別表（農用地及び施設）'!$C$18,$F3,)) | H3: =IF(OFFSET('別表（農用地及び施設）'!$H$18,$F3,)="","",OFFSET('別表（農用地及び施設）'!$H$18,$F3,)) -> 0 | I3: =IF(OFFSET('別表（農用地及び施設）'!$K$18,$F3,)="","",OFFSET('別表（農用地及び施設）'!$K$18,$F3,)) -> 0 | J3: =IF(OFFSET('別表（農用地及び施設）'!$N$18,$F3,)="","",OFFSET('別表（農用地及び施設）'!$N$18,$F3,)) -> 0 | K3: 2 | L3: =IF(OFFSET('別表（農用地及び施設）'!$C$28,$F3,)="","",OFFSET('別表（農用地及び施設）'!$C$28,$F3,)) | M3: =IF(OFFSET('別表（農用地及び施設）'!$H$28,$F3,)="","",OFFSET('別表（農用地及び施設）'!$H$28,$F3,)) -> 0 | N3: =IF(OFFSET('別表（農用地及び施設）'!$K$28,$F3,)="","",OFFSET('別表（農用地及び施設）'!$K$28,$F3,)) -> 0 | O3: =IF(OFFSET('別表（農用地及び施設）'!$N$28,$F3,)="","",OFFSET('別表（農用地及び施設）'!$N$28,$F3,)) -> 0 | P3: 2 | Q3: =IF(OFFSET('別表（農用地及び施設）'!$C$28,$P3,)="","",OFFSET('別表（農用地及び施設）'!$C$28,$P3,)) | R3: =IF(OFFSET('別表（農用地及び施設）'!$W$28,$P3,)="","",OFFSET('別表（農用地及び施設）'!$W$28,$P3,)) -> 0 | S3: =IF(OFFSET('別表（農用地及び施設）'!$K$28,$F3,)="","",OFFSET('別表（農用地及び施設）'!$K$28,$F3,)) -> 0 | T3: =IF(OFFSET('別表（農用地及び施設）'!$Z$28,$P3,)="","",OFFSET('別表（農用地及び施設）'!$Z$28,$P3,)) -> 0 | U3: 2 | V3: =IF(OFFSET('別表（農用地及び施設）'!$C$39,$U3,)="","",OFFSET('別表（農用地及び施設）'!$C$39,$U3,)) | W3: =IF(OFFSET('別表（農用地及び施設）'!$H$39,$U3,)="","",OFFSET('別表（農用地及び施設）'!$H$39,$U3,)) -> 0 | X3: =IF(OFFSET('別表（農用地及び施設）'!$P$39,$U3,)="","",OFFSET('別表（農用地及び施設）'!$P$39,$U3,)) -> 0 | Y3: =IF(OFFSET('別表（農用地及び施設）'!$X$39,$U3,)="","",OFFSET('別表（農用地及び施設）'!$X$39,$U3,)) -> 0
A4: 3 | B4: =IF(OFFSET('別表（農用地及び施設）'!$C$10,$A4,)="","",OFFSET('別表（農用地及び施設）'!$C$10,$A4,)) | C4: =IF(OFFSET('別表（農用地及び施設）'!$H$10,$A4,)="","",OFFSET('別表（農用地及び施設）'!$H$10,$A4,)) -> 0 | D4: =IF(OFFSET('別表（農用地及び施設）'!$K$10,$A4,)="","",OFFSET('別表（農用地及び施設）'!$K$10,$A4,)) -> 0 | E4: =IF(OFFSET('別表（農用地及び施設）'!$N$10,$A4,)="","",OFFSET('別表（農用地及び施設）'!$N$10,$A4,)) -> 0 | F4: 3 | G4: =IF(OFFSET('別表（農用地及び施設）'!$C$18,$F4,)="","",OFFSET('別表（農用地及び施設）'!$C$18,$F4,)) | H4: =IF(OFFSET('別表（農用地及び施設）'!$H$18,$F4,)="","",OFFSET('別表（農用地及び施設）'!$H$18,$F4,)) -> 0 | I4: =IF(OFFSET('別表（農用地及び施設）'!$K$18,$F4,)="","",OFFSET('別表（農用地及び施設）'!$K$18,$F4,)) -> 0 | J4: =IF(OFFSET('別表（農用地及び施設）'!$N$18,$F4,)="","",OFFSET('別表（農用地及び施設）'!$N$18,$F4,)) -> 0 | K4: 3 | L4: =IF(OFFSET('別表（農用地及び施設）'!$C$28,$F4,)="","",OFFSET('別表（農用地及び施設）'!$C$28,$F4,)) | M4: =IF(OFFSET('別表（農用地及び施設）'!$H$28,$F4,)="","",OFFSET('別表（農用地及び施設）'!$H$28,$F4,)) -> 0 | N4: =IF(OFFSET('別表（農用地及び施設）'!$K$28,$F4,)="","",OFFSET('別表（農用地及び施設）'!$K$28,$F4,)) -> 0 | O4: =IF(OFFSET('別表（農用地及び施設）'!$N$28,$F4,)="","",OFFSET('別表（農用地及び施設）'!$N$28,$F4,)) -> 0 | P4: 3 | Q4: =IF(OFFSET('別表（農用地及び施設）'!$C$28,$P4,)="","",OFFSET('別表（農用地及び施設）'!$C$28,$P4,)) | R4: =IF(OFFSET('別表（農用地及び施設）'!$W$28,$P4,)="","",OFFSET('別表（農用地及び施設）'!$W$28,$P4,)) -> 0 | S4: =IF(OFFSET('別表（農用地及び施設）'!$K$28,$F4,)="","",OFFSET('別表（農用地及び施設）'!$K$28,$F4,)) -> 0 | T4: =IF(OFFSET('別表（農用地及び施設）'!$Z$28,$P4,)="","",OFFSET('別表（農用地及び施設）'!$Z$28,$P4,)) -> 0 | U4: 3 | V4: =IF(OFFSET('別表（農用地及び施設）'!$C$39,$U4,)="","",OFFSET('別表（農用地及び施設）'!$C$39,$U4,)) | W4: =IF(OFFSET('別表（農用地及び施設）'!$H$39,$U4,)="","",OFFSET('別表（農用地及び施設）'!$H$39,$U4,)) -> 0 | X4: =IF(OFFSET('別表（農用地及び施設）'!$P$39,$U4,)="","",OFFSET('別表（農用地及び施設）'!$P$39,$U4,)) -> 0 | Y4: =IF(OFFSET('別表（農用地及び施設）'!$X$39,$U4,)="","",OFFSET('別表（農用地及び施設）'!$X$39,$U4,)) -> 0
A5: 4 | B5: =IF(OFFSET('別表（農用地及び施設）'!$C$10,$A5,)="","",OFFSET('別表（農用地及び施設）'!$C$10,$A5,)) -> この線より上に行を挿入してください。 | C5: =IF(OFFSET('別表（農用地及び施設）'!$H$10,$A5,)="","",OFFSET('別表（農用地及び施設）'!$H$10,$A5,)) | D5: =IF(OFFSET('別表（農用地及び施設）'!$K$10,$A5,)="","",OFFSET('別表（農用地及び施設）'!$K$10,$A5,)) | E5: =IF(OFFSET('別表（農用地及び施設）'!$N$10,$A5,)="","",OFFSET('別表（農用地及び施設）'!$N$10,$A5,)) | F5: 4 | G5: =IF(OFFSET('別表（農用地及び施設）'!$C$18,$F5,)="","",OFFSET('別表（農用地及び施設）'!$C$18,$F5,)) -> この線より上に行を挿入してください。 | H5: =IF(OFFSET('別表（農用地及び施設）'!$H$18,$F5,)="","",OFFSET('別表（農用地及び施設）'!$H$18,$F5,)) | I5: =IF(OFFSET('別表（農用地及び施設）'!$K$18,$F5,)="","",OFFSET('別表（農用地及び施設）'!$K$18,$F5,)) | J5: =IF(OFFSET('別表（農用地及び施設）'!$N$18,$F5,)="","",OFFSET('別表（農用地及び施設）'!$N$18,$F5,)) | K5: 4 | L5: =IF(OFFSET('別表（農用地及び施設）'!$C$28,$F5,)="","",OFFSET('別表（農用地及び施設）'!$C$28,$F5,)) -> この線より上に行を挿入してください。 | M5: =IF(OFFSET('別表（農用地及び施設）'!$H$28,$F5,)="","",OFFSET('別表（農用地及び施設）'!$H$28,$F5,)) | N5: =IF(OFFSET('別表（農用地及び施設）'!$K$28,$F5,)="","",OFFSET('別表（農用地及び施設）'!$K$28,$F5,)) | O5: =IF(OFFSET('別表（農用地及び施設）'!$N$28,$F5,)="","",OFFSET('別表（農用地及び施設）'!$N$28,$F5,)) | P5: 4 | Q5: =IF(OFFSET('別表（農用地及び施設）'!$C$28,$P5,)="","",OFFSET('別表（農用地及び施設）'!$C$28,$P5,)) -> この線より上に行を挿入してください。 | R5: =IF(OFFSET('別表（農用地及び施設）'!$W$28,$P5,)="","",OFFSET('別表（農用地及び施設）'!$W$28,$P5,)) | S5: =IF(OFFSET('別表（農用地及び施設）'!$K$28,$F5,)="","",OFFSET('別表（農用地及び施設）'!$K$28,$F5,)) | T5: =IF(OFFSET('別表（農用地及び施設）'!$Z$28,$P5,)="","",OFFSET('別表（農用地及び施設）'!$Z$28,$P5,)) | U5: 4 | V5: =IF(OFFSET('別表（農用地及び施設）'!$C$39,$U5,)="","",OFFSET('別表（農用地及び施設）'!$C$39,$U5,)) -> この線より上に行を挿入してください。 | W5: =IF(OFFSET('別表（農用地及び施設）'!$H$39,$U5,)="","",OFFSET('別表（農用地及び施設）'!$H$39,$U5,)) | X5: =IF(OFFSET('別表（農用地及び施設）'!$P$39,$U5,)="","",OFFSET('別表（農用地及び施設）'!$P$39,$U5,)) | Y5: =IF(OFFSET('別表（農用地及び施設）'!$X$39,$U5,)="","",OFFSET('別表（農用地及び施設）'!$X$39,$U5,))
A6: 5 | B6: =IF(OFFSET('別表（農用地及び施設）'!$C$10,$A6,)="","",OFFSET('別表（農用地及び施設）'!$C$10,$A6,)) -> 合計 | C6: =IF(OFFSET('別表（農用地及び施設）'!$H$10,$A6,)="","",OFFSET('別表（農用地及び施設）'!$H$10,$A6,)) -> 0 | D6: =IF(OFFSET('別表（農用地及び施設）'!$K$10,$A6,)="","",OFFSET('別表（農用地及び施設）'!$K$10,$A6,)) -> 0 | E6: =IF(OFFSET('別表（農用地及び施設）'!$N$10,$A6,)="","",OFFSET('別表（農用地及び施設）'!$N$10,$A6,)) -> 0 | F6: 5 | G6: =IF(OFFSET('別表（農用地及び施設）'!$C$18,$F6,)="","",OFFSET('別表（農用地及び施設）'!$C$18,$F6,)) -> 合計 | H6: =IF(OFFSET('別表（農用地及び施設）'!$H$18,$F6,)="","",OFFSET('別表（農用地及び施設）'!$H$18,$F6,)) -> 0 | I6: =IF(OFFSET('別表（農用地及び施設）'!$K$18,$F6,)="","",OFFSET('別表（農用地及び施設）'!$K$18,$F6,)) -> 0 | J6: =IF(OFFSET('別表（農用地及び施設）'!$N$18,$F6,)="","",OFFSET('別表（農用地及び施設）'!$N$18,$F6,)) -> 0 | K6: 5 | L6: =IF(OFFSET('別表（農用地及び施設）'!$C$28,$F6,)="","",OFFSET('別表（農用地及び施設）'!$C$28,$F6,)) -> 合計 | M6: =IF(OFFSET('別表（農用地及び施設）'!$H$28,$F6,)="","",OFFSET('別表（農用地及び施設）'!$H$28,$F6,)) -> 0 | N6: =IF(OFFSET('別表（農用地及び施設）'!$K$28,$F6,)="","",OFFSET('別表（農用地及び施設）'!$K$28,$F6,)) -> 0 | O6: =IF(OFFSET('別表（農用地及び施設）'!$N$28,$F6,)="","",OFFSET('別表（農用地及び施設）'!$N$28,$F6,)) -> 0 | P6: 5 | Q6: =IF(OFFSET('別表（農用地及び施設）'!$C$28,$P6,)="","",OFFSET('別表（農用地及び施設）'!$C$28,$P6,)) -> 合計 | R6: =IF(OFFSET('別表（農用地及び施設）'!$W$28,$P6,)="","",OFFSET('別表（農用地及び施設）'!$W$28,$P6,)) -> 0 | S6: =IF(OFFSET('別表（農用地及び施設）'!$K$28,$F6,)="","",OFFSET('別表（農用地及び施設）'!$K$28,$F6,)) -> 0 | T6: =IF(OFFSET('別表（農用地及び施設）'!$Z$28,$P6,)="","",OFFSET('別表（農用地及び施設）'!$Z$28,$P6,)) -> 0 | U6: 5 | V6: =IF(OFFSET('別表（農用地及び施設）'!$C$39,$U6,)="","",OFFSET('別表（農用地及び施設）'!$C$39,$U6,)) -> 合計 | W6: =IF(OFFSET('別表（農用地及び施設）'!$H$39,$U6,)="","",OFFSET('別表（農用地及び施設）'!$H$39,$U6,)) -> 0 | X6: =IF(OFFSET('別表（農用地及び施設）'!$P$39,$U6,)="","",OFFSET('別表（農用地及び施設）'!$P$39,$U6,)) -> 0 | Y6: =IF(OFFSET('別表（農用地及び施設）'!$X$39,$U6,)="","",OFFSET('別表（農用地及び施設）'!$X$39,$U6,)) -> 0
A7: 6 | B7: =IF(OFFSET('別表（農用地及び施設）'!$C$10,$A7,)="","",OFFSET('別表（農用地及び施設）'!$C$10,$A7,)) | C7: =IF(OFFSET('別表（農用地及び施設）'!$H$10,$A7,)="","",OFFSET('別表（農用地及び施設）'!$H$10,$A7,)) | D7: =IF(OFFSET('別表（農用地及び施設）'!$K$10,$A7,)="","",OFFSET('別表（農用地及び施設）'!$K$10,$A7,)) | E7: =IF(OFFSET('別表（農用地及び施設）'!$N$10,$A7,)="","",OFFSET('別表（農用地及び施設）'!$N$10,$A7,)) | F7: 6 | G7: =IF(OFFSET('別表（農用地及び施設）'!$C$18,$F7,)="","",OFFSET('別表（農用地及び施設）'!$C$18,$F7,)) | H7: =IF(OFFSET('別表（農用地及び施設）'!$H$18,$F7,)="","",OFFSET('別表（農用地及び施設）'!$H$18,$F7,)) | I7: =IF(OFFSET('別表（農用地及び施設）'!$K$18,$F7,)="","",OFFSET('別表（農用地及び施設）'!$K$18,$F7,)) | J7: =IF(OFFSET('別表（農用地及び施設）'!$N$18,$F7,)="","",OFFSET('別表（農用地及び施設）'!$N$18,$F7,)) | K7: 6 | L7: =IF(OFFSET('別表（農用地及び施設）'!$C$28,$F7,)="","",OFFSET('別表（農用地及び施設）'!$C$28,$F7,)) | M7: =IF(OFFSET('別表（農用地及び施設）'!$H$28,$F7,)="","",OFFSET('別表（農用地及び施設）'!$H$28,$F7,)) | N7: =IF(OFFSET('別表（農用地及び施設）'!$K$28,$F7,)="","",OFFSET('別表（農用地及び施設）'!$K$28,$F7,)) | O7: =IF(OFFSET('別表（農用地及び施設）'!$N$28,$F7,)="","",OFFSET('別表（農用地及び施設）'!$N$28,$F7,)) | P7: 6 | Q7: =IF(OFFSET('別表（農用地及び施設）'!$C$28,$P7,)="","",OFFSET('別表（農用地及び施設）'!$C$28,$P7,)) | R7: =IF(OFFSET('別表（農用地及び施設）'!$W$28,$P7,)="","",OFFSET('別表（農用地及び施設）'!$W$28,$P7,)) | S7: =IF(OFFSET('別表（農用地及び施設）'!$K$28,$F7,)="","",OFFSET('別表（農用地及び施設）'!$K$28,$F7,)) | T7: =IF(OFFSET('別表（農用地及び施設）'!$Z$28,$P7,)="","",OFFSET('別表（農用地及び施設）'!$Z$28,$P7,)) | U7: 6 | V7: =IF(OFFSET('別表（農用地及び施設）'!$C$39,$U7,)="","",OFFSET('別表（農用地及び施設）'!$C$39,$U7,)) | W7: =IF(OFFSET('別表（農用地及び施設）'!$H$39,$U7,)="","",OFFSET('別表（農用地及び施設）'!$H$39,$U7,)) | X7: =IF(OFFSET('別表（農用地及び施設）'!$P$39,$U7,)="","",OFFSET('別表（農用地及び施設）'!$P$39,$U7,)) | Y7: =IF(OFFSET('別表（農用地及び施設）'!$X$39,$U7,)="","",OFFSET('別表（農用地及び施設）'!$X$39,$U7,))
A8: 7 | B8: =IF(OFFSET('別表（農用地及び施設）'!$C$10,$A8,)="","",OFFSET('別表（農用地及び施設）'!$C$10,$A8,)) | C8: =IF(OFFSET('別表（農用地及び施設）'!$H$10,$A8,)="","",OFFSET('別表（農用地及び施設）'!$H$10,$A8,)) -> 対象農用地（農地維持支払交付金） | D8: =IF(OFFSET('別表（農用地及び施設）'!$K$10,$A8,)="","",OFFSET('別表（農用地及び施設）'!$K$10,$A8,)) | E8: =IF(OFFSET('別表（農用地及び施設）'!$N$10,$A8,)="","",OFFSET('別表（農用地及び施設）'!$N$10,$A8,)) | F8: 7 | G8: =IF(OFFSET('別表（農用地及び施設）'!$C$18,$F8,)="","",OFFSET('別表（農用地及び施設）'!$C$18,$F8,)) | H8: =IF(OFFSET('別表（農用地及び施設）'!$H$18,$F8,)="","",OFFSET('別表（農用地及び施設）'!$H$18,$F8,)) | I8: =IF(OFFSET('別表（農用地及び施設）'!$K$18,$F8,)="","",OFFSET('別表（農用地及び施設）'!$K$18,$F8,)) | J8: =IF(OFFSET('別表（農用地及び施設）'!$N$18,$F8,)="","",OFFSET('別表（農用地及び施設）'!$N$18,$F8,)) | K8: 7 | L8: =IF(OFFSET('別表（農用地及び施設）'!$C$28,$F8,)="","",OFFSET('別表（農用地及び施設）'!$C$28,$F8,)) | M8: =IF(OFFSET('別表（農用地及び施設）'!$H$28,$F8,)="","",OFFSET('別表（農用地及び施設）'!$H$28,$F8,)) | N8: =IF(OFFSET('別表（農用地及び施設）'!$K$28,$F8,)="","",OFFSET('別表（農用地及び施設）'!$K$28,$F8,)) | O8: =IF(OFFSET('別表（農用地及び施設）'!$N$28,$F8,)="","",OFFSET('別表（農用地及び施設）'!$N$28,$F8,)) | P8: 7 | Q8: =IF(OFFSET('別表（農用地及び施設）'!$C$28,$P8,)="","",OFFSET('別表（農用地及び施設）'!$C$28,$P8,)) | R8: =IF(OFFSET('別表（農用地及び施設）'!$W$28,$P8,)="","",OFFSET('別表（農用地及び施設）'!$W$28,$P8,)) | S8: =IF(OFFSET('別表（農用地及び施設）'!$K$28,$F8,)="","",OFFSET('別表（農用地及び施設）'!$K$28,$F8,)) | T8: =IF(OFFSET('別表（農用地及び施設）'!$Z$28,$P8,)="","",OFFSET('別表（農用地及び施設）'!$Z$28,$P8,)) | U8: 7 | V8: =IF(OFFSET('別表（農用地及び施設）'!$C$39,$U8,)="","",OFFSET('別表（農用地及び施設）'!$C$39,$U8,)) | W8: =IF(OFFSET('別表（農用地及び施設）'!$H$39,$U8,)="","",OFFSET('別表（農用地及び施設）'!$H$39,$U8,)) | X8: =IF(OFFSET('別表（農用地及び施設）'!$P$39,$U8,)="","",OFFSET('別表（農用地及び施設）'!$P$39,$U8,)) | Y8: =IF(OFFSET('別表（農用地及び施設）'!$X$39,$U8,)="","",OFFSET('別表（農用地及び施設）'!$X$39,$U8,))
A9: 8 | B9: =IF(OFFSET('別表（農用地及び施設）'!$C$10,$A9,)="","",OFFSET('別表（農用地及び施設）'!$C$10,$A9,)) | C9: =IF(OFFSET('別表（農用地及び施設）'!$H$10,$A9,)="","",OFFSET('別表（農用地及び施設）'!$H$10,$A9,)) -> 田 | D9: =IF(OFFSET('別表（農用地及び施設）'!$K$10,$A9,)="","",OFFSET('別表（農用地及び施設）'!$K$10,$A9,)) -> 畑 | E9: =IF(OFFSET('別表（農用地及び施設）'!$N$10,$A9,)="","",OFFSET('別表（農用地及び施設）'!$N$10,$A9,)) -> 草地 | F9: 8 | G9: =IF(OFFSET('別表（農用地及び施設）'!$C$18,$F9,)="","",OFFSET('別表（農用地及び施設）'!$C$18,$F9,)) | H9: =IF(OFFSET('別表（農用地及び施設）'!$H$18,$F9,)="","",OFFSET('別表（農用地及び施設）'!$H$18,$F9,)) -> 対象農用地（資源向上支払交付金） | I9: =IF(OFFSET('別表（農用地及び施設）'!$K$18,$F9,)="","",OFFSET('別表（農用地及び施設）'!$K$18,$F9,)) | J9: =IF(OFFSET('別表（農用地及び施設）'!$N$18,$F9,)="","",OFFSET('別表（農用地及び施設）'!$N$18,$F9,)) | K9: 8 | L9: =IF(OFFSET('別表（農用地及び施設）'!$C$28,$F9,)="","",OFFSET('別表（農用地及び施設）'!$C$28,$F9,)) | M9: =IF(OFFSET('別表（農用地及び施設）'!$H$28,$F9,)="","",OFFSET('別表（農用地及び施設）'!$H$28,$F9,)) | N9: =IF(OFFSET('別表（農用地及び施設）'!$K$28,$F9,)="","",OFFSET('別表（農用地及び施設）'!$K$28,$F9,)) | O9: =IF(OFFSET('別表（農用地及び施設）'!$N$28,$F9,)="","",OFFSET('別表（農用地及び施設）'!$N$28,$F9,)) | P9: 8 | Q9: =IF(OFFSET('別表（農用地及び施設）'!$C$28,$P9,)="","",OFFSET('別表（農用地及び施設）'!$C$28,$P9,)) | R9: =IF(OFFSET('別表（農用地及び施設）'!$W$28,$P9,)="","",OFFSET('別表（農用地及び施設）'!$W$28,$P9,)) | S9: =IF(OFFSET('別表（農用地及び施設）'!$K$28,$F9,)="","",OFFSET('別表（農用地及び施設）'!$K$28,$F9,)) | T9: =IF(OFFSET('別表（農用地及び施設）'!$Z$28,$P9,)="","",OFFSET('別表（農用地及び施設）'!$Z$28,$P9,)) | U9: 8 | V9: =IF(OFFSET('別表（農用地及び施設）'!$C$39,$U9,)="","",OFFSET('別表（農用地及び施設）'!$C$39,$U9,)) | W9: =IF(OFFSET('別表（農用地及び施設）'!$H$39,$U9,)="","",OFFSET('別表（農用地及び施設）'!$H$39,$U9,)) | X9: =IF(OFFSET('別表（農用地及び施設）'!$P$39,$U9,)="","",OFFSET('別表（農用地及び施設）'!$P$39,$U9,)) | Y9: =IF(OFFSET('別表（農用地及び施設）'!$X$39,$U9,)="","",OFFSET('別表（農用地及び施設）'!$X$39,$U9,))
A10: 9 | B10: =IF(OFFSET('別表（農用地及び施設）'!$C$10,$A10,)="","",OFFSET('別表（農用地及び施設）'!$C$10,$A10,)) | C10: =IF(OFFSET('別表（農用地及び施設）'!$H$10,$A10,)="","",OFFSET('別表（農用地及び施設）'!$H$10,$A10,)) -> 0 | D10: =IF(OFFSET('別表（農用地及び施設）'!$K$10,$A10,)="","",OFFSET('別表（農用地及び施設）'!$K$10,$A10,)) -> 0 | E10: =IF(OFFSET('別表（農用地及び施設）'!$N$10,$A10,)="","",OFFSET('別表（農用地及び施設）'!$N$10,$A10,)) -> 0 | F10: 9 | G10: =IF(OFFSET('別表（農用地及び施設）'!$C$18,$F10,)="","",OFFSET('別表（農用地及び施設）'!$C$18,$F10,)) | H10: =IF(OFFSET('別表（農用地及び施設）'!$H$18,$F10,)="","",OFFSET('別表（農用地及び施設）'!$H$18,$F10,)) -> 地域資源の質的向上を図る共同活動 | I10: =IF(OFFSET('別表（農用地及び施設）'!$K$18,$F10,)="","",OFFSET('別表（農用地及び施設）'!$K$18,$F10,)) | J10: =IF(OFFSET('別表（農用地及び施設）'!$N$18,$F10,)="","",OFFSET('別表（農用地及び施設）'!$N$18,$F10,)) | K10: 9 | L10: =IF(OFFSET('別表（農用地及び施設）'!$C$28,$F10,)="","",OFFSET('別表（農用地及び施設）'!$C$28,$F10,)) | M10: =IF(OFFSET('別表（農用地及び施設）'!$H$28,$F10,)="","",OFFSET('別表（農用地及び施設）'!$H$28,$F10,)) | N10: =IF(OFFSET('別表（農用地及び施設）'!$K$28,$F10,)="","",OFFSET('別表（農用地及び施設）'!$K$28,$F10,)) | O10: =IF(OFFSET('別表（農用地及び施設）'!$N$28,$F10,)="","",OFFSET('別表（農用地及び施設）'!$N$28,$F10,)) | P10: 9 | Q10: =IF(OFFSET('別表（農用地及び施設）'!$C$28,$P10,)="","",OFFSET('別表（農用地及び施設）'!$C$28,$P10,)) | R10: =IF(OFFSET('別表（農用地及び施設）'!$W$28,$P10,)="","",OFFSET('別表（農用地及び施設）'!$W$28,$P10,)) | S10: =IF(OFFSET('別表（農用地及び施設）'!$K$28,$F10,)="","",OFFSET('別表（農用地及び施設）'!$K$28,$F10,)) | T10: =IF(OFFSET('別表（農用地及び施設）'!$Z$28,$P10,)="","",OFFSET('別表（農用地及び施設）'!$Z$28,$P10,)) | U10: 9 | V10: =IF(OFFSET('別表（農用地及び施設）'!$C$39,$U10,)="","",OFFSET('別表（農用地及び施設）'!$C$39,$U10,)) | W10: =IF(OFFSET('別表（農用地及び施設）'!$H$39,$U10,)="","",OFFSET('別表（農用地及び施設）'!$H$39,$U10,)) | X10: =IF(OFFSET('別表（農用地及び施設）'!$P$39,$U10,)="","",OFFSET('別表（農用地及び施設）'!$P$39,$U10,)) | Y10: =IF(OFFSET('別表（農用地及び施設）'!$X$39,$U10,)="","",OFFSET('別表（農用地及び施設）'!$X$39,$U10,))
A11: 10 | B11: =IF(OFFSET('別表（農用地及び施設）'!$C$10,$A11,)="","",OFFSET('別表（農用地及び施設）'!$C$10,$A11,)) | C11: =IF(OFFSET('別表（農用地及び施設）'!$H$10,$A11,)="","",OFFSET('別表（農用地及び施設）'!$H$10,$A11,)) -> 0 | D11: =IF(OFFSET('別表（農用地及び施設）'!$K$10,$A11,)="","",OFFSET('別表（農用地及び施設）'!$K$10,$A11,)) -> 0 | E11: =IF(OFFSET('別表（農用地及び施設）'!$N$10,$A11,)="","",OFFSET('別表（農用地及び施設）'!$N$10,$A11,)) -> 0 | F11: 10 | G11: =IF(OFFSET('別表（農用地及び施設）'!$C$18,$F11,)="","",OFFSET('別表（農用地及び施設）'!$C$18,$F11,)) | H11: =IF(OFFSET('別表（農用地及び施設）'!$H$18,$F11,)="","",OFFSET('別表（農用地及び施設）'!$H$18,$F11,)) -> 田 | I11: =IF(OFFSET('別表（農用地及び施設）'!$K$18,$F11,)="","",OFFSET('別表（農用地及び施設）'!$K$18,$F11,)) -> 畑 | J11: =IF(OFFSET('別表（農用地及び施設）'!$N$18,$F11,)="","",OFFSET('別表（農用地及び施設）'!$N$18,$F11,)) -> 草地 | K11: 10 | L11: =IF(OFFSET('別表（農用地及び施設）'!$C$28,$F11,)="","",OFFSET('別表（農用地及び施設）'!$C$28,$F11,)) | M11: =IF(OFFSET('別表（農用地及び施設）'!$H$28,$F11,)="","",OFFSET('別表（農用地及び施設）'!$H$28,$F11,)) | N11: =IF(OFFSET('別表（農用地及び施設）'!$K$28,$F11,)="","",OFFSET('別表（農用地及び施設）'!$K$28,$F11,)) | O11: =IF(OFFSET('別表（農用地及び施設）'!$N$28,$F11,)="","",OFFSET('別表（農用地及び施設）'!$N$28,$F11,)) | P11: 10 | Q11: =IF(OFFSET('別表（農用地及び施設）'!$C$28,$P11,)="","",OFFSET('別表（農用地及び施設）'!$C$28,$P11,)) | R11: =IF(OFFSET('別表（農用地及び施設）'!$W$28,$P11,)="","",OFFSET('別表（農用地及び施設）'!$W$28,$P11,)) | S11: =IF(OFFSET('別表（農用地及び施設）'!$K$28,$F11,)="","",OFFSET('別表（農用地及び施設）'!$K$28,$F11,)) | T11: =IF(OFFSET('別表（農用地及び施設）'!$Z$28,$P11,)="","",OFFSET('別表（農用地及び施設）'!$Z$28,$P11,)) | U11: 10 | V11: =IF(OFFSET('別表（農用地及び施設）'!$C$39,$U11,)="","",OFFSET('別表（農用地及び施設）'!$C$39,$U11,)) | W11: =IF(OFFSET('別表（農用地及び施設）'!$H$39,$U11,)="","",OFFSET('別表（農用地及び施設）'!$H$39,$U11,)) | X11: =IF(OFFSET('別表（農用地及び施設）'!$P$39,$U11,)="","",OFFSET('別表（農用地及び施設）'!$P$39,$U11,)) | Y11: =IF(OFFSET('別表（農用地及び施設）'!$X$39,$U11,)="","",OFFSET('別表（農用地及び施設）'!$X$39,$U11,))
A12: 11 | B12: =IF(OFFSET('別表（農用地及び施設）'!$C$10,$A12,)="","",OFFSET('別表（農用地及び施設）'!$C$10,$A12,)) | C12: =IF(OFFSET('別表（農用地及び施設）'!$H$10,$A12,)="","",OFFSET('別表（農用地及び施設）'!$H$10,$A12,)) -> 0 | D12: =IF(OFFSET('別表（農用地及び施設）'!$K$10,$A12,)="","",OFFSET('別表（農用地及び施設）'!$K$10,$A12,)) -> 0 | E12: =IF(OFFSET('別表（農用地及び施設）'!$N$10,$A12,)="","",OFFSET('別表（農用地及び施設）'!$N$10,$A12,)) -> 0 | F12: 11 | G12: =IF(OFFSET('別表（農用地及び施設）'!$C$18,$F12,)="","",OFFSET('別表（農用地及び施設）'!$C$18,$F12,)) | H12: =IF(OFFSET('別表（農用地及び施設）'!$H$18,$F12,)="","",OFFSET('別表（農用地及び施設）'!$H$18,$F12,)) -> 0 | I12: =IF(OFFSET('別表（農用地及び施設）'!$K$18,$F12,)="","",OFFSET('別表（農用地及び施設）'!$K$18,$F12,)) -> 0 | J12: =IF(OFFSET('別表（農用地及び施設）'!$N$18,$F12,)="","",OFFSET('別表（農用地及び施設）'!$N$18,$F12,)) -> 0 | K12: 11 | L12: =IF(OFFSET('別表（農用地及び施設）'!$C$28,$F12,)="","",OFFSET('別表（農用地及び施設）'!$C$28,$F12,)) -> 集落（活動組織） | M12: =IF(OFFSET('別表（農用地及び施設）'!$H$28,$F12,)="","",OFFSET('別表（農用地及び施設）'!$H$28,$F12,)) -> 水路 | N12: =IF(OFFSET('別表（農用地及び施設）'!$K$28,$F12,)="","",OFFSET('別表（農用地及び施設）'!$K$28,$F12,)) | O12: =IF(OFFSET('別表（農用地及び施設）'!$N$28,$F12,)="","",OFFSET('別表（農用地及び施設）'!$N$28,$F12,)) | P12: 11 | Q12: =IF(OFFSET('別表（農用地及び施設）'!$C$28,$P12,)="","",OFFSET('別表（農用地及び施設）'!$C$28,$P12,)) -> 集落（活動組織） | R12: =IF(OFFSET('別表（農用地及び施設）'!$W$28,$P12,)="","",OFFSET('別表（農用地及び施設）'!$W$28,$P12,)) | S12: =IF(OFFSET('別表（農用地及び施設）'!$K$28,$F12,)="","",OFFSET('別表（農用地及び施設）'!$K$28,$F12,)) | T12: =IF(OFFSET('別表（農用地及び施設）'!$Z$28,$P12,)="","",OFFSET('別表（農用地及び施設）'!$Z$28,$P12,)) | U12: 11 | V12: =IF(OFFSET('別表（農用地及び施設）'!$C$39,$U12,)="","",OFFSET('別表（農用地及び施設）'!$C$39,$U12,)) | W12: =IF(OFFSET('別表（農用地及び施設）'!$H$39,$U12,)="","",OFFSET('別表（農用地及び施設）'!$H$39,$U12,)) | X12: =IF(OFFSET('別表（農用地及び施設）'!$P$39,$U12,)="","",OFFSET('別表（農用地及び施設）'!$P$39,$U12,)) | Y12: =IF(OFFSET('別表（農用地及び施設）'!$X$39,$U12,)="","",OFFSET('別表（農用地及び施設）'!$X$39,$U12,))
A13: 12 | B13: =IF(OFFSET('別表（農用地及び施設）'!$C$10,$A13,)="","",OFFSET('別表（農用地及び施設）'!$C$10,$A13,)) -> この線より上に行を挿入してください。 | C13: =IF(OFFSET('別表（農用地及び施設）'!$H$10,$A13,)="","",OFFSET('別表（農用地及び施設）'!$H$10,$A13,)) | D13: =IF(OFFSET('別表（農用地及び施設）'!$K$10,$A13,)="","",OFFSET('別表（農用地及び施設）'!$K$10,$A13,)) | E13: =IF(OFFSET('別表（農用地及び施設）'!$N$10,$A13,)="","",OFFSET('別表（農用地及び施設）'!$N$10,$A13,)) | F13: 12 | G13: =IF(OFFSET('別表（農用地及び施設）'!$C$18,$F13,)="","",OFFSET('別表（農用地及び施設）'!$C$18,$F13,)) | H13: =IF(OFFSET('別表（農用地及び施設）'!$H$18,$F13,)="","",OFFSET('別表（農用地及び施設）'!$H$18,$F13,)) -> 0 | I13: =IF(OFFSET('別表（農用地及び施設）'!$K$18,$F13,)="","",OFFSET('別表（農用地及び施設）'!$K$18,$F13,)) -> 0 | J13: =IF(OFFSET('別表（農用地及び施設）'!$N$18,$F13,)="","",OFFSET('別表（農用地及び施設）'!$N$18,$F13,)) -> 0 | K13: 12 | L13: =IF(OFFSET('別表（農用地及び施設）'!$C$28,$F13,)="","",OFFSET('別表（農用地及び施設）'!$C$28,$F13,)) | M13: =IF(OFFSET('別表（農用地及び施設）'!$H$28,$F13,)="","",OFFSET('別表（農用地及び施設）'!$H$28,$F13,)) -> 0 | N13: =IF(OFFSET('別表（農用地及び施設）'!$K$28,$F13,)="","",OFFSET('別表（農用地及び施設）'!$K$28,$F13,)) | O13: =IF(OFFSET('別表（農用地及び施設）'!$N$28,$F13,)="","",OFFSET('別表（農用地及び施設）'!$N$28,$F13,)) | P13: 12 | Q13: =IF(OFFSET('別表（農用地及び施設）'!$C$28,$P13,)="","",OFFSET('別表（農用地及び施設）'!$C$28,$P13,)) | R13: =IF(OFFSET('別表（農用地及び施設）'!$W$28,$P13,)="","",OFFSET('別表（農用地及び施設）'!$W$28,$P13,)) | S13: =IF(OFFSET('別表（農用地及び施設）'!$K$28,$F13,)="","",OFFSET('別表（農用地及び施設）'!$K$28,$F13,)) | T13: =IF(OFFSET('別表（農用地及び施設）'!$Z$28,$P13,)="","",OFFSET('別表（農用地及び施設）'!$Z$28,$P13,)) | U13: 12 | V13: =IF(OFFSET('別表（農用地及び施設）'!$C$39,$U13,)="","",OFFSET('別表（農用地及び施設）'!$C$39,$U13,)) | W13: =IF(OFFSET('別表（農用地及び施設）'!$H$39,$U13,)="","",OFFSET('別表（農用地及び施設）'!$H$39,$U13,)) | X13: =IF(OFFSET('別表（農用地及び施設）'!$P$39,$U13,)="","",OFFSET('別表（農用地及び施設）'!$P$39,$U13,)) | Y13: =IF(OFFSET('別表（農用地及び施設）'!$X$39,$U13,)="","",OFFSET('別表（農用地及び施設）'!$X$39,$U13,))
... A3000: 2999 | B3000: =IF(OFFSET('別表（農用地及び施設）'!$C$10,$A3000,)="","",OFFSET('別表（農用地及び施設）'!$C$10,$A3000,)) | C3000: =IF(OFFSET('別表（農用地及び施設）'!$H$10,$A3000,)="","",OFFSET('別表（農用地及び施設）'!$H$10,$A3000,)) | D3000: =IF(OFFSET('別表（農用地及び施設）'!$K$10,$A3000,)="","",OFFSET('別表（農用地及び施設）'!$K$10,$A3000,)) | E3000: =IF(OFFSET('別表（農用地及び施設）'!$N$10,$A3000,)="","",OFFSET('別表（農用地及び施設）'!$N$10,$A3000,)) | F3000: 2999 | G3000: =IF(OFFSET('別表（農用地及び施設）'!$C$18,$F3000,)="","",OFFSET('別表（農用地及び施設）'!$C$18,$F3000,)) | H3000: =IF(OFFSET('別表（農用地及び施設）'!$H$18,$F3000,)="","",OFFSET('別表（農用地及び施設）'!$H$18,$F3000,)) | I3000: =IF(OFFSET('別表（農用地及び施設）'!$K$18,$F3000,)="","",OFFSET('別表（農用地及び施設）'!$K$18,$F3000,)) | J3000: =IF(OFFSET('別表（農用地及び施設）'!$N$18,$F3000,)="","",OFFSET('別表（農用地及び施設）'!$N$18,$F3000,)) | K3000: 2999 | L3000: =IF(OFFSET('別表（農用地及び施設）'!$C$28,$F3000,)="","",OFFSET('別表（農用地及び施設）'!$C$28,$F3000,)) | M3000: =IF(OFFSET('別表（農用地及び施設）'!$H$28,$F3000,)="","",OFFSET('別表（農用地及び施設）'!$H$28,$F3000,)) | N3000: =IF(OFFSET('別表（農用地及び施設）'!$K$28,$F3000,)="","",OFFSET('別表（農用地及び施設）'!$K$28,$F3000,)) | O3000: =IF(OFFSET('別表（農用地及び施設）'!$N$28,$F3000,)="","",OFFSET('別表（農用地及び施設）'!$N$28,$F3000,)) | P3000: 2999 | Q3000: =IF(OFFSET('別表（農用地及び施設）'!$C$28,$P3000,)="","",OFFSET('別表（農用地及び施設）'!$C$28,$P3000,)) | R3000: =IF(OFFSET('別表（農用地及び施設）'!$W$28,$P3000,)="","",OFFSET('別表（農用地及び施設）'!$W$28,$P3000,)) | S3000: =IF(OFFSET('別表（農用地及び施設）'!$K$28,$F3000,)="","",OFFSET('別表（農用地及び施設）'!$K$28,$F3000,)) | T3000: =IF(OFFSET('別表（農用地及び施設）'!$Z$28,$P3000,)="","",OFFSET('別表（農用地及び施設）'!$Z$28,$P3000,)) | U3000: 2999 | V3000: =IF(OFFSET('別表（農用地及び施設）'!$C$39,$U3000,)="","",OFFSET('別表（農用地及び施設）'!$C$39,$U3000,)) | W3000: =IF(OFFSET('別表（農用地及び施設）'!$H$39,$U3000,)="","",OFFSET('別表（農用地及び施設）'!$H$39,$U3000,)) | X3000: =IF(OFFSET('別表（農用地及び施設）'!$P$39,$U3000,)="","",OFFSET('別表（農用地及び施設）'!$P$39,$U3000,)) | Y3000: =IF(OFFSET('別表（農用地及び施設）'!$X$39,$U3000,)="","",OFFSET('別表（農用地及び施設）'!$X$39,$U3000,))

Sheet データ取込シート_別表（農用地及び施設）
A1: 集落名13 | B1: 田13 | C1: 畑13 | D1: 草地13 | E1: 集落名14 | F1: 田14 | G1: 畑14 | H1: 草地14 | I1: 集落名15 | J1: 田15 | K1: 畑15 | L1: 草地15 | M1: 集落名16 | N1: 田16 | O1: 畑16 | P1: 草地16 | Q1: 集落（活動組織）17 | R1: 水路17 | S1: 農道17 | T1: ため池17
A2: =IF(COUNTIF('データ整理_別表（農用地及び施設）'!$B$2:'データ整理_別表（農用地及び施設）'!$B2,"この線より上に行を挿入してください。")=0,'データ整理_別表（農用地及び施設）'!$B2,"") | B2: =IF(COUNTIF('データ整理_別表（農用地及び施設）'!$B$2:'データ整理_別表（農用地及び施設）'!$B2,"この線より上に行を挿入してください。")=0,'データ整理_別表（農用地及び施設）'!$C2,"") -> 0 | C2: =IF(COUNTIF('データ整理_別表（農用地及び施設）'!$B$2:'データ整理_別表（農用地及び施設）'!$B2,"この線より上に行を挿入してください。")=0,'データ整理_別表（農用地及び施設）'!$D2,"") -> 0 | D2: =IF(COUNTIF('データ整理_別表（農用地及び施設）'!$B$2:'データ整理_別表（農用地及び施設）'!$B2,"この線より上に行を挿入してください。")=0,'データ整理_別表（農用地及び施設）'!$E2,"") -> 0 | E2: =IF(COUNTIF('データ整理_別表（農用地及び施設）'!$G$2:'データ整理_別表（農用地及び施設）'!$G2,"この線より上に行を挿入してください。")=0,'データ整理_別表（農用地及び施設）'!$G2,"") | F2: =IF(COUNTIF('データ整理_別表（農用地及び施設）'!$G$2:'データ整理_別表（農用地及び施設）'!$G2,"この線より上に行を挿入してください。")=0,'データ整理_別表（農用地及び施設）'!$H2,"") -> 0 | G2: =IF(COUNTIF('データ整理_別表（農用地及び施設）'!$G$2:'データ整理_別表（農用地及び施設）'!$G2,"この線より上に行を挿入してください。")=0,'データ整理_別表（農用地及び施設）'!$I2,"") -> 0 | H2: =IF(COUNTIF('データ整理_別表（農用地及び施設）'!$G$2:'データ整理_別表（農用地及び施設）'!$G2,"この線より上に行を挿入してください。")=0,'データ整理_別表（農用地及び施設）'!$J2,"") -> 0 | I2: =IF(COUNTIF('データ整理_別表（農用地及び施設）'!$L$2:'データ整理_別表（農用地及び施設）'!$L2,"この線より上に行を挿入してください。")=0,'データ整理_別表（農用地及び施設）'!$L2,"") | J2: =IF(COUNTIF('データ整理_別表（農用地及び施設）'!$L$2:'データ整理_別表（農用地及び施設）'!$L2,"この線より上に行を挿入してください。")=0,'データ整理_別表（農用地及び施設）'!$M2,"") -> 0 | K2: =IF(COUNTIF('データ整理_別表（農用地及び施設）'!$L$2:'データ整理_別表（農用地及び施設）'!$L2,"この線より上に行を挿入してください。")=0,'データ整理_別表（農用地及び施設）'!$N2,"") -> 0 | L2: =IF(COUNTIF('データ整理_別表（農用地及び施設）'!$L$2:'データ整理_別表（農用地及び施設）'!$L2,"この線より上に行を挿入してください。")=0,'データ整理_別表（農用地及び施設）'!$O2,"") -> 0 | M2: =IF(COUNTIF('データ整理_別表（農用地及び施設）'!$B$2:'データ整理_別表（農用地及び施設）'!$B2,"この線より上に行を挿入してください。")=0,'データ整理_別表（農用地及び施設）'!$B2,"") | N2: =IF(COUNTIF('データ整理_別表（農用地及び施設）'!$B$2:'データ整理_別表（農用地及び施設）'!$B2,"この線より上に行を挿入してください。")=0,'データ整理_別表（農用地及び施設）'!$C2,"") -> 0 | O2: =IF(COUNTIF('データ整理_別表（農用地及び施設）'!$B$2:'データ整理_別表（農用地及び施設）'!$B2,"この線より上に行を挿入してください。")=0,'データ整理_別表（農用地及び施設）'!$D2,"") -> 0 | P2: =IF(COUNTIF('データ整理_別表（農用地及び施設）'!$B$2:'データ整理_別表（農用地及び施設）'!$B2,"この線より上に行を挿入してください。")=0,'データ整理_別表（農用地及び施設）'!$E2,"") -> 0 | Q2: =IF(COUNTIF('データ整理_別表（農用地及び施設）'!$V$2:'データ整理_別表（農用地及び施設）'!$V2,"この線より上に行を挿入してください。")=0,'データ整理_別表（農用地及び施設）'!$V2,"") | R2: =IF(COUNTIF('データ整理_別表（農用地及び施設）'!$V$2:'データ整理_別表（農用地及び施設）'!$V2,"この線より上に行を挿入してください。")=0,'データ整理_別表（農用地及び施設）'!$W2,"") -> 0 | S2: =IF(COUNTIF('データ整理_別表（農用地及び施設）'!$V$2:'データ整理_別表（農用地及び施設）'!$V2,"この線より上に行を挿入してください。")=0,'データ整理_別表（農用地及び施設）'!$X2,"") -> 0 | T2: =IF(COUNTIF('データ整理_別表（農用地及び施設）'!$V$2:'データ整理_別表（農用地及び施設）'!$V2,"この線より上に行を挿入してください。")=0,'データ整理_別表（農用地及び施設）'!$Y2,"") -> 0
A3: =IF(COUNTIF('データ整理_別表（農用地及び施設）'!$B$2:'データ整理_別表（農用地及び施設）'!$B3,"この線より上に行を挿入してください。")=0,'データ整理_別表（農用地及び施設）'!$B3,"") | B3: =IF(COUNTIF('データ整理_別表（農用地及び施設）'!$B$2:'データ整理_別表（農用地及び施設）'!$B3,"この線より上に行を挿入してください。")=0,'データ整理_別表（農用地及び施設）'!$C3,"") -> 0 | C3: =IF(COUNTIF('データ整理_別表（農用地及び施設）'!$B$2:'データ整理_別表（農用地及び施設）'!$B3,"この線より上に行を挿入してください。")=0,'データ整理_別表（農用地及び施設）'!$D3,"") -> 0 | D3: =IF(COUNTIF('データ整理_別表（農用地及び施設）'!$B$2:'データ整理_別表（農用地及び施設）'!$B3,"この線より上に行を挿入してください。")=0,'データ整理_別表（農用地及び施設）'!$E3,"") -> 0 | E3: =IF(COUNTIF('データ整理_別表（農用地及び施設）'!$G$2:'データ整理_別表（農用地及び施設）'!$G3,"この線より上に行を挿入してください。")=0,'データ整理_別表（農用地及び施設）'!$G3,"") | F3: =IF(COUNTIF('データ整理_別表（農用地及び施設）'!$G$2:'データ整理_別表（農用地及び施設）'!$G3,"この線より上に行を挿入してください。")=0,'データ整理_別表（農用地及び施設）'!$H3,"") -> 0 | G3: =IF(COUNTIF('データ整理_別表（農用地及び施設）'!$G$2:'データ整理_別表（農用地及び施設）'!$G3,"この線より上に行を挿入してください。")=0,'データ整理_別表（農用地及び施設）'!$I3,"") -> 0 | H3: =IF(COUNTIF('データ整理_別表（農用地及び施設）'!$G$2:'データ整理_別表（農用地及び施設）'!$G3,"この線より上に行を挿入してください。")=0,'データ整理_別表（農用地及び施設）'!$J3,"") -> 0 | I3: =IF(COUNTIF('データ整理_別表（農用地及び施設）'!$L$2:'データ整理_別表（農用地及び施設）'!$L3,"この線より上に行を挿入してください。")=0,'データ整理_別表（農用地及び施設）'!$L3,"") | J3: =IF(COUNTIF('データ整理_別表（農用地及び施設）'!$L$2:'データ整理_別表（農用地及び施設）'!$L3,"この線より上に行を挿入してください。")=0,'データ整理_別表（農用地及び施設）'!$M3,"") -> 0 | K3: =IF(COUNTIF('データ整理_別表（農用地及び施設）'!$L$2:'データ整理_別表（農用地及び施設）'!$L3,"この線より上に行を挿入してください。")=0,'データ整理_別表（農用地及び施設）'!$N3,"") -> 0 | L3: =IF(COUNTIF('データ整理_別表（農用地及び施設）'!$L$2:'データ整理_別表（農用地及び施設）'!$L3,"この線より上に行を挿入してください。")=0,'データ整理_別表（農用地及び施設）'!$O3,"") -> 0 | M3: =IF(COUNTIF('データ整理_別表（農用地及び施設）'!$B$2:'データ整理_別表（農用地及び施設）'!$B3,"この線より上に行を挿入してください。")=0,'データ整理_別表（農用地及び施設）'!$B3,"") | N3: =IF(COUNTIF('データ整理_別表（農用地及び施設）'!$B$2:'データ整理_別表（農用地及び施設）'!$B3,"この線より上に行を挿入してください。")=0,'データ整理_別表（農用地及び施設）'!$C3,"") -> 0 | O3: =IF(COUNTIF('データ整理_別表（農用地及び施設）'!$B$2:'データ整理_別表（農用地及び施設）'!$B3,"この線より上に行を挿入してください。")=0,'データ整理_別表（農用地及び施設）'!$D3,"") -> 0 | P3: =IF(COUNTIF('データ整理_別表（農用地及び施設）'!$B$2:'データ整理_別表（農用地及び施設）'!$B3,"この線より上に行を挿入してください。")=0,'データ整理_別表（農用地及び施設）'!$E3,"") -> 0 | Q3: =IF(COUNTIF('データ整理_別表（農用地及び施設）'!$V$2:'データ整理_別表（農用地及び施設）'!$V3,"この線より上に行を挿入してください。")=0,'データ整理_別表（農用地及び施設）'!$V3,"") | R3: =IF(COUNTIF('データ整理_別表（農用地及び施設）'!$V$2:'データ整理_別表（農用地及び施設）'!$V3,"この線より上に行を挿入してください。")=0,'データ整理_別表（農用地及び施設）'!$W3,"") -> 0 | S3: =IF(COUNTIF('データ整理_別表（農用地及び施設）'!$V$2:'データ整理_別表（農用地及び施設）'!$V3,"この線より上に行を挿入してください。")=0,'データ整理_別表（農用地及び施設）'!$X3,"") -> 0 | T3: =IF(COUNTIF('データ整理_別表（農用地及び施設）'!$V$2:'データ整理_別表（農用地及び施設）'!$V3,"この線より上に行を挿入してください。")=0,'データ整理_別表（農用地及び施設）'!$Y3,"") -> 0
A4: =IF(COUNTIF('データ整理_別表（農用地及び施設）'!$B$2:'データ整理_別表（農用地及び施設）'!$B4,"この線より上に行を挿入してください。")=0,'データ整理_別表（農用地及び施設）'!$B4,"") | B4: =IF(COUNTIF('データ整理_別表（農用地及び施設）'!$B$2:'データ整理_別表（農用地及び施設）'!$B4,"この線より上に行を挿入してください。")=0,'データ整理_別表（農用地及び施設）'!$C4,"") -> 0 | C4: =IF(COUNTIF('データ整理_別表（農用地及び施設）'!$B$2:'データ整理_別表（農用地及び施設）'!$B4,"この線より上に行を挿入してください。")=0,'データ整理_別表（農用地及び施設）'!$D4,"") -> 0 | D4: =IF(COUNTIF('データ整理_別表（農用地及び施設）'!$B$2:'データ整理_別表（農用地及び施設）'!$B4,"この線より上に行を挿入してください。")=0,'データ整理_別表（農用地及び施設）'!$E4,"") -> 0 | E4: =IF(COUNTIF('データ整理_別表（農用地及び施設）'!$G$2:'データ整理_別表（農用地及び施設）'!$G4,"この線より上に行を挿入してください。")=0,'データ整理_別表（農用地及び施設）'!$G4,"") | F4: =IF(COUNTIF('データ整理_別表（農用地及び施設）'!$G$2:'データ整理_別表（農用地及び施設）'!$G4,"この線より上に行を挿入してください。")=0,'データ整理_別表（農用地及び施設）'!$H4,"") -> 0 | G4: =IF(COUNTIF('データ整理_別表（農用地及び施設）'!$G$2:'データ整理_別表（農用地及び施設）'!$G4,"この線より上に行を挿入してください。")=0,'データ整理_別表（農用地及び施設）'!$I4,"") -> 0 | H4: =IF(COUNTIF('データ整理_別表（農用地及び施設）'!$G$2:'データ整理_別表（農用地及び施設）'!$G4,"この線より上に行を挿入してください。")=0,'データ整理_別表（農用地及び施設）'!$J4,"") -> 0 | I4: =IF(COUNTIF('データ整理_別表（農用地及び施設）'!$L$2:'データ整理_別表（農用地及び施設）'!$L4,"この線より上に行を挿入してください。")=0,'データ整理_別表（農用地及び施設）'!$L4,"") | J4: =IF(COUNTIF('データ整理_別表（農用地及び施設）'!$L$2:'データ整理_別表（農用地及び施設）'!$L4,"この線より上に行を挿入してください。")=0,'データ整理_別表（農用地及び施設）'!$M4,"") -> 0 | K4: =IF(COUNTIF('データ整理_別表（農用地及び施設）'!$L$2:'データ整理_別表（農用地及び施設）'!$L4,"この線より上に行を挿入してください。")=0,'データ整理_別表（農用地及び施設）'!$N4,"") -> 0 | L4: =IF(COUNTIF('データ整理_別表（農用地及び施設）'!$L$2:'データ整理_別表（農用地及び施設）'!$L4,"この線より上に行を挿入してください。")=0,'データ整理_別表（農用地及び施設）'!$O4,"") -> 0 | M4: =IF(COUNTIF('データ整理_別表（農用地及び施設）'!$B$2:'データ整理_別表（農用地及び施設）'!$B4,"この線より上に行を挿入してください。")=0,'データ整理_別表（農用地及び施設）'!$B4,"") | N4: =IF(COUNTIF('データ整理_別表（農用地及び施設）'!$B$2:'データ整理_別表（農用地及び施設）'!$B4,"この線より上に行を挿入してください。")=0,'データ整理_別表（農用地及び施設）'!$C4,"") -> 0 | O4: =IF(COUNTIF('データ整理_別表（農用地及び施設）'!$B$2:'データ整理_別表（農用地及び施設）'!$B4,"この線より上に行を挿入してください。")=0,'データ整理_別表（農用地及び施設）'!$D4,"") -> 0 | P4: =IF(COUNTIF('データ整理_別表（農用地及び施設）'!$B$2:'データ整理_別表（農用地及び施設）'!$B4,"この線より上に行を挿入してください。")=0,'データ整理_別表（農用地及び施設）'!$E4,"") -> 0 | Q4: =IF(COUNTIF('データ整理_別表（農用地及び施設）'!$V$2:'データ整理_別表（農用地及び施設）'!$V4,"この線より上に行を挿入してください。")=0,'データ整理_別表（農用地及び施設）'!$V4,"") | R4: =IF(COUNTIF('データ整理_別表（農用地及び施設）'!$V$2:'データ整理_別表（農用地及び施設）'!$V4,"この線より上に行を挿入してください。")=0,'データ整理_別表（農用地及び施設）'!$W4,"") -> 0 | S4: =IF(COUNTIF('データ整理_別表（農用地及び施設）'!$V$2:'データ整理_別表（農用地及び施設）'!$V4,"この線より上に行を挿入してください。")=0,'データ整理_別表（農用地及び施設）'!$X4,"") -> 0 | T4: =IF(COUNTIF('データ整理_別表（農用地及び施設）'!$V$2:'データ整理_別表（農用地及び施設）'!$V4,"この線より上に行を挿入してください。")=0,'データ整理_別表（農用地及び施設）'!$Y4,"") -> 0
A5: =IF(COUNTIF('データ整理_別表（農用地及び施設）'!$B$2:'データ整理_別表（農用地及び施設）'!$B5,"この線より上に行を挿入してください。")=0,'データ整理_別表（農用地及び施設）'!$B5,"") | B5: =IF(COUNTIF('データ整理_別表（農用地及び施設）'!$B$2:'データ整理_別表（農用地及び施設）'!$B5,"この線より上に行を挿入してください。")=0,'データ整理_別表（農用地及び施設）'!$C5,"") | C5: =IF(COUNTIF('データ整理_別表（農用地及び施設）'!$B$2:'データ整理_別表（農用地及び施設）'!$B5,"この線より上に行を挿入してください。")=0,'データ整理_別表（農用地及び施設）'!$D5,"") | D5: =IF(COUNTIF('データ整理_別表（農用地及び施設）'!$B$2:'データ整理_別表（農用地及び施設）'!$B5,"この線より上に行を挿入してください。")=0,'データ整理_別表（農用地及び施設）'!$E5,"") | E5: =IF(COUNTIF('データ整理_別表（農用地及び施設）'!$G$2:'データ整理_別表（農用地及び施設）'!$G5,"この線より上に行を挿入してください。")=0,'データ整理_別表（農用地及び施設）'!$G5,"") | F5: =IF(COUNTIF('データ整理_別表（農用地及び施設）'!$G$2:'データ整理_別表（農用地及び施設）'!$G5,"この線より上に行を挿入してください。")=0,'データ整理_別表（農用地及び施設）'!$H5,"") | G5: =IF(COUNTIF('データ整理_別表（農用地及び施設）'!$G$2:'データ整理_別表（農用地及び施設）'!$G5,"この線より上に行を挿入してください。")=0,'データ整理_別表（農用地及び施設）'!$I5,"") | H5: =IF(COUNTIF('データ整理_別表（農用地及び施設）'!$G$2:'データ整理_別表（農用地及び施設）'!$G5,"この線より上に行を挿入してください。")=0,'データ整理_別表（農用地及び施設）'!$J5,"") | I5: =IF(COUNTIF('データ整理_別表（農用地及び施設）'!$L$2:'データ整理_別表（農用地及び施設）'!$L5,"この線より上に行を挿入してください。")=0,'データ整理_別表（農用地及び施設）'!$L5,"") | J5: =IF(COUNTIF('データ整理_別表（農用地及び施設）'!$L$2:'データ整理_別表（農用地及び施設）'!$L5,"この線より上に行を挿入してください。")=0,'データ整理_別表（農用地及び施設）'!$M5,"") | K5: =IF(COUNTIF('データ整理_別表（農用地及び施設）'!$L$2:'データ整理_別表（農用地及び施設）'!$L5,"この線より上に行を挿入してください。")=0,'データ整理_別表（農用地及び施設）'!$N5,"") | L5: =IF(COUNTIF('データ整理_別表（農用地及び施設）'!$L$2:'データ整理_別表（農用地及び施設）'!$L5,"この線より上に行を挿入してください。")=0,'データ整理_別表（農用地及び施設）'!$O5,"") | M5: =IF(COUNTIF('データ整理_別表（農用地及び施設）'!$B$2:'データ整理_別表（農用地及び施設）'!$B5,"この線より上に行を挿入してください。")=0,'データ整理_別表（農用地及び施設）'!$B5,"") | N5: =IF(COUNTIF('データ整理_別表（農用地及び施設）'!$B$2:'データ整理_別表（農用地及び施設）'!$B5,"この線より上に行を挿入してください。")=0,'データ整理_別表（農用地及び施設）'!$C5,"") | O5: =IF(COUNTIF('データ整理_別表（農用地及び施設）'!$B$2:'データ整理_別表（農用地及び施設）'!$B5,"この線より上に行を挿入してください。")=0,'データ整理_別表（農用地及び施設）'!$D5,"") | P5: =IF(COUNTIF('データ整理_別表（農用地及び施設）'!$B$2:'データ整理_別表（農用地及び施設）'!$B5,"この線より上に行を挿入してください。")=0,'データ整理_別表（農用地及び施設）'!$E5,"") | Q5: =IF(COUNTIF('データ整理_別表（農用地及び施設）'!$V$2:'データ整理_別表（農用地及び施設）'!$V5,"この線より上に行を挿入してください。")=0,'データ整理_別表（農用地及び施設）'!$V5,"") | R5: =IF(COUNTIF('データ整理_別表（農用地及び施設）'!$V$2:'データ整理_別表（農用地及び施設）'!$V5,"この線より上に行を挿入してください。")=0,'データ整理_別表（農用地及び施設）'!$W5,"") | S5: =IF(COUNTIF('データ整理_別表（農用地及び施設）'!$V$2:'データ整理_別表（農用地及び施設）'!$V5,"この線より上に行を挿入してください。")=0,'データ整理_別表（農用地及び施設）'!$X5,"") | T5: =IF(COUNTIF('データ整理_別表（農用地及び施設）'!$V$2:'データ整理_別表（農用地及び施設）'!$V5,"この線より上に行を挿入してください。")=0,'データ整理_別表（農用地及び施設）'!$Y5,"")
A6: =IF(COUNTIF('データ整理_別表（農用地及び施設）'!$B$2:'データ整理_別表（農用地及び施設）'!$B6,"この線より上に行を挿入してください。")=0,'データ整理_別表（農用地及び施設）'!$B6,"") | B6: =IF(COUNTIF('データ整理_別表（農用地及び施設）'!$B$2:'データ整理_別表（農用地及び施設）'!$B6,"この線より上に行を挿入してください。")=0,'データ整理_別表（農用地及び施設）'!$C6,"") | C6: =IF(COUNTIF('データ整理_別表（農用地及び施設）'!$B$2:'データ整理_別表（農用地及び施設）'!$B6,"この線より上に行を挿入してください。")=0,'データ整理_別表（農用地及び施設）'!$D6,"") | D6: =IF(COUNTIF('データ整理_別表（農用地及び施設）'!$B$2:'データ整理_別表（農用地及び施設）'!$B6,"この線より上に行を挿入してください。")=0,'データ整理_別表（農用地及び施設）'!$E6,"") | E6: =IF(COUNTIF('データ整理_別表（農用地及び施設）'!$G$2:'データ整理_別表（農用地及び施設）'!$G6,"この線より上に行を挿入してください。")=0,'データ整理_別表（農用地及び施設）'!$G6,"") | F6: =IF(COUNTIF('データ整理_別表（農用地及び施設）'!$G$2:'データ整理_別表（農用地及び施設）'!$G6,"この線より上に行を挿入してください。")=0,'データ整理_別表（農用地及び施設）'!$H6,"") | G6: =IF(COUNTIF('データ整理_別表（農用地及び施設）'!$G$2:'データ整理_別表（農用地及び施設）'!$G6,"この線より上に行を挿入してください。")=0,'データ整理_別表（農用地及び施設）'!$I6,"") | H6: =IF(COUNTIF('データ整理_別表（農用地及び施設）'!$G$2:'データ整理_別表（農用地及び施設）'!$G6,"この線より上に行を挿入してください。")=0,'データ整理_別表（農用地及び施設）'!$J6,"") | I6: =IF(COUNTIF('データ整理_別表（農用地及び施設）'!$L$2:'データ整理_別表（農用地及び施設）'!$L6,"この線より上に行を挿入してください。")=0,'データ整理_別表（農用地及び施設）'!$L6,"") | J6: =IF(COUNTIF('データ整理_別表（農用地及び施設）'!$L$2:'データ整理_別表（農用地及び施設）'!$L6,"この線より上に行を挿入してください。")=0,'データ整理_別表（農用地及び施設）'!$M6,"") | K6: =IF(COUNTIF('データ整理_別表（農用地及び施設）'!$L$2:'データ整理_別表（農用地及び施設）'!$L6,"この線より上に行を挿入してください。")=0,'データ整理_別表（農用地及び施設）'!$N6,"") | L6: =IF(COUNTIF('データ整理_別表（農用地及び施設）'!$L$2:'データ整理_別表（農用地及び施設）'!$L6,"この線より上に行を挿入してください。")=0,'データ整理_別表（農用地及び施設）'!$O6,"") | M6: =IF(COUNTIF('データ整理_別表（農用地及び施設）'!$B$2:'データ整理_別表（農用地及び施設）'!$B6,"この線より上に行を挿入してください。")=0,'データ整理_別表（農用地及び施設）'!$B6,"") | N6: =IF(COUNTIF('データ整理_別表（農用地及び施設）'!$B$2:'データ整理_別表（農用地及び施設）'!$B6,"この線より上に行を挿入してください。")=0,'データ整理_別表（農用地及び施設）'!$C6,"") | O6: =IF(COUNTIF('データ整理_別表（農用地及び施設）'!$B$2:'データ整理_別表（農用地及び施設）'!$B6,"この線より上に行を挿入してください。")=0,'データ整理_別表（農用地及び施設）'!$D6,"") | P6: =IF(COUNTIF('データ整理_別表（農用地及び施設）'!$B$2:'データ整理_別表（農用地及び施設）'!$B6,"この線より上に行を挿入してください。")=0,'データ整理_別表（農用地及び施設）'!$E6,"") | Q6: =IF(COUNTIF('データ整理_別表（農用地及び施設）'!$V$2:'データ整理_別表（農用地及び施設）'!$V6,"この線より上に行を挿入してください。")=0,'データ整理_別表（農用地及び施設）'!$V6,"") | R6: =IF(COUNTIF('データ整理_別表（農用地及び施設）'!$V$2:'データ整理_別表（農用地及び施設）'!$V6,"この線より上に行を挿入してください。")=0,'データ整理_別表（農用地及び施設）'!$W6,"") | S6: =IF(COUNTIF('データ整理_別表（農用地及び施設）'!$V$2:'データ整理_別表（農用地及び施設）'!$V6,"この線より上に行を挿入してください。")=0,'データ整理_別表（農用地及び施設）'!$X6,"") | T6: =IF(COUNTIF('データ整理_別表（農用地及び施設）'!$V$2:'データ整理_別表（農用地及び施設）'!$V6,"この線より上に行を挿入してください。")=0,'データ整理_別表（農用地及び施設）'!$Y6,"")
A7: =IF(COUNTIF('データ整理_別表（農用地及び施設）'!$B$2:'データ整理_別表（農用地及び施設）'!$B7,"この線より上に行を挿入してください。")=0,'データ整理_別表（農用地及び施設）'!$B7,"") | B7: =IF(COUNTIF('データ整理_別表（農用地及び施設）'!$B$2:'データ整理_別表（農用地及び施設）'!$B7,"この線より上に行を挿入してください。")=0,'データ整理_別表（農用地及び施設）'!$C7,"") | C7: =IF(COUNTIF('データ整理_別表（農用地及び施設）'!$B$2:'データ整理_別表（農用地及び施設）'!$B7,"この線より上に行を挿入してください。")=0,'データ整理_別表（農用地及び施設）'!$D7,"") | D7: =IF(COUNTIF('データ整理_別表（農用地及び施設）'!$B$2:'データ整理_別表（農用地及び施設）'!$B7,"この線より上に行を挿入してください。")=0,'データ整理_別表（農用地及び施設）'!$E7,"") | E7: =IF(COUNTIF('データ整理_別表（農用地及び施設）'!$G$2:'データ整理_別表（農用地及び施設）'!$G7,"この線より上に行を挿入してください。")=0,'データ整理_別表（農用地及び施設）'!$G7,"") | F7: =IF(COUNTIF('データ整理_別表（農用地及び施設）'!$G$2:'データ整理_別表（農用地及び施設）'!$G7,"この線より上に行を挿入してください。")=0,'データ整理_別表（農用地及び施設）'!$H7,"") | G7: =IF(COUNTIF('データ整理_別表（農用地及び施設）'!$G$2:'データ整理_別表（農用地及び施設）'!$G7,"この線より上に行を挿入してください。")=0,'データ整理_別表（農用地及び施設）'!$I7,"") | H7: =IF(COUNTIF('データ整理_別表（農用地及び施設）'!$G$2:'データ整理_別表（農用地及び施設）'!$G7,"この線より上に行を挿入してください。")=0,'データ整理_別表（農用地及び施設）'!$J7,"") | I7: =IF(COUNTIF('データ整理_別表（農用地及び施設）'!$L$2:'データ整理_別表（農用地及び施設）'!$L7,"この線より上に行を挿入してください。")=0,'データ整理_別表（農用地及び施設）'!$L7,"") | J7: =IF(COUNTIF('データ整理_別表（農用地及び施設）'!$L$2:'データ整理_別表（農用地及び施設）'!$L7,"この線より上に行を挿入してください。")=0,'データ整理_別表（農用地及び施設）'!$M7,"") | K7: =IF(COUNTIF('データ整理_別表（農用地及び施設）'!$L$2:'データ整理_別表（農用地及び施設）'!$L7,"この線より上に行を挿入してください。")=0,'データ整理_別表（農用地及び施設）'!$N7,"") | L7: =IF(COUNTIF('データ整理_別表（農用地及び施設）'!$L$2:'データ整理_別表（農用地及び施設）'!$L7,"この線より上に行を挿入してください。")=0,'データ整理_別表（農用地及び施設）'!$O7,"") | M7: =IF(COUNTIF('データ整理_別表（農用地及び施設）'!$B$2:'データ整理_別表（農用地及び施設）'!$B7,"この線より上に行を挿入してください。")=0,'データ整理_別表（農用地及び施設）'!$B7,"") | N7: =IF(COUNTIF('データ整理_別表（農用地及び施設）'!$B$2:'データ整理_別表（農用地及び施設）'!$B7,"この線より上に行を挿入してください。")=0,'データ整理_別表（農用地及び施設）'!$C7,"") | O7: =IF(COUNTIF('データ整理_別表（農用地及び施設）'!$B$2:'データ整理_別表（農用地及び施設）'!$B7,"この線より上に行を挿入してください。")=0,'データ整理_別表（農用地及び施設）'!$D7,"") | P7: =IF(COUNTIF('データ整理_別表（農用地及び施設）'!$B$2:'データ整理_別表（農用地及び施設）'!$B7,"この線より上に行を挿入してください。")=0,'データ整理_別表（農用地及び施設）'!$E7,"") | Q7: =IF(COUNTIF('データ整理_別表（農用地及び施設）'!$V$2:'データ整理_別表（農用地及び施設）'!$V7,"この線より上に行を挿入してください。")=0,'データ整理_別表（農用地及び施設）'!$V7,"") | R7: =IF(COUNTIF('データ整理_別表（農用地及び施設）'!$V$2:'データ整理_別表（農用地及び施設）'!$V7,"この線より上に行を挿入してください。")=0,'データ整理_別表（農用地及び施設）'!$W7,"") | S7: =IF(COUNTIF('データ整理_別表（農用地及び施設）'!$V$2:'データ整理_別表（農用地及び施設）'!$V7,"この線より上に行を挿入してください。")=0,'データ整理_別表（農用地及び施設）'!$X7,"") | T7: =IF(COUNTIF('データ整理_別表（農用地及び施設）'!$V$2:'データ整理_別表（農用地及び施設）'!$V7,"この線より上に行を挿入してください。")=0,'データ整理_別表（農用地及び施設）'!$Y7,"")
A8: =IF(COUNTIF('データ整理_別表（農用地及び施設）'!$B$2:'データ整理_別表（農用地及び施設）'!$B8,"この線より上に行を挿入してください。")=0,'データ整理_別表（農用地及び施設）'!$B8,"") | B8: =IF(COUNTIF('データ整理_別表（農用地及び施設）'!$B$2:'データ整理_別表（農用地及び施設）'!$B8,"この線より上に行を挿入してください。")=0,'データ整理_別表（農用地及び施設）'!$C8,"") | C8: =IF(COUNTIF('データ整理_別表（農用地及び施設）'!$B$2:'データ整理_別表（農用地及び施設）'!$B8,"この線より上に行を挿入してください。")=0,'データ整理_別表（農用地及び施設）'!$D8,"") | D8: =IF(COUNTIF('データ整理_別表（農用地及び施設）'!$B$2:'データ整理_別表（農用地及び施設）'!$B8,"この線より上に行を挿入してください。")=0,'データ整理_別表（農用地及び施設）'!$E8,"") | E8: =IF(COUNTIF('データ整理_別表（農用地及び施設）'!$G$2:'データ整理_別表（農用地及び施設）'!$G8,"この線より上に行を挿入してください。")=0,'データ整理_別表（農用地及び施設）'!$G8,"") | F8: =IF(COUNTIF('データ整理_別表（農用地及び施設）'!$G$2:'データ整理_別表（農用地及び施設）'!$G8,"この線より上に行を挿入してください。")=0,'データ整理_別表（農用地及び施設）'!$H8,"") | G8: =IF(COUNTIF('データ整理_別表（農用地及び施設）'!$G$2:'データ整理_別表（農用地及び施設）'!$G8,"この線より上に行を挿入してください。")=0,'データ整理_別表（農用地及び施設）'!$I8,"") | H8: =IF(COUNTIF('データ整理_別表（農用地及び施設）'!$G$2:'データ整理_別表（農用地及び施設）'!$G8,"この線より上に行を挿入してください。")=0,'データ整理_別表（農用地及び施設）'!$J8,"") | I8: =IF(COUNTIF('データ整理_別表（農用地及び施設）'!$L$2:'データ整理_別表（農用地及び施設）'!$L8,"この線より上に行を挿入してください。")=0,'データ整理_別表（農用地及び施設）'!$L8,"") | J8: =IF(COUNTIF('データ整理_別表（農用地及び施設）'!$L$2:'データ整理_別表（農用地及び施設）'!$L8,"この線より上に行を挿入してください。")=0,'データ整理_別表（農用地及び施設）'!$M8,"") | K8: =IF(COUNTIF('データ整理_別表（農用地及び施設）'!$L$2:'データ整理_別表（農用地及び施設）'!$L8,"この線より上に行を挿入してください。")=0,'データ整理_別表（農用地及び施設）'!$N8,"") | L8: =IF(COUNTIF('データ整理_別表（農用地及び施設）'!$L$2:'データ整理_別表（農用地及び施設）'!$L8,"この線より上に行を挿入してください。")=0,'データ整理_別表（農用地及び施設）'!$O8,"") | M8: =IF(COUNTIF('データ整理_別表（農用地及び施設）'!$B$2:'データ整理_別表（農用地及び施設）'!$B8,"この線より上に行を挿入してください。")=0,'データ整理_別表（農用地及び施設）'!$B8,"") | N8: =IF(COUNTIF('データ整理_別表（農用地及び施設）'!$B$2:'データ整理_別表（農用地及び施設）'!$B8,"この線より上に行を挿入してください。")=0,'データ整理_別表（農用地及び施設）'!$C8,"") | O8: =IF(COUNTIF('データ整理_別表（農用地及び施設）'!$B$2:'データ整理_別表（農用地及び施設）'!$B8,"この線より上に行を挿入してください。")=0,'データ整理_別表（農用地及び施設）'!$D8,"") | P8: =IF(COUNTIF('データ整理_別表（農用地及び施設）'!$B$2:'データ整理_別表（農用地及び施設）'!$B8,"この線より上に行を挿入してください。")=0,'データ整理_別表（農用地及び施設）'!$E8,"") | Q8: =IF(COUNTIF('データ整理_別表（農用地及び施設）'!$V$2:'データ整理_別表（農用地及び施設）'!$V8,"この線より上に行を挿入してください。")=0,'データ整理_別表（農用地及び施設）'!$V8,"") | R8: =IF(COUNTIF('データ整理_別表（農用地及び施設）'!$V$2:'データ整理_別表（農用地及び施設）'!$V8,"この線より上に行を挿入してください。")=0,'データ整理_別表（農用地及び施設）'!$W8,"") | S8: =IF(COUNTIF('データ整理_別表（農用地及び施設）'!$V$2:'データ整理_別表（農用地及び施設）'!$V8,"この線より上に行を挿入してください。")=0,'データ整理_別表（農用地及び施設）'!$X8,"") | T8: =IF(COUNTIF('データ整理_別表（農用地及び施設）'!$V$2:'データ整理_別表（農用地及び施設）'!$V8,"この線より上に行を挿入してください。")=0,'データ整理_別表（農用地及び施設）'!$Y8,"")
A9: =IF(COUNTIF('データ整理_別表（農用地及び施設）'!$B$2:'データ整理_別表（農用地及び施設）'!$B9,"この線より上に行を挿入してください。")=0,'データ整理_別表（農用地及び施設）'!$B9,"") | B9: =IF(COUNTIF('データ整理_別表（農用地及び施設）'!$B$2:'データ整理_別表（農用地及び施設）'!$B9,"この線より上に行を挿入してください。")=0,'データ整理_別表（農用地及び施設）'!$C9,"") | C9: =IF(COUNTIF('データ整理_別表（農用地及び施設）'!$B$2:'データ整理_別表（農用地及び施設）'!$B9,"この線より上に行を挿入してください。")=0,'データ整理_別表（農用地及び施設）'!$D9,"") | D9: =IF(COUNTIF('データ整理_別表（農用地及び施設）'!$B$2:'データ整理_別表（農用地及び施設）'!$B9,"この線より上に行を挿入してください。")=0,'データ整理_別表（農用地及び施設）'!$E9,"") | E9: =IF(COUNTIF('データ整理_別表（農用地及び施設）'!$G$2:'データ整理_別表（農用地及び施設）'!$G9,"この線より上に行を挿入してください。")=0,'データ整理_別表（農用地及び施設）'!$G9,"") | F9: =IF(COUNTIF('データ整理_別表（農用地及び施設）'!$G$2:'データ整理_別表（農用地及び施設）'!$G9,"この線より上に行を挿入してください。")=0,'データ整理_別表（農用地及び施設）'!$H9,"") | G9: =IF(COUNTIF('データ整理_別表（農用地及び施設）'!$G$2:'データ整理_別表（農用地及び施設）'!$G9,"この線より上に行を挿入してください。")=0,'データ整理_別表（農用地及び施設）'!$I9,"") | H9: =IF(COUNTIF('データ整理_別表（農用地及び施設）'!$G$2:'データ整理_別表（農用地及び施設）'!$G9,"この線より上に行を挿入してください。")=0,'データ整理_別表（農用地及び施設）'!$J9,"") | I9: =IF(COUNTIF('データ整理_別表（農用地及び施設）'!$L$2:'データ整理_別表（農用地及び施設）'!$L9,"この線より上に行を挿入してください。")=0,'データ整理_別表（農用地及び施設）'!$L9,"") | J9: =IF(COUNTIF('データ整理_別表（農用地及び施設）'!$L$2:'データ整理_別表（農用地及び施設）'!$L9,"この線より上に行を挿入してください。")=0,'データ整理_別表（農用地及び施設）'!$M9,"") | K9: =IF(COUNTIF('データ整理_別表（農用地及び施設）'!$L$2:'データ整理_別表（農用地及び施設）'!$L9,"この線より上に行を挿入してください。")=0,'データ整理_別表（農用地及び施設）'!$N9,"") | L9: =IF(COUNTIF('データ整理_別表（農用地及び施設）'!$L$2:'データ整理_別表（農用地及び施設）'!$L9,"この線より上に行を挿入してください。")=0,'データ整理_別表（農用地及び施設）'!$O9,"") | M9: =IF(COUNTIF('データ整理_別表（農用地及び施設）'!$B$2:'データ整理_別表（農用地及び施設）'!$B9,"この線より上に行を挿入してください。")=0,'データ整理_別表（農用地及び施設）'!$B9,"") | N9: =IF(COUNTIF('データ整理_別表（農用地及び施設）'!$B$2:'データ整理_別表（農用地及び施設）'!$B9,"この線より上に行を挿入してください。")=0,'データ整理_別表（農用地及び施設）'!$C9,"") | O9: =IF(COUNTIF('データ整理_別表（農用地及び施設）'!$B$2:'データ整理_別表（農用地及び施設）'!$B9,"この線より上に行を挿入してください。")=0,'データ整理_別表（農用地及び施設）'!$D9,"") | P9: =IF(COUNTIF('データ整理_別表（農用地及び施設）'!$B$2:'データ整理_別表（農用地及び施設）'!$B9,"この線より上に行を挿入してください。")=0,'データ整理_別表（農用地及び施設）'!$E9,"") | Q9: =IF(COUNTIF('データ整理_別表（農用地及び施設）'!$V$2:'データ整理_別表（農用地及び施設）'!$V9,"この線より上に行を挿入してください。")=0,'データ整理_別表（農用地及び施設）'!$V9,"") | R9: =IF(COUNTIF('データ整理_別表（農用地及び施設）'!$V$2:'データ整理_別表（農用地及び施設）'!$V9,"この線より上に行を挿入してください。")=0,'データ整理_別表（農用地及び施設）'!$W9,"") | S9: =IF(COUNTIF('データ整理_別表（農用地及び施設）'!$V$2:'データ整理_別表（農用地及び施設）'!$V9,"この線より上に行を挿入してください。")=0,'データ整理_別表（農用地及び施設）'!$X9,"") | T9: =IF(COUNTIF('データ整理_別表（農用地及び施設）'!$V$2:'データ整理_別表（農用地及び施設）'!$V9,"この線より上に行を挿入してください。")=0,'データ整理_別表（農用地及び施設）'!$Y9,"")
A10: =IF(COUNTIF('データ整理_別表（農用地及び施設）'!$B$2:'データ整理_別表（農用地及び施設）'!$B10,"この線より上に行を挿入してください。")=0,'データ整理_別表（農用地及び施設）'!$B10,"") | B10: =IF(COUNTIF('データ整理_別表（農用地及び施設）'!$B$2:'データ整理_別表（農用地及び施設）'!$B10,"この線より上に行を挿入してください。")=0,'データ整理_別表（農用地及び施設）'!$C10,"") | C10: =IF(COUNTIF('データ整理_別表（農用地及び施設）'!$B$2:'データ整理_別表（農用地及び施設）'!$B10,"この線より上に行を挿入してください。")=0,'データ整理_別表（農用地及び施設）'!$D10,"") | D10: =IF(COUNTIF('データ整理_別表（農用地及び施設）'!$B$2:'データ整理_別表（農用地及び施設）'!$B10,"この線より上に行を挿入してください。")=0,'データ整理_別表（農用地及び施設）'!$E10,"") | E10: =IF(COUNTIF('データ整理_別表（農用地及び施設）'!$G$2:'データ整理_別表（農用地及び施設）'!$G10,"この線より上に行を挿入してください。")=0,'データ整理_別表（農用地及び施設）'!$G10,"") | F10: =IF(COUNTIF('データ整理_別表（農用地及び施設）'!$G$2:'データ整理_別表（農用地及び施設）'!$G10,"この線より上に行を挿入してください。")=0,'データ整理_別表（農用地及び施設）'!$H10,"") | G10: =IF(COUNTIF('データ整理_別表（農用地及び施設）'!$G$2:'データ整理_別表（農用地及び施設）'!$G10,"この線より上に行を挿入してください。")=0,'データ整理_別表（農用地及び施設）'!$I10,"") | H10: =IF(COUNTIF('データ整理_別表（農用地及び施設）'!$G$2:'データ整理_別表（農用地及び施設）'!$G10,"この線より上に行を挿入してください。")=0,'データ整理_別表（農用地及び施設）'!$J10,"") | I10: =IF(COUNTIF('データ整理_別表（農用地及び施設）'!$L$2:'データ整理_別表（農用地及び施設）'!$L10,"この線より上に行を挿入してください。")=0,'データ整理_別表（農用地及び施設）'!$L10,"") | J10: =IF(COUNTIF('データ整理_別表（農用地及び施設）'!$L$2:'データ整理_別表（農用地及び施設）'!$L10,"この線より上に行を挿入してください。")=0,'データ整理_別表（農用地及び施設）'!$M10,"") | K10: =IF(COUNTIF('データ整理_別表（農用地及び施設）'!$L$2:'データ整理_別表（農用地及び施設）'!$L10,"この線より上に行を挿入してください。")=0,'データ整理_別表（農用地及び施設）'!$N10,"") | L10: =IF(COUNTIF('データ整理_別表（農用地及び施設）'!$L$2:'データ整理_別表（農用地及び施設）'!$L10,"この線より上に行を挿入してください。")=0,'データ整理_別表（農用地及び施設）'!$O10,"") | M10: =IF(COUNTIF('データ整理_別表（農用地及び施設）'!$B$2:'データ整理_別表（農用地及び施設）'!$B10,"この線より上に行を挿入してください。")=0,'データ整理_別表（農用地及び施設）'!$B10,"") | N10: =IF(COUNTIF('データ整理_別表（農用地及び施設）'!$B$2:'データ整理_別表（農用地及び施設）'!$B10,"この線より上に行を挿入してください。")=0,'データ整理_別表（農用地及び施設）'!$C10,"") | O10: =IF(COUNTIF('データ整理_別表（農用地及び施設）'!$B$2:'データ整理_別表（農用地及び施設）'!$B10,"この線より上に行を挿入してください。")=0,'データ整理_別表（農用地及び施設）'!$D10,"") | P10: =IF(COUNTIF('データ整理_別表（農用地及び施設）'!$B$2:'データ整理_別表（農用地及び施設）'!$B10,"この線より上に行を挿入してください。")=0,'データ整理_別表（農用地及び施設）'!$E10,"") | Q10: =IF(COUNTIF('データ整理_別表（農用地及び施設）'!$V$2:'データ整理_別表（農用地及び施設）'!$V10,"この線より上に行を挿入してください。")=0,'データ整理_別表（農用地及び施設）'!$V10,"") | R10: =IF(COUNTIF('データ整理_別表（農用地及び施設）'!$V$2:'データ整理_別表（農用地及び施設）'!$V10,"この線より上に行を挿入してください。")=0,'データ整理_別表（農用地及び施設）'!$W10,"") | S10: =IF(COUNTIF('データ整理_別表（農用地及び施設）'!$V$2:'データ整理_別表（農用地及び施設）'!$V10,"この線より上に行を挿入してください。")=0,'データ整理_別表（農用地及び施設）'!$X10,"") | T10: =IF(COUNTIF('データ整理_別表（農用地及び施設）'!$V$2:'データ整理_別表（農用地及び施設）'!$V10,"この線より上に行を挿入してください。")=0,'データ整理_別表（農用地及び施設）'!$Y10,"")
A11: =IF(COUNTIF('データ整理_別表（農用地及び施設）'!$B$2:'データ整理_別表（農用地及び施設）'!$B11,"この線より上に行を挿入してください。")=0,'データ整理_別表（農用地及び施設）'!$B11,"") | B11: =IF(COUNTIF('データ整理_別表（農用地及び施設）'!$B$2:'データ整理_別表（農用地及び施設）'!$B11,"この線より上に行を挿入してください。")=0,'データ整理_別表（農用地及び施設）'!$C11,"") | C11: =IF(COUNTIF('データ整理_別表（農用地及び施設）'!$B$2:'データ整理_別表（農用地及び施設）'!$B11,"この線より上に行を挿入してください。")=0,'データ整理_別表（農用地及び施設）'!$D11,"") | D11: =IF(COUNTIF('データ整理_別表（農用地及び施設）'!$B$2:'データ整理_別表（農用地及び施設）'!$B11,"この線より上に行を挿入してください。")=0,'データ整理_別表（農用地及び施設）'!$E11,"") | E11: =IF(COUNTIF('データ整理_別表（農用地及び施設）'!$G$2:'データ整理_別表（農用地及び施設）'!$G11,"この線より上に行を挿入してください。")=0,'データ整理_別表（農用地及び施設）'!$G11,"") | F11: =IF(COUNTIF('データ整理_別表（農用地及び施設）'!$G$2:'データ整理_別表（農用地及び施設）'!$G11,"この線より上に行を挿入してください。")=0,'データ整理_別表（農用地及び施設）'!$H11,"") | G11: =IF(COUNTIF('データ整理_別表（農用地及び施設）'!$G$2:'データ整理_別表（農用地及び施設）'!$G11,"この線より上に行を挿入してください。")=0,'データ整理_別表（農用地及び施設）'!$I11,"") | H11: =IF(COUNTIF('データ整理_別表（農用地及び施設）'!$G$2:'データ整理_別表（農用地及び施設）'!$G11,"この線より上に行を挿入してください。")=0,'データ整理_別表（農用地及び施設）'!$J11,"") | I11: =IF(COUNTIF('データ整理_別表（農用地及び施設）'!$L$2:'データ整理_別表（農用地及び施設）'!$L11,"この線より上に行を挿入してください。")=0,'データ整理_別表（農用地及び施設）'!$L11,"") | J11: =IF(COUNTIF('データ整理_別表（農用地及び施設）'!$L$2:'データ整理_別表（農用地及び施設）'!$L11,"この線より上に行を挿入してください。")=0,'データ整理_別表（農用地及び施設）'!$M11,"") | K11: =IF(COUNTIF('データ整理_別表（農用地及び施設）'!$L$2:'データ整理_別表（農用地及び施設）'!$L11,"この線より上に行を挿入してください。")=0,'データ整理_別表（農用地及び施設）'!$N11,"") | L11: =IF(COUNTIF('データ整理_別表（農用地及び施設）'!$L$2:'データ整理_別表（農用地及び施設）'!$L11,"この線より上に行を挿入してください。")=0,'データ整理_別表（農用地及び施設）'!$O11,"") | M11: =IF(COUNTIF('データ整理_別表（農用地及び施設）'!$B$2:'データ整理_別表（農用地及び施設）'!$B11,"この線より上に行を挿入してください。")=0,'データ整理_別表（農用地及び施設）'!$B11,"") | N11: =IF(COUNTIF('データ整理_別表（農用地及び施設）'!$B$2:'データ整理_別表（農用地及び施設）'!$B11,"この線より上に行を挿入してください。")=0,'データ整理_別表（農用地及び施設）'!$C11,"") | O11: =IF(COUNTIF('データ整理_別表（農用地及び施設）'!$B$2:'データ整理_別表（農用地及び施設）'!$B11,"この線より上に行を挿入してください。")=0,'データ整理_別表（農用地及び施設）'!$D11,"") | P11: =IF(COUNTIF('データ整理_別表（農用地及び施設）'!$B$2:'データ整理_別表（農用地及び施設）'!$B11,"この線より上に行を挿入してください。")=0,'データ整理_別表（農用地及び施設）'!$E11,"") | Q11: =IF(COUNTIF('データ整理_別表（農用地及び施設）'!$V$2:'データ整理_別表（農用地及び施設）'!$V11,"この線より上に行を挿入してください。")=0,'データ整理_別表（農用地及び施設）'!$V11,"") | R11: =IF(COUNTIF('データ整理_別表（農用地及び施設）'!$V$2:'データ整理_別表（農用地及び施設）'!$V11,"この線より上に行を挿入してください。")=0,'データ整理_別表（農用地及び施設）'!$W11,"") | S11: =IF(COUNTIF('データ整理_別表（農用地及び施設）'!$V$2:'データ整理_別表（農用地及び施設）'!$V11,"この線より上に行を挿入してください。")=0,'データ整理_別表（農用地及び施設）'!$X11,"") | T11: =IF(COUNTIF('データ整理_別表（農用地及び施設）'!$V$2:'データ整理_別表（農用地及び施設）'!$V11,"この線より上に行を挿入してください。")=0,'データ整理_別表（農用地及び施設）'!$Y11,"")
A12: =IF(COUNTIF('データ整理_別表（農用地及び施設）'!$B$2:'データ整理_別表（農用地及び施設）'!$B12,"この線より上に行を挿入してください。")=0,'データ整理_別表（農用地及び施設）'!$B12,"") | B12: =IF(COUNTIF('データ整理_別表（農用地及び施設）'!$B$2:'データ整理_別表（農用地及び施設）'!$B12,"この線より上に行を挿入してください。")=0,'データ整理_別表（農用地及び施設）'!$C12,"") | C12: =IF(COUNTIF('データ整理_別表（農用地及び施設）'!$B$2:'データ整理_別表（農用地及び施設）'!$B12,"この線より上に行を挿入してください。")=0,'データ整理_別表（農用地及び施設）'!$D12,"") | D12: =IF(COUNTIF('データ整理_別表（農用地及び施設）'!$B$2:'データ整理_別表（農用地及び施設）'!$B12,"この線より上に行を挿入してください。")=0,'データ整理_別表（農用地及び施設）'!$E12,"") | E12: =IF(COUNTIF('データ整理_別表（農用地及び施設）'!$G$2:'データ整理_別表（農用地及び施設）'!$G12,"この線より上に行を挿入してください。")=0,'データ整理_別表（農用地及び施設）'!$G12,"") | F12: =IF(COUNTIF('データ整理_別表（農用地及び施設）'!$G$2:'データ整理_別表（農用地及び施設）'!$G12,"この線より上に行を挿入してください。")=0,'データ整理_別表（農用地及び施設）'!$H12,"") | G12: =IF(COUNTIF('データ整理_別表（農用地及び施設）'!$G$2:'データ整理_別表（農用地及び施設）'!$G12,"この線より上に行を挿入してください。")=0,'データ整理_別表（農用地及び施設）'!$I12,"") | H12: =IF(COUNTIF('データ整理_別表（農用地及び施設）'!$G$2:'データ整理_別表（農用地及び施設）'!$G12,"この線より上に行を挿入してください。")=0,'データ整理_別表（農用地及び施設）'!$J12,"") | I12: =IF(COUNTIF('データ整理_別表（農用地及び施設）'!$L$2:'データ整理_別表（農用地及び施設）'!$L12,"この線より上に行を挿入してください。")=0,'データ整理_別表（農用地及び施設）'!$L12,"") | J12: =IF(COUNTIF('データ整理_別表（農用地及び施設）'!$L$2:'データ整理_別表（農用地及び施設）'!$L12,"この線より上に行を挿入してください。")=0,'データ整理_別表（農用地及び施設）'!$M12,"") | K12: =IF(COUNTIF('データ整理_別表（農用地及び施設）'!$L$2:'データ整理_別表（農用地及び施設）'!$L12,"この線より上に行を挿入してください。")=0,'データ整理_別表（農用地及び施設）'!$N12,"") | L12: =IF(COUNTIF('データ整理_別表（農用地及び施設）'!$L$2:'データ整理_別表（農用地及び施設）'!$L12,"この線より上に行を挿入してください。")=0,'データ整理_別表（農用地及び施設）'!$O12,"") | M12: =IF(COUNTIF('データ整理_別表（農用地及び施設）'!$B$2:'データ整理_別表（農用地及び施設）'!$B12,"この線より上に行を挿入してください。")=0,'データ整理_別表（農用地及び施設）'!$B12,"") | N12: =IF(COUNTIF('データ整理_別表（農用地及び施設）'!$B$2:'データ整理_別表（農用地及び施設）'!$B12,"この線より上に行を挿入してください。")=0,'データ整理_別表（農用地及び施設）'!$C12,"") | O12: =IF(COUNTIF('データ整理_別表（農用地及び施設）'!$B$2:'データ整理_別表（農用地及び施設）'!$B12,"この線より上に行を挿入してください。")=0,'データ整理_別表（農用地及び施設）'!$D12,"") | P12: =IF(COUNTIF('データ整理_別表（農用地及び施設）'!$B$2:'データ整理_別表（農用地及び施設）'!$B12,"この線より上に行を挿入してください。")=0,'データ整理_別表（農用地及び施設）'!$E12,"") | Q12: =IF(COUNTIF('データ整理_別表（農用地及び施設）'!$V$2:'データ整理_別表（農用地及び施設）'!$V12,"この線より上に行を挿入してください。")=0,'データ整理_別表（農用地及び施設）'!$V12,"") | R12: =IF(COUNTIF('データ整理_別表（農用地及び施設）'!$V$2:'データ整理_別表（農用地及び施設）'!$V12,"この線より上に行を挿入してください。")=0,'データ整理_別表（農用地及び施設）'!$W12,"") | S12: =IF(COUNTIF('データ整理_別表（農用地及び施設）'!$V$2:'データ整理_別表（農用地及び施設）'!$V12,"この線より上に行を挿入してください。")=0,'データ整理_別表（農用地及び施設）'!$X12,"") | T12: =IF(COUNTIF('データ整理_別表（農用地及び施設）'!$V$2:'データ整理_別表（農用地及び施設）'!$V12,"この線より上に行を挿入してください。")=0,'データ整理_別表（農用地及び施設）'!$Y12,"")
A13: =IF(COUNTIF('データ整理_別表（農用地及び施設）'!$B$2:'データ整理_別表（農用地及び施設）'!$B13,"この線より上に行を挿入してください。")=0,'データ整理_別表（農用地及び施設）'!$B13,"") | B13: =IF(COUNTIF('データ整理_別表（農用地及び施設）'!$B$2:'データ整理_別表（農用地及び施設）'!$B13,"この線より上に行を挿入してください。")=0,'データ整理_別表（農用地及び施設）'!$C13,"") | C13: =IF(COUNTIF('データ整理_別表（農用地及び施設）'!$B$2:'データ整理_別表（農用地及び施設）'!$B13,"この線より上に行を挿入してください。")=0,'データ整理_別表（農用地及び施設）'!$D13,"") | D13: =IF(COUNTIF('データ整理_別表（農用地及び施設）'!$B$2:'データ整理_別表（農用地及び施設）'!$B13,"この線より上に行を挿入してください。")=0,'データ整理_別表（農用地及び施設）'!$E13,"") | E13: =IF(COUNTIF('データ整理_別表（農用地及び施設）'!$G$2:'データ整理_別表（農用地及び施設）'!$G13,"この線より上に行を挿入してください。")=0,'データ整理_別表（農用地及び施設）'!$G13,"") | F13: =IF(COUNTIF('データ整理_別表（農用地及び施設）'!$G$2:'データ整理_別表（農用地及び施設）'!$G13,"この線より上に行を挿入してください。")=0,'データ整理_別表（農用地及び施設）'!$H13,"") | G13: =IF(COUNTIF('データ整理_別表（農用地及び施設）'!$G$2:'データ整理_別表（農用地及び施設）'!$G13,"この線より上に行を挿入してください。")=0,'データ整理_別表（農用地及び施設）'!$I13,"") | H13: =IF(COUNTIF('データ整理_別表（農用地及び施設）'!$G$2:'データ整理_別表（農用地及び施設）'!$G13,"この線より上に行を挿入してください。")=0,'データ整理_別表（農用地及び施設）'!$J13,"") | I13: =IF(COUNTIF('データ整理_別表（農用地及び施設）'!$L$2:'データ整理_別表（農用地及び施設）'!$L13,"この線より上に行を挿入してください。")=0,'データ整理_別表（農用地及び施設）'!$L13,"") | J13: =IF(COUNTIF('データ整理_別表（農用地及び施設）'!$L$2:'データ整理_別表（農用地及び施設）'!$L13,"この線より上に行を挿入してください。")=0,'データ整理_別表（農用地及び施設）'!$M13,"") | K13: =IF(COUNTIF('データ整理_別表（農用地及び施設）'!$L$2:'データ整理_別表（農用地及び施設）'!$L13,"この線より上に行を挿入してください。")=0,'データ整理_別表（農用地及び施設）'!$N13,"") | L13: =IF(COUNTIF('データ整理_別表（農用地及び施設）'!$L$2:'データ整理_別表（農用地及び施設）'!$L13,"この線より上に行を挿入してください。")=0,'データ整理_別表（農用地及び施設）'!$O13,"") | M13: =IF(COUNTIF('データ整理_別表（農用地及び施設）'!$B$2:'データ整理_別表（農用地及び施設）'!$B13,"この線より上に行を挿入してください。")=0,'データ整理_別表（農用地及び施設）'!$B13,"") | N13: =IF(COUNTIF('データ整理_別表（農用地及び施設）'!$B$2:'データ整理_別表（農用地及び施設）'!$B13,"この線より上に行を挿入してください。")=0,'データ整理_別表（農用地及び施設）'!$C13,"") | O13: =IF(COUNTIF('データ整理_別表（農用地及び施設）'!$B$2:'データ整理_別表（農用地及び施設）'!$B13,"この線より上に行を挿入してください。")=0,'データ整理_別表（農用地及び施設）'!$D13,"") | P13: =IF(COUNTIF('データ整理_別表（農用地及び施設）'!$B$2:'データ整理_別表（農用地及び施設）'!$B13,"この線より上に行を挿入してください。")=0,'データ整理_別表（農用地及び施設）'!$E13,"") | Q13: =IF(COUNTIF('データ整理_別表（農用地及び施設）'!$V$2:'データ整理_別表（農用地及び施設）'!$V13,"この線より上に行を挿入してください。")=0,'データ整理_別表（農用地及び施設）'!$V13,"") | R13: =IF(COUNTIF('データ整理_別表（農用地及び施設）'!$V$2:'データ整理_別表（農用地及び施設）'!$V13,"この線より上に行を挿入してください。")=0,'データ整理_別表（農用地及び施設）'!$W13,"") | S13: =IF(COUNTIF('データ整理_別表（農用地及び施設）'!$V$2:'データ整理_別表（農用地及び施設）'!$V13,"この線より上に行を挿入してください。")=0,'データ整理_別表（農用地及び施設）'!$X13,"") | T13: =IF(COUNTIF('データ整理_別表（農用地及び施設）'!$V$2:'データ整理_別表（農用地及び施設）'!$V13,"この線より上に行を挿入してください。")=0,'データ整理_別表（農用地及び施設）'!$Y13,"")
... A3000: =IF(COUNTIF('データ整理_別表（農用地及び施設）'!$B$2:'データ整理_別表（農用地及び施設）'!$B3000,"この線より上に行を挿入してください。")=0,'データ整理_別表（農用地及び施設）'!$B3000,"") | B3000: =IF(COUNTIF('データ整理_別表（農用地及び施設）'!$B$2:'データ整理_別表（農用地及び施設）'!$B3000,"この線より上に行を挿入してください。")=0,'データ整理_別表（農用地及び施設）'!$C3000,"") | C3000: =IF(COUNTIF('データ整理_別表（農用地及び施設）'!$B$2:'データ整理_別表（農用地及び施設）'!$B3000,"この線より上に行を挿入してください。")=0,'データ整理_別表（農用地及び施設）'!$D3000,"") | D3000: =IF(COUNTIF('データ整理_別表（農用地及び施設）'!$B$2:'データ整理_別表（農用地及び施設）'!$B3000,"この線より上に行を挿入してください。")=0,'データ整理_別表（農用地及び施設）'!$E3000,"") | E3000: =IF(COUNTIF('データ整理_別表（農用地及び施設）'!$G$2:'データ整理_別表（農用地及び施設）'!$G3000,"この線より上に行を挿入してください。")=0,'データ整理_別表（農用地及び施設）'!$G3000,"") | F3000: =IF(COUNTIF('データ整理_別表（農用地及び施設）'!$G$2:'データ整理_別表（農用地及び施設）'!$G3000,"この線より上に行を挿入してください。")=0,'データ整理_別表（農用地及び施設）'!$H3000,"") | G3000: =IF(COUNTIF('データ整理_別表（農用地及び施設）'!$G$2:'データ整理_別表（農用地及び施設）'!$G3000,"この線より上に行を挿入してください。")=0,'データ整理_別表（農用地及び施設）'!$I3000,"") | H3000: =IF(COUNTIF('データ整理_別表（農用地及び施設）'!$G$2:'データ整理_別表（農用地及び施設）'!$G3000,"この線より上に行を挿入してください。")=0,'データ整理_別表（農用地及び施設）'!$J3000,"") | I3000: =IF(COUNTIF('データ整理_別表（農用地及び施設）'!$L$2:'データ整理_別表（農用地及び施設）'!$L3000,"この線より上に行を挿入してください。")=0,'データ整理_別表（農用地及び施設）'!$L3000,"") | J3000: =IF(COUNTIF('データ整理_別表（農用地及び施設）'!$L$2:'データ整理_別表（農用地及び施設）'!$L3000,"この線より上に行を挿入してください。")=0,'データ整理_別表（農用地及び施設）'!$M3000,"") | K3000: =IF(COUNTIF('データ整理_別表（農用地及び施設）'!$L$2:'データ整理_別表（農用地及び施設）'!$L3000,"この線より上に行を挿入してください。")=0,'データ整理_別表（農用地及び施設）'!$N3000,"") | L3000: =IF(COUNTIF('データ整理_別表（農用地及び施設）'!$L$2:'データ整理_別表（農用地及び施設）'!$L3000,"この線より上に行を挿入してください。")=0,'データ整理_別表（農用地及び施設）'!$O3000,"") | M3000: =IF(COUNTIF('データ整理_別表（農用地及び施設）'!$B$2:'データ整理_別表（農用地及び施設）'!$B3000,"この線より上に行を挿入してください。")=0,'データ整理_別表（農用地及び施設）'!$B3000,"") | N3000: =IF(COUNTIF('データ整理_別表（農用地及び施設）'!$B$2:'データ整理_別表（農用地及び施設）'!$B3000,"この線より上に行を挿入してください。")=0,'データ整理_別表（農用地及び施設）'!$C3000,"") | O3000: =IF(COUNTIF('データ整理_別表（農用地及び施設）'!$B$2:'データ整理_別表（農用地及び施設）'!$B3000,"この線より上に行を挿入してください。")=0,'データ整理_別表（農用地及び施設）'!$D3000,"") | P3000: =IF(COUNTIF('データ整理_別表（農用地及び施設）'!$B$2:'データ整理_別表（農用地及び施設）'!$B3000,"この線より上に行を挿入してください。")=0,'データ整理_別表（農用地及び施設）'!$E3000,"") | Q3000: =IF(COUNTIF('データ整理_別表（農用地及び施設）'!$V$2:'データ整理_別表（農用地及び施設）'!$V3000,"この線より上に行を挿入してください。")=0,'データ整理_別表（農用地及び施設）'!$V3000,"") | R3000: =IF(COUNTIF('データ整理_別表（農用地及び施設）'!$V$2:'データ整理_別表（農用地及び施設）'!$V3000,"この線より上に行を挿入してください。")=0,'データ整理_別表（農用地及び施設）'!$W3000,"") | S3000: =IF(COUNTIF('データ整理_別表（農用地及び施設）'!$V$2:'データ整理_別表（農用地及び施設）'!$V3000,"この線より上に行を挿入してください。")=0,'データ整理_別表（農用地及び施設）'!$X3000,"") | T3000: =IF(COUNTIF('データ整理_別表（農用地及び施設）'!$V$2:'データ整理_別表（農用地及び施設）'!$V3000,"この線より上に行を挿入してください。")=0,'データ整理_別表（農用地及び施設）'!$Y3000,"")
