Workbook
Name OLE_LINK1: '【記入例】様式第2-6号①'!$A$1
Name OLE_LINK1: '様式第2-6号①'!$A$1
Name OLE_LINK10: '【記入例】様式第2-6号①'!$C$112
Name OLE_LINK10: '様式第2-6号①'!$C$112
Name OLE_LINK11: '【記入例】様式第2-6号①'!$A$61
Name OLE_LINK11: '様式第2-6号①'!$A$61
Name OLE_LINK20: '【記入例】様式第2-6号①'!$A$46
Name OLE_LINK20: '様式第2-6号①'!$A$46
Name OLE_LINK24: '【記入例】様式第2-6号①'!$A$93
Name OLE_LINK24: '様式第2-6号①'!$A$93
Name OLE_LINK25: '【記入例】様式第2-6号①'!$C$127
Name OLE_LINK25: '様式第2-6号①'!$C$127
Name OLE_LINK3: '【記入例】様式第2-6号①'!$C$91
Name OLE_LINK3: '様式第2-6号①'!$C$91
Name OLE_LINK33: '【記入例】様式第2-6号①'!$A$144
Name OLE_LINK33: '様式第2-6号①'!$A$144
Name OLE_LINK4: '【記入例】様式第2-6号①'!$C$142
Name OLE_LINK4: '様式第2-6号①'!$C$142
Name OLE_LINK6: '【記入例】様式第2-6号①'!$C$180
Name OLE_LINK6: '様式第2-6号①'!$C$180

Sheet 様式第2-6号①
A1: （様式第２－６号）
A2: 【都道府県から国に提出するもの】 農林水産省様式
C4: ○○県
C6: 多面的機能支払の実施に関する基本方針（要綱基本方針）
A9: １． 取組の推進に関する基本的考え方
A12: ２． 農地維持支払交付金に関する事項
A13: （１）地域活動指針の策定及び同指針に基づき定める要件の設定
A14: ① 地域活動指針策定における基本的考え方
A16: ② 地域活動指針に基づき定める要件設定の基本的考え方
A17: ア．地域資源の基礎的保全活動
A19: イ．地域資源の適切な保全管理のための推進活動
A21: ③ 国が定める活動指針及び活動要件に追加する事項等
A22: ア．地域資源の基礎的保全活動
C23: 区 分 | E23: 活動項目の追加
D24: 活動区分
D25: 対象施設等
D26: 活動項目
D27: 活動内容
D28: 活動要件
C29: この線より上に行を挿入してください。
C30: ※区分には、「活動項目の追加」、「活動内容の追加」又は「活動要件の設定」のうち該当するものを記載すること。なお、「活動内容の追加」、「活動要件の設定」については、追加箇所等を《》で囲むこと。また、活動項目については、活動項目名に活動項目番号を100番から順に付け、活動の内容を共通申請画面内に入力すること。
A32: イ．地域資源の適切な保全管理のための推進活動
C33: 区 分 | E33: 活動項目の追加
D34: 活動区分
D35: 活動項目
D36: 活動内容
D37: 活動要件
C38: この線より上に行を挿入してください。
C39: ※区分には、「活動項目の追加」、「活動内容の追加」又は「活動要件の設定」のうち該当するものを記載すること。なお、「活動内容の追加」、「活動要件の設定」については、追加箇所等を《》で囲むこと。また、活動項目については、活動項目名に活動項目番号を100番（前項までに100番以降を付けた場合は次の番号）から順に付け、活動の内容を共通申請画面内に入力すること。
A41: ④ 地域活動指針及び同指針に基づき定める要件（別紙１）
C42: ○○県の農地維持支払交付金に関する地域活動指針及び同指針に基づき定める要件は、別紙１のとおりとする。
A45: （２）交付単価
A46: ① 基本的考え方 | E46: テスト５
A47: ② 農地維持支払交付金の交付単価
B48: 地域 | C48: 適用 | D48: 地目 | E48: 農地維持支払交付金の10アール当たりの交付単価 | G48: 左記のうち国の助成
D51: 田 | E51: 0 | G51: =E51/2 -> 0
D52: 畑 | E52: 0 | G52: =E52/2 -> 0
D53: 草地 | E53: 0 | G53: =E53/2 -> 0
B54: この線より上に行を挿入してください。
A56: （３）交付金の算定の対象とする農用地
A58: （４） その他必要な事項
A61: ３．資源向上支払交付金（地域資源の質的向上を図る共同活動）に関する事項
A62: （１） 地域活動指針の策定及び同指針に基づき定める要件の設定
A63: ① 地域活動指針策定における基本的考え方
A65: ② 地域活動指針に基づき定める要件設定の基本的考え方
A66: ア．施設の軽微な補修
A68: イ．農村環境保全活動
A70: ウ．多面的機能の増進を図る活動
A72: ③ 国が定める活動指針及び活動要件に追加する事項等
A73: ア．施設の軽微な補修
C74: 区 分 | E74: 活動項目の追加
D75: 活動区分
D76: 対象施設等
D77: 活動項目
D78: 活動内容
D79: 活動要件
C80: この線より上に行を挿入してください。
C81: ※区分には、「活動項目の追加」、「活動内容の追加」又は「活動要件の設定」のうち該当するものを記載すること。なお、「活動内容の追加」、「活動要件の設定」については、追加箇所等を《》で囲むこと。また、活動項目については、活動項目名に活動項目番号を100番（前項までに100番以降を付けた場合は次の番号）から順に付け、活動の内容を共通申請画面内に入力すること。
A83: イ．農村環境保全活動
C84: 区 分 | E84: テーマの追加
D85: 活動区分
D86: テーマ
D87: 活動項目
D88: 活動内容
D89: 活動要件
C90: この線より上に行を挿入してください。
C91: ※区分には、「テーマの追加」、「テーマの削除」、「活動項目の追加」、「活動項目の削除」、「活動内容の変更（追加又は削除等）」又は「活動要件の設定」のうち該当するものを記載すること。なお、「活動内容の追加」、「活動要件の設定」等については、追加箇所等を《》で囲むこと。また、活動項目については、活動項目名に活動項目番号を100番（前項までに100番以降を付けた場合は次の番号）から順に付け、活動の内容を共通申請画面内に入力すること。
A93: ウ．多面的機能の増進を図る活動
C94: 区 分 | E94: 活動項目の追加
D95: 活動区分
D96: 活動項目
D97: 活動内容
D98: 活動要件
C99: この線より上に行を挿入してください。
C100: ※区分には、「活動項目の追加」、「活動内容の追加」又は「活動要件の設定」のうち該当するものを記載すること。なお、「活動内容の追加」、「活動要件の設定」については、追加箇所等を《》で囲むこと。また、活動項目については、活動項目名に活動項目番号を100番（前項までに100番以降を付けた場合は次の番号）から順に付け、活動の内容を共通申請画面内に入力すること。
A102: ④ 地域活動指針及び同指針に基づき定める要件（別紙２）
A105: ⑤水田貯留機能強化計画書の策定について
A108: （２） 交付単価
A109: ① 基本的考え方
A111: ②資源向上支払交付金（地域資源の質的向上を図る共同活動）の交付単価
B112: 地域 | C112: 適用 | D112: 地目 | E112: 資源向上支払交付金（地域資源の質的向上を図る共同活動）の10アール当たりの交付単価 | G112: 左記のうち国の助成
D115: 田 | E115: 0 | G115: =E115/2 -> 0
D116: 畑 | E116: 0 | G116: =E116/2 -> 0
D117: 草地 | E117: 0 | G117: =E117/2 -> 0
D118: 田 | E118: 0 | G118: =E118/2 -> 0
D119: 畑 | E119: 0 | G119: =E119/2 -> 0
D120: 草地 | E120: 0 | G120: =E120/2 -> 0
B121: この線より上に行を挿入してください。
A123: （３）交付金の算定の対象とする農用地
A125: （４） その他必要な事項
A128: ４． 資源向上支払交付金（施設の長寿命化のための活動）に関する事項
A130: （１）地域活動指針の策定及び同指針に基づき定める要件の設定
A131: ① 地域活動指針策定における基本的考え方
A133: ② 地域活動指針に基づき定める要件設定の基本的考え方
A134: ア. 工事１件あたり２百万円以上の活動を実施する要件
C136: ａ 対象施設・対象活動
C138: ｂ 内容について都道府県知事と協議を求める場合の要件
C140: ｃ 都道府県又は推進組織が行う技術的指導の内容
C142: ｄ その他必要な事項
A144: ③ 地域の状況に応じて追加する農地に係る施設や対象活動
...

Sheet 【記入例】様式第2-6号①
A1: （様式第２－６号）
A2: 【都道府県から国に提出するもの】 農林水産省様式
C4: ○○県
C6: 多面的機能支払の実施に関する基本方針（要綱基本方針）
A9: １． 取組の推進に関する基本的考え方
A10: テスト１
A12: ２． 農地維持支払交付金に関する事項
A13: （１）地域活動指針の策定及び同指針に基づき定める要件の設定
A14: ① 地域活動指針策定における基本的考え方
C15: テスト２
A16: ② 地域活動指針に基づき定める要件設定の基本的考え方
A17: ア．地域資源の基礎的保全活動
C18: テスト３
A19: イ．地域資源の適切な保全管理のための推進活動
C20: テスト４
A21: ③ 国が定める活動指針及び活動要件に追加する事項等
A22: ア．地域資源の基礎的保全活動
C23: 区 分 | E23: 活動項目の追加
D24: 活動区分
D25: 対象施設等
D26: 活動項目
D27: 活動内容
D28: 活動要件
C29: この線より上に行を挿入してください。
C30: ※区分には、「活動項目の追加」、「活動内容の追加」又は「活動要件の設定」のうち該当するものを記載すること。なお、「活動内容の追加」、「活動要件の設定」については、追加箇所等を《》で囲むこと。また、活動項目については、活動項目名に活動項目番号を100番から順に付け、活動の内容を共通申請画面内に入力すること。
A32: イ．地域資源の適切な保全管理のための推進活動
C33: 区 分 | E33: 活動項目の追加
D34: 活動区分
D35: 活動項目
D36: 活動内容
D37: 活動要件
C38: この線より上に行を挿入してください。
C39: ※区分には、「活動項目の追加」、「活動内容の追加」又は「活動要件の設定」のうち該当するものを記載すること。なお、「活動内容の追加」、「活動要件の設定」については、追加箇所等を《》で囲むこと。また、活動項目については、活動項目名に活動項目番号を100番（前項までに100番以降を付けた場合は次の番号）から順に付け、活動の内容を共通申請画面内に入力すること。
A41: ④ 地域活動指針及び同指針に基づき定める要件（別紙１）
C42: ○○県の農地維持支払交付金に関する地域活動指針及び同指針に基づき定める要件は、別紙１のとおりとする。
A45: （２）交付単価
A46: ① 基本的考え方 | E46: テスト５
A47: ② 農地維持支払交付金の交付単価
B48: 地域 | C48: 適用 | D48: 地目 | E48: 農地維持支払交付金の10アール当たりの交付単価 | G48: 左記のうち国の助成
D51: 田 | E51: 0 | G51: =E51/2 -> 0
D52: 畑 | E52: 0 | G52: =E52/2 -> 0
D53: 草地 | E53: 0 | G53: =E53/2 -> 0
B54: この線より上に行を挿入してください。
A56: （３）交付金の算定の対象とする農用地
C57: テスト６
A58: （４） その他必要な事項
C59: テスト７
A61: ３．資源向上支払交付金（地域資源の質的向上を図る共同活動）に関する事項
A62: （１） 地域活動指針の策定及び同指針に基づき定める要件の設定
A63: ① 地域活動指針策定における基本的考え方
C64: テスト８
A65: ② 地域活動指針に基づき定める要件設定の基本的考え方
A66: ア．施設の軽微な補修
C67: テスト９
A68: イ．農村環境保全活動
C69: テスト10
A70: ウ．多面的機能の増進を図る活動
C71: テスト11
A72: ③ 国が定める活動指針及び活動要件に追加する事項等
A73: ア．施設の軽微な補修
C74: 区 分 | E74: 活動項目の追加
D75: 活動区分
D76: 対象施設等
D77: 活動項目
D78: 活動内容
D79: 活動要件
C80: この線より上に行を挿入してください。
C81: ※区分には、「活動項目の追加」、「活動内容の追加」又は「活動要件の設定」のうち該当するものを記載すること。なお、「活動内容の追加」、「活動要件の設定」については、追加箇所等を《》で囲むこと。また、活動項目については、活動項目名に活動項目番号を100番（前項までに100番以降を付けた場合は次の番号）から順に付け、活動の内容を共通申請画面内に入力すること。
A83: イ．農村環境保全活動
C84: 区 分 | E84: テーマの追加
D85: 活動区分
D86: テーマ
D87: 活動項目
D88: 活動内容
D89: 活動要件
C90: この線より上に行を挿入してください。
C91: ※区分には、「テーマの追加」、「テーマの削除」、「活動項目の追加」、「活動項目の削除」、「活動内容の変更（追加又は削除等）」又は「活動要件の設定」のうち該当するものを記載すること。なお、「活動内容の追加」、「活動要件の設定」等については、追加箇所等を《》で囲むこと。また、活動項目については、活動項目名に活動項目番号を100番（前項までに100番以降を付けた場合は次の番号）から順に付け、活動の内容を共通申請画面内に入力すること。
A93: ウ．多面的機能の増進を図る活動
C94: 区 分 | E94: 活動項目の追加
D95: 活動区分
D96: 活動項目
D97: 活動内容
D98: 活動要件
C99: この線より上に行を挿入してください。
C100: ※区分には、「活動項目の追加」、「活動内容の追加」又は「活動要件の設定」のうち該当するものを記載すること。なお、「活動内容の追加」、「活動要件の設定」については、追加箇所等を《》で囲むこと。また、活動項目については、活動項目名に活動項目番号を100番（前項までに100番以降を付けた場合は次の番号）から順に付け、活動の内容を共通申請画面内に入力すること。
A102: ④ 地域活動指針及び同指針に基づき定める要件（別紙２）
C103: ○○県の資源向上支払交付金（地域資源の質的向上を図る共同活動）に関する地域活動指針及び同指針に基づき定める要件は、別紙２のとおりとする。
A105: ⑤水田貯留機能強化計画書の策定について
C106: テスト12
A108: （２） 交付単価
A109: ① 基本的考え方
C110: テスト13
A111: ②資源向上支払交付金（地域資源の質的向上を図る共同活動）の交付単価
B112: 地域 | C112: 適用 | D112: 地目 | E112: 資源向上支払交付金（地域資源の質的向上を図る共同活動）の10アール当たりの交付単価 | G112: 左記のうち国の助成
D115: 田 | E115: 0 | G115: =E115/2 -> 0
D116: 畑 | E116: 0 | G116: =E116/2 -> 0
D117: 草地 | E117: 0 | G117: =E117/2 -> 0
D118: 田 | E118: 0 | G118: =E118/2 -> 0
D119: 畑 | E119: 0 | G119: =E119/2 -> 0
D120: 草地 | E120: 0 | G120: =E120/2 -> 0
...

Sheet データ整理_様式第2-6号①
B1: 判定 | C1: ４－８．区分 | D1: ４－９．活動区分 | E1: ４－１０．対象施設等 | F1: ４－１１．活動項目 | G1: ４－１１．活動項目２ | H1: ４－１２．活動内容 | I1: ４－１３．活動要件 | K1: 判定 | L1: ４－１５．区分 | M1: ４－１６．活動区分 | N1: ４－１７．活動項目 | O1: ４－１７．活動項目２ | P1: ４－１８．活動内容 | Q1: ４－１９．活動要件 | S1: ４－２２．地域 | T1: ４－２３．適用 | U1: ４－２４．交付単価（田） | V1: ４－２５．交付単価（畑） | W1: ４－２６．交付単価（草地） | Y1: 判定 | Z1: ４－３７．区分 | AA1: ４－３８．活動区分 | AB1: ４－３９．対象施設等 | AC1: ４－４０．活動項目 | AD1: ４－４０．活動項目２ | AE1: ４－４１．活動内容 | AF1: ４－４２．活動要件 | AH1: 判定 | AI1: ４－４４．区分 | AJ1: ４－４５．活動区分 | AK1: ４－４６．テーマ | AL1: ４－４７．活動項目 | AM1: ４－４７．活動項目２ | AN1: ４－４８．活動内容 | AO1: ４－４９．活動要件 | AQ1: 判定 | AR1: ４－５０．区分 | AS1: ４－５１．活動区分 | AT1: ４－５２．活動項目 | AU1: ４－５２．活動項目２ | AV1: ４－５３，活動内容 | AW1: ４－５４．活動要件 | AY1: ４－６０．地域 | AZ1: ４－６１．適用 | BA1: ４－６２．交付単価（田） | BB1: ４－６３．交付単価（畑） | BC1: ４－６４．交付単価（草地） | BE1: 判定 | BF1: ４－７８．区分 | BG1: ４－７９．活動区分 | BH1: ４－８０．施設区分 | BI1: ４－８１．活動項目 | BJ1: ４－８１．活動項目２ | BK1: ４－８２．活動内容 | BL1: ４－８３．活動要件
A2: 1 | B2: =IF(OFFSET('様式第2-6号①'!$C$23,$A2-1,)="","",OFFSET('様式第2-6号①'!$C$23,$A2-1,)) -> 区 分 | C2: =IF(OFFSET('様式第2-6号①'!$E$23,$A2-1,)="","",OFFSET('様式第2-6号①'!$E$23,$A2-1,)) -> 活動項目の追加 | D2: =IF(OFFSET('様式第2-6号①'!$E$23,$A2,)="","",OFFSET('様式第2-6号①'!$E$23,$A2,)) | E2: =IF(OFFSET('様式第2-6号①'!$E$23,$A2+1,)="","",OFFSET('様式第2-6号①'!$E$23,$A2+1,)) | F2: =IF(OFFSET('様式第2-6号①'!$E$23,$A2+2,)="","",OFFSET('様式第2-6号①'!$E$23,$A2+2,)) | G2: 取込無し | H2: =IF(OFFSET('様式第2-6号①'!$E$23,$A2+3,)="","",OFFSET('様式第2-6号①'!$E$23,$A2+3,)) | I2: =IF(OFFSET('様式第2-6号①'!$E$23,$A2+4,)="","",OFFSET('様式第2-6号①'!$E$23,$A2+4,)) | J2: 1 | K2: =IF(OFFSET('様式第2-6号①'!$C$33,$J2-1,)="","",OFFSET('様式第2-6号①'!$C$33,$J2-1,)) -> 区 分 | L2: =IF(OFFSET('様式第2-6号①'!$E$33,$J2-1,)="","",OFFSET('様式第2-6号①'!$E$33,$J2-1,)) -> 活動項目の追加 | M2: =IF(OFFSET('様式第2-6号①'!$E$33,$J2,)="","",OFFSET('様式第2-6号①'!$E$33,$J2,)) | N2: =IF(OFFSET('様式第2-6号①'!$E$33,$J2+1,)="","",OFFSET('様式第2-6号①'!$E$33,$J2+1,)) | O2: 取込無し | P2: =IF(OFFSET('様式第2-6号①'!$E$33,$J2+2,)="","",OFFSET('様式第2-6号①'!$E$33,$J2+2,)) | Q2: =IF(OFFSET('様式第2-6号①'!$E$33,$J2+3,)="","",OFFSET('様式第2-6号①'!$E$33,$J2+3,)) | R2: 1 | S2: =IF(OFFSET('様式第2-6号①'!$B$50,$R2,)="","",OFFSET('様式第2-6号①'!$B$50,$R2,)) | T2: =IF(OFFSET('様式第2-6号①'!$C$50,$R2,)="","",OFFSET('様式第2-6号①'!$C$50,$R2,)) | U2: =IF(OFFSET('様式第2-6号①'!$E$50,$R2,)="","",OFFSET('様式第2-6号①'!$E$50,$R2,)) -> 0 | V2: =IF(OFFSET('様式第2-6号①'!$E$50,$R2+1,)="","",OFFSET('様式第2-6号①'!$E$50,$R2+1,)) -> 0 | W2: =IF(OFFSET('様式第2-6号①'!$E$50,$R2+2,)="","",OFFSET('様式第2-6号①'!$E$50,$R2+2,)) -> 0 | X2: 1 | Y2: =IF(OFFSET('様式第2-6号①'!$C$74,$X2-1,)="","",OFFSET('様式第2-6号①'!$C$74,$X2-1,)) -> 区 分 | Z2: =IF(OFFSET('様式第2-6号①'!$E$74,$X2-1,)="","",OFFSET('様式第2-6号①'!$E$74,$X2-1,)) -> 活動項目の追加 | AA2: =IF(OFFSET('様式第2-6号①'!$E$74,$X2,)="","",OFFSET('様式第2-6号①'!$E$74,$X2,)) | AB2: =IF(OFFSET('様式第2-6号①'!$E$74,$X2+1,)="","",OFFSET('様式第2-6号①'!$E$74,$X2+1,)) | AC2: =IF(OFFSET('様式第2-6号①'!$E$74,$X2+2,)="","",OFFSET('様式第2-6号①'!$E$74,$X2+2,)) | AD2: 取込無し | AE2: =IF(OFFSET('様式第2-6号①'!$E$74,$X2+3,)="","",OFFSET('様式第2-6号①'!$E$74,$X2+3,)) | AF2: =IF(OFFSET('様式第2-6号①'!$E$74,$X2+4,)="","",OFFSET('様式第2-6号①'!$E$74,$X2+4,)) | AG2: 1 | AH2: =IF(OFFSET('様式第2-6号①'!$C$84,$AG2-1,)="","",OFFSET('様式第2-6号①'!$C$84,$AG2-1,)) -> 区 分 | AI2: =IF(OFFSET('様式第2-6号①'!$E$84,$AG2-1,)="","",OFFSET('様式第2-6号①'!$E$84,$AG2-1,)) -> テーマの追加 | AJ2: =IF(OFFSET('様式第2-6号①'!$E$84,$AG2,)="","",OFFSET('様式第2-6号①'!$E$84,$AG2,)) | AK2: =IF(OFFSET('様式第2-6号①'!$E$84,$AG2+1,)="","",OFFSET('様式第2-6号①'!$E$84,$AG2+1,)) | AL2: =IF(OFFSET('様式第2-6号①'!$E$84,$AG2+2,)="","",OFFSET('様式第2-6号①'!$E$84,$AG2+2,)) | AM2: 取込無し | AN2: =IF(OFFSET('様式第2-6号①'!$E$84,$AG2+3,)="","",OFFSET('様式第2-6号①'!$E$84,$AG2+3,)) | AO2: =IF(OFFSET('様式第2-6号①'!$E$84,$AG2+4,)="","",OFFSET('様式第2-6号①'!$E$84,$AG2+4,)) | AP2: 1 | AQ2: =IF(OFFSET('様式第2-6号①'!$C$94,$AP2-1,)="","",OFFSET('様式第2-6号①'!$C$94,$AP2-1,)) -> 区 分 | AR2: =IF(OFFSET('様式第2-6号①'!$E$94,$AP2-1,)="","",OFFSET('様式第2-6号①'!$E$94,$AP2-1,)) -> 活動項目の追加 | AS2: =IF(OFFSET('様式第2-6号①'!$E$94,$AP2,)="","",OFFSET('様式第2-6号①'!$E$94,$AP2,)) | AT2: =IF(OFFSET('様式第2-6号①'!$E$94,$AP2+1,)="","",OFFSET('様式第2-6号①'!$E$94,$AP2+1,)) | AU2: 取込無し | AV2: =IF(OFFSET('様式第2-6号①'!$E$94,$AP2+2,)="","",OFFSET('様式第2-6号①'!$E$94,$AP2+2,)) | AW2: =IF(OFFSET('様式第2-6号①'!$E$94,$AP2+3,)="","",OFFSET('様式第2-6号①'!$E$94,$AP2+3,)) | AX2: 1 | AY2: =IF(OFFSET('様式第2-6号①'!$B$114,$AX2,)="","",OFFSET('様式第2-6号①'!$B$114,$AX2,)) | AZ2: =IF(OFFSET('様式第2-6号①'!$C$114,$AX2,)="","",OFFSET('様式第2-6号①'!$C$114,$AX2,)) | BA2: =IF(OFFSET('様式第2-6号①'!$E$114,$AX2,)="","",OFFSET('様式第2-6号①'!$E$114,$AX2,)) -> 0 | BB2: =IF(OFFSET('様式第2-6号①'!$E$114,$AX2+1,)="","",OFFSET('様式第2-6号①'!$E$114,$AX2+1,)) -> 0 | BC2: =IF(OFFSET('様式第2-6号①'!$E$114,$AX2+2,)="","",OFFSET('様式第2-6号①'!$E$114,$AX2+2,)) -> 0 | BD2: 1 | BE2: =IF(OFFSET('様式第2-6号①'!$C$145,$BD2-1,)="","",OFFSET('様式第2-6号①'!$C$145,$BD2-1,)) -> 区 分 | BF2: =IF(OFFSET('様式第2-6号①'!$E$145,$BD2-1,)="","",OFFSET('様式第2-6号①'!$E$145,$BD2-1,)) -> 活動項目の追加 | BG2: =IF(OFFSET('様式第2-6号①'!$E$145,$BD2,)="","",OFFSET('様式第2-6号①'!$E$145,$BD2,)) | BH2: =IF(OFFSET('様式第2-6号①'!$E$145,$BD2+1,)="","",OFFSET('様式第2-6号①'!$E$145,$BD2+1,)) | BI2: =IF(OFFSET('様式第2-6号①'!$E$145,$BD2+2,)="","",OFFSET('様式第2-6号①'!$E$145,$BD2+2,)) | BJ2: 取込無し | BK2: =IF(OFFSET('様式第2-6号①'!$E$145,$BD2+3,)="","",OFFSET('様式第2-6号①'!$E$145,$BD2+3,)) | BL2: =IF(OFFSET('様式第2-6号①'!$E$145,$BD2+4,)="","",OFFSET('様式第2-6号①'!$E$145,$BD2+4,))
A3: 7 | B3: =IF(OFFSET('様式第2-6号①'!$C$23,$A3-1,)="","",OFFSET('様式第2-6号①'!$C$23,$A3-1,)) -> この線より上に行を挿入してください。 | C3: =IF(OFFSET('様式第2-6号①'!$E$23,$A3-1,)="","",OFFSET('様式第2-6号①'!$E$23,$A3-1,)) | D3: =IF(OFFSET('様式第2-6号①'!$E$23,$A3,)="","",OFFSET('様式第2-6号①'!$E$23,$A3,)) | E3: =IF(OFFSET('様式第2-6号①'!$E$23,$A3+1,)="","",OFFSET('様式第2-6号①'!$E$23,$A3+1,)) | F3: =IF(OFFSET('様式第2-6号①'!$E$23,$A3+2,)="","",OFFSET('様式第2-6号①'!$E$23,$A3+2,)) | H3: =IF(OFFSET('様式第2-6号①'!$E$23,$A3+3,)="","",OFFSET('様式第2-6号①'!$E$23,$A3+3,)) -> 活動項目の追加 | I3: =IF(OFFSET('様式第2-6号①'!$E$23,$A3+4,)="","",OFFSET('様式第2-6号①'!$E$23,$A3+4,)) | J3: 6 | K3: =IF(OFFSET('様式第2-6号①'!$C$33,$J3-1,)="","",OFFSET('様式第2-6号①'!$C$33,$J3-1,)) -> この線より上に行を挿入してください。 | L3: =IF(OFFSET('様式第2-6号①'!$E$33,$J3-1,)="","",OFFSET('様式第2-6号①'!$E$33,$J3-1,)) | M3: =IF(OFFSET('様式第2-6号①'!$E$33,$J3,)="","",OFFSET('様式第2-6号①'!$E$33,$J3,)) | N3: =IF(OFFSET('様式第2-6号①'!$E$33,$J3+1,)="","",OFFSET('様式第2-6号①'!$E$33,$J3+1,)) | P3: =IF(OFFSET('様式第2-6号①'!$E$33,$J3+2,)="","",OFFSET('様式第2-6号①'!$E$33,$J3+2,)) | Q3: =IF(OFFSET('様式第2-6号①'!$E$33,$J3+3,)="","",OFFSET('様式第2-6号①'!$E$33,$J3+3,)) | R3: 4 | S3: =IF(OFFSET('様式第2-6号①'!$B$50,$R3,)="","",OFFSET('様式第2-6号①'!$B$50,$R3,)) -> この線より上に行を挿入してください。 | T3: =IF(OFFSET('様式第2-6号①'!$C$50,$R3,)="","",OFFSET('様式第2-6号①'!$C$50,$R3,)) | U3: =IF(OFFSET('様式第2-6号①'!$E$50,$R3,)="","",OFFSET('様式第2-6号①'!$E$50,$R3,)) | V3: =IF(OFFSET('様式第2-6号①'!$E$50,$R3+1,)="","",OFFSET('様式第2-6号①'!$E$50,$R3+1,)) | W3: =IF(OFFSET('様式第2-6号①'!$E$50,$R3+2,)="","",OFFSET('様式第2-6号①'!$E$50,$R3+2,)) | X3: 7 | Y3: =IF(OFFSET('様式第2-6号①'!$C$74,$X3-1,)="","",OFFSET('様式第2-6号①'!$C$74,$X3-1,)) -> この線より上に行を挿入してください。 | Z3: =IF(OFFSET('様式第2-6号①'!$E$74,$X3-1,)="","",OFFSET('様式第2-6号①'!$E$74,$X3-1,)) | AA3: =IF(OFFSET('様式第2-6号①'!$E$74,$X3,)="","",OFFSET('様式第2-6号①'!$E$74,$X3,)) | AB3: =IF(OFFSET('様式第2-6号①'!$E$74,$X3+1,)="","",OFFSET('様式第2-6号①'!$E$74,$X3+1,)) | AC3: =IF(OFFSET('様式第2-6号①'!$E$74,$X3+2,)="","",OFFSET('様式第2-6号①'!$E$74,$X3+2,)) | AE3: =IF(OFFSET('様式第2-6号①'!$E$74,$X3+3,)="","",OFFSET('様式第2-6号①'!$E$74,$X3+3,)) -> テーマの追加 | AF3: =IF(OFFSET('様式第2-6号①'!$E$74,$X3+4,)="","",OFFSET('様式第2-6号①'!$E$74,$X3+4,)) | AG3: 7 | AH3: =IF(OFFSET('様式第2-6号①'!$C$84,$AG3-1,)="","",OFFSET('様式第2-6号①'!$C$84,$AG3-1,)) -> この線より上に行を挿入してください。 | AI3: =IF(OFFSET('様式第2-6号①'!$E$84,$AG3-1,)="","",OFFSET('様式第2-6号①'!$E$84,$AG3-1,)) | AJ3: =IF(OFFSET('様式第2-6号①'!$E$84,$AG3,)="","",OFFSET('様式第2-6号①'!$E$84,$AG3,)) | AK3: =IF(OFFSET('様式第2-6号①'!$E$84,$AG3+1,)="","",OFFSET('様式第2-6号①'!$E$84,$AG3+1,)) | AL3: =IF(OFFSET('様式第2-6号①'!$E$84,$AG3+2,)="","",OFFSET('様式第2-6号①'!$E$84,$AG3+2,)) | AN3: =IF(OFFSET('様式第2-6号①'!$E$84,$AG3+3,)="","",OFFSET('様式第2-6号①'!$E$84,$AG3+3,)) -> 活動項目の追加 | AO3: =IF(OFFSET('様式第2-6号①'!$E$84,$AG3+4,)="","",OFFSET('様式第2-6号①'!$E$84,$AG3+4,)) | AP3: 6 | AQ3: =IF(OFFSET('様式第2-6号①'!$C$94,$AP3-1,)="","",OFFSET('様式第2-6号①'!$C$94,$AP3-1,)) -> この線より上に行を挿入してください。 | AR3: =IF(OFFSET('様式第2-6号①'!$E$94,$AP3-1,)="","",OFFSET('様式第2-6号①'!$E$94,$AP3-1,)) | AS3: =IF(OFFSET('様式第2-6号①'!$E$94,$AP3,)="","",OFFSET('様式第2-6号①'!$E$94,$AP3,)) | AT3: =IF(OFFSET('様式第2-6号①'!$E$94,$AP3+1,)="","",OFFSET('様式第2-6号①'!$E$94,$AP3+1,)) | AV3: =IF(OFFSET('様式第2-6号①'!$E$94,$AP3+2,)="","",OFFSET('様式第2-6号①'!$E$94,$AP3+2,)) | AW3: =IF(OFFSET('様式第2-6号①'!$E$94,$AP3+3,)="","",OFFSET('様式第2-6号①'!$E$94,$AP3+3,)) | AX3: 4 | AY3: =IF(OFFSET('様式第2-6号①'!$B$114,$AX3,)="","",OFFSET('様式第2-6号①'!$B$114,$AX3,)) | AZ3: =IF(OFFSET('様式第2-6号①'!$C$114,$AX3,)="","",OFFSET('様式第2-6号①'!$C$114,$AX3,)) | BA3: =IF(OFFSET('様式第2-6号①'!$E$114,$AX3,)="","",OFFSET('様式第2-6号①'!$E$114,$AX3,)) -> 0 | BB3: =IF(OFFSET('様式第2-6号①'!$E$114,$AX3+1,)="","",OFFSET('様式第2-6号①'!$E$114,$AX3+1,)) -> 0 | BC3: =IF(OFFSET('様式第2-6号①'!$E$114,$AX3+2,)="","",OFFSET('様式第2-6号①'!$E$114,$AX3+2,)) -> 0 | BD3: 7 | BE3: =IF(OFFSET('様式第2-6号①'!$C$145,$BD3-1,)="","",OFFSET('様式第2-6号①'!$C$145,$BD3-1,)) -> この線より上に行を挿入してください。 | BF3: =IF(OFFSET('様式第2-6号①'!$E$145,$BD3-1,)="","",OFFSET('様式第2-6号①'!$E$145,$BD3-1,)) | BG3: =IF(OFFSET('様式第2-6号①'!$E$145,$BD3,)="","",OFFSET('様式第2-6号①'!$E$145,$BD3,)) | BH3: =IF(OFFSET('様式第2-6号①'!$E$145,$BD3+1,)="","",OFFSET('様式第2-6号①'!$E$145,$BD3+1,)) | BI3: =IF(OFFSET('様式第2-6号①'!$E$145,$BD3+2,)="","",OFFSET('様式第2-6号①'!$E$145,$BD3+2,)) | BK3: =IF(OFFSET('様式第2-6号①'!$E$145,$BD3+3,)="","",OFFSET('様式第2-6号①'!$E$145,$BD3+3,)) | BL3: =IF(OFFSET('様式第2-6号①'!$E$145,$BD3+4,)="","",OFFSET('様式第2-6号①'!$E$145,$BD3+4,))
A4: 13 | B4: =IF(OFFSET('様式第2-6号①'!$C$23,$A4-1,)="","",OFFSET('様式第2-6号①'!$C$23,$A4-1,)) | C4: =IF(OFFSET('様式第2-6号①'!$E$23,$A4-1,)="","",OFFSET('様式第2-6号①'!$E$23,$A4-1,)) | D4: =IF(OFFSET('様式第2-6号①'!$E$23,$A4,)="","",OFFSET('様式第2-6号①'!$E$23,$A4,)) | E4: =IF(OFFSET('様式第2-6号①'!$E$23,$A4+1,)="","",OFFSET('様式第2-6号①'!$E$23,$A4+1,)) | F4: =IF(OFFSET('様式第2-6号①'!$E$23,$A4+2,)="","",OFFSET('様式第2-6号①'!$E$23,$A4+2,)) | H4: =IF(OFFSET('様式第2-6号①'!$E$23,$A4+3,)="","",OFFSET('様式第2-6号①'!$E$23,$A4+3,)) | I4: =IF(OFFSET('様式第2-6号①'!$E$23,$A4+4,)="","",OFFSET('様式第2-6号①'!$E$23,$A4+4,)) | J4: 11 | K4: =IF(OFFSET('様式第2-6号①'!$C$33,$J4-1,)="","",OFFSET('様式第2-6号①'!$C$33,$J4-1,)) | L4: =IF(OFFSET('様式第2-6号①'!$E$33,$J4-1,)="","",OFFSET('様式第2-6号①'!$E$33,$J4-1,)) | M4: =IF(OFFSET('様式第2-6号①'!$E$33,$J4,)="","",OFFSET('様式第2-6号①'!$E$33,$J4,)) | N4: =IF(OFFSET('様式第2-6号①'!$E$33,$J4+1,)="","",OFFSET('様式第2-6号①'!$E$33,$J4+1,)) | P4: =IF(OFFSET('様式第2-6号①'!$E$33,$J4+2,)="","",OFFSET('様式第2-6号①'!$E$33,$J4+2,)) -> テスト５ | Q4: =IF(OFFSET('様式第2-6号①'!$E$33,$J4+3,)="","",OFFSET('様式第2-6号①'!$E$33,$J4+3,)) | R4: 7 | S4: =IF(OFFSET('様式第2-6号①'!$B$50,$R4,)="","",OFFSET('様式第2-6号①'!$B$50,$R4,)) | T4: =IF(OFFSET('様式第2-6号①'!$C$50,$R4,)="","",OFFSET('様式第2-6号①'!$C$50,$R4,)) | U4: =IF(OFFSET('様式第2-6号①'!$E$50,$R4,)="","",OFFSET('様式第2-6号①'!$E$50,$R4,)) | V4: =IF(OFFSET('様式第2-6号①'!$E$50,$R4+1,)="","",OFFSET('様式第2-6号①'!$E$50,$R4+1,)) | W4: =IF(OFFSET('様式第2-6号①'!$E$50,$R4+2,)="","",OFFSET('様式第2-6号①'!$E$50,$R4+2,)) | X4: 13 | Y4: =IF(OFFSET('様式第2-6号①'!$C$74,$X4-1,)="","",OFFSET('様式第2-6号①'!$C$74,$X4-1,)) | Z4: =IF(OFFSET('様式第2-6号①'!$E$74,$X4-1,)="","",OFFSET('様式第2-6号①'!$E$74,$X4-1,)) | AA4: =IF(OFFSET('様式第2-6号①'!$E$74,$X4,)="","",OFFSET('様式第2-6号①'!$E$74,$X4,)) | AB4: =IF(OFFSET('様式第2-6号①'!$E$74,$X4+1,)="","",OFFSET('様式第2-6号①'!$E$74,$X4+1,)) | AC4: =IF(OFFSET('様式第2-6号①'!$E$74,$X4+2,)="","",OFFSET('様式第2-6号①'!$E$74,$X4+2,)) | AE4: =IF(OFFSET('様式第2-6号①'!$E$74,$X4+3,)="","",OFFSET('様式第2-6号①'!$E$74,$X4+3,)) | AF4: =IF(OFFSET('様式第2-6号①'!$E$74,$X4+4,)="","",OFFSET('様式第2-6号①'!$E$74,$X4+4,)) | AG4: 13 | AH4: =IF(OFFSET('様式第2-6号①'!$C$84,$AG4-1,)="","",OFFSET('様式第2-6号①'!$C$84,$AG4-1,)) | AI4: =IF(OFFSET('様式第2-6号①'!$E$84,$AG4-1,)="","",OFFSET('様式第2-6号①'!$E$84,$AG4-1,)) | AJ4: =IF(OFFSET('様式第2-6号①'!$E$84,$AG4,)="","",OFFSET('様式第2-6号①'!$E$84,$AG4,)) | AK4: =IF(OFFSET('様式第2-6号①'!$E$84,$AG4+1,)="","",OFFSET('様式第2-6号①'!$E$84,$AG4+1,)) | AL4: =IF(OFFSET('様式第2-6号①'!$E$84,$AG4+2,)="","",OFFSET('様式第2-6号①'!$E$84,$AG4+2,)) | AN4: =IF(OFFSET('様式第2-6号①'!$E$84,$AG4+3,)="","",OFFSET('様式第2-6号①'!$E$84,$AG4+3,)) | AO4: =IF(OFFSET('様式第2-6号①'!$E$84,$AG4+4,)="","",OFFSET('様式第2-6号①'!$E$84,$AG4+4,)) | AP4: 11 | AQ4: =IF(OFFSET('様式第2-6号①'!$C$94,$AP4-1,)="","",OFFSET('様式第2-6号①'!$C$94,$AP4-1,)) | AR4: =IF(OFFSET('様式第2-6号①'!$E$94,$AP4-1,)="","",OFFSET('様式第2-6号①'!$E$94,$AP4-1,)) | AS4: =IF(OFFSET('様式第2-6号①'!$E$94,$AP4,)="","",OFFSET('様式第2-6号①'!$E$94,$AP4,)) | AT4: =IF(OFFSET('様式第2-6号①'!$E$94,$AP4+1,)="","",OFFSET('様式第2-6号①'!$E$94,$AP4+1,)) | AV4: =IF(OFFSET('様式第2-6号①'!$E$94,$AP4+2,)="","",OFFSET('様式第2-6号①'!$E$94,$AP4+2,)) | AW4: =IF(OFFSET('様式第2-6号①'!$E$94,$AP4+3,)="","",OFFSET('様式第2-6号①'!$E$94,$AP4+3,)) | AX4: 7 | AY4: =IF(OFFSET('様式第2-6号①'!$B$114,$AX4,)="","",OFFSET('様式第2-6号①'!$B$114,$AX4,)) -> この線より上に行を挿入してください。 | AZ4: =IF(OFFSET('様式第2-6号①'!$C$114,$AX4,)="","",OFFSET('様式第2-6号①'!$C$114,$AX4,)) | BA4: =IF(OFFSET('様式第2-6号①'!$E$114,$AX4,)="","",OFFSET('様式第2-6号①'!$E$114,$AX4,)) | BB4: =IF(OFFSET('様式第2-6号①'!$E$114,$AX4+1,)="","",OFFSET('様式第2-6号①'!$E$114,$AX4+1,)) | BC4: =IF(OFFSET('様式第2-6号①'!$E$114,$AX4+2,)="","",OFFSET('様式第2-6号①'!$E$114,$AX4+2,)) | BD4: 13 | BE4: =IF(OFFSET('様式第2-6号①'!$C$145,$BD4-1,)="","",OFFSET('様式第2-6号①'!$C$145,$BD4-1,)) | BF4: =IF(OFFSET('様式第2-6号①'!$E$145,$BD4-1,)="","",OFFSET('様式第2-6号①'!$E$145,$BD4-1,)) | BG4: =IF(OFFSET('様式第2-6号①'!$E$145,$BD4,)="","",OFFSET('様式第2-6号①'!$E$145,$BD4,)) | BH4: =IF(OFFSET('様式第2-6号①'!$E$145,$BD4+1,)="","",OFFSET('様式第2-6号①'!$E$145,$BD4+1,)) | BI4: =IF(OFFSET('様式第2-6号①'!$E$145,$BD4+2,)="","",OFFSET('様式第2-6号①'!$E$145,$BD4+2,)) | BK4: =IF(OFFSET('様式第2-6号①'!$E$145,$BD4+3,)="","",OFFSET('様式第2-6号①'!$E$145,$BD4+3,)) | BL4: =IF(OFFSET('様式第2-6号①'!$E$145,$BD4+4,)="","",OFFSET('様式第2-6号①'!$E$145,$BD4+4,))
A5: 19 | B5: =IF(OFFSET('様式第2-6号①'!$C$23,$A5-1,)="","",OFFSET('様式第2-6号①'!$C$23,$A5-1,)) | C5: =IF(OFFSET('様式第2-6号①'!$E$23,$A5-1,)="","",OFFSET('様式第2-6号①'!$E$23,$A5-1,)) | D5: =IF(OFFSET('様式第2-6号①'!$E$23,$A5,)="","",OFFSET('様式第2-6号①'!$E$23,$A5,)) | E5: =IF(OFFSET('様式第2-6号①'!$E$23,$A5+1,)="","",OFFSET('様式第2-6号①'!$E$23,$A5+1,)) | F5: =IF(OFFSET('様式第2-6号①'!$E$23,$A5+2,)="","",OFFSET('様式第2-6号①'!$E$23,$A5+2,)) | H5: =IF(OFFSET('様式第2-6号①'!$E$23,$A5+3,)="","",OFFSET('様式第2-6号①'!$E$23,$A5+3,)) | I5: =IF(OFFSET('様式第2-6号①'!$E$23,$A5+4,)="","",OFFSET('様式第2-6号①'!$E$23,$A5+4,)) -> テスト５ | J5: 16 | K5: =IF(OFFSET('様式第2-6号①'!$C$33,$J5-1,)="","",OFFSET('様式第2-6号①'!$C$33,$J5-1,)) -> 適用 | L5: =IF(OFFSET('様式第2-6号①'!$E$33,$J5-1,)="","",OFFSET('様式第2-6号①'!$E$33,$J5-1,)) -> 農地維持支払交付金の10アール当たりの交付単価 | M5: =IF(OFFSET('様式第2-6号①'!$E$33,$J5,)="","",OFFSET('様式第2-6号①'!$E$33,$J5,)) | N5: =IF(OFFSET('様式第2-6号①'!$E$33,$J5+1,)="","",OFFSET('様式第2-6号①'!$E$33,$J5+1,)) | P5: =IF(OFFSET('様式第2-6号①'!$E$33,$J5+2,)="","",OFFSET('様式第2-6号①'!$E$33,$J5+2,)) -> 0 | Q5: =IF(OFFSET('様式第2-6号①'!$E$33,$J5+3,)="","",OFFSET('様式第2-6号①'!$E$33,$J5+3,)) -> 0 | R5: 10 | S5: =IF(OFFSET('様式第2-6号①'!$B$50,$R5,)="","",OFFSET('様式第2-6号①'!$B$50,$R5,)) | T5: =IF(OFFSET('様式第2-6号①'!$C$50,$R5,)="","",OFFSET('様式第2-6号①'!$C$50,$R5,)) | U5: =IF(OFFSET('様式第2-6号①'!$E$50,$R5,)="","",OFFSET('様式第2-6号①'!$E$50,$R5,)) | V5: =IF(OFFSET('様式第2-6号①'!$E$50,$R5+1,)="","",OFFSET('様式第2-6号①'!$E$50,$R5+1,)) | W5: =IF(OFFSET('様式第2-6号①'!$E$50,$R5+2,)="","",OFFSET('様式第2-6号①'!$E$50,$R5+2,)) | X5: 19 | Y5: =IF(OFFSET('様式第2-6号①'!$C$74,$X5-1,)="","",OFFSET('様式第2-6号①'!$C$74,$X5-1,)) | Z5: =IF(OFFSET('様式第2-6号①'!$E$74,$X5-1,)="","",OFFSET('様式第2-6号①'!$E$74,$X5-1,)) | AA5: =IF(OFFSET('様式第2-6号①'!$E$74,$X5,)="","",OFFSET('様式第2-6号①'!$E$74,$X5,)) | AB5: =IF(OFFSET('様式第2-6号①'!$E$74,$X5+1,)="","",OFFSET('様式第2-6号①'!$E$74,$X5+1,)) -> 活動項目の追加 | AC5: =IF(OFFSET('様式第2-6号①'!$E$74,$X5+2,)="","",OFFSET('様式第2-6号①'!$E$74,$X5+2,)) | AE5: =IF(OFFSET('様式第2-6号①'!$E$74,$X5+3,)="","",OFFSET('様式第2-6号①'!$E$74,$X5+3,)) | AF5: =IF(OFFSET('様式第2-6号①'!$E$74,$X5+4,)="","",OFFSET('様式第2-6号①'!$E$74,$X5+4,)) | AG5: 19 | AH5: =IF(OFFSET('様式第2-6号①'!$C$84,$AG5-1,)="","",OFFSET('様式第2-6号①'!$C$84,$AG5-1,)) | AI5: =IF(OFFSET('様式第2-6号①'!$E$84,$AG5-1,)="","",OFFSET('様式第2-6号①'!$E$84,$AG5-1,)) | AJ5: =IF(OFFSET('様式第2-6号①'!$E$84,$AG5,)="","",OFFSET('様式第2-6号①'!$E$84,$AG5,)) | AK5: =IF(OFFSET('様式第2-6号①'!$E$84,$AG5+1,)="","",OFFSET('様式第2-6号①'!$E$84,$AG5+1,)) | AL5: =IF(OFFSET('様式第2-6号①'!$E$84,$AG5+2,)="","",OFFSET('様式第2-6号①'!$E$84,$AG5+2,)) | AN5: =IF(OFFSET('様式第2-6号①'!$E$84,$AG5+3,)="","",OFFSET('様式第2-6号①'!$E$84,$AG5+3,)) | AO5: =IF(OFFSET('様式第2-6号①'!$E$84,$AG5+4,)="","",OFFSET('様式第2-6号①'!$E$84,$AG5+4,)) | AP5: 16 | AQ5: =IF(OFFSET('様式第2-6号①'!$C$94,$AP5-1,)="","",OFFSET('様式第2-6号①'!$C$94,$AP5-1,)) | AR5: =IF(OFFSET('様式第2-6号①'!$E$94,$AP5-1,)="","",OFFSET('様式第2-6号①'!$E$94,$AP5-1,)) | AS5: =IF(OFFSET('様式第2-6号①'!$E$94,$AP5,)="","",OFFSET('様式第2-6号①'!$E$94,$AP5,)) | AT5: =IF(OFFSET('様式第2-6号①'!$E$94,$AP5+1,)="","",OFFSET('様式第2-6号①'!$E$94,$AP5+1,)) | AV5: =IF(OFFSET('様式第2-6号①'!$E$94,$AP5+2,)="","",OFFSET('様式第2-6号①'!$E$94,$AP5+2,)) -> 資源向上支払交付金（地域資源の質的向上を図る共同活動）の10アール当たりの交付単価 | AW5: =IF(OFFSET('様式第2-6号①'!$E$94,$AP5+3,)="","",OFFSET('様式第2-6号①'!$E$94,$AP5+3,)) | AX5: 10 | AY5: =IF(OFFSET('様式第2-6号①'!$B$114,$AX5,)="","",OFFSET('様式第2-6号①'!$B$114,$AX5,)) | AZ5: =IF(OFFSET('様式第2-6号①'!$C$114,$AX5,)="","",OFFSET('様式第2-6号①'!$C$114,$AX5,)) | BA5: =IF(OFFSET('様式第2-6号①'!$E$114,$AX5,)="","",OFFSET('様式第2-6号①'!$E$114,$AX5,)) | BB5: =IF(OFFSET('様式第2-6号①'!$E$114,$AX5+1,)="","",OFFSET('様式第2-6号①'!$E$114,$AX5+1,)) | BC5: =IF(OFFSET('様式第2-6号①'!$E$114,$AX5+2,)="","",OFFSET('様式第2-6号①'!$E$114,$AX5+2,)) | BD5: 19 | BE5: =IF(OFFSET('様式第2-6号①'!$C$145,$BD5-1,)="","",OFFSET('様式第2-6号①'!$C$145,$BD5-1,)) | BF5: =IF(OFFSET('様式第2-6号①'!$E$145,$BD5-1,)="","",OFFSET('様式第2-6号①'!$E$145,$BD5-1,)) | BG5: =IF(OFFSET('様式第2-6号①'!$E$145,$BD5,)="","",OFFSET('様式第2-6号①'!$E$145,$BD5,)) | BH5: =IF(OFFSET('様式第2-6号①'!$E$145,$BD5+1,)="","",OFFSET('様式第2-6号①'!$E$145,$BD5+1,)) | BI5: =IF(OFFSET('様式第2-6号①'!$E$145,$BD5+2,)="","",OFFSET('様式第2-6号①'!$E$145,$BD5+2,)) | BK5: =IF(OFFSET('様式第2-6号①'!$E$145,$BD5+3,)="","",OFFSET('様式第2-6号①'!$E$145,$BD5+3,)) | BL5: =IF(OFFSET('様式第2-6号①'!$E$145,$BD5+4,)="","",OFFSET('様式第2-6号①'!$E$145,$BD5+4,))
A6: 25 | B6: =IF(OFFSET('様式第2-6号①'!$C$23,$A6-1,)="","",OFFSET('様式第2-6号①'!$C$23,$A6-1,)) | C6: =IF(OFFSET('様式第2-6号①'!$E$23,$A6-1,)="","",OFFSET('様式第2-6号①'!$E$23,$A6-1,)) | D6: =IF(OFFSET('様式第2-6号①'!$E$23,$A6,)="","",OFFSET('様式第2-6号①'!$E$23,$A6,)) -> 農地維持支払交付金の10アール当たりの交付単価 | E6: =IF(OFFSET('様式第2-6号①'!$E$23,$A6+1,)="","",OFFSET('様式第2-6号①'!$E$23,$A6+1,)) | F6: =IF(OFFSET('様式第2-6号①'!$E$23,$A6+2,)="","",OFFSET('様式第2-6号①'!$E$23,$A6+2,)) | H6: =IF(OFFSET('様式第2-6号①'!$E$23,$A6+3,)="","",OFFSET('様式第2-6号①'!$E$23,$A6+3,)) -> 0 | I6: =IF(OFFSET('様式第2-6号①'!$E$23,$A6+4,)="","",OFFSET('様式第2-6号①'!$E$23,$A6+4,)) -> 0 | J6: 21 | K6: =IF(OFFSET('様式第2-6号①'!$C$33,$J6-1,)="","",OFFSET('様式第2-6号①'!$C$33,$J6-1,)) | L6: =IF(OFFSET('様式第2-6号①'!$E$33,$J6-1,)="","",OFFSET('様式第2-6号①'!$E$33,$J6-1,)) -> 0 | M6: =IF(OFFSET('様式第2-6号①'!$E$33,$J6,)="","",OFFSET('様式第2-6号①'!$E$33,$J6,)) | N6: =IF(OFFSET('様式第2-6号①'!$E$33,$J6+1,)="","",OFFSET('様式第2-6号①'!$E$33,$J6+1,)) | P6: =IF(OFFSET('様式第2-6号①'!$E$33,$J6+2,)="","",OFFSET('様式第2-6号①'!$E$33,$J6+2,)) | Q6: =IF(OFFSET('様式第2-6号①'!$E$33,$J6+3,)="","",OFFSET('様式第2-6号①'!$E$33,$J6+3,)) | R6: 13 | S6: =IF(OFFSET('様式第2-6号①'!$B$50,$R6,)="","",OFFSET('様式第2-6号①'!$B$50,$R6,)) | T6: =IF(OFFSET('様式第2-6号①'!$C$50,$R6,)="","",OFFSET('様式第2-6号①'!$C$50,$R6,)) | U6: =IF(OFFSET('様式第2-6号①'!$E$50,$R6,)="","",OFFSET('様式第2-6号①'!$E$50,$R6,)) | V6: =IF(OFFSET('様式第2-6号①'!$E$50,$R6+1,)="","",OFFSET('様式第2-6号①'!$E$50,$R6+1,)) | W6: =IF(OFFSET('様式第2-6号①'!$E$50,$R6+2,)="","",OFFSET('様式第2-6号①'!$E$50,$R6+2,)) | X6: 25 | Y6: =IF(OFFSET('様式第2-6号①'!$C$74,$X6-1,)="","",OFFSET('様式第2-6号①'!$C$74,$X6-1,)) | Z6: =IF(OFFSET('様式第2-6号①'!$E$74,$X6-1,)="","",OFFSET('様式第2-6号①'!$E$74,$X6-1,)) | AA6: =IF(OFFSET('様式第2-6号①'!$E$74,$X6,)="","",OFFSET('様式第2-6号①'!$E$74,$X6,)) | AB6: =IF(OFFSET('様式第2-6号①'!$E$74,$X6+1,)="","",OFFSET('様式第2-6号①'!$E$74,$X6+1,)) | AC6: =IF(OFFSET('様式第2-6号①'!$E$74,$X6+2,)="","",OFFSET('様式第2-6号①'!$E$74,$X6+2,)) | AE6: =IF(OFFSET('様式第2-6号①'!$E$74,$X6+3,)="","",OFFSET('様式第2-6号①'!$E$74,$X6+3,)) | AF6: =IF(OFFSET('様式第2-6号①'!$E$74,$X6+4,)="","",OFFSET('様式第2-6号①'!$E$74,$X6+4,)) | AG6: 25 | AH6: =IF(OFFSET('様式第2-6号①'!$C$84,$AG6-1,)="","",OFFSET('様式第2-6号①'!$C$84,$AG6-1,)) | AI6: =IF(OFFSET('様式第2-6号①'!$E$84,$AG6-1,)="","",OFFSET('様式第2-6号①'!$E$84,$AG6-1,)) | AJ6: =IF(OFFSET('様式第2-6号①'!$E$84,$AG6,)="","",OFFSET('様式第2-6号①'!$E$84,$AG6,)) | AK6: =IF(OFFSET('様式第2-6号①'!$E$84,$AG6+1,)="","",OFFSET('様式第2-6号①'!$E$84,$AG6+1,)) | AL6: =IF(OFFSET('様式第2-6号①'!$E$84,$AG6+2,)="","",OFFSET('様式第2-6号①'!$E$84,$AG6+2,)) | AN6: =IF(OFFSET('様式第2-6号①'!$E$84,$AG6+3,)="","",OFFSET('様式第2-6号①'!$E$84,$AG6+3,)) -> 資源向上支払交付金（地域資源の質的向上を図る共同活動）の10アール当たりの交付単価 | AO6: =IF(OFFSET('様式第2-6号①'!$E$84,$AG6+4,)="","",OFFSET('様式第2-6号①'!$E$84,$AG6+4,)) | AP6: 21 | AQ6: =IF(OFFSET('様式第2-6号①'!$C$94,$AP6-1,)="","",OFFSET('様式第2-6号①'!$C$94,$AP6-1,)) | AR6: =IF(OFFSET('様式第2-6号①'!$E$94,$AP6-1,)="","",OFFSET('様式第2-6号①'!$E$94,$AP6-1,)) | AS6: =IF(OFFSET('様式第2-6号①'!$E$94,$AP6,)="","",OFFSET('様式第2-6号①'!$E$94,$AP6,)) -> 0 | AT6: =IF(OFFSET('様式第2-6号①'!$E$94,$AP6+1,)="","",OFFSET('様式第2-6号①'!$E$94,$AP6+1,)) -> 0 | AV6: =IF(OFFSET('様式第2-6号①'!$E$94,$AP6+2,)="","",OFFSET('様式第2-6号①'!$E$94,$AP6+2,)) -> 0 | AW6: =IF(OFFSET('様式第2-6号①'!$E$94,$AP6+3,)="","",OFFSET('様式第2-6号①'!$E$94,$AP6+3,)) -> 0 | AX6: 13 | AY6: =IF(OFFSET('様式第2-6号①'!$B$114,$AX6,)="","",OFFSET('様式第2-6号①'!$B$114,$AX6,)) | AZ6: =IF(OFFSET('様式第2-6号①'!$C$114,$AX6,)="","",OFFSET('様式第2-6号①'!$C$114,$AX6,)) | BA6: =IF(OFFSET('様式第2-6号①'!$E$114,$AX6,)="","",OFFSET('様式第2-6号①'!$E$114,$AX6,)) | BB6: =IF(OFFSET('様式第2-6号①'!$E$114,$AX6+1,)="","",OFFSET('様式第2-6号①'!$E$114,$AX6+1,)) | BC6: =IF(OFFSET('様式第2-6号①'!$E$114,$AX6+2,)="","",OFFSET('様式第2-6号①'!$E$114,$AX6+2,)) | BD6: 25 | BE6: =IF(OFFSET('様式第2-6号①'!$C$145,$BD6-1,)="","",OFFSET('様式第2-6号①'!$C$145,$BD6-1,)) | BF6: =IF(OFFSET('様式第2-6号①'!$E$145,$BD6-1,)="","",OFFSET('様式第2-6号①'!$E$145,$BD6-1,)) | BG6: =IF(OFFSET('様式第2-6号①'!$E$145,$BD6,)="","",OFFSET('様式第2-6号①'!$E$145,$BD6,)) | BH6: =IF(OFFSET('様式第2-6号①'!$E$145,$BD6+1,)="","",OFFSET('様式第2-6号①'!$E$145,$BD6+1,)) | BI6: =IF(OFFSET('様式第2-6号①'!$E$145,$BD6+2,)="","",OFFSET('様式第2-6号①'!$E$145,$BD6+2,)) | BK6: =IF(OFFSET('様式第2-6号①'!$E$145,$BD6+3,)="","",OFFSET('様式第2-6号①'!$E$145,$BD6+3,)) | BL6: =IF(OFFSET('様式第2-6号①'!$E$145,$BD6+4,)="","",OFFSET('様式第2-6号①'!$E$145,$BD6+4,))
A7: 31 | B7: =IF(OFFSET('様式第2-6号①'!$C$23,$A7-1,)="","",OFFSET('様式第2-6号①'!$C$23,$A7-1,)) | C7: =IF(OFFSET('様式第2-6号①'!$E$23,$A7-1,)="","",OFFSET('様式第2-6号①'!$E$23,$A7-1,)) -> 0 | D7: =IF(OFFSET('様式第2-6号①'!$E$23,$A7,)="","",OFFSET('様式第2-6号①'!$E$23,$A7,)) | E7: =IF(OFFSET('様式第2-6号①'!$E$23,$A7+1,)="","",OFFSET('様式第2-6号①'!$E$23,$A7+1,)) | F7: =IF(OFFSET('様式第2-6号①'!$E$23,$A7+2,)="","",OFFSET('様式第2-6号①'!$E$23,$A7+2,)) | H7: =IF(OFFSET('様式第2-6号①'!$E$23,$A7+3,)="","",OFFSET('様式第2-6号①'!$E$23,$A7+3,)) | I7: =IF(OFFSET('様式第2-6号①'!$E$23,$A7+4,)="","",OFFSET('様式第2-6号①'!$E$23,$A7+4,)) | J7: 26 | K7: =IF(OFFSET('様式第2-6号①'!$C$33,$J7-1,)="","",OFFSET('様式第2-6号①'!$C$33,$J7-1,)) | L7: =IF(OFFSET('様式第2-6号①'!$E$33,$J7-1,)="","",OFFSET('様式第2-6号①'!$E$33,$J7-1,)) | M7: =IF(OFFSET('様式第2-6号①'!$E$33,$J7,)="","",OFFSET('様式第2-6号①'!$E$33,$J7,)) | N7: =IF(OFFSET('様式第2-6号①'!$E$33,$J7+1,)="","",OFFSET('様式第2-6号①'!$E$33,$J7+1,)) | P7: =IF(OFFSET('様式第2-6号①'!$E$33,$J7+2,)="","",OFFSET('様式第2-6号①'!$E$33,$J7+2,)) | Q7: =IF(OFFSET('様式第2-6号①'!$E$33,$J7+3,)="","",OFFSET('様式第2-6号①'!$E$33,$J7+3,)) | R7: 16 | S7: =IF(OFFSET('様式第2-6号①'!$B$50,$R7,)="","",OFFSET('様式第2-6号①'!$B$50,$R7,)) | T7: =IF(OFFSET('様式第2-6号①'!$C$50,$R7,)="","",OFFSET('様式第2-6号①'!$C$50,$R7,)) | U7: =IF(OFFSET('様式第2-6号①'!$E$50,$R7,)="","",OFFSET('様式第2-6号①'!$E$50,$R7,)) | V7: =IF(OFFSET('様式第2-6号①'!$E$50,$R7+1,)="","",OFFSET('様式第2-6号①'!$E$50,$R7+1,)) | W7: =IF(OFFSET('様式第2-6号①'!$E$50,$R7+2,)="","",OFFSET('様式第2-6号①'!$E$50,$R7+2,)) | X7: 31 | Y7: =IF(OFFSET('様式第2-6号①'!$C$74,$X7-1,)="","",OFFSET('様式第2-6号①'!$C$74,$X7-1,)) | Z7: =IF(OFFSET('様式第2-6号①'!$E$74,$X7-1,)="","",OFFSET('様式第2-6号①'!$E$74,$X7-1,)) | AA7: =IF(OFFSET('様式第2-6号①'!$E$74,$X7,)="","",OFFSET('様式第2-6号①'!$E$74,$X7,)) | AB7: =IF(OFFSET('様式第2-6号①'!$E$74,$X7+1,)="","",OFFSET('様式第2-6号①'!$E$74,$X7+1,)) | AC7: =IF(OFFSET('様式第2-6号①'!$E$74,$X7+2,)="","",OFFSET('様式第2-6号①'!$E$74,$X7+2,)) | AE7: =IF(OFFSET('様式第2-6号①'!$E$74,$X7+3,)="","",OFFSET('様式第2-6号①'!$E$74,$X7+3,)) | AF7: =IF(OFFSET('様式第2-6号①'!$E$74,$X7+4,)="","",OFFSET('様式第2-6号①'!$E$74,$X7+4,)) | AG7: 31 | AH7: =IF(OFFSET('様式第2-6号①'!$C$84,$AG7-1,)="","",OFFSET('様式第2-6号①'!$C$84,$AG7-1,)) | AI7: =IF(OFFSET('様式第2-6号①'!$E$84,$AG7-1,)="","",OFFSET('様式第2-6号①'!$E$84,$AG7-1,)) | AJ7: =IF(OFFSET('様式第2-6号①'!$E$84,$AG7,)="","",OFFSET('様式第2-6号①'!$E$84,$AG7,)) -> 0 | AK7: =IF(OFFSET('様式第2-6号①'!$E$84,$AG7+1,)="","",OFFSET('様式第2-6号①'!$E$84,$AG7+1,)) -> 0 | AL7: =IF(OFFSET('様式第2-6号①'!$E$84,$AG7+2,)="","",OFFSET('様式第2-6号①'!$E$84,$AG7+2,)) -> 0 | AN7: =IF(OFFSET('様式第2-6号①'!$E$84,$AG7+3,)="","",OFFSET('様式第2-6号①'!$E$84,$AG7+3,)) -> 0 | AO7: =IF(OFFSET('様式第2-6号①'!$E$84,$AG7+4,)="","",OFFSET('様式第2-6号①'!$E$84,$AG7+4,)) -> 0 | AP7: 26 | AQ7: =IF(OFFSET('様式第2-6号①'!$C$94,$AP7-1,)="","",OFFSET('様式第2-6号①'!$C$94,$AP7-1,)) | AR7: =IF(OFFSET('様式第2-6号①'!$E$94,$AP7-1,)="","",OFFSET('様式第2-6号①'!$E$94,$AP7-1,)) -> 0 | AS7: =IF(OFFSET('様式第2-6号①'!$E$94,$AP7,)="","",OFFSET('様式第2-6号①'!$E$94,$AP7,)) -> 0 | AT7: =IF(OFFSET('様式第2-6号①'!$E$94,$AP7+1,)="","",OFFSET('様式第2-6号①'!$E$94,$AP7+1,)) | AV7: =IF(OFFSET('様式第2-6号①'!$E$94,$AP7+2,)="","",OFFSET('様式第2-6号①'!$E$94,$AP7+2,)) | AW7: =IF(OFFSET('様式第2-6号①'!$E$94,$AP7+3,)="","",OFFSET('様式第2-6号①'!$E$94,$AP7+3,)) | AX7: 16 | AY7: =IF(OFFSET('様式第2-6号①'!$B$114,$AX7,)="","",OFFSET('様式第2-6号①'!$B$114,$AX7,)) | AZ7: =IF(OFFSET('様式第2-6号①'!$C$114,$AX7,)="","",OFFSET('様式第2-6号①'!$C$114,$AX7,)) | BA7: =IF(OFFSET('様式第2-6号①'!$E$114,$AX7,)="","",OFFSET('様式第2-6号①'!$E$114,$AX7,)) | BB7: =IF(OFFSET('様式第2-6号①'!$E$114,$AX7+1,)="","",OFFSET('様式第2-6号①'!$E$114,$AX7+1,)) | BC7: =IF(OFFSET('様式第2-6号①'!$E$114,$AX7+2,)="","",OFFSET('様式第2-6号①'!$E$114,$AX7+2,)) | BD7: 31 | BE7: =IF(OFFSET('様式第2-6号①'!$C$145,$BD7-1,)="","",OFFSET('様式第2-6号①'!$C$145,$BD7-1,)) | BF7: =IF(OFFSET('様式第2-6号①'!$E$145,$BD7-1,)="","",OFFSET('様式第2-6号①'!$E$145,$BD7-1,)) | BG7: =IF(OFFSET('様式第2-6号①'!$E$145,$BD7,)="","",OFFSET('様式第2-6号①'!$E$145,$BD7,)) | BH7: =IF(OFFSET('様式第2-6号①'!$E$145,$BD7+1,)="","",OFFSET('様式第2-6号①'!$E$145,$BD7+1,)) | BI7: =IF(OFFSET('様式第2-6号①'!$E$145,$BD7+2,)="","",OFFSET('様式第2-6号①'!$E$145,$BD7+2,)) | BK7: =IF(OFFSET('様式第2-6号①'!$E$145,$BD7+3,)="","",OFFSET('様式第2-6号①'!$E$145,$BD7+3,)) | BL7: =IF(OFFSET('様式第2-6号①'!$E$145,$BD7+4,)="","",OFFSET('様式第2-6号①'!$E$145,$BD7+4,))
A8: 37 | B8: =IF(OFFSET('様式第2-6号①'!$C$23,$A8-1,)="","",OFFSET('様式第2-6号①'!$C$23,$A8-1,)) | C8: =IF(OFFSET('様式第2-6号①'!$E$23,$A8-1,)="","",OFFSET('様式第2-6号①'!$E$23,$A8-1,)) | D8: =IF(OFFSET('様式第2-6号①'!$E$23,$A8,)="","",OFFSET('様式第2-6号①'!$E$23,$A8,)) | E8: =IF(OFFSET('様式第2-6号①'!$E$23,$A8+1,)="","",OFFSET('様式第2-6号①'!$E$23,$A8+1,)) | F8: =IF(OFFSET('様式第2-6号①'!$E$23,$A8+2,)="","",OFFSET('様式第2-6号①'!$E$23,$A8+2,)) | H8: =IF(OFFSET('様式第2-6号①'!$E$23,$A8+3,)="","",OFFSET('様式第2-6号①'!$E$23,$A8+3,)) | I8: =IF(OFFSET('様式第2-6号①'!$E$23,$A8+4,)="","",OFFSET('様式第2-6号①'!$E$23,$A8+4,)) | J8: 31 | K8: =IF(OFFSET('様式第2-6号①'!$C$33,$J8-1,)="","",OFFSET('様式第2-6号①'!$C$33,$J8-1,)) | L8: =IF(OFFSET('様式第2-6号①'!$E$33,$J8-1,)="","",OFFSET('様式第2-6号①'!$E$33,$J8-1,)) | M8: =IF(OFFSET('様式第2-6号①'!$E$33,$J8,)="","",OFFSET('様式第2-6号①'!$E$33,$J8,)) | N8: =IF(OFFSET('様式第2-6号①'!$E$33,$J8+1,)="","",OFFSET('様式第2-6号①'!$E$33,$J8+1,)) | P8: =IF(OFFSET('様式第2-6号①'!$E$33,$J8+2,)="","",OFFSET('様式第2-6号①'!$E$33,$J8+2,)) | Q8: =IF(OFFSET('様式第2-6号①'!$E$33,$J8+3,)="","",OFFSET('様式第2-6号①'!$E$33,$J8+3,)) | R8: 19 | S8: =IF(OFFSET('様式第2-6号①'!$B$50,$R8,)="","",OFFSET('様式第2-6号①'!$B$50,$R8,)) | T8: =IF(OFFSET('様式第2-6号①'!$C$50,$R8,)="","",OFFSET('様式第2-6号①'!$C$50,$R8,)) | U8: =IF(OFFSET('様式第2-6号①'!$E$50,$R8,)="","",OFFSET('様式第2-6号①'!$E$50,$R8,)) | V8: =IF(OFFSET('様式第2-6号①'!$E$50,$R8+1,)="","",OFFSET('様式第2-6号①'!$E$50,$R8+1,)) | W8: =IF(OFFSET('様式第2-6号①'!$E$50,$R8+2,)="","",OFFSET('様式第2-6号①'!$E$50,$R8+2,)) | X8: 37 | Y8: =IF(OFFSET('様式第2-6号①'!$C$74,$X8-1,)="","",OFFSET('様式第2-6号①'!$C$74,$X8-1,)) | Z8: =IF(OFFSET('様式第2-6号①'!$E$74,$X8-1,)="","",OFFSET('様式第2-6号①'!$E$74,$X8-1,)) | AA8: =IF(OFFSET('様式第2-6号①'!$E$74,$X8,)="","",OFFSET('様式第2-6号①'!$E$74,$X8,)) | AB8: =IF(OFFSET('様式第2-6号①'!$E$74,$X8+1,)="","",OFFSET('様式第2-6号①'!$E$74,$X8+1,)) -> 資源向上支払交付金（地域資源の質的向上を図る共同活動）の10アール当たりの交付単価 | AC8: =IF(OFFSET('様式第2-6号①'!$E$74,$X8+2,)="","",OFFSET('様式第2-6号①'!$E$74,$X8+2,)) | AE8: =IF(OFFSET('様式第2-6号①'!$E$74,$X8+3,)="","",OFFSET('様式第2-6号①'!$E$74,$X8+3,)) | AF8: =IF(OFFSET('様式第2-6号①'!$E$74,$X8+4,)="","",OFFSET('様式第2-6号①'!$E$74,$X8+4,)) -> 0 | AG8: 37 | AH8: =IF(OFFSET('様式第2-6号①'!$C$84,$AG8-1,)="","",OFFSET('様式第2-6号①'!$C$84,$AG8-1,)) | AI8: =IF(OFFSET('様式第2-6号①'!$E$84,$AG8-1,)="","",OFFSET('様式第2-6号①'!$E$84,$AG8-1,)) -> 0 | AJ8: =IF(OFFSET('様式第2-6号①'!$E$84,$AG8,)="","",OFFSET('様式第2-6号①'!$E$84,$AG8,)) | AK8: =IF(OFFSET('様式第2-6号①'!$E$84,$AG8+1,)="","",OFFSET('様式第2-6号①'!$E$84,$AG8+1,)) | AL8: =IF(OFFSET('様式第2-6号①'!$E$84,$AG8+2,)="","",OFFSET('様式第2-6号①'!$E$84,$AG8+2,)) | AN8: =IF(OFFSET('様式第2-6号①'!$E$84,$AG8+3,)="","",OFFSET('様式第2-6号①'!$E$84,$AG8+3,)) | AO8: =IF(OFFSET('様式第2-6号①'!$E$84,$AG8+4,)="","",OFFSET('様式第2-6号①'!$E$84,$AG8+4,)) | AP8: 31 | AQ8: =IF(OFFSET('様式第2-6号①'!$C$94,$AP8-1,)="","",OFFSET('様式第2-6号①'!$C$94,$AP8-1,)) | AR8: =IF(OFFSET('様式第2-6号①'!$E$94,$AP8-1,)="","",OFFSET('様式第2-6号①'!$E$94,$AP8-1,)) | AS8: =IF(OFFSET('様式第2-6号①'!$E$94,$AP8,)="","",OFFSET('様式第2-6号①'!$E$94,$AP8,)) | AT8: =IF(OFFSET('様式第2-6号①'!$E$94,$AP8+1,)="","",OFFSET('様式第2-6号①'!$E$94,$AP8+1,)) | AV8: =IF(OFFSET('様式第2-6号①'!$E$94,$AP8+2,)="","",OFFSET('様式第2-6号①'!$E$94,$AP8+2,)) | AW8: =IF(OFFSET('様式第2-6号①'!$E$94,$AP8+3,)="","",OFFSET('様式第2-6号①'!$E$94,$AP8+3,)) | AX8: 19 | AY8: =IF(OFFSET('様式第2-6号①'!$B$114,$AX8,)="","",OFFSET('様式第2-6号①'!$B$114,$AX8,)) | AZ8: =IF(OFFSET('様式第2-6号①'!$C$114,$AX8,)="","",OFFSET('様式第2-6号①'!$C$114,$AX8,)) | BA8: =IF(OFFSET('様式第2-6号①'!$E$114,$AX8,)="","",OFFSET('様式第2-6号①'!$E$114,$AX8,)) | BB8: =IF(OFFSET('様式第2-6号①'!$E$114,$AX8+1,)="","",OFFSET('様式第2-6号①'!$E$114,$AX8+1,)) | BC8: =IF(OFFSET('様式第2-6号①'!$E$114,$AX8+2,)="","",OFFSET('様式第2-6号①'!$E$114,$AX8+2,)) | BD8: 37 | BE8: =IF(OFFSET('様式第2-6号①'!$C$145,$BD8-1,)="","",OFFSET('様式第2-6号①'!$C$145,$BD8-1,)) -> 関係団体の役割分担表 | BF8: =IF(OFFSET('様式第2-6号①'!$E$145,$BD8-1,)="","",OFFSET('様式第2-6号①'!$E$145,$BD8-1,)) | BG8: =IF(OFFSET('様式第2-6号①'!$E$145,$BD8,)="","",OFFSET('様式第2-6号①'!$E$145,$BD8,)) | BH8: =IF(OFFSET('様式第2-6号①'!$E$145,$BD8+1,)="","",OFFSET('様式第2-6号①'!$E$145,$BD8+1,)) | BI8: =IF(OFFSET('様式第2-6号①'!$E$145,$BD8+2,)="","",OFFSET('様式第2-6号①'!$E$145,$BD8+2,)) | BK8: =IF(OFFSET('様式第2-6号①'!$E$145,$BD8+3,)="","",OFFSET('様式第2-6号①'!$E$145,$BD8+3,)) | BL8: =IF(OFFSET('様式第2-6号①'!$E$145,$BD8+4,)="","",OFFSET('様式第2-6号①'!$E$145,$BD8+4,))
A9: 43 | B9: =IF(OFFSET('様式第2-6号①'!$C$23,$A9-1,)="","",OFFSET('様式第2-6号①'!$C$23,$A9-1,)) | C9: =IF(OFFSET('様式第2-6号①'!$E$23,$A9-1,)="","",OFFSET('様式第2-6号①'!$E$23,$A9-1,)) | D9: =IF(OFFSET('様式第2-6号①'!$E$23,$A9,)="","",OFFSET('様式第2-6号①'!$E$23,$A9,)) | E9: =IF(OFFSET('様式第2-6号①'!$E$23,$A9+1,)="","",OFFSET('様式第2-6号①'!$E$23,$A9+1,)) | F9: =IF(OFFSET('様式第2-6号①'!$E$23,$A9+2,)="","",OFFSET('様式第2-6号①'!$E$23,$A9+2,)) | H9: =IF(OFFSET('様式第2-6号①'!$E$23,$A9+3,)="","",OFFSET('様式第2-6号①'!$E$23,$A9+3,)) | I9: =IF(OFFSET('様式第2-6号①'!$E$23,$A9+4,)="","",OFFSET('様式第2-6号①'!$E$23,$A9+4,)) | J9: 36 | K9: =IF(OFFSET('様式第2-6号①'!$C$33,$J9-1,)="","",OFFSET('様式第2-6号①'!$C$33,$J9-1,)) | L9: =IF(OFFSET('様式第2-6号①'!$E$33,$J9-1,)="","",OFFSET('様式第2-6号①'!$E$33,$J9-1,)) | M9: =IF(OFFSET('様式第2-6号①'!$E$33,$J9,)="","",OFFSET('様式第2-6号①'!$E$33,$J9,)) | N9: =IF(OFFSET('様式第2-6号①'!$E$33,$J9+1,)="","",OFFSET('様式第2-6号①'!$E$33,$J9+1,)) | P9: =IF(OFFSET('様式第2-6号①'!$E$33,$J9+2,)="","",OFFSET('様式第2-6号①'!$E$33,$J9+2,)) | Q9: =IF(OFFSET('様式第2-6号①'!$E$33,$J9+3,)="","",OFFSET('様式第2-6号①'!$E$33,$J9+3,)) | R9: 22 | S9: =IF(OFFSET('様式第2-6号①'!$B$50,$R9,)="","",OFFSET('様式第2-6号①'!$B$50,$R9,)) | T9: =IF(OFFSET('様式第2-6号①'!$C$50,$R9,)="","",OFFSET('様式第2-6号①'!$C$50,$R9,)) | U9: =IF(OFFSET('様式第2-6号①'!$E$50,$R9,)="","",OFFSET('様式第2-6号①'!$E$50,$R9,)) | V9: =IF(OFFSET('様式第2-6号①'!$E$50,$R9+1,)="","",OFFSET('様式第2-6号①'!$E$50,$R9+1,)) | W9: =IF(OFFSET('様式第2-6号①'!$E$50,$R9+2,)="","",OFFSET('様式第2-6号①'!$E$50,$R9+2,)) -> 活動項目の追加 | X9: 43 | Y9: =IF(OFFSET('様式第2-6号①'!$C$74,$X9-1,)="","",OFFSET('様式第2-6号①'!$C$74,$X9-1,)) | Z9: =IF(OFFSET('様式第2-6号①'!$E$74,$X9-1,)="","",OFFSET('様式第2-6号①'!$E$74,$X9-1,)) -> 0 | AA9: =IF(OFFSET('様式第2-6号①'!$E$74,$X9,)="","",OFFSET('様式第2-6号①'!$E$74,$X9,)) -> 0 | AB9: =IF(OFFSET('様式第2-6号①'!$E$74,$X9+1,)="","",OFFSET('様式第2-6号①'!$E$74,$X9+1,)) -> 0 | AC9: =IF(OFFSET('様式第2-6号①'!$E$74,$X9+2,)="","",OFFSET('様式第2-6号①'!$E$74,$X9+2,)) -> 0 | AE9: =IF(OFFSET('様式第2-6号①'!$E$74,$X9+3,)="","",OFFSET('様式第2-6号①'!$E$74,$X9+3,)) -> 0 | AF9: =IF(OFFSET('様式第2-6号①'!$E$74,$X9+4,)="","",OFFSET('様式第2-6号①'!$E$74,$X9+4,)) | AG9: 43 | AH9: =IF(OFFSET('様式第2-6号①'!$C$84,$AG9-1,)="","",OFFSET('様式第2-6号①'!$C$84,$AG9-1,)) | AI9: =IF(OFFSET('様式第2-6号①'!$E$84,$AG9-1,)="","",OFFSET('様式第2-6号①'!$E$84,$AG9-1,)) | AJ9: =IF(OFFSET('様式第2-6号①'!$E$84,$AG9,)="","",OFFSET('様式第2-6号①'!$E$84,$AG9,)) | AK9: =IF(OFFSET('様式第2-6号①'!$E$84,$AG9+1,)="","",OFFSET('様式第2-6号①'!$E$84,$AG9+1,)) | AL9: =IF(OFFSET('様式第2-6号①'!$E$84,$AG9+2,)="","",OFFSET('様式第2-6号①'!$E$84,$AG9+2,)) | AN9: =IF(OFFSET('様式第2-6号①'!$E$84,$AG9+3,)="","",OFFSET('様式第2-6号①'!$E$84,$AG9+3,)) | AO9: =IF(OFFSET('様式第2-6号①'!$E$84,$AG9+4,)="","",OFFSET('様式第2-6号①'!$E$84,$AG9+4,)) | AP9: 36 | AQ9: =IF(OFFSET('様式第2-6号①'!$C$94,$AP9-1,)="","",OFFSET('様式第2-6号①'!$C$94,$AP9-1,)) | AR9: =IF(OFFSET('様式第2-6号①'!$E$94,$AP9-1,)="","",OFFSET('様式第2-6号①'!$E$94,$AP9-1,)) | AS9: =IF(OFFSET('様式第2-6号①'!$E$94,$AP9,)="","",OFFSET('様式第2-6号①'!$E$94,$AP9,)) | AT9: =IF(OFFSET('様式第2-6号①'!$E$94,$AP9+1,)="","",OFFSET('様式第2-6号①'!$E$94,$AP9+1,)) | AV9: =IF(OFFSET('様式第2-6号①'!$E$94,$AP9+2,)="","",OFFSET('様式第2-6号①'!$E$94,$AP9+2,)) | AW9: =IF(OFFSET('様式第2-6号①'!$E$94,$AP9+3,)="","",OFFSET('様式第2-6号①'!$E$94,$AP9+3,)) | AX9: 22 | AY9: =IF(OFFSET('様式第2-6号①'!$B$114,$AX9,)="","",OFFSET('様式第2-6号①'!$B$114,$AX9,)) | AZ9: =IF(OFFSET('様式第2-6号①'!$C$114,$AX9,)="","",OFFSET('様式第2-6号①'!$C$114,$AX9,)) -> ａ 対象施設・対象活動 | BA9: =IF(OFFSET('様式第2-6号①'!$E$114,$AX9,)="","",OFFSET('様式第2-6号①'!$E$114,$AX9,)) | BB9: =IF(OFFSET('様式第2-6号①'!$E$114,$AX9+1,)="","",OFFSET('様式第2-6号①'!$E$114,$AX9+1,)) | BC9: =IF(OFFSET('様式第2-6号①'!$E$114,$AX9+2,)="","",OFFSET('様式第2-6号①'!$E$114,$AX9+2,)) | BD9: 43 | BE9: =IF(OFFSET('様式第2-6号①'!$C$145,$BD9-1,)="","",OFFSET('様式第2-6号①'!$C$145,$BD9-1,)) -> １．法基本方針の策定 | BF9: =IF(OFFSET('様式第2-6号①'!$E$145,$BD9-1,)="","",OFFSET('様式第2-6号①'!$E$145,$BD9-1,)) | BG9: =IF(OFFSET('様式第2-6号①'!$E$145,$BD9,)="","",OFFSET('様式第2-6号①'!$E$145,$BD9,)) | BH9: =IF(OFFSET('様式第2-6号①'!$E$145,$BD9+1,)="","",OFFSET('様式第2-6号①'!$E$145,$BD9+1,)) | BI9: =IF(OFFSET('様式第2-6号①'!$E$145,$BD9+2,)="","",OFFSET('様式第2-6号①'!$E$145,$BD9+2,)) | BK9: =IF(OFFSET('様式第2-6号①'!$E$145,$BD9+3,)="","",OFFSET('様式第2-6号①'!$E$145,$BD9+3,)) | BL9: =IF(OFFSET('様式第2-6号①'!$E$145,$BD9+4,)="","",OFFSET('様式第2-6号①'!$E$145,$BD9+4,))
A10: 49 | B10: =IF(OFFSET('様式第2-6号①'!$C$23,$A10-1,)="","",OFFSET('様式第2-6号①'!$C$23,$A10-1,)) | C10: =IF(OFFSET('様式第2-6号①'!$E$23,$A10-1,)="","",OFFSET('様式第2-6号①'!$E$23,$A10-1,)) | D10: =IF(OFFSET('様式第2-6号①'!$E$23,$A10,)="","",OFFSET('様式第2-6号①'!$E$23,$A10,)) | E10: =IF(OFFSET('様式第2-6号①'!$E$23,$A10+1,)="","",OFFSET('様式第2-6号①'!$E$23,$A10+1,)) | F10: =IF(OFFSET('様式第2-6号①'!$E$23,$A10+2,)="","",OFFSET('様式第2-6号①'!$E$23,$A10+2,)) -> 活動項目の追加 | H10: =IF(OFFSET('様式第2-6号①'!$E$23,$A10+3,)="","",OFFSET('様式第2-6号①'!$E$23,$A10+3,)) | I10: =IF(OFFSET('様式第2-6号①'!$E$23,$A10+4,)="","",OFFSET('様式第2-6号①'!$E$23,$A10+4,)) | J10: 41 | K10: =IF(OFFSET('様式第2-6号①'!$C$33,$J10-1,)="","",OFFSET('様式第2-6号①'!$C$33,$J10-1,)) | L10: =IF(OFFSET('様式第2-6号①'!$E$33,$J10-1,)="","",OFFSET('様式第2-6号①'!$E$33,$J10-1,)) | M10: =IF(OFFSET('様式第2-6号①'!$E$33,$J10,)="","",OFFSET('様式第2-6号①'!$E$33,$J10,)) -> 活動項目の追加 | N10: =IF(OFFSET('様式第2-6号①'!$E$33,$J10+1,)="","",OFFSET('様式第2-6号①'!$E$33,$J10+1,)) | P10: =IF(OFFSET('様式第2-6号①'!$E$33,$J10+2,)="","",OFFSET('様式第2-6号①'!$E$33,$J10+2,)) | Q10: =IF(OFFSET('様式第2-6号①'!$E$33,$J10+3,)="","",OFFSET('様式第2-6号①'!$E$33,$J10+3,)) | R10: 25 | S10: =IF(OFFSET('様式第2-6号①'!$B$50,$R10,)="","",OFFSET('様式第2-6号①'!$B$50,$R10,)) | T10: =IF(OFFSET('様式第2-6号①'!$C$50,$R10,)="","",OFFSET('様式第2-6号①'!$C$50,$R10,)) | U10: =IF(OFFSET('様式第2-6号①'!$E$50,$R10,)="","",OFFSET('様式第2-6号①'!$E$50,$R10,)) | V10: =IF(OFFSET('様式第2-6号①'!$E$50,$R10+1,)="","",OFFSET('様式第2-6号①'!$E$50,$R10+1,)) | W10: =IF(OFFSET('様式第2-6号①'!$E$50,$R10+2,)="","",OFFSET('様式第2-6号①'!$E$50,$R10+2,)) | X10: 49 | Y10: =IF(OFFSET('様式第2-6号①'!$C$74,$X10-1,)="","",OFFSET('様式第2-6号①'!$C$74,$X10-1,)) | Z10: =IF(OFFSET('様式第2-6号①'!$E$74,$X10-1,)="","",OFFSET('様式第2-6号①'!$E$74,$X10-1,)) | AA10: =IF(OFFSET('様式第2-6号①'!$E$74,$X10,)="","",OFFSET('様式第2-6号①'!$E$74,$X10,)) | AB10: =IF(OFFSET('様式第2-6号①'!$E$74,$X10+1,)="","",OFFSET('様式第2-6号①'!$E$74,$X10+1,)) | AC10: =IF(OFFSET('様式第2-6号①'!$E$74,$X10+2,)="","",OFFSET('様式第2-6号①'!$E$74,$X10+2,)) | AE10: =IF(OFFSET('様式第2-6号①'!$E$74,$X10+3,)="","",OFFSET('様式第2-6号①'!$E$74,$X10+3,)) | AF10: =IF(OFFSET('様式第2-6号①'!$E$74,$X10+4,)="","",OFFSET('様式第2-6号①'!$E$74,$X10+4,)) | AG10: 49 | AH10: =IF(OFFSET('様式第2-6号①'!$C$84,$AG10-1,)="","",OFFSET('様式第2-6号①'!$C$84,$AG10-1,)) | AI10: =IF(OFFSET('様式第2-6号①'!$E$84,$AG10-1,)="","",OFFSET('様式第2-6号①'!$E$84,$AG10-1,)) | AJ10: =IF(OFFSET('様式第2-6号①'!$E$84,$AG10,)="","",OFFSET('様式第2-6号①'!$E$84,$AG10,)) | AK10: =IF(OFFSET('様式第2-6号①'!$E$84,$AG10+1,)="","",OFFSET('様式第2-6号①'!$E$84,$AG10+1,)) | AL10: =IF(OFFSET('様式第2-6号①'!$E$84,$AG10+2,)="","",OFFSET('様式第2-6号①'!$E$84,$AG10+2,)) | AN10: =IF(OFFSET('様式第2-6号①'!$E$84,$AG10+3,)="","",OFFSET('様式第2-6号①'!$E$84,$AG10+3,)) | AO10: =IF(OFFSET('様式第2-6号①'!$E$84,$AG10+4,)="","",OFFSET('様式第2-6号①'!$E$84,$AG10+4,)) | AP10: 41 | AQ10: =IF(OFFSET('様式第2-6号①'!$C$94,$AP10-1,)="","",OFFSET('様式第2-6号①'!$C$94,$AP10-1,)) | AR10: =IF(OFFSET('様式第2-6号①'!$E$94,$AP10-1,)="","",OFFSET('様式第2-6号①'!$E$94,$AP10-1,)) | AS10: =IF(OFFSET('様式第2-6号①'!$E$94,$AP10,)="","",OFFSET('様式第2-6号①'!$E$94,$AP10,)) | AT10: =IF(OFFSET('様式第2-6号①'!$E$94,$AP10+1,)="","",OFFSET('様式第2-6号①'!$E$94,$AP10+1,)) | AV10: =IF(OFFSET('様式第2-6号①'!$E$94,$AP10+2,)="","",OFFSET('様式第2-6号①'!$E$94,$AP10+2,)) | AW10: =IF(OFFSET('様式第2-6号①'!$E$94,$AP10+3,)="","",OFFSET('様式第2-6号①'!$E$94,$AP10+3,)) | AX10: 25 | AY10: =IF(OFFSET('様式第2-6号①'!$B$114,$AX10,)="","",OFFSET('様式第2-6号①'!$B$114,$AX10,)) | AZ10: =IF(OFFSET('様式第2-6号①'!$C$114,$AX10,)="","",OFFSET('様式第2-6号①'!$C$114,$AX10,)) | BA10: =IF(OFFSET('様式第2-6号①'!$E$114,$AX10,)="","",OFFSET('様式第2-6号①'!$E$114,$AX10,)) | BB10: =IF(OFFSET('様式第2-6号①'!$E$114,$AX10+1,)="","",OFFSET('様式第2-6号①'!$E$114,$AX10+1,)) | BC10: =IF(OFFSET('様式第2-6号①'!$E$114,$AX10+2,)="","",OFFSET('様式第2-6号①'!$E$114,$AX10+2,)) | BD10: 49 | BE10: =IF(OFFSET('様式第2-6号①'!$C$145,$BD10-1,)="","",OFFSET('様式第2-6号①'!$C$145,$BD10-1,)) -> （３）長寿命化整備計画の協議 | BF10: =IF(OFFSET('様式第2-6号①'!$E$145,$BD10-1,)="","",OFFSET('様式第2-6号①'!$E$145,$BD10-1,)) | BG10: =IF(OFFSET('様式第2-6号①'!$E$145,$BD10,)="","",OFFSET('様式第2-6号①'!$E$145,$BD10,)) | BH10: =IF(OFFSET('様式第2-6号①'!$E$145,$BD10+1,)="","",OFFSET('様式第2-6号①'!$E$145,$BD10+1,)) | BI10: =IF(OFFSET('様式第2-6号①'!$E$145,$BD10+2,)="","",OFFSET('様式第2-6号①'!$E$145,$BD10+2,)) | BK10: =IF(OFFSET('様式第2-6号①'!$E$145,$BD10+3,)="","",OFFSET('様式第2-6号①'!$E$145,$BD10+3,)) | BL10: =IF(OFFSET('様式第2-6号①'!$E$145,$BD10+4,)="","",OFFSET('様式第2-6号①'!$E$145,$BD10+4,))
A11: 55 | B11: =IF(OFFSET('様式第2-6号①'!$C$23,$A11-1,)="","",OFFSET('様式第2-6号①'!$C$23,$A11-1,)) | C11: =IF(OFFSET('様式第2-6号①'!$E$23,$A11-1,)="","",OFFSET('様式第2-6号①'!$E$23,$A11-1,)) | D11: =IF(OFFSET('様式第2-6号①'!$E$23,$A11,)="","",OFFSET('様式第2-6号①'!$E$23,$A11,)) | E11: =IF(OFFSET('様式第2-6号①'!$E$23,$A11+1,)="","",OFFSET('様式第2-6号①'!$E$23,$A11+1,)) | F11: =IF(OFFSET('様式第2-6号①'!$E$23,$A11+2,)="","",OFFSET('様式第2-6号①'!$E$23,$A11+2,)) | H11: =IF(OFFSET('様式第2-6号①'!$E$23,$A11+3,)="","",OFFSET('様式第2-6号①'!$E$23,$A11+3,)) | I11: =IF(OFFSET('様式第2-6号①'!$E$23,$A11+4,)="","",OFFSET('様式第2-6号①'!$E$23,$A11+4,)) | J11: 46 | K11: =IF(OFFSET('様式第2-6号①'!$C$33,$J11-1,)="","",OFFSET('様式第2-6号①'!$C$33,$J11-1,)) | L11: =IF(OFFSET('様式第2-6号①'!$E$33,$J11-1,)="","",OFFSET('様式第2-6号①'!$E$33,$J11-1,)) | M11: =IF(OFFSET('様式第2-6号①'!$E$33,$J11,)="","",OFFSET('様式第2-6号①'!$E$33,$J11,)) | N11: =IF(OFFSET('様式第2-6号①'!$E$33,$J11+1,)="","",OFFSET('様式第2-6号①'!$E$33,$J11+1,)) | P11: =IF(OFFSET('様式第2-6号①'!$E$33,$J11+2,)="","",OFFSET('様式第2-6号①'!$E$33,$J11+2,)) | Q11: =IF(OFFSET('様式第2-6号①'!$E$33,$J11+3,)="","",OFFSET('様式第2-6号①'!$E$33,$J11+3,)) | R11: 28 | S11: =IF(OFFSET('様式第2-6号①'!$B$50,$R11,)="","",OFFSET('様式第2-6号①'!$B$50,$R11,)) | T11: =IF(OFFSET('様式第2-6号①'!$C$50,$R11,)="","",OFFSET('様式第2-6号①'!$C$50,$R11,)) | U11: =IF(OFFSET('様式第2-6号①'!$E$50,$R11,)="","",OFFSET('様式第2-6号①'!$E$50,$R11,)) | V11: =IF(OFFSET('様式第2-6号①'!$E$50,$R11+1,)="","",OFFSET('様式第2-6号①'!$E$50,$R11+1,)) | W11: =IF(OFFSET('様式第2-6号①'!$E$50,$R11+2,)="","",OFFSET('様式第2-6号①'!$E$50,$R11+2,)) | X11: 55 | Y11: =IF(OFFSET('様式第2-6号①'!$C$74,$X11-1,)="","",OFFSET('様式第2-6号①'!$C$74,$X11-1,)) | Z11: =IF(OFFSET('様式第2-6号①'!$E$74,$X11-1,)="","",OFFSET('様式第2-6号①'!$E$74,$X11-1,)) | AA11: =IF(OFFSET('様式第2-6号①'!$E$74,$X11,)="","",OFFSET('様式第2-6号①'!$E$74,$X11,)) | AB11: =IF(OFFSET('様式第2-6号①'!$E$74,$X11+1,)="","",OFFSET('様式第2-6号①'!$E$74,$X11+1,)) | AC11: =IF(OFFSET('様式第2-6号①'!$E$74,$X11+2,)="","",OFFSET('様式第2-6号①'!$E$74,$X11+2,)) | AE11: =IF(OFFSET('様式第2-6号①'!$E$74,$X11+3,)="","",OFFSET('様式第2-6号①'!$E$74,$X11+3,)) | AF11: =IF(OFFSET('様式第2-6号①'!$E$74,$X11+4,)="","",OFFSET('様式第2-6号①'!$E$74,$X11+4,)) | AG11: 55 | AH11: =IF(OFFSET('様式第2-6号①'!$C$84,$AG11-1,)="","",OFFSET('様式第2-6号①'!$C$84,$AG11-1,)) -> ｂ 内容について都道府県知事と協議を求める場合の要件 | AI11: =IF(OFFSET('様式第2-6号①'!$E$84,$AG11-1,)="","",OFFSET('様式第2-6号①'!$E$84,$AG11-1,)) | AJ11: =IF(OFFSET('様式第2-6号①'!$E$84,$AG11,)="","",OFFSET('様式第2-6号①'!$E$84,$AG11,)) | AK11: =IF(OFFSET('様式第2-6号①'!$E$84,$AG11+1,)="","",OFFSET('様式第2-6号①'!$E$84,$AG11+1,)) | AL11: =IF(OFFSET('様式第2-6号①'!$E$84,$AG11+2,)="","",OFFSET('様式第2-6号①'!$E$84,$AG11+2,)) | AN11: =IF(OFFSET('様式第2-6号①'!$E$84,$AG11+3,)="","",OFFSET('様式第2-6号①'!$E$84,$AG11+3,)) | AO11: =IF(OFFSET('様式第2-6号①'!$E$84,$AG11+4,)="","",OFFSET('様式第2-6号①'!$E$84,$AG11+4,)) | AP11: 46 | AQ11: =IF(OFFSET('様式第2-6号①'!$C$94,$AP11-1,)="","",OFFSET('様式第2-6号①'!$C$94,$AP11-1,)) | AR11: =IF(OFFSET('様式第2-6号①'!$E$94,$AP11-1,)="","",OFFSET('様式第2-6号①'!$E$94,$AP11-1,)) | AS11: =IF(OFFSET('様式第2-6号①'!$E$94,$AP11,)="","",OFFSET('様式第2-6号①'!$E$94,$AP11,)) | AT11: =IF(OFFSET('様式第2-6号①'!$E$94,$AP11+1,)="","",OFFSET('様式第2-6号①'!$E$94,$AP11+1,)) | AV11: =IF(OFFSET('様式第2-6号①'!$E$94,$AP11+2,)="","",OFFSET('様式第2-6号①'!$E$94,$AP11+2,)) | AW11: =IF(OFFSET('様式第2-6号①'!$E$94,$AP11+3,)="","",OFFSET('様式第2-6号①'!$E$94,$AP11+3,)) | AX11: 28 | AY11: =IF(OFFSET('様式第2-6号①'!$B$114,$AX11,)="","",OFFSET('様式第2-6号①'!$B$114,$AX11,)) | AZ11: =IF(OFFSET('様式第2-6号①'!$C$114,$AX11,)="","",OFFSET('様式第2-6号①'!$C$114,$AX11,)) -> ｄ その他必要な事項 | BA11: =IF(OFFSET('様式第2-6号①'!$E$114,$AX11,)="","",OFFSET('様式第2-6号①'!$E$114,$AX11,)) | BB11: =IF(OFFSET('様式第2-6号①'!$E$114,$AX11+1,)="","",OFFSET('様式第2-6号①'!$E$114,$AX11+1,)) | BC11: =IF(OFFSET('様式第2-6号①'!$E$114,$AX11+2,)="","",OFFSET('様式第2-6号①'!$E$114,$AX11+2,)) | BD11: 55 | BE11: =IF(OFFSET('様式第2-6号①'!$C$145,$BD11-1,)="","",OFFSET('様式第2-6号①'!$C$145,$BD11-1,)) | BF11: =IF(OFFSET('様式第2-6号①'!$E$145,$BD11-1,)="","",OFFSET('様式第2-6号①'!$E$145,$BD11-1,)) | BG11: =IF(OFFSET('様式第2-6号①'!$E$145,$BD11,)="","",OFFSET('様式第2-6号①'!$E$145,$BD11,)) | BH11: =IF(OFFSET('様式第2-6号①'!$E$145,$BD11+1,)="","",OFFSET('様式第2-6号①'!$E$145,$BD11+1,)) | BI11: =IF(OFFSET('様式第2-6号①'!$E$145,$BD11+2,)="","",OFFSET('様式第2-6号①'!$E$145,$BD11+2,)) | BK11: =IF(OFFSET('様式第2-6号①'!$E$145,$BD11+3,)="","",OFFSET('様式第2-6号①'!$E$145,$BD11+3,)) | BL11: =IF(OFFSET('様式第2-6号①'!$E$145,$BD11+4,)="","",OFFSET('様式第2-6号①'!$E$145,$BD11+4,))
A12: 61 | B12: =IF(OFFSET('様式第2-6号①'!$C$23,$A12-1,)="","",OFFSET('様式第2-6号①'!$C$23,$A12-1,)) | C12: =IF(OFFSET('様式第2-6号①'!$E$23,$A12-1,)="","",OFFSET('様式第2-6号①'!$E$23,$A12-1,)) | D12: =IF(OFFSET('様式第2-6号①'!$E$23,$A12,)="","",OFFSET('様式第2-6号①'!$E$23,$A12,)) -> テーマの追加 | E12: =IF(OFFSET('様式第2-6号①'!$E$23,$A12+1,)="","",OFFSET('様式第2-6号①'!$E$23,$A12+1,)) | F12: =IF(OFFSET('様式第2-6号①'!$E$23,$A12+2,)="","",OFFSET('様式第2-6号①'!$E$23,$A12+2,)) | H12: =IF(OFFSET('様式第2-6号①'!$E$23,$A12+3,)="","",OFFSET('様式第2-6号①'!$E$23,$A12+3,)) | I12: =IF(OFFSET('様式第2-6号①'!$E$23,$A12+4,)="","",OFFSET('様式第2-6号①'!$E$23,$A12+4,)) | J12: 51 | K12: =IF(OFFSET('様式第2-6号①'!$C$33,$J12-1,)="","",OFFSET('様式第2-6号①'!$C$33,$J12-1,)) | L12: =IF(OFFSET('様式第2-6号①'!$E$33,$J12-1,)="","",OFFSET('様式第2-6号①'!$E$33,$J12-1,)) | M12: =IF(OFFSET('様式第2-6号①'!$E$33,$J12,)="","",OFFSET('様式第2-6号①'!$E$33,$J12,)) -> テーマの追加 | N12: =IF(OFFSET('様式第2-6号①'!$E$33,$J12+1,)="","",OFFSET('様式第2-6号①'!$E$33,$J12+1,)) | P12: =IF(OFFSET('様式第2-6号①'!$E$33,$J12+2,)="","",OFFSET('様式第2-6号①'!$E$33,$J12+2,)) | Q12: =IF(OFFSET('様式第2-6号①'!$E$33,$J12+3,)="","",OFFSET('様式第2-6号①'!$E$33,$J12+3,)) | R12: 31 | S12: =IF(OFFSET('様式第2-6号①'!$B$50,$R12,)="","",OFFSET('様式第2-6号①'!$B$50,$R12,)) | T12: =IF(OFFSET('様式第2-6号①'!$C$50,$R12,)="","",OFFSET('様式第2-6号①'!$C$50,$R12,)) -> ※区分には、「活動項目の追加」、「活動内容の追加」又は「活動要件の設定」のうち該当するものを記載すること。なお、「活動内容の追加」、「活動要件の設定」については、追加箇所等を《》で囲むこと。また、活動項目については、活動項目名に活動項目番号を100番（前項までに100番以降を付けた場合は次の番号）から順に付け、活動の内容を共通申請画面内に入力すること。 | U12: =IF(OFFSET('様式第2-6号①'!$E$50,$R12,)="","",OFFSET('様式第2-6号①'!$E$50,$R12,)) | V12: =IF(OFFSET('様式第2-6号①'!$E$50,$R12+1,)="","",OFFSET('様式第2-6号①'!$E$50,$R12+1,)) | W12: =IF(OFFSET('様式第2-6号①'!$E$50,$R12+2,)="","",OFFSET('様式第2-6号①'!$E$50,$R12+2,)) | X12: 61 | Y12: =IF(OFFSET('様式第2-6号①'!$C$74,$X12-1,)="","",OFFSET('様式第2-6号①'!$C$74,$X12-1,)) | Z12: =IF(OFFSET('様式第2-6号①'!$E$74,$X12-1,)="","",OFFSET('様式第2-6号①'!$E$74,$X12-1,)) | AA12: =IF(OFFSET('様式第2-6号①'!$E$74,$X12,)="","",OFFSET('様式第2-6号①'!$E$74,$X12,)) | AB12: =IF(OFFSET('様式第2-6号①'!$E$74,$X12+1,)="","",OFFSET('様式第2-6号①'!$E$74,$X12+1,)) | AC12: =IF(OFFSET('様式第2-6号①'!$E$74,$X12+2,)="","",OFFSET('様式第2-6号①'!$E$74,$X12+2,)) | AE12: =IF(OFFSET('様式第2-6号①'!$E$74,$X12+3,)="","",OFFSET('様式第2-6号①'!$E$74,$X12+3,)) | AF12: =IF(OFFSET('様式第2-6号①'!$E$74,$X12+4,)="","",OFFSET('様式第2-6号①'!$E$74,$X12+4,)) | AG12: 61 | AH12: =IF(OFFSET('様式第2-6号①'!$C$84,$AG12-1,)="","",OFFSET('様式第2-6号①'!$C$84,$AG12-1,)) | AI12: =IF(OFFSET('様式第2-6号①'!$E$84,$AG12-1,)="","",OFFSET('様式第2-6号①'!$E$84,$AG12-1,)) | AJ12: =IF(OFFSET('様式第2-6号①'!$E$84,$AG12,)="","",OFFSET('様式第2-6号①'!$E$84,$AG12,)) -> 活動項目の追加 | AK12: =IF(OFFSET('様式第2-6号①'!$E$84,$AG12+1,)="","",OFFSET('様式第2-6号①'!$E$84,$AG12+1,)) | AL12: =IF(OFFSET('様式第2-6号①'!$E$84,$AG12+2,)="","",OFFSET('様式第2-6号①'!$E$84,$AG12+2,)) | AN12: =IF(OFFSET('様式第2-6号①'!$E$84,$AG12+3,)="","",OFFSET('様式第2-6号①'!$E$84,$AG12+3,)) | AO12: =IF(OFFSET('様式第2-6号①'!$E$84,$AG12+4,)="","",OFFSET('様式第2-6号①'!$E$84,$AG12+4,)) | AP12: 51 | AQ12: =IF(OFFSET('様式第2-6号①'!$C$94,$AP12-1,)="","",OFFSET('様式第2-6号①'!$C$94,$AP12-1,)) | AR12: =IF(OFFSET('様式第2-6号①'!$E$94,$AP12-1,)="","",OFFSET('様式第2-6号①'!$E$94,$AP12-1,)) | AS12: =IF(OFFSET('様式第2-6号①'!$E$94,$AP12,)="","",OFFSET('様式第2-6号①'!$E$94,$AP12,)) -> 活動項目の追加 | AT12: =IF(OFFSET('様式第2-6号①'!$E$94,$AP12+1,)="","",OFFSET('様式第2-6号①'!$E$94,$AP12+1,)) | AV12: =IF(OFFSET('様式第2-6号①'!$E$94,$AP12+2,)="","",OFFSET('様式第2-6号①'!$E$94,$AP12+2,)) | AW12: =IF(OFFSET('様式第2-6号①'!$E$94,$AP12+3,)="","",OFFSET('様式第2-6号①'!$E$94,$AP12+3,)) | AX12: 31 | AY12: =IF(OFFSET('様式第2-6号①'!$B$114,$AX12,)="","",OFFSET('様式第2-6号①'!$B$114,$AX12,)) | AZ12: =IF(OFFSET('様式第2-6号①'!$C$114,$AX12,)="","",OFFSET('様式第2-6号①'!$C$114,$AX12,)) -> 区 分 | BA12: =IF(OFFSET('様式第2-6号①'!$E$114,$AX12,)="","",OFFSET('様式第2-6号①'!$E$114,$AX12,)) -> 活動項目の追加 | BB12: =IF(OFFSET('様式第2-6号①'!$E$114,$AX12+1,)="","",OFFSET('様式第2-6号①'!$E$114,$AX12+1,)) | BC12: =IF(OFFSET('様式第2-6号①'!$E$114,$AX12+2,)="","",OFFSET('様式第2-6号①'!$E$114,$AX12+2,)) | BD12: 61 | BE12: =IF(OFFSET('様式第2-6号①'!$C$145,$BD12-1,)="","",OFFSET('様式第2-6号①'!$C$145,$BD12-1,)) -> 10．その他推進事業の実施に必要な事項 | BF12: =IF(OFFSET('様式第2-6号①'!$E$145,$BD12-1,)="","",OFFSET('様式第2-6号①'!$E$145,$BD12-1,)) | BG12: =IF(OFFSET('様式第2-6号①'!$E$145,$BD12,)="","",OFFSET('様式第2-6号①'!$E$145,$BD12,)) | BH12: =IF(OFFSET('様式第2-6号①'!$E$145,$BD12+1,)="","",OFFSET('様式第2-6号①'!$E$145,$BD12+1,)) | BI12: =IF(OFFSET('様式第2-6号①'!$E$145,$BD12+2,)="","",OFFSET('様式第2-6号①'!$E$145,$BD12+2,)) | BK12: =IF(OFFSET('様式第2-6号①'!$E$145,$BD12+3,)="","",OFFSET('様式第2-6号①'!$E$145,$BD12+3,)) | BL12: =IF(OFFSET('様式第2-6号①'!$E$145,$BD12+4,)="","",OFFSET('様式第2-6号①'!$E$145,$BD12+4,))
A13: 67 | B13: =IF(OFFSET('様式第2-6号①'!$C$23,$A13-1,)="","",OFFSET('様式第2-6号①'!$C$23,$A13-1,)) | C13: =IF(OFFSET('様式第2-6号①'!$E$23,$A13-1,)="","",OFFSET('様式第2-6号①'!$E$23,$A13-1,)) | D13: =IF(OFFSET('様式第2-6号①'!$E$23,$A13,)="","",OFFSET('様式第2-6号①'!$E$23,$A13,)) | E13: =IF(OFFSET('様式第2-6号①'!$E$23,$A13+1,)="","",OFFSET('様式第2-6号①'!$E$23,$A13+1,)) | F13: =IF(OFFSET('様式第2-6号①'!$E$23,$A13+2,)="","",OFFSET('様式第2-6号①'!$E$23,$A13+2,)) | H13: =IF(OFFSET('様式第2-6号①'!$E$23,$A13+3,)="","",OFFSET('様式第2-6号①'!$E$23,$A13+3,)) | I13: =IF(OFFSET('様式第2-6号①'!$E$23,$A13+4,)="","",OFFSET('様式第2-6号①'!$E$23,$A13+4,)) -> 活動項目の追加 | J13: 56 | K13: =IF(OFFSET('様式第2-6号①'!$C$33,$J13-1,)="","",OFFSET('様式第2-6号①'!$C$33,$J13-1,)) | L13: =IF(OFFSET('様式第2-6号①'!$E$33,$J13-1,)="","",OFFSET('様式第2-6号①'!$E$33,$J13-1,)) | M13: =IF(OFFSET('様式第2-6号①'!$E$33,$J13,)="","",OFFSET('様式第2-6号①'!$E$33,$J13,)) | N13: =IF(OFFSET('様式第2-6号①'!$E$33,$J13+1,)="","",OFFSET('様式第2-6号①'!$E$33,$J13+1,)) | P13: =IF(OFFSET('様式第2-6号①'!$E$33,$J13+2,)="","",OFFSET('様式第2-6号①'!$E$33,$J13+2,)) | Q13: =IF(OFFSET('様式第2-6号①'!$E$33,$J13+3,)="","",OFFSET('様式第2-6号①'!$E$33,$J13+3,)) | R13: 34 | S13: =IF(OFFSET('様式第2-6号①'!$B$50,$R13,)="","",OFFSET('様式第2-6号①'!$B$50,$R13,)) | T13: =IF(OFFSET('様式第2-6号①'!$C$50,$R13,)="","",OFFSET('様式第2-6号①'!$C$50,$R13,)) -> 区 分 | U13: =IF(OFFSET('様式第2-6号①'!$E$50,$R13,)="","",OFFSET('様式第2-6号①'!$E$50,$R13,)) -> テーマの追加 | V13: =IF(OFFSET('様式第2-6号①'!$E$50,$R13+1,)="","",OFFSET('様式第2-6号①'!$E$50,$R13+1,)) | W13: =IF(OFFSET('様式第2-6号①'!$E$50,$R13+2,)="","",OFFSET('様式第2-6号①'!$E$50,$R13+2,)) | X13: 67 | Y13: =IF(OFFSET('様式第2-6号①'!$C$74,$X13-1,)="","",OFFSET('様式第2-6号①'!$C$74,$X13-1,)) -> ｃ 都道府県又は推進組織が行う技術的指導の内容 | Z13: =IF(OFFSET('様式第2-6号①'!$E$74,$X13-1,)="","",OFFSET('様式第2-6号①'!$E$74,$X13-1,)) | AA13: =IF(OFFSET('様式第2-6号①'!$E$74,$X13,)="","",OFFSET('様式第2-6号①'!$E$74,$X13,)) | AB13: =IF(OFFSET('様式第2-6号①'!$E$74,$X13+1,)="","",OFFSET('様式第2-6号①'!$E$74,$X13+1,)) | AC13: =IF(OFFSET('様式第2-6号①'!$E$74,$X13+2,)="","",OFFSET('様式第2-6号①'!$E$74,$X13+2,)) | AE13: =IF(OFFSET('様式第2-6号①'!$E$74,$X13+3,)="","",OFFSET('様式第2-6号①'!$E$74,$X13+3,)) | AF13: =IF(OFFSET('様式第2-6号①'!$E$74,$X13+4,)="","",OFFSET('様式第2-6号①'!$E$74,$X13+4,)) -> 活動項目の追加 | AG13: 67 | AH13: =IF(OFFSET('様式第2-6号①'!$C$84,$AG13-1,)="","",OFFSET('様式第2-6号①'!$C$84,$AG13-1,)) | AI13: =IF(OFFSET('様式第2-6号①'!$E$84,$AG13-1,)="","",OFFSET('様式第2-6号①'!$E$84,$AG13-1,)) | AJ13: =IF(OFFSET('様式第2-6号①'!$E$84,$AG13,)="","",OFFSET('様式第2-6号①'!$E$84,$AG13,)) | AK13: =IF(OFFSET('様式第2-6号①'!$E$84,$AG13+1,)="","",OFFSET('様式第2-6号①'!$E$84,$AG13+1,)) | AL13: =IF(OFFSET('様式第2-6号①'!$E$84,$AG13+2,)="","",OFFSET('様式第2-6号①'!$E$84,$AG13+2,)) | AN13: =IF(OFFSET('様式第2-6号①'!$E$84,$AG13+3,)="","",OFFSET('様式第2-6号①'!$E$84,$AG13+3,)) | AO13: =IF(OFFSET('様式第2-6号①'!$E$84,$AG13+4,)="","",OFFSET('様式第2-6号①'!$E$84,$AG13+4,)) | AP13: 56 | AQ13: =IF(OFFSET('様式第2-6号①'!$C$94,$AP13-1,)="","",OFFSET('様式第2-6号①'!$C$94,$AP13-1,)) | AR13: =IF(OFFSET('様式第2-6号①'!$E$94,$AP13-1,)="","",OFFSET('様式第2-6号①'!$E$94,$AP13-1,)) | AS13: =IF(OFFSET('様式第2-6号①'!$E$94,$AP13,)="","",OFFSET('様式第2-6号①'!$E$94,$AP13,)) | AT13: =IF(OFFSET('様式第2-6号①'!$E$94,$AP13+1,)="","",OFFSET('様式第2-6号①'!$E$94,$AP13+1,)) | AV13: =IF(OFFSET('様式第2-6号①'!$E$94,$AP13+2,)="","",OFFSET('様式第2-6号①'!$E$94,$AP13+2,)) | AW13: =IF(OFFSET('様式第2-6号①'!$E$94,$AP13+3,)="","",OFFSET('様式第2-6号①'!$E$94,$AP13+3,)) | AX13: 34 | AY13: =IF(OFFSET('様式第2-6号①'!$B$114,$AX13,)="","",OFFSET('様式第2-6号①'!$B$114,$AX13,)) | AZ13: =IF(OFFSET('様式第2-6号①'!$C$114,$AX13,)="","",OFFSET('様式第2-6号①'!$C$114,$AX13,)) | BA13: =IF(OFFSET('様式第2-6号①'!$E$114,$AX13,)="","",OFFSET('様式第2-6号①'!$E$114,$AX13,)) | BB13: =IF(OFFSET('様式第2-6号①'!$E$114,$AX13+1,)="","",OFFSET('様式第2-6号①'!$E$114,$AX13+1,)) | BC13: =IF(OFFSET('様式第2-6号①'!$E$114,$AX13+2,)="","",OFFSET('様式第2-6号①'!$E$114,$AX13+2,)) | BD13: 67 | BE13: =IF(OFFSET('様式第2-6号①'!$C$145,$BD13-1,)="","",OFFSET('様式第2-6号①'!$C$145,$BD13-1,)) | BF13: =IF(OFFSET('様式第2-6号①'!$E$145,$BD13-1,)="","",OFFSET('様式第2-6号①'!$E$145,$BD13-1,)) | BG13: =IF(OFFSET('様式第2-6号①'!$E$145,$BD13,)="","",OFFSET('様式第2-6号①'!$E$145,$BD13,)) | BH13: =IF(OFFSET('様式第2-6号①'!$E$145,$BD13+1,)="","",OFFSET('様式第2-6号①'!$E$145,$BD13+1,)) | BI13: =IF(OFFSET('様式第2-6号①'!$E$145,$BD13+2,)="","",OFFSET('様式第2-6号①'!$E$145,$BD13+2,)) | BK13: =IF(OFFSET('様式第2-6号①'!$E$145,$BD13+3,)="","",OFFSET('様式第2-6号①'!$E$145,$BD13+3,)) | BL13: =IF(OFFSET('様式第2-6号①'!$E$145,$BD13+4,)="","",OFFSET('様式第2-6号①'!$E$145,$BD13+4,))
A14: 73 | B14: =IF(OFFSET('様式第2-6号①'!$C$23,$A14-1,)="","",OFFSET('様式第2-6号①'!$C$23,$A14-1,)) | C14: =IF(OFFSET('様式第2-6号①'!$E$23,$A14-1,)="","",OFFSET('様式第2-6号①'!$E$23,$A14-1,)) | D14: =IF(OFFSET('様式第2-6号①'!$E$23,$A14,)="","",OFFSET('様式第2-6号①'!$E$23,$A14,)) | E14: =IF(OFFSET('様式第2-6号①'!$E$23,$A14+1,)="","",OFFSET('様式第2-6号①'!$E$23,$A14+1,)) | F14: =IF(OFFSET('様式第2-6号①'!$E$23,$A14+2,)="","",OFFSET('様式第2-6号①'!$E$23,$A14+2,)) | H14: =IF(OFFSET('様式第2-6号①'!$E$23,$A14+3,)="","",OFFSET('様式第2-6号①'!$E$23,$A14+3,)) | I14: =IF(OFFSET('様式第2-6号①'!$E$23,$A14+4,)="","",OFFSET('様式第2-6号①'!$E$23,$A14+4,)) | J14: 61 | K14: =IF(OFFSET('様式第2-6号①'!$C$33,$J14-1,)="","",OFFSET('様式第2-6号①'!$C$33,$J14-1,)) | L14: =IF(OFFSET('様式第2-6号①'!$E$33,$J14-1,)="","",OFFSET('様式第2-6号①'!$E$33,$J14-1,)) | M14: =IF(OFFSET('様式第2-6号①'!$E$33,$J14,)="","",OFFSET('様式第2-6号①'!$E$33,$J14,)) -> 活動項目の追加 | N14: =IF(OFFSET('様式第2-6号①'!$E$33,$J14+1,)="","",OFFSET('様式第2-6号①'!$E$33,$J14+1,)) | P14: =IF(OFFSET('様式第2-6号①'!$E$33,$J14+2,)="","",OFFSET('様式第2-6号①'!$E$33,$J14+2,)) | Q14: =IF(OFFSET('様式第2-6号①'!$E$33,$J14+3,)="","",OFFSET('様式第2-6号①'!$E$33,$J14+3,)) | R14: 37 | S14: =IF(OFFSET('様式第2-6号①'!$B$50,$R14,)="","",OFFSET('様式第2-6号①'!$B$50,$R14,)) | T14: =IF(OFFSET('様式第2-6号①'!$C$50,$R14,)="","",OFFSET('様式第2-6号①'!$C$50,$R14,)) | U14: =IF(OFFSET('様式第2-6号①'!$E$50,$R14,)="","",OFFSET('様式第2-6号①'!$E$50,$R14,)) | V14: =IF(OFFSET('様式第2-6号①'!$E$50,$R14+1,)="","",OFFSET('様式第2-6号①'!$E$50,$R14+1,)) | W14: =IF(OFFSET('様式第2-6号①'!$E$50,$R14+2,)="","",OFFSET('様式第2-6号①'!$E$50,$R14+2,)) | X14: 73 | Y14: =IF(OFFSET('様式第2-6号①'!$C$74,$X14-1,)="","",OFFSET('様式第2-6号①'!$C$74,$X14-1,)) | Z14: =IF(OFFSET('様式第2-6号①'!$E$74,$X14-1,)="","",OFFSET('様式第2-6号①'!$E$74,$X14-1,)) | AA14: =IF(OFFSET('様式第2-6号①'!$E$74,$X14,)="","",OFFSET('様式第2-6号①'!$E$74,$X14,)) | AB14: =IF(OFFSET('様式第2-6号①'!$E$74,$X14+1,)="","",OFFSET('様式第2-6号①'!$E$74,$X14+1,)) | AC14: =IF(OFFSET('様式第2-6号①'!$E$74,$X14+2,)="","",OFFSET('様式第2-6号①'!$E$74,$X14+2,)) | AE14: =IF(OFFSET('様式第2-6号①'!$E$74,$X14+3,)="","",OFFSET('様式第2-6号①'!$E$74,$X14+3,)) | AF14: =IF(OFFSET('様式第2-6号①'!$E$74,$X14+4,)="","",OFFSET('様式第2-6号①'!$E$74,$X14+4,)) | AG14: 73 | AH14: =IF(OFFSET('様式第2-6号①'!$C$84,$AG14-1,)="","",OFFSET('様式第2-6号①'!$C$84,$AG14-1,)) | AI14: =IF(OFFSET('様式第2-6号①'!$E$84,$AG14-1,)="","",OFFSET('様式第2-6号①'!$E$84,$AG14-1,)) | AJ14: =IF(OFFSET('様式第2-6号①'!$E$84,$AG14,)="","",OFFSET('様式第2-6号①'!$E$84,$AG14,)) | AK14: =IF(OFFSET('様式第2-6号①'!$E$84,$AG14+1,)="","",OFFSET('様式第2-6号①'!$E$84,$AG14+1,)) | AL14: =IF(OFFSET('様式第2-6号①'!$E$84,$AG14+2,)="","",OFFSET('様式第2-6号①'!$E$84,$AG14+2,)) | AN14: =IF(OFFSET('様式第2-6号①'!$E$84,$AG14+3,)="","",OFFSET('様式第2-6号①'!$E$84,$AG14+3,)) | AO14: =IF(OFFSET('様式第2-6号①'!$E$84,$AG14+4,)="","",OFFSET('様式第2-6号①'!$E$84,$AG14+4,)) | AP14: 61 | AQ14: =IF(OFFSET('様式第2-6号①'!$C$94,$AP14-1,)="","",OFFSET('様式第2-6号①'!$C$94,$AP14-1,)) | AR14: =IF(OFFSET('様式第2-6号①'!$E$94,$AP14-1,)="","",OFFSET('様式第2-6号①'!$E$94,$AP14-1,)) | AS14: =IF(OFFSET('様式第2-6号①'!$E$94,$AP14,)="","",OFFSET('様式第2-6号①'!$E$94,$AP14,)) | AT14: =IF(OFFSET('様式第2-6号①'!$E$94,$AP14+1,)="","",OFFSET('様式第2-6号①'!$E$94,$AP14+1,)) | AV14: =IF(OFFSET('様式第2-6号①'!$E$94,$AP14+2,)="","",OFFSET('様式第2-6号①'!$E$94,$AP14+2,)) | AW14: =IF(OFFSET('様式第2-6号①'!$E$94,$AP14+3,)="","",OFFSET('様式第2-6号①'!$E$94,$AP14+3,)) | AX14: 37 | AY14: =IF(OFFSET('様式第2-6号①'!$B$114,$AX14,)="","",OFFSET('様式第2-6号①'!$B$114,$AX14,)) | AZ14: =IF(OFFSET('様式第2-6号①'!$C$114,$AX14,)="","",OFFSET('様式第2-6号①'!$C$114,$AX14,)) -> この線より上に行を挿入してください。 | BA14: =IF(OFFSET('様式第2-6号①'!$E$114,$AX14,)="","",OFFSET('様式第2-6号①'!$E$114,$AX14,)) | BB14: =IF(OFFSET('様式第2-6号①'!$E$114,$AX14+1,)="","",OFFSET('様式第2-6号①'!$E$114,$AX14+1,)) | BC14: =IF(OFFSET('様式第2-6号①'!$E$114,$AX14+2,)="","",OFFSET('様式第2-6号①'!$E$114,$AX14+2,)) | BD14: 73 | BE14: =IF(OFFSET('様式第2-6号①'!$C$145,$BD14-1,)="","",OFFSET('様式第2-6号①'!$C$145,$BD14-1,)) | BF14: =IF(OFFSET('様式第2-6号①'!$E$145,$BD14-1,)="","",OFFSET('様式第2-6号①'!$E$145,$BD14-1,)) | BG14: =IF(OFFSET('様式第2-6号①'!$E$145,$BD14,)="","",OFFSET('様式第2-6号①'!$E$145,$BD14,)) | BH14: =IF(OFFSET('様式第2-6号①'!$E$145,$BD14+1,)="","",OFFSET('様式第2-6号①'!$E$145,$BD14+1,)) | BI14: =IF(OFFSET('様式第2-6号①'!$E$145,$BD14+2,)="","",OFFSET('様式第2-6号①'!$E$145,$BD14+2,)) | BK14: =IF(OFFSET('様式第2-6号①'!$E$145,$BD14+3,)="","",OFFSET('様式第2-6号①'!$E$145,$BD14+3,)) | BL14: =IF(OFFSET('様式第2-6号①'!$E$145,$BD14+4,)="","",OFFSET('様式第2-6号①'!$E$145,$BD14+4,))
... A30: 169 | B30: =IF(OFFSET('様式第2-6号①'!$C$23,$A30-1,)="","",OFFSET('様式第2-6号①'!$C$23,$A30-1,)) -> ５．（１）事業計画の指導、審査 | C30: =IF(OFFSET('様式第2-6号①'!$E$23,$A30-1,)="","",OFFSET('様式第2-6号①'!$E$23,$A30-1,)) | D30: =IF(OFFSET('様式第2-6号①'!$E$23,$A30,)="","",OFFSET('様式第2-6号①'!$E$23,$A30,)) | E30: =IF(OFFSET('様式第2-6号①'!$E$23,$A30+1,)="","",OFFSET('様式第2-6号①'!$E$23,$A30+1,)) | F30: =IF(OFFSET('様式第2-6号①'!$E$23,$A30+2,)="","",OFFSET('様式第2-6号①'!$E$23,$A30+2,)) | H30: =IF(OFFSET('様式第2-6号①'!$E$23,$A30+3,)="","",OFFSET('様式第2-6号①'!$E$23,$A30+3,)) | I30: =IF(OFFSET('様式第2-6号①'!$E$23,$A30+4,)="","",OFFSET('様式第2-6号①'!$E$23,$A30+4,)) | J30: 141 | K30: =IF(OFFSET('様式第2-6号①'!$C$33,$J30-1,)="","",OFFSET('様式第2-6号①'!$C$33,$J30-1,)) | L30: =IF(OFFSET('様式第2-6号①'!$E$33,$J30-1,)="","",OFFSET('様式第2-6号①'!$E$33,$J30-1,)) | M30: =IF(OFFSET('様式第2-6号①'!$E$33,$J30,)="","",OFFSET('様式第2-6号①'!$E$33,$J30,)) | N30: =IF(OFFSET('様式第2-6号①'!$E$33,$J30+1,)="","",OFFSET('様式第2-6号①'!$E$33,$J30+1,)) | P30: =IF(OFFSET('様式第2-6号①'!$E$33,$J30+2,)="","",OFFSET('様式第2-6号①'!$E$33,$J30+2,)) | Q30: =IF(OFFSET('様式第2-6号①'!$E$33,$J30+3,)="","",OFFSET('様式第2-6号①'!$E$33,$J30+3,)) | R30: 85 | S30: =IF(OFFSET('様式第2-6号①'!$B$50,$R30,)="","",OFFSET('様式第2-6号①'!$B$50,$R30,)) | T30: =IF(OFFSET('様式第2-6号①'!$C$50,$R30,)="","",OFFSET('様式第2-6号①'!$C$50,$R30,)) | U30: =IF(OFFSET('様式第2-6号①'!$E$50,$R30,)="","",OFFSET('様式第2-6号①'!$E$50,$R30,)) | V30: =IF(OFFSET('様式第2-6号①'!$E$50,$R30+1,)="","",OFFSET('様式第2-6号①'!$E$50,$R30+1,)) | W30: =IF(OFFSET('様式第2-6号①'!$E$50,$R30+2,)="","",OFFSET('様式第2-6号①'!$E$50,$R30+2,)) | X30: 169 | Y30: =IF(OFFSET('様式第2-6号①'!$C$74,$X30-1,)="","",OFFSET('様式第2-6号①'!$C$74,$X30-1,)) | Z30: =IF(OFFSET('様式第2-6号①'!$E$74,$X30-1,)="","",OFFSET('様式第2-6号①'!$E$74,$X30-1,)) | AA30: =IF(OFFSET('様式第2-6号①'!$E$74,$X30,)="","",OFFSET('様式第2-6号①'!$E$74,$X30,)) | AB30: =IF(OFFSET('様式第2-6号①'!$E$74,$X30+1,)="","",OFFSET('様式第2-6号①'!$E$74,$X30+1,)) | AC30: =IF(OFFSET('様式第2-6号①'!$E$74,$X30+2,)="","",OFFSET('様式第2-6号①'!$E$74,$X30+2,)) | AE30: =IF(OFFSET('様式第2-6号①'!$E$74,$X30+3,)="","",OFFSET('様式第2-6号①'!$E$74,$X30+3,)) | AF30: =IF(OFFSET('様式第2-6号①'!$E$74,$X30+4,)="","",OFFSET('様式第2-6号①'!$E$74,$X30+4,)) | AG30: 169 | AH30: =IF(OFFSET('様式第2-6号①'!$C$84,$AG30-1,)="","",OFFSET('様式第2-6号①'!$C$84,$AG30-1,)) | AI30: =IF(OFFSET('様式第2-6号①'!$E$84,$AG30-1,)="","",OFFSET('様式第2-6号①'!$E$84,$AG30-1,)) | AJ30: =IF(OFFSET('様式第2-6号①'!$E$84,$AG30,)="","",OFFSET('様式第2-6号①'!$E$84,$AG30,)) | AK30: =IF(OFFSET('様式第2-6号①'!$E$84,$AG30+1,)="","",OFFSET('様式第2-6号①'!$E$84,$AG30+1,)) | AL30: =IF(OFFSET('様式第2-6号①'!$E$84,$AG30+2,)="","",OFFSET('様式第2-6号①'!$E$84,$AG30+2,)) | AN30: =IF(OFFSET('様式第2-6号①'!$E$84,$AG30+3,)="","",OFFSET('様式第2-6号①'!$E$84,$AG30+3,)) | AO30: =IF(OFFSET('様式第2-6号①'!$E$84,$AG30+4,)="","",OFFSET('様式第2-6号①'!$E$84,$AG30+4,)) | AP30: 141 | AQ30: =IF(OFFSET('様式第2-6号①'!$C$94,$AP30-1,)="","",OFFSET('様式第2-6号①'!$C$94,$AP30-1,)) | AR30: =IF(OFFSET('様式第2-6号①'!$E$94,$AP30-1,)="","",OFFSET('様式第2-6号①'!$E$94,$AP30-1,)) | AS30: =IF(OFFSET('様式第2-6号①'!$E$94,$AP30,)="","",OFFSET('様式第2-6号①'!$E$94,$AP30,)) | AT30: =IF(OFFSET('様式第2-6号①'!$E$94,$AP30+1,)="","",OFFSET('様式第2-6号①'!$E$94,$AP30+1,)) | AV30: =IF(OFFSET('様式第2-6号①'!$E$94,$AP30+2,)="","",OFFSET('様式第2-6号①'!$E$94,$AP30+2,)) | AW30: =IF(OFFSET('様式第2-6号①'!$E$94,$AP30+3,)="","",OFFSET('様式第2-6号①'!$E$94,$AP30+3,)) | AX30: 85 | AY30: =IF(OFFSET('様式第2-6号①'!$B$114,$AX30,)="","",OFFSET('様式第2-6号①'!$B$114,$AX30,)) | AZ30: =IF(OFFSET('様式第2-6号①'!$C$114,$AX30,)="","",OFFSET('様式第2-6号①'!$C$114,$AX30,)) | BA30: =IF(OFFSET('様式第2-6号①'!$E$114,$AX30,)="","",OFFSET('様式第2-6号①'!$E$114,$AX30,)) | BB30: =IF(OFFSET('様式第2-6号①'!$E$114,$AX30+1,)="","",OFFSET('様式第2-6号①'!$E$114,$AX30+1,)) | BC30: =IF(OFFSET('様式第2-6号①'!$E$114,$AX30+2,)="","",OFFSET('様式第2-6号①'!$E$114,$AX30+2,)) | BD30: 169 | BE30: =IF(OFFSET('様式第2-6号①'!$C$145,$BD30-1,)="","",OFFSET('様式第2-6号①'!$C$145,$BD30-1,)) | BF30: =IF(OFFSET('様式第2-6号①'!$E$145,$BD30-1,)="","",OFFSET('様式第2-6号①'!$E$145,$BD30-1,)) | BG30: =IF(OFFSET('様式第2-6号①'!$E$145,$BD30,)="","",OFFSET('様式第2-6号①'!$E$145,$BD30,)) | BH30: =IF(OFFSET('様式第2-6号①'!$E$145,$BD30+1,)="","",OFFSET('様式第2-6号①'!$E$145,$BD30+1,)) | BI30: =IF(OFFSET('様式第2-6号①'!$E$145,$BD30+2,)="","",OFFSET('様式第2-6号①'!$E$145,$BD30+2,)) | BK30: =IF(OFFSET('様式第2-6号①'!$E$145,$BD30+3,)="","",OFFSET('様式第2-6号①'!$E$145,$BD30+3,)) | BL30: =IF(OFFSET('様式第2-6号①'!$E$145,$BD30+4,)="","",OFFSET('様式第2-6号①'!$E$145,$BD30+4,))

Sheet データ取込シート_様式第2-6号①
A1: １．取組の推進に関する基本的考え方 | B1: ① 地域活動指針策定における基本的考え方 | C1: ア．地域資源の基礎的保全活動 | D1: イ．地域資源の適切な保全管理のための推進活動 | E1: 区分 | F1: 活動区分 | G1: 対象施設等 | H1: 活動項目 | I1: その他（100番以降）の場合は活動項目の内容を入力してください。 | J1: 活動内容 | K1: 活動要件 | L1: 区分 | M1: 活動区分 | N1: 活動項目 | O1: その他（100番以降）の場合は活動項目の内容を入力してください。 | P1: 活動内容 | Q1: 活動要件 | R1: ④ 地域活動指針及び同指針～ | S1: （２） ① 基本的考え方 | T1: 地域 | U1: 適用 | V1: 交付単価（田） | W1: 交付単価（畑） | X1: 交付単価（草地） | Y1: （３）交付金の算定の対象とする農用地 | Z1: （４） その他必要な事項 | AA1: ① 地域活動指針策定における基本的考え方 | AB1: ア．施設の軽微な補修 | AC1: イ．農村環境保全活動 | AD1: ウ．多面的機能の増進を図る活動 | AE1: ア 区分 | AF1: 活動区分 | AG1: 対象施設等 | AH1: 活動項目 | AI1: その他（100番以降）の場合は活動項目の内容を入力してください。 | AJ1: 活動内容 | AK1: 活動要件 | AL1: イ 区分 | AM1: 活動区分 | AN1: テーマ | AO1: 活動項目 | AP1: その他（100番以降）の場合は活動項目の内容を入力してください。 | AQ1: 活動内容 | AR1: 活動要件 | AS1: ウ 区分 | AT1: 活動区分 | AU1: 活動項目 | AV1: その他（100番以降）の場合は活動項目の内容を入力してください。 | AW1: 活動内容 | AX1: 活動要件 | AY1: ④ 地域活動指針及び同指針～ | AZ1: ⑤水田貯留機能強化計画書の～ | BA1: （２） ① 基本的考え方 | BB1: 地域 | BC1: 適用 | BD1: 交付単価（田） | BE1: 交付単価（畑） | BF1: 交付単価（草地） | BG1: （３）交付金の算定の対象とする農用地 | BH1: （４） その他必要な事項 | BI1: ① 地域活動指針策定における基本的考え方 | BJ1: ア. 工事１件あたり２百万円以上～ | BK1: ａ 対象施設・対象活動 | BL1: ｂ 内容について都道府県～ | BM1: ｃ 都道府県又は推進組織～ | BN1: ｄ その他必要な事項 | BO1: 区分 | BP1: 活動区分 | BQ1: 施設区分 | BR1: 活動項目 | BS1: その他（100番以降）の場合は活動項目の内容を入力してください。 | BT1: 活動内容 | BU1: 活動要件 | BV1: ④ 地域活動指針及び同指針～ | BW1: （２）交付金の算定の対象～ | BX1: （３）その他必要な事項 | BY1: ５．広域協定の規模 | BZ1: （１）基本的な考え方 | CA1: （２）関係団体の役割分担 | CB1: （３）その他必要な事項
A2: =IF('様式第2-6号①'!A10<>"",'様式第2-6号①'!A10,"") | B2: =IF('様式第2-6号①'!C18<>"",'様式第2-6号①'!C18,"") | C2: =IF('様式第2-6号①'!C18<>"",'様式第2-6号①'!C18,"") | D2: =IF('様式第2-6号①'!C20<>"",'様式第2-6号①'!C20,"") | E2: =IF(COUNTIF('データ整理_様式第2-6号①'!$B$2:'データ整理_様式第2-6号①'!$B2,"この線より上に行を挿入してください。")=0,'データ整理_様式第2-6号①'!$C2,"") -> 活動項目の追加 | F2: =IF(COUNTIF('データ整理_様式第2-6号①'!$B$2:'データ整理_様式第2-6号①'!$B2,"この線より上に行を挿入してください。")=0,'データ整理_様式第2-6号①'!$D2,"") | G2: =IF(COUNTIF('データ整理_様式第2-6号①'!$B$2:'データ整理_様式第2-6号①'!$B2,"この線より上に行を挿入してください。")=0,'データ整理_様式第2-6号①'!$E2,"") | H2: =IF(COUNTIF('データ整理_様式第2-6号①'!$B$2:'データ整理_様式第2-6号①'!$B2,"この線より上に行を挿入してください。")=0,'データ整理_様式第2-6号①'!$F2,"") | I2: 取込無し | J2: =IF(COUNTIF('データ整理_様式第2-6号①'!$B$2:'データ整理_様式第2-6号①'!$B2,"この線より上に行を挿入してください。")=0,'データ整理_様式第2-6号①'!$H2,"") | K2: =IF(COUNTIF('データ整理_様式第2-6号①'!$B$2:'データ整理_様式第2-6号①'!$B2,"この線より上に行を挿入してください。")=0,'データ整理_様式第2-6号①'!$I2,"") | L2: =IF(COUNTIF('データ整理_様式第2-6号①'!$K$2:'データ整理_様式第2-6号①'!$K2,"この線より上に行を挿入してください。")=0,'データ整理_様式第2-6号①'!$L2,"") -> 活動項目の追加 | M2: =IF(COUNTIF('データ整理_様式第2-6号①'!$K$2:'データ整理_様式第2-6号①'!$K2,"この線より上に行を挿入してください。")=0,'データ整理_様式第2-6号①'!$M2,"") | N2: =IF(COUNTIF('データ整理_様式第2-6号①'!$K$2:'データ整理_様式第2-6号①'!$K2,"この線より上に行を挿入してください。")=0,'データ整理_様式第2-6号①'!$N2,"") | O2: =IF(COUNTIF('データ整理_様式第2-6号①'!$K$2:'データ整理_様式第2-6号①'!$K2,"この線より上に行を挿入してください。")=0,'データ整理_様式第2-6号①'!$O2,"") -> 取込無し | P2: =IF(COUNTIF('データ整理_様式第2-6号①'!$K$2:'データ整理_様式第2-6号①'!$K2,"この線より上に行を挿入してください。")=0,'データ整理_様式第2-6号①'!$P2,"") | Q2: =IF(COUNTIF('データ整理_様式第2-6号①'!$K$2:'データ整理_様式第2-6号①'!$K2,"この線より上に行を挿入してください。")=0,'データ整理_様式第2-6号①'!$Q2,"") | R2: =IF('様式第2-6号①'!C42<>"",'様式第2-6号①'!C42,"") -> ○○県の農地維持支払交付金に関する地域活動指針及び同指針に基づき定める要件は、別紙１のとおりとする。 | S2: =IF('様式第2-6号①'!E46<>"",'様式第2-6号①'!E46,"") -> テスト５ | T2: =IF(COUNTIF('データ整理_様式第2-6号①'!$S$2:'データ整理_様式第2-6号①'!$S2,"この線より上に行を挿入してください。")=0,'データ整理_様式第2-6号①'!$S2,"") | U2: =IF(COUNTIF('データ整理_様式第2-6号①'!$S$2:'データ整理_様式第2-6号①'!$S2,"この線より上に行を挿入してください。")=0,'データ整理_様式第2-6号①'!$T2,"") | V2: =IF(COUNTIF('データ整理_様式第2-6号①'!$S$2:'データ整理_様式第2-6号①'!$S2,"この線より上に行を挿入してください。")=0,'データ整理_様式第2-6号①'!$U2,"") -> 0 | W2: =IF(COUNTIF('データ整理_様式第2-6号①'!$S$2:'データ整理_様式第2-6号①'!$S2,"この線より上に行を挿入してください。")=0,'データ整理_様式第2-6号①'!$V2,"") -> 0 | X2: =IF(COUNTIF('データ整理_様式第2-6号①'!$S$2:'データ整理_様式第2-6号①'!$S2,"この線より上に行を挿入してください。")=0,'データ整理_様式第2-6号①'!$W2,"") -> 0 | Y2: =IF('様式第2-6号①'!C57<>"",'様式第2-6号①'!C57,"") | Z2: =IF('様式第2-6号①'!C59<>"",'様式第2-6号①'!C59,"") | AA2: =IF('様式第2-6号①'!C64<>"",'様式第2-6号①'!C64,"") | AB2: =IF('様式第2-6号①'!C67<>"",'様式第2-6号①'!C67,"") | AC2: =IF('様式第2-6号①'!C69<>"",'様式第2-6号①'!C69,"") | AD2: =IF('様式第2-6号①'!C71<>"",'様式第2-6号①'!C71,"") | AE2: =IF(COUNTIF('データ整理_様式第2-6号①'!$Y$2:'データ整理_様式第2-6号①'!$Y2,"この線より上に行を挿入してください。")=0,'データ整理_様式第2-6号①'!$Z2,"") -> 活動項目の追加 | AF2: =IF(COUNTIF('データ整理_様式第2-6号①'!$Y$2:'データ整理_様式第2-6号①'!$Y2,"この線より上に行を挿入してください。")=0,'データ整理_様式第2-6号①'!$AA2,"") | AG2: =IF(COUNTIF('データ整理_様式第2-6号①'!$Y$2:'データ整理_様式第2-6号①'!$Y2,"この線より上に行を挿入してください。")=0,'データ整理_様式第2-6号①'!$AB2,"") | AH2: =IF(COUNTIF('データ整理_様式第2-6号①'!$Y$2:'データ整理_様式第2-6号①'!$Y2,"この線より上に行を挿入してください。")=0,'データ整理_様式第2-6号①'!$AC2,"") | AI2: =IF(COUNTIF('データ整理_様式第2-6号①'!$Y$2:'データ整理_様式第2-6号①'!$Y2,"この線より上に行を挿入してください。")=0,'データ整理_様式第2-6号①'!$AD2,"") -> 取込無し | AJ2: =IF(COUNTIF('データ整理_様式第2-6号①'!$Y$2:'データ整理_様式第2-6号①'!$Y2,"この線より上に行を挿入してください。")=0,'データ整理_様式第2-6号①'!$AE2,"") | AK2: =IF(COUNTIF('データ整理_様式第2-6号①'!$Y$2:'データ整理_様式第2-6号①'!$Y2,"この線より上に行を挿入してください。")=0,'データ整理_様式第2-6号①'!$AF2,"") | AL2: =IF(COUNTIF('データ整理_様式第2-6号①'!$AH$2:'データ整理_様式第2-6号①'!$AH2,"この線より上に行を挿入してください。")=0,'データ整理_様式第2-6号①'!$AI2,"") -> テーマの追加 | AM2: =IF(COUNTIF('データ整理_様式第2-6号①'!$AH$2:'データ整理_様式第2-6号①'!$AH2,"この線より上に行を挿入してください。")=0,'データ整理_様式第2-6号①'!$AJ2,"") | AN2: =IF(COUNTIF('データ整理_様式第2-6号①'!$AH$2:'データ整理_様式第2-6号①'!$AH2,"この線より上に行を挿入してください。")=0,'データ整理_様式第2-6号①'!$AK2,"") | AO2: =IF(COUNTIF('データ整理_様式第2-6号①'!$AH$2:'データ整理_様式第2-6号①'!$AH2,"この線より上に行を挿入してください。")=0,'データ整理_様式第2-6号①'!$AL2,"") | AP2: =IF(COUNTIF('データ整理_様式第2-6号①'!$AH$2:'データ整理_様式第2-6号①'!$AH2,"この線より上に行を挿入してください。")=0,'データ整理_様式第2-6号①'!$AM2,"") -> 取込無し | AQ2: =IF(COUNTIF('データ整理_様式第2-6号①'!$AH$2:'データ整理_様式第2-6号①'!$AH2,"この線より上に行を挿入してください。")=0,'データ整理_様式第2-6号①'!$AN2,"") | AR2: =IF(COUNTIF('データ整理_様式第2-6号①'!$AH$2:'データ整理_様式第2-6号①'!$AH2,"この線より上に行を挿入してください。")=0,'データ整理_様式第2-6号①'!$AO2,"") | AS2: =IF(COUNTIF('データ整理_様式第2-6号①'!$AQ$2:'データ整理_様式第2-6号①'!$AQ2,"この線より上に行を挿入してください。")=0,'データ整理_様式第2-6号①'!$AR2,"") -> 活動項目の追加 | AT2: =IF(COUNTIF('データ整理_様式第2-6号①'!$AQ$2:'データ整理_様式第2-6号①'!$AQ2,"この線より上に行を挿入してください。")=0,'データ整理_様式第2-6号①'!$AS2,"") | AU2: =IF(COUNTIF('データ整理_様式第2-6号①'!$AQ$2:'データ整理_様式第2-6号①'!$AQ2,"この線より上に行を挿入してください。")=0,'データ整理_様式第2-6号①'!$AT2,"") | AV2: =IF(COUNTIF('データ整理_様式第2-6号①'!$AQ$2:'データ整理_様式第2-6号①'!$AQ2,"この線より上に行を挿入してください。")=0,'データ整理_様式第2-6号①'!$AU2,"") -> 取込無し | AW2: =IF(COUNTIF('データ整理_様式第2-6号①'!$AQ$2:'データ整理_様式第2-6号①'!$AQ2,"この線より上に行を挿入してください。")=0,'データ整理_様式第2-6号①'!$AV2,"") | AX2: =IF(COUNTIF('データ整理_様式第2-6号①'!$AQ$2:'データ整理_様式第2-6号①'!$AQ2,"この線より上に行を挿入してください。")=0,'データ整理_様式第2-6号①'!$AW2,"") | AY2: =IF('様式第2-6号①'!C103<>"",'様式第2-6号①'!C103,"") | AZ2: =IF('様式第2-6号①'!C106<>"",'様式第2-6号①'!C106,"") | BA2: =IF('様式第2-6号①'!C110<>"",'様式第2-6号①'!C110,"") | BB2: =IF(COUNTIF('データ整理_様式第2-6号①'!$AY$2:'データ整理_様式第2-6号①'!$AY2,"この線より上に行を挿入してください。")=0,'データ整理_様式第2-6号①'!$AY2,"") | BC2: =IF(COUNTIF('データ整理_様式第2-6号①'!$AY$2:'データ整理_様式第2-6号①'!$AY2,"この線より上に行を挿入してください。")=0,'データ整理_様式第2-6号①'!$AZ2,"") | BD2: =IF(COUNTIF('データ整理_様式第2-6号①'!$AY$2:'データ整理_様式第2-6号①'!$AY2,"この線より上に行を挿入してください。")=0,'データ整理_様式第2-6号①'!$BA2,"") -> 0 | BE2: =IF(COUNTIF('データ整理_様式第2-6号①'!$AY$2:'データ整理_様式第2-6号①'!$AY2,"この線より上に行を挿入してください。")=0,'データ整理_様式第2-6号①'!$BB2,"") -> 0 | BF2: =IF(COUNTIF('データ整理_様式第2-6号①'!$AY$2:'データ整理_様式第2-6号①'!$AY2,"この線より上に行を挿入してください。")=0,'データ整理_様式第2-6号①'!$BC2,"") -> 0 | BG2: =IF('様式第2-6号①'!C124<>"",'様式第2-6号①'!C124,"") | BH2: =IF('様式第2-6号①'!C126<>"",'様式第2-6号①'!C126,"") | BI2: =IF('様式第2-6号①'!C132<>"",'様式第2-6号①'!C132,"") | BJ2: =IF('様式第2-6号①'!C135<>"",'様式第2-6号①'!C135,"") | BK2: =IF('様式第2-6号①'!C137<>"",'様式第2-6号①'!C137,"") | BL2: =IF('様式第2-6号①'!C139<>"",'様式第2-6号①'!C139,"") | BM2: =IF('様式第2-6号①'!C141<>"",'様式第2-6号①'!C141,"") | BN2: =IF('様式第2-6号①'!C143<>"",'様式第2-6号①'!C143,"") | BO2: =IF(COUNTIF('データ整理_様式第2-6号①'!$BE$2:'データ整理_様式第2-6号①'!$BE2,"この線より上に行を挿入してください。")=0,'データ整理_様式第2-6号①'!$BF2,"") -> 活動項目の追加 | BP2: =IF(COUNTIF('データ整理_様式第2-6号①'!$BE$2:'データ整理_様式第2-6号①'!$BE2,"この線より上に行を挿入してください。")=0,'データ整理_様式第2-6号①'!$BG2,"") | BQ2: =IF(COUNTIF('データ整理_様式第2-6号①'!$BE$2:'データ整理_様式第2-6号①'!$BE2,"この線より上に行を挿入してください。")=0,'データ整理_様式第2-6号①'!$BH2,"") | BR2: =IF(COUNTIF('データ整理_様式第2-6号①'!$BE$2:'データ整理_様式第2-6号①'!$BE2,"この線より上に行を挿入してください。")=0,'データ整理_様式第2-6号①'!$BI2,"") | BS2: =IF(COUNTIF('データ整理_様式第2-6号①'!$BE$2:'データ整理_様式第2-6号①'!$BE2,"この線より上に行を挿入してください。")=0,'データ整理_様式第2-6号①'!$BJ2,"") -> 取込無し | BT2: =IF(COUNTIF('データ整理_様式第2-6号①'!$BE$2:'データ整理_様式第2-6号①'!$BE2,"この線より上に行を挿入してください。")=0,'データ整理_様式第2-6号①'!$BK2,"") | BU2: =IF(COUNTIF('データ整理_様式第2-6号①'!$BE$2:'データ整理_様式第2-6号①'!$BE2,"この線より上に行を挿入してください。")=0,'データ整理_様式第2-6号①'!$BL2,"") | BV2: =IF('様式第2-6号①'!C156<>"",'様式第2-6号①'!C156,"") | BW2: =IF('様式第2-6号①'!C159<>"",'様式第2-6号①'!C159,"") | BX2: =IF('様式第2-6号①'!C161<>"",'様式第2-6号①'!C161,"") | BY2: =IF('様式第2-6号①'!A164<>"",'様式第2-6号①'!A164,"") | BZ2: =IF('様式第2-6号①'!C169<>"",'様式第2-6号①'!C169,"") | CA2: =IF('様式第2-6号①'!C171<>"",'様式第2-6号①'!C171,"") | CB2: =IF('様式第2-6号①'!C173<>"",'様式第2-6号①'!C173,"")
E3: =IF(COUNTIF('データ整理_様式第2-6号①'!$B$2:'データ整理_様式第2-6号①'!$B3,"この線より上に行を挿入してください。")=0,'データ整理_様式第2-6号①'!$C3,"") | F3: =IF(COUNTIF('データ整理_様式第2-6号①'!$B$2:'データ整理_様式第2-6号①'!$B3,"この線より上に行を挿入してください。")=0,'データ整理_様式第2-6号①'!$D3,"") | G3: =IF(COUNTIF('データ整理_様式第2-6号①'!$B$2:'データ整理_様式第2-6号①'!$B3,"この線より上に行を挿入してください。")=0,'データ整理_様式第2-6号①'!$E3,"") | H3: =IF(COUNTIF('データ整理_様式第2-6号①'!$B$2:'データ整理_様式第2-6号①'!$B3,"この線より上に行を挿入してください。")=0,'データ整理_様式第2-6号①'!$F3,"") | J3: =IF(COUNTIF('データ整理_様式第2-6号①'!$B$2:'データ整理_様式第2-6号①'!$B3,"この線より上に行を挿入してください。")=0,'データ整理_様式第2-6号①'!$H3,"") | K3: =IF(COUNTIF('データ整理_様式第2-6号①'!$B$2:'データ整理_様式第2-6号①'!$B3,"この線より上に行を挿入してください。")=0,'データ整理_様式第2-6号①'!$I3,"") | L3: =IF(COUNTIF('データ整理_様式第2-6号①'!$K$2:'データ整理_様式第2-6号①'!$K3,"この線より上に行を挿入してください。")=0,'データ整理_様式第2-6号①'!$L3,"") | M3: =IF(COUNTIF('データ整理_様式第2-6号①'!$K$2:'データ整理_様式第2-6号①'!$K3,"この線より上に行を挿入してください。")=0,'データ整理_様式第2-6号①'!$M3,"") | N3: =IF(COUNTIF('データ整理_様式第2-6号①'!$K$2:'データ整理_様式第2-6号①'!$K3,"この線より上に行を挿入してください。")=0,'データ整理_様式第2-6号①'!$N3,"") | P3: =IF(COUNTIF('データ整理_様式第2-6号①'!$K$2:'データ整理_様式第2-6号①'!$K3,"この線より上に行を挿入してください。")=0,'データ整理_様式第2-6号①'!$P3,"") | Q3: =IF(COUNTIF('データ整理_様式第2-6号①'!$K$2:'データ整理_様式第2-6号①'!$K3,"この線より上に行を挿入してください。")=0,'データ整理_様式第2-6号①'!$Q3,"") | T3: =IF(COUNTIF('データ整理_様式第2-6号①'!$S$2:'データ整理_様式第2-6号①'!$S3,"この線より上に行を挿入してください。")=0,'データ整理_様式第2-6号①'!$S3,"") | U3: =IF(COUNTIF('データ整理_様式第2-6号①'!$S$2:'データ整理_様式第2-6号①'!$S3,"この線より上に行を挿入してください。")=0,'データ整理_様式第2-6号①'!$T3,"") | V3: =IF(COUNTIF('データ整理_様式第2-6号①'!$S$2:'データ整理_様式第2-6号①'!$S3,"この線より上に行を挿入してください。")=0,'データ整理_様式第2-6号①'!$U3,"") | W3: =IF(COUNTIF('データ整理_様式第2-6号①'!$S$2:'データ整理_様式第2-6号①'!$S3,"この線より上に行を挿入してください。")=0,'データ整理_様式第2-6号①'!$V3,"") | X3: =IF(COUNTIF('データ整理_様式第2-6号①'!$S$2:'データ整理_様式第2-6号①'!$S3,"この線より上に行を挿入してください。")=0,'データ整理_様式第2-6号①'!$W3,"") | AE3: =IF(COUNTIF('データ整理_様式第2-6号①'!$Y$2:'データ整理_様式第2-6号①'!$Y3,"この線より上に行を挿入してください。")=0,'データ整理_様式第2-6号①'!$Z3,"") | AF3: =IF(COUNTIF('データ整理_様式第2-6号①'!$Y$2:'データ整理_様式第2-6号①'!$Y3,"この線より上に行を挿入してください。")=0,'データ整理_様式第2-6号①'!$AA3,"") | AG3: =IF(COUNTIF('データ整理_様式第2-6号①'!$Y$2:'データ整理_様式第2-6号①'!$Y3,"この線より上に行を挿入してください。")=0,'データ整理_様式第2-6号①'!$AB3,"") | AH3: =IF(COUNTIF('データ整理_様式第2-6号①'!$Y$2:'データ整理_様式第2-6号①'!$Y3,"この線より上に行を挿入してください。")=0,'データ整理_様式第2-6号①'!$AC3,"") | AJ3: =IF(COUNTIF('データ整理_様式第2-6号①'!$Y$2:'データ整理_様式第2-6号①'!$Y3,"この線より上に行を挿入してください。")=0,'データ整理_様式第2-6号①'!$AE3,"") | AK3: =IF(COUNTIF('データ整理_様式第2-6号①'!$Y$2:'データ整理_様式第2-6号①'!$Y3,"この線より上に行を挿入してください。")=0,'データ整理_様式第2-6号①'!$AF3,"") | AL3: =IF(COUNTIF('データ整理_様式第2-6号①'!$AH$2:'データ整理_様式第2-6号①'!$AH3,"この線より上に行を挿入してください。")=0,'データ整理_様式第2-6号①'!$AI3,"") | AM3: =IF(COUNTIF('データ整理_様式第2-6号①'!$AH$2:'データ整理_様式第2-6号①'!$AH3,"この線より上に行を挿入してください。")=0,'データ整理_様式第2-6号①'!$AJ3,"") | AN3: =IF(COUNTIF('データ整理_様式第2-6号①'!$AH$2:'データ整理_様式第2-6号①'!$AH3,"この線より上に行を挿入してください。")=0,'データ整理_様式第2-6号①'!$AK3,"") | AO3: =IF(COUNTIF('データ整理_様式第2-6号①'!$AH$2:'データ整理_様式第2-6号①'!$AH3,"この線より上に行を挿入してください。")=0,'データ整理_様式第2-6号①'!$AL3,"") | AQ3: =IF(COUNTIF('データ整理_様式第2-6号①'!$AH$2:'データ整理_様式第2-6号①'!$AH3,"この線より上に行を挿入してください。")=0,'データ整理_様式第2-6号①'!$AN3,"") | AR3: =IF(COUNTIF('データ整理_様式第2-6号①'!$AH$2:'データ整理_様式第2-6号①'!$AH3,"この線より上に行を挿入してください。")=0,'データ整理_様式第2-6号①'!$AO3,"") | AS3: =IF(COUNTIF('データ整理_様式第2-6号①'!$AQ$2:'データ整理_様式第2-6号①'!$AQ3,"この線より上に行を挿入してください。")=0,'データ整理_様式第2-6号①'!$AR3,"") | AT3: =IF(COUNTIF('データ整理_様式第2-6号①'!$AQ$2:'データ整理_様式第2-6号①'!$AQ3,"この線より上に行を挿入してください。")=0,'データ整理_様式第2-6号①'!$AS3,"") | AU3: =IF(COUNTIF('データ整理_様式第2-6号①'!$AQ$2:'データ整理_様式第2-6号①'!$AQ3,"この線より上に行を挿入してください。")=0,'データ整理_様式第2-6号①'!$AT3,"") | AW3: =IF(COUNTIF('データ整理_様式第2-6号①'!$AQ$2:'データ整理_様式第2-6号①'!$AQ3,"この線より上に行を挿入してください。")=0,'データ整理_様式第2-6号①'!$AV3,"") | AX3: =IF(COUNTIF('データ整理_様式第2-6号①'!$AQ$2:'データ整理_様式第2-6号①'!$AQ3,"この線より上に行を挿入してください。")=0,'データ整理_様式第2-6号①'!$AW3,"") | BB3: =IF(COUNTIF('データ整理_様式第2-6号①'!$AY$2:'データ整理_様式第2-6号①'!$AY3,"この線より上に行を挿入してください。")=0,'データ整理_様式第2-6号①'!$AY3,"") | BC3: =IF(COUNTIF('データ整理_様式第2-6号①'!$AY$2:'データ整理_様式第2-6号①'!$AY3,"この線より上に行を挿入してください。")=0,'データ整理_様式第2-6号①'!$AZ3,"") | BD3: =IF(COUNTIF('データ整理_様式第2-6号①'!$AY$2:'データ整理_様式第2-6号①'!$AY3,"この線より上に行を挿入してください。")=0,'データ整理_様式第2-6号①'!$BA3,"") -> 0 | BE3: =IF(COUNTIF('データ整理_様式第2-6号①'!$AY$2:'データ整理_様式第2-6号①'!$AY3,"この線より上に行を挿入してください。")=0,'データ整理_様式第2-6号①'!$BB3,"") -> 0 | BF3: =IF(COUNTIF('データ整理_様式第2-6号①'!$AY$2:'データ整理_様式第2-6号①'!$AY3,"この線より上に行を挿入してください。")=0,'データ整理_様式第2-6号①'!$BC3,"") -> 0 | BO3: =IF(COUNTIF('データ整理_様式第2-6号①'!$BE$2:'データ整理_様式第2-6号①'!$BE3,"この線より上に行を挿入してください。")=0,'データ整理_様式第2-6号①'!$BF3,"") | BP3: =IF(COUNTIF('データ整理_様式第2-6号①'!$BE$2:'データ整理_様式第2-6号①'!$BE3,"この線より上に行を挿入してください。")=0,'データ整理_様式第2-6号①'!$BG3,"") | BQ3: =IF(COUNTIF('データ整理_様式第2-6号①'!$BE$2:'データ整理_様式第2-6号①'!$BE3,"この線より上に行を挿入してください。")=0,'データ整理_様式第2-6号①'!$BH3,"") | BR3: =IF(COUNTIF('データ整理_様式第2-6号①'!$BE$2:'データ整理_様式第2-6号①'!$BE3,"この線より上に行を挿入してください。")=0,'データ整理_様式第2-6号①'!$BI3,"") | BT3: =IF(COUNTIF('データ整理_様式第2-6号①'!$BE$2:'データ整理_様式第2-6号①'!$BE3,"この線より上に行を挿入してください。")=0,'データ整理_様式第2-6号①'!$BK3,"") | BU3: =IF(COUNTIF('データ整理_様式第2-6号①'!$BE$2:'データ整理_様式第2-6号①'!$BE3,"この線より上に行を挿入してください。")=0,'データ整理_様式第2-6号①'!$BL3,"")
E4: =IF(COUNTIF('データ整理_様式第2-6号①'!$B$2:'データ整理_様式第2-6号①'!$B4,"この線より上に行を挿入してください。")=0,'データ整理_様式第2-6号①'!$C4,"") | F4: =IF(COUNTIF('データ整理_様式第2-6号①'!$B$2:'データ整理_様式第2-6号①'!$B4,"この線より上に行を挿入してください。")=0,'データ整理_様式第2-6号①'!$D4,"") | G4: =IF(COUNTIF('データ整理_様式第2-6号①'!$B$2:'データ整理_様式第2-6号①'!$B4,"この線より上に行を挿入してください。")=0,'データ整理_様式第2-6号①'!$E4,"") | H4: =IF(COUNTIF('データ整理_様式第2-6号①'!$B$2:'データ整理_様式第2-6号①'!$B4,"この線より上に行を挿入してください。")=0,'データ整理_様式第2-6号①'!$F4,"") | J4: =IF(COUNTIF('データ整理_様式第2-6号①'!$B$2:'データ整理_様式第2-6号①'!$B4,"この線より上に行を挿入してください。")=0,'データ整理_様式第2-6号①'!$H4,"") | K4: =IF(COUNTIF('データ整理_様式第2-6号①'!$B$2:'データ整理_様式第2-6号①'!$B4,"この線より上に行を挿入してください。")=0,'データ整理_様式第2-6号①'!$I4,"") | L4: =IF(COUNTIF('データ整理_様式第2-6号①'!$K$2:'データ整理_様式第2-6号①'!$K4,"この線より上に行を挿入してください。")=0,'データ整理_様式第2-6号①'!$L4,"") | M4: =IF(COUNTIF('データ整理_様式第2-6号①'!$K$2:'データ整理_様式第2-6号①'!$K4,"この線より上に行を挿入してください。")=0,'データ整理_様式第2-6号①'!$M4,"") | N4: =IF(COUNTIF('データ整理_様式第2-6号①'!$K$2:'データ整理_様式第2-6号①'!$K4,"この線より上に行を挿入してください。")=0,'データ整理_様式第2-6号①'!$N4,"") | P4: =IF(COUNTIF('データ整理_様式第2-6号①'!$K$2:'データ整理_様式第2-6号①'!$K4,"この線より上に行を挿入してください。")=0,'データ整理_様式第2-6号①'!$P4,"") | Q4: =IF(COUNTIF('データ整理_様式第2-6号①'!$K$2:'データ整理_様式第2-6号①'!$K4,"この線より上に行を挿入してください。")=0,'データ整理_様式第2-6号①'!$Q4,"") | T4: =IF(COUNTIF('データ整理_様式第2-6号①'!$S$2:'データ整理_様式第2-6号①'!$S4,"この線より上に行を挿入してください。")=0,'データ整理_様式第2-6号①'!$S4,"") | U4: =IF(COUNTIF('データ整理_様式第2-6号①'!$S$2:'データ整理_様式第2-6号①'!$S4,"この線より上に行を挿入してください。")=0,'データ整理_様式第2-6号①'!$T4,"") | V4: =IF(COUNTIF('データ整理_様式第2-6号①'!$S$2:'データ整理_様式第2-6号①'!$S4,"この線より上に行を挿入してください。")=0,'データ整理_様式第2-6号①'!$U4,"") | W4: =IF(COUNTIF('データ整理_様式第2-6号①'!$S$2:'データ整理_様式第2-6号①'!$S4,"この線より上に行を挿入してください。")=0,'データ整理_様式第2-6号①'!$V4,"") | X4: =IF(COUNTIF('データ整理_様式第2-6号①'!$S$2:'データ整理_様式第2-6号①'!$S4,"この線より上に行を挿入してください。")=0,'データ整理_様式第2-6号①'!$W4,"") | AE4: =IF(COUNTIF('データ整理_様式第2-6号①'!$Y$2:'データ整理_様式第2-6号①'!$Y4,"この線より上に行を挿入してください。")=0,'データ整理_様式第2-6号①'!$Z4,"") | AF4: =IF(COUNTIF('データ整理_様式第2-6号①'!$Y$2:'データ整理_様式第2-6号①'!$Y4,"この線より上に行を挿入してください。")=0,'データ整理_様式第2-6号①'!$AA4,"") | AG4: =IF(COUNTIF('データ整理_様式第2-6号①'!$Y$2:'データ整理_様式第2-6号①'!$Y4,"この線より上に行を挿入してください。")=0,'データ整理_様式第2-6号①'!$AB4,"") | AH4: =IF(COUNTIF('データ整理_様式第2-6号①'!$Y$2:'データ整理_様式第2-6号①'!$Y4,"この線より上に行を挿入してください。")=0,'データ整理_様式第2-6号①'!$AC4,"") | AJ4: =IF(COUNTIF('データ整理_様式第2-6号①'!$Y$2:'データ整理_様式第2-6号①'!$Y4,"この線より上に行を挿入してください。")=0,'データ整理_様式第2-6号①'!$AE4,"") | AK4: =IF(COUNTIF('データ整理_様式第2-6号①'!$Y$2:'データ整理_様式第2-6号①'!$Y4,"この線より上に行を挿入してください。")=0,'データ整理_様式第2-6号①'!$AF4,"") | AL4: =IF(COUNTIF('データ整理_様式第2-6号①'!$AH$2:'データ整理_様式第2-6号①'!$AH4,"この線より上に行を挿入してください。")=0,'データ整理_様式第2-6号①'!$AI4,"") | AM4: =IF(COUNTIF('データ整理_様式第2-6号①'!$AH$2:'データ整理_様式第2-6号①'!$AH4,"この線より上に行を挿入してください。")=0,'データ整理_様式第2-6号①'!$AJ4,"") | AN4: =IF(COUNTIF('データ整理_様式第2-6号①'!$AH$2:'データ整理_様式第2-6号①'!$AH4,"この線より上に行を挿入してください。")=0,'データ整理_様式第2-6号①'!$AK4,"") | AO4: =IF(COUNTIF('データ整理_様式第2-6号①'!$AH$2:'データ整理_様式第2-6号①'!$AH4,"この線より上に行を挿入してください。")=0,'データ整理_様式第2-6号①'!$AL4,"") | AQ4: =IF(COUNTIF('データ整理_様式第2-6号①'!$AH$2:'データ整理_様式第2-6号①'!$AH4,"この線より上に行を挿入してください。")=0,'データ整理_様式第2-6号①'!$AN4,"") | AR4: =IF(COUNTIF('データ整理_様式第2-6号①'!$AH$2:'データ整理_様式第2-6号①'!$AH4,"この線より上に行を挿入してください。")=0,'データ整理_様式第2-6号①'!$AO4,"") | AS4: =IF(COUNTIF('データ整理_様式第2-6号①'!$AQ$2:'データ整理_様式第2-6号①'!$AQ4,"この線より上に行を挿入してください。")=0,'データ整理_様式第2-6号①'!$AR4,"") | AT4: =IF(COUNTIF('データ整理_様式第2-6号①'!$AQ$2:'データ整理_様式第2-6号①'!$AQ4,"この線より上に行を挿入してください。")=0,'データ整理_様式第2-6号①'!$AS4,"") | AU4: =IF(COUNTIF('データ整理_様式第2-6号①'!$AQ$2:'データ整理_様式第2-6号①'!$AQ4,"この線より上に行を挿入してください。")=0,'データ整理_様式第2-6号①'!$AT4,"") | AW4: =IF(COUNTIF('データ整理_様式第2-6号①'!$AQ$2:'データ整理_様式第2-6号①'!$AQ4,"この線より上に行を挿入してください。")=0,'データ整理_様式第2-6号①'!$AV4,"") | AX4: =IF(COUNTIF('データ整理_様式第2-6号①'!$AQ$2:'データ整理_様式第2-6号①'!$AQ4,"この線より上に行を挿入してください。")=0,'データ整理_様式第2-6号①'!$AW4,"") | BB4: =IF(COUNTIF('データ整理_様式第2-6号①'!$AY$2:'データ整理_様式第2-6号①'!$AY4,"この線より上に行を挿入してください。")=0,'データ整理_様式第2-6号①'!$AY4,"") | BC4: =IF(COUNTIF('データ整理_様式第2-6号①'!$AY$2:'データ整理_様式第2-6号①'!$AY4,"この線より上に行を挿入してください。")=0,'データ整理_様式第2-6号①'!$AZ4,"") | BD4: =IF(COUNTIF('データ整理_様式第2-6号①'!$AY$2:'データ整理_様式第2-6号①'!$AY4,"この線より上に行を挿入してください。")=0,'データ整理_様式第2-6号①'!$BA4,"") | BE4: =IF(COUNTIF('データ整理_様式第2-6号①'!$AY$2:'データ整理_様式第2-6号①'!$AY4,"この線より上に行を挿入してください。")=0,'データ整理_様式第2-6号①'!$BB4,"") | BF4: =IF(COUNTIF('データ整理_様式第2-6号①'!$AY$2:'データ整理_様式第2-6号①'!$AY4,"この線より上に行を挿入してください。")=0,'データ整理_様式第2-6号①'!$BC4,"") | BO4: =IF(COUNTIF('データ整理_様式第2-6号①'!$BE$2:'データ整理_様式第2-6号①'!$BE4,"この線より上に行を挿入してください。")=0,'データ整理_様式第2-6号①'!$BF4,"") | BP4: =IF(COUNTIF('データ整理_様式第2-6号①'!$BE$2:'データ整理_様式第2-6号①'!$BE4,"この線より上に行を挿入してください。")=0,'データ整理_様式第2-6号①'!$BG4,"") | BQ4: =IF(COUNTIF('データ整理_様式第2-6号①'!$BE$2:'データ整理_様式第2-6号①'!$BE4,"この線より上に行を挿入してください。")=0,'データ整理_様式第2-6号①'!$BH4,"") | BR4: =IF(COUNTIF('データ整理_様式第2-6号①'!$BE$2:'データ整理_様式第2-6号①'!$BE4,"この線より上に行を挿入してください。")=0,'データ整理_様式第2-6号①'!$BI4,"") | BT4: =IF(COUNTIF('データ整理_様式第2-6号①'!$BE$2:'データ整理_様式第2-6号①'!$BE4,"この線より上に行を挿入してください。")=0,'データ整理_様式第2-6号①'!$BK4,"") | BU4: =IF(COUNTIF('データ整理_様式第2-6号①'!$BE$2:'データ整理_様式第2-6号①'!$BE4,"この線より上に行を挿入してください。")=0,'データ整理_様式第2-6号①'!$BL4,"")
E5: =IF(COUNTIF('データ整理_様式第2-6号①'!$B$2:'データ整理_様式第2-6号①'!$B5,"この線より上に行を挿入してください。")=0,'データ整理_様式第2-6号①'!$C5,"") | F5: =IF(COUNTIF('データ整理_様式第2-6号①'!$B$2:'データ整理_様式第2-6号①'!$B5,"この線より上に行を挿入してください。")=0,'データ整理_様式第2-6号①'!$D5,"") | G5: =IF(COUNTIF('データ整理_様式第2-6号①'!$B$2:'データ整理_様式第2-6号①'!$B5,"この線より上に行を挿入してください。")=0,'データ整理_様式第2-6号①'!$E5,"") | H5: =IF(COUNTIF('データ整理_様式第2-6号①'!$B$2:'データ整理_様式第2-6号①'!$B5,"この線より上に行を挿入してください。")=0,'データ整理_様式第2-6号①'!$F5,"") | J5: =IF(COUNTIF('データ整理_様式第2-6号①'!$B$2:'データ整理_様式第2-6号①'!$B5,"この線より上に行を挿入してください。")=0,'データ整理_様式第2-6号①'!$H5,"") | K5: =IF(COUNTIF('データ整理_様式第2-6号①'!$B$2:'データ整理_様式第2-6号①'!$B5,"この線より上に行を挿入してください。")=0,'データ整理_様式第2-6号①'!$I5,"") | L5: =IF(COUNTIF('データ整理_様式第2-6号①'!$K$2:'データ整理_様式第2-6号①'!$K5,"この線より上に行を挿入してください。")=0,'データ整理_様式第2-6号①'!$L5,"") | M5: =IF(COUNTIF('データ整理_様式第2-6号①'!$K$2:'データ整理_様式第2-6号①'!$K5,"この線より上に行を挿入してください。")=0,'データ整理_様式第2-6号①'!$M5,"") | N5: =IF(COUNTIF('データ整理_様式第2-6号①'!$K$2:'データ整理_様式第2-6号①'!$K5,"この線より上に行を挿入してください。")=0,'データ整理_様式第2-6号①'!$N5,"") | P5: =IF(COUNTIF('データ整理_様式第2-6号①'!$K$2:'データ整理_様式第2-6号①'!$K5,"この線より上に行を挿入してください。")=0,'データ整理_様式第2-6号①'!$P5,"") | Q5: =IF(COUNTIF('データ整理_様式第2-6号①'!$K$2:'データ整理_様式第2-6号①'!$K5,"この線より上に行を挿入してください。")=0,'データ整理_様式第2-6号①'!$Q5,"") | T5: =IF(COUNTIF('データ整理_様式第2-6号①'!$S$2:'データ整理_様式第2-6号①'!$S5,"この線より上に行を挿入してください。")=0,'データ整理_様式第2-6号①'!$S5,"") | U5: =IF(COUNTIF('データ整理_様式第2-6号①'!$S$2:'データ整理_様式第2-6号①'!$S5,"この線より上に行を挿入してください。")=0,'データ整理_様式第2-6号①'!$T5,"") | V5: =IF(COUNTIF('データ整理_様式第2-6号①'!$S$2:'データ整理_様式第2-6号①'!$S5,"この線より上に行を挿入してください。")=0,'データ整理_様式第2-6号①'!$U5,"") | W5: =IF(COUNTIF('データ整理_様式第2-6号①'!$S$2:'データ整理_様式第2-6号①'!$S5,"この線より上に行を挿入してください。")=0,'データ整理_様式第2-6号①'!$V5,"") | X5: =IF(COUNTIF('データ整理_様式第2-6号①'!$S$2:'データ整理_様式第2-6号①'!$S5,"この線より上に行を挿入してください。")=0,'データ整理_様式第2-6号①'!$W5,"") | AE5: =IF(COUNTIF('データ整理_様式第2-6号①'!$Y$2:'データ整理_様式第2-6号①'!$Y5,"この線より上に行を挿入してください。")=0,'データ整理_様式第2-6号①'!$Z5,"") | AF5: =IF(COUNTIF('データ整理_様式第2-6号①'!$Y$2:'データ整理_様式第2-6号①'!$Y5,"この線より上に行を挿入してください。")=0,'データ整理_様式第2-6号①'!$AA5,"") | AG5: =IF(COUNTIF('データ整理_様式第2-6号①'!$Y$2:'データ整理_様式第2-6号①'!$Y5,"この線より上に行を挿入してください。")=0,'データ整理_様式第2-6号①'!$AB5,"") | AH5: =IF(COUNTIF('データ整理_様式第2-6号①'!$Y$2:'データ整理_様式第2-6号①'!$Y5,"この線より上に行を挿入してください。")=0,'データ整理_様式第2-6号①'!$AC5,"") | AJ5: =IF(COUNTIF('データ整理_様式第2-6号①'!$Y$2:'データ整理_様式第2-6号①'!$Y5,"この線より上に行を挿入してください。")=0,'データ整理_様式第2-6号①'!$AE5,"") | AK5: =IF(COUNTIF('データ整理_様式第2-6号①'!$Y$2:'データ整理_様式第2-6号①'!$Y5,"この線より上に行を挿入してください。")=0,'データ整理_様式第2-6号①'!$AF5,"") | AL5: =IF(COUNTIF('データ整理_様式第2-6号①'!$AH$2:'データ整理_様式第2-6号①'!$AH5,"この線より上に行を挿入してください。")=0,'データ整理_様式第2-6号①'!$AI5,"") | AM5: =IF(COUNTIF('データ整理_様式第2-6号①'!$AH$2:'データ整理_様式第2-6号①'!$AH5,"この線より上に行を挿入してください。")=0,'データ整理_様式第2-6号①'!$AJ5,"") | AN5: =IF(COUNTIF('データ整理_様式第2-6号①'!$AH$2:'データ整理_様式第2-6号①'!$AH5,"この線より上に行を挿入してください。")=0,'データ整理_様式第2-6号①'!$AK5,"") | AO5: =IF(COUNTIF('データ整理_様式第2-6号①'!$AH$2:'データ整理_様式第2-6号①'!$AH5,"この線より上に行を挿入してください。")=0,'データ整理_様式第2-6号①'!$AL5,"") | AQ5: =IF(COUNTIF('データ整理_様式第2-6号①'!$AH$2:'データ整理_様式第2-6号①'!$AH5,"この線より上に行を挿入してください。")=0,'データ整理_様式第2-6号①'!$AN5,"") | AR5: =IF(COUNTIF('データ整理_様式第2-6号①'!$AH$2:'データ整理_様式第2-6号①'!$AH5,"この線より上に行を挿入してください。")=0,'データ整理_様式第2-6号①'!$AO5,"") | AS5: =IF(COUNTIF('データ整理_様式第2-6号①'!$AQ$2:'データ整理_様式第2-6号①'!$AQ5,"この線より上に行を挿入してください。")=0,'データ整理_様式第2-6号①'!$AR5,"") | AT5: =IF(COUNTIF('データ整理_様式第2-6号①'!$AQ$2:'データ整理_様式第2-6号①'!$AQ5,"この線より上に行を挿入してください。")=0,'データ整理_様式第2-6号①'!$AS5,"") | AU5: =IF(COUNTIF('データ整理_様式第2-6号①'!$AQ$2:'データ整理_様式第2-6号①'!$AQ5,"この線より上に行を挿入してください。")=0,'データ整理_様式第2-6号①'!$AT5,"") | AW5: =IF(COUNTIF('データ整理_様式第2-6号①'!$AQ$2:'データ整理_様式第2-6号①'!$AQ5,"この線より上に行を挿入してください。")=0,'データ整理_様式第2-6号①'!$AV5,"") | AX5: =IF(COUNTIF('データ整理_様式第2-6号①'!$AQ$2:'データ整理_様式第2-6号①'!$AQ5,"この線より上に行を挿入してください。")=0,'データ整理_様式第2-6号①'!$AW5,"") | BB5: =IF(COUNTIF('データ整理_様式第2-6号①'!$AY$2:'データ整理_様式第2-6号①'!$AY5,"この線より上に行を挿入してください。")=0,'データ整理_様式第2-6号①'!$AY5,"") | BC5: =IF(COUNTIF('データ整理_様式第2-6号①'!$AY$2:'データ整理_様式第2-6号①'!$AY5,"この線より上に行を挿入してください。")=0,'データ整理_様式第2-6号①'!$AZ5,"") | BD5: =IF(COUNTIF('データ整理_様式第2-6号①'!$AY$2:'データ整理_様式第2-6号①'!$AY5,"この線より上に行を挿入してください。")=0,'データ整理_様式第2-6号①'!$BA5,"") | BE5: =IF(COUNTIF('データ整理_様式第2-6号①'!$AY$2:'データ整理_様式第2-6号①'!$AY5,"この線より上に行を挿入してください。")=0,'データ整理_様式第2-6号①'!$BB5,"") | BF5: =IF(COUNTIF('データ整理_様式第2-6号①'!$AY$2:'データ整理_様式第2-6号①'!$AY5,"この線より上に行を挿入してください。")=0,'データ整理_様式第2-6号①'!$BC5,"") | BO5: =IF(COUNTIF('データ整理_様式第2-6号①'!$BE$2:'データ整理_様式第2-6号①'!$BE5,"この線より上に行を挿入してください。")=0,'データ整理_様式第2-6号①'!$BF5,"") | BP5: =IF(COUNTIF('データ整理_様式第2-6号①'!$BE$2:'データ整理_様式第2-6号①'!$BE5,"この線より上に行を挿入してください。")=0,'データ整理_様式第2-6号①'!$BG5,"") | BQ5: =IF(COUNTIF('データ整理_様式第2-6号①'!$BE$2:'データ整理_様式第2-6号①'!$BE5,"この線より上に行を挿入してください。")=0,'データ整理_様式第2-6号①'!$BH5,"") | BR5: =IF(COUNTIF('データ整理_様式第2-6号①'!$BE$2:'データ整理_様式第2-6号①'!$BE5,"この線より上に行を挿入してください。")=0,'データ整理_様式第2-6号①'!$BI5,"") | BT5: =IF(COUNTIF('データ整理_様式第2-6号①'!$BE$2:'データ整理_様式第2-6号①'!$BE5,"この線より上に行を挿入してください。")=0,'データ整理_様式第2-6号①'!$BK5,"") | BU5: =IF(COUNTIF('データ整理_様式第2-6号①'!$BE$2:'データ整理_様式第2-6号①'!$BE5,"この線より上に行を挿入してください。")=0,'データ整理_様式第2-6号①'!$BL5,"")
E6: =IF(COUNTIF('データ整理_様式第2-6号①'!$B$2:'データ整理_様式第2-6号①'!$B6,"この線より上に行を挿入してください。")=0,'データ整理_様式第2-6号①'!$C6,"") | F6: =IF(COUNTIF('データ整理_様式第2-6号①'!$B$2:'データ整理_様式第2-6号①'!$B6,"この線より上に行を挿入してください。")=0,'データ整理_様式第2-6号①'!$D6,"") | G6: =IF(COUNTIF('データ整理_様式第2-6号①'!$B$2:'データ整理_様式第2-6号①'!$B6,"この線より上に行を挿入してください。")=0,'データ整理_様式第2-6号①'!$E6,"") | H6: =IF(COUNTIF('データ整理_様式第2-6号①'!$B$2:'データ整理_様式第2-6号①'!$B6,"この線より上に行を挿入してください。")=0,'データ整理_様式第2-6号①'!$F6,"") | J6: =IF(COUNTIF('データ整理_様式第2-6号①'!$B$2:'データ整理_様式第2-6号①'!$B6,"この線より上に行を挿入してください。")=0,'データ整理_様式第2-6号①'!$H6,"") | K6: =IF(COUNTIF('データ整理_様式第2-6号①'!$B$2:'データ整理_様式第2-6号①'!$B6,"この線より上に行を挿入してください。")=0,'データ整理_様式第2-6号①'!$I6,"") | L6: =IF(COUNTIF('データ整理_様式第2-6号①'!$K$2:'データ整理_様式第2-6号①'!$K6,"この線より上に行を挿入してください。")=0,'データ整理_様式第2-6号①'!$L6,"") | M6: =IF(COUNTIF('データ整理_様式第2-6号①'!$K$2:'データ整理_様式第2-6号①'!$K6,"この線より上に行を挿入してください。")=0,'データ整理_様式第2-6号①'!$M6,"") | N6: =IF(COUNTIF('データ整理_様式第2-6号①'!$K$2:'データ整理_様式第2-6号①'!$K6,"この線より上に行を挿入してください。")=0,'データ整理_様式第2-6号①'!$N6,"") | P6: =IF(COUNTIF('データ整理_様式第2-6号①'!$K$2:'データ整理_様式第2-6号①'!$K6,"この線より上に行を挿入してください。")=0,'データ整理_様式第2-6号①'!$P6,"") | Q6: =IF(COUNTIF('データ整理_様式第2-6号①'!$K$2:'データ整理_様式第2-6号①'!$K6,"この線より上に行を挿入してください。")=0,'データ整理_様式第2-6号①'!$Q6,"") | T6: =IF(COUNTIF('データ整理_様式第2-6号①'!$S$2:'データ整理_様式第2-6号①'!$S6,"この線より上に行を挿入してください。")=0,'データ整理_様式第2-6号①'!$S6,"") | U6: =IF(COUNTIF('データ整理_様式第2-6号①'!$S$2:'データ整理_様式第2-6号①'!$S6,"この線より上に行を挿入してください。")=0,'データ整理_様式第2-6号①'!$T6,"") | V6: =IF(COUNTIF('データ整理_様式第2-6号①'!$S$2:'データ整理_様式第2-6号①'!$S6,"この線より上に行を挿入してください。")=0,'データ整理_様式第2-6号①'!$U6,"") | W6: =IF(COUNTIF('データ整理_様式第2-6号①'!$S$2:'データ整理_様式第2-6号①'!$S6,"この線より上に行を挿入してください。")=0,'データ整理_様式第2-6号①'!$V6,"") | X6: =IF(COUNTIF('データ整理_様式第2-6号①'!$S$2:'データ整理_様式第2-6号①'!$S6,"この線より上に行を挿入してください。")=0,'データ整理_様式第2-6号①'!$W6,"") | AE6: =IF(COUNTIF('データ整理_様式第2-6号①'!$Y$2:'データ整理_様式第2-6号①'!$Y6,"この線より上に行を挿入してください。")=0,'データ整理_様式第2-6号①'!$Z6,"") | AF6: =IF(COUNTIF('データ整理_様式第2-6号①'!$Y$2:'データ整理_様式第2-6号①'!$Y6,"この線より上に行を挿入してください。")=0,'データ整理_様式第2-6号①'!$AA6,"") | AG6: =IF(COUNTIF('データ整理_様式第2-6号①'!$Y$2:'データ整理_様式第2-6号①'!$Y6,"この線より上に行を挿入してください。")=0,'データ整理_様式第2-6号①'!$AB6,"") | AH6: =IF(COUNTIF('データ整理_様式第2-6号①'!$Y$2:'データ整理_様式第2-6号①'!$Y6,"この線より上に行を挿入してください。")=0,'データ整理_様式第2-6号①'!$AC6,"") | AJ6: =IF(COUNTIF('データ整理_様式第2-6号①'!$Y$2:'データ整理_様式第2-6号①'!$Y6,"この線より上に行を挿入してください。")=0,'データ整理_様式第2-6号①'!$AE6,"") | AK6: =IF(COUNTIF('データ整理_様式第2-6号①'!$Y$2:'データ整理_様式第2-6号①'!$Y6,"この線より上に行を挿入してください。")=0,'データ整理_様式第2-6号①'!$AF6,"") | AL6: =IF(COUNTIF('データ整理_様式第2-6号①'!$AH$2:'データ整理_様式第2-6号①'!$AH6,"この線より上に行を挿入してください。")=0,'データ整理_様式第2-6号①'!$AI6,"") | AM6: =IF(COUNTIF('データ整理_様式第2-6号①'!$AH$2:'データ整理_様式第2-6号①'!$AH6,"この線より上に行を挿入してください。")=0,'データ整理_様式第2-6号①'!$AJ6,"") | AN6: =IF(COUNTIF('データ整理_様式第2-6号①'!$AH$2:'データ整理_様式第2-6号①'!$AH6,"この線より上に行を挿入してください。")=0,'データ整理_様式第2-6号①'!$AK6,"") | AO6: =IF(COUNTIF('データ整理_様式第2-6号①'!$AH$2:'データ整理_様式第2-6号①'!$AH6,"この線より上に行を挿入してください。")=0,'データ整理_様式第2-6号①'!$AL6,"") | AQ6: =IF(COUNTIF('データ整理_様式第2-6号①'!$AH$2:'データ整理_様式第2-6号①'!$AH6,"この線より上に行を挿入してください。")=0,'データ整理_様式第2-6号①'!$AN6,"") | AR6: =IF(COUNTIF('データ整理_様式第2-6号①'!$AH$2:'データ整理_様式第2-6号①'!$AH6,"この線より上に行を挿入してください。")=0,'データ整理_様式第2-6号①'!$AO6,"") | AS6: =IF(COUNTIF('データ整理_様式第2-6号①'!$AQ$2:'データ整理_様式第2-6号①'!$AQ6,"この線より上に行を挿入してください。")=0,'データ整理_様式第2-6号①'!$AR6,"") | AT6: =IF(COUNTIF('データ整理_様式第2-6号①'!$AQ$2:'データ整理_様式第2-6号①'!$AQ6,"この線より上に行を挿入してください。")=0,'データ整理_様式第2-6号①'!$AS6,"") | AU6: =IF(COUNTIF('データ整理_様式第2-6号①'!$AQ$2:'データ整理_様式第2-6号①'!$AQ6,"この線より上に行を挿入してください。")=0,'データ整理_様式第2-6号①'!$AT6,"") | AW6: =IF(COUNTIF('データ整理_様式第2-6号①'!$AQ$2:'データ整理_様式第2-6号①'!$AQ6,"この線より上に行を挿入してください。")=0,'データ整理_様式第2-6号①'!$AV6,"") | AX6: =IF(COUNTIF('データ整理_様式第2-6号①'!$AQ$2:'データ整理_様式第2-6号①'!$AQ6,"この線より上に行を挿入してください。")=0,'データ整理_様式第2-6号①'!$AW6,"") | BB6: =IF(COUNTIF('データ整理_様式第2-6号①'!$AY$2:'データ整理_様式第2-6号①'!$AY6,"この線より上に行を挿入してください。")=0,'データ整理_様式第2-6号①'!$AY6,"") | BC6: =IF(COUNTIF('データ整理_様式第2-6号①'!$AY$2:'データ整理_様式第2-6号①'!$AY6,"この線より上に行を挿入してください。")=0,'データ整理_様式第2-6号①'!$AZ6,"") | BD6: =IF(COUNTIF('データ整理_様式第2-6号①'!$AY$2:'データ整理_様式第2-6号①'!$AY6,"この線より上に行を挿入してください。")=0,'データ整理_様式第2-6号①'!$BA6,"") | BE6: =IF(COUNTIF('データ整理_様式第2-6号①'!$AY$2:'データ整理_様式第2-6号①'!$AY6,"この線より上に行を挿入してください。")=0,'データ整理_様式第2-6号①'!$BB6,"") | BF6: =IF(COUNTIF('データ整理_様式第2-6号①'!$AY$2:'データ整理_様式第2-6号①'!$AY6,"この線より上に行を挿入してください。")=0,'データ整理_様式第2-6号①'!$BC6,"") | BO6: =IF(COUNTIF('データ整理_様式第2-6号①'!$BE$2:'データ整理_様式第2-6号①'!$BE6,"この線より上に行を挿入してください。")=0,'データ整理_様式第2-6号①'!$BF6,"") | BP6: =IF(COUNTIF('データ整理_様式第2-6号①'!$BE$2:'データ整理_様式第2-6号①'!$BE6,"この線より上に行を挿入してください。")=0,'データ整理_様式第2-6号①'!$BG6,"") | BQ6: =IF(COUNTIF('データ整理_様式第2-6号①'!$BE$2:'データ整理_様式第2-6号①'!$BE6,"この線より上に行を挿入してください。")=0,'データ整理_様式第2-6号①'!$BH6,"") | BR6: =IF(COUNTIF('データ整理_様式第2-6号①'!$BE$2:'データ整理_様式第2-6号①'!$BE6,"この線より上に行を挿入してください。")=0,'データ整理_様式第2-6号①'!$BI6,"") | BT6: =IF(COUNTIF('データ整理_様式第2-6号①'!$BE$2:'データ整理_様式第2-6号①'!$BE6,"この線より上に行を挿入してください。")=0,'データ整理_様式第2-6号①'!$BK6,"") | BU6: =IF(COUNTIF('データ整理_様式第2-6号①'!$BE$2:'データ整理_様式第2-6号①'!$BE6,"この線より上に行を挿入してください。")=0,'データ整理_様式第2-6号①'!$BL6,"")
E7: =IF(COUNTIF('データ整理_様式第2-6号①'!$B$2:'データ整理_様式第2-6号①'!$B7,"この線より上に行を挿入してください。")=0,'データ整理_様式第2-6号①'!$C7,"") | F7: =IF(COUNTIF('データ整理_様式第2-6号①'!$B$2:'データ整理_様式第2-6号①'!$B7,"この線より上に行を挿入してください。")=0,'データ整理_様式第2-6号①'!$D7,"") | G7: =IF(COUNTIF('データ整理_様式第2-6号①'!$B$2:'データ整理_様式第2-6号①'!$B7,"この線より上に行を挿入してください。")=0,'データ整理_様式第2-6号①'!$E7,"") | H7: =IF(COUNTIF('データ整理_様式第2-6号①'!$B$2:'データ整理_様式第2-6号①'!$B7,"この線より上に行を挿入してください。")=0,'データ整理_様式第2-6号①'!$F7,"") | J7: =IF(COUNTIF('データ整理_様式第2-6号①'!$B$2:'データ整理_様式第2-6号①'!$B7,"この線より上に行を挿入してください。")=0,'データ整理_様式第2-6号①'!$H7,"") | K7: =IF(COUNTIF('データ整理_様式第2-6号①'!$B$2:'データ整理_様式第2-6号①'!$B7,"この線より上に行を挿入してください。")=0,'データ整理_様式第2-6号①'!$I7,"") | L7: =IF(COUNTIF('データ整理_様式第2-6号①'!$K$2:'データ整理_様式第2-6号①'!$K7,"この線より上に行を挿入してください。")=0,'データ整理_様式第2-6号①'!$L7,"") | M7: =IF(COUNTIF('データ整理_様式第2-6号①'!$K$2:'データ整理_様式第2-6号①'!$K7,"この線より上に行を挿入してください。")=0,'データ整理_様式第2-6号①'!$M7,"") | N7: =IF(COUNTIF('データ整理_様式第2-6号①'!$K$2:'データ整理_様式第2-6号①'!$K7,"この線より上に行を挿入してください。")=0,'データ整理_様式第2-6号①'!$N7,"") | P7: =IF(COUNTIF('データ整理_様式第2-6号①'!$K$2:'データ整理_様式第2-6号①'!$K7,"この線より上に行を挿入してください。")=0,'データ整理_様式第2-6号①'!$P7,"") | Q7: =IF(COUNTIF('データ整理_様式第2-6号①'!$K$2:'データ整理_様式第2-6号①'!$K7,"この線より上に行を挿入してください。")=0,'データ整理_様式第2-6号①'!$Q7,"") | T7: =IF(COUNTIF('データ整理_様式第2-6号①'!$S$2:'データ整理_様式第2-6号①'!$S7,"この線より上に行を挿入してください。")=0,'データ整理_様式第2-6号①'!$S7,"") | U7: =IF(COUNTIF('データ整理_様式第2-6号①'!$S$2:'データ整理_様式第2-6号①'!$S7,"この線より上に行を挿入してください。")=0,'データ整理_様式第2-6号①'!$T7,"") | V7: =IF(COUNTIF('データ整理_様式第2-6号①'!$S$2:'データ整理_様式第2-6号①'!$S7,"この線より上に行を挿入してください。")=0,'データ整理_様式第2-6号①'!$U7,"") | W7: =IF(COUNTIF('データ整理_様式第2-6号①'!$S$2:'データ整理_様式第2-6号①'!$S7,"この線より上に行を挿入してください。")=0,'データ整理_様式第2-6号①'!$V7,"") | X7: =IF(COUNTIF('データ整理_様式第2-6号①'!$S$2:'データ整理_様式第2-6号①'!$S7,"この線より上に行を挿入してください。")=0,'データ整理_様式第2-6号①'!$W7,"") | AE7: =IF(COUNTIF('データ整理_様式第2-6号①'!$Y$2:'データ整理_様式第2-6号①'!$Y7,"この線より上に行を挿入してください。")=0,'データ整理_様式第2-6号①'!$Z7,"") | AF7: =IF(COUNTIF('データ整理_様式第2-6号①'!$Y$2:'データ整理_様式第2-6号①'!$Y7,"この線より上に行を挿入してください。")=0,'データ整理_様式第2-6号①'!$AA7,"") | AG7: =IF(COUNTIF('データ整理_様式第2-6号①'!$Y$2:'データ整理_様式第2-6号①'!$Y7,"この線より上に行を挿入してください。")=0,'データ整理_様式第2-6号①'!$AB7,"") | AH7: =IF(COUNTIF('データ整理_様式第2-6号①'!$Y$2:'データ整理_様式第2-6号①'!$Y7,"この線より上に行を挿入してください。")=0,'データ整理_様式第2-6号①'!$AC7,"") | AJ7: =IF(COUNTIF('データ整理_様式第2-6号①'!$Y$2:'データ整理_様式第2-6号①'!$Y7,"この線より上に行を挿入してください。")=0,'データ整理_様式第2-6号①'!$AE7,"") | AK7: =IF(COUNTIF('データ整理_様式第2-6号①'!$Y$2:'データ整理_様式第2-6号①'!$Y7,"この線より上に行を挿入してください。")=0,'データ整理_様式第2-6号①'!$AF7,"") | AL7: =IF(COUNTIF('データ整理_様式第2-6号①'!$AH$2:'データ整理_様式第2-6号①'!$AH7,"この線より上に行を挿入してください。")=0,'データ整理_様式第2-6号①'!$AI7,"") | AM7: =IF(COUNTIF('データ整理_様式第2-6号①'!$AH$2:'データ整理_様式第2-6号①'!$AH7,"この線より上に行を挿入してください。")=0,'データ整理_様式第2-6号①'!$AJ7,"") | AN7: =IF(COUNTIF('データ整理_様式第2-6号①'!$AH$2:'データ整理_様式第2-6号①'!$AH7,"この線より上に行を挿入してください。")=0,'データ整理_様式第2-6号①'!$AK7,"") | AO7: =IF(COUNTIF('データ整理_様式第2-6号①'!$AH$2:'データ整理_様式第2-6号①'!$AH7,"この線より上に行を挿入してください。")=0,'データ整理_様式第2-6号①'!$AL7,"") | AQ7: =IF(COUNTIF('データ整理_様式第2-6号①'!$AH$2:'データ整理_様式第2-6号①'!$AH7,"この線より上に行を挿入してください。")=0,'データ整理_様式第2-6号①'!$AN7,"") | AR7: =IF(COUNTIF('データ整理_様式第2-6号①'!$AH$2:'データ整理_様式第2-6号①'!$AH7,"この線より上に行を挿入してください。")=0,'データ整理_様式第2-6号①'!$AO7,"") | AS7: =IF(COUNTIF('データ整理_様式第2-6号①'!$AQ$2:'データ整理_様式第2-6号①'!$AQ7,"この線より上に行を挿入してください。")=0,'データ整理_様式第2-6号①'!$AR7,"") | AT7: =IF(COUNTIF('データ整理_様式第2-6号①'!$AQ$2:'データ整理_様式第2-6号①'!$AQ7,"この線より上に行を挿入してください。")=0,'データ整理_様式第2-6号①'!$AS7,"") | AU7: =IF(COUNTIF('データ整理_様式第2-6号①'!$AQ$2:'データ整理_様式第2-6号①'!$AQ7,"この線より上に行を挿入してください。")=0,'データ整理_様式第2-6号①'!$AT7,"") | AW7: =IF(COUNTIF('データ整理_様式第2-6号①'!$AQ$2:'データ整理_様式第2-6号①'!$AQ7,"この線より上に行を挿入してください。")=0,'データ整理_様式第2-6号①'!$AV7,"") | AX7: =IF(COUNTIF('データ整理_様式第2-6号①'!$AQ$2:'データ整理_様式第2-6号①'!$AQ7,"この線より上に行を挿入してください。")=0,'データ整理_様式第2-6号①'!$AW7,"") | BB7: =IF(COUNTIF('データ整理_様式第2-6号①'!$AY$2:'データ整理_様式第2-6号①'!$AY7,"この線より上に行を挿入してください。")=0,'データ整理_様式第2-6号①'!$AY7,"") | BC7: =IF(COUNTIF('データ整理_様式第2-6号①'!$AY$2:'データ整理_様式第2-6号①'!$AY7,"この線より上に行を挿入してください。")=0,'データ整理_様式第2-6号①'!$AZ7,"") | BD7: =IF(COUNTIF('データ整理_様式第2-6号①'!$AY$2:'データ整理_様式第2-6号①'!$AY7,"この線より上に行を挿入してください。")=0,'データ整理_様式第2-6号①'!$BA7,"") | BE7: =IF(COUNTIF('データ整理_様式第2-6号①'!$AY$2:'データ整理_様式第2-6号①'!$AY7,"この線より上に行を挿入してください。")=0,'データ整理_様式第2-6号①'!$BB7,"") | BF7: =IF(COUNTIF('データ整理_様式第2-6号①'!$AY$2:'データ整理_様式第2-6号①'!$AY7,"この線より上に行を挿入してください。")=0,'データ整理_様式第2-6号①'!$BC7,"") | BO7: =IF(COUNTIF('データ整理_様式第2-6号①'!$BE$2:'データ整理_様式第2-6号①'!$BE7,"この線より上に行を挿入してください。")=0,'データ整理_様式第2-6号①'!$BF7,"") | BP7: =IF(COUNTIF('データ整理_様式第2-6号①'!$BE$2:'データ整理_様式第2-6号①'!$BE7,"この線より上に行を挿入してください。")=0,'データ整理_様式第2-6号①'!$BG7,"") | BQ7: =IF(COUNTIF('データ整理_様式第2-6号①'!$BE$2:'データ整理_様式第2-6号①'!$BE7,"この線より上に行を挿入してください。")=0,'データ整理_様式第2-6号①'!$BH7,"") | BR7: =IF(COUNTIF('データ整理_様式第2-6号①'!$BE$2:'データ整理_様式第2-6号①'!$BE7,"この線より上に行を挿入してください。")=0,'データ整理_様式第2-6号①'!$BI7,"") | BT7: =IF(COUNTIF('データ整理_様式第2-6号①'!$BE$2:'データ整理_様式第2-6号①'!$BE7,"この線より上に行を挿入してください。")=0,'データ整理_様式第2-6号①'!$BK7,"") | BU7: =IF(COUNTIF('データ整理_様式第2-6号①'!$BE$2:'データ整理_様式第2-6号①'!$BE7,"この線より上に行を挿入してください。")=0,'データ整理_様式第2-6号①'!$BL7,"")
E8: =IF(COUNTIF('データ整理_様式第2-6号①'!$B$2:'データ整理_様式第2-6号①'!$B8,"この線より上に行を挿入してください。")=0,'データ整理_様式第2-6号①'!$C8,"") | F8: =IF(COUNTIF('データ整理_様式第2-6号①'!$B$2:'データ整理_様式第2-6号①'!$B8,"この線より上に行を挿入してください。")=0,'データ整理_様式第2-6号①'!$D8,"") | G8: =IF(COUNTIF('データ整理_様式第2-6号①'!$B$2:'データ整理_様式第2-6号①'!$B8,"この線より上に行を挿入してください。")=0,'データ整理_様式第2-6号①'!$E8,"") | H8: =IF(COUNTIF('データ整理_様式第2-6号①'!$B$2:'データ整理_様式第2-6号①'!$B8,"この線より上に行を挿入してください。")=0,'データ整理_様式第2-6号①'!$F8,"") | J8: =IF(COUNTIF('データ整理_様式第2-6号①'!$B$2:'データ整理_様式第2-6号①'!$B8,"この線より上に行を挿入してください。")=0,'データ整理_様式第2-6号①'!$H8,"") | K8: =IF(COUNTIF('データ整理_様式第2-6号①'!$B$2:'データ整理_様式第2-6号①'!$B8,"この線より上に行を挿入してください。")=0,'データ整理_様式第2-6号①'!$I8,"") | L8: =IF(COUNTIF('データ整理_様式第2-6号①'!$K$2:'データ整理_様式第2-6号①'!$K8,"この線より上に行を挿入してください。")=0,'データ整理_様式第2-6号①'!$L8,"") | M8: =IF(COUNTIF('データ整理_様式第2-6号①'!$K$2:'データ整理_様式第2-6号①'!$K8,"この線より上に行を挿入してください。")=0,'データ整理_様式第2-6号①'!$M8,"") | N8: =IF(COUNTIF('データ整理_様式第2-6号①'!$K$2:'データ整理_様式第2-6号①'!$K8,"この線より上に行を挿入してください。")=0,'データ整理_様式第2-6号①'!$N8,"") | P8: =IF(COUNTIF('データ整理_様式第2-6号①'!$K$2:'データ整理_様式第2-6号①'!$K8,"この線より上に行を挿入してください。")=0,'データ整理_様式第2-6号①'!$P8,"") | Q8: =IF(COUNTIF('データ整理_様式第2-6号①'!$K$2:'データ整理_様式第2-6号①'!$K8,"この線より上に行を挿入してください。")=0,'データ整理_様式第2-6号①'!$Q8,"") | T8: =IF(COUNTIF('データ整理_様式第2-6号①'!$S$2:'データ整理_様式第2-6号①'!$S8,"この線より上に行を挿入してください。")=0,'データ整理_様式第2-6号①'!$S8,"") | U8: =IF(COUNTIF('データ整理_様式第2-6号①'!$S$2:'データ整理_様式第2-6号①'!$S8,"この線より上に行を挿入してください。")=0,'データ整理_様式第2-6号①'!$T8,"") | V8: =IF(COUNTIF('データ整理_様式第2-6号①'!$S$2:'データ整理_様式第2-6号①'!$S8,"この線より上に行を挿入してください。")=0,'データ整理_様式第2-6号①'!$U8,"") | W8: =IF(COUNTIF('データ整理_様式第2-6号①'!$S$2:'データ整理_様式第2-6号①'!$S8,"この線より上に行を挿入してください。")=0,'データ整理_様式第2-6号①'!$V8,"") | X8: =IF(COUNTIF('データ整理_様式第2-6号①'!$S$2:'データ整理_様式第2-6号①'!$S8,"この線より上に行を挿入してください。")=0,'データ整理_様式第2-6号①'!$W8,"") | AE8: =IF(COUNTIF('データ整理_様式第2-6号①'!$Y$2:'データ整理_様式第2-6号①'!$Y8,"この線より上に行を挿入してください。")=0,'データ整理_様式第2-6号①'!$Z8,"") | AF8: =IF(COUNTIF('データ整理_様式第2-6号①'!$Y$2:'データ整理_様式第2-6号①'!$Y8,"この線より上に行を挿入してください。")=0,'データ整理_様式第2-6号①'!$AA8,"") | AG8: =IF(COUNTIF('データ整理_様式第2-6号①'!$Y$2:'データ整理_様式第2-6号①'!$Y8,"この線より上に行を挿入してください。")=0,'データ整理_様式第2-6号①'!$AB8,"") | AH8: =IF(COUNTIF('データ整理_様式第2-6号①'!$Y$2:'データ整理_様式第2-6号①'!$Y8,"この線より上に行を挿入してください。")=0,'データ整理_様式第2-6号①'!$AC8,"") | AJ8: =IF(COUNTIF('データ整理_様式第2-6号①'!$Y$2:'データ整理_様式第2-6号①'!$Y8,"この線より上に行を挿入してください。")=0,'データ整理_様式第2-6号①'!$AE8,"") | AK8: =IF(COUNTIF('データ整理_様式第2-6号①'!$Y$2:'データ整理_様式第2-6号①'!$Y8,"この線より上に行を挿入してください。")=0,'データ整理_様式第2-6号①'!$AF8,"") | AL8: =IF(COUNTIF('データ整理_様式第2-6号①'!$AH$2:'データ整理_様式第2-6号①'!$AH8,"この線より上に行を挿入してください。")=0,'データ整理_様式第2-6号①'!$AI8,"") | AM8: =IF(COUNTIF('データ整理_様式第2-6号①'!$AH$2:'データ整理_様式第2-6号①'!$AH8,"この線より上に行を挿入してください。")=0,'データ整理_様式第2-6号①'!$AJ8,"") | AN8: =IF(COUNTIF('データ整理_様式第2-6号①'!$AH$2:'データ整理_様式第2-6号①'!$AH8,"この線より上に行を挿入してください。")=0,'データ整理_様式第2-6号①'!$AK8,"") | AO8: =IF(COUNTIF('データ整理_様式第2-6号①'!$AH$2:'データ整理_様式第2-6号①'!$AH8,"この線より上に行を挿入してください。")=0,'データ整理_様式第2-6号①'!$AL8,"") | AQ8: =IF(COUNTIF('データ整理_様式第2-6号①'!$AH$2:'データ整理_様式第2-6号①'!$AH8,"この線より上に行を挿入してください。")=0,'データ整理_様式第2-6号①'!$AN8,"") | AR8: =IF(COUNTIF('データ整理_様式第2-6号①'!$AH$2:'データ整理_様式第2-6号①'!$AH8,"この線より上に行を挿入してください。")=0,'データ整理_様式第2-6号①'!$AO8,"") | AS8: =IF(COUNTIF('データ整理_様式第2-6号①'!$AQ$2:'データ整理_様式第2-6号①'!$AQ8,"この線より上に行を挿入してください。")=0,'データ整理_様式第2-6号①'!$AR8,"") | AT8: =IF(COUNTIF('データ整理_様式第2-6号①'!$AQ$2:'データ整理_様式第2-6号①'!$AQ8,"この線より上に行を挿入してください。")=0,'データ整理_様式第2-6号①'!$AS8,"") | AU8: =IF(COUNTIF('データ整理_様式第2-6号①'!$AQ$2:'データ整理_様式第2-6号①'!$AQ8,"この線より上に行を挿入してください。")=0,'データ整理_様式第2-6号①'!$AT8,"") | AW8: =IF(COUNTIF('データ整理_様式第2-6号①'!$AQ$2:'データ整理_様式第2-6号①'!$AQ8,"この線より上に行を挿入してください。")=0,'データ整理_様式第2-6号①'!$AV8,"") | AX8: =IF(COUNTIF('データ整理_様式第2-6号①'!$AQ$2:'データ整理_様式第2-6号①'!$AQ8,"この線より上に行を挿入してください。")=0,'データ整理_様式第2-6号①'!$AW8,"") | BB8: =IF(COUNTIF('データ整理_様式第2-6号①'!$AY$2:'データ整理_様式第2-6号①'!$AY8,"この線より上に行を挿入してください。")=0,'データ整理_様式第2-6号①'!$AY8,"") | BC8: =IF(COUNTIF('データ整理_様式第2-6号①'!$AY$2:'データ整理_様式第2-6号①'!$AY8,"この線より上に行を挿入してください。")=0,'データ整理_様式第2-6号①'!$AZ8,"") | BD8: =IF(COUNTIF('データ整理_様式第2-6号①'!$AY$2:'データ整理_様式第2-6号①'!$AY8,"この線より上に行を挿入してください。")=0,'データ整理_様式第2-6号①'!$BA8,"") | BE8: =IF(COUNTIF('データ整理_様式第2-6号①'!$AY$2:'データ整理_様式第2-6号①'!$AY8,"この線より上に行を挿入してください。")=0,'データ整理_様式第2-6号①'!$BB8,"") | BF8: =IF(COUNTIF('データ整理_様式第2-6号①'!$AY$2:'データ整理_様式第2-6号①'!$AY8,"この線より上に行を挿入してください。")=0,'データ整理_様式第2-6号①'!$BC8,"") | BO8: =IF(COUNTIF('データ整理_様式第2-6号①'!$BE$2:'データ整理_様式第2-6号①'!$BE8,"この線より上に行を挿入してください。")=0,'データ整理_様式第2-6号①'!$BF8,"") | BP8: =IF(COUNTIF('データ整理_様式第2-6号①'!$BE$2:'データ整理_様式第2-6号①'!$BE8,"この線より上に行を挿入してください。")=0,'データ整理_様式第2-6号①'!$BG8,"") | BQ8: =IF(COUNTIF('データ整理_様式第2-6号①'!$BE$2:'データ整理_様式第2-6号①'!$BE8,"この線より上に行を挿入してください。")=0,'データ整理_様式第2-6号①'!$BH8,"") | BR8: =IF(COUNTIF('データ整理_様式第2-6号①'!$BE$2:'データ整理_様式第2-6号①'!$BE8,"この線より上に行を挿入してください。")=0,'データ整理_様式第2-6号①'!$BI8,"") | BT8: =IF(COUNTIF('データ整理_様式第2-6号①'!$BE$2:'データ整理_様式第2-6号①'!$BE8,"この線より上に行を挿入してください。")=0,'データ整理_様式第2-6号①'!$BK8,"") | BU8: =IF(COUNTIF('データ整理_様式第2-6号①'!$BE$2:'データ整理_様式第2-6号①'!$BE8,"この線より上に行を挿入してください。")=0,'データ整理_様式第2-6号①'!$BL8,"")
E9: =IF(COUNTIF('データ整理_様式第2-6号①'!$B$2:'データ整理_様式第2-6号①'!$B9,"この線より上に行を挿入してください。")=0,'データ整理_様式第2-6号①'!$C9,"") | F9: =IF(COUNTIF('データ整理_様式第2-6号①'!$B$2:'データ整理_様式第2-6号①'!$B9,"この線より上に行を挿入してください。")=0,'データ整理_様式第2-6号①'!$D9,"") | G9: =IF(COUNTIF('データ整理_様式第2-6号①'!$B$2:'データ整理_様式第2-6号①'!$B9,"この線より上に行を挿入してください。")=0,'データ整理_様式第2-6号①'!$E9,"") | H9: =IF(COUNTIF('データ整理_様式第2-6号①'!$B$2:'データ整理_様式第2-6号①'!$B9,"この線より上に行を挿入してください。")=0,'データ整理_様式第2-6号①'!$F9,"") | J9: =IF(COUNTIF('データ整理_様式第2-6号①'!$B$2:'データ整理_様式第2-6号①'!$B9,"この線より上に行を挿入してください。")=0,'データ整理_様式第2-6号①'!$H9,"") | K9: =IF(COUNTIF('データ整理_様式第2-6号①'!$B$2:'データ整理_様式第2-6号①'!$B9,"この線より上に行を挿入してください。")=0,'データ整理_様式第2-6号①'!$I9,"") | L9: =IF(COUNTIF('データ整理_様式第2-6号①'!$K$2:'データ整理_様式第2-6号①'!$K9,"この線より上に行を挿入してください。")=0,'データ整理_様式第2-6号①'!$L9,"") | M9: =IF(COUNTIF('データ整理_様式第2-6号①'!$K$2:'データ整理_様式第2-6号①'!$K9,"この線より上に行を挿入してください。")=0,'データ整理_様式第2-6号①'!$M9,"") | N9: =IF(COUNTIF('データ整理_様式第2-6号①'!$K$2:'データ整理_様式第2-6号①'!$K9,"この線より上に行を挿入してください。")=0,'データ整理_様式第2-6号①'!$N9,"") | P9: =IF(COUNTIF('データ整理_様式第2-6号①'!$K$2:'データ整理_様式第2-6号①'!$K9,"この線より上に行を挿入してください。")=0,'データ整理_様式第2-6号①'!$P9,"") | Q9: =IF(COUNTIF('データ整理_様式第2-6号①'!$K$2:'データ整理_様式第2-6号①'!$K9,"この線より上に行を挿入してください。")=0,'データ整理_様式第2-6号①'!$Q9,"") | T9: =IF(COUNTIF('データ整理_様式第2-6号①'!$S$2:'データ整理_様式第2-6号①'!$S9,"この線より上に行を挿入してください。")=0,'データ整理_様式第2-6号①'!$S9,"") | U9: =IF(COUNTIF('データ整理_様式第2-6号①'!$S$2:'データ整理_様式第2-6号①'!$S9,"この線より上に行を挿入してください。")=0,'データ整理_様式第2-6号①'!$T9,"") | V9: =IF(COUNTIF('データ整理_様式第2-6号①'!$S$2:'データ整理_様式第2-6号①'!$S9,"この線より上に行を挿入してください。")=0,'データ整理_様式第2-6号①'!$U9,"") | W9: =IF(COUNTIF('データ整理_様式第2-6号①'!$S$2:'データ整理_様式第2-6号①'!$S9,"この線より上に行を挿入してください。")=0,'データ整理_様式第2-6号①'!$V9,"") | X9: =IF(COUNTIF('データ整理_様式第2-6号①'!$S$2:'データ整理_様式第2-6号①'!$S9,"この線より上に行を挿入してください。")=0,'データ整理_様式第2-6号①'!$W9,"") | AE9: =IF(COUNTIF('データ整理_様式第2-6号①'!$Y$2:'データ整理_様式第2-6号①'!$Y9,"この線より上に行を挿入してください。")=0,'データ整理_様式第2-6号①'!$Z9,"") | AF9: =IF(COUNTIF('データ整理_様式第2-6号①'!$Y$2:'データ整理_様式第2-6号①'!$Y9,"この線より上に行を挿入してください。")=0,'データ整理_様式第2-6号①'!$AA9,"") | AG9: =IF(COUNTIF('データ整理_様式第2-6号①'!$Y$2:'データ整理_様式第2-6号①'!$Y9,"この線より上に行を挿入してください。")=0,'データ整理_様式第2-6号①'!$AB9,"") | AH9: =IF(COUNTIF('データ整理_様式第2-6号①'!$Y$2:'データ整理_様式第2-6号①'!$Y9,"この線より上に行を挿入してください。")=0,'データ整理_様式第2-6号①'!$AC9,"") | AJ9: =IF(COUNTIF('データ整理_様式第2-6号①'!$Y$2:'データ整理_様式第2-6号①'!$Y9,"この線より上に行を挿入してください。")=0,'データ整理_様式第2-6号①'!$AE9,"") | AK9: =IF(COUNTIF('データ整理_様式第2-6号①'!$Y$2:'データ整理_様式第2-6号①'!$Y9,"この線より上に行を挿入してください。")=0,'データ整理_様式第2-6号①'!$AF9,"") | AL9: =IF(COUNTIF('データ整理_様式第2-6号①'!$AH$2:'データ整理_様式第2-6号①'!$AH9,"この線より上に行を挿入してください。")=0,'データ整理_様式第2-6号①'!$AI9,"") | AM9: =IF(COUNTIF('データ整理_様式第2-6号①'!$AH$2:'データ整理_様式第2-6号①'!$AH9,"この線より上に行を挿入してください。")=0,'データ整理_様式第2-6号①'!$AJ9,"") | AN9: =IF(COUNTIF('データ整理_様式第2-6号①'!$AH$2:'データ整理_様式第2-6号①'!$AH9,"この線より上に行を挿入してください。")=0,'データ整理_様式第2-6号①'!$AK9,"") | AO9: =IF(COUNTIF('データ整理_様式第2-6号①'!$AH$2:'データ整理_様式第2-6号①'!$AH9,"この線より上に行を挿入してください。")=0,'データ整理_様式第2-6号①'!$AL9,"") | AQ9: =IF(COUNTIF('データ整理_様式第2-6号①'!$AH$2:'データ整理_様式第2-6号①'!$AH9,"この線より上に行を挿入してください。")=0,'データ整理_様式第2-6号①'!$AN9,"") | AR9: =IF(COUNTIF('データ整理_様式第2-6号①'!$AH$2:'データ整理_様式第2-6号①'!$AH9,"この線より上に行を挿入してください。")=0,'データ整理_様式第2-6号①'!$AO9,"") | AS9: =IF(COUNTIF('データ整理_様式第2-6号①'!$AQ$2:'データ整理_様式第2-6号①'!$AQ9,"この線より上に行を挿入してください。")=0,'データ整理_様式第2-6号①'!$AR9,"") | AT9: =IF(COUNTIF('データ整理_様式第2-6号①'!$AQ$2:'データ整理_様式第2-6号①'!$AQ9,"この線より上に行を挿入してください。")=0,'データ整理_様式第2-6号①'!$AS9,"") | AU9: =IF(COUNTIF('データ整理_様式第2-6号①'!$AQ$2:'データ整理_様式第2-6号①'!$AQ9,"この線より上に行を挿入してください。")=0,'データ整理_様式第2-6号①'!$AT9,"") | AW9: =IF(COUNTIF('データ整理_様式第2-6号①'!$AQ$2:'データ整理_様式第2-6号①'!$AQ9,"この線より上に行を挿入してください。")=0,'データ整理_様式第2-6号①'!$AV9,"") | AX9: =IF(COUNTIF('データ整理_様式第2-6号①'!$AQ$2:'データ整理_様式第2-6号①'!$AQ9,"この線より上に行を挿入してください。")=0,'データ整理_様式第2-6号①'!$AW9,"") | BB9: =IF(COUNTIF('データ整理_様式第2-6号①'!$AY$2:'データ整理_様式第2-6号①'!$AY9,"この線より上に行を挿入してください。")=0,'データ整理_様式第2-6号①'!$AY9,"") | BC9: =IF(COUNTIF('データ整理_様式第2-6号①'!$AY$2:'データ整理_様式第2-6号①'!$AY9,"この線より上に行を挿入してください。")=0,'データ整理_様式第2-6号①'!$AZ9,"") | BD9: =IF(COUNTIF('データ整理_様式第2-6号①'!$AY$2:'データ整理_様式第2-6号①'!$AY9,"この線より上に行を挿入してください。")=0,'データ整理_様式第2-6号①'!$BA9,"") | BE9: =IF(COUNTIF('データ整理_様式第2-6号①'!$AY$2:'データ整理_様式第2-6号①'!$AY9,"この線より上に行を挿入してください。")=0,'データ整理_様式第2-6号①'!$BB9,"") | BF9: =IF(COUNTIF('データ整理_様式第2-6号①'!$AY$2:'データ整理_様式第2-6号①'!$AY9,"この線より上に行を挿入してください。")=0,'データ整理_様式第2-6号①'!$BC9,"") | BO9: =IF(COUNTIF('データ整理_様式第2-6号①'!$BE$2:'データ整理_様式第2-6号①'!$BE9,"この線より上に行を挿入してください。")=0,'データ整理_様式第2-6号①'!$BF9,"") | BP9: =IF(COUNTIF('データ整理_様式第2-6号①'!$BE$2:'データ整理_様式第2-6号①'!$BE9,"この線より上に行を挿入してください。")=0,'データ整理_様式第2-6号①'!$BG9,"") | BQ9: =IF(COUNTIF('データ整理_様式第2-6号①'!$BE$2:'データ整理_様式第2-6号①'!$BE9,"この線より上に行を挿入してください。")=0,'データ整理_様式第2-6号①'!$BH9,"") | BR9: =IF(COUNTIF('データ整理_様式第2-6号①'!$BE$2:'データ整理_様式第2-6号①'!$BE9,"この線より上に行を挿入してください。")=0,'データ整理_様式第2-6号①'!$BI9,"") | BT9: =IF(COUNTIF('データ整理_様式第2-6号①'!$BE$2:'データ整理_様式第2-6号①'!$BE9,"この線より上に行を挿入してください。")=0,'データ整理_様式第2-6号①'!$BK9,"") | BU9: =IF(COUNTIF('データ整理_様式第2-6号①'!$BE$2:'データ整理_様式第2-6号①'!$BE9,"この線より上に行を挿入してください。")=0,'データ整理_様式第2-6号①'!$BL9,"")
E10: =IF(COUNTIF('データ整理_様式第2-6号①'!$B$2:'データ整理_様式第2-6号①'!$B10,"この線より上に行を挿入してください。")=0,'データ整理_様式第2-6号①'!$C10,"") | F10: =IF(COUNTIF('データ整理_様式第2-6号①'!$B$2:'データ整理_様式第2-6号①'!$B10,"この線より上に行を挿入してください。")=0,'データ整理_様式第2-6号①'!$D10,"") | G10: =IF(COUNTIF('データ整理_様式第2-6号①'!$B$2:'データ整理_様式第2-6号①'!$B10,"この線より上に行を挿入してください。")=0,'データ整理_様式第2-6号①'!$E10,"") | H10: =IF(COUNTIF('データ整理_様式第2-6号①'!$B$2:'データ整理_様式第2-6号①'!$B10,"この線より上に行を挿入してください。")=0,'データ整理_様式第2-6号①'!$F10,"") | J10: =IF(COUNTIF('データ整理_様式第2-6号①'!$B$2:'データ整理_様式第2-6号①'!$B10,"この線より上に行を挿入してください。")=0,'データ整理_様式第2-6号①'!$H10,"") | K10: =IF(COUNTIF('データ整理_様式第2-6号①'!$B$2:'データ整理_様式第2-6号①'!$B10,"この線より上に行を挿入してください。")=0,'データ整理_様式第2-6号①'!$I10,"") | L10: =IF(COUNTIF('データ整理_様式第2-6号①'!$K$2:'データ整理_様式第2-6号①'!$K10,"この線より上に行を挿入してください。")=0,'データ整理_様式第2-6号①'!$L10,"") | M10: =IF(COUNTIF('データ整理_様式第2-6号①'!$K$2:'データ整理_様式第2-6号①'!$K10,"この線より上に行を挿入してください。")=0,'データ整理_様式第2-6号①'!$M10,"") | N10: =IF(COUNTIF('データ整理_様式第2-6号①'!$K$2:'データ整理_様式第2-6号①'!$K10,"この線より上に行を挿入してください。")=0,'データ整理_様式第2-6号①'!$N10,"") | P10: =IF(COUNTIF('データ整理_様式第2-6号①'!$K$2:'データ整理_様式第2-6号①'!$K10,"この線より上に行を挿入してください。")=0,'データ整理_様式第2-6号①'!$P10,"") | Q10: =IF(COUNTIF('データ整理_様式第2-6号①'!$K$2:'データ整理_様式第2-6号①'!$K10,"この線より上に行を挿入してください。")=0,'データ整理_様式第2-6号①'!$Q10,"") | T10: =IF(COUNTIF('データ整理_様式第2-6号①'!$S$2:'データ整理_様式第2-6号①'!$S10,"この線より上に行を挿入してください。")=0,'データ整理_様式第2-6号①'!$S10,"") | U10: =IF(COUNTIF('データ整理_様式第2-6号①'!$S$2:'データ整理_様式第2-6号①'!$S10,"この線より上に行を挿入してください。")=0,'データ整理_様式第2-6号①'!$T10,"") | V10: =IF(COUNTIF('データ整理_様式第2-6号①'!$S$2:'データ整理_様式第2-6号①'!$S10,"この線より上に行を挿入してください。")=0,'データ整理_様式第2-6号①'!$U10,"") | W10: =IF(COUNTIF('データ整理_様式第2-6号①'!$S$2:'データ整理_様式第2-6号①'!$S10,"この線より上に行を挿入してください。")=0,'データ整理_様式第2-6号①'!$V10,"") | X10: =IF(COUNTIF('データ整理_様式第2-6号①'!$S$2:'データ整理_様式第2-6号①'!$S10,"この線より上に行を挿入してください。")=0,'データ整理_様式第2-6号①'!$W10,"") | AE10: =IF(COUNTIF('データ整理_様式第2-6号①'!$Y$2:'データ整理_様式第2-6号①'!$Y10,"この線より上に行を挿入してください。")=0,'データ整理_様式第2-6号①'!$Z10,"") | AF10: =IF(COUNTIF('データ整理_様式第2-6号①'!$Y$2:'データ整理_様式第2-6号①'!$Y10,"この線より上に行を挿入してください。")=0,'データ整理_様式第2-6号①'!$AA10,"") | AG10: =IF(COUNTIF('データ整理_様式第2-6号①'!$Y$2:'データ整理_様式第2-6号①'!$Y10,"この線より上に行を挿入してください。")=0,'データ整理_様式第2-6号①'!$AB10,"") | AH10: =IF(COUNTIF('データ整理_様式第2-6号①'!$Y$2:'データ整理_様式第2-6号①'!$Y10,"この線より上に行を挿入してください。")=0,'データ整理_様式第2-6号①'!$AC10,"") | AJ10: =IF(COUNTIF('データ整理_様式第2-6号①'!$Y$2:'データ整理_様式第2-6号①'!$Y10,"この線より上に行を挿入してください。")=0,'データ整理_様式第2-6号①'!$AE10,"") | AK10: =IF(COUNTIF('データ整理_様式第2-6号①'!$Y$2:'データ整理_様式第2-6号①'!$Y10,"この線より上に行を挿入してください。")=0,'データ整理_様式第2-6号①'!$AF10,"") | AL10: =IF(COUNTIF('データ整理_様式第2-6号①'!$AH$2:'データ整理_様式第2-6号①'!$AH10,"この線より上に行を挿入してください。")=0,'データ整理_様式第2-6号①'!$AI10,"") | AM10: =IF(COUNTIF('データ整理_様式第2-6号①'!$AH$2:'データ整理_様式第2-6号①'!$AH10,"この線より上に行を挿入してください。")=0,'データ整理_様式第2-6号①'!$AJ10,"") | AN10: =IF(COUNTIF('データ整理_様式第2-6号①'!$AH$2:'データ整理_様式第2-6号①'!$AH10,"この線より上に行を挿入してください。")=0,'データ整理_様式第2-6号①'!$AK10,"") | AO10: =IF(COUNTIF('データ整理_様式第2-6号①'!$AH$2:'データ整理_様式第2-6号①'!$AH10,"この線より上に行を挿入してください。")=0,'データ整理_様式第2-6号①'!$AL10,"") | AQ10: =IF(COUNTIF('データ整理_様式第2-6号①'!$AH$2:'データ整理_様式第2-6号①'!$AH10,"この線より上に行を挿入してください。")=0,'データ整理_様式第2-6号①'!$AN10,"") | AR10: =IF(COUNTIF('データ整理_様式第2-6号①'!$AH$2:'データ整理_様式第2-6号①'!$AH10,"この線より上に行を挿入してください。")=0,'データ整理_様式第2-6号①'!$AO10,"") | AS10: =IF(COUNTIF('データ整理_様式第2-6号①'!$AQ$2:'データ整理_様式第2-6号①'!$AQ10,"この線より上に行を挿入してください。")=0,'データ整理_様式第2-6号①'!$AR10,"") | AT10: =IF(COUNTIF('データ整理_様式第2-6号①'!$AQ$2:'データ整理_様式第2-6号①'!$AQ10,"この線より上に行を挿入してください。")=0,'データ整理_様式第2-6号①'!$AS10,"") | AU10: =IF(COUNTIF('データ整理_様式第2-6号①'!$AQ$2:'データ整理_様式第2-6号①'!$AQ10,"この線より上に行を挿入してください。")=0,'データ整理_様式第2-6号①'!$AT10,"") | AW10: =IF(COUNTIF('データ整理_様式第2-6号①'!$AQ$2:'データ整理_様式第2-6号①'!$AQ10,"この線より上に行を挿入してください。")=0,'データ整理_様式第2-6号①'!$AV10,"") | AX10: =IF(COUNTIF('データ整理_様式第2-6号①'!$AQ$2:'データ整理_様式第2-6号①'!$AQ10,"この線より上に行を挿入してください。")=0,'データ整理_様式第2-6号①'!$AW10,"") | BB10: =IF(COUNTIF('データ整理_様式第2-6号①'!$AY$2:'データ整理_様式第2-6号①'!$AY10,"この線より上に行を挿入してください。")=0,'データ整理_様式第2-6号①'!$AY10,"") | BC10: =IF(COUNTIF('データ整理_様式第2-6号①'!$AY$2:'データ整理_様式第2-6号①'!$AY10,"この線より上に行を挿入してください。")=0,'データ整理_様式第2-6号①'!$AZ10,"") | BD10: =IF(COUNTIF('データ整理_様式第2-6号①'!$AY$2:'データ整理_様式第2-6号①'!$AY10,"この線より上に行を挿入してください。")=0,'データ整理_様式第2-6号①'!$BA10,"") | BE10: =IF(COUNTIF('データ整理_様式第2-6号①'!$AY$2:'データ整理_様式第2-6号①'!$AY10,"この線より上に行を挿入してください。")=0,'データ整理_様式第2-6号①'!$BB10,"") | BF10: =IF(COUNTIF('データ整理_様式第2-6号①'!$AY$2:'データ整理_様式第2-6号①'!$AY10,"この線より上に行を挿入してください。")=0,'データ整理_様式第2-6号①'!$BC10,"") | BO10: =IF(COUNTIF('データ整理_様式第2-6号①'!$BE$2:'データ整理_様式第2-6号①'!$BE10,"この線より上に行を挿入してください。")=0,'データ整理_様式第2-6号①'!$BF10,"") | BP10: =IF(COUNTIF('データ整理_様式第2-6号①'!$BE$2:'データ整理_様式第2-6号①'!$BE10,"この線より上に行を挿入してください。")=0,'データ整理_様式第2-6号①'!$BG10,"") | BQ10: =IF(COUNTIF('データ整理_様式第2-6号①'!$BE$2:'データ整理_様式第2-6号①'!$BE10,"この線より上に行を挿入してください。")=0,'データ整理_様式第2-6号①'!$BH10,"") | BR10: =IF(COUNTIF('データ整理_様式第2-6号①'!$BE$2:'データ整理_様式第2-6号①'!$BE10,"この線より上に行を挿入してください。")=0,'データ整理_様式第2-6号①'!$BI10,"") | BT10: =IF(COUNTIF('データ整理_様式第2-6号①'!$BE$2:'データ整理_様式第2-6号①'!$BE10,"この線より上に行を挿入してください。")=0,'データ整理_様式第2-6号①'!$BK10,"") | BU10: =IF(COUNTIF('データ整理_様式第2-6号①'!$BE$2:'データ整理_様式第2-6号①'!$BE10,"この線より上に行を挿入してください。")=0,'データ整理_様式第2-6号①'!$BL10,"")
E11: =IF(COUNTIF('データ整理_様式第2-6号①'!$B$2:'データ整理_様式第2-6号①'!$B11,"この線より上に行を挿入してください。")=0,'データ整理_様式第2-6号①'!$C11,"") | F11: =IF(COUNTIF('データ整理_様式第2-6号①'!$B$2:'データ整理_様式第2-6号①'!$B11,"この線より上に行を挿入してください。")=0,'データ整理_様式第2-6号①'!$D11,"") | G11: =IF(COUNTIF('データ整理_様式第2-6号①'!$B$2:'データ整理_様式第2-6号①'!$B11,"この線より上に行を挿入してください。")=0,'データ整理_様式第2-6号①'!$E11,"") | H11: =IF(COUNTIF('データ整理_様式第2-6号①'!$B$2:'データ整理_様式第2-6号①'!$B11,"この線より上に行を挿入してください。")=0,'データ整理_様式第2-6号①'!$F11,"") | J11: =IF(COUNTIF('データ整理_様式第2-6号①'!$B$2:'データ整理_様式第2-6号①'!$B11,"この線より上に行を挿入してください。")=0,'データ整理_様式第2-6号①'!$H11,"") | K11: =IF(COUNTIF('データ整理_様式第2-6号①'!$B$2:'データ整理_様式第2-6号①'!$B11,"この線より上に行を挿入してください。")=0,'データ整理_様式第2-6号①'!$I11,"") | L11: =IF(COUNTIF('データ整理_様式第2-6号①'!$K$2:'データ整理_様式第2-6号①'!$K11,"この線より上に行を挿入してください。")=0,'データ整理_様式第2-6号①'!$L11,"") | M11: =IF(COUNTIF('データ整理_様式第2-6号①'!$K$2:'データ整理_様式第2-6号①'!$K11,"この線より上に行を挿入してください。")=0,'データ整理_様式第2-6号①'!$M11,"") | N11: =IF(COUNTIF('データ整理_様式第2-6号①'!$K$2:'データ整理_様式第2-6号①'!$K11,"この線より上に行を挿入してください。")=0,'データ整理_様式第2-6号①'!$N11,"") | P11: =IF(COUNTIF('データ整理_様式第2-6号①'!$K$2:'データ整理_様式第2-6号①'!$K11,"この線より上に行を挿入してください。")=0,'データ整理_様式第2-6号①'!$P11,"") | Q11: =IF(COUNTIF('データ整理_様式第2-6号①'!$K$2:'データ整理_様式第2-6号①'!$K11,"この線より上に行を挿入してください。")=0,'データ整理_様式第2-6号①'!$Q11,"") | T11: =IF(COUNTIF('データ整理_様式第2-6号①'!$S$2:'データ整理_様式第2-6号①'!$S11,"この線より上に行を挿入してください。")=0,'データ整理_様式第2-6号①'!$S11,"") | U11: =IF(COUNTIF('データ整理_様式第2-6号①'!$S$2:'データ整理_様式第2-6号①'!$S11,"この線より上に行を挿入してください。")=0,'データ整理_様式第2-6号①'!$T11,"") | V11: =IF(COUNTIF('データ整理_様式第2-6号①'!$S$2:'データ整理_様式第2-6号①'!$S11,"この線より上に行を挿入してください。")=0,'データ整理_様式第2-6号①'!$U11,"") | W11: =IF(COUNTIF('データ整理_様式第2-6号①'!$S$2:'データ整理_様式第2-6号①'!$S11,"この線より上に行を挿入してください。")=0,'データ整理_様式第2-6号①'!$V11,"") | X11: =IF(COUNTIF('データ整理_様式第2-6号①'!$S$2:'データ整理_様式第2-6号①'!$S11,"この線より上に行を挿入してください。")=0,'データ整理_様式第2-6号①'!$W11,"") | AE11: =IF(COUNTIF('データ整理_様式第2-6号①'!$Y$2:'データ整理_様式第2-6号①'!$Y11,"この線より上に行を挿入してください。")=0,'データ整理_様式第2-6号①'!$Z11,"") | AF11: =IF(COUNTIF('データ整理_様式第2-6号①'!$Y$2:'データ整理_様式第2-6号①'!$Y11,"この線より上に行を挿入してください。")=0,'データ整理_様式第2-6号①'!$AA11,"") | AG11: =IF(COUNTIF('データ整理_様式第2-6号①'!$Y$2:'データ整理_様式第2-6号①'!$Y11,"この線より上に行を挿入してください。")=0,'データ整理_様式第2-6号①'!$AB11,"") | AH11: =IF(COUNTIF('データ整理_様式第2-6号①'!$Y$2:'データ整理_様式第2-6号①'!$Y11,"この線より上に行を挿入してください。")=0,'データ整理_様式第2-6号①'!$AC11,"") | AJ11: =IF(COUNTIF('データ整理_様式第2-6号①'!$Y$2:'データ整理_様式第2-6号①'!$Y11,"この線より上に行を挿入してください。")=0,'データ整理_様式第2-6号①'!$AE11,"") | AK11: =IF(COUNTIF('データ整理_様式第2-6号①'!$Y$2:'データ整理_様式第2-6号①'!$Y11,"この線より上に行を挿入してください。")=0,'データ整理_様式第2-6号①'!$AF11,"") | AL11: =IF(COUNTIF('データ整理_様式第2-6号①'!$AH$2:'データ整理_様式第2-6号①'!$AH11,"この線より上に行を挿入してください。")=0,'データ整理_様式第2-6号①'!$AI11,"") | AM11: =IF(COUNTIF('データ整理_様式第2-6号①'!$AH$2:'データ整理_様式第2-6号①'!$AH11,"この線より上に行を挿入してください。")=0,'データ整理_様式第2-6号①'!$AJ11,"") | AN11: =IF(COUNTIF('データ整理_様式第2-6号①'!$AH$2:'データ整理_様式第2-6号①'!$AH11,"この線より上に行を挿入してください。")=0,'データ整理_様式第2-6号①'!$AK11,"") | AO11: =IF(COUNTIF('データ整理_様式第2-6号①'!$AH$2:'データ整理_様式第2-6号①'!$AH11,"この線より上に行を挿入してください。")=0,'データ整理_様式第2-6号①'!$AL11,"") | AQ11: =IF(COUNTIF('データ整理_様式第2-6号①'!$AH$2:'データ整理_様式第2-6号①'!$AH11,"この線より上に行を挿入してください。")=0,'データ整理_様式第2-6号①'!$AN11,"") | AR11: =IF(COUNTIF('データ整理_様式第2-6号①'!$AH$2:'データ整理_様式第2-6号①'!$AH11,"この線より上に行を挿入してください。")=0,'データ整理_様式第2-6号①'!$AO11,"") | AS11: =IF(COUNTIF('データ整理_様式第2-6号①'!$AQ$2:'データ整理_様式第2-6号①'!$AQ11,"この線より上に行を挿入してください。")=0,'データ整理_様式第2-6号①'!$AR11,"") | AT11: =IF(COUNTIF('データ整理_様式第2-6号①'!$AQ$2:'データ整理_様式第2-6号①'!$AQ11,"この線より上に行を挿入してください。")=0,'データ整理_様式第2-6号①'!$AS11,"") | AU11: =IF(COUNTIF('データ整理_様式第2-6号①'!$AQ$2:'データ整理_様式第2-6号①'!$AQ11,"この線より上に行を挿入してください。")=0,'データ整理_様式第2-6号①'!$AT11,"") | AW11: =IF(COUNTIF('データ整理_様式第2-6号①'!$AQ$2:'データ整理_様式第2-6号①'!$AQ11,"この線より上に行を挿入してください。")=0,'データ整理_様式第2-6号①'!$AV11,"") | AX11: =IF(COUNTIF('データ整理_様式第2-6号①'!$AQ$2:'データ整理_様式第2-6号①'!$AQ11,"この線より上に行を挿入してください。")=0,'データ整理_様式第2-6号①'!$AW11,"") | BB11: =IF(COUNTIF('データ整理_様式第2-6号①'!$AY$2:'データ整理_様式第2-6号①'!$AY11,"この線より上に行を挿入してください。")=0,'データ整理_様式第2-6号①'!$AY11,"") | BC11: =IF(COUNTIF('データ整理_様式第2-6号①'!$AY$2:'データ整理_様式第2-6号①'!$AY11,"この線より上に行を挿入してください。")=0,'データ整理_様式第2-6号①'!$AZ11,"") | BD11: =IF(COUNTIF('データ整理_様式第2-6号①'!$AY$2:'データ整理_様式第2-6号①'!$AY11,"この線より上に行を挿入してください。")=0,'データ整理_様式第2-6号①'!$BA11,"") | BE11: =IF(COUNTIF('データ整理_様式第2-6号①'!$AY$2:'データ整理_様式第2-6号①'!$AY11,"この線より上に行を挿入してください。")=0,'データ整理_様式第2-6号①'!$BB11,"") | BF11: =IF(COUNTIF('データ整理_様式第2-6号①'!$AY$2:'データ整理_様式第2-6号①'!$AY11,"この線より上に行を挿入してください。")=0,'データ整理_様式第2-6号①'!$BC11,"") | BO11: =IF(COUNTIF('データ整理_様式第2-6号①'!$BE$2:'データ整理_様式第2-6号①'!$BE11,"この線より上に行を挿入してください。")=0,'データ整理_様式第2-6号①'!$BF11,"") | BP11: =IF(COUNTIF('データ整理_様式第2-6号①'!$BE$2:'データ整理_様式第2-6号①'!$BE11,"この線より上に行を挿入してください。")=0,'データ整理_様式第2-6号①'!$BG11,"") | BQ11: =IF(COUNTIF('データ整理_様式第2-6号①'!$BE$2:'データ整理_様式第2-6号①'!$BE11,"この線より上に行を挿入してください。")=0,'データ整理_様式第2-6号①'!$BH11,"") | BR11: =IF(COUNTIF('データ整理_様式第2-6号①'!$BE$2:'データ整理_様式第2-6号①'!$BE11,"この線より上に行を挿入してください。")=0,'データ整理_様式第2-6号①'!$BI11,"") | BT11: =IF(COUNTIF('データ整理_様式第2-6号①'!$BE$2:'データ整理_様式第2-6号①'!$BE11,"この線より上に行を挿入してください。")=0,'データ整理_様式第2-6号①'!$BK11,"") | BU11: =IF(COUNTIF('データ整理_様式第2-6号①'!$BE$2:'データ整理_様式第2-6号①'!$BE11,"この線より上に行を挿入してください。")=0,'データ整理_様式第2-6号①'!$BL11,"")
E12: =IF(COUNTIF('データ整理_様式第2-6号①'!$B$2:'データ整理_様式第2-6号①'!$B12,"この線より上に行を挿入してください。")=0,'データ整理_様式第2-6号①'!$C12,"") | F12: =IF(COUNTIF('データ整理_様式第2-6号①'!$B$2:'データ整理_様式第2-6号①'!$B12,"この線より上に行を挿入してください。")=0,'データ整理_様式第2-6号①'!$D12,"") | G12: =IF(COUNTIF('データ整理_様式第2-6号①'!$B$2:'データ整理_様式第2-6号①'!$B12,"この線より上に行を挿入してください。")=0,'データ整理_様式第2-6号①'!$E12,"") | H12: =IF(COUNTIF('データ整理_様式第2-6号①'!$B$2:'データ整理_様式第2-6号①'!$B12,"この線より上に行を挿入してください。")=0,'データ整理_様式第2-6号①'!$F12,"") | J12: =IF(COUNTIF('データ整理_様式第2-6号①'!$B$2:'データ整理_様式第2-6号①'!$B12,"この線より上に行を挿入してください。")=0,'データ整理_様式第2-6号①'!$H12,"") | K12: =IF(COUNTIF('データ整理_様式第2-6号①'!$B$2:'データ整理_様式第2-6号①'!$B12,"この線より上に行を挿入してください。")=0,'データ整理_様式第2-6号①'!$I12,"") | L12: =IF(COUNTIF('データ整理_様式第2-6号①'!$K$2:'データ整理_様式第2-6号①'!$K12,"この線より上に行を挿入してください。")=0,'データ整理_様式第2-6号①'!$L12,"") | M12: =IF(COUNTIF('データ整理_様式第2-6号①'!$K$2:'データ整理_様式第2-6号①'!$K12,"この線より上に行を挿入してください。")=0,'データ整理_様式第2-6号①'!$M12,"") | N12: =IF(COUNTIF('データ整理_様式第2-6号①'!$K$2:'データ整理_様式第2-6号①'!$K12,"この線より上に行を挿入してください。")=0,'データ整理_様式第2-6号①'!$N12,"") | P12: =IF(COUNTIF('データ整理_様式第2-6号①'!$K$2:'データ整理_様式第2-6号①'!$K12,"この線より上に行を挿入してください。")=0,'データ整理_様式第2-6号①'!$P12,"") | Q12: =IF(COUNTIF('データ整理_様式第2-6号①'!$K$2:'データ整理_様式第2-6号①'!$K12,"この線より上に行を挿入してください。")=0,'データ整理_様式第2-6号①'!$Q12,"") | T12: =IF(COUNTIF('データ整理_様式第2-6号①'!$S$2:'データ整理_様式第2-6号①'!$S12,"この線より上に行を挿入してください。")=0,'データ整理_様式第2-6号①'!$S12,"") | U12: =IF(COUNTIF('データ整理_様式第2-6号①'!$S$2:'データ整理_様式第2-6号①'!$S12,"この線より上に行を挿入してください。")=0,'データ整理_様式第2-6号①'!$T12,"") | V12: =IF(COUNTIF('データ整理_様式第2-6号①'!$S$2:'データ整理_様式第2-6号①'!$S12,"この線より上に行を挿入してください。")=0,'データ整理_様式第2-6号①'!$U12,"") | W12: =IF(COUNTIF('データ整理_様式第2-6号①'!$S$2:'データ整理_様式第2-6号①'!$S12,"この線より上に行を挿入してください。")=0,'データ整理_様式第2-6号①'!$V12,"") | X12: =IF(COUNTIF('データ整理_様式第2-6号①'!$S$2:'データ整理_様式第2-6号①'!$S12,"この線より上に行を挿入してください。")=0,'データ整理_様式第2-6号①'!$W12,"") | AE12: =IF(COUNTIF('データ整理_様式第2-6号①'!$Y$2:'データ整理_様式第2-6号①'!$Y12,"この線より上に行を挿入してください。")=0,'データ整理_様式第2-6号①'!$Z12,"") | AF12: =IF(COUNTIF('データ整理_様式第2-6号①'!$Y$2:'データ整理_様式第2-6号①'!$Y12,"この線より上に行を挿入してください。")=0,'データ整理_様式第2-6号①'!$AA12,"") | AG12: =IF(COUNTIF('データ整理_様式第2-6号①'!$Y$2:'データ整理_様式第2-6号①'!$Y12,"この線より上に行を挿入してください。")=0,'データ整理_様式第2-6号①'!$AB12,"") | AH12: =IF(COUNTIF('データ整理_様式第2-6号①'!$Y$2:'データ整理_様式第2-6号①'!$Y12,"この線より上に行を挿入してください。")=0,'データ整理_様式第2-6号①'!$AC12,"") | AJ12: =IF(COUNTIF('データ整理_様式第2-6号①'!$Y$2:'データ整理_様式第2-6号①'!$Y12,"この線より上に行を挿入してください。")=0,'データ整理_様式第2-6号①'!$AE12,"") | AK12: =IF(COUNTIF('データ整理_様式第2-6号①'!$Y$2:'データ整理_様式第2-6号①'!$Y12,"この線より上に行を挿入してください。")=0,'データ整理_様式第2-6号①'!$AF12,"") | AL12: =IF(COUNTIF('データ整理_様式第2-6号①'!$AH$2:'データ整理_様式第2-6号①'!$AH12,"この線より上に行を挿入してください。")=0,'データ整理_様式第2-6号①'!$AI12,"") | AM12: =IF(COUNTIF('データ整理_様式第2-6号①'!$AH$2:'データ整理_様式第2-6号①'!$AH12,"この線より上に行を挿入してください。")=0,'データ整理_様式第2-6号①'!$AJ12,"") | AN12: =IF(COUNTIF('データ整理_様式第2-6号①'!$AH$2:'データ整理_様式第2-6号①'!$AH12,"この線より上に行を挿入してください。")=0,'データ整理_様式第2-6号①'!$AK12,"") | AO12: =IF(COUNTIF('データ整理_様式第2-6号①'!$AH$2:'データ整理_様式第2-6号①'!$AH12,"この線より上に行を挿入してください。")=0,'データ整理_様式第2-6号①'!$AL12,"") | AQ12: =IF(COUNTIF('データ整理_様式第2-6号①'!$AH$2:'データ整理_様式第2-6号①'!$AH12,"この線より上に行を挿入してください。")=0,'データ整理_様式第2-6号①'!$AN12,"") | AR12: =IF(COUNTIF('データ整理_様式第2-6号①'!$AH$2:'データ整理_様式第2-6号①'!$AH12,"この線より上に行を挿入してください。")=0,'データ整理_様式第2-6号①'!$AO12,"") | AS12: =IF(COUNTIF('データ整理_様式第2-6号①'!$AQ$2:'データ整理_様式第2-6号①'!$AQ12,"この線より上に行を挿入してください。")=0,'データ整理_様式第2-6号①'!$AR12,"") | AT12: =IF(COUNTIF('データ整理_様式第2-6号①'!$AQ$2:'データ整理_様式第2-6号①'!$AQ12,"この線より上に行を挿入してください。")=0,'データ整理_様式第2-6号①'!$AS12,"") | AU12: =IF(COUNTIF('データ整理_様式第2-6号①'!$AQ$2:'データ整理_様式第2-6号①'!$AQ12,"この線より上に行を挿入してください。")=0,'データ整理_様式第2-6号①'!$AT12,"") | AW12: =IF(COUNTIF('データ整理_様式第2-6号①'!$AQ$2:'データ整理_様式第2-6号①'!$AQ12,"この線より上に行を挿入してください。")=0,'データ整理_様式第2-6号①'!$AV12,"") | AX12: =IF(COUNTIF('データ整理_様式第2-6号①'!$AQ$2:'データ整理_様式第2-6号①'!$AQ12,"この線より上に行を挿入してください。")=0,'データ整理_様式第2-6号①'!$AW12,"") | BB12: =IF(COUNTIF('データ整理_様式第2-6号①'!$AY$2:'データ整理_様式第2-6号①'!$AY12,"この線より上に行を挿入してください。")=0,'データ整理_様式第2-6号①'!$AY12,"") | BC12: =IF(COUNTIF('データ整理_様式第2-6号①'!$AY$2:'データ整理_様式第2-6号①'!$AY12,"この線より上に行を挿入してください。")=0,'データ整理_様式第2-6号①'!$AZ12,"") | BD12: =IF(COUNTIF('データ整理_様式第2-6号①'!$AY$2:'データ整理_様式第2-6号①'!$AY12,"この線より上に行を挿入してください。")=0,'データ整理_様式第2-6号①'!$BA12,"") | BE12: =IF(COUNTIF('データ整理_様式第2-6号①'!$AY$2:'データ整理_様式第2-6号①'!$AY12,"この線より上に行を挿入してください。")=0,'データ整理_様式第2-6号①'!$BB12,"") | BF12: =IF(COUNTIF('データ整理_様式第2-6号①'!$AY$2:'データ整理_様式第2-6号①'!$AY12,"この線より上に行を挿入してください。")=0,'データ整理_様式第2-6号①'!$BC12,"") | BO12: =IF(COUNTIF('データ整理_様式第2-6号①'!$BE$2:'データ整理_様式第2-6号①'!$BE12,"この線より上に行を挿入してください。")=0,'データ整理_様式第2-6号①'!$BF12,"") | BP12: =IF(COUNTIF('データ整理_様式第2-6号①'!$BE$2:'データ整理_様式第2-6号①'!$BE12,"この線より上に行を挿入してください。")=0,'データ整理_様式第2-6号①'!$BG12,"") | BQ12: =IF(COUNTIF('データ整理_様式第2-6号①'!$BE$2:'データ整理_様式第2-6号①'!$BE12,"この線より上に行を挿入してください。")=0,'データ整理_様式第2-6号①'!$BH12,"") | BR12: =IF(COUNTIF('データ整理_様式第2-6号①'!$BE$2:'データ整理_様式第2-6号①'!$BE12,"この線より上に行を挿入してください。")=0,'データ整理_様式第2-6号①'!$BI12,"") | BT12: =IF(COUNTIF('データ整理_様式第2-6号①'!$BE$2:'データ整理_様式第2-6号①'!$BE12,"この線より上に行を挿入してください。")=0,'データ整理_様式第2-6号①'!$BK12,"") | BU12: =IF(COUNTIF('データ整理_様式第2-6号①'!$BE$2:'データ整理_様式第2-6号①'!$BE12,"この線より上に行を挿入してください。")=0,'データ整理_様式第2-6号①'!$BL12,"")
E13: =IF(COUNTIF('データ整理_様式第2-6号①'!$B$2:'データ整理_様式第2-6号①'!$B13,"この線より上に行を挿入してください。")=0,'データ整理_様式第2-6号①'!$C13,"") | F13: =IF(COUNTIF('データ整理_様式第2-6号①'!$B$2:'データ整理_様式第2-6号①'!$B13,"この線より上に行を挿入してください。")=0,'データ整理_様式第2-6号①'!$D13,"") | G13: =IF(COUNTIF('データ整理_様式第2-6号①'!$B$2:'データ整理_様式第2-6号①'!$B13,"この線より上に行を挿入してください。")=0,'データ整理_様式第2-6号①'!$E13,"") | H13: =IF(COUNTIF('データ整理_様式第2-6号①'!$B$2:'データ整理_様式第2-6号①'!$B13,"この線より上に行を挿入してください。")=0,'データ整理_様式第2-6号①'!$F13,"") | J13: =IF(COUNTIF('データ整理_様式第2-6号①'!$B$2:'データ整理_様式第2-6号①'!$B13,"この線より上に行を挿入してください。")=0,'データ整理_様式第2-6号①'!$H13,"") | K13: =IF(COUNTIF('データ整理_様式第2-6号①'!$B$2:'データ整理_様式第2-6号①'!$B13,"この線より上に行を挿入してください。")=0,'データ整理_様式第2-6号①'!$I13,"") | L13: =IF(COUNTIF('データ整理_様式第2-6号①'!$K$2:'データ整理_様式第2-6号①'!$K13,"この線より上に行を挿入してください。")=0,'データ整理_様式第2-6号①'!$L13,"") | M13: =IF(COUNTIF('データ整理_様式第2-6号①'!$K$2:'データ整理_様式第2-6号①'!$K13,"この線より上に行を挿入してください。")=0,'データ整理_様式第2-6号①'!$M13,"") | N13: =IF(COUNTIF('データ整理_様式第2-6号①'!$K$2:'データ整理_様式第2-6号①'!$K13,"この線より上に行を挿入してください。")=0,'データ整理_様式第2-6号①'!$N13,"") | P13: =IF(COUNTIF('データ整理_様式第2-6号①'!$K$2:'データ整理_様式第2-6号①'!$K13,"この線より上に行を挿入してください。")=0,'データ整理_様式第2-6号①'!$P13,"") | Q13: =IF(COUNTIF('データ整理_様式第2-6号①'!$K$2:'データ整理_様式第2-6号①'!$K13,"この線より上に行を挿入してください。")=0,'データ整理_様式第2-6号①'!$Q13,"") | T13: =IF(COUNTIF('データ整理_様式第2-6号①'!$S$2:'データ整理_様式第2-6号①'!$S13,"この線より上に行を挿入してください。")=0,'データ整理_様式第2-6号①'!$S13,"") | U13: =IF(COUNTIF('データ整理_様式第2-6号①'!$S$2:'データ整理_様式第2-6号①'!$S13,"この線より上に行を挿入してください。")=0,'データ整理_様式第2-6号①'!$T13,"") | V13: =IF(COUNTIF('データ整理_様式第2-6号①'!$S$2:'データ整理_様式第2-6号①'!$S13,"この線より上に行を挿入してください。")=0,'データ整理_様式第2-6号①'!$U13,"") | W13: =IF(COUNTIF('データ整理_様式第2-6号①'!$S$2:'データ整理_様式第2-6号①'!$S13,"この線より上に行を挿入してください。")=0,'データ整理_様式第2-6号①'!$V13,"") | X13: =IF(COUNTIF('データ整理_様式第2-6号①'!$S$2:'データ整理_様式第2-6号①'!$S13,"この線より上に行を挿入してください。")=0,'データ整理_様式第2-6号①'!$W13,"") | AE13: =IF(COUNTIF('データ整理_様式第2-6号①'!$Y$2:'データ整理_様式第2-6号①'!$Y13,"この線より上に行を挿入してください。")=0,'データ整理_様式第2-6号①'!$Z13,"") | AF13: =IF(COUNTIF('データ整理_様式第2-6号①'!$Y$2:'データ整理_様式第2-6号①'!$Y13,"この線より上に行を挿入してください。")=0,'データ整理_様式第2-6号①'!$AA13,"") | AG13: =IF(COUNTIF('データ整理_様式第2-6号①'!$Y$2:'データ整理_様式第2-6号①'!$Y13,"この線より上に行を挿入してください。")=0,'データ整理_様式第2-6号①'!$AB13,"") | AH13: =IF(COUNTIF('データ整理_様式第2-6号①'!$Y$2:'データ整理_様式第2-6号①'!$Y13,"この線より上に行を挿入してください。")=0,'データ整理_様式第2-6号①'!$AC13,"") | AJ13: =IF(COUNTIF('データ整理_様式第2-6号①'!$Y$2:'データ整理_様式第2-6号①'!$Y13,"この線より上に行を挿入してください。")=0,'データ整理_様式第2-6号①'!$AE13,"") | AK13: =IF(COUNTIF('データ整理_様式第2-6号①'!$Y$2:'データ整理_様式第2-6号①'!$Y13,"この線より上に行を挿入してください。")=0,'データ整理_様式第2-6号①'!$AF13,"") | AL13: =IF(COUNTIF('データ整理_様式第2-6号①'!$AH$2:'データ整理_様式第2-6号①'!$AH13,"この線より上に行を挿入してください。")=0,'データ整理_様式第2-6号①'!$AI13,"") | AM13: =IF(COUNTIF('データ整理_様式第2-6号①'!$AH$2:'データ整理_様式第2-6号①'!$AH13,"この線より上に行を挿入してください。")=0,'データ整理_様式第2-6号①'!$AJ13,"") | AN13: =IF(COUNTIF('データ整理_様式第2-6号①'!$AH$2:'データ整理_様式第2-6号①'!$AH13,"この線より上に行を挿入してください。")=0,'データ整理_様式第2-6号①'!$AK13,"") | AO13: =IF(COUNTIF('データ整理_様式第2-6号①'!$AH$2:'データ整理_様式第2-6号①'!$AH13,"この線より上に行を挿入してください。")=0,'データ整理_様式第2-6号①'!$AL13,"") | AQ13: =IF(COUNTIF('データ整理_様式第2-6号①'!$AH$2:'データ整理_様式第2-6号①'!$AH13,"この線より上に行を挿入してください。")=0,'データ整理_様式第2-6号①'!$AN13,"") | AR13: =IF(COUNTIF('データ整理_様式第2-6号①'!$AH$2:'データ整理_様式第2-6号①'!$AH13,"この線より上に行を挿入してください。")=0,'データ整理_様式第2-6号①'!$AO13,"") | AS13: =IF(COUNTIF('データ整理_様式第2-6号①'!$AQ$2:'データ整理_様式第2-6号①'!$AQ13,"この線より上に行を挿入してください。")=0,'データ整理_様式第2-6号①'!$AR13,"") | AT13: =IF(COUNTIF('データ整理_様式第2-6号①'!$AQ$2:'データ整理_様式第2-6号①'!$AQ13,"この線より上に行を挿入してください。")=0,'データ整理_様式第2-6号①'!$AS13,"") | AU13: =IF(COUNTIF('データ整理_様式第2-6号①'!$AQ$2:'データ整理_様式第2-6号①'!$AQ13,"この線より上に行を挿入してください。")=0,'データ整理_様式第2-6号①'!$AT13,"") | AW13: =IF(COUNTIF('データ整理_様式第2-6号①'!$AQ$2:'データ整理_様式第2-6号①'!$AQ13,"この線より上に行を挿入してください。")=0,'データ整理_様式第2-6号①'!$AV13,"") | AX13: =IF(COUNTIF('データ整理_様式第2-6号①'!$AQ$2:'データ整理_様式第2-6号①'!$AQ13,"この線より上に行を挿入してください。")=0,'データ整理_様式第2-6号①'!$AW13,"") | BB13: =IF(COUNTIF('データ整理_様式第2-6号①'!$AY$2:'データ整理_様式第2-6号①'!$AY13,"この線より上に行を挿入してください。")=0,'データ整理_様式第2-6号①'!$AY13,"") | BC13: =IF(COUNTIF('データ整理_様式第2-6号①'!$AY$2:'データ整理_様式第2-6号①'!$AY13,"この線より上に行を挿入してください。")=0,'データ整理_様式第2-6号①'!$AZ13,"") | BD13: =IF(COUNTIF('データ整理_様式第2-6号①'!$AY$2:'データ整理_様式第2-6号①'!$AY13,"この線より上に行を挿入してください。")=0,'データ整理_様式第2-6号①'!$BA13,"") | BE13: =IF(COUNTIF('データ整理_様式第2-6号①'!$AY$2:'データ整理_様式第2-6号①'!$AY13,"この線より上に行を挿入してください。")=0,'データ整理_様式第2-6号①'!$BB13,"") | BF13: =IF(COUNTIF('データ整理_様式第2-6号①'!$AY$2:'データ整理_様式第2-6号①'!$AY13,"この線より上に行を挿入してください。")=0,'データ整理_様式第2-6号①'!$BC13,"") | BO13: =IF(COUNTIF('データ整理_様式第2-6号①'!$BE$2:'データ整理_様式第2-6号①'!$BE13,"この線より上に行を挿入してください。")=0,'データ整理_様式第2-6号①'!$BF13,"") | BP13: =IF(COUNTIF('データ整理_様式第2-6号①'!$BE$2:'データ整理_様式第2-6号①'!$BE13,"この線より上に行を挿入してください。")=0,'データ整理_様式第2-6号①'!$BG13,"") | BQ13: =IF(COUNTIF('データ整理_様式第2-6号①'!$BE$2:'データ整理_様式第2-6号①'!$BE13,"この線より上に行を挿入してください。")=0,'データ整理_様式第2-6号①'!$BH13,"") | BR13: =IF(COUNTIF('データ整理_様式第2-6号①'!$BE$2:'データ整理_様式第2-6号①'!$BE13,"この線より上に行を挿入してください。")=0,'データ整理_様式第2-6号①'!$BI13,"") | BT13: =IF(COUNTIF('データ整理_様式第2-6号①'!$BE$2:'データ整理_様式第2-6号①'!$BE13,"この線より上に行を挿入してください。")=0,'データ整理_様式第2-6号①'!$BK13,"") | BU13: =IF(COUNTIF('データ整理_様式第2-6号①'!$BE$2:'データ整理_様式第2-6号①'!$BE13,"この線より上に行を挿入してください。")=0,'データ整理_様式第2-6号①'!$BL13,"")
E14: =IF(COUNTIF('データ整理_様式第2-6号①'!$B$2:'データ整理_様式第2-6号①'!$B14,"この線より上に行を挿入してください。")=0,'データ整理_様式第2-6号①'!$C14,"") | F14: =IF(COUNTIF('データ整理_様式第2-6号①'!$B$2:'データ整理_様式第2-6号①'!$B14,"この線より上に行を挿入してください。")=0,'データ整理_様式第2-6号①'!$D14,"") | G14: =IF(COUNTIF('データ整理_様式第2-6号①'!$B$2:'データ整理_様式第2-6号①'!$B14,"この線より上に行を挿入してください。")=0,'データ整理_様式第2-6号①'!$E14,"") | H14: =IF(COUNTIF('データ整理_様式第2-6号①'!$B$2:'データ整理_様式第2-6号①'!$B14,"この線より上に行を挿入してください。")=0,'データ整理_様式第2-6号①'!$F14,"") | J14: =IF(COUNTIF('データ整理_様式第2-6号①'!$B$2:'データ整理_様式第2-6号①'!$B14,"この線より上に行を挿入してください。")=0,'データ整理_様式第2-6号①'!$H14,"") | K14: =IF(COUNTIF('データ整理_様式第2-6号①'!$B$2:'データ整理_様式第2-6号①'!$B14,"この線より上に行を挿入してください。")=0,'データ整理_様式第2-6号①'!$I14,"") | L14: =IF(COUNTIF('データ整理_様式第2-6号①'!$K$2:'データ整理_様式第2-6号①'!$K14,"この線より上に行を挿入してください。")=0,'データ整理_様式第2-6号①'!$L14,"") | M14: =IF(COUNTIF('データ整理_様式第2-6号①'!$K$2:'データ整理_様式第2-6号①'!$K14,"この線より上に行を挿入してください。")=0,'データ整理_様式第2-6号①'!$M14,"") | N14: =IF(COUNTIF('データ整理_様式第2-6号①'!$K$2:'データ整理_様式第2-6号①'!$K14,"この線より上に行を挿入してください。")=0,'データ整理_様式第2-6号①'!$N14,"") | P14: =IF(COUNTIF('データ整理_様式第2-6号①'!$K$2:'データ整理_様式第2-6号①'!$K14,"この線より上に行を挿入してください。")=0,'データ整理_様式第2-6号①'!$P14,"") | Q14: =IF(COUNTIF('データ整理_様式第2-6号①'!$K$2:'データ整理_様式第2-6号①'!$K14,"この線より上に行を挿入してください。")=0,'データ整理_様式第2-6号①'!$Q14,"") | T14: =IF(COUNTIF('データ整理_様式第2-6号①'!$S$2:'データ整理_様式第2-6号①'!$S14,"この線より上に行を挿入してください。")=0,'データ整理_様式第2-6号①'!$S14,"") | U14: =IF(COUNTIF('データ整理_様式第2-6号①'!$S$2:'データ整理_様式第2-6号①'!$S14,"この線より上に行を挿入してください。")=0,'データ整理_様式第2-6号①'!$T14,"") | V14: =IF(COUNTIF('データ整理_様式第2-6号①'!$S$2:'データ整理_様式第2-6号①'!$S14,"この線より上に行を挿入してください。")=0,'データ整理_様式第2-6号①'!$U14,"") | W14: =IF(COUNTIF('データ整理_様式第2-6号①'!$S$2:'データ整理_様式第2-6号①'!$S14,"この線より上に行を挿入してください。")=0,'データ整理_様式第2-6号①'!$V14,"") | X14: =IF(COUNTIF('データ整理_様式第2-6号①'!$S$2:'データ整理_様式第2-6号①'!$S14,"この線より上に行を挿入してください。")=0,'データ整理_様式第2-6号①'!$W14,"") | AE14: =IF(COUNTIF('データ整理_様式第2-6号①'!$Y$2:'データ整理_様式第2-6号①'!$Y14,"この線より上に行を挿入してください。")=0,'データ整理_様式第2-6号①'!$Z14,"") | AF14: =IF(COUNTIF('データ整理_様式第2-6号①'!$Y$2:'データ整理_様式第2-6号①'!$Y14,"この線より上に行を挿入してください。")=0,'データ整理_様式第2-6号①'!$AA14,"") | AG14: =IF(COUNTIF('データ整理_様式第2-6号①'!$Y$2:'データ整理_様式第2-6号①'!$Y14,"この線より上に行を挿入してください。")=0,'データ整理_様式第2-6号①'!$AB14,"") | AH14: =IF(COUNTIF('データ整理_様式第2-6号①'!$Y$2:'データ整理_様式第2-6号①'!$Y14,"この線より上に行を挿入してください。")=0,'データ整理_様式第2-6号①'!$AC14,"") | AJ14: =IF(COUNTIF('データ整理_様式第2-6号①'!$Y$2:'データ整理_様式第2-6号①'!$Y14,"この線より上に行を挿入してください。")=0,'データ整理_様式第2-6号①'!$AE14,"") | AK14: =IF(COUNTIF('データ整理_様式第2-6号①'!$Y$2:'データ整理_様式第2-6号①'!$Y14,"この線より上に行を挿入してください。")=0,'データ整理_様式第2-6号①'!$AF14,"") | AL14: =IF(COUNTIF('データ整理_様式第2-6号①'!$AH$2:'データ整理_様式第2-6号①'!$AH14,"この線より上に行を挿入してください。")=0,'データ整理_様式第2-6号①'!$AI14,"") | AM14: =IF(COUNTIF('データ整理_様式第2-6号①'!$AH$2:'データ整理_様式第2-6号①'!$AH14,"この線より上に行を挿入してください。")=0,'データ整理_様式第2-6号①'!$AJ14,"") | AN14: =IF(COUNTIF('データ整理_様式第2-6号①'!$AH$2:'データ整理_様式第2-6号①'!$AH14,"この線より上に行を挿入してください。")=0,'データ整理_様式第2-6号①'!$AK14,"") | AO14: =IF(COUNTIF('データ整理_様式第2-6号①'!$AH$2:'データ整理_様式第2-6号①'!$AH14,"この線より上に行を挿入してください。")=0,'データ整理_様式第2-6号①'!$AL14,"") | AQ14: =IF(COUNTIF('データ整理_様式第2-6号①'!$AH$2:'データ整理_様式第2-6号①'!$AH14,"この線より上に行を挿入してください。")=0,'データ整理_様式第2-6号①'!$AN14,"") | AR14: =IF(COUNTIF('データ整理_様式第2-6号①'!$AH$2:'データ整理_様式第2-6号①'!$AH14,"この線より上に行を挿入してください。")=0,'データ整理_様式第2-6号①'!$AO14,"") | AS14: =IF(COUNTIF('データ整理_様式第2-6号①'!$AQ$2:'データ整理_様式第2-6号①'!$AQ14,"この線より上に行を挿入してください。")=0,'データ整理_様式第2-6号①'!$AR14,"") | AT14: =IF(COUNTIF('データ整理_様式第2-6号①'!$AQ$2:'データ整理_様式第2-6号①'!$AQ14,"この線より上に行を挿入してください。")=0,'データ整理_様式第2-6号①'!$AS14,"") | AU14: =IF(COUNTIF('データ整理_様式第2-6号①'!$AQ$2:'データ整理_様式第2-6号①'!$AQ14,"この線より上に行を挿入してください。")=0,'データ整理_様式第2-6号①'!$AT14,"") | AW14: =IF(COUNTIF('データ整理_様式第2-6号①'!$AQ$2:'データ整理_様式第2-6号①'!$AQ14,"この線より上に行を挿入してください。")=0,'データ整理_様式第2-6号①'!$AV14,"") | AX14: =IF(COUNTIF('データ整理_様式第2-6号①'!$AQ$2:'データ整理_様式第2-6号①'!$AQ14,"この線より上に行を挿入してください。")=0,'データ整理_様式第2-6号①'!$AW14,"") | BB14: =IF(COUNTIF('データ整理_様式第2-6号①'!$AY$2:'データ整理_様式第2-6号①'!$AY14,"この線より上に行を挿入してください。")=0,'データ整理_様式第2-6号①'!$AY14,"") | BC14: =IF(COUNTIF('データ整理_様式第2-6号①'!$AY$2:'データ整理_様式第2-6号①'!$AY14,"この線より上に行を挿入してください。")=0,'データ整理_様式第2-6号①'!$AZ14,"") | BD14: =IF(COUNTIF('データ整理_様式第2-6号①'!$AY$2:'データ整理_様式第2-6号①'!$AY14,"この線より上に行を挿入してください。")=0,'データ整理_様式第2-6号①'!$BA14,"") | BE14: =IF(COUNTIF('データ整理_様式第2-6号①'!$AY$2:'データ整理_様式第2-6号①'!$AY14,"この線より上に行を挿入してください。")=0,'データ整理_様式第2-6号①'!$BB14,"") | BF14: =IF(COUNTIF('データ整理_様式第2-6号①'!$AY$2:'データ整理_様式第2-6号①'!$AY14,"この線より上に行を挿入してください。")=0,'データ整理_様式第2-6号①'!$BC14,"") | BO14: =IF(COUNTIF('データ整理_様式第2-6号①'!$BE$2:'データ整理_様式第2-6号①'!$BE14,"この線より上に行を挿入してください。")=0,'データ整理_様式第2-6号①'!$BF14,"") | BP14: =IF(COUNTIF('データ整理_様式第2-6号①'!$BE$2:'データ整理_様式第2-6号①'!$BE14,"この線より上に行を挿入してください。")=0,'データ整理_様式第2-6号①'!$BG14,"") | BQ14: =IF(COUNTIF('データ整理_様式第2-6号①'!$BE$2:'データ整理_様式第2-6号①'!$BE14,"この線より上に行を挿入してください。")=0,'データ整理_様式第2-6号①'!$BH14,"") | BR14: =IF(COUNTIF('データ整理_様式第2-6号①'!$BE$2:'データ整理_様式第2-6号①'!$BE14,"この線より上に行を挿入してください。")=0,'データ整理_様式第2-6号①'!$BI14,"") | BT14: =IF(COUNTIF('データ整理_様式第2-6号①'!$BE$2:'データ整理_様式第2-6号①'!$BE14,"この線より上に行を挿入してください。")=0,'データ整理_様式第2-6号①'!$BK14,"") | BU14: =IF(COUNTIF('データ整理_様式第2-6号①'!$BE$2:'データ整理_様式第2-6号①'!$BE14,"この線より上に行を挿入してください。")=0,'データ整理_様式第2-6号①'!$BL14,"")
... E30: =IF(COUNTIF('データ整理_様式第2-6号①'!$B$2:'データ整理_様式第2-6号①'!$B30,"この線より上に行を挿入してください。")=0,'データ整理_様式第2-6号①'!$C30,"") | F30: =IF(COUNTIF('データ整理_様式第2-6号①'!$B$2:'データ整理_様式第2-6号①'!$B30,"この線より上に行を挿入してください。")=0,'データ整理_様式第2-6号①'!$D30,"") | G30: =IF(COUNTIF('データ整理_様式第2-6号①'!$B$2:'データ整理_様式第2-6号①'!$B30,"この線より上に行を挿入してください。")=0,'データ整理_様式第2-6号①'!$E30,"") | H30: =IF(COUNTIF('データ整理_様式第2-6号①'!$B$2:'データ整理_様式第2-6号①'!$B30,"この線より上に行を挿入してください。")=0,'データ整理_様式第2-6号①'!$F30,"") | J30: =IF(COUNTIF('データ整理_様式第2-6号①'!$B$2:'データ整理_様式第2-6号①'!$B30,"この線より上に行を挿入してください。")=0,'データ整理_様式第2-6号①'!$H30,"") | K30: =IF(COUNTIF('データ整理_様式第2-6号①'!$B$2:'データ整理_様式第2-6号①'!$B30,"この線より上に行を挿入してください。")=0,'データ整理_様式第2-6号①'!$I30,"") | L30: =IF(COUNTIF('データ整理_様式第2-6号①'!$K$2:'データ整理_様式第2-6号①'!$K30,"この線より上に行を挿入してください。")=0,'データ整理_様式第2-6号①'!$L30,"") | M30: =IF(COUNTIF('データ整理_様式第2-6号①'!$K$2:'データ整理_様式第2-6号①'!$K30,"この線より上に行を挿入してください。")=0,'データ整理_様式第2-6号①'!$M30,"") | N30: =IF(COUNTIF('データ整理_様式第2-6号①'!$K$2:'データ整理_様式第2-6号①'!$K30,"この線より上に行を挿入してください。")=0,'データ整理_様式第2-6号①'!$N30,"") | P30: =IF(COUNTIF('データ整理_様式第2-6号①'!$K$2:'データ整理_様式第2-6号①'!$K30,"この線より上に行を挿入してください。")=0,'データ整理_様式第2-6号①'!$P30,"") | Q30: =IF(COUNTIF('データ整理_様式第2-6号①'!$K$2:'データ整理_様式第2-6号①'!$K30,"この線より上に行を挿入してください。")=0,'データ整理_様式第2-6号①'!$Q30,"") | T30: =IF(COUNTIF('データ整理_様式第2-6号①'!$S$2:'データ整理_様式第2-6号①'!$S30,"この線より上に行を挿入してください。")=0,'データ整理_様式第2-6号①'!$S30,"") | U30: =IF(COUNTIF('データ整理_様式第2-6号①'!$S$2:'データ整理_様式第2-6号①'!$S30,"この線より上に行を挿入してください。")=0,'データ整理_様式第2-6号①'!$T30,"") | V30: =IF(COUNTIF('データ整理_様式第2-6号①'!$S$2:'データ整理_様式第2-6号①'!$S30,"この線より上に行を挿入してください。")=0,'データ整理_様式第2-6号①'!$U30,"") | W30: =IF(COUNTIF('データ整理_様式第2-6号①'!$S$2:'データ整理_様式第2-6号①'!$S30,"この線より上に行を挿入してください。")=0,'データ整理_様式第2-6号①'!$V30,"") | X30: =IF(COUNTIF('データ整理_様式第2-6号①'!$S$2:'データ整理_様式第2-6号①'!$S30,"この線より上に行を挿入してください。")=0,'データ整理_様式第2-6号①'!$W30,"") | AE30: =IF(COUNTIF('データ整理_様式第2-6号①'!$Y$2:'データ整理_様式第2-6号①'!$Y30,"この線より上に行を挿入してください。")=0,'データ整理_様式第2-6号①'!$Z30,"") | AF30: =IF(COUNTIF('データ整理_様式第2-6号①'!$Y$2:'データ整理_様式第2-6号①'!$Y30,"この線より上に行を挿入してください。")=0,'データ整理_様式第2-6号①'!$AA30,"") | AG30: =IF(COUNTIF('データ整理_様式第2-6号①'!$Y$2:'データ整理_様式第2-6号①'!$Y30,"この線より上に行を挿入してください。")=0,'データ整理_様式第2-6号①'!$AB30,"") | AH30: =IF(COUNTIF('データ整理_様式第2-6号①'!$Y$2:'データ整理_様式第2-6号①'!$Y30,"この線より上に行を挿入してください。")=0,'データ整理_様式第2-6号①'!$AC30,"") | AJ30: =IF(COUNTIF('データ整理_様式第2-6号①'!$Y$2:'データ整理_様式第2-6号①'!$Y30,"この線より上に行を挿入してください。")=0,'データ整理_様式第2-6号①'!$AE30,"") | AK30: =IF(COUNTIF('データ整理_様式第2-6号①'!$Y$2:'データ整理_様式第2-6号①'!$Y30,"この線より上に行を挿入してください。")=0,'データ整理_様式第2-6号①'!$AF30,"") | AL30: =IF(COUNTIF('データ整理_様式第2-6号①'!$AH$2:'データ整理_様式第2-6号①'!$AH30,"この線より上に行を挿入してください。")=0,'データ整理_様式第2-6号①'!$AI30,"") | AM30: =IF(COUNTIF('データ整理_様式第2-6号①'!$AH$2:'データ整理_様式第2-6号①'!$AH30,"この線より上に行を挿入してください。")=0,'データ整理_様式第2-6号①'!$AJ30,"") | AN30: =IF(COUNTIF('データ整理_様式第2-6号①'!$AH$2:'データ整理_様式第2-6号①'!$AH30,"この線より上に行を挿入してください。")=0,'データ整理_様式第2-6号①'!$AK30,"") | AO30: =IF(COUNTIF('データ整理_様式第2-6号①'!$AH$2:'データ整理_様式第2-6号①'!$AH30,"この線より上に行を挿入してください。")=0,'データ整理_様式第2-6号①'!$AL30,"") | AQ30: =IF(COUNTIF('データ整理_様式第2-6号①'!$AH$2:'データ整理_様式第2-6号①'!$AH30,"この線より上に行を挿入してください。")=0,'データ整理_様式第2-6号①'!$AN30,"") | AR30: =IF(COUNTIF('データ整理_様式第2-6号①'!$AH$2:'データ整理_様式第2-6号①'!$AH30,"この線より上に行を挿入してください。")=0,'データ整理_様式第2-6号①'!$AO30,"") | AS30: =IF(COUNTIF('データ整理_様式第2-6号①'!$AQ$2:'データ整理_様式第2-6号①'!$AQ30,"この線より上に行を挿入してください。")=0,'データ整理_様式第2-6号①'!$AR30,"") | AT30: =IF(COUNTIF('データ整理_様式第2-6号①'!$AQ$2:'データ整理_様式第2-6号①'!$AQ30,"この線より上に行を挿入してください。")=0,'データ整理_様式第2-6号①'!$AS30,"") | AU30: =IF(COUNTIF('データ整理_様式第2-6号①'!$AQ$2:'データ整理_様式第2-6号①'!$AQ30,"この線より上に行を挿入してください。")=0,'データ整理_様式第2-6号①'!$AT30,"") | AW30: =IF(COUNTIF('データ整理_様式第2-6号①'!$AQ$2:'データ整理_様式第2-6号①'!$AQ30,"この線より上に行を挿入してください。")=0,'データ整理_様式第2-6号①'!$AV30,"") | AX30: =IF(COUNTIF('データ整理_様式第2-6号①'!$AQ$2:'データ整理_様式第2-6号①'!$AQ30,"この線より上に行を挿入してください。")=0,'データ整理_様式第2-6号①'!$AW30,"") | BB30: =IF(COUNTIF('データ整理_様式第2-6号①'!$AY$2:'データ整理_様式第2-6号①'!$AY30,"この線より上に行を挿入してください。")=0,'データ整理_様式第2-6号①'!$AY30,"") | BC30: =IF(COUNTIF('データ整理_様式第2-6号①'!$AY$2:'データ整理_様式第2-6号①'!$AY30,"この線より上に行を挿入してください。")=0,'データ整理_様式第2-6号①'!$AZ30,"") | BD30: =IF(COUNTIF('データ整理_様式第2-6号①'!$AY$2:'データ整理_様式第2-6号①'!$AY30,"この線より上に行を挿入してください。")=0,'データ整理_様式第2-6号①'!$BA30,"") | BE30: =IF(COUNTIF('データ整理_様式第2-6号①'!$AY$2:'データ整理_様式第2-6号①'!$AY30,"この線より上に行を挿入してください。")=0,'データ整理_様式第2-6号①'!$BB30,"") | BF30: =IF(COUNTIF('データ整理_様式第2-6号①'!$AY$2:'データ整理_様式第2-6号①'!$AY30,"この線より上に行を挿入してください。")=0,'データ整理_様式第2-6号①'!$BC30,"") | BO30: =IF(COUNTIF('データ整理_様式第2-6号①'!$BE$2:'データ整理_様式第2-6号①'!$BE30,"この線より上に行を挿入してください。")=0,'データ整理_様式第2-6号①'!$BF30,"") | BP30: =IF(COUNTIF('データ整理_様式第2-6号①'!$BE$2:'データ整理_様式第2-6号①'!$BE30,"この線より上に行を挿入してください。")=0,'データ整理_様式第2-6号①'!$BG30,"") | BQ30: =IF(COUNTIF('データ整理_様式第2-6号①'!$BE$2:'データ整理_様式第2-6号①'!$BE30,"この線より上に行を挿入してください。")=0,'データ整理_様式第2-6号①'!$BH30,"") | BR30: =IF(COUNTIF('データ整理_様式第2-6号①'!$BE$2:'データ整理_様式第2-6号①'!$BE30,"この線より上に行を挿入してください。")=0,'データ整理_様式第2-6号①'!$BI30,"") | BT30: =IF(COUNTIF('データ整理_様式第2-6号①'!$BE$2:'データ整理_様式第2-6号①'!$BE30,"この線より上に行を挿入してください。")=0,'データ整理_様式第2-6号①'!$BK30,"") | BU30: =IF(COUNTIF('データ整理_様式第2-6号①'!$BE$2:'データ整理_様式第2-6号①'!$BE30,"この線より上に行を挿入してください。")=0,'データ整理_様式第2-6号①'!$BL30,"")

Sheet リスト
K1: 活動記録で選択された取組番号から、区分、項目、取組を自動入力するための表 | P1: ←活動記録に取組番号が入力された回数をカウントし、これをもとに実施状況報告書の「実施欄」の○、×を判定しています。 | Q1: 都道府県の要綱基本方針において取組を追加した場合の設定方法（県の担当者が作業してください）
A2: A.■か□ | B2: B.○か空白 | C2: C.○か－か× | D2: D.農村環境保全活動のテーマ | E2: E.高度な保全活動 | F2: F.施設 | G2: G.単位 | H2: H.構成員一覧の分類 | I2: I.金銭出納簿の区分 | J2: J.金銭出納簿の収支の分類 | K2: 番号 | L2: 支払区分 | M2: 活動項目 | O2: 取組 | Q2: 要綱基本方針において取組を追加した場合、以下の方法により修正することができます。
A3: ■ | B3: ○ | C3: ○ | D3: 生態系保全 | E3: 循環かんがいによる水質保全 | F3: 水路 | G3: km | H3: １.農業者個人 | I3: 1 | J3: １.前年度持越 | K3: 200 | L3: - | M3: 事務処理 | N3: 事務処理 | O3: 200 事務処理 | Q3: ●共通：活動記録で、追加した取組番号を入力できるようにする
A4: □ | C4: － | D4: 水質保全 | E4: 浄化水路による水質保全 | F4: 農道 | G4: 箇所 | H4: ２.農事組合法人 | I4: 2 | J4: ２.交付金 | K4: 300 | L4: - | M4: 会議 | N4: 会議 | O4: 300 会議 | Q4: １）「取組番号早見表シート」及び「取組番号シート」に番号、支払区分、活動項目、取組を追加する。
C5: × | D5: 景観形成・生活環境保全 | E5: 地下水かん養 | F5: ため池 | H5: ３.営農組合 | J5: ３.利子等 | Q5: ２）「選択肢」シートのK列～O列の72行以降に行を挿入し、追加した取組番号、支払区分、活動項目、取組を入力する。
D6: 水田貯留機能増進・地下水かん養 | E6: 持続的な水管理 | H6: ４.その他の農業者団体 | J6: ４.日当 | K6: 1 | L6: 農地維持 | M6: 点検・計画策定 | N6: 点検 | O6: 1 点検 | Q6: ３）「選択肢」シートＰ列の72行以降にP71セル（活動記録に入力された回数のカウントを行う数式）をコピーする。
D7: 資源循環 | E7: 土壌流出防止 | H7: ５.農業者以外個人 | J7: ５.購入・リース費 | K7: 2 | L7: 農地維持 | M7: 点検・計画策定 | N7: 計画策定 | O7: 2 年度活動計画の策定 | Q7: （この作業により、活動記録に取組番号が入力された回数がＰ列に入力され、これをもとに実施状況報告書の「実施欄」の○、×を判定します。）
E8: 生物多様性の回復 | H8: ６.自治会 | J8: ６.外注費 | K8: 3 | L8: 農地維持 | M8: 研修 | N8: 研修 | O8: 3 事務・組織運営等に関する研修、機械の安全使用に関する研修
E9: 水環境の回復 | H9: ７.女性会 | J9: ７.その他支出 | K9: 4 | L9: 農地維持 | M9: 実践活動 | N9: 農用地 | O9: 4 遊休農地発生防止のための保全管理 | Q9: ●農村環境保全活動、多面的機能の増進を図る活動、長寿命化のための活動を追加する場合は以下の設定を行う
E10: 持続的な畦畔管理 | H10: ８.子供会 | J10: ８.返還 | K10: 5 | L10: 農地維持 | M10: 実践活動 | N10: 農用地 | O10: 5 畦畔・法面・防風林の草刈り | Q10: ①農村環境保全活動の項目を追加する場合
E11: 専門家の指導 | H11: ９.土地改良区 | K11: 6 | L11: 農地維持 | M11: 実践活動 | N11: 農用地 | O11: 6 鳥獣害防護柵等の保守管理 | Q11: 活動計画書３（２）１）で実践活動を選択する際に、追加した項目を選択できるようにする
H12: 10.JA | K12: 7 | L12: 農地維持 | M12: 実践活動 | N12: 水路 | O12: 7 水路の草刈り | Q12: １）「選択肢」シートのQ列の「50 地域資源の～」の下に番号と取組を入力する。
H13: 11.学校・PTA | K13: 8 | L13: 農地維持 | M13: 実践活動 | N13: 水路 | O13: 8 水路の泥上げ | Q13: このとき、「●共通」で入力した取組名と同じになるように注意してください。
H14: 12.NPO | K14: 9 | L14: 農地維持 | M14: 実践活動 | N14: 水路 | O14: 9 水路附帯施設の保守管理 | Q14: ２）「数式」タブの「名前の管理」を選択し、リストの中から「K.農村環境保全活動」を選択し、「参照範囲」の右のアイコンをクリック
H15: 13.その他の農業者以外団体 | K15: 10 | L15: 農地維持 | M15: 実践活動 | N15: 農道 | O15: 10 農道の草刈り | Q15: ３）参照範囲に追加した取組を含むよう範囲を選択し直し、確定する。
K16: 11 | L16: 農地維持 | M16: 実践活動 | N16: 農道 | O16: 11 農道側溝の泥上げ
K17: 12 | L17: 農地維持 | M17: 実践活動 | N17: 農道 | O17: 12 路面の維持 | Q17: ②多面的機能の増進を図る活動の項目を追加する場合
D18: 区分 | E18: 区分 | K18: 13 | L18: 農地維持 | M18: 実践活動 | N18: ため池 | O18: 13 ため池の草刈り | Q18: ②-1 活動計画書３（２）２）で都道府県、市町村が認める具体的な活動の内容を選択できるようにする
D19: 活動項目の追加 | E19: テーマの追加 | K19: 14 | L19: 農地維持 | M19: 実践活動 | N19: ため池 | O19: 14 ため池の泥上げ | Q19: １）「選択肢」シートのR列の「59 都道府県、～」の下に番号と取組を入力する。
D20: 活動内容の追加 | E20: テーマの削除 | K20: 15 | L20: 農地維持 | M20: 実践活動 | N20: ため池 | O20: 15 ため池附帯施設の保守管理 | Q20: ２）「数式」タブの「名前の定義」を選択し、任意のリスト名と参照範囲を設定する。
D21: 活動要件の設定 | E21: 活動項目の追加 | K21: 16 | L21: 農地維持 | M21: 実践活動 | N21: 共通 | O21: 16 異常気象時の対応 | Q21: ３）「活動計画書」シートの３.の（２）の２）の「都道府県、市町村が認める具体的な活動」の記入欄を選択した状態で
E22: 活動項目の削除 | K22: 17 | L22: 農地維持 | M22: 推進活動 | N22: 推進活動 | O22: 17 農業者（入り作農家、土地持ち非農家を含む）による検討会の開催 | Q22: 「データ」タブの「データの入力規則」を選択する。
E23: 活動内容の変更（追加又は削除等） | K23: 18 | L23: 農地維持 | M23: 推進活動 | N23: 推進活動 | O23: 18 農業者に対する意向調査、農業者による現地調査 | Q23: ４）入力値の設定を「リスト」にし、「元の値」の表示の入力欄を選択した状態で「数式」タブの「数式で使用」を選択する。
E24: 活動要件の設定 | K24: 19 | L24: 農地維持 | M24: 推進活動 | N24: 推進活動 | O24: 19 不在村地主との連携体制の整備、調整、それに必要な調査 | Q24: ５）リストの中から２）で設定したリスト名を選択し確定する。
K25: 20 | L25: 農地維持 | M25: 推進活動 | N25: 推進活動 | O25: 20 地域住民等（集落外の住民・組織等も含む）との意見交換・ワークショップ・交流会の開催
K26: 21 | L26: 農地維持 | M26: 推進活動 | N26: 推進活動 | O26: 21 地域住民等に対する意向調査、地域住民との集落内調査 | Q26: ②-2 活動計画書４（２）の加算措置の適用条件の確認ができるようにする
K27: 22 | L27: 農地維持 | M27: 推進活動 | N27: 推進活動 | O27: 22 有識者等による研修会、有識者を交えた検討会の開催 | Q27: 「加算措置」シートの（２）資源向上支払（共同）の多面的機能の更なる増進に向けた活動への支援の適用条件の確認欄に
K28: 23 | L28: 農地維持 | M28: 推進活動 | N28: 推進活動 | O28: 23 その他（地域の実情に応じて対象組織が具体的に設定） | Q28: 新たに行を追加し、追加した取組を入力する。
K29: 24 | L29: 共同 | M29: 機能診断・計画策定 | N29: 機能診断 | O29: 24 農用地の機能診断
K30: 25 | L30: 共同 | M30: 機能診断・計画策定 | N30: 機能診断 | O30: 25 水路の機能診断 | Q30: ③長寿命化の項目を追加する場合
K31: 26 | L31: 共同 | M31: 機能診断・計画策定 | N31: 機能診断 | O31: 26 農道の機能診断 | Q31: 活動計画書３（３）で実践活動を選択する際に、追加した項目を選択できるようにする
K32: 27 | L32: 共同 | M32: 機能診断・計画策定 | N32: 機能診断 | O32: 27 ため池の機能診断 | Q32: １）「選択肢」シートのM列の「66 ため池（附帯施設）の更新等」の下に番号と取組名を入力する
K33: 28 | L33: 共同 | M33: 機能診断・計画策定 | N33: 計画策定 | O33: 28 年度活動計画の策定 | Q33: ２）「数式」タブの「名前の管理」を選択し、リストから「M.長寿命化」を選択し、「参照範囲」の右のアイコンをクリック
K34: 29 | L34: 共同 | M34: 研修 | N34: 研修 | O34: 29 機能診断・補修技術等に関する研修 | Q34: ３）参照範囲に追加した取組を含むよう範囲を選択し直し、確定する。
K35: 30 | L35: 共同 | M35: 実践活動 | N35: 農用地 | O35: 30 農用地の軽微な補修等
K36: 31 | L36: 共同 | M36: 実践活動 | N36: 水路 | O36: 31 水路の軽微な補修等
K37: 32 | L37: 共同 | M37: 実践活動 | N37: 農道 | O37: 32 農道の軽微な補修等
K38: 33 | L38: 共同 | M38: 実践活動 | N38: ため池 | O38: 33 ため池の軽微な補修等
K39: 34 | L39: 共同 | M39: 計画策定 | N39: 生態系保全 | O39: 34 生物多様性保全計画の策定
K40: 35 | L40: 共同 | M40: 計画策定 | N40: 水質保全 | O40: 35 水質保全計画、農地保全計画の策定
K41: 36 | L41: 共同 | M41: 計画策定 | N41: 景観形成・生活環境保全 | O41: 36 景観形成計画、生活環境保全計画の策定
K42: 37 | L42: 共同 | M42: 計画策定 | N42: 水田貯留・地下水かん養 | O42: 37 水田貯留機能増進計画、地下水かん養活動計画の策定 | P42: 活動計画書、実施状況報告書のプルダウン選択用
K43: 38 | L43: 共同 | M43: 計画策定 | N43: 資源循環 | O43: 38 資源循環計画の策定 | P43: Ｋ.農村環境保全活動
K44: 39 | L44: 共同 | M44: 実践活動 | N44: 生態系保全 | O44: 39 生物の生息状況の把握 | P44: 39 生物の生息状況の把握（生態系保全）
K45: 40 | L45: 共同 | M45: 実践活動 | N45: 生態系保全 | O45: 40 外来種の駆除 | P45: 40 外来種の駆除（生態系保全）
K46: 41 | L46: 共同 | M46: 実践活動 | N46: 生態系保全 | O46: 41 その他（生態系保全） | P46: 41 その他（生態系保全）
K47: 42 | L47: 共同 | M47: 実践活動 | N47: 水質保全 | O47: 42 水質モニタリングの実施・記録管理 | P47: 42 水質モニタリングの実施・記録管理（水質保全）
K48: 43 | L48: 共同 | M48: 実践活動 | N48: 水質保全 | O48: 43 畑からの土砂流出対策 | P48: 43 畑からの土砂流出対策（水質保全）
K49: 44 | L49: 共同 | M49: 実践活動 | N49: 水質保全 | O49: 44 その他（水質保全） | P49: 44 その他（水質保全）
K50: 45 | L50: 共同 | M50: 実践活動 | N50: 景観形成・生活環境保全 | O50: 45 植栽等の景観形成活動 | P50: 45 植栽等の景観形成活動（景観形成・生活環境保全）
K51: 46 | L51: 共同 | M51: 実践活動 | N51: 景観形成・生活環境保全 | O51: 46 施設等の定期的な巡回点検・清掃 | P51: 46 施設等の定期的な巡回点検・清掃（景観形成・生活環境保全）
K52: 47 | L52: 共同 | M52: 実践活動 | N52: 景観形成・生活環境保全 | O52: 47 その他（景観形成・生活環境保全） | P52: 47 その他（景観形成・生活環境保全）
K53: 48 | L53: 共同 | M53: 実践活動 | N53: 水田貯留・地下水かん養 | O53: 48 水田の貯留機能向上活動 | P53: 48 水田の貯留機能向上活動（水田貯留機能増進・地下水かん養）
K54: 49 | L54: 共同 | M54: 実践活動 | N54: 水田貯留・地下水かん養 | O54: 49 水田の地下水かん養機能向上活動・水源かん養林の保全 | P54: 49 地下水かん養活動、水源かん養林の保全（水田貯留機能増進・地下水かん養）
K55: 50 | L55: 共同 | M55: 実践活動 | N55: 資源循環 | O55: 50 地域資源の活用・資源循環活動 | P55: 50 地域資源の活用・資源循環活動（資源循環） | Q55: 活動計画書、実施状況報告書のプルダウン選択用
K56: 51 | L56: 共同 | M56: 啓発・普及 | N56: 啓発・普及 | O56: 51 啓発・普及活動 | Q56: Ｌ.増進活動
K57: 52 | L57: 共同 | M57: 増進活動 | N57: 増進活動 | O57: 52 遊休農地の有効活動 | Q57: 52 遊休農地の有効活用
K58: 53 | L58: 共同 | M58: 増進活動 | N58: 増進活動 | O58: 53 鳥獣被害防止対策及び環境改善活動の強化 | Q58: 53 鳥獣被害防止対策及び環境改善活動の強化
K59: 54 | L59: 共同 | M59: 増進活動 | N59: 増進活動 | O59: 54 地域住民による直営施工 | Q59: 54 地域住民による直営施工
K60: 55 | L60: 共同 | M60: 増進活動 | N60: 増進活動 | O60: 55 防災・減災力の強化 | Q60: 55 防災・減災力の強化
K61: 56 | L61: 共同 | M61: 増進活動 | N61: 増進活動 | O61: 56 農村環境保全活動の幅広い展開 | Q61: 56 農村環境保全活動の幅広い展開
K62: 57 | L62: 共同 | M62: 増進活動 | N62: 増進活動 | O62: 57 やすらぎ・福祉及び教育機能の活用 | Q62: 57 やすらぎ・福祉及び教育機能の活用
K63: 58 | L63: 共同 | M63: 増進活動 | N63: 増進活動 | O63: 58 農村文化の伝承を通じた農村コミュニティの強化 | Q63: 58 農村文化の伝承を通じた農村コミュニティの強化
K64: 59 | L64: 共同 | M64: 増進活動 | N64: 増進活動 | O64: 59 都道府県、市町村が特に認める活動 | Q64: 59 都道府県、市町村が特に認める活動 | R64: 活動計画書、実施状況報告書のプルダウン選択用
K65: 60 | L65: 共同 | M65: 増進活動 | N65: 増進活動 | O65: 60 広報活動・農的関係人口の拡大 | R65: Ｍ.長寿命化
K66: 61 | L66: 長寿命化 | M66: 実践活動 | N66: 水路 | O66: 61 水路の補修 | R66: 61 水路の補修
K67: 62 | L67: 長寿命化 | M67: 実践活動 | N67: 水路 | O67: 62 水路の更新等 | R67: 62 水路の更新等
K68: 63 | L68: 長寿命化 | M68: 実践活動 | N68: 農道 | O68: 63 農道の補修 | R68: 63 農道の補修
K69: 64 | L69: 長寿命化 | M69: 実践活動 | N69: 農道 | O69: 64 農道の更新等 | R69: 64 農道の更新等
K70: 65 | L70: 長寿命化 | M70: 実践活動 | N70: ため池 | O70: 65 ため池の補修 | R70: 65 ため池の補修
K71: 66 | L71: 長寿命化 | M71: 実践活動 | N71: ため池 | O71: 66 ため池（附帯施設）の更新等 | R71: 66 ため池（附帯施設）の更新等
O72: 67 その他（100番以降）
M74: この線より上に行を挿入してください。
