Workbook
Name OLE_LINK1: '【記入例】様式第2-6号①'!$A$1
Name OLE_LINK1: '様式第2-6号①'!$A$1
Name OLE_LINK10: '【記入例】様式第2-6号①'!$C$112
Name OLE_LINK10: '様式第2-6号①'!$C$112
Name OLE_LINK11: '【記入例】様式第2-6号①'!$A$61
Name OLE_LINK11: '様式第2-6号①'!$A$61
Name OLE_LINK20: '【記入例】様式第2-6号①'!$A$46
Name OLE_LINK20: '様式第2-6号①'!$A$46
Name OLE_LINK24: '【記入例】様式第2-6号①'!$A$93
Name OLE_LINK24: '様式第2-6号①'!$A$93
Name OLE_LINK25: '【記入例】様式第2-6号①'!$C$127
Name OLE_LINK25: '様式第2-6号①'!$C$127
Name OLE_LINK3: '【記入例】様式第2-6号①'!$C$91
Name OLE_LINK3: '様式第2-6号①'!$C$91
Name OLE_LINK33: '【記入例】様式第2-6号①'!$A$144
Name OLE_LINK33: '様式第2-6号①'!$A$144
Name OLE_LINK4: '【記入例】様式第2-6号①'!$C$142
Name OLE_LINK4: '様式第2-6号①'!$C$142
Name OLE_LINK6: '【記入例】様式第2-6号①'!$C$180
Name OLE_LINK6: '様式第2-6号①'!$C$180

Sheet 様式第2-6号①
A1: （様式第２－６号）
A2: 【都道府県から国に提出するもの】 農林水産省様式
C4: ○○県
C6: 多面的機能支払の実施に関する基本方針（要綱基本方針）
A9: １． 取組の推進に関する基本的考え方
A12: ２． 農地維持支払交付金に関する事項
A13: （１）地域活動指針の策定及び同指針に基づき定める要件の設定
A14: ① 地域活動指針策定における基本的考え方
A16: ② 地域活動指針に基づき定める要件設定の基本的考え方
A17: ア．地域資源の基礎的保全活動
A19: イ．地域資源の適切な保全管理のための推進活動
A21: ③ 国が定める活動指針及び活動要件に追加する事項等
A22: ア．地域資源の基礎的保全活動
C23: 区 分 | E23: 活動項目の追加
D24: 活動区分
D25: 対象施設等
D26: 活動項目
D27: 活動内容
D28: 活動要件
C29: この線より上に行を挿入してください。
C30: ※区分には、「活動項目の追加」、「活動内容の追加」又は「活動要件の設定」のうち該当するものを記載すること。なお、「活動内容の追加」、「活動要件の設定」については、追加箇所等を《》で囲むこと。また、活動項目については、活動項目名に活動項目番号を100番から順に付け、活動の内容を共通申請画面内に入力すること。
A32: イ．地域資源の適切な保全管理のための推進活動
C33: 区 分 | E33: 活動項目の追加
D34: 活動区分
D35: 活動項目
D36: 活動内容
D37: 活動要件
C38: この線より上に行を挿入してください。
C39: ※区分には、「活動項目の追加」、「活動内容の追加」又は「活動要件の設定」のうち該当するものを記載すること。なお、「活動内容の追加」、「活動要件の設定」については、追加箇所等を《》で囲むこと。また、活動項目については、活動項目名に活動項目番号を100番（前項までに100番以降を付けた場合は次の番号）から順に付け、活動の内容を共通申請画面内に入力すること。
A41: ④ 地域活動指針及び同指針に基づき定める要件（別紙１）
C42: ○○県の農地維持支払交付金に関する地域活動指針及び同指針に基づき定める要件は、別紙１のとおりとする。
A45: （２）交付単価
A46: ① 基本的考え方 | E46: テスト５
A47: ② 農地維持支払交付金の交付単価
B48: 地域 | C48: 適用 | D48: 地目 | E48: 農地維持支払交付金の10アール当たりの交付単価 | G48: 左記のうち国の助成
D51: 田 | E51: 0 | G51: =E51/2 -> 0
D52: 畑 | E52: 0 | G52: =E52/2 -> 0
D53: 草地 | E53: 0 | G53: =E53/2 -> 0
B54: この線より上に行を挿入してください。
A56: （３）交付金の算定の対象とする農用地
...

Sheet 【記入例】様式第2-6号①
A1: （様式第２－６号）
A2: 【都道府県から国に提出するもの】 農林水産省様式
C4: ○○県
C6: 多面的機能支払の実施に関する基本方針（要綱基本方針）
A9: １． 取組の推進に関する基本的考え方
A10: テスト１
A12: ２． 農地維持支払交付金に関する事項
A13: （１）地域活動指針の策定及び同指針に基づき定める要件の設定
A14: ① 地域活動指針策定における基本的考え方
C15: テスト２
A16: ② 地域活動指針に基づき定める要件設定の基本的考え方
A17: ア．地域資源の基礎的保全活動
C18: テスト３
A19: イ．地域資源の適切な保全管理のための推進活動
C20: テスト４
A21: ③ 国が定める活動指針及び活動要件に追加する事項等
A22: ア．地域資源の基礎的保全活動
C23: 区 分 | E23: 活動項目の追加
D24: 活動区分
D25: 対象施設等
D26: 活動項目
D27: 活動内容
D28: 活動要件
C29: この線より上に行を挿入してください。
C30: ※区分には、「活動項目の追加」、「活動内容の追加」又は「活動要件の設定」のうち該当するものを記載すること。なお、「活動内容の追加」、「活動要件の設定」については、追加箇所等を《》で囲むこと。また、活動項目については、活動項目名に活動項目番号を100番から順に付け、活動の内容を共通申請画面内に入力すること。
A32: イ．地域資源の適切な保全管理のための推進活動
C33: 区 分 | E33: 活動項目の追加
D34: 活動区分
D35: 活動項目
D36: 活動内容
D37: 活動要件
C38: この線より上に行を挿入してください。
C39: ※区分には、「活動項目の追加」、「活動内容の追加」又は「活動要件の設定」のうち該当するものを記載すること。なお、「活動内容の追加」、「活動要件の設定」については、追加箇所等を《》で囲むこと。また、活動項目については、活動項目名に活動項目番号を100番（前項までに100番以降を付けた場合は次の番号）から順に付け、活動の内容を共通申請画面内に入力すること。
A41: ④ 地域活動指針及び同指針に基づき定める要件（別紙１）
C42: ○○県の農地維持支払交付金に関する地域活動指針及び同指針に基づき定める要件は、別紙１のとおりとする。
A45: （２）交付単価
A46: ① 基本的考え方 | E46: テスト５
A47: ② 農地維持支払交付金の交付単価
B48: 地域 | C48: 適用 | D48: 地目 | E48: 農地維持支払交付金の10アール当たりの交付単価 | G48: 左記のうち国の助成
D51: 田 | E51: 0 | G51: =E51/2 -> 0
...

Sheet データ整理_様式第2-6号①
B1: 判定 | C1: ４－８．区分 | D1: ４－９．活動区分 | E1: ４－１０．対象施設等 | F1: ４－１１．活動項目 | G1: ４－１１．活動項目２ | H1: ４－１２．活動内容 | I1: ４－１３．活動要件 | K1: 判定 | L1: ４－１５．区分 | M1: ４－１６．活動区分 | N1: ４－１７．活動項目 | O1: ４－１７．活動項目２ | P1: ４－１８．活動内容 | Q1: ４－１９．活動要件 | S1: ４－２２．地域 | T1: ４－２３．適用 | U1: ４－２４．交付単価（田） | V1: ４－２５．交付単価（畑） | W1: ４－２６．交付単価（草地） | Y1: 判定 | Z1: ４－３７．区分 | AA1: ４－３８．活動区分 | AB1: ４－３９．対象施設等 | AC1: ４－４０．活動項目 | AD1: ４－４０．活動項目２ | AE1: ４－４１．活動内容 | AF1: ４－４２．活動要件 | AH1: 判定 | AI1: ４－４４．区分 | AJ1: ４－４５．活動区分 | AK1: ４－４６．テーマ | AL1: ４－４７．活動項目 | AM1: ４－４７．活動項目２ | AN1: ４－４８．活動内容 | AO1: ４－４９．活動要件 | AQ1: 判定 | AR1: ４－５０．区分 | AS1: ４－５１．活動区分 | AT1: ４－５２．活動項目 | AU1: ４－５２．活動項目２ | AV1: ４－５３，活動内容 | AW1: ４－５４．活動要件 | AY1: ４－６０．地域 | AZ1: ４－６１．適用 | BA1: ４－６２．交付単価（田） | BB1: ４－６３．交付単価（畑） | BC1: ４－６４．交付単価（草地） | BE1: 判定 | BF1: ４－７８．区分 | BG1: ４－７９．活動区分 | BH1: ４－８０．施設区分 | BI1: ４－８１．活動項目 | BJ1: ４－８１．活動項目２ | BK1: ４－８２．活動内容 | BL1: ４－８３．活動要件
A2: 1 | B2: =IF(OFFSET('様式第2-6号①'!$C$23,$A2-1,)="","",OFFSET('様式第2-6号①'!$C$23,$A2-1,)) -> 区 分 | C2: =IF(OFFSET('様式第2-6号①'!$E$23,$A2-1,)="","",OFFSET('様式第2-6号①'!$E$23,$A2-1,)) -> 活動項目の追加 | D2: =IF(OFFSET('様式第2-6号①'!$E$23,$A2,)="","",OFFSET('様式第2-6号①'!$E$23,$A2,)) | E2: =IF(OFFSET('様式第2-6号①'!$E$23,$A2+1,)="","",OFFSET('様式第2-6号①'!$E$23,$A2+1,)) | F2: =IF(OFFSET('様式第2-6号①'!$E$23,$A2+2,)="","",OFFSET('様式第2-6号①'!$E$23,$A2+2,)) | G2: 取込無し | H2: =IF(OFFSET('様式第2-6号①'!$E$23,$A2+3,)="","",OFFSET('様式第2-6号①'!$E$23,$A2+3,)) | I2: =IF(OFFSET('様式第2-6号①'!$E$23,$A2+4,)="","",OFFSET('様式第2-6号①'!$E$23,$A2+4,)) | J2: 1 | K2: =IF(OFFSET('様式第2-6号①'!$C$33,$J2-1,)="","",OFFSET('様式第2-6号①'!$C$33,$J2-1,)) -> 区 分 | L2: =IF(OFFSET('様式第2-6号①'!$E$33,$J2-1,)="","",OFFSET('様式第2-6号①'!$E$33,$J2-1,)) -> 活動項目の追加 | M2: =IF(OFFSET('様式第2-6号①'!$E$33,$J2,)="","",OFFSET('様式第2-6号①'!$E$33,$J2,)) | N2: =IF(OFFSET('様式第2-6号①'!$E$33,$J2+1,)="","",OFFSET('様式第2-6号①'!$E$33,$J2+1,)) | O2: 取込無し | P2: =IF(OFFSET('様式第2-6号①'!$E$33,$J2+2,)="","",OFFSET('様式第2-6号①'!$E$33,$J2+2,)) | Q2: =IF(OFFSET('様式第2-6号①'!$E$33,$J2+3,)="","",OFFSET('様式第2-6号①'!$E$33,$J2+3,)) | R2: 1 | S2: =IF(OFFSET('様式第2-6号①'!$B$50,$R2,)="","",OFFSET('様式第2-6号①'!$B$50,$R2,)) | T2: =IF(OFFSET('様式第2-6号①'!$C$50,$R2,)="","",OFFSET('様式第2-6号①'!$C$50,$R2,)) | U2: =IF(OFFSET('様式第2-6号①'!$E$50,$R2,)="","",OFFSET('様式第2-6号①'!$E$50,$R2,)) -> 0 | V2: =IF(OFFSET('様式第2-6号①'!$E$50,$R2+1,)="","",OFFSET('様式第2-6号①'!$E$50,$R2+1,)) -> 0 | W2: =IF(OFFSET('様式第2-6号①'!$E$50,$R2+2,)="","",OFFSET('様式第2-6号①'!$E$50,$R2+2,)) -> 0 | X2: 1 | Y2: =IF(OFFSET('様式第2-6号①'!$C$74,$X2-1,)="","",OFFSET('様式第2-6号①'!$C$74,$X2-1,)) -> 区 分 | Z2: =IF(OFFSET('様式第2-6号①'!$E$74,$X2-1,)="","",OFFSET('様式第2-6号①'!$E$74,$X2-1,)) -> 活動項目の追加 | AA2: =IF(OFFSET('様式第2-6号①'!$E$74,$X2,)="","",OFFSET('様式第2-6号①'!$E$74,$X2,)) | AB2: =IF(OFFSET('様式第2-6号①'!$E$74,$X2+1,)="","",OFFSET('様式第2-6号①'!$E$74,$X2+1,)) | AC2: =IF(OFFSET('様式第2-6号①'!$E$74,$X2+2,)="","",OFFSET('様式第2-6号①'!$E$74,$X2+2,)) | AD2: 取込無し | AE2: =IF(OFFSET('様式第2-6号①'!$E$74,$X2+3,)="","",OFFSET('様式第2-6号①'!$E$74,$X2+3,)) | AF2: =IF(OFFSET('様式第2-6号①'!$E$74,$X2+4,)="","",OFFSET('様式第2-6号①'!$E$74,$X2+4,)) | AG2: 1 | AH2: =IF(OFFSET('様式第2-6号①'!$C$84,$AG2-1,)="","",OFFSET('様式第2-6号①'!$C$84,$AG2-1,)) -> 区 分 | AI2: =IF(OFFSET('様式第2-6号①'!$E$84,$AG2-1,)="","",OFFSET('様式第2-6号①'!$E$84,$AG2-1,)) -> テーマの追加 | AJ2: =IF(OFFSET('様式第2-6号①'!$E$84,$AG2,)="","",OFFSET('様式第2-6号①'!$E$84,$AG2,)) | AK2: =IF(OFFSET('様式第2-6号①'!$E$84,$AG2+1,)="","",OFFSET('様式第2-6号①'!$E$84,$AG2+1,)) | AL2: =IF(OFFSET('様式第2-6号①'!$E$84,$AG2+2,)="","",OFFSET('様式第2-6号①'!$E$84,$AG2+2,)) | AM2: 取込無し | AN2: =IF(OFFSET('様式第2-6号①'!$E$84,$AG2+3,)="","",OFFSET('様式第2-6号①'!$E$84,$AG2+3,)) | AO2: =IF(OFFSET('様式第2-6号①'!$E$84,$AG2+4,)="","",OFFSET('様式第2-6号①'!$E$84,$AG2+4,)) | AP2: 1 | AQ2: =IF(OFFSET('様式第2-6号①'!$C$94,$AP2-1,)="","",OFFSET('様式第2-6号①'!$C$94,$AP2-1,)) -> 区 分 | AR2: =IF(OFFSET('様式第2-6号①'!$E$94,$AP2-1,)="","",OFFSET('様式第2-6号①'!$E$94,$AP2-1,)) -> 活動項目の追加 | AS2: =IF(OFFSET('様式第2-6号①'!$E$94,$AP2,)="","",OFFSET('様式第2-6号①'!$E$94,$AP2,)) | AT2: =IF(OFFSET('様式第2-6号①'!$E$94,$AP2+1,)="","",OFFSET('様式第2-6号①'!$E$94,$AP2+1,)) | AU2: 取込無し | AV2: =IF(OFFSET('様式第2-6号①'!$E$94,$AP2+2,)="","",OFFSET('様式第2-6号①'!$E$94,$AP2+2,)) | AW2: =IF(OFFSET('様式第2-6号①'!$E$94,$AP2+3,)="","",OFFSET('様式第2-6号①'!$E$94,$AP2+3,)) | AX2: 1 | AY2: =IF(OFFSET('様式第2-6号①'!$B$114,$AX2,)="","",OFFSET('様式第2-6号①'!$B$114,$AX2,)) | AZ2: =IF(OFFSET('様式第2-6号①'!$C$114,$AX2,)="","",OFFSET('様式第2-6号①'!$C$114,$AX2,)) | BA2: =IF(OFFSET('様式第2-6号①'!$E$114,$AX2,)="","",OFFSET('様式第2-6号①'!$E$114,$AX2,)) -> 0 | BB2: =IF(OFFSET('様式第2-6号①'!$E$114,$AX2+1,)="","",OFFSET('様式第2-6号①'!$E$114,$AX2+1,)) -> 0 | BC2: =IF(OFFSET('様式第2-6号①'!$E$114,$AX2+2,)="","",OFFSET('様式第2-6号①'!$E$114,$AX2+2,)) -> 0 | BD2: 1 | BE2: =IF(OFFSET('様式第2-6号①'!$C$145,$BD2-1,)="","",OFFSET('様式第2-6号①'!$C$145,$BD2-1,)) -> 区 分 | BF2: =IF(OFFSET('様式第2-6号①'!$E$145,$BD2-1,)="","",OFFSET('様式第2-6号①'!$E$145,$BD2-1,)) -> 活動項目の追加 | BG2: =IF(OFFSET('様式第2-6号①'!$E$145,$BD2,)="","",OFFSET('様式第2-6号①'!$E$145,$BD2,)) | BH2: =IF(OFFSET('様式第2-6号①'!$E$145,$BD2+1,)="","",OFFSET('様式第2-6号①'!$E$145,$BD2+1,)) | BI2: =IF(OFFSET('様式第2-6号①'!$E$145,$BD2+2,)="","",OFFSET('様式第2-6号①'!$E$145,$BD2+2,)) | BJ2: 取込無し | BK2: =IF(OFFSET('様式第2-6号①'!$E$145,$BD2+3,)="","",OFFSET('様式第2-6号①'!$E$145,$BD2+3,)) | BL2: =IF(OFFSET('様式第2-6号①'!$E$145,$BD2+4,)="","",OFFSET('様式第2-6号①'!$E$145,$BD2+4,))
A3: 7 | B3: =IF(OFFSET('様式第2-6号①'!$C$23,$A3-1,)="","",OFFSET('様式第2-6号①'!$C$23,$A3-1,)) -> この線より上に行を挿入してください。 | C3: =IF(OFFSET('様式第2-6号①'!$E$23,$A3-1,)="","",OFFSET('様式第2-6号①'!$E$23,$A3-1,)) | D3: =IF(OFFSET('様式第2-6号①'!$E$23,$A3,)="","",OFFSET('様式第2-6号①'!$E$23,$A3,)) | E3: =IF(OFFSET('様式第2-6号①'!$E$23,$A3+1,)="","",OFFSET('様式第2-6号①'!$E$23,$A3+1,)) | F3: =IF(OFFSET('様式第2-6号①'!$E$23,$A3+2,)="","",OFFSET('様式第2-6号①'!$E$23,$A3+2,)) | H3: =IF(OFFSET('様式第2-6号①'!$E$23,$A3+3,)="","",OFFSET('様式第2-6号①'!$E$23,$A3+3,)) -> 活動項目の追加 | I3: =IF(OFFSET('様式第2-6号①'!$E$23,$A3+4,)="","",OFFSET('様式第2-6号①'!$E$23,$A3+4,)) | J3: 6 | K3: =IF(OFFSET('様式第2-6号①'!$C$33,$J3-1,)="","",OFFSET('様式第2-6号①'!$C$33,$J3-1,)) -> この線より上に行を挿入してください。 | L3: =IF(OFFSET('様式第2-6号①'!$E$33,$J3-1,)="","",OFFSET('様式第2-6号①'!$E$33,$J3-1,)) | M3: =IF(OFFSET('様式第2-6号①'!$E$33,$J3,)="","",OFFSET('様式第2-6号①'!$E$33,$J3,)) | N3: =IF(OFFSET('様式第2-6号①'!$E$33,$J3+1,)="","",OFFSET('様式第2-6号①'!$E$33,$J3+1,)) | P3: =IF(OFFSET('様式第2-6号①'!$E$33,$J3+2,)="","",OFFSET('様式第2-6号①'!$E$33,$J3+2,)) | Q3: =IF(OFFSET('様式第2-6号①'!$E$33,$J3+3,)="","",OFFSET('様式第2-6号①'!$E$33,$J3+3,)) | R3: 4 | S3: =IF(OFFSET('様式第2-6号①'!$B$50,$R3,)="","",OFFSET('様式第2-6号①'!$B$50,$R3,)) -> この線より上に行を挿入してください。 | T3: =IF(OFFSET('様式第2-6号①'!$C$50,$R3,)="","",OFFSET('様式第2-6号①'!$C$50,$R3,)) | U3: =IF(OFFSET('様式第2-6号①'!$E$50,$R3,)="","",OFFSET('様式第2-6号①'!$E$50,$R3,)) | V3: =IF(OFFSET('様式第2-6号①'!$E$50,$R3+1,)="","",OFFSET('様式第2-6号①'!$E$50,$R3+1,)) | W3: =IF(OFFSET('様式第2-6号①'!$E$50,$R3+2,)="","",OFFSET('様式第2-6号①'!$E$50,$R3+2,)) | X3: 7 | Y3: =IF(OFFSET('様式第2-6号①'!$C$74,$X3-1,)="","",OFFSET('様式第2-6号①'!$C$74,$X3-1,)) -> この線より上に行を挿入してください。 | Z3: =IF(OFFSET('様式第2-6号①'!$E$74,$X3-1,)="","",OFFSET('様式第2-6号①'!$E$74,$X3-1,)) | AA3: =IF(OFFSET('様式第2-6号①'!$E$74,$X3,)="","",OFFSET('様式第2-6号①'!$E$74,$X3,)) | AB3: =IF(OFFSET('様式第2-6号①'!$E$74,$X3+1,)="","",OFFSET('様式第2-6号①'!$E$74,$X3+1,)) | AC3: =IF(OFFSET('様式第2-6号①'!$E$74,$X3+2,)="","",OFFSET('様式第2-6号①'!$E$74,$X3+2,)) | AE3: =IF(OFFSET('様式第2-6号①'!$E$74,$X3+3,)="","",OFFSET('様式第2-6号①'!$E$74,$X3+3,)) -> テーマの追加 | AF3: =IF(OFFSET('様式第2-6号①'!$E$74,$X3+4,)="","",OFFSET('様式第2-6号①'!$E$74,$X3+4,)) | AG3: 7 | AH3: =IF(OFFSET('様式第2-6号①'!$C$84,$AG3-1,)="","",OFFSET('様式第2-6号①'!$C$84,$AG3-1,)) -> この線より上に行を挿入してください。 | AI3: =IF(OFFSET('様式第2-6号①'!$E$84,$AG3-1,)="","",OFFSET('様式第2-6号①'!$E$84,$AG3-1,)) | AJ3: =IF(OFFSET('様式第2-6号①'!$E$84,$AG3,)="","",OFFSET('様式第2-6号①'!$E$84,$AG3,)) | AK3: =IF(OFFSET('様式第2-6号①'!$E$84,$AG3+1,)="","",OFFSET('様式第2-6号①'!$E$84,$AG3+1,)) | AL3: =IF(OFFSET('様式第2-6号①'!$E$84,$AG3+2,)="","",OFFSET('様式第2-6号①'!$E$84,$AG3+2,)) | AN3: =IF(OFFSET('様式第2-6号①'!$E$84,$AG3+3,)="","",OFFSET('様式第2-6号①'!$E$84,$AG3+3,)) -> 活動項目の追加 | AO3: =IF(OFFSET('様式第2-6号①'!$E$84,$AG3+4,)="","",OFFSET('様式第2-6号①'!$E$84,$AG3+4,)) | AP3: 6 | AQ3: =IF(OFFSET('様式第2-6号①'!$C$94,$AP3-1,)="","",OFFSET('様式第2-6号①'!$C$94,$AP3-1,)) -> この線より上に行を挿入してください。 | AR3: =IF(OFFSET('様式第2-6号①'!$E$94,$AP3-1,)="","",OFFSET('様式第2-6号①'!$E$94,$AP3-1,)) | AS3: =IF(OFFSET('様式第2-6号①'!$E$94,$AP3,)="","",OFFSET('様式第2-6号①'!$E$94,$AP3,)) | AT3: =IF(OFFSET('様式第2-6号①'!$E$94,$AP3+1,)="","",OFFSET('様式第2-6号①'!$E$94,$AP3+1,)) | AV3: =IF(OFFSET('様式第2-6号①'!$E$94,$AP3+2,)="","",OFFSET('様式第2-6号①'!$E$94,$AP3+2,)) | AW3: =IF(OFFSET('様式第2-6号①'!$E$94,$AP3+3,)="","",OFFSET('様式第2-6号①'!$E$94,$AP3+3,)) | AX3: 4 | AY3: =IF(OFFSET('様式第2-6号①'!$B$114,$AX3,)="","",OFFSET('様式第2-6号①'!$B$114,$AX3,)) | AZ3: =IF(OFFSET('様式第2-6号①'!$C$114,$AX3,)="","",OFFSET('様式第2-6号①'!$C$114,$AX3,)) | BA3: =IF(OFFSET('様式第2-6号①'!$E$114,$AX3,)="","",OFFSET('様式第2-6号①'!$E$114,$AX3,)) -> 0 | BB3: =IF(OFFSET('様式第2-6号①'!$E$114,$AX3+1,)="","",OFFSET('様式第2-6号①'!$E$114,$AX3+1,)) -> 0 | BC3: =IF(OFFSET('様式第2-6号①'!$E$114,$AX3+2,)="","",OFFSET('様式第2-6号①'!$E$114,$AX3+2,)) -> 0 | BD3: 7 | BE3: =IF(OFFSET('様式第2-6号①'!$C$145,$BD3-1,)="","",OFFSET('様式第2-6号①'!$C$145,$BD3-1,)) -> この線より上に行を挿入してください。 | BF3: =IF(OFFSET('様式第2-6号①'!$E$145,$BD3-1,)="","",OFFSET('様式第2-6号①'!$E$145,$BD3-1,)) | BG3: =IF(OFFSET('様式第2-6号①'!$E$145,$BD3,)="","",OFFSET('様式第2-6号①'!$E$145,$BD3,)) | BH3: =IF(OFFSET('様式第2-6号①'!$E$145,$BD3+1,)="","",OFFSET('様式第2-6号①'!$E$145,$BD3+1,)) | BI3: =IF(OFFSET('様式第2-6号①'!$E$145,$BD3+2,)="","",OFFSET('様式第2-6号①'!$E$145,$BD3+2,)) | BK3: =IF(OFFSET('様式第2-6号①'!$E$145,$BD3+3,)="","",OFFSET('様式第2-6号①'!$E$145,$BD3+3,)) | BL3: =IF(OFFSET('様式第2-6号①'!$E$145,$BD3+4,)="","",OFFSET('様式第2-6号①'!$E$145,$BD3+4,))
A4: 13 | B4: =IF(OFFSET('様式第2-6号①'!$C$23,$A4-1,)="","",OFFSET('様式第2-6号①'!$C$23,$A4-1,)) | C4: =IF(OFFSET('様式第2-6号①'!$E$23,$A4-1,)="","",OFFSET('様式第2-6号①'!$E$23,$A4-1,)) | D4: =IF(OFFSET('様式第2-6号①'!$E$23,$A4,)="","",OFFSET('様式第2-6号①'!$E$23,$A4,)) | E4: =IF(OFFSET('様式第2-6号①'!$E$23,$A4+1,)="","",OFFSET('様式第2-6号①'!$E$23,$A4+1,)) | F4: =IF(OFFSET('様式第2-6号①'!$E$23,$A4+2,)="","",OFFSET('様式第2-6号①'!$E$23,$A4+2,)) | H4: =IF(OFFSET('様式第2-6号①'!$E$23,$A4+3,)="","",OFFSET('様式第2-6号①'!$E$23,$A4+3,)) | I4: =IF(OFFSET('様式第2-6号①'!$E$23,$A4+4,)="","",OFFSET('様式第2-6号①'!$E$23,$A4+4,)) | J4: 11 | K4: =IF(OFFSET('様式第2-6号①'!$C$33,$J4-1,)="","",OFFSET('様式第2-6号①'!$C$33,$J4-1,)) | L4: =IF(OFFSET('様式第2-6号①'!$E$33,$J4-1,)="","",OFFSET('様式第2-6号①'!$E$33,$J4-1,)) | M4: =IF(OFFSET('様式第2-6号①'!$E$33,$J4,)="","",OFFSET('様式第2-6号①'!$E$33,$J4,)) | N4: =IF(OFFSET('様式第2-6号①'!$E$33,$J4+1,)="","",OFFSET('様式第2-6号①'!$E$33,$J4+1,)) | P4: =IF(OFFSET('様式第2-6号①'!$E$33,$J4+2,)="","",OFFSET('様式第2-6号①'!$E$33,$J4+2,)) -> テスト５ | Q4: =IF(OFFSET('様式第2-6号①'!$E$33,$J4+3,)="","",OFFSET('様式第2-6号①'!$E$33,$J4+3,)) | R4: 7 | S4: =IF(OFFSET('様式第2-6号①'!$B$50,$R4,)="","",OFFSET('様式第2-6号①'!$B$50,$R4,)) | T4: =IF(OFFSET('様式第2-6号①'!$C$50,$R4,)="","",OFFSET('様式第2-6号①'!$C$50,$R4,)) | U4: =IF(OFFSET('様式第2-6号①'!$E$50,$R4,)="","",OFFSET('様式第2-6号①'!$E$50,$R4,)) | V4: =IF(OFFSET('様式第2-6号①'!$E$50,$R4+1,)="","",OFFSET('様式第2-6号①'!$E$50,$R4+1,)) | W4: =IF(OFFSET('様式第2-6号①'!$E$50,$R4+2,)="","",OFFSET('様式第2-6号①'!$E$50,$R4+2,)) | X4: 13 | Y4: =IF(OFFSET('様式第2-6号①'!$C$74,$X4-1,)="","",OFFSET('様式第2-6号①'!$C$74,$X4-1,)) | Z4: =IF(OFFSET('様式第2-6号①'!$E$74,$X4-1,)="","",OFFSET('様式第2-6号①'!$E$74,$X4-1,)) | AA4: =IF(OFFSET('様式第2-6号①'!$E$74,$X4,)="","",OFFSET('様式第2-6号①'!$E$74,$X4,)) | AB4: =IF(OFFSET('様式第2-6号①'!$E$74,$X4+1,)="","",OFFSET('様式第2-6号①'!$E$74,$X4+1,)) | AC4: =IF(OFFSET('様式第2-6号①'!$E$74,$X4+2,)="","",OFFSET('様式第2-6号①'!$E$74,$X4+2,)) | AE4: =IF(OFFSET('様式第2-6号①'!$E$74,$X4+3,)="","",OFFSET('様式第2-6号①'!$E$74,$X4+3,)) | AF4: =IF(OFFSET('様式第2-6号①'!$E$74,$X4+4,)="","",OFFSET('様式第2-6号①'!$E$74,$X4+4,)) | AG4: 13 | AH4: =IF(OFFSET('様式第2-6号①'!$C$84,$AG4-1,)="","",OFFSET('様式第2-6号①'!$C$84,$AG4-1,)) | AI4: =IF(OFFSET('様式第2-6号①'!$E$84,$AG4-1,)="","",OFFSET('様式第2-6号①'!$E$84,$AG4-1,)) | AJ4: =IF(OFFSET('様式第2-6号①'!$E$84,$AG4,)="","",OFFSET('様式第2-6号①'!$E$84,$AG4,)) | AK4: =IF(OFFSET('様式第2-6号①'!$E$84,$AG4+1,)="","",OFFSET('様式第2-6号①'!$E$84,$AG4+1,)) | AL4: =IF(OFFSET('様式第2-6号①'!$E$84,$AG4+2,)="","",OFFSET('様式第2-6号①'!$E$84,$AG4+2,)) | AN4: =IF(OFFSET('様式第2-6号①'!$E$84,$AG4+3,)="","",OFFSET('様式第2-6号①'!$E$84,$AG4+3,)) | AO4: =IF(OFFSET('様式第2-6号①'!$E$84,$AG4+4,)="","",OFFSET('様式第2-6号①'!$E$84,$AG4+4,)) | AP4: 11 | AQ4: =IF(OFFSET('様式第2-6号①'!$C$94,$AP4-1,)="","",OFFSET('様式第2-6号①'!$C$94,$AP4-1,)) | AR4: =IF(OFFSET('様式第2-6号①'!$E$94,$AP4-1,)="","",OFFSET('様式第2-6号①'!$E$94,$AP4-1,)) | AS4: =IF(OFFSET('様式第2-6号①'!$E$94,$AP4,)="","",OFFSET('様式第2-6号①'!$E$94,$AP4,)) | AT4: =IF(OFFSET('様式第2-6号①'!$E$94,$AP4+1,)="","",OFFSET('様式第2-6号①'!$E$94,$AP4+1,)) | AV4: =IF(OFFSET('様式第2-6号①'!$E$94,$AP4+2,)="","",OFFSET('様式第2-6号①'!$E$94,$AP4+2,)) | AW4: =IF(OFFSET('様式第2-6号①'!$E$94,$AP4+3,)="","",OFFSET('様式第2-6号①'!$E$94,$AP4+3,)) | AX4: 7 | AY4: =IF(OFFSET('様式第2-6号①'!$B$114,$AX4,)="","",OFFSET('様式第2-6号①'!$B$114,$AX4,)) -> この線より上に行を挿入してください。 | AZ4: =IF(OFFSET('様式第2-6号①'!$C$114,$AX4,)="","",OFFSET('様式第2-6号①'!$C$114,$AX4,)) | BA4: =IF(OFFSET('様式第2-6号①'!$E$114,$AX4,)="","",OFFSET('様式第2-6号①'!$E$114,$AX4,)) | BB4: =IF(OFFSET('様式第2-6号①'!$E$114,$AX4+1,)="","",OFFSET('様式第2-6号①'!$E$114,$AX4+1,)) | BC4: =IF(OFFSET('様式第2-6号①'!$E$114,$AX4+2,)="","",OFFSET('様式第2-6号①'!$E$114,$AX4+2,)) | BD4: 13 | BE4: =IF(OFFSET('様式第2-6号①'!$C$145,$BD4-1,)="","",OFFSET('様式第2-6号①'!$C$145,$BD4-1,)) | BF4: =IF(OFFSET('様式第2-6号①'!$E$145,$BD4-1,)="","",OFFSET('様式第2-6号①'!$E$145,$BD4-1,)) | BG4: =IF(OFFSET('様式第2-6号①'!$E$145,$BD4,)="","",OFFSET('様式第2-6号①'!$E$145,$BD4,)) | BH4: =IF(OFFSET('様式第2-6号①'!$E$145,$BD4+1,)="","",OFFSET('様式第2-6号①'!$E$145,$BD4+1,)) | BI4: =IF(OFFSET('様式第2-6号①'!$E$145,$BD4+2,)="","",OFFSET('様式第2-6号①'!$E$145,$BD4+2,)) | BK4: =IF(OFFSET('様式第2-6号①'!$E$145,$BD4+3,)="","",OFFSET('様式第2-6号①'!$E$145,$BD4+3,)) | BL4: =IF(OFFSET('様式第2-6号①'!$E$145,$BD4+4,)="","",OFFSET('様式第2-6号①'!$E$145,$BD4+4,))
A5: 19 | B5: =IF(OFFSET('様式第2-6号①'!$C$23,$A5-1,)="","",OFFSET('様式第2-6号①'!$C$23,$A5-1,)) | C5: =IF(OFFSET('様式第2-6号①'!$E$23,$A5-1,)="","",OFFSET('様式第2-6号①'!$E$23,$A5-1,)) | D5: =IF(OFFSET('様式第2-6号①'!$E$23,$A5,)="","",OFFSET('様式第2-6号①'!$E$23,$A5,)) | E5: =IF(OFFSET('様式第2-6号①'!$E$23,$A5+1,)="","",OFFSET('様式第2-6号①'!$E$23,$A5+1,)) | F5: =IF(OFFSET('様式第2-6号①'!$E$23,$A5+2,)="","",OFFSET('様式第2-6号①'!$E$23,$A5+2,)) | H5: =IF(OFFSET('様式第2-6号①'!$E$23,$A5+3,)="","",OFFSET('様式第2-6号①'!$E$23,$A5+3,)) | I5: =IF(OFFSET('様式第2-6号①'!$E$23,$A5+4,)="","",OFFSET('様式第2-6号①'!$E$23,$A5+4,)) -> テスト５ | J5: 16 | K5: =IF(OFFSET('様式第2-6号①'!$C$33,$J5-1,)="","",OFFSET('様式第2-6号①'!$C$33,$J5-1,)) -> 適用 | L5: =IF(OFFSET('様式第2-6号①'!$E$33,$J5-1,)="","",OFFSET('様式第2-6号①'!$E$33,$J5-1,)) -> 農地維持支払交付金の10アール当たりの交付単価 | M5: =IF(OFFSET('様式第2-6号①'!$E$33,$J5,)="","",OFFSET('様式第2-6号①'!$E$33,$J5,)) | N5: =IF(OFFSET('様式第2-6号①'!$E$33,$J5+1,)="","",OFFSET('様式第2-6号①'!$E$33,$J5+1,)) | P5: =IF(OFFSET('様式第2-6号①'!$E$33,$J5+2,)="","",OFFSET('様式第2-6号①'!$E$33,$J5+2,)) -> 0 | Q5: =IF(OFFSET('様式第2-6号①'!$E$33,$J5+3,)="","",OFFSET('様式第2-6号①'!$E$33,$J5+3,)) -> 0 | R5: 10 | S5: =IF(OFFSET('様式第2-6号①'!$B$50,$R5,)="","",OFFSET('様式第2-6号①'!$B$50,$R5,)) | T5: =IF(OFFSET('様式第2-6号①'!$C$50,$R5,)="","",OFFSET('様式第2-6号①'!$C$50,$R5,)) | U5: =IF(OFFSET('様式第2-6号①'!$E$50,$R5,)="","",OFFSET('様式第2-6号①'!$E$50,$R5,)) | V5: =IF(OFFSET('様式第2-6号①'!$E$50,$R5+1,)="","",OFFSET('様式第2-6号①'!$E$50,$R5+1,)) | W5: =IF(OFFSET('様式第2-6号①'!$E$50,$R5+2,)="","",OFFSET('様式第2-6号①'!$E$50,$R5+2,)) | X5: 19 | Y5: =IF(OFFSET('様式第2-6号①'!$C$74,$X5-1,)="","",OFFSET('様式第2-6号①'!$C$74,$X5-1,)) | Z5: =IF(OFFSET('様式第2-6号①'!$E$74,$X5-1,)="","",OFFSET('様式第2-6号①'!$E$74,$X5-1,)) | AA5: =IF(OFFSET('様式第2-6号①'!$E$74,$X5,)="","",OFFSET('様式第2-6号①'!$E$74,$X5,)) | AB5: =IF(OFFSET('様式第2-6号①'!$E$74,$X5+1,)="","",OFFSET('様式第2-6号①'!$E$74,$X5+1,)) -> 活動項目の追加 | AC5: =IF(OFFSET('様式第2-6号①'!$E$74,$X5+2,)="","",OFFSET('様式第2-6号①'!$E$74,$X5+2,)) | AE5: =IF(OFFSET('様式第2-6号①'!$E$74,$X5+3,)="","",OFFSET('様式第2-6号①'!$E$74,$X5+3,)) | AF5: =IF(OFFSET('様式第2-6号①'!$E$74,$X5+4,)="","",OFFSET('様式第2-6号①'!$E$74,$X5+4,)) | AG5: 19 | AH5: =IF(OFFSET('様式第2-6号①'!$C$84,$AG5-1,)="","",OFFSET('様式第2-6号①'!$C$84,$AG5-1,)) | AI5: =IF(OFFSET('様式第2-6号①'!$E$84,$AG5-1,)="","",OFFSET('様式第2-6号①'!$E$84,$AG5-1,)) | AJ5: =IF(OFFSET('様式第2-6号①'!$E$84,$AG5,)="","",OFFSET('様式第2-6号①'!$E$84,$AG5,)) | AK5: =IF(OFFSET('様式第2-6号①'!$E$84,$AG5+1,)="","",OFFSET('様式第2-6号①'!$E$84,$AG5+1,)) | AL5: =IF(OFFSET('様式第2-6号①'!$E$84,$AG5+2,)="","",OFFSET('様式第2-6号①'!$E$84,$AG5+2,)) | AN5: =IF(OFFSET('様式第2-6号①'!$E$84,$AG5+3,)="","",OFFSET('様式第2-6号①'!$E$84,$AG5+3,)) | AO5: =IF(OFFSET('様式第2-6号①'!$E$84,$AG5+4,)="","",OFFSET('様式第2-6号①'!$E$84,$AG5+4,)) | AP5: 16 | AQ5: =IF(OFFSET('様式第2-6号①'!$C$94,$AP5-1,)="","",OFFSET('様式第2-6号①'!$C$94,$AP5-1,)) | AR5: =IF(OFFSET('様式第2-6号①'!$E$94,$AP5-1,)="","",OFFSET('様式第2-6号①'!$E$94,$AP5-1,)) | AS5: =IF(OFFSET('様式第2-6号①'!$E$94,$AP5,)="","",OFFSET('様式第2-6号①'!$E$94,$AP5,)) | AT5: =IF(OFFSET('様式第2-6号①'!$E$94,$AP5+1,)="","",OFFSET('様式第2-6号①'!$E$94,$AP5+1,)) | AV5: =IF(OFFSET('様式第2-6号①'!$E$94,$AP5+2,)="","",OFFSET('様式第2-6号①'!$E$94,$AP5+2,)) -> 資源向上支払交付金（地域資源の質的向上を図る共同活動）の10アール当たりの交付単価 | AW5: =IF(OFFSET('様式第2-6号①'!$E$94,$AP5+3,)="","",OFFSET('様式第2-6号①'!$E$94,$AP5+3,)) | AX5: 10 | AY5: =IF(OFFSET('様式第2-6号①'!$B$114,$AX5,)="","",OFFSET('様式第2-6号①'!$B$114,$AX5,)) | AZ5: =IF(OFFSET('様式第2-6号①'!$C$114,$AX5,)="","",OFFSET('様式第2-6号①'!$C$114,$AX5,)) | BA5: =IF(OFFSET('様式第2-6号①'!$E$114,$AX5,)="","",OFFSET('様式第2-6号①'!$E$114,$AX5,)) | BB5: =IF(OFFSET('様式第2-6号①'!$E$114,$AX5+1,)="","",OFFSET('様式第2-6号①'!$E$114,$AX5+1,)) | BC5: =IF(OFFSET('様式第2-6号①'!$E$114,$AX5+2,)="","",OFFSET('様式第2-6号①'!$E$114,$AX5+2,)) | BD5: 19 | BE5: =IF(OFFSET('様式第2-6号①'!$C$145,$BD5-1,)="","",OFFSET('様式第2-6号①'!$C$145,$BD5-1,)) | BF5: =IF(OFFSET('様式第2-6号①'!$E$145,$BD5-1,)="","",OFFSET('様式第2-6号①'!$E$145,$BD5-1,)) | BG5: =IF(OFFSET('様式第2-6号①'!$E$145,$BD5,)="","",OFFSET('様式第2-6号①'!$E$145,$BD5,)) | BH5: =IF(OFFSET('様式第2-6号①'!$E$145,$BD5+1,)="","",OFFSET('様式第2-6号①'!$E$145,$BD5+1,)) | BI5: =IF(OFFSET('様式第2-6号①'!$E$145,$BD5+2,)="","",OFFSET('様式第2-6号①'!$E$145,$BD5+2,)) | BK5: =IF(OFFSET('様式第2-6号①'!$E$145,$BD5+3,)="","",OFFSET('様式第2-6号①'!$E$145,$BD5+3,)) | BL5: =IF(OFFSET('様式第2-6号①'!$E$145,$BD5+4,)="","",OFFSET('様式第2-6号①'!$E$145,$BD5+4,))
A6: 25 | B6: =IF(OFFSET('様式第2-6号①'!$C$23,$A6-1,)="","",OFFSET('様式第2-6号①'!$C$23,$A6-1,)) | C6: =IF(OFFSET('様式第2-6号①'!$E$23,$A6-1,)="","",OFFSET('様式第2-6号①'!$E$23,$A6-1,)) | D6: =IF(OFFSET('様式第2-6号①'!$E$23,$A6,)="","",OFFSET('様式第2-6号①'!$E$23,$A6,)) -> 農地維持支払交付金の10アール当たりの交付単価 | E6: =IF(OFFSET('様式第2-6号①'!$E$23,$A6+1,)="","",OFFSET('様式第2-6号①'!$E$23,$A6+1,)) | F6: =IF(OFFSET('様式第2-6号①'!$E$23,$A6+2,)="","",OFFSET('様式第2-6号①'!$E$23,$A6+2,)) | H6: =IF(OFFSET('様式第2-6号①'!$E$23,$A6+3,)="","",OFFSET('様式第2-6号①'!$E$23,$A6+3,)) -> 0 | I6: =IF(OFFSET('様式第2-6号①'!$E$23,$A6+4,)="","",OFFSET('様式第2-6号①'!$E$23,$A6+4,)) -> 0 | J6: 21 | K6: =IF(OFFSET('様式第2-6号①'!$C$33,$J6-1,)="","",OFFSET('様式第2-6号①'!$C$33,$J6-1,)) | L6: =IF(OFFSET('様式第2-6号①'!$E$33,$J6-1,)="","",OFFSET('様式第2-6号①'!$E$33,$J6-1,)) -> 0 | M6: =IF(OFFSET('様式第2-6号①'!$E$33,$J6,)="","",OFFSET('様式第2-6号①'!$E$33,$J6,)) | N6: =IF(OFFSET('様式第2-6号①'!$E$33,$J6+1,)="","",OFFSET('様式第2-6号①'!$E$33,$J6+1,)) | P6: =IF(OFFSET('様式第2-6号①'!$E$33,$J6+2,)="","",OFFSET('様式第2-6号①'!$E$33,$J6+2,)) | Q6: =IF(OFFSET('様式第2-6号①'!$E$33,$J6+3,)="","",OFFSET('様式第2-6号①'!$E$33,$J6+3,)) | R6: 13 | S6: =IF(OFFSET('様式第2-6号①'!$B$50,$R6,)="","",OFFSET('様式第2-6号①'!$B$50,$R6,)) | T6: =IF(OFFSET('様式第2-6号①'!$C$50,$R6,)="","",OFFSET('様式第2-6号①'!$C$50,$R6,)) | U6: =IF(OFFSET('様式第2-6号①'!$E$50,$R6,)="","",OFFSET('様式第2-6号①'!$E$50,$R6,)) | V6: =IF(OFFSET('様式第2-6号①'!$E$50,$R6+1,)="","",OFFSET('様式第2-6号①'!$E$50,$R6+1,)) | W6: =IF(OFFSET('様式第2-6号①'!$E$50,$R6+2,)="","",OFFSET('様式第2-6号①'!$E$50,$R6+2,)) | X6: 25 | Y6: =IF(OFFSET('様式第2-6号①'!$C$74,$X6-1,)="","",OFFSET('様式第2-6号①'!$C$74,$X6-1,)) | Z6: =IF(OFFSET('様式第2-6号①'!$E$74,$X6-1,)="","",OFFSET('様式第2-6号①'!$E$74,$X6-1,)) | AA6: =IF(OFFSET('様式第2-6号①'!$E$74,$X6,)="","",OFFSET('様式第2-6号①'!$E$74,$X6,)) | AB6: =IF(OFFSET('様式第2-6号①'!$E$74,$X6+1,)="","",OFFSET('様式第2-6号①'!$E$74,$X6+1,)) | AC6: =IF(OFFSET('様式第2-6号①'!$E$74,$X6+2,)="","",OFFSET('様式第2-6号①'!$E$74,$X6+2,)) | AE6: =IF(OFFSET('様式第2-6号①'!$E$74,$X6+3,)="","",OFFSET('様式第2-6号①'!$E$74,$X6+3,)) | AF6: =IF(OFFSET('様式第2-6号①'!$E$74,$X6+4,)="","",OFFSET('様式第2-6号①'!$E$74,$X6+4,)) | AG6: 25 | AH6: =IF(OFFSET('様式第2-6号①'!$C$84,$AG6-1,)="","",OFFSET('様式第2-6号①'!$C$84,$AG6-1,)) | AI6: =IF(OFFSET('様式第2-6号①'!$E$84,$AG6-1,)="","",OFFSET('様式第2-6号①'!$E$84,$AG6-1,)) | AJ6: =IF(OFFSET('様式第2-6号①'!$E$84,$AG6,)="","",OFFSET('様式第2-6号①'!$E$84,$AG6,)) | AK6: =IF(OFFSET('様式第2-6号①'!$E$84,$AG6+1,)="","",OFFSET('様式第2-6号①'!$E$84,$AG6+1,)) | AL6: =IF(OFFSET('様式第2-6号①'!$E$84,$AG6+2,)="","",OFFSET('様式第2-6号①'!$E$84,$AG6+2,)) | AN6: =IF(OFFSET('様式第2-6号①'!$E$84,$AG6+3,)="","",OFFSET('様式第2-6号①'!$E$84,$AG6+3,)) -> 資源向上支払交付金（地域資源の質的向上を図る共同活動）の10アール当たりの交付単価 | AO6: =IF(OFFSET('様式第2-6号①'!$E$84,$AG6+4,)="","",OFFSET('様式第2-6号①'!$E$84,$AG6+4,)) | AP6: 21 | AQ6: =IF(OFFSET('様式第2-6号①'!$C$94,$AP6-1,)="","",OFFSET('様式第2-6号①'!$C$94,$AP6-1,)) | AR6: =IF(OFFSET('様式第2-6号①'!$E$94,$AP6-1,)="","",OFFSET('様式第2-6号①'!$E$94,$AP6-1,)) | AS6: =IF(OFFSET('様式第2-6号①'!$E$94,$AP6,)="","",OFFSET('様式第2-6号①'!$E$94,$AP6,)) -> 0 | AT6: =IF(OFFSET('様式第2-6号①'!$E$94,$AP6+1,)="","",OFFSET('様式第2-6号①'!$E$94,$AP6+1,)) -> 0 | AV6: =IF(OFFSET('様式第2-6号①'!$E$94,$AP6+2,)="","",OFFSET('様式第2-6号①'!$E$94,$AP6+2,)) -> 0 | AW6: =IF(OFFSET('様式第2-6号①'!$E$94,$AP6+3,)="","",OFFSET('様式第2-6号①'!$E$94,$AP6+3,)) -> 0 | AX6: 13 | AY6: =IF(OFFSET('様式第2-6号①'!$B$114,$AX6,)="","",OFFSET('様式第2-6号①'!$B$114,$AX6,)) | AZ6: =IF(OFFSET('様式第2-6号①'!$C$114,$AX6,)="","",OFFSET('様式第2-6号①'!$C$114,$AX6,)) | BA6: =IF(OFFSET('様式第2-6号①'!$E$114,$AX6,)="","",OFFSET('様式第2-6号①'!$E$114,$AX6,)) | BB6: =IF(OFFSET('様式第2-6号①'!$E$114,$AX6+1,)="","",OFFSET('様式第2-6号①'!$E$114,$AX6+1,)) | BC6: =IF(OFFSET('様式第2-6号①'!$E$114,$AX6+2,)="","",OFFSET('様式第2-6号①'!$E$114,$AX6+2,)) | BD6: 25 | BE6: =IF(OFFSET('様式第2-6号①'!$C$145,$BD6-1,)="","",OFFSET('様式第2-6号①'!$C$145,$BD6-1,)) | BF6: =IF(OFFSET('様式第2-6号①'!$E$145,$BD6-1,)="","",OFFSET('様式第2-6号①'!$E$145,$BD6-1,)) | BG6: =IF(OFFSET('様式第2-6号①'!$E$145,$BD6,)="","",OFFSET('様式第2-6号①'!$E$145,$BD6,)) | BH6: =IF(OFFSET('様式第2-6号①'!$E$145,$BD6+1,)="","",OFFSET('様式第2-6号①'!$E$145,$BD6+1,)) | BI6: =IF(OFFSET('様式第2-6号①'!$E$145,$BD6+2,)="","",OFFSET('様式第2-6号①'!$E$145,$BD6+2,)) | BK6: =IF(OFFSET('様式第2-6号①'!$E$145,$BD6+3,)="","",OFFSET('様式第2-6号①'!$E$145,$BD6+3,)) | BL6: =IF(OFFSET('様式第2-6号①'!$E$145,$BD6+4,)="","",OFFSET('様式第2-6号①'!$E$145,$BD6+4,))
A7: 31 | B7: =IF(OFFSET('様式第2-6号①'!$C$23,$A7-1,)="","",OFFSET('様式第2-6号①'!$C$23,$A7-1,)) | C7: =IF(OFFSET('様式第2-6号①'!$E$23,$A7-1,)="","",OFFSET('様式第2-6号①'!$E$23,$A7-1,)) -> 0 | D7: =IF(OFFSET('様式第2-6号①'!$E$23,$A7,)="","",OFFSET('様式第2-6号①'!$E$23,$A7,)) | E7: =IF(OFFSET('様式第2-6号①'!$E$23,$A7+1,)="","",OFFSET('様式第2-6号①'!$E$23,$A7+1,)) | F7: =IF(OFFSET('様式第2-6号①'!$E$23,$A7+2,)="","",OFFSET('様式第2-6号①'!$E$23,$A7+2,)) | H7: =IF(OFFSET('様式第2-6号①'!$E$23,$A7+3,)="","",OFFSET('様式第2-6号①'!$E$23,$A7+3,)) | I7: =IF(OFFSET('様式第2-6号①'!$E$23,$A7+4,)="","",OFFSET('様式第2-6号①'!$E$23,$A7+4,)) | J7: 26 | K7: =IF(OFFSET('様式第2-6号①'!$C$33,$J7-1,)="","",OFFSET('様式第2-6号①'!$C$33,$J7-1,)) | L7: =IF(OFFSET('様式第2-6号①'!$E$33,$J7-1,)="","",OFFSET('様式第2-6号①'!$E$33,$J7-1,)) | M7: =IF(OFFSET('様式第2-6号①'!$E$33,$J7,)="","",OFFSET('様式第2-6号①'!$E$33,$J7,)) | N7: =IF(OFFSET('様式第2-6号①'!$E$33,$J7+1,)="","",OFFSET('様式第2-6号①'!$E$33,$J7+1,)) | P7: =IF(OFFSET('様式第2-6号①'!$E$33,$J7+2,)="","",OFFSET('様式第2-6号①'!$E$33,$J7+2,)) | Q7: =IF(OFFSET('様式第2-6号①'!$E$33,$J7+3,)="","",OFFSET('様式第2-6号①'!$E$33,$J7+3,)) | R7: 16 | S7: =IF(OFFSET('様式第2-6号①'!$B$50,$R7,)="","",OFFSET('様式第2-6号①'!$B$50,$R7,)) | T7: =IF(OFFSET('様式第2-6号①'!$C$50,$R7,)="","",OFFSET('様式第2-6号①'!$C$50,$R7,)) | U7: =IF(OFFSET('様式第2-6号①'!$E$50,$R7,)="","",OFFSET('様式第2-6号①'!$E$50,$R7,)) | V7: =IF(OFFSET('様式第2-6号①'!$E$50,$R7+1,)="","",OFFSET('様式第2-6号①'!$E$50,$R7+1,)) | W7: =IF(OFFSET('様式第2-6号①'!$E$50,$R7+2,)="","",OFFSET('様式第2-6号①'!$E$50,$R7+2,)) | X7: 31 | Y7: =IF(OFFSET('様式第2-6号①'!$C$74,$X7-1,)="","",OFFSET('様式第2-6号①'!$C$74,$X7-1,)) | Z7: =IF(OFFSET('様式第2-6号①'!$E$74,$X7-1,)="","",OFFSET('様式第2-6号①'!$E$74,$X7-1,)) | AA7: =IF(OFFSET('様式第2-6号①'!$E$74,$X7,)="","",OFFSET('様式第2-6号①'!$E$74,$X7,)) | AB7: =IF(OFFSET('様式第2-6号①'!$E$74,$X7+1,)="","",OFFSET('様式第2-6号①'!$E$74,$X7+1,)) | AC7: =IF(OFFSET('様式第2-6号①'!$E$74,$X7+2,)="","",OFFSET('様式第2-6号①'!$E$74,$X7+2,)) | AE7: =IF(OFFSET('様式第2-6号①'!$E$74,$X7+3,)="","",OFFSET('様式第2-6号①'!$E$74,$X7+3,)) | AF7: =IF(OFFSET('様式第2-6号①'!$E$74,$X7+4,)="","",OFFSET('様式第2-6号①'!$E$74,$X7+4,)) | AG7: 31 | AH7: =IF(OFFSET('様式第2-6号①'!$C$84,$AG7-1,)="","",OFFSET('様式第2-6号①'!$C$84,$AG7-1,)) | AI7: =IF(OFFSET('様式第2-6号①'!$E$84,$AG7-1,)="","",OFFSET('様式第2-6号①'!$E$84,$AG7-1,)) | AJ7: =IF(OFFSET('様式第2-6号①'!$E$84,$AG7,)="","",OFFSET('様式第2-6号①'!$E$84,$AG7,)) -> 0 | AK7: =IF(OFFSET('様式第2-6号①'!$E$84,$AG7+1,)="","",OFFSET('様式第2-6号①'!$E$84,$AG7+1,)) -> 0 | AL7: =IF(OFFSET('様式第2-6号①'!$E$84,$AG7+2,)="","",OFFSET('様式第2-6号①'!$E$84,$AG7+2,)) -> 0 | AN7: =IF(OFFSET('様式第2-6号①'!$E$84,$AG7+3,)="","",OFFSET('様式第2-6号①'!$E$84,$AG7+3,)) -> 0 | AO7: =IF(OFFSET('様式第2-6号①'!$E$84,$AG7+4,)="","",OFFSET('様式第2-6号①'!$E$84,$AG7+4,)) -> 0 | AP7: 26 | AQ7: =IF(OFFSET('様式第2-6号①'!$C$94,$AP7-1,)="","",OFFSET('様式第2-6号①'!$C$94,$AP7-1,)) | AR7: =IF(OFFSET('様式第2-6号①'!$E$94,$AP7-1,)="","",OFFSET('様式第2-6号①'!$E$94,$AP7-1,)) -> 0 | AS7: =IF(OFFSET('様式第2-6号①'!$E$94,$AP7,)="","",OFFSET('様式第2-6号①'!$E$94,$AP7,)) -> 0 | AT7: =IF(OFFSET('様式第2-6号①'!$E$94,$AP7+1,)="","",OFFSET('様式第2-6号①'!$E$94,$AP7+1,)) | AV7: =IF(OFFSET('様式第2-6号①'!$E$94,$AP7+2,)="","",OFFSET('様式第2-6号①'!$E$94,$AP7+2,)) | AW7: =IF(OFFSET('様式第2-6号①'!$E$94,$AP7+3,)="","",OFFSET('様式第2-6号①'!$E$94,$AP7+3,)) | AX7: 16 | AY7: =IF(OFFSET('様式第2-6号①'!$B$114,$AX7,)="","",OFFSET('様式第2-6号①'!$B$114,$AX7,)) | AZ7: =IF(OFFSET('様式第2-6号①'!$C$114,$AX7,)="","",OFFSET('様式第2-6号①'!$C$114,$AX7,)) | BA7: =IF(OFFSET('様式第2-6号①'!$E$114,$AX7,)="","",OFFSET('様式第2-6号①'!$E$114,$AX7,)) | BB7: =IF(OFFSET('様式第2-6号①'!$E$114,$AX7+1,)="","",OFFSET('様式第2-6号①'!$E$114,$AX7+1,)) | BC7: =IF(OFFSET('様式第2-6号①'!$E$114,$AX7+2,)="","",OFFSET('様式第2-6号①'!$E$114,$AX7+2,)) | BD7: 31 | BE7: =IF(OFFSET('様式第2-6号①'!$C$145,$BD7-1,)="","",OFFSET('様式第2-6号①'!$C$145,$BD7-1,)) | BF7: =IF(OFFSET('様式第2-6号①'!$E$145,$BD7-1,)="","",OFFSET('様式第2-6号①'!$E$145,$BD7-1,)) | BG7: =IF(OFFSET('様式第2-6号①'!$E$145,$BD7,)="","",OFFSET('様式第2-6号①'!$E$145,$BD7,)) | BH7: =IF(OFFSET('様式第2-6号①'!$E$145,$BD7+1,)="","",OFFSET('様式第2-6号①'!$E$145,$BD7+1,)) | BI7: =IF(OFFSET('様式第2-6号①'!$E$145,$BD7+2,)="","",OFFSET('様式第2-6号①'!$E$145,$BD7+2,)) | BK7: =IF(OFFSET('様式第2-6号①'!$E$145,$BD7+3,)="","",OFFSET('様式第2-6号①'!$E$145,$BD7+3,)) | BL7: =IF(OFFSET('様式第2-6号①'!$E$145,$BD7+4,)="","",OFFSET('様式第2-6号①'!$E$145,$BD7+4,))
A8: 37 | B8: =IF(OFFSET('様式第2-6号①'!$C$23,$A8-1,)="","",OFFSET('様式第2-6号①'!$C$23,$A8-1,)) | C8: =IF(OFFSET('様式第2-6号①'!$E$23,$A8-1,)="","",OFFSET('様式第2-6号①'!$E$23,$A8-1,)) | D8: =IF(OFFSET('様式第2-6号①'!$E$23,$A8,)="","",OFFSET('様式第2-6号①'!$E$23,$A8,)) | E8: =IF(OFFSET('様式第2-6号①'!$E$23,$A8+1,)="","",OFFSET('様式第2-6号①'!$E$23,$A8+1,)) | F8: =IF(OFFSET('様式第2-6号①'!$E$23,$A8+2,)="","",OFFSET('様式第2-6号①'!$E$23,$A8+2,)) | H8: =IF(OFFSET('様式第2-6号①'!$E$23,$A8+3,)="","",OFFSET('様式第2-6号①'!$E$23,$A8+3,)) | I8: =IF(OFFSET('様式第2-6号①'!$E$23,$A8+4,)="","",OFFSET('様式第2-6号①'!$E$23,$A8+4,)) | J8: 31 | K8: =IF(OFFSET('様式第2-6号①'!$C$33,$J8-1,)="","",OFFSET('様式第2-6号①'!$C$33,$J8-1,)) | L8: =IF(OFFSET('様式第2-6号①'!$E$33,$J8-1,)="","",OFFSET('様式第2-6号①'!$E$33,$J8-1,)) | M8: =IF(OFFSET('様式第2-6号①'!$E$33,$J8,)="","",OFFSET('様式第2-6号①'!$E$33,$J8,)) | N8: =IF(OFFSET('様式第2-6号①'!$E$33,$J8+1,)="","",OFFSET('様式第2-6号①'!$E$33,$J8+1,)) | P8: =IF(OFFSET('様式第2-6号①'!$E$33,$J8+2,)="","",OFFSET('様式第2-6号①'!$E$33,$J8+2,)) | Q8: =IF(OFFSET('様式第2-6号①'!$E$33,$J8+3,)="","",OFFSET('様式第2-6号①'!$E$33,$J8+3,)) | R8: 19 | S8: =IF(OFFSET('様式第2-6号①'!$B$50,$R8,)="","",OFFSET('様式第2-6号①'!$B$50,$R8,)) | T8: =IF(OFFSET('様式第2-6号①'!$C$50,$R8,)="","",OFFSET('様式第2-6号①'!$C$50,$R8,)) | U8: =IF(OFFSET('様式第2-6号①'!$E$50,$R8,)="","",OFFSET('様式第2-6号①'!$E$50,$R8,)) | V8: =IF(OFFSET('様式第2-6号①'!$E$50,$R8+1,)="","",OFFSET('様式第2-6号①'!$E$50,$R8+1,)) | W8: =IF(OFFSET('様式第2-6号①'!$E$50,$R8+2,)="","",OFFSET('様式第2-6号①'!$E$50,$R8+2,)) | X8: 37 | Y8: =IF(OFFSET('様式第2-6号①'!$C$74,$X8-1,)="","",OFFSET('様式第2-6号①'!$C$74,$X8-1,)) | Z8: =IF(OFFSET('様式第2-6号①'!$E$74,$X8-1,)="","",OFFSET('様式第2-6号①'!$E$74,$X8-1,)) | AA8: =IF(OFFSET('様式第2-6号①'!$E$74,$X8,)="","",OFFSET('様式第2-6号①'!$E$74,$X8,)) | AB8: =IF(OFFSET('様式第2-6号①'!$E$74,$X8+1,)="","",OFFSET('様式第2-6号①'!$E$74,$X8+1,)) -> 資源向上支払交付金（地域資源の質的向上を図る共同活動）の10アール当たりの交付単価 | AC8: =IF(OFFSET('様式第2-6号①'!$E$74,$X8+2,)="","",OFFSET('様式第2-6号①'!$E$74,$X8+2,)) | AE8: =IF(OFFSET('様式第2-6号①'!$E$74,$X8+3,)="","",OFFSET('様式第2-6号①'!$E$74,$X8+3,)) | AF8: =IF(OFFSET('様式第2-6号①'!$E$74,$X8+4,)="","",OFFSET('様式第2-6号①'!$E$74,$X8+4,)) -> 0 | AG8: 37 | AH8: =IF(OFFSET('様式第2-6号①'!$C$84,$AG8-1,)="","",OFFSET('様式第2-6号①'!$C$84,$AG8-1,)) | AI8: =IF(OFFSET('様式第2-6号①'!$E$84,$AG8-1,)="","",OFFSET('様式第2-6号①'!$E$84,$AG8-1,)) -> 0 | AJ8: =IF(OFFSET('様式第2-6号①'!$E$84,$AG8,)="","",OFFSET('様式第2-6号①'!$E$84,$AG8,)) | AK8: =IF(OFFSET('様式第2-6号①'!$E$84,$AG8+1,)="","",OFFSET('様式第2-6号①'!$E$84,$AG8+1,)) | AL8: =IF(OFFSET('様式第2-6号①'!$E$84,$AG8+2,)="","",OFFSET('様式第2-6号①'!$E$84,$AG8+2,)) | AN8: =IF(OFFSET('様式第2-6号①'!$E$84,$AG8+3,)="","",OFFSET('様式第2-6号①'!$E$84,$AG8+3,)) | AO8: =IF(OFFSET('様式第2-6号①'!$E$84,$AG8+4,)="","",OFFSET('様式第2-6号①'!$E$84,$AG8+4,)) | AP8: 31 | AQ8: =IF(OFFSET('様式第2-6号①'!$C$94,$AP8-1,)="","",OFFSET('様式第2-6号①'!$C$94,$AP8-1,)) | AR8: =IF(OFFSET('様式第2-6号①'!$E$94,$AP8-1,)="","",OFFSET('様式第2-6号①'!$E$94,$AP8-1,)) | AS8: =IF(OFFSET('様式第2-6号①'!$E$94,$AP8,)="","",OFFSET('様式第2-6号①'!$E$94,$AP8,)) | AT8: =IF(OFFSET('様式第2-6号①'!$E$94,$AP8+1,)="","",OFFSET('様式第2-6号①'!$E$94,$AP8+1,)) | AV8: =IF(OFFSET('様式第2-6号①'!$E$94,$AP8+2,)="","",OFFSET('様式第2-6号①'!$E$94,$AP8+2,)) | AW8: =IF(OFFSET('様式第2-6号①'!$E$94,$AP8+3,)="","",OFFSET('様式第2-6号①'!$E$94,$AP8+3,)) | AX8: 19 | AY8: =IF(OFFSET('様式第2-6号①'!$B$114,$AX8,)="","",OFFSET('様式第2-6号①'!$B$114,$AX8,)) | AZ8: =IF(OFFSET('様式第2-6号①'!$C$114,$AX8,)="","",OFFSET('様式第2-6号①'!$C$114,$AX8,)) | BA8: =IF(OFFSET('様式第2-6号①'!$E$114,$AX8,)="","",OFFSET('様式第2-6号①'!$E$114,$AX8,)) | BB8: =IF(OFFSET('様式第2-6号①'!$E$114,$AX8+1,)="","",OFFSET('様式第2-6号①'!$E$114,$AX8+1,)) | BC8: =IF(OFFSET('様式第2-6号①'!$E$114,$AX8+2,)="","",OFFSET('様式第2-6号①'!$E$114,$AX8+2,)) | BD8: 37 | BE8: =IF(OFFSET('様式第2-6号①'!$C$145,$BD8-1,)="","",OFFSET('様式第2-6号①'!$C$145,$BD8-1,)) -> 関係団体の役割分担表 | BF8: =IF(OFFSET('様式第2-6号①'!$E$145,$BD8-1,)="","",OFFSET('様式第2-6号①'!$E$145,$BD8-1,)) | BG8: =IF(OFFSET('様式第2-6号①'!$E$145,$BD8,)="","",OFFSET('様式第2-6号①'!$E$145,$BD8,)) | BH8: =IF(OFFSET('様式第2-6号①'!$E$145,$BD8+1,)="","",OFFSET('様式第2-6号①'!$E$145,$BD8+1,)) | BI8: =IF(OFFSET('様式第2-6号①'!$E$145,$BD8+2,)="","",OFFSET('様式第2-6号①'!$E$145,$BD8+2,)) | BK8: =IF(OFFSET('様式第2-6号①'!$E$145,$BD8+3,)="","",OFFSET('様式第2-6号①'!$E$145,$BD8+3,)) | BL8: =IF(OFFSET('様式第2-6号①'!$E$145,$BD8+4,)="","",OFFSET('様式第2-6号①'!$E$145,$BD8+4,))
A9: 43 | B9: =IF(OFFSET('様式第2-6号①'!$C$23,$A9-1,)="","",OFFSET('様式第2-6号①'!$C$23,$A9-1,)) | C9: =IF(OFFSET('様式第2-6号①'!$E$23,$A9-1,)="","",OFFSET('様式第2-6号①'!$E$23,$A9-1,)) | D9: =IF(OFFSET('様式第2-6号①'!$E$23,$A9,)="","",OFFSET('様式第2-6号①'!$E$23,$A9,)) | E9: =IF(OFFSET('様式第2-6号①'!$E$23,$A9+1,)="","",OFFSET('様式第2-6号①'!$E$23,$A9+1,)) | F9: =IF(OFFSET('様式第2-6号①'!$E$23,$A9+2,)="","",OFFSET('様式第2-6号①'!$E$23,$A9+2,)) | H9: =IF(OFFSET('様式第2-6号①'!$E$23,$A9+3,)="","",OFFSET('様式第2-6号①'!$E$23,$A9+3,)) | I9: =IF(OFFSET('様式第2-6号①'!$E$23,$A9+4,)="","",OFFSET('様式第2-6号①'!$E$23,$A9+4,)) | J9: 36 | K9: =IF(OFFSET('様式第2-6号①'!$C$33,$J9-1,)="","",OFFSET('様式第2-6号①'!$C$33,$J9-1,)) | L9: =IF(OFFSET('様式第2-6号①'!$E$33,$J9-1,)="","",OFFSET('様式第2-6号①'!$E$33,$J9-1,)) | M9: =IF(OFFSET('様式第2-6号①'!$E$33,$J9,)="","",OFFSET('様式第2-6号①'!$E$33,$J9,)) | N9: =IF(OFFSET('様式第2-6号①'!$E$33,$J9+1,)="","",OFFSET('様式第2-6号①'!$E$33,$J9+1,)) | P9: =IF(OFFSET('様式第2-6号①'!$E$33,$J9+2,)="","",OFFSET('様式第2-6号①'!$E$33,$J9+2,)) | Q9: =IF(OFFSET('様式第2-6号①'!$E$33,$J9+3,)="","",OFFSET('様式第2-6号①'!$E$33,$J9+3,)) | R9: 22 | S9: =IF(OFFSET('様式第2-6号①'!$B$50,$R9,)="","",OFFSET('様式第2-6号①'!$B$50,$R9,)) | T9: =IF(OFFSET('様式第2-6号①'!$C$50,$R9,)="","",OFFSET('様式第2-6号①'!$C$50,$R9,)) | U9: =IF(OFFSET('様式第2-6号①'!$E$50,$R9,)="","",OFFSET('様式第2-6号①'!$E$50,$R9,)) | V9: =IF(OFFSET('様式第2-6号①'!$E$50,$R9+1,)="","",OFFSET('様式第2-6号①'!$E$50,$R9+1,)) | W9: =IF(OFFSET('様式第2-6号①'!$E$50,$R9+2,)="","",OFFSET('様式第2-6号①'!$E$50,$R9+2,)) -> 活動項目の追加 | X9: 43 | Y9: =IF(OFFSET('様式第2-6号①'!$C$74,$X9-1,)="","",OFFSET('様式第2-6号①'!$C$74,$X9-1,)) | Z9: =IF(OFFSET('様式第2-6号①'!$E$74,$X9-1,)="","",OFFSET('様式第2-6号①'!$E$74,$X9-1,)) -> 0 | AA9: =IF(OFFSET('様式第2-6号①'!$E$74,$X9,)="","",OFFSET('様式第2-6号①'!$E$74,$X9,)) -> 0 | AB9: =IF(OFFSET('様式第2-6号①'!$E$74,$X9+1,)="","",OFFSET('様式第2-6号①'!$E$74,$X9+1,)) -> 0 | AC9: =IF(OFFSET('様式第2-6号①'!$E$74,$X9+2,)="","",OFFSET('様式第2-6号①'!$E$74,$X9+2,)) -> 0 | AE9: =IF(OFFSET('様式第2-6号①'!$E$74,$X9+3,)="","",OFFSET('様式第2-6号①'!$E$74,$X9+3,)) -> 0 | AF9: =IF(OFFSET('様式第2-6号①'!$E$74,$X9+4,)="","",OFFSET('様式第2-6号①'!$E$74,$X9+4,)) | AG9: 43 | AH9: =IF(OFFSET('様式第2-6号①'!$C$84,$AG9-1,)="","",OFFSET('様式第2-6号①'!$C$84,$AG9-1,)) | AI9: =IF(OFFSET('様式第2-6号①'!$E$84,$AG9-1,)="","",OFFSET('様式第2-6号①'!$E$84,$AG9-1,)) | AJ9: =IF(OFFSET('様式第2-6号①'!$E$84,$AG9,)="","",OFFSET('様式第2-6号①'!$E$84,$AG9,)) | AK9: =IF(OFFSET('様式第2-6号①'!$E$84,$AG9+1,)="","",OFFSET('様式第2-6号①'!$E$84,$AG9+1,)) | AL9: =IF(OFFSET('様式第2-6号①'!$E$84,$AG9+2,)="","",OFFSET('様式第2-6号①'!$E$84,$AG9+2,)) | AN9: =IF(OFFSET('様式第2-6号①'!$E$84,$AG9+3,)="","",OFFSET('様式第2-6号①'!$E$84,$AG9+3,)) | AO9: =IF(OFFSET('様式第2-6号①'!$E$84,$AG9+4,)="","",OFFSET('様式第2-6号①'!$E$84,$AG9+4,)) | AP9: 36 | AQ9: =IF(OFFSET('様式第2-6号①'!$C$94,$AP9-1,)="","",OFFSET('様式第2-6号①'!$C$94,$AP9-1,)) | AR9: =IF(OFFSET('様式第2-6号①'!$E$94,$AP9-1,)="","",OFFSET('様式第2-6号①'!$E$94,$AP9-1,)) | AS9: =IF(OFFSET('様式第2-6号①'!$E$94,$AP9,)="","",OFFSET('様式第2-6号①'!$E$94,$AP9,)) | AT9: =IF(OFFSET('様式第2-6号①'!$E$94,$AP9+1,)="","",OFFSET('様式第2-6号①'!$E$94,$AP9+1,)) | AV9: =IF(OFFSET('様式第2-6号①'!$E$94,$AP9+2,)="","",OFFSET('様式第2-6号①'!$E$94,$AP9+2,)) | AW9: =IF(OFFSET('様式第2-6号①'!$E$94,$AP9+3,)="","",OFFSET('様式第2-6号①'!$E$94,$AP9+3,)) | AX9: 22 | AY9: =IF(OFFSET('様式第2-6号①'!$B$114,$AX9,)="","",OFFSET('様式第2-6号①'!$B$114,$AX9,)) | AZ9: =IF(OFFSET('様式第2-6号①'!$C$114,$AX9,)="","",OFFSET('様式第2-6号①'!$C$114,$AX9,)) -> ａ 対象施設・対象活動 | BA9: =IF(OFFSET('様式第2-6号①'!$E$114,$AX9,)="","",OFFSET('様式第2-6号①'!$E$114,$AX9,)) | BB9: =IF(OFFSET('様式第2-6号①'!$E$114,$AX9+1,)="","",OFFSET('様式第2-6号①'!$E$114,$AX9+1,)) | BC9: =IF(OFFSET('様式第2-6号①'!$E$114,$AX9+2,)="","",OFFSET('様式第2-6号①'!$E$114,$AX9+2,)) | BD9: 43 | BE9: =IF(OFFSET('様式第2-6号①'!$C$145,$BD9-1,)="","",OFFSET('様式第2-6号①'!$C$145,$BD9-1,)) -> １．法基本方針の策定 | BF9: =IF(OFFSET('様式第2-6号①'!$E$145,$BD9-1,)="","",OFFSET('様式第2-6号①'!$E$145,$BD9-1,)) | BG9: =IF(OFFSET('様式第2-6号①'!$E$145,$BD9,)="","",OFFSET('様式第2-6号①'!$E$145,$BD9,)) | BH9: =IF(OFFSET('様式第2-6号①'!$E$145,$BD9+1,)="","",OFFSET('様式第2-6号①'!$E$145,$BD9+1,)) | BI9: =IF(OFFSET('様式第2-6号①'!$E$145,$BD9+2,)="","",OFFSET('様式第2-6号①'!$E$145,$BD9+2,)) | BK9: =IF(OFFSET('様式第2-6号①'!$E$145,$BD9+3,)="","",OFFSET('様式第2-6号①'!$E$145,$BD9+3,)) | BL9: =IF(OFFSET('様式第2-6号①'!$E$145,$BD9+4,)="","",OFFSET('様式第2-6号①'!$E$145,$BD9+4,))
A10: 49 | B10: =IF(OFFSET('様式第2-6号①'!$C$23,$A10-1,)="","",OFFSET('様式第2-6号①'!$C$23,$A10-1,)) | C10: =IF(OFFSET('様式第2-6号①'!$E$23,$A10-1,)="","",OFFSET('様式第2-6号①'!$E$23,$A10-1,)) | D10: =IF(OFFSET('様式第2-6号①'!$E$23,$A10,)="","",OFFSET('様式第2-6号①'!$E$23,$A10,)) | E10: =IF(OFFSET('様式第2-6号①'!$E$23,$A10+1,)="","",OFFSET('様式第2-6号①'!$E$23,$A10+1,)) | F10: =IF(OFFSET('様式第2-6号①'!$E$23,$A10+2,)="","",OFFSET('様式第2-6号①'!$E$23,$A10+2,)) -> 活動項目の追加 | H10: =IF(OFFSET('様式第2-6号①'!$E$23,$A10+3,)="","",OFFSET('様式第2-6号①'!$E$23,$A10+3,)) | I10: =IF(OFFSET('様式第2-6号①'!$E$23,$A10+4,)="","",OFFSET('様式第2-6号①'!$E$23,$A10+4,)) | J10: 41 | K10: =IF(OFFSET('様式第2-6号①'!$C$33,$J10-1,)="","",OFFSET('様式第2-6号①'!$C$33,$J10-1,)) | L10: =IF(OFFSET('様式第2-6号①'!$E$33,$J10-1,)="","",OFFSET('様式第2-6号①'!$E$33,$J10-1,)) | M10: =IF(OFFSET('様式第2-6号①'!$E$33,$J10,)="","",OFFSET('様式第2-6号①'!$E$33,$J10,)) -> 活動項目の追加 | N10: =IF(OFFSET('様式第2-6号①'!$E$33,$J10+1,)="","",OFFSET('様式第2-6号①'!$E$33,$J10+1,)) | P10: =IF(OFFSET('様式第2-6号①'!$E$33,$J10+2,)="","",OFFSET('様式第2-6号①'!$E$33,$J10+2,)) | Q10: =IF(OFFSET('様式第2-6号①'!$E$33,$J10+3,)="","",OFFSET('様式第2-6号①'!$E$33,$J10+3,)) | R10: 25 | S10: =IF(OFFSET('様式第2-6号①'!$B$50,$R10,)="","",OFFSET('様式第2-6号①'!$B$50,$R10,)) | T10: =IF(OFFSET('様式第2-6号①'!$C$50,$R10,)="","",OFFSET('様式第2-6号①'!$C$50,$R10,)) | U10: =IF(OFFSET('様式第2-6号①'!$E$50,$R10,)="","",OFFSET('様式第2-6号①'!$E$50,$R10,)) | V10: =IF(OFFSET('様式第2-6号①'!$E$50,$R10+1,)="","",OFFSET('様式第2-6号①'!$E$50,$R10+1,)) | W10: =IF(OFFSET('様式第2-6号①'!$E$50,$R10+2,)="","",OFFSET('様式第2-6号①'!$E$50,$R10+2,)) | X10: 49 | Y10: =IF(OFFSET('様式第2-6号①'!$C$74,$X10-1,)="","",OFFSET('様式第2-6号①'!$C$74,$X10-1,)) | Z10: =IF(OFFSET('様式第2-6号①'!$E$74,$X10-1,)="","",OFFSET('様式第2-6号①'!$E$74,$X10-1,)) | AA10: =IF(OFFSET('様式第2-6号①'!$E$74,$X10,)="","",OFFSET('様式第2-6号①'!$E$74,$X10,)) | AB10: =IF(OFFSET('様式第2-6号①'!$E$74,$X10+1,)="","",OFFSET('様式第2-6号①'!$E$74,$X10+1,)) | AC10: =IF(OFFSET('様式第2-6号①'!$E$74,$X10+2,)="","",OFFSET('様式第2-6号①'!$E$74,$X10+2,)) | AE10: =IF(OFFSET('様式第2-6号①'!$E$74,$X10+3,)="","",OFFSET('様式第2-6号①'!$E$74,$X10+3,)) | AF10: =IF(OFFSET('様式第2-6号①'!$E$74,$X10+4,)="","",OFFSET('様式第2-6号①'!$E$74,$X10+4,)) | AG10: 49 | AH10: =IF(OFFSET('様式第2-6号①'!$C$84,$AG10-1,)="","",OFFSET('様式第2-6号①'!$C$84,$AG10-1,)) | AI10: =IF(OFFSET('様式第2-6号①'!$E$84,$AG10-1,)="","",OFFSET('様式第2-6号①'!$E$84,$AG10-1,)) | AJ10: =IF(OFFSET('様式第2-6号①'!$E$84,$AG10,)="","",OFFSET('様式第2-6号①'!$E$84,$AG10,)) | AK10: =IF(OFFSET('様式第2-6号①'!$E$84,$AG10+1,)="","",OFFSET('様式第2-6号①'!$E$84,$AG10+1,)) | AL10: =IF(OFFSET('様式第2-6号①'!$E$84,$AG10+2,)="","",OFFSET('様式第2-6号①'!$E$84,$AG10+2,)) | AN10: =IF(OFFSET('様式第2-6号①'!$E$84,$AG10+3,)="","",OFFSET('様式第2-6号①'!$E$84,$AG10+3,)) | AO10: =IF(OFFSET('様式第2-6号①'!$E$84,$AG10+4,)="","",OFFSET('様式第2-6号①'!$E$84,$AG10+4,)) | AP10: 41 | AQ10: =IF(OFFSET('様式第2-6号①'!$C$94,$AP10-1,)="","",OFFSET('様式第2-6号①'!$C$94,$AP10-1,)) | AR10: =IF(OFFSET('様式第2-6号①'!$E$94,$AP10-1,)="","",OFFSET('様式第2-6号①'!$E$94,$AP10-1,)) | AS10: =IF(OFFSET('様式第2-6号①'!$E$94,$AP10,)="","",OFFSET('様式第2-6号①'!$E$94,$AP10,)) | AT10: =IF(OFFSET('様式第2-6号①'!$E$94,$AP10+1,)="","",OFFSET('様式第2-6号①'!$E$94,$AP10+1,)) | AV10: =IF(OFFSET('様式第2-6号①'!$E$94,$AP10+2,)="","",OFFSET('様式第2-6号①'!$E$94,$AP10+2,)) | AW10: =IF(OFFSET('様式第2-6号①'!$E$94,$AP10+3,)="","",OFFSET('様式第2-6号①'!$E$94,$AP10+3,)) | AX10: 25 | AY10: =IF(OFFSET('様式第2-6号①'!$B$114,$AX10,)="","",OFFSET('様式第2-6号①'!$B$114,$AX10,)) | AZ10: =IF(OFFSET('様式第2-6号①'!$C$114,$AX10,)="","",OFFSET('様式第2-6号①'!$C$114,$AX10,)) | BA10: =IF(OFFSET('様式第2-6号①'!$E$114,$AX10,)="","",OFFSET('様式第2-6号①'!$E$114,$AX10,)) | BB10: =IF(OFFSET('様式第2-6号①'!$E$114,$AX10+1,)="","",OFFSET('様式第2-6号①'!$E$114,$AX10+1,)) | BC10: =IF(OFFSET('様式第2-6号①'!$E$114,$AX10+2,)="","",OFFSET('様式第2-6号①'!$E$114,$AX10+2,)) | BD10: 49 | BE10: =IF(OFFSET('様式第2-6号①'!$C$145,$BD10-1,)="","",OFFSET('様式第2-6号①'!$C$145,$BD10-1,)) -> （３）長寿命化整備計画の協議 | BF10: =IF(OFFSET('様式第2-6号①'!$E$145,$BD10-1,)="","",OFFSET('様式第2-6号①'!$E$145,$BD10-1,)) | BG10: =IF(OFFSET('様式第2-6号①'!$E$145,$BD10,)="","",OFFSET('様式第2-6号①'!$E$145,$BD10,)) | BH10: =IF(OFFSET('様式第2-6号①'!$E$145,$BD10+1,)="","",OFFSET('様式第2-6号①'!$E$145,$BD10+1,)) | BI10: =IF(OFFSET('様式第2-6号①'!$E$145,$BD10+2,)="","",OFFSET('様式第2-6号①'!$E$145,$BD10+2,)) | BK10: =IF(OFFSET('様式第2-6号①'!$E$145,$BD10+3,)="","",OFFSET('様式第2-6号①'!$E$145,$BD10+3,)) | BL10: =IF(OFFSET('様式第2-6号①'!$E$145,$BD10+4,)="","",OFFSET('様式第2-6号①'!$E$145,$BD10+4,))
A11: 55 | B11: =IF(OFFSET('様式第2-6号①'!$C$23,$A11-1,)="","",OFFSET('様式第2-6号①'!$C$23,$A11-1,)) | C11: =IF(OFFSET('様式第2-6号①'!$E$23,$A11-1,)="","",OFFSET('様式第2-6号①'!$E$23,$A11-1,)) | D11: =IF(OFFSET('様式第2-6号①'!$E$23,$A11,)="","",OFFSET('様式第2-6号①'!$E$23,$A11,)) | E11: =IF(OFFSET('様式第2-6号①'!$E$23,$A11+1,)="","",OFFSET('様式第2-6号①'!$E$23,$A11+1,)) | F11: =IF(OFFSET('様式第2-6号①'!$E$23,$A11+2,)="","",OFFSET('様式第2-6号①'!$E$23,$A11+2,)) | H11: =IF(OFFSET('様式第2-6号①'!$E$23,$A11+3,)="","",OFFSET('様式第2-6号①'!$E$23,$A11+3,)) | I11: =IF(OFFSET('様式第2-6号①'!$E$23,$A11+4,)="","",OFFSET('様式第2-6号①'!$E$23,$A11+4,)) | J11: 46 | K11: =IF(OFFSET('様式第2-6号①'!$C$33,$J11-1,)="","",OFFSET('様式第2-6号①'!$C$33,$J11-1,)) | L11: =IF(OFFSET('様式第2-6号①'!$E$33,$J11-1,)="","",OFFSET('様式第2-6号①'!$E$33,$J11-1,)) | M11: =IF(OFFSET('様式第2-6号①'!$E$33,$J11,)="","",OFFSET('様式第2-6号①'!$E$33,$J11,)) | N11: =IF(OFFSET('様式第2-6号①'!$E$33,$J11+1,)="","",OFFSET('様式第2-6号①'!$E$33,$J11+1,)) | P11: =IF(OFFSET('様式第2-6号①'!$E$33,$J11+2,)="","",OFFSET('様式第2-6号①'!$E$33,$J11+2,)) | Q11: =IF(OFFSET('様式第2-6号①'!$E$33,$J11+3,)="","",OFFSET('様式第2-6号①'!$E$33,$J11+3,)) | R11: 28 | S11: =IF(OFFSET('様式第2-6号①'!$B$50,$R11,)="","",OFFSET('様式第2-6号①'!$B$50,$R11,)) | T11: =IF(OFFSET('様式第2-6号①'!$C$50,$R11,)="","",OFFSET('様式第2-6号①'!$C$50,$R11,)) | U11: =IF(OFFSET('様式第2-6号①'!$E$50,$R11,)="","",OFFSET('様式第2-6号①'!$E$50,$R11,)) | V11: =IF(OFFSET('様式第2-6号①'!$E$50,$R11+1,)="","",OFFSET('様式第2-6号①'!$E$50,$R11+1,)) | W11: =IF(OFFSET('様式第2-6号①'!$E$50,$R11+2,)="","",OFFSET('様式第2-6号①'!$E$50,$R11+2,)) | X11: 55 | Y11: =IF(OFFSET('様式第2-6号①'!$C$74,$X11-1,)="","",OFFSET('様式第2-6号①'!$C$74,$X11-1,)) | Z11: =IF(OFFSET('様式第2-6号①'!$E$74,$X11-1,)="","",OFFSET('様式第2-6号①'!$E$74,$X11-1,)) | AA11: =IF(OFFSET('様式第2-6号①'!$E$74,$X11,)="","",OFFSET('様式第2-6号①'!$E$74,$X11,)) | AB11: =IF(OFFSET('様式第2-6号①'!$E$74,$X11+1,)="","",OFFSET('様式第2-6号①'!$E$74,$X11+1,)) | AC11: =IF(OFFSET('様式第2-6号①'!$E$74,$X11+2,)="","",OFFSET('様式第2-6号①'!$E$74,$X11+2,)) | AE11: =IF(OFFSET('様式第2-6号①'!$E$74,$X11+3,)="","",OFFSET('様式第2-6号①'!$E$74,$X11+3,)) | AF11: =IF(OFFSET('様式第2-6号①'!$E$74,$X11+4,)="","",OFFSET('様式第2-6号①'!$E$74,$X11+4,)) | AG11: 55 | AH11: =IF(OFFSET('様式第2-6号①'!$C$84,$AG11-1,)="","",OFFSET('様式第2-6号①'!$C$84,$AG11-1,)) -> ｂ 内容について都道府県知事と協議を求める場合の要件 | AI11: =IF(OFFSET('様式第2-6号①'!$E$84,$AG11-1,)="","",OFFSET('様式第2-6号①'!$E$84,$AG11-1,)) | AJ11: =IF(OFFSET('様式第2-6号①'!$E$84,$AG11,)="","",OFFSET('様式第2-6号①'!$E$84,$AG11,)) | AK11: =IF(OFFSET('様式第2-6号①'!$E$84,$AG11+1,)="","",OFFSET('様式第2-6号①'!$E$84,$AG11+1,)) | AL11: =IF(OFFSET('様式第2-6号①'!$E$84,$AG11+2,)="","",OFFSET('様式第2-6号①'!$E$84,$AG11+2,)) | AN11: =IF(OFFSET('様式第2-6号①'!$E$84,$AG11+3,)="","",OFFSET('様式第2-6号①'!$E$84,$AG11+3,)) | AO11: =IF(OFFSET('様式第2-6号①'!$E$84,$AG11+4,)="","",OFFSET('様式第2-6号①'!$E$84,$AG11+4,)) | AP11: 46 | AQ11: =IF(OFFSET('様式第2-6号①'!$C$94,$AP11-1,)="","",OFFSET('様式第2-6号①'!$C$94,$AP11-1,)) | AR11: =IF(OFFSET('様式第2-6号①'!$E$94,$AP11-1,)="","",OFFSET('様式第2-6号①'!$E$94,$AP11-1,)) | AS11: =IF(OFFSET('様式第2-6号①'!$E$94,$AP11,)="","",OFFSET('様式第2-6号①'!$E$94,$AP11,)) | AT11: =IF(OFFSET('様式第2-6号①'!$E$94,$AP11+1,)="","",OFFSET('様式第2-6号①'!$E$94,$AP11+1,)) | AV11: =IF(OFFSET('様式第2-6号①'!$E$94,$AP11+2,)="","",OFFSET('様式第2-6号①'!$E$94,$AP11+2,)) | AW11: =IF(OFFSET('様式第2-6号①'!$E$94,$AP11+3,)="","",OFFSET('様式第2-6号①'!$E$94,$AP11+3,)) | AX11: 28 | AY11: =IF(OFFSET('様式第2-6号①'!$B$114,$AX11,)="","",OFFSET('様式第2-6号①'!$B$114,$AX11,)) | AZ11: =IF(OFFSET('様式第2-6号①'!$C$114,$AX11,)="","",OFFSET('様式第2-6号①'!$C$114,$AX11,)) -> ｄ その他必要な事項 | BA11: =IF(OFFSET('様式第2-6号①'!$E$114,$AX11,)="","",OFFSET('様式第2-6号①'!$E$114,$AX11,)) | BB11: =IF(OFFSET('様式第2-6号①'!$E$114,$AX11+1,)="","",OFFSET('様式第2-6号①'!$E$114,$AX11+1,)) | BC11: =IF(OFFSET('様式第2-6号①'!$E$114,$AX11+2,)="","",OFFSET('様式第2-6号①'!$E$114,$AX11+2,)) | BD11: 55 | BE11: =IF(OFFSET('様式第2-6号①'!$C$145,$BD11-1,)="","",OFFSET('様式第2-6号①'!$C$145,$BD11-1,)) | BF11: =IF(OFFSET('様式第2-6号①'!$E$145,$BD11-1,)="","",OFFSET('様式第2-6号①'!$E$145,$BD11-1,)) | BG11: =IF(OFFSET('様式第2-6号①'!$E$145,$BD11,)="","",OFFSET('様式第2-6号①'!$E$145,$BD11,)) | BH11: =IF(OFFSET('様式第2-6号①'!$E$145,$BD11+1,)="","",OFFSET('様式第2-6号①'!$E$145,$BD11+1,)) | BI11: =IF(OFFSET('様式第2-6号①'!$E$145,$BD11+2,)="","",OFFSET('様式第2-6号①'!$E$145,$BD11+2,)) | BK11: =IF(OFFSET('様式第2-6号①'!$E$145,$BD11+3,)="","",OFFSET('様式第2-6号①'!$E$145,$BD11+3,)) | BL11: =IF(OFFSET('様式第2-6号①'!$E$145,$BD11+4,)="","",OFFSET('様式第2-6号①'!$E$145,$BD11+4,))
A12: 61 | B12: =IF(OFFSET('様式第2-6号①'!$C$23,$A12-1,)="","",OFFSET('様式第2-6号①'!$C$23,$A12-1,)) | C12: =IF(OFFSET('様式第2-6号①'!$E$23,$A12-1,)="","",OFFSET('様式第2-6号①'!$E$23,$A12-1,)) | D12: =IF(OFFSET('様式第2-6号①'!$E$23,$A12,)="","",OFFSET('様式第2-6号①'!$E$23,$A12,)) -> テーマの追加 | E12: =IF(OFFSET('様式第2-6号①'!$E$23,$A12+1,)="","",OFFSET('様式第2-6号①'!$E$23,$A12+1,)) | F12: =IF(OFFSET('様式第2-6号①'!$E$23,$A12+2,)="","",OFFSET('様式第2-6号①'!$E$23,$A12+2,)) | H12: =IF(OFFSET('様式第2-6号①'!$E$23,$A12+3,)="","",OFFSET('様式第2-6号①'!$E$23,$A12+3,)) | I12: =IF(OFFSET('様式第2-6号①'!$E$23,$A12+4,)="","",OFFSET('様式第2-6号①'!$E$23,$A12+4,)) | J12: 51 | K12: =IF(OFFSET('様式第2-6号①'!$C$33,$J12-1,)="","",OFFSET('様式第2-6号①'!$C$33,$J12-1,)) | L12: =IF(OFFSET('様式第2-6号①'!$E$33,$J12-1,)="","",OFFSET('様式第2-6号①'!$E$33,$J12-1,)) | M12: =IF(OFFSET('様式第2-6号①'!$E$33,$J12,)="","",OFFSET('様式第2-6号①'!$E$33,$J12,)) -> テーマの追加 | N12: =IF(OFFSET('様式第2-6号①'!$E$33,$J12+1,)="","",OFFSET('様式第2-6号①'!$E$33,$J12+1,)) | P12: =IF(OFFSET('様式第2-6号①'!$E$33,$J12+2,)="","",OFFSET('様式第2-6号①'!$E$33,$J12+2,)) | Q12: =IF(OFFSET('様式第2-6号①'!$E$33,$J12+3,)="","",OFFSET('様式第2-6号①'!$E$33,$J12+3,)) | R12: 31 | S12: =IF(OFFSET('様式第2-6号①'!$B$50,$R12,)="","",OFFSET('様式第2-6号①'!$B$50,$R12,)) | T12: =IF(OFFSET('様式第2-6号①'!$C$50,$R12,)="","",OFFSET('様式第2-6号①'!$C$50,$R12,)) -> ※区分には、「活動項目の追加」、「活動内容の追加」又は「活動要件の設定」のうち該当するものを記載すること。なお、「活動内容の追加」、「活動要件の設定」については、追加箇所等を《》で囲むこと。また、活動項目については、活動項目名に活動項目番号を100番（前項までに100番以降を付けた場合は次の番号）から順に付け、活動の内容を共通申請画面内に入力すること。 | U12: =IF(OFFSET('様式第2-6号①'!$E$50,$R12,)="","",OFFSET('様式第2-6号①'!$E$50,$R12,)) | V12: =IF(OFFSET('様式第2-6号①'!$E$50,$R12+1,)="","",OFFSET('様式第2-6号①'!$E$50,$R12+1,)) | W12: =IF(OFFSET('様式第2-6号①'!$E$50,$R12+2,)="","",OFFSET('様式第2-6号①'!$E$50,$R12+2,)) | X12: 61 | Y12: =IF(OFFSET('様式第2-6号①'!$C$74,$X12-1,)="","",OFFSET('様式第2-6号①'!$C$74,$X12-1,)) | Z12: =IF(OFFSET('様式第2-6号①'!$E$74,$X12-1,)="","",OFFSET('様式第2-6号①'!$E$74,$X12-1,)) | AA12: =IF(OFFSET('様式第2-6号①'!$E$74,$X12,)="","",OFFSET('様式第2-6号①'!$E$74,$X12,)) | AB12: =IF(OFFSET('様式第2-6号①'!$E$74,$X12+1,)="","",OFFSET('様式第2-6号①'!$E$74,$X12+1,)) | AC12: =IF(OFFSET('様式第2-6号①'!$E$74,$X12+2,)="","",OFFSET('様式第2-6号①'!$E$74,$X12+2,)) | AE12: =IF(OFFSET('様式第2-6号①'!$E$74,$X12+3,)="","",OFFSET('様式第2-6号①'!$E$74,$X12+3,)) | AF12: =IF(OFFSET('様式第2-6号①'!$E$74,$X12+4,)="","",OFFSET('様式第2-6号①'!$E$74,$X12+4,)) | AG12: 61 | AH12: =IF(OFFSET('様式第2-6号①'!$C$84,$AG12-1,)="","",OFFSET('様式第2-6号①'!$C$84,$AG12-1,)) | AI12: =IF(OFFSET('様式第2-6号①'!$E$84,$AG12-1,)="","",OFFSET('様式第2-6号①'!$E$84,$AG12-1,)) | AJ12: =IF(OFFSET('様式第2-6号①'!$E$84,$AG12,)="","",OFFSET('様式第2-6号①'!$E$84,$AG12,)) -> 活動項目の追加 | AK12: =IF(OFFSET('様式第2-6号①'!$E$84,$AG12+1,)="","",OFFSET('様式第2-6号①'!$E$84,$AG12+1,)) | AL12: =IF(OFFSET('様式第2-6号①'!$E$84,$AG12+2,)="","",OFFSET('様式第2-6号①'!$E$84,$AG12+2,)) | AN12: =IF(OFFSET('様式第2-6号①'!$E$84,$AG12+3,)="","",OFFSET('様式第2-6号①'!$E$84,$AG12+3,)) | AO12: =IF(OFFSET('様式第2-6号①'!$E$84,$AG12+4,)="","",OFFSET('様式第2-6号①'!$E$84,$AG12+4,)) | AP12: 51 | AQ12: =IF(OFFSET('様式第2-6号①'!$C$94,$AP12-1,)="","",OFFSET('様式第2-6号①'!$C$94,$AP12-1,)) | AR12: =IF(OFFSET('様式第2-6号①'!$E$94,$AP12-1,)="","",OFFSET('様式第2-6号①'!$E$94,$AP12-1,)) | AS12: =IF(OFFSET('様式第2-6号①'!$E$94,$AP12,)="","",OFFSET('様式第2-6号①'!$E$94,$AP12,)) -> 活動項目の追加 | AT12: =IF(OFFSET('様式第2-6号①'!$E$94,$AP12+1,)="","",OFFSET('様式第2-6号①'!$E$94,$AP12+1,)) | AV12: =IF(OFFSET('様式第2-6号①'!$E$94,$AP12+2,)="","",OFFSET('様式第2-6号①'!$E$94,$AP12+2,)) | AW12: =IF(OFFSET('様式第2-6号①'!$E$94,$AP12+3,)="","",OFFSET('様式第2-6号①'!$E$94,$AP12+3,)) | AX12: 31 | AY12: =IF(OFFSET('様式第2-6号①'!$B$114,$AX12,)="","",OFFSET('様式第2-6号①'!$B$114,$AX12,)) | AZ12: =IF(OFFSET('様式第2-6号①'!$C$114,$AX12,)="","",OFFSET('様式第2-6号①'!$C$114,$AX12,)) -> 区 分 | BA12: =IF(OFFSET('様式第2-6号①'!$E$114,$AX12,)="","",OFFSET('様式第2-6号①'!$E$114,$AX12,)) -> 活動項目の追加 | BB12: =IF(OFFSET('様式第2-6号①'!$E$114,$AX12+1,)="","",OFFSET('様式第2-6号①'!$E$114,$AX12+1,)) | BC12: =IF(OFFSET('様式第2-6号①'!$E$114,$AX12+2,)="","",OFFSET('様式第2-6号①'!$E$114,$AX12+2,)) | BD12: 61 | BE12: =IF(OFFSET('様式第2-6号①'!$C$145,$BD12-1,)="","",OFFSET('様式第2-6号①'!$C$145,$BD12-1,)) -> 10．その他推進事業の実施に必要な事項 | BF12: =IF(OFFSET('様式第2-6号①'!$E$145,$BD12-1,)="","",OFFSET('様式第2-6号①'!$E$145,$BD12-1,)) | BG12: =IF(OFFSET('様式第2-6号①'!$E$145,$BD12,)="","",OFFSET('様式第2-6号①'!$E$145,$BD12,)) | BH12: =IF(OFFSET('様式第2-6号①'!$E$145,$BD12+1,)="","",OFFSET('様式第2-6号①'!$E$145,$BD12+1,)) | BI12: =IF(OFFSET('様式第2-6号①'!$E$145,$BD12+2,)="","",OFFSET('様式第2-6号①'!$E$145,$BD12+2,)) | BK12: =IF(OFFSET('様式第2-6号①'!$E$145,$BD12+3,)="","",OFFSET('様式第2-6号①'!$E$145,$BD12+3,)) | BL12: =IF(OFFSET('様式第2-6号①'!$E$145,$BD12+4,)="","",OFFSET('様式第2-6号①'!$E$145,$BD12+4,))
A13: 67 | B13: =IF(OFFSET('様式第2-6号①'!$C$23,$A13-1,)="","",OFFSET('様式第2-6号①'!$C$23,$A13-1,)) | C13: =IF(OFFSET('様式第2-6号①'!$E$23,$A13-1,)="","",OFFSET('様式第2-6号①'!$E$23,$A13-1,)) | D13: =IF(OFFSET('様式第2-6号①'!$E$23,$A13,)="","",OFFSET('様式第2-6号①'!$E$23,$A13,)) | E13: =IF(OFFSET('様式第2-6号①'!$E$23,$A13+1,)="","",OFFSET('様式第2-6号①'!$E$23,$A13+1,)) | F13: =IF(OFFSET('様式第2-6号①'!$E$23,$A13+2,)="","",OFFSET('様式第2-6号①'!$E$23,$A13+2,)) | H13: =IF(OFFSET('様式第2-6号①'!$E$23,$A13+3,)="","",OFFSET('様式第2-6号①'!$E$23,$A13+3,)) | I13: =IF(OFFSET('様式第2-6号①'!$E$23,$A13+4,)="","",OFFSET('様式第2-6号①'!$E$23,$A13+4,)) -> 活動項目の追加 | J13: 56 | K13: =IF(OFFSET('様式第2-6号①'!$C$33,$J13-1,)="","",OFFSET('様式第2-6号①'!$C$33,$J13-1,)) | L13: =IF(OFFSET('様式第2-6号①'!$E$33,$J13-1,)="","",OFFSET('様式第2-6号①'!$E$33,$J13-1,)) | M13: =IF(OFFSET('様式第2-6号①'!$E$33,$J13,)="","",OFFSET('様式第2-6号①'!$E$33,$J13,)) | N13: =IF(OFFSET('様式第2-6号①'!$E$33,$J13+1,)="","",OFFSET('様式第2-6号①'!$E$33,$J13+1,)) | P13: =IF(OFFSET('様式第2-6号①'!$E$33,$J13+2,)="","",OFFSET('様式第2-6号①'!$E$33,$J13+2,)) | Q13: =IF(OFFSET('様式第2-6号①'!$E$33,$J13+3,)="","",OFFSET('様式第2-6号①'!$E$33,$J13+3,)) | R13: 34 | S13: =IF(OFFSET('様式第2-6号①'!$B$50,$R13,)="","",OFFSET('様式第2-6号①'!$B$50,$R13,)) | T13: =IF(OFFSET('様式第2-6号①'!$C$50,$R13,)="","",OFFSET('様式第2-6号①'!$C$50,$R13,)) -> 区 分 | U13: =IF(OFFSET('様式第2-6号①'!$E$50,$R13,)="","",OFFSET('様式第2-6号①'!$E$50,$R13,)) -> テーマの追加 | V13: =IF(OFFSET('様式第2-6号①'!$E$50,$R13+1,)="","",OFFSET('様式第2-6号①'!$E$50,$R13+1,)) | W13: =IF(OFFSET('様式第2-6号①'!$E$50,$R13+2,)="","",OFFSET('様式第2-6号①'!$E$50,$R13+2,)) | X13: 67 | Y13: =IF(OFFSET('様式第2-6号①'!$C$74,$X13-1,)="","",OFFSET('様式第2-6号①'!$C$74,$X13-1,)) -> ｃ 都道府県又は推進組織が行う技術的指導の内容 | Z13: =IF(OFFSET('様式第2-6号①'!$E$74,$X13-1,)="","",OFFSET('様式第2-6号①'!$E$74,$X13-1,)) | AA13: =IF(OFFSET('様式第2-6号①'!$E$74,$X13,)="","",OFFSET('様式第2-6号①'!$E$74,$X13,)) | AB13: =IF(OFFSET('様式第2-6号①'!$E$74,$X13+1,)="","",OFFSET('様式第2-6号①'!$E$74,$X13+1,)) | AC13: =IF(OFFSET('様式第2-6号①'!$E$74,$X13+2,)="","",OFFSET('様式第2-6号①'!$E$74,$X13+2,)) | AE13: =IF(OFFSET('様式第2-6号①'!$E$74,$X13+3,)="","",OFFSET('様式第2-6号①'!$E$74,$X13+3,)) | AF13: =IF(OFFSET('様式第2-6号①'!$E$74,$X13+4,)="","",OFFSET('様式第2-6号①'!$E$74,$X13+4,)) -> 活動項目の追加 | AG13: 67 | AH13: =IF(OFFSET('様式第2-6号①'!$C$84,$AG13-1,)="","",OFFSET('様式第2-6号①'!$C$84,$AG13-1,)) | AI13: =IF(OFFSET('様式第2-6号①'!$E$84,$AG13-1,)="","",OFFSET('様式第2-6号①'!$E$84,$AG13-1,)) | AJ13: =IF(OFFSET('様式第2-6号①'!$E$84,$AG13,)="","",OFFSET('様式第2-6号①'!$E$84,$AG13,)) | AK13: =IF(OFFSET('様式第2-6号①'!$E$84,$AG13+1,)="","",OFFSET('様式第2-6号①'!$E$84,$AG13+1,)) | AL13: =IF(OFFSET('様式第2-6号①'!$E$84,$AG13+2,)="","",OFFSET('様式第2-6号①'!$E$84,$AG13+2,)) | AN13: =IF(OFFSET('様式第2-6号①'!$E$84,$AG13+3,)="","",OFFSET('様式第2-6号①'!$E$84,$AG13+3,)) | AO13: =IF(OFFSET('様式第2-6号①'!$E$84,$AG13+4,)="","",OFFSET('様式第2-6号①'!$E$84,$AG13+4,)) | AP13: 56 | AQ13: =IF(OFFSET('様式第2-6号①'!$C$94,$AP13-1,)="","",OFFSET('様式第2-6号①'!$C$94,$AP13-1,)) | AR13: =IF(OFFSET('様式第2-6号①'!$E$94,$AP13-1,)="","",OFFSET('様式第2-6号①'!$E$94,$AP13-1,)) | AS13: =IF(OFFSET('様式第2-6号①'!$E$94,$AP13,)="","",OFFSET('様式第2-6号①'!$E$94,$AP13,)) | AT13: =IF(OFFSET('様式第2-6号①'!$E$94,$AP13+1,)="","",OFFSET('様式第2-6号①'!$E$94,$AP13+1,)) | AV13: =IF(OFFSET('様式第2-6号①'!$E$94,$AP13+2,)="","",OFFSET('様式第2-6号①'!$E$94,$AP13+2,)) | AW13: =IF(OFFSET('様式第2-6号①'!$E$94,$AP13+3,)="","",OFFSET('様式第2-6号①'!$E$94,$AP13+3,)) | AX13: 34 | AY13: =IF(OFFSET('様式第2-6号①'!$B$114,$AX13,)="","",OFFSET('様式第2-6号①'!$B$114,$AX13,)) | AZ13: =IF(OFFSET('様式第2-6号①'!$C$114,$AX13,)="","",OFFSET('様式第2-6号①'!$C$114,$AX13,)) | BA13: =IF(OFFSET('様式第2-6号①'!$E$114,$AX13,)="","",OFFSET('様式第2-6号①'!$E$114,$AX13,)) | BB13: =IF(OFFSET('様式第2-6号①'!$E$114,$AX13+1,)="","",OFFSET('様式第2-6号①'!$E$114,$AX13+1,)) | BC13: =IF(OFFSET('様式第2-6号①'!$E$114,$AX13+2,)="","",OFFSET('様式第2-6号①'!$E$114,$AX13+2,)) | BD13: 67 | BE13: =IF(OFFSET('様式第2-6号①'!$C$145,$BD13-1,)="","",OFFSET('様式第2-6号①'!$C$145,$BD13-1,)) | BF13: =IF(OFFSET('様式第2-6号①'!$E$145,$BD13-1,)="","",OFFSET('様式第2-6号①'!$E$145,$BD13-1,)) | BG13: =IF(OFFSET('様式第2-6号①'!$E$145,$BD13,)="","",OFFSET('様式第2-6号①'!$E$145,$BD13,)) | BH13: =IF(OFFSET('様式第2-6号①'!$E$145,$BD13+1,)="","",OFFSET('様式第2-6号①'!$E$145,$BD13+1,)) | BI13: =IF(OFFSET('様式第2-6号①'!$E$145,$BD13+2,)="","",OFFSET('様式第2-6号①'!$E$145,$BD13+2,)) | BK13: =IF(OFFSET('様式第2-6号①'!$E$145,$BD13+3,)="","",OFFSET('様式第2-6号①'!$E$145,$BD13+3,)) | BL13: =IF(OFFSET('様式第2-6号①'!$E$145,$BD13+4,)="","",OFFSET('様式第2-6号①'!$E$145,$BD13+4,))
