Workbook
Name a: 【選択肢】!$H$3:$H$6
Name A.■か□: 【選択肢】!$A$3:$A$4
Name A.■か□: [1]【選択肢】!$A$3:$A$4
Name A.■か□: [1]【選択肢】!$A$3:$A$4
Name A.■か□: 【選択肢】!$A$3:$A$4
Name A.■か□: [1]【選択肢】!$A$3:$A$4
Name A.■か□: [1]【選択肢】!$A$3:$A$4
Name A.■か□: 【選択肢】!$A$3:$A$4
Name A.■か□: [1]【選択肢】!$A$3:$A$4
Name A.■か□: 【選択肢】!$A$3:$A$4
Name B.○か空白: 【選択肢】!$B$3:$B$4
Name B.○か空白: 【選択肢】!$B$3:$B$4
Name B.○か空白: [1]【選択肢】!$B$3:$B$4
Name B.○か空白: [1]【選択肢】!$B$3:$B$4
Name B.○か空白: 【選択肢】!$B$3:$B$4
Name B.○か空白: [1]【選択肢】!$B$3:$B$4
Name B.○か空白: [1]【選択肢】!$B$3:$B$4
Name B.○か空白: 【選択肢】!$B$3:$B$4
Name B.○か空白: [1]【選択肢】!$B$3:$B$4
Name B.○か空白: 【選択肢】!$B$3:$B$4
Name B.○か空白: 【選択肢】!$B$3:$B$4
Name Ｃ1.計画欄: 【選択肢】!$C$3:$C$4
Name Ｃ1.計画欄: [1]【選択肢】!$C$3:$C$4
Name Ｃ1.計画欄: [1]【選択肢】!$C$3:$C$4
Name Ｃ1.計画欄: 【選択肢】!$C$3:$C$4
Name Ｃ1.計画欄: [1]【選択肢】!$C$3:$C$4
Name Ｃ1.計画欄: [1]【選択肢】!$C$3:$C$4
Name Ｃ1.計画欄: 【選択肢】!$C$3:$C$4
Name Ｃ1.計画欄: [1]【選択肢】!$C$3:$C$4
Name Ｃ1.計画欄: 【選択肢】!$C$3:$C$4
Name Ｃ2.実施欄: 【選択肢】!$C$3:$C$5
Name Ｃ2.実施欄: [1]【選択肢】!$C$3:$C$5
Name Ｃ2.実施欄: [1]【選択肢】!$C$3:$C$5
Name Ｃ2.実施欄: 【選択肢】!$C$3:$C$5
Name Ｃ2.実施欄: [1]【選択肢】!$C$3:$C$5
Name Ｃ2.実施欄: [1]【選択肢】!$C$3:$C$5
Name Ｃ2.実施欄: 【選択肢】!$C$3:$C$5
Name Ｃ2.実施欄: [1]【選択肢】!$C$3:$C$5
Name Ｃ2.実施欄: 【選択肢】!$C$3:$C$5
Name D.農村環境保全活動のテーマ: 【選択肢】!$D$3:$D$7
Name D.農村環境保全活動のテーマ: [1]【選択肢】!$D$3:$D$7
Name D.農村環境保全活動のテーマ: [1]【選択肢】!$D$3:$D$7
Name D.農村環境保全活動のテーマ: 【選択肢】!$D$3:$D$7
Name D.農村環境保全活動のテーマ: [1]【選択肢】!$D$3:$D$7
Name D.農村環境保全活動のテーマ: [1]【選択肢】!$D$3:$D$7
Name D.農村環境保全活動のテーマ: 【選択肢】!$D$3:$D$7
Name D.農村環境保全活動のテーマ: [1]【選択肢】!$D$3:$D$7
Name D.農村環境保全活動のテーマ: 【選択肢】!$D$3:$D$7
Name E.高度な保全活動: 【選択肢】!$E$3:$E$11
Name E.高度な保全活動: [1]【選択肢】!$E$3:$E$11
Name E.高度な保全活動: [1]【選択肢】!$E$3:$E$11
Name E.高度な保全活動: 【選択肢】!$E$3:$E$11
Name E.高度な保全活動: [1]【選択肢】!$E$3:$E$11
Name E.高度な保全活動: [1]【選択肢】!$E$3:$E$11
Name E.高度な保全活動: 【選択肢】!$E$3:$E$11
Name E.高度な保全活動: [1]【選択肢】!$E$3:$E$11
Name E.高度な保全活動: 【選択肢】!$E$3:$E$11
Name F.施設: 【選択肢】!$F$3:$F$5
Name F.施設: [1]【選択肢】!$F$3:$F$5
Name F.施設: [1]【選択肢】!$F$3:$F$5

Sheet はじめに（PC）
A1: ★基本情報入力欄 はじめに太枠内の情報を入力してください。
B2: 都道府県名 | D2: ○○県 | E2: ← 「都道府県」まで記入してください。
B3: 市町村名 | D3: △△市 | E3: ← 「市町村」まで記入してください。
B4: 対象組織名 | D4: あいうえお活動組織
B5: 代表者名 | D5: 多面 太郎
B6: 代表者住所 | D6: ○○県△△市○町○-○-○
A8: ★記入の手順と注意事項（Excelで様式を作成する場合）
B9: ・様式1-1号シートから順番に入力してください。
B10: ・画面下の様式名を選択すると、入力する様式を切り替えることができます。左下の◀▶をクリックすることで、隠れている様式を表示させることができます。
B11: ・活動組織の方が入力するセルには、この色が塗ってあります。
B12: ・この色が塗ってあるセルは自動で入力されますが、自由に入力することもできます。自動入力されたものが間違っている場合は、正しく修正してください。
B13: ・行を追加する際は、一番左にある行番号をクリックして行全体をコピーし、表の最下部の太線より上の位置で行番号を右クリックし「コピーしたセルの挿入」を選択してください。
B14: ・計算式が入っているセルは変更しないでください。自動入力や自動計算ができなくなります。
A16: ★提出書類と各シートの説明
A17: １．事業計画の申請時に提出するもの
B18: シート名 | D18: 提出の必要性 | E18: 書類名
B19: 様式１－１号 | D19: 必須 | E19: 様式第1-1号 多面的機能発揮促進事業に関する計画の認定の申請について
B20: 様式１－２号 | D20: 必須 | E20: 様式第1-2号 多面的機能発揮促進事業に関する計画
B21: 様式１－３号 | D21: 必須 | E21: 様式第1-3号 農業の有する多面的機能の発揮の促進に関する活動計画書
C22: 活動計画書 | D22: 必須 | E22: 様式第1-3号別紙１ 多面的機能支払交付金に係る活動計画書（１号事業様式）
C23: 加算措置 | D23: 必要に応じて | E23: ※加算措置に取り組む場合のみ提出
C24: 位置図 | D24: 必須 | E24: 様式第1-3号別紙１別添１ 実施区域位置図
C25: 田んぼダム位置図 | D25: 必要に応じて | E25: 様式第1-3号別紙１別添３ 田んぼダム実施区域位置図
C26: 構成員一覧 | D26: 必須（どちらかを提出） | E26: 活動組織の規約別紙（構成員一覧）
B27: 別ファイル | E27: 様式第1-3号別紙１別添２ 構成員一覧
B28: 長寿命化整備計画 | D28: 必要に応じて | E28: 様式第1-4号 長寿命化整備計画書
B29: 工事確認書 | D29: 必要に応じて | E29: 様式第1-5号 工事に関する確認書
B30: 別ファイル | D30: 必須 | E30: 別記6-1 活動組織規約 又は別記5-2 広域協定運営委員会規則
A32: ２．実施状況の報告時に提出するもの
B33: シート名 | D33: 提出の必要性 | E33: 書類名
B34: 活動記録 | D34: 必須 | E34: 様式第1-6号 活動記録
B35: 金銭出納簿 | D35: 必須 | E35: 様式第1-7号 金銭出納簿
B36: 報告書 | D36: 必須 | E36: 様式第1-8号 実施状況報告書
C37: 持越金の使用予定表 | D37: 必要に応じて | E37: ※持越金の額が規定以上になる場合のみ提出
A39: ３．取組番号表
B40: シート名 | D40: 提出の必要性 | E40: 内容
B41: 取組番号早見表 | E41: 活動記録に記載する取組の番号早見表
B42: 取組番号表 | E42: 活動記録に記載する取組の番号表（詳細版）
A43: ４．その他のシート（活動組織の方は入力不要です）
B44: シート名 | D44: 提出の必要性 | E44: 内容
...

Sheet はじめに (手書き)
A1: ★注意事項（手書きで様式を作成する場合）
B2: ・画面下の様式名を選択すると、入力する様式を切り替えることができます。 左下の◀▶をクリックすることで、隠れている様式を表示させることができます。
B3: ・色が塗られているマスがありますが、これはパソコンで作成する方向けの目印です。 色にかかわらず、必要な項目を記入してください。
A4: ★提出書類と各シートの説明
A5: １．事業計画の申請時に提出するもの
B6: シート名 | D6: 提出の必要性 | E6: 書類名
B7: 様式１－１号 | D7: 必須 | E7: 様式第1-1号 多面的機能発揮促進事業に関する計画の認定の申請について
B8: 様式１－２号 | D8: 必須 | E8: 様式第1-2号 多面的機能発揮促進事業に関する計画
B9: 様式１－３号 | D9: 必須 | E9: 様式第1-3号 農業の有する多面的機能の発揮の促進に関する活動計画書
C10: 活動計画書 | D10: 必須 | E10: 様式第1-3号別紙１ 多面的機能支払交付金に係る活動計画書（１号事業様式）
C11: 加算措置 | D11: 必要に応じて | E11: ※加算措置に取り組む場合のみ提出
C12: 位置図 | D12: 必須 | E12: 様式第1-3号別紙１別添１ 実施区域位置図
C13: 田んぼダム位置図 | D13: 必要に応じて | E13: 様式第1-3号別紙１別添３ 田んぼダム実施区域位置図
C14: 構成員一覧 | D14: 必須（どちらかを提出） | E14: 活動組織の規約別紙（構成員一覧）
B15: 別ファイル | E15: 様式第1-3号別紙１別添２ 構成員一覧
B16: 長寿命化整備計画 | D16: 必要に応じて | E16: 様式第1-4号 長寿命化整備計画書
B17: 工事確認書 | D17: 必要に応じて | E17: 様式第1-5号 工事に関する確認書
B18: 別ファイル | D18: 必須 | E18: 別記6-1 活動組織規約 又は別記5-2 広域協定運営委員会規則
A20: ２．実施状況の報告時に提出するもの
B21: シート名 | D21: 提出の必要性 | E21: 書類名
B22: 活動記録 | D22: 必須に応じて | E22: 様式第1-6号 活動記録 ※農地維持支払のみに取り組む場合、提出不要
B23: 金銭出納簿 | D23: 必須 | E23: 様式第1-7号 金銭出納簿
B24: 報告書 | D24: 必須 | E24: 様式第1-8号 実施状況報告書
C25: 持越金の使用予定表 | D25: 必要に応じて | E25: ※持越金の額が規定以上になる場合のみ提出
A27: ３．取組番号表
B28: シート名 | D28: 提出の必要性 | E28: 内容
B29: 取組番号早見表 | E29: 活動記録に記載する取組の番号早見表
B30: 取組番号表 | E30: 活動記録に記載する取組の番号表（詳細版）

Sheet 様式第1-1号
A1: （様式第１－１号） | AD1: 〇
A2: 【活動組織から市町村に提出するもの】 | E2: 農林水産省様式
E3: ○年○月○日
A4: ='はじめに（PC）'!D3 -> △△市 | D4: 長 殿
E6: ='はじめに（PC）'!D4&"" -> あいうえお活動組織
E7: ='はじめに（PC）'!D5&"" -> 多面 太郎
B10: 多面的機能発揮促進事業に関する計画の認定の申請について
A12: このことについて、農業の有する多面的機能の発揮の促進に関する法律（平成26年法律第78号）第７条第１項の規定に基づき、下記関係書類を添えて認定を申請する。
A14: 記
B15: １ 事業計画
B17: ２ 農業の有する多面的機能の発揮の促進に関する活動計画書
C18: □ | D18: １号事業（多面的機能支払交付金）
C19: □ | D19: ２号事業（中山間地域等直接支払交付金）
C20: □ | D20: ３号事業（環境保全型農業直接支払交付金）
B22: ３ その他
C23: □ | D23: 都道府県の同意書の写し（都道府県営土地改良施設の管理）

Sheet 【記入例】様式第1-1号
A1: （様式第１－１号） | AD1: 〇
A2: 【活動組織から市町村に提出するもの】 | E2: 農林水産省様式
E3: ○年○月○日
A4: ='はじめに（PC）'!D3 -> △△市 | D4: 長 殿
E6: ='はじめに（PC）'!D4&"" -> あいうえお活動組織
E7: ='はじめに（PC）'!D5&"" -> 多面 太郎
B10: 多面的機能発揮促進事業に関する計画の認定の申請について
A12: このことについて、農業の有する多面的機能の発揮の促進に関する法律（平成26年法律第78号）第７条第１項の規定に基づき、下記関係書類を添えて認定を申請する。
A14: 記
B15: １ 事業計画
B17: ２ 農業の有する多面的機能の発揮の促進に関する活動計画書
C18: ■ | D18: １号事業（多面的機能支払交付金）
C19: □ | D19: ２号事業（中山間地域等直接支払交付金）
C20: □ | D20: ３号事業（環境保全型農業直接支払交付金）
B22: ３ その他
C23: □ | D23: 都道府県の同意書の写し（都道府県営土地改良施設の管理）

Sheet データ取込シート_様式第1-1号
A1: 都道府県の同意書の写し（都道府県営土地改良施設の管理）
A2: =IF('様式第1-1号'!C23="■","true","false") -> false

Sheet 様式第1-2号
A1: （様式第１－２号）
A2: 【活動組織から市町村に提出するもの】
G3: 農林水産省様式
A4: 多面的機能発揮促進事業に関する計画
F6: ='様式第1-1号'!E3 -> ○年○月○日
F7: ='はじめに（PC）'!D4&"" -> あいうえお活動組織
A9: １ 多面的機能発揮促進事業の目標
A10: １．現況
A12: ２．目標
A14: ２ 多面的機能発揮促進事業の内容
A15: （１）多面的機能発揮促進事業の種類及び実施区域
A16: ① 種類（実施するものに○を付すこと。）
C17: １号事業（多面的機能支払交付金）
E18: 農業の有する多面的機能の発揮の促進に関する法律（平成26年法律第78号。以下「法」という。）第３条第３項第１号イに掲げる施設の維持その他の主として当該施設の機能の保持を図る活動（以下「イの活動」という。） （農地維持支払交付金）
E20: 法第３条第３項第１号ロに掲げる施設の改良その他の主として当該施設の機能の増進を図る活動（以下「ロの活動」という。） （資源向上支払交付金）
D22: ２号事業（中山間地域等直接支払交付金）
D23: ３号事業（環境保全型農業直接支払交付金）
D24: ４号事業（その他農業の有する多面的機能の発揮の促進に資する事業）
A26: ② 実施区域
A29: （２）活動の内容等
A30: ① １号事業
A31: １）事業に係る施設の所在及び施設の種類、活動の別
A34: ２）活動の内容
A39: ３ 多面的機能発揮促進事業の実施期間
A42: ４ 農業者団体等の構成員に係る事項
A46: ＜施行注意＞
B47: 記入内容が様式第１－３号と重複する場合は、「２（１）②実施区域」、「２（２）活動の内容等」、「３ 多面的機能発揮促進事業の実施期間」及び「４ 農業者団体等の構成員に係る事項」の記入を省略することも可能とする。

Sheet 【記入例】様式第1-2号
A1: （様式第１－２号）
A2: 【活動組織から市町村に提出するもの】
G3: 農林水産省様式
A4: 多面的機能発揮促進事業に関する計画
F6: ='様式第1-1号'!E3 -> ○年○月○日
F7: ='はじめに（PC）'!D4&"" -> あいうえお活動組織
A9: １ 多面的機能発揮促進事業の目標
A10: １．現況
B11: テスト１
A12: ２．目標
B13: テスト２
A14: ２ 多面的機能発揮促進事業の内容
A15: （１）多面的機能発揮促進事業の種類及び実施区域
A16: ① 種類（実施するものに○を付すこと。）
C17: １号事業（多面的機能支払交付金）
D18: ○ | E18: 農業の有する多面的機能の発揮の促進に関する法律（平成26年法律第78号。以下「法」という。）第３条第３項第１号イに掲げる施設の維持その他の主として当該施設の機能の保持を図る活動（以下「イの活動」という。） （農地維持支払交付金）
D20: ○ | E20: 法第３条第３項第１号ロに掲げる施設の改良その他の主として当該施設の機能の増進を図る活動（以下「ロの活動」という。） （資源向上支払交付金）
D22: ２号事業（中山間地域等直接支払交付金）
D23: ３号事業（環境保全型農業直接支払交付金）
D24: ４号事業（その他農業の有する多面的機能の発揮の促進に資する事業）
A26: ② 実施区域
C27: （例）農業の有する多面的機能の発揮の促進に関する活動計画書（以下「活動計画書」という。）「（別添１）実施区域位置図」のとおり。
A29: （２）活動の内容等
A30: ① １号事業
A31: １）事業に係る施設の所在及び施設の種類、活動の別
C32: （例） 活動計画書「Ⅰ．地区の概要」の「１．活動期間」及び「２．実施区域内の農用地、施設」並びに「（別添１）実施区域位置図」のとおり。
A34: ２）活動の内容
C35: （例） イ イの活動 活動計画書「３．活動の計画」の「（１）農地維持支払」に記載のとおり。 ロ ロの活動 活動計画書「３．活動の計画」の「（２）資源向上支払（共同）」及び「（３）資源向上支払（長寿命化）」に記載のとおり。
A39: ３ 多面的機能発揮促進事業の実施期間
C40: （例）活動計画書「Ⅰ．地区の概要」の「１．活動期間」のとおり。
A42: ４ 農業者団体等の構成員に係る事項
C43: （例）「（別添２）構成員一覧」に記載のとおり。多面的機能支払交付金実施要領「別記６－１活動組織規約」の「（別紙）構成員一覧」に代えることもできる。
A46: ＜施行注意＞
B47: 記入内容が様式第１－３号と重複する場合は、「２（１）②実施区域」、「２（２）活動の内容等」、「３ 多面的機能発揮促進事業の実施期間」及び「４ 農業者団体等の構成員に係る事項」の記入を省略することも可能とする。

Sheet データ取込シート_様式第1-2号
A1: １．現状 | B1: ２．目標 | C1: １号事業 １ | D1: １号事業 ２ | E1: ２号事業 | F1: ３号事業 | G1: ４号事業 | H1: ②実施区域 | I1: １）事業に係る施設～ | J1: ２）活動の内容 | K1: ３ 多面的機能発揮促進事業の実施期間 | L1: ４ 農業者団体等の構成員に係る事項
A2: =IF('様式第1-2号'!B11<>"",'様式第1-2号'!B11,"") | B2: =IF('様式第1-2号'!B13<>"",'様式第1-2号'!B13,"") | C2: =IF('様式第1-2号'!D18="○","true","false") -> false | D2: =IF('様式第1-2号'!D20="○","true","false") -> false | E2: =IF('様式第1-2号'!C22="○","true","false") -> false | F2: =IF('様式第1-2号'!C23="○","true","false") -> false | G2: =IF('様式第1-2号'!C24="○","true","false") -> false | H2: =IF('様式第1-2号'!C27<>"",'様式第1-2号'!C27,"") | I2: =IF('様式第1-2号'!C32<>"",'様式第1-2号'!C32,"") | J2: =IF('様式第1-2号'!C35<>"",'様式第1-2号'!C35,"") | K2: =IF('様式第1-2号'!C40<>"",'様式第1-2号'!C40,"") | L2: =IF('様式第1-2号'!C43<>"",'様式第1-2号'!C43,"")

Sheet 様式第1-3号
A1: （様式第１－３号）
A2: 【活動組織から市町村に提出するもの】 | N2: 農林水産省様式
M3: ='様式第1-1号'!E3 -> ○年○月○日
B4: 農業の有する多面的機能の発揮の促進に関する活動計画書 （多面的機能支払に係る活動計画書、中山間地域等直接支払に係る集落協定、 環境保全型農業直接支払に係る営農活動計画書）
D6: （ふりがな） | F6: （あいうえおかつどうそしき）
D7: 組織名 | F7: ='はじめに（PC）'!D4&"" -> あいうえお活動組織
D9: （ふりがな） | F9: （ためん たろう）
D10: 代表者氏名 | F10: ='はじめに（PC）'!D5&"" -> 多面 太郎
D12: （ふりがな） | F12: （まるけんさんかくしまるちょう）
D13: 所在地 | F13: ='はじめに（PC）'!D6&"" -> ○○県△△市○町○-○-○
D16: Ⅰ． | E16: 地区の概要（共通）
D18: ＜活動の計画＞
D19: □ | E19: Ⅱ． １号事業（多面的機能支払） | M19: 別紙１
D20: □ | E20: Ⅲ． ２号事業（中山間地域等直接支払） | M20: 別紙
D21: □ | E21: Ⅳ． ３号事業（環境保全型農業直接支払） | M21: 別紙
D22: □ | E22: Ⅴ． その他多面的機能の発揮の促進に資する事業に係る計画書 | M22: 別紙
D23: （注）該当する活動にチェックし、取り組む活動の別紙のみ添付すること
C25: ＜施行注意＞
C26: 提出の際に（ ）内は、多面的機能支払に係る活動計画書、中山間地域等直接支払に係る集落協定、環境保全型農業直接支払に係る営農活動計画書のうち該当する活動の計画書若しくは協定を記載すること。
A27: Ⅰ．地区の概要
B28: ※ 以下、（多面的機能支払、中山間地域等直接支払、環境保全型農業直接支払）をそれぞれ（多面支払、中山間直払、環境直払）と一部で表示
B29: １．活動期間
D30: 活動開始年度 | F30: 活動終了年度 | H30: 交付金の 交付年数 | J30: 計画変更年度 | L30: 計画変更年度
B31: 農地維持支払
B33: 資源向上支払（共同）
B35: 資源向上支払（長寿命化）
B37: 中山間地域等 直接支払
B39: 環境保全型農業直接支払
B41: ２．実施区域内の農用地、施設
B42: 協定農用地面積 又は認定農用地面積※１ | L42: 計 | M42: うち遊休 農地面積 | N42: 年当たり 交付金額 上限
D43: 田 | F43: 畑 | H43: 草地 | J43: 採草放牧地
C44: 多面 支払 | L44: =SUM(D44,F44,H44) -> 0
D45: 0 | F45: 0 | H45: 0 | L45: =SUM(D45:I45) -> 0 | M45: 0 | N45: =SUM(活動計画書!I16,活動計画書!I28,加算措置!I13,加算措置!I39,加算措置!I71,加算措置!O101)+IF(活動計画書!V38="○",MIN(活動計画書!S40,活動計画書!I40),活動計画書!I40)+IFERROR(VLOOKUP("○",加算措置!I76:P78,5,FALSE),0) -> 0
C46: 中山間 直払 | L46: =SUM(D46:K46) -> 0
D47: 0 | F47: 0 | H47: 0 | J47: 0 | L47: =SUM(D47:J47) -> 0 | M47: 0 | N47: 0
D48: 傾斜 | F48: 傾斜 | H48: 傾斜 | J48: 傾斜
B50: 取組面積 | C50: 環境 直払※２ | D50: 0
D51: 0 | N51: 0
B52: ※１ 多面支払の認定農用地面積は、集落が管理する農用地面積を記載する。 ※２ 環境直払に取り組む場合は、Ⅳの４の交付金額の取組面積の合計及び年当たり交付金額上限の合計 を記載するものとする。
B53: 農業用施設 （多面支払） | F53: 水路 | H53: 農道 | J53: ため池
...

Sheet 【記入例】様式第1-3号
A1: （様式第１－３号）
A2: 【活動組織から市町村に提出するもの】 | N2: 農林水産省様式
M3: ='様式第1-1号'!E3 -> ○年○月○日
B4: 農業の有する多面的機能の発揮の促進に関する活動計画書 （多面的機能支払に係る活動計画書、中山間地域等直接支払に係る集落協定、 環境保全型農業直接支払に係る営農活動計画書）
D6: （ふりがな） | F6: （あいうえおかつどうそしき）
D7: 組織名 | F7: ='はじめに（PC）'!D4&"" -> あいうえお活動組織
D9: （ふりがな） | F9: （ためん たろう）
D10: 代表者氏名 | F10: ='はじめに（PC）'!D5&"" -> 多面 太郎
D12: （ふりがな） | F12: （まるけんさんかくしまるちょう）
D13: 所在地 | F13: ='はじめに（PC）'!D6&"" -> ○○県△△市○町○-○-○
D16: Ⅰ． | E16: 地区の概要（共通）
D18: ＜活動の計画＞
D19: ■ | E19: Ⅱ． １号事業（多面的機能支払） | M19: 別紙１
D20: □ | E20: Ⅲ． ２号事業（中山間地域等直接支払） | M20: 別紙
D21: □ | E21: Ⅳ． ３号事業（環境保全型農業直接支払） | M21: 別紙
D22: □ | E22: Ⅴ． その他多面的機能の発揮の促進に資する事業に係る計画書 | M22: 別紙
D23: （注）該当する活動にチェックし、取り組む活動の別紙のみ添付すること
C25: ＜施行注意＞
C26: 提出の際に（ ）内は、多面的機能支払に係る活動計画書、中山間地域等直接支払に係る集落協定、環境保全型農業直接支払に係る営農活動計画書のうち該当する活動の計画書若しくは協定を記載すること。
A27: Ⅰ．地区の概要
B28: ※ 以下、（多面的機能支払、中山間地域等直接支払、環境保全型農業直接支払）をそれぞれ（多面支払、中山間直払、環境直払）と一部で表示
B29: １．活動期間
D30: 活動開始年度 | F30: 活動終了年度 | H30: 交付金の 交付年数 | J30: 計画変更年度 | L30: 計画変更年度
B31: 農地維持支払
D32: 2022 | F32: 2026 | H32: 5 | J32: 2023 | L32: 2024
B33: 資源向上支払（共同）
D34: 2022 | F34: 2026 | H34: 5 | J34: 2023 | L34: 2024
B35: 資源向上支払（長寿命化）
D36: 2022 | F36: 2026 | H36: 5 | J36: 2023 | L36: 2024
B37: 中山間地域等 直接支払
D38: 2022 | F38: 2026 | H38: 5 | J38: 2023 | L38: 2024
B39: 環境保全型農業直接支払
D40: 2022 | F40: 2026 | H40: 5 | J40: 2023 | L40: 2024
B41: ２．実施区域内の農用地、施設
B42: 協定農用地面積 又は認定農用地面積※１ | L42: 計 | M42: うち遊休 農地面積 | N42: 年当たり 交付金額 上限
D43: 田 | F43: 畑 | H43: 草地 | J43: 採草放牧地
C44: 多面 支払 | L44: =SUM(D44,F44,H44) -> 0
D45: 10000 | F45: 1000 | H45: 100 | L45: =SUM(D45:I45) -> 11100 | M45: 10 | N45: =SUM(活動計画書!I16,活動計画書!I28,加算措置!I13,加算措置!I39,加算措置!I71,加算措置!O101)+IF(活動計画書!V38="○",MIN(活動計画書!S40,活動計画書!I40),活動計画書!I40)+IFERROR(VLOOKUP("○",加算措置!I76:P78,5,FALSE),0) -> 0
C46: 中山間 直払 | L46: =SUM(D46:K46) -> 0
D47: 0 | F47: 0 | H47: 0 | J47: 0 | L47: =SUM(D47:J47) -> 0 | M47: 0 | N47: 0
...

Sheet データ取込シート_様式第1-3号
A1: 多面的事業の種類 | B1: 活動開始年度 | C1: 活動終了年度 | D1: 交付金の交付年数 | E1: 計画変更年度 | F1: 計画変更年度 | G1: 田 | H1: 畑 | I1: 草地 | J1: うち遊休農地面積 | K1: 田 | L1: 田傾斜 | M1: 畑 | N1: 畑傾斜 | O1: 草地 | P1: 草地傾斜 | Q1: 採草放牧地 | R1: 採草放牧地傾斜 | S1: うち遊休農地面積 | T1: 年当たり交付金額上限 | U1: 取組面積 | V1: 年当たり交付金額上限 | W1: 水路 | X1: 水路：うち資源向上支払（長寿命化）対象施設 | Y1: 農道 | Z1: 農道：うち資源向上支払（長寿命化）対象施設 | AA1: ため池 | AB1: ため池：うち資源向上支払（長寿命化）対象施設 | AC1: 重複面積
A2: 農地維持支払 | B2: =IF('様式第1-3号'!D32<>"",'様式第1-3号'!D32,"") | C2: =IF('様式第1-3号'!F32<>"",'様式第1-3号'!F32,"") | D2: =IF('様式第1-3号'!H32<>"",'様式第1-3号'!H32,"") | E2: =IF('様式第1-3号'!J32<>"",'様式第1-3号'!J32,"") | F2: =IF('様式第1-3号'!L32<>"",'様式第1-3号'!L32,"") | G2: =IF('様式第1-3号'!D45<>"",'様式第1-3号'!D45,"") -> 0 | H2: =IF('様式第1-3号'!F45<>"",'様式第1-3号'!F45,"") -> 0 | I2: =IF('様式第1-3号'!H45<>"",'様式第1-3号'!H45,"") -> 0 | J2: =IF('様式第1-3号'!M45<>"",'様式第1-3号'!M45,"") -> 0 | K2: =IF('様式第1-3号'!D47<>"",'様式第1-3号'!D47,"") -> 0 | L2: =IF('様式第1-3号'!E49<>"",'様式第1-3号'!E49,"") | M2: =IF('様式第1-3号'!F47<>"",'様式第1-3号'!F47,"") -> 0 | N2: =IF('様式第1-3号'!G49<>"",'様式第1-3号'!G49,"") | O2: =IF('様式第1-3号'!H47<>"",'様式第1-3号'!H47,"") -> 0 | P2: =IF('様式第1-3号'!I49<>"",'様式第1-3号'!I49,"") | Q2: =IF('様式第1-3号'!J47<>"",'様式第1-3号'!J47,"") -> 0 | R2: =IF('様式第1-3号'!K49<>"",'様式第1-3号'!K49,"") | S2: =IF('様式第1-3号'!M47<>"",'様式第1-3号'!M47,"") -> 0 | T2: =IF('様式第1-3号'!N47<>"",'様式第1-3号'!N47,"") -> 0 | U2: =IF('様式第1-3号'!D51<>"",'様式第1-3号'!D51,"") -> 0 | V2: =IF('様式第1-3号'!N51<>"",'様式第1-3号'!N51,"") -> 0 | W2: =IF('様式第1-3号'!F55<>"",'様式第1-3号'!F55,"") -> 0 | X2: =IF('様式第1-3号'!F57<>"",'様式第1-3号'!F57,"") -> 0 | Y2: =IF('様式第1-3号'!H57<>"",'様式第1-3号'!H57,"") -> 0 | Z2: =IF('様式第1-3号'!H57<>"",'様式第1-3号'!H57,"") -> 0 | AA2: =IF('様式第1-3号'!J55<>"",'様式第1-3号'!J55,"") -> 0 | AB2: =IF('様式第1-3号'!J57<>"",'様式第1-3号'!J57,"") -> 0 | AC2: =IF('様式第1-3号'!B66<>"",'様式第1-3号'!B66,"") -> 0
A3: 資源向上支払（共同） | B3: =IF('様式第1-3号'!D34<>"",'様式第1-3号'!D34,"") | C3: =IF('様式第1-3号'!F34<>"",'様式第1-3号'!F34,"") | D3: =IF('様式第1-3号'!H34<>"",'様式第1-3号'!H34,"") | E3: =IF('様式第1-3号'!J34<>"",'様式第1-3号'!J34,"") | F3: =IF('様式第1-3号'!L34<>"",'様式第1-3号'!L34,"")
A4: 資源向上支払（長寿命化） | B4: =IF('様式第1-3号'!D36<>"",'様式第1-3号'!D36,"") | C4: =IF('様式第1-3号'!F36<>"",'様式第1-3号'!F36,"") | D4: =IF('様式第1-3号'!H36<>"",'様式第1-3号'!H36,"") | E4: =IF('様式第1-3号'!J36<>"",'様式第1-3号'!J36,"") | F4: =IF('様式第1-3号'!L36<>"",'様式第1-3号'!L36,"")
A5: 中山間地域等直接支払 | B5: =IF('様式第1-3号'!D38<>"",'様式第1-3号'!D38,"") | C5: =IF('様式第1-3号'!F38<>"",'様式第1-3号'!F38,"") | D5: =IF('様式第1-3号'!H38<>"",'様式第1-3号'!H38,"") | E5: =IF('様式第1-3号'!J38<>"",'様式第1-3号'!J38,"") | F5: =IF('様式第1-3号'!L38<>"",'様式第1-3号'!L38,"")
A6: 環境保全型農業直接支払 | B6: =IF('様式第1-3号'!D40<>"",'様式第1-3号'!D40,"") | C6: =IF('様式第1-3号'!F40<>"",'様式第1-3号'!F40,"") | D6: =IF('様式第1-3号'!H40<>"",'様式第1-3号'!H40,"") | E6: =IF('様式第1-3号'!J40<>"",'様式第1-3号'!J40,"") | F6: =IF('様式第1-3号'!L40<>"",'様式第1-3号'!L40,"")

Sheet 活動計画書
V1: （別紙1）
B2: 多面的機能支払に係る活動計画書（1号事業様式）
A3: Ⅱ． １号事業（多面的機能支払）
B4: 対象組織が広域活動組織の場合は○ | J4: ⇒
A5: １．交付金額 | F5: ※複数の交付単価がある場合には、行を追加してください。
A6: （１）農地維持支払
B7: 地目 | C7: 対象農用地面積 | F7: 交付単価 | I7: 年当たり交付金額 | N7: ※対象農用地面積とは、交付金の算定の対象となる農用地の面積のことです。小数点以下を切り捨て、整数で記入してください。
B8: 田 | I8: =ROUNDDOWN((INT(C8)*F8/10),0) -> 0
C9: 0 | F9: 0 | H9: 円/10a | I9: =ROUNDDOWN((INT(C9)*F9/10),0) -> 0
B10: 畑 | I10: =ROUNDDOWN((INT(C10)*F10/10),0) -> 0 | N10: ★活動期間中に、田から畑への地目の変更が生じた場合は下記に記入し、市町村に提出してください。農地維持支払の単価が活動終了年度まで田の単価となります。
C11: 0 | F11: 0 | H11: 円/10a | I11: =ROUNDDOWN((INT(C11)*F11/10),0) -> 0
B12: 草地 | I12: =ROUNDDOWN((INT(C12)*F12/10),0) -> 0
C13: 0 | F13: 0 | H13: 円/10a | I13: =ROUNDDOWN((INT(C13)*F13/10),0) -> 0
B14: この線より上に行を挿入してください。 | N14: 地目を田から畑に変更する面積 | U14: 0
B15: 合計 | C15: =INT(SUM(C8,C10,C12)) -> 0 | I15: =SUM(I8,I10,I12) -> 0
C16: =INT(SUM(C9,C11,C13)) -> 0 | I16: =SUM(I9,I11,I13) -> 0
A18: （２）資源向上支払（共同）
B19: 地目 | C19: 対象農用地面積 | F19: 交付単価 | I19: 年当たり交付金額 | N19: ※交付単価は以下①、②への取組状況によって単価が異なりますので、乗じた額を記入してください。
B20: 田 | I20: =ROUNDDOWN((INT(C20)*F20/10),0) -> 0
C21: 0 | F21: 0 | H21: 円/10a | I21: =ROUNDDOWN((INT(C21)*F21/10),0) -> 0 | N21: ①多面的機能の増進活動に取り組む ②資源向上支払（共同）を５年以上実施、又は資源向上支払（長寿命化）に取り組む
B22: 畑 | I22: =ROUNDDOWN((INT(C22)*F22/10),0) -> 0
C23: 0 | F23: 0 | H23: 円/10a | I23: =ROUNDDOWN((INT(C23)*F23/10),0) -> 0
B24: 草地 | I24: =ROUNDDOWN((INT(C24)*F24/10),0) -> 0
C25: 0 | F25: 0 | H25: 円/10a | I25: =ROUNDDOWN((INT(C25)*F25/10),0) -> 0 | N25: ①②に該当 ⇒単価に0.75を乗ずる ①のみ該当 ⇒単価の修正なし ②のみ該当 ⇒単価に0.625を乗ずる ①②に該当しない⇒単価に5/6を乗ずる
B26: この線より上に行を挿入してください。
B27: 合計 | C27: =INT(SUM(C20+C22+C24)) -> 0 | I27: =SUM(I20,I22,I24) -> 0
C28: =INT(SUM(C21,C23,C25)) -> 0 | I28: =SUM(I21,I23,I25) -> 0
A30: （３）資源向上支払（長寿命化）
B31: 地目 | C31: 対象農用地面積 | F31: 交付単価 | I31: 年当たり交付上限額 | N31: ※広域活動組織となるための規模要件を満たさない場合、かつ直営施工を実施しない場合は、単価に5/6を乗じた額を記入してください。
B32: 田 | I32: =ROUNDDOWN((INT(C32)*F32/10),0) -> 0
C33: 0 | F33: 0 | H33: 円/10a | I33: =ROUNDDOWN((INT(C33)*F33/10),0) -> 0
B34: 畑 | I34: =ROUNDDOWN((INT(C34)*F34/10),0) -> 0
C35: 0 | F35: 0 | H35: 円/10a | I35: =ROUNDDOWN((INT(C35)*F35/10),0) -> 0 | N35: ※広域活動組織となるための規模要件を満たさない場合は、左記合計と集落数×200万円のいずれか小さい方が上限となります。
B36: 草地 | I36: =ROUNDDOWN((INT(C36)*F36/10),0) -> 0
C37: 0 | F37: 0 | H37: 円/10a | I37: =ROUNDDOWN((INT(C37)*F37/10),0) -> 0
B38: この線より上に行を挿入してください。 | N38: 広域活動組織となるための規模要件を満たさない場合は○ | U38: ⇒
B39: 合計 | C39: =INT(SUM(C32,C34,C36)) -> 0 | I39: =SUM(I32,I34,I36) -> 0
C40: =INT(SUM(C33,C35,C37)) -> 0 | I40: =SUM(I33,I35,I37) -> 0 | N40: 集落数×200万円 | S40: =IF(V38="○",E47*2000000,0) -> 0
A42: ２．組織の広域化・体制強化の計画 （計画がない場合、この項目への記入は不要です）
E43: 広域活動組織の設立 | J43: 特定非営利活動法人化 | O43: ※「特定非営利活動法人」とは、営農法人とは別に多面的活動に関与する法人のことです。
...

Sheet 【記入例】活動計画書
V1: （別紙1）
B2: 多面的機能支払に係る活動計画書（1号事業様式）
A3: Ⅱ． １号事業（多面的機能支払）
B4: 対象組織が広域活動組織の場合は○ | J4: ⇒ | K4: ○
A5: １．交付金額 | F5: ※複数の交付単価がある場合には、行を追加してください。
A6: （１）農地維持支払
B7: 地目 | C7: 対象農用地面積 | F7: 交付単価 | I7: 年当たり交付金額 | N7: ※対象農用地面積とは、交付金の算定の対象となる農用地の面積のことです。小数点以下を切り捨て、整数で記入してください。
B8: 田 | I8: =ROUNDDOWN((INT(C8)*F8/10),0) -> 0
C9: 10100 | F9: 3000 | H9: 円/10a | I9: =ROUNDDOWN((INT(C9)*F9/10),0) -> 3030000
B10: 畑 | I10: =ROUNDDOWN((INT(C10)*F10/10),0) -> 0 | N10: ★活動期間中に、田から畑への地目の変更が生じた場合は下記に記入し、市町村に提出してください。農地維持支払の単価が活動終了年度まで田の単価となります。
C11: 900 | F11: 2000 | H11: 円/10a | I11: =ROUNDDOWN((INT(C11)*F11/10),0) -> 180000
B12: 草地 | I12: =ROUNDDOWN((INT(C12)*F12/10),0) -> 0
C13: 100 | F13: 250 | H13: 円/10a | I13: =ROUNDDOWN((INT(C13)*F13/10),0) -> 2500
B14: この線より上に行を挿入してください。 | N14: 地目を田から畑に変更する面積 | U14: 100
B15: 合計 | C15: =INT(SUM(C8,C10,C12)) -> 0 | I15: =SUM(I8,I10,I12) -> 0
C16: =INT(SUM(C9,C11,C13)) -> 11100 | I16: =SUM(I9,I11,I13) -> 3212500
A18: （２）資源向上支払（共同）
B19: 地目 | C19: 対象農用地面積 | F19: 交付単価 | I19: 年当たり交付金額 | N19: ※交付単価は以下①、②への取組状況によって単価が異なりますので、乗じた額を記入してください。
B20: 田 | I20: =ROUNDDOWN((INT(C20)*F20/10),0) -> 0
C21: 10000 | F21: 1800 | H21: 円/10a | I21: =ROUNDDOWN((INT(C21)*F21/10),0) -> 1800000 | N21: ①多面的機能の増進活動に取り組む ②資源向上支払（共同）を５年以上実施、又は資源向上支払（長寿命化）に取り組む
B22: 畑 | I22: =ROUNDDOWN((INT(C22)*F22/10),0) -> 0
C23: 1000 | F23: 1080 | H23: 円/10a | I23: =ROUNDDOWN((INT(C23)*F23/10),0) -> 108000
B24: 草地 | I24: =ROUNDDOWN((INT(C24)*F24/10),0) -> 0
C25: 100 | F25: 180 | H25: 円/10a | I25: =ROUNDDOWN((INT(C25)*F25/10),0) -> 1800 | N25: ①②に該当 ⇒単価に0.75を乗ずる ①のみ該当 ⇒単価の修正なし ②のみ該当 ⇒単価に0.625を乗ずる ①②に該当しない⇒単価に5/6を乗ずる
B26: この線より上に行を挿入してください。
B27: 合計 | C27: =INT(SUM(C20+C22+C24)) -> 0 | I27: =SUM(I20,I22,I24) -> 0
C28: =INT(SUM(C21,C23,C25)) -> 11100 | I28: =SUM(I21,I23,I25) -> 1909800
A30: （３）資源向上支払（長寿命化）
B31: 地目 | C31: 対象農用地面積 | F31: 交付単価 | I31: 年当たり交付上限額 | N31: ※広域活動組織となるための規模要件を満たさない場合、かつ直営施工を実施しない場合は、単価に5/6を乗じた額を記入してください。
B32: 田 | I32: =ROUNDDOWN((INT(C32)*F32/10),0) -> 0
C33: 10000 | F33: 4400 | H33: 円/10a | I33: =ROUNDDOWN((INT(C33)*F33/10),0) -> 4400000
B34: 畑 | I34: =ROUNDDOWN((INT(C34)*F34/10),0) -> 0
C35: 1000 | F35: 2000 | H35: 円/10a | I35: =ROUNDDOWN((INT(C35)*F35/10),0) -> 200000 | N35: ※広域活動組織となるための規模要件を満たさない場合は、左記合計と集落数×200万円のいずれか小さい方が上限となります。
B36: 草地 | I36: =ROUNDDOWN((INT(C36)*F36/10),0) -> 0
C37: 100 | F37: 400 | H37: 円/10a | I37: =ROUNDDOWN((INT(C37)*F37/10),0) -> 4000
B38: この線より上に行を挿入してください。 | N38: 広域活動組織となるための規模要件を満たさない場合は○ | U38: ⇒ | V38: ○
B39: 合計 | C39: =INT(SUM(C32,C34,C36)) -> 0 | I39: =SUM(I32,I34,I36) -> 0
C40: =INT(SUM(C33,C35,C37)) -> 11100 | I40: =SUM(I33,I35,I37) -> 4604000 | N40: 集落数×200万円 | S40: =IF(V38="○",E47*2000000,0) -> 6000000
A42: ２．組織の広域化・体制強化の計画 （計画がない場合、この項目への記入は不要です）
E43: 広域活動組織の設立 | J43: 特定非営利活動法人化 | O43: ※「特定非営利活動法人」とは、営農法人とは別に多面的活動に関与する法人のことです。
...

Sheet データ取込シート_活動計画書_整理用
B1: 地目01 | C1: 対象農用地面積01 | D1: 交付単価01 | F1: 地目02 | G1: 対象農用地面積02 | H1: 交付単価02 | J1: 地目03 | K1: 対象農用地面積03 | L1: 交付単価03 | N1: 活動項目03-1 | O1: 活動項目03-2 | P1: 4月02 | Q1: 5月02 | R1: 6月02 | S1: 7月02 | T1: 8月02 | U1: 9月02 | V1: 10月02 | W1: 11月02 | X1: 12月02 | Y1: 1月02 | Z1: 2月02 | AA1: 3月02 | AC1: 施設区分06 | AD1: 活動項目06-1 | AE1: 活動項目06-2 | AF1: 内容06 | AG1: 延べ数量06 | AH1: 単位06 | AI1: 年度計画1年目 | AJ1: 年度計画2年目 | AK1: 年度計画3年目 | AL1: 年度計画4年目 | AM1: 年度計画5年目
A2: 1 | B2: =IF(OFFSET(活動計画書!$B$7,$A2,)="","",OFFSET(活動計画書!$B$7,$A2,)) -> 田 | C2: =IF(OFFSET(活動計画書!$C$7,$A2+1,)="","",OFFSET(活動計画書!$C$7,$A2+1,)) -> 0 | D2: =IF(OFFSET(活動計画書!$F$7,$A2+1,)="","",OFFSET(活動計画書!$F$7,$A2+1,)) -> 0 | E2: 1 | F2: =IF(OFFSET(活動計画書!$B$19,$E2,)="","",OFFSET(活動計画書!$B$19,$E2,)) -> 田 | G2: =IF(OFFSET(活動計画書!$C$19,$E2+1,)="","",OFFSET(活動計画書!$C$19,$E2+1,)) -> 0 | H2: =IF(OFFSET(活動計画書!$F$19,$E2+1,)="","",OFFSET(活動計画書!$F$19,$E2+1,)) -> 0 | I2: 1 | J2: =IF(OFFSET(活動計画書!$B$31,$I2,)="","",OFFSET(活動計画書!$B$31,$I2,)) -> 田 | K2: =IF(OFFSET(活動計画書!$C$31,$I2+1,)="","",OFFSET(活動計画書!$C$31,$I2+1,)) -> 0 | L2: =IF(OFFSET(活動計画書!$F$31,$I2+1,)="","",OFFSET(活動計画書!$F$31,$I2+1,)) -> 0 | M2: 1 | N2: =IF(OFFSET(活動計画書!$E$122,$M2,)="","",OFFSET(活動計画書!$E$122,$M2,)) | O2: =IF(OFFSET(活動計画書!$E$122,$M2+1,)="","",OFFSET(活動計画書!$E$122,$M2+1,)) | P2: =IF(OFFSET(活動計画書!$K$122,$M2,)="","",OFFSET(活動計画書!$K$122,$M2,)) | Q2: =IF(OFFSET(活動計画書!$L$122,$M2,)="","",OFFSET(活動計画書!$L$122,$M2,)) | R2: =IF(OFFSET(活動計画書!$M$122,$M2,)="","",OFFSET(活動計画書!$M$122,$M2,)) | S2: =IF(OFFSET(活動計画書!$N$122,$M2,)="","",OFFSET(活動計画書!$N$122,$M2,)) | T2: =IF(OFFSET(活動計画書!$O$122,$M2,)="","",OFFSET(活動計画書!$O$122,$M2,)) | U2: =IF(OFFSET(活動計画書!$P$122,$M2,)="","",OFFSET(活動計画書!$P$122,$M2,)) | V2: =IF(OFFSET(活動計画書!$Q$122,$M2,)="","",OFFSET(活動計画書!$Q$122,$M2,)) | W2: =IF(OFFSET(活動計画書!$R$122,$M2,)="","",OFFSET(活動計画書!$R$122,$M2,)) | X2: =IF(OFFSET(活動計画書!$S$122,$M2,)="","",OFFSET(活動計画書!$S$122,$M2,)) | Y2: =IF(OFFSET(活動計画書!$T$122,$M2,)="","",OFFSET(活動計画書!$T$122,$M2,)) | Z2: =IF(OFFSET(活動計画書!$U$122,$M2,)="","",OFFSET(活動計画書!$U$122,$M2,)) | AA2: =IF(OFFSET(活動計画書!$V$122,$M2,)="","",OFFSET(活動計画書!$V$122,$M2,)) | AB2: 1 | AC2: =IF(OFFSET(活動計画書!$B$157,$AB2,)="","",OFFSET(活動計画書!$B$157,$AB2,)) | AD2: =IF(OFFSET(活動計画書!$D$157,$AB2,)="","",OFFSET(活動計画書!$D$157,$AB2,)) | AE2: =IF(OFFSET(活動計画書!$D$157,$AB2+1,)="","",OFFSET(活動計画書!$D$157,$AB2+1,)) | AF2: =IF(OFFSET(活動計画書!$H$157,$AB2,)="","",OFFSET(活動計画書!$H$157,$AB2,)) | AG2: =IF(OFFSET(活動計画書!$N$157,$AB2,)="","",OFFSET(活動計画書!$N$157,$AB2,)) | AH2: =IF(OFFSET(活動計画書!$P$157,$AB2,)="","",OFFSET(活動計画書!$P$157,$AB2,)) | AI2: =IF(OFFSET(活動計画書!$Q$157,$AB2,)="","",OFFSET(活動計画書!$Q$157,$AB2,)) | AJ2: =IF(OFFSET(活動計画書!$R$157,$AB2,)="","",OFFSET(活動計画書!$R$157,$AB2,)) | AK2: =IF(OFFSET(活動計画書!$S$157,$AB2,)="","",OFFSET(活動計画書!$S$157,$AB2,)) | AL2: =IF(OFFSET(活動計画書!$T$157,$AB2,)="","",OFFSET(活動計画書!$T$157,$AB2,)) | AM2: =IF(OFFSET(活動計画書!$U$157,$AB2,)="","",OFFSET(活動計画書!$U$157,$AB2,))
A3: 3 | B3: =IF(OFFSET(活動計画書!$B$7,$A3,)="","",OFFSET(活動計画書!$B$7,$A3,)) -> 畑 | C3: =IF(OFFSET(活動計画書!$C$7,$A3+1,)="","",OFFSET(活動計画書!$C$7,$A3+1,)) -> 0 | D3: =IF(OFFSET(活動計画書!$F$7,$A3+1,)="","",OFFSET(活動計画書!$F$7,$A3+1,)) -> 0 | E3: 3 | F3: =IF(OFFSET(活動計画書!$B$19,$E3,)="","",OFFSET(活動計画書!$B$19,$E3,)) -> 畑 | G3: =IF(OFFSET(活動計画書!$C$19,$E3+1,)="","",OFFSET(活動計画書!$C$19,$E3+1,)) -> 0 | H3: =IF(OFFSET(活動計画書!$F$19,$E3+1,)="","",OFFSET(活動計画書!$F$19,$E3+1,)) -> 0 | I3: 3 | J3: =IF(OFFSET(活動計画書!$B$31,$I3,)="","",OFFSET(活動計画書!$B$31,$I3,)) -> 畑 | K3: =IF(OFFSET(活動計画書!$C$31,$I3+1,)="","",OFFSET(活動計画書!$C$31,$I3+1,)) -> 0 | L3: =IF(OFFSET(活動計画書!$F$31,$I3+1,)="","",OFFSET(活動計画書!$F$31,$I3+1,)) -> 0 | M3: 3 | N3: =IF(OFFSET(活動計画書!$E$122,$M3,)="","",OFFSET(活動計画書!$E$122,$M3,)) | O3: =IF(OFFSET(活動計画書!$E$122,$M3+1,)="","",OFFSET(活動計画書!$E$122,$M3+1,)) | P3: =IF(OFFSET(活動計画書!$K$122,$M3,)="","",OFFSET(活動計画書!$K$122,$M3,)) | Q3: =IF(OFFSET(活動計画書!$L$122,$M3,)="","",OFFSET(活動計画書!$L$122,$M3,)) | R3: =IF(OFFSET(活動計画書!$M$122,$M3,)="","",OFFSET(活動計画書!$M$122,$M3,)) | S3: =IF(OFFSET(活動計画書!$N$122,$M3,)="","",OFFSET(活動計画書!$N$122,$M3,)) | T3: =IF(OFFSET(活動計画書!$O$122,$M3,)="","",OFFSET(活動計画書!$O$122,$M3,)) | U3: =IF(OFFSET(活動計画書!$P$122,$M3,)="","",OFFSET(活動計画書!$P$122,$M3,)) | V3: =IF(OFFSET(活動計画書!$Q$122,$M3,)="","",OFFSET(活動計画書!$Q$122,$M3,)) | W3: =IF(OFFSET(活動計画書!$R$122,$M3,)="","",OFFSET(活動計画書!$R$122,$M3,)) | X3: =IF(OFFSET(活動計画書!$S$122,$M3,)="","",OFFSET(活動計画書!$S$122,$M3,)) | Y3: =IF(OFFSET(活動計画書!$T$122,$M3,)="","",OFFSET(活動計画書!$T$122,$M3,)) | Z3: =IF(OFFSET(活動計画書!$U$122,$M3,)="","",OFFSET(活動計画書!$U$122,$M3,)) | AA3: =IF(OFFSET(活動計画書!$V$122,$M3,)="","",OFFSET(活動計画書!$V$122,$M3,)) | AB3: 3 | AC3: =IF(OFFSET(活動計画書!$B$157,$AB3,)="","",OFFSET(活動計画書!$B$157,$AB3,)) | AD3: =IF(OFFSET(活動計画書!$D$157,$AB3,)="","",OFFSET(活動計画書!$D$157,$AB3,)) | AE3: =IF(OFFSET(活動計画書!$D$157,$AB3+1,)="","",OFFSET(活動計画書!$D$157,$AB3+1,)) | AF3: =IF(OFFSET(活動計画書!$H$157,$AB3,)="","",OFFSET(活動計画書!$H$157,$AB3,)) | AG3: =IF(OFFSET(活動計画書!$N$157,$AB3,)="","",OFFSET(活動計画書!$N$157,$AB3,)) | AH3: =IF(OFFSET(活動計画書!$P$157,$AB3,)="","",OFFSET(活動計画書!$P$157,$AB3,)) | AI3: =IF(OFFSET(活動計画書!$Q$157,$AB3,)="","",OFFSET(活動計画書!$Q$157,$AB3,)) | AJ3: =IF(OFFSET(活動計画書!$R$157,$AB3,)="","",OFFSET(活動計画書!$R$157,$AB3,)) | AK3: =IF(OFFSET(活動計画書!$S$157,$AB3,)="","",OFFSET(活動計画書!$S$157,$AB3,)) | AL3: =IF(OFFSET(活動計画書!$T$157,$AB3,)="","",OFFSET(活動計画書!$T$157,$AB3,)) | AM3: =IF(OFFSET(活動計画書!$U$157,$AB3,)="","",OFFSET(活動計画書!$U$157,$AB3,))
A4: 5 | B4: =IF(OFFSET(活動計画書!$B$7,$A4,)="","",OFFSET(活動計画書!$B$7,$A4,)) -> 草地 | C4: =IF(OFFSET(活動計画書!$C$7,$A4+1,)="","",OFFSET(活動計画書!$C$7,$A4+1,)) -> 0 | D4: =IF(OFFSET(活動計画書!$F$7,$A4+1,)="","",OFFSET(活動計画書!$F$7,$A4+1,)) -> 0 | E4: 5 | F4: =IF(OFFSET(活動計画書!$B$19,$E4,)="","",OFFSET(活動計画書!$B$19,$E4,)) -> 草地 | G4: =IF(OFFSET(活動計画書!$C$19,$E4+1,)="","",OFFSET(活動計画書!$C$19,$E4+1,)) -> 0 | H4: =IF(OFFSET(活動計画書!$F$19,$E4+1,)="","",OFFSET(活動計画書!$F$19,$E4+1,)) -> 0 | I4: 5 | J4: =IF(OFFSET(活動計画書!$B$31,$I4,)="","",OFFSET(活動計画書!$B$31,$I4,)) -> 草地 | K4: =IF(OFFSET(活動計画書!$C$31,$I4+1,)="","",OFFSET(活動計画書!$C$31,$I4+1,)) -> 0 | L4: =IF(OFFSET(活動計画書!$F$31,$I4+1,)="","",OFFSET(活動計画書!$F$31,$I4+1,)) -> 0 | M4: 5 | N4: =IF(OFFSET(活動計画書!$E$122,$M4,)="","",OFFSET(活動計画書!$E$122,$M4,)) | O4: =IF(OFFSET(活動計画書!$E$122,$M4+1,)="","",OFFSET(活動計画書!$E$122,$M4+1,)) | P4: =IF(OFFSET(活動計画書!$K$122,$M4,)="","",OFFSET(活動計画書!$K$122,$M4,)) | Q4: =IF(OFFSET(活動計画書!$L$122,$M4,)="","",OFFSET(活動計画書!$L$122,$M4,)) | R4: =IF(OFFSET(活動計画書!$M$122,$M4,)="","",OFFSET(活動計画書!$M$122,$M4,)) | S4: =IF(OFFSET(活動計画書!$N$122,$M4,)="","",OFFSET(活動計画書!$N$122,$M4,)) | T4: =IF(OFFSET(活動計画書!$O$122,$M4,)="","",OFFSET(活動計画書!$O$122,$M4,)) | U4: =IF(OFFSET(活動計画書!$P$122,$M4,)="","",OFFSET(活動計画書!$P$122,$M4,)) | V4: =IF(OFFSET(活動計画書!$Q$122,$M4,)="","",OFFSET(活動計画書!$Q$122,$M4,)) | W4: =IF(OFFSET(活動計画書!$R$122,$M4,)="","",OFFSET(活動計画書!$R$122,$M4,)) | X4: =IF(OFFSET(活動計画書!$S$122,$M4,)="","",OFFSET(活動計画書!$S$122,$M4,)) | Y4: =IF(OFFSET(活動計画書!$T$122,$M4,)="","",OFFSET(活動計画書!$T$122,$M4,)) | Z4: =IF(OFFSET(活動計画書!$U$122,$M4,)="","",OFFSET(活動計画書!$U$122,$M4,)) | AA4: =IF(OFFSET(活動計画書!$V$122,$M4,)="","",OFFSET(活動計画書!$V$122,$M4,)) | AB4: 5 | AC4: =IF(OFFSET(活動計画書!$B$157,$AB4,)="","",OFFSET(活動計画書!$B$157,$AB4,)) | AD4: =IF(OFFSET(活動計画書!$D$157,$AB4,)="","",OFFSET(活動計画書!$D$157,$AB4,)) | AE4: =IF(OFFSET(活動計画書!$D$157,$AB4+1,)="","",OFFSET(活動計画書!$D$157,$AB4+1,)) | AF4: =IF(OFFSET(活動計画書!$H$157,$AB4,)="","",OFFSET(活動計画書!$H$157,$AB4,)) | AG4: =IF(OFFSET(活動計画書!$N$157,$AB4,)="","",OFFSET(活動計画書!$N$157,$AB4,)) | AH4: =IF(OFFSET(活動計画書!$P$157,$AB4,)="","",OFFSET(活動計画書!$P$157,$AB4,)) | AI4: =IF(OFFSET(活動計画書!$Q$157,$AB4,)="","",OFFSET(活動計画書!$Q$157,$AB4,)) | AJ4: =IF(OFFSET(活動計画書!$R$157,$AB4,)="","",OFFSET(活動計画書!$R$157,$AB4,)) | AK4: =IF(OFFSET(活動計画書!$S$157,$AB4,)="","",OFFSET(活動計画書!$S$157,$AB4,)) | AL4: =IF(OFFSET(活動計画書!$T$157,$AB4,)="","",OFFSET(活動計画書!$T$157,$AB4,)) | AM4: =IF(OFFSET(活動計画書!$U$157,$AB4,)="","",OFFSET(活動計画書!$U$157,$AB4,))
A5: 7 | B5: =IF(OFFSET(活動計画書!$B$7,$A5,)="","",OFFSET(活動計画書!$B$7,$A5,)) -> この線より上に行を挿入してください。 | C5: =IF(OFFSET(活動計画書!$C$7,$A5+1,)="","",OFFSET(活動計画書!$C$7,$A5+1,)) -> 0 | D5: =IF(OFFSET(活動計画書!$F$7,$A5+1,)="","",OFFSET(活動計画書!$F$7,$A5+1,)) | E5: 7 | F5: =IF(OFFSET(活動計画書!$B$19,$E5,)="","",OFFSET(活動計画書!$B$19,$E5,)) -> この線より上に行を挿入してください。 | G5: =IF(OFFSET(活動計画書!$C$19,$E5+1,)="","",OFFSET(活動計画書!$C$19,$E5+1,)) -> 0 | H5: =IF(OFFSET(活動計画書!$F$19,$E5+1,)="","",OFFSET(活動計画書!$F$19,$E5+1,)) | I5: 7 | J5: =IF(OFFSET(活動計画書!$B$31,$I5,)="","",OFFSET(活動計画書!$B$31,$I5,)) -> この線より上に行を挿入してください。 | K5: =IF(OFFSET(活動計画書!$C$31,$I5+1,)="","",OFFSET(活動計画書!$C$31,$I5+1,)) -> 0 | L5: =IF(OFFSET(活動計画書!$F$31,$I5+1,)="","",OFFSET(活動計画書!$F$31,$I5+1,)) | M5: 7 | N5: =IF(OFFSET(活動計画書!$E$122,$M5,)="","",OFFSET(活動計画書!$E$122,$M5,)) | O5: =IF(OFFSET(活動計画書!$E$122,$M5+1,)="","",OFFSET(活動計画書!$E$122,$M5+1,)) | P5: =IF(OFFSET(活動計画書!$K$122,$M5,)="","",OFFSET(活動計画書!$K$122,$M5,)) | Q5: =IF(OFFSET(活動計画書!$L$122,$M5,)="","",OFFSET(活動計画書!$L$122,$M5,)) | R5: =IF(OFFSET(活動計画書!$M$122,$M5,)="","",OFFSET(活動計画書!$M$122,$M5,)) | S5: =IF(OFFSET(活動計画書!$N$122,$M5,)="","",OFFSET(活動計画書!$N$122,$M5,)) | T5: =IF(OFFSET(活動計画書!$O$122,$M5,)="","",OFFSET(活動計画書!$O$122,$M5,)) | U5: =IF(OFFSET(活動計画書!$P$122,$M5,)="","",OFFSET(活動計画書!$P$122,$M5,)) | V5: =IF(OFFSET(活動計画書!$Q$122,$M5,)="","",OFFSET(活動計画書!$Q$122,$M5,)) | W5: =IF(OFFSET(活動計画書!$R$122,$M5,)="","",OFFSET(活動計画書!$R$122,$M5,)) | X5: =IF(OFFSET(活動計画書!$S$122,$M5,)="","",OFFSET(活動計画書!$S$122,$M5,)) | Y5: =IF(OFFSET(活動計画書!$T$122,$M5,)="","",OFFSET(活動計画書!$T$122,$M5,)) | Z5: =IF(OFFSET(活動計画書!$U$122,$M5,)="","",OFFSET(活動計画書!$U$122,$M5,)) | AA5: =IF(OFFSET(活動計画書!$V$122,$M5,)="","",OFFSET(活動計画書!$V$122,$M5,)) | AB5: 7 | AC5: =IF(OFFSET(活動計画書!$B$157,$AB5,)="","",OFFSET(活動計画書!$B$157,$AB5,)) | AD5: =IF(OFFSET(活動計画書!$D$157,$AB5,)="","",OFFSET(活動計画書!$D$157,$AB5,)) -> この線より上に行を挿入してください。 | AE5: =IF(OFFSET(活動計画書!$D$157,$AB5+1,)="","",OFFSET(活動計画書!$D$157,$AB5+1,)) | AF5: =IF(OFFSET(活動計画書!$H$157,$AB5,)="","",OFFSET(活動計画書!$H$157,$AB5,)) | AG5: =IF(OFFSET(活動計画書!$N$157,$AB5,)="","",OFFSET(活動計画書!$N$157,$AB5,)) | AH5: =IF(OFFSET(活動計画書!$P$157,$AB5,)="","",OFFSET(活動計画書!$P$157,$AB5,)) | AI5: =IF(OFFSET(活動計画書!$Q$157,$AB5,)="","",OFFSET(活動計画書!$Q$157,$AB5,)) | AJ5: =IF(OFFSET(活動計画書!$R$157,$AB5,)="","",OFFSET(活動計画書!$R$157,$AB5,)) | AK5: =IF(OFFSET(活動計画書!$S$157,$AB5,)="","",OFFSET(活動計画書!$S$157,$AB5,)) | AL5: =IF(OFFSET(活動計画書!$T$157,$AB5,)="","",OFFSET(活動計画書!$T$157,$AB5,)) | AM5: =IF(OFFSET(活動計画書!$U$157,$AB5,)="","",OFFSET(活動計画書!$U$157,$AB5,))
A6: 9 | B6: =IF(OFFSET(活動計画書!$B$7,$A6,)="","",OFFSET(活動計画書!$B$7,$A6,)) | C6: =IF(OFFSET(活動計画書!$C$7,$A6+1,)="","",OFFSET(活動計画書!$C$7,$A6+1,)) | D6: =IF(OFFSET(活動計画書!$F$7,$A6+1,)="","",OFFSET(活動計画書!$F$7,$A6+1,)) | E6: 9 | F6: =IF(OFFSET(活動計画書!$B$19,$E6,)="","",OFFSET(活動計画書!$B$19,$E6,)) | G6: =IF(OFFSET(活動計画書!$C$19,$E6+1,)="","",OFFSET(活動計画書!$C$19,$E6+1,)) | H6: =IF(OFFSET(活動計画書!$F$19,$E6+1,)="","",OFFSET(活動計画書!$F$19,$E6+1,)) | I6: 9 | J6: =IF(OFFSET(活動計画書!$B$31,$I6,)="","",OFFSET(活動計画書!$B$31,$I6,)) | K6: =IF(OFFSET(活動計画書!$C$31,$I6+1,)="","",OFFSET(活動計画書!$C$31,$I6+1,)) | L6: =IF(OFFSET(活動計画書!$F$31,$I6+1,)="","",OFFSET(活動計画書!$F$31,$I6+1,)) | M6: 9 | N6: =IF(OFFSET(活動計画書!$E$122,$M6,)="","",OFFSET(活動計画書!$E$122,$M6,)) -> この線より上に行を挿入してください。 | O6: =IF(OFFSET(活動計画書!$E$122,$M6+1,)="","",OFFSET(活動計画書!$E$122,$M6+1,)) -> 51 啓発・普及活動 | P6: =IF(OFFSET(活動計画書!$K$122,$M6,)="","",OFFSET(活動計画書!$K$122,$M6,)) | Q6: =IF(OFFSET(活動計画書!$L$122,$M6,)="","",OFFSET(活動計画書!$L$122,$M6,)) | R6: =IF(OFFSET(活動計画書!$M$122,$M6,)="","",OFFSET(活動計画書!$M$122,$M6,)) | S6: =IF(OFFSET(活動計画書!$N$122,$M6,)="","",OFFSET(活動計画書!$N$122,$M6,)) | T6: =IF(OFFSET(活動計画書!$O$122,$M6,)="","",OFFSET(活動計画書!$O$122,$M6,)) | U6: =IF(OFFSET(活動計画書!$P$122,$M6,)="","",OFFSET(活動計画書!$P$122,$M6,)) | V6: =IF(OFFSET(活動計画書!$Q$122,$M6,)="","",OFFSET(活動計画書!$Q$122,$M6,)) | W6: =IF(OFFSET(活動計画書!$R$122,$M6,)="","",OFFSET(活動計画書!$R$122,$M6,)) | X6: =IF(OFFSET(活動計画書!$S$122,$M6,)="","",OFFSET(活動計画書!$S$122,$M6,)) | Y6: =IF(OFFSET(活動計画書!$T$122,$M6,)="","",OFFSET(活動計画書!$T$122,$M6,)) | Z6: =IF(OFFSET(活動計画書!$U$122,$M6,)="","",OFFSET(活動計画書!$U$122,$M6,)) | AA6: =IF(OFFSET(活動計画書!$V$122,$M6,)="","",OFFSET(活動計画書!$V$122,$M6,)) | AB6: 9 | AC6: =IF(OFFSET(活動計画書!$B$157,$AB6,)="","",OFFSET(活動計画書!$B$157,$AB6,)) -> ☆直営施工の実施方針について | AD6: =IF(OFFSET(活動計画書!$D$157,$AB6,)="","",OFFSET(活動計画書!$D$157,$AB6,)) | AE6: =IF(OFFSET(活動計画書!$D$157,$AB6+1,)="","",OFFSET(活動計画書!$D$157,$AB6+1,)) | AF6: =IF(OFFSET(活動計画書!$H$157,$AB6,)="","",OFFSET(活動計画書!$H$157,$AB6,)) | AG6: =IF(OFFSET(活動計画書!$N$157,$AB6,)="","",OFFSET(活動計画書!$N$157,$AB6,)) | AH6: =IF(OFFSET(活動計画書!$P$157,$AB6,)="","",OFFSET(活動計画書!$P$157,$AB6,)) | AI6: =IF(OFFSET(活動計画書!$Q$157,$AB6,)="","",OFFSET(活動計画書!$Q$157,$AB6,)) | AJ6: =IF(OFFSET(活動計画書!$R$157,$AB6,)="","",OFFSET(活動計画書!$R$157,$AB6,)) | AK6: =IF(OFFSET(活動計画書!$S$157,$AB6,)="","",OFFSET(活動計画書!$S$157,$AB6,)) -> 直営施工は実施しない | AL6: =IF(OFFSET(活動計画書!$T$157,$AB6,)="","",OFFSET(活動計画書!$T$157,$AB6,)) | AM6: =IF(OFFSET(活動計画書!$U$157,$AB6,)="","",OFFSET(活動計画書!$U$157,$AB6,))
A7: 11 | B7: =IF(OFFSET(活動計画書!$B$7,$A7,)="","",OFFSET(活動計画書!$B$7,$A7,)) | C7: =IF(OFFSET(活動計画書!$C$7,$A7+1,)="","",OFFSET(活動計画書!$C$7,$A7+1,)) -> 対象農用地面積 | D7: =IF(OFFSET(活動計画書!$F$7,$A7+1,)="","",OFFSET(活動計画書!$F$7,$A7+1,)) -> 交付単価 | E7: 11 | F7: =IF(OFFSET(活動計画書!$B$19,$E7,)="","",OFFSET(活動計画書!$B$19,$E7,)) | G7: =IF(OFFSET(活動計画書!$C$19,$E7+1,)="","",OFFSET(活動計画書!$C$19,$E7+1,)) -> 対象農用地面積 | H7: =IF(OFFSET(活動計画書!$F$19,$E7+1,)="","",OFFSET(活動計画書!$F$19,$E7+1,)) -> 交付単価 | I7: 11 | J7: =IF(OFFSET(活動計画書!$B$31,$I7,)="","",OFFSET(活動計画書!$B$31,$I7,)) | K7: =IF(OFFSET(活動計画書!$C$31,$I7+1,)="","",OFFSET(活動計画書!$C$31,$I7+1,)) | L7: =IF(OFFSET(活動計画書!$F$31,$I7+1,)="","",OFFSET(活動計画書!$F$31,$I7+1,)) | M7: 11 | N7: =IF(OFFSET(活動計画書!$E$122,$M7,)="","",OFFSET(活動計画書!$E$122,$M7,)) | O7: =IF(OFFSET(活動計画書!$E$122,$M7+1,)="","",OFFSET(活動計画書!$E$122,$M7+1,)) | P7: =IF(OFFSET(活動計画書!$K$122,$M7,)="","",OFFSET(活動計画書!$K$122,$M7,)) | Q7: =IF(OFFSET(活動計画書!$L$122,$M7,)="","",OFFSET(活動計画書!$L$122,$M7,)) | R7: =IF(OFFSET(活動計画書!$M$122,$M7,)="","",OFFSET(活動計画書!$M$122,$M7,)) | S7: =IF(OFFSET(活動計画書!$N$122,$M7,)="","",OFFSET(活動計画書!$N$122,$M7,)) | T7: =IF(OFFSET(活動計画書!$O$122,$M7,)="","",OFFSET(活動計画書!$O$122,$M7,)) | U7: =IF(OFFSET(活動計画書!$P$122,$M7,)="","",OFFSET(活動計画書!$P$122,$M7,)) | V7: =IF(OFFSET(活動計画書!$Q$122,$M7,)="","",OFFSET(活動計画書!$Q$122,$M7,)) | W7: =IF(OFFSET(活動計画書!$R$122,$M7,)="","",OFFSET(活動計画書!$R$122,$M7,)) | X7: =IF(OFFSET(活動計画書!$S$122,$M7,)="","",OFFSET(活動計画書!$S$122,$M7,)) | Y7: =IF(OFFSET(活動計画書!$T$122,$M7,)="","",OFFSET(活動計画書!$T$122,$M7,)) | Z7: =IF(OFFSET(活動計画書!$U$122,$M7,)="","",OFFSET(活動計画書!$U$122,$M7,)) | AA7: =IF(OFFSET(活動計画書!$V$122,$M7,)="","",OFFSET(活動計画書!$V$122,$M7,)) | AB7: 11 | AC7: =IF(OFFSET(活動計画書!$B$157,$AB7,)="","",OFFSET(活動計画書!$B$157,$AB7,)) | AD7: =IF(OFFSET(活動計画書!$D$157,$AB7,)="","",OFFSET(活動計画書!$D$157,$AB7,)) | AE7: =IF(OFFSET(活動計画書!$D$157,$AB7+1,)="","",OFFSET(活動計画書!$D$157,$AB7+1,)) | AF7: =IF(OFFSET(活動計画書!$H$157,$AB7,)="","",OFFSET(活動計画書!$H$157,$AB7,)) | AG7: =IF(OFFSET(活動計画書!$N$157,$AB7,)="","",OFFSET(活動計画書!$N$157,$AB7,)) | AH7: =IF(OFFSET(活動計画書!$P$157,$AB7,)="","",OFFSET(活動計画書!$P$157,$AB7,)) | AI7: =IF(OFFSET(活動計画書!$Q$157,$AB7,)="","",OFFSET(活動計画書!$Q$157,$AB7,)) | AJ7: =IF(OFFSET(活動計画書!$R$157,$AB7,)="","",OFFSET(活動計画書!$R$157,$AB7,)) | AK7: =IF(OFFSET(活動計画書!$S$157,$AB7,)="","",OFFSET(活動計画書!$S$157,$AB7,)) | AL7: =IF(OFFSET(活動計画書!$T$157,$AB7,)="","",OFFSET(活動計画書!$T$157,$AB7,)) | AM7: =IF(OFFSET(活動計画書!$U$157,$AB7,)="","",OFFSET(活動計画書!$U$157,$AB7,))
A8: 13 | B8: =IF(OFFSET(活動計画書!$B$7,$A8,)="","",OFFSET(活動計画書!$B$7,$A8,)) -> 田 | C8: =IF(OFFSET(活動計画書!$C$7,$A8+1,)="","",OFFSET(活動計画書!$C$7,$A8+1,)) -> 0 | D8: =IF(OFFSET(活動計画書!$F$7,$A8+1,)="","",OFFSET(活動計画書!$F$7,$A8+1,)) -> 0 | E8: 13 | F8: =IF(OFFSET(活動計画書!$B$19,$E8,)="","",OFFSET(活動計画書!$B$19,$E8,)) -> 田 | G8: =IF(OFFSET(活動計画書!$C$19,$E8+1,)="","",OFFSET(活動計画書!$C$19,$E8+1,)) -> 0 | H8: =IF(OFFSET(活動計画書!$F$19,$E8+1,)="","",OFFSET(活動計画書!$F$19,$E8+1,)) -> 0 | I8: 13 | J8: =IF(OFFSET(活動計画書!$B$31,$I8,)="","",OFFSET(活動計画書!$B$31,$I8,)) -> 実施予定年度 | K8: =IF(OFFSET(活動計画書!$C$31,$I8+1,)="","",OFFSET(活動計画書!$C$31,$I8+1,)) | L8: =IF(OFFSET(活動計画書!$F$31,$I8+1,)="","",OFFSET(活動計画書!$F$31,$I8+1,)) | M8: 13 | N8: =IF(OFFSET(活動計画書!$E$122,$M8,)="","",OFFSET(活動計画書!$E$122,$M8,)) | O8: =IF(OFFSET(活動計画書!$E$122,$M8+1,)="","",OFFSET(活動計画書!$E$122,$M8+1,)) | P8: =IF(OFFSET(活動計画書!$K$122,$M8,)="","",OFFSET(活動計画書!$K$122,$M8,)) | Q8: =IF(OFFSET(活動計画書!$L$122,$M8,)="","",OFFSET(活動計画書!$L$122,$M8,)) | R8: =IF(OFFSET(活動計画書!$M$122,$M8,)="","",OFFSET(活動計画書!$M$122,$M8,)) | S8: =IF(OFFSET(活動計画書!$N$122,$M8,)="","",OFFSET(活動計画書!$N$122,$M8,)) | T8: =IF(OFFSET(活動計画書!$O$122,$M8,)="","",OFFSET(活動計画書!$O$122,$M8,)) | U8: =IF(OFFSET(活動計画書!$P$122,$M8,)="","",OFFSET(活動計画書!$P$122,$M8,)) | V8: =IF(OFFSET(活動計画書!$Q$122,$M8,)="","",OFFSET(活動計画書!$Q$122,$M8,)) | W8: =IF(OFFSET(活動計画書!$R$122,$M8,)="","",OFFSET(活動計画書!$R$122,$M8,)) | X8: =IF(OFFSET(活動計画書!$S$122,$M8,)="","",OFFSET(活動計画書!$S$122,$M8,)) | Y8: =IF(OFFSET(活動計画書!$T$122,$M8,)="","",OFFSET(活動計画書!$T$122,$M8,)) | Z8: =IF(OFFSET(活動計画書!$U$122,$M8,)="","",OFFSET(活動計画書!$U$122,$M8,)) | AA8: =IF(OFFSET(活動計画書!$V$122,$M8,)="","",OFFSET(活動計画書!$V$122,$M8,)) -> 備考 | AB8: 13 | AC8: =IF(OFFSET(活動計画書!$B$157,$AB8,)="","",OFFSET(活動計画書!$B$157,$AB8,)) | AD8: =IF(OFFSET(活動計画書!$D$157,$AB8,)="","",OFFSET(活動計画書!$D$157,$AB8,)) | AE8: =IF(OFFSET(活動計画書!$D$157,$AB8+1,)="","",OFFSET(活動計画書!$D$157,$AB8+1,)) | AF8: =IF(OFFSET(活動計画書!$H$157,$AB8,)="","",OFFSET(活動計画書!$H$157,$AB8,)) | AG8: =IF(OFFSET(活動計画書!$N$157,$AB8,)="","",OFFSET(活動計画書!$N$157,$AB8,)) | AH8: =IF(OFFSET(活動計画書!$P$157,$AB8,)="","",OFFSET(活動計画書!$P$157,$AB8,)) | AI8: =IF(OFFSET(活動計画書!$Q$157,$AB8,)="","",OFFSET(活動計画書!$Q$157,$AB8,)) | AJ8: =IF(OFFSET(活動計画書!$R$157,$AB8,)="","",OFFSET(活動計画書!$R$157,$AB8,)) | AK8: =IF(OFFSET(活動計画書!$S$157,$AB8,)="","",OFFSET(活動計画書!$S$157,$AB8,)) | AL8: =IF(OFFSET(活動計画書!$T$157,$AB8,)="","",OFFSET(活動計画書!$T$157,$AB8,)) | AM8: =IF(OFFSET(活動計画書!$U$157,$AB8,)="","",OFFSET(活動計画書!$U$157,$AB8,))
A9: 15 | B9: =IF(OFFSET(活動計画書!$B$7,$A9,)="","",OFFSET(活動計画書!$B$7,$A9,)) -> 畑 | C9: =IF(OFFSET(活動計画書!$C$7,$A9+1,)="","",OFFSET(活動計画書!$C$7,$A9+1,)) -> 0 | D9: =IF(OFFSET(活動計画書!$F$7,$A9+1,)="","",OFFSET(活動計画書!$F$7,$A9+1,)) -> 0 | E9: 15 | F9: =IF(OFFSET(活動計画書!$B$19,$E9,)="","",OFFSET(活動計画書!$B$19,$E9,)) -> 畑 | G9: =IF(OFFSET(活動計画書!$C$19,$E9+1,)="","",OFFSET(活動計画書!$C$19,$E9+1,)) -> 0 | H9: =IF(OFFSET(活動計画書!$F$19,$E9+1,)="","",OFFSET(活動計画書!$F$19,$E9+1,)) -> 0 | I9: 15 | J9: =IF(OFFSET(活動計画書!$B$31,$I9,)="","",OFFSET(活動計画書!$B$31,$I9,)) -> 以下は市町村担当者と相談の上、記入してください。 | K9: =IF(OFFSET(活動計画書!$C$31,$I9+1,)="","",OFFSET(活動計画書!$C$31,$I9+1,)) | L9: =IF(OFFSET(活動計画書!$F$31,$I9+1,)="","",OFFSET(活動計画書!$F$31,$I9+1,)) | M9: 15 | N9: =IF(OFFSET(活動計画書!$E$122,$M9,)="","",OFFSET(活動計画書!$E$122,$M9,)) | O9: =IF(OFFSET(活動計画書!$E$122,$M9+1,)="","",OFFSET(活動計画書!$E$122,$M9+1,)) | P9: =IF(OFFSET(活動計画書!$K$122,$M9,)="","",OFFSET(活動計画書!$K$122,$M9,)) | Q9: =IF(OFFSET(活動計画書!$L$122,$M9,)="","",OFFSET(活動計画書!$L$122,$M9,)) | R9: =IF(OFFSET(活動計画書!$M$122,$M9,)="","",OFFSET(活動計画書!$M$122,$M9,)) | S9: =IF(OFFSET(活動計画書!$N$122,$M9,)="","",OFFSET(活動計画書!$N$122,$M9,)) | T9: =IF(OFFSET(活動計画書!$O$122,$M9,)="","",OFFSET(活動計画書!$O$122,$M9,)) | U9: =IF(OFFSET(活動計画書!$P$122,$M9,)="","",OFFSET(活動計画書!$P$122,$M9,)) | V9: =IF(OFFSET(活動計画書!$Q$122,$M9,)="","",OFFSET(活動計画書!$Q$122,$M9,)) | W9: =IF(OFFSET(活動計画書!$R$122,$M9,)="","",OFFSET(活動計画書!$R$122,$M9,)) | X9: =IF(OFFSET(活動計画書!$S$122,$M9,)="","",OFFSET(活動計画書!$S$122,$M9,)) | Y9: =IF(OFFSET(活動計画書!$T$122,$M9,)="","",OFFSET(活動計画書!$T$122,$M9,)) | Z9: =IF(OFFSET(活動計画書!$U$122,$M9,)="","",OFFSET(活動計画書!$U$122,$M9,)) | AA9: =IF(OFFSET(活動計画書!$V$122,$M9,)="","",OFFSET(活動計画書!$V$122,$M9,)) | AB9: 15 | AC9: =IF(OFFSET(活動計画書!$B$157,$AB9,)="","",OFFSET(活動計画書!$B$157,$AB9,)) | AD9: =IF(OFFSET(活動計画書!$D$157,$AB9,)="","",OFFSET(活動計画書!$D$157,$AB9,)) | AE9: =IF(OFFSET(活動計画書!$D$157,$AB9+1,)="","",OFFSET(活動計画書!$D$157,$AB9+1,)) | AF9: =IF(OFFSET(活動計画書!$H$157,$AB9,)="","",OFFSET(活動計画書!$H$157,$AB9,)) | AG9: =IF(OFFSET(活動計画書!$N$157,$AB9,)="","",OFFSET(活動計画書!$N$157,$AB9,)) | AH9: =IF(OFFSET(活動計画書!$P$157,$AB9,)="","",OFFSET(活動計画書!$P$157,$AB9,)) | AI9: =IF(OFFSET(活動計画書!$Q$157,$AB9,)="","",OFFSET(活動計画書!$Q$157,$AB9,)) | AJ9: =IF(OFFSET(活動計画書!$R$157,$AB9,)="","",OFFSET(活動計画書!$R$157,$AB9,)) | AK9: =IF(OFFSET(活動計画書!$S$157,$AB9,)="","",OFFSET(活動計画書!$S$157,$AB9,)) | AL9: =IF(OFFSET(活動計画書!$T$157,$AB9,)="","",OFFSET(活動計画書!$T$157,$AB9,)) | AM9: =IF(OFFSET(活動計画書!$U$157,$AB9,)="","",OFFSET(活動計画書!$U$157,$AB9,))
A10: 17 | B10: =IF(OFFSET(活動計画書!$B$7,$A10,)="","",OFFSET(活動計画書!$B$7,$A10,)) -> 草地 | C10: =IF(OFFSET(活動計画書!$C$7,$A10+1,)="","",OFFSET(活動計画書!$C$7,$A10+1,)) -> 0 | D10: =IF(OFFSET(活動計画書!$F$7,$A10+1,)="","",OFFSET(活動計画書!$F$7,$A10+1,)) -> 0 | E10: 17 | F10: =IF(OFFSET(活動計画書!$B$19,$E10,)="","",OFFSET(活動計画書!$B$19,$E10,)) -> 草地 | G10: =IF(OFFSET(活動計画書!$C$19,$E10+1,)="","",OFFSET(活動計画書!$C$19,$E10+1,)) -> 0 | H10: =IF(OFFSET(活動計画書!$F$19,$E10+1,)="","",OFFSET(活動計画書!$F$19,$E10+1,)) -> 0 | I10: 17 | J10: =IF(OFFSET(活動計画書!$B$31,$I10,)="","",OFFSET(活動計画書!$B$31,$I10,)) | K10: =IF(OFFSET(活動計画書!$C$31,$I10+1,)="","",OFFSET(活動計画書!$C$31,$I10+1,)) | L10: =IF(OFFSET(活動計画書!$F$31,$I10+1,)="","",OFFSET(活動計画書!$F$31,$I10+1,)) -> 都市的地域 | M10: 17 | N10: =IF(OFFSET(活動計画書!$E$122,$M10,)="","",OFFSET(活動計画書!$E$122,$M10,)) | O10: =IF(OFFSET(活動計画書!$E$122,$M10+1,)="","",OFFSET(活動計画書!$E$122,$M10+1,)) | P10: =IF(OFFSET(活動計画書!$K$122,$M10,)="","",OFFSET(活動計画書!$K$122,$M10,)) | Q10: =IF(OFFSET(活動計画書!$L$122,$M10,)="","",OFFSET(活動計画書!$L$122,$M10,)) | R10: =IF(OFFSET(活動計画書!$M$122,$M10,)="","",OFFSET(活動計画書!$M$122,$M10,)) | S10: =IF(OFFSET(活動計画書!$N$122,$M10,)="","",OFFSET(活動計画書!$N$122,$M10,)) | T10: =IF(OFFSET(活動計画書!$O$122,$M10,)="","",OFFSET(活動計画書!$O$122,$M10,)) | U10: =IF(OFFSET(活動計画書!$P$122,$M10,)="","",OFFSET(活動計画書!$P$122,$M10,)) | V10: =IF(OFFSET(活動計画書!$Q$122,$M10,)="","",OFFSET(活動計画書!$Q$122,$M10,)) | W10: =IF(OFFSET(活動計画書!$R$122,$M10,)="","",OFFSET(活動計画書!$R$122,$M10,)) | X10: =IF(OFFSET(活動計画書!$S$122,$M10,)="","",OFFSET(活動計画書!$S$122,$M10,)) | Y10: =IF(OFFSET(活動計画書!$T$122,$M10,)="","",OFFSET(活動計画書!$T$122,$M10,)) | Z10: =IF(OFFSET(活動計画書!$U$122,$M10,)="","",OFFSET(活動計画書!$U$122,$M10,)) | AA10: =IF(OFFSET(活動計画書!$V$122,$M10,)="","",OFFSET(活動計画書!$V$122,$M10,)) | AB10: 17 | AC10: =IF(OFFSET(活動計画書!$B$157,$AB10,)="","",OFFSET(活動計画書!$B$157,$AB10,)) | AD10: =IF(OFFSET(活動計画書!$D$157,$AB10,)="","",OFFSET(活動計画書!$D$157,$AB10,)) | AE10: =IF(OFFSET(活動計画書!$D$157,$AB10+1,)="","",OFFSET(活動計画書!$D$157,$AB10+1,)) | AF10: =IF(OFFSET(活動計画書!$H$157,$AB10,)="","",OFFSET(活動計画書!$H$157,$AB10,)) | AG10: =IF(OFFSET(活動計画書!$N$157,$AB10,)="","",OFFSET(活動計画書!$N$157,$AB10,)) | AH10: =IF(OFFSET(活動計画書!$P$157,$AB10,)="","",OFFSET(活動計画書!$P$157,$AB10,)) | AI10: =IF(OFFSET(活動計画書!$Q$157,$AB10,)="","",OFFSET(活動計画書!$Q$157,$AB10,)) | AJ10: =IF(OFFSET(活動計画書!$R$157,$AB10,)="","",OFFSET(活動計画書!$R$157,$AB10,)) | AK10: =IF(OFFSET(活動計画書!$S$157,$AB10,)="","",OFFSET(活動計画書!$S$157,$AB10,)) | AL10: =IF(OFFSET(活動計画書!$T$157,$AB10,)="","",OFFSET(活動計画書!$T$157,$AB10,)) | AM10: =IF(OFFSET(活動計画書!$U$157,$AB10,)="","",OFFSET(活動計画書!$U$157,$AB10,))
A11: 19 | B11: =IF(OFFSET(活動計画書!$B$7,$A11,)="","",OFFSET(活動計画書!$B$7,$A11,)) -> この線より上に行を挿入してください。 | C11: =IF(OFFSET(活動計画書!$C$7,$A11+1,)="","",OFFSET(活動計画書!$C$7,$A11+1,)) -> 0 | D11: =IF(OFFSET(活動計画書!$F$7,$A11+1,)="","",OFFSET(活動計画書!$F$7,$A11+1,)) | E11: 19 | F11: =IF(OFFSET(活動計画書!$B$19,$E11,)="","",OFFSET(活動計画書!$B$19,$E11,)) -> この線より上に行を挿入してください。 | G11: =IF(OFFSET(活動計画書!$C$19,$E11+1,)="","",OFFSET(活動計画書!$C$19,$E11+1,)) -> 0 | H11: =IF(OFFSET(活動計画書!$F$19,$E11+1,)="","",OFFSET(活動計画書!$F$19,$E11+1,)) | I11: 19 | J11: =IF(OFFSET(活動計画書!$B$31,$I11,)="","",OFFSET(活動計画書!$B$31,$I11,)) | K11: =IF(OFFSET(活動計画書!$C$31,$I11+1,)="","",OFFSET(活動計画書!$C$31,$I11+1,)) | L11: =IF(OFFSET(活動計画書!$F$31,$I11+1,)="","",OFFSET(活動計画書!$F$31,$I11+1,)) | M11: 19 | N11: =IF(OFFSET(活動計画書!$E$122,$M11,)="","",OFFSET(活動計画書!$E$122,$M11,)) | O11: =IF(OFFSET(活動計画書!$E$122,$M11+1,)="","",OFFSET(活動計画書!$E$122,$M11+1,)) | P11: =IF(OFFSET(活動計画書!$K$122,$M11,)="","",OFFSET(活動計画書!$K$122,$M11,)) | Q11: =IF(OFFSET(活動計画書!$L$122,$M11,)="","",OFFSET(活動計画書!$L$122,$M11,)) | R11: =IF(OFFSET(活動計画書!$M$122,$M11,)="","",OFFSET(活動計画書!$M$122,$M11,)) | S11: =IF(OFFSET(活動計画書!$N$122,$M11,)="","",OFFSET(活動計画書!$N$122,$M11,)) | T11: =IF(OFFSET(活動計画書!$O$122,$M11,)="","",OFFSET(活動計画書!$O$122,$M11,)) | U11: =IF(OFFSET(活動計画書!$P$122,$M11,)="","",OFFSET(活動計画書!$P$122,$M11,)) | V11: =IF(OFFSET(活動計画書!$Q$122,$M11,)="","",OFFSET(活動計画書!$Q$122,$M11,)) | W11: =IF(OFFSET(活動計画書!$R$122,$M11,)="","",OFFSET(活動計画書!$R$122,$M11,)) | X11: =IF(OFFSET(活動計画書!$S$122,$M11,)="","",OFFSET(活動計画書!$S$122,$M11,)) | Y11: =IF(OFFSET(活動計画書!$T$122,$M11,)="","",OFFSET(活動計画書!$T$122,$M11,)) | Z11: =IF(OFFSET(活動計画書!$U$122,$M11,)="","",OFFSET(活動計画書!$U$122,$M11,)) | AA11: =IF(OFFSET(活動計画書!$V$122,$M11,)="","",OFFSET(活動計画書!$V$122,$M11,)) | AB11: 19 | AC11: =IF(OFFSET(活動計画書!$B$157,$AB11,)="","",OFFSET(活動計画書!$B$157,$AB11,)) | AD11: =IF(OFFSET(活動計画書!$D$157,$AB11,)="","",OFFSET(活動計画書!$D$157,$AB11,)) | AE11: =IF(OFFSET(活動計画書!$D$157,$AB11+1,)="","",OFFSET(活動計画書!$D$157,$AB11+1,)) | AF11: =IF(OFFSET(活動計画書!$H$157,$AB11,)="","",OFFSET(活動計画書!$H$157,$AB11,)) | AG11: =IF(OFFSET(活動計画書!$N$157,$AB11,)="","",OFFSET(活動計画書!$N$157,$AB11,)) | AH11: =IF(OFFSET(活動計画書!$P$157,$AB11,)="","",OFFSET(活動計画書!$P$157,$AB11,)) | AI11: =IF(OFFSET(活動計画書!$Q$157,$AB11,)="","",OFFSET(活動計画書!$Q$157,$AB11,)) | AJ11: =IF(OFFSET(活動計画書!$R$157,$AB11,)="","",OFFSET(活動計画書!$R$157,$AB11,)) | AK11: =IF(OFFSET(活動計画書!$S$157,$AB11,)="","",OFFSET(活動計画書!$S$157,$AB11,)) | AL11: =IF(OFFSET(活動計画書!$T$157,$AB11,)="","",OFFSET(活動計画書!$T$157,$AB11,)) | AM11: =IF(OFFSET(活動計画書!$U$157,$AB11,)="","",OFFSET(活動計画書!$U$157,$AB11,))
A12: 21 | B12: =IF(OFFSET(活動計画書!$B$7,$A12,)="","",OFFSET(活動計画書!$B$7,$A12,)) | C12: =IF(OFFSET(活動計画書!$C$7,$A12+1,)="","",OFFSET(活動計画書!$C$7,$A12+1,)) | D12: =IF(OFFSET(活動計画書!$F$7,$A12+1,)="","",OFFSET(活動計画書!$F$7,$A12+1,)) | E12: 21 | F12: =IF(OFFSET(活動計画書!$B$19,$E12,)="","",OFFSET(活動計画書!$B$19,$E12,)) | G12: =IF(OFFSET(活動計画書!$C$19,$E12+1,)="","",OFFSET(活動計画書!$C$19,$E12+1,)) | H12: =IF(OFFSET(活動計画書!$F$19,$E12+1,)="","",OFFSET(活動計画書!$F$19,$E12+1,)) | I12: 21 | J12: =IF(OFFSET(活動計画書!$B$31,$I12,)="","",OFFSET(活動計画書!$B$31,$I12,)) | K12: =IF(OFFSET(活動計画書!$C$31,$I12+1,)="","",OFFSET(活動計画書!$C$31,$I12+1,)) | L12: =IF(OFFSET(活動計画書!$F$31,$I12+1,)="","",OFFSET(活動計画書!$F$31,$I12+1,)) | M12: 21 | N12: =IF(OFFSET(活動計画書!$E$122,$M12,)="","",OFFSET(活動計画書!$E$122,$M12,)) | O12: =IF(OFFSET(活動計画書!$E$122,$M12+1,)="","",OFFSET(活動計画書!$E$122,$M12+1,)) | P12: =IF(OFFSET(活動計画書!$K$122,$M12,)="","",OFFSET(活動計画書!$K$122,$M12,)) | Q12: =IF(OFFSET(活動計画書!$L$122,$M12,)="","",OFFSET(活動計画書!$L$122,$M12,)) | R12: =IF(OFFSET(活動計画書!$M$122,$M12,)="","",OFFSET(活動計画書!$M$122,$M12,)) | S12: =IF(OFFSET(活動計画書!$N$122,$M12,)="","",OFFSET(活動計画書!$N$122,$M12,)) | T12: =IF(OFFSET(活動計画書!$O$122,$M12,)="","",OFFSET(活動計画書!$O$122,$M12,)) | U12: =IF(OFFSET(活動計画書!$P$122,$M12,)="","",OFFSET(活動計画書!$P$122,$M12,)) | V12: =IF(OFFSET(活動計画書!$Q$122,$M12,)="","",OFFSET(活動計画書!$Q$122,$M12,)) | W12: =IF(OFFSET(活動計画書!$R$122,$M12,)="","",OFFSET(活動計画書!$R$122,$M12,)) | X12: =IF(OFFSET(活動計画書!$S$122,$M12,)="","",OFFSET(活動計画書!$S$122,$M12,)) | Y12: =IF(OFFSET(活動計画書!$T$122,$M12,)="","",OFFSET(活動計画書!$T$122,$M12,)) | Z12: =IF(OFFSET(活動計画書!$U$122,$M12,)="","",OFFSET(活動計画書!$U$122,$M12,)) | AA12: =IF(OFFSET(活動計画書!$V$122,$M12,)="","",OFFSET(活動計画書!$V$122,$M12,)) | AB12: 21 | AC12: =IF(OFFSET(活動計画書!$B$157,$AB12,)="","",OFFSET(活動計画書!$B$157,$AB12,)) | AD12: =IF(OFFSET(活動計画書!$D$157,$AB12,)="","",OFFSET(活動計画書!$D$157,$AB12,)) | AE12: =IF(OFFSET(活動計画書!$D$157,$AB12+1,)="","",OFFSET(活動計画書!$D$157,$AB12+1,)) | AF12: =IF(OFFSET(活動計画書!$H$157,$AB12,)="","",OFFSET(活動計画書!$H$157,$AB12,)) | AG12: =IF(OFFSET(活動計画書!$N$157,$AB12,)="","",OFFSET(活動計画書!$N$157,$AB12,)) | AH12: =IF(OFFSET(活動計画書!$P$157,$AB12,)="","",OFFSET(活動計画書!$P$157,$AB12,)) | AI12: =IF(OFFSET(活動計画書!$Q$157,$AB12,)="","",OFFSET(活動計画書!$Q$157,$AB12,)) | AJ12: =IF(OFFSET(活動計画書!$R$157,$AB12,)="","",OFFSET(活動計画書!$R$157,$AB12,)) | AK12: =IF(OFFSET(活動計画書!$S$157,$AB12,)="","",OFFSET(活動計画書!$S$157,$AB12,)) | AL12: =IF(OFFSET(活動計画書!$T$157,$AB12,)="","",OFFSET(活動計画書!$T$157,$AB12,)) | AM12: =IF(OFFSET(活動計画書!$U$157,$AB12,)="","",OFFSET(活動計画書!$U$157,$AB12,))
A13: 23 | B13: =IF(OFFSET(活動計画書!$B$7,$A13,)="","",OFFSET(活動計画書!$B$7,$A13,)) | C13: =IF(OFFSET(活動計画書!$C$7,$A13+1,)="","",OFFSET(活動計画書!$C$7,$A13+1,)) -> 対象農用地面積 | D13: =IF(OFFSET(活動計画書!$F$7,$A13+1,)="","",OFFSET(活動計画書!$F$7,$A13+1,)) -> 交付単価 | E13: 23 | F13: =IF(OFFSET(活動計画書!$B$19,$E13,)="","",OFFSET(活動計画書!$B$19,$E13,)) | G13: =IF(OFFSET(活動計画書!$C$19,$E13+1,)="","",OFFSET(活動計画書!$C$19,$E13+1,)) | H13: =IF(OFFSET(活動計画書!$F$19,$E13+1,)="","",OFFSET(活動計画書!$F$19,$E13+1,)) | I13: 23 | J13: =IF(OFFSET(活動計画書!$B$31,$I13,)="","",OFFSET(活動計画書!$B$31,$I13,)) | K13: =IF(OFFSET(活動計画書!$C$31,$I13+1,)="","",OFFSET(活動計画書!$C$31,$I13+1,)) | L13: =IF(OFFSET(活動計画書!$F$31,$I13+1,)="","",OFFSET(活動計画書!$F$31,$I13+1,)) | M13: 23 | N13: =IF(OFFSET(活動計画書!$E$122,$M13,)="","",OFFSET(活動計画書!$E$122,$M13,)) | O13: =IF(OFFSET(活動計画書!$E$122,$M13+1,)="","",OFFSET(活動計画書!$E$122,$M13+1,)) | P13: =IF(OFFSET(活動計画書!$K$122,$M13,)="","",OFFSET(活動計画書!$K$122,$M13,)) | Q13: =IF(OFFSET(活動計画書!$L$122,$M13,)="","",OFFSET(活動計画書!$L$122,$M13,)) | R13: =IF(OFFSET(活動計画書!$M$122,$M13,)="","",OFFSET(活動計画書!$M$122,$M13,)) | S13: =IF(OFFSET(活動計画書!$N$122,$M13,)="","",OFFSET(活動計画書!$N$122,$M13,)) | T13: =IF(OFFSET(活動計画書!$O$122,$M13,)="","",OFFSET(活動計画書!$O$122,$M13,)) | U13: =IF(OFFSET(活動計画書!$P$122,$M13,)="","",OFFSET(活動計画書!$P$122,$M13,)) | V13: =IF(OFFSET(活動計画書!$Q$122,$M13,)="","",OFFSET(活動計画書!$Q$122,$M13,)) | W13: =IF(OFFSET(活動計画書!$R$122,$M13,)="","",OFFSET(活動計画書!$R$122,$M13,)) | X13: =IF(OFFSET(活動計画書!$S$122,$M13,)="","",OFFSET(活動計画書!$S$122,$M13,)) | Y13: =IF(OFFSET(活動計画書!$T$122,$M13,)="","",OFFSET(活動計画書!$T$122,$M13,)) | Z13: =IF(OFFSET(活動計画書!$U$122,$M13,)="","",OFFSET(活動計画書!$U$122,$M13,)) | AA13: =IF(OFFSET(活動計画書!$V$122,$M13,)="","",OFFSET(活動計画書!$V$122,$M13,)) | AB13: 23 | AC13: =IF(OFFSET(活動計画書!$B$157,$AB13,)="","",OFFSET(活動計画書!$B$157,$AB13,)) | AD13: =IF(OFFSET(活動計画書!$D$157,$AB13,)="","",OFFSET(活動計画書!$D$157,$AB13,)) | AE13: =IF(OFFSET(活動計画書!$D$157,$AB13+1,)="","",OFFSET(活動計画書!$D$157,$AB13+1,)) | AF13: =IF(OFFSET(活動計画書!$H$157,$AB13,)="","",OFFSET(活動計画書!$H$157,$AB13,)) | AG13: =IF(OFFSET(活動計画書!$N$157,$AB13,)="","",OFFSET(活動計画書!$N$157,$AB13,)) | AH13: =IF(OFFSET(活動計画書!$P$157,$AB13,)="","",OFFSET(活動計画書!$P$157,$AB13,)) | AI13: =IF(OFFSET(活動計画書!$Q$157,$AB13,)="","",OFFSET(活動計画書!$Q$157,$AB13,)) | AJ13: =IF(OFFSET(活動計画書!$R$157,$AB13,)="","",OFFSET(活動計画書!$R$157,$AB13,)) | AK13: =IF(OFFSET(活動計画書!$S$157,$AB13,)="","",OFFSET(活動計画書!$S$157,$AB13,)) | AL13: =IF(OFFSET(活動計画書!$T$157,$AB13,)="","",OFFSET(活動計画書!$T$157,$AB13,)) | AM13: =IF(OFFSET(活動計画書!$U$157,$AB13,)="","",OFFSET(活動計画書!$U$157,$AB13,))
... A300: 597 | B300: =IF(OFFSET(活動計画書!$B$7,$A300,)="","",OFFSET(活動計画書!$B$7,$A300,)) | C300: =IF(OFFSET(活動計画書!$C$7,$A300+1,)="","",OFFSET(活動計画書!$C$7,$A300+1,)) | D300: =IF(OFFSET(活動計画書!$F$7,$A300+1,)="","",OFFSET(活動計画書!$F$7,$A300+1,)) | E300: 597 | F300: =IF(OFFSET(活動計画書!$B$19,$E300,)="","",OFFSET(活動計画書!$B$19,$E300,)) | G300: =IF(OFFSET(活動計画書!$C$19,$E300+1,)="","",OFFSET(活動計画書!$C$19,$E300+1,)) | H300: =IF(OFFSET(活動計画書!$F$19,$E300+1,)="","",OFFSET(活動計画書!$F$19,$E300+1,)) | I300: 597 | J300: =IF(OFFSET(活動計画書!$B$31,$I300,)="","",OFFSET(活動計画書!$B$31,$I300,)) | K300: =IF(OFFSET(活動計画書!$C$31,$I300+1,)="","",OFFSET(活動計画書!$C$31,$I300+1,)) | L300: =IF(OFFSET(活動計画書!$F$31,$I300+1,)="","",OFFSET(活動計画書!$F$31,$I300+1,)) | M300: 597 | N300: =IF(OFFSET(活動計画書!$E$122,$M300,)="","",OFFSET(活動計画書!$E$122,$M300,)) | O300: =IF(OFFSET(活動計画書!$E$122,$M300+1,)="","",OFFSET(活動計画書!$E$122,$M300+1,)) | P300: =IF(OFFSET(活動計画書!$K$122,$M300,)="","",OFFSET(活動計画書!$K$122,$M300,)) | Q300: =IF(OFFSET(活動計画書!$L$122,$M300,)="","",OFFSET(活動計画書!$L$122,$M300,)) | R300: =IF(OFFSET(活動計画書!$M$122,$M300,)="","",OFFSET(活動計画書!$M$122,$M300,)) | S300: =IF(OFFSET(活動計画書!$N$122,$M300,)="","",OFFSET(活動計画書!$N$122,$M300,)) | T300: =IF(OFFSET(活動計画書!$O$122,$M300,)="","",OFFSET(活動計画書!$O$122,$M300,)) | U300: =IF(OFFSET(活動計画書!$P$122,$M300,)="","",OFFSET(活動計画書!$P$122,$M300,)) | V300: =IF(OFFSET(活動計画書!$Q$122,$M300,)="","",OFFSET(活動計画書!$Q$122,$M300,)) | W300: =IF(OFFSET(活動計画書!$R$122,$M300,)="","",OFFSET(活動計画書!$R$122,$M300,)) | X300: =IF(OFFSET(活動計画書!$S$122,$M300,)="","",OFFSET(活動計画書!$S$122,$M300,)) | Y300: =IF(OFFSET(活動計画書!$T$122,$M300,)="","",OFFSET(活動計画書!$T$122,$M300,)) | Z300: =IF(OFFSET(活動計画書!$U$122,$M300,)="","",OFFSET(活動計画書!$U$122,$M300,)) | AA300: =IF(OFFSET(活動計画書!$V$122,$M300,)="","",OFFSET(活動計画書!$V$122,$M300,)) | AB300: 597 | AC300: =IF(OFFSET(活動計画書!$B$157,$AB300,)="","",OFFSET(活動計画書!$B$157,$AB300,)) | AD300: =IF(OFFSET(活動計画書!$D$157,$AB300,)="","",OFFSET(活動計画書!$D$157,$AB300,)) | AE300: =IF(OFFSET(活動計画書!$D$157,$AB300+1,)="","",OFFSET(活動計画書!$D$157,$AB300+1,)) | AF300: =IF(OFFSET(活動計画書!$H$157,$AB300,)="","",OFFSET(活動計画書!$H$157,$AB300,)) | AG300: =IF(OFFSET(活動計画書!$N$157,$AB300,)="","",OFFSET(活動計画書!$N$157,$AB300,)) | AH300: =IF(OFFSET(活動計画書!$P$157,$AB300,)="","",OFFSET(活動計画書!$P$157,$AB300,)) | AI300: =IF(OFFSET(活動計画書!$Q$157,$AB300,)="","",OFFSET(活動計画書!$Q$157,$AB300,)) | AJ300: =IF(OFFSET(活動計画書!$R$157,$AB300,)="","",OFFSET(活動計画書!$R$157,$AB300,)) | AK300: =IF(OFFSET(活動計画書!$S$157,$AB300,)="","",OFFSET(活動計画書!$S$157,$AB300,)) | AL300: =IF(OFFSET(活動計画書!$T$157,$AB300,)="","",OFFSET(活動計画書!$T$157,$AB300,)) | AM300: =IF(OFFSET(活動計画書!$U$157,$AB300,)="","",OFFSET(活動計画書!$U$157,$AB300,))

Sheet データ取込シート_活動計画書
A1: 広域活動組織 | B1: 地目01 | C1: 対象農用地面積01 | D1: 交付単価01 | E1: 地目を田から畑に変更する面積 | F1: 地目02 | G1: 対象農用地面積02 | H1: 交付単価02 | I1: 地目03 | J1: 対象農用地面積03 | K1: 交付単価03 | L1: 広域活動組織となるための規模要件を満たさない場合はチェック | N1: 広域活動組織の設立：実施予定年度 | O1: 特定非営利活動法人化：実施予定年度 | P1: 集落数 | Q1: 都市的地域 | R1: 平地農業地域 | S1: 中間農業地域 | T1: 山間農業地域 | U1: 特定農山村 | V1: 振興山村 | W1: 過疎 | X1: 半島 | Y1: 離島 | Z1: 沖縄 | AA1: 奄美群島 | AB1: 小笠原諸島 | AC1: ＜指定棚田地域の該当状況＞ | AD1: 農地維持支払11 | AE1: 資源向上支払（共同）11 | AF1: 資源向上支払（長寿命化）11 | AG1: 活動項目01 | AH1: 4月01 | AI1: 5月01 | AJ1: 6月01 | AK1: 7月01 | AL1: 8月01 | AM1: 9月01 | AN1: 10月01 | AO1: 11月01 | AP1: 12月01 | AQ1: 1月01 | AR1: 2月01 | AS1: 3月01 | AT1: 備考01 | AU1: 毎年度の実施時期01 | AV1: ①中心経営体との役割分担による保全管理 | AW1: ②集落営農組織を基礎とした地域ぐるみの保全管理 | AX1: ③地域外の経営体との協力・役割分担による保全管理 | AY1: ④集落間連携や広域的活動による保全管理 | AZ1: ⑤多様な地域資源管理の担い手による保全管理 | BA1: ⑥その他01 | BB1: ※「⑥その他」を選択した場合は内容を記入してください。 | BC1: ①農地の利用集積に伴う管理作業 | BD1: ②高齢農家の農用地に係る管理作業 | BE1: ③不在村地主等の遊休農地に係る管理作業 | BF1: ④共同利用施設の保全管理 | BG1: ⑤その他02 | BH1: ※「⑤その他」を選択した場合は内容を記入してください。 | BI1: ①担い手の人材・機材の有効活用、連携強化 | BJ1: ②入り作等の近隣の担い手との協力 | BK1: ③地域住民、土地持ち非農家等を含めた体制づくり | BL1: ④新たな保全管理の担い手の確保 | BM1: ⑤不在村地主との連絡・調整体制の構築 | BN1: ⑥集落間の連携や広域的な活動 | BO1: ⑦その他03 | BP1: ※「⑦その他」を選択した場合は内容を記入してください。 | BQ1: 17．入り作農家や土地持ち非農家を含む農業者の検討会の開催 | BR1: 18．農業者に対する意向調査、農業者による現地調査 | BS1: 19．不在村地主との連絡体制の整備、調整等 | BT1: 20．集落外の住民・組織や地域住民との意見交換・ワークショップ・交流会の開催 | BU1: 21．地域住民等に対する意向調査、地域住民等との集落内調査 | BV1: 22．有識者等による研修会、検討会の開催 | BW1: 23．その他04 | BX1: ※「23．その他」を選択した場合は内容を記入してください。 | BY1: 活動項目03 | BZ1: 4月02 | CA1: 5月02 | CB1: 6月02 | CC1: 7月02 | CD1: 8月02 | CE1: 9月02 | CF1: 10月02 | CG1: 11月02 | CH1: 12月02 | CI1: 1月02 | CJ1: 2月02 | CK1: 3月02 | CL1: 備考02 | CM1: 毎年度の実施時期02 | CN1: 活動区分03-1 | CO1: 活動区分03-2 | CP1: 活動項目03-1 | CQ1: 活動項目03-2 | CR1: 4月02 | CS1: 5月02 | CT1: 6月02 | CU1: 7月02 | CV1: 8月02 | CW1: 9月02 | CX1: 10月02 | CY1: 11月02 | CZ1: 12月02 | DA1: 1月02 | DB1: 2月02 | DC1: 3月02 | DD1: 活動項目05 | DE1: 4月05 | DF1: 5月05 | DG1: 6月05 | DH1: 7月05 | DI1: 8月05 | DJ1: 9月05 | DK1: 10月05 | DL1: 11月05 | DM1: 12月05 | DN1: 1月05 | DO1: 2月05 | DP1: 3月05 | DQ1: 備考05 | DR1: 農村環境保全活動を１テーマ追加 | DS1: 農村環境保全活動のテーマ | DT1: 「高度な保全活動の実施」 | DU1: 高度な保全活動の活動項目 | DV1: 59．都道府県、市町村が特に認める活動 を選択した場合、具体的な活動内容を記載してください。 | DW1: 施設区分06 | DX1: 活動項目①06 | DY1: 活動項目②06 | DZ1: 内容06 | EA1: 延べ数量06 | EB1: 単位06 | EC1: 年度計画1年目 | ED1: 年度計画2年目 | EE1: 年度計画3年目 | EF1: 年度計画4年目 | EG1: 年度計画5年目 | EH1: 直営施工の実施方針
