Workbook

Sheet 別記様式第９号
A1: 別記様式第９号（第15関係）
A3: ○○年度
A4: 農林水産省所管
A6: ○ ○ 交 付 金 調 書
A8: 国 | H8: 地 方 公 共 団 体 名 | AD8: 備 考
H9: 歳 入 | N9: 歳 出
A10: 交付対象事業者名 | D10: 交付決定の額 | F10: 補助率 | H10: 科目 | J10: 予算 現額 | L10: 収入 済額 | N10: 科目 | P10: 予算 現額 | R10: うち国庫負担金額相当 | U10: 支出 済額 | W10: うち国庫負担金額相当 | Z10: 翌年度繰越額 | AB10: うち国庫負担金額相当
G12: %
G14: %
G16: %
A18: この線より上に行を挿入してください。 | AN18: 〇〇事業
A19: 記載要領
A20: 1 | B20: 「交付対象事業名」欄には、交付対象事業等の名称のほか、当該交付対象事業等に要する経費の配分を記載すること。この場合において、経費の配分の記載は、補助条件等によりその変更を禁止され、又はその変更につき承認を要するものとされている経費の配分のみを特記し、その他の経費の配分は、「その他」として一括記載すること。 | AN20: 〇〇費
A21: 2 | B21: 「科目」欄には、歳入にあっては款、項、目及び節を、歳出にあっては款、項、及び目をそれぞれ記載すること。ただし、「交付対象事業名」欄に特記した経費に対応する地方公共団体の歳出予算の経費が目の内訳の経費であるときは、歳出の「科目」欄には、その目の内訳までを記載すること。
A22: 3 | B22: 「予算現額」欄には、歳入にあっては当初予算額、追加更正予算額等に区分してそれぞれの額を、歳出にあっては当初予算額、追加更正予算額、予備費支出額、流用増減額等に区分してそれぞれの額を記載すること。 | AN22: 〇〇費
A23: 4 | B23: 「備考」欄には、参考となるべき事項を適宜記載すること。
A24: 5 | B24: 交付対象事業等に係る地方公共団体の歳出予算額の繰越（歳出予算額の一部又は全部を執行せず、その執行しなかった部分の額に相当する金額を新たに翌年度予算に計上する場合を含む。）が行われた場合における翌年度に行われる当該交付対象事業等に係る交付金等についての調書の作成は、本表に準じて別に作成すること。この場合には、歳入の「科目」欄に「前年度繰越金」の区分を設け、その「予算現額」及び「収入済額」の数字の下にそれぞれ国庫負担金額を内書（ ）すること。 | AN24: その他

Sheet 【記入例】別記様式第９号
A1: 別記様式第９号（第15関係）
A3: ○○年度
A4: 農林水産省所管
A6: ○ ○ 交 付 金 調 書
A8: 国 | H8: 地 方 公 共 団 体 名 | AD8: 備 考
H9: 歳 入 | N9: 歳 出
A10: 交付対象事業者名 | D10: 交付決定の額 | F10: 補助率 | H10: 科目 | J10: 予算 現額 | L10: 収入 済額 | N10: 科目 | P10: 予算 現額 | R10: うち国庫負担金額相当 | U10: 支出 済額 | W10: うち国庫負担金額相当 | Z10: 翌年度繰越額 | AB10: うち国庫負担金額相当
A12: A | D12: 100 | F12: 10 | G12: % | H12: AA | J12: 1000 | L12: 1000 | N12: AAA | P12: 1000 | R12: 1000 | U12: 110 | W12: 1000 | Z12: 1110 | AB12: 1000
A14: B | D14: 200 | F14: 20 | G14: % | H14: BB | J14: 2000 | L14: 2000 | N14: BBB | P14: 2000 | R14: 2000 | U14: 120 | W14: 2000 | Z14: 1120 | AB14: 2000
A16: C | D16: 300 | F16: 30 | G16: % | H16: CC | J16: 3000 | L16: 3000 | N16: CCC | P16: 3000 | R16: 3000 | U16: 130 | W16: 3000 | Z16: 1130 | AB16: 3000
A18: この線より上に行を挿入してください。 | AN18: 〇〇事業
A19: 記載要領
A20: 1 | B20: 「交付対象事業名」欄には、交付対象事業等の名称のほか、当該交付対象事業等に要する経費の配分を記載すること。この場合において、経費の配分の記載は、補助条件等によりその変更を禁止され、又はその変更につき承認を要するものとされている経費の配分のみを特記し、その他の経費の配分は、「その他」として一括記載すること。 | AN20: 〇〇費
A21: 2 | B21: 「科目」欄には、歳入にあっては款、項、目及び節を、歳出にあっては款、項、及び目をそれぞれ記載すること。ただし、「交付対象事業名」欄に特記した経費に対応する地方公共団体の歳出予算の経費が目の内訳の経費であるときは、歳出の「科目」欄には、その目の内訳までを記載すること。
A22: 3 | B22: 「予算現額」欄には、歳入にあっては当初予算額、追加更正予算額等に区分してそれぞれの額を、歳出にあっては当初予算額、追加更正予算額、予備費支出額、流用増減額等に区分してそれぞれの額を記載すること。 | AN22: 〇〇費
A23: 4 | B23: 「備考」欄には、参考となるべき事項を適宜記載すること。
A24: 5 | B24: 交付対象事業等に係る地方公共団体の歳出予算額の繰越（歳出予算額の一部又は全部を執行せず、その執行しなかった部分の額に相当する金額を新たに翌年度予算に計上する場合を含む。）が行われた場合における翌年度に行われる当該交付対象事業等に係る交付金等についての調書の作成は、本表に準じて別に作成すること。この場合には、歳入の「科目」欄に「前年度繰越金」の区分を設け、その「予算現額」及び「収入済額」の数字の下にそれぞれ国庫負担金額を内書（ ）すること。 | AN24: その他

Sheet データ整理_別記様式第９号
B1: 交付対象事業名18 | C1: 交付決定の額18 | D1: 補助率18 | E1: 歳入：科目18 | F1: 歳入：予算現額18 | G1: 歳入：収入済額18 | H1: 歳出：科目18 | I1: 歳出：予算現額18 | J1: うち国庫負担金相当額181 | K1: 歳出：支出済額18 | L1: うち国庫負担金相当額182 | M1: 歳出：翌年度繰越額18 | N1: うち国庫負担金相当額183 | O1: 備考18
A2: 1 | B2: =IF(OFFSET(別記様式第９号!$A$11,$A2,)="","",OFFSET(別記様式第９号!$A$11,$A2,)) | C2: =IF(OFFSET(別記様式第９号!$D$11,$A2,)="","",OFFSET(別記様式第９号!$D$11,$A2,)) | D2: =IF(OFFSET(別記様式第９号!$F$11,$A2,)="","",OFFSET(別記様式第９号!$F$11,$A2,)) | E2: =IF(OFFSET(別記様式第９号!$H$11,$A2,)="","",OFFSET(別記様式第９号!$H$11,$A2,)) | F2: =IF(OFFSET(別記様式第９号!$J$11,$A2,)="","",OFFSET(別記様式第９号!$J$11,$A2,)) | G2: =IF(OFFSET(別記様式第９号!$L$11,$A2,)="","",OFFSET(別記様式第９号!$L$11,$A2,)) | H2: =IF(OFFSET(別記様式第９号!$N$11,$A2,)="","",OFFSET(別記様式第９号!$N$11,$A2,)) | I2: =IF(OFFSET(別記様式第９号!$P$11,$A2,)="","",OFFSET(別記様式第９号!$P$11,$A2,)) | J2: =IF(OFFSET(別記様式第９号!$R$11,$A2,)="","",OFFSET(別記様式第９号!$R$11,$A2,)) | K2: =IF(OFFSET(別記様式第９号!$U$11,$A2,)="","",OFFSET(別記様式第９号!$U$11,$A2,)) | L2: =IF(OFFSET(別記様式第９号!$W$11,$A2,)="","",OFFSET(別記様式第９号!$W$11,$A2,)) | M2: =IF(OFFSET(別記様式第９号!$Z$11,$A2,)="","",OFFSET(別記様式第９号!$Z$11,$A2,)) | N2: =IF(OFFSET(別記様式第９号!$AB$11,$A2,)="","",OFFSET(別記様式第９号!$AB$11,$A2,)) | O2: =IF(OFFSET(別記様式第９号!$AD$11,$A2,)="","",OFFSET(別記様式第９号!$AD$11,$A2,))
A3: 3 | B3: =IF(OFFSET(別記様式第９号!$A$11,$A3,)="","",OFFSET(別記様式第９号!$A$11,$A3,)) | C3: =IF(OFFSET(別記様式第９号!$D$11,$A3,)="","",OFFSET(別記様式第９号!$D$11,$A3,)) | D3: =IF(OFFSET(別記様式第９号!$F$11,$A3,)="","",OFFSET(別記様式第９号!$F$11,$A3,)) | E3: =IF(OFFSET(別記様式第９号!$H$11,$A3,)="","",OFFSET(別記様式第９号!$H$11,$A3,)) | F3: =IF(OFFSET(別記様式第９号!$J$11,$A3,)="","",OFFSET(別記様式第９号!$J$11,$A3,)) | G3: =IF(OFFSET(別記様式第９号!$L$11,$A3,)="","",OFFSET(別記様式第９号!$L$11,$A3,)) | H3: =IF(OFFSET(別記様式第９号!$N$11,$A3,)="","",OFFSET(別記様式第９号!$N$11,$A3,)) | I3: =IF(OFFSET(別記様式第９号!$P$11,$A3,)="","",OFFSET(別記様式第９号!$P$11,$A3,)) | J3: =IF(OFFSET(別記様式第９号!$R$11,$A3,)="","",OFFSET(別記様式第９号!$R$11,$A3,)) | K3: =IF(OFFSET(別記様式第９号!$U$11,$A3,)="","",OFFSET(別記様式第９号!$U$11,$A3,)) | L3: =IF(OFFSET(別記様式第９号!$W$11,$A3,)="","",OFFSET(別記様式第９号!$W$11,$A3,)) | M3: =IF(OFFSET(別記様式第９号!$Z$11,$A3,)="","",OFFSET(別記様式第９号!$Z$11,$A3,)) | N3: =IF(OFFSET(別記様式第９号!$AB$11,$A3,)="","",OFFSET(別記様式第９号!$AB$11,$A3,)) | O3: =IF(OFFSET(別記様式第９号!$AD$11,$A3,)="","",OFFSET(別記様式第９号!$AD$11,$A3,))
A4: 5 | B4: =IF(OFFSET(別記様式第９号!$A$11,$A4,)="","",OFFSET(別記様式第９号!$A$11,$A4,)) | C4: =IF(OFFSET(別記様式第９号!$D$11,$A4,)="","",OFFSET(別記様式第９号!$D$11,$A4,)) | D4: =IF(OFFSET(別記様式第９号!$F$11,$A4,)="","",OFFSET(別記様式第９号!$F$11,$A4,)) | E4: =IF(OFFSET(別記様式第９号!$H$11,$A4,)="","",OFFSET(別記様式第９号!$H$11,$A4,)) | F4: =IF(OFFSET(別記様式第９号!$J$11,$A4,)="","",OFFSET(別記様式第９号!$J$11,$A4,)) | G4: =IF(OFFSET(別記様式第９号!$L$11,$A4,)="","",OFFSET(別記様式第９号!$L$11,$A4,)) | H4: =IF(OFFSET(別記様式第９号!$N$11,$A4,)="","",OFFSET(別記様式第９号!$N$11,$A4,)) | I4: =IF(OFFSET(別記様式第９号!$P$11,$A4,)="","",OFFSET(別記様式第９号!$P$11,$A4,)) | J4: =IF(OFFSET(別記様式第９号!$R$11,$A4,)="","",OFFSET(別記様式第９号!$R$11,$A4,)) | K4: =IF(OFFSET(別記様式第９号!$U$11,$A4,)="","",OFFSET(別記様式第９号!$U$11,$A4,)) | L4: =IF(OFFSET(別記様式第９号!$W$11,$A4,)="","",OFFSET(別記様式第９号!$W$11,$A4,)) | M4: =IF(OFFSET(別記様式第９号!$Z$11,$A4,)="","",OFFSET(別記様式第９号!$Z$11,$A4,)) | N4: =IF(OFFSET(別記様式第９号!$AB$11,$A4,)="","",OFFSET(別記様式第９号!$AB$11,$A4,)) | O4: =IF(OFFSET(別記様式第９号!$AD$11,$A4,)="","",OFFSET(別記様式第９号!$AD$11,$A4,))
A5: 7 | B5: =IF(OFFSET(別記様式第９号!$A$11,$A5,)="","",OFFSET(別記様式第９号!$A$11,$A5,)) -> この線より上に行を挿入してください。 | C5: =IF(OFFSET(別記様式第９号!$D$11,$A5,)="","",OFFSET(別記様式第９号!$D$11,$A5,)) | D5: =IF(OFFSET(別記様式第９号!$F$11,$A5,)="","",OFFSET(別記様式第９号!$F$11,$A5,)) | E5: =IF(OFFSET(別記様式第９号!$H$11,$A5,)="","",OFFSET(別記様式第９号!$H$11,$A5,)) | F5: =IF(OFFSET(別記様式第９号!$J$11,$A5,)="","",OFFSET(別記様式第９号!$J$11,$A5,)) | G5: =IF(OFFSET(別記様式第９号!$L$11,$A5,)="","",OFFSET(別記様式第９号!$L$11,$A5,)) | H5: =IF(OFFSET(別記様式第９号!$N$11,$A5,)="","",OFFSET(別記様式第９号!$N$11,$A5,)) | I5: =IF(OFFSET(別記様式第９号!$P$11,$A5,)="","",OFFSET(別記様式第９号!$P$11,$A5,)) | J5: =IF(OFFSET(別記様式第９号!$R$11,$A5,)="","",OFFSET(別記様式第９号!$R$11,$A5,)) | K5: =IF(OFFSET(別記様式第９号!$U$11,$A5,)="","",OFFSET(別記様式第９号!$U$11,$A5,)) | L5: =IF(OFFSET(別記様式第９号!$W$11,$A5,)="","",OFFSET(別記様式第９号!$W$11,$A5,)) | M5: =IF(OFFSET(別記様式第９号!$Z$11,$A5,)="","",OFFSET(別記様式第９号!$Z$11,$A5,)) | N5: =IF(OFFSET(別記様式第９号!$AB$11,$A5,)="","",OFFSET(別記様式第９号!$AB$11,$A5,)) | O5: =IF(OFFSET(別記様式第９号!$AD$11,$A5,)="","",OFFSET(別記様式第９号!$AD$11,$A5,))
A6: 9 | B6: =IF(OFFSET(別記様式第９号!$A$11,$A6,)="","",OFFSET(別記様式第９号!$A$11,$A6,)) -> 1 | C6: =IF(OFFSET(別記様式第９号!$D$11,$A6,)="","",OFFSET(別記様式第９号!$D$11,$A6,)) | D6: =IF(OFFSET(別記様式第９号!$F$11,$A6,)="","",OFFSET(別記様式第９号!$F$11,$A6,)) | E6: =IF(OFFSET(別記様式第９号!$H$11,$A6,)="","",OFFSET(別記様式第９号!$H$11,$A6,)) | F6: =IF(OFFSET(別記様式第９号!$J$11,$A6,)="","",OFFSET(別記様式第９号!$J$11,$A6,)) | G6: =IF(OFFSET(別記様式第９号!$L$11,$A6,)="","",OFFSET(別記様式第９号!$L$11,$A6,)) | H6: =IF(OFFSET(別記様式第９号!$N$11,$A6,)="","",OFFSET(別記様式第９号!$N$11,$A6,)) | I6: =IF(OFFSET(別記様式第９号!$P$11,$A6,)="","",OFFSET(別記様式第９号!$P$11,$A6,)) | J6: =IF(OFFSET(別記様式第９号!$R$11,$A6,)="","",OFFSET(別記様式第９号!$R$11,$A6,)) | K6: =IF(OFFSET(別記様式第９号!$U$11,$A6,)="","",OFFSET(別記様式第９号!$U$11,$A6,)) | L6: =IF(OFFSET(別記様式第９号!$W$11,$A6,)="","",OFFSET(別記様式第９号!$W$11,$A6,)) | M6: =IF(OFFSET(別記様式第９号!$Z$11,$A6,)="","",OFFSET(別記様式第９号!$Z$11,$A6,)) | N6: =IF(OFFSET(別記様式第９号!$AB$11,$A6,)="","",OFFSET(別記様式第９号!$AB$11,$A6,)) | O6: =IF(OFFSET(別記様式第９号!$AD$11,$A6,)="","",OFFSET(別記様式第９号!$AD$11,$A6,))
A7: 11 | B7: =IF(OFFSET(別記様式第９号!$A$11,$A7,)="","",OFFSET(別記様式第９号!$A$11,$A7,)) -> 3 | C7: =IF(OFFSET(別記様式第９号!$D$11,$A7,)="","",OFFSET(別記様式第９号!$D$11,$A7,)) | D7: =IF(OFFSET(別記様式第９号!$F$11,$A7,)="","",OFFSET(別記様式第９号!$F$11,$A7,)) | E7: =IF(OFFSET(別記様式第９号!$H$11,$A7,)="","",OFFSET(別記様式第９号!$H$11,$A7,)) | F7: =IF(OFFSET(別記様式第９号!$J$11,$A7,)="","",OFFSET(別記様式第９号!$J$11,$A7,)) | G7: =IF(OFFSET(別記様式第９号!$L$11,$A7,)="","",OFFSET(別記様式第９号!$L$11,$A7,)) | H7: =IF(OFFSET(別記様式第９号!$N$11,$A7,)="","",OFFSET(別記様式第９号!$N$11,$A7,)) | I7: =IF(OFFSET(別記様式第９号!$P$11,$A7,)="","",OFFSET(別記様式第９号!$P$11,$A7,)) | J7: =IF(OFFSET(別記様式第９号!$R$11,$A7,)="","",OFFSET(別記様式第９号!$R$11,$A7,)) | K7: =IF(OFFSET(別記様式第９号!$U$11,$A7,)="","",OFFSET(別記様式第９号!$U$11,$A7,)) | L7: =IF(OFFSET(別記様式第９号!$W$11,$A7,)="","",OFFSET(別記様式第９号!$W$11,$A7,)) | M7: =IF(OFFSET(別記様式第９号!$Z$11,$A7,)="","",OFFSET(別記様式第９号!$Z$11,$A7,)) | N7: =IF(OFFSET(別記様式第９号!$AB$11,$A7,)="","",OFFSET(別記様式第９号!$AB$11,$A7,)) | O7: =IF(OFFSET(別記様式第９号!$AD$11,$A7,)="","",OFFSET(別記様式第９号!$AD$11,$A7,))
A8: 13 | B8: =IF(OFFSET(別記様式第９号!$A$11,$A8,)="","",OFFSET(別記様式第９号!$A$11,$A8,)) -> 5 | C8: =IF(OFFSET(別記様式第９号!$D$11,$A8,)="","",OFFSET(別記様式第９号!$D$11,$A8,)) | D8: =IF(OFFSET(別記様式第９号!$F$11,$A8,)="","",OFFSET(別記様式第９号!$F$11,$A8,)) | E8: =IF(OFFSET(別記様式第９号!$H$11,$A8,)="","",OFFSET(別記様式第９号!$H$11,$A8,)) | F8: =IF(OFFSET(別記様式第９号!$J$11,$A8,)="","",OFFSET(別記様式第９号!$J$11,$A8,)) | G8: =IF(OFFSET(別記様式第９号!$L$11,$A8,)="","",OFFSET(別記様式第９号!$L$11,$A8,)) | H8: =IF(OFFSET(別記様式第９号!$N$11,$A8,)="","",OFFSET(別記様式第９号!$N$11,$A8,)) | I8: =IF(OFFSET(別記様式第９号!$P$11,$A8,)="","",OFFSET(別記様式第９号!$P$11,$A8,)) | J8: =IF(OFFSET(別記様式第９号!$R$11,$A8,)="","",OFFSET(別記様式第９号!$R$11,$A8,)) | K8: =IF(OFFSET(別記様式第９号!$U$11,$A8,)="","",OFFSET(別記様式第９号!$U$11,$A8,)) | L8: =IF(OFFSET(別記様式第９号!$W$11,$A8,)="","",OFFSET(別記様式第９号!$W$11,$A8,)) | M8: =IF(OFFSET(別記様式第９号!$Z$11,$A8,)="","",OFFSET(別記様式第９号!$Z$11,$A8,)) | N8: =IF(OFFSET(別記様式第９号!$AB$11,$A8,)="","",OFFSET(別記様式第９号!$AB$11,$A8,)) | O8: =IF(OFFSET(別記様式第９号!$AD$11,$A8,)="","",OFFSET(別記様式第９号!$AD$11,$A8,))
A9: 15 | B9: =IF(OFFSET(別記様式第９号!$A$11,$A9,)="","",OFFSET(別記様式第９号!$A$11,$A9,)) | C9: =IF(OFFSET(別記様式第９号!$D$11,$A9,)="","",OFFSET(別記様式第９号!$D$11,$A9,)) | D9: =IF(OFFSET(別記様式第９号!$F$11,$A9,)="","",OFFSET(別記様式第９号!$F$11,$A9,)) | E9: =IF(OFFSET(別記様式第９号!$H$11,$A9,)="","",OFFSET(別記様式第９号!$H$11,$A9,)) | F9: =IF(OFFSET(別記様式第９号!$J$11,$A9,)="","",OFFSET(別記様式第９号!$J$11,$A9,)) | G9: =IF(OFFSET(別記様式第９号!$L$11,$A9,)="","",OFFSET(別記様式第９号!$L$11,$A9,)) | H9: =IF(OFFSET(別記様式第９号!$N$11,$A9,)="","",OFFSET(別記様式第９号!$N$11,$A9,)) | I9: =IF(OFFSET(別記様式第９号!$P$11,$A9,)="","",OFFSET(別記様式第９号!$P$11,$A9,)) | J9: =IF(OFFSET(別記様式第９号!$R$11,$A9,)="","",OFFSET(別記様式第９号!$R$11,$A9,)) | K9: =IF(OFFSET(別記様式第９号!$U$11,$A9,)="","",OFFSET(別記様式第９号!$U$11,$A9,)) | L9: =IF(OFFSET(別記様式第９号!$W$11,$A9,)="","",OFFSET(別記様式第９号!$W$11,$A9,)) | M9: =IF(OFFSET(別記様式第９号!$Z$11,$A9,)="","",OFFSET(別記様式第９号!$Z$11,$A9,)) | N9: =IF(OFFSET(別記様式第９号!$AB$11,$A9,)="","",OFFSET(別記様式第９号!$AB$11,$A9,)) | O9: =IF(OFFSET(別記様式第９号!$AD$11,$A9,)="","",OFFSET(別記様式第９号!$AD$11,$A9,))
A10: 17 | B10: =IF(OFFSET(別記様式第９号!$A$11,$A10,)="","",OFFSET(別記様式第９号!$A$11,$A10,)) | C10: =IF(OFFSET(別記様式第９号!$D$11,$A10,)="","",OFFSET(別記様式第９号!$D$11,$A10,)) | D10: =IF(OFFSET(別記様式第９号!$F$11,$A10,)="","",OFFSET(別記様式第９号!$F$11,$A10,)) | E10: =IF(OFFSET(別記様式第９号!$H$11,$A10,)="","",OFFSET(別記様式第９号!$H$11,$A10,)) | F10: =IF(OFFSET(別記様式第９号!$J$11,$A10,)="","",OFFSET(別記様式第９号!$J$11,$A10,)) | G10: =IF(OFFSET(別記様式第９号!$L$11,$A10,)="","",OFFSET(別記様式第９号!$L$11,$A10,)) | H10: =IF(OFFSET(別記様式第９号!$N$11,$A10,)="","",OFFSET(別記様式第９号!$N$11,$A10,)) | I10: =IF(OFFSET(別記様式第９号!$P$11,$A10,)="","",OFFSET(別記様式第９号!$P$11,$A10,)) | J10: =IF(OFFSET(別記様式第９号!$R$11,$A10,)="","",OFFSET(別記様式第９号!$R$11,$A10,)) | K10: =IF(OFFSET(別記様式第９号!$U$11,$A10,)="","",OFFSET(別記様式第９号!$U$11,$A10,)) | L10: =IF(OFFSET(別記様式第９号!$W$11,$A10,)="","",OFFSET(別記様式第９号!$W$11,$A10,)) | M10: =IF(OFFSET(別記様式第９号!$Z$11,$A10,)="","",OFFSET(別記様式第９号!$Z$11,$A10,)) | N10: =IF(OFFSET(別記様式第９号!$AB$11,$A10,)="","",OFFSET(別記様式第９号!$AB$11,$A10,)) | O10: =IF(OFFSET(別記様式第９号!$AD$11,$A10,)="","",OFFSET(別記様式第９号!$AD$11,$A10,))
A11: 19 | B11: =IF(OFFSET(別記様式第９号!$A$11,$A11,)="","",OFFSET(別記様式第９号!$A$11,$A11,)) | C11: =IF(OFFSET(別記様式第９号!$D$11,$A11,)="","",OFFSET(別記様式第９号!$D$11,$A11,)) | D11: =IF(OFFSET(別記様式第９号!$F$11,$A11,)="","",OFFSET(別記様式第９号!$F$11,$A11,)) | E11: =IF(OFFSET(別記様式第９号!$H$11,$A11,)="","",OFFSET(別記様式第９号!$H$11,$A11,)) | F11: =IF(OFFSET(別記様式第９号!$J$11,$A11,)="","",OFFSET(別記様式第９号!$J$11,$A11,)) | G11: =IF(OFFSET(別記様式第９号!$L$11,$A11,)="","",OFFSET(別記様式第９号!$L$11,$A11,)) | H11: =IF(OFFSET(別記様式第９号!$N$11,$A11,)="","",OFFSET(別記様式第９号!$N$11,$A11,)) | I11: =IF(OFFSET(別記様式第９号!$P$11,$A11,)="","",OFFSET(別記様式第９号!$P$11,$A11,)) | J11: =IF(OFFSET(別記様式第９号!$R$11,$A11,)="","",OFFSET(別記様式第９号!$R$11,$A11,)) | K11: =IF(OFFSET(別記様式第９号!$U$11,$A11,)="","",OFFSET(別記様式第９号!$U$11,$A11,)) | L11: =IF(OFFSET(別記様式第９号!$W$11,$A11,)="","",OFFSET(別記様式第９号!$W$11,$A11,)) | M11: =IF(OFFSET(別記様式第９号!$Z$11,$A11,)="","",OFFSET(別記様式第９号!$Z$11,$A11,)) | N11: =IF(OFFSET(別記様式第９号!$AB$11,$A11,)="","",OFFSET(別記様式第９号!$AB$11,$A11,)) | O11: =IF(OFFSET(別記様式第９号!$AD$11,$A11,)="","",OFFSET(別記様式第９号!$AD$11,$A11,))
A12: 21 | B12: =IF(OFFSET(別記様式第９号!$A$11,$A12,)="","",OFFSET(別記様式第９号!$A$11,$A12,)) | C12: =IF(OFFSET(別記様式第９号!$D$11,$A12,)="","",OFFSET(別記様式第９号!$D$11,$A12,)) | D12: =IF(OFFSET(別記様式第９号!$F$11,$A12,)="","",OFFSET(別記様式第９号!$F$11,$A12,)) | E12: =IF(OFFSET(別記様式第９号!$H$11,$A12,)="","",OFFSET(別記様式第９号!$H$11,$A12,)) | F12: =IF(OFFSET(別記様式第９号!$J$11,$A12,)="","",OFFSET(別記様式第９号!$J$11,$A12,)) | G12: =IF(OFFSET(別記様式第９号!$L$11,$A12,)="","",OFFSET(別記様式第９号!$L$11,$A12,)) | H12: =IF(OFFSET(別記様式第９号!$N$11,$A12,)="","",OFFSET(別記様式第９号!$N$11,$A12,)) | I12: =IF(OFFSET(別記様式第９号!$P$11,$A12,)="","",OFFSET(別記様式第９号!$P$11,$A12,)) | J12: =IF(OFFSET(別記様式第９号!$R$11,$A12,)="","",OFFSET(別記様式第９号!$R$11,$A12,)) | K12: =IF(OFFSET(別記様式第９号!$U$11,$A12,)="","",OFFSET(別記様式第９号!$U$11,$A12,)) | L12: =IF(OFFSET(別記様式第９号!$W$11,$A12,)="","",OFFSET(別記様式第９号!$W$11,$A12,)) | M12: =IF(OFFSET(別記様式第９号!$Z$11,$A12,)="","",OFFSET(別記様式第９号!$Z$11,$A12,)) | N12: =IF(OFFSET(別記様式第９号!$AB$11,$A12,)="","",OFFSET(別記様式第９号!$AB$11,$A12,)) | O12: =IF(OFFSET(別記様式第９号!$AD$11,$A12,)="","",OFFSET(別記様式第９号!$AD$11,$A12,))
A13: 23 | B13: =IF(OFFSET(別記様式第９号!$A$11,$A13,)="","",OFFSET(別記様式第９号!$A$11,$A13,)) | C13: =IF(OFFSET(別記様式第９号!$D$11,$A13,)="","",OFFSET(別記様式第９号!$D$11,$A13,)) | D13: =IF(OFFSET(別記様式第９号!$F$11,$A13,)="","",OFFSET(別記様式第９号!$F$11,$A13,)) | E13: =IF(OFFSET(別記様式第９号!$H$11,$A13,)="","",OFFSET(別記様式第９号!$H$11,$A13,)) | F13: =IF(OFFSET(別記様式第９号!$J$11,$A13,)="","",OFFSET(別記様式第９号!$J$11,$A13,)) | G13: =IF(OFFSET(別記様式第９号!$L$11,$A13,)="","",OFFSET(別記様式第９号!$L$11,$A13,)) | H13: =IF(OFFSET(別記様式第９号!$N$11,$A13,)="","",OFFSET(別記様式第９号!$N$11,$A13,)) | I13: =IF(OFFSET(別記様式第９号!$P$11,$A13,)="","",OFFSET(別記様式第９号!$P$11,$A13,)) | J13: =IF(OFFSET(別記様式第９号!$R$11,$A13,)="","",OFFSET(別記様式第９号!$R$11,$A13,)) | K13: =IF(OFFSET(別記様式第９号!$U$11,$A13,)="","",OFFSET(別記様式第９号!$U$11,$A13,)) | L13: =IF(OFFSET(別記様式第９号!$W$11,$A13,)="","",OFFSET(別記様式第９号!$W$11,$A13,)) | M13: =IF(OFFSET(別記様式第９号!$Z$11,$A13,)="","",OFFSET(別記様式第９号!$Z$11,$A13,)) | N13: =IF(OFFSET(別記様式第９号!$AB$11,$A13,)="","",OFFSET(別記様式第９号!$AB$11,$A13,)) | O13: =IF(OFFSET(別記様式第９号!$AD$11,$A13,)="","",OFFSET(別記様式第９号!$AD$11,$A13,))
... A300: 597 | B300: =IF(OFFSET(別記様式第９号!$A$11,$A300,)="","",OFFSET(別記様式第９号!$A$11,$A300,)) | C300: =IF(OFFSET(別記様式第９号!$D$11,$A300,)="","",OFFSET(別記様式第９号!$D$11,$A300,)) | D300: =IF(OFFSET(別記様式第９号!$F$11,$A300,)="","",OFFSET(別記様式第９号!$F$11,$A300,)) | E300: =IF(OFFSET(別記様式第９号!$H$11,$A300,)="","",OFFSET(別記様式第９号!$H$11,$A300,)) | F300: =IF(OFFSET(別記様式第９号!$J$11,$A300,)="","",OFFSET(別記様式第９号!$J$11,$A300,)) | G300: =IF(OFFSET(別記様式第９号!$L$11,$A300,)="","",OFFSET(別記様式第９号!$L$11,$A300,)) | H300: =IF(OFFSET(別記様式第９号!$N$11,$A300,)="","",OFFSET(別記様式第９号!$N$11,$A300,)) | I300: =IF(OFFSET(別記様式第９号!$P$11,$A300,)="","",OFFSET(別記様式第９号!$P$11,$A300,)) | J300: =IF(OFFSET(別記様式第９号!$R$11,$A300,)="","",OFFSET(別記様式第９号!$R$11,$A300,)) | K300: =IF(OFFSET(別記様式第９号!$U$11,$A300,)="","",OFFSET(別記様式第９号!$U$11,$A300,)) | L300: =IF(OFFSET(別記様式第９号!$W$11,$A300,)="","",OFFSET(別記様式第９号!$W$11,$A300,)) | M300: =IF(OFFSET(別記様式第９号!$Z$11,$A300,)="","",OFFSET(別記様式第９号!$Z$11,$A300,)) | N300: =IF(OFFSET(別記様式第９号!$AB$11,$A300,)="","",OFFSET(別記様式第９号!$AB$11,$A300,)) | O300: =IF(OFFSET(別記様式第９号!$AD$11,$A300,)="","",OFFSET(別記様式第９号!$AD$11,$A300,))

Sheet データ取込シート_別記様式第９号
A1: 交付対象事業名18 | B1: 交付決定の額18 | C1: 補助率18 | D1: 歳入：科目18 | E1: 歳入：予算現額18 | F1: 歳入：収入済額18 | G1: 歳出：科目18 | H1: 歳出：予算現額18 | I1: うち国庫負担金相当額181 | J1: 歳出：支出済額18 | K1: うち国庫負担金相当額182 | L1: 歳出：翌年度繰越額18 | M1: うち国庫負担金相当額183 | N1: 備考18
A2: =IF(COUNTIF(データ整理_別記様式第９号!$B$2:'データ整理_別記様式第９号'!$B2,"この線より上に行を挿入してください。")=0,データ整理_別記様式第９号!B2,"") | B2: =IF(COUNTIF(データ整理_別記様式第９号!$B$2:'データ整理_別記様式第９号'!$B2,"この線より上に行を挿入してください。")=0,データ整理_別記様式第９号!C2,"") | C2: =IF(COUNTIF(データ整理_別記様式第９号!$B$2:'データ整理_別記様式第９号'!$B2,"この線より上に行を挿入してください。")=0,データ整理_別記様式第９号!D2,"") | D2: =IF(COUNTIF(データ整理_別記様式第９号!$B$2:'データ整理_別記様式第９号'!$B2,"この線より上に行を挿入してください。")=0,データ整理_別記様式第９号!E2,"") | E2: =IF(COUNTIF(データ整理_別記様式第９号!$B$2:'データ整理_別記様式第９号'!$B2,"この線より上に行を挿入してください。")=0,データ整理_別記様式第９号!F2,"") | F2: =IF(COUNTIF(データ整理_別記様式第９号!$B$2:'データ整理_別記様式第９号'!$B2,"この線より上に行を挿入してください。")=0,データ整理_別記様式第９号!G2,"") | G2: =IF(COUNTIF(データ整理_別記様式第９号!$B$2:'データ整理_別記様式第９号'!$B2,"この線より上に行を挿入してください。")=0,データ整理_別記様式第９号!H2,"") | H2: =IF(COUNTIF(データ整理_別記様式第９号!$B$2:'データ整理_別記様式第９号'!$B2,"この線より上に行を挿入してください。")=0,データ整理_別記様式第９号!I2,"") | ... N2: =IF(COUNTIF(データ整理_別記様式第９号!$B$2:'データ整理_別記様式第９号'!$B2,"この線より上に行を挿入してください。")=0,データ整理_別記様式第９号!O2,"")
A3: =IF(COUNTIF(データ整理_別記様式第９号!$B$2:'データ整理_別記様式第９号'!$B3,"この線より上に行を挿入してください。")=0,データ整理_別記様式第９号!B3,"") | B3: =IF(COUNTIF(データ整理_別記様式第９号!$B$2:'データ整理_別記様式第９号'!$B3,"この線より上に行を挿入してください。")=0,データ整理_別記様式第９号!C3,"") | C3: =IF(COUNTIF(データ整理_別記様式第９号!$B$2:'データ整理_別記様式第９号'!$B3,"この線より上に行を挿入してください。")=0,データ整理_別記様式第９号!D3,"") | D3: =IF(COUNTIF(データ整理_別記様式第９号!$B$2:'データ整理_別記様式第９号'!$B3,"この線より上に行を挿入してください。")=0,データ整理_別記様式第９号!E3,"") | E3: =IF(COUNTIF(データ整理_別記様式第９号!$B$2:'データ整理_別記様式第９号'!$B3,"この線より上に行を挿入してください。")=0,データ整理_別記様式第９号!F3,"") | F3: =IF(COUNTIF(データ整理_別記様式第９号!$B$2:'データ整理_別記様式第９号'!$B3,"この線より上に行を挿入してください。")=0,データ整理_別記様式第９号!G3,"") | G3: =IF(COUNTIF(データ整理_別記様式第９号!$B$2:'データ整理_別記様式第９号'!$B3,"この線より上に行を挿入してください。")=0,データ整理_別記様式第９号!H3,"") | H3: =IF(COUNTIF(データ整理_別記様式第９号!$B$2:'データ整理_別記様式第９号'!$B3,"この線より上に行を挿入してください。")=0,データ整理_別記様式第９号!I3,"") | ... N3: =IF(COUNTIF(データ整理_別記様式第９号!$B$2:'データ整理_別記様式第９号'!$B3,"この線より上に行を挿入してください。")=0,データ整理_別記様式第９号!O3,"")
A4: =IF(COUNTIF(データ整理_別記様式第９号!$B$2:'データ整理_別記様式第９号'!$B4,"この線より上に行を挿入してください。")=0,データ整理_別記様式第９号!B4,"") | B4: =IF(COUNTIF(データ整理_別記様式第９号!$B$2:'データ整理_別記様式第９号'!$B4,"この線より上に行を挿入してください。")=0,データ整理_別記様式第９号!C4,"") | C4: =IF(COUNTIF(データ整理_別記様式第９号!$B$2:'データ整理_別記様式第９号'!$B4,"この線より上に行を挿入してください。")=0,データ整理_別記様式第９号!D4,"") | D4: =IF(COUNTIF(データ整理_別記様式第９号!$B$2:'データ整理_別記様式第９号'!$B4,"この線より上に行を挿入してください。")=0,データ整理_別記様式第９号!E4,"") | E4: =IF(COUNTIF(データ整理_別記様式第９号!$B$2:'データ整理_別記様式第９号'!$B4,"この線より上に行を挿入してください。")=0,データ整理_別記様式第９号!F4,"") | F4: =IF(COUNTIF(データ整理_別記様式第９号!$B$2:'データ整理_別記様式第９号'!$B4,"この線より上に行を挿入してください。")=0,データ整理_別記様式第９号!G4,"") | G4: =IF(COUNTIF(データ整理_別記様式第９号!$B$2:'データ整理_別記様式第９号'!$B4,"この線より上に行を挿入してください。")=0,データ整理_別記様式第９号!H4,"") | H4: =IF(COUNTIF(データ整理_別記様式第９号!$B$2:'データ整理_別記様式第９号'!$B4,"この線より上に行を挿入してください。")=0,データ整理_別記様式第９号!I4,"") | ... N4: =IF(COUNTIF(データ整理_別記様式第９号!$B$2:'データ整理_別記様式第９号'!$B4,"この線より上に行を挿入してください。")=0,データ整理_別記様式第９号!O4,"")
A5: =IF(COUNTIF(データ整理_別記様式第９号!$B$2:'データ整理_別記様式第９号'!$B5,"この線より上に行を挿入してください。")=0,データ整理_別記様式第９号!B5,"") | B5: =IF(COUNTIF(データ整理_別記様式第９号!$B$2:'データ整理_別記様式第９号'!$B5,"この線より上に行を挿入してください。")=0,データ整理_別記様式第９号!C5,"") | C5: =IF(COUNTIF(データ整理_別記様式第９号!$B$2:'データ整理_別記様式第９号'!$B5,"この線より上に行を挿入してください。")=0,データ整理_別記様式第９号!D5,"") | D5: =IF(COUNTIF(データ整理_別記様式第９号!$B$2:'データ整理_別記様式第９号'!$B5,"この線より上に行を挿入してください。")=0,データ整理_別記様式第９号!E5,"") | E5: =IF(COUNTIF(データ整理_別記様式第９号!$B$2:'データ整理_別記様式第９号'!$B5,"この線より上に行を挿入してください。")=0,データ整理_別記様式第９号!F5,"") | F5: =IF(COUNTIF(データ整理_別記様式第９号!$B$2:'データ整理_別記様式第９号'!$B5,"この線より上に行を挿入してください。")=0,データ整理_別記様式第９号!G5,"") | G5: =IF(COUNTIF(データ整理_別記様式第９号!$B$2:'データ整理_別記様式第９号'!$B5,"この線より上に行を挿入してください。")=0,データ整理_別記様式第９号!H5,"") | H5: =IF(COUNTIF(データ整理_別記様式第９号!$B$2:'データ整理_別記様式第９号'!$B5,"この線より上に行を挿入してください。")=0,データ整理_別記様式第９号!I5,"") | ... N5: =IF(COUNTIF(データ整理_別記様式第９号!$B$2:'データ整理_別記様式第９号'!$B5,"この線より上に行を挿入してください。")=0,データ整理_別記様式第９号!O5,"")
A6: =IF(COUNTIF(データ整理_別記様式第９号!$B$2:'データ整理_別記様式第９号'!$B6,"この線より上に行を挿入してください。")=0,データ整理_別記様式第９号!B6,"") | B6: =IF(COUNTIF(データ整理_別記様式第９号!$B$2:'データ整理_別記様式第９号'!$B6,"この線より上に行を挿入してください。")=0,データ整理_別記様式第９号!C6,"") | C6: =IF(COUNTIF(データ整理_別記様式第９号!$B$2:'データ整理_別記様式第９号'!$B6,"この線より上に行を挿入してください。")=0,データ整理_別記様式第９号!D6,"") | D6: =IF(COUNTIF(データ整理_別記様式第９号!$B$2:'データ整理_別記様式第９号'!$B6,"この線より上に行を挿入してください。")=0,データ整理_別記様式第９号!E6,"") | E6: =IF(COUNTIF(データ整理_別記様式第９号!$B$2:'データ整理_別記様式第９号'!$B6,"この線より上に行を挿入してください。")=0,データ整理_別記様式第９号!F6,"") | F6: =IF(COUNTIF(データ整理_別記様式第９号!$B$2:'データ整理_別記様式第９号'!$B6,"この線より上に行を挿入してください。")=0,データ整理_別記様式第９号!G6,"") | G6: =IF(COUNTIF(データ整理_別記様式第９号!$B$2:'データ整理_別記様式第９号'!$B6,"この線より上に行を挿入してください。")=0,データ整理_別記様式第９号!H6,"") | H6: =IF(COUNTIF(データ整理_別記様式第９号!$B$2:'データ整理_別記様式第９号'!$B6,"この線より上に行を挿入してください。")=0,データ整理_別記様式第９号!I6,"") | ... N6: =IF(COUNTIF(データ整理_別記様式第９号!$B$2:'データ整理_別記様式第９号'!$B6,"この線より上に行を挿入してください。")=0,データ整理_別記様式第９号!O6,"")
A7: =IF(COUNTIF(データ整理_別記様式第９号!$B$2:'データ整理_別記様式第９号'!$B7,"この線より上に行を挿入してください。")=0,データ整理_別記様式第９号!B7,"") | B7: =IF(COUNTIF(データ整理_別記様式第９号!$B$2:'データ整理_別記様式第９号'!$B7,"この線より上に行を挿入してください。")=0,データ整理_別記様式第９号!C7,"") | C7: =IF(COUNTIF(データ整理_別記様式第９号!$B$2:'データ整理_別記様式第９号'!$B7,"この線より上に行を挿入してください。")=0,データ整理_別記様式第９号!D7,"") | D7: =IF(COUNTIF(データ整理_別記様式第９号!$B$2:'データ整理_別記様式第９号'!$B7,"この線より上に行を挿入してください。")=0,データ整理_別記様式第９号!E7,"") | E7: =IF(COUNTIF(データ整理_別記様式第９号!$B$2:'データ整理_別記様式第９号'!$B7,"この線より上に行を挿入してください。")=0,データ整理_別記様式第９号!F7,"") | F7: =IF(COUNTIF(データ整理_別記様式第９号!$B$2:'データ整理_別記様式第９号'!$B7,"この線より上に行を挿入してください。")=0,データ整理_別記様式第９号!G7,"") | G7: =IF(COUNTIF(データ整理_別記様式第９号!$B$2:'データ整理_別記様式第９号'!$B7,"この線より上に行を挿入してください。")=0,データ整理_別記様式第９号!H7,"") | H7: =IF(COUNTIF(データ整理_別記様式第９号!$B$2:'データ整理_別記様式第９号'!$B7,"この線より上に行を挿入してください。")=0,データ整理_別記様式第９号!I7,"") | ... N7: =IF(COUNTIF(データ整理_別記様式第９号!$B$2:'データ整理_別記様式第９号'!$B7,"この線より上に行を挿入してください。")=0,データ整理_別記様式第９号!O7,"")
A8: =IF(COUNTIF(データ整理_別記様式第９号!$B$2:'データ整理_別記様式第９号'!$B8,"この線より上に行を挿入してください。")=0,データ整理_別記様式第９号!B8,"") | B8: =IF(COUNTIF(データ整理_別記様式第９号!$B$2:'データ整理_別記様式第９号'!$B8,"この線より上に行を挿入してください。")=0,データ整理_別記様式第９号!C8,"") | C8: =IF(COUNTIF(データ整理_別記様式第９号!$B$2:'データ整理_別記様式第９号'!$B8,"この線より上に行を挿入してください。")=0,データ整理_別記様式第９号!D8,"") | D8: =IF(COUNTIF(データ整理_別記様式第９号!$B$2:'データ整理_別記様式第９号'!$B8,"この線より上に行を挿入してください。")=0,データ整理_別記様式第９号!E8,"") | E8: =IF(COUNTIF(データ整理_別記様式第９号!$B$2:'データ整理_別記様式第９号'!$B8,"この線より上に行を挿入してください。")=0,データ整理_別記様式第９号!F8,"") | F8: =IF(COUNTIF(データ整理_別記様式第９号!$B$2:'データ整理_別記様式第９号'!$B8,"この線より上に行を挿入してください。")=0,データ整理_別記様式第９号!G8,"") | G8: =IF(COUNTIF(データ整理_別記様式第９号!$B$2:'データ整理_別記様式第９号'!$B8,"この線より上に行を挿入してください。")=0,データ整理_別記様式第９号!H8,"") | H8: =IF(COUNTIF(データ整理_別記様式第９号!$B$2:'データ整理_別記様式第９号'!$B8,"この線より上に行を挿入してください。")=0,データ整理_別記様式第９号!I8,"") | ... N8: =IF(COUNTIF(データ整理_別記様式第９号!$B$2:'データ整理_別記様式第９号'!$B8,"この線より上に行を挿入してください。")=0,データ整理_別記様式第９号!O8,"")
A9: =IF(COUNTIF(データ整理_別記様式第９号!$B$2:'データ整理_別記様式第９号'!$B9,"この線より上に行を挿入してください。")=0,データ整理_別記様式第９号!B9,"") | B9: =IF(COUNTIF(データ整理_別記様式第９号!$B$2:'データ整理_別記様式第９号'!$B9,"この線より上に行を挿入してください。")=0,データ整理_別記様式第９号!C9,"") | C9: =IF(COUNTIF(データ整理_別記様式第９号!$B$2:'データ整理_別記様式第９号'!$B9,"この線より上に行を挿入してください。")=0,データ整理_別記様式第９号!D9,"") | D9: =IF(COUNTIF(データ整理_別記様式第９号!$B$2:'データ整理_別記様式第９号'!$B9,"この線より上に行を挿入してください。")=0,データ整理_別記様式第９号!E9,"") | E9: =IF(COUNTIF(データ整理_別記様式第９号!$B$2:'データ整理_別記様式第９号'!$B9,"この線より上に行を挿入してください。")=0,データ整理_別記様式第９号!F9,"") | F9: =IF(COUNTIF(データ整理_別記様式第９号!$B$2:'データ整理_別記様式第９号'!$B9,"この線より上に行を挿入してください。")=0,データ整理_別記様式第９号!G9,"") | G9: =IF(COUNTIF(データ整理_別記様式第９号!$B$2:'データ整理_別記様式第９号'!$B9,"この線より上に行を挿入してください。")=0,データ整理_別記様式第９号!H9,"") | H9: =IF(COUNTIF(データ整理_別記様式第９号!$B$2:'データ整理_別記様式第９号'!$B9,"この線より上に行を挿入してください。")=0,データ整理_別記様式第９号!I9,"") | ... N9: =IF(COUNTIF(データ整理_別記様式第９号!$B$2:'データ整理_別記様式第９号'!$B9,"この線より上に行を挿入してください。")=0,データ整理_別記様式第９号!O9,"")
A10: =IF(COUNTIF(データ整理_別記様式第９号!$B$2:'データ整理_別記様式第９号'!$B10,"この線より上に行を挿入してください。")=0,データ整理_別記様式第９号!B10,"") | B10: =IF(COUNTIF(データ整理_別記様式第９号!$B$2:'データ整理_別記様式第９号'!$B10,"この線より上に行を挿入してください。")=0,データ整理_別記様式第９号!C10,"") | C10: =IF(COUNTIF(データ整理_別記様式第９号!$B$2:'データ整理_別記様式第９号'!$B10,"この線より上に行を挿入してください。")=0,データ整理_別記様式第９号!D10,"") | D10: =IF(COUNTIF(データ整理_別記様式第９号!$B$2:'データ整理_別記様式第９号'!$B10,"この線より上に行を挿入してください。")=0,データ整理_別記様式第９号!E10,"") | E10: =IF(COUNTIF(データ整理_別記様式第９号!$B$2:'データ整理_別記様式第９号'!$B10,"この線より上に行を挿入してください。")=0,データ整理_別記様式第９号!F10,"") | F10: =IF(COUNTIF(データ整理_別記様式第９号!$B$2:'データ整理_別記様式第９号'!$B10,"この線より上に行を挿入してください。")=0,データ整理_別記様式第９号!G10,"") | G10: =IF(COUNTIF(データ整理_別記様式第９号!$B$2:'データ整理_別記様式第９号'!$B10,"この線より上に行を挿入してください。")=0,データ整理_別記様式第９号!H10,"") | H10: =IF(COUNTIF(データ整理_別記様式第９号!$B$2:'データ整理_別記様式第９号'!$B10,"この線より上に行を挿入してください。")=0,データ整理_別記様式第９号!I10,"") | ... N10: =IF(COUNTIF(データ整理_別記様式第９号!$B$2:'データ整理_別記様式第９号'!$B10,"この線より上に行を挿入してください。")=0,データ整理_別記様式第９号!O10,"")
A11: =IF(COUNTIF(データ整理_別記様式第９号!$B$2:'データ整理_別記様式第９号'!$B11,"この線より上に行を挿入してください。")=0,データ整理_別記様式第９号!B11,"") | B11: =IF(COUNTIF(データ整理_別記様式第９号!$B$2:'データ整理_別記様式第９号'!$B11,"この線より上に行を挿入してください。")=0,データ整理_別記様式第９号!C11,"") | C11: =IF(COUNTIF(データ整理_別記様式第９号!$B$2:'データ整理_別記様式第９号'!$B11,"この線より上に行を挿入してください。")=0,データ整理_別記様式第９号!D11,"") | D11: =IF(COUNTIF(データ整理_別記様式第９号!$B$2:'データ整理_別記様式第９号'!$B11,"この線より上に行を挿入してください。")=0,データ整理_別記様式第９号!E11,"") | E11: =IF(COUNTIF(データ整理_別記様式第９号!$B$2:'データ整理_別記様式第９号'!$B11,"この線より上に行を挿入してください。")=0,データ整理_別記様式第９号!F11,"") | F11: =IF(COUNTIF(データ整理_別記様式第９号!$B$2:'データ整理_別記様式第９号'!$B11,"この線より上に行を挿入してください。")=0,データ整理_別記様式第９号!G11,"") | G11: =IF(COUNTIF(データ整理_別記様式第９号!$B$2:'データ整理_別記様式第９号'!$B11,"この線より上に行を挿入してください。")=0,データ整理_別記様式第９号!H11,"") | H11: =IF(COUNTIF(データ整理_別記様式第９号!$B$2:'データ整理_別記様式第９号'!$B11,"この線より上に行を挿入してください。")=0,データ整理_別記様式第９号!I11,"") | ... N11: =IF(COUNTIF(データ整理_別記様式第９号!$B$2:'データ整理_別記様式第９号'!$B11,"この線より上に行を挿入してください。")=0,データ整理_別記様式第９号!O11,"")
A12: =IF(COUNTIF(データ整理_別記様式第９号!$B$2:'データ整理_別記様式第９号'!$B12,"この線より上に行を挿入してください。")=0,データ整理_別記様式第９号!B12,"") | B12: =IF(COUNTIF(データ整理_別記様式第９号!$B$2:'データ整理_別記様式第９号'!$B12,"この線より上に行を挿入してください。")=0,データ整理_別記様式第９号!C12,"") | C12: =IF(COUNTIF(データ整理_別記様式第９号!$B$2:'データ整理_別記様式第９号'!$B12,"この線より上に行を挿入してください。")=0,データ整理_別記様式第９号!D12,"") | D12: =IF(COUNTIF(データ整理_別記様式第９号!$B$2:'データ整理_別記様式第９号'!$B12,"この線より上に行を挿入してください。")=0,データ整理_別記様式第９号!E12,"") | E12: =IF(COUNTIF(データ整理_別記様式第９号!$B$2:'データ整理_別記様式第９号'!$B12,"この線より上に行を挿入してください。")=0,データ整理_別記様式第９号!F12,"") | F12: =IF(COUNTIF(データ整理_別記様式第９号!$B$2:'データ整理_別記様式第９号'!$B12,"この線より上に行を挿入してください。")=0,データ整理_別記様式第９号!G12,"") | G12: =IF(COUNTIF(データ整理_別記様式第９号!$B$2:'データ整理_別記様式第９号'!$B12,"この線より上に行を挿入してください。")=0,データ整理_別記様式第９号!H12,"") | H12: =IF(COUNTIF(データ整理_別記様式第９号!$B$2:'データ整理_別記様式第９号'!$B12,"この線より上に行を挿入してください。")=0,データ整理_別記様式第９号!I12,"") | ... N12: =IF(COUNTIF(データ整理_別記様式第９号!$B$2:'データ整理_別記様式第９号'!$B12,"この線より上に行を挿入してください。")=0,データ整理_別記様式第９号!O12,"")
A13: =IF(COUNTIF(データ整理_別記様式第９号!$B$2:'データ整理_別記様式第９号'!$B13,"この線より上に行を挿入してください。")=0,データ整理_別記様式第９号!B13,"") | B13: =IF(COUNTIF(データ整理_別記様式第９号!$B$2:'データ整理_別記様式第９号'!$B13,"この線より上に行を挿入してください。")=0,データ整理_別記様式第９号!C13,"") | C13: =IF(COUNTIF(データ整理_別記様式第９号!$B$2:'データ整理_別記様式第９号'!$B13,"この線より上に行を挿入してください。")=0,データ整理_別記様式第９号!D13,"") | D13: =IF(COUNTIF(データ整理_別記様式第９号!$B$2:'データ整理_別記様式第９号'!$B13,"この線より上に行を挿入してください。")=0,データ整理_別記様式第９号!E13,"") | E13: =IF(COUNTIF(データ整理_別記様式第９号!$B$2:'データ整理_別記様式第９号'!$B13,"この線より上に行を挿入してください。")=0,データ整理_別記様式第９号!F13,"") | F13: =IF(COUNTIF(データ整理_別記様式第９号!$B$2:'データ整理_別記様式第９号'!$B13,"この線より上に行を挿入してください。")=0,データ整理_別記様式第９号!G13,"") | G13: =IF(COUNTIF(データ整理_別記様式第９号!$B$2:'データ整理_別記様式第９号'!$B13,"この線より上に行を挿入してください。")=0,データ整理_別記様式第９号!H13,"") | H13: =IF(COUNTIF(データ整理_別記様式第９号!$B$2:'データ整理_別記様式第９号'!$B13,"この線より上に行を挿入してください。")=0,データ整理_別記様式第９号!I13,"") | ... N13: =IF(COUNTIF(データ整理_別記様式第９号!$B$2:'データ整理_別記様式第９号'!$B13,"この線より上に行を挿入してください。")=0,データ整理_別記様式第９号!O13,"")
... A300: =IF(COUNTIF(データ整理_別記様式第９号!$B$2:'データ整理_別記様式第９号'!$B300,"この線より上に行を挿入してください。")=0,データ整理_別記様式第９号!B300,"") | B300: =IF(COUNTIF(データ整理_別記様式第９号!$B$2:'データ整理_別記様式第９号'!$B300,"この線より上に行を挿入してください。")=0,データ整理_別記様式第９号!C300,"") | C300: =IF(COUNTIF(データ整理_別記様式第９号!$B$2:'データ整理_別記様式第９号'!$B300,"この線より上に行を挿入してください。")=0,データ整理_別記様式第９号!D300,"") | D300: =IF(COUNTIF(データ整理_別記様式第９号!$B$2:'データ整理_別記様式第９号'!$B300,"この線より上に行を挿入してください。")=0,データ整理_別記様式第９号!E300,"") | E300: =IF(COUNTIF(データ整理_別記様式第９号!$B$2:'データ整理_別記様式第９号'!$B300,"この線より上に行を挿入してください。")=0,データ整理_別記様式第９号!F300,"") | F300: =IF(COUNTIF(データ整理_別記様式第９号!$B$2:'データ整理_別記様式第９号'!$B300,"この線より上に行を挿入してください。")=0,データ整理_別記様式第９号!G300,"") | G300: =IF(COUNTIF(データ整理_別記様式第９号!$B$2:'データ整理_別記様式第９号'!$B300,"この線より上に行を挿入してください。")=0,データ整理_別記様式第９号!H300,"") | H300: =IF(COUNTIF(データ整理_別記様式第９号!$B$2:'データ整理_別記様式第９号'!$B300,"この線より上に行を挿入してください。")=0,データ整理_別記様式第９号!I300,"") | ... N300: =IF(COUNTIF(データ整理_別記様式第９号!$B$2:'データ整理_別記様式第９号'!$B300,"この線より上に行を挿入してください。")=0,データ整理_別記様式第９号!O300,"")
