Workbook

Sheet 別記様式第５号
A1: 別記様式第５号（第９関係）
A4: ○○年度多面的機能支払交付金事業遂行状況報告書
A10: 地方農政局長 殿
A11: （北海道にあっては農林水産大臣、
A12: 沖縄県にあっては内閣府沖縄総合事務局長）
A14: 都道府県知事 氏 名
E16: 付け | J16: をもって多面的機能支払交付金の交付決定通知
A17: のあった事業について、多面的機能支払交付金交付要綱第９の規定に基づき、その遂行状況を下記のとおり報告する。
A20: 記
A22: 事業遂行状況
A23: 経費区分 | E23: 国 費（A) | I23: 事業遂行状況（B) | M23: 進捗率 （B)/(A) | Q23: 備考
I25: までに
I26: 完了したもの。
A27: 農地維持支払交付金 | E27: 0 | I27: 0 | M27: =I27/E27 -> #DIV/0!
A28: 資源向上支払交付金 | E28: 0 | I28: 0 | M28: =I28/E28 -> #DIV/0!
A29: 計 | E29: =E27+E28 -> 0 | I29: =I27+I28 -> 0 | M29: =I29/E29 -> #DIV/0!
A30: （注）「事業の遂行状況」の欄には、交付金の支払金額を記載すること。

Sheet 【記入例】別記様式第５号
A1: 別記様式第５号（第９関係）
A4: ○○年度多面的機能支払交付金事業遂行状況報告書
Q7: 番 号
Q8: 45017
A10: 地方農政局長 殿
A11: （北海道にあっては農林水産大臣、
A12: 沖縄県にあっては内閣府沖縄総合事務局長）
A14: 都道府県知事 氏 名 | P14: テスト１
B16: 45017 | E16: 付け | F16: 第 号 | J16: をもって多面的機能支払交付金の交付決定通知
A17: のあった事業について、多面的機能支払交付金交付要綱第９の規定に基づき、その遂行状況を下記のとおり報告する。
A20: 記
A22: 事業遂行状況
A23: 経費区分 | E23: 国 費（A) | I23: 事業遂行状況（B) | M23: 進捗率 （B)/(A) | Q23: 備考
I24: 45017
I25: までに
I26: 完了したもの。
A27: 農地維持支払交付金 | E27: 1000 | I27: 200 | M27: =I27/E27 -> 0.2
A28: 資源向上支払交付金 | E28: 500 | I28: 100 | M28: =I28/E28 -> 0.2
A29: 計 | E29: =E27+E28 -> 1500 | I29: =I27+I28 -> 300 | M29: =I29/E29 -> 0.2
A30: （注）「事業の遂行状況」の欄には、交付金の支払金額を記載すること。

Sheet データ取込シート_別記様式第５号
A1: 文書番号 | B1: 作成年月日 | C1: 都道府県知事 氏名 | D1: 交付決定通知の文書番号 | E1: 交付決定通知の日付 | F1: 事業遂行状況(B)（完了年月日） | G1: 経費区分 | H1: 国費(A) | I1: 事業遂行状況(B) | J1: 備考
A2: =IF(別記様式第５号!Q7<>"",別記様式第５号!Q7,"") | B2: =IF(別記様式第５号!Q8<>"",別記様式第５号!Q8,"") | C2: =IF(別記様式第５号!P14<>"",別記様式第５号!P14,"") | D2: =IF(別記様式第５号!F16<>"",別記様式第５号!F16,"") | E2: =IF(別記様式第５号!B16<>"",別記様式第５号!B16,"") | F2: =IF(別記様式第５号!I24<>"",別記様式第５号!I24,"") | G2: 農地維持支払交付金 | H2: =IF(別記様式第５号!E27<>"",別記様式第５号!E27,"") -> 0 | I2: =IF(別記様式第５号!I27<>"",別記様式第５号!I27,"") -> 0 | J2: =IF(別記様式第５号!Q27<>"",別記様式第５号!Q27,"")
G3: 資源向上支払交付金 | H3: =IF(別記様式第５号!E28<>"",別記様式第５号!E28,"") -> 0 | I3: =IF(別記様式第５号!I28<>"",別記様式第５号!I28,"") -> 0 | J3: =IF(別記様式第５号!Q28<>"",別記様式第５号!Q28,"")
G4: 計 | J4: =IF(別記様式第５号!Q29<>"",別記様式第５号!Q29,"")
