Workbook

Sheet 様式第2-12号
A1: （様式第２－12号）
A2: 【市町村から都道府県に提出するもの】 農林水産省様式
A4: 農業の有する多面的機能の発揮の促進に関する計画
A6: ○○市（区、町、村）
A8: １ 促進計画の区域
A13: ２ 促進計画の目標
A15: １．地域
A16: (1) 現況
A17: (2) 目標
A18: ２．地域
A19: (1) 現況
A20: (2) 目標
... A22: ３ 法第６条第２項第１号の区域内においてその実施を推進する多面的機能発揮促進事業に関する事項
B23: 実施を推進する区域 | D23: 実施を推進する事業
A25: ①
A28: ②
A30: ②
A31: ③
A34: この線より上に行を挿入してください。
A35: ４ 法第６条第２項第１号の区域内において特に重点的に多面的機能発揮促進事業の実施を推進する区域を定める場合にあっては、その区域
A40: ５ その他促進計画の実施に関し市町村が必要と認める事項
A45: （注） 市町村の判断により必要と認める事項について記載してください。

Sheet 【記入例】様式第2-12号
A1: （様式第２－12号）
A2: 【市町村から都道府県に提出するもの】 農林水産省様式
A4: 農業の有する多面的機能の発揮の促進に関する計画
A6: ○○市（区、町、村）
A8: １ 促進計画の区域
A9: 別紙地図に記載のとおりとする。 （「次に掲げる地番の土地の区域とする。」等でも可。）
A13: ２ 促進計画の目標
A15: １．地域 | C15: 例：旧○○町地域
A16: (1) 現況
A17: (2) 目標
A18: ２．地域 | C18: 例：旧○○町地域
A19: (1) 現況
A20: (2) 目標
A21: この線より上に行を挿入してください。
A22: ３ 法第６条第２項第１号の区域内においてその実施を推進する多面的機能発揮促進事業に関する事項
B23: 実施を推進する区域 | D23: 実施を推進する事業
A25: ① | B25: （例）○○区域 | D25: 法第３条第３項第１号に掲げる事業及び同項第２号に掲げる事業
A28: ②
A30: ②
A31: ③
A34: この線より上に行を挿入してください。
A35: ４ 法第６条第２項第１号の区域内において特に重点的に多面的機能発揮促進事業の実施を推進する区域を定める場合にあっては、その区域
A36: テスト１
A40: ５ その他促進計画の実施に関し市町村が必要と認める事項
A41: テスト２
A45: （注） 市町村の判断により必要と認める事項について記載してください。

Sheet データ整理_様式第2-12号
B1: 判定 | C1: 2-1地域 | D1: 2-2現況 | E1: 2-3目標 | G1: 判定 | H1: 実施を推進する区域 | I1: 実施を推進する事業
A2: 2 | B2: =IF(OFFSET('様式第2-12号'!$A$13,$A2,)="","",OFFSET('様式第2-12号'!$A$13,$A2,)) -> １．地域 | C2: =IF(OFFSET('様式第2-12号'!$C$13,$A2,)="","",OFFSET('様式第2-12号'!$C$13,$A2,)) | D2: =IF(OFFSET('様式第2-12号'!$C$13,$A2+1,)="","",OFFSET('様式第2-12号'!$C$13,$A2+1,)) | E2: =IF(OFFSET('様式第2-12号'!$C$13,$A2+2,)="","",OFFSET('様式第2-12号'!$C$13,$A2+2,)) | F2: 2 | G2: =IF(OFFSET('様式第2-12号'!$A$23,$F2,)="","",OFFSET('様式第2-12号'!$A$23,$F2,)) -> ① | H2: =IF(OFFSET('様式第2-12号'!$B$23,$F2,)="","",OFFSET('様式第2-12号'!$B$23,$F2,)) | I2: =IF(OFFSET('様式第2-12号'!$D$23,$F2,)="","",OFFSET('様式第2-12号'!$D$23,$F2,))
A3: 5 | B3: =IF(OFFSET('様式第2-12号'!$A$13,$A3,)="","",OFFSET('様式第2-12号'!$A$13,$A3,)) -> ２．地域 | C3: =IF(OFFSET('様式第2-12号'!$C$13,$A3,)="","",OFFSET('様式第2-12号'!$C$13,$A3,)) | D3: =IF(OFFSET('様式第2-12号'!$C$13,$A3+1,)="","",OFFSET('様式第2-12号'!$C$13,$A3+1,)) | E3: =IF(OFFSET('様式第2-12号'!$C$13,$A3+2,)="","",OFFSET('様式第2-12号'!$C$13,$A3+2,)) | F3: 5 | G3: =IF(OFFSET('様式第2-12号'!$A$23,$F3,)="","",OFFSET('様式第2-12号'!$A$23,$F3,)) -> ② | H3: =IF(OFFSET('様式第2-12号'!$B$23,$F3,)="","",OFFSET('様式第2-12号'!$B$23,$F3,)) | I3: =IF(OFFSET('様式第2-12号'!$D$23,$F3,)="","",OFFSET('様式第2-12号'!$D$23,$F3,))
A4: 8 | B4: =IF(OFFSET('様式第2-12号'!$A$13,$A4,)="","",OFFSET('様式第2-12号'!$A$13,$A4,)) -> この線より上に行を挿入してください。 | C4: =IF(OFFSET('様式第2-12号'!$C$13,$A4,)="","",OFFSET('様式第2-12号'!$C$13,$A4,)) | D4: =IF(OFFSET('様式第2-12号'!$C$13,$A4+1,)="","",OFFSET('様式第2-12号'!$C$13,$A4+1,)) | E4: =IF(OFFSET('様式第2-12号'!$C$13,$A4+2,)="","",OFFSET('様式第2-12号'!$C$13,$A4+2,)) | F4: 8 | G4: =IF(OFFSET('様式第2-12号'!$A$23,$F4,)="","",OFFSET('様式第2-12号'!$A$23,$F4,)) -> ③ | H4: =IF(OFFSET('様式第2-12号'!$B$23,$F4,)="","",OFFSET('様式第2-12号'!$B$23,$F4,)) | I4: =IF(OFFSET('様式第2-12号'!$D$23,$F4,)="","",OFFSET('様式第2-12号'!$D$23,$F4,))
A5: 11 | B5: =IF(OFFSET('様式第2-12号'!$A$13,$A5,)="","",OFFSET('様式第2-12号'!$A$13,$A5,)) | C5: =IF(OFFSET('様式第2-12号'!$C$13,$A5,)="","",OFFSET('様式第2-12号'!$C$13,$A5,)) | D5: =IF(OFFSET('様式第2-12号'!$C$13,$A5+1,)="","",OFFSET('様式第2-12号'!$C$13,$A5+1,)) | E5: =IF(OFFSET('様式第2-12号'!$C$13,$A5+2,)="","",OFFSET('様式第2-12号'!$C$13,$A5+2,)) | F5: 11 | G5: =IF(OFFSET('様式第2-12号'!$A$23,$F5,)="","",OFFSET('様式第2-12号'!$A$23,$F5,)) -> この線より上に行を挿入してください。 | H5: =IF(OFFSET('様式第2-12号'!$B$23,$F5,)="","",OFFSET('様式第2-12号'!$B$23,$F5,)) | I5: =IF(OFFSET('様式第2-12号'!$D$23,$F5,)="","",OFFSET('様式第2-12号'!$D$23,$F5,))
A6: 14 | B6: =IF(OFFSET('様式第2-12号'!$A$13,$A6,)="","",OFFSET('様式第2-12号'!$A$13,$A6,)) | C6: =IF(OFFSET('様式第2-12号'!$C$13,$A6,)="","",OFFSET('様式第2-12号'!$C$13,$A6,)) | D6: =IF(OFFSET('様式第2-12号'!$C$13,$A6+1,)="","",OFFSET('様式第2-12号'!$C$13,$A6+1,)) | E6: =IF(OFFSET('様式第2-12号'!$C$13,$A6+2,)="","",OFFSET('様式第2-12号'!$C$13,$A6+2,)) | F6: 14 | G6: =IF(OFFSET('様式第2-12号'!$A$23,$F6,)="","",OFFSET('様式第2-12号'!$A$23,$F6,)) | H6: =IF(OFFSET('様式第2-12号'!$B$23,$F6,)="","",OFFSET('様式第2-12号'!$B$23,$F6,)) | I6: =IF(OFFSET('様式第2-12号'!$D$23,$F6,)="","",OFFSET('様式第2-12号'!$D$23,$F6,))
A7: 17 | B7: =IF(OFFSET('様式第2-12号'!$A$13,$A7,)="","",OFFSET('様式第2-12号'!$A$13,$A7,)) -> ② | C7: =IF(OFFSET('様式第2-12号'!$C$13,$A7,)="","",OFFSET('様式第2-12号'!$C$13,$A7,)) | D7: =IF(OFFSET('様式第2-12号'!$C$13,$A7+1,)="","",OFFSET('様式第2-12号'!$C$13,$A7+1,)) | E7: =IF(OFFSET('様式第2-12号'!$C$13,$A7+2,)="","",OFFSET('様式第2-12号'!$C$13,$A7+2,)) | F7: 17 | G7: =IF(OFFSET('様式第2-12号'!$A$23,$F7,)="","",OFFSET('様式第2-12号'!$A$23,$F7,)) -> ５ その他促進計画の実施に関し市町村が必要と認める事項 | H7: =IF(OFFSET('様式第2-12号'!$B$23,$F7,)="","",OFFSET('様式第2-12号'!$B$23,$F7,)) | I7: =IF(OFFSET('様式第2-12号'!$D$23,$F7,)="","",OFFSET('様式第2-12号'!$D$23,$F7,))
A8: 20 | B8: =IF(OFFSET('様式第2-12号'!$A$13,$A8,)="","",OFFSET('様式第2-12号'!$A$13,$A8,)) | C8: =IF(OFFSET('様式第2-12号'!$C$13,$A8,)="","",OFFSET('様式第2-12号'!$C$13,$A8,)) | D8: =IF(OFFSET('様式第2-12号'!$C$13,$A8+1,)="","",OFFSET('様式第2-12号'!$C$13,$A8+1,)) | E8: =IF(OFFSET('様式第2-12号'!$C$13,$A8+2,)="","",OFFSET('様式第2-12号'!$C$13,$A8+2,)) | F8: 20 | G8: =IF(OFFSET('様式第2-12号'!$A$23,$F8,)="","",OFFSET('様式第2-12号'!$A$23,$F8,)) | H8: =IF(OFFSET('様式第2-12号'!$B$23,$F8,)="","",OFFSET('様式第2-12号'!$B$23,$F8,)) | I8: =IF(OFFSET('様式第2-12号'!$D$23,$F8,)="","",OFFSET('様式第2-12号'!$D$23,$F8,))
A9: 23 | B9: =IF(OFFSET('様式第2-12号'!$A$13,$A9,)="","",OFFSET('様式第2-12号'!$A$13,$A9,)) | C9: =IF(OFFSET('様式第2-12号'!$C$13,$A9,)="","",OFFSET('様式第2-12号'!$C$13,$A9,)) | D9: =IF(OFFSET('様式第2-12号'!$C$13,$A9+1,)="","",OFFSET('様式第2-12号'!$C$13,$A9+1,)) | E9: =IF(OFFSET('様式第2-12号'!$C$13,$A9+2,)="","",OFFSET('様式第2-12号'!$C$13,$A9+2,)) | F9: 23 | G9: =IF(OFFSET('様式第2-12号'!$A$23,$F9,)="","",OFFSET('様式第2-12号'!$A$23,$F9,)) | H9: =IF(OFFSET('様式第2-12号'!$B$23,$F9,)="","",OFFSET('様式第2-12号'!$B$23,$F9,)) | I9: =IF(OFFSET('様式第2-12号'!$D$23,$F9,)="","",OFFSET('様式第2-12号'!$D$23,$F9,))
A10: 26 | B10: =IF(OFFSET('様式第2-12号'!$A$13,$A10,)="","",OFFSET('様式第2-12号'!$A$13,$A10,)) | C10: =IF(OFFSET('様式第2-12号'!$C$13,$A10,)="","",OFFSET('様式第2-12号'!$C$13,$A10,)) | D10: =IF(OFFSET('様式第2-12号'!$C$13,$A10+1,)="","",OFFSET('様式第2-12号'!$C$13,$A10+1,)) | E10: =IF(OFFSET('様式第2-12号'!$C$13,$A10+2,)="","",OFFSET('様式第2-12号'!$C$13,$A10+2,)) | F10: 26 | G10: =IF(OFFSET('様式第2-12号'!$A$23,$F10,)="","",OFFSET('様式第2-12号'!$A$23,$F10,)) | H10: =IF(OFFSET('様式第2-12号'!$B$23,$F10,)="","",OFFSET('様式第2-12号'!$B$23,$F10,)) | I10: =IF(OFFSET('様式第2-12号'!$D$23,$F10,)="","",OFFSET('様式第2-12号'!$D$23,$F10,))
A11: 29 | B11: =IF(OFFSET('様式第2-12号'!$A$13,$A11,)="","",OFFSET('様式第2-12号'!$A$13,$A11,)) | C11: =IF(OFFSET('様式第2-12号'!$C$13,$A11,)="","",OFFSET('様式第2-12号'!$C$13,$A11,)) | D11: =IF(OFFSET('様式第2-12号'!$C$13,$A11+1,)="","",OFFSET('様式第2-12号'!$C$13,$A11+1,)) | E11: =IF(OFFSET('様式第2-12号'!$C$13,$A11+2,)="","",OFFSET('様式第2-12号'!$C$13,$A11+2,)) | F11: 29 | G11: =IF(OFFSET('様式第2-12号'!$A$23,$F11,)="","",OFFSET('様式第2-12号'!$A$23,$F11,)) | H11: =IF(OFFSET('様式第2-12号'!$B$23,$F11,)="","",OFFSET('様式第2-12号'!$B$23,$F11,)) | I11: =IF(OFFSET('様式第2-12号'!$D$23,$F11,)="","",OFFSET('様式第2-12号'!$D$23,$F11,))
A12: 32 | B12: =IF(OFFSET('様式第2-12号'!$A$13,$A12,)="","",OFFSET('様式第2-12号'!$A$13,$A12,)) -> （注） 市町村の判断により必要と認める事項について記載してください。 | C12: =IF(OFFSET('様式第2-12号'!$C$13,$A12,)="","",OFFSET('様式第2-12号'!$C$13,$A12,)) | D12: =IF(OFFSET('様式第2-12号'!$C$13,$A12+1,)="","",OFFSET('様式第2-12号'!$C$13,$A12+1,)) | E12: =IF(OFFSET('様式第2-12号'!$C$13,$A12+2,)="","",OFFSET('様式第2-12号'!$C$13,$A12+2,)) | F12: 32 | G12: =IF(OFFSET('様式第2-12号'!$A$23,$F12,)="","",OFFSET('様式第2-12号'!$A$23,$F12,)) | H12: =IF(OFFSET('様式第2-12号'!$B$23,$F12,)="","",OFFSET('様式第2-12号'!$B$23,$F12,)) | I12: =IF(OFFSET('様式第2-12号'!$D$23,$F12,)="","",OFFSET('様式第2-12号'!$D$23,$F12,))
A13: 35 | B13: =IF(OFFSET('様式第2-12号'!$A$13,$A13,)="","",OFFSET('様式第2-12号'!$A$13,$A13,)) | C13: =IF(OFFSET('様式第2-12号'!$C$13,$A13,)="","",OFFSET('様式第2-12号'!$C$13,$A13,)) | D13: =IF(OFFSET('様式第2-12号'!$C$13,$A13+1,)="","",OFFSET('様式第2-12号'!$C$13,$A13+1,)) | E13: =IF(OFFSET('様式第2-12号'!$C$13,$A13+2,)="","",OFFSET('様式第2-12号'!$C$13,$A13+2,)) | F13: 35 | G13: =IF(OFFSET('様式第2-12号'!$A$23,$F13,)="","",OFFSET('様式第2-12号'!$A$23,$F13,)) | H13: =IF(OFFSET('様式第2-12号'!$B$23,$F13,)="","",OFFSET('様式第2-12号'!$B$23,$F13,)) | I13: =IF(OFFSET('様式第2-12号'!$D$23,$F13,)="","",OFFSET('様式第2-12号'!$D$23,$F13,))
... A19: 53 | B19: =IF(OFFSET('様式第2-12号'!$A$13,$A19,)="","",OFFSET('様式第2-12号'!$A$13,$A19,)) | C19: =IF(OFFSET('様式第2-12号'!$C$13,$A19,)="","",OFFSET('様式第2-12号'!$C$13,$A19,)) | D19: =IF(OFFSET('様式第2-12号'!$C$13,$A19+1,)="","",OFFSET('様式第2-12号'!$C$13,$A19+1,)) | E19: =IF(OFFSET('様式第2-12号'!$C$13,$A19+2,)="","",OFFSET('様式第2-12号'!$C$13,$A19+2,)) | F19: 53 | G19: =IF(OFFSET('様式第2-12号'!$A$23,$F19,)="","",OFFSET('様式第2-12号'!$A$23,$F19,)) | H19: =IF(OFFSET('様式第2-12号'!$B$23,$F19,)="","",OFFSET('様式第2-12号'!$B$23,$F19,)) | I19: =IF(OFFSET('様式第2-12号'!$D$23,$F19,)="","",OFFSET('様式第2-12号'!$D$23,$F19,))
A20: 56 | B20: =IF(OFFSET('様式第2-12号'!$A$13,$A20,)="","",OFFSET('様式第2-12号'!$A$13,$A20,)) | C20: =IF(OFFSET('様式第2-12号'!$C$13,$A20,)="","",OFFSET('様式第2-12号'!$C$13,$A20,)) | D20: =IF(OFFSET('様式第2-12号'!$C$13,$A20+1,)="","",OFFSET('様式第2-12号'!$C$13,$A20+1,)) | E20: =IF(OFFSET('様式第2-12号'!$C$13,$A20+2,)="","",OFFSET('様式第2-12号'!$C$13,$A20+2,)) | F20: 56 | H20: =IF(OFFSET('様式第2-12号'!$B$23,$F20,)="","",OFFSET('様式第2-12号'!$B$23,$F20,)) | I20: =IF(OFFSET('様式第2-12号'!$D$23,$F20,)="","",OFFSET('様式第2-12号'!$D$23,$F20,))

Sheet データ取込シート_様式第2-12号
A1: １ 促進計画の区域 | B1: 地域 | C1: 現状 | D1: 目標 | E1: 実施を推進する区域 | F1: 実施を推進する事業 | G1: ４ 法第６条第２項第１号～ | H1: ５ その他促進計画の～
A2: =IF('様式第2-12号'!A9<>"",'様式第2-12号'!A9,"") | B2: =IF(COUNTIF('データ整理_様式第2-12号'!$B$2:'データ整理_様式第2-12号'!$B2,"この線より上に行を挿入してください。")=0,'データ整理_様式第2-12号'!$C2,"") | C2: =IF(COUNTIF('データ整理_様式第2-12号'!$B$2:'データ整理_様式第2-12号'!$B2,"この線より上に行を挿入してください。")=0,'データ整理_様式第2-12号'!$D2,"") | D2: =IF(COUNTIF('データ整理_様式第2-12号'!$B$2:'データ整理_様式第2-12号'!$B2,"この線より上に行を挿入してください。")=0,'データ整理_様式第2-12号'!$E2,"") | E2: =IF(COUNTIF('データ整理_様式第2-12号'!$G$2:'データ整理_様式第2-12号'!$G2,"この線より上に行を挿入してください。")=0,'データ整理_様式第2-12号'!$H2,"") | F2: =IF(COUNTIF('データ整理_様式第2-12号'!$G$2:'データ整理_様式第2-12号'!$G2,"この線より上に行を挿入してください。")=0,'データ整理_様式第2-12号'!$I2,"") | G2: =IF('様式第2-12号'!A36<>"",'様式第2-12号'!A36,"") | H2: =IF('様式第2-12号'!A41<>"",'様式第2-12号'!A41,"")
B3: =IF(COUNTIF('データ整理_様式第2-12号'!$B$2:'データ整理_様式第2-12号'!$B3,"この線より上に行を挿入してください。")=0,'データ整理_様式第2-12号'!$C3,"") | C3: =IF(COUNTIF('データ整理_様式第2-12号'!$B$2:'データ整理_様式第2-12号'!$B3,"この線より上に行を挿入してください。")=0,'データ整理_様式第2-12号'!$D3,"") | D3: =IF(COUNTIF('データ整理_様式第2-12号'!$B$2:'データ整理_様式第2-12号'!$B3,"この線より上に行を挿入してください。")=0,'データ整理_様式第2-12号'!$E3,"") | E3: =IF(COUNTIF('データ整理_様式第2-12号'!$G$2:'データ整理_様式第2-12号'!$G3,"この線より上に行を挿入してください。")=0,'データ整理_様式第2-12号'!$H3,"") | F3: =IF(COUNTIF('データ整理_様式第2-12号'!$G$2:'データ整理_様式第2-12号'!$G3,"この線より上に行を挿入してください。")=0,'データ整理_様式第2-12号'!$I3,"")
B4: =IF(COUNTIF('データ整理_様式第2-12号'!$B$2:'データ整理_様式第2-12号'!$B4,"この線より上に行を挿入してください。")=0,'データ整理_様式第2-12号'!$C4,"") | C4: =IF(COUNTIF('データ整理_様式第2-12号'!$B$2:'データ整理_様式第2-12号'!$B4,"この線より上に行を挿入してください。")=0,'データ整理_様式第2-12号'!$D4,"") | D4: =IF(COUNTIF('データ整理_様式第2-12号'!$B$2:'データ整理_様式第2-12号'!$B4,"この線より上に行を挿入してください。")=0,'データ整理_様式第2-12号'!$E4,"") | E4: =IF(COUNTIF('データ整理_様式第2-12号'!$G$2:'データ整理_様式第2-12号'!$G4,"この線より上に行を挿入してください。")=0,'データ整理_様式第2-12号'!$H4,"") | F4: =IF(COUNTIF('データ整理_様式第2-12号'!$G$2:'データ整理_様式第2-12号'!$G4,"この線より上に行を挿入してください。")=0,'データ整理_様式第2-12号'!$I4,"")
B5: =IF(COUNTIF('データ整理_様式第2-12号'!$B$2:'データ整理_様式第2-12号'!$B5,"この線より上に行を挿入してください。")=0,'データ整理_様式第2-12号'!$C5,"") | C5: =IF(COUNTIF('データ整理_様式第2-12号'!$B$2:'データ整理_様式第2-12号'!$B5,"この線より上に行を挿入してください。")=0,'データ整理_様式第2-12号'!$D5,"") | D5: =IF(COUNTIF('データ整理_様式第2-12号'!$B$2:'データ整理_様式第2-12号'!$B5,"この線より上に行を挿入してください。")=0,'データ整理_様式第2-12号'!$E5,"") | E5: =IF(COUNTIF('データ整理_様式第2-12号'!$G$2:'データ整理_様式第2-12号'!$G5,"この線より上に行を挿入してください。")=0,'データ整理_様式第2-12号'!$H5,"") | F5: =IF(COUNTIF('データ整理_様式第2-12号'!$G$2:'データ整理_様式第2-12号'!$G5,"この線より上に行を挿入してください。")=0,'データ整理_様式第2-12号'!$I5,"")
B6: =IF(COUNTIF('データ整理_様式第2-12号'!$B$2:'データ整理_様式第2-12号'!$B6,"この線より上に行を挿入してください。")=0,'データ整理_様式第2-12号'!$C6,"") | C6: =IF(COUNTIF('データ整理_様式第2-12号'!$B$2:'データ整理_様式第2-12号'!$B6,"この線より上に行を挿入してください。")=0,'データ整理_様式第2-12号'!$D6,"") | D6: =IF(COUNTIF('データ整理_様式第2-12号'!$B$2:'データ整理_様式第2-12号'!$B6,"この線より上に行を挿入してください。")=0,'データ整理_様式第2-12号'!$E6,"") | E6: =IF(COUNTIF('データ整理_様式第2-12号'!$G$2:'データ整理_様式第2-12号'!$G6,"この線より上に行を挿入してください。")=0,'データ整理_様式第2-12号'!$H6,"") | F6: =IF(COUNTIF('データ整理_様式第2-12号'!$G$2:'データ整理_様式第2-12号'!$G6,"この線より上に行を挿入してください。")=0,'データ整理_様式第2-12号'!$I6,"")
B7: =IF(COUNTIF('データ整理_様式第2-12号'!$B$2:'データ整理_様式第2-12号'!$B7,"この線より上に行を挿入してください。")=0,'データ整理_様式第2-12号'!$C7,"") | C7: =IF(COUNTIF('データ整理_様式第2-12号'!$B$2:'データ整理_様式第2-12号'!$B7,"この線より上に行を挿入してください。")=0,'データ整理_様式第2-12号'!$D7,"") | D7: =IF(COUNTIF('データ整理_様式第2-12号'!$B$2:'データ整理_様式第2-12号'!$B7,"この線より上に行を挿入してください。")=0,'データ整理_様式第2-12号'!$E7,"") | E7: =IF(COUNTIF('データ整理_様式第2-12号'!$G$2:'データ整理_様式第2-12号'!$G7,"この線より上に行を挿入してください。")=0,'データ整理_様式第2-12号'!$H7,"") | F7: =IF(COUNTIF('データ整理_様式第2-12号'!$G$2:'データ整理_様式第2-12号'!$G7,"この線より上に行を挿入してください。")=0,'データ整理_様式第2-12号'!$I7,"")
B8: =IF(COUNTIF('データ整理_様式第2-12号'!$B$2:'データ整理_様式第2-12号'!$B8,"この線より上に行を挿入してください。")=0,'データ整理_様式第2-12号'!$C8,"") | C8: =IF(COUNTIF('データ整理_様式第2-12号'!$B$2:'データ整理_様式第2-12号'!$B8,"この線より上に行を挿入してください。")=0,'データ整理_様式第2-12号'!$D8,"") | D8: =IF(COUNTIF('データ整理_様式第2-12号'!$B$2:'データ整理_様式第2-12号'!$B8,"この線より上に行を挿入してください。")=0,'データ整理_様式第2-12号'!$E8,"") | E8: =IF(COUNTIF('データ整理_様式第2-12号'!$G$2:'データ整理_様式第2-12号'!$G8,"この線より上に行を挿入してください。")=0,'データ整理_様式第2-12号'!$H8,"") | F8: =IF(COUNTIF('データ整理_様式第2-12号'!$G$2:'データ整理_様式第2-12号'!$G8,"この線より上に行を挿入してください。")=0,'データ整理_様式第2-12号'!$I8,"")
B9: =IF(COUNTIF('データ整理_様式第2-12号'!$B$2:'データ整理_様式第2-12号'!$B9,"この線より上に行を挿入してください。")=0,'データ整理_様式第2-12号'!$C9,"") | C9: =IF(COUNTIF('データ整理_様式第2-12号'!$B$2:'データ整理_様式第2-12号'!$B9,"この線より上に行を挿入してください。")=0,'データ整理_様式第2-12号'!$D9,"") | D9: =IF(COUNTIF('データ整理_様式第2-12号'!$B$2:'データ整理_様式第2-12号'!$B9,"この線より上に行を挿入してください。")=0,'データ整理_様式第2-12号'!$E9,"") | E9: =IF(COUNTIF('データ整理_様式第2-12号'!$G$2:'データ整理_様式第2-12号'!$G9,"この線より上に行を挿入してください。")=0,'データ整理_様式第2-12号'!$H9,"") | F9: =IF(COUNTIF('データ整理_様式第2-12号'!$G$2:'データ整理_様式第2-12号'!$G9,"この線より上に行を挿入してください。")=0,'データ整理_様式第2-12号'!$I9,"")
B10: =IF(COUNTIF('データ整理_様式第2-12号'!$B$2:'データ整理_様式第2-12号'!$B10,"この線より上に行を挿入してください。")=0,'データ整理_様式第2-12号'!$C10,"") | C10: =IF(COUNTIF('データ整理_様式第2-12号'!$B$2:'データ整理_様式第2-12号'!$B10,"この線より上に行を挿入してください。")=0,'データ整理_様式第2-12号'!$D10,"") | D10: =IF(COUNTIF('データ整理_様式第2-12号'!$B$2:'データ整理_様式第2-12号'!$B10,"この線より上に行を挿入してください。")=0,'データ整理_様式第2-12号'!$E10,"") | E10: =IF(COUNTIF('データ整理_様式第2-12号'!$G$2:'データ整理_様式第2-12号'!$G10,"この線より上に行を挿入してください。")=0,'データ整理_様式第2-12号'!$H10,"") | F10: =IF(COUNTIF('データ整理_様式第2-12号'!$G$2:'データ整理_様式第2-12号'!$G10,"この線より上に行を挿入してください。")=0,'データ整理_様式第2-12号'!$I10,"")
B11: =IF(COUNTIF('データ整理_様式第2-12号'!$B$2:'データ整理_様式第2-12号'!$B11,"この線より上に行を挿入してください。")=0,'データ整理_様式第2-12号'!$C11,"") | C11: =IF(COUNTIF('データ整理_様式第2-12号'!$B$2:'データ整理_様式第2-12号'!$B11,"この線より上に行を挿入してください。")=0,'データ整理_様式第2-12号'!$D11,"") | D11: =IF(COUNTIF('データ整理_様式第2-12号'!$B$2:'データ整理_様式第2-12号'!$B11,"この線より上に行を挿入してください。")=0,'データ整理_様式第2-12号'!$E11,"") | E11: =IF(COUNTIF('データ整理_様式第2-12号'!$G$2:'データ整理_様式第2-12号'!$G11,"この線より上に行を挿入してください。")=0,'データ整理_様式第2-12号'!$H11,"") | F11: =IF(COUNTIF('データ整理_様式第2-12号'!$G$2:'データ整理_様式第2-12号'!$G11,"この線より上に行を挿入してください。")=0,'データ整理_様式第2-12号'!$I11,"")
B12: =IF(COUNTIF('データ整理_様式第2-12号'!$B$2:'データ整理_様式第2-12号'!$B12,"この線より上に行を挿入してください。")=0,'データ整理_様式第2-12号'!$C12,"") | C12: =IF(COUNTIF('データ整理_様式第2-12号'!$B$2:'データ整理_様式第2-12号'!$B12,"この線より上に行を挿入してください。")=0,'データ整理_様式第2-12号'!$D12,"") | D12: =IF(COUNTIF('データ整理_様式第2-12号'!$B$2:'データ整理_様式第2-12号'!$B12,"この線より上に行を挿入してください。")=0,'データ整理_様式第2-12号'!$E12,"") | E12: =IF(COUNTIF('データ整理_様式第2-12号'!$G$2:'データ整理_様式第2-12号'!$G12,"この線より上に行を挿入してください。")=0,'データ整理_様式第2-12号'!$H12,"") | F12: =IF(COUNTIF('データ整理_様式第2-12号'!$G$2:'データ整理_様式第2-12号'!$G12,"この線より上に行を挿入してください。")=0,'データ整理_様式第2-12号'!$I12,"")
B13: =IF(COUNTIF('データ整理_様式第2-12号'!$B$2:'データ整理_様式第2-12号'!$B13,"この線より上に行を挿入してください。")=0,'データ整理_様式第2-12号'!$C13,"") | C13: =IF(COUNTIF('データ整理_様式第2-12号'!$B$2:'データ整理_様式第2-12号'!$B13,"この線より上に行を挿入してください。")=0,'データ整理_様式第2-12号'!$D13,"") | D13: =IF(COUNTIF('データ整理_様式第2-12号'!$B$2:'データ整理_様式第2-12号'!$B13,"この線より上に行を挿入してください。")=0,'データ整理_様式第2-12号'!$E13,"") | E13: =IF(COUNTIF('データ整理_様式第2-12号'!$G$2:'データ整理_様式第2-12号'!$G13,"この線より上に行を挿入してください。")=0,'データ整理_様式第2-12号'!$H13,"") | F13: =IF(COUNTIF('データ整理_様式第2-12号'!$G$2:'データ整理_様式第2-12号'!$G13,"この線より上に行を挿入してください。")=0,'データ整理_様式第2-12号'!$I13,"")
B14: =IF(COUNTIF('データ整理_様式第2-12号'!$B$2:'データ整理_様式第2-12号'!$B14,"この線より上に行を挿入してください。")=0,'データ整理_様式第2-12号'!$C14,"") | C14: =IF(COUNTIF('データ整理_様式第2-12号'!$B$2:'データ整理_様式第2-12号'!$B14,"この線より上に行を挿入してください。")=0,'データ整理_様式第2-12号'!$D14,"") | D14: =IF(COUNTIF('データ整理_様式第2-12号'!$B$2:'データ整理_様式第2-12号'!$B14,"この線より上に行を挿入してください。")=0,'データ整理_様式第2-12号'!$E14,"") | E14: =IF(COUNTIF('データ整理_様式第2-12号'!$G$2:'データ整理_様式第2-12号'!$G14,"この線より上に行を挿入してください。")=0,'データ整理_様式第2-12号'!$H14,"") | F14: =IF(COUNTIF('データ整理_様式第2-12号'!$G$2:'データ整理_様式第2-12号'!$G14,"この線より上に行を挿入してください。")=0,'データ整理_様式第2-12号'!$I14,"")
... B20: =IF(COUNTIF('データ整理_様式第2-12号'!$B$2:'データ整理_様式第2-12号'!$B20,"この線より上に行を挿入してください。")=0,'データ整理_様式第2-12号'!$C20,"") | C20: =IF(COUNTIF('データ整理_様式第2-12号'!$B$2:'データ整理_様式第2-12号'!$B20,"この線より上に行を挿入してください。")=0,'データ整理_様式第2-12号'!$D20,"") | D20: =IF(COUNTIF('データ整理_様式第2-12号'!$B$2:'データ整理_様式第2-12号'!$B20,"この線より上に行を挿入してください。")=0,'データ整理_様式第2-12号'!$E20,"") | E20: =IF(COUNTIF('データ整理_様式第2-12号'!$G$2:'データ整理_様式第2-12号'!$G20,"この線より上に行を挿入してください。")=0,'データ整理_様式第2-12号'!$H20,"") | F20: =IF(COUNTIF('データ整理_様式第2-12号'!$G$2:'データ整理_様式第2-12号'!$G20,"この線より上に行を挿入してください。")=0,'データ整理_様式第2-12号'!$I20,"")
