Workbook

Sheet 別記様式第４号
A1: 別記様式第４号（第８関係）
A4: ○○年度多面的機能支払交付金遅延届出書
A10: 地方農政局長 殿
A11: （北海道にあっては農林水産大臣、
A12: 沖縄県にあっては内閣府沖縄総合事務局長）
A14: 都道府県知事 氏 名
K16: をもって交付金の交付決定通知のあった事業について、
A17: 下記の理由により（予定の期間内に完了しない／遂行が困難となった）ため、多面的機能支払交付金交付要綱第８の規定に基づき届け出ます。
A20: 記
A22: １ 補助事業が（予定の期間内に完了しない／遂行が困難となった）理由
A28: ２ 補助事業の遂行状況
A29: 区 分 | E29: 総事業費 | I29: 事業の遂行状況 | Y29: 備考
I31: までに完了したもの | Q31: 以降に実施するもの
I32: 事業費 | M32: 出来高 比率 | Q32: 事業費 | U32: 事業完了 予定年月日
E34: 0 | I34: 0 | M34: =IFERROR(I34/E34,"") | Q34: 0
A35: この線より上に行を挿入してください。
A36: （注１）括弧内は、該当するものを記載すること。
A37: （注２）交付事業の遂行状況は、届出時点において確認されている直近の遂行状況を記載することとし、「○年○月○日以降に実施するもの」欄は、完了時期を延期して事業を継続したい場合のみ記載すること。

Sheet 【記入例】別記様式第４号
A1: 別記様式第４号（第８関係）
A4: ○○年度多面的機能支払交付金遅延届出書
V7: 番 号
V8: 45017
A10: 地方農政局長 殿
A11: （北海道にあっては農林水産大臣、
A12: 沖縄県にあっては内閣府沖縄総合事務局長）
A14: 都道府県知事 氏 名 | V14: テスト１
A16: ○○年○月○日付け○○第○○号 | K16: をもって交付金の交付決定通知のあった事業について、
A17: 下記の理由により（予定の期間内に完了しない／遂行が困難となった）ため、多面的機能支払交付金交付要綱第８の規定に基づき届け出ます。
A20: 記
A22: １ 補助事業が（予定の期間内に完了しない／遂行が困難となった）理由
A23: テスト２
A28: ２ 補助事業の遂行状況
A29: 区 分 | E29: 総事業費 | I29: 事業の遂行状況 | Y29: 備考
I30: 45017 | Q30: 45017
I31: までに完了したもの | Q31: 以降に実施するもの
I32: 事業費 | M32: 出来高 比率 | Q32: 事業費 | U32: 事業完了 予定年月日
E34: 0 | I34: 0 | M34: =IFERROR(I34/E34,"") | Q34: 0 | U34: 45748 | Y34: テスト３
A35: この線より上に行を挿入してください。
A36: （注１）括弧内は、該当するものを記載すること。
A37: （注２）交付事業の遂行状況は、届出時点において確認されている直近の遂行状況を記載することとし、「○年○月○日以降に実施するもの」欄は、完了時期を延期して事業を継続したい場合のみ記載すること。

Sheet データ整理_別記様式第４号
B1: 区分01 | C1: 総事業費01 | D1: 事業の遂行状況(完了分):事業費01 | E1: 事業の遂行状況(完了分):出来高比率01 | F1: 事業の遂行状況(今後の実施予定):事業費01 | G1: 事業の遂行状況(今後の実施予定):事業完了予定年月日01 | H1: 備考01
A2: 1 | B2: =IF(OFFSET(別記様式第４号!$A$33,$A2,)="","",OFFSET(別記様式第４号!$A$33,$A2,)) | C2: =IF(OFFSET(別記様式第４号!$E$33,$A2,)="","",OFFSET(別記様式第４号!$E$33,$A2,)) -> 0 | D2: =IF(OFFSET(別記様式第４号!$I$33,$A2,)="","",OFFSET(別記様式第４号!$I$33,$A2,)) -> 0 | E2: =IF(OFFSET(別記様式第４号!$M$33,$A2,)="","",OFFSET(別記様式第４号!$M$33,$A2,)) | F2: =IF(OFFSET(別記様式第４号!$Q$33,$A2,)="","",OFFSET(別記様式第４号!$Q$33,$A2,)) -> 0 | G2: =IF(OFFSET(別記様式第４号!$U$33,$A2,)="","",OFFSET(別記様式第４号!$U$33,$A2,)) | H2: =IF(OFFSET(別記様式第４号!$Y$33,$A2,)="","",OFFSET(別記様式第４号!$Y$33,$A2,))
A3: 2 | B3: =IF(OFFSET(別記様式第４号!$A$33,$A3,)="","",OFFSET(別記様式第４号!$A$33,$A3,)) -> この線より上に行を挿入してください。 | C3: =IF(OFFSET(別記様式第４号!$E$33,$A3,)="","",OFFSET(別記様式第４号!$E$33,$A3,)) | D3: =IF(OFFSET(別記様式第４号!$I$33,$A3,)="","",OFFSET(別記様式第４号!$I$33,$A3,)) | E3: =IF(OFFSET(別記様式第４号!$M$33,$A3,)="","",OFFSET(別記様式第４号!$M$33,$A3,)) | F3: =IF(OFFSET(別記様式第４号!$Q$33,$A3,)="","",OFFSET(別記様式第４号!$Q$33,$A3,)) | G3: =IF(OFFSET(別記様式第４号!$U$33,$A3,)="","",OFFSET(別記様式第４号!$U$33,$A3,)) | H3: =IF(OFFSET(別記様式第４号!$Y$33,$A3,)="","",OFFSET(別記様式第４号!$Y$33,$A3,))
A4: 3 | B4: =IF(OFFSET(別記様式第４号!$A$33,$A4,)="","",OFFSET(別記様式第４号!$A$33,$A4,)) -> （注１）括弧内は、該当するものを記載すること。 | C4: =IF(OFFSET(別記様式第４号!$E$33,$A4,)="","",OFFSET(別記様式第４号!$E$33,$A4,)) | D4: =IF(OFFSET(別記様式第４号!$I$33,$A4,)="","",OFFSET(別記様式第４号!$I$33,$A4,)) | E4: =IF(OFFSET(別記様式第４号!$M$33,$A4,)="","",OFFSET(別記様式第４号!$M$33,$A4,)) | F4: =IF(OFFSET(別記様式第４号!$Q$33,$A4,)="","",OFFSET(別記様式第４号!$Q$33,$A4,)) | G4: =IF(OFFSET(別記様式第４号!$U$33,$A4,)="","",OFFSET(別記様式第４号!$U$33,$A4,)) | H4: =IF(OFFSET(別記様式第４号!$Y$33,$A4,)="","",OFFSET(別記様式第４号!$Y$33,$A4,))
A5: 4 | B5: =IF(OFFSET(別記様式第４号!$A$33,$A5,)="","",OFFSET(別記様式第４号!$A$33,$A5,)) -> （注２）交付事業の遂行状況は、届出時点において確認されている直近の遂行状況を記載することとし、「○年○月○日以降に実施するもの」欄は、完了時期を延期して事業を継続したい場合のみ記載すること。 | C5: =IF(OFFSET(別記様式第４号!$E$33,$A5,)="","",OFFSET(別記様式第４号!$E$33,$A5,)) | D5: =IF(OFFSET(別記様式第４号!$I$33,$A5,)="","",OFFSET(別記様式第４号!$I$33,$A5,)) | E5: =IF(OFFSET(別記様式第４号!$M$33,$A5,)="","",OFFSET(別記様式第４号!$M$33,$A5,)) | F5: =IF(OFFSET(別記様式第４号!$Q$33,$A5,)="","",OFFSET(別記様式第４号!$Q$33,$A5,)) | G5: =IF(OFFSET(別記様式第４号!$U$33,$A5,)="","",OFFSET(別記様式第４号!$U$33,$A5,)) | H5: =IF(OFFSET(別記様式第４号!$Y$33,$A5,)="","",OFFSET(別記様式第４号!$Y$33,$A5,))
A6: 5 | B6: =IF(OFFSET(別記様式第４号!$A$33,$A6,)="","",OFFSET(別記様式第４号!$A$33,$A6,)) | C6: =IF(OFFSET(別記様式第４号!$E$33,$A6,)="","",OFFSET(別記様式第４号!$E$33,$A6,)) | D6: =IF(OFFSET(別記様式第４号!$I$33,$A6,)="","",OFFSET(別記様式第４号!$I$33,$A6,)) | E6: =IF(OFFSET(別記様式第４号!$M$33,$A6,)="","",OFFSET(別記様式第４号!$M$33,$A6,)) | F6: =IF(OFFSET(別記様式第４号!$Q$33,$A6,)="","",OFFSET(別記様式第４号!$Q$33,$A6,)) | G6: =IF(OFFSET(別記様式第４号!$U$33,$A6,)="","",OFFSET(別記様式第４号!$U$33,$A6,)) | H6: =IF(OFFSET(別記様式第４号!$Y$33,$A6,)="","",OFFSET(別記様式第４号!$Y$33,$A6,))
A7: 6 | B7: =IF(OFFSET(別記様式第４号!$A$33,$A7,)="","",OFFSET(別記様式第４号!$A$33,$A7,)) | C7: =IF(OFFSET(別記様式第４号!$E$33,$A7,)="","",OFFSET(別記様式第４号!$E$33,$A7,)) | D7: =IF(OFFSET(別記様式第４号!$I$33,$A7,)="","",OFFSET(別記様式第４号!$I$33,$A7,)) | E7: =IF(OFFSET(別記様式第４号!$M$33,$A7,)="","",OFFSET(別記様式第４号!$M$33,$A7,)) | F7: =IF(OFFSET(別記様式第４号!$Q$33,$A7,)="","",OFFSET(別記様式第４号!$Q$33,$A7,)) | G7: =IF(OFFSET(別記様式第４号!$U$33,$A7,)="","",OFFSET(別記様式第４号!$U$33,$A7,)) | H7: =IF(OFFSET(別記様式第４号!$Y$33,$A7,)="","",OFFSET(別記様式第４号!$Y$33,$A7,))
A8: 7 | B8: =IF(OFFSET(別記様式第４号!$A$33,$A8,)="","",OFFSET(別記様式第４号!$A$33,$A8,)) | C8: =IF(OFFSET(別記様式第４号!$E$33,$A8,)="","",OFFSET(別記様式第４号!$E$33,$A8,)) | D8: =IF(OFFSET(別記様式第４号!$I$33,$A8,)="","",OFFSET(別記様式第４号!$I$33,$A8,)) | E8: =IF(OFFSET(別記様式第４号!$M$33,$A8,)="","",OFFSET(別記様式第４号!$M$33,$A8,)) | F8: =IF(OFFSET(別記様式第４号!$Q$33,$A8,)="","",OFFSET(別記様式第４号!$Q$33,$A8,)) | G8: =IF(OFFSET(別記様式第４号!$U$33,$A8,)="","",OFFSET(別記様式第４号!$U$33,$A8,)) | H8: =IF(OFFSET(別記様式第４号!$Y$33,$A8,)="","",OFFSET(別記様式第４号!$Y$33,$A8,))
A9: 8 | B9: =IF(OFFSET(別記様式第４号!$A$33,$A9,)="","",OFFSET(別記様式第４号!$A$33,$A9,)) | C9: =IF(OFFSET(別記様式第４号!$E$33,$A9,)="","",OFFSET(別記様式第４号!$E$33,$A9,)) | D9: =IF(OFFSET(別記様式第４号!$I$33,$A9,)="","",OFFSET(別記様式第４号!$I$33,$A9,)) | E9: =IF(OFFSET(別記様式第４号!$M$33,$A9,)="","",OFFSET(別記様式第４号!$M$33,$A9,)) | F9: =IF(OFFSET(別記様式第４号!$Q$33,$A9,)="","",OFFSET(別記様式第４号!$Q$33,$A9,)) | G9: =IF(OFFSET(別記様式第４号!$U$33,$A9,)="","",OFFSET(別記様式第４号!$U$33,$A9,)) | H9: =IF(OFFSET(別記様式第４号!$Y$33,$A9,)="","",OFFSET(別記様式第４号!$Y$33,$A9,))
A10: 9 | B10: =IF(OFFSET(別記様式第４号!$A$33,$A10,)="","",OFFSET(別記様式第４号!$A$33,$A10,)) | C10: =IF(OFFSET(別記様式第４号!$E$33,$A10,)="","",OFFSET(別記様式第４号!$E$33,$A10,)) | D10: =IF(OFFSET(別記様式第４号!$I$33,$A10,)="","",OFFSET(別記様式第４号!$I$33,$A10,)) | E10: =IF(OFFSET(別記様式第４号!$M$33,$A10,)="","",OFFSET(別記様式第４号!$M$33,$A10,)) | F10: =IF(OFFSET(別記様式第４号!$Q$33,$A10,)="","",OFFSET(別記様式第４号!$Q$33,$A10,)) | G10: =IF(OFFSET(別記様式第４号!$U$33,$A10,)="","",OFFSET(別記様式第４号!$U$33,$A10,)) | H10: =IF(OFFSET(別記様式第４号!$Y$33,$A10,)="","",OFFSET(別記様式第４号!$Y$33,$A10,))
A11: 10 | B11: =IF(OFFSET(別記様式第４号!$A$33,$A11,)="","",OFFSET(別記様式第４号!$A$33,$A11,)) | C11: =IF(OFFSET(別記様式第４号!$E$33,$A11,)="","",OFFSET(別記様式第４号!$E$33,$A11,)) | D11: =IF(OFFSET(別記様式第４号!$I$33,$A11,)="","",OFFSET(別記様式第４号!$I$33,$A11,)) | E11: =IF(OFFSET(別記様式第４号!$M$33,$A11,)="","",OFFSET(別記様式第４号!$M$33,$A11,)) | F11: =IF(OFFSET(別記様式第４号!$Q$33,$A11,)="","",OFFSET(別記様式第４号!$Q$33,$A11,)) | G11: =IF(OFFSET(別記様式第４号!$U$33,$A11,)="","",OFFSET(別記様式第４号!$U$33,$A11,)) | H11: =IF(OFFSET(別記様式第４号!$Y$33,$A11,)="","",OFFSET(別記様式第４号!$Y$33,$A11,))
A12: 11 | B12: =IF(OFFSET(別記様式第４号!$A$33,$A12,)="","",OFFSET(別記様式第４号!$A$33,$A12,)) | C12: =IF(OFFSET(別記様式第４号!$E$33,$A12,)="","",OFFSET(別記様式第４号!$E$33,$A12,)) | D12: =IF(OFFSET(別記様式第４号!$I$33,$A12,)="","",OFFSET(別記様式第４号!$I$33,$A12,)) | E12: =IF(OFFSET(別記様式第４号!$M$33,$A12,)="","",OFFSET(別記様式第４号!$M$33,$A12,)) | F12: =IF(OFFSET(別記様式第４号!$Q$33,$A12,)="","",OFFSET(別記様式第４号!$Q$33,$A12,)) | G12: =IF(OFFSET(別記様式第４号!$U$33,$A12,)="","",OFFSET(別記様式第４号!$U$33,$A12,)) | H12: =IF(OFFSET(別記様式第４号!$Y$33,$A12,)="","",OFFSET(別記様式第４号!$Y$33,$A12,))
A13: 12 | B13: =IF(OFFSET(別記様式第４号!$A$33,$A13,)="","",OFFSET(別記様式第４号!$A$33,$A13,)) | C13: =IF(OFFSET(別記様式第４号!$E$33,$A13,)="","",OFFSET(別記様式第４号!$E$33,$A13,)) | D13: =IF(OFFSET(別記様式第４号!$I$33,$A13,)="","",OFFSET(別記様式第４号!$I$33,$A13,)) | E13: =IF(OFFSET(別記様式第４号!$M$33,$A13,)="","",OFFSET(別記様式第４号!$M$33,$A13,)) | F13: =IF(OFFSET(別記様式第４号!$Q$33,$A13,)="","",OFFSET(別記様式第４号!$Q$33,$A13,)) | G13: =IF(OFFSET(別記様式第４号!$U$33,$A13,)="","",OFFSET(別記様式第４号!$U$33,$A13,)) | H13: =IF(OFFSET(別記様式第４号!$Y$33,$A13,)="","",OFFSET(別記様式第４号!$Y$33,$A13,))
... A300: 299 | B300: =IF(OFFSET(別記様式第４号!$A$33,$A300,)="","",OFFSET(別記様式第４号!$A$33,$A300,)) | C300: =IF(OFFSET(別記様式第４号!$E$33,$A300,)="","",OFFSET(別記様式第４号!$E$33,$A300,)) | D300: =IF(OFFSET(別記様式第４号!$I$33,$A300,)="","",OFFSET(別記様式第４号!$I$33,$A300,)) | E300: =IF(OFFSET(別記様式第４号!$M$33,$A300,)="","",OFFSET(別記様式第４号!$M$33,$A300,)) | F300: =IF(OFFSET(別記様式第４号!$Q$33,$A300,)="","",OFFSET(別記様式第４号!$Q$33,$A300,)) | G300: =IF(OFFSET(別記様式第４号!$U$33,$A300,)="","",OFFSET(別記様式第４号!$U$33,$A300,)) | H300: =IF(OFFSET(別記様式第４号!$Y$33,$A300,)="","",OFFSET(別記様式第４号!$Y$33,$A300,))

Sheet データ取込シート_別記様式第４号
A1: 文書番号 | B1: 作成年月日 | C1: 都道府県知事 氏名 | D1: 交付決定通知の日付及び文書番号 | E1: １補助事業が（予定の期間内に完了しない／遂行が困難となった）理由 | F1: 事業の遂行状況（完了年月日） | G1: 事業の遂行状況（今後の実施予定年月日） | H1: 区分01 | I1: 総事業費01 | J1: 事業の遂行状況(完了分):事業費01 | K1: 事業の遂行状況(今後の実施予定):事業費01 | L1: 事業の遂行状況(今後の実施予定):事業完了予定年月日01 | M1: 備考01
A2: =IF(別記様式第４号!V7<>"",別記様式第４号!V7,"") | B2: =IF(別記様式第４号!V8<>"",別記様式第４号!V8,"") | C2: =IF(別記様式第４号!V14<>"",別記様式第４号!V14,"") | D2: =IF(別記様式第４号!A16<>"",別記様式第４号!A16,"") | E2: =IF(別記様式第４号!A23<>"",別記様式第４号!A23,"") | F2: =IF(別記様式第４号!I30<>"",別記様式第４号!I30,"") | G2: =IF(別記様式第４号!Q30<>"",別記様式第４号!Q30,"") | H2: =IF(COUNTIF(データ整理_別記様式第４号!$B$2:'データ整理_別記様式第４号'!$B2,"この線より上に行を挿入してください。")=0,データ整理_別記様式第４号!B2,"") | I2: =IF(COUNTIF(データ整理_別記様式第４号!$B$2:'データ整理_別記様式第４号'!$B2,"この線より上に行を挿入してください。")=0,データ整理_別記様式第４号!C2,"") -> 0 | J2: =IF(COUNTIF(データ整理_別記様式第４号!$B$2:'データ整理_別記様式第４号'!$B2,"この線より上に行を挿入してください。")=0,データ整理_別記様式第４号!D2,"") -> 0 | K2: =IF(COUNTIF(データ整理_別記様式第４号!$B$2:'データ整理_別記様式第４号'!$B2,"この線より上に行を挿入してください。")=0,データ整理_別記様式第４号!F2,"") -> 0 | L2: =IF(COUNTIF(データ整理_別記様式第４号!$B$2:'データ整理_別記様式第４号'!$B2,"この線より上に行を挿入してください。")=0,データ整理_別記様式第４号!G2,"") | M2: =IF(COUNTIF(データ整理_別記様式第４号!$B$2:'データ整理_別記様式第４号'!$B2,"この線より上に行を挿入してください。")=0,データ整理_別記様式第４号!H2,"")
H3: =IF(COUNTIF(データ整理_別記様式第４号!$B$2:'データ整理_別記様式第４号'!$B3,"この線より上に行を挿入してください。")=0,データ整理_別記様式第４号!B3,"") | I3: =IF(COUNTIF(データ整理_別記様式第４号!$B$2:'データ整理_別記様式第４号'!$B3,"この線より上に行を挿入してください。")=0,データ整理_別記様式第４号!C3,"") | J3: =IF(COUNTIF(データ整理_別記様式第４号!$B$2:'データ整理_別記様式第４号'!$B3,"この線より上に行を挿入してください。")=0,データ整理_別記様式第４号!D3,"") | K3: =IF(COUNTIF(データ整理_別記様式第４号!$B$2:'データ整理_別記様式第４号'!$B3,"この線より上に行を挿入してください。")=0,データ整理_別記様式第４号!F3,"") | L3: =IF(COUNTIF(データ整理_別記様式第４号!$B$2:'データ整理_別記様式第４号'!$B3,"この線より上に行を挿入してください。")=0,データ整理_別記様式第４号!G3,"") | M3: =IF(COUNTIF(データ整理_別記様式第４号!$B$2:'データ整理_別記様式第４号'!$B3,"この線より上に行を挿入してください。")=0,データ整理_別記様式第４号!H3,"")
H4: =IF(COUNTIF(データ整理_別記様式第４号!$B$2:'データ整理_別記様式第４号'!$B4,"この線より上に行を挿入してください。")=0,データ整理_別記様式第４号!B4,"") | I4: =IF(COUNTIF(データ整理_別記様式第４号!$B$2:'データ整理_別記様式第４号'!$B4,"この線より上に行を挿入してください。")=0,データ整理_別記様式第４号!C4,"") | J4: =IF(COUNTIF(データ整理_別記様式第４号!$B$2:'データ整理_別記様式第４号'!$B4,"この線より上に行を挿入してください。")=0,データ整理_別記様式第４号!D4,"") | K4: =IF(COUNTIF(データ整理_別記様式第４号!$B$2:'データ整理_別記様式第４号'!$B4,"この線より上に行を挿入してください。")=0,データ整理_別記様式第４号!F4,"") | L4: =IF(COUNTIF(データ整理_別記様式第４号!$B$2:'データ整理_別記様式第４号'!$B4,"この線より上に行を挿入してください。")=0,データ整理_別記様式第４号!G4,"") | M4: =IF(COUNTIF(データ整理_別記様式第４号!$B$2:'データ整理_別記様式第４号'!$B4,"この線より上に行を挿入してください。")=0,データ整理_別記様式第４号!H4,"")
H5: =IF(COUNTIF(データ整理_別記様式第４号!$B$2:'データ整理_別記様式第４号'!$B5,"この線より上に行を挿入してください。")=0,データ整理_別記様式第４号!B5,"") | I5: =IF(COUNTIF(データ整理_別記様式第４号!$B$2:'データ整理_別記様式第４号'!$B5,"この線より上に行を挿入してください。")=0,データ整理_別記様式第４号!C5,"") | J5: =IF(COUNTIF(データ整理_別記様式第４号!$B$2:'データ整理_別記様式第４号'!$B5,"この線より上に行を挿入してください。")=0,データ整理_別記様式第４号!D5,"") | K5: =IF(COUNTIF(データ整理_別記様式第４号!$B$2:'データ整理_別記様式第４号'!$B5,"この線より上に行を挿入してください。")=0,データ整理_別記様式第４号!F5,"") | L5: =IF(COUNTIF(データ整理_別記様式第４号!$B$2:'データ整理_別記様式第４号'!$B5,"この線より上に行を挿入してください。")=0,データ整理_別記様式第４号!G5,"") | M5: =IF(COUNTIF(データ整理_別記様式第４号!$B$2:'データ整理_別記様式第４号'!$B5,"この線より上に行を挿入してください。")=0,データ整理_別記様式第４号!H5,"")
H6: =IF(COUNTIF(データ整理_別記様式第４号!$B$2:'データ整理_別記様式第４号'!$B6,"この線より上に行を挿入してください。")=0,データ整理_別記様式第４号!B6,"") | I6: =IF(COUNTIF(データ整理_別記様式第４号!$B$2:'データ整理_別記様式第４号'!$B6,"この線より上に行を挿入してください。")=0,データ整理_別記様式第４号!C6,"") | J6: =IF(COUNTIF(データ整理_別記様式第４号!$B$2:'データ整理_別記様式第４号'!$B6,"この線より上に行を挿入してください。")=0,データ整理_別記様式第４号!D6,"") | K6: =IF(COUNTIF(データ整理_別記様式第４号!$B$2:'データ整理_別記様式第４号'!$B6,"この線より上に行を挿入してください。")=0,データ整理_別記様式第４号!F6,"") | L6: =IF(COUNTIF(データ整理_別記様式第４号!$B$2:'データ整理_別記様式第４号'!$B6,"この線より上に行を挿入してください。")=0,データ整理_別記様式第４号!G6,"") | M6: =IF(COUNTIF(データ整理_別記様式第４号!$B$2:'データ整理_別記様式第４号'!$B6,"この線より上に行を挿入してください。")=0,データ整理_別記様式第４号!H6,"")
H7: =IF(COUNTIF(データ整理_別記様式第４号!$B$2:'データ整理_別記様式第４号'!$B7,"この線より上に行を挿入してください。")=0,データ整理_別記様式第４号!B7,"") | I7: =IF(COUNTIF(データ整理_別記様式第４号!$B$2:'データ整理_別記様式第４号'!$B7,"この線より上に行を挿入してください。")=0,データ整理_別記様式第４号!C7,"") | J7: =IF(COUNTIF(データ整理_別記様式第４号!$B$2:'データ整理_別記様式第４号'!$B7,"この線より上に行を挿入してください。")=0,データ整理_別記様式第４号!D7,"") | K7: =IF(COUNTIF(データ整理_別記様式第４号!$B$2:'データ整理_別記様式第４号'!$B7,"この線より上に行を挿入してください。")=0,データ整理_別記様式第４号!F7,"") | L7: =IF(COUNTIF(データ整理_別記様式第４号!$B$2:'データ整理_別記様式第４号'!$B7,"この線より上に行を挿入してください。")=0,データ整理_別記様式第４号!G7,"") | M7: =IF(COUNTIF(データ整理_別記様式第４号!$B$2:'データ整理_別記様式第４号'!$B7,"この線より上に行を挿入してください。")=0,データ整理_別記様式第４号!H7,"")
H8: =IF(COUNTIF(データ整理_別記様式第４号!$B$2:'データ整理_別記様式第４号'!$B8,"この線より上に行を挿入してください。")=0,データ整理_別記様式第４号!B8,"") | I8: =IF(COUNTIF(データ整理_別記様式第４号!$B$2:'データ整理_別記様式第４号'!$B8,"この線より上に行を挿入してください。")=0,データ整理_別記様式第４号!C8,"") | J8: =IF(COUNTIF(データ整理_別記様式第４号!$B$2:'データ整理_別記様式第４号'!$B8,"この線より上に行を挿入してください。")=0,データ整理_別記様式第４号!D8,"") | K8: =IF(COUNTIF(データ整理_別記様式第４号!$B$2:'データ整理_別記様式第４号'!$B8,"この線より上に行を挿入してください。")=0,データ整理_別記様式第４号!F8,"") | L8: =IF(COUNTIF(データ整理_別記様式第４号!$B$2:'データ整理_別記様式第４号'!$B8,"この線より上に行を挿入してください。")=0,データ整理_別記様式第４号!G8,"") | M8: =IF(COUNTIF(データ整理_別記様式第４号!$B$2:'データ整理_別記様式第４号'!$B8,"この線より上に行を挿入してください。")=0,データ整理_別記様式第４号!H8,"")
H9: =IF(COUNTIF(データ整理_別記様式第４号!$B$2:'データ整理_別記様式第４号'!$B9,"この線より上に行を挿入してください。")=0,データ整理_別記様式第４号!B9,"") | I9: =IF(COUNTIF(データ整理_別記様式第４号!$B$2:'データ整理_別記様式第４号'!$B9,"この線より上に行を挿入してください。")=0,データ整理_別記様式第４号!C9,"") | J9: =IF(COUNTIF(データ整理_別記様式第４号!$B$2:'データ整理_別記様式第４号'!$B9,"この線より上に行を挿入してください。")=0,データ整理_別記様式第４号!D9,"") | K9: =IF(COUNTIF(データ整理_別記様式第４号!$B$2:'データ整理_別記様式第４号'!$B9,"この線より上に行を挿入してください。")=0,データ整理_別記様式第４号!F9,"") | L9: =IF(COUNTIF(データ整理_別記様式第４号!$B$2:'データ整理_別記様式第４号'!$B9,"この線より上に行を挿入してください。")=0,データ整理_別記様式第４号!G9,"") | M9: =IF(COUNTIF(データ整理_別記様式第４号!$B$2:'データ整理_別記様式第４号'!$B9,"この線より上に行を挿入してください。")=0,データ整理_別記様式第４号!H9,"")
H10: =IF(COUNTIF(データ整理_別記様式第４号!$B$2:'データ整理_別記様式第４号'!$B10,"この線より上に行を挿入してください。")=0,データ整理_別記様式第４号!B10,"") | I10: =IF(COUNTIF(データ整理_別記様式第４号!$B$2:'データ整理_別記様式第４号'!$B10,"この線より上に行を挿入してください。")=0,データ整理_別記様式第４号!C10,"") | J10: =IF(COUNTIF(データ整理_別記様式第４号!$B$2:'データ整理_別記様式第４号'!$B10,"この線より上に行を挿入してください。")=0,データ整理_別記様式第４号!D10,"") | K10: =IF(COUNTIF(データ整理_別記様式第４号!$B$2:'データ整理_別記様式第４号'!$B10,"この線より上に行を挿入してください。")=0,データ整理_別記様式第４号!F10,"") | L10: =IF(COUNTIF(データ整理_別記様式第４号!$B$2:'データ整理_別記様式第４号'!$B10,"この線より上に行を挿入してください。")=0,データ整理_別記様式第４号!G10,"") | M10: =IF(COUNTIF(データ整理_別記様式第４号!$B$2:'データ整理_別記様式第４号'!$B10,"この線より上に行を挿入してください。")=0,データ整理_別記様式第４号!H10,"")
H11: =IF(COUNTIF(データ整理_別記様式第４号!$B$2:'データ整理_別記様式第４号'!$B11,"この線より上に行を挿入してください。")=0,データ整理_別記様式第４号!B11,"") | I11: =IF(COUNTIF(データ整理_別記様式第４号!$B$2:'データ整理_別記様式第４号'!$B11,"この線より上に行を挿入してください。")=0,データ整理_別記様式第４号!C11,"") | J11: =IF(COUNTIF(データ整理_別記様式第４号!$B$2:'データ整理_別記様式第４号'!$B11,"この線より上に行を挿入してください。")=0,データ整理_別記様式第４号!D11,"") | K11: =IF(COUNTIF(データ整理_別記様式第４号!$B$2:'データ整理_別記様式第４号'!$B11,"この線より上に行を挿入してください。")=0,データ整理_別記様式第４号!F11,"") | L11: =IF(COUNTIF(データ整理_別記様式第４号!$B$2:'データ整理_別記様式第４号'!$B11,"この線より上に行を挿入してください。")=0,データ整理_別記様式第４号!G11,"") | M11: =IF(COUNTIF(データ整理_別記様式第４号!$B$2:'データ整理_別記様式第４号'!$B11,"この線より上に行を挿入してください。")=0,データ整理_別記様式第４号!H11,"")
H12: =IF(COUNTIF(データ整理_別記様式第４号!$B$2:'データ整理_別記様式第４号'!$B12,"この線より上に行を挿入してください。")=0,データ整理_別記様式第４号!B12,"") | I12: =IF(COUNTIF(データ整理_別記様式第４号!$B$2:'データ整理_別記様式第４号'!$B12,"この線より上に行を挿入してください。")=0,データ整理_別記様式第４号!C12,"") | J12: =IF(COUNTIF(データ整理_別記様式第４号!$B$2:'データ整理_別記様式第４号'!$B12,"この線より上に行を挿入してください。")=0,データ整理_別記様式第４号!D12,"") | K12: =IF(COUNTIF(データ整理_別記様式第４号!$B$2:'データ整理_別記様式第４号'!$B12,"この線より上に行を挿入してください。")=0,データ整理_別記様式第４号!F12,"") | L12: =IF(COUNTIF(データ整理_別記様式第４号!$B$2:'データ整理_別記様式第４号'!$B12,"この線より上に行を挿入してください。")=0,データ整理_別記様式第４号!G12,"") | M12: =IF(COUNTIF(データ整理_別記様式第４号!$B$2:'データ整理_別記様式第４号'!$B12,"この線より上に行を挿入してください。")=0,データ整理_別記様式第４号!H12,"")
H13: =IF(COUNTIF(データ整理_別記様式第４号!$B$2:'データ整理_別記様式第４号'!$B13,"この線より上に行を挿入してください。")=0,データ整理_別記様式第４号!B13,"") | I13: =IF(COUNTIF(データ整理_別記様式第４号!$B$2:'データ整理_別記様式第４号'!$B13,"この線より上に行を挿入してください。")=0,データ整理_別記様式第４号!C13,"") | J13: =IF(COUNTIF(データ整理_別記様式第４号!$B$2:'データ整理_別記様式第４号'!$B13,"この線より上に行を挿入してください。")=0,データ整理_別記様式第４号!D13,"") | K13: =IF(COUNTIF(データ整理_別記様式第４号!$B$2:'データ整理_別記様式第４号'!$B13,"この線より上に行を挿入してください。")=0,データ整理_別記様式第４号!F13,"") | L13: =IF(COUNTIF(データ整理_別記様式第４号!$B$2:'データ整理_別記様式第４号'!$B13,"この線より上に行を挿入してください。")=0,データ整理_別記様式第４号!G13,"") | M13: =IF(COUNTIF(データ整理_別記様式第４号!$B$2:'データ整理_別記様式第４号'!$B13,"この線より上に行を挿入してください。")=0,データ整理_別記様式第４号!H13,"")
H14: =IF(COUNTIF(データ整理_別記様式第４号!$B$2:'データ整理_別記様式第４号'!$B14,"この線より上に行を挿入してください。")=0,データ整理_別記様式第４号!B14,"") | I14: =IF(COUNTIF(データ整理_別記様式第４号!$B$2:'データ整理_別記様式第４号'!$B14,"この線より上に行を挿入してください。")=0,データ整理_別記様式第４号!C14,"") | J14: =IF(COUNTIF(データ整理_別記様式第４号!$B$2:'データ整理_別記様式第４号'!$B14,"この線より上に行を挿入してください。")=0,データ整理_別記様式第４号!D14,"") | K14: =IF(COUNTIF(データ整理_別記様式第４号!$B$2:'データ整理_別記様式第４号'!$B14,"この線より上に行を挿入してください。")=0,データ整理_別記様式第４号!F14,"") | L14: =IF(COUNTIF(データ整理_別記様式第４号!$B$2:'データ整理_別記様式第４号'!$B14,"この線より上に行を挿入してください。")=0,データ整理_別記様式第４号!G14,"") | M14: =IF(COUNTIF(データ整理_別記様式第４号!$B$2:'データ整理_別記様式第４号'!$B14,"この線より上に行を挿入してください。")=0,データ整理_別記様式第４号!H14,"")
... H300: =IF(COUNTIF(データ整理_別記様式第４号!$B$2:'データ整理_別記様式第４号'!$B300,"この線より上に行を挿入してください。")=0,データ整理_別記様式第４号!B300,"") | I300: =IF(COUNTIF(データ整理_別記様式第４号!$B$2:'データ整理_別記様式第４号'!$B300,"この線より上に行を挿入してください。")=0,データ整理_別記様式第４号!C300,"") | J300: =IF(COUNTIF(データ整理_別記様式第４号!$B$2:'データ整理_別記様式第４号'!$B300,"この線より上に行を挿入してください。")=0,データ整理_別記様式第４号!D300,"") | K300: =IF(COUNTIF(データ整理_別記様式第４号!$B$2:'データ整理_別記様式第４号'!$B300,"この線より上に行を挿入してください。")=0,データ整理_別記様式第４号!F300,"") | L300: =IF(COUNTIF(データ整理_別記様式第４号!$B$2:'データ整理_別記様式第４号'!$B300,"この線より上に行を挿入してください。")=0,データ整理_別記様式第４号!G300,"") | M300: =IF(COUNTIF(データ整理_別記様式第４号!$B$2:'データ整理_別記様式第４号'!$B300,"この線より上に行を挿入してください。")=0,データ整理_別記様式第４号!H300,"")
