Workbook

Sheet 様式第1-10号
B1: （様式第１－10号）
B2: 【活動組織が作成・保管するもの】 | U2: 農林水産省様式
A3: 財 産 管 理 台 帳
B7: 市町村名 | E7: 対象組織名 | J7: 活動期間 | N7: 年度 | P7: ～ | S7: 年度
B9: 事 業 の 内 容 | G9: 工 期 | J9: 経 費 の 区 分 | P9: 処分制限期間 | S9: 処分の状況 | U9: 備考
B10: 名称 | C10: 工種構造・規格 | E10: 施工箇所 又は 設置場所 | F10: 事業量 | G10: 着工 年月日 | I10: 竣工 年月日 | J10: 総事業費 (単位:円) | K10: 経 費 内 訳(単位:円) | P10: 耐用年数 | Q10: 処分制限 年月日 | S10: 承認 年月日 | T10: 処分の 内容
K11: 国費分 | L11: 地方費分 | N11: その他
B25: この線より上に行を挿入してください。
B26: 計 | J26: =SUM(J13:J24) -> 0 | K26: =SUM(K13:K24) -> 0 | L26: =SUM(L13:L24) -> 0 | M26: =SUM(M13:M24) -> 0 | N26: =SUM(N13:N24) -> 0 | O26: =SUM(O13:O24) -> 0
B28: 注１：処分制限年月日欄には、処分制限の終期を記入すること。
B29: 注２：処分の内容欄には、譲渡、交換、貸付け、担保提供等別に記入すること。
B30: 注３：備考欄には、譲渡先、交換先、貸付け先、抵当権等の設定権者の名称又は交付金返還額を記入すること。
B31: また、外注工事の場合には施工業者名等を記入するなど、今後の財産管理において必要となる事項について適宜記入すること。
B32: 注４：この書式により難い場合には、処分制限期間欄及び処分の状況欄を含む他の書式をもって財産管理台帳に代えることができる。
B33: 注５：複数年にわたって施工する施設については、完成した年度で記載するものとする。
B34: 注６：「名称」は「水路」や「農道」等、対象施設の名称を記入すること。

Sheet 【記入例】様式第1-10号
B1: （様式第１－10号）
B2: 【活動組織が作成・保管するもの】 | U2: 農林水産省様式
A3: 財 産 管 理 台 帳
B7: 市町村名 | E7: 対象組織名 | J7: 活動期間 | L7: 2023 | N7: 年度 | P7: ～ | Q7: 2027 | S7: 年度
B9: 事 業 の 内 容 | G9: 工 期 | J9: 経 費 の 区 分 | P9: 処分制限期間 | S9: 処分の状況 | U9: 備考
B10: 名称 | C10: 工種構造・規格 | E10: 施工箇所 又は 設置場所 | F10: 事業量 | G10: 着工 年月日 | I10: 竣工 年月日 | J10: 総事業費 (単位:円) | K10: 経 費 内 訳(単位:円) | P10: 耐用年数 | Q10: 処分制限 年月日 | S10: 承認 年月日 | T10: 処分の 内容
K11: 国費分 | L11: 地方費分 | N11: その他
B25: この線より上に行を挿入してください。
B26: 計 | J26: =SUM(J13:J24) -> 0 | K26: =SUM(K13:K24) -> 0 | L26: =SUM(L13:L24) -> 0 | M26: =SUM(M13:M24) -> 0 | N26: =SUM(N13:N24) -> 0 | O26: =SUM(O13:O24) -> 0
B28: 注１：処分制限年月日欄には、処分制限の終期を記入すること。
B29: 注２：処分の内容欄には、譲渡、交換、貸付け、担保提供等別に記入すること。
B30: 注３：備考欄には、譲渡先、交換先、貸付け先、抵当権等の設定権者の名称又は交付金返還額を記入すること。
B31: また、外注工事の場合には施工業者名等を記入するなど、今後の財産管理において必要となる事項について適宜記入すること。
B32: 注４：この書式により難い場合には、処分制限期間欄及び処分の状況欄を含む他の書式をもって財産管理台帳に代えることができる。
B33: 注５：複数年にわたって施工する施設については、完成した年度で記載するものとする。
B34: 注６：「名称」は「水路」や「農道」等、対象施設の名称を記入すること。

Sheet データ整理_様式第1-10号
B1: 名称12 | C1: 工種構造・規格12 | D1: 施工箇所又は設置場所12 | E1: 事業量12 | F1: 着工年月日12 | G1: 竣工年月日12 | H1: 総事業費(単位:円)12 | I1: 経費内訳(国費分)12 | J1: 経費内訳(地方費分)12 | K1: 経費内訳(その他)12 | L1: 耐用年数12 | M1: 処分制限年月日12 | N1: 承認年月日12 | O1: 処分の内容12 | P1: 備考12
A2: 1 | B2: =IF(OFFSET('様式第1-10号'!$B$12,$A2,)="","",OFFSET('様式第1-10号'!B$12,$A2,)) | C2: =IF(OFFSET('様式第1-10号'!$B$12,$A2,)="","",OFFSET('様式第1-10号'!C$12,$A2,)) | D2: =IF(OFFSET('様式第1-10号'!$B$12,$A2,)="","",OFFSET('様式第1-10号'!E$12,$A2,)) | E2: =IF(OFFSET('様式第1-10号'!$B$12,$A2,)="","",OFFSET('様式第1-10号'!F$12,$A2,)) | F2: =IF(OFFSET('様式第1-10号'!$B$12,$A2,)="","",OFFSET('様式第1-10号'!G$12,$A2,)) | G2: =IF(OFFSET('様式第1-10号'!$B$12,$A2,)="","",OFFSET('様式第1-10号'!I$12,$A2,)) | H2: =IF(OFFSET('様式第1-10号'!$B$12,$A2,)="","",OFFSET('様式第1-10号'!J$12,$A2,)) | I2: =IF(OFFSET('様式第1-10号'!$B$12,$A2,)="","",OFFSET('様式第1-10号'!K$12,$A2,)) | J2: =IF(OFFSET('様式第1-10号'!$B$12,$A2,)="","",OFFSET('様式第1-10号'!L$12,$A2,)) | K2: =IF(OFFSET('様式第1-10号'!$B$12,$A2,)="","",OFFSET('様式第1-10号'!N$12,$A2,)) | L2: =IF(OFFSET('様式第1-10号'!$B$12,$A2,)="","",OFFSET('様式第1-10号'!P$12,$A2,)) | M2: =IF(OFFSET('様式第1-10号'!$B$12,$A2,)="","",OFFSET('様式第1-10号'!Q$12,$A2,)) | N2: =IF(OFFSET('様式第1-10号'!$B$12,$A2,)="","",OFFSET('様式第1-10号'!S$12,$A2,)) | O2: =IF(OFFSET('様式第1-10号'!$B$12,$A2,)="","",OFFSET('様式第1-10号'!T$12,$A2,)) | P2: =IF(OFFSET('様式第1-10号'!$B$12,$A2,)="","",OFFSET('様式第1-10号'!U$12,$A2,))
A3: 2 | B3: =IF(OFFSET('様式第1-10号'!$B$12,$A3,)="","",OFFSET('様式第1-10号'!B$12,$A3,)) | C3: =IF(OFFSET('様式第1-10号'!$B$12,$A3,)="","",OFFSET('様式第1-10号'!C$12,$A3,)) | D3: =IF(OFFSET('様式第1-10号'!$B$12,$A3,)="","",OFFSET('様式第1-10号'!E$12,$A3,)) | E3: =IF(OFFSET('様式第1-10号'!$B$12,$A3,)="","",OFFSET('様式第1-10号'!F$12,$A3,)) | F3: =IF(OFFSET('様式第1-10号'!$B$12,$A3,)="","",OFFSET('様式第1-10号'!G$12,$A3,)) | G3: =IF(OFFSET('様式第1-10号'!$B$12,$A3,)="","",OFFSET('様式第1-10号'!I$12,$A3,)) | H3: =IF(OFFSET('様式第1-10号'!$B$12,$A3,)="","",OFFSET('様式第1-10号'!J$12,$A3,)) | I3: =IF(OFFSET('様式第1-10号'!$B$12,$A3,)="","",OFFSET('様式第1-10号'!K$12,$A3,)) | J3: =IF(OFFSET('様式第1-10号'!$B$12,$A3,)="","",OFFSET('様式第1-10号'!L$12,$A3,)) | K3: =IF(OFFSET('様式第1-10号'!$B$12,$A3,)="","",OFFSET('様式第1-10号'!N$12,$A3,)) | L3: =IF(OFFSET('様式第1-10号'!$B$12,$A3,)="","",OFFSET('様式第1-10号'!P$12,$A3,)) | M3: =IF(OFFSET('様式第1-10号'!$B$12,$A3,)="","",OFFSET('様式第1-10号'!Q$12,$A3,)) | N3: =IF(OFFSET('様式第1-10号'!$B$12,$A3,)="","",OFFSET('様式第1-10号'!S$12,$A3,)) | O3: =IF(OFFSET('様式第1-10号'!$B$12,$A3,)="","",OFFSET('様式第1-10号'!T$12,$A3,)) | P3: =IF(OFFSET('様式第1-10号'!$B$12,$A3,)="","",OFFSET('様式第1-10号'!U$12,$A3,))
A4: 3 | B4: =IF(OFFSET('様式第1-10号'!$B$12,$A4,)="","",OFFSET('様式第1-10号'!B$12,$A4,)) | C4: =IF(OFFSET('様式第1-10号'!$B$12,$A4,)="","",OFFSET('様式第1-10号'!C$12,$A4,)) | D4: =IF(OFFSET('様式第1-10号'!$B$12,$A4,)="","",OFFSET('様式第1-10号'!E$12,$A4,)) | E4: =IF(OFFSET('様式第1-10号'!$B$12,$A4,)="","",OFFSET('様式第1-10号'!F$12,$A4,)) | F4: =IF(OFFSET('様式第1-10号'!$B$12,$A4,)="","",OFFSET('様式第1-10号'!G$12,$A4,)) | G4: =IF(OFFSET('様式第1-10号'!$B$12,$A4,)="","",OFFSET('様式第1-10号'!I$12,$A4,)) | H4: =IF(OFFSET('様式第1-10号'!$B$12,$A4,)="","",OFFSET('様式第1-10号'!J$12,$A4,)) | I4: =IF(OFFSET('様式第1-10号'!$B$12,$A4,)="","",OFFSET('様式第1-10号'!K$12,$A4,)) | J4: =IF(OFFSET('様式第1-10号'!$B$12,$A4,)="","",OFFSET('様式第1-10号'!L$12,$A4,)) | K4: =IF(OFFSET('様式第1-10号'!$B$12,$A4,)="","",OFFSET('様式第1-10号'!N$12,$A4,)) | L4: =IF(OFFSET('様式第1-10号'!$B$12,$A4,)="","",OFFSET('様式第1-10号'!P$12,$A4,)) | M4: =IF(OFFSET('様式第1-10号'!$B$12,$A4,)="","",OFFSET('様式第1-10号'!Q$12,$A4,)) | N4: =IF(OFFSET('様式第1-10号'!$B$12,$A4,)="","",OFFSET('様式第1-10号'!S$12,$A4,)) | O4: =IF(OFFSET('様式第1-10号'!$B$12,$A4,)="","",OFFSET('様式第1-10号'!T$12,$A4,)) | P4: =IF(OFFSET('様式第1-10号'!$B$12,$A4,)="","",OFFSET('様式第1-10号'!U$12,$A4,))
A5: 4 | B5: =IF(OFFSET('様式第1-10号'!$B$12,$A5,)="","",OFFSET('様式第1-10号'!B$12,$A5,)) | C5: =IF(OFFSET('様式第1-10号'!$B$12,$A5,)="","",OFFSET('様式第1-10号'!C$12,$A5,)) | D5: =IF(OFFSET('様式第1-10号'!$B$12,$A5,)="","",OFFSET('様式第1-10号'!E$12,$A5,)) | E5: =IF(OFFSET('様式第1-10号'!$B$12,$A5,)="","",OFFSET('様式第1-10号'!F$12,$A5,)) | F5: =IF(OFFSET('様式第1-10号'!$B$12,$A5,)="","",OFFSET('様式第1-10号'!G$12,$A5,)) | G5: =IF(OFFSET('様式第1-10号'!$B$12,$A5,)="","",OFFSET('様式第1-10号'!I$12,$A5,)) | H5: =IF(OFFSET('様式第1-10号'!$B$12,$A5,)="","",OFFSET('様式第1-10号'!J$12,$A5,)) | I5: =IF(OFFSET('様式第1-10号'!$B$12,$A5,)="","",OFFSET('様式第1-10号'!K$12,$A5,)) | J5: =IF(OFFSET('様式第1-10号'!$B$12,$A5,)="","",OFFSET('様式第1-10号'!L$12,$A5,)) | K5: =IF(OFFSET('様式第1-10号'!$B$12,$A5,)="","",OFFSET('様式第1-10号'!N$12,$A5,)) | L5: =IF(OFFSET('様式第1-10号'!$B$12,$A5,)="","",OFFSET('様式第1-10号'!P$12,$A5,)) | M5: =IF(OFFSET('様式第1-10号'!$B$12,$A5,)="","",OFFSET('様式第1-10号'!Q$12,$A5,)) | N5: =IF(OFFSET('様式第1-10号'!$B$12,$A5,)="","",OFFSET('様式第1-10号'!S$12,$A5,)) | O5: =IF(OFFSET('様式第1-10号'!$B$12,$A5,)="","",OFFSET('様式第1-10号'!T$12,$A5,)) | P5: =IF(OFFSET('様式第1-10号'!$B$12,$A5,)="","",OFFSET('様式第1-10号'!U$12,$A5,))
A6: 5 | B6: =IF(OFFSET('様式第1-10号'!$B$12,$A6,)="","",OFFSET('様式第1-10号'!B$12,$A6,)) | C6: =IF(OFFSET('様式第1-10号'!$B$12,$A6,)="","",OFFSET('様式第1-10号'!C$12,$A6,)) | D6: =IF(OFFSET('様式第1-10号'!$B$12,$A6,)="","",OFFSET('様式第1-10号'!E$12,$A6,)) | E6: =IF(OFFSET('様式第1-10号'!$B$12,$A6,)="","",OFFSET('様式第1-10号'!F$12,$A6,)) | F6: =IF(OFFSET('様式第1-10号'!$B$12,$A6,)="","",OFFSET('様式第1-10号'!G$12,$A6,)) | G6: =IF(OFFSET('様式第1-10号'!$B$12,$A6,)="","",OFFSET('様式第1-10号'!I$12,$A6,)) | H6: =IF(OFFSET('様式第1-10号'!$B$12,$A6,)="","",OFFSET('様式第1-10号'!J$12,$A6,)) | I6: =IF(OFFSET('様式第1-10号'!$B$12,$A6,)="","",OFFSET('様式第1-10号'!K$12,$A6,)) | J6: =IF(OFFSET('様式第1-10号'!$B$12,$A6,)="","",OFFSET('様式第1-10号'!L$12,$A6,)) | K6: =IF(OFFSET('様式第1-10号'!$B$12,$A6,)="","",OFFSET('様式第1-10号'!N$12,$A6,)) | L6: =IF(OFFSET('様式第1-10号'!$B$12,$A6,)="","",OFFSET('様式第1-10号'!P$12,$A6,)) | M6: =IF(OFFSET('様式第1-10号'!$B$12,$A6,)="","",OFFSET('様式第1-10号'!Q$12,$A6,)) | N6: =IF(OFFSET('様式第1-10号'!$B$12,$A6,)="","",OFFSET('様式第1-10号'!S$12,$A6,)) | O6: =IF(OFFSET('様式第1-10号'!$B$12,$A6,)="","",OFFSET('様式第1-10号'!T$12,$A6,)) | P6: =IF(OFFSET('様式第1-10号'!$B$12,$A6,)="","",OFFSET('様式第1-10号'!U$12,$A6,))
A7: 6 | B7: =IF(OFFSET('様式第1-10号'!$B$12,$A7,)="","",OFFSET('様式第1-10号'!B$12,$A7,)) | C7: =IF(OFFSET('様式第1-10号'!$B$12,$A7,)="","",OFFSET('様式第1-10号'!C$12,$A7,)) | D7: =IF(OFFSET('様式第1-10号'!$B$12,$A7,)="","",OFFSET('様式第1-10号'!E$12,$A7,)) | E7: =IF(OFFSET('様式第1-10号'!$B$12,$A7,)="","",OFFSET('様式第1-10号'!F$12,$A7,)) | F7: =IF(OFFSET('様式第1-10号'!$B$12,$A7,)="","",OFFSET('様式第1-10号'!G$12,$A7,)) | G7: =IF(OFFSET('様式第1-10号'!$B$12,$A7,)="","",OFFSET('様式第1-10号'!I$12,$A7,)) | H7: =IF(OFFSET('様式第1-10号'!$B$12,$A7,)="","",OFFSET('様式第1-10号'!J$12,$A7,)) | I7: =IF(OFFSET('様式第1-10号'!$B$12,$A7,)="","",OFFSET('様式第1-10号'!K$12,$A7,)) | J7: =IF(OFFSET('様式第1-10号'!$B$12,$A7,)="","",OFFSET('様式第1-10号'!L$12,$A7,)) | K7: =IF(OFFSET('様式第1-10号'!$B$12,$A7,)="","",OFFSET('様式第1-10号'!N$12,$A7,)) | L7: =IF(OFFSET('様式第1-10号'!$B$12,$A7,)="","",OFFSET('様式第1-10号'!P$12,$A7,)) | M7: =IF(OFFSET('様式第1-10号'!$B$12,$A7,)="","",OFFSET('様式第1-10号'!Q$12,$A7,)) | N7: =IF(OFFSET('様式第1-10号'!$B$12,$A7,)="","",OFFSET('様式第1-10号'!S$12,$A7,)) | O7: =IF(OFFSET('様式第1-10号'!$B$12,$A7,)="","",OFFSET('様式第1-10号'!T$12,$A7,)) | P7: =IF(OFFSET('様式第1-10号'!$B$12,$A7,)="","",OFFSET('様式第1-10号'!U$12,$A7,))
A8: 7 | B8: =IF(OFFSET('様式第1-10号'!$B$12,$A8,)="","",OFFSET('様式第1-10号'!B$12,$A8,)) | C8: =IF(OFFSET('様式第1-10号'!$B$12,$A8,)="","",OFFSET('様式第1-10号'!C$12,$A8,)) | D8: =IF(OFFSET('様式第1-10号'!$B$12,$A8,)="","",OFFSET('様式第1-10号'!E$12,$A8,)) | E8: =IF(OFFSET('様式第1-10号'!$B$12,$A8,)="","",OFFSET('様式第1-10号'!F$12,$A8,)) | F8: =IF(OFFSET('様式第1-10号'!$B$12,$A8,)="","",OFFSET('様式第1-10号'!G$12,$A8,)) | G8: =IF(OFFSET('様式第1-10号'!$B$12,$A8,)="","",OFFSET('様式第1-10号'!I$12,$A8,)) | H8: =IF(OFFSET('様式第1-10号'!$B$12,$A8,)="","",OFFSET('様式第1-10号'!J$12,$A8,)) | I8: =IF(OFFSET('様式第1-10号'!$B$12,$A8,)="","",OFFSET('様式第1-10号'!K$12,$A8,)) | J8: =IF(OFFSET('様式第1-10号'!$B$12,$A8,)="","",OFFSET('様式第1-10号'!L$12,$A8,)) | K8: =IF(OFFSET('様式第1-10号'!$B$12,$A8,)="","",OFFSET('様式第1-10号'!N$12,$A8,)) | L8: =IF(OFFSET('様式第1-10号'!$B$12,$A8,)="","",OFFSET('様式第1-10号'!P$12,$A8,)) | M8: =IF(OFFSET('様式第1-10号'!$B$12,$A8,)="","",OFFSET('様式第1-10号'!Q$12,$A8,)) | N8: =IF(OFFSET('様式第1-10号'!$B$12,$A8,)="","",OFFSET('様式第1-10号'!S$12,$A8,)) | O8: =IF(OFFSET('様式第1-10号'!$B$12,$A8,)="","",OFFSET('様式第1-10号'!T$12,$A8,)) | P8: =IF(OFFSET('様式第1-10号'!$B$12,$A8,)="","",OFFSET('様式第1-10号'!U$12,$A8,))
A9: 8 | B9: =IF(OFFSET('様式第1-10号'!$B$12,$A9,)="","",OFFSET('様式第1-10号'!B$12,$A9,)) | C9: =IF(OFFSET('様式第1-10号'!$B$12,$A9,)="","",OFFSET('様式第1-10号'!C$12,$A9,)) | D9: =IF(OFFSET('様式第1-10号'!$B$12,$A9,)="","",OFFSET('様式第1-10号'!E$12,$A9,)) | E9: =IF(OFFSET('様式第1-10号'!$B$12,$A9,)="","",OFFSET('様式第1-10号'!F$12,$A9,)) | F9: =IF(OFFSET('様式第1-10号'!$B$12,$A9,)="","",OFFSET('様式第1-10号'!G$12,$A9,)) | G9: =IF(OFFSET('様式第1-10号'!$B$12,$A9,)="","",OFFSET('様式第1-10号'!I$12,$A9,)) | H9: =IF(OFFSET('様式第1-10号'!$B$12,$A9,)="","",OFFSET('様式第1-10号'!J$12,$A9,)) | I9: =IF(OFFSET('様式第1-10号'!$B$12,$A9,)="","",OFFSET('様式第1-10号'!K$12,$A9,)) | J9: =IF(OFFSET('様式第1-10号'!$B$12,$A9,)="","",OFFSET('様式第1-10号'!L$12,$A9,)) | K9: =IF(OFFSET('様式第1-10号'!$B$12,$A9,)="","",OFFSET('様式第1-10号'!N$12,$A9,)) | L9: =IF(OFFSET('様式第1-10号'!$B$12,$A9,)="","",OFFSET('様式第1-10号'!P$12,$A9,)) | M9: =IF(OFFSET('様式第1-10号'!$B$12,$A9,)="","",OFFSET('様式第1-10号'!Q$12,$A9,)) | N9: =IF(OFFSET('様式第1-10号'!$B$12,$A9,)="","",OFFSET('様式第1-10号'!S$12,$A9,)) | O9: =IF(OFFSET('様式第1-10号'!$B$12,$A9,)="","",OFFSET('様式第1-10号'!T$12,$A9,)) | P9: =IF(OFFSET('様式第1-10号'!$B$12,$A9,)="","",OFFSET('様式第1-10号'!U$12,$A9,))
A10: 9 | B10: =IF(OFFSET('様式第1-10号'!$B$12,$A10,)="","",OFFSET('様式第1-10号'!B$12,$A10,)) | C10: =IF(OFFSET('様式第1-10号'!$B$12,$A10,)="","",OFFSET('様式第1-10号'!C$12,$A10,)) | D10: =IF(OFFSET('様式第1-10号'!$B$12,$A10,)="","",OFFSET('様式第1-10号'!E$12,$A10,)) | E10: =IF(OFFSET('様式第1-10号'!$B$12,$A10,)="","",OFFSET('様式第1-10号'!F$12,$A10,)) | F10: =IF(OFFSET('様式第1-10号'!$B$12,$A10,)="","",OFFSET('様式第1-10号'!G$12,$A10,)) | G10: =IF(OFFSET('様式第1-10号'!$B$12,$A10,)="","",OFFSET('様式第1-10号'!I$12,$A10,)) | H10: =IF(OFFSET('様式第1-10号'!$B$12,$A10,)="","",OFFSET('様式第1-10号'!J$12,$A10,)) | I10: =IF(OFFSET('様式第1-10号'!$B$12,$A10,)="","",OFFSET('様式第1-10号'!K$12,$A10,)) | J10: =IF(OFFSET('様式第1-10号'!$B$12,$A10,)="","",OFFSET('様式第1-10号'!L$12,$A10,)) | K10: =IF(OFFSET('様式第1-10号'!$B$12,$A10,)="","",OFFSET('様式第1-10号'!N$12,$A10,)) | L10: =IF(OFFSET('様式第1-10号'!$B$12,$A10,)="","",OFFSET('様式第1-10号'!P$12,$A10,)) | M10: =IF(OFFSET('様式第1-10号'!$B$12,$A10,)="","",OFFSET('様式第1-10号'!Q$12,$A10,)) | N10: =IF(OFFSET('様式第1-10号'!$B$12,$A10,)="","",OFFSET('様式第1-10号'!S$12,$A10,)) | O10: =IF(OFFSET('様式第1-10号'!$B$12,$A10,)="","",OFFSET('様式第1-10号'!T$12,$A10,)) | P10: =IF(OFFSET('様式第1-10号'!$B$12,$A10,)="","",OFFSET('様式第1-10号'!U$12,$A10,))
A11: 10 | B11: =IF(OFFSET('様式第1-10号'!$B$12,$A11,)="","",OFFSET('様式第1-10号'!B$12,$A11,)) | C11: =IF(OFFSET('様式第1-10号'!$B$12,$A11,)="","",OFFSET('様式第1-10号'!C$12,$A11,)) | D11: =IF(OFFSET('様式第1-10号'!$B$12,$A11,)="","",OFFSET('様式第1-10号'!E$12,$A11,)) | E11: =IF(OFFSET('様式第1-10号'!$B$12,$A11,)="","",OFFSET('様式第1-10号'!F$12,$A11,)) | F11: =IF(OFFSET('様式第1-10号'!$B$12,$A11,)="","",OFFSET('様式第1-10号'!G$12,$A11,)) | G11: =IF(OFFSET('様式第1-10号'!$B$12,$A11,)="","",OFFSET('様式第1-10号'!I$12,$A11,)) | H11: =IF(OFFSET('様式第1-10号'!$B$12,$A11,)="","",OFFSET('様式第1-10号'!J$12,$A11,)) | I11: =IF(OFFSET('様式第1-10号'!$B$12,$A11,)="","",OFFSET('様式第1-10号'!K$12,$A11,)) | J11: =IF(OFFSET('様式第1-10号'!$B$12,$A11,)="","",OFFSET('様式第1-10号'!L$12,$A11,)) | K11: =IF(OFFSET('様式第1-10号'!$B$12,$A11,)="","",OFFSET('様式第1-10号'!N$12,$A11,)) | L11: =IF(OFFSET('様式第1-10号'!$B$12,$A11,)="","",OFFSET('様式第1-10号'!P$12,$A11,)) | M11: =IF(OFFSET('様式第1-10号'!$B$12,$A11,)="","",OFFSET('様式第1-10号'!Q$12,$A11,)) | N11: =IF(OFFSET('様式第1-10号'!$B$12,$A11,)="","",OFFSET('様式第1-10号'!S$12,$A11,)) | O11: =IF(OFFSET('様式第1-10号'!$B$12,$A11,)="","",OFFSET('様式第1-10号'!T$12,$A11,)) | P11: =IF(OFFSET('様式第1-10号'!$B$12,$A11,)="","",OFFSET('様式第1-10号'!U$12,$A11,))
A12: 11 | B12: =IF(OFFSET('様式第1-10号'!$B$12,$A12,)="","",OFFSET('様式第1-10号'!B$12,$A12,)) | C12: =IF(OFFSET('様式第1-10号'!$B$12,$A12,)="","",OFFSET('様式第1-10号'!C$12,$A12,)) | D12: =IF(OFFSET('様式第1-10号'!$B$12,$A12,)="","",OFFSET('様式第1-10号'!E$12,$A12,)) | E12: =IF(OFFSET('様式第1-10号'!$B$12,$A12,)="","",OFFSET('様式第1-10号'!F$12,$A12,)) | F12: =IF(OFFSET('様式第1-10号'!$B$12,$A12,)="","",OFFSET('様式第1-10号'!G$12,$A12,)) | G12: =IF(OFFSET('様式第1-10号'!$B$12,$A12,)="","",OFFSET('様式第1-10号'!I$12,$A12,)) | H12: =IF(OFFSET('様式第1-10号'!$B$12,$A12,)="","",OFFSET('様式第1-10号'!J$12,$A12,)) | I12: =IF(OFFSET('様式第1-10号'!$B$12,$A12,)="","",OFFSET('様式第1-10号'!K$12,$A12,)) | J12: =IF(OFFSET('様式第1-10号'!$B$12,$A12,)="","",OFFSET('様式第1-10号'!L$12,$A12,)) | K12: =IF(OFFSET('様式第1-10号'!$B$12,$A12,)="","",OFFSET('様式第1-10号'!N$12,$A12,)) | L12: =IF(OFFSET('様式第1-10号'!$B$12,$A12,)="","",OFFSET('様式第1-10号'!P$12,$A12,)) | M12: =IF(OFFSET('様式第1-10号'!$B$12,$A12,)="","",OFFSET('様式第1-10号'!Q$12,$A12,)) | N12: =IF(OFFSET('様式第1-10号'!$B$12,$A12,)="","",OFFSET('様式第1-10号'!S$12,$A12,)) | O12: =IF(OFFSET('様式第1-10号'!$B$12,$A12,)="","",OFFSET('様式第1-10号'!T$12,$A12,)) | P12: =IF(OFFSET('様式第1-10号'!$B$12,$A12,)="","",OFFSET('様式第1-10号'!U$12,$A12,))
A13: 12 | B13: =IF(OFFSET('様式第1-10号'!$B$12,$A13,)="","",OFFSET('様式第1-10号'!B$12,$A13,)) | C13: =IF(OFFSET('様式第1-10号'!$B$12,$A13,)="","",OFFSET('様式第1-10号'!C$12,$A13,)) | D13: =IF(OFFSET('様式第1-10号'!$B$12,$A13,)="","",OFFSET('様式第1-10号'!E$12,$A13,)) | E13: =IF(OFFSET('様式第1-10号'!$B$12,$A13,)="","",OFFSET('様式第1-10号'!F$12,$A13,)) | F13: =IF(OFFSET('様式第1-10号'!$B$12,$A13,)="","",OFFSET('様式第1-10号'!G$12,$A13,)) | G13: =IF(OFFSET('様式第1-10号'!$B$12,$A13,)="","",OFFSET('様式第1-10号'!I$12,$A13,)) | H13: =IF(OFFSET('様式第1-10号'!$B$12,$A13,)="","",OFFSET('様式第1-10号'!J$12,$A13,)) | I13: =IF(OFFSET('様式第1-10号'!$B$12,$A13,)="","",OFFSET('様式第1-10号'!K$12,$A13,)) | J13: =IF(OFFSET('様式第1-10号'!$B$12,$A13,)="","",OFFSET('様式第1-10号'!L$12,$A13,)) | K13: =IF(OFFSET('様式第1-10号'!$B$12,$A13,)="","",OFFSET('様式第1-10号'!N$12,$A13,)) | L13: =IF(OFFSET('様式第1-10号'!$B$12,$A13,)="","",OFFSET('様式第1-10号'!P$12,$A13,)) | M13: =IF(OFFSET('様式第1-10号'!$B$12,$A13,)="","",OFFSET('様式第1-10号'!Q$12,$A13,)) | N13: =IF(OFFSET('様式第1-10号'!$B$12,$A13,)="","",OFFSET('様式第1-10号'!S$12,$A13,)) | O13: =IF(OFFSET('様式第1-10号'!$B$12,$A13,)="","",OFFSET('様式第1-10号'!T$12,$A13,)) | P13: =IF(OFFSET('様式第1-10号'!$B$12,$A13,)="","",OFFSET('様式第1-10号'!U$12,$A13,))
... A300: 299 | B300: =IF(OFFSET('様式第1-10号'!$B$12,$A300,)="","",OFFSET('様式第1-10号'!B$12,$A300,)) | C300: =IF(OFFSET('様式第1-10号'!$B$12,$A300,)="","",OFFSET('様式第1-10号'!C$12,$A300,)) | D300: =IF(OFFSET('様式第1-10号'!$B$12,$A300,)="","",OFFSET('様式第1-10号'!E$12,$A300,)) | E300: =IF(OFFSET('様式第1-10号'!$B$12,$A300,)="","",OFFSET('様式第1-10号'!F$12,$A300,)) | F300: =IF(OFFSET('様式第1-10号'!$B$12,$A300,)="","",OFFSET('様式第1-10号'!G$12,$A300,)) | G300: =IF(OFFSET('様式第1-10号'!$B$12,$A300,)="","",OFFSET('様式第1-10号'!I$12,$A300,)) | H300: =IF(OFFSET('様式第1-10号'!$B$12,$A300,)="","",OFFSET('様式第1-10号'!J$12,$A300,)) | I300: =IF(OFFSET('様式第1-10号'!$B$12,$A300,)="","",OFFSET('様式第1-10号'!K$12,$A300,)) | J300: =IF(OFFSET('様式第1-10号'!$B$12,$A300,)="","",OFFSET('様式第1-10号'!L$12,$A300,)) | K300: =IF(OFFSET('様式第1-10号'!$B$12,$A300,)="","",OFFSET('様式第1-10号'!N$12,$A300,)) | L300: =IF(OFFSET('様式第1-10号'!$B$12,$A300,)="","",OFFSET('様式第1-10号'!P$12,$A300,)) | M300: =IF(OFFSET('様式第1-10号'!$B$12,$A300,)="","",OFFSET('様式第1-10号'!Q$12,$A300,)) | N300: =IF(OFFSET('様式第1-10号'!$B$12,$A300,)="","",OFFSET('様式第1-10号'!S$12,$A300,)) | O300: =IF(OFFSET('様式第1-10号'!$B$12,$A300,)="","",OFFSET('様式第1-10号'!T$12,$A300,)) | P300: =IF(OFFSET('様式第1-10号'!$B$12,$A300,)="","",OFFSET('様式第1-10号'!U$12,$A300,))

Sheet 別記様式１１財産管理（色なし）【手引き記載例】20150112
A1: （様式第１－11号）
A2: 財 産 管 理 台 帳
B6: 市町村名 | D6: ○○市 | E6: 対象組織名 | F6: ○○地区環境保全会 | J6: 活動期間 | L6: ○○ | N6: 年度 | P6: ～ | Q6: ○○ | S6: 年度
B8: 事 業 の 内 容 | G8: 工 期 | J8: 経 費 の 区 分 | P8: 処分制限期間 | S8: 処分の状況 | U8: 備考
B9: 名称 | C9: 工種構造・規格 | E9: 施工箇所 又は 設置場所 | F9: 事業量 | G9: 着工 年月日 | I9: 竣工 年月日 | J9: 総事業費 (単位:円) | K9: 経 費 内 訳(単位:円) | P9: 耐用年数 | Q9: 処分制限 年月日 | S9: 承認 年月日 | T9: 処分の 内容
K10: 国費分 | L10: 地方費分 | N10: その他
B12: 水路 | C12: ○○用水路 BF-400 | E12: ○○県○○市○○字○○番 | F12: 40ｍ | G12: 42287 | I12: 42318 | J12: 200000 | K12: 100000 | L12: 100000 | N12: 0 | P12: 40 | Q12: 56927
B13: 農道 | C13: 農道○○線 アスファルト舗装（t=5cm） | E13: ○○県○○市○○字○○番 | F13: 50ｍ | G13: 42292 | I13: 42328 | J13: 600000 | K13: 100000 | L13: 100000 | N13: 0 | P13: 10 | Q13: 45980
B24: 計 | J24: =SUM(J12:J23) -> 800000 | K24: =SUM(K12:K23) -> 200000 | L24: =SUM(L12:L23) -> 200000 | M24: =SUM(M12:M23) -> 0 | N24: 0
B26: 注１：処分制限年月日欄には、処分制限の終期を記入すること。
B27: 注２：処分の内容欄には、譲渡、交換、貸付け、担保提供等別に記入すること。
B28: 注３：備考欄には、譲渡先、交換先、貸付け先、抵当権等の設定権者の名称又は交付金返還額を記入すること。
B29: また、外注工事の場合には施工業者名等を記入するなど、今後の財産管理において必要となる事項について適宜記入すること。
B30: 注４：この書式により難い場合には、処分制限期間欄及び処分の状況欄を含む他の書式をもって財産管理台帳に代えることができる。
B31: 注５：複数年にわたって施工する施設については、完成した年度で記載するものとする。
B32: 注６：「名称」は「水路」や「農道」等、対象施設の名称を記入すること。

Sheet データ取込シート_様式第1-10号
A1: 活動期間（開始） | B1: 活動期間（終了） | C1: 名称12 | D1: 工種構造・規格12 | E1: 施工箇所又は設置場所12 | F1: 事業量12 | G1: 着工年月日12 | H1: 竣工年月日12 | I1: 総事業費(単位:円)12 | J1: 経費内訳(国費分)12 | K1: 経費内訳(地方費分)12 | L1: 経費内訳(その他)12 | M1: 耐用年数12 | N1: 処分制限年月日12 | O1: 承認年月日12 | P1: 処分の内容12 | Q1: 備考12
A2: =IF('様式第1-10号'!L7<>"",'様式第1-10号'!L7,"") | B2: =IF('様式第1-10号'!Q7<>"",'様式第1-10号'!Q7,"") | C2: =IF(COUNTIF('データ整理_様式第1-10号'!$B$2:'データ整理_様式第1-10号'!$B2,"この線より上に行を挿入してください。")=0,'データ整理_様式第1-10号'!B2,"") | D2: =IF(COUNTIF('データ整理_様式第1-10号'!$B$2:'データ整理_様式第1-10号'!$B2,"この線より上に行を挿入してください。")=0,'データ整理_様式第1-10号'!C2,"") | E2: =IF(COUNTIF('データ整理_様式第1-10号'!$B$2:'データ整理_様式第1-10号'!$B2,"この線より上に行を挿入してください。")=0,'データ整理_様式第1-10号'!D2,"") | F2: =IF(COUNTIF('データ整理_様式第1-10号'!$B$2:'データ整理_様式第1-10号'!$B2,"この線より上に行を挿入してください。")=0,'データ整理_様式第1-10号'!E2,"") | G2: =IF(COUNTIF('データ整理_様式第1-10号'!$B$2:'データ整理_様式第1-10号'!$B2,"この線より上に行を挿入してください。")=0,'データ整理_様式第1-10号'!F2,"") | H2: =IF(COUNTIF('データ整理_様式第1-10号'!$B$2:'データ整理_様式第1-10号'!$B2,"この線より上に行を挿入してください。")=0,'データ整理_様式第1-10号'!G2,"") | I2: =IF(COUNTIF('データ整理_様式第1-10号'!$B$2:'データ整理_様式第1-10号'!$B2,"この線より上に行を挿入してください。")=0,'データ整理_様式第1-10号'!H2,"") | J2: =IF(COUNTIF('データ整理_様式第1-10号'!$B$2:'データ整理_様式第1-10号'!$B2,"この線より上に行を挿入してください。")=0,'データ整理_様式第1-10号'!I2,"") | ... Q2: =IF(COUNTIF('データ整理_様式第1-10号'!$B$2:'データ整理_様式第1-10号'!$B2,"この線より上に行を挿入してください。")=0,'データ整理_様式第1-10号'!P2,"")
C3: =IF(COUNTIF('データ整理_様式第1-10号'!$B$2:'データ整理_様式第1-10号'!$B3,"この線より上に行を挿入してください。")=0,'データ整理_様式第1-10号'!B3,"") | D3: =IF(COUNTIF('データ整理_様式第1-10号'!$B$2:'データ整理_様式第1-10号'!$B3,"この線より上に行を挿入してください。")=0,'データ整理_様式第1-10号'!C3,"") | E3: =IF(COUNTIF('データ整理_様式第1-10号'!$B$2:'データ整理_様式第1-10号'!$B3,"この線より上に行を挿入してください。")=0,'データ整理_様式第1-10号'!D3,"") | F3: =IF(COUNTIF('データ整理_様式第1-10号'!$B$2:'データ整理_様式第1-10号'!$B3,"この線より上に行を挿入してください。")=0,'データ整理_様式第1-10号'!E3,"") | G3: =IF(COUNTIF('データ整理_様式第1-10号'!$B$2:'データ整理_様式第1-10号'!$B3,"この線より上に行を挿入してください。")=0,'データ整理_様式第1-10号'!F3,"") | H3: =IF(COUNTIF('データ整理_様式第1-10号'!$B$2:'データ整理_様式第1-10号'!$B3,"この線より上に行を挿入してください。")=0,'データ整理_様式第1-10号'!G3,"") | I3: =IF(COUNTIF('データ整理_様式第1-10号'!$B$2:'データ整理_様式第1-10号'!$B3,"この線より上に行を挿入してください。")=0,'データ整理_様式第1-10号'!H3,"") | J3: =IF(COUNTIF('データ整理_様式第1-10号'!$B$2:'データ整理_様式第1-10号'!$B3,"この線より上に行を挿入してください。")=0,'データ整理_様式第1-10号'!I3,"") | ... Q3: =IF(COUNTIF('データ整理_様式第1-10号'!$B$2:'データ整理_様式第1-10号'!$B3,"この線より上に行を挿入してください。")=0,'データ整理_様式第1-10号'!P3,"")
C4: =IF(COUNTIF('データ整理_様式第1-10号'!$B$2:'データ整理_様式第1-10号'!$B4,"この線より上に行を挿入してください。")=0,'データ整理_様式第1-10号'!B4,"") | D4: =IF(COUNTIF('データ整理_様式第1-10号'!$B$2:'データ整理_様式第1-10号'!$B4,"この線より上に行を挿入してください。")=0,'データ整理_様式第1-10号'!C4,"") | E4: =IF(COUNTIF('データ整理_様式第1-10号'!$B$2:'データ整理_様式第1-10号'!$B4,"この線より上に行を挿入してください。")=0,'データ整理_様式第1-10号'!D4,"") | F4: =IF(COUNTIF('データ整理_様式第1-10号'!$B$2:'データ整理_様式第1-10号'!$B4,"この線より上に行を挿入してください。")=0,'データ整理_様式第1-10号'!E4,"") | G4: =IF(COUNTIF('データ整理_様式第1-10号'!$B$2:'データ整理_様式第1-10号'!$B4,"この線より上に行を挿入してください。")=0,'データ整理_様式第1-10号'!F4,"") | H4: =IF(COUNTIF('データ整理_様式第1-10号'!$B$2:'データ整理_様式第1-10号'!$B4,"この線より上に行を挿入してください。")=0,'データ整理_様式第1-10号'!G4,"") | I4: =IF(COUNTIF('データ整理_様式第1-10号'!$B$2:'データ整理_様式第1-10号'!$B4,"この線より上に行を挿入してください。")=0,'データ整理_様式第1-10号'!H4,"") | J4: =IF(COUNTIF('データ整理_様式第1-10号'!$B$2:'データ整理_様式第1-10号'!$B4,"この線より上に行を挿入してください。")=0,'データ整理_様式第1-10号'!I4,"") | ... Q4: =IF(COUNTIF('データ整理_様式第1-10号'!$B$2:'データ整理_様式第1-10号'!$B4,"この線より上に行を挿入してください。")=0,'データ整理_様式第1-10号'!P4,"")
C5: =IF(COUNTIF('データ整理_様式第1-10号'!$B$2:'データ整理_様式第1-10号'!$B5,"この線より上に行を挿入してください。")=0,'データ整理_様式第1-10号'!B5,"") | D5: =IF(COUNTIF('データ整理_様式第1-10号'!$B$2:'データ整理_様式第1-10号'!$B5,"この線より上に行を挿入してください。")=0,'データ整理_様式第1-10号'!C5,"") | E5: =IF(COUNTIF('データ整理_様式第1-10号'!$B$2:'データ整理_様式第1-10号'!$B5,"この線より上に行を挿入してください。")=0,'データ整理_様式第1-10号'!D5,"") | F5: =IF(COUNTIF('データ整理_様式第1-10号'!$B$2:'データ整理_様式第1-10号'!$B5,"この線より上に行を挿入してください。")=0,'データ整理_様式第1-10号'!E5,"") | G5: =IF(COUNTIF('データ整理_様式第1-10号'!$B$2:'データ整理_様式第1-10号'!$B5,"この線より上に行を挿入してください。")=0,'データ整理_様式第1-10号'!F5,"") | H5: =IF(COUNTIF('データ整理_様式第1-10号'!$B$2:'データ整理_様式第1-10号'!$B5,"この線より上に行を挿入してください。")=0,'データ整理_様式第1-10号'!G5,"") | I5: =IF(COUNTIF('データ整理_様式第1-10号'!$B$2:'データ整理_様式第1-10号'!$B5,"この線より上に行を挿入してください。")=0,'データ整理_様式第1-10号'!H5,"") | J5: =IF(COUNTIF('データ整理_様式第1-10号'!$B$2:'データ整理_様式第1-10号'!$B5,"この線より上に行を挿入してください。")=0,'データ整理_様式第1-10号'!I5,"") | ... Q5: =IF(COUNTIF('データ整理_様式第1-10号'!$B$2:'データ整理_様式第1-10号'!$B5,"この線より上に行を挿入してください。")=0,'データ整理_様式第1-10号'!P5,"")
C6: =IF(COUNTIF('データ整理_様式第1-10号'!$B$2:'データ整理_様式第1-10号'!$B6,"この線より上に行を挿入してください。")=0,'データ整理_様式第1-10号'!B6,"") | D6: =IF(COUNTIF('データ整理_様式第1-10号'!$B$2:'データ整理_様式第1-10号'!$B6,"この線より上に行を挿入してください。")=0,'データ整理_様式第1-10号'!C6,"") | E6: =IF(COUNTIF('データ整理_様式第1-10号'!$B$2:'データ整理_様式第1-10号'!$B6,"この線より上に行を挿入してください。")=0,'データ整理_様式第1-10号'!D6,"") | F6: =IF(COUNTIF('データ整理_様式第1-10号'!$B$2:'データ整理_様式第1-10号'!$B6,"この線より上に行を挿入してください。")=0,'データ整理_様式第1-10号'!E6,"") | G6: =IF(COUNTIF('データ整理_様式第1-10号'!$B$2:'データ整理_様式第1-10号'!$B6,"この線より上に行を挿入してください。")=0,'データ整理_様式第1-10号'!F6,"") | H6: =IF(COUNTIF('データ整理_様式第1-10号'!$B$2:'データ整理_様式第1-10号'!$B6,"この線より上に行を挿入してください。")=0,'データ整理_様式第1-10号'!G6,"") | I6: =IF(COUNTIF('データ整理_様式第1-10号'!$B$2:'データ整理_様式第1-10号'!$B6,"この線より上に行を挿入してください。")=0,'データ整理_様式第1-10号'!H6,"") | J6: =IF(COUNTIF('データ整理_様式第1-10号'!$B$2:'データ整理_様式第1-10号'!$B6,"この線より上に行を挿入してください。")=0,'データ整理_様式第1-10号'!I6,"") | ... Q6: =IF(COUNTIF('データ整理_様式第1-10号'!$B$2:'データ整理_様式第1-10号'!$B6,"この線より上に行を挿入してください。")=0,'データ整理_様式第1-10号'!P6,"")
C7: =IF(COUNTIF('データ整理_様式第1-10号'!$B$2:'データ整理_様式第1-10号'!$B7,"この線より上に行を挿入してください。")=0,'データ整理_様式第1-10号'!B7,"") | D7: =IF(COUNTIF('データ整理_様式第1-10号'!$B$2:'データ整理_様式第1-10号'!$B7,"この線より上に行を挿入してください。")=0,'データ整理_様式第1-10号'!C7,"") | E7: =IF(COUNTIF('データ整理_様式第1-10号'!$B$2:'データ整理_様式第1-10号'!$B7,"この線より上に行を挿入してください。")=0,'データ整理_様式第1-10号'!D7,"") | F7: =IF(COUNTIF('データ整理_様式第1-10号'!$B$2:'データ整理_様式第1-10号'!$B7,"この線より上に行を挿入してください。")=0,'データ整理_様式第1-10号'!E7,"") | G7: =IF(COUNTIF('データ整理_様式第1-10号'!$B$2:'データ整理_様式第1-10号'!$B7,"この線より上に行を挿入してください。")=0,'データ整理_様式第1-10号'!F7,"") | H7: =IF(COUNTIF('データ整理_様式第1-10号'!$B$2:'データ整理_様式第1-10号'!$B7,"この線より上に行を挿入してください。")=0,'データ整理_様式第1-10号'!G7,"") | I7: =IF(COUNTIF('データ整理_様式第1-10号'!$B$2:'データ整理_様式第1-10号'!$B7,"この線より上に行を挿入してください。")=0,'データ整理_様式第1-10号'!H7,"") | J7: =IF(COUNTIF('データ整理_様式第1-10号'!$B$2:'データ整理_様式第1-10号'!$B7,"この線より上に行を挿入してください。")=0,'データ整理_様式第1-10号'!I7,"") | ... Q7: =IF(COUNTIF('データ整理_様式第1-10号'!$B$2:'データ整理_様式第1-10号'!$B7,"この線より上に行を挿入してください。")=0,'データ整理_様式第1-10号'!P7,"")
C8: =IF(COUNTIF('データ整理_様式第1-10号'!$B$2:'データ整理_様式第1-10号'!$B8,"この線より上に行を挿入してください。")=0,'データ整理_様式第1-10号'!B8,"") | D8: =IF(COUNTIF('データ整理_様式第1-10号'!$B$2:'データ整理_様式第1-10号'!$B8,"この線より上に行を挿入してください。")=0,'データ整理_様式第1-10号'!C8,"") | E8: =IF(COUNTIF('データ整理_様式第1-10号'!$B$2:'データ整理_様式第1-10号'!$B8,"この線より上に行を挿入してください。")=0,'データ整理_様式第1-10号'!D8,"") | F8: =IF(COUNTIF('データ整理_様式第1-10号'!$B$2:'データ整理_様式第1-10号'!$B8,"この線より上に行を挿入してください。")=0,'データ整理_様式第1-10号'!E8,"") | G8: =IF(COUNTIF('データ整理_様式第1-10号'!$B$2:'データ整理_様式第1-10号'!$B8,"この線より上に行を挿入してください。")=0,'データ整理_様式第1-10号'!F8,"") | H8: =IF(COUNTIF('データ整理_様式第1-10号'!$B$2:'データ整理_様式第1-10号'!$B8,"この線より上に行を挿入してください。")=0,'データ整理_様式第1-10号'!G8,"") | I8: =IF(COUNTIF('データ整理_様式第1-10号'!$B$2:'データ整理_様式第1-10号'!$B8,"この線より上に行を挿入してください。")=0,'データ整理_様式第1-10号'!H8,"") | J8: =IF(COUNTIF('データ整理_様式第1-10号'!$B$2:'データ整理_様式第1-10号'!$B8,"この線より上に行を挿入してください。")=0,'データ整理_様式第1-10号'!I8,"") | ... Q8: =IF(COUNTIF('データ整理_様式第1-10号'!$B$2:'データ整理_様式第1-10号'!$B8,"この線より上に行を挿入してください。")=0,'データ整理_様式第1-10号'!P8,"")
C9: =IF(COUNTIF('データ整理_様式第1-10号'!$B$2:'データ整理_様式第1-10号'!$B9,"この線より上に行を挿入してください。")=0,'データ整理_様式第1-10号'!B9,"") | D9: =IF(COUNTIF('データ整理_様式第1-10号'!$B$2:'データ整理_様式第1-10号'!$B9,"この線より上に行を挿入してください。")=0,'データ整理_様式第1-10号'!C9,"") | E9: =IF(COUNTIF('データ整理_様式第1-10号'!$B$2:'データ整理_様式第1-10号'!$B9,"この線より上に行を挿入してください。")=0,'データ整理_様式第1-10号'!D9,"") | F9: =IF(COUNTIF('データ整理_様式第1-10号'!$B$2:'データ整理_様式第1-10号'!$B9,"この線より上に行を挿入してください。")=0,'データ整理_様式第1-10号'!E9,"") | G9: =IF(COUNTIF('データ整理_様式第1-10号'!$B$2:'データ整理_様式第1-10号'!$B9,"この線より上に行を挿入してください。")=0,'データ整理_様式第1-10号'!F9,"") | H9: =IF(COUNTIF('データ整理_様式第1-10号'!$B$2:'データ整理_様式第1-10号'!$B9,"この線より上に行を挿入してください。")=0,'データ整理_様式第1-10号'!G9,"") | I9: =IF(COUNTIF('データ整理_様式第1-10号'!$B$2:'データ整理_様式第1-10号'!$B9,"この線より上に行を挿入してください。")=0,'データ整理_様式第1-10号'!H9,"") | J9: =IF(COUNTIF('データ整理_様式第1-10号'!$B$2:'データ整理_様式第1-10号'!$B9,"この線より上に行を挿入してください。")=0,'データ整理_様式第1-10号'!I9,"") | ... Q9: =IF(COUNTIF('データ整理_様式第1-10号'!$B$2:'データ整理_様式第1-10号'!$B9,"この線より上に行を挿入してください。")=0,'データ整理_様式第1-10号'!P9,"")
C10: =IF(COUNTIF('データ整理_様式第1-10号'!$B$2:'データ整理_様式第1-10号'!$B10,"この線より上に行を挿入してください。")=0,'データ整理_様式第1-10号'!B10,"") | D10: =IF(COUNTIF('データ整理_様式第1-10号'!$B$2:'データ整理_様式第1-10号'!$B10,"この線より上に行を挿入してください。")=0,'データ整理_様式第1-10号'!C10,"") | E10: =IF(COUNTIF('データ整理_様式第1-10号'!$B$2:'データ整理_様式第1-10号'!$B10,"この線より上に行を挿入してください。")=0,'データ整理_様式第1-10号'!D10,"") | F10: =IF(COUNTIF('データ整理_様式第1-10号'!$B$2:'データ整理_様式第1-10号'!$B10,"この線より上に行を挿入してください。")=0,'データ整理_様式第1-10号'!E10,"") | G10: =IF(COUNTIF('データ整理_様式第1-10号'!$B$2:'データ整理_様式第1-10号'!$B10,"この線より上に行を挿入してください。")=0,'データ整理_様式第1-10号'!F10,"") | H10: =IF(COUNTIF('データ整理_様式第1-10号'!$B$2:'データ整理_様式第1-10号'!$B10,"この線より上に行を挿入してください。")=0,'データ整理_様式第1-10号'!G10,"") | I10: =IF(COUNTIF('データ整理_様式第1-10号'!$B$2:'データ整理_様式第1-10号'!$B10,"この線より上に行を挿入してください。")=0,'データ整理_様式第1-10号'!H10,"") | J10: =IF(COUNTIF('データ整理_様式第1-10号'!$B$2:'データ整理_様式第1-10号'!$B10,"この線より上に行を挿入してください。")=0,'データ整理_様式第1-10号'!I10,"") | ... Q10: =IF(COUNTIF('データ整理_様式第1-10号'!$B$2:'データ整理_様式第1-10号'!$B10,"この線より上に行を挿入してください。")=0,'データ整理_様式第1-10号'!P10,"")
C11: =IF(COUNTIF('データ整理_様式第1-10号'!$B$2:'データ整理_様式第1-10号'!$B11,"この線より上に行を挿入してください。")=0,'データ整理_様式第1-10号'!B11,"") | D11: =IF(COUNTIF('データ整理_様式第1-10号'!$B$2:'データ整理_様式第1-10号'!$B11,"この線より上に行を挿入してください。")=0,'データ整理_様式第1-10号'!C11,"") | E11: =IF(COUNTIF('データ整理_様式第1-10号'!$B$2:'データ整理_様式第1-10号'!$B11,"この線より上に行を挿入してください。")=0,'データ整理_様式第1-10号'!D11,"") | F11: =IF(COUNTIF('データ整理_様式第1-10号'!$B$2:'データ整理_様式第1-10号'!$B11,"この線より上に行を挿入してください。")=0,'データ整理_様式第1-10号'!E11,"") | G11: =IF(COUNTIF('データ整理_様式第1-10号'!$B$2:'データ整理_様式第1-10号'!$B11,"この線より上に行を挿入してください。")=0,'データ整理_様式第1-10号'!F11,"") | H11: =IF(COUNTIF('データ整理_様式第1-10号'!$B$2:'データ整理_様式第1-10号'!$B11,"この線より上に行を挿入してください。")=0,'データ整理_様式第1-10号'!G11,"") | I11: =IF(COUNTIF('データ整理_様式第1-10号'!$B$2:'データ整理_様式第1-10号'!$B11,"この線より上に行を挿入してください。")=0,'データ整理_様式第1-10号'!H11,"") | J11: =IF(COUNTIF('データ整理_様式第1-10号'!$B$2:'データ整理_様式第1-10号'!$B11,"この線より上に行を挿入してください。")=0,'データ整理_様式第1-10号'!I11,"") | ... Q11: =IF(COUNTIF('データ整理_様式第1-10号'!$B$2:'データ整理_様式第1-10号'!$B11,"この線より上に行を挿入してください。")=0,'データ整理_様式第1-10号'!P11,"")
C12: =IF(COUNTIF('データ整理_様式第1-10号'!$B$2:'データ整理_様式第1-10号'!$B12,"この線より上に行を挿入してください。")=0,'データ整理_様式第1-10号'!B12,"") | D12: =IF(COUNTIF('データ整理_様式第1-10号'!$B$2:'データ整理_様式第1-10号'!$B12,"この線より上に行を挿入してください。")=0,'データ整理_様式第1-10号'!C12,"") | E12: =IF(COUNTIF('データ整理_様式第1-10号'!$B$2:'データ整理_様式第1-10号'!$B12,"この線より上に行を挿入してください。")=0,'データ整理_様式第1-10号'!D12,"") | F12: =IF(COUNTIF('データ整理_様式第1-10号'!$B$2:'データ整理_様式第1-10号'!$B12,"この線より上に行を挿入してください。")=0,'データ整理_様式第1-10号'!E12,"") | G12: =IF(COUNTIF('データ整理_様式第1-10号'!$B$2:'データ整理_様式第1-10号'!$B12,"この線より上に行を挿入してください。")=0,'データ整理_様式第1-10号'!F12,"") | H12: =IF(COUNTIF('データ整理_様式第1-10号'!$B$2:'データ整理_様式第1-10号'!$B12,"この線より上に行を挿入してください。")=0,'データ整理_様式第1-10号'!G12,"") | I12: =IF(COUNTIF('データ整理_様式第1-10号'!$B$2:'データ整理_様式第1-10号'!$B12,"この線より上に行を挿入してください。")=0,'データ整理_様式第1-10号'!H12,"") | J12: =IF(COUNTIF('データ整理_様式第1-10号'!$B$2:'データ整理_様式第1-10号'!$B12,"この線より上に行を挿入してください。")=0,'データ整理_様式第1-10号'!I12,"") | ... Q12: =IF(COUNTIF('データ整理_様式第1-10号'!$B$2:'データ整理_様式第1-10号'!$B12,"この線より上に行を挿入してください。")=0,'データ整理_様式第1-10号'!P12,"")
C13: =IF(COUNTIF('データ整理_様式第1-10号'!$B$2:'データ整理_様式第1-10号'!$B13,"この線より上に行を挿入してください。")=0,'データ整理_様式第1-10号'!B13,"") | D13: =IF(COUNTIF('データ整理_様式第1-10号'!$B$2:'データ整理_様式第1-10号'!$B13,"この線より上に行を挿入してください。")=0,'データ整理_様式第1-10号'!C13,"") | E13: =IF(COUNTIF('データ整理_様式第1-10号'!$B$2:'データ整理_様式第1-10号'!$B13,"この線より上に行を挿入してください。")=0,'データ整理_様式第1-10号'!D13,"") | F13: =IF(COUNTIF('データ整理_様式第1-10号'!$B$2:'データ整理_様式第1-10号'!$B13,"この線より上に行を挿入してください。")=0,'データ整理_様式第1-10号'!E13,"") | G13: =IF(COUNTIF('データ整理_様式第1-10号'!$B$2:'データ整理_様式第1-10号'!$B13,"この線より上に行を挿入してください。")=0,'データ整理_様式第1-10号'!F13,"") | H13: =IF(COUNTIF('データ整理_様式第1-10号'!$B$2:'データ整理_様式第1-10号'!$B13,"この線より上に行を挿入してください。")=0,'データ整理_様式第1-10号'!G13,"") | I13: =IF(COUNTIF('データ整理_様式第1-10号'!$B$2:'データ整理_様式第1-10号'!$B13,"この線より上に行を挿入してください。")=0,'データ整理_様式第1-10号'!H13,"") | J13: =IF(COUNTIF('データ整理_様式第1-10号'!$B$2:'データ整理_様式第1-10号'!$B13,"この線より上に行を挿入してください。")=0,'データ整理_様式第1-10号'!I13,"") | ... Q13: =IF(COUNTIF('データ整理_様式第1-10号'!$B$2:'データ整理_様式第1-10号'!$B13,"この線より上に行を挿入してください。")=0,'データ整理_様式第1-10号'!P13,"")
C14: =IF(COUNTIF('データ整理_様式第1-10号'!$B$2:'データ整理_様式第1-10号'!$B14,"この線より上に行を挿入してください。")=0,'データ整理_様式第1-10号'!B14,"") | D14: =IF(COUNTIF('データ整理_様式第1-10号'!$B$2:'データ整理_様式第1-10号'!$B14,"この線より上に行を挿入してください。")=0,'データ整理_様式第1-10号'!C14,"") | E14: =IF(COUNTIF('データ整理_様式第1-10号'!$B$2:'データ整理_様式第1-10号'!$B14,"この線より上に行を挿入してください。")=0,'データ整理_様式第1-10号'!D14,"") | F14: =IF(COUNTIF('データ整理_様式第1-10号'!$B$2:'データ整理_様式第1-10号'!$B14,"この線より上に行を挿入してください。")=0,'データ整理_様式第1-10号'!E14,"") | G14: =IF(COUNTIF('データ整理_様式第1-10号'!$B$2:'データ整理_様式第1-10号'!$B14,"この線より上に行を挿入してください。")=0,'データ整理_様式第1-10号'!F14,"") | H14: =IF(COUNTIF('データ整理_様式第1-10号'!$B$2:'データ整理_様式第1-10号'!$B14,"この線より上に行を挿入してください。")=0,'データ整理_様式第1-10号'!G14,"") | I14: =IF(COUNTIF('データ整理_様式第1-10号'!$B$2:'データ整理_様式第1-10号'!$B14,"この線より上に行を挿入してください。")=0,'データ整理_様式第1-10号'!H14,"") | J14: =IF(COUNTIF('データ整理_様式第1-10号'!$B$2:'データ整理_様式第1-10号'!$B14,"この線より上に行を挿入してください。")=0,'データ整理_様式第1-10号'!I14,"") | ... Q14: =IF(COUNTIF('データ整理_様式第1-10号'!$B$2:'データ整理_様式第1-10号'!$B14,"この線より上に行を挿入してください。")=0,'データ整理_様式第1-10号'!P14,"")
... C300: =IF(COUNTIF('データ整理_様式第1-10号'!$B$2:'データ整理_様式第1-10号'!$B300,"この線より上に行を挿入してください。")=0,'データ整理_様式第1-10号'!B300,"") | D300: =IF(COUNTIF('データ整理_様式第1-10号'!$B$2:'データ整理_様式第1-10号'!$B300,"この線より上に行を挿入してください。")=0,'データ整理_様式第1-10号'!C300,"") | E300: =IF(COUNTIF('データ整理_様式第1-10号'!$B$2:'データ整理_様式第1-10号'!$B300,"この線より上に行を挿入してください。")=0,'データ整理_様式第1-10号'!D300,"") | F300: =IF(COUNTIF('データ整理_様式第1-10号'!$B$2:'データ整理_様式第1-10号'!$B300,"この線より上に行を挿入してください。")=0,'データ整理_様式第1-10号'!E300,"") | G300: =IF(COUNTIF('データ整理_様式第1-10号'!$B$2:'データ整理_様式第1-10号'!$B300,"この線より上に行を挿入してください。")=0,'データ整理_様式第1-10号'!F300,"") | H300: =IF(COUNTIF('データ整理_様式第1-10号'!$B$2:'データ整理_様式第1-10号'!$B300,"この線より上に行を挿入してください。")=0,'データ整理_様式第1-10号'!G300,"") | I300: =IF(COUNTIF('データ整理_様式第1-10号'!$B$2:'データ整理_様式第1-10号'!$B300,"この線より上に行を挿入してください。")=0,'データ整理_様式第1-10号'!H300,"") | J300: =IF(COUNTIF('データ整理_様式第1-10号'!$B$2:'データ整理_様式第1-10号'!$B300,"この線より上に行を挿入してください。")=0,'データ整理_様式第1-10号'!I300,"") | ... Q300: =IF(COUNTIF('データ整理_様式第1-10号'!$B$2:'データ整理_様式第1-10号'!$B300,"この線より上に行を挿入してください。")=0,'データ整理_様式第1-10号'!P300,"")
