Workbook

Sheet 別記様式第３号
A1: 別記様式第３号（第７及び第９関係）
A4: ○○年度多面的機能支払交付金概算払請求書
A10: 地方農政局長 | F10: 殿
A11: （北海道にあっては農林水産大臣
A12: 沖縄県にあっては内閣府沖縄総合事務局長）
A14: 官署支出官 | F14: 殿
A15: （第７条第１項に定める官署支出官名を記入）
G17: 都道府県知事
D20: 付け | H20: で交付決定通知のあった事業について、多面的機能支払
A21: 交付金交付要綱第７の規定により概算払を受けたいので、下記のとおり請求する。
A22: ［※］また、併せて同要綱第９の規定に基づき、その遂行状況を下記のとおり報告する。
A25: 記
A28: １．請求金額 | M28: 円
A30: ２．請求金額の内訳 | M30: 現在
A31: 経費区分 | D31: 交付決定額 ① | G31: 既受領額 ② | J31: 今回請求額 ③ | N31: 残 高 ①-(②+③) | Q31: 備考
J33: 金額
L34: まで
L35: 出来高予想
A36: 農地維持支払交付金 | D36: 0 | G36: 0 | J36: 0 | L36: =(G36+J36)/D36 -> #DIV/0! | N36: =D36-(G36+J36) -> 0
A37: 資源向上支払交付金 | D37: 0 | G37: 0 | J37: 0 | L37: =(G37+J37)/D37 -> #DIV/0! | N37: =D37-(G37+J37) -> 0
A38: 計 | D38: =D36+D37 -> 0 | G38: =G36+G37 -> 0 | J38: =J36+J37 -> 0 | L38: =(G38+J38)/D38 -> #DIV/0! | N38: =D38-(G38+J38) -> 0
A40: ３．事業遂行状況 ［※］
A41: 経費区分 | D41: 国 費（A) | L41: 進捗率 （B)/（A) | P41: 備考
H42: 事業遂行状況（B)
H44: までに完了したもの
A46: 農地維持支払交付金 | D46: 0 | H46: 0 | L46: =H46/D46 -> #DIV/0!
A47: 資源向上支払交付金 | D47: 0 | H47: 0 | L47: =H47/D47 -> #DIV/0!
A48: 計 | D48: =D46+D47 -> 0 | H48: =H46+H47 -> 0 | L48: =H48/D48 -> #DIV/0!
A49: （注）「事業の遂行状況」の欄には、交付金の支払い金額を記載すること。
A51: ４．事業の完了予定
A54: （注） ［※］については、多面的機能支払交付金交付要綱第９に規定する報告の場合のみ記載すること。

Sheet 【記入例】別記様式第３号
A1: 別記様式第３号（第７及び第９関係）
A4: ○○年度多面的機能支払交付金概算払請求書
N7: 番 号
N8: 45017
A10: 地方農政局長 | F10: 殿
A11: （北海道にあっては農林水産大臣
A12: 沖縄県にあっては内閣府沖縄総合事務局長）
A14: 官署支出官 | F14: 殿
A15: （第７条第１項に定める官署支出官名を記入）
G17: 都道府県知事 | N17: 氏 名
A20: 45017 | D20: 付け | E20: 1234 | H20: で交付決定通知のあった事業について、多面的機能支払
A21: 交付金交付要綱第７の規定により概算払を受けたいので、下記のとおり請求する。
A22: ［※］また、併せて同要綱第９の規定に基づき、その遂行状況を下記のとおり報告する。
A25: 記
A28: １．請求金額 | M28: 円
A30: ２．請求金額の内訳 | H30: 45017 | M30: 現在
A31: 経費区分 | D31: 交付決定額 ① | G31: 既受領額 ② | J31: 今回請求額 ③ | N31: 残 高 ①-(②+③) | Q31: 備考
J33: 金額 | L33: 45017
L34: まで
L35: 出来高予想
A36: 農地維持支払交付金 | L36: =(G36+J36)/D36 -> #DIV/0! | N36: =D36-(G36+J36) -> 0
A37: 資源向上支払交付金 | L37: =(G37+J37)/D37 -> #DIV/0! | N37: =D37-(G37+J37) -> 0
A38: 計 | D38: =D36+D37 -> 0 | G38: =G36+G37 -> 0 | J38: =J36+J37 -> 0 | L38: =(G38+J38)/D38 -> #DIV/0! | N38: =D38-(G38+J38) -> 0
A40: ３．事業遂行状況 ［※］
A41: 経費区分 | D41: 国 費（A) | L41: 進捗率 （B)/（A) | P41: 備考
H42: 事業遂行状況（B)
H43: 45017
H44: までに完了したもの
A46: 農地維持支払交付金 | L46: =H46/D46 -> #DIV/0!
A47: 資源向上支払交付金 | L47: =H47/D47 -> #DIV/0!
A48: 計 | D48: =D46+D47 -> 0 | H48: =H46+H47 -> 0 | L48: =H48/D48 -> #DIV/0!
A49: （注）「事業の遂行状況」の欄には、交付金の支払い金額を記載すること。
A51: ４．事業の完了予定 | F51: 45748
A54: （注） ［※］については、多面的機能支払交付金交付要綱第９に規定する報告の場合のみ記載すること。

Sheet データ取込シート_別記様式第３号
A1: 文書番号 | B1: 作成年月日 | C1: 提出先 地方農政局長名 | D1: 提出先 官署支出官名 | E1: 都道府県知事名 | F1: 交付決定通知の交付日付 | G1: 交付決定通知の文書番号 | H1: １．請求金額 | I1: 現在日付 | J1: ２．請求金額の内訳の、予定出来高期日 | K1: 経費区分 | L1: 交付決定額 ① | M1: 既受領額 ② | N1: 今回請求額 ③：金額 | O1: 備考 | P1: ３．事業遂行状況の、予定出来高期日 | Q1: 経費区分 | R1: 国費(A) | S1: 事業遂行状況(B) | T1: 備考 | U1: ４．事業の完了予定
A2: =IF(別記様式第３号!N7<>"",別記様式第３号!N7,"") | B2: =IF(別記様式第３号!N8<>"",別記様式第３号!N8,"") | C2: =IF(別記様式第３号!F10<>"",別記様式第３号!F10,"") -> 殿 | D2: =IF(別記様式第３号!F14<>"",別記様式第３号!F14,"") -> 殿 | E2: =IF(別記様式第３号!N17<>"",別記様式第３号!N17,"") | F2: =IF(別記様式第３号!A20<>"",別記様式第３号!A20,"") | G2: =IF(別記様式第３号!E20<>"",別記様式第３号!E20,"") | H2: =IF(別記様式第３号!H28<>"",別記様式第３号!H28,"") | I2: =IF(別記様式第３号!H30<>"",別記様式第３号!H30,"") | J2: =IF(別記様式第３号!L33<>"",別記様式第３号!L33,"") | K2: 農地維持支払交付金 | L2: =IF(別記様式第３号!D36<>"",別記様式第３号!D36,"") -> 0 | M2: =IF(別記様式第３号!G36<>"",別記様式第３号!G36,"") -> 0 | N2: =IF(別記様式第３号!J36<>"",別記様式第３号!J36,"") -> 0 | O2: =IF(別記様式第３号!Q36<>"",別記様式第３号!Q36,"") | P2: =IF(別記様式第３号!H43<>"",別記様式第３号!H43,"") | Q2: 農地維持支払交付金 | R2: =IF(別記様式第３号!D46<>"",別記様式第３号!D46,"") -> 0 | S2: =IF(別記様式第３号!H46<>"",別記様式第３号!H46,"") -> 0 | T2: =IF(別記様式第３号!P46<>"",別記様式第３号!P46,"") | U2: =IF(別記様式第３号!F51<>"",別記様式第３号!F51,"")
K3: 資源向上支払交付金 | L3: =IF(別記様式第３号!D37<>"",別記様式第３号!D37,"") -> 0 | M3: =IF(別記様式第３号!G37<>"",別記様式第３号!G37,"") -> 0 | N3: =IF(別記様式第３号!J37<>"",別記様式第３号!J37,"") -> 0 | O3: =IF(別記様式第３号!Q37<>"",別記様式第３号!Q37,"") | Q3: 資源向上支払交付金 | R3: =IF(別記様式第３号!D47<>"",別記様式第３号!D47,"") -> 0 | S3: =IF(別記様式第３号!H47<>"",別記様式第３号!H47,"") -> 0 | T3: =IF(別記様式第３号!P47<>"",別記様式第３号!P47,"")
K4: 計 | O4: =IF(別記様式第３号!Q38<>"",別記様式第３号!Q38,"") | Q4: 計 | T4: =IF(別記様式第３号!P48<>"",別記様式第３号!P48,"")
