Workbook

Sheet 様式第2-8号
A1: （様式第２－８号）
A2: 【都道府県から国に提出するもの】 | AH2: 農林水産省様式
B6: 地方農政局長（北海道にあっては農林水産省農村振興局長、沖縄県にあっては内閣府沖縄総合事務局長）
Q8: 殿
V13: ○○都道府県知事
H15: ○○ | L15: 年度 多面的機能支払交付金事業実施計画書
E17: （実績報告書）の提出について
B20: 多面的機能支払交付金実施要綱（平成26年４月１日付け25農振第2254号農林水産事務次官依命通知）別紙３の第２の１（別紙１の第8の１の（２）及び別紙２の第8の１の（２）)の規定に基づき、下記関係書類を添えて提出（報告）する。
A25: 記
B28: １．○○年度多面的機能支払交付金 事業実施計画書（実績報告書）（別紙１）
B29: ２．○○年度多面的機能支払交付金 市町村への交付金交付計画書（実績報告書）（別紙２）
B30: ３．◯◯年度多面的機能支払交付金 返還等実施計画表及び返還等実績報告表（別紙３）
B32: 〈施行注意〉
B33: １． | C33: 実績報告の際は、「実施計画書」を「実績報告書」、「別紙3の第2の１」を「別紙１の第8の１の（２）及び別紙２の第8の１の（２）」、「提出」を「報告」に置き換え、「市町村への交付金交付計画書」を「市町村への交付金交付実績報告書」とし、「実績報告書（別紙1）」及び「市町村への交付金交付実績報告書（別紙２）」を添付するものとする。
B37: ２． | C37: 事業実施計画書の変更に伴う提出の場合は、「事業実施計画書」を「事業実施計画書（変更）」、「別紙3の第２の１」を「別紙3の第２の２」、「市町村への交付金交付計画書」を「市町村への交付金交付計画書（変更）」に置き換え、「事業実施計画書（変更）（別紙１）」及び「市町村への交付金交付計画書（変更）（別紙２）」を添えて提出するものとする。
B42: ３． | C42: 実施要領第２の19の(2)のカに該当する都道府県は、事業実施計画書に（別紙3）を添えて提出するものとする。
B46: ４． | C46: 多面的機能支払交付金交付要綱に基づき本様式を添付提出する場合は、重複提出とならないよう、本様式のみの提出を省略することも可能とする。

Sheet 【記入例】様式第2-8号
A1: （様式第２－８号）
A2: 【都道府県から国に提出するもの】 | AH2: 農林水産省様式
AC4: 番 号
AC5: 45017
B6: 地方農政局長（北海道にあっては農林水産省農村振興局長、沖縄県にあっては内閣府沖縄総合事務局長）
Q8: 殿
V13: ○○都道府県知事
H15: ○○ | L15: 年度 多面的機能支払交付金事業実施計画書
E17: （実績報告書）の提出について
B20: 多面的機能支払交付金実施要綱（平成26年４月１日付け25農振第2254号農林水産事務次官依命通知）別紙３の第２の１（別紙１の第8の１の（２）及び別紙２の第8の１の（２）)の規定に基づき、下記関係書類を添えて提出（報告）する。
A25: 記
B28: １．○○年度多面的機能支払交付金 事業実施計画書（実績報告書）（別紙１）
B29: ２．○○年度多面的機能支払交付金 市町村への交付金交付計画書（実績報告書）（別紙２）
B30: ３．◯◯年度多面的機能支払交付金 返還等実施計画表及び返還等実績報告表（別紙３）
B32: 〈施行注意〉
B33: １． | C33: 実績報告の際は、「実施計画書」を「実績報告書」、「別紙3の第2の１」を「別紙１の第8の１の（２）及び別紙２の第8の１の（２）」、「提出」を「報告」に置き換え、「市町村への交付金交付計画書」を「市町村への交付金交付実績報告書」とし、「実績報告書（別紙1）」及び「市町村への交付金交付実績報告書（別紙２）」を添付するものとする。
B37: ２． | C37: 事業実施計画書の変更に伴う提出の場合は、「事業実施計画書」を「事業実施計画書（変更）」、「別紙3の第２の１」を「別紙3の第２の２」、「市町村への交付金交付計画書」を「市町村への交付金交付計画書（変更）」に置き換え、「事業実施計画書（変更）（別紙１）」及び「市町村への交付金交付計画書（変更）（別紙２）」を添えて提出するものとする。
B42: ３． | C42: 実施要領第２の19の(2)のカに該当する都道府県は、事業実施計画書に（別紙3）を添えて提出するものとする。
B46: ４． | C46: 多面的機能支払交付金交付要綱に基づき本様式を添付提出する場合は、重複提出とならないよう、本様式のみの提出を省略することも可能とする。

Sheet データ取込シート_様式第2-8号
A1: 文書番号 | B1: 作成年月日
A2: =IF('様式第2-8号'!AC4<>"",'様式第2-8号'!AC4,"") | B2: =IF('様式第2-8号'!AC5<>"",'様式第2-8号'!AC5,"")

Sheet 別紙１
A1: （別紙１）
E2: ○○ | H2: 年度 多面的機能支払交付金事業実施計画書（実績報告書）
A5: 1．事業の目的
A7: ２．事業計画（実績）及びその内容
A9: （１）農地維持支払交付金
B10: ア．基本単価
B11: 区分 | I11: 交付単価 | O11: 対象農用地面積 | U11: 交付額（事業費） | AD11: 交付額（ 国 費 ） | AM11: 備考
B13: 田 ① | O13: =O15 -> 0 | U13: =U15 -> 0 | AD13: =AD15 -> 0
O14: =O16 -> 0 | T14: a | U14: =U16 -> 0 | AC14: 円 | AD14: =AD16 -> 0 | AL14: 円
B15: 基本単価 | I15: 0 | U15: =ROUNDDOWN((I15/10*O15),0) -> 0 | AD15: =ROUNDDOWN((I15/10*O15/2),0) -> 0
M16: （円/10a） | O16: 0 | T16: a | U16: =ROUNDDOWN((I15/10*O16),0) -> 0 | AC16: 円 | AD16: =ROUNDDOWN((I15/10*O16/2),0) -> 0 | AL16: 円
B17: 畑 ② | O17: =O19 -> 0 | U17: =U19 -> 0 | AD17: =AD19 -> 0
O18: =O20 -> 0 | T18: a | U18: =U20 -> 0 | AC18: 円 | AD18: =AD20 -> 0 | AL18: 円
B19: 基本単価 | I19: 0 | U19: =ROUNDDOWN((I19/10*O19),0) -> 0 | AD19: =ROUNDDOWN((I19/10*O19/2),0) -> 0
M20: （円/10a） | O20: 0 | T20: a | U20: =ROUNDDOWN((I19/10*O20),0) -> 0 | AC20: 円 | AD20: =ROUNDDOWN((I19/10*O20/2),0) -> 0 | AL20: 円
B21: 草地 ③ | O21: =O23 -> 0 | U21: =U23 -> 0 | AD21: =AD23 -> 0
O22: =O24 -> 0 | T22: a | U22: =U24 -> 0 | AC22: 円 | AD22: =AD24 -> 0 | AL22: 円
B23: 基本単価 | I23: 0 | U23: =ROUNDDOWN((I23/10*O23),0) -> 0 | AD23: =ROUNDDOWN((I23/10*O23/2),0) -> 0
M24: （円/10a） | O24: 0 | T24: a | U24: =ROUNDDOWN((I23/10*O24),0) -> 0 | AC24: 円 | AD24: =ROUNDDOWN((I23/10*O24/2),0) -> 0 | AL24: 円
B25: この線より上に行を挿入してください。
B26: 計 ①＋②＋③ | O26: =O13+O17+O21 -> 0 | U26: =U13+U17+U21 -> 0 | AD26: =AD13+AD17+AD21 -> 0
O27: =O14+O18+O22 -> 0 | T27: a | U27: =U14+U18+U22 -> 0 | AC27: 円 | AD27: =AD14+AD18+AD22 -> 0 | AL27: 円
B28: （注）区分及び交付単価は、都道府県が策定した要綱基本方針に従い記載し、市町村により異なる場合は行を追加すること。
B30: イ．加算単価 （加算措置の適用がある場合のみ、記載する）
B31: 区分 | I31: 交付単価 | O31: 対象農用地面積 | U31: 交付額（事業費） | AD31: 交付額（ 国 費 ） | AM31: 備考
B33: 田 ① | O33: =O35+O37 -> 0 | U33: =U35 -> 0 | AD33: =AD35 -> 0
O34: =O36+O38 -> 0 | T34: a | U34: =U36 -> 0 | AC34: 円 | AD34: =AD36 -> 0 | AL34: 円
B35: 加算単価 | I35: 0 | U35: =ROUNDDOWN((I35/10*O35),0) -> 0 | AD35: =ROUNDDOWN((I35/10*O35/2),0) -> 0
M36: （円/10a） | O36: 0 | T36: a | U36: =ROUNDDOWN((I35/10*O36),0) -> 0 | AC36: 円 | AD36: =ROUNDDOWN((I35/10*O36/2),0) -> 0 | AL36: 円
B37: 加算上限を適用する | I37: 0 | U37: =ROUNDDOWN((I37/10*O37),0) -> 0 | AD37: =ROUNDDOWN((I37/10*O37/2),0) -> 0
O38: 0 | T38: a | U38: =ROUNDDOWN((I37/10*O38),0) -> 0 | AC38: 円 | AD38: =ROUNDDOWN((I37/10*O38/2),0) -> 0 | AL38: 円
B39: 畑 ② | O39: =O41+O43 -> 0 | U39: =U41 -> 0 | AD39: =AD41 -> 0
O40: =O42+O44 -> 0 | T40: a | U40: =U42 -> 0 | AC40: 円 | AD40: =AD42 -> 0 | AL40: 円
B41: 加算単価 | I41: 0 | U41: =ROUNDDOWN((I41/10*O41),0) -> 0 | AD41: =ROUNDDOWN((I41/10*O41/2),0) -> 0
M42: （円/10a） | O42: 0 | T42: a | U42: =ROUNDDOWN((I41/10*O42),0) -> 0 | AC42: 円 | AD42: =ROUNDDOWN((I41/10*O42/2),0) -> 0 | AL42: 円
B43: 加算上限を適用する | I43: 0 | U43: =ROUNDDOWN((I43/10*O43),0) -> 0 | AD43: =ROUNDDOWN((I43/10*O43/2),0) -> 0
O44: 0 | T44: a | U44: =ROUNDDOWN((I43/10*O44),0) -> 0 | AC44: 円 | AD44: =ROUNDDOWN((I43/10*O44/2),0) -> 0 | AL44: 円
B45: 草地 ③ | O45: =O47+O49 -> 0 | U45: =U47 -> 0 | AD45: =AD47 -> 0
O46: =O48+O50 -> 0 | T46: a | U46: =U48 -> 0 | AC46: 円 | AD46: =AD48 -> 0 | AL46: 円
B47: 加算単価 | I47: 0 | U47: =ROUNDDOWN((I47/10*O47),0) -> 0 | AD47: =ROUNDDOWN((I47/10*O47/2),0) -> 0
...

Sheet 【記入例】別紙１
A1: （別紙１）
E2: ○○ | H2: 年度 多面的機能支払交付金事業実施計画書（実績報告書）
A5: 1．事業の目的
B6: テスト１
A7: ２．事業計画（実績）及びその内容
A9: （１）農地維持支払交付金
B10: ア．基本単価
B11: 区分 | I11: 交付単価 | O11: 対象農用地面積 | U11: 交付額（事業費） | AD11: 交付額（ 国 費 ） | AM11: 備考
B13: 田 ① | O13: =O15 -> 0 | U13: =U15 -> 0 | AD13: =AD15 -> 0
O14: =O16 -> 0 | T14: a | U14: =U16 -> 0 | AC14: 円 | AD14: =AD16 -> 0 | AL14: 円
B15: 基本単価 | I15: 0 | U15: =ROUNDDOWN((I15/10*O15),0) -> 0 | AD15: =ROUNDDOWN((I15/10*O15/2),0) -> 0
M16: （円/10a） | O16: 0 | T16: a | U16: =ROUNDDOWN((I15/10*O16),0) -> 0 | AC16: 円 | AD16: =ROUNDDOWN((I15/10*O16/2),0) -> 0 | AL16: 円
B17: 畑 ② | O17: =O19 -> 0 | U17: =U19 -> 0 | AD17: =AD19 -> 0
O18: =O20 -> 0 | T18: a | U18: =U20 -> 0 | AC18: 円 | AD18: =AD20 -> 0 | AL18: 円
B19: 基本単価 | I19: 0 | U19: =ROUNDDOWN((I19/10*O19),0) -> 0 | AD19: =ROUNDDOWN((I19/10*O19/2),0) -> 0
M20: （円/10a） | O20: 0 | T20: a | U20: =ROUNDDOWN((I19/10*O20),0) -> 0 | AC20: 円 | AD20: =ROUNDDOWN((I19/10*O20/2),0) -> 0 | AL20: 円
B21: 草地 ③ | O21: =O23 -> 0 | U21: =U23 -> 0 | AD21: =AD23 -> 0
O22: =O24 -> 0 | T22: a | U22: =U24 -> 0 | AC22: 円 | AD22: =AD24 -> 0 | AL22: 円
B23: 基本単価 | I23: 0 | U23: =ROUNDDOWN((I23/10*O23),0) -> 0 | AD23: =ROUNDDOWN((I23/10*O23/2),0) -> 0
M24: （円/10a） | O24: 0 | T24: a | U24: =ROUNDDOWN((I23/10*O24),0) -> 0 | AC24: 円 | AD24: =ROUNDDOWN((I23/10*O24/2),0) -> 0 | AL24: 円
B25: この線より上に行を挿入してください。
B26: 計 ①＋②＋③ | O26: =O13+O17+O21 -> 0 | U26: =U13+U17+U21 -> 0 | AD26: =AD13+AD17+AD21 -> 0
O27: =O14+O18+O22 -> 0 | T27: a | U27: =U14+U18+U22 -> 0 | AC27: 円 | AD27: =AD14+AD18+AD22 -> 0 | AL27: 円
B28: （注）区分及び交付単価は、都道府県が策定した要綱基本方針に従い記載し、市町村により異なる場合は行を追加すること。
B30: イ．加算単価 （加算措置の適用がある場合のみ、記載する）
B31: 区分 | I31: 交付単価 | O31: 対象農用地面積 | U31: 交付額（事業費） | AD31: 交付額（ 国 費 ） | AM31: 備考
B33: 田 ① | O33: =O35+O37 -> 0 | U33: =U35 -> 0 | AD33: =AD35 -> 0
O34: =O36+O38 -> 0 | T34: a | U34: =U36 -> 0 | AC34: 円 | AD34: =AD36 -> 0 | AL34: 円
B35: 加算単価 | I35: 0 | U35: =ROUNDDOWN((I35/10*O35),0) -> 0 | AD35: =ROUNDDOWN((I35/10*O35/2),0) -> 0
M36: （円/10a） | O36: 0 | T36: a | U36: =ROUNDDOWN((I35/10*O36),0) -> 0 | AC36: 円 | AD36: =ROUNDDOWN((I35/10*O36/2),0) -> 0 | AL36: 円
B37: 加算上限を適用する | I37: 0 | U37: =ROUNDDOWN((I37/10*O37),0) -> 0 | AD37: =ROUNDDOWN((I37/10*O37/2),0) -> 0
O38: 0 | T38: a | U38: =ROUNDDOWN((I37/10*O38),0) -> 0 | AC38: 円 | AD38: =ROUNDDOWN((I37/10*O38/2),0) -> 0 | AL38: 円
B39: 畑 ② | O39: =O41+O43 -> 0 | U39: =U41 -> 0 | AD39: =AD41 -> 0
O40: =O42+O44 -> 0 | T40: a | U40: =U42 -> 0 | AC40: 円 | AD40: =AD42 -> 0 | AL40: 円
B41: 加算単価 | I41: 0 | U41: =ROUNDDOWN((I41/10*O41),0) -> 0 | AD41: =ROUNDDOWN((I41/10*O41/2),0) -> 0
M42: （円/10a） | O42: 0 | T42: a | U42: =ROUNDDOWN((I41/10*O42),0) -> 0 | AC42: 円 | AD42: =ROUNDDOWN((I41/10*O42/2),0) -> 0 | AL42: 円
B43: 加算上限を適用する | I43: 0 | U43: =ROUNDDOWN((I43/10*O43),0) -> 0 | AD43: =ROUNDDOWN((I43/10*O43/2),0) -> 0
O44: 0 | T44: a | U44: =ROUNDDOWN((I43/10*O44),0) -> 0 | AC44: 円 | AD44: =ROUNDDOWN((I43/10*O44/2),0) -> 0 | AL44: 円
B45: 草地 ③ | O45: =O47+O49 -> 0 | U45: =U47 -> 0 | AD45: =AD47 -> 0
O46: =O48+O50 -> 0 | T46: a | U46: =U48 -> 0 | AC46: 円 | AD46: =AD48 -> 0 | AL46: 円
...

Sheet データ整理_別紙１
A1: (整理用) | B1: 田・畑・草地判定 | C1: 区分01 | D1: 単価選択01 | E1: (その他の場合)単価名称01 | F1: 交付単価01 | G1: 対象農用地面積01 | H1: 備考01 | J1: 区分01 | K1: 単価選択01 | L1: (その他の場合)単価名称01 | M1: 交付単価01 | N1: 対象農用地面積01 | O1: 備考01 | P1: (整理用) | Q1: 田・畑・草地判定 | R1: 区分02 | S1: 単価選択02 | T1: (その他の場合)単価名称02 | U1: 交付単価02 | V1: 対象農用地面積02 | W1: 備考02 | Y1: 区分02 | Z1: 単価選択02 | AA1: (その他の場合)単価名称02 | AB1: 交付単価02 | AC1: 対象農用地面積02 | AD1: 備考02 | AF1: 区分03 | AG1: 交付単価03 | AH1: 対象集落/組織数03 | AI1: 備考03 | AJ1: (整理用) | AK1: 田・畑・草地判定 | AL1: 区分04 | AM1: 単価選択04 | AN1: (その他の場合)単価名称04 | AO1: 交付単価04 | AP1: 対象農用地面積04 | AQ1: 備考04 | AS1: 区分04 | AT1: 単価選択04 | AU1: (その他の場合)単価名称04 | AV1: 交付単価04 | AW1: 対象農用地面積04 | AX1: 備考04 | AY1: (整理用) | AZ1: 田・畑・草地判定 | BA1: 区分05 | BB1: 単価選択05 | BC1: (その他の場合)単価名称05 | BD1: 交付単価05 | BE1: 対象農用地面積05 | BF1: 備考05 | BH1: 区分05 | BI1: 単価選択05 | BJ1: (その他の場合)単価名称05 | BK1: 交付単価05 | BL1: 対象農用地面積05 | BM1: 備考05 | BN1: (整理用) | BO1: 田・畑・草地判定 | BP1: 区分06 | BQ1: 単価選択06 | BR1: (その他の場合)単価名称06 | BS1: 交付単価06 | BT1: 対象農用地面積06 | BU1: 備考06 | BW1: 区分06 | BX1: 単価選択06 | BY1: (その他の場合)単価名称06 | BZ1: 交付単価06 | CA1: 対象農用地面積06 | CB1: 備考06 | CC1: (整理用) | CD1: 田・畑・草地判定 | CE1: 区分07 | CF1: 単価選択07 | CG1: (その他の場合)単価名称07 | CH1: 交付単価07 | CI1: 対象農用地面積07 | CJ1: 備考07 | CL1: 区分07 | CM1: 単価選択07 | CN1: (その他の場合)単価名称07 | CO1: 交付単価07 | CP1: 対象農用地面積07 | CQ1: 備考07 | CR1: (整理用) | CS1: 田・畑・草地判定 | CT1: 区分08 | CU1: 単価選択08 | CV1: (その他の場合)単価名称08 | CW1: 交付単価08 | CX1: 対象農用地面積08 | CY1: 備考08 | DA1: 区分08 | DB1: 単価選択08 | DC1: (その他の場合)単価名称08 | DD1: 交付単価08 | DE1: 対象農用地面積08 | DF1: 備考08 | DH1: 区分09 | DI1: 交付単価09 | DJ1: 対象集落09 | DK1: 備考09
A2: 1 | B2: =IF(COUNTIF($C$2:C3,"田 ①") + COUNTIF($C$2:C3,"畑 ②") + COUNTIF($C$2:C4,"草地 ③")<=3,COUNTIF($C$2:C3,"田 ①") + COUNTIF($C$2:C3,"畑 ②") + COUNTIF($C$2:C4,"草地 ③"),3) -> 1 | C2: =IF(OFFSET(別紙１!$B$12,$A2,)="","",OFFSET(別紙１!$B$12,$A2,)) -> 田 ① | D2: =IF(OFFSET(別紙１!$B$12,$A2,)="","",OFFSET(別紙１!$B$12,$A2,)) -> 田 ① | E2: =IF(OFFSET(別紙１!$E$12,$A2,)="","",OFFSET(別紙１!$E$12,$A2,)) | F2: =IF(OFFSET(別紙１!$I$12,$A2,)="","",OFFSET(別紙１!$I$12,$A2,)) | G2: =IF(OFFSET(別紙１!$O$12,$A2+1,)="","",OFFSET(別紙１!$O$12,$A2+1,)) -> 0 | H2: =IF(OFFSET(別紙１!$AM$12,$A2,)="","",OFFSET(別紙１!$AM$12,$A2,)) | I2: 1 | J2: =IF(B2=1,"田 ①",IF(B2=2,"畑 ②",IF(B2=3,"草地 ③",))) -> 田 ① | K2: =IF(OFFSET(D$2,$I2+$B2-1,)="","",OFFSET(D$2,$I2+$B2-1,)) -> 基本単価 | L2: =IF(OFFSET(E$2,$I2+$B2-1,)="","",OFFSET(E$2,$I2+$B2-1,)) | M2: =IF(OFFSET(F$2,$I2+$B2-1,)="","",OFFSET(F$2,$I2+$B2-1,)) -> 0 | N2: =IF(OFFSET(G$2,$I2+$B2-1,)="","",OFFSET(G$2,$I2+$B2-1,)) -> 0 | O2: =IF(OFFSET(H$2,$I2+$B2-1,)="","",OFFSET(H$2,$I2+$B2-1,)) | P2: 1 | Q2: =IF(COUNTIF($R$2:R3,"田 ①") + COUNTIF($R$2:R3,"畑 ②") + COUNTIF($R$2:R4,"草地 ③")<=3,COUNTIF($R$2:R3,"田 ①") + COUNTIF($R$2:R3,"畑 ②") + COUNTIF($R$2:R4,"草地 ③"),3) -> 1 | R2: =IF(OFFSET(別紙１!$B$32,$P2,)="","",OFFSET(別紙１!$B$32,$P2,)) -> 田 ① | S2: =IF(OFFSET(別紙１!$B$32,$P2,)="","",OFFSET(別紙１!$B$32,$P2,)) -> 田 ① | T2: =IF(OFFSET(別紙１!$E$32,$P2,)="","",OFFSET(別紙１!$E$32,$P2,)) | U2: =IF(OFFSET(別紙１!$I$32,$P2,)="","",OFFSET(別紙１!$I$32,$P2,)) | V2: =IF(OFFSET(別紙１!$O$32,$P2+1,)="","",OFFSET(別紙１!$O$32,$P2+1,)) -> 0 | W2: =IF(OFFSET(別紙１!$AM$32,$P2,)="","",OFFSET(別紙１!$AM$32,$P2,)) | X2: 1 | Y2: =IF(Q2=1,"田 ①",IF(Q2=2,"畑 ②",IF(Q2=3,"草地 ③",))) -> 田 ① | Z2: =IF(OFFSET(S$2,$X2+$Q2-1,)="","",OFFSET(S$2,$X2+$Q2-1,)) -> 加算単価 | AA2: =IF(OFFSET(T$2,$X2+$Q2-1,)="","",OFFSET(T$2,$X2+$Q2-1,)) | AB2: =IF(OFFSET(U$2,$X2+$Q2-1,)="","",OFFSET(U$2,$X2+$Q2-1,)) -> 0 | AC2: =IF(OFFSET(V$2,$X2+$Q2-1,)="","",OFFSET(V$2,$X2+$Q2-1,)) -> 0 | AD2: =IF(OFFSET(W$2,$X2+$Q2-1,)="","",OFFSET(W$2,$X2+$Q2-1,)) | AE2: 1 | AF2: =IF(OFFSET(別紙１!B$51,$AE2,)="","",OFFSET(別紙１!B$51,$AE2,)) -> １集落あたり加算上限を適用する集落 ④ | AG2: =IF(OFFSET(別紙１!I$51,$AE2,)="","",OFFSET(別紙１!I$51,$AE2,)) -> 0 | AH2: =IF(OFFSET(別紙１!O$51,$AE2+1,)="","",OFFSET(別紙１!O$51,$AE2+1,)) -> 0 | AI2: =IF(OFFSET(別紙１!AM$51,$AE2,)="","",OFFSET(別紙１!AM$51,$AE2,)) | AJ2: 1 | AK2: =IF(COUNTIF($AL$2:AL3,"田 ①") + COUNTIF($AL$2:AL3,"畑 ②") + COUNTIF($AL$2:AL4,"草地 ③")<=3,COUNTIF($AL$2:AL3,"田 ①") + COUNTIF($AL$2:AL3,"畑 ②") + COUNTIF($AL$2:AL4,"草地 ③"),3) -> 1 | AL2: =IF(OFFSET(別紙１!B$73,$AJ2,)="","",OFFSET(別紙１!B$73,$AJ2,)) -> 田 ① | AM2: =IF(OFFSET(別紙１!B$73,$AJ2,)="","",OFFSET(別紙１!B$73,$AJ2,)) -> 田 ① | AN2: =IF(OFFSET(別紙１!E$73,$AJ2,)="","",OFFSET(別紙１!E$73,$AJ2,)) | AO2: =IF(OFFSET(別紙１!I$73,$AJ2,)="","",OFFSET(別紙１!I$73,$AJ2,)) | AP2: =IF(OFFSET(別紙１!O$73,$AJ2+1,)="","",OFFSET(別紙１!O$73,$AJ2+1,)) -> 0 | AQ2: =IF(OFFSET(別紙１!AM$73,$AJ2,)="","",OFFSET(別紙１!AM$73,$AJ2,)) | AR2: 1 | AS2: =IF(AK2=1,"田 ①",IF(AK2=2,"畑 ②",IF(AK2=3,"草地 ③",))) -> 田 ① | AT2: =IF(OFFSET(AM$2,$AR2+$AK2-1,)="","",OFFSET(AM$2,$AR2+$AK2-1,)) -> 基本単価 | AU2: =IF(OFFSET(AN$2,$AR2+$AK2-1,)="","",OFFSET(AN$2,$AR2+$AK2-1,)) | AV2: =IF(OFFSET(AO$2,$AR2+$AK2-1,)="","",OFFSET(AO$2,$AR2+$AK2-1,)) -> 0 | AW2: =IF(OFFSET(AP$2,$AR2+$AK2-1,)="","",OFFSET(AP$2,$AR2+$AK2-1,)) -> 0 | AX2: =IF(OFFSET(AQ$2,$AR2+$AK2-1,)="","",OFFSET(AQ$2,$AR2+$AK2-1,)) | AY2: 1 | AZ2: =IF(COUNTIF($BA$2:BA2,"田 ①") + COUNTIF($BA$2:BA3,"畑 ②") + COUNTIF($BA$2:BA4,"草地 ③")<=3,COUNTIF($BA$2:BA2,"田 ①") + COUNTIF($BA$2:BA3,"畑 ②") + COUNTIF($BA$2:BA4,"草地 ③"),3) -> 1 | BA2: =IF(OFFSET(別紙１!$B$112,$AY2,)="","",OFFSET(別紙１!$B$112,$AY2,)) -> 田 ① | BB2: =IF(OFFSET(別紙１!$B$112,$AY2,)="","",OFFSET(別紙１!$B$112,$AY2,)) -> 田 ① | BC2: =IF(OFFSET(別紙１!$E$112,$AY2,)="","",OFFSET(別紙１!$E$112,$AY2,)) | BD2: =IF(OFFSET(別紙１!$I$112,$AY2,)="","",OFFSET(別紙１!$I$112,$AY2,)) | BE2: =IF(OFFSET(別紙１!$O$112,$AY2+1,)="","",OFFSET(別紙１!$O$112,$AY2+1,)) -> 0 | BF2: =IF(OFFSET(別紙１!$AM$112,$AY2,)="","",OFFSET(別紙１!$AM$112,$AY2,)) | BG2: 1 | BH2: =IF(AZ2=1,"田 ①",IF(AZ2=2,"畑 ②",IF(AZ2=3,"草地 ③",))) -> 田 ① | BI2: =IF(OFFSET(BB$2,$AZ2+$BG2-1,)="","",OFFSET(BB$2,$AZ2+$BG2-1,)) -> 加算単価 | BJ2: =IF(OFFSET(BC$2,$AZ2+$BG2-1,)="","",OFFSET(BC$2,$AZ2+$BG2-1,)) | BK2: =IF(OFFSET(BD$2,$AZ2+$BG2-1,)="","",OFFSET(BD$2,$AZ2+$BG2-1,)) -> 0 | BL2: =IF(OFFSET(BE$2,$AZ2+$BG2-1,)="","",OFFSET(BE$2,$AZ2+$BG2-1,)) -> 0 | BM2: =IF(OFFSET(BF$2,$AZ2+$BG2-1,)="","",OFFSET(BF$2,$AZ2+$BG2-1,)) | BN2: 1 | BO2: =IF(COUNTIF($BP$2:BP2,"田 ①") + COUNTIF($BP$2:BP3,"畑 ②") + COUNTIF($BP$2:BP4,"草地 ③")<=3,COUNTIF($BP$2:BP2,"田 ①") + COUNTIF($BP$2:BP3,"畑 ②") + COUNTIF($BP$2:BP4,"草地 ③"),3) -> 1 | BP2: =IF(OFFSET(別紙１!$B$138,$BN2,)="","",OFFSET(別紙１!$B$138,$BN2,)) -> 田 ① | BQ2: =IF(OFFSET(別紙１!$B$138,$BN2,)="","",OFFSET(別紙１!$B$138,$BN2,)) -> 田 ① | BR2: =IF(OFFSET(別紙１!$E$138,$BN2,)="","",OFFSET(別紙１!$E$138,$BN2,)) | BS2: =IF(OFFSET(別紙１!$I$138,$BN2,)="","",OFFSET(別紙１!$I$138,$BN2,)) | BT2: =IF(OFFSET(別紙１!$O$138,$BN2+1,)="","",OFFSET(別紙１!$O$138,$BN2+1,)) -> 0 | BU2: =IF(OFFSET(別紙１!$AM$138,$BN2,)="","",OFFSET(別紙１!$AM$138,$BN2,)) | BV2: 1 | BW2: =IF(BO2=1,"田 ①",IF(BO2=2,"畑 ②",IF(BO2=3,"草地 ③",))) -> 田 ① | BX2: =IF(OFFSET(BQ$2,$BO2+$BV2-1,)="","",OFFSET(BQ$2,$BO2+$BV2-1,)) -> 加算単価 | BY2: =IF(OFFSET(BR$2,$BO2+$BV2-1,)="","",OFFSET(BR$2,$BO2+$BV2-1,)) | BZ2: =IF(OFFSET(BS$2,$BO2+$BV2-1,)="","",OFFSET(BS$2,$BO2+$BV2-1,)) -> 0 | CA2: =IF(OFFSET(BT$2,$BO2+$BV2-1,)="","",OFFSET(BT$2,$BO2+$BV2-1,)) -> 0 | CB2: =IF(OFFSET(BU$2,$BO2+$BV2-1,)="","",OFFSET(BU$2,$BO2+$BV2-1,)) | CC2: 1 | CD2: =IF(COUNTIF($CE$2:CE2,"田") <=1,COUNTIF($CE$2:CE2,"田"),1) -> 1 | CE2: =IF(OFFSET(別紙１!$B$164,$CC2,)="","",OFFSET(別紙１!$B$164,$CC2,)) -> 田 | CF2: =IF(OFFSET(別紙１!$B$164,$CC2,)="","",OFFSET(別紙１!$B$164,$CC2,)) -> 田 | CG2: =IF(OFFSET(別紙１!$E$164,$CC2,)="","",OFFSET(別紙１!$E$164,$CC2,)) | CH2: =IF(OFFSET(別紙１!$I$164,$CC2,)="","",OFFSET(別紙１!$I$164,$CC2,)) | CI2: =IF(OFFSET(別紙１!$O$164,$CC2+1,)="","",OFFSET(別紙１!$O$164,$CC2+1,)) -> 0 | CJ2: =IF(OFFSET(別紙１!$AM$164,$CC2,)="","",OFFSET(別紙１!$AM$164,$CC2,)) | CK2: 1 | CL2: =IF(CD2=1,"田",) -> 田 | CM2: =IF(OFFSET(CF$2,$CD2+$CK2-1,)="","",OFFSET(CF$2,$CD2+$CK2-1,)) -> 加算単価 | CN2: =IF(OFFSET(CG$2,$CD2+$CK2-1,)="","",OFFSET(CG$2,$CD2+$CK2-1,)) | CO2: =IF(OFFSET(CH$2,$CD2+$CK2-1,)="","",OFFSET(CH$2,$CD2+$CK2-1,)) -> 0 | CP2: =IF(OFFSET(CI$2,$CD2+$CK2-1,)="","",OFFSET(CI$2,$CD2+$CK2-1,)) -> 0 | CQ2: =IF(OFFSET(CJ$2,$CD2+$CK2-1,)="","",OFFSET(CJ$2,$CD2+$CK2-1,)) | CR2: 1 | CS2: =IF(COUNTIF($CT$2:CT2,"田 ①") + COUNTIF($CT$2:CT3,"畑 ②") + COUNTIF($CT$2:CT4,"草地 ③")<=3,COUNTIF($CT$2:CT2,"田 ①") + COUNTIF($CT$2:CT3,"畑 ②") + COUNTIF($CT$2:CT4,"草地 ③"),3) -> 1 | CT2: =IF(OFFSET(別紙１!$B$182,$BN2,)="","",OFFSET(別紙１!$B$182,$BN2,)) -> 田 ① | CU2: =IF(OFFSET(別紙１!$B$182,$BN2,)="","",OFFSET(別紙１!$B$182,$BN2,)) -> 田 ① | CV2: =IF(OFFSET(別紙１!$E$182,$BN2,)="","",OFFSET(別紙１!$E$182,$BN2,)) | CW2: =IF(OFFSET(別紙１!$I$182,$BN2,)="","",OFFSET(別紙１!$I$182,$BN2,)) | CX2: =IF(OFFSET(別紙１!$O$182,$BN2+1,)="","",OFFSET(別紙１!$O$182,$BN2+1,)) -> 0 | CY2: =IF(OFFSET(別紙１!$AM$182,$BN2,)="","",OFFSET(別紙１!$AM$182,$BN2,)) | CZ2: 1 | DA2: =IF(CS2=1,"田 ①",IF(CS2=2,"畑 ②",IF(CS2=3,"草地 ③",))) -> 田 ① | DB2: =IF(OFFSET(CU$2,$CS2+$CZ2-1,)="","",OFFSET(CU$2,$CS2+$CZ2-1,)) -> 交付単価 | DC2: =IF(OFFSET(CV$2,$CS2+$CZ2-1,)="","",OFFSET(CV$2,$CS2+$CZ2-1,)) | DD2: =IF(OFFSET(CW$2,$CS2+$CZ2-1,)="","",OFFSET(CW$2,$CS2+$CZ2-1,)) -> 0 | DE2: =IF(OFFSET(CX$2,$CS2+$CZ2-1,)="","",OFFSET(CX$2,$CS2+$CZ2-1,)) -> 0 | DF2: =IF(OFFSET(CY$2,$CS2+$CZ2-1,)="","",OFFSET(CY$2,$CS2+$CZ2-1,)) | DG2: 1 | DH2: =IF(OFFSET(別紙１!B$207,$DG2,)="","",OFFSET(別紙１!B$207,$DG2,)) -> 保全管理する区域内に 存在する集落数 ④ | DI2: =IF(OFFSET(別紙１!I$207,$DG2,)="","",OFFSET(別紙１!I$207,$DG2,)) -> 0 | DJ2: =IF(OFFSET(別紙１!O$207,$DG2+1,)="","",OFFSET(別紙１!O$207,$DG2+1,)) -> 0 | DK2: =IF(OFFSET(別紙１!AM$207,$DG2,)="","",OFFSET(別紙１!AM$207,$DG2,))
A3: 3 | B3: =IF(COUNTIF($C$2:C4,"田 ①") + COUNTIF($C$2:C4,"畑 ②") + COUNTIF($C$2:C5,"草地 ③")<=3,COUNTIF($C$2:C4,"田 ①") + COUNTIF($C$2:C4,"畑 ②") + COUNTIF($C$2:C5,"草地 ③"),3) -> 2 | C3: =IF(OFFSET(別紙１!$B$12,$A3,)="","",OFFSET(別紙１!$B$12,$A3,)) -> 基本単価 | D3: =IF(OFFSET(別紙１!$B$12,$A3,)="","",OFFSET(別紙１!$B$12,$A3,)) -> 基本単価 | E3: =IF(OFFSET(別紙１!$E$12,$A3,)="","",OFFSET(別紙１!$E$12,$A3,)) | F3: =IF(OFFSET(別紙１!$I$12,$A3,)="","",OFFSET(別紙１!$I$12,$A3,)) -> 0 | G3: =IF(OFFSET(別紙１!$O$12,$A3+1,)="","",OFFSET(別紙１!$O$12,$A3+1,)) -> 0 | H3: =IF(OFFSET(別紙１!$AM$12,$A3,)="","",OFFSET(別紙１!$AM$12,$A3,)) | I3: 2 | J3: =IF(B3=1,"田 ①",IF(B3=2,"畑 ②",IF(B3=3,"草地 ③",))) -> 畑 ② | K3: =IF(OFFSET(D$2,$I3+$B3-1,)="","",OFFSET(D$2,$I3+$B3-1,)) -> 基本単価 | L3: =IF(OFFSET(E$2,$I3+$B3-1,)="","",OFFSET(E$2,$I3+$B3-1,)) | M3: =IF(OFFSET(F$2,$I3+$B3-1,)="","",OFFSET(F$2,$I3+$B3-1,)) -> 0 | N3: =IF(OFFSET(G$2,$I3+$B3-1,)="","",OFFSET(G$2,$I3+$B3-1,)) -> 0 | O3: =IF(OFFSET(H$2,$I3+$B3-1,)="","",OFFSET(H$2,$I3+$B3-1,)) | P3: 3 | Q3: =IF(COUNTIF($R$2:R4,"田 ①") + COUNTIF($R$2:R4,"畑 ②") + COUNTIF($R$2:R5,"草地 ③")<=3,COUNTIF($R$2:R4,"田 ①") + COUNTIF($R$2:R4,"畑 ②") + COUNTIF($R$2:R5,"草地 ③"),3) -> 1 | R3: =IF(OFFSET(別紙１!$B$32,$P3,)="","",OFFSET(別紙１!$B$32,$P3,)) -> 加算単価 | S3: =IF(OFFSET(別紙１!$B$32,$P3,)="","",OFFSET(別紙１!$B$32,$P3,)) -> 加算単価 | T3: =IF(OFFSET(別紙１!$E$32,$P3,)="","",OFFSET(別紙１!$E$32,$P3,)) | U3: =IF(OFFSET(別紙１!$I$32,$P3,)="","",OFFSET(別紙１!$I$32,$P3,)) -> 0 | V3: =IF(OFFSET(別紙１!$O$32,$P3+1,)="","",OFFSET(別紙１!$O$32,$P3+1,)) -> 0 | W3: =IF(OFFSET(別紙１!$AM$32,$P3,)="","",OFFSET(別紙１!$AM$32,$P3,)) | X3: 2 | Y3: =IF(Q3=1,"田 ①",IF(Q3=2,"畑 ②",IF(Q3=3,"草地 ③",))) -> 田 ① | Z3: =IF(OFFSET(S$2,$X3+$Q3-1,)="","",OFFSET(S$2,$X3+$Q3-1,)) -> 加算上限を適用する | AA3: =IF(OFFSET(T$2,$X3+$Q3-1,)="","",OFFSET(T$2,$X3+$Q3-1,)) | AB3: =IF(OFFSET(U$2,$X3+$Q3-1,)="","",OFFSET(U$2,$X3+$Q3-1,)) -> 0 | AC3: =IF(OFFSET(V$2,$X3+$Q3-1,)="","",OFFSET(V$2,$X3+$Q3-1,)) -> 0 | AD3: =IF(OFFSET(W$2,$X3+$Q3-1,)="","",OFFSET(W$2,$X3+$Q3-1,)) | AE3: 3 | AF3: =IF(OFFSET(別紙１!B$51,$AE3,)="","",OFFSET(別紙１!B$51,$AE3,)) -> １組織あたり加算上限を適用する組織 ⑤ | AG3: =IF(OFFSET(別紙１!I$51,$AE3,)="","",OFFSET(別紙１!I$51,$AE3,)) -> 0 | AH3: =IF(OFFSET(別紙１!O$51,$AE3+1,)="","",OFFSET(別紙１!O$51,$AE3+1,)) -> 0 | AI3: =IF(OFFSET(別紙１!AM$51,$AE3,)="","",OFFSET(別紙１!AM$51,$AE3,)) | AJ3: 3 | AK3: =IF(COUNTIF($AL$2:AL4,"田 ①") + COUNTIF($AL$2:AL4,"畑 ②") + COUNTIF($AL$2:AL5,"草地 ③")<=3,COUNTIF($AL$2:AL4,"田 ①") + COUNTIF($AL$2:AL4,"畑 ②") + COUNTIF($AL$2:AL5,"草地 ③"),3) -> 1 | AL3: =IF(OFFSET(別紙１!B$73,$AJ3,)="","",OFFSET(別紙１!B$73,$AJ3,)) -> 基本単価 | AM3: =IF(OFFSET(別紙１!B$73,$AJ3,)="","",OFFSET(別紙１!B$73,$AJ3,)) -> 基本単価 | AN3: =IF(OFFSET(別紙１!E$73,$AJ3,)="","",OFFSET(別紙１!E$73,$AJ3,)) | AO3: =IF(OFFSET(別紙１!I$73,$AJ3,)="","",OFFSET(別紙１!I$73,$AJ3,)) -> 0 | AP3: =IF(OFFSET(別紙１!O$73,$AJ3+1,)="","",OFFSET(別紙１!O$73,$AJ3+1,)) -> 0 | AQ3: =IF(OFFSET(別紙１!AM$73,$AJ3,)="","",OFFSET(別紙１!AM$73,$AJ3,)) | AR3: 2 | AS3: =IF(AK3=1,"田 ①",IF(AK3=2,"畑 ②",IF(AK3=3,"草地 ③",))) -> 田 ① | AT3: =IF(OFFSET(AM$2,$AR3+$AK3-1,)="","",OFFSET(AM$2,$AR3+$AK3-1,)) -> 基本単価×５／６ | AU3: =IF(OFFSET(AN$2,$AR3+$AK3-1,)="","",OFFSET(AN$2,$AR3+$AK3-1,)) | AV3: =IF(OFFSET(AO$2,$AR3+$AK3-1,)="","",OFFSET(AO$2,$AR3+$AK3-1,)) -> 0 | AW3: =IF(OFFSET(AP$2,$AR3+$AK3-1,)="","",OFFSET(AP$2,$AR3+$AK3-1,)) -> 0 | AX3: =IF(OFFSET(AQ$2,$AR3+$AK3-1,)="","",OFFSET(AQ$2,$AR3+$AK3-1,)) | AY3: 3 | AZ3: =IF(COUNTIF($BA$2:BA3,"田 ①") + COUNTIF($BA$2:BA4,"畑 ②") + COUNTIF($BA$2:BA5,"草地 ③")<=3,COUNTIF($BA$2:BA3,"田 ①") + COUNTIF($BA$2:BA4,"畑 ②") + COUNTIF($BA$2:BA5,"草地 ③"),3) -> 2 | BA3: =IF(OFFSET(別紙１!$B$112,$AY3,)="","",OFFSET(別紙１!$B$112,$AY3,)) -> 加算単価 | BB3: =IF(OFFSET(別紙１!$B$112,$AY3,)="","",OFFSET(別紙１!$B$112,$AY3,)) -> 加算単価 | BC3: =IF(OFFSET(別紙１!$E$112,$AY3,)="","",OFFSET(別紙１!$E$112,$AY3,)) | BD3: =IF(OFFSET(別紙１!$I$112,$AY3,)="","",OFFSET(別紙１!$I$112,$AY3,)) -> 0 | BE3: =IF(OFFSET(別紙１!$O$112,$AY3+1,)="","",OFFSET(別紙１!$O$112,$AY3+1,)) -> 0 | BF3: =IF(OFFSET(別紙１!$AM$112,$AY3,)="","",OFFSET(別紙１!$AM$112,$AY3,)) | BG3: 2 | BH3: =IF(AZ3=1,"田 ①",IF(AZ3=2,"畑 ②",IF(AZ3=3,"草地 ③",))) -> 畑 ② | BI3: =IF(OFFSET(BB$2,$AZ3+$BG3-1,)="","",OFFSET(BB$2,$AZ3+$BG3-1,)) -> 加算単価 | BJ3: =IF(OFFSET(BC$2,$AZ3+$BG3-1,)="","",OFFSET(BC$2,$AZ3+$BG3-1,)) | BK3: =IF(OFFSET(BD$2,$AZ3+$BG3-1,)="","",OFFSET(BD$2,$AZ3+$BG3-1,)) -> 0 | BL3: =IF(OFFSET(BE$2,$AZ3+$BG3-1,)="","",OFFSET(BE$2,$AZ3+$BG3-1,)) -> 0 | BM3: =IF(OFFSET(BF$2,$AZ3+$BG3-1,)="","",OFFSET(BF$2,$AZ3+$BG3-1,)) | BN3: 3 | BO3: =IF(COUNTIF($BP$2:BP3,"田 ①") + COUNTIF($BP$2:BP4,"畑 ②") + COUNTIF($BP$2:BP5,"草地 ③")<=3,COUNTIF($BP$2:BP3,"田 ①") + COUNTIF($BP$2:BP4,"畑 ②") + COUNTIF($BP$2:BP5,"草地 ③"),3) -> 2 | BP3: =IF(OFFSET(別紙１!$B$138,$BN3,)="","",OFFSET(別紙１!$B$138,$BN3,)) -> 加算単価 | BQ3: =IF(OFFSET(別紙１!$B$138,$BN3,)="","",OFFSET(別紙１!$B$138,$BN3,)) -> 加算単価 | BR3: =IF(OFFSET(別紙１!$E$138,$BN3,)="","",OFFSET(別紙１!$E$138,$BN3,)) | BS3: =IF(OFFSET(別紙１!$I$138,$BN3,)="","",OFFSET(別紙１!$I$138,$BN3,)) -> 0 | BT3: =IF(OFFSET(別紙１!$O$138,$BN3+1,)="","",OFFSET(別紙１!$O$138,$BN3+1,)) -> 0 | BU3: =IF(OFFSET(別紙１!$AM$138,$BN3,)="","",OFFSET(別紙１!$AM$138,$BN3,)) | BV3: 2 | BW3: =IF(BO3=1,"田 ①",IF(BO3=2,"畑 ②",IF(BO3=3,"草地 ③",))) -> 畑 ② | BX3: =IF(OFFSET(BQ$2,$BO3+$BV3-1,)="","",OFFSET(BQ$2,$BO3+$BV3-1,)) -> 加算単価 | BY3: =IF(OFFSET(BR$2,$BO3+$BV3-1,)="","",OFFSET(BR$2,$BO3+$BV3-1,)) | BZ3: =IF(OFFSET(BS$2,$BO3+$BV3-1,)="","",OFFSET(BS$2,$BO3+$BV3-1,)) -> 0 | CA3: =IF(OFFSET(BT$2,$BO3+$BV3-1,)="","",OFFSET(BT$2,$BO3+$BV3-1,)) -> 0 | CB3: =IF(OFFSET(BU$2,$BO3+$BV3-1,)="","",OFFSET(BU$2,$BO3+$BV3-1,)) | CC3: 3 | CD3: =IF(COUNTIF($CE$2:CE3,"田") <=1,COUNTIF($CE$2:CE3,"田"),1) -> 1 | CE3: =IF(OFFSET(別紙１!$B$164,$CC3,)="","",OFFSET(別紙１!$B$164,$CC3,)) -> 加算単価 | CF3: =IF(OFFSET(別紙１!$B$164,$CC3,)="","",OFFSET(別紙１!$B$164,$CC3,)) -> 加算単価 | CG3: =IF(OFFSET(別紙１!$E$164,$CC3,)="","",OFFSET(別紙１!$E$164,$CC3,)) | CH3: =IF(OFFSET(別紙１!$I$164,$CC3,)="","",OFFSET(別紙１!$I$164,$CC3,)) -> 0 | CI3: =IF(OFFSET(別紙１!$O$164,$CC3+1,)="","",OFFSET(別紙１!$O$164,$CC3+1,)) -> 0 | CJ3: =IF(OFFSET(別紙１!$AM$164,$CC3,)="","",OFFSET(別紙１!$AM$164,$CC3,)) | CK3: 2 | CL3: =IF(CD3=1,"田",) -> 田 | CM3: =IF(OFFSET(CF$2,$CD3+$CK3-1,)="","",OFFSET(CF$2,$CD3+$CK3-1,)) -> この線より上に行を挿入してください。 | CN3: =IF(OFFSET(CG$2,$CD3+$CK3-1,)="","",OFFSET(CG$2,$CD3+$CK3-1,)) | CO3: =IF(OFFSET(CH$2,$CD3+$CK3-1,)="","",OFFSET(CH$2,$CD3+$CK3-1,)) | CP3: =IF(OFFSET(CI$2,$CD3+$CK3-1,)="","",OFFSET(CI$2,$CD3+$CK3-1,)) -> 0 | CQ3: =IF(OFFSET(CJ$2,$CD3+$CK3-1,)="","",OFFSET(CJ$2,$CD3+$CK3-1,)) | CR3: 3 | CS3: =IF(COUNTIF($CT$2:CT3,"田 ①") + COUNTIF($CT$2:CT4,"畑 ②") + COUNTIF($CT$2:CT5,"草地 ③")<=3,COUNTIF($CT$2:CT3,"田 ①") + COUNTIF($CT$2:CT4,"畑 ②") + COUNTIF($CT$2:CT5,"草地 ③"),3) -> 1 | CT3: =IF(OFFSET(別紙１!$B$182,$BN3,)="","",OFFSET(別紙１!$B$182,$BN3,)) -> 交付単価 | CU3: =IF(OFFSET(別紙１!$B$182,$BN3,)="","",OFFSET(別紙１!$B$182,$BN3,)) -> 交付単価 | CV3: =IF(OFFSET(別紙１!$E$182,$BN3,)="","",OFFSET(別紙１!$E$182,$BN3,)) | CW3: =IF(OFFSET(別紙１!$I$182,$BN3,)="","",OFFSET(別紙１!$I$182,$BN3,)) -> 0 | CX3: =IF(OFFSET(別紙１!$O$182,$BN3+1,)="","",OFFSET(別紙１!$O$182,$BN3+1,)) -> 0 | CY3: =IF(OFFSET(別紙１!$AM$182,$BN3,)="","",OFFSET(別紙１!$AM$182,$BN3,)) | CZ3: 2 | DA3: =IF(CS3=1,"田 ①",IF(CS3=2,"畑 ②",IF(CS3=3,"草地 ③",))) -> 田 ① | DB3: =IF(OFFSET(CU$2,$CS3+$CZ3-1,)="","",OFFSET(CU$2,$CS3+$CZ3-1,)) -> 交付単価×５／６ | DC3: =IF(OFFSET(CV$2,$CS3+$CZ3-1,)="","",OFFSET(CV$2,$CS3+$CZ3-1,)) | DD3: =IF(OFFSET(CW$2,$CS3+$CZ3-1,)="","",OFFSET(CW$2,$CS3+$CZ3-1,)) -> 0 | DE3: =IF(OFFSET(CX$2,$CS3+$CZ3-1,)="","",OFFSET(CX$2,$CS3+$CZ3-1,)) -> 0 | DF3: =IF(OFFSET(CY$2,$CS3+$CZ3-1,)="","",OFFSET(CY$2,$CS3+$CZ3-1,)) | DG3: 3 | DH3: =IF(OFFSET(別紙１!B$207,$DG3,)="","",OFFSET(別紙１!B$207,$DG3,)) -> この線より上に行を挿入してください。 | DI3: =IF(OFFSET(別紙１!I$207,$DG3,)="","",OFFSET(別紙１!I$207,$DG3,)) | DJ3: =IF(OFFSET(別紙１!O$207,$DG3+1,)="","",OFFSET(別紙１!O$207,$DG3+1,)) -> 0 | DK3: =IF(OFFSET(別紙１!AM$207,$DG3,)="","",OFFSET(別紙１!AM$207,$DG3,))
A4: 5 | B4: =IF(COUNTIF($C$2:C5,"田 ①") + COUNTIF($C$2:C5,"畑 ②") + COUNTIF($C$2:C6,"草地 ③")<=3,COUNTIF($C$2:C5,"田 ①") + COUNTIF($C$2:C5,"畑 ②") + COUNTIF($C$2:C6,"草地 ③"),3) -> 3 | C4: =IF(OFFSET(別紙１!$B$12,$A4,)="","",OFFSET(別紙１!$B$12,$A4,)) -> 畑 ② | D4: =IF(OFFSET(別紙１!$B$12,$A4,)="","",OFFSET(別紙１!$B$12,$A4,)) -> 畑 ② | E4: =IF(OFFSET(別紙１!$E$12,$A4,)="","",OFFSET(別紙１!$E$12,$A4,)) | F4: =IF(OFFSET(別紙１!$I$12,$A4,)="","",OFFSET(別紙１!$I$12,$A4,)) | G4: =IF(OFFSET(別紙１!$O$12,$A4+1,)="","",OFFSET(別紙１!$O$12,$A4+1,)) -> 0 | H4: =IF(OFFSET(別紙１!$AM$12,$A4,)="","",OFFSET(別紙１!$AM$12,$A4,)) | I4: 3 | J4: =IF(B4=1,"田 ①",IF(B4=2,"畑 ②",IF(B4=3,"草地 ③",))) -> 草地 ③ | K4: =IF(OFFSET(D$2,$I4+$B4-1,)="","",OFFSET(D$2,$I4+$B4-1,)) -> 基本単価 | L4: =IF(OFFSET(E$2,$I4+$B4-1,)="","",OFFSET(E$2,$I4+$B4-1,)) | M4: =IF(OFFSET(F$2,$I4+$B4-1,)="","",OFFSET(F$2,$I4+$B4-1,)) -> 0 | N4: =IF(OFFSET(G$2,$I4+$B4-1,)="","",OFFSET(G$2,$I4+$B4-1,)) -> 0 | O4: =IF(OFFSET(H$2,$I4+$B4-1,)="","",OFFSET(H$2,$I4+$B4-1,)) | P4: 5 | Q4: =IF(COUNTIF($R$2:R5,"田 ①") + COUNTIF($R$2:R5,"畑 ②") + COUNTIF($R$2:R6,"草地 ③")<=3,COUNTIF($R$2:R5,"田 ①") + COUNTIF($R$2:R5,"畑 ②") + COUNTIF($R$2:R6,"草地 ③"),3) -> 2 | R4: =IF(OFFSET(別紙１!$B$32,$P4,)="","",OFFSET(別紙１!$B$32,$P4,)) -> 加算上限を適用する | S4: =IF(OFFSET(別紙１!$B$32,$P4,)="","",OFFSET(別紙１!$B$32,$P4,)) -> 加算上限を適用する | T4: =IF(OFFSET(別紙１!$E$32,$P4,)="","",OFFSET(別紙１!$E$32,$P4,)) | U4: =IF(OFFSET(別紙１!$I$32,$P4,)="","",OFFSET(別紙１!$I$32,$P4,)) -> 0 | V4: =IF(OFFSET(別紙１!$O$32,$P4+1,)="","",OFFSET(別紙１!$O$32,$P4+1,)) -> 0 | W4: =IF(OFFSET(別紙１!$AM$32,$P4,)="","",OFFSET(別紙１!$AM$32,$P4,)) | X4: 3 | Y4: =IF(Q4=1,"田 ①",IF(Q4=2,"畑 ②",IF(Q4=3,"草地 ③",))) -> 畑 ② | Z4: =IF(OFFSET(S$2,$X4+$Q4-1,)="","",OFFSET(S$2,$X4+$Q4-1,)) -> 加算単価 | AA4: =IF(OFFSET(T$2,$X4+$Q4-1,)="","",OFFSET(T$2,$X4+$Q4-1,)) | AB4: =IF(OFFSET(U$2,$X4+$Q4-1,)="","",OFFSET(U$2,$X4+$Q4-1,)) -> 0 | AC4: =IF(OFFSET(V$2,$X4+$Q4-1,)="","",OFFSET(V$2,$X4+$Q4-1,)) -> 0 | AD4: =IF(OFFSET(W$2,$X4+$Q4-1,)="","",OFFSET(W$2,$X4+$Q4-1,)) | AE4: 5 | AF4: =IF(OFFSET(別紙１!B$51,$AE4,)="","",OFFSET(別紙１!B$51,$AE4,)) -> この線より上に行を挿入してください。 | AG4: =IF(OFFSET(別紙１!I$51,$AE4,)="","",OFFSET(別紙１!I$51,$AE4,)) | AH4: =IF(OFFSET(別紙１!O$51,$AE4+1,)="","",OFFSET(別紙１!O$51,$AE4+1,)) -> 0 | AI4: =IF(OFFSET(別紙１!AM$51,$AE4,)="","",OFFSET(別紙１!AM$51,$AE4,)) | AJ4: 5 | AK4: =IF(COUNTIF($AL$2:AL5,"田 ①") + COUNTIF($AL$2:AL5,"畑 ②") + COUNTIF($AL$2:AL6,"草地 ③")<=3,COUNTIF($AL$2:AL5,"田 ①") + COUNTIF($AL$2:AL5,"畑 ②") + COUNTIF($AL$2:AL6,"草地 ③"),3) -> 1 | AL4: =IF(OFFSET(別紙１!B$73,$AJ4,)="","",OFFSET(別紙１!B$73,$AJ4,)) -> 基本単価×５／６ | AM4: =IF(OFFSET(別紙１!B$73,$AJ4,)="","",OFFSET(別紙１!B$73,$AJ4,)) -> 基本単価×５／６ | AN4: =IF(OFFSET(別紙１!E$73,$AJ4,)="","",OFFSET(別紙１!E$73,$AJ4,)) | AO4: =IF(OFFSET(別紙１!I$73,$AJ4,)="","",OFFSET(別紙１!I$73,$AJ4,)) -> 0 | AP4: =IF(OFFSET(別紙１!O$73,$AJ4+1,)="","",OFFSET(別紙１!O$73,$AJ4+1,)) -> 0 | AQ4: =IF(OFFSET(別紙１!AM$73,$AJ4,)="","",OFFSET(別紙１!AM$73,$AJ4,)) | AR4: 3 | AS4: =IF(AK4=1,"田 ①",IF(AK4=2,"畑 ②",IF(AK4=3,"草地 ③",))) -> 田 ① | AT4: =IF(OFFSET(AM$2,$AR4+$AK4-1,)="","",OFFSET(AM$2,$AR4+$AK4-1,)) -> 継続地区の交付単価 | AU4: =IF(OFFSET(AN$2,$AR4+$AK4-1,)="","",OFFSET(AN$2,$AR4+$AK4-1,)) | AV4: =IF(OFFSET(AO$2,$AR4+$AK4-1,)="","",OFFSET(AO$2,$AR4+$AK4-1,)) -> 0 | AW4: =IF(OFFSET(AP$2,$AR4+$AK4-1,)="","",OFFSET(AP$2,$AR4+$AK4-1,)) -> 0 | AX4: =IF(OFFSET(AQ$2,$AR4+$AK4-1,)="","",OFFSET(AQ$2,$AR4+$AK4-1,)) | AY4: 5 | AZ4: =IF(COUNTIF($BA$2:BA4,"田 ①") + COUNTIF($BA$2:BA5,"畑 ②") + COUNTIF($BA$2:BA6,"草地 ③")<=3,COUNTIF($BA$2:BA4,"田 ①") + COUNTIF($BA$2:BA5,"畑 ②") + COUNTIF($BA$2:BA6,"草地 ③"),3) -> 3 | BA4: =IF(OFFSET(別紙１!$B$112,$AY4,)="","",OFFSET(別紙１!$B$112,$AY4,)) -> 畑 ② | BB4: =IF(OFFSET(別紙１!$B$112,$AY4,)="","",OFFSET(別紙１!$B$112,$AY4,)) -> 畑 ② | BC4: =IF(OFFSET(別紙１!$E$112,$AY4,)="","",OFFSET(別紙１!$E$112,$AY4,)) | BD4: =IF(OFFSET(別紙１!$I$112,$AY4,)="","",OFFSET(別紙１!$I$112,$AY4,)) | BE4: =IF(OFFSET(別紙１!$O$112,$AY4+1,)="","",OFFSET(別紙１!$O$112,$AY4+1,)) -> 0 | BF4: =IF(OFFSET(別紙１!$AM$112,$AY4,)="","",OFFSET(別紙１!$AM$112,$AY4,)) | BG4: 3 | BH4: =IF(AZ4=1,"田 ①",IF(AZ4=2,"畑 ②",IF(AZ4=3,"草地 ③",))) -> 草地 ③ | BI4: =IF(OFFSET(BB$2,$AZ4+$BG4-1,)="","",OFFSET(BB$2,$AZ4+$BG4-1,)) -> 加算単価 | BJ4: =IF(OFFSET(BC$2,$AZ4+$BG4-1,)="","",OFFSET(BC$2,$AZ4+$BG4-1,)) | BK4: =IF(OFFSET(BD$2,$AZ4+$BG4-1,)="","",OFFSET(BD$2,$AZ4+$BG4-1,)) -> 0 | BL4: =IF(OFFSET(BE$2,$AZ4+$BG4-1,)="","",OFFSET(BE$2,$AZ4+$BG4-1,)) -> 0 | BM4: =IF(OFFSET(BF$2,$AZ4+$BG4-1,)="","",OFFSET(BF$2,$AZ4+$BG4-1,)) | BN4: 5 | BO4: =IF(COUNTIF($BP$2:BP4,"田 ①") + COUNTIF($BP$2:BP5,"畑 ②") + COUNTIF($BP$2:BP6,"草地 ③")<=3,COUNTIF($BP$2:BP4,"田 ①") + COUNTIF($BP$2:BP5,"畑 ②") + COUNTIF($BP$2:BP6,"草地 ③"),3) -> 3 | BP4: =IF(OFFSET(別紙１!$B$138,$BN4,)="","",OFFSET(別紙１!$B$138,$BN4,)) -> 畑 ② | BQ4: =IF(OFFSET(別紙１!$B$138,$BN4,)="","",OFFSET(別紙１!$B$138,$BN4,)) -> 畑 ② | BR4: =IF(OFFSET(別紙１!$E$138,$BN4,)="","",OFFSET(別紙１!$E$138,$BN4,)) | BS4: =IF(OFFSET(別紙１!$I$138,$BN4,)="","",OFFSET(別紙１!$I$138,$BN4,)) | BT4: =IF(OFFSET(別紙１!$O$138,$BN4+1,)="","",OFFSET(別紙１!$O$138,$BN4+1,)) -> 0 | BU4: =IF(OFFSET(別紙１!$AM$138,$BN4,)="","",OFFSET(別紙１!$AM$138,$BN4,)) | BV4: 3 | BW4: =IF(BO4=1,"田 ①",IF(BO4=2,"畑 ②",IF(BO4=3,"草地 ③",))) -> 草地 ③ | BX4: =IF(OFFSET(BQ$2,$BO4+$BV4-1,)="","",OFFSET(BQ$2,$BO4+$BV4-1,)) -> 加算単価 | BY4: =IF(OFFSET(BR$2,$BO4+$BV4-1,)="","",OFFSET(BR$2,$BO4+$BV4-1,)) | BZ4: =IF(OFFSET(BS$2,$BO4+$BV4-1,)="","",OFFSET(BS$2,$BO4+$BV4-1,)) -> 0 | CA4: =IF(OFFSET(BT$2,$BO4+$BV4-1,)="","",OFFSET(BT$2,$BO4+$BV4-1,)) -> 0 | CB4: =IF(OFFSET(BU$2,$BO4+$BV4-1,)="","",OFFSET(BU$2,$BO4+$BV4-1,)) | CC4: 5 | CD4: =IF(COUNTIF($CE$2:CE4,"田") <=1,COUNTIF($CE$2:CE4,"田"),1) -> 1 | CE4: =IF(OFFSET(別紙１!$B$164,$CC4,)="","",OFFSET(別紙１!$B$164,$CC4,)) -> この線より上に行を挿入してください。 | CF4: =IF(OFFSET(別紙１!$B$164,$CC4,)="","",OFFSET(別紙１!$B$164,$CC4,)) -> この線より上に行を挿入してください。 | CG4: =IF(OFFSET(別紙１!$E$164,$CC4,)="","",OFFSET(別紙１!$E$164,$CC4,)) | CH4: =IF(OFFSET(別紙１!$I$164,$CC4,)="","",OFFSET(別紙１!$I$164,$CC4,)) | CI4: =IF(OFFSET(別紙１!$O$164,$CC4+1,)="","",OFFSET(別紙１!$O$164,$CC4+1,)) -> 0 | CJ4: =IF(OFFSET(別紙１!$AM$164,$CC4,)="","",OFFSET(別紙１!$AM$164,$CC4,)) | CK4: 3 | CL4: =IF(CD4=1,"田",) -> 田 | CM4: =IF(OFFSET(CF$2,$CD4+$CK4-1,)="","",OFFSET(CF$2,$CD4+$CK4-1,)) | CN4: =IF(OFFSET(CG$2,$CD4+$CK4-1,)="","",OFFSET(CG$2,$CD4+$CK4-1,)) | CO4: =IF(OFFSET(CH$2,$CD4+$CK4-1,)="","",OFFSET(CH$2,$CD4+$CK4-1,)) | CP4: =IF(OFFSET(CI$2,$CD4+$CK4-1,)="","",OFFSET(CI$2,$CD4+$CK4-1,)) | CQ4: =IF(OFFSET(CJ$2,$CD4+$CK4-1,)="","",OFFSET(CJ$2,$CD4+$CK4-1,)) | CR4: 5 | CS4: =IF(COUNTIF($CT$2:CT4,"田 ①") + COUNTIF($CT$2:CT5,"畑 ②") + COUNTIF($CT$2:CT6,"草地 ③")<=3,COUNTIF($CT$2:CT4,"田 ①") + COUNTIF($CT$2:CT5,"畑 ②") + COUNTIF($CT$2:CT6,"草地 ③"),3) -> 1 | CT4: =IF(OFFSET(別紙１!$B$182,$BN4,)="","",OFFSET(別紙１!$B$182,$BN4,)) -> 交付単価×５／６ | CU4: =IF(OFFSET(別紙１!$B$182,$BN4,)="","",OFFSET(別紙１!$B$182,$BN4,)) -> 交付単価×５／６ | CV4: =IF(OFFSET(別紙１!$E$182,$BN4,)="","",OFFSET(別紙１!$E$182,$BN4,)) | CW4: =IF(OFFSET(別紙１!$I$182,$BN4,)="","",OFFSET(別紙１!$I$182,$BN4,)) -> 0 | CX4: =IF(OFFSET(別紙１!$O$182,$BN4+1,)="","",OFFSET(別紙１!$O$182,$BN4+1,)) -> 0 | CY4: =IF(OFFSET(別紙１!$AM$182,$BN4,)="","",OFFSET(別紙１!$AM$182,$BN4,)) | CZ4: 3 | DA4: =IF(CS4=1,"田 ①",IF(CS4=2,"畑 ②",IF(CS4=3,"草地 ③",))) -> 田 ① | DB4: =IF(OFFSET(CU$2,$CS4+$CZ4-1,)="","",OFFSET(CU$2,$CS4+$CZ4-1,)) -> １集落200万円 | DC4: =IF(OFFSET(CV$2,$CS4+$CZ4-1,)="","",OFFSET(CV$2,$CS4+$CZ4-1,)) | DD4: =IF(OFFSET(CW$2,$CS4+$CZ4-1,)="","",OFFSET(CW$2,$CS4+$CZ4-1,)) | DE4: =IF(OFFSET(CX$2,$CS4+$CZ4-1,)="","",OFFSET(CX$2,$CS4+$CZ4-1,)) -> 0 | DF4: =IF(OFFSET(CY$2,$CS4+$CZ4-1,)="","",OFFSET(CY$2,$CS4+$CZ4-1,)) | DG4: 5 | DH4: =IF(OFFSET(別紙１!B$207,$DG4,)="","",OFFSET(別紙１!B$207,$DG4,)) | DI4: =IF(OFFSET(別紙１!I$207,$DG4,)="","",OFFSET(別紙１!I$207,$DG4,)) | DJ4: =IF(OFFSET(別紙１!O$207,$DG4+1,)="","",OFFSET(別紙１!O$207,$DG4+1,)) | DK4: =IF(OFFSET(別紙１!AM$207,$DG4,)="","",OFFSET(別紙１!AM$207,$DG4,))
A5: 7 | B5: =IF(COUNTIF($C$2:C6,"田 ①") + COUNTIF($C$2:C6,"畑 ②") + COUNTIF($C$2:C7,"草地 ③")<=3,COUNTIF($C$2:C6,"田 ①") + COUNTIF($C$2:C6,"畑 ②") + COUNTIF($C$2:C7,"草地 ③"),3) -> 3 | C5: =IF(OFFSET(別紙１!$B$12,$A5,)="","",OFFSET(別紙１!$B$12,$A5,)) -> 基本単価 | D5: =IF(OFFSET(別紙１!$B$12,$A5,)="","",OFFSET(別紙１!$B$12,$A5,)) -> 基本単価 | E5: =IF(OFFSET(別紙１!$E$12,$A5,)="","",OFFSET(別紙１!$E$12,$A5,)) | F5: =IF(OFFSET(別紙１!$I$12,$A5,)="","",OFFSET(別紙１!$I$12,$A5,)) -> 0 | G5: =IF(OFFSET(別紙１!$O$12,$A5+1,)="","",OFFSET(別紙１!$O$12,$A5+1,)) -> 0 | H5: =IF(OFFSET(別紙１!$AM$12,$A5,)="","",OFFSET(別紙１!$AM$12,$A5,)) | I5: 4 | J5: =IF(B5=1,"田 ①",IF(B5=2,"畑 ②",IF(B5=3,"草地 ③",))) -> 草地 ③ | K5: =IF(OFFSET(D$2,$I5+$B5-1,)="","",OFFSET(D$2,$I5+$B5-1,)) -> この線より上に行を挿入してください。 | L5: =IF(OFFSET(E$2,$I5+$B5-1,)="","",OFFSET(E$2,$I5+$B5-1,)) | M5: =IF(OFFSET(F$2,$I5+$B5-1,)="","",OFFSET(F$2,$I5+$B5-1,)) | N5: =IF(OFFSET(G$2,$I5+$B5-1,)="","",OFFSET(G$2,$I5+$B5-1,)) -> 0 | O5: =IF(OFFSET(H$2,$I5+$B5-1,)="","",OFFSET(H$2,$I5+$B5-1,)) | P5: 7 | Q5: =IF(COUNTIF($R$2:R6,"田 ①") + COUNTIF($R$2:R6,"畑 ②") + COUNTIF($R$2:R7,"草地 ③")<=3,COUNTIF($R$2:R6,"田 ①") + COUNTIF($R$2:R6,"畑 ②") + COUNTIF($R$2:R7,"草地 ③"),3) -> 2 | R5: =IF(OFFSET(別紙１!$B$32,$P5,)="","",OFFSET(別紙１!$B$32,$P5,)) -> 畑 ② | S5: =IF(OFFSET(別紙１!$B$32,$P5,)="","",OFFSET(別紙１!$B$32,$P5,)) -> 畑 ② | T5: =IF(OFFSET(別紙１!$E$32,$P5,)="","",OFFSET(別紙１!$E$32,$P5,)) | U5: =IF(OFFSET(別紙１!$I$32,$P5,)="","",OFFSET(別紙１!$I$32,$P5,)) | V5: =IF(OFFSET(別紙１!$O$32,$P5+1,)="","",OFFSET(別紙１!$O$32,$P5+1,)) -> 0 | W5: =IF(OFFSET(別紙１!$AM$32,$P5,)="","",OFFSET(別紙１!$AM$32,$P5,)) | X5: 4 | Y5: =IF(Q5=1,"田 ①",IF(Q5=2,"畑 ②",IF(Q5=3,"草地 ③",))) -> 畑 ② | Z5: =IF(OFFSET(S$2,$X5+$Q5-1,)="","",OFFSET(S$2,$X5+$Q5-1,)) -> 加算上限を適用する | AA5: =IF(OFFSET(T$2,$X5+$Q5-1,)="","",OFFSET(T$2,$X5+$Q5-1,)) | AB5: =IF(OFFSET(U$2,$X5+$Q5-1,)="","",OFFSET(U$2,$X5+$Q5-1,)) -> 0 | AC5: =IF(OFFSET(V$2,$X5+$Q5-1,)="","",OFFSET(V$2,$X5+$Q5-1,)) -> 0 | AD5: =IF(OFFSET(W$2,$X5+$Q5-1,)="","",OFFSET(W$2,$X5+$Q5-1,)) | AE5: 7 | AF5: =IF(OFFSET(別紙１!B$51,$AE5,)="","",OFFSET(別紙１!B$51,$AE5,)) | AG5: =IF(OFFSET(別紙１!I$51,$AE5,)="","",OFFSET(別紙１!I$51,$AE5,)) | AH5: =IF(OFFSET(別紙１!O$51,$AE5+1,)="","",OFFSET(別紙１!O$51,$AE5+1,)) | AI5: =IF(OFFSET(別紙１!AM$51,$AE5,)="","",OFFSET(別紙１!AM$51,$AE5,)) | AJ5: 7 | AK5: =IF(COUNTIF($AL$2:AL6,"田 ①") + COUNTIF($AL$2:AL6,"畑 ②") + COUNTIF($AL$2:AL7,"草地 ③")<=3,COUNTIF($AL$2:AL6,"田 ①") + COUNTIF($AL$2:AL6,"畑 ②") + COUNTIF($AL$2:AL7,"草地 ③"),3) -> 1 | AL5: =IF(OFFSET(別紙１!B$73,$AJ5,)="","",OFFSET(別紙１!B$73,$AJ5,)) -> 継続地区の交付単価 | AM5: =IF(OFFSET(別紙１!B$73,$AJ5,)="","",OFFSET(別紙１!B$73,$AJ5,)) -> 継続地区の交付単価 | AN5: =IF(OFFSET(別紙１!E$73,$AJ5,)="","",OFFSET(別紙１!E$73,$AJ5,)) | AO5: =IF(OFFSET(別紙１!I$73,$AJ5,)="","",OFFSET(別紙１!I$73,$AJ5,)) -> 0 | AP5: =IF(OFFSET(別紙１!O$73,$AJ5+1,)="","",OFFSET(別紙１!O$73,$AJ5+1,)) -> 0 | AQ5: =IF(OFFSET(別紙１!AM$73,$AJ5,)="","",OFFSET(別紙１!AM$73,$AJ5,)) | AR5: 4 | AS5: =IF(AK5=1,"田 ①",IF(AK5=2,"畑 ②",IF(AK5=3,"草地 ③",))) -> 田 ① | AT5: =IF(OFFSET(AM$2,$AR5+$AK5-1,)="","",OFFSET(AM$2,$AR5+$AK5-1,)) -> 継続地区の交付単価×５／６ | AU5: =IF(OFFSET(AN$2,$AR5+$AK5-1,)="","",OFFSET(AN$2,$AR5+$AK5-1,)) | AV5: =IF(OFFSET(AO$2,$AR5+$AK5-1,)="","",OFFSET(AO$2,$AR5+$AK5-1,)) -> 0 | AW5: =IF(OFFSET(AP$2,$AR5+$AK5-1,)="","",OFFSET(AP$2,$AR5+$AK5-1,)) -> 0 | AX5: =IF(OFFSET(AQ$2,$AR5+$AK5-1,)="","",OFFSET(AQ$2,$AR5+$AK5-1,)) | AY5: 7 | AZ5: =IF(COUNTIF($BA$2:BA5,"田 ①") + COUNTIF($BA$2:BA6,"畑 ②") + COUNTIF($BA$2:BA7,"草地 ③")<=3,COUNTIF($BA$2:BA5,"田 ①") + COUNTIF($BA$2:BA6,"畑 ②") + COUNTIF($BA$2:BA7,"草地 ③"),3) -> 3 | BA5: =IF(OFFSET(別紙１!$B$112,$AY5,)="","",OFFSET(別紙１!$B$112,$AY5,)) -> 加算単価 | BB5: =IF(OFFSET(別紙１!$B$112,$AY5,)="","",OFFSET(別紙１!$B$112,$AY5,)) -> 加算単価 | BC5: =IF(OFFSET(別紙１!$E$112,$AY5,)="","",OFFSET(別紙１!$E$112,$AY5,)) | BD5: =IF(OFFSET(別紙１!$I$112,$AY5,)="","",OFFSET(別紙１!$I$112,$AY5,)) -> 0 | BE5: =IF(OFFSET(別紙１!$O$112,$AY5+1,)="","",OFFSET(別紙１!$O$112,$AY5+1,)) -> 0 | BF5: =IF(OFFSET(別紙１!$AM$112,$AY5,)="","",OFFSET(別紙１!$AM$112,$AY5,)) | BG5: 4 | BH5: =IF(AZ5=1,"田 ①",IF(AZ5=2,"畑 ②",IF(AZ5=3,"草地 ③",))) -> 草地 ③ | BI5: =IF(OFFSET(BB$2,$AZ5+$BG5-1,)="","",OFFSET(BB$2,$AZ5+$BG5-1,)) -> この線より上に行を挿入してください。 | BJ5: =IF(OFFSET(BC$2,$AZ5+$BG5-1,)="","",OFFSET(BC$2,$AZ5+$BG5-1,)) | BK5: =IF(OFFSET(BD$2,$AZ5+$BG5-1,)="","",OFFSET(BD$2,$AZ5+$BG5-1,)) | BL5: =IF(OFFSET(BE$2,$AZ5+$BG5-1,)="","",OFFSET(BE$2,$AZ5+$BG5-1,)) -> 0 | BM5: =IF(OFFSET(BF$2,$AZ5+$BG5-1,)="","",OFFSET(BF$2,$AZ5+$BG5-1,)) | BN5: 7 | BO5: =IF(COUNTIF($BP$2:BP5,"田 ①") + COUNTIF($BP$2:BP6,"畑 ②") + COUNTIF($BP$2:BP7,"草地 ③")<=3,COUNTIF($BP$2:BP5,"田 ①") + COUNTIF($BP$2:BP6,"畑 ②") + COUNTIF($BP$2:BP7,"草地 ③"),3) -> 3 | BP5: =IF(OFFSET(別紙１!$B$138,$BN5,)="","",OFFSET(別紙１!$B$138,$BN5,)) -> 加算単価 | BQ5: =IF(OFFSET(別紙１!$B$138,$BN5,)="","",OFFSET(別紙１!$B$138,$BN5,)) -> 加算単価 | BR5: =IF(OFFSET(別紙１!$E$138,$BN5,)="","",OFFSET(別紙１!$E$138,$BN5,)) | BS5: =IF(OFFSET(別紙１!$I$138,$BN5,)="","",OFFSET(別紙１!$I$138,$BN5,)) -> 0 | BT5: =IF(OFFSET(別紙１!$O$138,$BN5+1,)="","",OFFSET(別紙１!$O$138,$BN5+1,)) -> 0 | BU5: =IF(OFFSET(別紙１!$AM$138,$BN5,)="","",OFFSET(別紙１!$AM$138,$BN5,)) | BV5: 4 | BW5: =IF(BO5=1,"田 ①",IF(BO5=2,"畑 ②",IF(BO5=3,"草地 ③",))) -> 草地 ③ | BX5: =IF(OFFSET(BQ$2,$BO5+$BV5-1,)="","",OFFSET(BQ$2,$BO5+$BV5-1,)) -> この線より上に行を挿入してください。 | BY5: =IF(OFFSET(BR$2,$BO5+$BV5-1,)="","",OFFSET(BR$2,$BO5+$BV5-1,)) | BZ5: =IF(OFFSET(BS$2,$BO5+$BV5-1,)="","",OFFSET(BS$2,$BO5+$BV5-1,)) | CA5: =IF(OFFSET(BT$2,$BO5+$BV5-1,)="","",OFFSET(BT$2,$BO5+$BV5-1,)) -> 0 | CB5: =IF(OFFSET(BU$2,$BO5+$BV5-1,)="","",OFFSET(BU$2,$BO5+$BV5-1,)) | CC5: 7 | CD5: =IF(COUNTIF($CE$2:CE5,"田") <=1,COUNTIF($CE$2:CE5,"田"),1) -> 1 | CE5: =IF(OFFSET(別紙１!$B$164,$CC5,)="","",OFFSET(別紙１!$B$164,$CC5,)) | CF5: =IF(OFFSET(別紙１!$B$164,$CC5,)="","",OFFSET(別紙１!$B$164,$CC5,)) | CG5: =IF(OFFSET(別紙１!$E$164,$CC5,)="","",OFFSET(別紙１!$E$164,$CC5,)) | CH5: =IF(OFFSET(別紙１!$I$164,$CC5,)="","",OFFSET(別紙１!$I$164,$CC5,)) | CI5: =IF(OFFSET(別紙１!$O$164,$CC5+1,)="","",OFFSET(別紙１!$O$164,$CC5+1,)) | CJ5: =IF(OFFSET(別紙１!$AM$164,$CC5,)="","",OFFSET(別紙１!$AM$164,$CC5,)) | CK5: 4 | CL5: =IF(CD5=1,"田",) -> 田 | CM5: =IF(OFFSET(CF$2,$CD5+$CK5-1,)="","",OFFSET(CF$2,$CD5+$CK5-1,)) | CN5: =IF(OFFSET(CG$2,$CD5+$CK5-1,)="","",OFFSET(CG$2,$CD5+$CK5-1,)) | CO5: =IF(OFFSET(CH$2,$CD5+$CK5-1,)="","",OFFSET(CH$2,$CD5+$CK5-1,)) | CP5: =IF(OFFSET(CI$2,$CD5+$CK5-1,)="","",OFFSET(CI$2,$CD5+$CK5-1,)) | CQ5: =IF(OFFSET(CJ$2,$CD5+$CK5-1,)="","",OFFSET(CJ$2,$CD5+$CK5-1,)) | CR5: 7 | CS5: =IF(COUNTIF($CT$2:CT5,"田 ①") + COUNTIF($CT$2:CT6,"畑 ②") + COUNTIF($CT$2:CT7,"草地 ③")<=3,COUNTIF($CT$2:CT5,"田 ①") + COUNTIF($CT$2:CT6,"畑 ②") + COUNTIF($CT$2:CT7,"草地 ③"),3) -> 2 | CT5: =IF(OFFSET(別紙１!$B$182,$BN5,)="","",OFFSET(別紙１!$B$182,$BN5,)) -> １集落200万円 | CU5: =IF(OFFSET(別紙１!$B$182,$BN5,)="","",OFFSET(別紙１!$B$182,$BN5,)) -> １集落200万円 | CV5: =IF(OFFSET(別紙１!$E$182,$BN5,)="","",OFFSET(別紙１!$E$182,$BN5,)) | CW5: =IF(OFFSET(別紙１!$I$182,$BN5,)="","",OFFSET(別紙１!$I$182,$BN5,)) | CX5: =IF(OFFSET(別紙１!$O$182,$BN5+1,)="","",OFFSET(別紙１!$O$182,$BN5+1,)) -> 0 | CY5: =IF(OFFSET(別紙１!$AM$182,$BN5,)="","",OFFSET(別紙１!$AM$182,$BN5,)) | CZ5: 4 | DA5: =IF(CS5=1,"田 ①",IF(CS5=2,"畑 ②",IF(CS5=3,"草地 ③",))) -> 畑 ② | DB5: =IF(OFFSET(CU$2,$CS5+$CZ5-1,)="","",OFFSET(CU$2,$CS5+$CZ5-1,)) -> 交付単価 | DC5: =IF(OFFSET(CV$2,$CS5+$CZ5-1,)="","",OFFSET(CV$2,$CS5+$CZ5-1,)) | DD5: =IF(OFFSET(CW$2,$CS5+$CZ5-1,)="","",OFFSET(CW$2,$CS5+$CZ5-1,)) -> 0 | DE5: =IF(OFFSET(CX$2,$CS5+$CZ5-1,)="","",OFFSET(CX$2,$CS5+$CZ5-1,)) -> 0 | DF5: =IF(OFFSET(CY$2,$CS5+$CZ5-1,)="","",OFFSET(CY$2,$CS5+$CZ5-1,)) | DG5: 7 | DH5: =IF(OFFSET(別紙１!B$207,$DG5,)="","",OFFSET(別紙１!B$207,$DG5,)) | DI5: =IF(OFFSET(別紙１!I$207,$DG5,)="","",OFFSET(別紙１!I$207,$DG5,)) | DJ5: =IF(OFFSET(別紙１!O$207,$DG5+1,)="","",OFFSET(別紙１!O$207,$DG5+1,)) | DK5: =IF(OFFSET(別紙１!AM$207,$DG5,)="","",OFFSET(別紙１!AM$207,$DG5,))
A6: 9 | B6: =IF(COUNTIF($C$2:C7,"田 ①") + COUNTIF($C$2:C7,"畑 ②") + COUNTIF($C$2:C8,"草地 ③")<=3,COUNTIF($C$2:C7,"田 ①") + COUNTIF($C$2:C7,"畑 ②") + COUNTIF($C$2:C8,"草地 ③"),3) -> 3 | C6: =IF(OFFSET(別紙１!$B$12,$A6,)="","",OFFSET(別紙１!$B$12,$A6,)) -> 草地 ③ | D6: =IF(OFFSET(別紙１!$B$12,$A6,)="","",OFFSET(別紙１!$B$12,$A6,)) -> 草地 ③ | E6: =IF(OFFSET(別紙１!$E$12,$A6,)="","",OFFSET(別紙１!$E$12,$A6,)) | F6: =IF(OFFSET(別紙１!$I$12,$A6,)="","",OFFSET(別紙１!$I$12,$A6,)) | G6: =IF(OFFSET(別紙１!$O$12,$A6+1,)="","",OFFSET(別紙１!$O$12,$A6+1,)) -> 0 | H6: =IF(OFFSET(別紙１!$AM$12,$A6,)="","",OFFSET(別紙１!$AM$12,$A6,)) | I6: 5 | J6: =IF(B6=1,"田 ①",IF(B6=2,"畑 ②",IF(B6=3,"草地 ③",))) -> 草地 ③ | K6: =IF(OFFSET(D$2,$I6+$B6-1,)="","",OFFSET(D$2,$I6+$B6-1,)) | L6: =IF(OFFSET(E$2,$I6+$B6-1,)="","",OFFSET(E$2,$I6+$B6-1,)) | M6: =IF(OFFSET(F$2,$I6+$B6-1,)="","",OFFSET(F$2,$I6+$B6-1,)) | N6: =IF(OFFSET(G$2,$I6+$B6-1,)="","",OFFSET(G$2,$I6+$B6-1,)) | O6: =IF(OFFSET(H$2,$I6+$B6-1,)="","",OFFSET(H$2,$I6+$B6-1,)) | P6: 9 | Q6: =IF(COUNTIF($R$2:R7,"田 ①") + COUNTIF($R$2:R7,"畑 ②") + COUNTIF($R$2:R8,"草地 ③")<=3,COUNTIF($R$2:R7,"田 ①") + COUNTIF($R$2:R7,"畑 ②") + COUNTIF($R$2:R8,"草地 ③"),3) -> 3 | R6: =IF(OFFSET(別紙１!$B$32,$P6,)="","",OFFSET(別紙１!$B$32,$P6,)) -> 加算単価 | S6: =IF(OFFSET(別紙１!$B$32,$P6,)="","",OFFSET(別紙１!$B$32,$P6,)) -> 加算単価 | T6: =IF(OFFSET(別紙１!$E$32,$P6,)="","",OFFSET(別紙１!$E$32,$P6,)) | U6: =IF(OFFSET(別紙１!$I$32,$P6,)="","",OFFSET(別紙１!$I$32,$P6,)) -> 0 | V6: =IF(OFFSET(別紙１!$O$32,$P6+1,)="","",OFFSET(別紙１!$O$32,$P6+1,)) -> 0 | W6: =IF(OFFSET(別紙１!$AM$32,$P6,)="","",OFFSET(別紙１!$AM$32,$P6,)) | X6: 5 | Y6: =IF(Q6=1,"田 ①",IF(Q6=2,"畑 ②",IF(Q6=3,"草地 ③",))) -> 草地 ③ | Z6: =IF(OFFSET(S$2,$X6+$Q6-1,)="","",OFFSET(S$2,$X6+$Q6-1,)) -> 加算単価 | AA6: =IF(OFFSET(T$2,$X6+$Q6-1,)="","",OFFSET(T$2,$X6+$Q6-1,)) | AB6: =IF(OFFSET(U$2,$X6+$Q6-1,)="","",OFFSET(U$2,$X6+$Q6-1,)) -> 0 | AC6: =IF(OFFSET(V$2,$X6+$Q6-1,)="","",OFFSET(V$2,$X6+$Q6-1,)) -> 0 | AD6: =IF(OFFSET(W$2,$X6+$Q6-1,)="","",OFFSET(W$2,$X6+$Q6-1,)) | AE6: 9 | AF6: =IF(OFFSET(別紙１!B$51,$AE6,)="","",OFFSET(別紙１!B$51,$AE6,)) -> （注2）１集落あたり加算上限と１組織あたり加算上限が重複する場合は、１組織あたり加算上限を適用する組織欄に記載すること。 | AG6: =IF(OFFSET(別紙１!I$51,$AE6,)="","",OFFSET(別紙１!I$51,$AE6,)) | AH6: =IF(OFFSET(別紙１!O$51,$AE6+1,)="","",OFFSET(別紙１!O$51,$AE6+1,)) | AI6: =IF(OFFSET(別紙１!AM$51,$AE6,)="","",OFFSET(別紙１!AM$51,$AE6,)) | AJ6: 9 | AK6: =IF(COUNTIF($AL$2:AL7,"田 ①") + COUNTIF($AL$2:AL7,"畑 ②") + COUNTIF($AL$2:AL8,"草地 ③")<=3,COUNTIF($AL$2:AL7,"田 ①") + COUNTIF($AL$2:AL7,"畑 ②") + COUNTIF($AL$2:AL8,"草地 ③"),3) -> 2 | AL6: =IF(OFFSET(別紙１!B$73,$AJ6,)="","",OFFSET(別紙１!B$73,$AJ6,)) -> 継続地区の交付単価×５／６ | AM6: =IF(OFFSET(別紙１!B$73,$AJ6,)="","",OFFSET(別紙１!B$73,$AJ6,)) -> 継続地区の交付単価×５／６ | AN6: =IF(OFFSET(別紙１!E$73,$AJ6,)="","",OFFSET(別紙１!E$73,$AJ6,)) | AO6: =IF(OFFSET(別紙１!I$73,$AJ6,)="","",OFFSET(別紙１!I$73,$AJ6,)) -> 0 | AP6: =IF(OFFSET(別紙１!O$73,$AJ6+1,)="","",OFFSET(別紙１!O$73,$AJ6+1,)) -> 0 | AQ6: =IF(OFFSET(別紙１!AM$73,$AJ6,)="","",OFFSET(別紙１!AM$73,$AJ6,)) | AR6: 5 | AS6: =IF(AK6=1,"田 ①",IF(AK6=2,"畑 ②",IF(AK6=3,"草地 ③",))) -> 畑 ② | AT6: =IF(OFFSET(AM$2,$AR6+$AK6-1,)="","",OFFSET(AM$2,$AR6+$AK6-1,)) -> 基本単価 | AU6: =IF(OFFSET(AN$2,$AR6+$AK6-1,)="","",OFFSET(AN$2,$AR6+$AK6-1,)) | AV6: =IF(OFFSET(AO$2,$AR6+$AK6-1,)="","",OFFSET(AO$2,$AR6+$AK6-1,)) -> 0 | AW6: =IF(OFFSET(AP$2,$AR6+$AK6-1,)="","",OFFSET(AP$2,$AR6+$AK6-1,)) -> 0 | AX6: =IF(OFFSET(AQ$2,$AR6+$AK6-1,)="","",OFFSET(AQ$2,$AR6+$AK6-1,)) | AY6: 9 | AZ6: =IF(COUNTIF($BA$2:BA6,"田 ①") + COUNTIF($BA$2:BA7,"畑 ②") + COUNTIF($BA$2:BA8,"草地 ③")<=3,COUNTIF($BA$2:BA6,"田 ①") + COUNTIF($BA$2:BA7,"畑 ②") + COUNTIF($BA$2:BA8,"草地 ③"),3) -> 3 | BA6: =IF(OFFSET(別紙１!$B$112,$AY6,)="","",OFFSET(別紙１!$B$112,$AY6,)) -> 草地 ③ | BB6: =IF(OFFSET(別紙１!$B$112,$AY6,)="","",OFFSET(別紙１!$B$112,$AY6,)) -> 草地 ③ | BC6: =IF(OFFSET(別紙１!$E$112,$AY6,)="","",OFFSET(別紙１!$E$112,$AY6,)) | BD6: =IF(OFFSET(別紙１!$I$112,$AY6,)="","",OFFSET(別紙１!$I$112,$AY6,)) | BE6: =IF(OFFSET(別紙１!$O$112,$AY6+1,)="","",OFFSET(別紙１!$O$112,$AY6+1,)) -> 0 | BF6: =IF(OFFSET(別紙１!$AM$112,$AY6,)="","",OFFSET(別紙１!$AM$112,$AY6,)) | BG6: 5 | BH6: =IF(AZ6=1,"田 ①",IF(AZ6=2,"畑 ②",IF(AZ6=3,"草地 ③",))) -> 草地 ③ | BI6: =IF(OFFSET(BB$2,$AZ6+$BG6-1,)="","",OFFSET(BB$2,$AZ6+$BG6-1,)) | BJ6: =IF(OFFSET(BC$2,$AZ6+$BG6-1,)="","",OFFSET(BC$2,$AZ6+$BG6-1,)) | BK6: =IF(OFFSET(BD$2,$AZ6+$BG6-1,)="","",OFFSET(BD$2,$AZ6+$BG6-1,)) | BL6: =IF(OFFSET(BE$2,$AZ6+$BG6-1,)="","",OFFSET(BE$2,$AZ6+$BG6-1,)) | BM6: =IF(OFFSET(BF$2,$AZ6+$BG6-1,)="","",OFFSET(BF$2,$AZ6+$BG6-1,)) | BN6: 9 | BO6: =IF(COUNTIF($BP$2:BP6,"田 ①") + COUNTIF($BP$2:BP7,"畑 ②") + COUNTIF($BP$2:BP8,"草地 ③")<=3,COUNTIF($BP$2:BP6,"田 ①") + COUNTIF($BP$2:BP7,"畑 ②") + COUNTIF($BP$2:BP8,"草地 ③"),3) -> 3 | BP6: =IF(OFFSET(別紙１!$B$138,$BN6,)="","",OFFSET(別紙１!$B$138,$BN6,)) -> 草地 ③ | BQ6: =IF(OFFSET(別紙１!$B$138,$BN6,)="","",OFFSET(別紙１!$B$138,$BN6,)) -> 草地 ③ | BR6: =IF(OFFSET(別紙１!$E$138,$BN6,)="","",OFFSET(別紙１!$E$138,$BN6,)) | BS6: =IF(OFFSET(別紙１!$I$138,$BN6,)="","",OFFSET(別紙１!$I$138,$BN6,)) | BT6: =IF(OFFSET(別紙１!$O$138,$BN6+1,)="","",OFFSET(別紙１!$O$138,$BN6+1,)) -> 0 | BU6: =IF(OFFSET(別紙１!$AM$138,$BN6,)="","",OFFSET(別紙１!$AM$138,$BN6,)) | BV6: 5 | BW6: =IF(BO6=1,"田 ①",IF(BO6=2,"畑 ②",IF(BO6=3,"草地 ③",))) -> 草地 ③ | BX6: =IF(OFFSET(BQ$2,$BO6+$BV6-1,)="","",OFFSET(BQ$2,$BO6+$BV6-1,)) | BY6: =IF(OFFSET(BR$2,$BO6+$BV6-1,)="","",OFFSET(BR$2,$BO6+$BV6-1,)) | BZ6: =IF(OFFSET(BS$2,$BO6+$BV6-1,)="","",OFFSET(BS$2,$BO6+$BV6-1,)) | CA6: =IF(OFFSET(BT$2,$BO6+$BV6-1,)="","",OFFSET(BT$2,$BO6+$BV6-1,)) | CB6: =IF(OFFSET(BU$2,$BO6+$BV6-1,)="","",OFFSET(BU$2,$BO6+$BV6-1,)) | CC6: 9 | CD6: =IF(COUNTIF($CE$2:CE6,"田") <=1,COUNTIF($CE$2:CE6,"田"),1) -> 1 | CE6: =IF(OFFSET(別紙１!$B$164,$CC6,)="","",OFFSET(別紙１!$B$164,$CC6,)) | CF6: =IF(OFFSET(別紙１!$B$164,$CC6,)="","",OFFSET(別紙１!$B$164,$CC6,)) | CG6: =IF(OFFSET(別紙１!$E$164,$CC6,)="","",OFFSET(別紙１!$E$164,$CC6,)) | CH6: =IF(OFFSET(別紙１!$I$164,$CC6,)="","",OFFSET(別紙１!$I$164,$CC6,)) | CI6: =IF(OFFSET(別紙１!$O$164,$CC6+1,)="","",OFFSET(別紙１!$O$164,$CC6+1,)) | CJ6: =IF(OFFSET(別紙１!$AM$164,$CC6,)="","",OFFSET(別紙１!$AM$164,$CC6,)) | CK6: 5 | CL6: =IF(CD6=1,"田",) -> 田 | CM6: =IF(OFFSET(CF$2,$CD6+$CK6-1,)="","",OFFSET(CF$2,$CD6+$CK6-1,)) | CN6: =IF(OFFSET(CG$2,$CD6+$CK6-1,)="","",OFFSET(CG$2,$CD6+$CK6-1,)) | CO6: =IF(OFFSET(CH$2,$CD6+$CK6-1,)="","",OFFSET(CH$2,$CD6+$CK6-1,)) | CP6: =IF(OFFSET(CI$2,$CD6+$CK6-1,)="","",OFFSET(CI$2,$CD6+$CK6-1,)) | CQ6: =IF(OFFSET(CJ$2,$CD6+$CK6-1,)="","",OFFSET(CJ$2,$CD6+$CK6-1,)) | CR6: 9 | CS6: =IF(COUNTIF($CT$2:CT6,"田 ①") + COUNTIF($CT$2:CT7,"畑 ②") + COUNTIF($CT$2:CT8,"草地 ③")<=3,COUNTIF($CT$2:CT6,"田 ①") + COUNTIF($CT$2:CT7,"畑 ②") + COUNTIF($CT$2:CT8,"草地 ③"),3) -> 2 | CT6: =IF(OFFSET(別紙１!$B$182,$BN6,)="","",OFFSET(別紙１!$B$182,$BN6,)) -> 畑 ② | CU6: =IF(OFFSET(別紙１!$B$182,$BN6,)="","",OFFSET(別紙１!$B$182,$BN6,)) -> 畑 ② | CV6: =IF(OFFSET(別紙１!$E$182,$BN6,)="","",OFFSET(別紙１!$E$182,$BN6,)) | CW6: =IF(OFFSET(別紙１!$I$182,$BN6,)="","",OFFSET(別紙１!$I$182,$BN6,)) | CX6: =IF(OFFSET(別紙１!$O$182,$BN6+1,)="","",OFFSET(別紙１!$O$182,$BN6+1,)) -> 0 | CY6: =IF(OFFSET(別紙１!$AM$182,$BN6,)="","",OFFSET(別紙１!$AM$182,$BN6,)) | CZ6: 5 | DA6: =IF(CS6=1,"田 ①",IF(CS6=2,"畑 ②",IF(CS6=3,"草地 ③",))) -> 畑 ② | DB6: =IF(OFFSET(CU$2,$CS6+$CZ6-1,)="","",OFFSET(CU$2,$CS6+$CZ6-1,)) -> 交付単価×５／６ | DC6: =IF(OFFSET(CV$2,$CS6+$CZ6-1,)="","",OFFSET(CV$2,$CS6+$CZ6-1,)) | DD6: =IF(OFFSET(CW$2,$CS6+$CZ6-1,)="","",OFFSET(CW$2,$CS6+$CZ6-1,)) -> 0 | DE6: =IF(OFFSET(CX$2,$CS6+$CZ6-1,)="","",OFFSET(CX$2,$CS6+$CZ6-1,)) -> 0 | DF6: =IF(OFFSET(CY$2,$CS6+$CZ6-1,)="","",OFFSET(CY$2,$CS6+$CZ6-1,)) | DG6: 9 | DH6: =IF(OFFSET(別紙１!B$207,$DG6,)="","",OFFSET(別紙１!B$207,$DG6,)) -> （注２）１集落200万円の対象農用地面積には、１集落200万円の上限額が適用される対象組織の対象農用地面積を記載すること。 | DI6: =IF(OFFSET(別紙１!I$207,$DG6,)="","",OFFSET(別紙１!I$207,$DG6,)) | DJ6: =IF(OFFSET(別紙１!O$207,$DG6+1,)="","",OFFSET(別紙１!O$207,$DG6+1,)) | DK6: =IF(OFFSET(別紙１!AM$207,$DG6,)="","",OFFSET(別紙１!AM$207,$DG6,))
A7: 11 | B7: =IF(COUNTIF($C$2:C8,"田 ①") + COUNTIF($C$2:C8,"畑 ②") + COUNTIF($C$2:C9,"草地 ③")<=3,COUNTIF($C$2:C8,"田 ①") + COUNTIF($C$2:C8,"畑 ②") + COUNTIF($C$2:C9,"草地 ③"),3) -> 3 | C7: =IF(OFFSET(別紙１!$B$12,$A7,)="","",OFFSET(別紙１!$B$12,$A7,)) -> 基本単価 | D7: =IF(OFFSET(別紙１!$B$12,$A7,)="","",OFFSET(別紙１!$B$12,$A7,)) -> 基本単価 | E7: =IF(OFFSET(別紙１!$E$12,$A7,)="","",OFFSET(別紙１!$E$12,$A7,)) | F7: =IF(OFFSET(別紙１!$I$12,$A7,)="","",OFFSET(別紙１!$I$12,$A7,)) -> 0 | G7: =IF(OFFSET(別紙１!$O$12,$A7+1,)="","",OFFSET(別紙１!$O$12,$A7+1,)) -> 0 | H7: =IF(OFFSET(別紙１!$AM$12,$A7,)="","",OFFSET(別紙１!$AM$12,$A7,)) | I7: 6 | J7: =IF(B7=1,"田 ①",IF(B7=2,"畑 ②",IF(B7=3,"草地 ③",))) -> 草地 ③ | K7: =IF(OFFSET(D$2,$I7+$B7-1,)="","",OFFSET(D$2,$I7+$B7-1,)) | L7: =IF(OFFSET(E$2,$I7+$B7-1,)="","",OFFSET(E$2,$I7+$B7-1,)) | M7: =IF(OFFSET(F$2,$I7+$B7-1,)="","",OFFSET(F$2,$I7+$B7-1,)) | N7: =IF(OFFSET(G$2,$I7+$B7-1,)="","",OFFSET(G$2,$I7+$B7-1,)) | O7: =IF(OFFSET(H$2,$I7+$B7-1,)="","",OFFSET(H$2,$I7+$B7-1,)) | P7: 11 | Q7: =IF(COUNTIF($R$2:R8,"田 ①") + COUNTIF($R$2:R8,"畑 ②") + COUNTIF($R$2:R9,"草地 ③")<=3,COUNTIF($R$2:R8,"田 ①") + COUNTIF($R$2:R8,"畑 ②") + COUNTIF($R$2:R9,"草地 ③"),3) -> 3 | R7: =IF(OFFSET(別紙１!$B$32,$P7,)="","",OFFSET(別紙１!$B$32,$P7,)) -> 加算上限を適用する | S7: =IF(OFFSET(別紙１!$B$32,$P7,)="","",OFFSET(別紙１!$B$32,$P7,)) -> 加算上限を適用する | T7: =IF(OFFSET(別紙１!$E$32,$P7,)="","",OFFSET(別紙１!$E$32,$P7,)) | U7: =IF(OFFSET(別紙１!$I$32,$P7,)="","",OFFSET(別紙１!$I$32,$P7,)) -> 0 | V7: =IF(OFFSET(別紙１!$O$32,$P7+1,)="","",OFFSET(別紙１!$O$32,$P7+1,)) -> 0 | W7: =IF(OFFSET(別紙１!$AM$32,$P7,)="","",OFFSET(別紙１!$AM$32,$P7,)) | X7: 6 | Y7: =IF(Q7=1,"田 ①",IF(Q7=2,"畑 ②",IF(Q7=3,"草地 ③",))) -> 草地 ③ | Z7: =IF(OFFSET(S$2,$X7+$Q7-1,)="","",OFFSET(S$2,$X7+$Q7-1,)) -> 加算上限を適用する | AA7: =IF(OFFSET(T$2,$X7+$Q7-1,)="","",OFFSET(T$2,$X7+$Q7-1,)) | AB7: =IF(OFFSET(U$2,$X7+$Q7-1,)="","",OFFSET(U$2,$X7+$Q7-1,)) -> 0 | AC7: =IF(OFFSET(V$2,$X7+$Q7-1,)="","",OFFSET(V$2,$X7+$Q7-1,)) -> 0 | AD7: =IF(OFFSET(W$2,$X7+$Q7-1,)="","",OFFSET(W$2,$X7+$Q7-1,)) | AE7: 11 | AF7: =IF(OFFSET(別紙１!B$51,$AE7,)="","",OFFSET(別紙１!B$51,$AE7,)) -> 加算措置の 対象組織数 | AG7: =IF(OFFSET(別紙１!I$51,$AE7,)="","",OFFSET(別紙１!I$51,$AE7,)) | AH7: =IF(OFFSET(別紙１!O$51,$AE7+1,)="","",OFFSET(別紙１!O$51,$AE7+1,)) | AI7: =IF(OFFSET(別紙１!AM$51,$AE7,)="","",OFFSET(別紙１!AM$51,$AE7,)) | AJ7: 11 | AK7: =IF(COUNTIF($AL$2:AL8,"田 ①") + COUNTIF($AL$2:AL8,"畑 ②") + COUNTIF($AL$2:AL9,"草地 ③")<=3,COUNTIF($AL$2:AL8,"田 ①") + COUNTIF($AL$2:AL8,"畑 ②") + COUNTIF($AL$2:AL9,"草地 ③"),3) -> 2 | AL7: =IF(OFFSET(別紙１!B$73,$AJ7,)="","",OFFSET(別紙１!B$73,$AJ7,)) -> 畑 ② | AM7: =IF(OFFSET(別紙１!B$73,$AJ7,)="","",OFFSET(別紙１!B$73,$AJ7,)) -> 畑 ② | AN7: =IF(OFFSET(別紙１!E$73,$AJ7,)="","",OFFSET(別紙１!E$73,$AJ7,)) | AO7: =IF(OFFSET(別紙１!I$73,$AJ7,)="","",OFFSET(別紙１!I$73,$AJ7,)) | AP7: =IF(OFFSET(別紙１!O$73,$AJ7+1,)="","",OFFSET(別紙１!O$73,$AJ7+1,)) -> 0 | AQ7: =IF(OFFSET(別紙１!AM$73,$AJ7,)="","",OFFSET(別紙１!AM$73,$AJ7,)) | AR7: 6 | AS7: =IF(AK7=1,"田 ①",IF(AK7=2,"畑 ②",IF(AK7=3,"草地 ③",))) -> 畑 ② | AT7: =IF(OFFSET(AM$2,$AR7+$AK7-1,)="","",OFFSET(AM$2,$AR7+$AK7-1,)) -> 基本単価×５／６ | AU7: =IF(OFFSET(AN$2,$AR7+$AK7-1,)="","",OFFSET(AN$2,$AR7+$AK7-1,)) | AV7: =IF(OFFSET(AO$2,$AR7+$AK7-1,)="","",OFFSET(AO$2,$AR7+$AK7-1,)) -> 0 | AW7: =IF(OFFSET(AP$2,$AR7+$AK7-1,)="","",OFFSET(AP$2,$AR7+$AK7-1,)) -> 0 | AX7: =IF(OFFSET(AQ$2,$AR7+$AK7-1,)="","",OFFSET(AQ$2,$AR7+$AK7-1,)) | AY7: 11 | AZ7: =IF(COUNTIF($BA$2:BA7,"田 ①") + COUNTIF($BA$2:BA8,"畑 ②") + COUNTIF($BA$2:BA9,"草地 ③")<=3,COUNTIF($BA$2:BA7,"田 ①") + COUNTIF($BA$2:BA8,"畑 ②") + COUNTIF($BA$2:BA9,"草地 ③"),3) -> 3 | BA7: =IF(OFFSET(別紙１!$B$112,$AY7,)="","",OFFSET(別紙１!$B$112,$AY7,)) -> 加算単価 | BB7: =IF(OFFSET(別紙１!$B$112,$AY7,)="","",OFFSET(別紙１!$B$112,$AY7,)) -> 加算単価 | BC7: =IF(OFFSET(別紙１!$E$112,$AY7,)="","",OFFSET(別紙１!$E$112,$AY7,)) | BD7: =IF(OFFSET(別紙１!$I$112,$AY7,)="","",OFFSET(別紙１!$I$112,$AY7,)) -> 0 | BE7: =IF(OFFSET(別紙１!$O$112,$AY7+1,)="","",OFFSET(別紙１!$O$112,$AY7+1,)) -> 0 | BF7: =IF(OFFSET(別紙１!$AM$112,$AY7,)="","",OFFSET(別紙１!$AM$112,$AY7,)) | BG7: 6 | BH7: =IF(AZ7=1,"田 ①",IF(AZ7=2,"畑 ②",IF(AZ7=3,"草地 ③",))) -> 草地 ③ | BI7: =IF(OFFSET(BB$2,$AZ7+$BG7-1,)="","",OFFSET(BB$2,$AZ7+$BG7-1,)) | BJ7: =IF(OFFSET(BC$2,$AZ7+$BG7-1,)="","",OFFSET(BC$2,$AZ7+$BG7-1,)) | BK7: =IF(OFFSET(BD$2,$AZ7+$BG7-1,)="","",OFFSET(BD$2,$AZ7+$BG7-1,)) | BL7: =IF(OFFSET(BE$2,$AZ7+$BG7-1,)="","",OFFSET(BE$2,$AZ7+$BG7-1,)) | BM7: =IF(OFFSET(BF$2,$AZ7+$BG7-1,)="","",OFFSET(BF$2,$AZ7+$BG7-1,)) | BN7: 11 | BO7: =IF(COUNTIF($BP$2:BP7,"田 ①") + COUNTIF($BP$2:BP8,"畑 ②") + COUNTIF($BP$2:BP9,"草地 ③")<=3,COUNTIF($BP$2:BP7,"田 ①") + COUNTIF($BP$2:BP8,"畑 ②") + COUNTIF($BP$2:BP9,"草地 ③"),3) -> 3 | BP7: =IF(OFFSET(別紙１!$B$138,$BN7,)="","",OFFSET(別紙１!$B$138,$BN7,)) -> 加算単価 | BQ7: =IF(OFFSET(別紙１!$B$138,$BN7,)="","",OFFSET(別紙１!$B$138,$BN7,)) -> 加算単価 | BR7: =IF(OFFSET(別紙１!$E$138,$BN7,)="","",OFFSET(別紙１!$E$138,$BN7,)) | BS7: =IF(OFFSET(別紙１!$I$138,$BN7,)="","",OFFSET(別紙１!$I$138,$BN7,)) -> 0 | BT7: =IF(OFFSET(別紙１!$O$138,$BN7+1,)="","",OFFSET(別紙１!$O$138,$BN7+1,)) -> 0 | BU7: =IF(OFFSET(別紙１!$AM$138,$BN7,)="","",OFFSET(別紙１!$AM$138,$BN7,)) | BV7: 6 | BW7: =IF(BO7=1,"田 ①",IF(BO7=2,"畑 ②",IF(BO7=3,"草地 ③",))) -> 草地 ③ | BX7: =IF(OFFSET(BQ$2,$BO7+$BV7-1,)="","",OFFSET(BQ$2,$BO7+$BV7-1,)) | BY7: =IF(OFFSET(BR$2,$BO7+$BV7-1,)="","",OFFSET(BR$2,$BO7+$BV7-1,)) | BZ7: =IF(OFFSET(BS$2,$BO7+$BV7-1,)="","",OFFSET(BS$2,$BO7+$BV7-1,)) | CA7: =IF(OFFSET(BT$2,$BO7+$BV7-1,)="","",OFFSET(BT$2,$BO7+$BV7-1,)) | CB7: =IF(OFFSET(BU$2,$BO7+$BV7-1,)="","",OFFSET(BU$2,$BO7+$BV7-1,)) | CC7: 11 | CD7: =IF(COUNTIF($CE$2:CE7,"田") <=1,COUNTIF($CE$2:CE7,"田"),1) -> 1 | CE7: =IF(OFFSET(別紙１!$B$164,$CC7,)="","",OFFSET(別紙１!$B$164,$CC7,)) | CF7: =IF(OFFSET(別紙１!$B$164,$CC7,)="","",OFFSET(別紙１!$B$164,$CC7,)) | CG7: =IF(OFFSET(別紙１!$E$164,$CC7,)="","",OFFSET(別紙１!$E$164,$CC7,)) | CH7: =IF(OFFSET(別紙１!$I$164,$CC7,)="","",OFFSET(別紙１!$I$164,$CC7,)) | CI7: =IF(OFFSET(別紙１!$O$164,$CC7+1,)="","",OFFSET(別紙１!$O$164,$CC7+1,)) | CJ7: =IF(OFFSET(別紙１!$AM$164,$CC7,)="","",OFFSET(別紙１!$AM$164,$CC7,)) | CK7: 6 | CL7: =IF(CD7=1,"田",) -> 田 | CM7: =IF(OFFSET(CF$2,$CD7+$CK7-1,)="","",OFFSET(CF$2,$CD7+$CK7-1,)) | CN7: =IF(OFFSET(CG$2,$CD7+$CK7-1,)="","",OFFSET(CG$2,$CD7+$CK7-1,)) | CO7: =IF(OFFSET(CH$2,$CD7+$CK7-1,)="","",OFFSET(CH$2,$CD7+$CK7-1,)) | CP7: =IF(OFFSET(CI$2,$CD7+$CK7-1,)="","",OFFSET(CI$2,$CD7+$CK7-1,)) | CQ7: =IF(OFFSET(CJ$2,$CD7+$CK7-1,)="","",OFFSET(CJ$2,$CD7+$CK7-1,)) | CR7: 11 | CS7: =IF(COUNTIF($CT$2:CT7,"田 ①") + COUNTIF($CT$2:CT8,"畑 ②") + COUNTIF($CT$2:CT9,"草地 ③")<=3,COUNTIF($CT$2:CT7,"田 ①") + COUNTIF($CT$2:CT8,"畑 ②") + COUNTIF($CT$2:CT9,"草地 ③"),3) -> 2 | CT7: =IF(OFFSET(別紙１!$B$182,$BN7,)="","",OFFSET(別紙１!$B$182,$BN7,)) -> 交付単価 | CU7: =IF(OFFSET(別紙１!$B$182,$BN7,)="","",OFFSET(別紙１!$B$182,$BN7,)) -> 交付単価 | CV7: =IF(OFFSET(別紙１!$E$182,$BN7,)="","",OFFSET(別紙１!$E$182,$BN7,)) | CW7: =IF(OFFSET(別紙１!$I$182,$BN7,)="","",OFFSET(別紙１!$I$182,$BN7,)) -> 0 | CX7: =IF(OFFSET(別紙１!$O$182,$BN7+1,)="","",OFFSET(別紙１!$O$182,$BN7+1,)) -> 0 | CY7: =IF(OFFSET(別紙１!$AM$182,$BN7,)="","",OFFSET(別紙１!$AM$182,$BN7,)) | CZ7: 6 | DA7: =IF(CS7=1,"田 ①",IF(CS7=2,"畑 ②",IF(CS7=3,"草地 ③",))) -> 畑 ② | DB7: =IF(OFFSET(CU$2,$CS7+$CZ7-1,)="","",OFFSET(CU$2,$CS7+$CZ7-1,)) -> １集落200万円 | DC7: =IF(OFFSET(CV$2,$CS7+$CZ7-1,)="","",OFFSET(CV$2,$CS7+$CZ7-1,)) | DD7: =IF(OFFSET(CW$2,$CS7+$CZ7-1,)="","",OFFSET(CW$2,$CS7+$CZ7-1,)) | DE7: =IF(OFFSET(CX$2,$CS7+$CZ7-1,)="","",OFFSET(CX$2,$CS7+$CZ7-1,)) -> 0 | DF7: =IF(OFFSET(CY$2,$CS7+$CZ7-1,)="","",OFFSET(CY$2,$CS7+$CZ7-1,)) | DG7: 11 | DH7: =IF(OFFSET(別紙１!B$207,$DG7,)="","",OFFSET(別紙１!B$207,$DG7,)) -> ウ．組織の広域化・体制強化 | DI7: =IF(OFFSET(別紙１!I$207,$DG7,)="","",OFFSET(別紙１!I$207,$DG7,)) | DJ7: =IF(OFFSET(別紙１!O$207,$DG7+1,)="","",OFFSET(別紙１!O$207,$DG7+1,)) -> 対象組織数 | DK7: =IF(OFFSET(別紙１!AM$207,$DG7,)="","",OFFSET(別紙１!AM$207,$DG7,))
