Workbook
Name 代価表: #REF!
Name 明細書: #REF!
Name 明細書２: #REF!

Sheet 操作説明
B3: 田んぼダムの取組による温室効果ガス排出削減量の算定プログラム ver.1.0
B5: 操作簡易説明
C7: 本プログラムは、「田んぼダム」の検討の参考とするため、田んぼダム取組むことで年間にどの程度温室効果ガス排出量の削減が図れるのかを計算するものです。
C8: 本プログラムは、以下のとおりの構成で作成しています。
D10: シート名 | J10: シート色 | K10: 簡易説明 | S10: 入力
D11: 操作説明 | J11: 灰色 | K11: 本シートになります。 | S11: －
D12: 【入力】ユーザー入力シート | J12: 黄色 | K12: 対象地区にあった数値を入力するシートになります。 | S12: 必要
D13: 【貼付】別途プログラムの算定結果シート | J13: 黄色 | K13: 「水田流出簡易計算プログラム」の算定結果である[Result_流出量]シートの値を貼付するシートになります。 | S13: 必要
D14: 【出力】GHG削減量算定結果シート | J14: 赤色 | K14: 本プログラムの算定結果について、ご利用しやすいように様式を整えたシートになります。 | S14: 一部
D15: 【出力】算定結果詳細内訳シート | J15: 赤色 | K15: 本プログラムの算定結果について、排出プロセスの内訳等詳細な結果をとりまとめたシートになります。 | S15: 一部
D16: GHG年排出量算定書 | J16: 青色 | K16: 温室効果ガス年排出量の算定書になります。 | S16: 任意
D17: 田んぼダム詳細算定書 | J17: 青色 | K17: 田んぼダムの各温室効果ガス排出項目について算定を行っている算定書になります。 | S17: 任意
D18: 機場ポンプ詳細算定書 | J18: 青色 | K18: 代替施設のポンプ運転に係る温室効果ガス排出項目について算定を行っている算定書になります。 | S18: 任意
C20: 操作方法は以下のとおりですが、詳細については「田んぼダムの取組による温室効果ガス排出削減量の算定プログラム操作マニュアル」を参照して下さい。
C22: 1 | D22: 本算定プログラムのシート「【入力】ユーザー入力シート」について、各項目に対して操作マニュアルに準拠してデータの入力または選択を行います。
D23: ・ステップ①～ステップ⑤までについて順に入力項目を確認しながら入力またはセルリストから選択をして下さい。
D24: ・各入力項目については上から順に入力・選択を行うことでスムーズに算定プログラムの運用が行えるように作成しています。
D25: ・以下に、本プログラムのセルの色分けについて示しますのでご参照下さい。
E26: なお、入力等に際しては操作マニュアルまたは本プログラムで示しています入力内容の説明を確認し、入力等を行って下さい。
F28: 赤色セル：ユーザーが入力する際に見てほしい内容を強調しています。(このセルについて入力等の編集は不要です)
F29: 黄色セル：ユーザー入力項目になりますので、対象地区にあった数値を入力して下さい。
H30: 記載済みとなっている数値は、算定する際の初期入力値となりますので、数値設定の目安または記入済み数値を算定に使用するなどご活用下さい。
F31: 緑色セル：セルをクリックし、表示された右側の▽をクリックすると選択できるリストが表示されますので、対象地区に合った項目を選択して下さい。
F32: 青色セル：ユーザーが任意で数値の入力を行えますが、通常の算定では入力不要です。
F33: 灰色セル：自動計算や基準値等が入力されているセルですので、入力等の編集は不要です。
H34: ただし、入力内容の説明で「修正可能です」と記載のある場合は、手打ち入力で数値の変更を行えます。
H35: なお、ステップ順及び入力項目の上から順番に入力等を行うことで灰色の表示が変わることがありますのでご注意下さい。
C37: 2 | D37: 本算定プログラムのシート「【貼付】別途プログラムの算定結果シート」について、別途プログラム(後述5)で算定された結果の貼付を行って下さい。
D38: ・別途算定が必要な「水田流出簡易計算プログラム」の算定結果をシートの所定の位置に値貼付して下さい。
C40: 3 | D40: 本算定プログラムのシート「【出力】GHG削減量算定結果シート」及び「【出力】算定結果詳細内訳シート」について、本プログラムの算定結果を示したシートになります。
D41: なお、活用いただくには図や写真の添付など一部ご利用ユーザーが操作する部分がありますのでご注意下さい。
C43: 4 | D43: 本算定プログラムのシートで算定書となっている青色シートについては、任意で基準となる数値の修正が行えます。
F44: 算定書内の青色となっているセル：ユーザーが任意で数値の変更を行えます。
C46: 5 | D46: 本算定プログラムの他に利用する必要のあるプログラムについて
D47: ・ピークカット流量及びポンプ運転時間を設定するため、公表されている「水田流出簡易計算プログラム」を用いる必要がある事に注意して下さい。
D48: ・「水田流出簡易計算プログラム」の運用については、本プログラムの操作マニュアルP-16～23にも示していますが、「水田流出簡易計算プログラム操作マニュアル」をご参照下さい。
D50: ※ 水田流出簡易計算プログラムについては、以下のURLから入手できますので、使用条件に同意の上でご活用ください。
H52: 1. 水田流出簡易計算プログラムURL (すぐにプログラムがダウンロードされます)
I53: https://www.maff.go.jp/j/nousin/mizu/kurasi_agwater/attach/other/ryuuiki_tisui-3.xlsm
H55: 2. 水田流出簡易計算プログラム操作マニュアルURL (マニュアルがブラウザで開きます)
I56: https://www.maff.go.jp/j/nousin/mizu/kurasi_agwater/attach/pdf/ryuuiki_tisui-33.pdf

Sheet 【入力】ユーザー入力シート
D3: ◆温室効果ガス削減量の算定に係るユーザー入力項目 | Q3: 地区名： | S3: ●●●●●●地区 | V3: =IF(AD7=AL6,"⇐初めに対象地区名を記入して下さい。","") -> ⇐初めに対象地区名を記入して下さい。
E4: [田んぼダムの取組に係る入力項目] | AE4: ステップ① 【算定方法の選択】 | AL4: 【簡易算定】
F5: 入力項目 | L5: 入力数値 | N5: 入力内容の説明 | AL5: 【詳細算定】
C6: ステップ② | F6: 田んぼダムの取組全体面積 | L6: 700 | M6: ha | N6: =IF(AD7=AL6,"","対象地区における田んぼダムを計画している面積(水稲作付水掛り面積)を記入して下さい。")
F7: 区画(一筆)当たりの諸条件
G8: 長辺長 | L8: 100 | M8: m | N8: =IF(AD7=AL6,"","標準的な区画(一筆)の長辺長を記入して下さい。 [標準的な区画が複数ある場合は加重平均した値を記入する]") | AL8: 有り
G9: 短辺長 | L9: 50 | M9: m | N9: =IF(AD7=AL6,"","標準的な区画(一筆)の短辺長を記入して下さい。 [標準的な区画が複数ある場合は加重平均した値を記入する]") | AL9: 無し
G10: 一筆面積 | L10: =ROUND(L8*L9,0) -> 5000 | M10: ｍ2 | N10: =IF(AD7=AL6,"","自動計算のため編集不要。 [区画(一筆)当たり面積＝ "&ROUND(L10/10000,2)&" ha]") | AB10: 上の緑色のセルをクリック後に▽で 「簡易算定」or「詳細算定」を選択する ☆初めての場合は、「簡易算定」を推奨します☆ ※算定方法はマニュアルP－4～5を参照
G11: 畦畔高 | L11: 0.3 | M11: m | N11: =IF(AD7=AL6,"","標準的な区画(一筆)の畦畔高を記入して下さい。 [標準的な区画が複数ある場合は加重平均した値を記入する]") | AL11: 既設利用
G12: 畦畔上幅 | L12: 0.3 | M12: m | N12: =IF(AD7=AL6,"",IF(AD7=AL5,"地区内の標準的な区画(一筆)の畦畔上幅を記入して下さい。 [標準的な区画が複数ある場合は加重平均した値とする]","記入済みの初期入力値として0.3mで算定を行います。 [なお、数値の変更を行う場合は数値入力セルに手入力することで修正可能です]")) | AL12: 新設
G13: 畦畔の施工 | L13: 無し | N13: =IF(AD7=AL6,"","田んぼダム導入時における畦畔の施工(畦畔かさ上げ等)の有無について、セル選択後に▽で「有り」または「無し」を選択して下さい。")
G14: 落水口(桝)設置個数 | L14: 1 | M14: 箇所 | N14: =IF(AD7=AL6,"","標準的な区画(一筆)の落水口(桝)設置個数を記入して下さい。 [標準的な区画が複数ある場合は加重平均した値を記入]") | AL14: 落水口(桝)施工に含む
G15: 落水口(桝)の施工 | AL15: 単独作成
H16: 既設利用の有無 | L16: 新設 | N16: =IF(AD7=AL6,"","田んぼダムの取組導入時の落水口(桝)の施工について、セル選択後に▽で「既設利用」または「新設」を選択して下さい。") | AA16: 凡 例
H19: 1基当たりの | J19: 地区実態 | M19: 円/基 | N19: =IF(AD7=AL6,"",IF(L16=AL12,"落水口(桝)の施工について、費用が分かる場合は記入して下さい。 [不明な場合は、空欄又は「0」を記入する]","既設利用を行うため、施工は行わない。]")) | AD19: =IF(OR(AD7=AL4,AD7=AL5),"ユーザー入力項目","セルをクリックしてリストから任意項目を選択する") -> セルをクリックしてリストから任意項目を選択する | AN19: 落水口(桝) | AO19: 施工費のデフォルト値(円/基)
H22: 施工費 | J22: デフォルト値 | L22: =IF(OR(L19=0,L19=""),IF(L16=AL11,0,IF(L30=AL38,AO26,IF(L28=AL34,AP26,AQ26))),0) -> 5000 | M22: 円/基 | N22: =IF(AD7=AL6,"",IF(OR(L19=0,L19=""),IF(L16=AL12,"施工費が不明(空欄または 0 )なため左記のデフォルト値で算定を行います。","既設利用を行うため、施工は行わない。"),"上記の地区実態として入力した数値にて算定を行います。")) | AD22: =IF(AD7="","","セルをクリックしてリストから任意項目を選択する") | AN22: 器具形式 | AO22: 機能一体型 | AP22: 機能分離型
G25: 流出量抑制器具 | AD25: =IF(AD7="","","任意変更可能(通常は入力しない)") | AP25: 立板方式 | AQ25: コーン方式
AN26: 施工費 | AO26: 5000 | AP26: 14000 | AQ26: 12500
H28: 器具の方式 | L28: 四角セキ方式 | N28: =IF(AD7=AL6,"","器具の方式について、セル選択後に▽のリストから選択してください。 [器具方式はマニュアルP－10を参照]") | AD28: =IF(AD7="","","自動計算又は基準値のため入力しない")
H30: 形式 | L30: =IF(OR(L28=AL31,L28=AL32,L28=AL33),"機能一体型","機能分離型") -> 機能一体型 | N30: =IF(AD7=AL6,"","自動的に形式は選択されるため編集不要。")
H31: 材質 | L31: プラスチック製 | N31: =IF(AD7=AL6,"","器具の代表的な材質について、セル選択後に▽で「木製」,「プラスチック製」,「その他材質」から選択して下さい。") | AB31: 算定プログラムの操作方法[簡易版] | AL31: 四角セキ方式
H32: その他材質の場合の排出原単位 | M32: kgCO2/千円 | N32: =IF(AD7=AL6,"",IF(L31=AL46,"材質が「その他材質」の場合、3EIDより排出原単位を記入して下さい。 [3EIDからの選択方法はマニュアルP●●を参照]","材質が「その他材質」ではないため編集不要。")) | AL32: 三角セキ方式
H33: 作成費用 | J33: 作成費の計上方法 | L33: 単独作成 | N33: =IF(AD7=AL6,"","器具の作成費用について、セル選択後に▽で「落水口(桝)施工に含む」または「単独施工」から選択してください。") | AL33: 門型セキ方式
J34: 地区実態 | M34: 円/枚 | N34: =IF(AD7=AL6,"",IF(L33=AL14,"器具作成費用は落水口(桝)の施工に含むため、入力不要","器具作成費用について、費用が分かる場合は記入して下さい。 [不明な場合は、空欄又は「0」を記入する]")) | AB34: 1. | AC34: 対象地区名の記入を初めに行い、ハイライトされているステップを番号順に入力等の作業を行って下さい。 なお、ハイライトされていない場合は入力が省略されます。 | AL34: 立板方式
J35: デフォルト値 | L35: =IF(OR(L34=0,L34=""),IF(AND(L28=AL35,OR(AD7=AL4,L33=AL14)),0,IF(L31=AL44,INDEX(AN40:AP45,MATCH(L28,AN40:AN45,0),2),IF(L31=AL45,INDEX(AN40:AP45,MATCH(L28,AN40:AN45,0),3),"－"))),0) -> 2500 | M35: 円/枚 | N35: =IF(AD7=AL6,"",IF(AND(L28=AL35,L33=AL15),"作成費用が不明(空欄または 0 )な場合に、落水口(桝)の施工に含んで算定を行う。 ",IF(L33=AL14,"器具作成費用は落水口(桝)の施工に含むため、入力不要 [記入済みの数値は削除不要]",IF(OR(L34=0,L34=""),"作成費用が不明(空欄または 0 )なため左記のデフォルト値で算定を行います。","上記の地区実態として入力した数値にて算定を行います。")))) | AL35: コーン方式
E38: [田んぼダムの取組における維持管理に係る入力項目] | N38: =IF(OR(AD7=AL6,AD7=AL5),"","⇐【簡易算定】を選択したため、入力を省略します。") | AL38: 機能一体型
F39: 入力項目 | L39: 入力数値 | N39: 入力内容の説明 | AL39: 機能分離型 | AN39: 流出量 抑制器具 | AO39: 1枚当たり単価のデフォルト値(円/枚)
C40: ステップ③ | F40: 畦畔に係る維持管理 | AB40: 2. | AC40: 各入力項目については、上から順に入力内容の説明を読み入力してください。 | AO40: 木製 | AP40: プラスチック製
G41: 畦畔塗り等の補修回数 | M41: 回/年 | N41: =IF(OR(AD7=AL6,AD7=AL4),"","通常の営農と異なり別途畦畔塗り等の補修を行う場合の回数を記入して下さい。 [別途補修を行わない場合は空欄または 0 を記入する]") | AL41: 把握可能 | AN41: 四角セキ方式 | AO41: 450 | AP41: 2500
G42: 畦畔塗り等の使用機械 | L42: トラクタ | N42: =IF(OR(AD7=AL6,AD7=AL4),"",IF(OR(L41="",L41=0),"別途増加する畦畔塗り等の補修がないためのため編集不要。","別途必要となる畦畔塗りの際に使用する機械について、セル選択後に▽のリストから選択してください。")) | AL42: 不明または簡易算定 | AN42: 三角セキ方式 | AO42: 3000 | AP42: 5000
F43: 落水口(桝)や流出量抑制器具の維持管理 | AB43: 3. | AC43: 入力またはリストからの選択が必要な項目は全てハイライトされていますので、灰色となっている項目については入力等行わないで下さい。 また、入力内容の説明で「修正可」となっている項目については、任意で修正することが出来ます。 なお、灰色となっている項目について、一つ前の項目の入力・選択によってはハイライトされますのでご注意下さい。(逆の場合もあり) | AN43: 門型セキ方式 | AO43: 450 | AP43: 2500
G44: 地区実態等の把握条件 | L44: 把握可能 | N44: =IF(OR(AD7=AL6,AD7=AL4),"","維持管理の把握について、セル選択後に▽のリストから選択してください。 [マニュアルP－13を参照]") | AL44: 木製 | AN44: 立板方式 | AO44: 6200 | AP44: 11170
G45: 見回りを行う場合に係る条件 | AL45: プラスチック製 | AN45: コーン方式 | AO45: － | AP45: －
H46: 見回り回数 | M46: 回/年 | N46: =IF(OR(AD7=AL6,AD7=AL4),"",IF(L44=AL41,"別途必要となる見回り回数について、記入して下さい。 [見回りを行わない場合は空欄又は 0 を記入する]","不明または簡易算定の場合は本プログラム作成時に算定したデフォルト値で算定を行います。")) | AL46: その他材質
H47: 見回りに係る走行距離 | L47: 1.67 | M47: km/ha | N47: =IF(OR(AD7=AL6,AD7=AL4),"",IF(L44=AL41,IF(OR(L46="",L46=0),"増加する見回り管理はないため編集不要。 [記入済みの初期入力値は削除不要]","上記見回りに係る走行距離について、記入して下さい。 [不明な場合は初期入力値である「1.67」km/haとして下さい]"),""))
G48: 水管理を行う場合に係る条件 | AL48: トラクタ
H49: 水管理回数 | M49: 回/年 | N49: =IF(OR(AD7=AL6,AD7=AL4),"",IF(L44=AL41,"別途必要となる水管理回数について、記入して下さい。 [水管理を行わない場合は空欄又は 0 を記入する]","不明または簡易算定の場合は本プログラム作成時に算定したデフォルト値で算定を行います。")) | AL49: バックホウ
H50: 水管理に係る走行距離 | L50: 1 | M50: km/ha | N50: =IF(OR(AD7=AL6,AD7=AL4),"",IF(L44=AL41,IF(OR(L49="",L49=0),"増加する水管理はないためのため編集不要。 [記入済みの初期入力値は削除不要]","上記水管理に係る走行距離について、記入して下さい。 [不明な場合は初期入力値である「1.00」km/haとして下さい]"),""))
G51: 増加する維持管理の合計回数 | L51: =L46+L49 -> 0 | M51: 回/年 | N51: =IF(OR(AD7=AL6,AD7=AL4),"",IF(L44=AL41,"自動計算のため編集不要。",""))
G52: 増加する維持管理の平均走行距離 | L52: =IF(AND(L46=0,L49=0),0,ROUND(L47*L46/L51+L50*L49/L51,2)) -> 0 | M52: km/ha | N52: =IF(OR(AD7=AL6,AD7=AL4),"",IF(L44=AL41,"自動計算のため編集不要。 [計算は加重平均にて算出しています]",""))
AB53: 4. | AC53: 必須入力項目[黄色セル]に記入済みの数値は参考となる標準値を記載しています。 数値の設定が分からない場合などで記入済みの数値をご利用下さい。
E55: [代替施設(排水機場)の算定に係る入力項目] | M55: =IF(OR(AD7=AL6,AD7=AL5),"","⇐【簡易算定】を選択したため、入力を省略します。") | AL55: ﾃﾞｨｰｾﾞﾙｴﾝｼﾞﾝ
F56: 入力項目 | L56: 入力数値 | N56: 入力内容の説明 | AL56: 電動機
C57: ステップ④ | F57: 代替施設(排水機場)の算定条件
G58: 代替施設(排水機場)の代表ポンプ動力 | L58: ﾃﾞｨｰｾﾞﾙｴﾝｼﾞﾝ | N58: =IF(AD7=AL6,"",IF(AD7=AL5,"近傍排水機場における代表的なポンプ動力について、セル選択後に▽のリストから選択してください。","左記の入力数値セルの内容に係らず、ポンプ動力は「電動機」として算定を行います。"))
G59: 代替施設(排水機場)の揚程 | L59: 2.15 | M59: m | N59: =IF(AD7=AL6,"",IF(AD7=AL5,"近傍排水機場の揚程を記入して下さい。(不明な場合は初期入力値である「2.15」mとして下さい) [マニュアルP－15を参照]",IF(L59=2.15,"記入済みの初期入力値として2.15mで算定を行います。 [なお、数値の変更を行う場合は左記数値に手記入することで修正可能です]","左記のセルに入力した揚程で算定を行います。(初期入力値で算定したい場合は「2.15」mを記入して下さい)"))) | AB59: 5. | AC59: ステップ⑤までの項目を入力または選択ができた場合【出力】シートをご確認下さい。 GHG削減量が算定されております。
G60: 代替施設(排水機場)の 年間維持管理費 | L60: 765 | M60: 千円/ヶ所 | N60: =IF(AD7=AL6,"",IF(AD7=AL5,"近傍排水機場の入手可能な年度で直近5ヵ年程度を平均した年間維持管理費を記入して下さい。","簡易算定を行う場合は初期入力値である「765」千円/ヶ所で算定しますので、左記の数値を確認して下さい。"))
N61: =IF(AD7=AL6,"",IF(AD7=AL5,"なお、不明な場合は初期入力値である「765」千円/ヶ所から変更しないで下さい。 [マニュアルP－15を参照]","なお、数値の変更を行う場合は左記数値に手記入することで修正可能です。"))
E65: [水田流出簡易計算プログラムを用いた算定結果に係る入力項目] | O65: =IF(AD7=AL6,"","⇐算定には別途プログラムとして「水田流出簡易計算プログラム」が必要となります。")
F66: 入力項目 | L66: 入力数値 | N66: 入力内容の説明
C67: ステップ⑤ | F67: 区画(一筆)当たりピークカット流量 | L67: =IF(OR(L68="",L68=0),【貼付】別途プログラムの算定結果シート!$K$73,0) -> 0.015 | M67: ｍ3/ｓ/区画 | N67: =IF(AD7=AL6,"",IF(OR(L68="",L68=0),"「【貼付】別途プログラムの算定結果シート」での作業を行うことにより自動的に数値が変化します。","「水田流出簡易計算プログラム」を用いずにピークカット流量を算定した。"))
G68: 別途算定を行った場合 | M68: ｍ3/ｓ/区画 | N68: =IF(AD7=AL6,"","本項目については、「水田流出簡易計算プログラム」を用いずにピークカット流量を算定した場合に入力して下さい。[通常入力不要]")
F69: 地区全体におけるピークカット流量 | L69: =IF(OR(L68="",L68=0),ROUND(L6*ROUND(L67/(L10/10000),3),1),ROUND(L6*ROUND(L68/(L10/10000),3),1)) -> 21 | M69: ｍ3/ｓ | N69: =IF(AD7=AL6,"",IF(OR(L68="",L68=0),"自動計算となります。 [ha当たりピークカット流量＝"&L67&"(m3/s/区画)/"&L10/10000&"(区画面積 ha)＝"&ROUND(L67/(L10/10000),3)&"(m3/s/ha)]","自動計算となります。 [ha当たりピークカット流量＝"&L68&"(m3/s/区画)/"&L10/10000&"(区画面積 ha)＝"&ROUND(L68/(L10/10000),3)&"(m3/s/ha)]"))
F70: ポンプ運転時間 | L70: =IF(OR(L71="",L71=0),【貼付】別途プログラムの算定結果シート!$K$75,0) -> 10 | M70: hr | N70: =IF(AD7=AL6,"",IF(OR(L71="",L71=0),"「【貼付】別途プログラムの算定結果シート」での作業を行うことにより自動的に数値が変化します。","「水田流出簡易計算プログラム」を用いずにポンプ運転時間を設定した。"))
G71: 別途算定を行った場合 | M71: hr | N71: =IF(AD7=AL6,"","本項目については、「水田流出簡易計算プログラム」を用いずにポンプ運転時間を設定した場合に入力して下さい。[通常入力不要]")

Sheet 【貼付】別途プログラムの算定結果シート
B1: 時間 | C1: 水田番号 | D1: 1 | E1: 水田番号 | F1: 2
B2: ｈ | C2: 降雨量(mm/dt) | D2: 流出量（m3/s） | E2: 降雨量(mm/dt) | F2: 流出量（m3/s） | H2: 本シート操作説明
B3: 1 | C3: 5.3938542 | D3: 0.0052880984 | E3: 5.3938542 | F3: 0.00025938684 | O3: - | P3: - | Q3: =IF($K$71<D3,1,"")
B4: 2 | C4: 6.072055 | D4: 0.0057168773 | E4: 6.072055 | F4: 0.00040865128 | H4: 本シートの運用については、以下に示すステップに従い、進めて下さい。 | O4: =IF(D3<D4,D4,"") -> 0.0057168773 | P4: =IF(F3<F4,F4,"") -> 0.00040865128 | Q4: =IF($K$71<D4,1,"")
B5: 3 | C5: 7.0938342 | D5: 0.0064065425 | E5: 7.0938342 | F5: 0.00064022839 | O5: =IF(D4<D5,D5,"") -> 0.0064065425 | P5: =IF(F4<F5,F5,"") -> 0.00064022839 | Q5: =IF($K$71<D5,1,"")
B6: 4 | C6: 8.9061692 | D6: 0.0076039892 | E6: 8.9061692 | F6: 0.0010313391 | O6: =IF(D5<D6,D6,"") -> 0.0076039892 | P6: =IF(F5<F6,F6,"") -> 0.0010313391 | Q6: =IF($K$71<D6,1,"") -> 1
B7: 5 | C7: 13.767558 | D7: 0.010454042 | E7: 13.767558 | F7: 0.0019063619 | O7: =IF(D6<D7,D7,"") -> 0.010454042 | P7: =IF(F6<F7,F7,"") -> 0.0019063619 | Q7: =IF($K$71<D7,1,"") -> 1
B8: 6 | C8: 33.238354 | D8: 0.021666651 | E8: 33.238354 | F8: 0.0057072363 | O8: =IF(D7<D8,D8,"") -> 0.021666651 | P8: =IF(F7<F8,F8,"") -> 0.0057072363 | Q8: =IF($K$71<D8,1,"") -> 1
B9: 7 | C9: 10.564627 | D9: 0.018794335 | E9: 10.564627 | F9: 0.0066244444 | O9: =IF(D8<D9,D9,"") | P9: =IF(F8<F9,F9,"") -> 0.0066244444 | Q9: =IF($K$71<D9,1,"") -> 1
B10: 8 | C10: 7.8461242 | D10: 0.015679337 | E10: 7.8461242 | F10: 0.0069936365 | O10: =IF(D9<D10,D10,"") | P10: =IF(F9<F10,F10,"") -> 0.0069936365 | Q10: =IF($K$71<D10,1,"") -> 1
B11: 9 | C11: 6.5231033 | D11: 0.013120968 | E11: 6.5231033 | F11: 0.0070819492 | H11: ステップ① | I11: 別途算定が必要な【水田流出簡易計算プログラム】を用いて、「田んぼダム無しの場合」と「田んぼダム有りの場合」の流出量の算定を行って下さい。 このとき、入力として以下の通りとして下さい。 「田んぼダム無しの場合」 ⇒水田番号 1 「田んぼダム有りの場合」 ⇒水田番号 2 | O11: =IF(D10<D11,D11,"") | P11: =IF(F10<F11,F11,"") -> 0.0070819492 | Q11: =IF($K$71<D11,1,"") -> 1
B12: 10 | C12: 5.7024233 | D12: 0.011113119 | E12: 5.7024233 | F12: 0.0070100978 | O12: =IF(D11<D12,D12,"") | P12: =IF(F11<F12,F12,"") | Q12: =IF($K$71<D12,1,"") -> 1
B13: 11 | C13: 5.1300642 | D13: 0.0095457003 | E13: 5.1300642 | F13: 0.0068455048 | O13: =IF(D12<D13,D13,"") | P13: =IF(F12<F13,F13,"") | Q13: =IF($K$71<D13,1,"") -> 1
B14: 12 | C14: 4.9020975 | D14: 0.0083893895 | E14: 4.9020975 | F14: 0.0066638677 | O14: =IF(D13<D14,D14,"") | P14: =IF(F13<F14,F14,"") | Q14: =IF($K$71<D14,1,"") -> 1
B15: 13 | C15: 4.7018125 | D15: 0.0075094995 | E15: 4.7018125 | F15: 0.0064729554 | O15: =IF(D14<D15,D15,"") | P15: =IF(F14<F15,F15,"") | Q15: =IF($K$71<D15,1,"") -> 1
B16: 14 | C16: 4.5243242 | D16: 0.0068217157 | E16: 4.5243242 | F16: 0.0062783557 | O16: =IF(D15<D16,D16,"") | P16: =IF(F15<F16,F16,"") | Q16: =IF($K$71<D16,1,"")
B17: 15 | C17: 4.3647475 | D17: 0.0062709233 | E17: 4.3647475 | F17: 0.0060838427 | O17: =IF(D16<D17,D17,"") | P17: =IF(F16<F17,F17,"") | Q17: =IF($K$71<D17,1,"")
B18: 16 | C18: 4.2214542 | D18: 0.0058206859 | E18: 4.2214542 | F18: 0.0058922378 | O18: =IF(D17<D18,D18,"") | P18: =IF(F17<F18,F18,"") | Q18: =IF($K$71<D18,1,"")
B19: 17 | C19: 4.0920017 | D19: 0.0054459137 | E19: 4.0920017 | F19: 0.0057054498 | O19: =IF(D18<D19,D19,"") | P19: =IF(F18<F19,F19,"") | Q19: =IF($K$71<D19,1,"")
B20: 18 | C20: 3.9731333 | D20: 0.0051284915 | E20: 3.9731333 | F20: 0.0055245174 | O20: =IF(D19<D20,D20,"") | P20: =IF(F19<F20,F20,"") | Q20: =IF($K$71<D20,1,"")
B21: 19 | C21: 3.864035 | D21: 0.0048556435 | E21: 3.864035 | F21: 0.0053501565 | O21: =IF(D20<D21,D21,"") | P21: =IF(F20<F21,F21,"") | Q21: =IF($K$71<D21,1,"")
B22: 20 | C22: 3.7638925 | D22: 0.0046181599 | E22: 3.7638925 | F22: 0.0051828209 | O22: =IF(D21<D22,D22,"") | P22: =IF(F21<F22,F22,"") | Q22: =IF($K$71<D22,1,"")
B23: 21 | C23: 3.6710775 | D23: 0.0044089945 | E23: 3.6710775 | F23: 0.0050226302 | O23: =IF(D22<D23,D23,"") | P23: =IF(F22<F23,F23,"") | Q23: =IF($K$71<D23,1,"")
... B34: 32 | C34: 0 | D34: 9.6754036e-05 | E34: 0 | F34: 0.0017395004 | O34: =IF(D33<D34,D34,"") | P34: =IF(F33<F34,F34,"") | Q34: =IF($K$71<D34,1,"")
B35: 33 | C35: 0 | D35: 1.4303949e-05 | E35: 0 | F35: 0.0015619317 | H35: ステップ② | I35: 【水田流出簡易計算プログラム】の「Result_流出量」シートに示されている算定結果(A列～E列まで)を列でコピーして下さい。 | O35: =IF(D34<D35,D35,"") | P35: =IF(F34<F35,F35,"") | Q35: =IF($K$71<D35,1,"")
B36: 34 | C36: 0 | D36: 0 | E36: 0 | F36: 0.0014045705 | O36: =IF(D35<D36,D36,"") | P36: =IF(F35<F36,F36,"") | Q36: =IF($K$71<D36,1,"")
B37: 35 | C37: 0 | D37: 0 | E37: 0 | F37: 0.0012645171 | O37: =IF(D36<D37,D37,"") | P37: =IF(F36<F37,F37,"") | Q37: =IF($K$71<D37,1,"")
B38: 36 | C38: 0 | D38: 0 | E38: 0 | F38: 0.0011393871 | O38: =IF(D37<D38,D38,"") | P38: =IF(F37<F38,F38,"") | Q38: =IF($K$71<D38,1,"")
B39: 37 | C39: 0 | D39: 0 | E39: 0 | F39: 0.0010272044 | O39: =IF(D38<D39,D39,"") | P39: =IF(F38<F39,F39,"") | Q39: =IF($K$71<D39,1,"")
B40: 38 | C40: 0 | D40: 0 | E40: 0 | F40: 0.00092631935 | O40: =IF(D39<D40,D40,"") | P40: =IF(F39<F40,F40,"") | Q40: =IF($K$71<D40,1,"")
B41: 39 | C41: 0 | D41: 0 | E41: 0 | F41: 0.00083534568 | O41: =IF(D40<D41,D41,"") | P41: =IF(F40<F41,F41,"") | Q41: =IF($K$71<D41,1,"")
B42: 40 | C42: 0 | D42: 0 | E42: 0 | F42: 0.00075311122 | O42: =IF(D41<D42,D42,"") | P42: =IF(F41<F42,F42,"") | Q42: =IF($K$71<D42,1,"")
B43: 41 | C43: 0 | D43: 0 | E43: 0 | F43: 0.00067861912 | O43: =IF(D42<D43,D43,"") | P43: =IF(F42<F43,F43,"") | Q43: =IF($K$71<D43,1,"")
B44: 42 | C44: 0 | D44: 0 | E44: 0 | F44: 0.00061101706 | O44: =IF(D43<D44,D44,"") | P44: =IF(F43<F44,F44,"") | Q44: =IF($K$71<D44,1,"")
B45: 43 | C45: 0 | D45: 0 | E45: 0 | F45: 0.00054957269 | O45: =IF(D44<D45,D45,"") | P45: =IF(F44<F45,F45,"") | Q45: =IF($K$71<D45,1,"")
B46: 44 | C46: 0 | D46: 0 | E46: 0 | F46: 0.00049365371 | H46: ステップ③ | I46: 本プログラムの黄色矢印より左側のB列～Ｆ列にステップ②で列でコピーした内容を値貼付して下さい。 なお、貼付を行う際に値貼付ではなくそのまま貼付てしまうと本シートの表示がおかしくなることがございます。 算定には直接影響しませんが、ご注意下さい。 | O46: =IF(D45<D46,D46,"") | P46: =IF(F45<F46,F46,"") | Q46: =IF($K$71<D46,1,"")
B47: 45 | C47: 0 | D47: 0 | E47: 0 | F47: 0.00044271184 | O47: =IF(D46<D47,D47,"") | P47: =IF(F46<F47,F47,"") | Q47: =IF($K$71<D47,1,"")
B48: 46 | C48: 0 | D48: 0 | E48: 0 | F48: 0.00039626963 | O48: =IF(D47<D48,D48,"") | P48: =IF(F47<F48,F48,"") | Q48: =IF($K$71<D48,1,"")
B49: 47 | C49: 0 | D49: 0 | E49: 0 | F49: 0.00035390969 | O49: =IF(D48<D49,D49,"") | P49: =IF(F48<F49,F49,"") | Q49: =IF($K$71<D49,1,"")
B50: 48 | C50: 0 | D50: 0 | E50: 0 | F50: 0.00031526572 | O50: =IF(D49<D50,D50,"") | P50: =IF(F49<F50,F50,"") | Q50: =IF($K$71<D50,1,"")
B51: 49 | C51: 0 | D51: 0 | E51: 0 | F51: 0.0002800151 | O51: =IF(D50<D51,D51,"") | P51: =IF(F50<F51,F51,"") | Q51: =IF($K$71<D51,1,"")
B52: 50 | C52: 0 | D52: 0 | E52: 0 | F52: 0.00024787266 | O52: =IF(D51<D52,D52,"") | P52: =IF(F51<F52,F52,"") | Q52: =IF($K$71<D52,1,"")
B53: 51 | C53: 0 | D53: 0 | E53: 0 | F53: 0.00021858547 | O53: =IF(D52<D53,D53,"") | P53: =IF(F52<F53,F53,"") | Q53: =IF($K$71<D53,1,"")
B54: 52 | C54: 0 | D54: 0 | E54: 0 | F54: 0.00019192842 | O54: =IF(D53<D54,D54,"") | P54: =IF(F53<F54,F54,"") | Q54: =IF($K$71<D54,1,"")
B55: 53 | C55: 0 | D55: 0 | E55: 0 | F55: 0.00016770043 | O55: =IF(D54<D55,D55,"") | P55: =IF(F54<F55,F55,"") | Q55: =IF($K$71<D55,1,"")
B56: 54 | C56: 0 | D56: 0 | E56: 0 | F56: 0.00014572129 | O56: =IF(D55<D56,D56,"") | P56: =IF(F55<F56,F56,"") | Q56: =IF($K$71<D56,1,"")
B57: 55 | C57: 0 | D57: 0 | E57: 0 | F57: 0.00012582887 | O57: =IF(D56<D57,D57,"") | P57: =IF(F56<F57,F57,"") | Q57: =IF($K$71<D57,1,"")
B58: 56 | C58: 0 | D58: 0 | E58: 0 | F58: 0.0001078767 | O58: =IF(D57<D58,D58,"") | P58: =IF(F57<F58,F58,"") | Q58: =IF($K$71<D58,1,"")
... B68: 66 | C68: 0 | D68: 0 | E68: 0 | F68: 1.0496358e-05 | O68: =IF(D67<D68,D68,"") | P68: =IF(F67<F68,F68,"") | Q68: =IF($K$71<D68,1,"")
B69: 67 | C69: 0 | D69: 0 | E69: 0 | F69: 6.9979264e-06 | H69: 田んぼダム無しの場合のピーク流量① | K69: =ROUND(MAX(O3:O1000),3) -> 0.022 | L69: ｍ3/ｓ/区画 | O69: =IF(D68<D69,D69,"") | P69: =IF(F68<F69,F69,"") | Q69: =IF($K$71<D69,1,"")
B70: 68 | C70: 0 | D70: 0 | E70: 0 | F70: 4.3174507e-06 | O70: =IF(D69<D70,D70,"") | P70: =IF(F69<F70,F70,"") | Q70: =IF($K$71<D70,1,"")
B71: 69 | C71: 0 | D71: 0 | E71: 0 | F71: 2.3741748e-06 | H71: 田んぼダムありの場合のピーク流量① | K71: =ROUND(MAX(P3:P1000),3) -> 0.007 | L71: ｍ3/ｓ/区画 | O71: =IF(D70<D71,D71,"") | P71: =IF(F70<F71,F71,"") | Q71: =IF($K$71<D71,1,"")
B72: 70 | C72: 0 | D72: 0 | E72: 0 | F72: 1.0812572e-06 | O72: =IF(D71<D72,D72,"") | P72: =IF(F71<F72,F72,"") | Q72: =IF($K$71<D72,1,"")
B73: 71 | C73: 0 | D73: 0 | E73: 0 | F73: 3.4136365e-07 | H73: ピークカット流量(①－②) | K73: =ROUND(K69-K71,3) -> 0.015 | L73: ｍ3/ｓ/区画 | O73: =IF(D72<D73,D73,"") | P73: =IF(F72<F73,F73,"") | Q73: =IF($K$71<D73,1,"")
B74: 72 | C74: 0 | D74: 0 | E74: 0 | F74: 3.7710632e-08 | O74: =IF(D73<D74,D74,"") | P74: =IF(F73<F74,F74,"") | Q74: =IF($K$71<D74,1,"")
B75: 73 | C75: 0 | D75: 0 | E75: 0 | F75: 0 | H75: ポンプ運転時間の概定 | K75: =COUNT(Q3:Q1000) -> 10 | L75: hr | O75: =IF(D74<D75,D75,"") | P75: =IF(F74<F75,F75,"") | Q75: =IF($K$71<D75,1,"")
B76: 74 | C76: 0 | D76: 0 | E76: 0 | F76: 0 | O76: =IF(D75<D76,D76,"") | P76: =IF(F75<F76,F76,"") | Q76: =IF($K$71<D76,1,"")
B77: 75 | C77: 0 | D77: 0 | E77: 0 | F77: 0 | O77: =IF(D76<D77,D77,"") | P77: =IF(F76<F77,F77,"") | Q77: =IF($K$71<D77,1,"")
B78: 76 | C78: 0 | D78: 0 | E78: 0 | F78: 0 | O78: =IF(D77<D78,D78,"") | P78: =IF(F77<F78,F78,"") | Q78: =IF($K$71<D78,1,"")
B79: 77 | C79: 0 | D79: 0 | E79: 0 | F79: 0 | O79: =IF(D78<D79,D79,"") | P79: =IF(F78<F79,F79,"") | Q79: =IF($K$71<D79,1,"")
B80: 78 | C80: 0 | D80: 0 | E80: 0 | F80: 0 | O80: =IF(D79<D80,D80,"") | P80: =IF(F79<F80,F80,"") | Q80: =IF($K$71<D80,1,"")
B81: 79 | C81: 0 | D81: 0 | E81: 0 | F81: 0 | O81: =IF(D80<D81,D81,"") | P81: =IF(F80<F81,F81,"") | Q81: =IF($K$71<D81,1,"")
B82: 80 | C82: 0 | D82: 0 | E82: 0 | F82: 0 | O82: =IF(D81<D82,D82,"") | P82: =IF(F81<F82,F82,"") | Q82: =IF($K$71<D82,1,"")
B83: 81 | C83: 0 | D83: 0 | E83: 0 | F83: 0 | O83: =IF(D82<D83,D83,"") | P83: =IF(F82<F83,F83,"") | Q83: =IF($K$71<D83,1,"")
B84: 82 | C84: 0 | D84: 0 | E84: 0 | F84: 0 | O84: =IF(D83<D84,D84,"") | P84: =IF(F83<F84,F84,"") | Q84: =IF($K$71<D84,1,"")
B85: 83 | C85: 0 | D85: 0 | E85: 0 | F85: 0 | O85: =IF(D84<D85,D85,"") | P85: =IF(F84<F85,F85,"") | Q85: =IF($K$71<D85,1,"")
B86: 84 | C86: 0 | D86: 0 | E86: 0 | F86: 0 | O86: =IF(D85<D86,D86,"") | P86: =IF(F85<F86,F86,"") | Q86: =IF($K$71<D86,1,"")
B87: 85 | C87: 0 | D87: 0 | E87: 0 | F87: 0 | O87: =IF(D86<D87,D87,"") | P87: =IF(F86<F87,F87,"") | Q87: =IF($K$71<D87,1,"")
... B122: 120 | C122: 0 | D122: 0 | E122: 0 | F122: 0 | O122: =IF(D121<D122,D122,"") | P122: =IF(F121<F122,F122,"") | Q122: =IF($K$71<D122,1,"")
O123: =IF(D122<D123,D123,"") | P123: =IF(F122<F123,F123,"") | Q123: =IF($K$71<D123,1,"")
O124: =IF(D123<D124,D124,"") | P124: =IF(F123<F124,F124,"") | Q124: =IF($K$71<D124,1,"")
O125: =IF(D124<D125,D125,"") | P125: =IF(F124<F125,F125,"") | Q125: =IF($K$71<D125,1,"")
O126: =IF(D125<D126,D126,"") | P126: =IF(F125<F126,F126,"") | Q126: =IF($K$71<D126,1,"")
O127: =IF(D126<D127,D127,"") | P127: =IF(F126<F127,F127,"") | Q127: =IF($K$71<D127,1,"")
O128: =IF(D127<D128,D128,"") | P128: =IF(F127<F128,F128,"") | Q128: =IF($K$71<D128,1,"")
O129: =IF(D128<D129,D129,"") | P129: =IF(F128<F129,F129,"") | Q129: =IF($K$71<D129,1,"")
O130: =IF(D129<D130,D130,"") | P130: =IF(F129<F130,F130,"") | Q130: =IF($K$71<D130,1,"")
O131: =IF(D130<D131,D131,"") | P131: =IF(F130<F131,F131,"") | Q131: =IF($K$71<D131,1,"")
O132: =IF(D131<D132,D132,"") | P132: =IF(F131<F132,F132,"") | Q132: =IF($K$71<D132,1,"")
O133: =IF(D132<D133,D133,"") | P133: =IF(F132<F133,F133,"") | Q133: =IF($K$71<D133,1,"")
O134: =IF(D133<D134,D134,"") | P134: =IF(F133<F134,F134,"") | Q134: =IF($K$71<D134,1,"")
... O1000: =IF(D999<D1000,D1000,"") | P1000: =IF(F999<F1000,F1000,"") | Q1000: =IF($K$71<D1000,1,"")

Sheet 【出力】GHG削減量算定結果シート
D3: 田んぼダムの取組による温室効果ガス削減量の算定結果 | X3: =TODAY() -> 45812
E4: ◆地区の概要 | P4: 地区の位置図等概要の 分かる図や写真を張り付けてください。 | V4: 流出量抑制器具構造や田んぼダムの取組内容の 分かる図面や写真を張り付けてください。
F6: 地区名 | J6: =【入力】ユーザー入力シート!S3 -> ●●●●●●地区
F8: 田んぼダム | J8: =【入力】ユーザー入力シート!L6 -> 700
F9: 取組全体面積
F10: 区画(1筆)当たり | J10: =【入力】ユーザー入力シート!L10/100/100 -> 0.5
F11: 標準面積 | AE11: 【温室効果ガス排出削減量の目安】
F12: 落水口(桝) | J12: =【入力】ユーザー入力シート!L16 -> 新設 | AF12: 算定を行った田んぼダムによる年温室効果ガス削減量について、1世帯当たりが年間に排出する温室効果ガスに換算を行った場合以下の通りとなる。
F14: 流出量抑制器具 | J14: =【入力】ユーザー入力シート!L28&"の"&【入力】ユーザー入力シート!L30 -> 四角セキ方式の機能一体型 | AF14: =" このことから、田んぼダムの取組を行うことで年間約"&AK19&"世帯分の温室効果ガス排出量を削減できる。" -> このことから、田んぼダムの取組を行うことで年間約170世帯分の温室効果ガス排出量を削減できる。
J15: ="["&【入力】ユーザー入力シート!L31&"]" -> [プラスチック製]
F16: 区画(1筆)当たり | J16: =(【入力】ユーザー入力シート!L67+【入力】ユーザー入力シート!L68) -> 0.015 | AF16: 項目 | AK16: 年温室効果ガス排出量
F17: ピークカット流量 | AF17: 令和４年度の世帯当たりの年間温室効果ガス排出量 | AK17: 2.59 | AM17: tCO2/年
F18: 地区全体 | J18: =【入力】ユーザー入力シート!L69 -> 21 | AF18: 田んぼダムによる年温室効果ガス削減量 | AK18: =L26 -> 440.36 | AM18: tCO2/年
F19: ピークカット流量 | AF19: 田んぼダムによる年温室効果ガス削減量（世帯換算） | AK19: =ROUNDDOWN(AK18/AK17,0) -> 170 | AM19: 世帯
E21: ◆温室効果ガス削減量の算定結果
F23: 項目 | L23: 年温室効果ガス排出量
F24: 田んぼダムの年排出量 | L24: =GHG年排出量算定書!O17 -> 2.24 | N24: tCO2/年
F25: 代替施設の年排出量 | L25: =GHG年排出量算定書!O42 -> 442.6 | N25: tCO2/年
F26: 田んぼダムによる年温室効果ガス削減量 | L26: =L25-L24 -> 440.36 | N26: tCO2/年
AG34: 出展：「令和４年度 家庭部門の CO2 排出実態統計調査 結果について 令和6年3月環境省」
AF36: <参考資料>
AG37: 地球温暖化に関する情報 「おしえて地球温暖化」環境省作成
AG38: https://www.env.go.jp/content/900441920.pdf

Sheet 【出力】算定結果詳細内訳シート
D3: 田んぼダムの取組による温室効果ガス削減量の算定結果[詳細算定書] | W3: =TODAY() -> 45812
E7: ◆地区の概要
F8: 地区名 | J8: =【入力】ユーザー入力シート!S3 -> ●●●●●●地区
F10: 田んぼダム | J10: =【入力】ユーザー入力シート!L6 -> 700
F11: 取組全体面積
F12: 区画(1筆)当たり | J12: =【入力】ユーザー入力シート!L10/100/100 -> 0.5
F13: 標準面積
F14: 落水口(桝) | J14: =【入力】ユーザー入力シート!L16 -> 新設
F16: 流出量抑制器具 | J16: =【入力】ユーザー入力シート!L28&"の"&【入力】ユーザー入力シート!L30 -> 四角セキ方式の機能一体型
J17: ="["&【入力】ユーザー入力シート!L31&"]" -> [プラスチック製]
F18: 区画(1筆)当たり | J18: =(【入力】ユーザー入力シート!L67+【入力】ユーザー入力シート!L68) -> 0.015
F19: ピークカット流量
F20: 地区全体 | J20: =【入力】ユーザー入力シート!L69 -> 21
F21: ピークカット流量
F26: 項目 | N26: 年当たり排出量 | Q26: 備考 | AE26: 田んぼダムGHG排出量 | AF26: =N27 -> 2.24
F27: 田んぼダムの年当たり温室効果ガス排出量 [①] | N27: =GHG年排出量算定書!O17 -> 2.24 | P27: tCO2/年 | Q27: 1.田んぼダムにおけるCO2排出量算定の結果 (温室効果ガス年排出算定書の表3-1を参照) | AE27: GHG削減量 | AF27: =N29 -> 440.36
F28: 代替施設(排水機場)の年当たり温室効果ガス排出量 [②] | N28: =GHG年排出量算定書!O42 -> 442.6 | P28: tCO2/年 | Q28: 2.代替施設(排水機場)おけるCO2排出量算定の結果 (温室効果ガス年排出算定書の表3-2を参照)
F29: 田んぼダムによる年当たり温室効果ガス削減量 | N29: =N28-N27 -> 440.36 | P29: tCO2/年 | Q29: 年当たり温室効果ガス削減量＝[②代替施設の年当たり排出量]－[①田んぼダムの年当たり排出量]
E33: ◆温室効果ガス排出量の算定結果内訳表
I35: 項目 | K35: 田んぼダムの年当たり温室効果ガス排出量内訳 [①] （tCO2/年） | S35: 代替施設(排水機場)の年当たり温室効果ガス排出量内訳 [②] （tCO2/年）
R36: 全体計 | Y36: 全体計
N37: 施工計 | Q37: 維持管理計 | V37: 施工計 | W37: 運転管理 | X37: 維持管理 (点検),整備
K38: 畦畔再構築 | L38: 落水桝 | M38: 堰板 | O38: 畦畔再構築 | P38: 見回り等 | S38: 土木 | T38: 建設 | U38: 排水機設備 | AE38: 田んぼダム | AG38: 代替施設
I39: GHG年排出量 | K39: =IF(0<AF39,AF39-(AF44-GHG年排出量算定書!O15),AF39) -> 0 | L39: =AF40 -> 1.8 | M39: =AF41 -> 0.44 | N39: =SUM(K39:M39) -> 2.24 | O39: =AF42 -> 0 | P39: =AF43 -> 0 | Q39: =SUM(O39:P39) -> 0 | R39: =N39+Q39 -> 2.24 | S39: =AH39-(AH44-GHG年排出量算定書!O39) -> 221.24 | T39: =AH40 -> 44.13 | U39: =AH41 -> 175.76 | V39: =SUM(S39:U39) -> 441.13 | W39: =AH42-(AH42-GHG年排出量算定書!O40) -> 0 | X39: =AH43-(AH43-GHG年排出量算定書!O41) -> 1.47 | Y39: =V39+W39+X39 -> 442.6 | AE39: =K38 -> 畦畔再構築 | AF39: =ROUND(ROUND(田んぼダム詳細算定書!E78/1000,4)*【入力】ユーザー入力シート!L6*GHG年排出量算定書!K15/GHG年排出量算定書!I15,2) -> 0 | AG39: =S38 -> 土木 | AH39: =ROUND(GHG年排出量算定書!G25*GHG年排出量算定書!K39/GHG年排出量算定書!I39,2) -> 221.24
I40: 割合(%) | K40: =AF39 -> 0 | L40: =IF(L39=0,0,L39/$R$39) -> 0.80357143 | M40: =IF(M39=0,0,M39/$R$39) -> 0.19642857 | N40: =IF(N39=0,0,N39/$R$39) -> 1 | O40: =IF(O39=0,0,O39/$R$39) -> 0 | P40: =IF(P39=0,0,P39/$R$39) -> 0 | Q40: =IF(Q39=0,0,Q39/$R$39) -> 0 | R40: =IF(R39=0,0,R39/$R$39) -> 1 | S40: =IF(S39=0,0,S39/$Y$39) -> 0.49986444 | T40: =IF(T39=0,0,T39/$Y$39) -> 0.099706281 | U40: =IF(U39=0,0,U39/$Y$39) -> 0.397108 | V40: =IF(V39=0,0,V39/$Y$39) -> 0.99667872 | W40: =IF(W39=0,0,W39/$Y$39) -> 0 | X40: =IF(X39=0,0,X39/$Y$39) -> 0.0033212833 | Y40: =IF(Y39=0,0,Y39/$Y$39) -> 1 | AE40: =L38 -> 落水桝 | AF40: =ROUND(ROUND(田んぼダム詳細算定書!H78/1000,4)*【入力】ユーザー入力シート!L6*GHG年排出量算定書!K15/GHG年排出量算定書!I15,2) -> 1.8 | AG40: =T38 -> 建設 | AH40: =ROUND(GHG年排出量算定書!G26*GHG年排出量算定書!K39/GHG年排出量算定書!I39,2) -> 44.13
AE41: =M38 -> 堰板 | AF41: =ROUND(ROUND(田んぼダム詳細算定書!K78/1000,4)*【入力】ユーザー入力シート!L6*GHG年排出量算定書!K15/GHG年排出量算定書!I15,2) -> 0.44 | AG41: =U38 -> 排水機設備 | AH41: =ROUND(GHG年排出量算定書!G27*GHG年排出量算定書!K39/GHG年排出量算定書!I39,2) -> 175.76
AE42: =O38 -> 畦畔再構築 | AF42: =ROUND(ROUND(田んぼダム詳細算定書!E120/1000,4)*【入力】ユーザー入力シート!L6*GHG年排出量算定書!K16/GHG年排出量算定書!I16,2) -> 0 | AG42: =W37 -> 運転管理 | AH42: =ROUND(GHG年排出量算定書!G30*GHG年排出量算定書!K40/GHG年排出量算定書!I40,2) -> 0
AE43: =P38 -> 見回り等 | AF43: =ROUND(ROUND((田んぼダム詳細算定書!H120+田んぼダム詳細算定書!K120)/1000,4)*【入力】ユーザー入力シート!L6*GHG年排出量算定書!K16/GHG年排出量算定書!I16,2) -> 0 | AG43: =X37 -> 維持管理 (点検),整備 | AH43: =ROUND(GHG年排出量算定書!G32*GHG年排出量算定書!K41/GHG年排出量算定書!I41,2) -> 1.47
AE44: =N37 -> 施工計 | AF44: =SUM(AF39:AF41) -> 2.24 | AG44: =V37 -> 施工計 | AH44: =SUM(AH39:AH41) -> 441.13
AE45: =Q37 -> 維持管理計 | AF45: =SUM(AF42:AF43) -> 0 | AG45: =Y36 -> 全体計 | AH45: =AH44+AH42+AH43 -> 442.6
AE46: =R36 -> 全体計 | AF46: =AF44+AF45 -> 2.24

Sheet GHG年排出量算定書
C2: 3.温室効果ガス年排出量の算定書
C3: (1)田んぼダムの年当たりの温室効果ガス排出量の算定
D4: 1）田んぼダムの計上項目1回当たりの温室効果ガス排出量の算定
E5: 項目 | G5: 単位当たり排出量 | I5: 1回当たり地区排出量 | M5: 備考 | V5: 凡 例
G6: ① | I6: ②＝①×取組面積 | W6: 任意変更項目
E7: 施工に係る年排出量 | G7: =ROUND(田んぼダム詳細算定書!N78/1000,4) -> 0.064 | H7: tCO2/ha | I7: =ROUND(G7*【入力】ユーザー入力シート!L6,3) -> 44.8 | K7: tCO2/回 | M7: 田んぼダム詳細算定書シート「表4-2-4 施工における温室効果ガス排出量表」を参照する | W7: 自動計算のため入力不要
E8: 維持管理に係る年排出量 | G8: =ROUND(田んぼダム詳細算定書!N120/1000,4) -> 0 | H8: tCO2/ha | I8: =ROUND(G8*【入力】ユーザー入力シート!L6,3) -> 0 | K8: tCO2/回 | M8: 田んぼダム詳細算定書シート「表4-3-1 維持管理における温室効果ガス排出量」を参照する | W8: 算定結果
D11: 2）田んぼダムの年当たりの温室効果ガス排出量の算定
E12: 表3-1 田んぼダムの年当たり温室効果ガス排出量算定表
E13: 項目 | G13: 1回当たり 地区排出量 | I13: 評価年 | K13: 評価年当たり 計上回数 | M13: 地区総排出量 | O13: 年当たり排出量 | Q13: 備考
G14: ② | I14: ③ | K14: ④ | M14: ⑤＝②×④ | O14: ⑥＝⑤/③
E15: 施工に係る年排出量 | G15: =I7 -> 44.8 | H15: tCO2/回 | I15: 20 | J15: 年 | K15: 1 | L15: 回/評価年 | M15: =ROUND(G15*K15,3) -> 44.8 | N15: tCO2/評価年 | O15: =ROUND(M15/I15,2) -> 2.24 | P15: tCO2/年 | Q15: 施工は評価年で一回のみ行うこととする。
E16: 維持管理に係る年排出量 | G16: =I8 -> 0 | H16: tCO2/回 | I16: =I15 -> 20 | J16: 年 | K16: =I16 -> 20 | L16: 回/評価年 | M16: =ROUND(G16*K16,3) -> 0 | N16: tCO2/評価年 | O16: =ROUND(M16/I16,2) -> 0 | P16: tCO2/年 | Q16: 維持管理は毎年行うこととする。
E17: 年当たり排出量合計 | O17: =SUM(O15:P16) -> 2.24 | P17: tCO2/年
E19: ※ 評価期間は代替施設(排水機場)の評価期間と同じ【20年】とする。
C21: (2)代替施設(排水機場)の年当たりの温室効果ガス排出量の算定
D22: 1）代替施設(排水機場)の計上項目1回当たりの温室効果ガス排出量の算定
E23: 項目 | G23: 1回当たり 地区排出量(tCO2/回) | I23: 備 考 | U23: 排水機場の推定式
U24: ① | W24: ②
E25: 施工 | F25: 土木 | G25: =ROUND(U25*(【入力】ユーザー入力シート!L69*【入力】ユーザー入力シート!L59)+W25,2) -> 4424.78 | I25: 「各工事の規模と排出量の関係」資料から、【建設工事(土木)】に係る推計式を基に算定 | U25: 105.58 | W25: -342.16
F26: 建設 | G26: =ROUND(U26*(【入力】ユーザー入力シート!L69*【入力】ユーザー入力シート!L59)+W26,2) -> 882.57 | I26: 「各工事の規模と排出量の関係」資料から、【建設工事(建設)】に係る推計式を基に算定 | U26: 7.2246 | W26: 556.38
F27: 排水機設備 | G27: =ROUND(U27*【入力】ユーザー入力シート!L69+W27,2) -> 3515.26 | I27: 「各工事の規模と排出量の関係」資料から、【排水機設備】に係る推計式を基に算定 | U27: 169.06 | W27: -35
E28: 施工に係る排出量計 | G28: =SUM(G25:H27) -> 8822.61 | U28: ※解説書P.●●を参照する。
E30: 運転 | F30: =IF(【入力】ユーザー入力シート!AD7=【入力】ユーザー入力シート!AL4,【入力】ユーザー入力シート!AL56,【入力】ユーザー入力シート!L58) -> ﾃﾞｨｰｾﾞﾙｴﾝｼﾞﾝ | G30: =IF(AND(【入力】ユーザー入力シート!AD7=【入力】ユーザー入力シート!AL5,【入力】ユーザー入力シート!L58=【入力】ユーザー入力シート!AL55),機場ポンプ詳細算定書!O30,機場ポンプ詳細算定書!O31) -> 0 | I30: 機場ポンプ詳細算定書シートを参照する
U31: 排水機場の維持管理に係る排出原単位
E32: 施設の維持管理 | G32: =IF(0<【入力】ユーザー入力シート!L60,ROUND(U32*【入力】ユーザー入力シート!L60,2),ROUND(U32*【入力】ユーザー入力シート!#REF!,2)) -> 1.47 | I32: 「代替施設(排水機場)の年間維持管理費」及び「3EID：建設補修」から、施設一ヶ所当たりの排出原単位を設定。 | U32: 0.00192 | V32: tCO2/千円 | W32: 3EID:建設補修
I33: =" 排出原単位＝ "&【入力】ユーザー入力シート!L60&" 千円/ヶ所 ×"&U32&" tCO2/千円 ≒ "&ROUND(U32*【入力】ユーザー入力シート!L60,2)&" tCO2/ヶ所" -> 排出原単位＝ 765 千円/ヶ所 ×0.00192 tCO2/千円 ≒ 1.47 tCO2/ヶ所
D35: 2）代替施設(排水機場)の年当たりの温室効果ガス排出量の算定
E36: 表3-2 代替施設(排水機場)の年当たり温室効果ガス排出量算定表
E37: 項目 | G37: 1回当たり 地区排出量(tCO2/回) | I37: 評価年 | K37: 評価年当たり 計上回数 | M37: 地区総排出量 | O37: 年当たり排出量 | Q37: 備考
G38: A | I38: B | K38: C | M38: D＝A×C | O38: E＝D/B
E39: 施工に係る排出量 | G39: =G28 -> 8822.61 | I39: 20 | J39: 年 | K39: 1 | L39: 回/評価年 | M39: =ROUND(G39*K39,3) -> 8822.61 | N39: tCO2/評価年 | O39: =ROUND(M39/I39,2) -> 441.13 | P39: tCO2/年 | Q39: 施工は評価期間中の初年度に1回のみとして計上する。
E40: 運転管理に係る排出量 | G40: =G30 -> 0 | I40: =I39 -> 20 | J40: 年 | K40: 1 | L40: 回/評価年 | M40: =ROUND(G40*K40,3) -> 0 | N40: tCO2/評価年 | O40: =ROUND(M40/I40,2) -> 0 | P40: tCO2/年 | Q40: 排水機場の評価期間中に最低限1回は使用するとして計上する。
E41: 維持管理に係る排出量 | G41: =G32 -> 1.47 | I41: =I40 -> 20 | J41: 年 | K41: =I41*U44 -> 20 | L41: 回/評価年 | M41: =ROUND(G41*K41,3) -> 29.4 | N41: tCO2/評価年 | O41: =ROUND(M41/I41,2) -> 1.47 | P41: tCO2/年 | Q41: =" 維持管理は評価期間中に毎年 "&U44&" 回行うこととする。" -> 維持管理は評価期間中に毎年 1 回行うこととする。
E42: 年当たり排出量合計 | O42: =SUM(O39:P41) -> 442.6 | P42: tCO2/年
E44: ※ 評価期間は代替施設(排水機場)の用排水機の耐用年数である【20年】とする。(田んぼダムの年効果額算定の考え方を踏襲する) | S44: 毎年の維持管理回数 | U44: 1 | V44: 回

Sheet 田んぼダム詳細算定書
C2: 4.田んぼダムにおける詳細算定書
C3: (1)田んぼダムにおける標準区画(一筆) | Q3: 凡 例
R4: 任意変更可能項目
R5: 自動計算等のため入力不要
R6: 算定結果
I9: 畦畔標準断面
I11: 表4-1-1 標準区画(一筆)の諸元整理表 | O11: 表4-1-2 単位面積等整理表
I12: A:ほ場長辺 | K12: =【入力】ユーザー入力シート!L8 -> 100 | L12: m | O12: 標準耕区単位面積 | Q12: =ROUND(K12*K13/10000,2) -> 0.5 | R12: ha
I13: B:ほ場短辺 | K13: =【入力】ユーザー入力シート!L9 -> 50 | L13: m | O13: 単位当たり畦畔整形面積 | Q13: =ROUND(((K15*(2^(1/2)))*2+K14)*(K12+K13)*2,1) -> 344.6 | R13: m2
I14: C:畦畔上幅 | K14: =【入力】ユーザー入力シート!L12 -> 0.3 | L14: m | O14: 基盤土質状態 | Q14: 粘性土・礫質土 | S14: 「砂・砂質土」または「粘性土・礫質土」を記入
E15: 標準的な区画(一筆) | I15: D:畦畔高さ | K15: =【入力】ユーザー入力シート!L11 -> 0.3 | L15: m
S16: 砂・砂質土
C17: (2)施工に係る諸元 | S17: 粘性土・礫質土
C18: =IF(【入力】ユーザー入力シート!L13=【入力】ユーザー入力シート!AL9," 1)畦畔再構築の施工に係る諸元(施工を行わないため算定しない)"," 1)畦畔再構築の施工に係る諸元") -> 1)畦畔再構築の施工に係る諸元(施工を行わないため算定しない) | S18: ※上記のどちらかから選んでセルに値貼り付けして下さい。
D19: =IF(Q12=1,"「表4-1-2」を基に、1ha当たりにおける畦畔再構築の施工に係るCO2排出量を算定する。","「表4-1-2」を基に、単位面積("&Q12&" ha)または1ha当たりにおける畦畔再構築の施工に係る温室効果ガス排出量を算定する。") -> 「表4-1-2」を基に、単位面積(0.5 ha)または1ha当たりにおける畦畔再構築の施工に係る温室効果ガス排出量を算定する。
D21: ①畦畔築立
E22: 施工機械名 | G22: 1ha当たり運転時間 | I22: 機関出力 | K22: 運転1時間当たり燃料消費率 | M22: 消費燃料量 | O22: 燃料(軽油)の原単位 | Q22: 1ha当たり温室効果ガス排出量 | T22: 備 考
G23: a | I23: b | K23: c | M23: d＝a×b×c | O23: e | Q23: f＝d×e
E24: A：ブルドーザー | G24: =IF(【入力】ユーザー入力シート!L13=【入力】ユーザー入力シート!AL8,ROUND(IF(Q12<0.3,0,-1.9*Q12+1.3*IF(Q14=S16,0,1)+2.9),1),0) -> 0 | H24: hr | I24: 139 | J24: kw | K24: 0.153 | L24: ℓ/kw-h | M24: =ROUND(G24*(K24*I24),1) -> 0 | N24: L | O24: 2.6 | P24: kgCO2/L | Q24: =ROUND(M24*O24,2) -> 0 | S24: kgCO2 | T24: 湿地ブルドーザ排出ガス対策型(第2次)20t級
E25: B：バックホウ | G25: =IF(【入力】ユーザー入力シート!L13=【入力】ユーザー入力シート!AL8,ROUND(IF(Q12<0.3,-452*Q12+155.7,-26.8*Q12+39.8),1),0) -> 0 | H25: hr | I25: 60 | J25: kw | K25: 0.153 | L25: ℓ/kw-h | M25: =ROUND(G25*(K25*I25),1) -> 0 | N25: L | Q25: =ROUND(M25*O24,2) -> 0 | S25: kgCO2 | T25: 排出ガス対策型(第2次)クローラ型山積0.45ｍ3
E27: [出典] | F27: ※1：運転時間は「農林水産省土地改良工事積算基準(土木工事)」ほ場整備工を基に算定する。
F28: ※2：消費燃料量は、「農林水産省土地改良工事積算基準(機械経費)」を基に算定する。
F29: ※3：排出原単位は、燃料(軽油)を消費した場合の原単位を設定する。
D31: ②畦畔整形
E32: 施工機械名 | G32: 整形面積当たり運転時間 | I32: 機関出力 | K32: 運転1時間当たり燃料消費率 | M32: 整形面積当たり消費燃料量 | O32: 燃料(軽油)の原単位 | Q32: 単位面積当たり温室効果ガス排出量 | S32: 1ha当たり温室効果ガス排出量
G33: a | I33: b | K33: c | M33: d＝a×b×c | O33: e | Q33: f＝d×e | S33: ="f / "&Q12&" ha" -> f / 0.5 ha
E34: バックホウ | G34: =IF(【入力】ユーザー入力シート!L13=【入力】ユーザー入力シート!AL8,ROUND((4.7/100)*Q13,1),0) -> 0 | H34: hr | I34: =I25 -> 60 | J34: kw | K34: =K25 -> 0.153 | L34: ℓ/kw-h | M34: =ROUND(G34*(K34*I34),1) -> 0 | N34: L | O34: =O24 -> 2.6 | P34: kgCO2/L | Q34: =ROUND(M34*O34,2) -> 0 | R34: kgCO2 | S34: =ROUND(Q34/Q12,2) -> 0 | U34: kgCO2
E36: [方針] | F36: バックホウは①畦畔築立と同じ機種とする。
E38: [出典] | F38: ※1：運転時間は、「農林水産省土地改良工事積算基準(土木工事)」ほ場整備工を基に算定する。
F39: ※2：消費燃料量は、「農林水産省土地改良工事積算基準(機械経費)」を基に算定する。
F40: ※3：排出原単位は、燃料(軽油)を消費した場合の原単位を設定する。
D42: ③畦畔再構築の施工に係る単位面積当たり温室効果ガス排出量
E43: 表4-2-1 畦畔再構築算定表 | I43: ①畦畔築立 | K43: ②畦畔整形 | M43: 合計 ①[A+B]+②
I44: A | J44: B
E45: ha当たり温室効果ガス排出量 | I45: =Q24 -> 0 | J45: =Q25 -> 0 | K45: =S34 -> 0 | M45: =ROUND(I45+J45+K45,2) -> 0 | O45: kgCO2/ha
C47: =IF(【入力】ユーザー入力シート!L16=【入力】ユーザー入力シート!AL11," 2)落水口(桝)の施工に係る諸元(既設利用のため算定しない)"," 2)落水口(桝)の施工に係る諸元") -> 2)落水口(桝)の施工に係る諸元
E48: 表4-2-2 落水口(桝)算定表 | H48: 1基当たり単価 | J48: 排出原単位 | L48: 温室効果ガス排出量 | N48: 備 考
E49: 1基当たり温室効果ガス排出量 | H49: =IF(0<【入力】ユーザー入力シート!L19,【入力】ユーザー入力シート!L19,【入力】ユーザー入力シート!L22) -> 5000 | I49: 円/基 | J49: =J58/1000 -> 0.005135 | K49: tCO2/千円 | L49: =ROUND(H49*J49,2) -> 25.68 | M49: kgCO2
E50: ha当たり温室効果ガス排出量 | L50: =IF(【入力】ユーザー入力シート!L16=【入力】ユーザー入力シート!AL11,0,ROUND(ROUNDUP((【入力】ユーザー入力シート!L6/Q12)*【入力】ユーザー入力シート!L14,0)*L49/【入力】ユーザー入力シート!L6,2)) -> 51.36 | M50: kgCO2/ha | N50: ="1基当たり温室効果ガス排出量/単位面積("&Q12&" ha)×区画(一筆)当たり設置個所数("&【入力】ユーザー入力シート!L14&" 箇所)" -> 1基当たり温室効果ガス排出量/単位面積(0.5 ha)×区画(一筆)当たり設置個所数(1 箇所)
E52: [方針] | F52: デフォルトでは落水口(桝)が50kg未満と仮定し、施工費を計上しない。
E54: [出典] | F54: ※1：1基当たり単価は、メーカー聞き取り単価とする。
F55: ※2：排出原単位は、「産業連関表による環境負荷原単位データブック（3EID）2015年」のセメント製品を基に設定する。
J57: 排出原単位
H58: セメント製品 | J58: 5.135 | K58: tCO2/百万円
C61: 3)流出量抑制器具の製作に係る諸元
E62: 表4-2-3 流出量抑制器具算定表 | H62: 1枚当たり単価 | J62: 排出原単位 | L62: 温室効果ガス排出量 | N62: 備 考
E63: 1枚当たり温室効果ガス排出量 | H63: =IF(0<【入力】ユーザー入力シート!L34,【入力】ユーザー入力シート!L34,【入力】ユーザー入力シート!L35) -> 2500 | I63: 円/枚 | J63: =IF(【入力】ユーザー入力シート!L31=【入力】ユーザー入力シート!AL44,J70,IF(【入力】ユーザー入力シート!L31=【入力】ユーザー入力シート!AL45,J71,【入力】ユーザー入力シート!L32)) -> 2.529 | K63: kgCO2/千円 | L63: =IF(ISNUMBER(H63),ROUND((H63/1000)*J63,2),0) -> 6.32 | M63: kgCO2 | N63: =IF(【入力】ユーザー入力シート!L31=【入力】ユーザー入力シート!AL44,"3EID：その他の木製品より","3EID：該当材質より") -> 3EID：該当材質より
E64: ha当たり温室効果ガス排出量 | L64: =ROUND(ROUNDUP((【入力】ユーザー入力シート!L6/Q12)*【入力】ユーザー入力シート!L14,0)*L63/【入力】ユーザー入力シート!L6,2) -> 12.64 | M64: kgCO2/ha | N64: ="1枚当たり温室効果ガス排出量/単位面積("&Q12&" ha)×区画(一筆)当たり設置個所数("&【入力】ユーザー入力シート!L14&" 箇所)" -> 1枚当たり温室効果ガス排出量/単位面積(0.5 ha)×区画(一筆)当たり設置個所数(1 箇所)
E66: [出典] | F66: ※1：1枚当たり単価は、メーカー聞き取り単価として入力を行うこととする。
F67: ※2：排出原単位は、「産業連関表による環境負荷原単位データブック（3EID）2015年」を基に設定する。
J69: 排出原単位
H70: 木製 | J70: 1.696 | K70: ｔCO2/百万円
H71: プラスチック製 | J71: 2.529 | K71: ｔCO2/百万円
C73: 4)施工における単位当たりCO2排出量
E75: 表4-2-4 施工における温室効果ガス排出量表 | T75: 凡 例
E76: 表4-2-1 畦畔再構築算定表 ha当たり温室効果ガス排出量【 1) 】 | H76: 表4-2-2 落水口(桝)算定表 ha当たり温室効果ガス排出量【 2) 】 | K76: 表4-2-3 流出量抑制器具算定表 ha当たり温室効果ガス排出量【 3) 】 | N76: ha当たり温室効果ガス排出量 1)+2)+3) | U76: 任意変更可能項目
U77: 自動計算等のため入力不要
E78: =ROUND(M45,1) -> 0 | G78: kgCO2/ha | H78: =ROUND(L50,1) -> 51.4 | J78: kgCO2/ha | K78: =ROUND(L64,1) -> 12.6 | M78: kgCO2/ha | N78: =E78+H78+K78 -> 64 | P78: kgCO2/ha | U78: 算定結果
C80: (2)維持管理に係る諸元
C81: =IF(【入力】ユーザー入力シート!AD7=【入力】ユーザー入力シート!AL4," 1)畦畔の維持管理に係る諸元（簡易算定のため採用しない）",IF(【入力】ユーザー入力シート!L41=""," 1)畦畔の維持管理に係る諸元（畦畔塗りが別途増加しないため採用しない）"," 1)畦畔の維持管理に係る諸元")) -> 1)畦畔の維持管理に係る諸元（畦畔塗りが別途増加しないため採用しない）
D82: =IF(【入力】ユーザー入力シート!AD7=【入力】ユーザー入力シート!AL4,"①畦畔塗りをトラクタで行う場合（簡易算定のため採用しない）",IF(【入力】ユーザー入力シート!L41="","①畦畔塗りをトラクタで行う場合(畦畔塗りが別途増加しないため採用しない)",IF(【入力】ユーザー入力シート!L42=【入力】ユーザー入力シート!AL48,"①畦畔塗りをトラクタで行う場合","①畦畔塗りをトラクタで行う場合(本地区は"&【入力】ユーザー入力シート!AL49&"で行うため採用しない)"))) -> ①畦畔塗りをトラクタで行う場合(畦畔塗りが別途増加しないため採用しない)
E83: 整形延長 | G83: 作業速度(時速) | I83: 機関出力 | K83: 運転1時間当たり燃料消費率 | M83: 消費燃料量 | O83: 燃料(軽油)の原単位 | Q83: 年維持回数 | S83: 温室効果ガス排出量 | U83: ha当たり温室効果ガス排出量
E84: a | G84: b | I84: c | K84: d | M84: e＝(a/1000/b)×(c×d) | O84: f | Q84: g | S84: h＝e×f×g | U84: ="h / "&Q12&" ha" -> h / 0.5 ha
E85: =(K12+K13)*2 -> 300 | F85: m | G85: 0.5 | H85: km/h | I85: 15 | J85: kw | K85: 0.12 | L85: ℓ/kw-h | M85: =ROUND((E85/1000/G85)*(K85*I85),1) -> 1.1 | N85: L | O85: =O34 -> 2.6 | P85: kgCO2/L | Q85: =【入力】ユーザー入力シート!L41 -> 0 | R85: 回 | S85: =ROUND(M85*O85*Q85,2) -> 0 | T85: kgCO2 | U85: =IF(【入力】ユーザー入力シート!L41="",0,IF(【入力】ユーザー入力シート!L42=【入力】ユーザー入力シート!AL48,ROUND((S85/Q12),2),0)) -> 0 | W85: kgCO2/ha
E87: [出典] | F87: ※1：作業速度は、メーカー資料等で時速約0.2～1kmである。(デフォルト値で「0.5km/h」とする)
F88: ※2：消費燃料量は、「農林水産省土地改良工事積算基準(機械経費)」を基に算定する。
F89: ※3：排出原単位は、燃料(軽油)を消費した場合の原単位を設定する。
D91: =IF(【入力】ユーザー入力シート!AD7=【入力】ユーザー入力シート!AL4,"①畦畔塗りをバックホウで行う場合（簡易算定のため採用しない）",IF(【入力】ユーザー入力シート!L41="","②畦畔塗りをバックホウで行う場合(畦畔塗りが別途増加しないため採用しない)",IF(【入力】ユーザー入力シート!L42=【入力】ユーザー入力シート!AL48,"②畦畔塗りをバックホウで行う場合(本地区は"&【入力】ユーザー入力シート!AL48&"で行うため採用しない)","②畦畔塗りをバックホウで行う場合"))) -> ②畦畔塗りをバックホウで行う場合(畦畔塗りが別途増加しないため採用しない)
E92: =E32 -> 施工機械名 | G92: =G32 -> 整形面積当たり運転時間 | I92: =I32 -> 機関出力 | K92: =K32 -> 運転1時間当たり燃料消費率 | M92: =M32 -> 整形面積当たり消費燃料量 | O92: =O32 -> 燃料(軽油)の原単位 | Q92: 年維持回数 | S92: 単位面積当たり温室効果ガス排出量 | U92: ha当たり温室効果ガス排出量
G93: a | I93: b | K93: c | M93: d＝a×b×c | O93: e | Q93: f | S93: g＝d×e×f | U93: ="g / "&Q12&" ha" -> g / 0.5 ha
E94: バックホウ | G94: =ROUND((4.7/100)*ROUND(((K15*(2^(1/2)))+K14/2)*(K12+K13)*2,1),1) -> 8.1 | H94: =H34 -> hr | I94: =I34 -> 60 | J94: =J34 -> kw | K94: =K34 -> 0.153 | L94: =L34 -> ℓ/kw-h | M94: =ROUND(G94*I94*K94,1) -> 74.4 | N94: =N34 -> L | O94: =O34 -> 2.6 | P94: =P34 -> kgCO2/L | Q94: =【入力】ユーザー入力シート!L41 -> 0 | R94: 回 | S94: =ROUND(M94*O94*Q94,2) -> 0 | T94: kgCO2 | U94: =IF(【入力】ユーザー入力シート!L41="",0,IF(【入力】ユーザー入力シート!L42=【入力】ユーザー入力シート!AL49,ROUND((S94/Q12),2),0)) -> 0 | W94: kgCO2/ha
E96: [方針] | F96: 畦畔再構築の施工における②畦畔整形と同じ算定方式及び機種とする。
F97: 整形面積については、ほ場側を行うため半分の値をとるものとする。(右図：維持管理を行う畦畔断面の赤で示した部分)
C99: =IF(AND(【入力】ユーザー入力シート!AD7=【入力】ユーザー入力シート!AL5,【入力】ユーザー入力シート!L44=【入力】ユーザー入力シート!AL41),IF(【入力】ユーザー入力シート!L51=0," 2)落水口(桝)や流出量抑制器具の維持管理に係る諸元(別途増加する維持管理がないため採用しない)"," 2)落水口(桝)や流出量抑制器具の維持管理に係る諸元")," 2)落水口(桝)や流出量抑制器具の維持管理に係る諸元(簡易算定として下記②により算定する)") -> 2)落水口(桝)や流出量抑制器具の維持管理に係る諸元(簡易算定として下記②により算定する)
D100: =IF(AND(【入力】ユーザー入力シート!AD7=【入力】ユーザー入力シート!AL5,【入力】ユーザー入力シート!L44=【入力】ユーザー入力シート!AL41),IF(【入力】ユーザー入力シート!L51=0,"①別途増加する維持管理時の温室効果ガス排出量(別途増加する維持管理がないため採用しない)","①別途増加する維持管理時の温室効果ガス排出量"),"①別途増加する維持管理時の温室効果ガス排出量(地区実態等不明または簡易算定を行うため採用しない)") -> ①別途増加する維持管理時の温室効果ガス排出量(地区実態等不明または簡易算定を行うため採用しない) | T100: 維持管理を行う畦畔断面
E101: 見回り等に係る 走行距離[a] | G101: 燃費(軽トラック) | I101: 燃料消費の 原単位[c] | K101: 年増加見回り回数 [d] | M101: ha当たり温室効果ガス排出量 ([a]/[b])×[c]×[d]
G102: [b]
E103: =【入力】ユーザー入力シート!L52 -> 0 | F103: km/ha | G103: 10 | H103: km/L | I103: 2.32 | J103: kgCO2/L | K103: =【入力】ユーザー入力シート!L51 -> 0 | L103: 回/年 | M103: =ROUND((E103/G103)*I103*K103,2) -> 0 | O103: kgCO2/ha
E105: [出典] | F105: ※1：燃費は、軽トラックにおける「メーカーカタログ等の資料」より停止・発進の頻度を考慮して10km/ℓをデフォルト値として設定する。
F106: ※2：排出原単位は、燃料をガソリンとした場合における燃料消費の原単位を設定する。
D108: =IF(AND(【入力】ユーザー入力シート!AD7=【入力】ユーザー入力シート!AL5,【入力】ユーザー入力シート!L44=【入力】ユーザー入力シート!AL41),"②本プログラム作成時に算定した別途増加する維持管理時の温室効果ガス排出量デフォルト値(地区実態が把握可能なため採用しない)","②本プログラム作成時に算定した別途増加する維持管理時の温室効果ガス排出量デフォルト値") -> ②本プログラム作成時に算定した別途増加する維持管理時の温室効果ガス排出量デフォルト値
E109: ha当たり温室効果ガス排出量 デフォルト値
E111: 3.1 | G111: kgCO2/ha
E113: [出典] | F113: ※1：本算定プログラム検討時におけるケーススタディ地区の平均値をデフォルト値として設定する。[解説書P.25参照]
C115: 3)維持管理における単位当たり温室効果ガス排出量
E117: 表4-3-1 維持管理における温室効果ガス排出量
E118: 1)畦畔の維持管理に係る 温室効果ガス排出量(A) | H118: 2)落水口の見回り等に係る温室効果ガス排出量(B) | N118: ha当たり温室効果ガス排出量
H119: 地区実態が把握可能な場合 | K119: 不明または簡易算定の場合 | N119: (A)+(B)
E120: =IF(【入力】ユーザー入力シート!AD7=【入力】ユーザー入力シート!AL4,0,ROUND(U85+U94,1)) -> 0 | G120: kgCO2/ha | H120: =IF(OR(【入力】ユーザー入力シート!AD7=【入力】ユーザー入力シート!AL4,【入力】ユーザー入力シート!L44=【入力】ユーザー入力シート!AL42),0,M103) -> 0 | J120: kgCO2/ha | K120: =IF(OR(【入力】ユーザー入力シート!AD7=【入力】ユーザー入力シート!AL4,【入力】ユーザー入力シート!L44=【入力】ユーザー入力シート!AL42),E111,0) -> 0 | M120: kgCO2/ha | N120: =E120+H120+K120 -> 0 | P120: kgCO2/ha

Sheet 機場ポンプ詳細算定書
C2: 5.排水機場におけるポンプ運転に伴うCO2排出量詳細算定書
C3: (1)主原動機の出力の算定 | U3: 凡 例
V4: 任意変更可能項目
E5: 運転動力 | G5: 流量 | H5: 揚程 | I5: 損失水頭 | J5: 全揚程 H | K5: 主ポンプの効率ηp | L5: 減速機伝達効率ηg | M5: 余裕係数 R | N5: 主原動機の出力 P | P5: 備 考 | V5: 自動計算等のため入力不要
G6: m3/s | H6: m | I6: m | J6: m | V6: 算定結果
G7: ① | H7: ② | I7: ③ | J7: ④＝②+③ | K7: ⑤ | L7: ⑥ | M7: ⑦ | N7: ⑧
E8: =【入力】ユーザー入力シート!AL55 -> ﾃﾞｨｰｾﾞﾙｴﾝｼﾞﾝ | G8: =IF(AND(【入力】ユーザー入力シート!AD7=【入力】ユーザー入力シート!AL5,【入力】ユーザー入力シート!L58=E8),【入力】ユーザー入力シート!L69,0) -> 0 | H8: =IF(AND(【入力】ユーザー入力シート!AD7=【入力】ユーザー入力シート!AL5,【入力】ユーザー入力シート!L58=E8),【入力】ユーザー入力シート!L59,0) -> 0 | I8: 0.5 | J8: =IF(H8>0,H8+I8,0) -> 0 | K8: 0.85 | L8: 0.96 | M8: 0.15 | N8: =ROUNDUP((0.163*(G8*60)*J8/(K8*L8))*(1+M8),0) -> 0 | O8: kW(PS) | P8: =IF(AND(【入力】ユーザー入力シート!AD7=【入力】ユーザー入力シート!AL5,【入力】ユーザー入力シート!L58=E8),"⑧＝(0.163×(①×60)×④/(⑤×⑥))×(1+⑦)","採用しない。") -> 採用しない。
E9: =【入力】ユーザー入力シート!AL56 -> 電動機 | G9: =IF(OR(【入力】ユーザー入力シート!AD7=【入力】ユーザー入力シート!AL4,【入力】ユーザー入力シート!L58=E9),【入力】ユーザー入力シート!L69,0) -> 0 | H9: =IF(OR(【入力】ユーザー入力シート!AD7=【入力】ユーザー入力シート!AL4,【入力】ユーザー入力シート!L58=E9),【入力】ユーザー入力シート!L59,0) -> 0 | I9: 0.6 | J9: =IF(H9>0,H9+I9,0) -> 0 | K9: 0.86 | L9: 0.96 | M9: 0.1 | N9: =ROUNDUP((0.163*(G9*60)*J9/(K9*L9))*(1+M9),0) -> 0 | O9: kW(PS) | P9: =IF(OR(【入力】ユーザー入力シート!AD7=【入力】ユーザー入力シート!AL4,【入力】ユーザー入力シート!L58=E9),"⑧＝(0.163×(①×60)×④/(⑤×⑥))×(1+⑦)","採用しない。") -> 採用しない。
E11: [出典] | F11: ﾃﾞｨｰｾﾞﾙｴﾝｼﾞﾝの場合
F12: ※1：損失水頭は、低揚程・立軸・標準型（I型）を想定する。
F13: ※2：主ポンプの効率ηpは、中小排水流量の内熱燃料で最も採用されるタイプである低揚程・立軸射流・標準型（I型）を想定する。
F14: ※3：減速機伝達効率ηgは、最も標準的なタイプである直行軸歯車減速機を想定する。
F15: ※4：余裕係数 Rは、内燃機関の場合15％として設定する。
E17: [出典] | F17: 電動機の場合
F18: ※1：損失水頭は、低揚程・横軸・標準型（I型）を想定する。
F19: ※2：主ポンプの効率ηpは、中小排水流量の電動機として最も採用されるタイプである低揚程・横軸射流・標準型（I型）を想定する。
F20: ※3：減速機伝達効率ηgは、最も一般的なタイプである平行軸歯車減速機を想定する。
F21: ※4：余裕係数 Rは、横軸の場合10％として設定する。
F22: ※5：主原動機は、通常2台以上であるが、単体として扱う。
C24: (2)ポンプの運転に伴うCO2排出量の算定
E26: 運転動力 | G26: 運転時間 | H26: 燃料消費率 | I26: A重油の 単位質量 | J26: 燃料消費量 kL | L26: 単位 発熱量 | M26: 排出係数 | O26: 温室効果ガス排出量 | Q26: 備 考
G27: t | H27: BE
G28: hr | H28: kg/kWh | I28: kg/L | J28: ④＝主原動機の出力×①×②/(③×1000) | L28: GJ/kL
G29: ① | H29: ② | I29: ③ | L29: ⑤ | M29: ⑥ | O29: ⑦
E30: =E8 -> ﾃﾞｨｰｾﾞﾙｴﾝｼﾞﾝ | G30: =IF(AND(【入力】ユーザー入力シート!AD7=【入力】ユーザー入力シート!AL5,【入力】ユーザー入力シート!L58=E30),(【入力】ユーザー入力シート!L71+【入力】ユーザー入力シート!L70),0) -> 0 | H30: 0.27 | I30: 0.85 | J30: =ROUND(N8*H30*G30/(I30*1000),3) -> 0 | L30: 38.9 | M30: 0.0708 | N30: t-CO2/GJ | O30: =ROUNDUP(J30*L30*M30,2) -> 0 | P30: t-CO2 | Q30: =IF(AND(【入力】ユーザー入力シート!AD7=【入力】ユーザー入力シート!AL5,【入力】ユーザー入力シート!L58=E30),"⑦＝④×⑤×⑥","採用しない。") -> 採用しない。
E31: =E9 -> 電動機 | G31: =IF(OR(【入力】ユーザー入力シート!AD7=【入力】ユーザー入力シート!AL4,【入力】ユーザー入力シート!L58=E31),(【入力】ユーザー入力シート!L71+【入力】ユーザー入力シート!L70),0) -> 0 | M31: 0.438 | N31: kg-CO2/kWh | O31: =ROUNDUP(N9*G31*M31/1000,2) -> 0 | P31: t-CO2 | Q31: =IF(OR(【入力】ユーザー入力シート!AD7=【入力】ユーザー入力シート!AL4,【入力】ユーザー入力シート!L58=E31),"⑦＝主原動機の出力×①×⑥","採用しない。") -> 採用しない。
E33: [出典] | F33: ﾃﾞｨｰｾﾞﾙｴﾝｼﾞﾝの場合
F34: ※1：排出係数は、「国内における地球温暖化対策のための排出削減・吸収量認証制度(J-クレジット)モニタリング・算定規定(排出削減プロジェクト用) Ver.3.22 (2023年12月19日)」を基に設定する。
E36: [出典] | F36: 電動機の場合
F37: ※1：排出係数は、「温室効果ガス排出量算定・報告・公表制度の電気事業者別排出係数における全国平均係数（R4年度）」を基に設定する。
