Workbook
Name _040210129: 数値参照用・削除不可!$D$23:$E$23
Name _040210212: 数値参照用・削除不可!$D$24:$E$24
Name _040210229: 数値参照用・削除不可!$D$25:$E$25
Name _040221119: 数値参照用・削除不可!$D$29:$E$29
Name _040221129: 数値参照用・削除不可!$D$30:$E$30
Name _040221212: 数値参照用・削除不可!$D$26:$E$26
Name _040221229: 数値参照用・削除不可!$D$27:$E$27
Name _040229119: 数値参照用・削除不可!$D$31:$E$31
Name _040229129: 数値参照用・削除不可!$D$32:$E$32
Name _040229291: 数値参照用・削除不可!$D$28:$E$28
Name _040291129: 数値参照用・削除不可!$D$36:$E$36
Name _040291290: 数値参照用・削除不可!$D$37:$E$37
Name _040299129: 数値参照用・削除不可!$D$38:$E$38
Name _040299290: 数値参照用・削除不可!$D$39:$E$39
Name _040390113: 数値参照用・削除不可!$D$33:$E$33
Name _040390123: 数値参照用・削除不可!$D$34:$E$34
Name _040390133: 数値参照用・削除不可!$D$35:$E$35
Name _040410125: 数値参照用・削除不可!$D$40:$E$40
Name _040410135: 数値参照用・削除不可!$D$41:$E$41
Name _040410145: 数値参照用・削除不可!$D$42:$E$42
Name _040410165: 数値参照用・削除不可!$D$43:$E$43
Name _040410185: 数値参照用・削除不可!$D$44:$E$44
Name _040490118: 数値参照用・削除不可!$D$45:$E$45
Name _040490128: 数値参照用・削除不可!$D$46:$E$46
Name _040490138: 数値参照用・削除不可!$D$47:$E$47
Name _040510129: 数値参照用・削除不可!$D$48:$I$48
Name _040510229: 数値参照用・削除不可!$D$49:$I$49
Name _040520090: 数値参照用・削除不可!$D$50:$I$50
Name _040590190: 数値参照用・削除不可!$D$51:$I$51
Name _040590229: 数値参照用・削除不可!$D$52:$F$52
Name _040610020: 数値参照用・削除不可!$D$53:$E$53
Name _040610090: 数値参照用・削除不可!$D$54:$H$54
Name _040620100: 数値参照用・削除不可!$D$55:$E$55
Name _040630000: 数値参照用・削除不可!$D$56:$F$56
Name _040640090: 数値参照用・削除不可!$D$57:$F$57
Name _040690090: 数値参照用・削除不可!$D$58:$H$58
Name CPTPP: 数値参照用・削除不可!$D$2:$F$2
Name CPTPP締約国: 数値参照用・削除不可!$D$5:$E$5
Name EU: 数値参照用・削除不可!$D$8:$E$8
Name TPP国別: 数値参照用・削除不可!$E$2:$F$2
Name アメリカ合衆国: 数値参照用・削除不可!$D$9
Name オーストラリア: 数値参照用・削除不可!$D$7:$E$7
Name シュレッドチーズ原料用フレッシュチーズ: 数値参照用・削除不可!$D$10
Name チーズ: 数値参照用・削除不可!$D$18:$I$18
Name ニュージーランド: 数値参照用・削除不可!$D$6
Name バター_脱脂粉乳_粉乳_バターミルクパウダー及び加糖れん乳: 数値参照用・削除不可!$D$17:$W$17
Name バターその他の油脂及びデイリースプレッド: 数値参照用・削除不可!$D$11:$H$11
Name プロセスチーズ: 数値参照用・削除不可!$D$19
Name ホエイ: 数値参照用・削除不可!$D$16:$K$16
Name ホエイパーミエイト: 数値参照用・削除不可!$D$21:$E$21
Name 加糖れん乳: 数値参照用・削除不可!$D$14:$E$14
Name 協定: 数値参照用・削除不可!$C$2:$C$4
Name 原産国: 数値参照用・削除不可!$C$5:$C$9
Name 申請: 数値参照用・削除不可!$C$59:$C$60
Name 脱脂粉乳: 数値参照用・削除不可!$D$12:$I$12
Name 日EU協定: 数値参照用・削除不可!$D$3
Name 日米貿易協定: 数値参照用・削除不可!$D$4
Name 乳幼児粉乳等用: 数値参照用・削除不可!$D$22:$H$22
Name 番号: 数値参照用・削除不可!$C$23:$C$58
Name 粉乳及びバターミルクパウダー: 数値参照用・削除不可!$D$13:$J$13

Sheet 様式
A1: （別記様式1-1） | B1: 輸入商品及び輸入・使用等の実績・計画一覧表 | F1: ↓この列は印刷しないでください。
B3: ・水色のセル全てに、上から順に必要事項を入力してください。
B4: ・両面印刷で提出できます。印刷の際は、改ページ位置を調整し、表が途中で途切れないようにしてください。
B5: ・入力する内容が分からないときは、項目や数値を選択してください。説明が表示されます。
A7: 申請者名： | E7: =IF($B7="","←入力してください。","") -> ←入力してください。
A8: 代表者名： | E8: =IF($B8="","←入力してください。","") -> ←入力してください。
A9: 住所： | E9: =IF($B9="","←入力してください。","") -> ←入力してください。
A11: 1.申請内容
A12: 関税割当てを申請する協定： | B12: 日EU協定
A13: 原産地・原産国： | B13: EU
A14: 関税割当て： | B14: バター、脱脂粉乳、粉乳、バターミルクパウダー及び加糖れん乳
A15: 各品目の申請の有無： | B15: バターその他の油脂及びデイリースプレッド： | D15: =IF(AND(OR(C15="申請しない",C15=""),OR(C16="申請しない",C16=""),OR(C17="申請しない",C17=""),OR(C18="申請しない",C18="")),"←申請する品目が選択されていません。必ず1品目は「申請する」を選択してください。申請しない品目は「申請しない」を選択してください。","") -> ←申請する品目が選択されていません。必ず1品目は「申請する」を選択してください。申請しない品目は「申請しない」を選択してください。
B16: 脱脂粉乳：
B17: 粉乳及びバターミルクパウダー：
B18: 加糖れん乳：
A20: =IF(B14="","2.関税割当てを利用して輸入する○○の物品一覧","2.関税割当てを利用して輸入する"&B14&"の物品一覧") -> 2.関税割当てを利用して輸入するバター、脱脂粉乳、粉乳、バターミルクパウダー及び加糖れん乳の物品一覧
A21: ・左側の項目から順番に入力してください。
A22: ・34行目以降、非表示となっている行があります。行が足りない場合は、非表示にされた行を再表示し、必要項目を入力した後、無記入の行を非表示にしてください。
A23: 品目 | B23: 関税番号9桁 | C23: 形状・性状 | D23: 詳細（形状・性状が「その他」の場合に入力） | E23: 輸入予定数量 (全乳換算数量、kg) | F23: 係数 | G23: 製品重量
F24: =IFERROR(VLOOKUP(B24,数値参照用・削除不可!$A$61:$C$88,3,FALSE),"") | G24: =IFERROR(ROUNDDOWN(E24/F24,3),"")
F25: =IFERROR(VLOOKUP(B25,数値参照用・削除不可!$A$61:$C$88,3,FALSE),"") | G25: =IFERROR(ROUNDDOWN(E25/F25,3),"")
F26: =IFERROR(VLOOKUP(B26,数値参照用・削除不可!$A$61:$C$88,3,FALSE),"") | G26: =IFERROR(ROUNDDOWN(E26/F26,3),"")
F27: =IFERROR(VLOOKUP(B27,数値参照用・削除不可!$A$61:$C$88,3,FALSE),"") | G27: =IFERROR(ROUNDDOWN(E27/F27,3),"")
F28: =IFERROR(VLOOKUP(B28,数値参照用・削除不可!$A$61:$C$88,3,FALSE),"") | G28: =IFERROR(ROUNDDOWN(E28/F28,3),"")
F29: =IFERROR(VLOOKUP(B29,数値参照用・削除不可!$A$61:$C$88,3,FALSE),"") | G29: =IFERROR(ROUNDDOWN(E29/F29,3),"")
F30: =IFERROR(VLOOKUP(B30,数値参照用・削除不可!$A$61:$C$88,3,FALSE),"") | G30: =IFERROR(ROUNDDOWN(E30/F30,3),"")
F31: =IFERROR(VLOOKUP(B31,数値参照用・削除不可!$A$61:$C$88,3,FALSE),"") | G31: =IFERROR(ROUNDDOWN(E31/F31,3),"")
F32: =IFERROR(VLOOKUP(B32,数値参照用・削除不可!$A$61:$C$88,3,FALSE),"") | G32: =IFERROR(ROUNDDOWN(E32/F32,3),"")
F33: =IFERROR(VLOOKUP(B33,数値参照用・削除不可!$A$61:$C$88,3,FALSE),"") | G33: =IFERROR(ROUNDDOWN(E33/F33,3),"")
F34: =IFERROR(VLOOKUP(B34,数値参照用・削除不可!$A$61:$C$88,3,FALSE),"") | G34: =IFERROR(ROUNDDOWN(E34/F34,3),"")
F35: =IFERROR(VLOOKUP(B35,数値参照用・削除不可!$A$61:$C$88,3,FALSE),"") | G35: =IFERROR(ROUNDDOWN(E35/F35,3),"")
... F123: =IFERROR(VLOOKUP(B123,数値参照用・削除不可!$A$61:$C$88,3,FALSE),"") | G123: =IFERROR(ROUNDDOWN(E123/F123,3),"")
A124: =IF(E129=F124,"","↑入力されている行が非表示になっているか、品名が入力されていない行があります。確認してください。") | F124: =SUBTOTAL(109,$E$24:$E$123) -> 0
A125: {=IFERROR(_xlfn.IFS(AND($C15="申請する",$E125=0),"「1.申請内容で「申請する」を選択していますが、情報が入力されていません。確認してください。→",AND($C15="申請しない",$E125>0),"「1.申請内容」で「申請しない」を選択していますが、情報が入力されています。確認してください。→"),"")} | D125: バターその他の油脂及びデイリースプレッド： | E125: =SUMIF($A$24:$A$123,数値参照用・削除不可!$C$11,$E$24:$E$123) -> 0 | F125: =SUMIF($A$24:$A$123,数値参照用・削除不可!$C$11,$G$24:$G$123) -> 0
A126: {=IFERROR(_xlfn.IFS(AND($C16="申請する",$E126=0),"「1.申請内容」で「申請する」を選択していますが、情報が入力されていません。確認してください。→",AND($C16="申請しない",$E126>0),"「1.申請内容」で「申請しない」を選択していますが、情報が入力されています。確認してください。→"),"")} | D126: 脱脂粉乳： | E126: =SUMIF($A$24:$A$123,数値参照用・削除不可!$C$12,$E$24:$E$123) -> 0 | F126: =SUMIF($A$24:$A$123,数値参照用・削除不可!$C$12,$G$24:$G$123) -> 0
A127: {=IFERROR(_xlfn.IFS(AND($C17="申請する",$E127=0),"「1.申請内容」で「申請する」を選択していますが、情報が入力されていません。確認してください。→",AND($C17="申請しない",$E127>0),"「1.申請内容」で「申請しない」を選択していますが、情報が入力されています。確認してください。→"),"")} | D127: 粉乳及びバターミルクパウダー： | E127: =SUMIF($A$24:$A$123,数値参照用・削除不可!$C$13,$E$24:$E$123) -> 0 | F127: =SUMIF($A$24:$A$123,数値参照用・削除不可!$C$13,$G$24:$G$123) -> 0
A128: {=IFERROR(_xlfn.IFS(AND($C18="申請する",$E128=0),"「1.申請内容」で「申請する」を選択していますが、情報が入力されていません。確認してください。→",AND($C18="申請しない",$E128>0),"「1.申請内容」で「申請しない」を選択していますが、情報が入力されています。確認してください。→"),"")} | D128: 加糖れん乳： | E128: =SUMIF($A$24:$A$123,数値参照用・削除不可!$C$14,$E$24:$E$123) -> 0 | F128: =SUMIF($A$24:$A$123,数値参照用・削除不可!$C$14,$G$24:$G$123) -> 0
A129: =IF(E129>G129,"１者当たりの申請上限数量を超えています。確認してください→","") | D129: 合計数量： | E129: =SUM(E125:E128) -> 0 | F129: =B12&B14 -> 日EU協定バター、脱脂粉乳、粉乳、バターミルクパウダー及び加糖れん乳 | G129: =IFERROR(VLOOKUP(F129,数値参照用・削除不可!$A$89:$B$102,2,FALSE),"") -> 250000
A131: ="3."&B14&"の輸入通関実績と計画" -> 3.バター、脱脂粉乳、粉乳、バターミルクパウダー及び加糖れん乳の輸入通関実績と計画
A132: {=_xlfn.IFS($C$15="申請しない","↓申請しない品目の情報です。入力はせず、この行を含むグレーの行を非表示にしてください。",$C$15="","↓申請の有無が選択されていません。「1.申請内容」の申請の有無を選択してください。",$C$15="申請する","")} -> ↓申請の有無が選択されていません。「1.申請内容」の申請の有無を選択してください。
...

Sheet 数値参照用・削除不可
A1: 備考 | B1: 名前 | C1: 詳細
B2: 協定 | C2: CPTPP | D2: CPTPP締約国 | E2: ニュージーランド | F2: オーストラリア
C3: 日EU協定 | D3: EU
C4: 日米貿易協定 | D4: アメリカ合衆国
B5: 原産国 | C5: CPTPP締約国 | D5: 無糖れん乳 | E5: 加糖れん乳
C6: ニュージーランド | D6: プロセスチーズ
C7: オーストラリア | D7: プロセスチーズ | E7: 無機質を濃縮したホエイ
C8: EU | D8: 無糖れん乳
C9: アメリカ合衆国 | D9: プロセスチーズ
B10: 品名 | C10: シュレッドチーズ原料用フレッシュチーズ | D10: _040610090
C11: バターその他の油脂及びデイリースプレッド | D11: _040510129 | E11: _040510229 | F11: _040520090 | G11: _040590190 | H11: _040590229
C12: 脱脂粉乳 | D12: _040210129 | E12: _040210212 | F12: _040210229 | G12: _040221212 | H12: _040221229 | I12: _040229291
C13: 粉乳及びバターミルクパウダー | D13: _040221119 | E13: _040221129 | F13: _040229119 | G13: _040229129 | H13: _040390113 | I13: _040390123 | J13: _040390133
C14: 加糖れん乳 | D14: _040299129 | E14: _040299290
C15: 無糖れん乳 | D15: _040291129 | E15: _040291290
C16: ホエイ | D16: _040410125 | E16: _040410135 | F16: _040410145 | G16: _040410165 | H16: _040410185 | I16: _040490118 | J16: _040490128 | K16: _040490138
C17: バター、脱脂粉乳、粉乳、バターミルクパウダー及び加糖れん乳 | D17: _040210129 | E17: _040210212 | F17: _040210229 | G17: _040221212 | H17: _040221229 | I17: _040229291 | J17: _040221119 | K17: _040221129 | L17: _040229119 | M17: _040229129 | N17: _040299129 | O17: _040299290 | P17: _040390113 | Q17: _040390123 | R17: _040390133 | S17: _040510129 | T17: _040510229 | U17: _040520090 | V17: _040590190 | W17: _040590229
C18: チーズ | D18: _040610020 | E18: _040610090 | F18: _040620100 | G18: _040630000 | H18: _040640090 | I18: _040690090
C19: プロセスチーズ | D19: _040630000
C20: 無機質を濃縮したホエイ | D20: _040410125 | E20: _040410165
C21: ホエイパーミエイト | D21: _040410135 | E21: _040410145
C22: 乳幼児粉乳等用 | D22: _040410145 | E22: _040410185 | F22: _040490118 | G22: _040490128 | H22: _040490138
A23: 脱脂粉乳 | B23: 番号 | C23: _040210129 | D23: 20～25kg（粉末、紙袋又は段ボール） | E23: その他
A24: 脱脂粉乳 | C24: _040210212 | D24: 20～25kg（粉末、紙袋又は段ボール） | E24: その他
A25: 脱脂粉乳 | C25: _040210229 | D25: 20～25kg（粉末、紙袋又は段ボール） | E25: その他
A26: 脱脂粉乳 | C26: _040221212 | D26: 20～25kg（粉末、紙袋又は段ボール） | E26: その他
A27: 脱脂粉乳 | C27: _040221229 | D27: 20～25kg（粉末、紙袋又は段ボール） | E27: その他
A28: 脱脂粉乳 | C28: _040229291 | D28: 20～25kg（粉末、紙袋又は段ボール） | E28: その他
A29: 全粉乳 | C29: _040221131 | D29: 20～25kg（粉末、紙袋又は段ボール） | E29: その他
A30: 全粉乳 | C30: _040221141 | D30: 20～25kg（粉末、紙袋又は段ボール） | E30: その他
A31: 全粉乳 | C31: _040229119 | D31: 20～25kg（粉末、紙袋又は段ボール） | E31: その他
A32: 全粉乳 | C32: _040229129 | D32: 20～25kg（粉末、紙袋又は段ボール） | E32: その他
A33: BMP | C33: _040390113 | D33: 20～25kg（粉末、紙袋又は段ボール） | E33: その他
A34: BMP | C34: _040390123 | D34: 20～25kg（粉末、紙袋又は段ボール） | E34: その他
A35: BMP | C35: _040390133 | D35: 20～25kg（粉末、紙袋又は段ボール） | E35: その他
... A47: 育児 | C47: _040490138 | D47: 15～25kg（粉末、紙袋又は段ボール） | E47: その他
A48: バター | C48: _040510129 | D48: 1～300g（バター） | E48: 400～500ｇ(ブロック状、バター) | F48: 1～5kg(ブロック状、バター) | G48: 500g～5kg（シート状、バター) | H48: 10～25kg（ブロック状、バター） | I48: その他
A49: バター | C49: _040510229 | D49: 1～300g（バター） | E49: 400～500ｇ(ブロック状、バター) | F49: 1～5kg(ブロック状、バター) | G49: 500g～5kg（シート状、バター) | H49: 10～25kg（ブロック状、バター） | I49: その他
A50: デイリースプレッド | C50: _040520090 | D50: 1～300g（バター） | E50: 400～500ｇ(ブロック状、バター) | F50: 1～5kg(ブロック状、バター) | G50: 500g～5kg（シート状、バター) | H50: 10～25kg（ブロック状、バター） | I50: その他
A51: バター | C51: _040590190 | D51: 1～300g（バター） | E51: 400～500ｇ(ブロック状、バター) | F51: 1～5kg(ブロック状、バター) | G51: 500g～5kg（シート状、バター) | H51: 10～25kg（ブロック状、バター） | I51: その他
...
