Workbook

Sheet ファイルの利用方法
B1: ○ 調査票ファイルの利用方法
B3: 実施手順 | D3: シートイメージ （「生産資材」の調査区分を例示。「生活物資」「ガソリンスタンド」もこれと同様。）
B4: ① | C4: 【事業利用量シート】 「生産資材」「生活物資」および「ガソリンスタンド」の調査区分ごとに、直近１事業年度の供給高の総額を入力してください（Ａ）。 | D4: ※ 対象事業を実施していない場合は、（Ａ）（Ｂ）（Ｃ）いずれも空欄のままとしてください。 （「0」やスペースも入力不要です） ※ (Ｃ)に当てはまる供給高がない場合、空欄のままとしてください。 （「0」やスペースも入力不要です）
B5: ② | C5: 直近１事業年度の全ての資格把握取引について、調査区分ごとに、正組合員、准組合員、員外の各供給高を入力してください（Ｂ）。
B6: ③ | C6: 資格非把握取引のうち、員内／員外の区別はつくものの、員内を正組合員と准組合員に区別できない取引がある場合は、調査区分ごとに、直近１事業年度の員内、員外の各供給高を入力してください（Ｃ）。
B7: ④ | C7: 「店頭アンケートは不要です（推計値が自動入力されます）」と表示された調査区分については、基本的には⑥以下の手順は不要です（Ａ）。 「できる限り店頭アンケートを実施してください」と表示された調査区分については、⑥以下の手順に進むことを基本としてください。 | D7: ※ （Ａ）で「店頭アンケートは不要です（推計値が自動入力されます）」と表示された調査区分についても、 調査精度を向上させるために店頭アンケートを実施した場合は、（Ｂ）で「店頭をアンケートを実施した」 を選択してください。
B8: ⑤ | C8: ④の判定を踏まえて、店頭アンケートを実施した場合は「店頭アンケート調査を実施した」を、店頭アンケートを実施しなかった場合は「店頭アンケート調査は実施しなかった」をプルダウンから選択してください（Ｂ）。 「店頭アンケート調査を実施した」を選択した場合、⑥以下の手順に進みます。 「店頭アンケート調査は実施しなかった」を選択した場合、ここまでの入力結果をもとに組合員資格別の利用量が自動推計され、調査は以上で終了となります。
B9: ⑥ | C9: 【アンケート結果シート】 各店舗におけるアンケート調査の結果から、調査区分ごとに、正組合員、准組合員、員外の各供給高を集計してください。 資格非把握取引における正組合員、准組合員、員外の各利用率が自動で計算されます。
B10: ⑦ | C10: 【事業利用量シート】 調査区分ごとに、直近の１事業年度における、正組合員、准組合員、員外の各供給高が自動で推計されます。
B11: ⑧ | C11: 【総括シート】 調査結果が自動で転記されます。

Sheet 事業利用量
B1: ○ 事業利用量（供給高）
B2: ※ 水色のセルに値を入力してください（黄色と赤色のセルは自動で計算されます。）。実施していない事業は空欄のままとしてください（「0」やスペースも入力不要です）。
B3: ※ 資格非把握取引のうち、員内/員外の区別がつく取引のセルには、電算システムや員外利用量調査のアンケート等により、員内/員外の区別がつく取引の値を入力してください。
B4: 該当する取引がない場合には、該当セルは空欄のままとしてください（「0」やスペースも入力不要です）。
B5: ※ 入力する値は、全て四捨五入としてください。
B7: （１） 生産資材 | G7: （単位：千円）
D8: 直近の事業年度（１年間）
D9: 正組合員 | E9: 准組合員 | F9: 員外 | G9: 計
B10: 資格把握取引 | G10: =SUM(D10:F10) -> 0 | K10: =IF(G13="",0,IF(AND(SUM(D10:F11)/G13>=0.77,SUM(D10:F10)/G13>=0.6),1,2)) -> 0 | L10: =IF(K10=0,"水色セルに利用量を入力してください（該当がない場合は何も入力しないでください）",IF(K10=1,"店頭アンケートは不要です（推計値が自動入力されます）","できる限り店頭アンケートを実施してください")) -> 水色セルに利用量を入力してください（該当がない場合は何も入力しないでください）
B11: 資格非把握取引 | C11: うち、員内/員外の区別がつく取引 | G11: =SUM(D11:F11) -> 0 | L11: 上記判定を踏まえ、店頭アンケート調査を実施したか否かを、以下の枠（プルダウン）から選択してください。
C12: うち、員内/員外の区別がつかない取引 | D12: =IF($K12=2,($G13-SUM($G10:$G11))*アンケート結果!D6,($G13-SUM($G10:$G11))*D10/SUM($D10:$F10)) -> #DIV/0! | E12: =IF($K12=2,($G13-SUM($G10:$G11))*アンケート結果!E6,($G13-SUM($G10:$G11))*E10/SUM($D10:$F10)) -> #DIV/0! | F12: =IF($K12=2,($G13-SUM($G10:$G11))*アンケート結果!F6,($G13-SUM($G10:$G11))*F10/SUM($D10:$F10)) -> #DIV/0! | G12: =SUM(D12:F12) -> #DIV/0! | K12: =IF(K10=0,0,IF(L12="店頭アンケート調査は実施しなかった",1,2)) -> 0
B13: 計 | D13: =IFERROR(SUM(D10,IF($K12=2,$D11*アンケート結果!D6/SUM(アンケート結果!$D6:$E6),$D11*D10/SUM($D10,$E10)),D12),"-") -> - | E13: =IFERROR(SUM(E10,IF($K12=2,$D11*アンケート結果!E6/SUM(アンケート結果!$D6:$E6),$D11*E10/SUM($D10,$E10)),E12),"-") -> - | F13: =IFERROR(SUM(F10:F12),"-") -> - | H13: ←最初にこのセルを入力！
B15: （２） 生活物資 | G15: （単位：千円）
D16: 直近の事業年度（１年間）
D17: 正組合員 | E17: 准組合員 | F17: 員外 | G17: 計
B18: 資格把握取引 | G18: =SUM(D18:F18) -> 0 | K18: =IF(G21="",0,IF(AND(SUM(D18:F19)/G21>=0.77,SUM(D18:F18)/G21>=0.6),1,2)) -> 0 | L18: =IF(K18=0,"水色セルに利用量を入力してください（該当がない場合は何も入力しないでください）",IF(K18=1,"店頭アンケートは不要です（推計値が自動入力されます）","できる限り店頭アンケートを実施してください")) -> 水色セルに利用量を入力してください（該当がない場合は何も入力しないでください）
B19: 資格非把握取引 | C19: うち、員内/員外の区別がつく取引 | G19: =SUM(D19:F19) -> 0 | L19: 上記判定を踏まえ、店頭アンケート調査を実施したか否かを、以下の枠（プルダウン）から選択してください。
C20: うち、員内/員外の区別がつかない取引 | D20: =IF($K20=2,($G21-SUM($G18:$G19))*アンケート結果!D11,($G21-SUM($G18:$G19))*D18/SUM($D18:$F18)) -> #DIV/0! | E20: =IF($K20=2,($G21-SUM($G18:$G19))*アンケート結果!E11,($G21-SUM($G18:$G19))*E18/SUM($D18:$F18)) -> #DIV/0! | F20: =IF($K20=2,($G21-SUM($G18:$G19))*アンケート結果!F11,($G21-SUM($G18:$G19))*F18/SUM($D18:$F18)) -> #DIV/0! | G20: =SUM(D20:F20) -> #DIV/0! | K20: =IF(K18=0,0,IF(L20="店頭アンケート調査は実施しなかった",1,2)) -> 0
B21: 計 | D21: =IFERROR(SUM(D18,IF($K20=2,$D19*アンケート結果!D11/SUM(アンケート結果!$D11:$E11),$D19*D18/SUM($D18,$E18)),D20),"-") -> - | E21: =IFERROR(SUM(E18,IF($K20=2,$D19*アンケート結果!E11/SUM(アンケート結果!$D11:$E11),$D19*E18/SUM($D18,$E18)),E20),"-") -> - | F21: =IFERROR(SUM(F18:F20),"-") -> - | H21: ←最初にこのセルを入力！
B23: （３） ガソリンスタンド | G23: （単位：千円）
D24: 直近の事業年度（１年間）
D25: 正組合員 | E25: 准組合員 | F25: 員外 | G25: 計
B26: 資格把握取引 | G26: =SUM(D26:F26) -> 0 | K26: =IF(G29="",0,IF(AND(SUM(D26:F27)/G29>=0.77,SUM(D26:F26)/G29>=0.6),1,2)) -> 0 | L26: =IF(K26=0,"水色セルに利用量を入力してください（該当がない場合は何も入力しないでください）",IF(K26=1,"店頭アンケートは不要です（推計値が自動入力されます）","できる限り店頭アンケートを実施してください")) -> 水色セルに利用量を入力してください（該当がない場合は何も入力しないでください）
B27: 資格非把握取引 | C27: うち、員内/員外の区別がつく取引 | G27: =SUM(D27:F27) -> 0 | L27: 上記判定を踏まえ、店頭アンケート調査を実施したか否かを、以下の枠（プルダウン）から選択してください。
C28: うち、員内/員外の区別がつかない取引 | D28: =IF($K28=2,($G29-SUM($G26:$G27))*アンケート結果!D16,($G29-SUM($G26:$G27))*D26/SUM($D26:$F26)) -> #DIV/0! | E28: =IF($K28=2,($G29-SUM($G26:$G27))*アンケート結果!E16,($G29-SUM($G26:$G27))*E26/SUM($D26:$F26)) -> #DIV/0! | F28: =IF($K28=2,($G29-SUM($G26:$G27))*アンケート結果!F16,($G29-SUM($G26:$G27))*F26/SUM($D26:$F26)) -> #DIV/0! | G28: =SUM(D28:F28) -> #DIV/0! | K28: =IF(K26=0,0,IF(L28="店頭アンケート調査は実施しなかった",1,2)) -> 0
B29: 計 | D29: =IFERROR(SUM(D26,IF($K28=2,$D27*アンケート結果!D16/SUM(アンケート結果!$D16:$E16),$D27*D26/SUM($D26,$E26)),D28),"-") -> - | E29: =IFERROR(SUM(E26,IF($K28=2,$D27*アンケート結果!E16/SUM(アンケート結果!$D16:$E16),$D27*E26/SUM($D26,$E26)),E28),"-") -> - | F29: =IFERROR(SUM(F26:F28),"-") -> - | H29: ←最初にこのセルを入力！

Sheet アンケート結果
B1: ○ アンケート結果 | C1: ※ 水色のセルに値を入力してください（黄色のセルは自動で計算されます。）
B3: （１） 生産資材 | G3: （単位：千円、％）
D4: 正組合員 | E4: 准組合員 | F4: 員 外 | G4: 計
B5: 資格非把握取引 | C5: 売上高 | G5: =D5+E5+F5 -> 0
C6: 利用率 | D6: =D5/$G5 -> #DIV/0! | E6: =E5/$G5 -> #DIV/0! | F6: =F5/$G5 -> #DIV/0! | G6: =G5/$G5 -> #DIV/0!
B8: （２） 生活物資 | G8: （単位：千円、％）
D9: 正組合員 | E9: 准組合員 | F9: 員 外 | G9: 計
B10: 資格非把握取引 | C10: 売上高 | G10: =D10+E10+F10 -> 0
C11: 利用率 | D11: =D10/$G10 -> #DIV/0! | E11: =E10/$G10 -> #DIV/0! | F11: =F10/$G10 -> #DIV/0! | G11: =G10/$G10 -> #DIV/0!
B13: （３） ガソリンスタンド | G13: （単位：千円、％）
D14: 正組合員 | E14: 准組合員 | F14: 員 外 | G14: 計
B15: 資格非把握取引 | C15: 売上高 | G15: =D15+E15+F15 -> 0
C16: 利用率 | D16: =D15/$G15 -> #DIV/0! | E16: =E15/$G15 -> #DIV/0! | F16: =F15/$G15 -> #DIV/0! | G16: =G15/$G15 -> #DIV/0!

Sheet 総括
A1: 正・准組合員の事業利用量に関する調査 ＜総括シート＞
B3: １．ＪＡ概要データ
C5: （１）組合員数
C7: 正組合員 | F7: 人（法人含む）
C9: 准組合員 | F9: 人（法人含む）
C11: （２）総合ポイント制度の導入状況
C13: ⅰ 総合ポイント制度の導入の有無
C17: ⅱ 総合ポイント会員の資格の範囲（導入ありの場合）
C21: ⅲ 総合ポイント制度の会員数（導入ありの場合）
C23: 正組合員 | F23: 人
C25: 准組合員 | F25: 人
C27: 員外 | F27: 人
C29: （３）購買物資の組合員資格別の利用量を把握できる電算システム等の導入状況とその概要
C31: 生産資材 | F31: 概要
C33: 生活物資 | F33: 概要
C35: ガソリンスタンド | F35: 概要
B37: ２．事業利用量 ※ 水色のセルに値を入力してください（黄色と赤色のセルは自動で計算されます。）。
L38: （単位：千円、％）
E39: 信用事業 | G39: 共済事業 | I39: 購買事業
E40: 貯金 | F40: 貸出金 | J40: 生産資材 | K40: 生活物資 | L40: ガソリンスタンド
C42: 正組合員 | I42: =SUM(J42:L42) -> 0 | J42: =事業利用量!D13 -> - | K42: =事業利用量!D21 -> - | L42: =事業利用量!D29 -> -
E43: =IF(ISERROR(E42/E$48),"-",E42/E$48) -> - | F43: =IF(ISERROR(F42/F$48),"-",F42/F$48) -> - | G43: =IF(ISERROR(G42/G$48),"-",G42/G$48) -> - | H43: =IF(ISERROR(H42/H$48),"-",H42/H$48) -> - | I43: =IF(ISERROR(I42/I$48),"-",I42/I$48) -> - | J43: =IF(ISERROR(J42/J$48),"-",J42/J$48) -> - | K43: =IF(ISERROR(K42/K$48),"-",K42/K$48) -> - | L43: =IF(ISERROR(L42/L$48),"-",L42/L$48) -> -
C44: 准組合員 | I44: =SUM(J44:L44) -> 0 | J44: =事業利用量!E13 -> - | K44: =事業利用量!E21 -> - | L44: =事業利用量!E29 -> -
E45: =IF(ISERROR(E44/E$48),"-",E44/E$48) -> - | F45: =IF(ISERROR(F44/F$48),"-",F44/F$48) -> - | G45: =IF(ISERROR(G44/G$48),"-",G44/G$48) -> - | H45: =IF(ISERROR(H44/H$48),"-",H44/H$48) -> - | I45: =IF(ISERROR(I44/I$48),"-",I44/I$48) -> - | J45: =IF(ISERROR(J44/J$48),"-",J44/J$48) -> - | K45: =IF(ISERROR(K44/K$48),"-",K44/K$48) -> - | L45: =IF(ISERROR(L44/L$48),"-",L44/L$48) -> -
C46: 員外 | I46: =SUM(J46:L46) -> 0 | J46: =事業利用量!F13 -> - | K46: =事業利用量!F21 -> - | L46: =事業利用量!F29 -> -
E47: =IF(ISERROR(E46/E$48),"-",E46/E$48) -> - | F47: =IF(ISERROR(F46/F$48),"-",F46/F$48) -> - | G47: =IF(ISERROR(G46/G$48),"-",G46/G$48) -> - | H47: =IF(ISERROR(H46/H$48),"-",H46/H$48) -> - | I47: =IF(ISERROR(I46/I$48),"-",I46/I$48) -> - | J47: =IF(ISERROR(J46/J$48),"-",J46/J$48) -> - | K47: =IF(ISERROR(K46/K$48),"-",K46/K$48) -> - | L47: =IF(ISERROR(L46/L$48),"-",L46/L$48) -> -
C48: 合計 | E48: =SUM(E42,E44,E46) -> 0 | F48: =SUM(F42,F44,F46) -> 0 | G48: =SUM(G42,G44,G46) -> 0 | H48: =SUM(H42,H44,H46) -> 0 | I48: =SUM(J48:L48) -> 0 | J48: =SUM(J42,J44,J46) -> 0 | K48: =SUM(K42,K44,K46) -> 0 | L48: =SUM(L42,L44,L46) -> 0
E49: =IF(ISERROR(E48/E$48),"-",E48/E$48) -> - | F49: =IF(ISERROR(F48/F$48),"-",F48/F$48) -> - | G49: =IF(ISERROR(G48/G$48),"-",G48/G$48) -> - | H49: =IF(ISERROR(H48/H$48),"-",H48/H$48) -> - | I49: =IF(ISERROR(I48/I$48),"-",I48/I$48) -> - | J49: =IF(ISERROR(J48/J$48),"-",J48/J$48) -> - | K49: =IF(ISERROR(K48/K$48),"-",K48/K$48) -> - | L49: =IF(ISERROR(L48/L$48),"-",L48/L$48) -> -
C51: 【注記欄】
C52: ※ 購買事業の調査区分を統合した場合、各調査区分に他の区分の値が含まれている場合、 その他、本マニュアルの通りに実施できなかった部分があれば、記入してください。
