Workbook
Name hanntei: '計算用シート（当年）'!$J$1
Name グラフ_10a当たり収量_市町村: 'グラフ表示用_データ連動 (市町村)'!$K$58:$O$85
Name グラフ_10a当たり収量_振興局: 'グラフ表示用_データ連動 (振興局)'!$K$47:$O$67
Name グラフ_そば_10a当たり収量: グラフ表示用_データ連動!$L$108
Name グラフ_そば_作付面積: グラフ表示用_データ連動!$B$108
Name グラフ_そば_収穫量: グラフ表示用_データ連動!$G$108
Name グラフ_てんさい_10a当たり収量: グラフ表示用_データ連動!$L$93
Name グラフ_てんさい_作付面積: グラフ表示用_データ連動!$B$93
Name グラフ_てんさい_収穫量: グラフ表示用_データ連動!$G$93
Name グラフ_なたね_10a当たり収量: グラフ表示用_データ連動!$L$138
Name グラフ_なたね_作付面積: グラフ表示用_データ連動!$B$138
Name グラフ_なたね_収穫量: グラフ表示用_データ連動!$G$138
Name グラフ_ばれいしょ_10a当たり収量: グラフ表示用_データ連動!$L$123
Name グラフ_ばれいしょ_作付面積: グラフ表示用_データ連動!$B$123
Name グラフ_ばれいしょ_収穫量: グラフ表示用_データ連動!$G$123
Name グラフ_計_市町村: 'グラフ表示用_データ連動 (市町村)'!$A$28:$E$55
Name グラフ_計_振興局: 'グラフ表示用_データ連動 (振興局)'!$A$24:$E$44
Name グラフ_耕地面積: グラフ表示用_データ連動!$B$3
Name グラフ_耕地面積_計: グラフ表示用_データ連動!$B$3
Name グラフ_耕地面積_市町村: 'グラフ表示用_データ連動 (市町村)'!$A$28:$E$55
Name グラフ_耕地面積_振興局: 'グラフ表示用_データ連動 (振興局)'!$A$24:$E$44
Name グラフ_耕地面積_田: グラフ表示用_データ連動!$G$3
Name グラフ_耕地面積_畑: グラフ表示用_データ連動!$L$3
Name グラフ_作付面積_市町村: 'グラフ表示用_データ連動 (市町村)'!$A$58:$E$85
Name グラフ_作付面積_振興局: 'グラフ表示用_データ連動 (振興局)'!$A$47:$E$67
Name グラフ_収穫量_市町村: 'グラフ表示用_データ連動 (市町村)'!$F$58:$J$85
Name グラフ_収穫量_振興局: 'グラフ表示用_データ連動 (振興局)'!$F$47:$J$67
Name グラフ_秋まき小麦_10a当たり収量: グラフ表示用_データ連動!$L$48
Name グラフ_秋まき小麦_作付面積: グラフ表示用_データ連動!$B$48
Name グラフ_秋まき小麦_収穫量: グラフ表示用_データ連動!$G$48
Name グラフ_春まき小麦_10a当たり収量: グラフ表示用_データ連動!$L$63
Name グラフ_春まき小麦_作付面積: グラフ表示用_データ連動!$B$63
Name グラフ_春まき小麦_収穫量: グラフ表示用_データ連動!$G$63
Name グラフ_小麦_10a当たり収量: グラフ表示用_データ連動!$L$33
Name グラフ_小麦_作付面積: グラフ表示用_データ連動!$B$33
Name グラフ_小麦_収穫量: グラフ表示用_データ連動!$G$33
Name グラフ_水稲_10a当たり収量: グラフ表示用_データ連動!$L$18
Name グラフ_水稲_作付面積: グラフ表示用_データ連動!$B$18
Name グラフ_水稲_収穫量: グラフ表示用_データ連動!$G$18
Name グラフ_大豆_10a当たり収量: グラフ表示用_データ連動!$L$78
Name グラフ_大豆_作付面積: グラフ表示用_データ連動!$B$78
Name グラフ_大豆_収穫量: グラフ表示用_データ連動!$G$78
Name そば: ドロップダウンリスト!$H$3:$H$5
Name てんさい: ドロップダウンリスト!$G$3:$G$5
Name なたね: ドロップダウンリスト!$J$3:$J$5
Name ばれいしょ: ドロップダウンリスト!$I$3:$I$5
Name 耕地面積: ドロップダウンリスト!$A$3:$A$5
Name 秋まき小麦: ドロップダウンリスト!$D$3:$D$5
Name 春まき小麦: ドロップダウンリスト!$E$3:$E$5
Name 小麦: ドロップダウンリスト!$C$3:$C$5
Name 水稲: ドロップダウンリスト!$B$3:$B$5
Name 大豆: ドロップダウンリスト!$F$3:$F$5
Name 判定: INDIRECT('計算用シート（当年）'!$F$1)
Name 判定_市町村: INDIRECT('計算用シート（当年）'!$J$2)
Name 判定_振興局: INDIRECT('計算用シート（当年）'!$J$1)
Name 品目名: ドロップダウンリスト!$A$1:$J$1

Sheet 作成時の注意事項
A1: ○貼りつけ用シートについて
B2: ←この色のセルには、最新値の貼り付けを行う。

Sheet なんばんBOOK
A1: 令和７年 なんばんＢＯＯＫ（電子版）
A3: ChapterⅠ 耕地面積・主要農作物ランキング
C4: 品目名 | D4: データの種類 | K4: =IFERROR(_xlfn.XLOOKUP('計算用シート（当年）'!$C$1,'計算用シート（当年）'!$D$4:$AG$4,'計算用シート（当年）'!$D5:$AG5),"-") -> 令和６年
C5: 耕地面積 | D5: 計
C7: =IFERROR(_xlfn.XLOOKUP('計算用シート（当年）'!$C$1,'計算用シート（当年）'!$D$4:$AG$4,'計算用シート（当年）'!$D$12:$AG$12),"-") -> 全国トップ５とシェア | I7: =IFERROR(_xlfn.XLOOKUP('計算用シート（当年）'!$C$1,'計算用シート（当年）'!$D$4:$AG$4,'計算用シート（当年）'!$D$114:$AG$114),"-") -> 全国における北海道のシェア
A9: =IF(OR($C$5="秋まき小麦",$C$5="春まき小麦",AND($C$5="てんさい",$D$5="10a当たり収量")),"","順位") -> 順位 | B9: =IF(OR($C$5="秋まき小麦",$C$5="春まき小麦",AND($C$5="てんさい",$D$5="10a当たり収量")),"","（前年）") -> （前年） | C9: =IF(OR($C$5="秋まき小麦",$C$5="春まき小麦",AND($C$5="てんさい",$D$5="10a当たり収量")),"年 産","都 道 府 県 名") -> 都 道 府 県 名 | D9: =IFERROR(_xlfn.XLOOKUP('計算用シート（当年）'!$C$1,'計算用シート（当年）'!$D$4:$AG$4,'計算用シート（当年）'!$D$6:$AG$6),"-") -> シェア | E9: =IFERROR(IF(OR($C$5="秋まき小麦",$C$5="春まき小麦",$D$5="10a当たり収量"),"",_xlfn.XLOOKUP('計算用シート（当年）'!$C$1,'計算用シート（当年）'!$D$4:$AG$4,'計算用シート（当年）'!$D$8:$AG$8)),"-") -> 面積
D10: =IFERROR(_xlfn.XLOOKUP('計算用シート（当年）'!$C$1,'計算用シート（当年）'!$D$4:$AG$4,'計算用シート（当年）'!$D$9:$AG$9),"") -> % | E10: =IFERROR(IF(OR($C$5="秋まき小麦",$C$5="春まき小麦",$D$5="10a当たり収量"),"",_xlfn.XLOOKUP('計算用シート（当年）'!$C$1,'計算用シート（当年）'!$D$4:$AG$4,'計算用シート（当年）'!$D$11:$AG$11)),"") -> ha
C11: =IF(OR($C$5="秋まき小麦",$C$5="春まき小麦",AND($C$5="てんさい",$D$5="10a当たり収量")),"","全国") -> 全国 | D11: =IF(OR($C$5="秋まき小麦",$C$5="春まき小麦",AND($C$5="てんさい",$D$5="10a当たり収量")),"",IF($D$5="10a当たり収量",_xlfn.XLOOKUP('計算用シート（当年）'!$C$1,'計算用シート（当年）'!$D$4:$AG$4,'計算用シート（当年）'!$D60:$AG60),100)) -> 100 | E11: =IFERROR(IF(OR($C$5="秋まき小麦",$C$5="春まき小麦",$D$5="10a当たり収量"),"",_xlfn.XLOOKUP('計算用シート（当年）'!$C$1,'計算用シート（当年）'!$D$4:$AG$4,'計算用シート（当年）'!$D60:$AG60)),"-") -> 4272000
A13: =IFERROR(IF(OR($C$5="秋まき小麦",$C$5="春まき小麦",AND($C$5="てんさい",$D$5="10a当たり収量")),"",_xlfn.XLOOKUP('計算用シート（当年）'!$C$1,'計算用シート（当年）'!$D$4:$AG$4,'計算用シート（当年）'!$D108:$AG108)),"-") -> 1 | B13: =IF(OR(A13="",C13="-"),"","("&VLOOKUP(C13,'前年順位整理（自動更新）'!$B$3:$CN$486,MATCH('前年順位整理（自動更新）'!$D$1,'前年順位整理（自動更新）'!$B$3:$CN$3,0),)&")") -> (1) | C13: =IFERROR(_xlfn.XLOOKUP('計算用シート（当年）'!$C$1,'計算用シート（当年）'!$D$4:$AG$4,'計算用シート（当年）'!$D13:$AG13),"-") -> 北海道 | D13: =IFERROR(IF(OR($C$5="秋まき小麦",$C$5="春まき小麦",$D$5="10a当たり収量"),_xlfn.XLOOKUP('計算用シート（当年）'!$C$1,'計算用シート（当年）'!$D$4:$AG$4,'計算用シート（当年）'!$D61:$AG61),ROUND(E13/$E$11*100,1)),"-") -> 26.6 | E13: =IFERROR(IF(OR($C$5="秋まき小麦",$C$5="春まき小麦",$D$5="10a当たり収量"),"",_xlfn.XLOOKUP('計算用シート（当年）'!$C$1,'計算用シート（当年）'!$D$4:$AG$4,'計算用シート（当年）'!$D61:$AG61)),"-") -> 1138000
A14: =IFERROR(IF(OR($C$5="秋まき小麦",$C$5="春まき小麦",AND($C$5="てんさい",$D$5="10a当たり収量")),"",_xlfn.XLOOKUP('計算用シート（当年）'!$C$1,'計算用シート（当年）'!$D$4:$AG$4,'計算用シート（当年）'!$D109:$AG109)),"-") -> 2 | B14: =IF(OR(A14="",C14="-"),"","("&VLOOKUP(C14,'前年順位整理（自動更新）'!$B$3:$CN$486,MATCH('前年順位整理（自動更新）'!$D$1,'前年順位整理（自動更新）'!$B$3:$CN$3,0),)&")") -> (2) | C14: =IFERROR(_xlfn.XLOOKUP('計算用シート（当年）'!$C$1,'計算用シート（当年）'!$D$4:$AG$4,'計算用シート（当年）'!$D14:$AG14),"-") -> 新潟 | D14: =IFERROR(IF(OR($C$5="秋まき小麦",$C$5="春まき小麦",$D$5="10a当たり収量"),_xlfn.XLOOKUP('計算用シート（当年）'!$C$1,'計算用シート（当年）'!$D$4:$AG$4,'計算用シート（当年）'!$D62:$AG62),ROUND(E14/$E$11*100,1)),"-") -> 3.9 | E14: =IFERROR(IF(OR($C$5="秋まき小麦",$C$5="春まき小麦",$D$5="10a当たり収量"),"",_xlfn.XLOOKUP('計算用シート（当年）'!$C$1,'計算用シート（当年）'!$D$4:$AG$4,'計算用シート（当年）'!$D62:$AG62)),"-") -> 166500
A15: =IFERROR(IF(OR($C$5="秋まき小麦",$C$5="春まき小麦",AND($C$5="てんさい",$D$5="10a当たり収量")),"",_xlfn.XLOOKUP('計算用シート（当年）'!$C$1,'計算用シート（当年）'!$D$4:$AG$4,'計算用シート（当年）'!$D110:$AG110)),"-") -> 3 | B15: =IF(OR(A15="",C15="-"),"","("&VLOOKUP(C15,'前年順位整理（自動更新）'!$B$3:$CN$486,MATCH('前年順位整理（自動更新）'!$D$1,'前年順位整理（自動更新）'!$B$3:$CN$3,0),)&")") -> (3) | C15: =IFERROR(_xlfn.XLOOKUP('計算用シート（当年）'!$C$1,'計算用シート（当年）'!$D$4:$AG$4,'計算用シート（当年）'!$D15:$AG15),"-") -> 茨城 | D15: =IFERROR(IF(OR($C$5="秋まき小麦",$C$5="春まき小麦",$D$5="10a当たり収量"),_xlfn.XLOOKUP('計算用シート（当年）'!$C$1,'計算用シート（当年）'!$D$4:$AG$4,'計算用シート（当年）'!$D63:$AG63),ROUND(E15/$E$11*100,1)),"-") -> 3.7 | E15: =IFERROR(IF(OR($C$5="秋まき小麦",$C$5="春まき小麦",$D$5="10a当たり収量"),"",_xlfn.XLOOKUP('計算用シート（当年）'!$C$1,'計算用シート（当年）'!$D$4:$AG$4,'計算用シート（当年）'!$D63:$AG63)),"-") -> 158300
A16: =IFERROR(IF(OR($C$5="秋まき小麦",$C$5="春まき小麦",AND($C$5="てんさい",$D$5="10a当たり収量")),"",_xlfn.XLOOKUP('計算用シート（当年）'!$C$1,'計算用シート（当年）'!$D$4:$AG$4,'計算用シート（当年）'!$D111:$AG111)),"-") -> 4 | B16: =IF(OR(A16="",C16="-"),"","("&VLOOKUP(C16,'前年順位整理（自動更新）'!$B$3:$CN$486,MATCH('前年順位整理（自動更新）'!$D$1,'前年順位整理（自動更新）'!$B$3:$CN$3,0),)&")") -> (4) | C16: =IFERROR(_xlfn.XLOOKUP('計算用シート（当年）'!$C$1,'計算用シート（当年）'!$D$4:$AG$4,'計算用シート（当年）'!$D16:$AG16),"-") -> 青森 | D16: =IFERROR(IF(OR($C$5="秋まき小麦",$C$5="春まき小麦",$D$5="10a当たり収量"),_xlfn.XLOOKUP('計算用シート（当年）'!$C$1,'計算用シート（当年）'!$D$4:$AG$4,'計算用シート（当年）'!$D64:$AG64),ROUND(E16/$E$11*100,1)),"-") -> 3.4 | E16: =IFERROR(IF(OR($C$5="秋まき小麦",$C$5="春まき小麦",$D$5="10a当たり収量"),"",_xlfn.XLOOKUP('計算用シート（当年）'!$C$1,'計算用シート（当年）'!$D$4:$AG$4,'計算用シート（当年）'!$D64:$AG64)),"-") -> 147300
A17: =IFERROR(IF(OR($C$5="秋まき小麦",$C$5="春まき小麦",AND($C$5="てんさい",$D$5="10a当たり収量")),"",_xlfn.XLOOKUP('計算用シート（当年）'!$C$1,'計算用シート（当年）'!$D$4:$AG$4,'計算用シート（当年）'!$D112:$AG112)),"-") -> 5 | B17: =IF(OR(A17="",C17="-"),"","("&VLOOKUP(C17,'前年順位整理（自動更新）'!$B$3:$CN$486,MATCH('前年順位整理（自動更新）'!$D$1,'前年順位整理（自動更新）'!$B$3:$CN$3,0),)&")") -> (5) | C17: =IFERROR(_xlfn.XLOOKUP('計算用シート（当年）'!$C$1,'計算用シート（当年）'!$D$4:$AG$4,'計算用シート（当年）'!$D17:$AG17),"-") -> 岩手 | D17: =IFERROR(IF(OR($C$5="秋まき小麦",$C$5="春まき小麦",$D$5="10a当たり収量"),_xlfn.XLOOKUP('計算用シート（当年）'!$C$1,'計算用シート（当年）'!$D$4:$AG$4,'計算用シート（当年）'!$D65:$AG65),ROUND(E17/$E$11*100,1)),"-") -> 3.4 | E17: =IFERROR(IF(OR($C$5="秋まき小麦",$C$5="春まき小麦",$D$5="10a当たり収量"),"",_xlfn.XLOOKUP('計算用シート（当年）'!$C$1,'計算用シート（当年）'!$D$4:$AG$4,'計算用シート（当年）'!$D65:$AG65)),"-") -> 146000
A18: =IF(OR($C$5="秋まき小麦",$C$5="春まき小麦"),"",IF(C18="北海道",_xlfn.XLOOKUP('計算用シート（当年）'!$C$1,'計算用シート（当年）'!$D$4:$AG$4,'計算用シート（当年）'!$D113:$AG113),"")) | B18: =IF(C18="北海道","("&VLOOKUP(C18,'前年順位整理（自動更新）'!$B$3:$CN$486,MATCH('前年順位整理（自動更新）'!$D$1,'前年順位整理（自動更新）'!$B$3:$CN$3,0),)&")","") | C18: =IF($C$13="-","",IF(OR(C5="秋まき小麦",C5="春まき小麦",C5="てんさい",C13="北海道",C14="北海道",C15="北海道",C16="北海道",C17="北海道"),"","北海道")) | D18: =IF(C18="北海道",IF(OR($C$5="秋まき小麦",$C$5="春まき小麦",$D$5="10a当たり収量"),_xlfn.XLOOKUP('計算用シート（当年）'!$C$1,'計算用シート（当年）'!$D$4:$AG$4,'計算用シート（当年）'!$D$136:$AG$136),ROUND(E18/$E$11*100,1)),"") | E18: =IF(OR($C$5="秋まき小麦",$C$5="春まき小麦",$D$5="10a当たり収量"),"",IF(C18="北海道",_xlfn.XLOOKUP('計算用シート（当年）'!$C$1,'計算用シート（当年）'!$D$4:$AG$4,'計算用シート（当年）'!$D$136:$AG$136),""))
C20: 地域ランキング | I20: 振興局別
A22: 順位 | B22: （前年） | C22: 地域 | D22: =IFERROR(_xlfn.XLOOKUP('計算用シート（当年）'!$C$1,'計算用シート（当年）'!$D$4:$AG$4,'計算用シート（当年）'!$D$7:$AG$7),"-") -> シェア | E22: =IFERROR(IF($D$5="10a当たり収量","",_xlfn.XLOOKUP('計算用シート（当年）'!$C$1,'計算用シート（当年）'!$D$4:$AG$4,'計算用シート（当年）'!$D$8:$AG$8)),"-") -> 面積
D23: =IFERROR(_xlfn.XLOOKUP('計算用シート（当年）'!$C$1,'計算用シート（当年）'!$D$4:$AG$4,'計算用シート（当年）'!$D$10:$AG$10),"") -> % | E23: =IFERROR(IF($D$5="10a当たり収量","",_xlfn.XLOOKUP('計算用シート（当年）'!$C$1,'計算用シート（当年）'!$D$4:$AG$4,'計算用シート（当年）'!$D$11:$AG$11)),"") -> ha
C24: 北海道 | D24: =IFERROR(IF($D$5="10a当たり収量",_xlfn.XLOOKUP('計算用シート（当年）'!$C$1,'計算用シート（当年）'!$D$4:$AG$4,'計算用シート（当年）'!$D136:$AG136),100),"") -> 100 | E24: =IFERROR(IF($D$5="10a当たり収量","",_xlfn.XLOOKUP('計算用シート（当年）'!$C$1,'計算用シート（当年）'!$D$4:$AG$4,'計算用シート（当年）'!$D136:$AG136)),"-") -> 1138000
A26: =IFERROR(IF($D$5="10a当たり収量",RANK(D26,$D$26:$D$39,0),RANK(E26,$E$26:$E$39,0)),"-") -> 1 | B26: =IFERROR(IF($C$13="-","",IF(E26="-","(-)","("&VLOOKUP(C26,'前年順位整理（自動更新）'!$B$3:$CN$486,MATCH('前年順位整理（自動更新）'!$D$1,'前年順位整理（自動更新）'!$B$3:$CN$3,0),)&")")),"(-)") -> (1) | C26: =IF(E26="-","-",IFERROR(_xlfn.XLOOKUP('計算用シート（当年）'!$C$1,'計算用シート（当年）'!$D$4:$AG$4,'計算用シート（当年）'!$D122:$AG122),"-")) -> 十勝 | D26: =IFERROR(IF($D$5="10a当たり収量",_xlfn.XLOOKUP('計算用シート（当年）'!$C$1,'計算用シート（当年）'!$D$4:$AG$4,'計算用シート（当年）'!$D137:$AG137),ROUND(E26/$E$24*100,1)),"-") -> 22.4 | E26: =IFERROR(IF($D$5="10a当たり収量","",_xlfn.XLOOKUP('計算用シート（当年）'!$C$1,'計算用シート（当年）'!$D$4:$AG$4,'計算用シート（当年）'!$D137:$AG137)),"-") -> 254400
A27: =IFERROR(IF($D$5="10a当たり収量",RANK(D27,$D$26:$D$39,0),RANK(E27,$E$26:$E$39,0)),"-") -> 2 | B27: =IFERROR(IF($C$13="-","",IF(E27="-","(-)","("&VLOOKUP(C27,'前年順位整理（自動更新）'!$B$3:$CN$486,MATCH('前年順位整理（自動更新）'!$D$1,'前年順位整理（自動更新）'!$B$3:$CN$3,0),)&")")),"(-)") -> (2) | C27: =IF(E27="-","-",IFERROR(_xlfn.XLOOKUP('計算用シート（当年）'!$C$1,'計算用シート（当年）'!$D$4:$AG$4,'計算用シート（当年）'!$D123:$AG123),"-")) -> オホーツク | D27: =IFERROR(IF($D$5="10a当たり収量",_xlfn.XLOOKUP('計算用シート（当年）'!$C$1,'計算用シート（当年）'!$D$4:$AG$4,'計算用シート（当年）'!$D138:$AG138),ROUND(E27/$E$24*100,1)),"-") -> 14.5 | E27: =IFERROR(IF($D$5="10a当たり収量","",_xlfn.XLOOKUP('計算用シート（当年）'!$C$1,'計算用シート（当年）'!$D$4:$AG$4,'計算用シート（当年）'!$D138:$AG138)),"-") -> 165200
A28: =IFERROR(IF($D$5="10a当たり収量",RANK(D28,$D$26:$D$39,0),RANK(E28,$E$26:$E$39,0)),"-") -> 3 | B28: =IFERROR(IF($C$13="-","",IF(E28="-","(-)","("&VLOOKUP(C28,'前年順位整理（自動更新）'!$B$3:$CN$486,MATCH('前年順位整理（自動更新）'!$D$1,'前年順位整理（自動更新）'!$B$3:$CN$3,0),)&")")),"(-)") -> (3) | C28: =IF(E28="-","-",IFERROR(_xlfn.XLOOKUP('計算用シート（当年）'!$C$1,'計算用シート（当年）'!$D$4:$AG$4,'計算用シート（当年）'!$D124:$AG124),"-")) -> 上川 | D28: =IFERROR(IF($D$5="10a当たり収量",_xlfn.XLOOKUP('計算用シート（当年）'!$C$1,'計算用シート（当年）'!$D$4:$AG$4,'計算用シート（当年）'!$D139:$AG139),ROUND(E28/$E$24*100,1)),"-") -> 11.4 | E28: =IFERROR(IF($D$5="10a当たり収量","",_xlfn.XLOOKUP('計算用シート（当年）'!$C$1,'計算用シート（当年）'!$D$4:$AG$4,'計算用シート（当年）'!$D139:$AG139)),"-") -> 129800
A29: =IFERROR(IF($D$5="10a当たり収量",RANK(D29,$D$26:$D$39,0),RANK(E29,$E$26:$E$39,0)),"-") -> 4 | B29: =IFERROR(IF($C$13="-","",IF(E29="-","(-)","("&VLOOKUP(C29,'前年順位整理（自動更新）'!$B$3:$CN$486,MATCH('前年順位整理（自動更新）'!$D$1,'前年順位整理（自動更新）'!$B$3:$CN$3,0),)&")")),"(-)") -> (4) | C29: =IF(E29="-","-",IFERROR(_xlfn.XLOOKUP('計算用シート（当年）'!$C$1,'計算用シート（当年）'!$D$4:$AG$4,'計算用シート（当年）'!$D125:$AG125),"-")) -> 空知 | D29: =IFERROR(IF($D$5="10a当たり収量",_xlfn.XLOOKUP('計算用シート（当年）'!$C$1,'計算用シート（当年）'!$D$4:$AG$4,'計算用シート（当年）'!$D140:$AG140),ROUND(E29/$E$24*100,1)),"-") -> 9.9 | E29: =IFERROR(IF($D$5="10a当たり収量","",_xlfn.XLOOKUP('計算用シート（当年）'!$C$1,'計算用シート（当年）'!$D$4:$AG$4,'計算用シート（当年）'!$D140:$AG140)),"-") -> 113100
A30: =IFERROR(IF($D$5="10a当たり収量",RANK(D30,$D$26:$D$39,0),RANK(E30,$E$26:$E$39,0)),"-") -> 5 | B30: =IFERROR(IF($C$13="-","",IF(E30="-","(-)","("&VLOOKUP(C30,'前年順位整理（自動更新）'!$B$3:$CN$486,MATCH('前年順位整理（自動更新）'!$D$1,'前年順位整理（自動更新）'!$B$3:$CN$3,0),)&")")),"(-)") -> (5) | C30: =IF(E30="-","-",IFERROR(_xlfn.XLOOKUP('計算用シート（当年）'!$C$1,'計算用シート（当年）'!$D$4:$AG$4,'計算用シート（当年）'!$D126:$AG126),"-")) -> 根室 | D30: =IFERROR(IF($D$5="10a当たり収量",_xlfn.XLOOKUP('計算用シート（当年）'!$C$1,'計算用シート（当年）'!$D$4:$AG$4,'計算用シート（当年）'!$D141:$AG141),ROUND(E30/$E$24*100,1)),"-") -> 9.6 | E30: =IFERROR(IF($D$5="10a当たり収量","",_xlfn.XLOOKUP('計算用シート（当年）'!$C$1,'計算用シート（当年）'!$D$4:$AG$4,'計算用シート（当年）'!$D141:$AG141)),"-") -> 109800
A31: =IFERROR(IF($D$5="10a当たり収量",RANK(D31,$D$26:$D$39,0),RANK(E31,$E$26:$E$39,0)),"-") -> 6 | B31: =IFERROR(IF($C$13="-","",IF(E31="-","(-)","("&VLOOKUP(C31,'前年順位整理（自動更新）'!$B$3:$CN$486,MATCH('前年順位整理（自動更新）'!$D$1,'前年順位整理（自動更新）'!$B$3:$CN$3,0),)&")")),"(-)") -> (6) | C31: =IF(E31="-","-",IFERROR(_xlfn.XLOOKUP('計算用シート（当年）'!$C$1,'計算用シート（当年）'!$D$4:$AG$4,'計算用シート（当年）'!$D127:$AG127),"-")) -> 釧路 | D31: =IFERROR(IF($D$5="10a当たり収量",_xlfn.XLOOKUP('計算用シート（当年）'!$C$1,'計算用シート（当年）'!$D$4:$AG$4,'計算用シート（当年）'!$D142:$AG142),ROUND(E31/$E$24*100,1)),"-") -> 7.8 | E31: =IFERROR(IF($D$5="10a当たり収量","",_xlfn.XLOOKUP('計算用シート（当年）'!$C$1,'計算用シート（当年）'!$D$4:$AG$4,'計算用シート（当年）'!$D142:$AG142)),"-") -> 88300
A32: =IFERROR(IF($D$5="10a当たり収量",RANK(D32,$D$26:$D$39,0),RANK(E32,$E$26:$E$39,0)),"-") -> 7 | B32: =IFERROR(IF($C$13="-","",IF(E32="-","(-)","("&VLOOKUP(C32,'前年順位整理（自動更新）'!$B$3:$CN$486,MATCH('前年順位整理（自動更新）'!$D$1,'前年順位整理（自動更新）'!$B$3:$CN$3,0),)&")")),"(-)") -> (7) | C32: =IF(E32="-","-",IFERROR(_xlfn.XLOOKUP('計算用シート（当年）'!$C$1,'計算用シート（当年）'!$D$4:$AG$4,'計算用シート（当年）'!$D128:$AG128),"-")) -> 宗谷 | D32: =IFERROR(IF($D$5="10a当たり収量",_xlfn.XLOOKUP('計算用シート（当年）'!$C$1,'計算用シート（当年）'!$D$4:$AG$4,'計算用シート（当年）'!$D143:$AG143),ROUND(E32/$E$24*100,1)),"-") -> 5.4 | E32: =IFERROR(IF($D$5="10a当たり収量","",_xlfn.XLOOKUP('計算用シート（当年）'!$C$1,'計算用シート（当年）'!$D$4:$AG$4,'計算用シート（当年）'!$D143:$AG143)),"-") -> 62000
A33: =IFERROR(IF($D$5="10a当たり収量",RANK(D33,$D$26:$D$39,0),RANK(E33,$E$26:$E$39,0)),"-") -> 8 | B33: =IFERROR(IF($C$13="-","",IF(E33="-","(-)","("&VLOOKUP(C33,'前年順位整理（自動更新）'!$B$3:$CN$486,MATCH('前年順位整理（自動更新）'!$D$1,'前年順位整理（自動更新）'!$B$3:$CN$3,0),)&")")),"(-)") -> (8) | C33: =IF(E33="-","-",IFERROR(_xlfn.XLOOKUP('計算用シート（当年）'!$C$1,'計算用シート（当年）'!$D$4:$AG$4,'計算用シート（当年）'!$D129:$AG129),"-")) -> 石狩 | D33: =IFERROR(IF($D$5="10a当たり収量",_xlfn.XLOOKUP('計算用シート（当年）'!$C$1,'計算用シート（当年）'!$D$4:$AG$4,'計算用シート（当年）'!$D144:$AG144),ROUND(E33/$E$24*100,1)),"-") -> 3.6 | E33: =IFERROR(IF($D$5="10a当たり収量","",_xlfn.XLOOKUP('計算用シート（当年）'!$C$1,'計算用シート（当年）'!$D$4:$AG$4,'計算用シート（当年）'!$D144:$AG144)),"-") -> 40400
A34: =IFERROR(IF($D$5="10a当たり収量",RANK(D34,$D$26:$D$39,0),RANK(E34,$E$26:$E$39,0)),"-") -> 9 | B34: =IFERROR(IF($C$13="-","",IF(E34="-","(-)","("&VLOOKUP(C34,'前年順位整理（自動更新）'!$B$3:$CN$486,MATCH('前年順位整理（自動更新）'!$D$1,'前年順位整理（自動更新）'!$B$3:$CN$3,0),)&")")),"(-)") -> (9) | C34: =IF(E34="-","-",IFERROR(_xlfn.XLOOKUP('計算用シート（当年）'!$C$1,'計算用シート（当年）'!$D$4:$AG$4,'計算用シート（当年）'!$D130:$AG130),"-")) -> 日高 | D34: =IFERROR(IF($D$5="10a当たり収量",_xlfn.XLOOKUP('計算用シート（当年）'!$C$1,'計算用シート（当年）'!$D$4:$AG$4,'計算用シート（当年）'!$D145:$AG145),ROUND(E34/$E$24*100,1)),"-") -> 3.4 | E34: =IFERROR(IF($D$5="10a当たり収量","",_xlfn.XLOOKUP('計算用シート（当年）'!$C$1,'計算用シート（当年）'!$D$4:$AG$4,'計算用シート（当年）'!$D145:$AG145)),"-") -> 38500
A35: =IFERROR(IF($D$5="10a当たり収量",RANK(D35,$D$26:$D$39,0),RANK(E35,$E$26:$E$39,0)),"-") -> 10 | B35: =IFERROR(IF($C$13="-","",IF(E35="-","(-)","("&VLOOKUP(C35,'前年順位整理（自動更新）'!$B$3:$CN$486,MATCH('前年順位整理（自動更新）'!$D$1,'前年順位整理（自動更新）'!$B$3:$CN$3,0),)&")")),"(-)") -> (10) | C35: =IF(E35="-","-",IFERROR(_xlfn.XLOOKUP('計算用シート（当年）'!$C$1,'計算用シート（当年）'!$D$4:$AG$4,'計算用シート（当年）'!$D131:$AG131),"-")) -> 後志 | D35: =IFERROR(IF($D$5="10a当たり収量",_xlfn.XLOOKUP('計算用シート（当年）'!$C$1,'計算用シート（当年）'!$D$4:$AG$4,'計算用シート（当年）'!$D146:$AG146),ROUND(E35/$E$24*100,1)),"-") -> 3 | E35: =IFERROR(IF($D$5="10a当たり収量","",_xlfn.XLOOKUP('計算用シート（当年）'!$C$1,'計算用シート（当年）'!$D$4:$AG$4,'計算用シート（当年）'!$D146:$AG146)),"-") -> 34200
A36: =IFERROR(IF($D$5="10a当たり収量",RANK(D36,$D$26:$D$39,0),RANK(E36,$E$26:$E$39,0)),"-") -> 11 | B36: =IFERROR(IF($C$13="-","",IF(E36="-","(-)","("&VLOOKUP(C36,'前年順位整理（自動更新）'!$B$3:$CN$486,MATCH('前年順位整理（自動更新）'!$D$1,'前年順位整理（自動更新）'!$B$3:$CN$3,0),)&")")),"(-)") -> (11) | C36: =IF(E36="-","-",IFERROR(_xlfn.XLOOKUP('計算用シート（当年）'!$C$1,'計算用シート（当年）'!$D$4:$AG$4,'計算用シート（当年）'!$D132:$AG132),"-")) -> 胆振 | D36: =IFERROR(IF($D$5="10a当たり収量",_xlfn.XLOOKUP('計算用シート（当年）'!$C$1,'計算用シート（当年）'!$D$4:$AG$4,'計算用シート（当年）'!$D147:$AG147),ROUND(E36/$E$24*100,1)),"-") -> 3 | E36: =IFERROR(IF($D$5="10a当たり収量","",_xlfn.XLOOKUP('計算用シート（当年）'!$C$1,'計算用シート（当年）'!$D$4:$AG$4,'計算用シート（当年）'!$D147:$AG147)),"-") -> 34000
A37: =IFERROR(IF($D$5="10a当たり収量",RANK(D37,$D$26:$D$39,0),RANK(E37,$E$26:$E$39,0)),"-") -> 12 | B37: =IFERROR(IF($C$13="-","",IF(E37="-","(-)","("&VLOOKUP(C37,'前年順位整理（自動更新）'!$B$3:$CN$486,MATCH('前年順位整理（自動更新）'!$D$1,'前年順位整理（自動更新）'!$B$3:$CN$3,0),)&")")),"(-)") -> (12) | C37: =IF(E37="-","-",IFERROR(_xlfn.XLOOKUP('計算用シート（当年）'!$C$1,'計算用シート（当年）'!$D$4:$AG$4,'計算用シート（当年）'!$D133:$AG133),"-")) -> 留萌 | D37: =IFERROR(IF($D$5="10a当たり収量",_xlfn.XLOOKUP('計算用シート（当年）'!$C$1,'計算用シート（当年）'!$D$4:$AG$4,'計算用シート（当年）'!$D148:$AG148),ROUND(E37/$E$24*100,1)),"-") -> 2.2 | E37: =IFERROR(IF($D$5="10a当たり収量","",_xlfn.XLOOKUP('計算用シート（当年）'!$C$1,'計算用シート（当年）'!$D$4:$AG$4,'計算用シート（当年）'!$D148:$AG148)),"-") -> 25600
... A39: =IFERROR(IF($D$5="10a当たり収量",RANK(D39,$D$26:$D$39,0),RANK(E39,$E$26:$E$39,0)),"-") -> 14 | B39: =IFERROR(IF($C$13="-","",IF(E39="-","(-)","("&VLOOKUP(C39,'前年順位整理（自動更新）'!$B$3:$CN$486,MATCH('前年順位整理（自動更新）'!$D$1,'前年順位整理（自動更新）'!$B$3:$CN$3,0),)&")")),"(-)") -> (14) | C39: =IF(E39="-","-",IFERROR(_xlfn.XLOOKUP('計算用シート（当年）'!$C$1,'計算用シート（当年）'!$D$4:$AG$4,'計算用シート（当年）'!$D135:$AG135),"-")) -> 檜山 | D39: =IFERROR(IF($D$5="10a当たり収量",_xlfn.XLOOKUP('計算用シート（当年）'!$C$1,'計算用シート（当年）'!$D$4:$AG$4,'計算用シート（当年）'!$D150:$AG150),ROUND(E39/$E$24*100,1)),"-") -> 1.7 | E39: =IFERROR(IF($D$5="10a当たり収量","",_xlfn.XLOOKUP('計算用シート（当年）'!$C$1,'計算用シート（当年）'!$D$4:$AG$4,'計算用シート（当年）'!$D150:$AG150)),"-") -> 18800
C42: =("市町村ランキング（1位～"&MAX($A$46:$A$224)&"位）") -> 市町村ランキング（1位～179位） | I42: ="市町村別トップ20" -> 市町村別トップ20
A44: 順位 | B44: （前年） | C44: 市町村名 | D44: 地域 | E44: =IFERROR(_xlfn.XLOOKUP('計算用シート（当年）'!$C$1,'計算用シート（当年）'!$D$4:$AG$4,'計算用シート（当年）'!$D$8:$AG$8),"-") -> 面積
E45: =IFERROR(_xlfn.XLOOKUP('計算用シート（当年）'!$C$1,'計算用シート（当年）'!$D$4:$AG$4,'計算用シート（当年）'!$D$11:$AG$11),"-") -> ha
A46: =IFERROR(RANK(E46,($E$46:$E$224),0),"-") -> 1 | B46: =IFERROR(IF($C$13="-","",IF(E46="-","(-)","("&VLOOKUP(C46,'前年順位整理（自動更新）'!$B$3:$CN$486,MATCH('前年順位整理（自動更新）'!$D$1,'前年順位整理（自動更新）'!$B$3:$CN$3,0),)&")")),"(-)") -> (1) | C46: =IFERROR(_xlfn.XLOOKUP('計算用シート（当年）'!$C$1,'計算用シート（当年）'!$D$4:$AG$4,'計算用シート（当年）'!$D151:$AG151),"-") -> 別海町 | D46: =IFERROR(_xlfn.XLOOKUP(C46,市町村振興局拠点対応版!$D$6:$D$184,市町村振興局拠点対応版!$E$6:$E$184),"-") -> 根室 | E46: =IFERROR(_xlfn.XLOOKUP('計算用シート（当年）'!$C$1,'計算用シート（当年）'!$D$4:$AG$4,'計算用シート（当年）'!$D330:$AG330),"-") -> 63200
A47: =IFERROR(RANK(E47,($E$46:$E$224),0),"-") -> 2 | B47: =IFERROR(IF($C$13="-","",IF(E47="-","(-)","("&VLOOKUP(C47,'前年順位整理（自動更新）'!$B$3:$CN$486,MATCH('前年順位整理（自動更新）'!$D$1,'前年順位整理（自動更新）'!$B$3:$CN$3,0),)&")")),"(-)") -> (2) | C47: =IFERROR(_xlfn.XLOOKUP('計算用シート（当年）'!$C$1,'計算用シート（当年）'!$D$4:$AG$4,'計算用シート（当年）'!$D152:$AG152),"-") -> 標茶町 | D47: =IFERROR(_xlfn.XLOOKUP(C47,市町村振興局拠点対応版!$D$6:$D$184,市町村振興局拠点対応版!$E$6:$E$184),"-") -> 釧路 | E47: =IFERROR(_xlfn.XLOOKUP('計算用シート（当年）'!$C$1,'計算用シート（当年）'!$D$4:$AG$4,'計算用シート（当年）'!$D331:$AG331),"-") -> 28900
A48: =IFERROR(RANK(E48,($E$46:$E$224),0),"-") -> 3 | B48: =IFERROR(IF($C$13="-","",IF(E48="-","(-)","("&VLOOKUP(C48,'前年順位整理（自動更新）'!$B$3:$CN$486,MATCH('前年順位整理（自動更新）'!$D$1,'前年順位整理（自動更新）'!$B$3:$CN$3,0),)&")")),"(-)") -> (3) | C48: =IFERROR(_xlfn.XLOOKUP('計算用シート（当年）'!$C$1,'計算用シート（当年）'!$D$4:$AG$4,'計算用シート（当年）'!$D153:$AG153),"-") -> 中標津町 | D48: =IFERROR(_xlfn.XLOOKUP(C48,市町村振興局拠点対応版!$D$6:$D$184,市町村振興局拠点対応版!$E$6:$E$184),"-") -> 根室 | E48: =IFERROR(_xlfn.XLOOKUP('計算用シート（当年）'!$C$1,'計算用シート（当年）'!$D$4:$AG$4,'計算用シート（当年）'!$D332:$AG332),"-") -> 24400
A49: =IFERROR(RANK(E49,($E$46:$E$224),0),"-") -> 4 | B49: =IFERROR(IF($C$13="-","",IF(E49="-","(-)","("&VLOOKUP(C49,'前年順位整理（自動更新）'!$B$3:$CN$486,MATCH('前年順位整理（自動更新）'!$D$1,'前年順位整理（自動更新）'!$B$3:$CN$3,0),)&")")),"(-)") -> (4) | C49: =IFERROR(_xlfn.XLOOKUP('計算用シート（当年）'!$C$1,'計算用シート（当年）'!$D$4:$AG$4,'計算用シート（当年）'!$D154:$AG154),"-") -> 音更町 | D49: =IFERROR(_xlfn.XLOOKUP(C49,市町村振興局拠点対応版!$D$6:$D$184,市町村振興局拠点対応版!$E$6:$E$184),"-") -> 十勝 | E49: =IFERROR(_xlfn.XLOOKUP('計算用シート（当年）'!$C$1,'計算用シート（当年）'!$D$4:$AG$4,'計算用シート（当年）'!$D333:$AG333),"-") -> 24300
A50: =IFERROR(RANK(E50,($E$46:$E$224),0),"-") -> 5 | B50: =IFERROR(IF($C$13="-","",IF(E50="-","(-)","("&VLOOKUP(C50,'前年順位整理（自動更新）'!$B$3:$CN$486,MATCH('前年順位整理（自動更新）'!$D$1,'前年順位整理（自動更新）'!$B$3:$CN$3,0),)&")")),"(-)") -> (5) | C50: =IFERROR(_xlfn.XLOOKUP('計算用シート（当年）'!$C$1,'計算用シート（当年）'!$D$4:$AG$4,'計算用シート（当年）'!$D155:$AG155),"-") -> 北見市 | D50: =IFERROR(_xlfn.XLOOKUP(C50,市町村振興局拠点対応版!$D$6:$D$184,市町村振興局拠点対応版!$E$6:$E$184),"-") -> オホーツク | E50: =IFERROR(_xlfn.XLOOKUP('計算用シート（当年）'!$C$1,'計算用シート（当年）'!$D$4:$AG$4,'計算用シート（当年）'!$D334:$AG334),"-") -> 23700
A51: =IFERROR(RANK(E51,($E$46:$E$224),0),"-") -> 6 | B51: =IFERROR(IF($C$13="-","",IF(E51="-","(-)","("&VLOOKUP(C51,'前年順位整理（自動更新）'!$B$3:$CN$486,MATCH('前年順位整理（自動更新）'!$D$1,'前年順位整理（自動更新）'!$B$3:$CN$3,0),)&")")),"(-)") -> (6) | C51: =IFERROR(_xlfn.XLOOKUP('計算用シート（当年）'!$C$1,'計算用シート（当年）'!$D$4:$AG$4,'計算用シート（当年）'!$D156:$AG156),"-") -> 帯広市 | D51: =IFERROR(_xlfn.XLOOKUP(C51,市町村振興局拠点対応版!$D$6:$D$184,市町村振興局拠点対応版!$E$6:$E$184),"-") -> 十勝 | E51: =IFERROR(_xlfn.XLOOKUP('計算用シート（当年）'!$C$1,'計算用シート（当年）'!$D$4:$AG$4,'計算用シート（当年）'!$D335:$AG335),"-") -> 22900
A52: =IFERROR(RANK(E52,($E$46:$E$224),0),"-") -> 7 | B52: =IFERROR(IF($C$13="-","",IF(E52="-","(-)","("&VLOOKUP(C52,'前年順位整理（自動更新）'!$B$3:$CN$486,MATCH('前年順位整理（自動更新）'!$D$1,'前年順位整理（自動更新）'!$B$3:$CN$3,0),)&")")),"(-)") -> (7) | C52: =IFERROR(_xlfn.XLOOKUP('計算用シート（当年）'!$C$1,'計算用シート（当年）'!$D$4:$AG$4,'計算用シート（当年）'!$D157:$AG157),"-") -> 幕別町 | D52: =IFERROR(_xlfn.XLOOKUP(C52,市町村振興局拠点対応版!$D$6:$D$184,市町村振興局拠点対応版!$E$6:$E$184),"-") -> 十勝 | E52: =IFERROR(_xlfn.XLOOKUP('計算用シート（当年）'!$C$1,'計算用シート（当年）'!$D$4:$AG$4,'計算用シート（当年）'!$D336:$AG336),"-") -> 22500
A53: =IFERROR(RANK(E53,($E$46:$E$224),0),"-") -> 8 | B53: =IFERROR(IF($C$13="-","",IF(E53="-","(-)","("&VLOOKUP(C53,'前年順位整理（自動更新）'!$B$3:$CN$486,MATCH('前年順位整理（自動更新）'!$D$1,'前年順位整理（自動更新）'!$B$3:$CN$3,0),)&")")),"(-)") -> (8) | C53: =IFERROR(_xlfn.XLOOKUP('計算用シート（当年）'!$C$1,'計算用シート（当年）'!$D$4:$AG$4,'計算用シート（当年）'!$D158:$AG158),"-") -> 芽室町 | D53: =IFERROR(_xlfn.XLOOKUP(C53,市町村振興局拠点対応版!$D$6:$D$184,市町村振興局拠点対応版!$E$6:$E$184),"-") -> 十勝 | E53: =IFERROR(_xlfn.XLOOKUP('計算用シート（当年）'!$C$1,'計算用シート（当年）'!$D$4:$AG$4,'計算用シート（当年）'!$D337:$AG337),"-") -> 21400
A54: =IFERROR(RANK(E54,($E$46:$E$224),0),"-") -> 9 | B54: =IFERROR(IF($C$13="-","",IF(E54="-","(-)","("&VLOOKUP(C54,'前年順位整理（自動更新）'!$B$3:$CN$486,MATCH('前年順位整理（自動更新）'!$D$1,'前年順位整理（自動更新）'!$B$3:$CN$3,0),)&")")),"(-)") -> (9) | C54: =IFERROR(_xlfn.XLOOKUP('計算用シート（当年）'!$C$1,'計算用シート（当年）'!$D$4:$AG$4,'計算用シート（当年）'!$D159:$AG159),"-") -> 岩見沢市 | D54: =IFERROR(_xlfn.XLOOKUP(C54,市町村振興局拠点対応版!$D$6:$D$184,市町村振興局拠点対応版!$E$6:$E$184),"-") -> 空知 | E54: =IFERROR(_xlfn.XLOOKUP('計算用シート（当年）'!$C$1,'計算用シート（当年）'!$D$4:$AG$4,'計算用シート（当年）'!$D338:$AG338),"-") -> 19700
A55: =IFERROR(RANK(E55,($E$46:$E$224),0),"-") -> 10 | B55: =IFERROR(IF($C$13="-","",IF(E55="-","(-)","("&VLOOKUP(C55,'前年順位整理（自動更新）'!$B$3:$CN$486,MATCH('前年順位整理（自動更新）'!$D$1,'前年順位整理（自動更新）'!$B$3:$CN$3,0),)&")")),"(-)") -> (10) | C55: =IFERROR(_xlfn.XLOOKUP('計算用シート（当年）'!$C$1,'計算用シート（当年）'!$D$4:$AG$4,'計算用シート（当年）'!$D160:$AG160),"-") -> 士別市 | D55: =IFERROR(_xlfn.XLOOKUP(C55,市町村振興局拠点対応版!$D$6:$D$184,市町村振興局拠点対応版!$E$6:$E$184),"-") -> 上川 | E55: =IFERROR(_xlfn.XLOOKUP('計算用シート（当年）'!$C$1,'計算用シート（当年）'!$D$4:$AG$4,'計算用シート（当年）'!$D339:$AG339),"-") -> 16500
A56: =IFERROR(RANK(E56,($E$46:$E$224),0),"-") -> 11 | B56: =IFERROR(IF($C$13="-","",IF(E56="-","(-)","("&VLOOKUP(C56,'前年順位整理（自動更新）'!$B$3:$CN$486,MATCH('前年順位整理（自動更新）'!$D$1,'前年順位整理（自動更新）'!$B$3:$CN$3,0),)&")")),"(-)") -> (11) | C56: =IFERROR(_xlfn.XLOOKUP('計算用シート（当年）'!$C$1,'計算用シート（当年）'!$D$4:$AG$4,'計算用シート（当年）'!$D161:$AG161),"-") -> 士幌町 | D56: =IFERROR(_xlfn.XLOOKUP(C56,市町村振興局拠点対応版!$D$6:$D$184,市町村振興局拠点対応版!$E$6:$E$184),"-") -> 十勝 | E56: =IFERROR(_xlfn.XLOOKUP('計算用シート（当年）'!$C$1,'計算用シート（当年）'!$D$4:$AG$4,'計算用シート（当年）'!$D340:$AG340),"-") -> 15900
A57: =IFERROR(RANK(E57,($E$46:$E$224),0),"-") -> 12 | B57: =IFERROR(IF($C$13="-","",IF(E57="-","(-)","("&VLOOKUP(C57,'前年順位整理（自動更新）'!$B$3:$CN$486,MATCH('前年順位整理（自動更新）'!$D$1,'前年順位整理（自動更新）'!$B$3:$CN$3,0),)&")")),"(-)") -> (12) | C57: =IFERROR(_xlfn.XLOOKUP('計算用シート（当年）'!$C$1,'計算用シート（当年）'!$D$4:$AG$4,'計算用シート（当年）'!$D162:$AG162),"-") -> 清水町 | D57: =IFERROR(_xlfn.XLOOKUP(C57,市町村振興局拠点対応版!$D$6:$D$184,市町村振興局拠点対応版!$E$6:$E$184),"-") -> 十勝 | E57: =IFERROR(_xlfn.XLOOKUP('計算用シート（当年）'!$C$1,'計算用シート（当年）'!$D$4:$AG$4,'計算用シート（当年）'!$D341:$AG341),"-") -> 14900
... A224: =IFERROR(RANK(E224,($E$46:$E$224),0),"-") -> 179 | B224: =IFERROR(IF($C$13="-","",IF(E224="-","(-)","("&VLOOKUP(C224,'前年順位整理（自動更新）'!$B$3:$CN$486,MATCH('前年順位整理（自動更新）'!$D$1,'前年順位整理（自動更新）'!$B$3:$CN$3,0),)&")")),"(-)") -> (179) | C224: =IFERROR(_xlfn.XLOOKUP('計算用シート（当年）'!$C$1,'計算用シート（当年）'!$D$4:$AG$4,'計算用シート（当年）'!$D329:$AG329),"-") -> 泊村 | D224: =IFERROR(_xlfn.XLOOKUP(C224,市町村振興局拠点対応版!$D$6:$D$184,市町村振興局拠点対応版!$E$6:$E$184),"-") -> 後志 | E224: =IFERROR(_xlfn.XLOOKUP('計算用シート（当年）'!$C$1,'計算用シート（当年）'!$D$4:$AG$4,'計算用シート（当年）'!$D508:$AG508),"-") -> 0

Sheet 計算用シート（当年）
B1: 表示データ→ | C1: =なんばんBOOK!C5&"_"&なんばんBOOK!D5 -> 耕地面積_計 | E1: グラフの種類（判定）→ | F1: ="グラフ_"&C1 -> グラフ_耕地面積_計 | I1: （判定_振興局）→ | J1: =IF(なんばんBOOK!$C$5="耕地面積","グラフ_耕地面積_振興局","グラフ_"&なんばんBOOK!$D$5&"_振興局") -> グラフ_耕地面積_振興局 | N1: 棒グラフ用→ | O1: =IF(なんばんBOOK!D5="10a当たり収量",_xlfn.XLOOKUP($C$1,$D$4:$AG$4,$D17:$AG17)) -> FALSE | P1: =IF(なんばんBOOK!D5="10a当たり収量",_xlfn.XLOOKUP($C$1,$D$4:$AG$4,$D16:$AG16)) -> FALSE | Q1: =IF(なんばんBOOK!D5="10a当たり収量",_xlfn.XLOOKUP($C$1,$D$4:$AG$4,$D15:$AG15)) -> FALSE | R1: =IF(なんばんBOOK!D5="10a当たり収量",_xlfn.XLOOKUP($C$1,$D$4:$AG$4,$D14:$AG14)) -> FALSE | S1: =IF(なんばんBOOK!D5="10a当たり収量",_xlfn.XLOOKUP($C$1,$D$4:$AG$4,$D13:$AG13)) -> FALSE | U1: てんさい_作付面積 | V1: =_xlfn.XLOOKUP($U$1,$D$4:$AG$4,$D122:$AG122) -> 十勝 | W1: =_xlfn.XLOOKUP($U$1,$D$4:$AG$4,$D123:$AG123) -> オホーツク | X1: =_xlfn.XLOOKUP($U$1,$D$4:$AG$4,$D124:$AG124) -> 上川 | Y1: その他 | AA1: てんさい_収穫量 | AB1: =_xlfn.XLOOKUP($AA$1,$D$4:$AG$4,$D122:$AG122) -> 十勝 | AC1: =_xlfn.XLOOKUP($AA$1,$D$4:$AG$4,$D123:$AG123) -> オホーツク | AD1: =_xlfn.XLOOKUP($AA$1,$D$4:$AG$4,$D124:$AG124) -> 上川 | AE1: その他
I2: （判定_市町村）→ | J2: =IF(なんばんBOOK!$C$5="耕地面積","グラフ_耕地面積_市町村","グラフ_"&なんばんBOOK!$D$5&"_市町村") -> グラフ_耕地面積_市町村 | O2: =IF(なんばんBOOK!D5="10a当たり収量",_xlfn.XLOOKUP($C$1,$D$4:$AG$4,$D121:$AG121)) -> FALSE | P2: =IF(なんばんBOOK!D5="10a当たり収量",_xlfn.XLOOKUP($C$1,$D$4:$AG$4,$D120:$AG120)) -> FALSE | Q2: =IF(なんばんBOOK!D5="10a当たり収量",_xlfn.XLOOKUP($C$1,$D$4:$AG$4,$D119:$AG119)) -> FALSE | R2: =IF(なんばんBOOK!D5="10a当たり収量",_xlfn.XLOOKUP($C$1,$D$4:$AG$4,$D118:$AG118)) -> FALSE | S2: =IF(なんばんBOOK!D5="10a当たり収量",_xlfn.XLOOKUP($C$1,$D$4:$AG$4,$D117:$AG117)) -> FALSE | U2: （円グラフ用）→ | V2: =V137/$V$136 -> 0.44171779 | W2: =V138/$V$136 -> 0.40695297 | X2: =V139/$V$136 -> 0.058895706 | Y2: =100%-V2-W2-X2 -> 0.092433538 | AA2: （円グラフ用）→ | AB2: =$W137/$W$136 -> 0.45509326 | AC2: =$W138/$W$136 -> 0.39971306 | AD2: =$W139/$W$136 -> 0.059971306 | AE2: =100%-AB2-AC2-AD2 -> 0.085222382
A3: 注1：色付きセルはベタ打ち | C3: 作成時メモ（課題等）→ | D3: 更新済み | E3: 更新済み | F3: 更新済み | G3: 更新済み | H3: 更新済み | I3: 更新済み | J3: 更新済み | K3: 更新済み | L3: 更新済み | M3: 更新済み | N3: 更新済み | O3: 更新済み | P3: 更新済み | Q3: 更新済み | R3: 更新済み | S3: 更新済み | T3: 更新済み | U3: 更新済み | V3: 更新済み | W3: 更新済み | X3: 更新済み | Y3: 更新済み | Z3: 更新済み | AA3: 更新済み | AB3: 更新済み | AC3: 更新済み | AD3: 更新済み | AE3: 更新済み | AF3: 更新済み | AG3: 更新済み | AH3: 【全体向けメモ】
A4: 注2：この色のセルは要更新 | D4: 耕地面積_計 | E4: 耕地面積_田 | F4: 耕地面積_畑 | G4: 水稲_作付面積 | H4: 水稲_収穫量 | I4: 水稲_10a当たり収量 | J4: 小麦_作付面積 | K4: 小麦_収穫量 | L4: 小麦_10a当たり収量 | M4: 秋まき小麦_作付面積 | N4: 秋まき小麦_収穫量 | O4: 秋まき小麦_10a当たり収量 | P4: 春まき小麦_作付面積 | Q4: 春まき小麦_収穫量 | R4: 春まき小麦_10a当たり収量 | S4: 大豆_作付面積 | T4: 大豆_収穫量 | U4: 大豆_10a当たり収量 | V4: てんさい_作付面積 | W4: てんさい_収穫量 | X4: てんさい_10a当たり収量 | Y4: そば_作付面積 | Z4: そば_収穫量 | AA4: そば_10a当たり収量 | AB4: ばれいしょ_作付面積 | AC4: ばれいしょ_収穫量 | AD4: ばれいしょ_10a当たり収量 | AE4: なたね_作付面積 | AF4: なたね_収穫量 | AG4: なたね_10a当たり収量
B5: データ年 ※手入力で更新 | D5: 令和６年 | E5: 令和６年 | F5: 令和６年 | G5: 令和６年産 | H5: 令和６年産 | I5: 令和６年産 | J5: 令和６年産 | K5: 令和６年産 | L5: 令和６年産 | M5: 令和６年産 | N5: 令和６年産 | O5: 令和６年産 | P5: 令和６年産 | Q5: 令和６年産 | R5: 令和６年産 | S5: 令和６年産 | T5: 令和６年産 | U5: 令和６年産 | V5: 令和６年産 | W5: 令和６年産 | X5: 令和６年産 | Y5: 令和６年産 | Z5: 令和６年産 | AA5: 令和６年産 | AB5: 令和５年産 | AC5: 令和５年産 | AD5: 令和５年産 | AE5: 令和６年産 | AF5: 令和６年産 | AG5: 令和６年産
D6: シェア | E6: シェア | F6: シェア | G6: シェア | H6: シェア | I6: 10a当たり収量 | J6: シェア | K6: シェア | L6: 収量 | M6: 面積 | N6: 収穫量 | O6: 10a当たり収量 | P6: 面積 | Q6: 収穫量 | R6: 10a当たり収量 | S6: シェア | T6: シェア | U6: 10a当たり収量 | V6: シェア | W6: シェア | X6: 10a当たり収量 | Y6: シェア | Z6: シェア | AA6: 10a当たり収量 | AB6: シェア | AC6: シェア | AD6: 10a当たり収量 | AE6: シェア | AF6: シェア | AG6: 10a当たり収量
D7: シェア | E7: シェア | F7: シェア | G7: シェア | H7: シェア | I7: 10a当たり収量 | J7: シェア | K7: シェア | L7: 収量 | M7: シェア | N7: シェア | O7: 10a当たり収量 | P7: シェア | Q7: シェア | R7: 10a当たり収量 | S7: シェア | T7: シェア | U7: 10a当たり収量 | V7: シェア | W7: シェア | X7: 10a当たり収量 | Y7: シェア | Z7: シェア | AA7: 10a当たり収量 | AB7: シェア | AC7: シェア | AD7: 10a当たり収量 | AE7: シェア | AF7: シェア | AG7: 10a当たり収量
D8: 面積 | E8: 面積 | F8: 面積 | G8: 面積 | H8: 収穫量 | I8: 10a当たり収量 | J8: 面積 | K8: 収穫量 | L8: 収量 | M8: 面積 | N8: 収穫量 | O8: 10a当たり収量 | P8: 面積 | Q8: 収穫量 | R8: 10a当たり収量 | S8: 面積 | T8: 収穫量 | U8: 10a当たり収量 | V8: 面積 | W8: 収穫量 | X8: 10a当たり収量 | Y8: 面積 | Z8: 収穫量 | AA8: 10a当たり収量 | AB8: 面積 | AC8: 収穫量 | AD8: 10a当たり収量 | AE8: 面積 | AF8: 収穫量 | AG8: 10a当たり収量
B9: 単位 | D9: % | E9: % | F9: % | G9: % | H9: % | I9: ㎏ | J9: % | K9: % | L9: ㎏ | M9: ha | N9: t | O9: ㎏ | P9: ha | Q9: t | R9: ㎏ | S9: % | T9: % | U9: ㎏ | V9: % | W9: % | X9: ㎏ | Y9: % | Z9: % | AA9: ㎏ | AB9: % | AC9: % | AD9: ㎏ | AE9: % | AF9: % | AG9: ㎏
D10: % | E10: % | F10: % | G10: % | H10: % | I10: ㎏ | J10: % | K10: % | L10: ㎏ | M10: % | N10: % | O10: ㎏ | P10: % | Q10: % | R10: ㎏ | S10: % | T10: % | U10: ㎏ | V10: % | W10: % | X10: ㎏ | Y10: % | Z10: % | AA10: ㎏ | AB10: % | AC10: % | AD10: ㎏ | AE10: % | AF10: % | AG10: ㎏
D11: ha | E11: ha | F11: ha | G11: ha | H11: t | I11: ㎏ | J11: ha | K11: t | L11: ㎏ | M11: ha | N11: t | O11: ㎏ | P11: ha | Q11: t | R11: ㎏ | S11: ha | T11: t | U11: ㎏ | V11: ha | W11: t | X11: ㎏ | Y11: ha | Z11: t | AA11: ㎏ | AB11: ha | AC11: t | AD11: ㎏ | AE11: ha | AF11: t | AG11: ㎏
B12: 全国トップ５等 | C12: タイトル | D12: 全国トップ５とシェア | E12: 全国トップ５とシェア | F12: 全国トップ５とシェア | G12: 全国トップ５とシェア | H12: 全国トップ５とシェア | I12: 全国トップ５ | J12: 全国トップ５とシェア | K12: 全国トップ５とシェア | L12: 全国トップ５ | M12: 北海道の作付面積の推移 | N12: 北海道の収穫量の推移 | O12: 北海道の10a当たり収量の推移 | P12: 北海道の作付面積の推移 | Q12: 北海道の収穫量の推移 | R12: 北海道の10a当たり収量の推移 | S12: 全国トップ５とシェア | T12: 全国トップ５とシェア | U12: 全国トップ５ | V12: 全国値と北海道値 | W12: 全国値と北海道値 | X12: 北海道の10a当たり収量の推移 | Y12: 全国トップ５とシェア | Z12: 全国トップ５とシェア | AA12: 全国ランキング上位と北海道 | AB12: 全国トップ５とシェア | AC12: 全国トップ５とシェア | AD12: 全国トップ５ | AE12: 全国トップ５とシェア | AF12: 全国トップ５とシェア | AG12: 全国トップ５
C13: 都道府県名 1 | D13: =IFERROR(INDEX('貼_耕地面積(全国・e-stat)'!$N$24:$N$70,MATCH('貼_耕地面積(全国・e-stat)'!M24,'貼_耕地面積(全国・e-stat)'!$P$24:$P$70,0)),"-") -> 北海道 | E13: =IFERROR(INDEX('貼_耕地面積(全国・e-stat)'!$N$24:$N$70,MATCH('貼_耕地面積(全国・e-stat)'!M24,'貼_耕地面積(全国・e-stat)'!$W$24:$W$70,0)),"-") -> 北海道 | F13: =IFERROR(INDEX('貼_耕地面積(全国・e-stat)'!$N$24:$N$70,MATCH('貼_耕地面積(全国・e-stat)'!M24,'貼_耕地面積(全国・e-stat)'!$AD$24:$AD$70,0)),"-") -> 北海道 | G13: =IFERROR(INDEX('貼_水稲(全国・e-stat)'!$Y$12:$Y$58,MATCH('貼_水稲(全国・e-stat)'!$X12,'貼_水稲(全国・e-stat)'!$AA$12:$AA$58,0)),"-") -> 新潟 | H13: =IFERROR(INDEX('貼_水稲(全国・e-stat)'!$Y$12:$Y$58,MATCH('貼_水稲(全国・e-stat)'!$X12,'貼_水稲(全国・e-stat)'!$AG$12:$AG$58,0)),"-") -> 新潟 | I13: =IFERROR(INDEX('貼_水稲(全国・e-stat)'!$Y$12:$Y$58,MATCH('貼_水稲(全国・e-stat)'!$X12,'貼_水稲(全国・e-stat)'!$AM$12:$AM$58,0)),"-") -> 青森 | J13: =IFERROR(INDEX('貼_小麦(全国・e-stat)'!$N$10:$N$56,MATCH('貼_小麦(全国・e-stat)'!$M10,'貼_小麦(全国・e-stat)'!P$10:P$56,0)),"-") -> 北海道 | K13: =IFERROR(INDEX('貼_小麦(全国・e-stat)'!$N$10:$N$56,MATCH('貼_小麦(全国・e-stat)'!$M10,'貼_小麦(全国・e-stat)'!V$10:V$56,0)),"-") -> 北海道 | L13: =IFERROR(INDEX('貼_小麦(全国・e-stat)'!$N$10:$N$56,MATCH('貼_小麦(全国・e-stat)'!$M10,'貼_小麦(全国・e-stat)'!AB$10:AB$56,0)),"-") -> 北海道 | M13: 令和2年産 | N13: 令和2年産 | O13: 令和2年産 | P13: 令和2年産 | Q13: 令和2年産 | R13: 令和2年産 | S13: =IFERROR(INDEX('貼_大豆(全国・e-stat)'!$N$9:$N$55,MATCH('貼_大豆(全国・e-stat)'!$M9,'貼_大豆(全国・e-stat)'!P$9:P$55,0)),"-") -> 北海道 | T13: =IFERROR(INDEX('貼_大豆(全国・e-stat)'!$N$9:$N$55,MATCH('貼_大豆(全国・e-stat)'!$M9,'貼_大豆(全国・e-stat)'!V$9:V$55,0)),"-") -> 北海道 | U13: =IFERROR(INDEX('貼_大豆(全国・e-stat)'!$N$9:$N$55,MATCH('貼_大豆(全国・e-stat)'!$M9,'貼_大豆(全国・e-stat)'!AB$9:AB$55,0)),"-") -> 北海道 | V13: ='貼_てんさい(全国・e-stat)'!A10 -> 北海道 | W13: ='貼_てんさい(全国・e-stat)'!A10 -> 北海道 | X13: 令和2年産 | Y13: =IFERROR(INDEX('貼_そば(全国・e-stat)'!$J$10:$J$56,MATCH('貼_そば(全国・e-stat)'!$I10,'貼_そば(全国・e-stat)'!L$10:L$56,0)),"-") -> 北海道 | Z13: =IFERROR(INDEX('貼_そば(全国・e-stat)'!$J$10:$J$56,MATCH('貼_そば(全国・e-stat)'!$I10,'貼_そば(全国・e-stat)'!R$10:R$56,0)),"-") -> 北海道 | AA13: =IFERROR(INDEX('貼_そば(全国・e-stat)'!$J$10:$J$56,MATCH('貼_そば(全国・e-stat)'!$I10,'貼_そば(全国・e-stat)'!X$10:X$56,0)),"-") -> 群馬 | AB13: =IFERROR(INDEX('貼_ばれいしょ(全国・e-stat)'!$N$15:$N$61,MATCH('貼_ばれいしょ(全国・e-stat)'!$M15,'貼_ばれいしょ(全国・e-stat)'!P$15:P$61,0)),"-") -> 北海道 | AC13: =IFERROR(INDEX('貼_ばれいしょ(全国・e-stat)'!$N$15:$N$61,MATCH('貼_ばれいしょ(全国・e-stat)'!$M15,'貼_ばれいしょ(全国・e-stat)'!V$15:V$61,0)),"-") -> 北海道 | AD13: =IFERROR(INDEX('貼_ばれいしょ(全国・e-stat)'!$N$15:$N$61,MATCH('貼_ばれいしょ(全国・e-stat)'!$M15,'貼_ばれいしょ(全国・e-stat)'!AB$15:AB$61,0)),"-") -> 北海道 | AE13: =IFERROR(INDEX('貼_なたね(全国・e-stat)'!$N$11:$N$57,MATCH('貼_なたね(全国・e-stat)'!$M11,'貼_なたね(全国・e-stat)'!P$11:P$57,0)),"-") -> 北海道 | AF13: =IFERROR(INDEX('貼_なたね(全国・e-stat)'!$N$11:$N$57,MATCH('貼_なたね(全国・e-stat)'!$M11,'貼_なたね(全国・e-stat)'!V$11:V$57,0)),"-") -> 北海道 | AG13: =IFERROR(INDEX('貼_なたね(全国・e-stat)'!$N$11:$N$57,MATCH('貼_なたね(全国・e-stat)'!$M11,'貼_なたね(全国・e-stat)'!AB$11:AB$57,0)),"-") -> 北海道
C14: 2 | D14: =IFERROR(INDEX('貼_耕地面積(全国・e-stat)'!$N$24:$N$70,MATCH('貼_耕地面積(全国・e-stat)'!M25,'貼_耕地面積(全国・e-stat)'!$P$24:$P$70,0)),"-") -> 新潟 | E14: =IFERROR(INDEX('貼_耕地面積(全国・e-stat)'!$N$24:$N$70,MATCH('貼_耕地面積(全国・e-stat)'!M25,'貼_耕地面積(全国・e-stat)'!$W$24:$W$70,0)),"-") -> 新潟 | F14: =IFERROR(INDEX('貼_耕地面積(全国・e-stat)'!$N$24:$N$70,MATCH('貼_耕地面積(全国・e-stat)'!M25,'貼_耕地面積(全国・e-stat)'!$AD$24:$AD$70,0)),"-") -> 鹿児島 | G14: =IFERROR(INDEX('貼_水稲(全国・e-stat)'!$Y$12:$Y$58,MATCH('貼_水稲(全国・e-stat)'!X13,'貼_水稲(全国・e-stat)'!$AA$12:$AA$58,0)),"-") -> 北海道 | H14: =IFERROR(INDEX('貼_水稲(全国・e-stat)'!$Y$12:$Y$58,MATCH('貼_水稲(全国・e-stat)'!$X13,'貼_水稲(全国・e-stat)'!$AG$12:$AG$58,0)),"-") -> 北海道 | I14: =IFERROR(INDEX('貼_水稲(全国・e-stat)'!$Y$12:$Y$58,MATCH('貼_水稲(全国・e-stat)'!$X13,'貼_水稲(全国・e-stat)'!$AM$12:$AM$58,0)),"-") -> 長野 | J14: =IFERROR(INDEX('貼_小麦(全国・e-stat)'!$N$10:$N$56,MATCH('貼_小麦(全国・e-stat)'!$M11,'貼_小麦(全国・e-stat)'!P$10:P$56,0)),"-") -> 福岡 | K14: =IFERROR(INDEX('貼_小麦(全国・e-stat)'!$N$10:$N$56,MATCH('貼_小麦(全国・e-stat)'!$M11,'貼_小麦(全国・e-stat)'!V$10:V$56,0)),"-") -> 福岡 | L14: =IFERROR(INDEX('貼_小麦(全国・e-stat)'!$N$10:$N$56,MATCH('貼_小麦(全国・e-stat)'!$M11,'貼_小麦(全国・e-stat)'!AB$10:AB$56,0)),"-") -> 愛知 | M14: 3 | N14: 3 | O14: 3 | P14: 3 | Q14: 3 | R14: 3 | S14: =IFERROR(INDEX('貼_大豆(全国・e-stat)'!$N$9:$N$55,MATCH('貼_大豆(全国・e-stat)'!$M10,'貼_大豆(全国・e-stat)'!P$9:P$55,0)),"-") -> 宮城 | T14: =IFERROR(INDEX('貼_大豆(全国・e-stat)'!$N$9:$N$55,MATCH('貼_大豆(全国・e-stat)'!$M10,'貼_大豆(全国・e-stat)'!V$9:V$55,0)),"-") -> 宮城 | U14: =IFERROR(INDEX('貼_大豆(全国・e-stat)'!$N$9:$N$55,MATCH('貼_大豆(全国・e-stat)'!$M10,'貼_大豆(全国・e-stat)'!AB$9:AB$55,0)),"-") -> 宮城 | V14: =NA() -> #N/A | W14: =NA() -> #N/A | X14: 3 | Y14: =IFERROR(INDEX('貼_そば(全国・e-stat)'!$J$10:$J$56,MATCH('貼_そば(全国・e-stat)'!$I11,'貼_そば(全国・e-stat)'!L$10:L$56,0)),"-") -> 山形 | Z14: =IFERROR(INDEX('貼_そば(全国・e-stat)'!$J$10:$J$56,MATCH('貼_そば(全国・e-stat)'!$I11,'貼_そば(全国・e-stat)'!R$10:R$56,0)),"-") -> 長野 | AA14: =IFERROR(INDEX('貼_そば(全国・e-stat)'!$J$10:$J$56,MATCH('貼_そば(全国・e-stat)'!$I11,'貼_そば(全国・e-stat)'!X$10:X$56,0)),"-") -> 千葉 | AB14: =IFERROR(INDEX('貼_ばれいしょ(全国・e-stat)'!$N$15:$N$61,MATCH('貼_ばれいしょ(全国・e-stat)'!$M16,'貼_ばれいしょ(全国・e-stat)'!P$15:P$61,0)),"-") -> 鹿児島 | AC14: =IFERROR(INDEX('貼_ばれいしょ(全国・e-stat)'!$N$15:$N$61,MATCH('貼_ばれいしょ(全国・e-stat)'!$M16,'貼_ばれいしょ(全国・e-stat)'!V$15:V$61,0)),"-") -> 長崎 | AD14: =IFERROR(INDEX('貼_ばれいしょ(全国・e-stat)'!$N$15:$N$61,MATCH('貼_ばれいしょ(全国・e-stat)'!$M16,'貼_ばれいしょ(全国・e-stat)'!AB$15:AB$61,0)),"-") -> 茨城 | AE14: =IFERROR(INDEX('貼_なたね(全国・e-stat)'!$N$11:$N$57,MATCH('貼_なたね(全国・e-stat)'!$M12,'貼_なたね(全国・e-stat)'!P$11:P$57,0)),"-") -> 福島 | AF14: =IFERROR(INDEX('貼_なたね(全国・e-stat)'!$N$11:$N$57,MATCH('貼_なたね(全国・e-stat)'!$M12,'貼_なたね(全国・e-stat)'!V$11:V$57,0)),"-") -> 青森 | AG14: =IFERROR(INDEX('貼_なたね(全国・e-stat)'!$N$11:$N$57,MATCH('貼_なたね(全国・e-stat)'!$M12,'貼_なたね(全国・e-stat)'!AB$11:AB$57,0)),"-") -> 青森
C15: 3 | D15: =IFERROR(INDEX('貼_耕地面積(全国・e-stat)'!$N$24:$N$70,MATCH('貼_耕地面積(全国・e-stat)'!M26,'貼_耕地面積(全国・e-stat)'!$P$24:$P$70,0)),"-") -> 茨城 | E15: =IFERROR(INDEX('貼_耕地面積(全国・e-stat)'!$N$24:$N$70,MATCH('貼_耕地面積(全国・e-stat)'!M26,'貼_耕地面積(全国・e-stat)'!$W$24:$W$70,0)),"-") -> 秋田 | F15: =IFERROR(INDEX('貼_耕地面積(全国・e-stat)'!$N$24:$N$70,MATCH('貼_耕地面積(全国・e-stat)'!M26,'貼_耕地面積(全国・e-stat)'!$AD$24:$AD$70,0)),"-") -> 青森 | G15: =IFERROR(INDEX('貼_水稲(全国・e-stat)'!$Y$12:$Y$58,MATCH('貼_水稲(全国・e-stat)'!X14,'貼_水稲(全国・e-stat)'!$AA$12:$AA$58,0)),"-") -> 秋田 | H15: =IFERROR(INDEX('貼_水稲(全国・e-stat)'!$Y$12:$Y$58,MATCH('貼_水稲(全国・e-stat)'!$X14,'貼_水稲(全国・e-stat)'!$AG$12:$AG$58,0)),"-") -> 秋田 | I15: =IFERROR(INDEX('貼_水稲(全国・e-stat)'!$Y$12:$Y$58,MATCH('貼_水稲(全国・e-stat)'!$X14,'貼_水稲(全国・e-stat)'!$AM$12:$AM$58,0)),"-") -> 北海道 | J15: =IFERROR(INDEX('貼_小麦(全国・e-stat)'!$N$10:$N$56,MATCH('貼_小麦(全国・e-stat)'!$M12,'貼_小麦(全国・e-stat)'!P$10:P$56,0)),"-") -> 佐賀 | K15: =IFERROR(INDEX('貼_小麦(全国・e-stat)'!$N$10:$N$56,MATCH('貼_小麦(全国・e-stat)'!$M12,'貼_小麦(全国・e-stat)'!V$10:V$56,0)),"-") -> 佐賀 | L15: =IFERROR(INDEX('貼_小麦(全国・e-stat)'!$N$10:$N$56,MATCH('貼_小麦(全国・e-stat)'!$M12,'貼_小麦(全国・e-stat)'!AB$10:AB$56,0)),"-") -> 宮城 | M15: 4 | N15: 4 | O15: 4 | P15: 4 | Q15: 4 | R15: 4 | S15: =IFERROR(INDEX('貼_大豆(全国・e-stat)'!$N$9:$N$55,MATCH('貼_大豆(全国・e-stat)'!$M11,'貼_大豆(全国・e-stat)'!P$9:P$55,0)),"-") -> 秋田 | T15: =IFERROR(INDEX('貼_大豆(全国・e-stat)'!$N$9:$N$55,MATCH('貼_大豆(全国・e-stat)'!$M11,'貼_大豆(全国・e-stat)'!V$9:V$55,0)),"-") -> 秋田 | U15: =IFERROR(INDEX('貼_大豆(全国・e-stat)'!$N$9:$N$55,MATCH('貼_大豆(全国・e-stat)'!$M11,'貼_大豆(全国・e-stat)'!AB$9:AB$55,0)),"-") -> 新潟 | V15: =NA() -> #N/A | W15: =NA() -> #N/A | X15: 4 | Y15: =IFERROR(INDEX('貼_そば(全国・e-stat)'!$J$10:$J$56,MATCH('貼_そば(全国・e-stat)'!$I12,'貼_そば(全国・e-stat)'!L$10:L$56,0)),"-") -> 秋田 | Z15: =IFERROR(INDEX('貼_そば(全国・e-stat)'!$J$10:$J$56,MATCH('貼_そば(全国・e-stat)'!$I12,'貼_そば(全国・e-stat)'!R$10:R$56,0)),"-") -> 茨城 | AA15: =IFERROR(INDEX('貼_そば(全国・e-stat)'!$J$10:$J$56,MATCH('貼_そば(全国・e-stat)'!$I12,'貼_そば(全国・e-stat)'!X$10:X$56,0)),"-") -> 大阪 | AB15: =IFERROR(INDEX('貼_ばれいしょ(全国・e-stat)'!$N$15:$N$61,MATCH('貼_ばれいしょ(全国・e-stat)'!$M17,'貼_ばれいしょ(全国・e-stat)'!P$15:P$61,0)),"-") -> 長崎 | AC15: =IFERROR(INDEX('貼_ばれいしょ(全国・e-stat)'!$N$15:$N$61,MATCH('貼_ばれいしょ(全国・e-stat)'!$M17,'貼_ばれいしょ(全国・e-stat)'!V$15:V$61,0)),"-") -> 鹿児島 | AD15: =IFERROR(INDEX('貼_ばれいしょ(全国・e-stat)'!$N$15:$N$61,MATCH('貼_ばれいしょ(全国・e-stat)'!$M17,'貼_ばれいしょ(全国・e-stat)'!AB$15:AB$61,0)),"-") -> 長崎 | AE15: =IFERROR(INDEX('貼_なたね(全国・e-stat)'!$N$11:$N$57,MATCH('貼_なたね(全国・e-stat)'!$M13,'貼_なたね(全国・e-stat)'!P$11:P$57,0)),"-") -> 青森 | AF15: =IFERROR(INDEX('貼_なたね(全国・e-stat)'!$N$11:$N$57,MATCH('貼_なたね(全国・e-stat)'!$M13,'貼_なたね(全国・e-stat)'!V$11:V$57,0)),"-") -> 福島 | AG15: =IFERROR(INDEX('貼_なたね(全国・e-stat)'!$N$11:$N$57,MATCH('貼_なたね(全国・e-stat)'!$M13,'貼_なたね(全国・e-stat)'!AB$11:AB$57,0)),"-") -> 茨城
C16: 4 | D16: =IFERROR(INDEX('貼_耕地面積(全国・e-stat)'!$N$24:$N$70,MATCH('貼_耕地面積(全国・e-stat)'!M27,'貼_耕地面積(全国・e-stat)'!$P$24:$P$70,0)),"-") -> 青森 | E16: =IFERROR(INDEX('貼_耕地面積(全国・e-stat)'!$N$24:$N$70,MATCH('貼_耕地面積(全国・e-stat)'!M27,'貼_耕地面積(全国・e-stat)'!$W$24:$W$70,0)),"-") -> 宮城 | F16: =IFERROR(INDEX('貼_耕地面積(全国・e-stat)'!$N$24:$N$70,MATCH('貼_耕地面積(全国・e-stat)'!M27,'貼_耕地面積(全国・e-stat)'!$AD$24:$AD$70,0)),"-") -> 茨城 | G16: =IFERROR(INDEX('貼_水稲(全国・e-stat)'!$Y$12:$Y$58,MATCH('貼_水稲(全国・e-stat)'!X15,'貼_水稲(全国・e-stat)'!$AA$12:$AA$58,0)),"-") -> 宮城 | H16: =IFERROR(INDEX('貼_水稲(全国・e-stat)'!$Y$12:$Y$58,MATCH('貼_水稲(全国・e-stat)'!$X15,'貼_水稲(全国・e-stat)'!$AG$12:$AG$58,0)),"-") -> 宮城 | I16: =IFERROR(INDEX('貼_水稲(全国・e-stat)'!$Y$12:$Y$58,MATCH('貼_水稲(全国・e-stat)'!$X15,'貼_水稲(全国・e-stat)'!$AM$12:$AM$58,0)),"-") -> 宮城 | J16: =IFERROR(INDEX('貼_小麦(全国・e-stat)'!$N$10:$N$56,MATCH('貼_小麦(全国・e-stat)'!$M13,'貼_小麦(全国・e-stat)'!P$10:P$56,0)),"-") -> 三重 | K16: =IFERROR(INDEX('貼_小麦(全国・e-stat)'!$N$10:$N$56,MATCH('貼_小麦(全国・e-stat)'!$M13,'貼_小麦(全国・e-stat)'!V$10:V$56,0)),"-") -> 愛知 | L16: =IFERROR(INDEX('貼_小麦(全国・e-stat)'!$N$10:$N$56,MATCH('貼_小麦(全国・e-stat)'!$M13,'貼_小麦(全国・e-stat)'!AB$10:AB$56,0)),"-") -> 群馬 | M16: 5 | N16: 5 | O16: 5 | P16: 5 | Q16: 5 | R16: 5 | S16: =IFERROR(INDEX('貼_大豆(全国・e-stat)'!$N$9:$N$55,MATCH('貼_大豆(全国・e-stat)'!$M12,'貼_大豆(全国・e-stat)'!P$9:P$55,0)),"-") -> 福岡 | T16: =IFERROR(INDEX('貼_大豆(全国・e-stat)'!$N$9:$N$55,MATCH('貼_大豆(全国・e-stat)'!$M12,'貼_大豆(全国・e-stat)'!V$9:V$55,0)),"-") -> 佐賀 | U16: =IFERROR(INDEX('貼_大豆(全国・e-stat)'!$N$9:$N$55,MATCH('貼_大豆(全国・e-stat)'!$M12,'貼_大豆(全国・e-stat)'!AB$9:AB$55,0)),"-") -> 千葉 | V16: =NA() -> #N/A | W16: =NA() -> #N/A | X16: 5 | Y16: =IFERROR(INDEX('貼_そば(全国・e-stat)'!$J$10:$J$56,MATCH('貼_そば(全国・e-stat)'!$I13,'貼_そば(全国・e-stat)'!L$10:L$56,0)),"-") -> 長野 | Z16: =IFERROR(INDEX('貼_そば(全国・e-stat)'!$J$10:$J$56,MATCH('貼_そば(全国・e-stat)'!$I13,'貼_そば(全国・e-stat)'!R$10:R$56,0)),"-") -> 福井 | AA16: =IFERROR(INDEX('貼_そば(全国・e-stat)'!$J$10:$J$56,MATCH('貼_そば(全国・e-stat)'!$I13,'貼_そば(全国・e-stat)'!X$10:X$56,0)),"-") -> 茨城 | AB16: =IFERROR(INDEX('貼_ばれいしょ(全国・e-stat)'!$N$15:$N$61,MATCH('貼_ばれいしょ(全国・e-stat)'!$M18,'貼_ばれいしょ(全国・e-stat)'!P$15:P$61,0)),"-") -> 茨城 | AC16: =IFERROR(INDEX('貼_ばれいしょ(全国・e-stat)'!$N$15:$N$61,MATCH('貼_ばれいしょ(全国・e-stat)'!$M18,'貼_ばれいしょ(全国・e-stat)'!V$15:V$61,0)),"-") -> 茨城 | AD16: =IFERROR(INDEX('貼_ばれいしょ(全国・e-stat)'!$N$15:$N$61,MATCH('貼_ばれいしょ(全国・e-stat)'!$M18,'貼_ばれいしょ(全国・e-stat)'!AB$15:AB$61,0)),"-") -> 千葉 | AE16: =IFERROR(INDEX('貼_なたね(全国・e-stat)'!$N$11:$N$57,MATCH('貼_なたね(全国・e-stat)'!$M14,'貼_なたね(全国・e-stat)'!P$11:P$57,0)),"-") -> 佐賀 | AF16: =IFERROR(INDEX('貼_なたね(全国・e-stat)'!$N$11:$N$57,MATCH('貼_なたね(全国・e-stat)'!$M14,'貼_なたね(全国・e-stat)'!V$11:V$57,0)),"-") -> 佐賀 | AG16: =IFERROR(INDEX('貼_なたね(全国・e-stat)'!$N$11:$N$57,MATCH('貼_なたね(全国・e-stat)'!$M14,'貼_なたね(全国・e-stat)'!AB$11:AB$57,0)),"-") -> 長野
C17: 5 | D17: =IFERROR(INDEX('貼_耕地面積(全国・e-stat)'!$N$24:$N$70,MATCH('貼_耕地面積(全国・e-stat)'!M28,'貼_耕地面積(全国・e-stat)'!$P$24:$P$70,0)),"-") -> 岩手 | E17: =IFERROR(INDEX('貼_耕地面積(全国・e-stat)'!$N$24:$N$70,MATCH('貼_耕地面積(全国・e-stat)'!M28,'貼_耕地面積(全国・e-stat)'!$W$24:$W$70,0)),"-") -> 福島 | F17: =IFERROR(INDEX('貼_耕地面積(全国・e-stat)'!$N$24:$N$70,MATCH('貼_耕地面積(全国・e-stat)'!M28,'貼_耕地面積(全国・e-stat)'!$AD$24:$AD$70,0)),"-") -> 岩手 | G17: =IFERROR(INDEX('貼_水稲(全国・e-stat)'!$Y$12:$Y$58,MATCH('貼_水稲(全国・e-stat)'!X16,'貼_水稲(全国・e-stat)'!$AA$12:$AA$58,0)),"-") -> 福島 | H17: =IFERROR(INDEX('貼_水稲(全国・e-stat)'!$Y$12:$Y$58,MATCH('貼_水稲(全国・e-stat)'!$X16,'貼_水稲(全国・e-stat)'!$AG$12:$AG$58,0)),"-") -> 福島 | I17: =IFERROR(INDEX('貼_水稲(全国・e-stat)'!$Y$12:$Y$58,MATCH('貼_水稲(全国・e-stat)'!$X16,'貼_水稲(全国・e-stat)'!$AM$12:$AM$58,0)),"-") -> 山形 | J17: =IFERROR(INDEX('貼_小麦(全国・e-stat)'!$N$10:$N$56,MATCH('貼_小麦(全国・e-stat)'!$M14,'貼_小麦(全国・e-stat)'!P$10:P$56,0)),"-") -> 滋賀 | K17: =IFERROR(INDEX('貼_小麦(全国・e-stat)'!$N$10:$N$56,MATCH('貼_小麦(全国・e-stat)'!$M14,'貼_小麦(全国・e-stat)'!V$10:V$56,0)),"-") -> 群馬 | L17: =IFERROR(INDEX('貼_小麦(全国・e-stat)'!$N$10:$N$56,MATCH('貼_小麦(全国・e-stat)'!$M14,'貼_小麦(全国・e-stat)'!AB$10:AB$56,0)),"-") -> 埼玉 | M17: 6 | N17: 6 | O17: 6 | P17: 6 | Q17: 6 | R17: 6 | S17: =IFERROR(INDEX('貼_大豆(全国・e-stat)'!$N$9:$N$55,MATCH('貼_大豆(全国・e-stat)'!$M13,'貼_大豆(全国・e-stat)'!P$9:P$55,0)),"-") -> 滋賀 | T17: =IFERROR(INDEX('貼_大豆(全国・e-stat)'!$N$9:$N$55,MATCH('貼_大豆(全国・e-stat)'!$M13,'貼_大豆(全国・e-stat)'!V$9:V$55,0)),"-") -> 福岡 | U17: =IFERROR(INDEX('貼_大豆(全国・e-stat)'!$N$9:$N$55,MATCH('貼_大豆(全国・e-stat)'!$M13,'貼_大豆(全国・e-stat)'!AB$9:AB$55,0)),"-") -> 長野 | V17: =NA() -> #N/A | W17: =NA() -> #N/A | X17: 6 | Y17: =IFERROR(INDEX('貼_そば(全国・e-stat)'!$J$10:$J$56,MATCH('貼_そば(全国・e-stat)'!$I14,'貼_そば(全国・e-stat)'!L$10:L$56,0)),"-") -> 福島 | Z17: =IFERROR(INDEX('貼_そば(全国・e-stat)'!$J$10:$J$56,MATCH('貼_そば(全国・e-stat)'!$I14,'貼_そば(全国・e-stat)'!R$10:R$56,0)),"-") -> 山形 | AA17: =IFERROR(INDEX('貼_そば(全国・e-stat)'!$J$10:$J$56,MATCH('貼_そば(全国・e-stat)'!$I14,'貼_そば(全国・e-stat)'!X$10:X$56,0)),"-") -> 長崎 | AB17: =IFERROR(INDEX('貼_ばれいしょ(全国・e-stat)'!$N$15:$N$61,MATCH('貼_ばれいしょ(全国・e-stat)'!$M19,'貼_ばれいしょ(全国・e-stat)'!P$15:P$61,0)),"-") -> 千葉 | AC17: =IFERROR(INDEX('貼_ばれいしょ(全国・e-stat)'!$N$15:$N$61,MATCH('貼_ばれいしょ(全国・e-stat)'!$M19,'貼_ばれいしょ(全国・e-stat)'!V$15:V$61,0)),"-") -> 千葉 | AD17: =IFERROR(INDEX('貼_ばれいしょ(全国・e-stat)'!$N$15:$N$61,MATCH('貼_ばれいしょ(全国・e-stat)'!$M19,'貼_ばれいしょ(全国・e-stat)'!AB$15:AB$61,0)),"-") -> 熊本 | AE17: =IFERROR(INDEX('貼_なたね(全国・e-stat)'!$N$11:$N$57,MATCH('貼_なたね(全国・e-stat)'!$M15,'貼_なたね(全国・e-stat)'!P$11:P$57,0)),"-") -> 滋賀 | AF17: =IFERROR(INDEX('貼_なたね(全国・e-stat)'!$N$11:$N$57,MATCH('貼_なたね(全国・e-stat)'!$M15,'貼_なたね(全国・e-stat)'!V$11:V$57,0)),"-") -> 愛知 | AG17: =IFERROR(INDEX('貼_なたね(全国・e-stat)'!$N$11:$N$57,MATCH('貼_なたね(全国・e-stat)'!$M15,'貼_なたね(全国・e-stat)'!AB$11:AB$57,0)),"-") -> 福岡
D18: =IFERROR(INDEX('貼_耕地面積(全国・e-stat)'!$N$24:$N$70,MATCH('貼_耕地面積(全国・e-stat)'!M29,'貼_耕地面積(全国・e-stat)'!$P$24:$P$70,0)),"-") -> 秋田 | E18: =IFERROR(INDEX('貼_耕地面積(全国・e-stat)'!$N$24:$N$70,MATCH('貼_耕地面積(全国・e-stat)'!M29,'貼_耕地面積(全国・e-stat)'!$W$24:$W$70,0)),"-") -> 茨城 | F18: =IFERROR(INDEX('貼_耕地面積(全国・e-stat)'!$N$24:$N$70,MATCH('貼_耕地面積(全国・e-stat)'!M29,'貼_耕地面積(全国・e-stat)'!$AD$24:$AD$70,0)),"-") -> 長野 | G18: =IFERROR(INDEX('貼_水稲(全国・e-stat)'!$Y$12:$Y$58,MATCH('貼_水稲(全国・e-stat)'!X17,'貼_水稲(全国・e-stat)'!$AA$12:$AA$58,0)),"-") -> 茨城 | H18: =IFERROR(INDEX('貼_水稲(全国・e-stat)'!$Y$12:$Y$58,MATCH('貼_水稲(全国・e-stat)'!$X17,'貼_水稲(全国・e-stat)'!$AG$12:$AG$58,0)),"-") -> 山形 | I18: =IFERROR(INDEX('貼_水稲(全国・e-stat)'!$Y$12:$Y$58,MATCH('貼_水稲(全国・e-stat)'!$X17,'貼_水稲(全国・e-stat)'!$AM$12:$AM$58,0)),"-") -> 秋田 | J18: =IFERROR(INDEX('貼_小麦(全国・e-stat)'!$N$10:$N$56,MATCH('貼_小麦(全国・e-stat)'!$M15,'貼_小麦(全国・e-stat)'!P$10:P$56,0)),"-") -> 愛知 | K18: =IFERROR(INDEX('貼_小麦(全国・e-stat)'!$N$10:$N$56,MATCH('貼_小麦(全国・e-stat)'!$M15,'貼_小麦(全国・e-stat)'!V$10:V$56,0)),"-") -> 埼玉 | L18: =IFERROR(INDEX('貼_小麦(全国・e-stat)'!$N$10:$N$56,MATCH('貼_小麦(全国・e-stat)'!$M15,'貼_小麦(全国・e-stat)'!AB$10:AB$56,0)),"-") -> 愛媛 | S18: =IFERROR(INDEX('貼_大豆(全国・e-stat)'!$N$9:$N$55,MATCH('貼_大豆(全国・e-stat)'!$M14,'貼_大豆(全国・e-stat)'!P$9:P$55,0)),"-") -> 佐賀 | T18: =IFERROR(INDEX('貼_大豆(全国・e-stat)'!$N$9:$N$55,MATCH('貼_大豆(全国・e-stat)'!$M14,'貼_大豆(全国・e-stat)'!V$9:V$55,0)),"-") -> 青森 | U18: =IFERROR(INDEX('貼_大豆(全国・e-stat)'!$N$9:$N$55,MATCH('貼_大豆(全国・e-stat)'!$M14,'貼_大豆(全国・e-stat)'!AB$9:AB$55,0)),"-") -> 青森 | Y18: =IFERROR(INDEX('貼_そば(全国・e-stat)'!$J$10:$J$56,MATCH('貼_そば(全国・e-stat)'!$I15,'貼_そば(全国・e-stat)'!L$10:L$56,0)),"-") -> 福井 | Z18: =IFERROR(INDEX('貼_そば(全国・e-stat)'!$J$10:$J$56,MATCH('貼_そば(全国・e-stat)'!$I15,'貼_そば(全国・e-stat)'!R$10:R$56,0)),"-") -> 福島 | AA18: =IFERROR(INDEX('貼_そば(全国・e-stat)'!$J$10:$J$56,MATCH('貼_そば(全国・e-stat)'!$I15,'貼_そば(全国・e-stat)'!X$10:X$56,0)),"-") -> 北海道 | AB18: =IFERROR(INDEX('貼_ばれいしょ(全国・e-stat)'!$N$15:$N$61,MATCH('貼_ばれいしょ(全国・e-stat)'!$M20,'貼_ばれいしょ(全国・e-stat)'!P$15:P$61,0)),"-") -> 福島 | AC18: =IFERROR(INDEX('貼_ばれいしょ(全国・e-stat)'!$N$15:$N$61,MATCH('貼_ばれいしょ(全国・e-stat)'!$M20,'貼_ばれいしょ(全国・e-stat)'!V$15:V$61,0)),"-") -> 熊本 | AD18: =IFERROR(INDEX('貼_ばれいしょ(全国・e-stat)'!$N$15:$N$61,MATCH('貼_ばれいしょ(全国・e-stat)'!$M20,'貼_ばれいしょ(全国・e-stat)'!AB$15:AB$61,0)),"-") -> 静岡 | AE18: =IFERROR(INDEX('貼_なたね(全国・e-stat)'!$N$11:$N$57,MATCH('貼_なたね(全国・e-stat)'!$M16,'貼_なたね(全国・e-stat)'!P$11:P$57,0)),"-") -> 熊本 | AF18: =IFERROR(INDEX('貼_なたね(全国・e-stat)'!$N$11:$N$57,MATCH('貼_なたね(全国・e-stat)'!$M16,'貼_なたね(全国・e-stat)'!V$11:V$57,0)),"-") -> 福岡 | AG18: =IFERROR(INDEX('貼_なたね(全国・e-stat)'!$N$11:$N$57,MATCH('貼_なたね(全国・e-stat)'!$M16,'貼_なたね(全国・e-stat)'!AB$11:AB$57,0)),"-") -> 群馬
D19: =IFERROR(INDEX('貼_耕地面積(全国・e-stat)'!$N$24:$N$70,MATCH('貼_耕地面積(全国・e-stat)'!M30,'貼_耕地面積(全国・e-stat)'!$P$24:$P$70,0)),"-") -> 福島 | E19: =IFERROR(INDEX('貼_耕地面積(全国・e-stat)'!$N$24:$N$70,MATCH('貼_耕地面積(全国・e-stat)'!M30,'貼_耕地面積(全国・e-stat)'!$W$24:$W$70,0)),"-") -> 栃木 | F19: =IFERROR(INDEX('貼_耕地面積(全国・e-stat)'!$N$24:$N$70,MATCH('貼_耕地面積(全国・e-stat)'!M30,'貼_耕地面積(全国・e-stat)'!$AD$24:$AD$70,0)),"-") -> 千葉 | G19: =IFERROR(INDEX('貼_水稲(全国・e-stat)'!$Y$12:$Y$58,MATCH('貼_水稲(全国・e-stat)'!X18,'貼_水稲(全国・e-stat)'!$AA$12:$AA$58,0)),"-") -> 山形 | H19: =IFERROR(INDEX('貼_水稲(全国・e-stat)'!$Y$12:$Y$58,MATCH('貼_水稲(全国・e-stat)'!$X18,'貼_水稲(全国・e-stat)'!$AG$12:$AG$58,0)),"-") -> 茨城 | I19: =IFERROR(INDEX('貼_水稲(全国・e-stat)'!$Y$12:$Y$58,MATCH('貼_水稲(全国・e-stat)'!$X18,'貼_水稲(全国・e-stat)'!$AM$12:$AM$58,0)),"-") -> 岩手 | J19: =IFERROR(INDEX('貼_小麦(全国・e-stat)'!$N$10:$N$56,MATCH('貼_小麦(全国・e-stat)'!$M16,'貼_小麦(全国・e-stat)'!P$10:P$56,0)),"-") -> 埼玉 | K19: =IFERROR(INDEX('貼_小麦(全国・e-stat)'!$N$10:$N$56,MATCH('貼_小麦(全国・e-stat)'!$M16,'貼_小麦(全国・e-stat)'!V$10:V$56,0)),"-") -> 滋賀 | L19: =IFERROR(INDEX('貼_小麦(全国・e-stat)'!$N$10:$N$56,MATCH('貼_小麦(全国・e-stat)'!$M16,'貼_小麦(全国・e-stat)'!AB$10:AB$56,0)),"-") -> 栃木 | S19: =IFERROR(INDEX('貼_大豆(全国・e-stat)'!$N$9:$N$55,MATCH('貼_大豆(全国・e-stat)'!$M15,'貼_大豆(全国・e-stat)'!P$9:P$55,0)),"-") -> 青森 | T19: =IFERROR(INDEX('貼_大豆(全国・e-stat)'!$N$9:$N$55,MATCH('貼_大豆(全国・e-stat)'!$M15,'貼_大豆(全国・e-stat)'!V$9:V$55,0)),"-") -> 新潟 | U19: =IFERROR(INDEX('貼_大豆(全国・e-stat)'!$N$9:$N$55,MATCH('貼_大豆(全国・e-stat)'!$M15,'貼_大豆(全国・e-stat)'!AB$9:AB$55,0)),"-") -> 山形 | Y19: =IFERROR(INDEX('貼_そば(全国・e-stat)'!$J$10:$J$56,MATCH('貼_そば(全国・e-stat)'!$I16,'貼_そば(全国・e-stat)'!L$10:L$56,0)),"-") -> 茨城 | Z19: =IFERROR(INDEX('貼_そば(全国・e-stat)'!$J$10:$J$56,MATCH('貼_そば(全国・e-stat)'!$I16,'貼_そば(全国・e-stat)'!R$10:R$56,0)),"-") -> 秋田 | AA19: =IFERROR(INDEX('貼_そば(全国・e-stat)'!$J$10:$J$56,MATCH('貼_そば(全国・e-stat)'!$I16,'貼_そば(全国・e-stat)'!X$10:X$56,0)),"-") -> 福井 | AB19: =IFERROR(INDEX('貼_ばれいしょ(全国・e-stat)'!$N$15:$N$61,MATCH('貼_ばれいしょ(全国・e-stat)'!$M21,'貼_ばれいしょ(全国・e-stat)'!P$15:P$61,0)),"-") -> 長野 | AC19: =IFERROR(INDEX('貼_ばれいしょ(全国・e-stat)'!$N$15:$N$61,MATCH('貼_ばれいしょ(全国・e-stat)'!$M21,'貼_ばれいしょ(全国・e-stat)'!V$15:V$61,0)),"-") -> 福島 | AD19: =IFERROR(INDEX('貼_ばれいしょ(全国・e-stat)'!$N$15:$N$61,MATCH('貼_ばれいしょ(全国・e-stat)'!$M21,'貼_ばれいしょ(全国・e-stat)'!AB$15:AB$61,0)),"-") -> 青森 | AE19: =IFERROR(INDEX('貼_なたね(全国・e-stat)'!$N$11:$N$57,MATCH('貼_なたね(全国・e-stat)'!$M17,'貼_なたね(全国・e-stat)'!P$11:P$57,0)),"-") -> 愛知 | AF19: =IFERROR(INDEX('貼_なたね(全国・e-stat)'!$N$11:$N$57,MATCH('貼_なたね(全国・e-stat)'!$M17,'貼_なたね(全国・e-stat)'!V$11:V$57,0)),"-") -> 滋賀 | AG19: =IFERROR(INDEX('貼_なたね(全国・e-stat)'!$N$11:$N$57,MATCH('貼_なたね(全国・e-stat)'!$M17,'貼_なたね(全国・e-stat)'!AB$11:AB$57,0)),"-") -> 愛知
D20: =IFERROR(INDEX('貼_耕地面積(全国・e-stat)'!$N$24:$N$70,MATCH('貼_耕地面積(全国・e-stat)'!M31,'貼_耕地面積(全国・e-stat)'!$P$24:$P$70,0)),"-") -> 宮城 | E20: =IFERROR(INDEX('貼_耕地面積(全国・e-stat)'!$N$24:$N$70,MATCH('貼_耕地面積(全国・e-stat)'!M31,'貼_耕地面積(全国・e-stat)'!$W$24:$W$70,0)),"-") -> 岩手 | F20: =IFERROR(INDEX('貼_耕地面積(全国・e-stat)'!$N$24:$N$70,MATCH('貼_耕地面積(全国・e-stat)'!M31,'貼_耕地面積(全国・e-stat)'!$AD$24:$AD$70,0)),"-") -> 群馬 | G20: =IFERROR(INDEX('貼_水稲(全国・e-stat)'!$Y$12:$Y$58,MATCH('貼_水稲(全国・e-stat)'!X19,'貼_水稲(全国・e-stat)'!$AA$12:$AA$58,0)),"-") -> 栃木 | H20: =IFERROR(INDEX('貼_水稲(全国・e-stat)'!$Y$12:$Y$58,MATCH('貼_水稲(全国・e-stat)'!$X19,'貼_水稲(全国・e-stat)'!$AG$12:$AG$58,0)),"-") -> 千葉 | I20: =IFERROR(INDEX('貼_水稲(全国・e-stat)'!$Y$12:$Y$58,MATCH('貼_水稲(全国・e-stat)'!$X19,'貼_水稲(全国・e-stat)'!$AM$12:$AM$58,0)),"-") -> 福島 | J20: =IFERROR(INDEX('貼_小麦(全国・e-stat)'!$N$10:$N$56,MATCH('貼_小麦(全国・e-stat)'!$M17,'貼_小麦(全国・e-stat)'!P$10:P$56,0)),"-") -> 熊本 | K20: =IFERROR(INDEX('貼_小麦(全国・e-stat)'!$N$10:$N$56,MATCH('貼_小麦(全国・e-stat)'!$M17,'貼_小麦(全国・e-stat)'!V$10:V$56,0)),"-") -> 三重 | L20: =IFERROR(INDEX('貼_小麦(全国・e-stat)'!$N$10:$N$56,MATCH('貼_小麦(全国・e-stat)'!$M17,'貼_小麦(全国・e-stat)'!AB$10:AB$56,0)),"-") -> 岡山 | S20: =IFERROR(INDEX('貼_大豆(全国・e-stat)'!$N$9:$N$55,MATCH('貼_大豆(全国・e-stat)'!$M16,'貼_大豆(全国・e-stat)'!P$9:P$55,0)),"-") -> 山形 | T20: =IFERROR(INDEX('貼_大豆(全国・e-stat)'!$N$9:$N$55,MATCH('貼_大豆(全国・e-stat)'!$M16,'貼_大豆(全国・e-stat)'!V$9:V$55,0)),"-") -> 山形 | U20: =IFERROR(INDEX('貼_大豆(全国・e-stat)'!$N$9:$N$55,MATCH('貼_大豆(全国・e-stat)'!$M16,'貼_大豆(全国・e-stat)'!AB$9:AB$55,0)),"-") -> 栃木 | Y20: =IFERROR(INDEX('貼_そば(全国・e-stat)'!$J$10:$J$56,MATCH('貼_そば(全国・e-stat)'!$I17,'貼_そば(全国・e-stat)'!L$10:L$56,0)),"-") -> 栃木 | Z20: =IFERROR(INDEX('貼_そば(全国・e-stat)'!$J$10:$J$56,MATCH('貼_そば(全国・e-stat)'!$I17,'貼_そば(全国・e-stat)'!R$10:R$56,0)),"-") -> 栃木 | AA20: =IFERROR(INDEX('貼_そば(全国・e-stat)'!$J$10:$J$56,MATCH('貼_そば(全国・e-stat)'!$I17,'貼_そば(全国・e-stat)'!X$10:X$56,0)),"-") -> 埼玉 | AB20: =IFERROR(INDEX('貼_ばれいしょ(全国・e-stat)'!$N$15:$N$61,MATCH('貼_ばれいしょ(全国・e-stat)'!$M22,'貼_ばれいしょ(全国・e-stat)'!P$15:P$61,0)),"-") -> 熊本 | AC20: =IFERROR(INDEX('貼_ばれいしょ(全国・e-stat)'!$N$15:$N$61,MATCH('貼_ばれいしょ(全国・e-stat)'!$M22,'貼_ばれいしょ(全国・e-stat)'!V$15:V$61,0)),"-") -> 青森 | AD20: =IFERROR(INDEX('貼_ばれいしょ(全国・e-stat)'!$N$15:$N$61,MATCH('貼_ばれいしょ(全国・e-stat)'!$M22,'貼_ばれいしょ(全国・e-stat)'!AB$15:AB$61,0)),"-") -> 宮崎 | AE20: =IFERROR(INDEX('貼_なたね(全国・e-stat)'!$N$11:$N$57,MATCH('貼_なたね(全国・e-stat)'!$M18,'貼_なたね(全国・e-stat)'!P$11:P$57,0)),"-") -> 岩手 | AF20: =IFERROR(INDEX('貼_なたね(全国・e-stat)'!$N$11:$N$57,MATCH('貼_なたね(全国・e-stat)'!$M18,'貼_なたね(全国・e-stat)'!V$11:V$57,0)),"-") -> 熊本 | AG20: =IFERROR(INDEX('貼_なたね(全国・e-stat)'!$N$11:$N$57,MATCH('貼_なたね(全国・e-stat)'!$M18,'貼_なたね(全国・e-stat)'!AB$11:AB$57,0)),"-") -> 三重
D21: =IFERROR(INDEX('貼_耕地面積(全国・e-stat)'!$N$24:$N$70,MATCH('貼_耕地面積(全国・e-stat)'!M32,'貼_耕地面積(全国・e-stat)'!$P$24:$P$70,0)),"-") -> 栃木 | E21: =IFERROR(INDEX('貼_耕地面積(全国・e-stat)'!$N$24:$N$70,MATCH('貼_耕地面積(全国・e-stat)'!M32,'貼_耕地面積(全国・e-stat)'!$W$24:$W$70,0)),"-") -> 山形 | F21: =IFERROR(INDEX('貼_耕地面積(全国・e-stat)'!$N$24:$N$70,MATCH('貼_耕地面積(全国・e-stat)'!M32,'貼_耕地面積(全国・e-stat)'!$AD$24:$AD$70,0)),"-") -> 熊本 | G21: =IFERROR(INDEX('貼_水稲(全国・e-stat)'!$Y$12:$Y$58,MATCH('貼_水稲(全国・e-stat)'!X20,'貼_水稲(全国・e-stat)'!$AA$12:$AA$58,0)),"-") -> 千葉 | H21: =IFERROR(INDEX('貼_水稲(全国・e-stat)'!$Y$12:$Y$58,MATCH('貼_水稲(全国・e-stat)'!$X20,'貼_水稲(全国・e-stat)'!$AG$12:$AG$58,0)),"-") -> 栃木 | I21: =IFERROR(INDEX('貼_水稲(全国・e-stat)'!$Y$12:$Y$58,MATCH('貼_水稲(全国・e-stat)'!$X20,'貼_水稲(全国・e-stat)'!$AM$12:$AM$58,0)),"-") -> 千葉 | J21: =IFERROR(INDEX('貼_小麦(全国・e-stat)'!$N$10:$N$56,MATCH('貼_小麦(全国・e-stat)'!$M18,'貼_小麦(全国・e-stat)'!P$10:P$56,0)),"-") -> 群馬 | K21: =IFERROR(INDEX('貼_小麦(全国・e-stat)'!$N$10:$N$56,MATCH('貼_小麦(全国・e-stat)'!$M18,'貼_小麦(全国・e-stat)'!V$10:V$56,0)),"-") -> 茨城 | L21: =IFERROR(INDEX('貼_小麦(全国・e-stat)'!$N$10:$N$56,MATCH('貼_小麦(全国・e-stat)'!$M18,'貼_小麦(全国・e-stat)'!AB$10:AB$56,0)),"-") -> 秋田 | S21: =IFERROR(INDEX('貼_大豆(全国・e-stat)'!$N$9:$N$55,MATCH('貼_大豆(全国・e-stat)'!$M17,'貼_大豆(全国・e-stat)'!P$9:P$55,0)),"-") -> 岩手 | T21: =IFERROR(INDEX('貼_大豆(全国・e-stat)'!$N$9:$N$55,MATCH('貼_大豆(全国・e-stat)'!$M17,'貼_大豆(全国・e-stat)'!V$9:V$55,0)),"-") -> 岩手 | U21: =IFERROR(INDEX('貼_大豆(全国・e-stat)'!$N$9:$N$55,MATCH('貼_大豆(全国・e-stat)'!$M17,'貼_大豆(全国・e-stat)'!AB$9:AB$55,0)),"-") -> 佐賀 | Y21: =IFERROR(INDEX('貼_そば(全国・e-stat)'!$J$10:$J$56,MATCH('貼_そば(全国・e-stat)'!$I18,'貼_そば(全国・e-stat)'!L$10:L$56,0)),"-") -> 青森 | Z21: =IFERROR(INDEX('貼_そば(全国・e-stat)'!$J$10:$J$56,MATCH('貼_そば(全国・e-stat)'!$I18,'貼_そば(全国・e-stat)'!R$10:R$56,0)),"-") -> 岩手 | AA21: =IFERROR(INDEX('貼_そば(全国・e-stat)'!$J$10:$J$56,MATCH('貼_そば(全国・e-stat)'!$I18,'貼_そば(全国・e-stat)'!X$10:X$56,0)),"-") -> 滋賀 | AB21: =IFERROR(INDEX('貼_ばれいしょ(全国・e-stat)'!$N$15:$N$61,MATCH('貼_ばれいしょ(全国・e-stat)'!$M23,'貼_ばれいしょ(全国・e-stat)'!P$15:P$61,0)),"-") -> 青森 | AC21: =IFERROR(INDEX('貼_ばれいしょ(全国・e-stat)'!$N$15:$N$61,MATCH('貼_ばれいしょ(全国・e-stat)'!$M23,'貼_ばれいしょ(全国・e-stat)'!V$15:V$61,0)),"-") -> 長野 | AD21: =IFERROR(INDEX('貼_ばれいしょ(全国・e-stat)'!$N$15:$N$61,MATCH('貼_ばれいしょ(全国・e-stat)'!$M23,'貼_ばれいしょ(全国・e-stat)'!AB$15:AB$61,0)),"-") -> 佐賀 | AE21: =IFERROR(INDEX('貼_なたね(全国・e-stat)'!$N$11:$N$57,MATCH('貼_なたね(全国・e-stat)'!$M19,'貼_なたね(全国・e-stat)'!P$11:P$57,0)),"-") -> 三重 | AF21: =IFERROR(INDEX('貼_なたね(全国・e-stat)'!$N$11:$N$57,MATCH('貼_なたね(全国・e-stat)'!$M19,'貼_なたね(全国・e-stat)'!V$11:V$57,0)),"-") -> 岩手 | AG21: =IFERROR(INDEX('貼_なたね(全国・e-stat)'!$N$11:$N$57,MATCH('貼_なたね(全国・e-stat)'!$M19,'貼_なたね(全国・e-stat)'!AB$11:AB$57,0)),"-") -> 佐賀
D22: =IFERROR(INDEX('貼_耕地面積(全国・e-stat)'!$N$24:$N$70,MATCH('貼_耕地面積(全国・e-stat)'!M33,'貼_耕地面積(全国・e-stat)'!$P$24:$P$70,0)),"-") -> 千葉 | E22: =IFERROR(INDEX('貼_耕地面積(全国・e-stat)'!$N$24:$N$70,MATCH('貼_耕地面積(全国・e-stat)'!M33,'貼_耕地面積(全国・e-stat)'!$W$24:$W$70,0)),"-") -> 青森 | F22: =IFERROR(INDEX('貼_耕地面積(全国・e-stat)'!$N$24:$N$70,MATCH('貼_耕地面積(全国・e-stat)'!M33,'貼_耕地面積(全国・e-stat)'!$AD$24:$AD$70,0)),"-") -> 福島 | G22: =IFERROR(INDEX('貼_水稲(全国・e-stat)'!$Y$12:$Y$58,MATCH('貼_水稲(全国・e-stat)'!X21,'貼_水稲(全国・e-stat)'!$AA$12:$AA$58,0)),"-") -> 岩手 | H22: =IFERROR(INDEX('貼_水稲(全国・e-stat)'!$Y$12:$Y$58,MATCH('貼_水稲(全国・e-stat)'!$X21,'貼_水稲(全国・e-stat)'!$AG$12:$AG$58,0)),"-") -> 青森 | I22: =IFERROR(INDEX('貼_水稲(全国・e-stat)'!$Y$12:$Y$58,MATCH('貼_水稲(全国・e-stat)'!$X21,'貼_水稲(全国・e-stat)'!$AM$12:$AM$58,0)),"-") -> 茨城 | J22: =IFERROR(INDEX('貼_小麦(全国・e-stat)'!$N$10:$N$56,MATCH('貼_小麦(全国・e-stat)'!$M19,'貼_小麦(全国・e-stat)'!P$10:P$56,0)),"-") -> 茨城 | K22: =IFERROR(INDEX('貼_小麦(全国・e-stat)'!$N$10:$N$56,MATCH('貼_小麦(全国・e-stat)'!$M19,'貼_小麦(全国・e-stat)'!V$10:V$56,0)),"-") -> 熊本 | L22: =IFERROR(INDEX('貼_小麦(全国・e-stat)'!$N$10:$N$56,MATCH('貼_小麦(全国・e-stat)'!$M19,'貼_小麦(全国・e-stat)'!AB$10:AB$56,0)),"-") -> 長野 | S22: =IFERROR(INDEX('貼_大豆(全国・e-stat)'!$N$9:$N$55,MATCH('貼_大豆(全国・e-stat)'!$M18,'貼_大豆(全国・e-stat)'!P$9:P$55,0)),"-") -> 富山 | T22: =IFERROR(INDEX('貼_大豆(全国・e-stat)'!$N$9:$N$55,MATCH('貼_大豆(全国・e-stat)'!$M18,'貼_大豆(全国・e-stat)'!V$9:V$55,0)),"-") -> 滋賀 | U22: =IFERROR(INDEX('貼_大豆(全国・e-stat)'!$N$9:$N$55,MATCH('貼_大豆(全国・e-stat)'!$M18,'貼_大豆(全国・e-stat)'!AB$9:AB$55,0)),"-") -> 秋田 | Y22: =IFERROR(INDEX('貼_そば(全国・e-stat)'!$J$10:$J$56,MATCH('貼_そば(全国・e-stat)'!$I19,'貼_そば(全国・e-stat)'!L$10:L$56,0)),"-") -> 岩手 | Z22: =IFERROR(INDEX('貼_そば(全国・e-stat)'!$J$10:$J$56,MATCH('貼_そば(全国・e-stat)'!$I19,'貼_そば(全国・e-stat)'!R$10:R$56,0)),"-") -> 青森 | AA22: =IFERROR(INDEX('貼_そば(全国・e-stat)'!$J$10:$J$56,MATCH('貼_そば(全国・e-stat)'!$I19,'貼_そば(全国・e-stat)'!X$10:X$56,0)),"-") -> 長野 | AB22: =IFERROR(INDEX('貼_ばれいしょ(全国・e-stat)'!$N$15:$N$61,MATCH('貼_ばれいしょ(全国・e-stat)'!$M24,'貼_ばれいしょ(全国・e-stat)'!P$15:P$61,0)),"-") -> 広島 | AC22: =IFERROR(INDEX('貼_ばれいしょ(全国・e-stat)'!$N$15:$N$61,MATCH('貼_ばれいしょ(全国・e-stat)'!$M24,'貼_ばれいしょ(全国・e-stat)'!V$15:V$61,0)),"-") -> 静岡 | AD22: =IFERROR(INDEX('貼_ばれいしょ(全国・e-stat)'!$N$15:$N$61,MATCH('貼_ばれいしょ(全国・e-stat)'!$M24,'貼_ばれいしょ(全国・e-stat)'!AB$15:AB$61,0)),"-") -> 鹿児島 | AE22: =IFERROR(INDEX('貼_なたね(全国・e-stat)'!$N$11:$N$57,MATCH('貼_なたね(全国・e-stat)'!$M20,'貼_なたね(全国・e-stat)'!P$11:P$57,0)),"-") -> 大分 | AF22: =IFERROR(INDEX('貼_なたね(全国・e-stat)'!$N$11:$N$57,MATCH('貼_なたね(全国・e-stat)'!$M20,'貼_なたね(全国・e-stat)'!V$11:V$57,0)),"-") -> 長野 | AG22: =IFERROR(INDEX('貼_なたね(全国・e-stat)'!$N$11:$N$57,MATCH('貼_なたね(全国・e-stat)'!$M20,'貼_なたね(全国・e-stat)'!AB$11:AB$57,0)),"-") -> 岩手
D23: =IFERROR(INDEX('貼_耕地面積(全国・e-stat)'!$N$24:$N$70,MATCH('貼_耕地面積(全国・e-stat)'!M34,'貼_耕地面積(全国・e-stat)'!$P$24:$P$70,0)),"-") -> 山形 | E23: =IFERROR(INDEX('貼_耕地面積(全国・e-stat)'!$N$24:$N$70,MATCH('貼_耕地面積(全国・e-stat)'!M34,'貼_耕地面積(全国・e-stat)'!$W$24:$W$70,0)),"-") -> 千葉 | F23: =IFERROR(INDEX('貼_耕地面積(全国・e-stat)'!$N$24:$N$70,MATCH('貼_耕地面積(全国・e-stat)'!M34,'貼_耕地面積(全国・e-stat)'!$AD$24:$AD$70,0)),"-") -> 静岡 | G23: =IFERROR(INDEX('貼_水稲(全国・e-stat)'!$Y$12:$Y$58,MATCH('貼_水稲(全国・e-stat)'!X22,'貼_水稲(全国・e-stat)'!$AA$12:$AA$58,0)),"-") -> 青森 | H23: =IFERROR(INDEX('貼_水稲(全国・e-stat)'!$Y$12:$Y$58,MATCH('貼_水稲(全国・e-stat)'!$X22,'貼_水稲(全国・e-stat)'!$AG$12:$AG$58,0)),"-") -> 岩手 | I23: =IFERROR(INDEX('貼_水稲(全国・e-stat)'!$Y$12:$Y$58,MATCH('貼_水稲(全国・e-stat)'!$X22,'貼_水稲(全国・e-stat)'!$AM$12:$AM$58,0)),"-") -> 栃木 | J23: =IFERROR(INDEX('貼_小麦(全国・e-stat)'!$N$10:$N$56,MATCH('貼_小麦(全国・e-stat)'!$M20,'貼_小麦(全国・e-stat)'!P$10:P$56,0)),"-") -> 岩手 | K23: =IFERROR(INDEX('貼_小麦(全国・e-stat)'!$N$10:$N$56,MATCH('貼_小麦(全国・e-stat)'!$M20,'貼_小麦(全国・e-stat)'!V$10:V$56,0)),"-") -> 岐阜 | L23: =IFERROR(INDEX('貼_小麦(全国・e-stat)'!$N$10:$N$56,MATCH('貼_小麦(全国・e-stat)'!$M20,'貼_小麦(全国・e-stat)'!AB$10:AB$56,0)),"-") -> 千葉 | S23: =IFERROR(INDEX('貼_大豆(全国・e-stat)'!$N$9:$N$55,MATCH('貼_大豆(全国・e-stat)'!$M19,'貼_大豆(全国・e-stat)'!P$9:P$55,0)),"-") -> 三重 | T23: =IFERROR(INDEX('貼_大豆(全国・e-stat)'!$N$9:$N$55,MATCH('貼_大豆(全国・e-stat)'!$M19,'貼_大豆(全国・e-stat)'!V$9:V$55,0)),"-") -> 富山 | U23: =IFERROR(INDEX('貼_大豆(全国・e-stat)'!$N$9:$N$55,MATCH('貼_大豆(全国・e-stat)'!$M19,'貼_大豆(全国・e-stat)'!AB$9:AB$55,0)),"-") -> 東京 | Y23: =IFERROR(INDEX('貼_そば(全国・e-stat)'!$J$10:$J$56,MATCH('貼_そば(全国・e-stat)'!$I20,'貼_そば(全国・e-stat)'!L$10:L$56,0)),"-") -> 新潟 | Z23: =IFERROR(INDEX('貼_そば(全国・e-stat)'!$J$10:$J$56,MATCH('貼_そば(全国・e-stat)'!$I20,'貼_そば(全国・e-stat)'!R$10:R$56,0)),"-") -> 鹿児島 | AA23: =IFERROR(INDEX('貼_そば(全国・e-stat)'!$J$10:$J$56,MATCH('貼_そば(全国・e-stat)'!$I20,'貼_そば(全国・e-stat)'!X$10:X$56,0)),"-") -> 宮崎 | AB23: =IFERROR(INDEX('貼_ばれいしょ(全国・e-stat)'!$N$15:$N$61,MATCH('貼_ばれいしょ(全国・e-stat)'!$M25,'貼_ばれいしょ(全国・e-stat)'!P$15:P$61,0)),"-") -> 宮城 | AC23: =IFERROR(INDEX('貼_ばれいしょ(全国・e-stat)'!$N$15:$N$61,MATCH('貼_ばれいしょ(全国・e-stat)'!$M25,'貼_ばれいしょ(全国・e-stat)'!V$15:V$61,0)),"-") -> 宮崎 | AD23: =IFERROR(INDEX('貼_ばれいしょ(全国・e-stat)'!$N$15:$N$61,MATCH('貼_ばれいしょ(全国・e-stat)'!$M25,'貼_ばれいしょ(全国・e-stat)'!AB$15:AB$61,0)),"-") -> 長野 | AE23: =IFERROR(INDEX('貼_なたね(全国・e-stat)'!$N$11:$N$57,MATCH('貼_なたね(全国・e-stat)'!$M21,'貼_なたね(全国・e-stat)'!P$11:P$57,0)),"-") -> 埼玉 | AF23: =IFERROR(INDEX('貼_なたね(全国・e-stat)'!$N$11:$N$57,MATCH('貼_なたね(全国・e-stat)'!$M21,'貼_なたね(全国・e-stat)'!V$11:V$57,0)),"-") -> 三重 | AG23: =IFERROR(INDEX('貼_なたね(全国・e-stat)'!$N$11:$N$57,MATCH('貼_なたね(全国・e-stat)'!$M21,'貼_なたね(全国・e-stat)'!AB$11:AB$57,0)),"-") -> 熊本
D24: =IFERROR(INDEX('貼_耕地面積(全国・e-stat)'!$N$24:$N$70,MATCH('貼_耕地面積(全国・e-stat)'!M35,'貼_耕地面積(全国・e-stat)'!$P$24:$P$70,0)),"-") -> 鹿児島 | E24: =IFERROR(INDEX('貼_耕地面積(全国・e-stat)'!$N$24:$N$70,MATCH('貼_耕地面積(全国・e-stat)'!M35,'貼_耕地面積(全国・e-stat)'!$W$24:$W$70,0)),"-") -> 兵庫 | F24: =IFERROR(INDEX('貼_耕地面積(全国・e-stat)'!$N$24:$N$70,MATCH('貼_耕地面積(全国・e-stat)'!M35,'貼_耕地面積(全国・e-stat)'!$AD$24:$AD$70,0)),"-") -> 沖縄 | G24: =IFERROR(INDEX('貼_水稲(全国・e-stat)'!$Y$12:$Y$58,MATCH('貼_水稲(全国・e-stat)'!X23,'貼_水稲(全国・e-stat)'!$AA$12:$AA$58,0)),"-") -> 富山 | H24: =IFERROR(INDEX('貼_水稲(全国・e-stat)'!$Y$12:$Y$58,MATCH('貼_水稲(全国・e-stat)'!$X23,'貼_水稲(全国・e-stat)'!$AG$12:$AG$58,0)),"-") -> 富山 | I24: =IFERROR(INDEX('貼_水稲(全国・e-stat)'!$Y$12:$Y$58,MATCH('貼_水稲(全国・e-stat)'!$X23,'貼_水稲(全国・e-stat)'!$AM$12:$AM$58,0)),"-") -> 富山 | J24: =IFERROR(INDEX('貼_小麦(全国・e-stat)'!$N$10:$N$56,MATCH('貼_小麦(全国・e-stat)'!$M21,'貼_小麦(全国・e-stat)'!P$10:P$56,0)),"-") -> 岐阜 | K24: =IFERROR(INDEX('貼_小麦(全国・e-stat)'!$N$10:$N$56,MATCH('貼_小麦(全国・e-stat)'!$M21,'貼_小麦(全国・e-stat)'!V$10:V$56,0)),"-") -> 岩手 | L24: =IFERROR(INDEX('貼_小麦(全国・e-stat)'!$N$10:$N$56,MATCH('貼_小麦(全国・e-stat)'!$M21,'貼_小麦(全国・e-stat)'!AB$10:AB$56,0)),"-") -> 新潟 | S24: =IFERROR(INDEX('貼_大豆(全国・e-stat)'!$N$9:$N$55,MATCH('貼_大豆(全国・e-stat)'!$M20,'貼_大豆(全国・e-stat)'!P$9:P$55,0)),"-") -> 新潟 | T24: =IFERROR(INDEX('貼_大豆(全国・e-stat)'!$N$9:$N$55,MATCH('貼_大豆(全国・e-stat)'!$M20,'貼_大豆(全国・e-stat)'!V$9:V$55,0)),"-") -> 愛知 | U24: =IFERROR(INDEX('貼_大豆(全国・e-stat)'!$N$9:$N$55,MATCH('貼_大豆(全国・e-stat)'!$M20,'貼_大豆(全国・e-stat)'!AB$9:AB$55,0)),"-") -> 茨城 | Y24: =IFERROR(INDEX('貼_そば(全国・e-stat)'!$J$10:$J$56,MATCH('貼_そば(全国・e-stat)'!$I21,'貼_そば(全国・e-stat)'!L$10:L$56,0)),"-") -> 鹿児島 | Z24: =IFERROR(INDEX('貼_そば(全国・e-stat)'!$J$10:$J$56,MATCH('貼_そば(全国・e-stat)'!$I21,'貼_そば(全国・e-stat)'!R$10:R$56,0)),"-") -> 新潟 | AA24: =IFERROR(INDEX('貼_そば(全国・e-stat)'!$J$10:$J$56,MATCH('貼_そば(全国・e-stat)'!$I21,'貼_そば(全国・e-stat)'!X$10:X$56,0)),"-") -> 岩手 | AB24: =IFERROR(INDEX('貼_ばれいしょ(全国・e-stat)'!$N$15:$N$61,MATCH('貼_ばれいしょ(全国・e-stat)'!$M26,'貼_ばれいしょ(全国・e-stat)'!P$15:P$61,0)),"-") -> 静岡 | AC24: =IFERROR(INDEX('貼_ばれいしょ(全国・e-stat)'!$N$15:$N$61,MATCH('貼_ばれいしょ(全国・e-stat)'!$M26,'貼_ばれいしょ(全国・e-stat)'!V$15:V$61,0)),"-") -> 広島 | AD24: =IFERROR(INDEX('貼_ばれいしょ(全国・e-stat)'!$N$15:$N$61,MATCH('貼_ばれいしょ(全国・e-stat)'!$M26,'貼_ばれいしょ(全国・e-stat)'!AB$15:AB$61,0)),"-") -> 福島 | AE24: =IFERROR(INDEX('貼_なたね(全国・e-stat)'!$N$11:$N$57,MATCH('貼_なたね(全国・e-stat)'!$M22,'貼_なたね(全国・e-stat)'!P$11:P$57,0)),"-") -> 富山 | AF24: =IFERROR(INDEX('貼_なたね(全国・e-stat)'!$N$11:$N$57,MATCH('貼_なたね(全国・e-stat)'!$M22,'貼_なたね(全国・e-stat)'!V$11:V$57,0)),"-") -> 茨城 | AG24: =IFERROR(INDEX('貼_なたね(全国・e-stat)'!$N$11:$N$57,MATCH('貼_なたね(全国・e-stat)'!$M22,'貼_なたね(全国・e-stat)'!AB$11:AB$57,0)),"-") -> 滋賀
D25: =IFERROR(INDEX('貼_耕地面積(全国・e-stat)'!$N$24:$N$70,MATCH('貼_耕地面積(全国・e-stat)'!M36,'貼_耕地面積(全国・e-stat)'!$P$24:$P$70,0)),"-") -> 長野 | E25: =IFERROR(INDEX('貼_耕地面積(全国・e-stat)'!$N$24:$N$70,MATCH('貼_耕地面積(全国・e-stat)'!M36,'貼_耕地面積(全国・e-stat)'!$W$24:$W$70,0)),"-") -> 熊本 | F25: =IFERROR(INDEX('貼_耕地面積(全国・e-stat)'!$N$24:$N$70,MATCH('貼_耕地面積(全国・e-stat)'!M36,'貼_耕地面積(全国・e-stat)'!$AD$24:$AD$70,0)),"-") -> 埼玉 | G25: =IFERROR(INDEX('貼_水稲(全国・e-stat)'!$Y$12:$Y$58,MATCH('貼_水稲(全国・e-stat)'!X24,'貼_水稲(全国・e-stat)'!$AA$12:$AA$58,0)),"-") -> 兵庫 | H25: =IFERROR(INDEX('貼_水稲(全国・e-stat)'!$Y$12:$Y$58,MATCH('貼_水稲(全国・e-stat)'!$X24,'貼_水稲(全国・e-stat)'!$AG$12:$AG$58,0)),"-") -> 長野 | I25: =IFERROR(INDEX('貼_水稲(全国・e-stat)'!$Y$12:$Y$58,MATCH('貼_水稲(全国・e-stat)'!$X24,'貼_水稲(全国・e-stat)'!$AM$12:$AM$58,0)),"-") -> 新潟 | J25: =IFERROR(INDEX('貼_小麦(全国・e-stat)'!$N$10:$N$56,MATCH('貼_小麦(全国・e-stat)'!$M22,'貼_小麦(全国・e-stat)'!P$10:P$56,0)),"-") -> 大分 | K25: =IFERROR(INDEX('貼_小麦(全国・e-stat)'!$N$10:$N$56,MATCH('貼_小麦(全国・e-stat)'!$M22,'貼_小麦(全国・e-stat)'!V$10:V$56,0)),"-") -> 栃木 | L25: =IFERROR(INDEX('貼_小麦(全国・e-stat)'!$N$10:$N$56,MATCH('貼_小麦(全国・e-stat)'!$M22,'貼_小麦(全国・e-stat)'!AB$10:AB$56,0)),"-") -> 福岡 | S25: =IFERROR(INDEX('貼_大豆(全国・e-stat)'!$N$9:$N$55,MATCH('貼_大豆(全国・e-stat)'!$M21,'貼_大豆(全国・e-stat)'!P$9:P$55,0)),"-") -> 愛知 | T25: =IFERROR(INDEX('貼_大豆(全国・e-stat)'!$N$9:$N$55,MATCH('貼_大豆(全国・e-stat)'!$M21,'貼_大豆(全国・e-stat)'!V$9:V$55,0)),"-") -> 茨城 | U25: =IFERROR(INDEX('貼_大豆(全国・e-stat)'!$N$9:$N$55,MATCH('貼_大豆(全国・e-stat)'!$M21,'貼_大豆(全国・e-stat)'!AB$9:AB$55,0)),"-") -> 愛知 | Y25: =IFERROR(INDEX('貼_そば(全国・e-stat)'!$J$10:$J$56,MATCH('貼_そば(全国・e-stat)'!$I22,'貼_そば(全国・e-stat)'!L$10:L$56,0)),"-") -> 熊本 | Z25: =IFERROR(INDEX('貼_そば(全国・e-stat)'!$J$10:$J$56,MATCH('貼_そば(全国・e-stat)'!$I22,'貼_そば(全国・e-stat)'!R$10:R$56,0)),"-") -> 群馬 | AA25: =IFERROR(INDEX('貼_そば(全国・e-stat)'!$J$10:$J$56,MATCH('貼_そば(全国・e-stat)'!$I22,'貼_そば(全国・e-stat)'!X$10:X$56,0)),"-") -> 山梨 | AB25: =IFERROR(INDEX('貼_ばれいしょ(全国・e-stat)'!$N$15:$N$61,MATCH('貼_ばれいしょ(全国・e-stat)'!$M27,'貼_ばれいしょ(全国・e-stat)'!P$15:P$61,0)),"-") -> 宮崎 | AC25: =IFERROR(INDEX('貼_ばれいしょ(全国・e-stat)'!$N$15:$N$61,MATCH('貼_ばれいしょ(全国・e-stat)'!$M27,'貼_ばれいしょ(全国・e-stat)'!V$15:V$61,0)),"-") -> 宮城 | AD25: =IFERROR(INDEX('貼_ばれいしょ(全国・e-stat)'!$N$15:$N$61,MATCH('貼_ばれいしょ(全国・e-stat)'!$M27,'貼_ばれいしょ(全国・e-stat)'!AB$15:AB$61,0)),"-") -> 宮城 | AE25: =IFERROR(INDEX('貼_なたね(全国・e-stat)'!$N$11:$N$57,MATCH('貼_なたね(全国・e-stat)'!$M23,'貼_なたね(全国・e-stat)'!P$11:P$57,0)),"-") -> 福岡 | AF25: =IFERROR(INDEX('貼_なたね(全国・e-stat)'!$N$11:$N$57,MATCH('貼_なたね(全国・e-stat)'!$M23,'貼_なたね(全国・e-stat)'!V$11:V$57,0)),"-") -> 大分 | AG25: =IFERROR(INDEX('貼_なたね(全国・e-stat)'!$N$11:$N$57,MATCH('貼_なたね(全国・e-stat)'!$M23,'貼_なたね(全国・e-stat)'!AB$11:AB$57,0)),"-") -> 山形
D26: =IFERROR(INDEX('貼_耕地面積(全国・e-stat)'!$N$24:$N$70,MATCH('貼_耕地面積(全国・e-stat)'!M37,'貼_耕地面積(全国・e-stat)'!$P$24:$P$70,0)),"-") -> 熊本 | E26: =IFERROR(INDEX('貼_耕地面積(全国・e-stat)'!$N$24:$N$70,MATCH('貼_耕地面積(全国・e-stat)'!M37,'貼_耕地面積(全国・e-stat)'!$W$24:$W$70,0)),"-") -> 福岡 | F26: =IFERROR(INDEX('貼_耕地面積(全国・e-stat)'!$N$24:$N$70,MATCH('貼_耕地面積(全国・e-stat)'!M37,'貼_耕地面積(全国・e-stat)'!$AD$24:$AD$70,0)),"-") -> 愛知 | G26: =IFERROR(INDEX('貼_水稲(全国・e-stat)'!$Y$12:$Y$58,MATCH('貼_水稲(全国・e-stat)'!X25,'貼_水稲(全国・e-stat)'!$AA$12:$AA$58,0)),"-") -> 福岡 | H26: =IFERROR(INDEX('貼_水稲(全国・e-stat)'!$Y$12:$Y$58,MATCH('貼_水稲(全国・e-stat)'!$X25,'貼_水稲(全国・e-stat)'!$AG$12:$AG$58,0)),"-") -> 兵庫 | I26: =IFERROR(INDEX('貼_水稲(全国・e-stat)'!$Y$12:$Y$58,MATCH('貼_水稲(全国・e-stat)'!$X25,'貼_水稲(全国・e-stat)'!$AM$12:$AM$58,0)),"-") -> 山梨 | J26: =IFERROR(INDEX('貼_小麦(全国・e-stat)'!$N$10:$N$56,MATCH('貼_小麦(全国・e-stat)'!$M23,'貼_小麦(全国・e-stat)'!P$10:P$56,0)),"-") -> 栃木 | K26: =IFERROR(INDEX('貼_小麦(全国・e-stat)'!$N$10:$N$56,MATCH('貼_小麦(全国・e-stat)'!$M23,'貼_小麦(全国・e-stat)'!V$10:V$56,0)),"-") -> 長野 | L26: =IFERROR(INDEX('貼_小麦(全国・e-stat)'!$N$10:$N$56,MATCH('貼_小麦(全国・e-stat)'!$M23,'貼_小麦(全国・e-stat)'!AB$10:AB$56,0)),"-") -> 茨城 | S26: =IFERROR(INDEX('貼_大豆(全国・e-stat)'!$N$9:$N$55,MATCH('貼_大豆(全国・e-stat)'!$M22,'貼_大豆(全国・e-stat)'!P$9:P$55,0)),"-") -> 茨城 | T26: =IFERROR(INDEX('貼_大豆(全国・e-stat)'!$N$9:$N$55,MATCH('貼_大豆(全国・e-stat)'!$M22,'貼_大豆(全国・e-stat)'!V$9:V$55,0)),"-") -> 栃木 | U26: =IFERROR(INDEX('貼_大豆(全国・e-stat)'!$N$9:$N$55,MATCH('貼_大豆(全国・e-stat)'!$M22,'貼_大豆(全国・e-stat)'!AB$9:AB$55,0)),"-") -> 福岡 | Y26: =IFERROR(INDEX('貼_そば(全国・e-stat)'!$J$10:$J$56,MATCH('貼_そば(全国・e-stat)'!$I23,'貼_そば(全国・e-stat)'!L$10:L$56,0)),"-") -> 島根 | Z26: =IFERROR(INDEX('貼_そば(全国・e-stat)'!$J$10:$J$56,MATCH('貼_そば(全国・e-stat)'!$I23,'貼_そば(全国・e-stat)'!R$10:R$56,0)),"-") -> 滋賀 | AA26: =IFERROR(INDEX('貼_そば(全国・e-stat)'!$J$10:$J$56,MATCH('貼_そば(全国・e-stat)'!$I23,'貼_そば(全国・e-stat)'!X$10:X$56,0)),"-") -> 三重 | AB26: =IFERROR(INDEX('貼_ばれいしょ(全国・e-stat)'!$N$15:$N$61,MATCH('貼_ばれいしょ(全国・e-stat)'!$M28,'貼_ばれいしょ(全国・e-stat)'!P$15:P$61,0)),"-") -> 三重 | AC26: =IFERROR(INDEX('貼_ばれいしょ(全国・e-stat)'!$N$15:$N$61,MATCH('貼_ばれいしょ(全国・e-stat)'!$M28,'貼_ばれいしょ(全国・e-stat)'!V$15:V$61,0)),"-") -> 佐賀 | AD26: =IFERROR(INDEX('貼_ばれいしょ(全国・e-stat)'!$N$15:$N$61,MATCH('貼_ばれいしょ(全国・e-stat)'!$M28,'貼_ばれいしょ(全国・e-stat)'!AB$15:AB$61,0)),"-") -> 広島 | AE26: =IFERROR(INDEX('貼_なたね(全国・e-stat)'!$N$11:$N$57,MATCH('貼_なたね(全国・e-stat)'!$M24,'貼_なたね(全国・e-stat)'!P$11:P$57,0)),"-") -> 兵庫 | AF26: =IFERROR(INDEX('貼_なたね(全国・e-stat)'!$N$11:$N$57,MATCH('貼_なたね(全国・e-stat)'!$M24,'貼_なたね(全国・e-stat)'!V$11:V$57,0)),"-") -> 群馬 | AG26: =IFERROR(INDEX('貼_なたね(全国・e-stat)'!$N$11:$N$57,MATCH('貼_なたね(全国・e-stat)'!$M24,'貼_なたね(全国・e-stat)'!AB$11:AB$57,0)),"-") -> 鳥取
D27: =IFERROR(INDEX('貼_耕地面積(全国・e-stat)'!$N$24:$N$70,MATCH('貼_耕地面積(全国・e-stat)'!M38,'貼_耕地面積(全国・e-stat)'!$P$24:$P$70,0)),"-") -> 福岡 | E27: =IFERROR(INDEX('貼_耕地面積(全国・e-stat)'!$N$24:$N$70,MATCH('貼_耕地面積(全国・e-stat)'!M38,'貼_耕地面積(全国・e-stat)'!$W$24:$W$70,0)),"-") -> 富山 | F27: =IFERROR(INDEX('貼_耕地面積(全国・e-stat)'!$N$24:$N$70,MATCH('貼_耕地面積(全国・e-stat)'!M38,'貼_耕地面積(全国・e-stat)'!$AD$24:$AD$70,0)),"-") -> 宮崎 | G27: =IFERROR(INDEX('貼_水稲(全国・e-stat)'!$Y$12:$Y$58,MATCH('貼_水稲(全国・e-stat)'!X26,'貼_水稲(全国・e-stat)'!$AA$12:$AA$58,0)),"-") -> 長野 | H27: =IFERROR(INDEX('貼_水稲(全国・e-stat)'!$Y$12:$Y$58,MATCH('貼_水稲(全国・e-stat)'!$X26,'貼_水稲(全国・e-stat)'!$AG$12:$AG$58,0)),"-") -> 熊本 | I27: =IFERROR(INDEX('貼_水稲(全国・e-stat)'!$Y$12:$Y$58,MATCH('貼_水稲(全国・e-stat)'!$X26,'貼_水稲(全国・e-stat)'!$AM$12:$AM$58,0)),"-") -> 福井 | J27: =IFERROR(INDEX('貼_小麦(全国・e-stat)'!$N$10:$N$56,MATCH('貼_小麦(全国・e-stat)'!$M24,'貼_小麦(全国・e-stat)'!P$10:P$56,0)),"-") -> 香川 | K27: =IFERROR(INDEX('貼_小麦(全国・e-stat)'!$N$10:$N$56,MATCH('貼_小麦(全国・e-stat)'!$M24,'貼_小麦(全国・e-stat)'!V$10:V$56,0)),"-") -> 香川 | L27: =IFERROR(INDEX('貼_小麦(全国・e-stat)'!$N$10:$N$56,MATCH('貼_小麦(全国・e-stat)'!$M24,'貼_小麦(全国・e-stat)'!AB$10:AB$56,0)),"-") -> 滋賀 | S27: =IFERROR(INDEX('貼_大豆(全国・e-stat)'!$N$9:$N$55,MATCH('貼_大豆(全国・e-stat)'!$M23,'貼_大豆(全国・e-stat)'!P$9:P$55,0)),"-") -> 岐阜 | T27: =IFERROR(INDEX('貼_大豆(全国・e-stat)'!$N$9:$N$55,MATCH('貼_大豆(全国・e-stat)'!$M23,'貼_大豆(全国・e-stat)'!V$9:V$55,0)),"-") -> 長野 | U27: =IFERROR(INDEX('貼_大豆(全国・e-stat)'!$N$9:$N$55,MATCH('貼_大豆(全国・e-stat)'!$M23,'貼_大豆(全国・e-stat)'!AB$9:AB$55,0)),"-") -> 岩手 | Y27: =IFERROR(INDEX('貼_そば(全国・e-stat)'!$J$10:$J$56,MATCH('貼_そば(全国・e-stat)'!$I24,'貼_そば(全国・e-stat)'!L$10:L$56,0)),"-") -> 宮城 | Z27: =IFERROR(INDEX('貼_そば(全国・e-stat)'!$J$10:$J$56,MATCH('貼_そば(全国・e-stat)'!$I24,'貼_そば(全国・e-stat)'!R$10:R$56,0)),"-") -> 熊本 | AA27: =IFERROR(INDEX('貼_そば(全国・e-stat)'!$J$10:$J$56,MATCH('貼_そば(全国・e-stat)'!$I24,'貼_そば(全国・e-stat)'!X$10:X$56,0)),"-") -> 福島 | AB27: =IFERROR(INDEX('貼_ばれいしょ(全国・e-stat)'!$N$15:$N$61,MATCH('貼_ばれいしょ(全国・e-stat)'!$M29,'貼_ばれいしょ(全国・e-stat)'!P$15:P$61,0)),"-") -> 岡山 | AC27: =IFERROR(INDEX('貼_ばれいしょ(全国・e-stat)'!$N$15:$N$61,MATCH('貼_ばれいしょ(全国・e-stat)'!$M29,'貼_ばれいしょ(全国・e-stat)'!V$15:V$61,0)),"-") -> 三重 | AD27: =IFERROR(INDEX('貼_ばれいしょ(全国・e-stat)'!$N$15:$N$61,MATCH('貼_ばれいしょ(全国・e-stat)'!$M29,'貼_ばれいしょ(全国・e-stat)'!AB$15:AB$61,0)),"-") -> 岡山 | AE27: =IFERROR(INDEX('貼_なたね(全国・e-stat)'!$N$11:$N$57,MATCH('貼_なたね(全国・e-stat)'!$M25,'貼_なたね(全国・e-stat)'!P$11:P$57,0)),"-") -> 秋田 | AF27: =IFERROR(INDEX('貼_なたね(全国・e-stat)'!$N$11:$N$57,MATCH('貼_なたね(全国・e-stat)'!$M25,'貼_なたね(全国・e-stat)'!V$11:V$57,0)),"-") -> 埼玉 | AG27: =IFERROR(INDEX('貼_なたね(全国・e-stat)'!$N$11:$N$57,MATCH('貼_なたね(全国・e-stat)'!$M25,'貼_なたね(全国・e-stat)'!AB$11:AB$57,0)),"-") -> 島根
D28: =IFERROR(INDEX('貼_耕地面積(全国・e-stat)'!$N$24:$N$70,MATCH('貼_耕地面積(全国・e-stat)'!M39,'貼_耕地面積(全国・e-stat)'!$P$24:$P$70,0)),"-") -> 埼玉 | E28: =IFERROR(INDEX('貼_耕地面積(全国・e-stat)'!$N$24:$N$70,MATCH('貼_耕地面積(全国・e-stat)'!M39,'貼_耕地面積(全国・e-stat)'!$W$24:$W$70,0)),"-") -> 長野 | F28: =IFERROR(INDEX('貼_耕地面積(全国・e-stat)'!$N$24:$N$70,MATCH('貼_耕地面積(全国・e-stat)'!M39,'貼_耕地面積(全国・e-stat)'!$AD$24:$AD$70,0)),"-") -> 栃木 | G28: =IFERROR(INDEX('貼_水稲(全国・e-stat)'!$Y$12:$Y$58,MATCH('貼_水稲(全国・e-stat)'!X27,'貼_水稲(全国・e-stat)'!$AA$12:$AA$58,0)),"-") -> 熊本 | H28: =IFERROR(INDEX('貼_水稲(全国・e-stat)'!$Y$12:$Y$58,MATCH('貼_水稲(全国・e-stat)'!$X27,'貼_水稲(全国・e-stat)'!$AG$12:$AG$58,0)),"-") -> 福岡 | I28: =IFERROR(INDEX('貼_水稲(全国・e-stat)'!$Y$12:$Y$58,MATCH('貼_水稲(全国・e-stat)'!$X27,'貼_水稲(全国・e-stat)'!$AM$12:$AM$58,0)),"-") -> 京都 | J28: =IFERROR(INDEX('貼_小麦(全国・e-stat)'!$N$10:$N$56,MATCH('貼_小麦(全国・e-stat)'!$M25,'貼_小麦(全国・e-stat)'!P$10:P$56,0)),"-") -> 長野 | K28: =IFERROR(INDEX('貼_小麦(全国・e-stat)'!$N$10:$N$56,MATCH('貼_小麦(全国・e-stat)'!$M25,'貼_小麦(全国・e-stat)'!V$10:V$56,0)),"-") -> 大分 | L28: =IFERROR(INDEX('貼_小麦(全国・e-stat)'!$N$10:$N$56,MATCH('貼_小麦(全国・e-stat)'!$M25,'貼_小麦(全国・e-stat)'!AB$10:AB$56,0)),"-") -> 佐賀 | S28: =IFERROR(INDEX('貼_大豆(全国・e-stat)'!$N$9:$N$55,MATCH('貼_大豆(全国・e-stat)'!$M24,'貼_大豆(全国・e-stat)'!P$9:P$55,0)),"-") -> 栃木 | T28: =IFERROR(INDEX('貼_大豆(全国・e-stat)'!$N$9:$N$55,MATCH('貼_大豆(全国・e-stat)'!$M24,'貼_大豆(全国・e-stat)'!V$9:V$55,0)),"-") -> 三重 | U28: =IFERROR(INDEX('貼_大豆(全国・e-stat)'!$N$9:$N$55,MATCH('貼_大豆(全国・e-stat)'!$M24,'貼_大豆(全国・e-stat)'!AB$9:AB$55,0)),"-") -> 富山 | Y28: =IFERROR(INDEX('貼_そば(全国・e-stat)'!$J$10:$J$56,MATCH('貼_そば(全国・e-stat)'!$I25,'貼_そば(全国・e-stat)'!L$10:L$56,0)),"-") -> 富山 | Z28: =IFERROR(INDEX('貼_そば(全国・e-stat)'!$J$10:$J$56,MATCH('貼_そば(全国・e-stat)'!$I25,'貼_そば(全国・e-stat)'!R$10:R$56,0)),"-") -> 富山 | AA28: =IFERROR(INDEX('貼_そば(全国・e-stat)'!$J$10:$J$56,MATCH('貼_そば(全国・e-stat)'!$I25,'貼_そば(全国・e-stat)'!X$10:X$56,0)),"-") -> 岐阜 | AB28: =IFERROR(INDEX('貼_ばれいしょ(全国・e-stat)'!$N$15:$N$61,MATCH('貼_ばれいしょ(全国・e-stat)'!$M30,'貼_ばれいしょ(全国・e-stat)'!P$15:P$61,0)),"-") -> 佐賀 | AC28: =IFERROR(INDEX('貼_ばれいしょ(全国・e-stat)'!$N$15:$N$61,MATCH('貼_ばれいしょ(全国・e-stat)'!$M30,'貼_ばれいしょ(全国・e-stat)'!V$15:V$61,0)),"-") -> 岡山 | AD28: =IFERROR(INDEX('貼_ばれいしょ(全国・e-stat)'!$N$15:$N$61,MATCH('貼_ばれいしょ(全国・e-stat)'!$M30,'貼_ばれいしょ(全国・e-stat)'!AB$15:AB$61,0)),"-") -> 三重 | AE28: =IFERROR(INDEX('貼_なたね(全国・e-stat)'!$N$11:$N$57,MATCH('貼_なたね(全国・e-stat)'!$M26,'貼_なたね(全国・e-stat)'!P$11:P$57,0)),"-") -> 長野 | AF28: =IFERROR(INDEX('貼_なたね(全国・e-stat)'!$N$11:$N$57,MATCH('貼_なたね(全国・e-stat)'!$M26,'貼_なたね(全国・e-stat)'!V$11:V$57,0)),"-") -> 富山 | AG28: =IFERROR(INDEX('貼_なたね(全国・e-stat)'!$N$11:$N$57,MATCH('貼_なたね(全国・e-stat)'!$M26,'貼_なたね(全国・e-stat)'!AB$11:AB$57,0)),"-") -> 長崎
D29: =IFERROR(INDEX('貼_耕地面積(全国・e-stat)'!$N$24:$N$70,MATCH('貼_耕地面積(全国・e-stat)'!M40,'貼_耕地面積(全国・e-stat)'!$P$24:$P$70,0)),"-") -> 愛知 | E29: =IFERROR(INDEX('貼_耕地面積(全国・e-stat)'!$N$24:$N$70,MATCH('貼_耕地面積(全国・e-stat)'!M40,'貼_耕地面積(全国・e-stat)'!$W$24:$W$70,0)),"-") -> 岡山 | F29: =IFERROR(INDEX('貼_耕地面積(全国・e-stat)'!$N$24:$N$70,MATCH('貼_耕地面積(全国・e-stat)'!M40,'貼_耕地面積(全国・e-stat)'!$AD$24:$AD$70,0)),"-") -> 長崎 | G29: =IFERROR(INDEX('貼_水稲(全国・e-stat)'!$Y$12:$Y$58,MATCH('貼_水稲(全国・e-stat)'!X28,'貼_水稲(全国・e-stat)'!$AA$12:$AA$58,0)),"-") -> 埼玉 | H29: =IFERROR(INDEX('貼_水稲(全国・e-stat)'!$Y$12:$Y$58,MATCH('貼_水稲(全国・e-stat)'!$X28,'貼_水稲(全国・e-stat)'!$AG$12:$AG$58,0)),"-") -> 滋賀 | I29: =IFERROR(INDEX('貼_水稲(全国・e-stat)'!$Y$12:$Y$58,MATCH('貼_水稲(全国・e-stat)'!$X28,'貼_水稲(全国・e-stat)'!$AM$12:$AM$58,0)),"-") -> 奈良 | J29: =IFERROR(INDEX('貼_小麦(全国・e-stat)'!$N$10:$N$56,MATCH('貼_小麦(全国・e-stat)'!$M26,'貼_小麦(全国・e-stat)'!P$10:P$56,0)),"-") -> 兵庫 | K29: =IFERROR(INDEX('貼_小麦(全国・e-stat)'!$N$10:$N$56,MATCH('貼_小麦(全国・e-stat)'!$M26,'貼_小麦(全国・e-stat)'!V$10:V$56,0)),"-") -> 宮城 | L29: =IFERROR(INDEX('貼_小麦(全国・e-stat)'!$N$10:$N$56,MATCH('貼_小麦(全国・e-stat)'!$M26,'貼_小麦(全国・e-stat)'!AB$10:AB$56,0)),"-") -> 岐阜 | S29: =IFERROR(INDEX('貼_大豆(全国・e-stat)'!$N$9:$N$55,MATCH('貼_大豆(全国・e-stat)'!$M25,'貼_大豆(全国・e-stat)'!P$9:P$55,0)),"-") -> 熊本 | T29: =IFERROR(INDEX('貼_大豆(全国・e-stat)'!$N$9:$N$55,MATCH('貼_大豆(全国・e-stat)'!$M25,'貼_大豆(全国・e-stat)'!V$9:V$55,0)),"-") -> 熊本 | U29: =IFERROR(INDEX('貼_大豆(全国・e-stat)'!$N$9:$N$55,MATCH('貼_大豆(全国・e-stat)'!$M25,'貼_大豆(全国・e-stat)'!AB$9:AB$55,0)),"-") -> 福井 | Y29: =IFERROR(INDEX('貼_そば(全国・e-stat)'!$J$10:$J$56,MATCH('貼_そば(全国・e-stat)'!$I26,'貼_そば(全国・e-stat)'!L$10:L$56,0)),"-") -> 滋賀 | Z29: =IFERROR(INDEX('貼_そば(全国・e-stat)'!$J$10:$J$56,MATCH('貼_そば(全国・e-stat)'!$I26,'貼_そば(全国・e-stat)'!R$10:R$56,0)),"-") -> 千葉 | AA29: =IFERROR(INDEX('貼_そば(全国・e-stat)'!$J$10:$J$56,MATCH('貼_そば(全国・e-stat)'!$I26,'貼_そば(全国・e-stat)'!X$10:X$56,0)),"-") -> 熊本 | AB29: =IFERROR(INDEX('貼_ばれいしょ(全国・e-stat)'!$N$15:$N$61,MATCH('貼_ばれいしょ(全国・e-stat)'!$M31,'貼_ばれいしょ(全国・e-stat)'!P$15:P$61,0)),"-") -> - | AC29: =IFERROR(INDEX('貼_ばれいしょ(全国・e-stat)'!$N$15:$N$61,MATCH('貼_ばれいしょ(全国・e-stat)'!$M31,'貼_ばれいしょ(全国・e-stat)'!V$15:V$61,0)),"-") -> - | AD29: =IFERROR(INDEX('貼_ばれいしょ(全国・e-stat)'!$N$15:$N$61,MATCH('貼_ばれいしょ(全国・e-stat)'!$M31,'貼_ばれいしょ(全国・e-stat)'!AB$15:AB$61,0)),"-") -> - | AE29: =IFERROR(INDEX('貼_なたね(全国・e-stat)'!$N$11:$N$57,MATCH('貼_なたね(全国・e-stat)'!$M27,'貼_なたね(全国・e-stat)'!P$11:P$57,0)),"-") -> 鹿児島 | AF29: =IFERROR(INDEX('貼_なたね(全国・e-stat)'!$N$11:$N$57,MATCH('貼_なたね(全国・e-stat)'!$M27,'貼_なたね(全国・e-stat)'!V$11:V$57,0)),"-") -> 秋田 | AG29: =IFERROR(INDEX('貼_なたね(全国・e-stat)'!$N$11:$N$57,MATCH('貼_なたね(全国・e-stat)'!$M27,'貼_なたね(全国・e-stat)'!AB$11:AB$57,0)),"-") -> 奈良
... D49: =IFERROR(INDEX('貼_耕地面積(全国・e-stat)'!$N$24:$N$70,MATCH('貼_耕地面積(全国・e-stat)'!M60,'貼_耕地面積(全国・e-stat)'!$P$24:$P$70,0)),"-") -> 鳥取 | E49: =IFERROR(INDEX('貼_耕地面積(全国・e-stat)'!$N$24:$N$70,MATCH('貼_耕地面積(全国・e-stat)'!M60,'貼_耕地面積(全国・e-stat)'!$W$24:$W$70,0)),"-") -> 愛媛 | F49: =IFERROR(INDEX('貼_耕地面積(全国・e-stat)'!$N$24:$N$70,MATCH('貼_耕地面積(全国・e-stat)'!M60,'貼_耕地面積(全国・e-stat)'!$AD$24:$AD$70,0)),"-") -> 石川 | G49: =IFERROR(INDEX('貼_水稲(全国・e-stat)'!$Y$12:$Y$58,MATCH('貼_水稲(全国・e-stat)'!X48,'貼_水稲(全国・e-stat)'!$AA$12:$AA$58,0)),"-") -> 高知 | H49: =IFERROR(INDEX('貼_水稲(全国・e-stat)'!$Y$12:$Y$58,MATCH('貼_水稲(全国・e-stat)'!$X48,'貼_水稲(全国・e-stat)'!$AG$12:$AG$58,0)),"-") -> 香川 | I49: =IFERROR(INDEX('貼_水稲(全国・e-stat)'!$Y$12:$Y$58,MATCH('貼_水稲(全国・e-stat)'!$X48,'貼_水稲(全国・e-stat)'!$AM$12:$AM$58,0)),"-") -> 岐阜 | J49: =IFERROR(INDEX('貼_小麦(全国・e-stat)'!$N$10:$N$56,MATCH('貼_小麦(全国・e-stat)'!$M46,'貼_小麦(全国・e-stat)'!P$10:P$56,0)),"-") -> 鳥取 | K49: =IFERROR(INDEX('貼_小麦(全国・e-stat)'!$N$10:$N$56,MATCH('貼_小麦(全国・e-stat)'!$M46,'貼_小麦(全国・e-stat)'!V$10:V$56,0)),"-") -> 島根 | L49: =IFERROR(INDEX('貼_小麦(全国・e-stat)'!$N$10:$N$56,MATCH('貼_小麦(全国・e-stat)'!$M46,'貼_小麦(全国・e-stat)'!AB$10:AB$56,0)),"-") -> 大分 | S49: =IFERROR(INDEX('貼_大豆(全国・e-stat)'!$N$9:$N$55,MATCH('貼_大豆(全国・e-stat)'!$M45,'貼_大豆(全国・e-stat)'!P$9:P$55,0)),"-") -> 山梨 | T49: =IFERROR(INDEX('貼_大豆(全国・e-stat)'!$N$9:$N$55,MATCH('貼_大豆(全国・e-stat)'!$M45,'貼_大豆(全国・e-stat)'!V$9:V$55,0)),"-") -> 京都 | U49: =IFERROR(INDEX('貼_大豆(全国・e-stat)'!$N$9:$N$55,MATCH('貼_大豆(全国・e-stat)'!$M45,'貼_大豆(全国・e-stat)'!AB$9:AB$55,0)),"-") -> 宮崎 | Y49: =IFERROR(INDEX('貼_そば(全国・e-stat)'!$J$10:$J$56,MATCH('貼_そば(全国・e-stat)'!$I46,'貼_そば(全国・e-stat)'!L$10:L$56,0)),"-") -> 徳島 | Z49: =IFERROR(INDEX('貼_そば(全国・e-stat)'!$J$10:$J$56,MATCH('貼_そば(全国・e-stat)'!$I46,'貼_そば(全国・e-stat)'!R$10:R$56,0)),"-") -> 沖縄 | AA49: =IFERROR(INDEX('貼_そば(全国・e-stat)'!$J$10:$J$56,MATCH('貼_そば(全国・e-stat)'!$I46,'貼_そば(全国・e-stat)'!X$10:X$56,0)),"-") -> 石川 | AB49: =IFERROR(INDEX('貼_ばれいしょ(全国・e-stat)'!$N$15:$N$61,MATCH('貼_ばれいしょ(全国・e-stat)'!$M51,'貼_ばれいしょ(全国・e-stat)'!P$15:P$61,0)),"-") -> - | AC49: =IFERROR(INDEX('貼_ばれいしょ(全国・e-stat)'!$N$15:$N$61,MATCH('貼_ばれいしょ(全国・e-stat)'!$M51,'貼_ばれいしょ(全国・e-stat)'!V$15:V$61,0)),"-") -> - | AD49: =IFERROR(INDEX('貼_ばれいしょ(全国・e-stat)'!$N$15:$N$61,MATCH('貼_ばれいしょ(全国・e-stat)'!$M51,'貼_ばれいしょ(全国・e-stat)'!AB$15:AB$61,0)),"-") -> - | AE49: =IFERROR(INDEX('貼_なたね(全国・e-stat)'!$N$11:$N$57,MATCH('貼_なたね(全国・e-stat)'!$M47,'貼_なたね(全国・e-stat)'!P$11:P$57,0)),"-") -> - | AF49: =IFERROR(INDEX('貼_なたね(全国・e-stat)'!$N$11:$N$57,MATCH('貼_なたね(全国・e-stat)'!$M47,'貼_なたね(全国・e-stat)'!V$11:V$57,0)),"-") -> - | AG49: =IFERROR(INDEX('貼_なたね(全国・e-stat)'!$N$11:$N$57,MATCH('貼_なたね(全国・e-stat)'!$M47,'貼_なたね(全国・e-stat)'!AB$11:AB$57,0)),"-") -> -
D50: =IFERROR(INDEX('貼_耕地面積(全国・e-stat)'!$N$24:$N$70,MATCH('貼_耕地面積(全国・e-stat)'!M61,'貼_耕地面積(全国・e-stat)'!$P$24:$P$70,0)),"-") -> 和歌山 | E50: =IFERROR(INDEX('貼_耕地面積(全国・e-stat)'!$N$24:$N$70,MATCH('貼_耕地面積(全国・e-stat)'!M61,'貼_耕地面積(全国・e-stat)'!$W$24:$W$70,0)),"-") -> 長崎 | F50: =IFERROR(INDEX('貼_耕地面積(全国・e-stat)'!$N$24:$N$70,MATCH('貼_耕地面積(全国・e-stat)'!M61,'貼_耕地面積(全国・e-stat)'!$AD$24:$AD$70,0)),"-") -> 京都 | G50: =IFERROR(INDEX('貼_水稲(全国・e-stat)'!$Y$12:$Y$58,MATCH('貼_水稲(全国・e-stat)'!X49,'貼_水稲(全国・e-stat)'!$AA$12:$AA$58,0)),"-") -> 徳島 | H50: =IFERROR(INDEX('貼_水稲(全国・e-stat)'!$Y$12:$Y$58,MATCH('貼_水稲(全国・e-stat)'!$X49,'貼_水稲(全国・e-stat)'!$AG$12:$AG$58,0)),"-") -> 高知 | I50: =IFERROR(INDEX('貼_水稲(全国・e-stat)'!$Y$12:$Y$58,MATCH('貼_水稲(全国・e-stat)'!$X49,'貼_水稲(全国・e-stat)'!$AM$12:$AM$58,0)),"-") -> 大阪 | J50: =IFERROR(INDEX('貼_小麦(全国・e-stat)'!$N$10:$N$56,MATCH('貼_小麦(全国・e-stat)'!$M47,'貼_小麦(全国・e-stat)'!P$10:P$56,0)),"-") -> 山梨 | K50: =IFERROR(INDEX('貼_小麦(全国・e-stat)'!$N$10:$N$56,MATCH('貼_小麦(全国・e-stat)'!$M47,'貼_小麦(全国・e-stat)'!V$10:V$56,0)),"-") -> 石川 | L50: =IFERROR(INDEX('貼_小麦(全国・e-stat)'!$N$10:$N$56,MATCH('貼_小麦(全国・e-stat)'!$M47,'貼_小麦(全国・e-stat)'!AB$10:AB$56,0)),"-") -> 静岡 | S50: =IFERROR(INDEX('貼_大豆(全国・e-stat)'!$N$9:$N$55,MATCH('貼_大豆(全国・e-stat)'!$M46,'貼_大豆(全国・e-stat)'!P$9:P$55,0)),"-") -> 静岡 | T50: =IFERROR(INDEX('貼_大豆(全国・e-stat)'!$N$9:$N$55,MATCH('貼_大豆(全国・e-stat)'!$M46,'貼_大豆(全国・e-stat)'!V$9:V$55,0)),"-") -> 静岡 | U50: =IFERROR(INDEX('貼_大豆(全国・e-stat)'!$N$9:$N$55,MATCH('貼_大豆(全国・e-stat)'!$M46,'貼_大豆(全国・e-stat)'!AB$9:AB$55,0)),"-") -> 三重 | Y50: 香川 | Z50: =IFERROR(INDEX('貼_そば(全国・e-stat)'!$J$10:$J$56,MATCH('貼_そば(全国・e-stat)'!$I47,'貼_そば(全国・e-stat)'!R$10:R$56,0)),"-") -> 神奈川 | AA50: =IFERROR(INDEX('貼_そば(全国・e-stat)'!$J$10:$J$56,MATCH('貼_そば(全国・e-stat)'!$I47,'貼_そば(全国・e-stat)'!X$10:X$56,0)),"-") -> 山口 | AB50: =IFERROR(INDEX('貼_ばれいしょ(全国・e-stat)'!$N$15:$N$61,MATCH('貼_ばれいしょ(全国・e-stat)'!$M52,'貼_ばれいしょ(全国・e-stat)'!P$15:P$61,0)),"-") -> - | AC50: =IFERROR(INDEX('貼_ばれいしょ(全国・e-stat)'!$N$15:$N$61,MATCH('貼_ばれいしょ(全国・e-stat)'!$M52,'貼_ばれいしょ(全国・e-stat)'!V$15:V$61,0)),"-") -> - | AD50: =IFERROR(INDEX('貼_ばれいしょ(全国・e-stat)'!$N$15:$N$61,MATCH('貼_ばれいしょ(全国・e-stat)'!$M52,'貼_ばれいしょ(全国・e-stat)'!AB$15:AB$61,0)),"-") -> - | AE50: =IFERROR(INDEX('貼_なたね(全国・e-stat)'!$N$11:$N$57,MATCH('貼_なたね(全国・e-stat)'!$M48,'貼_なたね(全国・e-stat)'!P$11:P$57,0)),"-") -> - | AF50: =IFERROR(INDEX('貼_なたね(全国・e-stat)'!$N$11:$N$57,MATCH('貼_なたね(全国・e-stat)'!$M48,'貼_なたね(全国・e-stat)'!V$11:V$57,0)),"-") -> - | AG50: =IFERROR(INDEX('貼_なたね(全国・e-stat)'!$N$11:$N$57,MATCH('貼_なたね(全国・e-stat)'!$M48,'貼_なたね(全国・e-stat)'!AB$11:AB$57,0)),"-") -> -
D51: =IFERROR(INDEX('貼_耕地面積(全国・e-stat)'!$N$24:$N$70,MATCH('貼_耕地面積(全国・e-stat)'!M62,'貼_耕地面積(全国・e-stat)'!$P$24:$P$70,0)),"-") -> 京都 | E51: =IFERROR(INDEX('貼_耕地面積(全国・e-stat)'!$N$24:$N$70,MATCH('貼_耕地面積(全国・e-stat)'!M62,'貼_耕地面積(全国・e-stat)'!$W$24:$W$70,0)),"-") -> 徳島 | F51: =IFERROR(INDEX('貼_耕地面積(全国・e-stat)'!$N$24:$N$70,MATCH('貼_耕地面積(全国・e-stat)'!M62,'貼_耕地面積(全国・e-stat)'!$AD$24:$AD$70,0)),"-") -> 高知 | G51: =IFERROR(INDEX('貼_水稲(全国・e-stat)'!$Y$12:$Y$58,MATCH('貼_水稲(全国・e-stat)'!X50,'貼_水稲(全国・e-stat)'!$AA$12:$AA$58,0)),"-") -> 香川 | H51: =IFERROR(INDEX('貼_水稲(全国・e-stat)'!$Y$12:$Y$58,MATCH('貼_水稲(全国・e-stat)'!$X50,'貼_水稲(全国・e-stat)'!$AG$12:$AG$58,0)),"-") -> 徳島 | I51: =IFERROR(INDEX('貼_水稲(全国・e-stat)'!$Y$12:$Y$58,MATCH('貼_水稲(全国・e-stat)'!$X50,'貼_水稲(全国・e-stat)'!$AM$12:$AM$58,0)),"-") -> 神奈川 | J51: =IFERROR(INDEX('貼_小麦(全国・e-stat)'!$N$10:$N$56,MATCH('貼_小麦(全国・e-stat)'!$M48,'貼_小麦(全国・e-stat)'!P$10:P$56,0)),"-") -> 徳島 | K51: =IFERROR(INDEX('貼_小麦(全国・e-stat)'!$N$10:$N$56,MATCH('貼_小麦(全国・e-stat)'!$M48,'貼_小麦(全国・e-stat)'!V$10:V$56,0)),"-") -> 宮崎 | L51: =IFERROR(INDEX('貼_小麦(全国・e-stat)'!$N$10:$N$56,MATCH('貼_小麦(全国・e-stat)'!$M48,'貼_小麦(全国・e-stat)'!AB$10:AB$56,0)),"-") -> 広島 | S51: =IFERROR(INDEX('貼_大豆(全国・e-stat)'!$N$9:$N$55,MATCH('貼_大豆(全国・e-stat)'!$M47,'貼_大豆(全国・e-stat)'!P$9:P$55,0)),"-") -> 奈良 | T51: =IFERROR(INDEX('貼_大豆(全国・e-stat)'!$N$9:$N$55,MATCH('貼_大豆(全国・e-stat)'!$M47,'貼_大豆(全国・e-stat)'!V$9:V$55,0)),"-") -> 奈良 | U51: =IFERROR(INDEX('貼_大豆(全国・e-stat)'!$N$9:$N$55,MATCH('貼_大豆(全国・e-stat)'!$M47,'貼_大豆(全国・e-stat)'!AB$9:AB$55,0)),"-") -> 兵庫 | Y51: 愛媛 | Z51: =IFERROR(INDEX('貼_そば(全国・e-stat)'!$J$10:$J$56,MATCH('貼_そば(全国・e-stat)'!$I48,'貼_そば(全国・e-stat)'!R$10:R$56,0)),"-") -> 徳島 | AA51: =IFERROR(INDEX('貼_そば(全国・e-stat)'!$J$10:$J$56,MATCH('貼_そば(全国・e-stat)'!$I48,'貼_そば(全国・e-stat)'!X$10:X$56,0)),"-") -> 香川 | AB51: =IFERROR(INDEX('貼_ばれいしょ(全国・e-stat)'!$N$15:$N$61,MATCH('貼_ばれいしょ(全国・e-stat)'!$M53,'貼_ばれいしょ(全国・e-stat)'!P$15:P$61,0)),"-") -> - | AC51: =IFERROR(INDEX('貼_ばれいしょ(全国・e-stat)'!$N$15:$N$61,MATCH('貼_ばれいしょ(全国・e-stat)'!$M53,'貼_ばれいしょ(全国・e-stat)'!V$15:V$61,0)),"-") -> - | AD51: =IFERROR(INDEX('貼_ばれいしょ(全国・e-stat)'!$N$15:$N$61,MATCH('貼_ばれいしょ(全国・e-stat)'!$M53,'貼_ばれいしょ(全国・e-stat)'!AB$15:AB$61,0)),"-") -> - | AE51: =IFERROR(INDEX('貼_なたね(全国・e-stat)'!$N$11:$N$57,MATCH('貼_なたね(全国・e-stat)'!$M49,'貼_なたね(全国・e-stat)'!P$11:P$57,0)),"-") -> - | AF51: =IFERROR(INDEX('貼_なたね(全国・e-stat)'!$N$11:$N$57,MATCH('貼_なたね(全国・e-stat)'!$M49,'貼_なたね(全国・e-stat)'!V$11:V$57,0)),"-") -> - | AG51: =IFERROR(INDEX('貼_なたね(全国・e-stat)'!$N$11:$N$57,MATCH('貼_なたね(全国・e-stat)'!$M49,'貼_なたね(全国・e-stat)'!AB$11:AB$57,0)),"-") -> -
D52: =IFERROR(INDEX('貼_耕地面積(全国・e-stat)'!$N$24:$N$70,MATCH('貼_耕地面積(全国・e-stat)'!M63,'貼_耕地面積(全国・e-stat)'!$P$24:$P$70,0)),"-") -> 香川 | E52: =IFERROR(INDEX('貼_耕地面積(全国・e-stat)'!$N$24:$N$70,MATCH('貼_耕地面積(全国・e-stat)'!M63,'貼_耕地面積(全国・e-stat)'!$W$24:$W$70,0)),"-") -> 高知 | F52: =IFERROR(INDEX('貼_耕地面積(全国・e-stat)'!$N$24:$N$70,MATCH('貼_耕地面積(全国・e-stat)'!M63,'貼_耕地面積(全国・e-stat)'!$AD$24:$AD$70,0)),"-") -> 兵庫 | G52: =IFERROR(INDEX('貼_水稲(全国・e-stat)'!$Y$12:$Y$58,MATCH('貼_水稲(全国・e-stat)'!X51,'貼_水稲(全国・e-stat)'!$AA$12:$AA$58,0)),"-") -> 長崎 | H52: =IFERROR(INDEX('貼_水稲(全国・e-stat)'!$Y$12:$Y$58,MATCH('貼_水稲(全国・e-stat)'!$X51,'貼_水稲(全国・e-stat)'!$AG$12:$AG$58,0)),"-") -> 長崎 | I52: =IFERROR(INDEX('貼_水稲(全国・e-stat)'!$Y$12:$Y$58,MATCH('貼_水稲(全国・e-stat)'!$X51,'貼_水稲(全国・e-stat)'!$AM$12:$AM$58,0)),"-") -> 宮崎 | J52: =IFERROR(INDEX('貼_小麦(全国・e-stat)'!$N$10:$N$56,MATCH('貼_小麦(全国・e-stat)'!$M49,'貼_小麦(全国・e-stat)'!P$10:P$56,0)),"-") -> 鹿児島 | K52: =IFERROR(INDEX('貼_小麦(全国・e-stat)'!$N$10:$N$56,MATCH('貼_小麦(全国・e-stat)'!$M49,'貼_小麦(全国・e-stat)'!V$10:V$56,0)),"-") -> 富山 | L52: =IFERROR(INDEX('貼_小麦(全国・e-stat)'!$N$10:$N$56,MATCH('貼_小麦(全国・e-stat)'!$M49,'貼_小麦(全国・e-stat)'!AB$10:AB$56,0)),"-") -> 島根 | S52: =IFERROR(INDEX('貼_大豆(全国・e-stat)'!$N$9:$N$55,MATCH('貼_大豆(全国・e-stat)'!$M48,'貼_大豆(全国・e-stat)'!P$9:P$55,0)),"-") -> 高知 | T52: =IFERROR(INDEX('貼_大豆(全国・e-stat)'!$N$9:$N$55,MATCH('貼_大豆(全国・e-stat)'!$M48,'貼_大豆(全国・e-stat)'!V$9:V$55,0)),"-") -> 神奈川 | U52: =IFERROR(INDEX('貼_大豆(全国・e-stat)'!$N$9:$N$55,MATCH('貼_大豆(全国・e-stat)'!$M48,'貼_大豆(全国・e-stat)'!AB$9:AB$55,0)),"-") -> 大阪 | Y52: =IFERROR(INDEX('貼_そば(全国・e-stat)'!$J$10:$J$56,MATCH('貼_そば(全国・e-stat)'!$I49,'貼_そば(全国・e-stat)'!L$10:L$56,0)),"-") -> 奈良 | Z52: =IFERROR(INDEX('貼_そば(全国・e-stat)'!$J$10:$J$56,MATCH('貼_そば(全国・e-stat)'!$I49,'貼_そば(全国・e-stat)'!R$10:R$56,0)),"-") -> 香川 | AA52: =IFERROR(INDEX('貼_そば(全国・e-stat)'!$J$10:$J$56,MATCH('貼_そば(全国・e-stat)'!$I49,'貼_そば(全国・e-stat)'!X$10:X$56,0)),"-") -> 宮城 | AB52: =IFERROR(INDEX('貼_ばれいしょ(全国・e-stat)'!$N$15:$N$61,MATCH('貼_ばれいしょ(全国・e-stat)'!$M54,'貼_ばれいしょ(全国・e-stat)'!P$15:P$61,0)),"-") -> - | AC52: =IFERROR(INDEX('貼_ばれいしょ(全国・e-stat)'!$N$15:$N$61,MATCH('貼_ばれいしょ(全国・e-stat)'!$M54,'貼_ばれいしょ(全国・e-stat)'!V$15:V$61,0)),"-") -> - | AD52: =IFERROR(INDEX('貼_ばれいしょ(全国・e-stat)'!$N$15:$N$61,MATCH('貼_ばれいしょ(全国・e-stat)'!$M54,'貼_ばれいしょ(全国・e-stat)'!AB$15:AB$61,0)),"-") -> - | AE52: =IFERROR(INDEX('貼_なたね(全国・e-stat)'!$N$11:$N$57,MATCH('貼_なたね(全国・e-stat)'!$M50,'貼_なたね(全国・e-stat)'!P$11:P$57,0)),"-") -> - | AF52: =IFERROR(INDEX('貼_なたね(全国・e-stat)'!$N$11:$N$57,MATCH('貼_なたね(全国・e-stat)'!$M50,'貼_なたね(全国・e-stat)'!V$11:V$57,0)),"-") -> - | AG52: =IFERROR(INDEX('貼_なたね(全国・e-stat)'!$N$11:$N$57,MATCH('貼_なたね(全国・e-stat)'!$M50,'貼_なたね(全国・e-stat)'!AB$11:AB$57,0)),"-") -> -
D53: =IFERROR(INDEX('貼_耕地面積(全国・e-stat)'!$N$24:$N$70,MATCH('貼_耕地面積(全国・e-stat)'!M64,'貼_耕地面積(全国・e-stat)'!$P$24:$P$70,0)),"-") -> 徳島 | E53: =IFERROR(INDEX('貼_耕地面積(全国・e-stat)'!$N$24:$N$70,MATCH('貼_耕地面積(全国・e-stat)'!M64,'貼_耕地面積(全国・e-stat)'!$W$24:$W$70,0)),"-") -> 奈良 | F53: =IFERROR(INDEX('貼_耕地面積(全国・e-stat)'!$N$24:$N$70,MATCH('貼_耕地面積(全国・e-stat)'!M64,'貼_耕地面積(全国・e-stat)'!$AD$24:$AD$70,0)),"-") -> 東京 | G53: =IFERROR(INDEX('貼_水稲(全国・e-stat)'!$Y$12:$Y$58,MATCH('貼_水稲(全国・e-stat)'!X52,'貼_水稲(全国・e-stat)'!$AA$12:$AA$58,0)),"-") -> 奈良 | H53: =IFERROR(INDEX('貼_水稲(全国・e-stat)'!$Y$12:$Y$58,MATCH('貼_水稲(全国・e-stat)'!$X52,'貼_水稲(全国・e-stat)'!$AG$12:$AG$58,0)),"-") -> 奈良 | I53: =IFERROR(INDEX('貼_水稲(全国・e-stat)'!$Y$12:$Y$58,MATCH('貼_水稲(全国・e-stat)'!$X52,'貼_水稲(全国・e-stat)'!$AM$12:$AM$58,0)),"-") -> 埼玉 | J53: =IFERROR(INDEX('貼_小麦(全国・e-stat)'!$N$10:$N$56,MATCH('貼_小麦(全国・e-stat)'!$M50,'貼_小麦(全国・e-stat)'!P$10:P$56,0)),"-") -> 富山 | K53: =IFERROR(INDEX('貼_小麦(全国・e-stat)'!$N$10:$N$56,MATCH('貼_小麦(全国・e-stat)'!$M50,'貼_小麦(全国・e-stat)'!V$10:V$56,0)),"-") -> 神奈川 | L53: =IFERROR(INDEX('貼_小麦(全国・e-stat)'!$N$10:$N$56,MATCH('貼_小麦(全国・e-stat)'!$M50,'貼_小麦(全国・e-stat)'!AB$10:AB$56,0)),"-") -> 石川 | S53: =IFERROR(INDEX('貼_大豆(全国・e-stat)'!$N$9:$N$55,MATCH('貼_大豆(全国・e-stat)'!$M49,'貼_大豆(全国・e-stat)'!P$9:P$55,0)),"-") -> 香川 | T53: =IFERROR(INDEX('貼_大豆(全国・e-stat)'!$N$9:$N$55,MATCH('貼_大豆(全国・e-stat)'!$M49,'貼_大豆(全国・e-stat)'!V$9:V$55,0)),"-") -> 香川 | U53: =IFERROR(INDEX('貼_大豆(全国・e-stat)'!$N$9:$N$55,MATCH('貼_大豆(全国・e-stat)'!$M49,'貼_大豆(全国・e-stat)'!AB$9:AB$55,0)),"-") -> 大分 | Y53: 沖縄 | Z53: =IFERROR(INDEX('貼_そば(全国・e-stat)'!$J$10:$J$56,MATCH('貼_そば(全国・e-stat)'!$I50,'貼_そば(全国・e-stat)'!R$10:R$56,0)),"-") -> 愛媛 | AA53: =IFERROR(INDEX('貼_そば(全国・e-stat)'!$J$10:$J$56,MATCH('貼_そば(全国・e-stat)'!$I50,'貼_そば(全国・e-stat)'!X$10:X$56,0)),"-") -> 愛知 | AB53: =IFERROR(INDEX('貼_ばれいしょ(全国・e-stat)'!$N$15:$N$61,MATCH('貼_ばれいしょ(全国・e-stat)'!$M55,'貼_ばれいしょ(全国・e-stat)'!P$15:P$61,0)),"-") -> - | AC53: =IFERROR(INDEX('貼_ばれいしょ(全国・e-stat)'!$N$15:$N$61,MATCH('貼_ばれいしょ(全国・e-stat)'!$M55,'貼_ばれいしょ(全国・e-stat)'!V$15:V$61,0)),"-") -> - | AD53: =IFERROR(INDEX('貼_ばれいしょ(全国・e-stat)'!$N$15:$N$61,MATCH('貼_ばれいしょ(全国・e-stat)'!$M55,'貼_ばれいしょ(全国・e-stat)'!AB$15:AB$61,0)),"-") -> - | AE53: =IFERROR(INDEX('貼_なたね(全国・e-stat)'!$N$11:$N$57,MATCH('貼_なたね(全国・e-stat)'!$M51,'貼_なたね(全国・e-stat)'!P$11:P$57,0)),"-") -> - | AF53: =IFERROR(INDEX('貼_なたね(全国・e-stat)'!$N$11:$N$57,MATCH('貼_なたね(全国・e-stat)'!$M51,'貼_なたね(全国・e-stat)'!V$11:V$57,0)),"-") -> - | AG53: =IFERROR(INDEX('貼_なたね(全国・e-stat)'!$N$11:$N$57,MATCH('貼_なたね(全国・e-stat)'!$M51,'貼_なたね(全国・e-stat)'!AB$11:AB$57,0)),"-") -> -
D54: =IFERROR(INDEX('貼_耕地面積(全国・e-stat)'!$N$24:$N$70,MATCH('貼_耕地面積(全国・e-stat)'!M65,'貼_耕地面積(全国・e-stat)'!$P$24:$P$70,0)),"-") -> 高知 | E54: =IFERROR(INDEX('貼_耕地面積(全国・e-stat)'!$N$24:$N$70,MATCH('貼_耕地面積(全国・e-stat)'!M65,'貼_耕地面積(全国・e-stat)'!$W$24:$W$70,0)),"-") -> 和歌山 | F54: =IFERROR(INDEX('貼_耕地面積(全国・e-stat)'!$N$24:$N$70,MATCH('貼_耕地面積(全国・e-stat)'!M65,'貼_耕地面積(全国・e-stat)'!$AD$24:$AD$70,0)),"-") -> 奈良 | G54: =IFERROR(INDEX('貼_水稲(全国・e-stat)'!$Y$12:$Y$58,MATCH('貼_水稲(全国・e-stat)'!X53,'貼_水稲(全国・e-stat)'!$AA$12:$AA$58,0)),"-") -> 和歌山 | H54: =IFERROR(INDEX('貼_水稲(全国・e-stat)'!$Y$12:$Y$58,MATCH('貼_水稲(全国・e-stat)'!$X53,'貼_水稲(全国・e-stat)'!$AG$12:$AG$58,0)),"-") -> 和歌山 | I54: =IFERROR(INDEX('貼_水稲(全国・e-stat)'!$Y$12:$Y$58,MATCH('貼_水稲(全国・e-stat)'!$X53,'貼_水稲(全国・e-stat)'!$AM$12:$AM$58,0)),"-") -> 徳島 | J54: =IFERROR(INDEX('貼_小麦(全国・e-stat)'!$N$10:$N$56,MATCH('貼_小麦(全国・e-stat)'!$M51,'貼_小麦(全国・e-stat)'!P$10:P$56,0)),"-") -> 神奈川 | K54: =IFERROR(INDEX('貼_小麦(全国・e-stat)'!$N$10:$N$56,MATCH('貼_小麦(全国・e-stat)'!$M51,'貼_小麦(全国・e-stat)'!V$10:V$56,0)),"-") -> 鹿児島 | L54: =IFERROR(INDEX('貼_小麦(全国・e-stat)'!$N$10:$N$56,MATCH('貼_小麦(全国・e-stat)'!$M51,'貼_小麦(全国・e-stat)'!AB$10:AB$56,0)),"-") -> 京都 | S54: =IFERROR(INDEX('貼_大豆(全国・e-stat)'!$N$9:$N$55,MATCH('貼_大豆(全国・e-stat)'!$M50,'貼_大豆(全国・e-stat)'!P$9:P$55,0)),"-") -> 神奈川 | T54: =IFERROR(INDEX('貼_大豆(全国・e-stat)'!$N$9:$N$55,MATCH('貼_大豆(全国・e-stat)'!$M50,'貼_大豆(全国・e-stat)'!V$9:V$55,0)),"-") -> 高知 | U54: =IFERROR(INDEX('貼_大豆(全国・e-stat)'!$N$9:$N$55,MATCH('貼_大豆(全国・e-stat)'!$M50,'貼_大豆(全国・e-stat)'!AB$9:AB$55,0)),"-") -> 高知 | Y54: =IFERROR(INDEX('貼_そば(全国・e-stat)'!$J$10:$J$56,MATCH('貼_そば(全国・e-stat)'!$I51,'貼_そば(全国・e-stat)'!L$10:L$56,0)),"-") -> 神奈川 | Z54: =IFERROR(INDEX('貼_そば(全国・e-stat)'!$J$10:$J$56,MATCH('貼_そば(全国・e-stat)'!$I51,'貼_そば(全国・e-stat)'!R$10:R$56,0)),"-") -> 奈良 | AA54: =IFERROR(INDEX('貼_そば(全国・e-stat)'!$J$10:$J$56,MATCH('貼_そば(全国・e-stat)'!$I51,'貼_そば(全国・e-stat)'!X$10:X$56,0)),"-") -> 島根 | AB54: =IFERROR(INDEX('貼_ばれいしょ(全国・e-stat)'!$N$15:$N$61,MATCH('貼_ばれいしょ(全国・e-stat)'!$M56,'貼_ばれいしょ(全国・e-stat)'!P$15:P$61,0)),"-") -> - | AC54: =IFERROR(INDEX('貼_ばれいしょ(全国・e-stat)'!$N$15:$N$61,MATCH('貼_ばれいしょ(全国・e-stat)'!$M56,'貼_ばれいしょ(全国・e-stat)'!V$15:V$61,0)),"-") -> - | AD54: =IFERROR(INDEX('貼_ばれいしょ(全国・e-stat)'!$N$15:$N$61,MATCH('貼_ばれいしょ(全国・e-stat)'!$M56,'貼_ばれいしょ(全国・e-stat)'!AB$15:AB$61,0)),"-") -> - | AE54: =IFERROR(INDEX('貼_なたね(全国・e-stat)'!$N$11:$N$57,MATCH('貼_なたね(全国・e-stat)'!$M52,'貼_なたね(全国・e-stat)'!P$11:P$57,0)),"-") -> - | AF54: =IFERROR(INDEX('貼_なたね(全国・e-stat)'!$N$11:$N$57,MATCH('貼_なたね(全国・e-stat)'!$M52,'貼_なたね(全国・e-stat)'!V$11:V$57,0)),"-") -> - | AG54: =IFERROR(INDEX('貼_なたね(全国・e-stat)'!$N$11:$N$57,MATCH('貼_なたね(全国・e-stat)'!$M52,'貼_なたね(全国・e-stat)'!AB$11:AB$57,0)),"-") -> -
D55: =IFERROR(INDEX('貼_耕地面積(全国・e-stat)'!$N$24:$N$70,MATCH('貼_耕地面積(全国・e-stat)'!M66,'貼_耕地面積(全国・e-stat)'!$P$24:$P$70,0)),"-") -> 山梨 | E55: =IFERROR(INDEX('貼_耕地面積(全国・e-stat)'!$N$24:$N$70,MATCH('貼_耕地面積(全国・e-stat)'!M66,'貼_耕地面積(全国・e-stat)'!$W$24:$W$70,0)),"-") -> 大阪 | F55: =IFERROR(INDEX('貼_耕地面積(全国・e-stat)'!$N$24:$N$70,MATCH('貼_耕地面積(全国・e-stat)'!M66,'貼_耕地面積(全国・e-stat)'!$AD$24:$AD$70,0)),"-") -> 香川 | G55: =IFERROR(INDEX('貼_水稲(全国・e-stat)'!$Y$12:$Y$58,MATCH('貼_水稲(全国・e-stat)'!X54,'貼_水稲(全国・e-stat)'!$AA$12:$AA$58,0)),"-") -> 山梨 | H55: =IFERROR(INDEX('貼_水稲(全国・e-stat)'!$Y$12:$Y$58,MATCH('貼_水稲(全国・e-stat)'!$X54,'貼_水稲(全国・e-stat)'!$AG$12:$AG$58,0)),"-") -> 山梨 | I55: =IFERROR(INDEX('貼_水稲(全国・e-stat)'!$Y$12:$Y$58,MATCH('貼_水稲(全国・e-stat)'!$X54,'貼_水稲(全国・e-stat)'!$AM$12:$AM$58,0)),"-") -> 鹿児島 | J55: =IFERROR(INDEX('貼_小麦(全国・e-stat)'!$N$10:$N$56,MATCH('貼_小麦(全国・e-stat)'!$M52,'貼_小麦(全国・e-stat)'!P$10:P$56,0)),"-") -> 和歌山 | K55: =IFERROR(INDEX('貼_小麦(全国・e-stat)'!$N$10:$N$56,MATCH('貼_小麦(全国・e-stat)'!$M52,'貼_小麦(全国・e-stat)'!V$10:V$56,0)),"-") -> 和歌山 | L55: =IFERROR(INDEX('貼_小麦(全国・e-stat)'!$N$10:$N$56,MATCH('貼_小麦(全国・e-stat)'!$M52,'貼_小麦(全国・e-stat)'!AB$10:AB$56,0)),"-") -> 大阪 | S55: =IFERROR(INDEX('貼_大豆(全国・e-stat)'!$N$9:$N$55,MATCH('貼_大豆(全国・e-stat)'!$M51,'貼_大豆(全国・e-stat)'!P$9:P$55,0)),"-") -> 和歌山 | T55: =IFERROR(INDEX('貼_大豆(全国・e-stat)'!$N$9:$N$55,MATCH('貼_大豆(全国・e-stat)'!$M51,'貼_大豆(全国・e-stat)'!V$9:V$55,0)),"-") -> 和歌山 | U55: =IFERROR(INDEX('貼_大豆(全国・e-stat)'!$N$9:$N$55,MATCH('貼_大豆(全国・e-stat)'!$M51,'貼_大豆(全国・e-stat)'!AB$9:AB$55,0)),"-") -> 静岡 | Y55: =IFERROR(INDEX('貼_そば(全国・e-stat)'!$J$10:$J$56,MATCH('貼_そば(全国・e-stat)'!$I52,'貼_そば(全国・e-stat)'!L$10:L$56,0)),"-") -> 愛知 | Z55: =IFERROR(INDEX('貼_そば(全国・e-stat)'!$J$10:$J$56,MATCH('貼_そば(全国・e-stat)'!$I52,'貼_そば(全国・e-stat)'!R$10:R$56,0)),"-") -> 愛知 | AA55: =IFERROR(INDEX('貼_そば(全国・e-stat)'!$J$10:$J$56,MATCH('貼_そば(全国・e-stat)'!$I52,'貼_そば(全国・e-stat)'!X$10:X$56,0)),"-") -> 愛媛 | AB55: =IFERROR(INDEX('貼_ばれいしょ(全国・e-stat)'!$N$15:$N$61,MATCH('貼_ばれいしょ(全国・e-stat)'!$M57,'貼_ばれいしょ(全国・e-stat)'!P$15:P$61,0)),"-") -> - | AC55: =IFERROR(INDEX('貼_ばれいしょ(全国・e-stat)'!$N$15:$N$61,MATCH('貼_ばれいしょ(全国・e-stat)'!$M57,'貼_ばれいしょ(全国・e-stat)'!V$15:V$61,0)),"-") -> - | AD55: =IFERROR(INDEX('貼_ばれいしょ(全国・e-stat)'!$N$15:$N$61,MATCH('貼_ばれいしょ(全国・e-stat)'!$M57,'貼_ばれいしょ(全国・e-stat)'!AB$15:AB$61,0)),"-") -> - | AE55: =IFERROR(INDEX('貼_なたね(全国・e-stat)'!$N$11:$N$57,MATCH('貼_なたね(全国・e-stat)'!$M53,'貼_なたね(全国・e-stat)'!P$11:P$57,0)),"-") -> - | AF55: =IFERROR(INDEX('貼_なたね(全国・e-stat)'!$N$11:$N$57,MATCH('貼_なたね(全国・e-stat)'!$M53,'貼_なたね(全国・e-stat)'!V$11:V$57,0)),"-") -> - | AG55: =IFERROR(INDEX('貼_なたね(全国・e-stat)'!$N$11:$N$57,MATCH('貼_なたね(全国・e-stat)'!$M53,'貼_なたね(全国・e-stat)'!AB$11:AB$57,0)),"-") -> -
D56: =IFERROR(INDEX('貼_耕地面積(全国・e-stat)'!$N$24:$N$70,MATCH('貼_耕地面積(全国・e-stat)'!M67,'貼_耕地面積(全国・e-stat)'!$P$24:$P$70,0)),"-") -> 奈良 | E56: =IFERROR(INDEX('貼_耕地面積(全国・e-stat)'!$N$24:$N$70,MATCH('貼_耕地面積(全国・e-stat)'!M67,'貼_耕地面積(全国・e-stat)'!$W$24:$W$70,0)),"-") -> 山梨 | F56: =IFERROR(INDEX('貼_耕地面積(全国・e-stat)'!$N$24:$N$70,MATCH('貼_耕地面積(全国・e-stat)'!M67,'貼_耕地面積(全国・e-stat)'!$AD$24:$AD$70,0)),"-") -> 大阪 | G56: =IFERROR(INDEX('貼_水稲(全国・e-stat)'!$Y$12:$Y$58,MATCH('貼_水稲(全国・e-stat)'!X55,'貼_水稲(全国・e-stat)'!$AA$12:$AA$58,0)),"-") -> 大阪 | H56: =IFERROR(INDEX('貼_水稲(全国・e-stat)'!$Y$12:$Y$58,MATCH('貼_水稲(全国・e-stat)'!$X55,'貼_水稲(全国・e-stat)'!$AG$12:$AG$58,0)),"-") -> 大阪 | I56: =IFERROR(INDEX('貼_水稲(全国・e-stat)'!$Y$12:$Y$58,MATCH('貼_水稲(全国・e-stat)'!$X55,'貼_水稲(全国・e-stat)'!$AM$12:$AM$58,0)),"-") -> 福岡 | J56: =IFERROR(INDEX('貼_小麦(全国・e-stat)'!$N$10:$N$56,MATCH('貼_小麦(全国・e-stat)'!$M53,'貼_小麦(全国・e-stat)'!P$10:P$56,0)),"-") -> 東京 | K56: =IFERROR(INDEX('貼_小麦(全国・e-stat)'!$N$10:$N$56,MATCH('貼_小麦(全国・e-stat)'!$M53,'貼_小麦(全国・e-stat)'!V$10:V$56,0)),"-") -> 東京 | L56: =IFERROR(INDEX('貼_小麦(全国・e-stat)'!$N$10:$N$56,MATCH('貼_小麦(全国・e-stat)'!$M53,'貼_小麦(全国・e-stat)'!AB$10:AB$56,0)),"-") -> 沖縄 | S56: =IFERROR(INDEX('貼_大豆(全国・e-stat)'!$N$9:$N$55,MATCH('貼_大豆(全国・e-stat)'!$M52,'貼_大豆(全国・e-stat)'!P$9:P$55,0)),"-") -> 大阪 | T56: =IFERROR(INDEX('貼_大豆(全国・e-stat)'!$N$9:$N$55,MATCH('貼_大豆(全国・e-stat)'!$M52,'貼_大豆(全国・e-stat)'!V$9:V$55,0)),"-") -> 大阪 | U56: =IFERROR(INDEX('貼_大豆(全国・e-stat)'!$N$9:$N$55,MATCH('貼_大豆(全国・e-stat)'!$M52,'貼_大豆(全国・e-stat)'!AB$9:AB$55,0)),"-") -> 京都 | Y56: =IFERROR(INDEX('貼_そば(全国・e-stat)'!$J$10:$J$56,MATCH('貼_そば(全国・e-stat)'!$I53,'貼_そば(全国・e-stat)'!L$10:L$56,0)),"-") -> 東京 | Z56: =IFERROR(INDEX('貼_そば(全国・e-stat)'!$J$10:$J$56,MATCH('貼_そば(全国・e-stat)'!$I53,'貼_そば(全国・e-stat)'!R$10:R$56,0)),"-") -> 東京 | AA56: =IFERROR(INDEX('貼_そば(全国・e-stat)'!$J$10:$J$56,MATCH('貼_そば(全国・e-stat)'!$I53,'貼_そば(全国・e-stat)'!X$10:X$56,0)),"-") -> 大分 | AB56: =IFERROR(INDEX('貼_ばれいしょ(全国・e-stat)'!$N$15:$N$61,MATCH('貼_ばれいしょ(全国・e-stat)'!$M58,'貼_ばれいしょ(全国・e-stat)'!P$15:P$61,0)),"-") -> - | AC56: =IFERROR(INDEX('貼_ばれいしょ(全国・e-stat)'!$N$15:$N$61,MATCH('貼_ばれいしょ(全国・e-stat)'!$M58,'貼_ばれいしょ(全国・e-stat)'!V$15:V$61,0)),"-") -> - | AD56: =IFERROR(INDEX('貼_ばれいしょ(全国・e-stat)'!$N$15:$N$61,MATCH('貼_ばれいしょ(全国・e-stat)'!$M58,'貼_ばれいしょ(全国・e-stat)'!AB$15:AB$61,0)),"-") -> - | AE56: =IFERROR(INDEX('貼_なたね(全国・e-stat)'!$N$11:$N$57,MATCH('貼_なたね(全国・e-stat)'!$M54,'貼_なたね(全国・e-stat)'!P$11:P$57,0)),"-") -> - | AF56: =IFERROR(INDEX('貼_なたね(全国・e-stat)'!$N$11:$N$57,MATCH('貼_なたね(全国・e-stat)'!$M54,'貼_なたね(全国・e-stat)'!V$11:V$57,0)),"-") -> - | AG56: =IFERROR(INDEX('貼_なたね(全国・e-stat)'!$N$11:$N$57,MATCH('貼_なたね(全国・e-stat)'!$M54,'貼_なたね(全国・e-stat)'!AB$11:AB$57,0)),"-") -> -
D57: =IFERROR(INDEX('貼_耕地面積(全国・e-stat)'!$N$24:$N$70,MATCH('貼_耕地面積(全国・e-stat)'!M68,'貼_耕地面積(全国・e-stat)'!$P$24:$P$70,0)),"-") -> 神奈川 | E57: =IFERROR(INDEX('貼_耕地面積(全国・e-stat)'!$N$24:$N$70,MATCH('貼_耕地面積(全国・e-stat)'!M68,'貼_耕地面積(全国・e-stat)'!$W$24:$W$70,0)),"-") -> 神奈川 | F57: =IFERROR(INDEX('貼_耕地面積(全国・e-stat)'!$N$24:$N$70,MATCH('貼_耕地面積(全国・e-stat)'!M68,'貼_耕地面積(全国・e-stat)'!$AD$24:$AD$70,0)),"-") -> 福井 | G57: =IFERROR(INDEX('貼_水稲(全国・e-stat)'!$Y$12:$Y$58,MATCH('貼_水稲(全国・e-stat)'!X56,'貼_水稲(全国・e-stat)'!$AA$12:$AA$58,0)),"-") -> 神奈川 | H57: =IFERROR(INDEX('貼_水稲(全国・e-stat)'!$Y$12:$Y$58,MATCH('貼_水稲(全国・e-stat)'!$X56,'貼_水稲(全国・e-stat)'!$AG$12:$AG$58,0)),"-") -> 神奈川 | I57: =IFERROR(INDEX('貼_水稲(全国・e-stat)'!$Y$12:$Y$58,MATCH('貼_水稲(全国・e-stat)'!$X56,'貼_水稲(全国・e-stat)'!$AM$12:$AM$58,0)),"-") -> 高知 | J57: 沖縄 | K57: =IFERROR(INDEX('貼_小麦(全国・e-stat)'!$N$10:$N$56,MATCH('貼_小麦(全国・e-stat)'!$M54,'貼_小麦(全国・e-stat)'!V$10:V$56,0)),"-") -> 沖縄 | L57: =IFERROR(INDEX('貼_小麦(全国・e-stat)'!$N$10:$N$56,MATCH('貼_小麦(全国・e-stat)'!$M54,'貼_小麦(全国・e-stat)'!AB$10:AB$56,0)),"-") -> 宮崎 | S57: =IFERROR(INDEX('貼_大豆(全国・e-stat)'!$N$9:$N$55,MATCH('貼_大豆(全国・e-stat)'!$M53,'貼_大豆(全国・e-stat)'!P$9:P$55,0)),"-") -> 徳島 | T57: =IFERROR(INDEX('貼_大豆(全国・e-stat)'!$N$9:$N$55,MATCH('貼_大豆(全国・e-stat)'!$M53,'貼_大豆(全国・e-stat)'!V$9:V$55,0)),"-") -> 東京 | U57: =IFERROR(INDEX('貼_大豆(全国・e-stat)'!$N$9:$N$55,MATCH('貼_大豆(全国・e-stat)'!$M53,'貼_大豆(全国・e-stat)'!AB$9:AB$55,0)),"-") -> 岡山 | Y57: 和歌山 | Z57: 和歌山 | AA57: =IFERROR(INDEX('貼_そば(全国・e-stat)'!$J$10:$J$56,MATCH('貼_そば(全国・e-stat)'!$I54,'貼_そば(全国・e-stat)'!X$10:X$56,0)),"-") -> 和歌山 | AB57: =IFERROR(INDEX('貼_ばれいしょ(全国・e-stat)'!$N$15:$N$61,MATCH('貼_ばれいしょ(全国・e-stat)'!$M59,'貼_ばれいしょ(全国・e-stat)'!P$15:P$61,0)),"-") -> - | AC57: =IFERROR(INDEX('貼_ばれいしょ(全国・e-stat)'!$N$15:$N$61,MATCH('貼_ばれいしょ(全国・e-stat)'!$M59,'貼_ばれいしょ(全国・e-stat)'!V$15:V$61,0)),"-") -> - | AD57: =IFERROR(INDEX('貼_ばれいしょ(全国・e-stat)'!$N$15:$N$61,MATCH('貼_ばれいしょ(全国・e-stat)'!$M59,'貼_ばれいしょ(全国・e-stat)'!AB$15:AB$61,0)),"-") -> - | AE57: =IFERROR(INDEX('貼_なたね(全国・e-stat)'!$N$11:$N$57,MATCH('貼_なたね(全国・e-stat)'!$M55,'貼_なたね(全国・e-stat)'!P$11:P$57,0)),"-") -> - | AF57: =IFERROR(INDEX('貼_なたね(全国・e-stat)'!$N$11:$N$57,MATCH('貼_なたね(全国・e-stat)'!$M55,'貼_なたね(全国・e-stat)'!V$11:V$57,0)),"-") -> - | AG57: =IFERROR(INDEX('貼_なたね(全国・e-stat)'!$N$11:$N$57,MATCH('貼_なたね(全国・e-stat)'!$M55,'貼_なたね(全国・e-stat)'!AB$11:AB$57,0)),"-") -> -
D58: =IFERROR(INDEX('貼_耕地面積(全国・e-stat)'!$N$24:$N$70,MATCH('貼_耕地面積(全国・e-stat)'!M69,'貼_耕地面積(全国・e-stat)'!$P$24:$P$70,0)),"-") -> 大阪 | E58: =IFERROR(INDEX('貼_耕地面積(全国・e-stat)'!$N$24:$N$70,MATCH('貼_耕地面積(全国・e-stat)'!M69,'貼_耕地面積(全国・e-stat)'!$W$24:$W$70,0)),"-") -> 沖縄 | F58: =IFERROR(INDEX('貼_耕地面積(全国・e-stat)'!$N$24:$N$70,MATCH('貼_耕地面積(全国・e-stat)'!M69,'貼_耕地面積(全国・e-stat)'!$AD$24:$AD$70,0)),"-") -> 滋賀 | G58: =IFERROR(INDEX('貼_水稲(全国・e-stat)'!$Y$12:$Y$58,MATCH('貼_水稲(全国・e-stat)'!X57,'貼_水稲(全国・e-stat)'!$AA$12:$AA$58,0)),"-") -> 沖縄 | H58: =IFERROR(INDEX('貼_水稲(全国・e-stat)'!$Y$12:$Y$58,MATCH('貼_水稲(全国・e-stat)'!$X57,'貼_水稲(全国・e-stat)'!$AG$12:$AG$58,0)),"-") -> 沖縄 | I58: =IFERROR(INDEX('貼_水稲(全国・e-stat)'!$Y$12:$Y$58,MATCH('貼_水稲(全国・e-stat)'!$X57,'貼_水稲(全国・e-stat)'!$AM$12:$AM$58,0)),"-") -> 東京 | J58: =IFERROR(INDEX('貼_小麦(全国・e-stat)'!$N$10:$N$56,MATCH('貼_小麦(全国・e-stat)'!$M55,'貼_小麦(全国・e-stat)'!P$10:P$56,0)),"-") -> 高知 | K58: =IFERROR(INDEX('貼_小麦(全国・e-stat)'!$N$10:$N$56,MATCH('貼_小麦(全国・e-stat)'!$M55,'貼_小麦(全国・e-stat)'!V$10:V$56,0)),"-") -> 高知 | L58: =IFERROR(INDEX('貼_小麦(全国・e-stat)'!$N$10:$N$56,MATCH('貼_小麦(全国・e-stat)'!$M55,'貼_小麦(全国・e-stat)'!AB$10:AB$56,0)),"-") -> 高知 | S58: =IFERROR(INDEX('貼_大豆(全国・e-stat)'!$N$9:$N$55,MATCH('貼_大豆(全国・e-stat)'!$M54,'貼_大豆(全国・e-stat)'!P$9:P$55,0)),"-") -> 東京 | T58: =IFERROR(INDEX('貼_大豆(全国・e-stat)'!$N$9:$N$55,MATCH('貼_大豆(全国・e-stat)'!$M54,'貼_大豆(全国・e-stat)'!V$9:V$55,0)),"-") -> 徳島 | U58: =IFERROR(INDEX('貼_大豆(全国・e-stat)'!$N$9:$N$55,MATCH('貼_大豆(全国・e-stat)'!$M54,'貼_大豆(全国・e-stat)'!AB$9:AB$55,0)),"-") -> 徳島 | Y58: 高知 | Z58: 高知 | AA58: =IFERROR(INDEX('貼_そば(全国・e-stat)'!$J$10:$J$56,MATCH('貼_そば(全国・e-stat)'!$I55,'貼_そば(全国・e-stat)'!X$10:X$56,0)),"-") -> 高知 | AB58: =IFERROR(INDEX('貼_ばれいしょ(全国・e-stat)'!$N$15:$N$61,MATCH('貼_ばれいしょ(全国・e-stat)'!$M60,'貼_ばれいしょ(全国・e-stat)'!P$15:P$61,0)),"-") -> - | AC58: =IFERROR(INDEX('貼_ばれいしょ(全国・e-stat)'!$N$15:$N$61,MATCH('貼_ばれいしょ(全国・e-stat)'!$M60,'貼_ばれいしょ(全国・e-stat)'!V$15:V$61,0)),"-") -> - | AD58: =IFERROR(INDEX('貼_ばれいしょ(全国・e-stat)'!$N$15:$N$61,MATCH('貼_ばれいしょ(全国・e-stat)'!$M60,'貼_ばれいしょ(全国・e-stat)'!AB$15:AB$61,0)),"-") -> - | AE58: =IFERROR(INDEX('貼_なたね(全国・e-stat)'!$N$11:$N$57,MATCH('貼_なたね(全国・e-stat)'!$M56,'貼_なたね(全国・e-stat)'!P$11:P$57,0)),"-") -> - | AF58: =IFERROR(INDEX('貼_なたね(全国・e-stat)'!$N$11:$N$57,MATCH('貼_なたね(全国・e-stat)'!$M56,'貼_なたね(全国・e-stat)'!V$11:V$57,0)),"-") -> - | AG58: =IFERROR(INDEX('貼_なたね(全国・e-stat)'!$N$11:$N$57,MATCH('貼_なたね(全国・e-stat)'!$M56,'貼_なたね(全国・e-stat)'!AB$11:AB$57,0)),"-") -> -
D59: =IFERROR(INDEX('貼_耕地面積(全国・e-stat)'!$N$24:$N$70,MATCH('貼_耕地面積(全国・e-stat)'!M70,'貼_耕地面積(全国・e-stat)'!$P$24:$P$70,0)),"-") -> 東京 | E59: =IFERROR(INDEX('貼_耕地面積(全国・e-stat)'!$N$24:$N$70,MATCH('貼_耕地面積(全国・e-stat)'!M70,'貼_耕地面積(全国・e-stat)'!$W$24:$W$70,0)),"-") -> 東京 | F59: =IFERROR(INDEX('貼_耕地面積(全国・e-stat)'!$N$24:$N$70,MATCH('貼_耕地面積(全国・e-stat)'!M70,'貼_耕地面積(全国・e-stat)'!$AD$24:$AD$70,0)),"-") -> 富山 | G59: =IFERROR(INDEX('貼_水稲(全国・e-stat)'!$Y$12:$Y$58,MATCH('貼_水稲(全国・e-stat)'!X58,'貼_水稲(全国・e-stat)'!$AA$12:$AA$58,0)),"-") -> 東京 | H59: =IFERROR(INDEX('貼_水稲(全国・e-stat)'!$Y$12:$Y$58,MATCH('貼_水稲(全国・e-stat)'!$X58,'貼_水稲(全国・e-stat)'!$AG$12:$AG$58,0)),"-") -> 東京 | I59: =IFERROR(INDEX('貼_水稲(全国・e-stat)'!$Y$12:$Y$58,MATCH('貼_水稲(全国・e-stat)'!$X58,'貼_水稲(全国・e-stat)'!$AM$12:$AM$58,0)),"-") -> 沖縄 | J59: =IFERROR(INDEX('貼_小麦(全国・e-stat)'!$N$10:$N$56,MATCH('貼_小麦(全国・e-stat)'!$M56,'貼_小麦(全国・e-stat)'!P$10:P$56,0)),"-") -> 大阪 | K59: =IFERROR(INDEX('貼_小麦(全国・e-stat)'!$N$10:$N$56,MATCH('貼_小麦(全国・e-stat)'!$M56,'貼_小麦(全国・e-stat)'!V$10:V$56,0)),"-") -> 大阪 | L59: =IFERROR(INDEX('貼_小麦(全国・e-stat)'!$N$10:$N$56,MATCH('貼_小麦(全国・e-stat)'!$M56,'貼_小麦(全国・e-stat)'!AB$10:AB$56,0)),"-") -> 鹿児島 | S59: =IFERROR(INDEX('貼_大豆(全国・e-stat)'!$N$9:$N$55,MATCH('貼_大豆(全国・e-stat)'!$M55,'貼_大豆(全国・e-stat)'!P$9:P$55,0)),"-") -> - | T59: =IFERROR(INDEX('貼_大豆(全国・e-stat)'!$N$9:$N$55,MATCH('貼_大豆(全国・e-stat)'!$M55,'貼_大豆(全国・e-stat)'!V$9:V$55,0)),"-") -> - | U59: =IFERROR(INDEX('貼_大豆(全国・e-stat)'!$N$9:$N$55,MATCH('貼_大豆(全国・e-stat)'!$M55,'貼_大豆(全国・e-stat)'!AB$9:AB$55,0)),"-") -> - | Y59: =IFERROR(INDEX('貼_そば(全国・e-stat)'!$J$10:$J$56,MATCH('貼_そば(全国・e-stat)'!$I56,'貼_そば(全国・e-stat)'!L$10:L$56,0)),"-") -> - | Z59: =IFERROR(INDEX('貼_そば(全国・e-stat)'!$J$10:$J$56,MATCH('貼_そば(全国・e-stat)'!$I56,'貼_そば(全国・e-stat)'!R$10:R$56,0)),"-") -> - | AA59: =IFERROR(INDEX('貼_そば(全国・e-stat)'!$J$10:$J$56,MATCH('貼_そば(全国・e-stat)'!$I56,'貼_そば(全国・e-stat)'!X$10:X$56,0)),"-") -> 奈良 | AB59: =IFERROR(INDEX('貼_ばれいしょ(全国・e-stat)'!$N$15:$N$61,MATCH('貼_ばれいしょ(全国・e-stat)'!$M61,'貼_ばれいしょ(全国・e-stat)'!P$15:P$61,0)),"-") -> - | AC59: =IFERROR(INDEX('貼_ばれいしょ(全国・e-stat)'!$N$15:$N$61,MATCH('貼_ばれいしょ(全国・e-stat)'!$M61,'貼_ばれいしょ(全国・e-stat)'!V$15:V$61,0)),"-") -> - | AD59: =IFERROR(INDEX('貼_ばれいしょ(全国・e-stat)'!$N$15:$N$61,MATCH('貼_ばれいしょ(全国・e-stat)'!$M61,'貼_ばれいしょ(全国・e-stat)'!AB$15:AB$61,0)),"-") -> - | AE59: =IFERROR(INDEX('貼_なたね(全国・e-stat)'!$N$11:$N$57,MATCH('貼_なたね(全国・e-stat)'!$M57,'貼_なたね(全国・e-stat)'!P$11:P$57,0)),"-") -> - | AF59: =IFERROR(INDEX('貼_なたね(全国・e-stat)'!$N$11:$N$57,MATCH('貼_なたね(全国・e-stat)'!$M57,'貼_なたね(全国・e-stat)'!V$11:V$57,0)),"-") -> - | AG59: =IFERROR(INDEX('貼_なたね(全国・e-stat)'!$N$11:$N$57,MATCH('貼_なたね(全国・e-stat)'!$M57,'貼_なたね(全国・e-stat)'!AB$11:AB$57,0)),"-") -> -
B60: (秋まき・春まき小麦、てんさい10a当たり収穫量はこちら↓) | C60: データ（全国値） | D60: ='貼_耕地面積(全国・e-stat)'!F10 -> 4272000 | E60: ='貼_耕地面積(全国・e-stat)'!G10 -> 2319000 | F60: ='貼_耕地面積(全国・e-stat)'!H10 -> 1952000 | G60: ='貼_水稲(全国・e-stat)'!D12 -> 1359000 | H60: ='貼_水稲(全国・e-stat)'!F12 -> 7345000 | I60: ='貼_水稲(全国・e-stat)'!E12 -> 540 | J60: ='貼_小麦(全国・e-stat)'!B10 -> 231800 | K60: ='貼_小麦(全国・e-stat)'!D10 -> 1029000 | L60: ='貼_小麦(全国・e-stat)'!C10 -> 444 | S60: ='貼_大豆(全国・e-stat)'!B9 -> 153900 | T60: ='貼_大豆(全国・e-stat)'!D9 -> 252400 | U60: ='貼_大豆(全国・e-stat)'!C9 -> 164 | V60: ='貼_てんさい(全国・e-stat)'!B10 -> 48900 | W60: ='貼_てんさい(全国・e-stat)'!D10 -> 3485000 | Y60: ='貼_そば(全国・e-stat)'!C10 -> 69000 | Z60: ='貼_そば(全国・e-stat)'!G10 -> 40400 | AA60: ='貼_そば(全国・e-stat)'!F10 -> 59 | AB60: ='貼_ばれいしょ(全国・e-stat)'!C15 -> 71200 | AC60: ='貼_ばれいしょ(全国・e-stat)'!E15 -> 2364000 | AD60: ='貼_ばれいしょ(全国・e-stat)'!D15 -> 3320 | AE60: ='貼_なたね(全国・e-stat)'!B10 -> 1680 | AF60: ='貼_なたね(全国・e-stat)'!D10 -> 3140 | AG60: ='貼_なたね(全国・e-stat)'!C10 -> 187
B61: 4年前 | C61: 2 | D61: =IFERROR(LARGE('貼_耕地面積(全国・e-stat)'!F$24:F$70,'貼_耕地面積(全国・e-stat)'!$M24),"-") -> 1138000 | E61: =IFERROR(LARGE('貼_耕地面積(全国・e-stat)'!G$24:G$70,'貼_耕地面積(全国・e-stat)'!$M24),"-") -> 220700 | F61: =IFERROR(LARGE('貼_耕地面積(全国・e-stat)'!H$24:H$70,'貼_耕地面積(全国・e-stat)'!$M24),"-") -> 917300 | G61: =IFERROR(LARGE('貼_水稲(全国・e-stat)'!$Z$12:$Z$58,'貼_水稲(全国・e-stat)'!$X12),"-") -> 116200 | H61: =IFERROR(LARGE('貼_水稲(全国・e-stat)'!$AF$12:$AF$58,'貼_水稲(全国・e-stat)'!$X12),"-") -> 622800 | I61: =IFERROR(LARGE('貼_水稲(全国・e-stat)'!$AL$12:$AL$58,'貼_水稲(全国・e-stat)'!$X12),"-") -> 623 | J61: =IFERROR(LARGE('貼_小麦(全国・e-stat)'!O$10:O$56,'貼_小麦(全国・e-stat)'!$M10),"-") -> 132000 | K61: =IFERROR(LARGE('貼_小麦(全国・e-stat)'!U$10:U$56,'貼_小麦(全国・e-stat)'!$M10),"-") -> 714200 | L61: =IFERROR(LARGE('貼_小麦(全国・e-stat)'!AA$10:AA$56,'貼_小麦(全国・e-stat)'!$M10),"-") -> 541 | M61: 105400 | N61: 569200 | O61: 540 | P61: 16800 | Q61: 60700 | R61: 361 | S61: =IFERROR(LARGE('貼_大豆(全国・e-stat)'!$O$9:$O$55,'貼_大豆(全国・e-stat)'!$M9),"-") -> 46800 | T61: =IFERROR(LARGE('貼_大豆(全国・e-stat)'!$U$9:$U$55,'貼_大豆(全国・e-stat)'!$M9),"-") -> 132400 | U61: =IFERROR(LARGE('貼_大豆(全国・e-stat)'!$AA$9:$AA$55,'貼_大豆(全国・e-stat)'!$M9),"-") -> 283 | V61: ='貼_てんさい(全国・e-stat)'!B10 -> 48900 | W61: ='貼_てんさい(全国・e-stat)'!D10 -> 3485000 | X61: 6890 | Y61: =IFERROR(LARGE('貼_そば(全国・e-stat)'!K$10:K$56,'貼_そば(全国・e-stat)'!$I10),"-") -> 26100 | Z61: =IFERROR(LARGE('貼_そば(全国・e-stat)'!Q$10:Q$56,'貼_そば(全国・e-stat)'!$I10),"-") -> 17900 | AA61: =IFERROR(LARGE('貼_そば(全国・e-stat)'!W$10:W$56,'貼_そば(全国・e-stat)'!$I10),"-") -> 83 | AB61: =IFERROR(LARGE('貼_ばれいしょ(全国・e-stat)'!O$15:O$61,'貼_ばれいしょ(全国・e-stat)'!$M15),"-") -> 48500 | AC61: =IFERROR(LARGE('貼_ばれいしょ(全国・e-stat)'!U$15:U$61,'貼_ばれいしょ(全国・e-stat)'!$M15),"-") -> 1916000 | AD61: =IFERROR(LARGE('貼_ばれいしょ(全国・e-stat)'!AA$15:AA$61,'貼_ばれいしょ(全国・e-stat)'!$M15),"-") -> 3950 | AE61: =IFERROR(LARGE('貼_なたね(全国・e-stat)'!O$11:O$57,'貼_なたね(全国・e-stat)'!$M11),"-") -> 993 | AF61: =IFERROR(LARGE('貼_なたね(全国・e-stat)'!U$11:U$57,'貼_なたね(全国・e-stat)'!$M11),"-") -> 2550 | AG61: =IFERROR(LARGE('貼_なたね(全国・e-stat)'!AA$11:AA$57,'貼_なたね(全国・e-stat)'!$M11),"-") -> 257
B62: 3年前 | C62: 3 | D62: =IFERROR(LARGE('貼_耕地面積(全国・e-stat)'!F$24:F$70,'貼_耕地面積(全国・e-stat)'!$M25),"-") -> 166500 | E62: =IFERROR(LARGE('貼_耕地面積(全国・e-stat)'!G$24:G$70,'貼_耕地面積(全国・e-stat)'!$M25),"-") -> 147800 | F62: =IFERROR(LARGE('貼_耕地面積(全国・e-stat)'!H$24:H$70,'貼_耕地面積(全国・e-stat)'!$M25),"-") -> 76900 | G62: =IFERROR(LARGE('貼_水稲(全国・e-stat)'!$Z$12:$Z$58,'貼_水稲(全国・e-stat)'!$X13),"-") -> 95000 | H62: =IFERROR(LARGE('貼_水稲(全国・e-stat)'!$AF$12:$AF$58,'貼_水稲(全国・e-stat)'!$X13),"-") -> 562400 | I62: =IFERROR(LARGE('貼_水稲(全国・e-stat)'!$AL$12:$AL$58,'貼_水稲(全国・e-stat)'!$X13),"-") -> 620 | J62: =IFERROR(LARGE('貼_小麦(全国・e-stat)'!O$10:O$56,'貼_小麦(全国・e-stat)'!$M11),"-") -> 16400 | K62: =IFERROR(LARGE('貼_小麦(全国・e-stat)'!U$10:U$56,'貼_小麦(全国・e-stat)'!$M11),"-") -> 52800 | L62: =IFERROR(LARGE('貼_小麦(全国・e-stat)'!AA$10:AA$56,'貼_小麦(全国・e-stat)'!$M11),"-") -> 473 | M62: 108500 | N62: 664000 | O62: 612 | P62: 17600 | Q62: 64400 | R62: 366 | S62: =IFERROR(LARGE('貼_大豆(全国・e-stat)'!$O$9:$O$55,'貼_大豆(全国・e-stat)'!$M10),"-") -> 11600 | T62: =IFERROR(LARGE('貼_大豆(全国・e-stat)'!$U$9:$U$55,'貼_大豆(全国・e-stat)'!$M10),"-") -> 18900 | U62: =IFERROR(LARGE('貼_大豆(全国・e-stat)'!$AA$9:$AA$55,'貼_大豆(全国・e-stat)'!$M10),"-") -> 163 | X62: 7040 | Y62: =IFERROR(LARGE('貼_そば(全国・e-stat)'!K$10:K$56,'貼_そば(全国・e-stat)'!$I11),"-") -> 5900 | Z62: =IFERROR(LARGE('貼_そば(全国・e-stat)'!Q$10:Q$56,'貼_そば(全国・e-stat)'!$I11),"-") -> 2680 | AA62: =IFERROR(LARGE('貼_そば(全国・e-stat)'!W$10:W$56,'貼_そば(全国・e-stat)'!$I11),"-") -> 80 | AB62: =IFERROR(LARGE('貼_ばれいしょ(全国・e-stat)'!O$15:O$61,'貼_ばれいしょ(全国・e-stat)'!$M16),"-") -> 4410 | AC62: =IFERROR(LARGE('貼_ばれいしょ(全国・e-stat)'!U$15:U$61,'貼_ばれいしょ(全国・e-stat)'!$M16),"-") -> 85000 | AD62: =IFERROR(LARGE('貼_ばれいしょ(全国・e-stat)'!AA$15:AA$61,'貼_ばれいしょ(全国・e-stat)'!$M16),"-") -> 2810 | AE62: =IFERROR(LARGE('貼_なたね(全国・e-stat)'!O$11:O$57,'貼_なたね(全国・e-stat)'!$M12),"-") -> 147 | AF62: =IFERROR(LARGE('貼_なたね(全国・e-stat)'!U$11:U$57,'貼_なたね(全国・e-stat)'!$M12),"-") -> 298 | AG62: =IFERROR(LARGE('貼_なたね(全国・e-stat)'!AA$11:AA$57,'貼_なたね(全国・e-stat)'!$M12),"-") -> 221
B63: 2年前 | C63: 4 | D63: =IFERROR(LARGE('貼_耕地面積(全国・e-stat)'!F$24:F$70,'貼_耕地面積(全国・e-stat)'!$M26),"-") -> 158300 | E63: =IFERROR(LARGE('貼_耕地面積(全国・e-stat)'!G$24:G$70,'貼_耕地面積(全国・e-stat)'!$M26),"-") -> 127700 | F63: =IFERROR(LARGE('貼_耕地面積(全国・e-stat)'!H$24:H$70,'貼_耕地面積(全国・e-stat)'!$M26),"-") -> 69800 | G63: =IFERROR(LARGE('貼_水稲(全国・e-stat)'!$Z$12:$Z$58,'貼_水稲(全国・e-stat)'!$X14),"-") -> 84200 | H63: =IFERROR(LARGE('貼_水稲(全国・e-stat)'!$AF$12:$AF$58,'貼_水稲(全国・e-stat)'!$X14),"-") -> 490000 | I63: =IFERROR(LARGE('貼_水稲(全国・e-stat)'!$AL$12:$AL$58,'貼_水稲(全国・e-stat)'!$X14),"-") -> 592 | J63: =IFERROR(LARGE('貼_小麦(全国・e-stat)'!O$10:O$56,'貼_小麦(全国・e-stat)'!$M12),"-") -> 11900 | K63: =IFERROR(LARGE('貼_小麦(全国・e-stat)'!U$10:U$56,'貼_小麦(全国・e-stat)'!$M12),"-") -> 36200 | L63: =IFERROR(LARGE('貼_小麦(全国・e-stat)'!AA$10:AA$56,'貼_小麦(全国・e-stat)'!$M12),"-") -> 443 | M63: 112000 | N63: 560000 | O63: 500 | P63: 18600 | Q63: 54200 | R63: 291 | S63: =IFERROR(LARGE('貼_大豆(全国・e-stat)'!$O$9:$O$55,'貼_大豆(全国・e-stat)'!$M11),"-") -> 9260 | T63: =IFERROR(LARGE('貼_大豆(全国・e-stat)'!$U$9:$U$55,'貼_大豆(全国・e-stat)'!$M11),"-") -> 11300 | U63: =IFERROR(LARGE('貼_大豆(全国・e-stat)'!$AA$9:$AA$55,'貼_大豆(全国・e-stat)'!$M11),"-") -> 162 | X63: 6400 | Y63: =IFERROR(LARGE('貼_そば(全国・e-stat)'!K$10:K$56,'貼_そば(全国・e-stat)'!$I12),"-") -> 4720 | Z63: =IFERROR(LARGE('貼_そば(全国・e-stat)'!Q$10:Q$56,'貼_そば(全国・e-stat)'!$I12),"-") -> 2670 | AA63: =IFERROR(LARGE('貼_そば(全国・e-stat)'!W$10:W$56,'貼_そば(全国・e-stat)'!$I12),"-") -> 77 | AB63: =IFERROR(LARGE('貼_ばれいしょ(全国・e-stat)'!O$15:O$61,'貼_ばれいしょ(全国・e-stat)'!$M17),"-") -> 3070 | AC63: =IFERROR(LARGE('貼_ばれいしょ(全国・e-stat)'!U$15:U$61,'貼_ばれいしょ(全国・e-stat)'!$M17),"-") -> 83900 | AD63: =IFERROR(LARGE('貼_ばれいしょ(全国・e-stat)'!AA$15:AA$61,'貼_ばれいしょ(全国・e-stat)'!$M17),"-") -> 2770 | AE63: =IFERROR(LARGE('貼_なたね(全国・e-stat)'!O$11:O$57,'貼_なたね(全国・e-stat)'!$M13),"-") -> 135 | AF63: =IFERROR(LARGE('貼_なたね(全国・e-stat)'!U$11:U$57,'貼_なたね(全国・e-stat)'!$M13),"-") -> 56 | AG63: =IFERROR(LARGE('貼_なたね(全国・e-stat)'!AA$11:AA$57,'貼_なたね(全国・e-stat)'!$M13),"-") -> 152
B64: 1年前 | C64: 5 | D64: =IFERROR(LARGE('貼_耕地面積(全国・e-stat)'!F$24:F$70,'貼_耕地面積(全国・e-stat)'!$M27),"-") -> 147300 | E64: =IFERROR(LARGE('貼_耕地面積(全国・e-stat)'!G$24:G$70,'貼_耕地面積(全国・e-stat)'!$M27),"-") -> 101700 | F64: =IFERROR(LARGE('貼_耕地面積(全国・e-stat)'!H$24:H$70,'貼_耕地面積(全国・e-stat)'!$M27),"-") -> 64500 | G64: =IFERROR(LARGE('貼_水稲(全国・e-stat)'!$Z$12:$Z$58,'貼_水稲(全国・e-stat)'!$X15),"-") -> 62800 | H64: =IFERROR(LARGE('貼_水稲(全国・e-stat)'!$AF$12:$AF$58,'貼_水稲(全国・e-stat)'!$X15),"-") -> 366100 | I64: =IFERROR(LARGE('貼_水稲(全国・e-stat)'!$AL$12:$AL$58,'貼_水稲(全国・e-stat)'!$X15),"-") -> 583 | J64: =IFERROR(LARGE('貼_小麦(全国・e-stat)'!O$10:O$56,'貼_小麦(全国・e-stat)'!$M13),"-") -> 7570 | K64: =IFERROR(LARGE('貼_小麦(全国・e-stat)'!U$10:U$56,'貼_小麦(全国・e-stat)'!$M13),"-") -> 28900 | L64: =IFERROR(LARGE('貼_小麦(全国・e-stat)'!AA$10:AA$56,'貼_小麦(全国・e-stat)'!$M13),"-") -> 439 | M64: 113700 | N64: 654300 | O64: 575 | P64: 18500 | Q64: 62800 | R64: 339 | S64: =IFERROR(LARGE('貼_大豆(全国・e-stat)'!$O$9:$O$55,'貼_大豆(全国・e-stat)'!$M12),"-") -> 8040 | T64: =IFERROR(LARGE('貼_大豆(全国・e-stat)'!$U$9:$U$55,'貼_大豆(全国・e-stat)'!$M12),"-") -> 9090 | U64: =IFERROR(LARGE('貼_大豆(全国・e-stat)'!$AA$9:$AA$55,'貼_大豆(全国・e-stat)'!$M12),"-") -> 144 | X64: 6650 | Y64: =IFERROR(LARGE('貼_そば(全国・e-stat)'!K$10:K$56,'貼_そば(全国・e-stat)'!$I13),"-") -> 4470 | Z64: =IFERROR(LARGE('貼_そば(全国・e-stat)'!Q$10:Q$56,'貼_そば(全国・e-stat)'!$I13),"-") -> 2440 | AA64: =IFERROR(LARGE('貼_そば(全国・e-stat)'!W$10:W$56,'貼_そば(全国・e-stat)'!$I13),"-") -> 75 | AB64: =IFERROR(LARGE('貼_ばれいしょ(全国・e-stat)'!O$15:O$61,'貼_ばれいしょ(全国・e-stat)'!$M18),"-") -> 1590 | AC64: =IFERROR(LARGE('貼_ばれいしょ(全国・e-stat)'!U$15:U$61,'貼_ばれいしょ(全国・e-stat)'!$M18),"-") -> 44600 | AD64: =IFERROR(LARGE('貼_ばれいしょ(全国・e-stat)'!AA$15:AA$61,'貼_ばれいしょ(全国・e-stat)'!$M18),"-") -> 2620 | AE64: =IFERROR(LARGE('貼_なたね(全国・e-stat)'!O$11:O$57,'貼_なたね(全国・e-stat)'!$M14),"-") -> 43 | AF64: =IFERROR(LARGE('貼_なたね(全国・e-stat)'!U$11:U$57,'貼_なたね(全国・e-stat)'!$M14),"-") -> 26 | AG64: =IFERROR(LARGE('貼_なたね(全国・e-stat)'!AA$11:AA$57,'貼_なたね(全国・e-stat)'!$M14),"-") -> 137
B65: 最新年 | C65: 6 | D65: =IFERROR(LARGE('貼_耕地面積(全国・e-stat)'!F$24:F$70,'貼_耕地面積(全国・e-stat)'!$M28),"-") -> 146000 | E65: =IFERROR(LARGE('貼_耕地面積(全国・e-stat)'!G$24:G$70,'貼_耕地面積(全国・e-stat)'!$M28),"-") -> 94800 | F65: =IFERROR(LARGE('貼_耕地面積(全国・e-stat)'!H$24:H$70,'貼_耕地面積(全国・e-stat)'!$M28),"-") -> 54500 | G65: =IFERROR(LARGE('貼_水稲(全国・e-stat)'!$Z$12:$Z$58,'貼_水稲(全国・e-stat)'!$X16),"-") -> 62700 | H65: =IFERROR(LARGE('貼_水稲(全国・e-stat)'!$AF$12:$AF$58,'貼_水稲(全国・e-stat)'!$X16),"-") -> 356800 | I65: =IFERROR(LARGE('貼_水稲(全国・e-stat)'!$AL$12:$AL$58,'貼_水稲(全国・e-stat)'!$X16),"-") -> 583 | J65: =IFERROR(LARGE('貼_小麦(全国・e-stat)'!O$10:O$56,'貼_小麦(全国・e-stat)'!$M14),"-") -> 7030 | K65: =IFERROR(LARGE('貼_小麦(全国・e-stat)'!U$10:U$56,'貼_小麦(全国・e-stat)'!$M14),"-") -> 23300 | L65: =IFERROR(LARGE('貼_小麦(全国・e-stat)'!AA$10:AA$56,'貼_小麦(全国・e-stat)'!$M14),"-") -> 395 | M65: ='貼_秋まき春まき小麦(北海道・e-stat)'!B10 -> 113200 | N65: ='貼_秋まき春まき小麦(北海道・e-stat)'!D10 -> 642000 | O65: ='貼_秋まき春まき小麦(北海道・e-stat)'!C10 -> 567 | P65: ='貼_秋まき春まき小麦(北海道・e-stat)'!B11 -> 18700 | Q65: ='貼_秋まき春まき小麦(北海道・e-stat)'!D11 -> 72200 | R65: ='貼_秋まき春まき小麦(北海道・e-stat)'!C11 -> 386 | S65: =IFERROR(LARGE('貼_大豆(全国・e-stat)'!$O$9:$O$55,'貼_大豆(全国・e-stat)'!$M13),"-") -> 7350 | T65: =IFERROR(LARGE('貼_大豆(全国・e-stat)'!$U$9:$U$55,'貼_大豆(全国・e-stat)'!$M13),"-") -> 8920 | U65: =IFERROR(LARGE('貼_大豆(全国・e-stat)'!$AA$9:$AA$55,'貼_大豆(全国・e-stat)'!$M13),"-") -> 142 | X65: ='貼_てんさい(全国・e-stat)'!C10 -> 7130 | Y65: =IFERROR(LARGE('貼_そば(全国・e-stat)'!K$10:K$56,'貼_そば(全国・e-stat)'!$I14),"-") -> 3980 | Z65: =IFERROR(LARGE('貼_そば(全国・e-stat)'!Q$10:Q$56,'貼_そば(全国・e-stat)'!$I14),"-") -> 2360 | AA65: =IFERROR(LARGE('貼_そば(全国・e-stat)'!W$10:W$56,'貼_そば(全国・e-stat)'!$I14),"-") -> 74 | AB65: =IFERROR(LARGE('貼_ばれいしょ(全国・e-stat)'!O$15:O$61,'貼_ばれいしょ(全国・e-stat)'!$M19),"-") -> 1080 | AC65: =IFERROR(LARGE('貼_ばれいしょ(全国・e-stat)'!U$15:U$61,'貼_ばれいしょ(全国・e-stat)'!$M19),"-") -> 28300 | AD65: =IFERROR(LARGE('貼_ばれいしょ(全国・e-stat)'!AA$15:AA$61,'貼_ばれいしょ(全国・e-stat)'!$M19),"-") -> 2500 | AE65: =IFERROR(LARGE('貼_なたね(全国・e-stat)'!O$11:O$57,'貼_なたね(全国・e-stat)'!$M15),"-") -> 36 | AF65: =IFERROR(LARGE('貼_なたね(全国・e-stat)'!U$11:U$57,'貼_なたね(全国・e-stat)'!$M15),"-") -> 25 | AG65: =IFERROR(LARGE('貼_なたね(全国・e-stat)'!AA$11:AA$57,'貼_なたね(全国・e-stat)'!$M15),"-") -> 122
D66: =IFERROR(LARGE('貼_耕地面積(全国・e-stat)'!F$24:F$70,'貼_耕地面積(全国・e-stat)'!$M29),"-") -> 145600 | E66: =IFERROR(LARGE('貼_耕地面積(全国・e-stat)'!G$24:G$70,'貼_耕地面積(全国・e-stat)'!$M29),"-") -> 93900 | F66: =IFERROR(LARGE('貼_耕地面積(全国・e-stat)'!H$24:H$70,'貼_耕地面積(全国・e-stat)'!$M29),"-") -> 53100 | G66: =IFERROR(LARGE('貼_水稲(全国・e-stat)'!$Z$12:$Z$58,'貼_水稲(全国・e-stat)'!$X17),"-") -> 62500 | H66: =IFERROR(LARGE('貼_水稲(全国・e-stat)'!$AF$12:$AF$58,'貼_水稲(全国・e-stat)'!$X17),"-") -> 354500 | I66: =IFERROR(LARGE('貼_水稲(全国・e-stat)'!$AL$12:$AL$58,'貼_水稲(全国・e-stat)'!$X17),"-") -> 582 | J66: =IFERROR(LARGE('貼_小麦(全国・e-stat)'!O$10:O$56,'貼_小麦(全国・e-stat)'!$M15),"-") -> 6100 | K66: =IFERROR(LARGE('貼_小麦(全国・e-stat)'!U$10:U$56,'貼_小麦(全国・e-stat)'!$M15),"-") -> 21900 | L66: =IFERROR(LARGE('貼_小麦(全国・e-stat)'!AA$10:AA$56,'貼_小麦(全国・e-stat)'!$M15),"-") -> 348 | S66: =IFERROR(LARGE('貼_大豆(全国・e-stat)'!$O$9:$O$55,'貼_大豆(全国・e-stat)'!$M14),"-") -> 7270 | T66: =IFERROR(LARGE('貼_大豆(全国・e-stat)'!$U$9:$U$55,'貼_大豆(全国・e-stat)'!$M14),"-") -> 7730 | U66: =IFERROR(LARGE('貼_大豆(全国・e-stat)'!$AA$9:$AA$55,'貼_大豆(全国・e-stat)'!$M14),"-") -> 137 | Y66: =IFERROR(LARGE('貼_そば(全国・e-stat)'!K$10:K$56,'貼_そば(全国・e-stat)'!$I15),"-") -> 3690 | Z66: =IFERROR(LARGE('貼_そば(全国・e-stat)'!Q$10:Q$56,'貼_そば(全国・e-stat)'!$I15),"-") -> 2150 | AA66: =IFERROR(LARGE('貼_そば(全国・e-stat)'!W$10:W$56,'貼_そば(全国・e-stat)'!$I15),"-") -> 69 | AB66: =IFERROR(LARGE('貼_ばれいしょ(全国・e-stat)'!O$15:O$61,'貼_ばれいしょ(全国・e-stat)'!$M20),"-") -> 884 | AC66: =IFERROR(LARGE('貼_ばれいしょ(全国・e-stat)'!U$15:U$61,'貼_ばれいしょ(全国・e-stat)'!$M20),"-") -> 16300 | AD66: =IFERROR(LARGE('貼_ばれいしょ(全国・e-stat)'!AA$15:AA$61,'貼_ばれいしょ(全国・e-stat)'!$M20),"-") -> 2470 | AE66: =IFERROR(LARGE('貼_なたね(全国・e-stat)'!O$11:O$57,'貼_なたね(全国・e-stat)'!$M16),"-") -> 33 | AF66: =IFERROR(LARGE('貼_なたね(全国・e-stat)'!U$11:U$57,'貼_なたね(全国・e-stat)'!$M16),"-") -> 22 | AG66: =IFERROR(LARGE('貼_なたね(全国・e-stat)'!AA$11:AA$57,'貼_なたね(全国・e-stat)'!$M16),"-") -> 85
D67: =IFERROR(LARGE('貼_耕地面積(全国・e-stat)'!F$24:F$70,'貼_耕地面積(全国・e-stat)'!$M30),"-") -> 133700 | E67: =IFERROR(LARGE('貼_耕地面積(全国・e-stat)'!G$24:G$70,'貼_耕地面積(全国・e-stat)'!$M30),"-") -> 93600 | F67: =IFERROR(LARGE('貼_耕地面積(全国・e-stat)'!H$24:H$70,'貼_耕地面積(全国・e-stat)'!$M30),"-") -> 48700 | G67: =IFERROR(LARGE('貼_水稲(全国・e-stat)'!$Z$12:$Z$58,'貼_水稲(全国・e-stat)'!$X18),"-") -> 60800 | H67: =IFERROR(LARGE('貼_水稲(全国・e-stat)'!$AF$12:$AF$58,'貼_水稲(全国・e-stat)'!$X18),"-") -> 338800 | I67: =IFERROR(LARGE('貼_水稲(全国・e-stat)'!$AL$12:$AL$58,'貼_水稲(全国・e-stat)'!$X18),"-") -> 569 | J67: =IFERROR(LARGE('貼_小麦(全国・e-stat)'!O$10:O$56,'貼_小麦(全国・e-stat)'!$M16),"-") -> 5550 | K67: =IFERROR(LARGE('貼_小麦(全国・e-stat)'!U$10:U$56,'貼_小麦(全国・e-stat)'!$M16),"-") -> 21800 | L67: =IFERROR(LARGE('貼_小麦(全国・e-stat)'!AA$10:AA$56,'貼_小麦(全国・e-stat)'!$M16),"-") -> 346 | S67: =IFERROR(LARGE('貼_大豆(全国・e-stat)'!$O$9:$O$55,'貼_大豆(全国・e-stat)'!$M15),"-") -> 5640 | T67: =IFERROR(LARGE('貼_大豆(全国・e-stat)'!$U$9:$U$55,'貼_大豆(全国・e-stat)'!$M15),"-") -> 6850 | U67: =IFERROR(LARGE('貼_大豆(全国・e-stat)'!$AA$9:$AA$55,'貼_大豆(全国・e-stat)'!$M15),"-") -> 130 | Y67: =IFERROR(LARGE('貼_そば(全国・e-stat)'!K$10:K$56,'貼_そば(全国・e-stat)'!$I16),"-") -> 3560 | Z67: =IFERROR(LARGE('貼_そば(全国・e-stat)'!Q$10:Q$56,'貼_そば(全国・e-stat)'!$I16),"-") -> 2030 | AA67: =IFERROR(LARGE('貼_そば(全国・e-stat)'!W$10:W$56,'貼_そば(全国・e-stat)'!$I16),"-") -> 66 | AB67: =IFERROR(LARGE('貼_ばれいしょ(全国・e-stat)'!O$15:O$61,'貼_ばれいしょ(全国・e-stat)'!$M21),"-") -> 758 | AC67: =IFERROR(LARGE('貼_ばれいしょ(全国・e-stat)'!U$15:U$61,'貼_ばれいしょ(全国・e-stat)'!$M21),"-") -> 14400 | AD67: =IFERROR(LARGE('貼_ばれいしょ(全国・e-stat)'!AA$15:AA$61,'貼_ばれいしょ(全国・e-stat)'!$M21),"-") -> 2420 | AE67: =IFERROR(LARGE('貼_なたね(全国・e-stat)'!O$11:O$57,'貼_なたね(全国・e-stat)'!$M17),"-") -> 31 | AF67: =IFERROR(LARGE('貼_なたね(全国・e-stat)'!U$11:U$57,'貼_なたね(全国・e-stat)'!$M17),"-") -> 19 | AG67: =IFERROR(LARGE('貼_なたね(全国・e-stat)'!AA$11:AA$57,'貼_なたね(全国・e-stat)'!$M17),"-") -> 82
D68: =IFERROR(LARGE('貼_耕地面積(全国・e-stat)'!F$24:F$70,'貼_耕地面積(全国・e-stat)'!$M31),"-") -> 123900 | E68: =IFERROR(LARGE('貼_耕地面積(全国・e-stat)'!G$24:G$70,'貼_耕地面積(全国・e-stat)'!$M31),"-") -> 91500 | F68: =IFERROR(LARGE('貼_耕地面積(全国・e-stat)'!H$24:H$70,'貼_耕地面積(全国・e-stat)'!$M31),"-") -> 39700 | G68: =IFERROR(LARGE('貼_水稲(全国・e-stat)'!$Z$12:$Z$58,'貼_水稲(全国・e-stat)'!$X19),"-") -> 53000 | H68: =IFERROR(LARGE('貼_水稲(全国・e-stat)'!$AF$12:$AF$58,'貼_水稲(全国・e-stat)'!$X19),"-") -> 287900 | I68: =IFERROR(LARGE('貼_水稲(全国・e-stat)'!$AL$12:$AL$58,'貼_水稲(全国・e-stat)'!$X19),"-") -> 569 | J68: =IFERROR(LARGE('貼_小麦(全国・e-stat)'!O$10:O$56,'貼_小麦(全国・e-stat)'!$M17),"-") -> 5440 | K68: =IFERROR(LARGE('貼_小麦(全国・e-stat)'!U$10:U$56,'貼_小麦(全国・e-stat)'!$M17),"-") -> 18800 | L68: =IFERROR(LARGE('貼_小麦(全国・e-stat)'!AA$10:AA$56,'貼_小麦(全国・e-stat)'!$M17),"-") -> 341 | S68: =IFERROR(LARGE('貼_大豆(全国・e-stat)'!$O$9:$O$55,'貼_大豆(全国・e-stat)'!$M16),"-") -> 4900 | T68: =IFERROR(LARGE('貼_大豆(全国・e-stat)'!$U$9:$U$55,'貼_大豆(全国・e-stat)'!$M16),"-") -> 6370 | U68: =IFERROR(LARGE('貼_大豆(全国・e-stat)'!$AA$9:$AA$55,'貼_大豆(全国・e-stat)'!$M16),"-") -> 126 | Y68: =IFERROR(LARGE('貼_そば(全国・e-stat)'!K$10:K$56,'貼_そば(全国・e-stat)'!$I17),"-") -> 3430 | Z68: =IFERROR(LARGE('貼_そば(全国・e-stat)'!Q$10:Q$56,'貼_そば(全国・e-stat)'!$I17),"-") -> 1820 | AA68: =IFERROR(LARGE('貼_そば(全国・e-stat)'!W$10:W$56,'貼_そば(全国・e-stat)'!$I17),"-") -> 65 | AB68: =IFERROR(LARGE('貼_ばれいしょ(全国・e-stat)'!O$15:O$61,'貼_ばれいしょ(全国・e-stat)'!$M22),"-") -> 651 | AC68: =IFERROR(LARGE('貼_ばれいしょ(全国・e-stat)'!U$15:U$61,'貼_ばれいしょ(全国・e-stat)'!$M22),"-") -> 13000 | AD68: =IFERROR(LARGE('貼_ばれいしょ(全国・e-stat)'!AA$15:AA$61,'貼_ばれいしょ(全国・e-stat)'!$M22),"-") -> 2410 | AE68: =IFERROR(LARGE('貼_なたね(全国・e-stat)'!O$11:O$57,'貼_なたね(全国・e-stat)'!$M18),"-") -> 27 | AF68: =IFERROR(LARGE('貼_なたね(全国・e-stat)'!U$11:U$57,'貼_なたね(全国・e-stat)'!$M18),"-") -> 19 | AG68: =IFERROR(LARGE('貼_なたね(全国・e-stat)'!AA$11:AA$57,'貼_なたね(全国・e-stat)'!$M18),"-") -> 60
D69: =IFERROR(LARGE('貼_耕地面積(全国・e-stat)'!F$24:F$70,'貼_耕地面積(全国・e-stat)'!$M32),"-") -> 120400 | E69: =IFERROR(LARGE('貼_耕地面積(全国・e-stat)'!G$24:G$70,'貼_耕地面積(全国・e-stat)'!$M32),"-") -> 89800 | F69: =IFERROR(LARGE('貼_耕地面積(全国・e-stat)'!H$24:H$70,'貼_耕地面積(全国・e-stat)'!$M32),"-") -> 39500 | G69: =IFERROR(LARGE('貼_水稲(全国・e-stat)'!$Z$12:$Z$58,'貼_水稲(全国・e-stat)'!$X20),"-") -> 50600 | H69: =IFERROR(LARGE('貼_水稲(全国・e-stat)'!$AF$12:$AF$58,'貼_水稲(全国・e-stat)'!$X20),"-") -> 286200 | I69: =IFERROR(LARGE('貼_水稲(全国・e-stat)'!$AL$12:$AL$58,'貼_水稲(全国・e-stat)'!$X20),"-") -> 569 | J69: =IFERROR(LARGE('貼_小麦(全国・e-stat)'!O$10:O$56,'貼_小麦(全国・e-stat)'!$M18),"-") -> 5300 | K69: =IFERROR(LARGE('貼_小麦(全国・e-stat)'!U$10:U$56,'貼_小麦(全国・e-stat)'!$M18),"-") -> 15200 | L69: =IFERROR(LARGE('貼_小麦(全国・e-stat)'!AA$10:AA$56,'貼_小麦(全国・e-stat)'!$M18),"-") -> 338 | S69: =IFERROR(LARGE('貼_大豆(全国・e-stat)'!$O$9:$O$55,'貼_大豆(全国・e-stat)'!$M17),"-") -> 4830 | T69: =IFERROR(LARGE('貼_大豆(全国・e-stat)'!$U$9:$U$55,'貼_大豆(全国・e-stat)'!$M17),"-") -> 5310 | U69: =IFERROR(LARGE('貼_大豆(全国・e-stat)'!$AA$9:$AA$55,'貼_大豆(全国・e-stat)'!$M17),"-") -> 125 | Y69: =IFERROR(LARGE('貼_そば(全国・e-stat)'!K$10:K$56,'貼_そば(全国・e-stat)'!$I18),"-") -> 1740 | Z69: =IFERROR(LARGE('貼_そば(全国・e-stat)'!Q$10:Q$56,'貼_そば(全国・e-stat)'!$I18),"-") -> 968 | AA69: =IFERROR(LARGE('貼_そば(全国・e-stat)'!W$10:W$56,'貼_そば(全国・e-stat)'!$I18),"-") -> 61 | AB69: =IFERROR(LARGE('貼_ばれいしょ(全国・e-stat)'!O$15:O$61,'貼_ばれいしょ(全国・e-stat)'!$M23),"-") -> 537 | AC69: =IFERROR(LARGE('貼_ばれいしょ(全国・e-stat)'!U$15:U$61,'貼_ばれいしょ(全国・e-stat)'!$M23),"-") -> 13000 | AD69: =IFERROR(LARGE('貼_ばれいしょ(全国・e-stat)'!AA$15:AA$61,'貼_ばれいしょ(全国・e-stat)'!$M23),"-") -> 2170 | AE69: =IFERROR(LARGE('貼_なたね(全国・e-stat)'!O$11:O$57,'貼_なたね(全国・e-stat)'!$M19),"-") -> 26 | AF69: =IFERROR(LARGE('貼_なたね(全国・e-stat)'!U$11:U$57,'貼_なたね(全国・e-stat)'!$M19),"-") -> 16 | AG69: =IFERROR(LARGE('貼_なたね(全国・e-stat)'!AA$11:AA$57,'貼_なたね(全国・e-stat)'!$M19),"-") -> 60
D70: =IFERROR(LARGE('貼_耕地面積(全国・e-stat)'!F$24:F$70,'貼_耕地面積(全国・e-stat)'!$M33),"-") -> 119500 | E70: =IFERROR(LARGE('貼_耕地面積(全国・e-stat)'!G$24:G$70,'貼_耕地面積(全国・e-stat)'!$M33),"-") -> 77500 | F70: =IFERROR(LARGE('貼_耕地面積(全国・e-stat)'!H$24:H$70,'貼_耕地面積(全国・e-stat)'!$M33),"-") -> 38900 | G70: =IFERROR(LARGE('貼_水稲(全国・e-stat)'!$Z$12:$Z$58,'貼_水稲(全国・e-stat)'!$X21),"-") -> 45500 | H70: =IFERROR(LARGE('貼_水稲(全国・e-stat)'!$AF$12:$AF$58,'貼_水稲(全国・e-stat)'!$X21),"-") -> 264200 | I70: =IFERROR(LARGE('貼_水稲(全国・e-stat)'!$AL$12:$AL$58,'貼_水稲(全国・e-stat)'!$X21),"-") -> 542 | J70: =IFERROR(LARGE('貼_小麦(全国・e-stat)'!O$10:O$56,'貼_小麦(全国・e-stat)'!$M19),"-") -> 4770 | K70: =IFERROR(LARGE('貼_小麦(全国・e-stat)'!U$10:U$56,'貼_小麦(全国・e-stat)'!$M19),"-") -> 12600 | L70: =IFERROR(LARGE('貼_小麦(全国・e-stat)'!AA$10:AA$56,'貼_小麦(全国・e-stat)'!$M19),"-") -> 335 | S70: =IFERROR(LARGE('貼_大豆(全国・e-stat)'!$O$9:$O$55,'貼_大豆(全国・e-stat)'!$M18),"-") -> 4550 | T70: =IFERROR(LARGE('貼_大豆(全国・e-stat)'!$U$9:$U$55,'貼_大豆(全国・e-stat)'!$M18),"-") -> 5220 | U70: =IFERROR(LARGE('貼_大豆(全国・e-stat)'!$AA$9:$AA$55,'貼_大豆(全国・e-stat)'!$M18),"-") -> 122 | Y70: =IFERROR(LARGE('貼_そば(全国・e-stat)'!K$10:K$56,'貼_そば(全国・e-stat)'!$I19),"-") -> 1640 | Z70: =IFERROR(LARGE('貼_そば(全国・e-stat)'!Q$10:Q$56,'貼_そば(全国・e-stat)'!$I19),"-") -> 835 | AA70: =IFERROR(LARGE('貼_そば(全国・e-stat)'!W$10:W$56,'貼_そば(全国・e-stat)'!$I19),"-") -> 60 | AB70: =IFERROR(LARGE('貼_ばれいしょ(全国・e-stat)'!O$15:O$61,'貼_ばれいしょ(全国・e-stat)'!$M24),"-") -> 506 | AC70: =IFERROR(LARGE('貼_ばれいしょ(全国・e-stat)'!U$15:U$61,'貼_ばれいしょ(全国・e-stat)'!$M24),"-") -> 11700 | AD70: =IFERROR(LARGE('貼_ばれいしょ(全国・e-stat)'!AA$15:AA$61,'貼_ばれいしょ(全国・e-stat)'!$M24),"-") -> 1900 | AE70: =IFERROR(LARGE('貼_なたね(全国・e-stat)'!O$11:O$57,'貼_なたね(全国・e-stat)'!$M20),"-") -> 26 | AF70: =IFERROR(LARGE('貼_なたね(全国・e-stat)'!U$11:U$57,'貼_なたね(全国・e-stat)'!$M20),"-") -> 16 | AG70: =IFERROR(LARGE('貼_なたね(全国・e-stat)'!AA$11:AA$57,'貼_なたね(全国・e-stat)'!$M20),"-") -> 58
D71: =IFERROR(LARGE('貼_耕地面積(全国・e-stat)'!F$24:F$70,'貼_耕地面積(全国・e-stat)'!$M34),"-") -> 113200 | E71: =IFERROR(LARGE('貼_耕地面積(全国・e-stat)'!G$24:G$70,'貼_耕地面積(全国・e-stat)'!$M34),"-") -> 70900 | F71: =IFERROR(LARGE('貼_耕地面積(全国・e-stat)'!H$24:H$70,'貼_耕地面積(全国・e-stat)'!$M34),"-") -> 37200 | G71: =IFERROR(LARGE('貼_水稲(全国・e-stat)'!$Z$12:$Z$58,'貼_水稲(全国・e-stat)'!$X22),"-") -> 42400 | H71: =IFERROR(LARGE('貼_水稲(全国・e-stat)'!$AF$12:$AF$58,'貼_水稲(全国・e-stat)'!$X22),"-") -> 258900 | I71: =IFERROR(LARGE('貼_水稲(全国・e-stat)'!$AL$12:$AL$58,'貼_水稲(全国・e-stat)'!$X22),"-") -> 540 | J71: =IFERROR(LARGE('貼_小麦(全国・e-stat)'!O$10:O$56,'貼_小麦(全国・e-stat)'!$M20),"-") -> 3880 | K71: =IFERROR(LARGE('貼_小麦(全国・e-stat)'!U$10:U$56,'貼_小麦(全国・e-stat)'!$M20),"-") -> 10900 | L71: =IFERROR(LARGE('貼_小麦(全国・e-stat)'!AA$10:AA$56,'貼_小麦(全国・e-stat)'!$M20),"-") -> 329 | S71: =IFERROR(LARGE('貼_大豆(全国・e-stat)'!$O$9:$O$55,'貼_大豆(全国・e-stat)'!$M19),"-") -> 4510 | T71: =IFERROR(LARGE('貼_大豆(全国・e-stat)'!$U$9:$U$55,'貼_大豆(全国・e-stat)'!$M19),"-") -> 4870 | U71: =IFERROR(LARGE('貼_大豆(全国・e-stat)'!$AA$9:$AA$55,'貼_大豆(全国・e-stat)'!$M19),"-") -> 120 | Y71: =IFERROR(LARGE('貼_そば(全国・e-stat)'!K$10:K$56,'貼_そば(全国・e-stat)'!$I20),"-") -> 1300 | Z71: =IFERROR(LARGE('貼_そば(全国・e-stat)'!Q$10:Q$56,'貼_そば(全国・e-stat)'!$I20),"-") -> 545 | AA71: =IFERROR(LARGE('貼_そば(全国・e-stat)'!W$10:W$56,'貼_そば(全国・e-stat)'!$I20),"-") -> 60 | AB71: =IFERROR(LARGE('貼_ばれいしょ(全国・e-stat)'!O$15:O$61,'貼_ばれいしょ(全国・e-stat)'!$M25),"-") -> 474 | AC71: =IFERROR(LARGE('貼_ばれいしょ(全国・e-stat)'!U$15:U$61,'貼_ばれいしょ(全国・e-stat)'!$M25),"-") -> 9620 | AD71: =IFERROR(LARGE('貼_ばれいしょ(全国・e-stat)'!AA$15:AA$61,'貼_ばれいしょ(全国・e-stat)'!$M25),"-") -> 1710 | AE71: =IFERROR(LARGE('貼_なたね(全国・e-stat)'!O$11:O$57,'貼_なたね(全国・e-stat)'!$M21),"-") -> 19 | AF71: =IFERROR(LARGE('貼_なたね(全国・e-stat)'!U$11:U$57,'貼_なたね(全国・e-stat)'!$M21),"-") -> 16 | AG71: =IFERROR(LARGE('貼_なたね(全国・e-stat)'!AA$11:AA$57,'貼_なたね(全国・e-stat)'!$M21),"-") -> 58
D72: =IFERROR(LARGE('貼_耕地面積(全国・e-stat)'!F$24:F$70,'貼_耕地面積(全国・e-stat)'!$M35),"-") -> 110400 | E72: =IFERROR(LARGE('貼_耕地面積(全国・e-stat)'!G$24:G$70,'貼_耕地面積(全国・e-stat)'!$M35),"-") -> 65200 | F72: =IFERROR(LARGE('貼_耕地面積(全国・e-stat)'!H$24:H$70,'貼_耕地面積(全国・e-stat)'!$M35),"-") -> 35200 | G72: =IFERROR(LARGE('貼_水稲(全国・e-stat)'!$Z$12:$Z$58,'貼_水稲(全国・e-stat)'!$X23),"-") -> 35000 | H72: =IFERROR(LARGE('貼_水稲(全国・e-stat)'!$AF$12:$AF$58,'貼_水稲(全国・e-stat)'!$X23),"-") -> 189000 | I72: =IFERROR(LARGE('貼_水稲(全国・e-stat)'!$AL$12:$AL$58,'貼_水稲(全国・e-stat)'!$X23),"-") -> 540 | J72: =IFERROR(LARGE('貼_小麦(全国・e-stat)'!O$10:O$56,'貼_小麦(全国・e-stat)'!$M21),"-") -> 3680 | K72: =IFERROR(LARGE('貼_小麦(全国・e-stat)'!U$10:U$56,'貼_小麦(全国・e-stat)'!$M21),"-") -> 9660 | L72: =IFERROR(LARGE('貼_小麦(全国・e-stat)'!AA$10:AA$56,'貼_小麦(全国・e-stat)'!$M21),"-") -> 329 | S72: =IFERROR(LARGE('貼_大豆(全国・e-stat)'!$O$9:$O$55,'貼_大豆(全国・e-stat)'!$M20),"-") -> 4230 | T72: =IFERROR(LARGE('貼_大豆(全国・e-stat)'!$U$9:$U$55,'貼_大豆(全国・e-stat)'!$M20),"-") -> 4680 | U72: =IFERROR(LARGE('貼_大豆(全国・e-stat)'!$AA$9:$AA$55,'貼_大豆(全国・e-stat)'!$M20),"-") -> 113 | Y72: =IFERROR(LARGE('貼_そば(全国・e-stat)'!K$10:K$56,'貼_そば(全国・e-stat)'!$I21),"-") -> 1160 | Z72: =IFERROR(LARGE('貼_そば(全国・e-stat)'!Q$10:Q$56,'貼_そば(全国・e-stat)'!$I21),"-") -> 494 | AA72: =IFERROR(LARGE('貼_そば(全国・e-stat)'!W$10:W$56,'貼_そば(全国・e-stat)'!$I21),"-") -> 59 | AB72: =IFERROR(LARGE('貼_ばれいしょ(全国・e-stat)'!O$15:O$61,'貼_ばれいしょ(全国・e-stat)'!$M26),"-") -> 474 | AC72: =IFERROR(LARGE('貼_ばれいしょ(全国・e-stat)'!U$15:U$61,'貼_ばれいしょ(全国・e-stat)'!$M26),"-") -> 6440 | AD72: =IFERROR(LARGE('貼_ばれいしょ(全国・e-stat)'!AA$15:AA$61,'貼_ばれいしょ(全国・e-stat)'!$M26),"-") -> 1630 | AE72: =IFERROR(LARGE('貼_なたね(全国・e-stat)'!O$11:O$57,'貼_なたね(全国・e-stat)'!$M22),"-") -> 19 | AF72: =IFERROR(LARGE('貼_なたね(全国・e-stat)'!U$11:U$57,'貼_なたね(全国・e-stat)'!$M22),"-") -> 11 | AG72: =IFERROR(LARGE('貼_なたね(全国・e-stat)'!AA$11:AA$57,'貼_なたね(全国・e-stat)'!$M22),"-") -> 53
D73: =IFERROR(LARGE('貼_耕地面積(全国・e-stat)'!F$24:F$70,'貼_耕地面積(全国・e-stat)'!$M36),"-") -> 103800 | E73: =IFERROR(LARGE('貼_耕地面積(全国・e-stat)'!G$24:G$70,'貼_耕地面積(全国・e-stat)'!$M36),"-") -> 63800 | F73: =IFERROR(LARGE('貼_耕地面積(全国・e-stat)'!H$24:H$70,'貼_耕地面積(全国・e-stat)'!$M36),"-") -> 32100 | G73: =IFERROR(LARGE('貼_水稲(全国・e-stat)'!$Z$12:$Z$58,'貼_水稲(全国・e-stat)'!$X24),"-") -> 34000 | H73: =IFERROR(LARGE('貼_水稲(全国・e-stat)'!$AF$12:$AF$58,'貼_水稲(全国・e-stat)'!$X24),"-") -> 187900 | I73: =IFERROR(LARGE('貼_水稲(全国・e-stat)'!$AL$12:$AL$58,'貼_水稲(全国・e-stat)'!$X24),"-") -> 536 | J73: =IFERROR(LARGE('貼_小麦(全国・e-stat)'!O$10:O$56,'貼_小麦(全国・e-stat)'!$M22),"-") -> 2920 | K73: =IFERROR(LARGE('貼_小麦(全国・e-stat)'!U$10:U$56,'貼_小麦(全国・e-stat)'!$M22),"-") -> 9030 | L73: =IFERROR(LARGE('貼_小麦(全国・e-stat)'!AA$10:AA$56,'貼_小麦(全国・e-stat)'!$M22),"-") -> 322 | S73: =IFERROR(LARGE('貼_大豆(全国・e-stat)'!$O$9:$O$55,'貼_大豆(全国・e-stat)'!$M21),"-") -> 4220 | T73: =IFERROR(LARGE('貼_大豆(全国・e-stat)'!$U$9:$U$55,'貼_大豆(全国・e-stat)'!$M21),"-") -> 3730 | U73: =IFERROR(LARGE('貼_大豆(全国・e-stat)'!$AA$9:$AA$55,'貼_大豆(全国・e-stat)'!$M21),"-") -> 111 | Y73: =IFERROR(LARGE('貼_そば(全国・e-stat)'!K$10:K$56,'貼_そば(全国・e-stat)'!$I22),"-") -> 651 | Z73: =IFERROR(LARGE('貼_そば(全国・e-stat)'!Q$10:Q$56,'貼_そば(全国・e-stat)'!$I22),"-") -> 476 | AA73: =IFERROR(LARGE('貼_そば(全国・e-stat)'!W$10:W$56,'貼_そば(全国・e-stat)'!$I22),"-") -> 58 | AB73: =IFERROR(LARGE('貼_ばれいしょ(全国・e-stat)'!O$15:O$61,'貼_ばれいしょ(全国・e-stat)'!$M27),"-") -> 400 | AC73: =IFERROR(LARGE('貼_ばれいしょ(全国・e-stat)'!U$15:U$61,'貼_ばれいしょ(全国・e-stat)'!$M27),"-") -> 6160 | AD73: =IFERROR(LARGE('貼_ばれいしょ(全国・e-stat)'!AA$15:AA$61,'貼_ばれいしょ(全国・e-stat)'!$M27),"-") -> 1300 | AE73: =IFERROR(LARGE('貼_なたね(全国・e-stat)'!O$11:O$57,'貼_なたね(全国・e-stat)'!$M23),"-") -> 18 | AF73: =IFERROR(LARGE('貼_なたね(全国・e-stat)'!U$11:U$57,'貼_なたね(全国・e-stat)'!$M23),"-") -> 11 | AG73: =IFERROR(LARGE('貼_なたね(全国・e-stat)'!AA$11:AA$57,'貼_なたね(全国・e-stat)'!$M23),"-") -> 50
D74: =IFERROR(LARGE('貼_耕地面積(全国・e-stat)'!F$24:F$70,'貼_耕地面積(全国・e-stat)'!$M37),"-") -> 103300 | E74: =IFERROR(LARGE('貼_耕地面積(全国・e-stat)'!G$24:G$70,'貼_耕地面積(全国・e-stat)'!$M37),"-") -> 63300 | F74: =IFERROR(LARGE('貼_耕地面積(全国・e-stat)'!H$24:H$70,'貼_耕地面積(全国・e-stat)'!$M37),"-") -> 31200 | G74: =IFERROR(LARGE('貼_水稲(全国・e-stat)'!$Z$12:$Z$58,'貼_水稲(全国・e-stat)'!$X25),"-") -> 32600 | H74: =IFERROR(LARGE('貼_水稲(全国・e-stat)'!$AF$12:$AF$58,'貼_水稲(全国・e-stat)'!$X25),"-") -> 166900 | I74: =IFERROR(LARGE('貼_水稲(全国・e-stat)'!$AL$12:$AL$58,'貼_水稲(全国・e-stat)'!$X25),"-") -> 534 | J74: =IFERROR(LARGE('貼_小麦(全国・e-stat)'!O$10:O$56,'貼_小麦(全国・e-stat)'!$M23),"-") -> 2610 | K74: =IFERROR(LARGE('貼_小麦(全国・e-stat)'!U$10:U$56,'貼_小麦(全国・e-stat)'!$M23),"-") -> 7600 | L74: =IFERROR(LARGE('貼_小麦(全国・e-stat)'!AA$10:AA$56,'貼_小麦(全国・e-stat)'!$M23),"-") -> 318 | S74: =IFERROR(LARGE('貼_大豆(全国・e-stat)'!$O$9:$O$55,'貼_大豆(全国・e-stat)'!$M22),"-") -> 3300 | T74: =IFERROR(LARGE('貼_大豆(全国・e-stat)'!$U$9:$U$55,'貼_大豆(全国・e-stat)'!$M22),"-") -> 3310 | U74: =IFERROR(LARGE('貼_大豆(全国・e-stat)'!$AA$9:$AA$55,'貼_大豆(全国・e-stat)'!$M22),"-") -> 111 | Y74: =IFERROR(LARGE('貼_そば(全国・e-stat)'!K$10:K$56,'貼_そば(全国・e-stat)'!$I23),"-") -> 614 | Z74: =IFERROR(LARGE('貼_そば(全国・e-stat)'!Q$10:Q$56,'貼_そば(全国・e-stat)'!$I23),"-") -> 361 | AA74: =IFERROR(LARGE('貼_そば(全国・e-stat)'!W$10:W$56,'貼_そば(全国・e-stat)'!$I23),"-") -> 58 | AB74: =IFERROR(LARGE('貼_ばれいしょ(全国・e-stat)'!O$15:O$61,'貼_ばれいしょ(全国・e-stat)'!$M28),"-") -> 187 | AC74: =IFERROR(LARGE('貼_ばれいしょ(全国・e-stat)'!U$15:U$61,'貼_ばれいしょ(全国・e-stat)'!$M28),"-") -> 3360 | AD74: =IFERROR(LARGE('貼_ばれいしょ(全国・e-stat)'!AA$15:AA$61,'貼_ばれいしょ(全国・e-stat)'!$M28),"-") -> 1270 | AE74: =IFERROR(LARGE('貼_なたね(全国・e-stat)'!O$11:O$57,'貼_なたね(全国・e-stat)'!$M24),"-") -> 14 | AF74: =IFERROR(LARGE('貼_なたね(全国・e-stat)'!U$11:U$57,'貼_なたね(全国・e-stat)'!$M24),"-") -> 8 | AG74: =IFERROR(LARGE('貼_なたね(全国・e-stat)'!AA$11:AA$57,'貼_なたね(全国・e-stat)'!$M24),"-") -> 50
D75: =IFERROR(LARGE('貼_耕地面積(全国・e-stat)'!F$24:F$70,'貼_耕地面積(全国・e-stat)'!$M38),"-") -> 78000 | E75: =IFERROR(LARGE('貼_耕地面積(全国・e-stat)'!G$24:G$70,'貼_耕地面積(全国・e-stat)'!$M38),"-") -> 54700 | F75: =IFERROR(LARGE('貼_耕地面積(全国・e-stat)'!H$24:H$70,'貼_耕地面積(全国・e-stat)'!$M38),"-") -> 29000 | G75: =IFERROR(LARGE('貼_水稲(全国・e-stat)'!$Z$12:$Z$58,'貼_水稲(全国・e-stat)'!$X26),"-") -> 30300 | H75: =IFERROR(LARGE('貼_水稲(全国・e-stat)'!$AF$12:$AF$58,'貼_水稲(全国・e-stat)'!$X26),"-") -> 153300 | I75: =IFERROR(LARGE('貼_水稲(全国・e-stat)'!$AL$12:$AL$58,'貼_水稲(全国・e-stat)'!$X26),"-") -> 531 | J75: =IFERROR(LARGE('貼_小麦(全国・e-stat)'!O$10:O$56,'貼_小麦(全国・e-stat)'!$M24),"-") -> 2550 | K75: =IFERROR(LARGE('貼_小麦(全国・e-stat)'!U$10:U$56,'貼_小麦(全国・e-stat)'!$M24),"-") -> 6680 | L75: =IFERROR(LARGE('貼_小麦(全国・e-stat)'!AA$10:AA$56,'貼_小麦(全国・e-stat)'!$M24),"-") -> 310 | S75: =IFERROR(LARGE('貼_大豆(全国・e-stat)'!$O$9:$O$55,'貼_大豆(全国・e-stat)'!$M23),"-") -> 3050 | T75: =IFERROR(LARGE('貼_大豆(全国・e-stat)'!$U$9:$U$55,'貼_大豆(全国・e-stat)'!$M23),"-") -> 3150 | U75: =IFERROR(LARGE('貼_大豆(全国・e-stat)'!$AA$9:$AA$55,'貼_大豆(全国・e-stat)'!$M23),"-") -> 110 | Y75: =IFERROR(LARGE('貼_そば(全国・e-stat)'!K$10:K$56,'貼_そば(全国・e-stat)'!$I24),"-") -> 598 | Z75: =IFERROR(LARGE('貼_そば(全国・e-stat)'!Q$10:Q$56,'貼_そば(全国・e-stat)'!$I24),"-") -> 352 | AA75: =IFERROR(LARGE('貼_そば(全国・e-stat)'!W$10:W$56,'貼_そば(全国・e-stat)'!$I24),"-") -> 54 | AB75: =IFERROR(LARGE('貼_ばれいしょ(全国・e-stat)'!O$15:O$61,'貼_ばれいしょ(全国・e-stat)'!$M29),"-") -> 158 | AC75: =IFERROR(LARGE('貼_ばれいしょ(全国・e-stat)'!U$15:U$61,'貼_ばれいしょ(全国・e-stat)'!$M29),"-") -> 2010 | AD75: =IFERROR(LARGE('貼_ばれいしょ(全国・e-stat)'!AA$15:AA$61,'貼_ばれいしょ(全国・e-stat)'!$M29),"-") -> 1210 | AE75: =IFERROR(LARGE('貼_なたね(全国・e-stat)'!O$11:O$57,'貼_なたね(全国・e-stat)'!$M25),"-") -> 13 | AF75: =IFERROR(LARGE('貼_なたね(全国・e-stat)'!U$11:U$57,'貼_なたね(全国・e-stat)'!$M25),"-") -> 8 | AG75: =IFERROR(LARGE('貼_なたね(全国・e-stat)'!AA$11:AA$57,'貼_なたね(全国・e-stat)'!$M25),"-") -> 49
D76: =IFERROR(LARGE('貼_耕地面積(全国・e-stat)'!F$24:F$70,'貼_耕地面積(全国・e-stat)'!$M39),"-") -> 72700 | E76: =IFERROR(LARGE('貼_耕地面積(全国・e-stat)'!G$24:G$70,'貼_耕地面積(全国・e-stat)'!$M39),"-") -> 50700 | F76: =IFERROR(LARGE('貼_耕地面積(全国・e-stat)'!H$24:H$70,'貼_耕地面積(全国・e-stat)'!$M39),"-") -> 26800 | G76: =IFERROR(LARGE('貼_水稲(全国・e-stat)'!$Z$12:$Z$58,'貼_水稲(全国・e-stat)'!$X27),"-") -> 29700 | H76: =IFERROR(LARGE('貼_水稲(全国・e-stat)'!$AF$12:$AF$58,'貼_水稲(全国・e-stat)'!$X27),"-") -> 152200 | I76: =IFERROR(LARGE('貼_水稲(全国・e-stat)'!$AL$12:$AL$58,'貼_水稲(全国・e-stat)'!$X27),"-") -> 527 | J76: =IFERROR(LARGE('貼_小麦(全国・e-stat)'!O$10:O$56,'貼_小麦(全国・e-stat)'!$M25),"-") -> 2270 | K76: =IFERROR(LARGE('貼_小麦(全国・e-stat)'!U$10:U$56,'貼_小麦(全国・e-stat)'!$M25),"-") -> 5930 | L76: =IFERROR(LARGE('貼_小麦(全国・e-stat)'!AA$10:AA$56,'貼_小麦(全国・e-stat)'!$M25),"-") -> 304 | S76: =IFERROR(LARGE('貼_大豆(全国・e-stat)'!$O$9:$O$55,'貼_大豆(全国・e-stat)'!$M24),"-") -> 2630 | T76: =IFERROR(LARGE('貼_大豆(全国・e-stat)'!$U$9:$U$55,'貼_大豆(全国・e-stat)'!$M24),"-") -> 2620 | U76: =IFERROR(LARGE('貼_大豆(全国・e-stat)'!$AA$9:$AA$55,'貼_大豆(全国・e-stat)'!$M24),"-") -> 107 | Y76: =IFERROR(LARGE('貼_そば(全国・e-stat)'!K$10:K$56,'貼_そば(全国・e-stat)'!$I25),"-") -> 592 | Z76: =IFERROR(LARGE('貼_そば(全国・e-stat)'!Q$10:Q$56,'貼_そば(全国・e-stat)'!$I25),"-") -> 225 | AA76: =IFERROR(LARGE('貼_そば(全国・e-stat)'!W$10:W$56,'貼_そば(全国・e-stat)'!$I25),"-") -> 54 | AB76: =IFERROR(LARGE('貼_ばれいしょ(全国・e-stat)'!O$15:O$61,'貼_ばれいしょ(全国・e-stat)'!$M30),"-") -> 155 | AC76: =IFERROR(LARGE('貼_ばれいしょ(全国・e-stat)'!U$15:U$61,'貼_ばれいしょ(全国・e-stat)'!$M30),"-") -> 1910 | AD76: =IFERROR(LARGE('貼_ばれいしょ(全国・e-stat)'!AA$15:AA$61,'貼_ばれいしょ(全国・e-stat)'!$M30),"-") -> 1070 | AE76: =IFERROR(LARGE('貼_なたね(全国・e-stat)'!O$11:O$57,'貼_なたね(全国・e-stat)'!$M26),"-") -> 12 | AF76: =IFERROR(LARGE('貼_なたね(全国・e-stat)'!U$11:U$57,'貼_なたね(全国・e-stat)'!$M26),"-") -> 5 | AG76: =IFERROR(LARGE('貼_なたね(全国・e-stat)'!AA$11:AA$57,'貼_なたね(全国・e-stat)'!$M26),"-") -> 48
D77: =IFERROR(LARGE('貼_耕地面積(全国・e-stat)'!F$24:F$70,'貼_耕地面積(全国・e-stat)'!$M40),"-") -> 72000 | E77: =IFERROR(LARGE('貼_耕地面積(全国・e-stat)'!G$24:G$70,'貼_耕地面積(全国・e-stat)'!$M40),"-") -> 48500 | F77: =IFERROR(LARGE('貼_耕地面積(全国・e-stat)'!H$24:H$70,'貼_耕地面積(全国・e-stat)'!$M40),"-") -> 24400 | G77: =IFERROR(LARGE('貼_水稲(全国・e-stat)'!$Z$12:$Z$58,'貼_水稲(全国・e-stat)'!$X28),"-") -> 29600 | H77: =IFERROR(LARGE('貼_水稲(全国・e-stat)'!$AF$12:$AF$58,'貼_水稲(全国・e-stat)'!$X28),"-") -> 146800 | I77: =IFERROR(LARGE('貼_水稲(全国・e-stat)'!$AL$12:$AL$58,'貼_水稲(全国・e-stat)'!$X28),"-") -> 526 | J77: =IFERROR(LARGE('貼_小麦(全国・e-stat)'!O$10:O$56,'貼_小麦(全国・e-stat)'!$M26),"-") -> 1790 | K77: =IFERROR(LARGE('貼_小麦(全国・e-stat)'!U$10:U$56,'貼_小麦(全国・e-stat)'!$M26),"-") -> 5230 | L77: =IFERROR(LARGE('貼_小麦(全国・e-stat)'!AA$10:AA$56,'貼_小麦(全国・e-stat)'!$M26),"-") -> 296 | S77: =IFERROR(LARGE('貼_大豆(全国・e-stat)'!$O$9:$O$55,'貼_大豆(全国・e-stat)'!$M25),"-") -> 2600 | T77: =IFERROR(LARGE('貼_大豆(全国・e-stat)'!$U$9:$U$55,'貼_大豆(全国・e-stat)'!$M25),"-") -> 2600 | U77: =IFERROR(LARGE('貼_大豆(全国・e-stat)'!$AA$9:$AA$55,'貼_大豆(全国・e-stat)'!$M25),"-") -> 104 | Y77: =IFERROR(LARGE('貼_そば(全国・e-stat)'!K$10:K$56,'貼_そば(全国・e-stat)'!$I26),"-") -> 591 | Z77: =IFERROR(LARGE('貼_そば(全国・e-stat)'!Q$10:Q$56,'貼_そば(全国・e-stat)'!$I26),"-") -> 208 | AA77: =IFERROR(LARGE('貼_そば(全国・e-stat)'!W$10:W$56,'貼_そば(全国・e-stat)'!$I26),"-") -> 54 | AB77: =IFERROR(LARGE('貼_ばれいしょ(全国・e-stat)'!O$15:O$61,'貼_ばれいしょ(全国・e-stat)'!$M31),"-") -> - | AC77: =IFERROR(LARGE('貼_ばれいしょ(全国・e-stat)'!U$15:U$61,'貼_ばれいしょ(全国・e-stat)'!$M31),"-") -> - | AD77: =IFERROR(LARGE('貼_ばれいしょ(全国・e-stat)'!AA$15:AA$61,'貼_ばれいしょ(全国・e-stat)'!$M31),"-") -> - | AE77: =IFERROR(LARGE('貼_なたね(全国・e-stat)'!O$11:O$57,'貼_なたね(全国・e-stat)'!$M27),"-") -> 12 | AF77: =IFERROR(LARGE('貼_なたね(全国・e-stat)'!U$11:U$57,'貼_なたね(全国・e-stat)'!$M27),"-") -> 4 | AG77: =IFERROR(LARGE('貼_なたね(全国・e-stat)'!AA$11:AA$57,'貼_なたね(全国・e-stat)'!$M27),"-") -> 46
... D107: =IFERROR(LARGE('貼_耕地面積(全国・e-stat)'!F$24:F$70,'貼_耕地面積(全国・e-stat)'!$M70),"-") -> 6090 | E107: =IFERROR(LARGE('貼_耕地面積(全国・e-stat)'!G$24:G$70,'貼_耕地面積(全国・e-stat)'!$M70),"-") -> 203 | F107: =IFERROR(LARGE('貼_耕地面積(全国・e-stat)'!H$24:H$70,'貼_耕地面積(全国・e-stat)'!$M70),"-") -> 2720 | G107: =IFERROR(LARGE('貼_水稲(全国・e-stat)'!$Z$12:$Z$58,'貼_水稲(全国・e-stat)'!$X58),"-") -> 107 | H107: =IFERROR(LARGE('貼_水稲(全国・e-stat)'!$AF$12:$AF$58,'貼_水稲(全国・e-stat)'!$X58),"-") -> 443 | I107: =IFERROR(LARGE('貼_水稲(全国・e-stat)'!$AL$12:$AL$58,'貼_水稲(全国・e-stat)'!$X58),"-") -> 326 | J107: =IFERROR(LARGE('貼_小麦(全国・e-stat)'!O$10:O$56,'貼_小麦(全国・e-stat)'!$M56),"-") -> 1 | K107: =IFERROR(LARGE('貼_小麦(全国・e-stat)'!U$10:U$56,'貼_小麦(全国・e-stat)'!$M56),"-") -> 2 | L107: =IFERROR(LARGE('貼_小麦(全国・e-stat)'!AA$10:AA$56,'貼_小麦(全国・e-stat)'!$M56),"-") -> 112 | S107: =IFERROR(LARGE('貼_大豆(全国・e-stat)'!$O$9:$O$55,'貼_大豆(全国・e-stat)'!$M55),"-") -> - | T107: =IFERROR(LARGE('貼_大豆(全国・e-stat)'!$U$9:$U$55,'貼_大豆(全国・e-stat)'!$M55),"-") -> - | U107: =IFERROR(LARGE('貼_大豆(全国・e-stat)'!$AA$9:$AA$55,'貼_大豆(全国・e-stat)'!$M55),"-") -> - | Y107: =IFERROR(LARGE('貼_そば(全国・e-stat)'!K$10:K$56,'貼_そば(全国・e-stat)'!$I56),"-") -> - | Z107: =IFERROR(LARGE('貼_そば(全国・e-stat)'!Q$10:Q$56,'貼_そば(全国・e-stat)'!$I56),"-") -> - | AA107: =IFERROR(LARGE('貼_そば(全国・e-stat)'!W$10:W$56,'貼_そば(全国・e-stat)'!$I56),"-") -> 20 | AB107: =IFERROR(LARGE('貼_ばれいしょ(全国・e-stat)'!O$15:O$61,'貼_ばれいしょ(全国・e-stat)'!$M61),"-") -> - | AC107: =IFERROR(LARGE('貼_ばれいしょ(全国・e-stat)'!U$15:U$61,'貼_ばれいしょ(全国・e-stat)'!$M61),"-") -> - | AD107: =IFERROR(LARGE('貼_ばれいしょ(全国・e-stat)'!AA$15:AA$61,'貼_ばれいしょ(全国・e-stat)'!$M61),"-") -> - | AE107: =IFERROR(LARGE('貼_なたね(全国・e-stat)'!O$11:O$57,'貼_なたね(全国・e-stat)'!$M57),"-") -> - | AF107: =IFERROR(LARGE('貼_なたね(全国・e-stat)'!U$11:U$57,'貼_なたね(全国・e-stat)'!$M57),"-") -> - | AG107: =IFERROR(LARGE('貼_なたね(全国・e-stat)'!AA$11:AA$57,'貼_なたね(全国・e-stat)'!$M57),"-") -> -
C108: 順位 | D108: =RANK(D61,D$61:D$65,0) -> 1 | E108: =RANK(E61,E$61:E$65,0) -> 1 | F108: =RANK(F61,F$61:F$65,0) -> 1 | G108: =RANK(G61,G$61:G$65,0) -> 1 | H108: =RANK(H61,H$61:H$65,0) -> 1 | I108: =RANK(I61,I$61:I$65,0) -> 1 | J108: =RANK(J61,J$61:J$65,0) -> 1 | K108: =RANK(K61,K$61:K$65,0) -> 1 | L108: =RANK(L61,L$61:L$65,0) -> 1 | S108: =RANK(S61,S$61:S$65,0) -> 1 | T108: =RANK(T61,T$61:T$65,0) -> 1 | U108: =RANK(U61,U$61:U$65,0) -> 1 | V108: =RANK(V61,V$61:V$65,0) -> 1 | W108: =RANK(W61,W$61:W$65,0) -> 1 | X108: =RANK(X61,X$61:X$65,0) -> 3 | Y108: =RANK(Y61,Y$61:Y$65,0) -> 1 | Z108: =RANK(Z61,Z$61:Z$65,0) -> 1 | ... AG108: =RANK(AG61,AG$61:AG$65,0) -> 1
D109: =RANK(D62,D$61:D$65,0) -> 2 | E109: =RANK(E62,E$61:E$65,0) -> 2 | F109: =RANK(F62,F$61:F$65,0) -> 2 | G109: =RANK(G62,G$61:G$65,0) -> 2 | H109: =RANK(H62,H$61:H$65,0) -> 2 | I109: =RANK(I62,I$61:I$65,0) -> 2 | J109: =RANK(J62,J$61:J$65,0) -> 2 | K109: =RANK(K62,K$61:K$65,0) -> 2 | L109: =RANK(L62,L$61:L$65,0) -> 2 | S109: =RANK(S62,S$61:S$65,0) -> 2 | T109: =RANK(T62,T$61:T$65,0) -> 2 | U109: =RANK(U62,U$61:U$65,0) -> 2 | Y109: =RANK(Y62,Y$61:Y$65,0) -> 2 | Z109: =RANK(Z62,Z$61:Z$65,0) -> 2 | AA109: =RANK(AA62,AA$61:AA$65,0) -> 2 | AB109: =RANK(AB62,AB$61:AB$65,0) -> 2 | AC109: =RANK(AC62,AC$61:AC$65,0) -> 2 | AD109: =RANK(AD62,AD$61:AD$65,0) -> 2 | AE109: =RANK(AE62,AE$61:AE$65,0) -> 2 | AF109: =RANK(AF62,AF$61:AF$65,0) -> 2 | AG109: =RANK(AG62,AG$61:AG$65,0) -> 2
D110: =RANK(D63,D$61:D$65,0) -> 3 | E110: =RANK(E63,E$61:E$65,0) -> 3 | F110: =RANK(F63,F$61:F$65,0) -> 3 | G110: =RANK(G63,G$61:G$65,0) -> 3 | H110: =RANK(H63,H$61:H$65,0) -> 3 | I110: =RANK(I63,I$61:I$65,0) -> 3 | J110: =RANK(J63,J$61:J$65,0) -> 3 | K110: =RANK(K63,K$61:K$65,0) -> 3 | L110: =RANK(L63,L$61:L$65,0) -> 3 | S110: =RANK(S63,S$61:S$65,0) -> 3 | T110: =RANK(T63,T$61:T$65,0) -> 3 | U110: =RANK(U63,U$61:U$65,0) -> 3 | Y110: =RANK(Y63,Y$61:Y$65,0) -> 3 | Z110: =RANK(Z63,Z$61:Z$65,0) -> 3 | AA110: =RANK(AA63,AA$61:AA$65,0) -> 3 | AB110: =RANK(AB63,AB$61:AB$65,0) -> 3 | AC110: =RANK(AC63,AC$61:AC$65,0) -> 3 | AD110: =RANK(AD63,AD$61:AD$65,0) -> 3 | AE110: =RANK(AE63,AE$61:AE$65,0) -> 3 | AF110: =RANK(AF63,AF$61:AF$65,0) -> 3 | AG110: =RANK(AG63,AG$61:AG$65,0) -> 3
D111: =RANK(D64,D$61:D$65,0) -> 4 | E111: =RANK(E64,E$61:E$65,0) -> 4 | F111: =RANK(F64,F$61:F$65,0) -> 4 | G111: =RANK(G64,G$61:G$65,0) -> 4 | H111: =RANK(H64,H$61:H$65,0) -> 4 | I111: =RANK(I64,I$61:I$65,0) -> 4 | J111: =RANK(J64,J$61:J$65,0) -> 4 | K111: =RANK(K64,K$61:K$65,0) -> 4 | L111: =RANK(L64,L$61:L$65,0) -> 4 | S111: =RANK(S64,S$61:S$65,0) -> 4 | T111: =RANK(T64,T$61:T$65,0) -> 4 | U111: =RANK(U64,U$61:U$65,0) -> 4 | Y111: =RANK(Y64,Y$61:Y$65,0) -> 4 | Z111: =RANK(Z64,Z$61:Z$65,0) -> 4 | AA111: =RANK(AA64,AA$61:AA$65,0) -> 4 | AB111: =RANK(AB64,AB$61:AB$65,0) -> 4 | AC111: =RANK(AC64,AC$61:AC$65,0) -> 4 | AD111: =RANK(AD64,AD$61:AD$65,0) -> 4 | AE111: =RANK(AE64,AE$61:AE$65,0) -> 4 | AF111: =RANK(AF64,AF$61:AF$65,0) -> 4 | AG111: =RANK(AG64,AG$61:AG$65,0) -> 4
D112: =RANK(D65,D$61:D$65,0) -> 5 | E112: =RANK(E65,E$61:E$65,0) -> 5 | F112: =RANK(F65,F$61:F$65,0) -> 5 | G112: =RANK(G65,G$61:G$65,0) -> 5 | H112: =RANK(H65,H$61:H$65,0) -> 5 | I112: =RANK(I65,I$61:I$65,0) -> 4 | J112: =RANK(J65,J$61:J$65,0) -> 5 | K112: =RANK(K65,K$61:K$65,0) -> 5 | L112: =RANK(L65,L$61:L$65,0) -> 5 | S112: =RANK(S65,S$61:S$65,0) -> 5 | T112: =RANK(T65,T$61:T$65,0) -> 5 | U112: =RANK(U65,U$61:U$65,0) -> 5 | Y112: =RANK(Y65,Y$61:Y$65,0) -> 5 | Z112: =RANK(Z65,Z$61:Z$65,0) -> 5 | AA112: =RANK(AA65,AA$61:AA$65,0) -> 5 | AB112: =RANK(AB65,AB$61:AB$65,0) -> 5 | AC112: =RANK(AC65,AC$61:AC$65,0) -> 5 | AD112: =RANK(AD65,AD$61:AD$65,0) -> 5 | AE112: =RANK(AE65,AE$61:AE$65,0) -> 5 | AF112: =RANK(AF65,AF$61:AF$65,0) -> 5 | AG112: =RANK(AG65,AG$61:AG$65,0) -> 5
C113: ※北海道が6位以下の場合の北海道の順位 | AA113: 6
C114: グラフタイトル | D114: 全国における北海道のシェア | E114: 全国における北海道のシェア | F114: 全国における北海道のシェア | G114: 全国における北海道のシェア | H114: 全国における北海道のシェア | I114: 全国ランキングトップ５ | J114: 全国における北海道のシェア | K114: 全国における北海道のシェア | L114: 全国ランキングトップ５ | M114: 作付面積（北海道） | N114: 収穫量（北海道） | O114: 10a当たり収量（北海道） | P114: 作付面積（北海道） | Q114: 収穫量（北海道） | R114: 10a当たり収量（北海道） | S114: 全国における北海道のシェア | T114: 全国における北海道のシェア | U114: 全国ランキングトップ５ | V114: 地域別割合 | W114: 地域別割合 | X114: 10a当たり収量（北海道） | Y114: 全国における北海道のシェア | Z114: 全国における北海道のシェア | AA114: 全国ランキング上位と北海道 | AB114: 全国における北海道のシェア | AC114: 全国における北海道のシェア | AD114: 全国ランキングトップ５ | AE114: 全国における北海道のシェア | AF114: 全国における北海道のシェア | AG114: 全国ランキングトップ５
C115: グラフ用データ_円_北海道 | D115: =ROUND(D136/D60*100,1) -> 26.6 | E115: =ROUND(E136/E60*100,1) -> 9.5 | F115: =ROUND(F136/F60*100,1) -> 47 | G115: =ROUND(G136/G60*100,1) -> 7 | H115: =ROUND(H136/H60*100,1) -> 7.7 | J115: =ROUND(J136/J60*100,1) -> 56.9 | K115: =ROUND(K136/K60*100,1) -> 69.4 | S115: =ROUND(S136/S60*100,1) -> 30.4 | T115: =ROUND(T136/T60*100,1) -> 52.5 | Y115: =ROUND(Y136/Y60*100,1) -> 37.8 | Z115: =ROUND(Z136/Z60*100,1) -> 44.3 | AB115: =ROUND(AB136/AB60*100,1) -> 68.1 | AC115: =ROUND(AC136/AC60*100,1) -> 81 | AE115: =ROUND(AE136/AE60*100,1) -> 59.1 | AF115: =ROUND(AF136/AF60*100,1) -> 81.2
B116: (秋まき・春まき小麦はこちら↓) | C116: その他都府県 | D116: =100-D115 -> 73.4 | E116: =100-E115 -> 90.5 | F116: =100-F115 -> 53 | G116: =100-G115 -> 93 | H116: =100-H115 -> 92.3 | J116: =100-J115 -> 43.1 | K116: =100-K115 -> 30.6 | S116: =100-S115 -> 69.6 | T116: =100-T115 -> 47.5 | Y116: =100-Y115 -> 62.2 | Z116: =100-Z115 -> 55.7 | AB116: =100-AB115 -> 31.9 | AC116: =100-AC115 -> 19 | AE116: =100-AE115 -> 40.9 | AF116: =100-AF115 -> 18.8
B117: 4年前 | C117: グラフ用データ_棒_1 | I117: =I61 -> 623 | L117: =L61 -> 541 | M117: =ROUND(M61/1000,2) -> 105.4 | N117: =ROUND(N61/10000,2) -> 56.92 | O117: =O61 -> 540 | P117: =ROUND(P61/1000,2) -> 16.8 | Q117: =ROUND(Q61/10000,2) -> 6.07 | R117: =R61 -> 361 | U117: =U61 -> 283 | X117: =X61 -> 6890 | AA117: =AA61 -> 83 | AD117: =AD61 -> 3950 | AG117: =AG61 -> 257
B118: 3年前 | C118: 2 | I118: =I62 -> 620 | L118: =L62 -> 473 | M118: =ROUND(M62/1000,2) -> 108.5 | N118: =ROUND(N62/10000,2) -> 66.4 | O118: =O62 -> 612 | P118: =ROUND(P62/1000,2) -> 17.6 | Q118: =ROUND(Q62/10000,2) -> 6.44 | R118: =R62 -> 366 | U118: =U62 -> 163 | X118: =X62 -> 7040 | AA118: =AA62 -> 80 | AD118: =AD62 -> 2810 | AG118: =AG62 -> 221
B119: 2年前 | C119: 3 | I119: =I63 -> 592 | L119: =L63 -> 443 | M119: =ROUND(M63/1000,2) -> 112 | N119: =ROUND(N63/10000,2) -> 56 | O119: =O63 -> 500 | P119: =ROUND(P63/1000,2) -> 18.6 | Q119: =ROUND(Q63/10000,2) -> 5.42 | R119: =R63 -> 291 | U119: =U63 -> 162 | X119: =X63 -> 6400 | AA119: =AA63 -> 77 | AD119: =AD63 -> 2770 | AG119: =AG63 -> 152
B120: 1年前 | C120: 4 | I120: =I64 -> 583 | L120: =L64 -> 439 | M120: =ROUND(M64/1000,2) -> 113.7 | N120: =ROUND(N64/10000,2) -> 65.43 | O120: =O64 -> 575 | P120: =ROUND(P64/1000,2) -> 18.5 | Q120: =ROUND(Q64/10000,2) -> 6.28 | R120: =R64 -> 339 | U120: =U64 -> 144 | X120: =X64 -> 6650 | AA120: =AA64 -> 75 | AD120: =AD64 -> 2620 | AG120: =AG64 -> 137
B121: 最新年 | C121: 5 | I121: =I65 -> 583 | L121: =L65 -> 395 | M121: =ROUND(M65/1000,2) -> 113.2 | N121: =ROUND(N65/10000,2) -> 64.2 | O121: =O65 -> 567 | P121: =ROUND(P65/1000,2) -> 18.7 | Q121: =ROUND(Q65/10000,2) -> 7.22 | R121: =R65 -> 386 | U121: =U65 -> 142 | X121: =X65 -> 7130 | AA121: =AA65 -> 74 | AD121: =AD65 -> 2500 | AG121: =AG65 -> 122
B122: 地域ランキング | C122: 振興局名 1 | D122: =IFERROR(INDEX('貼_耕地面積(市町村別・公表資料)'!$AG$15:$AG$28,MATCH('貼_耕地面積(市町村別・公表資料)'!AF15,'貼_耕地面積(市町村別・公表資料)'!$AI$15:$AI$28,0)),"-") -> 十勝 | E122: =IFERROR(INDEX('貼_耕地面積(市町村別・公表資料)'!$AG$15:$AG$28,MATCH('貼_耕地面積(市町村別・公表資料)'!AF15,'貼_耕地面積(市町村別・公表資料)'!$AO$15:$AO$28,0)),"-") -> 空知 | F122: =IFERROR(INDEX('貼_耕地面積(市町村別・公表資料)'!$AG$15:$AG$28,MATCH('貼_耕地面積(市町村別・公表資料)'!AF15,'貼_耕地面積(市町村別・公表資料)'!$AU$15:$AU$28,0)),"-") -> 十勝 | G122: =IFERROR(INDEX('貼_水稲(市町村別・公表資料)'!$AF$15:$AF$28,MATCH('貼_水稲(市町村別・公表資料)'!$AE15,'貼_水稲(市町村別・公表資料)'!$AH$15:$AH$28,0)),"-") -> 空知 | H122: =IFERROR(INDEX('貼_水稲(市町村別・公表資料)'!$AF$15:$AF$28,MATCH('貼_水稲(市町村別・公表資料)'!$AE15,'貼_水稲(市町村別・公表資料)'!$AN$15:$AN$28,0)),"-") -> 空知 | I122: =IFERROR(INDEX('貼_水稲(市町村別・公表資料)'!$AF$15:$AF$28,MATCH('貼_水稲(市町村別・公表資料)'!$AE15,'貼_水稲(市町村別・公表資料)'!$AT$15:$AT$28,0)),"-") -> 上川 | J122: =IFERROR(INDEX('貼_小麦(市町村別・公表資料)'!$AH$17:$AH$30,MATCH('貼_小麦(市町村別・公表資料)'!$AG17,'貼_小麦(市町村別・公表資料)'!AJ$17:AJ$30,0)),"-") -> 十勝 | K122: =IFERROR(INDEX('貼_小麦(市町村別・公表資料)'!$AH$17:$AH$30,MATCH('貼_小麦(市町村別・公表資料)'!$AG17,'貼_小麦(市町村別・公表資料)'!AP$17:AP$30,0)),"-") -> 十勝 | L122: =IFERROR(INDEX('貼_小麦(市町村別・公表資料)'!$AH$17:$AH$30,MATCH('貼_小麦(市町村別・公表資料)'!$AG17,'貼_小麦(市町村別・公表資料)'!AV$17:AV$30,0)),"-") -> 十勝 | M122: =IFERROR(INDEX('貼_小麦(市町村別・公表資料)'!$AH$17:$AH$30,MATCH('貼_小麦(市町村別・公表資料)'!$AG17,'貼_小麦(市町村別・公表資料)'!BB$17:BB$30,0)),"-") -> 十勝 | N122: =IFERROR(INDEX('貼_小麦(市町村別・公表資料)'!$AH$17:$AH$30,MATCH('貼_小麦(市町村別・公表資料)'!$AG17,'貼_小麦(市町村別・公表資料)'!BH$17:BH$30,0)),"-") -> 十勝 | O122: =IFERROR(INDEX('貼_小麦(市町村別・公表資料)'!$AH$17:$AH$30,MATCH('貼_小麦(市町村別・公表資料)'!$AG17,'貼_小麦(市町村別・公表資料)'!BN$17:BN$30,0)),"-") -> 十勝 | P122: =IFERROR(INDEX('貼_小麦(市町村別・公表資料)'!$AH$17:$AH$30,MATCH('貼_小麦(市町村別・公表資料)'!$AG17,'貼_小麦(市町村別・公表資料)'!BT$17:BT$30,0)),"-") -> オホーツク | Q122: =IFERROR(INDEX('貼_小麦(市町村別・公表資料)'!$AH$17:$AH$30,MATCH('貼_小麦(市町村別・公表資料)'!$AG17,'貼_小麦(市町村別・公表資料)'!BZ$17:BZ$30,0)),"-") -> オホーツク | R122: =IFERROR(INDEX('貼_小麦(市町村別・公表資料)'!$AH$17:$AH$30,MATCH('貼_小麦(市町村別・公表資料)'!$AG17,'貼_小麦(市町村別・公表資料)'!CF$17:CF$30,0)),"-") -> 空知 | S122: =IFERROR(INDEX('貼_大豆(市町村別・公表資料)'!$AH$16:$AH$29,MATCH('貼_大豆(市町村別・公表資料)'!$AG16,'貼_大豆(市町村別・公表資料)'!AJ$16:AJ$29,0)),"-") -> 十勝 | T122: =IFERROR(INDEX('貼_大豆(市町村別・公表資料)'!$AH$16:$AH$29,MATCH('貼_大豆(市町村別・公表資料)'!$AG16,'貼_大豆(市町村別・公表資料)'!AP$16:AP$29,0)),"-") -> 十勝 | U122: =IFERROR(INDEX('貼_大豆(市町村別・公表資料)'!$AH$16:$AH$29,MATCH('貼_大豆(市町村別・公表資料)'!$AG16,'貼_大豆(市町村別・公表資料)'!AV$16:AV$29,0)),"-") -> 十勝 | V122: =IFERROR(INDEX('貼_てんさい(市町村別・公表資料)'!$AJ$16:$AJ$29,MATCH('貼_てんさい(市町村別・公表資料)'!$AI16,'貼_てんさい(市町村別・公表資料)'!AL$16:AL$29,0)),"-") -> 十勝 | W122: =IFERROR(INDEX('貼_てんさい(市町村別・公表資料)'!$AJ$16:$AJ$29,MATCH('貼_てんさい(市町村別・公表資料)'!$AI16,'貼_てんさい(市町村別・公表資料)'!AR$16:AR$29,0)),"-") -> 十勝 | X122: =IFERROR(INDEX('貼_てんさい(市町村別・公表資料)'!$AJ$16:$AJ$29,MATCH('貼_てんさい(市町村別・公表資料)'!$AI16,'貼_てんさい(市町村別・公表資料)'!AX$16:AX$29,0)),"-") -> 空知 | Y122: =IFERROR(INDEX('貼_そば(市町村別・公表資料)'!$AI$16:$AI$29,MATCH('貼_そば(市町村別・公表資料)'!$AH16,'貼_そば(市町村別・公表資料)'!AK$16:AK$29,0)),"-") -> 上川 | Z122: =IFERROR(INDEX('貼_そば(市町村別・公表資料)'!$AI$16:$AI$29,MATCH('貼_そば(市町村別・公表資料)'!$AH16,'貼_そば(市町村別・公表資料)'!AQ$16:AQ$29,0)),"-") -> 上川 | AA122: =IFERROR(INDEX('貼_そば(市町村別・公表資料)'!$AI$16:$AI$29,MATCH('貼_そば(市町村別・公表資料)'!$AH16,'貼_そば(市町村別・公表資料)'!AW$16:AW$29,0)),"-") -> 十勝 | AB122: =IFERROR(INDEX('貼_ばれいしょ(市町村別・公表資料)'!$AH$16:$AH$29,MATCH('貼_ばれいしょ(市町村別・公表資料)'!$AG16,'貼_ばれいしょ(市町村別・公表資料)'!AJ$16:AJ$29,0)),"-") -> 十勝 | AC122: =IFERROR(INDEX('貼_ばれいしょ(市町村別・公表資料)'!$AH$16:$AH$29,MATCH('貼_ばれいしょ(市町村別・公表資料)'!$AG16,'貼_ばれいしょ(市町村別・公表資料)'!AP$16:AP$29,0)),"-") -> 十勝 | AD122: =IFERROR(INDEX('貼_ばれいしょ(市町村別・公表資料)'!$AH$16:$AH$29,MATCH('貼_ばれいしょ(市町村別・公表資料)'!$AG16,'貼_ばれいしょ(市町村別・公表資料)'!AV$16:AV$29,0)),"-") -> オホーツク | AE122: =IFERROR(INDEX('貼_なたね(市町村別・公表資料)'!$O$16:$O$29,MATCH('貼_なたね(市町村別・公表資料)'!$N16,'貼_なたね(市町村別・公表資料)'!Q$16:Q$29,0)),"-") -> 空知 | AF122: =IFERROR(INDEX('貼_なたね(市町村別・公表資料)'!$O$16:$O$29,MATCH('貼_なたね(市町村別・公表資料)'!$N16,'貼_なたね(市町村別・公表資料)'!W$16:W$29,0)),"-") -> 空知 | AG122: =IFERROR(INDEX('貼_なたね(市町村別・公表資料)'!$O$16:$O$29,MATCH('貼_なたね(市町村別・公表資料)'!$N16,'貼_なたね(市町村別・公表資料)'!AC$16:AC$29,0)),"-") -> 空知
C123: 2 | D123: =IFERROR(INDEX('貼_耕地面積(市町村別・公表資料)'!$AG$15:$AG$28,MATCH('貼_耕地面積(市町村別・公表資料)'!AF16,'貼_耕地面積(市町村別・公表資料)'!$AI$15:$AI$28,0)),"-") -> オホーツク | E123: =IFERROR(INDEX('貼_耕地面積(市町村別・公表資料)'!$AG$15:$AG$28,MATCH('貼_耕地面積(市町村別・公表資料)'!AF16,'貼_耕地面積(市町村別・公表資料)'!$AO$15:$AO$28,0)),"-") -> 上川 | F123: =IFERROR(INDEX('貼_耕地面積(市町村別・公表資料)'!$AG$15:$AG$28,MATCH('貼_耕地面積(市町村別・公表資料)'!AF16,'貼_耕地面積(市町村別・公表資料)'!$AU$15:$AU$28,0)),"-") -> オホーツク | G123: =IFERROR(INDEX('貼_水稲(市町村別・公表資料)'!$AF$15:$AF$28,MATCH('貼_水稲(市町村別・公表資料)'!$AE16,'貼_水稲(市町村別・公表資料)'!$AH$15:$AH$28,0)),"-") -> 上川 | H123: =IFERROR(INDEX('貼_水稲(市町村別・公表資料)'!$AF$15:$AF$28,MATCH('貼_水稲(市町村別・公表資料)'!$AE16,'貼_水稲(市町村別・公表資料)'!$AN$15:$AN$28,0)),"-") -> 上川 | I123: =IFERROR(INDEX('貼_水稲(市町村別・公表資料)'!$AF$15:$AF$28,MATCH('貼_水稲(市町村別・公表資料)'!$AE16,'貼_水稲(市町村別・公表資料)'!$AT$15:$AT$28,0)),"-") -> 空知 | J123: =IFERROR(INDEX('貼_小麦(市町村別・公表資料)'!$AH$17:$AH$30,MATCH('貼_小麦(市町村別・公表資料)'!$AG18,'貼_小麦(市町村別・公表資料)'!AJ$17:AJ$30,0)),"-") -> オホーツク | K123: =IFERROR(INDEX('貼_小麦(市町村別・公表資料)'!$AH$17:$AH$30,MATCH('貼_小麦(市町村別・公表資料)'!$AG18,'貼_小麦(市町村別・公表資料)'!AP$17:AP$30,0)),"-") -> オホーツク | L123: =IFERROR(INDEX('貼_小麦(市町村別・公表資料)'!$AH$17:$AH$30,MATCH('貼_小麦(市町村別・公表資料)'!$AG18,'貼_小麦(市町村別・公表資料)'!AV$17:AV$30,0)),"-") -> オホーツク | M123: =IFERROR(INDEX('貼_小麦(市町村別・公表資料)'!$AH$17:$AH$30,MATCH('貼_小麦(市町村別・公表資料)'!$AG18,'貼_小麦(市町村別・公表資料)'!BB$17:BB$30,0)),"-") -> オホーツク | N123: =IFERROR(INDEX('貼_小麦(市町村別・公表資料)'!$AH$17:$AH$30,MATCH('貼_小麦(市町村別・公表資料)'!$AG18,'貼_小麦(市町村別・公表資料)'!BH$17:BH$30,0)),"-") -> オホーツク | O123: =IFERROR(INDEX('貼_小麦(市町村別・公表資料)'!$AH$17:$AH$30,MATCH('貼_小麦(市町村別・公表資料)'!$AG18,'貼_小麦(市町村別・公表資料)'!BN$17:BN$30,0)),"-") -> オホーツク | P123: =IFERROR(INDEX('貼_小麦(市町村別・公表資料)'!$AH$17:$AH$30,MATCH('貼_小麦(市町村別・公表資料)'!$AG18,'貼_小麦(市町村別・公表資料)'!BT$17:BT$30,0)),"-") -> 空知 | Q123: =IFERROR(INDEX('貼_小麦(市町村別・公表資料)'!$AH$17:$AH$30,MATCH('貼_小麦(市町村別・公表資料)'!$AG18,'貼_小麦(市町村別・公表資料)'!BZ$17:BZ$30,0)),"-") -> 空知 | R123: =IFERROR(INDEX('貼_小麦(市町村別・公表資料)'!$AH$17:$AH$30,MATCH('貼_小麦(市町村別・公表資料)'!$AG18,'貼_小麦(市町村別・公表資料)'!CF$17:CF$30,0)),"-") -> オホーツク | S123: =IFERROR(INDEX('貼_大豆(市町村別・公表資料)'!$AH$16:$AH$29,MATCH('貼_大豆(市町村別・公表資料)'!$AG17,'貼_大豆(市町村別・公表資料)'!AJ$16:AJ$29,0)),"-") -> 空知 | T123: =IFERROR(INDEX('貼_大豆(市町村別・公表資料)'!$AH$16:$AH$29,MATCH('貼_大豆(市町村別・公表資料)'!$AG17,'貼_大豆(市町村別・公表資料)'!AP$16:AP$29,0)),"-") -> 空知 | U123: =IFERROR(INDEX('貼_大豆(市町村別・公表資料)'!$AH$16:$AH$29,MATCH('貼_大豆(市町村別・公表資料)'!$AG17,'貼_大豆(市町村別・公表資料)'!AV$16:AV$29,0)),"-") -> オホーツク | V123: =IFERROR(INDEX('貼_てんさい(市町村別・公表資料)'!$AJ$16:$AJ$29,MATCH('貼_てんさい(市町村別・公表資料)'!$AI17,'貼_てんさい(市町村別・公表資料)'!AL$16:AL$29,0)),"-") -> オホーツク | W123: =IFERROR(INDEX('貼_てんさい(市町村別・公表資料)'!$AJ$16:$AJ$29,MATCH('貼_てんさい(市町村別・公表資料)'!$AI17,'貼_てんさい(市町村別・公表資料)'!AR$16:AR$29,0)),"-") -> オホーツク | X123: =IFERROR(INDEX('貼_てんさい(市町村別・公表資料)'!$AJ$16:$AJ$29,MATCH('貼_てんさい(市町村別・公表資料)'!$AI17,'貼_てんさい(市町村別・公表資料)'!AX$16:AX$29,0)),"-") -> 十勝 | Y123: =IFERROR(INDEX('貼_そば(市町村別・公表資料)'!$AI$16:$AI$29,MATCH('貼_そば(市町村別・公表資料)'!$AH17,'貼_そば(市町村別・公表資料)'!AK$16:AK$29,0)),"-") -> 空知 | Z123: =IFERROR(INDEX('貼_そば(市町村別・公表資料)'!$AI$16:$AI$29,MATCH('貼_そば(市町村別・公表資料)'!$AH17,'貼_そば(市町村別・公表資料)'!AQ$16:AQ$29,0)),"-") -> 空知 | AA123: =IFERROR(INDEX('貼_そば(市町村別・公表資料)'!$AI$16:$AI$29,MATCH('貼_そば(市町村別・公表資料)'!$AH17,'貼_そば(市町村別・公表資料)'!AW$16:AW$29,0)),"-") -> 胆振 | AB123: =IFERROR(INDEX('貼_ばれいしょ(市町村別・公表資料)'!$AH$16:$AH$29,MATCH('貼_ばれいしょ(市町村別・公表資料)'!$AG17,'貼_ばれいしょ(市町村別・公表資料)'!AJ$16:AJ$29,0)),"-") -> オホーツク | AC123: =IFERROR(INDEX('貼_ばれいしょ(市町村別・公表資料)'!$AH$16:$AH$29,MATCH('貼_ばれいしょ(市町村別・公表資料)'!$AG17,'貼_ばれいしょ(市町村別・公表資料)'!AP$16:AP$29,0)),"-") -> オホーツク | AD123: =IFERROR(INDEX('貼_ばれいしょ(市町村別・公表資料)'!$AH$16:$AH$29,MATCH('貼_ばれいしょ(市町村別・公表資料)'!$AG17,'貼_ばれいしょ(市町村別・公表資料)'!AV$16:AV$29,0)),"-") -> 日高 | AE123: =IFERROR(INDEX('貼_なたね(市町村別・公表資料)'!$O$16:$O$29,MATCH('貼_なたね(市町村別・公表資料)'!$N17,'貼_なたね(市町村別・公表資料)'!Q$16:Q$29,0)),"-") -> 上川 | AF123: =IFERROR(INDEX('貼_なたね(市町村別・公表資料)'!$O$16:$O$29,MATCH('貼_なたね(市町村別・公表資料)'!$N17,'貼_なたね(市町村別・公表資料)'!W$16:W$29,0)),"-") -> 上川 | AG123: =IFERROR(INDEX('貼_なたね(市町村別・公表資料)'!$O$16:$O$29,MATCH('貼_なたね(市町村別・公表資料)'!$N17,'貼_なたね(市町村別・公表資料)'!AC$16:AC$29,0)),"-") -> 上川
C124: 3 | D124: =IFERROR(INDEX('貼_耕地面積(市町村別・公表資料)'!$AG$15:$AG$28,MATCH('貼_耕地面積(市町村別・公表資料)'!AF17,'貼_耕地面積(市町村別・公表資料)'!$AI$15:$AI$28,0)),"-") -> 上川 | E124: =IFERROR(INDEX('貼_耕地面積(市町村別・公表資料)'!$AG$15:$AG$28,MATCH('貼_耕地面積(市町村別・公表資料)'!AF17,'貼_耕地面積(市町村別・公表資料)'!$AO$15:$AO$28,0)),"-") -> 石狩 | F124: =IFERROR(INDEX('貼_耕地面積(市町村別・公表資料)'!$AG$15:$AG$28,MATCH('貼_耕地面積(市町村別・公表資料)'!AF17,'貼_耕地面積(市町村別・公表資料)'!$AU$15:$AU$28,0)),"-") -> 根室 | G124: =IFERROR(INDEX('貼_水稲(市町村別・公表資料)'!$AF$15:$AF$28,MATCH('貼_水稲(市町村別・公表資料)'!$AE17,'貼_水稲(市町村別・公表資料)'!$AH$15:$AH$28,0)),"-") -> 石狩 | H124: =IFERROR(INDEX('貼_水稲(市町村別・公表資料)'!$AF$15:$AF$28,MATCH('貼_水稲(市町村別・公表資料)'!$AE17,'貼_水稲(市町村別・公表資料)'!$AN$15:$AN$28,0)),"-") -> 石狩 | I124: =IFERROR(INDEX('貼_水稲(市町村別・公表資料)'!$AF$15:$AF$28,MATCH('貼_水稲(市町村別・公表資料)'!$AE17,'貼_水稲(市町村別・公表資料)'!$AT$15:$AT$28,0)),"-") -> オホーツク | J124: =IFERROR(INDEX('貼_小麦(市町村別・公表資料)'!$AH$17:$AH$30,MATCH('貼_小麦(市町村別・公表資料)'!$AG19,'貼_小麦(市町村別・公表資料)'!AJ$17:AJ$30,0)),"-") -> 空知 | K124: =IFERROR(INDEX('貼_小麦(市町村別・公表資料)'!$AH$17:$AH$30,MATCH('貼_小麦(市町村別・公表資料)'!$AG19,'貼_小麦(市町村別・公表資料)'!AP$17:AP$30,0)),"-") -> 空知 | L124: =IFERROR(INDEX('貼_小麦(市町村別・公表資料)'!$AH$17:$AH$30,MATCH('貼_小麦(市町村別・公表資料)'!$AG19,'貼_小麦(市町村別・公表資料)'!AV$17:AV$30,0)),"-") -> 空知 | M124: =IFERROR(INDEX('貼_小麦(市町村別・公表資料)'!$AH$17:$AH$30,MATCH('貼_小麦(市町村別・公表資料)'!$AG19,'貼_小麦(市町村別・公表資料)'!BB$17:BB$30,0)),"-") -> 空知 | N124: =IFERROR(INDEX('貼_小麦(市町村別・公表資料)'!$AH$17:$AH$30,MATCH('貼_小麦(市町村別・公表資料)'!$AG19,'貼_小麦(市町村別・公表資料)'!BH$17:BH$30,0)),"-") -> 空知 | O124: =IFERROR(INDEX('貼_小麦(市町村別・公表資料)'!$AH$17:$AH$30,MATCH('貼_小麦(市町村別・公表資料)'!$AG19,'貼_小麦(市町村別・公表資料)'!BN$17:BN$30,0)),"-") -> 胆振 | P124: =IFERROR(INDEX('貼_小麦(市町村別・公表資料)'!$AH$17:$AH$30,MATCH('貼_小麦(市町村別・公表資料)'!$AG19,'貼_小麦(市町村別・公表資料)'!BT$17:BT$30,0)),"-") -> 上川 | Q124: =IFERROR(INDEX('貼_小麦(市町村別・公表資料)'!$AH$17:$AH$30,MATCH('貼_小麦(市町村別・公表資料)'!$AG19,'貼_小麦(市町村別・公表資料)'!BZ$17:BZ$30,0)),"-") -> 石狩 | R124: =IFERROR(INDEX('貼_小麦(市町村別・公表資料)'!$AH$17:$AH$30,MATCH('貼_小麦(市町村別・公表資料)'!$AG19,'貼_小麦(市町村別・公表資料)'!CF$17:CF$30,0)),"-") -> 十勝 | S124: =IFERROR(INDEX('貼_大豆(市町村別・公表資料)'!$AH$16:$AH$29,MATCH('貼_大豆(市町村別・公表資料)'!$AG18,'貼_大豆(市町村別・公表資料)'!AJ$16:AJ$29,0)),"-") -> 上川 | T124: =IFERROR(INDEX('貼_大豆(市町村別・公表資料)'!$AH$16:$AH$29,MATCH('貼_大豆(市町村別・公表資料)'!$AG18,'貼_大豆(市町村別・公表資料)'!AP$16:AP$29,0)),"-") -> 上川 | U124: =IFERROR(INDEX('貼_大豆(市町村別・公表資料)'!$AH$16:$AH$29,MATCH('貼_大豆(市町村別・公表資料)'!$AG18,'貼_大豆(市町村別・公表資料)'!AV$16:AV$29,0)),"-") -> 石狩 | V124: =IFERROR(INDEX('貼_てんさい(市町村別・公表資料)'!$AJ$16:$AJ$29,MATCH('貼_てんさい(市町村別・公表資料)'!$AI18,'貼_てんさい(市町村別・公表資料)'!AL$16:AL$29,0)),"-") -> 上川 | W124: =IFERROR(INDEX('貼_てんさい(市町村別・公表資料)'!$AJ$16:$AJ$29,MATCH('貼_てんさい(市町村別・公表資料)'!$AI18,'貼_てんさい(市町村別・公表資料)'!AR$16:AR$29,0)),"-") -> 上川 | X124: =IFERROR(INDEX('貼_てんさい(市町村別・公表資料)'!$AJ$16:$AJ$29,MATCH('貼_てんさい(市町村別・公表資料)'!$AI18,'貼_てんさい(市町村別・公表資料)'!AX$16:AX$29,0)),"-") -> 上川 | Y124: =IFERROR(INDEX('貼_そば(市町村別・公表資料)'!$AI$16:$AI$29,MATCH('貼_そば(市町村別・公表資料)'!$AH18,'貼_そば(市町村別・公表資料)'!AK$16:AK$29,0)),"-") -> 後志 | Z124: =IFERROR(INDEX('貼_そば(市町村別・公表資料)'!$AI$16:$AI$29,MATCH('貼_そば(市町村別・公表資料)'!$AH18,'貼_そば(市町村別・公表資料)'!AQ$16:AQ$29,0)),"-") -> 後志 | AA124: =IFERROR(INDEX('貼_そば(市町村別・公表資料)'!$AI$16:$AI$29,MATCH('貼_そば(市町村別・公表資料)'!$AH18,'貼_そば(市町村別・公表資料)'!AW$16:AW$29,0)),"-") -> 釧路 | AB124: =IFERROR(INDEX('貼_ばれいしょ(市町村別・公表資料)'!$AH$16:$AH$29,MATCH('貼_ばれいしょ(市町村別・公表資料)'!$AG18,'貼_ばれいしょ(市町村別・公表資料)'!AJ$16:AJ$29,0)),"-") -> 後志 | AC124: =IFERROR(INDEX('貼_ばれいしょ(市町村別・公表資料)'!$AH$16:$AH$29,MATCH('貼_ばれいしょ(市町村別・公表資料)'!$AG18,'貼_ばれいしょ(市町村別・公表資料)'!AP$16:AP$29,0)),"-") -> 後志 | AD124: =IFERROR(INDEX('貼_ばれいしょ(市町村別・公表資料)'!$AH$16:$AH$29,MATCH('貼_ばれいしょ(市町村別・公表資料)'!$AG18,'貼_ばれいしょ(市町村別・公表資料)'!AV$16:AV$29,0)),"-") -> 十勝 | AE124: =IFERROR(INDEX('貼_なたね(市町村別・公表資料)'!$O$16:$O$29,MATCH('貼_なたね(市町村別・公表資料)'!$N18,'貼_なたね(市町村別・公表資料)'!Q$16:Q$29,0)),"-") -> 十勝 | AF124: =IFERROR(INDEX('貼_なたね(市町村別・公表資料)'!$O$16:$O$29,MATCH('貼_なたね(市町村別・公表資料)'!$N18,'貼_なたね(市町村別・公表資料)'!W$16:W$29,0)),"-") -> 胆振 | AG124: =IFERROR(INDEX('貼_なたね(市町村別・公表資料)'!$O$16:$O$29,MATCH('貼_なたね(市町村別・公表資料)'!$N18,'貼_なたね(市町村別・公表資料)'!AC$16:AC$29,0)),"-") -> 胆振
C125: 4 | D125: =IFERROR(INDEX('貼_耕地面積(市町村別・公表資料)'!$AG$15:$AG$28,MATCH('貼_耕地面積(市町村別・公表資料)'!AF18,'貼_耕地面積(市町村別・公表資料)'!$AI$15:$AI$28,0)),"-") -> 空知 | E125: =IFERROR(INDEX('貼_耕地面積(市町村別・公表資料)'!$AG$15:$AG$28,MATCH('貼_耕地面積(市町村別・公表資料)'!AF18,'貼_耕地面積(市町村別・公表資料)'!$AO$15:$AO$28,0)),"-") -> 檜山 | F125: =IFERROR(INDEX('貼_耕地面積(市町村別・公表資料)'!$AG$15:$AG$28,MATCH('貼_耕地面積(市町村別・公表資料)'!AF18,'貼_耕地面積(市町村別・公表資料)'!$AU$15:$AU$28,0)),"-") -> 釧路 | G125: =IFERROR(INDEX('貼_水稲(市町村別・公表資料)'!$AF$15:$AF$28,MATCH('貼_水稲(市町村別・公表資料)'!$AE18,'貼_水稲(市町村別・公表資料)'!$AH$15:$AH$28,0)),"-") -> 後志 | H125: =IFERROR(INDEX('貼_水稲(市町村別・公表資料)'!$AF$15:$AF$28,MATCH('貼_水稲(市町村別・公表資料)'!$AE18,'貼_水稲(市町村別・公表資料)'!$AN$15:$AN$28,0)),"-") -> 後志 | I125: =IFERROR(INDEX('貼_水稲(市町村別・公表資料)'!$AF$15:$AF$28,MATCH('貼_水稲(市町村別・公表資料)'!$AE18,'貼_水稲(市町村別・公表資料)'!$AT$15:$AT$28,0)),"-") -> 留萌 | J125: =IFERROR(INDEX('貼_小麦(市町村別・公表資料)'!$AH$17:$AH$30,MATCH('貼_小麦(市町村別・公表資料)'!$AG20,'貼_小麦(市町村別・公表資料)'!AJ$17:AJ$30,0)),"-") -> 上川 | K125: =IFERROR(INDEX('貼_小麦(市町村別・公表資料)'!$AH$17:$AH$30,MATCH('貼_小麦(市町村別・公表資料)'!$AG20,'貼_小麦(市町村別・公表資料)'!AP$17:AP$30,0)),"-") -> 上川 | L125: =IFERROR(INDEX('貼_小麦(市町村別・公表資料)'!$AH$17:$AH$30,MATCH('貼_小麦(市町村別・公表資料)'!$AG20,'貼_小麦(市町村別・公表資料)'!AV$17:AV$30,0)),"-") -> 胆振 | M125: =IFERROR(INDEX('貼_小麦(市町村別・公表資料)'!$AH$17:$AH$30,MATCH('貼_小麦(市町村別・公表資料)'!$AG20,'貼_小麦(市町村別・公表資料)'!BB$17:BB$30,0)),"-") -> 上川 | N125: =IFERROR(INDEX('貼_小麦(市町村別・公表資料)'!$AH$17:$AH$30,MATCH('貼_小麦(市町村別・公表資料)'!$AG20,'貼_小麦(市町村別・公表資料)'!BH$17:BH$30,0)),"-") -> 上川 | O125: =IFERROR(INDEX('貼_小麦(市町村別・公表資料)'!$AH$17:$AH$30,MATCH('貼_小麦(市町村別・公表資料)'!$AG20,'貼_小麦(市町村別・公表資料)'!BN$17:BN$30,0)),"-") -> 日高 | P125: =IFERROR(INDEX('貼_小麦(市町村別・公表資料)'!$AH$17:$AH$30,MATCH('貼_小麦(市町村別・公表資料)'!$AG20,'貼_小麦(市町村別・公表資料)'!BT$17:BT$30,0)),"-") -> 石狩 | Q125: =IFERROR(INDEX('貼_小麦(市町村別・公表資料)'!$AH$17:$AH$30,MATCH('貼_小麦(市町村別・公表資料)'!$AG20,'貼_小麦(市町村別・公表資料)'!BZ$17:BZ$30,0)),"-") -> 上川 | R125: =IFERROR(INDEX('貼_小麦(市町村別・公表資料)'!$AH$17:$AH$30,MATCH('貼_小麦(市町村別・公表資料)'!$AG20,'貼_小麦(市町村別・公表資料)'!CF$17:CF$30,0)),"-") -> 石狩 | S125: =IFERROR(INDEX('貼_大豆(市町村別・公表資料)'!$AH$16:$AH$29,MATCH('貼_大豆(市町村別・公表資料)'!$AG19,'貼_大豆(市町村別・公表資料)'!AJ$16:AJ$29,0)),"-") -> オホーツク | T125: =IFERROR(INDEX('貼_大豆(市町村別・公表資料)'!$AH$16:$AH$29,MATCH('貼_大豆(市町村別・公表資料)'!$AG19,'貼_大豆(市町村別・公表資料)'!AP$16:AP$29,0)),"-") -> オホーツク | U125: =IFERROR(INDEX('貼_大豆(市町村別・公表資料)'!$AH$16:$AH$29,MATCH('貼_大豆(市町村別・公表資料)'!$AG19,'貼_大豆(市町村別・公表資料)'!AV$16:AV$29,0)),"-") -> 空知 | V125: =IFERROR(INDEX('貼_てんさい(市町村別・公表資料)'!$AJ$16:$AJ$29,MATCH('貼_てんさい(市町村別・公表資料)'!$AI19,'貼_てんさい(市町村別・公表資料)'!AL$16:AL$29,0)),"-") -> 後志 | W125: =IFERROR(INDEX('貼_てんさい(市町村別・公表資料)'!$AJ$16:$AJ$29,MATCH('貼_てんさい(市町村別・公表資料)'!$AI19,'貼_てんさい(市町村別・公表資料)'!AR$16:AR$29,0)),"-") -> 後志 | X125: =IFERROR(INDEX('貼_てんさい(市町村別・公表資料)'!$AJ$16:$AJ$29,MATCH('貼_てんさい(市町村別・公表資料)'!$AI19,'貼_てんさい(市町村別・公表資料)'!AX$16:AX$29,0)),"-") -> オホーツク | Y125: =IFERROR(INDEX('貼_そば(市町村別・公表資料)'!$AI$16:$AI$29,MATCH('貼_そば(市町村別・公表資料)'!$AH19,'貼_そば(市町村別・公表資料)'!AK$16:AK$29,0)),"-") -> 根室 | Z125: =IFERROR(INDEX('貼_そば(市町村別・公表資料)'!$AI$16:$AI$29,MATCH('貼_そば(市町村別・公表資料)'!$AH19,'貼_そば(市町村別・公表資料)'!AQ$16:AQ$29,0)),"-") -> 十勝 | AA125: =IFERROR(INDEX('貼_そば(市町村別・公表資料)'!$AI$16:$AI$29,MATCH('貼_そば(市町村別・公表資料)'!$AH19,'貼_そば(市町村別・公表資料)'!AW$16:AW$29,0)),"-") -> 根室 | AB125: =IFERROR(INDEX('貼_ばれいしょ(市町村別・公表資料)'!$AH$16:$AH$29,MATCH('貼_ばれいしょ(市町村別・公表資料)'!$AG19,'貼_ばれいしょ(市町村別・公表資料)'!AJ$16:AJ$29,0)),"-") -> 上川 | AC125: =IFERROR(INDEX('貼_ばれいしょ(市町村別・公表資料)'!$AH$16:$AH$29,MATCH('貼_ばれいしょ(市町村別・公表資料)'!$AG19,'貼_ばれいしょ(市町村別・公表資料)'!AP$16:AP$29,0)),"-") -> 上川 | AD125: =IFERROR(INDEX('貼_ばれいしょ(市町村別・公表資料)'!$AH$16:$AH$29,MATCH('貼_ばれいしょ(市町村別・公表資料)'!$AG19,'貼_ばれいしょ(市町村別・公表資料)'!AV$16:AV$29,0)),"-") -> 空知 | AE125: =IFERROR(INDEX('貼_なたね(市町村別・公表資料)'!$O$16:$O$29,MATCH('貼_なたね(市町村別・公表資料)'!$N19,'貼_なたね(市町村別・公表資料)'!Q$16:Q$29,0)),"-") -> 胆振 | AF125: =IFERROR(INDEX('貼_なたね(市町村別・公表資料)'!$O$16:$O$29,MATCH('貼_なたね(市町村別・公表資料)'!$N19,'貼_なたね(市町村別・公表資料)'!W$16:W$29,0)),"-") -> 十勝 | AG125: =IFERROR(INDEX('貼_なたね(市町村別・公表資料)'!$O$16:$O$29,MATCH('貼_なたね(市町村別・公表資料)'!$N19,'貼_なたね(市町村別・公表資料)'!AC$16:AC$29,0)),"-") -> オホーツク
C126: 5 | D126: =IFERROR(INDEX('貼_耕地面積(市町村別・公表資料)'!$AG$15:$AG$28,MATCH('貼_耕地面積(市町村別・公表資料)'!AF19,'貼_耕地面積(市町村別・公表資料)'!$AI$15:$AI$28,0)),"-") -> 根室 | E126: =IFERROR(INDEX('貼_耕地面積(市町村別・公表資料)'!$AG$15:$AG$28,MATCH('貼_耕地面積(市町村別・公表資料)'!AF19,'貼_耕地面積(市町村別・公表資料)'!$AO$15:$AO$28,0)),"-") -> 胆振 | F126: =IFERROR(INDEX('貼_耕地面積(市町村別・公表資料)'!$AG$15:$AG$28,MATCH('貼_耕地面積(市町村別・公表資料)'!AF19,'貼_耕地面積(市町村別・公表資料)'!$AU$15:$AU$28,0)),"-") -> 上川 | G126: =IFERROR(INDEX('貼_水稲(市町村別・公表資料)'!$AF$15:$AF$28,MATCH('貼_水稲(市町村別・公表資料)'!$AE19,'貼_水稲(市町村別・公表資料)'!$AH$15:$AH$28,0)),"-") -> 留萌 | H126: =IFERROR(INDEX('貼_水稲(市町村別・公表資料)'!$AF$15:$AF$28,MATCH('貼_水稲(市町村別・公表資料)'!$AE19,'貼_水稲(市町村別・公表資料)'!$AN$15:$AN$28,0)),"-") -> 留萌 | I126: =IFERROR(INDEX('貼_水稲(市町村別・公表資料)'!$AF$15:$AF$28,MATCH('貼_水稲(市町村別・公表資料)'!$AE19,'貼_水稲(市町村別・公表資料)'!$AT$15:$AT$28,0)),"-") -> 石狩 | J126: =IFERROR(INDEX('貼_小麦(市町村別・公表資料)'!$AH$17:$AH$30,MATCH('貼_小麦(市町村別・公表資料)'!$AG21,'貼_小麦(市町村別・公表資料)'!AJ$17:AJ$30,0)),"-") -> 石狩 | K126: =IFERROR(INDEX('貼_小麦(市町村別・公表資料)'!$AH$17:$AH$30,MATCH('貼_小麦(市町村別・公表資料)'!$AG21,'貼_小麦(市町村別・公表資料)'!AP$17:AP$30,0)),"-") -> 石狩 | L126: =IFERROR(INDEX('貼_小麦(市町村別・公表資料)'!$AH$17:$AH$30,MATCH('貼_小麦(市町村別・公表資料)'!$AG21,'貼_小麦(市町村別・公表資料)'!AV$17:AV$30,0)),"-") -> 釧路 | M126: =IFERROR(INDEX('貼_小麦(市町村別・公表資料)'!$AH$17:$AH$30,MATCH('貼_小麦(市町村別・公表資料)'!$AG21,'貼_小麦(市町村別・公表資料)'!BB$17:BB$30,0)),"-") -> 石狩 | N126: =IFERROR(INDEX('貼_小麦(市町村別・公表資料)'!$AH$17:$AH$30,MATCH('貼_小麦(市町村別・公表資料)'!$AG21,'貼_小麦(市町村別・公表資料)'!BH$17:BH$30,0)),"-") -> 石狩 | O126: =IFERROR(INDEX('貼_小麦(市町村別・公表資料)'!$AH$17:$AH$30,MATCH('貼_小麦(市町村別・公表資料)'!$AG21,'貼_小麦(市町村別・公表資料)'!BN$17:BN$30,0)),"-") -> 空知 | P126: =IFERROR(INDEX('貼_小麦(市町村別・公表資料)'!$AH$17:$AH$30,MATCH('貼_小麦(市町村別・公表資料)'!$AG21,'貼_小麦(市町村別・公表資料)'!BT$17:BT$30,0)),"-") -> 十勝 | Q126: =IFERROR(INDEX('貼_小麦(市町村別・公表資料)'!$AH$17:$AH$30,MATCH('貼_小麦(市町村別・公表資料)'!$AG21,'貼_小麦(市町村別・公表資料)'!BZ$17:BZ$30,0)),"-") -> 十勝 | R126: =IFERROR(INDEX('貼_小麦(市町村別・公表資料)'!$AH$17:$AH$30,MATCH('貼_小麦(市町村別・公表資料)'!$AG21,'貼_小麦(市町村別・公表資料)'!CF$17:CF$30,0)),"-") -> 胆振 | S126: =IFERROR(INDEX('貼_大豆(市町村別・公表資料)'!$AH$16:$AH$29,MATCH('貼_大豆(市町村別・公表資料)'!$AG20,'貼_大豆(市町村別・公表資料)'!AJ$16:AJ$29,0)),"-") -> 石狩 | T126: =IFERROR(INDEX('貼_大豆(市町村別・公表資料)'!$AH$16:$AH$29,MATCH('貼_大豆(市町村別・公表資料)'!$AG20,'貼_大豆(市町村別・公表資料)'!AP$16:AP$29,0)),"-") -> 石狩 | U126: =IFERROR(INDEX('貼_大豆(市町村別・公表資料)'!$AH$16:$AH$29,MATCH('貼_大豆(市町村別・公表資料)'!$AG20,'貼_大豆(市町村別・公表資料)'!AV$16:AV$29,0)),"-") -> 日高 | V126: =IFERROR(INDEX('貼_てんさい(市町村別・公表資料)'!$AJ$16:$AJ$29,MATCH('貼_てんさい(市町村別・公表資料)'!$AI20,'貼_てんさい(市町村別・公表資料)'!AL$16:AL$29,0)),"-") -> 胆振 | W126: =IFERROR(INDEX('貼_てんさい(市町村別・公表資料)'!$AJ$16:$AJ$29,MATCH('貼_てんさい(市町村別・公表資料)'!$AI20,'貼_てんさい(市町村別・公表資料)'!AR$16:AR$29,0)),"-") -> 胆振 | X126: =IFERROR(INDEX('貼_てんさい(市町村別・公表資料)'!$AJ$16:$AJ$29,MATCH('貼_てんさい(市町村別・公表資料)'!$AI20,'貼_てんさい(市町村別・公表資料)'!AX$16:AX$29,0)),"-") -> 釧路 | Y126: =IFERROR(INDEX('貼_そば(市町村別・公表資料)'!$AI$16:$AI$29,MATCH('貼_そば(市町村別・公表資料)'!$AH20,'貼_そば(市町村別・公表資料)'!AK$16:AK$29,0)),"-") -> 十勝 | Z126: =IFERROR(INDEX('貼_そば(市町村別・公表資料)'!$AI$16:$AI$29,MATCH('貼_そば(市町村別・公表資料)'!$AH20,'貼_そば(市町村別・公表資料)'!AQ$16:AQ$29,0)),"-") -> 根室 | AA126: =IFERROR(INDEX('貼_そば(市町村別・公表資料)'!$AI$16:$AI$29,MATCH('貼_そば(市町村別・公表資料)'!$AH20,'貼_そば(市町村別・公表資料)'!AW$16:AW$29,0)),"-") -> 石狩 | AB126: =IFERROR(INDEX('貼_ばれいしょ(市町村別・公表資料)'!$AH$16:$AH$29,MATCH('貼_ばれいしょ(市町村別・公表資料)'!$AG20,'貼_ばれいしょ(市町村別・公表資料)'!AJ$16:AJ$29,0)),"-") -> 檜山 | AC126: =IFERROR(INDEX('貼_ばれいしょ(市町村別・公表資料)'!$AH$16:$AH$29,MATCH('貼_ばれいしょ(市町村別・公表資料)'!$AG20,'貼_ばれいしょ(市町村別・公表資料)'!AP$16:AP$29,0)),"-") -> 檜山 | AD126: =IFERROR(INDEX('貼_ばれいしょ(市町村別・公表資料)'!$AH$16:$AH$29,MATCH('貼_ばれいしょ(市町村別・公表資料)'!$AG20,'貼_ばれいしょ(市町村別・公表資料)'!AV$16:AV$29,0)),"-") -> 根室 | AE126: =IFERROR(INDEX('貼_なたね(市町村別・公表資料)'!$O$16:$O$29,MATCH('貼_なたね(市町村別・公表資料)'!$N20,'貼_なたね(市町村別・公表資料)'!Q$16:Q$29,0)),"-") -> 石狩 | AF126: =IFERROR(INDEX('貼_なたね(市町村別・公表資料)'!$O$16:$O$29,MATCH('貼_なたね(市町村別・公表資料)'!$N20,'貼_なたね(市町村別・公表資料)'!W$16:W$29,0)),"-") -> 石狩 | AG126: =IFERROR(INDEX('貼_なたね(市町村別・公表資料)'!$O$16:$O$29,MATCH('貼_なたね(市町村別・公表資料)'!$N20,'貼_なたね(市町村別・公表資料)'!AC$16:AC$29,0)),"-") -> 石狩
C127: 6 | D127: =IFERROR(INDEX('貼_耕地面積(市町村別・公表資料)'!$AG$15:$AG$28,MATCH('貼_耕地面積(市町村別・公表資料)'!AF20,'貼_耕地面積(市町村別・公表資料)'!$AI$15:$AI$28,0)),"-") -> 釧路 | E127: =IFERROR(INDEX('貼_耕地面積(市町村別・公表資料)'!$AG$15:$AG$28,MATCH('貼_耕地面積(市町村別・公表資料)'!AF20,'貼_耕地面積(市町村別・公表資料)'!$AO$15:$AO$28,0)),"-") -> 後志 | F127: =IFERROR(INDEX('貼_耕地面積(市町村別・公表資料)'!$AG$15:$AG$28,MATCH('貼_耕地面積(市町村別・公表資料)'!AF20,'貼_耕地面積(市町村別・公表資料)'!$AU$15:$AU$28,0)),"-") -> 宗谷 | G127: =IFERROR(INDEX('貼_水稲(市町村別・公表資料)'!$AF$15:$AF$28,MATCH('貼_水稲(市町村別・公表資料)'!$AE20,'貼_水稲(市町村別・公表資料)'!$AH$15:$AH$28,0)),"-") -> 檜山 | H127: =IFERROR(INDEX('貼_水稲(市町村別・公表資料)'!$AF$15:$AF$28,MATCH('貼_水稲(市町村別・公表資料)'!$AE20,'貼_水稲(市町村別・公表資料)'!$AN$15:$AN$28,0)),"-") -> 檜山 | I127: =IFERROR(INDEX('貼_水稲(市町村別・公表資料)'!$AF$15:$AF$28,MATCH('貼_水稲(市町村別・公表資料)'!$AE20,'貼_水稲(市町村別・公表資料)'!$AT$15:$AT$28,0)),"-") -> 後志 | J127: =IFERROR(INDEX('貼_小麦(市町村別・公表資料)'!$AH$17:$AH$30,MATCH('貼_小麦(市町村別・公表資料)'!$AG22,'貼_小麦(市町村別・公表資料)'!AJ$17:AJ$30,0)),"-") -> 胆振 | K127: =IFERROR(INDEX('貼_小麦(市町村別・公表資料)'!$AH$17:$AH$30,MATCH('貼_小麦(市町村別・公表資料)'!$AG22,'貼_小麦(市町村別・公表資料)'!AP$17:AP$30,0)),"-") -> 胆振 | L127: =IFERROR(INDEX('貼_小麦(市町村別・公表資料)'!$AH$17:$AH$30,MATCH('貼_小麦(市町村別・公表資料)'!$AG22,'貼_小麦(市町村別・公表資料)'!AV$17:AV$30,0)),"-") -> 石狩 | M127: =IFERROR(INDEX('貼_小麦(市町村別・公表資料)'!$AH$17:$AH$30,MATCH('貼_小麦(市町村別・公表資料)'!$AG22,'貼_小麦(市町村別・公表資料)'!BB$17:BB$30,0)),"-") -> 胆振 | N127: =IFERROR(INDEX('貼_小麦(市町村別・公表資料)'!$AH$17:$AH$30,MATCH('貼_小麦(市町村別・公表資料)'!$AG22,'貼_小麦(市町村別・公表資料)'!BH$17:BH$30,0)),"-") -> 胆振 | O127: =IFERROR(INDEX('貼_小麦(市町村別・公表資料)'!$AH$17:$AH$30,MATCH('貼_小麦(市町村別・公表資料)'!$AG22,'貼_小麦(市町村別・公表資料)'!BN$17:BN$30,0)),"-") -> 渡島 | P127: =IFERROR(INDEX('貼_小麦(市町村別・公表資料)'!$AH$17:$AH$30,MATCH('貼_小麦(市町村別・公表資料)'!$AG22,'貼_小麦(市町村別・公表資料)'!BT$17:BT$30,0)),"-") -> 胆振 | Q127: =IFERROR(INDEX('貼_小麦(市町村別・公表資料)'!$AH$17:$AH$30,MATCH('貼_小麦(市町村別・公表資料)'!$AG22,'貼_小麦(市町村別・公表資料)'!BZ$17:BZ$30,0)),"-") -> 胆振 | R127: =IFERROR(INDEX('貼_小麦(市町村別・公表資料)'!$AH$17:$AH$30,MATCH('貼_小麦(市町村別・公表資料)'!$AG22,'貼_小麦(市町村別・公表資料)'!CF$17:CF$30,0)),"-") -> 渡島 | S127: =IFERROR(INDEX('貼_大豆(市町村別・公表資料)'!$AH$16:$AH$29,MATCH('貼_大豆(市町村別・公表資料)'!$AG21,'貼_大豆(市町村別・公表資料)'!AJ$16:AJ$29,0)),"-") -> 後志 | T127: =IFERROR(INDEX('貼_大豆(市町村別・公表資料)'!$AH$16:$AH$29,MATCH('貼_大豆(市町村別・公表資料)'!$AG21,'貼_大豆(市町村別・公表資料)'!AP$16:AP$29,0)),"-") -> 胆振 | U127: =IFERROR(INDEX('貼_大豆(市町村別・公表資料)'!$AH$16:$AH$29,MATCH('貼_大豆(市町村別・公表資料)'!$AG21,'貼_大豆(市町村別・公表資料)'!AV$16:AV$29,0)),"-") -> 上川 | V127: =IFERROR(INDEX('貼_てんさい(市町村別・公表資料)'!$AJ$16:$AJ$29,MATCH('貼_てんさい(市町村別・公表資料)'!$AI21,'貼_てんさい(市町村別・公表資料)'!AL$16:AL$29,0)),"-") -> 石狩 | W127: =IFERROR(INDEX('貼_てんさい(市町村別・公表資料)'!$AJ$16:$AJ$29,MATCH('貼_てんさい(市町村別・公表資料)'!$AI21,'貼_てんさい(市町村別・公表資料)'!AR$16:AR$29,0)),"-") -> 石狩 | X127: =IFERROR(INDEX('貼_てんさい(市町村別・公表資料)'!$AJ$16:$AJ$29,MATCH('貼_てんさい(市町村別・公表資料)'!$AI21,'貼_てんさい(市町村別・公表資料)'!AX$16:AX$29,0)),"-") -> 石狩 | Y127: =IFERROR(INDEX('貼_そば(市町村別・公表資料)'!$AI$16:$AI$29,MATCH('貼_そば(市町村別・公表資料)'!$AH21,'貼_そば(市町村別・公表資料)'!AK$16:AK$29,0)),"-") -> オホーツク | Z127: =IFERROR(INDEX('貼_そば(市町村別・公表資料)'!$AI$16:$AI$29,MATCH('貼_そば(市町村別・公表資料)'!$AH21,'貼_そば(市町村別・公表資料)'!AQ$16:AQ$29,0)),"-") -> オホーツク | AA127: =IFERROR(INDEX('貼_そば(市町村別・公表資料)'!$AI$16:$AI$29,MATCH('貼_そば(市町村別・公表資料)'!$AH21,'貼_そば(市町村別・公表資料)'!AW$16:AW$29,0)),"-") -> 後志 | AB127: =IFERROR(INDEX('貼_ばれいしょ(市町村別・公表資料)'!$AH$16:$AH$29,MATCH('貼_ばれいしょ(市町村別・公表資料)'!$AG21,'貼_ばれいしょ(市町村別・公表資料)'!AJ$16:AJ$29,0)),"-") -> 石狩 | AC127: =IFERROR(INDEX('貼_ばれいしょ(市町村別・公表資料)'!$AH$16:$AH$29,MATCH('貼_ばれいしょ(市町村別・公表資料)'!$AG21,'貼_ばれいしょ(市町村別・公表資料)'!AP$16:AP$29,0)),"-") -> 石狩 | AD127: =IFERROR(INDEX('貼_ばれいしょ(市町村別・公表資料)'!$AH$16:$AH$29,MATCH('貼_ばれいしょ(市町村別・公表資料)'!$AG21,'貼_ばれいしょ(市町村別・公表資料)'!AV$16:AV$29,0)),"-") -> 釧路 | AE127: =IFERROR(INDEX('貼_なたね(市町村別・公表資料)'!$O$16:$O$29,MATCH('貼_なたね(市町村別・公表資料)'!$N21,'貼_なたね(市町村別・公表資料)'!Q$16:Q$29,0)),"-") -> オホーツク | AF127: =IFERROR(INDEX('貼_なたね(市町村別・公表資料)'!$O$16:$O$29,MATCH('貼_なたね(市町村別・公表資料)'!$N21,'貼_なたね(市町村別・公表資料)'!W$16:W$29,0)),"-") -> オホーツク | AG127: =IFERROR(INDEX('貼_なたね(市町村別・公表資料)'!$O$16:$O$29,MATCH('貼_なたね(市町村別・公表資料)'!$N21,'貼_なたね(市町村別・公表資料)'!AC$16:AC$29,0)),"-") -> 十勝
C128: 7 | D128: =IFERROR(INDEX('貼_耕地面積(市町村別・公表資料)'!$AG$15:$AG$28,MATCH('貼_耕地面積(市町村別・公表資料)'!AF21,'貼_耕地面積(市町村別・公表資料)'!$AI$15:$AI$28,0)),"-") -> 宗谷 | E128: =IFERROR(INDEX('貼_耕地面積(市町村別・公表資料)'!$AG$15:$AG$28,MATCH('貼_耕地面積(市町村別・公表資料)'!AF21,'貼_耕地面積(市町村別・公表資料)'!$AO$15:$AO$28,0)),"-") -> 留萌 | F128: =IFERROR(INDEX('貼_耕地面積(市町村別・公表資料)'!$AG$15:$AG$28,MATCH('貼_耕地面積(市町村別・公表資料)'!AF21,'貼_耕地面積(市町村別・公表資料)'!$AU$15:$AU$28,0)),"-") -> 日高 | G128: =IFERROR(INDEX('貼_水稲(市町村別・公表資料)'!$AF$15:$AF$28,MATCH('貼_水稲(市町村別・公表資料)'!$AE21,'貼_水稲(市町村別・公表資料)'!$AH$15:$AH$28,0)),"-") -> 胆振 | H128: =IFERROR(INDEX('貼_水稲(市町村別・公表資料)'!$AF$15:$AF$28,MATCH('貼_水稲(市町村別・公表資料)'!$AE21,'貼_水稲(市町村別・公表資料)'!$AN$15:$AN$28,0)),"-") -> 胆振 | I128: =IFERROR(INDEX('貼_水稲(市町村別・公表資料)'!$AF$15:$AF$28,MATCH('貼_水稲(市町村別・公表資料)'!$AE21,'貼_水稲(市町村別・公表資料)'!$AT$15:$AT$28,0)),"-") -> 檜山 | J128: =IFERROR(INDEX('貼_小麦(市町村別・公表資料)'!$AH$17:$AH$30,MATCH('貼_小麦(市町村別・公表資料)'!$AG23,'貼_小麦(市町村別・公表資料)'!AJ$17:AJ$30,0)),"-") -> 後志 | K128: =IFERROR(INDEX('貼_小麦(市町村別・公表資料)'!$AH$17:$AH$30,MATCH('貼_小麦(市町村別・公表資料)'!$AG23,'貼_小麦(市町村別・公表資料)'!AP$17:AP$30,0)),"-") -> 後志 | L128: =IFERROR(INDEX('貼_小麦(市町村別・公表資料)'!$AH$17:$AH$30,MATCH('貼_小麦(市町村別・公表資料)'!$AG23,'貼_小麦(市町村別・公表資料)'!AV$17:AV$30,0)),"-") -> 渡島 | M128: =IFERROR(INDEX('貼_小麦(市町村別・公表資料)'!$AH$17:$AH$30,MATCH('貼_小麦(市町村別・公表資料)'!$AG23,'貼_小麦(市町村別・公表資料)'!BB$17:BB$30,0)),"-") -> 後志 | N128: =IFERROR(INDEX('貼_小麦(市町村別・公表資料)'!$AH$17:$AH$30,MATCH('貼_小麦(市町村別・公表資料)'!$AG23,'貼_小麦(市町村別・公表資料)'!BH$17:BH$30,0)),"-") -> 後志 | O128: =IFERROR(INDEX('貼_小麦(市町村別・公表資料)'!$AH$17:$AH$30,MATCH('貼_小麦(市町村別・公表資料)'!$AG23,'貼_小麦(市町村別・公表資料)'!BN$17:BN$30,0)),"-") -> 釧路 | P128: =IFERROR(INDEX('貼_小麦(市町村別・公表資料)'!$AH$17:$AH$30,MATCH('貼_小麦(市町村別・公表資料)'!$AG23,'貼_小麦(市町村別・公表資料)'!BT$17:BT$30,0)),"-") -> 留萌 | Q128: =IFERROR(INDEX('貼_小麦(市町村別・公表資料)'!$AH$17:$AH$30,MATCH('貼_小麦(市町村別・公表資料)'!$AG23,'貼_小麦(市町村別・公表資料)'!BZ$17:BZ$30,0)),"-") -> 留萌 | R128: =IFERROR(INDEX('貼_小麦(市町村別・公表資料)'!$AH$17:$AH$30,MATCH('貼_小麦(市町村別・公表資料)'!$AG23,'貼_小麦(市町村別・公表資料)'!CF$17:CF$30,0)),"-") -> 後志 | S128: =IFERROR(INDEX('貼_大豆(市町村別・公表資料)'!$AH$16:$AH$29,MATCH('貼_大豆(市町村別・公表資料)'!$AG22,'貼_大豆(市町村別・公表資料)'!AJ$16:AJ$29,0)),"-") -> 胆振 | T128: =IFERROR(INDEX('貼_大豆(市町村別・公表資料)'!$AH$16:$AH$29,MATCH('貼_大豆(市町村別・公表資料)'!$AG22,'貼_大豆(市町村別・公表資料)'!AP$16:AP$29,0)),"-") -> 後志 | U128: =IFERROR(INDEX('貼_大豆(市町村別・公表資料)'!$AH$16:$AH$29,MATCH('貼_大豆(市町村別・公表資料)'!$AG22,'貼_大豆(市町村別・公表資料)'!AV$16:AV$29,0)),"-") -> 胆振 | V128: =IFERROR(INDEX('貼_てんさい(市町村別・公表資料)'!$AJ$16:$AJ$29,MATCH('貼_てんさい(市町村別・公表資料)'!$AI22,'貼_てんさい(市町村別・公表資料)'!AL$16:AL$29,0)),"-") -> 空知 | W128: =IFERROR(INDEX('貼_てんさい(市町村別・公表資料)'!$AJ$16:$AJ$29,MATCH('貼_てんさい(市町村別・公表資料)'!$AI22,'貼_てんさい(市町村別・公表資料)'!AR$16:AR$29,0)),"-") -> 空知 | X128: =IFERROR(INDEX('貼_てんさい(市町村別・公表資料)'!$AJ$16:$AJ$29,MATCH('貼_てんさい(市町村別・公表資料)'!$AI22,'貼_てんさい(市町村別・公表資料)'!AX$16:AX$29,0)),"-") -> 後志 | Y128: =IFERROR(INDEX('貼_そば(市町村別・公表資料)'!$AI$16:$AI$29,MATCH('貼_そば(市町村別・公表資料)'!$AH22,'貼_そば(市町村別・公表資料)'!AK$16:AK$29,0)),"-") -> 檜山 | Z128: =IFERROR(INDEX('貼_そば(市町村別・公表資料)'!$AI$16:$AI$29,MATCH('貼_そば(市町村別・公表資料)'!$AH22,'貼_そば(市町村別・公表資料)'!AQ$16:AQ$29,0)),"-") -> 檜山 | AA128: =IFERROR(INDEX('貼_そば(市町村別・公表資料)'!$AI$16:$AI$29,MATCH('貼_そば(市町村別・公表資料)'!$AH22,'貼_そば(市町村別・公表資料)'!AW$16:AW$29,0)),"-") -> 上川 | AB128: =IFERROR(INDEX('貼_ばれいしょ(市町村別・公表資料)'!$AH$16:$AH$29,MATCH('貼_ばれいしょ(市町村別・公表資料)'!$AG22,'貼_ばれいしょ(市町村別・公表資料)'!AJ$16:AJ$29,0)),"-") -> 空知 | AC128: =IFERROR(INDEX('貼_ばれいしょ(市町村別・公表資料)'!$AH$16:$AH$29,MATCH('貼_ばれいしょ(市町村別・公表資料)'!$AG22,'貼_ばれいしょ(市町村別・公表資料)'!AP$16:AP$29,0)),"-") -> 空知 | AD128: =IFERROR(INDEX('貼_ばれいしょ(市町村別・公表資料)'!$AH$16:$AH$29,MATCH('貼_ばれいしょ(市町村別・公表資料)'!$AG22,'貼_ばれいしょ(市町村別・公表資料)'!AV$16:AV$29,0)),"-") -> 石狩 | AE128: =IFERROR(INDEX('貼_なたね(市町村別・公表資料)'!$O$16:$O$29,MATCH('貼_なたね(市町村別・公表資料)'!$N22,'貼_なたね(市町村別・公表資料)'!Q$16:Q$29,0)),"-") -> - | AF128: =IFERROR(INDEX('貼_なたね(市町村別・公表資料)'!$O$16:$O$29,MATCH('貼_なたね(市町村別・公表資料)'!$N22,'貼_なたね(市町村別・公表資料)'!W$16:W$29,0)),"-") -> - | AG128: =IFERROR(INDEX('貼_なたね(市町村別・公表資料)'!$O$16:$O$29,MATCH('貼_なたね(市町村別・公表資料)'!$N22,'貼_なたね(市町村別・公表資料)'!AC$16:AC$29,0)),"-") -> -
C129: 8 | D129: =IFERROR(INDEX('貼_耕地面積(市町村別・公表資料)'!$AG$15:$AG$28,MATCH('貼_耕地面積(市町村別・公表資料)'!AF22,'貼_耕地面積(市町村別・公表資料)'!$AI$15:$AI$28,0)),"-") -> 石狩 | E129: =IFERROR(INDEX('貼_耕地面積(市町村別・公表資料)'!$AG$15:$AG$28,MATCH('貼_耕地面積(市町村別・公表資料)'!AF22,'貼_耕地面積(市町村別・公表資料)'!$AO$15:$AO$28,0)),"-") -> 渡島 | F129: =IFERROR(INDEX('貼_耕地面積(市町村別・公表資料)'!$AG$15:$AG$28,MATCH('貼_耕地面積(市町村別・公表資料)'!AF22,'貼_耕地面積(市町村別・公表資料)'!$AU$15:$AU$28,0)),"-") -> 後志 | G129: =IFERROR(INDEX('貼_水稲(市町村別・公表資料)'!$AF$15:$AF$28,MATCH('貼_水稲(市町村別・公表資料)'!$AE22,'貼_水稲(市町村別・公表資料)'!$AH$15:$AH$28,0)),"-") -> 渡島 | H129: =IFERROR(INDEX('貼_水稲(市町村別・公表資料)'!$AF$15:$AF$28,MATCH('貼_水稲(市町村別・公表資料)'!$AE22,'貼_水稲(市町村別・公表資料)'!$AN$15:$AN$28,0)),"-") -> 渡島 | I129: =IFERROR(INDEX('貼_水稲(市町村別・公表資料)'!$AF$15:$AF$28,MATCH('貼_水稲(市町村別・公表資料)'!$AE22,'貼_水稲(市町村別・公表資料)'!$AT$15:$AT$28,0)),"-") -> 胆振 | J129: =IFERROR(INDEX('貼_小麦(市町村別・公表資料)'!$AH$17:$AH$30,MATCH('貼_小麦(市町村別・公表資料)'!$AG24,'貼_小麦(市町村別・公表資料)'!AJ$17:AJ$30,0)),"-") -> 留萌 | K129: =IFERROR(INDEX('貼_小麦(市町村別・公表資料)'!$AH$17:$AH$30,MATCH('貼_小麦(市町村別・公表資料)'!$AG24,'貼_小麦(市町村別・公表資料)'!AP$17:AP$30,0)),"-") -> 留萌 | L129: =IFERROR(INDEX('貼_小麦(市町村別・公表資料)'!$AH$17:$AH$30,MATCH('貼_小麦(市町村別・公表資料)'!$AG24,'貼_小麦(市町村別・公表資料)'!AV$17:AV$30,0)),"-") -> 日高 | M129: =IFERROR(INDEX('貼_小麦(市町村別・公表資料)'!$AH$17:$AH$30,MATCH('貼_小麦(市町村別・公表資料)'!$AG24,'貼_小麦(市町村別・公表資料)'!BB$17:BB$30,0)),"-") -> 留萌 | N129: =IFERROR(INDEX('貼_小麦(市町村別・公表資料)'!$AH$17:$AH$30,MATCH('貼_小麦(市町村別・公表資料)'!$AG24,'貼_小麦(市町村別・公表資料)'!BH$17:BH$30,0)),"-") -> 檜山 | O129: =IFERROR(INDEX('貼_小麦(市町村別・公表資料)'!$AH$17:$AH$30,MATCH('貼_小麦(市町村別・公表資料)'!$AG24,'貼_小麦(市町村別・公表資料)'!BN$17:BN$30,0)),"-") -> 石狩 | P129: =IFERROR(INDEX('貼_小麦(市町村別・公表資料)'!$AH$17:$AH$30,MATCH('貼_小麦(市町村別・公表資料)'!$AG24,'貼_小麦(市町村別・公表資料)'!BT$17:BT$30,0)),"-") -> 檜山 | Q129: =IFERROR(INDEX('貼_小麦(市町村別・公表資料)'!$AH$17:$AH$30,MATCH('貼_小麦(市町村別・公表資料)'!$AG24,'貼_小麦(市町村別・公表資料)'!BZ$17:BZ$30,0)),"-") -> 後志 | R129: =IFERROR(INDEX('貼_小麦(市町村別・公表資料)'!$AH$17:$AH$30,MATCH('貼_小麦(市町村別・公表資料)'!$AG24,'貼_小麦(市町村別・公表資料)'!CF$17:CF$30,0)),"-") -> 上川 | S129: =IFERROR(INDEX('貼_大豆(市町村別・公表資料)'!$AH$16:$AH$29,MATCH('貼_大豆(市町村別・公表資料)'!$AG23,'貼_大豆(市町村別・公表資料)'!AJ$16:AJ$29,0)),"-") -> 檜山 | T129: =IFERROR(INDEX('貼_大豆(市町村別・公表資料)'!$AH$16:$AH$29,MATCH('貼_大豆(市町村別・公表資料)'!$AG23,'貼_大豆(市町村別・公表資料)'!AP$16:AP$29,0)),"-") -> 檜山 | U129: =IFERROR(INDEX('貼_大豆(市町村別・公表資料)'!$AH$16:$AH$29,MATCH('貼_大豆(市町村別・公表資料)'!$AG23,'貼_大豆(市町村別・公表資料)'!AV$16:AV$29,0)),"-") -> 檜山 | V129: =IFERROR(INDEX('貼_てんさい(市町村別・公表資料)'!$AJ$16:$AJ$29,MATCH('貼_てんさい(市町村別・公表資料)'!$AI23,'貼_てんさい(市町村別・公表資料)'!AL$16:AL$29,0)),"-") -> 檜山 | W129: =IFERROR(INDEX('貼_てんさい(市町村別・公表資料)'!$AJ$16:$AJ$29,MATCH('貼_てんさい(市町村別・公表資料)'!$AI23,'貼_てんさい(市町村別・公表資料)'!AR$16:AR$29,0)),"-") -> 釧路 | X129: =IFERROR(INDEX('貼_てんさい(市町村別・公表資料)'!$AJ$16:$AJ$29,MATCH('貼_てんさい(市町村別・公表資料)'!$AI23,'貼_てんさい(市町村別・公表資料)'!AX$16:AX$29,0)),"-") -> 胆振 | Y129: =IFERROR(INDEX('貼_そば(市町村別・公表資料)'!$AI$16:$AI$29,MATCH('貼_そば(市町村別・公表資料)'!$AH23,'貼_そば(市町村別・公表資料)'!AK$16:AK$29,0)),"-") -> 留萌 | Z129: =IFERROR(INDEX('貼_そば(市町村別・公表資料)'!$AI$16:$AI$29,MATCH('貼_そば(市町村別・公表資料)'!$AH23,'貼_そば(市町村別・公表資料)'!AQ$16:AQ$29,0)),"-") -> 石狩 | AA129: =IFERROR(INDEX('貼_そば(市町村別・公表資料)'!$AI$16:$AI$29,MATCH('貼_そば(市町村別・公表資料)'!$AH23,'貼_そば(市町村別・公表資料)'!AW$16:AW$29,0)),"-") -> オホーツク | AB129: =IFERROR(INDEX('貼_ばれいしょ(市町村別・公表資料)'!$AH$16:$AH$29,MATCH('貼_ばれいしょ(市町村別・公表資料)'!$AG23,'貼_ばれいしょ(市町村別・公表資料)'!AJ$16:AJ$29,0)),"-") -> 胆振 | AC129: =IFERROR(INDEX('貼_ばれいしょ(市町村別・公表資料)'!$AH$16:$AH$29,MATCH('貼_ばれいしょ(市町村別・公表資料)'!$AG23,'貼_ばれいしょ(市町村別・公表資料)'!AP$16:AP$29,0)),"-") -> 胆振 | AD129: =IFERROR(INDEX('貼_ばれいしょ(市町村別・公表資料)'!$AH$16:$AH$29,MATCH('貼_ばれいしょ(市町村別・公表資料)'!$AG23,'貼_ばれいしょ(市町村別・公表資料)'!AV$16:AV$29,0)),"-") -> 胆振 | AE129: =IFERROR(INDEX('貼_なたね(市町村別・公表資料)'!$O$16:$O$29,MATCH('貼_なたね(市町村別・公表資料)'!$N23,'貼_なたね(市町村別・公表資料)'!Q$16:Q$29,0)),"-") -> - | AF129: =IFERROR(INDEX('貼_なたね(市町村別・公表資料)'!$O$16:$O$29,MATCH('貼_なたね(市町村別・公表資料)'!$N23,'貼_なたね(市町村別・公表資料)'!W$16:W$29,0)),"-") -> - | AG129: =IFERROR(INDEX('貼_なたね(市町村別・公表資料)'!$O$16:$O$29,MATCH('貼_なたね(市町村別・公表資料)'!$N23,'貼_なたね(市町村別・公表資料)'!AC$16:AC$29,0)),"-") -> -
C130: 9 | D130: =IFERROR(INDEX('貼_耕地面積(市町村別・公表資料)'!$AG$15:$AG$28,MATCH('貼_耕地面積(市町村別・公表資料)'!AF23,'貼_耕地面積(市町村別・公表資料)'!$AI$15:$AI$28,0)),"-") -> 日高 | E130: =IFERROR(INDEX('貼_耕地面積(市町村別・公表資料)'!$AG$15:$AG$28,MATCH('貼_耕地面積(市町村別・公表資料)'!AF23,'貼_耕地面積(市町村別・公表資料)'!$AO$15:$AO$28,0)),"-") -> 日高 | F130: =IFERROR(INDEX('貼_耕地面積(市町村別・公表資料)'!$AG$15:$AG$28,MATCH('貼_耕地面積(市町村別・公表資料)'!AF23,'貼_耕地面積(市町村別・公表資料)'!$AU$15:$AU$28,0)),"-") -> 胆振 | G130: =IFERROR(INDEX('貼_水稲(市町村別・公表資料)'!$AF$15:$AF$28,MATCH('貼_水稲(市町村別・公表資料)'!$AE23,'貼_水稲(市町村別・公表資料)'!$AH$15:$AH$28,0)),"-") -> 日高 | H130: =IFERROR(INDEX('貼_水稲(市町村別・公表資料)'!$AF$15:$AF$28,MATCH('貼_水稲(市町村別・公表資料)'!$AE23,'貼_水稲(市町村別・公表資料)'!$AN$15:$AN$28,0)),"-") -> 日高 | I130: =IFERROR(INDEX('貼_水稲(市町村別・公表資料)'!$AF$15:$AF$28,MATCH('貼_水稲(市町村別・公表資料)'!$AE23,'貼_水稲(市町村別・公表資料)'!$AT$15:$AT$28,0)),"-") -> 日高 | J130: =IFERROR(INDEX('貼_小麦(市町村別・公表資料)'!$AH$17:$AH$30,MATCH('貼_小麦(市町村別・公表資料)'!$AG25,'貼_小麦(市町村別・公表資料)'!AJ$17:AJ$30,0)),"-") -> 檜山 | K130: =IFERROR(INDEX('貼_小麦(市町村別・公表資料)'!$AH$17:$AH$30,MATCH('貼_小麦(市町村別・公表資料)'!$AG25,'貼_小麦(市町村別・公表資料)'!AP$17:AP$30,0)),"-") -> 檜山 | L130: =IFERROR(INDEX('貼_小麦(市町村別・公表資料)'!$AH$17:$AH$30,MATCH('貼_小麦(市町村別・公表資料)'!$AG25,'貼_小麦(市町村別・公表資料)'!AV$17:AV$30,0)),"-") -> 根室 | M130: =IFERROR(INDEX('貼_小麦(市町村別・公表資料)'!$AH$17:$AH$30,MATCH('貼_小麦(市町村別・公表資料)'!$AG25,'貼_小麦(市町村別・公表資料)'!BB$17:BB$30,0)),"-") -> 檜山 | N130: =IFERROR(INDEX('貼_小麦(市町村別・公表資料)'!$AH$17:$AH$30,MATCH('貼_小麦(市町村別・公表資料)'!$AG25,'貼_小麦(市町村別・公表資料)'!BH$17:BH$30,0)),"-") -> 留萌 | O130: =IFERROR(INDEX('貼_小麦(市町村別・公表資料)'!$AH$17:$AH$30,MATCH('貼_小麦(市町村別・公表資料)'!$AG25,'貼_小麦(市町村別・公表資料)'!BN$17:BN$30,0)),"-") -> 檜山 | P130: =IFERROR(INDEX('貼_小麦(市町村別・公表資料)'!$AH$17:$AH$30,MATCH('貼_小麦(市町村別・公表資料)'!$AG25,'貼_小麦(市町村別・公表資料)'!BT$17:BT$30,0)),"-") -> 後志 | Q130: =IFERROR(INDEX('貼_小麦(市町村別・公表資料)'!$AH$17:$AH$30,MATCH('貼_小麦(市町村別・公表資料)'!$AG25,'貼_小麦(市町村別・公表資料)'!BZ$17:BZ$30,0)),"-") -> 檜山 | R130: =IFERROR(INDEX('貼_小麦(市町村別・公表資料)'!$AH$17:$AH$30,MATCH('貼_小麦(市町村別・公表資料)'!$AG25,'貼_小麦(市町村別・公表資料)'!CF$17:CF$30,0)),"-") -> 留萌 | S130: =IFERROR(INDEX('貼_大豆(市町村別・公表資料)'!$AH$16:$AH$29,MATCH('貼_大豆(市町村別・公表資料)'!$AG24,'貼_大豆(市町村別・公表資料)'!AJ$16:AJ$29,0)),"-") -> 留萌 | T130: =IFERROR(INDEX('貼_大豆(市町村別・公表資料)'!$AH$16:$AH$29,MATCH('貼_大豆(市町村別・公表資料)'!$AG24,'貼_大豆(市町村別・公表資料)'!AP$16:AP$29,0)),"-") -> 留萌 | U130: =IFERROR(INDEX('貼_大豆(市町村別・公表資料)'!$AH$16:$AH$29,MATCH('貼_大豆(市町村別・公表資料)'!$AG24,'貼_大豆(市町村別・公表資料)'!AV$16:AV$29,0)),"-") -> 釧路 | V130: =IFERROR(INDEX('貼_てんさい(市町村別・公表資料)'!$AJ$16:$AJ$29,MATCH('貼_てんさい(市町村別・公表資料)'!$AI24,'貼_てんさい(市町村別・公表資料)'!AL$16:AL$29,0)),"-") -> 釧路 | W130: =IFERROR(INDEX('貼_てんさい(市町村別・公表資料)'!$AJ$16:$AJ$29,MATCH('貼_てんさい(市町村別・公表資料)'!$AI24,'貼_てんさい(市町村別・公表資料)'!AR$16:AR$29,0)),"-") -> 檜山 | X130: =IFERROR(INDEX('貼_てんさい(市町村別・公表資料)'!$AJ$16:$AJ$29,MATCH('貼_てんさい(市町村別・公表資料)'!$AI24,'貼_てんさい(市町村別・公表資料)'!AX$16:AX$29,0)),"-") -> 檜山 | Y130: =IFERROR(INDEX('貼_そば(市町村別・公表資料)'!$AI$16:$AI$29,MATCH('貼_そば(市町村別・公表資料)'!$AH24,'貼_そば(市町村別・公表資料)'!AK$16:AK$29,0)),"-") -> 石狩 | Z130: =IFERROR(INDEX('貼_そば(市町村別・公表資料)'!$AI$16:$AI$29,MATCH('貼_そば(市町村別・公表資料)'!$AH24,'貼_そば(市町村別・公表資料)'!AQ$16:AQ$29,0)),"-") -> 釧路 | AA130: =IFERROR(INDEX('貼_そば(市町村別・公表資料)'!$AI$16:$AI$29,MATCH('貼_そば(市町村別・公表資料)'!$AH24,'貼_そば(市町村別・公表資料)'!AW$16:AW$29,0)),"-") -> 檜山 | AB130: =IFERROR(INDEX('貼_ばれいしょ(市町村別・公表資料)'!$AH$16:$AH$29,MATCH('貼_ばれいしょ(市町村別・公表資料)'!$AG24,'貼_ばれいしょ(市町村別・公表資料)'!AJ$16:AJ$29,0)),"-") -> 渡島 | AC130: =IFERROR(INDEX('貼_ばれいしょ(市町村別・公表資料)'!$AH$16:$AH$29,MATCH('貼_ばれいしょ(市町村別・公表資料)'!$AG24,'貼_ばれいしょ(市町村別・公表資料)'!AP$16:AP$29,0)),"-") -> 釧路 | AD130: =IFERROR(INDEX('貼_ばれいしょ(市町村別・公表資料)'!$AH$16:$AH$29,MATCH('貼_ばれいしょ(市町村別・公表資料)'!$AG24,'貼_ばれいしょ(市町村別・公表資料)'!AV$16:AV$29,0)),"-") -> 上川 | AE130: =IFERROR(INDEX('貼_なたね(市町村別・公表資料)'!$O$16:$O$29,MATCH('貼_なたね(市町村別・公表資料)'!$N24,'貼_なたね(市町村別・公表資料)'!Q$16:Q$29,0)),"-") -> - | AF130: =IFERROR(INDEX('貼_なたね(市町村別・公表資料)'!$O$16:$O$29,MATCH('貼_なたね(市町村別・公表資料)'!$N24,'貼_なたね(市町村別・公表資料)'!W$16:W$29,0)),"-") -> - | AG130: =IFERROR(INDEX('貼_なたね(市町村別・公表資料)'!$O$16:$O$29,MATCH('貼_なたね(市町村別・公表資料)'!$N24,'貼_なたね(市町村別・公表資料)'!AC$16:AC$29,0)),"-") -> -
C131: 10 | D131: =IFERROR(INDEX('貼_耕地面積(市町村別・公表資料)'!$AG$15:$AG$28,MATCH('貼_耕地面積(市町村別・公表資料)'!AF24,'貼_耕地面積(市町村別・公表資料)'!$AI$15:$AI$28,0)),"-") -> 後志 | E131: =IFERROR(INDEX('貼_耕地面積(市町村別・公表資料)'!$AG$15:$AG$28,MATCH('貼_耕地面積(市町村別・公表資料)'!AF24,'貼_耕地面積(市町村別・公表資料)'!$AO$15:$AO$28,0)),"-") -> オホーツク | F131: =IFERROR(INDEX('貼_耕地面積(市町村別・公表資料)'!$AG$15:$AG$28,MATCH('貼_耕地面積(市町村別・公表資料)'!AF24,'貼_耕地面積(市町村別・公表資料)'!$AU$15:$AU$28,0)),"-") -> 空知 | G131: =IFERROR(INDEX('貼_水稲(市町村別・公表資料)'!$AF$15:$AF$28,MATCH('貼_水稲(市町村別・公表資料)'!$AE24,'貼_水稲(市町村別・公表資料)'!$AH$15:$AH$28,0)),"-") -> オホーツク | H131: =IFERROR(INDEX('貼_水稲(市町村別・公表資料)'!$AF$15:$AF$28,MATCH('貼_水稲(市町村別・公表資料)'!$AE24,'貼_水稲(市町村別・公表資料)'!$AN$15:$AN$28,0)),"-") -> オホーツク | I131: =IFERROR(INDEX('貼_水稲(市町村別・公表資料)'!$AF$15:$AF$28,MATCH('貼_水稲(市町村別・公表資料)'!$AE24,'貼_水稲(市町村別・公表資料)'!$AT$15:$AT$28,0)),"-") -> 渡島 | J131: =IFERROR(INDEX('貼_小麦(市町村別・公表資料)'!$AH$17:$AH$30,MATCH('貼_小麦(市町村別・公表資料)'!$AG26,'貼_小麦(市町村別・公表資料)'!AJ$17:AJ$30,0)),"-") -> 渡島 | K131: =IFERROR(INDEX('貼_小麦(市町村別・公表資料)'!$AH$17:$AH$30,MATCH('貼_小麦(市町村別・公表資料)'!$AG26,'貼_小麦(市町村別・公表資料)'!AP$17:AP$30,0)),"-") -> 渡島 | L131: =IFERROR(INDEX('貼_小麦(市町村別・公表資料)'!$AH$17:$AH$30,MATCH('貼_小麦(市町村別・公表資料)'!$AG26,'貼_小麦(市町村別・公表資料)'!AV$17:AV$30,0)),"-") -> 後志 | M131: =IFERROR(INDEX('貼_小麦(市町村別・公表資料)'!$AH$17:$AH$30,MATCH('貼_小麦(市町村別・公表資料)'!$AG26,'貼_小麦(市町村別・公表資料)'!BB$17:BB$30,0)),"-") -> 渡島 | N131: =IFERROR(INDEX('貼_小麦(市町村別・公表資料)'!$AH$17:$AH$30,MATCH('貼_小麦(市町村別・公表資料)'!$AG26,'貼_小麦(市町村別・公表資料)'!BH$17:BH$30,0)),"-") -> 渡島 | O131: =IFERROR(INDEX('貼_小麦(市町村別・公表資料)'!$AH$17:$AH$30,MATCH('貼_小麦(市町村別・公表資料)'!$AG26,'貼_小麦(市町村別・公表資料)'!BN$17:BN$30,0)),"-") -> 後志 | P131: =IFERROR(INDEX('貼_小麦(市町村別・公表資料)'!$AH$17:$AH$30,MATCH('貼_小麦(市町村別・公表資料)'!$AG26,'貼_小麦(市町村別・公表資料)'!BT$17:BT$30,0)),"-") -> 渡島 | Q131: =IFERROR(INDEX('貼_小麦(市町村別・公表資料)'!$AH$17:$AH$30,MATCH('貼_小麦(市町村別・公表資料)'!$AG26,'貼_小麦(市町村別・公表資料)'!BZ$17:BZ$30,0)),"-") -> 渡島 | R131: =IFERROR(INDEX('貼_小麦(市町村別・公表資料)'!$AH$17:$AH$30,MATCH('貼_小麦(市町村別・公表資料)'!$AG26,'貼_小麦(市町村別・公表資料)'!CF$17:CF$30,0)),"-") -> 檜山 | S131: =IFERROR(INDEX('貼_大豆(市町村別・公表資料)'!$AH$16:$AH$29,MATCH('貼_大豆(市町村別・公表資料)'!$AG25,'貼_大豆(市町村別・公表資料)'!AJ$16:AJ$29,0)),"-") -> 渡島 | T131: =IFERROR(INDEX('貼_大豆(市町村別・公表資料)'!$AH$16:$AH$29,MATCH('貼_大豆(市町村別・公表資料)'!$AG25,'貼_大豆(市町村別・公表資料)'!AP$16:AP$29,0)),"-") -> 渡島 | U131: =IFERROR(INDEX('貼_大豆(市町村別・公表資料)'!$AH$16:$AH$29,MATCH('貼_大豆(市町村別・公表資料)'!$AG25,'貼_大豆(市町村別・公表資料)'!AV$16:AV$29,0)),"-") -> 後志 | V131: =IFERROR(INDEX('貼_てんさい(市町村別・公表資料)'!$AJ$16:$AJ$29,MATCH('貼_てんさい(市町村別・公表資料)'!$AI25,'貼_てんさい(市町村別・公表資料)'!AL$16:AL$29,0)),"-") -> 留萌 | W131: =IFERROR(INDEX('貼_てんさい(市町村別・公表資料)'!$AJ$16:$AJ$29,MATCH('貼_てんさい(市町村別・公表資料)'!$AI25,'貼_てんさい(市町村別・公表資料)'!AR$16:AR$29,0)),"-") -> 留萌 | X131: =IFERROR(INDEX('貼_てんさい(市町村別・公表資料)'!$AJ$16:$AJ$29,MATCH('貼_てんさい(市町村別・公表資料)'!$AI25,'貼_てんさい(市町村別・公表資料)'!AX$16:AX$29,0)),"-") -> 日高 | Y131: =IFERROR(INDEX('貼_そば(市町村別・公表資料)'!$AI$16:$AI$29,MATCH('貼_そば(市町村別・公表資料)'!$AH25,'貼_そば(市町村別・公表資料)'!AK$16:AK$29,0)),"-") -> 釧路 | Z131: =IFERROR(INDEX('貼_そば(市町村別・公表資料)'!$AI$16:$AI$29,MATCH('貼_そば(市町村別・公表資料)'!$AH25,'貼_そば(市町村別・公表資料)'!AQ$16:AQ$29,0)),"-") -> 留萌 | AA131: =IFERROR(INDEX('貼_そば(市町村別・公表資料)'!$AI$16:$AI$29,MATCH('貼_そば(市町村別・公表資料)'!$AH25,'貼_そば(市町村別・公表資料)'!AW$16:AW$29,0)),"-") -> 渡島 | AB131: =IFERROR(INDEX('貼_ばれいしょ(市町村別・公表資料)'!$AH$16:$AH$29,MATCH('貼_ばれいしょ(市町村別・公表資料)'!$AG25,'貼_ばれいしょ(市町村別・公表資料)'!AJ$16:AJ$29,0)),"-") -> 釧路 | AC131: =IFERROR(INDEX('貼_ばれいしょ(市町村別・公表資料)'!$AH$16:$AH$29,MATCH('貼_ばれいしょ(市町村別・公表資料)'!$AG25,'貼_ばれいしょ(市町村別・公表資料)'!AP$16:AP$29,0)),"-") -> 渡島 | AD131: =IFERROR(INDEX('貼_ばれいしょ(市町村別・公表資料)'!$AH$16:$AH$29,MATCH('貼_ばれいしょ(市町村別・公表資料)'!$AG25,'貼_ばれいしょ(市町村別・公表資料)'!AV$16:AV$29,0)),"-") -> 後志 | AE131: =IFERROR(INDEX('貼_なたね(市町村別・公表資料)'!$O$16:$O$29,MATCH('貼_なたね(市町村別・公表資料)'!$N25,'貼_なたね(市町村別・公表資料)'!Q$16:Q$29,0)),"-") -> - | AF131: =IFERROR(INDEX('貼_なたね(市町村別・公表資料)'!$O$16:$O$29,MATCH('貼_なたね(市町村別・公表資料)'!$N25,'貼_なたね(市町村別・公表資料)'!W$16:W$29,0)),"-") -> - | AG131: =IFERROR(INDEX('貼_なたね(市町村別・公表資料)'!$O$16:$O$29,MATCH('貼_なたね(市町村別・公表資料)'!$N25,'貼_なたね(市町村別・公表資料)'!AC$16:AC$29,0)),"-") -> -
C132: 11 | D132: =IFERROR(INDEX('貼_耕地面積(市町村別・公表資料)'!$AG$15:$AG$28,MATCH('貼_耕地面積(市町村別・公表資料)'!AF25,'貼_耕地面積(市町村別・公表資料)'!$AI$15:$AI$28,0)),"-") -> 胆振 | E132: =IFERROR(INDEX('貼_耕地面積(市町村別・公表資料)'!$AG$15:$AG$28,MATCH('貼_耕地面積(市町村別・公表資料)'!AF25,'貼_耕地面積(市町村別・公表資料)'!$AO$15:$AO$28,0)),"-") -> 十勝 | F132: =IFERROR(INDEX('貼_耕地面積(市町村別・公表資料)'!$AG$15:$AG$28,MATCH('貼_耕地面積(市町村別・公表資料)'!AF25,'貼_耕地面積(市町村別・公表資料)'!$AU$15:$AU$28,0)),"-") -> 石狩 | G132: =IFERROR(INDEX('貼_水稲(市町村別・公表資料)'!$AF$15:$AF$28,MATCH('貼_水稲(市町村別・公表資料)'!$AE25,'貼_水稲(市町村別・公表資料)'!$AH$15:$AH$28,0)),"-") -> 十勝 | H132: =IFERROR(INDEX('貼_水稲(市町村別・公表資料)'!$AF$15:$AF$28,MATCH('貼_水稲(市町村別・公表資料)'!$AE25,'貼_水稲(市町村別・公表資料)'!$AN$15:$AN$28,0)),"-") -> 十勝 | I132: =IFERROR(INDEX('貼_水稲(市町村別・公表資料)'!$AF$15:$AF$28,MATCH('貼_水稲(市町村別・公表資料)'!$AE25,'貼_水稲(市町村別・公表資料)'!$AT$15:$AT$28,0)),"-") -> 十勝 | J132: =IFERROR(INDEX('貼_小麦(市町村別・公表資料)'!$AH$17:$AH$30,MATCH('貼_小麦(市町村別・公表資料)'!$AG27,'貼_小麦(市町村別・公表資料)'!AJ$17:AJ$30,0)),"-") -> 釧路 | K132: =IFERROR(INDEX('貼_小麦(市町村別・公表資料)'!$AH$17:$AH$30,MATCH('貼_小麦(市町村別・公表資料)'!$AG27,'貼_小麦(市町村別・公表資料)'!AP$17:AP$30,0)),"-") -> 釧路 | L132: =IFERROR(INDEX('貼_小麦(市町村別・公表資料)'!$AH$17:$AH$30,MATCH('貼_小麦(市町村別・公表資料)'!$AG27,'貼_小麦(市町村別・公表資料)'!AV$17:AV$30,0)),"-") -> 上川 | M132: =IFERROR(INDEX('貼_小麦(市町村別・公表資料)'!$AH$17:$AH$30,MATCH('貼_小麦(市町村別・公表資料)'!$AG27,'貼_小麦(市町村別・公表資料)'!BB$17:BB$30,0)),"-") -> 日高 | N132: =IFERROR(INDEX('貼_小麦(市町村別・公表資料)'!$AH$17:$AH$30,MATCH('貼_小麦(市町村別・公表資料)'!$AG27,'貼_小麦(市町村別・公表資料)'!BH$17:BH$30,0)),"-") -> 日高 | O132: =IFERROR(INDEX('貼_小麦(市町村別・公表資料)'!$AH$17:$AH$30,MATCH('貼_小麦(市町村別・公表資料)'!$AG27,'貼_小麦(市町村別・公表資料)'!BN$17:BN$30,0)),"-") -> 上川 | P132: =IFERROR(INDEX('貼_小麦(市町村別・公表資料)'!$AH$17:$AH$30,MATCH('貼_小麦(市町村別・公表資料)'!$AG27,'貼_小麦(市町村別・公表資料)'!BT$17:BT$30,0)),"-") -> 日高 | Q132: =IFERROR(INDEX('貼_小麦(市町村別・公表資料)'!$AH$17:$AH$30,MATCH('貼_小麦(市町村別・公表資料)'!$AG27,'貼_小麦(市町村別・公表資料)'!BZ$17:BZ$30,0)),"-") -> 日高 | R132: =IFERROR(INDEX('貼_小麦(市町村別・公表資料)'!$AH$17:$AH$30,MATCH('貼_小麦(市町村別・公表資料)'!$AG27,'貼_小麦(市町村別・公表資料)'!CF$17:CF$30,0)),"-") -> 日高 | S132: =IFERROR(INDEX('貼_大豆(市町村別・公表資料)'!$AH$16:$AH$29,MATCH('貼_大豆(市町村別・公表資料)'!$AG26,'貼_大豆(市町村別・公表資料)'!AJ$16:AJ$29,0)),"-") -> 日高 | T132: =IFERROR(INDEX('貼_大豆(市町村別・公表資料)'!$AH$16:$AH$29,MATCH('貼_大豆(市町村別・公表資料)'!$AG26,'貼_大豆(市町村別・公表資料)'!AP$16:AP$29,0)),"-") -> 日高 | U132: =IFERROR(INDEX('貼_大豆(市町村別・公表資料)'!$AH$16:$AH$29,MATCH('貼_大豆(市町村別・公表資料)'!$AG26,'貼_大豆(市町村別・公表資料)'!AV$16:AV$29,0)),"-") -> 渡島 | V132: =IFERROR(INDEX('貼_てんさい(市町村別・公表資料)'!$AJ$16:$AJ$29,MATCH('貼_てんさい(市町村別・公表資料)'!$AI26,'貼_てんさい(市町村別・公表資料)'!AL$16:AL$29,0)),"-") -> 根室 | W132: =IFERROR(INDEX('貼_てんさい(市町村別・公表資料)'!$AJ$16:$AJ$29,MATCH('貼_てんさい(市町村別・公表資料)'!$AI26,'貼_てんさい(市町村別・公表資料)'!AR$16:AR$29,0)),"-") -> 根室 | X132: =IFERROR(INDEX('貼_てんさい(市町村別・公表資料)'!$AJ$16:$AJ$29,MATCH('貼_てんさい(市町村別・公表資料)'!$AI26,'貼_てんさい(市町村別・公表資料)'!AX$16:AX$29,0)),"-") -> 根室 | Y132: =IFERROR(INDEX('貼_そば(市町村別・公表資料)'!$AI$16:$AI$29,MATCH('貼_そば(市町村別・公表資料)'!$AH26,'貼_そば(市町村別・公表資料)'!AK$16:AK$29,0)),"-") -> 渡島 | Z132: =IFERROR(INDEX('貼_そば(市町村別・公表資料)'!$AI$16:$AI$29,MATCH('貼_そば(市町村別・公表資料)'!$AH26,'貼_そば(市町村別・公表資料)'!AQ$16:AQ$29,0)),"-") -> 胆振 | AA132: =IFERROR(INDEX('貼_そば(市町村別・公表資料)'!$AI$16:$AI$29,MATCH('貼_そば(市町村別・公表資料)'!$AH26,'貼_そば(市町村別・公表資料)'!AW$16:AW$29,0)),"-") -> 宗谷 | AB132: =IFERROR(INDEX('貼_ばれいしょ(市町村別・公表資料)'!$AH$16:$AH$29,MATCH('貼_ばれいしょ(市町村別・公表資料)'!$AG26,'貼_ばれいしょ(市町村別・公表資料)'!AJ$16:AJ$29,0)),"-") -> 根室 | AC132: =IFERROR(INDEX('貼_ばれいしょ(市町村別・公表資料)'!$AH$16:$AH$29,MATCH('貼_ばれいしょ(市町村別・公表資料)'!$AG26,'貼_ばれいしょ(市町村別・公表資料)'!AP$16:AP$29,0)),"-") -> 根室 | AD132: =IFERROR(INDEX('貼_ばれいしょ(市町村別・公表資料)'!$AH$16:$AH$29,MATCH('貼_ばれいしょ(市町村別・公表資料)'!$AG26,'貼_ばれいしょ(市町村別・公表資料)'!AV$16:AV$29,0)),"-") -> 檜山 | AE132: =IFERROR(INDEX('貼_なたね(市町村別・公表資料)'!$O$16:$O$29,MATCH('貼_なたね(市町村別・公表資料)'!$N26,'貼_なたね(市町村別・公表資料)'!Q$16:Q$29,0)),"-") -> - | AF132: =IFERROR(INDEX('貼_なたね(市町村別・公表資料)'!$O$16:$O$29,MATCH('貼_なたね(市町村別・公表資料)'!$N26,'貼_なたね(市町村別・公表資料)'!W$16:W$29,0)),"-") -> - | AG132: =IFERROR(INDEX('貼_なたね(市町村別・公表資料)'!$O$16:$O$29,MATCH('貼_なたね(市町村別・公表資料)'!$N26,'貼_なたね(市町村別・公表資料)'!AC$16:AC$29,0)),"-") -> -
C133: 12 | D133: =IFERROR(INDEX('貼_耕地面積(市町村別・公表資料)'!$AG$15:$AG$28,MATCH('貼_耕地面積(市町村別・公表資料)'!AF26,'貼_耕地面積(市町村別・公表資料)'!$AI$15:$AI$28,0)),"-") -> 留萌 | E133: =IFERROR(INDEX('貼_耕地面積(市町村別・公表資料)'!$AG$15:$AG$28,MATCH('貼_耕地面積(市町村別・公表資料)'!AF26,'貼_耕地面積(市町村別・公表資料)'!$AO$15:$AO$28,0)),"-") -> - | F133: =IFERROR(INDEX('貼_耕地面積(市町村別・公表資料)'!$AG$15:$AG$28,MATCH('貼_耕地面積(市町村別・公表資料)'!AF26,'貼_耕地面積(市町村別・公表資料)'!$AU$15:$AU$28,0)),"-") -> 渡島 | G133: =IFERROR(INDEX('貼_水稲(市町村別・公表資料)'!$AF$15:$AF$28,MATCH('貼_水稲(市町村別・公表資料)'!$AE26,'貼_水稲(市町村別・公表資料)'!$AH$15:$AH$28,0)),"-") -> - | H133: =IFERROR(INDEX('貼_水稲(市町村別・公表資料)'!$AF$15:$AF$28,MATCH('貼_水稲(市町村別・公表資料)'!$AE26,'貼_水稲(市町村別・公表資料)'!$AN$15:$AN$28,0)),"-") -> - | I133: =IFERROR(INDEX('貼_水稲(市町村別・公表資料)'!$AF$15:$AF$28,MATCH('貼_水稲(市町村別・公表資料)'!$AE26,'貼_水稲(市町村別・公表資料)'!$AT$15:$AT$28,0)),"-") -> - | J133: =IFERROR(INDEX('貼_小麦(市町村別・公表資料)'!$AH$17:$AH$30,MATCH('貼_小麦(市町村別・公表資料)'!$AG28,'貼_小麦(市町村別・公表資料)'!AJ$17:AJ$30,0)),"-") -> 日高 | K133: =IFERROR(INDEX('貼_小麦(市町村別・公表資料)'!$AH$17:$AH$30,MATCH('貼_小麦(市町村別・公表資料)'!$AG28,'貼_小麦(市町村別・公表資料)'!AP$17:AP$30,0)),"-") -> 日高 | L133: =IFERROR(INDEX('貼_小麦(市町村別・公表資料)'!$AH$17:$AH$30,MATCH('貼_小麦(市町村別・公表資料)'!$AG28,'貼_小麦(市町村別・公表資料)'!AV$17:AV$30,0)),"-") -> 檜山 | M133: =IFERROR(INDEX('貼_小麦(市町村別・公表資料)'!$AH$17:$AH$30,MATCH('貼_小麦(市町村別・公表資料)'!$AG28,'貼_小麦(市町村別・公表資料)'!BB$17:BB$30,0)),"-") -> - | N133: =IFERROR(INDEX('貼_小麦(市町村別・公表資料)'!$AH$17:$AH$30,MATCH('貼_小麦(市町村別・公表資料)'!$AG28,'貼_小麦(市町村別・公表資料)'!BH$17:BH$30,0)),"-") -> - | O133: =IFERROR(INDEX('貼_小麦(市町村別・公表資料)'!$AH$17:$AH$30,MATCH('貼_小麦(市町村別・公表資料)'!$AG28,'貼_小麦(市町村別・公表資料)'!BN$17:BN$30,0)),"-") -> 根室 | P133: =IFERROR(INDEX('貼_小麦(市町村別・公表資料)'!$AH$17:$AH$30,MATCH('貼_小麦(市町村別・公表資料)'!$AG28,'貼_小麦(市町村別・公表資料)'!BT$17:BT$30,0)),"-") -> - | Q133: =IFERROR(INDEX('貼_小麦(市町村別・公表資料)'!$AH$17:$AH$30,MATCH('貼_小麦(市町村別・公表資料)'!$AG28,'貼_小麦(市町村別・公表資料)'!BZ$17:BZ$30,0)),"-") -> - | R133: =IFERROR(INDEX('貼_小麦(市町村別・公表資料)'!$AH$17:$AH$30,MATCH('貼_小麦(市町村別・公表資料)'!$AG28,'貼_小麦(市町村別・公表資料)'!CF$17:CF$30,0)),"-") -> - | S133: =IFERROR(INDEX('貼_大豆(市町村別・公表資料)'!$AH$16:$AH$29,MATCH('貼_大豆(市町村別・公表資料)'!$AG27,'貼_大豆(市町村別・公表資料)'!AJ$16:AJ$29,0)),"-") -> 釧路 | T133: =IFERROR(INDEX('貼_大豆(市町村別・公表資料)'!$AH$16:$AH$29,MATCH('貼_大豆(市町村別・公表資料)'!$AG27,'貼_大豆(市町村別・公表資料)'!AP$16:AP$29,0)),"-") -> 釧路 | U133: =IFERROR(INDEX('貼_大豆(市町村別・公表資料)'!$AH$16:$AH$29,MATCH('貼_大豆(市町村別・公表資料)'!$AG27,'貼_大豆(市町村別・公表資料)'!AV$16:AV$29,0)),"-") -> 留萌 | V133: =IFERROR(INDEX('貼_てんさい(市町村別・公表資料)'!$AJ$16:$AJ$29,MATCH('貼_てんさい(市町村別・公表資料)'!$AI27,'貼_てんさい(市町村別・公表資料)'!AL$16:AL$29,0)),"-") -> 渡島 | W133: =IFERROR(INDEX('貼_てんさい(市町村別・公表資料)'!$AJ$16:$AJ$29,MATCH('貼_てんさい(市町村別・公表資料)'!$AI27,'貼_てんさい(市町村別・公表資料)'!AR$16:AR$29,0)),"-") -> 渡島 | X133: =IFERROR(INDEX('貼_てんさい(市町村別・公表資料)'!$AJ$16:$AJ$29,MATCH('貼_てんさい(市町村別・公表資料)'!$AI27,'貼_てんさい(市町村別・公表資料)'!AX$16:AX$29,0)),"-") -> 留萌 | Y133: =IFERROR(INDEX('貼_そば(市町村別・公表資料)'!$AI$16:$AI$29,MATCH('貼_そば(市町村別・公表資料)'!$AH27,'貼_そば(市町村別・公表資料)'!AK$16:AK$29,0)),"-") -> 胆振 | Z133: =IFERROR(INDEX('貼_そば(市町村別・公表資料)'!$AI$16:$AI$29,MATCH('貼_そば(市町村別・公表資料)'!$AH27,'貼_そば(市町村別・公表資料)'!AQ$16:AQ$29,0)),"-") -> 渡島 | AA133: =IFERROR(INDEX('貼_そば(市町村別・公表資料)'!$AI$16:$AI$29,MATCH('貼_そば(市町村別・公表資料)'!$AH27,'貼_そば(市町村別・公表資料)'!AW$16:AW$29,0)),"-") -> 空知 | AB133: =IFERROR(INDEX('貼_ばれいしょ(市町村別・公表資料)'!$AH$16:$AH$29,MATCH('貼_ばれいしょ(市町村別・公表資料)'!$AG27,'貼_ばれいしょ(市町村別・公表資料)'!AJ$16:AJ$29,0)),"-") -> 日高 | AC133: =IFERROR(INDEX('貼_ばれいしょ(市町村別・公表資料)'!$AH$16:$AH$29,MATCH('貼_ばれいしょ(市町村別・公表資料)'!$AG27,'貼_ばれいしょ(市町村別・公表資料)'!AP$16:AP$29,0)),"-") -> 日高 | AD133: =IFERROR(INDEX('貼_ばれいしょ(市町村別・公表資料)'!$AH$16:$AH$29,MATCH('貼_ばれいしょ(市町村別・公表資料)'!$AG27,'貼_ばれいしょ(市町村別・公表資料)'!AV$16:AV$29,0)),"-") -> 渡島 | AE133: =IFERROR(INDEX('貼_なたね(市町村別・公表資料)'!$O$16:$O$29,MATCH('貼_なたね(市町村別・公表資料)'!$N27,'貼_なたね(市町村別・公表資料)'!Q$16:Q$29,0)),"-") -> - | AF133: =IFERROR(INDEX('貼_なたね(市町村別・公表資料)'!$O$16:$O$29,MATCH('貼_なたね(市町村別・公表資料)'!$N27,'貼_なたね(市町村別・公表資料)'!W$16:W$29,0)),"-") -> - | AG133: =IFERROR(INDEX('貼_なたね(市町村別・公表資料)'!$O$16:$O$29,MATCH('貼_なたね(市町村別・公表資料)'!$N27,'貼_なたね(市町村別・公表資料)'!AC$16:AC$29,0)),"-") -> -
