Workbook
Name hanntei: '計算用シート（当年）'!$J$1
Name グラフ_10a当たり収量_市町村: 'グラフ表示用_データ連動 (市町村)'!$K$58:$O$85
Name グラフ_10a当たり収量_振興局: 'グラフ表示用_データ連動 (振興局)'!$K$47:$O$67
Name グラフ_そば_10a当たり収量: グラフ表示用_データ連動!$L$108
Name グラフ_そば_作付面積: グラフ表示用_データ連動!$B$108
Name グラフ_そば_収穫量: グラフ表示用_データ連動!$G$108
Name グラフ_てんさい_10a当たり収量: グラフ表示用_データ連動!$L$93
Name グラフ_てんさい_作付面積: グラフ表示用_データ連動!$B$93
Name グラフ_てんさい_収穫量: グラフ表示用_データ連動!$G$93
Name グラフ_なたね_10a当たり収量: グラフ表示用_データ連動!$L$138
Name グラフ_なたね_作付面積: グラフ表示用_データ連動!$B$138
Name グラフ_なたね_収穫量: グラフ表示用_データ連動!$G$138
Name グラフ_ばれいしょ_10a当たり収量: グラフ表示用_データ連動!$L$123
Name グラフ_ばれいしょ_作付面積: グラフ表示用_データ連動!$B$123
Name グラフ_ばれいしょ_収穫量: グラフ表示用_データ連動!$G$123
Name グラフ_計_市町村: 'グラフ表示用_データ連動 (市町村)'!$A$28:$E$55
Name グラフ_計_振興局: 'グラフ表示用_データ連動 (振興局)'!$A$24:$E$44
Name グラフ_耕地面積: グラフ表示用_データ連動!$B$3
Name グラフ_耕地面積_計: グラフ表示用_データ連動!$B$3
Name グラフ_耕地面積_市町村: 'グラフ表示用_データ連動 (市町村)'!$A$28:$E$55
Name グラフ_耕地面積_振興局: 'グラフ表示用_データ連動 (振興局)'!$A$24:$E$44
Name グラフ_耕地面積_田: グラフ表示用_データ連動!$G$3
Name グラフ_耕地面積_畑: グラフ表示用_データ連動!$L$3
Name グラフ_作付面積_市町村: 'グラフ表示用_データ連動 (市町村)'!$A$58:$E$85
Name グラフ_作付面積_振興局: 'グラフ表示用_データ連動 (振興局)'!$A$47:$E$67
Name グラフ_収穫量_市町村: 'グラフ表示用_データ連動 (市町村)'!$F$58:$J$85
Name グラフ_収穫量_振興局: 'グラフ表示用_データ連動 (振興局)'!$F$47:$J$67
Name グラフ_秋まき小麦_10a当たり収量: グラフ表示用_データ連動!$L$48
Name グラフ_秋まき小麦_作付面積: グラフ表示用_データ連動!$B$48
Name グラフ_秋まき小麦_収穫量: グラフ表示用_データ連動!$G$48
Name グラフ_春まき小麦_10a当たり収量: グラフ表示用_データ連動!$L$63
Name グラフ_春まき小麦_作付面積: グラフ表示用_データ連動!$B$63
Name グラフ_春まき小麦_収穫量: グラフ表示用_データ連動!$G$63
Name グラフ_小麦_10a当たり収量: グラフ表示用_データ連動!$L$33
Name グラフ_小麦_作付面積: グラフ表示用_データ連動!$B$33
Name グラフ_小麦_収穫量: グラフ表示用_データ連動!$G$33
Name グラフ_水稲_10a当たり収量: グラフ表示用_データ連動!$L$18
Name グラフ_水稲_作付面積: グラフ表示用_データ連動!$B$18
Name グラフ_水稲_収穫量: グラフ表示用_データ連動!$G$18
Name グラフ_大豆_10a当たり収量: グラフ表示用_データ連動!$L$78
Name グラフ_大豆_作付面積: グラフ表示用_データ連動!$B$78
Name グラフ_大豆_収穫量: グラフ表示用_データ連動!$G$78
Name そば: ドロップダウンリスト!$H$3:$H$5
Name てんさい: ドロップダウンリスト!$G$3:$G$5
Name なたね: ドロップダウンリスト!$J$3:$J$5
Name ばれいしょ: ドロップダウンリスト!$I$3:$I$5
Name 耕地面積: ドロップダウンリスト!$A$3:$A$5
Name 秋まき小麦: ドロップダウンリスト!$D$3:$D$5
Name 春まき小麦: ドロップダウンリスト!$E$3:$E$5
Name 小麦: ドロップダウンリスト!$C$3:$C$5
Name 水稲: ドロップダウンリスト!$B$3:$B$5
Name 大豆: ドロップダウンリスト!$F$3:$F$5
Name 判定: INDIRECT('計算用シート（当年）'!$F$1)
Name 判定_市町村: INDIRECT('計算用シート（当年）'!$J$2)
Name 判定_振興局: INDIRECT('計算用シート（当年）'!$J$1)
Name 品目名: ドロップダウンリスト!$A$1:$J$1

Sheet 作成時の注意事項
A1: ○貼りつけ用シートについて
B2: ←この色のセルには、最新値の貼り付けを行う。

Sheet なんばんBOOK
A1: 令和７年 なんばんＢＯＯＫ（電子版）
A3: ChapterⅠ 耕地面積・主要農作物ランキング
C4: 品目名 | D4: データの種類 | K4: =IFERROR(_xlfn.XLOOKUP('計算用シート（当年）'!$C$1,'計算用シート（当年）'!$D$4:$AG$4,'計算用シート（当年）'!$D5:$AG5),"-") -> 令和６年
C5: 耕地面積 | D5: 計
C7: =IFERROR(_xlfn.XLOOKUP('計算用シート（当年）'!$C$1,'計算用シート（当年）'!$D$4:$AG$4,'計算用シート（当年）'!$D$12:$AG$12),"-") -> 全国トップ５とシェア | I7: =IFERROR(_xlfn.XLOOKUP('計算用シート（当年）'!$C$1,'計算用シート（当年）'!$D$4:$AG$4,'計算用シート（当年）'!$D$114:$AG$114),"-") -> 全国における北海道のシェア
A9: =IF(OR($C$5="秋まき小麦",$C$5="春まき小麦",AND($C$5="てんさい",$D$5="10a当たり収量")),"","順位") -> 順位 | B9: =IF(OR($C$5="秋まき小麦",$C$5="春まき小麦",AND($C$5="てんさい",$D$5="10a当たり収量")),"","（前年）") -> （前年） | C9: =IF(OR($C$5="秋まき小麦",$C$5="春まき小麦",AND($C$5="てんさい",$D$5="10a当たり収量")),"年 産","都 道 府 県 名") -> 都 道 府 県 名 | D9: =IFERROR(_xlfn.XLOOKUP('計算用シート（当年）'!$C$1,'計算用シート（当年）'!$D$4:$AG$4,'計算用シート（当年）'!$D$6:$AG$6),"-") -> シェア | E9: =IFERROR(IF(OR($C$5="秋まき小麦",$C$5="春まき小麦",$D$5="10a当たり収量"),"",_xlfn.XLOOKUP('計算用シート（当年）'!$C$1,'計算用シート（当年）'!$D$4:$AG$4,'計算用シート（当年）'!$D$8:$AG$8)),"-") -> 面積
D10: =IFERROR(_xlfn.XLOOKUP('計算用シート（当年）'!$C$1,'計算用シート（当年）'!$D$4:$AG$4,'計算用シート（当年）'!$D$9:$AG$9),"") -> % | E10: =IFERROR(IF(OR($C$5="秋まき小麦",$C$5="春まき小麦",$D$5="10a当たり収量"),"",_xlfn.XLOOKUP('計算用シート（当年）'!$C$1,'計算用シート（当年）'!$D$4:$AG$4,'計算用シート（当年）'!$D$11:$AG$11)),"") -> ha
C11: =IF(OR($C$5="秋まき小麦",$C$5="春まき小麦",AND($C$5="てんさい",$D$5="10a当たり収量")),"","全国") -> 全国 | D11: =IF(OR($C$5="秋まき小麦",$C$5="春まき小麦",AND($C$5="てんさい",$D$5="10a当たり収量")),"",IF($D$5="10a当たり収量",_xlfn.XLOOKUP('計算用シート（当年）'!$C$1,'計算用シート（当年）'!$D$4:$AG$4,'計算用シート（当年）'!$D60:$AG60),100)) -> 100 | E11: =IFERROR(IF(OR($C$5="秋まき小麦",$C$5="春まき小麦",$D$5="10a当たり収量"),"",_xlfn.XLOOKUP('計算用シート（当年）'!$C$1,'計算用シート（当年）'!$D$4:$AG$4,'計算用シート（当年）'!$D60:$AG60)),"-") -> 4272000
A13: =IFERROR(IF(OR($C$5="秋まき小麦",$C$5="春まき小麦",AND($C$5="てんさい",$D$5="10a当たり収量")),"",_xlfn.XLOOKUP('計算用シート（当年）'!$C$1,'計算用シート（当年）'!$D$4:$AG$4,'計算用シート（当年）'!$D108:$AG108)),"-") -> 1 | B13: =IF(OR(A13="",C13="-"),"","("&VLOOKUP(C13,'前年順位整理（自動更新）'!$B$3:$CN$486,MATCH('前年順位整理（自動更新）'!$D$1,'前年順位整理（自動更新）'!$B$3:$CN$3,0),)&")") -> (1) | C13: =IFERROR(_xlfn.XLOOKUP('計算用シート（当年）'!$C$1,'計算用シート（当年）'!$D$4:$AG$4,'計算用シート（当年）'!$D13:$AG13),"-") -> 北海道 | D13: =IFERROR(IF(OR($C$5="秋まき小麦",$C$5="春まき小麦",$D$5="10a当たり収量"),_xlfn.XLOOKUP('計算用シート（当年）'!$C$1,'計算用シート（当年）'!$D$4:$AG$4,'計算用シート（当年）'!$D61:$AG61),ROUND(E13/$E$11*100,1)),"-") -> 26.6 | E13: =IFERROR(IF(OR($C$5="秋まき小麦",$C$5="春まき小麦",$D$5="10a当たり収量"),"",_xlfn.XLOOKUP('計算用シート（当年）'!$C$1,'計算用シート（当年）'!$D$4:$AG$4,'計算用シート（当年）'!$D61:$AG61)),"-") -> 1138000
A14: =IFERROR(IF(OR($C$5="秋まき小麦",$C$5="春まき小麦",AND($C$5="てんさい",$D$5="10a当たり収量")),"",_xlfn.XLOOKUP('計算用シート（当年）'!$C$1,'計算用シート（当年）'!$D$4:$AG$4,'計算用シート（当年）'!$D109:$AG109)),"-") -> 2 | B14: =IF(OR(A14="",C14="-"),"","("&VLOOKUP(C14,'前年順位整理（自動更新）'!$B$3:$CN$486,MATCH('前年順位整理（自動更新）'!$D$1,'前年順位整理（自動更新）'!$B$3:$CN$3,0),)&")") -> (2) | C14: =IFERROR(_xlfn.XLOOKUP('計算用シート（当年）'!$C$1,'計算用シート（当年）'!$D$4:$AG$4,'計算用シート（当年）'!$D14:$AG14),"-") -> 新潟 | D14: =IFERROR(IF(OR($C$5="秋まき小麦",$C$5="春まき小麦",$D$5="10a当たり収量"),_xlfn.XLOOKUP('計算用シート（当年）'!$C$1,'計算用シート（当年）'!$D$4:$AG$4,'計算用シート（当年）'!$D62:$AG62),ROUND(E14/$E$11*100,1)),"-") -> 3.9 | E14: =IFERROR(IF(OR($C$5="秋まき小麦",$C$5="春まき小麦",$D$5="10a当たり収量"),"",_xlfn.XLOOKUP('計算用シート（当年）'!$C$1,'計算用シート（当年）'!$D$4:$AG$4,'計算用シート（当年）'!$D62:$AG62)),"-") -> 166500
A15: =IFERROR(IF(OR($C$5="秋まき小麦",$C$5="春まき小麦",AND($C$5="てんさい",$D$5="10a当たり収量")),"",_xlfn.XLOOKUP('計算用シート（当年）'!$C$1,'計算用シート（当年）'!$D$4:$AG$4,'計算用シート（当年）'!$D110:$AG110)),"-") -> 3 | B15: =IF(OR(A15="",C15="-"),"","("&VLOOKUP(C15,'前年順位整理（自動更新）'!$B$3:$CN$486,MATCH('前年順位整理（自動更新）'!$D$1,'前年順位整理（自動更新）'!$B$3:$CN$3,0),)&")") -> (3) | C15: =IFERROR(_xlfn.XLOOKUP('計算用シート（当年）'!$C$1,'計算用シート（当年）'!$D$4:$AG$4,'計算用シート（当年）'!$D15:$AG15),"-") -> 茨城 | D15: =IFERROR(IF(OR($C$5="秋まき小麦",$C$5="春まき小麦",$D$5="10a当たり収量"),_xlfn.XLOOKUP('計算用シート（当年）'!$C$1,'計算用シート（当年）'!$D$4:$AG$4,'計算用シート（当年）'!$D63:$AG63),ROUND(E15/$E$11*100,1)),"-") -> 3.7 | E15: =IFERROR(IF(OR($C$5="秋まき小麦",$C$5="春まき小麦",$D$5="10a当たり収量"),"",_xlfn.XLOOKUP('計算用シート（当年）'!$C$1,'計算用シート（当年）'!$D$4:$AG$4,'計算用シート（当年）'!$D63:$AG63)),"-") -> 158300
A16: =IFERROR(IF(OR($C$5="秋まき小麦",$C$5="春まき小麦",AND($C$5="てんさい",$D$5="10a当たり収量")),"",_xlfn.XLOOKUP('計算用シート（当年）'!$C$1,'計算用シート（当年）'!$D$4:$AG$4,'計算用シート（当年）'!$D111:$AG111)),"-") -> 4 | B16: =IF(OR(A16="",C16="-"),"","("&VLOOKUP(C16,'前年順位整理（自動更新）'!$B$3:$CN$486,MATCH('前年順位整理（自動更新）'!$D$1,'前年順位整理（自動更新）'!$B$3:$CN$3,0),)&")") -> (4) | C16: =IFERROR(_xlfn.XLOOKUP('計算用シート（当年）'!$C$1,'計算用シート（当年）'!$D$4:$AG$4,'計算用シート（当年）'!$D16:$AG16),"-") -> 青森 | D16: =IFERROR(IF(OR($C$5="秋まき小麦",$C$5="春まき小麦",$D$5="10a当たり収量"),_xlfn.XLOOKUP('計算用シート（当年）'!$C$1,'計算用シート（当年）'!$D$4:$AG$4,'計算用シート（当年）'!$D64:$AG64),ROUND(E16/$E$11*100,1)),"-") -> 3.4 | E16: =IFERROR(IF(OR($C$5="秋まき小麦",$C$5="春まき小麦",$D$5="10a当たり収量"),"",_xlfn.XLOOKUP('計算用シート（当年）'!$C$1,'計算用シート（当年）'!$D$4:$AG$4,'計算用シート（当年）'!$D64:$AG64)),"-") -> 147300
A17: =IFERROR(IF(OR($C$5="秋まき小麦",$C$5="春まき小麦",AND($C$5="てんさい",$D$5="10a当たり収量")),"",_xlfn.XLOOKUP('計算用シート（当年）'!$C$1,'計算用シート（当年）'!$D$4:$AG$4,'計算用シート（当年）'!$D112:$AG112)),"-") -> 5 | B17: =IF(OR(A17="",C17="-"),"","("&VLOOKUP(C17,'前年順位整理（自動更新）'!$B$3:$CN$486,MATCH('前年順位整理（自動更新）'!$D$1,'前年順位整理（自動更新）'!$B$3:$CN$3,0),)&")") -> (5) | C17: =IFERROR(_xlfn.XLOOKUP('計算用シート（当年）'!$C$1,'計算用シート（当年）'!$D$4:$AG$4,'計算用シート（当年）'!$D17:$AG17),"-") -> 岩手 | D17: =IFERROR(IF(OR($C$5="秋まき小麦",$C$5="春まき小麦",$D$5="10a当たり収量"),_xlfn.XLOOKUP('計算用シート（当年）'!$C$1,'計算用シート（当年）'!$D$4:$AG$4,'計算用シート（当年）'!$D65:$AG65),ROUND(E17/$E$11*100,1)),"-") -> 3.4 | E17: =IFERROR(IF(OR($C$5="秋まき小麦",$C$5="春まき小麦",$D$5="10a当たり収量"),"",_xlfn.XLOOKUP('計算用シート（当年）'!$C$1,'計算用シート（当年）'!$D$4:$AG$4,'計算用シート（当年）'!$D65:$AG65)),"-") -> 146000
A18: =IF(OR($C$5="秋まき小麦",$C$5="春まき小麦"),"",IF(C18="北海道",_xlfn.XLOOKUP('計算用シート（当年）'!$C$1,'計算用シート（当年）'!$D$4:$AG$4,'計算用シート（当年）'!$D113:$AG113),"")) | B18: =IF(C18="北海道","("&VLOOKUP(C18,'前年順位整理（自動更新）'!$B$3:$CN$486,MATCH('前年順位整理（自動更新）'!$D$1,'前年順位整理（自動更新）'!$B$3:$CN$3,0),)&")","") | C18: =IF($C$13="-","",IF(OR(C5="秋まき小麦",C5="春まき小麦",C5="てんさい",C13="北海道",C14="北海道",C15="北海道",C16="北海道",C17="北海道"),"","北海道")) | D18: =IF(C18="北海道",IF(OR($C$5="秋まき小麦",$C$5="春まき小麦",$D$5="10a当たり収量"),_xlfn.XLOOKUP('計算用シート（当年）'!$C$1,'計算用シート（当年）'!$D$4:$AG$4,'計算用シート（当年）'!$D$136:$AG$136),ROUND(E18/$E$11*100,1)),"") | E18: =IF(OR($C$5="秋まき小麦",$C$5="春まき小麦",$D$5="10a当たり収量"),"",IF(C18="北海道",_xlfn.XLOOKUP('計算用シート（当年）'!$C$1,'計算用シート（当年）'!$D$4:$AG$4,'計算用シート（当年）'!$D$136:$AG$136),""))
C20: 地域ランキング | I20: 振興局別
A22: 順位 | B22: （前年） | C22: 地域 | D22: =IFERROR(_xlfn.XLOOKUP('計算用シート（当年）'!$C$1,'計算用シート（当年）'!$D$4:$AG$4,'計算用シート（当年）'!$D$7:$AG$7),"-") -> シェア | E22: =IFERROR(IF($D$5="10a当たり収量","",_xlfn.XLOOKUP('計算用シート（当年）'!$C$1,'計算用シート（当年）'!$D$4:$AG$4,'計算用シート（当年）'!$D$8:$AG$8)),"-") -> 面積
D23: =IFERROR(_xlfn.XLOOKUP('計算用シート（当年）'!$C$1,'計算用シート（当年）'!$D$4:$AG$4,'計算用シート（当年）'!$D$10:$AG$10),"") -> % | E23: =IFERROR(IF($D$5="10a当たり収量","",_xlfn.XLOOKUP('計算用シート（当年）'!$C$1,'計算用シート（当年）'!$D$4:$AG$4,'計算用シート（当年）'!$D$11:$AG$11)),"") -> ha
C24: 北海道 | D24: =IFERROR(IF($D$5="10a当たり収量",_xlfn.XLOOKUP('計算用シート（当年）'!$C$1,'計算用シート（当年）'!$D$4:$AG$4,'計算用シート（当年）'!$D136:$AG136),100),"") -> 100 | E24: =IFERROR(IF($D$5="10a当たり収量","",_xlfn.XLOOKUP('計算用シート（当年）'!$C$1,'計算用シート（当年）'!$D$4:$AG$4,'計算用シート（当年）'!$D136:$AG136)),"-") -> 1138000
A26: =IFERROR(IF($D$5="10a当たり収量",RANK(D26,$D$26:$D$39,0),RANK(E26,$E$26:$E$39,0)),"-") -> 1 | B26: =IFERROR(IF($C$13="-","",IF(E26="-","(-)","("&VLOOKUP(C26,'前年順位整理（自動更新）'!$B$3:$CN$486,MATCH('前年順位整理（自動更新）'!$D$1,'前年順位整理（自動更新）'!$B$3:$CN$3,0),)&")")),"(-)") -> (1) | C26: =IF(E26="-","-",IFERROR(_xlfn.XLOOKUP('計算用シート（当年）'!$C$1,'計算用シート（当年）'!$D$4:$AG$4,'計算用シート（当年）'!$D122:$AG122),"-")) -> 十勝 | D26: =IFERROR(IF($D$5="10a当たり収量",_xlfn.XLOOKUP('計算用シート（当年）'!$C$1,'計算用シート（当年）'!$D$4:$AG$4,'計算用シート（当年）'!$D137:$AG137),ROUND(E26/$E$24*100,1)),"-") -> 22.4 | E26: =IFERROR(IF($D$5="10a当たり収量","",_xlfn.XLOOKUP('計算用シート（当年）'!$C$1,'計算用シート（当年）'!$D$4:$AG$4,'計算用シート（当年）'!$D137:$AG137)),"-") -> 254400
A27: =IFERROR(IF($D$5="10a当たり収量",RANK(D27,$D$26:$D$39,0),RANK(E27,$E$26:$E$39,0)),"-") -> 2 | B27: =IFERROR(IF($C$13="-","",IF(E27="-","(-)","("&VLOOKUP(C27,'前年順位整理（自動更新）'!$B$3:$CN$486,MATCH('前年順位整理（自動更新）'!$D$1,'前年順位整理（自動更新）'!$B$3:$CN$3,0),)&")")),"(-)") -> (2) | C27: =IF(E27="-","-",IFERROR(_xlfn.XLOOKUP('計算用シート（当年）'!$C$1,'計算用シート（当年）'!$D$4:$AG$4,'計算用シート（当年）'!$D123:$AG123),"-")) -> オホーツク | D27: =IFERROR(IF($D$5="10a当たり収量",_xlfn.XLOOKUP('計算用シート（当年）'!$C$1,'計算用シート（当年）'!$D$4:$AG$4,'計算用シート（当年）'!$D138:$AG138),ROUND(E27/$E$24*100,1)),"-") -> 14.5 | E27: =IFERROR(IF($D$5="10a当たり収量","",_xlfn.XLOOKUP('計算用シート（当年）'!$C$1,'計算用シート（当年）'!$D$4:$AG$4,'計算用シート（当年）'!$D138:$AG138)),"-") -> 165200
A28: =IFERROR(IF($D$5="10a当たり収量",RANK(D28,$D$26:$D$39,0),RANK(E28,$E$26:$E$39,0)),"-") -> 3 | B28: =IFERROR(IF($C$13="-","",IF(E28="-","(-)","("&VLOOKUP(C28,'前年順位整理（自動更新）'!$B$3:$CN$486,MATCH('前年順位整理（自動更新）'!$D$1,'前年順位整理（自動更新）'!$B$3:$CN$3,0),)&")")),"(-)") -> (3) | C28: =IF(E28="-","-",IFERROR(_xlfn.XLOOKUP('計算用シート（当年）'!$C$1,'計算用シート（当年）'!$D$4:$AG$4,'計算用シート（当年）'!$D124:$AG124),"-")) -> 上川 | D28: =IFERROR(IF($D$5="10a当たり収量",_xlfn.XLOOKUP('計算用シート（当年）'!$C$1,'計算用シート（当年）'!$D$4:$AG$4,'計算用シート（当年）'!$D139:$AG139),ROUND(E28/$E$24*100,1)),"-") -> 11.4 | E28: =IFERROR(IF($D$5="10a当たり収量","",_xlfn.XLOOKUP('計算用シート（当年）'!$C$1,'計算用シート（当年）'!$D$4:$AG$4,'計算用シート（当年）'!$D139:$AG139)),"-") -> 129800
A29: =IFERROR(IF($D$5="10a当たり収量",RANK(D29,$D$26:$D$39,0),RANK(E29,$E$26:$E$39,0)),"-") -> 4 | B29: =IFERROR(IF($C$13="-","",IF(E29="-","(-)","("&VLOOKUP(C29,'前年順位整理（自動更新）'!$B$3:$CN$486,MATCH('前年順位整理（自動更新）'!$D$1,'前年順位整理（自動更新）'!$B$3:$CN$3,0),)&")")),"(-)") -> (4) | C29: =IF(E29="-","-",IFERROR(_xlfn.XLOOKUP('計算用シート（当年）'!$C$1,'計算用シート（当年）'!$D$4:$AG$4,'計算用シート（当年）'!$D125:$AG125),"-")) -> 空知 | D29: =IFERROR(IF($D$5="10a当たり収量",_xlfn.XLOOKUP('計算用シート（当年）'!$C$1,'計算用シート（当年）'!$D$4:$AG$4,'計算用シート（当年）'!$D140:$AG140),ROUND(E29/$E$24*100,1)),"-") -> 9.9 | E29: =IFERROR(IF($D$5="10a当たり収量","",_xlfn.XLOOKUP('計算用シート（当年）'!$C$1,'計算用シート（当年）'!$D$4:$AG$4,'計算用シート（当年）'!$D140:$AG140)),"-") -> 113100
A30: =IFERROR(IF($D$5="10a当たり収量",RANK(D30,$D$26:$D$39,0),RANK(E30,$E$26:$E$39,0)),"-") -> 5 | B30: =IFERROR(IF($C$13="-","",IF(E30="-","(-)","("&VLOOKUP(C30,'前年順位整理（自動更新）'!$B$3:$CN$486,MATCH('前年順位整理（自動更新）'!$D$1,'前年順位整理（自動更新）'!$B$3:$CN$3,0),)&")")),"(-)") -> (5) | C30: =IF(E30="-","-",IFERROR(_xlfn.XLOOKUP('計算用シート（当年）'!$C$1,'計算用シート（当年）'!$D$4:$AG$4,'計算用シート（当年）'!$D126:$AG126),"-")) -> 根室 | D30: =IFERROR(IF($D$5="10a当たり収量",_xlfn.XLOOKUP('計算用シート（当年）'!$C$1,'計算用シート（当年）'!$D$4:$AG$4,'計算用シート（当年）'!$D141:$AG141),ROUND(E30/$E$24*100,1)),"-") -> 9.6 | E30: =IFERROR(IF($D$5="10a当たり収量","",_xlfn.XLOOKUP('計算用シート（当年）'!$C$1,'計算用シート（当年）'!$D$4:$AG$4,'計算用シート（当年）'!$D141:$AG141)),"-") -> 109800
A31: =IFERROR(IF($D$5="10a当たり収量",RANK(D31,$D$26:$D$39,0),RANK(E31,$E$26:$E$39,0)),"-") -> 6 | B31: =IFERROR(IF($C$13="-","",IF(E31="-","(-)","("&VLOOKUP(C31,'前年順位整理（自動更新）'!$B$3:$CN$486,MATCH('前年順位整理（自動更新）'!$D$1,'前年順位整理（自動更新）'!$B$3:$CN$3,0),)&")")),"(-)") -> (6) | C31: =IF(E31="-","-",IFERROR(_xlfn.XLOOKUP('計算用シート（当年）'!$C$1,'計算用シート（当年）'!$D$4:$AG$4,'計算用シート（当年）'!$D127:$AG127),"-")) -> 釧路 | D31: =IFERROR(IF($D$5="10a当たり収量",_xlfn.XLOOKUP('計算用シート（当年）'!$C$1,'計算用シート（当年）'!$D$4:$AG$4,'計算用シート（当年）'!$D142:$AG142),ROUND(E31/$E$24*100,1)),"-") -> 7.8 | E31: =IFERROR(IF($D$5="10a当たり収量","",_xlfn.XLOOKUP('計算用シート（当年）'!$C$1,'計算用シート（当年）'!$D$4:$AG$4,'計算用シート（当年）'!$D142:$AG142)),"-") -> 88300
A32: =IFERROR(IF($D$5="10a当たり収量",RANK(D32,$D$26:$D$39,0),RANK(E32,$E$26:$E$39,0)),"-") -> 7 | B32: =IFERROR(IF($C$13="-","",IF(E32="-","(-)","("&VLOOKUP(C32,'前年順位整理（自動更新）'!$B$3:$CN$486,MATCH('前年順位整理（自動更新）'!$D$1,'前年順位整理（自動更新）'!$B$3:$CN$3,0),)&")")),"(-)") -> (7) | C32: =IF(E32="-","-",IFERROR(_xlfn.XLOOKUP('計算用シート（当年）'!$C$1,'計算用シート（当年）'!$D$4:$AG$4,'計算用シート（当年）'!$D128:$AG128),"-")) -> 宗谷 | D32: =IFERROR(IF($D$5="10a当たり収量",_xlfn.XLOOKUP('計算用シート（当年）'!$C$1,'計算用シート（当年）'!$D$4:$AG$4,'計算用シート（当年）'!$D143:$AG143),ROUND(E32/$E$24*100,1)),"-") -> 5.4 | E32: =IFERROR(IF($D$5="10a当たり収量","",_xlfn.XLOOKUP('計算用シート（当年）'!$C$1,'計算用シート（当年）'!$D$4:$AG$4,'計算用シート（当年）'!$D143:$AG143)),"-") -> 62000
A33: =IFERROR(IF($D$5="10a当たり収量",RANK(D33,$D$26:$D$39,0),RANK(E33,$E$26:$E$39,0)),"-") -> 8 | B33: =IFERROR(IF($C$13="-","",IF(E33="-","(-)","("&VLOOKUP(C33,'前年順位整理（自動更新）'!$B$3:$CN$486,MATCH('前年順位整理（自動更新）'!$D$1,'前年順位整理（自動更新）'!$B$3:$CN$3,0),)&")")),"(-)") -> (8) | C33: =IF(E33="-","-",IFERROR(_xlfn.XLOOKUP('計算用シート（当年）'!$C$1,'計算用シート（当年）'!$D$4:$AG$4,'計算用シート（当年）'!$D129:$AG129),"-")) -> 石狩 | D33: =IFERROR(IF($D$5="10a当たり収量",_xlfn.XLOOKUP('計算用シート（当年）'!$C$1,'計算用シート（当年）'!$D$4:$AG$4,'計算用シート（当年）'!$D144:$AG144),ROUND(E33/$E$24*100,1)),"-") -> 3.6 | E33: =IFERROR(IF($D$5="10a当たり収量","",_xlfn.XLOOKUP('計算用シート（当年）'!$C$1,'計算用シート（当年）'!$D$4:$AG$4,'計算用シート（当年）'!$D144:$AG144)),"-") -> 40400
A34: =IFERROR(IF($D$5="10a当たり収量",RANK(D34,$D$26:$D$39,0),RANK(E34,$E$26:$E$39,0)),"-") -> 9 | B34: =IFERROR(IF($C$13="-","",IF(E34="-","(-)","("&VLOOKUP(C34,'前年順位整理（自動更新）'!$B$3:$CN$486,MATCH('前年順位整理（自動更新）'!$D$1,'前年順位整理（自動更新）'!$B$3:$CN$3,0),)&")")),"(-)") -> (9) | C34: =IF(E34="-","-",IFERROR(_xlfn.XLOOKUP('計算用シート（当年）'!$C$1,'計算用シート（当年）'!$D$4:$AG$4,'計算用シート（当年）'!$D130:$AG130),"-")) -> 日高 | D34: =IFERROR(IF($D$5="10a当たり収量",_xlfn.XLOOKUP('計算用シート（当年）'!$C$1,'計算用シート（当年）'!$D$4:$AG$4,'計算用シート（当年）'!$D145:$AG145),ROUND(E34/$E$24*100,1)),"-") -> 3.4 | E34: =IFERROR(IF($D$5="10a当たり収量","",_xlfn.XLOOKUP('計算用シート（当年）'!$C$1,'計算用シート（当年）'!$D$4:$AG$4,'計算用シート（当年）'!$D145:$AG145)),"-") -> 38500
A35: =IFERROR(IF($D$5="10a当たり収量",RANK(D35,$D$26:$D$39,0),RANK(E35,$E$26:$E$39,0)),"-") -> 10 | B35: =IFERROR(IF($C$13="-","",IF(E35="-","(-)","("&VLOOKUP(C35,'前年順位整理（自動更新）'!$B$3:$CN$486,MATCH('前年順位整理（自動更新）'!$D$1,'前年順位整理（自動更新）'!$B$3:$CN$3,0),)&")")),"(-)") -> (10) | C35: =IF(E35="-","-",IFERROR(_xlfn.XLOOKUP('計算用シート（当年）'!$C$1,'計算用シート（当年）'!$D$4:$AG$4,'計算用シート（当年）'!$D131:$AG131),"-")) -> 後志 | D35: =IFERROR(IF($D$5="10a当たり収量",_xlfn.XLOOKUP('計算用シート（当年）'!$C$1,'計算用シート（当年）'!$D$4:$AG$4,'計算用シート（当年）'!$D146:$AG146),ROUND(E35/$E$24*100,1)),"-") -> 3 | E35: =IFERROR(IF($D$5="10a当たり収量","",_xlfn.XLOOKUP('計算用シート（当年）'!$C$1,'計算用シート（当年）'!$D$4:$AG$4,'計算用シート（当年）'!$D146:$AG146)),"-") -> 34200
A36: =IFERROR(IF($D$5="10a当たり収量",RANK(D36,$D$26:$D$39,0),RANK(E36,$E$26:$E$39,0)),"-") -> 11 | B36: =IFERROR(IF($C$13="-","",IF(E36="-","(-)","("&VLOOKUP(C36,'前年順位整理（自動更新）'!$B$3:$CN$486,MATCH('前年順位整理（自動更新）'!$D$1,'前年順位整理（自動更新）'!$B$3:$CN$3,0),)&")")),"(-)") -> (11) | C36: =IF(E36="-","-",IFERROR(_xlfn.XLOOKUP('計算用シート（当年）'!$C$1,'計算用シート（当年）'!$D$4:$AG$4,'計算用シート（当年）'!$D132:$AG132),"-")) -> 胆振 | D36: =IFERROR(IF($D$5="10a当たり収量",_xlfn.XLOOKUP('計算用シート（当年）'!$C$1,'計算用シート（当年）'!$D$4:$AG$4,'計算用シート（当年）'!$D147:$AG147),ROUND(E36/$E$24*100,1)),"-") -> 3 | E36: =IFERROR(IF($D$5="10a当たり収量","",_xlfn.XLOOKUP('計算用シート（当年）'!$C$1,'計算用シート（当年）'!$D$4:$AG$4,'計算用シート（当年）'!$D147:$AG147)),"-") -> 34000
A37: =IFERROR(IF($D$5="10a当たり収量",RANK(D37,$D$26:$D$39,0),RANK(E37,$E$26:$E$39,0)),"-") -> 12 | B37: =IFERROR(IF($C$13="-","",IF(E37="-","(-)","("&VLOOKUP(C37,'前年順位整理（自動更新）'!$B$3:$CN$486,MATCH('前年順位整理（自動更新）'!$D$1,'前年順位整理（自動更新）'!$B$3:$CN$3,0),)&")")),"(-)") -> (12) | C37: =IF(E37="-","-",IFERROR(_xlfn.XLOOKUP('計算用シート（当年）'!$C$1,'計算用シート（当年）'!$D$4:$AG$4,'計算用シート（当年）'!$D133:$AG133),"-")) -> 留萌 | D37: =IFERROR(IF($D$5="10a当たり収量",_xlfn.XLOOKUP('計算用シート（当年）'!$C$1,'計算用シート（当年）'!$D$4:$AG$4,'計算用シート（当年）'!$D148:$AG148),ROUND(E37/$E$24*100,1)),"-") -> 2.2 | E37: =IFERROR(IF($D$5="10a当たり収量","",_xlfn.XLOOKUP('計算用シート（当年）'!$C$1,'計算用シート（当年）'!$D$4:$AG$4,'計算用シート（当年）'!$D148:$AG148)),"-") -> 25600
... A39: =IFERROR(IF($D$5="10a当たり収量",RANK(D39,$D$26:$D$39,0),RANK(E39,$E$26:$E$39,0)),"-") -> 14 | B39: =IFERROR(IF($C$13="-","",IF(E39="-","(-)","("&VLOOKUP(C39,'前年順位整理（自動更新）'!$B$3:$CN$486,MATCH('前年順位整理（自動更新）'!$D$1,'前年順位整理（自動更新）'!$B$3:$CN$3,0),)&")")),"(-)") -> (14) | C39: =IF(E39="-","-",IFERROR(_xlfn.XLOOKUP('計算用シート（当年）'!$C$1,'計算用シート（当年）'!$D$4:$AG$4,'計算用シート（当年）'!$D135:$AG135),"-")) -> 檜山 | D39: =IFERROR(IF($D$5="10a当たり収量",_xlfn.XLOOKUP('計算用シート（当年）'!$C$1,'計算用シート（当年）'!$D$4:$AG$4,'計算用シート（当年）'!$D150:$AG150),ROUND(E39/$E$24*100,1)),"-") -> 1.7 | E39: =IFERROR(IF($D$5="10a当たり収量","",_xlfn.XLOOKUP('計算用シート（当年）'!$C$1,'計算用シート（当年）'!$D$4:$AG$4,'計算用シート（当年）'!$D150:$AG150)),"-") -> 18800
C42: =("市町村ランキング（1位～"&MAX($A$46:$A$224)&"位）") -> 市町村ランキング（1位～179位） | I42: ="市町村別トップ20" -> 市町村別トップ20
A44: 順位 | B44: （前年） | C44: 市町村名 | D44: 地域 | E44: =IFERROR(_xlfn.XLOOKUP('計算用シート（当年）'!$C$1,'計算用シート（当年）'!$D$4:$AG$4,'計算用シート（当年）'!$D$8:$AG$8),"-") -> 面積
E45: =IFERROR(_xlfn.XLOOKUP('計算用シート（当年）'!$C$1,'計算用シート（当年）'!$D$4:$AG$4,'計算用シート（当年）'!$D$11:$AG$11),"-") -> ha
A46: =IFERROR(RANK(E46,($E$46:$E$224),0),"-") -> 1 | B46: =IFERROR(IF($C$13="-","",IF(E46="-","(-)","("&VLOOKUP(C46,'前年順位整理（自動更新）'!$B$3:$CN$486,MATCH('前年順位整理（自動更新）'!$D$1,'前年順位整理（自動更新）'!$B$3:$CN$3,0),)&")")),"(-)") -> (1) | C46: =IFERROR(_xlfn.XLOOKUP('計算用シート（当年）'!$C$1,'計算用シート（当年）'!$D$4:$AG$4,'計算用シート（当年）'!$D151:$AG151),"-") -> 別海町 | D46: =IFERROR(_xlfn.XLOOKUP(C46,市町村振興局拠点対応版!$D$6:$D$184,市町村振興局拠点対応版!$E$6:$E$184),"-") -> 根室 | E46: =IFERROR(_xlfn.XLOOKUP('計算用シート（当年）'!$C$1,'計算用シート（当年）'!$D$4:$AG$4,'計算用シート（当年）'!$D330:$AG330),"-") -> 63200
A47: =IFERROR(RANK(E47,($E$46:$E$224),0),"-") -> 2 | B47: =IFERROR(IF($C$13="-","",IF(E47="-","(-)","("&VLOOKUP(C47,'前年順位整理（自動更新）'!$B$3:$CN$486,MATCH('前年順位整理（自動更新）'!$D$1,'前年順位整理（自動更新）'!$B$3:$CN$3,0),)&")")),"(-)") -> (2) | C47: =IFERROR(_xlfn.XLOOKUP('計算用シート（当年）'!$C$1,'計算用シート（当年）'!$D$4:$AG$4,'計算用シート（当年）'!$D152:$AG152),"-") -> 標茶町 | D47: =IFERROR(_xlfn.XLOOKUP(C47,市町村振興局拠点対応版!$D$6:$D$184,市町村振興局拠点対応版!$E$6:$E$184),"-") -> 釧路 | E47: =IFERROR(_xlfn.XLOOKUP('計算用シート（当年）'!$C$1,'計算用シート（当年）'!$D$4:$AG$4,'計算用シート（当年）'!$D331:$AG331),"-") -> 28900
A48: =IFERROR(RANK(E48,($E$46:$E$224),0),"-") -> 3 | B48: =IFERROR(IF($C$13="-","",IF(E48="-","(-)","("&VLOOKUP(C48,'前年順位整理（自動更新）'!$B$3:$CN$486,MATCH('前年順位整理（自動更新）'!$D$1,'前年順位整理（自動更新）'!$B$3:$CN$3,0),)&")")),"(-)") -> (3) | C48: =IFERROR(_xlfn.XLOOKUP('計算用シート（当年）'!$C$1,'計算用シート（当年）'!$D$4:$AG$4,'計算用シート（当年）'!$D153:$AG153),"-") -> 中標津町 | D48: =IFERROR(_xlfn.XLOOKUP(C48,市町村振興局拠点対応版!$D$6:$D$184,市町村振興局拠点対応版!$E$6:$E$184),"-") -> 根室 | E48: =IFERROR(_xlfn.XLOOKUP('計算用シート（当年）'!$C$1,'計算用シート（当年）'!$D$4:$AG$4,'計算用シート（当年）'!$D332:$AG332),"-") -> 24400
A49: =IFERROR(RANK(E49,($E$46:$E$224),0),"-") -> 4 | B49: =IFERROR(IF($C$13="-","",IF(E49="-","(-)","("&VLOOKUP(C49,'前年順位整理（自動更新）'!$B$3:$CN$486,MATCH('前年順位整理（自動更新）'!$D$1,'前年順位整理（自動更新）'!$B$3:$CN$3,0),)&")")),"(-)") -> (4) | C49: =IFERROR(_xlfn.XLOOKUP('計算用シート（当年）'!$C$1,'計算用シート（当年）'!$D$4:$AG$4,'計算用シート（当年）'!$D154:$AG154),"-") -> 音更町 | D49: =IFERROR(_xlfn.XLOOKUP(C49,市町村振興局拠点対応版!$D$6:$D$184,市町村振興局拠点対応版!$E$6:$E$184),"-") -> 十勝 | E49: =IFERROR(_xlfn.XLOOKUP('計算用シート（当年）'!$C$1,'計算用シート（当年）'!$D$4:$AG$4,'計算用シート（当年）'!$D333:$AG333),"-") -> 24300
A50: =IFERROR(RANK(E50,($E$46:$E$224),0),"-") -> 5 | B50: =IFERROR(IF($C$13="-","",IF(E50="-","(-)","("&VLOOKUP(C50,'前年順位整理（自動更新）'!$B$3:$CN$486,MATCH('前年順位整理（自動更新）'!$D$1,'前年順位整理（自動更新）'!$B$3:$CN$3,0),)&")")),"(-)") -> (5) | C50: =IFERROR(_xlfn.XLOOKUP('計算用シート（当年）'!$C$1,'計算用シート（当年）'!$D$4:$AG$4,'計算用シート（当年）'!$D155:$AG155),"-") -> 北見市 | D50: =IFERROR(_xlfn.XLOOKUP(C50,市町村振興局拠点対応版!$D$6:$D$184,市町村振興局拠点対応版!$E$6:$E$184),"-") -> オホーツク | E50: =IFERROR(_xlfn.XLOOKUP('計算用シート（当年）'!$C$1,'計算用シート（当年）'!$D$4:$AG$4,'計算用シート（当年）'!$D334:$AG334),"-") -> 23700
A51: =IFERROR(RANK(E51,($E$46:$E$224),0),"-") -> 6 | B51: =IFERROR(IF($C$13="-","",IF(E51="-","(-)","("&VLOOKUP(C51,'前年順位整理（自動更新）'!$B$3:$CN$486,MATCH('前年順位整理（自動更新）'!$D$1,'前年順位整理（自動更新）'!$B$3:$CN$3,0),)&")")),"(-)") -> (6) | C51: =IFERROR(_xlfn.XLOOKUP('計算用シート（当年）'!$C$1,'計算用シート（当年）'!$D$4:$AG$4,'計算用シート（当年）'!$D156:$AG156),"-") -> 帯広市 | D51: =IFERROR(_xlfn.XLOOKUP(C51,市町村振興局拠点対応版!$D$6:$D$184,市町村振興局拠点対応版!$E$6:$E$184),"-") -> 十勝 | E51: =IFERROR(_xlfn.XLOOKUP('計算用シート（当年）'!$C$1,'計算用シート（当年）'!$D$4:$AG$4,'計算用シート（当年）'!$D335:$AG335),"-") -> 22900
...

Sheet 計算用シート（当年）
B1: 表示データ→ | C1: =なんばんBOOK!C5&"_"&なんばんBOOK!D5 -> 耕地面積_計 | E1: グラフの種類（判定）→ | F1: ="グラフ_"&C1 -> グラフ_耕地面積_計 | I1: （判定_振興局）→ | J1: =IF(なんばんBOOK!$C$5="耕地面積","グラフ_耕地面積_振興局","グラフ_"&なんばんBOOK!$D$5&"_振興局") -> グラフ_耕地面積_振興局 | N1: 棒グラフ用→ | O1: =IF(なんばんBOOK!D5="10a当たり収量",_xlfn.XLOOKUP($C$1,$D$4:$AG$4,$D17:$AG17)) -> FALSE | P1: =IF(なんばんBOOK!D5="10a当たり収量",_xlfn.XLOOKUP($C$1,$D$4:$AG$4,$D16:$AG16)) -> FALSE | Q1: =IF(なんばんBOOK!D5="10a当たり収量",_xlfn.XLOOKUP($C$1,$D$4:$AG$4,$D15:$AG15)) -> FALSE | R1: =IF(なんばんBOOK!D5="10a当たり収量",_xlfn.XLOOKUP($C$1,$D$4:$AG$4,$D14:$AG14)) -> FALSE | S1: =IF(なんばんBOOK!D5="10a当たり収量",_xlfn.XLOOKUP($C$1,$D$4:$AG$4,$D13:$AG13)) -> FALSE | U1: てんさい_作付面積 | V1: =_xlfn.XLOOKUP($U$1,$D$4:$AG$4,$D122:$AG122) -> 十勝 | W1: =_xlfn.XLOOKUP($U$1,$D$4:$AG$4,$D123:$AG123) -> オホーツク | X1: =_xlfn.XLOOKUP($U$1,$D$4:$AG$4,$D124:$AG124) -> 上川 | Y1: その他 | AA1: てんさい_収穫量 | AB1: =_xlfn.XLOOKUP($AA$1,$D$4:$AG$4,$D122:$AG122) -> 十勝 | AC1: =_xlfn.XLOOKUP($AA$1,$D$4:$AG$4,$D123:$AG123) -> オホーツク | AD1: =_xlfn.XLOOKUP($AA$1,$D$4:$AG$4,$D124:$AG124) -> 上川 | AE1: その他
I2: （判定_市町村）→ | J2: =IF(なんばんBOOK!$C$5="耕地面積","グラフ_耕地面積_市町村","グラフ_"&なんばんBOOK!$D$5&"_市町村") -> グラフ_耕地面積_市町村 | O2: =IF(なんばんBOOK!D5="10a当たり収量",_xlfn.XLOOKUP($C$1,$D$4:$AG$4,$D121:$AG121)) -> FALSE | P2: =IF(なんばんBOOK!D5="10a当たり収量",_xlfn.XLOOKUP($C$1,$D$4:$AG$4,$D120:$AG120)) -> FALSE | Q2: =IF(なんばんBOOK!D5="10a当たり収量",_xlfn.XLOOKUP($C$1,$D$4:$AG$4,$D119:$AG119)) -> FALSE | R2: =IF(なんばんBOOK!D5="10a当たり収量",_xlfn.XLOOKUP($C$1,$D$4:$AG$4,$D118:$AG118)) -> FALSE | S2: =IF(なんばんBOOK!D5="10a当たり収量",_xlfn.XLOOKUP($C$1,$D$4:$AG$4,$D117:$AG117)) -> FALSE | U2: （円グラフ用）→ | V2: =V137/$V$136 -> 0.44171779 | W2: =V138/$V$136 -> 0.40695297 | X2: =V139/$V$136 -> 0.058895706 | Y2: =100%-V2-W2-X2 -> 0.092433538 | AA2: （円グラフ用）→ | AB2: =$W137/$W$136 -> 0.45509326 | AC2: =$W138/$W$136 -> 0.39971306 | AD2: =$W139/$W$136 -> 0.059971306 | AE2: =100%-AB2-AC2-AD2 -> 0.085222382
A3: 注1：色付きセルはベタ打ち | C3: 作成時メモ（課題等）→ | D3: 更新済み | E3: 更新済み | F3: 更新済み | G3: 更新済み | H3: 更新済み | I3: 更新済み | J3: 更新済み | K3: 更新済み | L3: 更新済み | M3: 更新済み | N3: 更新済み | O3: 更新済み | P3: 更新済み | Q3: 更新済み | R3: 更新済み | S3: 更新済み | T3: 更新済み | U3: 更新済み | V3: 更新済み | W3: 更新済み | X3: 更新済み | Y3: 更新済み | Z3: 更新済み | AA3: 更新済み | AB3: 更新済み | AC3: 更新済み | AD3: 更新済み | AE3: 更新済み | AF3: 更新済み | AG3: 更新済み | AH3: 【全体向けメモ】
A4: 注2：この色のセルは要更新 | D4: 耕地面積_計 | E4: 耕地面積_田 | F4: 耕地面積_畑 | G4: 水稲_作付面積 | H4: 水稲_収穫量 | I4: 水稲_10a当たり収量 | J4: 小麦_作付面積 | K4: 小麦_収穫量 | L4: 小麦_10a当たり収量 | M4: 秋まき小麦_作付面積 | N4: 秋まき小麦_収穫量 | O4: 秋まき小麦_10a当たり収量 | P4: 春まき小麦_作付面積 | Q4: 春まき小麦_収穫量 | R4: 春まき小麦_10a当たり収量 | S4: 大豆_作付面積 | T4: 大豆_収穫量 | U4: 大豆_10a当たり収量 | V4: てんさい_作付面積 | W4: てんさい_収穫量 | X4: てんさい_10a当たり収量 | Y4: そば_作付面積 | Z4: そば_収穫量 | AA4: そば_10a当たり収量 | AB4: ばれいしょ_作付面積 | AC4: ばれいしょ_収穫量 | AD4: ばれいしょ_10a当たり収量 | AE4: なたね_作付面積 | AF4: なたね_収穫量 | AG4: なたね_10a当たり収量
B5: データ年 ※手入力で更新 | D5: 令和６年 | E5: 令和６年 | F5: 令和６年 | G5: 令和６年産 | H5: 令和６年産 | I5: 令和６年産 | J5: 令和６年産 | K5: 令和６年産 | L5: 令和６年産 | M5: 令和６年産 | N5: 令和６年産 | O5: 令和６年産 | P5: 令和６年産 | Q5: 令和６年産 | R5: 令和６年産 | S5: 令和６年産 | T5: 令和６年産 | U5: 令和６年産 | V5: 令和６年産 | W5: 令和６年産 | X5: 令和６年産 | Y5: 令和６年産 | Z5: 令和６年産 | AA5: 令和６年産 | AB5: 令和５年産 | AC5: 令和５年産 | AD5: 令和５年産 | AE5: 令和６年産 | AF5: 令和６年産 | AG5: 令和６年産
D6: シェア | E6: シェア | F6: シェア | G6: シェア | H6: シェア | I6: 10a当たり収量 | J6: シェア | K6: シェア | L6: 収量 | M6: 面積 | N6: 収穫量 | O6: 10a当たり収量 | P6: 面積 | Q6: 収穫量 | R6: 10a当たり収量 | S6: シェア | T6: シェア | U6: 10a当たり収量 | V6: シェア | W6: シェア | X6: 10a当たり収量 | Y6: シェア | Z6: シェア | AA6: 10a当たり収量 | AB6: シェア | AC6: シェア | AD6: 10a当たり収量 | AE6: シェア | AF6: シェア | AG6: 10a当たり収量
D7: シェア | E7: シェア | F7: シェア | G7: シェア | H7: シェア | I7: 10a当たり収量 | J7: シェア | K7: シェア | L7: 収量 | M7: シェア | N7: シェア | O7: 10a当たり収量 | P7: シェア | Q7: シェア | R7: 10a当たり収量 | S7: シェア | T7: シェア | U7: 10a当たり収量 | V7: シェア | W7: シェア | X7: 10a当たり収量 | Y7: シェア | Z7: シェア | AA7: 10a当たり収量 | AB7: シェア | AC7: シェア | AD7: 10a当たり収量 | AE7: シェア | AF7: シェア | AG7: 10a当たり収量
D8: 面積 | E8: 面積 | F8: 面積 | G8: 面積 | H8: 収穫量 | I8: 10a当たり収量 | J8: 面積 | K8: 収穫量 | L8: 収量 | M8: 面積 | N8: 収穫量 | O8: 10a当たり収量 | P8: 面積 | Q8: 収穫量 | R8: 10a当たり収量 | S8: 面積 | T8: 収穫量 | U8: 10a当たり収量 | V8: 面積 | W8: 収穫量 | X8: 10a当たり収量 | Y8: 面積 | Z8: 収穫量 | AA8: 10a当たり収量 | AB8: 面積 | AC8: 収穫量 | AD8: 10a当たり収量 | AE8: 面積 | AF8: 収穫量 | AG8: 10a当たり収量
B9: 単位 | D9: % | E9: % | F9: % | G9: % | H9: % | I9: ㎏ | J9: % | K9: % | L9: ㎏ | M9: ha | N9: t | O9: ㎏ | P9: ha | Q9: t | R9: ㎏ | S9: % | T9: % | U9: ㎏ | V9: % | W9: % | X9: ㎏ | Y9: % | Z9: % | AA9: ㎏ | AB9: % | AC9: % | AD9: ㎏ | AE9: % | AF9: % | AG9: ㎏
D10: % | E10: % | F10: % | G10: % | H10: % | I10: ㎏ | J10: % | K10: % | L10: ㎏ | M10: % | N10: % | O10: ㎏ | P10: % | Q10: % | R10: ㎏ | S10: % | T10: % | U10: ㎏ | V10: % | W10: % | X10: ㎏ | Y10: % | Z10: % | AA10: ㎏ | AB10: % | AC10: % | AD10: ㎏ | AE10: % | AF10: % | AG10: ㎏
D11: ha | E11: ha | F11: ha | G11: ha | H11: t | I11: ㎏ | J11: ha | K11: t | L11: ㎏ | M11: ha | N11: t | O11: ㎏ | P11: ha | Q11: t | R11: ㎏ | S11: ha | T11: t | U11: ㎏ | V11: ha | W11: t | X11: ㎏ | Y11: ha | Z11: t | AA11: ㎏ | AB11: ha | AC11: t | AD11: ㎏ | AE11: ha | AF11: t | AG11: ㎏
B12: 全国トップ５等 | C12: タイトル | D12: 全国トップ５とシェア | E12: 全国トップ５とシェア | F12: 全国トップ５とシェア | G12: 全国トップ５とシェア | H12: 全国トップ５とシェア | I12: 全国トップ５ | J12: 全国トップ５とシェア | K12: 全国トップ５とシェア | L12: 全国トップ５ | M12: 北海道の作付面積の推移 | N12: 北海道の収穫量の推移 | O12: 北海道の10a当たり収量の推移 | P12: 北海道の作付面積の推移 | Q12: 北海道の収穫量の推移 | R12: 北海道の10a当たり収量の推移 | S12: 全国トップ５とシェア | T12: 全国トップ５とシェア | U12: 全国トップ５ | V12: 全国値と北海道値 | W12: 全国値と北海道値 | X12: 北海道の10a当たり収量の推移 | Y12: 全国トップ５とシェア | Z12: 全国トップ５とシェア | AA12: 全国ランキング上位と北海道 | AB12: 全国トップ５とシェア | AC12: 全国トップ５とシェア | AD12: 全国トップ５ | AE12: 全国トップ５とシェア | AF12: 全国トップ５とシェア | AG12: 全国トップ５
C13: 都道府県名 1 | D13: =IFERROR(INDEX('貼_耕地面積(全国・e-stat)'!$N$24:$N$70,MATCH('貼_耕地面積(全国・e-stat)'!M24,'貼_耕地面積(全国・e-stat)'!$P$24:$P$70,0)),"-") -> 北海道 | E13: =IFERROR(INDEX('貼_耕地面積(全国・e-stat)'!$N$24:$N$70,MATCH('貼_耕地面積(全国・e-stat)'!M24,'貼_耕地面積(全国・e-stat)'!$W$24:$W$70,0)),"-") -> 北海道 | F13: =IFERROR(INDEX('貼_耕地面積(全国・e-stat)'!$N$24:$N$70,MATCH('貼_耕地面積(全国・e-stat)'!M24,'貼_耕地面積(全国・e-stat)'!$AD$24:$AD$70,0)),"-") -> 北海道 | G13: =IFERROR(INDEX('貼_水稲(全国・e-stat)'!$Y$12:$Y$58,MATCH('貼_水稲(全国・e-stat)'!$X12,'貼_水稲(全国・e-stat)'!$AA$12:$AA$58,0)),"-") -> 新潟 | H13: =IFERROR(INDEX('貼_水稲(全国・e-stat)'!$Y$12:$Y$58,MATCH('貼_水稲(全国・e-stat)'!$X12,'貼_水稲(全国・e-stat)'!$AG$12:$AG$58,0)),"-") -> 新潟 | I13: =IFERROR(INDEX('貼_水稲(全国・e-stat)'!$Y$12:$Y$58,MATCH('貼_水稲(全国・e-stat)'!$X12,'貼_水稲(全国・e-stat)'!$AM$12:$AM$58,0)),"-") -> 青森 | J13: =IFERROR(INDEX('貼_小麦(全国・e-stat)'!$N$10:$N$56,MATCH('貼_小麦(全国・e-stat)'!$M10,'貼_小麦(全国・e-stat)'!P$10:P$56,0)),"-") -> 北海道 | K13: =IFERROR(INDEX('貼_小麦(全国・e-stat)'!$N$10:$N$56,MATCH('貼_小麦(全国・e-stat)'!$M10,'貼_小麦(全国・e-stat)'!V$10:V$56,0)),"-") -> 北海道 | L13: =IFERROR(INDEX('貼_小麦(全国・e-stat)'!$N$10:$N$56,MATCH('貼_小麦(全国・e-stat)'!$M10,'貼_小麦(全国・e-stat)'!AB$10:AB$56,0)),"-") -> 北海道 | M13: 令和2年産 | N13: 令和2年産 | O13: 令和2年産 | P13: 令和2年産 | Q13: 令和2年産 | R13: 令和2年産 | S13: =IFERROR(INDEX('貼_大豆(全国・e-stat)'!$N$9:$N$55,MATCH('貼_大豆(全国・e-stat)'!$M9,'貼_大豆(全国・e-stat)'!P$9:P$55,0)),"-") -> 北海道 | T13: =IFERROR(INDEX('貼_大豆(全国・e-stat)'!$N$9:$N$55,MATCH('貼_大豆(全国・e-stat)'!$M9,'貼_大豆(全国・e-stat)'!V$9:V$55,0)),"-") -> 北海道 | U13: =IFERROR(INDEX('貼_大豆(全国・e-stat)'!$N$9:$N$55,MATCH('貼_大豆(全国・e-stat)'!$M9,'貼_大豆(全国・e-stat)'!AB$9:AB$55,0)),"-") -> 北海道 | V13: ='貼_てんさい(全国・e-stat)'!A10 -> 北海道 | W13: ='貼_てんさい(全国・e-stat)'!A10 -> 北海道 | X13: 令和2年産 | Y13: =IFERROR(INDEX('貼_そば(全国・e-stat)'!$J$10:$J$56,MATCH('貼_そば(全国・e-stat)'!$I10,'貼_そば(全国・e-stat)'!L$10:L$56,0)),"-") -> 北海道 | Z13: =IFERROR(INDEX('貼_そば(全国・e-stat)'!$J$10:$J$56,MATCH('貼_そば(全国・e-stat)'!$I10,'貼_そば(全国・e-stat)'!R$10:R$56,0)),"-") -> 北海道 | AA13: =IFERROR(INDEX('貼_そば(全国・e-stat)'!$J$10:$J$56,MATCH('貼_そば(全国・e-stat)'!$I10,'貼_そば(全国・e-stat)'!X$10:X$56,0)),"-") -> 群馬 | AB13: =IFERROR(INDEX('貼_ばれいしょ(全国・e-stat)'!$N$15:$N$61,MATCH('貼_ばれいしょ(全国・e-stat)'!$M15,'貼_ばれいしょ(全国・e-stat)'!P$15:P$61,0)),"-") -> 北海道 | AC13: =IFERROR(INDEX('貼_ばれいしょ(全国・e-stat)'!$N$15:$N$61,MATCH('貼_ばれいしょ(全国・e-stat)'!$M15,'貼_ばれいしょ(全国・e-stat)'!V$15:V$61,0)),"-") -> 北海道 | AD13: =IFERROR(INDEX('貼_ばれいしょ(全国・e-stat)'!$N$15:$N$61,MATCH('貼_ばれいしょ(全国・e-stat)'!$M15,'貼_ばれいしょ(全国・e-stat)'!AB$15:AB$61,0)),"-") -> 北海道 | AE13: =IFERROR(INDEX('貼_なたね(全国・e-stat)'!$N$11:$N$57,MATCH('貼_なたね(全国・e-stat)'!$M11,'貼_なたね(全国・e-stat)'!P$11:P$57,0)),"-") -> 北海道 | AF13: =IFERROR(INDEX('貼_なたね(全国・e-stat)'!$N$11:$N$57,MATCH('貼_なたね(全国・e-stat)'!$M11,'貼_なたね(全国・e-stat)'!V$11:V$57,0)),"-") -> 北海道 | AG13: =IFERROR(INDEX('貼_なたね(全国・e-stat)'!$N$11:$N$57,MATCH('貼_なたね(全国・e-stat)'!$M11,'貼_なたね(全国・e-stat)'!AB$11:AB$57,0)),"-") -> 北海道
C14: 2 | D14: =IFERROR(INDEX('貼_耕地面積(全国・e-stat)'!$N$24:$N$70,MATCH('貼_耕地面積(全国・e-stat)'!M25,'貼_耕地面積(全国・e-stat)'!$P$24:$P$70,0)),"-") -> 新潟 | E14: =IFERROR(INDEX('貼_耕地面積(全国・e-stat)'!$N$24:$N$70,MATCH('貼_耕地面積(全国・e-stat)'!M25,'貼_耕地面積(全国・e-stat)'!$W$24:$W$70,0)),"-") -> 新潟 | F14: =IFERROR(INDEX('貼_耕地面積(全国・e-stat)'!$N$24:$N$70,MATCH('貼_耕地面積(全国・e-stat)'!M25,'貼_耕地面積(全国・e-stat)'!$AD$24:$AD$70,0)),"-") -> 鹿児島 | G14: =IFERROR(INDEX('貼_水稲(全国・e-stat)'!$Y$12:$Y$58,MATCH('貼_水稲(全国・e-stat)'!X13,'貼_水稲(全国・e-stat)'!$AA$12:$AA$58,0)),"-") -> 北海道 | H14: =IFERROR(INDEX('貼_水稲(全国・e-stat)'!$Y$12:$Y$58,MATCH('貼_水稲(全国・e-stat)'!$X13,'貼_水稲(全国・e-stat)'!$AG$12:$AG$58,0)),"-") -> 北海道 | I14: =IFERROR(INDEX('貼_水稲(全国・e-stat)'!$Y$12:$Y$58,MATCH('貼_水稲(全国・e-stat)'!$X13,'貼_水稲(全国・e-stat)'!$AM$12:$AM$58,0)),"-") -> 長野 | J14: =IFERROR(INDEX('貼_小麦(全国・e-stat)'!$N$10:$N$56,MATCH('貼_小麦(全国・e-stat)'!$M11,'貼_小麦(全国・e-stat)'!P$10:P$56,0)),"-") -> 福岡 | K14: =IFERROR(INDEX('貼_小麦(全国・e-stat)'!$N$10:$N$56,MATCH('貼_小麦(全国・e-stat)'!$M11,'貼_小麦(全国・e-stat)'!V$10:V$56,0)),"-") -> 福岡 | L14: =IFERROR(INDEX('貼_小麦(全国・e-stat)'!$N$10:$N$56,MATCH('貼_小麦(全国・e-stat)'!$M11,'貼_小麦(全国・e-stat)'!AB$10:AB$56,0)),"-") -> 愛知 | M14: 3 | N14: 3 | O14: 3 | P14: 3 | Q14: 3 | R14: 3 | S14: =IFERROR(INDEX('貼_大豆(全国・e-stat)'!$N$9:$N$55,MATCH('貼_大豆(全国・e-stat)'!$M10,'貼_大豆(全国・e-stat)'!P$9:P$55,0)),"-") -> 宮城 | T14: =IFERROR(INDEX('貼_大豆(全国・e-stat)'!$N$9:$N$55,MATCH('貼_大豆(全国・e-stat)'!$M10,'貼_大豆(全国・e-stat)'!V$9:V$55,0)),"-") -> 宮城 | U14: =IFERROR(INDEX('貼_大豆(全国・e-stat)'!$N$9:$N$55,MATCH('貼_大豆(全国・e-stat)'!$M10,'貼_大豆(全国・e-stat)'!AB$9:AB$55,0)),"-") -> 宮城 | V14: =NA() -> #N/A | W14: =NA() -> #N/A | X14: 3 | Y14: =IFERROR(INDEX('貼_そば(全国・e-stat)'!$J$10:$J$56,MATCH('貼_そば(全国・e-stat)'!$I11,'貼_そば(全国・e-stat)'!L$10:L$56,0)),"-") -> 山形 | Z14: =IFERROR(INDEX('貼_そば(全国・e-stat)'!$J$10:$J$56,MATCH('貼_そば(全国・e-stat)'!$I11,'貼_そば(全国・e-stat)'!R$10:R$56,0)),"-") -> 長野 | AA14: =IFERROR(INDEX('貼_そば(全国・e-stat)'!$J$10:$J$56,MATCH('貼_そば(全国・e-stat)'!$I11,'貼_そば(全国・e-stat)'!X$10:X$56,0)),"-") -> 千葉 | AB14: =IFERROR(INDEX('貼_ばれいしょ(全国・e-stat)'!$N$15:$N$61,MATCH('貼_ばれいしょ(全国・e-stat)'!$M16,'貼_ばれいしょ(全国・e-stat)'!P$15:P$61,0)),"-") -> 鹿児島 | AC14: =IFERROR(INDEX('貼_ばれいしょ(全国・e-stat)'!$N$15:$N$61,MATCH('貼_ばれいしょ(全国・e-stat)'!$M16,'貼_ばれいしょ(全国・e-stat)'!V$15:V$61,0)),"-") -> 長崎 | AD14: =IFERROR(INDEX('貼_ばれいしょ(全国・e-stat)'!$N$15:$N$61,MATCH('貼_ばれいしょ(全国・e-stat)'!$M16,'貼_ばれいしょ(全国・e-stat)'!AB$15:AB$61,0)),"-") -> 茨城 | AE14: =IFERROR(INDEX('貼_なたね(全国・e-stat)'!$N$11:$N$57,MATCH('貼_なたね(全国・e-stat)'!$M12,'貼_なたね(全国・e-stat)'!P$11:P$57,0)),"-") -> 福島 | AF14: =IFERROR(INDEX('貼_なたね(全国・e-stat)'!$N$11:$N$57,MATCH('貼_なたね(全国・e-stat)'!$M12,'貼_なたね(全国・e-stat)'!V$11:V$57,0)),"-") -> 青森 | AG14: =IFERROR(INDEX('貼_なたね(全国・e-stat)'!$N$11:$N$57,MATCH('貼_なたね(全国・e-stat)'!$M12,'貼_なたね(全国・e-stat)'!AB$11:AB$57,0)),"-") -> 青森
C15: 3 | D15: =IFERROR(INDEX('貼_耕地面積(全国・e-stat)'!$N$24:$N$70,MATCH('貼_耕地面積(全国・e-stat)'!M26,'貼_耕地面積(全国・e-stat)'!$P$24:$P$70,0)),"-") -> 茨城 | E15: =IFERROR(INDEX('貼_耕地面積(全国・e-stat)'!$N$24:$N$70,MATCH('貼_耕地面積(全国・e-stat)'!M26,'貼_耕地面積(全国・e-stat)'!$W$24:$W$70,0)),"-") -> 秋田 | F15: =IFERROR(INDEX('貼_耕地面積(全国・e-stat)'!$N$24:$N$70,MATCH('貼_耕地面積(全国・e-stat)'!M26,'貼_耕地面積(全国・e-stat)'!$AD$24:$AD$70,0)),"-") -> 青森 | G15: =IFERROR(INDEX('貼_水稲(全国・e-stat)'!$Y$12:$Y$58,MATCH('貼_水稲(全国・e-stat)'!X14,'貼_水稲(全国・e-stat)'!$AA$12:$AA$58,0)),"-") -> 秋田 | H15: =IFERROR(INDEX('貼_水稲(全国・e-stat)'!$Y$12:$Y$58,MATCH('貼_水稲(全国・e-stat)'!$X14,'貼_水稲(全国・e-stat)'!$AG$12:$AG$58,0)),"-") -> 秋田 | I15: =IFERROR(INDEX('貼_水稲(全国・e-stat)'!$Y$12:$Y$58,MATCH('貼_水稲(全国・e-stat)'!$X14,'貼_水稲(全国・e-stat)'!$AM$12:$AM$58,0)),"-") -> 北海道 | J15: =IFERROR(INDEX('貼_小麦(全国・e-stat)'!$N$10:$N$56,MATCH('貼_小麦(全国・e-stat)'!$M12,'貼_小麦(全国・e-stat)'!P$10:P$56,0)),"-") -> 佐賀 | K15: =IFERROR(INDEX('貼_小麦(全国・e-stat)'!$N$10:$N$56,MATCH('貼_小麦(全国・e-stat)'!$M12,'貼_小麦(全国・e-stat)'!V$10:V$56,0)),"-") -> 佐賀 | L15: =IFERROR(INDEX('貼_小麦(全国・e-stat)'!$N$10:$N$56,MATCH('貼_小麦(全国・e-stat)'!$M12,'貼_小麦(全国・e-stat)'!AB$10:AB$56,0)),"-") -> 宮城 | M15: 4 | N15: 4 | O15: 4 | P15: 4 | Q15: 4 | R15: 4 | S15: =IFERROR(INDEX('貼_大豆(全国・e-stat)'!$N$9:$N$55,MATCH('貼_大豆(全国・e-stat)'!$M11,'貼_大豆(全国・e-stat)'!P$9:P$55,0)),"-") -> 秋田 | T15: =IFERROR(INDEX('貼_大豆(全国・e-stat)'!$N$9:$N$55,MATCH('貼_大豆(全国・e-stat)'!$M11,'貼_大豆(全国・e-stat)'!V$9:V$55,0)),"-") -> 秋田 | U15: =IFERROR(INDEX('貼_大豆(全国・e-stat)'!$N$9:$N$55,MATCH('貼_大豆(全国・e-stat)'!$M11,'貼_大豆(全国・e-stat)'!AB$9:AB$55,0)),"-") -> 新潟 | V15: =NA() -> #N/A | W15: =NA() -> #N/A | X15: 4 | Y15: =IFERROR(INDEX('貼_そば(全国・e-stat)'!$J$10:$J$56,MATCH('貼_そば(全国・e-stat)'!$I12,'貼_そば(全国・e-stat)'!L$10:L$56,0)),"-") -> 秋田 | Z15: =IFERROR(INDEX('貼_そば(全国・e-stat)'!$J$10:$J$56,MATCH('貼_そば(全国・e-stat)'!$I12,'貼_そば(全国・e-stat)'!R$10:R$56,0)),"-") -> 茨城 | AA15: =IFERROR(INDEX('貼_そば(全国・e-stat)'!$J$10:$J$56,MATCH('貼_そば(全国・e-stat)'!$I12,'貼_そば(全国・e-stat)'!X$10:X$56,0)),"-") -> 大阪 | AB15: =IFERROR(INDEX('貼_ばれいしょ(全国・e-stat)'!$N$15:$N$61,MATCH('貼_ばれいしょ(全国・e-stat)'!$M17,'貼_ばれいしょ(全国・e-stat)'!P$15:P$61,0)),"-") -> 長崎 | AC15: =IFERROR(INDEX('貼_ばれいしょ(全国・e-stat)'!$N$15:$N$61,MATCH('貼_ばれいしょ(全国・e-stat)'!$M17,'貼_ばれいしょ(全国・e-stat)'!V$15:V$61,0)),"-") -> 鹿児島 | AD15: =IFERROR(INDEX('貼_ばれいしょ(全国・e-stat)'!$N$15:$N$61,MATCH('貼_ばれいしょ(全国・e-stat)'!$M17,'貼_ばれいしょ(全国・e-stat)'!AB$15:AB$61,0)),"-") -> 長崎 | AE15: =IFERROR(INDEX('貼_なたね(全国・e-stat)'!$N$11:$N$57,MATCH('貼_なたね(全国・e-stat)'!$M13,'貼_なたね(全国・e-stat)'!P$11:P$57,0)),"-") -> 青森 | AF15: =IFERROR(INDEX('貼_なたね(全国・e-stat)'!$N$11:$N$57,MATCH('貼_なたね(全国・e-stat)'!$M13,'貼_なたね(全国・e-stat)'!V$11:V$57,0)),"-") -> 福島 | AG15: =IFERROR(INDEX('貼_なたね(全国・e-stat)'!$N$11:$N$57,MATCH('貼_なたね(全国・e-stat)'!$M13,'貼_なたね(全国・e-stat)'!AB$11:AB$57,0)),"-") -> 茨城
C16: 4 | D16: =IFERROR(INDEX('貼_耕地面積(全国・e-stat)'!$N$24:$N$70,MATCH('貼_耕地面積(全国・e-stat)'!M27,'貼_耕地面積(全国・e-stat)'!$P$24:$P$70,0)),"-") -> 青森 | E16: =IFERROR(INDEX('貼_耕地面積(全国・e-stat)'!$N$24:$N$70,MATCH('貼_耕地面積(全国・e-stat)'!M27,'貼_耕地面積(全国・e-stat)'!$W$24:$W$70,0)),"-") -> 宮城 | F16: =IFERROR(INDEX('貼_耕地面積(全国・e-stat)'!$N$24:$N$70,MATCH('貼_耕地面積(全国・e-stat)'!M27,'貼_耕地面積(全国・e-stat)'!$AD$24:$AD$70,0)),"-") -> 茨城 | G16: =IFERROR(INDEX('貼_水稲(全国・e-stat)'!$Y$12:$Y$58,MATCH('貼_水稲(全国・e-stat)'!X15,'貼_水稲(全国・e-stat)'!$AA$12:$AA$58,0)),"-") -> 宮城 | H16: =IFERROR(INDEX('貼_水稲(全国・e-stat)'!$Y$12:$Y$58,MATCH('貼_水稲(全国・e-stat)'!$X15,'貼_水稲(全国・e-stat)'!$AG$12:$AG$58,0)),"-") -> 宮城 | I16: =IFERROR(INDEX('貼_水稲(全国・e-stat)'!$Y$12:$Y$58,MATCH('貼_水稲(全国・e-stat)'!$X15,'貼_水稲(全国・e-stat)'!$AM$12:$AM$58,0)),"-") -> 宮城 | J16: =IFERROR(INDEX('貼_小麦(全国・e-stat)'!$N$10:$N$56,MATCH('貼_小麦(全国・e-stat)'!$M13,'貼_小麦(全国・e-stat)'!P$10:P$56,0)),"-") -> 三重 | K16: =IFERROR(INDEX('貼_小麦(全国・e-stat)'!$N$10:$N$56,MATCH('貼_小麦(全国・e-stat)'!$M13,'貼_小麦(全国・e-stat)'!V$10:V$56,0)),"-") -> 愛知 | L16: =IFERROR(INDEX('貼_小麦(全国・e-stat)'!$N$10:$N$56,MATCH('貼_小麦(全国・e-stat)'!$M13,'貼_小麦(全国・e-stat)'!AB$10:AB$56,0)),"-") -> 群馬 | M16: 5 | N16: 5 | O16: 5 | P16: 5 | Q16: 5 | R16: 5 | S16: =IFERROR(INDEX('貼_大豆(全国・e-stat)'!$N$9:$N$55,MATCH('貼_大豆(全国・e-stat)'!$M12,'貼_大豆(全国・e-stat)'!P$9:P$55,0)),"-") -> 福岡 | T16: =IFERROR(INDEX('貼_大豆(全国・e-stat)'!$N$9:$N$55,MATCH('貼_大豆(全国・e-stat)'!$M12,'貼_大豆(全国・e-stat)'!V$9:V$55,0)),"-") -> 佐賀 | U16: =IFERROR(INDEX('貼_大豆(全国・e-stat)'!$N$9:$N$55,MATCH('貼_大豆(全国・e-stat)'!$M12,'貼_大豆(全国・e-stat)'!AB$9:AB$55,0)),"-") -> 千葉 | V16: =NA() -> #N/A | W16: =NA() -> #N/A | X16: 5 | Y16: =IFERROR(INDEX('貼_そば(全国・e-stat)'!$J$10:$J$56,MATCH('貼_そば(全国・e-stat)'!$I13,'貼_そば(全国・e-stat)'!L$10:L$56,0)),"-") -> 長野 | Z16: =IFERROR(INDEX('貼_そば(全国・e-stat)'!$J$10:$J$56,MATCH('貼_そば(全国・e-stat)'!$I13,'貼_そば(全国・e-stat)'!R$10:R$56,0)),"-") -> 福井 | AA16: =IFERROR(INDEX('貼_そば(全国・e-stat)'!$J$10:$J$56,MATCH('貼_そば(全国・e-stat)'!$I13,'貼_そば(全国・e-stat)'!X$10:X$56,0)),"-") -> 茨城 | AB16: =IFERROR(INDEX('貼_ばれいしょ(全国・e-stat)'!$N$15:$N$61,MATCH('貼_ばれいしょ(全国・e-stat)'!$M18,'貼_ばれいしょ(全国・e-stat)'!P$15:P$61,0)),"-") -> 茨城 | AC16: =IFERROR(INDEX('貼_ばれいしょ(全国・e-stat)'!$N$15:$N$61,MATCH('貼_ばれいしょ(全国・e-stat)'!$M18,'貼_ばれいしょ(全国・e-stat)'!V$15:V$61,0)),"-") -> 茨城 | AD16: =IFERROR(INDEX('貼_ばれいしょ(全国・e-stat)'!$N$15:$N$61,MATCH('貼_ばれいしょ(全国・e-stat)'!$M18,'貼_ばれいしょ(全国・e-stat)'!AB$15:AB$61,0)),"-") -> 千葉 | AE16: =IFERROR(INDEX('貼_なたね(全国・e-stat)'!$N$11:$N$57,MATCH('貼_なたね(全国・e-stat)'!$M14,'貼_なたね(全国・e-stat)'!P$11:P$57,0)),"-") -> 佐賀 | AF16: =IFERROR(INDEX('貼_なたね(全国・e-stat)'!$N$11:$N$57,MATCH('貼_なたね(全国・e-stat)'!$M14,'貼_なたね(全国・e-stat)'!V$11:V$57,0)),"-") -> 佐賀 | AG16: =IFERROR(INDEX('貼_なたね(全国・e-stat)'!$N$11:$N$57,MATCH('貼_なたね(全国・e-stat)'!$M14,'貼_なたね(全国・e-stat)'!AB$11:AB$57,0)),"-") -> 長野
C17: 5 | D17: =IFERROR(INDEX('貼_耕地面積(全国・e-stat)'!$N$24:$N$70,MATCH('貼_耕地面積(全国・e-stat)'!M28,'貼_耕地面積(全国・e-stat)'!$P$24:$P$70,0)),"-") -> 岩手 | E17: =IFERROR(INDEX('貼_耕地面積(全国・e-stat)'!$N$24:$N$70,MATCH('貼_耕地面積(全国・e-stat)'!M28,'貼_耕地面積(全国・e-stat)'!$W$24:$W$70,0)),"-") -> 福島 | F17: =IFERROR(INDEX('貼_耕地面積(全国・e-stat)'!$N$24:$N$70,MATCH('貼_耕地面積(全国・e-stat)'!M28,'貼_耕地面積(全国・e-stat)'!$AD$24:$AD$70,0)),"-") -> 岩手 | G17: =IFERROR(INDEX('貼_水稲(全国・e-stat)'!$Y$12:$Y$58,MATCH('貼_水稲(全国・e-stat)'!X16,'貼_水稲(全国・e-stat)'!$AA$12:$AA$58,0)),"-") -> 福島 | H17: =IFERROR(INDEX('貼_水稲(全国・e-stat)'!$Y$12:$Y$58,MATCH('貼_水稲(全国・e-stat)'!$X16,'貼_水稲(全国・e-stat)'!$AG$12:$AG$58,0)),"-") -> 福島 | I17: =IFERROR(INDEX('貼_水稲(全国・e-stat)'!$Y$12:$Y$58,MATCH('貼_水稲(全国・e-stat)'!$X16,'貼_水稲(全国・e-stat)'!$AM$12:$AM$58,0)),"-") -> 山形 | J17: =IFERROR(INDEX('貼_小麦(全国・e-stat)'!$N$10:$N$56,MATCH('貼_小麦(全国・e-stat)'!$M14,'貼_小麦(全国・e-stat)'!P$10:P$56,0)),"-") -> 滋賀 | K17: =IFERROR(INDEX('貼_小麦(全国・e-stat)'!$N$10:$N$56,MATCH('貼_小麦(全国・e-stat)'!$M14,'貼_小麦(全国・e-stat)'!V$10:V$56,0)),"-") -> 群馬 | L17: =IFERROR(INDEX('貼_小麦(全国・e-stat)'!$N$10:$N$56,MATCH('貼_小麦(全国・e-stat)'!$M14,'貼_小麦(全国・e-stat)'!AB$10:AB$56,0)),"-") -> 埼玉 | M17: 6 | N17: 6 | O17: 6 | P17: 6 | Q17: 6 | R17: 6 | S17: =IFERROR(INDEX('貼_大豆(全国・e-stat)'!$N$9:$N$55,MATCH('貼_大豆(全国・e-stat)'!$M13,'貼_大豆(全国・e-stat)'!P$9:P$55,0)),"-") -> 滋賀 | T17: =IFERROR(INDEX('貼_大豆(全国・e-stat)'!$N$9:$N$55,MATCH('貼_大豆(全国・e-stat)'!$M13,'貼_大豆(全国・e-stat)'!V$9:V$55,0)),"-") -> 福岡 | U17: =IFERROR(INDEX('貼_大豆(全国・e-stat)'!$N$9:$N$55,MATCH('貼_大豆(全国・e-stat)'!$M13,'貼_大豆(全国・e-stat)'!AB$9:AB$55,0)),"-") -> 長野 | V17: =NA() -> #N/A | W17: =NA() -> #N/A | X17: 6 | Y17: =IFERROR(INDEX('貼_そば(全国・e-stat)'!$J$10:$J$56,MATCH('貼_そば(全国・e-stat)'!$I14,'貼_そば(全国・e-stat)'!L$10:L$56,0)),"-") -> 福島 | Z17: =IFERROR(INDEX('貼_そば(全国・e-stat)'!$J$10:$J$56,MATCH('貼_そば(全国・e-stat)'!$I14,'貼_そば(全国・e-stat)'!R$10:R$56,0)),"-") -> 山形 | AA17: =IFERROR(INDEX('貼_そば(全国・e-stat)'!$J$10:$J$56,MATCH('貼_そば(全国・e-stat)'!$I14,'貼_そば(全国・e-stat)'!X$10:X$56,0)),"-") -> 長崎 | AB17: =IFERROR(INDEX('貼_ばれいしょ(全国・e-stat)'!$N$15:$N$61,MATCH('貼_ばれいしょ(全国・e-stat)'!$M19,'貼_ばれいしょ(全国・e-stat)'!P$15:P$61,0)),"-") -> 千葉 | AC17: =IFERROR(INDEX('貼_ばれいしょ(全国・e-stat)'!$N$15:$N$61,MATCH('貼_ばれいしょ(全国・e-stat)'!$M19,'貼_ばれいしょ(全国・e-stat)'!V$15:V$61,0)),"-") -> 千葉 | AD17: =IFERROR(INDEX('貼_ばれいしょ(全国・e-stat)'!$N$15:$N$61,MATCH('貼_ばれいしょ(全国・e-stat)'!$M19,'貼_ばれいしょ(全国・e-stat)'!AB$15:AB$61,0)),"-") -> 熊本 | AE17: =IFERROR(INDEX('貼_なたね(全国・e-stat)'!$N$11:$N$57,MATCH('貼_なたね(全国・e-stat)'!$M15,'貼_なたね(全国・e-stat)'!P$11:P$57,0)),"-") -> 滋賀 | AF17: =IFERROR(INDEX('貼_なたね(全国・e-stat)'!$N$11:$N$57,MATCH('貼_なたね(全国・e-stat)'!$M15,'貼_なたね(全国・e-stat)'!V$11:V$57,0)),"-") -> 愛知 | AG17: =IFERROR(INDEX('貼_なたね(全国・e-stat)'!$N$11:$N$57,MATCH('貼_なたね(全国・e-stat)'!$M15,'貼_なたね(全国・e-stat)'!AB$11:AB$57,0)),"-") -> 福岡
D18: =IFERROR(INDEX('貼_耕地面積(全国・e-stat)'!$N$24:$N$70,MATCH('貼_耕地面積(全国・e-stat)'!M29,'貼_耕地面積(全国・e-stat)'!$P$24:$P$70,0)),"-") -> 秋田 | E18: =IFERROR(INDEX('貼_耕地面積(全国・e-stat)'!$N$24:$N$70,MATCH('貼_耕地面積(全国・e-stat)'!M29,'貼_耕地面積(全国・e-stat)'!$W$24:$W$70,0)),"-") -> 茨城 | F18: =IFERROR(INDEX('貼_耕地面積(全国・e-stat)'!$N$24:$N$70,MATCH('貼_耕地面積(全国・e-stat)'!M29,'貼_耕地面積(全国・e-stat)'!$AD$24:$AD$70,0)),"-") -> 長野 | G18: =IFERROR(INDEX('貼_水稲(全国・e-stat)'!$Y$12:$Y$58,MATCH('貼_水稲(全国・e-stat)'!X17,'貼_水稲(全国・e-stat)'!$AA$12:$AA$58,0)),"-") -> 茨城 | H18: =IFERROR(INDEX('貼_水稲(全国・e-stat)'!$Y$12:$Y$58,MATCH('貼_水稲(全国・e-stat)'!$X17,'貼_水稲(全国・e-stat)'!$AG$12:$AG$58,0)),"-") -> 山形 | I18: =IFERROR(INDEX('貼_水稲(全国・e-stat)'!$Y$12:$Y$58,MATCH('貼_水稲(全国・e-stat)'!$X17,'貼_水稲(全国・e-stat)'!$AM$12:$AM$58,0)),"-") -> 秋田 | J18: =IFERROR(INDEX('貼_小麦(全国・e-stat)'!$N$10:$N$56,MATCH('貼_小麦(全国・e-stat)'!$M15,'貼_小麦(全国・e-stat)'!P$10:P$56,0)),"-") -> 愛知 | K18: =IFERROR(INDEX('貼_小麦(全国・e-stat)'!$N$10:$N$56,MATCH('貼_小麦(全国・e-stat)'!$M15,'貼_小麦(全国・e-stat)'!V$10:V$56,0)),"-") -> 埼玉 | L18: =IFERROR(INDEX('貼_小麦(全国・e-stat)'!$N$10:$N$56,MATCH('貼_小麦(全国・e-stat)'!$M15,'貼_小麦(全国・e-stat)'!AB$10:AB$56,0)),"-") -> 愛媛 | S18: =IFERROR(INDEX('貼_大豆(全国・e-stat)'!$N$9:$N$55,MATCH('貼_大豆(全国・e-stat)'!$M14,'貼_大豆(全国・e-stat)'!P$9:P$55,0)),"-") -> 佐賀 | T18: =IFERROR(INDEX('貼_大豆(全国・e-stat)'!$N$9:$N$55,MATCH('貼_大豆(全国・e-stat)'!$M14,'貼_大豆(全国・e-stat)'!V$9:V$55,0)),"-") -> 青森 | U18: =IFERROR(INDEX('貼_大豆(全国・e-stat)'!$N$9:$N$55,MATCH('貼_大豆(全国・e-stat)'!$M14,'貼_大豆(全国・e-stat)'!AB$9:AB$55,0)),"-") -> 青森 | Y18: =IFERROR(INDEX('貼_そば(全国・e-stat)'!$J$10:$J$56,MATCH('貼_そば(全国・e-stat)'!$I15,'貼_そば(全国・e-stat)'!L$10:L$56,0)),"-") -> 福井 | Z18: =IFERROR(INDEX('貼_そば(全国・e-stat)'!$J$10:$J$56,MATCH('貼_そば(全国・e-stat)'!$I15,'貼_そば(全国・e-stat)'!R$10:R$56,0)),"-") -> 福島 | AA18: =IFERROR(INDEX('貼_そば(全国・e-stat)'!$J$10:$J$56,MATCH('貼_そば(全国・e-stat)'!$I15,'貼_そば(全国・e-stat)'!X$10:X$56,0)),"-") -> 北海道 | AB18: =IFERROR(INDEX('貼_ばれいしょ(全国・e-stat)'!$N$15:$N$61,MATCH('貼_ばれいしょ(全国・e-stat)'!$M20,'貼_ばれいしょ(全国・e-stat)'!P$15:P$61,0)),"-") -> 福島 | AC18: =IFERROR(INDEX('貼_ばれいしょ(全国・e-stat)'!$N$15:$N$61,MATCH('貼_ばれいしょ(全国・e-stat)'!$M20,'貼_ばれいしょ(全国・e-stat)'!V$15:V$61,0)),"-") -> 熊本 | AD18: =IFERROR(INDEX('貼_ばれいしょ(全国・e-stat)'!$N$15:$N$61,MATCH('貼_ばれいしょ(全国・e-stat)'!$M20,'貼_ばれいしょ(全国・e-stat)'!AB$15:AB$61,0)),"-") -> 静岡 | AE18: =IFERROR(INDEX('貼_なたね(全国・e-stat)'!$N$11:$N$57,MATCH('貼_なたね(全国・e-stat)'!$M16,'貼_なたね(全国・e-stat)'!P$11:P$57,0)),"-") -> 熊本 | AF18: =IFERROR(INDEX('貼_なたね(全国・e-stat)'!$N$11:$N$57,MATCH('貼_なたね(全国・e-stat)'!$M16,'貼_なたね(全国・e-stat)'!V$11:V$57,0)),"-") -> 福岡 | AG18: =IFERROR(INDEX('貼_なたね(全国・e-stat)'!$N$11:$N$57,MATCH('貼_なたね(全国・e-stat)'!$M16,'貼_なたね(全国・e-stat)'!AB$11:AB$57,0)),"-") -> 群馬
D19: =IFERROR(INDEX('貼_耕地面積(全国・e-stat)'!$N$24:$N$70,MATCH('貼_耕地面積(全国・e-stat)'!M30,'貼_耕地面積(全国・e-stat)'!$P$24:$P$70,0)),"-") -> 福島 | E19: =IFERROR(INDEX('貼_耕地面積(全国・e-stat)'!$N$24:$N$70,MATCH('貼_耕地面積(全国・e-stat)'!M30,'貼_耕地面積(全国・e-stat)'!$W$24:$W$70,0)),"-") -> 栃木 | F19: =IFERROR(INDEX('貼_耕地面積(全国・e-stat)'!$N$24:$N$70,MATCH('貼_耕地面積(全国・e-stat)'!M30,'貼_耕地面積(全国・e-stat)'!$AD$24:$AD$70,0)),"-") -> 千葉 | G19: =IFERROR(INDEX('貼_水稲(全国・e-stat)'!$Y$12:$Y$58,MATCH('貼_水稲(全国・e-stat)'!X18,'貼_水稲(全国・e-stat)'!$AA$12:$AA$58,0)),"-") -> 山形 | H19: =IFERROR(INDEX('貼_水稲(全国・e-stat)'!$Y$12:$Y$58,MATCH('貼_水稲(全国・e-stat)'!$X18,'貼_水稲(全国・e-stat)'!$AG$12:$AG$58,0)),"-") -> 茨城 | I19: =IFERROR(INDEX('貼_水稲(全国・e-stat)'!$Y$12:$Y$58,MATCH('貼_水稲(全国・e-stat)'!$X18,'貼_水稲(全国・e-stat)'!$AM$12:$AM$58,0)),"-") -> 岩手 | J19: =IFERROR(INDEX('貼_小麦(全国・e-stat)'!$N$10:$N$56,MATCH('貼_小麦(全国・e-stat)'!$M16,'貼_小麦(全国・e-stat)'!P$10:P$56,0)),"-") -> 埼玉 | K19: =IFERROR(INDEX('貼_小麦(全国・e-stat)'!$N$10:$N$56,MATCH('貼_小麦(全国・e-stat)'!$M16,'貼_小麦(全国・e-stat)'!V$10:V$56,0)),"-") -> 滋賀 | L19: =IFERROR(INDEX('貼_小麦(全国・e-stat)'!$N$10:$N$56,MATCH('貼_小麦(全国・e-stat)'!$M16,'貼_小麦(全国・e-stat)'!AB$10:AB$56,0)),"-") -> 栃木 | S19: =IFERROR(INDEX('貼_大豆(全国・e-stat)'!$N$9:$N$55,MATCH('貼_大豆(全国・e-stat)'!$M15,'貼_大豆(全国・e-stat)'!P$9:P$55,0)),"-") -> 青森 | T19: =IFERROR(INDEX('貼_大豆(全国・e-stat)'!$N$9:$N$55,MATCH('貼_大豆(全国・e-stat)'!$M15,'貼_大豆(全国・e-stat)'!V$9:V$55,0)),"-") -> 新潟 | U19: =IFERROR(INDEX('貼_大豆(全国・e-stat)'!$N$9:$N$55,MATCH('貼_大豆(全国・e-stat)'!$M15,'貼_大豆(全国・e-stat)'!AB$9:AB$55,0)),"-") -> 山形 | Y19: =IFERROR(INDEX('貼_そば(全国・e-stat)'!$J$10:$J$56,MATCH('貼_そば(全国・e-stat)'!$I16,'貼_そば(全国・e-stat)'!L$10:L$56,0)),"-") -> 茨城 | Z19: =IFERROR(INDEX('貼_そば(全国・e-stat)'!$J$10:$J$56,MATCH('貼_そば(全国・e-stat)'!$I16,'貼_そば(全国・e-stat)'!R$10:R$56,0)),"-") -> 秋田 | AA19: =IFERROR(INDEX('貼_そば(全国・e-stat)'!$J$10:$J$56,MATCH('貼_そば(全国・e-stat)'!$I16,'貼_そば(全国・e-stat)'!X$10:X$56,0)),"-") -> 福井 | AB19: =IFERROR(INDEX('貼_ばれいしょ(全国・e-stat)'!$N$15:$N$61,MATCH('貼_ばれいしょ(全国・e-stat)'!$M21,'貼_ばれいしょ(全国・e-stat)'!P$15:P$61,0)),"-") -> 長野 | AC19: =IFERROR(INDEX('貼_ばれいしょ(全国・e-stat)'!$N$15:$N$61,MATCH('貼_ばれいしょ(全国・e-stat)'!$M21,'貼_ばれいしょ(全国・e-stat)'!V$15:V$61,0)),"-") -> 福島 | AD19: =IFERROR(INDEX('貼_ばれいしょ(全国・e-stat)'!$N$15:$N$61,MATCH('貼_ばれいしょ(全国・e-stat)'!$M21,'貼_ばれいしょ(全国・e-stat)'!AB$15:AB$61,0)),"-") -> 青森 | AE19: =IFERROR(INDEX('貼_なたね(全国・e-stat)'!$N$11:$N$57,MATCH('貼_なたね(全国・e-stat)'!$M17,'貼_なたね(全国・e-stat)'!P$11:P$57,0)),"-") -> 愛知 | AF19: =IFERROR(INDEX('貼_なたね(全国・e-stat)'!$N$11:$N$57,MATCH('貼_なたね(全国・e-stat)'!$M17,'貼_なたね(全国・e-stat)'!V$11:V$57,0)),"-") -> 滋賀 | AG19: =IFERROR(INDEX('貼_なたね(全国・e-stat)'!$N$11:$N$57,MATCH('貼_なたね(全国・e-stat)'!$M17,'貼_なたね(全国・e-stat)'!AB$11:AB$57,0)),"-") -> 愛知
D20: =IFERROR(INDEX('貼_耕地面積(全国・e-stat)'!$N$24:$N$70,MATCH('貼_耕地面積(全国・e-stat)'!M31,'貼_耕地面積(全国・e-stat)'!$P$24:$P$70,0)),"-") -> 宮城 | E20: =IFERROR(INDEX('貼_耕地面積(全国・e-stat)'!$N$24:$N$70,MATCH('貼_耕地面積(全国・e-stat)'!M31,'貼_耕地面積(全国・e-stat)'!$W$24:$W$70,0)),"-") -> 岩手 | F20: =IFERROR(INDEX('貼_耕地面積(全国・e-stat)'!$N$24:$N$70,MATCH('貼_耕地面積(全国・e-stat)'!M31,'貼_耕地面積(全国・e-stat)'!$AD$24:$AD$70,0)),"-") -> 群馬 | G20: =IFERROR(INDEX('貼_水稲(全国・e-stat)'!$Y$12:$Y$58,MATCH('貼_水稲(全国・e-stat)'!X19,'貼_水稲(全国・e-stat)'!$AA$12:$AA$58,0)),"-") -> 栃木 | H20: =IFERROR(INDEX('貼_水稲(全国・e-stat)'!$Y$12:$Y$58,MATCH('貼_水稲(全国・e-stat)'!$X19,'貼_水稲(全国・e-stat)'!$AG$12:$AG$58,0)),"-") -> 千葉 | I20: =IFERROR(INDEX('貼_水稲(全国・e-stat)'!$Y$12:$Y$58,MATCH('貼_水稲(全国・e-stat)'!$X19,'貼_水稲(全国・e-stat)'!$AM$12:$AM$58,0)),"-") -> 福島 | J20: =IFERROR(INDEX('貼_小麦(全国・e-stat)'!$N$10:$N$56,MATCH('貼_小麦(全国・e-stat)'!$M17,'貼_小麦(全国・e-stat)'!P$10:P$56,0)),"-") -> 熊本 | K20: =IFERROR(INDEX('貼_小麦(全国・e-stat)'!$N$10:$N$56,MATCH('貼_小麦(全国・e-stat)'!$M17,'貼_小麦(全国・e-stat)'!V$10:V$56,0)),"-") -> 三重 | L20: =IFERROR(INDEX('貼_小麦(全国・e-stat)'!$N$10:$N$56,MATCH('貼_小麦(全国・e-stat)'!$M17,'貼_小麦(全国・e-stat)'!AB$10:AB$56,0)),"-") -> 岡山 | S20: =IFERROR(INDEX('貼_大豆(全国・e-stat)'!$N$9:$N$55,MATCH('貼_大豆(全国・e-stat)'!$M16,'貼_大豆(全国・e-stat)'!P$9:P$55,0)),"-") -> 山形 | T20: =IFERROR(INDEX('貼_大豆(全国・e-stat)'!$N$9:$N$55,MATCH('貼_大豆(全国・e-stat)'!$M16,'貼_大豆(全国・e-stat)'!V$9:V$55,0)),"-") -> 山形 | U20: =IFERROR(INDEX('貼_大豆(全国・e-stat)'!$N$9:$N$55,MATCH('貼_大豆(全国・e-stat)'!$M16,'貼_大豆(全国・e-stat)'!AB$9:AB$55,0)),"-") -> 栃木 | Y20: =IFERROR(INDEX('貼_そば(全国・e-stat)'!$J$10:$J$56,MATCH('貼_そば(全国・e-stat)'!$I17,'貼_そば(全国・e-stat)'!L$10:L$56,0)),"-") -> 栃木 | Z20: =IFERROR(INDEX('貼_そば(全国・e-stat)'!$J$10:$J$56,MATCH('貼_そば(全国・e-stat)'!$I17,'貼_そば(全国・e-stat)'!R$10:R$56,0)),"-") -> 栃木 | AA20: =IFERROR(INDEX('貼_そば(全国・e-stat)'!$J$10:$J$56,MATCH('貼_そば(全国・e-stat)'!$I17,'貼_そば(全国・e-stat)'!X$10:X$56,0)),"-") -> 埼玉 | AB20: =IFERROR(INDEX('貼_ばれいしょ(全国・e-stat)'!$N$15:$N$61,MATCH('貼_ばれいしょ(全国・e-stat)'!$M22,'貼_ばれいしょ(全国・e-stat)'!P$15:P$61,0)),"-") -> 熊本 | AC20: =IFERROR(INDEX('貼_ばれいしょ(全国・e-stat)'!$N$15:$N$61,MATCH('貼_ばれいしょ(全国・e-stat)'!$M22,'貼_ばれいしょ(全国・e-stat)'!V$15:V$61,0)),"-") -> 青森 | AD20: =IFERROR(INDEX('貼_ばれいしょ(全国・e-stat)'!$N$15:$N$61,MATCH('貼_ばれいしょ(全国・e-stat)'!$M22,'貼_ばれいしょ(全国・e-stat)'!AB$15:AB$61,0)),"-") -> 宮崎 | AE20: =IFERROR(INDEX('貼_なたね(全国・e-stat)'!$N$11:$N$57,MATCH('貼_なたね(全国・e-stat)'!$M18,'貼_なたね(全国・e-stat)'!P$11:P$57,0)),"-") -> 岩手 | AF20: =IFERROR(INDEX('貼_なたね(全国・e-stat)'!$N$11:$N$57,MATCH('貼_なたね(全国・e-stat)'!$M18,'貼_なたね(全国・e-stat)'!V$11:V$57,0)),"-") -> 熊本 | AG20: =IFERROR(INDEX('貼_なたね(全国・e-stat)'!$N$11:$N$57,MATCH('貼_なたね(全国・e-stat)'!$M18,'貼_なたね(全国・e-stat)'!AB$11:AB$57,0)),"-") -> 三重
D21: =IFERROR(INDEX('貼_耕地面積(全国・e-stat)'!$N$24:$N$70,MATCH('貼_耕地面積(全国・e-stat)'!M32,'貼_耕地面積(全国・e-stat)'!$P$24:$P$70,0)),"-") -> 栃木 | E21: =IFERROR(INDEX('貼_耕地面積(全国・e-stat)'!$N$24:$N$70,MATCH('貼_耕地面積(全国・e-stat)'!M32,'貼_耕地面積(全国・e-stat)'!$W$24:$W$70,0)),"-") -> 山形 | F21: =IFERROR(INDEX('貼_耕地面積(全国・e-stat)'!$N$24:$N$70,MATCH('貼_耕地面積(全国・e-stat)'!M32,'貼_耕地面積(全国・e-stat)'!$AD$24:$AD$70,0)),"-") -> 熊本 | G21: =IFERROR(INDEX('貼_水稲(全国・e-stat)'!$Y$12:$Y$58,MATCH('貼_水稲(全国・e-stat)'!X20,'貼_水稲(全国・e-stat)'!$AA$12:$AA$58,0)),"-") -> 千葉 | H21: =IFERROR(INDEX('貼_水稲(全国・e-stat)'!$Y$12:$Y$58,MATCH('貼_水稲(全国・e-stat)'!$X20,'貼_水稲(全国・e-stat)'!$AG$12:$AG$58,0)),"-") -> 栃木 | I21: =IFERROR(INDEX('貼_水稲(全国・e-stat)'!$Y$12:$Y$58,MATCH('貼_水稲(全国・e-stat)'!$X20,'貼_水稲(全国・e-stat)'!$AM$12:$AM$58,0)),"-") -> 千葉 | J21: =IFERROR(INDEX('貼_小麦(全国・e-stat)'!$N$10:$N$56,MATCH('貼_小麦(全国・e-stat)'!$M18,'貼_小麦(全国・e-stat)'!P$10:P$56,0)),"-") -> 群馬 | K21: =IFERROR(INDEX('貼_小麦(全国・e-stat)'!$N$10:$N$56,MATCH('貼_小麦(全国・e-stat)'!$M18,'貼_小麦(全国・e-stat)'!V$10:V$56,0)),"-") -> 茨城 | L21: =IFERROR(INDEX('貼_小麦(全国・e-stat)'!$N$10:$N$56,MATCH('貼_小麦(全国・e-stat)'!$M18,'貼_小麦(全国・e-stat)'!AB$10:AB$56,0)),"-") -> 秋田 | S21: =IFERROR(INDEX('貼_大豆(全国・e-stat)'!$N$9:$N$55,MATCH('貼_大豆(全国・e-stat)'!$M17,'貼_大豆(全国・e-stat)'!P$9:P$55,0)),"-") -> 岩手 | T21: =IFERROR(INDEX('貼_大豆(全国・e-stat)'!$N$9:$N$55,MATCH('貼_大豆(全国・e-stat)'!$M17,'貼_大豆(全国・e-stat)'!V$9:V$55,0)),"-") -> 岩手 | U21: =IFERROR(INDEX('貼_大豆(全国・e-stat)'!$N$9:$N$55,MATCH('貼_大豆(全国・e-stat)'!$M17,'貼_大豆(全国・e-stat)'!AB$9:AB$55,0)),"-") -> 佐賀 | Y21: =IFERROR(INDEX('貼_そば(全国・e-stat)'!$J$10:$J$56,MATCH('貼_そば(全国・e-stat)'!$I18,'貼_そば(全国・e-stat)'!L$10:L$56,0)),"-") -> 青森 | Z21: =IFERROR(INDEX('貼_そば(全国・e-stat)'!$J$10:$J$56,MATCH('貼_そば(全国・e-stat)'!$I18,'貼_そば(全国・e-stat)'!R$10:R$56,0)),"-") -> 岩手 | AA21: =IFERROR(INDEX('貼_そば(全国・e-stat)'!$J$10:$J$56,MATCH('貼_そば(全国・e-stat)'!$I18,'貼_そば(全国・e-stat)'!X$10:X$56,0)),"-") -> 滋賀 | AB21: =IFERROR(INDEX('貼_ばれいしょ(全国・e-stat)'!$N$15:$N$61,MATCH('貼_ばれいしょ(全国・e-stat)'!$M23,'貼_ばれいしょ(全国・e-stat)'!P$15:P$61,0)),"-") -> 青森 | AC21: =IFERROR(INDEX('貼_ばれいしょ(全国・e-stat)'!$N$15:$N$61,MATCH('貼_ばれいしょ(全国・e-stat)'!$M23,'貼_ばれいしょ(全国・e-stat)'!V$15:V$61,0)),"-") -> 長野 | AD21: =IFERROR(INDEX('貼_ばれいしょ(全国・e-stat)'!$N$15:$N$61,MATCH('貼_ばれいしょ(全国・e-stat)'!$M23,'貼_ばれいしょ(全国・e-stat)'!AB$15:AB$61,0)),"-") -> 佐賀 | AE21: =IFERROR(INDEX('貼_なたね(全国・e-stat)'!$N$11:$N$57,MATCH('貼_なたね(全国・e-stat)'!$M19,'貼_なたね(全国・e-stat)'!P$11:P$57,0)),"-") -> 三重 | AF21: =IFERROR(INDEX('貼_なたね(全国・e-stat)'!$N$11:$N$57,MATCH('貼_なたね(全国・e-stat)'!$M19,'貼_なたね(全国・e-stat)'!V$11:V$57,0)),"-") -> 岩手 | AG21: =IFERROR(INDEX('貼_なたね(全国・e-stat)'!$N$11:$N$57,MATCH('貼_なたね(全国・e-stat)'!$M19,'貼_なたね(全国・e-stat)'!AB$11:AB$57,0)),"-") -> 佐賀
D22: =IFERROR(INDEX('貼_耕地面積(全国・e-stat)'!$N$24:$N$70,MATCH('貼_耕地面積(全国・e-stat)'!M33,'貼_耕地面積(全国・e-stat)'!$P$24:$P$70,0)),"-") -> 千葉 | E22: =IFERROR(INDEX('貼_耕地面積(全国・e-stat)'!$N$24:$N$70,MATCH('貼_耕地面積(全国・e-stat)'!M33,'貼_耕地面積(全国・e-stat)'!$W$24:$W$70,0)),"-") -> 青森 | F22: =IFERROR(INDEX('貼_耕地面積(全国・e-stat)'!$N$24:$N$70,MATCH('貼_耕地面積(全国・e-stat)'!M33,'貼_耕地面積(全国・e-stat)'!$AD$24:$AD$70,0)),"-") -> 福島 | G22: =IFERROR(INDEX('貼_水稲(全国・e-stat)'!$Y$12:$Y$58,MATCH('貼_水稲(全国・e-stat)'!X21,'貼_水稲(全国・e-stat)'!$AA$12:$AA$58,0)),"-") -> 岩手 | H22: =IFERROR(INDEX('貼_水稲(全国・e-stat)'!$Y$12:$Y$58,MATCH('貼_水稲(全国・e-stat)'!$X21,'貼_水稲(全国・e-stat)'!$AG$12:$AG$58,0)),"-") -> 青森 | I22: =IFERROR(INDEX('貼_水稲(全国・e-stat)'!$Y$12:$Y$58,MATCH('貼_水稲(全国・e-stat)'!$X21,'貼_水稲(全国・e-stat)'!$AM$12:$AM$58,0)),"-") -> 茨城 | J22: =IFERROR(INDEX('貼_小麦(全国・e-stat)'!$N$10:$N$56,MATCH('貼_小麦(全国・e-stat)'!$M19,'貼_小麦(全国・e-stat)'!P$10:P$56,0)),"-") -> 茨城 | K22: =IFERROR(INDEX('貼_小麦(全国・e-stat)'!$N$10:$N$56,MATCH('貼_小麦(全国・e-stat)'!$M19,'貼_小麦(全国・e-stat)'!V$10:V$56,0)),"-") -> 熊本 | L22: =IFERROR(INDEX('貼_小麦(全国・e-stat)'!$N$10:$N$56,MATCH('貼_小麦(全国・e-stat)'!$M19,'貼_小麦(全国・e-stat)'!AB$10:AB$56,0)),"-") -> 長野 | S22: =IFERROR(INDEX('貼_大豆(全国・e-stat)'!$N$9:$N$55,MATCH('貼_大豆(全国・e-stat)'!$M18,'貼_大豆(全国・e-stat)'!P$9:P$55,0)),"-") -> 富山 | T22: =IFERROR(INDEX('貼_大豆(全国・e-stat)'!$N$9:$N$55,MATCH('貼_大豆(全国・e-stat)'!$M18,'貼_大豆(全国・e-stat)'!V$9:V$55,0)),"-") -> 滋賀 | U22: =IFERROR(INDEX('貼_大豆(全国・e-stat)'!$N$9:$N$55,MATCH('貼_大豆(全国・e-stat)'!$M18,'貼_大豆(全国・e-stat)'!AB$9:AB$55,0)),"-") -> 秋田 | Y22: =IFERROR(INDEX('貼_そば(全国・e-stat)'!$J$10:$J$56,MATCH('貼_そば(全国・e-stat)'!$I19,'貼_そば(全国・e-stat)'!L$10:L$56,0)),"-") -> 岩手 | Z22: =IFERROR(INDEX('貼_そば(全国・e-stat)'!$J$10:$J$56,MATCH('貼_そば(全国・e-stat)'!$I19,'貼_そば(全国・e-stat)'!R$10:R$56,0)),"-") -> 青森 | AA22: =IFERROR(INDEX('貼_そば(全国・e-stat)'!$J$10:$J$56,MATCH('貼_そば(全国・e-stat)'!$I19,'貼_そば(全国・e-stat)'!X$10:X$56,0)),"-") -> 長野 | AB22: =IFERROR(INDEX('貼_ばれいしょ(全国・e-stat)'!$N$15:$N$61,MATCH('貼_ばれいしょ(全国・e-stat)'!$M24,'貼_ばれいしょ(全国・e-stat)'!P$15:P$61,0)),"-") -> 広島 | AC22: =IFERROR(INDEX('貼_ばれいしょ(全国・e-stat)'!$N$15:$N$61,MATCH('貼_ばれいしょ(全国・e-stat)'!$M24,'貼_ばれいしょ(全国・e-stat)'!V$15:V$61,0)),"-") -> 静岡 | AD22: =IFERROR(INDEX('貼_ばれいしょ(全国・e-stat)'!$N$15:$N$61,MATCH('貼_ばれいしょ(全国・e-stat)'!$M24,'貼_ばれいしょ(全国・e-stat)'!AB$15:AB$61,0)),"-") -> 鹿児島 | AE22: =IFERROR(INDEX('貼_なたね(全国・e-stat)'!$N$11:$N$57,MATCH('貼_なたね(全国・e-stat)'!$M20,'貼_なたね(全国・e-stat)'!P$11:P$57,0)),"-") -> 大分 | AF22: =IFERROR(INDEX('貼_なたね(全国・e-stat)'!$N$11:$N$57,MATCH('貼_なたね(全国・e-stat)'!$M20,'貼_なたね(全国・e-stat)'!V$11:V$57,0)),"-") -> 長野 | AG22: =IFERROR(INDEX('貼_なたね(全国・e-stat)'!$N$11:$N$57,MATCH('貼_なたね(全国・e-stat)'!$M20,'貼_なたね(全国・e-stat)'!AB$11:AB$57,0)),"-") -> 岩手
D23: =IFERROR(INDEX('貼_耕地面積(全国・e-stat)'!$N$24:$N$70,MATCH('貼_耕地面積(全国・e-stat)'!M34,'貼_耕地面積(全国・e-stat)'!$P$24:$P$70,0)),"-") -> 山形 | E23: =IFERROR(INDEX('貼_耕地面積(全国・e-stat)'!$N$24:$N$70,MATCH('貼_耕地面積(全国・e-stat)'!M34,'貼_耕地面積(全国・e-stat)'!$W$24:$W$70,0)),"-") -> 千葉 | F23: =IFERROR(INDEX('貼_耕地面積(全国・e-stat)'!$N$24:$N$70,MATCH('貼_耕地面積(全国・e-stat)'!M34,'貼_耕地面積(全国・e-stat)'!$AD$24:$AD$70,0)),"-") -> 静岡 | G23: =IFERROR(INDEX('貼_水稲(全国・e-stat)'!$Y$12:$Y$58,MATCH('貼_水稲(全国・e-stat)'!X22,'貼_水稲(全国・e-stat)'!$AA$12:$AA$58,0)),"-") -> 青森 | H23: =IFERROR(INDEX('貼_水稲(全国・e-stat)'!$Y$12:$Y$58,MATCH('貼_水稲(全国・e-stat)'!$X22,'貼_水稲(全国・e-stat)'!$AG$12:$AG$58,0)),"-") -> 岩手 | I23: =IFERROR(INDEX('貼_水稲(全国・e-stat)'!$Y$12:$Y$58,MATCH('貼_水稲(全国・e-stat)'!$X22,'貼_水稲(全国・e-stat)'!$AM$12:$AM$58,0)),"-") -> 栃木 | J23: =IFERROR(INDEX('貼_小麦(全国・e-stat)'!$N$10:$N$56,MATCH('貼_小麦(全国・e-stat)'!$M20,'貼_小麦(全国・e-stat)'!P$10:P$56,0)),"-") -> 岩手 | K23: =IFERROR(INDEX('貼_小麦(全国・e-stat)'!$N$10:$N$56,MATCH('貼_小麦(全国・e-stat)'!$M20,'貼_小麦(全国・e-stat)'!V$10:V$56,0)),"-") -> 岐阜 | L23: =IFERROR(INDEX('貼_小麦(全国・e-stat)'!$N$10:$N$56,MATCH('貼_小麦(全国・e-stat)'!$M20,'貼_小麦(全国・e-stat)'!AB$10:AB$56,0)),"-") -> 千葉 | S23: =IFERROR(INDEX('貼_大豆(全国・e-stat)'!$N$9:$N$55,MATCH('貼_大豆(全国・e-stat)'!$M19,'貼_大豆(全国・e-stat)'!P$9:P$55,0)),"-") -> 三重 | T23: =IFERROR(INDEX('貼_大豆(全国・e-stat)'!$N$9:$N$55,MATCH('貼_大豆(全国・e-stat)'!$M19,'貼_大豆(全国・e-stat)'!V$9:V$55,0)),"-") -> 富山 | U23: =IFERROR(INDEX('貼_大豆(全国・e-stat)'!$N$9:$N$55,MATCH('貼_大豆(全国・e-stat)'!$M19,'貼_大豆(全国・e-stat)'!AB$9:AB$55,0)),"-") -> 東京 | Y23: =IFERROR(INDEX('貼_そば(全国・e-stat)'!$J$10:$J$56,MATCH('貼_そば(全国・e-stat)'!$I20,'貼_そば(全国・e-stat)'!L$10:L$56,0)),"-") -> 新潟 | Z23: =IFERROR(INDEX('貼_そば(全国・e-stat)'!$J$10:$J$56,MATCH('貼_そば(全国・e-stat)'!$I20,'貼_そば(全国・e-stat)'!R$10:R$56,0)),"-") -> 鹿児島 | AA23: =IFERROR(INDEX('貼_そば(全国・e-stat)'!$J$10:$J$56,MATCH('貼_そば(全国・e-stat)'!$I20,'貼_そば(全国・e-stat)'!X$10:X$56,0)),"-") -> 宮崎 | AB23: =IFERROR(INDEX('貼_ばれいしょ(全国・e-stat)'!$N$15:$N$61,MATCH('貼_ばれいしょ(全国・e-stat)'!$M25,'貼_ばれいしょ(全国・e-stat)'!P$15:P$61,0)),"-") -> 宮城 | AC23: =IFERROR(INDEX('貼_ばれいしょ(全国・e-stat)'!$N$15:$N$61,MATCH('貼_ばれいしょ(全国・e-stat)'!$M25,'貼_ばれいしょ(全国・e-stat)'!V$15:V$61,0)),"-") -> 宮崎 | AD23: =IFERROR(INDEX('貼_ばれいしょ(全国・e-stat)'!$N$15:$N$61,MATCH('貼_ばれいしょ(全国・e-stat)'!$M25,'貼_ばれいしょ(全国・e-stat)'!AB$15:AB$61,0)),"-") -> 長野 | AE23: =IFERROR(INDEX('貼_なたね(全国・e-stat)'!$N$11:$N$57,MATCH('貼_なたね(全国・e-stat)'!$M21,'貼_なたね(全国・e-stat)'!P$11:P$57,0)),"-") -> 埼玉 | AF23: =IFERROR(INDEX('貼_なたね(全国・e-stat)'!$N$11:$N$57,MATCH('貼_なたね(全国・e-stat)'!$M21,'貼_なたね(全国・e-stat)'!V$11:V$57,0)),"-") -> 三重 | AG23: =IFERROR(INDEX('貼_なたね(全国・e-stat)'!$N$11:$N$57,MATCH('貼_なたね(全国・e-stat)'!$M21,'貼_なたね(全国・e-stat)'!AB$11:AB$57,0)),"-") -> 熊本
