Workbook

Sheet １月
D1: 卵 用 鶏 | G1: 肉 用 鶏 | J1: 合 計 | N1: 累 計 | P1: Bの対前年
A2: 所別 | B2: 件数 | C2: 入検(A) | D2: 解放(B) | E2: B/A | F2: 入検(A) | G2: 解放(B) | H2: B/A | I2: 入検(A) | J2: 解放(B) | K2: B/A | L2: 件数 | M2: 入検(A) | N2: 解放(B) | O2: B/A | P2: 同期比 (%) | Q2: 前年同期累計 | R2: 前年同期合計
A3: 横浜本所 | E3: =IF(ISERROR(D3/C3),"",D3/C3) | H3: =IF(ISERROR(G3/F3),"",G3/F3) | K3: =IF(ISERROR(J3/I3),"",J3/I3) | L3: =B3 -> 0 | M3: =I3 -> 0 | N3: =J3 -> 0 | O3: =IF(ISERROR(N3/M3),"",N3/M3) | P3: =IF(ISERROR(N3/Q3),"",N3/Q3) | Q3: 0 | R3: 0
A4: 静岡出張所 | E4: =IF(ISERROR(D4/C4),"",D4/C4) | H4: =IF(ISERROR(G4/F4),"",G4/F4) | K4: =IF(ISERROR(J4/I4),"",J4/I4) | L4: =B4 -> 0 | M4: =I4 -> 0 | N4: =J4 -> 0 | O4: =IF(ISERROR(N4/M4),"",N4/M4) | P4: =IF(ISERROR(N4/Q4),"",N4/Q4) | Q4: 0 | R4: 0
A5: 北海道・東北支所 | E5: =IF(ISERROR(D5/C5),"",D5/C5) | H5: =IF(ISERROR(G5/F5),"",G5/F5) | K5: =IF(ISERROR(J5/I5),"",J5/I5) | L5: =B5 -> 0 | M5: =I5 -> 0 | N5: =J5 -> 0 | O5: =IF(ISERROR(N5/M5),"",N5/M5) | P5: =IF(ISERROR(N5/Q5),"",N5/Q5) | Q5: 0 | R5: 0
A6: 仙台空港出張所 | E6: =IF(ISERROR(D6/C6),"",D6/C6) | H6: =IF(ISERROR(G6/F6),"",G6/F6) | K6: =IF(ISERROR(J6/I6),"",J6/I6) | L6: =B6 -> 0 | M6: =I6 -> 0 | N6: =J6 -> 0 | O6: =IF(ISERROR(N6/M6),"",N6/M6) | P6: =IF(ISERROR(N6/Q6),"",N6/Q6) | Q6: 0 | R6: 0
A7: 成田支所 | E7: =IF(ISERROR(D7/C7),"",D7/C7) | H7: =IF(ISERROR(G7/F7),"",G7/F7) | K7: =IF(ISERROR(J7/I7),"",J7/I7) | L7: =B7 -> 0 | M7: =I7 -> 0 | N7: =J7 -> 0 | O7: =IF(ISERROR(N7/M7),"",N7/M7) | P7: =IF(ISERROR(N7/Q7),"",N7/Q7) | Q7: 0 | R7: 0
A8: 中部空港支所 | E8: =IF(ISERROR(D8/C8),"",D8/C8) | H8: =IF(ISERROR(G8/F8),"",G8/F8) | K8: =IF(ISERROR(J8/I8),"",J8/I8) | L8: =B8 -> 0 | M8: =I8 -> 0 | N8: =J8 -> 0 | O8: =IF(ISERROR(N8/M8),"",N8/M8) | P8: =IF(ISERROR(N8/Q8),"",N8/Q8)
A9: 名古屋出張所 | E9: =IF(ISERROR(D9/C9),"",D9/C9) | H9: =IF(ISERROR(G9/F9),"",G9/F9) | K9: =IF(ISERROR(J9/I9),"",J9/I9) | L9: =B9 -> 0 | M9: =I9 -> 0 | N9: =J9 -> 0 | O9: =IF(ISERROR(N9/M9),"",N9/M9) | P9: =IF(ISERROR(N9/Q9),"",N9/Q9) | Q9: 0 | R9: 0
A10: 神戸支所 | E10: =IF(ISERROR(D10/C10),"",D10/C10) | H10: =IF(ISERROR(G10/F10),"",G10/F10) | K10: =IF(ISERROR(J10/I10),"",J10/I10) | L10: =B10 -> 0 | M10: =I10 -> 0 | N10: =J10 -> 0 | O10: =IF(ISERROR(N10/M10),"",N10/M10) | P10: =IF(ISERROR(N10/Q10),"",N10/Q10) | Q10: 0 | R10: 0
A11: 大阪出張所 | E11: =IF(ISERROR(D11/C11),"",D11/C11) | H11: =IF(ISERROR(G11/F11),"",G11/F11) | K11: =IF(ISERROR(J11/I11),"",J11/I11) | L11: =B11 -> 0 | M11: =I11 -> 0 | N11: =J11 -> 0 | O11: =IF(ISERROR(N11/M11),"",N11/M11) | P11: =IF(ISERROR(N11/Q11),"",N11/Q11) | Q11: 0 | R11: 0
A12: 広島空港出張所 | E12: =IF(ISERROR(D12/C12),"",D12/C12) | H12: =IF(ISERROR(G12/F12),"",G12/F12) | K12: =IF(ISERROR(J12/I12),"",J12/I12) | L12: =B12 -> 0 | M12: =I12 -> 0 | N12: =J12 -> 0 | O12: =IF(ISERROR(N12/M12),"",N12/M12) | P12: =IF(ISERROR(N12/Q12),"",N12/Q12) | Q12: 0 | R12: 0
A13: 岡山空港出張所 | B13: 1 | E13: =IF(ISERROR(D13/C13),"",D13/C13) | F13: 25692 | G13: 24923 | H13: =IF(ISERROR(G13/F13),"",G13/F13) -> 0.9700685 | I13: 25692 | J13: 24923 | K13: =IF(ISERROR(J13/I13),"",J13/I13) -> 0.9700685 | L13: =B13 -> 1 | M13: =I13 -> 25692 | N13: =J13 -> 24923 | O13: =IF(ISERROR(N13/M13),"",N13/M13) -> 0.9700685 | P13: - | Q13: 0 | R13: 0
A14: 門司支所 | E14: =IF(ISERROR(D14/C14),"",D14/C14) | H14: =IF(ISERROR(G14/F14),"",G14/F14) | K14: =IF(ISERROR(J14/I14),"",J14/I14) | L14: =B14 -> 0 | M14: =I14 -> 0 | N14: =J14 -> 0 | O14: =IF(ISERROR(N14/M14),"",N14/M14) | P14: =IF(ISERROR(N14/Q14),"",N14/Q14) | Q14: 0 | R14: 0
A15: 博多出張所 | E15: =IF(ISERROR(D15/C15),"",D15/C15) | H15: =IF(ISERROR(G15/F15),"",G15/F15) | K15: =IF(ISERROR(J15/I15),"",J15/I15) | L15: =B15 -> 0 | M15: =I15 -> 0 | N15: =J15 -> 0 | O15: =IF(ISERROR(N15/M15),"",N15/M15) | P15: =IF(ISERROR(N15/Q15),"",N15/Q15) | Q15: 0 | R15: 0
A16: 福岡空港出張所 | E16: =IF(ISERROR(D16/C16),"",D16/C16) | H16: =IF(ISERROR(G16/F16),"",G16/F16) | K16: =IF(ISERROR(J16/I16),"",J16/I16) | L16: =B16 -> 0 | M16: =I16 -> 0 | N16: =J16 -> 0 | O16: =IF(ISERROR(N16/M16),"",N16/M16) | P16: =IF(ISERROR(N16/Q16),"",N16/Q16) | Q16: 0 | R16: 0
A17: 鹿児島空港出張所 | E17: =IF(ISERROR(D17/C17),"",D17/C17) | H17: =IF(ISERROR(G17/F17),"",G17/F17) | K17: =IF(ISERROR(J17/I17),"",J17/I17) | L17: =B17 -> 0 | M17: =I17 -> 0 | N17: =J17 -> 0 | O17: =IF(ISERROR(N17/M17),"",N17/M17) | P17: =IF(ISERROR(N17/Q17),"",N17/Q17) | Q17: 0 | R17: 0
A18: 沖縄支所 | E18: =IF(ISERROR(D18/C18),"",D18/C18) | H18: =IF(ISERROR(G18/F18),"",G18/F18) | K18: =IF(ISERROR(J18/I18),"",J18/I18) | L18: =B18 -> 0 | M18: =I18 -> 0 | N18: =J18 -> 0 | O18: =IF(ISERROR(N18/M18),"",N18/M18) | P18: =IF(ISERROR(N18/Q18),"",N18/Q18) | Q18: 0 | R18: 0
A19: 合計 | B19: =SUM(B3:B18) -> 1 | C19: =SUM(C3:C18) -> 0 | D19: =SUM(D3:D18) -> 0 | E19: =IF(ISERROR(D19/C19),"",D19/C19) | F19: =SUM(F3:F18) -> 25692 | G19: =SUM(G3:G18) -> 24923 | H19: =IF(ISERROR(G19/F19),"",G19/F19) -> 0.9700685 | I19: =SUM(I3:I18) -> 25692 | J19: =SUM(J3:J18) -> 24923 | K19: =IF(ISERROR(J19/I19),"",J19/I19) -> 0.9700685 | Q19: =N23 -> 0 | R19: =J20 -> 0
A20: 前年同期合計
A21: 対前年比(%) | B21: - | C21: =IFERROR(C19/C20,"") | D21: =IFERROR(D19/D20,"") | F21: - | G21: - | I21: - | J21: -
A22: 累計 | B22: =B19 -> 1 | C22: =C19 -> 0 | D22: =D19 -> 0 | E22: =IF(ISERROR(D22/C22)," ",(D22/C22)) | F22: =F19 -> 25692 | G22: =G19 -> 24923 | H22: =IF(ISERROR(G22/F22)," ",(G22/F22)) -> 0.9700685 | L22: =SUM(L3:L18) -> 1 | M22: =SUM(M3:M18) -> 25692 | N22: =SUM(N3:N18) -> 24923 | O22: =IF(ISERROR(N22/M22),"",N22/M22) -> 0.9700685 | P22: -
A23: 前年同期累計
A24: 対前年比(%) | B24: - | C24: =IFERROR(C22/C23,"") | D24: =IFERROR(D22/D23,"") | F24: - | G24: - | L24: - | M24: - | N24: -

Sheet ２月
D1: 卵 用 鶏 | G1: 肉 用 鶏 | J1: 合 計 | N1: 累 計 | P1: Bの対前年
A2: 所別 | B2: 件数 | C2: 入検(A) | D2: 解放(B) | E2: B/A | F2: 入検(A) | G2: 解放(B) | H2: B/A | I2: 入検(A) | J2: 解放(B) | K2: B/A | L2: 件数 | M2: 入検(A) | N2: 解放(B) | O2: B/A | P2: 同期比 (%) | Q2: 前年同期累計 | R2: 前年同期合計
A3: 横浜本所 | B3: 2 | E3: =IF(ISERROR(D3/C3),"",D3/C3) | F3: 32494 | G3: 31122 | H3: =IF(ISERROR(G3/F3),"",G3/F3) -> 0.95777682 | I3: 32494 | J3: 31122 | K3: =IF(ISERROR(J3/I3),"",J3/I3) -> 0.95777682 | L3: =B3+'１月'!L3 -> 2 | M3: =I3+'１月'!M3 -> 32494 | N3: =J3+'１月'!N3 -> 31122 | O3: =IF(ISERROR(N3/M3),"",N3/M3) -> 0.95777682 | P3: - | Q3: 0 | R3: 0
A4: 静岡出張所 | E4: =IF(ISERROR(D4/C4),"",D4/C4) | H4: =IF(ISERROR(G4/F4),"",G4/F4) | K4: =IF(ISERROR(J4/I4),"",J4/I4) | L4: =B4+'１月'!L4 -> 0 | M4: =I4+'１月'!M4 -> 0 | N4: =J4+'１月'!N4 -> 0 | O4: =IF(ISERROR(N4/M4),"",N4/M4) | P4: =IF(ISERROR(N4/Q4),"",N4/Q4) | Q4: 0 | R4: 0
A5: 北海道・東北支所 | E5: =IF(ISERROR(D5/C5),"",D5/C5) | H5: =IF(ISERROR(G5/F5),"",G5/F5) | K5: =IF(ISERROR(J5/I5),"",J5/I5) | L5: =B5+'１月'!L5 -> 0 | M5: =I5+'１月'!M5 -> 0 | N5: =J5+'１月'!N5 -> 0 | O5: =IF(ISERROR(N5/M5),"",N5/M5) | P5: =IF(ISERROR(N5/Q5),"",N5/Q5) | Q5: 0 | R5: 0
A6: 仙台空港出張所 | E6: =IF(ISERROR(D6/C6),"",D6/C6) | H6: =IF(ISERROR(G6/F6),"",G6/F6) | K6: =IF(ISERROR(J6/I6),"",J6/I6) | L6: =B6+'１月'!L6 -> 0 | M6: =I6+'１月'!M6 -> 0 | N6: =J6+'１月'!N6 -> 0 | O6: =IF(ISERROR(N6/M6),"",N6/M6) | P6: =IF(ISERROR(N6/Q6),"",N6/Q6) | Q6: 0 | R6: 0
A7: 成田支所 | E7: =IF(ISERROR(D7/C7),"",D7/C7) | H7: =IF(ISERROR(G7/F7),"",G7/F7) | K7: =IF(ISERROR(J7/I7),"",J7/I7) | L7: =B7+'１月'!L7 -> 0 | M7: =I7+'１月'!M7 -> 0 | N7: =J7+'１月'!N7 -> 0 | O7: =IF(ISERROR(N7/M7),"",N7/M7) | P7: =IF(ISERROR(N7/Q7),"",N7/Q7) | Q7: 0 | R7: 0
A8: 中部空港支所 | E8: =IF(ISERROR(D8/C8),"",D8/C8) | H8: =IF(ISERROR(G8/F8),"",G8/F8) | K8: =IF(ISERROR(J8/I8),"",J8/I8) | L8: =B8+'１月'!L8 -> 0 | M8: =I8+'１月'!M8 -> 0 | N8: =J8+'１月'!N8 -> 0 | O8: =IF(ISERROR(N8/M8),"",N8/M8) | P8: =IF(ISERROR(N8/Q8),"",N8/Q8)
A9: 名古屋出張所 | E9: =IF(ISERROR(D9/C9),"",D9/C9) | H9: =IF(ISERROR(G9/F9),"",G9/F9) | K9: =IF(ISERROR(J9/I9),"",J9/I9) | L9: =B9+'１月'!L9 -> 0 | M9: =I9+'１月'!M9 -> 0 | N9: =J9+'１月'!N9 -> 0 | O9: =IF(ISERROR(N9/M9),"",N9/M9) | P9: =IF(ISERROR(N9/Q9),"",N9/Q9)
A10: 神戸支所 | E10: =IF(ISERROR(D10/C10),"",D10/C10) | H10: =IF(ISERROR(G10/F10),"",G10/F10) | K10: =IF(ISERROR(J10/I10),"",J10/I10) | L10: =B10+'１月'!L10 -> 0 | M10: =I10+'１月'!M10 -> 0 | N10: =J10+'１月'!N10 -> 0 | O10: =IF(ISERROR(N10/M10),"",N10/M10) | P10: =IF(ISERROR(N10/Q10),"",N10/Q10)
A11: 大阪出張所 | E11: =IF(ISERROR(D11/C11),"",D11/C11) | H11: =IF(ISERROR(G11/F11),"",G11/F11) | K11: =IF(ISERROR(J11/I11),"",J11/I11) | L11: =B11+'１月'!L11 -> 0 | M11: =I11+'１月'!M11 -> 0 | N11: =J11+'１月'!N11 -> 0 | O11: =IF(ISERROR(N11/M11),"",N11/M11) | P11: =IF(ISERROR(N11/Q11),"",N11/Q11)
A12: 広島空港出張所 | E12: =IF(ISERROR(D12/C12),"",D12/C12) | H12: =IF(ISERROR(G12/F12),"",G12/F12) | K12: =IF(ISERROR(J12/I12),"",J12/I12) | L12: =B12+'１月'!L12 -> 0 | M12: =I12+'１月'!M12 -> 0 | N12: =J12+'１月'!N12 -> 0 | O12: =IF(ISERROR(N12/M12),"",N12/M12) | P12: =IF(ISERROR(N12/Q12),"",N12/Q12)
A13: 岡山空港出張所 | E13: =IF(ISERROR(D13/C13),"",D13/C13) | H13: =IF(ISERROR(G13/F13),"",G13/F13) | K13: =IF(ISERROR(J13/I13),"",J13/I13) | L13: =B13+'１月'!L13 -> 1 | M13: =I13+'１月'!M13 -> 25692 | N13: =J13+'１月'!N13 -> 24923 | O13: =IF(ISERROR(N13/M13),"",N13/M13) -> 0.9700685 | P13: -
A14: 門司支所 | E14: =IF(ISERROR(D14/C14),"",D14/C14) | H14: =IF(ISERROR(G14/F14),"",G14/F14) | K14: =IF(ISERROR(J14/I14),"",J14/I14) | L14: =B14+'１月'!L14 -> 0 | M14: =I14+'１月'!M14 -> 0 | N14: =J14+'１月'!N14 -> 0 | O14: =IF(ISERROR(N14/M14),"",N14/M14) | P14: =IF(ISERROR(N14/Q14),"",N14/Q14)
A15: 博多出張所 | E15: =IF(ISERROR(D15/C15),"",D15/C15) | H15: =IF(ISERROR(G15/F15),"",G15/F15) | K15: =IF(ISERROR(J15/I15),"",J15/I15) | L15: =B15+'１月'!L15 -> 0 | M15: =I15+'１月'!M15 -> 0 | N15: =J15+'１月'!N15 -> 0 | O15: =IF(ISERROR(N15/M15),"",N15/M15) | P15: =IF(ISERROR(N15/Q15),"",N15/Q15) | Q15: 0 | R15: 0
A16: 福岡空港出張所 | E16: =IF(ISERROR(D16/C16),"",D16/C16) | H16: =IF(ISERROR(G16/F16),"",G16/F16) | K16: =IF(ISERROR(J16/I16),"",J16/I16) | L16: =B16+'１月'!L16 -> 0 | M16: =I16+'１月'!M16 -> 0 | N16: =J16+'１月'!N16 -> 0 | O16: =IF(ISERROR(N16/M16),"",N16/M16) | P16: =IF(ISERROR(N16/Q16),"",N16/Q16) | Q16: 0 | R16: 0
A17: 鹿児島空港出張所 | E17: =IF(ISERROR(D17/C17),"",D17/C17) | H17: =IF(ISERROR(G17/F17),"",G17/F17) | K17: =IF(ISERROR(J17/I17),"",J17/I17) | L17: =B17+'１月'!L17 -> 0 | M17: =I17+'１月'!M17 -> 0 | N17: =J17+'１月'!N17 -> 0 | O17: =IF(ISERROR(N17/M17),"",N17/M17) | P17: =IF(ISERROR(N17/Q17),"",N17/Q17) | Q17: 0 | R17: 0
A18: 沖縄支所 | E18: =IF(ISERROR(D18/C18),"",D18/C18) | H18: =IF(ISERROR(G18/F18),"",G18/F18) | K18: =IF(ISERROR(J18/I18),"",J18/I18) | L18: =B18+'１月'!L18 -> 0 | M18: =I18+'１月'!M18 -> 0 | N18: =J18+'１月'!N18 -> 0 | O18: =IF(ISERROR(N18/M18),"",N18/M18) | P18: =IF(ISERROR(N18/Q18),"",N18/Q18) | Q18: 0 | R18: 0
A19: 合計 | B19: =SUM(B3:B18) -> 2 | C19: =SUM(C3:C18) -> 0 | D19: =SUM(D3:D18) -> 0 | E19: =IF(ISERROR(D19/C19),"",D19/C19) | F19: =SUM(F3:F18) -> 32494 | G19: =SUM(G3:G18) -> 31122 | H19: =IF(ISERROR(G19/F19),"",G19/F19) -> 0.95777682 | I19: =SUM(I3:I18) -> 32494 | J19: =SUM(J3:J18) -> 31122 | K19: =IF(ISERROR(J19/I19),"",J19/I19) -> 0.95777682 | Q19: =N23 -> 0 | R19: =J20 -> 0
A20: 前年同期合計
A21: 対前年比(%) | B21: - | C21: =IFERROR(C19/C20,"") | D21: =IFERROR(D19/D20,"") | F21: - | G21: - | I21: - | J21: -
A22: 累計 | B22: =B19+'１月'!B22 -> 3 | C22: =C19+'１月'!C22 -> 0 | D22: =D19+'１月'!D22 -> 0 | E22: =IF(ISERROR(D22/C22)," ",(D22/C22)) | F22: =F19+'１月'!F22 -> 58186 | G22: =G19+'１月'!G22 -> 56045 | H22: =IF(ISERROR(G22/F22)," ",(G22/F22)) -> 0.96320421 | L22: =SUM(L3:L18) -> 3 | M22: =SUM(M3:M18) -> 58186 | N22: =SUM(N3:N18) -> 56045 | O22: =IF(ISERROR(N22/M22),"",N22/M22) -> 0.96320421 | P22: -
A23: 前年同期累計
A24: 対前年比(%) | B24: - | C24: =IFERROR(C22/C23,"") | D24: =IFERROR(D22/D23,"") | F24: - | G24: - | L24: - | M24: - | N24: -

Sheet ３月
D1: 卵 用 鶏 | G1: 肉 用 鶏 | J1: 合 計 | N1: 累 計 | P1: Bの対前年
A2: 所別 | B2: 件数 | C2: 入検(A) | D2: 解放(B) | E2: B/A | F2: 入検(A) | G2: 解放(B) | H2: B/A | I2: 入検(A) | J2: 解放(B) | K2: B/A | L2: 件数 | M2: 入検(A) | N2: 解放(B) | O2: B/A | P2: 同期比 (%) | Q2: 前年同期累計 | R2: 前年同期合計
A3: 横浜本所 | E3: =IF(ISERROR(D3/C3),"",D3/C3) | H3: =IF(ISERROR(G3/F3),"",G3/F3) | K3: =IF(ISERROR(J3/I3),"",J3/I3) | L3: =B3+'２月'!L3 -> 2 | M3: =I3+'２月'!M3 -> 32494 | N3: =J3+'２月'!N3 -> 31122 | O3: =IF(ISERROR(N3/M3),"",N3/M3) -> 0.95777682 | P3: -
A4: 静岡出張所 | E4: =IF(ISERROR(D4/C4),"",D4/C4) | H4: =IF(ISERROR(G4/F4),"",G4/F4) | K4: =IF(ISERROR(J4/I4),"",J4/I4) | L4: =B4+'２月'!L4 -> 0 | M4: =I4+'２月'!M4 -> 0 | N4: =J4+'２月'!N4 -> 0 | O4: =IF(ISERROR(N4/M4),"",N4/M4) | P4: =IF(ISERROR(N4/Q4),"",N4/Q4)
A5: 北海道・東北支所 | E5: =IF(ISERROR(D5/C5),"",D5/C5) | H5: =IF(ISERROR(G5/F5),"",G5/F5) | K5: =IF(ISERROR(J5/I5),"",J5/I5) | L5: =B5+'２月'!L5 -> 0 | M5: =I5+'２月'!M5 -> 0 | N5: =J5+'２月'!N5 -> 0 | O5: =IF(ISERROR(N5/M5),"",N5/M5) | P5: =IF(ISERROR(N5/Q5),"",N5/Q5)
A6: 仙台空港出張所 | E6: =IF(ISERROR(D6/C6),"",D6/C6) | H6: =IF(ISERROR(G6/F6),"",G6/F6) | K6: =IF(ISERROR(J6/I6),"",J6/I6) | L6: =B6+'２月'!L6 -> 0 | M6: =I6+'２月'!M6 -> 0 | N6: =J6+'２月'!N6 -> 0 | O6: =IF(ISERROR(N6/M6),"",N6/M6) | P6: =IF(ISERROR(N6/Q6),"",N6/Q6)
A7: 成田支所 | E7: =IF(ISERROR(D7/C7),"",D7/C7) | H7: =IF(ISERROR(G7/F7),"",G7/F7) | K7: =IF(ISERROR(J7/I7),"",J7/I7) | L7: =B7+'２月'!L7 -> 0 | M7: =I7+'２月'!M7 -> 0 | N7: =J7+'２月'!N7 -> 0 | O7: =IF(ISERROR(N7/M7),"",N7/M7) | P7: =IF(ISERROR(N7/Q7),"",N7/Q7)
A8: 中部空港支所 | E8: =IF(ISERROR(D8/C8),"",D8/C8) | H8: =IF(ISERROR(G8/F8),"",G8/F8) | K8: =IF(ISERROR(J8/I8),"",J8/I8) | L8: =B8+'２月'!L8 -> 0 | M8: =I8+'２月'!M8 -> 0 | N8: =J8+'２月'!N8 -> 0 | O8: =IF(ISERROR(N8/M8),"",N8/M8) | P8: =IF(ISERROR(N8/Q8),"",N8/Q8)
A9: 名古屋出張所 | E9: =IF(ISERROR(D9/C9),"",D9/C9) | H9: =IF(ISERROR(G9/F9),"",G9/F9) | K9: =IF(ISERROR(J9/I9),"",J9/I9) | L9: =B9+'２月'!L9 -> 0 | M9: =I9+'２月'!M9 -> 0 | N9: =J9+'２月'!N9 -> 0 | O9: =IF(ISERROR(N9/M9),"",N9/M9) | P9: =IF(ISERROR(N9/Q9),"",N9/Q9)
A10: 神戸支所 | E10: =IF(ISERROR(D10/C10),"",D10/C10) | H10: =IF(ISERROR(G10/F10),"",G10/F10) | K10: =IF(ISERROR(J10/I10),"",J10/I10) | L10: =B10+'２月'!L10 -> 0 | M10: =I10+'２月'!M10 -> 0 | N10: =J10+'２月'!N10 -> 0 | O10: =IF(ISERROR(N10/M10),"",N10/M10) | P10: =IF(ISERROR(N10/Q10),"",N10/Q10)
A11: 大阪出張所 | E11: =IF(ISERROR(D11/C11),"",D11/C11) | H11: =IF(ISERROR(G11/F11),"",G11/F11) | K11: =IF(ISERROR(J11/I11),"",J11/I11) | L11: =B11+'２月'!L11 -> 0 | M11: =I11+'２月'!M11 -> 0 | N11: =J11+'２月'!N11 -> 0 | O11: =IF(ISERROR(N11/M11),"",N11/M11) | P11: =IF(ISERROR(N11/Q11),"",N11/Q11)
A12: 広島空港出張所 | E12: =IF(ISERROR(D12/C12),"",D12/C12) | H12: =IF(ISERROR(G12/F12),"",G12/F12) | K12: =IF(ISERROR(J12/I12),"",J12/I12) | L12: =B12+'２月'!L12 -> 0 | M12: =I12+'２月'!M12 -> 0 | N12: =J12+'２月'!N12 -> 0 | O12: =IF(ISERROR(N12/M12),"",N12/M12) | P12: =IF(ISERROR(N12/Q12),"",N12/Q12)
A13: 岡山空港出張所 | E13: =IF(ISERROR(D13/C13),"",D13/C13) | H13: =IF(ISERROR(G13/F13),"",G13/F13) | K13: =IF(ISERROR(J13/I13),"",J13/I13) | L13: =B13+'２月'!L13 -> 1 | M13: =I13+'２月'!M13 -> 25692 | N13: =J13+'２月'!N13 -> 24923 | O13: =IF(ISERROR(N13/M13),"",N13/M13) -> 0.9700685 | P13: -
A14: 門司支所 | E14: =IF(ISERROR(D14/C14),"",D14/C14) | H14: =IF(ISERROR(G14/F14),"",G14/F14) | K14: =IF(ISERROR(J14/I14),"",J14/I14) | L14: =B14+'２月'!L14 -> 0 | M14: =I14+'２月'!M14 -> 0 | N14: =J14+'２月'!N14 -> 0 | O14: =IF(ISERROR(N14/M14),"",N14/M14) | P14: =IF(ISERROR(N14/Q14),"",N14/Q14)
A15: 博多出張所 | E15: =IF(ISERROR(D15/C15),"",D15/C15) | H15: =IF(ISERROR(G15/F15),"",G15/F15) | K15: =IF(ISERROR(J15/I15),"",J15/I15) | L15: =B15+'２月'!L15 -> 0 | M15: =I15+'２月'!M15 -> 0 | N15: =J15+'２月'!N15 -> 0 | O15: =IF(ISERROR(N15/M15),"",N15/M15) | P15: =IF(ISERROR(N15/Q15),"",N15/Q15) | Q15: 0 | R15: 0
A16: 福岡空港出張所 | E16: =IF(ISERROR(D16/C16),"",D16/C16) | H16: =IF(ISERROR(G16/F16),"",G16/F16) | K16: =IF(ISERROR(J16/I16),"",J16/I16) | L16: =B16+'２月'!L16 -> 0 | M16: =I16+'２月'!M16 -> 0 | N16: =J16+'２月'!N16 -> 0 | O16: =IF(ISERROR(N16/M16),"",N16/M16) | P16: =IF(ISERROR(N16/Q16),"",N16/Q16) | Q16: 0 | R16: 0
A17: 鹿児島空港出張所 | E17: =IF(ISERROR(D17/C17),"",D17/C17) | H17: =IF(ISERROR(G17/F17),"",G17/F17) | K17: =IF(ISERROR(J17/I17),"",J17/I17) | L17: =B17+'２月'!L17 -> 0 | M17: =I17+'２月'!M17 -> 0 | N17: =J17+'２月'!N17 -> 0 | O17: =IF(ISERROR(N17/M17),"",N17/M17) | P17: =IF(ISERROR(N17/Q17),"",N17/Q17) | Q17: 0 | R17: 0
A18: 沖縄支所 | E18: =IF(ISERROR(D18/C18),"",D18/C18) | H18: =IF(ISERROR(G18/F18),"",G18/F18) | K18: =IF(ISERROR(J18/I18),"",J18/I18) | L18: =B18+'２月'!L18 -> 0 | M18: =I18+'２月'!M18 -> 0 | N18: =J18+'２月'!N18 -> 0 | O18: =IF(ISERROR(N18/M18),"",N18/M18) | P18: =IF(ISERROR(N18/Q18),"",N18/Q18) | Q18: 0 | R18: 0
A19: 合計 | B19: =SUM(B3:B18) -> 0 | C19: =SUM(C3:C18) -> 0 | D19: =SUM(D3:D18) -> 0 | E19: =IF(ISERROR(D19/C19),"",D19/C19) | F19: =SUM(F3:F18) -> 0 | G19: =SUM(G3:G18) -> 0 | H19: =IF(ISERROR(G19/F19),"",G19/F19) | I19: =SUM(I3:I18) -> 0 | J19: =SUM(J3:J18) -> 0 | K19: =IF(ISERROR(J19/I19),"",J19/I19) | Q19: =N23 -> 0 | R19: =J20 -> 0
A20: 前年同期合計
A21: 対前年比(%) | B21: =IFERROR(B19/B20,"") | C21: =IFERROR(C19/C20,"") | D21: =IFERROR(D19/D20,"") | F21: =IFERROR(F19/F20,"") | G21: =IFERROR(G19/G20,"") | I21: =IFERROR(I19/I20,"") | J21: =IFERROR(J19/J20,"")
A22: 累計 | B22: =B19+'２月'!B22 -> 3 | C22: =C19+'２月'!C22 -> 0 | D22: =D19+'２月'!D22 -> 0 | E22: =IF(ISERROR(D22/C22)," ",(D22/C22)) | F22: =F19+'２月'!F22 -> 58186 | G22: =G19+'２月'!G22 -> 56045 | H22: =IF(ISERROR(G22/F22)," ",(G22/F22)) -> 0.96320421 | L22: =SUM(L3:L18) -> 3 | M22: =SUM(M3:M18) -> 58186 | N22: =SUM(N3:N18) -> 56045 | O22: =IF(ISERROR(N22/M22),"",N22/M22) -> 0.96320421 | P22: =N22/Q19 -> #DIV/0!
A23: 前年同期累計
A24: 対前年比(%) | B24: - | C24: =IFERROR(C22/C23,"") | D24: =IFERROR(D22/D23,"") | F24: - | G24: - | L24: - | M24: - | N24: -

Sheet ４月
D1: 卵 用 鶏 | G1: 肉 用 鶏 | J1: 合 計 | N1: 累 計 | P1: Bの対前年
A2: 所別 | B2: 件数 | C2: 入検(A) | D2: 解放(B) | E2: B/A | F2: 入検(A) | G2: 解放(B) | H2: B/A | I2: 入検(A) | J2: 解放(B) | K2: B/A | L2: 件数 | M2: 入検(A) | N2: 解放(B) | O2: B/A | P2: 同期比 (%) | Q2: 前年同期累計 | R2: 前年同期合計
A3: 横浜本所 | E3: =IF(ISERROR(D3/C3),"",D3/C3) | H3: =IF(ISERROR(G3/F3),"",G3/F3) | K3: =IF(ISERROR(J3/I3),"",J3/I3) | L3: =B3+'３月'!L3 -> 2 | M3: =I3+'３月'!M3 -> 32494 | N3: =J3+'３月'!N3 -> 31122 | O3: =IF(ISERROR(N3/M3),"",N3/M3) -> 0.95777682 | P3: =IF(ISERROR(N3/Q3),"",N3/Q3) -> 1.3830156 | Q3: 22503 | R3: 22503
A4: 静岡出張所 | E4: =IF(ISERROR(D4/C4),"",D4/C4) | H4: =IF(ISERROR(G4/F4),"",G4/F4) | K4: =IF(ISERROR(J4/I4),"",J4/I4) | L4: =B4+'３月'!L4 -> 0 | M4: =I4+'３月'!M4 -> 0 | N4: =J4+'３月'!N4 -> 0 | O4: =IF(ISERROR(N4/M4),"",N4/M4) | P4: =IF(ISERROR(N4/Q4),"",N4/Q4)
A5: 北海道・東北支所 | E5: =IF(ISERROR(D5/C5),"",D5/C5) | H5: =IF(ISERROR(G5/F5),"",G5/F5) | K5: =IF(ISERROR(J5/I5),"",J5/I5) | L5: =B5+'３月'!L5 -> 0 | M5: =I5+'３月'!M5 -> 0 | N5: =J5+'３月'!N5 -> 0 | O5: =IF(ISERROR(N5/M5),"",N5/M5) | P5: =IF(ISERROR(N5/Q5),"",N5/Q5)
A6: 仙台空港出張所 | B6: 1 | C6: 11086 | D6: 10541 | E6: =IF(ISERROR(D6/C6),"",D6/C6) -> 0.9508389 | H6: =IF(ISERROR(G6/F6),"",G6/F6) | I6: 11086 | J6: 10541 | K6: =IF(ISERROR(J6/I6),"",J6/I6) -> 0.9508389 | L6: =B6+'３月'!L6 -> 1 | M6: =I6+'３月'!M6 -> 11086 | N6: =J6+'３月'!N6 -> 10541 | O6: =IF(ISERROR(N6/M6),"",N6/M6) -> 0.9508389 | P6: -
A7: 成田支所 | E7: =IF(ISERROR(D7/C7),"",D7/C7) | H7: =IF(ISERROR(G7/F7),"",G7/F7) | K7: =IF(ISERROR(J7/I7),"",J7/I7) | L7: =B7+'３月'!L7 -> 0 | M7: =I7+'３月'!M7 -> 0 | N7: =J7+'３月'!N7 -> 0 | O7: =IF(ISERROR(N7/M7),"",N7/M7) | P7: =IF(ISERROR(N7/Q7),"",N7/Q7)
A8: 中部空港支所 | E8: =IF(ISERROR(D8/C8),"",D8/C8) | H8: =IF(ISERROR(G8/F8),"",G8/F8) | K8: =IF(ISERROR(J8/I8),"",J8/I8) | L8: =B8+'３月'!L8 -> 0 | M8: =I8+'３月'!M8 -> 0 | N8: =J8+'３月'!N8 -> 0 | O8: =IF(ISERROR(N8/M8),"",N8/M8) | P8: =IF(ISERROR(N8/Q8),"",N8/Q8)
A9: 名古屋出張所 | E9: =IF(ISERROR(D9/C9),"",D9/C9) | H9: =IF(ISERROR(G9/F9),"",G9/F9) | K9: =IF(ISERROR(J9/I9),"",J9/I9) | L9: =B9+'３月'!L9 -> 0 | M9: =I9+'３月'!M9 -> 0 | N9: =J9+'３月'!N9 -> 0 | O9: =IF(ISERROR(N9/M9),"",N9/M9) | P9: =IF(ISERROR(N9/Q9),"",N9/Q9)
A10: 神戸支所 | E10: =IF(ISERROR(D10/C10),"",D10/C10) | H10: =IF(ISERROR(G10/F10),"",G10/F10) | K10: =IF(ISERROR(J10/I10),"",J10/I10) | L10: =B10+'３月'!L10 -> 0 | M10: =I10+'３月'!M10 -> 0 | N10: =J10+'３月'!N10 -> 0 | O10: =IF(ISERROR(N10/M10),"",N10/M10) | P10: =IF(ISERROR(N10/Q10),"",N10/Q10)
A11: 大阪出張所 | E11: =IF(ISERROR(D11/C11),"",D11/C11) | H11: =IF(ISERROR(G11/F11),"",G11/F11) | K11: =IF(ISERROR(J11/I11),"",J11/I11) | L11: =B11+'３月'!L11 -> 0 | M11: =I11+'３月'!M11 -> 0 | N11: =J11+'３月'!N11 -> 0 | O11: =IF(ISERROR(N11/M11),"",N11/M11) | P11: =IF(ISERROR(N11/Q11),"",N11/Q11)
A12: 広島空港出張所 | E12: =IF(ISERROR(D12/C12),"",D12/C12) | H12: =IF(ISERROR(G12/F12),"",G12/F12) | K12: =IF(ISERROR(J12/I12),"",J12/I12) | L12: =B12+'３月'!L12 -> 0 | M12: =I12+'３月'!M12 -> 0 | N12: =J12+'３月'!N12 -> 0 | O12: =IF(ISERROR(N12/M12),"",N12/M12) | P12: =IF(ISERROR(N12/Q12),"",N12/Q12)
A13: 岡山空港出張所 | B13: 1 | E13: =IF(ISERROR(D13/C13),"",D13/C13) | F13: 25127 | G13: 24334 | H13: =IF(ISERROR(G13/F13),"",G13/F13) -> 0.96844032 | I13: 25127 | J13: 24334 | K13: =IF(ISERROR(J13/I13),"",J13/I13) -> 0.96844032 | L13: =B13+'３月'!L13 -> 2 | M13: =I13+'３月'!M13 -> 50819 | N13: =J13+'３月'!N13 -> 49257 | O13: =IF(ISERROR(N13/M13),"",N13/M13) -> 0.96926346 | P13: -
A14: 門司支所 | E14: =IF(ISERROR(D14/C14),"",D14/C14) | H14: =IF(ISERROR(G14/F14),"",G14/F14) | K14: =IF(ISERROR(J14/I14),"",J14/I14) | L14: =B14+'３月'!L14 -> 0 | M14: =I14+'３月'!M14 -> 0 | N14: =J14+'３月'!N14 -> 0 | O14: =IF(ISERROR(N14/M14),"",N14/M14) | P14: =IF(ISERROR(N14/Q14),"",N14/Q14)
A15: 博多出張所 | E15: =IF(ISERROR(D15/C15),"",D15/C15) | H15: =IF(ISERROR(G15/F15),"",G15/F15) | K15: =IF(ISERROR(J15/I15),"",J15/I15) | L15: =B15+'３月'!L15 -> 0 | M15: =I15+'３月'!M15 -> 0 | N15: =J15+'３月'!N15 -> 0 | O15: =IF(ISERROR(N15/M15),"",N15/M15) | P15: =IF(ISERROR(N15/Q15),"",N15/Q15)
A16: 福岡空港出張所 | E16: =IF(ISERROR(D16/C16),"",D16/C16) | H16: =IF(ISERROR(G16/F16),"",G16/F16) | K16: =IF(ISERROR(J16/I16),"",J16/I16) | L16: =B16+'３月'!L16 -> 0 | M16: =I16+'３月'!M16 -> 0 | N16: =J16+'３月'!N16 -> 0 | O16: =IF(ISERROR(N16/M16),"",N16/M16) | P16: =IF(ISERROR(N16/Q16),"",N16/Q16)
A17: 鹿児島空港出張所 | E17: =IF(ISERROR(D17/C17),"",D17/C17) | H17: =IF(ISERROR(G17/F17),"",G17/F17) | K17: =IF(ISERROR(J17/I17),"",J17/I17) | L17: =B17+'３月'!L17 -> 0 | M17: =I17+'３月'!M17 -> 0 | N17: =J17+'３月'!N17 -> 0 | O17: =IF(ISERROR(N17/M17),"",N17/M17) | P17: =IF(ISERROR(N17/Q17),"",N17/Q17)
A18: 沖縄支所 | E18: =IF(ISERROR(D18/C18),"",D18/C18) | H18: =IF(ISERROR(G18/F18),"",G18/F18) | K18: =IF(ISERROR(J18/I18),"",J18/I18) | L18: =B18+'３月'!L18 -> 0 | M18: =I18+'３月'!M18 -> 0 | N18: =J18+'３月'!N18 -> 0 | O18: =IF(ISERROR(N18/M18),"",N18/M18) | P18: =IF(ISERROR(N18/Q18),"",N18/Q18)
A19: 合計 | B19: =SUM(B3:B18) -> 2 | C19: =SUM(C3:C18) -> 11086 | D19: =SUM(D3:D18) -> 10541 | E19: =IF(ISERROR(D19/C19),"",D19/C19) -> 0.9508389 | F19: =SUM(F3:F18) -> 25127 | G19: =SUM(G3:G18) -> 24334 | H19: =IF(ISERROR(G19/F19),"",G19/F19) -> 0.96844032 | I19: =SUM(I3:I18) -> 36213 | J19: =SUM(J3:J18) -> 34875 | K19: =IF(ISERROR(J19/I19),"",J19/I19) -> 0.96305194 | L19: =IF(ISERROR(N19/M19),"",N19/M19) | P19: =IF(ISERROR(N19/Q19),"",N19/Q19) -> 0 | Q19: =N23 -> 22503 | R19: =J20 -> 22503
A20: 前年同期合計 | B20: 1 | C20: 0 | D20: 0 | F20: 23274 | G20: 22503 | H20: 0.96687291 | I20: 23274 | J20: 22503 | K20: 0.96687291
A21: 対前年比(%) | B21: =IFERROR(B19/B20,"") -> 2 | C21: - | D21: - | F21: =IFERROR(F19/F20,"") -> 1.0796167 | G21: =IFERROR(G19/G20,"") -> 1.0813669 | I21: =IFERROR(I19/I20,"") -> 1.5559423 | J21: =IFERROR(J19/J20,"") -> 1.5497934
A22: 累計 | B22: =B19+'３月'!B22 -> 5 | C22: =C19+'３月'!C22 -> 11086 | D22: =D19+'３月'!D22 -> 10541 | E22: =IF(ISERROR(D22/C22)," ",(D22/C22)) -> 0.9508389 | F22: =F19+'３月'!F22 -> 83313 | G22: =G19+'３月'!G22 -> 80379 | H22: =IF(ISERROR(G22/F22)," ",(G22/F22)) -> 0.96478341 | L22: =SUM(L3:L18) -> 5 | M22: =SUM(M3:M18) -> 94399 | N22: =SUM(N3:N18) -> 90920 | O22: =IF(ISERROR(N22/M22),"",N22/M22) -> 0.9631458 | P22: =N22/Q19 -> 4.0403502
A23: 前年同期累計 | B23: 1 | C23: 0 | D23: 0 | F23: 23274 | G23: 22503 | H23: 0.96687291 | L23: 1 | M23: 23274 | N23: 22503 | O23: 0.96687291
A24: 対前年比(%) | B24: =IFERROR(B22/B23,"") -> 5 | C24: - | D24: - | F24: =IFERROR(F22/F23,"") -> 3.5796597 | G24: =IFERROR(G22/G23,"") -> 3.5719237 | L24: =IFERROR(L22/L23,"") -> 5 | M24: =IFERROR(M22/M23,"") -> 4.0559852 | N24: =IFERROR(N22/N23,"") -> 4.0403502

Sheet ５月
D1: 卵 用 鶏 | G1: 肉 用 鶏 | J1: 合 計 | N1: 累 計 | P1: Bの対前年
A2: 所別 | B2: 件数 | C2: 入検(A) | D2: 解放(B) | E2: B/A | F2: 入検(A) | G2: 解放(B) | H2: B/A | I2: 入検(A) | J2: 解放(B) | K2: B/A | L2: 件数 | M2: 入検(A) | N2: 解放(B) | O2: B/A | P2: 同期比 (%) | Q2: 前年同期累計 | R2: 前年同期合計
A3: 横浜本所 | B3: 1 | E3: =IF(ISERROR(D3/C3),"",D3/C3) | F3: 23052 | G3: 22348 | H3: =IF(ISERROR(G3/F3),"",G3/F3) -> 0.96946035 | I3: 23052 | J3: 22348 | K3: =IF(ISERROR(J3/I3),"",J3/I3) -> 0.96946035 | L3: =B3+'４月'!L3 -> 3 | M3: =I3+'４月'!M3 -> 55546 | N3: =J3+'４月'!N3 -> 53470 | O3: =IF(ISERROR(N3/M3),"",N3/M3) -> 0.96262557 | P3: =IF(ISERROR(N3/Q3),"",N3/Q3) -> 2.2974134 | Q3: 23274
A4: 静岡出張所 | E4: =IF(ISERROR(D4/C4),"",D4/C4) | H4: =IF(ISERROR(G4/F4),"",G4/F4) | K4: =IF(ISERROR(J4/I4),"",J4/I4) | L4: =B4+'４月'!L4 -> 0 | M4: =I4+'４月'!M4 -> 0 | N4: =J4+'４月'!N4 -> 0 | O4: =IF(ISERROR(N4/M4),"",N4/M4) | P4: =IF(ISERROR(N4/Q4),"",N4/Q4) | Q4: 0
A5: 北海道・東北支所 | E5: =IF(ISERROR(D5/C5),"",D5/C5) | H5: =IF(ISERROR(G5/F5),"",G5/F5) | K5: =IF(ISERROR(J5/I5),"",J5/I5) | L5: =B5+'４月'!L5 -> 0 | M5: =I5+'４月'!M5 -> 0 | N5: =J5+'４月'!N5 -> 0 | O5: =IF(ISERROR(N5/M5),"",N5/M5) | P5: =IF(ISERROR(N5/Q5),"",N5/Q5) | Q5: 0
A6: 仙台空港出張所 | E6: =IF(ISERROR(D6/C6),"",D6/C6) | H6: =IF(ISERROR(G6/F6),"",G6/F6) | K6: =IF(ISERROR(J6/I6),"",J6/I6) | L6: =B6+'４月'!L6 -> 1 | M6: =I6+'４月'!M6 -> 11086 | N6: =J6+'４月'!N6 -> 10541 | O6: =IF(ISERROR(N6/M6),"",N6/M6) -> 0.9508389 | P6: - | Q6: 0
A7: 成田支所 | E7: =IF(ISERROR(D7/C7),"",D7/C7) | H7: =IF(ISERROR(G7/F7),"",G7/F7) | K7: =IF(ISERROR(J7/I7),"",J7/I7) | L7: =B7+'４月'!L7 -> 0 | M7: =I7+'４月'!M7 -> 0 | N7: =J7+'４月'!N7 -> 0 | O7: =IF(ISERROR(N7/M7),"",N7/M7) | P7: =IF(ISERROR(N7/Q7),"",N7/Q7) | Q7: 0
A8: 中部空港支所 | E8: =IF(ISERROR(D8/C8),"",D8/C8) | H8: =IF(ISERROR(G8/F8),"",G8/F8) | K8: =IF(ISERROR(J8/I8),"",J8/I8) | L8: =B8+'４月'!L8 -> 0 | M8: =I8+'４月'!M8 -> 0 | N8: =J8+'４月'!N8 -> 0 | O8: =IF(ISERROR(N8/M8),"",N8/M8) | P8: =IF(ISERROR(N8/Q8),"",N8/Q8) | Q8: 0
A9: 名古屋出張所 | E9: =IF(ISERROR(D9/C9),"",D9/C9) | H9: =IF(ISERROR(G9/F9),"",G9/F9) | K9: =IF(ISERROR(J9/I9),"",J9/I9) | L9: =B9+'４月'!L9 -> 0 | M9: =I9+'４月'!M9 -> 0 | N9: =J9+'４月'!N9 -> 0 | O9: =IF(ISERROR(N9/M9),"",N9/M9) | P9: =IF(ISERROR(N9/Q9),"",N9/Q9) | Q9: 0
A10: 神戸支所 | E10: =IF(ISERROR(D10/C10),"",D10/C10) | H10: =IF(ISERROR(G10/F10),"",G10/F10) | K10: =IF(ISERROR(J10/I10),"",J10/I10) | L10: =B10+'４月'!L10 -> 0 | M10: =I10+'４月'!M10 -> 0 | N10: =J10+'４月'!N10 -> 0 | O10: =IF(ISERROR(N10/M10),"",N10/M10) | P10: 0% | Q10: 7138 | R10: 7047
A11: 大阪出張所 | E11: =IF(ISERROR(D11/C11),"",D11/C11) | H11: =IF(ISERROR(G11/F11),"",G11/F11) | K11: =IF(ISERROR(J11/I11),"",J11/I11) | L11: =B11+'４月'!L11 -> 0 | M11: =I11+'４月'!M11 -> 0 | N11: =J11+'４月'!N11 -> 0 | O11: =IF(ISERROR(N11/M11),"",N11/M11) | P11: =IF(ISERROR(N11/Q11),"",N11/Q11) | Q11: 0
A12: 広島空港出張所 | E12: =IF(ISERROR(D12/C12),"",D12/C12) | H12: =IF(ISERROR(G12/F12),"",G12/F12) | K12: =IF(ISERROR(J12/I12),"",J12/I12) | L12: =B12+'４月'!L12 -> 0 | M12: =I12+'４月'!M12 -> 0 | N12: =J12+'４月'!N12 -> 0 | O12: =IF(ISERROR(N12/M12),"",N12/M12) | P12: =IF(ISERROR(N12/Q12),"",N12/Q12) | Q12: 0
A13: 岡山空港出張所 | E13: =IF(ISERROR(D13/C13),"",D13/C13) | H13: =IF(ISERROR(G13/F13),"",G13/F13) | K13: =IF(ISERROR(J13/I13),"",J13/I13) | L13: =B13+'４月'!L13 -> 2 | M13: =I13+'４月'!M13 -> 50819 | N13: =J13+'４月'!N13 -> 49257 | O13: =IF(ISERROR(N13/M13),"",N13/M13) -> 0.96926346 | P13: - | Q13: 0
A14: 門司支所 | E14: =IF(ISERROR(D14/C14),"",D14/C14) | H14: =IF(ISERROR(G14/F14),"",G14/F14) | K14: =IF(ISERROR(J14/I14),"",J14/I14) | L14: =B14+'４月'!L14 -> 0 | M14: =I14+'４月'!M14 -> 0 | N14: =J14+'４月'!N14 -> 0 | O14: =IF(ISERROR(N14/M14),"",N14/M14) | P14: =IF(ISERROR(N14/Q14),"",N14/Q14) | Q14: 0
A15: 博多出張所 | E15: =IF(ISERROR(D15/C15),"",D15/C15) | H15: =IF(ISERROR(G15/F15),"",G15/F15) | K15: =IF(ISERROR(J15/I15),"",J15/I15) | L15: =B15+'４月'!L15 -> 0 | M15: =I15+'４月'!M15 -> 0 | N15: =J15+'４月'!N15 -> 0 | O15: =IF(ISERROR(N15/M15),"",N15/M15) | P15: =IF(ISERROR(N15/Q15),"",N15/Q15) | Q15: 0
A16: 福岡空港出張所 | E16: =IF(ISERROR(D16/C16),"",D16/C16) | H16: =IF(ISERROR(G16/F16),"",G16/F16) | K16: =IF(ISERROR(J16/I16),"",J16/I16) | L16: =B16+'４月'!L16 -> 0 | M16: =I16+'４月'!M16 -> 0 | N16: =J16+'４月'!N16 -> 0 | O16: =IF(ISERROR(N16/M16),"",N16/M16) | P16: =IF(ISERROR(N16/Q16),"",N16/Q16) | Q16: 0
A17: 鹿児島空港出張所 | E17: =IF(ISERROR(D17/C17),"",D17/C17) | H17: =IF(ISERROR(G17/F17),"",G17/F17) | K17: =IF(ISERROR(J17/I17),"",J17/I17) | L17: =B17+'４月'!L17 -> 0 | M17: =I17+'４月'!M17 -> 0 | N17: =J17+'４月'!N17 -> 0 | O17: =IF(ISERROR(N17/M17),"",N17/M17) | P17: =IF(ISERROR(N17/Q17),"",N17/Q17) | Q17: 0
A18: 沖縄支所 | E18: =IF(ISERROR(D18/C18),"",D18/C18) | H18: =IF(ISERROR(G18/F18),"",G18/F18) | K18: =IF(ISERROR(J18/I18),"",J18/I18) | L18: =B18+'４月'!L18 -> 0 | M18: =I18+'４月'!M18 -> 0 | N18: =J18+'４月'!N18 -> 0 | O18: =IF(ISERROR(N18/M18),"",N18/M18) | P18: =IF(ISERROR(N18/Q18),"",N18/Q18) | Q18: 0 | R18: 0
A19: 合計 | B19: =SUM(B3:B18) -> 1 | C19: =SUM(C3:C18) -> 0 | D19: =SUM(D3:D18) -> 0 | E19: =IF(ISERROR(D19/C19),"",D19/C19) | F19: =SUM(F3:F18) -> 23052 | G19: =SUM(G3:G18) -> 22348 | H19: =IF(ISERROR(G19/F19),"",G19/F19) -> 0.96946035 | I19: =SUM(I3:I18) -> 23052 | J19: =SUM(J3:J18) -> 22348 | K19: =IF(ISERROR(J19/I19),"",J19/I19) -> 0.96946035 | Q19: =N23 -> 29550 | R19: =J20 -> 7047
A20: 前年同期合計 | B20: 2 | F20: 7138 | G20: 7047 | H20: 0.987 | I20: 7138 | J20: 7047 | K20: 0.987
A21: 対前年比(%) | B21: =IFERROR(B19/B20,"") -> 0.5 | C21: =IFERROR(C19/C20,"") | D21: =IFERROR(D19/D20,"") | F21: =IFERROR(F19/F20,"") -> 3.229476 | G21: =IFERROR(G19/G20,"") -> 3.1712786 | I21: =IFERROR(I19/I20,"") -> 3.229476 | J21: =IFERROR(J19/J20,"") -> 3.1712786
A22: 累計 | B22: =B19+'４月'!B22 -> 6 | C22: =C19+'４月'!C22 -> 11086 | D22: =D19+'４月'!D22 -> 10541 | E22: =IF(ISERROR(D22/C22)," ",(D22/C22)) -> 0.9508389 | F22: =F19+'４月'!F22 -> 106365 | G22: =G19+'４月'!G22 -> 102727 | H22: =IF(ISERROR(G22/F22)," ",(G22/F22)) -> 0.96579702 | L22: =SUM(L3:L18) -> 6 | M22: =SUM(M3:M18) -> 117451 | N22: =SUM(N3:N18) -> 113268 | O22: =IF(ISERROR(N22/M22),"",N22/M22) -> 0.96438515 | P22: =N22/Q19 -> 3.8330964
A23: 前年同期累計 | B23: 3 | F23: 30412 | G23: 29550 | H23: 0.972 | L23: 3 | M23: 30412 | N23: 29550 | O23: 0.972
A24: 対前年比(%) | B24: =IFERROR(B22/B23,"") -> 2 | C24: - | D24: - | F24: =IFERROR(F22/F23,"") -> 3.4974681 | G24: =IFERROR(G22/G23,"") -> 3.476379 | L24: =IFERROR(L22/L23,"") -> 2 | M24: =IFERROR(M22/M23,"") -> 3.8619953 | N24: =IFERROR(N22/N23,"") -> 3.8330964

Sheet ６月
D1: 卵 用 鶏 | G1: 肉 用 鶏 | J1: 合 計 | N1: 累 計 | P1: Bの対前年
A2: 所別 | B2: 件数 | C2: 入検(A) | D2: 解放(B) | E2: B/A | F2: 入検(A) | G2: 解放(B) | H2: B/A | I2: 入検(A) | J2: 解放(B) | K2: B/A | L2: 件数 | M2: 入検(A) | N2: 解放(B) | O2: B/A | P2: 同期比 (%) | Q2: 前年同期累計 | R2: 前年同期合計
A3: 横浜本所 | B3: 1 | C3: 23264 | D3: 20028 | E3: =IF(ISERROR(D3/C3),"",D3/C3) -> 0.86090096 | H3: =IF(ISERROR(G3/F3),"",G3/F3) | I3: 23264 | J3: 20028 | K3: =IF(ISERROR(J3/I3),"",J3/I3) -> 0.86090096 | L3: =B3+'５月'!L3 -> 4 | M3: =I3+'５月'!M3 -> 78810 | N3: =J3+'５月'!N3 -> 73498 | O3: =IF(ISERROR(N3/M3),"",N3/M3) -> 0.93259739 | P3: =IF(ISERROR(N3/Q3),"",N3/Q3) -> 1.6266737 | Q3: 45183 | R3: 22680
A4: 静岡出張所 | B4: 2 | C4: 6404 | D4: 6299 | E4: =IF(ISERROR(D4/C4),"",D4/C4) -> 0.983604 | H4: =IF(ISERROR(G4/F4),"",G4/F4) | I4: 6404 | J4: 6299 | K4: =IF(ISERROR(J4/I4),"",J4/I4) -> 0.983604 | L4: =B4+'５月'!L4 -> 2 | M4: =I4+'５月'!M4 -> 6404 | N4: =J4+'５月'!N4 -> 6299 | O4: =IF(ISERROR(N4/M4),"",N4/M4) -> 0.983604 | P4: =IF(ISERROR(N4/Q4),"",N4/Q4) -> 1.1048939 | Q4: 5701 | R4: 5701
A5: 北海道・東北支所 | E5: =IF(ISERROR(D5/C5),"",D5/C5) | H5: =IF(ISERROR(G5/F5),"",G5/F5) | K5: =IF(ISERROR(J5/I5),"",J5/I5) | L5: =B5+'５月'!L5 -> 0 | M5: =I5+'５月'!M5 -> 0 | N5: =J5+'５月'!N5 -> 0 | O5: =IF(ISERROR(N5/M5),"",N5/M5) | P5: =IF(ISERROR(N5/Q5),"",N5/Q5) | Q5: 0
A6: 仙台空港出張所 | E6: =IF(ISERROR(D6/C6),"",D6/C6) | H6: =IF(ISERROR(G6/F6),"",G6/F6) | K6: =IF(ISERROR(J6/I6),"",J6/I6) | L6: =B6+'５月'!L6 -> 1 | M6: =I6+'５月'!M6 -> 11086 | N6: =J6+'５月'!N6 -> 10541 | O6: =IF(ISERROR(N6/M6),"",N6/M6) -> 0.9508389 | P6: - | Q6: 0
A7: 成田支所 | E7: =IF(ISERROR(D7/C7),"",D7/C7) | H7: =IF(ISERROR(G7/F7),"",G7/F7) | K7: =IF(ISERROR(J7/I7),"",J7/I7) | L7: =B7+'５月'!L7 -> 0 | M7: =I7+'５月'!M7 -> 0 | N7: =J7+'５月'!N7 -> 0 | O7: =IF(ISERROR(N7/M7),"",N7/M7) | P7: =IF(ISERROR(N7/Q7),"",N7/Q7) | Q7: 0
A8: 中部空港支所 | E8: =IF(ISERROR(D8/C8),"",D8/C8) | H8: =IF(ISERROR(G8/F8),"",G8/F8) | K8: =IF(ISERROR(J8/I8),"",J8/I8) | L8: =B8+'５月'!L8 -> 0 | M8: =I8+'５月'!M8 -> 0 | N8: =J8+'５月'!N8 -> 0 | O8: =IF(ISERROR(N8/M8),"",N8/M8) | P8: =IF(ISERROR(N8/Q8),"",N8/Q8) | Q8: 0
A9: 名古屋出張所 | E9: =IF(ISERROR(D9/C9),"",D9/C9) | H9: =IF(ISERROR(G9/F9),"",G9/F9) | K9: =IF(ISERROR(J9/I9),"",J9/I9) | L9: =B9+'５月'!L9 -> 0 | M9: =I9+'５月'!M9 -> 0 | N9: =J9+'５月'!N9 -> 0 | O9: =IF(ISERROR(N9/M9),"",N9/M9) | P9: =IF(ISERROR(N9/Q9),"",N9/Q9) | Q9: 0
A10: 神戸支所 | B10: 3 | E10: =IF(ISERROR(D10/C10),"",D10/C10) | F10: 2976 | G10: 2954 | H10: =IF(ISERROR(G10/F10),"",G10/F10) -> 0.99260753 | I10: 2976 | J10: 2954 | K10: =IF(ISERROR(J10/I10),"",J10/I10) -> 0.99260753 | L10: =B10+'５月'!L10 -> 3 | M10: =I10+'５月'!M10 -> 2976 | N10: =J10+'５月'!N10 -> 2954 | O10: =IF(ISERROR(N10/M10),"",N10/M10) -> 0.99260753 | P10: =IF(ISERROR(N10/Q10),"",N10/Q10) -> 0.41918547 | Q10: 7047
A11: 大阪出張所 | E11: =IF(ISERROR(D11/C11),"",D11/C11) | H11: =IF(ISERROR(G11/F11),"",G11/F11) | K11: =IF(ISERROR(J11/I11),"",J11/I11) | L11: =B11+'５月'!L11 -> 0 | M11: =I11+'５月'!M11 -> 0 | N11: =J11+'５月'!N11 -> 0 | O11: =IF(ISERROR(N11/M11),"",N11/M11) | P11: =IF(ISERROR(N11/Q11),"",N11/Q11) | Q11: 0
A12: 広島空港出張所 | E12: =IF(ISERROR(D12/C12),"",D12/C12) | H12: =IF(ISERROR(G12/F12),"",G12/F12) | K12: =IF(ISERROR(J12/I12),"",J12/I12) | L12: =B12+'５月'!L12 -> 0 | M12: =I12+'５月'!M12 -> 0 | N12: =J12+'５月'!N12 -> 0 | O12: =IF(ISERROR(N12/M12),"",N12/M12) | P12: =IF(ISERROR(N12/Q12),"",N12/Q12) | Q12: 0
A13: 岡山空港出張所 | E13: =IF(ISERROR(D13/C13),"",D13/C13) | H13: =IF(ISERROR(G13/F13),"",G13/F13) | K13: =IF(ISERROR(J13/I13),"",J13/I13) | L13: =B13+'５月'!L13 -> 2 | M13: =I13+'５月'!M13 -> 50819 | N13: =J13+'５月'!N13 -> 49257 | O13: =IF(ISERROR(N13/M13),"",N13/M13) -> 0.96926346 | P13: =IF(ISERROR(N13/Q13),"",N13/Q13) -> 2.201627 | Q13: 22373 | R13: 22373
A14: 門司支所 | E14: =IF(ISERROR(D14/C14),"",D14/C14) | H14: =IF(ISERROR(G14/F14),"",G14/F14) | K14: =IF(ISERROR(J14/I14),"",J14/I14) | L14: =B14+'５月'!L14 -> 0 | M14: =I14+'５月'!M14 -> 0 | N14: =J14+'５月'!N14 -> 0 | O14: =IF(ISERROR(N14/M14),"",N14/M14) | P14: =IF(ISERROR(N14/Q14),"",N14/Q14) | Q14: 0
A15: 博多出張所 | E15: =IF(ISERROR(D15/C15),"",D15/C15) | H15: =IF(ISERROR(G15/F15),"",G15/F15) | K15: =IF(ISERROR(J15/I15),"",J15/I15) | L15: =B15+'５月'!L15 -> 0 | M15: =I15+'５月'!M15 -> 0 | N15: =J15+'５月'!N15 -> 0 | O15: =IF(ISERROR(N15/M15),"",N15/M15) | P15: =IF(ISERROR(N15/Q15),"",N15/Q15) | Q15: 0
A16: 福岡空港出張所 | E16: =IF(ISERROR(D16/C16),"",D16/C16) | H16: =IF(ISERROR(G16/F16),"",G16/F16) | K16: =IF(ISERROR(J16/I16),"",J16/I16) | L16: =B16+'５月'!L16 -> 0 | M16: =I16+'５月'!M16 -> 0 | N16: =J16+'５月'!N16 -> 0 | O16: =IF(ISERROR(N16/M16),"",N16/M16) | P16: =IF(ISERROR(N16/Q16),"",N16/Q16) | Q16: 0
A17: 鹿児島空港出張所 | E17: =IF(ISERROR(D17/C17),"",D17/C17) | H17: =IF(ISERROR(G17/F17),"",G17/F17) | K17: =IF(ISERROR(J17/I17),"",J17/I17) | L17: =B17+'５月'!L17 -> 0 | M17: =I17+'５月'!M17 -> 0 | N17: =J17+'５月'!N17 -> 0 | O17: =IF(ISERROR(N17/M17),"",N17/M17) | P17: =IF(ISERROR(N17/Q17),"",N17/Q17) | Q17: 0
A18: 沖縄支所 | E18: =IF(ISERROR(D18/C18),"",D18/C18) | H18: =IF(ISERROR(G18/F18),"",G18/F18) | K18: =IF(ISERROR(J18/I18),"",J18/I18) | L18: =B18+'５月'!L18 -> 0 | M18: =I18+'５月'!M18 -> 0 | N18: =J18+'５月'!N18 -> 0 | O18: =IF(ISERROR(N18/M18),"",N18/M18) | P18: =IF(ISERROR(N18/Q18),"",N18/Q18) | Q18: 0
A19: 合計 | B19: =SUM(B3:B18) -> 6 | C19: =SUM(C3:C18) -> 29668 | D19: =SUM(D3:D18) -> 26327 | E19: =IF(ISERROR(D19/C19),"",D19/C19) -> 0.88738708 | F19: =SUM(F3:F18) -> 2976 | G19: =SUM(G3:G18) -> 2954 | H19: =IF(ISERROR(G19/F19),"",G19/F19) -> 0.99260753 | I19: =SUM(I3:I18) -> 32644 | J19: =SUM(J3:J18) -> 29281 | K19: =IF(ISERROR(J19/I19),"",J19/I19) -> 0.89697954 | Q19: =N23 -> 80304 | R19: =J20 -> 50754
A20: 前年同期合計 | B20: 3 | C20: 5719 | D20: 5701 | E20: 0.9968526 | F20: 46152 | G20: 45053 | H20: 0.97618738 | I20: 51871 | J20: 50754 | K20: 0.97846581
A21: 対前年比(%) | B21: =IFERROR(B19/B20,"") -> 2 | C21: =IFERROR(C19/C20,"") -> 5.1876202 | D21: =IFERROR(D19/D20,"") -> 4.6179618 | F21: =IFERROR(F19/F20,"") -> 0.064482579 | G21: =IFERROR(G19/G20,"") -> 0.065567221 | I21: =IFERROR(I19/I20,"") -> 0.62933045 | J21: =IFERROR(J19/J20,"") -> 0.57692005
A22: 累計 | B22: =B19+'５月'!B22 -> 12 | C22: =C19+'５月'!C22 -> 40754 | D22: =D19+'５月'!D22 -> 36868 | E22: =IF(ISERROR(D22/C22)," ",(D22/C22)) -> 0.9046474 | F22: =F19+'５月'!F22 -> 109341 | G22: =G19+'５月'!G22 -> 105681 | H22: =IF(ISERROR(G22/F22)," ",(G22/F22)) -> 0.96652674 | L22: =SUM(L3:L18) -> 12 | M22: =SUM(M3:M18) -> 150095 | N22: =SUM(N3:N18) -> 142549 | O22: =IF(ISERROR(N22/M22),"",N22/M22) -> 0.94972517 | P22: =N22/Q19 -> 1.7751171
A23: 前年同期累計 | B23: 6 | C23: 5719 | D23: 5701 | E23: 0.9968526 | F23: 76564 | G23: 74603 | H23: 0.97438744 | L23: 6 | M23: 82283 | N23: 80304 | O23: 0.97594886
A24: 対前年比(%) | B24: =IFERROR(B22/B23,"") -> 2 | C24: =IFERROR(C22/C23,"") -> 7.126071 | D24: =IFERROR(D22/D23,"") -> 6.4669356 | F24: =IFERROR(F22/F23,"") -> 1.4280994 | G24: =IFERROR(G22/G23,"") -> 1.4165784 | L24: =IFERROR(L22/L23,"") -> 2 | M24: =IFERROR(M22/M23,"") -> 1.8241314 | N24: =IFERROR(N22/N23,"") -> 1.7751171

Sheet ７月
D1: 卵 用 鶏 | G1: 肉 用 鶏 | J1: 合 計 | N1: 累 計 | P1: Bの対前年
A2: 所別 | B2: 件数 | C2: 入検(A) | D2: 解放(B) | E2: B/A | F2: 入検(A) | G2: 解放(B) | H2: B/A | I2: 入検(A) | J2: 解放(B) | K2: B/A | L2: 件数 | M2: 入検(A) | N2: 解放(B) | O2: B/A | P2: 同期比 (%) | Q2: 前年同期累計 | R2: 前年同期合計
A3: 横浜本所 | E3: =IF(ISERROR(D3/C3),"",D3/C3) | H3: =IF(ISERROR(G3/F3),"",G3/F3) | K3: =IF(ISERROR(J3/I3),"",J3/I3) | L3: =B3+'６月'!L3 -> 4 | M3: =I3+'６月'!M3 -> 78810 | N3: =J3+'６月'!N3 -> 73498 | O3: =IF(ISERROR(N3/M3),"",N3/M3) -> 0.93259739 | P3: =IF(ISERROR(N3/Q3),"",N3/Q3) -> 1.023421 | Q3: 71816 | R3: 26633
A4: 静岡出張所 | E4: =IF(ISERROR(D4/C4),"",D4/C4) | H4: =IF(ISERROR(G4/F4),"",G4/F4) | K4: =IF(ISERROR(J4/I4),"",J4/I4) | L4: =B4+'６月'!L4 -> 2 | M4: =I4+'６月'!M4 -> 6404 | N4: =J4+'６月'!N4 -> 6299 | O4: =IF(ISERROR(N4/M4),"",N4/M4) -> 0.983604 | P4: =IF(ISERROR(N4/Q4),"",N4/Q4) -> 1.1048939 | Q4: 5701
A5: 北海道・東北支所 | E5: =IF(ISERROR(D5/C5),"",D5/C5) | H5: =IF(ISERROR(G5/F5),"",G5/F5) | K5: =IF(ISERROR(J5/I5),"",J5/I5) | L5: =B5+'６月'!L5 -> 0 | M5: =I5+'６月'!M5 -> 0 | N5: =J5+'６月'!N5 -> 0 | O5: =IF(ISERROR(N5/M5),"",N5/M5) | P5: =IF(ISERROR(N5/Q5),"",N5/Q5) | Q5: 0
A6: 仙台空港出張所 | B6: 1 | C6: 12184 | D6: 11112 | E6: =IF(ISERROR(D6/C6),"",D6/C6) -> 0.91201576 | H6: =IF(ISERROR(G6/F6),"",G6/F6) | I6: 12184 | J6: 11112 | K6: =IF(ISERROR(J6/I6),"",J6/I6) -> 0.91201576 | L6: =B6+'６月'!L6 -> 2 | M6: =I6+'６月'!M6 -> 23270 | N6: =J6+'６月'!N6 -> 21653 | O6: =IF(ISERROR(N6/M6),"",N6/M6) -> 0.93051139 | P6: - | Q6: 0
A7: 成田支所 | E7: =IF(ISERROR(D7/C7),"",D7/C7) | H7: =IF(ISERROR(G7/F7),"",G7/F7) | K7: =IF(ISERROR(J7/I7),"",J7/I7) | L7: =B7+'６月'!L7 -> 0 | M7: =I7+'６月'!M7 -> 0 | N7: =J7+'６月'!N7 -> 0 | O7: =IF(ISERROR(N7/M7),"",N7/M7) | P7: =IF(ISERROR(N7/Q7),"",N7/Q7) | Q7: 0
A8: 中部空港支所 | E8: =IF(ISERROR(D8/C8),"",D8/C8) | H8: =IF(ISERROR(G8/F8),"",G8/F8) | K8: =IF(ISERROR(J8/I8),"",J8/I8) | L8: =B8+'６月'!L8 -> 0 | M8: =I8+'６月'!M8 -> 0 | N8: =J8+'６月'!N8 -> 0 | O8: =IF(ISERROR(N8/M8),"",N8/M8) | P8: =IF(ISERROR(N8/Q8),"",N8/Q8) | Q8: 0
A9: 名古屋出張所 | E9: =IF(ISERROR(D9/C9),"",D9/C9) | H9: =IF(ISERROR(G9/F9),"",G9/F9) | K9: =IF(ISERROR(J9/I9),"",J9/I9) | L9: =B9+'６月'!L9 -> 0 | M9: =I9+'６月'!M9 -> 0 | N9: =J9+'６月'!N9 -> 0 | O9: =IF(ISERROR(N9/M9),"",N9/M9) | P9: =IF(ISERROR(N9/Q9),"",N9/Q9) | Q9: 0
A10: 神戸支所 | E10: =IF(ISERROR(D10/C10),"",D10/C10) | H10: =IF(ISERROR(G10/F10),"",G10/F10) | K10: =IF(ISERROR(J10/I10),"",J10/I10) | L10: =B10+'６月'!L10 -> 3 | M10: =I10+'６月'!M10 -> 2976 | N10: =J10+'６月'!N10 -> 2954 | O10: =IF(ISERROR(N10/M10),"",N10/M10) -> 0.99260753 | P10: =IF(ISERROR(N10/Q10),"",N10/Q10) -> 0.41918547 | Q10: 7047
A11: 大阪出張所 | E11: =IF(ISERROR(D11/C11),"",D11/C11) | H11: =IF(ISERROR(G11/F11),"",G11/F11) | K11: =IF(ISERROR(J11/I11),"",J11/I11) | L11: =B11+'６月'!L11 -> 0 | M11: =I11+'６月'!M11 -> 0 | N11: =J11+'６月'!N11 -> 0 | O11: =IF(ISERROR(N11/M11),"",N11/M11) | P11: =IF(ISERROR(N11/Q11),"",N11/Q11) | Q11: 0
A12: 広島空港出張所 | E12: =IF(ISERROR(D12/C12),"",D12/C12) | H12: =IF(ISERROR(G12/F12),"",G12/F12) | K12: =IF(ISERROR(J12/I12),"",J12/I12) | L12: =B12+'６月'!L12 -> 0 | M12: =I12+'６月'!M12 -> 0 | N12: =J12+'６月'!N12 -> 0 | O12: =IF(ISERROR(N12/M12),"",N12/M12) | P12: =IF(ISERROR(N12/Q12),"",N12/Q12) | Q12: 0
A13: 岡山空港出張所 | E13: =IF(ISERROR(D13/C13),"",D13/C13) | H13: =IF(ISERROR(G13/F13),"",G13/F13) | K13: =IF(ISERROR(J13/I13),"",J13/I13) | L13: =B13+'６月'!L13 -> 2 | M13: =I13+'６月'!M13 -> 50819 | N13: =J13+'６月'!N13 -> 49257 | O13: =IF(ISERROR(N13/M13),"",N13/M13) -> 0.96926346 | P13: =IF(ISERROR(N13/Q13),"",N13/Q13) -> 2.201627 | Q13: 22373
A14: 門司支所 | E14: =IF(ISERROR(D14/C14),"",D14/C14) | H14: =IF(ISERROR(G14/F14),"",G14/F14) | K14: =IF(ISERROR(J14/I14),"",J14/I14) | L14: =B14+'６月'!L14 -> 0 | M14: =I14+'６月'!M14 -> 0 | N14: =J14+'６月'!N14 -> 0 | O14: =IF(ISERROR(N14/M14),"",N14/M14) | P14: 0% | Q14: 5924 | R14: 5924
A15: 博多出張所 | E15: =IF(ISERROR(D15/C15),"",D15/C15) | H15: =IF(ISERROR(G15/F15),"",G15/F15) | K15: =IF(ISERROR(J15/I15),"",J15/I15) | L15: =B15+'６月'!L15 -> 0 | M15: =I15+'６月'!M15 -> 0 | N15: =J15+'６月'!N15 -> 0 | O15: =IF(ISERROR(N15/M15),"",N15/M15) | P15: =IF(ISERROR(N15/Q15),"",N15/Q15) | Q15: 0
A16: 福岡空港出張所 | E16: =IF(ISERROR(D16/C16),"",D16/C16) | H16: =IF(ISERROR(G16/F16),"",G16/F16) | K16: =IF(ISERROR(J16/I16),"",J16/I16) | L16: =B16+'６月'!L16 -> 0 | M16: =I16+'６月'!M16 -> 0 | N16: =J16+'６月'!N16 -> 0 | O16: =IF(ISERROR(N16/M16),"",N16/M16) | P16: =IF(ISERROR(N16/Q16),"",N16/Q16) | Q16: 0
A17: 鹿児島空港出張所 | E17: =IF(ISERROR(D17/C17),"",D17/C17) | H17: =IF(ISERROR(G17/F17),"",G17/F17) | K17: =IF(ISERROR(J17/I17),"",J17/I17) | L17: =B17+'６月'!L17 -> 0 | M17: =I17+'６月'!M17 -> 0 | N17: =J17+'６月'!N17 -> 0 | O17: =IF(ISERROR(N17/M17),"",N17/M17) | P17: =IF(ISERROR(N17/Q17),"",N17/Q17) | Q17: 0
A18: 沖縄支所 | E18: =IF(ISERROR(D18/C18),"",D18/C18) | H18: =IF(ISERROR(G18/F18),"",G18/F18) | K18: =IF(ISERROR(J18/I18),"",J18/I18) | L18: =B18+'６月'!L18 -> 0 | M18: =I18+'６月'!M18 -> 0 | N18: =J18+'６月'!N18 -> 0 | O18: =IF(ISERROR(N18/M18),"",N18/M18) | P18: =IF(ISERROR(N18/Q18),"",N18/Q18) | Q18: 0
A19: 合計 | B19: =SUM(B3:B18) -> 1 | C19: =SUM(C3:C18) -> 12184 | D19: =SUM(D3:D18) -> 11112 | E19: =IF(ISERROR(D19/C19),"",D19/C19) -> 0.91201576 | F19: =SUM(F3:F18) -> 0 | G19: =SUM(G3:G18) -> 0 | H19: =IF(ISERROR(G19/F19),"",G19/F19) | I19: =C19+F19 -> 12184 | J19: =D19+G19 -> 11112 | K19: =IF(ISERROR(J19/I19),"",J19/I19) -> 0.91201576 | Q19: =N23 -> 112861 | R19: =J20 -> 55003
A20: 前年同期合計 | B20: 3 | C20: 26814 | D20: 26633 | E20: 0.99324979 | F20: 29049 | G20: 28370 | H20: 0.9766257 | I20: 55863 | J20: 55003 | K20: 0.98460519
A21: 対前年比(%) | B21: =IFERROR(B19/B20,"") -> 0.33333333 | C21: =IFERROR(C19/C20,"") -> 0.4543895 | D21: =IFERROR(D19/D20,"") -> 0.41722675 | F21: 0% | G21: 0% | I21: =IFERROR(I19/I20,"") -> 0.21810501 | J21: =IFERROR(J19/J20,"") -> 0.20202534
A22: 累計 | B22: =B19+'６月'!B22 -> 13 | C22: =C19+'６月'!C22 -> 52938 | D22: =D19+'６月'!D22 -> 47980 | E22: =IF(ISERROR(D22/C22)," ",(D22/C22)) -> 0.90634327 | F22: =F19+'６月'!F22 -> 109341 | G22: =G19+'６月'!G22 -> 105681 | H22: =IF(ISERROR(G22/F22)," ",(G22/F22)) -> 0.96652674 | L22: =SUM(L3:L18) -> 13 | M22: =SUM(M3:M18) -> 162279 | N22: =SUM(N3:N18) -> 153661 | O22: =IF(ISERROR(N22/M22),"",N22/M22) -> 0.94689393 | P22: =N22/Q19 -> 1.3615066
A23: 前年同期累計 | B23: 9 | C23: 32533 | D23: 32334 | E23: 0.99388313 | F23: 105613 | G23: 102973 | H23: 0.97500308 | L23: 9 | M23: 115083 | N23: 112861 | O23: 0.9806922
A24: 対前年比(%) | B24: =IFERROR(B22/B23,"") -> 1.4444444 | C24: =IFERROR(C22/C23,"") -> 1.6272093 | D24: =IFERROR(D22/D23,"") -> 1.4838869 | F24: =IFERROR(F22/F23,"") -> 1.0352987 | G24: =IFERROR(G22/G23,"") -> 1.0262982 | L24: =IFERROR(L22/L23,"") -> 1.4444444 | M24: =IFERROR(M22/M23,"") -> 1.410104 | N24: =IFERROR(N22/N23,"") -> 1.3615066

Sheet ８月
D1: 卵 用 鶏 | G1: 肉 用 鶏 | J1: 合 計 | N1: 累 計 | P1: Bの対前年
A2: 所別 | B2: 件数 | C2: 入検(A) | D2: 解放(B) | E2: B/A | F2: 入検(A) | G2: 解放(B) | H2: B/A | I2: 入検(A) | J2: 解放(B) | K2: B/A | L2: 件数 | M2: 入検(A) | N2: 解放(B) | O2: B/A | P2: 同期比 (%) | Q2: 前年同期累計 | R2: 前年同期合計
A3: 横浜本所 | E3: =IF(ISERROR(D3/C3),"",D3/C3) | H3: =IF(ISERROR(G3/F3),"",G3/F3) | K3: =IF(ISERROR(J3/I3),"",J3/I3) | L3: =B3+'７月'!L3 -> 4 | M3: =I3+'７月'!M3 -> 78810 | N3: =J3+'７月'!N3 -> 73498 | O3: =IF(ISERROR(N3/M3),"",N3/M3) -> 0.93259739 | P3: =IF(ISERROR(N3/Q3),"",N3/Q3) -> 0.84112107 | Q3: 87381 | R3: 15565
A4: 静岡出張所 | E4: =IF(ISERROR(D4/C4),"",D4/C4) | H4: =IF(ISERROR(G4/F4),"",G4/F4) | K4: =IF(ISERROR(J4/I4),"",J4/I4) | L4: =B4+'７月'!L4 -> 2 | M4: =I4+'７月'!M4 -> 6404 | N4: =J4+'７月'!N4 -> 6299 | O4: =IF(ISERROR(N4/M4),"",N4/M4) -> 0.983604 | P4: =IF(ISERROR(N4/Q4),"",N4/Q4) -> 0.50606572 | Q4: 12447 | R4: 6746
A5: 北海道・東北支所 | E5: =IF(ISERROR(D5/C5),"",D5/C5) | H5: =IF(ISERROR(G5/F5),"",G5/F5) | K5: =IF(ISERROR(J5/I5),"",J5/I5) | L5: =B5+'７月'!L5 -> 0 | M5: =I5+'７月'!M5 -> 0 | N5: =J5+'７月'!N5 -> 0 | O5: =IF(ISERROR(N5/M5),"",N5/M5) | P5: =IF(ISERROR(N5/Q5),"",N5/Q5) | Q5: 0
A6: 仙台空港出張所 | B6: 1 | E6: =IF(ISERROR(D6/C6),"",D6/C6) | F6: 1558 | G6: 1020 | H6: =IF(ISERROR(G6/F6),"",G6/F6) -> 0.65468549 | I6: 1558 | J6: 1020 | K6: =IF(ISERROR(J6/I6),"",J6/I6) -> 0.65468549 | L6: =B6+'７月'!L6 -> 3 | M6: =I6+'７月'!M6 -> 24828 | N6: =J6+'７月'!N6 -> 22673 | O6: =IF(ISERROR(N6/M6),"",N6/M6) -> 0.91320284 | P6: - | Q6: 0
A7: 成田支所 | B7: 2 | E7: =IF(ISERROR(D7/C7),"",D7/C7) | F7: 4914 | G7: 4852 | H7: =IF(ISERROR(G7/F7),"",G7/F7) -> 0.98738299 | I7: 4914 | J7: 4852 | K7: =IF(ISERROR(J7/I7),"",J7/I7) -> 0.98738299 | L7: =B7+'７月'!L7 -> 2 | M7: =I7+'７月'!M7 -> 4914 | N7: =J7+'７月'!N7 -> 4852 | O7: =IF(ISERROR(N7/M7),"",N7/M7) -> 0.98738299 | P7: - | Q7: 0
A8: 中部空港支所 | E8: =IF(ISERROR(D8/C8),"",D8/C8) | H8: =IF(ISERROR(G8/F8),"",G8/F8) | K8: =IF(ISERROR(J8/I8),"",J8/I8) | L8: =B8+'７月'!L8 -> 0 | M8: =I8+'７月'!M8 -> 0 | N8: =J8+'７月'!N8 -> 0 | O8: =IF(ISERROR(N8/M8),"",N8/M8) | P8: =IF(ISERROR(N8/Q8),"",N8/Q8) | Q8: 0
A9: 名古屋出張所 | E9: =IF(ISERROR(D9/C9),"",D9/C9) | H9: =IF(ISERROR(G9/F9),"",G9/F9) | K9: =IF(ISERROR(J9/I9),"",J9/I9) | L9: =B9+'７月'!L9 -> 0 | M9: =I9+'７月'!M9 -> 0 | N9: =J9+'７月'!N9 -> 0 | O9: =IF(ISERROR(N9/M9),"",N9/M9) | P9: =IF(ISERROR(N9/Q9),"",N9/Q9) | Q9: 0
A10: 神戸支所 | B10: 2 | E10: =IF(ISERROR(D10/C10),"",D10/C10) | F10: 3981 | G10: 2984 | H10: =IF(ISERROR(G10/F10),"",G10/F10) -> 0.74956041 | I10: 3981 | J10: 2984 | K10: =IF(ISERROR(J10/I10),"",J10/I10) -> 0.74956041 | L10: =B10+'７月'!L10 -> 5 | M10: =I10+'７月'!M10 -> 6957 | N10: =J10+'７月'!N10 -> 5938 | O10: =IF(ISERROR(N10/M10),"",N10/M10) -> 0.85352882 | P10: =IF(ISERROR(N10/Q10),"",N10/Q10) -> 0.84262807 | Q10: 7047
A11: 大阪出張所 | E11: =IF(ISERROR(D11/C11),"",D11/C11) | H11: =IF(ISERROR(G11/F11),"",G11/F11) | K11: =IF(ISERROR(J11/I11),"",J11/I11) | L11: =B11+'７月'!L11 -> 0 | M11: =I11+'７月'!M11 -> 0 | N11: =J11+'７月'!N11 -> 0 | O11: =IF(ISERROR(N11/M11),"",N11/M11) | P11: =IF(ISERROR(N11/Q11),"",N11/Q11) | Q11: 0
A12: 広島空港出張所 | E12: =IF(ISERROR(D12/C12),"",D12/C12) | H12: =IF(ISERROR(G12/F12),"",G12/F12) | K12: =IF(ISERROR(J12/I12),"",J12/I12) | L12: =B12+'７月'!L12 -> 0 | M12: =I12+'７月'!M12 -> 0 | N12: =J12+'７月'!N12 -> 0 | O12: =IF(ISERROR(N12/M12),"",N12/M12) | P12: =IF(ISERROR(N12/Q12),"",N12/Q12) | Q12: 0
A13: 岡山空港出張所 | B13: 1 | E13: =IF(ISERROR(D13/C13),"",D13/C13) | F13: 25649 | G13: 24557 | H13: =IF(ISERROR(G13/F13),"",G13/F13) -> 0.95742524 | I13: 25649 | J13: 24557 | K13: =IF(ISERROR(J13/I13),"",J13/I13) -> 0.95742524 | L13: =B13+'７月'!L13 -> 3 | M13: =I13+'７月'!M13 -> 76468 | N13: =J13+'７月'!N13 -> 73814 | O13: =IF(ISERROR(N13/M13),"",N13/M13) -> 0.96529267 | P13: =IF(ISERROR(N13/Q13),"",N13/Q13) -> 3.2992446 | Q13: 22373
A14: 門司支所 | E14: =IF(ISERROR(D14/C14),"",D14/C14) | H14: =IF(ISERROR(G14/F14),"",G14/F14) | K14: =IF(ISERROR(J14/I14),"",J14/I14) | L14: =B14+'７月'!L14 -> 0 | M14: =I14+'７月'!M14 -> 0 | N14: =J14+'７月'!N14 -> 0 | O14: =IF(ISERROR(N14/M14),"",N14/M14) | P14: 0% | Q14: 5924
A15: 博多出張所 | E15: =IF(ISERROR(D15/C15),"",D15/C15) | H15: =IF(ISERROR(G15/F15),"",G15/F15) | K15: =IF(ISERROR(J15/I15),"",J15/I15) | L15: =B15+'７月'!L15 -> 0 | M15: =I15+'７月'!M15 -> 0 | N15: =J15+'７月'!N15 -> 0 | O15: =IF(ISERROR(N15/M15),"",N15/M15) | P15: =IF(ISERROR(N15/Q15),"",N15/Q15) | Q15: 0
A16: 福岡空港出張所 | E16: =IF(ISERROR(D16/C16),"",D16/C16) | H16: =IF(ISERROR(G16/F16),"",G16/F16) | K16: =IF(ISERROR(J16/I16),"",J16/I16) | L16: =B16+'７月'!L16 -> 0 | M16: =I16+'７月'!M16 -> 0 | N16: =J16+'７月'!N16 -> 0 | O16: =IF(ISERROR(N16/M16),"",N16/M16) | P16: =IF(ISERROR(N16/Q16),"",N16/Q16) | Q16: 0
A17: 鹿児島空港出張所 | E17: =IF(ISERROR(D17/C17),"",D17/C17) | H17: =IF(ISERROR(G17/F17),"",G17/F17) | K17: =IF(ISERROR(J17/I17),"",J17/I17) | L17: =B17+'７月'!L17 -> 0 | M17: =I17+'７月'!M17 -> 0 | N17: =J17+'７月'!N17 -> 0 | O17: =IF(ISERROR(N17/M17),"",N17/M17) | P17: =IF(ISERROR(N17/Q17),"",N17/Q17) | Q17: 0
A18: 沖縄支所 | E18: =IF(ISERROR(D18/C18),"",D18/C18) | H18: =IF(ISERROR(G18/F18),"",G18/F18) | K18: =IF(ISERROR(J18/I18),"",J18/I18) | L18: =B18+'７月'!L18 -> 0 | M18: =I18+'７月'!M18 -> 0 | N18: =J18+'７月'!N18 -> 0 | O18: =IF(ISERROR(N18/M18),"",N18/M18) | P18: =IF(ISERROR(N18/Q18),"",N18/Q18) | Q18: 0 | R18: 0
A19: 合計 | B19: =SUM(B3:B18) -> 6 | C19: =SUM(C3:C18) -> 0 | D19: =SUM(D3:D18) -> 0 | E19: =IF(ISERROR(D19/C19),"",D19/C19) | F19: =SUM(F3:F18) -> 36102 | G19: =SUM(G3:G18) -> 33413 | H19: =IF(ISERROR(G19/F19),"",G19/F19) -> 0.92551659 | I19: =C19+F19 -> 36102 | J19: =D19+G19 -> 33413 | K19: =IF(ISERROR(J19/I19),"",J19/I19) -> 0.92551659 | Q19: =N23 -> 135172 | R19: =J20 -> 22311
A20: 前年同期合計 | B20: 3 | C20: 6849 | D20: 6746 | E20: 0.98496131 | F20: 16104 | G20: 15565 | H20: 0.96653005 | I20: 22953 | J20: 22311 | K20: 0.9720298
A21: 対前年比(%) | B21: =IFERROR(B19/B20,"") -> 2 | C21: 0% | D21: 0% | F21: =IFERROR(F19/F20,"") -> 2.2418033 | G21: =IFERROR(G19/G20,"") -> 2.1466752 | I21: =IFERROR(I19/I20,"") -> 1.5728663 | J21: =IFERROR(J19/J20,"") -> 1.4976021
A22: 累計 | B22: =B19+'７月'!B22 -> 19 | C22: =C19+'７月'!C22 -> 52938 | D22: =D19+'７月'!D22 -> 47980 | E22: =IF(ISERROR(D22/C22)," ",(D22/C22)) -> 0.90634327 | F22: =F19+'７月'!F22 -> 145443 | G22: =G19+'７月'!G22 -> 139094 | H22: =IF(ISERROR(G22/F22)," ",(G22/F22)) -> 0.95634716 | L22: =SUM(L3:L18) -> 19 | M22: =SUM(M3:M18) -> 198381 | N22: =SUM(N3:N18) -> 187074 | O22: =IF(ISERROR(N22/M22),"",N22/M22) -> 0.94300361 | P22: =N22/Q19 -> 1.3839701
A23: 前年同期累計 | B23: 12 | C23: 39382 | D23: 39080 | E23: 0.99233152 | F23: 121717 | G23: 118538 | H23: 0.97388204 | L23: 12 | M23: 138036 | N23: 135172 | O23: 0.97925179
A24: 対前年比(%) | B24: =IFERROR(B22/B23,"") -> 1.5833333 | C24: =IFERROR(C22/C23,"") -> 1.3442182 | D24: =IFERROR(D22/D23,"") -> 1.227738 | F24: =IFERROR(F22/F23,"") -> 1.1949276 | G24: =IFERROR(G22/G23,"") -> 1.1734127 | L24: =IFERROR(L22/L23,"") -> 1.5833333 | M24: =IFERROR(M22/M23,"") -> 1.4371686 | N24: =IFERROR(N22/N23,"") -> 1.3839701

Sheet ９月
D1: 卵 用 鶏 | G1: 肉 用 鶏 | J1: 合 計 | N1: 累 計 | P1: Bの対前年
A2: 所別 | B2: 件数 | C2: 入検(A) | D2: 解放(B) | E2: B/A | F2: 入検(A) | G2: 解放(B) | H2: B/A | I2: 入検(A) | J2: 解放(B) | K2: B/A | L2: 件数 | M2: 入検(A) | N2: 解放(B) | O2: B/A | P2: 同期比 (%) | Q2: 前年同期累計 | R2: 前年同期合計
A3: 横浜本所 | B3: 2 | C3: 25122 | D3: 24680 | E3: =IF(ISERROR(D3/C3),"",D3/C3) -> 0.98240586 | F3: 23282 | G3: 22661 | H3: =IF(ISERROR(G3/F3),"",G3/F3) -> 0.97332703 | I3: 48404 | J3: 47341 | K3: =IF(ISERROR(J3/I3),"",J3/I3) -> 0.97803901 | L3: =B3+'８月'!L3 -> 6 | M3: =I3+'８月'!M3 -> 127214 | N3: =J3+'８月'!N3 -> 120839 | O3: =IF(ISERROR(N3/M3),"",N3/M3) -> 0.94988759 | P3: =IF(ISERROR(N3/Q3),"",N3/Q3) -> 1.0764304 | Q3: 112259 | R3: 24878
A4: 静岡出張所 | B4: 1 | C4: 2860 | D4: 2845 | E4: =IF(ISERROR(D4/C4),"",D4/C4) -> 0.99475524 | H4: =IF(ISERROR(G4/F4),"",G4/F4) | I4: 2860 | J4: 2845 | K4: =IF(ISERROR(J4/I4),"",J4/I4) -> 0.99475524 | L4: =B4+'８月'!L4 -> 3 | M4: =I4+'８月'!M4 -> 9264 | N4: =J4+'８月'!N4 -> 9144 | O4: =IF(ISERROR(N4/M4),"",N4/M4) -> 0.98704663 | P4: =IF(ISERROR(N4/Q4),"",N4/Q4) -> 0.73463485 | Q4: 12447
A5: 北海道・東北支所 | E5: =IF(ISERROR(D5/C5),"",D5/C5) | H5: =IF(ISERROR(G5/F5),"",G5/F5) | K5: =IF(ISERROR(J5/I5),"",J5/I5) | L5: =B5+'８月'!L5 -> 0 | M5: =I5+'８月'!M5 -> 0 | N5: =J5+'８月'!N5 -> 0 | O5: =IF(ISERROR(N5/M5),"",N5/M5) | P5: =IF(ISERROR(N5/Q5),"",N5/Q5) | Q5: 0
A6: 仙台空港出張所 | E6: =IF(ISERROR(D6/C6),"",D6/C6) | H6: =IF(ISERROR(G6/F6),"",G6/F6) | K6: =IF(ISERROR(J6/I6),"",J6/I6) | L6: =B6+'８月'!L6 -> 3 | M6: =I6+'８月'!M6 -> 24828 | N6: =J6+'８月'!N6 -> 22673 | O6: =IF(ISERROR(N6/M6),"",N6/M6) -> 0.91320284 | P6: - | Q6: 0
A7: 成田支所 | E7: =IF(ISERROR(D7/C7),"",D7/C7) | H7: =IF(ISERROR(G7/F7),"",G7/F7) | K7: =IF(ISERROR(J7/I7),"",J7/I7) | L7: =B7+'８月'!L7 -> 2 | M7: =I7+'８月'!M7 -> 4914 | N7: =J7+'８月'!N7 -> 4852 | O7: =IF(ISERROR(N7/M7),"",N7/M7) -> 0.98738299 | P7: - | Q7: 0
A8: 中部空港支所 | E8: =IF(ISERROR(D8/C8),"",D8/C8) | H8: =IF(ISERROR(G8/F8),"",G8/F8) | K8: =IF(ISERROR(J8/I8),"",J8/I8) | L8: =B8+'８月'!L8 -> 0 | M8: =I8+'８月'!M8 -> 0 | N8: =J8+'８月'!N8 -> 0 | O8: =IF(ISERROR(N8/M8),"",N8/M8) | P8: =IF(ISERROR(N8/Q8),"",N8/Q8) | Q8: 0
A9: 名古屋出張所 | E9: =IF(ISERROR(D9/C9),"",D9/C9) | H9: =IF(ISERROR(G9/F9),"",G9/F9) | K9: =IF(ISERROR(J9/I9),"",J9/I9) | L9: =B9+'８月'!L9 -> 0 | M9: =I9+'８月'!M9 -> 0 | N9: =J9+'８月'!N9 -> 0 | O9: =IF(ISERROR(N9/M9),"",N9/M9) | P9: =IF(ISERROR(N9/Q9),"",N9/Q9) | Q9: 0
A10: 神戸支所 | E10: =IF(ISERROR(D10/C10),"",D10/C10) | H10: =IF(ISERROR(G10/F10),"",G10/F10) | K10: =IF(ISERROR(J10/I10),"",J10/I10) | L10: =B10+'８月'!L10 -> 5 | M10: =I10+'８月'!M10 -> 6957 | N10: =J10+'８月'!N10 -> 5938 | O10: =IF(ISERROR(N10/M10),"",N10/M10) -> 0.85352882 | P10: =IF(ISERROR(N10/Q10),"",N10/Q10) -> 0.84262807 | Q10: 7047
A11: 大阪出張所 | E11: =IF(ISERROR(D11/C11),"",D11/C11) | H11: =IF(ISERROR(G11/F11),"",G11/F11) | K11: =IF(ISERROR(J11/I11),"",J11/I11) | L11: =B11+'８月'!L11 -> 0 | M11: =I11+'８月'!M11 -> 0 | N11: =J11+'８月'!N11 -> 0 | O11: =IF(ISERROR(N11/M11),"",N11/M11) | P11: =IF(ISERROR(N11/Q11),"",N11/Q11) | Q11: 0
A12: 広島空港出張所 | E12: =IF(ISERROR(D12/C12),"",D12/C12) | H12: =IF(ISERROR(G12/F12),"",G12/F12) | K12: =IF(ISERROR(J12/I12),"",J12/I12) | L12: =B12+'８月'!L12 -> 0 | M12: =I12+'８月'!M12 -> 0 | N12: =J12+'８月'!N12 -> 0 | O12: =IF(ISERROR(N12/M12),"",N12/M12) | P12: =IF(ISERROR(N12/Q12),"",N12/Q12) | Q12: 0
A13: 岡山空港出張所 | E13: =IF(ISERROR(D13/C13),"",D13/C13) | H13: =IF(ISERROR(G13/F13),"",G13/F13) | K13: =IF(ISERROR(J13/I13),"",J13/I13) | L13: =B13+'８月'!L13 -> 3 | M13: =I13+'８月'!M13 -> 76468 | N13: =J13+'８月'!N13 -> 73814 | O13: =IF(ISERROR(N13/M13),"",N13/M13) -> 0.96529267 | P13: =IF(ISERROR(N13/Q13),"",N13/Q13) -> 3.2992446 | Q13: 22373
A14: 門司支所 | E14: =IF(ISERROR(D14/C14),"",D14/C14) | H14: =IF(ISERROR(G14/F14),"",G14/F14) | K14: =IF(ISERROR(J14/I14),"",J14/I14) | L14: =B14+'８月'!L14 -> 0 | M14: =I14+'８月'!M14 -> 0 | N14: =J14+'８月'!N14 -> 0 | O14: =IF(ISERROR(N14/M14),"",N14/M14) | P14: 0% | Q14: 5924
A15: 博多出張所 | E15: =IF(ISERROR(D15/C15),"",D15/C15) | H15: =IF(ISERROR(G15/F15),"",G15/F15) | K15: =IF(ISERROR(J15/I15),"",J15/I15) | L15: =B15+'８月'!L15 -> 0 | M15: =I15+'８月'!M15 -> 0 | N15: =J15+'８月'!N15 -> 0 | O15: =IF(ISERROR(N15/M15),"",N15/M15) | P15: =IF(ISERROR(N15/Q15),"",N15/Q15) | Q15: 0 | R15: 0
A16: 福岡空港出張所 | E16: =IF(ISERROR(D16/C16),"",D16/C16) | H16: =IF(ISERROR(G16/F16),"",G16/F16) | K16: =IF(ISERROR(J16/I16),"",J16/I16) | L16: =B16+'８月'!L16 -> 0 | M16: =I16+'８月'!M16 -> 0 | N16: =J16+'８月'!N16 -> 0 | O16: =IF(ISERROR(N16/M16),"",N16/M16) | P16: =IF(ISERROR(N16/Q16),"",N16/Q16) | Q16: 0 | R16: 0
A17: 鹿児島空港出張所 | E17: =IF(ISERROR(D17/C17),"",D17/C17) | H17: =IF(ISERROR(G17/F17),"",G17/F17) | K17: =IF(ISERROR(J17/I17),"",J17/I17) | L17: =B17+'８月'!L17 -> 0 | M17: =I17+'８月'!M17 -> 0 | N17: =J17+'８月'!N17 -> 0 | O17: =IF(ISERROR(N17/M17),"",N17/M17) | P17: =IF(ISERROR(N17/Q17),"",N17/Q17) | Q17: 0 | R17: 0
A18: 沖縄支所 | E18: =IF(ISERROR(D18/C18),"",D18/C18) | H18: =IF(ISERROR(G18/F18),"",G18/F18) | K18: =IF(ISERROR(J18/I18),"",J18/I18) | L18: =B18+'８月'!L18 -> 0 | M18: =I18+'８月'!M18 -> 0 | N18: =J18+'８月'!N18 -> 0 | O18: =IF(ISERROR(N18/M18),"",N18/M18) | P18: =IF(ISERROR(N18/Q18),"",N18/Q18) | Q18: 0 | R18: 0
A19: 合計 | B19: =SUM(B3:B18) -> 3 | C19: =SUM(C3:C18) -> 27982 | D19: =SUM(D3:D18) -> 27525 | E19: =IF(ISERROR(D19/C19),"",D19/C19) -> 0.98366807 | F19: =SUM(F3:F18) -> 23282 | G19: =SUM(G3:G18) -> 22661 | H19: =IF(ISERROR(G19/F19),"",G19/F19) -> 0.97332703 | I19: =C19+F19 -> 51264 | J19: =D19+G19 -> 50186 | K19: =IF(ISERROR(J19/I19),"",J19/I19) -> 0.9789716 | Q19: =N23 -> 135172 | R19: =J20 -> 24878
A20: 前年同期合計 | B20: 1 | C20: 25114 | D20: 24878 | E20: 0.99060285 | F20: 0 | G20: 0 | I20: 25114 | J20: 24878 | K20: 0.99060285
A21: 対前年比(%) | B21: =IFERROR(B19/B20,"") -> 3 | C21: =IFERROR(C19/C20,"") -> 1.1141993 | D21: =IFERROR(D19/D20,"") -> 1.1063992 | F21: - | G21: - | I21: =IFERROR(I19/I20,"") -> 2.0412519 | J21: =IFERROR(J19/J20,"") -> 2.0172843
A22: 累計 | B22: =B19+'８月'!B22 -> 22 | C22: =C19+'８月'!C22 -> 80920 | D22: =D19+'８月'!D22 -> 75505 | E22: =IF(ISERROR(D22/C22)," ",(D22/C22)) -> 0.93308206 | F22: =F19+'８月'!F22 -> 168725 | G22: =G19+'８月'!G22 -> 161755 | H22: =IF(ISERROR(G22/F22)," ",(G22/F22)) -> 0.95869018 | L22: =SUM(L3:L18) -> 22 | M22: =SUM(M3:M18) -> 249645 | N22: =SUM(N3:N18) -> 237260 | O22: =IF(ISERROR(N22/M22),"",N22/M22) -> 0.95038955 | P22: =N22/Q19 -> 1.7552452
A23: 前年同期累計 | B23: 13 | C23: 64496 | D23: 63958 | E23: 0.9916584 | F23: 121717 | G23: 118538 | H23: 0.97388204 | L23: 13 | M23: 138036 | N23: 135172 | O23: 0.97925179
A24: 対前年比(%) | B24: =IFERROR(B22/B23,"") -> 1.6923077 | C24: =IFERROR(C22/C23,"") -> 1.2546515 | D24: =IFERROR(D22/D23,"") -> 1.1805404 | F24: =IFERROR(F22/F23,"") -> 1.3862073 | G24: =IFERROR(G22/G23,"") -> 1.3645835 | L24: =IFERROR(L22/L23,"") -> 1.6923077 | M24: =IFERROR(M22/M23,"") -> 1.8085499 | N24: =IFERROR(N22/N23,"") -> 1.7552452

Sheet １０月
D1: 卵 用 鶏 | G1: 肉 用 鶏 | J1: 合 計 | N1: 累 計 | P1: Bの対前年
A2: 所別 | B2: 件数 | C2: 入検(A) | D2: 解放(B) | E2: B/A | F2: 入検(A) | G2: 解放(B) | H2: B/A | I2: 入検(A) | J2: 解放(B) | K2: B/A | L2: 件数 | M2: 入検(A) | N2: 解放(B) | O2: B/A | P2: 同期比 (%) | Q2: 前年同期累計 | R2: 前年同期合計
A3: 横浜本所 | E3: =IF(ISERROR(D3/C3),"",D3/C3) | H3: =IF(ISERROR(G3/F3),"",G3/F3) | K3: =IF(ISERROR(J3/I3),"",J3/I3) | L3: =B3+'９月'!L3 -> 6 | M3: =I3+'９月'!M3 -> 127214 | N3: =J3+'９月'!N3 -> 120839 | O3: =IF(ISERROR(N3/M3),"",N3/M3) -> 0.94988759 | P3: =IF(ISERROR(N3/Q3),"",N3/Q3) -> 1.0764304 | Q3: 112259
A4: 静岡出張所 | E4: =IF(ISERROR(D4/C4),"",D4/C4) | H4: =IF(ISERROR(G4/F4),"",G4/F4) | K4: =IF(ISERROR(J4/I4),"",J4/I4) | L4: =B4+'９月'!L4 -> 3 | M4: =I4+'９月'!M4 -> 9264 | N4: =J4+'９月'!N4 -> 9144 | O4: =IF(ISERROR(N4/M4),"",N4/M4) -> 0.98704663 | P4: =IF(ISERROR(N4/Q4),"",N4/Q4) -> 0.73463485 | Q4: 12447
A5: 北海道・東北支所 | E5: =IF(ISERROR(D5/C5),"",D5/C5) | H5: =IF(ISERROR(G5/F5),"",G5/F5) | K5: =IF(ISERROR(J5/I5),"",J5/I5) | L5: =B5+'９月'!L5 -> 0 | M5: =I5+'９月'!M5 -> 0 | N5: =J5+'９月'!N5 -> 0 | O5: =IF(ISERROR(N5/M5),"",N5/M5) | P5: =IF(ISERROR(N5/Q5),"",N5/Q5) | Q5: 0
A6: 仙台空港出張所 | E6: =IF(ISERROR(D6/C6),"",D6/C6) | H6: =IF(ISERROR(G6/F6),"",G6/F6) | K6: =IF(ISERROR(J6/I6),"",J6/I6) | L6: =B6+'９月'!L6 -> 3 | M6: =I6+'９月'!M6 -> 24828 | N6: =J6+'９月'!N6 -> 22673 | O6: =IF(ISERROR(N6/M6),"",N6/M6) -> 0.91320284 | P6: =IF(ISERROR(N6/Q6),"",N6/Q6) -> 1.6681136 | Q6: 13592 | R6: 13592
A7: 成田支所 | E7: =IF(ISERROR(D7/C7),"",D7/C7) | H7: =IF(ISERROR(G7/F7),"",G7/F7) | K7: =IF(ISERROR(J7/I7),"",J7/I7) | L7: =B7+'９月'!L7 -> 2 | M7: =I7+'９月'!M7 -> 4914 | N7: =J7+'９月'!N7 -> 4852 | O7: =IF(ISERROR(N7/M7),"",N7/M7) -> 0.98738299 | P7: =IF(ISERROR(N7/Q7),"",N7/Q7) -> 1.9384738 | Q7: 2503 | R7: 2503
A8: 中部空港支所 | E8: =IF(ISERROR(D8/C8),"",D8/C8) | H8: =IF(ISERROR(G8/F8),"",G8/F8) | K8: =IF(ISERROR(J8/I8),"",J8/I8) | L8: =B8+'９月'!L8 -> 0 | M8: =I8+'９月'!M8 -> 0 | N8: =J8+'９月'!N8 -> 0 | O8: =IF(ISERROR(N8/M8),"",N8/M8) | P8: =IF(ISERROR(N8/Q8),"",N8/Q8) | Q8: 0 | R8: 0
A9: 名古屋出張所 | E9: =IF(ISERROR(D9/C9),"",D9/C9) | H9: =IF(ISERROR(G9/F9),"",G9/F9) | K9: =IF(ISERROR(J9/I9),"",J9/I9) | L9: =B9+'９月'!L9 -> 0 | M9: =I9+'９月'!M9 -> 0 | N9: =J9+'９月'!N9 -> 0 | O9: =IF(ISERROR(N9/M9),"",N9/M9) | P9: =IF(ISERROR(N9/Q9),"",N9/Q9) | Q9: 0
A10: 神戸支所 | B10: 2 | E10: =IF(ISERROR(D10/C10),"",D10/C10) | F10: 1977 | G10: 1877 | H10: =IF(ISERROR(G10/F10),"",G10/F10) -> 0.94941831 | I10: 1977 | J10: 1877 | K10: =IF(ISERROR(J10/I10),"",J10/I10) -> 0.94941831 | L10: =B10+'９月'!L10 -> 7 | M10: =I10+'９月'!M10 -> 8934 | N10: =J10+'９月'!N10 -> 7815 | O10: =IF(ISERROR(N10/M10),"",N10/M10) -> 0.87474815 | P10: =IF(ISERROR(N10/Q10),"",N10/Q10) -> 1.1089825 | Q10: 7047
A11: 大阪出張所 | E11: =IF(ISERROR(D11/C11),"",D11/C11) | H11: =IF(ISERROR(G11/F11),"",G11/F11) | K11: =IF(ISERROR(J11/I11),"",J11/I11) | L11: =B11+'９月'!L11 -> 0 | M11: =I11+'９月'!M11 -> 0 | N11: =J11+'９月'!N11 -> 0 | O11: =IF(ISERROR(N11/M11),"",N11/M11) | P11: 0% | Q11: 8502 | R11: 8502
A12: 広島空港出張所 | E12: =IF(ISERROR(D12/C12),"",D12/C12) | H12: =IF(ISERROR(G12/F12),"",G12/F12) | K12: =IF(ISERROR(J12/I12),"",J12/I12) | L12: =B12+'９月'!L12 -> 0 | M12: =I12+'９月'!M12 -> 0 | N12: =J12+'９月'!N12 -> 0 | O12: =IF(ISERROR(N12/M12),"",N12/M12) | P12: =IF(ISERROR(N12/Q12),"",N12/Q12) | Q12: 0
A13: 岡山空港出張所 | E13: =IF(ISERROR(D13/C13),"",D13/C13) | H13: =IF(ISERROR(G13/F13),"",G13/F13) | K13: =IF(ISERROR(J13/I13),"",J13/I13) | L13: =B13+'９月'!L13 -> 3 | M13: =I13+'９月'!M13 -> 76468 | N13: =J13+'９月'!N13 -> 73814 | O13: =IF(ISERROR(N13/M13),"",N13/M13) -> 0.96529267 | P13: =IF(ISERROR(N13/Q13),"",N13/Q13) -> 3.2992446 | Q13: 22373
A14: 門司支所 | E14: =IF(ISERROR(D14/C14),"",D14/C14) | H14: =IF(ISERROR(G14/F14),"",G14/F14) | K14: =IF(ISERROR(J14/I14),"",J14/I14) | L14: =B14+'９月'!L14 -> 0 | M14: =I14+'９月'!M14 -> 0 | N14: =J14+'９月'!N14 -> 0 | O14: =IF(ISERROR(N14/M14),"",N14/M14) | P14: 0% | Q14: 11819 | R14: 5895
A15: 博多出張所 | E15: =IF(ISERROR(D15/C15),"",D15/C15) | H15: =IF(ISERROR(G15/F15),"",G15/F15) | K15: =IF(ISERROR(J15/I15),"",J15/I15) | L15: =B15+'９月'!L15 -> 0 | M15: =I15+'９月'!M15 -> 0 | N15: =J15+'９月'!N15 -> 0 | O15: =IF(ISERROR(N15/M15),"",N15/M15) | P15: =IF(ISERROR(N15/Q15),"",N15/Q15) | Q15: 0
A16: 福岡空港出張所 | E16: =IF(ISERROR(D16/C16),"",D16/C16) | H16: =IF(ISERROR(G16/F16),"",G16/F16) | K16: =IF(ISERROR(J16/I16),"",J16/I16) | L16: =B16+'９月'!L16 -> 0 | M16: =I16+'９月'!M16 -> 0 | N16: =J16+'９月'!N16 -> 0 | O16: =IF(ISERROR(N16/M16),"",N16/M16) | P16: =IF(ISERROR(N16/Q16),"",N16/Q16) | Q16: 0
A17: 鹿児島空港出張所 | E17: =IF(ISERROR(D17/C17),"",D17/C17) | H17: =IF(ISERROR(G17/F17),"",G17/F17) | K17: =IF(ISERROR(J17/I17),"",J17/I17) | L17: =B17+'９月'!L17 -> 0 | M17: =I17+'９月'!M17 -> 0 | N17: =J17+'９月'!N17 -> 0 | O17: =IF(ISERROR(N17/M17),"",N17/M17) | P17: 0% | Q17: 3749 | R17: 3749
A18: 沖縄支所 | E18: =IF(ISERROR(D18/C18),"",D18/C18) | H18: =IF(ISERROR(G18/F18),"",G18/F18) | K18: =IF(ISERROR(J18/I18),"",J18/I18) | L18: =B18+'９月'!L18 -> 0 | M18: =I18+'９月'!M18 -> 0 | N18: =J18+'９月'!N18 -> 0 | O18: =IF(ISERROR(N18/M18),"",N18/M18) | P18: =IF(ISERROR(N18/Q18),"",N18/Q18) | Q18: 0
A19: 合計 | B19: =SUM(B3:B18) -> 2 | C19: =SUM(C3:C18) -> 0 | D19: =SUM(D3:D18) -> 0 | E19: =IF(ISERROR(D19/C19),"",D19/C19) | F19: =SUM(F3:F18) -> 1977 | G19: =SUM(G3:G18) -> 1877 | H19: =IF(ISERROR(G19/F19),"",G19/F19) -> 0.94941831 | I19: =SUM(I3:I18) -> 1977 | J19: =SUM(J3:J18) -> 1877 | K19: =IF(ISERROR(J19/I19),"",J19/I19) -> 0.94941831 | Q19: =N23 -> 194291 | R19: =J20 -> 34241
A20: 前年同期合計 | B20: 11 | C20: 16665 | D20: 12944 | E20: 0.77671767 | F20: 21549 | G20: 21297 | H20: 0.98830572 | I20: 38214 | J20: 34241 | K20: 0.89603287
A21: 対前年比(%) | B21: =IFERROR(B19/B20,"") -> 0.18181818 | C21: 0% | D21: 0% | F21: =IFERROR(F19/F20,"") -> 0.091744396 | G21: =IFERROR(G19/G20,"") -> 0.088134479 | I21: =IFERROR(I19/I20,"") -> 0.051734966 | J21: =IFERROR(J19/J20,"") -> 0.054817324
A22: 累計 | B22: =B19+'９月'!B22 -> 24 | C22: =C19+'９月'!C22 -> 80920 | D22: =D19+'９月'!D22 -> 75505 | E22: =IF(ISERROR(D22/C22)," ",(D22/C22)) -> 0.93308206 | F22: =F19+'９月'!F22 -> 170702 | G22: =G19+'９月'!G22 -> 163632 | H22: =IF(ISERROR(G22/F22)," ",(G22/F22)) -> 0.95858279 | L22: =SUM(L3:L18) -> 24 | M22: =SUM(M3:M18) -> 251622 | N22: =SUM(N3:N18) -> 239137 | O22: =IF(ISERROR(N22/M22),"",N22/M22) -> 0.95038192 | P22: =N22/Q19 -> 1.2308187
A23: 前年同期累計 | B23: 24 | C23: 81161 | D23: 76902 | E23: 0.94752406 | F23: 143266 | G23: 139835 | H23: 0.97605154 | L23: 24 | M23: 201364 | N23: 194291 | O23: 0.96120851
A24: 対前年比(%) | B24: =IFERROR(B22/B23,"") -> 1 | C24: =IFERROR(C22/C23,"") -> 0.99703059 | D24: =IFERROR(D22/D23,"") -> 0.98183402 | F24: =IFERROR(F22/F23,"") -> 1.1915039 | G24: =IFERROR(G22/G23,"") -> 1.1701791 | L24: =IFERROR(L22/L23,"") -> 1 | M24: =IFERROR(M22/M23,"") -> 1.2495878 | N24: =IFERROR(N22/N23,"") -> 1.2308187

Sheet １１月
D1: 卵 用 鶏 | G1: 肉 用 鶏 | J1: 合 計 | N1: 累 計 | P1: Bの対前年
A2: 所別 | B2: 件数 | C2: 入検(A) | D2: 解放(B) | E2: B/A | F2: 入検(A) | G2: 解放(B) | H2: B/A | I2: 入検(A) | J2: 解放(B) | K2: B/A | L2: 件数 | M2: 入検(A) | N2: 解放(B) | O2: B/A | P2: 同期比 (%) | Q2: 前年同期累計 | R2: 前年同期合計
A3: 横浜本所 | E3: =IF(ISERROR(D3/C3),"",D3/C3) | H3: =IF(ISERROR(G3/F3),"",G3/F3) | K3: =IF(ISERROR(J3/I3),"",J3/I3) | L3: =B3+'１０月'!L3 -> 6 | M3: =I3+'１０月'!M3 -> 127214 | N3: =J3+'１０月'!N3 -> 120839 | O3: =IF(ISERROR(N3/M3),"",N3/M3) -> 0.94988759 | P3: =IF(ISERROR(N3/Q3),"",N3/Q3) -> 0.88423094 | Q3: 136660 | R3: 24401
A4: 静岡出張所 | B4: 1 | C4: 22862 | D4: 22482 | E4: =IF(ISERROR(D4/C4),"",D4/C4) -> 0.98337853 | H4: =IF(ISERROR(G4/F4),"",G4/F4) | I4: 22862 | J4: 22482 | K4: =IF(ISERROR(J4/I4),"",J4/I4) -> 0.98337853 | L4: =B4+'１０月'!L4 -> 4 | M4: =I4+'１０月'!M4 -> 32126 | N4: =J4+'１０月'!N4 -> 31626 | O4: =IF(ISERROR(N4/M4),"",N4/M4) -> 0.98443628 | P4: =IF(ISERROR(N4/Q4),"",N4/Q4) -> 2.0731563 | Q4: 15255 | R4: 2808
A5: 北海道・東北支所 | E5: =IF(ISERROR(D5/C5),"",D5/C5) | H5: =IF(ISERROR(G5/F5),"",G5/F5) | K5: =IF(ISERROR(J5/I5),"",J5/I5) | L5: =B5+'１０月'!L5 -> 0 | M5: =I5+'１０月'!M5 -> 0 | N5: =J5+'１０月'!N5 -> 0 | O5: =IF(ISERROR(N5/M5),"",N5/M5) | P5: =IF(ISERROR(N5/Q5),"",N5/Q5) | Q5: 0
A6: 仙台空港出張所 | E6: =IF(ISERROR(D6/C6),"",D6/C6) | H6: =IF(ISERROR(G6/F6),"",G6/F6) | K6: =IF(ISERROR(J6/I6),"",J6/I6) | L6: =B6+'１０月'!L6 -> 3 | M6: =I6+'１０月'!M6 -> 24828 | N6: =J6+'１０月'!N6 -> 22673 | O6: =IF(ISERROR(N6/M6),"",N6/M6) -> 0.91320284 | P6: =IF(ISERROR(N6/Q6),"",N6/Q6) -> 1.6681136 | Q6: 13592
A7: 成田支所 | B7: 1 | E7: =IF(ISERROR(D7/C7),"",D7/C7) | F7: 1418 | G7: 1416 | H7: =IF(ISERROR(G7/F7),"",G7/F7) -> 0.99858956 | I7: 1418 | J7: 1416 | K7: =IF(ISERROR(J7/I7),"",J7/I7) -> 0.99858956 | L7: =B7+'１０月'!L7 -> 3 | M7: =I7+'１０月'!M7 -> 6332 | N7: =J7+'１０月'!N7 -> 6268 | O7: =IF(ISERROR(N7/M7),"",N7/M7) -> 0.98989261 | P7: =IF(ISERROR(N7/Q7),"",N7/Q7) -> 2.504195 | Q7: 2503
A8: 中部空港支所 | E8: =IF(ISERROR(D8/C8),"",D8/C8) | H8: =IF(ISERROR(G8/F8),"",G8/F8) | K8: =IF(ISERROR(J8/I8),"",J8/I8) | L8: =B8+'１０月'!L8 -> 0 | M8: =I8+'１０月'!M8 -> 0 | N8: =J8+'１０月'!N8 -> 0 | O8: =IF(ISERROR(N8/M8),"",N8/M8) | P8: =IF(ISERROR(N8/Q8),"",N8/Q8)
A9: 名古屋出張所 | E9: =IF(ISERROR(D9/C9),"",D9/C9) | H9: =IF(ISERROR(G9/F9),"",G9/F9) | K9: =IF(ISERROR(J9/I9),"",J9/I9) | L9: =B9+'１０月'!L9 -> 0 | M9: =I9+'１０月'!M9 -> 0 | N9: =J9+'１０月'!N9 -> 0 | O9: =IF(ISERROR(N9/M9),"",N9/M9) | P9: =IF(ISERROR(N9/Q9),"",N9/Q9) | Q9: 0
A10: 神戸支所 | E10: =IF(ISERROR(D10/C10),"",D10/C10) | H10: =IF(ISERROR(G10/F10),"",G10/F10) | K10: =IF(ISERROR(J10/I10),"",J10/I10) | L10: =B10+'１０月'!L10 -> 7 | M10: =I10+'１０月'!M10 -> 8934 | N10: =J10+'１０月'!N10 -> 7815 | O10: =IF(ISERROR(N10/M10),"",N10/M10) -> 0.87474815 | P10: =IF(ISERROR(N10/Q10),"",N10/Q10) -> 1.1089825 | Q10: 7047
A11: 大阪出張所 | E11: =IF(ISERROR(D11/C11),"",D11/C11) | H11: =IF(ISERROR(G11/F11),"",G11/F11) | K11: =IF(ISERROR(J11/I11),"",J11/I11) | L11: =B11+'１０月'!L11 -> 0 | M11: =I11+'１０月'!M11 -> 0 | N11: =J11+'１０月'!N11 -> 0 | O11: =IF(ISERROR(N11/M11),"",N11/M11) | P11: 0% | Q11: 8502
A12: 広島空港出張所 | E12: =IF(ISERROR(D12/C12),"",D12/C12) | H12: =IF(ISERROR(G12/F12),"",G12/F12) | K12: =IF(ISERROR(J12/I12),"",J12/I12) | L12: =B12+'１０月'!L12 -> 0 | M12: =I12+'１０月'!M12 -> 0 | N12: =J12+'１０月'!N12 -> 0 | O12: =IF(ISERROR(N12/M12),"",N12/M12) | P12: =IF(ISERROR(N12/Q12),"",N12/Q12) | Q12: 0
A13: 岡山空港出張所 | B13: 1 | E13: =IF(ISERROR(D13/C13),"",D13/C13) | F13: 25479 | G13: 24746 | H13: =IF(ISERROR(G13/F13),"",G13/F13) -> 0.97123121 | I13: 25479 | J13: 24746 | K13: =IF(ISERROR(J13/I13),"",J13/I13) -> 0.97123121 | L13: =B13+'１０月'!L13 -> 4 | M13: =I13+'１０月'!M13 -> 101947 | N13: =J13+'１０月'!N13 -> 98560 | O13: =IF(ISERROR(N13/M13),"",N13/M13) -> 0.96677685 | P13: =IF(ISERROR(N13/Q13),"",N13/Q13) -> 4.40531 | Q13: 22373
A14: 門司支所 | E14: =IF(ISERROR(D14/C14),"",D14/C14) | H14: =IF(ISERROR(G14/F14),"",G14/F14) | K14: =IF(ISERROR(J14/I14),"",J14/I14) | L14: =B14+'１０月'!L14 -> 0 | M14: =I14+'１０月'!M14 -> 0 | N14: =J14+'１０月'!N14 -> 0 | O14: =IF(ISERROR(N14/M14),"",N14/M14) | P14: 0% | Q14: 11819
A15: 博多出張所 | E15: =IF(ISERROR(D15/C15),"",D15/C15) | H15: =IF(ISERROR(G15/F15),"",G15/F15) | K15: =IF(ISERROR(J15/I15),"",J15/I15) | L15: =B15+'１０月'!L15 -> 0 | M15: =I15+'１０月'!M15 -> 0 | N15: =J15+'１０月'!N15 -> 0 | O15: =IF(ISERROR(N15/M15),"",N15/M15) | P15: =IF(ISERROR(N15/Q15),"",N15/Q15) | Q15: 0
A16: 福岡空港出張所 | E16: =IF(ISERROR(D16/C16),"",D16/C16) | H16: =IF(ISERROR(G16/F16),"",G16/F16) | K16: =IF(ISERROR(J16/I16),"",J16/I16) | L16: =B16+'１０月'!L16 -> 0 | M16: =I16+'１０月'!M16 -> 0 | N16: =J16+'１０月'!N16 -> 0 | O16: =IF(ISERROR(N16/M16),"",N16/M16) | P16: =IF(ISERROR(N16/Q16),"",N16/Q16) | Q16: 0
A17: 鹿児島空港出張所 | E17: =IF(ISERROR(D17/C17),"",D17/C17) | H17: =IF(ISERROR(G17/F17),"",G17/F17) | K17: =IF(ISERROR(J17/I17),"",J17/I17) | L17: =B17+'１０月'!L17 -> 0 | M17: =I17+'１０月'!M17 -> 0 | N17: =J17+'１０月'!N17 -> 0 | O17: =IF(ISERROR(N17/M17),"",N17/M17) | P17: 0% | Q17: 3749
A18: 沖縄支所 | E18: =IF(ISERROR(D18/C18),"",D18/C18) | H18: =IF(ISERROR(G18/F18),"",G18/F18) | K18: =IF(ISERROR(J18/I18),"",J18/I18) | L18: =B18+'１０月'!L18 -> 0 | M18: =I18+'１０月'!M18 -> 0 | N18: =J18+'１０月'!N18 -> 0 | O18: =IF(ISERROR(N18/M18),"",N18/M18) | P18: =IF(ISERROR(N18/Q18),"",N18/Q18) | Q18: 0
A19: 合計 | B19: =SUM(B3:B18) -> 3 | C19: =SUM(C3:C18) -> 22862 | D19: =SUM(D3:D18) -> 22482 | E19: =IF(ISERROR(D19/C19),"",D19/C19) -> 0.98337853 | F19: =SUM(F3:F18) -> 26897 | G19: =SUM(G3:G18) -> 26162 | H19: =IF(ISERROR(G19/F19),"",G19/F19) -> 0.97267353 | I19: =C19+F19 -> 49759 | J19: =D19+G19 -> 48644 | K19: =IF(ISERROR(J19/I19),"",J19/I19) -> 0.97759199 | Q19: =N23 -> 221500 | R19: =J20 -> 27209
A20: 前年同期合計 | B20: 2 | C20: 2853 | D20: 2808 | E20: 0.98422713 | F20: 25600 | G20: 24401 | H20: 0.95316406 | I20: 28453 | J20: 27209 | K20: 0.95627878
A21: 対前年比(%) | B21: =IFERROR(B19/B20,"") -> 1.5 | C21: =IFERROR(C19/C20,"") -> 8.0133193 | D21: =IFERROR(D19/D20,"") -> 8.0064103 | F21: =IFERROR(F19/F20,"") -> 1.0506641 | G21: =IFERROR(G19/G20,"") -> 1.0721692 | I21: =IFERROR(I19/I20,"") -> 1.7488138 | J21: =IFERROR(J19/J20,"") -> 1.7877908
A22: 累計 | B22: =B19+'１０月'!B22 -> 27 | C22: =C19+'１０月'!C22 -> 103782 | D22: =D19+'１０月'!D22 -> 97987 | E22: =IF(ISERROR(D22/C22)," ",(D22/C22)) -> 0.9441618 | F22: =F19+'１０月'!F22 -> 197599 | G22: =G19+'１０月'!G22 -> 189794 | H22: =IF(ISERROR(G22/F22)," ",(G22/F22)) -> 0.96050081 | L22: =SUM(L3:L18) -> 27 | M22: =SUM(M3:M18) -> 301381 | N22: =SUM(N3:N18) -> 287781 | O22: =IF(ISERROR(N22/M22),"",N22/M22) -> 0.95487439 | P22: =N22/Q19 -> 1.299237
A23: 前年同期累計 | B23: 26 | C23: 84014 | D23: 79710 | E23: 0.94877044 | F23: 168866 | G23: 164236 | H23: 0.97258181 | L23: 26 | M23: 229817 | N23: 221500 | O23: 0.96052329
A24: 対前年比(%) | B24: =IFERROR(B22/B23,"") -> 1.0384615 | C24: =IFERROR(C22/C23,"") -> 1.2352941 | D24: =IFERROR(D22/D23,"") -> 1.2292937 | F24: =IFERROR(F22/F23,"") -> 1.1701527 | G24: =IFERROR(G22/G23,"") -> 1.1556175 | L24: =IFERROR(L22/L23,"") -> 1.0384615 | M24: =IFERROR(M22/M23,"") -> 1.3113956 | N24: =IFERROR(N22/N23,"") -> 1.299237

Sheet １２月
D1: 卵 用 鶏 | G1: 肉 用 鶏 | J1: 合 計 | N1: 累 計 | P1: Bの対前年
A2: 所別 | B2: 件数 | C2: 入検(A) | D2: 解放(B) | E2: B/A | F2: 入検(A) | G2: 解放(B) | H2: B/A | I2: 入検(A) | J2: 解放(B) | K2: B/A | L2: 件数 | M2: 入検(A) | N2: 解放(B) | O2: B/A | P2: 同期比 (%) | Q2: 前年同期累計 | R2: 前年同期合計
A3: 横浜本所 | B3: 1 | E3: =IF(ISERROR(D3/C3),"",D3/C3) | F3: 24076 | G3: 22845 | H3: =IF(ISERROR(G3/F3),"",G3/F3) -> 0.94887024 | I3: 24076 | J3: 22845 | K3: =IF(ISERROR(J3/I3),"",J3/I3) -> 0.94887024 | L3: =B3+'１１月'!L3 -> 7 | M3: =I3+'１１月'!M3 -> 151290 | N3: =J3+'１１月'!N3 -> 143684 | O3: =IF(ISERROR(N3/M3),"",N3/M3) -> 0.94972569 | P3: =IF(ISERROR(N3/Q3),"",N3/Q3) -> 1.0513976 | Q3: 136660
A4: 静岡出張所 | E4: =IF(ISERROR(D4/C4),"",D4/C4) | H4: =IF(ISERROR(G4/F4),"",G4/F4) | K4: =IF(ISERROR(J4/I4),"",J4/I4) | L4: =B4+'１１月'!L4 -> 4 | M4: =I4+'１１月'!M4 -> 32126 | N4: =J4+'１１月'!N4 -> 31626 | O4: =IF(ISERROR(N4/M4),"",N4/M4) -> 0.98443628 | P4: =IF(ISERROR(N4/Q4),"",N4/Q4) -> 2.0731563 | Q4: 15255
A5: 北海道・東北支所 | E5: =IF(ISERROR(D5/C5),"",D5/C5) | H5: =IF(ISERROR(G5/F5),"",G5/F5) | K5: =IF(ISERROR(J5/I5),"",J5/I5) | L5: =B5+'１１月'!L5 -> 0 | M5: =I5+'１１月'!M5 -> 0 | N5: =J5+'１１月'!N5 -> 0 | O5: =IF(ISERROR(N5/M5),"",N5/M5) | P5: =IF(ISERROR(N5/Q5),"",N5/Q5) | Q5: 0
A6: 仙台空港出張所 | B6: 1 | E6: =IF(ISERROR(D6/C6),"",D6/C6) | F6: 1566 | G6: 1516 | H6: =IF(ISERROR(G6/F6),"",G6/F6) -> 0.96807152 | I6: 1566 | J6: 1516 | K6: =IF(ISERROR(J6/I6),"",J6/I6) -> 0.96807152 | L6: =B6+'１１月'!L6 -> 4 | M6: =I6+'１１月'!M6 -> 26394 | N6: =J6+'１１月'!N6 -> 24189 | O6: =IF(ISERROR(N6/M6),"",N6/M6) -> 0.91645829 | P6: =IF(ISERROR(N6/Q6),"",N6/Q6) -> 0.97489118 | Q6: 24812 | R6: 11220
A7: 成田支所 | E7: =IF(ISERROR(D7/C7),"",D7/C7) | H7: =IF(ISERROR(G7/F7),"",G7/F7) | K7: =IF(ISERROR(J7/I7),"",J7/I7) | L7: =B7+'１１月'!L7 -> 3 | M7: =I7+'１１月'!M7 -> 6332 | N7: =J7+'１１月'!N7 -> 6268 | O7: =IF(ISERROR(N7/M7),"",N7/M7) -> 0.98989261 | P7: =IF(ISERROR(N7/Q7),"",N7/Q7) -> 2.504195 | Q7: 2503
A8: 中部空港支所 | E8: =IF(ISERROR(D8/C8),"",D8/C8) | H8: =IF(ISERROR(G8/F8),"",G8/F8) | K8: =IF(ISERROR(J8/I8),"",J8/I8) | L8: =B8+'１１月'!L8 -> 0 | M8: =I8+'１１月'!M8 -> 0 | N8: =J8+'１１月'!N8 -> 0 | O8: =IF(ISERROR(N8/M8),"",N8/M8) | P8: =IF(ISERROR(N8/Q8),"",N8/Q8)
A9: 名古屋出張所 | E9: =IF(ISERROR(D9/C9),"",D9/C9) | H9: =IF(ISERROR(G9/F9),"",G9/F9) | K9: =IF(ISERROR(J9/I9),"",J9/I9) | L9: =B9+'１１月'!L9 -> 0 | M9: =I9+'１１月'!M9 -> 0 | N9: =J9+'１１月'!N9 -> 0 | O9: =IF(ISERROR(N9/M9),"",N9/M9) | P9: =IF(ISERROR(N9/Q9),"",N9/Q9) | Q9: 0
A10: 神戸支所 | B10: 2 | E10: =IF(ISERROR(D10/C10),"",D10/C10) | F10: 5121 | G10: 4382 | H10: =IF(ISERROR(G10/F10),"",G10/F10) -> 0.85569225 | I10: 5121 | J10: 4382 | K10: =IF(ISERROR(J10/I10),"",J10/I10) -> 0.85569225 | L10: =B10+'１１月'!L10 -> 9 | M10: =I10+'１１月'!M10 -> 14055 | N10: =J10+'１１月'!N10 -> 12197 | O10: =IF(ISERROR(N10/M10),"",N10/M10) -> 0.86780505 | P10: =IF(ISERROR(N10/Q10),"",N10/Q10) -> 1.7308074 | Q10: 7047
A11: 大阪出張所 | E11: =IF(ISERROR(D11/C11),"",D11/C11) | H11: =IF(ISERROR(G11/F11),"",G11/F11) | K11: =IF(ISERROR(J11/I11),"",J11/I11) | L11: =B11+'１１月'!L11 -> 0 | M11: =I11+'１１月'!M11 -> 0 | N11: =J11+'１１月'!N11 -> 0 | O11: =IF(ISERROR(N11/M11),"",N11/M11) | P11: 0% | Q11: 8502
A12: 広島空港出張所 | E12: =IF(ISERROR(D12/C12),"",D12/C12) | H12: =IF(ISERROR(G12/F12),"",G12/F12) | K12: =IF(ISERROR(J12/I12),"",J12/I12) | L12: =B12+'１１月'!L12 -> 0 | M12: =I12+'１１月'!M12 -> 0 | N12: =J12+'１１月'!N12 -> 0 | O12: =IF(ISERROR(N12/M12),"",N12/M12) | P12: =IF(ISERROR(N12/Q12),"",N12/Q12) | Q12: 0
A13: 岡山空港出張所 | E13: =IF(ISERROR(D13/C13),"",D13/C13) | H13: =IF(ISERROR(G13/F13),"",G13/F13) | K13: =IF(ISERROR(J13/I13),"",J13/I13) | L13: =B13+'１１月'!L13 -> 4 | M13: =I13+'１１月'!M13 -> 101947 | N13: =J13+'１１月'!N13 -> 98560 | O13: =IF(ISERROR(N13/M13),"",N13/M13) -> 0.96677685 | P13: =IF(ISERROR(N13/Q13),"",N13/Q13) -> 4.40531 | Q13: 22373
A14: 門司支所 | B14: 1 | E14: =IF(ISERROR(D14/C14),"",D14/C14) | F14: 5558 | G14: 5362 | H14: =IF(ISERROR(G14/F14),"",G14/F14) -> 0.96473552 | I14: 5558 | J14: 5362 | K14: =IF(ISERROR(J14/I14),"",J14/I14) -> 0.96473552 | L14: =B14+'１１月'!L14 -> 1 | M14: =I14+'１１月'!M14 -> 5558 | N14: =J14+'１１月'!N14 -> 5362 | O14: =IF(ISERROR(N14/M14),"",N14/M14) -> 0.96473552 | P14: =IF(ISERROR(N14/Q14),"",N14/Q14) -> 0.45367628 | Q14: 11819
A15: 博多出張所 | E15: =IF(ISERROR(D15/C15),"",D15/C15) | H15: =IF(ISERROR(G15/F15),"",G15/F15) | K15: =IF(ISERROR(J15/I15),"",J15/I15) | L15: =B15+'１１月'!L15 -> 0 | M15: =I15+'１１月'!M15 -> 0 | N15: =J15+'１１月'!N15 -> 0 | O15: =IF(ISERROR(N15/M15),"",N15/M15) | P15: =IF(ISERROR(N15/Q15),"",N15/Q15) | Q15: 0
A16: 福岡空港出張所 | E16: =IF(ISERROR(D16/C16),"",D16/C16) | H16: =IF(ISERROR(G16/F16),"",G16/F16) | K16: =IF(ISERROR(J16/I16),"",J16/I16) | L16: =B16+'１１月'!L16 -> 0 | M16: =I16+'１１月'!M16 -> 0 | N16: =J16+'１１月'!N16 -> 0 | O16: =IF(ISERROR(N16/M16),"",N16/M16) | P16: =IF(ISERROR(N16/Q16),"",N16/Q16) | Q16: 0
A17: 鹿児島空港出張所 | E17: =IF(ISERROR(D17/C17),"",D17/C17) | H17: =IF(ISERROR(G17/F17),"",G17/F17) | K17: =IF(ISERROR(J17/I17),"",J17/I17) | L17: =B17+'１１月'!L17 -> 0 | M17: =I17+'１１月'!M17 -> 0 | N17: =J17+'１１月'!N17 -> 0 | O17: =IF(ISERROR(N17/M17),"",N17/M17) | P17: 0% | Q17: 3749
A18: 沖縄支所 | E18: =IF(ISERROR(D18/C18),"",D18/C18) | H18: =IF(ISERROR(G18/F18),"",G18/F18) | K18: =IF(ISERROR(J18/I18),"",J18/I18) | L18: =B18+'１１月'!L18 -> 0 | M18: =I18+'１１月'!M18 -> 0 | N18: =J18+'１１月'!N18 -> 0 | O18: =IF(ISERROR(N18/M18),"",N18/M18) | P18: =IF(ISERROR(N18/Q18),"",N18/Q18) | Q18: 0
A19: 合計 | B19: =SUM(B3:B18) -> 5 | C19: =SUM(C3:C18) -> 0 | D19: =SUM(D3:D18) -> 0 | E19: =IF(ISERROR(D19/C19),"",D19/C19) | F19: =SUM(F3:F18) -> 36321 | G19: =SUM(G3:G18) -> 34105 | H19: =IF(ISERROR(G19/F19),"",G19/F19) -> 0.93898846 | I19: =C19+F19 -> 36321 | J19: =D19+G19 -> 34105 | K19: =IF(ISERROR(J19/I19),"",J19/I19) -> 0.93898846 | Q19: =N23 -> 232720 | R19: =J20 -> 11220
A20: 前年同期合計 | B20: 4 | F20: 11641 | G20: 11220 | H20: 0.964 | I20: 11641 | J20: 11220 | K20: 0.964
A21: 対前年比(%) | B21: =IFERROR(B19/B20,"") -> 1.25 | C21: =IFERROR(C19/C20,"") | D21: =IFERROR(D19/D20,"") | F21: =IFERROR(F19/F20,"") -> 3.1200928 | G21: =IFERROR(G19/G20,"") -> 3.0396613 | I21: =IFERROR(I19/I20,"") -> 3.1200928 | J21: =IFERROR(J19/J20,"") -> 3.0396613
A22: 累計 | B22: =B19+'１１月'!B22 -> 32 | C22: =C19+'１１月'!C22 -> 103782 | D22: =D19+'１１月'!D22 -> 97987 | E22: =IF(ISERROR(D22/C22)," ",(D22/C22)) -> 0.9441618 | F22: =F19+'１１月'!F22 -> 233920 | G22: =G19+'１１月'!G22 -> 223899 | H22: =IF(ISERROR(G22/F22)," ",(G22/F22)) -> 0.95716057 | L22: =SUM(L3:L18) -> 32 | M22: =SUM(M3:M18) -> 337702 | N22: =SUM(N3:N18) -> 321886 | O22: =IF(ISERROR(N22/M22),"",N22/M22) -> 0.95316581 | P22: =N22/Q19 -> 1.3831471
A23: 前年同期累計 | B23: 30 | C23: 84014 | D23: 79710 | E23: 0.94877044 | F23: 180507 | G23: 175456 | H23: 0.97201771 | L23: 30 | M23: 241458 | N23: 232720 | O23: 0.96381151
A24: 対前年比(%) | B24: =IFERROR(B22/B23,"") -> 1.0666667 | C24: =IFERROR(C22/C23,"") -> 1.2352941 | D24: =IFERROR(D22/D23,"") -> 1.2292937 | F24: =IFERROR(F22/F23,"") -> 1.2959054 | G24: =IFERROR(G22/G23,"") -> 1.2760977 | L24: =IFERROR(L22/L23,"") -> 1.0666667 | M24: =IFERROR(M22/M23,"") -> 1.3985952 | N24: =IFERROR(N22/N23,"") -> 1.3831471
