Workbook

Sheet 動物
B2: 動物の輸出入検疫速報（令和６年10月分）
E4: (単位：頭、羽）
C5: 用 途 | D5: 輸 入 | E5: 輸 出
B6: 牛 | C6: 乳用繁殖用 | D6: - | E6: -
C7: 肉用繁殖用 | D7: - | E7: -
C8: 肥育用 | D8: - | E8: -
C9: と畜場直行用 | D9: - | E9: -
C10: その他 | D10: - | E10: -
B11: 豚 | C11: 繁殖用 | D11: - | E11: -
C12: その他 | D12: - | E12: -
B13: めん羊 | D13: - | E13: -
B14: 山羊 | D14: - | E14: -
B15: その他の偶蹄類 | D15: - | E15: -
B16: 馬 | C16: 繁殖用 | D16: 9 | E16: 2
C17: 乗用 | D17: 41 | E17: -
C18: 競走用 | D18: 27 | E18: 26
C19: 肥育用 | D19: 226 | E19: -
C20: と畜場直行用 | D20: - | E20: -
C21: その他 | D21: - | E21: -
B22: その他の馬科 | D22: - | E22: -
B23: うさぎ | D23: 2 | E23: 127
B24: 鶏 | D24: - | E24: -
B25: うずら | D25: - | E25: -
B26: だちょう | D26: - | E26: -
B27: 七面鳥 | D27: - | E27: -
B28: あひる | D28: - | E28: -
B29: がちょう | D29: - | E29: -
B30: その他のかも目の鳥類 | D30: - | E30: -
B31: きじ | D31: - | E31: -
B32: ほろほろ鳥 | D32: - | E32: -
B33: 初生ひな（鶏） | D33: 1877 | E33: -
B34: 初生ひな（その他） | D34: - | E34: -
B35: 種卵（個） | D35: - | E35: -
B36: 蜜蜂（群） | D36: - | E36: -
B37: 指定検疫物以外の動物（注２） | E37: 9617
B38: 犬 | D38: 774 | E38: 698
B39: 猫 | D39: 398 | E39: 272
B40: あらいぐま | D40: - | E40: -
B41: きつね | D41: 4 | E41: -
B42: スカンク | D42: - | E42: -
...

Sheet 輸入畜産物
A1: 輸入畜産物検疫数量速報（令和６年10月分） | G1: （単位：Kg） | M1: 種類 | N1: 計
A2: 骨類 | B2: 骨 | C2: 砕骨 | D2: 蹄角 | E2: 骨腱 | F2: 蹄角粉 | G2: その他の骨 | H2: 計 | K2: 骨 | L2: B3 | M2: 骨 | N2: =VLOOKUP(M2,'[1]輸入畜産物ピボット(同一データを2カ所に貼る)'!$D$2:$E$120,2,FALSE) -> 1505423.3 | O2: L2
B3: 1505423.3 | C3: 716030.1 | D3: 3704.26 | E3: 64875.28 | F3: 82000 | G3: - | H3: 2372032.9 | K3: 砕骨 | L3: C3 | M3: 砕骨 | N3: =VLOOKUP(M3,'[1]輸入畜産物ピボット(同一データを2カ所に貼る)'!$D$2:$E$120,2,FALSE) -> 716030.1 | O3: L3
A4: 肉類 | B4: 牛肉 | C4: 豚肉 | D4: めん羊肉 | E4: 山羊肉 | F4: 鹿肉 | G4: その他の 偶蹄類肉 | H4: 加熱処理牛肉 | K4: 蹄角 | L4: D3 | M4: 蹄角 | N4: =VLOOKUP(M4,'[1]輸入畜産物ピボット(同一データを2カ所に貼る)'!$D$2:$E$120,2,FALSE) -> 3704.26 | O4: L4
B5: 46069842 | C5: 1.0273778e+08 | D5: 1506202.5 | E5: 44710.36 | F5: 113.16 | G5: 1253.8 | H5: 84181.84 | K5: 骨腱 | L5: E3 | M5: 骨腱 | N5: =VLOOKUP(M5,'[1]輸入畜産物ピボット(同一データを2カ所に貼る)'!$D$2:$E$120,2,FALSE) -> 64875.28 | O5: L5 | P5: =SUM(N2:N5) -> 2290032.9
B6: 加熱処理豚肉 | C6: 加熱処理 その他の偶蹄類肉 | D6: ハム | E6: 加熱処理ハム | F6: ソーセージ | G6: 加熱処理 ソーセージ | H6: ベーコン | K6: 生骨粉 | M6: 生骨粉 | N6: =VLOOKUP(M6,'[1]輸入畜産物ピボット(同一データを2カ所に貼る)'!$D$2:$E$120,2,FALSE) -> #N/A | O6: L6
B7: 806372.98 | C7: - | D7: 331759.74 | E7: 15079.01 | F7: 1387713 | G7: 707834.17 | H7: 76782.51 | K7: 加熱処理骨粉 | M7: 加熱処理骨粉 | N7: =VLOOKUP(M7,'[1]輸入畜産物ピボット(同一データを2カ所に貼る)'!$D$2:$E$120,2,FALSE) -> #N/A | O7: L7
B8: 加熱処理 ベーコン | C8: 馬肉 | D8: うさぎ肉 | E8: 家きん肉 | F8: 犬肉 | G8: 非加熱 その他の肉 | H8: 加熱処理 その他の肉 | K8: 蹄角粉 | L8: H3 | M8: 蹄角粉 | N8: =VLOOKUP(M8,'[1]輸入畜産物ピボット(同一データを2カ所に貼る)'!$D$2:$E$120,2,FALSE) -> 82000 | O8: L8
B9: 484.45 | C9: 453417.25 | D9: 402.06 | E9: 67023302 | F9: - | G9: 932764.03 | H9: 3872849 | K9: その他の骨 | L9: B5 | M9: その他の骨 | N9: =VLOOKUP(M9,'[1]輸入畜産物ピボット(同一データを2カ所に貼る)'!$D$2:$E$120,2,FALSE) -> #N/A | O9: L9
B10: 加熱処理 家きん肉 | C10: 加熱処理 その他の家きん肉 | H10: 計 | K10: 牛肉 | L10: B5 | M10: 牛肉 | N10: =VLOOKUP(M10,'[1]輸入畜産物ピボット(同一データを2カ所に貼る)'!$D$2:$E$120,2,FALSE) -> 46069842 | O10: L10
B11: 43838080 | C11: 3507354.1 | H11: 2.7339828e+08 | K11: 豚肉 | L11: C5 | M11: 豚肉 | N11: =VLOOKUP(M11,'[1]輸入畜産物ピボット(同一データを2カ所に貼る)'!$D$2:$E$120,2,FALSE) -> 1.0273778e+08 | O11: L11
A12: 臓器類 | B12: 牛臓器 | C12: 豚臓器 | D12: その他の 偶蹄類の臓器 | E12: 加熱処理 牛の臓器 | F12: 加熱処理 豚の臓器 | G12: 加熱処理その他の偶蹄類の臓器 | H12: 偶蹄類以外の 臓器 | K12: めん羊肉 | L12: D5 | M12: めん羊肉 | N12: =VLOOKUP(M12,'[1]輸入畜産物ピボット(同一データを2カ所に貼る)'!$D$2:$E$120,2,FALSE) -> 1506202.5 | O12: L12
B13: 96979.44 | C13: 64281.65 | D13: 11914.29 | E13: - | F13: - | G13: - | H13: 50081.48 | K13: 山羊肉 | L13: E5 | M13: 山羊肉 | N13: =VLOOKUP(M13,'[1]輸入畜産物ピボット(同一データを2カ所に貼る)'!$D$2:$E$120,2,FALSE) -> 44710.36 | O13: L13
B14: 消化管等 | C14: 加熱処理 消化管等 | D14: ケーシング | E14: 脂肪 | F14: 非加熱 その他の臓器 | G14: 加熱処理 その他の臓器 | H14: 加熱処理家きん 臓器・消化管等 | K14: 鹿肉 | L14: F5 | M14: 鹿肉 | N14: =VLOOKUP(M14,'[1]輸入畜産物ピボット(同一データを2カ所に貼る)'!$D$2:$E$120,2,FALSE) -> 113.16 | O14: L13
B15: 3465884.3 | C15: 3492 | D15: 383859.5 | E15: 2635717 | F15: 87 | G15: - | H15: 188728.32 | K15: その他の偶蹄類の肉 | L15: G5 | M15: その他の偶蹄類の肉 | N15: =VLOOKUP(M15,'[1]輸入畜産物ピボット(同一データを2カ所に貼る)'!$D$2:$E$120,2,FALSE) -> 1253.8 | O15: L14
B16: 加熱処理その他 の家きん臓器 | H16: 計 | K16: 加熱処理肉牛 | L16: B7 | M16: 加熱処理肉牛 | N16: =VLOOKUP(M16,'[1]輸入畜産物ピボット(同一データを2カ所に貼る)'!$D$2:$E$120,2,FALSE) -> 84181.84 | O16: L15
B17: 5964 | H17: 6906989 | K17: 加熱処理肉豚 | L17: C7 | M17: 加熱処理肉豚 | N17: =VLOOKUP(M17,'[1]輸入畜産物ピボット(同一データを2カ所に貼る)'!$D$2:$E$120,2,FALSE) -> 806372.98 | O17: L16
A18: 卵類 | B18: 食用殻付卵 | C18: 液卵 | D18: その他の卵 | H18: 計 | K18: 加熱処理肉その他偶蹄類 | L18: D7 | M18: 加熱処理肉その他偶蹄類（めん羊） | N18: =VLOOKUP(M18,'[1]輸入畜産物ピボット(同一データを2カ所に貼る)'!$D$2:$E$120,2,FALSE) -> #N/A | O18: L17
B19: 96382.8 | C19: 750070.1 | D19: - | H19: 846452.9 | K19: ハム | L19: E7 | M19: ハム | N19: =VLOOKUP(M19,'[1]輸入畜産物ピボット(同一データを2カ所に貼る)'!$D$2:$E$120,2,FALSE) -> 331759.74 | O19: L18
A20: 皮類 | B20: 牛皮 | C20: 豚皮 | D20: めん羊皮 | E20: 山羊皮 | F20: 鹿皮 | G20: その他の 偶蹄類の皮 | H20: 馬皮 | K20: 加熱処理ハム | L20: F7 | M20: 加熱処理ハム | N20: =VLOOKUP(M20,'[1]輸入畜産物ピボット(同一データを2カ所に貼る)'!$D$2:$E$120,2,FALSE) -> 15079.01 | O20: L19
B21: 2733593 | C21: 3869.67 | D21: 16573 | E21: - | F21: 11011 | G21: - | H21: 135753 | K21: ソーセージ | L21: G7 | M21: ソーセージ | N21: =VLOOKUP(M21,'[1]輸入畜産物ピボット(同一データを2カ所に貼る)'!$D$2:$E$120,2,FALSE) -> 1387713 | O21: L20
B22: うさぎ皮 | C22: 犬皮 | D22: その他の皮 | H22: 計 | K22: 加熱処理ソーセージ | L22: H7 | M22: 加熱処理ソーセージ | N22: =VLOOKUP(M22,'[1]輸入畜産物ピボット(同一データを2カ所に貼る)'!$D$2:$E$120,2,FALSE) -> 707834.17 | O22: L21 | P22: =P23+N23 -> 76782.51
B23: 26880 | C23: - | D23: - | H23: 2927679.7 | K23: ベーコン | L23: B9 | M23: ベーコン | N23: =VLOOKUP(M23,'[1]輸入畜産物ピボット(同一データを2カ所に貼る)'!$D$2:$E$120,2,FALSE) -> 76782.51 | O23: L22
A24: 毛類 | B24: 牛毛 | C24: 豚毛 | D24: 羊毛 | E24: 山羊毛 | F24: 鹿毛 | G24: その他の 偶蹄類の毛 | H24: 馬毛 | K24: 加熱処理ベーコン | L24: C9 | M24: 加熱処理ベーコン | N24: =VLOOKUP(M24,'[1]輸入畜産物ピボット(同一データを2カ所に貼る)'!$D$2:$E$120,2,FALSE) -> 484.45 | O24: L23
B25: - | C25: 3249 | D25: - | E25: 10092.1 | F25: - | G25: 5475 | H25: 3761.5 | K25: 馬肉 | L25: D9 | M25: 馬肉 | N25: =VLOOKUP(M25,'[1]輸入畜産物ピボット(同一データを2カ所に貼る)'!$D$2:$E$120,2,FALSE) -> 453417.25 | O25: L24 | P25: =SUM(N6:N26) -> #N/A
B26: うさぎ毛 | C26: 羽毛 | D26: 犬毛 | E26: その他の毛 | H26: 計 | K26: うさぎ肉 | L26: E9 | M26: うさぎ肉 | N26: =VLOOKUP(M26,'[1]輸入畜産物ピボット(同一データを2カ所に貼る)'!$D$2:$E$120,2,FALSE) -> 402.06 | O26: L25
B27: - | C27: 140336.62 | D27: - | E27: 3.69 | H27: 162917.91 | K27: 家きん肉 | L27: F9 | M27: 家きん肉 | N27: =VLOOKUP(M27,'[1]輸入畜産物ピボット(同一データを2カ所に貼る)'!$D$2:$E$120,2,FALSE) -> 67023302 | O27: L26
A28: 乳製品類 | B28: チーズ | C28: バター | D28: 偶蹄類動物の 飼料用乳製品 | E28: その他の 乳製品 | H28: 計
B29: 20849767 | C29: 2127040.9 | D29: 6097604 | E29: 5038982.8 | H29: 34113395
A30: ミール類 | B30: 血粉 | C30: 肉粉 | D30: 肉骨粉 | E30: 皮粉・羽毛粉 | H30: 計 | K30: 加熱処理肉（家きん） | L30: G9 | M30: 犬肉 | N30: =VLOOKUP(M30,'[1]輸入畜産物ピボット(同一データを2カ所に貼る)'!$D$2:$E$120,2,FALSE) -> #N/A | O30: L27
B31: 246073.5 | C31: 20900 | D31: - | E31: - | H31: 266973.5 | K31: 犬肉 | L31: H9 | M31: その他の肉（非加熱） | N31: =VLOOKUP(M31,'[1]輸入畜産物ピボット(同一データを2カ所に貼る)'!$D$2:$E$120,2,FALSE) -> 932764.03 | O31: L28
A32: その他 畜産物 | B32: 精液 (アンプル） | C32: 受精卵 （個） | D32: ふん・尿 | H32: 計 | K32: その他の肉（非加熱） | L32: B11 | M32: その他の肉（加熱処理肉） | N32: =VLOOKUP(M32,'[1]輸入畜産物ピボット(同一データを2カ所に貼る)'!$D$2:$E$120,2,FALSE) -> 3872849 | O32: L29
B33: 62665 | C33: 79 | D33: 0.7 | H33: 0.7 | K33: その他の肉（加熱処理肉） | L33: C11 | M33: 加熱処理肉（家きん） | N33: =VLOOKUP(M33,'[1]輸入畜産物ピボット(同一データを2カ所に貼る)'!$D$2:$E$120,2,FALSE) -> 43838080 | O33: L30
A34: わら類 | B34: 穀物のわら | C34: 飼料用の乾草 | D34: その他 | H34: 計 | K34: その他の肉（加熱処理肉）(家きん肉) | L34: D11 | M34: 加熱処理ハム（家きん） | N34: =VLOOKUP(M34,'[1]輸入畜産物ピボット(同一データを2カ所に貼る)'!$D$2:$E$120,2,FALSE) -> #N/A | O34: L31
B35: 21325386 | C35: - | D35: 173240 | H35: 21498626 | K35: 偶蹄類の臓器牛 | L35: E11 | M35: 加熱処理ソーセージ（家きん） | N35: =VLOOKUP(M35,'[1]輸入畜産物ピボット(同一データを2カ所に貼る)'!$D$2:$E$120,2,FALSE) -> #N/A | O35: L32
H36: 総計 | K36: 偶蹄類の臓器豚 | L36: F11 | M36: 加熱処理ベーコン（家きん） | N36: =VLOOKUP(M36,'[1]輸入畜産物ピボット(同一データを2カ所に貼る)'!$D$2:$E$120,2,FALSE) -> #N/A | O36: L33
H37: 3.4249335e+08 | K37: 偶蹄類の臓器その他の偶蹄類 | L37: G11 | M37: その他の肉（加熱処理肉）（家きん） | N37: =VLOOKUP(M37,'[1]輸入畜産物ピボット(同一データを2カ所に貼る)'!$D$2:$E$120,2,FALSE) -> 3507354.1 | O37: L34
K38: 加熱処理臓器牛 | L38: B15 | M38: 偶蹄類の臓器牛 | N38: =VLOOKUP(M38,'[1]輸入畜産物ピボット(同一データを2カ所に貼る)'!$D$2:$E$120,2,FALSE) -> 96979.44 | O38: L35
A39: 資料）動物検疫所調べ | K39: 加熱処理臓器豚 | L39: C15 | M39: 偶蹄類の臓器豚 | N39: =VLOOKUP(M39,'[1]輸入畜産物ピボット(同一データを2カ所に貼る)'!$D$2:$E$120,2,FALSE) -> 64281.65 | O39: L36
A40: (注） | B40: １．解放重量ベースの速報値の為、数値が変更となることがある。 また、数量についてはことわりのない限り、Kg集計できるもののみを集計している。 | K40: 加熱処理臓器その他の偶蹄類 | L40: D15 | M40: 偶蹄類の臓器その他の偶蹄類 | N40: =VLOOKUP(M40,'[1]輸入畜産物ピボット(同一データを2カ所に貼る)'!$D$2:$E$120,2,FALSE) -> 11914.29 | O40: L37 | P40: =SUM(N27:N41) -> #N/A
...

Sheet 輸出畜産物
A1: 輸出畜産物検疫数量速報（令和６年10月分） | G1: （単位：Kg） | M1: 種類 | N1: 計
A2: 骨類 | B2: 骨 | C2: 砕骨 | D2: 蹄角 | E2: 骨腱 | F2: 生骨粉 | G2: 加熱処理骨粉 | H2: 蹄角粉 | K2: 骨 | L2: B3 | M2: 骨 | N2: =VLOOKUP(M2,[1]輸出畜産物ピボット!$A$1:$B$73,2,FALSE) -> #N/A | O2: L2
B3: - | C3: - | D3: - | E3: - | F3: - | G3: - | H3: - | K3: 砕骨 | L3: C3 | M3: 砕骨 | N3: =VLOOKUP(M3,[1]輸出畜産物ピボット!$A$1:$B$73,2,FALSE) -> #N/A | O3: L3
B4: その他の骨 | H4: 計 | K4: 蹄角 | L4: D3 | M4: 蹄角 | N4: =VLOOKUP(M4,[1]輸出畜産物ピボット!$A$1:$B$73,2,FALSE) -> #N/A | O4: L4
B5: - | H5: 0 | K5: 骨腱 | L5: E3 | M5: 骨腱 | N5: =VLOOKUP(M5,[1]輸出畜産物ピボット!$A$1:$B$73,2,FALSE) -> #N/A | O5: L5 | P5: =SUM(N2:N5) -> #N/A
A6: 肉類 | B6: 牛肉 | C6: 豚肉 | D6: めん羊肉 | E6: 山羊肉 | F6: 鹿肉 | G6: その他の 偶蹄類肉 | H6: ハム | K6: 生骨粉 | L6: F3 | M6: 生骨粉 | N6: =VLOOKUP(M6,[1]輸出畜産物ピボット!$A$1:$B$73,2,FALSE) -> #N/A | O6: L6
B7: 899854.55 | C7: 155437.2 | D7: - | E7: - | F7: - | G7: - | H7: 5148.64 | K7: 加熱処理骨粉 | L7: G3 | M7: 加熱処理骨粉 | N7: =VLOOKUP(M7,[1]輸出畜産物ピボット!$A$1:$B$73,2,FALSE) -> #N/A | O7: L7
B8: ソーセージ | C8: ベーコン | D8: 馬肉 | E8: うさぎ肉 | F8: 家きん肉 | G8: 犬肉 | H8: その他の肉 | K8: 蹄角粉 | L8: H3 | M8: 蹄角粉 | N8: =VLOOKUP(M8,[1]輸出畜産物ピボット!$A$1:$B$73,2,FALSE) -> #N/A | O8: L8
B9: 873.88 | C9: 83.36 | D9: - | E9: - | F9: 374442.91 | G9: - | H9: 96357.49 | K9: その他の骨 | L9: B5 | M9: その他の骨 | N9: =VLOOKUP(M9,[1]輸出畜産物ピボット!$A$1:$B$73,2,FALSE) -> #N/A | O9: L9
H10: 計 | K10: 牛肉 | L10: B5 | M10: 牛肉 | N10: =VLOOKUP(M10,[1]輸出畜産物ピボット!$A$1:$B$73,2,FALSE) -> 899854.55 | O10: L10
H11: 1532198 | K11: 豚肉 | L11: C5 | M11: 豚肉 | N11: =VLOOKUP(M11,[1]輸出畜産物ピボット!$A$1:$B$73,2,FALSE) -> 155437.2 | O11: L11
A12: 臓器類 | B12: 牛臓器 | C12: 豚臓器 | D12: その他の 偶蹄類の臓器 | E12: 偶蹄類以外の 臓器 | F12: 消化管等 | G12: ケーシング | H12: 脂肪 | K12: めん羊肉 | L12: D5 | M12: めん羊肉 | N12: =VLOOKUP(M12,[1]輸出畜産物ピボット!$A$1:$B$73,2,FALSE) -> #N/A | O12: L12
B13: 93.1 | C13: 12800 | D13: - | E13: 2568 | F13: 2962.8 | G13: - | H13: 690 | K13: 山羊肉 | L13: E5 | M13: 山羊肉 | N13: =VLOOKUP(M13,[1]輸出畜産物ピボット!$A$1:$B$73,2,FALSE) -> #N/A | O13: L13
B14: 非加熱 その他の臓器 | H14: 計 | K14: 鹿肉 | L14: F5 | M14: 鹿肉 | N14: =VLOOKUP(M14,[1]輸出畜産物ピボット!$A$1:$B$73,2,FALSE) -> #N/A | O14: L13
B15: - | H15: 19113.9 | K15: その他の 偶蹄類肉 | L15: G5 | M15: その他の偶蹄類の肉 | N15: =VLOOKUP(M15,[1]輸出畜産物ピボット!$A$1:$B$73,2,FALSE) -> #N/A | O15: L14
A16: 卵類 | B16: 殻付卵 | C16: 液卵 | D16: その他の卵 | H16: 計 | K16: 加熱処理牛肉 | L16: B7 | M16: 加熱処理肉牛 | N16: =VLOOKUP(M16,[1]輸出畜産物ピボット!$A$1:$B$73,2,FALSE) -> #N/A | O16: L15
B17: 2404064.2 | C17: 6050 | D17: 22239.8 | H17: 2432354 | K17: 加熱処理豚肉 | L17: C7 | M17: 加熱処理肉豚 | N17: =VLOOKUP(M17,[1]輸出畜産物ピボット!$A$1:$B$73,2,FALSE) -> #N/A | O17: L16
A18: 皮類 | B18: 牛皮 | C18: 豚皮 | D18: めん羊皮 | E18: 山羊皮 | F18: 鹿皮 | G18: その他の 偶蹄類の皮 | H18: 馬皮 | K18: 加熱処理その他の偶蹄類肉 | L18: D7 | M18: 加熱処理その他の偶蹄類肉 | N18: =VLOOKUP(M18,[1]輸出畜産物ピボット!$A$1:$B$73,2,FALSE) -> #N/A | O18: L17
B19: 1457014 | C19: 5526457 | D19: - | E19: - | F19: - | G19: - | H19: - | K19: ハム | L19: E7 | M19: ハム | N19: =VLOOKUP(M19,[1]輸出畜産物ピボット!$A$1:$B$73,2,FALSE) -> 5148.64 | O19: L18
B20: うさぎ皮 | C20: 犬皮 | D20: その他の皮 | H20: 計 | K20: 加熱処理ハム | L20: F7 | M20: 加熱処理ハム | N20: =VLOOKUP(M20,[1]輸出畜産物ピボット!$A$1:$B$73,2,FALSE) -> #N/A | O20: L19
B21: - | C21: - | D21: - | H21: 6983471 | K21: ソーセージ | L21: G7 | M21: ソーセージ | N21: =VLOOKUP(M21,[1]輸出畜産物ピボット!$A$1:$B$73,2,FALSE) -> 873.88 | O21: L20
A22: 毛類 | B22: 牛毛 | C22: 豚毛 | D22: 羊毛 | E22: 山羊毛 | F22: 鹿毛 | G22: その他の 偶蹄類の毛 | H22: 馬毛 | K22: 加熱処理 ソーセージ | L22: H7 | M22: 加熱処理ソーセージ | N22: =VLOOKUP(M22,[1]輸出畜産物ピボット!$A$1:$B$73,2,FALSE) -> #N/A | O22: L21
B23: - | C23: - | D23: - | E23: - | F23: - | G23: - | H23: - | K23: ベーコン | L23: B9 | M23: ベーコン | N23: =VLOOKUP(M23,[1]輸出畜産物ピボット!$A$1:$B$73,2,FALSE) -> 83.36 | O23: L22
B24: うさぎ毛 | C24: 羽毛 | D24: 犬毛 | E24: その他の毛 | H24: 計 | K24: 加熱処理 ベーコン | L24: C9 | M24: 加熱処理ベーコン | N24: =VLOOKUP(M24,[1]輸出畜産物ピボット!$A$1:$B$73,2,FALSE) -> #N/A | O24: L23
B25: - | C25: 1566.35 | D25: - | E25: 60 | H25: 1626.35 | K25: 馬肉 | L25: D9 | M25: 馬肉 | N25: =VLOOKUP(M25,[1]輸出畜産物ピボット!$A$1:$B$73,2,FALSE) -> #N/A | O25: L24 | P25: =SUM(N6:N28) -> #N/A
A26: 乳製品類 | B26: チーズ | C26: バター | D26: 偶蹄類動物の 飼料用乳製品 | E26: その他の 乳製品 | H26: 計
B27: 349.86 | C27: 59.58 | D27: - | E27: 244064.24 | H27: 244473.68
A28: ミール類 | B28: 血粉 | C28: 肉粉 | D28: 肉骨粉 | E28: 皮粉・羽毛粉 | H28: 計 | K28: うさぎ肉 | L28: E9 | M28: うさぎ肉 | N28: =VLOOKUP(M28,[1]輸出畜産物ピボット!$A$1:$B$73,2,FALSE) -> #N/A | O28: L25
B29: - | C29: - | D29: - | E29: - | H29: 0 | K29: 家きん肉 | L29: F9 | M29: 家きん肉 | N29: =VLOOKUP(M29,[1]輸出畜産物ピボット!$A$1:$B$73,2,FALSE) -> 374442.91 | O29: L26
A30: その他 畜産物 | B30: 精液 (アンプル） | C30: 受精卵 （個） | D30: ふん・尿 | H30: 計 | K30: 犬肉 | L30: G9 | M30: 犬肉 | N30: =VLOOKUP(M30,[1]輸出畜産物ピボット!$A$1:$B$73,2,FALSE) -> #N/A | O30: L27
B31: - | C31: - | D31: - | H31: 0 | K31: 非加熱 その他の肉 | L31: H9 | M31: その他の肉（非加熱） | N31: =VLOOKUP(M31,[1]輸出畜産物ピボット!$A$1:$B$73,2,FALSE) -> 96357.49 | O31: L28
H32: 総計 | K32: 加熱処理その他の肉 | L32: B11 | M32: その他の肉（加熱処理肉） | N32: =VLOOKUP(M32,[1]輸出畜産物ピボット!$A$1:$B$73,2,FALSE) -> #N/A | O32: L29
H33: 11213237 | K33: 家きん加熱処理肉 | L33: C11 | M33: 加熱処理肉（家きん） | N33: =VLOOKUP(M33,[1]輸出畜産物ピボット!$A$1:$B$73,2,FALSE) -> #N/A | O33: L30
K34: 家きん加熱処理ハム | L34: D11 | M34: 加熱処理ハム（家きん） | N34: =VLOOKUP(M34,[1]輸出畜産物ピボット!$A$1:$B$73,2,FALSE) -> #N/A | O34: L31
A35: 資料）動物検疫所調べ | K35: 家きん加熱処理ソーセージ | L35: E11 | M35: 加熱処理ソーセージ（家きん） | N35: =VLOOKUP(M35,[1]輸出畜産物ピボット!$A$1:$B$73,2,FALSE) -> #N/A | O35: L32
A36: (注） | B36: １．解放重量ベースの速報値の為、数値が変更となることがある。 また、数量についてはことわりのない限り、Kg集計できるもののみを集計している。 | K36: 家きん加熱処理ベーコン | L36: F11 | M36: 加熱処理ベーコン（家きん） | N36: =VLOOKUP(M36,[1]輸出畜産物ピボット!$A$1:$B$73,2,FALSE) -> #N/A | O36: L33
B37: ２．携帯品・郵便物として輸出されたものは除く。 | K37: 加熱処理 その他の家きん肉 | L37: G11 | M37: その他の肉（加熱処理肉）(家きん肉) | N37: =VLOOKUP(M37,[1]輸出畜産物ピボット!$A$1:$B$73,2,FALSE) -> #N/A | O37: L34
B38: ３．「家きん肉」は、鶏、うずら、きじ、だちょう、ほろほろ鳥及び七面鳥並びにあひる、がちょうその他のかも目の 鳥類由来の肉、ハム、ソーセージ、ベーコン。 | K38: 牛 | L38: B15 | M38: 偶蹄類の臓器牛 | N38: =VLOOKUP(M38,[1]輸出畜産物ピボット!$A$1:$B$73,2,FALSE) -> 93.1 | O38: L35
B39: ４．「偶蹄類以外の臓器」には、馬、家きん、うさぎ、犬の臓器を含む。 | K39: 豚 | L39: C15 | M39: 偶蹄類の臓器豚 | N39: =VLOOKUP(M39,[1]輸出畜産物ピボット!$A$1:$B$73,2,FALSE) -> 12800 | O39: L36
B40: ５．「消化管等」には、消化管、子宮及び膀胱を含む。 | K40: その他の偶蹄類 | L40: D15 | M40: 偶蹄類の臓器その他の偶蹄類 | N40: =VLOOKUP(M40,[1]輸出畜産物ピボット!$A$1:$B$73,2,FALSE) -> #N/A | O40: L37 | P40: =SUM(N29:N41) -> #N/A
...
