Workbook

Sheet 輸入畜産物 
A1: 輸入畜産物検疫数量速報（令和６年６月分） | G1: （単位：Kg） | M1: 種類 | N1: 計
A2: 骨類 | B2: 骨 | C2: 砕骨 | D2: 蹄角 | E2: 骨腱 | F2: 蹄角粉 | G2: その他の骨 | H2: 計 | K2: 骨 | L2: B3 | M2: 骨 | N2: =VLOOKUP(M2,#REF!,2,FALSE) -> #REF! | O2: L2
B3: 1051750.9 | C3: 1074494.4 | D3: 7120.26 | E3: 78761.95 | F3: 32000 | G3: - | H3: 2244127.5 | K3: 砕骨 | L3: C3 | M3: 砕骨 | N3: =VLOOKUP(M3,#REF!,2,FALSE) -> #REF! | O3: L3
A4: 肉類 | B4: 牛肉 | C4: 豚肉 | D4: めん羊肉 | E4: 山羊肉 | F4: 鹿肉 | G4: その他の 偶蹄類肉 | H4: 加熱処理牛肉 | K4: 蹄角 | L4: D3 | M4: 蹄角 | N4: =VLOOKUP(M4,#REF!,2,FALSE) -> #REF! | O4: L4
B5: 55925312 | C5: 96515392 | D5: 2232460.3 | E5: 36686.31 | F5: - | G5: - | H5: 81822.37 | K5: 骨腱 | L5: E3 | M5: 骨腱 | N5: =VLOOKUP(M5,#REF!,2,FALSE) -> #REF! | O5: L5 | P5: =SUM(N2:N5) -> #REF!
B6: 加熱処理豚肉 | C6: 加熱処理その他 の偶蹄類肉 | D6: ハム | E6: 加熱処理ハム | F6: ソーセージ | G6: 加熱処理 ソーセージ | H6: ベーコン | K6: 生骨粉 | M6: 生骨粉 | N6: =VLOOKUP(M6,#REF!,2,FALSE) -> #REF! | O6: L6
B7: 674299.15 | C7: - | D7: 222020.85 | E7: 43330.76 | F7: 1051639.2 | G7: 699350.98 | H7: 91913.58 | K7: 加熱処理骨粉 | M7: 加熱処理骨粉 | N7: =VLOOKUP(M7,#REF!,2,FALSE) -> #REF! | O7: L7
B8: 加熱処理 ベーコン | C8: 馬肉 | D8: うさぎ肉 | E8: 家きん肉 | F8: 犬肉 | G8: 非加熱 その他の肉 | H8: 加熱処理 その他の肉 | K8: 蹄角粉 | L8: H3 | M8: 蹄角粉 | N8: =VLOOKUP(M8,#REF!,2,FALSE) -> #REF! | O8: L8
B9: 317.41 | C9: 292693.28 | D9: 1983.44 | E9: 50343322 | F9: - | G9: 997805.72 | H9: 3481984.2 | K9: その他の骨 | L9: B5 | M9: その他の骨 | N9: =VLOOKUP(M9,#REF!,2,FALSE) -> #REF! | O9: L9
B10: 加熱処理 家きん肉 | C10: 加熱処理その他 の家きん肉 | H10: 計 | K10: 牛肉 | L10: B5 | M10: 牛肉 | N10: =VLOOKUP(M10,#REF!,2,FALSE) -> #REF! | O10: L10
B11: 38776187 | C11: 3452352.3 | H11: 2.5492087e+08 | K11: 豚肉 | L11: C5 | M11: 豚肉 | N11: =VLOOKUP(M11,#REF!,2,FALSE) -> #REF! | O11: L11
A12: 臓器類 | B12: 牛臓器 | C12: 豚臓器 | D12: その他の 偶蹄類の臓器 | E12: 加熱処理 牛の臓器 | F12: 加熱処理 豚の臓器 | G12: 加熱処理その他の偶蹄類の臓器 | H12: 偶蹄類以外 の臓器 | K12: めん羊肉 | L12: D5 | M12: めん羊肉 | N12: =VLOOKUP(M12,#REF!,2,FALSE) -> #REF! | O12: L12
B13: 90376.14 | C13: 116984.86 | D13: 11123.45 | E13: - | F13: - | G13: - | H13: 47272.22 | K13: 山羊肉 | L13: E5 | M13: 山羊肉 | N13: =VLOOKUP(M13,#REF!,2,FALSE) -> #REF! | O13: L13
B14: 消化管等 | C14: 加熱処理 消化管等 | D14: ケーシング | E14: 脂肪 | F14: 非加熱 その他の臓器 | G14: 加熱処理 その他の臓器 | H14: 加熱処理家きん 臓器・消化管等 | K14: 鹿肉 | L14: F5 | M14: 鹿肉 | N14: =VLOOKUP(M14,#REF!,2,FALSE) -> #REF! | O14: L13
B15: 3010326.3 | C15: - | D15: 296731.81 | E15: 3047341.2 | F15: 82.5 | G15: - | H15: 245747.06 | K15: その他の偶蹄類の肉 | L15: G5 | M15: その他の偶蹄類の肉 | N15: =VLOOKUP(M15,#REF!,2,FALSE) -> #REF! | O15: L14
B16: 加熱処理その他 の家きん臓器 | H16: 計 | K16: 加熱処理肉牛 | L16: B7 | M16: 加熱処理肉牛 | N16: =VLOOKUP(M16,#REF!,2,FALSE) -> #REF! | O16: L15
B17: 6387 | H17: 6872372.5 | K17: 加熱処理肉豚 | L17: C7 | M17: 加熱処理肉豚 | N17: =VLOOKUP(M17,#REF!,2,FALSE) -> #REF! | O17: L16
A18: 卵類 | B18: 食用殻付卵 | C18: 液卵 | D18: その他の卵 | H18: 計 | K18: 加熱処理肉その他偶蹄類 | L18: D7 | M18: 加熱処理肉その他偶蹄類（めん羊） | N18: =VLOOKUP(M18,#REF!,2,FALSE) -> #REF! | O18: L17
B19: - | C19: 524422.96 | D19: - | H19: 524422.96 | K19: ハム | L19: E7 | M19: ハム | N19: =VLOOKUP(M19,#REF!,2,FALSE) -> #REF! | O19: L18
A20: 皮類 | B20: 牛皮 | C20: 豚皮 | D20: めん羊皮 | E20: 山羊皮 | F20: 鹿皮 | G20: その他の 偶蹄類の皮 | H20: 馬皮 | K20: 加熱処理ハム | L20: F7 | M20: 加熱処理ハム | N20: =VLOOKUP(M20,#REF!,2,FALSE) -> #REF! | O20: L19
B21: 2736449.6 | C21: 174798 | D21: - | E21: - | F21: 37158 | G21: - | H21: - | K21: ソーセージ | L21: G7 | M21: ソーセージ | N21: =VLOOKUP(M21,#REF!,2,FALSE) -> #REF! | O21: L20
B22: うさぎ皮 | C22: 犬皮 | D22: その他の皮 | H22: 計 | K22: 加熱処理ソーセージ | L22: H7 | M22: 加熱処理ソーセージ | N22: =VLOOKUP(M22,#REF!,2,FALSE) -> #REF! | O22: L21 | P22: =P23+N23 -> #REF!
B23: 20160 | C23: - | D23: 2 | H23: 2968567.6 | K23: ベーコン | L23: B9 | M23: ベーコン | N23: =VLOOKUP(M23,#REF!,2,FALSE) -> #REF! | O23: L22
A24: 毛類 | B24: 牛毛 | C24: 豚毛 | D24: 羊毛 | E24: 山羊毛 | F24: 鹿毛 | G24: その他の 偶蹄類の毛 | H24: 馬毛 | K24: 加熱処理ベーコン | L24: C9 | M24: 加熱処理ベーコン | N24: =VLOOKUP(M24,#REF!,2,FALSE) -> #REF! | O24: L23
B25: - | C25: 3050 | D25: - | E25: 5506.98 | F25: - | G25: - | H25: 5324.65 | K25: 馬肉 | L25: D9 | M25: 馬肉 | N25: =VLOOKUP(M25,#REF!,2,FALSE) -> #REF! | O25: L24 | P25: =SUM(N6:N26) -> #REF!
B26: うさぎ毛 | C26: 羽毛 | D26: 犬毛 | E26: その他の毛 | H26: 計 | K26: うさぎ肉 | L26: E9 | M26: うさぎ肉 | N26: =VLOOKUP(M26,#REF!,2,FALSE) -> #REF! | O26: L25
B27: 480 | C27: 96008.16 | D27: - | E27: - | H27: 110369.79 | K27: 家きん肉 | L27: F9 | M27: 家きん肉 | N27: =VLOOKUP(M27,#REF!,2,FALSE) -> #REF! | O27: L26
A28: 乳製品類 | B28: チーズ | C28: バター | D28: 偶蹄類動物の 飼料用乳製品 | E28: その他の 乳製品 | H28: 計
B29: 19263704 | C29: 1170251.8 | D29: 4034900 | E29: 3858239.9 | H29: 28327096
A30: ミール類 | B30: 血粉 | C30: 肉粉 | D30: 肉骨粉 | E30: 皮粉・羽毛粉 | H30: 計 | K30: 加熱処理肉（家きん） | L30: G9 | M30: 犬肉 | N30: =VLOOKUP(M30,#REF!,2,FALSE) -> #REF! | O30: L27
B31: 258887.94 | C31: 20913.3 | D31: - | E31: - | H31: 279801.24 | K31: 犬肉 | L31: H9 | M31: その他の肉（非加熱） | N31: =VLOOKUP(M31,#REF!,2,FALSE) -> #REF! | O31: L28
A32: その他 畜産物 | B32: 精液 (アンプル） | C32: 受精卵 （個） | D32: ふん・尿 | H32: 計 | K32: その他の肉（非加熱） | L32: B11 | M32: その他の肉（加熱処理肉） | N32: =VLOOKUP(M32,#REF!,2,FALSE) -> #REF! | O32: L29
B33: 66590 | C33: - | D33: - | H33: 0 | K33: その他の肉（加熱処理肉） | L33: C11 | M33: 加熱処理肉（家きん） | N33: =VLOOKUP(M33,#REF!,2,FALSE) -> #REF! | O33: L30
A34: わら類 | B34: 穀物のわら | C34: 飼料用の乾草 | D34: その他 | H34: 計 | K34: その他の肉（加熱処理肉）(家きん肉) | L34: D11 | M34: 加熱処理ハム（家きん） | N34: =VLOOKUP(M34,#REF!,2,FALSE) -> #REF! | O34: L31
B35: 14336490 | C35: - | D35: 192540 | H35: 14529030 | K35: 偶蹄類の臓器牛 | L35: E11 | M35: 加熱処理ソーセージ（家きん） | N35: =VLOOKUP(M35,#REF!,2,FALSE) -> #REF! | O35: L32
H36: 総計 | K36: 偶蹄類の臓器豚 | L36: F11 | M36: 加熱処理ベーコン（家きん） | N36: =VLOOKUP(M36,#REF!,2,FALSE) -> #REF! | O36: L33
H37: 3.1077666e+08 | K37: 偶蹄類の臓器その他の偶蹄類 | L37: G11 | M37: その他の肉（加熱処理肉）（家きん） | N37: =VLOOKUP(M37,#REF!,2,FALSE) -> #REF! | O37: L34
K38: 加熱処理臓器牛 | L38: B15 | M38: 偶蹄類の臓器牛 | N38: =VLOOKUP(M38,#REF!,2,FALSE) -> #REF! | O38: L35
A39: 資料）動物検疫所調べ | K39: 加熱処理臓器豚 | L39: C15 | M39: 偶蹄類の臓器豚 | N39: =VLOOKUP(M39,#REF!,2,FALSE) -> #REF! | O39: L36
A40: (注） | B40: １．解放重量ベースの速報値の為、数値が変更となることがある。 また、数量についてはことわりのない限り、Kg集計できるもののみを集計している。 | K40: 加熱処理臓器その他の偶蹄類 | L40: D15 | M40: 偶蹄類の臓器その他の偶蹄類 | N40: =VLOOKUP(M40,#REF!,2,FALSE) -> #REF! | O40: L37 | P40: =SUM(N27:N41) -> #REF!
B41: ２．携帯品・郵便物として輸入されたものは除く。 | K41: 偶蹄類以外の臓器 | L41: E15 | M41: 加熱処理臓器牛 | N41: =VLOOKUP(M41,#REF!,2,FALSE) -> #REF! | O41: L38
B42: ３．「家きん肉」は、鶏、うずら、きじ、だちょう、ほろほろ鳥及び七面鳥並びにあひる、がちょうその他のかも目の 鳥類由来の肉、ハム、ソーセージ、ベーコン。 | K42: 加熱処理臓器（家きん） | L42: F15 | M42: 加熱処理臓器豚 | N42: =VLOOKUP(M42,#REF!,2,FALSE) -> #REF! | O42: L39
B43: ４．「偶蹄類以外の臓器」には、馬、家きん、うさぎ、犬の臓器を含む。 | K43: 消化管等 | L43: G15 | M43: 加熱処理その他の偶蹄類 | N43: =VLOOKUP(M43,#REF!,2,FALSE) -> #REF! | O43: L40 | P43: =SUM(N42:N44) -> #REF!
B44: ５．「消化管等」には、消化管、子宮及び膀胱を含む。 | K44: 加熱処理消化管等（家きん） | L44: H15 | M44: 偶蹄類以外の臓器 | N44: =VLOOKUP(M44,#REF!,2,FALSE) -> #REF! | O44: L41
B45: ６．「その他の肉（臓器）」には、餃子やピザなど肉（臓器）を含む調製品である。 | K45: 加熱処理消化管等 | L45: B17 | M45: 消化管等 | N45: =VLOOKUP(M45,#REF!,2,FALSE) -> #REF! | O45: L42
B46: ７．「加熱処理肉」、「加熱処理ソーセージ、ハム、ベーコン」、「その他の加熱処理肉」は、農林水産大臣の指定した 処理施設で一定の加熱処理がなされたもの。なお、家きん肉由来のものは含まない。 | K46: ケーシング | L46: C17 | M46: 加熱処理消化管等 | N46: =VLOOKUP(M46,#REF!,2,FALSE) -> #REF! | O46: L43
B47: ８．「家きん加熱処理肉」は、農林水産大臣の指定した施設で加熱処理された、鶏、うずら、きじ、だちょう、ほろほろ 鳥及び七面鳥並びにあひる、がちょうその他のかも目の鳥類由来の肉、ハム、ソーセージ、ベーコンである。 | K47: 脂肪 | L47: D17 | M47: ケーシング | N47: =VLOOKUP(M47,#REF!,2,FALSE) -> #REF! | O47: L44
B48: ９．その他の畜産物の計に精液、受精卵は含めない。 | K48: その他の臓器（非加熱） | L48: E17 | M48: 脂肪 | N48: =VLOOKUP(M48,#REF!,2,FALSE) -> #REF! | O48: L45
B49: １０．総計に「その他の畜産物」は含めない。 | K49: その他の臓器（加熱処理） | L49: F17 | M49: その他の臓器（非加熱） | N49: =VLOOKUP(M49,#REF!,2,FALSE) -> #REF! | O49: L46
B50: １１．類別の計は、集計対象が無い場合「0」と記す。 | K50: その他の臓器（加熱処理）（家きん） | L50: G17 | M50: その他の臓器（加熱処理） | N50: =VLOOKUP(M50,#REF!,2,FALSE) -> #REF! | O50: L47
K51: 殻付卵 | L51: H17 | M51: 加熱処理臓器（家きん） | N51: =VLOOKUP(M51,#REF!,2,FALSE) -> #REF! | O51: L48
K52: 液卵 | L52: B19 | M52: 加熱処理消化管等（家きん） | N52: =VLOOKUP(M52,#REF!,2,FALSE) -> #REF! | O52: L49 | P52: =SUM(N45:N53) -> #REF!
K53: その他の卵 | L53: C19 | M53: その他の臓器（加熱処理）（家きん） | N53: =VLOOKUP(M53,#REF!,2,FALSE) -> #REF! | O53: L50
K54: 牛皮 | L54: B21 | M54: 殻付卵 | N54: =VLOOKUP(M54,#REF!,2,FALSE) -> #REF! | O54: L51
K55: 豚皮 | L55: C21 | M55: 液卵 | N55: =VLOOKUP(M55,#REF!,2,FALSE) -> #REF! | O55: L52
K56: めん羊皮 | L56: D21 | M56: その他の卵 | N56: =VLOOKUP(M56,#REF!,2,FALSE) -> #REF! | O56: L53
K57: 山羊皮 | L57: B23 | M57: 牛皮 | N57: =VLOOKUP(M57,#REF!,2,FALSE) -> #REF! | O57: L54
K58: 鹿皮 | L58: C23 | M58: 豚皮 | N58: =VLOOKUP(M58,#REF!,2,FALSE) -> #REF! | O58: L55
K59: その他の偶蹄類の皮 | L59: D23 | M59: めん羊皮 | N59: =VLOOKUP(M59,#REF!,2,FALSE) -> #REF! | O59: L56
K60: 馬皮 | L60: E23 | M60: 山羊皮 | N60: =VLOOKUP(M60,#REF!,2,FALSE) -> #REF! | O60: L57 | P60: =SUM(N54:N62) -> #REF!
K61: うさぎ皮 | L61: F23 | M61: 鹿皮 | N61: =VLOOKUP(M61,#REF!,2,FALSE) -> #REF! | O61: L57
K62: 犬皮 | L62: G23 | M62: その他の偶蹄類の皮 | N62: =VLOOKUP(M62,#REF!,2,FALSE) -> #REF! | O62: L58
K63: その他の皮 | L63: H23 | M63: 馬皮 | N63: =VLOOKUP(M63,#REF!,2,FALSE) -> #REF! | O63: L59 | P63: =SUM(N63:N65) -> #REF!
K64: 牛毛 | L64: B25 | M64: うさぎ皮 | N64: =VLOOKUP(M64,#REF!,2,FALSE) -> #REF! | O64: L60
K65: 豚毛 | L65: C25 | M65: 犬皮 | N65: =VLOOKUP(M65,#REF!,2,FALSE) -> #REF! | O65: L61 | P65: =SUM(N66:N67) -> #REF!
K66: 羊毛 | L66: D25 | M66: その他の皮 | N66: =VLOOKUP(M66,#REF!,2,FALSE) -> #REF! | O66: L62
K67: 山羊毛 | L67: B27 | M67: 牛毛 | N67: =VLOOKUP(M67,#REF!,2,FALSE) -> #REF! | O67: L63
K68: 鹿毛 | L68: C27 | M68: 豚毛 | N68: =VLOOKUP(M68,#REF!,2,FALSE) -> #REF! | O68: L64 | P68: =SUM(N68:N70) -> #REF!
K69: その他の偶蹄類の毛 | L69: D27 | M69: 羊毛 | N69: =VLOOKUP(M69,#REF!,2,FALSE) -> #REF! | O69: L65
K70: 馬毛 | L70: E27 | M70: 山羊毛 | N70: =VLOOKUP(M70,#REF!,2,FALSE) -> #REF! | O70: L66
K71: うさぎ毛 | L71: F27 | M71: 鹿毛 | N71: =VLOOKUP(M71,#REF!,2,FALSE) -> #REF! | O71: L66
K72: 羽毛 | L72: G27 | M72: その他の偶蹄類の毛 | N72: =VLOOKUP(M72,#REF!,2,FALSE) -> #REF!
K73: 犬毛 | L73: H27 | M73: 馬毛 | N73: =VLOOKUP(M73,#REF!,2,FALSE) -> #REF!
K74: その他の毛 | L74: E5 | M74: うさぎ毛 | N74: =VLOOKUP(M74,#REF!,2,FALSE) -> #REF!
K75: 血粉 | L75: F5 | M75: 羽毛 | N75: =VLOOKUP(M75,#REF!,2,FALSE) -> #REF!
K76: 肉粉 | L76: G5 | M76: 犬毛 | N76: =VLOOKUP(M76,#REF!,2,FALSE) -> #REF!
K77: 肉骨粉 | M77: その他の毛 | N77: =VLOOKUP(M77,#REF!,2,FALSE) -> #REF!
K78: 皮粉・羽毛粉 | L78: B5 | M78: 血粉 | N78: =VLOOKUP(M78,#REF!,2,FALSE) -> #REF!
K79: その他のミール類 | L79: C5 | M79: 肉粉 | N79: =VLOOKUP(M79,#REF!,2,FALSE) -> #REF!
K80: 精液 | L80: D5 | M80: 肉骨粉 | N80: =VLOOKUP(M80,#REF!,2,FALSE) -> #REF!
K81: 受精卵 | L81: E5 | M81: 皮粉・羽毛粉 | N81: =VLOOKUP(M81,#REF!,2,FALSE) -> #REF!
K82: 未受精卵 | L82: F5 | M82: その他のミール類 | N82: =VLOOKUP(M82,#REF!,2,FALSE) -> #REF!
L83: G5 | N83: =VLOOKUP(M83,#REF!,2,FALSE) -> #REF!
K84: 精液 (アンプル） | L84: B5 | M84: 精液 | N84: =VLOOKUP(M84,#REF!,2,FALSE) -> #REF!
K85: 受精卵 （個） | L85: C5 | M85: 受精卵 | N85: =VLOOKUP(M85,#REF!,2,FALSE) -> #REF!
K86: 未受精卵 （個） | L86: D5 | N86: =VLOOKUP(M86,#REF!,2,FALSE) -> #REF!
L87: E5 | M87: ふん・尿 | N87: =VLOOKUP(M87,#REF!,2,FALSE) -> #REF!
L88: F5 | M88: その他の畜産物 | N88: =VLOOKUP(M88,#REF!,2,FALSE) -> #REF!
K89: 穀物のわら | L89: G5 | M89: 穀物のわら | N89: =VLOOKUP(M89,#REF!,2,FALSE) -> #REF!
K90: 飼料用の乾草 | L90: B5 | M90: 飼料用の乾草 | N90: =VLOOKUP(M90,#REF!,2,FALSE) -> #REF!
K91: その他 | L91: C5 | M91: 稲わら・その他 | N91: =VLOOKUP(M91,#REF!,2,FALSE) -> #REF!
L92: D5 | N92: =VLOOKUP(M92,#REF!,2,FALSE) -> #REF!
L93: E5 | M93: 総計 | N93: =VLOOKUP(M93,#REF!,2,FALSE) -> #REF!
L94: F5
L95: G5 | M95: チーズ | N95: =VLOOKUP(M95,#REF!,2,FALSE) -> #REF!
L96: 1 | M96: バター | N96: =VLOOKUP(M96,#REF!,2,FALSE) -> #REF!
L97: B5 | M97: 偶蹄類動物の飼料用乳製品 | N97: =VLOOKUP(M97,#REF!,2,FALSE) -> #REF!
L98: C5 | M98: その他の乳製品 | N98: =VLOOKUP(M98,#REF!,2,FALSE) -> #REF!
L99: D5
L100: E5
...

Sheet 輸出畜産物 
A1: 輸出畜産物検疫数量速報（令和６年６月分） | G1: （単位：Kg） | M1: 種類 | N1: 計
A2: 骨類 | B2: 骨 | C2: 砕骨 | D2: 蹄角 | E2: 骨腱 | F2: 生骨粉 | G2: 加熱処理骨粉 | H2: 蹄角粉 | K2: 骨 | L2: B3 | M2: 骨 | N2: =VLOOKUP(M2,[1]輸出畜産物ピボット!$A$1:$B$73,2,FALSE) -> 3100 | O2: L2
B3: =IF(ISERROR($N2),"-",$N2) -> 3100 | C3: =IF(ISERROR($N3),"-",$N3) -> - | D3: =IF(ISERROR($N4),"-",$N4) -> - | E3: =IF(ISERROR($N5),"-",$N5) -> - | F3: =IF(ISERROR($N6),"-",$N6) -> - | G3: =IF(ISERROR($N7),"-",$N7) -> - | H3: =IF(ISERROR($N8),"-",$N8) -> - | K3: 砕骨 | L3: C3 | M3: 砕骨 | N3: =VLOOKUP(M3,[1]輸出畜産物ピボット!$A$1:$B$73,2,FALSE) -> #N/A | O3: L3
B4: その他の骨 | H4: 計 | K4: 蹄角 | L4: D3 | M4: 蹄角 | N4: =VLOOKUP(M4,[1]輸出畜産物ピボット!$A$1:$B$73,2,FALSE) -> #N/A | O4: L4
B5: =IF(ISERROR($N9),"-",$N9) -> - | H5: =SUM(B3:H3,B5) -> 3100 | K5: 骨腱 | L5: E3 | M5: 骨腱 | N5: =VLOOKUP(M5,[1]輸出畜産物ピボット!$A$1:$B$73,2,FALSE) -> #N/A | O5: L5 | P5: =SUM(N2:N5) -> #N/A
A6: 肉類 | B6: 牛肉 | C6: 豚肉 | D6: めん羊肉 | E6: 山羊肉 | F6: 鹿肉 | G6: その他の 偶蹄類肉 | H6: ハム | K6: 生骨粉 | L6: F3 | M6: 生骨粉 | N6: =VLOOKUP(M6,[1]輸出畜産物ピボット!$A$1:$B$73,2,FALSE) -> #N/A | O6: L6
B7: =IF(ISERROR($N10),"-",$N10) -> 783685.25 | C7: =IF(ISERROR($N11),"-",$N11) -> 145036.7 | D7: =IF(ISERROR($N12),"-",$N12) -> - | E7: =IF(ISERROR($N13),"-",$N13) -> - | F7: =IF(ISERROR($N14),"-",$N14) -> - | G7: =IF(ISERROR($N15),"-",$N15) -> - | H7: =IF(ISERROR($N19),"-",$N19) -> - | K7: 加熱処理骨粉 | L7: G3 | M7: 加熱処理骨粉 | N7: =VLOOKUP(M7,[1]輸出畜産物ピボット!$A$1:$B$73,2,FALSE) -> #N/A | O7: L7
B8: ソーセージ | C8: ベーコン | D8: 馬肉 | E8: うさぎ肉 | F8: 家きん肉 | G8: 犬肉 | H8: その他の肉 | K8: 蹄角粉 | L8: H3 | M8: 蹄角粉 | N8: =VLOOKUP(M8,[1]輸出畜産物ピボット!$A$1:$B$73,2,FALSE) -> #N/A | O8: L8
B9: =IF(ISERROR($N21),"-",$N21) -> 730.1 | C9: =IF(ISERROR($N23),"-",$N23) -> - | D9: =IF(ISERROR($N25),"-",$N25) -> - | E9: =IF(ISERROR($N28),"-",$N28) -> - | F9: =IF(ISERROR($N29),"-",$N29) -> 319911.7 | G9: =IF(ISERROR($N30),"-",$N30) -> - | H9: =IF(ISERROR($N31),"-",$N31) -> 67181.21 | K9: その他の骨 | L9: B5 | M9: その他の骨 | N9: =VLOOKUP(M9,[1]輸出畜産物ピボット!$A$1:$B$73,2,FALSE) -> #N/A | O9: L9
H10: 計 | K10: 牛肉 | L10: B5 | M10: 牛肉 | N10: =VLOOKUP(M10,[1]輸出畜産物ピボット!$A$1:$B$73,2,FALSE) -> 783685.25 | O10: L10
H11: =SUM(B7:H7,B9:H9) -> 1316545 | K11: 豚肉 | L11: C5 | M11: 豚肉 | N11: =VLOOKUP(M11,[1]輸出畜産物ピボット!$A$1:$B$73,2,FALSE) -> 145036.7 | O11: L11
A12: 臓器類 | B12: 牛臓器 | C12: 豚臓器 | D12: その他の偶蹄類の臓器 | E12: 偶蹄類以外の 臓器 | F12: 消化管等 | G12: ケーシング | H12: 脂肪 | K12: めん羊肉 | L12: D5 | M12: めん羊肉 | N12: =VLOOKUP(M12,[1]輸出畜産物ピボット!$A$1:$B$73,2,FALSE) -> #N/A | O12: L12
B13: =IF(ISERROR($N38),"-",$N38) -> 191.4 | C13: =IF(ISERROR($N39),"-",$N39) -> 500 | D13: =IF(ISERROR($N40),"-",$N40) -> - | E13: =IF(ISERROR($N44),"-",$N44) -> 257 | F13: =IF(ISERROR($N45),"-",$N45) -> 3209.2 | G13: =IF(ISERROR($N47),"-",$N47) -> - | H13: =IF(ISERROR($N48),"-",$N48) -> - | K13: 山羊肉 | L13: E5 | M13: 山羊肉 | N13: =VLOOKUP(M13,[1]輸出畜産物ピボット!$A$1:$B$73,2,FALSE) -> #N/A | O13: L13
B14: 非加熱 その他の臓器 | H14: 計 | K14: 鹿肉 | L14: F5 | M14: 鹿肉 | N14: =VLOOKUP(M14,[1]輸出畜産物ピボット!$A$1:$B$73,2,FALSE) -> #N/A | O14: L13
B15: =IF(ISERROR($N49),"-",$N49) -> - | H15: =SUM(B13:H13,B15:G15) -> 4157.6 | K15: その他の 偶蹄類肉 | L15: G5 | M15: その他の偶蹄類の肉 | N15: =VLOOKUP(M15,[1]輸出畜産物ピボット!$A$1:$B$73,2,FALSE) -> #N/A | O15: L14
A16: 卵類 | B16: 殻付卵 | C16: 液卵 | D16: その他の卵 | H16: 計 | K16: 加熱処理牛肉 | L16: B7 | M16: 加熱処理肉牛 | N16: =VLOOKUP(M16,[1]輸出畜産物ピボット!$A$1:$B$73,2,FALSE) -> #N/A | O16: L15
B17: =IF(ISERROR($N54),"-",$N54) -> 2123613.7 | C17: =IF(ISERROR($N55),"-",$N55) -> 3130 | D17: =IF(ISERROR($N56),"-",$N56) -> 10452.3 | H17: =SUM(B17:G17) -> 2137196 | K17: 加熱処理豚肉 | L17: C7 | M17: 加熱処理肉豚 | N17: =VLOOKUP(M17,[1]輸出畜産物ピボット!$A$1:$B$73,2,FALSE) -> #N/A | O17: L16
A18: 皮類 | B18: 牛皮 | C18: 豚皮 | D18: めん羊皮 | E18: 山羊皮 | F18: 鹿皮 | G18: その他の 偶蹄類の皮 | H18: 馬皮 | K18: 加熱処理その他の偶蹄類肉 | L18: D7 | M18: 加熱処理その他の偶蹄類肉 | N18: =VLOOKUP(M18,[1]輸出畜産物ピボット!$A$1:$B$73,2,FALSE) -> #N/A | O18: L17
B19: =IF(ISERROR($N57),"-",$N57) -> 1480408 | C19: =IF(ISERROR($N58),"-",$N58) -> 5354189 | D19: =IF(ISERROR($N59),"-",$N59) -> - | E19: =IF(ISERROR($N60),"-",$N60) -> - | F19: =IF(ISERROR($N61),"-",$N61) -> - | G19: =IF(ISERROR($N62),"-",$N62) -> - | H19: =IF(ISERROR($N63),"-",$N63) -> - | K19: ハム | L19: E7 | M19: ハム | N19: =VLOOKUP(M19,[1]輸出畜産物ピボット!$A$1:$B$73,2,FALSE) -> #N/A | O19: L18
B20: うさぎ皮 | C20: 犬皮 | D20: その他の皮 | H20: 計 | K20: 加熱処理ハム | L20: F7 | M20: 加熱処理ハム | N20: =VLOOKUP(M20,[1]輸出畜産物ピボット!$A$1:$B$73,2,FALSE) -> #N/A | O20: L19
B21: =IF(ISERROR($N64),"-",$N64) -> - | C21: =IF(ISERROR($N65),"-",$N65) -> - | D21: =IF(ISERROR($N66),"-",$N66) -> - | H21: =SUM(B19:H19,B20:G21) -> 6834597 | K21: ソーセージ | L21: G7 | M21: ソーセージ | N21: =VLOOKUP(M21,[1]輸出畜産物ピボット!$A$1:$B$73,2,FALSE) -> 730.1 | O21: L20
A22: 毛類 | B22: 牛毛 | C22: 豚毛 | D22: 羊毛 | E22: 山羊毛 | F22: 鹿毛 | G22: その他の 偶蹄類の毛 | H22: 馬毛 | K22: 加熱処理 ソーセージ | L22: H7 | M22: 加熱処理ソーセージ | N22: =VLOOKUP(M22,[1]輸出畜産物ピボット!$A$1:$B$73,2,FALSE) -> #N/A | O22: L21
B23: =IF(ISERROR($N67),"-",$N67) -> - | C23: =IF(ISERROR($N68),"-",$N68) -> - | D23: =IF(ISERROR($N69),"-",$N69) -> - | E23: =IF(ISERROR($N70),"-",$N70) -> 502.1 | F23: =IF(ISERROR($N71),"-",$N71) -> - | G23: =IF(ISERROR($N72),"-",$N72) -> - | H23: =IF(ISERROR($N73),"-",$N73) -> - | K23: ベーコン | L23: B9 | M23: ベーコン | N23: =VLOOKUP(M23,[1]輸出畜産物ピボット!$A$1:$B$73,2,FALSE) -> #N/A | O23: L22
B24: うさぎ毛 | C24: 羽毛 | D24: 犬毛 | E24: その他の毛 | H24: 計 | K24: 加熱処理 ベーコン | L24: C9 | M24: 加熱処理ベーコン | N24: =VLOOKUP(M24,[1]輸出畜産物ピボット!$A$1:$B$73,2,FALSE) -> #N/A | O24: L23
B25: =IF(ISERROR($N74),"-",$N74) -> - | C25: =IF(ISERROR($N75),"-",$N75) -> 34175.2 | D25: =IF(ISERROR($N76),"-",$N76) -> - | E25: =IF(ISERROR($N77),"-",$N77) -> 592 | H25: =SUM(B23:H23,B25:E25) -> 35269.3 | K25: 馬肉 | L25: D9 | M25: 馬肉 | N25: =VLOOKUP(M25,[1]輸出畜産物ピボット!$A$1:$B$73,2,FALSE) -> #N/A | O25: L24 | P25: =SUM(N6:N28) -> #N/A
A26: 乳製品類 | B26: チーズ | C26: バター | D26: 偶蹄類動物の飼料用乳製品 | E26: その他の 乳製品 | H26: 計
B27: =IF(ISERROR($N95),"-",$N95) -> 22875.85 | C27: =IF(ISERROR($N96),"-",$N96) -> 9.22 | D27: =IF(ISERROR($N97),"-",$N97) -> - | E27: =IF(ISERROR($N98),"-",$N98) -> 126207.49 | H27: =SUM(B27:E27) -> 149092.56
A28: ミール類 | B28: 血粉 | C28: 肉粉 | D28: 肉骨粉 | E28: 皮粉・羽毛粉 | H28: 計 | K28: うさぎ肉 | L28: E9 | M28: うさぎ肉 | N28: =VLOOKUP(M28,[1]輸出畜産物ピボット!$A$1:$B$73,2,FALSE) -> #N/A | O28: L25
B29: =IF(ISERROR($N78),"-",$N78) -> - | C29: =IF(ISERROR($N79),"-",$N79) -> - | D29: =IF(ISERROR($N80),"-",$N80) -> - | E29: =IF(ISERROR($N81),"-",$N81) -> - | H29: =SUM(B29:G29) -> 0 | K29: 家きん肉 | L29: F9 | M29: 家きん肉 | N29: =VLOOKUP(M29,[1]輸出畜産物ピボット!$A$1:$B$73,2,FALSE) -> 319911.7 | O29: L26
A30: その他 畜産物 | B30: 精液 (アンプル） | C30: 受精卵 （個） | D30: ふん・尿 | H30: 計 | K30: 犬肉 | L30: G9 | M30: 犬肉 | N30: =VLOOKUP(M30,[1]輸出畜産物ピボット!$A$1:$B$73,2,FALSE) -> #N/A | O30: L27
B31: =IF(ISERROR($N84),"-",$N84) -> - | C31: =IF(ISERROR($N85),"-",$N85) -> - | D31: =IF(ISERROR($N87),"-",$N87) -> - | H31: =SUM(D31) -> 0 | K31: 非加熱 その他の肉 | L31: H9 | M31: その他の肉（非加熱） | N31: =VLOOKUP(M31,[1]輸出畜産物ピボット!$A$1:$B$73,2,FALSE) -> 67181.21 | O31: L28
H32: 総計 | K32: 加熱処理その他の肉 | L32: B11 | M32: その他の肉（加熱処理肉） | N32: =VLOOKUP(M32,[1]輸出畜産物ピボット!$A$1:$B$73,2,FALSE) -> #N/A | O32: L29
H33: =SUM(H5,H11,H17,H21,H25,H29,H15,,H27) -> 10479957 | K33: 家きん加熱処理肉 | L33: C11 | M33: 加熱処理肉（家きん） | N33: =VLOOKUP(M33,[1]輸出畜産物ピボット!$A$1:$B$73,2,FALSE) -> #N/A | O33: L30
K34: 家きん加熱処理ハム | L34: D11 | M34: 加熱処理ハム（家きん） | N34: =VLOOKUP(M34,[1]輸出畜産物ピボット!$A$1:$B$73,2,FALSE) -> #N/A | O34: L31
A35: 資料）動物検疫所調べ | K35: 家きん加熱処理ソーセージ | L35: E11 | M35: 加熱処理ソーセージ（家きん） | N35: =VLOOKUP(M35,[1]輸出畜産物ピボット!$A$1:$B$73,2,FALSE) -> #N/A | O35: L32
A36: (注） | B36: １．解放重量ベースの速報値の為、数値が変更となることがある。 また、数量についてはことわりのない限り、Kg集計できるもののみを集計している。 | K36: 家きん加熱処理ベーコン | L36: F11 | M36: 加熱処理ベーコン（家きん） | N36: =VLOOKUP(M36,[1]輸出畜産物ピボット!$A$1:$B$73,2,FALSE) -> #N/A | O36: L33
B37: ２．携帯品・郵便物として輸出されたものは除く。 | K37: 加熱処理 その他の家きん肉 | L37: G11 | M37: その他の肉（加熱処理肉）(家きん肉) | N37: =VLOOKUP(M37,[1]輸出畜産物ピボット!$A$1:$B$73,2,FALSE) -> #N/A | O37: L34
B38: ３．「家きん肉」は、鶏、うずら、きじ、だちょう、ほろほろ鳥及び七面鳥並びにあひる、がちょうその他のかも目の 鳥類由来の肉、ハム、ソーセージ、ベーコン。 | K38: 牛 | L38: B15 | M38: 偶蹄類の臓器牛 | N38: =VLOOKUP(M38,[1]輸出畜産物ピボット!$A$1:$B$73,2,FALSE) -> 191.4 | O38: L35
B39: ４．「偶蹄類以外の臓器」には、馬、家きん、うさぎ、犬の臓器を含む。 | K39: 豚 | L39: C15 | M39: 偶蹄類の臓器豚 | N39: =VLOOKUP(M39,[1]輸出畜産物ピボット!$A$1:$B$73,2,FALSE) -> 500 | O39: L36
B40: ５．「消化管等」には、消化管、子宮及び膀胱を含む。 | K40: その他の偶蹄類 | L40: D15 | M40: 偶蹄類の臓器その他の偶蹄類 | N40: =VLOOKUP(M40,[1]輸出畜産物ピボット!$A$1:$B$73,2,FALSE) -> #N/A | O40: L37 | P40: =SUM(N29:N41) -> #N/A
B41: ６．総計に「その他の畜産物」は含めない。 | K41: 加熱処理牛 | L41: E15 | M41: 加熱処理牛 | N41: =VLOOKUP(M41,[1]輸出畜産物ピボット!$A$1:$B$73,2,FALSE) -> #N/A | O41: L38
B42: ７．その他の畜産物の計に精液、受精卵、未受精卵は含めない。 | K42: 加熱処理豚 | L42: F15 | M42: 加熱処理臓器豚 | N42: =VLOOKUP(M42,[1]輸出畜産物ピボット!$A$1:$B$73,2,FALSE) -> #N/A | O42: L39
B43: ８．類別の計は、集計対象が無い場合「0」と記す。 | K43: 加熱処理 その他の偶蹄類 | L43: G15 | M43: 加熱処理その他の偶蹄類 | N43: =VLOOKUP(M43,[1]輸出畜産物ピボット!$A$1:$B$73,2,FALSE) -> #N/A | O43: L40 | P43: =SUM(N42:N44) -> #N/A
K44: 偶蹄類以外の 臓器 | L44: H15 | M44: 偶蹄類以外の臓器 | N44: =VLOOKUP(M44,[1]輸出畜産物ピボット!$A$1:$B$73,2,FALSE) -> 257 | O44: L41
K45: 消化管等 | L45: B17 | M45: 消化管等 | N45: =VLOOKUP(M45,[1]輸出畜産物ピボット!$A$1:$B$73,2,FALSE) -> 3209.2 | O45: L42
K46: 加熱処理消化管等 | L46: C17 | M46: 加熱処理消化管等 | N46: =VLOOKUP(M46,[1]輸出畜産物ピボット!$A$1:$B$73,2,FALSE) -> #N/A | O46: L43
K47: ケーシング | L47: D17 | M47: ケーシング | N47: =VLOOKUP(M47,[1]輸出畜産物ピボット!$A$1:$B$73,2,FALSE) -> #N/A | O47: L44
K48: 脂肪 | L48: E17 | M48: 脂肪 | N48: =VLOOKUP(M48,[1]輸出畜産物ピボット!$A$1:$B$73,2,FALSE) -> #N/A | O48: L45
K49: 非加熱 その他の臓器 | L49: F17 | M49: その他の臓器（非加熱） | N49: =VLOOKUP(M49,[1]輸出畜産物ピボット!$A$1:$B$73,2,FALSE) -> #N/A | O49: L46
K50: 加熱処理 その他の臓器 | L50: G17 | M50: 加熱処理 その他の臓器 | N50: =VLOOKUP(M50,[1]輸出畜産物ピボット!$A$1:$B$73,2,FALSE) -> #N/A | O50: L47
K51: 加熱処理 家きん臓器 | L51: H17 | M51: 加熱処理臓器（家きん） | N51: =VLOOKUP(M51,[1]輸出畜産物ピボット!$A$1:$B$73,2,FALSE) -> #N/A | O51: L48
K52: 加熱処理 家きん消化管 | L52: B19 | M52: 加熱処理消化管等（家きん） | N52: =VLOOKUP(M52,[1]輸出畜産物ピボット!$A$1:$B$73,2,FALSE) -> #N/A | O52: L49 | P52: =SUM(N45:N53) -> #N/A
K53: 加熱処理その他の家きん臓器 | L53: C19 | M53: その他の臓器（加熱処理）（家きん） | N53: =VLOOKUP(M53,[1]輸出畜産物ピボット!$A$1:$B$73,2,FALSE) -> #N/A | O53: L50
K54: 殻付卵 | L54: B21 | M54: 殻付卵 | N54: =VLOOKUP(M54,[1]輸出畜産物ピボット!$A$1:$B$73,2,FALSE) -> 2123613.7 | O54: L51
K55: 液卵 | L55: C21 | M55: 液卵 | N55: =VLOOKUP(M55,[1]輸出畜産物ピボット!$A$1:$B$73,2,FALSE) -> 3130 | O55: L52
K56: その他の卵 | L56: D21 | M56: その他の卵 | N56: =VLOOKUP(M56,[1]輸出畜産物ピボット!$A$1:$B$73,2,FALSE) -> 10452.3 | O56: L53
K57: 牛皮 | L57: B23 | M57: 牛皮 | N57: =VLOOKUP(M57,[1]輸出畜産物ピボット!$A$1:$B$73,2,FALSE) -> 1480408 | O57: L54
K58: 豚皮 | L58: C23 | M58: 豚皮 | N58: =VLOOKUP(M58,[1]輸出畜産物ピボット!$A$1:$B$73,2,FALSE) -> 5354189 | O58: L55
K59: めん羊皮 | L59: D23 | M59: めん羊皮 | N59: =VLOOKUP(M59,[1]輸出畜産物ピボット!$A$1:$B$73,2,FALSE) -> #N/A | O59: L56
K60: 山羊皮 | L60: E23 | M60: 山羊皮 | N60: =VLOOKUP(M60,[1]輸出畜産物ピボット!$A$1:$B$73,2,FALSE) -> #N/A | O60: L57 | P60: =SUM(N54:N62) -> #N/A
K61: 鹿皮 | L61: F23 | M61: 鹿皮 | N61: =VLOOKUP(M61,[1]輸出畜産物ピボット!$A$1:$B$73,2,FALSE) -> #N/A | O61: L57
K62: その他の 偶蹄類の皮 | L62: G23 | M62: その他の偶蹄類の皮 | N62: =VLOOKUP(M62,[1]輸出畜産物ピボット!$A$1:$B$73,2,FALSE) -> #N/A | O62: L58
K63: 馬皮 | L63: H23 | M63: 馬皮 | N63: =VLOOKUP(M63,[1]輸出畜産物ピボット!$A$1:$B$73,2,FALSE) -> #N/A | O63: L59 | P63: =SUM(N63:N65) -> #N/A
K64: うさぎ皮 | L64: B25 | M64: うさぎ皮 | N64: =VLOOKUP(M64,[1]輸出畜産物ピボット!$A$1:$B$73,2,FALSE) -> #N/A | O64: L60
K65: 犬皮 | L65: C25 | M65: 犬皮 | N65: =VLOOKUP(M65,[1]輸出畜産物ピボット!$A$1:$B$73,2,FALSE) -> #N/A | O65: L61 | P65: =SUM(N66:N67) -> #N/A
K66: その他の皮 | L66: D25 | M66: その他の皮 | N66: =VLOOKUP(M66,[1]輸出畜産物ピボット!$A$1:$B$73,2,FALSE) -> #N/A | O66: L62
K67: 牛毛 | L67: B27 | M67: 牛毛 | N67: =VLOOKUP(M67,[1]輸出畜産物ピボット!$A$1:$B$73,2,FALSE) -> #N/A | O67: L63
K68: 豚毛 | L68: C27 | M68: 豚毛 | N68: =VLOOKUP(M68,[1]輸出畜産物ピボット!$A$1:$B$73,2,FALSE) -> #N/A | O68: L64 | P68: =SUM(N68:N70) -> #N/A
K69: 羊毛 | L69: D27 | M69: 羊毛 | N69: =VLOOKUP(M69,[1]輸出畜産物ピボット!$A$1:$B$73,2,FALSE) -> #N/A | O69: L65
K70: 山羊毛 | L70: E27 | M70: 山羊毛 | N70: =VLOOKUP(M70,[1]輸出畜産物ピボット!$A$1:$B$73,2,FALSE) -> 502.1 | O70: L66
K71: 鹿毛 | L71: F27 | M71: 鹿毛 | N71: =VLOOKUP(M71,[1]輸出畜産物ピボット!$A$1:$B$73,2,FALSE) -> #N/A | O71: L66
K72: その他の 偶蹄類の毛 | L72: G27 | M72: その他の偶蹄類の毛 | N72: =VLOOKUP(M72,[1]輸出畜産物ピボット!$A$1:$B$73,2,FALSE) -> #N/A
K73: 馬毛 | L73: H27 | M73: 馬毛 | N73: =VLOOKUP(M73,[1]輸出畜産物ピボット!$A$1:$B$73,2,FALSE) -> #N/A
K74: うさぎ毛 | L74: E5 | M74: うさぎ毛 | N74: =VLOOKUP(M74,[1]輸出畜産物ピボット!$A$1:$B$73,2,FALSE) -> #N/A
K75: 羽毛 | L75: F5 | M75: 羽毛 | N75: =VLOOKUP(M75,[1]輸出畜産物ピボット!$A$1:$B$73,2,FALSE) -> 34175.2
K76: 犬毛 | L76: G5 | M76: 犬毛 | N76: =VLOOKUP(M76,[1]輸出畜産物ピボット!$A$1:$B$73,2,FALSE) -> #N/A
K77: その他の毛 | M77: その他の毛 | N77: =VLOOKUP(M77,[1]輸出畜産物ピボット!$A$1:$B$73,2,FALSE) -> 592
K78: 血粉 | L78: B5 | M78: 血粉 | N78: =VLOOKUP(M78,[1]輸出畜産物ピボット!$A$1:$B$73,2,FALSE) -> #N/A
K79: 肉粉 | L79: C5 | M79: 肉粉 | N79: =VLOOKUP(M79,[1]輸出畜産物ピボット!$A$1:$B$73,2,FALSE) -> #N/A
K80: 肉骨粉 | L80: D5 | M80: 肉骨粉 | N80: =VLOOKUP(M80,[1]輸出畜産物ピボット!$A$1:$B$73,2,FALSE) -> #N/A
K81: 羽毛粉 | L81: E5 | M81: 皮粉・羽毛粉 | N81: =VLOOKUP(M81,[1]輸出畜産物ピボット!$A$1:$B$73,2,FALSE) -> #N/A
K82: その他の ミール類 | L82: F5 | M82: その他のミール類 | N82: =VLOOKUP(M82,[1]輸出畜産物ピボット!$A$1:$B$73,2,FALSE) -> #N/A
L83: G5 | N83: =VLOOKUP(M83,[1]輸出畜産物ピボット!$A$1:$B$73,2,FALSE) -> #N/A
K84: 精液 (アンプル） | L84: B5 | M84: 精液 | N84: =VLOOKUP(M84,[1]輸出畜産物ピボット!$A$1:$B$73,2,FALSE) -> #N/A
K85: 受精卵 （個） | L85: C5 | M85: 受精卵 | N85: =VLOOKUP(M85,[1]輸出畜産物ピボット!$A$1:$B$73,2,FALSE) -> #N/A
K86: 未受精卵 （個） | L86: D5 | M86: 血清 | N86: =VLOOKUP(M86,[1]輸出畜産物ピボット!$A$1:$B$73,2,FALSE) -> 307.81
L87: E5 | M87: ふん・尿 | N87: =VLOOKUP(M87,[1]輸出畜産物ピボット!$A$1:$B$73,2,FALSE) -> #N/A
L88: F5 | M88: その他の畜産物 | N88: =VLOOKUP(M88,[1]輸出畜産物ピボット!$A$1:$B$73,2,FALSE) -> 128085.15
K89: 穀物のわら | L89: G5 | M89: 穀物のわら | N89: =VLOOKUP(M89,[1]輸出畜産物ピボット!$A$1:$B$73,2,FALSE) -> #N/A
K90: 飼料用の乾草 | L90: B5 | M90: 飼料用の乾草 | N90: =VLOOKUP(M90,[1]輸出畜産物ピボット!$A$1:$B$73,2,FALSE) -> #N/A
K91: その他 | L91: C5 | M91: 稲わら・その他 | N91: =VLOOKUP(M91,[1]輸出畜産物ピボット!$A$1:$B$73,2,FALSE) -> #N/A
L92: D5 | N92: =VLOOKUP(M92,[1]輸出畜産物ピボット!$A$1:$B$73,2,FALSE) -> #N/A
L93: E5 | M93: 総計 | N93: =VLOOKUP(M93,[1]輸出畜産物ピボット!$A$1:$B$73,2,FALSE) -> #N/A
L94: F5
L95: G5 | M95: チーズ | N95: =VLOOKUP(M95,[1]輸出畜産物ピボット!$A$1:$B$73,2,FALSE) -> 22875.85
L96: 1 | M96: バター | N96: =VLOOKUP(M96,[1]輸出畜産物ピボット!$A$1:$B$73,2,FALSE) -> 9.22
L97: B5 | M97: 偶蹄類動物の飼料用乳製品 | N97: =VLOOKUP(M97,[1]輸出畜産物ピボット!$A$1:$B$73,2,FALSE) -> #N/A
L98: C5 | M98: その他の乳製品 | N98: =VLOOKUP(M98,[1]輸出畜産物ピボット!$A$1:$B$73,2,FALSE) -> 126207.49
L99: D5
L100: E5
...

Sheet 動物
B2: 動物の輸出入検疫速報（令和６年６月分）
E4: (単位：頭、羽）
C5: 用 途 | D5: 輸 入 | E5: 輸 出
B6: 牛 | C6: 乳用繁殖用 | D6: - | E6: -
C7: 肉用繁殖用 | D7: - | E7: -
C8: 肥育用 | D8: - | E8: -
C9: と畜場直行用 | D9: - | E9: -
C10: その他 | D10: - | E10: -
B11: 豚 | C11: 繁殖用 | D11: 89 | E11: -
C12: その他 | D12: - | E12: -
B13: めん羊 | D13: - | E13: -
B14: 山羊 | D14: - | E14: -
B15: その他の偶蹄類 | D15: - | E15: -
B16: 馬 | C16: 繁殖用 | D16: 2 | E16: -
C17: 乗用 | D17: 12 | E17: -
C18: 競走用 | D18: - | E18: 7
C19: 肥育用 | D19: 587 | E19: -
C20: と畜場直行用 | D20: - | E20: -
C21: その他 | D21: - | E21: -
B22: その他の馬科 | D22: - | E22: -
B23: うさぎ | D23: 6 | E23: 3
B24: 鶏 | D24: - | E24: -
B25: うずら | D25: - | E25: -
B26: だちょう | D26: - | E26: -
B27: 七面鳥 | D27: - | E27: -
B28: あひる | D28: - | E28: -
B29: がちょう | D29: - | E29: -
B30: その他のかも目の鳥類 | D30: - | E30: -
B31: きじ | D31: - | E31: -
B32: ほろほろ鳥 | D32: - | E32: -
B33: 初生ひな（鶏） | D33: 26327 | E33: -
B34: 初生ひな（その他） | D34: 2954 | E34: -
B35: 種卵（個） | D35: - | E35: -
B36: 蜜蜂（群） | D36: - | E36: -
B37: 指定検疫物以外の動物（注２） | E37: 6795
B38: 犬 | D38: 692 | E38: 569
B39: 猫 | D39: 374 | E39: 353
B40: あらいぐま | D40: - | E40: -
B41: きつね | D41: - | E41: -
B42: スカンク | D42: - | E42: -
B43: サル | D43: -
B45: （資料）動物検疫所調べ
B46: （注）１ 解放頭羽数ベースの速報値のため、数値が変更となることがある。
B47: ２ 家畜伝染病予防法第４５条第１項第１号に基づく検査を実施した動物。
