Workbook

Sheet 動物
B2: 動物の輸出入検疫速報（令和５年８月分）
E4: (単位：頭、羽）
C5: 用 途 | D5: 輸 入 | E5: 輸 出
B6: 牛 | C6: 乳用繁殖用 | D6: - | E6: -
C7: 肉用繁殖用 | D7: - | E7: -
C8: 肥育用 | D8: - | E8: -
C9: と畜場直行用 | D9: - | E9: -
C10: その他 | D10: - | E10: -
B11: 豚 | C11: 繁殖用 | D11: - | E11: -
C12: その他 | D12: - | E12: -
B13: めん羊 | D13: - | E13: -
B14: 山羊 | D14: - | E14: -
B15: その他の偶蹄類 | D15: - | E15: -
B16: 馬 | C16: 繁殖用 | D16: 1 | E16: 1
C17: 乗用 | D17: - | E17: -
C18: 競走用 | D18: 24 | E18: 2
C19: 肥育用 | D19: 97 | E19: -
C20: と畜場直行用 | D20: - | E20: -
C21: その他 | D21: - | E21: -
B22: その他の馬科 | D22: - | E22: -
B23: うさぎ | D23: 25 | E23: 15
B24: 鶏 | D24: - | E24: -
B25: うずら | D25: - | E25: -
B26: だちょう | D26: - | E26: -
B27: 七面鳥 | D27: - | E27: -
B28: あひる | D28: - | E28: -
B29: がちょう | D29: - | E29: -
B30: その他のかも目の鳥類 | D30: - | E30: -
B31: きじ | D31: - | E31: -
B32: ほろほろ鳥 | D32: - | E32: -
B33: 初生ひな（鶏） | D33: 22311 | E33: -
B34: 初生ひな（その他） | D34: - | E34: -
B35: 種卵（個） | D35: - | E35: -
B36: 蜜蜂（群） | D36: - | E36: -
B37: 指定検疫物以外の動物（注２） | E37: 8690
B38: 犬 | D38: 570 | E38: 698
B39: 猫 | D39: 349 | E39: 305
B40: あらいぐま | D40: - | E40: -
B41: きつね | D41: - | E41: -
B42: スカンク | D42: - | E42: -
...

Sheet 輸入畜産物
A1: 輸入畜産物検疫数量速報（令和5年8月分） | G1: （単位：Kg） | M1: 種類 | N1: 計
A2: 骨類 | B2: 骨 | C2: 砕骨 | D2: 蹄角 | E2: 骨腱 | F2: 蹄角粉 | G2: その他の骨 | H2: 計 | K2: 骨 | L2: B3 | M2: 骨 | N2: =VLOOKUP(M2,'[1]輸入畜産物ピボット(同一データを2カ所に貼る)'!$D$2:$E$120,2,FALSE) -> 1629571.4 | O2: L2
B3: =IF(ISERROR($N2),"-",$N2) -> 1629571.4 | C3: =IF(ISERROR($N3),"-",$N3) -> 1119369.4 | D3: =IF(ISERROR($N4),"-",$N4) -> 15376.53 | E3: =IF(ISERROR($N5),"-",$N5) -> 76563.37 | F3: =IF(ISERROR($N8),"-",$N8) -> 100000 | G3: =IF(ISERROR($N9),"-",$N9) -> - | H3: =SUM(B3:G3) -> 2940880.7 | K3: 砕骨 | L3: C3 | M3: 砕骨 | N3: =VLOOKUP(M3,'[1]輸入畜産物ピボット(同一データを2カ所に貼る)'!$D$2:$E$120,2,FALSE) -> 1119369.4 | O3: L3
A4: 肉類 | B4: 牛肉 | C4: 豚肉 | D4: めん羊肉 | E4: 山羊肉 | F4: 鹿肉 | G4: その他の 偶蹄類肉 | H4: 加熱処理牛肉 | K4: 蹄角 | L4: D3 | M4: 蹄角 | N4: =VLOOKUP(M4,'[1]輸入畜産物ピボット(同一データを2カ所に貼る)'!$D$2:$E$120,2,FALSE) -> 15376.53 | O4: L4
B5: =IF(ISERROR($N10),"-",$N10) -> 50152507 | C5: =IF(ISERROR($N11),"-",$N11) -> 87351205 | D5: =IF(ISERROR($N12),"-",$N12) -> 1318741.4 | E5: =IF(ISERROR($N13),"-",$N13) -> 13684.37 | F5: =IF(ISERROR($N14),"-",$N14) -> - | G5: =IF(ISERROR($N15),"-",$N15) -> 1250 | H5: =IF(ISERROR($N16),"-",$N16) -> 109608.47 | K5: 骨腱 | L5: E3 | M5: 骨腱 | N5: =VLOOKUP(M5,'[1]輸入畜産物ピボット(同一データを2カ所に貼る)'!$D$2:$E$120,2,FALSE) -> 76563.37 | O5: L5 | P5: =SUM(N2:N5) -> 2840880.7
B6: 加熱処理豚肉 | C6: 加熱処理 その他の偶蹄類肉 | D6: ハム | E6: 加熱処理ハム | F6: ソーセージ | G6: 加熱処理 ソーセージ | H6: ベーコン | K6: 生骨粉 | M6: 生骨粉 | N6: =VLOOKUP(M6,'[1]輸入畜産物ピボット(同一データを2カ所に貼る)'!$D$2:$E$120,2,FALSE) -> #N/A | O6: L6
B7: =IF(ISERROR($N17),"-",$N17) -> 709156.98 | C7: =IF(ISERROR($N18),"-",$N18) -> - | D7: =IF(ISERROR($N19),"-A2:H21",$N19) -> 255419.29 | E7: =IF(ISERROR($N20),"-",$N20) -> 15038.46 | F7: =IF(ISERROR($N21),"-",$N21) -> 1222892.5 | G7: =IF(ISERROR($N22),"-",$N22) -> 833745.98 | H7: =IF(ISERROR($N23),"-",$N23) -> 130990.77 | K7: 加熱処理骨粉 | M7: 加熱処理骨粉 | N7: =VLOOKUP(M7,'[1]輸入畜産物ピボット(同一データを2カ所に貼る)'!$D$2:$E$120,2,FALSE) -> #N/A | O7: L7
B8: 加熱処理 ベーコン | C8: 馬肉 | D8: うさぎ肉 | E8: 家きん肉 | F8: 犬肉 | G8: 非加熱 その他の肉 | H8: 加熱処理 その他の肉 | K8: 蹄角粉 | L8: H3 | M8: 蹄角粉 | N8: =VLOOKUP(M8,'[1]輸入畜産物ピボット(同一データを2カ所に貼る)'!$D$2:$E$120,2,FALSE) -> 100000 | O8: L8
B9: =IF(ISERROR($N24),"-",$N24) -> 0.84 | C9: =IF(ISERROR($N25),"-",$N25) -> 380476.1 | D9: =IF(ISERROR($N26),"-",$N26) -> 2315.46 | E9: =IF(ISERROR($N27),"-",$N27) -> 60373088 | F9: =IF(ISERROR($N30),"-",$N30) -> - | G9: =IF(ISERROR($N31),"-",$N31) -> 1082510 | H9: =IF(ISERROR($N32),"-",$N32) -> 3338733.7 | K9: その他の骨 | L9: B5 | M9: その他の骨 | N9: =VLOOKUP(M9,'[1]輸入畜産物ピボット(同一データを2カ所に貼る)'!$D$2:$E$120,2,FALSE) -> #N/A | O9: L9
B10: 加熱処理 家きん肉 | C10: 加熱処理 その他の家きん肉 | H10: 計 | K10: 牛肉 | L10: B5 | M10: 牛肉 | N10: =VLOOKUP(M10,'[1]輸入畜産物ピボット(同一データを2カ所に貼る)'!$D$2:$E$120,2,FALSE) -> 50152507 | O10: L10
B11: =IF(ISERROR($N33),"-",$N33) -> 37625418 | C11: =IF(ISERROR($N37),"-",$N37) -> 2777883.7 | H11: =SUM(B5:H5,B7:H7,B9:H9,B11:G11) -> 2.4769467e+08 | K11: 豚肉 | L11: C5 | M11: 豚肉 | N11: =VLOOKUP(M11,'[1]輸入畜産物ピボット(同一データを2カ所に貼る)'!$D$2:$E$120,2,FALSE) -> 87351205 | O11: L11
A12: 臓器類 | B12: 牛臓器 | C12: 豚臓器 | D12: その他の偶蹄類 の臓器 | E12: 加熱処理 牛の臓器 | F12: 加熱処理 豚の臓器 | G12: 加熱処理その他の偶蹄類の臓器 | H12: 偶蹄類以外の 臓器 | K12: めん羊肉 | L12: D5 | M12: めん羊肉 | N12: =VLOOKUP(M12,'[1]輸入畜産物ピボット(同一データを2カ所に貼る)'!$D$2:$E$120,2,FALSE) -> 1318741.4 | O12: L12
B13: =IF(ISERROR($N38),"-",$N38) -> 139164.54 | C13: =IF(ISERROR($N39),"-",$N39) -> 64678.26 | D13: =IF(ISERROR($N40),"-",$N40) -> 5228.65 | E13: =IF(ISERROR($N41),"-",$N41) -> - | F13: =IF(ISERROR($N42),"-",$N42) -> - | G13: =IF(ISERROR($N43),"-",$N43) -> - | H13: =IF(ISERROR($N44),"-",$N44) -> 27439.92 | K13: 山羊肉 | L13: E5 | M13: 山羊肉 | N13: =VLOOKUP(M13,'[1]輸入畜産物ピボット(同一データを2カ所に貼る)'!$D$2:$E$120,2,FALSE) -> 13684.37 | O13: L13
B14: 消化管等 | C14: 加熱処理 消化管等 | D14: ケーシング | E14: 脂肪 | F14: 非加熱 その他の臓器 | G14: 加熱処理 その他の臓器 | H14: 加熱処理 家きん臓器・消化管等 | K14: 鹿肉 | L14: F5 | M14: 鹿肉 | N14: =VLOOKUP(M14,'[1]輸入畜産物ピボット(同一データを2カ所に貼る)'!$D$2:$E$120,2,FALSE) -> #N/A | O14: L13
B15: =IF(ISERROR($N45),"-",$N45) -> 3005843.2 | C15: =IF(ISERROR($N46),"-",$N46) -> - | D15: =IF(ISERROR($N47),"-",$N47) -> 290441.27 | E15: =IF(ISERROR($N48),"-",$N48) -> 4183228.4 | F15: =IF(ISERROR($N49),"-",$N49) -> 48 | G15: =IF(ISERROR($N50),"-",$N50) -> - | H15: =IF(ISERROR($N51),"-",$N51) -> 178569.39 | K15: その他の偶蹄類の肉 | L15: G5 | M15: その他の偶蹄類の肉 | N15: =VLOOKUP(M15,'[1]輸入畜産物ピボット(同一データを2カ所に貼る)'!$D$2:$E$120,2,FALSE) -> 1250 | O15: L14
B16: 加熱処理その他 の家きん臓器 | H16: 計 | K16: 加熱処理肉牛 | L16: B7 | M16: 加熱処理肉牛 | N16: =VLOOKUP(M16,'[1]輸入畜産物ピボット(同一データを2カ所に貼る)'!$D$2:$E$120,2,FALSE) -> 109608.47 | O16: L15
B17: =IF(ISERROR($N53),"-",$N53) -> 6120 | H17: =SUM(B13:H13,B15:H15,B17:G17) -> 7900761.6 | K17: 加熱処理肉豚 | L17: C7 | M17: 加熱処理肉豚 | N17: =VLOOKUP(M17,'[1]輸入畜産物ピボット(同一データを2カ所に貼る)'!$D$2:$E$120,2,FALSE) -> 709156.98 | O17: L16
A18: 卵類 | B18: 食用殻付卵 | C18: 液卵 | D18: その他の卵 | H18: 計 | K18: 加熱処理肉その他偶蹄類 | L18: D7 | M18: 加熱処理肉その他偶蹄類（めん羊） | N18: =VLOOKUP(M18,'[1]輸入畜産物ピボット(同一データを2カ所に貼る)'!$D$2:$E$120,2,FALSE) -> #N/A | O18: L17
B19: =IF(ISERROR($N54),"-",$N54) -> 1226348.7 | C19: =IF(ISERROR($N55),"-",$N55) -> 1577919.9 | D19: =IF(ISERROR($N56),"-",$N56) -> 1.5 | H19: =SUM(B19:G19) -> 2804270.1 | K19: ハム | L19: E7 | M19: ハム | N19: =VLOOKUP(M19,'[1]輸入畜産物ピボット(同一データを2カ所に貼る)'!$D$2:$E$120,2,FALSE) -> 255419.29 | O19: L18
A20: 皮類 | B20: 牛皮 | C20: 豚皮 | D20: めん羊皮 | E20: 山羊皮 | F20: 鹿皮 | G20: その他の 偶蹄類の皮 | H20: 馬皮 | K20: 加熱処理ハム | L20: F7 | M20: 加熱処理ハム | N20: =VLOOKUP(M20,'[1]輸入畜産物ピボット(同一データを2カ所に貼る)'!$D$2:$E$120,2,FALSE) -> 15038.46 | O20: L19
B21: =IF(ISERROR($N57),"-",$N57) -> 2026066.9 | C21: =IF(ISERROR($N58),"-",$N58) -> 77386.69 | D21: =IF(ISERROR($N59),"-",$N59) -> 14945 | E21: =IF(ISERROR($N60),"-",$N60) -> - | F21: =IF(ISERROR($N61),"-",$N61) -> 13073 | G21: =IF(ISERROR($N62),"-",$N62) -> - | H21: =IF(ISERROR($N63),"-",$N63) -> 25062 | K21: ソーセージ | L21: G7 | M21: ソーセージ | N21: =VLOOKUP(M21,'[1]輸入畜産物ピボット(同一データを2カ所に貼る)'!$D$2:$E$120,2,FALSE) -> 1222892.5 | O21: L20
B22: うさぎ皮 | C22: 犬皮 | D22: その他の皮 | H22: 計 | K22: 加熱処理ソーセージ | L22: H7 | M22: 加熱処理ソーセージ | N22: =VLOOKUP(M22,'[1]輸入畜産物ピボット(同一データを2カ所に貼る)'!$D$2:$E$120,2,FALSE) -> 833745.98 | O22: L21 | P22: =P23+N23 -> 130990.77
B23: =IF(ISERROR($N64),"-",$N64) -> 33180 | C23: =IF(ISERROR($N65),"-",$N65) -> - | D23: =IF(ISERROR($N66),"-",$N66) -> - | H23: =SUM(B21:H21,B23:G23) -> 2189713.6 | K23: ベーコン | L23: B9 | M23: ベーコン | N23: =VLOOKUP(M23,'[1]輸入畜産物ピボット(同一データを2カ所に貼る)'!$D$2:$E$120,2,FALSE) -> 130990.77 | O23: L22
A24: 毛類 | B24: 牛毛 | C24: 豚毛 | D24: 羊毛 | E24: 山羊毛 | F24: 鹿毛 | G24: その他の 偶蹄類の毛 | H24: 馬毛 | K24: 加熱処理ベーコン | L24: C9 | M24: 加熱処理ベーコン | N24: =VLOOKUP(M24,'[1]輸入畜産物ピボット(同一データを2カ所に貼る)'!$D$2:$E$120,2,FALSE) -> 0.84 | O24: L23
B25: =IF(ISERROR($N67),"-",$N67) -> - | C25: =IF(ISERROR($N68),"-",$N68) -> 750 | D25: =IF(ISERROR($N69),"-",$N69) -> - | E25: =IF(ISERROR($N70),"-",$N70) -> 13090 | F25: =IF(ISERROR($N71),"-",$N71) -> - | G25: =IF(ISERROR($N72),"-",$N72) -> 548.16 | H25: =IF(ISERROR($N73),"-",$N73) -> 9405 | K25: 馬肉 | L25: D9 | M25: 馬肉 | N25: =VLOOKUP(M25,'[1]輸入畜産物ピボット(同一データを2カ所に貼る)'!$D$2:$E$120,2,FALSE) -> 380476.1 | O25: L24 | P25: =SUM(N6:N26) -> #N/A
B26: うさぎ毛 | C26: 羽毛 | D26: 犬毛 | E26: その他の毛 | H26: 計 | K26: うさぎ肉 | L26: E9 | M26: うさぎ肉 | N26: =VLOOKUP(M26,'[1]輸入畜産物ピボット(同一データを2カ所に貼る)'!$D$2:$E$120,2,FALSE) -> 2315.46 | O26: L25
B27: =IF(ISERROR($N74),"-",$N74) -> 1120 | C27: =IF(ISERROR($N75),"-",$N75) -> 290257.77 | D27: =IF(ISERROR($N76),"-",$N76) -> - | E27: =IF(ISERROR($N77),"-",$N77) -> - | H27: =SUM(B25:H25,B27:E27) -> 315170.93 | K27: 家きん肉 | L27: F9 | M27: 家きん肉 | N27: =VLOOKUP(M27,'[1]輸入畜産物ピボット(同一データを2カ所に貼る)'!$D$2:$E$120,2,FALSE) -> 60373088 | O27: L26
A28: 乳製品類 | B28: チーズ | C28: バター | D28: 偶蹄類動物の飼料用乳製品 | E28: その他の 乳製品 | H28: 計
B29: =IF(ISERROR($N95),"-",$N95) -> 21751954 | C29: =IF(ISERROR($N96),"-",$N96) -> 1697890.1 | D29: =IF(ISERROR($N97),"-",$N97) -> 1423695 | E29: =IF(ISERROR($N98),"-",$N98) -> 5751528.3 | H29: =SUM(B29:E29) -> 30625067
A30: ミール類 | B30: 血粉 | C30: 肉粉 | D30: 肉骨粉 | E30: 皮粉・羽毛粉 | H30: 計 | K30: 加熱処理肉（家きん） | L30: G9 | M30: 犬肉 | N30: =VLOOKUP(M30,'[1]輸入畜産物ピボット(同一データを2カ所に貼る)'!$D$2:$E$120,2,FALSE) -> #N/A | O30: L27
B31: =IF(ISERROR($N78),"-",$N78) -> 211325.5 | C31: =IF(ISERROR($N79),"-",$N79) -> 33352.29 | D31: =IF(ISERROR($N80),"-",$N80) -> - | E31: =IF(ISERROR($N81),"-",$N81) -> - | H31: =SUM(B31:G31) -> 244677.79 | K31: 犬肉 | L31: H9 | M31: その他の肉（非加熱） | N31: =VLOOKUP(M31,'[1]輸入畜産物ピボット(同一データを2カ所に貼る)'!$D$2:$E$120,2,FALSE) -> 1082510 | O31: L28
A32: その他 畜産物 | B32: 精液 (アンプル） | C32: 受精卵 （個） | D32: ふん・尿 | H32: 計 | K32: その他の肉（非加熱） | L32: B11 | M32: その他の肉（加熱処理肉） | N32: =VLOOKUP(M32,'[1]輸入畜産物ピボット(同一データを2カ所に貼る)'!$D$2:$E$120,2,FALSE) -> 3338733.7 | O32: L29
B33: =IF(ISERROR($N84),"-",$N84) -> 55722 | C33: =IF(ISERROR($N85),"-",$N85) -> 13 | D33: =IF(ISERROR($N87),"-",$N87) -> - | H33: =SUM(D33:G33) -> 0 | K33: その他の肉（加熱処理肉） | L33: C11 | M33: 加熱処理肉（家きん） | N33: =VLOOKUP(M33,'[1]輸入畜産物ピボット(同一データを2カ所に貼る)'!$D$2:$E$120,2,FALSE) -> 37625418 | O33: L30
A34: わら類 | B34: 穀物のわら | C34: 飼料用の乾草 | D34: その他 | H34: 計 | K34: その他の肉（加熱処理肉）(家きん肉) | L34: D11 | M34: 加熱処理ハム（家きん） | N34: =VLOOKUP(M34,'[1]輸入畜産物ピボット(同一データを2カ所に貼る)'!$D$2:$E$120,2,FALSE) -> #N/A | O34: L31
B35: =IF(ISERROR($N89),"-",$N89) -> 14510330 | C35: =IF(ISERROR($N90),"-",$N90) -> - | D35: =IF(ISERROR($N91),"-",$N91) -> 171540 | H35: =SUM(B35:G35) -> 14681870 | K35: 偶蹄類の臓器牛 | L35: E11 | M35: 加熱処理ソーセージ（家きん） | N35: =VLOOKUP(M35,'[1]輸入畜産物ピボット(同一データを2カ所に貼る)'!$D$2:$E$120,2,FALSE) -> #N/A | O35: L32
H36: 総計 | K36: 偶蹄類の臓器豚 | L36: F11 | M36: 加熱処理ベーコン（家きん） | N36: =VLOOKUP(M36,'[1]輸入畜産物ピボット(同一データを2カ所に貼る)'!$D$2:$E$120,2,FALSE) -> #N/A | O36: L33
H37: =SUM(H3,H11,H17,H19,H23,H27,H29,H31,H35) -> 3.0939708e+08 | K37: 偶蹄類の臓器その他の偶蹄類 | L37: G11 | M37: その他の肉（加熱処理肉）（家きん） | N37: =VLOOKUP(M37,'[1]輸入畜産物ピボット(同一データを2カ所に貼る)'!$D$2:$E$120,2,FALSE) -> 2777883.7 | O37: L34
K38: 加熱処理臓器牛 | L38: B15 | M38: 偶蹄類の臓器牛 | N38: =VLOOKUP(M38,'[1]輸入畜産物ピボット(同一データを2カ所に貼る)'!$D$2:$E$120,2,FALSE) -> 139164.54 | O38: L35
A39: 資料）動物検疫所調べ | K39: 加熱処理臓器豚 | L39: C15 | M39: 偶蹄類の臓器豚 | N39: =VLOOKUP(M39,'[1]輸入畜産物ピボット(同一データを2カ所に貼る)'!$D$2:$E$120,2,FALSE) -> 64678.26 | O39: L36
A40: (注） | B40: １．解放重量ベースの速報値の為、数値が変更となることがある。 また、数量についてはことわりのない限り、Kg集計できるもののみを集計している。 | K40: 加熱処理臓器その他の偶蹄類 | L40: D15 | M40: 偶蹄類の臓器その他の偶蹄類 | N40: =VLOOKUP(M40,'[1]輸入畜産物ピボット(同一データを2カ所に貼る)'!$D$2:$E$120,2,FALSE) -> 5228.65 | O40: L37 | P40: =SUM(N27:N41) -> #N/A
...

Sheet 輸出畜産物 
A1: 輸出畜産物検疫数量速報（令和5年8月分） | G1: （単位：Kg） | M1: 種類 | N1: 計
A2: 骨類 | B2: 骨 | C2: 砕骨 | D2: 蹄角 | E2: 骨腱 | F2: 生骨粉 | G2: 加熱処理骨粉 | H2: 蹄角粉 | K2: 骨 | L2: B3 | M2: 骨 | N2: =VLOOKUP(M2,[1]輸出畜産物ピボット!$A$1:$B$73,2,FALSE) -> 1100 | O2: L2
B3: =IF(ISERROR($N2),"-",$N2) -> 1100 | C3: =IF(ISERROR($N3),"-",$N3) -> - | D3: =IF(ISERROR($N4),"-",$N4) -> 2634 | E3: =IF(ISERROR($N5),"-",$N5) -> - | F3: =IF(ISERROR($N6),"-",$N6) -> - | G3: =IF(ISERROR($N7),"-",$N7) -> - | H3: =IF(ISERROR($N8),"-",$N8) -> - | K3: 砕骨 | L3: C3 | M3: 砕骨 | N3: =VLOOKUP(M3,[1]輸出畜産物ピボット!$A$1:$B$73,2,FALSE) -> #N/A | O3: L3
B4: その他の骨 | H4: 計 | K4: 蹄角 | L4: D3 | M4: 蹄角 | N4: =VLOOKUP(M4,[1]輸出畜産物ピボット!$A$1:$B$73,2,FALSE) -> 2634 | O4: L4
B5: =IF(ISERROR($N9),"-",$N9) -> 10 | H5: =SUM(B3:H3,B5) -> 3744 | K5: 骨腱 | L5: E3 | M5: 骨腱 | N5: =VLOOKUP(M5,[1]輸出畜産物ピボット!$A$1:$B$73,2,FALSE) -> #N/A | O5: L5 | P5: =SUM(N2:N5) -> #N/A
A6: 肉類 | B6: 牛肉 | C6: 豚肉 | D6: めん羊肉 | E6: 山羊肉 | F6: 鹿肉 | G6: その他の 偶蹄類肉 | H6: ハム | K6: 生骨粉 | L6: F3 | M6: 生骨粉 | N6: =VLOOKUP(M6,[1]輸出畜産物ピボット!$A$1:$B$73,2,FALSE) -> #N/A | O6: L6
B7: =IF(ISERROR($N10),"-",$N10) -> 736542.65 | C7: =IF(ISERROR($N11),"-",$N11) -> 168318.7 | D7: =IF(ISERROR($N12),"-",$N12) -> - | E7: =IF(ISERROR($N13),"-",$N13) -> - | F7: =IF(ISERROR($N14),"-",$N14) -> 1.7 | G7: =IF(ISERROR($N15),"-",$N15) -> - | H7: =IF(ISERROR($N19),"-",$N19) -> - | K7: 加熱処理骨粉 | L7: G3 | M7: 加熱処理骨粉 | N7: =VLOOKUP(M7,[1]輸出畜産物ピボット!$A$1:$B$73,2,FALSE) -> #N/A | O7: L7
B8: ソーセージ | C8: ベーコン | D8: 馬肉 | E8: うさぎ肉 | F8: 家きん肉 | G8: 犬肉 | H8: その他の肉 | K8: 蹄角粉 | L8: H3 | M8: 蹄角粉 | N8: =VLOOKUP(M8,[1]輸出畜産物ピボット!$A$1:$B$73,2,FALSE) -> #N/A | O8: L8
B9: =IF(ISERROR($N21),"-",$N21) -> 24.36 | C9: =IF(ISERROR($N23),"-",$N23) -> - | D9: =IF(ISERROR($N25),"-",$N25) -> - | E9: =IF(ISERROR($N28),"-",$N28) -> - | F9: =IF(ISERROR($N29),"-",$N29) -> 452946.44 | G9: =IF(ISERROR($N30),"-",$N30) -> - | H9: =IF(ISERROR($N31),"-",$N31) -> 28199.96 | K9: その他の骨 | L9: B5 | M9: その他の骨 | N9: =VLOOKUP(M9,[1]輸出畜産物ピボット!$A$1:$B$73,2,FALSE) -> 10 | O9: L9
H10: 計 | K10: 牛肉 | L10: B5 | M10: 牛肉 | N10: =VLOOKUP(M10,[1]輸出畜産物ピボット!$A$1:$B$73,2,FALSE) -> 736542.65 | O10: L10
H11: =SUM(B7:H7,B9:H9) -> 1386033.8 | K11: 豚肉 | L11: C5 | M11: 豚肉 | N11: =VLOOKUP(M11,[1]輸出畜産物ピボット!$A$1:$B$73,2,FALSE) -> 168318.7 | O11: L11
A12: 臓器類 | B12: 牛臓器 | C12: 豚臓器 | D12: その他の偶蹄類の臓器 | E12: 偶蹄類以外の 臓器 | F12: 消化管等 | G12: ケーシング | H12: 脂肪 | K12: めん羊肉 | L12: D5 | M12: めん羊肉 | N12: =VLOOKUP(M12,[1]輸出畜産物ピボット!$A$1:$B$73,2,FALSE) -> #N/A | O12: L12
B13: =IF(ISERROR($N38),"-",$N38) -> 127.8 | C13: =IF(ISERROR($N39),"-",$N39) -> 7200 | D13: =IF(ISERROR($N40),"-",$N40) -> - | E13: =IF(ISERROR($N44),"-",$N44) -> 1326 | F13: =IF(ISERROR($N45),"-",$N45) -> 8366 | G13: =IF(ISERROR($N47),"-",$N47) -> - | H13: =IF(ISERROR($N48),"-",$N48) -> 224 | K13: 山羊肉 | L13: E5 | M13: 山羊肉 | N13: =VLOOKUP(M13,[1]輸出畜産物ピボット!$A$1:$B$73,2,FALSE) -> #N/A | O13: L13
B14: 非加熱 その他の臓器 | H14: 計 | K14: 鹿肉 | L14: F5 | M14: 鹿肉 | N14: =VLOOKUP(M14,[1]輸出畜産物ピボット!$A$1:$B$73,2,FALSE) -> 1.7 | O14: L13
B15: =IF(ISERROR($N49),"-",$N49) -> - | H15: =SUM(B13:H13,B15:G15) -> 17243.8 | K15: その他の 偶蹄類肉 | L15: G5 | M15: その他の偶蹄類の肉 | N15: =VLOOKUP(M15,[1]輸出畜産物ピボット!$A$1:$B$73,2,FALSE) -> #N/A | O15: L14
A16: 卵類 | B16: 殻付卵 | C16: 液卵 | D16: その他の卵 | H16: 計 | K16: 加熱処理牛肉 | L16: B7 | M16: 加熱処理肉牛 | N16: =VLOOKUP(M16,[1]輸出畜産物ピボット!$A$1:$B$73,2,FALSE) -> #N/A | O16: L15
B17: =IF(ISERROR($N54),"-",$N54) -> 1862403.2 | C17: =IF(ISERROR($N55),"-",$N55) -> 5460 | D17: =IF(ISERROR($N56),"-",$N56) -> 9995.8 | H17: =SUM(B17:G17) -> 1877859 | K17: 加熱処理豚肉 | L17: C7 | M17: 加熱処理肉豚 | N17: =VLOOKUP(M17,[1]輸出畜産物ピボット!$A$1:$B$73,2,FALSE) -> #N/A | O17: L16
A18: 皮類 | B18: 牛皮 | C18: 豚皮 | D18: めん羊皮 | E18: 山羊皮 | F18: 鹿皮 | G18: その他の 偶蹄類の皮 | H18: 馬皮 | K18: 加熱処理その他の偶蹄類肉 | L18: D7 | M18: 加熱処理その他の偶蹄類肉 | N18: =VLOOKUP(M18,[1]輸出畜産物ピボット!$A$1:$B$73,2,FALSE) -> #N/A | O18: L17
B19: =IF(ISERROR($N57),"-",$N57) -> 1248979 | C19: =IF(ISERROR($N58),"-",$N58) -> 4596607 | D19: =IF(ISERROR($N59),"-",$N59) -> - | E19: =IF(ISERROR($N60),"-",$N60) -> - | F19: =IF(ISERROR($N61),"-",$N61) -> - | G19: =IF(ISERROR($N62),"-",$N62) -> - | H19: =IF(ISERROR($N63),"-",$N63) -> - | K19: ハム | L19: E7 | M19: ハム | N19: =VLOOKUP(M19,[1]輸出畜産物ピボット!$A$1:$B$73,2,FALSE) -> #N/A | O19: L18
B20: うさぎ皮 | C20: 犬皮 | D20: その他の皮 | H20: 計 | K20: 加熱処理ハム | L20: F7 | M20: 加熱処理ハム | N20: =VLOOKUP(M20,[1]輸出畜産物ピボット!$A$1:$B$73,2,FALSE) -> #N/A | O20: L19
B21: =IF(ISERROR($N64),"-",$N64) -> - | C21: =IF(ISERROR($N65),"-",$N65) -> - | D21: =IF(ISERROR($N66),"-",$N66) -> - | H21: =SUM(B19:H19,B20:G21) -> 5845586 | K21: ソーセージ | L21: G7 | M21: ソーセージ | N21: =VLOOKUP(M21,[1]輸出畜産物ピボット!$A$1:$B$73,2,FALSE) -> 24.36 | O21: L20
A22: 毛類 | B22: 牛毛 | C22: 豚毛 | D22: 羊毛 | E22: 山羊毛 | F22: 鹿毛 | G22: その他の 偶蹄類の毛 | H22: 馬毛 | K22: 加熱処理 ソーセージ | L22: H7 | M22: 加熱処理ソーセージ | N22: =VLOOKUP(M22,[1]輸出畜産物ピボット!$A$1:$B$73,2,FALSE) -> #N/A | O22: L21
B23: =IF(ISERROR($N67),"-",$N67) -> - | C23: =IF(ISERROR($N68),"-",$N68) -> - | D23: =IF(ISERROR($N69),"-",$N69) -> - | E23: =IF(ISERROR($N70),"-",$N70) -> - | F23: =IF(ISERROR($N71),"-",$N71) -> - | G23: =IF(ISERROR($N72),"-",$N72) -> - | H23: =IF(ISERROR($N73),"-",$N73) -> - | K23: ベーコン | L23: B9 | M23: ベーコン | N23: =VLOOKUP(M23,[1]輸出畜産物ピボット!$A$1:$B$73,2,FALSE) -> #N/A | O23: L22
B24: うさぎ毛 | C24: 羽毛 | D24: 犬毛 | E24: その他の毛 | H24: 計 | K24: 加熱処理 ベーコン | L24: C9 | M24: 加熱処理ベーコン | N24: =VLOOKUP(M24,[1]輸出畜産物ピボット!$A$1:$B$73,2,FALSE) -> #N/A | O24: L23
B25: =IF(ISERROR($N74),"-",$N74) -> - | C25: =IF(ISERROR($N75),"-",$N75) -> 6382.76 | D25: =IF(ISERROR($N76),"-",$N76) -> - | E25: =IF(ISERROR($N77),"-",$N77) -> 704.55 | H25: =SUM(B23:H23,B25:E25) -> 7087.31 | K25: 馬肉 | L25: D9 | M25: 馬肉 | N25: =VLOOKUP(M25,[1]輸出畜産物ピボット!$A$1:$B$73,2,FALSE) -> #N/A | O25: L24 | P25: =SUM(N6:N28) -> #N/A
A26: 乳製品類 | B26: チーズ | C26: バター | D26: 偶蹄類動物の飼料用乳製品 | E26: その他の 乳製品 | H26: 計
B27: =IF(ISERROR($N95),"-",$N95) -> 1134.77 | C27: =IF(ISERROR($N96),"-",$N96) -> 15.07 | D27: =IF(ISERROR($N97),"-",$N97) -> - | E27: =IF(ISERROR($N98),"-",$N98) -> 127580.4 | H27: =SUM(B27:E27) -> 128730.24
A28: ミール類 | B28: 血粉 | C28: 肉粉 | D28: 肉骨粉 | E28: 皮粉・羽毛粉 | H28: 計 | K28: うさぎ肉 | L28: E9 | M28: うさぎ肉 | N28: =VLOOKUP(M28,[1]輸出畜産物ピボット!$A$1:$B$73,2,FALSE) -> #N/A | O28: L25
B29: =IF(ISERROR($N78),"-",$N78) -> - | C29: =IF(ISERROR($N79),"-",$N79) -> - | D29: =IF(ISERROR($N80),"-",$N80) -> - | E29: =IF(ISERROR($N81),"-",$N81) -> - | H29: =SUM(B29:G29) -> 0 | K29: 家きん肉 | L29: F9 | M29: 家きん肉 | N29: =VLOOKUP(M29,[1]輸出畜産物ピボット!$A$1:$B$73,2,FALSE) -> 452946.44 | O29: L26
A30: その他 畜産物 | B30: 精液 (アンプル） | C30: 受精卵 （個） | D30: ふん・尿 | H30: 計 | K30: 犬肉 | L30: G9 | M30: 犬肉 | N30: =VLOOKUP(M30,[1]輸出畜産物ピボット!$A$1:$B$73,2,FALSE) -> #N/A | O30: L27
B31: =IF(ISERROR($N84),"-",$N84) -> 4 | C31: =IF(ISERROR($N85),"-",$N85) -> - | D31: =IF(ISERROR($N87),"-",$N87) -> 100080 | H31: =SUM(D31) -> 100080 | K31: 非加熱 その他の肉 | L31: H9 | M31: その他の肉（非加熱） | N31: =VLOOKUP(M31,[1]輸出畜産物ピボット!$A$1:$B$73,2,FALSE) -> 28199.96 | O31: L28
H32: 総計 | K32: 加熱処理その他の肉 | L32: B11 | M32: その他の肉（加熱処理肉） | N32: =VLOOKUP(M32,[1]輸出畜産物ピボット!$A$1:$B$73,2,FALSE) -> #N/A | O32: L29
H33: =SUM(H5,H11,H17,H21,H25,H29,H15,,H27) -> 9266284.1 | K33: 家きん加熱処理肉 | L33: C11 | M33: 加熱処理肉（家きん） | N33: =VLOOKUP(M33,[1]輸出畜産物ピボット!$A$1:$B$73,2,FALSE) -> #N/A | O33: L30
K34: 家きん加熱処理ハム | L34: D11 | M34: 加熱処理ハム（家きん） | N34: =VLOOKUP(M34,[1]輸出畜産物ピボット!$A$1:$B$73,2,FALSE) -> #N/A | O34: L31
A35: 資料）動物検疫所調べ | K35: 家きん加熱処理ソーセージ | L35: E11 | M35: 加熱処理ソーセージ（家きん） | N35: =VLOOKUP(M35,[1]輸出畜産物ピボット!$A$1:$B$73,2,FALSE) -> #N/A | O35: L32
A36: (注） | B36: １．解放重量ベースの速報値の為、数値が変更となることがある。 また、数量についてはことわりのない限り、Kg集計できるもののみを集計している。 | K36: 家きん加熱処理ベーコン | L36: F11 | M36: 加熱処理ベーコン（家きん） | N36: =VLOOKUP(M36,[1]輸出畜産物ピボット!$A$1:$B$73,2,FALSE) -> #N/A | O36: L33
B37: ２．携帯品・郵便物として輸出されたものは除く。 | K37: 加熱処理 その他の家きん肉 | L37: G11 | M37: その他の肉（加熱処理肉）(家きん肉) | N37: =VLOOKUP(M37,[1]輸出畜産物ピボット!$A$1:$B$73,2,FALSE) -> #N/A | O37: L34
B38: ３．「家きん肉」は、鶏、うずら、きじ、だちょう、ほろほろ鳥及び七面鳥並びにあひる、がちょうその他のかも目の 鳥類由来の肉、ハム、ソーセージ、ベーコン。 | K38: 牛 | L38: B15 | M38: 偶蹄類の臓器牛 | N38: =VLOOKUP(M38,[1]輸出畜産物ピボット!$A$1:$B$73,2,FALSE) -> 127.8 | O38: L35
B39: ４．「偶蹄類以外の臓器」には、馬、家きん、うさぎ、犬の臓器を含む。 | K39: 豚 | L39: C15 | M39: 偶蹄類の臓器豚 | N39: =VLOOKUP(M39,[1]輸出畜産物ピボット!$A$1:$B$73,2,FALSE) -> 7200 | O39: L36
B40: ５．「消化管等」には、消化管、子宮及び膀胱を含む。 | K40: その他の偶蹄類 | L40: D15 | M40: 偶蹄類の臓器その他の偶蹄類 | N40: =VLOOKUP(M40,[1]輸出畜産物ピボット!$A$1:$B$73,2,FALSE) -> #N/A | O40: L37 | P40: =SUM(N29:N41) -> #N/A
...
