Workbook

Sheet １月
D1: 卵 用 鶏 | G1: 肉 用 鶏
A2: 仕出地域 | B2: 性別 | C2: 原種鶏 | D2: 種鶏 | E2: 採卵鶏 | F2: 原種鶏 | G2: 種鶏 | H2: 肉用鶏 | I2: 雌雄別計 | J2: 合計 | K2: 累 計 | L2: 対前年比(%) | M2: 前年同期累計 | N2: 前年同期合計
B3: 雄 | I3: =SUM(C3:H3) -> 0
B4: 雌 | I4: =SUM(C4:H4) -> 0
A5: イギリス | B5: 無鑑別 | I5: =SUM(C5:H5) -> 0 | J5: =SUM(I3:I5) -> 0 | K5: =J5 -> 0 | L5: =IF(ISERROR(K5/M5)," ",K5/M5) | N5: 0
B6: 雄 | I6: =SUM(C6:H6) -> 0
B7: 雌 | I7: =SUM(C7:H7) -> 0
A8: オランダ | B8: 無鑑別 | I8: =SUM(C8:H8) -> 0 | J8: =SUM(I6:I8) -> 0 | K8: =J8 -> 0 | L8: =IF(ISERROR(K8/M8)," ",K8/M8) | N8: 0
B9: 雄 | I9: =SUM(C9:H9) -> 0
B10: 雌 | I10: =SUM(C10:H10) -> 0
A11: スウェーデン | B11: 無鑑別 | I11: =SUM(C11:H11) -> 0 | J11: =SUM(I9:I11) -> 0 | K11: =J11 -> 0 | L11: =IF(ISERROR(K11/M11)," ",K11/M11) | M11: =N11 -> 0 | N11: 0
B12: 雄 | I12: =SUM(C12:H12) -> 0
B13: 雌 | I13: =SUM(C13:H13) -> 0
A14: ドイツ | B14: 無鑑別 | I14: =SUM(C14:H14) -> 0 | J14: =SUM(I12:I14) -> 0 | K14: =J14 -> 0 | L14: =IF(ISERROR(K14/M14)," ",K14/M14) | M14: =N14 -> 0 | N14: 0
B15: 雄 | I15: =SUM(C15:H15) -> 0
B16: 雌 | I16: =SUM(C16:H16) -> 0
A17: ハンガリー | B17: 無鑑別 | I17: =SUM(C17:H17) -> 0 | J17: =SUM(I15:I17) -> 0 | K17: =J17 -> 0 | L17: =IF(ISERROR(K17/M17)," ",K17/M17) | M17: =N17 -> 0 | N17: 0
B18: 雄 | I18: =SUM(C18:H18) -> 0
B19: 雌 | I19: =SUM(C19:H19) -> 0
A20: フィンランド | B20: 無鑑別 | I20: =SUM(C20:H20) -> 0 | J20: =SUM(I18:I20) -> 0 | K20: =J20 -> 0 | L20: =IF(ISERROR(K20/M20)," ",K20/M20) | M20: =N20 -> 0 | N20: 0
B21: 雄 | I21: =SUM(C21:H21) -> 0
B22: 雌 | I22: =SUM(C22:H22) -> 0
A23: フランス | B23: 無鑑別 | I23: =SUM(C23:H23) -> 0 | J23: =SUM(I21:I23) -> 0 | K23: =J23 -> 0 | L23: =IF(ISERROR(K23/M23)," ",K23/M23) | M23: =N23 -> 0 | N23: 0
B24: 雄 | I24: =SUM(C24:H24) -> 0
B25: 雌 | I25: =SUM(C25:H25) -> 0
A26: アメリカ | B26: 無鑑別 | I26: =SUM(C26:H26) -> 0 | J26: =SUM(I24:I26) -> 0 | K26: =J26 -> 0 | L26: =IF(ISERROR(K26/M26)," ",K26/M26) | M26: =N26 -> 0 | N26: 0
B27: 雄 | I27: =SUM(C27:H27) -> 0
B28: 雌 | I28: =SUM(C28:H28) -> 0
A29: カナダ | B29: 無鑑別 | I29: =SUM(C29:H29) -> 0 | J29: =SUM(I27:I29) -> 0 | K29: =J29 -> 0 | L29: =IF(ISERROR(K29/M29)," ",K29/M29) | M29: =N29 -> 0 | N29: 0
B30: 雄 | I30: =SUM(C30:H30) -> 0
B31: 雌 | I31: =SUM(C31:H31) -> 0
A32: ブラジル | B32: 無鑑別 | I32: =SUM(C32:H32) -> 0 | J32: =SUM(I30:I32) -> 0 | K32: =J32 -> 0 | L32: =IF(ISERROR(K32/M32)," ",K32/M32) | M32: =N32 -> 0 | N32: 0
B33: 雄 | I33: =SUM(C33:H33) -> 0
B34: 雌 | I34: =SUM(C34:H34) -> 0
A35: オーストラリア | B35: 無鑑別 | I35: =SUM(C35:H35) -> 0 | J35: =SUM(I33:I35) -> 0 | K35: =J35 -> 0 | L35: =IF(ISERROR(K35/M35)," ",K35/M35) | M35: =N35 -> 0 | N35: 0
B36: 雄 | I36: =SUM(C36:H36) -> 0
B37: 雌 | I37: =SUM(C37:H37) -> 0
A38: ニュー・カレドニア | B38: 無鑑別 | I38: =SUM(C38:H38) -> 0 | J38: =SUM(I36:I38) -> 0 | K38: =J38 -> 0 | L38: =IF(ISERROR(K38/M38)," ",K38/M38) | M38: =N38 -> 0 | N38: 0
B39: 雄 | I39: =SUM(C39:H39) -> 0
B40: 雌 | I40: =SUM(C40:H40) -> 0
A41: ニュージーランド | B41: 無鑑別 | I41: =SUM(C41:H41) -> 0 | J41: =SUM(I39:I41) -> 0 | K41: =J41 -> 0 | L41: =IF(ISERROR(K41/M41)," ",K41/M41) -> 0 | M41: =N41 -> 24923 | N41: 24923
B42: 雄 | C42: =C3+C6+C9+C12+C15+C18+C21+C24+C27+C30+C33+C36+C39 -> 0 | D42: =D3+D6+D9+D12+D15+D18+D21+D24+D27+D30+D33+D36+D39 -> 0 | E42: =E3+E6+E9+E12+E15+E18+E21+E24+E27+E30+E33+E36+E39 -> 0 | F42: =F3+F6+F9+F12+F15+F18+F21+F24+F27+F30+F33+F36+F39 -> 0 | G42: =G3+G6+G9+G12+G15+G18+G21+G24+G27+G30+G33+G36+G39 -> 0 | H42: =H3+H6+H9+H12+H15+H18+H21+H24+H27+H30+H33+H36+H39 -> 0 | I42: =I3+I6+I9+I12+I15+I18+I21+I24+I27+I30+I33+I36+I39 -> 0
B43: 雌 | C43: =C4+C7+C10+C13+C16+C19+C22+C25+C28+C31+C34+C37+C40 -> 0 | D43: =D4+D7+D10+D13+D16+D19+D22+D25+D28+D31+D34+D37+D40 -> 0 | E43: =E4+E7+E10+E13+E16+E19+E22+E25+E28+E31+E34+E37+E40 -> 0 | F43: =F4+F7+F10+F13+F16+F19+F22+F25+F28+F31+F34+F37+F40 -> 0 | G43: =G4+G7+G10+G13+G16+G19+G22+G25+G28+G31+G34+G37+G40 -> 0 | H43: =H4+H7+H10+H13+H16+H19+H22+H25+H28+H31+H34+H37+H40 -> 0 | I43: =I4+I7+I10+I13+I16+I19+I22+I25+I28+I31+I34+I37+I40 -> 0
A44: 計 | B44: 無鑑別 | C44: =C5+C8+C11+C14+C17+C20+C23+C26+C29+C32+C35+C38+C41 -> 0 | D44: =D5+D8+D11+D14+D17+D20+D23+D26+D29+D32+D35+D38+D41 -> 0 | E44: =E5+E8+E11+E14+E17+E20+E23+E26+E29+E32+E35+E38+E41 -> 0 | F44: =F5+F8+F11+F14+F17+F20+F23+F26+F29+F32+F35+F38+F41 -> 0 | G44: =G5+G8+G11+G14+G17+G20+G23+G26+G29+G32+G35+G38+G41 -> 0 | H44: =H5+H8+H11+H14+H17+H20+H23+H26+H29+H32+H35+H38+H41 -> 0 | I44: =I5+I8+I11+I14+I17+I20+I23+I26+I29+I32+I35+I38+I41 -> 0 | J44: =J5+J8+J14+J17+J20+J23+J26+J29+J32+J35+J38+J11+J41 -> 0 | K44: =J44 -> 0 | L44: =IF(ISERROR(K44/M44)," ",K44/M44) -> 0 | M44: =M5+M8+M11+M14+M17+M20+M23+M26+M29+M32+M35+M38+M41 -> 24923 | N44: =N5+N8+N11+N14+N17+N20+N23+N26+N29+N32+N35+N38+N41 -> 24923
B45: 計 | C45: =SUM(C42:C44) -> 0 | D45: =SUM(D42:D44) -> 0 | E45: =SUM(E42:E44) -> 0 | F45: =SUM(F42:F44) -> 0 | G45: =SUM(G42:G44) -> 0 | H45: =SUM(H42:H44) -> 0 | I45: =SUM(C45:H45) -> 0
A46: 前年同期合計 | F46: 24923 | I46: =SUM(C46:H46) -> 24923
A47: 対前年比(%) | B47: =IF(ISERROR(B45/B46)," ",B45/B46) | C47: =IF(ISERROR(C45/C46)," ",C45/C46) | D47: =IF(ISERROR(D45/D46)," ",D45/D46) | E47: =IF(ISERROR(E45/E46)," ",E45/E46) | F47: 0% | G47: =IF(ISERROR(G45/G46)," ",G45/G46) | H47: =IF(ISERROR(H45/H46)," ",H45/H46) | I47: 0%
B48: 雄 | C48: =C42 -> 0 | D48: =D42 -> 0 | E48: =E42 -> 0 | F48: =F42 -> 0 | G48: =G42 -> 0 | H48: =H42 -> 0 | I48: =SUM(C48:H48) -> 0
B49: 雌 | C49: =C43 -> 0 | D49: =D43 -> 0 | E49: =E43 -> 0 | F49: =F43 -> 0 | G49: =G43 -> 0 | H49: =H43 -> 0 | I49: =SUM(C49:H49) -> 0
A50: 累計 | B50: 無鑑別 | C50: =C44 -> 0 | D50: =D44 -> 0 | E50: =E44 -> 0 | F50: =F44 -> 0 | G50: =G44 -> 0 | H50: =H44 -> 0 | I50: =SUM(C50:H50) -> 0
B51: 計 | C51: =SUM(C48:C50) -> 0 | D51: =SUM(D48:D50) -> 0 | E51: =SUM(E48:E50) -> 0 | F51: =SUM(F48:F50) -> 0 | G51: =SUM(G48:G50) -> 0 | H51: =SUM(H48:H50) -> 0 | I51: =SUM(C51:H51) -> 0
A52: 前年同期累計 | C52: =C46 -> 0 | D52: =D46 -> 0 | E52: =E46 -> 0 | F52: =F46 -> 24923 | G52: =G46 -> 0 | H52: =H46 -> 0 | I52: =SUM(C52:H52) -> 24923
A53: 対前年比(%) | B53: =IF(ISERROR(B51/B52)," ",B51/B52) | C53: =IF(ISERROR(C51/C52)," ",C51/C52) | D53: =IF(ISERROR(D51/D52)," ",D51/D52) | E53: =IF(ISERROR(E51/E52)," ",E51/E52) | F53: 0% | G53: =IF(ISERROR(G51/G52)," ",G51/G52) | H53: =IF(ISERROR(H51/H52)," ",H51/H52) | I53: 0%

Sheet ２月
D1: 卵 用 鶏 | G1: 肉 用 鶏
A2: 仕出地域 | B2: 性別 | C2: 原種鶏 | D2: 種鶏 | E2: 採卵鶏 | F2: 原種鶏 | G2: 種鶏 | H2: 肉用鶏 | I2: 雌雄別計 | J2: 合計 | K2: 累 計 | L2: 対前年比(%) | M2: 前年同期累計 | N2: 前年同期合計
B3: 雄 | F3: 6611 | G3: 1901 | I3: =SUM(C3:H3) -> 8512
B4: 雌 | F4: 18762 | G4: 14313 | I4: =SUM(C4:H4) -> 33075
A5: イギリス | B5: 無鑑別 | I5: =SUM(C5:H5) -> 0 | J5: =SUM(I3:I5) -> 41587 | K5: =J5+'１月'!K5 -> 41587 | L5: - | M5: =N5+'１月'!M5 -> 0 | N5: 0
B6: 雄 | I6: =SUM(C6:H6) -> 0
B7: 雌 | I7: =SUM(C7:H7) -> 0
A8: オランダ | B8: 無鑑別 | I8: =SUM(C8:H8) -> 0 | J8: =SUM(I6:I8) -> 0 | K8: =J8+'１月'!K8 -> 0 | L8: =IF(ISERROR(L6/L7)," ",L6/L7) | M8: =N8+'１月'!M8 -> 0 | N8: 0
B9: 雄 | I9: =SUM(C9:H9) -> 0
B10: 雌 | I10: =SUM(C10:H10) -> 0
A11: スウェーデン | B11: 無鑑別 | I11: =SUM(C11:H11) -> 0 | J11: =SUM(I9:I11) -> 0 | K11: =J11+'１月'!K11 -> 0 | L11: =IF(ISERROR(K11/M11)," ",K11/M11) | M11: =N11+'１月'!M11 -> 0 | N11: 0
B12: 雄 | I12: =SUM(C12:H12) -> 0
B13: 雌 | I13: =SUM(C13:H13) -> 0
A14: ドイツ | B14: 無鑑別 | I14: =SUM(C14:H14) -> 0 | J14: =SUM(I12:I14) -> 0 | K14: =J14+'１月'!K14 -> 0 | L14: =IF(ISERROR(K14/M14)," ",K14/M14) | M14: =N14+'１月'!M14 -> 0 | N14: 0
B15: 雄 | I15: =SUM(C15:H15) -> 0
B16: 雌 | I16: =SUM(C16:H16) -> 0
A17: ハンガリー | B17: 無鑑別 | I17: =SUM(C17:H17) -> 0 | J17: =SUM(I15:I17) -> 0 | K17: =J17+'１月'!K17 -> 0 | L17: =IF(ISERROR(K17/M17)," ",K17/M17) | M17: =N17+'１月'!M17 -> 0 | N17: 0
B18: 雄 | I18: =SUM(C18:H18) -> 0
B19: 雌 | I19: =SUM(C19:H19) -> 0
A20: フィンランド | B20: 無鑑別 | I20: =SUM(C20:H20) -> 0 | J20: =SUM(I18:I20) -> 0 | K20: =J20+'１月'!K20 -> 0 | L20: =IF(ISERROR(K20/M20)," ",K20/M20) | M20: =N20+'１月'!M20 -> 0 | N20: 0
B21: 雄 | I21: =SUM(C21:H21) -> 0
B22: 雌 | I22: =SUM(C22:H22) -> 0
A23: フランス | B23: 無鑑別 | I23: =SUM(C23:H23) -> 0 | J23: =SUM(I21:I23) -> 0 | K23: =J23+'１月'!K23 -> 0 | L23: =IF(ISERROR(K23/M23)," ",K23/M23) | M23: =N23+'１月'!M23 -> 0 | N23: 0
B24: 雄 | I24: =SUM(C24:H24) -> 0
B25: 雌 | I25: =SUM(C25:H25) -> 0
A26: アメリカ | B26: 無鑑別 | I26: =SUM(C26:H26) -> 0 | J26: =SUM(I24:I26) -> 0 | K26: =J26+'１月'!K26 -> 0 | L26: =IF(ISERROR(K26/M26)," ",K26/M26) | M26: =N26+'１月'!M26 -> 0 | N26: 0
B27: 雄 | I27: =SUM(C27:H27) -> 0
B28: 雌 | I28: =SUM(C28:H28) -> 0
A29: カナダ | B29: 無鑑別 | I29: =SUM(C29:H29) -> 0 | J29: =SUM(I27:I29) -> 0 | K29: =J29+'１月'!K29 -> 0 | L29: =IF(ISERROR(K29/M29)," ",K29/M29) | M29: =N29+'１月'!M29 -> 0 | N29: 0
B30: 雄 | C30: 1035 | I30: =SUM(C30:H30) -> 1035
B31: 雌 | C31: 1762 | I31: =SUM(C31:H31) -> 1762
A32: ブラジル | B32: 無鑑別 | I32: =SUM(C32:H32) -> 0 | J32: =SUM(I30:I32) -> 2797 | K32: =J32+'１月'!K32 -> 2797 | L32: - | M32: =N32+'１月'!M32 -> 0 | N32: 0
B33: 雄 | I33: =SUM(C33:H33) -> 0
B34: 雌 | I34: =SUM(C34:H34) -> 0
A35: オーストラリア | B35: 無鑑別 | I35: =SUM(C35:H35) -> 0 | J35: =SUM(I33:I35) -> 0 | K35: =J35+'１月'!K35 -> 0 | L35: =IF(ISERROR(K35/M35)," ",K35/M35) | M35: =N35+'１月'!M35 -> 0 | N35: 0
B36: 雄 | I36: =SUM(C36:H36) -> 0
B37: 雌 | I37: =SUM(C37:H37) -> 0
A38: ニュー・カレドニア | B38: 無鑑別 | I38: =SUM(C38:H38) -> 0 | J38: =SUM(I36:I38) -> 0 | K38: =J38+'１月'!K38 -> 0 | L38: =IF(ISERROR(K38/M38)," ",K38/M38) | M38: =N38+'１月'!M38 -> 0 | N38: 0
B39: 雄 | I39: =SUM(C39:H39) -> 0
B40: 雌 | I40: =SUM(C40:H40) -> 0
A41: ニュージーランド | B41: 無鑑別 | I41: =SUM(C41:H41) -> 0 | J41: =SUM(I39:I41) -> 0 | K41: =J41+'１月'!K41 -> 0 | L41: 0% | M41: =N41+'１月'!M41 -> 56045 | N41: 31122
B42: 雄 | C42: =C3+C6+C9+C12+C15+C18+C21+C24+C27+C30+C33+C36+C39 -> 1035 | D42: =D3+D6+D9+D12+D15+D18+D21+D24+D27+D30+D33+D36+D39 -> 0 | E42: =E3+E6+E9+E12+E15+E18+E21+E24+E27+E30+E33+E36+E39 -> 0 | F42: =F3+F6+F9+F12+F15+F18+F21+F24+F27+F30+F33+F36+F39 -> 6611 | G42: =G3+G6+G9+G12+G15+G18+G21+G24+G27+G30+G33+G36+G39 -> 1901 | H42: =H3+H6+H9+H12+H15+H18+H21+H24+H27+H30+H33+H36+H39 -> 0 | I42: =I3+I6+I9+I12+I15+I18+I21+I24+I27+I30+I33+I36+I39 -> 9547
B43: 雌 | C43: =C4+C7+C10+C13+C16+C19+C22+C25+C28+C31+C34+C37+C40 -> 1762 | D43: =D4+D7+D10+D13+D16+D19+D22+D25+D28+D31+D34+D37+D40 -> 0 | E43: =E4+E7+E10+E13+E16+E19+E22+E25+E28+E31+E34+E37+E40 -> 0 | F43: =F4+F7+F10+F13+F16+F19+F22+F25+F28+F31+F34+F37+F40 -> 18762 | G43: =G4+G7+G10+G13+G16+G19+G22+G25+G28+G31+G34+G37+G40 -> 14313 | H43: =H4+H7+H10+H13+H16+H19+H22+H25+H28+H31+H34+H37+H40 -> 0 | I43: =I4+I7+I10+I13+I16+I19+I22+I25+I28+I31+I34+I37+I40 -> 34837
A44: 計 | B44: 無鑑別 | C44: =C5+C8+C11+C14+C17+C20+C23+C26+C29+C32+C35+C38+C41 -> 0 | D44: =D5+D8+D11+D14+D17+D20+D23+D26+D29+D32+D35+D38+D41 -> 0 | E44: =E5+E8+E11+E14+E17+E20+E23+E26+E29+E32+E35+E38+E41 -> 0 | F44: =F5+F8+F11+F14+F17+F20+F23+F26+F29+F32+F35+F38+F41 -> 0 | G44: =G5+G8+G11+G14+G17+G20+G23+G26+G29+G32+G35+G38+G41 -> 0 | H44: =H5+H8+H11+H14+H17+H20+H23+H26+H29+H32+H35+H38+H41 -> 0 | I44: =I5+I8+I11+I14+I17+I20+I23+I26+I29+I32+I35+I38+I41 -> 0 | J44: =J5+J8+J14+J17+J20+J23+J26+J29+J32+J35+J38+J11+J41 -> 44384 | K44: =J44+'１月'!K44 -> 44384 | L44: =IF(ISERROR(K44/M44)," ",K44/M44) -> 0.79193505 | M44: =M5+M8+M11+M14+M17+M20+M23+M26+M29+M32+M35+M38+M41 -> 56045 | N44: =N5+N8+N11+N14+N17+N20+N23+N26+N29+N32+N35+N38+N41 -> 31122
B45: 計 | C45: =SUM(C42:C44) -> 2797 | D45: =SUM(D42:D44) -> 0 | E45: =SUM(E42:E44) -> 0 | F45: =SUM(F42:F44) -> 25373 | G45: =SUM(G42:G44) -> 16214 | H45: =SUM(H42:H44) -> 0 | I45: =SUM(C45:H45) -> 44384
A46: 前年同期合計 | F46: 31122 | I46: =SUM(C46:H46) -> 31122
A47: 対前年比(%) | B47: =IF(ISERROR(B45/B46)," ",B45/B46) | C47: - | D47: =IF(ISERROR(D45/D46)," ",D45/D46) | E47: =IF(ISERROR(E45/E46)," ",E45/E46) | F47: =IF(ISERROR(F45/F46)," ",F45/F46) -> 0.81527537 | G47: - | H47: =IF(ISERROR(H45/H46)," ",H45/H46) | I47: =IF(ISERROR(I45/I46)," ",I45/I46) -> 1.4261294
B48: 雄 | C48: =C42+'１月'!C48 -> 1035 | D48: =D42+'１月'!D48 -> 0 | E48: =E42+'１月'!E48 -> 0 | F48: =F42+'１月'!F48 -> 6611 | G48: =G42+'１月'!G48 -> 1901 | H48: =H42+'１月'!H48 -> 0 | I48: =I42+'１月'!I48 -> 9547
B49: 雌 | C49: =C43+'１月'!C49 -> 1762 | D49: =D43+'１月'!D49 -> 0 | E49: =E43+'１月'!E49 -> 0 | F49: =F43+'１月'!F49 -> 18762 | G49: =G43+'１月'!G49 -> 14313 | H49: =H43+'１月'!H49 -> 0 | I49: =I43+'１月'!I49 -> 34837
A50: 累計 | B50: 無鑑別 | C50: =C44+'１月'!C50 -> 0 | D50: =D44+'１月'!D50 -> 0 | E50: =E44+'１月'!E50 -> 0 | F50: =F44+'１月'!F50 -> 0 | G50: =G44+'１月'!G50 -> 0 | H50: =H44+'１月'!H50 -> 0 | I50: =I44+'１月'!I50 -> 0
B51: 計 | C51: =SUM(C48:C50) -> 2797 | D51: =SUM(D48:D50) -> 0 | E51: =SUM(E48:E50) -> 0 | F51: =SUM(F48:F50) -> 25373 | G51: =SUM(G48:G50) -> 16214 | H51: =SUM(H48:H50) -> 0 | I51: =SUM(C51:H51) -> 44384
A52: 前年同期累計 | C52: =C46+'１月'!C52 -> 0 | D52: =D46+'１月'!D52 -> 0 | E52: =E46+'１月'!E52 -> 0 | F52: =F46+'１月'!F52 -> 56045 | G52: =G46+'１月'!G52 -> 0 | H52: =H46+'１月'!H52 -> 0 | I52: =SUM(C52:H52) -> 56045
A53: 対前年比(%) | B53: =IF(ISERROR(B51/B52)," ",B51/B52) | C53: - | D53: =IF(ISERROR(D51/D52)," ",D51/D52) | E53: =IF(ISERROR(E51/E52)," ",E51/E52) | F53: =IF(ISERROR(F51/F52)," ",F51/F52) -> 0.45272549 | G53: - | H53: =IF(ISERROR(H51/H52)," ",H51/H52) | I53: =IF(ISERROR(I51/I52)," ",I51/I52) -> 0.79193505

Sheet ３月
D1: 卵 用 鶏 | G1: 肉 用 鶏
A2: 仕出地域 | B2: 性別 | C2: 原種鶏 | D2: 種鶏 | E2: 採卵鶏 | F2: 原種鶏 | G2: 種鶏 | H2: 肉用鶏 | I2: 雌雄別計 | J2: 合計 | K2: 累 計 | L2: 対前年比(%) | M2: 前年同期累計 | N2: 前年同期合計
B3: 雄 | G3: 4848 | I3: =SUM(C3:H3) -> 4848
B4: 雌 | G4: 8236 | I4: =SUM(C4:H4) -> 8236
A5: イギリス | B5: 無鑑別 | I5: =SUM(C5:H5) -> 0 | J5: =SUM(I3:I5) -> 13084 | K5: =J5+'２月'!K5 -> 54671 | L5: - | M5: =N5+'２月'!M5 -> 0 | N5: 0
B6: 雄 | I6: =SUM(C6:H6) -> 0
B7: 雌 | I7: =SUM(C7:H7) -> 0
A8: オランダ | B8: 無鑑別 | I8: =SUM(C8:H8) -> 0 | J8: =SUM(I6:I8) -> 0 | K8: =J8+'２月'!K8 -> 0 | L8: =IF(ISERROR(K8/M8)," ",K8/M8) | M8: =N8+'２月'!M8 -> 0 | N8: 0
B9: 雄 | I9: =SUM(C9:H9) -> 0
B10: 雌 | I10: =SUM(C10:H10) -> 0
A11: スウェーデン | B11: 無鑑別 | I11: =SUM(C11:H11) -> 0 | J11: =SUM(I9:I11) -> 0 | K11: =J11+'２月'!K11 -> 0 | L11: =IF(ISERROR(K11/M11)," ",K11/M11) | M11: =N11+'２月'!M11 -> 0 | N11: 0
B12: 雄 | I12: =SUM(C12:H12) -> 0
B13: 雌 | I13: =SUM(C13:H13) -> 0
A14: ドイツ | B14: 無鑑別 | I14: =SUM(C14:H14) -> 0 | J14: =SUM(I12:I14) -> 0 | K14: =J14+'２月'!K14 -> 0 | L14: =IF(ISERROR(K14/M14)," ",K14/M14) | M14: =N14+'２月'!M14 -> 0 | N14: 0
B15: 雄 | I15: =SUM(C15:H15) -> 0
B16: 雌 | I16: =SUM(C16:H16) -> 0
A17: ハンガリー | B17: 無鑑別 | I17: =SUM(C17:H17) -> 0 | J17: =SUM(I15:I17) -> 0 | K17: =J17+'２月'!K17 -> 0 | L17: =IF(ISERROR(K17/M17)," ",K17/M17) | M17: =N17+'２月'!M17 -> 0 | N17: 0
B18: 雄 | I18: =SUM(C18:H18) -> 0
B19: 雌 | I19: =SUM(C19:H19) -> 0
A20: フィンランド | B20: 無鑑別 | I20: =SUM(C20:H20) -> 0 | J20: =SUM(I18:I20) -> 0 | K20: =J20+'２月'!K20 -> 0 | L20: =IF(ISERROR(K20/M20)," ",K20/M20) | M20: =N20+'２月'!M20 -> 0 | N20: 0
B21: 雄 | I21: =SUM(C21:H21) -> 0
B22: 雌 | I22: =SUM(C22:H22) -> 0
A23: フランス | B23: 無鑑別 | I23: =SUM(C23:H23) -> 0 | J23: =SUM(I21:I23) -> 0 | K23: =J23+'２月'!K23 -> 0 | L23: =IF(ISERROR(K23/M23)," ",K23/M23) | M23: =N23+'２月'!M23 -> 0 | N23: 0
B24: 雄 | I24: =SUM(C24:H24) -> 0
B25: 雌 | I25: =SUM(C25:H25) -> 0
A26: アメリカ | B26: 無鑑別 | I26: =SUM(C26:H26) -> 0 | J26: =SUM(I24:I26) -> 0 | K26: =J26+'２月'!K26 -> 0 | L26: =IF(ISERROR(K26/M26)," ",K26/M26) | M26: =N26+'２月'!M26 -> 0 | N26: 0
B27: 雄 | I27: =SUM(C27:H27) -> 0
B28: 雌 | I28: =SUM(C28:H28) -> 0
A29: カナダ | B29: 無鑑別 | I29: =SUM(C29:H29) -> 0 | J29: =SUM(I27:I29) -> 0 | K29: =J29+'２月'!K29 -> 0 | L29: =IF(ISERROR(K29/M29)," ",K29/M29) | M29: =N29+'２月'!M29 -> 0 | N29: 0
B30: 雄 | I30: =SUM(C30:H30) -> 0
B31: 雌 | I31: =SUM(C31:H31) -> 0
A32: ブラジル | B32: 無鑑別 | I32: =SUM(C32:H32) -> 0 | J32: =SUM(I30:I32) -> 0 | K32: =J32+'２月'!K32 -> 2797 | L32: - | M32: =N32+'２月'!M32 -> 0 | N32: 0
B33: 雄 | I33: =SUM(C33:H33) -> 0
B34: 雌 | I34: =SUM(C34:H34) -> 0
A35: オーストラリア | B35: 無鑑別 | I35: =SUM(C35:H35) -> 0 | J35: =SUM(I33:I35) -> 0 | K35: =J35+'２月'!K35 -> 0 | L35: =IF(ISERROR(K35/M35)," ",K35/M35) | M35: =N35+'２月'!M35 -> 0 | N35: 0
B36: 雄 | I36: =SUM(C36:H36) -> 0
B37: 雌 | I37: =SUM(C37:H37) -> 0
A38: ニュー・カレドニア | B38: 無鑑別 | I38: =SUM(C38:H38) -> 0 | J38: =SUM(I36:I38) -> 0 | K38: =J38+'２月'!K38 -> 0 | L38: =IF(ISERROR(K38/M38)," ",K38/M38) | M38: =N38+'２月'!M38 -> 0 | N38: 0
B39: 雄 | I39: =SUM(C39:H39) -> 0
B40: 雌 | I40: =SUM(C40:H40) -> 0
A41: ニュージーランド | B41: 無鑑別 | I41: =SUM(C41:H41) -> 0 | J41: =SUM(I39:I41) -> 0 | K41: =J41+'２月'!K41 -> 0 | L41: 0% | M41: =N41+'２月'!M41 -> 56045 | N41: 0
B42: 雄 | C42: =C3+C6+C9+C12+C15+C18+C21+C24+C27+C30+C33+C36+C39 -> 0 | D42: =D3+D6+D9+D12+D15+D18+D21+D24+D27+D30+D33+D36+D39 -> 0 | E42: =E3+E6+E9+E12+E15+E18+E21+E24+E27+E30+E33+E36+E39 -> 0 | F42: =F3+F6+F9+F12+F15+F18+F21+F24+F27+F30+F33+F36+F39 -> 0 | G42: =G3+G6+G9+G12+G15+G18+G21+G24+G27+G30+G33+G36+G39 -> 4848 | H42: =H3+H6+H9+H12+H15+H18+H21+H24+H27+H30+H33+H36+H39 -> 0 | I42: =I3+I6+I9+I12+I15+I18+I21+I24+I27+I30+I33+I36+I39 -> 4848
B43: 雌 | C43: =C4+C7+C10+C13+C16+C19+C22+C25+C28+C31+C34+C37+C40 -> 0 | D43: =D4+D7+D10+D13+D16+D19+D22+D25+D28+D31+D34+D37+D40 -> 0 | E43: =E4+E7+E10+E13+E16+E19+E22+E25+E28+E31+E34+E37+E40 -> 0 | F43: =F4+F7+F10+F13+F16+F19+F22+F25+F28+F31+F34+F37+F40 -> 0 | G43: =G4+G7+G10+G13+G16+G19+G22+G25+G28+G31+G34+G37+G40 -> 8236 | H43: =H4+H7+H10+H13+H16+H19+H22+H25+H28+H31+H34+H37+H40 -> 0 | I43: =I4+I7+I10+I13+I16+I19+I22+I25+I28+I31+I34+I37+I40 -> 8236
A44: 計 | B44: 無鑑別 | C44: =C5+C8+C11+C14+C17+C20+C23+C26+C29+C32+C35+C38+C41 -> 0 | D44: =D5+D8+D11+D14+D17+D20+D23+D26+D29+D32+D35+D38+D41 -> 0 | E44: =E5+E8+E11+E14+E17+E20+E23+E26+E29+E32+E35+E38+E41 -> 0 | F44: =F5+F8+F11+F14+F17+F20+F23+F26+F29+F32+F35+F38+F41 -> 0 | G44: =G5+G8+G11+G14+G17+G20+G23+G26+G29+G32+G35+G38+G41 -> 0 | H44: =H5+H8+H11+H14+H17+H20+H23+H26+H29+H32+H35+H38+H41 -> 0 | I44: =I5+I8+I11+I14+I17+I20+I23+I26+I29+I32+I35+I38+I41 -> 0 | J44: =J5+J8+J14+J17+J20+J23+J26+J29+J32+J35+J38+J11+J41 -> 13084 | K44: =J44+'２月'!K44 -> 57468 | L44: =IF(ISERROR(K44/M44)," ",K44/M44) -> 1.0253903 | M44: =M5+M8+M11+M14+M17+M20+M23+M26+M29+M32+M35+M38+M41 -> 56045 | N44: =N5+N8+N11+N14+N17+N20+N23+N26+N29+N32+N35+N38+N41 -> 0
B45: 計 | C45: =SUM(C42:C44) -> 0 | D45: =SUM(D42:D44) -> 0 | E45: =SUM(E42:E44) -> 0 | F45: =SUM(F42:F44) -> 0 | G45: =SUM(G42:G44) -> 13084 | H45: =SUM(H42:H44) -> 0 | I45: =SUM(C45:H45) -> 13084
A46: 前年同期合計 | I46: =SUM(C46:H46) -> 0
A47: 対前年比(%) | B47: =IF(ISERROR(B45/B46)," ",B45/B46) | C47: =IF(ISERROR(C45/C46)," ",C45/C46) | D47: =IF(ISERROR(D45/D46)," ",D45/D46) | E47: =IF(ISERROR(E45/E46)," ",E45/E46) | F47: =IF(ISERROR(F45/F46)," ",F45/F46) | G47: - | H47: =IF(ISERROR(H45/H46)," ",H45/H46) | I47: -
B48: 雄 | C48: =C42+'２月'!C48 -> 1035 | D48: =D42+'２月'!D48 -> 0 | E48: =E42+'２月'!E48 -> 0 | F48: =F42+'２月'!F48 -> 6611 | G48: =G42+'２月'!G48 -> 6749 | H48: =H42+'２月'!H48 -> 0 | I48: =I42+'２月'!I48 -> 14395
B49: 雌 | C49: =C43+'２月'!C49 -> 1762 | D49: =D43+'２月'!D49 -> 0 | E49: =E43+'２月'!E49 -> 0 | F49: =F43+'２月'!F49 -> 18762 | G49: =G43+'２月'!G49 -> 22549 | H49: =H43+'２月'!H49 -> 0 | I49: =I43+'２月'!I49 -> 43073
A50: 累計 | B50: 無鑑別 | C50: =C44+'２月'!C50 -> 0 | D50: =D44+'２月'!D50 -> 0 | E50: =E44+'２月'!E50 -> 0 | F50: =F44+'２月'!F50 -> 0 | G50: =G44+'２月'!G50 -> 0 | H50: =H44+'２月'!H50 -> 0 | I50: =I44+'２月'!I50 -> 0
B51: 計 | C51: =SUM(C48:C50) -> 2797 | D51: =SUM(D48:D50) -> 0 | E51: =SUM(E48:E50) -> 0 | F51: =SUM(F48:F50) -> 25373 | G51: =SUM(G48:G50) -> 29298 | H51: =SUM(H48:H50) -> 0 | I51: =SUM(C51:H51) -> 57468
A52: 前年同期累計 | C52: =C46+'２月'!C52 -> 0 | D52: =D46+'２月'!D52 -> 0 | E52: =E46+'２月'!E52 -> 0 | F52: =F46+'２月'!F52 -> 56045 | G52: =G46+'２月'!G52 -> 0 | H52: =H46+'２月'!H52 -> 0 | I52: =SUM(C52:H52) -> 56045
A53: 対前年比(%) | B53: =IF(ISERROR(B51/B52)," ",B51/B52) | C53: - | D53: =IF(ISERROR(D51/D52)," ",D51/D52) | E53: =IF(ISERROR(E51/E52)," ",E51/E52) | F53: =IF(ISERROR(F51/F52)," ",F51/F52) -> 0.45272549 | G53: - | H53: =IF(ISERROR(H51/H52)," ",H51/H52) | I53: =IF(ISERROR(I51/I52)," ",I51/I52) -> 1.0253903

Sheet ４月
D1: 卵 用 鶏 | G1: 肉 用 鶏
A2: 仕出地域 | B2: 性別 | C2: 原種鶏 | D2: 種鶏 | E2: 採卵鶏 | F2: 原種鶏 | G2: 種鶏 | H2: 肉用鶏 | I2: 雌雄別計 | J2: 合計 | K2: 累 計 | L2: 対前年比(%) | M2: 前年同期累計 | N2: 前年同期合計
B3: 雄 | I3: =SUM(C3:H3) -> 0
B4: 雌 | I4: =SUM(C4:H4) -> 0
A5: イギリス | B5: 無鑑別 | I5: =SUM(C5:H5) -> 0 | J5: =SUM(I3:I5) -> 0 | K5: =J5+'３月'!K5 -> 54671 | L5: - | M5: =N5+'３月'!M5 -> 0 | N5: 0
B6: 雄 | D6: 2700 | I6: =SUM(C6:H6) -> 2700
B7: 雌 | D7: 26769 | I7: =SUM(C7:H7) -> 26769
A8: オランダ | B8: 無鑑別 | I8: =SUM(C8:H8) -> 0 | J8: =SUM(I6:I8) -> 29469 | K8: =J8+'３月'!K8 -> 29469 | L8: - | M8: =N8+'３月'!M8 -> 0 | N8: 0
B9: 雄 | I9: =SUM(C9:H9) -> 0
B10: 雌 | I10: =SUM(C10:H10) -> 0
A11: スウェーデン | B11: 無鑑別 | I11: =SUM(C11:H11) -> 0 | J11: =SUM(I9:I11) -> 0 | K11: =J11+'３月'!K11 -> 0 | L11: =IF(ISERROR(K11/M11)," ",K11/M11) | M11: =N11+'３月'!M11 -> 0 | N11: 0
B12: 雄 | I12: =SUM(C12:H12) -> 0
B13: 雌 | I13: =SUM(C13:H13) -> 0
A14: ドイツ | B14: 無鑑別 | I14: =SUM(C14:H14) -> 0 | J14: =SUM(I12:I14) -> 0 | K14: =J14+'３月'!K14 -> 0 | L14: =IF(ISERROR(K14/M14)," ",K14/M14) | M14: =N14+'３月'!M14 -> 0 | N14: 0
B15: 雄 | I15: =SUM(C15:H15) -> 0
B16: 雌 | I16: =SUM(C16:H16) -> 0
A17: ハンガリー | B17: 無鑑別 | I17: =SUM(C17:H17) -> 0 | J17: =SUM(I15:I17) -> 0 | K17: =J17+'３月'!K17 -> 0 | L17: =IF(ISERROR(K17/M17)," ",K17/M17) | M17: =N17+'３月'!M17 -> 0 | N17: 0
B18: 雄 | I18: =SUM(C18:H18) -> 0
B19: 雌 | I19: =SUM(C19:H19) -> 0
A20: フィンランド | B20: 無鑑別 | I20: =SUM(C20:H20) -> 0 | J20: =SUM(I18:I20) -> 0 | K20: =J20+'３月'!K20 -> 0 | L20: =IF(ISERROR(K20/M20)," ",K20/M20) | M20: =N20+'３月'!M20 -> 0 | N20: 0
B21: 雄 | I21: =SUM(C21:H21) -> 0
B22: 雌 | I22: =SUM(C22:H22) -> 0
A23: フランス | B23: 無鑑別 | I23: =SUM(C23:H23) -> 0 | J23: =SUM(I21:I23) -> 0 | K23: =J23+'３月'!K23 -> 0 | L23: =IF(ISERROR(K23/M23)," ",K23/M23) | M23: =N23+'３月'!M23 -> 0 | N23: 0
B24: 雄 | I24: =SUM(C24:H24) -> 0
B25: 雌 | I25: =SUM(C25:H25) -> 0
A26: アメリカ | B26: 無鑑別 | I26: =SUM(C26:H26) -> 0 | J26: =SUM(I24:I26) -> 0 | K26: =J26+'３月'!K26 -> 0 | L26: =IF(ISERROR(K26/M26)," ",K26/M26) | M26: =N26+'３月'!M26 -> 0 | N26: 0
B27: 雄 | I27: =SUM(C27:H27) -> 0
B28: 雌 | I28: =SUM(C28:H28) -> 0
A29: カナダ | B29: 無鑑別 | I29: =SUM(C29:H29) -> 0 | J29: =SUM(I27:I29) -> 0 | K29: =J29+'３月'!K29 -> 0 | L29: =IF(ISERROR(K29/M29)," ",K29/M29) | M29: =N29+'３月'!M29 -> 0 | N29: 0
B30: 雄 | I30: =SUM(C30:H30) -> 0
B31: 雌 | I31: =SUM(C31:H31) -> 0
A32: ブラジル | B32: 無鑑別 | I32: =SUM(C32:H32) -> 0 | J32: =SUM(I30:I32) -> 0 | K32: =J32+'３月'!K32 -> 2797 | L32: =IF(ISERROR(K32/M32)," ",K32/M32) -> 0.26534484 | M32: =N32+'３月'!M32 -> 10541 | N32: 10541
B33: 雄 | I33: =SUM(C33:H33) -> 0
B34: 雌 | I34: =SUM(C34:H34) -> 0
A35: オーストラリア | B35: 無鑑別 | I35: =SUM(C35:H35) -> 0 | J35: =SUM(I33:I35) -> 0 | K35: =J35+'３月'!K35 -> 0 | L35: =IF(ISERROR(K35/M35)," ",K35/M35) | M35: =N35+'３月'!M35 -> 0 | N35: 0
B36: 雄 | I36: =SUM(C36:H36) -> 0
B37: 雌 | I37: =SUM(C37:H37) -> 0
A38: ニュー・カレドニア | B38: 無鑑別 | I38: =SUM(C38:H38) -> 0 | J38: =SUM(I36:I38) -> 0 | K38: =J38+'３月'!K38 -> 0 | L38: =IF(ISERROR(K38/M38)," ",K38/M38) | M38: =N38+'３月'!M38 -> 0 | N38: 0
B39: 雄 | I39: =SUM(C39:H39) -> 0
B40: 雌 | I40: =SUM(C40:H40) -> 0
A41: ニュージーランド | B41: 無鑑別 | I41: =SUM(C41:H41) -> 0 | J41: =SUM(I39:I41) -> 0 | K41: =J41+'３月'!K41 -> 0 | L41: 0% | M41: =N41+'３月'!M41 -> 80379 | N41: 24334
B42: 雄 | C42: =C3+C6+C9+C12+C15+C18+C21+C24+C27+C30+C33+C36+C39 -> 0 | D42: =D3+D6+D9+D12+D15+D18+D21+D24+D27+D30+D33+D36+D39 -> 2700 | E42: =E3+E6+E9+E12+E15+E18+E21+E24+E27+E30+E33+E36+E39 -> 0 | F42: =F3+F6+F9+F12+F15+F18+F21+F24+F27+F30+F33+F36+F39 -> 0 | G42: =G3+G6+G9+G12+G15+G18+G21+G24+G27+G30+G33+G36+G39 -> 0 | H42: =H3+H6+H9+H12+H15+H18+H21+H24+H27+H30+H33+H36+H39 -> 0 | I42: =I3+I6+I9+I12+I15+I18+I21+I24+I27+I30+I33+I36+I39 -> 2700
B43: 雌 | C43: =C4+C7+C10+C13+C16+C19+C22+C25+C28+C31+C34+C37+C40 -> 0 | D43: =D4+D7+D10+D13+D16+D19+D22+D25+D28+D31+D34+D37+D40 -> 26769 | E43: =E4+E7+E10+E13+E16+E19+E22+E25+E28+E31+E34+E37+E40 -> 0 | F43: =F4+F7+F10+F13+F16+F19+F22+F25+F28+F31+F34+F37+F40 -> 0 | G43: =G4+G7+G10+G13+G16+G19+G22+G25+G28+G31+G34+G37+G40 -> 0 | H43: =H4+H7+H10+H13+H16+H19+H22+H25+H28+H31+H34+H37+H40 -> 0 | I43: =I4+I7+I10+I13+I16+I19+I22+I25+I28+I31+I34+I37+I40 -> 26769
A44: 計 | B44: 無鑑別 | C44: =C5+C8+C11+C14+C17+C20+C23+C26+C29+C32+C35+C38+C41 -> 0 | D44: =D5+D8+D11+D14+D17+D20+D23+D26+D29+D32+D35+D38+D41 -> 0 | E44: =E5+E8+E11+E14+E17+E20+E23+E26+E29+E32+E35+E38+E41 -> 0 | F44: =F5+F8+F11+F14+F17+F20+F23+F26+F29+F32+F35+F38+F41 -> 0 | G44: =G5+G8+G11+G14+G17+G20+G23+G26+G29+G32+G35+G38+G41 -> 0 | H44: =H5+H8+H11+H14+H17+H20+H23+H26+H29+H32+H35+H38+H41 -> 0 | I44: =I5+I8+I11+I14+I17+I20+I23+I26+I29+I32+I35+I38+I41 -> 0 | J44: =J5+J8+J14+J17+J20+J23+J26+J29+J32+J35+J38+J11+J41 -> 29469 | K44: =J44+'３月'!K44 -> 86937 | L44: =IF(ISERROR(K44/M44)," ",K44/M44) -> 0.95619226 | M44: =M5+M8+M11+M14+M17+M20+M23+M26+M29+M32+M35+M38+M41 -> 90920 | N44: =N5+N8+N11+N14+N17+N20+N23+N26+N29+N32+N35+N38+N41 -> 34875
B45: 計 | C45: =SUM(C42:C44) -> 0 | D45: =SUM(D42:D44) -> 29469 | E45: =SUM(E42:E44) -> 0 | F45: =SUM(F42:F44) -> 0 | G45: =SUM(G42:G44) -> 0 | H45: =SUM(H42:H44) -> 0 | I45: =SUM(C45:H45) -> 29469
A46: 前年同期合計 | C46: 10541 | F46: 24334 | I46: =SUM(C46:H46) -> 34875
A47: 対前年比(%) | B47: =IF(ISERROR(B45/B46)," ",B45/B46) | C47: 0% | D47: - | E47: =IF(ISERROR(E45/E46)," ",E45/E46) | F47: 0% | G47: =IF(ISERROR(G45/G46)," ",G45/G46) | H47: =IF(ISERROR(H45/H46)," ",H45/H46) | I47: =IF(ISERROR(I45/I46)," ",I45/I46) -> 0.84498925
B48: 雄 | C48: =C42+'３月'!C48 -> 1035 | D48: =D42+'３月'!D48 -> 2700 | E48: =E42+'３月'!E48 -> 0 | F48: =F42+'３月'!F48 -> 6611 | G48: =G42+'３月'!G48 -> 6749 | H48: =H42+'３月'!H48 -> 0 | I48: =I42+'３月'!I48 -> 17095
B49: 雌 | C49: =C43+'３月'!C49 -> 1762 | D49: =D43+'３月'!D49 -> 26769 | E49: =E43+'３月'!E49 -> 0 | F49: =F43+'３月'!F49 -> 18762 | G49: =G43+'３月'!G49 -> 22549 | H49: =H43+'３月'!H49 -> 0 | I49: =I43+'３月'!I49 -> 69842
A50: 累計 | B50: 無鑑別 | C50: =C44+'３月'!C50 -> 0 | D50: =D44+'３月'!D50 -> 0 | E50: =E44+'３月'!E50 -> 0 | F50: =F44+'３月'!F50 -> 0 | G50: =G44+'３月'!G50 -> 0 | H50: =H44+'３月'!H50 -> 0 | I50: =I44+'３月'!I50 -> 0
B51: 計 | C51: =SUM(C48:C50) -> 2797 | D51: =SUM(D48:D50) -> 29469 | E51: =SUM(E48:E50) -> 0 | F51: =SUM(F48:F50) -> 25373 | G51: =SUM(G48:G50) -> 29298 | H51: =SUM(H48:H50) -> 0 | I51: =SUM(C51:H51) -> 86937
A52: 前年同期累計 | C52: =C46+'３月'!C52 -> 10541 | D52: =D46+'３月'!D52 -> 0 | E52: =E46+'３月'!E52 -> 0 | F52: =F46+'３月'!F52 -> 80379 | G52: =G46+'３月'!G52 -> 0 | H52: =H46+'３月'!H52 -> 0 | I52: =SUM(C52:H52) -> 90920
A53: 対前年比(%) | B53: =IF(ISERROR(B51/B52)," ",B51/B52) | C53: =IF(ISERROR(C51/C52)," ",C51/C52) -> 0.26534484 | D53: - | E53: =IF(ISERROR(E51/E52)," ",E51/E52) | F53: =IF(ISERROR(F51/F52)," ",F51/F52) -> 0.31566703 | G53: - | H53: =IF(ISERROR(H51/H52)," ",H51/H52) | I53: =IF(ISERROR(I51/I52)," ",I51/I52) -> 0.95619226

Sheet ５月
D1: 卵 用 鶏 | G1: 肉 用 鶏
A2: 仕出地域 | B2: 性別 | C2: 原種鶏 | D2: 種鶏 | E2: 採卵鶏 | F2: 原種鶏 | G2: 種鶏 | H2: 肉用鶏 | I2: 雌雄別計 | J2: 合計 | K2: 累 計 | L2: 対前年比(%) | M2: 前年同期累計 | N2: 前年同期合計
B3: 雄 | F3: 7505 | I3: =SUM(C3:H3) -> 7505
B4: 雌 | F4: 20718 | I4: =SUM(C4:H4) -> 20718
A5: イギリス | B5: 無鑑別 | I5: =SUM(C5:H5) -> 0 | J5: =SUM(I3:I5) -> 28223 | K5: =J5+'４月'!K5 -> 82894 | L5: - | M5: =N5+'４月'!M5 -> 0 | N5: 0
B6: 雄 | C6: 743 | I6: =SUM(C6:H6) -> 743
B7: 雌 | C7: 7283 | I7: =SUM(C7:H7) -> 7283
A8: オランダ | B8: 無鑑別 | I8: =SUM(C8:H8) -> 0 | J8: =SUM(I6:I8) -> 8026 | K8: =J8+'４月'!K8 -> 37495 | L8: - | M8: =N8+'４月'!M8 -> 0 | N8: 0
B9: 雄 | I9: =SUM(C9:H9) -> 0
B10: 雌 | I10: =SUM(C10:H10) -> 0
A11: スウェーデン | B11: 無鑑別 | I11: =SUM(C11:H11) -> 0 | J11: =SUM(I9:I11) -> 0 | K11: =J11+'４月'!K11 -> 0 | L11: =IF(ISERROR(K11/M11)," ",K11/M11) | M11: =N11+'４月'!M11 -> 0 | N11: 0
B12: 雄 | I12: =SUM(C12:H12) -> 0
B13: 雌 | I13: =SUM(C13:H13) -> 0
A14: ドイツ | B14: 無鑑別 | I14: =SUM(C14:H14) -> 0 | J14: =SUM(I12:I14) -> 0 | K14: =J14+'４月'!K14 -> 0 | L14: =IF(ISERROR(K14/M14)," ",K14/M14) | M14: =N14+'４月'!M14 -> 0 | N14: 0
B15: 雄 | I15: =SUM(C15:H15) -> 0
B16: 雌 | I16: =SUM(C16:H16) -> 0
A17: ハンガリー | B17: 無鑑別 | I17: =SUM(C17:H17) -> 0 | J17: =SUM(I15:I17) -> 0 | K17: =J17+'４月'!K17 -> 0 | L17: =IF(ISERROR(K17/M17)," ",K17/M17) | M17: =N17+'４月'!M17 -> 0 | N17: 0
B18: 雄 | I18: =SUM(C18:H18) -> 0
B19: 雌 | I19: =SUM(C19:H19) -> 0
A20: フィンランド | B20: 無鑑別 | I20: =SUM(C20:H20) -> 0 | J20: =SUM(I18:I20) -> 0 | K20: =J20+'４月'!K20 -> 0 | L20: =IF(ISERROR(K20/M20)," ",K20/M20) | M20: =N20+'４月'!M20 -> 0 | N20: 0
B21: 雄 | I21: =SUM(C21:H21) -> 0
B22: 雌 | I22: =SUM(C22:H22) -> 0
A23: フランス | B23: 無鑑別 | I23: =SUM(C23:H23) -> 0 | J23: =SUM(I21:I23) -> 0 | K23: =J23+'４月'!K23 -> 0 | L23: =IF(ISERROR(K23/M23)," ",K23/M23) | M23: =N23+'４月'!M23 -> 0 | N23: 0
B24: 雄 | I24: =SUM(C24:H24) -> 0
B25: 雌 | I25: =SUM(C25:H25) -> 0
A26: アメリカ | B26: 無鑑別 | I26: =SUM(C26:H26) -> 0 | J26: =SUM(I24:I26) -> 0 | K26: =J26+'４月'!K26 -> 0 | L26: =IF(ISERROR(K26/M26)," ",K26/M26) | M26: =N26+'４月'!M26 -> 0 | N26: 0
B27: 雄 | I27: =SUM(C27:H27) -> 0
B28: 雌 | I28: =SUM(C28:H28) -> 0
A29: カナダ | B29: 無鑑別 | I29: =SUM(C29:H29) -> 0 | J29: =SUM(I27:I29) -> 0 | K29: =J29+'４月'!K29 -> 0 | L29: =IF(ISERROR(K29/M29)," ",K29/M29) | M29: =N29+'４月'!M29 -> 0 | N29: 0
B30: 雄 | G30: 75 | I30: =SUM(C30:H30) -> 75
B31: 雌 | G31: 3003 | I31: =SUM(C31:H31) -> 3003
A32: ブラジル | B32: 無鑑別 | I32: =SUM(C32:H32) -> 0 | J32: =SUM(I30:I32) -> 3078 | K32: =J32+'４月'!K32 -> 5875 | L32: =IF(ISERROR(K32/M32)," ",K32/M32) -> 0.5573475 | M32: =N32+'４月'!M32 -> 10541 | N32: 0
B33: 雄 | I33: =SUM(C33:H33) -> 0
B34: 雌 | I34: =SUM(C34:H34) -> 0
A35: オーストラリア | B35: 無鑑別 | I35: =SUM(C35:H35) -> 0 | J35: =SUM(I33:I35) -> 0 | K35: =J35+'４月'!K35 -> 0 | L35: =IF(ISERROR(K35/M35)," ",K35/M35) | M35: =N35+'４月'!M35 -> 0 | N35: 0
B36: 雄 | I36: =SUM(C36:H36) -> 0
B37: 雌 | I37: =SUM(C37:H37) -> 0
A38: ニュー・カレドニア | B38: 無鑑別 | I38: =SUM(C38:H38) -> 0 | J38: =SUM(I36:I38) -> 0 | K38: =J38+'４月'!K38 -> 0 | L38: =IF(ISERROR(K38/M38)," ",K38/M38) | M38: =N38+'４月'!M38 -> 0 | N38: 0
B39: 雄 | I39: =SUM(C39:H39) -> 0
B40: 雌 | I40: =SUM(C40:H40) -> 0
A41: ニュージーランド | B41: 無鑑別 | I41: =SUM(C41:H41) -> 0 | J41: =SUM(I39:I41) -> 0 | K41: =J41+'４月'!K41 -> 0 | L41: 0% | M41: =N41+'４月'!M41 -> 102727 | N41: 22348
B42: 雄 | C42: =C3+C6+C9+C12+C15+C18+C21+C24+C27+C30+C33+C36+C39 -> 743 | D42: =D3+D6+D9+D12+D15+D18+D21+D24+D27+D30+D33+D36+D39 -> 0 | E42: =E3+E6+E9+E12+E15+E18+E21+E24+E27+E30+E33+E36+E39 -> 0 | F42: =F3+F6+F9+F12+F15+F18+F21+F24+F27+F30+F33+F36+F39 -> 7505 | G42: =G3+G6+G9+G12+G15+G18+G21+G24+G27+G30+G33+G36+G39 -> 75 | H42: =H3+H6+H9+H12+H15+H18+H21+H24+H27+H30+H33+H36+H39 -> 0 | I42: =I3+I6+I9+I12+I15+I18+I21+I24+I27+I30+I33+I36+I39 -> 8323
B43: 雌 | C43: =C4+C7+C10+C13+C16+C19+C22+C25+C28+C31+C34+C37+C40 -> 7283 | D43: =D4+D7+D10+D13+D16+D19+D22+D25+D28+D31+D34+D37+D40 -> 0 | E43: =E4+E7+E10+E13+E16+E19+E22+E25+E28+E31+E34+E37+E40 -> 0 | F43: =F4+F7+F10+F13+F16+F19+F22+F25+F28+F31+F34+F37+F40 -> 20718 | G43: =G4+G7+G10+G13+G16+G19+G22+G25+G28+G31+G34+G37+G40 -> 3003 | H43: =H4+H7+H10+H13+H16+H19+H22+H25+H28+H31+H34+H37+H40 -> 0 | I43: =I4+I7+I10+I13+I16+I19+I22+I25+I28+I31+I34+I37+I40 -> 31004
A44: 計 | B44: 無鑑別 | C44: =C5+C8+C11+C14+C17+C20+C23+C26+C29+C32+C35+C38+C41 -> 0 | D44: =D5+D8+D11+D14+D17+D20+D23+D26+D29+D32+D35+D38+D41 -> 0 | E44: =E5+E8+E11+E14+E17+E20+E23+E26+E29+E32+E35+E38+E41 -> 0 | F44: =F5+F8+F11+F14+F17+F20+F23+F26+F29+F32+F35+F38+F41 -> 0 | G44: =G5+G8+G11+G14+G17+G20+G23+G26+G29+G32+G35+G38+G41 -> 0 | H44: =H5+H8+H11+H14+H17+H20+H23+H26+H29+H32+H35+H38+H41 -> 0 | I44: =I5+I8+I11+I14+I17+I20+I23+I26+I29+I32+I35+I38+I41 -> 0 | J44: =J5+J8+J14+J17+J20+J23+J26+J29+J32+J35+J38+J11+J41 -> 39327 | K44: =J44+'４月'!K44 -> 126264 | L44: =IF(ISERROR(K44/M44)," ",K44/M44) -> 1.1147367 | M44: =M5+M8+M11+M14+M17+M20+M23+M26+M29+M32+M35+M38+M41 -> 113268 | N44: =N5+N8+N11+N14+N17+N20+N23+N26+N29+N32+N35+N38+N41 -> 22348
B45: 計 | C45: =SUM(C42:C44) -> 8026 | D45: =SUM(D42:D44) -> 0 | E45: =SUM(E42:E44) -> 0 | F45: =SUM(F42:F44) -> 28223 | G45: =SUM(G42:G44) -> 3078 | H45: =SUM(H42:H44) -> 0 | I45: =SUM(C45:H45) -> 39327
A46: 前年同期合計 | F46: 22348 | I46: =SUM(C46:H46) -> 22348
A47: 対前年比(%) | B47: =IF(ISERROR(B45/B46)," ",B45/B46) | C47: - | D47: =IF(ISERROR(D45/D46)," ",D45/D46) | E47: =IF(ISERROR(E45/E46)," ",E45/E46) | F47: =IF(ISERROR(F45/F46)," ",F45/F46) -> 1.2628871 | G47: - | H47: =IF(ISERROR(H45/H46)," ",H45/H46) | I47: =IF(ISERROR(I45/I46)," ",I45/I46) -> 1.7597548
B48: 雄 | C48: =C42+'４月'!C48 -> 1778 | D48: =D42+'４月'!D48 -> 2700 | E48: =E42+'４月'!E48 -> 0 | F48: =F42+'４月'!F48 -> 14116 | G48: =G42+'４月'!G48 -> 6824 | H48: =H42+'４月'!H48 -> 0 | I48: =I42+'４月'!I48 -> 25418
B49: 雌 | C49: =C43+'４月'!C49 -> 9045 | D49: =D43+'４月'!D49 -> 26769 | E49: =E43+'４月'!E49 -> 0 | F49: =F43+'４月'!F49 -> 39480 | G49: =G43+'４月'!G49 -> 25552 | H49: =H43+'４月'!H49 -> 0 | I49: =I43+'４月'!I49 -> 100846
A50: 累計 | B50: 無鑑別 | C50: =C44+'４月'!C50 -> 0 | D50: =D44+'４月'!D50 -> 0 | E50: =E44+'４月'!E50 -> 0 | F50: =F44+'４月'!F50 -> 0 | G50: =G44+'４月'!G50 -> 0 | H50: =H44+'４月'!H50 -> 0 | I50: =I44+'４月'!I50 -> 0
B51: 計 | C51: =SUM(C48:C50) -> 10823 | D51: =SUM(D48:D50) -> 29469 | E51: =SUM(E48:E50) -> 0 | F51: =SUM(F48:F50) -> 53596 | G51: =SUM(G48:G50) -> 32376 | H51: =SUM(H48:H50) -> 0 | I51: =SUM(C51:H51) -> 126264
A52: 前年同期累計 | C52: =C46+'４月'!C52 -> 10541 | D52: =D46+'４月'!D52 -> 0 | E52: =E46+'４月'!E52 -> 0 | F52: =F46+'４月'!F52 -> 102727 | G52: =G46+'４月'!G52 -> 0 | H52: =H46+'４月'!H52 -> 0 | I52: =SUM(C52:H52) -> 113268
A53: 対前年比(%) | B53: =IF(ISERROR(B51/B52)," ",B51/B52) | C53: =IF(ISERROR(C51/C52)," ",C51/C52) -> 1.0267527 | D53: - | E53: =IF(ISERROR(E51/E52)," ",E51/E52) | F53: =IF(ISERROR(F51/F52)," ",F51/F52) -> 0.52173236 | G53: - | H53: =IF(ISERROR(H51/H52)," ",H51/H52) | I53: =IF(ISERROR(I51/I52)," ",I51/I52) -> 1.1147367

Sheet ６月
D1: 卵 用 鶏 | G1: 肉 用 鶏
A2: 仕出地域 | B2: 性別 | C2: 原種鶏 | D2: 種鶏 | E2: 採卵鶏 | F2: 原種鶏 | G2: 種鶏 | H2: 肉用鶏 | I2: 雌雄別計 | J2: 合計 | K2: 累 計 | L2: 対前年比(%) | M2: 前年同期累計 | N2: 前年同期合計
B3: 雄 | F3: 7277 | I3: =SUM(C3:H3) -> 7277
B4: 雌 | F4: 20787 | I4: =SUM(C4:H4) -> 20787
A5: イギリス | B5: 無鑑別 | I5: =SUM(C5:H5) -> 0 | J5: =SUM(I3:I5) -> 28064 | K5: =J5+'５月'!K5 -> 110958 | L5: =IF(ISERROR(K5/M5)," ",K5/M5) -> 37.56195 | M5: =N5+'５月'!M5 -> 2954 | N5: 2954
B6: 雄 | I6: =SUM(C6:H6) -> 0
B7: 雌 | I7: =SUM(C7:H7) -> 0
A8: オランダ | B8: 無鑑別 | I8: =SUM(C8:H8) -> 0 | J8: =SUM(I6:I8) -> 0 | K8: =J8+'５月'!K8 -> 37495 | L8: =IF(ISERROR(K8/M8)," ",K8/M8) -> 1.4242033 | M8: =N8+'５月'!M8 -> 26327 | N8: 26327
B9: 雄 | I9: =SUM(C9:H9) -> 0
B10: 雌 | I10: =SUM(C10:H10) -> 0
A11: スウェーデン | B11: 無鑑別 | I11: =SUM(C11:H11) -> 0 | J11: =SUM(I9:I11) -> 0 | K11: =J11+'５月'!K11 -> 0 | L11: =IF(ISERROR(K11/M11)," ",K11/M11) | M11: =N11+'５月'!M11 -> 0 | N11: 0
B12: 雄 | I12: =SUM(C12:H12) -> 0
B13: 雌 | I13: =SUM(C13:H13) -> 0
A14: ドイツ | B14: 無鑑別 | I14: =SUM(C14:H14) -> 0 | J14: =SUM(I12:I14) -> 0 | K14: =J14+'５月'!K14 -> 0 | L14: =IF(ISERROR(K14/M14)," ",K14/M14) | M14: =N14+'５月'!M14 -> 0 | N14: 0
B15: 雄 | I15: =SUM(C15:H15) -> 0
B16: 雌 | I16: =SUM(C16:H16) -> 0
A17: ハンガリー | B17: 無鑑別 | I17: =SUM(C17:H17) -> 0 | J17: =SUM(I15:I17) -> 0 | K17: =J17+'５月'!K17 -> 0 | L17: =IF(ISERROR(K17/M17)," ",K17/M17) | M17: =N17+'５月'!M17 -> 0 | N17: 0
B18: 雄 | I18: =SUM(C18:H18) -> 0
B19: 雌 | I19: =SUM(C19:H19) -> 0
A20: フィンランド | B20: 無鑑別 | I20: =SUM(C20:H20) -> 0 | J20: =SUM(I18:I20) -> 0 | K20: =J20+'５月'!K20 -> 0 | L20: =IF(ISERROR(K20/M20)," ",K20/M20) | M20: =N20+'５月'!M20 -> 0 | N20: 0
B21: 雄 | I21: =SUM(C21:H21) -> 0
B22: 雌 | I22: =SUM(C22:H22) -> 0
A23: フランス | B23: 無鑑別 | I23: =SUM(C23:H23) -> 0 | J23: =SUM(I21:I23) -> 0 | K23: =J23+'５月'!K23 -> 0 | L23: =IF(ISERROR(K23/M23)," ",K23/M23) | M23: =N23+'５月'!M23 -> 0 | N23: 0
B24: 雄 | I24: =SUM(C24:H24) -> 0
B25: 雌 | I25: =SUM(C25:H25) -> 0
A26: アメリカ | B26: 無鑑別 | I26: =SUM(C26:H26) -> 0 | J26: =SUM(I24:I26) -> 0 | K26: =J26+'５月'!K26 -> 0 | L26: =IF(ISERROR(K26/M26)," ",K26/M26) | M26: =N26+'５月'!M26 -> 0 | N26: 0
B27: 雄 | I27: =SUM(C27:H27) -> 0
B28: 雌 | I28: =SUM(C28:H28) -> 0
A29: カナダ | B29: 無鑑別 | I29: =SUM(C29:H29) -> 0 | J29: =SUM(I27:I29) -> 0 | K29: =J29+'５月'!K29 -> 0 | L29: =IF(ISERROR(K29/M29)," ",K29/M29) | M29: =N29+'５月'!M29 -> 0 | N29: 0
B30: 雄 | G30: 326 | I30: =SUM(C30:H30) -> 326
B31: 雌 | G31: 1347 | I31: =SUM(C31:H31) -> 1347
A32: ブラジル | B32: 無鑑別 | I32: =SUM(C32:H32) -> 0 | J32: =SUM(I30:I32) -> 1673 | K32: =J32+'５月'!K32 -> 7548 | L32: =IF(ISERROR(K32/M32)," ",K32/M32) -> 0.71606109 | M32: =N32+'５月'!M32 -> 10541 | N32: 0
B33: 雄 | I33: =SUM(C33:H33) -> 0
B34: 雌 | I34: =SUM(C34:H34) -> 0
A35: オーストラリア | B35: 無鑑別 | I35: =SUM(C35:H35) -> 0 | J35: =SUM(I33:I35) -> 0 | K35: =J35+'５月'!K35 -> 0 | L35: =IF(ISERROR(K35/M35)," ",K35/M35) | M35: =N35+'５月'!M35 -> 0 | N35: 0
B36: 雄 | I36: =SUM(C36:H36) -> 0
B37: 雌 | I37: =SUM(C37:H37) -> 0
A38: ニュー・カレドニア | B38: 無鑑別 | I38: =SUM(C38:H38) -> 0 | J38: =SUM(I36:I38) -> 0 | K38: =J38+'５月'!K38 -> 0 | L38: =IF(ISERROR(K38/M38)," ",K38/M38) | M38: =N38+'５月'!M38 -> 0 | N38: 0
B39: 雄 | I39: =SUM(C39:H39) -> 0
B40: 雌 | I40: =SUM(C40:H40) -> 0
A41: ニュージーランド | B41: 無鑑別 | I41: =SUM(C41:H41) -> 0 | J41: =SUM(I39:I41) -> 0 | K41: =J41+'５月'!K41 -> 0 | L41: 0% | M41: =N41+'５月'!M41 -> 102727 | N41: 0
B42: 雄 | C42: =C3+C6+C9+C12+C15+C18+C21+C24+C27+C30+C33+C36+C39 -> 0 | D42: =D3+D6+D9+D12+D15+D18+D21+D24+D27+D30+D33+D36+D39 -> 0 | E42: =E3+E6+E9+E12+E15+E18+E21+E24+E27+E30+E33+E36+E39 -> 0 | F42: =F3+F6+F9+F12+F15+F18+F21+F24+F27+F30+F33+F36+F39 -> 7277 | G42: =G3+G6+G9+G12+G15+G18+G21+G24+G27+G30+G33+G36+G39 -> 326 | H42: =H3+H6+H9+H12+H15+H18+H21+H24+H27+H30+H33+H36+H39 -> 0 | I42: =I3+I6+I9+I12+I15+I18+I21+I24+I27+I30+I33+I36+I39 -> 7603
B43: 雌 | C43: =C4+C7+C10+C13+C16+C19+C22+C25+C28+C31+C34+C37+C40 -> 0 | D43: =D4+D7+D10+D13+D16+D19+D22+D25+D28+D31+D34+D37+D40 -> 0 | E43: =E4+E7+E10+E13+E16+E19+E22+E25+E28+E31+E34+E37+E40 -> 0 | F43: =F4+F7+F10+F13+F16+F19+F22+F25+F28+F31+F34+F37+F40 -> 20787 | G43: =G4+G7+G10+G13+G16+G19+G22+G25+G28+G31+G34+G37+G40 -> 1347 | H43: =H4+H7+H10+H13+H16+H19+H22+H25+H28+H31+H34+H37+H40 -> 0 | I43: =I4+I7+I10+I13+I16+I19+I22+I25+I28+I31+I34+I37+I40 -> 22134
A44: 計 | B44: 無鑑別 | C44: =C5+C8+C11+C14+C17+C20+C23+C26+C29+C32+C35+C38+C41 -> 0 | D44: =D5+D8+D11+D14+D17+D20+D23+D26+D29+D32+D35+D38+D41 -> 0 | E44: =E5+E8+E11+E14+E17+E20+E23+E26+E29+E32+E35+E38+E41 -> 0 | F44: =F5+F8+F11+F14+F17+F20+F23+F26+F29+F32+F35+F38+F41 -> 0 | G44: =G5+G8+G11+G14+G17+G20+G23+G26+G29+G32+G35+G38+G41 -> 0 | H44: =H5+H8+H11+H14+H17+H20+H23+H26+H29+H32+H35+H38+H41 -> 0 | I44: =I5+I8+I11+I14+I17+I20+I23+I26+I29+I32+I35+I38+I41 -> 0 | J44: =J5+J8+J14+J17+J20+J23+J26+J29+J32+J35+J38+J11+J41 -> 29737 | K44: =J44+'５月'!K44 -> 156001 | L44: =IF(ISERROR(K44/M44)," ",K44/M44) -> 1.0943676 | M44: =M5+M8+M11+M14+M17+M20+M23+M26+M29+M32+M35+M38+M41 -> 142549 | N44: =N5+N8+N11+N14+N17+N20+N23+N26+N29+N32+N35+N38+N41 -> 29281
B45: 計 | C45: =SUM(C42:C44) -> 0 | D45: =SUM(D42:D44) -> 0 | E45: =SUM(E42:E44) -> 0 | F45: =SUM(F42:F44) -> 28064 | G45: =SUM(G42:G44) -> 1673 | H45: =SUM(H42:H44) -> 0 | I45: =SUM(C45:H45) -> 29737
A46: 前年同期合計 | D46: 26327 | G46: 2954 | I46: =SUM(C46:H46) -> 29281
A47: 対前年比(%) | B47: =IF(ISERROR(B45/B46)," ",B45/B46) | C47: =IF(ISERROR(C45/C46)," ",C45/C46) | D47: 0% | E47: =IF(ISERROR(E45/E46)," ",E45/E46) | F47: - | G47: =IF(ISERROR(G45/G46)," ",G45/G46) -> 0.56635071 | H47: =IF(ISERROR(H45/H46)," ",H45/H46) | I47: =IF(ISERROR(I45/I46)," ",I45/I46) -> 1.0155732
B48: 雄 | C48: =C42+'５月'!C48 -> 1778 | D48: =D42+'５月'!D48 -> 2700 | E48: =E42+'５月'!E48 -> 0 | F48: =F42+'５月'!F48 -> 21393 | G48: =G42+'５月'!G48 -> 7150 | H48: =H42+'５月'!H48 -> 0 | I48: =I42+'５月'!I48 -> 33021
B49: 雌 | C49: =C43+'５月'!C49 -> 9045 | D49: =D43+'５月'!D49 -> 26769 | E49: =E43+'５月'!E49 -> 0 | F49: =F43+'５月'!F49 -> 60267 | G49: =G43+'５月'!G49 -> 26899 | H49: =H43+'５月'!H49 -> 0 | I49: =I43+'５月'!I49 -> 122980
A50: 累計 | B50: 無鑑別 | C50: =C44+'５月'!C50 -> 0 | D50: =D44+'５月'!D50 -> 0 | E50: =E44+'５月'!E50 -> 0 | F50: =F44+'５月'!F50 -> 0 | G50: =G44+'５月'!G50 -> 0 | H50: =H44+'５月'!H50 -> 0 | I50: =I44+'５月'!I50 -> 0
B51: 計 | C51: =SUM(C48:C50) -> 10823 | D51: =SUM(D48:D50) -> 29469 | E51: =SUM(E48:E50) -> 0 | F51: =SUM(F48:F50) -> 81660 | G51: =SUM(G48:G50) -> 34049 | H51: =SUM(H48:H50) -> 0 | I51: =SUM(C51:H51) -> 156001
A52: 前年同期累計 | C52: =C46+'５月'!C52 -> 10541 | D52: =D46+'５月'!D52 -> 26327 | E52: =E46+'５月'!E52 -> 0 | F52: =F46+'５月'!F52 -> 102727 | G52: =G46+'５月'!G52 -> 2954 | H52: =H46+'５月'!H52 -> 0 | I52: =SUM(C52:H52) -> 142549
A53: 対前年比(%) | B53: =IF(ISERROR(B51/B52)," ",B51/B52) | C53: =IF(ISERROR(C51/C52)," ",C51/C52) -> 1.0267527 | D53: =IF(ISERROR(D51/D52)," ",D51/D52) -> 1.1193452 | E53: =IF(ISERROR(E51/E52)," ",E51/E52) | F53: =IF(ISERROR(F51/F52)," ",F51/F52) -> 0.79492246 | G53: =IF(ISERROR(G51/G52)," ",G51/G52) -> 11.526405 | H53: =IF(ISERROR(H51/H52)," ",H51/H52) | I53: =IF(ISERROR(I51/I52)," ",I51/I52) -> 1.0943676

Sheet ７月
D1: 卵 用 鶏 | G1: 肉 用 鶏
A2: 仕出地域 | B2: 性別 | C2: 原種鶏 | D2: 種鶏 | E2: 採卵鶏 | F2: 原種鶏 | G2: 種鶏 | H2: 肉用鶏 | I2: 雌雄別計 | J2: 合計 | K2: 累 計 | L2: 対前年比(%) | M2: 前年同期累計 | N2: 前年同期合計
B3: 雄 | F3: 5001 | I3: =SUM(C3:H3) -> 5001
B4: 雌 | F4: 11630 | I4: =SUM(C4:H4) -> 11630
A5: イギリス | B5: 無鑑別 | I5: =SUM(C5:H5) -> 0 | J5: =SUM(I3:I5) -> 16631 | K5: =J5+'６月'!K5 -> 127589 | L5: =IF(ISERROR(K5/M5)," ",K5/M5) -> 43.191943 | M5: =N5+'６月'!M5 -> 2954 | N5: 0
B6: 雄 | I6: =SUM(C6:H6) -> 0
B7: 雌 | I7: =SUM(C7:H7) -> 0
A8: オランダ | B8: 無鑑別 | I8: =SUM(C8:H8) -> 0 | J8: =SUM(I6:I8) -> 0 | K8: =J8+'６月'!K8 -> 37495 | L8: =IF(ISERROR(K8/M8)," ",K8/M8) -> 1.4242033 | M8: =N8+'６月'!M8 -> 26327 | N8: 0
B9: 雄 | I9: =SUM(C9:H9) -> 0
B10: 雌 | I10: =SUM(C10:H10) -> 0
A11: スウェーデン | B11: 無鑑別 | I11: =SUM(C11:H11) -> 0 | J11: =SUM(I9:I11) -> 0 | K11: =J11+'６月'!K11 -> 0 | L11: =IF(ISERROR(K11/M11)," ",K11/M11) | M11: =N11+'６月'!M11 -> 0 | N11: 0
B12: 雄 | I12: =SUM(C12:H12) -> 0
B13: 雌 | I13: =SUM(C13:H13) -> 0
A14: ドイツ | B14: 無鑑別 | I14: =SUM(C14:H14) -> 0 | J14: =SUM(I12:I14) -> 0 | K14: =J14+'６月'!K14 -> 0 | L14: =IF(ISERROR(K14/M14)," ",K14/M14) | M14: =N14+'６月'!M14 -> 0 | N14: 0
B15: 雄 | I15: =SUM(C15:H15) -> 0
B16: 雌 | I16: =SUM(C16:H16) -> 0
A17: ハンガリー | B17: 無鑑別 | I17: =SUM(C17:H17) -> 0 | J17: =SUM(I15:I17) -> 0 | K17: =J17+'６月'!K17 -> 0 | L17: =IF(ISERROR(K17/M17)," ",K17/M17) | M17: =N17+'６月'!M17 -> 0 | N17: 0
B18: 雄 | I18: =SUM(C18:H18) -> 0
B19: 雌 | I19: =SUM(C19:H19) -> 0
A20: フィンランド | B20: 無鑑別 | I20: =SUM(C20:H20) -> 0 | J20: =SUM(I18:I20) -> 0 | K20: =J20+'６月'!K20 -> 0 | L20: =IF(ISERROR(K20/M20)," ",K20/M20) | M20: =N20+'６月'!M20 -> 0 | N20: 0
B21: 雄 | I21: =SUM(C21:H21) -> 0
B22: 雌 | I22: =SUM(C22:H22) -> 0
A23: フランス | B23: 無鑑別 | I23: =SUM(C23:H23) -> 0 | J23: =SUM(I21:I23) -> 0 | K23: =J23+'６月'!K23 -> 0 | L23: =IF(ISERROR(K23/M23)," ",K23/M23) | M23: =N23+'６月'!M23 -> 0 | N23: 0
B24: 雄 | I24: =SUM(C24:H24) -> 0
B25: 雌 | I25: =SUM(C25:H25) -> 0
A26: アメリカ | B26: 無鑑別 | I26: =SUM(C26:H26) -> 0 | J26: =SUM(I24:I26) -> 0 | K26: =J26+'６月'!K26 -> 0 | L26: =IF(ISERROR(K26/M26)," ",K26/M26) | M26: =N26+'６月'!M26 -> 0 | N26: 0
B27: 雄 | I27: =SUM(C27:H27) -> 0
B28: 雌 | I28: =SUM(C28:H28) -> 0
A29: カナダ | B29: 無鑑別 | I29: =SUM(C29:H29) -> 0 | J29: =SUM(I27:I29) -> 0 | K29: =J29+'６月'!K29 -> 0 | L29: =IF(ISERROR(K29/M29)," ",K29/M29) | M29: =N29+'６月'!M29 -> 0 | N29: 0
B30: 雄 | G30: 1010 | I30: =SUM(C30:H30) -> 1010
B31: 雌 | G31: 6396 | I31: =SUM(C31:H31) -> 6396
A32: ブラジル | B32: 無鑑別 | I32: =SUM(C32:H32) -> 0 | J32: =SUM(I30:I32) -> 7406 | K32: =J32+'６月'!K32 -> 14954 | L32: =IF(ISERROR(K32/M32)," ",K32/M32) -> 0.69062024 | M32: =N32+'６月'!M32 -> 21653 | N32: 11112
B33: 雄 | I33: =SUM(C33:H33) -> 0
B34: 雌 | I34: =SUM(C34:H34) -> 0
A35: オーストラリア | B35: 無鑑別 | I35: =SUM(C35:H35) -> 0 | J35: =SUM(I33:I35) -> 0 | K35: =J35+'６月'!K35 -> 0 | L35: =IF(ISERROR(K35/M35)," ",K35/M35) | M35: =N35+'６月'!M35 -> 0 | N35: 0
B36: 雄 | I36: =SUM(C36:H36) -> 0
B37: 雌 | I37: =SUM(C37:H37) -> 0
A38: ニュー・カレドニア | B38: 無鑑別 | I38: =SUM(C38:H38) -> 0 | J38: =SUM(I36:I38) -> 0 | K38: =J38+'６月'!K38 -> 0 | L38: =IF(ISERROR(K38/M38)," ",K38/M38) | M38: =N38+'６月'!M38 -> 0 | N38: 0
B39: 雄 | I39: =SUM(C39:H39) -> 0
B40: 雌 | I40: =SUM(C40:H40) -> 0
A41: ニュージーランド | B41: 無鑑別 | I41: =SUM(C41:H41) -> 0 | J41: =SUM(I39:I41) -> 0 | K41: =J41+'６月'!K41 -> 0 | L41: 0% | M41: =N41+'６月'!M41 -> 102727 | N41: 0
B42: 雄 | C42: =C3+C6+C9+C12+C15+C18+C21+C24+C27+C30+C33+C36+C39 -> 0 | D42: =D3+D6+D9+D12+D15+D18+D21+D24+D27+D30+D33+D36+D39 -> 0 | E42: =E3+E6+E9+E12+E15+E18+E21+E24+E27+E30+E33+E36+E39 -> 0 | F42: =F3+F6+F9+F12+F15+F18+F21+F24+F27+F30+F33+F36+F39 -> 5001 | G42: =G3+G6+G9+G12+G15+G18+G21+G24+G27+G30+G33+G36+G39 -> 1010 | H42: =H3+H6+H9+H12+H15+H18+H21+H24+H27+H30+H33+H36+H39 -> 0 | I42: =I3+I6+I9+I12+I15+I18+I21+I24+I27+I30+I33+I36+I39 -> 6011
B43: 雌 | C43: =C4+C7+C10+C13+C16+C19+C22+C25+C28+C31+C34+C37+C40 -> 0 | D43: =D4+D7+D10+D13+D16+D19+D22+D25+D28+D31+D34+D37+D40 -> 0 | E43: =E4+E7+E10+E13+E16+E19+E22+E25+E28+E31+E34+E37+E40 -> 0 | F43: =F4+F7+F10+F13+F16+F19+F22+F25+F28+F31+F34+F37+F40 -> 11630 | G43: =G4+G7+G10+G13+G16+G19+G22+G25+G28+G31+G34+G37+G40 -> 6396 | H43: =H4+H7+H10+H13+H16+H19+H22+H25+H28+H31+H34+H37+H40 -> 0 | I43: =I4+I7+I10+I13+I16+I19+I22+I25+I28+I31+I34+I37+I40 -> 18026
A44: 計 | B44: 無鑑別 | C44: =C5+C8+C11+C14+C17+C20+C23+C26+C29+C32+C35+C38+C41 -> 0 | D44: =D5+D8+D11+D14+D17+D20+D23+D26+D29+D32+D35+D38+D41 -> 0 | E44: =E5+E8+E11+E14+E17+E20+E23+E26+E29+E32+E35+E38+E41 -> 0 | F44: =F5+F8+F11+F14+F17+F20+F23+F26+F29+F32+F35+F38+F41 -> 0 | G44: =G5+G8+G11+G14+G17+G20+G23+G26+G29+G32+G35+G38+G41 -> 0 | H44: =H5+H8+H11+H14+H17+H20+H23+H26+H29+H32+H35+H38+H41 -> 0 | I44: =I5+I8+I11+I14+I17+I20+I23+I26+I29+I32+I35+I38+I41 -> 0 | J44: =J5+J8+J14+J17+J20+J23+J26+J29+J32+J35+J38+J11+J41 -> 24037 | K44: =J44+'６月'!K44 -> 180038 | L44: =IF(ISERROR(K44/M44)," ",K44/M44) -> 1.1716571 | M44: =M5+M8+M11+M14+M17+M20+M23+M26+M29+M32+M35+M38+M41 -> 153661 | N44: =N5+N8+N11+N14+N17+N20+N23+N26+N29+N32+N35+N38+N41 -> 11112
B45: 計 | C45: =SUM(C42:C44) -> 0 | D45: =SUM(D42:D44) -> 0 | E45: =SUM(E42:E44) -> 0 | F45: =SUM(F42:F44) -> 16631 | G45: =SUM(G42:G44) -> 7406 | H45: =SUM(H42:H44) -> 0 | I45: =SUM(C45:H45) -> 24037
A46: 前年同期合計 | C46: 11112 | I46: =SUM(C46:H46) -> 11112
A47: 対前年比(%) | B47: =IF(ISERROR(B45/B46)," ",B45/B46) | C47: 0% | D47: =IF(ISERROR(D45/D46)," ",D45/D46) | E47: =IF(ISERROR(E45/E46)," ",E45/E46) | F47: - | G47: - | H47: =IF(ISERROR(H45/H46)," ",H45/H46) | I47: =IF(ISERROR(I45/I46)," ",I45/I46) -> 2.1631569
B48: 雄 | C48: =C42+'６月'!C48 -> 1778 | D48: =D42+'６月'!D48 -> 2700 | E48: =E42+'６月'!E48 -> 0 | F48: =F42+'６月'!F48 -> 26394 | G48: =G42+'６月'!G48 -> 8160 | H48: =H42+'６月'!H48 -> 0 | I48: =I42+'６月'!I48 -> 39032
B49: 雌 | C49: =C43+'６月'!C49 -> 9045 | D49: =D43+'６月'!D49 -> 26769 | E49: =E43+'６月'!E49 -> 0 | F49: =F43+'６月'!F49 -> 71897 | G49: =G43+'６月'!G49 -> 33295 | H49: =H43+'６月'!H49 -> 0 | I49: =I43+'６月'!I49 -> 141006
A50: 累計 | B50: 無鑑別 | C50: =C44+'６月'!C50 -> 0 | D50: =D44+'６月'!D50 -> 0 | E50: =E44+'６月'!E50 -> 0 | F50: =F44+'６月'!F50 -> 0 | G50: =G44+'６月'!G50 -> 0 | H50: =H44+'６月'!H50 -> 0 | I50: =I44+'６月'!I50 -> 0
B51: 計 | C51: =SUM(C48:C50) -> 10823 | D51: =SUM(D48:D50) -> 29469 | E51: =SUM(E48:E50) -> 0 | F51: =SUM(F48:F50) -> 98291 | G51: =SUM(G48:G50) -> 41455 | H51: =SUM(H48:H50) -> 0 | I51: =SUM(C51:H51) -> 180038
A52: 前年同期累計 | C52: =C46+'６月'!C52 -> 21653 | D52: =D46+'６月'!D52 -> 26327 | E52: =E46+'６月'!E52 -> 0 | F52: =F46+'６月'!F52 -> 102727 | G52: =G46+'６月'!G52 -> 2954 | H52: =H46+'６月'!H52 -> 0 | I52: =SUM(C52:H52) -> 153661
A53: 対前年比(%) | B53: =IF(ISERROR(B51/B52)," ",B51/B52) | C53: =IF(ISERROR(C51/C52)," ",C51/C52) -> 0.49983836 | D53: =IF(ISERROR(D51/D52)," ",D51/D52) -> 1.1193452 | E53: =IF(ISERROR(E51/E52)," ",E51/E52) | F53: =IF(ISERROR(F51/F52)," ",F51/F52) -> 0.95681758 | G53: =IF(ISERROR(G51/G52)," ",G51/G52) -> 14.033514 | H53: =IF(ISERROR(H51/H52)," ",H51/H52) | I53: =IF(ISERROR(I51/I52)," ",I51/I52) -> 1.1716571

Sheet ８月
D1: 卵 用 鶏 | G1: 肉 用 鶏
A2: 仕出地域 | B2: 性別 | C2: 原種鶏 | D2: 種鶏 | E2: 採卵鶏 | F2: 原種鶏 | G2: 種鶏 | H2: 肉用鶏 | I2: 雌雄別計 | J2: 合計 | K2: 累 計 | L2: 対前年比(%) | M2: 前年同期累計 | N2: 前年同期合計
B3: 雄 | I3: =SUM(C3:H3) -> 0
B4: 雌 | I4: =SUM(C4:H4) -> 0
A5: イギリス | B5: 無鑑別 | I5: =SUM(C5:H5) -> 0 | J5: =SUM(I3:I5) -> 0 | K5: =J5+'７月'!K5 -> 127589 | L5: =IF(ISERROR(K5/M5)," ",K5/M5) -> 32.105939 | M5: =N5+'７月'!M5 -> 3974 | N5: 1020
B6: 雄 | G6: 2230 | I6: =SUM(C6:H6) -> 2230
B7: 雌 | G7: 17724 | I7: =SUM(C7:H7) -> 17724
A8: オランダ | B8: 無鑑別 | I8: =SUM(C8:H8) -> 0 | J8: =SUM(I6:I8) -> 19954 | K8: =J8+'７月'!K8 -> 57449 | L8: =IF(ISERROR(K8/M8)," ",K8/M8) -> 2.1821324 | M8: =N8+'７月'!M8 -> 26327 | N8: 0
B9: 雄 | I9: =SUM(C9:H9) -> 0
B10: 雌 | I10: =SUM(C10:H10) -> 0
A11: スウェーデン | B11: 無鑑別 | I11: =SUM(C11:H11) -> 0 | J11: =SUM(I9:I11) -> 0 | K11: =J11+'７月'!K11 -> 0 | L11: =IF(ISERROR(K11/M11)," ",K11/M11) | M11: =N11+'７月'!M11 -> 0 | N11: 0
B12: 雄 | I12: =SUM(C12:H12) -> 0
B13: 雌 | I13: =SUM(C13:H13) -> 0
A14: ドイツ | B14: 無鑑別 | I14: =SUM(C14:H14) -> 0 | J14: =SUM(I12:I14) -> 0 | K14: =J14+'７月'!K14 -> 0 | L14: =IF(ISERROR(K14/M14)," ",K14/M14) | M14: =N14+'７月'!M14 -> 0 | N14: 0
B15: 雄 | I15: =SUM(C15:H15) -> 0
B16: 雌 | I16: =SUM(C16:H16) -> 0
A17: ハンガリー | B17: 無鑑別 | I17: =SUM(C17:H17) -> 0 | J17: =SUM(I15:I17) -> 0 | K17: =J17+'７月'!K17 -> 0 | L17: =IF(ISERROR(K17/M17)," ",K17/M17) | M17: =N17+'７月'!M17 -> 0 | N17: 0
B18: 雄 | I18: =SUM(C18:H18) -> 0
B19: 雌 | I19: =SUM(C19:H19) -> 0
A20: フィンランド | B20: 無鑑別 | I20: =SUM(C20:H20) -> 0 | J20: =SUM(I18:I20) -> 0 | K20: =J20+'７月'!K20 -> 0 | L20: =IF(ISERROR(K20/M20)," ",K20/M20) | M20: =N20+'７月'!M20 -> 0 | N20: 0
B21: 雄 | I21: =SUM(C21:H21) -> 0
B22: 雌 | I22: =SUM(C22:H22) -> 0
A23: フランス | B23: 無鑑別 | I23: =SUM(C23:H23) -> 0 | J23: =SUM(I21:I23) -> 0 | K23: =J23+'７月'!K23 -> 0 | L23: =IF(ISERROR(K23/M23)," ",K23/M23) | M23: =N23+'７月'!M23 -> 0 | N23: 0
B24: 雄 | I24: =SUM(C24:H24) -> 0
B25: 雌 | I25: =SUM(C25:H25) -> 0
A26: アメリカ | B26: 無鑑別 | I26: =SUM(C26:H26) -> 0 | J26: =SUM(I24:I26) -> 0 | K26: =J26+'７月'!K26 -> 0 | L26: 0% | M26: =N26+'７月'!M26 -> 4852 | N26: 4852
B27: 雄 | I27: =SUM(C27:H27) -> 0
B28: 雌 | I28: =SUM(C28:H28) -> 0
A29: カナダ | B29: 無鑑別 | I29: =SUM(C29:H29) -> 0 | J29: =SUM(I27:I29) -> 0 | K29: =J29+'７月'!K29 -> 0 | L29: =IF(ISERROR(K29/M29)," ",K29/M29) | M29: =N29+'７月'!M29 -> 0 | N29: 0
B30: 雄 | I30: =SUM(C30:H30) -> 0
B31: 雌 | I31: =SUM(C31:H31) -> 0
A32: ブラジル | B32: 無鑑別 | I32: =SUM(C32:H32) -> 0 | J32: =SUM(I30:I32) -> 0 | K32: =J32+'７月'!K32 -> 14954 | L32: =IF(ISERROR(K32/M32)," ",K32/M32) -> 0.60697325 | M32: =N32+'７月'!M32 -> 24637 | N32: 2984
B33: 雄 | I33: =SUM(C33:H33) -> 0
B34: 雌 | I34: =SUM(C34:H34) -> 0
A35: オーストラリア | B35: 無鑑別 | I35: =SUM(C35:H35) -> 0 | J35: =SUM(I33:I35) -> 0 | K35: =J35+'７月'!K35 -> 0 | L35: =IF(ISERROR(K35/M35)," ",K35/M35) | M35: =N35+'７月'!M35 -> 0 | N35: 0
B36: 雄 | I36: =SUM(C36:H36) -> 0
B37: 雌 | I37: =SUM(C37:H37) -> 0
A38: ニュー・カレドニア | B38: 無鑑別 | I38: =SUM(C38:H38) -> 0 | J38: =SUM(I36:I38) -> 0 | K38: =J38+'７月'!K38 -> 0 | L38: =IF(ISERROR(K38/M38)," ",K38/M38) | M38: =N38+'７月'!M38 -> 0 | N38: 0
B39: 雄 | I39: =SUM(C39:H39) -> 0
B40: 雌 | I40: =SUM(C40:H40) -> 0
A41: ニュージーランド | B41: 無鑑別 | I41: =SUM(C41:H41) -> 0 | J41: =SUM(I39:I41) -> 0 | K41: =J41+'７月'!K41 -> 0 | L41: 0% | M41: =N41+'７月'!M41 -> 127284 | N41: 24557
B42: 雄 | C42: =C3+C6+C9+C12+C15+C18+C21+C24+C27+C30+C33+C36+C39 -> 0 | D42: =D3+D6+D9+D12+D15+D18+D21+D24+D27+D30+D33+D36+D39 -> 0 | E42: =E3+E6+E9+E12+E15+E18+E21+E24+E27+E30+E33+E36+E39 -> 0 | F42: =F3+F6+F9+F12+F15+F18+F21+F24+F27+F30+F33+F36+F39 -> 0 | G42: =G3+G6+G9+G12+G15+G18+G21+G24+G27+G30+G33+G36+G39 -> 2230 | H42: =H3+H6+H9+H12+H15+H18+H21+H24+H27+H30+H33+H36+H39 -> 0 | I42: =I3+I6+I9+I12+I15+I18+I21+I24+I27+I30+I33+I36+I39 -> 2230
B43: 雌 | C43: =C4+C7+C10+C13+C16+C19+C22+C25+C28+C31+C34+C37+C40 -> 0 | D43: =D4+D7+D10+D13+D16+D19+D22+D25+D28+D31+D34+D37+D40 -> 0 | E43: =E4+E7+E10+E13+E16+E19+E22+E25+E28+E31+E34+E37+E40 -> 0 | F43: =F4+F7+F10+F13+F16+F19+F22+F25+F28+F31+F34+F37+F40 -> 0 | G43: =G4+G7+G10+G13+G16+G19+G22+G25+G28+G31+G34+G37+G40 -> 17724 | H43: =H4+H7+H10+H13+H16+H19+H22+H25+H28+H31+H34+H37+H40 -> 0 | I43: =I4+I7+I10+I13+I16+I19+I22+I25+I28+I31+I34+I37+I40 -> 17724
A44: 計 | B44: 無鑑別 | C44: =C5+C8+C11+C14+C17+C20+C23+C26+C29+C32+C35+C38+C41 -> 0 | D44: =D5+D8+D11+D14+D17+D20+D23+D26+D29+D32+D35+D38+D41 -> 0 | E44: =E5+E8+E11+E14+E17+E20+E23+E26+E29+E32+E35+E38+E41 -> 0 | F44: =F5+F8+F11+F14+F17+F20+F23+F26+F29+F32+F35+F38+F41 -> 0 | G44: =G5+G8+G11+G14+G17+G20+G23+G26+G29+G32+G35+G38+G41 -> 0 | H44: =H5+H8+H11+H14+H17+H20+H23+H26+H29+H32+H35+H38+H41 -> 0 | I44: =I5+I8+I11+I14+I17+I20+I23+I26+I29+I32+I35+I38+I41 -> 0 | J44: =J5+J8+J14+J17+J20+J23+J26+J29+J32+J35+J38+J11+J41 -> 19954 | K44: =J44+'７月'!K44 -> 199992 | L44: =IF(ISERROR(K44/M44)," ",K44/M44) -> 1.0690529 | M44: =M5+M8+M11+M14+M17+M20+M23+M26+M29+M32+M35+M38+M41 -> 187074 | N44: =N5+N8+N11+N14+N17+N20+N23+N26+N29+N32+N35+N38+N41 -> 33413
B45: 計 | C45: =SUM(C42:C44) -> 0 | D45: =SUM(D42:D44) -> 0 | E45: =SUM(E42:E44) -> 0 | F45: =SUM(F42:F44) -> 0 | G45: =SUM(G42:G44) -> 19954 | H45: =SUM(H42:H44) -> 0 | I45: =SUM(C45:H45) -> 19954
A46: 前年同期合計 | F46: 24557 | G46: 8856 | I46: =SUM(C46:H46) -> 33413
A47: 対前年比(%) | B47: =IF(ISERROR(B45/B46)," ",B45/B46) | C47: - | D47: - | E47: =IF(ISERROR(E45/E46)," ",E45/E46) | F47: 0% | G47: =IF(ISERROR(G45/G46)," ",G45/G46) -> 2.2531617 | H47: =IF(ISERROR(H45/H46)," ",H45/H46) | I47: =IF(ISERROR(I45/I46)," ",I45/I46) -> 0.59719271
B48: 雄 | C48: =C42+'７月'!C48 -> 1778 | D48: =D42+'７月'!D48 -> 2700 | E48: =E42+'７月'!E48 -> 0 | F48: =F42+'７月'!F48 -> 26394 | G48: =G42+'７月'!G48 -> 10390 | H48: =H42+'７月'!H48 -> 0 | I48: =I42+'７月'!I48 -> 41262
B49: 雌 | C49: =C43+'７月'!C49 -> 9045 | D49: =D43+'７月'!D49 -> 26769 | E49: =E43+'７月'!E49 -> 0 | F49: =F43+'７月'!F49 -> 71897 | G49: =G43+'７月'!G49 -> 51019 | H49: =H43+'７月'!H49 -> 0 | I49: =I43+'７月'!I49 -> 158730
A50: 累計 | B50: 無鑑別 | C50: =C44+'７月'!C50 -> 0 | D50: =D44+'７月'!D50 -> 0 | E50: =E44+'７月'!E50 -> 0 | F50: =F44+'７月'!F50 -> 0 | G50: =G44+'７月'!G50 -> 0 | H50: =H44+'７月'!H50 -> 0 | I50: =I44+'７月'!I50 -> 0
B51: 計 | C51: =SUM(C48:C50) -> 10823 | D51: =SUM(D48:D50) -> 29469 | E51: =SUM(E48:E50) -> 0 | F51: =SUM(F48:F50) -> 98291 | G51: =SUM(G48:G50) -> 61409 | H51: =SUM(H48:H50) -> 0 | I51: =SUM(C51:H51) -> 199992
A52: 前年同期累計 | C52: =C46+'７月'!C52 -> 21653 | D52: =D46+'７月'!D52 -> 26327 | E52: =E46+'７月'!E52 -> 0 | F52: =F46+'７月'!F52 -> 127284 | G52: =G46+'７月'!G52 -> 11810 | H52: =H46+'７月'!H52 -> 0 | I52: =SUM(C52:H52) -> 187074
A53: 対前年比(%) | B53: =IF(ISERROR(B51/B52)," ",B51/B52) | C53: =IF(ISERROR(C51/C52)," ",C51/C52) -> 0.49983836 | D53: =IF(ISERROR(D51/D52)," ",D51/D52) -> 1.1193452 | E53: =IF(ISERROR(E51/E52)," ",E51/E52) | F53: =IF(ISERROR(F51/F52)," ",F51/F52) -> 0.77221803 | G53: =IF(ISERROR(G51/G52)," ",G51/G52) -> 5.199746 | H53: =IF(ISERROR(H51/H52)," ",H51/H52) | I53: =IF(ISERROR(I51/I52)," ",I51/I52) -> 1.0690529

Sheet ９月
D1: 卵 用 鶏 | G1: 肉 用 鶏
A2: 仕出地域 | B2: 性別 | C2: 原種鶏 | D2: 種鶏 | E2: 採卵鶏 | F2: 原種鶏 | G2: 種鶏 | H2: 肉用鶏 | I2: 雌雄別計 | J2: 合計 | K2: 累 計 | L2: 対前年比(%) | M2: 前年同期累計 | N2: 前年同期合計
B3: 雄 | F3: 5796 | I3: =SUM(C3:H3) -> 5796
B4: 雌 | F4: 17337 | I4: =SUM(C4:H4) -> 17337
A5: イギリス | B5: 無鑑別 | I5: =SUM(C5:H5) -> 0 | J5: =SUM(I3:I5) -> 23133 | K5: =J5+'８月'!K5 -> 150722 | L5: =IF(ISERROR(K5/M5)," ",K5/M5) -> 37.927026 | M5: =N5+'８月'!M5 -> 3974 | N5: 0
B6: 雄 | I6: =SUM(C6:H6) -> 0
B7: 雌 | I7: =SUM(C7:H7) -> 0
A8: オランダ | B8: 無鑑別 | I8: =SUM(C8:H8) -> 0 | J8: =SUM(I6:I8) -> 0 | K8: =J8+'８月'!K8 -> 57449 | L8: =IF(ISERROR(K8/M8)," ",K8/M8) -> 1.0667942 | M8: =N8+'８月'!M8 -> 53852 | N8: 27525
B9: 雄 | I9: =SUM(C9:H9) -> 0
B10: 雌 | I10: =SUM(C10:H10) -> 0
A11: スウェーデン | B11: 無鑑別 | I11: =SUM(C11:H11) -> 0 | J11: =SUM(I9:I11) -> 0 | K11: =J11+'８月'!K11 -> 0 | L11: =IF(ISERROR(K11/M11)," ",K11/M11) | M11: =N11+'８月'!M11 -> 0 | N11: 0
B12: 雄 | I12: =SUM(C12:H12) -> 0
B13: 雌 | I13: =SUM(C13:H13) -> 0
A14: ドイツ | B14: 無鑑別 | I14: =SUM(C14:H14) -> 0 | J14: =SUM(I12:I14) -> 0 | K14: =J14+'８月'!K14 -> 0 | L14: =IF(ISERROR(K14/M14)," ",K14/M14) | M14: =N14+'８月'!M14 -> 0 | N14: 0
B15: 雄 | I15: =SUM(C15:H15) -> 0
B16: 雌 | I16: =SUM(C16:H16) -> 0
A17: ハンガリー | B17: 無鑑別 | I17: =SUM(C17:H17) -> 0 | J17: =SUM(I15:I17) -> 0 | K17: =J17+'８月'!K17 -> 0 | L17: =IF(ISERROR(K17/M17)," ",K17/M17) | M17: =N17+'８月'!M17 -> 0 | N17: 0
B18: 雄 | I18: =SUM(C18:H18) -> 0
B19: 雌 | I19: =SUM(C19:H19) -> 0
A20: フィンランド | B20: 無鑑別 | I20: =SUM(C20:H20) -> 0 | J20: =SUM(I18:I20) -> 0 | K20: =J20+'８月'!K20 -> 0 | L20: =IF(ISERROR(K20/M20)," ",K20/M20) | M20: =N20+'８月'!M20 -> 0 | N20: 0
B21: 雄 | I21: =SUM(C21:H21) -> 0
B22: 雌 | I22: =SUM(C22:H22) -> 0
A23: フランス | B23: 無鑑別 | I23: =SUM(C23:H23) -> 0 | J23: =SUM(I21:I23) -> 0 | K23: =J23+'８月'!K23 -> 0 | L23: =IF(ISERROR(K23/M23)," ",K23/M23) | M23: =N23+'８月'!M23 -> 0 | N23: 0
B24: 雄 | I24: =SUM(C24:H24) -> 0
B25: 雌 | I25: =SUM(C25:H25) -> 0
A26: アメリカ | B26: 無鑑別 | I26: =SUM(C26:H26) -> 0 | J26: =SUM(I24:I26) -> 0 | K26: =J26+'８月'!K26 -> 0 | L26: 0% | M26: =N26+'８月'!M26 -> 4852 | N26: 0
B27: 雄 | I27: =SUM(C27:H27) -> 0
B28: 雌 | I28: =SUM(C28:H28) -> 0
A29: カナダ | B29: 無鑑別 | I29: =SUM(C29:H29) -> 0 | J29: =SUM(I27:I29) -> 0 | K29: =J29+'８月'!K29 -> 0 | L29: =IF(ISERROR(K29/M29)," ",K29/M29) | M29: =N29+'８月'!M29 -> 0 | N29: 0
B30: 雄 | I30: =SUM(C30:H30) -> 0
B31: 雌 | I31: =SUM(C31:H31) -> 0
A32: ブラジル | B32: 無鑑別 | I32: =SUM(C32:H32) -> 0 | J32: =SUM(I30:I32) -> 0 | K32: =J32+'８月'!K32 -> 14954 | L32: =IF(ISERROR(K32/M32)," ",K32/M32) -> 0.60697325 | M32: =N32+'８月'!M32 -> 24637 | N32: 0
B33: 雄 | I33: =SUM(C33:H33) -> 0
B34: 雌 | I34: =SUM(C34:H34) -> 0
A35: オーストラリア | B35: 無鑑別 | I35: =SUM(C35:H35) -> 0 | J35: =SUM(I33:I35) -> 0 | K35: =J35+'８月'!K35 -> 0 | L35: =IF(ISERROR(K35/M35)," ",K35/M35) | M35: =N35+'８月'!M35 -> 0 | N35: 0
B36: 雄 | I36: =SUM(C36:H36) -> 0
B37: 雌 | I37: =SUM(C37:H37) -> 0
A38: ニュー・カレドニア | B38: 無鑑別 | I38: =SUM(C38:H38) -> 0 | J38: =SUM(I36:I38) -> 0 | K38: =J38+'８月'!K38 -> 0 | L38: =IF(ISERROR(K38/M38)," ",K38/M38) | M38: =N38+'８月'!M38 -> 0 | N38: 0
B39: 雄 | G39: 15702 | I39: =SUM(C39:H39) -> 15702
B40: 雌 | G40: 8214 | I40: =SUM(C40:H40) -> 8214
A41: ニュージーランド | B41: 無鑑別 | I41: =SUM(C41:H41) -> 0 | J41: =SUM(I39:I41) -> 23916 | K41: =J41+'８月'!K41 -> 23916 | L41: =IF(ISERROR(K41/M41)," ",K41/M41) -> 0.15949848 | M41: =N41+'８月'!M41 -> 149945 | N41: 22661
B42: 雄 | C42: =C3+C6+C9+C12+C15+C18+C21+C24+C27+C30+C33+C36+C39 -> 0 | D42: =D3+D6+D9+D12+D15+D18+D21+D24+D27+D30+D33+D36+D39 -> 0 | E42: =E3+E6+E9+E12+E15+E18+E21+E24+E27+E30+E33+E36+E39 -> 0 | F42: =F3+F6+F9+F12+F15+F18+F21+F24+F27+F30+F33+F36+F39 -> 5796 | G42: =G3+G6+G9+G12+G15+G18+G21+G24+G27+G30+G33+G36+G39 -> 15702 | H42: =H3+H6+H9+H12+H15+H18+H21+H24+H27+H30+H33+H36+H39 -> 0 | I42: =I3+I6+I9+I12+I15+I18+I21+I24+I27+I30+I33+I36+I39 -> 21498
B43: 雌 | C43: =C4+C7+C10+C13+C16+C19+C22+C25+C28+C31+C34+C37+C40 -> 0 | D43: =D4+D7+D10+D13+D16+D19+D22+D25+D28+D31+D34+D37+D40 -> 0 | E43: =E4+E7+E10+E13+E16+E19+E22+E25+E28+E31+E34+E37+E40 -> 0 | F43: =F4+F7+F10+F13+F16+F19+F22+F25+F28+F31+F34+F37+F40 -> 17337 | G43: =G4+G7+G10+G13+G16+G19+G22+G25+G28+G31+G34+G37+G40 -> 8214 | H43: =H4+H7+H10+H13+H16+H19+H22+H25+H28+H31+H34+H37+H40 -> 0 | I43: =I4+I7+I10+I13+I16+I19+I22+I25+I28+I31+I34+I37+I40 -> 25551
A44: 計 | B44: 無鑑別 | C44: =C5+C8+C11+C14+C17+C20+C23+C26+C29+C32+C35+C38+C41 -> 0 | D44: =D5+D8+D11+D14+D17+D20+D23+D26+D29+D32+D35+D38+D41 -> 0 | E44: =E5+E8+E11+E14+E17+E20+E23+E26+E29+E32+E35+E38+E41 -> 0 | F44: =F5+F8+F11+F14+F17+F20+F23+F26+F29+F32+F35+F38+F41 -> 0 | G44: =G5+G8+G11+G14+G17+G20+G23+G26+G29+G32+G35+G38+G41 -> 0 | H44: =H5+H8+H11+H14+H17+H20+H23+H26+H29+H32+H35+H38+H41 -> 0 | I44: =I5+I8+I11+I14+I17+I20+I23+I26+I29+I32+I35+I38+I41 -> 0 | J44: =J5+J8+J14+J17+J20+J23+J26+J29+J32+J35+J38+J11+J41 -> 47049 | K44: =J44+'８月'!K44 -> 247041 | L44: =IF(ISERROR(K44/M44)," ",K44/M44) -> 1.0412248 | M44: =M5+M8+M11+M14+M17+M20+M23+M26+M29+M32+M35+M38+M41 -> 237260 | N44: =N5+N8+N11+N14+N17+N20+N23+N26+N29+N32+N35+N38+N41 -> 50186
B45: 計 | C45: =SUM(C42:C44) -> 0 | D45: =SUM(D42:D44) -> 0 | E45: =SUM(E42:E44) -> 0 | F45: =SUM(F42:F44) -> 23133 | G45: =SUM(G42:G44) -> 23916 | H45: =SUM(H42:H44) -> 0 | I45: =SUM(C45:H45) -> 47049
A46: 前年同期合計 | D46: 27525 | F46: 22661 | I46: =SUM(C46:H46) -> 50186
A47: 対前年比(%) | B47: =IF(ISERROR(B45/B46)," ",B45/B46) | C47: =IF(ISERROR(C45/C46)," ",C45/C46) | D47: =IF(ISERROR(D45/D46)," ",D45/D46) -> 0 | E47: =IF(ISERROR(E45/E46)," ",E45/E46) | F47: =IF(ISERROR(F45/F46)," ",F45/F46) -> 1.0208287 | G47: =IF(ISERROR(G45/G46)," ",G45/G46) | H47: =IF(ISERROR(H45/H46)," ",H45/H46) | I47: =IF(ISERROR(I45/I46)," ",I45/I46) -> 0.93749253
B48: 雄 | C48: =C42+'８月'!C48 -> 1778 | D48: =D42+'８月'!D48 -> 2700 | E48: =E42+'８月'!E48 -> 0 | F48: =F42+'８月'!F48 -> 32190 | G48: =G42+'８月'!G48 -> 26092 | H48: =H42+'８月'!H48 -> 0 | I48: =I42+'８月'!I48 -> 62760
B49: 雌 | C49: =C43+'８月'!C49 -> 9045 | D49: =D43+'８月'!D49 -> 26769 | E49: =E43+'８月'!E49 -> 0 | F49: =F43+'８月'!F49 -> 89234 | G49: =G43+'８月'!G49 -> 59233 | H49: =H43+'８月'!H49 -> 0 | I49: =I43+'８月'!I49 -> 184281
A50: 累計 | B50: 無鑑別 | C50: =C44+'８月'!C50 -> 0 | D50: =D44+'８月'!D50 -> 0 | E50: =E44+'８月'!E50 -> 0 | F50: =F44+'８月'!F50 -> 0 | G50: =G44+'８月'!G50 -> 0 | H50: =H44+'８月'!H50 -> 0 | I50: =I44+'８月'!I50 -> 0
B51: 計 | C51: =SUM(C48:C50) -> 10823 | D51: =SUM(D48:D50) -> 29469 | E51: =SUM(E48:E50) -> 0 | F51: =SUM(F48:F50) -> 121424 | G51: =SUM(G48:G50) -> 85325 | H51: =SUM(H48:H50) -> 0 | I51: =SUM(C51:H51) -> 247041
A52: 前年同期累計 | C52: =C46+'８月'!C52 -> 21653 | D52: =D46+'８月'!D52 -> 53852 | E52: =E46+'８月'!E52 -> 0 | F52: =F46+'８月'!F52 -> 149945 | G52: =G46+'８月'!G52 -> 11810 | H52: =H46+'８月'!H52 -> 0 | I52: =SUM(C52:H52) -> 237260
A53: 対前年比(%) | B53: =IF(ISERROR(B51/B52)," ",B51/B52) | C53: =IF(ISERROR(C51/C52)," ",C51/C52) -> 0.49983836 | D53: =IF(ISERROR(D51/D52)," ",D51/D52) -> 0.54722202 | E53: =IF(ISERROR(E51/E52)," ",E51/E52) | F53: =IF(ISERROR(F51/F52)," ",F51/F52) -> 0.80979026 | G53: =IF(ISERROR(G51/G52)," ",G51/G52) -> 7.2248095 | H53: =IF(ISERROR(H51/H52)," ",H51/H52) | I53: =IF(ISERROR(I51/I52)," ",I51/I52) -> 1.0412248

Sheet １０月
D1: 卵 用 鶏 | G1: 肉 用 鶏
A2: 仕出地域 | B2: 性別 | C2: 原種鶏 | D2: 種鶏 | E2: 採卵鶏 | F2: 原種鶏 | G2: 種鶏 | H2: 肉用鶏 | I2: 雌雄別計 | J2: 合計 | K2: 累 計 | L2: 対前年比(%) | M2: 前年同期累計 | N2: 前年同期合計
B3: 雄 | I3: =SUM(C3:H3) -> 0
B4: 雌 | I4: =SUM(C4:H4) -> 0
A5: イギリス | B5: 無鑑別 | I5: =SUM(C5:H5) -> 0 | J5: =SUM(I3:I5) -> 0 | K5: =J5+'９月'!K5 -> 150722 | L5: =IF(ISERROR(K5/M5)," ",K5/M5) -> 37.927026 | M5: =N5+'９月'!M5 -> 3974 | N5: 0
B6: 雄 | I6: =SUM(C6:H6) -> 0
B7: 雌 | I7: =SUM(C7:H7) -> 0
A8: オランダ | B8: 無鑑別 | I8: =SUM(C8:H8) -> 0 | J8: =SUM(I6:I8) -> 0 | K8: =J8+'９月'!K8 -> 57449 | L8: =IF(ISERROR(K8/M8)," ",K8/M8) -> 1.0667942 | M8: =N8+'９月'!M8 -> 53852 | N8: 0
B9: 雄 | I9: =SUM(C9:H9) -> 0
B10: 雌 | I10: =SUM(C10:H10) -> 0
A11: スウェーデン | B11: 無鑑別 | I11: =SUM(C11:H11) -> 0 | J11: =SUM(I9:I11) -> 0 | K11: =J11+'９月'!K11 -> 0 | L11: =IF(ISERROR(K11/M11)," ",K11/M11) | M11: =N11+'９月'!M11 -> 0 | N11: 0
B12: 雄 | I12: =SUM(C12:H12) -> 0
B13: 雌 | I13: =SUM(C13:H13) -> 0
A14: ドイツ | B14: 無鑑別 | I14: =SUM(C14:H14) -> 0 | J14: =SUM(I12:I14) -> 0 | K14: =J14+'９月'!K14 -> 0 | L14: =IF(ISERROR(K14/M14)," ",K14/M14) | M14: =N14+'９月'!M14 -> 0 | N14: 0
B15: 雄 | I15: =SUM(C15:H15) -> 0
B16: 雌 | I16: =SUM(C16:H16) -> 0
A17: ハンガリー | B17: 無鑑別 | I17: =SUM(C17:H17) -> 0 | J17: =SUM(I15:I17) -> 0 | K17: =J17+'９月'!K17 -> 0 | L17: =IF(ISERROR(K17/M17)," ",K17/M17) | M17: =N17+'９月'!M17 -> 0 | N17: 0
B18: 雄 | I18: =SUM(C18:H18) -> 0
B19: 雌 | I19: =SUM(C19:H19) -> 0
A20: フィンランド | B20: 無鑑別 | I20: =SUM(C20:H20) -> 0 | J20: =SUM(I18:I20) -> 0 | K20: =J20+'９月'!K20 -> 0 | L20: =IF(ISERROR(K20/M20)," ",K20/M20) | M20: =N20+'９月'!M20 -> 0 | N20: 0
B21: 雄 | I21: =SUM(C21:H21) -> 0
B22: 雌 | I22: =SUM(C22:H22) -> 0
A23: フランス | B23: 無鑑別 | I23: =SUM(C23:H23) -> 0 | J23: =SUM(I21:I23) -> 0 | K23: =J23+'９月'!K23 -> 0 | L23: =IF(ISERROR(K23/M23)," ",K23/M23) | M23: =N23+'９月'!M23 -> 0 | N23: 0
B24: 雄 | I24: =SUM(C24:H24) -> 0
B25: 雌 | I25: =SUM(C25:H25) -> 0
A26: アメリカ | B26: 無鑑別 | I26: =SUM(C26:H26) -> 0 | J26: =SUM(I24:I26) -> 0 | K26: =J26+'９月'!K26 -> 0 | L26: =IF(ISERROR(K26/M26)," ",K26/M26) -> 0 | M26: =N26+'９月'!M26 -> 4852 | N26: 0
B27: 雄 | I27: =SUM(C27:H27) -> 0
B28: 雌 | I28: =SUM(C28:H28) -> 0
A29: カナダ | B29: 無鑑別 | I29: =SUM(C29:H29) -> 0 | J29: =SUM(I27:I29) -> 0 | K29: =J29+'９月'!K29 -> 0 | L29: =IF(ISERROR(K29/M29)," ",K29/M29) | M29: =N29+'９月'!M29 -> 0 | N29: 0
B30: 雄 | I30: =SUM(C30:H30) -> 0
B31: 雌 | I31: =SUM(C31:H31) -> 0
A32: ブラジル | B32: 無鑑別 | I32: =SUM(C32:H32) -> 0 | J32: =SUM(I30:I32) -> 0 | K32: =J32+'９月'!K32 -> 14954 | L32: =IF(ISERROR(K32/M32)," ",K32/M32) -> 0.56400392 | M32: =N32+'９月'!M32 -> 26514 | N32: 1877
B33: 雄 | I33: =SUM(C33:H33) -> 0
B34: 雌 | I34: =SUM(C34:H34) -> 0
A35: オーストラリア | B35: 無鑑別 | I35: =SUM(C35:H35) -> 0 | J35: =SUM(I33:I35) -> 0 | K35: =J35+'９月'!K35 -> 0 | L35: =IF(ISERROR(K35/M35)," ",K35/M35) | M35: =N35+'９月'!M35 -> 0 | N35: 0
B36: 雄 | I36: =SUM(C36:H36) -> 0
B37: 雌 | I37: =SUM(C37:H37) -> 0
A38: ニュー・カレドニア | B38: 無鑑別 | I38: =SUM(C38:H38) -> 0 | J38: =SUM(I36:I38) -> 0 | K38: =J38+'９月'!K38 -> 0 | L38: =IF(ISERROR(K38/M38)," ",K38/M38) | M38: =N38+'９月'!M38 -> 0 | N38: 0
B39: 雄 | I39: =SUM(C39:H39) -> 0
B40: 雌 | I40: =SUM(C40:H40) -> 0
A41: ニュージーランド | B41: 無鑑別 | I41: =SUM(C41:H41) -> 0 | J41: =SUM(I39:I41) -> 0 | K41: =J41+'９月'!K41 -> 23916 | L41: =IF(ISERROR(K41/M41)," ",K41/M41) -> 0.15949848 | M41: =N41+'９月'!M41 -> 149945 | N41: 0
B42: 雄 | C42: =C3+C6+C9+C12+C15+C18+C21+C24+C27+C30+C33+C36+C39 -> 0 | D42: =D3+D6+D9+D12+D15+D18+D21+D24+D27+D30+D33+D36+D39 -> 0 | E42: =E3+E6+E9+E12+E15+E18+E21+E24+E27+E30+E33+E36+E39 -> 0 | F42: =F3+F6+F9+F12+F15+F18+F21+F24+F27+F30+F33+F36+F39 -> 0 | G42: =G3+G6+G9+G12+G15+G18+G21+G24+G27+G30+G33+G36+G39 -> 0 | H42: =H3+H6+H9+H12+H15+H18+H21+H24+H27+H30+H33+H36+H39 -> 0 | I42: =I3+I6+I9+I12+I15+I18+I21+I24+I27+I30+I33+I36+I39 -> 0
B43: 雌 | C43: =C4+C7+C10+C13+C16+C19+C22+C25+C28+C31+C34+C37+C40 -> 0 | D43: =D4+D7+D10+D13+D16+D19+D22+D25+D28+D31+D34+D37+D40 -> 0 | E43: =E4+E7+E10+E13+E16+E19+E22+E25+E28+E31+E34+E37+E40 -> 0 | F43: =F4+F7+F10+F13+F16+F19+F22+F25+F28+F31+F34+F37+F40 -> 0 | G43: =G4+G7+G10+G13+G16+G19+G22+G25+G28+G31+G34+G37+G40 -> 0 | H43: =H4+H7+H10+H13+H16+H19+H22+H25+H28+H31+H34+H37+H40 -> 0 | I43: =I4+I7+I10+I13+I16+I19+I22+I25+I28+I31+I34+I37+I40 -> 0
A44: 計 | B44: 無鑑別 | C44: =C5+C8+C11+C14+C17+C20+C23+C26+C29+C32+C35+C38+C41 -> 0 | D44: =D5+D8+D11+D14+D17+D20+D23+D26+D29+D32+D35+D38+D41 -> 0 | E44: =E5+E8+E11+E14+E17+E20+E23+E26+E29+E32+E35+E38+E41 -> 0 | F44: =F5+F8+F11+F14+F17+F20+F23+F26+F29+F32+F35+F38+F41 -> 0 | G44: =G5+G8+G11+G14+G17+G20+G23+G26+G29+G32+G35+G38+G41 -> 0 | H44: =H5+H8+H11+H14+H17+H20+H23+H26+H29+H32+H35+H38+H41 -> 0 | I44: =I5+I8+I11+I14+I17+I20+I23+I26+I29+I32+I35+I38+I41 -> 0 | J44: =J5+J8+J14+J17+J20+J23+J26+J29+J32+J35+J38+J11+J41 -> 0 | K44: =J44+'９月'!K44 -> 247041 | L44: =IF(ISERROR(K44/M44)," ",K44/M44) -> 1.0330522 | M44: =M5+M8+M11+M14+M17+M20+M23+M26+M29+M32+M35+M38+M41 -> 239137 | N44: =N5+N8+N11+N14+N17+N20+N23+N26+N29+N32+N35+N38+N41 -> 1877
B45: 計 | C45: =SUM(C42:C44) -> 0 | D45: =SUM(D42:D44) -> 0 | E45: =SUM(E42:E44) -> 0 | F45: =SUM(F42:F44) -> 0 | G45: =SUM(G42:G44) -> 0 | H45: =SUM(H42:H44) -> 0 | I45: =SUM(C45:H45) -> 0
A46: 前年同期合計 | G46: 1877 | I46: =SUM(C46:H46) -> 1877
A47: 対前年比(%) | B47: =IF(ISERROR(B45/B46)," ",B45/B46) | C47: =IF(ISERROR(C45/C46)," ",C45/C46) | D47: =IF(ISERROR(D45/D46)," ",D45/D46) | E47: =IF(ISERROR(E45/E46)," ",E45/E46) | F47: =IF(ISERROR(F45/F46)," ",F45/F46) | G47: =IF(ISERROR(G45/G46)," ",G45/G46) -> 0 | H47: =IF(ISERROR(H45/H46)," ",H45/H46) | I47: =IF(ISERROR(I45/I46)," ",I45/I46) -> 0
B48: 雄 | C48: =C42+'９月'!C48 -> 1778 | D48: =D42+'９月'!D48 -> 2700 | E48: =E42+'９月'!E48 -> 0 | F48: =F42+'９月'!F48 -> 32190 | G48: =G42+'９月'!G48 -> 26092 | H48: =H42+'９月'!H48 -> 0 | I48: =I42+'９月'!I48 -> 62760
B49: 雌 | C49: =C43+'９月'!C49 -> 9045 | D49: =D43+'９月'!D49 -> 26769 | E49: =E43+'９月'!E49 -> 0 | F49: =F43+'９月'!F49 -> 89234 | G49: =G43+'９月'!G49 -> 59233 | H49: =H43+'９月'!H49 -> 0 | I49: =I43+'９月'!I49 -> 184281
A50: 累計 | B50: 無鑑別 | C50: =C44+'９月'!C50 -> 0 | D50: =D44+'９月'!D50 -> 0 | E50: =E44+'９月'!E50 -> 0 | F50: =F44+'９月'!F50 -> 0 | G50: =G44+'９月'!G50 -> 0 | H50: =H44+'９月'!H50 -> 0 | I50: =I44+'９月'!I50 -> 0
B51: 計 | C51: =SUM(C48:C50) -> 10823 | D51: =SUM(D48:D50) -> 29469 | E51: =SUM(E48:E50) -> 0 | F51: =SUM(F48:F50) -> 121424 | G51: =SUM(G48:G50) -> 85325 | H51: =SUM(H48:H50) -> 0 | I51: =SUM(C51:H51) -> 247041
A52: 前年同期累計 | C52: =C46+'９月'!C52 -> 21653 | D52: =D46+'９月'!D52 -> 53852 | E52: =E46+'９月'!E52 -> 0 | F52: =F46+'９月'!F52 -> 149945 | G52: =G46+'９月'!G52 -> 13687 | H52: =H46+'９月'!H52 -> 0 | I52: =SUM(C52:H52) -> 239137
A53: 対前年比(%) | B53: =IF(ISERROR(B51/B52)," ",B51/B52) | C53: =IF(ISERROR(C51/C52)," ",C51/C52) -> 0.49983836 | D53: =IF(ISERROR(D51/D52)," ",D51/D52) -> 0.54722202 | E53: =IF(ISERROR(E51/E52)," ",E51/E52) | F53: =IF(ISERROR(F51/F52)," ",F51/F52) -> 0.80979026 | G53: =IF(ISERROR(G51/G52)," ",G51/G52) -> 6.2340177 | H53: =IF(ISERROR(H51/H52)," ",H51/H52) | I53: =IF(ISERROR(I51/I52)," ",I51/I52) -> 1.0330522

Sheet １１月
D1: 卵 用 鶏 | G1: 肉 用 鶏
A2: 仕出地域 | B2: 性別 | C2: 原種鶏 | D2: 種鶏 | E2: 採卵鶏 | F2: 原種鶏 | G2: 種鶏 | H2: 肉用鶏 | I2: 雌雄別計 | J2: 合計 | K2: 累 計 | L2: 対前年比(%) | M2: 前年同期累計 | N2: 前年同期合計
B3: 雄 | I3: =SUM(C3:H3) -> 0
B4: 雌 | I4: =SUM(C4:H4) -> 0
A5: イギリス | B5: 無鑑別 | I5: =SUM(C5:H5) -> 0 | J5: =SUM(I3:I5) -> 0 | K5: =J5+'１０月'!K5 -> 150722 | L5: =IF(ISERROR(K5/M5)," ",K5/M5) -> 27.963265 | M5: =N5+'１０月'!M5 -> 5390 | N5: 1416
B6: 雄 | I6: =SUM(C6:H6) -> 0
B7: 雌 | I7: =SUM(C7:H7) -> 0
A8: オランダ | B8: 無鑑別 | I8: =SUM(C8:H8) -> 0 | J8: =SUM(I6:I8) -> 0 | K8: =J8+'１０月'!K8 -> 57449 | L8: =IF(ISERROR(K8/M8)," ",K8/M8) -> 1.0667942 | M8: =N8+'１０月'!M8 -> 53852 | N8: 0
B9: 雄 | I9: =SUM(C9:H9) -> 0
B10: 雌 | I10: =SUM(C10:H10) -> 0
A11: スウェーデン | B11: 無鑑別 | I11: =SUM(C11:H11) -> 0 | J11: =SUM(I9:I11) -> 0 | K11: =J11+'１０月'!K11 -> 0 | L11: =IF(ISERROR(K11/M11)," ",K11/M11) | M11: =N11+'１０月'!M11 -> 0 | N11: 0
B12: 雄 | I12: =SUM(C12:H12) -> 0
B13: 雌 | I13: =SUM(C13:H13) -> 0
A14: ドイツ | B14: 無鑑別 | I14: =SUM(C14:H14) -> 0 | J14: =SUM(I12:I14) -> 0 | K14: =J14+'１０月'!K14 -> 0 | L14: =IF(ISERROR(K14/M14)," ",K14/M14) | M14: =N14+'１０月'!M14 -> 0 | N14: 0
B15: 雄 | I15: =SUM(C15:H15) -> 0
B16: 雌 | I16: =SUM(C16:H16) -> 0
A17: ハンガリー | B17: 無鑑別 | I17: =SUM(C17:H17) -> 0 | J17: =SUM(I15:I17) -> 0 | K17: =J17+'１０月'!K17 -> 0 | L17: =IF(ISERROR(K17/M17)," ",K17/M17) | M17: =N17+'１０月'!M17 -> 0 | N17: 0
B18: 雄 | I18: =SUM(C18:H18) -> 0
B19: 雌 | I19: =SUM(C19:H19) -> 0
A20: フィンランド | B20: 無鑑別 | I20: =SUM(C20:H20) -> 0 | J20: =SUM(I18:I20) -> 0 | K20: =J20+'１０月'!K20 -> 0 | L20: =IF(ISERROR(K20/M20)," ",K20/M20) | M20: =N20+'１０月'!M20 -> 0 | N20: 0
B21: 雄 | I21: =SUM(C21:H21) -> 0
B22: 雌 | I22: =SUM(C22:H22) -> 0
A23: フランス | B23: 無鑑別 | I23: =SUM(C23:H23) -> 0 | J23: =SUM(I21:I23) -> 0 | K23: =J23+'１０月'!K23 -> 0 | L23: =IF(ISERROR(K23/M23)," ",K23/M23) | M23: =N23+'１０月'!M23 -> 0 | N23: 0
B24: 雄 | I24: =SUM(C24:H24) -> 0
B25: 雌 | I25: =SUM(C25:H25) -> 0
A26: アメリカ | B26: 無鑑別 | I26: =SUM(C26:H26) -> 0 | J26: =SUM(I24:I26) -> 0 | K26: =J26+'１０月'!K26 -> 0 | L26: =IF(ISERROR(K26/M26)," ",K26/M26) -> 0 | M26: =N26+'１０月'!M26 -> 4852 | N26: 0
B27: 雄 | I27: =SUM(C27:H27) -> 0
B28: 雌 | I28: =SUM(C28:H28) -> 0
A29: カナダ | B29: 無鑑別 | I29: =SUM(C29:H29) -> 0 | J29: =SUM(I27:I29) -> 0 | K29: =J29+'１０月'!K29 -> 0 | L29: =IF(ISERROR(K29/M29)," ",K29/M29) | M29: =N29+'１０月'!M29 -> 0 | N29: 0
B30: 雄 | I30: =SUM(C30:H30) -> 0
B31: 雌 | I31: =SUM(C31:H31) -> 0
A32: ブラジル | B32: 無鑑別 | I32: =SUM(C32:H32) -> 0 | J32: =SUM(I30:I32) -> 0 | K32: =J32+'１０月'!K32 -> 14954 | L32: =IF(ISERROR(K32/M32)," ",K32/M32) -> 0.56400392 | M32: =N32+'１０月'!M32 -> 26514 | N32: 0
B33: 雄 | I33: =SUM(C33:H33) -> 0
B34: 雌 | I34: =SUM(C34:H34) -> 0
A35: オーストラリア | B35: 無鑑別 | I35: =SUM(C35:H35) -> 0 | J35: =SUM(I33:I35) -> 0 | K35: =J35+'１０月'!K35 -> 0 | L35: =IF(ISERROR(K35/M35)," ",K35/M35) | M35: =N35+'１０月'!M35 -> 0 | N35: 0
B36: 雄 | I36: =SUM(C36:H36) -> 0
B37: 雌 | I37: =SUM(C37:H37) -> 0
A38: ニュー・カレドニア | B38: 無鑑別 | I38: =SUM(C38:H38) -> 0 | J38: =SUM(I36:I38) -> 0 | K38: =J38+'１０月'!K38 -> 0 | L38: =IF(ISERROR(K38/M38)," ",K38/M38) | M38: =N38+'１０月'!M38 -> 0 | N38: 0
B39: 雄 | I39: =SUM(C39:H39) -> 0
B40: 雌 | I40: =SUM(C40:H40) -> 0
A41: ニュージーランド | B41: 無鑑別 | I41: =SUM(C41:H41) -> 0 | J41: =SUM(I39:I41) -> 0 | K41: =J41+'１０月'!K41 -> 23916 | L41: =IF(ISERROR(K41/M41)," ",K41/M41) -> 0.13690459 | M41: =N41+'１０月'!M41 -> 174691 | N41: 24746
B42: 雄 | C42: =C3+C6+C9+C12+C15+C18+C21+C24+C27+C30+C33+C36+C39 -> 0 | D42: =D3+D6+D9+D12+D15+D18+D21+D24+D27+D30+D33+D36+D39 -> 0 | E42: =E3+E6+E9+E12+E15+E18+E21+E24+E27+E30+E33+E36+E39 -> 0 | F42: =F3+F6+F9+F12+F15+F18+F21+F24+F27+F30+F33+F36+F39 -> 0 | G42: =G3+G6+G9+G12+G15+G18+G21+G24+G27+G30+G33+G36+G39 -> 0 | H42: =H3+H6+H9+H12+H15+H18+H21+H24+H27+H30+H33+H36+H39 -> 0 | I42: =I3+I6+I9+I12+I15+I18+I21+I24+I27+I30+I33+I36+I39 -> 0
B43: 雌 | C43: =C4+C7+C10+C13+C16+C19+C22+C25+C28+C31+C34+C37+C40 -> 0 | D43: =D4+D7+D10+D13+D16+D19+D22+D25+D28+D31+D34+D37+D40 -> 0 | E43: =E4+E7+E10+E13+E16+E19+E22+E25+E28+E31+E34+E37+E40 -> 0 | F43: =F4+F7+F10+F13+F16+F19+F22+F25+F28+F31+F34+F37+F40 -> 0 | G43: =G4+G7+G10+G13+G16+G19+G22+G25+G28+G31+G34+G37+G40 -> 0 | H43: =H4+H7+H10+H13+H16+H19+H22+H25+H28+H31+H34+H37+H40 -> 0 | I43: =I4+I7+I10+I13+I16+I19+I22+I25+I28+I31+I34+I37+I40 -> 0
A44: 計 | B44: 無鑑別 | C44: =C5+C8+C11+C14+C17+C20+C23+C26+C29+C32+C35+C38+C41 -> 0 | D44: =D5+D8+D11+D14+D17+D20+D23+D26+D29+D32+D35+D38+D41 -> 0 | E44: =E5+E8+E11+E14+E17+E20+E23+E26+E29+E32+E35+E38+E41 -> 0 | F44: =F5+F8+F11+F14+F17+F20+F23+F26+F29+F32+F35+F38+F41 -> 0 | G44: =G5+G8+G11+G14+G17+G20+G23+G26+G29+G32+G35+G38+G41 -> 0 | H44: =H5+H8+H11+H14+H17+H20+H23+H26+H29+H32+H35+H38+H41 -> 0 | I44: =I5+I8+I11+I14+I17+I20+I23+I26+I29+I32+I35+I38+I41 -> 0 | J44: =J5+J8+J14+J17+J20+J23+J26+J29+J32+J35+J38+J11+J41 -> 0 | K44: =J44+'１０月'!K44 -> 247041 | L44: =IF(ISERROR(K44/M44)," ",K44/M44) -> 0.93117954 | M44: =M5+M8+M11+M14+M17+M20+M23+M26+M29+M32+M35+M38+M41 -> 265299 | N44: =N5+N8+N11+N14+N17+N20+N23+N26+N29+N32+N35+N38+N41 -> 26162
B45: 計 | C45: =SUM(C42:C44) -> 0 | D45: =SUM(D42:D44) -> 0 | E45: =SUM(E42:E44) -> 0 | F45: =SUM(F42:F44) -> 0 | G45: =SUM(G42:G44) -> 0 | H45: =SUM(H42:H44) -> 0 | I45: =SUM(C45:H45) -> 0
A46: 前年同期合計 | D46: 22482 | F46: 24746 | G46: 1416 | I46: =SUM(C46:H46) -> 48644
A47: 対前年比(%) | B47: =IF(ISERROR(B45/B46)," ",B45/B46) | C47: =IF(ISERROR(C45/C46)," ",C45/C46) | D47: =IF(ISERROR(D45/D46)," ",D45/D46) -> 0 | E47: =IF(ISERROR(E45/E46)," ",E45/E46) | F47: =IF(ISERROR(F45/F46)," ",F45/F46) -> 0 | G47: =IF(ISERROR(G45/G46)," ",G45/G46) -> 0 | H47: =IF(ISERROR(H45/H46)," ",H45/H46) | I47: =IF(ISERROR(I45/I46)," ",I45/I46) -> 0
B48: 雄 | C48: =C42+'１０月'!C48 -> 1778 | D48: =D42+'１０月'!D48 -> 2700 | E48: =E42+'１０月'!E48 -> 0 | F48: =F42+'１０月'!F48 -> 32190 | G48: =G42+'１０月'!G48 -> 26092 | H48: =H42+'１０月'!H48 -> 0 | I48: =I42+'１０月'!I48 -> 62760
B49: 雌 | C49: =C43+'１０月'!C49 -> 9045 | D49: =D43+'１０月'!D49 -> 26769 | E49: =E43+'１０月'!E49 -> 0 | F49: =F43+'１０月'!F49 -> 89234 | G49: =G43+'１０月'!G49 -> 59233 | H49: =H43+'１０月'!H49 -> 0 | I49: =I43+'１０月'!I49 -> 184281
A50: 累計 | B50: 無鑑別 | C50: =C44+'１０月'!C50 -> 0 | D50: =D44+'１０月'!D50 -> 0 | E50: =E44+'１０月'!E50 -> 0 | F50: =F44+'１０月'!F50 -> 0 | G50: =G44+'１０月'!G50 -> 0 | H50: =H44+'１０月'!H50 -> 0 | I50: =I44+'１０月'!I50 -> 0
B51: 計 | C51: =SUM(C48:C50) -> 10823 | D51: =SUM(D48:D50) -> 29469 | E51: =SUM(E48:E50) -> 0 | F51: =SUM(F48:F50) -> 121424 | G51: =SUM(G48:G50) -> 85325 | H51: =SUM(H48:H50) -> 0 | I51: =SUM(C51:H51) -> 247041
A52: 前年同期累計 | C52: =C46+'１０月'!C52 -> 21653 | D52: =D46+'１０月'!D52 -> 76334 | E52: =E46+'１０月'!E52 -> 0 | F52: =F46+'１０月'!F52 -> 174691 | G52: =G46+'１０月'!G52 -> 15103 | H52: =H46+'１０月'!H52 -> 0 | I52: =SUM(C52:H52) -> 287781
A53: 対前年比(%) | B53: =IF(ISERROR(B51/B52)," ",B51/B52) | C53: =IF(ISERROR(C51/C52)," ",C51/C52) -> 0.49983836 | D53: =IF(ISERROR(D51/D52)," ",D51/D52) -> 0.3860534 | E53: =IF(ISERROR(E51/E52)," ",E51/E52) | F53: =IF(ISERROR(F51/F52)," ",F51/F52) -> 0.69507874 | G53: =IF(ISERROR(G51/G52)," ",G51/G52) -> 5.6495398 | H53: =IF(ISERROR(H51/H52)," ",H51/H52) | I53: =IF(ISERROR(I51/I52)," ",I51/I52) -> 0.85843402

Sheet １２月
D1: 卵 用 鶏 | G1: 肉 用 鶏
A2: 仕出地域 | B2: 性別 | C2: 原種鶏 | D2: 種鶏 | E2: 採卵鶏 | F2: 原種鶏 | G2: 種鶏 | H2: 肉用鶏 | I2: 雌雄別計 | J2: 合計 | K2: 累 計 | L2: 対前年比(%) | M2: 前年同期累計 | N2: 前年同期合計
B3: 雄 | I3: =SUM(C3:H3) -> 0
B4: 雌 | I4: =SUM(C4:H4) -> 0
A5: イギリス | B5: 無鑑別 | I5: =SUM(C5:H5) -> 0 | J5: =SUM(I3:I5) -> 0 | K5: =J5+'１１月'!K5 -> 150722 | L5: =IF(ISERROR(K5/M5)," ",K5/M5) -> 21.82479 | M5: =N5+'１１月'!M5 -> 6906 | N5: 1516
B6: 雄 | I6: =SUM(C6:H6) -> 0
B7: 雌 | I7: =SUM(C7:H7) -> 0
A8: オランダ | B8: 無鑑別 | I8: =SUM(C8:H8) -> 0 | J8: =SUM(I6:I8) -> 0 | K8: =J8+'１１月'!K8 -> 57449 | L8: =IF(ISERROR(K8/M8)," ",K8/M8) -> 1.0667942 | M8: =N8+'１１月'!M8 -> 53852 | N8: 0
B9: 雄 | I9: =SUM(C9:H9) -> 0
B10: 雌 | I10: =SUM(C10:H10) -> 0
A11: スウェーデン | B11: 無鑑別 | I11: =SUM(C11:H11) -> 0 | J11: =SUM(I9:I11) -> 0 | K11: =J11+'１１月'!K11 -> 0 | L11: =IF(ISERROR(K11/M11)," ",K11/M11) | M11: =N11+'１１月'!M11 -> 0 | N11: 0
B12: 雄 | I12: =SUM(C12:H12) -> 0
B13: 雌 | I13: =SUM(C13:H13) -> 0
A14: ドイツ | B14: 無鑑別 | I14: =SUM(C14:H14) -> 0 | J14: =SUM(I12:I14) -> 0 | K14: =J14+'１１月'!K14 -> 0 | L14: =IF(ISERROR(K14/M14)," ",K14/M14) | M14: =N14+'１１月'!M14 -> 0 | N14: 0
B15: 雄 | I15: =SUM(C15:H15) -> 0
B16: 雌 | I16: =SUM(C16:H16) -> 0
A17: ハンガリー | B17: 無鑑別 | I17: =SUM(C17:H17) -> 0 | J17: =SUM(I15:I17) -> 0 | K17: =J17+'１１月'!K17 -> 0 | L17: =IF(ISERROR(K17/M17)," ",K17/M17) | M17: =N17+'１１月'!M17 -> 0 | N17: 0
B18: 雄 | I18: =SUM(C18:H18) -> 0
B19: 雌 | I19: =SUM(C19:H19) -> 0
A20: フィンランド | B20: 無鑑別 | I20: =SUM(C20:H20) -> 0 | J20: =SUM(I18:I20) -> 0 | K20: =J20+'１１月'!K20 -> 0 | L20: =IF(ISERROR(K20/M20)," ",K20/M20) | M20: =N20+'１１月'!M20 -> 0 | N20: 0
B21: 雄 | I21: =SUM(C21:H21) -> 0
B22: 雌 | I22: =SUM(C22:H22) -> 0
A23: フランス | B23: 無鑑別 | I23: =SUM(C23:H23) -> 0 | J23: =SUM(I21:I23) -> 0 | K23: =J23+'１１月'!K23 -> 0 | L23: =IF(ISERROR(K23/M23)," ",K23/M23) | M23: =N23+'１１月'!M23 -> 0 | N23: 0
B24: 雄 | I24: =SUM(C24:H24) -> 0
B25: 雌 | I25: =SUM(C25:H25) -> 0
A26: アメリカ | B26: 無鑑別 | I26: =SUM(C26:H26) -> 0 | J26: =SUM(I24:I26) -> 0 | K26: =J26+'１１月'!K26 -> 0 | L26: =IF(ISERROR(K26/M26)," ",K26/M26) -> 0 | M26: =N26+'１１月'!M26 -> 4852 | N26: 0
B27: 雄 | I27: =SUM(C27:H27) -> 0
B28: 雌 | I28: =SUM(C28:H28) -> 0
A29: カナダ | B29: 無鑑別 | I29: =SUM(C29:H29) -> 0 | J29: =SUM(I27:I29) -> 0 | K29: =J29+'１１月'!K29 -> 0 | L29: =IF(ISERROR(K29/M29)," ",K29/M29) -> 0 | M29: =N29+'１１月'!M29 -> 5362 | N29: 5362
B30: 雄 | I30: =SUM(C30:H30) -> 0
B31: 雌 | I31: =SUM(C31:H31) -> 0
A32: ブラジル | B32: 無鑑別 | I32: =SUM(C32:H32) -> 0 | J32: =SUM(I30:I32) -> 0 | K32: =J32+'１１月'!K32 -> 14954 | L32: =IF(ISERROR(K32/M32)," ",K32/M32) -> 0.48401088 | M32: =N32+'１１月'!M32 -> 30896 | N32: 4382
B33: 雄 | I33: =SUM(C33:H33) -> 0
B34: 雌 | I34: =SUM(C34:H34) -> 0
A35: オーストラリア | B35: 無鑑別 | I35: =SUM(C35:H35) -> 0 | J35: =SUM(I33:I35) -> 0 | K35: =J35+'１１月'!K35 -> 0 | L35: =IF(ISERROR(K35/M35)," ",K35/M35) | M35: =N35+'１１月'!M35 -> 0 | N35: 0
B36: 雄 | I36: =SUM(C36:H36) -> 0
B37: 雌 | I37: =SUM(C37:H37) -> 0
A38: ニュー・カレドニア | B38: 無鑑別 | I38: =SUM(C38:H38) -> 0 | J38: =SUM(I36:I38) -> 0 | K38: =J38+'１１月'!K38 -> 0 | L38: =IF(ISERROR(K38/M38)," ",K38/M38) | M38: =N38+'１１月'!M38 -> 0 | N38: 0
B39: 雄 | I39: =SUM(C39:H39) -> 0
B40: 雌 | I40: =SUM(C40:H40) -> 0
A41: ニュージーランド | B41: 無鑑別 | I41: =SUM(C41:H41) -> 0 | J41: =SUM(I39:I41) -> 0 | K41: =J41+'１１月'!K41 -> 23916 | L41: =IF(ISERROR(K41/M41)," ",K41/M41) -> 0.1210716 | M41: =N41+'１１月'!M41 -> 197536 | N41: 22845
B42: 雄 | C42: =C3+C6+C9+C12+C15+C18+C21+C24+C27+C30+C33+C36+C39 -> 0 | D42: =D3+D6+D9+D12+D15+D18+D21+D24+D27+D30+D33+D36+D39 -> 0 | E42: =E3+E6+E9+E12+E15+E18+E21+E24+E27+E30+E33+E36+E39 -> 0 | F42: =F3+F6+F9+F12+F15+F18+F21+F24+F27+F30+F33+F36+F39 -> 0 | G42: =G3+G6+G9+G12+G15+G18+G21+G24+G27+G30+G33+G36+G39 -> 0 | H42: =H3+H6+H9+H12+H15+H18+H21+H24+H27+H30+H33+H36+H39 -> 0 | I42: =I3+I6+I9+I12+I15+I18+I21+I24+I27+I30+I33+I36+I39 -> 0
B43: 雌 | C43: =C4+C7+C10+C13+C16+C19+C22+C25+C28+C31+C34+C37+C40 -> 0 | D43: =D4+D7+D10+D13+D16+D19+D22+D25+D28+D31+D34+D37+D40 -> 0 | E43: =E4+E7+E10+E13+E16+E19+E22+E25+E28+E31+E34+E37+E40 -> 0 | F43: =F4+F7+F10+F13+F16+F19+F22+F25+F28+F31+F34+F37+F40 -> 0 | G43: =G4+G7+G10+G13+G16+G19+G22+G25+G28+G31+G34+G37+G40 -> 0 | H43: =H4+H7+H10+H13+H16+H19+H22+H25+H28+H31+H34+H37+H40 -> 0 | I43: =I4+I7+I10+I13+I16+I19+I22+I25+I28+I31+I34+I37+I40 -> 0
A44: 計 | B44: 無鑑別 | C44: =C5+C8+C11+C14+C17+C20+C23+C26+C29+C32+C35+C38+C41 -> 0 | D44: =D5+D8+D11+D14+D17+D20+D23+D26+D29+D32+D35+D38+D41 -> 0 | E44: =E5+E8+E11+E14+E17+E20+E23+E26+E29+E32+E35+E38+E41 -> 0 | F44: =F5+F8+F11+F14+F17+F20+F23+F26+F29+F32+F35+F38+F41 -> 0 | G44: =G5+G8+G11+G14+G17+G20+G23+G26+G29+G32+G35+G38+G41 -> 0 | H44: =H5+H8+H11+H14+H17+H20+H23+H26+H29+H32+H35+H38+H41 -> 0 | I44: =I5+I8+I11+I14+I17+I20+I23+I26+I29+I32+I35+I38+I41 -> 0 | J44: =J5+J8+J14+J17+J20+J23+J26+J29+J32+J35+J38+J11+J41 -> 0 | K44: =J44+'１１月'!K44 -> 247041 | L44: =IF(ISERROR(K44/M44)," ",K44/M44) -> 0.82510922 | M44: =M5+M8+M11+M14+M17+M20+M23+M26+M29+M32+M35+M38+M41 -> 299404 | N44: =N5+N8+N11+N14+N17+N20+N23+N26+N29+N32+N35+N38+N41 -> 34105
B45: 計 | C45: =SUM(C42:C44) -> 0 | D45: =SUM(D42:D44) -> 0 | E45: =SUM(E42:E44) -> 0 | F45: =SUM(F42:F44) -> 0 | G45: =SUM(G42:G44) -> 0 | H45: =SUM(H42:H44) -> 0 | I45: =SUM(C45:H45) -> 0
A46: 前年同期合計 | F46: 22845 | G46: 11260 | I46: =SUM(C46:H46) -> 34105
A47: 対前年比(%) | B47: =IF(ISERROR(B45/B46)," ",B45/B46) | C47: =IF(ISERROR(C45/C46)," ",C45/C46) | D47: =IF(ISERROR(D45/D46)," ",D45/D46) | E47: =IF(ISERROR(E45/E46)," ",E45/E46) | F47: =IF(ISERROR(F45/F46)," ",F45/F46) -> 0 | G47: =IF(ISERROR(G45/G46)," ",G45/G46) -> 0 | H47: =IF(ISERROR(H45/H46)," ",H45/H46) | I47: =IF(ISERROR(I45/I46)," ",I45/I46) -> 0
B48: 雄 | C48: =C42+'１１月'!C48 -> 1778 | D48: =D42+'１１月'!D48 -> 2700 | E48: =E42+'１１月'!E48 -> 0 | F48: =F42+'１１月'!F48 -> 32190 | G48: =G42+'１１月'!G48 -> 26092 | H48: =H42+'１１月'!H48 -> 0 | I48: =I42+'１１月'!I48 -> 62760
B49: 雌 | C49: =C43+'１１月'!C49 -> 9045 | D49: =D43+'１１月'!D49 -> 26769 | E49: =E43+'１１月'!E49 -> 0 | F49: =F43+'１１月'!F49 -> 89234 | G49: =G43+'１１月'!G49 -> 59233 | H49: =H43+'１１月'!H49 -> 0 | I49: =I43+'１１月'!I49 -> 184281
A50: 累計 | B50: 無鑑別 | C50: =C44+'１１月'!C50 -> 0 | D50: =D44+'１１月'!D50 -> 0 | E50: =E44+'１１月'!E50 -> 0 | F50: =F44+'１１月'!F50 -> 0 | G50: =G44+'１１月'!G50 -> 0 | H50: =H44+'１１月'!H50 -> 0 | I50: =I44+'１１月'!I50 -> 0
B51: 計 | C51: =SUM(C48:C50) -> 10823 | D51: =SUM(D48:D50) -> 29469 | E51: =SUM(E48:E50) -> 0 | F51: =SUM(F48:F50) -> 121424 | G51: =SUM(G48:G50) -> 85325 | H51: =SUM(H48:H50) -> 0 | I51: =SUM(C51:H51) -> 247041
A52: 前年同期累計 | C52: =C46+'１１月'!C52 -> 21653 | D52: =D46+'１１月'!D52 -> 76334 | E52: =E46+'１１月'!E52 -> 0 | F52: =F46+'１１月'!F52 -> 197536 | G52: =G46+'１１月'!G52 -> 26363 | H52: =H46+'１１月'!H52 -> 0 | I52: =SUM(C52:H52) -> 321886
A53: 対前年比(%) | B53: =IF(ISERROR(B51/B52)," ",B51/B52) | C53: =IF(ISERROR(C51/C52)," ",C51/C52) -> 0.49983836 | D53: =IF(ISERROR(D51/D52)," ",D51/D52) -> 0.3860534 | E53: =IF(ISERROR(E51/E52)," ",E51/E52) | F53: =IF(ISERROR(F51/F52)," ",F51/F52) -> 0.61469302 | G53: =IF(ISERROR(G51/G52)," ",G51/G52) -> 3.2365436 | H53: =IF(ISERROR(H51/H52)," ",H51/H52) | I53: =IF(ISERROR(I51/I52)," ",I51/I52) -> 0.76747979

Sheet 累計
D1: 卵 用 鶏 | G1: 肉 用 鶏 | I1: 合計羽数 | L1: 現在までの 対前年総数比
A2: 仕出地域 | B2: 性別 | C2: 原種鶏 | D2: 種鶏 | E2: 採卵鶏 | F2: 原種鶏 | G2: 種鶏 | H2: 肉用鶏 | I2: 雌雄別計 | J2: 総計 | K2: 前年総計
B3: 雄 | C3: =SUM('１月:３月'!C3) -> 0 | D3: =SUM('１月:３月'!D3) -> 0 | E3: =SUM('１月:３月'!E3) -> 0 | F3: =SUM('１月:３月'!F3) -> 6611 | G3: =SUM('１月:３月'!G3) -> 6749 | H3: =SUM('１月:３月'!H3) -> 0 | I3: =SUM(C3:H3) -> 13360
B4: 雌 | C4: =SUM('１月:３月'!C4) -> 0 | D4: =SUM('１月:３月'!D4) -> 0 | E4: =SUM('１月:３月'!E4) -> 0 | F4: =SUM('１月:３月'!F4) -> 18762 | G4: =SUM('１月:３月'!G4) -> 22549 | H4: =SUM('１月:３月'!H4) -> 0 | I4: =SUM(C4:H4) -> 41311
A5: イギリス | B5: 無鑑別 | C5: =SUM('１月:３月'!C5) -> 0 | D5: =SUM('１月:３月'!D5) -> 0 | E5: =SUM('１月:３月'!E5) -> 0 | F5: =SUM('１月:３月'!F5) -> 0 | G5: =SUM('１月:３月'!G5) -> 0 | H5: =SUM('１月:３月'!H5) -> 0 | I5: =SUM(C5:H5) -> 0 | J5: =SUM(I3:I5) -> 54671 | K5: 0 | L5: =IF(ISERROR(J5/K5), " ",(J5/K5))
B6: 雄 | C6: =SUM('１月:３月'!C6) -> 0 | D6: =SUM('１月:３月'!D6) -> 0 | E6: =SUM('１月:３月'!E6) -> 0 | F6: =SUM('１月:３月'!F6) -> 0 | G6: =SUM('１月:３月'!G6) -> 0 | H6: =SUM('１月:３月'!H6) -> 0 | I6: =SUM(C6:H6) -> 0 | K6: 0
B7: 雌 | C7: =SUM('１月:３月'!C7) -> 0 | D7: =SUM('１月:３月'!D7) -> 0 | E7: =SUM('１月:３月'!E7) -> 0 | F7: =SUM('１月:３月'!F7) -> 0 | G7: =SUM('１月:３月'!G7) -> 0 | H7: =SUM('１月:３月'!H7) -> 0 | I7: =SUM(C7:H7) -> 0 | K7: 0
A8: オランダ | B8: 無鑑別 | C8: =SUM('１月:３月'!C8) -> 0 | D8: =SUM('１月:３月'!D8) -> 0 | E8: =SUM('１月:３月'!E8) -> 0 | F8: =SUM('１月:３月'!F8) -> 0 | G8: =SUM('１月:３月'!G8) -> 0 | H8: =SUM('１月:３月'!H8) -> 0 | I8: =SUM(C8:H8) -> 0 | J8: =SUM(I6:I8) -> 0 | K8: 0 | L8: =IF(ISERROR(J8/K8), " ",(J8/K8))
B9: 雄 | C9: =SUM('１月:３月'!C9) -> 0 | D9: =SUM('１月:３月'!D9) -> 0 | E9: =SUM('１月:３月'!E9) -> 0 | F9: =SUM('１月:３月'!F9) -> 0 | G9: =SUM('１月:３月'!G9) -> 0 | H9: =SUM('１月:３月'!H9) -> 0 | I9: =SUM(C9:H9) -> 0 | K9: 0
B10: 雌 | C10: =SUM('１月:３月'!C10) -> 0 | D10: =SUM('１月:３月'!D10) -> 0 | E10: =SUM('１月:３月'!E10) -> 0 | F10: =SUM('１月:３月'!F10) -> 0 | G10: =SUM('１月:３月'!G10) -> 0 | H10: =SUM('１月:３月'!H10) -> 0 | I10: =SUM(C10:H10) -> 0 | K10: 0
A11: フィンランド | B11: 無鑑別 | C11: =SUM('１月:３月'!C11) -> 0 | D11: =SUM('１月:３月'!D11) -> 0 | E11: =SUM('１月:３月'!E11) -> 0 | F11: =SUM('１月:３月'!F11) -> 0 | G11: =SUM('１月:３月'!G11) -> 0 | H11: =SUM('１月:３月'!H11) -> 0 | I11: =SUM(C11:H11) -> 0 | J11: =SUM(I9:I11) -> 0 | K11: 0 | L11: =IF(ISERROR(J11/K11), " ",(J11/K11))
B12: 雄 | C12: =SUM('１月:３月'!C12) -> 0 | D12: =SUM('１月:３月'!D12) -> 0 | E12: =SUM('１月:３月'!E12) -> 0 | F12: =SUM('１月:３月'!F12) -> 0 | G12: =SUM('１月:３月'!G12) -> 0 | H12: =SUM('１月:３月'!H12) -> 0 | I12: =SUM(C12:H12) -> 0 | K12: 0
B13: 雌 | C13: =SUM('１月:３月'!C13) -> 0 | D13: =SUM('１月:３月'!D13) -> 0 | E13: =SUM('１月:３月'!E13) -> 0 | F13: =SUM('１月:３月'!F13) -> 0 | G13: =SUM('１月:３月'!G13) -> 0 | H13: =SUM('１月:３月'!H13) -> 0 | I13: =SUM(C13:H13) -> 0 | K13: 0
A14: フランス | B14: 無鑑別 | C14: =SUM('１月:３月'!C14) -> 0 | D14: =SUM('１月:３月'!D14) -> 0 | E14: =SUM('１月:３月'!E14) -> 0 | F14: =SUM('１月:３月'!F14) -> 0 | G14: =SUM('１月:３月'!G14) -> 0 | H14: =SUM('１月:３月'!H14) -> 0 | I14: =SUM(C14:H14) -> 0 | J14: =SUM(I12:I14) -> 0 | K14: 0 | L14: =IF(ISERROR(J14/K14), " ",(J14/K14))
B15: 雄 | C15: =SUM('１月:３月'!C15) -> 0 | D15: =SUM('１月:３月'!D15) -> 0 | E15: =SUM('１月:３月'!E15) -> 0 | F15: =SUM('１月:３月'!F15) -> 0 | G15: =SUM('１月:３月'!G15) -> 0 | H15: =SUM('１月:３月'!H15) -> 0 | I15: =SUM(C15:H15) -> 0 | K15: 0
B16: 雌 | C16: =SUM('１月:３月'!C16) -> 0 | D16: =SUM('１月:３月'!D16) -> 0 | E16: =SUM('１月:３月'!E16) -> 0 | F16: =SUM('１月:３月'!F16) -> 0 | G16: =SUM('１月:３月'!G16) -> 0 | H16: =SUM('１月:３月'!H16) -> 0 | I16: =SUM(C16:H16) -> 0 | K16: 0
A17: ドイツ | B17: 無鑑別 | C17: =SUM('１月:３月'!C17) -> 0 | D17: =SUM('１月:３月'!D17) -> 0 | E17: =SUM('１月:３月'!E17) -> 0 | F17: =SUM('１月:３月'!F17) -> 0 | G17: =SUM('１月:３月'!G17) -> 0 | H17: =SUM('１月:３月'!H17) -> 0 | I17: =SUM(C17:H17) -> 0 | J17: =SUM(I15:I17) -> 0 | K17: 0 | L17: =IF(ISERROR(J17/K17), " ",(J17/K17))
B18: 雄 | C18: =SUM('１月:３月'!C18) -> 0 | D18: =SUM('１月:３月'!D18) -> 0 | E18: =SUM('１月:３月'!E18) -> 0 | F18: =SUM('１月:３月'!F18) -> 0 | G18: =SUM('１月:３月'!G18) -> 0 | H18: =SUM('１月:３月'!H18) -> 0 | I18: =SUM(C18:H18) -> 0 | K18: 0
B19: 雌 | C19: =SUM('１月:３月'!C19) -> 0 | D19: =SUM('１月:３月'!D19) -> 0 | E19: =SUM('１月:３月'!E19) -> 0 | F19: =SUM('１月:３月'!F19) -> 0 | G19: =SUM('１月:３月'!G19) -> 0 | H19: =SUM('１月:３月'!H19) -> 0 | I19: =SUM(C19:H19) -> 0 | K19: 0
A20: ハンガリー | B20: 無鑑別 | C20: =SUM('１月:３月'!C20) -> 0 | D20: =SUM('１月:３月'!D20) -> 0 | E20: =SUM('１月:３月'!E20) -> 0 | F20: =SUM('１月:３月'!F20) -> 0 | G20: =SUM('１月:３月'!G20) -> 0 | H20: =SUM('１月:３月'!H20) -> 0 | I20: =SUM(C20:H20) -> 0 | J20: =SUM(I18:I20) -> 0 | K20: 0 | L20: =IF(ISERROR(J20/K20), " ",(J20/K20))
B21: 雄 | C21: =SUM('１月:３月'!C21) -> 0 | D21: =SUM('１月:３月'!D21) -> 0 | E21: =SUM('１月:３月'!E21) -> 0 | F21: =SUM('１月:３月'!F21) -> 0 | G21: =SUM('１月:３月'!G21) -> 0 | H21: =SUM('１月:３月'!H21) -> 0 | I21: =SUM(C21:H21) -> 0 | K21: 0
B22: 雌 | C22: =SUM('１月:３月'!C22) -> 0 | D22: =SUM('１月:３月'!D22) -> 0 | E22: =SUM('１月:３月'!E22) -> 0 | F22: =SUM('１月:３月'!F22) -> 0 | G22: =SUM('１月:３月'!G22) -> 0 | H22: =SUM('１月:３月'!H22) -> 0 | I22: =SUM(C22:H22) -> 0 | K22: 0
A23: ｵｰｽﾄﾗﾘｱ | B23: 無鑑別 | C23: =SUM('１月:３月'!C23) -> 0 | D23: =SUM('１月:３月'!D23) -> 0 | E23: =SUM('１月:３月'!E23) -> 0 | F23: =SUM('１月:３月'!F23) -> 0 | G23: =SUM('１月:３月'!G23) -> 0 | H23: =SUM('１月:３月'!H23) -> 0 | I23: =SUM(C23:H23) -> 0 | J23: =SUM(I21:I23) -> 0 | K23: 0 | L23: =IF(ISERROR(J23/K23), " ",(J23/K23))
B24: 雄 | C24: =SUM('１月:３月'!C24) -> 0 | D24: =SUM('１月:３月'!D24) -> 0 | E24: =SUM('１月:３月'!E24) -> 0 | F24: =SUM('１月:３月'!F24) -> 0 | G24: =SUM('１月:３月'!G24) -> 0 | H24: =SUM('１月:３月'!H24) -> 0 | I24: =SUM(C24:H24) -> 0 | K24: 0
B25: 雌 | C25: =SUM('１月:３月'!C25) -> 0 | D25: =SUM('１月:３月'!D25) -> 0 | E25: =SUM('１月:３月'!E25) -> 0 | F25: =SUM('１月:３月'!F25) -> 0 | G25: =SUM('１月:３月'!G25) -> 0 | H25: =SUM('１月:３月'!H25) -> 0 | I25: =SUM(C25:H25) -> 0 | K25: 0
A26: カナダ | B26: 無鑑別 | C26: =SUM('１月:３月'!C26) -> 0 | D26: =SUM('１月:３月'!D26) -> 0 | E26: =SUM('１月:３月'!E26) -> 0 | F26: =SUM('１月:３月'!F26) -> 0 | G26: =SUM('１月:３月'!G26) -> 0 | H26: =SUM('１月:３月'!H26) -> 0 | I26: =SUM(C26:H26) -> 0 | J26: =SUM(I24:I26) -> 0 | K26: 0 | L26: =IF(ISERROR(J26/K26), " ",(J26/K26))
B27: 雄 | C27: =SUM('１月:３月'!C27) -> 0 | D27: =SUM('１月:３月'!D27) -> 0 | E27: =SUM('１月:３月'!E27) -> 0 | F27: =SUM('１月:３月'!F27) -> 0 | G27: =SUM('１月:３月'!G27) -> 0 | H27: =SUM('１月:３月'!H27) -> 0 | I27: =SUM(C27:H27) -> 0 | K27: 0
B28: 雌 | C28: =SUM('１月:３月'!C28) -> 0 | D28: =SUM('１月:３月'!D28) -> 0 | E28: =SUM('１月:３月'!E28) -> 0 | F28: =SUM('１月:３月'!F28) -> 0 | G28: =SUM('１月:３月'!G28) -> 0 | H28: =SUM('１月:３月'!H28) -> 0 | I28: =SUM(C28:H28) -> 0 | K28: 0
A29: アメリカ | B29: 無鑑別 | C29: =SUM('１月:３月'!C29) -> 0 | D29: =SUM('１月:３月'!D29) -> 0 | E29: =SUM('１月:３月'!E29) -> 0 | F29: =SUM('１月:３月'!F29) -> 0 | G29: =SUM('１月:３月'!G29) -> 0 | H29: =SUM('１月:３月'!H29) -> 0 | I29: =SUM(C29:H29) -> 0 | J29: =SUM(I27:I29) -> 0 | K29: 0 | L29: =IF(ISERROR(J29/K29), " ",(J29/K29))
B30: 雄 | C30: =SUM('１月:３月'!C30) -> 1035 | D30: =SUM('１月:３月'!D30) -> 0 | E30: =SUM('１月:３月'!E30) -> 0 | F30: =SUM('１月:３月'!F30) -> 0 | G30: =SUM('１月:３月'!G30) -> 0 | H30: =SUM('１月:３月'!H30) -> 0 | I30: =SUM(C30:H30) -> 1035 | K30: 0
B31: 雌 | C31: =SUM('１月:３月'!C31) -> 1762 | D31: =SUM('１月:３月'!D31) -> 0 | E31: =SUM('１月:３月'!E31) -> 0 | F31: =SUM('１月:３月'!F31) -> 0 | G31: =SUM('１月:３月'!G31) -> 0 | H31: =SUM('１月:３月'!H31) -> 0 | I31: =SUM(C31:H31) -> 1762 | K31: 0
A32: ﾆｭｰｼﾞｰﾗﾝﾄﾞ | B32: 無鑑別 | C32: =SUM('１月:３月'!C32) -> 0 | D32: =SUM('１月:３月'!D32) -> 0 | E32: =SUM('１月:３月'!E32) -> 0 | F32: =SUM('１月:３月'!F32) -> 0 | G32: =SUM('１月:３月'!G32) -> 0 | H32: =SUM('１月:３月'!H32) -> 0 | I32: =SUM(C32:H32) -> 0 | J32: =SUM(I30:I32) -> 2797 | K32: 0 | L32: =IF(ISERROR(J32/K32), " ",(J32/K32))
B33: 雄 | C33: =SUM('１月:３月'!C33) -> 0 | D33: =SUM('１月:３月'!D33) -> 0 | E33: =SUM('１月:３月'!E33) -> 0 | F33: =SUM('１月:３月'!F33) -> 0 | G33: =SUM('１月:３月'!G33) -> 0 | H33: =SUM('１月:３月'!H33) -> 0 | I33: =SUM(C33:H33) -> 0 | K33: 0
B34: 雌 | C34: =SUM('１月:３月'!C34) -> 0 | D34: =SUM('１月:３月'!D34) -> 0 | E34: =SUM('１月:３月'!E34) -> 0 | F34: =SUM('１月:３月'!F34) -> 0 | G34: =SUM('１月:３月'!G34) -> 0 | H34: =SUM('１月:３月'!H34) -> 0 | I34: =SUM(C34:H34) -> 0 | K34: 0
A35: ブラジル | B35: 無鑑別 | C35: =SUM('１月:３月'!C35) -> 0 | D35: =SUM('１月:３月'!D35) -> 0 | E35: =SUM('１月:３月'!E35) -> 0 | F35: =SUM('１月:３月'!F35) -> 0 | G35: =SUM('１月:３月'!G35) -> 0 | H35: =SUM('１月:３月'!H35) -> 0 | I35: =SUM(C35:H35) -> 0 | J35: =SUM(I33:I35) -> 0 | K35: 0 | L35: =IF(ISERROR(J35/K35), " ",(J35/K35))
B36: 雄 | C36: =C3+C6+C9+C12+C15+C18+C21+C24+C27+C30+C33 -> 1035 | D36: =D3+D6+D9+D12+D15+D18+D21+D24+D27+D30+D33 -> 0 | E36: =E3+E6+E9+E12+E15+E18+E21+E24+E27+E30+E33 -> 0 | F36: =F3+F6+F9+F12+F15+F18+F21+F24+F27+F30+F33 -> 6611 | G36: =G3+G6+G9+G12+G15+G18+G21+G24+G27+G30+G33 -> 6749 | H36: =H3+H6+H9+H12+H15+H18+H21+H24+H27+H30+H33 -> 0 | I36: =I3+I6+I9+I12+I15+I18+I21+I24+I27+I30+I33 -> 14395 | J36: =J3+J6+J9+J12+J15+J18+J21+J24+J27+J30+J33 -> 0 | K36: 0
B37: 雌 | C37: =C4+C7+C10+C13+C16+C19+C22+C25+C28+C31+C34 -> 1762 | D37: =D4+D7+D10+D13+D16+D19+D22+D25+D28+D31+D34 -> 0 | E37: =E4+E7+E10+E13+E16+E19+E22+E25+E28+E31+E34 -> 0 | F37: =F4+F7+F10+F13+F16+F19+F22+F25+F28+F31+F34 -> 18762 | G37: =G4+G7+G10+G13+G16+G19+G22+G25+G28+G31+G34 -> 22549 | H37: =H4+H7+H10+H13+H16+H19+H22+H25+H28+H31+H34 -> 0 | I37: =I4+I7+I10+I13+I16+I19+I22+I25+I28+I31+I34 -> 43073 | J37: =J4+J7+J10+J13+J16+J19+J22+J25+J28+J31+J34 -> 0 | K37: 0
A38: 計 | B38: 無鑑別 | C38: =C5+C8+C11+C14+C17+C20+C23+C26+C29+C32+C35 -> 0 | D38: =D5+D8+D11+D14+D17+D20+D23+D26+D29+D32+D35 -> 0 | E38: =E5+E8+E11+E14+E17+E20+E23+E26+E29+E32+E35 -> 0 | F38: =F5+F8+F11+F14+F17+F20+F23+F26+F29+F32+F35 -> 0 | G38: =G5+G8+G11+G14+G17+G20+G23+G26+G29+G32+G35 -> 0 | H38: =H5+H8+H11+H14+H17+H20+H23+H26+H29+H32+H35 -> 0 | I38: =I5+I8+I14+I17+I20+I23+I26+I29+I32+I11+I35 -> 0 | J38: =J5+J8+J14+J17+J20+J23+J26+J29+J32+J11+J35 -> 57468 | K38: 0 | L38: =IF(ISERROR(J38/K38), " ",(J38/K38))
B39: 計 | C39: =SUM(C36:C38) -> 2797 | D39: =SUM(D36:D38) -> 0 | E39: =SUM(E36:E38) -> 0 | F39: =SUM(F36:F38) -> 25373 | G39: =SUM(G36:G38) -> 29298 | H39: =SUM(H36:H38) -> 0 | I39: =SUM(C39:H39) -> 57468
A40: 前年総計
A41: 現在までの対前総数年比(%) | B41: =IF(ISERROR(#REF!/B40)," ",#REF!/B40) | C41: =IF(ISERROR(C39/C40), " ",(C39/C40)) | D41: =IF(ISERROR(D39/D40), " ",(D39/D40)) | E41: =IF(ISERROR(E39/E40), " ",(E39/E40)) | F41: =IF(ISERROR(F39/F40), " ",(F39/F40)) | G41: =IF(ISERROR(G39/G40), " ",(G39/G40)) | H41: =IF(ISERROR(H39/H40), " ",(H39/H40)) | I41: =IF(ISERROR(I39/I40), " ",(I39/I40))
C44: =C38 -> 0
C45: =SUM(C42:C44) -> 0 | I45: =SUM(C45:H45) -> 0
I47: =IF(ISERROR(I45/I46)," ",I45/I46) | K47: =IF(ISERROR(K45/K46)," ",K45/K46)
