Workbook

Sheet 動物
B2: 動物の輸出入検疫速報（令和７年６月分）
E4: (単位：頭、羽）
C5: 用 途 | D5: 輸 入 | E5: 輸 出
B6: 牛 | C6: 乳用繁殖用 | D6: - | E6: -
C7: 肉用繁殖用 | D7: - | E7: -
C8: 肥育用 | D8: - | E8: -
C9: と畜場直行用 | D9: - | E9: -
C10: その他 | D10: - | E10: -
B11: 豚 | C11: 繁殖用 | D11: 52 | E11: -
C12: その他 | D12: - | E12: -
B13: めん羊 | D13: - | E13: -
B14: 山羊 | D14: - | E14: -
B15: その他の偶蹄類 | D15: - | E15: -
B16: 馬 | C16: 繁殖用 | D16: 1 | E16: 5
C17: 乗用 | D17: 5 | E17: -
C18: 競走用 | D18: 4 | E18: -
C19: 肥育用 | D19: 428 | E19: -
C20: と畜場直行用 | D20: - | E20: -
C21: その他 | D21: - | E21: -
B22: その他の馬科 | D22: - | E22: -
B23: うさぎ | D23: 33 | E23: 14
B24: 鶏 | D24: - | E24: -
B25: うずら | D25: - | E25: -
B26: だちょう | D26: - | E26: -
B27: 七面鳥 | D27: - | E27: -
B28: あひる | D28: - | E28: -
B29: がちょう | D29: - | E29: -
B30: その他のかも目の鳥類 | D30: - | E30: -
B31: きじ | D31: - | E31: -
B32: ほろほろ鳥 | D32: - | E32: -
B33: 初生ひな（鶏） | D33: 29737 | E33: -
B34: 初生ひな（その他） | D34: - | E34: -
B35: 種卵（個） | D35: - | E35: -
B36: 蜜蜂（群） | D36: - | E36: -
B37: 指定検疫物以外の動物（注２） | E37: 8017
B38: 犬 | D38: 741 | E38: 718
B39: 猫 | D39: 424 | E39: 349
B40: あらいぐま | D40: - | E40: -
B41: きつね | D41: - | E41: -
B42: スカンク | D42: - | E42: -
B43: サル | D43: -
B45: （資料）動物検疫所調べ
B46: （注）１ 解放頭羽数ベースの速報値のため、数値が変更となることがある。
B47: ２ 家畜伝染病予防法第４５条第１項第１号に基づく検査を実施した動物。

Sheet 輸入畜産物 
A1: 輸入畜産物検疫数量速報（令和７年６月分） | G1: （単位：Kg） | M1: 種類 | N1: 計
A2: 骨類 | B2: 骨 | C2: 砕骨 | D2: 蹄角 | E2: 骨腱 | F2: 蹄角粉 | G2: その他の骨 | H2: 計 | K2: 骨 | L2: B3 | M2: 骨 | N2: =VLOOKUP(M2,'[1]輸入畜産物ピボット(同一データを2カ所に貼る)'!$D$2:$E$120,2,FALSE) -> 865497 | O2: L2
B3: 865497 | C3: 1947718.2 | D3: 4047.4 | E3: 126710.21 | F3: 50000 | G3: - | H3: 2993972.8 | K3: 砕骨 | L3: C3 | M3: 砕骨 | N3: =VLOOKUP(M3,'[1]輸入畜産物ピボット(同一データを2カ所に貼る)'!$D$2:$E$120,2,FALSE) -> 1947718.2 | O3: L3
A4: 肉類 | B4: 牛肉 | C4: 豚肉 | D4: めん羊肉 | E4: 山羊肉 | F4: 鹿肉 | G4: その他の 偶蹄類肉 | H4: 加熱処理牛肉 | K4: 蹄角 | L4: D3 | M4: 蹄角 | N4: =VLOOKUP(M4,'[1]輸入畜産物ピボット(同一データを2カ所に貼る)'!$D$2:$E$120,2,FALSE) -> 4047.4 | O4: L4
B5: 49213679 | C5: 97146606 | D5: 2327137.5 | E5: 83514.85 | F5: - | G5: - | H5: 55505.56 | K5: 骨腱 | L5: E3 | M5: 骨腱 | N5: =VLOOKUP(M5,'[1]輸入畜産物ピボット(同一データを2カ所に貼る)'!$D$2:$E$120,2,FALSE) -> 126710.21 | O5: L5 | P5: =SUM(N2:N5) -> 2943972.8
B6: 加熱処理豚肉 | C6: 加熱処理 その他の偶蹄類肉 | D6: ハム | E6: 加熱処理ハム | F6: ソーセージ | G6: 加熱処理 ソーセージ | H6: ベーコン | K6: 生骨粉 | M6: 生骨粉 | N6: =VLOOKUP(M6,'[1]輸入畜産物ピボット(同一データを2カ所に貼る)'!$D$2:$E$120,2,FALSE) -> #N/A | O6: L6
B7: 723189.19 | C7: - | D7: 203710.31 | E7: 39543.21 | F7: 1172918.2 | G7: 680646.43 | H7: 118913.88 | K7: 加熱処理骨粉 | M7: 加熱処理骨粉 | N7: =VLOOKUP(M7,'[1]輸入畜産物ピボット(同一データを2カ所に貼る)'!$D$2:$E$120,2,FALSE) -> #N/A | O7: L7
B8: 加熱処理 ベーコン | C8: 馬肉 | D8: うさぎ肉 | E8: 家きん肉 | F8: 犬肉 | G8: 非加熱 その他の肉 | H8: 加熱処理 その他の肉 | K8: 蹄角粉 | L8: H3 | M8: 蹄角粉 | N8: =VLOOKUP(M8,'[1]輸入畜産物ピボット(同一データを2カ所に貼る)'!$D$2:$E$120,2,FALSE) -> 50000 | O8: L8
B9: 1879.58 | C9: 376183.23 | D9: 4087.46 | E9: 52323002 | F9: - | G9: 1024307.6 | H9: 3595564.9 | K9: その他の骨 | L9: B5 | M9: その他の骨 | N9: =VLOOKUP(M9,'[1]輸入畜産物ピボット(同一データを2カ所に貼る)'!$D$2:$E$120,2,FALSE) -> #N/A | O9: L9
B10: 加熱処理 家きん肉 | C10: 加熱処理 その他の家きん肉 | H10: 計 | K10: 牛肉 | L10: B5 | M10: 牛肉 | N10: =VLOOKUP(M10,'[1]輸入畜産物ピボット(同一データを2カ所に貼る)'!$D$2:$E$120,2,FALSE) -> 49213679 | O10: L10
B11: 39653944 | C11: 3494153.6 | H11: 2.5223849e+08 | K11: 豚肉 | L11: C5 | M11: 豚肉 | N11: =VLOOKUP(M11,'[1]輸入畜産物ピボット(同一データを2カ所に貼る)'!$D$2:$E$120,2,FALSE) -> 97146606 | O11: L11
A12: 臓器類 | B12: 牛臓器 | C12: 豚臓器 | D12: その他の偶蹄類 の臓器 | E12: 加熱処理 牛の臓器 | F12: 加熱処理 豚の臓器 | G12: 加熱処理その他の 偶蹄類の臓器 | H12: 偶蹄類以外の 臓器 | K12: めん羊肉 | L12: D5 | M12: めん羊肉 | N12: =VLOOKUP(M12,'[1]輸入畜産物ピボット(同一データを2カ所に貼る)'!$D$2:$E$120,2,FALSE) -> 2327137.5 | O12: L12
B13: 64646.44 | C13: 43427 | D13: 24436.84 | E13: - | F13: - | G13: - | H13: 59228.35 | K13: 山羊肉 | L13: E5 | M13: 山羊肉 | N13: =VLOOKUP(M13,'[1]輸入畜産物ピボット(同一データを2カ所に貼る)'!$D$2:$E$120,2,FALSE) -> 83514.85 | O13: L13
B14: 消化管等 | C14: 加熱処理 消化管等 | D14: ケーシング | E14: 脂肪 | F14: 非加熱 その他の臓器 | G14: 加熱処理 その他の臓器 | H14: 加熱処理 家きん臓器・消化管等 | K14: 鹿肉 | L14: F5 | M14: 鹿肉 | N14: =VLOOKUP(M14,'[1]輸入畜産物ピボット(同一データを2カ所に貼る)'!$D$2:$E$120,2,FALSE) -> #N/A | O14: L13
B15: 3138241.3 | C15: - | D15: 398973.11 | E15: 3004667.8 | F15: 3594.6 | G15: - | H15: 230932.39 | K15: その他の偶蹄類の肉 | L15: G5 | M15: その他の偶蹄類の肉 | N15: =VLOOKUP(M15,'[1]輸入畜産物ピボット(同一データを2カ所に貼る)'!$D$2:$E$120,2,FALSE) -> #N/A | O15: L14
B16: 加熱処理その他 の家きん臓器 | H16: 計 | K16: 加熱処理肉牛 | L16: B7 | M16: 加熱処理肉牛 | N16: =VLOOKUP(M16,'[1]輸入畜産物ピボット(同一データを2カ所に貼る)'!$D$2:$E$120,2,FALSE) -> 55505.56 | O16: L15
B17: 11837.48 | H17: 6979985.3 | K17: 加熱処理肉豚 | L17: C7 | M17: 加熱処理肉豚 | N17: =VLOOKUP(M17,'[1]輸入畜産物ピボット(同一データを2カ所に貼る)'!$D$2:$E$120,2,FALSE) -> 723189.19 | O17: L16
A18: 卵類 | B18: 食用殻付卵 | C18: 液卵 | D18: その他の卵 | H18: 計 | K18: 加熱処理肉その他偶蹄類 | L18: D7 | M18: 加熱処理肉その他偶蹄類 | N18: =VLOOKUP(M18,'[1]輸入畜産物ピボット(同一データを2カ所に貼る)'!$D$2:$E$120,2,FALSE) -> #N/A | O18: L17
B19: 567320.04 | C19: 585061.54 | D19: - | H19: 1152381.6 | K19: ハム | L19: E7 | M19: ハム | N19: =VLOOKUP(M19,'[1]輸入畜産物ピボット(同一データを2カ所に貼る)'!$D$2:$E$120,2,FALSE) -> 203710.31 | O19: L18
A20: 皮類 | B20: 牛皮 | C20: 豚皮 | D20: めん羊皮 | E20: 山羊皮 | F20: 鹿皮 | G20: その他の 偶蹄類の皮 | H20: 馬皮 | K20: 加熱処理ハム | L20: F7 | M20: 加熱処理ハム | N20: =VLOOKUP(M20,'[1]輸入畜産物ピボット(同一データを2カ所に貼る)'!$D$2:$E$120,2,FALSE) -> 39543.21 | O20: L19
B21: 2295720.4 | C21: 31134.38 | D21: - | E21: - | F21: 24331 | G21: - | H21: 95393 | K21: ソーセージ | L21: G7 | M21: ソーセージ | N21: =VLOOKUP(M21,'[1]輸入畜産物ピボット(同一データを2カ所に貼る)'!$D$2:$E$120,2,FALSE) -> 1172918.2 | O21: L20
B22: うさぎ皮 | C22: 犬皮 | D22: その他の皮 | H22: 計 | K22: 加熱処理ソーセージ | L22: H7 | M22: 加熱処理ソーセージ | N22: =VLOOKUP(M22,'[1]輸入畜産物ピボット(同一データを2カ所に貼る)'!$D$2:$E$120,2,FALSE) -> 680646.43 | O22: L21 | P22: =P23+N23 -> 118913.88
B23: 53760 | C23: - | D23: - | H23: 2500338.7 | K23: ベーコン | L23: B9 | M23: ベーコン | N23: =VLOOKUP(M23,'[1]輸入畜産物ピボット(同一データを2カ所に貼る)'!$D$2:$E$120,2,FALSE) -> 118913.88 | O23: L22
A24: 毛類 | B24: 牛毛 | C24: 豚毛 | D24: 羊毛 | E24: 山羊毛 | F24: 鹿毛 | G24: その他の 偶蹄類の毛 | H24: 馬毛 | K24: 加熱処理ベーコン | L24: C9 | M24: 加熱処理ベーコン | N24: =VLOOKUP(M24,'[1]輸入畜産物ピボット(同一データを2カ所に貼る)'!$D$2:$E$120,2,FALSE) -> 1879.58 | O24: L23
B25: - | C25: 3815 | D25: - | E25: 4894.75 | F25: - | G25: 75 | H25: 1929.5 | K25: 馬肉 | L25: D9 | M25: 馬肉 | N25: =VLOOKUP(M25,'[1]輸入畜産物ピボット(同一データを2カ所に貼る)'!$D$2:$E$120,2,FALSE) -> 376183.23 | O25: L24 | P25: =SUM(N6:N26) -> #N/A
B26: うさぎ毛 | C26: 羽毛 | D26: 犬毛 | E26: その他の毛 | H26: 計 | K26: うさぎ肉 | L26: E9 | M26: うさぎ肉 | N26: =VLOOKUP(M26,'[1]輸入畜産物ピボット(同一データを2カ所に貼る)'!$D$2:$E$120,2,FALSE) -> 4087.46 | O26: L25
B27: - | C27: 118279.6 | D27: - | E27: - | H27: 128993.85 | K27: 家きん肉 | L27: F9 | M27: 家きん肉 | N27: =VLOOKUP(M27,'[1]輸入畜産物ピボット(同一データを2カ所に貼る)'!$D$2:$E$120,2,FALSE) -> 52323002 | O27: L26
A28: 乳製品類 | B28: チーズ | C28: バター | D28: 偶蹄類動物の 飼料用乳製品 | E28: その他の 乳製品 | H28: 計
B29: 23953504 | C29: 1013911.1 | D29: 5151270.9 | E29: 5707206.9 | H29: 35825893
A30: ミール類 | B30: 血粉 | C30: 肉粉 | D30: 肉骨粉 | E30: 皮粉・羽毛粉 | H30: 計 | K30: 加熱処理肉（家きん） | L30: G9 | M30: 犬肉 | N30: =VLOOKUP(M30,'[1]輸入畜産物ピボット(同一データを2カ所に貼る)'!$D$2:$E$120,2,FALSE) -> #N/A | O30: L27
B31: 98172.2 | C31: 19218.18 | D31: - | E31: - | H31: 117390.38 | K31: 犬肉 | L31: H9 | M31: その他の肉（非加熱） | N31: =VLOOKUP(M31,'[1]輸入畜産物ピボット(同一データを2カ所に貼る)'!$D$2:$E$120,2,FALSE) -> 1024307.6 | O31: L28
A32: その他 畜産物 | B32: 精液 (アンプル） | C32: 受精卵 （個） | D32: ふん・尿 | H32: 計 | K32: その他の肉（非加熱） | L32: B11 | M32: その他の肉（加熱処理肉） | N32: =VLOOKUP(M32,'[1]輸入畜産物ピボット(同一データを2カ所に貼る)'!$D$2:$E$120,2,FALSE) -> 3595564.9 | O32: L29
B33: 78984 | C33: 122 | D33: - | H33: 0 | K33: その他の肉（加熱処理肉） | L33: C11 | M33: 加熱処理肉（家きん） | N33: =VLOOKUP(M33,'[1]輸入畜産物ピボット(同一データを2カ所に貼る)'!$D$2:$E$120,2,FALSE) -> 39653944 | O33: L30
A34: わら類 | B34: 穀物のわら | C34: 飼料用の乾草 | D34: その他 | H34: 計 | K34: その他の肉（加熱処理肉）(家きん肉) | L34: D11 | M34: 加熱処理ハム（家きん） | N34: =VLOOKUP(M34,'[1]輸入畜産物ピボット(同一データを2カ所に貼る)'!$D$2:$E$120,2,FALSE) -> #N/A | O34: L31
B35: 22620090 | C35: - | D35: 104300 | H35: 22724390 | K35: 偶蹄類の臓器牛 | L35: E11 | M35: 加熱処理ソーセージ（家きん） | N35: =VLOOKUP(M35,'[1]輸入畜産物ピボット(同一データを2カ所に貼る)'!$D$2:$E$120,2,FALSE) -> #N/A | O35: L32
H36: 総計 | K36: 偶蹄類の臓器豚 | L36: F11 | M36: 加熱処理ベーコン（家きん） | N36: =VLOOKUP(M36,'[1]輸入畜産物ピボット(同一データを2カ所に貼る)'!$D$2:$E$120,2,FALSE) -> #N/A | O36: L33
H37: 3.2466183e+08 | K37: 偶蹄類の臓器その他の偶蹄類 | L37: G11 | M37: その他の肉（加熱処理肉）（家きん） | N37: =VLOOKUP(M37,'[1]輸入畜産物ピボット(同一データを2カ所に貼る)'!$D$2:$E$120,2,FALSE) -> 3494153.6 | O37: L34
K38: 加熱処理臓器牛 | L38: B15 | M38: 偶蹄類の臓器牛 | N38: =VLOOKUP(M38,'[1]輸入畜産物ピボット(同一データを2カ所に貼る)'!$D$2:$E$120,2,FALSE) -> 64646.44 | O38: L35
A39: 資料）動物検疫所調べ | K39: 加熱処理臓器豚 | L39: C15 | M39: 偶蹄類の臓器豚 | N39: =VLOOKUP(M39,'[1]輸入畜産物ピボット(同一データを2カ所に貼る)'!$D$2:$E$120,2,FALSE) -> 43427 | O39: L36
A40: (注） | B40: １．解放重量ベースの速報値の為、数値が変更となることがある。 また、数量についてはことわりのない限り、Kg集計できるもののみを集計している。 | K40: 加熱処理臓器その他の偶蹄類 | L40: D15 | M40: 偶蹄類の臓器その他の偶蹄類 | N40: =VLOOKUP(M40,'[1]輸入畜産物ピボット(同一データを2カ所に貼る)'!$D$2:$E$120,2,FALSE) -> 24436.84 | O40: L37 | P40: =SUM(N27:N41) -> #N/A
B41: ２．携帯品・郵便物として輸入されたものは除く。 | K41: 偶蹄類以外の臓器 | L41: E15 | M41: 加熱処理臓器牛 | N41: =VLOOKUP(M41,'[1]輸入畜産物ピボット(同一データを2カ所に貼る)'!$D$2:$E$120,2,FALSE) -> #N/A | O41: L38
B42: ３．「家きん肉」は、鶏、うずら、きじ、だちょう、ほろほろ鳥及び七面鳥並びにあひる、がちょうその他のかも目の 鳥類由来の肉、ハム、ソーセージ、ベーコン。 | K42: 加熱処理臓器（家きん） | L42: F15 | M42: 加熱処理臓器豚 | N42: =VLOOKUP(M42,'[1]輸入畜産物ピボット(同一データを2カ所に貼る)'!$D$2:$E$120,2,FALSE) -> #N/A | O42: L39
B43: ４．「偶蹄類以外の臓器」には、馬、家きん、うさぎ、犬の臓器を含む。 | K43: 消化管等 | L43: G15 | M43: 加熱処理その他の偶蹄類 | N43: =VLOOKUP(M43,'[1]輸入畜産物ピボット(同一データを2カ所に貼る)'!$D$2:$E$120,2,FALSE) -> #N/A | O43: L40 | P43: =SUM(N42:N44) -> #N/A
B44: ５．「消化管等」には、消化管、子宮及び膀胱を含む。 | K44: 加熱処理消化管等（家きん） | L44: H15 | M44: 偶蹄類以外の臓器 | N44: =VLOOKUP(M44,'[1]輸入畜産物ピボット(同一データを2カ所に貼る)'!$D$2:$E$120,2,FALSE) -> 59228.35 | O44: L41
B45: ６．「その他の肉（臓器）」には、餃子やピザなど肉（臓器）を含む調製品である。 | K45: 加熱処理消化管等 | L45: B17 | M45: 消化管等 | N45: =VLOOKUP(M45,'[1]輸入畜産物ピボット(同一データを2カ所に貼る)'!$D$2:$E$120,2,FALSE) -> 3138241.3 | O45: L42
B46: ７．「加熱処理肉」、「加熱処理ソーセージ、ハム、ベーコン」、「その他の加熱処理肉」は、農林水産大臣の指定した 処理施設で一定の加熱処理がなされたもの。なお、家きん肉由来のものは含まない。 | K46: ケーシング | L46: C17 | M46: 加熱処理消化管等 | N46: =VLOOKUP(M46,'[1]輸入畜産物ピボット(同一データを2カ所に貼る)'!$D$2:$E$120,2,FALSE) -> #N/A | O46: L43
B47: ８．「家きん加熱処理肉」は、農林水産大臣の指定した施設で加熱処理された、鶏、うずら、きじ、だちょう、ほろほろ 鳥及び七面鳥並びにあひる、がちょうその他のかも目の鳥類由来の肉、ハム、ソーセージ、ベーコンである。 | K47: 脂肪 | L47: D17 | M47: ケーシング | N47: =VLOOKUP(M47,'[1]輸入畜産物ピボット(同一データを2カ所に貼る)'!$D$2:$E$120,2,FALSE) -> 398973.11 | O47: L44
B48: ９．その他の畜産物の計に精液、受精卵は含めない。 | K48: その他の臓器（非加熱） | L48: E17 | M48: 脂肪 | N48: =VLOOKUP(M48,'[1]輸入畜産物ピボット(同一データを2カ所に貼る)'!$D$2:$E$120,2,FALSE) -> 3004667.8 | O48: L45
B49: １０．総計に「その他の畜産物」は含めない。 | K49: その他の臓器（加熱処理） | L49: F17 | M49: その他の臓器（非加熱） | N49: =VLOOKUP(M49,'[1]輸入畜産物ピボット(同一データを2カ所に貼る)'!$D$2:$E$120,2,FALSE) -> 3594.6 | O49: L46
B50: １１．類別の計は、集計対象が無い場合「0」と記す。 | K50: その他の臓器（加熱処理）（家きん） | L50: G17 | M50: その他の臓器（加熱処理） | N50: =VLOOKUP(M50,'[1]輸入畜産物ピボット(同一データを2カ所に貼る)'!$D$2:$E$120,2,FALSE) -> #N/A | O50: L47
K51: 殻付卵 | L51: H17 | M51: 加熱処理臓器（家きん） | N51: =VLOOKUP(M51,'[1]輸入畜産物ピボット(同一データを2カ所に貼る)'!$D$2:$E$120,2,FALSE) -> 230932.39 | O51: L48
K52: 液卵 | L52: B19 | M52: 加熱処理消化管等（家きん） | N52: =VLOOKUP(M52,'[1]輸入畜産物ピボット(同一データを2カ所に貼る)'!$D$2:$E$120,2,FALSE) -> #N/A | O52: L49 | P52: =SUM(N45:N53) -> #N/A
K53: その他の卵 | L53: C19 | M53: その他の臓器（加熱処理）（家きん） | N53: =VLOOKUP(M53,'[1]輸入畜産物ピボット(同一データを2カ所に貼る)'!$D$2:$E$120,2,FALSE) -> 11837.48 | O53: L50
K54: 牛皮 | L54: B21 | M54: 殻付卵 | N54: =VLOOKUP(M54,'[1]輸入畜産物ピボット(同一データを2カ所に貼る)'!$D$2:$E$120,2,FALSE) -> 567320.04 | O54: L51
K55: 豚皮 | L55: C21 | M55: 液卵 | N55: =VLOOKUP(M55,'[1]輸入畜産物ピボット(同一データを2カ所に貼る)'!$D$2:$E$120,2,FALSE) -> 585061.54 | O55: L52
K56: めん羊皮 | L56: D21 | M56: その他の卵 | N56: =VLOOKUP(M56,'[1]輸入畜産物ピボット(同一データを2カ所に貼る)'!$D$2:$E$120,2,FALSE) -> #N/A | O56: L53
K57: 山羊皮 | L57: B23 | M57: 牛皮 | N57: =VLOOKUP(M57,'[1]輸入畜産物ピボット(同一データを2カ所に貼る)'!$D$2:$E$120,2,FALSE) -> 2295720.4 | O57: L54
K58: 鹿皮 | L58: C23 | M58: 豚皮 | N58: =VLOOKUP(M58,'[1]輸入畜産物ピボット(同一データを2カ所に貼る)'!$D$2:$E$120,2,FALSE) -> 31134.38 | O58: L55
K59: その他の偶蹄類の皮 | L59: D23 | M59: めん羊皮 | N59: =VLOOKUP(M59,'[1]輸入畜産物ピボット(同一データを2カ所に貼る)'!$D$2:$E$120,2,FALSE) -> #N/A | O59: L56
K60: 馬皮 | L60: E23 | M60: 山羊皮 | N60: =VLOOKUP(M60,'[1]輸入畜産物ピボット(同一データを2カ所に貼る)'!$D$2:$E$120,2,FALSE) -> #N/A | O60: L57 | P60: =SUM(N54:N62) -> #N/A
K61: うさぎ皮 | L61: F23 | M61: 鹿皮 | N61: =VLOOKUP(M61,'[1]輸入畜産物ピボット(同一データを2カ所に貼る)'!$D$2:$E$120,2,FALSE) -> 24331 | O61: L57
K62: 犬皮 | L62: G23 | M62: その他の偶蹄類の皮 | N62: =VLOOKUP(M62,'[1]輸入畜産物ピボット(同一データを2カ所に貼る)'!$D$2:$E$120,2,FALSE) -> #N/A | O62: L58
K63: その他の皮 | L63: H23 | M63: 馬皮 | N63: =VLOOKUP(M63,'[1]輸入畜産物ピボット(同一データを2カ所に貼る)'!$D$2:$E$120,2,FALSE) -> 95393 | O63: L59 | P63: =SUM(N63:N65) -> #N/A
K64: 牛毛 | L64: B25 | M64: うさぎ皮 | N64: =VLOOKUP(M64,'[1]輸入畜産物ピボット(同一データを2カ所に貼る)'!$D$2:$E$120,2,FALSE) -> 53760 | O64: L60
K65: 豚毛 | L65: C25 | M65: 犬皮 | N65: =VLOOKUP(M65,'[1]輸入畜産物ピボット(同一データを2カ所に貼る)'!$D$2:$E$120,2,FALSE) -> #N/A | O65: L61 | P65: =SUM(N66:N67) -> #N/A
K66: 羊毛 | L66: D25 | M66: その他の皮 | N66: =VLOOKUP(M66,'[1]輸入畜産物ピボット(同一データを2カ所に貼る)'!$D$2:$E$120,2,FALSE) -> #N/A | O66: L62
K67: 山羊毛 | L67: B27 | M67: 牛毛 | N67: =VLOOKUP(M67,'[1]輸入畜産物ピボット(同一データを2カ所に貼る)'!$D$2:$E$120,2,FALSE) -> #N/A | O67: L63
K68: 鹿毛 | L68: C27 | M68: 豚毛 | N68: =VLOOKUP(M68,'[1]輸入畜産物ピボット(同一データを2カ所に貼る)'!$D$2:$E$120,2,FALSE) -> 3815 | O68: L64 | P68: =SUM(N68:N70) -> #N/A
K69: その他の偶蹄類の毛 | L69: D27 | M69: 羊毛 | N69: =VLOOKUP(M69,'[1]輸入畜産物ピボット(同一データを2カ所に貼る)'!$D$2:$E$120,2,FALSE) -> #N/A | O69: L65
K70: 馬毛 | L70: E27 | M70: 山羊毛 | N70: =VLOOKUP(M70,'[1]輸入畜産物ピボット(同一データを2カ所に貼る)'!$D$2:$E$120,2,FALSE) -> 4894.75 | O70: L66
K71: うさぎ毛 | L71: F27 | M71: 鹿毛 | N71: =VLOOKUP(M71,'[1]輸入畜産物ピボット(同一データを2カ所に貼る)'!$D$2:$E$120,2,FALSE) -> #N/A | O71: L66
K72: 羽毛 | L72: G27 | M72: その他の偶蹄類の毛 | N72: =VLOOKUP(M72,'[1]輸入畜産物ピボット(同一データを2カ所に貼る)'!$D$2:$E$120,2,FALSE) -> 75
K73: 犬毛 | L73: H27 | M73: 馬毛 | N73: =VLOOKUP(M73,'[1]輸入畜産物ピボット(同一データを2カ所に貼る)'!$D$2:$E$120,2,FALSE) -> 1929.5
K74: その他の毛 | L74: E5 | M74: うさぎ毛 | N74: =VLOOKUP(M74,'[1]輸入畜産物ピボット(同一データを2カ所に貼る)'!$D$2:$E$120,2,FALSE) -> #N/A
K75: 血粉 | L75: F5 | M75: 羽毛 | N75: =VLOOKUP(M75,'[1]輸入畜産物ピボット(同一データを2カ所に貼る)'!$D$2:$E$120,2,FALSE) -> 118279.6
K76: 肉粉 | L76: G5 | M76: 犬毛 | N76: =VLOOKUP(M76,'[1]輸入畜産物ピボット(同一データを2カ所に貼る)'!$D$2:$E$120,2,FALSE) -> #N/A
K77: 肉骨粉 | M77: その他の毛 | N77: =VLOOKUP(M77,'[1]輸入畜産物ピボット(同一データを2カ所に貼る)'!$D$2:$E$120,2,FALSE) -> #N/A
K78: 皮粉・羽毛粉 | L78: B5 | M78: 血粉 | N78: =VLOOKUP(M78,'[1]輸入畜産物ピボット(同一データを2カ所に貼る)'!$D$2:$E$120,2,FALSE) -> 98172.2
K79: その他のミール類 | L79: C5 | M79: 肉粉 | N79: =VLOOKUP(M79,'[1]輸入畜産物ピボット(同一データを2カ所に貼る)'!$D$2:$E$120,2,FALSE) -> 19218.18
K80: 精液 | L80: D5 | M80: 肉骨粉 | N80: =VLOOKUP(M80,'[1]輸入畜産物ピボット(同一データを2カ所に貼る)'!$D$2:$E$120,2,FALSE) -> #N/A
K81: 受精卵 | L81: E5 | M81: 皮粉・羽毛粉 | N81: =VLOOKUP(M81,'[1]輸入畜産物ピボット(同一データを2カ所に貼る)'!$D$2:$E$120,2,FALSE) -> #N/A
K82: 未受精卵 | L82: F5 | M82: その他のミール類 | N82: =VLOOKUP(M82,'[1]輸入畜産物ピボット(同一データを2カ所に貼る)'!$D$2:$E$120,2,FALSE) -> #N/A
L83: G5 | N83: =VLOOKUP(M83,'[1]輸入畜産物ピボット(同一データを2カ所に貼る)'!$D$2:$E$120,2,FALSE) -> #N/A
K84: 精液 (アンプル） | L84: B5 | M84: 精液 | N84: =VLOOKUP(M84,'[1]輸入畜産物ピボット(同一データを2カ所に貼る)'!$D$2:$E$120,2,FALSE) -> 78984
K85: 受精卵 （個） | L85: C5 | M85: 受精卵 | N85: =VLOOKUP(M85,'[1]輸入畜産物ピボット(同一データを2カ所に貼る)'!$D$2:$E$120,2,FALSE) -> 122
K86: 未受精卵 （個） | L86: D5 | N86: =VLOOKUP(M86,'[1]輸入畜産物ピボット(同一データを2カ所に貼る)'!$D$2:$E$120,2,FALSE) -> #N/A
L87: E5 | M87: ふん・尿 | N87: =VLOOKUP(M87,'[1]輸入畜産物ピボット(同一データを2カ所に貼る)'!$D$2:$E$120,2,FALSE) -> #N/A
L88: F5 | M88: その他の畜産物 | N88: =VLOOKUP(M88,'[1]輸入畜産物ピボット(同一データを2カ所に貼る)'!$D$2:$E$120,2,FALSE) -> #N/A
K89: 穀物のわら | L89: G5 | M89: 穀物のわら | N89: =VLOOKUP(M89,'[1]輸入畜産物ピボット(同一データを2カ所に貼る)'!$D$2:$E$120,2,FALSE) -> 22620090
K90: 飼料用の乾草 | L90: B5 | M90: 飼料用の乾草 | N90: =VLOOKUP(M90,'[1]輸入畜産物ピボット(同一データを2カ所に貼る)'!$D$2:$E$120,2,FALSE) -> #N/A
K91: その他 | L91: C5 | M91: 稲わら・その他 | N91: =VLOOKUP(M91,'[1]輸入畜産物ピボット(同一データを2カ所に貼る)'!$D$2:$E$120,2,FALSE) -> 104300
L92: D5 | N92: =VLOOKUP(M92,'[1]輸入畜産物ピボット(同一データを2カ所に貼る)'!$D$2:$E$120,2,FALSE) -> #N/A
L93: E5 | M93: 総計 | N93: =VLOOKUP(M93,'[1]輸入畜産物ピボット(同一データを2カ所に貼る)'!$D$2:$E$120,2,FALSE) -> #N/A
L94: F5
L95: G5 | M95: チーズ | N95: =VLOOKUP(M95,'[1]輸入畜産物ピボット(同一データを2カ所に貼る)'!$D$2:$E$120,2,FALSE) -> 23953504
L96: 1 | M96: バター | N96: =VLOOKUP(M96,'[1]輸入畜産物ピボット(同一データを2カ所に貼る)'!$D$2:$E$120,2,FALSE) -> 1013911.1
L97: B5 | M97: 偶蹄類動物の飼料用乳製品 | N97: =VLOOKUP(M97,'[1]輸入畜産物ピボット(同一データを2カ所に貼る)'!$D$2:$E$120,2,FALSE) -> 5151270.9
L98: C5 | M98: その他の乳製品 | N98: =VLOOKUP(M98,'[1]輸入畜産物ピボット(同一データを2カ所に貼る)'!$D$2:$E$120,2,FALSE) -> 5707206.9
L99: D5
L100: E5
...

Sheet 輸出畜産物 
A1: 輸出畜産物検疫数量速報（令和７年６月分） | G1: （単位：Kg） | M1: 種類 | N1: 計
A2: 骨類 | B2: 骨 | C2: 砕骨 | D2: 蹄角 | E2: 骨腱 | F2: 生骨粉 | G2: 加熱処理骨粉 | H2: 蹄角粉 | K2: 骨 | L2: B3 | M2: 骨 | N2: =VLOOKUP(M2,[1]輸出畜産物ピボット!$A$1:$B$73,2,FALSE) -> 4000 | O2: L2
B3: 4000 | C3: - | D3: - | E3: - | F3: - | G3: - | H3: - | K3: 砕骨 | L3: C3 | M3: 砕骨 | N3: =VLOOKUP(M3,[1]輸出畜産物ピボット!$A$1:$B$73,2,FALSE) -> #N/A | O3: L3
B4: その他の骨 | H4: 計 | K4: 蹄角 | L4: D3 | M4: 蹄角 | N4: =VLOOKUP(M4,[1]輸出畜産物ピボット!$A$1:$B$73,2,FALSE) -> #N/A | O4: L4
B5: - | H5: 4000 | K5: 骨腱 | L5: E3 | M5: 骨腱 | N5: =VLOOKUP(M5,[1]輸出畜産物ピボット!$A$1:$B$73,2,FALSE) -> #N/A | O5: L5 | P5: =SUM(N2:N5) -> #N/A
A6: 肉類 | B6: 牛肉 | C6: 豚肉 | D6: めん羊肉 | E6: 山羊肉 | F6: 鹿肉 | G6: その他の 偶蹄類肉 | H6: ハム | K6: 生骨粉 | L6: F3 | M6: 生骨粉 | N6: =VLOOKUP(M6,[1]輸出畜産物ピボット!$A$1:$B$73,2,FALSE) -> #N/A | O6: L6
B7: 890181.61 | C7: 145031.5 | D7: - | E7: - | F7: - | G7: - | H7: - | K7: 加熱処理骨粉 | L7: G3 | M7: 加熱処理骨粉 | N7: =VLOOKUP(M7,[1]輸出畜産物ピボット!$A$1:$B$73,2,FALSE) -> #N/A | O7: L7
B8: ソーセージ | C8: ベーコン | D8: 馬肉 | E8: うさぎ肉 | F8: 家きん肉 | G8: 犬肉 | H8: その他の肉 | K8: 蹄角粉 | L8: H3 | M8: 蹄角粉 | N8: =VLOOKUP(M8,[1]輸出畜産物ピボット!$A$1:$B$73,2,FALSE) -> #N/A | O8: L8
B9: 6.84 | C9: - | D9: - | E9: - | F9: 381466.2 | G9: - | H9: 73378.89 | K9: その他の骨 | L9: B5 | M9: その他の骨 | N9: =VLOOKUP(M9,[1]輸出畜産物ピボット!$A$1:$B$73,2,FALSE) -> #N/A | O9: L9
H10: 計 | K10: 牛肉 | L10: B5 | M10: 牛肉 | N10: =VLOOKUP(M10,[1]輸出畜産物ピボット!$A$1:$B$73,2,FALSE) -> 890181.61 | O10: L10
H11: 1490065 | K11: 豚肉 | L11: C5 | M11: 豚肉 | N11: =VLOOKUP(M11,[1]輸出畜産物ピボット!$A$1:$B$73,2,FALSE) -> 145031.5 | O11: L11
A12: 臓器類 | B12: 牛臓器 | C12: 豚臓器 | D12: その他の 偶蹄類の臓器 | E12: 偶蹄類以外の 臓器 | F12: 消化管等 | G12: ケーシング | H12: 脂肪 | K12: めん羊肉 | L12: D5 | M12: めん羊肉 | N12: =VLOOKUP(M12,[1]輸出畜産物ピボット!$A$1:$B$73,2,FALSE) -> #N/A | O12: L12
B13: 50.7 | C13: 400 | D13: - | E13: 420 | F13: 1804.6 | G13: 17941 | H13: - | K13: 山羊肉 | L13: E5 | M13: 山羊肉 | N13: =VLOOKUP(M13,[1]輸出畜産物ピボット!$A$1:$B$73,2,FALSE) -> #N/A | O13: L13
B14: 非加熱 その他の臓器 | H14: 計 | K14: 鹿肉 | L14: F5 | M14: 鹿肉 | N14: =VLOOKUP(M14,[1]輸出畜産物ピボット!$A$1:$B$73,2,FALSE) -> #N/A | O14: L13
B15: - | H15: 20616.3 | K15: その他の 偶蹄類肉 | L15: G5 | M15: その他の偶蹄類の肉 | N15: =VLOOKUP(M15,[1]輸出畜産物ピボット!$A$1:$B$73,2,FALSE) -> #N/A | O15: L14
A16: 卵類 | B16: 殻付卵 | C16: 液卵 | D16: その他の卵 | H16: 計 | K16: 加熱処理牛肉 | L16: B7 | M16: 加熱処理肉牛 | N16: =VLOOKUP(M16,[1]輸出畜産物ピボット!$A$1:$B$73,2,FALSE) -> #N/A | O16: L15
B17: 1732892.8 | C17: 3960 | D17: 22943.5 | H17: 1759796.3 | K17: 加熱処理豚肉 | L17: C7 | M17: 加熱処理肉豚 | N17: =VLOOKUP(M17,[1]輸出畜産物ピボット!$A$1:$B$73,2,FALSE) -> #N/A | O17: L16
A18: 皮類 | B18: 牛皮 | C18: 豚皮 | D18: めん羊皮 | E18: 山羊皮 | F18: 鹿皮 | G18: その他の 偶蹄類の皮 | H18: 馬皮 | K18: 加熱処理その他の偶蹄類肉 | L18: D7 | M18: 加熱処理その他の偶蹄類肉 | N18: =VLOOKUP(M18,[1]輸出畜産物ピボット!$A$1:$B$73,2,FALSE) -> #N/A | O18: L17
B19: 1093789 | C19: 4333699 | D19: - | E19: - | F19: - | G19: - | H19: - | K19: ハム | L19: E7 | M19: ハム | N19: =VLOOKUP(M19,[1]輸出畜産物ピボット!$A$1:$B$73,2,FALSE) -> #N/A | O19: L18
B20: うさぎ皮 | C20: 犬皮 | D20: その他の皮 | H20: 計 | K20: 加熱処理ハム | L20: F7 | M20: 加熱処理ハム | N20: =VLOOKUP(M20,[1]輸出畜産物ピボット!$A$1:$B$73,2,FALSE) -> #N/A | O20: L19
B21: - | C21: - | D21: - | H21: 5427488 | K21: ソーセージ | L21: G7 | M21: ソーセージ | N21: =VLOOKUP(M21,[1]輸出畜産物ピボット!$A$1:$B$73,2,FALSE) -> 6.84 | O21: L20
A22: 毛類 | B22: 牛毛 | C22: 豚毛 | D22: 羊毛 | E22: 山羊毛 | F22: 鹿毛 | G22: その他の 偶蹄類の毛 | H22: 馬毛 | K22: 加熱処理 ソーセージ | L22: H7 | M22: 加熱処理ソーセージ | N22: =VLOOKUP(M22,[1]輸出畜産物ピボット!$A$1:$B$73,2,FALSE) -> #N/A | O22: L21
B23: - | C23: - | D23: - | E23: - | F23: - | G23: - | H23: - | K23: ベーコン | L23: B9 | M23: ベーコン | N23: =VLOOKUP(M23,[1]輸出畜産物ピボット!$A$1:$B$73,2,FALSE) -> #N/A | O23: L22
B24: うさぎ毛 | C24: 羽毛 | D24: 犬毛 | E24: その他の毛 | H24: 計 | K24: 加熱処理 ベーコン | L24: C9 | M24: 加熱処理ベーコン | N24: =VLOOKUP(M24,[1]輸出畜産物ピボット!$A$1:$B$73,2,FALSE) -> #N/A | O24: L23
B25: - | C25: 15594.37 | D25: - | E25: 2545.55 | H25: 18139.92 | K25: 馬肉 | L25: D9 | M25: 馬肉 | N25: =VLOOKUP(M25,[1]輸出畜産物ピボット!$A$1:$B$73,2,FALSE) -> #N/A | O25: L24 | P25: =SUM(N6:N28) -> #N/A
A26: 乳製品類 | B26: チーズ | C26: バター | D26: 偶蹄類動物の 飼料用乳製品 | E26: その他の 乳製品 | H26: 計
B27: 243.68 | C27: 24980 | D27: - | E27: 221448.28 | H27: 246671.96
A28: ミール類 | B28: 血粉 | C28: 肉粉 | D28: 肉骨粉 | E28: 皮粉・羽毛粉 | H28: 計 | K28: うさぎ肉 | L28: E9 | M28: うさぎ肉 | N28: =VLOOKUP(M28,[1]輸出畜産物ピボット!$A$1:$B$73,2,FALSE) -> #N/A | O28: L25
B29: - | C29: - | D29: - | E29: - | H29: 0 | K29: 家きん肉 | L29: F9 | M29: 家きん肉 | N29: =VLOOKUP(M29,[1]輸出畜産物ピボット!$A$1:$B$73,2,FALSE) -> 381466.2 | O29: L26
A30: その他 畜産物 | B30: 精液 (アンプル） | C30: 受精卵 （個） | D30: ふん・尿 | H30: 計 | K30: 犬肉 | L30: G9 | M30: 犬肉 | N30: =VLOOKUP(M30,[1]輸出畜産物ピボット!$A$1:$B$73,2,FALSE) -> #N/A | O30: L27
B31: 9 | C31: - | D31: - | H31: 0 | K31: 非加熱 その他の肉 | L31: H9 | M31: その他の肉（非加熱） | N31: =VLOOKUP(M31,[1]輸出畜産物ピボット!$A$1:$B$73,2,FALSE) -> 73378.89 | O31: L28
H32: 総計 | K32: 加熱処理その他の肉 | L32: B11 | M32: その他の肉（加熱処理肉） | N32: =VLOOKUP(M32,[1]輸出畜産物ピボット!$A$1:$B$73,2,FALSE) -> #N/A | O32: L29
H33: 8966777.5 | K33: 家きん加熱処理肉 | L33: C11 | M33: 加熱処理肉（家きん） | N33: =VLOOKUP(M33,[1]輸出畜産物ピボット!$A$1:$B$73,2,FALSE) -> #N/A | O33: L30
K34: 家きん加熱処理ハム | L34: D11 | M34: 加熱処理ハム（家きん） | N34: =VLOOKUP(M34,[1]輸出畜産物ピボット!$A$1:$B$73,2,FALSE) -> #N/A | O34: L31
A35: 資料）動物検疫所調べ | K35: 家きん加熱処理ソーセージ | L35: E11 | M35: 加熱処理ソーセージ（家きん） | N35: =VLOOKUP(M35,[1]輸出畜産物ピボット!$A$1:$B$73,2,FALSE) -> #N/A | O35: L32
A36: (注） | B36: １．解放重量ベースの速報値の為、数値が変更となることがある。 また、数量についてはことわりのない限り、Kg集計できるもののみを集計している。 | K36: 家きん加熱処理ベーコン | L36: F11 | M36: 加熱処理ベーコン（家きん） | N36: =VLOOKUP(M36,[1]輸出畜産物ピボット!$A$1:$B$73,2,FALSE) -> #N/A | O36: L33
B37: ２．携帯品・郵便物として輸出されたものは除く。 | K37: 加熱処理 その他の家きん肉 | L37: G11 | M37: その他の肉（加熱処理肉）(家きん肉) | N37: =VLOOKUP(M37,[1]輸出畜産物ピボット!$A$1:$B$73,2,FALSE) -> #N/A | O37: L34
B38: ３．「家きん肉」は、鶏、うずら、きじ、だちょう、ほろほろ鳥及び七面鳥並びにあひる、がちょうその他のかも目の 鳥類由来の肉、ハム、ソーセージ、ベーコン。 | K38: 牛 | L38: B15 | M38: 偶蹄類の臓器牛 | N38: =VLOOKUP(M38,[1]輸出畜産物ピボット!$A$1:$B$73,2,FALSE) -> 50.7 | O38: L35
B39: ４．「偶蹄類以外の臓器」には、馬、家きん、うさぎ、犬の臓器を含む。 | K39: 豚 | L39: C15 | M39: 偶蹄類の臓器豚 | N39: =VLOOKUP(M39,[1]輸出畜産物ピボット!$A$1:$B$73,2,FALSE) -> 400 | O39: L36
B40: ５．「消化管等」には、消化管、子宮及び膀胱を含む。 | K40: その他の偶蹄類 | L40: D15 | M40: 偶蹄類の臓器その他の偶蹄類 | N40: =VLOOKUP(M40,[1]輸出畜産物ピボット!$A$1:$B$73,2,FALSE) -> #N/A | O40: L37 | P40: =SUM(N29:N41) -> #N/A
B41: ６．総計に「その他の畜産物」は含めない。 | K41: 加熱処理牛 | L41: E15 | M41: 加熱処理牛 | N41: =VLOOKUP(M41,[1]輸出畜産物ピボット!$A$1:$B$73,2,FALSE) -> #N/A | O41: L38
B42: ７．その他の畜産物の計に精液、受精卵、未受精卵は含めない。 | K42: 加熱処理豚 | L42: F15 | M42: 加熱処理臓器豚 | N42: =VLOOKUP(M42,[1]輸出畜産物ピボット!$A$1:$B$73,2,FALSE) -> #N/A | O42: L39
B43: ８．類別の計は、集計対象が無い場合「0」と記す。 | K43: 加熱処理 その他の偶蹄類 | L43: G15 | M43: 加熱処理その他の偶蹄類 | N43: =VLOOKUP(M43,[1]輸出畜産物ピボット!$A$1:$B$73,2,FALSE) -> #N/A | O43: L40 | P43: =SUM(N42:N44) -> #N/A
K44: 偶蹄類以外の 臓器 | L44: H15 | M44: 偶蹄類以外の臓器 | N44: =VLOOKUP(M44,[1]輸出畜産物ピボット!$A$1:$B$73,2,FALSE) -> 420 | O44: L41
K45: 消化管等 | L45: B17 | M45: 消化管等 | N45: =VLOOKUP(M45,[1]輸出畜産物ピボット!$A$1:$B$73,2,FALSE) -> 1804.6 | O45: L42
K46: 加熱処理消化管等 | L46: C17 | M46: 加熱処理消化管等 | N46: =VLOOKUP(M46,[1]輸出畜産物ピボット!$A$1:$B$73,2,FALSE) -> #N/A | O46: L43
K47: ケーシング | L47: D17 | M47: ケーシング | N47: =VLOOKUP(M47,[1]輸出畜産物ピボット!$A$1:$B$73,2,FALSE) -> 17941 | O47: L44
K48: 脂肪 | L48: E17 | M48: 脂肪 | N48: =VLOOKUP(M48,[1]輸出畜産物ピボット!$A$1:$B$73,2,FALSE) -> #N/A | O48: L45
K49: 非加熱 その他の臓器 | L49: F17 | M49: その他の臓器（非加熱） | N49: =VLOOKUP(M49,[1]輸出畜産物ピボット!$A$1:$B$73,2,FALSE) -> #N/A | O49: L46
K50: 加熱処理 その他の臓器 | L50: G17 | M50: 加熱処理 その他の臓器 | N50: =VLOOKUP(M50,[1]輸出畜産物ピボット!$A$1:$B$73,2,FALSE) -> #N/A | O50: L47
K51: 加熱処理 家きん臓器 | L51: H17 | M51: 加熱処理臓器（家きん） | N51: =VLOOKUP(M51,[1]輸出畜産物ピボット!$A$1:$B$73,2,FALSE) -> #N/A | O51: L48
K52: 加熱処理 家きん消化管 | L52: B19 | M52: 加熱処理消化管等（家きん） | N52: =VLOOKUP(M52,[1]輸出畜産物ピボット!$A$1:$B$73,2,FALSE) -> #N/A | O52: L49 | P52: =SUM(N45:N53) -> #N/A
K53: 加熱処理その他の家きん臓器 | L53: C19 | M53: その他の臓器（加熱処理）（家きん） | N53: =VLOOKUP(M53,[1]輸出畜産物ピボット!$A$1:$B$73,2,FALSE) -> #N/A | O53: L50
K54: 殻付卵 | L54: B21 | M54: 殻付卵 | N54: =VLOOKUP(M54,[1]輸出畜産物ピボット!$A$1:$B$73,2,FALSE) -> 1732892.8 | O54: L51
K55: 液卵 | L55: C21 | M55: 液卵 | N55: =VLOOKUP(M55,[1]輸出畜産物ピボット!$A$1:$B$73,2,FALSE) -> 3960 | O55: L52
K56: その他の卵 | L56: D21 | M56: その他の卵 | N56: =VLOOKUP(M56,[1]輸出畜産物ピボット!$A$1:$B$73,2,FALSE) -> 22943.5 | O56: L53
K57: 牛皮 | L57: B23 | M57: 牛皮 | N57: =VLOOKUP(M57,[1]輸出畜産物ピボット!$A$1:$B$73,2,FALSE) -> 1093789 | O57: L54
K58: 豚皮 | L58: C23 | M58: 豚皮 | N58: =VLOOKUP(M58,[1]輸出畜産物ピボット!$A$1:$B$73,2,FALSE) -> 4333699 | O58: L55
K59: めん羊皮 | L59: D23 | M59: めん羊皮 | N59: =VLOOKUP(M59,[1]輸出畜産物ピボット!$A$1:$B$73,2,FALSE) -> #N/A | O59: L56
K60: 山羊皮 | L60: E23 | M60: 山羊皮 | N60: =VLOOKUP(M60,[1]輸出畜産物ピボット!$A$1:$B$73,2,FALSE) -> #N/A | O60: L57 | P60: =SUM(N54:N62) -> #N/A
K61: 鹿皮 | L61: F23 | M61: 鹿皮 | N61: =VLOOKUP(M61,[1]輸出畜産物ピボット!$A$1:$B$73,2,FALSE) -> #N/A | O61: L57
K62: その他の 偶蹄類の皮 | L62: G23 | M62: その他の偶蹄類の皮 | N62: =VLOOKUP(M62,[1]輸出畜産物ピボット!$A$1:$B$73,2,FALSE) -> #N/A | O62: L58
K63: 馬皮 | L63: H23 | M63: 馬皮 | N63: =VLOOKUP(M63,[1]輸出畜産物ピボット!$A$1:$B$73,2,FALSE) -> #N/A | O63: L59 | P63: =SUM(N63:N65) -> #N/A
K64: うさぎ皮 | L64: B25 | M64: うさぎ皮 | N64: =VLOOKUP(M64,[1]輸出畜産物ピボット!$A$1:$B$73,2,FALSE) -> #N/A | O64: L60
K65: 犬皮 | L65: C25 | M65: 犬皮 | N65: =VLOOKUP(M65,[1]輸出畜産物ピボット!$A$1:$B$73,2,FALSE) -> #N/A | O65: L61 | P65: =SUM(N66:N67) -> #N/A
K66: その他の皮 | L66: D25 | M66: その他の皮 | N66: =VLOOKUP(M66,[1]輸出畜産物ピボット!$A$1:$B$73,2,FALSE) -> #N/A | O66: L62
K67: 牛毛 | L67: B27 | M67: 牛毛 | N67: =VLOOKUP(M67,[1]輸出畜産物ピボット!$A$1:$B$73,2,FALSE) -> #N/A | O67: L63
K68: 豚毛 | L68: C27 | M68: 豚毛 | N68: =VLOOKUP(M68,[1]輸出畜産物ピボット!$A$1:$B$73,2,FALSE) -> #N/A | O68: L64 | P68: =SUM(N68:N70) -> #N/A
K69: 羊毛 | L69: D27 | M69: 羊毛 | N69: =VLOOKUP(M69,[1]輸出畜産物ピボット!$A$1:$B$73,2,FALSE) -> #N/A | O69: L65
K70: 山羊毛 | L70: E27 | M70: 山羊毛 | N70: =VLOOKUP(M70,[1]輸出畜産物ピボット!$A$1:$B$73,2,FALSE) -> #N/A | O70: L66
K71: 鹿毛 | L71: F27 | M71: 鹿毛 | N71: =VLOOKUP(M71,[1]輸出畜産物ピボット!$A$1:$B$73,2,FALSE) -> #N/A | O71: L66
K72: その他の 偶蹄類の毛 | L72: G27 | M72: その他の偶蹄類の毛 | N72: =VLOOKUP(M72,[1]輸出畜産物ピボット!$A$1:$B$73,2,FALSE) -> #N/A
K73: 馬毛 | L73: H27 | M73: 馬毛 | N73: =VLOOKUP(M73,[1]輸出畜産物ピボット!$A$1:$B$73,2,FALSE) -> #N/A
K74: うさぎ毛 | L74: E5 | M74: うさぎ毛 | N74: =VLOOKUP(M74,[1]輸出畜産物ピボット!$A$1:$B$73,2,FALSE) -> #N/A
K75: 羽毛 | L75: F5 | M75: 羽毛 | N75: =VLOOKUP(M75,[1]輸出畜産物ピボット!$A$1:$B$73,2,FALSE) -> 15594.37
K76: 犬毛 | L76: G5 | M76: 犬毛 | N76: =VLOOKUP(M76,[1]輸出畜産物ピボット!$A$1:$B$73,2,FALSE) -> #N/A
K77: その他の毛 | M77: その他の毛 | N77: =VLOOKUP(M77,[1]輸出畜産物ピボット!$A$1:$B$73,2,FALSE) -> 2545.55
K78: 血粉 | L78: B5 | M78: 血粉 | N78: =VLOOKUP(M78,[1]輸出畜産物ピボット!$A$1:$B$73,2,FALSE) -> #N/A
K79: 肉粉 | L79: C5 | M79: 肉粉 | N79: =VLOOKUP(M79,[1]輸出畜産物ピボット!$A$1:$B$73,2,FALSE) -> #N/A
K80: 肉骨粉 | L80: D5 | M80: 肉骨粉 | N80: =VLOOKUP(M80,[1]輸出畜産物ピボット!$A$1:$B$73,2,FALSE) -> #N/A
K81: 羽毛粉 | L81: E5 | M81: 皮粉・羽毛粉 | N81: =VLOOKUP(M81,[1]輸出畜産物ピボット!$A$1:$B$73,2,FALSE) -> #N/A
K82: その他の ミール類 | L82: F5 | M82: その他のミール類 | N82: =VLOOKUP(M82,[1]輸出畜産物ピボット!$A$1:$B$73,2,FALSE) -> #N/A
L83: G5 | N83: =VLOOKUP(M83,[1]輸出畜産物ピボット!$A$1:$B$73,2,FALSE) -> #N/A
K84: 精液 (アンプル） | L84: B5 | M84: 精液 | N84: =VLOOKUP(M84,[1]輸出畜産物ピボット!$A$1:$B$73,2,FALSE) -> 9
K85: 受精卵 （個） | L85: C5 | M85: 受精卵 | N85: =VLOOKUP(M85,[1]輸出畜産物ピボット!$A$1:$B$73,2,FALSE) -> #N/A
K86: 未受精卵 （個） | L86: D5 | M86: 血清 | N86: =VLOOKUP(M86,[1]輸出畜産物ピボット!$A$1:$B$73,2,FALSE) -> #N/A
L87: E5 | M87: ふん・尿 | N87: =VLOOKUP(M87,[1]輸出畜産物ピボット!$A$1:$B$73,2,FALSE) -> #N/A
L88: F5 | M88: その他の畜産物 | N88: =VLOOKUP(M88,[1]輸出畜産物ピボット!$A$1:$B$73,2,FALSE) -> #N/A
K89: 穀物のわら | L89: G5 | M89: 穀物のわら | N89: =VLOOKUP(M89,[1]輸出畜産物ピボット!$A$1:$B$73,2,FALSE) -> #N/A
K90: 飼料用の乾草 | L90: B5 | M90: 飼料用の乾草 | N90: =VLOOKUP(M90,[1]輸出畜産物ピボット!$A$1:$B$73,2,FALSE) -> #N/A
K91: その他 | L91: C5 | M91: 稲わら・その他 | N91: =VLOOKUP(M91,[1]輸出畜産物ピボット!$A$1:$B$73,2,FALSE) -> #N/A
L92: D5 | N92: =VLOOKUP(M92,[1]輸出畜産物ピボット!$A$1:$B$73,2,FALSE) -> #N/A
L93: E5 | M93: 総計 | N93: =VLOOKUP(M93,[1]輸出畜産物ピボット!$A$1:$B$73,2,FALSE) -> #N/A
L94: F5
L95: G5 | M95: チーズ | N95: =VLOOKUP(M95,[1]輸出畜産物ピボット!$A$1:$B$73,2,FALSE) -> 243.68
L96: 1 | M96: バター | N96: =VLOOKUP(M96,[1]輸出畜産物ピボット!$A$1:$B$73,2,FALSE) -> 24980
L97: B5 | M97: 偶蹄類動物の飼料用乳製品 | N97: =VLOOKUP(M97,[1]輸出畜産物ピボット!$A$1:$B$73,2,FALSE) -> #N/A
L98: C5 | M98: その他の乳製品 | N98: =VLOOKUP(M98,[1]輸出畜産物ピボット!$A$1:$B$73,2,FALSE) -> 221448.28
L99: D5
L100: E5
...
