Workbook

Sheet １月
D1: 卵 用 鶏 | G1: 肉 用 鶏
A2: 仕出地域 | B2: 性別 | C2: 原種鶏 | D2: 種鶏 | E2: 採卵鶏 | F2: 原種鶏 | G2: 種鶏 | H2: 肉用鶏 | I2: 雌雄別計 | J2: 合計 | K2: 累 計 | L2: 対前年比(%) | M2: 前年同期累計 | N2: 前年同期合計
B3: 雄 | I3: =SUM(C3:H3) -> 0
B4: 雌 | I4: =SUM(C4:H4) -> 0
A5: イギリス | B5: 無鑑別 | I5: =SUM(C5:H5) -> 0 | J5: =SUM(I3:I5) -> 0 | K5: =J5 -> 0 | L5: =IF(ISERROR(K5/M5)," ",K5/M5)
B6: 雄 | I6: =SUM(C6:H6) -> 0
B7: 雌 | I7: =SUM(C7:H7) -> 0
A8: オランダ | B8: 無鑑別 | I8: =SUM(C8:H8) -> 0 | J8: =SUM(I6:I8) -> 0 | K8: =J8 -> 0 | L8: =IF(ISERROR(K8/M8)," ",K8/M8)
B9: 雄 | I9: =SUM(C9:H9) -> 0
B10: 雌 | I10: =SUM(C10:H10) -> 0
A11: フィンランド | B11: 無鑑別 | I11: =SUM(C11:H11) -> 0 | J11: =SUM(I9:I11) -> 0 | K11: =J11 -> 0 | L11: =IF(ISERROR(K11/M11)," ",K11/M11)
B12: 雄 | I12: =SUM(C12:H12) -> 0
B13: 雌 | I13: =SUM(C13:H13) -> 0
A14: フランス | B14: 無鑑別 | I14: =SUM(C14:H14) -> 0 | J14: =SUM(I12:I14) -> 0 | K14: =J14 -> 0 | L14: =IF(ISERROR(K14/M14)," ",K14/M14)
B15: 雄 | I15: =SUM(C15:H15) -> 0
B16: 雌 | I16: =SUM(C16:H16) -> 0
A17: ドイツ | B17: 無鑑別 | I17: =SUM(C17:H17) -> 0 | J17: =SUM(I15:I17) -> 0 | K17: =J17 -> 0 | L17: =IF(ISERROR(K17/M17)," ",K17/M17)
B18: 雄 | I18: =SUM(C18:H18) -> 0
B19: 雌 | I19: =SUM(C19:H19) -> 0
A20: ハンガリー | B20: 無鑑別 | I20: =SUM(C20:H20) -> 0 | J20: =SUM(I18:I20) -> 0 | K20: =J20 -> 0 | L20: =IF(ISERROR(K20/M20)," ",K20/M20)
B21: 雄 | I21: =SUM(C21:H21) -> 0
B22: 雌 | I22: =SUM(C22:H22) -> 0
A23: ｵｰｽﾄﾗﾘｱ | B23: 無鑑別 | I23: =SUM(C23:H23) -> 0 | J23: =SUM(I21:I23) -> 0 | K23: =J23 -> 0 | L23: =IF(ISERROR(K23/M23)," ",K23/M23)
B24: 雄 | I24: =SUM(C24:H24) -> 0
B25: 雌 | I25: =SUM(C25:H25) -> 0
A26: カナダ | B26: 無鑑別 | I26: =SUM(C26:H26) -> 0 | J26: =SUM(I24:I26) -> 0 | K26: =J26 -> 0 | L26: =IF(ISERROR(K26/M26)," ",K26/M26)
B27: 雄 | I27: =SUM(C27:H27) -> 0
B28: 雌 | I28: =SUM(C28:H28) -> 0
A29: アメリカ | B29: 無鑑別 | I29: =SUM(C29:H29) -> 0 | J29: =SUM(I27:I29) -> 0 | K29: =J29 -> 0 | L29: =IF(ISERROR(K29/M29)," ",K29/M29)
B30: 雄 | F30: 6356 | I30: =SUM(C30:H30) -> 6356
B31: 雌 | F31: 18567 | I31: =SUM(C31:H31) -> 18567
A32: ﾆｭｰｼﾞｰﾗﾝﾄﾞ | B32: 無鑑別 | I32: =SUM(C32:H32) -> 0 | J32: =SUM(I30:I32) -> 24923 | K32: =J32 -> 24923 | L32: -
B33: 雄 | I33: =SUM(C33:H33) -> 0
B34: 雌 | I34: =SUM(C34:H34) -> 0
A35: ブラジル | B35: 無鑑別 | I35: =SUM(C35:H35) -> 0 | J35: =SUM(I33:I35) -> 0 | K35: =J35 -> 0 | L35: =IF(ISERROR(K35/M35)," ",K35/M35)
B36: 雄 | C36: =C3+C6+C9+C12+C15+C18+C21+C24+C27+C30 -> 0 | D36: =D3+D6+D9+D12+D15+D18+D21+D24+D27+D30 -> 0 | E36: =E3+E6+E9+E12+E15+E18+E21+E24+E27+E30 -> 0 | F36: =F3+F6+F9+F12+F15+F18+F21+F24+F27+F30 -> 6356 | G36: =G3+G6+G9+G12+G15+G18+G21+G24+G27+G30 -> 0 | H36: =H3+H6+H9+H12+H15+H18+H21+H24+H27+H30 -> 0 | I36: =I3+I6+I9+I12+I15+I18+I21+I24+I27+I30 -> 6356 | J36: =J3+J6+J12+J15+J18+J21+J24+J27+J30+J9+J33 -> 0
B37: 雌 | C37: =C4+C7+C10+C13+C16+C19+C22+C25+C28+C31 -> 0 | D37: =D4+D7+D10+D13+D16+D19+D22+D25+D28+D31 -> 0 | E37: =E4+E7+E10+E13+E16+E19+E22+E25+E28+E31 -> 0 | F37: =F4+F7+F10+F13+F16+F19+F22+F25+F28+F31 -> 18567 | G37: =G4+G7+G10+G13+G16+G19+G22+G25+G28+G31 -> 0 | H37: =H4+H7+H10+H13+H16+H19+H22+H25+H28+H31 -> 0 | I37: =I4+I7+I10+I13+I16+I19+I22+I25+I28+I31 -> 18567 | J37: =J4+J7+J13+J16+J19+J22+J25+J28+J31+J10+J34 -> 0
A38: 計 | B38: 無鑑別 | C38: =C5+C8+C14+C17+C20+C23+C26+C29+C32+C11 -> 0 | D38: =D5+D8+D14+D17+D20+D23+D26+D29+D32+D11 -> 0 | E38: =E5+E8+E14+E17+E20+E23+E26+E29+E32+E11 -> 0 | F38: =F5+F8+F14+F17+F20+F23+F26+F29+F32+F11 -> 0 | G38: =G5+G8+G14+G17+G20+G23+G26+G29+G32+G11 -> 0 | H38: =H5+H8+H14+H17+H20+H23+H26+H29+H32+H11 -> 0 | I38: =I5+I8+I14+I17+I20+I23+I26+I29+I32+I11 -> 0 | J38: =J5+J8+J14+J17+J20+J23+J26+J29+J32+J11+J35 -> 24923 | K38: =J38 -> 24923 | L38: -
B39: 計 | C39: =SUM(C36:C38) -> 0 | D39: =SUM(D36:D38) -> 0 | E39: =SUM(E36:E38) -> 0 | F39: =SUM(F36:F38) -> 24923 | G39: =SUM(G36:G38) -> 0 | H39: =SUM(H36:H38) -> 0 | I39: =SUM(C39:H39) -> 24923
A40: 前年同期合計
...

Sheet ２月
D1: 卵 用 鶏 | G1: 肉 用 鶏
A2: 仕出地域 | B2: 性別 | C2: 原種鶏 | D2: 種鶏 | E2: 採卵鶏 | F2: 原種鶏 | G2: 種鶏 | H2: 肉用鶏 | I2: 雌雄別計 | J2: 合計 | K2: 累 計 | L2: 対前年比(%) | M2: 前年同期累計 | N2: 前年同期合計
B3: 雄 | I3: =SUM(C3:H3) -> 0
B4: 雌 | I4: =SUM(C4:H4) -> 0
A5: イギリス | B5: 無鑑別 | I5: =SUM(C5:H5) -> 0 | J5: =SUM(I3:I5) -> 0 | K5: =J5+'１月'!K5 -> 0 | L5: =IF(ISERROR(K5/M5)," ",K5/M5)
B6: 雄 | I6: =SUM(C6:H6) -> 0
B7: 雌 | I7: =SUM(C7:H7) -> 0
A8: オランダ | B8: 無鑑別 | I8: =SUM(C8:H8) -> 0 | J8: =SUM(I6:I8) -> 0 | K8: =J8+'１月'!K8 -> 0 | L8: =IF(ISERROR(K8/M8)," ",K8/M8)
B9: 雄 | I9: =SUM(C9:H9) -> 0
B10: 雌 | I10: =SUM(C10:H10) -> 0
A11: フィンランド | B11: 無鑑別 | I11: =SUM(C11:H11) -> 0 | J11: =SUM(I9:I11) -> 0 | K11: =J11+'１月'!K11 -> 0 | L11: =IF(ISERROR(K11/M11)," ",K11/M11)
B12: 雄 | I12: =SUM(C12:H12) -> 0
B13: 雌 | I13: =SUM(C13:H13) -> 0
A14: フランス | B14: 無鑑別 | I14: =SUM(C14:H14) -> 0 | J14: =SUM(I12:I14) -> 0 | K14: =J14+'１月'!K14 -> 0 | L14: =IF(ISERROR(K14/M14)," ",K14/M14)
B15: 雄 | I15: =SUM(C15:H15) -> 0
B16: 雌 | I16: =SUM(C16:H16) -> 0
A17: ドイツ | B17: 無鑑別 | I17: =SUM(C17:H17) -> 0 | J17: =SUM(I15:I17) -> 0 | K17: =J17+'１月'!K17 -> 0 | L17: =IF(ISERROR(K17/M17)," ",K17/M17)
B18: 雄 | I18: =SUM(C18:H18) -> 0
B19: 雌 | I19: =SUM(C19:H19) -> 0
A20: ハンガリー | B20: 無鑑別 | I20: =SUM(C20:H20) -> 0 | J20: =SUM(I18:I20) -> 0 | K20: =J20+'１月'!K20 -> 0 | L20: =IF(ISERROR(K20/M20)," ",K20/M20)
B21: 雄 | I21: =SUM(C21:H21) -> 0
B22: 雌 | I22: =SUM(C22:H22) -> 0
A23: ｵｰｽﾄﾗﾘｱ | B23: 無鑑別 | I23: =SUM(C23:H23) -> 0 | J23: =SUM(I21:I23) -> 0 | K23: =J23+'１月'!K23 -> 0 | L23: =IF(ISERROR(K23/M23)," ",K23/M23)
B24: 雄 | I24: =SUM(C24:H24) -> 0
B25: 雌 | I25: =SUM(C25:H25) -> 0
A26: カナダ | B26: 無鑑別 | I26: =SUM(C26:H26) -> 0 | J26: =SUM(I24:I26) -> 0 | K26: =J26+'１月'!K26 -> 0
B27: 雄 | I27: =SUM(C27:H27) -> 0
B28: 雌 | I28: =SUM(C28:H28) -> 0
A29: アメリカ | B29: 無鑑別 | I29: =SUM(C29:H29) -> 0 | J29: =SUM(I27:I29) -> 0 | K29: =J29+'１月'!K29 -> 0
B30: 雄 | F30: 8516 | I30: =SUM(C30:H30) -> 8516
B31: 雌 | F31: 22606 | I31: =SUM(C31:H31) -> 22606
A32: ﾆｭｰｼﾞｰﾗﾝﾄﾞ | B32: 無鑑別 | I32: =SUM(C32:H32) -> 0 | J32: =SUM(I30:I32) -> 31122 | K32: =J32+'１月'!K32 -> 56045 | L32: -
B33: 雄 | I33: =SUM(C33:H33) -> 0
B34: 雌 | I34: =SUM(C34:H34) -> 0
A35: ブラジル | B35: 無鑑別 | I35: =SUM(C35:H35) -> 0 | J35: =SUM(I33:I35) -> 0 | K35: =J35+'１月'!K35 -> 0 | L35: =IF(ISERROR(K35/M35)," ",K35/M35)
B36: 雄 | C36: =C3+C6+C9+C12+C15+C18+C21+C24+C27+C30+C33 -> 0 | D36: =D3+D6+D9+D12+D15+D18+D21+D24+D27+D30+D33 -> 0 | E36: =E3+E6+E9+E12+E15+E18+E21+E24+E27+E30+E33 -> 0 | F36: =F3+F6+F9+F12+F15+F18+F21+F24+F27+F30+F33 -> 8516 | G36: =G3+G6+G9+G12+G15+G18+G21+G24+G27+G30+G33 -> 0 | H36: =H3+H6+H9+H12+H15+H18+H21+H24+H27+H30+H33 -> 0 | I36: =I3+I6+I9+I12+I15+I18+I21+I24+I27+I30+I33 -> 8516 | J36: =J3+J6+J9+J12+J15+J18+J21+J24+J27+J30 -> 0
B37: 雌 | C37: =C4+C7+C10+C13+C16+C19+C22+C25+C28+C31+C34 -> 0 | D37: =D4+D7+D10+D13+D16+D19+D22+D25+D28+D31+D34 -> 0 | E37: =E4+E7+E10+E13+E16+E19+E22+E25+E28+E31+E34 -> 0 | F37: =F4+F7+F10+F13+F16+F19+F22+F25+F28+F31+F34 -> 22606 | G37: =G4+G7+G10+G13+G16+G19+G22+G25+G28+G31+G34 -> 0 | H37: =H4+H7+H10+H13+H16+H19+H22+H25+H28+H31+H34 -> 0 | I37: =I4+I7+I10+I13+I16+I19+I22+I25+I28+I31+I34 -> 22606 | J37: =J4+J7+J10+J13+J16+J19+J22+J25+J28+J31 -> 0
A38: 計 | B38: 無鑑別 | C38: =C5+C8+C11+C14+C17+C20+C23+C26+C29+C32+C35 -> 0 | D38: =D5+D8+D11+D14+D17+D20+D23+D26+D29+D32+D35 -> 0 | E38: =E5+E8+E11+E14+E17+E20+E23+E26+E29+E32+E35 -> 0 | F38: =F5+F8+F11+F14+F17+F20+F23+F26+F29+F32+F35 -> 0 | G38: =G5+G8+G11+G14+G17+G20+G23+G26+G29+G32+G35 -> 0 | H38: =H5+H8+H11+H14+H17+H20+H23+H26+H29+H32+H35 -> 0 | I38: =I5+I8+I11+I14+I17+I20+I23+I26+I29+I32+I35 -> 0 | J38: =J5+J8+J14+J17+J20+J23+J26+J29+J32+J11 -> 31122 | K38: =J38+'１月'!K38 -> 56045 | L38: -
B39: 計 | C39: =SUM(C36:C38) -> 0 | D39: =SUM(D36:D38) -> 0 | E39: =SUM(E36:E38) -> 0 | F39: =SUM(F36:F38) -> 31122 | G39: =SUM(G36:G38) -> 0 | H39: =SUM(H36:H38) -> 0 | I39: =SUM(C39:H39) -> 31122
A40: 前年同期合計
...

Sheet ３月
D1: 卵 用 鶏 | G1: 肉 用 鶏
A2: 仕出地域 | B2: 性別 | C2: 原種鶏 | D2: 種鶏 | E2: 採卵鶏 | F2: 原種鶏 | G2: 種鶏 | H2: 肉用鶏 | I2: 雌雄別計 | J2: 合計 | K2: 累 計 | L2: 対前年比(%) | M2: 前年同期累計 | N2: 前年同期合計
B3: 雄 | I3: =SUM(C3:H3) -> 0
B4: 雌 | I4: =SUM(C4:H4) -> 0
A5: イギリス | B5: 無鑑別 | I5: =SUM(C5:H5) -> 0 | J5: =SUM(I3:I5) -> 0 | K5: =J5+'２月'!K5 -> 0 | L5: =IF(ISERROR(K5/M5)," ",K5/M5)
B6: 雄 | I6: =SUM(C6:H6) -> 0
B7: 雌 | I7: =SUM(C7:H7) -> 0
A8: オランダ | B8: 無鑑別 | I8: =SUM(C8:H8) -> 0 | J8: =SUM(I6:I8) -> 0 | K8: =J8+'２月'!K8 -> 0 | L8: =IF(ISERROR(K8/M8)," ",K8/M8)
B9: 雄 | I9: =SUM(C9:H9) -> 0
B10: 雌 | I10: =SUM(C10:H10) -> 0
A11: フィンランド | B11: 無鑑別 | I11: =SUM(C11:H11) -> 0 | J11: =SUM(I9:I11) -> 0 | K11: =J11+'２月'!K11 -> 0 | L11: =IF(ISERROR(K11/M11)," ",K11/M11)
B12: 雄 | I12: =SUM(C12:H12) -> 0
B13: 雌 | I13: =SUM(C13:H13) -> 0
A14: フランス | B14: 無鑑別 | I14: =SUM(C14:H14) -> 0 | J14: =SUM(I12:I14) -> 0 | K14: =J14+'２月'!K14 -> 0 | L14: =IF(ISERROR(K14/M14)," ",K14/M14)
B15: 雄 | I15: =SUM(C15:H15) -> 0
B16: 雌 | I16: =SUM(C16:H16) -> 0
A17: ドイツ | B17: 無鑑別 | I17: =SUM(C17:H17) -> 0 | J17: =SUM(I15:I17) -> 0 | K17: =J17+'２月'!K17 -> 0 | L17: =IF(ISERROR(K17/M17)," ",K17/M17)
B18: 雄 | I18: =SUM(C18:H18) -> 0
B19: 雌 | I19: =SUM(C19:H19) -> 0
A20: ハンガリー | B20: 無鑑別 | I20: =SUM(C20:H20) -> 0 | J20: =SUM(I18:I20) -> 0 | K20: =J20+'２月'!K20 -> 0 | L20: =IF(ISERROR(K20/M20)," ",K20/M20)
B21: 雄 | I21: =SUM(C21:H21) -> 0
B22: 雌 | I22: =SUM(C22:H22) -> 0
A23: ｵｰｽﾄﾗﾘｱ | B23: 無鑑別 | I23: =SUM(C23:H23) -> 0 | J23: =SUM(I21:I23) -> 0 | K23: =J23+'２月'!K23 -> 0 | L23: =IF(ISERROR(K23/M23)," ",K23/M23)
B24: 雄 | I24: =SUM(C24:H24) -> 0
B25: 雌 | I25: =SUM(C25:H25) -> 0
A26: カナダ | B26: 無鑑別 | I26: =SUM(C26:H26) -> 0 | J26: =SUM(I24:I26) -> 0 | K26: =J26+'２月'!K26 -> 0 | L26: =IF(ISERROR(K26/M26)," ",K26/M26)
B27: 雄 | I27: =SUM(C27:H27) -> 0
B28: 雌 | I28: =SUM(C28:H28) -> 0
A29: アメリカ | B29: 無鑑別 | I29: =SUM(C29:H29) -> 0 | J29: =SUM(I27:I29) -> 0 | K29: =J29+'２月'!K29 -> 0 | L29: =IF(ISERROR(K29/M29)," ",K29/M29)
B30: 雄 | I30: =SUM(C30:H30) -> 0
B31: 雌 | I31: =SUM(C31:H31) -> 0
A32: ﾆｭｰｼﾞｰﾗﾝﾄﾞ | B32: 無鑑別 | I32: =SUM(C32:H32) -> 0 | J32: =SUM(I30:I32) -> 0 | K32: =J32+'２月'!K32 -> 56045 | L32: -
B33: 雄 | I33: =SUM(C33:H33) -> 0
B34: 雌 | I34: =SUM(C34:H34) -> 0
A35: ブラジル | B35: 無鑑別 | I35: =SUM(C35:H35) -> 0 | J35: =SUM(I33:I35) -> 0 | K35: =J35+'２月'!K35 -> 0 | L35: =IF(ISERROR(K35/M35)," ",K35/M35)
B36: 雄 | C36: =C3+C6+C9+C12+C15+C18+C21+C24+C27+C30+C33 -> 0 | D36: =D3+D6+D9+D12+D15+D18+D21+D24+D27+D30+D33 -> 0 | E36: =E3+E6+E9+E12+E15+E18+E21+E24+E27+E30+E33 -> 0 | F36: =F3+F6+F9+F12+F15+F18+F21+F24+F27+F30+F33 -> 0 | G36: =G3+G6+G9+G12+G15+G18+G21+G24+G27+G30+G33 -> 0 | H36: =H3+H6+H9+H12+H15+H18+H21+H24+H27+H30+H33 -> 0 | I36: =I3+I6+I9+I12+I15+I18+I21+I24+I27+I30+I33 -> 0 | J36: =J3+J6+J9+J12+J15+J18+J21+J24+J27+J30 -> 0
B37: 雌 | C37: =C4+C7+C10+C13+C16+C19+C22+C25+C28+C31+C34 -> 0 | D37: =D4+D7+D10+D13+D16+D19+D22+D25+D28+D31+D34 -> 0 | E37: =E4+E7+E10+E13+E16+E19+E22+E25+E28+E31+E34 -> 0 | F37: =F4+F7+F10+F13+F16+F19+F22+F25+F28+F31+F34 -> 0 | G37: =G4+G7+G10+G13+G16+G19+G22+G25+G28+G31+G34 -> 0 | H37: =H4+H7+H10+H13+H16+H19+H22+H25+H28+H31+H34 -> 0 | I37: =I4+I7+I10+I13+I16+I19+I22+I25+I28+I31+I34 -> 0 | J37: =J4+J7+J10+J13+J16+J19+J22+J25+J28+J31 -> 0
A38: 計 | B38: 無鑑別 | C38: =C5+C8+C11+C14+C17+C20+C23+C26+C29+C32+C35 -> 0 | D38: =D5+D8+D11+D14+D17+D20+D23+D26+D29+D32+D35 -> 0 | E38: =E5+E8+E11+E14+E17+E20+E23+E26+E29+E32+E35 -> 0 | F38: =F5+F8+F11+F14+F17+F20+F23+F26+F29+F32+F35 -> 0 | G38: =G5+G8+G11+G14+G17+G20+G23+G26+G29+G32+G35 -> 0 | H38: =H5+H8+H11+H14+H17+H20+H23+H26+H29+H32+H35 -> 0 | I38: =I5+I8+I11+I14+I17+I20+I23+I26+I29+I32+I35 -> 0 | J38: =J5+J8+J14+J17+J20+J23+J26+J29+J32+J11 -> 0 | K38: =J38+'２月'!K38 -> 56045 | L38: -
B39: 計 | C39: =SUM(C9:C32) -> 0 | D39: =SUM(D36:D38) -> 0 | E39: =SUM(E36:E38) -> 0 | F39: =SUM(F36:F38) -> 0 | G39: =SUM(G36:G38) -> 0 | H39: =SUM(H36:H38) -> 0 | I39: =SUM(C39:H39) -> 0
A40: 前年同期合計
...

Sheet ４月
D1: 卵 用 鶏 | G1: 肉 用 鶏
A2: 仕出地域 | B2: 性別 | C2: 原種鶏 | D2: 種鶏 | E2: 採卵鶏 | F2: 原種鶏 | G2: 種鶏 | H2: 肉用鶏 | I2: 雌雄別計 | J2: 合計 | K2: 累 計 | L2: 対前年比(%) | M2: 前年同期累計 | N2: 前年同期合計
B3: 雄 | I3: =SUM(C3:H3) -> 0
B4: 雌 | I4: =SUM(C4:H4) -> 0
A5: イギリス | B5: 無鑑別 | I5: =SUM(C5:H5) -> 0 | J5: =SUM(I3:I5) -> 0 | K5: =J5+'３月'!K5 -> 0 | L5: =IF(ISERROR(K5/M5)," ",K5/M5)
B6: 雄 | I6: =SUM(C6:H6) -> 0
B7: 雌 | I7: =SUM(C7:H7) -> 0
A8: オランダ | B8: 無鑑別 | I8: =SUM(C8:H8) -> 0 | J8: =SUM(I6:I8) -> 0 | K8: =J8+'３月'!K8 -> 0 | L8: =IF(ISERROR(K8/M8)," ",K8/M8)
B9: 雄 | I9: =SUM(C9:H9) -> 0
B10: 雌 | I10: =SUM(C10:H10) -> 0
A11: フィンランド | B11: 無鑑別 | I11: =SUM(C11:H11) -> 0 | J11: =SUM(I9:I11) -> 0 | K11: =J11+'３月'!K11 -> 0 | L11: =IF(ISERROR(K11/M11)," ",K11/M11)
B12: 雄 | I12: =SUM(C12:H12) -> 0
B13: 雌 | I13: =SUM(C13:H13) -> 0
A14: フランス | B14: 無鑑別 | I14: =SUM(C14:H14) -> 0 | J14: =SUM(I12:I14) -> 0 | K14: =J14+'３月'!K14 -> 0 | L14: =IF(ISERROR(K14/M14)," ",K14/M14)
B15: 雄 | I15: =SUM(C15:H15) -> 0
B16: 雌 | I16: =SUM(C16:H16) -> 0
A17: ドイツ | B17: 無鑑別 | I17: =SUM(C17:H17) -> 0 | J17: =SUM(I15:I17) -> 0 | K17: =J17+'３月'!K17 -> 0 | L17: =IF(ISERROR(K17/M17)," ",K17/M17)
B18: 雄 | I18: =SUM(C18:H18) -> 0
B19: 雌 | I19: =SUM(C19:H19) -> 0
A20: ハンガリー | B20: 無鑑別 | I20: =SUM(C20:H20) -> 0 | J20: =SUM(I18:I20) -> 0 | K20: =J20+'３月'!K20 -> 0 | L20: =IF(ISERROR(K20/M20)," ",K20/M20)
B21: 雄 | I21: =SUM(C21:H21) -> 0
B22: 雌 | I22: =SUM(C22:H22) -> 0
A23: ｵｰｽﾄﾗﾘｱ | B23: 無鑑別 | I23: =SUM(C23:H23) -> 0 | J23: =SUM(I21:I23) -> 0 | K23: =J23+'３月'!K23 -> 0 | L23: =IF(ISERROR(K23/M23)," ",K23/M23)
B24: 雄 | I24: =SUM(C24:H24) -> 0
B25: 雌 | I25: =SUM(C25:H25) -> 0
A26: カナダ | B26: 無鑑別 | I26: =SUM(C26:H26) -> 0 | J26: =SUM(I24:I26) -> 0 | K26: =J26+'３月'!K26 -> 0 | L26: =IF(ISERROR(K26/M26)," ",K26/M26)
B27: 雄 | I27: =SUM(C27:H27) -> 0
B28: 雌 | I28: =SUM(C28:H28) -> 0
A29: アメリカ | B29: 無鑑別 | I29: =SUM(C29:H29) -> 0 | J29: =SUM(I27:I29) -> 0 | K29: =J29+'３月'!K29 -> 0 | L29: =IF(ISERROR(K29/M29)," ",K29/M29)
B30: 雄 | F30: 6063 | I30: =SUM(C30:H30) -> 6063
B31: 雌 | F31: 18271 | I31: =SUM(C31:H31) -> 18271
A32: ﾆｭｰｼﾞｰﾗﾝﾄﾞ | B32: 無鑑別 | I32: =SUM(C32:H32) -> 0 | J32: =SUM(I30:I32) -> 24334 | K32: =J32+'３月'!K32 -> 80379 | L32: =IF(ISERROR(K32/M32)," ",K32/M32) -> 3.5719237 | M32: 22503 | N32: 22503
B33: 雄 | C33: 1287 | I33: =SUM(C33:H33) -> 1287
B34: 雌 | C34: 9254 | I34: =SUM(C34:H34) -> 9254
A35: ブラジル | B35: 無鑑別 | I35: =SUM(C35:H35) -> 0 | J35: =SUM(I33:I35) -> 10541 | K35: =J35+'３月'!K35 -> 10541 | L35: -
B36: 雄 | C36: =C3+C6+C9+C12+C15+C18+C21+C24+C27+C30+C33 -> 1287 | D36: =D3+D6+D9+D12+D15+D18+D21+D24+D27+D30+D33 -> 0 | E36: =E3+E6+E9+E12+E15+E18+E21+E24+E27+E30+E33 -> 0 | F36: =F3+F6+F9+F12+F15+F18+F21+F24+F27+F30+F33 -> 6063 | G36: =G3+G6+G9+G12+G15+G18+G21+G24+G27+G30+G33 -> 0 | H36: =H3+H6+H9+H12+H15+H18+H21+H24+H27+H30+H33 -> 0 | I36: =I3+I6+I9+I12+I15+I18+I21+I24+I27+I30+I33 -> 7350 | J36: =J3+J6+J9+J12+J15+J18+J21+J24+J27+J30 -> 0
B37: 雌 | C37: =C4+C7+C10+C13+C16+C19+C22+C25+C28+C31+C34 -> 9254 | D37: =D4+D7+D10+D13+D16+D19+D22+D25+D28+D31+D34 -> 0 | E37: =E4+E7+E10+E13+E16+E19+E22+E25+E28+E31+E34 -> 0 | F37: =F4+F7+F10+F13+F16+F19+F22+F25+F28+F31+F34 -> 18271 | G37: =G4+G7+G10+G13+G16+G19+G22+G25+G28+G31+G34 -> 0 | H37: =H4+H7+H10+H13+H16+H19+H22+H25+H28+H31+H34 -> 0 | I37: =I4+I7+I10+I13+I16+I19+I22+I25+I28+I31+I34 -> 27525 | J37: =J4+J7+J10+J13+J16+J19+J22+J25+J28+J31 -> 0
A38: 計 | B38: 無鑑別 | C38: =C5+C8+C11+C14+C17+C20+C23+C26+C29+C32+C35 -> 0 | D38: =D5+D8+D11+D14+D17+D20+D23+D26+D29+D32+D35 -> 0 | E38: =E5+E8+E11+E14+E17+E20+E23+E26+E29+E32+E35 -> 0 | F38: =F5+F8+F11+F14+F17+F20+F23+F26+F29+F32+F35 -> 0 | G38: =G5+G8+G11+G14+G17+G20+G23+G26+G29+G32+G35 -> 0 | H38: =H5+H8+H11+H14+H17+H20+H23+H26+H29+H32+H35 -> 0 | I38: =I5+I8+I11+I14+I17+I20+I23+I26+I29+I32+I35 -> 0 | J38: =J5+J8+J14+J17+J20+J23+J26+J29+J32+J11+J35 -> 34875 | K38: =J38+'３月'!K38 -> 90920 | L38: =IF(ISERROR(K38/M38)," ",K38/M38) -> 4.0403502 | M38: 22503 | N38: 22503
B39: 計 | C39: =SUM(C36:C38) -> 10541 | D39: =SUM(D36:D38) -> 0 | E39: =SUM(E36:E38) -> 0 | F39: =SUM(F36:F38) -> 24334 | G39: =SUM(G36:G38) -> 0 | H39: =SUM(H36:H38) -> 0 | I39: =SUM(C39:H39) -> 34875
A40: 前年同期合計 | C40: 0 | D40: 0 | E40: 0 | F40: 22503 | G40: 0 | H40: 0 | I40: 22503
...

Sheet ５月
D1: 卵 用 鶏 | G1: 肉 用 鶏
A2: 仕出地域 | B2: 性別 | C2: 原種鶏 | D2: 種鶏 | E2: 採卵鶏 | F2: 原種鶏 | G2: 種鶏 | H2: 肉用鶏 | I2: 雌雄別計 | J2: 合計 | K2: 累 計 | L2: 対前年比(%) | M2: 前年同期累計 | N2: 前年同期合計
B3: 雄 | I3: =SUM(C3:H3) -> 0
B4: 雌 | I4: =SUM(C4:H4) -> 0
A5: イギリス | B5: 無鑑別 | I5: =SUM(C5:H5) -> 0 | J5: =SUM(I3:I5) -> 0 | K5: =J5+'４月'!K5 -> 0 | L5: =IF(ISERROR(K5/M5)," ",K5/M5) | M5: 0 | N5: 0
B6: 雄 | I6: =SUM(C6:H6) -> 0
B7: 雌 | I7: =SUM(C7:H7) -> 0
A8: オランダ | B8: 無鑑別 | I8: =SUM(C8:H8) -> 0 | J8: =SUM(I6:I8) -> 0 | K8: =J8+'４月'!K8 -> 0 | L8: =IF(ISERROR(K8/M8)," ",K8/M8) | M8: 0 | N8: 0
B9: 雄 | I9: =SUM(C9:H9) -> 0
B10: 雌 | I10: =SUM(C10:H10) -> 0
A11: フィンランド | B11: 無鑑別 | I11: =SUM(C11:H11) -> 0 | J11: =SUM(I9:I11) -> 0 | K11: =J11+'４月'!K11 -> 0 | L11: =IF(ISERROR(K11/M11)," ",K11/M11) | M11: 0 | N11: 0
B12: 雄 | I12: =SUM(C12:H12) -> 0
B13: 雌 | I13: =SUM(C13:H13) -> 0
A14: フランス | B14: 無鑑別 | I14: =SUM(C14:H14) -> 0 | J14: =SUM(I12:I14) -> 0 | K14: =J14+'４月'!K14 -> 0 | L14: =IF(ISERROR(K14/M14)," ",K14/M14) | M14: 0 | N14: 0
B15: 雄 | I15: =SUM(C15:H15) -> 0
B16: 雌 | I16: =SUM(C16:H16) -> 0
A17: ドイツ | B17: 無鑑別 | I17: =SUM(C17:H17) -> 0 | J17: =SUM(I15:I17) -> 0 | K17: =J17+'４月'!K17 -> 0 | L17: =IF(ISERROR(K17/M17)," ",K17/M17) | M17: 0 | N17: 0
B18: 雄 | I18: =SUM(C18:H18) -> 0
B19: 雌 | I19: =SUM(C19:H19) -> 0
A20: ハンガリー | B20: 無鑑別 | I20: =SUM(C20:H20) -> 0 | J20: =SUM(I18:I20) -> 0 | K20: =J20+'４月'!K20 -> 0 | L20: =IF(ISERROR(K20/M20)," ",K20/M20) | M20: 0 | N20: 0
B21: 雄 | I21: =SUM(C21:H21) -> 0
B22: 雌 | I22: =SUM(C22:H22) -> 0
A23: ｵｰｽﾄﾗﾘｱ | B23: 無鑑別 | I23: =SUM(C23:H23) -> 0 | J23: =SUM(I21:I23) -> 0 | K23: =J23+'４月'!K23 -> 0 | L23: =IF(ISERROR(K23/M23)," ",K23/M23) | M23: 0 | N23: 0
B24: 雄 | I24: =SUM(C24:H24) -> 0
B25: 雌 | I25: =SUM(C25:H25) -> 0
A26: カナダ | B26: 無鑑別 | I26: =SUM(C26:H26) -> 0 | J26: =SUM(I24:I26) -> 0 | K26: =J26+'４月'!K26 -> 0 | L26: =IF(ISERROR(K26/M26)," ",K26/M26) | M26: 0 | N26: 0
B27: 雄 | I27: =SUM(C27:H27) -> 0
B28: 雌 | I28: =SUM(C28:H28) -> 0
A29: アメリカ | B29: 無鑑別 | I29: =SUM(C29:H29) -> 0 | J29: =SUM(I27:I29) -> 0 | K29: =J29+'４月'!K29 -> 0 | L29: =IF(ISERROR(K29/M29)," ",K29/M29) | M29: 0 | N29: 0
B30: 雄 | F30: 6002 | I30: =SUM(C30:H30) -> 6002
B31: 雌 | F31: 16346 | I31: =SUM(C31:H31) -> 16346
A32: ﾆｭｰｼﾞｰﾗﾝﾄﾞ | B32: 無鑑別 | I32: =SUM(C32:H32) -> 0 | J32: =SUM(I30:I32) -> 22348 | K32: =J32+'４月'!K32 -> 102727 | L32: =IF(ISERROR(K32/M32)," ",K32/M32) -> 4.5650358 | M32: 22503
B33: 雄 | I33: =SUM(C33:H33) -> 0
B34: 雌 | I34: =SUM(C34:H34) -> 0
A35: ブラジル | B35: 無鑑別 | I35: =SUM(C35:H35) -> 0 | J35: =SUM(I33:I35) -> 0 | K35: =J35+'４月'!K35 -> 10541 | L35: =IF(ISERROR(K35/M35)," ",K35/M35) -> 1.4958138 | M35: 7047 | N35: 7047
B36: 雄 | C36: =C3+C6+C9+C12+C15+C18+C21+C24+C27+C30+C33 -> 0 | D36: =D3+D6+D9+D12+D15+D18+D21+D24+D27+D30+D33 -> 0 | E36: =E3+E6+E9+E12+E15+E18+E21+E24+E27+E30+E33 -> 0 | F36: =F3+F6+F9+F12+F15+F18+F21+F24+F27+F30+F33 -> 6002 | G36: =G3+G6+G9+G12+G15+G18+G21+G24+G27+G30+G33 -> 0 | H36: =H3+H6+H9+H12+H15+H18+H21+H24+H27+H30+H33 -> 0 | I36: =I3+I6+I9+I12+I15+I18+I21+I24+I27+I30+I33 -> 6002 | J36: =J3+J6+J9+J12+J15+J18+J21+J24+J27+J30+J33 -> 0 | N36: 0
B37: 雌 | C37: =C4+C7+C10+C13+C16+C19+C22+C25+C28+C31+C34 -> 0 | D37: =D4+D7+D10+D13+D16+D19+D22+D25+D28+D31+D34 -> 0 | E37: =E4+E7+E10+E13+E16+E19+E22+E25+E28+E31+E34 -> 0 | F37: =F4+F7+F10+F13+F16+F19+F22+F25+F28+F31+F34 -> 16346 | G37: =G4+G7+G10+G13+G16+G19+G22+G25+G28+G31+G34 -> 0 | H37: =H4+H7+H10+H13+H16+H19+H22+H25+H28+H31+H34 -> 0 | I37: =I4+I7+I10+I13+I16+I19+I22+I25+I28+I31+I34 -> 16346 | J37: =J4+J7+J10+J13+J16+J19+J22+J25+J28+J31+J34 -> 0 | N37: 0
A38: 計 | B38: 無鑑別 | C38: =C5+C8+C11+C14+C17+C20+C23+C26+C29+C32+C35 -> 0 | D38: =D5+D8+D11+D14+D17+D20+D23+D26+D29+D32+D35 -> 0 | E38: =E5+E8+E11+E14+E17+E20+E23+E26+E29+E32+E35 -> 0 | F38: =F5+F8+F11+F14+F17+F20+F23+F26+F29+F32+F35 -> 0 | G38: =G5+G8+G11+G14+G17+G20+G23+G26+G29+G32+G35 -> 0 | H38: =H5+H8+H11+H14+H17+H20+H23+H26+H29+H32+H35 -> 0 | I38: =I5+I8+I11+I14+I17+I20+I23+I26+I29+I32+I35 -> 0 | J38: =J5+J8+J14+J17+J20+J23+J26+J29+J32+J11+J35 -> 22348 | K38: =J38+'４月'!K38 -> 113268 | L38: =IF(ISERROR(K38/M38)," ",K38/M38) -> 3.8330964 | M38: 29550 | N38: 7047
B39: 計 | C39: =SUM(C36:C38) -> 0 | D39: =SUM(D36:D38) -> 0 | E39: =SUM(E36:E38) -> 0 | F39: =SUM(F36:F38) -> 22348 | G39: =SUM(G36:G38) -> 0 | H39: =SUM(H36:H38) -> 0 | I39: =SUM(C39:H39) -> 22348
A40: 前年同期合計 | C40: 0 | D40: 0 | E40: 0 | F40: 0 | G40: 7047 | H40: 0 | I40: 7047
...

Sheet ６月
D1: 卵 用 鶏 | G1: 肉 用 鶏
A2: 仕出地域 | B2: 性別 | C2: 原種鶏 | D2: 種鶏 | E2: 採卵鶏 | F2: 原種鶏 | G2: 種鶏 | H2: 肉用鶏 | I2: 雌雄別計 | J2: 合計 | K2: 累 計 | L2: 対前年比(%) | M2: 前年同期累計 | N2: 前年同期合計
B3: 雄 | G3: 546 | I3: =SUM(C3:H3) -> 546
B4: 雌 | G4: 2408 | I4: =SUM(C4:H4) -> 2408
A5: イギリス | B5: 無鑑別 | I5: =SUM(C5:H5) -> 0 | J5: =SUM(I3:I5) -> 2954 | K5: =J5+'５月'!K5 -> 2954 | L5: - | M5: 0 | N5: 0
B6: 雄 | D6: 2704 | I6: 2704
B7: 雌 | D7: 23623 | I7: 23623
A8: オランダ | B8: 無鑑別 | J8: =SUM(I6:I8) -> 26327 | K8: =J8+'５月'!K8 -> 26327 | L8: - | M8: 0 | N8: 0
B9: 雄 | I9: =SUM(C9:H9) -> 0
B10: 雌 | I10: =SUM(C10:H10) -> 0
A11: フィンランド | B11: 無鑑別 | I11: =SUM(C11:H11) -> 0 | J11: =SUM(I9:I11) -> 0 | K11: =J11+'５月'!K11 -> 0 | L11: =IF(ISERROR(K11/M11)," ",K11/M11) | M11: 0 | N11: 0
B12: 雄 | I12: =SUM(C12:H12) -> 0
B13: 雌 | I13: =SUM(C13:H13) -> 0
A14: フランス | B14: 無鑑別 | I14: =SUM(C14:H14) -> 0 | J14: =SUM(I12:I14) -> 0 | K14: =J14+'５月'!K14 -> 0 | L14: =IF(ISERROR(K14/M14)," ",K14/M14) | M14: 0 | N14: 0
B15: 雄 | I15: =SUM(C15:H15) -> 0
B16: 雌 | I16: =SUM(C16:H16) -> 0
A17: ドイツ | B17: 無鑑別 | I17: =SUM(C17:H17) -> 0 | J17: =SUM(I15:I17) -> 0 | K17: =J17+'５月'!K17 -> 0 | L17: =IF(ISERROR(K17/M17)," ",K17/M17) | M17: 0 | N17: 0
B18: 雄 | I18: =SUM(C18:H18) -> 0
B19: 雌 | I19: =SUM(C19:H19) -> 0
A20: ハンガリー | B20: 無鑑別 | I20: =SUM(C20:H20) -> 0 | J20: =SUM(I18:I20) -> 0 | K20: =J20+'５月'!K20 -> 0 | L20: =IF(ISERROR(K20/M20)," ",K20/M20) | M20: 0 | N20: 0
B21: 雄 | I21: =SUM(C21:H21) -> 0
B22: 雌 | I22: =SUM(C22:H22) -> 0
A23: ｵｰｽﾄﾗﾘｱ | B23: 無鑑別 | I23: =SUM(C23:H23) -> 0 | J23: =SUM(I21:I23) -> 0 | K23: =J23+'５月'!K23 -> 0 | L23: =IF(ISERROR(K23/M23)," ",K23/M23) | M23: 0 | N23: 0
B24: 雄 | I24: =SUM(C24:H24) -> 0
B25: 雌 | I25: =SUM(C25:H25) -> 0
A26: カナダ | B26: 無鑑別 | I26: =SUM(C26:H26) -> 0 | J26: =SUM(I24:I26) -> 0 | K26: =J26+'５月'!K26 -> 0 | L26: =IF(ISERROR(K26/M26)," ",K26/M26) | M26: 0 | N26: 0
B27: 雄 | I27: =SUM(C27:H27) -> 0
B28: 雌 | I28: =SUM(C28:H28) -> 0
A29: アメリカ | B29: 無鑑別 | I29: =SUM(C29:H29) -> 0 | J29: =SUM(I27:I29) -> 0 | K29: =J29+'５月'!K29 -> 0 | L29: =IF(ISERROR(K29/M29)," ",K29/M29) | M29: 0 | N29: 0
B30: 雄 | I30: =SUM(C30:H30) -> 0
B31: 雌 | I31: =SUM(C31:H31) -> 0
A32: ﾆｭｰｼﾞｰﾗﾝﾄﾞ | B32: 無鑑別 | I32: =SUM(C32:H32) -> 0 | J32: =SUM(I30:I32) -> 0 | K32: =J32+'５月'!K32 -> 102727 | L32: =IF(ISERROR(K32/M32)," ",K32/M32) -> 1.4022824 | M32: 73257 | N32: 50754
B33: 雄 | I33: =SUM(C33:H33) -> 0
B34: 雌 | I34: =SUM(C34:H34) -> 0
A35: ブラジル | B35: 無鑑別 | I35: =SUM(C35:H35) -> 0 | J35: =SUM(I33:I35) -> 0 | K35: =J35+'５月'!K35 -> 10541 | L35: =IF(ISERROR(K35/M35)," ",K35/M35) -> 1.4958138 | M35: 7047
B36: 雄 | C36: =C3+C6+C9+C12+C15+C18+C21+C24+C27+C30+C33 -> 0 | D36: =D3+D6+D9+D12+D15+D18+D21+D24+D27+D30+D33 -> 2704 | E36: =E3+E6+E9+E12+E15+E18+E21+E24+E27+E30+E33 -> 0 | F36: =F3+F6+F9+F12+F15+F18+F21+F24+F27+F30+F33 -> 0 | G36: =G3+G6+G9+G12+G15+G18+G21+G24+G27+G30+G33 -> 546 | H36: =H3+H6+H9+H12+H15+H18+H21+H24+H27+H30+H33 -> 0 | I36: =I3+I6+I9+I12+I15+I18+I21+I24+I27+I30+I33 -> 3250 | J36: =J3+J6+J9+J12+J15+J18+J21+J24+J27+J30+J33 -> 0
B37: 雌 | C37: =C4+C7+C10+C13+C16+C19+C22+C25+C28+C31+C34 -> 0 | D37: =D4+D7+D10+D13+D16+D19+D22+D25+D28+D31+D34 -> 23623 | E37: =E4+E7+E10+E13+E16+E19+E22+E25+E28+E31+E34 -> 0 | F37: =F4+F7+F10+F13+F16+F19+F22+F25+F28+F31+F34 -> 0 | G37: =G4+G7+G10+G13+G16+G19+G22+G25+G28+G31+G34 -> 2408 | H37: =H4+H7+H10+H13+H16+H19+H22+H25+H28+H31+H34 -> 0 | I37: =I4+I7+I10+I13+I16+I19+I22+I25+I28+I31+I34 -> 26031
A38: 計 | B38: 無鑑別 | C38: =C5+C8+C11+C14+C17+C20+C23+C26+C29+C32+C35 -> 0 | D38: =D5+D8+D11+D14+D17+D20+D23+D26+D29+D32+D35 -> 0 | E38: =E5+E8+E11+E14+E17+E20+E23+E26+E29+E32+E35 -> 0 | F38: =F5+F8+F11+F14+F17+F20+F23+F26+F29+F32+F35 -> 0 | G38: =G5+G8+G11+G14+G17+G20+G23+G26+G29+G32+G35 -> 0 | H38: =H5+H8+H11+H14+H17+H20+H23+H26+H29+H32+H35 -> 0 | I38: =I5+I8+I11+I14+I17+I20+I23+I26+I29+I32+I35 -> 0 | J38: =SUM(I36:I38) -> 29281 | K38: =J38+'５月'!K38 -> 142549 | L38: =IF(ISERROR(K38/M38)," ",K38/M38) -> 1.7751171 | M38: 80304 | N38: 50754
B39: 計 | C39: =SUM(C36:C38) -> 0 | D39: =SUM(D36:D38) -> 26327 | E39: =SUM(E36:E38) -> 0 | F39: =SUM(F36:F38) -> 0 | G39: =SUM(G36:G38) -> 2954 | H39: =SUM(H36:H38) -> 0 | I39: =SUM(C39:H39) -> 29281
A40: 前年同期合計 | C40: 0 | D40: 5701 | E40: 0 | F40: 45053 | G40: 0 | H40: 0 | I40: 50754
...

Sheet ７月
D1: 卵 用 鶏 | G1: 肉 用 鶏
A2: 仕出地域 | B2: 性別 | C2: 原種鶏 | D2: 種鶏 | E2: 採卵鶏 | F2: 原種鶏 | G2: 種鶏 | H2: 肉用鶏 | I2: 雌雄別計 | J2: 合計 | K2: 累 計 | L2: 対前年比(%) | M2: 前年同期累計 | N2: 前年同期合計
B3: 雄 | I3: =SUM(C3:H3) -> 0
B4: 雌 | I4: =SUM(C4:H4) -> 0
A5: イギリス | B5: 無鑑別 | I5: =SUM(C5:H5) -> 0 | J5: =SUM(I3:I5) -> 0 | K5: =J5+'６月'!K5 -> 2954 | L5: - | M5: 0 | N5: 0
B6: 雄 | I6: =SUM(C6:H6) -> 0
B7: 雌 | I7: =SUM(C7:H7) -> 0
A8: オランダ | B8: 無鑑別 | I8: =SUM(C8:H8) -> 0 | J8: =SUM(I6:I8) -> 0 | K8: =J8+'６月'!K8 -> 26327 | L8: =IF(ISERROR(K8/M8)," ",K8/M8) -> 0.98851049 | M8: 26633 | N8: 26633
B9: 雄 | I9: =SUM(C9:H9) -> 0
B10: 雌 | I10: =SUM(C10:H10) -> 0
A11: フィンランド | B11: 無鑑別 | I11: =SUM(C11:H11) -> 0 | J11: =SUM(I9:I11) -> 0 | K11: =J11+'６月'!K11 -> 0 | L11: =IF(ISERROR(K11/M11)," ",K11/M11) | M11: 0 | N11: 0
B12: 雄 | I12: =SUM(C12:H12) -> 0
B13: 雌 | I13: =SUM(C13:H13) -> 0
A14: フランス | B14: 無鑑別 | I14: =SUM(C14:H14) -> 0 | J14: =SUM(I12:I14) -> 0 | K14: =J14+'６月'!K14 -> 0 | L14: =IF(ISERROR(K14/M14)," ",K14/M14) | M14: 0 | N14: 0
B15: 雄 | I15: =SUM(C15:H15) -> 0
B16: 雌 | I16: =SUM(C16:H16) -> 0
A17: ドイツ | B17: 無鑑別 | I17: =SUM(C17:H17) -> 0 | J17: =SUM(I15:I17) -> 0 | K17: =J17+'６月'!K17 -> 0 | L17: =IF(ISERROR(K17/M17)," ",K17/M17) | M17: 0 | N17: 0
B18: 雄 | I18: =SUM(C18:H18) -> 0
B19: 雌 | I19: =SUM(C19:H19) -> 0
A20: ハンガリー | B20: 無鑑別 | I20: =SUM(C20:H20) -> 0 | J20: =SUM(I18:I20) -> 0 | K20: =J20+'６月'!K20 -> 0 | L20: =IF(ISERROR(K20/M20)," ",K20/M20) | M20: 0 | N20: 0
B21: 雄 | I21: =SUM(C21:H21) -> 0
B22: 雌 | I22: =SUM(C22:H22) -> 0
A23: ｵｰｽﾄﾗﾘｱ | B23: 無鑑別 | I23: =SUM(C23:H23) -> 0 | J23: =SUM(I21:I23) -> 0 | K23: =J23+'６月'!K23 -> 0 | L23: =IF(ISERROR(K23/M23)," ",K23/M23) | M23: 0 | N23: 0
B24: 雄 | I24: =SUM(C24:H24) -> 0
B25: 雌 | I25: =SUM(C25:H25) -> 0
A26: カナダ | B26: 無鑑別 | I26: =SUM(C26:H26) -> 0 | J26: =SUM(I24:I26) -> 0 | K26: =J26+'６月'!K26 -> 0 | L26: =IF(ISERROR(K26/M26)," ",K26/M26) | M26: 0 | N26: 0
B27: 雄 | I27: =SUM(C27:H27) -> 0
B28: 雌 | I28: =SUM(C28:H28) -> 0
A29: アメリカ | B29: 無鑑別 | I29: =SUM(C29:H29) -> 0 | J29: =SUM(I27:I29) -> 0 | K29: =J29+'６月'!K29 -> 0 | L29: =IF(ISERROR(K29/M29)," ",K29/M29) | M29: 0 | N29: 0
B30: 雄 | I30: =SUM(C30:H30) -> 0
B31: 雌 | I31: =SUM(C31:H31) -> 0
A32: ﾆｭｰｼﾞｰﾗﾝﾄﾞ | B32: 無鑑別 | I32: =SUM(C32:H32) -> 0 | J32: =SUM(I30:I32) -> 0 | K32: =J32+'６月'!K32 -> 102727 | L32: =IF(ISERROR(K32/M32)," ",K32/M32) -> 1.0733937 | M32: 95703 | N32: 22446
B33: 雄 | C33: 1650 | I33: =SUM(C33:H33) -> 1650
B34: 雌 | C34: 9462 | I34: =SUM(C34:H34) -> 9462
A35: ブラジル | B35: 無鑑別 | I35: =SUM(C35:H35) -> 0 | J35: =SUM(I33:I35) -> 11112 | K35: =J35+'６月'!K35 -> 21653 | L35: =IF(ISERROR(K35/M35)," ",K35/M35) -> 1.6693393 | M35: 12971 | N35: 5924
B36: 雄 | C36: =C3+C6+C9+C12+C15+C18+C21+C24+C27+C30+C33 -> 1650 | D36: =D3+D6+D9+D12+D15+D18+D21+D24+D27+D30+D33 -> 0 | E36: =E3+E6+E9+E12+E15+E18+E21+E24+E27+E30+E33 -> 0 | F36: =F3+F6+F9+F12+F15+F18+F21+F24+F27+F30+F33 -> 0 | G36: =G3+G6+G9+G12+G15+G18+G21+G24+G27+G30+G33 -> 0 | H36: =H3+H6+H9+H12+H15+H18+H21+H24+H27+H30+H33 -> 0 | I36: =I3+I6+I9+I12+I15+I18+I21+I24+I27+I30+I33 -> 1650 | J36: =J3+J6+J9+J12+J15+J18+J21+J24+J27+J30+J33 -> 0 | N36: 0
B37: 雌 | C37: =C4+C7+C10+C13+C16+C19+C22+C25+C28+C31+C34 -> 9462 | D37: =D4+D7+D10+D13+D16+D19+D22+D25+D28+D31+D34 -> 0 | E37: =E4+E7+E10+E13+E16+E19+E22+E25+E28+E31+E34 -> 0 | F37: =F4+F7+F10+F13+F16+F19+F22+F25+F28+F31+F34 -> 0 | G37: =G4+G7+G10+G13+G16+G19+G22+G25+G28+G31+G34 -> 0 | H37: =H4+H7+H10+H13+H16+H19+H22+H25+H28+H31+H34 -> 0 | I37: =I4+I7+I10+I13+I16+I19+I22+I25+I28+I31+I34 -> 9462
A38: 計 | B38: 無鑑別 | C38: =C5+C8+C11+C14+C17+C20+C23+C26+C29+C32+C35 -> 0 | D38: =D5+D8+D11+D14+D17+D20+D23+D26+D29+D32+D35 -> 0 | E38: =E5+E8+E11+E14+E17+E20+E23+E26+E29+E32+E35 -> 0 | F38: =F5+F8+F11+F14+F17+F20+F23+F26+F29+F32+F35 -> 0 | G38: =G5+G8+G11+G14+G17+G20+G23+G26+G29+G32+G35 -> 0 | H38: =H5+H8+H11+H14+H17+H20+H23+H26+H29+H32+H35 -> 0 | I38: =I5+I8+I11+I14+I17+I20+I23+I26+I29+I32+I35 -> 0 | J38: =SUM(I36:I38) -> 11112 | K38: =J38+'６月'!K38 -> 153661 | L38: =IF(ISERROR(K38/M38)," ",K38/M38) -> 1.1356471 | M38: 135307 | N38: 55003
B39: 計 | C39: =SUM(C36:C38) -> 11112 | D39: =SUM(D36:D38) -> 0 | E39: =SUM(E36:E38) -> 0 | F39: =SUM(F36:F38) -> 0 | G39: =SUM(G36:G38) -> 0 | H39: =SUM(H36:H38) -> 0 | I39: =SUM(C39:H39) -> 11112
A40: 前年同期合計 | D40: 26633 | E40: 0 | F40: 22446 | G40: 5924 | H40: 0 | I40: 55003
...

Sheet ８月
D1: 卵 用 鶏 | G1: 肉 用 鶏
A2: 仕出地域 | B2: 性別 | C2: 原種鶏 | D2: 種鶏 | E2: 採卵鶏 | F2: 原種鶏 | G2: 種鶏 | H2: 肉用鶏 | I2: 雌雄別計 | J2: 合計 | K2: 累 計 | L2: 対前年比(%) | M2: 前年同期累計 | N2: 前年同期合計
B3: 雄 | G3: 49 | I3: =SUM(C3:H3) -> 49
B4: 雌 | G4: 971 | I4: =SUM(C4:H4) -> 971
A5: イギリス | B5: 無鑑別 | I5: =SUM(C5:H5) -> 0 | J5: =SUM(I3:I5) -> 1020 | K5: =J5+'７月'!K5 -> 3974 | L5: - | M5: 0 | N5: 0
B6: 雄 | I6: =SUM(C6:H6) -> 0
B7: 雌 | I7: =SUM(C7:H7) -> 0
A8: オランダ | B8: 無鑑別 | I8: =SUM(C8:H8) -> 0 | J8: =SUM(I6:I8) -> 0 | K8: =J8+'７月'!K8 -> 26327 | L8: =IF(ISERROR(K8/M8)," ",K8/M8) -> 0.78872944 | M8: 33379 | N8: 6746
B9: 雄 | I9: =SUM(C9:H9) -> 0
B10: 雌 | I10: =SUM(C10:H10) -> 0
A11: フィンランド | B11: 無鑑別 | I11: =SUM(C11:H11) -> 0 | J11: =SUM(I9:I11) -> 0 | K11: =J11+'７月'!K11 -> 0 | L11: =IF(ISERROR(K11/M11)," ",K11/M11) | M11: 0 | N11: 0
B12: 雄 | I12: =SUM(C12:H12) -> 0
B13: 雌 | I13: =SUM(C13:H13) -> 0
A14: フランス | B14: 無鑑別 | I14: =SUM(C14:H14) -> 0 | J14: =SUM(I12:I14) -> 0 | K14: =J14+'７月'!K14 -> 0 | L14: =IF(ISERROR(K14/M14)," ",K14/M14) | M14: 0 | N14: 0
B15: 雄 | I15: =SUM(C15:H15) -> 0
B16: 雌 | I16: =SUM(C16:H16) -> 0
A17: ドイツ | B17: 無鑑別 | I17: =SUM(C17:H17) -> 0 | J17: =SUM(I15:I17) -> 0 | K17: =J17+'７月'!K17 -> 0 | L17: =IF(ISERROR(K17/M17)," ",K17/M17) | M17: 0 | N17: 0
B18: 雄 | I18: =SUM(C18:H18) -> 0
B19: 雌 | I19: =SUM(C19:H19) -> 0
A20: ハンガリー | B20: 無鑑別 | I20: =SUM(C20:H20) -> 0 | J20: =SUM(I18:I20) -> 0 | K20: =J20+'７月'!K20 -> 0 | L20: =IF(ISERROR(K20/M20)," ",K20/M20) | M20: 0 | N20: 0
B21: 雄 | I21: =SUM(C21:H21) -> 0
B22: 雌 | I22: =SUM(C22:H22) -> 0
A23: ｵｰｽﾄﾗﾘｱ | B23: 無鑑別 | I23: =SUM(C23:H23) -> 0 | J23: =SUM(I21:I23) -> 0 | K23: =J23+'７月'!K23 -> 0 | L23: =IF(ISERROR(K23/M23)," ",K23/M23) | M23: 0 | N23: 0
B24: 雄 | I24: =SUM(C24:H24) -> 0
B25: 雌 | I25: =SUM(C25:H25) -> 0
A26: カナダ | B26: 無鑑別 | I26: =SUM(C26:H26) -> 0 | J26: =SUM(I24:I26) -> 0 | K26: =J26+'７月'!K26 -> 0 | L26: =IF(ISERROR(K26/M26)," ",K26/M26) | M26: 0 | N26: 0
B27: 雄 | G27: 156 | I27: =SUM(C27:H27) -> 156
B28: 雌 | G28: 4696 | I28: =SUM(C28:H28) -> 4696
A29: アメリカ | B29: 無鑑別 | I29: =SUM(C29:H29) -> 0 | J29: =SUM(I27:I29) -> 4852 | K29: =J29+'７月'!K29 -> 4852 | L29: - | M29: 0 | N29: 0
B30: 雄 | F30: 6069 | I30: =SUM(C30:H30) -> 6069
B31: 雌 | F31: 18488 | I31: =SUM(C31:H31) -> 18488
A32: ﾆｭｰｼﾞｰﾗﾝﾄﾞ | B32: 無鑑別 | I32: =SUM(C32:H32) -> 0 | J32: =SUM(I30:I32) -> 24557 | K32: =J32+'７月'!K32 -> 127284 | L32: =IF(ISERROR(K32/M32)," ",K32/M32) -> 1.1439408 | M32: 111268 | N32: 15565
B33: 雄 | G33: 226 | I33: =SUM(C33:H33) -> 226
B34: 雌 | G34: 2758 | I34: =SUM(C34:H34) -> 2758
A35: ブラジル | B35: 無鑑別 | I35: =SUM(C35:H35) -> 0 | J35: =SUM(I33:I35) -> 2984 | K35: =J35+'７月'!K35 -> 24637 | L35: =IF(ISERROR(K35/M35)," ",K35/M35) -> 1.8993909 | M35: 12971 | N35: 0
B36: 雄 | C36: =C3+C6+C9+C12+C15+C18+C21+C24+C27+C30+C33 -> 0 | D36: =D3+D6+D9+D12+D15+D18+D21+D24+D27+D30+D33 -> 0 | E36: =E3+E6+E9+E12+E15+E18+E21+E24+E27+E30+E33 -> 0 | F36: =F3+F6+F9+F12+F15+F18+F21+F24+F27+F30+F33 -> 6069 | G36: =G3+G6+G9+G12+G15+G18+G21+G24+G27+G30+G33 -> 431 | H36: =H3+H6+H9+H12+H15+H18+H21+H24+H27+H30+H33 -> 0 | I36: =I3+I6+I9+I12+I15+I18+I21+I24+I27+I30+I33 -> 6500 | J36: =J3+J6+J9+J12+J15+J18+J21+J24+J27+J30+J33 -> 0 | N36: 0
B37: 雌 | C37: =C4+C7+C10+C13+C16+C19+C22+C25+C28+C31+C34 -> 0 | D37: =D4+D7+D10+D13+D16+D19+D22+D25+D28+D31+D34 -> 0 | E37: =E4+E7+E10+E13+E16+E19+E22+E25+E28+E31+E34 -> 0 | F37: =F4+F7+F10+F13+F16+F19+F22+F25+F28+F31+F34 -> 18488 | G37: =G4+G7+G10+G13+G16+G19+G22+G25+G28+G31+G34 -> 8425 | H37: =H4+H7+H10+H13+H16+H19+H22+H25+H28+H31+H34 -> 0 | I37: =I4+I7+I10+I13+I16+I19+I22+I25+I28+I31+I34 -> 26913
A38: 計 | B38: 無鑑別 | C38: =C5+C8+C11+C14+C17+C20+C23+C26+C29+C32+C35 -> 0 | D38: =D5+D8+D11+D14+D17+D20+D23+D26+D29+D32+D35 -> 0 | E38: =E5+E8+E11+E14+E17+E20+E23+E26+E29+E32+E35 -> 0 | F38: =F5+F8+F11+F14+F17+F20+F23+F26+F29+F32+F35 -> 0 | G38: =G5+G8+G11+G14+G17+G20+G23+G26+G29+G32+G35 -> 0 | H38: =H5+H8+H11+H14+H17+H20+H23+H26+H29+H32+H35 -> 0 | I38: =I5+I8+I11+I14+I17+I20+I23+I26+I29+I32+I35 -> 0 | J38: =SUM(I36:I38) -> 33413 | K38: =J38+'７月'!K38 -> 187074 | L38: =IF(ISERROR(K38/M38)," ",K38/M38) -> 1.1868822 | M38: 157618 | N38: 22311
B39: 計 | C39: =SUM(C36:C38) -> 0 | D39: =SUM(D36:D38) -> 0 | E39: =SUM(E36:E38) -> 0 | F39: =SUM(F36:F38) -> 24557 | G39: =SUM(G36:G38) -> 8856 | H39: =SUM(H36:H38) -> 0 | I39: =SUM(C39:H39) -> 33413
A40: 前年同期合計 | C40: 0 | D40: 6746 | E40: 0 | F40: 15565 | G40: 0 | H40: 0 | I40: 22311
...

Sheet ９月
D1: 卵 用 鶏 | G1: 肉 用 鶏
A2: 仕出地域 | B2: 性別 | C2: 原種鶏 | D2: 種鶏 | E2: 採卵鶏 | F2: 原種鶏 | G2: 種鶏 | H2: 肉用鶏 | I2: 雌雄別計 | J2: 合計 | K2: 累 計 | L2: 対前年比(%) | M2: 前年同期累計 | N2: 前年同期合計
B3: 雄 | I3: =SUM(C3:H3) -> 0
B4: 雌 | I4: =SUM(C4:H4) -> 0
A5: イギリス | B5: 無鑑別 | I5: =SUM(C5:H5) -> 0 | J5: =SUM(I3:I5) -> 0 | K5: =J5+'８月'!K5 -> 3974 | L5: - | M5: 0 | N5: 0
B6: 雄 | D6: 2537 | I6: =SUM(C6:H6) -> 2537
B7: 雌 | D7: 24988 | I7: =SUM(C7:H7) -> 24988
A8: オランダ | B8: 無鑑別 | I8: =SUM(C8:H8) -> 0 | J8: =SUM(I6:I8) -> 27525 | K8: =J8+'８月'!K8 -> 53852 | L8: =IF(ISERROR(K8/M8)," ",K8/M8) -> 0.92438677 | M8: 58257 | N8: 24878
B9: 雄 | I9: =SUM(C9:H9) -> 0
B10: 雌 | I10: =SUM(C10:H10) -> 0
A11: フィンランド | B11: 無鑑別 | I11: =SUM(C11:H11) -> 0 | J11: =SUM(I9:I11) -> 0 | K11: =J11+'８月'!K11 -> 0 | L11: =IF(ISERROR(K11/M11)," ",K11/M11) | M11: 0 | N11: 0
B12: 雄 | I12: =SUM(C12:H12) -> 0
B13: 雌 | I13: =SUM(C13:H13) -> 0
A14: フランス | B14: 無鑑別 | I14: =SUM(C14:H14) -> 0 | J14: =SUM(I12:I14) -> 0 | K14: =J14+'８月'!K14 -> 0 | L14: =IF(ISERROR(K14/M14)," ",K14/M14) | M14: 0 | N14: 0
B15: 雄 | I15: =SUM(C15:H15) -> 0
B16: 雌 | I16: =SUM(C16:H16) -> 0
A17: ドイツ | B17: 無鑑別 | I17: =SUM(C17:H17) -> 0 | J17: =SUM(I15:I17) -> 0 | K17: =J17+'８月'!K17 -> 0 | L17: =IF(ISERROR(K17/M17)," ",K17/M17) | M17: 0 | N17: 0
B18: 雄 | I18: =SUM(C18:H18) -> 0
B19: 雌 | I19: =SUM(C19:H19) -> 0
A20: ハンガリー | B20: 無鑑別 | I20: =SUM(C20:H20) -> 0 | J20: =SUM(I18:I20) -> 0 | K20: =J20+'８月'!K20 -> 0 | L20: =IF(ISERROR(K20/M20)," ",K20/M20) | M20: 0 | N20: 0
B21: 雄 | I21: =SUM(C21:H21) -> 0
B22: 雌 | I22: =SUM(C22:H22) -> 0
A23: ｵｰｽﾄﾗﾘｱ | B23: 無鑑別 | I23: =SUM(C23:H23) -> 0 | J23: =SUM(I21:I23) -> 0 | K23: =J23+'８月'!K23 -> 0 | L23: =IF(ISERROR(K23/M23)," ",K23/M23) | M23: 0 | N23: 0
B24: 雄 | I24: =SUM(C24:H24) -> 0
B25: 雌 | I25: =SUM(C25:H25) -> 0
A26: カナダ | B26: 無鑑別 | I26: =SUM(C26:H26) -> 0 | J26: =SUM(I24:I26) -> 0 | K26: =J26+'８月'!K26 -> 0 | L26: =IF(ISERROR(K26/M26)," ",K26/M26) | M26: 0 | N26: 0
B27: 雄 | I27: =SUM(C27:H27) -> 0
B28: 雌 | I28: =SUM(C28:H28) -> 0
A29: アメリカ | B29: 無鑑別 | I29: =SUM(C29:H29) -> 0 | J29: =SUM(I27:I29) -> 0 | K29: =J29+'８月'!K29 -> 4852 | L29: - | M29: 0 | N29: 0
B30: 雄 | F30: 6119 | I30: =SUM(C30:H30) -> 6119
B31: 雌 | F31: 16542 | I31: =SUM(C31:H31) -> 16542
A32: ﾆｭｰｼﾞｰﾗﾝﾄﾞ | B32: 無鑑別 | I32: =SUM(C32:H32) -> 0 | J32: =SUM(I30:I32) -> 22661 | K32: =J32+'８月'!K32 -> 149945 | L32: =IF(ISERROR(K32/M32)," ",K32/M32) -> 1.3476022 | M32: 111268 | N32: 0
B33: 雄 | I33: =SUM(C33:H33) -> 0
B34: 雌 | I34: =SUM(C34:H34) -> 0
A35: ブラジル | B35: 無鑑別 | I35: =SUM(C35:H35) -> 0 | J35: =SUM(I33:I35) -> 0 | K35: =J35+'８月'!K35 -> 24637 | L35: =IF(ISERROR(K35/M35)," ",K35/M35) -> 1.8993909 | M35: 12971 | N35: 0
B36: 雄 | C36: =C3+C6+C9+C12+C15+C18+C21+C24+C27+C30+C33 -> 0 | D36: =D3+D6+D9+D12+D15+D18+D21+D24+D27+D30+D33 -> 2537 | E36: =E3+E6+E9+E12+E15+E18+E21+E24+E27+E30+E33 -> 0 | F36: =F3+F6+F9+F12+F15+F18+F21+F24+F27+F30+F33 -> 6119 | G36: =G3+G6+G9+G12+G15+G18+G21+G24+G27+G30+G33 -> 0 | H36: =H3+H6+H9+H12+H15+H18+H21+H24+H27+H30+H33 -> 0 | I36: =I3+I6+I9+I12+I15+I18+I21+I24+I27+I30+I33 -> 8656 | J36: =J3+J6+J9+J12+J15+J18+J21+J24+J27+J30+J33 -> 0 | N36: 0
B37: 雌 | C37: =C4+C7+C10+C13+C16+C19+C22+C25+C28+C31+C34 -> 0 | D37: =D4+D7+D10+D13+D16+D19+D22+D25+D28+D31+D34 -> 24988 | E37: =E4+E7+E10+E13+E16+E19+E22+E25+E28+E31+E34 -> 0 | F37: =F4+F7+F10+F13+F16+F19+F22+F25+F28+F31+F34 -> 16542 | G37: =G4+G7+G10+G13+G16+G19+G22+G25+G28+G31+G34 -> 0 | H37: =H4+H7+H10+H13+H16+H19+H22+H25+H28+H31+H34 -> 0 | I37: =I4+I7+I10+I13+I16+I19+I22+I25+I28+I31+I34 -> 41530
A38: 計 | B38: 無鑑別 | C38: =C5+C8+C11+C14+C17+C20+C23+C26+C29+C32+C35 -> 0 | D38: =D5+D8+D11+D14+D17+D20+D23+D26+D29+D32+D35 -> 0 | E38: =E5+E8+E11+E14+E17+E20+E23+E26+E29+E32+E35 -> 0 | G38: =G5+G8+G11+G14+G17+G20+G23+G26+G29+G32+G35 -> 0 | H38: =H5+H8+H11+H14+H17+H20+H23+H26+H29+H32+H35 -> 0 | I38: =I5+I8+I11+I14+I17+I20+I23+I26+I29+I32+I35 -> 0 | J38: =SUM(I36:I38) -> 50186 | K38: =J38+'８月'!K38 -> 237260 | L38: =IF(ISERROR(K38/M38)," ",K38/M38) -> 1.3000833 | M38: 182496 | N38: 24878
B39: 計 | C39: =SUM(C36:C38) -> 0 | D39: =SUM(D36:D38) -> 27525 | E39: =SUM(E36:E38) -> 0 | F39: =SUM(F36:F38) -> 22661 | G39: =SUM(G36:G38) -> 0 | H39: =SUM(H36:H38) -> 0 | I39: =SUM(C39:H39) -> 50186
A40: 前年同期合計 | C40: 0 | D40: 24878 | E40: 0 | F40: 0 | G40: 0 | H40: 0 | I40: 24878
...

Sheet １０月
D1: 卵 用 鶏 | G1: 肉 用 鶏
A2: 仕出地域 | B2: 性別 | C2: 原種鶏 | D2: 種鶏 | E2: 採卵鶏 | F2: 原種鶏 | G2: 種鶏 | H2: 肉用鶏 | I2: 雌雄別計 | J2: 合計 | K2: 累 計 | L2: 対前年比(%) | M2: 前年同期累計 | N2: 前年同期合計
B3: 雄 | I3: =SUM(C3:H3) -> 0
B4: 雌 | I4: =SUM(C4:H4) -> 0
A5: イギリス | B5: 無鑑別 | I5: =SUM(C5:H5) -> 0 | J5: =SUM(I3:I5) -> 0 | K5: =J5+'９月'!K5 -> 3974 | L5: - | M5: 0 | N5: 0
B6: 雄 | I6: =SUM(C6:H6) -> 0
B7: 雌 | I7: =SUM(C7:H7) -> 0
A8: オランダ | B8: 無鑑別 | I8: =SUM(C8:H8) -> 0 | J8: =SUM(I6:I8) -> 0 | K8: =J8+'９月'!K8 -> 53852 | L8: =IF(ISERROR(K8/M8)," ",K8/M8) -> 0.92438677 | M8: 58257 | N8: 0
B9: 雄 | I9: =SUM(C9:H9) -> 0
B10: 雌 | I10: =SUM(C10:H10) -> 0
A11: フィンランド | B11: 無鑑別 | I11: =SUM(C11:H11) -> 0 | J11: =SUM(I9:I11) -> 0 | K11: =J11+'９月'!K11 -> 0 | L11: =IF(ISERROR(K11/M11)," ",K11/M11) | M11: 0 | N11: 0
B12: 雄 | I12: =SUM(C12:H12) -> 0
B13: 雌 | I13: =SUM(C13:H13) -> 0
A14: フランス | B14: 無鑑別 | I14: =SUM(C14:H14) -> 0 | J14: =SUM(I12:I14) -> 0 | K14: =J14+'９月'!K14 -> 0 | L14: 0% | M14: 21297 | N14: 21297
B15: 雄 | I15: =SUM(C15:H15) -> 0
B16: 雌 | I16: =SUM(C16:H16) -> 0
A17: ドイツ | B17: 無鑑別 | I17: =SUM(C17:H17) -> 0 | J17: =SUM(I15:I17) -> 0 | K17: =J17+'９月'!K17 -> 0 | L17: =IF(ISERROR(K17/M17)," ",K17/M17) | M17: 0 | N17: 0
B18: 雄 | I18: =SUM(C18:H18) -> 0
B19: 雌 | I19: =SUM(C19:H19) -> 0
A20: ハンガリー | B20: 無鑑別 | I20: =SUM(C20:H20) -> 0 | J20: =SUM(I18:I20) -> 0 | K20: =J20+'９月'!K20 -> 0 | L20: =IF(ISERROR(K20/M20)," ",K20/M20) | M20: 0 | N20: 0
B21: 雄 | I21: =SUM(C21:H21) -> 0
B22: 雌 | I22: =SUM(C22:H22) -> 0
A23: ｵｰｽﾄﾗﾘｱ | B23: 無鑑別 | I23: =SUM(C23:H23) -> 0 | J23: =SUM(I21:I23) -> 0 | K23: =J23+'９月'!K23 -> 0 | L23: =IF(ISERROR(K23/M23)," ",K23/M23) | M23: 0 | N23: 0
B24: 雄 | I24: =SUM(C24:H24) -> 0
B25: 雌 | I25: =SUM(C25:H25) -> 0
A26: カナダ | B26: 無鑑別 | I26: =SUM(C26:H26) -> 0 | J26: =SUM(I24:I26) -> 0 | K26: =J26+'９月'!K26 -> 0 | L26: =IF(ISERROR(K26/M26)," ",K26/M26) | M26: 0 | N26: 0
B27: 雄 | I27: =SUM(C27:H27) -> 0
B28: 雌 | I28: =SUM(C28:H28) -> 0
A29: アメリカ | B29: 無鑑別 | J29: =SUM(I27:I29) -> 0 | K29: =J29+'９月'!K29 -> 4852 | L29: =IF(ISERROR(K29/M29)," ",K29/M29) -> 0.37484549 | M29: 12944 | N29: 12944
B30: 雄 | I30: =SUM(C30:H30) -> 0
B31: 雌 | I31: =SUM(C31:H31) -> 0
A32: ﾆｭｰｼﾞｰﾗﾝﾄﾞ | B32: 無鑑別 | I32: =SUM(C32:H32) -> 0 | K32: =J32+'９月'!K32 -> 149945 | L32: =IF(ISERROR(K32/M32)," ",K32/M32) -> 1.3476022 | M32: 111268
B33: 雄 | G33: 831 | I33: =SUM(C33:H33) -> 831
B34: 雌 | G34: 1046 | I34: =SUM(C34:H34) -> 1046
A35: ブラジル | B35: 無鑑別 | I35: =SUM(C35:H35) -> 0 | J35: =SUM(I33:I35) -> 1877 | K35: =J35+'９月'!K35 -> 26514 | L35: =IF(ISERROR(K35/M35)," ",K35/M35) -> 2.0440984 | M35: 12971 | N35: 0
B36: 雄 | C36: =C3+C6+C9+C12+C15+C18+C21+C24+C27+C30+C33 -> 0 | D36: =D3+D6+D9+D12+D15+D18+D21+D24+D27+D30+D33 -> 0 | E36: =E3+E6+E9+E12+E15+E18+E21+E24+E27+E30+E33 -> 0 | F36: =F3+F6+F9+F12+F15+F18+F21+F24+F27+F30+F33 -> 0 | G36: =G3+G6+G9+G12+G15+G18+G21+G24+G27+G30+G33 -> 831 | H36: =H3+H6+H9+H12+H15+H18+H21+H24+H27+H30+H33 -> 0 | I36: =I3+I6+I9+I12+I15+I18+I21+I24+I27+I30+I33 -> 831 | J36: =J3+J6+J9+J12+J15+J18+J21+J24+J27+J30+J33 -> 0 | N36: 0
B37: 雌 | C37: =C4+C7+C10+C13+C16+C19+C22+C25+C28+C31+C34 -> 0 | D37: =D4+D7+D10+D13+D16+D19+D22+D25+D28+D31+D34 -> 0 | E37: =E4+E7+E10+E13+E16+E19+E22+E25+E28+E31+E34 -> 0 | F37: =F4+F7+F10+F13+F16+F19+F22+F25+F28+F31+F34 -> 0 | G37: =G4+G7+G10+G13+G16+G19+G22+G25+G28+G31+G34 -> 1046 | H37: =H4+H7+H10+H13+H16+H19+H22+H25+H28+H31+H34 -> 0 | I37: =I4+I7+I10+I13+I16+I19+I22+I25+I28+I31+I34 -> 1046
A38: 計 | B38: 無鑑別 | C38: =C5+C8+C11+C14+C17+C20+C23+C26+C29+C32+C35 -> 0 | D38: =D5+D8+D11+D14+D17+D20+D23+D26+D29+D32+D35 -> 0 | E38: =E5+E8+E11+E14+E17+E20+E23+E26+E29+E32+E35 -> 0 | F38: =F5+F8+F11+F14+F17+F20+F23+F26+F29+F32+F35 -> 0 | G38: =G5+G8+G11+G14+G17+G20+G23+G26+G29+G32+G35 -> 0 | H38: =H5+H8+H11+H14+H17+H20+H23+H26+H29+H32+H35 -> 0 | I38: =I5+I8+I11+I14+I17+I20+I23+I26+I29+I32+I35 -> 0 | J38: =SUM(I36:I38) -> 1877 | K38: =J38+'９月'!K38 -> 239137 | L38: =IF(ISERROR(K38/M38)," ",K38/M38) -> 1.1033511 | M38: 216737 | N38: 34241
B39: 計 | C39: =SUM(C36:C38) -> 0 | D39: =SUM(D36:D38) -> 0 | E39: =SUM(E36:E38) -> 0 | F39: =SUM(F36:F38) -> 0 | G39: =SUM(G36:G38) -> 1877 | H39: =SUM(H36:H38) -> 0 | I39: =SUM(C39:H39) -> 1877
A40: 前年同期合計 | C40: 12944 | D40: 0 | E40: 0 | F40: 648 | G40: 20649 | H40: 0 | I40: 34241
...

Sheet １１月
D1: 卵 用 鶏 | G1: 肉 用 鶏
A2: 仕出地域 | B2: 性別 | C2: 原種鶏 | D2: 種鶏 | E2: 採卵鶏 | F2: 原種鶏 | G2: 種鶏 | H2: 肉用鶏 | I2: 雌雄別計 | J2: 合計 | K2: 累 計 | L2: 対前年比(%) | M2: 前年同期累計 | N2: 前年同期合計
B3: 雄 | G3: 263 | I3: =SUM(C3:H3) -> 263
B4: 雌 | G4: 1153 | I4: =SUM(C4:H4) -> 1153
A5: イギリス | B5: 無鑑別 | I5: =SUM(C5:H5) -> 0 | J5: =SUM(I3:I5) -> 1416 | K5: =J5+'１０月'!K5 -> 5390 | L5: - | M5: 0 | N5: 0
B6: 雄 | D6: 2065 | I6: =SUM(C6:H6) -> 2065
B7: 雌 | D7: 20417 | I7: =SUM(C7:H7) -> 20417
A8: オランダ | B8: 無鑑別 | I8: =SUM(C8:H8) -> 0 | J8: =SUM(I6:I8) -> 22482 | K8: =J8+'１０月'!K8 -> 76334 | L8: =IF(ISERROR(K8/M8)," ",K8/M8) -> 1.250045 | M8: 61065 | N8: 2808
B9: 雄 | I9: =SUM(C9:H9) -> 0
B10: 雌 | I10: =SUM(C10:H10) -> 0
A11: フィンランド | B11: 無鑑別 | I11: =SUM(C11:H11) -> 0 | J11: =SUM(I9:I11) -> 0 | K11: =J11+'１０月'!K11 -> 0 | L11: =IF(ISERROR(K11/M11)," ",K11/M11) | M11: 0 | N11: 0
B12: 雄 | I12: =SUM(C12:H12) -> 0
B13: 雌 | I13: =SUM(C13:H13) -> 0
A14: フランス | B14: 無鑑別 | I14: =SUM(C14:H14) -> 0 | J14: =SUM(I12:I14) -> 0 | K14: =J14+'１０月'!K14 -> 0 | L14: 0% | M14: 21297 | N14: 0
B15: 雄 | I15: =SUM(C15:H15) -> 0
B16: 雌 | I16: =SUM(C16:H16) -> 0
A17: ドイツ | B17: 無鑑別 | I17: =SUM(C17:H17) -> 0 | J17: =SUM(I15:I17) -> 0 | K17: =J17+'１０月'!K17 -> 0 | L17: =IF(ISERROR(K17/M17)," ",K17/M17) | M17: 0 | N17: 0
B18: 雄 | I18: =SUM(C18:H18) -> 0
B19: 雌 | I19: =SUM(C19:H19) -> 0
A20: ハンガリー | B20: 無鑑別 | I20: =SUM(C20:H20) -> 0 | J20: =SUM(I18:I20) -> 0 | K20: =J20+'１０月'!K20 -> 0 | L20: =IF(ISERROR(K20/M20)," ",K20/M20) | M20: 0 | N20: 0
B21: 雄 | I21: =SUM(C21:H21) -> 0
B22: 雌 | I22: =SUM(C22:H22) -> 0
A23: ｵｰｽﾄﾗﾘｱ | B23: 無鑑別 | I23: =SUM(C23:H23) -> 0 | J23: =SUM(I21:I23) -> 0 | K23: =J23+'１０月'!K23 -> 0 | L23: =IF(ISERROR(K23/M23)," ",K23/M23) | M23: 0 | N23: 0
B24: 雄 | I24: =SUM(C24:H24) -> 0
B25: 雌 | I25: =SUM(C25:H25) -> 0
A26: カナダ | B26: 無鑑別 | I26: =SUM(C26:H26) -> 0 | J26: =SUM(I24:I26) -> 0 | K26: =J26+'１０月'!K26 -> 0 | L26: =IF(ISERROR(K26/M26)," ",K26/M26) | M26: 0 | N26: 0
B27: 雄 | I27: =SUM(C27:H27) -> 0
B28: 雌 | I28: =SUM(C28:H28) -> 0
A29: アメリカ | B29: 無鑑別 | I29: =SUM(C29:H29) -> 0 | J29: =SUM(I27:I29) -> 0 | K29: =J29+'１０月'!K29 -> 4852 | L29: =IF(ISERROR(K29/M29)," ",K29/M29) -> 0.37484549 | M29: 12944 | N29: 0
B30: 雄 | F30: 5573 | I30: =SUM(C30:H30) -> 5573
B31: 雌 | F31: 19173 | I31: =SUM(C31:H31) -> 19173
A32: ﾆｭｰｼﾞｰﾗﾝﾄﾞ | B32: 無鑑別 | I32: =SUM(C32:H32) -> 0 | J32: =SUM(I30:I32) -> 24746 | K32: =J32+'１０月'!K32 -> 174691 | L32: =IF(ISERROR(K32/M32)," ",K32/M32) -> 1.2876265 | M32: 135669 | N32: 24401
B33: 雄 | I33: =SUM(C33:H33) -> 0
B34: 雌 | I34: =SUM(C34:H34) -> 0
A35: ブラジル | B35: 無鑑別 | I35: =SUM(C35:H35) -> 0 | J35: =SUM(I33:I35) -> 0 | K35: =J35+'１０月'!K35 -> 26514 | L35: =IF(ISERROR(K35/M35)," ",K35/M35) -> 2.0440984 | M35: 12971 | N35: 0
B36: 雄 | C36: =C3+C6+C9+C12+C15+C18+C21+C24+C27+C30+C33 -> 0 | D36: =D3+D6+D9+D12+D15+D18+D21+D24+D27+D30+D33 -> 2065 | E36: =E3+E6+E9+E12+E15+E18+E21+E24+E27+E30+E33 -> 0 | F36: =F3+F6+F9+F12+F15+F18+F21+F24+F27+F30+F33 -> 5573 | G36: =G3+G6+G9+G12+G15+G18+G21+G24+G27+G30+G33 -> 263 | H36: =H3+H6+H9+H12+H15+H18+H21+H24+H27+H30+H33 -> 0 | I36: =I3+I6+I9+I12+I15+I18+I21+I24+I27+I30+I33 -> 7901 | J36: =J3+J6+J9+J12+J15+J18+J21+J24+J27+J30+J33 -> 0 | N36: 0
B37: 雌 | C37: =C4+C7+C10+C13+C16+C19+C22+C25+C28+C31+C34 -> 0 | D37: =D4+D7+D10+D13+D16+D19+D22+D25+D28+D31+D34 -> 20417 | E37: =E4+E7+E10+E13+E16+E19+E22+E25+E28+E31+E34 -> 0 | F37: =F4+F7+F10+F13+F16+F19+F22+F25+F28+F31+F34 -> 19173 | G37: =G4+G7+G10+G13+G16+G19+G22+G25+G28+G31+G34 -> 1153 | H37: =H4+H7+H10+H13+H16+H19+H22+H25+H28+H31+H34 -> 0 | I37: =I4+I7+I10+I13+I16+I19+I22+I25+I28+I31+I34 -> 40743
A38: 計 | B38: 無鑑別 | C38: =C5+C8+C11+C14+C17+C20+C23+C26+C29+C32+C35 -> 0 | D38: =D5+D8+D11+D14+D17+D20+D23+D26+D29+D32+D35 -> 0 | E38: =E5+E8+E11+E14+E17+E20+E23+E26+E29+E32+E35 -> 0 | F38: =F5+F8+F11+F14+F17+F20+F23+F26+F29+F32+F35 -> 0 | G38: =G5+G8+G11+G14+G17+G20+G23+G26+G29+G32+G35 -> 0 | H38: =H5+H8+H11+H14+H17+H20+H23+H26+H29+H32+H35 -> 0 | I38: =I5+I8+I11+I14+I17+I20+I23+I26+I29+I32+I35 -> 0 | J38: =SUM(I36:I38) -> 48644 | K38: =J38+'１０月'!K38 -> 287781 | L38: =IF(ISERROR(K38/M38)," ",K38/M38) -> 1.1796914 | M38: 243946 | N38: 27209
B39: 計 | C39: =SUM(C36:C38) -> 0 | D39: =SUM(D36:D38) -> 22482 | E39: =SUM(E36:E38) -> 0 | F39: =SUM(F36:F38) -> 24746 | G39: =SUM(G36:G38) -> 1416 | H39: =SUM(H36:H38) -> 0 | I39: =SUM(C39:H39) -> 48644
A40: 前年同期合計 | C40: 0 | D40: 2808 | E40: 0 | F40: 24401 | G40: 0 | H40: 0 | I40: 27209
...

Sheet １２月
D1: 卵 用 鶏 | G1: 肉 用 鶏
A2: 仕出地域 | B2: 性別 | C2: 原種鶏 | D2: 種鶏 | E2: 採卵鶏 | F2: 原種鶏 | G2: 種鶏 | H2: 肉用鶏 | I2: 雌雄別計 | J2: 合計 | K2: 累 計 | L2: 対前年比(%) | M2: 前年同期累計 | N2: 前年同期合計
B3: 雄 | G3: 282 | I3: =SUM(C3:H3) -> 282
B4: 雌 | G4: 1234 | I4: =SUM(C4:H4) -> 1234
A5: イギリス | B5: 無鑑別 | I5: =SUM(C5:H5) -> 0 | J5: =SUM(I3:I5) -> 1516 | K5: =J5+'１１月'!K5 -> 6906 | L5: - | M5: 0 | N5: 0
B6: 雄 | I6: =SUM(C6:H6) -> 0
B7: 雌 | I7: =SUM(C7:H7) -> 0
A8: オランダ | B8: 無鑑別 | I8: =SUM(C8:H8) -> 0 | J8: =SUM(I6:I8) -> 0 | K8: =J8+'１１月'!K8 -> 76334 | L8: =IF(ISERROR(K8/M8)," ",K8/M8) -> 1.250045 | M8: 61065 | N8: 0
B9: 雄 | I9: =SUM(C9:H9) -> 0
B10: 雌 | I10: =SUM(C10:H10) -> 0
A11: フィンランド | B11: 無鑑別 | I11: =SUM(C11:H11) -> 0 | J11: =SUM(I9:I11) -> 0 | K11: =J11+'１１月'!K11 -> 0 | L11: =IF(ISERROR(K11/M11)," ",K11/M11) | M11: 0 | N11: 0
B12: 雄 | I12: =SUM(C12:H12) -> 0
B13: 雌 | I13: =SUM(C13:H13) -> 0
A14: フランス | B14: 無鑑別 | I14: =SUM(C14:H14) -> 0 | J14: =SUM(I12:I14) -> 0 | K14: =J14+'１１月'!K14 -> 0 | L14: 0% | M14: 21297 | N14: 0
B15: 雄 | I15: =SUM(C15:H15) -> 0
B16: 雌 | I16: =SUM(C16:H16) -> 0
A17: ドイツ | B17: 無鑑別 | I17: =SUM(C17:H17) -> 0 | J17: =SUM(I15:I17) -> 0 | K17: =J17+'１１月'!K17 -> 0 | L17: =IF(ISERROR(K17/M17)," ",K17/M17) | M17: 0 | N17: 0
B18: 雄 | I18: =SUM(C18:H18) -> 0
B19: 雌 | I19: =SUM(C19:H19) -> 0
A20: ハンガリー | B20: 無鑑別 | I20: =SUM(C20:H20) -> 0 | J20: =SUM(I18:I20) -> 0 | K20: =J20+'１１月'!K20 -> 0 | L20: =IF(ISERROR(K20/M20)," ",K20/M20) | M20: 0 | N20: 0
B21: 雄 | I21: =SUM(C21:H21) -> 0
B22: 雌 | I22: =SUM(C22:H22) -> 0
A23: ｵｰｽﾄﾗﾘｱ | B23: 無鑑別 | I23: =SUM(C23:H23) -> 0 | J23: =SUM(I21:I23) -> 0 | K23: =J23+'１１月'!K23 -> 0 | L23: =IF(ISERROR(K23/M23)," ",K23/M23) | M23: 0 | N23: 0
B24: 雄 | G24: 561 | I24: =SUM(C24:H24) -> 561
B25: 雌 | G25: 4801 | I25: =SUM(C25:H25) -> 4801
A26: カナダ | B26: 無鑑別 | I26: =SUM(C26:H26) -> 0 | J26: =SUM(I24:I26) -> 5362 | K26: =J26+'１１月'!K26 -> 5362 | L26: - | M26: 0 | N26: 0
B27: 雄 | I27: =SUM(C27:H27) -> 0
B28: 雌 | I28: =SUM(C28:H28) -> 0
A29: アメリカ | B29: 無鑑別 | I29: =SUM(C29:H29) -> 0 | J29: =SUM(I27:I28) -> 0 | K29: =J29+'１１月'!K29 -> 4852 | L29: =IF(ISERROR(K29/M29)," ",K29/M29) -> 0.37484549 | M29: 12944 | N29: 0
B30: 雄 | F30: 6567 | I30: =SUM(C30:H30) -> 6567
B31: 雌 | F31: 16278 | I31: =SUM(C31:H31) -> 16278
A32: ﾆｭｰｼﾞｰﾗﾝﾄﾞ | B32: 無鑑別 | I32: =SUM(C32:H32) -> 0 | J32: =SUM(I30:I32) -> 22845 | K32: =J32+'１１月'!K32 -> 197536 | L32: =IF(ISERROR(K32/M32)," ",K32/M32) -> 1.3447978 | M32: 146889 | N32: 11220
B33: 雄 | G33: 367 | I33: =SUM(C33:H33) -> 367
B34: 雌 | G34: 4015 | I34: =SUM(C34:H34) -> 4015
A35: ブラジル | B35: 無鑑別 | I35: =SUM(C35:H35) -> 0 | J35: =SUM(I33:I35) -> 4382 | K35: =J35+'１１月'!K35 -> 30896 | L35: =IF(ISERROR(K35/M35)," ",K35/M35) -> 2.3819289 | M35: 12971 | N35: 0
B36: 雄 | C36: =C3+C6+C9+C12+C15+C18+C21+C24+C27+C30+C33 -> 0 | D36: =D3+D6+D9+D12+D15+D18+D21+D24+D27+D30+D33 -> 0 | E36: =E3+E6+E9+E12+E15+E18+E21+E24+E27+E30+E33 -> 0 | F36: =F3+F6+F9+F12+F15+F18+F21+F24+F27+F30+F33 -> 6567 | G36: =G3+G6+G9+G12+G15+G18+G21+G24+G27+G30+G33 -> 1210 | H36: =H3+H6+H9+H12+H15+H18+H21+H24+H27+H30+H33 -> 0 | I36: =I3+I6+I9+I12+I15+I18+I21+I24+I27+I30+I33 -> 7777 | J36: =J3+J6+J9+J12+J15+J18+J21+J24+J27+J30+J33 -> 0 | N36: 0
B37: 雌 | C37: =C4+C7+C10+C13+C16+C19+C22+C25+C28+C31+C34 -> 0 | D37: =D4+D7+D10+D13+D16+D19+D22+D25+D28+D31+D34 -> 0 | E37: =E4+E7+E10+E13+E16+E19+E22+E25+E28+E31+E34 -> 0 | F37: =F4+F7+F10+F13+F16+F19+F22+F25+F28+F31+F34 -> 16278 | G37: =G4+G7+G10+G13+G16+G19+G22+G25+G28+G31+G34 -> 10050 | H37: =H4+H7+H10+H13+H16+H19+H22+H25+H28+H31+H34 -> 0 | I37: =I4+I7+I10+I13+I16+I19+I22+I25+I28+I31+I34 -> 26328
A38: 計 | B38: 無鑑別 | C38: =C5+C8+C11+C14+C17+C20+C23+C26+C29+C32+C35 -> 0 | D38: =D5+D8+D11+D14+D17+D20+D23+D26+D29+D32+D35 -> 0 | E38: =E5+E8+E11+E14+E17+E20+E23+E26+E29+E32+E35 -> 0 | F38: =F5+F8+F11+F14+F17+F20+F23+F26+F29+F32+F35 -> 0 | G38: =G5+G8+G11+G14+G17+G20+G23+G26+G29+G32+G35 -> 0 | H38: =H5+H8+H11+H14+H17+H20+H23+H26+H29+H32+H35 -> 0 | I38: =I5+I8+I11+I14+I17+I20+I23+I26+I29+I32+I35 -> 0 | J38: =SUM(I36:I38) -> 34105 | K38: =J38+'１１月'!K38 -> 321886 | L38: =IF(ISERROR(K38/M38)," ",K38/M38) -> 1.2614768 | M38: 255166 | N38: 11220
B39: 計 | C39: =SUM(C36:C38) -> 0 | D39: =SUM(D36:D38) -> 0 | E39: =SUM(E36:E38) -> 0 | F39: =SUM(F36:F38) -> 22845 | G39: =SUM(G36:G38) -> 11260 | H39: =SUM(H36:H38) -> 0 | I39: =SUM(C39:H39) -> 34105
A40: 前年同期合計 | C40: 0 | D40: 0 | E40: 0 | F40: 0 | G40: 11220 | H40: 0 | I40: 11220
...

Sheet 累計
D1: 卵 用 鶏 | G1: 肉 用 鶏 | I1: 合計羽数 | L1: 現在までの 対前年総数比
A2: 仕出地域 | B2: 性別 | C2: 原種鶏 | D2: 種鶏 | E2: 採卵鶏 | F2: 原種鶏 | G2: 種鶏 | H2: 肉用鶏 | I2: 雌雄別計 | J2: 総計 | K2: 前年総計
B3: 雄 | C3: =SUM('１月:１２月'!C3) -> 0 | D3: =SUM('１月:１２月'!D3) -> 0 | E3: =SUM('１月:１２月'!E3) -> 0 | F3: =SUM('１月:１２月'!F3) -> 0 | G3: =SUM('１月:１２月'!G3) -> 1140 | H3: =SUM('１月:１２月'!H3) -> 0 | I3: =SUM(C3:H3) -> 1140
B4: 雌 | C4: =SUM('１月:１２月'!C4) -> 0 | D4: =SUM('１月:１２月'!D4) -> 0 | E4: =SUM('１月:１２月'!E4) -> 0 | F4: =SUM('１月:１２月'!F4) -> 0 | G4: =SUM('１月:１２月'!G4) -> 5766 | H4: =SUM('１月:１２月'!H4) -> 0 | I4: =SUM(C4:H4) -> 5766
A5: イギリス | B5: 無鑑別 | C5: =SUM('１月:１２月'!C5) -> 0 | D5: =SUM('１月:１２月'!D5) -> 0 | E5: =SUM('１月:１２月'!E5) -> 0 | F5: =SUM('１月:１２月'!F5) -> 0 | G5: =SUM('１月:１２月'!G5) -> 0 | H5: =SUM('１月:１２月'!H5) -> 0 | I5: =SUM(C5:H5) -> 0 | J5: =SUM(I3:I5) -> 6906 | K5: 0 | L5: =IF(ISERROR(J5/K5), " ",(J5/K5))
B6: 雄 | C6: =SUM('１月:１２月'!C6) -> 0 | D6: =SUM('１月:１２月'!D6) -> 7306 | E6: =SUM('１月:１２月'!E6) -> 0 | F6: =SUM('１月:１２月'!F6) -> 0 | G6: =SUM('１月:１２月'!G6) -> 0 | H6: =SUM('１月:１２月'!H6) -> 0 | I6: =SUM(C6:H6) -> 7306
B7: 雌 | C7: =SUM('１月:１２月'!C7) -> 0 | D7: =SUM('１月:１２月'!D7) -> 69028 | E7: =SUM('１月:１２月'!E7) -> 0 | F7: =SUM('１月:１２月'!F7) -> 0 | G7: =SUM('１月:１２月'!G7) -> 0 | H7: =SUM('１月:１２月'!H7) -> 0 | I7: =SUM(C7:H7) -> 69028
A8: オランダ | B8: 無鑑別 | C8: =SUM('１月:１２月'!C8) -> 0 | D8: =SUM('１月:１２月'!D8) -> 0 | E8: =SUM('１月:１２月'!E8) -> 0 | F8: =SUM('１月:１２月'!F8) -> 0 | G8: =SUM('１月:１２月'!G8) -> 0 | H8: =SUM('１月:１２月'!H8) -> 0 | I8: =SUM(C8:H8) -> 0 | J8: =SUM(I6:I8) -> 76334 | K8: 61065 | L8: =IF(ISERROR(J8/K8), " ",(J8/K8)) -> 1.250045
B9: 雄 | C9: =SUM('１月:１２月'!C9) -> 0 | D9: =SUM('１月:１２月'!D9) -> 0 | E9: =SUM('１月:１２月'!E9) -> 0 | F9: =SUM('１月:１２月'!F9) -> 0 | G9: =SUM('１月:１２月'!G9) -> 0 | H9: =SUM('１月:１２月'!H9) -> 0 | I9: =SUM(C9:H9) -> 0
B10: 雌 | C10: =SUM('１月:１２月'!C10) -> 0 | D10: =SUM('１月:１２月'!D10) -> 0 | E10: =SUM('１月:１２月'!E10) -> 0 | F10: =SUM('１月:１２月'!F10) -> 0 | G10: =SUM('１月:１２月'!G10) -> 0 | H10: =SUM('１月:１２月'!H10) -> 0 | I10: =SUM(C10:H10) -> 0
A11: フィンランド | B11: 無鑑別 | C11: =SUM('１月:１２月'!C11) -> 0 | D11: =SUM('１月:１２月'!D11) -> 0 | E11: =SUM('１月:１２月'!E11) -> 0 | F11: =SUM('１月:１２月'!F11) -> 0 | G11: =SUM('１月:１２月'!G11) -> 0 | H11: =SUM('１月:１２月'!H11) -> 0 | I11: =SUM(C11:H11) -> 0 | J11: =SUM(I9:I11) -> 0 | K11: 0 | L11: =IF(ISERROR(J11/K11), " ",(J11/K11))
B12: 雄 | C12: =SUM('１月:１２月'!C12) -> 0 | D12: =SUM('１月:１２月'!D12) -> 0 | E12: =SUM('１月:１２月'!E12) -> 0 | F12: =SUM('１月:１２月'!F12) -> 0 | G12: =SUM('１月:１２月'!G12) -> 0 | H12: =SUM('１月:１２月'!H12) -> 0 | I12: =SUM(C12:H12) -> 0
B13: 雌 | C13: =SUM('１月:１２月'!C13) -> 0 | D13: =SUM('１月:１２月'!D13) -> 0 | E13: =SUM('１月:１２月'!E13) -> 0 | F13: =SUM('１月:１２月'!F13) -> 0 | G13: =SUM('１月:１２月'!G13) -> 0 | H13: =SUM('１月:１２月'!H13) -> 0 | I13: =SUM(C13:H13) -> 0
A14: フランス | B14: 無鑑別 | C14: =SUM('１月:１２月'!C14) -> 0 | D14: =SUM('１月:１２月'!D14) -> 0 | E14: =SUM('１月:１２月'!E14) -> 0 | F14: =SUM('１月:１２月'!F14) -> 0 | G14: =SUM('１月:１２月'!G14) -> 0 | H14: =SUM('１月:１２月'!H14) -> 0 | I14: =SUM(C14:H14) -> 0 | J14: =SUM(I12:I14) -> 0 | K14: 21297 | L14: =IF(ISERROR(J14/K14), " ",(J14/K14)) -> 0
B15: 雄 | C15: =SUM('１月:１２月'!C15) -> 0 | D15: =SUM('１月:１２月'!D15) -> 0 | E15: =SUM('１月:１２月'!E15) -> 0 | F15: =SUM('１月:１２月'!F15) -> 0 | G15: =SUM('１月:１２月'!G15) -> 0 | H15: =SUM('１月:１２月'!H15) -> 0 | I15: =SUM(C15:H15) -> 0
B16: 雌 | C16: =SUM('１月:１２月'!C16) -> 0 | D16: =SUM('１月:１２月'!D16) -> 0 | E16: =SUM('１月:１２月'!E16) -> 0 | F16: =SUM('１月:１２月'!F16) -> 0 | G16: =SUM('１月:１２月'!G16) -> 0 | H16: =SUM('１月:１２月'!H16) -> 0 | I16: =SUM(C16:H16) -> 0
A17: ドイツ | B17: 無鑑別 | C17: =SUM('１月:１２月'!C17) -> 0 | D17: =SUM('１月:１２月'!D17) -> 0 | E17: =SUM('１月:１２月'!E17) -> 0 | F17: =SUM('１月:１２月'!F17) -> 0 | G17: =SUM('１月:１２月'!G17) -> 0 | H17: =SUM('１月:１２月'!H17) -> 0 | I17: =SUM(C17:H17) -> 0 | J17: =SUM(I15:I17) -> 0 | K17: 0 | L17: =IF(ISERROR(J17/K17), " ",(J17/K17))
B18: 雄 | C18: =SUM('１月:１２月'!C18) -> 0 | D18: =SUM('１月:１２月'!D18) -> 0 | E18: =SUM('１月:１２月'!E18) -> 0 | F18: =SUM('１月:１２月'!F18) -> 0 | G18: =SUM('１月:１２月'!G18) -> 0 | H18: =SUM('１月:１２月'!H18) -> 0 | I18: =SUM(C18:H18) -> 0
B19: 雌 | C19: =SUM('１月:１２月'!C19) -> 0 | D19: =SUM('１月:１２月'!D19) -> 0 | E19: =SUM('１月:１２月'!E19) -> 0 | F19: =SUM('１月:１２月'!F19) -> 0 | G19: =SUM('１月:１２月'!G19) -> 0 | H19: =SUM('１月:１２月'!H19) -> 0 | I19: =SUM(C19:H19) -> 0
A20: ハンガリー | B20: 無鑑別 | C20: =SUM('１月:１２月'!C20) -> 0 | D20: =SUM('１月:１２月'!D20) -> 0 | E20: =SUM('１月:１２月'!E20) -> 0 | F20: =SUM('１月:１２月'!F20) -> 0 | G20: =SUM('１月:１２月'!G20) -> 0 | H20: =SUM('１月:１２月'!H20) -> 0 | I20: =SUM(C20:H20) -> 0 | J20: =SUM(I18:I20) -> 0 | K20: 0 | L20: =IF(ISERROR(J20/K20), " ",(J20/K20))
B21: 雄 | C21: =SUM('１月:１２月'!C21) -> 0 | D21: =SUM('１月:１２月'!D21) -> 0 | E21: =SUM('１月:１２月'!E21) -> 0 | F21: =SUM('１月:１２月'!F21) -> 0 | G21: =SUM('１月:１２月'!G21) -> 0 | H21: =SUM('１月:１２月'!H21) -> 0 | I21: =SUM(C21:H21) -> 0
B22: 雌 | C22: =SUM('１月:１２月'!C22) -> 0 | D22: =SUM('１月:１２月'!D22) -> 0 | E22: =SUM('１月:１２月'!E22) -> 0 | F22: =SUM('１月:１２月'!F22) -> 0 | G22: =SUM('１月:１２月'!G22) -> 0 | H22: =SUM('１月:１２月'!H22) -> 0 | I22: =SUM(C22:H22) -> 0
A23: ｵｰｽﾄﾗﾘｱ | B23: 無鑑別 | C23: =SUM('１月:１２月'!C23) -> 0 | D23: =SUM('１月:１２月'!D23) -> 0 | E23: =SUM('１月:１２月'!E23) -> 0 | F23: =SUM('１月:１２月'!F23) -> 0 | G23: =SUM('１月:１２月'!G23) -> 0 | H23: =SUM('１月:１２月'!H23) -> 0 | I23: =SUM(C23:H23) -> 0 | J23: =SUM(I21:I23) -> 0 | K23: 0 | L23: =IF(ISERROR(J23/K23), " ",(J23/K23))
B24: 雄 | C24: =SUM('１月:１２月'!C24) -> 0 | D24: =SUM('１月:１２月'!D24) -> 0 | E24: =SUM('１月:１２月'!E24) -> 0 | F24: =SUM('１月:１２月'!F24) -> 0 | G24: =SUM('１月:１２月'!G24) -> 561 | H24: =SUM('１月:１２月'!H24) -> 0 | I24: =SUM(C24:H24) -> 561
B25: 雌 | C25: =SUM('１月:１２月'!C25) -> 0 | D25: =SUM('１月:１２月'!D25) -> 0 | E25: =SUM('１月:１２月'!E25) -> 0 | F25: =SUM('１月:１２月'!F25) -> 0 | G25: =SUM('１月:１２月'!G25) -> 4801 | H25: =SUM('１月:１２月'!H25) -> 0 | I25: =SUM(C25:H25) -> 4801
A26: カナダ | B26: 無鑑別 | C26: =SUM('１月:１２月'!C26) -> 0 | D26: =SUM('１月:１２月'!D26) -> 0 | E26: =SUM('１月:１２月'!E26) -> 0 | F26: =SUM('１月:１２月'!F26) -> 0 | G26: =SUM('１月:１２月'!G26) -> 0 | H26: =SUM('１月:１２月'!H26) -> 0 | I26: =SUM(C26:H26) -> 0 | J26: =SUM(I24:I26) -> 5362 | K26: 0 | L26: =IF(ISERROR(J26/K26), " ",(J26/K26))
B27: 雄 | C27: =SUM('１月:１２月'!C27) -> 0 | D27: =SUM('１月:１２月'!D27) -> 0 | E27: =SUM('１月:１２月'!E27) -> 0 | F27: =SUM('１月:１２月'!F27) -> 0 | G27: =SUM('１月:１２月'!G27) -> 156 | H27: =SUM('１月:１２月'!H27) -> 0 | I27: =SUM(C27:H27) -> 156
B28: 雌 | C28: =SUM('１月:１２月'!C28) -> 0 | D28: =SUM('１月:１２月'!D28) -> 0 | E28: =SUM('１月:１２月'!E28) -> 0 | F28: =SUM('１月:１２月'!F28) -> 0 | G28: =SUM('１月:１２月'!G28) -> 4696 | H28: =SUM('１月:１２月'!H28) -> 0 | I28: =SUM(C28:H28) -> 4696
A29: アメリカ | B29: 無鑑別 | C29: =SUM('１月:１２月'!C29) -> 0 | D29: =SUM('１月:１２月'!D29) -> 0 | E29: =SUM('１月:１２月'!E29) -> 0 | F29: =SUM('１月:１２月'!F29) -> 0 | G29: =SUM('１月:１２月'!G29) -> 0 | H29: =SUM('１月:１２月'!H29) -> 0 | I29: =SUM(C29:H29) -> 0 | J29: =SUM(I27:I29) -> 4852 | K29: 12944 | L29: =IF(ISERROR(J29/K29), " ",(J29/K29)) -> 0.37484549
B30: 雄 | C30: =SUM('１月:１２月'!C30) -> 0 | D30: =SUM('１月:１２月'!D30) -> 0 | E30: =SUM('１月:１２月'!E30) -> 0 | F30: =SUM('１月:１２月'!F30) -> 51265 | G30: =SUM('１月:１２月'!G30) -> 0 | H30: =SUM('１月:１２月'!H30) -> 0 | I30: =SUM(C30:H30) -> 51265
B31: 雌 | C31: =SUM('１月:１２月'!C31) -> 0 | D31: =SUM('１月:１２月'!D31) -> 0 | E31: =SUM('１月:１２月'!E31) -> 0 | F31: =SUM('１月:１２月'!F31) -> 146271 | G31: =SUM('１月:１２月'!G31) -> 0 | H31: =SUM('１月:１２月'!H31) -> 0 | I31: =SUM(C31:H31) -> 146271
A32: ﾆｭｰｼﾞｰﾗﾝﾄﾞ | B32: 無鑑別 | C32: =SUM('１月:１２月'!C32) -> 0 | D32: =SUM('１月:１２月'!D32) -> 0 | E32: =SUM('１月:１２月'!E32) -> 0 | F32: =SUM('１月:１２月'!F32) -> 0 | G32: =SUM('１月:１２月'!G32) -> 0 | H32: =SUM('１月:１２月'!H32) -> 0 | I32: =SUM(C32:H32) -> 0 | J32: =SUM(I30:I32) -> 197536 | K32: 146889 | L32: =IF(ISERROR(J32/K32), " ",(J32/K32)) -> 1.3447978
B33: 雄 | C33: =SUM('１月:１２月'!C33) -> 2937 | D33: =SUM('１月:１２月'!D33) -> 0 | E33: =SUM('１月:１２月'!E33) -> 0 | F33: =SUM('１月:１２月'!F33) -> 0 | G33: =SUM('１月:１２月'!G33) -> 1424 | H33: =SUM('１月:１２月'!H33) -> 0 | I33: =SUM(C33:H33) -> 4361
B34: 雌 | C34: =SUM('１月:１２月'!C34) -> 18716 | D34: =SUM('１月:１２月'!D34) -> 0 | E34: =SUM('１月:１２月'!E34) -> 0 | F34: =SUM('１月:１２月'!F34) -> 0 | G34: =SUM('１月:１２月'!G34) -> 7819 | H34: =SUM('１月:１２月'!H34) -> 0 | I34: =SUM(C34:H34) -> 26535
A35: ブラジル | B35: 無鑑別 | C35: =SUM('１月:１２月'!C35) -> 0 | D35: =SUM('１月:１２月'!D35) -> 0 | E35: =SUM('１月:１２月'!E35) -> 0 | F35: =SUM('１月:１２月'!F35) -> 0 | G35: =SUM('１月:１２月'!G35) -> 0 | H35: =SUM('１月:１２月'!H35) -> 0 | I35: =SUM(C35:H35) -> 0 | J35: =SUM(I33:I35) -> 30896 | K35: 12971 | L35: =IF(ISERROR(J35/K35), " ",(J35/K35)) -> 2.3819289
B36: 雄 | C36: =C3+C6+C9+C12+C15+C18+C21+C24+C27+C30+C33 -> 2937 | D36: =D3+D6+D9+D12+D15+D18+D21+D24+D27+D30+D33 -> 7306 | E36: =E3+E6+E9+E12+E15+E18+E21+E24+E27+E30+E33 -> 0 | F36: =F3+F6+F9+F12+F15+F18+F21+F24+F27+F30+F33 -> 51265 | G36: =G3+G6+G9+G12+G15+G18+G21+G24+G27+G30+G33 -> 3281 | H36: =H3+H6+H9+H12+H15+H18+H21+H24+H27+H30+H33 -> 0 | I36: =I3+I6+I9+I12+I15+I18+I21+I24+I27+I30+I33 -> 64789 | J36: =J3+J6+J9+J12+J15+J18+J21+J24+J27+J30+J33 -> 0 | K36: 0
